{"text_format":"1","workbook":"xlsx","n_sheets":33,"sheets":["Sample Report","Summary","Start","!2011-07-28_10h26m.Subject 53","!2011-07-29_09h35m.Subject 53","!2011-07-30_09h43m.Subject 53","!2011-07-31_11h41m.Subject 53","!2011-08-01_09h48m.Subject 53","!2011-08-02_09h39m.Subject 53","!L803A50.053","!L804A50.053","!L805930.053","!L806A20.053","!L807A10.053","!L808A10.053","!L809B00.053","!L810B50.053","!L811A00.053","!L812930.053","!L813920.053","!L814940.053","!L815A40.053","!L816910.053","!L817940.053","!L818B40.053","!L819920.053","!L820950.053","!L821B20.053","!L822A20.053","!L824950.053","!L825A20.053","!L826850.053","!L829A40.053"],"not_rendered":{"charts":0,"images":0,"macros":1,"external_links":0,"defined_names":0,"comments":0,"pivot_tables":0},"unopened":[],"bounds":{"document_bytes":16777216,"sheet_cells":100000,"rows_first":2000,"rows_last":500,"rows_between":2000,"halvings":0,"cell_chars":16384,"cell_head_chars":4096},"cells_cut":0,"cells_raw":0,"read":"whole","date_system":"1900"}

{"sheet":"Sample Report","index":0,"n_rows":12,"n_cols":11,"rows_kept":12,"cut":false,"hidden":true,"merged":[[7,0,7,6]]}
[]
["Date"]
["Hen"]
["Program"]
["Start at 999999"]
["Sequence component 1","Time 1","Seqeunce Component 2","Time 2","Seqeunce Component 3","Time 3","Correct   0 = No 1=Yes",null,null,"Seqeunce","Time"]
[12,7,12,42,13,18,"if 77 new line,                                  if 31 or 41 = yes new line on 77, ",null,null,"=string of Seqeunce compponent 1, 2 & 3","=time 3"]
["This continues until ther is a 1 on its own to indicate start of summary data"]
[null,null,null,null,null,null,null,null,null,"10-19 =1"]
["Summary Data ",null,null,null,null,null,null,null,null,"20-29 =2"]
["Correct","Incorrect","Rft","total","Av Correct","Av Incorrect","Percent correct","Time",null,"in this example the seqeunce would be 111"]
[40,33,40,73,23.95,15,54,806]

{"sheet":"Summary","index":1,"n_rows":32,"n_cols":24,"rows_kept":32,"cut":false,"hidden":false,"merged":[]}
[]
["Day","Date","Average Response Rate","Target %","RF for non correct sequence","U Value",null,null,null,null,"Block 1","Block 2","Block 3","Block 4","Block 5","Block 6"]
[1,{"$f":"'!2011-07-28_10h26m.Subject 53'!B2:C2","v":"2011-07-28"},{"$f":"('!2011-07-28_10h26m.Subject 53'!H183/60)/'!2011-07-28_10h26m.Subject 53'!Q3","v":0},{"$f":"'!2011-07-28_10h26m.Subject 53'!N28/'!2011-07-28_10h26m.Subject 53'!Q3","v":1.1299435028248588E-2},{"$f":"SUM('!2011-07-28_10h26m.Subject 53'!L28:Q28)/'!2011-07-28_10h26m.Subject 53'!Q3","v":6.6836158192090398},{"$f":"'!2011-07-28_10h26m.Subject 53'!Q24","v":0.30150243628696999},null,null,null,"Average Response Rate",{"$f":"AVERAGE(C3:C7)","v":1.7341823142955868},{"$f":"AVERAGE(C8:C12)","v":2.3931975270351589},{"$f":"AVERAGE(C13:C17)","v":2.5280087658806614},{"$f":"AVERAGE(C18:C22)","v":2.5702965013203434},{"$f":"AVERAGE(C23:C27)","v":2.3087475492093477},{"$f":"AVERAGE(C28:C32)","v":2.2834897503880098}]
[2,{"$f":"'!2011-07-29_09h35m.Subject 53'!B2:C2","v":"2011-07-29"},{"$f":"('!2011-07-29_09h35m.Subject 53'!H186/60)/'!2011-07-29_09h35m.Subject 53'!Q3","v":2.2092592592592593},{"$f":"'!2011-07-29_09h35m.Subject 53'!N28/'!2011-07-29_09h35m.Subject 53'!Q3","v":0},{"$f":"SUM('!2011-07-29_09h35m.Subject 53'!L28:Q28)/'!2011-07-29_09h35m.Subject 53'!Q3","v":6.5666666666666664},{"$f":"'!2011-07-29_09h35m.Subject 53'!Q24","v":0.30365017023348789},null,null,null,"Target %",{"$f":"AVERAGE(D3:D7)","v":4.4576892034519158E-3},{"$f":"AVERAGE(D8:D12)","v":2.8041203827102679E-2},{"$f":"AVERAGE(D13:D17)","v":0},{"$f":"AVERAGE(D18:D22)","v":0},{"$f":"AVERAGE(D23:D27)","v":0},{"$f":"AVERAGE(D28:D32)","v":0}]
[3,{"$f":"'!2011-07-30_09h43m.Subject 53'!B2:C2","v":"2011-07-30"},{"$f":"('!2011-07-30_09h43m.Subject 53'!H190/60)/'!2011-07-30_09h43m.Subject 53'!Q3","v":2.1719202898550725},{"$f":"'!2011-07-30_09h43m.Subject 53'!N28/'!2011-07-30_09h43m.Subject 53'!Q3","v":0},{"$f":"SUM('!2011-07-30_09h43m.Subject 53'!L28:Q28)/'!2011-07-30_09h43m.Subject 53'!Q3","v":6.375},{"$f":"'!2011-07-30_09h43m.Subject 53'!Q24","v":0.28179062227898749},null,null,null,"CCRF",{"$f":"AVERAGE(E3:E7)","v":6.45200849254819},{"$f":"AVERAGE(E8:E12)","v":9.5313132355629584},{"$f":"AVERAGE(E13:E17)","v":8.8887181930426067},{"$f":"AVERAGE(E18:E22)","v":8.9344808332922465},{"$f":"AVERAGE(E23:E27)","v":10.638082018553096},{"$f":"AVERAGE(E28:E32)","v":9.2668121762630431}]
[4,{"$f":"'!2011-07-31_11h41m.Subject 53'!B2:C2","v":"2011-07-31"},{"$f":"('!2011-07-31_11h41m.Subject 53'!H196/60)/'!2011-07-31_11h41m.Subject 53'!Q3","v":2.1002631578947368},{"$f":"'!2011-07-31_11h41m.Subject 53'!N28/'!2011-07-31_11h41m.Subject 53'!Q3","v":0},{"$f":"SUM('!2011-07-31_11h41m.Subject 53'!L28:Q28)/'!2011-07-31_11h41m.Subject 53'!Q3","v":6.1842105263157894},{"$f":"'!2011-07-31_11h41m.Subject 53'!Q24","v":0.19280479832543049},null,null,null,"U Value",{"$f":"AVERAGE(F3:F7)","v":0.2699493786773301},{"$f":"AVERAGE(F8:F12)","v":0.39667745009134098},{"$f":"AVERAGE(F13:F17)","v":0.31802009316210178},{"$f":"AVERAGE(F18:F22)","v":0.28133896232273159},{"$f":"AVERAGE(F23:F27)","v":0.19722228332965713},{"$f":"AVERAGE(F28:F32)","v":0.15292362612701993}]
[5,{"$f":"'!2011-08-01_09h48m.Subject 53'!B2:C2","v":"2011-08-01"},{"$f":"('!2011-08-01_09h48m.Subject 53'!H188/60)/'!2011-08-01_09h48m.Subject 53'!Q3","v":2.1894688644688647},{"$f":"'!2011-08-01_09h48m.Subject 53'!N28/'!2011-08-01_09h48m.Subject 53'!Q3","v":1.098901098901099E-2},{"$f":"SUM('!2011-08-01_09h48m.Subject 53'!L28:Q28)/'!2011-08-01_09h48m.Subject 53'!Q3","v":6.4505494505494507},{"$f":"'!2011-08-01_09h48m.Subject 53'!Q24","v":0.26999886626177483}]
[6,{"$f":"'!2011-08-02_09h39m.Subject 53'!B2:C2","v":"2011-08-02"},{"$f":"('!2011-08-02_09h39m.Subject 53'!H184/60)/'!2011-08-02_09h39m.Subject 53'!Q3","v":2.2371722846441946},{"$f":"'!2011-08-02_09h39m.Subject 53'!N28/'!2011-08-02_09h39m.Subject 53'!Q3","v":5.6179775280898875E-3},{"$f":"SUM('!2011-08-02_09h39m.Subject 53'!L28:Q28)/'!2011-08-02_09h39m.Subject 53'!Q3","v":6.5786516853932584},{"$f":"'!2011-08-02_09h39m.Subject 53'!Q24","v":0.35378826970613253}]
[7,{"$f":"'!L803A50.053'!B2:C2","v":"<date>"},{"$f":"('!L803A50.053'!H172/60)/'!L803A50.053'!Q3","v":2.2671686746987953},{"$f":"'!L803A50.053'!N28/'!L803A50.053'!Q3","v":6.6265060240963861E-2},{"$f":"SUM('!L803A50.053'!L28:Q28)/'!L803A50.053'!Q3","v":7.096385542168675},{"$f":"'!L803A50.053'!Q24","v":0.46889322315261339},{"$f":"K3","v":1.7341823142955868},{"$f":"L3","v":2.3931975270351589},{"$f":"M3","v":2.5280087658806614},{"$f":"N3","v":2.5702965013203434},{"$f":"O3","v":2.3087475492093477},{"$f":"P3","v":2.2834897503880098},{"$f":"K4","v":4.4576892034519158E-3},{"$f":"L4","v":2.8041203827102679E-2},{"$f":"M4","v":0},{"$f":"N4","v":0},{"$f":"O4","v":0},{"$f":"P4","v":0},{"$f":"K6","v":0.2699493786773301},{"$f":"L6","v":0.39667745009134098},{"$f":"M6","v":0.31802009316210178},{"$f":"N6","v":0.28133896232273159},{"$f":"O6","v":0.19722228332965713},{"$f":"P6","v":0.15292362612701993}]
[8,{"$f":"'!L804A50.053'!B2:C2","v":"<date>"},{"$f":"('!L804A50.053'!H167/60)/'!L804A50.053'!Q3","v":2.4831262939958592},{"$f":"'!L804A50.053'!N28/'!L804A50.053'!Q3","v":6.8322981366459631E-2},{"$f":"SUM('!L804A50.053'!L28:Q28)/'!L804A50.053'!Q3","v":13.583850931677018},{"$f":"'!L804A50.053'!Q24","v":0.45186006119170458}]
[9,{"$f":"'!L805930.053'!B2:C2","v":"<date>"},{"$f":"('!L805930.053'!H176/60)/'!L805930.053'!Q3","v":2.3499019607843139},{"$f":"'!L805930.053'!N28/'!L805930.053'!Q3","v":0},{"$f":"SUM('!L805930.053'!L28:Q28)/'!L805930.053'!Q3","v":12.752941176470589},{"$f":"'!L805930.053'!Q24","v":0.40459308804116595}]
[10,{"$f":"'!L806A20.053'!B2:C2","v":"<date>"},{"$f":"('!L806A20.053'!H158/60)/'!L806A20.053'!Q3","v":2.6286184210526318},{"$f":"'!L806A20.053'!N28/'!L806A20.053'!Q3","v":0},{"$f":"SUM('!L806A20.053'!L28:Q28)/'!L806A20.053'!Q3","v":7.6447368421052628},{"$f":"'!L806A20.053'!Q24","v":0.30425260836508849}]
[11,{"$f":"'!L807A10.053'!B2:C2","v":"<date>"},{"$f":"('!L807A10.053'!H168/60)/'!L807A10.053'!Q3","v":2.4608024691358024},{"$f":"'!L807A10.053'!N28/'!L807A10.053'!Q3","v":0},{"$f":"SUM('!L807A10.053'!L28:Q28)/'!L807A10.053'!Q3","v":7.1913580246913584},{"$f":"'!L807A10.053'!Q24","v":0.32370538324137677}]
[12,{"$f":"'!L808A10.053'!B2:C2","v":"<date>"},{"$f":"('!L808A10.053'!H164/60)/'!L808A10.053'!Q3","v":2.5268987341772151},{"$f":"'!L808A10.053'!N28/'!L808A10.053'!Q3","v":0},{"$f":"SUM('!L808A10.053'!L28:Q28)/'!L808A10.053'!Q3","v":14.329113924050633},{"$f":"'!L808A10.053'!Q24","v":0.32678479891420231}]
[13,{"$f":"'!L809B00.053'!B2:C2","v":"<date>"},{"$f":"('!L809B00.053'!H164/60)/'!L809B00.053'!Q3","v":2.5303797468354432},{"$f":"'!L809B00.053'!N28/'!L809B00.053'!Q3","v":0},{"$f":"SUM('!L809B00.053'!L28:Q28)/'!L809B00.053'!Q3","v":7.3670886075949369},{"$f":"'!L809B00.053'!Q24","v":0.33487255340230609}]
[14,{"$f":"'!L810B50.053'!B2:C2","v":"<date>"},{"$f":"('!L810B50.053'!H161/60)/'!L810B50.053'!Q3","v":2.5740860215053765},{"$f":"'!L810B50.053'!N28/'!L810B50.053'!Q3","v":0},{"$f":"SUM('!L810B50.053'!L28:Q28)/'!L810B50.053'!Q3","v":8.1483870967741936},{"$f":"'!L810B50.053'!Q24","v":0.32682976451596923}]
[15,{"$f":"'!L811A00.053'!B2:C2","v":"<date>"},{"$f":"('!L811A00.053'!H163/60)/'!L811A00.053'!Q3","v":2.5478768577494693},{"$f":"'!L811A00.053'!N28/'!L811A00.053'!Q3","v":0},{"$f":"SUM('!L811A00.053'!L28:Q28)/'!L811A00.053'!Q3","v":7.4076433121019107},{"$f":"'!L811A00.053'!Q24","v":0.27790796573665466}]
[16,{"$f":"'!L812930.053'!B2:C2","v":"<date>"},{"$f":"('!L812930.053'!H158/60)/'!L812930.053'!Q3","v":2.6258771929824563},{"$f":"'!L812930.053'!N28/'!L812930.053'!Q3","v":0},{"$f":"SUM('!L812930.053'!L28:Q28)/'!L812930.053'!Q3","v":7.6447368421052628},{"$f":"'!L812930.053'!Q24","v":0.29007566594608603}]
[17,{"$f":"'!L813920.053'!B2:C2","v":"<date>"},{"$f":"('!L813920.053'!H153/60)/'!L813920.053'!Q3","v":2.7143990929705213},{"$f":"'!L813920.053'!N28/'!L813920.053'!Q3","v":0},{"$f":"SUM('!L813920.053'!L28:Q28)/'!L813920.053'!Q3","v":7.8911564625850339},{"$f":"'!L813920.053'!Q24","v":0.32947956386886912}]
[18,{"$f":"'!L814940.053'!B2:C2","v":"<date>"},{"$f":"('!L814940.053'!H160/60)/'!L814940.053'!Q3","v":2.5915584415584418},{"$f":"'!L814940.053'!N28/'!L814940.053'!Q3","v":0},{"$f":"SUM('!L814940.053'!L28:Q28)/'!L814940.053'!Q3","v":14.753246753246753},{"$f":"'!L814940.053'!Q24","v":0.31625364058207672}]
[19,{"$f":"'!L815A40.053'!B2:C2","v":"<date>"},{"$f":"('!L815A40.053'!H167/60)/'!L815A40.053'!Q3","v":2.4762939958592134},{"$f":"'!L815A40.053'!N28/'!L815A40.053'!Q3","v":0},{"$f":"SUM('!L815A40.053'!L28:Q28)/'!L815A40.053'!Q3","v":7.2360248447204967},{"$f":"'!L815A40.053'!Q24","v":0.23408466322041849}]
[20,{"$f":"'!L816910.053'!B2:C2","v":"<date>"},{"$f":"('!L816910.053'!H169/60)/'!L816910.053'!Q3","v":2.4433537832310837},{"$f":"'!L816910.053'!N28/'!L816910.053'!Q3","v":0},{"$f":"SUM('!L816910.053'!L28:Q28)/'!L816910.053'!Q3","v":7.147239263803681},{"$f":"'!L816910.053'!Q24","v":0.23680127799620765}]
[21,{"$f":"'!L817940.053'!B2:C2","v":"<date>"},{"$f":"('!L817940.053'!H172/60)/'!L817940.053'!Q3","v":2.4027108433734941},{"$f":"'!L817940.053'!N28/'!L817940.053'!Q3","v":0},{"$f":"SUM('!L817940.053'!L28:Q28)/'!L817940.053'!Q3","v":13.716867469879517},{"$f":"'!L817940.053'!Q24","v":0.18487671622334273}]
[22,{"$f":"'!L818B40.053'!B2:C2","v":"<date>"},{"$f":"('!L818B40.053'!H170/60)/'!L818B40.053'!Q3","v":2.4385162601626016},{"$f":"'!L818B40.053'!N28/'!L818B40.053'!Q3","v":0},{"$f":"SUM('!L818B40.053'!L28:Q28)/'!L818B40.053'!Q3","v":7.1097560975609753},{"$f":"'!L818B40.053'!Q24","v":0.18648576315401622}]
[23,{"$f":"'!L819920.053'!B2:C2","v":"<date>"},{"$f":"('!L819920.053'!H188/60)/'!L819920.053'!Q3","v":2.1915750915750918},{"$f":"'!L819920.053'!N28/'!L819920.053'!Q3","v":0},{"$f":"SUM('!L819920.053'!L28:Q28)/'!L819920.053'!Q3","v":12.543956043956044},{"$f":"'!L819920.053'!Q24","v":0.17765237380878371}]
[24,{"$f":"'!L820950.053'!B2:C2","v":"<date>"},{"$f":"('!L820950.053'!H175/60)/'!L820950.053'!Q3","v":2.3576923076923078},{"$f":"'!L820950.053'!N28/'!L820950.053'!Q3","v":0},{"$f":"SUM('!L820950.053'!L28:Q28)/'!L820950.053'!Q3","v":13.479289940828401},{"$f":"'!L820950.053'!Q24","v":0.20380572413513512}]
[25,{"$f":"'!L821B20.053'!B2:C2","v":"<date>"},{"$f":"('!L821B20.053'!H191/60)/'!L821B20.053'!Q3","v":2.1532432432432436},{"$f":"'!L821B20.053'!N28/'!L821B20.053'!Q3","v":0},{"$f":"SUM('!L821B20.053'!L28:Q28)/'!L821B20.053'!Q3","v":6.3405405405405402},{"$f":"'!L821B20.053'!Q24","v":0.233290839327008}]
[26,{"$f":"'!L822A20.053'!B2:C2","v":"<date>"},{"$f":"('!L822A20.053'!H193/60)/'!L822A20.053'!Q3","v":2.1388591800356505},{"$f":"'!L822A20.053'!N28/'!L822A20.053'!Q3","v":0},{"$f":"SUM('!L822A20.053'!L28:Q28)/'!L822A20.053'!Q3","v":6.2727272727272725},{"$f":"'!L822A20.053'!Q24","v":0.1862182783714578}]
[27,{"$f":"'!L824950.053'!B2:C2","v":"<date>"},{"$f":"('!L824950.053'!H181/60)/'!L824950.053'!Q3","v":2.2778095238095237},{"$f":"'!L824950.053'!N28/'!L824950.053'!Q3","v":0},{"$f":"SUM('!L824950.053'!L28:Q28)/'!L824950.053'!Q3","v":6.6857142857142859},{"$f":"'!L824950.053'!Q24","v":0.15238095216301087}]
[28,{"$f":"'!L825A20.053'!B2:C2","v":"<date>"},{"$f":"('!L825A20.053'!H174/60)/'!L825A20.053'!Q3","v":2.3722222222222222},{"$f":"'!L825A20.053'!N28/'!L825A20.053'!Q3","v":0},{"$f":"SUM('!L825A20.053'!L28:Q28)/'!L825A20.053'!Q3","v":6.9464285714285712},{"$f":"'!L825A20.053'!Q24","v":0.14782017267523051}]
[29,{"$f":"'!L826850.053'!B2:C2","v":"<date>"},{"$f":"('!L826850.053'!H179/60)/'!L826850.053'!Q3","v":2.3047206165703273},{"$f":"'!L826850.053'!N28/'!L826850.053'!Q3","v":0},{"$f":"SUM('!L826850.053'!L28:Q28)/'!L826850.053'!Q3","v":13.179190751445086},{"$f":"'!L826850.053'!Q24","v":0.14360976156734784}]
[30,{"$f":"'!L829A40.053'!B2:C2","v":"<date>"},{"$f":"('!L829A40.053'!H178/60)/'!L829A40.053'!Q3","v":2.3238372093023254},{"$f":"'!L829A40.053'!N28/'!L829A40.053'!Q3","v":0},{"$f":"SUM('!L829A40.053'!L28:Q28)/'!L829A40.053'!Q3","v":13.25},{"$f":"'!L829A40.053'!Q24","v":0.13458896585805252}]

{"sheet":"Start","index":2,"n_rows":36,"n_cols":10,"rows_kept":36,"cut":false,"hidden":false,"merged":[]}
[null,null,null,null,null,"Use Folder 51",null,"Auto Clean Up",null,"Correct sequence"]
[null,null,null,null,null,false,null,true,null,2212]
[]
["Working with Folder",null,null,null,null,null,"Process All/Or Pick A number: ALL or an integer"]
["E:\\Hen Data\\Raw Data\\53\\phase 3 Any\\",null,null,null,null,null,"ALL"]
["Filenames:"]
["!L803A50.053",null,null,null,null,null,"Paint Cells"]
["!L804A50.053",null,null,null,null,null,false]
["!L806A20.053"]
["!L807A10.053"]
["!L808A10.053"]
["!L809B00.053"]
["!L810B50.053"]
["!L811A00.053"]
["!L815A40.053"]
["!L818B40.053"]
["!L821B20.053"]
["!L822A20.053"]
["!L825A20.053"]
["!L829A40.053"]
["!L813920.053"]
["!L812930.053"]
["!L805930.053"]
["!L814940.053"]
["!L816910.053"]
["!L817940.053"]
["!L819920.053"]
["!L820950.053"]
["!L824950.053"]
["!L826850.053"]
["!2011-07-28_10h26m.Subject 53"]
["!2011-07-29_09h35m.Subject 53"]
["!2011-07-30_09h43m.Subject 53"]
["!2011-07-31_11h41m.Subject 53"]
["!2011-08-01_09h48m.Subject 53"]
["!2011-08-02_09h39m.Subject 53"]

{"sheet":"!2011-07-28_10h26m.Subject 53","index":3,"n_rows":183,"n_cols":48,"rows_kept":183,"cut":false,"hidden":false,"merged":[[4,39,4,42],[5,39,5,40],[4,44,4,47],[5,44,5,45],[4,24,4,27],[5,24,5,25],[4,29,4,32],[5,29,5,30],[4,34,4,37],[5,34,5,35],[1,1,1,2],[5,13,5,14],[26,13,26,14],[27,13,27,14],[4,19,4,22],[5,19,5,20]]}
["Report for:!2011-07-28_10h26m.Subject 53"]
["Date","2011-07-28",null,null,null,"Group","Phase 3 Any"]
["Hen",53,null,null,null,"Correct Sequence",{"$f":"Start!J2","v":2212},null,null,null,null,null,null,null,null,"Total Sequences in Data",{"$f":"4994-COUNTBLANK(L7:L5000)","v":177},null,null,null,null,"Total Sequences in Block Data",{"$f":"COUNTA(L7:L36)","v":30},null,null,null,"Total Sequences in Block Data",{"$f":"COUNTA(L37:L65)","v":29},null,null,null,"Total Sequences in Block Data",{"$f":"COUNTA(L66:L95)","v":30},null,null,null,"Total Sequences in Block Data",{"$f":"COUNTA(L96:L124)","v":29},null,null,null,"Total Sequences in Block Data",{"$f":"COUNTA(L125:L154)","v":30},null,null,null,"Total Sequences in Block Data",{"$f":"COUNTA(L155:L183)","v":29}]
["Program","One",null,null,null,null,null,null,null,null,null,null,null,null,null,"Total Sequences in Summary",{"$f":"SUM(O7:O22)","v":176},null,null,null,null,"Total Sequences in Block Summary",{"$f":"SUM(U7:U22)","v":30},null,null,null,"Total Sequences in Block Summary",{"$f":"SUM(Z7:Z22)","v":29},null,null,null,"Total Sequences in Block Summary",{"$f":"SUM(AE7:AE22)","v":30},null,null,null,"Total Sequences in Block Summary",{"$f":"SUM(AJ7:AJ22)","v":29},null,null,null,"Total Sequences in Block Summary",{"$f":"SUM(AO7:AO22)","v":30},null,null,null,"Total Sequences in Block Summary",{"$f":"SUM(AT7:AT22)","v":28}]
[null,null,null,null,null,null,null,null,null,null,null,null,null,null,null,null,null,null,null,"Block 1",null,null,null,null,"Block 2",null,null,null,null,"Block 3",null,null,null,null,"Block 4",null,null,null,null,"Block 5",null,null,null,null,"Block 6"]
["Sequence\nComponent\n1","Time\n1","Sequence\nComponent\n2","Time\n2","Sequence\nComponent\n3","Time\n3","Sequence\nComponent\n4","Time\n4","Sequence\nComponent\n5","Time\n5","Correct?\n0=No 1=Yes","Sequence",null,"Frequency",null,"Relative Frequency","Variability",null,null,"Frequency",null,"Relative Frequency","Variability",null,"Frequency",null,"Relative Frequency","Variability",null,"Frequency",null,"Relative Frequency","Variability",null,"Frequency",null,"Relative Frequency","Variability",null,"Frequency",null,"Relative Frequency","Variability",null,"Frequency",null,"Relative Frequency","Variability"]
[12,9,14,16,13,43,23,52,null,null,0,1112,null,1111,{"$f":"COUNTIF($L$7:$L$500,N7)","v":3},{"$f":"O7/$Q$4","v":1.7045454545454544E-2},{"$f":"IF(P7=0,0,(P7*((LOG(P7))/LOG(2))))","v":-0.10013299632811604},null,null,{"$f":"N7","v":1111},{"$f":"COUNTIF(L7:L36,T7)","v":0},{"$f":"U7/(W4-U20)","v":0},{"$f":"IF(V7=0,0,(V7*((LOG(V7))/LOG(2))))","v":0},null,{"$f":"N7","v":1111},{"$f":"COUNTIF(L37:L65,Y7)","v":1},{"$f":"Z7/(AB4-Z20)","v":3.4482758620689655E-2},{"$f":"IF(AA7=0,0,(AA7*((LOG(AA7))/LOG(2))))","v":-0.16751658603888178},null,{"$f":"N7","v":1111},{"$f":"COUNTIF(L66:L95,AD7)","v":0},{"$f":"AE7/(AG4-AE20)","v":0},{"$f":"IF(AF7=0,0,(AF7*((LOG(AF7))/LOG(2))))","v":0},null,{"$f":"N7","v":1111},{"$f":"COUNTIF(L96:L124,AI7)","v":0},{"$f":"AJ7/(AL4-AJ20)","v":0},{"$f":"IF(AK7=0,0,(AK7*((LOG(AK7))/LOG(2))))","v":0},null,{"$f":"N7","v":1111},{"$f":"COUNTIF(L125:L154,AN7)","v":1},{"$f":"AO7/(AQ4-AO20)","v":3.3333333333333333E-2},{"$f":"IF(AP7=0,0,(AP7*((LOG(AP7))/LOG(2))))","v":-0.16356301985361729},null,{"$f":"N7","v":1111},{"$f":"COUNTIF(L155:L183,AS7)","v":1},{"$f":"AT7/(AV4-AT20)","v":3.8461538461538464E-2},{"$f":"IF(AU7=0,0,(AU7*((LOG(AU7))/LOG(2))))","v":-0.18078614300542661}]
[12,149,14,156,24,166,23,177,null,null,0,1122,null,1112,{"$f":"COUNTIF($L$7:$L$500,N8)","v":39},{"$f":"O8/$Q$4","v":0.22159090909090909},{"$f":"IF(P8=0,0,(P8*((LOG(P8))/LOG(2))))","v":-0.48174515108651655},null,null,{"$f":"N8","v":1112},{"$f":"COUNTIF(L7:L36,T8)","v":1},{"$f":"U8/(W4-U20)","v":3.3333333333333333E-2},{"$f":"IF(V8=0,0,(V8*((LOG(V8))/LOG(2))))","v":-0.16356301985361729},null,{"$f":"N8","v":1112},{"$f":"COUNTIF(L37:L65,Y8)","v":3},{"$f":"Z8/(AB4-Z20)","v":0.10344827586206896},{"$f":"IF(AA8=0,0,(AA8*((LOG(AA8))/LOG(2))))","v":-0.33858812011100858},null,{"$f":"N8","v":1112},{"$f":"COUNTIF(L66:L95,AD8)","v":8},{"$f":"AE8/(AG4-AE20)","v":0.26666666666666666},{"$f":"IF(AF8=0,0,(AF8*((LOG(AF8))/LOG(2))))","v":-0.50850415882893829},null,{"$f":"N8","v":1112},{"$f":"COUNTIF(L96:L124,AI8)","v":5},{"$f":"AJ8/(AL4-AJ20)","v":0.17241379310344829},{"$f":"IF(AK8=0,0,(AK8*((LOG(AK8))/LOG(2))))","v":-0.43725050004141547},null,{"$f":"N8","v":1112},{"$f":"COUNTIF(L125:L154,AN8)","v":9},{"$f":"AO8/(AQ4-AO20)","v":0.3},{"$f":"IF(AP8=0,0,(AP8*((LOG(AP8))/LOG(2))))","v":-0.52108967824986185},null,{"$f":"N8","v":1112},{"$f":"COUNTIF(L155:L183,AS8)","v":13},{"$f":"AT8/(AV4-AT20)","v":0.5},{"$f":"IF(AU8=0,0,(AU8*((LOG(AU8))/LOG(2))))","v":-0.5}]
[12,274,14,283,24,292,23,308,null,null,0,1122,null,1121,{"$f":"COUNTIF($L$7:$L$500,N9)","v":15},{"$f":"O9/$Q$4","v":8.5227272727272721E-2},{"$f":"IF(P9=0,0,(P9*((LOG(P9))/LOG(2))))","v":-0.30277338264449816},null,null,{"$f":"N9","v":1121},{"$f":"COUNTIF(L7:L36,T9)","v":1},{"$f":"U9/(W4-U20)","v":3.3333333333333333E-2},{"$f":"IF(V9=0,0,(V9*((LOG(V9))/LOG(2))))","v":-0.16356301985361729},null,{"$f":"N9","v":1121},{"$f":"COUNTIF(L37:L65,Y9)","v":1},{"$f":"Z9/(AB4-Z20)","v":3.4482758620689655E-2},{"$f":"IF(AA9=0,0,(AA9*((LOG(AA9))/LOG(2))))","v":-0.16751658603888178},null,{"$f":"N9","v":1121},{"$f":"COUNTIF(L66:L95,AD9)","v":2},{"$f":"AE9/(AG4-AE20)","v":6.6666666666666666E-2},{"$f":"IF(AF9=0,0,(AF9*((LOG(AF9))/LOG(2))))","v":-0.26045937304056793},null,{"$f":"N9","v":1121},{"$f":"COUNTIF(L96:L124,AI9)","v":6},{"$f":"AJ9/(AL4-AJ20)","v":0.20689655172413793},{"$f":"IF(AK9=0,0,(AK9*((LOG(AK9))/LOG(2))))","v":-0.4702796884978791},null,{"$f":"N9","v":1121},{"$f":"COUNTIF(L125:L154,AN9)","v":3},{"$f":"AO9/(AQ4-AO20)","v":0.1},{"$f":"IF(AP9=0,0,(AP9*((LOG(AP9))/LOG(2))))","v":-0.33219280948873625},null,{"$f":"N9","v":1121},{"$f":"COUNTIF(L155:L183,AS9)","v":2},{"$f":"AT9/(AV4-AT20)","v":7.6923076923076927E-2},{"$f":"IF(AU9=0,0,(AU9*((LOG(AU9))/LOG(2))))","v":-0.28464920908777636}]
[12,404,14,412,24,434,23,465,null,null,0,1122,null,1122,{"$f":"COUNTIF($L$7:$L$500,N10)","v":85},{"$f":"O10/$Q$4","v":0.48295454545454547},{"$f":"IF(P10=0,0,(P10*((LOG(P10))/LOG(2))))","v":-0.50712192052537275},null,null,{"$f":"N10","v":1122},{"$f":"COUNTIF(L7:L36,T10)","v":18},{"$f":"U10/(W4-U20)","v":0.6},{"$f":"IF(V10=0,0,(V10*((LOG(V10))/LOG(2))))","v":-0.44217935649972373},null,{"$f":"N10","v":1122},{"$f":"COUNTIF(L37:L65,Y10)","v":18},{"$f":"Z10/(AB4-Z20)","v":0.62068965517241381},{"$f":"IF(AA10=0,0,(AA10*((LOG(AA10))/LOG(2))))","v":-0.4270692374598164},null,{"$f":"N10","v":1122},{"$f":"COUNTIF(L66:L95,AD10)","v":15},{"$f":"AE10/(AG4-AE20)","v":0.5},{"$f":"IF(AF10=0,0,(AF10*((LOG(AF10))/LOG(2))))","v":-0.5},null,{"$f":"N10","v":1122},{"$f":"COUNTIF(L96:L124,AI10)","v":10},{"$f":"AJ10/(AL4-AJ20)","v":0.34482758620689657},{"$f":"IF(AK10=0,0,(AK10*((LOG(AK10))/LOG(2))))","v":-0.52967341387593436},null,{"$f":"N10","v":1122},{"$f":"COUNTIF(L125:L154,AN10)","v":16},{"$f":"AO10/(AQ4-AO20)","v":0.53333333333333333},{"$f":"IF(AP10=0,0,(AP10*((LOG(AP10))/LOG(2))))","v":-0.4836749843245432},null,{"$f":"N10","v":1122},{"$f":"COUNTIF(L155:L183,AS10)","v":8},{"$f":"AT10/(AV4-AT20)","v":0.30769230769230771},{"$f":"IF(AU10=0,0,(AU10*((LOG(AU10))/LOG(2))))","v":-0.52321222096648989}]
[12,564,23,580,13,597,23,609,null,null,0,1212,null,1211,{"$f":"COUNTIF($L$7:$L$500,N11)","v":0},{"$f":"O11/$Q$4","v":0},{"$f":"IF(P11=0,0,(P11*((LOG(P11))/LOG(2))))","v":0},null,null,{"$f":"N11","v":1211},{"$f":"COUNTIF(L7:L36,T11)","v":0},{"$f":"U11/(W4-U20)","v":0},{"$f":"IF(V11=0,0,(V11*((LOG(V11))/LOG(2))))","v":0},null,{"$f":"N11","v":1211},{"$f":"COUNTIF(L37:L65,Y11)","v":0},{"$f":"Z11/(AB4-Z20)","v":0},{"$f":"IF(AA11=0,0,(AA11*((LOG(AA11))/LOG(2))))","v":0},null,{"$f":"N11","v":1211},{"$f":"COUNTIF(L66:L95,AD11)","v":0},{"$f":"AE11/(AG4-AE20)","v":0},{"$f":"IF(AF11=0,0,(AF11*((LOG(AF11))/LOG(2))))","v":0},null,{"$f":"N11","v":1211},{"$f":"COUNTIF(L96:L124,AI11)","v":0},{"$f":"AJ11/(AL4-AJ20)","v":0},{"$f":"IF(AK11=0,0,(AK11*((LOG(AK11))/LOG(2))))","v":0},null,{"$f":"N11","v":1211},{"$f":"COUNTIF(L125:L154,AN11)","v":0},{"$f":"AO11/(AQ4-AO20)","v":0},{"$f":"IF(AP11=0,0,(AP11*((LOG(AP11))/LOG(2))))","v":0},null,{"$f":"N11","v":1211},{"$f":"COUNTIF(L155:L183,AS11)","v":0},{"$f":"AT11/(AV4-AT20)","v":0},{"$f":"IF(AU11=0,0,(AU11*((LOG(AU11))/LOG(2))))","v":0}]
[12,697,14,706,24,716,23,723,null,null,0,1122,null,1212,{"$f":"COUNTIF($L$7:$L$500,N12)","v":9},{"$f":"O12/$Q$4","v":5.113636363636364E-2},{"$f":"IF(P12=0,0,(P12*((LOG(P12))/LOG(2))))","v":-0.21934977019747084},null,null,{"$f":"N12","v":1212},{"$f":"COUNTIF(L7:L36,T12)","v":2},{"$f":"U12/(W4-U20)","v":6.6666666666666666E-2},{"$f":"IF(V12=0,0,(V12*((LOG(V12))/LOG(2))))","v":-0.26045937304056793},null,{"$f":"N12","v":1212},{"$f":"COUNTIF(L37:L65,Y12)","v":1},{"$f":"Z12/(AB4-Z20)","v":3.4482758620689655E-2},{"$f":"IF(AA12=0,0,(AA12*((LOG(AA12))/LOG(2))))","v":-0.16751658603888178},null,{"$f":"N12","v":1212},{"$f":"COUNTIF(L66:L95,AD12)","v":1},{"$f":"AE12/(AG4-AE20)","v":3.3333333333333333E-2},{"$f":"IF(AF12=0,0,(AF12*((LOG(AF12))/LOG(2))))","v":-0.16356301985361729},null,{"$f":"N12","v":1212},{"$f":"COUNTIF(L96:L124,AI12)","v":4},{"$f":"AJ12/(AL4-AJ20)","v":0.13793103448275862},{"$f":"IF(AK12=0,0,(AK12*((LOG(AK12))/LOG(2))))","v":-0.39420427519000989},null,{"$f":"N12","v":1212},{"$f":"COUNTIF(L125:L154,AN12)","v":0},{"$f":"AO12/(AQ4-AO20)","v":0},{"$f":"IF(AP12=0,0,(AP12*((LOG(AP12))/LOG(2))))","v":0},null,{"$f":"N12","v":1212},{"$f":"COUNTIF(L155:L183,AS12)","v":1},{"$f":"AT12/(AV4-AT20)","v":3.8461538461538464E-2},{"$f":"IF(AU12=0,0,(AU12*((LOG(AU12))/LOG(2))))","v":-0.18078614300542661}]
[12,821,23,836,24,850,23,862,null,null,0,1222,null,1221,{"$f":"COUNTIF($L$7:$L$500,N13)","v":5},{"$f":"O13/$Q$4","v":2.8409090909090908E-2},{"$f":"IF(P13=0,0,(P13*((LOG(P13))/LOG(2))))","v":-0.14595180465198679},null,null,{"$f":"N13","v":1221},{"$f":"COUNTIF(L7:L36,T13)","v":1},{"$f":"U13/(W4-U20)","v":3.3333333333333333E-2},{"$f":"IF(V13=0,0,(V13*((LOG(V13))/LOG(2))))","v":-0.16356301985361729},null,{"$f":"N13","v":1221},{"$f":"COUNTIF(L37:L65,Y13)","v":2},{"$f":"Z13/(AB4-Z20)","v":6.8965517241379309E-2},{"$f":"IF(AA13=0,0,(AA13*((LOG(AA13))/LOG(2))))","v":-0.26606765483638428},null,{"$f":"N13","v":1221},{"$f":"COUNTIF(L66:L95,AD13)","v":1},{"$f":"AE13/(AG4-AE20)","v":3.3333333333333333E-2},{"$f":"IF(AF13=0,0,(AF13*((LOG(AF13))/LOG(2))))","v":-0.16356301985361729},null,{"$f":"N13","v":1221},{"$f":"COUNTIF(L96:L124,AI13)","v":1},{"$f":"AJ13/(AL4-AJ20)","v":3.4482758620689655E-2},{"$f":"IF(AK13=0,0,(AK13*((LOG(AK13))/LOG(2))))","v":-0.16751658603888178},null,{"$f":"N13","v":1221},{"$f":"COUNTIF(L125:L154,AN13)","v":0},{"$f":"AO13/(AQ4-AO20)","v":0},{"$f":"IF(AP13=0,0,(AP13*((LOG(AP13))/LOG(2))))","v":0},null,{"$f":"N13","v":1221},{"$f":"COUNTIF(L155:L183,AS13)","v":0},{"$f":"AT13/(AV4-AT20)","v":0},{"$f":"IF(AU13=0,0,(AU13*((LOG(AU13))/LOG(2))))","v":0}]
[12,958,14,968,24,978,23,984,null,null,0,1122,null,1222,{"$f":"COUNTIF($L$7:$L$500,N14)","v":15},{"$f":"O14/$Q$4","v":8.5227272727272721E-2},{"$f":"IF(P14=0,0,(P14*((LOG(P14))/LOG(2))))","v":-0.30277338264449816},null,null,{"$f":"N14","v":1222},{"$f":"COUNTIF(L7:L36,T14)","v":6},{"$f":"U14/(W4-U20)","v":0.2},{"$f":"IF(V14=0,0,(V14*((LOG(V14))/LOG(2))))","v":-0.46438561897747244},null,{"$f":"N14","v":1222},{"$f":"COUNTIF(L37:L65,Y14)","v":2},{"$f":"Z14/(AB4-Z20)","v":6.8965517241379309E-2},{"$f":"IF(AA14=0,0,(AA14*((LOG(AA14))/LOG(2))))","v":-0.26606765483638428},null,{"$f":"N14","v":1222},{"$f":"COUNTIF(L66:L95,AD14)","v":2},{"$f":"AE14/(AG4-AE20)","v":6.6666666666666666E-2},{"$f":"IF(AF14=0,0,(AF14*((LOG(AF14))/LOG(2))))","v":-0.26045937304056793},null,{"$f":"N14","v":1222},{"$f":"COUNTIF(L96:L124,AI14)","v":3},{"$f":"AJ14/(AL4-AJ20)","v":0.10344827586206896},{"$f":"IF(AK14=0,0,(AK14*((LOG(AK14))/LOG(2))))","v":-0.33858812011100858},null,{"$f":"N14","v":1222},{"$f":"COUNTIF(L125:L154,AN14)","v":1},{"$f":"AO14/(AQ4-AO20)","v":3.3333333333333333E-2},{"$f":"IF(AP14=0,0,(AP14*((LOG(AP14))/LOG(2))))","v":-0.16356301985361729},null,{"$f":"N14","v":1222},{"$f":"COUNTIF(L155:L183,AS14)","v":1},{"$f":"AT14/(AV4-AT20)","v":3.8461538461538464E-2},{"$f":"IF(AU14=0,0,(AU14*((LOG(AU14))/LOG(2))))","v":-0.18078614300542661}]
[12,1084,23,1097,24,1105,23,1112,null,null,0,1222,null,2111,{"$f":"COUNTIF($L$7:$L$500,N15)","v":1},{"$f":"O15/$Q$4","v":5.681818181818182E-3},{"$f":"IF(P15=0,0,(P15*((LOG(P15))/LOG(2))))","v":-4.2383134196802827E-2},null,null,{"$f":"N15","v":2111},{"$f":"COUNTIF(L7:L36,T15)","v":0},{"$f":"U15/(W4-U20)","v":0},{"$f":"IF(V15=0,0,(V15*((LOG(V15))/LOG(2))))","v":0},null,{"$f":"N15","v":2111},{"$f":"COUNTIF(L37:L65,Y15)","v":1},{"$f":"Z15/(AB4-Z20)","v":3.4482758620689655E-2},{"$f":"IF(AA15=0,0,(AA15*((LOG(AA15))/LOG(2))))","v":-0.16751658603888178},null,{"$f":"N15","v":2111},{"$f":"COUNTIF(L66:L95,AD15)","v":0},{"$f":"AE15/(AG4-AE20)","v":0},{"$f":"IF(AF15=0,0,(AF15*((LOG(AF15))/LOG(2))))","v":0},null,{"$f":"N15","v":2111},{"$f":"COUNTIF(L96:L124,AI15)","v":0},{"$f":"AJ15/(AL4-AJ20)","v":0},{"$f":"IF(AK15=0,0,(AK15*((LOG(AK15))/LOG(2))))","v":0},null,{"$f":"N15","v":2111},{"$f":"COUNTIF(L125:L154,AN15)","v":0},{"$f":"AO15/(AQ4-AO20)","v":0},{"$f":"IF(AP15=0,0,(AP15*((LOG(AP15))/LOG(2))))","v":0},null,{"$f":"N15","v":2111},{"$f":"COUNTIF(L155:L183,AS15)","v":0},{"$f":"AT15/(AV4-AT20)","v":0},{"$f":"IF(AU15=0,0,(AU15*((LOG(AU15))/LOG(2))))","v":0}]
[12,1212,14,1220,24,1229,23,1237,null,null,0,1122,null,2112,{"$f":"COUNTIF($L$7:$L$500,N16)","v":0},{"$f":"O16/$Q$4","v":0},{"$f":"IF(P16=0,0,(P16*((LOG(P16))/LOG(2))))","v":0},null,null,{"$f":"N16","v":2112},{"$f":"COUNTIF(L7:L36,T16)","v":0},{"$f":"U16/(W4-U20)","v":0},{"$f":"IF(V16=0,0,(V16*((LOG(V16))/LOG(2))))","v":0},null,{"$f":"N16","v":2112},{"$f":"COUNTIF(L37:L65,Y16)","v":0},{"$f":"Z16/(AB4-Z20)","v":0},{"$f":"IF(AA16=0,0,(AA16*((LOG(AA16))/LOG(2))))","v":0},null,{"$f":"N16","v":2112},{"$f":"COUNTIF(L66:L95,AD16)","v":0},{"$f":"AE16/(AG4-AE20)","v":0},{"$f":"IF(AF16=0,0,(AF16*((LOG(AF16))/LOG(2))))","v":0},null,{"$f":"N16","v":2112},{"$f":"COUNTIF(L96:L124,AI16)","v":0},{"$f":"AJ16/(AL4-AJ20)","v":0},{"$f":"IF(AK16=0,0,(AK16*((LOG(AK16))/LOG(2))))","v":0},null,{"$f":"N16","v":2112},{"$f":"COUNTIF(L125:L154,AN16)","v":0},{"$f":"AO16/(AQ4-AO20)","v":0},{"$f":"IF(AP16=0,0,(AP16*((LOG(AP16))/LOG(2))))","v":0},null,{"$f":"N16","v":2112},{"$f":"COUNTIF(L155:L183,AS16)","v":0},{"$f":"AT16/(AV4-AT20)","v":0},{"$f":"IF(AU16=0,0,(AU16*((LOG(AU16))/LOG(2))))","v":0}]
[12,1327,14,1333,24,1342,23,1349,null,null,0,1122,null,2121,{"$f":"COUNTIF($L$7:$L$500,N17)","v":0},{"$f":"O17/$Q$4","v":0},{"$f":"IF(P17=0,0,(P17*((LOG(P17))/LOG(2))))","v":0},null,null,{"$f":"N17","v":2121},{"$f":"COUNTIF(L7:L36,T17)","v":0},{"$f":"U17/(W4-U20)","v":0},{"$f":"IF(V17=0,0,(V17*((LOG(V17))/LOG(2))))","v":0},null,{"$f":"N17","v":2121},{"$f":"COUNTIF(L37:L65,Y17)","v":0},{"$f":"Z17/(AB4-Z20)","v":0},{"$f":"IF(AA17=0,0,(AA17*((LOG(AA17))/LOG(2))))","v":0},null,{"$f":"N17","v":2121},{"$f":"COUNTIF(L66:L95,AD17)","v":0},{"$f":"AE17/(AG4-AE20)","v":0},{"$f":"IF(AF17=0,0,(AF17*((LOG(AF17))/LOG(2))))","v":0},null,{"$f":"N17","v":2121},{"$f":"COUNTIF(L96:L124,AI17)","v":0},{"$f":"AJ17/(AL4-AJ20)","v":0},{"$f":"IF(AK17=0,0,(AK17*((LOG(AK17))/LOG(2))))","v":0},null,{"$f":"N17","v":2121},{"$f":"COUNTIF(L125:L154,AN17)","v":0},{"$f":"AO17/(AQ4-AO20)","v":0},{"$f":"IF(AP17=0,0,(AP17*((LOG(AP17))/LOG(2))))","v":0},null,{"$f":"N17","v":2121},{"$f":"COUNTIF(L155:L183,AS17)","v":0},{"$f":"AT17/(AV4-AT20)","v":0},{"$f":"IF(AU17=0,0,(AU17*((LOG(AU17))/LOG(2))))","v":0}]
[12,1446,23,1466,24,1477,23,1485,null,null,0,1222,null,2122,{"$f":"COUNTIF($L$7:$L$500,N18)","v":2},{"$f":"O18/$Q$4","v":1.1363636363636364E-2},{"$f":"IF(P18=0,0,(P18*((LOG(P18))/LOG(2))))","v":-7.3402632029969286E-2},null,null,{"$f":"N18","v":2122},{"$f":"COUNTIF(L7:L36,T18)","v":1},{"$f":"U18/(W4-U20)","v":3.3333333333333333E-2},{"$f":"IF(V18=0,0,(V18*((LOG(V18))/LOG(2))))","v":-0.16356301985361729},null,{"$f":"N18","v":2122},{"$f":"COUNTIF(L37:L65,Y18)","v":0},{"$f":"Z18/(AB4-Z20)","v":0},{"$f":"IF(AA18=0,0,(AA18*((LOG(AA18))/LOG(2))))","v":0},null,{"$f":"N18","v":2122},{"$f":"COUNTIF(L66:L95,AD18)","v":1},{"$f":"AE18/(AG4-AE20)","v":3.3333333333333333E-2},{"$f":"IF(AF18=0,0,(AF18*((LOG(AF18))/LOG(2))))","v":-0.16356301985361729},null,{"$f":"N18","v":2122},{"$f":"COUNTIF(L96:L124,AI18)","v":0},{"$f":"AJ18/(AL4-AJ20)","v":0},{"$f":"IF(AK18=0,0,(AK18*((LOG(AK18))/LOG(2))))","v":0},null,{"$f":"N18","v":2122},{"$f":"COUNTIF(L125:L154,AN18)","v":0},{"$f":"AO18/(AQ4-AO20)","v":0},{"$f":"IF(AP18=0,0,(AP18*((LOG(AP18))/LOG(2))))","v":0},null,{"$f":"N18","v":2122},{"$f":"COUNTIF(L155:L183,AS18)","v":0},{"$f":"AT18/(AV4-AT20)","v":0},{"$f":"IF(AU18=0,0,(AU18*((LOG(AU18))/LOG(2))))","v":0}]
[12,1583,14,1590,24,1602,23,1612,null,null,0,1122,null,2211,{"$f":"COUNTIF($L$7:$L$500,N19)","v":0},{"$f":"O19/$Q$4","v":0},{"$f":"IF(P19=0,0,(P19*((LOG(P19))/LOG(2))))","v":0},null,null,{"$f":"N19","v":2211},{"$f":"COUNTIF(L7:L36,T19)","v":0},{"$f":"U19/(W4-U20)","v":0},{"$f":"IF(V19=0,0,(V19*((LOG(V19))/LOG(2))))","v":0},null,{"$f":"N19","v":2211},{"$f":"COUNTIF(L37:L65,Y19)","v":0},{"$f":"Z19/(AB4-Z20)","v":0},{"$f":"IF(AA19=0,0,(AA19*((LOG(AA19))/LOG(2))))","v":0},null,{"$f":"N19","v":2211},{"$f":"COUNTIF(L66:L95,AD19)","v":0},{"$f":"AE19/(AG4-AE20)","v":0},{"$f":"IF(AF19=0,0,(AF19*((LOG(AF19))/LOG(2))))","v":0},null,{"$f":"N19","v":2211},{"$f":"COUNTIF(L96:L124,AI19)","v":0},{"$f":"AJ19/(AL4-AJ20)","v":0},{"$f":"IF(AK19=0,0,(AK19*((LOG(AK19))/LOG(2))))","v":0},null,{"$f":"N19","v":2211},{"$f":"COUNTIF(L125:L154,AN19)","v":0},{"$f":"AO19/(AQ4-AO20)","v":0},{"$f":"IF(AP19=0,0,(AP19*((LOG(AP19))/LOG(2))))","v":0},null,{"$f":"N19","v":2211},{"$f":"COUNTIF(L155:L183,AS19)","v":0},{"$f":"AT19/(AV4-AT20)","v":0},{"$f":"IF(AU19=0,0,(AU19*((LOG(AU19))/LOG(2))))","v":0}]
[12,1717,23,1730,24,1743,23,1750,null,null,0,1222,null,2212,{"$f":"COUNTIF($L$7:$L$500,N20)","v":2},{"$f":"O20/$Q$4","v":1.1363636363636364E-2},{"$f":"IF(P20=0,0,(P20*((LOG(P20))/LOG(2))))","v":-7.3402632029969286E-2},null,null,{"$f":"N20","v":2212},{"$f":"COUNTIF(L7:L36,T20)","v":0},null,null,null,{"$f":"N20","v":2212},{"$f":"COUNTIF(L37:L65,Y20)","v":0},null,null,null,{"$f":"N20","v":2212},{"$f":"COUNTIF(L66:L95,AD20)","v":0},null,null,null,{"$f":"N20","v":2212},{"$f":"COUNTIF(L96:L124,AI20)","v":0},null,null,null,{"$f":"N20","v":2212},{"$f":"COUNTIF(L125:L154,AN20)","v":0},null,null,null,{"$f":"N20","v":2212},{"$f":"COUNTIF(L155:L183,AS20)","v":2}]
[12,1849,14,1857,24,1868,23,1878,null,null,0,1122,null,2221,{"$f":"COUNTIF($L$7:$L$500,N21)","v":0},{"$f":"O21/$Q$4","v":0},{"$f":"IF(P21=0,0,(P21*((LOG(P21))/LOG(2))))","v":0},null,null,{"$f":"N21","v":2221},{"$f":"COUNTIF(L7:L36,T21)","v":0},{"$f":"U21/(W4-U20)","v":0},{"$f":"IF(V21=0,0,(V21*((LOG(V21))/LOG(2))))","v":0},null,{"$f":"N21","v":2221},{"$f":"COUNTIF(L37:L65,Y21)","v":0},{"$f":"Z21/(AB4-Z20)","v":0},{"$f":"IF(AA21=0,0,(AA21*((LOG(AA21))/LOG(2))))","v":0},null,{"$f":"N21","v":2221},{"$f":"COUNTIF(L66:L95,AD21)","v":0},{"$f":"AE21/(AG4-AE20)","v":0},{"$f":"IF(AF21=0,0,(AF21*((LOG(AF21))/LOG(2))))","v":0},null,{"$f":"N21","v":2221},{"$f":"COUNTIF(L96:L124,AI21)","v":0},{"$f":"AJ21/(AL4-AJ20)","v":0},{"$f":"IF(AK21=0,0,(AK21*((LOG(AK21))/LOG(2))))","v":0},null,{"$f":"N21","v":2221},{"$f":"COUNTIF(L125:L154,AN21)","v":0},{"$f":"AO21/(AQ4-AO20)","v":0},{"$f":"IF(AP21=0,0,(AP21*((LOG(AP21))/LOG(2))))","v":0},null,{"$f":"N21","v":2221},{"$f":"COUNTIF(L155:L183,AS21)","v":0},{"$f":"AT21/(AV4-AT20)","v":0},{"$f":"IF(AU21=0,0,(AU21*((LOG(AU21))/LOG(2))))","v":0}]
[12,1987,23,2002,13,2022,23,2035,null,null,0,1212,null,2222,{"$f":"COUNTIF($L$7:$L$500,N22)","v":0},{"$f":"O22/$Q$4","v":0},{"$f":"IF(P22=0,0,(P22*((LOG(P22))/LOG(2))))","v":0},null,null,{"$f":"N22","v":2222},{"$f":"COUNTIF(L7:L36,T22)","v":0},{"$f":"U22/(W4-U20)","v":0},{"$f":"IF(V22=0,0,(V22*((LOG(V22))/LOG(2))))","v":0},null,{"$f":"N22","v":2222},{"$f":"COUNTIF(L37:L65,Y22)","v":0},{"$f":"Z22/(AB4-Z20)","v":0},{"$f":"IF(AA22=0,0,(AA22*((LOG(AA22))/LOG(2))))","v":0},null,{"$f":"N22","v":2222},{"$f":"COUNTIF(L66:L95,AD22)","v":0},{"$f":"AE22/(AG4-AE20)","v":0},{"$f":"IF(AF22=0,0,(AF22*((LOG(AF22))/LOG(2))))","v":0},null,{"$f":"N22","v":2222},{"$f":"COUNTIF(L96:L124,AI22)","v":0},{"$f":"AJ22/(AL4-AJ20)","v":0},{"$f":"IF(AK22=0,0,(AK22*((LOG(AK22))/LOG(2))))","v":0},null,{"$f":"N22","v":2222},{"$f":"COUNTIF(L125:L154,AN22)","v":0},{"$f":"AO22/(AQ4-AO20)","v":0},{"$f":"IF(AP22=0,0,(AP22*((LOG(AP22))/LOG(2))))","v":0},null,{"$f":"N22","v":2222},{"$f":"COUNTIF(L155:L183,AS22)","v":0},{"$f":"AT22/(AV4-AT20)","v":0},{"$f":"IF(AU22=0,0,(AU22*((LOG(AU22))/LOG(2))))","v":0}]
[12,2158,14,2178,24,2188,23,2203,null,null,0,1122,null,null,null,{"$f":"SUM(P7:P22)","v":1.0000000000000002},{"$f":"-SUM(Q7:Q22)","v":2.2490368063352011},null,null,null,null,{"$f":"SUM(V7:V22)","v":0.99999999999999989},{"$f":"-SUM(W7:W22)","v":1.8212764279322333},null,null,null,{"$f":"SUM(AA7:AA22)","v":1},{"$f":"-SUM(AB7:AB22)","v":1.9678590113991208},null,null,null,{"$f":"SUM(AF7:AF22)","v":0.99999999999999989},{"$f":"-SUM(AG7:AG22)","v":2.0201119644709262},null,null,null,{"$f":"SUM(AK7:AK22)","v":0.99999999999999989},{"$f":"-SUM(AL7:AL22)","v":2.3375125837551294},null,null,null,{"$f":"SUM(AP7:AP22)","v":1},{"$f":"-SUM(AQ7:AQ22)","v":1.6640835117703758},null,null,null,{"$f":"SUM(AU7:AU22)","v":1},{"$f":"-SUM(AV7:AV22)","v":1.8502198590705459}]
[12,2304,23,2316,24,2323,23,2333,null,null,0,1222,null,null,null,"U=",{"$f":"Q23/(LOG(Q4)/LOG(2))","v":0.30150243628696999},null,null,null,null,"U1=",{"$f":"W23/(LOG(W4)/LOG(2))","v":0.37116711539527836},null,null,null,"U2=",{"$f":"AB23/(LOG(AB4)/LOG(2))","v":0.40507754422523101},null,null,null,"U3=",{"$f":"AG23/(LOG(AG4)/LOG(2))","v":0.41168881292744736},null,null,null,"U4=",{"$f":"AL23/(LOG(AL4)/LOG(2))","v":0.4811695612023994},null,null,null,"U5=",{"$f":"AQ23/(LOG(AQ4)/LOG(2))","v":0.33913197764377867},null,null,null,"U6=",{"$f":"AV23/(LOG(AV4)/LOG(2))","v":0.38487273959764767}]
[12,2436,23,2447,24,2453,23,2461,null,null,0,1222]
[12,2558,14,2566,24,2577,23,2584,null,null,0,1122]
[21,2703,12,2716,24,2725,23,2737,null,null,0,2122,null,"Total Target Seq"]
[12,2846,14,2860,24,2872,23,2883,null,null,0,1122,null,{"$f":"COUNTIF(L7:L183,G3)","v":2},null,30,29,30,29,30,29]
[12,2980,14,2989,24,2997,23,3008,null,null,0,1122,null,null,null,"% of reinforcement given in 6 equal intervals based on number of trials "]
[12,3109,23,3128,24,3134,14,3145,null,null,0,1221,null,null,null,"%_1","%_2","%_3","%_4","%_5","%_6"]
[12,3255,14,3260,24,3278,14,3298,null,null,0,1121,null,null,"target sequence",{"$f":"$G$3","v":2212},{"$f":"$G$3","v":2212},{"$f":"$G$3","v":2212},{"$f":"$G$3","v":2212},{"$f":"$G$3","v":2212},{"$f":"$G$3","v":2212}]
[12,3407,14,3417,24,3427,23,3434,null,null,0,1122,null,null,"total reinforcement",{"$f":"U20","v":0},{"$f":"Z20","v":0},{"$f":"AE20","v":0},{"$f":"AJ20","v":0},{"$f":"AO20","v":0},{"$f":"AT20","v":2}]
[12,3523,14,3531,24,3541,23,3548,null,null,0,1122,null,null,"% target"]
[12,3649,14,3657,24,3668,23,3675,null,null,0,1122,null,null,"CCRF"]
[12,3787,14,3798,24,3807,23,3815,null,null,0,1122,null,null,"% CCRf"]
[12,3908,14,3916,24,3926,23,3934,null,null,0,1122,null,null,"average response rate",{"$f":"H36/P28","v":131.13333333333333},{"$f":"(H65-H36)/Q28","v":135.41379310344828},{"$f":"(H95-H65)/R28","v":134.96666666666667},{"$f":"(H124-H95)/S28","v":135.13793103448276},{"$f":"(H154-H124)/T28","v":136.76666666666668},{"$f":"(H183-H154)/U28","v":-687.31034482758616}]
[12,4045,14,4050,24,4069,23,4076,null,null,0,1122]
[12,4172,14,4181,24,4200,23,4207,null,null,0,1122]
[12,4306,14,4315,13,4349,23,4362,null,null,0,1112]
[12,4467,14,4477,24,4490,23,4499,null,null,0,1122]
[12,4602,14,4611,24,4621,23,4628,null,null,0,1122]
[12,4736,14,4741,24,4751,23,4765,null,null,0,1122]
[12,4864,14,4872,24,4884,23,4891,null,null,0,1122]
[12,5024,23,5039,13,5049,23,5068,null,null,0,1212]
[12,5174,23,5184,24,5191,14,5210,null,null,0,1221]
[12,5307,14,5315,24,5325,23,5336,null,null,0,1122]
[12,5444,14,5454,24,5466,23,5473,null,null,0,1122]
[12,5583,23,5597,24,5604,23,5614,null,null,0,1222]
[12,5715,23,5725,24,5733,23,5742,null,null,0,1222]
[12,5907,14,5917,24,5926,23,5935,null,null,0,1122]
[12,6026,14,6052,24,6063,23,6068,null,null,0,1122]
[12,6159,14,6166,13,6184,23,6196,null,null,0,1112]
[12,6287,23,6302,24,6311,14,6328,null,null,0,1221]
[12,6419,14,6431,24,6440,23,6445,null,null,0,1122]
[12,6541,14,6547,24,6556,23,6563,null,null,0,1122]
[12,6661,14,6669,24,6685,23,6689,null,null,0,1122]
[21,6788,12,6799,13,6807,14,6815,null,null,0,2111]
[12,6938,14,6946,24,6957,23,6965,null,null,0,1122]
[12,7062,14,7069,13,7074,14,7079,null,null,0,1111]
[12,7179,14,7186,24,7195,14,7210,null,null,0,1121]
[12,7306,14,7313,24,7326,23,7335,null,null,0,1122]
[12,7433,14,7441,24,7451,23,7458,null,null,0,1122]
[12,7556,14,7564,24,7574,23,7581,null,null,0,1122]
[12,7699,14,7711,24,7724,23,7731,null,null,0,1122]
[12,7831,14,7836,13,7846,23,7861,null,null,0,1112]
[12,7960,14,7969,24,7979,23,7985,null,null,0,1122]
[12,8082,14,8090,24,8100,23,8108,null,null,0,1122]
[12,8206,14,8235,13,8245,23,8257,null,null,0,1112]
[12,8361,14,8368,13,8389,23,8401,null,null,0,1112]
[12,8493,14,8501,24,8511,23,8519,null,null,0,1122]
[12,8615,14,8625,24,8636,23,8643,null,null,0,1122]
[12,8744,14,8759,24,8769,23,8777,null,null,0,1122]
[12,8889,14,8897,24,8909,23,8916,null,null,0,1122]
[12,9017,14,9025,24,9035,14,9048,null,null,0,1121]
[12,9150,14,9172,13,9174,23,9186,null,null,0,1112]
[12,9286,14,9295,13,9320,23,9339,null,null,0,1112]
[12,9452,14,9461,24,9471,23,9479,null,null,0,1122]
[12,9576,14,9583,24,9592,23,9599,null,null,0,1122]
[12,9694,14,9702,24,9712,23,9719,null,null,0,1122]
[12,9818,14,9822,13,9835,23,9845,null,null,0,1112]
[12,9942,14,9952,24,9963,23,9969,null,null,0,1122]
[12,10082,14,10084,13,10092,23,10103,null,null,0,1112]
[12,10202,23,10221,24,10228,23,10242,null,null,0,1222]
[12,10343,23,10357,24,10359,14,10374,null,null,0,1221]
[12,10473,14,10487,24,10497,23,10504,null,null,0,1122]
[12,10607,23,10625,24,10630,23,10638,null,null,0,1222]
[12,10734,14,10739,13,10748,23,10761,null,null,0,1112]
[12,10861,23,10886,13,10904,23,10914,null,null,0,1212]
[12,11016,14,11024,24,11033,14,11058,null,null,0,1121]
[12,11155,14,11163,24,11173,23,11182,null,null,0,1122]
[21,11324,12,11355,24,11365,23,11373,null,null,0,2122]
[12,11493,14,11494,13,11505,23,11517,null,null,0,1112]
[12,11617,14,11624,24,11635,23,11642,null,null,0,1122]
[12,11743,14,11750,24,11766,23,11772,null,null,0,1122]
[12,11877,14,11890,24,11900,23,11910,null,null,0,1122]
[12,12025,14,12031,13,12039,23,12049,null,null,0,1112]
[12,12152,14,12160,24,12170,23,12177,null,null,0,1122]
[12,12279,14,12281,13,12288,23,12298,null,null,0,1112]
[12,12393,14,12403,24,12414,23,12421,null,null,0,1122]
[12,12521,14,12529,24,12540,23,12564,null,null,0,1122]
[12,12665,14,12674,24,12685,23,12693,null,null,0,1122]
[12,12791,14,12799,24,12810,23,12817,null,null,0,1122]
[12,12920,23,12938,24,12946,23,12954,null,null,0,1222]
[12,13074,23,13084,24,13092,23,13103,null,null,0,1222]
[12,13205,14,13219,24,13233,14,13245,null,null,0,1121]
[12,13346,14,13356,13,13374,23,13389,null,null,0,1112]
[12,13490,14,13501,24,13512,14,13534,null,null,0,1121]
[12,13635,14,13645,13,13653,23,13666,null,null,0,1112]
[12,13766,14,13777,24,13787,23,13794,null,null,0,1122]
[12,13888,23,13897,24,13905,14,13916,null,null,0,1221]
[12,14014,14,14022,24,14034,14,14057,null,null,0,1121]
[12,14153,14,14159,24,14174,14,14187,null,null,0,1121]
[12,14296,23,14305,13,14319,23,14332,null,null,0,1212]
[12,14430,14,14436,13,14449,23,14460,null,null,0,1112]
[12,14558,14,14564,24,14577,14,14589,null,null,0,1121]
[12,14686,14,14693,24,14702,14,14711,null,null,0,1121]
[12,14808,23,14821,13,14839,23,14850,null,null,0,1212]
[12,14957,23,14965,13,14979,23,14991,null,null,0,1212]
[12,15090,14,15098,24,15109,23,15116,null,null,0,1122]
[12,15217,23,15229,24,15254,23,15261,null,null,0,1222]
[12,15359,23,15374,13,15385,23,15396,null,null,0,1212]
[12,15506,14,15521,24,15531,23,15538,null,null,0,1122]
[12,15648,14,15671,24,15683,23,15691,null,null,0,1122]
[12,15794,14,15804,24,15820,23,15829,null,null,0,1122]
[12,15936,14,15946,24,15958,23,15963,null,null,0,1122]
[12,16071,14,16080,24,16091,23,16099,null,null,0,1122]
[12,16209,14,16217,24,16229,23,16236,null,null,0,1122]
[12,16354,14,16360,13,16368,23,16381,null,null,0,1112]
[12,16492,14,16502,24,16512,23,16519,null,null,0,1122]
[12,16613,14,16617,13,16626,23,16637,null,null,0,1112]
[12,16765,14,16772,24,16785,14,16809,null,null,0,1121]
[12,16910,14,16917,24,16929,23,16940,null,null,0,1122]
[12,17039,14,17045,24,17057,14,17069,null,null,0,1121]
[12,17166,14,17173,13,17181,23,17192,null,null,0,1112]
[12,17289,14,17297,13,17311,23,17322,null,null,0,1112]
[12,17449,14,17458,24,17468,23,17475,null,null,0,1122]
[12,17573,14,17578,13,17589,23,17599,null,null,0,1112]
[12,17716,14,17725,24,17736,23,17742,null,null,0,1122]
[12,17856,14,17865,24,17875,23,17883,null,null,0,1122]
[12,18014,14,18022,24,18032,23,18039,null,null,0,1122]
[12,18139,14,18150,24,18160,23,18168,null,null,0,1122]
[12,18284,14,18293,24,18307,23,18314,null,null,0,1122]
[12,18426,14,18431,13,18439,23,18450,null,null,0,1112]
[12,18550,14,18557,13,18578,23,18591,null,null,0,1112]
[12,18694,14,18702,24,18712,14,18727,null,null,0,1121]
[12,18834,14,18843,24,18853,23,18860,null,null,0,1122]
[12,18960,14,18965,13,18975,14,18987,null,null,0,1111]
[12,19096,14,19108,24,19121,23,19128,null,null,0,1122]
[12,19226,14,19237,24,19249,23,19255,null,null,0,1122]
[12,19347,14,19351,13,19359,23,19369,null,null,0,1112]
[12,19471,14,19481,24,19491,23,19499,null,null,0,1122]
[12,19595,14,19602,13,19614,23,19624,null,null,0,1112]
[12,19733,23,19753,24,19764,23,19771,null,null,0,1222]
[12,19902,14,19913,24,19925,23,19932,null,null,0,1122]
[12,20034,14,20036,13,20041,23,20050,null,null,0,1112]
[12,20155,14,20164,24,20175,23,20184,null,null,0,1122]
[12,20286,14,20307,24,20319,23,20326,null,null,0,1122]
[12,20431,23,20450,24,20457,23,20465,null,null,0,1222]
[12,20591,14,20597,13,20605,23,20618,null,null,0,1112]
[12,20725,14,20730,13,20737,23,20750,null,null,0,1112]
[12,20883,14,20888,24,20899,14,20915,null,null,0,1121]
[12,21050,14,21057,24,21067,23,21079,null,null,0,1122]
[12,21198,14,21212,24,21221,23,21236,null,null,0,1122]
[12,21336,14,21345,13,21355,14,21363,null,null,0,1111]
[21,21475,21,21491,11,21504,21,21517,null,null,0,2212]
[12,21626,14,21631,13,21640,23,21654,null,null,0,1112]
[12,21755,14,21760,24,21769,23,21776,null,null,0,1122]
[12,21898,14,21903,13,21914,23,21928,null,null,0,1112]
[12,22034,14,22039,13,22060,23,22071,null,null,0,1112]
[12,22190,14,22200,24,22210,23,22217,null,null,0,1122]
[12,22320,23,22330,13,22345,23,22358,null,null,0,1212]
[12,22463,14,22472,24,22482,23,22489,null,null,0,1122]
[12,22586,14,22591,13,22600,23,22613,null,null,0,1112]
[12,22740,14,22744,13,22752,23,22767,null,null,0,1112]
[12,22867,14,22876,13,22894,23,22909,null,null,0,1112]
[12,23013,14,23023,24,23031,14,23042,null,null,0,1121]
[12,23155,14,23157,13,23166,23,23175,null,null,0,1112]
[12,23281,14,23286,13,23293,23,23304,null,null,0,1112]
[12,23409,14,23420,24,23451,23,23458,null,null,0,1122]
[21,23557,21,23558,11,23574,21,23587,null,null,0,2212]
[12,23693,14,23698,13,23705,23,23715,null,null,0,1112]
[12,23833,14,23840,13,23849,23,23863,null,null,0,1112]
[12,23984,14,23989,13,23998,null,null,null,null,null,111]

{"sheet":"!2011-07-29_09h35m.Subject 53","index":4,"n_rows":186,"n_cols":48,"rows_kept":186,"cut":false,"hidden":false,"merged":[[4,39,4,42],[5,39,5,40],[4,44,4,47],[5,44,5,45],[4,24,4,27],[5,24,5,25],[4,29,4,32],[5,29,5,30],[4,34,4,37],[5,34,5,35],[1,1,1,2],[5,13,5,14],[26,13,26,14],[27,13,27,14],[4,19,4,22],[5,19,5,20]]}
["Report for:!2011-07-29_09h35m.Subject 53"]
["Date","2011-07-29",null,null,null,"Group","Phase 3 Any"]
["Hen",53,null,null,null,"Correct Sequence",{"$f":"Start!J2","v":2212},null,null,null,null,null,null,null,null,"Total Sequences in Data",{"$f":"4994-COUNTBLANK(L7:L5000)","v":180},null,null,null,null,"Total Sequences in Block Data",{"$f":"COUNTA(L7:L36)","v":30},null,null,null,"Total Sequences in Block Data",{"$f":"COUNTA(L37:L66)","v":30},null,null,null,"Total Sequences in Block Data",{"$f":"COUNTA(L67:L96)","v":30},null,null,null,"Total Sequences in Block Data",{"$f":"COUNTA(L97:L126)","v":30},null,null,null,"Total Sequences in Block Data",{"$f":"COUNTA(L127:L156)","v":30},null,null,null,"Total Sequences in Block Data",{"$f":"COUNTA(L157:L186)","v":30}]
["Program","One",null,null,null,null,null,null,null,null,null,null,null,null,null,"Total Sequences in Summary",{"$f":"SUM(O7:O22)","v":180},null,null,null,null,"Total Sequences in Block Summary",{"$f":"SUM(U7:U22)","v":30},null,null,null,"Total Sequences in Block Summary",{"$f":"SUM(Z7:Z22)","v":30},null,null,null,"Total Sequences in Block Summary",{"$f":"SUM(AE7:AE22)","v":30},null,null,null,"Total Sequences in Block Summary",{"$f":"SUM(AJ7:AJ22)","v":30},null,null,null,"Total Sequences in Block Summary",{"$f":"SUM(AO7:AO22)","v":30},null,null,null,"Total Sequences in Block Summary",{"$f":"SUM(AT7:AT22)","v":30}]
[null,null,null,null,null,null,null,null,null,null,null,null,null,null,null,null,null,null,null,"Block 1",null,null,null,null,"Block 2",null,null,null,null,"Block 3",null,null,null,null,"Block 4",null,null,null,null,"Block 5",null,null,null,null,"Block 6"]
["Sequence\nComponent\n1","Time\n1","Sequence\nComponent\n2","Time\n2","Sequence\nComponent\n3","Time\n3","Sequence\nComponent\n4","Time\n4","Sequence\nComponent\n5","Time\n5","Correct?\n0=No 1=Yes","Sequence",null,"Frequency",null,"Relative Frequency","Variability",null,null,"Frequency",null,"Relative Frequency","Variability",null,"Frequency",null,"Relative Frequency","Variability",null,"Frequency",null,"Relative Frequency","Variability",null,"Frequency",null,"Relative Frequency","Variability",null,"Frequency",null,"Relative Frequency","Variability",null,"Frequency",null,"Relative Frequency","Variability"]
[12,11,14,21,13,41,23,51,null,null,0,1112,null,1111,{"$f":"COUNTIF($L$7:$L$500,N7)","v":31},{"$f":"O7/$Q$4","v":0.17222222222222222},{"$f":"IF(P7=0,0,(P7*((LOG(P7))/LOG(2))))","v":-0.43704089091237103},null,null,{"$f":"N7","v":1111},{"$f":"COUNTIF(L7:L36,T7)","v":1},{"$f":"U7/(W4-U20)","v":3.3333333333333333E-2},{"$f":"IF(V7=0,0,(V7*((LOG(V7))/LOG(2))))","v":-0.16356301985361729},null,{"$f":"N7","v":1111},{"$f":"COUNTIF(L37:L66,Y7)","v":7},{"$f":"Z7/(AB4-Z20)","v":0.23333333333333334},{"$f":"IF(AA7=0,0,(AA7*((LOG(AA7))/LOG(2))))","v":-0.48989165716187993},null,{"$f":"N7","v":1111},{"$f":"COUNTIF(L67:L96,AD7)","v":9},{"$f":"AE7/(AG4-AE20)","v":0.3},{"$f":"IF(AF7=0,0,(AF7*((LOG(AF7))/LOG(2))))","v":-0.52108967824986185},null,{"$f":"N7","v":1111},{"$f":"COUNTIF(L97:L126,AI7)","v":4},{"$f":"AJ7/(AL4-AJ20)","v":0.13333333333333333},{"$f":"IF(AK7=0,0,(AK7*((LOG(AK7))/LOG(2))))","v":-0.3875854127478025},null,{"$f":"N7","v":1111},{"$f":"COUNTIF(L127:L156,AN7)","v":2},{"$f":"AO7/(AQ4-AO20)","v":6.6666666666666666E-2},{"$f":"IF(AP7=0,0,(AP7*((LOG(AP7))/LOG(2))))","v":-0.26045937304056793},null,{"$f":"N7","v":1111},{"$f":"COUNTIF(L157:L186,AS7)","v":8},{"$f":"AT7/(AV4-AT20)","v":0.26666666666666666},{"$f":"IF(AU7=0,0,(AU7*((LOG(AU7))/LOG(2))))","v":-0.50850415882893829}]
[12,149,14,155,24,167,23,175,null,null,0,1122,null,1112,{"$f":"COUNTIF($L$7:$L$500,N8)","v":75},{"$f":"O8/$Q$4","v":0.41666666666666669},{"$f":"IF(P8=0,0,(P8*((LOG(P8))/LOG(2))))","v":-0.52626433576408083},null,null,{"$f":"N8","v":1112},{"$f":"COUNTIF(L7:L36,T8)","v":12},{"$f":"U8/(W4-U20)","v":0.4},{"$f":"IF(V8=0,0,(V8*((LOG(V8))/LOG(2))))","v":-0.52877123795494496},null,{"$f":"N8","v":1112},{"$f":"COUNTIF(L37:L66,Y8)","v":16},{"$f":"Z8/(AB4-Z20)","v":0.53333333333333333},{"$f":"IF(AA8=0,0,(AA8*((LOG(AA8))/LOG(2))))","v":-0.4836749843245432},null,{"$f":"N8","v":1112},{"$f":"COUNTIF(L67:L96,AD8)","v":9},{"$f":"AE8/(AG4-AE20)","v":0.3},{"$f":"IF(AF8=0,0,(AF8*((LOG(AF8))/LOG(2))))","v":-0.52108967824986185},null,{"$f":"N8","v":1112},{"$f":"COUNTIF(L97:L126,AI8)","v":13},{"$f":"AJ8/(AL4-AJ20)","v":0.43333333333333335},{"$f":"IF(AK8=0,0,(AK8*((LOG(AK8))/LOG(2))))","v":-0.52279538023588479},null,{"$f":"N8","v":1112},{"$f":"COUNTIF(L127:L156,AN8)","v":12},{"$f":"AO8/(AQ4-AO20)","v":0.4},{"$f":"IF(AP8=0,0,(AP8*((LOG(AP8))/LOG(2))))","v":-0.52877123795494496},null,{"$f":"N8","v":1112},{"$f":"COUNTIF(L157:L186,AS8)","v":13},{"$f":"AT8/(AV4-AT20)","v":0.43333333333333335},{"$f":"IF(AU8=0,0,(AU8*((LOG(AU8))/LOG(2))))","v":-0.52279538023588479}]
[12,274,14,280,24,290,23,296,null,null,0,1122,null,1121,{"$f":"COUNTIF($L$7:$L$500,N9)","v":14},{"$f":"O9/$Q$4","v":7.7777777777777779E-2},{"$f":"IF(P9=0,0,(P9*((LOG(P9))/LOG(2))))","v":-0.28657208022116104},null,null,{"$f":"N9","v":1121},{"$f":"COUNTIF(L7:L36,T9)","v":7},{"$f":"U9/(W4-U20)","v":0.23333333333333334},{"$f":"IF(V9=0,0,(V9*((LOG(V9))/LOG(2))))","v":-0.48989165716187993},null,{"$f":"N9","v":1121},{"$f":"COUNTIF(L37:L66,Y9)","v":1},{"$f":"Z9/(AB4-Z20)","v":3.3333333333333333E-2},{"$f":"IF(AA9=0,0,(AA9*((LOG(AA9))/LOG(2))))","v":-0.16356301985361729},null,{"$f":"N9","v":1121},{"$f":"COUNTIF(L67:L96,AD9)","v":1},{"$f":"AE9/(AG4-AE20)","v":3.3333333333333333E-2},{"$f":"IF(AF9=0,0,(AF9*((LOG(AF9))/LOG(2))))","v":-0.16356301985361729},null,{"$f":"N9","v":1121},{"$f":"COUNTIF(L97:L126,AI9)","v":3},{"$f":"AJ9/(AL4-AJ20)","v":0.1},{"$f":"IF(AK9=0,0,(AK9*((LOG(AK9))/LOG(2))))","v":-0.33219280948873625},null,{"$f":"N9","v":1121},{"$f":"COUNTIF(L127:L156,AN9)","v":1},{"$f":"AO9/(AQ4-AO20)","v":3.3333333333333333E-2},{"$f":"IF(AP9=0,0,(AP9*((LOG(AP9))/LOG(2))))","v":-0.16356301985361729},null,{"$f":"N9","v":1121},{"$f":"COUNTIF(L157:L186,AS9)","v":1},{"$f":"AT9/(AV4-AT20)","v":3.3333333333333333E-2},{"$f":"IF(AU9=0,0,(AU9*((LOG(AU9))/LOG(2))))","v":-0.16356301985361729}]
[12,399,23,409,24,416,23,426,null,null,0,1222,null,1122,{"$f":"COUNTIF($L$7:$L$500,N10)","v":42},{"$f":"O10/$Q$4","v":0.23333333333333334},{"$f":"IF(P10=0,0,(P10*((LOG(P10))/LOG(2))))","v":-0.48989165716187993},null,null,{"$f":"N10","v":1122},{"$f":"COUNTIF(L7:L36,T10)","v":6},{"$f":"U10/(W4-U20)","v":0.2},{"$f":"IF(V10=0,0,(V10*((LOG(V10))/LOG(2))))","v":-0.46438561897747244},null,{"$f":"N10","v":1122},{"$f":"COUNTIF(L37:L66,Y10)","v":5},{"$f":"Z10/(AB4-Z20)","v":0.16666666666666666},{"$f":"IF(AA10=0,0,(AA10*((LOG(AA10))/LOG(2))))","v":-0.43082708345352599},null,{"$f":"N10","v":1122},{"$f":"COUNTIF(L67:L96,AD10)","v":7},{"$f":"AE10/(AG4-AE20)","v":0.23333333333333334},{"$f":"IF(AF10=0,0,(AF10*((LOG(AF10))/LOG(2))))","v":-0.48989165716187993},null,{"$f":"N10","v":1122},{"$f":"COUNTIF(L97:L126,AI10)","v":6},{"$f":"AJ10/(AL4-AJ20)","v":0.2},{"$f":"IF(AK10=0,0,(AK10*((LOG(AK10))/LOG(2))))","v":-0.46438561897747244},null,{"$f":"N10","v":1122},{"$f":"COUNTIF(L127:L156,AN10)","v":12},{"$f":"AO10/(AQ4-AO20)","v":0.4},{"$f":"IF(AP10=0,0,(AP10*((LOG(AP10))/LOG(2))))","v":-0.52877123795494496},null,{"$f":"N10","v":1122},{"$f":"COUNTIF(L157:L186,AS10)","v":6},{"$f":"AT10/(AV4-AT20)","v":0.2},{"$f":"IF(AU10=0,0,(AU10*((LOG(AU10))/LOG(2))))","v":-0.46438561897747244}]
[12,526,14,532,13,539,23,550,null,null,0,1112,null,1211,{"$f":"COUNTIF($L$7:$L$500,N11)","v":0},{"$f":"O11/$Q$4","v":0},{"$f":"IF(P11=0,0,(P11*((LOG(P11))/LOG(2))))","v":0},null,null,{"$f":"N11","v":1211},{"$f":"COUNTIF(L7:L36,T11)","v":0},{"$f":"U11/(W4-U20)","v":0},{"$f":"IF(V11=0,0,(V11*((LOG(V11))/LOG(2))))","v":0},null,{"$f":"N11","v":1211},{"$f":"COUNTIF(L37:L66,Y11)","v":0},{"$f":"Z11/(AB4-Z20)","v":0},{"$f":"IF(AA11=0,0,(AA11*((LOG(AA11))/LOG(2))))","v":0},null,{"$f":"N11","v":1211},{"$f":"COUNTIF(L67:L96,AD11)","v":0},{"$f":"AE11/(AG4-AE20)","v":0},{"$f":"IF(AF11=0,0,(AF11*((LOG(AF11))/LOG(2))))","v":0},null,{"$f":"N11","v":1211},{"$f":"COUNTIF(L97:L126,AI11)","v":0},{"$f":"AJ11/(AL4-AJ20)","v":0},{"$f":"IF(AK11=0,0,(AK11*((LOG(AK11))/LOG(2))))","v":0},null,{"$f":"N11","v":1211},{"$f":"COUNTIF(L127:L156,AN11)","v":0},{"$f":"AO11/(AQ4-AO20)","v":0},{"$f":"IF(AP11=0,0,(AP11*((LOG(AP11))/LOG(2))))","v":0},null,{"$f":"N11","v":1211},{"$f":"COUNTIF(L157:L186,AS11)","v":0},{"$f":"AT11/(AV4-AT20)","v":0},{"$f":"IF(AU11=0,0,(AU11*((LOG(AU11))/LOG(2))))","v":0}]
[12,646,14,655,24,671,14,689,null,null,0,1121,null,1212,{"$f":"COUNTIF($L$7:$L$500,N12)","v":4},{"$f":"O12/$Q$4","v":2.2222222222222223E-2},{"$f":"IF(P12=0,0,(P12*((LOG(P12))/LOG(2))))","v":-0.12204117991843723},null,null,{"$f":"N12","v":1212},{"$f":"COUNTIF(L7:L36,T12)","v":1},{"$f":"U12/(W4-U20)","v":3.3333333333333333E-2},{"$f":"IF(V12=0,0,(V12*((LOG(V12))/LOG(2))))","v":-0.16356301985361729},null,{"$f":"N12","v":1212},{"$f":"COUNTIF(L37:L66,Y12)","v":0},{"$f":"Z12/(AB4-Z20)","v":0},{"$f":"IF(AA12=0,0,(AA12*((LOG(AA12))/LOG(2))))","v":0},null,{"$f":"N12","v":1212},{"$f":"COUNTIF(L67:L96,AD12)","v":1},{"$f":"AE12/(AG4-AE20)","v":3.3333333333333333E-2},{"$f":"IF(AF12=0,0,(AF12*((LOG(AF12))/LOG(2))))","v":-0.16356301985361729},null,{"$f":"N12","v":1212},{"$f":"COUNTIF(L97:L126,AI12)","v":2},{"$f":"AJ12/(AL4-AJ20)","v":6.6666666666666666E-2},{"$f":"IF(AK12=0,0,(AK12*((LOG(AK12))/LOG(2))))","v":-0.26045937304056793},null,{"$f":"N12","v":1212},{"$f":"COUNTIF(L127:L156,AN12)","v":0},{"$f":"AO12/(AQ4-AO20)","v":0},{"$f":"IF(AP12=0,0,(AP12*((LOG(AP12))/LOG(2))))","v":0},null,{"$f":"N12","v":1212},{"$f":"COUNTIF(L157:L186,AS12)","v":0},{"$f":"AT12/(AV4-AT20)","v":0},{"$f":"IF(AU12=0,0,(AU12*((LOG(AU12))/LOG(2))))","v":0}]
[12,777,23,792,13,803,23,815,null,null,0,1212,null,1221,{"$f":"COUNTIF($L$7:$L$500,N13)","v":1},{"$f":"O13/$Q$4","v":5.5555555555555558E-3},{"$f":"IF(P13=0,0,(P13*((LOG(P13))/LOG(2))))","v":-4.1621406090720417E-2},null,null,{"$f":"N13","v":1221},{"$f":"COUNTIF(L7:L36,T13)","v":0},{"$f":"U13/(W4-U20)","v":0},{"$f":"IF(V13=0,0,(V13*((LOG(V13))/LOG(2))))","v":0},null,{"$f":"N13","v":1221},{"$f":"COUNTIF(L37:L66,Y13)","v":0},{"$f":"Z13/(AB4-Z20)","v":0},{"$f":"IF(AA13=0,0,(AA13*((LOG(AA13))/LOG(2))))","v":0},null,{"$f":"N13","v":1221},{"$f":"COUNTIF(L67:L96,AD13)","v":0},{"$f":"AE13/(AG4-AE20)","v":0},{"$f":"IF(AF13=0,0,(AF13*((LOG(AF13))/LOG(2))))","v":0},null,{"$f":"N13","v":1221},{"$f":"COUNTIF(L97:L126,AI13)","v":0},{"$f":"AJ13/(AL4-AJ20)","v":0},{"$f":"IF(AK13=0,0,(AK13*((LOG(AK13))/LOG(2))))","v":0},null,{"$f":"N13","v":1221},{"$f":"COUNTIF(L127:L156,AN13)","v":1},{"$f":"AO13/(AQ4-AO20)","v":3.3333333333333333E-2},{"$f":"IF(AP13=0,0,(AP13*((LOG(AP13))/LOG(2))))","v":-0.16356301985361729},null,{"$f":"N13","v":1221},{"$f":"COUNTIF(L157:L186,AS13)","v":0},{"$f":"AT13/(AV4-AT20)","v":0},{"$f":"IF(AU13=0,0,(AU13*((LOG(AU13))/LOG(2))))","v":0}]
[12,908,14,914,24,924,14,939,null,null,0,1121,null,1222,{"$f":"COUNTIF($L$7:$L$500,N14)","v":9},{"$f":"O14/$Q$4","v":0.05},{"$f":"IF(P14=0,0,(P14*((LOG(P14))/LOG(2))))","v":-0.21609640474436814},null,null,{"$f":"N14","v":1222},{"$f":"COUNTIF(L7:L36,T14)","v":3},{"$f":"U14/(W4-U20)","v":0.1},{"$f":"IF(V14=0,0,(V14*((LOG(V14))/LOG(2))))","v":-0.33219280948873625},null,{"$f":"N14","v":1222},{"$f":"COUNTIF(L37:L66,Y14)","v":0},{"$f":"Z14/(AB4-Z20)","v":0},{"$f":"IF(AA14=0,0,(AA14*((LOG(AA14))/LOG(2))))","v":0},null,{"$f":"N14","v":1222},{"$f":"COUNTIF(L67:L96,AD14)","v":3},{"$f":"AE14/(AG4-AE20)","v":0.1},{"$f":"IF(AF14=0,0,(AF14*((LOG(AF14))/LOG(2))))","v":-0.33219280948873625},null,{"$f":"N14","v":1222},{"$f":"COUNTIF(L97:L126,AI14)","v":1},{"$f":"AJ14/(AL4-AJ20)","v":3.3333333333333333E-2},{"$f":"IF(AK14=0,0,(AK14*((LOG(AK14))/LOG(2))))","v":-0.16356301985361729},null,{"$f":"N14","v":1222},{"$f":"COUNTIF(L127:L156,AN14)","v":1},{"$f":"AO14/(AQ4-AO20)","v":3.3333333333333333E-2},{"$f":"IF(AP14=0,0,(AP14*((LOG(AP14))/LOG(2))))","v":-0.16356301985361729},null,{"$f":"N14","v":1222},{"$f":"COUNTIF(L157:L186,AS14)","v":1},{"$f":"AT14/(AV4-AT20)","v":3.3333333333333333E-2},{"$f":"IF(AU14=0,0,(AU14*((LOG(AU14))/LOG(2))))","v":-0.16356301985361729}]
[12,1035,14,1042,24,1052,14,1064,null,null,0,1121,null,2111,{"$f":"COUNTIF($L$7:$L$500,N15)","v":0},{"$f":"O15/$Q$4","v":0},{"$f":"IF(P15=0,0,(P15*((LOG(P15))/LOG(2))))","v":0},null,null,{"$f":"N15","v":2111},{"$f":"COUNTIF(L7:L36,T15)","v":0},{"$f":"U15/(W4-U20)","v":0},{"$f":"IF(V15=0,0,(V15*((LOG(V15))/LOG(2))))","v":0},null,{"$f":"N15","v":2111},{"$f":"COUNTIF(L37:L66,Y15)","v":0},{"$f":"Z15/(AB4-Z20)","v":0},{"$f":"IF(AA15=0,0,(AA15*((LOG(AA15))/LOG(2))))","v":0},null,{"$f":"N15","v":2111},{"$f":"COUNTIF(L67:L96,AD15)","v":0},{"$f":"AE15/(AG4-AE20)","v":0},{"$f":"IF(AF15=0,0,(AF15*((LOG(AF15))/LOG(2))))","v":0},null,{"$f":"N15","v":2111},{"$f":"COUNTIF(L97:L126,AI15)","v":0},{"$f":"AJ15/(AL4-AJ20)","v":0},{"$f":"IF(AK15=0,0,(AK15*((LOG(AK15))/LOG(2))))","v":0},null,{"$f":"N15","v":2111},{"$f":"COUNTIF(L127:L156,AN15)","v":0},{"$f":"AO15/(AQ4-AO20)","v":0},{"$f":"IF(AP15=0,0,(AP15*((LOG(AP15))/LOG(2))))","v":0},null,{"$f":"N15","v":2111},{"$f":"COUNTIF(L157:L186,AS15)","v":0},{"$f":"AT15/(AV4-AT20)","v":0},{"$f":"IF(AU15=0,0,(AU15*((LOG(AU15))/LOG(2))))","v":0}]
[12,1164,14,1173,13,1190,23,1200,null,null,0,1112,null,2112,{"$f":"COUNTIF($L$7:$L$500,N16)","v":2},{"$f":"O16/$Q$4","v":1.1111111111111112E-2},{"$f":"IF(P16=0,0,(P16*((LOG(P16))/LOG(2))))","v":-7.2131701070329707E-2},null,null,{"$f":"N16","v":2112},{"$f":"COUNTIF(L7:L36,T16)","v":0},{"$f":"U16/(W4-U20)","v":0},{"$f":"IF(V16=0,0,(V16*((LOG(V16))/LOG(2))))","v":0},null,{"$f":"N16","v":2112},{"$f":"COUNTIF(L37:L66,Y16)","v":1},{"$f":"Z16/(AB4-Z20)","v":3.3333333333333333E-2},{"$f":"IF(AA16=0,0,(AA16*((LOG(AA16))/LOG(2))))","v":-0.16356301985361729},null,{"$f":"N16","v":2112},{"$f":"COUNTIF(L67:L96,AD16)","v":0},{"$f":"AE16/(AG4-AE20)","v":0},{"$f":"IF(AF16=0,0,(AF16*((LOG(AF16))/LOG(2))))","v":0},null,{"$f":"N16","v":2112},{"$f":"COUNTIF(L97:L126,AI16)","v":0},{"$f":"AJ16/(AL4-AJ20)","v":0},{"$f":"IF(AK16=0,0,(AK16*((LOG(AK16))/LOG(2))))","v":0},null,{"$f":"N16","v":2112},{"$f":"COUNTIF(L127:L156,AN16)","v":1},{"$f":"AO16/(AQ4-AO20)","v":3.3333333333333333E-2},{"$f":"IF(AP16=0,0,(AP16*((LOG(AP16))/LOG(2))))","v":-0.16356301985361729},null,{"$f":"N16","v":2112},{"$f":"COUNTIF(L157:L186,AS16)","v":0},{"$f":"AT16/(AV4-AT20)","v":0},{"$f":"IF(AU16=0,0,(AU16*((LOG(AU16))/LOG(2))))","v":0}]
[12,1300,14,1309,24,1319,14,1336,null,null,0,1121,null,2121,{"$f":"COUNTIF($L$7:$L$500,N17)","v":0},{"$f":"O17/$Q$4","v":0},{"$f":"IF(P17=0,0,(P17*((LOG(P17))/LOG(2))))","v":0},null,null,{"$f":"N17","v":2121},{"$f":"COUNTIF(L7:L36,T17)","v":0},{"$f":"U17/(W4-U20)","v":0},{"$f":"IF(V17=0,0,(V17*((LOG(V17))/LOG(2))))","v":0},null,{"$f":"N17","v":2121},{"$f":"COUNTIF(L37:L66,Y17)","v":0},{"$f":"Z17/(AB4-Z20)","v":0},{"$f":"IF(AA17=0,0,(AA17*((LOG(AA17))/LOG(2))))","v":0},null,{"$f":"N17","v":2121},{"$f":"COUNTIF(L67:L96,AD17)","v":0},{"$f":"AE17/(AG4-AE20)","v":0},{"$f":"IF(AF17=0,0,(AF17*((LOG(AF17))/LOG(2))))","v":0},null,{"$f":"N17","v":2121},{"$f":"COUNTIF(L97:L126,AI17)","v":0},{"$f":"AJ17/(AL4-AJ20)","v":0},{"$f":"IF(AK17=0,0,(AK17*((LOG(AK17))/LOG(2))))","v":0},null,{"$f":"N17","v":2121},{"$f":"COUNTIF(L127:L156,AN17)","v":0},{"$f":"AO17/(AQ4-AO20)","v":0},{"$f":"IF(AP17=0,0,(AP17*((LOG(AP17))/LOG(2))))","v":0},null,{"$f":"N17","v":2121},{"$f":"COUNTIF(L157:L186,AS17)","v":0},{"$f":"AT17/(AV4-AT20)","v":0},{"$f":"IF(AU17=0,0,(AU17*((LOG(AU17))/LOG(2))))","v":0}]
[12,1430,14,1436,13,1447,23,1458,null,null,0,1112,null,2122,{"$f":"COUNTIF($L$7:$L$500,N18)","v":0},{"$f":"O18/$Q$4","v":0},{"$f":"IF(P18=0,0,(P18*((LOG(P18))/LOG(2))))","v":0},null,null,{"$f":"N18","v":2122},{"$f":"COUNTIF(L7:L36,T18)","v":0},{"$f":"U18/(W4-U20)","v":0},{"$f":"IF(V18=0,0,(V18*((LOG(V18))/LOG(2))))","v":0},null,{"$f":"N18","v":2122},{"$f":"COUNTIF(L37:L66,Y18)","v":0},{"$f":"Z18/(AB4-Z20)","v":0},{"$f":"IF(AA18=0,0,(AA18*((LOG(AA18))/LOG(2))))","v":0},null,{"$f":"N18","v":2122},{"$f":"COUNTIF(L67:L96,AD18)","v":0},{"$f":"AE18/(AG4-AE20)","v":0},{"$f":"IF(AF18=0,0,(AF18*((LOG(AF18))/LOG(2))))","v":0},null,{"$f":"N18","v":2122},{"$f":"COUNTIF(L97:L126,AI18)","v":0},{"$f":"AJ18/(AL4-AJ20)","v":0},{"$f":"IF(AK18=0,0,(AK18*((LOG(AK18))/LOG(2))))","v":0},null,{"$f":"N18","v":2122},{"$f":"COUNTIF(L127:L156,AN18)","v":0},{"$f":"AO18/(AQ4-AO20)","v":0},{"$f":"IF(AP18=0,0,(AP18*((LOG(AP18))/LOG(2))))","v":0},null,{"$f":"N18","v":2122},{"$f":"COUNTIF(L157:L186,AS18)","v":0},{"$f":"AT18/(AV4-AT20)","v":0},{"$f":"IF(AU18=0,0,(AU18*((LOG(AU18))/LOG(2))))","v":0}]
[12,1558,14,1568,24,1579,14,1592,null,null,0,1121,null,2211,{"$f":"COUNTIF($L$7:$L$500,N19)","v":1},{"$f":"O19/$Q$4","v":5.5555555555555558E-3},{"$f":"IF(P19=0,0,(P19*((LOG(P19))/LOG(2))))","v":-4.1621406090720417E-2},null,null,{"$f":"N19","v":2211},{"$f":"COUNTIF(L7:L36,T19)","v":0},{"$f":"U19/(W4-U20)","v":0},{"$f":"IF(V19=0,0,(V19*((LOG(V19))/LOG(2))))","v":0},null,{"$f":"N19","v":2211},{"$f":"COUNTIF(L37:L66,Y19)","v":0},{"$f":"Z19/(AB4-Z20)","v":0},{"$f":"IF(AA19=0,0,(AA19*((LOG(AA19))/LOG(2))))","v":0},null,{"$f":"N19","v":2211},{"$f":"COUNTIF(L67:L96,AD19)","v":0},{"$f":"AE19/(AG4-AE20)","v":0},{"$f":"IF(AF19=0,0,(AF19*((LOG(AF19))/LOG(2))))","v":0},null,{"$f":"N19","v":2211},{"$f":"COUNTIF(L97:L126,AI19)","v":0},{"$f":"AJ19/(AL4-AJ20)","v":0},{"$f":"IF(AK19=0,0,(AK19*((LOG(AK19))/LOG(2))))","v":0},null,{"$f":"N19","v":2211},{"$f":"COUNTIF(L127:L156,AN19)","v":0},{"$f":"AO19/(AQ4-AO20)","v":0},{"$f":"IF(AP19=0,0,(AP19*((LOG(AP19))/LOG(2))))","v":0},null,{"$f":"N19","v":2211},{"$f":"COUNTIF(L157:L186,AS19)","v":1},{"$f":"AT19/(AV4-AT20)","v":3.3333333333333333E-2},{"$f":"IF(AU19=0,0,(AU19*((LOG(AU19))/LOG(2))))","v":-0.16356301985361729}]
[12,1705,23,1719,24,1725,23,1727,null,null,0,1222,null,2212,{"$f":"COUNTIF($L$7:$L$500,N20)","v":0},{"$f":"O20/$Q$4","v":0},{"$f":"IF(P20=0,0,(P20*((LOG(P20))/LOG(2))))","v":0},null,null,{"$f":"N20","v":2212},{"$f":"COUNTIF(L7:L36,T20)","v":0},null,null,null,{"$f":"N20","v":2212},{"$f":"COUNTIF(L37:L66,Y20)","v":0},null,null,null,{"$f":"N20","v":2212},{"$f":"COUNTIF(L67:L96,AD20)","v":0},null,null,null,{"$f":"N20","v":2212},{"$f":"COUNTIF(L97:L126,AI20)","v":0},null,null,null,{"$f":"N20","v":2212},{"$f":"COUNTIF(L127:L156,AN20)","v":0},null,null,null,{"$f":"N20","v":2212},{"$f":"COUNTIF(L157:L186,AS20)","v":0}]
[12,1820,14,1825,13,1842,23,1851,null,null,0,1112,null,2221,{"$f":"COUNTIF($L$7:$L$500,N21)","v":1},{"$f":"O21/$Q$4","v":5.5555555555555558E-3},{"$f":"IF(P21=0,0,(P21*((LOG(P21))/LOG(2))))","v":-4.1621406090720417E-2},null,null,{"$f":"N21","v":2221},{"$f":"COUNTIF(L7:L36,T21)","v":0},{"$f":"U21/(W4-U20)","v":0},{"$f":"IF(V21=0,0,(V21*((LOG(V21))/LOG(2))))","v":0},null,{"$f":"N21","v":2221},{"$f":"COUNTIF(L37:L66,Y21)","v":0},{"$f":"Z21/(AB4-Z20)","v":0},{"$f":"IF(AA21=0,0,(AA21*((LOG(AA21))/LOG(2))))","v":0},null,{"$f":"N21","v":2221},{"$f":"COUNTIF(L67:L96,AD21)","v":0},{"$f":"AE21/(AG4-AE20)","v":0},{"$f":"IF(AF21=0,0,(AF21*((LOG(AF21))/LOG(2))))","v":0},null,{"$f":"N21","v":2221},{"$f":"COUNTIF(L97:L126,AI21)","v":1},{"$f":"AJ21/(AL4-AJ20)","v":3.3333333333333333E-2},{"$f":"IF(AK21=0,0,(AK21*((LOG(AK21))/LOG(2))))","v":-0.16356301985361729},null,{"$f":"N21","v":2221},{"$f":"COUNTIF(L127:L156,AN21)","v":0},{"$f":"AO21/(AQ4-AO20)","v":0},{"$f":"IF(AP21=0,0,(AP21*((LOG(AP21))/LOG(2))))","v":0},null,{"$f":"N21","v":2221},{"$f":"COUNTIF(L157:L186,AS21)","v":0},{"$f":"AT21/(AV4-AT20)","v":0},{"$f":"IF(AU21=0,0,(AU21*((LOG(AU21))/LOG(2))))","v":0}]
[12,1945,14,1953,24,1963,23,1971,null,null,0,1122,null,2222,{"$f":"COUNTIF($L$7:$L$500,N22)","v":0},{"$f":"O22/$Q$4","v":0},{"$f":"IF(P22=0,0,(P22*((LOG(P22))/LOG(2))))","v":0},null,null,{"$f":"N22","v":2222},{"$f":"COUNTIF(L7:L36,T22)","v":0},{"$f":"U22/(W4-U20)","v":0},{"$f":"IF(V22=0,0,(V22*((LOG(V22))/LOG(2))))","v":0},null,{"$f":"N22","v":2222},{"$f":"COUNTIF(L37:L66,Y22)","v":0},{"$f":"Z22/(AB4-Z20)","v":0},{"$f":"IF(AA22=0,0,(AA22*((LOG(AA22))/LOG(2))))","v":0},null,{"$f":"N22","v":2222},{"$f":"COUNTIF(L67:L96,AD22)","v":0},{"$f":"AE22/(AG4-AE20)","v":0},{"$f":"IF(AF22=0,0,(AF22*((LOG(AF22))/LOG(2))))","v":0},null,{"$f":"N22","v":2222},{"$f":"COUNTIF(L97:L126,AI22)","v":0},{"$f":"AJ22/(AL4-AJ20)","v":0},{"$f":"IF(AK22=0,0,(AK22*((LOG(AK22))/LOG(2))))","v":0},null,{"$f":"N22","v":2222},{"$f":"COUNTIF(L127:L156,AN22)","v":0},{"$f":"AO22/(AQ4-AO20)","v":0},{"$f":"IF(AP22=0,0,(AP22*((LOG(AP22))/LOG(2))))","v":0},null,{"$f":"N22","v":2222},{"$f":"COUNTIF(L157:L186,AS22)","v":0},{"$f":"AT22/(AV4-AT20)","v":0},{"$f":"IF(AU22=0,0,(AU22*((LOG(AU22))/LOG(2))))","v":0}]
[12,2070,14,2077,13,2090,23,2104,null,null,0,1112,null,null,null,{"$f":"SUM(P7:P22)","v":1.0000000000000002},{"$f":"-SUM(Q7:Q22)","v":2.2749024680647891},null,null,null,null,{"$f":"SUM(V7:V22)","v":1},{"$f":"-SUM(W7:W22)","v":2.1423673632902682},null,null,null,{"$f":"SUM(AA7:AA22)","v":0.99999999999999989},{"$f":"-SUM(AB7:AB22)","v":1.7315197646471836},null,null,null,{"$f":"SUM(AF7:AF22)","v":1},{"$f":"-SUM(AG7:AG22)","v":2.1913898628575743},null,null,null,{"$f":"SUM(AK7:AK22)","v":1},{"$f":"-SUM(AL7:AL22)","v":2.2945446341976985},null,null,null,{"$f":"SUM(AP7:AP22)","v":1},{"$f":"-SUM(AQ7:AQ22)","v":1.9722539283649272},null,null,null,{"$f":"SUM(AU7:AU22)","v":1},{"$f":"-SUM(AV7:AV22)","v":1.9863742176031476}]
[12,2198,14,2204,24,2213,14,2229,null,null,0,1121,null,null,null,"U=",{"$f":"Q23/(LOG(Q4)/LOG(2))","v":0.30365017023348789},null,null,null,null,"U1=",{"$f":"W23/(LOG(W4)/LOG(2))","v":0.4366038576869038},null,null,null,"U2=",{"$f":"AB23/(LOG(AB4)/LOG(2))","v":0.35287515197441499},null,null,null,"U3=",{"$f":"AG23/(LOG(AG4)/LOG(2))","v":0.44659440029471725},null,null,null,"U4=",{"$f":"AL23/(LOG(AL4)/LOG(2))","v":0.46761683177758823},null,null,null,"U5=",{"$f":"AQ23/(LOG(AQ4)/LOG(2))","v":0.40193558220556613},null,null,null,"U6=",{"$f":"AV23/(LOG(AV4)/LOG(2))","v":0.40481322721580082}]
[12,2329,14,2352,24,2362,23,2367,null,null,0,1122]
[12,2466,14,2475,13,2492,23,2509,null,null,0,1112]
[12,2610,14,2618,13,2629,23,2639,null,null,0,1112,null,"Total Target Seq"]
[12,2738,14,2760,24,2769,23,2777,null,null,0,1122,null,{"$f":"COUNTIF(L7:L186,G3)","v":0},null,30,30,30,30,30,30]
[12,2892,14,2901,13,2914,23,2923,null,null,0,1112,null,null,null,"% of reinforcement given in 6 equal intervals based on number of trials "]
[12,3014,14,3031,13,3039,23,3048,null,null,0,1112,null,null,null,"%_1","%_2","%_3","%_4","%_5","%_6"]
[12,3146,14,3156,24,3165,23,3173,null,null,0,1122,null,null,"target sequence",{"$f":"$G$3","v":2212},{"$f":"$G$3","v":2212},{"$f":"$G$3","v":2212},{"$f":"$G$3","v":2212},{"$f":"$G$3","v":2212},{"$f":"$G$3","v":2212}]
[12,3270,14,3288,13,3296,23,3310,null,null,0,1112,null,null,"total reinforcement",{"$f":"U20","v":0},{"$f":"Z20","v":0},{"$f":"AE20","v":0},{"$f":"AJ20","v":0},{"$f":"AO20","v":0},{"$f":"AT20","v":0}]
[12,3426,23,3435,24,3443,23,3447,null,null,0,1222,null,null,"% target"]
[12,3538,14,3542,13,3549,14,3571,null,null,0,1111,null,null,"CCRF"]
[12,3669,14,3675,24,3685,14,3695,null,null,0,1121,null,null,"% CCRf"]
[12,3792,14,3798,13,3807,23,3817,null,null,0,1112,null,null,"average response rate",{"$f":"H36/P28","v":127.23333333333333},{"$f":"(H66-H36)/Q28","v":126.66666666666667},{"$f":"(H96-H66)/R28","v":135.43333333333334},{"$f":"(H126-H96)/S28","v":142.26666666666668},{"$f":"(H156-H126)/T28","v":129.63333333333333},{"$f":"(H186-H156)/U28","v":134.1}]
[12,3915,14,3922,13,3930,14,3945,null,null,0,1111]
[12,4044,14,4049,24,4061,23,4068,null,null,0,1122]
[12,4166,14,4171,13,4179,23,4189,null,null,0,1112]
[12,4292,14,4297,13,4304,14,4317,null,null,0,1111]
[12,4414,14,4423,24,4436,23,4443,null,null,0,1122]
[12,4536,14,4541,13,4551,23,4560,null,null,0,1112]
[12,4663,14,4667,13,4672,14,4681,null,null,0,1111]
[21,4799,12,4809,13,4818,23,4835,null,null,0,2112]
[12,4932,14,4942,13,4955,23,4964,null,null,0,1112]
[12,5061,14,5071,24,5083,23,5088,null,null,0,1122]
[12,5187,14,5192,13,5199,23,5210,null,null,0,1112]
[12,5310,14,5315,13,5322,23,5332,null,null,0,1112]
[12,5426,14,5431,13,5436,23,5446,null,null,0,1112]
[12,5544,14,5548,13,5553,23,5564,null,null,0,1112]
[12,5663,14,5667,13,5672,14,5680,null,null,0,1111]
[12,5781,14,5786,13,5791,23,5804,null,null,0,1112]
[12,5905,14,5909,13,5917,23,5936,null,null,0,1112]
[12,6056,14,6062,13,6070,23,6080,null,null,0,1112]
[12,6183,14,6190,24,6201,23,6208,null,null,0,1122]
[12,6373,14,6378,24,6390,14,6403,null,null,0,1121]
[12,6500,14,6506,13,6513,23,6522,null,null,0,1112]
[12,6624,14,6633,24,6643,23,6650,null,null,0,1122]
[12,6755,14,6760,13,6767,23,6777,null,null,0,1112]
[12,6878,14,6883,13,6890,23,6902,null,null,0,1112]
[12,7001,14,7005,13,7010,14,7018,null,null,0,1111]
[12,7115,14,7130,13,7135,23,7152,null,null,0,1112]
[12,7251,14,7255,13,7260,14,7265,null,null,0,1111]
[12,7363,14,7367,13,7374,23,7384,null,null,0,1112]
[12,7480,14,7484,13,7489,14,7496,null,null,0,1111]
[12,7596,14,7602,13,7606,23,7617,null,null,0,1112]
[12,7714,14,7718,13,7722,14,7730,null,null,0,1111]
[12,7828,14,7833,13,7838,23,7848,null,null,0,1112]
[12,7946,14,7955,24,7973,23,7981,null,null,0,1122]
[12,8081,14,8086,13,8103,23,8120,null,null,0,1112]
[12,8218,14,8223,13,8230,23,8243,null,null,0,1112]
[12,8342,23,8361,24,8365,23,8373,null,null,0,1222]
[12,8475,14,8482,13,8498,23,8508,null,null,0,1112]
[12,8597,14,8604,24,8613,14,8626,null,null,0,1121]
[12,8726,14,8733,24,8746,23,8753,null,null,0,1122]
[12,8854,14,8859,13,8868,23,8879,null,null,0,1112]
[12,8972,14,8976,13,8981,14,8988,null,null,0,1111]
[12,9086,14,9090,13,9094,14,9101,null,null,0,1111]
[12,9202,14,9207,13,9217,14,9226,null,null,0,1111]
[12,9326,14,9335,24,9347,23,9354,null,null,0,1122]
[12,9467,14,9472,13,9477,14,9499,null,null,0,1111]
[12,9612,14,9617,13,9622,14,9635,null,null,0,1111]
[12,9732,14,9736,13,9744,23,9758,null,null,0,1112]
[12,9858,14,9863,13,9867,14,9872,null,null,0,1111]
[12,9976,14,9980,13,9985,14,9990,null,null,0,1111]
[12,10091,14,10096,13,10102,23,10113,null,null,0,1112]
[12,10313,23,10327,24,10334,23,10341,null,null,0,1222]
[12,10438,14,10452,13,10464,23,10485,null,null,0,1112]
[12,10589,23,10610,13,10631,23,10641,null,null,0,1212]
[12,10750,14,10760,13,10770,23,10781,null,null,0,1112]
[12,10902,14,10911,24,10924,23,10938,null,null,0,1122]
[12,11041,14,11060,24,11072,23,11078,null,null,0,1122]
[12,11241,14,11246,24,11260,23,11269,null,null,0,1122]
[12,11368,14,11376,13,11385,14,11393,null,null,0,1111]
[12,11491,23,11516,24,11524,23,11532,null,null,0,1222]
[12,11647,14,11657,24,11670,23,11680,null,null,0,1122]
[12,11776,14,11785,13,11802,23,11817,null,null,0,1112]
[12,11917,23,11935,13,11948,23,11961,null,null,0,1212]
[12,12066,14,12075,13,12093,23,12104,null,null,0,1112]
[12,12200,14,12209,24,12224,23,12231,null,null,0,1122]
[12,12333,14,12338,13,12346,23,12356,null,null,0,1112]
[12,12456,14,12465,13,12475,23,12489,null,null,0,1112]
[12,12620,14,12628,24,12639,23,12647,null,null,0,1122]
[12,12771,23,12788,13,12801,23,12813,null,null,0,1212]
[12,12934,14,12939,13,12961,23,12973,null,null,0,1112]
[12,13080,14,13087,24,13103,14,13112,null,null,0,1121]
[12,13283,14,13289,13,13298,23,13311,null,null,0,1112]
[12,13419,14,13430,24,13443,23,13450,null,null,0,1122]
[12,13564,14,13572,24,13585,14,13595,null,null,0,1121]
[12,13723,14,13732,24,13746,23,13753,null,null,0,1122]
[12,13871,14,13879,24,13890,23,13897,null,null,0,1122]
[12,14021,23,14039,24,14046,23,14053,null,null,0,1222]
[12,14157,14,14162,13,14171,23,14182,null,null,0,1112]
[12,14278,14,14283,13,14288,23,14299,null,null,0,1112]
[12,14405,14,14409,13,14416,23,14430,null,null,0,1112]
[12,14529,14,14534,13,14539,14,14546,null,null,0,1111]
[12,14671,14,14672,13,14677,14,14690,null,null,0,1111]
[12,14793,14,14800,13,14813,23,14827,null,null,0,1112]
[12,14934,14,14939,13,14944,23,14954,null,null,0,1112]
[12,15061,14,15066,13,15072,23,15087,null,null,0,1112]
[12,15196,14,15201,13,15213,23,15224,null,null,0,1112]
[12,15316,14,15329,24,15343,14,15354,null,null,0,1121]
[21,15469,21,15521,22,15533,14,15548,null,null,0,2221]
[12,15649,14,15653,13,15658,14,15662,null,null,0,1111]
[12,15783,14,15798,24,15811,23,15819,null,null,0,1122]
[12,15923,14,15927,13,15932,14,15948,null,null,0,1111]
[12,16067,14,16072,13,16080,23,16093,null,null,0,1112]
[12,16211,14,16216,13,16223,23,16236,null,null,0,1112]
[12,16349,14,16355,13,16362,23,16373,null,null,0,1112]
[12,16464,14,16472,24,16484,23,16489,null,null,0,1122]
[12,16587,14,16594,24,16604,23,16611,null,null,0,1122]
[12,16723,14,16728,24,16744,23,16751,null,null,0,1122]
[21,16869,12,16882,13,16890,23,16902,null,null,0,2112]
[12,17000,23,17017,24,17027,23,17037,null,null,0,1222]
[12,17134,14,17139,13,17144,23,17155,null,null,0,1112]
[12,17248,14,17258,24,17268,14,17280,null,null,0,1121]
[12,17380,14,17385,13,17390,23,17400,null,null,0,1112]
[12,17498,14,17510,13,17514,14,17522,null,null,0,1111]
[12,17626,14,17635,24,17645,23,17652,null,null,0,1122]
[12,17755,23,17770,24,17776,14,17785,null,null,0,1221]
[12,17887,14,17891,24,17901,23,17908,null,null,0,1122]
[12,18012,14,18020,24,18031,23,18036,null,null,0,1122]
[12,18133,14,18138,13,18152,23,18162,null,null,0,1112]
[12,18267,14,18276,13,18291,23,18301,null,null,0,1112]
[12,18402,14,18411,13,18433,23,18442,null,null,0,1112]
[12,18547,14,18559,13,18568,23,18582,null,null,0,1112]
[12,18680,14,18685,13,18689,14,18698,null,null,0,1111]
[12,18798,14,18808,24,18819,23,18826,null,null,0,1122]
[12,18928,14,18936,24,18950,23,18957,null,null,0,1122]
[12,19060,14,19065,13,19073,23,19082,null,null,0,1112]
[12,19192,14,19197,13,19204,23,19217,null,null,0,1112]
[12,19319,14,19327,24,19337,23,19344,null,null,0,1122]
[12,19440,14,19447,24,19456,23,19464,null,null,0,1122]
[12,19562,14,19568,13,19575,23,19586,null,null,0,1112]
[12,19687,14,19695,24,19705,23,19712,null,null,0,1122]
[12,19812,14,19817,24,19832,23,19837,null,null,0,1122]
[12,19932,14,19941,13,19951,23,19961,null,null,0,1112]
[12,20056,14,20064,13,20073,23,20086,null,null,0,1112]
[12,20184,14,20192,24,20202,14,20212,null,null,0,1121]
[12,20313,14,20318,13,20323,14,20331,null,null,0,1111]
[12,20428,14,20435,13,20453,23,20465,null,null,0,1112]
[12,20564,14,20588,24,20600,23,20605,null,null,0,1122]
[12,20703,14,20707,13,20712,14,20720,null,null,0,1111]
[12,20829,14,20834,13,20841,23,20854,null,null,0,1112]
[12,20953,14,20958,13,20962,14,20971,null,null,0,1111]
[12,21094,14,21099,13,21103,23,21114,null,null,0,1112]
[12,21214,14,21219,13,21223,14,21228,null,null,0,1111]
[12,21324,14,21338,13,21346,23,21360,null,null,0,1112]
[12,21456,14,21460,13,21465,14,21470,null,null,0,1111]
[12,21566,14,21581,13,21589,23,21602,null,null,0,1112]
[12,21726,14,21734,24,21749,23,21754,null,null,0,1122]
[12,21858,14,21862,13,21868,23,21887,null,null,0,1112]
[12,21994,14,22003,24,22014,23,22023,null,null,0,1122]
[12,22122,14,22127,13,22140,23,22150,null,null,0,1112]
[12,22250,14,22256,13,22260,14,22267,null,null,0,1111]
[12,22385,14,22390,24,22411,23,22418,null,null,0,1122]
[12,22519,14,22523,13,22528,14,22535,null,null,0,1111]
[12,22643,14,22659,24,22669,23,22673,null,null,0,1122]
[12,22765,14,22770,13,22775,14,22784,null,null,0,1111]
[21,22900,21,22902,11,22914,12,22922,null,null,0,2211]
[12,23026,14,23030,13,23038,23,23048,null,null,0,1112]
[12,23149,14,23153,24,23167,23,23174,null,null,0,1122]
[12,23320,14,23328,13,23337,23,23350,null,null,0,1112]
[12,23453,14,23465,13,23505,23,23519,null,null,0,1112]
[12,23685,23,23702,24,23710,23,23717,null,null,0,1222]
[12,23837,14,23842,13,23850,23,23860,null,null,0,1112]

{"sheet":"!2011-07-30_09h43m.Subject 53","index":5,"n_rows":190,"n_cols":48,"rows_kept":190,"cut":false,"hidden":false,"merged":[[4,39,4,42],[5,39,5,40],[4,44,4,47],[5,44,5,45],[4,24,4,27],[5,24,5,25],[4,29,4,32],[5,29,5,30],[4,34,4,37],[5,34,5,35],[1,1,1,2],[5,13,5,14],[26,13,26,14],[27,13,27,14],[4,19,4,22],[5,19,5,20]]}
["Report for:!2011-07-30_09h43m.Subject 53"]
["Date","2011-07-30",null,null,null,"Group","Phase 3 Any"]
["Hen",53,null,null,null,"Correct Sequence",{"$f":"Start!J2","v":2212},null,null,null,null,null,null,null,null,"Total Sequences in Data",{"$f":"4994-COUNTBLANK(L7:L5000)","v":184},null,null,null,null,"Total Sequences in Block Data",{"$f":"COUNTA(L7:L37)","v":31},null,null,null,"Total Sequences in Block Data",{"$f":"COUNTA(L38:L67)","v":30},null,null,null,"Total Sequences in Block Data",{"$f":"COUNTA(L68:L98)","v":31},null,null,null,"Total Sequences in Block Data",{"$f":"COUNTA(L99:L129)","v":31},null,null,null,"Total Sequences in Block Data",{"$f":"COUNTA(L130:L159)","v":30},null,null,null,"Total Sequences in Block Data",{"$f":"COUNTA(L160:L190)","v":31}]
["Program","One",null,null,null,null,null,null,null,null,null,null,null,null,null,"Total Sequences in Summary",{"$f":"SUM(O7:O22)","v":184},null,null,null,null,"Total Sequences in Block Summary",{"$f":"SUM(U7:U22)","v":31},null,null,null,"Total Sequences in Block Summary",{"$f":"SUM(Z7:Z22)","v":30},null,null,null,"Total Sequences in Block Summary",{"$f":"SUM(AE7:AE22)","v":31},null,null,null,"Total Sequences in Block Summary",{"$f":"SUM(AJ7:AJ22)","v":31},null,null,null,"Total Sequences in Block Summary",{"$f":"SUM(AO7:AO22)","v":30},null,null,null,"Total Sequences in Block Summary",{"$f":"SUM(AT7:AT22)","v":31}]
[null,null,null,null,null,null,null,null,null,null,null,null,null,null,null,null,null,null,null,"Block 1",null,null,null,null,"Block 2",null,null,null,null,"Block 3",null,null,null,null,"Block 4",null,null,null,null,"Block 5",null,null,null,null,"Block 6"]
["Sequence\nComponent\n1","Time\n1","Sequence\nComponent\n2","Time\n2","Sequence\nComponent\n3","Time\n3","Sequence\nComponent\n4","Time\n4","Sequence\nComponent\n5","Time\n5","Correct?\n0=No 1=Yes","Sequence",null,"Frequency",null,"Relative Frequency","Variability",null,null,"Frequency",null,"Relative Frequency","Variability",null,"Frequency",null,"Relative Frequency","Variability",null,"Frequency",null,"Relative Frequency","Variability",null,"Frequency",null,"Relative Frequency","Variability",null,"Frequency",null,"Relative Frequency","Variability",null,"Frequency",null,"Relative Frequency","Variability"]
[12,7,14,16,24,29,14,43,null,null,0,1121,null,1111,{"$f":"COUNTIF($L$7:$L$500,N7)","v":49},{"$f":"O7/$Q$4","v":0.26630434782608697},{"$f":"IF(P7=0,0,(P7*((LOG(P7))/LOG(2))))","v":-0.50833561676711103},null,null,{"$f":"N7","v":1111},{"$f":"COUNTIF(L7:L37,T7)","v":3},{"$f":"U7/(W4-U20)","v":9.6774193548387094E-2},{"$f":"IF(V7=0,0,(V7*((LOG(V7))/LOG(2))))","v":-0.32605488480635986},null,{"$f":"N7","v":1111},{"$f":"COUNTIF(L38:L67,Y7)","v":5},{"$f":"Z7/(AB4-Z20)","v":0.16666666666666666},{"$f":"IF(AA7=0,0,(AA7*((LOG(AA7))/LOG(2))))","v":-0.43082708345352599},null,{"$f":"N7","v":1111},{"$f":"COUNTIF(L68:L98,AD7)","v":8},{"$f":"AE7/(AG4-AE20)","v":0.25806451612903225},{"$f":"IF(AF7=0,0,(AF7*((LOG(AF7))/LOG(2))))","v":-0.50430872526112902},null,{"$f":"N7","v":1111},{"$f":"COUNTIF(L99:L129,AI7)","v":14},{"$f":"AJ7/(AL4-AJ20)","v":0.45161290322580644},{"$f":"IF(AK7=0,0,(AK7*((LOG(AK7))/LOG(2))))","v":-0.51792836892289662},null,{"$f":"N7","v":1111},{"$f":"COUNTIF(L130:L159,AN7)","v":11},{"$f":"AO7/(AQ4-AO20)","v":0.36666666666666664},{"$f":"IF(AP7=0,0,(AP7*((LOG(AP7))/LOG(2))))","v":-0.53073495822278116},null,{"$f":"N7","v":1111},{"$f":"COUNTIF(L160:L190,AS7)","v":8},{"$f":"AT7/(AV4-AT20)","v":0.25806451612903225},{"$f":"IF(AU7=0,0,(AU7*((LOG(AU7))/LOG(2))))","v":-0.50430872526112902}]
[12,145,14,151,24,164,23,171,null,null,0,1122,null,1112,{"$f":"COUNTIF($L$7:$L$500,N8)","v":79},{"$f":"O8/$Q$4","v":0.42934782608695654},{"$f":"IF(P8=0,0,(P8*((LOG(P8))/LOG(2))))","v":-0.52371040990496132},null,null,{"$f":"N8","v":1112},{"$f":"COUNTIF(L7:L37,T8)","v":12},{"$f":"U8/(W4-U20)","v":0.38709677419354838},{"$f":"IF(V8=0,0,(V8*((LOG(V8))/LOG(2))))","v":-0.5300259908383429},null,{"$f":"N8","v":1112},{"$f":"COUNTIF(L38:L67,Y8)","v":19},{"$f":"Z8/(AB4-Z20)","v":0.6333333333333333},{"$f":"IF(AA8=0,0,(AA8*((LOG(AA8))/LOG(2))))","v":-0.41734328537112425},null,{"$f":"N8","v":1112},{"$f":"COUNTIF(L68:L98,AD8)","v":19},{"$f":"AE8/(AG4-AE20)","v":0.61290322580645162},{"$f":"IF(AF8=0,0,(AF8*((LOG(AF8))/LOG(2))))","v":-0.43287442393298403},null,{"$f":"N8","v":1112},{"$f":"COUNTIF(L99:L129,AI8)","v":10},{"$f":"AJ8/(AL4-AJ20)","v":0.32258064516129031},{"$f":"IF(AK8=0,0,(AK8*((LOG(AK8))/LOG(2))))","v":-0.52653813403210092},null,{"$f":"N8","v":1112},{"$f":"COUNTIF(L130:L159,AN8)","v":8},{"$f":"AO8/(AQ4-AO20)","v":0.26666666666666666},{"$f":"IF(AP8=0,0,(AP8*((LOG(AP8))/LOG(2))))","v":-0.50850415882893829},null,{"$f":"N8","v":1112},{"$f":"COUNTIF(L160:L190,AS8)","v":11},{"$f":"AT8/(AV4-AT20)","v":0.35483870967741937},{"$f":"IF(AU8=0,0,(AU8*((LOG(AU8))/LOG(2))))","v":-0.53040037449178568}]
[12,267,14,287,13,313,23,328,null,null,0,1112,null,1121,{"$f":"COUNTIF($L$7:$L$500,N9)","v":17},{"$f":"O9/$Q$4","v":9.2391304347826081E-2},{"$f":"IF(P9=0,0,(P9*((LOG(P9))/LOG(2))))","v":-0.31746567908539913},null,null,{"$f":"N9","v":1121},{"$f":"COUNTIF(L7:L37,T9)","v":5},{"$f":"U9/(W4-U20)","v":0.16129032258064516},{"$f":"IF(V9=0,0,(V9*((LOG(V9))/LOG(2))))","v":-0.42455938959669559},null,{"$f":"N9","v":1121},{"$f":"COUNTIF(L38:L67,Y9)","v":3},{"$f":"Z9/(AB4-Z20)","v":0.1},{"$f":"IF(AA9=0,0,(AA9*((LOG(AA9))/LOG(2))))","v":-0.33219280948873625},null,{"$f":"N9","v":1121},{"$f":"COUNTIF(L68:L98,AD9)","v":2},{"$f":"AE9/(AG4-AE20)","v":6.4516129032258063E-2},{"$f":"IF(AF9=0,0,(AF9*((LOG(AF9))/LOG(2))))","v":-0.25510943937979835},null,{"$f":"N9","v":1121},{"$f":"COUNTIF(L99:L129,AI9)","v":1},{"$f":"AJ9/(AL4-AJ20)","v":3.2258064516129031E-2},{"$f":"IF(AK9=0,0,(AK9*((LOG(AK9))/LOG(2))))","v":-0.15981278420602821},null,{"$f":"N9","v":1121},{"$f":"COUNTIF(L130:L159,AN9)","v":5},{"$f":"AO9/(AQ4-AO20)","v":0.16666666666666666},{"$f":"IF(AP9=0,0,(AP9*((LOG(AP9))/LOG(2))))","v":-0.43082708345352599},null,{"$f":"N9","v":1121},{"$f":"COUNTIF(L160:L190,AS9)","v":1},{"$f":"AT9/(AV4-AT20)","v":3.2258064516129031E-2},{"$f":"IF(AU9=0,0,(AU9*((LOG(AU9))/LOG(2))))","v":-0.15981278420602821}]
[12,429,14,437,13,455,14,465,null,null,0,1111,null,1122,{"$f":"COUNTIF($L$7:$L$500,N10)","v":29},{"$f":"O10/$Q$4","v":0.15760869565217392},{"$f":"IF(P10=0,0,(P10*((LOG(P10))/LOG(2))))","v":-0.42011873840735753},null,null,{"$f":"N10","v":1122},{"$f":"COUNTIF(L7:L37,T10)","v":9},{"$f":"U10/(W4-U20)","v":0.29032258064516131},{"$f":"IF(V10=0,0,(V10*((LOG(V10))/LOG(2))))","v":-0.5180142509839053},null,{"$f":"N10","v":1122},{"$f":"COUNTIF(L38:L67,Y10)","v":3},{"$f":"Z10/(AB4-Z20)","v":0.1},{"$f":"IF(AA10=0,0,(AA10*((LOG(AA10))/LOG(2))))","v":-0.33219280948873625},null,{"$f":"N10","v":1122},{"$f":"COUNTIF(L68:L98,AD10)","v":2},{"$f":"AE10/(AG4-AE20)","v":6.4516129032258063E-2},{"$f":"IF(AF10=0,0,(AF10*((LOG(AF10))/LOG(2))))","v":-0.25510943937979835},null,{"$f":"N10","v":1122},{"$f":"COUNTIF(L99:L129,AI10)","v":5},{"$f":"AJ10/(AL4-AJ20)","v":0.16129032258064516},{"$f":"IF(AK10=0,0,(AK10*((LOG(AK10))/LOG(2))))","v":-0.42455938959669559},null,{"$f":"N10","v":1122},{"$f":"COUNTIF(L130:L159,AN10)","v":2},{"$f":"AO10/(AQ4-AO20)","v":6.6666666666666666E-2},{"$f":"IF(AP10=0,0,(AP10*((LOG(AP10))/LOG(2))))","v":-0.26045937304056793},null,{"$f":"N10","v":1122},{"$f":"COUNTIF(L160:L190,AS10)","v":8},{"$f":"AT10/(AV4-AT20)","v":0.25806451612903225},{"$f":"IF(AU10=0,0,(AU10*((LOG(AU10))/LOG(2))))","v":-0.50430872526112902}]
[12,566,14,573,13,583,23,594,null,null,0,1112,null,1211,{"$f":"COUNTIF($L$7:$L$500,N11)","v":1},{"$f":"O11/$Q$4","v":5.434782608695652E-3},{"$f":"IF(P11=0,0,(P11*((LOG(P11))/LOG(2))))","v":-4.0888923674222893E-2},null,null,{"$f":"N11","v":1211},{"$f":"COUNTIF(L7:L37,T11)","v":0},{"$f":"U11/(W4-U20)","v":0},{"$f":"IF(V11=0,0,(V11*((LOG(V11))/LOG(2))))","v":0},null,{"$f":"N11","v":1211},{"$f":"COUNTIF(L38:L67,Y11)","v":0},{"$f":"Z11/(AB4-Z20)","v":0},{"$f":"IF(AA11=0,0,(AA11*((LOG(AA11))/LOG(2))))","v":0},null,{"$f":"N11","v":1211},{"$f":"COUNTIF(L68:L98,AD11)","v":0},{"$f":"AE11/(AG4-AE20)","v":0},{"$f":"IF(AF11=0,0,(AF11*((LOG(AF11))/LOG(2))))","v":0},null,{"$f":"N11","v":1211},{"$f":"COUNTIF(L99:L129,AI11)","v":1},{"$f":"AJ11/(AL4-AJ20)","v":3.2258064516129031E-2},{"$f":"IF(AK11=0,0,(AK11*((LOG(AK11))/LOG(2))))","v":-0.15981278420602821},null,{"$f":"N11","v":1211},{"$f":"COUNTIF(L130:L159,AN11)","v":0},{"$f":"AO11/(AQ4-AO20)","v":0},{"$f":"IF(AP11=0,0,(AP11*((LOG(AP11))/LOG(2))))","v":0},null,{"$f":"N11","v":1211},{"$f":"COUNTIF(L160:L190,AS11)","v":0},{"$f":"AT11/(AV4-AT20)","v":0},{"$f":"IF(AU11=0,0,(AU11*((LOG(AU11))/LOG(2))))","v":0}]
[12,694,14,704,13,716,14,726,null,null,0,1111,null,1212,{"$f":"COUNTIF($L$7:$L$500,N12)","v":3},{"$f":"O12/$Q$4","v":1.6304347826086956E-2},{"$f":"IF(P12=0,0,(P12*((LOG(P12))/LOG(2))))","v":-9.6824991119606366E-2},null,null,{"$f":"N12","v":1212},{"$f":"COUNTIF(L7:L37,T12)","v":1},{"$f":"U12/(W4-U20)","v":3.2258064516129031E-2},{"$f":"IF(V12=0,0,(V12*((LOG(V12))/LOG(2))))","v":-0.15981278420602821},null,{"$f":"N12","v":1212},{"$f":"COUNTIF(L38:L67,Y12)","v":0},{"$f":"Z12/(AB4-Z20)","v":0},{"$f":"IF(AA12=0,0,(AA12*((LOG(AA12))/LOG(2))))","v":0},null,{"$f":"N12","v":1212},{"$f":"COUNTIF(L68:L98,AD12)","v":0},{"$f":"AE12/(AG4-AE20)","v":0},{"$f":"IF(AF12=0,0,(AF12*((LOG(AF12))/LOG(2))))","v":0},null,{"$f":"N12","v":1212},{"$f":"COUNTIF(L99:L129,AI12)","v":0},{"$f":"AJ12/(AL4-AJ20)","v":0},{"$f":"IF(AK12=0,0,(AK12*((LOG(AK12))/LOG(2))))","v":0},null,{"$f":"N12","v":1212},{"$f":"COUNTIF(L130:L159,AN12)","v":1},{"$f":"AO12/(AQ4-AO20)","v":3.3333333333333333E-2},{"$f":"IF(AP12=0,0,(AP12*((LOG(AP12))/LOG(2))))","v":-0.16356301985361729},null,{"$f":"N12","v":1212},{"$f":"COUNTIF(L160:L190,AS12)","v":1},{"$f":"AT12/(AV4-AT20)","v":3.2258064516129031E-2},{"$f":"IF(AU12=0,0,(AU12*((LOG(AU12))/LOG(2))))","v":-0.15981278420602821}]
[12,830,14,837,13,846,23,859,null,null,0,1112,null,1221,{"$f":"COUNTIF($L$7:$L$500,N13)","v":0},{"$f":"O13/$Q$4","v":0},{"$f":"IF(P13=0,0,(P13*((LOG(P13))/LOG(2))))","v":0},null,null,{"$f":"N13","v":1221},{"$f":"COUNTIF(L7:L37,T13)","v":0},{"$f":"U13/(W4-U20)","v":0},{"$f":"IF(V13=0,0,(V13*((LOG(V13))/LOG(2))))","v":0},null,{"$f":"N13","v":1221},{"$f":"COUNTIF(L38:L67,Y13)","v":0},{"$f":"Z13/(AB4-Z20)","v":0},{"$f":"IF(AA13=0,0,(AA13*((LOG(AA13))/LOG(2))))","v":0},null,{"$f":"N13","v":1221},{"$f":"COUNTIF(L68:L98,AD13)","v":0},{"$f":"AE13/(AG4-AE20)","v":0},{"$f":"IF(AF13=0,0,(AF13*((LOG(AF13))/LOG(2))))","v":0},null,{"$f":"N13","v":1221},{"$f":"COUNTIF(L99:L129,AI13)","v":0},{"$f":"AJ13/(AL4-AJ20)","v":0},{"$f":"IF(AK13=0,0,(AK13*((LOG(AK13))/LOG(2))))","v":0},null,{"$f":"N13","v":1221},{"$f":"COUNTIF(L130:L159,AN13)","v":0},{"$f":"AO13/(AQ4-AO20)","v":0},{"$f":"IF(AP13=0,0,(AP13*((LOG(AP13))/LOG(2))))","v":0},null,{"$f":"N13","v":1221},{"$f":"COUNTIF(L160:L190,AS13)","v":0},{"$f":"AT13/(AV4-AT20)","v":0},{"$f":"IF(AU13=0,0,(AU13*((LOG(AU13))/LOG(2))))","v":0}]
[12,964,14,974,24,986,23,991,null,null,0,1122,null,1222,{"$f":"COUNTIF($L$7:$L$500,N14)","v":2},{"$f":"O14/$Q$4","v":1.0869565217391304E-2},{"$f":"IF(P14=0,0,(P14*((LOG(P14))/LOG(2))))","v":-7.090828213105449E-2},null,null,{"$f":"N14","v":1222},{"$f":"COUNTIF(L7:L37,T14)","v":0},{"$f":"U14/(W4-U20)","v":0},{"$f":"IF(V14=0,0,(V14*((LOG(V14))/LOG(2))))","v":0},null,{"$f":"N14","v":1222},{"$f":"COUNTIF(L38:L67,Y14)","v":0},{"$f":"Z14/(AB4-Z20)","v":0},{"$f":"IF(AA14=0,0,(AA14*((LOG(AA14))/LOG(2))))","v":0},null,{"$f":"N14","v":1222},{"$f":"COUNTIF(L68:L98,AD14)","v":0},{"$f":"AE14/(AG4-AE20)","v":0},{"$f":"IF(AF14=0,0,(AF14*((LOG(AF14))/LOG(2))))","v":0},null,{"$f":"N14","v":1222},{"$f":"COUNTIF(L99:L129,AI14)","v":0},{"$f":"AJ14/(AL4-AJ20)","v":0},{"$f":"IF(AK14=0,0,(AK14*((LOG(AK14))/LOG(2))))","v":0},null,{"$f":"N14","v":1222},{"$f":"COUNTIF(L130:L159,AN14)","v":0},{"$f":"AO14/(AQ4-AO20)","v":0},{"$f":"IF(AP14=0,0,(AP14*((LOG(AP14))/LOG(2))))","v":0},null,{"$f":"N14","v":1222},{"$f":"COUNTIF(L160:L190,AS14)","v":2},{"$f":"AT14/(AV4-AT20)","v":6.4516129032258063E-2},{"$f":"IF(AU14=0,0,(AU14*((LOG(AU14))/LOG(2))))","v":-0.25510943937979835}]
[12,1082,14,1088,13,1090,23,1101,null,null,0,1112,null,2111,{"$f":"COUNTIF($L$7:$L$500,N15)","v":0},{"$f":"O15/$Q$4","v":0},{"$f":"IF(P15=0,0,(P15*((LOG(P15))/LOG(2))))","v":0},null,null,{"$f":"N15","v":2111},{"$f":"COUNTIF(L7:L37,T15)","v":0},{"$f":"U15/(W4-U20)","v":0},{"$f":"IF(V15=0,0,(V15*((LOG(V15))/LOG(2))))","v":0},null,{"$f":"N15","v":2111},{"$f":"COUNTIF(L38:L67,Y15)","v":0},{"$f":"Z15/(AB4-Z20)","v":0},{"$f":"IF(AA15=0,0,(AA15*((LOG(AA15))/LOG(2))))","v":0},null,{"$f":"N15","v":2111},{"$f":"COUNTIF(L68:L98,AD15)","v":0},{"$f":"AE15/(AG4-AE20)","v":0},{"$f":"IF(AF15=0,0,(AF15*((LOG(AF15))/LOG(2))))","v":0},null,{"$f":"N15","v":2111},{"$f":"COUNTIF(L99:L129,AI15)","v":0},{"$f":"AJ15/(AL4-AJ20)","v":0},{"$f":"IF(AK15=0,0,(AK15*((LOG(AK15))/LOG(2))))","v":0},null,{"$f":"N15","v":2111},{"$f":"COUNTIF(L130:L159,AN15)","v":0},{"$f":"AO15/(AQ4-AO20)","v":0},{"$f":"IF(AP15=0,0,(AP15*((LOG(AP15))/LOG(2))))","v":0},null,{"$f":"N15","v":2111},{"$f":"COUNTIF(L160:L190,AS15)","v":0},{"$f":"AT15/(AV4-AT20)","v":0},{"$f":"IF(AU15=0,0,(AU15*((LOG(AU15))/LOG(2))))","v":0}]
[12,1206,14,1213,24,1227,23,1233,null,null,0,1122,null,2112,{"$f":"COUNTIF($L$7:$L$500,N16)","v":2},{"$f":"O16/$Q$4","v":1.0869565217391304E-2},{"$f":"IF(P16=0,0,(P16*((LOG(P16))/LOG(2))))","v":-7.090828213105449E-2},null,null,{"$f":"N16","v":2112},{"$f":"COUNTIF(L7:L37,T16)","v":0},{"$f":"U16/(W4-U20)","v":0},{"$f":"IF(V16=0,0,(V16*((LOG(V16))/LOG(2))))","v":0},null,{"$f":"N16","v":2112},{"$f":"COUNTIF(L38:L67,Y16)","v":0},{"$f":"Z16/(AB4-Z20)","v":0},{"$f":"IF(AA16=0,0,(AA16*((LOG(AA16))/LOG(2))))","v":0},null,{"$f":"N16","v":2112},{"$f":"COUNTIF(L68:L98,AD16)","v":0},{"$f":"AE16/(AG4-AE20)","v":0},{"$f":"IF(AF16=0,0,(AF16*((LOG(AF16))/LOG(2))))","v":0},null,{"$f":"N16","v":2112},{"$f":"COUNTIF(L99:L129,AI16)","v":0},{"$f":"AJ16/(AL4-AJ20)","v":0},{"$f":"IF(AK16=0,0,(AK16*((LOG(AK16))/LOG(2))))","v":0},null,{"$f":"N16","v":2112},{"$f":"COUNTIF(L130:L159,AN16)","v":2},{"$f":"AO16/(AQ4-AO20)","v":6.6666666666666666E-2},{"$f":"IF(AP16=0,0,(AP16*((LOG(AP16))/LOG(2))))","v":-0.26045937304056793},null,{"$f":"N16","v":2112},{"$f":"COUNTIF(L160:L190,AS16)","v":0},{"$f":"AT16/(AV4-AT20)","v":0},{"$f":"IF(AU16=0,0,(AU16*((LOG(AU16))/LOG(2))))","v":0}]
[12,1333,14,1343,13,1356,23,1366,null,null,0,1112,null,2121,{"$f":"COUNTIF($L$7:$L$500,N17)","v":0},{"$f":"O17/$Q$4","v":0},{"$f":"IF(P17=0,0,(P17*((LOG(P17))/LOG(2))))","v":0},null,null,{"$f":"N17","v":2121},{"$f":"COUNTIF(L7:L37,T17)","v":0},{"$f":"U17/(W4-U20)","v":0},{"$f":"IF(V17=0,0,(V17*((LOG(V17))/LOG(2))))","v":0},null,{"$f":"N17","v":2121},{"$f":"COUNTIF(L38:L67,Y17)","v":0},{"$f":"Z17/(AB4-Z20)","v":0},{"$f":"IF(AA17=0,0,(AA17*((LOG(AA17))/LOG(2))))","v":0},null,{"$f":"N17","v":2121},{"$f":"COUNTIF(L68:L98,AD17)","v":0},{"$f":"AE17/(AG4-AE20)","v":0},{"$f":"IF(AF17=0,0,(AF17*((LOG(AF17))/LOG(2))))","v":0},null,{"$f":"N17","v":2121},{"$f":"COUNTIF(L99:L129,AI17)","v":0},{"$f":"AJ17/(AL4-AJ20)","v":0},{"$f":"IF(AK17=0,0,(AK17*((LOG(AK17))/LOG(2))))","v":0},null,{"$f":"N17","v":2121},{"$f":"COUNTIF(L130:L159,AN17)","v":0},{"$f":"AO17/(AQ4-AO20)","v":0},{"$f":"IF(AP17=0,0,(AP17*((LOG(AP17))/LOG(2))))","v":0},null,{"$f":"N17","v":2121},{"$f":"COUNTIF(L160:L190,AS17)","v":0},{"$f":"AT17/(AV4-AT20)","v":0},{"$f":"IF(AU17=0,0,(AU17*((LOG(AU17))/LOG(2))))","v":0}]
[12,1464,14,1482,24,1494,23,1502,null,null,0,1122,null,2122,{"$f":"COUNTIF($L$7:$L$500,N18)","v":2},{"$f":"O18/$Q$4","v":1.0869565217391304E-2},{"$f":"IF(P18=0,0,(P18*((LOG(P18))/LOG(2))))","v":-7.090828213105449E-2},null,null,{"$f":"N18","v":2122},{"$f":"COUNTIF(L7:L37,T18)","v":1},{"$f":"U18/(W4-U20)","v":3.2258064516129031E-2},{"$f":"IF(V18=0,0,(V18*((LOG(V18))/LOG(2))))","v":-0.15981278420602821},null,{"$f":"N18","v":2122},{"$f":"COUNTIF(L38:L67,Y18)","v":0},{"$f":"Z18/(AB4-Z20)","v":0},{"$f":"IF(AA18=0,0,(AA18*((LOG(AA18))/LOG(2))))","v":0},null,{"$f":"N18","v":2122},{"$f":"COUNTIF(L68:L98,AD18)","v":0},{"$f":"AE18/(AG4-AE20)","v":0},{"$f":"IF(AF18=0,0,(AF18*((LOG(AF18))/LOG(2))))","v":0},null,{"$f":"N18","v":2122},{"$f":"COUNTIF(L99:L129,AI18)","v":0},{"$f":"AJ18/(AL4-AJ20)","v":0},{"$f":"IF(AK18=0,0,(AK18*((LOG(AK18))/LOG(2))))","v":0},null,{"$f":"N18","v":2122},{"$f":"COUNTIF(L130:L159,AN18)","v":1},{"$f":"AO18/(AQ4-AO20)","v":3.3333333333333333E-2},{"$f":"IF(AP18=0,0,(AP18*((LOG(AP18))/LOG(2))))","v":-0.16356301985361729},null,{"$f":"N18","v":2122},{"$f":"COUNTIF(L160:L190,AS18)","v":0},{"$f":"AT18/(AV4-AT20)","v":0},{"$f":"IF(AU18=0,0,(AU18*((LOG(AU18))/LOG(2))))","v":0}]
[12,1675,23,1688,13,1700,23,1712,null,null,0,1212,null,2211,{"$f":"COUNTIF($L$7:$L$500,N19)","v":0},{"$f":"O19/$Q$4","v":0},{"$f":"IF(P19=0,0,(P19*((LOG(P19))/LOG(2))))","v":0},null,null,{"$f":"N19","v":2211},{"$f":"COUNTIF(L7:L37,T19)","v":0},{"$f":"U19/(W4-U20)","v":0},{"$f":"IF(V19=0,0,(V19*((LOG(V19))/LOG(2))))","v":0},null,{"$f":"N19","v":2211},{"$f":"COUNTIF(L38:L67,Y19)","v":0},{"$f":"Z19/(AB4-Z20)","v":0},{"$f":"IF(AA19=0,0,(AA19*((LOG(AA19))/LOG(2))))","v":0},null,{"$f":"N19","v":2211},{"$f":"COUNTIF(L68:L98,AD19)","v":0},{"$f":"AE19/(AG4-AE20)","v":0},{"$f":"IF(AF19=0,0,(AF19*((LOG(AF19))/LOG(2))))","v":0},null,{"$f":"N19","v":2211},{"$f":"COUNTIF(L99:L129,AI19)","v":0},{"$f":"AJ19/(AL4-AJ20)","v":0},{"$f":"IF(AK19=0,0,(AK19*((LOG(AK19))/LOG(2))))","v":0},null,{"$f":"N19","v":2211},{"$f":"COUNTIF(L130:L159,AN19)","v":0},{"$f":"AO19/(AQ4-AO20)","v":0},{"$f":"IF(AP19=0,0,(AP19*((LOG(AP19))/LOG(2))))","v":0},null,{"$f":"N19","v":2211},{"$f":"COUNTIF(L160:L190,AS19)","v":0},{"$f":"AT19/(AV4-AT20)","v":0},{"$f":"IF(AU19=0,0,(AU19*((LOG(AU19))/LOG(2))))","v":0}]
[12,1820,14,1827,24,1838,23,1844,null,null,0,1122,null,2212,{"$f":"COUNTIF($L$7:$L$500,N20)","v":0},{"$f":"O20/$Q$4","v":0},{"$f":"IF(P20=0,0,(P20*((LOG(P20))/LOG(2))))","v":0},null,null,{"$f":"N20","v":2212},{"$f":"COUNTIF(L7:L37,T20)","v":0},null,null,null,{"$f":"N20","v":2212},{"$f":"COUNTIF(L38:L67,Y20)","v":0},null,null,null,{"$f":"N20","v":2212},{"$f":"COUNTIF(L68:L98,AD20)","v":0},null,null,null,{"$f":"N20","v":2212},{"$f":"COUNTIF(L99:L129,AI20)","v":0},null,null,null,{"$f":"N20","v":2212},{"$f":"COUNTIF(L130:L159,AN20)","v":0},null,null,null,{"$f":"N20","v":2212},{"$f":"COUNTIF(L160:L190,AS20)","v":0}]
[12,1946,14,1954,24,1964,14,1976,null,null,0,1121,null,2221,{"$f":"COUNTIF($L$7:$L$500,N21)","v":0},{"$f":"O21/$Q$4","v":0},{"$f":"IF(P21=0,0,(P21*((LOG(P21))/LOG(2))))","v":0},null,null,{"$f":"N21","v":2221},{"$f":"COUNTIF(L7:L37,T21)","v":0},{"$f":"U21/(W4-U20)","v":0},{"$f":"IF(V21=0,0,(V21*((LOG(V21))/LOG(2))))","v":0},null,{"$f":"N21","v":2221},{"$f":"COUNTIF(L38:L67,Y21)","v":0},{"$f":"Z21/(AB4-Z20)","v":0},{"$f":"IF(AA21=0,0,(AA21*((LOG(AA21))/LOG(2))))","v":0},null,{"$f":"N21","v":2221},{"$f":"COUNTIF(L68:L98,AD21)","v":0},{"$f":"AE21/(AG4-AE20)","v":0},{"$f":"IF(AF21=0,0,(AF21*((LOG(AF21))/LOG(2))))","v":0},null,{"$f":"N21","v":2221},{"$f":"COUNTIF(L99:L129,AI21)","v":0},{"$f":"AJ21/(AL4-AJ20)","v":0},{"$f":"IF(AK21=0,0,(AK21*((LOG(AK21))/LOG(2))))","v":0},null,{"$f":"N21","v":2221},{"$f":"COUNTIF(L130:L159,AN21)","v":0},{"$f":"AO21/(AQ4-AO20)","v":0},{"$f":"IF(AP21=0,0,(AP21*((LOG(AP21))/LOG(2))))","v":0},null,{"$f":"N21","v":2221},{"$f":"COUNTIF(L160:L190,AS21)","v":0},{"$f":"AT21/(AV4-AT20)","v":0},{"$f":"IF(AU21=0,0,(AU21*((LOG(AU21))/LOG(2))))","v":0}]
[12,2069,14,2077,24,2088,23,2095,null,null,0,1122,null,2222,{"$f":"COUNTIF($L$7:$L$500,N22)","v":0},{"$f":"O22/$Q$4","v":0},{"$f":"IF(P22=0,0,(P22*((LOG(P22))/LOG(2))))","v":0},null,null,{"$f":"N22","v":2222},{"$f":"COUNTIF(L7:L37,T22)","v":0},{"$f":"U22/(W4-U20)","v":0},{"$f":"IF(V22=0,0,(V22*((LOG(V22))/LOG(2))))","v":0},null,{"$f":"N22","v":2222},{"$f":"COUNTIF(L38:L67,Y22)","v":0},{"$f":"Z22/(AB4-Z20)","v":0},{"$f":"IF(AA22=0,0,(AA22*((LOG(AA22))/LOG(2))))","v":0},null,{"$f":"N22","v":2222},{"$f":"COUNTIF(L68:L98,AD22)","v":0},{"$f":"AE22/(AG4-AE20)","v":0},{"$f":"IF(AF22=0,0,(AF22*((LOG(AF22))/LOG(2))))","v":0},null,{"$f":"N22","v":2222},{"$f":"COUNTIF(L99:L129,AI22)","v":0},{"$f":"AJ22/(AL4-AJ20)","v":0},{"$f":"IF(AK22=0,0,(AK22*((LOG(AK22))/LOG(2))))","v":0},null,{"$f":"N22","v":2222},{"$f":"COUNTIF(L130:L159,AN22)","v":0},{"$f":"AO22/(AQ4-AO20)","v":0},{"$f":"IF(AP22=0,0,(AP22*((LOG(AP22))/LOG(2))))","v":0},null,{"$f":"N22","v":2222},{"$f":"COUNTIF(L160:L190,AS22)","v":0},{"$f":"AT22/(AV4-AT20)","v":0},{"$f":"IF(AU22=0,0,(AU22*((LOG(AU22))/LOG(2))))","v":0}]
[12,2194,14,2202,13,2221,23,2234,null,null,0,1112,null,null,null,{"$f":"SUM(P7:P22)","v":1},{"$f":"-SUM(Q7:Q22)","v":2.1200692053518218},null,null,null,null,{"$f":"SUM(V7:V22)","v":1},{"$f":"-SUM(W7:W22)","v":2.1182800846373597},null,null,null,{"$f":"SUM(AA7:AA22)","v":0.99999999999999989},{"$f":"-SUM(AB7:AB22)","v":1.5125559878021229},null,null,null,{"$f":"SUM(AF7:AF22)","v":1},{"$f":"-SUM(AG7:AG22)","v":1.4474020279537099},null,null,null,{"$f":"SUM(AK7:AK22)","v":0.99999999999999989},{"$f":"-SUM(AL7:AL22)","v":1.7886514609637496},null,null,null,{"$f":"SUM(AP7:AP22)","v":0.99999999999999989},{"$f":"-SUM(AQ7:AQ22)","v":2.318110986293616},null,null,null,{"$f":"SUM(AU7:AU22)","v":1},{"$f":"-SUM(AV7:AV22)","v":2.1137528328058983}]
[12,2334,14,2343,24,2354,23,2362,null,null,0,1122,null,null,null,"U=",{"$f":"Q23/(LOG(Q4)/LOG(2))","v":0.28179062227898749},null,null,null,null,"U1=",{"$f":"W23/(LOG(W4)/LOG(2))","v":0.42757290020910427},null,null,null,"U2=",{"$f":"AB23/(LOG(AB4)/LOG(2))","v":0.30825141876116074},null,null,null,"U3=",{"$f":"AG23/(LOG(AG4)/LOG(2))","v":0.29215677725953532},null,null,null,"U4=",{"$f":"AL23/(LOG(AL4)/LOG(2))","v":0.36103766360927131},null,null,null,"U5=",{"$f":"AQ23/(LOG(AQ4)/LOG(2))","v":0.4724195376127272},null,null,null,"U6=",{"$f":"AV23/(LOG(AV4)/LOG(2))","v":0.42665907856219665}]
[12,2463,14,2472,24,2481,14,2492,null,null,0,1121]
[12,2594,14,2603,24,2612,23,2617,null,null,0,1122]
[12,2707,14,2713,24,2726,14,2737,null,null,0,1121,null,"Total Target Seq"]
[12,2838,14,2845,13,2854,23,2871,null,null,0,1112,null,{"$f":"COUNTIF(L7:L190,G3)","v":0},null,31,30,31,31,30,31]
[12,2972,14,2979,24,2989,23,2996,null,null,0,1122,null,null,null,"% of reinforcement given in 6 equal intervals based on number of trials "]
[21,3119,12,3130,24,3142,23,3155,null,null,0,2122,null,null,null,"%_1","%_2","%_3","%_4","%_5","%_6"]
[12,3258,14,3266,13,3284,23,3296,null,null,0,1112,null,null,"target sequence",{"$f":"$G$3","v":2212},{"$f":"$G$3","v":2212},{"$f":"$G$3","v":2212},{"$f":"$G$3","v":2212},{"$f":"$G$3","v":2212},{"$f":"$G$3","v":2212}]
[12,3396,14,3403,13,3420,23,3435,null,null,0,1112,null,null,"total reinforcement",{"$f":"U20","v":0},{"$f":"Z20","v":0},{"$f":"AE20","v":0},{"$f":"AJ20","v":0},{"$f":"AO20","v":0},{"$f":"AT20","v":0}]
[12,3546,14,3551,13,3560,14,3581,null,null,0,1111,null,null,"% target"]
[12,3680,14,3688,24,3706,14,3715,null,null,0,1121,null,null,"CCRF"]
[12,3805,14,3812,13,3821,23,3831,null,null,0,1112,null,null,"% CCRf"]
[12,3931,14,3941,13,3957,23,3968,null,null,0,1112,null,null,"average response rate",{"$f":"H37/P28","v":132.45161290322579},{"$f":"(H67-H37)/Q28","v":130.19999999999999},{"$f":"(H98-H67)/R28","v":129.2258064516129},{"$f":"(H129-H98)/S28","v":125.83870967741936},{"$f":"(H159-H129)/T28","v":135.33333333333334},{"$f":"(H190-H159)/U28","v":129}]
[12,4068,14,4078,13,4095,23,4106,null,null,0,1112]
[12,4205,14,4213,13,4221,14,4235,null,null,0,1111]
[12,4329,14,4337,24,4347,14,4360,null,null,0,1121]
[12,4458,14,4475,24,4484,23,4489,null,null,0,1122]
[12,4587,14,4594,13,4602,23,4616,null,null,0,1112]
[12,4722,14,4729,13,4744,23,4754,null,null,0,1112]
[12,4878,14,4887,13,4912,23,4923,null,null,0,1112]
[12,5016,14,5022,13,5030,23,5046,null,null,0,1112]
[12,5148,14,5153,13,5162,23,5174,null,null,0,1112]
[12,5271,14,5278,24,5290,23,5294,null,null,0,1122]
[12,5393,14,5402,13,5410,23,5423,null,null,0,1112]
[12,5529,14,5536,13,5545,23,5555,null,null,0,1112]
[12,5686,14,5693,13,5703,23,5713,null,null,0,1112]
[12,5810,14,5817,13,5826,14,5835,null,null,0,1111]
[12,5929,14,5938,24,5950,23,5958,null,null,0,1122]
[12,6059,14,6073,13,6087,23,6097,null,null,0,1112]
[12,6194,14,6199,13,6204,14,6221,null,null,0,1111]
[12,6321,14,6327,13,6337,23,6347,null,null,0,1112]
[12,6445,14,6449,13,6454,23,6465,null,null,0,1112]
[12,6561,14,6571,24,6584,14,6598,null,null,0,1121]
[12,6686,14,6696,13,6704,23,6719,null,null,0,1112]
[12,6817,14,6826,13,6834,23,6844,null,null,0,1112]
[12,6945,14,6952,13,6966,23,6976,null,null,0,1112]
[12,7077,14,7083,13,7090,14,7106,null,null,0,1111]
[12,7211,14,7216,13,7223,23,7233,null,null,0,1112]
[12,7332,14,7337,13,7344,23,7358,null,null,0,1112]
[12,7459,14,7464,13,7468,14,7473,null,null,0,1111]
[12,7575,14,7580,13,7588,23,7597,null,null,0,1112]
[12,7701,14,7706,24,7717,14,7733,null,null,0,1121]
[12,7848,14,7856,13,7871,23,7885,null,null,0,1112]
[12,7987,14,7992,13,7998,23,8012,null,null,0,1112]
[12,8128,14,8133,13,8142,23,8152,null,null,0,1112]
[12,8249,14,8253,13,8258,14,8268,null,null,0,1111]
[12,8371,14,8376,13,8383,14,8392,null,null,0,1111]
[12,8491,14,8496,13,8504,23,8516,null,null,0,1112]
[12,8619,14,8624,13,8629,14,8636,null,null,0,1111]
[12,8744,14,8750,13,8757,14,8766,null,null,0,1111]
[12,8873,14,8878,13,8892,23,8901,null,null,0,1112]
[12,9029,14,9034,13,9051,23,9064,null,null,0,1112]
[12,9166,14,9172,13,9176,14,9184,null,null,0,1111]
[12,9285,14,9290,13,9294,14,9302,null,null,0,1111]
[12,9409,14,9413,13,9421,23,9432,null,null,0,1112]
[12,9542,14,9550,13,9561,23,9574,null,null,0,1112]
[12,9664,14,9673,13,9682,23,9695,null,null,0,1112]
[12,9792,14,9798,13,9807,14,9819,null,null,0,1111]
[12,9928,14,9937,13,9945,23,9957,null,null,0,1112]
[12,10059,14,10064,13,10071,23,10082,null,null,0,1112]
[12,10173,14,10175,13,10180,14,10191,null,null,0,1111]
[12,10290,14,10301,13,10311,23,10326,null,null,0,1112]
[12,10423,14,10430,13,10438,23,10451,null,null,0,1112]
[12,10551,14,10560,13,10569,23,10582,null,null,0,1112]
[12,10695,14,10703,24,10715,14,10727,null,null,0,1121]
[12,10829,14,10838,13,10845,23,10857,null,null,0,1112]
[12,10961,14,10968,13,10978,23,10987,null,null,0,1112]
[12,11090,14,11097,24,11106,23,11114,null,null,0,1122]
[12,11225,14,11233,24,11247,14,11259,null,null,0,1121]
[12,11349,14,11357,13,11365,23,11379,null,null,0,1112]
[12,11478,14,11487,13,11495,23,11506,null,null,0,1112]
[12,11606,14,11622,13,11629,23,11641,null,null,0,1112]
[12,11739,14,11744,13,11752,23,11762,null,null,0,1112]
[12,11867,14,11874,24,11884,23,11891,null,null,0,1122]
[12,11991,14,11999,13,12008,23,12018,null,null,0,1112]
[12,12115,14,12120,13,12124,14,12133,null,null,0,1111]
[12,12241,14,12246,13,12254,14,12261,null,null,0,1111]
[12,12364,14,12368,13,12373,14,12378,null,null,0,1111]
[12,12491,14,12499,24,12509,23,12516,null,null,0,1122]
[12,12609,14,12622,13,12630,23,12642,null,null,0,1112]
[12,12744,14,12749,13,12754,14,12761,null,null,0,1111]
[12,12860,14,12868,24,12879,14,12889,null,null,0,1121]
[12,12980,14,12989,13,12997,14,13006,null,null,0,1111]
[12,13105,14,13112,13,13126,14,13135,null,null,0,1111]
[12,13234,14,13241,24,13254,23,13261,null,null,0,1122]
[12,13364,14,13369,13,13376,23,13388,null,null,0,1112]
[12,13485,14,13491,13,13498,23,13507,null,null,0,1112]
[12,13609,14,13624,24,13634,23,13638,null,null,0,1122]
[12,13752,14,13759,13,13767,23,13781,null,null,0,1112]
[12,13872,14,13876,13,13880,14,13885,null,null,0,1111]
[12,13990,14,13995,13,13999,14,14004,null,null,0,1111]
[12,14103,14,14107,13,14114,23,14126,null,null,0,1112]
[12,14226,14,14232,13,14241,14,14249,null,null,0,1111]
[12,14347,14,14366,13,14373,23,14386,null,null,0,1112]
[12,14485,14,14495,24,14506,23,14513,null,null,0,1122]
[12,14621,14,14628,13,14638,14,14647,null,null,0,1111]
[12,14750,23,14768,13,14779,14,14787,null,null,0,1211]
[12,14878,14,14883,13,14891,14,14900,null,null,0,1111]
[12,15007,14,15013,13,15022,14,15029,null,null,0,1111]
[12,15139,14,15146,13,15154,23,15168,null,null,0,1112]
[12,15267,14,15272,13,15280,23,15289,null,null,0,1112]
[12,15395,14,15400,13,15405,14,15412,null,null,0,1111]
[12,15511,14,15513,13,15518,23,15531,null,null,0,1112]
[12,15628,14,15640,24,15653,23,15660,null,null,0,1122]
[12,15770,14,15778,13,15790,23,15804,null,null,0,1112]
[12,15902,14,15904,13,15909,14,15919,null,null,0,1111]
[21,16025,12,16035,24,16053,23,16063,null,null,0,2122]
[12,16164,14,16172,24,16185,14,16201,null,null,0,1121]
[21,16309,12,16321,13,16330,23,16340,null,null,0,2112]
[12,16434,14,16440,24,16453,14,16467,null,null,0,1121]
[12,16583,14,16598,24,16610,23,16617,null,null,0,1122]
[12,16719,14,16736,13,16744,23,16755,null,null,0,1112]
[12,16855,14,16861,13,16865,14,16874,null,null,0,1111]
[12,16977,14,16985,13,16993,14,17002,null,null,0,1111]
[21,17101,12,17110,13,17118,23,17131,null,null,0,2112]
[12,17235,23,17248,13,17260,23,17272,null,null,0,1212]
[12,17373,14,17392,24,17402,14,17411,null,null,0,1121]
[12,17517,14,17526,13,17533,14,17543,null,null,0,1111]
[12,17654,14,17666,13,17673,14,17681,null,null,0,1111]
[12,17784,14,17793,13,17808,23,17822,null,null,0,1112]
[12,17943,14,17951,13,17959,23,17970,null,null,0,1112]
[12,18094,14,18100,13,18109,23,18124,null,null,0,1112]
[12,18223,14,18228,13,18237,23,18249,null,null,0,1112]
[12,18396,14,18400,13,18406,14,18411,null,null,0,1111]
[12,18522,14,18527,13,18532,14,18536,null,null,0,1111]
[12,18640,14,18645,13,18653,23,18664,null,null,0,1112]
[12,18781,14,18786,13,18790,14,18798,null,null,0,1111]
[12,18900,14,18908,13,18916,14,18924,null,null,0,1111]
[12,19030,14,19043,24,19054,23,19061,null,null,0,1122]
[12,19160,14,19167,24,19179,14,19193,null,null,0,1121]
[12,19292,14,19303,24,19312,14,19323,null,null,0,1121]
[12,19434,14,19439,13,19444,23,19457,null,null,0,1112]
[12,19569,14,19573,13,19577,14,19585,null,null,0,1111]
[12,19709,14,19714,13,19719,14,19724,null,null,0,1111]
[12,19828,14,19833,13,19840,23,19850,null,null,0,1112]
[12,19957,14,19961,13,19969,14,19979,null,null,0,1111]
[12,20076,14,20084,24,20099,14,20111,null,null,0,1121]
[12,20233,14,20238,13,20243,23,20263,null,null,0,1112]
[12,20366,14,20371,13,20378,14,20386,null,null,0,1111]
[12,20489,14,20505,24,20517,23,20527,null,null,0,1122]
[12,20625,14,20634,24,20653,23,20660,null,null,0,1122]
[12,20762,14,20769,13,20776,23,20789,null,null,0,1112]
[12,20891,14,20900,13,20907,23,20917,null,null,0,1112]
[12,21022,14,21036,24,21046,23,21056,null,null,0,1122]
[12,21154,14,21164,13,21172,23,21181,null,null,0,1112]
[12,21283,14,21287,13,21291,14,21298,null,null,0,1111]
[12,21399,14,21408,24,21419,23,21430,null,null,0,1122]
[12,21523,14,21532,13,21539,23,21553,null,null,0,1112]
[12,21653,14,21663,13,21671,23,21681,null,null,0,1112]
[12,21787,14,21795,13,21812,23,21824,null,null,0,1112]
[12,21923,14,21928,13,21936,23,21946,null,null,0,1112]
[12,22043,14,22047,13,22052,14,22056,null,null,0,1111]
[12,22158,23,22175,24,22183,23,22195,null,null,0,1222]
[12,22294,14,22298,13,22303,14,22310,null,null,0,1111]
[12,22411,14,22416,13,22420,14,22425,null,null,0,1111]
[12,22530,14,22534,13,22540,14,22547,null,null,0,1111]
[12,22648,14,22659,24,22670,23,22676,null,null,0,1122]
[12,22779,14,22786,13,22796,23,22806,null,null,0,1112]
[12,22916,23,22926,24,22933,23,22939,null,null,0,1222]
[12,23041,14,23048,13,23059,23,23072,null,null,0,1112]
[12,23170,14,23176,24,23189,23,23196,null,null,0,1122]
[12,23298,14,23303,13,23308,14,23327,null,null,0,1111]
[12,23429,14,23436,24,23448,23,23455,null,null,0,1122]
[12,23556,14,23563,24,23575,23,23582,null,null,0,1122]
[12,23685,23,23696,13,23707,23,23721,null,null,0,1212]
[12,23824,14,23829,13,23836,23,23848,null,null,0,1112]
[12,23958,14,23963,13,23971,14,23978,null,null,1,1111]

{"sheet":"!2011-07-31_11h41m.Subject 53","index":6,"n_rows":196,"n_cols":48,"rows_kept":196,"cut":false,"hidden":false,"merged":[[4,39,4,42],[5,39,5,40],[4,44,4,47],[5,44,5,45],[4,24,4,27],[5,24,5,25],[4,29,4,32],[5,29,5,30],[4,34,4,37],[5,34,5,35],[1,1,1,2],[5,13,5,14],[26,13,26,14],[27,13,27,14],[4,19,4,22],[5,19,5,20]]}
["Report for:!2011-07-31_11h41m.Subject 53"]
["Date","2011-07-31",null,null,null,"Group","Phase 3 Any"]
["Hen",53,null,null,null,"Correct Sequence",{"$f":"Start!J2","v":2212},null,null,null,null,null,null,null,null,"Total Sequences in Data",{"$f":"4994-COUNTBLANK(L7:L5000)","v":190},null,null,null,null,"Total Sequences in Block Data",{"$f":"COUNTA(L7:L38)","v":32},null,null,null,"Total Sequences in Block Data",{"$f":"COUNTA(L39:L69)","v":31},null,null,null,"Total Sequences in Block Data",{"$f":"COUNTA(L70:L101)","v":32},null,null,null,"Total Sequences in Block Data",{"$f":"COUNTA(L102:L133)","v":32},null,null,null,"Total Sequences in Block Data",{"$f":"COUNTA(L134:L164)","v":31},null,null,null,"Total Sequences in Block Data",{"$f":"COUNTA(L165:L196)","v":32}]
["Program","One",null,null,null,null,null,null,null,null,null,null,null,null,null,"Total Sequences in Summary",{"$f":"SUM(O7:O22)","v":190},null,null,null,null,"Total Sequences in Block Summary",{"$f":"SUM(U7:U22)","v":32},null,null,null,"Total Sequences in Block Summary",{"$f":"SUM(Z7:Z22)","v":31},null,null,null,"Total Sequences in Block Summary",{"$f":"SUM(AE7:AE22)","v":32},null,null,null,"Total Sequences in Block Summary",{"$f":"SUM(AJ7:AJ22)","v":32},null,null,null,"Total Sequences in Block Summary",{"$f":"SUM(AO7:AO22)","v":31},null,null,null,"Total Sequences in Block Summary",{"$f":"SUM(AT7:AT22)","v":32}]
[null,null,null,null,null,null,null,null,null,null,null,null,null,null,null,null,null,null,null,"Block 1",null,null,null,null,"Block 2",null,null,null,null,"Block 3",null,null,null,null,"Block 4",null,null,null,null,"Block 5",null,null,null,null,"Block 6"]
["Sequence\nComponent\n1","Time\n1","Sequence\nComponent\n2","Time\n2","Sequence\nComponent\n3","Time\n3","Sequence\nComponent\n4","Time\n4","Sequence\nComponent\n5","Time\n5","Correct?\n0=No 1=Yes","Sequence",null,"Frequency",null,"Relative Frequency","Variability",null,null,"Frequency",null,"Relative Frequency","Variability",null,"Frequency",null,"Relative Frequency","Variability",null,"Frequency",null,"Relative Frequency","Variability",null,"Frequency",null,"Relative Frequency","Variability",null,"Frequency",null,"Relative Frequency","Variability",null,"Frequency",null,"Relative Frequency","Variability"]
[12,10,14,18,13,32,23,45,null,null,0,1112,null,1111,{"$f":"COUNTIF($L$7:$L$500,N7)","v":78},{"$f":"O7/$Q$4","v":0.41052631578947368},{"$f":"IF(P7=0,0,(P7*((LOG(P7))/LOG(2))))","v":-0.52730191778188717},null,null,{"$f":"N7","v":1111},{"$f":"COUNTIF(L7:L38,T7)","v":7},{"$f":"U7/(W4-U20)","v":0.21875},{"$f":"IF(V7=0,0,(V7*((LOG(V7))/LOG(2))))","v":-0.47964111079989907},null,{"$f":"N7","v":1111},{"$f":"COUNTIF(L39:L69,Y7)","v":4},{"$f":"Z7/(AB4-Z20)","v":0.12903225806451613},{"$f":"IF(AA7=0,0,(AA7*((LOG(AA7))/LOG(2))))","v":-0.38118662069508069},null,{"$f":"N7","v":1111},{"$f":"COUNTIF(L70:L101,AD7)","v":9},{"$f":"AE7/(AG4-AE20)","v":0.28125},{"$f":"IF(AF7=0,0,(AF7*((LOG(AF7))/LOG(2))))","v":-0.5147085933443496},null,{"$f":"N7","v":1111},{"$f":"COUNTIF(L102:L133,AI7)","v":20},{"$f":"AJ7/(AL4-AJ20)","v":0.625},{"$f":"IF(AK7=0,0,(AK7*((LOG(AK7))/LOG(2))))","v":-0.42379494069539858},null,{"$f":"N7","v":1111},{"$f":"COUNTIF(L134:L164,AN7)","v":21},{"$f":"AO7/(AQ4-AO20)","v":0.67741935483870963},{"$f":"IF(AP7=0,0,(AP7*((LOG(AP7))/LOG(2))))","v":-0.38062763354098111},null,{"$f":"N7","v":1111},{"$f":"COUNTIF(L165:L196,AS7)","v":17},{"$f":"AT7/(AV4-AT20)","v":0.53125},{"$f":"IF(AU7=0,0,(AU7*((LOG(AU7))/LOG(2))))","v":-0.48478536558575719}]
[12,144,14,151,13,159,14,167,null,null,0,1111,null,1112,{"$f":"COUNTIF($L$7:$L$500,N8)","v":90},{"$f":"O8/$Q$4","v":0.47368421052631576},{"$f":"IF(P8=0,0,(P8*((LOG(P8))/LOG(2))))","v":-0.51063276884270825},null,null,{"$f":"N8","v":1112},{"$f":"COUNTIF(L7:L38,T8)","v":19},{"$f":"U8/(W4-U20)","v":0.59375},{"$f":"IF(V8=0,0,(V8*((LOG(V8))/LOG(2))))","v":-0.44654303889287106},null,{"$f":"N8","v":1112},{"$f":"COUNTIF(L39:L69,Y8)","v":19},{"$f":"Z8/(AB4-Z20)","v":0.61290322580645162},{"$f":"IF(AA8=0,0,(AA8*((LOG(AA8))/LOG(2))))","v":-0.43287442393298403},null,{"$f":"N8","v":1112},{"$f":"COUNTIF(L70:L101,AD8)","v":17},{"$f":"AE8/(AG4-AE20)","v":0.53125},{"$f":"IF(AF8=0,0,(AF8*((LOG(AF8))/LOG(2))))","v":-0.48478536558575719},null,{"$f":"N8","v":1112},{"$f":"COUNTIF(L102:L133,AI8)","v":12},{"$f":"AJ8/(AL4-AJ20)","v":0.375},{"$f":"IF(AK8=0,0,(AK8*((LOG(AK8))/LOG(2))))","v":-0.53063906222956647},null,{"$f":"N8","v":1112},{"$f":"COUNTIF(L134:L164,AN8)","v":9},{"$f":"AO8/(AQ4-AO20)","v":0.29032258064516131},{"$f":"IF(AP8=0,0,(AP8*((LOG(AP8))/LOG(2))))","v":-0.5180142509839053},null,{"$f":"N8","v":1112},{"$f":"COUNTIF(L165:L196,AS8)","v":14},{"$f":"AT8/(AV4-AT20)","v":0.4375},{"$f":"IF(AU8=0,0,(AU8*((LOG(AU8))/LOG(2))))","v":-0.52178222159979815}]
[12,268,14,277,13,289,23,302,null,null,0,1112,null,1121,{"$f":"COUNTIF($L$7:$L$500,N9)","v":1},{"$f":"O9/$Q$4","v":5.263157894736842E-3},{"$f":"IF(P9=0,0,(P9*((LOG(P9))/LOG(2))))","v":-3.9841345307004991E-2},null,null,{"$f":"N9","v":1121},{"$f":"COUNTIF(L7:L38,T9)","v":0},{"$f":"U9/(W4-U20)","v":0},{"$f":"IF(V9=0,0,(V9*((LOG(V9))/LOG(2))))","v":0},null,{"$f":"N9","v":1121},{"$f":"COUNTIF(L39:L69,Y9)","v":1},{"$f":"Z9/(AB4-Z20)","v":3.2258064516129031E-2},{"$f":"IF(AA9=0,0,(AA9*((LOG(AA9))/LOG(2))))","v":-0.15981278420602821},null,{"$f":"N9","v":1121},{"$f":"COUNTIF(L70:L101,AD9)","v":0},{"$f":"AE9/(AG4-AE20)","v":0},{"$f":"IF(AF9=0,0,(AF9*((LOG(AF9))/LOG(2))))","v":0},null,{"$f":"N9","v":1121},{"$f":"COUNTIF(L102:L133,AI9)","v":0},{"$f":"AJ9/(AL4-AJ20)","v":0},{"$f":"IF(AK9=0,0,(AK9*((LOG(AK9))/LOG(2))))","v":0},null,{"$f":"N9","v":1121},{"$f":"COUNTIF(L134:L164,AN9)","v":0},{"$f":"AO9/(AQ4-AO20)","v":0},{"$f":"IF(AP9=0,0,(AP9*((LOG(AP9))/LOG(2))))","v":0},null,{"$f":"N9","v":1121},{"$f":"COUNTIF(L165:L196,AS9)","v":0},{"$f":"AT9/(AV4-AT20)","v":0},{"$f":"IF(AU9=0,0,(AU9*((LOG(AU9))/LOG(2))))","v":0}]
[12,402,14,409,13,424,23,437,null,null,0,1112,null,1122,{"$f":"COUNTIF($L$7:$L$500,N10)","v":20},{"$f":"O10/$Q$4","v":0.10526315789473684},{"$f":"IF(P10=0,0,(P10*((LOG(P10))/LOG(2))))","v":-0.34188710667827216},null,null,{"$f":"N10","v":1122},{"$f":"COUNTIF(L7:L38,T10)","v":5},{"$f":"U10/(W4-U20)","v":0.15625},{"$f":"IF(V10=0,0,(V10*((LOG(V10))/LOG(2))))","v":-0.41844873517384967},null,{"$f":"N10","v":1122},{"$f":"COUNTIF(L39:L69,Y10)","v":7},{"$f":"Z10/(AB4-Z20)","v":0.22580645161290322},{"$f":"IF(AA10=0,0,(AA10*((LOG(AA10))/LOG(2))))","v":-0.48477063607435156},null,{"$f":"N10","v":1122},{"$f":"COUNTIF(L70:L101,AD10)","v":6},{"$f":"AE10/(AG4-AE20)","v":0.1875},{"$f":"IF(AF10=0,0,(AF10*((LOG(AF10))/LOG(2))))","v":-0.45281953111478312},null,{"$f":"N10","v":1122},{"$f":"COUNTIF(L102:L133,AI10)","v":0},{"$f":"AJ10/(AL4-AJ20)","v":0},{"$f":"IF(AK10=0,0,(AK10*((LOG(AK10))/LOG(2))))","v":0},null,{"$f":"N10","v":1122},{"$f":"COUNTIF(L134:L164,AN10)","v":1},{"$f":"AO10/(AQ4-AO20)","v":3.2258064516129031E-2},{"$f":"IF(AP10=0,0,(AP10*((LOG(AP10))/LOG(2))))","v":-0.15981278420602821},null,{"$f":"N10","v":1122},{"$f":"COUNTIF(L165:L196,AS10)","v":1},{"$f":"AT10/(AV4-AT20)","v":3.125E-2},{"$f":"IF(AU10=0,0,(AU10*((LOG(AU10))/LOG(2))))","v":-0.15625}]
[12,537,14,545,13,552,14,563,null,null,0,1111,null,1211,{"$f":"COUNTIF($L$7:$L$500,N11)","v":0},{"$f":"O11/$Q$4","v":0},{"$f":"IF(P11=0,0,(P11*((LOG(P11))/LOG(2))))","v":0},null,null,{"$f":"N11","v":1211},{"$f":"COUNTIF(L7:L38,T11)","v":0},{"$f":"U11/(W4-U20)","v":0},{"$f":"IF(V11=0,0,(V11*((LOG(V11))/LOG(2))))","v":0},null,{"$f":"N11","v":1211},{"$f":"COUNTIF(L39:L69,Y11)","v":0},{"$f":"Z11/(AB4-Z20)","v":0},{"$f":"IF(AA11=0,0,(AA11*((LOG(AA11))/LOG(2))))","v":0},null,{"$f":"N11","v":1211},{"$f":"COUNTIF(L70:L101,AD11)","v":0},{"$f":"AE11/(AG4-AE20)","v":0},{"$f":"IF(AF11=0,0,(AF11*((LOG(AF11))/LOG(2))))","v":0},null,{"$f":"N11","v":1211},{"$f":"COUNTIF(L102:L133,AI11)","v":0},{"$f":"AJ11/(AL4-AJ20)","v":0},{"$f":"IF(AK11=0,0,(AK11*((LOG(AK11))/LOG(2))))","v":0},null,{"$f":"N11","v":1211},{"$f":"COUNTIF(L134:L164,AN11)","v":0},{"$f":"AO11/(AQ4-AO20)","v":0},{"$f":"IF(AP11=0,0,(AP11*((LOG(AP11))/LOG(2))))","v":0},null,{"$f":"N11","v":1211},{"$f":"COUNTIF(L165:L196,AS11)","v":0},{"$f":"AT11/(AV4-AT20)","v":0},{"$f":"IF(AU11=0,0,(AU11*((LOG(AU11))/LOG(2))))","v":0}]
[12,656,14,664,24,674,23,681,null,null,0,1122,null,1212,{"$f":"COUNTIF($L$7:$L$500,N12)","v":0},{"$f":"O12/$Q$4","v":0},{"$f":"IF(P12=0,0,(P12*((LOG(P12))/LOG(2))))","v":0},null,null,{"$f":"N12","v":1212},{"$f":"COUNTIF(L7:L38,T12)","v":0},{"$f":"U12/(W4-U20)","v":0},{"$f":"IF(V12=0,0,(V12*((LOG(V12))/LOG(2))))","v":0},null,{"$f":"N12","v":1212},{"$f":"COUNTIF(L39:L69,Y12)","v":0},{"$f":"Z12/(AB4-Z20)","v":0},{"$f":"IF(AA12=0,0,(AA12*((LOG(AA12))/LOG(2))))","v":0},null,{"$f":"N12","v":1212},{"$f":"COUNTIF(L70:L101,AD12)","v":0},{"$f":"AE12/(AG4-AE20)","v":0},{"$f":"IF(AF12=0,0,(AF12*((LOG(AF12))/LOG(2))))","v":0},null,{"$f":"N12","v":1212},{"$f":"COUNTIF(L102:L133,AI12)","v":0},{"$f":"AJ12/(AL4-AJ20)","v":0},{"$f":"IF(AK12=0,0,(AK12*((LOG(AK12))/LOG(2))))","v":0},null,{"$f":"N12","v":1212},{"$f":"COUNTIF(L134:L164,AN12)","v":0},{"$f":"AO12/(AQ4-AO20)","v":0},{"$f":"IF(AP12=0,0,(AP12*((LOG(AP12))/LOG(2))))","v":0},null,{"$f":"N12","v":1212},{"$f":"COUNTIF(L165:L196,AS12)","v":0},{"$f":"AT12/(AV4-AT20)","v":0},{"$f":"IF(AU12=0,0,(AU12*((LOG(AU12))/LOG(2))))","v":0}]
[12,781,14,787,13,793,14,801,null,null,0,1111,null,1221,{"$f":"COUNTIF($L$7:$L$500,N13)","v":0},{"$f":"O13/$Q$4","v":0},{"$f":"IF(P13=0,0,(P13*((LOG(P13))/LOG(2))))","v":0},null,null,{"$f":"N13","v":1221},{"$f":"COUNTIF(L7:L38,T13)","v":0},{"$f":"U13/(W4-U20)","v":0},{"$f":"IF(V13=0,0,(V13*((LOG(V13))/LOG(2))))","v":0},null,{"$f":"N13","v":1221},{"$f":"COUNTIF(L39:L69,Y13)","v":0},{"$f":"Z13/(AB4-Z20)","v":0},{"$f":"IF(AA13=0,0,(AA13*((LOG(AA13))/LOG(2))))","v":0},null,{"$f":"N13","v":1221},{"$f":"COUNTIF(L70:L101,AD13)","v":0},{"$f":"AE13/(AG4-AE20)","v":0},{"$f":"IF(AF13=0,0,(AF13*((LOG(AF13))/LOG(2))))","v":0},null,{"$f":"N13","v":1221},{"$f":"COUNTIF(L102:L133,AI13)","v":0},{"$f":"AJ13/(AL4-AJ20)","v":0},{"$f":"IF(AK13=0,0,(AK13*((LOG(AK13))/LOG(2))))","v":0},null,{"$f":"N13","v":1221},{"$f":"COUNTIF(L134:L164,AN13)","v":0},{"$f":"AO13/(AQ4-AO20)","v":0},{"$f":"IF(AP13=0,0,(AP13*((LOG(AP13))/LOG(2))))","v":0},null,{"$f":"N13","v":1221},{"$f":"COUNTIF(L165:L196,AS13)","v":0},{"$f":"AT13/(AV4-AT20)","v":0},{"$f":"IF(AU13=0,0,(AU13*((LOG(AU13))/LOG(2))))","v":0}]
[12,903,14,913,13,921,23,931,null,null,0,1112,null,1222,{"$f":"COUNTIF($L$7:$L$500,N14)","v":1},{"$f":"O14/$Q$4","v":5.263157894736842E-3},{"$f":"IF(P14=0,0,(P14*((LOG(P14))/LOG(2))))","v":-3.9841345307004991E-2},null,null,{"$f":"N14","v":1222},{"$f":"COUNTIF(L7:L38,T14)","v":1},{"$f":"U14/(W4-U20)","v":3.125E-2},{"$f":"IF(V14=0,0,(V14*((LOG(V14))/LOG(2))))","v":-0.15625},null,{"$f":"N14","v":1222},{"$f":"COUNTIF(L39:L69,Y14)","v":0},{"$f":"Z14/(AB4-Z20)","v":0},{"$f":"IF(AA14=0,0,(AA14*((LOG(AA14))/LOG(2))))","v":0},null,{"$f":"N14","v":1222},{"$f":"COUNTIF(L70:L101,AD14)","v":0},{"$f":"AE14/(AG4-AE20)","v":0},{"$f":"IF(AF14=0,0,(AF14*((LOG(AF14))/LOG(2))))","v":0},null,{"$f":"N14","v":1222},{"$f":"COUNTIF(L102:L133,AI14)","v":0},{"$f":"AJ14/(AL4-AJ20)","v":0},{"$f":"IF(AK14=0,0,(AK14*((LOG(AK14))/LOG(2))))","v":0},null,{"$f":"N14","v":1222},{"$f":"COUNTIF(L134:L164,AN14)","v":0},{"$f":"AO14/(AQ4-AO20)","v":0},{"$f":"IF(AP14=0,0,(AP14*((LOG(AP14))/LOG(2))))","v":0},null,{"$f":"N14","v":1222},{"$f":"COUNTIF(L165:L196,AS14)","v":0},{"$f":"AT14/(AV4-AT20)","v":0},{"$f":"IF(AU14=0,0,(AU14*((LOG(AU14))/LOG(2))))","v":0}]
[12,1035,14,1041,13,1048,23,1058,null,null,0,1112,null,2111,{"$f":"COUNTIF($L$7:$L$500,N15)","v":0},{"$f":"O15/$Q$4","v":0},{"$f":"IF(P15=0,0,(P15*((LOG(P15))/LOG(2))))","v":0},null,null,{"$f":"N15","v":2111},{"$f":"COUNTIF(L7:L38,T15)","v":0},{"$f":"U15/(W4-U20)","v":0},{"$f":"IF(V15=0,0,(V15*((LOG(V15))/LOG(2))))","v":0},null,{"$f":"N15","v":2111},{"$f":"COUNTIF(L39:L69,Y15)","v":0},{"$f":"Z15/(AB4-Z20)","v":0},{"$f":"IF(AA15=0,0,(AA15*((LOG(AA15))/LOG(2))))","v":0},null,{"$f":"N15","v":2111},{"$f":"COUNTIF(L70:L101,AD15)","v":0},{"$f":"AE15/(AG4-AE20)","v":0},{"$f":"IF(AF15=0,0,(AF15*((LOG(AF15))/LOG(2))))","v":0},null,{"$f":"N15","v":2111},{"$f":"COUNTIF(L102:L133,AI15)","v":0},{"$f":"AJ15/(AL4-AJ20)","v":0},{"$f":"IF(AK15=0,0,(AK15*((LOG(AK15))/LOG(2))))","v":0},null,{"$f":"N15","v":2111},{"$f":"COUNTIF(L134:L164,AN15)","v":0},{"$f":"AO15/(AQ4-AO20)","v":0},{"$f":"IF(AP15=0,0,(AP15*((LOG(AP15))/LOG(2))))","v":0},null,{"$f":"N15","v":2111},{"$f":"COUNTIF(L165:L196,AS15)","v":0},{"$f":"AT15/(AV4-AT20)","v":0},{"$f":"IF(AU15=0,0,(AU15*((LOG(AU15))/LOG(2))))","v":0}]
[12,1155,14,1161,13,1174,23,1188,null,null,0,1112,null,2112,{"$f":"COUNTIF($L$7:$L$500,N16)","v":0},{"$f":"O16/$Q$4","v":0},{"$f":"IF(P16=0,0,(P16*((LOG(P16))/LOG(2))))","v":0},null,null,{"$f":"N16","v":2112},{"$f":"COUNTIF(L7:L38,T16)","v":0},{"$f":"U16/(W4-U20)","v":0},{"$f":"IF(V16=0,0,(V16*((LOG(V16))/LOG(2))))","v":0},null,{"$f":"N16","v":2112},{"$f":"COUNTIF(L39:L69,Y16)","v":0},{"$f":"Z16/(AB4-Z20)","v":0},{"$f":"IF(AA16=0,0,(AA16*((LOG(AA16))/LOG(2))))","v":0},null,{"$f":"N16","v":2112},{"$f":"COUNTIF(L70:L101,AD16)","v":0},{"$f":"AE16/(AG4-AE20)","v":0},{"$f":"IF(AF16=0,0,(AF16*((LOG(AF16))/LOG(2))))","v":0},null,{"$f":"N16","v":2112},{"$f":"COUNTIF(L102:L133,AI16)","v":0},{"$f":"AJ16/(AL4-AJ20)","v":0},{"$f":"IF(AK16=0,0,(AK16*((LOG(AK16))/LOG(2))))","v":0},null,{"$f":"N16","v":2112},{"$f":"COUNTIF(L134:L164,AN16)","v":0},{"$f":"AO16/(AQ4-AO20)","v":0},{"$f":"IF(AP16=0,0,(AP16*((LOG(AP16))/LOG(2))))","v":0},null,{"$f":"N16","v":2112},{"$f":"COUNTIF(L165:L196,AS16)","v":0},{"$f":"AT16/(AV4-AT20)","v":0},{"$f":"IF(AU16=0,0,(AU16*((LOG(AU16))/LOG(2))))","v":0}]
[12,1290,14,1298,24,1311,23,1315,null,null,0,1122,null,2121,{"$f":"COUNTIF($L$7:$L$500,N17)","v":0},{"$f":"O17/$Q$4","v":0},{"$f":"IF(P17=0,0,(P17*((LOG(P17))/LOG(2))))","v":0},null,null,{"$f":"N17","v":2121},{"$f":"COUNTIF(L7:L38,T17)","v":0},{"$f":"U17/(W4-U20)","v":0},{"$f":"IF(V17=0,0,(V17*((LOG(V17))/LOG(2))))","v":0},null,{"$f":"N17","v":2121},{"$f":"COUNTIF(L39:L69,Y17)","v":0},{"$f":"Z17/(AB4-Z20)","v":0},{"$f":"IF(AA17=0,0,(AA17*((LOG(AA17))/LOG(2))))","v":0},null,{"$f":"N17","v":2121},{"$f":"COUNTIF(L70:L101,AD17)","v":0},{"$f":"AE17/(AG4-AE20)","v":0},{"$f":"IF(AF17=0,0,(AF17*((LOG(AF17))/LOG(2))))","v":0},null,{"$f":"N17","v":2121},{"$f":"COUNTIF(L102:L133,AI17)","v":0},{"$f":"AJ17/(AL4-AJ20)","v":0},{"$f":"IF(AK17=0,0,(AK17*((LOG(AK17))/LOG(2))))","v":0},null,{"$f":"N17","v":2121},{"$f":"COUNTIF(L134:L164,AN17)","v":0},{"$f":"AO17/(AQ4-AO20)","v":0},{"$f":"IF(AP17=0,0,(AP17*((LOG(AP17))/LOG(2))))","v":0},null,{"$f":"N17","v":2121},{"$f":"COUNTIF(L165:L196,AS17)","v":0},{"$f":"AT17/(AV4-AT20)","v":0},{"$f":"IF(AU17=0,0,(AU17*((LOG(AU17))/LOG(2))))","v":0}]
[12,1452,14,1464,13,1473,23,1483,null,null,0,1112,null,2122,{"$f":"COUNTIF($L$7:$L$500,N18)","v":0},{"$f":"O18/$Q$4","v":0},{"$f":"IF(P18=0,0,(P18*((LOG(P18))/LOG(2))))","v":0},null,null,{"$f":"N18","v":2122},{"$f":"COUNTIF(L7:L38,T18)","v":0},{"$f":"U18/(W4-U20)","v":0},{"$f":"IF(V18=0,0,(V18*((LOG(V18))/LOG(2))))","v":0},null,{"$f":"N18","v":2122},{"$f":"COUNTIF(L39:L69,Y18)","v":0},{"$f":"Z18/(AB4-Z20)","v":0},{"$f":"IF(AA18=0,0,(AA18*((LOG(AA18))/LOG(2))))","v":0},null,{"$f":"N18","v":2122},{"$f":"COUNTIF(L70:L101,AD18)","v":0},{"$f":"AE18/(AG4-AE20)","v":0},{"$f":"IF(AF18=0,0,(AF18*((LOG(AF18))/LOG(2))))","v":0},null,{"$f":"N18","v":2122},{"$f":"COUNTIF(L102:L133,AI18)","v":0},{"$f":"AJ18/(AL4-AJ20)","v":0},{"$f":"IF(AK18=0,0,(AK18*((LOG(AK18))/LOG(2))))","v":0},null,{"$f":"N18","v":2122},{"$f":"COUNTIF(L134:L164,AN18)","v":0},{"$f":"AO18/(AQ4-AO20)","v":0},{"$f":"IF(AP18=0,0,(AP18*((LOG(AP18))/LOG(2))))","v":0},null,{"$f":"N18","v":2122},{"$f":"COUNTIF(L165:L196,AS18)","v":0},{"$f":"AT18/(AV4-AT20)","v":0},{"$f":"IF(AU18=0,0,(AU18*((LOG(AU18))/LOG(2))))","v":0}]
[12,1604,14,1610,13,1617,23,1631,null,null,0,1112,null,2211,{"$f":"COUNTIF($L$7:$L$500,N19)","v":0},{"$f":"O19/$Q$4","v":0},{"$f":"IF(P19=0,0,(P19*((LOG(P19))/LOG(2))))","v":0},null,null,{"$f":"N19","v":2211},{"$f":"COUNTIF(L7:L38,T19)","v":0},{"$f":"U19/(W4-U20)","v":0},{"$f":"IF(V19=0,0,(V19*((LOG(V19))/LOG(2))))","v":0},null,{"$f":"N19","v":2211},{"$f":"COUNTIF(L39:L69,Y19)","v":0},{"$f":"Z19/(AB4-Z20)","v":0},{"$f":"IF(AA19=0,0,(AA19*((LOG(AA19))/LOG(2))))","v":0},null,{"$f":"N19","v":2211},{"$f":"COUNTIF(L70:L101,AD19)","v":0},{"$f":"AE19/(AG4-AE20)","v":0},{"$f":"IF(AF19=0,0,(AF19*((LOG(AF19))/LOG(2))))","v":0},null,{"$f":"N19","v":2211},{"$f":"COUNTIF(L102:L133,AI19)","v":0},{"$f":"AJ19/(AL4-AJ20)","v":0},{"$f":"IF(AK19=0,0,(AK19*((LOG(AK19))/LOG(2))))","v":0},null,{"$f":"N19","v":2211},{"$f":"COUNTIF(L134:L164,AN19)","v":0},{"$f":"AO19/(AQ4-AO20)","v":0},{"$f":"IF(AP19=0,0,(AP19*((LOG(AP19))/LOG(2))))","v":0},null,{"$f":"N19","v":2211},{"$f":"COUNTIF(L165:L196,AS19)","v":0},{"$f":"AT19/(AV4-AT20)","v":0},{"$f":"IF(AU19=0,0,(AU19*((LOG(AU19))/LOG(2))))","v":0}]
[12,1731,14,1739,24,1749,23,1754,null,null,0,1122,null,2212,{"$f":"COUNTIF($L$7:$L$500,N20)","v":0},{"$f":"O20/$Q$4","v":0},{"$f":"IF(P20=0,0,(P20*((LOG(P20))/LOG(2))))","v":0},null,null,{"$f":"N20","v":2212},{"$f":"COUNTIF(L7:L38,T20)","v":0},null,null,null,{"$f":"N20","v":2212},{"$f":"COUNTIF(L39:L69,Y20)","v":0},null,null,null,{"$f":"N20","v":2212},{"$f":"COUNTIF(L70:L101,AD20)","v":0},null,null,null,{"$f":"N20","v":2212},{"$f":"COUNTIF(L102:L133,AI20)","v":0},null,null,null,{"$f":"N20","v":2212},{"$f":"COUNTIF(L134:L164,AN20)","v":0},null,null,null,{"$f":"N20","v":2212},{"$f":"COUNTIF(L165:L196,AS20)","v":0}]
[12,1847,14,1855,24,1869,23,1876,null,null,0,1122,null,2221,{"$f":"COUNTIF($L$7:$L$500,N21)","v":0},{"$f":"O21/$Q$4","v":0},{"$f":"IF(P21=0,0,(P21*((LOG(P21))/LOG(2))))","v":0},null,null,{"$f":"N21","v":2221},{"$f":"COUNTIF(L7:L38,T21)","v":0},{"$f":"U21/(W4-U20)","v":0},{"$f":"IF(V21=0,0,(V21*((LOG(V21))/LOG(2))))","v":0},null,{"$f":"N21","v":2221},{"$f":"COUNTIF(L39:L69,Y21)","v":0},{"$f":"Z21/(AB4-Z20)","v":0},{"$f":"IF(AA21=0,0,(AA21*((LOG(AA21))/LOG(2))))","v":0},null,{"$f":"N21","v":2221},{"$f":"COUNTIF(L70:L101,AD21)","v":0},{"$f":"AE21/(AG4-AE20)","v":0},{"$f":"IF(AF21=0,0,(AF21*((LOG(AF21))/LOG(2))))","v":0},null,{"$f":"N21","v":2221},{"$f":"COUNTIF(L102:L133,AI21)","v":0},{"$f":"AJ21/(AL4-AJ20)","v":0},{"$f":"IF(AK21=0,0,(AK21*((LOG(AK21))/LOG(2))))","v":0},null,{"$f":"N21","v":2221},{"$f":"COUNTIF(L134:L164,AN21)","v":0},{"$f":"AO21/(AQ4-AO20)","v":0},{"$f":"IF(AP21=0,0,(AP21*((LOG(AP21))/LOG(2))))","v":0},null,{"$f":"N21","v":2221},{"$f":"COUNTIF(L165:L196,AS21)","v":0},{"$f":"AT21/(AV4-AT20)","v":0},{"$f":"IF(AU21=0,0,(AU21*((LOG(AU21))/LOG(2))))","v":0}]
[12,2037,14,2042,13,2051,23,2063,null,null,0,1112,null,2222,{"$f":"COUNTIF($L$7:$L$500,N22)","v":0},{"$f":"O22/$Q$4","v":0},{"$f":"IF(P22=0,0,(P22*((LOG(P22))/LOG(2))))","v":0},null,null,{"$f":"N22","v":2222},{"$f":"COUNTIF(L7:L38,T22)","v":0},{"$f":"U22/(W4-U20)","v":0},{"$f":"IF(V22=0,0,(V22*((LOG(V22))/LOG(2))))","v":0},null,{"$f":"N22","v":2222},{"$f":"COUNTIF(L39:L69,Y22)","v":0},{"$f":"Z22/(AB4-Z20)","v":0},{"$f":"IF(AA22=0,0,(AA22*((LOG(AA22))/LOG(2))))","v":0},null,{"$f":"N22","v":2222},{"$f":"COUNTIF(L70:L101,AD22)","v":0},{"$f":"AE22/(AG4-AE20)","v":0},{"$f":"IF(AF22=0,0,(AF22*((LOG(AF22))/LOG(2))))","v":0},null,{"$f":"N22","v":2222},{"$f":"COUNTIF(L102:L133,AI22)","v":0},{"$f":"AJ22/(AL4-AJ20)","v":0},{"$f":"IF(AK22=0,0,(AK22*((LOG(AK22))/LOG(2))))","v":0},null,{"$f":"N22","v":2222},{"$f":"COUNTIF(L134:L164,AN22)","v":0},{"$f":"AO22/(AQ4-AO20)","v":0},{"$f":"IF(AP22=0,0,(AP22*((LOG(AP22))/LOG(2))))","v":0},null,{"$f":"N22","v":2222},{"$f":"COUNTIF(L165:L196,AS22)","v":0},{"$f":"AT22/(AV4-AT20)","v":0},{"$f":"IF(AU22=0,0,(AU22*((LOG(AU22))/LOG(2))))","v":0}]
[12,2155,14,2162,24,2173,23,2178,null,null,0,1122,null,null,null,{"$f":"SUM(P7:P22)","v":1},{"$f":"-SUM(Q7:Q22)","v":1.4595044839168774},null,null,null,null,{"$f":"SUM(V7:V22)","v":1},{"$f":"-SUM(W7:W22)","v":1.5008828848666198},null,null,null,{"$f":"SUM(AA7:AA22)","v":1},{"$f":"-SUM(AB7:AB22)","v":1.4586444649084445},null,null,null,{"$f":"SUM(AF7:AF22)","v":1},{"$f":"-SUM(AG7:AG22)","v":1.45231349004489},null,null,null,{"$f":"SUM(AK7:AK22)","v":1},{"$f":"-SUM(AL7:AL22)","v":0.95443400292496505},null,null,null,{"$f":"SUM(AP7:AP22)","v":1},{"$f":"-SUM(AQ7:AQ22)","v":1.0584546687309146},null,null,null,{"$f":"SUM(AU7:AU22)","v":1},{"$f":"-SUM(AV7:AV22)","v":1.1628175871855553}]
[12,2278,14,2287,13,2295,23,2311,null,null,0,1112,null,null,null,"U=",{"$f":"Q23/(LOG(Q4)/LOG(2))","v":0.19280479832543049},null,null,null,null,"U1=",{"$f":"W23/(LOG(W4)/LOG(2))","v":0.30017657697332395},null,null,null,"U2=",{"$f":"AB23/(LOG(AB4)/LOG(2))","v":0.29442605288980533},null,null,null,"U3=",{"$f":"AG23/(LOG(AG4)/LOG(2))","v":0.290462698008978},null,null,null,"U4=",{"$f":"AL23/(LOG(AL4)/LOG(2))","v":0.19088680058499302},null,null,null,"U5=",{"$f":"AQ23/(LOG(AQ4)/LOG(2))","v":0.21364810807189422},null,null,null,"U6=",{"$f":"AV23/(LOG(AV4)/LOG(2))","v":0.23256351743711107}]
[12,2408,14,2414,13,2421,23,2430,null,null,0,1112]
[12,2527,14,2534,13,2545,23,2556,null,null,0,1112]
[12,2653,14,2658,13,2665,14,2673,null,null,0,1111,null,"Total Target Seq"]
[12,2771,14,2778,13,2787,23,2797,null,null,0,1112,null,{"$f":"COUNTIF(L7:L196,G3)","v":0},null,32,31,32,32,31,32]
[12,2889,14,2897,13,2905,14,2914,null,null,0,1111,null,null,null,"% of reinforcement given in 6 equal intervals based on number of trials "]
[12,3022,14,3031,13,3039,23,3051,null,null,0,1112,null,null,null,"%_1","%_2","%_3","%_4","%_5","%_6"]
[12,3143,14,3152,13,3161,23,3174,null,null,0,1112,null,null,"target sequence",{"$f":"$G$3","v":2212},{"$f":"$G$3","v":2212},{"$f":"$G$3","v":2212},{"$f":"$G$3","v":2212},{"$f":"$G$3","v":2212},{"$f":"$G$3","v":2212}]
[12,3320,23,3330,24,3337,23,3342,null,null,0,1222,null,null,"total reinforcement",{"$f":"U20","v":0},{"$f":"Z20","v":0},{"$f":"AE20","v":0},{"$f":"AJ20","v":0},{"$f":"AO20","v":0},{"$f":"AT20","v":0}]
[12,3440,14,3446,13,3453,14,3462,null,null,0,1111,null,null,"% target"]
[12,3604,14,3613,13,3621,23,3630,null,null,0,1112,null,null,"CCRF"]
[12,3722,14,3727,13,3735,23,3745,null,null,0,1112,null,null,"% CCRf"]
[12,3839,14,3846,13,3854,23,3864,null,null,0,1112,null,null,"average response rate",{"$f":"H38/P28","v":128.34375},{"$f":"(H69-H38)/Q28","v":123.7741935483871},{"$f":"(H101-H69)/R28","v":128.625},{"$f":"(H133-H101)/S28","v":123.53125},{"$f":"(H164-H133)/T28","v":121.83870967741936},{"$f":"(H196-H164)/U28","v":129.78125}]
[12,3964,14,3973,13,3980,23,3995,null,null,0,1112]
[12,4091,14,4096,13,4100,14,4107,null,null,0,1111]
[12,4208,14,4217,13,4226,23,4236,null,null,0,1112]
[12,4344,14,4351,24,4360,23,4365,null,null,0,1122]
[12,4463,14,4471,13,4479,23,4492,null,null,0,1112]
[12,4586,14,4592,24,4604,23,4611,null,null,0,1122]
[12,4707,14,4713,24,4727,14,4735,null,null,0,1121]
[12,4832,14,4837,13,4845,23,4855,null,null,0,1112]
[12,4948,14,4956,24,4965,23,4972,null,null,0,1122]
[12,5070,14,5084,24,5098,23,5103,null,null,0,1122]
[12,5203,14,5209,13,5216,23,5229,null,null,0,1112]
[12,5329,14,5334,13,5336,14,5343,null,null,0,1111]
[12,5440,14,5445,13,5453,23,5467,null,null,0,1112]
[12,5564,14,5571,13,5578,23,5590,null,null,0,1112]
[12,5690,14,5695,13,5699,14,5707,null,null,0,1111]
[12,5804,14,5811,24,5825,23,5832,null,null,0,1122]
[12,5930,14,5939,13,5947,14,5955,null,null,0,1111]
[12,6053,14,6058,13,6065,14,6073,null,null,0,1111]
[12,6174,14,6179,13,6186,23,6196,null,null,0,1112]
[12,6313,14,6318,13,6325,23,6338,null,null,0,1112]
[12,6435,14,6439,13,6446,23,6454,null,null,0,1112]
[12,6551,14,6555,13,6560,23,6570,null,null,0,1112]
[12,6669,14,6678,24,6690,23,6696,null,null,0,1122]
[12,6788,14,6793,13,6800,23,6812,null,null,0,1112]
[12,6909,14,6913,13,6921,23,6930,null,null,0,1112]
[12,7028,14,7033,13,7040,23,7049,null,null,0,1112]
[12,7147,14,7153,13,7160,23,7173,null,null,0,1112]
[12,7282,14,7288,13,7302,23,7315,null,null,0,1112]
[12,7412,14,7418,13,7425,23,7435,null,null,0,1112]
[12,7532,14,7536,13,7546,23,7569,null,null,0,1112]
[12,7668,14,7675,24,7687,23,7693,null,null,0,1122]
[12,7791,14,7796,13,7805,23,7817,null,null,0,1112]
[12,7914,14,7923,13,7932,23,7944,null,null,0,1112]
[12,8045,14,8051,24,8063,23,8070,null,null,0,1122]
[12,8165,14,8173,13,8190,14,8197,null,null,0,1111]
[12,8295,14,8299,13,8304,23,8322,null,null,0,1112]
[12,8420,14,8424,13,8431,14,8439,null,null,0,1111]
[12,8538,14,8543,13,8550,23,8564,null,null,0,1112]
[12,8665,14,8670,13,8675,14,8683,null,null,0,1111]
[12,8779,14,8786,24,8796,23,8805,null,null,0,1122]
[12,8918,14,8925,13,8932,14,8939,null,null,0,1111]
[12,9039,14,9044,13,9053,14,9065,null,null,0,1111]
[12,9164,14,9171,13,9185,23,9200,null,null,0,1112]
[12,9301,14,9306,13,9314,23,9326,null,null,0,1112]
[12,9427,14,9433,13,9450,14,9458,null,null,0,1111]
[12,9557,14,9562,13,9578,23,9590,null,null,0,1112]
[12,9697,14,9704,13,9711,23,9722,null,null,0,1112]
[12,9819,14,9824,13,9832,23,9845,null,null,0,1112]
[12,9944,14,9950,13,9955,14,9967,null,null,0,1111]
[12,10104,14,10109,13,10117,23,10130,null,null,0,1112]
[12,10220,14,10224,13,10228,14,10235,null,null,0,1111]
[12,10334,14,10341,24,10352,23,10362,null,null,0,1122]
[12,10462,14,10469,24,10481,23,10486,null,null,0,1122]
[12,10591,14,10598,13,10607,23,10617,null,null,0,1112]
[12,10713,14,10719,13,10725,14,10733,null,null,0,1111]
[12,10832,14,10837,13,10844,23,10855,null,null,0,1112]
[12,10957,14,10962,13,10969,23,10980,null,null,0,1112]
[12,11077,14,11086,24,11096,23,11101,null,null,0,1122]
[12,11199,14,11206,13,11213,23,11227,null,null,0,1112]
[12,11331,14,11339,13,11346,23,11357,null,null,0,1112]
[12,11462,14,11467,13,11489,23,11502,null,null,0,1112]
[12,11612,14,11620,13,11627,23,11639,null,null,0,1112]
[12,11738,14,11744,13,11751,23,11762,null,null,0,1112]
[12,11910,14,11918,13,11925,23,11936,null,null,0,1112]
[12,12034,14,12041,24,12052,23,12060,null,null,0,1122]
[12,12189,14,12195,13,12203,23,12215,null,null,0,1112]
[12,12313,14,12317,13,12322,14,12329,null,null,0,1111]
[12,12427,14,12434,13,12443,23,12453,null,null,0,1112]
[12,12551,14,12555,13,12563,14,12570,null,null,0,1111]
[12,12662,14,12667,13,12672,14,12680,null,null,0,1111]
[12,12776,14,12781,13,12787,14,12795,null,null,0,1111]
[12,12894,14,12902,13,12909,23,12921,null,null,0,1112]
[12,13025,14,13033,13,13040,14,13048,null,null,0,1111]
[12,13163,14,13171,13,13179,14,13186,null,null,0,1111]
[12,13308,14,13313,13,13321,14,13328,null,null,0,1111]
[12,13426,14,13431,13,13438,14,13445,null,null,0,1111]
[12,13542,14,13547,13,13553,23,13566,null,null,0,1112]
[12,13662,14,13667,13,13672,14,13679,null,null,0,1111]
[12,13773,14,13778,13,13785,23,13797,null,null,0,1112]
[12,13895,14,13899,13,13905,14,13912,null,null,0,1111]
[12,14017,14,14023,13,14031,23,14040,null,null,0,1112]
[12,14140,14,14144,13,14151,23,14163,null,null,0,1112]
[12,14259,14,14264,13,14269,14,14277,null,null,0,1111]
[12,14390,14,14395,13,14402,23,14414,null,null,0,1112]
[12,14513,14,14518,13,14525,14,14532,null,null,0,1111]
[12,14630,14,14639,13,14660,23,14672,null,null,0,1112]
[12,14771,14,14775,13,14782,23,14794,null,null,0,1112]
[12,14906,14,14911,13,14919,14,14927,null,null,0,1111]
[12,15027,14,15034,13,15041,14,15049,null,null,0,1111]
[12,15146,14,15152,13,15159,14,15166,null,null,0,1111]
[12,15264,14,15268,13,15275,23,15287,null,null,0,1112]
[12,15391,14,15395,13,15401,14,15408,null,null,0,1111]
[12,15511,14,15515,13,15520,14,15528,null,null,0,1111]
[12,15629,14,15634,13,15639,14,15647,null,null,0,1111]
[12,15745,14,15753,13,15759,14,15766,null,null,0,1111]
[12,15865,14,15870,13,15878,14,15885,null,null,0,1111]
[12,15985,14,15993,13,16001,23,16013,null,null,0,1112]
[12,16111,14,16121,13,16129,23,16141,null,null,0,1112]
[12,16238,14,16244,13,16251,23,16263,null,null,0,1112]
[12,16360,14,16365,13,16372,14,16382,null,null,0,1111]
[12,16478,14,16486,13,16495,23,16507,null,null,0,1112]
[12,16603,14,16608,13,16613,14,16620,null,null,0,1111]
[12,16718,14,16723,13,16727,14,16734,null,null,0,1111]
[12,16828,14,16833,13,16841,14,16849,null,null,0,1111]
[12,16948,14,16952,13,16959,14,16967,null,null,0,1111]
[12,17068,14,17072,13,17077,14,17084,null,null,0,1111]
[12,17187,14,17194,13,17201,23,17213,null,null,0,1112]
[12,17304,14,17309,13,17316,14,17324,null,null,0,1111]
[12,17421,14,17425,13,17430,14,17437,null,null,0,1111]
[12,17534,14,17545,13,17554,23,17567,null,null,0,1112]
[12,17681,14,17685,13,17691,14,17700,null,null,0,1111]
[12,17796,14,17800,13,17807,23,17829,null,null,0,1112]
[12,17925,14,17930,13,17937,14,17944,null,null,0,1111]
[12,18042,14,18047,13,18054,14,18060,null,null,0,1111]
[12,18160,14,18164,13,18175,14,18183,null,null,0,1111]
[12,18286,14,18291,13,18295,14,18303,null,null,0,1111]
[12,18398,14,18403,13,18408,14,18418,null,null,0,1111]
[12,18521,14,18526,13,18531,14,18539,null,null,0,1111]
[12,18644,14,18648,13,18653,14,18661,null,null,0,1111]
[12,18763,14,18768,13,18775,14,18785,null,null,0,1111]
[12,18886,14,18891,13,18898,14,18906,null,null,0,1111]
[12,19005,14,19016,24,19042,23,19049,null,null,0,1122]
[12,19148,14,19154,13,19161,23,19173,null,null,0,1112]
[12,19269,14,19276,13,19283,14,19291,null,null,0,1111]
[12,19401,14,19408,13,19415,14,19420,null,null,0,1111]
[12,19517,14,19522,13,19529,14,19537,null,null,0,1111]
[12,19636,14,19642,13,19649,23,19660,null,null,0,1112]
[12,19755,14,19770,13,19777,23,19790,null,null,0,1112]
[12,19887,14,19895,13,19902,23,19918,null,null,0,1112]
[12,20018,14,20023,13,20031,14,20038,null,null,0,1111]
[12,20135,14,20141,13,20148,23,20161,null,null,0,1112]
[12,20259,14,20266,13,20273,14,20280,null,null,0,1111]
[12,20377,14,20382,13,20389,23,20402,null,null,0,1112]
[12,20511,14,20516,13,20521,14,20530,null,null,0,1111]
[12,20627,14,20634,13,20643,23,20657,null,null,0,1112]
[12,20758,14,20765,13,20773,14,20782,null,null,0,1111]
[12,20878,14,20889,13,20895,14,20903,null,null,0,1111]
[12,21007,14,21011,13,21016,23,21036,null,null,0,1112]
[12,21185,14,21194,24,21206,23,21211,null,null,0,1122]
[12,21310,14,21316,13,21321,14,21330,null,null,0,1111]
[12,21428,14,21436,13,21444,23,21455,null,null,0,1112]
[12,21548,14,21556,13,21565,23,21579,null,null,0,1112]
[12,21695,14,21701,13,21709,14,21720,null,null,0,1111]
[12,21826,14,21830,13,21835,14,21839,null,null,0,1111]
[12,21941,14,21946,13,21953,23,21971,null,null,0,1112]
[12,22080,14,22084,13,22089,14,22097,null,null,0,1111]
[12,22195,14,22202,13,22210,23,22223,null,null,0,1112]
[12,22347,14,22351,13,22356,14,22365,null,null,0,1111]
[12,22477,14,22482,13,22486,14,22491,null,null,0,1111]
[12,22592,14,22596,13,22601,23,22620,null,null,0,1112]
[12,22730,14,22737,13,22745,14,22757,null,null,0,1111]
[12,22876,14,22881,13,22885,14,22898,null,null,0,1111]
[12,23004,14,23009,13,23013,14,23021,null,null,0,1111]
[12,23118,14,23123,13,23132,23,23145,null,null,0,1112]
[12,23247,14,23252,13,23258,14,23266,null,null,0,1111]
[12,23363,14,23373,13,23380,23,23400,null,null,0,1112]
[12,23502,14,23509,13,23529,23,23550,null,null,0,1112]
[12,23653,14,23658,13,23666,14,23673,null,null,0,1111]
[12,23777,14,23785,13,23792,23,23810,null,null,0,1112]
[12,23919,14,23923,13,23933,14,23943,null,null,null,1111]

{"sheet":"!2011-08-01_09h48m.Subject 53","index":7,"n_rows":188,"n_cols":48,"rows_kept":188,"cut":false,"hidden":false,"merged":[[4,39,4,42],[5,39,5,40],[4,44,4,47],[5,44,5,45],[4,24,4,27],[5,24,5,25],[4,29,4,32],[5,29,5,30],[4,34,4,37],[5,34,5,35],[1,1,1,2],[5,13,5,14],[26,13,26,14],[27,13,27,14],[4,19,4,22],[5,19,5,20]]}
["Report for:!2011-08-01_09h48m.Subject 53"]
["Date","2011-08-01",null,null,null,"Group","Phase 3 Any"]
["Hen",53,null,null,null,"Correct Sequence",{"$f":"Start!J2","v":2212},null,null,null,null,null,null,null,null,"Total Sequences in Data",{"$f":"4994-COUNTBLANK(L7:L5000)","v":182},null,null,null,null,"Total Sequences in Block Data",{"$f":"COUNTA(L7:L36)","v":30},null,null,null,"Total Sequences in Block Data",{"$f":"COUNTA(L37:L67)","v":31},null,null,null,"Total Sequences in Block Data",{"$f":"COUNTA(L68:L97)","v":30},null,null,null,"Total Sequences in Block Data",{"$f":"COUNTA(L98:L127)","v":30},null,null,null,"Total Sequences in Block Data",{"$f":"COUNTA(L128:L158)","v":31},null,null,null,"Total Sequences in Block Data",{"$f":"COUNTA(L159:L188)","v":30}]
["Program","One",null,null,null,null,null,null,null,null,null,null,null,null,null,"Total Sequences in Summary",{"$f":"SUM(O7:O22)","v":182},null,null,null,null,"Total Sequences in Block Summary",{"$f":"SUM(U7:U22)","v":30},null,null,null,"Total Sequences in Block Summary",{"$f":"SUM(Z7:Z22)","v":31},null,null,null,"Total Sequences in Block Summary",{"$f":"SUM(AE7:AE22)","v":30},null,null,null,"Total Sequences in Block Summary",{"$f":"SUM(AJ7:AJ22)","v":30},null,null,null,"Total Sequences in Block Summary",{"$f":"SUM(AO7:AO22)","v":31},null,null,null,"Total Sequences in Block Summary",{"$f":"SUM(AT7:AT22)","v":30}]
[null,null,null,null,null,null,null,null,null,null,null,null,null,null,null,null,null,null,null,"Block 1",null,null,null,null,"Block 2",null,null,null,null,"Block 3",null,null,null,null,"Block 4",null,null,null,null,"Block 5",null,null,null,null,"Block 6"]
["Sequence\nComponent\n1","Time\n1","Sequence\nComponent\n2","Time\n2","Sequence\nComponent\n3","Time\n3","Sequence\nComponent\n4","Time\n4","Sequence\nComponent\n5","Time\n5","Correct?\n0=No 1=Yes","Sequence",null,"Frequency",null,"Relative Frequency","Variability",null,null,"Frequency",null,"Relative Frequency","Variability",null,"Frequency",null,"Relative Frequency","Variability",null,"Frequency",null,"Relative Frequency","Variability",null,"Frequency",null,"Relative Frequency","Variability",null,"Frequency",null,"Relative Frequency","Variability",null,"Frequency",null,"Relative Frequency","Variability"]
[12,9,14,18,13,28,14,35,null,null,0,1111,null,1111,{"$f":"COUNTIF($L$7:$L$500,N7)","v":104},{"$f":"O7/$Q$4","v":0.5714285714285714},{"$f":"IF(P7=0,0,(P7*((LOG(P7))/LOG(2))))","v":-0.46134566974720237},null,null,{"$f":"N7","v":1111},{"$f":"COUNTIF(L7:L36,T7)","v":17},{"$f":"U7/(W4-U20)","v":0.56666666666666665},{"$f":"IF(V7=0,0,(V7*((LOG(V7))/LOG(2))))","v":-0.46434239413630152},null,{"$f":"N7","v":1111},{"$f":"COUNTIF(L37:L67,Y7)","v":22},{"$f":"Z7/(AB4-Z20)","v":0.70967741935483875},{"$f":"IF(AA7=0,0,(AA7*((LOG(AA7))/LOG(2))))","v":-0.35112332962873266},null,{"$f":"N7","v":1111},{"$f":"COUNTIF(L68:L97,AD7)","v":25},{"$f":"AE7/(AG4-AE20)","v":0.83333333333333337},{"$f":"IF(AF7=0,0,(AF7*((LOG(AF7))/LOG(2))))","v":-0.21919533819482812},null,{"$f":"N7","v":1111},{"$f":"COUNTIF(L98:L127,AI7)","v":23},{"$f":"AJ7/(AL4-AJ20)","v":0.76666666666666672},{"$f":"IF(AK7=0,0,(AK7*((LOG(AK7))/LOG(2))))","v":-0.2938852903228209},null,{"$f":"N7","v":1111},{"$f":"COUNTIF(L128:L158,AN7)","v":11},{"$f":"AO7/(AQ4-AO20)","v":0.37931034482758619},{"$f":"IF(AP7=0,0,(AP7*((LOG(AP7))/LOG(2))))","v":-0.53048424625493174},null,{"$f":"N7","v":1111},{"$f":"COUNTIF(L159:L188,AS7)","v":6},{"$f":"AT7/(AV4-AT20)","v":0.2},{"$f":"IF(AU7=0,0,(AU7*((LOG(AU7))/LOG(2))))","v":-0.46438561897747244}]
[12,137,14,145,13,149,14,161,null,null,0,1111,null,1112,{"$f":"COUNTIF($L$7:$L$500,N8)","v":34},{"$f":"O8/$Q$4","v":0.18681318681318682},{"$f":"IF(P8=0,0,(P8*((LOG(P8))/LOG(2))))","v":-0.4521498965068359},null,null,{"$f":"N8","v":1112},{"$f":"COUNTIF(L7:L36,T8)","v":10},{"$f":"U8/(W4-U20)","v":0.33333333333333331},{"$f":"IF(V8=0,0,(V8*((LOG(V8))/LOG(2))))","v":-0.52832083357371862},null,{"$f":"N8","v":1112},{"$f":"COUNTIF(L37:L67,Y8)","v":6},{"$f":"Z8/(AB4-Z20)","v":0.19354838709677419},{"$f":"IF(AA8=0,0,(AA8*((LOG(AA8))/LOG(2))))","v":-0.45856138251594558},null,{"$f":"N8","v":1112},{"$f":"COUNTIF(L68:L97,AD8)","v":4},{"$f":"AE8/(AG4-AE20)","v":0.13333333333333333},{"$f":"IF(AF8=0,0,(AF8*((LOG(AF8))/LOG(2))))","v":-0.3875854127478025},null,{"$f":"N8","v":1112},{"$f":"COUNTIF(L98:L127,AI8)","v":6},{"$f":"AJ8/(AL4-AJ20)","v":0.2},{"$f":"IF(AK8=0,0,(AK8*((LOG(AK8))/LOG(2))))","v":-0.46438561897747244},null,{"$f":"N8","v":1112},{"$f":"COUNTIF(L128:L158,AN8)","v":6},{"$f":"AO8/(AQ4-AO20)","v":0.20689655172413793},{"$f":"IF(AP8=0,0,(AP8*((LOG(AP8))/LOG(2))))","v":-0.4702796884978791},null,{"$f":"N8","v":1112},{"$f":"COUNTIF(L159:L188,AS8)","v":2},{"$f":"AT8/(AV4-AT20)","v":6.6666666666666666E-2},{"$f":"IF(AU8=0,0,(AU8*((LOG(AU8))/LOG(2))))","v":-0.26045937304056793}]
[12,260,14,280,13,289,14,299,null,null,0,1111,null,1121,{"$f":"COUNTIF($L$7:$L$500,N9)","v":1},{"$f":"O9/$Q$4","v":5.4945054945054949E-3},{"$f":"IF(P9=0,0,(P9*((LOG(P9))/LOG(2))))","v":-4.1251618902190638E-2},null,null,{"$f":"N9","v":1121},{"$f":"COUNTIF(L7:L36,T9)","v":1},{"$f":"U9/(W4-U20)","v":3.3333333333333333E-2},{"$f":"IF(V9=0,0,(V9*((LOG(V9))/LOG(2))))","v":-0.16356301985361729},null,{"$f":"N9","v":1121},{"$f":"COUNTIF(L37:L67,Y9)","v":0},{"$f":"Z9/(AB4-Z20)","v":0},{"$f":"IF(AA9=0,0,(AA9*((LOG(AA9))/LOG(2))))","v":0},null,{"$f":"N9","v":1121},{"$f":"COUNTIF(L68:L97,AD9)","v":0},{"$f":"AE9/(AG4-AE20)","v":0},{"$f":"IF(AF9=0,0,(AF9*((LOG(AF9))/LOG(2))))","v":0},null,{"$f":"N9","v":1121},{"$f":"COUNTIF(L98:L127,AI9)","v":0},{"$f":"AJ9/(AL4-AJ20)","v":0},{"$f":"IF(AK9=0,0,(AK9*((LOG(AK9))/LOG(2))))","v":0},null,{"$f":"N9","v":1121},{"$f":"COUNTIF(L128:L158,AN9)","v":0},{"$f":"AO9/(AQ4-AO20)","v":0},{"$f":"IF(AP9=0,0,(AP9*((LOG(AP9))/LOG(2))))","v":0},null,{"$f":"N9","v":1121},{"$f":"COUNTIF(L159:L188,AS9)","v":0},{"$f":"AT9/(AV4-AT20)","v":0},{"$f":"IF(AU9=0,0,(AU9*((LOG(AU9))/LOG(2))))","v":0}]
[12,393,14,403,24,416,14,428,null,null,0,1121,null,1122,{"$f":"COUNTIF($L$7:$L$500,N10)","v":9},{"$f":"O10/$Q$4","v":4.9450549450549448E-2},{"$f":"IF(P10=0,0,(P10*((LOG(P10))/LOG(2))))","v":-0.21451003708135966},null,null,{"$f":"N10","v":1122},{"$f":"COUNTIF(L7:L36,T10)","v":1},{"$f":"U10/(W4-U20)","v":3.3333333333333333E-2},{"$f":"IF(V10=0,0,(V10*((LOG(V10))/LOG(2))))","v":-0.16356301985361729},null,{"$f":"N10","v":1122},{"$f":"COUNTIF(L37:L67,Y10)","v":3},{"$f":"Z10/(AB4-Z20)","v":9.6774193548387094E-2},{"$f":"IF(AA10=0,0,(AA10*((LOG(AA10))/LOG(2))))","v":-0.32605488480635986},null,{"$f":"N10","v":1122},{"$f":"COUNTIF(L68:L97,AD10)","v":1},{"$f":"AE10/(AG4-AE20)","v":3.3333333333333333E-2},{"$f":"IF(AF10=0,0,(AF10*((LOG(AF10))/LOG(2))))","v":-0.16356301985361729},null,{"$f":"N10","v":1122},{"$f":"COUNTIF(L98:L127,AI10)","v":1},{"$f":"AJ10/(AL4-AJ20)","v":3.3333333333333333E-2},{"$f":"IF(AK10=0,0,(AK10*((LOG(AK10))/LOG(2))))","v":-0.16356301985361729},null,{"$f":"N10","v":1122},{"$f":"COUNTIF(L128:L158,AN10)","v":3},{"$f":"AO10/(AQ4-AO20)","v":0.10344827586206896},{"$f":"IF(AP10=0,0,(AP10*((LOG(AP10))/LOG(2))))","v":-0.33858812011100858},null,{"$f":"N10","v":1122},{"$f":"COUNTIF(L159:L188,AS10)","v":0},{"$f":"AT10/(AV4-AT20)","v":0},{"$f":"IF(AU10=0,0,(AU10*((LOG(AU10))/LOG(2))))","v":0}]
[12,534,14,536,13,544,14,553,null,null,0,1111,null,1211,{"$f":"COUNTIF($L$7:$L$500,N11)","v":4},{"$f":"O11/$Q$4","v":2.197802197802198E-2},{"$f":"IF(P11=0,0,(P11*((LOG(P11))/LOG(2))))","v":-0.12105043165271862},null,null,{"$f":"N11","v":1211},{"$f":"COUNTIF(L7:L36,T11)","v":0},{"$f":"U11/(W4-U20)","v":0},{"$f":"IF(V11=0,0,(V11*((LOG(V11))/LOG(2))))","v":0},null,{"$f":"N11","v":1211},{"$f":"COUNTIF(L37:L67,Y11)","v":0},{"$f":"Z11/(AB4-Z20)","v":0},{"$f":"IF(AA11=0,0,(AA11*((LOG(AA11))/LOG(2))))","v":0},null,{"$f":"N11","v":1211},{"$f":"COUNTIF(L68:L97,AD11)","v":0},{"$f":"AE11/(AG4-AE20)","v":0},{"$f":"IF(AF11=0,0,(AF11*((LOG(AF11))/LOG(2))))","v":0},null,{"$f":"N11","v":1211},{"$f":"COUNTIF(L98:L127,AI11)","v":0},{"$f":"AJ11/(AL4-AJ20)","v":0},{"$f":"IF(AK11=0,0,(AK11*((LOG(AK11))/LOG(2))))","v":0},null,{"$f":"N11","v":1211},{"$f":"COUNTIF(L128:L158,AN11)","v":0},{"$f":"AO11/(AQ4-AO20)","v":0},{"$f":"IF(AP11=0,0,(AP11*((LOG(AP11))/LOG(2))))","v":0},null,{"$f":"N11","v":1211},{"$f":"COUNTIF(L159:L188,AS11)","v":4},{"$f":"AT11/(AV4-AT20)","v":0.13333333333333333},{"$f":"IF(AU11=0,0,(AU11*((LOG(AU11))/LOG(2))))","v":-0.3875854127478025}]
[12,693,14,701,13,706,14,715,null,null,0,1111,null,1212,{"$f":"COUNTIF($L$7:$L$500,N12)","v":1},{"$f":"O12/$Q$4","v":5.4945054945054949E-3},{"$f":"IF(P12=0,0,(P12*((LOG(P12))/LOG(2))))","v":-4.1251618902190638E-2},null,null,{"$f":"N12","v":1212},{"$f":"COUNTIF(L7:L36,T12)","v":1},{"$f":"U12/(W4-U20)","v":3.3333333333333333E-2},{"$f":"IF(V12=0,0,(V12*((LOG(V12))/LOG(2))))","v":-0.16356301985361729},null,{"$f":"N12","v":1212},{"$f":"COUNTIF(L37:L67,Y12)","v":0},{"$f":"Z12/(AB4-Z20)","v":0},{"$f":"IF(AA12=0,0,(AA12*((LOG(AA12))/LOG(2))))","v":0},null,{"$f":"N12","v":1212},{"$f":"COUNTIF(L68:L97,AD12)","v":0},{"$f":"AE12/(AG4-AE20)","v":0},{"$f":"IF(AF12=0,0,(AF12*((LOG(AF12))/LOG(2))))","v":0},null,{"$f":"N12","v":1212},{"$f":"COUNTIF(L98:L127,AI12)","v":0},{"$f":"AJ12/(AL4-AJ20)","v":0},{"$f":"IF(AK12=0,0,(AK12*((LOG(AK12))/LOG(2))))","v":0},null,{"$f":"N12","v":1212},{"$f":"COUNTIF(L128:L158,AN12)","v":0},{"$f":"AO12/(AQ4-AO20)","v":0},{"$f":"IF(AP12=0,0,(AP12*((LOG(AP12))/LOG(2))))","v":0},null,{"$f":"N12","v":1212},{"$f":"COUNTIF(L159:L188,AS12)","v":0},{"$f":"AT12/(AV4-AT20)","v":0},{"$f":"IF(AU12=0,0,(AU12*((LOG(AU12))/LOG(2))))","v":0}]
[12,813,14,818,13,826,23,840,null,null,0,1112,null,1221,{"$f":"COUNTIF($L$7:$L$500,N13)","v":0},{"$f":"O13/$Q$4","v":0},{"$f":"IF(P13=0,0,(P13*((LOG(P13))/LOG(2))))","v":0},null,null,{"$f":"N13","v":1221},{"$f":"COUNTIF(L7:L36,T13)","v":0},{"$f":"U13/(W4-U20)","v":0},{"$f":"IF(V13=0,0,(V13*((LOG(V13))/LOG(2))))","v":0},null,{"$f":"N13","v":1221},{"$f":"COUNTIF(L37:L67,Y13)","v":0},{"$f":"Z13/(AB4-Z20)","v":0},{"$f":"IF(AA13=0,0,(AA13*((LOG(AA13))/LOG(2))))","v":0},null,{"$f":"N13","v":1221},{"$f":"COUNTIF(L68:L97,AD13)","v":0},{"$f":"AE13/(AG4-AE20)","v":0},{"$f":"IF(AF13=0,0,(AF13*((LOG(AF13))/LOG(2))))","v":0},null,{"$f":"N13","v":1221},{"$f":"COUNTIF(L98:L127,AI13)","v":0},{"$f":"AJ13/(AL4-AJ20)","v":0},{"$f":"IF(AK13=0,0,(AK13*((LOG(AK13))/LOG(2))))","v":0},null,{"$f":"N13","v":1221},{"$f":"COUNTIF(L128:L158,AN13)","v":0},{"$f":"AO13/(AQ4-AO20)","v":0},{"$f":"IF(AP13=0,0,(AP13*((LOG(AP13))/LOG(2))))","v":0},null,{"$f":"N13","v":1221},{"$f":"COUNTIF(L159:L188,AS13)","v":0},{"$f":"AT13/(AV4-AT20)","v":0},{"$f":"IF(AU13=0,0,(AU13*((LOG(AU13))/LOG(2))))","v":0}]
[12,941,14,946,13,954,14,961,null,null,0,1111,null,1222,{"$f":"COUNTIF($L$7:$L$500,N14)","v":0},{"$f":"O14/$Q$4","v":0},{"$f":"IF(P14=0,0,(P14*((LOG(P14))/LOG(2))))","v":0},null,null,{"$f":"N14","v":1222},{"$f":"COUNTIF(L7:L36,T14)","v":0},{"$f":"U14/(W4-U20)","v":0},{"$f":"IF(V14=0,0,(V14*((LOG(V14))/LOG(2))))","v":0},null,{"$f":"N14","v":1222},{"$f":"COUNTIF(L37:L67,Y14)","v":0},{"$f":"Z14/(AB4-Z20)","v":0},{"$f":"IF(AA14=0,0,(AA14*((LOG(AA14))/LOG(2))))","v":0},null,{"$f":"N14","v":1222},{"$f":"COUNTIF(L68:L97,AD14)","v":0},{"$f":"AE14/(AG4-AE20)","v":0},{"$f":"IF(AF14=0,0,(AF14*((LOG(AF14))/LOG(2))))","v":0},null,{"$f":"N14","v":1222},{"$f":"COUNTIF(L98:L127,AI14)","v":0},{"$f":"AJ14/(AL4-AJ20)","v":0},{"$f":"IF(AK14=0,0,(AK14*((LOG(AK14))/LOG(2))))","v":0},null,{"$f":"N14","v":1222},{"$f":"COUNTIF(L128:L158,AN14)","v":0},{"$f":"AO14/(AQ4-AO20)","v":0},{"$f":"IF(AP14=0,0,(AP14*((LOG(AP14))/LOG(2))))","v":0},null,{"$f":"N14","v":1222},{"$f":"COUNTIF(L159:L188,AS14)","v":0},{"$f":"AT14/(AV4-AT20)","v":0},{"$f":"IF(AU14=0,0,(AU14*((LOG(AU14))/LOG(2))))","v":0}]
[12,1074,23,1092,13,1107,23,1117,null,null,0,1212,null,2111,{"$f":"COUNTIF($L$7:$L$500,N15)","v":17},{"$f":"O15/$Q$4","v":9.3406593406593408E-2},{"$f":"IF(P15=0,0,(P15*((LOG(P15))/LOG(2))))","v":-0.3194815416600113},null,null,{"$f":"N15","v":2111},{"$f":"COUNTIF(L7:L36,T15)","v":0},{"$f":"U15/(W4-U20)","v":0},{"$f":"IF(V15=0,0,(V15*((LOG(V15))/LOG(2))))","v":0},null,{"$f":"N15","v":2111},{"$f":"COUNTIF(L37:L67,Y15)","v":0},{"$f":"Z15/(AB4-Z20)","v":0},{"$f":"IF(AA15=0,0,(AA15*((LOG(AA15))/LOG(2))))","v":0},null,{"$f":"N15","v":2111},{"$f":"COUNTIF(L68:L97,AD15)","v":0},{"$f":"AE15/(AG4-AE20)","v":0},{"$f":"IF(AF15=0,0,(AF15*((LOG(AF15))/LOG(2))))","v":0},null,{"$f":"N15","v":2111},{"$f":"COUNTIF(L98:L127,AI15)","v":0},{"$f":"AJ15/(AL4-AJ20)","v":0},{"$f":"IF(AK15=0,0,(AK15*((LOG(AK15))/LOG(2))))","v":0},null,{"$f":"N15","v":2111},{"$f":"COUNTIF(L128:L158,AN15)","v":4},{"$f":"AO15/(AQ4-AO20)","v":0.13793103448275862},{"$f":"IF(AP15=0,0,(AP15*((LOG(AP15))/LOG(2))))","v":-0.39420427519000989},null,{"$f":"N15","v":2111},{"$f":"COUNTIF(L159:L188,AS15)","v":13},{"$f":"AT15/(AV4-AT20)","v":0.43333333333333335},{"$f":"IF(AU15=0,0,(AU15*((LOG(AU15))/LOG(2))))","v":-0.52279538023588479}]
[12,1218,14,1223,13,1231,14,1238,null,null,0,1111,null,2112,{"$f":"COUNTIF($L$7:$L$500,N16)","v":7},{"$f":"O16/$Q$4","v":3.8461538461538464E-2},{"$f":"IF(P16=0,0,(P16*((LOG(P16))/LOG(2))))","v":-0.18078614300542661},null,null,{"$f":"N16","v":2112},{"$f":"COUNTIF(L7:L36,T16)","v":0},{"$f":"U16/(W4-U20)","v":0},{"$f":"IF(V16=0,0,(V16*((LOG(V16))/LOG(2))))","v":0},null,{"$f":"N16","v":2112},{"$f":"COUNTIF(L37:L67,Y16)","v":0},{"$f":"Z16/(AB4-Z20)","v":0},{"$f":"IF(AA16=0,0,(AA16*((LOG(AA16))/LOG(2))))","v":0},null,{"$f":"N16","v":2112},{"$f":"COUNTIF(L68:L97,AD16)","v":0},{"$f":"AE16/(AG4-AE20)","v":0},{"$f":"IF(AF16=0,0,(AF16*((LOG(AF16))/LOG(2))))","v":0},null,{"$f":"N16","v":2112},{"$f":"COUNTIF(L98:L127,AI16)","v":0},{"$f":"AJ16/(AL4-AJ20)","v":0},{"$f":"IF(AK16=0,0,(AK16*((LOG(AK16))/LOG(2))))","v":0},null,{"$f":"N16","v":2112},{"$f":"COUNTIF(L128:L158,AN16)","v":5},{"$f":"AO16/(AQ4-AO20)","v":0.17241379310344829},{"$f":"IF(AP16=0,0,(AP16*((LOG(AP16))/LOG(2))))","v":-0.43725050004141547},null,{"$f":"N16","v":2112},{"$f":"COUNTIF(L159:L188,AS16)","v":2},{"$f":"AT16/(AV4-AT20)","v":6.6666666666666666E-2},{"$f":"IF(AU16=0,0,(AU16*((LOG(AU16))/LOG(2))))","v":-0.26045937304056793}]
[12,1335,14,1340,13,1347,14,1359,null,null,0,1111,null,2121,{"$f":"COUNTIF($L$7:$L$500,N17)","v":0},{"$f":"O17/$Q$4","v":0},{"$f":"IF(P17=0,0,(P17*((LOG(P17))/LOG(2))))","v":0},null,null,{"$f":"N17","v":2121},{"$f":"COUNTIF(L7:L36,T17)","v":0},{"$f":"U17/(W4-U20)","v":0},{"$f":"IF(V17=0,0,(V17*((LOG(V17))/LOG(2))))","v":0},null,{"$f":"N17","v":2121},{"$f":"COUNTIF(L37:L67,Y17)","v":0},{"$f":"Z17/(AB4-Z20)","v":0},{"$f":"IF(AA17=0,0,(AA17*((LOG(AA17))/LOG(2))))","v":0},null,{"$f":"N17","v":2121},{"$f":"COUNTIF(L68:L97,AD17)","v":0},{"$f":"AE17/(AG4-AE20)","v":0},{"$f":"IF(AF17=0,0,(AF17*((LOG(AF17))/LOG(2))))","v":0},null,{"$f":"N17","v":2121},{"$f":"COUNTIF(L98:L127,AI17)","v":0},{"$f":"AJ17/(AL4-AJ20)","v":0},{"$f":"IF(AK17=0,0,(AK17*((LOG(AK17))/LOG(2))))","v":0},null,{"$f":"N17","v":2121},{"$f":"COUNTIF(L128:L158,AN17)","v":0},{"$f":"AO17/(AQ4-AO20)","v":0},{"$f":"IF(AP17=0,0,(AP17*((LOG(AP17))/LOG(2))))","v":0},null,{"$f":"N17","v":2121},{"$f":"COUNTIF(L159:L188,AS17)","v":0},{"$f":"AT17/(AV4-AT20)","v":0},{"$f":"IF(AU17=0,0,(AU17*((LOG(AU17))/LOG(2))))","v":0}]
[12,1459,14,1464,13,1471,14,1487,null,null,0,1111,null,2122,{"$f":"COUNTIF($L$7:$L$500,N18)","v":0},{"$f":"O18/$Q$4","v":0},{"$f":"IF(P18=0,0,(P18*((LOG(P18))/LOG(2))))","v":0},null,null,{"$f":"N18","v":2122},{"$f":"COUNTIF(L7:L36,T18)","v":0},{"$f":"U18/(W4-U20)","v":0},{"$f":"IF(V18=0,0,(V18*((LOG(V18))/LOG(2))))","v":0},null,{"$f":"N18","v":2122},{"$f":"COUNTIF(L37:L67,Y18)","v":0},{"$f":"Z18/(AB4-Z20)","v":0},{"$f":"IF(AA18=0,0,(AA18*((LOG(AA18))/LOG(2))))","v":0},null,{"$f":"N18","v":2122},{"$f":"COUNTIF(L68:L97,AD18)","v":0},{"$f":"AE18/(AG4-AE20)","v":0},{"$f":"IF(AF18=0,0,(AF18*((LOG(AF18))/LOG(2))))","v":0},null,{"$f":"N18","v":2122},{"$f":"COUNTIF(L98:L127,AI18)","v":0},{"$f":"AJ18/(AL4-AJ20)","v":0},{"$f":"IF(AK18=0,0,(AK18*((LOG(AK18))/LOG(2))))","v":0},null,{"$f":"N18","v":2122},{"$f":"COUNTIF(L128:L158,AN18)","v":0},{"$f":"AO18/(AQ4-AO20)","v":0},{"$f":"IF(AP18=0,0,(AP18*((LOG(AP18))/LOG(2))))","v":0},null,{"$f":"N18","v":2122},{"$f":"COUNTIF(L159:L188,AS18)","v":0},{"$f":"AT18/(AV4-AT20)","v":0},{"$f":"IF(AU18=0,0,(AU18*((LOG(AU18))/LOG(2))))","v":0}]
[12,1594,14,1600,13,1608,23,1619,null,null,0,1112,null,2211,{"$f":"COUNTIF($L$7:$L$500,N19)","v":1},{"$f":"O19/$Q$4","v":5.4945054945054949E-3},{"$f":"IF(P19=0,0,(P19*((LOG(P19))/LOG(2))))","v":-4.1251618902190638E-2},null,null,{"$f":"N19","v":2211},{"$f":"COUNTIF(L7:L36,T19)","v":0},{"$f":"U19/(W4-U20)","v":0},{"$f":"IF(V19=0,0,(V19*((LOG(V19))/LOG(2))))","v":0},null,{"$f":"N19","v":2211},{"$f":"COUNTIF(L37:L67,Y19)","v":0},{"$f":"Z19/(AB4-Z20)","v":0},{"$f":"IF(AA19=0,0,(AA19*((LOG(AA19))/LOG(2))))","v":0},null,{"$f":"N19","v":2211},{"$f":"COUNTIF(L68:L97,AD19)","v":0},{"$f":"AE19/(AG4-AE20)","v":0},{"$f":"IF(AF19=0,0,(AF19*((LOG(AF19))/LOG(2))))","v":0},null,{"$f":"N19","v":2211},{"$f":"COUNTIF(L98:L127,AI19)","v":0},{"$f":"AJ19/(AL4-AJ20)","v":0},{"$f":"IF(AK19=0,0,(AK19*((LOG(AK19))/LOG(2))))","v":0},null,{"$f":"N19","v":2211},{"$f":"COUNTIF(L128:L158,AN19)","v":0},{"$f":"AO19/(AQ4-AO20)","v":0},{"$f":"IF(AP19=0,0,(AP19*((LOG(AP19))/LOG(2))))","v":0},null,{"$f":"N19","v":2211},{"$f":"COUNTIF(L159:L188,AS19)","v":1},{"$f":"AT19/(AV4-AT20)","v":3.3333333333333333E-2},{"$f":"IF(AU19=0,0,(AU19*((LOG(AU19))/LOG(2))))","v":-0.16356301985361729}]
[12,1740,14,1748,13,1755,14,1764,null,null,0,1111,null,2212,{"$f":"COUNTIF($L$7:$L$500,N20)","v":2},{"$f":"O20/$Q$4","v":1.098901098901099E-2},{"$f":"IF(P20=0,0,(P20*((LOG(P20))/LOG(2))))","v":-7.1514226815370299E-2},null,null,{"$f":"N20","v":2212},{"$f":"COUNTIF(L7:L36,T20)","v":0},null,null,null,{"$f":"N20","v":2212},{"$f":"COUNTIF(L37:L67,Y20)","v":0},null,null,null,{"$f":"N20","v":2212},{"$f":"COUNTIF(L68:L97,AD20)","v":0},null,null,null,{"$f":"N20","v":2212},{"$f":"COUNTIF(L98:L127,AI20)","v":0},null,null,null,{"$f":"N20","v":2212},{"$f":"COUNTIF(L128:L158,AN20)","v":2},null,null,null,{"$f":"N20","v":2212},{"$f":"COUNTIF(L159:L188,AS20)","v":0}]
[12,1880,14,1888,13,1896,23,1914,null,null,0,1112,null,2221,{"$f":"COUNTIF($L$7:$L$500,N21)","v":1},{"$f":"O21/$Q$4","v":5.4945054945054949E-3},{"$f":"IF(P21=0,0,(P21*((LOG(P21))/LOG(2))))","v":-4.1251618902190638E-2},null,null,{"$f":"N21","v":2221},{"$f":"COUNTIF(L7:L36,T21)","v":0},{"$f":"U21/(W4-U20)","v":0},{"$f":"IF(V21=0,0,(V21*((LOG(V21))/LOG(2))))","v":0},null,{"$f":"N21","v":2221},{"$f":"COUNTIF(L37:L67,Y21)","v":0},{"$f":"Z21/(AB4-Z20)","v":0},{"$f":"IF(AA21=0,0,(AA21*((LOG(AA21))/LOG(2))))","v":0},null,{"$f":"N21","v":2221},{"$f":"COUNTIF(L68:L97,AD21)","v":0},{"$f":"AE21/(AG4-AE20)","v":0},{"$f":"IF(AF21=0,0,(AF21*((LOG(AF21))/LOG(2))))","v":0},null,{"$f":"N21","v":2221},{"$f":"COUNTIF(L98:L127,AI21)","v":0},{"$f":"AJ21/(AL4-AJ20)","v":0},{"$f":"IF(AK21=0,0,(AK21*((LOG(AK21))/LOG(2))))","v":0},null,{"$f":"N21","v":2221},{"$f":"COUNTIF(L128:L158,AN21)","v":0},{"$f":"AO21/(AQ4-AO20)","v":0},{"$f":"IF(AP21=0,0,(AP21*((LOG(AP21))/LOG(2))))","v":0},null,{"$f":"N21","v":2221},{"$f":"COUNTIF(L159:L188,AS21)","v":1},{"$f":"AT21/(AV4-AT20)","v":3.3333333333333333E-2},{"$f":"IF(AU21=0,0,(AU21*((LOG(AU21))/LOG(2))))","v":-0.16356301985361729}]
[12,2087,14,2096,13,2105,14,2116,null,null,0,1111,null,2222,{"$f":"COUNTIF($L$7:$L$500,N22)","v":1},{"$f":"O22/$Q$4","v":5.4945054945054949E-3},{"$f":"IF(P22=0,0,(P22*((LOG(P22))/LOG(2))))","v":-4.1251618902190638E-2},null,null,{"$f":"N22","v":2222},{"$f":"COUNTIF(L7:L36,T22)","v":0},{"$f":"U22/(W4-U20)","v":0},{"$f":"IF(V22=0,0,(V22*((LOG(V22))/LOG(2))))","v":0},null,{"$f":"N22","v":2222},{"$f":"COUNTIF(L37:L67,Y22)","v":0},{"$f":"Z22/(AB4-Z20)","v":0},{"$f":"IF(AA22=0,0,(AA22*((LOG(AA22))/LOG(2))))","v":0},null,{"$f":"N22","v":2222},{"$f":"COUNTIF(L68:L97,AD22)","v":0},{"$f":"AE22/(AG4-AE20)","v":0},{"$f":"IF(AF22=0,0,(AF22*((LOG(AF22))/LOG(2))))","v":0},null,{"$f":"N22","v":2222},{"$f":"COUNTIF(L98:L127,AI22)","v":0},{"$f":"AJ22/(AL4-AJ20)","v":0},{"$f":"IF(AK22=0,0,(AK22*((LOG(AK22))/LOG(2))))","v":0},null,{"$f":"N22","v":2222},{"$f":"COUNTIF(L128:L158,AN22)","v":0},{"$f":"AO22/(AQ4-AO20)","v":0},{"$f":"IF(AP22=0,0,(AP22*((LOG(AP22))/LOG(2))))","v":0},null,{"$f":"N22","v":2222},{"$f":"COUNTIF(L159:L188,AS22)","v":1},{"$f":"AT22/(AV4-AT20)","v":3.3333333333333333E-2},{"$f":"IF(AU22=0,0,(AU22*((LOG(AU22))/LOG(2))))","v":-0.16356301985361729}]
[12,2223,14,2231,13,2238,14,2245,null,null,0,1111,null,null,null,{"$f":"SUM(P7:P22)","v":0.99999999999999989},{"$f":"-SUM(Q7:Q22)","v":2.0270960409798775},null,null,null,null,{"$f":"SUM(V7:V22)","v":0.99999999999999989},{"$f":"-SUM(W7:W22)","v":1.483352287270872},null,null,null,{"$f":"SUM(AA7:AA22)","v":1},{"$f":"-SUM(AB7:AB22)","v":1.135739596951038},null,null,null,{"$f":"SUM(AF7:AF22)","v":1},{"$f":"-SUM(AG7:AG22)","v":0.77034377079624794},null,null,null,{"$f":"SUM(AK7:AK22)","v":1.0000000000000002},{"$f":"-SUM(AL7:AL22)","v":0.9218339291539106},null,null,null,{"$f":"SUM(AP7:AP22)","v":0.99999999999999989},{"$f":"-SUM(AQ7:AQ22)","v":2.1708068300952448},null,null,null,{"$f":"SUM(AU7:AU22)","v":1},{"$f":"-SUM(AV7:AV22)","v":2.3863742176031475}]
[12,2380,14,2385,13,2392,23,2406,null,null,0,1112,null,null,null,"U=",{"$f":"Q23/(LOG(Q4)/LOG(2))","v":0.26999886626177483},null,null,null,null,"U1=",{"$f":"W23/(LOG(W4)/LOG(2))","v":0.30229984923617742},null,null,null,"U2=",{"$f":"AB23/(LOG(AB4)/LOG(2))","v":0.22924800023968928},null,null,null,"U3=",{"$f":"AG23/(LOG(AG4)/LOG(2))","v":0.15699224504529946},null,null,null,"U4=",{"$f":"AL23/(LOG(AL4)/LOG(2))","v":0.18786518900154756},null,null,null,"U5=",{"$f":"AQ23/(LOG(AQ4)/LOG(2))","v":0.43817537580090882},null,null,null,"U6=",{"$f":"AV23/(LOG(AV4)/LOG(2))","v":0.48633124605200329}]
[12,2503,14,2508,13,2516,14,2532,null,null,0,1111]
[12,2630,14,2637,13,2644,23,2656,null,null,0,1112]
[12,2773,14,2783,13,2791,23,2804,null,null,0,1112,null,"Total Target Seq"]
[12,2902,14,2906,13,2911,14,2919,null,null,0,1111,null,{"$f":"COUNTIF(L7:L188,G3)","v":2},null,30,31,30,30,31,30]
[12,3033,14,3041,13,3056,23,3068,null,null,0,1112,null,null,null,"% of reinforcement given in 6 equal intervals based on number of trials "]
[12,3173,14,3178,13,3193,23,3205,null,null,0,1112,null,null,null,"%_1","%_2","%_3","%_4","%_5","%_6"]
[12,3304,14,3308,13,3316,14,3323,null,null,0,1111,null,null,"target sequence",{"$f":"$G$3","v":2212},{"$f":"$G$3","v":2212},{"$f":"$G$3","v":2212},{"$f":"$G$3","v":2212},{"$f":"$G$3","v":2212},{"$f":"$G$3","v":2212}]
[12,3424,14,3432,24,3460,23,3468,null,null,0,1122,null,null,"total reinforcement",{"$f":"U20","v":0},{"$f":"Z20","v":0},{"$f":"AE20","v":0},{"$f":"AJ20","v":0},{"$f":"AO20","v":2},{"$f":"AT20","v":0}]
[12,3572,14,3578,13,3586,23,3609,null,null,0,1112,null,null,"% target"]
[12,3719,14,3724,13,3733,14,3745,null,null,0,1111,null,null,"CCRF"]
[12,3848,14,3854,13,3861,14,3869,null,null,0,1111,null,null,"% CCRf"]
[12,3961,14,3969,13,3985,23,3998,null,null,0,1112,null,null,"average response rate",{"$f":"H36/P28","v":133.26666666666668},{"$f":"(H67-H36)/Q28","v":133.48387096774192},{"$f":"(H97-H67)/R28","v":130.03333333333333},{"$f":"(H127-H97)/S28","v":131.56666666666666},{"$f":"(H158-H127)/T28","v":131.80645161290323},{"$f":"(H188-H158)/U28","v":127.96666666666667}]
[12,4100,14,4107,13,4114,14,4122,null,null,0,1111]
[12,4222,14,4227,13,4234,14,4241,null,null,0,1111]
[12,4370,14,4376,13,4383,14,4392,null,null,0,1111]
[12,4491,14,4498,13,4506,14,4514,null,null,0,1111]
[12,4632,14,4636,13,4644,14,4652,null,null,0,1111]
[12,4754,14,4763,13,4769,14,4776,null,null,0,1111]
[12,4877,14,4884,24,4910,23,4917,null,null,0,1122]
[12,5028,14,5032,13,5037,14,5045,null,null,0,1111]
[12,5144,14,5156,13,5163,23,5175,null,null,0,1112]
[12,5285,14,5293,13,5300,23,5313,null,null,0,1112]
[12,5407,14,5415,13,5423,14,5437,null,null,0,1111]
[12,5546,14,5551,13,5556,14,5579,null,null,0,1111]
[12,5698,14,5706,24,5723,23,5731,null,null,0,1122]
[12,5848,14,5856,24,5869,23,5879,null,null,0,1122]
[12,5998,14,6003,13,6011,14,6019,null,null,0,1111]
[12,6122,14,6127,13,6140,14,6148,null,null,0,1111]
[12,6250,14,6255,13,6263,14,6271,null,null,0,1111]
[12,6381,14,6388,13,6394,14,6403,null,null,0,1111]
[12,6529,14,6536,13,6543,23,6557,null,null,0,1112]
[12,6654,14,6658,13,6666,14,6675,null,null,0,1111]
[12,6786,14,6795,13,6801,14,6807,null,null,0,1111]
[12,6906,14,6913,13,6920,14,6928,null,null,0,1111]
[12,7058,14,7062,13,7067,14,7072,null,null,0,1111]
[12,7193,14,7198,13,7207,14,7217,null,null,0,1111]
[12,7322,14,7327,13,7334,14,7342,null,null,0,1111]
[12,7443,14,7448,13,7452,14,7457,null,null,0,1111]
[12,7567,14,7572,13,7578,14,7587,null,null,0,1111]
[12,7708,14,7713,13,7720,23,7738,null,null,0,1112]
[12,7845,14,7850,13,7855,23,7873,null,null,0,1112]
[12,7986,14,7991,13,7996,14,8004,null,null,0,1111]
[12,8098,14,8107,13,8114,23,8136,null,null,0,1112]
[12,8243,14,8249,13,8258,14,8266,null,null,0,1111]
[12,8369,14,8377,13,8384,23,8404,null,null,0,1112]
[12,8506,14,8510,13,8517,14,8526,null,null,0,1111]
[12,8628,14,8639,13,8647,23,8661,null,null,0,1112]
[12,8774,14,8779,13,8783,14,8790,null,null,0,1111]
[12,8890,14,8894,13,8899,14,8904,null,null,0,1111]
[12,9005,14,9009,13,9013,14,9017,null,null,0,1111]
[12,9139,14,9144,13,9150,14,9160,null,null,0,1111]
[12,9279,14,9283,13,9288,14,9295,null,null,0,1111]
[12,9410,14,9415,13,9419,14,9424,null,null,0,1111]
[12,9542,14,9546,13,9553,14,9561,null,null,0,1111]
[12,9663,14,9667,13,9674,14,9682,null,null,0,1111]
[12,9783,14,9791,13,9798,14,9806,null,null,0,1111]
[12,9907,14,9915,13,9922,14,9930,null,null,0,1111]
[12,10037,14,10042,13,10048,14,10055,null,null,0,1111]
[12,10153,14,10157,13,10161,14,10166,null,null,0,1111]
[12,10277,14,10281,13,10286,14,10294,null,null,0,1111]
[12,10408,14,10412,13,10416,14,10420,null,null,0,1111]
[12,10573,14,10577,13,10581,14,10586,null,null,0,1111]
[12,10702,14,10706,13,10710,14,10719,null,null,0,1111]
[12,10838,14,10843,13,10847,14,10853,null,null,0,1111]
[12,10972,14,10977,13,10981,14,10986,null,null,0,1111]
[12,11104,14,11109,13,11116,14,11124,null,null,0,1111]
[12,11233,14,11237,13,11241,14,11248,null,null,0,1111]
[12,11360,14,11367,24,11381,23,11387,null,null,0,1122]
[12,11492,14,11497,13,11512,23,11524,null,null,0,1112]
[12,11636,14,11642,13,11650,23,11664,null,null,0,1112]
[12,11780,14,11785,13,11791,14,11798,null,null,0,1111]
[12,11904,14,11909,13,11913,14,11918,null,null,0,1111]
[12,12015,14,12025,13,12030,14,12037,null,null,0,1111]
[12,12144,14,12149,13,12153,14,12158,null,null,0,1111]
[12,12294,14,12301,13,12305,14,12309,null,null,0,1111]
[12,12416,14,12423,13,12430,23,12444,null,null,0,1112]
[12,12558,14,12564,13,12569,14,12576,null,null,0,1111]
[12,12682,14,12686,13,12691,14,12697,null,null,0,1111]
[12,12791,14,12797,13,12804,14,12812,null,null,0,1111]
[12,12918,14,12923,13,12927,14,12934,null,null,0,1111]
[12,13040,14,13046,13,13052,14,13060,null,null,0,1111]
[12,13184,14,13188,13,13192,14,13197,null,null,0,1111]
[12,13318,14,13323,13,13329,14,13336,null,null,0,1111]
[12,13440,14,13446,13,13453,23,13468,null,null,0,1112]
[12,13582,14,13586,13,13591,14,13596,null,null,0,1111]
[12,13713,14,13717,13,13721,14,13727,null,null,0,1111]
[12,13840,14,13845,13,13851,14,13860,null,null,0,1111]
[12,13977,14,13982,13,13987,14,13995,null,null,0,1111]
[12,14097,14,14102,13,14109,23,14121,null,null,0,1112]
[12,14232,14,14237,13,14244,14,14252,null,null,0,1111]
[12,14356,14,14361,13,14369,23,14381,null,null,0,1112]
[12,14482,14,14489,13,14495,14,14507,null,null,0,1111]
[12,14613,14,14618,13,14624,14,14630,null,null,0,1111]
[12,14741,14,14747,13,14752,14,14760,null,null,0,1111]
[12,14865,14,14869,13,14877,23,14889,null,null,0,1112]
[12,15007,14,15011,13,15015,14,15029,null,null,0,1111]
[12,15139,14,15144,13,15149,14,15156,null,null,0,1111]
[12,15297,14,15301,13,15305,14,15310,null,null,0,1111]
[12,15417,14,15422,13,15426,14,15431,null,null,0,1111]
[12,15541,14,15545,13,15552,23,15569,null,null,0,1112]
[12,15695,14,15703,13,15709,14,15717,null,null,0,1111]
[12,15824,14,15831,24,15843,23,15848,null,null,0,1122]
[12,15968,14,15972,13,15977,14,15984,null,null,0,1111]
[12,16099,14,16105,13,16113,14,16122,null,null,0,1111]
[12,16214,14,16221,13,16227,23,16239,null,null,0,1112]
[12,16370,14,16374,13,16378,14,16382,null,null,0,1111]
[12,16488,14,16493,13,16497,14,16502,null,null,0,1111]
[21,16607,21,16615,11,16628,21,16641,null,null,0,2212]
[12,16735,14,16742,13,16749,23,16762,null,null,0,1112]
[12,16874,14,16883,24,16902,23,16909,null,null,0,1122]
[21,17010,21,17012,11,17025,21,17050,null,null,0,2212]
[21,17148,12,17159,13,17166,23,17180,null,null,0,2112]
[21,17278,12,17292,13,17298,14,17306,null,null,0,2111]
[12,17399,14,17406,13,17413,14,17421,null,null,0,1111]
[12,17521,14,17526,13,17533,14,17542,null,null,0,1111]
[21,17634,12,17645,13,17652,14,17660,null,null,0,2111]
[12,17768,14,17777,13,17785,14,17793,null,null,0,1111]
[12,17890,14,17896,13,17901,14,17909,null,null,0,1111]
[12,18007,14,18013,13,18020,14,18029,null,null,0,1111]
[12,18233,14,18241,13,18249,23,18264,null,null,0,1112]
[12,18368,14,18373,13,18380,23,18393,null,null,0,1112]
[21,18490,12,18503,13,18512,23,18527,null,null,0,2112]
[21,18626,12,18637,13,18642,23,18655,null,null,0,2112]
[12,18774,14,18781,13,18789,14,18798,null,null,0,1111]
[12,18902,14,18914,24,18925,23,18931,null,null,0,1122]
[12,19045,14,19054,24,19067,23,19075,null,null,0,1122]
[21,19175,12,19186,13,19199,23,19213,null,null,0,2112]
[12,19314,14,19323,13,19330,23,19342,null,null,0,1112]
[21,19438,12,19451,13,19456,14,19461,null,null,0,2111]
[12,19565,14,19572,13,19579,14,19587,null,null,0,1111]
[21,19682,12,19692,13,19696,14,19703,null,null,0,2111]
[12,19805,14,19809,13,19816,23,19828,null,null,0,1112]
[12,19920,14,19926,13,19933,14,19941,null,null,0,1111]
[21,20039,12,20050,13,20057,23,20070,null,null,0,2112]
[21,20169,12,20181,13,20186,14,20193,null,null,0,2111]
[12,20294,14,20303,13,20310,23,20322,null,null,0,1112]
[12,20420,14,20427,13,20434,23,20446,null,null,0,1112]
[21,20544,21,20550,22,20555,14,20569,null,null,0,2221]
[21,20666,12,20674,13,20678,14,20685,null,null,0,2111]
[21,20782,12,20793,13,20801,23,20813,null,null,0,2112]
[21,20914,21,20920,22,20926,23,20932,null,null,0,2222]
[21,21029,12,21041,13,21048,14,21056,null,null,0,2111]
[21,21159,12,21168,13,21173,14,21181,null,null,0,2111]
[21,21293,12,21308,13,21315,14,21323,null,null,0,2111]
[21,21425,12,21436,13,21443,14,21451,null,null,0,2111]
[12,21552,14,21565,13,21570,14,21577,null,null,0,1111]
[12,21676,23,21688,13,21700,14,21707,null,null,0,1211]
[21,21820,12,21830,13,21834,14,21839,null,null,0,2111]
[21,21952,12,21961,13,21965,14,21970,null,null,0,2111]
[12,22074,23,22086,13,22096,14,22103,null,null,0,1211]
[21,22210,12,22222,13,22228,14,22236,null,null,0,2111]
[21,22345,12,22356,13,22364,23,22379,null,null,0,2112]
[21,22476,12,22485,13,22490,14,22497,null,null,0,2111]
[12,22615,14,22620,13,22628,14,22637,null,null,0,1111]
[12,22737,23,22756,13,22768,14,22774,null,null,0,1211]
[12,22893,14,22895,13,22905,14,22910,null,null,0,1111]
[12,23009,23,23018,13,23026,14,23032,null,null,0,1211]
[12,23138,14,23143,13,23148,14,23155,null,null,0,1111]
[12,23250,14,23256,13,23263,14,23271,null,null,0,1111]
[21,23389,12,23397,13,23402,14,23406,null,null,0,2111]
[12,23512,14,23521,13,23530,14,23538,null,null,0,1111]
[21,23640,12,23650,13,23658,14,23666,null,null,0,2111]
[21,23764,21,23765,11,23775,12,23782,null,null,0,2211]
[21,23879,12,23893,13,23901,14,23909,null,null,0,2111]

{"sheet":"!2011-08-02_09h39m.Subject 53","index":8,"n_rows":184,"n_cols":48,"rows_kept":184,"cut":false,"hidden":false,"merged":[[4,39,4,42],[5,39,5,40],[4,44,4,47],[5,44,5,45],[4,24,4,27],[5,24,5,25],[4,29,4,32],[5,29,5,30],[4,34,4,37],[5,34,5,35],[1,1,1,2],[5,13,5,14],[26,13,26,14],[27,13,27,14],[4,19,4,22],[5,19,5,20]]}
["Report for:!2011-08-02_09h39m.Subject 53"]
["Date","2011-08-02",null,null,null,"Group","Phase 3 Any"]
["Hen",53,null,null,null,"Correct Sequence",{"$f":"Start!J2","v":2212},null,null,null,null,null,null,null,null,"Total Sequences in Data",{"$f":"4994-COUNTBLANK(L7:L5000)","v":178},null,null,null,null,"Total Sequences in Block Data",{"$f":"COUNTA(L7:L36)","v":30},null,null,null,"Total Sequences in Block Data",{"$f":"COUNTA(L37:L65)","v":29},null,null,null,"Total Sequences in Block Data",{"$f":"COUNTA(L66:L95)","v":30},null,null,null,"Total Sequences in Block Data",{"$f":"COUNTA(L96:L125)","v":30},null,null,null,"Total Sequences in Block Data",{"$f":"COUNTA(L126:L154)","v":29},null,null,null,"Total Sequences in Block Data",{"$f":"COUNTA(L155:L184)","v":30}]
["Program","One",null,null,null,null,null,null,null,null,null,null,null,null,null,"Total Sequences in Summary",{"$f":"SUM(O7:O22)","v":178},null,null,null,null,"Total Sequences in Block Summary",{"$f":"SUM(U7:U22)","v":30},null,null,null,"Total Sequences in Block Summary",{"$f":"SUM(Z7:Z22)","v":29},null,null,null,"Total Sequences in Block Summary",{"$f":"SUM(AE7:AE22)","v":30},null,null,null,"Total Sequences in Block Summary",{"$f":"SUM(AJ7:AJ22)","v":30},null,null,null,"Total Sequences in Block Summary",{"$f":"SUM(AO7:AO22)","v":29},null,null,null,"Total Sequences in Block Summary",{"$f":"SUM(AT7:AT22)","v":30}]
[null,null,null,null,null,null,null,null,null,null,null,null,null,null,null,null,null,null,null,"Block 1",null,null,null,null,"Block 2",null,null,null,null,"Block 3",null,null,null,null,"Block 4",null,null,null,null,"Block 5",null,null,null,null,"Block 6"]
["Sequence\nComponent\n1","Time\n1","Sequence\nComponent\n2","Time\n2","Sequence\nComponent\n3","Time\n3","Sequence\nComponent\n4","Time\n4","Sequence\nComponent\n5","Time\n5","Correct?\n0=No 1=Yes","Sequence",null,"Frequency",null,"Relative Frequency","Variability",null,null,"Frequency",null,"Relative Frequency","Variability",null,"Frequency",null,"Relative Frequency","Variability",null,"Frequency",null,"Relative Frequency","Variability",null,"Frequency",null,"Relative Frequency","Variability",null,"Frequency",null,"Relative Frequency","Variability",null,"Frequency",null,"Relative Frequency","Variability"]
[12,10,14,18,13,25,14,33,null,null,0,1111,null,1111,{"$f":"COUNTIF($L$7:$L$500,N7)","v":79},{"$f":"O7/$Q$4","v":0.4438202247191011},{"$f":"IF(P7=0,0,(P7*((LOG(P7))/LOG(2))))","v":-0.52013630303569824},null,null,{"$f":"N7","v":1111},{"$f":"COUNTIF(L7:L36,T7)","v":14},{"$f":"U7/(W4-U20)","v":0.46666666666666667},{"$f":"IF(V7=0,0,(V7*((LOG(V7))/LOG(2))))","v":-0.51311664765709342},null,{"$f":"N7","v":1111},{"$f":"COUNTIF(L37:L65,Y7)","v":22},{"$f":"Z7/(AB4-Z20)","v":0.75862068965517238},{"$f":"IF(AA7=0,0,(AA7*((LOG(AA7))/LOG(2))))","v":-0.30234780285469132},null,{"$f":"N7","v":1111},{"$f":"COUNTIF(L66:L95,AD7)","v":16},{"$f":"AE7/(AG4-AE20)","v":0.53333333333333333},{"$f":"IF(AF7=0,0,(AF7*((LOG(AF7))/LOG(2))))","v":-0.4836749843245432},null,{"$f":"N7","v":1111},{"$f":"COUNTIF(L96:L125,AI7)","v":9},{"$f":"AJ7/(AL4-AJ20)","v":0.3},{"$f":"IF(AK7=0,0,(AK7*((LOG(AK7))/LOG(2))))","v":-0.52108967824986185},null,{"$f":"N7","v":1111},{"$f":"COUNTIF(L126:L154,AN7)","v":6},{"$f":"AO7/(AQ4-AO20)","v":0.20689655172413793},{"$f":"IF(AP7=0,0,(AP7*((LOG(AP7))/LOG(2))))","v":-0.4702796884978791},null,{"$f":"N7","v":1111},{"$f":"COUNTIF(L155:L184,AS7)","v":12},{"$f":"AT7/(AV4-AT20)","v":0.41379310344827586},{"$f":"IF(AU7=0,0,(AU7*((LOG(AU7))/LOG(2))))","v":-0.5267662735474824}]
[12,141,14,147,13,155,14,160,null,null,0,1111,null,1112,{"$f":"COUNTIF($L$7:$L$500,N8)","v":35},{"$f":"O8/$Q$4","v":0.19662921348314608},{"$f":"IF(P8=0,0,(P8*((LOG(P8))/LOG(2))))","v":-0.46138069938623644},null,null,{"$f":"N8","v":1112},{"$f":"COUNTIF(L7:L36,T8)","v":9},{"$f":"U8/(W4-U20)","v":0.3},{"$f":"IF(V8=0,0,(V8*((LOG(V8))/LOG(2))))","v":-0.52108967824986185},null,{"$f":"N8","v":1112},{"$f":"COUNTIF(L37:L65,Y8)","v":2},{"$f":"Z8/(AB4-Z20)","v":6.8965517241379309E-2},{"$f":"IF(AA8=0,0,(AA8*((LOG(AA8))/LOG(2))))","v":-0.26606765483638428},null,{"$f":"N8","v":1112},{"$f":"COUNTIF(L66:L95,AD8)","v":10},{"$f":"AE8/(AG4-AE20)","v":0.33333333333333331},{"$f":"IF(AF8=0,0,(AF8*((LOG(AF8))/LOG(2))))","v":-0.52832083357371862},null,{"$f":"N8","v":1112},{"$f":"COUNTIF(L96:L125,AI8)","v":7},{"$f":"AJ8/(AL4-AJ20)","v":0.23333333333333334},{"$f":"IF(AK8=0,0,(AK8*((LOG(AK8))/LOG(2))))","v":-0.48989165716187993},null,{"$f":"N8","v":1112},{"$f":"COUNTIF(L126:L154,AN8)","v":4},{"$f":"AO8/(AQ4-AO20)","v":0.13793103448275862},{"$f":"IF(AP8=0,0,(AP8*((LOG(AP8))/LOG(2))))","v":-0.39420427519000989},null,{"$f":"N8","v":1112},{"$f":"COUNTIF(L155:L184,AS8)","v":3},{"$f":"AT8/(AV4-AT20)","v":0.10344827586206896},{"$f":"IF(AU8=0,0,(AU8*((LOG(AU8))/LOG(2))))","v":-0.33858812011100858}]
[12,260,14,270,13,280,14,289,null,null,0,1111,null,1121,{"$f":"COUNTIF($L$7:$L$500,N9)","v":2},{"$f":"O9/$Q$4","v":1.1235955056179775E-2},{"$f":"IF(P9=0,0,(P9*((LOG(P9))/LOG(2))))","v":-7.2761049786139301E-2},null,null,{"$f":"N9","v":1121},{"$f":"COUNTIF(L7:L36,T9)","v":2},{"$f":"U9/(W4-U20)","v":6.6666666666666666E-2},{"$f":"IF(V9=0,0,(V9*((LOG(V9))/LOG(2))))","v":-0.26045937304056793},null,{"$f":"N9","v":1121},{"$f":"COUNTIF(L37:L65,Y9)","v":0},{"$f":"Z9/(AB4-Z20)","v":0},{"$f":"IF(AA9=0,0,(AA9*((LOG(AA9))/LOG(2))))","v":0},null,{"$f":"N9","v":1121},{"$f":"COUNTIF(L66:L95,AD9)","v":0},{"$f":"AE9/(AG4-AE20)","v":0},{"$f":"IF(AF9=0,0,(AF9*((LOG(AF9))/LOG(2))))","v":0},null,{"$f":"N9","v":1121},{"$f":"COUNTIF(L96:L125,AI9)","v":0},{"$f":"AJ9/(AL4-AJ20)","v":0},{"$f":"IF(AK9=0,0,(AK9*((LOG(AK9))/LOG(2))))","v":0},null,{"$f":"N9","v":1121},{"$f":"COUNTIF(L126:L154,AN9)","v":0},{"$f":"AO9/(AQ4-AO20)","v":0},{"$f":"IF(AP9=0,0,(AP9*((LOG(AP9))/LOG(2))))","v":0},null,{"$f":"N9","v":1121},{"$f":"COUNTIF(L155:L184,AS9)","v":0},{"$f":"AT9/(AV4-AT20)","v":0},{"$f":"IF(AU9=0,0,(AU9*((LOG(AU9))/LOG(2))))","v":0}]
[12,388,14,407,24,421,14,435,null,null,0,1121,null,1122,{"$f":"COUNTIF($L$7:$L$500,N10)","v":12},{"$f":"O10/$Q$4","v":6.741573033707865E-2},{"$f":"IF(P10=0,0,(P10*((LOG(P10))/LOG(2))))","v":-0.26229916383675783},null,null,{"$f":"N10","v":1122},{"$f":"COUNTIF(L7:L36,T10)","v":1},{"$f":"U10/(W4-U20)","v":3.3333333333333333E-2},{"$f":"IF(V10=0,0,(V10*((LOG(V10))/LOG(2))))","v":-0.16356301985361729},null,{"$f":"N10","v":1122},{"$f":"COUNTIF(L37:L65,Y10)","v":2},{"$f":"Z10/(AB4-Z20)","v":6.8965517241379309E-2},{"$f":"IF(AA10=0,0,(AA10*((LOG(AA10))/LOG(2))))","v":-0.26606765483638428},null,{"$f":"N10","v":1122},{"$f":"COUNTIF(L66:L95,AD10)","v":0},{"$f":"AE10/(AG4-AE20)","v":0},{"$f":"IF(AF10=0,0,(AF10*((LOG(AF10))/LOG(2))))","v":0},null,{"$f":"N10","v":1122},{"$f":"COUNTIF(L96:L125,AI10)","v":3},{"$f":"AJ10/(AL4-AJ20)","v":0.1},{"$f":"IF(AK10=0,0,(AK10*((LOG(AK10))/LOG(2))))","v":-0.33219280948873625},null,{"$f":"N10","v":1122},{"$f":"COUNTIF(L126:L154,AN10)","v":3},{"$f":"AO10/(AQ4-AO20)","v":0.10344827586206896},{"$f":"IF(AP10=0,0,(AP10*((LOG(AP10))/LOG(2))))","v":-0.33858812011100858},null,{"$f":"N10","v":1122},{"$f":"COUNTIF(L155:L184,AS10)","v":3},{"$f":"AT10/(AV4-AT20)","v":0.10344827586206896},{"$f":"IF(AU10=0,0,(AU10*((LOG(AU10))/LOG(2))))","v":-0.33858812011100858}]
[12,537,14,544,13,551,23,563,null,null,0,1112,null,1211,{"$f":"COUNTIF($L$7:$L$500,N11)","v":4},{"$f":"O11/$Q$4","v":2.247191011235955E-2},{"$f":"IF(P11=0,0,(P11*((LOG(P11))/LOG(2))))","v":-0.12305018945991905},null,null,{"$f":"N11","v":1211},{"$f":"COUNTIF(L7:L36,T11)","v":0},{"$f":"U11/(W4-U20)","v":0},{"$f":"IF(V11=0,0,(V11*((LOG(V11))/LOG(2))))","v":0},null,{"$f":"N11","v":1211},{"$f":"COUNTIF(L37:L65,Y11)","v":0},{"$f":"Z11/(AB4-Z20)","v":0},{"$f":"IF(AA11=0,0,(AA11*((LOG(AA11))/LOG(2))))","v":0},null,{"$f":"N11","v":1211},{"$f":"COUNTIF(L66:L95,AD11)","v":0},{"$f":"AE11/(AG4-AE20)","v":0},{"$f":"IF(AF11=0,0,(AF11*((LOG(AF11))/LOG(2))))","v":0},null,{"$f":"N11","v":1211},{"$f":"COUNTIF(L96:L125,AI11)","v":0},{"$f":"AJ11/(AL4-AJ20)","v":0},{"$f":"IF(AK11=0,0,(AK11*((LOG(AK11))/LOG(2))))","v":0},null,{"$f":"N11","v":1211},{"$f":"COUNTIF(L126:L154,AN11)","v":1},{"$f":"AO11/(AQ4-AO20)","v":3.4482758620689655E-2},{"$f":"IF(AP11=0,0,(AP11*((LOG(AP11))/LOG(2))))","v":-0.16751658603888178},null,{"$f":"N11","v":1211},{"$f":"COUNTIF(L155:L184,AS11)","v":3},{"$f":"AT11/(AV4-AT20)","v":0.10344827586206896},{"$f":"IF(AU11=0,0,(AU11*((LOG(AU11))/LOG(2))))","v":-0.33858812011100858}]
[12,663,14,672,13,679,23,691,null,null,0,1112,null,1212,{"$f":"COUNTIF($L$7:$L$500,N12)","v":0},{"$f":"O12/$Q$4","v":0},{"$f":"IF(P12=0,0,(P12*((LOG(P12))/LOG(2))))","v":0},null,null,{"$f":"N12","v":1212},{"$f":"COUNTIF(L7:L36,T12)","v":0},{"$f":"U12/(W4-U20)","v":0},{"$f":"IF(V12=0,0,(V12*((LOG(V12))/LOG(2))))","v":0},null,{"$f":"N12","v":1212},{"$f":"COUNTIF(L37:L65,Y12)","v":0},{"$f":"Z12/(AB4-Z20)","v":0},{"$f":"IF(AA12=0,0,(AA12*((LOG(AA12))/LOG(2))))","v":0},null,{"$f":"N12","v":1212},{"$f":"COUNTIF(L66:L95,AD12)","v":0},{"$f":"AE12/(AG4-AE20)","v":0},{"$f":"IF(AF12=0,0,(AF12*((LOG(AF12))/LOG(2))))","v":0},null,{"$f":"N12","v":1212},{"$f":"COUNTIF(L96:L125,AI12)","v":0},{"$f":"AJ12/(AL4-AJ20)","v":0},{"$f":"IF(AK12=0,0,(AK12*((LOG(AK12))/LOG(2))))","v":0},null,{"$f":"N12","v":1212},{"$f":"COUNTIF(L126:L154,AN12)","v":0},{"$f":"AO12/(AQ4-AO20)","v":0},{"$f":"IF(AP12=0,0,(AP12*((LOG(AP12))/LOG(2))))","v":0},null,{"$f":"N12","v":1212},{"$f":"COUNTIF(L155:L184,AS12)","v":0},{"$f":"AT12/(AV4-AT20)","v":0},{"$f":"IF(AU12=0,0,(AU12*((LOG(AU12))/LOG(2))))","v":0}]
[12,789,14,800,13,811,23,825,null,null,0,1112,null,1221,{"$f":"COUNTIF($L$7:$L$500,N13)","v":1},{"$f":"O13/$Q$4","v":5.6179775280898875E-3},{"$f":"IF(P13=0,0,(P13*((LOG(P13))/LOG(2))))","v":-4.1998502421159538E-2},null,null,{"$f":"N13","v":1221},{"$f":"COUNTIF(L7:L36,T13)","v":0},{"$f":"U13/(W4-U20)","v":0},{"$f":"IF(V13=0,0,(V13*((LOG(V13))/LOG(2))))","v":0},null,{"$f":"N13","v":1221},{"$f":"COUNTIF(L37:L65,Y13)","v":0},{"$f":"Z13/(AB4-Z20)","v":0},{"$f":"IF(AA13=0,0,(AA13*((LOG(AA13))/LOG(2))))","v":0},null,{"$f":"N13","v":1221},{"$f":"COUNTIF(L66:L95,AD13)","v":1},{"$f":"AE13/(AG4-AE20)","v":3.3333333333333333E-2},{"$f":"IF(AF13=0,0,(AF13*((LOG(AF13))/LOG(2))))","v":-0.16356301985361729},null,{"$f":"N13","v":1221},{"$f":"COUNTIF(L96:L125,AI13)","v":0},{"$f":"AJ13/(AL4-AJ20)","v":0},{"$f":"IF(AK13=0,0,(AK13*((LOG(AK13))/LOG(2))))","v":0},null,{"$f":"N13","v":1221},{"$f":"COUNTIF(L126:L154,AN13)","v":0},{"$f":"AO13/(AQ4-AO20)","v":0},{"$f":"IF(AP13=0,0,(AP13*((LOG(AP13))/LOG(2))))","v":0},null,{"$f":"N13","v":1221},{"$f":"COUNTIF(L155:L184,AS13)","v":0},{"$f":"AT13/(AV4-AT20)","v":0},{"$f":"IF(AU13=0,0,(AU13*((LOG(AU13))/LOG(2))))","v":0}]
[12,928,14,938,24,951,23,957,null,null,0,1122,null,1222,{"$f":"COUNTIF($L$7:$L$500,N14)","v":10},{"$f":"O14/$Q$4","v":5.6179775280898875E-2},{"$f":"IF(P14=0,0,(P14*((LOG(P14))/LOG(2))))","v":-0.23335985034151888},null,null,{"$f":"N14","v":1222},{"$f":"COUNTIF(L7:L36,T14)","v":2},{"$f":"U14/(W4-U20)","v":6.6666666666666666E-2},{"$f":"IF(V14=0,0,(V14*((LOG(V14))/LOG(2))))","v":-0.26045937304056793},null,{"$f":"N14","v":1222},{"$f":"COUNTIF(L37:L65,Y14)","v":0},{"$f":"Z14/(AB4-Z20)","v":0},{"$f":"IF(AA14=0,0,(AA14*((LOG(AA14))/LOG(2))))","v":0},null,{"$f":"N14","v":1222},{"$f":"COUNTIF(L66:L95,AD14)","v":0},{"$f":"AE14/(AG4-AE20)","v":0},{"$f":"IF(AF14=0,0,(AF14*((LOG(AF14))/LOG(2))))","v":0},null,{"$f":"N14","v":1222},{"$f":"COUNTIF(L96:L125,AI14)","v":4},{"$f":"AJ14/(AL4-AJ20)","v":0.13333333333333333},{"$f":"IF(AK14=0,0,(AK14*((LOG(AK14))/LOG(2))))","v":-0.3875854127478025},null,{"$f":"N14","v":1222},{"$f":"COUNTIF(L126:L154,AN14)","v":3},{"$f":"AO14/(AQ4-AO20)","v":0.10344827586206896},{"$f":"IF(AP14=0,0,(AP14*((LOG(AP14))/LOG(2))))","v":-0.33858812011100858},null,{"$f":"N14","v":1222},{"$f":"COUNTIF(L155:L184,AS14)","v":1},{"$f":"AT14/(AV4-AT20)","v":3.4482758620689655E-2},{"$f":"IF(AU14=0,0,(AU14*((LOG(AU14))/LOG(2))))","v":-0.16751658603888178}]
[12,1062,14,1070,13,1076,14,1084,null,null,0,1111,null,2111,{"$f":"COUNTIF($L$7:$L$500,N15)","v":9},{"$f":"O15/$Q$4","v":5.0561797752808987E-2},{"$f":"IF(P15=0,0,(P15*((LOG(P15))/LOG(2))))","v":-0.2177094149759369},null,null,{"$f":"N15","v":2111},{"$f":"COUNTIF(L7:L36,T15)","v":1},{"$f":"U15/(W4-U20)","v":3.3333333333333333E-2},{"$f":"IF(V15=0,0,(V15*((LOG(V15))/LOG(2))))","v":-0.16356301985361729},null,{"$f":"N15","v":2111},{"$f":"COUNTIF(L37:L65,Y15)","v":3},{"$f":"Z15/(AB4-Z20)","v":0.10344827586206896},{"$f":"IF(AA15=0,0,(AA15*((LOG(AA15))/LOG(2))))","v":-0.33858812011100858},null,{"$f":"N15","v":2111},{"$f":"COUNTIF(L66:L95,AD15)","v":0},{"$f":"AE15/(AG4-AE20)","v":0},{"$f":"IF(AF15=0,0,(AF15*((LOG(AF15))/LOG(2))))","v":0},null,{"$f":"N15","v":2111},{"$f":"COUNTIF(L96:L125,AI15)","v":1},{"$f":"AJ15/(AL4-AJ20)","v":3.3333333333333333E-2},{"$f":"IF(AK15=0,0,(AK15*((LOG(AK15))/LOG(2))))","v":-0.16356301985361729},null,{"$f":"N15","v":2111},{"$f":"COUNTIF(L126:L154,AN15)","v":3},{"$f":"AO15/(AQ4-AO20)","v":0.10344827586206896},{"$f":"IF(AP15=0,0,(AP15*((LOG(AP15))/LOG(2))))","v":-0.33858812011100858},null,{"$f":"N15","v":2111},{"$f":"COUNTIF(L155:L184,AS15)","v":1},{"$f":"AT15/(AV4-AT20)","v":3.4482758620689655E-2},{"$f":"IF(AU15=0,0,(AU15*((LOG(AU15))/LOG(2))))","v":-0.16751658603888178}]
[12,1185,14,1190,13,1198,14,1205,null,null,0,1111,null,2112,{"$f":"COUNTIF($L$7:$L$500,N16)","v":4},{"$f":"O16/$Q$4","v":2.247191011235955E-2},{"$f":"IF(P16=0,0,(P16*((LOG(P16))/LOG(2))))","v":-0.12305018945991905},null,null,{"$f":"N16","v":2112},{"$f":"COUNTIF(L7:L36,T16)","v":0},{"$f":"U16/(W4-U20)","v":0},{"$f":"IF(V16=0,0,(V16*((LOG(V16))/LOG(2))))","v":0},null,{"$f":"N16","v":2112},{"$f":"COUNTIF(L37:L65,Y16)","v":0},{"$f":"Z16/(AB4-Z20)","v":0},{"$f":"IF(AA16=0,0,(AA16*((LOG(AA16))/LOG(2))))","v":0},null,{"$f":"N16","v":2112},{"$f":"COUNTIF(L66:L95,AD16)","v":3},{"$f":"AE16/(AG4-AE20)","v":0.1},{"$f":"IF(AF16=0,0,(AF16*((LOG(AF16))/LOG(2))))","v":-0.33219280948873625},null,{"$f":"N16","v":2112},{"$f":"COUNTIF(L96:L125,AI16)","v":0},{"$f":"AJ16/(AL4-AJ20)","v":0},{"$f":"IF(AK16=0,0,(AK16*((LOG(AK16))/LOG(2))))","v":0},null,{"$f":"N16","v":2112},{"$f":"COUNTIF(L126:L154,AN16)","v":1},{"$f":"AO16/(AQ4-AO20)","v":3.4482758620689655E-2},{"$f":"IF(AP16=0,0,(AP16*((LOG(AP16))/LOG(2))))","v":-0.16751658603888178},null,{"$f":"N16","v":2112},{"$f":"COUNTIF(L155:L184,AS16)","v":0},{"$f":"AT16/(AV4-AT20)","v":0},{"$f":"IF(AU16=0,0,(AU16*((LOG(AU16))/LOG(2))))","v":0}]
[12,1307,14,1313,13,1321,14,1329,null,null,0,1111,null,2121,{"$f":"COUNTIF($L$7:$L$500,N17)","v":0},{"$f":"O17/$Q$4","v":0},{"$f":"IF(P17=0,0,(P17*((LOG(P17))/LOG(2))))","v":0},null,null,{"$f":"N17","v":2121},{"$f":"COUNTIF(L7:L36,T17)","v":0},{"$f":"U17/(W4-U20)","v":0},{"$f":"IF(V17=0,0,(V17*((LOG(V17))/LOG(2))))","v":0},null,{"$f":"N17","v":2121},{"$f":"COUNTIF(L37:L65,Y17)","v":0},{"$f":"Z17/(AB4-Z20)","v":0},{"$f":"IF(AA17=0,0,(AA17*((LOG(AA17))/LOG(2))))","v":0},null,{"$f":"N17","v":2121},{"$f":"COUNTIF(L66:L95,AD17)","v":0},{"$f":"AE17/(AG4-AE20)","v":0},{"$f":"IF(AF17=0,0,(AF17*((LOG(AF17))/LOG(2))))","v":0},null,{"$f":"N17","v":2121},{"$f":"COUNTIF(L96:L125,AI17)","v":0},{"$f":"AJ17/(AL4-AJ20)","v":0},{"$f":"IF(AK17=0,0,(AK17*((LOG(AK17))/LOG(2))))","v":0},null,{"$f":"N17","v":2121},{"$f":"COUNTIF(L126:L154,AN17)","v":0},{"$f":"AO17/(AQ4-AO20)","v":0},{"$f":"IF(AP17=0,0,(AP17*((LOG(AP17))/LOG(2))))","v":0},null,{"$f":"N17","v":2121},{"$f":"COUNTIF(L155:L184,AS17)","v":0},{"$f":"AT17/(AV4-AT20)","v":0},{"$f":"IF(AU17=0,0,(AU17*((LOG(AU17))/LOG(2))))","v":0}]
[12,1421,14,1428,13,1434,14,1443,null,null,0,1111,null,2122,{"$f":"COUNTIF($L$7:$L$500,N18)","v":8},{"$f":"O18/$Q$4","v":4.49438202247191E-2},{"$f":"IF(P18=0,0,(P18*((LOG(P18))/LOG(2))))","v":-0.20115655869511903},null,null,{"$f":"N18","v":2122},{"$f":"COUNTIF(L7:L36,T18)","v":0},{"$f":"U18/(W4-U20)","v":0},{"$f":"IF(V18=0,0,(V18*((LOG(V18))/LOG(2))))","v":0},null,{"$f":"N18","v":2122},{"$f":"COUNTIF(L37:L65,Y18)","v":0},{"$f":"Z18/(AB4-Z20)","v":0},{"$f":"IF(AA18=0,0,(AA18*((LOG(AA18))/LOG(2))))","v":0},null,{"$f":"N18","v":2122},{"$f":"COUNTIF(L66:L95,AD18)","v":0},{"$f":"AE18/(AG4-AE20)","v":0},{"$f":"IF(AF18=0,0,(AF18*((LOG(AF18))/LOG(2))))","v":0},null,{"$f":"N18","v":2122},{"$f":"COUNTIF(L96:L125,AI18)","v":1},{"$f":"AJ18/(AL4-AJ20)","v":3.3333333333333333E-2},{"$f":"IF(AK18=0,0,(AK18*((LOG(AK18))/LOG(2))))","v":-0.16356301985361729},null,{"$f":"N18","v":2122},{"$f":"COUNTIF(L126:L154,AN18)","v":5},{"$f":"AO18/(AQ4-AO20)","v":0.17241379310344829},{"$f":"IF(AP18=0,0,(AP18*((LOG(AP18))/LOG(2))))","v":-0.43725050004141547},null,{"$f":"N18","v":2122},{"$f":"COUNTIF(L155:L184,AS18)","v":2},{"$f":"AT18/(AV4-AT20)","v":6.8965517241379309E-2},{"$f":"IF(AU18=0,0,(AU18*((LOG(AU18))/LOG(2))))","v":-0.26606765483638428}]
[12,1557,14,1565,24,1578,14,1590,null,null,0,1121,null,2211,{"$f":"COUNTIF($L$7:$L$500,N19)","v":5},{"$f":"O19/$Q$4","v":2.8089887640449437E-2},{"$f":"IF(P19=0,0,(P19*((LOG(P19))/LOG(2))))","v":-0.14476981281120885},null,null,{"$f":"N19","v":2211},{"$f":"COUNTIF(L7:L36,T19)","v":1},{"$f":"U19/(W4-U20)","v":3.3333333333333333E-2},{"$f":"IF(V19=0,0,(V19*((LOG(V19))/LOG(2))))","v":-0.16356301985361729},null,{"$f":"N19","v":2211},{"$f":"COUNTIF(L37:L65,Y19)","v":0},{"$f":"Z19/(AB4-Z20)","v":0},{"$f":"IF(AA19=0,0,(AA19*((LOG(AA19))/LOG(2))))","v":0},null,{"$f":"N19","v":2211},{"$f":"COUNTIF(L66:L95,AD19)","v":0},{"$f":"AE19/(AG4-AE20)","v":0},{"$f":"IF(AF19=0,0,(AF19*((LOG(AF19))/LOG(2))))","v":0},null,{"$f":"N19","v":2211},{"$f":"COUNTIF(L96:L125,AI19)","v":4},{"$f":"AJ19/(AL4-AJ20)","v":0.13333333333333333},{"$f":"IF(AK19=0,0,(AK19*((LOG(AK19))/LOG(2))))","v":-0.3875854127478025},null,{"$f":"N19","v":2211},{"$f":"COUNTIF(L126:L154,AN19)","v":0},{"$f":"AO19/(AQ4-AO20)","v":0},{"$f":"IF(AP19=0,0,(AP19*((LOG(AP19))/LOG(2))))","v":0},null,{"$f":"N19","v":2211},{"$f":"COUNTIF(L155:L184,AS19)","v":0},{"$f":"AT19/(AV4-AT20)","v":0},{"$f":"IF(AU19=0,0,(AU19*((LOG(AU19))/LOG(2))))","v":0}]
[12,1709,14,1714,13,1722,14,1733,null,null,0,1111,null,2212,{"$f":"COUNTIF($L$7:$L$500,N20)","v":1},{"$f":"O20/$Q$4","v":5.6179775280898875E-3},{"$f":"IF(P20=0,0,(P20*((LOG(P20))/LOG(2))))","v":-4.1998502421159538E-2},null,null,{"$f":"N20","v":2212},{"$f":"COUNTIF(L7:L36,T20)","v":0},null,null,null,{"$f":"N20","v":2212},{"$f":"COUNTIF(L37:L65,Y20)","v":0},null,null,null,{"$f":"N20","v":2212},{"$f":"COUNTIF(L66:L95,AD20)","v":0},null,null,null,{"$f":"N20","v":2212},{"$f":"COUNTIF(L96:L125,AI20)","v":0},null,null,null,{"$f":"N20","v":2212},{"$f":"COUNTIF(L126:L154,AN20)","v":0},null,null,null,{"$f":"N20","v":2212},{"$f":"COUNTIF(L155:L184,AS20)","v":1}]
[12,1843,23,1860,24,1868,23,1877,null,null,0,1222,null,2221,{"$f":"COUNTIF($L$7:$L$500,N21)","v":0},{"$f":"O21/$Q$4","v":0},{"$f":"IF(P21=0,0,(P21*((LOG(P21))/LOG(2))))","v":0},null,null,{"$f":"N21","v":2221},{"$f":"COUNTIF(L7:L36,T21)","v":0},{"$f":"U21/(W4-U20)","v":0},{"$f":"IF(V21=0,0,(V21*((LOG(V21))/LOG(2))))","v":0},null,{"$f":"N21","v":2221},{"$f":"COUNTIF(L37:L65,Y21)","v":0},{"$f":"Z21/(AB4-Z20)","v":0},{"$f":"IF(AA21=0,0,(AA21*((LOG(AA21))/LOG(2))))","v":0},null,{"$f":"N21","v":2221},{"$f":"COUNTIF(L66:L95,AD21)","v":0},{"$f":"AE21/(AG4-AE20)","v":0},{"$f":"IF(AF21=0,0,(AF21*((LOG(AF21))/LOG(2))))","v":0},null,{"$f":"N21","v":2221},{"$f":"COUNTIF(L96:L125,AI21)","v":0},{"$f":"AJ21/(AL4-AJ20)","v":0},{"$f":"IF(AK21=0,0,(AK21*((LOG(AK21))/LOG(2))))","v":0},null,{"$f":"N21","v":2221},{"$f":"COUNTIF(L126:L154,AN21)","v":0},{"$f":"AO21/(AQ4-AO20)","v":0},{"$f":"IF(AP21=0,0,(AP21*((LOG(AP21))/LOG(2))))","v":0},null,{"$f":"N21","v":2221},{"$f":"COUNTIF(L155:L184,AS21)","v":0},{"$f":"AT21/(AV4-AT20)","v":0},{"$f":"IF(AU21=0,0,(AU21*((LOG(AU21))/LOG(2))))","v":0}]
[12,1985,14,1992,13,2001,23,2014,null,null,0,1112,null,2222,{"$f":"COUNTIF($L$7:$L$500,N22)","v":8},{"$f":"O22/$Q$4","v":4.49438202247191E-2},{"$f":"IF(P22=0,0,(P22*((LOG(P22))/LOG(2))))","v":-0.20115655869511903},null,null,{"$f":"N22","v":2222},{"$f":"COUNTIF(L7:L36,T22)","v":0},{"$f":"U22/(W4-U20)","v":0},{"$f":"IF(V22=0,0,(V22*((LOG(V22))/LOG(2))))","v":0},null,{"$f":"N22","v":2222},{"$f":"COUNTIF(L37:L65,Y22)","v":0},{"$f":"Z22/(AB4-Z20)","v":0},{"$f":"IF(AA22=0,0,(AA22*((LOG(AA22))/LOG(2))))","v":0},null,{"$f":"N22","v":2222},{"$f":"COUNTIF(L66:L95,AD22)","v":0},{"$f":"AE22/(AG4-AE20)","v":0},{"$f":"IF(AF22=0,0,(AF22*((LOG(AF22))/LOG(2))))","v":0},null,{"$f":"N22","v":2222},{"$f":"COUNTIF(L96:L125,AI22)","v":1},{"$f":"AJ22/(AL4-AJ20)","v":3.3333333333333333E-2},{"$f":"IF(AK22=0,0,(AK22*((LOG(AK22))/LOG(2))))","v":-0.16356301985361729},null,{"$f":"N22","v":2222},{"$f":"COUNTIF(L126:L154,AN22)","v":3},{"$f":"AO22/(AQ4-AO20)","v":0.10344827586206896},{"$f":"IF(AP22=0,0,(AP22*((LOG(AP22))/LOG(2))))","v":-0.33858812011100858},null,{"$f":"N22","v":2222},{"$f":"COUNTIF(L155:L184,AS22)","v":4},{"$f":"AT22/(AV4-AT20)","v":0.13793103448275862},{"$f":"IF(AU22=0,0,(AU22*((LOG(AU22))/LOG(2))))","v":-0.39420427519000989}]
[12,2110,23,2124,24,2132,23,2137,null,null,0,1222,null,null,null,{"$f":"SUM(P7:P22)","v":1},{"$f":"-SUM(Q7:Q22)","v":2.6448267953258915},null,null,null,null,{"$f":"SUM(V7:V22)","v":0.99999999999999989},{"$f":"-SUM(W7:W22)","v":2.0458141315489433},null,null,null,{"$f":"SUM(AA7:AA22)","v":1},{"$f":"-SUM(AB7:AB22)","v":1.1730712326384685},null,null,null,{"$f":"SUM(AF7:AF22)","v":1},{"$f":"-SUM(AG7:AG22)","v":1.5077516472406154},null,null,null,{"$f":"SUM(AK7:AK22)","v":0.99999999999999989},{"$f":"-SUM(AL7:AL22)","v":2.609034029956935},null,null,null,{"$f":"SUM(AP7:AP22)","v":1},{"$f":"-SUM(AQ7:AQ22)","v":2.9911201162511025},null,null,null,{"$f":"SUM(AU7:AU22)","v":1},{"$f":"-SUM(AV7:AV22)","v":2.5378357359846655}]
[12,2236,14,2242,13,2250,23,2264,null,null,0,1112,null,null,null,"U=",{"$f":"Q23/(LOG(Q4)/LOG(2))","v":0.35378826970613253},null,null,null,null,"U1=",{"$f":"W23/(LOG(W4)/LOG(2))","v":0.41692678727743993},null,null,null,"U2=",{"$f":"AB23/(LOG(AB4)/LOG(2))","v":0.24147299748908616},null,null,null,"U3=",{"$f":"AG23/(LOG(AG4)/LOG(2))","v":0.3072723179501895},null,null,null,"U4=",{"$f":"AL23/(LOG(AL4)/LOG(2))","v":0.53170821299580673},null,null,null,"U5=",{"$f":"AQ23/(LOG(AQ4)/LOG(2))","v":0.61571260143897599},null,null,null,"U6=",{"$f":"AV23/(LOG(AV4)/LOG(2))","v":0.51719835332296438}]
[21,2377,21,2383,11,2395,12,2404,null,null,0,2211]
[12,2525,14,2531,13,2539,23,2552,null,null,0,1112]
[12,2653,14,2660,13,2670,23,2681,null,null,0,1112,null,"Total Target Seq"]
[12,2774,14,2779,13,2787,14,2804,null,null,0,1111,null,{"$f":"COUNTIF(L7:L184,G3)","v":1},null,30,29,30,30,29,30]
[12,2920,14,2927,13,2934,14,2942,null,null,0,1111,null,null,null,"% of reinforcement given in 6 equal intervals based on number of trials "]
[12,3097,14,3102,13,3111,23,3124,null,null,0,1112,null,null,null,"%_1","%_2","%_3","%_4","%_5","%_6"]
[21,3247,12,3256,13,3263,14,3270,null,null,0,2111,null,null,"target sequence",{"$f":"$G$3","v":2212},{"$f":"$G$3","v":2212},{"$f":"$G$3","v":2212},{"$f":"$G$3","v":2212},{"$f":"$G$3","v":2212},{"$f":"$G$3","v":2212}]
[12,3384,14,3390,13,3394,14,3403,null,null,0,1111,null,null,"total reinforcement",{"$f":"U20","v":0},{"$f":"Z20","v":0},{"$f":"AE20","v":0},{"$f":"AJ20","v":0},{"$f":"AO20","v":0},{"$f":"AT20","v":1}]
[12,3506,14,3515,13,3524,14,3531,null,null,0,1111,null,null,"% target"]
[12,3637,14,3642,13,3651,14,3660,null,null,0,1111,null,null,"CCRF"]
[12,3772,14,3777,13,3783,14,3791,null,null,0,1111,null,null,"% CCRf"]
[12,3896,14,3905,13,3912,23,3925,null,null,0,1112,null,null,"average response rate",{"$f":"H36/P28","v":130.83333333333334},{"$f":"(H65-H36)/Q28","v":133.31034482758622},{"$f":"(H95-H65)/R28","v":135.69999999999999},{"$f":"(H125-H95)/S28","v":137.56666666666666},{"$f":"(H154-H125)/T28","v":136.31034482758622},{"$f":"(H184-H154)/U28","v":131.69999999999999}]
[21,4032,12,4041,13,4048,14,4057,null,null,0,2111]
[12,4198,14,4205,24,4217,23,4222,null,null,0,1122]
[12,4376,14,4380,13,4385,14,4393,null,null,0,1111]
[12,4500,14,4505,24,4518,23,4523,null,null,0,1122]
[12,4665,14,4669,13,4675,14,4683,null,null,0,1111]
[12,4787,14,4791,13,4795,14,4800,null,null,0,1111]
[12,4901,14,4907,13,4913,14,4923,null,null,0,1111]
[12,5024,14,5029,13,5033,14,5037,null,null,0,1111]
[12,5173,14,5178,13,5183,14,5191,null,null,0,1111]
[12,5307,14,5312,13,5316,14,5321,null,null,0,1111]
[12,5444,14,5448,13,5453,14,5458,null,null,0,1111]
[12,5575,14,5581,13,5586,14,5594,null,null,0,1111]
[12,5709,14,5714,13,5722,14,5730,null,null,0,1111]
[21,5831,12,5841,13,5846,14,5854,null,null,0,2111]
[12,5971,14,5975,13,5980,14,5984,null,null,0,1111]
[12,6107,14,6111,13,6115,14,6120,null,null,0,1111]
[12,6222,14,6228,13,6232,14,6240,null,null,0,1111]
[12,6350,14,6355,13,6359,14,6363,null,null,0,1111]
[12,6488,14,6493,13,6497,14,6502,null,null,0,1111]
[12,6602,14,6607,13,6612,14,6618,null,null,0,1111]
[12,6728,14,6733,13,6738,14,6742,null,null,0,1111]
[12,6855,14,6859,13,6863,14,6868,null,null,0,1111]
[12,6980,14,6984,13,6993,14,7000,null,null,0,1111]
[12,7098,14,7103,13,7108,23,7120,null,null,0,1112]
[21,7223,12,7232,13,7236,14,7241,null,null,0,2111]
[12,7343,14,7348,13,7353,14,7363,null,null,0,1111]
[12,7480,14,7487,13,7494,14,7505,null,null,0,1111]
[12,7622,14,7626,13,7630,14,7635,null,null,0,1111]
[12,7765,14,7770,13,7775,23,7791,null,null,0,1112]
[12,7906,14,7910,13,7914,14,7920,null,null,0,1111]
[12,8028,14,8040,13,8048,23,8063,null,null,0,1112]
[12,8190,14,8195,13,8200,23,8213,null,null,0,1112]
[21,8314,12,8325,13,8330,23,8342,null,null,0,2112]
[12,8450,14,8456,13,8461,14,8469,null,null,0,1111]
[12,8568,14,8573,13,8591,23,8605,null,null,0,1112]
[12,8712,14,8717,13,8721,14,8726,null,null,0,1111]
[12,8835,14,8843,13,8848,23,8863,null,null,0,1112]
[12,8971,14,8975,13,8982,14,8986,null,null,0,1111]
[12,9105,14,9110,13,9115,14,9123,null,null,0,1111]
[12,9235,14,9239,13,9244,14,9248,null,null,0,1111]
[12,9368,14,9373,13,9377,14,9382,null,null,0,1111]
[12,9486,14,9494,13,9498,14,9508,null,null,0,1111]
[12,9636,14,9640,13,9645,14,9651,null,null,0,1111]
[12,9793,14,9798,13,9806,23,9818,null,null,0,1112]
[12,9930,14,9937,13,9946,23,9959,null,null,0,1112]
[12,10068,14,10072,13,10077,23,10092,null,null,0,1112]
[12,10211,14,10216,13,10223,14,10230,null,null,0,1111]
[12,10340,14,10346,13,10351,14,10356,null,null,0,1111]
[12,10486,14,10490,13,10495,14,10499,null,null,0,1111]
[12,10608,14,10613,13,10618,14,10625,null,null,0,1111]
[12,10743,14,10750,13,10758,23,10774,null,null,0,1112]
[21,10872,12,10890,13,10895,23,10906,null,null,0,2112]
[12,11012,14,11019,13,11026,14,11034,null,null,0,1111]
[12,11141,23,11153,24,11159,14,11172,null,null,0,1221]
[12,11290,14,11295,13,11300,14,11304,null,null,0,1111]
[12,11404,14,11415,13,11420,23,11434,null,null,0,1112]
[12,11548,14,11554,13,11562,23,11575,null,null,0,1112]
[12,11688,14,11693,13,11700,14,11709,null,null,0,1111]
[21,11827,12,11840,13,11849,23,11862,null,null,0,2112]
[21,11959,21,11974,11,11985,12,11990,null,null,0,2211]
[12,12092,14,12096,13,12104,14,12112,null,null,0,1111]
[12,12229,14,12233,13,12237,14,12242,null,null,0,1111]
[12,12367,23,12378,24,12385,23,12392,null,null,0,1222]
[21,12517,12,12528,13,12533,14,12538,null,null,0,2111]
[12,12652,14,12656,13,12661,14,12666,null,null,0,1111]
[12,12794,14,12798,13,12802,14,12806,null,null,0,1111]
[12,12936,14,12940,13,12944,14,12950,null,null,0,1111]
[12,13055,14,13061,13,13067,23,13082,null,null,0,1112]
[12,13191,14,13195,13,13199,14,13203,null,null,0,1111]
[12,13325,14,13330,13,13335,14,13344,null,null,0,1111]
[12,13472,14,13479,13,13486,23,13499,null,null,0,1112]
[12,13609,14,13614,13,13619,23,13631,null,null,0,1112]
[12,13763,14,13770,13,13779,23,13792,null,null,0,1112]
[12,13891,23,13902,24,13907,23,13914,null,null,0,1222]
[12,14016,14,14020,13,14031,14,14039,null,null,0,1111]
[12,14151,14,14159,13,14167,23,14179,null,null,0,1112]
[12,14286,14,14290,24,14301,23,14308,null,null,0,1122]
[12,14408,14,14413,24,14422,23,14429,null,null,0,1122]
[12,14528,23,14539,24,14544,23,14552,null,null,0,1222]
[21,14665,21,14672,22,14678,23,14683,null,null,0,2222]
[12,14781,14,14791,24,14802,23,14809,null,null,0,1122]
[21,14913,12,14922,24,14935,23,14941,null,null,0,2122]
[21,15048,21,15050,11,15061,12,15066,null,null,0,2211]
[21,15163,21,15165,11,15177,12,15183,null,null,0,2211]
[12,15402,14,15408,13,15413,14,15424,null,null,0,1111]
[12,15526,23,15549,24,15554,23,15561,null,null,0,1222]
[12,15660,14,15665,13,15673,23,15684,null,null,0,1112]
[21,15798,21,15812,11,15825,12,15832,null,null,0,2211]
[12,15960,14,15967,13,15976,23,15989,null,null,0,1112]
[21,16095,12,16107,24,16118,23,16126,null,null,0,2122]
[12,16221,23,16234,13,16242,14,16246,null,null,0,1211]
[21,16356,12,16365,13,16370,14,16374,null,null,0,2111]
[21,16473,12,16485,24,16494,23,16501,null,null,0,2122]
[21,16607,12,16618,13,16622,14,16626,null,null,0,2111]
[12,16728,23,16741,24,16749,23,16759,null,null,0,1222]
[12,16879,14,16884,13,16889,23,16902,null,null,0,1112]
[12,16994,14,17000,24,17014,23,17021,null,null,0,1122]
[21,17173,21,17180,22,17187,23,17202,null,null,0,2222]
[21,17303,12,17312,24,17322,23,17327,null,null,0,2122]
[21,17438,12,17447,24,17457,23,17465,null,null,0,2122]
[12,17587,14,17591,13,17595,14,17600,null,null,0,1111]
[21,17704,21,17716,22,17721,23,17728,null,null,0,2222]
[12,17831,14,17835,24,17844,23,17848,null,null,0,1122]
[12,17957,14,17963,13,17968,14,17982,null,null,0,1111]
[21,18093,12,18103,13,18108,14,18112,null,null,0,2111]
[12,18301,23,18310,24,18316,23,18327,null,null,0,1222]
[12,18434,14,18439,13,18443,23,18454,null,null,0,1112]
[12,18552,23,18560,24,18568,23,18576,null,null,0,1222]
[21,18683,12,18692,13,18696,23,18707,null,null,0,2112]
[12,18836,14,18841,13,18845,14,18850,null,null,0,1111]
[12,18953,14,18958,24,18968,23,18975,null,null,0,1122]
[12,19080,14,19084,13,19089,14,19094,null,null,0,1111]
[21,19233,12,19247,24,19259,23,19264,null,null,0,2122]
[21,19371,21,19384,22,19389,23,19396,null,null,0,2222]
[12,19508,14,19514,13,19521,14,19533,null,null,0,1111]
[12,19658,14,19662,13,19667,14,19671,null,null,0,1111]
[12,19779,14,19784,13,19791,23,19805,null,null,0,1112]
[12,19915,14,19922,13,19929,23,19942,null,null,0,1112]
[12,20045,14,20051,13,20055,14,20065,null,null,0,1111]
[12,20173,14,20179,13,20187,14,20196,null,null,0,1111]
[12,20316,14,20321,13,20326,14,20331,null,null,0,1111]
[12,20445,14,20452,13,20459,14,20468,null,null,0,1111]
[12,20580,14,20584,13,20588,14,20596,null,null,0,1111]
[21,20706,12,20717,24,20732,23,20746,null,null,0,2122]
[12,20842,23,20851,13,20863,14,20869,null,null,0,1211]
[12,20981,14,20986,24,20996,23,21003,null,null,0,1122]
[12,21111,14,21116,13,21120,14,21125,null,null,0,1111]
[12,21239,14,21252,13,21257,23,21269,null,null,0,1112]
[12,21385,14,21390,13,21394,14,21399,null,null,0,1111]
[12,21522,14,21529,24,21542,23,21549,null,null,0,1122]
[12,21652,23,21664,24,21673,23,21679,null,null,0,1222]
[12,21786,14,21790,13,21798,23,21811,null,null,0,1112]
[12,21922,14,21930,13,21935,14,21944,null,null,0,1111]
[12,22043,14,22051,13,22056,23,22066,null,null,0,1112]
[12,22179,14,22187,24,22200,23,22205,null,null,0,1122]
[12,22306,23,22317,13,22328,14,22335,null,null,0,1211]
[12,22436,14,22441,13,22446,14,22451,null,null,0,1111]
[21,22553,21,22569,22,22577,23,22585,null,null,0,2222]
[12,22696,14,22700,13,22704,14,22709,null,null,0,1111]
[21,22820,21,22828,22,22836,23,22843,null,null,0,2222]
[12,22957,14,22961,13,22965,14,22969,null,null,0,1111]
[21,23076,21,23081,22,23085,23,23090,null,null,0,2222]
[21,23195,21,23212,22,23219,23,23227,null,null,0,2222]
[21,23341,12,23350,13,23354,14,23360,null,null,0,2111]
[12,23465,23,23473,13,23484,14,23491,null,null,0,1211]
[12,23602,14,23611,13,23617,14,23625,null,null,0,1111]
[21,23725,21,23742,11,23753,21,23764,null,null,0,2212]
[21,23871,12,23879,24,23888,23,23893,null,null,0,2122]

{"sheet":"!L803A50.053","index":9,"n_rows":172,"n_cols":48,"rows_kept":172,"cut":false,"hidden":false,"merged":[[4,39,4,42],[5,39,5,40],[4,44,4,47],[5,44,5,45],[4,24,4,27],[5,24,5,25],[4,29,4,32],[5,29,5,30],[4,34,4,37],[5,34,5,35],[1,1,1,2],[5,13,5,14],[26,13,26,14],[27,13,27,14],[4,19,4,22],[5,19,5,20]]}
["Report for:!L803A50.053"]
["Date:","<date>"]
["Hen:","<hen>",null,null,null,"Correct Sequence",{"$f":"Start!J2","v":2212},null,null,null,null,null,null,null,null,"Total Sequences in Data",{"$f":"4994-COUNTBLANK(L7:L5000)","v":166},null,null,null,null,"Total Sequences in Block Data",{"$f":"COUNTA(L7:L34)","v":28},null,null,null,"Total Sequences in Block Data",{"$f":"COUNTA(L35:L61)","v":27},null,null,null,"Total Sequences in Block Data",{"$f":"COUNTA(L62:L89)","v":28},null,null,null,"Total Sequences in Block Data",{"$f":"COUNTA(L90:L117)","v":28},null,null,null,"Total Sequences in Block Data",{"$f":"COUNTA(L118:L144)","v":27},null,null,null,"Total Sequences in Block Data",{"$f":"COUNTA(L145:L172)","v":28}]
[null,null,null,null,null,null,null,null,null,null,null,null,null,null,null,"Total Sequences in Summary",{"$f":"SUM(O7:O22)","v":166},null,null,null,null,"Total Sequences in Block Summary",{"$f":"SUM(U7:U22)","v":28},null,null,null,"Total Sequences in Block Summary",{"$f":"SUM(Z7:Z22)","v":27},null,null,null,"Total Sequences in Block Summary",{"$f":"SUM(AE7:AE22)","v":28},null,null,null,"Total Sequences in Block Summary",{"$f":"SUM(AJ7:AJ22)","v":28},null,null,null,"Total Sequences in Block Summary",{"$f":"SUM(AO7:AO22)","v":27},null,null,null,"Total Sequences in Block Summary",{"$f":"SUM(AT7:AT22)","v":28}]
[null,null,null,null,null,null,null,null,null,null,null,null,null,null,null,null,null,null,null,"Block 1",null,null,null,null,"Block 2",null,null,null,null,"Block 3",null,null,null,null,"Block 4",null,null,null,null,"Block 5",null,null,null,null,"Block 6"]
["Sequence\nComponent\n1","Time\n1","Sequence\nComponent\n2","Time\n2","Sequence\nComponent\n3","Time\n3","Sequence\nComponent\n4","Time\n4","Sequence\nComponent\n5","Time\n5","Correct?\n0=No 1=Yes","Sequence",null,"Frequency",null,"Relative Frequency","Variability",null,null,"Frequency",null,"Relative Frequency","Variability",null,"Frequency",null,"Relative Frequency","Variability",null,"Frequency",null,"Relative Frequency","Variability",null,"Frequency",null,"Relative Frequency","Variability",null,"Frequency",null,"Relative Frequency","Variability",null,"Frequency",null,"Relative Frequency","Variability"]
[12,10,14,20,24,33,14,46,null,null,0,1121,null,1111,{"$f":"COUNTIF($L$7:$L$500,N7)","v":8},{"$f":"O7/$Q$4","v":4.8192771084337352E-2},{"$f":"IF(P7=0,0,(P7*((LOG(P7))/LOG(2))))","v":-0.2108452737998518},null,null,{"$f":"N7","v":1111},{"$f":"COUNTIF(L7:L34,T7)","v":5},{"$f":"U7/(W4-U20)","v":0.17857142857142858},{"$f":"IF(V7=0,0,(V7*((LOG(V7))/LOG(2))))","v":-0.44382621913754317},null,{"$f":"N7","v":1111},{"$f":"COUNTIF(L35:L61,Y7)","v":3},{"$f":"Z7/(AB4-Z20)","v":0.11538461538461539},{"$f":"IF(AA7=0,0,(AA7*((LOG(AA7))/LOG(2))))","v":-0.35947814047153104},null,{"$f":"N7","v":1111},{"$f":"COUNTIF(L62:L89,AD7)","v":0},{"$f":"AE7/(AG4-AE20)","v":0},{"$f":"IF(AF7=0,0,(AF7*((LOG(AF7))/LOG(2))))","v":0},null,{"$f":"N7","v":1111},{"$f":"COUNTIF(L90:L117,AI7)","v":0},{"$f":"AJ7/(AL4-AJ20)","v":0},{"$f":"IF(AK7=0,0,(AK7*((LOG(AK7))/LOG(2))))","v":0},null,{"$f":"N7","v":1111},{"$f":"COUNTIF(L118:L144,AN7)","v":0},{"$f":"AO7/(AQ4-AO20)","v":0},{"$f":"IF(AP7=0,0,(AP7*((LOG(AP7))/LOG(2))))","v":0},null,{"$f":"N7","v":1111},{"$f":"COUNTIF(L145:L172,AS7)","v":0},{"$f":"AT7/(AV4-AT20)","v":0},{"$f":"IF(AU7=0,0,(AU7*((LOG(AU7))/LOG(2))))","v":0}]
[12,147,14,155,13,164,14,172,null,null,0,1111,null,1112,{"$f":"COUNTIF($L$7:$L$500,N8)","v":19},{"$f":"O8/$Q$4","v":0.1144578313253012},{"$f":"IF(P8=0,0,(P8*((LOG(P8))/LOG(2))))","v":-0.35792244843471954},null,null,{"$f":"N8","v":1112},{"$f":"COUNTIF(L7:L34,T8)","v":12},{"$f":"U8/(W4-U20)","v":0.42857142857142855},{"$f":"IF(V8=0,0,(V8*((LOG(V8))/LOG(2))))","v":-0.52388246628704915},null,{"$f":"N8","v":1112},{"$f":"COUNTIF(L35:L61,Y8)","v":3},{"$f":"Z8/(AB4-Z20)","v":0.11538461538461539},{"$f":"IF(AA8=0,0,(AA8*((LOG(AA8))/LOG(2))))","v":-0.35947814047153104},null,{"$f":"N8","v":1112},{"$f":"COUNTIF(L62:L89,AD8)","v":4},{"$f":"AE8/(AG4-AE20)","v":0.14814814814814814},{"$f":"IF(AF8=0,0,(AF8*((LOG(AF8))/LOG(2))))","v":-0.40813148180199532},null,{"$f":"N8","v":1112},{"$f":"COUNTIF(L90:L117,AI8)","v":0},{"$f":"AJ8/(AL4-AJ20)","v":0},{"$f":"IF(AK8=0,0,(AK8*((LOG(AK8))/LOG(2))))","v":0},null,{"$f":"N8","v":1112},{"$f":"COUNTIF(L118:L144,AN8)","v":0},{"$f":"AO8/(AQ4-AO20)","v":0},{"$f":"IF(AP8=0,0,(AP8*((LOG(AP8))/LOG(2))))","v":0},null,{"$f":"N8","v":1112},{"$f":"COUNTIF(L145:L172,AS8)","v":0},{"$f":"AT8/(AV4-AT20)","v":0},{"$f":"IF(AU8=0,0,(AU8*((LOG(AU8))/LOG(2))))","v":0}]
[12,272,14,282,24,291,23,302,null,null,0,1122,null,1121,{"$f":"COUNTIF($L$7:$L$500,N9)","v":1},{"$f":"O9/$Q$4","v":6.024096385542169E-3},{"$f":"IF(P9=0,0,(P9*((LOG(P9))/LOG(2))))","v":-4.4427948381607983E-2},null,null,{"$f":"N9","v":1121},{"$f":"COUNTIF(L7:L34,T9)","v":1},{"$f":"U9/(W4-U20)","v":3.5714285714285712E-2},{"$f":"IF(V9=0,0,(V9*((LOG(V9))/LOG(2))))","v":-0.17169124721634299},null,{"$f":"N9","v":1121},{"$f":"COUNTIF(L35:L61,Y9)","v":0},{"$f":"Z9/(AB4-Z20)","v":0},{"$f":"IF(AA9=0,0,(AA9*((LOG(AA9))/LOG(2))))","v":0},null,{"$f":"N9","v":1121},{"$f":"COUNTIF(L62:L89,AD9)","v":0},{"$f":"AE9/(AG4-AE20)","v":0},{"$f":"IF(AF9=0,0,(AF9*((LOG(AF9))/LOG(2))))","v":0},null,{"$f":"N9","v":1121},{"$f":"COUNTIF(L90:L117,AI9)","v":0},{"$f":"AJ9/(AL4-AJ20)","v":0},{"$f":"IF(AK9=0,0,(AK9*((LOG(AK9))/LOG(2))))","v":0},null,{"$f":"N9","v":1121},{"$f":"COUNTIF(L118:L144,AN9)","v":0},{"$f":"AO9/(AQ4-AO20)","v":0},{"$f":"IF(AP9=0,0,(AP9*((LOG(AP9))/LOG(2))))","v":0},null,{"$f":"N9","v":1121},{"$f":"COUNTIF(L145:L172,AS9)","v":0},{"$f":"AT9/(AV4-AT20)","v":0},{"$f":"IF(AU9=0,0,(AU9*((LOG(AU9))/LOG(2))))","v":0}]
[12,393,14,411,24,426,23,438,null,null,0,1122,null,1122,{"$f":"COUNTIF($L$7:$L$500,N10)","v":19},{"$f":"O10/$Q$4","v":0.1144578313253012},{"$f":"IF(P10=0,0,(P10*((LOG(P10))/LOG(2))))","v":-0.35792244843471954},null,null,{"$f":"N10","v":1122},{"$f":"COUNTIF(L7:L34,T10)","v":7},{"$f":"U10/(W4-U20)","v":0.25},{"$f":"IF(V10=0,0,(V10*((LOG(V10))/LOG(2))))","v":-0.5},null,{"$f":"N10","v":1122},{"$f":"COUNTIF(L35:L61,Y10)","v":4},{"$f":"Z10/(AB4-Z20)","v":0.15384615384615385},{"$f":"IF(AA10=0,0,(AA10*((LOG(AA10))/LOG(2))))","v":-0.4154522643293988},null,{"$f":"N10","v":1122},{"$f":"COUNTIF(L62:L89,AD10)","v":6},{"$f":"AE10/(AG4-AE20)","v":0.22222222222222221},{"$f":"IF(AF10=0,0,(AF10*((LOG(AF10))/LOG(2))))","v":-0.48220555587606945},null,{"$f":"N10","v":1122},{"$f":"COUNTIF(L90:L117,AI10)","v":2},{"$f":"AJ10/(AL4-AJ20)","v":7.6923076923076927E-2},{"$f":"IF(AK10=0,0,(AK10*((LOG(AK10))/LOG(2))))","v":-0.28464920908777636},null,{"$f":"N10","v":1122},{"$f":"COUNTIF(L118:L144,AN10)","v":0},{"$f":"AO10/(AQ4-AO20)","v":0},{"$f":"IF(AP10=0,0,(AP10*((LOG(AP10))/LOG(2))))","v":0},null,{"$f":"N10","v":1122},{"$f":"COUNTIF(L145:L172,AS10)","v":0},{"$f":"AT10/(AV4-AT20)","v":0},{"$f":"IF(AU10=0,0,(AU10*((LOG(AU10))/LOG(2))))","v":0}]
[12,543,14,551,13,560,23,573,null,null,0,1112,null,1211,{"$f":"COUNTIF($L$7:$L$500,N11)","v":5},{"$f":"O11/$Q$4","v":3.0120481927710843E-2},{"$f":"IF(P11=0,0,(P11*((LOG(P11))/LOG(2))))","v":-0.15220214868854101},null,null,{"$f":"N11","v":1211},{"$f":"COUNTIF(L7:L34,T11)","v":0},{"$f":"U11/(W4-U20)","v":0},{"$f":"IF(V11=0,0,(V11*((LOG(V11))/LOG(2))))","v":0},null,{"$f":"N11","v":1211},{"$f":"COUNTIF(L35:L61,Y11)","v":3},{"$f":"Z11/(AB4-Z20)","v":0.11538461538461539},{"$f":"IF(AA11=0,0,(AA11*((LOG(AA11))/LOG(2))))","v":-0.35947814047153104},null,{"$f":"N11","v":1211},{"$f":"COUNTIF(L62:L89,AD11)","v":2},{"$f":"AE11/(AG4-AE20)","v":7.407407407407407E-2},{"$f":"IF(AF11=0,0,(AF11*((LOG(AF11))/LOG(2))))","v":-0.27813981497507173},null,{"$f":"N11","v":1211},{"$f":"COUNTIF(L90:L117,AI11)","v":0},{"$f":"AJ11/(AL4-AJ20)","v":0},{"$f":"IF(AK11=0,0,(AK11*((LOG(AK11))/LOG(2))))","v":0},null,{"$f":"N11","v":1211},{"$f":"COUNTIF(L118:L144,AN11)","v":0},{"$f":"AO11/(AQ4-AO20)","v":0},{"$f":"IF(AP11=0,0,(AP11*((LOG(AP11))/LOG(2))))","v":0},null,{"$f":"N11","v":1211},{"$f":"COUNTIF(L145:L172,AS11)","v":0},{"$f":"AT11/(AV4-AT20)","v":0},{"$f":"IF(AU11=0,0,(AU11*((LOG(AU11))/LOG(2))))","v":0}]
[12,667,14,675,13,682,23,694,null,null,0,1112,null,1212,{"$f":"COUNTIF($L$7:$L$500,N12)","v":2},{"$f":"O12/$Q$4","v":1.2048192771084338E-2},{"$f":"IF(P12=0,0,(P12*((LOG(P12))/LOG(2))))","v":-7.6807703992131618E-2},null,null,{"$f":"N12","v":1212},{"$f":"COUNTIF(L7:L34,T12)","v":0},{"$f":"U12/(W4-U20)","v":0},{"$f":"IF(V12=0,0,(V12*((LOG(V12))/LOG(2))))","v":0},null,{"$f":"N12","v":1212},{"$f":"COUNTIF(L35:L61,Y12)","v":1},{"$f":"Z12/(AB4-Z20)","v":3.8461538461538464E-2},{"$f":"IF(AA12=0,0,(AA12*((LOG(AA12))/LOG(2))))","v":-0.18078614300542661},null,{"$f":"N12","v":1212},{"$f":"COUNTIF(L62:L89,AD12)","v":1},{"$f":"AE12/(AG4-AE20)","v":3.7037037037037035E-2},{"$f":"IF(AF12=0,0,(AF12*((LOG(AF12))/LOG(2))))","v":-0.1761069445245729},null,{"$f":"N12","v":1212},{"$f":"COUNTIF(L90:L117,AI12)","v":0},{"$f":"AJ12/(AL4-AJ20)","v":0},{"$f":"IF(AK12=0,0,(AK12*((LOG(AK12))/LOG(2))))","v":0},null,{"$f":"N12","v":1212},{"$f":"COUNTIF(L118:L144,AN12)","v":0},{"$f":"AO12/(AQ4-AO20)","v":0},{"$f":"IF(AP12=0,0,(AP12*((LOG(AP12))/LOG(2))))","v":0},null,{"$f":"N12","v":1212},{"$f":"COUNTIF(L145:L172,AS12)","v":0},{"$f":"AT12/(AV4-AT20)","v":0},{"$f":"IF(AU12=0,0,(AU12*((LOG(AU12))/LOG(2))))","v":0}]
[12,795,14,801,13,810,23,822,null,null,0,1112,null,1221,{"$f":"COUNTIF($L$7:$L$500,N13)","v":0},{"$f":"O13/$Q$4","v":0},{"$f":"IF(P13=0,0,(P13*((LOG(P13))/LOG(2))))","v":0},null,null,{"$f":"N13","v":1221},{"$f":"COUNTIF(L7:L34,T13)","v":0},{"$f":"U13/(W4-U20)","v":0},{"$f":"IF(V13=0,0,(V13*((LOG(V13))/LOG(2))))","v":0},null,{"$f":"N13","v":1221},{"$f":"COUNTIF(L35:L61,Y13)","v":0},{"$f":"Z13/(AB4-Z20)","v":0},{"$f":"IF(AA13=0,0,(AA13*((LOG(AA13))/LOG(2))))","v":0},null,{"$f":"N13","v":1221},{"$f":"COUNTIF(L62:L89,AD13)","v":0},{"$f":"AE13/(AG4-AE20)","v":0},{"$f":"IF(AF13=0,0,(AF13*((LOG(AF13))/LOG(2))))","v":0},null,{"$f":"N13","v":1221},{"$f":"COUNTIF(L90:L117,AI13)","v":0},{"$f":"AJ13/(AL4-AJ20)","v":0},{"$f":"IF(AK13=0,0,(AK13*((LOG(AK13))/LOG(2))))","v":0},null,{"$f":"N13","v":1221},{"$f":"COUNTIF(L118:L144,AN13)","v":0},{"$f":"AO13/(AQ4-AO20)","v":0},{"$f":"IF(AP13=0,0,(AP13*((LOG(AP13))/LOG(2))))","v":0},null,{"$f":"N13","v":1221},{"$f":"COUNTIF(L145:L172,AS13)","v":0},{"$f":"AT13/(AV4-AT20)","v":0},{"$f":"IF(AU13=0,0,(AU13*((LOG(AU13))/LOG(2))))","v":0}]
[12,923,14,929,24,940,23,948,null,null,0,1122,null,1222,{"$f":"COUNTIF($L$7:$L$500,N14)","v":14},{"$f":"O14/$Q$4","v":8.4337349397590355E-2},{"$f":"IF(P14=0,0,(P14*((LOG(P14))/LOG(2))))","v":-0.30088905500030411},null,null,{"$f":"N14","v":1222},{"$f":"COUNTIF(L7:L34,T14)","v":2},{"$f":"U14/(W4-U20)","v":7.1428571428571425E-2},{"$f":"IF(V14=0,0,(V14*((LOG(V14))/LOG(2))))","v":-0.27195392300411453},null,{"$f":"N14","v":1222},{"$f":"COUNTIF(L35:L61,Y14)","v":2},{"$f":"Z14/(AB4-Z20)","v":7.6923076923076927E-2},{"$f":"IF(AA14=0,0,(AA14*((LOG(AA14))/LOG(2))))","v":-0.28464920908777636},null,{"$f":"N14","v":1222},{"$f":"COUNTIF(L62:L89,AD14)","v":3},{"$f":"AE14/(AG4-AE20)","v":0.1111111111111111},{"$f":"IF(AF14=0,0,(AF14*((LOG(AF14))/LOG(2))))","v":-0.3522138890491458},null,{"$f":"N14","v":1222},{"$f":"COUNTIF(L90:L117,AI14)","v":6},{"$f":"AJ14/(AL4-AJ20)","v":0.23076923076923078},{"$f":"IF(AK14=0,0,(AK14*((LOG(AK14))/LOG(2))))","v":-0.48818705017383146},null,{"$f":"N14","v":1222},{"$f":"COUNTIF(L118:L144,AN14)","v":0},{"$f":"AO14/(AQ4-AO20)","v":0},{"$f":"IF(AP14=0,0,(AP14*((LOG(AP14))/LOG(2))))","v":0},null,{"$f":"N14","v":1222},{"$f":"COUNTIF(L145:L172,AS14)","v":1},{"$f":"AT14/(AV4-AT20)","v":0.04},{"$f":"IF(AU14=0,0,(AU14*((LOG(AU14))/LOG(2))))","v":-0.18575424759098899}]
[12,1063,14,1069,13,1075,23,1088,null,null,0,1112,null,2111,{"$f":"COUNTIF($L$7:$L$500,N15)","v":8},{"$f":"O15/$Q$4","v":4.8192771084337352E-2},{"$f":"IF(P15=0,0,(P15*((LOG(P15))/LOG(2))))","v":-0.2108452737998518},null,null,{"$f":"N15","v":2111},{"$f":"COUNTIF(L7:L34,T15)","v":1},{"$f":"U15/(W4-U20)","v":3.5714285714285712E-2},{"$f":"IF(V15=0,0,(V15*((LOG(V15))/LOG(2))))","v":-0.17169124721634299},null,{"$f":"N15","v":2111},{"$f":"COUNTIF(L35:L61,Y15)","v":1},{"$f":"Z15/(AB4-Z20)","v":3.8461538461538464E-2},{"$f":"IF(AA15=0,0,(AA15*((LOG(AA15))/LOG(2))))","v":-0.18078614300542661},null,{"$f":"N15","v":2111},{"$f":"COUNTIF(L62:L89,AD15)","v":0},{"$f":"AE15/(AG4-AE20)","v":0},{"$f":"IF(AF15=0,0,(AF15*((LOG(AF15))/LOG(2))))","v":0},null,{"$f":"N15","v":2111},{"$f":"COUNTIF(L90:L117,AI15)","v":5},{"$f":"AJ15/(AL4-AJ20)","v":0.19230769230769232},{"$f":"IF(AK15=0,0,(AK15*((LOG(AK15))/LOG(2))))","v":-0.45740608139494804},null,{"$f":"N15","v":2111},{"$f":"COUNTIF(L118:L144,AN15)","v":0},{"$f":"AO15/(AQ4-AO20)","v":0},{"$f":"IF(AP15=0,0,(AP15*((LOG(AP15))/LOG(2))))","v":0},null,{"$f":"N15","v":2111},{"$f":"COUNTIF(L145:L172,AS15)","v":1},{"$f":"AT15/(AV4-AT20)","v":0.04},{"$f":"IF(AU15=0,0,(AU15*((LOG(AU15))/LOG(2))))","v":-0.18575424759098899}]
[12,1195,14,1204,13,1215,23,1228,null,null,0,1112,null,2112,{"$f":"COUNTIF($L$7:$L$500,N16)","v":20},{"$f":"O16/$Q$4","v":0.12048192771084337},{"$f":"IF(P16=0,0,(P16*((LOG(P16))/LOG(2))))","v":-0.36784473933247741},null,null,{"$f":"N16","v":2112},{"$f":"COUNTIF(L7:L34,T16)","v":0},{"$f":"U16/(W4-U20)","v":0},{"$f":"IF(V16=0,0,(V16*((LOG(V16))/LOG(2))))","v":0},null,{"$f":"N16","v":2112},{"$f":"COUNTIF(L35:L61,Y16)","v":5},{"$f":"Z16/(AB4-Z20)","v":0.19230769230769232},{"$f":"IF(AA16=0,0,(AA16*((LOG(AA16))/LOG(2))))","v":-0.45740608139494804},null,{"$f":"N16","v":2112},{"$f":"COUNTIF(L62:L89,AD16)","v":4},{"$f":"AE16/(AG4-AE20)","v":0.14814814814814814},{"$f":"IF(AF16=0,0,(AF16*((LOG(AF16))/LOG(2))))","v":-0.40813148180199532},null,{"$f":"N16","v":2112},{"$f":"COUNTIF(L90:L117,AI16)","v":3},{"$f":"AJ16/(AL4-AJ20)","v":0.11538461538461539},{"$f":"IF(AK16=0,0,(AK16*((LOG(AK16))/LOG(2))))","v":-0.35947814047153104},null,{"$f":"N16","v":2112},{"$f":"COUNTIF(L118:L144,AN16)","v":4},{"$f":"AO16/(AQ4-AO20)","v":0.17391304347826086},{"$f":"IF(AP16=0,0,(AP16*((LOG(AP16))/LOG(2))))","v":-0.43888034018382832},null,{"$f":"N16","v":2112},{"$f":"COUNTIF(L145:L172,AS16)","v":4},{"$f":"AT16/(AV4-AT20)","v":0.16},{"$f":"IF(AU16=0,0,(AU16*((LOG(AU16))/LOG(2))))","v":-0.42301699036395596}]
[12,1333,14,1342,24,1354,23,1362,null,null,0,1122,null,2121,{"$f":"COUNTIF($L$7:$L$500,N17)","v":0},{"$f":"O17/$Q$4","v":0},{"$f":"IF(P17=0,0,(P17*((LOG(P17))/LOG(2))))","v":0},null,null,{"$f":"N17","v":2121},{"$f":"COUNTIF(L7:L34,T17)","v":0},{"$f":"U17/(W4-U20)","v":0},{"$f":"IF(V17=0,0,(V17*((LOG(V17))/LOG(2))))","v":0},null,{"$f":"N17","v":2121},{"$f":"COUNTIF(L35:L61,Y17)","v":0},{"$f":"Z17/(AB4-Z20)","v":0},{"$f":"IF(AA17=0,0,(AA17*((LOG(AA17))/LOG(2))))","v":0},null,{"$f":"N17","v":2121},{"$f":"COUNTIF(L62:L89,AD17)","v":0},{"$f":"AE17/(AG4-AE20)","v":0},{"$f":"IF(AF17=0,0,(AF17*((LOG(AF17))/LOG(2))))","v":0},null,{"$f":"N17","v":2121},{"$f":"COUNTIF(L90:L117,AI17)","v":0},{"$f":"AJ17/(AL4-AJ20)","v":0},{"$f":"IF(AK17=0,0,(AK17*((LOG(AK17))/LOG(2))))","v":0},null,{"$f":"N17","v":2121},{"$f":"COUNTIF(L118:L144,AN17)","v":0},{"$f":"AO17/(AQ4-AO20)","v":0},{"$f":"IF(AP17=0,0,(AP17*((LOG(AP17))/LOG(2))))","v":0},null,{"$f":"N17","v":2121},{"$f":"COUNTIF(L145:L172,AS17)","v":0},{"$f":"AT17/(AV4-AT20)","v":0},{"$f":"IF(AU17=0,0,(AU17*((LOG(AU17))/LOG(2))))","v":0}]
[12,1456,14,1464,13,1471,23,1485,null,null,0,1112,null,2122,{"$f":"COUNTIF($L$7:$L$500,N18)","v":30},{"$f":"O18/$Q$4","v":0.18072289156626506},{"$f":"IF(P18=0,0,(P18*((LOG(P18))/LOG(2))))","v":-0.44605099441055535},null,null,{"$f":"N18","v":2122},{"$f":"COUNTIF(L7:L34,T18)","v":0},{"$f":"U18/(W4-U20)","v":0},{"$f":"IF(V18=0,0,(V18*((LOG(V18))/LOG(2))))","v":0},null,{"$f":"N18","v":2122},{"$f":"COUNTIF(L35:L61,Y18)","v":2},{"$f":"Z18/(AB4-Z20)","v":7.6923076923076927E-2},{"$f":"IF(AA18=0,0,(AA18*((LOG(AA18))/LOG(2))))","v":-0.28464920908777636},null,{"$f":"N18","v":2122},{"$f":"COUNTIF(L62:L89,AD18)","v":6},{"$f":"AE18/(AG4-AE20)","v":0.22222222222222221},{"$f":"IF(AF18=0,0,(AF18*((LOG(AF18))/LOG(2))))","v":-0.48220555587606945},null,{"$f":"N18","v":2122},{"$f":"COUNTIF(L90:L117,AI18)","v":6},{"$f":"AJ18/(AL4-AJ20)","v":0.23076923076923078},{"$f":"IF(AK18=0,0,(AK18*((LOG(AK18))/LOG(2))))","v":-0.48818705017383146},null,{"$f":"N18","v":2122},{"$f":"COUNTIF(L118:L144,AN18)","v":8},{"$f":"AO18/(AQ4-AO20)","v":0.34782608695652173},{"$f":"IF(AP18=0,0,(AP18*((LOG(AP18))/LOG(2))))","v":-0.52993459341113491},null,{"$f":"N18","v":2122},{"$f":"COUNTIF(L145:L172,AS18)","v":8},{"$f":"AT18/(AV4-AT20)","v":0.32},{"$f":"IF(AU18=0,0,(AU18*((LOG(AU18))/LOG(2))))","v":-0.52603398072791185}]
[12,1585,23,1603,24,1630,23,1642,null,null,0,1222,null,2211,{"$f":"COUNTIF($L$7:$L$500,N19)","v":6},{"$f":"O19/$Q$4","v":3.614457831325301E-2},{"$f":"IF(P19=0,0,(P19*((LOG(P19))/LOG(2))))","v":-0.17313531074550972},null,null,{"$f":"N19","v":2211},{"$f":"COUNTIF(L7:L34,T19)","v":0},{"$f":"U19/(W4-U20)","v":0},{"$f":"IF(V19=0,0,(V19*((LOG(V19))/LOG(2))))","v":0},null,{"$f":"N19","v":2211},{"$f":"COUNTIF(L35:L61,Y19)","v":0},{"$f":"Z19/(AB4-Z20)","v":0},{"$f":"IF(AA19=0,0,(AA19*((LOG(AA19))/LOG(2))))","v":0},null,{"$f":"N19","v":2211},{"$f":"COUNTIF(L62:L89,AD19)","v":0},{"$f":"AE19/(AG4-AE20)","v":0},{"$f":"IF(AF19=0,0,(AF19*((LOG(AF19))/LOG(2))))","v":0},null,{"$f":"N19","v":2211},{"$f":"COUNTIF(L90:L117,AI19)","v":0},{"$f":"AJ19/(AL4-AJ20)","v":0},{"$f":"IF(AK19=0,0,(AK19*((LOG(AK19))/LOG(2))))","v":0},null,{"$f":"N19","v":2211},{"$f":"COUNTIF(L118:L144,AN19)","v":4},{"$f":"AO19/(AQ4-AO20)","v":0.17391304347826086},{"$f":"IF(AP19=0,0,(AP19*((LOG(AP19))/LOG(2))))","v":-0.43888034018382832},null,{"$f":"N19","v":2211},{"$f":"COUNTIF(L145:L172,AS19)","v":2},{"$f":"AT19/(AV4-AT20)","v":0.08},{"$f":"IF(AU19=0,0,(AU19*((LOG(AU19))/LOG(2))))","v":-0.29150849518197797}]
[21,1755,12,1765,13,1774,14,1782,null,null,0,2111,null,2212,{"$f":"COUNTIF($L$7:$L$500,N20)","v":11},{"$f":"O20/$Q$4","v":6.6265060240963861E-2},{"$f":"IF(P20=0,0,(P20*((LOG(P20))/LOG(2))))","v":-0.25946798758919221},null,null,{"$f":"N20","v":2212},{"$f":"COUNTIF(L7:L34,T20)","v":0},null,null,null,{"$f":"N20","v":2212},{"$f":"COUNTIF(L35:L61,Y20)","v":1},null,null,null,{"$f":"N20","v":2212},{"$f":"COUNTIF(L62:L89,AD20)","v":1},null,null,null,{"$f":"N20","v":2212},{"$f":"COUNTIF(L90:L117,AI20)","v":2},null,null,null,{"$f":"N20","v":2212},{"$f":"COUNTIF(L118:L144,AN20)","v":4},null,null,null,{"$f":"N20","v":2212},{"$f":"COUNTIF(L145:L172,AS20)","v":3}]
[12,1889,23,1899,24,1908,23,1917,null,null,0,1222,null,2221,{"$f":"COUNTIF($L$7:$L$500,N21)","v":5},{"$f":"O21/$Q$4","v":3.0120481927710843E-2},{"$f":"IF(P21=0,0,(P21*((LOG(P21))/LOG(2))))","v":-0.15220214868854101},null,null,{"$f":"N21","v":2221},{"$f":"COUNTIF(L7:L34,T21)","v":0},{"$f":"U21/(W4-U20)","v":0},{"$f":"IF(V21=0,0,(V21*((LOG(V21))/LOG(2))))","v":0},null,{"$f":"N21","v":2221},{"$f":"COUNTIF(L35:L61,Y21)","v":0},{"$f":"Z21/(AB4-Z20)","v":0},{"$f":"IF(AA21=0,0,(AA21*((LOG(AA21))/LOG(2))))","v":0},null,{"$f":"N21","v":2221},{"$f":"COUNTIF(L62:L89,AD21)","v":0},{"$f":"AE21/(AG4-AE20)","v":0},{"$f":"IF(AF21=0,0,(AF21*((LOG(AF21))/LOG(2))))","v":0},null,{"$f":"N21","v":2221},{"$f":"COUNTIF(L90:L117,AI21)","v":1},{"$f":"AJ21/(AL4-AJ20)","v":3.8461538461538464E-2},{"$f":"IF(AK21=0,0,(AK21*((LOG(AK21))/LOG(2))))","v":-0.18078614300542661},null,{"$f":"N21","v":2221},{"$f":"COUNTIF(L118:L144,AN21)","v":3},{"$f":"AO21/(AQ4-AO20)","v":0.13043478260869565},{"$f":"IF(AP21=0,0,(AP21*((LOG(AP21))/LOG(2))))","v":-0.3832955811307639},null,{"$f":"N21","v":2221},{"$f":"COUNTIF(L145:L172,AS21)","v":1},{"$f":"AT21/(AV4-AT20)","v":0.04},{"$f":"IF(AU21=0,0,(AU21*((LOG(AU21))/LOG(2))))","v":-0.18575424759098899}]
[12,2014,14,2019,13,2027,14,2045,null,null,0,1111,null,2222,{"$f":"COUNTIF($L$7:$L$500,N22)","v":18},{"$f":"O22/$Q$4","v":0.10843373493975904},{"$f":"IF(P22=0,0,(P22*((LOG(P22))/LOG(2))))","v":-0.34754252854387363},null,null,{"$f":"N22","v":2222},{"$f":"COUNTIF(L7:L34,T22)","v":0},{"$f":"U22/(W4-U20)","v":0},{"$f":"IF(V22=0,0,(V22*((LOG(V22))/LOG(2))))","v":0},null,{"$f":"N22","v":2222},{"$f":"COUNTIF(L35:L61,Y22)","v":2},{"$f":"Z22/(AB4-Z20)","v":7.6923076923076927E-2},{"$f":"IF(AA22=0,0,(AA22*((LOG(AA22))/LOG(2))))","v":-0.28464920908777636},null,{"$f":"N22","v":2222},{"$f":"COUNTIF(L62:L89,AD22)","v":1},{"$f":"AE22/(AG4-AE20)","v":3.7037037037037035E-2},{"$f":"IF(AF22=0,0,(AF22*((LOG(AF22))/LOG(2))))","v":-0.1761069445245729},null,{"$f":"N22","v":2222},{"$f":"COUNTIF(L90:L117,AI22)","v":3},{"$f":"AJ22/(AL4-AJ20)","v":0.11538461538461539},{"$f":"IF(AK22=0,0,(AK22*((LOG(AK22))/LOG(2))))","v":-0.35947814047153104},null,{"$f":"N22","v":2222},{"$f":"COUNTIF(L118:L144,AN22)","v":4},{"$f":"AO22/(AQ4-AO20)","v":0.17391304347826086},{"$f":"IF(AP22=0,0,(AP22*((LOG(AP22))/LOG(2))))","v":-0.43888034018382832},null,{"$f":"N22","v":2222},{"$f":"COUNTIF(L145:L172,AS22)","v":8},{"$f":"AT22/(AV4-AT20)","v":0.32},{"$f":"IF(AU22=0,0,(AU22*((LOG(AU22))/LOG(2))))","v":-0.52603398072791185}]
[12,2149,14,2155,13,2165,23,2178,null,null,0,1112,null,null,null,{"$f":"SUM(P7:P22)","v":1},{"$f":"-SUM(Q7:Q22)","v":3.4581060098418765},null,null,null,null,{"$f":"SUM(V7:V22)","v":0.99999999999999989},{"$f":"-SUM(W7:W22)","v":2.0830451028613926},null,null,null,{"$f":"SUM(AA7:AA22)","v":1},{"$f":"-SUM(AB7:AB22)","v":3.166812680413122},null,null,null,{"$f":"SUM(AF7:AF22)","v":1},{"$f":"-SUM(AG7:AG22)","v":2.7632416684294934},null,null,null,{"$f":"SUM(AK7:AK22)","v":1},{"$f":"-SUM(AL7:AL22)","v":2.6181718147788762},null,null,null,{"$f":"SUM(AP7:AP22)","v":1},{"$f":"-SUM(AQ7:AQ22)","v":2.2298711950933838},null,null,null,{"$f":"SUM(AU7:AU22)","v":1},{"$f":"-SUM(AV7:AV22)","v":2.3238561897747245}]
[12,2293,14,2301,24,2314,23,2322,null,null,0,1122,null,null,null,"U=",{"$f":"Q23/(LOG(Q4)/LOG(2))","v":0.46889322315261339},null,null,null,null,"U1=",{"$f":"W23/(LOG(W4)/LOG(2))","v":0.43330378901373584},null,null,null,"U2=",{"$f":"AB23/(LOG(AB4)/LOG(2))","v":0.66601211468667265},null,null,null,"U3=",{"$f":"AG23/(LOG(AG4)/LOG(2))","v":0.57479460394132786},null,null,null,"U4=",{"$f":"AL23/(LOG(AL4)/LOG(2))","v":0.54461795669920465},null,null,null,"U5=",{"$f":"AQ23/(LOG(AQ4)/LOG(2))","v":0.46896402787211999},null,null,null,"U6=",{"$f":"AV23/(LOG(AV4)/LOG(2))","v":0.48339601037405555}]
[12,2417,14,2426,24,2438,23,2444,null,null,0,1122]
[12,2569,14,2576,13,2585,23,2598,null,null,0,1112]
[12,2711,14,2715,13,2723,14,2732,null,null,0,1111,null,"Total Target Seq"]
[12,2830,14,2836,13,2842,23,2853,null,null,0,1112,null,{"$f":"COUNTIF(L7:L172,G3)","v":11},null,28,27,28,28,27,28]
[12,2964,14,2969,13,2976,23,2988,null,null,0,1112,null,null,null,"% of reinforcement given in 6 equal intervals based on number of trials "]
[12,3091,14,3096,13,3102,14,3107,null,null,0,1111,null,null,null,"%_1","%_2","%_3","%_4","%_5","%_6"]
[12,3217,14,3223,13,3231,23,3246,null,null,0,1112,null,null,"target sequence",{"$f":"$G$3","v":2212},{"$f":"$G$3","v":2212},{"$f":"$G$3","v":2212},{"$f":"$G$3","v":2212},{"$f":"$G$3","v":2212},{"$f":"$G$3","v":2212}]
[12,3350,14,3356,13,3363,23,3375,null,null,0,1112,null,null,"total reinforcement",{"$f":"U20","v":0},{"$f":"Z20","v":1},{"$f":"AE20","v":1},{"$f":"AJ20","v":2},{"$f":"AO20","v":4},{"$f":"AT20","v":3}]
[12,3480,14,3485,24,3498,23,3505,null,null,0,1122,null,null,"% target"]
[12,3604,14,3610,13,3618,14,3628,null,null,0,1111,null,null,"CCRF"]
[12,3751,14,3755,13,3760,23,3772,null,null,0,1112,null,null,"% CCRf"]
[12,3882,14,3887,13,3892,23,3904,null,null,0,1112,null,null,"average response rate",{"$f":"H34/P28","v":129.57142857142858},{"$f":"(H61-H34)/Q28","v":141.07407407407408},{"$f":"(H89-H61)/R28","v":134.89285714285714},{"$f":"(H117-H89)/S28","v":134},{"$f":"(H144-H117)/T28","v":140.81481481481481},{"$f":"(H172-H144)/U28","v":136.17857142857142}]
[12,4004,14,4025,24,4037,23,4044,null,null,0,1122]
[12,4144,14,4157,24,4168,23,4173,null,null,0,1122]
[12,4284,23,4294,13,4303,14,4311,null,null,0,1211]
[12,4413,14,4421,24,4432,23,4440,null,null,0,1122]
[21,4555,12,4564,13,4571,23,4583,null,null,0,2112]
[12,4678,23,4687,13,4698,14,4707,null,null,0,1211]
[21,4826,21,4835,11,4844,21,4856,null,null,0,2212]
[12,4947,14,4964,13,4969,14,4974,null,null,0,1111]
[21,5124,12,5134,24,5147,23,5155,null,null,0,2122]
[21,5275,12,5284,24,5296,23,5304,null,null,0,2122]
[12,5408,14,5426,24,5437,23,5444,null,null,0,1122]
[21,5564,12,5575,13,5583,23,5595,null,null,0,2112]
[12,5698,23,5713,24,5724,23,5733,null,null,0,1222]
[21,5878,21,5892,22,5899,23,5905,null,null,0,2222]
[21,6013,12,6027,13,6035,23,6046,null,null,0,2112]
[21,6174,12,6182,13,6189,23,6201,null,null,0,2112]
[12,6322,14,6328,13,6334,23,6355,null,null,0,1112]
[12,6472,14,6479,13,6489,14,6494,null,null,0,1111]
[12,6609,23,6621,24,6628,23,6635,null,null,0,1222]
[12,6750,14,6754,13,6758,14,6764,null,null,0,1111]
[12,6862,23,6872,13,6880,14,6889,null,null,0,1211]
[21,6987,21,6999,22,7006,23,7014,null,null,0,2222]
[21,7145,12,7154,13,7159,14,7167,null,null,0,2111]
[21,7275,12,7286,13,7294,23,7306,null,null,0,2112]
[12,7406,23,7416,13,7426,23,7437,null,null,0,1212]
[12,7551,14,7559,13,7566,23,7579,null,null,0,1112]
[12,7699,14,7707,13,7716,23,7729,null,null,0,1112]
[12,7849,14,7854,13,7860,23,7873,null,null,0,1112]
[21,7992,12,8002,24,8013,23,8021,null,null,0,2122]
[12,8125,14,8141,24,8152,23,8160,null,null,0,1122]
[12,8262,14,8269,24,8280,23,8288,null,null,0,1122]
[12,8387,14,8404,24,8413,23,8418,null,null,0,1122]
[21,8526,12,8535,13,8541,23,8553,null,null,0,2112]
[12,8654,14,8661,24,8669,23,8685,null,null,0,1122]
[21,8791,12,8803,24,8813,23,8818,null,null,0,2122]
[12,8930,14,8935,24,8945,23,8953,null,null,0,1122]
[12,9066,23,9078,24,9085,23,9092,null,null,0,1222]
[21,9191,12,9200,13,9207,23,9215,null,null,0,2112]
[12,9318,23,9337,13,9345,14,9352,null,null,0,1211]
[12,9452,23,9461,13,9469,23,9478,null,null,0,1212]
[21,9595,21,9602,11,9614,21,9624,null,null,0,2212]
[12,9715,23,9727,13,9735,14,9744,null,null,0,1211]
[21,9840,12,9848,24,9860,23,9867,null,null,0,2122]
[21,9973,12,9981,24,9993,23,9998,null,null,0,2122]
[21,10101,21,10112,22,10120,23,10127,null,null,0,2222]
[12,10240,14,10246,13,10253,23,10265,null,null,0,1112]
[21,10372,12,10384,24,10394,23,10398,null,null,0,2122]
[12,10502,23,10513,24,10521,23,10529,null,null,0,1222]
[21,10639,12,10648,13,10659,23,10671,null,null,0,2112]
[21,10774,12,10786,13,10793,23,10810,null,null,0,2112]
[12,10923,23,10935,24,10943,23,10951,null,null,0,1222]
[21,11056,12,11068,24,11078,23,11087,null,null,0,2122]
[12,11193,14,11198,24,11207,23,11214,null,null,0,1122]
[21,11331,21,11337,11,11349,21,11362,null,null,0,2212]
[21,11457,12,11466,13,11474,14,11483,null,null,0,2111]
[21,11587,12,11596,13,11603,14,11612,null,null,0,2111]
[12,11718,23,11730,24,11739,23,11746,null,null,0,1222]
[12,11870,14,11877,24,11888,23,11898,null,null,0,1122]
[21,12002,21,12011,11,12019,21,12029,null,null,0,2212]
[21,12132,12,12141,13,12146,14,12154,null,null,0,2111]
[21,12264,12,12273,24,12284,23,12292,null,null,0,2122]
[21,12391,12,12402,13,12410,23,12422,null,null,0,2112]
[21,12531,12,12543,24,12567,23,12574,null,null,0,2122]
[12,12690,14,12695,24,12708,23,12712,null,null,0,1122]
[21,12811,21,12829,22,12838,14,12850,null,null,0,2221]
[21,12953,12,12962,13,12966,14,12973,null,null,0,2111]
[21,13071,21,13093,22,13101,23,13110,null,null,0,2222]
[21,13220,12,13231,24,13243,23,13250,null,null,0,2122]
[21,13360,21,13372,22,13380,23,13386,null,null,0,2222]
[21,13494,12,13505,13,13512,23,13524,null,null,0,2112]
[21,13616,21,13629,22,13636,23,13644,null,null,0,2222]
[12,13749,23,13761,24,13766,23,13773,null,null,0,1222]
[12,13888,23,13897,24,13904,23,13909,null,null,0,1222]
[21,14012,12,14022,13,14029,14,14037,null,null,0,2111]
[12,14152,23,14164,24,14168,23,14175,null,null,0,1222]
[12,14292,23,14303,24,14307,23,14312,null,null,0,1222]
[12,14419,23,14429,24,14435,23,14444,null,null,0,1222]
[21,14553,12,14564,24,14573,23,14580,null,null,0,2122]
[21,14677,12,14687,13,14691,23,14701,null,null,0,2112]
[21,14805,12,14814,24,14824,23,14829,null,null,0,2122]
[21,14938,12,14950,24,14961,23,14966,null,null,0,2122]
[21,15096,21,15105,22,15117,23,15124,null,null,0,2222]
[21,15243,21,15250,11,15261,12,15269,null,null,0,2211]
[21,15388,12,15401,24,15412,23,15418,null,null,0,2122]
[21,15530,12,15542,24,15551,23,15558,null,null,0,2122]
[21,15659,21,15679,11,15693,21,15713,null,null,0,2212]
[21,15852,12,15864,13,15872,23,15883,null,null,0,2112]
[21,15983,21,15994,22,16002,14,16011,null,null,0,2221]
[21,16119,12,16129,24,16140,23,16144,null,null,0,2122]
[21,16264,12,16273,24,16281,23,16288,null,null,0,2122]
[21,16410,12,16421,24,16430,23,16434,null,null,0,2122]
[21,16537,21,16553,11,16563,21,16573,null,null,0,2212]
[21,16684,21,16693,11,16702,12,16709,null,null,0,2211]
[21,16814,21,16819,11,16829,12,16837,null,null,0,2211]
[21,16952,12,16962,13,16967,23,16976,null,null,0,2112]
[21,17086,12,17097,24,17104,23,17109,null,null,0,2122]
[21,17218,21,17230,22,17234,23,17239,null,null,0,2222]
[21,17379,12,17388,13,17396,23,17409,null,null,0,2112]
[21,17516,12,17525,13,17530,23,17540,null,null,0,2112]
[21,17660,12,17670,24,17681,23,17687,null,null,0,2122]
[21,17810,12,17822,24,17832,23,17849,null,null,0,2122]
[21,17958,21,17967,11,17976,12,17984,null,null,0,2211]
[21,18085,21,18093,22,18098,14,18107,null,null,0,2221]
[21,18213,21,18221,11,18229,21,18236,null,null,0,2212]
[21,18344,21,18359,22,18366,14,18374,null,null,0,2221]
[21,18493,21,18506,22,18512,23,18519,null,null,0,2222]
[21,18616,21,18622,11,18631,21,18640,null,null,0,2212]
[21,18747,21,18759,22,18764,23,18768,null,null,0,2222]
[21,18879,12,18886,24,18895,23,18901,null,null,0,2122]
[21,19023,12,19031,24,19039,23,19044,null,null,0,2122]
[21,19172,21,19180,11,19190,21,19198,null,null,0,2212]
[21,19306,21,19319,22,19327,23,19334,null,null,0,2222]
[21,19447,21,19458,22,19466,23,19472,null,null,0,2222]
[21,19592,12,19603,24,19612,23,19619,null,null,0,2122]
[21,19747,21,19754,22,19761,23,19767,null,null,0,2222]
[21,19871,12,19880,24,19888,23,19896,null,null,0,2122]
[21,19998,12,20005,24,20013,23,20018,null,null,0,2122]
[21,20141,12,20150,24,20163,23,20170,null,null,0,2122]
[21,20276,21,20292,22,20297,23,20303,null,null,0,2222]
[21,20404,12,20414,13,20419,14,20425,null,null,0,2111]
[21,20535,21,20547,22,20552,23,20559,null,null,0,2222]
[21,20658,21,20674,11,20682,21,20690,null,null,0,2212]
[12,20793,23,20801,24,20805,23,20812,null,null,0,1222]
[21,20920,21,20934,22,20940,23,20947,null,null,0,2222]
[21,21060,21,21066,11,21077,21,21088,null,null,0,2212]
[21,21184,21,21195,11,21203,12,21209,null,null,0,2211]
[21,21323,12,21332,13,21339,23,21351,null,null,0,2112]
[21,21457,21,21468,22,21476,14,21486,null,null,0,2221]
[21,21588,12,21602,24,21611,23,21618,null,null,0,2122]
[21,21736,21,21748,22,21752,23,21756,null,null,0,2222]
[21,21865,12,21873,24,21884,23,21888,null,null,0,2122]
[21,22008,21,22013,22,22020,23,22024,null,null,0,2222]
[21,22125,21,22138,11,22149,12,22153,null,null,0,2211]
[21,22261,12,22274,13,22283,23,22294,null,null,0,2112]
[21,22419,12,22429,13,22437,23,22448,null,null,0,2112]
[21,22560,12,22569,13,22573,23,22581,null,null,1,2112]

{"sheet":"!L804A50.053","index":10,"n_rows":167,"n_cols":48,"rows_kept":167,"cut":false,"hidden":false,"merged":[[4,39,4,42],[5,39,5,40],[4,44,4,47],[5,44,5,45],[4,24,4,27],[5,24,5,25],[4,29,4,32],[5,29,5,30],[4,34,4,37],[5,34,5,35],[1,1,1,2],[5,13,5,14],[26,13,26,14],[27,13,27,14],[4,19,4,22],[5,19,5,20]]}
["Report for:!L804A50.053"]
["Date:","<date>"]
["Hen:","<hen>",null,null,null,"Correct Sequence",{"$f":"Start!J2","v":2212},null,null,null,null,null,null,null,null,"Total Sequences in Data",{"$f":"4994-COUNTBLANK(L7:L5000)","v":161},null,null,null,null,"Total Sequences in Block Data",{"$f":"COUNTA(L7:L33)","v":27},null,null,null,"Total Sequences in Block Data",{"$f":"COUNTA(L34:L60)","v":27},null,null,null,"Total Sequences in Block Data",{"$f":"COUNTA(L61:L86)","v":26},null,null,null,"Total Sequences in Block Data",{"$f":"COUNTA(L87:L113)","v":27},null,null,null,"Total Sequences in Block Data",{"$f":"COUNTA(L114:L140)","v":27},null,null,null,"Total Sequences in Block Data",{"$f":"COUNTA(L141:L167)","v":27}]
[null,null,null,null,null,null,null,null,null,null,null,null,null,null,null,"Total Sequences in Summary",{"$f":"SUM(O7:O22)","v":161},null,null,null,null,"Total Sequences in Block Summary",{"$f":"SUM(U7:U22)","v":27},null,null,null,"Total Sequences in Block Summary",{"$f":"SUM(Z7:Z22)","v":27},null,null,null,"Total Sequences in Block Summary",{"$f":"SUM(AE7:AE22)","v":26},null,null,null,"Total Sequences in Block Summary",{"$f":"SUM(AJ7:AJ22)","v":27},null,null,null,"Total Sequences in Block Summary",{"$f":"SUM(AO7:AO22)","v":27},null,null,null,"Total Sequences in Block Summary",{"$f":"SUM(AT7:AT22)","v":27}]
[null,null,null,null,null,null,null,null,null,null,null,null,null,null,null,null,null,null,null,"Block 1",null,null,null,null,"Block 2",null,null,null,null,"Block 3",null,null,null,null,"Block 4",null,null,null,null,"Block 5",null,null,null,null,"Block 6"]
["Sequence\nComponent\n1","Time\n1","Sequence\nComponent\n2","Time\n2","Sequence\nComponent\n3","Time\n3","Sequence\nComponent\n4","Time\n4","Sequence\nComponent\n5","Time\n5","Correct?\n0=No 1=Yes","Sequence",null,"Frequency",null,"Relative Frequency","Variability",null,null,"Frequency",null,"Relative Frequency","Variability",null,"Frequency",null,"Relative Frequency","Variability",null,"Frequency",null,"Relative Frequency","Variability",null,"Frequency",null,"Relative Frequency","Variability",null,"Frequency",null,"Relative Frequency","Variability",null,"Frequency",null,"Relative Frequency","Variability"]
[12,12,14,41,24,54,23,62,null,null,0,1122,null,1111,{"$f":"COUNTIF($L$7:$L$500,N7)","v":3},{"$f":"O7/$Q$4","v":1.8633540372670808E-2},{"$f":"IF(P7=0,0,(P7*((LOG(P7))/LOG(2))))","v":-0.1070674728706856},null,null,{"$f":"N7","v":1111},{"$f":"COUNTIF(L7:L33,T7)","v":2},{"$f":"U7/(W4-U20)","v":7.6923076923076927E-2},{"$f":"IF(V7=0,0,(V7*((LOG(V7))/LOG(2))))","v":-0.28464920908777636},null,{"$f":"N7","v":1111},{"$f":"COUNTIF(L34:L60,Y7)","v":0},{"$f":"Z7/(AB4-Z20)","v":0},{"$f":"IF(AA7=0,0,(AA7*((LOG(AA7))/LOG(2))))","v":0},null,{"$f":"N7","v":1111},{"$f":"COUNTIF(L61:L86,AD7)","v":1},{"$f":"AE7/(AG4-AE20)","v":4.3478260869565216E-2},{"$f":"IF(AF7=0,0,(AF7*((LOG(AF7))/LOG(2))))","v":-0.19667660678508753},null,{"$f":"N7","v":1111},{"$f":"COUNTIF(L87:L113,AI7)","v":0},{"$f":"AJ7/(AL4-AJ20)","v":0},{"$f":"IF(AK7=0,0,(AK7*((LOG(AK7))/LOG(2))))","v":0},null,{"$f":"N7","v":1111},{"$f":"COUNTIF(L114:L140,AN7)","v":0},{"$f":"AO7/(AQ4-AO20)","v":0},{"$f":"IF(AP7=0,0,(AP7*((LOG(AP7))/LOG(2))))","v":0},null,{"$f":"N7","v":1111},{"$f":"COUNTIF(L141:L167,AS7)","v":0},{"$f":"AT7/(AV4-AT20)","v":0},{"$f":"IF(AU7=0,0,(AU7*((LOG(AU7))/LOG(2))))","v":0}]
[12,169,14,180,24,193,23,202,null,null,0,1122,null,1112,{"$f":"COUNTIF($L$7:$L$500,N8)","v":11},{"$f":"O8/$Q$4","v":6.8322981366459631E-2},{"$f":"IF(P8=0,0,(P8*((LOG(P8))/LOG(2))))","v":-0.26451141524379201},null,null,{"$f":"N8","v":1112},{"$f":"COUNTIF(L7:L33,T8)","v":4},{"$f":"U8/(W4-U20)","v":0.15384615384615385},{"$f":"IF(V8=0,0,(V8*((LOG(V8))/LOG(2))))","v":-0.4154522643293988},null,{"$f":"N8","v":1112},{"$f":"COUNTIF(L34:L60,Y8)","v":1},{"$f":"Z8/(AB4-Z20)","v":4.1666666666666664E-2},{"$f":"IF(AA8=0,0,(AA8*((LOG(AA8))/LOG(2))))","v":-0.19104010419671485},null,{"$f":"N8","v":1112},{"$f":"COUNTIF(L61:L86,AD8)","v":1},{"$f":"AE8/(AG4-AE20)","v":4.3478260869565216E-2},{"$f":"IF(AF8=0,0,(AF8*((LOG(AF8))/LOG(2))))","v":-0.19667660678508753},null,{"$f":"N8","v":1112},{"$f":"COUNTIF(L87:L113,AI8)","v":3},{"$f":"AJ8/(AL4-AJ20)","v":0.125},{"$f":"IF(AK8=0,0,(AK8*((LOG(AK8))/LOG(2))))","v":-0.375},null,{"$f":"N8","v":1112},{"$f":"COUNTIF(L114:L140,AN8)","v":2},{"$f":"AO8/(AQ4-AO20)","v":7.407407407407407E-2},{"$f":"IF(AP8=0,0,(AP8*((LOG(AP8))/LOG(2))))","v":-0.27813981497507173},null,{"$f":"N8","v":1112},{"$f":"COUNTIF(L141:L167,AS8)","v":0},{"$f":"AT8/(AV4-AT20)","v":0},{"$f":"IF(AU8=0,0,(AU8*((LOG(AU8))/LOG(2))))","v":0}]
[12,303,14,311,13,330,23,343,null,null,0,1112,null,1121,{"$f":"COUNTIF($L$7:$L$500,N9)","v":0},{"$f":"O9/$Q$4","v":0},{"$f":"IF(P9=0,0,(P9*((LOG(P9))/LOG(2))))","v":0},null,null,{"$f":"N9","v":1121},{"$f":"COUNTIF(L7:L33,T9)","v":0},{"$f":"U9/(W4-U20)","v":0},{"$f":"IF(V9=0,0,(V9*((LOG(V9))/LOG(2))))","v":0},null,{"$f":"N9","v":1121},{"$f":"COUNTIF(L34:L60,Y9)","v":0},{"$f":"Z9/(AB4-Z20)","v":0},{"$f":"IF(AA9=0,0,(AA9*((LOG(AA9))/LOG(2))))","v":0},null,{"$f":"N9","v":1121},{"$f":"COUNTIF(L61:L86,AD9)","v":0},{"$f":"AE9/(AG4-AE20)","v":0},{"$f":"IF(AF9=0,0,(AF9*((LOG(AF9))/LOG(2))))","v":0},null,{"$f":"N9","v":1121},{"$f":"COUNTIF(L87:L113,AI9)","v":0},{"$f":"AJ9/(AL4-AJ20)","v":0},{"$f":"IF(AK9=0,0,(AK9*((LOG(AK9))/LOG(2))))","v":0},null,{"$f":"N9","v":1121},{"$f":"COUNTIF(L114:L140,AN9)","v":0},{"$f":"AO9/(AQ4-AO20)","v":0},{"$f":"IF(AP9=0,0,(AP9*((LOG(AP9))/LOG(2))))","v":0},null,{"$f":"N9","v":1121},{"$f":"COUNTIF(L141:L167,AS9)","v":0},{"$f":"AT9/(AV4-AT20)","v":0},{"$f":"IF(AU9=0,0,(AU9*((LOG(AU9))/LOG(2))))","v":0}]
[12,443,14,449,13,462,23,477,null,null,0,1112,null,1122,{"$f":"COUNTIF($L$7:$L$500,N10)","v":18},{"$f":"O10/$Q$4","v":0.11180124223602485},{"$f":"IF(P10=0,0,(P10*((LOG(P10))/LOG(2))))","v":-0.35340281850994709},null,null,{"$f":"N10","v":1122},{"$f":"COUNTIF(L7:L33,T10)","v":8},{"$f":"U10/(W4-U20)","v":0.30769230769230771},{"$f":"IF(V10=0,0,(V10*((LOG(V10))/LOG(2))))","v":-0.52321222096648989},null,{"$f":"N10","v":1122},{"$f":"COUNTIF(L34:L60,Y10)","v":1},{"$f":"Z10/(AB4-Z20)","v":4.1666666666666664E-2},{"$f":"IF(AA10=0,0,(AA10*((LOG(AA10))/LOG(2))))","v":-0.19104010419671485},null,{"$f":"N10","v":1122},{"$f":"COUNTIF(L61:L86,AD10)","v":1},{"$f":"AE10/(AG4-AE20)","v":4.3478260869565216E-2},{"$f":"IF(AF10=0,0,(AF10*((LOG(AF10))/LOG(2))))","v":-0.19667660678508753},null,{"$f":"N10","v":1122},{"$f":"COUNTIF(L87:L113,AI10)","v":2},{"$f":"AJ10/(AL4-AJ20)","v":8.3333333333333329E-2},{"$f":"IF(AK10=0,0,(AK10*((LOG(AK10))/LOG(2))))","v":-0.29874687506009634},null,{"$f":"N10","v":1122},{"$f":"COUNTIF(L114:L140,AN10)","v":4},{"$f":"AO10/(AQ4-AO20)","v":0.14814814814814814},{"$f":"IF(AP10=0,0,(AP10*((LOG(AP10))/LOG(2))))","v":-0.40813148180199532},null,{"$f":"N10","v":1122},{"$f":"COUNTIF(L141:L167,AS10)","v":2},{"$f":"AT10/(AV4-AT20)","v":7.6923076923076927E-2},{"$f":"IF(AU10=0,0,(AU10*((LOG(AU10))/LOG(2))))","v":-0.28464920908777636}]
[12,576,14,584,13,602,14,610,null,null,0,1111,null,1211,{"$f":"COUNTIF($L$7:$L$500,N11)","v":2},{"$f":"O11/$Q$4","v":1.2422360248447204E-2},{"$f":"IF(P11=0,0,(P11*((LOG(P11))/LOG(2))))","v":-7.8644930162914489E-2},null,null,{"$f":"N11","v":1211},{"$f":"COUNTIF(L7:L33,T11)","v":0},{"$f":"U11/(W4-U20)","v":0},{"$f":"IF(V11=0,0,(V11*((LOG(V11))/LOG(2))))","v":0},null,{"$f":"N11","v":1211},{"$f":"COUNTIF(L34:L60,Y11)","v":0},{"$f":"Z11/(AB4-Z20)","v":0},{"$f":"IF(AA11=0,0,(AA11*((LOG(AA11))/LOG(2))))","v":0},null,{"$f":"N11","v":1211},{"$f":"COUNTIF(L61:L86,AD11)","v":1},{"$f":"AE11/(AG4-AE20)","v":4.3478260869565216E-2},{"$f":"IF(AF11=0,0,(AF11*((LOG(AF11))/LOG(2))))","v":-0.19667660678508753},null,{"$f":"N11","v":1211},{"$f":"COUNTIF(L87:L113,AI11)","v":0},{"$f":"AJ11/(AL4-AJ20)","v":0},{"$f":"IF(AK11=0,0,(AK11*((LOG(AK11))/LOG(2))))","v":0},null,{"$f":"N11","v":1211},{"$f":"COUNTIF(L114:L140,AN11)","v":0},{"$f":"AO11/(AQ4-AO20)","v":0},{"$f":"IF(AP11=0,0,(AP11*((LOG(AP11))/LOG(2))))","v":0},null,{"$f":"N11","v":1211},{"$f":"COUNTIF(L141:L167,AS11)","v":1},{"$f":"AT11/(AV4-AT20)","v":3.8461538461538464E-2},{"$f":"IF(AU11=0,0,(AU11*((LOG(AU11))/LOG(2))))","v":-0.18078614300542661}]
[12,709,14,711,13,728,23,743,null,null,0,1112,null,1212,{"$f":"COUNTIF($L$7:$L$500,N12)","v":3},{"$f":"O12/$Q$4","v":1.8633540372670808E-2},{"$f":"IF(P12=0,0,(P12*((LOG(P12))/LOG(2))))","v":-0.1070674728706856},null,null,{"$f":"N12","v":1212},{"$f":"COUNTIF(L7:L33,T12)","v":1},{"$f":"U12/(W4-U20)","v":3.8461538461538464E-2},{"$f":"IF(V12=0,0,(V12*((LOG(V12))/LOG(2))))","v":-0.18078614300542661},null,{"$f":"N12","v":1212},{"$f":"COUNTIF(L34:L60,Y12)","v":0},{"$f":"Z12/(AB4-Z20)","v":0},{"$f":"IF(AA12=0,0,(AA12*((LOG(AA12))/LOG(2))))","v":0},null,{"$f":"N12","v":1212},{"$f":"COUNTIF(L61:L86,AD12)","v":0},{"$f":"AE12/(AG4-AE20)","v":0},{"$f":"IF(AF12=0,0,(AF12*((LOG(AF12))/LOG(2))))","v":0},null,{"$f":"N12","v":1212},{"$f":"COUNTIF(L87:L113,AI12)","v":0},{"$f":"AJ12/(AL4-AJ20)","v":0},{"$f":"IF(AK12=0,0,(AK12*((LOG(AK12))/LOG(2))))","v":0},null,{"$f":"N12","v":1212},{"$f":"COUNTIF(L114:L140,AN12)","v":0},{"$f":"AO12/(AQ4-AO20)","v":0},{"$f":"IF(AP12=0,0,(AP12*((LOG(AP12))/LOG(2))))","v":0},null,{"$f":"N12","v":1212},{"$f":"COUNTIF(L141:L167,AS12)","v":2},{"$f":"AT12/(AV4-AT20)","v":7.6923076923076927E-2},{"$f":"IF(AU12=0,0,(AU12*((LOG(AU12))/LOG(2))))","v":-0.28464920908777636}]
[12,840,14,848,24,861,23,869,null,null,0,1122,null,1221,{"$f":"COUNTIF($L$7:$L$500,N13)","v":2},{"$f":"O13/$Q$4","v":1.2422360248447204E-2},{"$f":"IF(P13=0,0,(P13*((LOG(P13))/LOG(2))))","v":-7.8644930162914489E-2},null,null,{"$f":"N13","v":1221},{"$f":"COUNTIF(L7:L33,T13)","v":0},{"$f":"U13/(W4-U20)","v":0},{"$f":"IF(V13=0,0,(V13*((LOG(V13))/LOG(2))))","v":0},null,{"$f":"N13","v":1221},{"$f":"COUNTIF(L34:L60,Y13)","v":0},{"$f":"Z13/(AB4-Z20)","v":0},{"$f":"IF(AA13=0,0,(AA13*((LOG(AA13))/LOG(2))))","v":0},null,{"$f":"N13","v":1221},{"$f":"COUNTIF(L61:L86,AD13)","v":1},{"$f":"AE13/(AG4-AE20)","v":4.3478260869565216E-2},{"$f":"IF(AF13=0,0,(AF13*((LOG(AF13))/LOG(2))))","v":-0.19667660678508753},null,{"$f":"N13","v":1221},{"$f":"COUNTIF(L87:L113,AI13)","v":1},{"$f":"AJ13/(AL4-AJ20)","v":4.1666666666666664E-2},{"$f":"IF(AK13=0,0,(AK13*((LOG(AK13))/LOG(2))))","v":-0.19104010419671485},null,{"$f":"N13","v":1221},{"$f":"COUNTIF(L114:L140,AN13)","v":0},{"$f":"AO13/(AQ4-AO20)","v":0},{"$f":"IF(AP13=0,0,(AP13*((LOG(AP13))/LOG(2))))","v":0},null,{"$f":"N13","v":1221},{"$f":"COUNTIF(L141:L167,AS13)","v":0},{"$f":"AT13/(AV4-AT20)","v":0},{"$f":"IF(AU13=0,0,(AU13*((LOG(AU13))/LOG(2))))","v":0}]
[12,994,23,1006,24,1010,23,1018,null,null,0,1222,null,1222,{"$f":"COUNTIF($L$7:$L$500,N14)","v":16},{"$f":"O14/$Q$4","v":9.9378881987577633E-2},{"$f":"IF(P14=0,0,(P14*((LOG(P14))/LOG(2))))","v":-0.33102279534058304},null,null,{"$f":"N14","v":1222},{"$f":"COUNTIF(L7:L33,T14)","v":3},{"$f":"U14/(W4-U20)","v":0.11538461538461539},{"$f":"IF(V14=0,0,(V14*((LOG(V14))/LOG(2))))","v":-0.35947814047153104},null,{"$f":"N14","v":1222},{"$f":"COUNTIF(L34:L60,Y14)","v":1},{"$f":"Z14/(AB4-Z20)","v":4.1666666666666664E-2},{"$f":"IF(AA14=0,0,(AA14*((LOG(AA14))/LOG(2))))","v":-0.19104010419671485},null,{"$f":"N14","v":1222},{"$f":"COUNTIF(L61:L86,AD14)","v":0},{"$f":"AE14/(AG4-AE20)","v":0},{"$f":"IF(AF14=0,0,(AF14*((LOG(AF14))/LOG(2))))","v":0},null,{"$f":"N14","v":1222},{"$f":"COUNTIF(L87:L113,AI14)","v":5},{"$f":"AJ14/(AL4-AJ20)","v":0.20833333333333334},{"$f":"IF(AK14=0,0,(AK14*((LOG(AK14))/LOG(2))))","v":-0.47146550121537367},null,{"$f":"N14","v":1222},{"$f":"COUNTIF(L114:L140,AN14)","v":3},{"$f":"AO14/(AQ4-AO20)","v":0.1111111111111111},{"$f":"IF(AP14=0,0,(AP14*((LOG(AP14))/LOG(2))))","v":-0.3522138890491458},null,{"$f":"N14","v":1222},{"$f":"COUNTIF(L141:L167,AS14)","v":4},{"$f":"AT14/(AV4-AT20)","v":0.15384615384615385},{"$f":"IF(AU14=0,0,(AU14*((LOG(AU14))/LOG(2))))","v":-0.4154522643293988}]
[21,1159,12,1168,13,1175,23,1188,null,null,0,2112,null,2111,{"$f":"COUNTIF($L$7:$L$500,N15)","v":3},{"$f":"O15/$Q$4","v":1.8633540372670808E-2},{"$f":"IF(P15=0,0,(P15*((LOG(P15))/LOG(2))))","v":-0.1070674728706856},null,null,{"$f":"N15","v":2111},{"$f":"COUNTIF(L7:L33,T15)","v":0},{"$f":"U15/(W4-U20)","v":0},{"$f":"IF(V15=0,0,(V15*((LOG(V15))/LOG(2))))","v":0},null,{"$f":"N15","v":2111},{"$f":"COUNTIF(L34:L60,Y15)","v":0},{"$f":"Z15/(AB4-Z20)","v":0},{"$f":"IF(AA15=0,0,(AA15*((LOG(AA15))/LOG(2))))","v":0},null,{"$f":"N15","v":2111},{"$f":"COUNTIF(L61:L86,AD15)","v":0},{"$f":"AE15/(AG4-AE20)","v":0},{"$f":"IF(AF15=0,0,(AF15*((LOG(AF15))/LOG(2))))","v":0},null,{"$f":"N15","v":2111},{"$f":"COUNTIF(L87:L113,AI15)","v":0},{"$f":"AJ15/(AL4-AJ20)","v":0},{"$f":"IF(AK15=0,0,(AK15*((LOG(AK15))/LOG(2))))","v":0},null,{"$f":"N15","v":2111},{"$f":"COUNTIF(L114:L140,AN15)","v":1},{"$f":"AO15/(AQ4-AO20)","v":3.7037037037037035E-2},{"$f":"IF(AP15=0,0,(AP15*((LOG(AP15))/LOG(2))))","v":-0.1761069445245729},null,{"$f":"N15","v":2111},{"$f":"COUNTIF(L141:L167,AS15)","v":2},{"$f":"AT15/(AV4-AT20)","v":7.6923076923076927E-2},{"$f":"IF(AU15=0,0,(AU15*((LOG(AU15))/LOG(2))))","v":-0.28464920908777636}]
[12,1289,14,1308,24,1322,23,1329,null,null,0,1122,null,2112,{"$f":"COUNTIF($L$7:$L$500,N16)","v":18},{"$f":"O16/$Q$4","v":0.11180124223602485},{"$f":"IF(P16=0,0,(P16*((LOG(P16))/LOG(2))))","v":-0.35340281850994709},null,null,{"$f":"N16","v":2112},{"$f":"COUNTIF(L7:L33,T16)","v":3},{"$f":"U16/(W4-U20)","v":0.11538461538461539},{"$f":"IF(V16=0,0,(V16*((LOG(V16))/LOG(2))))","v":-0.35947814047153104},null,{"$f":"N16","v":2112},{"$f":"COUNTIF(L34:L60,Y16)","v":2},{"$f":"Z16/(AB4-Z20)","v":8.3333333333333329E-2},{"$f":"IF(AA16=0,0,(AA16*((LOG(AA16))/LOG(2))))","v":-0.29874687506009634},null,{"$f":"N16","v":2112},{"$f":"COUNTIF(L61:L86,AD16)","v":2},{"$f":"AE16/(AG4-AE20)","v":8.6956521739130432E-2},{"$f":"IF(AF16=0,0,(AF16*((LOG(AF16))/LOG(2))))","v":-0.30639669183104457},null,{"$f":"N16","v":2112},{"$f":"COUNTIF(L87:L113,AI16)","v":1},{"$f":"AJ16/(AL4-AJ20)","v":4.1666666666666664E-2},{"$f":"IF(AK16=0,0,(AK16*((LOG(AK16))/LOG(2))))","v":-0.19104010419671485},null,{"$f":"N16","v":2112},{"$f":"COUNTIF(L114:L140,AN16)","v":3},{"$f":"AO16/(AQ4-AO20)","v":0.1111111111111111},{"$f":"IF(AP16=0,0,(AP16*((LOG(AP16))/LOG(2))))","v":-0.3522138890491458},null,{"$f":"N16","v":2112},{"$f":"COUNTIF(L141:L167,AS16)","v":7},{"$f":"AT16/(AV4-AT20)","v":0.26923076923076922},{"$f":"IF(AU16=0,0,(AU16*((LOG(AU16))/LOG(2))))","v":-0.50967667586863141}]
[21,1460,12,1470,13,1475,23,1488,null,null,0,2112,null,2121,{"$f":"COUNTIF($L$7:$L$500,N17)","v":0},{"$f":"O17/$Q$4","v":0},{"$f":"IF(P17=0,0,(P17*((LOG(P17))/LOG(2))))","v":0},null,null,{"$f":"N17","v":2121},{"$f":"COUNTIF(L7:L33,T17)","v":0},{"$f":"U17/(W4-U20)","v":0},{"$f":"IF(V17=0,0,(V17*((LOG(V17))/LOG(2))))","v":0},null,{"$f":"N17","v":2121},{"$f":"COUNTIF(L34:L60,Y17)","v":0},{"$f":"Z17/(AB4-Z20)","v":0},{"$f":"IF(AA17=0,0,(AA17*((LOG(AA17))/LOG(2))))","v":0},null,{"$f":"N17","v":2121},{"$f":"COUNTIF(L61:L86,AD17)","v":0},{"$f":"AE17/(AG4-AE20)","v":0},{"$f":"IF(AF17=0,0,(AF17*((LOG(AF17))/LOG(2))))","v":0},null,{"$f":"N17","v":2121},{"$f":"COUNTIF(L87:L113,AI17)","v":0},{"$f":"AJ17/(AL4-AJ20)","v":0},{"$f":"IF(AK17=0,0,(AK17*((LOG(AK17))/LOG(2))))","v":0},null,{"$f":"N17","v":2121},{"$f":"COUNTIF(L114:L140,AN17)","v":0},{"$f":"AO17/(AQ4-AO20)","v":0},{"$f":"IF(AP17=0,0,(AP17*((LOG(AP17))/LOG(2))))","v":0},null,{"$f":"N17","v":2121},{"$f":"COUNTIF(L141:L167,AS17)","v":0},{"$f":"AT17/(AV4-AT20)","v":0},{"$f":"IF(AU17=0,0,(AU17*((LOG(AU17))/LOG(2))))","v":0}]
[12,1594,14,1602,13,1610,23,1623,null,null,0,1112,null,2122,{"$f":"COUNTIF($L$7:$L$500,N18)","v":32},{"$f":"O18/$Q$4","v":0.19875776397515527},{"$f":"IF(P18=0,0,(P18*((LOG(P18))/LOG(2))))","v":-0.46328782670601076},null,null,{"$f":"N18","v":2122},{"$f":"COUNTIF(L7:L33,T18)","v":4},{"$f":"U18/(W4-U20)","v":0.15384615384615385},{"$f":"IF(V18=0,0,(V18*((LOG(V18))/LOG(2))))","v":-0.4154522643293988},null,{"$f":"N18","v":2122},{"$f":"COUNTIF(L34:L60,Y18)","v":5},{"$f":"Z18/(AB4-Z20)","v":0.20833333333333334},{"$f":"IF(AA18=0,0,(AA18*((LOG(AA18))/LOG(2))))","v":-0.47146550121537367},null,{"$f":"N18","v":2122},{"$f":"COUNTIF(L61:L86,AD18)","v":8},{"$f":"AE18/(AG4-AE20)","v":0.34782608695652173},{"$f":"IF(AF18=0,0,(AF18*((LOG(AF18))/LOG(2))))","v":-0.52993459341113491},null,{"$f":"N18","v":2122},{"$f":"COUNTIF(L87:L113,AI18)","v":6},{"$f":"AJ18/(AL4-AJ20)","v":0.25},{"$f":"IF(AK18=0,0,(AK18*((LOG(AK18))/LOG(2))))","v":-0.5},null,{"$f":"N18","v":2122},{"$f":"COUNTIF(L114:L140,AN18)","v":4},{"$f":"AO18/(AQ4-AO20)","v":0.14814814814814814},{"$f":"IF(AP18=0,0,(AP18*((LOG(AP18))/LOG(2))))","v":-0.40813148180199532},null,{"$f":"N18","v":2122},{"$f":"COUNTIF(L141:L167,AS18)","v":5},{"$f":"AT18/(AV4-AT20)","v":0.19230769230769232},{"$f":"IF(AU18=0,0,(AU18*((LOG(AU18))/LOG(2))))","v":-0.45740608139494804}]
[12,1743,14,1748,24,1757,23,1764,null,null,0,1122,null,2211,{"$f":"COUNTIF($L$7:$L$500,N19)","v":7},{"$f":"O19/$Q$4","v":4.3478260869565216E-2},{"$f":"IF(P19=0,0,(P19*((LOG(P19))/LOG(2))))","v":-0.19667660678508753},null,null,{"$f":"N19","v":2211},{"$f":"COUNTIF(L7:L33,T19)","v":0},{"$f":"U19/(W4-U20)","v":0},{"$f":"IF(V19=0,0,(V19*((LOG(V19))/LOG(2))))","v":0},null,{"$f":"N19","v":2211},{"$f":"COUNTIF(L34:L60,Y19)","v":0},{"$f":"Z19/(AB4-Z20)","v":0},{"$f":"IF(AA19=0,0,(AA19*((LOG(AA19))/LOG(2))))","v":0},null,{"$f":"N19","v":2211},{"$f":"COUNTIF(L61:L86,AD19)","v":1},{"$f":"AE19/(AG4-AE20)","v":4.3478260869565216E-2},{"$f":"IF(AF19=0,0,(AF19*((LOG(AF19))/LOG(2))))","v":-0.19667660678508753},null,{"$f":"N19","v":2211},{"$f":"COUNTIF(L87:L113,AI19)","v":0},{"$f":"AJ19/(AL4-AJ20)","v":0},{"$f":"IF(AK19=0,0,(AK19*((LOG(AK19))/LOG(2))))","v":0},null,{"$f":"N19","v":2211},{"$f":"COUNTIF(L114:L140,AN19)","v":4},{"$f":"AO19/(AQ4-AO20)","v":0.14814814814814814},{"$f":"IF(AP19=0,0,(AP19*((LOG(AP19))/LOG(2))))","v":-0.40813148180199532},null,{"$f":"N19","v":2211},{"$f":"COUNTIF(L141:L167,AS19)","v":2},{"$f":"AT19/(AV4-AT20)","v":7.6923076923076927E-2},{"$f":"IF(AU19=0,0,(AU19*((LOG(AU19))/LOG(2))))","v":-0.28464920908777636}]
[21,1914,21,1934,22,1941,23,1950,null,null,0,2222,null,2212,{"$f":"COUNTIF($L$7:$L$500,N20)","v":11},{"$f":"O20/$Q$4","v":6.8322981366459631E-2},{"$f":"IF(P20=0,0,(P20*((LOG(P20))/LOG(2))))","v":-0.26451141524379201},null,null,{"$f":"N20","v":2212},{"$f":"COUNTIF(L7:L33,T20)","v":1},null,null,null,{"$f":"N20","v":2212},{"$f":"COUNTIF(L34:L60,Y20)","v":3},null,null,null,{"$f":"N20","v":2212},{"$f":"COUNTIF(L61:L86,AD20)","v":3},null,null,null,{"$f":"N20","v":2212},{"$f":"COUNTIF(L87:L113,AI20)","v":3},null,null,null,{"$f":"N20","v":2212},{"$f":"COUNTIF(L114:L140,AN20)","v":0},null,null,null,{"$f":"N20","v":2212},{"$f":"COUNTIF(L141:L167,AS20)","v":1}]
[21,2076,12,2085,24,2095,23,2109,null,null,0,2122,null,2221,{"$f":"COUNTIF($L$7:$L$500,N21)","v":5},{"$f":"O21/$Q$4","v":3.1055900621118012E-2},{"$f":"IF(P21=0,0,(P21*((LOG(P21))/LOG(2))))","v":-0.15555865786420048},null,null,{"$f":"N21","v":2221},{"$f":"COUNTIF(L7:L33,T21)","v":0},{"$f":"U21/(W4-U20)","v":0},{"$f":"IF(V21=0,0,(V21*((LOG(V21))/LOG(2))))","v":0},null,{"$f":"N21","v":2221},{"$f":"COUNTIF(L34:L60,Y21)","v":2},{"$f":"Z21/(AB4-Z20)","v":8.3333333333333329E-2},{"$f":"IF(AA21=0,0,(AA21*((LOG(AA21))/LOG(2))))","v":-0.29874687506009634},null,{"$f":"N21","v":2221},{"$f":"COUNTIF(L61:L86,AD21)","v":0},{"$f":"AE21/(AG4-AE20)","v":0},{"$f":"IF(AF21=0,0,(AF21*((LOG(AF21))/LOG(2))))","v":0},null,{"$f":"N21","v":2221},{"$f":"COUNTIF(L87:L113,AI21)","v":1},{"$f":"AJ21/(AL4-AJ20)","v":4.1666666666666664E-2},{"$f":"IF(AK21=0,0,(AK21*((LOG(AK21))/LOG(2))))","v":-0.19104010419671485},null,{"$f":"N21","v":2221},{"$f":"COUNTIF(L114:L140,AN21)","v":2},{"$f":"AO21/(AQ4-AO20)","v":7.407407407407407E-2},{"$f":"IF(AP21=0,0,(AP21*((LOG(AP21))/LOG(2))))","v":-0.27813981497507173},null,{"$f":"N21","v":2221},{"$f":"COUNTIF(L141:L167,AS21)","v":0},{"$f":"AT21/(AV4-AT20)","v":0},{"$f":"IF(AU21=0,0,(AU21*((LOG(AU21))/LOG(2))))","v":0}]
[21,2239,12,2248,24,2261,23,2269,null,null,0,2122,null,2222,{"$f":"COUNTIF($L$7:$L$500,N22)","v":30},{"$f":"O22/$Q$4","v":0.18633540372670807},{"$f":"IF(P22=0,0,(P22*((LOG(P22))/LOG(2))))","v":-0.45168191599492519},null,null,{"$f":"N22","v":2222},{"$f":"COUNTIF(L7:L33,T22)","v":1},{"$f":"U22/(W4-U20)","v":3.8461538461538464E-2},{"$f":"IF(V22=0,0,(V22*((LOG(V22))/LOG(2))))","v":-0.18078614300542661},null,{"$f":"N22","v":2222},{"$f":"COUNTIF(L34:L60,Y22)","v":12},{"$f":"Z22/(AB4-Z20)","v":0.5},{"$f":"IF(AA22=0,0,(AA22*((LOG(AA22))/LOG(2))))","v":-0.5},null,{"$f":"N22","v":2222},{"$f":"COUNTIF(L61:L86,AD22)","v":7},{"$f":"AE22/(AG4-AE20)","v":0.30434782608695654},{"$f":"IF(AF22=0,0,(AF22*((LOG(AF22))/LOG(2))))","v":-0.52232387991286355},null,{"$f":"N22","v":2222},{"$f":"COUNTIF(L87:L113,AI22)","v":5},{"$f":"AJ22/(AL4-AJ20)","v":0.20833333333333334},{"$f":"IF(AK22=0,0,(AK22*((LOG(AK22))/LOG(2))))","v":-0.47146550121537367},null,{"$f":"N22","v":2222},{"$f":"COUNTIF(L114:L140,AN22)","v":4},{"$f":"AO22/(AQ4-AO20)","v":0.14814814814814814},{"$f":"IF(AP22=0,0,(AP22*((LOG(AP22))/LOG(2))))","v":-0.40813148180199532},null,{"$f":"N22","v":2222},{"$f":"COUNTIF(L141:L167,AS22)","v":1},{"$f":"AT22/(AV4-AT20)","v":3.8461538461538464E-2},{"$f":"IF(AU22=0,0,(AU22*((LOG(AU22))/LOG(2))))","v":-0.18078614300542661}]
[12,2404,23,2417,13,2426,23,2438,null,null,0,1212,null,null,null,{"$f":"SUM(P7:P22)","v":0.99999999999999989},{"$f":"-SUM(Q7:Q22)","v":3.3125485491361708},null,null,null,null,{"$f":"SUM(V7:V22)","v":1.0000000000000002},{"$f":"-SUM(W7:W22)","v":2.7192945256669789},null,null,null,{"$f":"SUM(AA7:AA22)","v":1},{"$f":"-SUM(AB7:AB22)","v":2.1420795639257109},null,null,null,{"$f":"SUM(AF7:AF22)","v":1},{"$f":"-SUM(AG7:AG22)","v":2.5387148058655682},null,null,null,{"$f":"SUM(AK7:AK22)","v":1},{"$f":"-SUM(AL7:AL22)","v":2.6897981900809889},null,null,null,{"$f":"SUM(AP7:AP22)","v":0.99999999999999989},{"$f":"-SUM(AQ7:AQ22)","v":3.069340279780989},null,null,null,{"$f":"SUM(AU7:AU22)","v":0.99999999999999989},{"$f":"-SUM(AV7:AV22)","v":2.8827041439549368}]
[12,2596,23,2623,24,2633,23,2644,null,null,0,1222,null,null,null,"U=",{"$f":"Q23/(LOG(Q4)/LOG(2))","v":0.45186006119170458},null,null,null,null,"U1=",{"$f":"W23/(LOG(W4)/LOG(2))","v":0.57189460832242678},null,null,null,"U2=",{"$f":"AB23/(LOG(AB4)/LOG(2))","v":0.45050057713270131},null,null,null,"U3=",{"$f":"AG23/(LOG(AG4)/LOG(2))","v":0.54010155604539212},null,null,null,"U4=",{"$f":"AL23/(LOG(AL4)/LOG(2))","v":0.56569123640825025},null,null,null,"U5=",{"$f":"AQ23/(LOG(AQ4)/LOG(2))","v":0.64551270211638923},null,null,null,"U6=",{"$f":"AV23/(LOG(AV4)/LOG(2))","v":0.6062612717216358}]
[21,2765,21,2770,11,2779,21,2791,null,null,0,2212]
[12,2896,23,2911,24,2918,23,2925,null,null,0,1222]
[12,3035,14,3043,24,3053,23,3061,null,null,0,1122,null,"Total Target Seq"]
[21,3176,12,3185,24,3194,23,3199,null,null,0,2122,null,{"$f":"COUNTIF(L7:L167,G3)","v":11},null,27,27,26,27,27,27]
[12,3317,14,3332,13,3337,14,3341,null,null,0,1111,null,null,null,"% of reinforcement given in 6 equal intervals based on number of trials "]
[21,3448,12,3457,13,3462,23,3473,null,null,0,2112,null,null,null,"%_1","%_2","%_3","%_4","%_5","%_6"]
[21,3591,12,3601,24,3610,23,3617,null,null,0,2122,null,null,"target sequence",{"$f":"$G$3","v":2212},{"$f":"$G$3","v":2212},{"$f":"$G$3","v":2212},{"$f":"$G$3","v":2212},{"$f":"$G$3","v":2212},{"$f":"$G$3","v":2212}]
[12,3727,14,3737,24,3750,23,3758,null,null,0,1122,null,null,"total reinforcement",{"$f":"U20","v":1},{"$f":"Z20","v":3},{"$f":"AE20","v":3},{"$f":"AJ20","v":3},{"$f":"AO20","v":0},{"$f":"AT20","v":1}]
[12,3861,14,3876,24,3889,23,3900,null,null,0,1122,null,null,"% target"]
[21,4017,21,4030,22,4037,23,4044,null,null,0,2222,null,null,"CCRF"]
[21,4144,12,4169,24,4181,23,4188,null,null,0,2122,null,null,"% CCRf"]
[21,4315,12,4324,24,4333,23,4341,null,null,0,2122,null,null,"average response rate",{"$f":"H33/P28","v":144.44444444444446},{"$f":"(H60-H33)/Q28","v":149.18518518518519},{"$f":"(H86-H60)/R28","v":148.07692307692307},{"$f":"(H113-H86)/S28","v":153.40740740740742},{"$f":"(H140-H113)/T28","v":154.44444444444446},{"$f":"(H167-H140)/U28","v":144.33333333333334}]
[21,4461,12,4469,13,4475,23,4486,null,null,0,2112]
[21,4609,12,4617,24,4627,23,4634,null,null,0,2122]
[21,4753,21,4760,22,4777,23,4781,null,null,0,2222]
[21,4923,21,4936,22,4944,23,4951,null,null,0,2222]
[21,5061,21,5074,22,5089,23,5095,null,null,0,2222]
[21,5215,21,5229,11,5239,21,5248,null,null,0,2212]
[21,5386,21,5392,22,5396,23,5401,null,null,0,2222]
[12,5521,14,5528,24,5537,23,5543,null,null,0,1122]
[21,5656,21,5670,22,5685,23,5692,null,null,0,2222]
[21,5804,21,5817,22,5821,23,5828,null,null,0,2222]
[21,5936,21,5951,22,5956,14,5966,null,null,0,2221]
[21,6070,21,6082,22,6099,23,6106,null,null,0,2222]
[21,6232,12,6243,13,6244,23,6256,null,null,0,2112]
[21,6381,21,6385,22,6390,23,6396,null,null,0,2222]
[21,6511,21,6518,22,6533,23,6540,null,null,0,2222]
[12,6681,23,6692,24,6697,23,6701,null,null,0,1222]
[21,6830,21,6842,22,6847,14,6856,null,null,0,2221]
[21,7013,21,7026,11,7038,21,7049,null,null,0,2212]
[21,7153,12,7169,24,7178,23,7182,null,null,0,2122]
[21,7300,21,7311,11,7323,21,7336,null,null,0,2212]
[21,7458,12,7467,24,7475,23,7482,null,null,0,2122]
[21,7602,21,7618,22,7622,23,7628,null,null,0,2222]
[12,7764,14,7771,13,7779,23,7792,null,null,0,1112]
[21,7915,21,7919,22,7923,23,7928,null,null,0,2222]
[21,8035,21,8049,22,8055,23,8062,null,null,0,2222]
[21,8202,21,8208,22,8213,23,8217,null,null,0,2222]
[21,8327,12,8336,24,8345,23,8349,null,null,0,2122]
[21,8456,21,8469,11,8480,21,8490,null,null,0,2212]
[21,8593,12,8603,24,8617,23,8624,null,null,0,2122]
[21,8753,12,8762,13,8767,23,8778,null,null,0,2112]
[12,8892,14,8911,13,8916,23,8928,null,null,0,1112]
[21,9040,21,9056,22,9060,23,9065,null,null,0,2222]
[21,9202,12,9212,24,9232,23,9239,null,null,0,2122]
[21,9357,21,9362,22,9366,23,9370,null,null,0,2222]
[21,9490,21,9512,11,9520,12,9525,null,null,0,2211]
[21,9637,12,9646,24,9656,23,9670,null,null,0,2122]
[21,9805,21,9812,22,9817,23,9824,null,null,0,2222]
[21,9946,12,9955,24,9965,23,9969,null,null,0,2122]
[21,10088,12,10097,24,10109,23,10113,null,null,0,2122]
[21,10232,12,10241,13,10245,23,10256,null,null,0,2112]
[12,10381,14,10385,24,10396,23,10401,null,null,0,1122]
[21,10528,12,10556,24,10566,23,10570,null,null,0,2122]
[21,10704,21,10718,22,10724,23,10731,null,null,0,2222]
[12,10846,23,10858,24,10863,14,10876,null,null,0,1221]
[21,10987,21,10996,22,11009,23,11017,null,null,0,2222]
[21,11135,21,11141,11,11154,21,11166,null,null,0,2212]
[21,11273,21,11286,11,11297,21,11306,null,null,0,2212]
[12,11429,23,11445,13,11455,14,11465,null,null,0,1211]
[12,11620,14,11625,13,11630,14,11634,null,null,0,1111]
[21,11749,12,11761,24,11773,23,11778,null,null,0,2122]
[12,11902,23,11912,24,11917,23,11925,null,null,0,1222]
[21,12036,21,12061,11,12072,21,12080,null,null,0,2212]
[12,12195,14,12200,24,12211,23,12217,null,null,0,1122]
[12,12337,14,12341,13,12345,23,12357,null,null,0,1112]
[21,12505,21,12511,22,12516,23,12522,null,null,0,2222]
[21,12645,12,12654,24,12661,23,12665,null,null,0,2122]
[12,12797,23,12806,24,12810,23,12817,null,null,0,1222]
[21,12971,12,12980,24,12991,23,12998,null,null,0,2122]
[21,13111,21,13126,11,13135,21,13145,null,null,0,2212]
[12,13266,23,13276,24,13283,23,13291,null,null,0,1222]
[21,13429,21,13443,22,13450,23,13454,null,null,0,2222]
[21,13589,12,13598,13,13602,23,13612,null,null,0,2112]
[21,13741,21,13747,11,13759,21,13771,null,null,0,2212]
[21,13882,21,13895,22,13899,23,13903,null,null,0,2222]
[21,14041,21,14053,22,14062,14,14074,null,null,0,2221]
[21,14192,21,14205,22,14223,23,14230,null,null,0,2222]
[21,14368,21,14381,22,14387,23,14394,null,null,0,2222]
[21,14547,12,14557,24,14568,23,14572,null,null,0,2122]
[12,14703,23,14714,24,14718,23,14722,null,null,0,1222]
[21,14851,12,14860,24,14869,23,14877,null,null,0,2122]
[12,14983,14,15001,13,15009,23,15020,null,null,0,1112]
[12,15138,23,15147,24,15152,14,15162,null,null,0,1221]
[21,15287,12,15298,24,15311,23,15324,null,null,0,2122]
[12,15450,14,15454,24,15462,23,15467,null,null,0,1122]
[21,15598,12,15612,24,15621,23,15626,null,null,0,2122]
[12,15749,23,15757,24,15763,23,15768,null,null,0,1222]
[12,15889,14,15906,13,15910,23,15920,null,null,0,1112]
[21,16056,21,16073,22,16078,23,16085,null,null,0,2222]
[21,16197,21,16209,11,16217,12,16225,null,null,0,2211]
[21,16359,21,16374,11,16385,12,16393,null,null,0,2211]
[21,16517,21,16536,22,16543,23,16548,null,null,0,2222]
[12,16678,23,16690,24,16695,23,16700,null,null,0,1222]
[12,16826,23,16842,24,16850,23,16857,null,null,0,1222]
[12,17006,14,17011,24,17021,23,17026,null,null,0,1122]
[21,17189,21,17202,22,17211,14,17224,null,null,0,2221]
[21,17366,21,17384,22,17391,23,17396,null,null,0,2222]
[21,17517,12,17526,13,17531,23,17539,null,null,0,2112]
[12,17690,14,17697,13,17706,23,17718,null,null,0,1112]
[21,17839,21,17857,22,17862,23,17866,null,null,0,2222]
[21,17983,12,17996,24,18008,23,18015,null,null,0,2122]
[21,18156,12,18169,13,18176,23,18188,null,null,0,2112]
[21,18301,12,18311,13,18315,23,18325,null,null,0,2112]
[21,18450,21,18459,11,18467,12,18475,null,null,0,2211]
[21,18581,12,18590,13,18595,14,18599,null,null,0,2111]
[12,18747,14,18751,24,18763,23,18770,null,null,0,1122]
[21,18892,21,18905,11,18914,12,18922,null,null,0,2211]
[21,19060,12,19070,24,19078,23,19083,null,null,0,2122]
[21,19200,21,19209,22,19222,14,19235,null,null,0,2221]
[12,19357,14,19362,24,19371,23,19375,null,null,0,1122]
[12,19501,14,19506,24,19514,23,19519,null,null,0,1122]
[21,19651,12,19662,24,19671,23,19676,null,null,0,2122]
[12,19788,14,19792,13,19797,23,19813,null,null,0,1112]
[21,19937,12,19945,24,19954,23,19959,null,null,0,2122]
[12,20069,23,20080,24,20084,23,20090,null,null,0,1222]
[12,20199,23,20213,13,20221,14,20228,null,null,0,1211]
[21,20334,21,20350,22,20359,23,20368,null,null,0,2222]
[12,20477,23,20484,13,20497,23,20506,null,null,0,1212]
[21,20629,12,20639,13,20643,23,20652,null,null,0,2112]
[21,20765,21,20775,11,20786,12,20790,null,null,0,2211]
[21,20903,12,20916,24,20924,23,20928,null,null,0,2122]
[21,21063,12,21073,13,21078,23,21087,null,null,0,2112]
[21,21227,21,21229,11,21249,12,21257,null,null,0,2211]
[12,21378,23,21387,24,21391,23,21399,null,null,0,1222]
[21,21543,21,21551,11,21563,21,21572,null,null,0,2212]
[12,21691,23,21702,24,21707,23,21712,null,null,0,1222]
[21,21841,12,21850,13,21855,23,21867,null,null,0,2112]
[12,21985,23,21995,13,22008,23,22019,null,null,0,1212]
[21,22127,12,22138,24,22146,23,22150,null,null,0,2122]
[21,22263,12,22272,24,22283,23,22291,null,null,0,2122]
[12,22436,23,22448,24,22456,23,22467,null,null,0,1222]
[12,22570,23,22581,24,22588,23,22595,null,null,0,1222]
[21,22718,12,22728,13,22736,23,22746,null,null,0,2112]
[12,22849,14,22859,24,22868,23,22876,null,null,0,1122]
[21,22987,12,22995,13,22999,14,23003,null,null,0,2111]
[21,23121,12,23131,13,23136,23,23145,null,null,0,2112]
[21,23256,12,23266,24,23275,23,23280,null,null,0,2122]
[21,23404,12,23415,13,23419,14,23424,null,null,0,2111]
[21,23532,12,23542,13,23546,23,23557,null,null,0,2112]
[21,23669,12,23679,24,23693,23,23700,null,null,0,2122]
[21,23817,12,23826,13,23833,23,23841,null,null,0,2112]
[12,23969,14,23974,24,23983,23,23987,null,null,null,1122]

{"sheet":"!L805930.053","index":11,"n_rows":176,"n_cols":48,"rows_kept":176,"cut":false,"hidden":false,"merged":[[4,39,4,42],[5,39,5,40],[4,44,4,47],[5,44,5,45],[4,24,4,27],[5,24,5,25],[4,29,4,32],[5,29,5,30],[4,34,4,37],[5,34,5,35],[1,1,1,2],[5,13,5,14],[26,13,26,14],[27,13,27,14],[4,19,4,22],[5,19,5,20]]}
["Report for:!L805930.053"]
["Date:","<date>"]
["Hen:","<hen>",null,null,null,"Correct Sequence",{"$f":"Start!J2","v":2212},null,null,null,null,null,null,null,null,"Total Sequences in Data",{"$f":"4994-COUNTBLANK(L7:L5000)","v":170},null,null,null,null,"Total Sequences in Block Data",{"$f":"COUNTA(L7:L34)","v":28},null,null,null,"Total Sequences in Block Data",{"$f":"COUNTA(L35:L63)","v":29},null,null,null,"Total Sequences in Block Data",{"$f":"COUNTA(L64:L91)","v":28},null,null,null,"Total Sequences in Block Data",{"$f":"COUNTA(L92:L119)","v":28},null,null,null,"Total Sequences in Block Data",{"$f":"COUNTA(L120:L148)","v":29},null,null,null,"Total Sequences in Block Data",{"$f":"COUNTA(L149:L176)","v":28}]
[null,null,null,null,null,null,null,null,null,null,null,null,null,null,null,"Total Sequences in Summary",{"$f":"SUM(O7:O22)","v":170},null,null,null,null,"Total Sequences in Block Summary",{"$f":"SUM(U7:U22)","v":28},null,null,null,"Total Sequences in Block Summary",{"$f":"SUM(Z7:Z22)","v":29},null,null,null,"Total Sequences in Block Summary",{"$f":"SUM(AE7:AE22)","v":28},null,null,null,"Total Sequences in Block Summary",{"$f":"SUM(AJ7:AJ22)","v":28},null,null,null,"Total Sequences in Block Summary",{"$f":"SUM(AO7:AO22)","v":29},null,null,null,"Total Sequences in Block Summary",{"$f":"SUM(AT7:AT22)","v":28}]
[null,null,null,null,null,null,null,null,null,null,null,null,null,null,null,null,null,null,null,"Block 1",null,null,null,null,"Block 2",null,null,null,null,"Block 3",null,null,null,null,"Block 4",null,null,null,null,"Block 5",null,null,null,null,"Block 6"]
["Sequence\nComponent\n1","Time\n1","Sequence\nComponent\n2","Time\n2","Sequence\nComponent\n3","Time\n3","Sequence\nComponent\n4","Time\n4","Sequence\nComponent\n5","Time\n5","Correct?\n0=No 1=Yes","Sequence",null,"Frequency",null,"Relative Frequency","Variability",null,null,"Frequency",null,"Relative Frequency","Variability",null,"Frequency",null,"Relative Frequency","Variability",null,"Frequency",null,"Relative Frequency","Variability",null,"Frequency",null,"Relative Frequency","Variability",null,"Frequency",null,"Relative Frequency","Variability",null,"Frequency",null,"Relative Frequency","Variability"]
[12,10,14,26,13,53,23,69,null,null,0,1112,null,1111,{"$f":"COUNTIF($L$7:$L$500,N7)","v":51},{"$f":"O7/$Q$4","v":0.3},{"$f":"IF(P7=0,0,(P7*((LOG(P7))/LOG(2))))","v":-0.52108967824986185},null,null,{"$f":"N7","v":1111},{"$f":"COUNTIF(L7:L34,T7)","v":6},{"$f":"U7/(W4-U20)","v":0.21428571428571427},{"$f":"IF(V7=0,0,(V7*((LOG(V7))/LOG(2))))","v":-0.47622694742923877},null,{"$f":"N7","v":1111},{"$f":"COUNTIF(L35:L63,Y7)","v":10},{"$f":"Z7/(AB4-Z20)","v":0.34482758620689657},{"$f":"IF(AA7=0,0,(AA7*((LOG(AA7))/LOG(2))))","v":-0.52967341387593436},null,{"$f":"N7","v":1111},{"$f":"COUNTIF(L64:L91,AD7)","v":10},{"$f":"AE7/(AG4-AE20)","v":0.35714285714285715},{"$f":"IF(AF7=0,0,(AF7*((LOG(AF7))/LOG(2))))","v":-0.53050958113222924},null,{"$f":"N7","v":1111},{"$f":"COUNTIF(L92:L119,AI7)","v":14},{"$f":"AJ7/(AL4-AJ20)","v":0.5},{"$f":"IF(AK7=0,0,(AK7*((LOG(AK7))/LOG(2))))","v":-0.5},null,{"$f":"N7","v":1111},{"$f":"COUNTIF(L120:L148,AN7)","v":7},{"$f":"AO7/(AQ4-AO20)","v":0.2413793103448276},{"$f":"IF(AP7=0,0,(AP7*((LOG(AP7))/LOG(2))))","v":-0.49497870729275095},null,{"$f":"N7","v":1111},{"$f":"COUNTIF(L149:L176,AS7)","v":4},{"$f":"AT7/(AV4-AT20)","v":0.14285714285714285},{"$f":"IF(AU7=0,0,(AU7*((LOG(AU7))/LOG(2))))","v":-0.40105070315108626}]
[12,171,23,184,13,194,14,211,null,null,0,1211,null,1112,{"$f":"COUNTIF($L$7:$L$500,N8)","v":23},{"$f":"O8/$Q$4","v":0.13529411764705881},{"$f":"IF(P8=0,0,(P8*((LOG(P8))/LOG(2))))","v":-0.39043568554032843},null,null,{"$f":"N8","v":1112},{"$f":"COUNTIF(L7:L34,T8)","v":3},{"$f":"U8/(W4-U20)","v":0.10714285714285714},{"$f":"IF(V8=0,0,(V8*((LOG(V8))/LOG(2))))","v":-0.34525633085747659},null,{"$f":"N8","v":1112},{"$f":"COUNTIF(L35:L63,Y8)","v":10},{"$f":"Z8/(AB4-Z20)","v":0.34482758620689657},{"$f":"IF(AA8=0,0,(AA8*((LOG(AA8))/LOG(2))))","v":-0.52967341387593436},null,{"$f":"N8","v":1112},{"$f":"COUNTIF(L64:L91,AD8)","v":1},{"$f":"AE8/(AG4-AE20)","v":3.5714285714285712E-2},{"$f":"IF(AF8=0,0,(AF8*((LOG(AF8))/LOG(2))))","v":-0.17169124721634299},null,{"$f":"N8","v":1112},{"$f":"COUNTIF(L92:L119,AI8)","v":4},{"$f":"AJ8/(AL4-AJ20)","v":0.14285714285714285},{"$f":"IF(AK8=0,0,(AK8*((LOG(AK8))/LOG(2))))","v":-0.40105070315108626},null,{"$f":"N8","v":1112},{"$f":"COUNTIF(L120:L148,AN8)","v":3},{"$f":"AO8/(AQ4-AO20)","v":0.10344827586206896},{"$f":"IF(AP8=0,0,(AP8*((LOG(AP8))/LOG(2))))","v":-0.33858812011100858},null,{"$f":"N8","v":1112},{"$f":"COUNTIF(L149:L176,AS8)","v":2},{"$f":"AT8/(AV4-AT20)","v":7.1428571428571425E-2},{"$f":"IF(AU8=0,0,(AU8*((LOG(AU8))/LOG(2))))","v":-0.27195392300411453}]
[21,322,12,336,24,347,23,356,null,null,0,2122,null,1121,{"$f":"COUNTIF($L$7:$L$500,N9)","v":2},{"$f":"O9/$Q$4","v":1.1764705882352941E-2},{"$f":"IF(P9=0,0,(P9*((LOG(P9))/LOG(2))))","v":-7.5404599248678844E-2},null,null,{"$f":"N9","v":1121},{"$f":"COUNTIF(L7:L34,T9)","v":1},{"$f":"U9/(W4-U20)","v":3.5714285714285712E-2},{"$f":"IF(V9=0,0,(V9*((LOG(V9))/LOG(2))))","v":-0.17169124721634299},null,{"$f":"N9","v":1121},{"$f":"COUNTIF(L35:L63,Y9)","v":0},{"$f":"Z9/(AB4-Z20)","v":0},{"$f":"IF(AA9=0,0,(AA9*((LOG(AA9))/LOG(2))))","v":0},null,{"$f":"N9","v":1121},{"$f":"COUNTIF(L64:L91,AD9)","v":1},{"$f":"AE9/(AG4-AE20)","v":3.5714285714285712E-2},{"$f":"IF(AF9=0,0,(AF9*((LOG(AF9))/LOG(2))))","v":-0.17169124721634299},null,{"$f":"N9","v":1121},{"$f":"COUNTIF(L92:L119,AI9)","v":0},{"$f":"AJ9/(AL4-AJ20)","v":0},{"$f":"IF(AK9=0,0,(AK9*((LOG(AK9))/LOG(2))))","v":0},null,{"$f":"N9","v":1121},{"$f":"COUNTIF(L120:L148,AN9)","v":0},{"$f":"AO9/(AQ4-AO20)","v":0},{"$f":"IF(AP9=0,0,(AP9*((LOG(AP9))/LOG(2))))","v":0},null,{"$f":"N9","v":1121},{"$f":"COUNTIF(L149:L176,AS9)","v":0},{"$f":"AT9/(AV4-AT20)","v":0},{"$f":"IF(AU9=0,0,(AU9*((LOG(AU9))/LOG(2))))","v":0}]
[12,454,14,473,13,495,14,503,null,null,0,1111,null,1122,{"$f":"COUNTIF($L$7:$L$500,N10)","v":11},{"$f":"O10/$Q$4","v":6.4705882352941183E-2},{"$f":"IF(P10=0,0,(P10*((LOG(P10))/LOG(2))))","v":-0.25558560289708498},null,null,{"$f":"N10","v":1122},{"$f":"COUNTIF(L7:L34,T10)","v":5},{"$f":"U10/(W4-U20)","v":0.17857142857142858},{"$f":"IF(V10=0,0,(V10*((LOG(V10))/LOG(2))))","v":-0.44382621913754317},null,{"$f":"N10","v":1122},{"$f":"COUNTIF(L35:L63,Y10)","v":1},{"$f":"Z10/(AB4-Z20)","v":3.4482758620689655E-2},{"$f":"IF(AA10=0,0,(AA10*((LOG(AA10))/LOG(2))))","v":-0.16751658603888178},null,{"$f":"N10","v":1122},{"$f":"COUNTIF(L64:L91,AD10)","v":3},{"$f":"AE10/(AG4-AE20)","v":0.10714285714285714},{"$f":"IF(AF10=0,0,(AF10*((LOG(AF10))/LOG(2))))","v":-0.34525633085747659},null,{"$f":"N10","v":1122},{"$f":"COUNTIF(L92:L119,AI10)","v":2},{"$f":"AJ10/(AL4-AJ20)","v":7.1428571428571425E-2},{"$f":"IF(AK10=0,0,(AK10*((LOG(AK10))/LOG(2))))","v":-0.27195392300411453},null,{"$f":"N10","v":1122},{"$f":"COUNTIF(L120:L148,AN10)","v":0},{"$f":"AO10/(AQ4-AO20)","v":0},{"$f":"IF(AP10=0,0,(AP10*((LOG(AP10))/LOG(2))))","v":0},null,{"$f":"N10","v":1122},{"$f":"COUNTIF(L149:L176,AS10)","v":0},{"$f":"AT10/(AV4-AT20)","v":0},{"$f":"IF(AU10=0,0,(AU10*((LOG(AU10))/LOG(2))))","v":0}]
[21,618,21,625,11,639,12,648,null,null,0,2211,null,1211,{"$f":"COUNTIF($L$7:$L$500,N11)","v":4},{"$f":"O11/$Q$4","v":2.3529411764705882E-2},{"$f":"IF(P11=0,0,(P11*((LOG(P11))/LOG(2))))","v":-0.12727978673265181},null,null,{"$f":"N11","v":1211},{"$f":"COUNTIF(L7:L34,T11)","v":1},{"$f":"U11/(W4-U20)","v":3.5714285714285712E-2},{"$f":"IF(V11=0,0,(V11*((LOG(V11))/LOG(2))))","v":-0.17169124721634299},null,{"$f":"N11","v":1211},{"$f":"COUNTIF(L35:L63,Y11)","v":0},{"$f":"Z11/(AB4-Z20)","v":0},{"$f":"IF(AA11=0,0,(AA11*((LOG(AA11))/LOG(2))))","v":0},null,{"$f":"N11","v":1211},{"$f":"COUNTIF(L64:L91,AD11)","v":1},{"$f":"AE11/(AG4-AE20)","v":3.5714285714285712E-2},{"$f":"IF(AF11=0,0,(AF11*((LOG(AF11))/LOG(2))))","v":-0.17169124721634299},null,{"$f":"N11","v":1211},{"$f":"COUNTIF(L92:L119,AI11)","v":0},{"$f":"AJ11/(AL4-AJ20)","v":0},{"$f":"IF(AK11=0,0,(AK11*((LOG(AK11))/LOG(2))))","v":0},null,{"$f":"N11","v":1211},{"$f":"COUNTIF(L120:L148,AN11)","v":1},{"$f":"AO11/(AQ4-AO20)","v":3.4482758620689655E-2},{"$f":"IF(AP11=0,0,(AP11*((LOG(AP11))/LOG(2))))","v":-0.16751658603888178},null,{"$f":"N11","v":1211},{"$f":"COUNTIF(L149:L176,AS11)","v":1},{"$f":"AT11/(AV4-AT20)","v":3.5714285714285712E-2},{"$f":"IF(AU11=0,0,(AU11*((LOG(AU11))/LOG(2))))","v":-0.17169124721634299}]
[12,771,23,785,24,794,23,806,null,null,0,1222,null,1212,{"$f":"COUNTIF($L$7:$L$500,N12)","v":0},{"$f":"O12/$Q$4","v":0},{"$f":"IF(P12=0,0,(P12*((LOG(P12))/LOG(2))))","v":0},null,null,{"$f":"N12","v":1212},{"$f":"COUNTIF(L7:L34,T12)","v":0},{"$f":"U12/(W4-U20)","v":0},{"$f":"IF(V12=0,0,(V12*((LOG(V12))/LOG(2))))","v":0},null,{"$f":"N12","v":1212},{"$f":"COUNTIF(L35:L63,Y12)","v":0},{"$f":"Z12/(AB4-Z20)","v":0},{"$f":"IF(AA12=0,0,(AA12*((LOG(AA12))/LOG(2))))","v":0},null,{"$f":"N12","v":1212},{"$f":"COUNTIF(L64:L91,AD12)","v":0},{"$f":"AE12/(AG4-AE20)","v":0},{"$f":"IF(AF12=0,0,(AF12*((LOG(AF12))/LOG(2))))","v":0},null,{"$f":"N12","v":1212},{"$f":"COUNTIF(L92:L119,AI12)","v":0},{"$f":"AJ12/(AL4-AJ20)","v":0},{"$f":"IF(AK12=0,0,(AK12*((LOG(AK12))/LOG(2))))","v":0},null,{"$f":"N12","v":1212},{"$f":"COUNTIF(L120:L148,AN12)","v":0},{"$f":"AO12/(AQ4-AO20)","v":0},{"$f":"IF(AP12=0,0,(AP12*((LOG(AP12))/LOG(2))))","v":0},null,{"$f":"N12","v":1212},{"$f":"COUNTIF(L149:L176,AS12)","v":0},{"$f":"AT12/(AV4-AT20)","v":0},{"$f":"IF(AU12=0,0,(AU12*((LOG(AU12))/LOG(2))))","v":0}]
[12,925,23,937,24,945,23,953,null,null,0,1222,null,1221,{"$f":"COUNTIF($L$7:$L$500,N13)","v":0},{"$f":"O13/$Q$4","v":0},{"$f":"IF(P13=0,0,(P13*((LOG(P13))/LOG(2))))","v":0},null,null,{"$f":"N13","v":1221},{"$f":"COUNTIF(L7:L34,T13)","v":0},{"$f":"U13/(W4-U20)","v":0},{"$f":"IF(V13=0,0,(V13*((LOG(V13))/LOG(2))))","v":0},null,{"$f":"N13","v":1221},{"$f":"COUNTIF(L35:L63,Y13)","v":0},{"$f":"Z13/(AB4-Z20)","v":0},{"$f":"IF(AA13=0,0,(AA13*((LOG(AA13))/LOG(2))))","v":0},null,{"$f":"N13","v":1221},{"$f":"COUNTIF(L64:L91,AD13)","v":0},{"$f":"AE13/(AG4-AE20)","v":0},{"$f":"IF(AF13=0,0,(AF13*((LOG(AF13))/LOG(2))))","v":0},null,{"$f":"N13","v":1221},{"$f":"COUNTIF(L92:L119,AI13)","v":0},{"$f":"AJ13/(AL4-AJ20)","v":0},{"$f":"IF(AK13=0,0,(AK13*((LOG(AK13))/LOG(2))))","v":0},null,{"$f":"N13","v":1221},{"$f":"COUNTIF(L120:L148,AN13)","v":0},{"$f":"AO13/(AQ4-AO20)","v":0},{"$f":"IF(AP13=0,0,(AP13*((LOG(AP13))/LOG(2))))","v":0},null,{"$f":"N13","v":1221},{"$f":"COUNTIF(L149:L176,AS13)","v":0},{"$f":"AT13/(AV4-AT20)","v":0},{"$f":"IF(AU13=0,0,(AU13*((LOG(AU13))/LOG(2))))","v":0}]
[12,1076,14,1081,24,1093,23,1101,null,null,0,1122,null,1222,{"$f":"COUNTIF($L$7:$L$500,N14)","v":4},{"$f":"O14/$Q$4","v":2.3529411764705882E-2},{"$f":"IF(P14=0,0,(P14*((LOG(P14))/LOG(2))))","v":-0.12727978673265181},null,null,{"$f":"N14","v":1222},{"$f":"COUNTIF(L7:L34,T14)","v":2},{"$f":"U14/(W4-U20)","v":7.1428571428571425E-2},{"$f":"IF(V14=0,0,(V14*((LOG(V14))/LOG(2))))","v":-0.27195392300411453},null,{"$f":"N14","v":1222},{"$f":"COUNTIF(L35:L63,Y14)","v":1},{"$f":"Z14/(AB4-Z20)","v":3.4482758620689655E-2},{"$f":"IF(AA14=0,0,(AA14*((LOG(AA14))/LOG(2))))","v":-0.16751658603888178},null,{"$f":"N14","v":1222},{"$f":"COUNTIF(L64:L91,AD14)","v":1},{"$f":"AE14/(AG4-AE20)","v":3.5714285714285712E-2},{"$f":"IF(AF14=0,0,(AF14*((LOG(AF14))/LOG(2))))","v":-0.17169124721634299},null,{"$f":"N14","v":1222},{"$f":"COUNTIF(L92:L119,AI14)","v":0},{"$f":"AJ14/(AL4-AJ20)","v":0},{"$f":"IF(AK14=0,0,(AK14*((LOG(AK14))/LOG(2))))","v":0},null,{"$f":"N14","v":1222},{"$f":"COUNTIF(L120:L148,AN14)","v":0},{"$f":"AO14/(AQ4-AO20)","v":0},{"$f":"IF(AP14=0,0,(AP14*((LOG(AP14))/LOG(2))))","v":0},null,{"$f":"N14","v":1222},{"$f":"COUNTIF(L149:L176,AS14)","v":0},{"$f":"AT14/(AV4-AT20)","v":0},{"$f":"IF(AU14=0,0,(AU14*((LOG(AU14))/LOG(2))))","v":0}]
[21,1213,12,1231,13,1241,23,1254,null,null,0,2112,null,2111,{"$f":"COUNTIF($L$7:$L$500,N15)","v":32},{"$f":"O15/$Q$4","v":0.18823529411764706},{"$f":"IF(P15=0,0,(P15*((LOG(P15))/LOG(2))))","v":-0.45353241150827328},null,null,{"$f":"N15","v":2111},{"$f":"COUNTIF(L7:L34,T15)","v":1},{"$f":"U15/(W4-U20)","v":3.5714285714285712E-2},{"$f":"IF(V15=0,0,(V15*((LOG(V15))/LOG(2))))","v":-0.17169124721634299},null,{"$f":"N15","v":2111},{"$f":"COUNTIF(L35:L63,Y15)","v":2},{"$f":"Z15/(AB4-Z20)","v":6.8965517241379309E-2},{"$f":"IF(AA15=0,0,(AA15*((LOG(AA15))/LOG(2))))","v":-0.26606765483638428},null,{"$f":"N15","v":2111},{"$f":"COUNTIF(L64:L91,AD15)","v":5},{"$f":"AE15/(AG4-AE20)","v":0.17857142857142858},{"$f":"IF(AF15=0,0,(AF15*((LOG(AF15))/LOG(2))))","v":-0.44382621913754317},null,{"$f":"N15","v":2111},{"$f":"COUNTIF(L92:L119,AI15)","v":4},{"$f":"AJ15/(AL4-AJ20)","v":0.14285714285714285},{"$f":"IF(AK15=0,0,(AK15*((LOG(AK15))/LOG(2))))","v":-0.40105070315108626},null,{"$f":"N15","v":2111},{"$f":"COUNTIF(L120:L148,AN15)","v":11},{"$f":"AO15/(AQ4-AO20)","v":0.37931034482758619},{"$f":"IF(AP15=0,0,(AP15*((LOG(AP15))/LOG(2))))","v":-0.53048424625493174},null,{"$f":"N15","v":2111},{"$f":"COUNTIF(L149:L176,AS15)","v":9},{"$f":"AT15/(AV4-AT20)","v":0.32142857142857145},{"$f":"IF(AU15=0,0,(AU15*((LOG(AU15))/LOG(2))))","v":-0.5263167601977724}]
[21,1366,12,1379,24,1389,23,1394,null,null,0,2122,null,2112,{"$f":"COUNTIF($L$7:$L$500,N16)","v":16},{"$f":"O16/$Q$4","v":9.4117647058823528E-2},{"$f":"IF(P16=0,0,(P16*((LOG(P16))/LOG(2))))","v":-0.32088385281296017},null,null,{"$f":"N16","v":2112},{"$f":"COUNTIF(L7:L34,T16)","v":4},{"$f":"U16/(W4-U20)","v":0.14285714285714285},{"$f":"IF(V16=0,0,(V16*((LOG(V16))/LOG(2))))","v":-0.40105070315108626},null,{"$f":"N16","v":2112},{"$f":"COUNTIF(L35:L63,Y16)","v":3},{"$f":"Z16/(AB4-Z20)","v":0.10344827586206896},{"$f":"IF(AA16=0,0,(AA16*((LOG(AA16))/LOG(2))))","v":-0.33858812011100858},null,{"$f":"N16","v":2112},{"$f":"COUNTIF(L64:L91,AD16)","v":2},{"$f":"AE16/(AG4-AE20)","v":7.1428571428571425E-2},{"$f":"IF(AF16=0,0,(AF16*((LOG(AF16))/LOG(2))))","v":-0.27195392300411453},null,{"$f":"N16","v":2112},{"$f":"COUNTIF(L92:L119,AI16)","v":4},{"$f":"AJ16/(AL4-AJ20)","v":0.14285714285714285},{"$f":"IF(AK16=0,0,(AK16*((LOG(AK16))/LOG(2))))","v":-0.40105070315108626},null,{"$f":"N16","v":2112},{"$f":"COUNTIF(L120:L148,AN16)","v":0},{"$f":"AO16/(AQ4-AO20)","v":0},{"$f":"IF(AP16=0,0,(AP16*((LOG(AP16))/LOG(2))))","v":0},null,{"$f":"N16","v":2112},{"$f":"COUNTIF(L149:L176,AS16)","v":3},{"$f":"AT16/(AV4-AT20)","v":0.10714285714285714},{"$f":"IF(AU16=0,0,(AU16*((LOG(AU16))/LOG(2))))","v":-0.34525633085747659}]
[12,1502,14,1529,24,1541,23,1548,null,null,0,1122,null,2121,{"$f":"COUNTIF($L$7:$L$500,N17)","v":1},{"$f":"O17/$Q$4","v":5.8823529411764705E-3},{"$f":"IF(P17=0,0,(P17*((LOG(P17))/LOG(2))))","v":-4.35846525655159E-2},null,null,{"$f":"N17","v":2121},{"$f":"COUNTIF(L7:L34,T17)","v":0},{"$f":"U17/(W4-U20)","v":0},{"$f":"IF(V17=0,0,(V17*((LOG(V17))/LOG(2))))","v":0},null,{"$f":"N17","v":2121},{"$f":"COUNTIF(L35:L63,Y17)","v":0},{"$f":"Z17/(AB4-Z20)","v":0},{"$f":"IF(AA17=0,0,(AA17*((LOG(AA17))/LOG(2))))","v":0},null,{"$f":"N17","v":2121},{"$f":"COUNTIF(L64:L91,AD17)","v":1},{"$f":"AE17/(AG4-AE20)","v":3.5714285714285712E-2},{"$f":"IF(AF17=0,0,(AF17*((LOG(AF17))/LOG(2))))","v":-0.17169124721634299},null,{"$f":"N17","v":2121},{"$f":"COUNTIF(L92:L119,AI17)","v":0},{"$f":"AJ17/(AL4-AJ20)","v":0},{"$f":"IF(AK17=0,0,(AK17*((LOG(AK17))/LOG(2))))","v":0},null,{"$f":"N17","v":2121},{"$f":"COUNTIF(L120:L148,AN17)","v":0},{"$f":"AO17/(AQ4-AO20)","v":0},{"$f":"IF(AP17=0,0,(AP17*((LOG(AP17))/LOG(2))))","v":0},null,{"$f":"N17","v":2121},{"$f":"COUNTIF(L149:L176,AS17)","v":0},{"$f":"AT17/(AV4-AT20)","v":0},{"$f":"IF(AU17=0,0,(AU17*((LOG(AU17))/LOG(2))))","v":0}]
[12,1647,14,1663,24,1673,14,1684,null,null,0,1121,null,2122,{"$f":"COUNTIF($L$7:$L$500,N18)","v":9},{"$f":"O18/$Q$4","v":5.2941176470588235E-2},{"$f":"IF(P18=0,0,(P18*((LOG(P18))/LOG(2))))","v":-0.22444231418975591},null,null,{"$f":"N18","v":2122},{"$f":"COUNTIF(L7:L34,T18)","v":4},{"$f":"U18/(W4-U20)","v":0.14285714285714285},{"$f":"IF(V18=0,0,(V18*((LOG(V18))/LOG(2))))","v":-0.40105070315108626},null,{"$f":"N18","v":2122},{"$f":"COUNTIF(L35:L63,Y18)","v":2},{"$f":"Z18/(AB4-Z20)","v":6.8965517241379309E-2},{"$f":"IF(AA18=0,0,(AA18*((LOG(AA18))/LOG(2))))","v":-0.26606765483638428},null,{"$f":"N18","v":2122},{"$f":"COUNTIF(L64:L91,AD18)","v":2},{"$f":"AE18/(AG4-AE20)","v":7.1428571428571425E-2},{"$f":"IF(AF18=0,0,(AF18*((LOG(AF18))/LOG(2))))","v":-0.27195392300411453},null,{"$f":"N18","v":2122},{"$f":"COUNTIF(L92:L119,AI18)","v":0},{"$f":"AJ18/(AL4-AJ20)","v":0},{"$f":"IF(AK18=0,0,(AK18*((LOG(AK18))/LOG(2))))","v":0},null,{"$f":"N18","v":2122},{"$f":"COUNTIF(L120:L148,AN18)","v":1},{"$f":"AO18/(AQ4-AO20)","v":3.4482758620689655E-2},{"$f":"IF(AP18=0,0,(AP18*((LOG(AP18))/LOG(2))))","v":-0.16751658603888178},null,{"$f":"N18","v":2122},{"$f":"COUNTIF(L149:L176,AS18)","v":0},{"$f":"AT18/(AV4-AT20)","v":0},{"$f":"IF(AU18=0,0,(AU18*((LOG(AU18))/LOG(2))))","v":0}]
[21,1801,12,1810,13,1818,23,1828,null,null,0,2112,null,2211,{"$f":"COUNTIF($L$7:$L$500,N19)","v":11},{"$f":"O19/$Q$4","v":6.4705882352941183E-2},{"$f":"IF(P19=0,0,(P19*((LOG(P19))/LOG(2))))","v":-0.25558560289708498},null,null,{"$f":"N19","v":2211},{"$f":"COUNTIF(L7:L34,T19)","v":1},{"$f":"U19/(W4-U20)","v":3.5714285714285712E-2},{"$f":"IF(V19=0,0,(V19*((LOG(V19))/LOG(2))))","v":-0.17169124721634299},null,{"$f":"N19","v":2211},{"$f":"COUNTIF(L35:L63,Y19)","v":0},{"$f":"Z19/(AB4-Z20)","v":0},{"$f":"IF(AA19=0,0,(AA19*((LOG(AA19))/LOG(2))))","v":0},null,{"$f":"N19","v":2211},{"$f":"COUNTIF(L64:L91,AD19)","v":1},{"$f":"AE19/(AG4-AE20)","v":3.5714285714285712E-2},{"$f":"IF(AF19=0,0,(AF19*((LOG(AF19))/LOG(2))))","v":-0.17169124721634299},null,{"$f":"N19","v":2211},{"$f":"COUNTIF(L92:L119,AI19)","v":0},{"$f":"AJ19/(AL4-AJ20)","v":0},{"$f":"IF(AK19=0,0,(AK19*((LOG(AK19))/LOG(2))))","v":0},null,{"$f":"N19","v":2211},{"$f":"COUNTIF(L120:L148,AN19)","v":5},{"$f":"AO19/(AQ4-AO20)","v":0.17241379310344829},{"$f":"IF(AP19=0,0,(AP19*((LOG(AP19))/LOG(2))))","v":-0.43725050004141547},null,{"$f":"N19","v":2211},{"$f":"COUNTIF(L149:L176,AS19)","v":4},{"$f":"AT19/(AV4-AT20)","v":0.14285714285714285},{"$f":"IF(AU19=0,0,(AU19*((LOG(AU19))/LOG(2))))","v":-0.40105070315108626}]
[12,1939,14,1952,13,1957,14,1966,null,null,0,1111,null,2212,{"$f":"COUNTIF($L$7:$L$500,N20)","v":0},{"$f":"O20/$Q$4","v":0},{"$f":"IF(P20=0,0,(P20*((LOG(P20))/LOG(2))))","v":0},null,null,{"$f":"N20","v":2212},{"$f":"COUNTIF(L7:L34,T20)","v":0},null,null,null,{"$f":"N20","v":2212},{"$f":"COUNTIF(L35:L63,Y20)","v":0},null,null,null,{"$f":"N20","v":2212},{"$f":"COUNTIF(L64:L91,AD20)","v":0},null,null,null,{"$f":"N20","v":2212},{"$f":"COUNTIF(L92:L119,AI20)","v":0},null,null,null,{"$f":"N20","v":2212},{"$f":"COUNTIF(L120:L148,AN20)","v":0},null,null,null,{"$f":"N20","v":2212},{"$f":"COUNTIF(L149:L176,AS20)","v":0}]
[21,2085,12,2096,13,2100,23,2110,null,null,0,2112,null,2221,{"$f":"COUNTIF($L$7:$L$500,N21)","v":2},{"$f":"O21/$Q$4","v":1.1764705882352941E-2},{"$f":"IF(P21=0,0,(P21*((LOG(P21))/LOG(2))))","v":-7.5404599248678844E-2},null,null,{"$f":"N21","v":2221},{"$f":"COUNTIF(L7:L34,T21)","v":0},{"$f":"U21/(W4-U20)","v":0},{"$f":"IF(V21=0,0,(V21*((LOG(V21))/LOG(2))))","v":0},null,{"$f":"N21","v":2221},{"$f":"COUNTIF(L35:L63,Y21)","v":0},{"$f":"Z21/(AB4-Z20)","v":0},{"$f":"IF(AA21=0,0,(AA21*((LOG(AA21))/LOG(2))))","v":0},null,{"$f":"N21","v":2221},{"$f":"COUNTIF(L64:L91,AD21)","v":0},{"$f":"AE21/(AG4-AE20)","v":0},{"$f":"IF(AF21=0,0,(AF21*((LOG(AF21))/LOG(2))))","v":0},null,{"$f":"N21","v":2221},{"$f":"COUNTIF(L92:L119,AI21)","v":0},{"$f":"AJ21/(AL4-AJ20)","v":0},{"$f":"IF(AK21=0,0,(AK21*((LOG(AK21))/LOG(2))))","v":0},null,{"$f":"N21","v":2221},{"$f":"COUNTIF(L120:L148,AN21)","v":0},{"$f":"AO21/(AQ4-AO20)","v":0},{"$f":"IF(AP21=0,0,(AP21*((LOG(AP21))/LOG(2))))","v":0},null,{"$f":"N21","v":2221},{"$f":"COUNTIF(L149:L176,AS21)","v":2},{"$f":"AT21/(AV4-AT20)","v":7.1428571428571425E-2},{"$f":"IF(AU21=0,0,(AU21*((LOG(AU21))/LOG(2))))","v":-0.27195392300411453}]
[12,2228,14,2236,13,2241,23,2250,null,null,0,1112,null,2222,{"$f":"COUNTIF($L$7:$L$500,N22)","v":4},{"$f":"O22/$Q$4","v":2.3529411764705882E-2},{"$f":"IF(P22=0,0,(P22*((LOG(P22))/LOG(2))))","v":-0.12727978673265181},null,null,{"$f":"N22","v":2222},{"$f":"COUNTIF(L7:L34,T22)","v":0},{"$f":"U22/(W4-U20)","v":0},{"$f":"IF(V22=0,0,(V22*((LOG(V22))/LOG(2))))","v":0},null,{"$f":"N22","v":2222},{"$f":"COUNTIF(L35:L63,Y22)","v":0},{"$f":"Z22/(AB4-Z20)","v":0},{"$f":"IF(AA22=0,0,(AA22*((LOG(AA22))/LOG(2))))","v":0},null,{"$f":"N22","v":2222},{"$f":"COUNTIF(L64:L91,AD22)","v":0},{"$f":"AE22/(AG4-AE20)","v":0},{"$f":"IF(AF22=0,0,(AF22*((LOG(AF22))/LOG(2))))","v":0},null,{"$f":"N22","v":2222},{"$f":"COUNTIF(L92:L119,AI22)","v":0},{"$f":"AJ22/(AL4-AJ20)","v":0},{"$f":"IF(AK22=0,0,(AK22*((LOG(AK22))/LOG(2))))","v":0},null,{"$f":"N22","v":2222},{"$f":"COUNTIF(L120:L148,AN22)","v":1},{"$f":"AO22/(AQ4-AO20)","v":3.4482758620689655E-2},{"$f":"IF(AP22=0,0,(AP22*((LOG(AP22))/LOG(2))))","v":-0.16751658603888178},null,{"$f":"N22","v":2222},{"$f":"COUNTIF(L149:L176,AS22)","v":3},{"$f":"AT22/(AV4-AT20)","v":0.10714285714285714},{"$f":"IF(AU22=0,0,(AU22*((LOG(AU22))/LOG(2))))","v":-0.34525633085747659}]
[21,2353,12,2368,24,2377,23,2383,null,null,0,2122,null,null,null,{"$f":"SUM(P7:P22)","v":1},{"$f":"-SUM(Q7:Q22)","v":2.9977883593561785},null,null,null,null,{"$f":"SUM(V7:V22)","v":0.99999999999999989},{"$f":"-SUM(W7:W22)","v":3.0261298155959175},null,null,null,{"$f":"SUM(AA7:AA22)","v":1},{"$f":"-SUM(AB7:AB22)","v":2.2651034296134096},null,null,null,{"$f":"SUM(AF7:AF22)","v":0.99999999999999989},{"$f":"-SUM(AG7:AG22)","v":2.8936474604335358},null,null,null,{"$f":"SUM(AK7:AK22)","v":0.99999999999999978},{"$f":"-SUM(AL7:AL22)","v":1.9751060324573735},null,null,null,{"$f":"SUM(AP7:AP22)","v":0.99999999999999989},{"$f":"-SUM(AQ7:AQ22)","v":2.3038513318167522},null,null,null,{"$f":"SUM(AU7:AU22)","v":0.99999999999999989},{"$f":"-SUM(AV7:AV22)","v":2.7345299214394698}]
[21,2500,12,2510,24,2522,23,2526,null,null,0,2122,null,null,null,"U=",{"$f":"Q23/(LOG(Q4)/LOG(2))","v":0.40459308804116595},null,null,null,null,"U1=",{"$f":"W23/(LOG(W4)/LOG(2))","v":0.62947917610807458},null,null,null,"U2=",{"$f":"AB23/(LOG(AB4)/LOG(2))","v":0.46626436618118705},null,null,null,"U3=",{"$f":"AG23/(LOG(AG4)/LOG(2))","v":0.60192091229973532},null,null,null,"U4=",{"$f":"AL23/(LOG(AL4)/LOG(2))","v":0.41085088671006742},null,null,null,"U5=",{"$f":"AQ23/(LOG(AQ4)/LOG(2))","v":0.47424049911423183},null,null,null,"U6=",{"$f":"AV23/(LOG(AV4)/LOG(2))","v":0.56882214144260834}]
[12,2632,14,2639,13,2647,14,2657,null,null,0,1111]
[12,2783,14,2790,24,2801,23,2809,null,null,0,1122]
[12,2931,14,2939,13,2947,14,2953,null,null,0,1111,null,"Total Target Seq"]
[21,3076,12,3086,13,3091,14,3096,null,null,0,2111,null,{"$f":"COUNTIF(L7:L176,G3)","v":0},null,28,29,28,28,29,28]
[12,3199,14,3204,24,3212,23,3220,null,null,0,1122,null,null,null,"% of reinforcement given in 6 equal intervals based on number of trials "]
[12,3330,14,3335,13,3342,14,3348,null,null,0,1111,null,null,null,"%_1","%_2","%_3","%_4","%_5","%_6"]
[12,3461,14,3468,24,3482,23,3497,null,null,0,1122,null,null,"target sequence",{"$f":"$G$3","v":2212},{"$f":"$G$3","v":2212},{"$f":"$G$3","v":2212},{"$f":"$G$3","v":2212},{"$f":"$G$3","v":2212},{"$f":"$G$3","v":2212}]
[21,3598,12,3609,13,3614,23,3623,null,null,0,2112,null,null,"total reinforcement",{"$f":"U20","v":0},{"$f":"Z20","v":0},{"$f":"AE20","v":0},{"$f":"AJ20","v":0},{"$f":"AO20","v":0},{"$f":"AT20","v":0}]
[12,3726,14,3733,13,3737,14,3742,null,null,0,1111,null,null,"% target"]
[12,3877,14,3881,13,3886,23,3900,null,null,0,1112,null,null,"CCRF"]
[12,4017,14,4022,13,4029,23,4043,null,null,0,1112,null,null,"% CCRf"]
[12,4164,14,4169,13,4175,23,4187,null,null,0,1112,null,null,"average response rate",{"$f":"H34/P28","v":139.28571428571428},{"$f":"(H63-H34)/Q28","v":137.27586206896552},{"$f":"(H91-H63)/R28","v":137.75},{"$f":"(H119-H91)/S28","v":138.64285714285714},{"$f":"(H148-H119)/T28","v":143.10344827586206},{"$f":"(H176-H148)/U28","v":149.96428571428572}]
[12,4305,14,4309,13,4317,14,4327,null,null,0,1111]
[21,4442,12,4451,13,4459,23,4472,null,null,0,2112]
[12,4591,14,4595,13,4599,14,4608,null,null,0,1111]
[12,4706,14,4723,13,4730,23,4742,null,null,0,1112]
[12,4850,14,4857,13,4865,23,4878,null,null,0,1112]
[12,5005,14,5009,13,5014,14,5022,null,null,0,1111]
[12,5134,14,5138,13,5142,14,5147,null,null,0,1111]
[21,5250,12,5260,13,5265,14,5270,null,null,0,2111]
[12,5387,14,5391,13,5396,14,5403,null,null,0,1111]
[12,5511,14,5515,13,5520,23,5533,null,null,0,1112]
[12,5647,14,5651,13,5655,14,5660,null,null,0,1111]
[12,5760,14,5776,13,5782,23,5794,null,null,0,1112]
[12,5912,14,5922,13,5927,23,5939,null,null,0,1112]
[12,6045,14,6050,13,6054,23,6063,null,null,0,1112]
[21,6191,12,6200,13,6205,23,6217,null,null,0,2112]
[12,6330,14,6337,13,6342,23,6354,null,null,0,1112]
[12,6467,14,6481,13,6486,14,6493,null,null,0,1111]
[12,6593,14,6602,13,6606,14,6624,null,null,0,1111]
[21,6719,12,6731,24,6739,23,6743,null,null,0,2122]
[12,6843,14,6856,13,6858,14,6867,null,null,0,1111]
[12,6987,14,6992,13,6996,14,7004,null,null,0,1111]
[12,7136,14,7141,13,7145,23,7158,null,null,0,1112]
[21,7262,12,7271,13,7276,23,7289,null,null,0,2112]
[12,7426,14,7434,24,7446,23,7452,null,null,0,1122]
[21,7587,12,7598,24,7610,23,7616,null,null,0,2122]
[12,7727,23,7742,24,7747,23,7752,null,null,0,1222]
[21,7864,12,7872,13,7876,14,7881,null,null,0,2111]
[21,7986,12,8012,24,8023,23,8028,null,null,0,2122]
[12,8132,14,8147,24,8157,23,8161,null,null,0,1122]
[21,8261,12,8274,13,8292,14,8300,null,null,0,2111]
[21,8415,12,8423,13,8428,14,8432,null,null,0,2111]
[21,8529,12,8544,24,8553,14,8563,null,null,0,2121]
[12,8673,14,8679,13,8684,14,8691,null,null,0,1111]
[21,8811,12,8819,13,8823,14,8828,null,null,0,2111]
[12,8925,14,8940,24,8948,14,8956,null,null,0,1121]
[12,9087,14,9091,13,9096,14,9103,null,null,0,1111]
[12,9221,14,9235,13,9239,14,9244,null,null,0,1111]
[12,9363,23,9374,24,9382,23,9389,null,null,0,1222]
[21,9519,21,9529,11,9537,12,9542,null,null,0,2211]
[12,9661,14,9677,13,9682,23,9693,null,null,0,1112]
[12,9812,14,9818,13,9824,14,9835,null,null,0,1111]
[21,9932,12,9949,13,9954,23,9962,null,null,0,2112]
[12,10065,14,10069,13,10077,14,10082,null,null,0,1111]
[12,10189,23,10198,13,10206,14,10213,null,null,0,1211]
[12,10324,14,10330,24,10340,23,10347,null,null,0,1122]
[12,10452,14,10460,13,10465,14,10470,null,null,0,1111]
[12,10605,14,10610,24,10619,23,10623,null,null,0,1122]
[12,10734,14,10740,13,10745,14,10749,null,null,0,1111]
[21,10860,12,10876,24,10889,23,10894,null,null,0,2122]
[21,10993,12,11019,13,11025,14,11036,null,null,0,2111]
[12,11175,14,11179,13,11184,14,11188,null,null,0,1111]
[12,11301,14,11318,13,11323,14,11328,null,null,0,1111]
[12,11440,14,11447,13,11452,14,11459,null,null,0,1111]
[21,11564,12,11573,13,11583,14,11591,null,null,0,2111]
[21,11716,12,11724,13,11729,23,11738,null,null,0,2112]
[21,11868,12,11879,13,11883,23,11895,null,null,0,2112]
[21,12016,12,12026,13,12034,23,12046,null,null,0,2112]
[21,12165,12,12174,13,12178,14,12185,null,null,0,2111]
[12,12306,14,12310,13,12314,14,12321,null,null,0,1111]
[21,12452,12,12464,13,12469,14,12473,null,null,0,2111]
[12,12611,14,12615,24,12627,23,12631,null,null,0,1122]
[12,12740,14,12744,13,12748,14,12756,null,null,0,1111]
[21,12880,12,12891,13,12899,23,12911,null,null,0,2112]
[12,13032,14,13036,13,13040,14,13044,null,null,0,1111]
[12,13165,14,13170,13,13174,14,13178,null,null,0,1111]
[12,13292,14,13297,13,13301,14,13305,null,null,0,1111]
[21,13401,12,13411,13,13416,23,13427,null,null,0,2112]
[12,13548,14,13565,13,13573,23,13585,null,null,0,1112]
[12,13689,14,13694,13,13698,14,13702,null,null,0,1111]
[12,13811,14,13816,13,13820,23,13833,null,null,0,1112]
[12,13960,14,13965,13,13969,14,13973,null,null,0,1111]
[12,14101,14,14106,13,14111,23,14123,null,null,0,1112]
[12,14242,14,14246,13,14251,14,14255,null,null,0,1111]
[21,14362,12,14370,13,14374,14,14381,null,null,0,2111]
[12,14503,14,14507,13,14511,14,14515,null,null,0,1111]
[12,14635,14,14640,13,14644,14,14648,null,null,0,1111]
[12,14760,14,14764,13,14768,14,14772,null,null,0,1111]
[12,14897,14,14901,13,14905,14,14909,null,null,0,1111]
[21,15013,12,15021,13,15025,14,15029,null,null,0,2111]
[12,15136,14,15140,13,15144,14,15148,null,null,0,1111]
[12,15275,14,15282,24,15302,23,15309,null,null,0,1122]
[12,15427,14,15433,13,15441,23,15464,null,null,0,1112]
[12,15601,14,15610,13,15614,14,15620,null,null,0,1111]
[21,15743,12,15752,13,15757,14,15764,null,null,0,2111]
[21,15876,12,15886,13,15891,14,15895,null,null,0,2111]
[12,16017,14,16022,13,16026,23,16035,null,null,0,1112]
[21,16150,12,16159,24,16170,23,16174,null,null,0,2122]
[21,16279,12,16288,13,16292,14,16297,null,null,0,2111]
[12,16439,14,16449,13,16459,23,16474,null,null,0,1112]
[21,16609,12,16618,13,16622,14,16627,null,null,0,2111]
[12,16740,23,16762,13,16770,14,16775,null,null,0,1211]
[21,16903,12,16911,13,16916,14,16920,null,null,0,2111]
[21,17028,12,17040,13,17045,14,17049,null,null,0,2111]
[12,17150,14,17155,13,17162,14,17170,null,null,0,1111]
[12,17286,14,17290,13,17294,14,17298,null,null,0,1111]
[21,17420,12,17428,13,17433,14,17437,null,null,0,2111]
[12,17539,14,17546,13,17551,14,17556,null,null,0,1111]
[21,17661,21,17671,11,17679,12,17683,null,null,0,2211]
[12,17811,14,17815,13,17820,14,17824,null,null,0,1111]
[21,17937,12,17946,13,17953,14,17957,null,null,0,2111]
[12,18101,14,18106,13,18110,14,18118,null,null,0,1111]
[21,18241,21,18249,11,18257,12,18262,null,null,0,2211]
[21,18389,21,18399,11,18407,12,18411,null,null,0,2211]
[21,18529,12,18537,13,18541,14,18546,null,null,0,2111]
[21,18646,21,18658,22,18668,23,18673,null,null,0,2222]
[12,18790,14,18794,13,18798,14,18803,null,null,0,1111]
[21,18938,21,18943,11,18953,12,18958,null,null,0,2211]
[12,19149,14,19154,13,19164,23,19188,null,null,0,1112]
[21,19314,12,19322,13,19327,14,19331,null,null,0,2111]
[12,19462,14,19470,13,19477,14,19486,null,null,0,1111]
[21,19603,12,19614,13,19619,14,19624,null,null,0,2111]
[21,19733,21,19747,11,19766,12,19770,null,null,0,2211]
[21,19891,12,19904,13,19908,14,19916,null,null,0,2111]
[21,20031,12,20040,13,20045,14,20049,null,null,0,2111]
[21,20167,12,20181,13,20185,14,20190,null,null,0,2111]
[12,20292,23,20303,13,20314,14,20319,null,null,0,1211]
[21,20432,21,20442,11,20451,12,20456,null,null,0,2211]
[21,20574,12,20584,13,20588,23,20600,null,null,0,2112]
[21,20750,12,20762,13,20767,14,20776,null,null,0,2111]
[21,20893,12,20902,13,20906,14,20915,null,null,0,2111]
[12,21032,14,21037,13,21042,14,21046,null,null,0,1111]
[21,21154,12,21165,13,21170,14,21174,null,null,0,2111]
[21,21297,21,21306,22,21311,23,21315,null,null,0,2222]
[12,21443,14,21447,13,21451,23,21463,null,null,0,1112]
[21,21610,12,21623,13,21630,14,21639,null,null,0,2111]
[21,21771,21,21781,11,21793,12,21802,null,null,0,2211]
[21,21924,21,21932,11,21945,12,21953,null,null,0,2211]
[12,22163,14,22181,13,22194,23,22211,null,null,0,1112]
[12,22333,14,22338,13,22342,14,22347,null,null,0,1111]
[12,22483,14,22487,13,22492,14,22497,null,null,0,1111]
[21,22621,12,22630,13,22638,23,22651,null,null,0,2112]
[21,22756,12,22767,13,22773,23,22785,null,null,0,2112]
[21,22931,12,22943,13,22950,14,22958,null,null,0,2111]
[21,23061,12,23078,13,23082,14,23088,null,null,0,2111]
[21,23194,21,23213,22,23218,14,23230,null,null,0,2221]
[21,23332,21,23340,11,23358,12,23364,null,null,0,2211]
[21,23490,21,23495,22,23499,23,23505,null,null,0,2222]
[12,23642,14,23647,13,23655,14,23663,null,null,0,1111]
[21,23777,21,23782,22,23789,14,23810,null,null,0,2221]
[21,23927,21,23937,22,23962,23,23969,null,null,null,2222]

{"sheet":"!L806A20.053","index":12,"n_rows":158,"n_cols":48,"rows_kept":158,"cut":false,"hidden":false,"merged":[[4,39,4,42],[5,39,5,40],[4,44,4,47],[5,44,5,45],[4,24,4,27],[5,24,5,25],[4,29,4,32],[5,29,5,30],[4,34,4,37],[5,34,5,35],[1,1,1,2],[5,13,5,14],[26,13,26,14],[27,13,27,14],[4,19,4,22],[5,19,5,20]]}
["Report for:!L806A20.053"]
["Date:","<date>"]
["Hen:","<hen>",null,null,null,"Correct Sequence",{"$f":"Start!J2","v":2212},null,null,null,null,null,null,null,null,"Total Sequences in Data",{"$f":"4994-COUNTBLANK(L7:L5000)","v":152},null,null,null,null,"Total Sequences in Block Data",{"$f":"COUNTA(L7:L31)","v":25},null,null,null,"Total Sequences in Block Data",{"$f":"COUNTA(L32:L57)","v":26},null,null,null,"Total Sequences in Block Data",{"$f":"COUNTA(L58:L82)","v":25},null,null,null,"Total Sequences in Block Data",{"$f":"COUNTA(L83:L107)","v":25},null,null,null,"Total Sequences in Block Data",{"$f":"COUNTA(L108:L133)","v":26},null,null,null,"Total Sequences in Block Data",{"$f":"COUNTA(L134:L158)","v":25}]
[null,null,null,null,null,null,null,null,null,null,null,null,null,null,null,"Total Sequences in Summary",{"$f":"SUM(O7:O22)","v":152},null,null,null,null,"Total Sequences in Block Summary",{"$f":"SUM(U7:U22)","v":25},null,null,null,"Total Sequences in Block Summary",{"$f":"SUM(Z7:Z22)","v":26},null,null,null,"Total Sequences in Block Summary",{"$f":"SUM(AE7:AE22)","v":25},null,null,null,"Total Sequences in Block Summary",{"$f":"SUM(AJ7:AJ22)","v":25},null,null,null,"Total Sequences in Block Summary",{"$f":"SUM(AO7:AO22)","v":26},null,null,null,"Total Sequences in Block Summary",{"$f":"SUM(AT7:AT22)","v":25}]
[null,null,null,null,null,null,null,null,null,null,null,null,null,null,null,null,null,null,null,"Block 1",null,null,null,null,"Block 2",null,null,null,null,"Block 3",null,null,null,null,"Block 4",null,null,null,null,"Block 5",null,null,null,null,"Block 6"]
["Sequence\nComponent\n1","Time\n1","Sequence\nComponent\n2","Time\n2","Sequence\nComponent\n3","Time\n3","Sequence\nComponent\n4","Time\n4","Sequence\nComponent\n5","Time\n5","Correct?\n0=No 1=Yes","Sequence",null,"Frequency",null,"Relative Frequency","Variability",null,null,"Frequency",null,"Relative Frequency","Variability",null,"Frequency",null,"Relative Frequency","Variability",null,"Frequency",null,"Relative Frequency","Variability",null,"Frequency",null,"Relative Frequency","Variability",null,"Frequency",null,"Relative Frequency","Variability",null,"Frequency",null,"Relative Frequency","Variability"]
[12,75,14,83,13,91,23,109,null,null,0,1112,null,1111,{"$f":"COUNTIF($L$7:$L$500,N7)","v":50},{"$f":"O7/$Q$4","v":0.32894736842105265},{"$f":"IF(P7=0,0,(P7*((LOG(P7))/LOG(2))))","v":-0.52765504068054625},null,null,{"$f":"N7","v":1111},{"$f":"COUNTIF(L7:L31,T7)","v":10},{"$f":"U7/(W4-U20)","v":0.4},{"$f":"IF(V7=0,0,(V7*((LOG(V7))/LOG(2))))","v":-0.52877123795494496},null,{"$f":"N7","v":1111},{"$f":"COUNTIF(L32:L57,Y7)","v":9},{"$f":"Z7/(AB4-Z20)","v":0.34615384615384615},{"$f":"IF(AA7=0,0,(AA7*((LOG(AA7))/LOG(2))))","v":-0.52979355578034681},null,{"$f":"N7","v":1111},{"$f":"COUNTIF(L58:L82,AD7)","v":6},{"$f":"AE7/(AG4-AE20)","v":0.24},{"$f":"IF(AF7=0,0,(AF7*((LOG(AF7))/LOG(2))))","v":-0.49413448537285637},null,{"$f":"N7","v":1111},{"$f":"COUNTIF(L83:L107,AI7)","v":7},{"$f":"AJ7/(AL4-AJ20)","v":0.28000000000000003},{"$f":"IF(AK7=0,0,(AK7*((LOG(AK7))/LOG(2))))","v":-0.51422035496079388},null,{"$f":"N7","v":1111},{"$f":"COUNTIF(L108:L133,AN7)","v":8},{"$f":"AO7/(AQ4-AO20)","v":0.30769230769230771},{"$f":"IF(AP7=0,0,(AP7*((LOG(AP7))/LOG(2))))","v":-0.52321222096648989},null,{"$f":"N7","v":1111},{"$f":"COUNTIF(L134:L158,AS7)","v":10},{"$f":"AT7/(AV4-AT20)","v":0.4},{"$f":"IF(AU7=0,0,(AU7*((LOG(AU7))/LOG(2))))","v":-0.52877123795494496}]
[12,256,14,260,13,265,23,287,null,null,0,1112,null,1112,{"$f":"COUNTIF($L$7:$L$500,N8)","v":9},{"$f":"O8/$Q$4","v":5.921052631578947E-2},{"$f":"IF(P8=0,0,(P8*((LOG(P8))/LOG(2))))","v":-0.24146067505270694},null,null,{"$f":"N8","v":1112},{"$f":"COUNTIF(L7:L31,T8)","v":6},{"$f":"U8/(W4-U20)","v":0.24},{"$f":"IF(V8=0,0,(V8*((LOG(V8))/LOG(2))))","v":-0.49413448537285637},null,{"$f":"N8","v":1112},{"$f":"COUNTIF(L32:L57,Y8)","v":0},{"$f":"Z8/(AB4-Z20)","v":0},{"$f":"IF(AA8=0,0,(AA8*((LOG(AA8))/LOG(2))))","v":0},null,{"$f":"N8","v":1112},{"$f":"COUNTIF(L58:L82,AD8)","v":0},{"$f":"AE8/(AG4-AE20)","v":0},{"$f":"IF(AF8=0,0,(AF8*((LOG(AF8))/LOG(2))))","v":0},null,{"$f":"N8","v":1112},{"$f":"COUNTIF(L83:L107,AI8)","v":1},{"$f":"AJ8/(AL4-AJ20)","v":0.04},{"$f":"IF(AK8=0,0,(AK8*((LOG(AK8))/LOG(2))))","v":-0.18575424759098899},null,{"$f":"N8","v":1112},{"$f":"COUNTIF(L108:L133,AN8)","v":2},{"$f":"AO8/(AQ4-AO20)","v":7.6923076923076927E-2},{"$f":"IF(AP8=0,0,(AP8*((LOG(AP8))/LOG(2))))","v":-0.28464920908777636},null,{"$f":"N8","v":1112},{"$f":"COUNTIF(L134:L158,AS8)","v":0},{"$f":"AT8/(AV4-AT20)","v":0},{"$f":"IF(AU8=0,0,(AU8*((LOG(AU8))/LOG(2))))","v":0}]
[12,390,14,399,13,409,14,418,null,null,0,1111,null,1121,{"$f":"COUNTIF($L$7:$L$500,N9)","v":2},{"$f":"O9/$Q$4","v":1.3157894736842105E-2},{"$f":"IF(P9=0,0,(P9*((LOG(P9))/LOG(2))))","v":-8.2209572545310333E-2},null,null,{"$f":"N9","v":1121},{"$f":"COUNTIF(L7:L31,T9)","v":2},{"$f":"U9/(W4-U20)","v":0.08},{"$f":"IF(V9=0,0,(V9*((LOG(V9))/LOG(2))))","v":-0.29150849518197797},null,{"$f":"N9","v":1121},{"$f":"COUNTIF(L32:L57,Y9)","v":0},{"$f":"Z9/(AB4-Z20)","v":0},{"$f":"IF(AA9=0,0,(AA9*((LOG(AA9))/LOG(2))))","v":0},null,{"$f":"N9","v":1121},{"$f":"COUNTIF(L58:L82,AD9)","v":0},{"$f":"AE9/(AG4-AE20)","v":0},{"$f":"IF(AF9=0,0,(AF9*((LOG(AF9))/LOG(2))))","v":0},null,{"$f":"N9","v":1121},{"$f":"COUNTIF(L83:L107,AI9)","v":0},{"$f":"AJ9/(AL4-AJ20)","v":0},{"$f":"IF(AK9=0,0,(AK9*((LOG(AK9))/LOG(2))))","v":0},null,{"$f":"N9","v":1121},{"$f":"COUNTIF(L108:L133,AN9)","v":0},{"$f":"AO9/(AQ4-AO20)","v":0},{"$f":"IF(AP9=0,0,(AP9*((LOG(AP9))/LOG(2))))","v":0},null,{"$f":"N9","v":1121},{"$f":"COUNTIF(L134:L158,AS9)","v":0},{"$f":"AT9/(AV4-AT20)","v":0},{"$f":"IF(AU9=0,0,(AU9*((LOG(AU9))/LOG(2))))","v":0}]
[21,554,12,566,13,575,23,588,null,null,0,2112,null,1122,{"$f":"COUNTIF($L$7:$L$500,N10)","v":2},{"$f":"O10/$Q$4","v":1.3157894736842105E-2},{"$f":"IF(P10=0,0,(P10*((LOG(P10))/LOG(2))))","v":-8.2209572545310333E-2},null,null,{"$f":"N10","v":1122},{"$f":"COUNTIF(L7:L31,T10)","v":2},{"$f":"U10/(W4-U20)","v":0.08},{"$f":"IF(V10=0,0,(V10*((LOG(V10))/LOG(2))))","v":-0.29150849518197797},null,{"$f":"N10","v":1122},{"$f":"COUNTIF(L32:L57,Y10)","v":0},{"$f":"Z10/(AB4-Z20)","v":0},{"$f":"IF(AA10=0,0,(AA10*((LOG(AA10))/LOG(2))))","v":0},null,{"$f":"N10","v":1122},{"$f":"COUNTIF(L58:L82,AD10)","v":0},{"$f":"AE10/(AG4-AE20)","v":0},{"$f":"IF(AF10=0,0,(AF10*((LOG(AF10))/LOG(2))))","v":0},null,{"$f":"N10","v":1122},{"$f":"COUNTIF(L83:L107,AI10)","v":0},{"$f":"AJ10/(AL4-AJ20)","v":0},{"$f":"IF(AK10=0,0,(AK10*((LOG(AK10))/LOG(2))))","v":0},null,{"$f":"N10","v":1122},{"$f":"COUNTIF(L108:L133,AN10)","v":0},{"$f":"AO10/(AQ4-AO20)","v":0},{"$f":"IF(AP10=0,0,(AP10*((LOG(AP10))/LOG(2))))","v":0},null,{"$f":"N10","v":1122},{"$f":"COUNTIF(L134:L158,AS10)","v":0},{"$f":"AT10/(AV4-AT20)","v":0},{"$f":"IF(AU10=0,0,(AU10*((LOG(AU10))/LOG(2))))","v":0}]
[21,709,12,720,13,729,14,730,null,null,0,2111,null,1211,{"$f":"COUNTIF($L$7:$L$500,N11)","v":1},{"$f":"O11/$Q$4","v":6.5789473684210523E-3},{"$f":"IF(P11=0,0,(P11*((LOG(P11))/LOG(2))))","v":-4.7683733641076219E-2},null,null,{"$f":"N11","v":1211},{"$f":"COUNTIF(L7:L31,T11)","v":0},{"$f":"U11/(W4-U20)","v":0},{"$f":"IF(V11=0,0,(V11*((LOG(V11))/LOG(2))))","v":0},null,{"$f":"N11","v":1211},{"$f":"COUNTIF(L32:L57,Y11)","v":1},{"$f":"Z11/(AB4-Z20)","v":3.8461538461538464E-2},{"$f":"IF(AA11=0,0,(AA11*((LOG(AA11))/LOG(2))))","v":-0.18078614300542661},null,{"$f":"N11","v":1211},{"$f":"COUNTIF(L58:L82,AD11)","v":0},{"$f":"AE11/(AG4-AE20)","v":0},{"$f":"IF(AF11=0,0,(AF11*((LOG(AF11))/LOG(2))))","v":0},null,{"$f":"N11","v":1211},{"$f":"COUNTIF(L83:L107,AI11)","v":0},{"$f":"AJ11/(AL4-AJ20)","v":0},{"$f":"IF(AK11=0,0,(AK11*((LOG(AK11))/LOG(2))))","v":0},null,{"$f":"N11","v":1211},{"$f":"COUNTIF(L108:L133,AN11)","v":0},{"$f":"AO11/(AQ4-AO20)","v":0},{"$f":"IF(AP11=0,0,(AP11*((LOG(AP11))/LOG(2))))","v":0},null,{"$f":"N11","v":1211},{"$f":"COUNTIF(L134:L158,AS11)","v":0},{"$f":"AT11/(AV4-AT20)","v":0},{"$f":"IF(AU11=0,0,(AU11*((LOG(AU11))/LOG(2))))","v":0}]
[12,833,14,837,24,852,14,865,null,null,0,1121,null,1212,{"$f":"COUNTIF($L$7:$L$500,N12)","v":0},{"$f":"O12/$Q$4","v":0},{"$f":"IF(P12=0,0,(P12*((LOG(P12))/LOG(2))))","v":0},null,null,{"$f":"N12","v":1212},{"$f":"COUNTIF(L7:L31,T12)","v":0},{"$f":"U12/(W4-U20)","v":0},{"$f":"IF(V12=0,0,(V12*((LOG(V12))/LOG(2))))","v":0},null,{"$f":"N12","v":1212},{"$f":"COUNTIF(L32:L57,Y12)","v":0},{"$f":"Z12/(AB4-Z20)","v":0},{"$f":"IF(AA12=0,0,(AA12*((LOG(AA12))/LOG(2))))","v":0},null,{"$f":"N12","v":1212},{"$f":"COUNTIF(L58:L82,AD12)","v":0},{"$f":"AE12/(AG4-AE20)","v":0},{"$f":"IF(AF12=0,0,(AF12*((LOG(AF12))/LOG(2))))","v":0},null,{"$f":"N12","v":1212},{"$f":"COUNTIF(L83:L107,AI12)","v":0},{"$f":"AJ12/(AL4-AJ20)","v":0},{"$f":"IF(AK12=0,0,(AK12*((LOG(AK12))/LOG(2))))","v":0},null,{"$f":"N12","v":1212},{"$f":"COUNTIF(L108:L133,AN12)","v":0},{"$f":"AO12/(AQ4-AO20)","v":0},{"$f":"IF(AP12=0,0,(AP12*((LOG(AP12))/LOG(2))))","v":0},null,{"$f":"N12","v":1212},{"$f":"COUNTIF(L134:L158,AS12)","v":0},{"$f":"AT12/(AV4-AT20)","v":0},{"$f":"IF(AU12=0,0,(AU12*((LOG(AU12))/LOG(2))))","v":0}]
[21,995,12,1013,13,1021,14,1028,null,null,0,2111,null,1221,{"$f":"COUNTIF($L$7:$L$500,N13)","v":0},{"$f":"O13/$Q$4","v":0},{"$f":"IF(P13=0,0,(P13*((LOG(P13))/LOG(2))))","v":0},null,null,{"$f":"N13","v":1221},{"$f":"COUNTIF(L7:L31,T13)","v":0},{"$f":"U13/(W4-U20)","v":0},{"$f":"IF(V13=0,0,(V13*((LOG(V13))/LOG(2))))","v":0},null,{"$f":"N13","v":1221},{"$f":"COUNTIF(L32:L57,Y13)","v":0},{"$f":"Z13/(AB4-Z20)","v":0},{"$f":"IF(AA13=0,0,(AA13*((LOG(AA13))/LOG(2))))","v":0},null,{"$f":"N13","v":1221},{"$f":"COUNTIF(L58:L82,AD13)","v":0},{"$f":"AE13/(AG4-AE20)","v":0},{"$f":"IF(AF13=0,0,(AF13*((LOG(AF13))/LOG(2))))","v":0},null,{"$f":"N13","v":1221},{"$f":"COUNTIF(L83:L107,AI13)","v":0},{"$f":"AJ13/(AL4-AJ20)","v":0},{"$f":"IF(AK13=0,0,(AK13*((LOG(AK13))/LOG(2))))","v":0},null,{"$f":"N13","v":1221},{"$f":"COUNTIF(L108:L133,AN13)","v":0},{"$f":"AO13/(AQ4-AO20)","v":0},{"$f":"IF(AP13=0,0,(AP13*((LOG(AP13))/LOG(2))))","v":0},null,{"$f":"N13","v":1221},{"$f":"COUNTIF(L134:L158,AS13)","v":0},{"$f":"AT13/(AV4-AT20)","v":0},{"$f":"IF(AU13=0,0,(AU13*((LOG(AU13))/LOG(2))))","v":0}]
[12,1128,14,1137,13,1145,23,1160,null,null,0,1112,null,1222,{"$f":"COUNTIF($L$7:$L$500,N14)","v":6},{"$f":"O14/$Q$4","v":3.9473684210526314E-2},{"$f":"IF(P14=0,0,(P14*((LOG(P14))/LOG(2))))","v":-0.184064408396938},null,null,{"$f":"N14","v":1222},{"$f":"COUNTIF(L7:L31,T14)","v":2},{"$f":"U14/(W4-U20)","v":0.08},{"$f":"IF(V14=0,0,(V14*((LOG(V14))/LOG(2))))","v":-0.29150849518197797},null,{"$f":"N14","v":1222},{"$f":"COUNTIF(L32:L57,Y14)","v":1},{"$f":"Z14/(AB4-Z20)","v":3.8461538461538464E-2},{"$f":"IF(AA14=0,0,(AA14*((LOG(AA14))/LOG(2))))","v":-0.18078614300542661},null,{"$f":"N14","v":1222},{"$f":"COUNTIF(L58:L82,AD14)","v":1},{"$f":"AE14/(AG4-AE20)","v":0.04},{"$f":"IF(AF14=0,0,(AF14*((LOG(AF14))/LOG(2))))","v":-0.18575424759098899},null,{"$f":"N14","v":1222},{"$f":"COUNTIF(L83:L107,AI14)","v":0},{"$f":"AJ14/(AL4-AJ20)","v":0},{"$f":"IF(AK14=0,0,(AK14*((LOG(AK14))/LOG(2))))","v":0},null,{"$f":"N14","v":1222},{"$f":"COUNTIF(L108:L133,AN14)","v":2},{"$f":"AO14/(AQ4-AO20)","v":7.6923076923076927E-2},{"$f":"IF(AP14=0,0,(AP14*((LOG(AP14))/LOG(2))))","v":-0.28464920908777636},null,{"$f":"N14","v":1222},{"$f":"COUNTIF(L134:L158,AS14)","v":0},{"$f":"AT14/(AV4-AT20)","v":0},{"$f":"IF(AU14=0,0,(AU14*((LOG(AU14))/LOG(2))))","v":0}]
[12,1295,14,1302,13,1311,14,1320,null,null,0,1111,null,2111,{"$f":"COUNTIF($L$7:$L$500,N15)","v":65},{"$f":"O15/$Q$4","v":0.42763157894736842},{"$f":"IF(P15=0,0,(P15*((LOG(P15))/LOG(2))))","v":-0.52408802978278635},null,null,{"$f":"N15","v":2111},{"$f":"COUNTIF(L7:L31,T15)","v":2},{"$f":"U15/(W4-U20)","v":0.08},{"$f":"IF(V15=0,0,(V15*((LOG(V15))/LOG(2))))","v":-0.29150849518197797},null,{"$f":"N15","v":2111},{"$f":"COUNTIF(L32:L57,Y15)","v":9},{"$f":"Z15/(AB4-Z20)","v":0.34615384615384615},{"$f":"IF(AA15=0,0,(AA15*((LOG(AA15))/LOG(2))))","v":-0.52979355578034681},null,{"$f":"N15","v":2111},{"$f":"COUNTIF(L58:L82,AD15)","v":15},{"$f":"AE15/(AG4-AE20)","v":0.6},{"$f":"IF(AF15=0,0,(AF15*((LOG(AF15))/LOG(2))))","v":-0.44217935649972373},null,{"$f":"N15","v":2111},{"$f":"COUNTIF(L83:L107,AI15)","v":13},{"$f":"AJ15/(AL4-AJ20)","v":0.52},{"$f":"IF(AK15=0,0,(AK15*((LOG(AK15))/LOG(2))))","v":-0.49057656524948895},null,{"$f":"N15","v":2111},{"$f":"COUNTIF(L108:L133,AN15)","v":13},{"$f":"AO15/(AQ4-AO20)","v":0.5},{"$f":"IF(AP15=0,0,(AP15*((LOG(AP15))/LOG(2))))","v":-0.5},null,{"$f":"N15","v":2111},{"$f":"COUNTIF(L134:L158,AS15)","v":13},{"$f":"AT15/(AV4-AT20)","v":0.52},{"$f":"IF(AU15=0,0,(AU15*((LOG(AU15))/LOG(2))))","v":-0.49057656524948895}]
[12,1427,14,1432,13,1436,14,1444,null,null,0,1111,null,2112,{"$f":"COUNTIF($L$7:$L$500,N16)","v":3},{"$f":"O16/$Q$4","v":1.9736842105263157E-2},{"$f":"IF(P16=0,0,(P16*((LOG(P16))/LOG(2))))","v":-0.11176904630373216},null,null,{"$f":"N16","v":2112},{"$f":"COUNTIF(L7:L31,T16)","v":1},{"$f":"U16/(W4-U20)","v":0.04},{"$f":"IF(V16=0,0,(V16*((LOG(V16))/LOG(2))))","v":-0.18575424759098899},null,{"$f":"N16","v":2112},{"$f":"COUNTIF(L32:L57,Y16)","v":1},{"$f":"Z16/(AB4-Z20)","v":3.8461538461538464E-2},{"$f":"IF(AA16=0,0,(AA16*((LOG(AA16))/LOG(2))))","v":-0.18078614300542661},null,{"$f":"N16","v":2112},{"$f":"COUNTIF(L58:L82,AD16)","v":0},{"$f":"AE16/(AG4-AE20)","v":0},{"$f":"IF(AF16=0,0,(AF16*((LOG(AF16))/LOG(2))))","v":0},null,{"$f":"N16","v":2112},{"$f":"COUNTIF(L83:L107,AI16)","v":0},{"$f":"AJ16/(AL4-AJ20)","v":0},{"$f":"IF(AK16=0,0,(AK16*((LOG(AK16))/LOG(2))))","v":0},null,{"$f":"N16","v":2112},{"$f":"COUNTIF(L108:L133,AN16)","v":0},{"$f":"AO16/(AQ4-AO20)","v":0},{"$f":"IF(AP16=0,0,(AP16*((LOG(AP16))/LOG(2))))","v":0},null,{"$f":"N16","v":2112},{"$f":"COUNTIF(L134:L158,AS16)","v":1},{"$f":"AT16/(AV4-AT20)","v":0.04},{"$f":"IF(AU16=0,0,(AU16*((LOG(AU16))/LOG(2))))","v":-0.18575424759098899}]
[12,1565,14,1572,24,1586,23,1594,null,null,0,1122,null,2121,{"$f":"COUNTIF($L$7:$L$500,N17)","v":0},{"$f":"O17/$Q$4","v":0},{"$f":"IF(P17=0,0,(P17*((LOG(P17))/LOG(2))))","v":0},null,null,{"$f":"N17","v":2121},{"$f":"COUNTIF(L7:L31,T17)","v":0},{"$f":"U17/(W4-U20)","v":0},{"$f":"IF(V17=0,0,(V17*((LOG(V17))/LOG(2))))","v":0},null,{"$f":"N17","v":2121},{"$f":"COUNTIF(L32:L57,Y17)","v":0},{"$f":"Z17/(AB4-Z20)","v":0},{"$f":"IF(AA17=0,0,(AA17*((LOG(AA17))/LOG(2))))","v":0},null,{"$f":"N17","v":2121},{"$f":"COUNTIF(L58:L82,AD17)","v":0},{"$f":"AE17/(AG4-AE20)","v":0},{"$f":"IF(AF17=0,0,(AF17*((LOG(AF17))/LOG(2))))","v":0},null,{"$f":"N17","v":2121},{"$f":"COUNTIF(L83:L107,AI17)","v":0},{"$f":"AJ17/(AL4-AJ20)","v":0},{"$f":"IF(AK17=0,0,(AK17*((LOG(AK17))/LOG(2))))","v":0},null,{"$f":"N17","v":2121},{"$f":"COUNTIF(L108:L133,AN17)","v":0},{"$f":"AO17/(AQ4-AO20)","v":0},{"$f":"IF(AP17=0,0,(AP17*((LOG(AP17))/LOG(2))))","v":0},null,{"$f":"N17","v":2121},{"$f":"COUNTIF(L134:L158,AS17)","v":0},{"$f":"AT17/(AV4-AT20)","v":0},{"$f":"IF(AU17=0,0,(AU17*((LOG(AU17))/LOG(2))))","v":0}]
[12,1721,14,1728,13,1736,14,1749,null,null,0,1111,null,2122,{"$f":"COUNTIF($L$7:$L$500,N18)","v":1},{"$f":"O18/$Q$4","v":6.5789473684210523E-3},{"$f":"IF(P18=0,0,(P18*((LOG(P18))/LOG(2))))","v":-4.7683733641076219E-2},null,null,{"$f":"N18","v":2122},{"$f":"COUNTIF(L7:L31,T18)","v":0},{"$f":"U18/(W4-U20)","v":0},{"$f":"IF(V18=0,0,(V18*((LOG(V18))/LOG(2))))","v":0},null,{"$f":"N18","v":2122},{"$f":"COUNTIF(L32:L57,Y18)","v":1},{"$f":"Z18/(AB4-Z20)","v":3.8461538461538464E-2},{"$f":"IF(AA18=0,0,(AA18*((LOG(AA18))/LOG(2))))","v":-0.18078614300542661},null,{"$f":"N18","v":2122},{"$f":"COUNTIF(L58:L82,AD18)","v":0},{"$f":"AE18/(AG4-AE20)","v":0},{"$f":"IF(AF18=0,0,(AF18*((LOG(AF18))/LOG(2))))","v":0},null,{"$f":"N18","v":2122},{"$f":"COUNTIF(L83:L107,AI18)","v":0},{"$f":"AJ18/(AL4-AJ20)","v":0},{"$f":"IF(AK18=0,0,(AK18*((LOG(AK18))/LOG(2))))","v":0},null,{"$f":"N18","v":2122},{"$f":"COUNTIF(L108:L133,AN18)","v":0},{"$f":"AO18/(AQ4-AO20)","v":0},{"$f":"IF(AP18=0,0,(AP18*((LOG(AP18))/LOG(2))))","v":0},null,{"$f":"N18","v":2122},{"$f":"COUNTIF(L134:L158,AS18)","v":0},{"$f":"AT18/(AV4-AT20)","v":0},{"$f":"IF(AU18=0,0,(AU18*((LOG(AU18))/LOG(2))))","v":0}]
[12,1891,23,1900,24,1905,23,1912,null,null,0,1222,null,2211,{"$f":"COUNTIF($L$7:$L$500,N19)","v":11},{"$f":"O19/$Q$4","v":7.2368421052631582E-2},{"$f":"IF(P19=0,0,(P19*((LOG(P19))/LOG(2))))","v":-0.27416746607150771},null,null,{"$f":"N19","v":2211},{"$f":"COUNTIF(L7:L31,T19)","v":0},{"$f":"U19/(W4-U20)","v":0},{"$f":"IF(V19=0,0,(V19*((LOG(V19))/LOG(2))))","v":0},null,{"$f":"N19","v":2211},{"$f":"COUNTIF(L32:L57,Y19)","v":3},{"$f":"Z19/(AB4-Z20)","v":0.11538461538461539},{"$f":"IF(AA19=0,0,(AA19*((LOG(AA19))/LOG(2))))","v":-0.35947814047153104},null,{"$f":"N19","v":2211},{"$f":"COUNTIF(L58:L82,AD19)","v":2},{"$f":"AE19/(AG4-AE20)","v":0.08},{"$f":"IF(AF19=0,0,(AF19*((LOG(AF19))/LOG(2))))","v":-0.29150849518197797},null,{"$f":"N19","v":2211},{"$f":"COUNTIF(L83:L107,AI19)","v":4},{"$f":"AJ19/(AL4-AJ20)","v":0.16},{"$f":"IF(AK19=0,0,(AK19*((LOG(AK19))/LOG(2))))","v":-0.42301699036395596},null,{"$f":"N19","v":2211},{"$f":"COUNTIF(L108:L133,AN19)","v":1},{"$f":"AO19/(AQ4-AO20)","v":3.8461538461538464E-2},{"$f":"IF(AP19=0,0,(AP19*((LOG(AP19))/LOG(2))))","v":-0.18078614300542661},null,{"$f":"N19","v":2211},{"$f":"COUNTIF(L134:L158,AS19)","v":1},{"$f":"AT19/(AV4-AT20)","v":0.04},{"$f":"IF(AU19=0,0,(AU19*((LOG(AU19))/LOG(2))))","v":-0.18575424759098899}]
[12,2027,14,2032,24,2059,14,2072,null,null,0,1121,null,2212,{"$f":"COUNTIF($L$7:$L$500,N20)","v":0},{"$f":"O20/$Q$4","v":0},{"$f":"IF(P20=0,0,(P20*((LOG(P20))/LOG(2))))","v":0},null,null,{"$f":"N20","v":2212},{"$f":"COUNTIF(L7:L31,T20)","v":0},null,null,null,{"$f":"N20","v":2212},{"$f":"COUNTIF(L32:L57,Y20)","v":0},null,null,null,{"$f":"N20","v":2212},{"$f":"COUNTIF(L58:L82,AD20)","v":0},null,null,null,{"$f":"N20","v":2212},{"$f":"COUNTIF(L83:L107,AI20)","v":0},null,null,null,{"$f":"N20","v":2212},{"$f":"COUNTIF(L108:L133,AN20)","v":0},null,null,null,{"$f":"N20","v":2212},{"$f":"COUNTIF(L134:L158,AS20)","v":0}]
[12,2198,14,2203,13,2207,14,2215,null,null,0,1111,null,2221,{"$f":"COUNTIF($L$7:$L$500,N21)","v":2},{"$f":"O21/$Q$4","v":1.3157894736842105E-2},{"$f":"IF(P21=0,0,(P21*((LOG(P21))/LOG(2))))","v":-8.2209572545310333E-2},null,null,{"$f":"N21","v":2221},{"$f":"COUNTIF(L7:L31,T21)","v":0},{"$f":"U21/(W4-U20)","v":0},{"$f":"IF(V21=0,0,(V21*((LOG(V21))/LOG(2))))","v":0},null,{"$f":"N21","v":2221},{"$f":"COUNTIF(L32:L57,Y21)","v":1},{"$f":"Z21/(AB4-Z20)","v":3.8461538461538464E-2},{"$f":"IF(AA21=0,0,(AA21*((LOG(AA21))/LOG(2))))","v":-0.18078614300542661},null,{"$f":"N21","v":2221},{"$f":"COUNTIF(L58:L82,AD21)","v":1},{"$f":"AE21/(AG4-AE20)","v":0.04},{"$f":"IF(AF21=0,0,(AF21*((LOG(AF21))/LOG(2))))","v":-0.18575424759098899},null,{"$f":"N21","v":2221},{"$f":"COUNTIF(L83:L107,AI21)","v":0},{"$f":"AJ21/(AL4-AJ20)","v":0},{"$f":"IF(AK21=0,0,(AK21*((LOG(AK21))/LOG(2))))","v":0},null,{"$f":"N21","v":2221},{"$f":"COUNTIF(L108:L133,AN21)","v":0},{"$f":"AO21/(AQ4-AO20)","v":0},{"$f":"IF(AP21=0,0,(AP21*((LOG(AP21))/LOG(2))))","v":0},null,{"$f":"N21","v":2221},{"$f":"COUNTIF(L134:L158,AS21)","v":0},{"$f":"AT21/(AV4-AT20)","v":0},{"$f":"IF(AU21=0,0,(AU21*((LOG(AU21))/LOG(2))))","v":0}]
[12,2395,14,2399,13,2406,23,2419,null,null,0,1112,null,2222,{"$f":"COUNTIF($L$7:$L$500,N22)","v":0},{"$f":"O22/$Q$4","v":0},{"$f":"IF(P22=0,0,(P22*((LOG(P22))/LOG(2))))","v":0},null,null,{"$f":"N22","v":2222},{"$f":"COUNTIF(L7:L31,T22)","v":0},{"$f":"U22/(W4-U20)","v":0},{"$f":"IF(V22=0,0,(V22*((LOG(V22))/LOG(2))))","v":0},null,{"$f":"N22","v":2222},{"$f":"COUNTIF(L32:L57,Y22)","v":0},{"$f":"Z22/(AB4-Z20)","v":0},{"$f":"IF(AA22=0,0,(AA22*((LOG(AA22))/LOG(2))))","v":0},null,{"$f":"N22","v":2222},{"$f":"COUNTIF(L58:L82,AD22)","v":0},{"$f":"AE22/(AG4-AE20)","v":0},{"$f":"IF(AF22=0,0,(AF22*((LOG(AF22))/LOG(2))))","v":0},null,{"$f":"N22","v":2222},{"$f":"COUNTIF(L83:L107,AI22)","v":0},{"$f":"AJ22/(AL4-AJ20)","v":0},{"$f":"IF(AK22=0,0,(AK22*((LOG(AK22))/LOG(2))))","v":0},null,{"$f":"N22","v":2222},{"$f":"COUNTIF(L108:L133,AN22)","v":0},{"$f":"AO22/(AQ4-AO20)","v":0},{"$f":"IF(AP22=0,0,(AP22*((LOG(AP22))/LOG(2))))","v":0},null,{"$f":"N22","v":2222},{"$f":"COUNTIF(L134:L158,AS22)","v":0},{"$f":"AT22/(AV4-AT20)","v":0},{"$f":"IF(AU22=0,0,(AU22*((LOG(AU22))/LOG(2))))","v":0}]
[12,2539,14,2546,13,2554,23,2571,null,null,0,1112,null,null,null,{"$f":"SUM(P7:P22)","v":1},{"$f":"-SUM(Q7:Q22)","v":2.205200851206301},null,null,null,null,{"$f":"SUM(V7:V22)","v":0.99999999999999989},{"$f":"-SUM(W7:W22)","v":2.3746939516467021},null,null,null,{"$f":"SUM(AA7:AA22)","v":0.99999999999999989},{"$f":"-SUM(AB7:AB22)","v":2.3229959670593576},null,null,null,{"$f":"SUM(AF7:AF22)","v":0.99999999999999989},{"$f":"-SUM(AG7:AG22)","v":1.599330832236536},null,null,null,{"$f":"SUM(AK7:AK22)","v":1},{"$f":"-SUM(AL7:AL22)","v":1.6135681581652279},null,null,null,{"$f":"SUM(AP7:AP22)","v":1},{"$f":"-SUM(AQ7:AQ22)","v":1.7732967821474692},null,null,null,{"$f":"SUM(AU7:AU22)","v":1},{"$f":"-SUM(AV7:AV22)","v":1.3908562983864119}]
[12,2678,14,2683,13,2690,14,2694,null,null,0,1111,null,null,null,"U=",{"$f":"Q23/(LOG(Q4)/LOG(2))","v":0.30425260836508849},null,null,null,null,"U1=",{"$f":"W23/(LOG(W4)/LOG(2))","v":0.51136250878645295},null,null,null,"U2=",{"$f":"AB23/(LOG(AB4)/LOG(2))","v":0.49420822441225676},null,null,null,"U3=",{"$f":"AG23/(LOG(AG4)/LOG(2))","v":0.34439714902414326},null,null,null,"U4=",{"$f":"AL23/(LOG(AL4)/LOG(2))","v":0.34746299028771227},null,null,null,"U5=",{"$f":"AQ23/(LOG(AQ4)/LOG(2))","v":0.37726189218075207},null,null,null,"U6=",{"$f":"AV23/(LOG(AV4)/LOG(2))","v":0.29950460168187998}]
[12,2832,14,2837,13,2842,14,2847,null,null,0,1111]
[12,2995,14,2999,13,3004,14,3008,null,null,0,1111]
[12,3137,14,3144,13,3153,14,3158,null,null,0,1111,null,"Total Target Seq"]
[12,3274,14,3283,13,3289,14,3295,null,null,0,1111,null,{"$f":"COUNTIF(L7:L158,G3)","v":0},null,25,26,25,25,26,25]
[12,3414,14,3419,13,3427,23,3441,null,null,0,1112,null,null,null,"% of reinforcement given in 6 equal intervals based on number of trials "]
[12,3565,23,3578,24,3583,23,3592,null,null,0,1222,null,null,null,"%_1","%_2","%_3","%_4","%_5","%_6"]
[12,3740,14,3745,24,3754,23,3758,null,null,0,1122,null,null,"target sequence",{"$f":"$G$3","v":2212},{"$f":"$G$3","v":2212},{"$f":"$G$3","v":2212},{"$f":"$G$3","v":2212},{"$f":"$G$3","v":2212},{"$f":"$G$3","v":2212}]
[12,3913,23,3926,13,3938,14,3947,null,null,0,1211,null,null,"total reinforcement",{"$f":"U20","v":0},{"$f":"Z20","v":0},{"$f":"AE20","v":0},{"$f":"AJ20","v":0},{"$f":"AO20","v":0},{"$f":"AT20","v":0}]
[21,4088,12,4101,13,4106,23,4137,null,null,0,2112,null,null,"% target"]
[12,4262,14,4270,13,4275,14,4279,null,null,0,1111,null,null,"CCRF"]
[21,4396,12,4409,13,4417,14,4425,null,null,0,2111,null,null,"% CCRf"]
[12,4551,14,4555,13,4560,14,4568,null,null,0,1111,null,null,"average response rate",{"$f":"H31/P28","v":150.32},{"$f":"(H57-H31)/Q28","v":166.11538461538461},{"$f":"(H82-H57)/R28","v":157.16},{"$f":"(H107-H82)/S28","v":158.72},{"$f":"(H133-H107)/T28","v":159.46153846153845},{"$f":"(H158-H133)/U28","v":154.12}]
[12,4713,23,4729,24,4737,23,4745,null,null,0,1222]
[12,4900,14,4904,13,4911,14,4918,null,null,0,1111]
[21,5041,12,5055,13,5059,14,5063,null,null,0,2111]
[21,5194,12,5203,13,5207,14,5213,null,null,0,2111]
[21,5407,21,5417,11,5427,12,5431,null,null,0,2211]
[12,5652,14,5660,13,5665,14,5669,null,null,0,1111]
[12,5794,14,5799,13,5803,14,5808,null,null,0,1111]
[21,5972,21,5981,11,5990,12,5995,null,null,0,2211]
[21,6113,12,6132,13,6137,14,6141,null,null,0,2111]
[12,6303,14,6308,13,6312,14,6317,null,null,0,1111]
[12,6498,14,6503,13,6507,14,6512,null,null,0,1111]
[21,6627,12,6641,13,6645,14,6649,null,null,0,2111]
[21,6776,12,6786,13,6791,14,6795,null,null,0,2111]
[12,6939,14,6946,13,6950,14,6954,null,null,0,1111]
[21,7087,21,7096,11,7104,12,7109,null,null,0,2211]
[21,7225,21,7226,22,7247,14,7256,null,null,0,2221]
[21,7410,12,7429,13,7434,14,7441,null,null,0,2111]
[21,7585,12,7598,13,7606,14,7614,null,null,0,2111]
[21,7777,12,7787,13,7793,14,7798,null,null,0,2111]
[12,7931,14,7935,13,7939,14,7947,null,null,0,1111]
[21,8049,12,8061,24,8069,23,8077,null,null,0,2122]
[21,8210,12,8223,13,8227,14,8232,null,null,0,2111]
[21,8377,12,8387,13,8391,14,8396,null,null,0,2111]
[12,8511,14,8516,13,8524,14,8532,null,null,0,1111]
[21,8658,21,8667,11,8676,12,8681,null,null,0,2211]
[21,8796,21,8804,11,8813,12,8817,null,null,0,2211]
[12,9038,14,9043,13,9048,14,9052,null,null,0,1111]
[21,9168,12,9178,13,9182,14,9187,null,null,0,2111]
[21,9308,12,9318,13,9322,14,9326,null,null,0,2111]
[21,9447,21,9457,22,9464,14,9473,null,null,0,2221]
[21,9643,12,9654,13,9663,14,9671,null,null,0,2111]
[21,9822,12,9834,13,9839,14,9843,null,null,0,2111]
[21,9953,12,9964,13,9971,14,9975,null,null,0,2111]
[21,10134,12,10145,13,10149,14,10154,null,null,0,2111]
[12,10289,23,10299,24,10304,23,10312,null,null,0,1222]
[12,10451,14,10457,13,10464,14,10471,null,null,0,1111]
[12,10605,14,10610,13,10614,14,10618,null,null,0,1111]
[21,10770,12,10780,13,10785,14,10789,null,null,0,2111]
[12,10911,14,10916,13,10920,14,10925,null,null,0,1111]
[21,11041,12,11050,13,11054,14,11058,null,null,0,2111]
[12,11188,14,11196,13,11200,14,11205,null,null,0,1111]
[21,11335,12,11344,13,11349,14,11356,null,null,0,2111]
[21,11493,12,11502,13,11506,14,11511,null,null,0,2111]
[21,11665,12,11676,13,11680,14,11685,null,null,0,2111]
[21,11813,12,11822,13,11826,14,11833,null,null,0,2111]
[21,11982,12,11992,13,11999,14,12006,null,null,0,2111]
[21,12121,21,12123,11,12134,12,12141,null,null,0,2211]
[21,12272,12,12285,13,12290,14,12295,null,null,0,2111]
[21,12428,12,12437,13,12442,14,12446,null,null,0,2111]
[12,12549,14,12557,13,12562,23,12581,null,null,0,1112]
[21,12713,12,12723,13,12728,14,12736,null,null,0,2111]
[12,12857,14,12861,13,12866,14,12870,null,null,0,1111]
[21,12987,12,12998,13,13002,14,13006,null,null,0,2111]
[21,13134,12,13143,13,13147,14,13152,null,null,0,2111]
[12,13303,14,13307,13,13312,14,13319,null,null,0,1111]
[21,13465,21,13474,11,13491,12,13499,null,null,0,2211]
[21,13741,12,13759,13,13763,14,13770,null,null,0,2111]
[12,13911,14,13916,13,13920,14,13925,null,null,0,1111]
[21,14084,12,14093,13,14097,14,14101,null,null,0,2111]
[21,14225,12,14234,13,14239,14,14243,null,null,0,2111]
[21,14374,12,14383,13,14388,14,14392,null,null,0,2111]
[21,14512,21,14522,11,14531,12,14536,null,null,0,2211]
[12,14694,14,14701,13,14706,14,14713,null,null,0,1111]
[21,14866,21,14875,11,14887,12,14894,null,null,0,2211]
[21,15026,12,15037,13,15042,14,15046,null,null,0,2111]
[21,15183,12,15195,13,15199,14,15217,null,null,0,2111]
[21,15342,12,15354,13,15363,14,15371,null,null,0,2111]
[12,15478,14,15498,13,15503,14,15507,null,null,0,1111]
[21,15639,12,15648,13,15653,14,15657,null,null,0,2111]
[12,15790,14,15794,13,15800,14,15804,null,null,0,1111]
[12,15955,14,15961,13,15968,14,15974,null,null,0,1111]
[12,16073,14,16080,13,16084,23,16093,null,null,0,1112]
[12,16232,23,16244,24,16251,23,16259,null,null,0,1222]
[21,16384,12,16395,13,16399,14,16403,null,null,0,2111]
[21,16535,12,16545,13,16550,14,16555,null,null,0,2111]
[21,16690,12,16702,13,16706,14,16710,null,null,0,2111]
[21,16852,21,16854,11,16870,12,16874,null,null,0,2211]
[12,17209,14,17214,13,17218,14,17225,null,null,0,1111]
[21,17354,12,17365,13,17369,14,17374,null,null,0,2111]
[21,17500,12,17509,13,17513,14,17517,null,null,0,2111]
[12,17671,14,17676,13,17681,14,17686,null,null,0,1111]
[21,17805,12,17815,13,17819,14,17823,null,null,0,2111]
[21,17962,12,17971,13,17975,14,17980,null,null,0,2111]
[12,18092,14,18097,13,18101,14,18105,null,null,0,1111]
[12,18246,14,18250,13,18254,14,18258,null,null,0,1111]
[21,18381,12,18389,13,18394,14,18398,null,null,0,2111]
[21,18545,12,18557,13,18566,14,18573,null,null,0,2111]
[12,18754,14,18759,13,18763,14,18771,null,null,0,1111]
[21,18887,12,18897,13,18903,14,18908,null,null,0,2111]
[21,19015,12,19024,13,19028,14,19036,null,null,0,2111]
[21,19150,12,19161,13,19166,14,19170,null,null,0,2111]
[12,19299,23,19310,24,19317,23,19324,null,null,0,1222]
[21,19469,12,19478,13,19482,14,19487,null,null,0,2111]
[12,19626,14,19630,13,19634,14,19639,null,null,0,1111]
[12,19794,14,19798,13,19803,23,19827,null,null,0,1112]
[12,19949,14,19958,13,19966,14,19971,null,null,0,1111]
[12,20100,14,20107,13,20113,14,20120,null,null,0,1111]
[12,20283,14,20287,13,20291,14,20295,null,null,0,1111]
[12,20432,14,20436,13,20440,14,20447,null,null,0,1111]
[12,20572,14,20577,13,20581,14,20585,null,null,0,1111]
[21,20725,12,20733,13,20739,14,20744,null,null,0,2111]
[12,20873,14,20878,13,20881,14,20886,null,null,0,1111]
[21,21003,12,21011,13,21015,14,21020,null,null,0,2111]
[21,21163,12,21174,13,21179,23,21201,null,null,0,2112]
[12,21325,14,21330,13,21334,14,21338,null,null,0,1111]
[21,21447,21,21456,11,21465,12,21469,null,null,0,2211]
[12,21627,14,21631,13,21635,14,21639,null,null,0,1111]
[21,21776,12,21786,13,21790,14,21795,null,null,0,2111]
[12,21955,14,21959,13,21963,14,21968,null,null,0,1111]
[21,22107,12,22118,13,22122,14,22126,null,null,0,2111]
[21,22259,12,22271,13,22275,14,22280,null,null,0,2111]
[21,22410,12,22430,13,22437,14,22443,null,null,0,2111]
[21,22591,12,22600,13,22604,14,22609,null,null,0,2111]
[12,22745,14,22750,13,22754,14,22761,null,null,0,1111]
[21,22910,12,22919,13,22923,14,22928,null,null,0,2111]
[21,23053,12,23064,13,23068,14,23072,null,null,0,2111]
[12,23196,14,23201,13,23204,14,23209,null,null,0,1111]
[12,23348,14,23352,13,23357,14,23362,null,null,0,1111]
[21,23491,12,23502,13,23506,14,23510,null,null,0,2111]
[21,23636,12,23656,13,23661,14,23669,null,null,0,2111]
[21,23807,12,23818,13,23822,14,23826,null,null,0,2111]
[21,23956,12,23965,13,23969,14,23973,null,null,null,2111]

{"sheet":"!L807A10.053","index":13,"n_rows":168,"n_cols":48,"rows_kept":168,"cut":false,"hidden":false,"merged":[[4,39,4,42],[5,39,5,40],[4,44,4,47],[5,44,5,45],[4,24,4,27],[5,24,5,25],[4,29,4,32],[5,29,5,30],[4,34,4,37],[5,34,5,35],[1,1,1,2],[5,13,5,14],[26,13,26,14],[27,13,27,14],[4,19,4,22],[5,19,5,20]]}
["Report for:!L807A10.053"]
["Date:","<date>"]
["Hen:","<hen>",null,null,null,"Correct Sequence",{"$f":"Start!J2","v":2212},null,null,null,null,null,null,null,null,"Total Sequences in Data",{"$f":"4994-COUNTBLANK(L7:L5000)","v":162},null,null,null,null,"Total Sequences in Block Data",{"$f":"COUNTA(L7:L33)","v":27},null,null,null,"Total Sequences in Block Data",{"$f":"COUNTA(L34:L60)","v":27},null,null,null,"Total Sequences in Block Data",{"$f":"COUNTA(L61:L87)","v":27},null,null,null,"Total Sequences in Block Data",{"$f":"COUNTA(L88:L114)","v":27},null,null,null,"Total Sequences in Block Data",{"$f":"COUNTA(L115:L141)","v":27},null,null,null,"Total Sequences in Block Data",{"$f":"COUNTA(L142:L168)","v":27}]
[null,null,null,null,null,null,null,null,null,null,null,null,null,null,null,"Total Sequences in Summary",{"$f":"SUM(O7:O22)","v":162},null,null,null,null,"Total Sequences in Block Summary",{"$f":"SUM(U7:U22)","v":27},null,null,null,"Total Sequences in Block Summary",{"$f":"SUM(Z7:Z22)","v":27},null,null,null,"Total Sequences in Block Summary",{"$f":"SUM(AE7:AE22)","v":27},null,null,null,"Total Sequences in Block Summary",{"$f":"SUM(AJ7:AJ22)","v":27},null,null,null,"Total Sequences in Block Summary",{"$f":"SUM(AO7:AO22)","v":27},null,null,null,"Total Sequences in Block Summary",{"$f":"SUM(AT7:AT22)","v":27}]
[null,null,null,null,null,null,null,null,null,null,null,null,null,null,null,null,null,null,null,"Block 1",null,null,null,null,"Block 2",null,null,null,null,"Block 3",null,null,null,null,"Block 4",null,null,null,null,"Block 5",null,null,null,null,"Block 6"]
["Sequence\nComponent\n1","Time\n1","Sequence\nComponent\n2","Time\n2","Sequence\nComponent\n3","Time\n3","Sequence\nComponent\n4","Time\n4","Sequence\nComponent\n5","Time\n5","Correct?\n0=No 1=Yes","Sequence",null,"Frequency",null,"Relative Frequency","Variability",null,null,"Frequency",null,"Relative Frequency","Variability",null,"Frequency",null,"Relative Frequency","Variability",null,"Frequency",null,"Relative Frequency","Variability",null,"Frequency",null,"Relative Frequency","Variability",null,"Frequency",null,"Relative Frequency","Variability",null,"Frequency",null,"Relative Frequency","Variability"]
[12,34,14,61,13,66,23,79,null,null,0,1112,null,1111,{"$f":"COUNTIF($L$7:$L$500,N7)","v":49},{"$f":"O7/$Q$4","v":0.30246913580246915},{"$f":"IF(P7=0,0,(P7*((LOG(P7))/LOG(2))))","v":-0.5218016529611198},null,null,{"$f":"N7","v":1111},{"$f":"COUNTIF(L7:L33,T7)","v":9},{"$f":"U7/(W4-U20)","v":0.33333333333333331},{"$f":"IF(V7=0,0,(V7*((LOG(V7))/LOG(2))))","v":-0.52832083357371862},null,{"$f":"N7","v":1111},{"$f":"COUNTIF(L34:L60,Y7)","v":8},{"$f":"Z7/(AB4-Z20)","v":0.29629629629629628},{"$f":"IF(AA7=0,0,(AA7*((LOG(AA7))/LOG(2))))","v":-0.51996666730769436},null,{"$f":"N7","v":1111},{"$f":"COUNTIF(L61:L87,AD7)","v":5},{"$f":"AE7/(AG4-AE20)","v":0.18518518518518517},{"$f":"IF(AF7=0,0,(AF7*((LOG(AF7))/LOG(2))))","v":-0.45054803838446406},null,{"$f":"N7","v":1111},{"$f":"COUNTIF(L88:L114,AI7)","v":11},{"$f":"AJ7/(AL4-AJ20)","v":0.40740740740740738},{"$f":"IF(AK7=0,0,(AK7*((LOG(AK7))/LOG(2))))","v":-0.52777832291806981},null,{"$f":"N7","v":1111},{"$f":"COUNTIF(L115:L141,AN7)","v":9},{"$f":"AO7/(AQ4-AO20)","v":0.33333333333333331},{"$f":"IF(AP7=0,0,(AP7*((LOG(AP7))/LOG(2))))","v":-0.52832083357371862},null,{"$f":"N7","v":1111},{"$f":"COUNTIF(L142:L168,AS7)","v":7},{"$f":"AT7/(AV4-AT20)","v":0.25925925925925924},{"$f":"IF(AU7=0,0,(AU7*((LOG(AU7))/LOG(2))))","v":-0.5049158541015204}]
[12,218,14,225,13,229,14,233,null,null,0,1111,null,1112,{"$f":"COUNTIF($L$7:$L$500,N8)","v":8},{"$f":"O8/$Q$4","v":4.9382716049382713E-2},{"$f":"IF(P8=0,0,(P8*((LOG(P8))/LOG(2))))","v":-0.21431358038936418},null,null,{"$f":"N8","v":1112},{"$f":"COUNTIF(L7:L33,T8)","v":3},{"$f":"U8/(W4-U20)","v":0.1111111111111111},{"$f":"IF(V8=0,0,(V8*((LOG(V8))/LOG(2))))","v":-0.3522138890491458},null,{"$f":"N8","v":1112},{"$f":"COUNTIF(L34:L60,Y8)","v":1},{"$f":"Z8/(AB4-Z20)","v":3.7037037037037035E-2},{"$f":"IF(AA8=0,0,(AA8*((LOG(AA8))/LOG(2))))","v":-0.1761069445245729},null,{"$f":"N8","v":1112},{"$f":"COUNTIF(L61:L87,AD8)","v":1},{"$f":"AE8/(AG4-AE20)","v":3.7037037037037035E-2},{"$f":"IF(AF8=0,0,(AF8*((LOG(AF8))/LOG(2))))","v":-0.1761069445245729},null,{"$f":"N8","v":1112},{"$f":"COUNTIF(L88:L114,AI8)","v":1},{"$f":"AJ8/(AL4-AJ20)","v":3.7037037037037035E-2},{"$f":"IF(AK8=0,0,(AK8*((LOG(AK8))/LOG(2))))","v":-0.1761069445245729},null,{"$f":"N8","v":1112},{"$f":"COUNTIF(L115:L141,AN8)","v":0},{"$f":"AO8/(AQ4-AO20)","v":0},{"$f":"IF(AP8=0,0,(AP8*((LOG(AP8))/LOG(2))))","v":0},null,{"$f":"N8","v":1112},{"$f":"COUNTIF(L142:L168,AS8)","v":2},{"$f":"AT8/(AV4-AT20)","v":7.407407407407407E-2},{"$f":"IF(AU8=0,0,(AU8*((LOG(AU8))/LOG(2))))","v":-0.27813981497507173}]
[12,365,14,372,13,376,23,389,null,null,0,1112,null,1121,{"$f":"COUNTIF($L$7:$L$500,N9)","v":0},{"$f":"O9/$Q$4","v":0},{"$f":"IF(P9=0,0,(P9*((LOG(P9))/LOG(2))))","v":0},null,null,{"$f":"N9","v":1121},{"$f":"COUNTIF(L7:L33,T9)","v":0},{"$f":"U9/(W4-U20)","v":0},{"$f":"IF(V9=0,0,(V9*((LOG(V9))/LOG(2))))","v":0},null,{"$f":"N9","v":1121},{"$f":"COUNTIF(L34:L60,Y9)","v":0},{"$f":"Z9/(AB4-Z20)","v":0},{"$f":"IF(AA9=0,0,(AA9*((LOG(AA9))/LOG(2))))","v":0},null,{"$f":"N9","v":1121},{"$f":"COUNTIF(L61:L87,AD9)","v":0},{"$f":"AE9/(AG4-AE20)","v":0},{"$f":"IF(AF9=0,0,(AF9*((LOG(AF9))/LOG(2))))","v":0},null,{"$f":"N9","v":1121},{"$f":"COUNTIF(L88:L114,AI9)","v":0},{"$f":"AJ9/(AL4-AJ20)","v":0},{"$f":"IF(AK9=0,0,(AK9*((LOG(AK9))/LOG(2))))","v":0},null,{"$f":"N9","v":1121},{"$f":"COUNTIF(L115:L141,AN9)","v":0},{"$f":"AO9/(AQ4-AO20)","v":0},{"$f":"IF(AP9=0,0,(AP9*((LOG(AP9))/LOG(2))))","v":0},null,{"$f":"N9","v":1121},{"$f":"COUNTIF(L142:L168,AS9)","v":0},{"$f":"AT9/(AV4-AT20)","v":0},{"$f":"IF(AU9=0,0,(AU9*((LOG(AU9))/LOG(2))))","v":0}]
[12,517,23,527,13,537,14,542,null,null,0,1211,null,1122,{"$f":"COUNTIF($L$7:$L$500,N10)","v":0},{"$f":"O10/$Q$4","v":0},{"$f":"IF(P10=0,0,(P10*((LOG(P10))/LOG(2))))","v":0},null,null,{"$f":"N10","v":1122},{"$f":"COUNTIF(L7:L33,T10)","v":0},{"$f":"U10/(W4-U20)","v":0},{"$f":"IF(V10=0,0,(V10*((LOG(V10))/LOG(2))))","v":0},null,{"$f":"N10","v":1122},{"$f":"COUNTIF(L34:L60,Y10)","v":0},{"$f":"Z10/(AB4-Z20)","v":0},{"$f":"IF(AA10=0,0,(AA10*((LOG(AA10))/LOG(2))))","v":0},null,{"$f":"N10","v":1122},{"$f":"COUNTIF(L61:L87,AD10)","v":0},{"$f":"AE10/(AG4-AE20)","v":0},{"$f":"IF(AF10=0,0,(AF10*((LOG(AF10))/LOG(2))))","v":0},null,{"$f":"N10","v":1122},{"$f":"COUNTIF(L88:L114,AI10)","v":0},{"$f":"AJ10/(AL4-AJ20)","v":0},{"$f":"IF(AK10=0,0,(AK10*((LOG(AK10))/LOG(2))))","v":0},null,{"$f":"N10","v":1122},{"$f":"COUNTIF(L115:L141,AN10)","v":0},{"$f":"AO10/(AQ4-AO20)","v":0},{"$f":"IF(AP10=0,0,(AP10*((LOG(AP10))/LOG(2))))","v":0},null,{"$f":"N10","v":1122},{"$f":"COUNTIF(L142:L168,AS10)","v":0},{"$f":"AT10/(AV4-AT20)","v":0},{"$f":"IF(AU10=0,0,(AU10*((LOG(AU10))/LOG(2))))","v":0}]
[21,692,12,702,13,709,14,717,null,null,0,2111,null,1211,{"$f":"COUNTIF($L$7:$L$500,N11)","v":4},{"$f":"O11/$Q$4","v":2.4691358024691357E-2},{"$f":"IF(P11=0,0,(P11*((LOG(P11))/LOG(2))))","v":-0.13184814821937343},null,null,{"$f":"N11","v":1211},{"$f":"COUNTIF(L7:L33,T11)","v":2},{"$f":"U11/(W4-U20)","v":7.407407407407407E-2},{"$f":"IF(V11=0,0,(V11*((LOG(V11))/LOG(2))))","v":-0.27813981497507173},null,{"$f":"N11","v":1211},{"$f":"COUNTIF(L34:L60,Y11)","v":0},{"$f":"Z11/(AB4-Z20)","v":0},{"$f":"IF(AA11=0,0,(AA11*((LOG(AA11))/LOG(2))))","v":0},null,{"$f":"N11","v":1211},{"$f":"COUNTIF(L61:L87,AD11)","v":0},{"$f":"AE11/(AG4-AE20)","v":0},{"$f":"IF(AF11=0,0,(AF11*((LOG(AF11))/LOG(2))))","v":0},null,{"$f":"N11","v":1211},{"$f":"COUNTIF(L88:L114,AI11)","v":1},{"$f":"AJ11/(AL4-AJ20)","v":3.7037037037037035E-2},{"$f":"IF(AK11=0,0,(AK11*((LOG(AK11))/LOG(2))))","v":-0.1761069445245729},null,{"$f":"N11","v":1211},{"$f":"COUNTIF(L115:L141,AN11)","v":0},{"$f":"AO11/(AQ4-AO20)","v":0},{"$f":"IF(AP11=0,0,(AP11*((LOG(AP11))/LOG(2))))","v":0},null,{"$f":"N11","v":1211},{"$f":"COUNTIF(L142:L168,AS11)","v":1},{"$f":"AT11/(AV4-AT20)","v":3.7037037037037035E-2},{"$f":"IF(AU11=0,0,(AU11*((LOG(AU11))/LOG(2))))","v":-0.1761069445245729}]
[12,824,14,844,13,848,14,853,null,null,0,1111,null,1212,{"$f":"COUNTIF($L$7:$L$500,N12)","v":0},{"$f":"O12/$Q$4","v":0},{"$f":"IF(P12=0,0,(P12*((LOG(P12))/LOG(2))))","v":0},null,null,{"$f":"N12","v":1212},{"$f":"COUNTIF(L7:L33,T12)","v":0},{"$f":"U12/(W4-U20)","v":0},{"$f":"IF(V12=0,0,(V12*((LOG(V12))/LOG(2))))","v":0},null,{"$f":"N12","v":1212},{"$f":"COUNTIF(L34:L60,Y12)","v":0},{"$f":"Z12/(AB4-Z20)","v":0},{"$f":"IF(AA12=0,0,(AA12*((LOG(AA12))/LOG(2))))","v":0},null,{"$f":"N12","v":1212},{"$f":"COUNTIF(L61:L87,AD12)","v":0},{"$f":"AE12/(AG4-AE20)","v":0},{"$f":"IF(AF12=0,0,(AF12*((LOG(AF12))/LOG(2))))","v":0},null,{"$f":"N12","v":1212},{"$f":"COUNTIF(L88:L114,AI12)","v":0},{"$f":"AJ12/(AL4-AJ20)","v":0},{"$f":"IF(AK12=0,0,(AK12*((LOG(AK12))/LOG(2))))","v":0},null,{"$f":"N12","v":1212},{"$f":"COUNTIF(L115:L141,AN12)","v":0},{"$f":"AO12/(AQ4-AO20)","v":0},{"$f":"IF(AP12=0,0,(AP12*((LOG(AP12))/LOG(2))))","v":0},null,{"$f":"N12","v":1212},{"$f":"COUNTIF(L142:L168,AS12)","v":0},{"$f":"AT12/(AV4-AT20)","v":0},{"$f":"IF(AU12=0,0,(AU12*((LOG(AU12))/LOG(2))))","v":0}]
[12,975,14,980,13,984,14,992,null,null,0,1111,null,1221,{"$f":"COUNTIF($L$7:$L$500,N13)","v":1},{"$f":"O13/$Q$4","v":6.1728395061728392E-3},{"$f":"IF(P13=0,0,(P13*((LOG(P13))/LOG(2))))","v":-4.5307716067189037E-2},null,null,{"$f":"N13","v":1221},{"$f":"COUNTIF(L7:L33,T13)","v":0},{"$f":"U13/(W4-U20)","v":0},{"$f":"IF(V13=0,0,(V13*((LOG(V13))/LOG(2))))","v":0},null,{"$f":"N13","v":1221},{"$f":"COUNTIF(L34:L60,Y13)","v":0},{"$f":"Z13/(AB4-Z20)","v":0},{"$f":"IF(AA13=0,0,(AA13*((LOG(AA13))/LOG(2))))","v":0},null,{"$f":"N13","v":1221},{"$f":"COUNTIF(L61:L87,AD13)","v":0},{"$f":"AE13/(AG4-AE20)","v":0},{"$f":"IF(AF13=0,0,(AF13*((LOG(AF13))/LOG(2))))","v":0},null,{"$f":"N13","v":1221},{"$f":"COUNTIF(L88:L114,AI13)","v":0},{"$f":"AJ13/(AL4-AJ20)","v":0},{"$f":"IF(AK13=0,0,(AK13*((LOG(AK13))/LOG(2))))","v":0},null,{"$f":"N13","v":1221},{"$f":"COUNTIF(L115:L141,AN13)","v":1},{"$f":"AO13/(AQ4-AO20)","v":3.7037037037037035E-2},{"$f":"IF(AP13=0,0,(AP13*((LOG(AP13))/LOG(2))))","v":-0.1761069445245729},null,{"$f":"N13","v":1221},{"$f":"COUNTIF(L142:L168,AS13)","v":0},{"$f":"AT13/(AV4-AT20)","v":0},{"$f":"IF(AU13=0,0,(AU13*((LOG(AU13))/LOG(2))))","v":0}]
[21,1125,12,1134,13,1140,14,1144,null,null,0,2111,null,1222,{"$f":"COUNTIF($L$7:$L$500,N14)","v":1},{"$f":"O14/$Q$4","v":6.1728395061728392E-3},{"$f":"IF(P14=0,0,(P14*((LOG(P14))/LOG(2))))","v":-4.5307716067189037E-2},null,null,{"$f":"N14","v":1222},{"$f":"COUNTIF(L7:L33,T14)","v":0},{"$f":"U14/(W4-U20)","v":0},{"$f":"IF(V14=0,0,(V14*((LOG(V14))/LOG(2))))","v":0},null,{"$f":"N14","v":1222},{"$f":"COUNTIF(L34:L60,Y14)","v":1},{"$f":"Z14/(AB4-Z20)","v":3.7037037037037035E-2},{"$f":"IF(AA14=0,0,(AA14*((LOG(AA14))/LOG(2))))","v":-0.1761069445245729},null,{"$f":"N14","v":1222},{"$f":"COUNTIF(L61:L87,AD14)","v":0},{"$f":"AE14/(AG4-AE20)","v":0},{"$f":"IF(AF14=0,0,(AF14*((LOG(AF14))/LOG(2))))","v":0},null,{"$f":"N14","v":1222},{"$f":"COUNTIF(L88:L114,AI14)","v":0},{"$f":"AJ14/(AL4-AJ20)","v":0},{"$f":"IF(AK14=0,0,(AK14*((LOG(AK14))/LOG(2))))","v":0},null,{"$f":"N14","v":1222},{"$f":"COUNTIF(L115:L141,AN14)","v":0},{"$f":"AO14/(AQ4-AO20)","v":0},{"$f":"IF(AP14=0,0,(AP14*((LOG(AP14))/LOG(2))))","v":0},null,{"$f":"N14","v":1222},{"$f":"COUNTIF(L142:L168,AS14)","v":0},{"$f":"AT14/(AV4-AT20)","v":0},{"$f":"IF(AU14=0,0,(AU14*((LOG(AU14))/LOG(2))))","v":0}]
[21,1261,12,1270,13,1274,14,1278,null,null,0,2111,null,2111,{"$f":"COUNTIF($L$7:$L$500,N15)","v":59},{"$f":"O15/$Q$4","v":0.36419753086419754},{"$f":"IF(P15=0,0,(P15*((LOG(P15))/LOG(2))))","v":-0.53071117443113713},null,null,{"$f":"N15","v":2111},{"$f":"COUNTIF(L7:L33,T15)","v":9},{"$f":"U15/(W4-U20)","v":0.33333333333333331},{"$f":"IF(V15=0,0,(V15*((LOG(V15))/LOG(2))))","v":-0.52832083357371862},null,{"$f":"N15","v":2111},{"$f":"COUNTIF(L34:L60,Y15)","v":9},{"$f":"Z15/(AB4-Z20)","v":0.33333333333333331},{"$f":"IF(AA15=0,0,(AA15*((LOG(AA15))/LOG(2))))","v":-0.52832083357371862},null,{"$f":"N15","v":2111},{"$f":"COUNTIF(L61:L87,AD15)","v":14},{"$f":"AE15/(AG4-AE20)","v":0.51851851851851849},{"$f":"IF(AF15=0,0,(AF15*((LOG(AF15))/LOG(2))))","v":-0.49131318968452231},null,{"$f":"N15","v":2111},{"$f":"COUNTIF(L88:L114,AI15)","v":7},{"$f":"AJ15/(AL4-AJ20)","v":0.25925925925925924},{"$f":"IF(AK15=0,0,(AK15*((LOG(AK15))/LOG(2))))","v":-0.5049158541015204},null,{"$f":"N15","v":2111},{"$f":"COUNTIF(L115:L141,AN15)","v":10},{"$f":"AO15/(AQ4-AO20)","v":0.37037037037037035},{"$f":"IF(AP15=0,0,(AP15*((LOG(AP15))/LOG(2))))","v":-0.53072570639855787},null,{"$f":"N15","v":2111},{"$f":"COUNTIF(L142:L168,AS15)","v":10},{"$f":"AT15/(AV4-AT20)","v":0.37037037037037035},{"$f":"IF(AU15=0,0,(AU15*((LOG(AU15))/LOG(2))))","v":-0.53072570639855787}]
[12,1434,14,1438,13,1445,23,1458,null,null,0,1112,null,2112,{"$f":"COUNTIF($L$7:$L$500,N16)","v":3},{"$f":"O16/$Q$4","v":1.8518518518518517E-2},{"$f":"IF(P16=0,0,(P16*((LOG(P16))/LOG(2))))","v":-0.10657199078080498},null,null,{"$f":"N16","v":2112},{"$f":"COUNTIF(L7:L33,T16)","v":1},{"$f":"U16/(W4-U20)","v":3.7037037037037035E-2},{"$f":"IF(V16=0,0,(V16*((LOG(V16))/LOG(2))))","v":-0.1761069445245729},null,{"$f":"N16","v":2112},{"$f":"COUNTIF(L34:L60,Y16)","v":0},{"$f":"Z16/(AB4-Z20)","v":0},{"$f":"IF(AA16=0,0,(AA16*((LOG(AA16))/LOG(2))))","v":0},null,{"$f":"N16","v":2112},{"$f":"COUNTIF(L61:L87,AD16)","v":1},{"$f":"AE16/(AG4-AE20)","v":3.7037037037037035E-2},{"$f":"IF(AF16=0,0,(AF16*((LOG(AF16))/LOG(2))))","v":-0.1761069445245729},null,{"$f":"N16","v":2112},{"$f":"COUNTIF(L88:L114,AI16)","v":0},{"$f":"AJ16/(AL4-AJ20)","v":0},{"$f":"IF(AK16=0,0,(AK16*((LOG(AK16))/LOG(2))))","v":0},null,{"$f":"N16","v":2112},{"$f":"COUNTIF(L115:L141,AN16)","v":0},{"$f":"AO16/(AQ4-AO20)","v":0},{"$f":"IF(AP16=0,0,(AP16*((LOG(AP16))/LOG(2))))","v":0},null,{"$f":"N16","v":2112},{"$f":"COUNTIF(L142:L168,AS16)","v":1},{"$f":"AT16/(AV4-AT20)","v":3.7037037037037035E-2},{"$f":"IF(AU16=0,0,(AU16*((LOG(AU16))/LOG(2))))","v":-0.1761069445245729}]
[12,1596,14,1604,13,1611,14,1616,null,null,0,1111,null,2121,{"$f":"COUNTIF($L$7:$L$500,N17)","v":0},{"$f":"O17/$Q$4","v":0},{"$f":"IF(P17=0,0,(P17*((LOG(P17))/LOG(2))))","v":0},null,null,{"$f":"N17","v":2121},{"$f":"COUNTIF(L7:L33,T17)","v":0},{"$f":"U17/(W4-U20)","v":0},{"$f":"IF(V17=0,0,(V17*((LOG(V17))/LOG(2))))","v":0},null,{"$f":"N17","v":2121},{"$f":"COUNTIF(L34:L60,Y17)","v":0},{"$f":"Z17/(AB4-Z20)","v":0},{"$f":"IF(AA17=0,0,(AA17*((LOG(AA17))/LOG(2))))","v":0},null,{"$f":"N17","v":2121},{"$f":"COUNTIF(L61:L87,AD17)","v":0},{"$f":"AE17/(AG4-AE20)","v":0},{"$f":"IF(AF17=0,0,(AF17*((LOG(AF17))/LOG(2))))","v":0},null,{"$f":"N17","v":2121},{"$f":"COUNTIF(L88:L114,AI17)","v":0},{"$f":"AJ17/(AL4-AJ20)","v":0},{"$f":"IF(AK17=0,0,(AK17*((LOG(AK17))/LOG(2))))","v":0},null,{"$f":"N17","v":2121},{"$f":"COUNTIF(L115:L141,AN17)","v":0},{"$f":"AO17/(AQ4-AO20)","v":0},{"$f":"IF(AP17=0,0,(AP17*((LOG(AP17))/LOG(2))))","v":0},null,{"$f":"N17","v":2121},{"$f":"COUNTIF(L142:L168,AS17)","v":0},{"$f":"AT17/(AV4-AT20)","v":0},{"$f":"IF(AU17=0,0,(AU17*((LOG(AU17))/LOG(2))))","v":0}]
[21,1738,12,1747,13,1751,14,1756,null,null,0,2111,null,2122,{"$f":"COUNTIF($L$7:$L$500,N18)","v":0},{"$f":"O18/$Q$4","v":0},{"$f":"IF(P18=0,0,(P18*((LOG(P18))/LOG(2))))","v":0},null,null,{"$f":"N18","v":2122},{"$f":"COUNTIF(L7:L33,T18)","v":0},{"$f":"U18/(W4-U20)","v":0},{"$f":"IF(V18=0,0,(V18*((LOG(V18))/LOG(2))))","v":0},null,{"$f":"N18","v":2122},{"$f":"COUNTIF(L34:L60,Y18)","v":0},{"$f":"Z18/(AB4-Z20)","v":0},{"$f":"IF(AA18=0,0,(AA18*((LOG(AA18))/LOG(2))))","v":0},null,{"$f":"N18","v":2122},{"$f":"COUNTIF(L61:L87,AD18)","v":0},{"$f":"AE18/(AG4-AE20)","v":0},{"$f":"IF(AF18=0,0,(AF18*((LOG(AF18))/LOG(2))))","v":0},null,{"$f":"N18","v":2122},{"$f":"COUNTIF(L88:L114,AI18)","v":0},{"$f":"AJ18/(AL4-AJ20)","v":0},{"$f":"IF(AK18=0,0,(AK18*((LOG(AK18))/LOG(2))))","v":0},null,{"$f":"N18","v":2122},{"$f":"COUNTIF(L115:L141,AN18)","v":0},{"$f":"AO18/(AQ4-AO20)","v":0},{"$f":"IF(AP18=0,0,(AP18*((LOG(AP18))/LOG(2))))","v":0},null,{"$f":"N18","v":2122},{"$f":"COUNTIF(L142:L168,AS18)","v":0},{"$f":"AT18/(AV4-AT20)","v":0},{"$f":"IF(AU18=0,0,(AU18*((LOG(AU18))/LOG(2))))","v":0}]
[12,1924,14,1929,13,1934,14,1939,null,null,0,1111,null,2211,{"$f":"COUNTIF($L$7:$L$500,N19)","v":24},{"$f":"O19/$Q$4","v":0.14814814814814814},{"$f":"IF(P19=0,0,(P19*((LOG(P19))/LOG(2))))","v":-0.40813148180199532},null,null,{"$f":"N19","v":2211},{"$f":"COUNTIF(L7:L33,T19)","v":3},{"$f":"U19/(W4-U20)","v":0.1111111111111111},{"$f":"IF(V19=0,0,(V19*((LOG(V19))/LOG(2))))","v":-0.3522138890491458},null,{"$f":"N19","v":2211},{"$f":"COUNTIF(L34:L60,Y19)","v":6},{"$f":"Z19/(AB4-Z20)","v":0.22222222222222221},{"$f":"IF(AA19=0,0,(AA19*((LOG(AA19))/LOG(2))))","v":-0.48220555587606945},null,{"$f":"N19","v":2211},{"$f":"COUNTIF(L61:L87,AD19)","v":3},{"$f":"AE19/(AG4-AE20)","v":0.1111111111111111},{"$f":"IF(AF19=0,0,(AF19*((LOG(AF19))/LOG(2))))","v":-0.3522138890491458},null,{"$f":"N19","v":2211},{"$f":"COUNTIF(L88:L114,AI19)","v":6},{"$f":"AJ19/(AL4-AJ20)","v":0.22222222222222221},{"$f":"IF(AK19=0,0,(AK19*((LOG(AK19))/LOG(2))))","v":-0.48220555587606945},null,{"$f":"N19","v":2211},{"$f":"COUNTIF(L115:L141,AN19)","v":3},{"$f":"AO19/(AQ4-AO20)","v":0.1111111111111111},{"$f":"IF(AP19=0,0,(AP19*((LOG(AP19))/LOG(2))))","v":-0.3522138890491458},null,{"$f":"N19","v":2211},{"$f":"COUNTIF(L142:L168,AS19)","v":3},{"$f":"AT19/(AV4-AT20)","v":0.1111111111111111},{"$f":"IF(AU19=0,0,(AU19*((LOG(AU19))/LOG(2))))","v":-0.3522138890491458}]
[21,2091,12,2102,13,2106,14,2110,null,null,0,2111,null,2212,{"$f":"COUNTIF($L$7:$L$500,N20)","v":0},{"$f":"O20/$Q$4","v":0},{"$f":"IF(P20=0,0,(P20*((LOG(P20))/LOG(2))))","v":0},null,null,{"$f":"N20","v":2212},{"$f":"COUNTIF(L7:L33,T20)","v":0},null,null,null,{"$f":"N20","v":2212},{"$f":"COUNTIF(L34:L60,Y20)","v":0},null,null,null,{"$f":"N20","v":2212},{"$f":"COUNTIF(L61:L87,AD20)","v":0},null,null,null,{"$f":"N20","v":2212},{"$f":"COUNTIF(L88:L114,AI20)","v":0},null,null,null,{"$f":"N20","v":2212},{"$f":"COUNTIF(L115:L141,AN20)","v":0},null,null,null,{"$f":"N20","v":2212},{"$f":"COUNTIF(L142:L168,AS20)","v":0}]
[21,2275,12,2287,13,2294,14,2301,null,null,0,2111,null,2221,{"$f":"COUNTIF($L$7:$L$500,N21)","v":7},{"$f":"O21/$Q$4","v":4.3209876543209874E-2},{"$f":"IF(P21=0,0,(P21*((LOG(P21))/LOG(2))))","v":-0.19584855287524161},null,null,{"$f":"N21","v":2221},{"$f":"COUNTIF(L7:L33,T21)","v":0},{"$f":"U21/(W4-U20)","v":0},{"$f":"IF(V21=0,0,(V21*((LOG(V21))/LOG(2))))","v":0},null,{"$f":"N21","v":2221},{"$f":"COUNTIF(L34:L60,Y21)","v":2},{"$f":"Z21/(AB4-Z20)","v":7.407407407407407E-2},{"$f":"IF(AA21=0,0,(AA21*((LOG(AA21))/LOG(2))))","v":-0.27813981497507173},null,{"$f":"N21","v":2221},{"$f":"COUNTIF(L61:L87,AD21)","v":1},{"$f":"AE21/(AG4-AE20)","v":3.7037037037037035E-2},{"$f":"IF(AF21=0,0,(AF21*((LOG(AF21))/LOG(2))))","v":-0.1761069445245729},null,{"$f":"N21","v":2221},{"$f":"COUNTIF(L88:L114,AI21)","v":1},{"$f":"AJ21/(AL4-AJ20)","v":3.7037037037037035E-2},{"$f":"IF(AK21=0,0,(AK21*((LOG(AK21))/LOG(2))))","v":-0.1761069445245729},null,{"$f":"N21","v":2221},{"$f":"COUNTIF(L115:L141,AN21)","v":3},{"$f":"AO21/(AQ4-AO20)","v":0.1111111111111111},{"$f":"IF(AP21=0,0,(AP21*((LOG(AP21))/LOG(2))))","v":-0.3522138890491458},null,{"$f":"N21","v":2221},{"$f":"COUNTIF(L142:L168,AS21)","v":0},{"$f":"AT21/(AV4-AT20)","v":0},{"$f":"IF(AU21=0,0,(AU21*((LOG(AU21))/LOG(2))))","v":0}]
[21,2457,12,2471,13,2476,14,2481,null,null,0,2111,null,2222,{"$f":"COUNTIF($L$7:$L$500,N22)","v":6},{"$f":"O22/$Q$4","v":3.7037037037037035E-2},{"$f":"IF(P22=0,0,(P22*((LOG(P22))/LOG(2))))","v":-0.1761069445245729},null,null,{"$f":"N22","v":2222},{"$f":"COUNTIF(L7:L33,T22)","v":0},{"$f":"U22/(W4-U20)","v":0},{"$f":"IF(V22=0,0,(V22*((LOG(V22))/LOG(2))))","v":0},null,{"$f":"N22","v":2222},{"$f":"COUNTIF(L34:L60,Y22)","v":0},{"$f":"Z22/(AB4-Z20)","v":0},{"$f":"IF(AA22=0,0,(AA22*((LOG(AA22))/LOG(2))))","v":0},null,{"$f":"N22","v":2222},{"$f":"COUNTIF(L61:L87,AD22)","v":2},{"$f":"AE22/(AG4-AE20)","v":7.407407407407407E-2},{"$f":"IF(AF22=0,0,(AF22*((LOG(AF22))/LOG(2))))","v":-0.27813981497507173},null,{"$f":"N22","v":2222},{"$f":"COUNTIF(L88:L114,AI22)","v":0},{"$f":"AJ22/(AL4-AJ20)","v":0},{"$f":"IF(AK22=0,0,(AK22*((LOG(AK22))/LOG(2))))","v":0},null,{"$f":"N22","v":2222},{"$f":"COUNTIF(L115:L141,AN22)","v":1},{"$f":"AO22/(AQ4-AO20)","v":3.7037037037037035E-2},{"$f":"IF(AP22=0,0,(AP22*((LOG(AP22))/LOG(2))))","v":-0.1761069445245729},null,{"$f":"N22","v":2222},{"$f":"COUNTIF(L142:L168,AS22)","v":3},{"$f":"AT22/(AV4-AT20)","v":0.1111111111111111},{"$f":"IF(AU22=0,0,(AU22*((LOG(AU22))/LOG(2))))","v":-0.3522138890491458}]
[21,2644,12,2655,13,2662,23,2674,null,null,0,2112,null,null,null,{"$f":"SUM(P7:P22)","v":1},{"$f":"-SUM(Q7:Q22)","v":2.3759489581179878},null,null,null,null,{"$f":"SUM(V7:V22)","v":1},{"$f":"-SUM(W7:W22)","v":2.2153162047453736},null,null,null,{"$f":"SUM(AA7:AA22)","v":1},{"$f":"-SUM(AB7:AB22)","v":2.1608467607816997},null,null,null,{"$f":"SUM(AF7:AF22)","v":0.99999999999999989},{"$f":"-SUM(AG7:AG22)","v":2.1005357656669226},null,null,null,{"$f":"SUM(AK7:AK22)","v":1},{"$f":"-SUM(AL7:AL22)","v":2.0432205664693783},null,null,null,{"$f":"SUM(AP7:AP22)","v":1},{"$f":"-SUM(AQ7:AQ22)","v":2.1156882071197138},null,null,null,{"$f":"SUM(AU7:AU22)","v":1},{"$f":"-SUM(AV7:AV22)","v":2.3704230426225874}]
[12,2784,14,2788,13,2793,14,2800,null,null,0,1111,null,null,null,"U=",{"$f":"Q23/(LOG(Q4)/LOG(2))","v":0.32370538324137677},null,null,null,null,"U1=",{"$f":"W23/(LOG(W4)/LOG(2))","v":0.46590296904761835},null,null,null,"U2=",{"$f":"AB23/(LOG(AB4)/LOG(2))","v":0.45444750476189333},null,null,null,"U3=",{"$f":"AG23/(LOG(AG4)/LOG(2))","v":0.44176350433342143},null,null,null,"U4=",{"$f":"AL23/(LOG(AL4)/LOG(2))","v":0.42970954949821955},null,null,null,"U5=",{"$f":"AQ23/(LOG(AQ4)/LOG(2))","v":0.44495021305069327},null,null,null,"U6=",{"$f":"AV23/(LOG(AV4)/LOG(2))","v":0.49852347538065783}]
[12,2927,23,2937,13,2948,14,2953,null,null,0,1211]
[21,3102,12,3111,13,3115,14,3119,null,null,0,2111]
[21,3257,12,3265,13,3270,14,3274,null,null,0,2111,null,"Total Target Seq"]
[12,3375,14,3385,13,3389,14,3394,null,null,0,1111,null,{"$f":"COUNTIF(L7:L168,G3)","v":0},null,27,27,27,27,27,27]
[21,3517,21,3528,11,3537,12,3541,null,null,0,2211,null,null,null,"% of reinforcement given in 6 equal intervals based on number of trials "]
[12,3655,14,3659,13,3663,14,3671,null,null,0,1111,null,null,null,"%_1","%_2","%_3","%_4","%_5","%_6"]
[21,3821,21,3831,11,3841,12,3845,null,null,0,2211,null,null,"target sequence",{"$f":"$G$3","v":2212},{"$f":"$G$3","v":2212},{"$f":"$G$3","v":2212},{"$f":"$G$3","v":2212},{"$f":"$G$3","v":2212},{"$f":"$G$3","v":2212}]
[12,3968,14,3974,13,3979,14,3986,null,null,0,1111,null,null,"total reinforcement",{"$f":"U20","v":0},{"$f":"Z20","v":0},{"$f":"AE20","v":0},{"$f":"AJ20","v":0},{"$f":"AO20","v":0},{"$f":"AT20","v":0}]
[21,4111,21,4121,11,4130,12,4134,null,null,0,2211,null,null,"% target"]
[21,4249,21,4257,11,4266,12,4272,null,null,0,2211,null,null,"CCRF"]
[21,4455,21,4463,22,4470,14,4481,null,null,0,2221,null,null,"% CCRf"]
[21,4602,21,4609,22,4622,14,4633,null,null,0,2221,null,null,"average response rate",{"$f":"H33/P28","v":153.11111111111111},{"$f":"(H60-H33)/Q28","v":162.44444444444446},{"$f":"(H87-H60)/R28","v":147},{"$f":"(H114-H87)/S28","v":140.88888888888889},{"$f":"(H141-H114)/T28","v":142.18518518518519},{"$f":"(H168-H141)/U28","v":140.25925925925927}]
[12,4768,14,4775,13,4779,14,4784,null,null,0,1111]
[21,4961,21,4970,11,4979,12,4983,null,null,0,2211]
[12,5211,14,5216,13,5220,14,5224,null,null,0,1111]
[21,5362,21,5372,11,5380,12,5384,null,null,0,2211]
[12,5486,14,5505,13,5515,14,5519,null,null,0,1111]
[21,5661,12,5671,13,5675,14,5680,null,null,0,2111]
[12,5817,14,5824,13,5833,14,5842,null,null,0,1111]
[12,5981,14,5985,13,5989,14,5994,null,null,0,1111]
[21,6127,12,6135,13,6139,14,6144,null,null,0,2111]
[12,6280,14,6288,13,6295,23,6317,null,null,0,1112]
[21,6441,12,6450,13,6455,14,6461,null,null,0,2111]
[21,6602,12,6612,13,6617,14,6623,null,null,0,2111]
[12,6785,14,6792,13,6797,14,6802,null,null,0,1111]
[12,6910,23,6921,24,6929,23,6941,null,null,0,1222]
[21,7064,12,7073,13,7077,14,7081,null,null,0,2111]
[21,7217,21,7235,11,7244,12,7248,null,null,0,2211]
[12,7398,14,7402,13,7406,14,7415,null,null,0,1111]
[21,7557,12,7570,13,7574,14,7578,null,null,0,2111]
[21,7721,12,7731,13,7736,14,7740,null,null,0,2111]
[21,7885,12,7897,13,7901,14,7906,null,null,0,2111]
[12,8061,14,8065,13,8070,14,8077,null,null,0,1111]
[21,8186,21,8194,11,8205,12,8209,null,null,0,2211]
[21,8373,12,8385,13,8389,14,8393,null,null,0,2111]
[21,8489,21,8507,11,8516,12,8520,null,null,0,2211]
[21,8666,21,8675,11,8684,12,8688,null,null,0,2211]
[21,8814,12,8826,13,8830,14,8835,null,null,0,2111]
[12,8962,14,8970,13,8976,14,8981,null,null,0,1111]
[21,9110,12,9120,13,9124,14,9129,null,null,0,2111]
[21,9266,12,9275,13,9279,14,9287,null,null,0,2111]
[21,9432,12,9441,13,9446,14,9450,null,null,0,2111]
[21,9572,21,9584,11,9595,12,9601,null,null,0,2211]
[21,9712,21,9728,11,9738,12,9742,null,null,0,2211]
[21,9850,21,9865,22,9867,23,9874,null,null,0,2222]
[21,9989,12,9998,13,10004,14,10009,null,null,0,2111]
[21,10127,12,10137,13,10142,14,10147,null,null,0,2111]
[21,10280,21,10289,22,10303,23,10310,null,null,0,2222]
[21,10424,12,10433,13,10437,14,10441,null,null,0,2111]
[21,10550,12,10558,13,10562,14,10567,null,null,0,2111]
[21,10664,12,10674,13,10678,23,10689,null,null,0,2112]
[12,10808,14,10812,13,10817,14,10824,null,null,0,1111]
[21,10964,12,10977,13,10985,14,10994,null,null,0,2111]
[21,11107,12,11117,13,11120,14,11124,null,null,0,2111]
[21,11264,12,11273,13,11278,14,11285,null,null,0,2111]
[12,11410,14,11414,13,11423,23,11436,null,null,0,1112]
[21,11564,12,11575,13,11579,14,11584,null,null,0,2111]
[21,11722,21,11731,22,11740,14,11748,null,null,0,2221]
[12,11882,14,11886,13,11891,14,11899,null,null,0,1111]
[12,12021,14,12024,13,12029,14,12033,null,null,0,1111]
[21,12163,12,12171,13,12176,14,12183,null,null,0,2111]
[12,12305,14,12313,13,12318,14,12322,null,null,0,1111]
[21,12467,12,12476,13,12480,14,12489,null,null,0,2111]
[12,12596,14,12600,13,12604,14,12608,null,null,0,1111]
[21,12716,21,12726,11,12735,12,12739,null,null,0,2211]
[21,12868,12,12887,13,12895,14,12904,null,null,0,2111]
[12,13040,14,13046,13,13055,14,13060,null,null,0,1111]
[12,13180,14,13194,13,13198,14,13203,null,null,0,1111]
[12,13312,14,13321,13,13329,23,13342,null,null,0,1112]
[21,13465,12,13473,13,13478,14,13484,null,null,0,2111]
[21,13602,12,13611,13,13615,14,13623,null,null,0,2111]
[12,13741,14,13748,13,13753,14,13758,null,null,0,1111]
[21,13872,21,13882,11,13900,12,13906,null,null,0,2211]
[12,14020,14,14025,13,14029,14,14033,null,null,0,1111]
[21,14163,21,14172,22,14174,14,14184,null,null,0,2221]
[21,14307,21,14316,11,14327,12,14332,null,null,0,2211]
[12,14550,23,14562,13,14574,14,14579,null,null,0,1211]
[21,14706,12,14715,13,14720,14,14724,null,null,0,2111]
[12,14827,14,14832,13,14837,14,14843,null,null,0,1111]
[12,14967,14,14972,13,14976,14,14981,null,null,0,1111]
[21,15086,12,15094,13,15098,14,15102,null,null,0,2111]
[12,15231,14,15235,13,15240,14,15244,null,null,0,1111]
[21,15356,21,15364,11,15372,12,15377,null,null,0,2211]
[12,15479,14,15487,13,15491,14,15499,null,null,0,1111]
[12,15606,14,15612,13,15616,14,15623,null,null,0,1111]
[21,15730,21,15738,11,15746,12,15751,null,null,0,2211]
[21,15871,21,15873,11,15883,12,15887,null,null,0,2211]
[21,16004,12,16014,13,16019,14,16023,null,null,0,2111]
[21,16142,12,16151,13,16155,14,16160,null,null,0,2111]
[12,16281,14,16285,13,16289,14,16293,null,null,0,1111]
[12,16411,14,16415,13,16419,14,16424,null,null,0,1111]
[21,16534,12,16543,13,16547,14,16552,null,null,0,2111]
[21,16671,12,16683,13,16687,14,16691,null,null,0,2111]
[12,16802,14,16807,13,16814,14,16819,null,null,0,1111]
[21,16934,12,16943,13,16952,14,16960,null,null,0,2111]
[12,17075,14,17081,13,17085,14,17090,null,null,0,1111]
[12,17198,14,17206,13,17211,14,17218,null,null,0,1111]
[12,17338,14,17347,13,17351,14,17356,null,null,0,1111]
[21,17475,12,17487,13,17491,14,17498,null,null,0,2111]
[21,17613,12,17625,13,17630,14,17634,null,null,0,2111]
[12,17763,14,17767,13,17771,14,17779,null,null,0,1111]
[21,17887,21,17901,22,17903,14,17918,null,null,0,2221]
[21,18039,21,18041,11,18051,12,18059,null,null,0,2211]
[21,18191,12,18200,13,18205,14,18214,null,null,0,2111]
[21,18330,21,18340,22,18348,14,18359,null,null,0,2221]
[21,18471,21,18480,11,18490,12,18494,null,null,0,2211]
[21,18619,12,18632,13,18637,14,18641,null,null,0,2111]
[21,18781,21,18782,11,18793,12,18798,null,null,0,2211]
[12,18997,14,19002,13,19009,14,19013,null,null,0,1111]
[12,19129,14,19134,13,19140,14,19145,null,null,0,1111]
[12,19268,14,19275,13,19279,14,19284,null,null,0,1111]
[21,19402,12,19410,13,19415,14,19420,null,null,0,2111]
[21,19547,12,19559,13,19563,14,19568,null,null,0,2111]
[21,19683,21,19706,22,19712,23,19719,null,null,0,2222]
[21,19815,21,19829,22,19841,14,19853,null,null,0,2221]
[12,19958,23,19967,24,19971,14,19983,null,null,0,1221]
[21,20111,12,20122,13,20124,14,20132,null,null,0,2111]
[12,20245,14,20251,13,20256,14,20260,null,null,0,1111]
[21,20376,12,20385,13,20389,14,20393,null,null,0,2111]
[21,20518,12,20526,13,20531,14,20536,null,null,0,2111]
[21,20640,12,20654,13,20659,14,20664,null,null,0,2111]
[21,20773,12,20785,13,20789,14,20794,null,null,0,2111]
[12,20909,14,20914,13,20918,14,20922,null,null,0,1111]
[21,21034,12,21045,13,21049,14,21054,null,null,0,2111]
[21,21173,21,21181,11,21190,12,21194,null,null,0,2211]
[12,21309,23,21318,13,21329,14,21334,null,null,0,1211]
[21,21458,12,21467,13,21472,14,21476,null,null,0,2111]
[21,21592,12,21601,13,21606,14,21610,null,null,0,2111]
[21,21727,21,21735,11,21746,12,21750,null,null,0,2211]
[21,21860,12,21870,13,21876,14,21882,null,null,0,2111]
[21,21999,21,22006,22,22014,23,22021,null,null,0,2222]
[12,22140,14,22146,13,22153,23,22166,null,null,0,1112]
[21,22283,12,22311,13,22317,23,22349,null,null,0,2112]
[12,22469,14,22473,13,22478,23,22495,null,null,0,1112]
[21,22621,21,22634,22,22642,23,22652,null,null,0,2222]
[12,22767,14,22772,13,22778,14,22787,null,null,0,1111]
[12,22926,14,22932,13,22936,14,22941,null,null,0,1111]
[21,23069,12,23080,13,23084,14,23089,null,null,0,2111]
[12,23206,14,23210,13,23215,14,23220,null,null,0,1111]
[21,23339,12,23349,13,23353,14,23358,null,null,0,2111]
[21,23467,21,23487,11,23495,12,23499,null,null,0,2211]
[21,23611,21,23624,22,23633,23,23640,null,null,0,2222]
[12,23755,14,23759,13,23763,14,23773,null,null,0,1111]
[12,23902,14,23907,13,23912,14,23919,null,null,null,1111]

{"sheet":"!L808A10.053","index":14,"n_rows":164,"n_cols":48,"rows_kept":164,"cut":false,"hidden":false,"merged":[[4,39,4,42],[5,39,5,40],[4,44,4,47],[5,44,5,45],[4,24,4,27],[5,24,5,25],[4,29,4,32],[5,29,5,30],[4,34,4,37],[5,34,5,35],[1,1,1,2],[5,13,5,14],[26,13,26,14],[27,13,27,14],[4,19,4,22],[5,19,5,20]]}
["Report for:!L808A10.053"]
["Date:","<date>"]
["Hen:","<hen>",null,null,null,"Correct Sequence",{"$f":"Start!J2","v":2212},null,null,null,null,null,null,null,null,"Total Sequences in Data",{"$f":"4994-COUNTBLANK(L7:L5000)","v":158},null,null,null,null,"Total Sequences in Block Data",{"$f":"COUNTA(L7:L32)","v":26},null,null,null,"Total Sequences in Block Data",{"$f":"COUNTA(L33:L59)","v":27},null,null,null,"Total Sequences in Block Data",{"$f":"COUNTA(L60:L85)","v":26},null,null,null,"Total Sequences in Block Data",{"$f":"COUNTA(L86:L111)","v":26},null,null,null,"Total Sequences in Block Data",{"$f":"COUNTA(L112:L138)","v":27},null,null,null,"Total Sequences in Block Data",{"$f":"COUNTA(L139:L164)","v":26}]
[null,null,null,null,null,null,null,null,null,null,null,null,null,null,null,"Total Sequences in Summary",{"$f":"SUM(O7:O22)","v":158},null,null,null,null,"Total Sequences in Block Summary",{"$f":"SUM(U7:U22)","v":26},null,null,null,"Total Sequences in Block Summary",{"$f":"SUM(Z7:Z22)","v":27},null,null,null,"Total Sequences in Block Summary",{"$f":"SUM(AE7:AE22)","v":26},null,null,null,"Total Sequences in Block Summary",{"$f":"SUM(AJ7:AJ22)","v":26},null,null,null,"Total Sequences in Block Summary",{"$f":"SUM(AO7:AO22)","v":27},null,null,null,"Total Sequences in Block Summary",{"$f":"SUM(AT7:AT22)","v":26}]
[null,null,null,null,null,null,null,null,null,null,null,null,null,null,null,null,null,null,null,"Block 1",null,null,null,null,"Block 2",null,null,null,null,"Block 3",null,null,null,null,"Block 4",null,null,null,null,"Block 5",null,null,null,null,"Block 6"]
["Sequence\nComponent\n1","Time\n1","Sequence\nComponent\n2","Time\n2","Sequence\nComponent\n3","Time\n3","Sequence\nComponent\n4","Time\n4","Sequence\nComponent\n5","Time\n5","Correct?\n0=No 1=Yes","Sequence",null,"Frequency",null,"Relative Frequency","Variability",null,null,"Frequency",null,"Relative Frequency","Variability",null,"Frequency",null,"Relative Frequency","Variability",null,"Frequency",null,"Relative Frequency","Variability",null,"Frequency",null,"Relative Frequency","Variability",null,"Frequency",null,"Relative Frequency","Variability",null,"Frequency",null,"Relative Frequency","Variability"]
[12,32,14,37,24,46,23,52,null,null,0,1122,null,1111,{"$f":"COUNTIF($L$7:$L$500,N7)","v":37},{"$f":"O7/$Q$4","v":0.23417721518987342},{"$f":"IF(P7=0,0,(P7*((LOG(P7))/LOG(2))))","v":-0.49044375414102315},null,null,{"$f":"N7","v":1111},{"$f":"COUNTIF(L7:L32,T7)","v":9},{"$f":"U7/(W4-U20)","v":0.34615384615384615},{"$f":"IF(V7=0,0,(V7*((LOG(V7))/LOG(2))))","v":-0.52979355578034681},null,{"$f":"N7","v":1111},{"$f":"COUNTIF(L33:L59,Y7)","v":1},{"$f":"Z7/(AB4-Z20)","v":3.7037037037037035E-2},{"$f":"IF(AA7=0,0,(AA7*((LOG(AA7))/LOG(2))))","v":-0.1761069445245729},null,{"$f":"N7","v":1111},{"$f":"COUNTIF(L60:L85,AD7)","v":11},{"$f":"AE7/(AG4-AE20)","v":0.42307692307692307},{"$f":"IF(AF7=0,0,(AF7*((LOG(AF7))/LOG(2))))","v":-0.52504188825160547},null,{"$f":"N7","v":1111},{"$f":"COUNTIF(L86:L111,AI7)","v":4},{"$f":"AJ7/(AL4-AJ20)","v":0.15384615384615385},{"$f":"IF(AK7=0,0,(AK7*((LOG(AK7))/LOG(2))))","v":-0.4154522643293988},null,{"$f":"N7","v":1111},{"$f":"COUNTIF(L112:L138,AN7)","v":9},{"$f":"AO7/(AQ4-AO20)","v":0.33333333333333331},{"$f":"IF(AP7=0,0,(AP7*((LOG(AP7))/LOG(2))))","v":-0.52832083357371862},null,{"$f":"N7","v":1111},{"$f":"COUNTIF(L139:L164,AS7)","v":3},{"$f":"AT7/(AV4-AT20)","v":0.11538461538461539},{"$f":"IF(AU7=0,0,(AU7*((LOG(AU7))/LOG(2))))","v":-0.35947814047153104}]
[12,230,14,235,13,242,14,243,null,null,0,1111,null,1112,{"$f":"COUNTIF($L$7:$L$500,N8)","v":4},{"$f":"O8/$Q$4","v":2.5316455696202531E-2},{"$f":"IF(P8=0,0,(P8*((LOG(P8))/LOG(2))))","v":-0.13427293033359755},null,null,{"$f":"N8","v":1112},{"$f":"COUNTIF(L7:L32,T8)","v":1},{"$f":"U8/(W4-U20)","v":3.8461538461538464E-2},{"$f":"IF(V8=0,0,(V8*((LOG(V8))/LOG(2))))","v":-0.18078614300542661},null,{"$f":"N8","v":1112},{"$f":"COUNTIF(L33:L59,Y8)","v":0},{"$f":"Z8/(AB4-Z20)","v":0},{"$f":"IF(AA8=0,0,(AA8*((LOG(AA8))/LOG(2))))","v":0},null,{"$f":"N8","v":1112},{"$f":"COUNTIF(L60:L85,AD8)","v":1},{"$f":"AE8/(AG4-AE20)","v":3.8461538461538464E-2},{"$f":"IF(AF8=0,0,(AF8*((LOG(AF8))/LOG(2))))","v":-0.18078614300542661},null,{"$f":"N8","v":1112},{"$f":"COUNTIF(L86:L111,AI8)","v":1},{"$f":"AJ8/(AL4-AJ20)","v":3.8461538461538464E-2},{"$f":"IF(AK8=0,0,(AK8*((LOG(AK8))/LOG(2))))","v":-0.18078614300542661},null,{"$f":"N8","v":1112},{"$f":"COUNTIF(L112:L138,AN8)","v":0},{"$f":"AO8/(AQ4-AO20)","v":0},{"$f":"IF(AP8=0,0,(AP8*((LOG(AP8))/LOG(2))))","v":0},null,{"$f":"N8","v":1112},{"$f":"COUNTIF(L139:L164,AS8)","v":1},{"$f":"AT8/(AV4-AT20)","v":3.8461538461538464E-2},{"$f":"IF(AU8=0,0,(AU8*((LOG(AU8))/LOG(2))))","v":-0.18078614300542661}]
[12,361,14,365,13,370,14,377,null,null,0,1111,null,1121,{"$f":"COUNTIF($L$7:$L$500,N9)","v":0},{"$f":"O9/$Q$4","v":0},{"$f":"IF(P9=0,0,(P9*((LOG(P9))/LOG(2))))","v":0},null,null,{"$f":"N9","v":1121},{"$f":"COUNTIF(L7:L32,T9)","v":0},{"$f":"U9/(W4-U20)","v":0},{"$f":"IF(V9=0,0,(V9*((LOG(V9))/LOG(2))))","v":0},null,{"$f":"N9","v":1121},{"$f":"COUNTIF(L33:L59,Y9)","v":0},{"$f":"Z9/(AB4-Z20)","v":0},{"$f":"IF(AA9=0,0,(AA9*((LOG(AA9))/LOG(2))))","v":0},null,{"$f":"N9","v":1121},{"$f":"COUNTIF(L60:L85,AD9)","v":0},{"$f":"AE9/(AG4-AE20)","v":0},{"$f":"IF(AF9=0,0,(AF9*((LOG(AF9))/LOG(2))))","v":0},null,{"$f":"N9","v":1121},{"$f":"COUNTIF(L86:L111,AI9)","v":0},{"$f":"AJ9/(AL4-AJ20)","v":0},{"$f":"IF(AK9=0,0,(AK9*((LOG(AK9))/LOG(2))))","v":0},null,{"$f":"N9","v":1121},{"$f":"COUNTIF(L112:L138,AN9)","v":0},{"$f":"AO9/(AQ4-AO20)","v":0},{"$f":"IF(AP9=0,0,(AP9*((LOG(AP9))/LOG(2))))","v":0},null,{"$f":"N9","v":1121},{"$f":"COUNTIF(L139:L164,AS9)","v":0},{"$f":"AT9/(AV4-AT20)","v":0},{"$f":"IF(AU9=0,0,(AU9*((LOG(AU9))/LOG(2))))","v":0}]
[12,510,23,522,24,530,23,537,null,null,0,1222,null,1122,{"$f":"COUNTIF($L$7:$L$500,N10)","v":3},{"$f":"O10/$Q$4","v":1.8987341772151899E-2},{"$f":"IF(P10=0,0,(P10*((LOG(P10))/LOG(2))))","v":-0.10858515659726482},null,null,{"$f":"N10","v":1122},{"$f":"COUNTIF(L7:L32,T10)","v":2},{"$f":"U10/(W4-U20)","v":7.6923076923076927E-2},{"$f":"IF(V10=0,0,(V10*((LOG(V10))/LOG(2))))","v":-0.28464920908777636},null,{"$f":"N10","v":1122},{"$f":"COUNTIF(L33:L59,Y10)","v":0},{"$f":"Z10/(AB4-Z20)","v":0},{"$f":"IF(AA10=0,0,(AA10*((LOG(AA10))/LOG(2))))","v":0},null,{"$f":"N10","v":1122},{"$f":"COUNTIF(L60:L85,AD10)","v":0},{"$f":"AE10/(AG4-AE20)","v":0},{"$f":"IF(AF10=0,0,(AF10*((LOG(AF10))/LOG(2))))","v":0},null,{"$f":"N10","v":1122},{"$f":"COUNTIF(L86:L111,AI10)","v":0},{"$f":"AJ10/(AL4-AJ20)","v":0},{"$f":"IF(AK10=0,0,(AK10*((LOG(AK10))/LOG(2))))","v":0},null,{"$f":"N10","v":1122},{"$f":"COUNTIF(L112:L138,AN10)","v":1},{"$f":"AO10/(AQ4-AO20)","v":3.7037037037037035E-2},{"$f":"IF(AP10=0,0,(AP10*((LOG(AP10))/LOG(2))))","v":-0.1761069445245729},null,{"$f":"N10","v":1122},{"$f":"COUNTIF(L139:L164,AS10)","v":0},{"$f":"AT10/(AV4-AT20)","v":0},{"$f":"IF(AU10=0,0,(AU10*((LOG(AU10))/LOG(2))))","v":0}]
[12,659,14,667,13,674,14,680,null,null,0,1111,null,1211,{"$f":"COUNTIF($L$7:$L$500,N11)","v":0},{"$f":"O11/$Q$4","v":0},{"$f":"IF(P11=0,0,(P11*((LOG(P11))/LOG(2))))","v":0},null,null,{"$f":"N11","v":1211},{"$f":"COUNTIF(L7:L32,T11)","v":0},{"$f":"U11/(W4-U20)","v":0},{"$f":"IF(V11=0,0,(V11*((LOG(V11))/LOG(2))))","v":0},null,{"$f":"N11","v":1211},{"$f":"COUNTIF(L33:L59,Y11)","v":0},{"$f":"Z11/(AB4-Z20)","v":0},{"$f":"IF(AA11=0,0,(AA11*((LOG(AA11))/LOG(2))))","v":0},null,{"$f":"N11","v":1211},{"$f":"COUNTIF(L60:L85,AD11)","v":0},{"$f":"AE11/(AG4-AE20)","v":0},{"$f":"IF(AF11=0,0,(AF11*((LOG(AF11))/LOG(2))))","v":0},null,{"$f":"N11","v":1211},{"$f":"COUNTIF(L86:L111,AI11)","v":0},{"$f":"AJ11/(AL4-AJ20)","v":0},{"$f":"IF(AK11=0,0,(AK11*((LOG(AK11))/LOG(2))))","v":0},null,{"$f":"N11","v":1211},{"$f":"COUNTIF(L112:L138,AN11)","v":0},{"$f":"AO11/(AQ4-AO20)","v":0},{"$f":"IF(AP11=0,0,(AP11*((LOG(AP11))/LOG(2))))","v":0},null,{"$f":"N11","v":1211},{"$f":"COUNTIF(L139:L164,AS11)","v":0},{"$f":"AT11/(AV4-AT20)","v":0},{"$f":"IF(AU11=0,0,(AU11*((LOG(AU11))/LOG(2))))","v":0}]
[21,806,12,815,13,819,14,824,null,null,0,2111,null,1212,{"$f":"COUNTIF($L$7:$L$500,N12)","v":0},{"$f":"O12/$Q$4","v":0},{"$f":"IF(P12=0,0,(P12*((LOG(P12))/LOG(2))))","v":0},null,null,{"$f":"N12","v":1212},{"$f":"COUNTIF(L7:L32,T12)","v":0},{"$f":"U12/(W4-U20)","v":0},{"$f":"IF(V12=0,0,(V12*((LOG(V12))/LOG(2))))","v":0},null,{"$f":"N12","v":1212},{"$f":"COUNTIF(L33:L59,Y12)","v":0},{"$f":"Z12/(AB4-Z20)","v":0},{"$f":"IF(AA12=0,0,(AA12*((LOG(AA12))/LOG(2))))","v":0},null,{"$f":"N12","v":1212},{"$f":"COUNTIF(L60:L85,AD12)","v":0},{"$f":"AE12/(AG4-AE20)","v":0},{"$f":"IF(AF12=0,0,(AF12*((LOG(AF12))/LOG(2))))","v":0},null,{"$f":"N12","v":1212},{"$f":"COUNTIF(L86:L111,AI12)","v":0},{"$f":"AJ12/(AL4-AJ20)","v":0},{"$f":"IF(AK12=0,0,(AK12*((LOG(AK12))/LOG(2))))","v":0},null,{"$f":"N12","v":1212},{"$f":"COUNTIF(L112:L138,AN12)","v":0},{"$f":"AO12/(AQ4-AO20)","v":0},{"$f":"IF(AP12=0,0,(AP12*((LOG(AP12))/LOG(2))))","v":0},null,{"$f":"N12","v":1212},{"$f":"COUNTIF(L139:L164,AS12)","v":0},{"$f":"AT12/(AV4-AT20)","v":0},{"$f":"IF(AU12=0,0,(AU12*((LOG(AU12))/LOG(2))))","v":0}]
[21,947,12,956,13,960,14,965,null,null,0,2111,null,1221,{"$f":"COUNTIF($L$7:$L$500,N13)","v":0},{"$f":"O13/$Q$4","v":0},{"$f":"IF(P13=0,0,(P13*((LOG(P13))/LOG(2))))","v":0},null,null,{"$f":"N13","v":1221},{"$f":"COUNTIF(L7:L32,T13)","v":0},{"$f":"U13/(W4-U20)","v":0},{"$f":"IF(V13=0,0,(V13*((LOG(V13))/LOG(2))))","v":0},null,{"$f":"N13","v":1221},{"$f":"COUNTIF(L33:L59,Y13)","v":0},{"$f":"Z13/(AB4-Z20)","v":0},{"$f":"IF(AA13=0,0,(AA13*((LOG(AA13))/LOG(2))))","v":0},null,{"$f":"N13","v":1221},{"$f":"COUNTIF(L60:L85,AD13)","v":0},{"$f":"AE13/(AG4-AE20)","v":0},{"$f":"IF(AF13=0,0,(AF13*((LOG(AF13))/LOG(2))))","v":0},null,{"$f":"N13","v":1221},{"$f":"COUNTIF(L86:L111,AI13)","v":0},{"$f":"AJ13/(AL4-AJ20)","v":0},{"$f":"IF(AK13=0,0,(AK13*((LOG(AK13))/LOG(2))))","v":0},null,{"$f":"N13","v":1221},{"$f":"COUNTIF(L112:L138,AN13)","v":0},{"$f":"AO13/(AQ4-AO20)","v":0},{"$f":"IF(AP13=0,0,(AP13*((LOG(AP13))/LOG(2))))","v":0},null,{"$f":"N13","v":1221},{"$f":"COUNTIF(L139:L164,AS13)","v":0},{"$f":"AT13/(AV4-AT20)","v":0},{"$f":"IF(AU13=0,0,(AU13*((LOG(AU13))/LOG(2))))","v":0}]
[12,1099,14,1103,13,1107,14,1112,null,null,0,1111,null,1222,{"$f":"COUNTIF($L$7:$L$500,N14)","v":2},{"$f":"O14/$Q$4","v":1.2658227848101266E-2},{"$f":"IF(P14=0,0,(P14*((LOG(P14))/LOG(2))))","v":-7.9794693014900039E-2},null,null,{"$f":"N14","v":1222},{"$f":"COUNTIF(L7:L32,T14)","v":1},{"$f":"U14/(W4-U20)","v":3.8461538461538464E-2},{"$f":"IF(V14=0,0,(V14*((LOG(V14))/LOG(2))))","v":-0.18078614300542661},null,{"$f":"N14","v":1222},{"$f":"COUNTIF(L33:L59,Y14)","v":1},{"$f":"Z14/(AB4-Z20)","v":3.7037037037037035E-2},{"$f":"IF(AA14=0,0,(AA14*((LOG(AA14))/LOG(2))))","v":-0.1761069445245729},null,{"$f":"N14","v":1222},{"$f":"COUNTIF(L60:L85,AD14)","v":0},{"$f":"AE14/(AG4-AE20)","v":0},{"$f":"IF(AF14=0,0,(AF14*((LOG(AF14))/LOG(2))))","v":0},null,{"$f":"N14","v":1222},{"$f":"COUNTIF(L86:L111,AI14)","v":0},{"$f":"AJ14/(AL4-AJ20)","v":0},{"$f":"IF(AK14=0,0,(AK14*((LOG(AK14))/LOG(2))))","v":0},null,{"$f":"N14","v":1222},{"$f":"COUNTIF(L112:L138,AN14)","v":0},{"$f":"AO14/(AQ4-AO20)","v":0},{"$f":"IF(AP14=0,0,(AP14*((LOG(AP14))/LOG(2))))","v":0},null,{"$f":"N14","v":1222},{"$f":"COUNTIF(L139:L164,AS14)","v":0},{"$f":"AT14/(AV4-AT20)","v":0},{"$f":"IF(AU14=0,0,(AU14*((LOG(AU14))/LOG(2))))","v":0}]
[21,1240,21,1258,22,1265,23,1269,null,null,0,2222,null,2111,{"$f":"COUNTIF($L$7:$L$500,N15)","v":60},{"$f":"O15/$Q$4","v":0.379746835443038},{"$f":"IF(P15=0,0,(P15*((LOG(P15))/LOG(2))))","v":-0.53046461489946239},null,null,{"$f":"N15","v":2111},{"$f":"COUNTIF(L7:L32,T15)","v":7},{"$f":"U15/(W4-U20)","v":0.26923076923076922},{"$f":"IF(V15=0,0,(V15*((LOG(V15))/LOG(2))))","v":-0.50967667586863141},null,{"$f":"N15","v":2111},{"$f":"COUNTIF(L33:L59,Y15)","v":13},{"$f":"Z15/(AB4-Z20)","v":0.48148148148148145},{"$f":"IF(AA15=0,0,(AA15*((LOG(AA15))/LOG(2))))","v":-0.50769708119595902},null,{"$f":"N15","v":2111},{"$f":"COUNTIF(L60:L85,AD15)","v":8},{"$f":"AE15/(AG4-AE20)","v":0.30769230769230771},{"$f":"IF(AF15=0,0,(AF15*((LOG(AF15))/LOG(2))))","v":-0.52321222096648989},null,{"$f":"N15","v":2111},{"$f":"COUNTIF(L86:L111,AI15)","v":10},{"$f":"AJ15/(AL4-AJ20)","v":0.38461538461538464},{"$f":"IF(AK15=0,0,(AK15*((LOG(AK15))/LOG(2))))","v":-0.53019677817451139},null,{"$f":"N15","v":2111},{"$f":"COUNTIF(L112:L138,AN15)","v":10},{"$f":"AO15/(AQ4-AO20)","v":0.37037037037037035},{"$f":"IF(AP15=0,0,(AP15*((LOG(AP15))/LOG(2))))","v":-0.53072570639855787},null,{"$f":"N15","v":2111},{"$f":"COUNTIF(L139:L164,AS15)","v":12},{"$f":"AT15/(AV4-AT20)","v":0.46153846153846156},{"$f":"IF(AU15=0,0,(AU15*((LOG(AU15))/LOG(2))))","v":-0.51483563880920125}]
[12,1431,14,1438,13,1446,23,1462,null,null,0,1112,null,2112,{"$f":"COUNTIF($L$7:$L$500,N16)","v":3},{"$f":"O16/$Q$4","v":1.8987341772151899E-2},{"$f":"IF(P16=0,0,(P16*((LOG(P16))/LOG(2))))","v":-0.10858515659726482},null,null,{"$f":"N16","v":2112},{"$f":"COUNTIF(L7:L32,T16)","v":0},{"$f":"U16/(W4-U20)","v":0},{"$f":"IF(V16=0,0,(V16*((LOG(V16))/LOG(2))))","v":0},null,{"$f":"N16","v":2112},{"$f":"COUNTIF(L33:L59,Y16)","v":0},{"$f":"Z16/(AB4-Z20)","v":0},{"$f":"IF(AA16=0,0,(AA16*((LOG(AA16))/LOG(2))))","v":0},null,{"$f":"N16","v":2112},{"$f":"COUNTIF(L60:L85,AD16)","v":0},{"$f":"AE16/(AG4-AE20)","v":0},{"$f":"IF(AF16=0,0,(AF16*((LOG(AF16))/LOG(2))))","v":0},null,{"$f":"N16","v":2112},{"$f":"COUNTIF(L86:L111,AI16)","v":1},{"$f":"AJ16/(AL4-AJ20)","v":3.8461538461538464E-2},{"$f":"IF(AK16=0,0,(AK16*((LOG(AK16))/LOG(2))))","v":-0.18078614300542661},null,{"$f":"N16","v":2112},{"$f":"COUNTIF(L112:L138,AN16)","v":0},{"$f":"AO16/(AQ4-AO20)","v":0},{"$f":"IF(AP16=0,0,(AP16*((LOG(AP16))/LOG(2))))","v":0},null,{"$f":"N16","v":2112},{"$f":"COUNTIF(L139:L164,AS16)","v":2},{"$f":"AT16/(AV4-AT20)","v":7.6923076923076927E-2},{"$f":"IF(AU16=0,0,(AU16*((LOG(AU16))/LOG(2))))","v":-0.28464920908777636}]
[21,1585,21,1603,22,1609,14,1618,null,null,0,2221,null,2121,{"$f":"COUNTIF($L$7:$L$500,N17)","v":0},{"$f":"O17/$Q$4","v":0},{"$f":"IF(P17=0,0,(P17*((LOG(P17))/LOG(2))))","v":0},null,null,{"$f":"N17","v":2121},{"$f":"COUNTIF(L7:L32,T17)","v":0},{"$f":"U17/(W4-U20)","v":0},{"$f":"IF(V17=0,0,(V17*((LOG(V17))/LOG(2))))","v":0},null,{"$f":"N17","v":2121},{"$f":"COUNTIF(L33:L59,Y17)","v":0},{"$f":"Z17/(AB4-Z20)","v":0},{"$f":"IF(AA17=0,0,(AA17*((LOG(AA17))/LOG(2))))","v":0},null,{"$f":"N17","v":2121},{"$f":"COUNTIF(L60:L85,AD17)","v":0},{"$f":"AE17/(AG4-AE20)","v":0},{"$f":"IF(AF17=0,0,(AF17*((LOG(AF17))/LOG(2))))","v":0},null,{"$f":"N17","v":2121},{"$f":"COUNTIF(L86:L111,AI17)","v":0},{"$f":"AJ17/(AL4-AJ20)","v":0},{"$f":"IF(AK17=0,0,(AK17*((LOG(AK17))/LOG(2))))","v":0},null,{"$f":"N17","v":2121},{"$f":"COUNTIF(L112:L138,AN17)","v":0},{"$f":"AO17/(AQ4-AO20)","v":0},{"$f":"IF(AP17=0,0,(AP17*((LOG(AP17))/LOG(2))))","v":0},null,{"$f":"N17","v":2121},{"$f":"COUNTIF(L139:L164,AS17)","v":0},{"$f":"AT17/(AV4-AT20)","v":0},{"$f":"IF(AU17=0,0,(AU17*((LOG(AU17))/LOG(2))))","v":0}]
[21,1783,12,1791,13,1796,14,1810,null,null,0,2111,null,2122,{"$f":"COUNTIF($L$7:$L$500,N18)","v":0},{"$f":"O18/$Q$4","v":0},{"$f":"IF(P18=0,0,(P18*((LOG(P18))/LOG(2))))","v":0},null,null,{"$f":"N18","v":2122},{"$f":"COUNTIF(L7:L32,T18)","v":0},{"$f":"U18/(W4-U20)","v":0},{"$f":"IF(V18=0,0,(V18*((LOG(V18))/LOG(2))))","v":0},null,{"$f":"N18","v":2122},{"$f":"COUNTIF(L33:L59,Y18)","v":0},{"$f":"Z18/(AB4-Z20)","v":0},{"$f":"IF(AA18=0,0,(AA18*((LOG(AA18))/LOG(2))))","v":0},null,{"$f":"N18","v":2122},{"$f":"COUNTIF(L60:L85,AD18)","v":0},{"$f":"AE18/(AG4-AE20)","v":0},{"$f":"IF(AF18=0,0,(AF18*((LOG(AF18))/LOG(2))))","v":0},null,{"$f":"N18","v":2122},{"$f":"COUNTIF(L86:L111,AI18)","v":0},{"$f":"AJ18/(AL4-AJ20)","v":0},{"$f":"IF(AK18=0,0,(AK18*((LOG(AK18))/LOG(2))))","v":0},null,{"$f":"N18","v":2122},{"$f":"COUNTIF(L112:L138,AN18)","v":0},{"$f":"AO18/(AQ4-AO20)","v":0},{"$f":"IF(AP18=0,0,(AP18*((LOG(AP18))/LOG(2))))","v":0},null,{"$f":"N18","v":2122},{"$f":"COUNTIF(L139:L164,AS18)","v":0},{"$f":"AT18/(AV4-AT20)","v":0},{"$f":"IF(AU18=0,0,(AU18*((LOG(AU18))/LOG(2))))","v":0}]
[12,1953,14,1957,13,1962,14,1970,null,null,0,1111,null,2211,{"$f":"COUNTIF($L$7:$L$500,N19)","v":28},{"$f":"O19/$Q$4","v":0.17721518987341772},{"$f":"IF(P19=0,0,(P19*((LOG(P19))/LOG(2))))","v":-0.44240457678067069},null,null,{"$f":"N19","v":2211},{"$f":"COUNTIF(L7:L32,T19)","v":4},{"$f":"U19/(W4-U20)","v":0.15384615384615385},{"$f":"IF(V19=0,0,(V19*((LOG(V19))/LOG(2))))","v":-0.4154522643293988},null,{"$f":"N19","v":2211},{"$f":"COUNTIF(L33:L59,Y19)","v":9},{"$f":"Z19/(AB4-Z20)","v":0.33333333333333331},{"$f":"IF(AA19=0,0,(AA19*((LOG(AA19))/LOG(2))))","v":-0.52832083357371862},null,{"$f":"N19","v":2211},{"$f":"COUNTIF(L60:L85,AD19)","v":4},{"$f":"AE19/(AG4-AE20)","v":0.15384615384615385},{"$f":"IF(AF19=0,0,(AF19*((LOG(AF19))/LOG(2))))","v":-0.4154522643293988},null,{"$f":"N19","v":2211},{"$f":"COUNTIF(L86:L111,AI19)","v":5},{"$f":"AJ19/(AL4-AJ20)","v":0.19230769230769232},{"$f":"IF(AK19=0,0,(AK19*((LOG(AK19))/LOG(2))))","v":-0.45740608139494804},null,{"$f":"N19","v":2211},{"$f":"COUNTIF(L112:L138,AN19)","v":1},{"$f":"AO19/(AQ4-AO20)","v":3.7037037037037035E-2},{"$f":"IF(AP19=0,0,(AP19*((LOG(AP19))/LOG(2))))","v":-0.1761069445245729},null,{"$f":"N19","v":2211},{"$f":"COUNTIF(L139:L164,AS19)","v":5},{"$f":"AT19/(AV4-AT20)","v":0.19230769230769232},{"$f":"IF(AU19=0,0,(AU19*((LOG(AU19))/LOG(2))))","v":-0.45740608139494804}]
[12,2104,14,2109,13,2113,14,2117,null,null,0,1111,null,2212,{"$f":"COUNTIF($L$7:$L$500,N20)","v":0},{"$f":"O20/$Q$4","v":0},{"$f":"IF(P20=0,0,(P20*((LOG(P20))/LOG(2))))","v":0},null,null,{"$f":"N20","v":2212},{"$f":"COUNTIF(L7:L32,T20)","v":0},null,null,null,{"$f":"N20","v":2212},{"$f":"COUNTIF(L33:L59,Y20)","v":0},null,null,null,{"$f":"N20","v":2212},{"$f":"COUNTIF(L60:L85,AD20)","v":0},null,null,null,{"$f":"N20","v":2212},{"$f":"COUNTIF(L86:L111,AI20)","v":0},null,null,null,{"$f":"N20","v":2212},{"$f":"COUNTIF(L112:L138,AN20)","v":0},null,null,null,{"$f":"N20","v":2212},{"$f":"COUNTIF(L139:L164,AS20)","v":0}]
[12,2269,14,2273,13,2278,14,2282,null,null,0,1111,null,2221,{"$f":"COUNTIF($L$7:$L$500,N21)","v":5},{"$f":"O21/$Q$4","v":3.1645569620253167E-2},{"$f":"IF(P21=0,0,(P21*((LOG(P21))/LOG(2))))","v":-0.15765356497752345},null,null,{"$f":"N21","v":2221},{"$f":"COUNTIF(L7:L32,T21)","v":1},{"$f":"U21/(W4-U20)","v":3.8461538461538464E-2},{"$f":"IF(V21=0,0,(V21*((LOG(V21))/LOG(2))))","v":-0.18078614300542661},null,{"$f":"N21","v":2221},{"$f":"COUNTIF(L33:L59,Y21)","v":2},{"$f":"Z21/(AB4-Z20)","v":7.407407407407407E-2},{"$f":"IF(AA21=0,0,(AA21*((LOG(AA21))/LOG(2))))","v":-0.27813981497507173},null,{"$f":"N21","v":2221},{"$f":"COUNTIF(L60:L85,AD21)","v":0},{"$f":"AE21/(AG4-AE20)","v":0},{"$f":"IF(AF21=0,0,(AF21*((LOG(AF21))/LOG(2))))","v":0},null,{"$f":"N21","v":2221},{"$f":"COUNTIF(L86:L111,AI21)","v":2},{"$f":"AJ21/(AL4-AJ20)","v":7.6923076923076927E-2},{"$f":"IF(AK21=0,0,(AK21*((LOG(AK21))/LOG(2))))","v":-0.28464920908777636},null,{"$f":"N21","v":2221},{"$f":"COUNTIF(L112:L138,AN21)","v":0},{"$f":"AO21/(AQ4-AO20)","v":0},{"$f":"IF(AP21=0,0,(AP21*((LOG(AP21))/LOG(2))))","v":0},null,{"$f":"N21","v":2221},{"$f":"COUNTIF(L139:L164,AS21)","v":0},{"$f":"AT21/(AV4-AT20)","v":0},{"$f":"IF(AU21=0,0,(AU21*((LOG(AU21))/LOG(2))))","v":0}]
[21,2404,21,2414,11,2426,12,2430,null,null,0,2211,null,2222,{"$f":"COUNTIF($L$7:$L$500,N22)","v":16},{"$f":"O22/$Q$4","v":0.10126582278481013},{"$f":"IF(P22=0,0,(P22*((LOG(P22))/LOG(2))))","v":-0.33456007576476993},null,null,{"$f":"N22","v":2222},{"$f":"COUNTIF(L7:L32,T22)","v":1},{"$f":"U22/(W4-U20)","v":3.8461538461538464E-2},{"$f":"IF(V22=0,0,(V22*((LOG(V22))/LOG(2))))","v":-0.18078614300542661},null,{"$f":"N22","v":2222},{"$f":"COUNTIF(L33:L59,Y22)","v":1},{"$f":"Z22/(AB4-Z20)","v":3.7037037037037035E-2},{"$f":"IF(AA22=0,0,(AA22*((LOG(AA22))/LOG(2))))","v":-0.1761069445245729},null,{"$f":"N22","v":2222},{"$f":"COUNTIF(L60:L85,AD22)","v":2},{"$f":"AE22/(AG4-AE20)","v":7.6923076923076927E-2},{"$f":"IF(AF22=0,0,(AF22*((LOG(AF22))/LOG(2))))","v":-0.28464920908777636},null,{"$f":"N22","v":2222},{"$f":"COUNTIF(L86:L111,AI22)","v":3},{"$f":"AJ22/(AL4-AJ20)","v":0.11538461538461539},{"$f":"IF(AK22=0,0,(AK22*((LOG(AK22))/LOG(2))))","v":-0.35947814047153104},null,{"$f":"N22","v":2222},{"$f":"COUNTIF(L112:L138,AN22)","v":6},{"$f":"AO22/(AQ4-AO20)","v":0.22222222222222221},{"$f":"IF(AP22=0,0,(AP22*((LOG(AP22))/LOG(2))))","v":-0.48220555587606945},null,{"$f":"N22","v":2222},{"$f":"COUNTIF(L139:L164,AS22)","v":3},{"$f":"AT22/(AV4-AT20)","v":0.11538461538461539},{"$f":"IF(AU22=0,0,(AU22*((LOG(AU22))/LOG(2))))","v":-0.35947814047153104}]
[21,2539,21,2548,11,2558,12,2563,null,null,0,2211,null,null,null,{"$f":"SUM(P7:P22)","v":0.99999999999999989},{"$f":"-SUM(Q7:Q22)","v":2.3867645231064767},null,null,null,null,{"$f":"SUM(V7:V22)","v":0.99999999999999989},{"$f":"-SUM(W7:W22)","v":2.4627162770878597},null,null,null,{"$f":"SUM(AA7:AA22)","v":1},{"$f":"-SUM(AB7:AB22)","v":1.8424785633184682},null,null,null,{"$f":"SUM(AF7:AF22)","v":1},{"$f":"-SUM(AG7:AG22)","v":1.9291417256406971},null,null,null,{"$f":"SUM(AK7:AK22)","v":1},{"$f":"-SUM(AL7:AL22)","v":2.4087547594690188},null,null,null,{"$f":"SUM(AP7:AP22)","v":0.99999999999999989},{"$f":"-SUM(AQ7:AQ22)","v":1.8934659848974915},null,null,null,{"$f":"SUM(AU7:AU22)","v":1},{"$f":"-SUM(AV7:AV22)","v":2.1566333532404141}]
[21,2689,12,2701,13,2706,14,2711,null,null,0,2111,null,null,null,"U=",{"$f":"Q23/(LOG(Q4)/LOG(2))","v":0.32678479891420231},null,null,null,null,"U1=",{"$f":"W23/(LOG(W4)/LOG(2))","v":0.52393316897207298},null,null,null,"U2=",{"$f":"AB23/(LOG(AB4)/LOG(2))","v":0.38749151530507137},null,null,null,"U3=",{"$f":"AG23/(LOG(AG4)/LOG(2))","v":0.41041728887518319},null,null,null,"U4=",{"$f":"AL23/(LOG(AL4)/LOG(2))","v":0.51245306905491428},null,null,null,"U5=",{"$f":"AQ23/(LOG(AQ4)/LOG(2))","v":0.3982146757491038},null,null,null,"U6=",{"$f":"AV23/(LOG(AV4)/LOG(2))","v":0.45881523486345432}]
[21,2813,12,2841,13,2845,14,2855,null,null,0,2111]
[12,2954,14,2958,24,2976,23,2984,null,null,0,1122]
[12,3130,14,3136,13,3145,14,3152,null,null,0,1111,null,"Total Target Seq"]
[21,3271,21,3281,11,3292,12,3296,null,null,0,2211,null,{"$f":"COUNTIF(L7:L164,G3)","v":0},null,26,27,26,26,27,26]
[21,3422,12,3432,13,3436,14,3440,null,null,0,2111,null,null,null,"% of reinforcement given in 6 equal intervals based on number of trials "]
[21,3552,21,3558,11,3567,12,3571,null,null,0,2211,null,null,null,"%_1","%_2","%_3","%_4","%_5","%_6"]
[21,3724,12,3733,13,3738,14,3742,null,null,0,2111,null,null,"target sequence",{"$f":"$G$3","v":2212},{"$f":"$G$3","v":2212},{"$f":"$G$3","v":2212},{"$f":"$G$3","v":2212},{"$f":"$G$3","v":2212},{"$f":"$G$3","v":2212}]
[12,3882,14,3886,13,3891,14,3899,null,null,0,1111,null,null,"total reinforcement",{"$f":"U20","v":0},{"$f":"Z20","v":0},{"$f":"AE20","v":0},{"$f":"AJ20","v":0},{"$f":"AO20","v":0},{"$f":"AT20","v":0}]
[21,4046,21,4055,11,4065,12,4069,null,null,0,2211,null,null,"% target"]
[21,4213,12,4243,13,4253,14,4261,null,null,0,2111,null,null,"CCRF"]
[21,4394,12,4403,13,4407,14,4412,null,null,0,2111,null,null,"% CCRf"]
[21,4525,21,4533,11,4546,12,4550,null,null,0,2211,null,null,"average response rate",{"$f":"H32/P28","v":149.96153846153845},{"$f":"(H59-H32)/Q28","v":147.03703703703704},{"$f":"(H85-H59)/R28","v":152.96153846153845},{"$f":"(H111-H85)/S28","v":159.34615384615384},{"$f":"(H138-H111)/T28","v":139},{"$f":"(H164-H138)/U28","v":162.03846153846155}]
[21,4657,21,4667,22,4676,14,4686,null,null,0,2221]
[12,4788,23,4798,24,4810,23,4814,null,null,0,1222]
[21,4953,12,4965,13,4969,14,4977,null,null,0,2111]
[21,5090,21,5097,11,5106,12,5110,null,null,0,2211]
[21,5251,12,5263,13,5267,14,5271,null,null,0,2111]
[21,5390,21,5397,11,5409,12,5413,null,null,0,2211]
[21,5533,12,5543,13,5547,14,5551,null,null,0,2111]
[21,5666,12,5675,13,5680,14,5684,null,null,0,2111]
[21,5792,21,5803,11,5812,12,5816,null,null,0,2211]
[21,6042,12,6051,13,6055,14,6059,null,null,0,2111]
[21,6195,21,6203,11,6216,12,6220,null,null,0,2211]
[21,6327,21,6335,22,6352,14,6362,null,null,0,2221]
[21,6481,21,6488,11,6497,12,6502,null,null,0,2211]
[21,6617,12,6628,13,6633,14,6640,null,null,0,2111]
[21,6768,12,6776,13,6781,14,6788,null,null,0,2111]
[21,6916,12,6926,13,6930,14,6934,null,null,0,2111]
[21,7046,21,7053,11,7065,12,7069,null,null,0,2211]
[21,7187,12,7202,13,7207,14,7215,null,null,0,2111]
[21,7328,12,7338,13,7342,14,7346,null,null,0,2111]
[21,7464,21,7477,22,7484,23,7497,null,null,0,2222]
[21,7600,21,7614,11,7623,12,7627,null,null,0,2211]
[12,7729,14,7735,13,7739,14,7744,null,null,0,1111]
[21,7852,12,7861,13,7865,14,7869,null,null,0,2111]
[12,8018,14,8022,13,8026,23,8039,null,null,0,1112]
[21,8186,12,8196,13,8200,14,8215,null,null,0,2111]
[21,8333,21,8347,11,8356,12,8360,null,null,0,2211]
[12,8555,14,8559,13,8563,14,8571,null,null,0,1111]
[12,8731,14,8735,13,8740,14,8747,null,null,0,1111]
[21,8888,21,8890,22,8903,23,8908,null,null,0,2222]
[12,9021,14,9025,13,9029,14,9038,null,null,0,1111]
[21,9178,12,9186,13,9190,14,9195,null,null,0,2111]
[21,9308,12,9317,13,9321,14,9326,null,null,0,2111]
[12,9482,14,9488,13,9496,14,9504,null,null,0,1111]
[21,9612,12,9622,13,9626,14,9631,null,null,0,2111]
[12,9754,14,9758,13,9762,14,9767,null,null,0,1111]
[12,9897,14,9901,13,9905,14,9909,null,null,0,1111]
[12,10057,14,10062,13,10066,14,10071,null,null,0,1111]
[21,10180,21,10194,11,10202,12,10207,null,null,0,2211]
[12,10426,14,10430,13,10434,14,10438,null,null,0,1111]
[12,10564,14,10568,13,10572,14,10579,null,null,0,1111]
[21,10695,21,10701,11,10714,12,10722,null,null,0,2211]
[21,10826,21,10832,11,10840,12,10846,null,null,0,2211]
[21,10990,12,11001,13,11005,14,11010,null,null,0,2111]
[21,11135,12,11150,13,11154,14,11161,null,null,0,2111]
[21,11270,12,11280,13,11284,14,11288,null,null,0,2111]
[12,11426,14,11431,13,11435,14,11443,null,null,0,1111]
[12,11554,14,11558,13,11562,14,11566,null,null,0,1111]
[21,11685,12,11695,13,11699,14,11703,null,null,0,2111]
[21,11823,21,11831,22,11839,23,11846,null,null,0,2222]
[12,11966,14,11972,13,11981,23,12001,null,null,0,1112]
[21,12113,12,12121,13,12126,14,12130,null,null,0,2111]
[21,12269,12,12277,13,12281,14,12285,null,null,0,2111]
[21,12410,12,12422,13,12430,14,12434,null,null,0,2111]
[21,12561,21,12569,22,12578,14,12590,null,null,0,2221]
[21,12753,12,12768,13,12776,23,12789,null,null,0,2112]
[21,12939,21,12944,11,12958,12,12963,null,null,0,2211]
[12,13184,14,13198,13,13203,14,13207,null,null,0,1111]
[21,13348,21,13354,11,13365,12,13370,null,null,0,2211]
[21,13480,21,13495,11,13504,12,13508,null,null,0,2211]
[21,13706,12,13717,13,13721,14,13725,null,null,0,2111]
[21,13855,12,13864,13,13868,14,13872,null,null,0,2111]
[21,13977,21,13982,22,13988,23,13995,null,null,0,2222]
[21,14101,21,14109,11,14120,12,14128,null,null,0,2211]
[21,14250,21,14260,22,14275,14,14291,null,null,0,2221]
[12,14389,14,14394,13,14400,14,14407,null,null,0,1111]
[21,14528,21,14538,11,14551,12,14559,null,null,0,2211]
[21,14818,21,14823,22,14828,23,14833,null,null,0,2222]
[21,14940,21,14952,22,14957,23,14963,null,null,0,2222]
[21,15086,12,15094,13,15098,14,15103,null,null,0,2111]
[21,15213,12,15228,13,15232,14,15237,null,null,0,2111]
[12,15411,14,15415,13,15420,14,15429,null,null,0,1111]
[21,15555,12,15565,13,15573,14,15586,null,null,0,2111]
[21,15698,12,15706,13,15710,14,15714,null,null,0,2111]
[21,15823,12,15838,13,15842,14,15850,null,null,0,2111]
[12,15977,14,15981,13,15985,14,15989,null,null,0,1111]
[21,16099,21,16107,22,16115,23,16122,null,null,0,2222]
[12,16244,14,16251,24,16269,23,16290,null,null,0,1122]
[12,16383,14,16398,13,16402,14,16407,null,null,0,1111]
[12,16508,14,16512,13,16516,14,16520,null,null,0,1111]
[21,16633,12,16643,13,16648,14,16651,null,null,0,2111]
[21,16759,21,16763,22,16770,23,16775,null,null,0,2222]
[12,16881,14,16884,13,16888,14,16892,null,null,0,1111]
[12,16995,14,16999,13,17003,14,17007,null,null,0,1111]
[12,17106,14,17112,13,17116,14,17120,null,null,0,1111]
[21,17259,12,17272,13,17276,14,17282,null,null,0,2111]
[21,17388,12,17398,13,17402,14,17406,null,null,0,2111]
[12,17505,14,17509,13,17513,14,17518,null,null,0,1111]
[21,17629,12,17641,13,17645,14,17649,null,null,0,2111]
[21,17775,12,17787,13,17790,14,17795,null,null,0,2111]
[21,17907,12,17921,13,17930,14,17937,null,null,0,2111]
[21,18073,12,18083,13,18088,14,18092,null,null,0,2111]
[21,18236,12,18248,13,18252,14,18256,null,null,0,2111]
[12,18355,14,18362,13,18366,14,18370,null,null,0,1111]
[21,18483,21,18488,22,18494,23,18499,null,null,0,2222]
[12,18613,14,18619,13,18623,14,18627,null,null,0,1111]
[21,18749,21,18755,22,18760,23,18764,null,null,0,2222]
[21,18892,21,18894,22,18902,23,18906,null,null,0,2222]
[12,19041,14,19045,13,19050,14,19055,null,null,0,1111]
[21,19181,12,19192,13,19196,14,19200,null,null,0,2111]
[21,19309,21,19318,11,19327,12,19334,null,null,0,2211]
[21,19560,12,19570,13,19574,14,19579,null,null,0,2111]
[21,19728,21,19732,22,19737,23,19742,null,null,0,2222]
[21,19872,12,19883,13,19886,14,19891,null,null,0,2111]
[21,20028,21,20032,11,20043,12,20047,null,null,0,2211]
[21,20178,12,20186,13,20190,14,20198,null,null,0,2111]
[21,20344,12,20355,13,20363,14,20385,null,null,0,2111]
[21,20499,12,20508,13,20512,14,20518,null,null,0,2111]
[21,20658,21,20663,22,20668,23,20672,null,null,0,2222]
[21,20796,12,20812,13,20822,23,20835,null,null,0,2112]
[21,20977,12,20991,13,20996,23,21008,null,null,0,2112]
[21,21145,12,21162,13,21170,14,21177,null,null,0,2111]
[21,21315,21,21322,22,21326,23,21331,null,null,0,2222]
[21,21463,21,21469,22,21473,23,21477,null,null,0,2222]
[12,21600,14,21608,13,21612,14,21618,null,null,0,1111]
[21,21736,21,21745,11,21757,12,21761,null,null,0,2211]
[21,21882,12,21895,13,21899,14,21903,null,null,0,2111]
[12,22043,14,22051,13,22063,23,22075,null,null,0,1112]
[21,22210,12,22222,13,22226,14,22231,null,null,0,2111]
[21,22371,21,22380,11,22391,12,22396,null,null,0,2211]
[21,22609,12,22618,13,22626,14,22630,null,null,0,2111]
[12,22785,14,22791,13,22799,14,22808,null,null,0,1111]
[21,22928,21,22936,11,22945,12,22949,null,null,0,2211]
[21,23211,12,23221,13,23225,14,23229,null,null,0,2111]
[21,23332,21,23338,11,23347,12,23351,null,null,0,2211]
[21,23473,12,23483,13,23487,14,23491,null,null,0,2111]
[12,23627,14,23630,13,23638,14,23646,null,null,0,1111]
[21,23763,12,23775,13,23779,14,23788,null,null,0,2111]
[21,23929,12,23938,13,23946,14,23955,null,null,null,2111]

{"sheet":"!L809B00.053","index":15,"n_rows":164,"n_cols":48,"rows_kept":164,"cut":false,"hidden":false,"merged":[[4,39,4,42],[5,39,5,40],[4,44,4,47],[5,44,5,45],[4,24,4,27],[5,24,5,25],[4,29,4,32],[5,29,5,30],[4,34,4,37],[5,34,5,35],[1,1,1,2],[5,13,5,14],[26,13,26,14],[27,13,27,14],[4,19,4,22],[5,19,5,20]]}
["Report for:!L809B00.053"]
["Date:","<date>"]
["Hen:","<hen>",null,null,null,"Correct Sequence",{"$f":"Start!J2","v":2212},null,null,null,null,null,null,null,null,"Total Sequences in Data",{"$f":"4994-COUNTBLANK(L7:L5000)","v":158},null,null,null,null,"Total Sequences in Block Data",{"$f":"COUNTA(L7:L32)","v":26},null,null,null,"Total Sequences in Block Data",{"$f":"COUNTA(L33:L59)","v":27},null,null,null,"Total Sequences in Block Data",{"$f":"COUNTA(L60:L85)","v":26},null,null,null,"Total Sequences in Block Data",{"$f":"COUNTA(L86:L111)","v":26},null,null,null,"Total Sequences in Block Data",{"$f":"COUNTA(L112:L138)","v":27},null,null,null,"Total Sequences in Block Data",{"$f":"COUNTA(L139:L164)","v":26}]
[null,null,null,null,null,null,null,null,null,null,null,null,null,null,null,"Total Sequences in Summary",{"$f":"SUM(O7:O22)","v":158},null,null,null,null,"Total Sequences in Block Summary",{"$f":"SUM(U7:U22)","v":26},null,null,null,"Total Sequences in Block Summary",{"$f":"SUM(Z7:Z22)","v":27},null,null,null,"Total Sequences in Block Summary",{"$f":"SUM(AE7:AE22)","v":26},null,null,null,"Total Sequences in Block Summary",{"$f":"SUM(AJ7:AJ22)","v":26},null,null,null,"Total Sequences in Block Summary",{"$f":"SUM(AO7:AO22)","v":27},null,null,null,"Total Sequences in Block Summary",{"$f":"SUM(AT7:AT22)","v":26}]
[null,null,null,null,null,null,null,null,null,null,null,null,null,null,null,null,null,null,null,"Block 1",null,null,null,null,"Block 2",null,null,null,null,"Block 3",null,null,null,null,"Block 4",null,null,null,null,"Block 5",null,null,null,null,"Block 6"]
["Sequence\nComponent\n1","Time\n1","Sequence\nComponent\n2","Time\n2","Sequence\nComponent\n3","Time\n3","Sequence\nComponent\n4","Time\n4","Sequence\nComponent\n5","Time\n5","Correct?\n0=No 1=Yes","Sequence",null,"Frequency",null,"Relative Frequency","Variability",null,null,"Frequency",null,"Relative Frequency","Variability",null,"Frequency",null,"Relative Frequency","Variability",null,"Frequency",null,"Relative Frequency","Variability",null,"Frequency",null,"Relative Frequency","Variability",null,"Frequency",null,"Relative Frequency","Variability",null,"Frequency",null,"Relative Frequency","Variability"]
[12,80,14,87,13,92,14,100,null,null,0,1111,null,1111,{"$f":"COUNTIF($L$7:$L$500,N7)","v":40},{"$f":"O7/$Q$4","v":0.25316455696202533},{"$f":"IF(P7=0,0,(P7*((LOG(P7))/LOG(2))))","v":-0.50173484893411158},null,null,{"$f":"N7","v":1111},{"$f":"COUNTIF(L7:L32,T7)","v":12},{"$f":"U7/(W4-U20)","v":0.46153846153846156},{"$f":"IF(V7=0,0,(V7*((LOG(V7))/LOG(2))))","v":-0.51483563880920125},null,{"$f":"N7","v":1111},{"$f":"COUNTIF(L33:L59,Y7)","v":12},{"$f":"Z7/(AB4-Z20)","v":0.44444444444444442},{"$f":"IF(AA7=0,0,(AA7*((LOG(AA7))/LOG(2))))","v":-0.51996666730769447},null,{"$f":"N7","v":1111},{"$f":"COUNTIF(L60:L85,AD7)","v":5},{"$f":"AE7/(AG4-AE20)","v":0.19230769230769232},{"$f":"IF(AF7=0,0,(AF7*((LOG(AF7))/LOG(2))))","v":-0.45740608139494804},null,{"$f":"N7","v":1111},{"$f":"COUNTIF(L86:L111,AI7)","v":7},{"$f":"AJ7/(AL4-AJ20)","v":0.26923076923076922},{"$f":"IF(AK7=0,0,(AK7*((LOG(AK7))/LOG(2))))","v":-0.50967667586863141},null,{"$f":"N7","v":1111},{"$f":"COUNTIF(L112:L138,AN7)","v":2},{"$f":"AO7/(AQ4-AO20)","v":7.407407407407407E-2},{"$f":"IF(AP7=0,0,(AP7*((LOG(AP7))/LOG(2))))","v":-0.27813981497507173},null,{"$f":"N7","v":1111},{"$f":"COUNTIF(L139:L164,AS7)","v":2},{"$f":"AT7/(AV4-AT20)","v":7.6923076923076927E-2},{"$f":"IF(AU7=0,0,(AU7*((LOG(AU7))/LOG(2))))","v":-0.28464920908777636}]
[12,204,14,208,13,213,14,217,null,null,0,1111,null,1112,{"$f":"COUNTIF($L$7:$L$500,N8)","v":5},{"$f":"O8/$Q$4","v":3.1645569620253167E-2},{"$f":"IF(P8=0,0,(P8*((LOG(P8))/LOG(2))))","v":-0.15765356497752345},null,null,{"$f":"N8","v":1112},{"$f":"COUNTIF(L7:L32,T8)","v":2},{"$f":"U8/(W4-U20)","v":7.6923076923076927E-2},{"$f":"IF(V8=0,0,(V8*((LOG(V8))/LOG(2))))","v":-0.28464920908777636},null,{"$f":"N8","v":1112},{"$f":"COUNTIF(L33:L59,Y8)","v":1},{"$f":"Z8/(AB4-Z20)","v":3.7037037037037035E-2},{"$f":"IF(AA8=0,0,(AA8*((LOG(AA8))/LOG(2))))","v":-0.1761069445245729},null,{"$f":"N8","v":1112},{"$f":"COUNTIF(L60:L85,AD8)","v":0},{"$f":"AE8/(AG4-AE20)","v":0},{"$f":"IF(AF8=0,0,(AF8*((LOG(AF8))/LOG(2))))","v":0},null,{"$f":"N8","v":1112},{"$f":"COUNTIF(L86:L111,AI8)","v":1},{"$f":"AJ8/(AL4-AJ20)","v":3.8461538461538464E-2},{"$f":"IF(AK8=0,0,(AK8*((LOG(AK8))/LOG(2))))","v":-0.18078614300542661},null,{"$f":"N8","v":1112},{"$f":"COUNTIF(L112:L138,AN8)","v":0},{"$f":"AO8/(AQ4-AO20)","v":0},{"$f":"IF(AP8=0,0,(AP8*((LOG(AP8))/LOG(2))))","v":0},null,{"$f":"N8","v":1112},{"$f":"COUNTIF(L139:L164,AS8)","v":1},{"$f":"AT8/(AV4-AT20)","v":3.8461538461538464E-2},{"$f":"IF(AU8=0,0,(AU8*((LOG(AU8))/LOG(2))))","v":-0.18078614300542661}]
[12,317,14,336,13,340,14,345,null,null,0,1111,null,1121,{"$f":"COUNTIF($L$7:$L$500,N9)","v":0},{"$f":"O9/$Q$4","v":0},{"$f":"IF(P9=0,0,(P9*((LOG(P9))/LOG(2))))","v":0},null,null,{"$f":"N9","v":1121},{"$f":"COUNTIF(L7:L32,T9)","v":0},{"$f":"U9/(W4-U20)","v":0},{"$f":"IF(V9=0,0,(V9*((LOG(V9))/LOG(2))))","v":0},null,{"$f":"N9","v":1121},{"$f":"COUNTIF(L33:L59,Y9)","v":0},{"$f":"Z9/(AB4-Z20)","v":0},{"$f":"IF(AA9=0,0,(AA9*((LOG(AA9))/LOG(2))))","v":0},null,{"$f":"N9","v":1121},{"$f":"COUNTIF(L60:L85,AD9)","v":0},{"$f":"AE9/(AG4-AE20)","v":0},{"$f":"IF(AF9=0,0,(AF9*((LOG(AF9))/LOG(2))))","v":0},null,{"$f":"N9","v":1121},{"$f":"COUNTIF(L86:L111,AI9)","v":0},{"$f":"AJ9/(AL4-AJ20)","v":0},{"$f":"IF(AK9=0,0,(AK9*((LOG(AK9))/LOG(2))))","v":0},null,{"$f":"N9","v":1121},{"$f":"COUNTIF(L112:L138,AN9)","v":0},{"$f":"AO9/(AQ4-AO20)","v":0},{"$f":"IF(AP9=0,0,(AP9*((LOG(AP9))/LOG(2))))","v":0},null,{"$f":"N9","v":1121},{"$f":"COUNTIF(L139:L164,AS9)","v":0},{"$f":"AT9/(AV4-AT20)","v":0},{"$f":"IF(AU9=0,0,(AU9*((LOG(AU9))/LOG(2))))","v":0}]
[12,460,23,470,24,484,14,500,null,null,0,1221,null,1122,{"$f":"COUNTIF($L$7:$L$500,N10)","v":0},{"$f":"O10/$Q$4","v":0},{"$f":"IF(P10=0,0,(P10*((LOG(P10))/LOG(2))))","v":0},null,null,{"$f":"N10","v":1122},{"$f":"COUNTIF(L7:L32,T10)","v":0},{"$f":"U10/(W4-U20)","v":0},{"$f":"IF(V10=0,0,(V10*((LOG(V10))/LOG(2))))","v":0},null,{"$f":"N10","v":1122},{"$f":"COUNTIF(L33:L59,Y10)","v":0},{"$f":"Z10/(AB4-Z20)","v":0},{"$f":"IF(AA10=0,0,(AA10*((LOG(AA10))/LOG(2))))","v":0},null,{"$f":"N10","v":1122},{"$f":"COUNTIF(L60:L85,AD10)","v":0},{"$f":"AE10/(AG4-AE20)","v":0},{"$f":"IF(AF10=0,0,(AF10*((LOG(AF10))/LOG(2))))","v":0},null,{"$f":"N10","v":1122},{"$f":"COUNTIF(L86:L111,AI10)","v":0},{"$f":"AJ10/(AL4-AJ20)","v":0},{"$f":"IF(AK10=0,0,(AK10*((LOG(AK10))/LOG(2))))","v":0},null,{"$f":"N10","v":1122},{"$f":"COUNTIF(L112:L138,AN10)","v":0},{"$f":"AO10/(AQ4-AO20)","v":0},{"$f":"IF(AP10=0,0,(AP10*((LOG(AP10))/LOG(2))))","v":0},null,{"$f":"N10","v":1122},{"$f":"COUNTIF(L139:L164,AS10)","v":0},{"$f":"AT10/(AV4-AT20)","v":0},{"$f":"IF(AU10=0,0,(AU10*((LOG(AU10))/LOG(2))))","v":0}]
[12,621,14,625,13,630,23,643,null,null,0,1112,null,1211,{"$f":"COUNTIF($L$7:$L$500,N11)","v":1},{"$f":"O11/$Q$4","v":6.3291139240506328E-3},{"$f":"IF(P11=0,0,(P11*((LOG(P11))/LOG(2))))","v":-4.6226460431500652E-2},null,null,{"$f":"N11","v":1211},{"$f":"COUNTIF(L7:L32,T11)","v":0},{"$f":"U11/(W4-U20)","v":0},{"$f":"IF(V11=0,0,(V11*((LOG(V11))/LOG(2))))","v":0},null,{"$f":"N11","v":1211},{"$f":"COUNTIF(L33:L59,Y11)","v":0},{"$f":"Z11/(AB4-Z20)","v":0},{"$f":"IF(AA11=0,0,(AA11*((LOG(AA11))/LOG(2))))","v":0},null,{"$f":"N11","v":1211},{"$f":"COUNTIF(L60:L85,AD11)","v":0},{"$f":"AE11/(AG4-AE20)","v":0},{"$f":"IF(AF11=0,0,(AF11*((LOG(AF11))/LOG(2))))","v":0},null,{"$f":"N11","v":1211},{"$f":"COUNTIF(L86:L111,AI11)","v":0},{"$f":"AJ11/(AL4-AJ20)","v":0},{"$f":"IF(AK11=0,0,(AK11*((LOG(AK11))/LOG(2))))","v":0},null,{"$f":"N11","v":1211},{"$f":"COUNTIF(L112:L138,AN11)","v":0},{"$f":"AO11/(AQ4-AO20)","v":0},{"$f":"IF(AP11=0,0,(AP11*((LOG(AP11))/LOG(2))))","v":0},null,{"$f":"N11","v":1211},{"$f":"COUNTIF(L139:L164,AS11)","v":1},{"$f":"AT11/(AV4-AT20)","v":3.8461538461538464E-2},{"$f":"IF(AU11=0,0,(AU11*((LOG(AU11))/LOG(2))))","v":-0.18078614300542661}]
[12,811,14,815,13,817,23,834,null,null,0,1112,null,1212,{"$f":"COUNTIF($L$7:$L$500,N12)","v":1},{"$f":"O12/$Q$4","v":6.3291139240506328E-3},{"$f":"IF(P12=0,0,(P12*((LOG(P12))/LOG(2))))","v":-4.6226460431500652E-2},null,null,{"$f":"N12","v":1212},{"$f":"COUNTIF(L7:L32,T12)","v":0},{"$f":"U12/(W4-U20)","v":0},{"$f":"IF(V12=0,0,(V12*((LOG(V12))/LOG(2))))","v":0},null,{"$f":"N12","v":1212},{"$f":"COUNTIF(L33:L59,Y12)","v":0},{"$f":"Z12/(AB4-Z20)","v":0},{"$f":"IF(AA12=0,0,(AA12*((LOG(AA12))/LOG(2))))","v":0},null,{"$f":"N12","v":1212},{"$f":"COUNTIF(L60:L85,AD12)","v":0},{"$f":"AE12/(AG4-AE20)","v":0},{"$f":"IF(AF12=0,0,(AF12*((LOG(AF12))/LOG(2))))","v":0},null,{"$f":"N12","v":1212},{"$f":"COUNTIF(L86:L111,AI12)","v":1},{"$f":"AJ12/(AL4-AJ20)","v":3.8461538461538464E-2},{"$f":"IF(AK12=0,0,(AK12*((LOG(AK12))/LOG(2))))","v":-0.18078614300542661},null,{"$f":"N12","v":1212},{"$f":"COUNTIF(L112:L138,AN12)","v":0},{"$f":"AO12/(AQ4-AO20)","v":0},{"$f":"IF(AP12=0,0,(AP12*((LOG(AP12))/LOG(2))))","v":0},null,{"$f":"N12","v":1212},{"$f":"COUNTIF(L139:L164,AS12)","v":0},{"$f":"AT12/(AV4-AT20)","v":0},{"$f":"IF(AU12=0,0,(AU12*((LOG(AU12))/LOG(2))))","v":0}]
[12,978,14,984,13,989,14,997,null,null,0,1111,null,1221,{"$f":"COUNTIF($L$7:$L$500,N13)","v":1},{"$f":"O13/$Q$4","v":6.3291139240506328E-3},{"$f":"IF(P13=0,0,(P13*((LOG(P13))/LOG(2))))","v":-4.6226460431500652E-2},null,null,{"$f":"N13","v":1221},{"$f":"COUNTIF(L7:L32,T13)","v":1},{"$f":"U13/(W4-U20)","v":3.8461538461538464E-2},{"$f":"IF(V13=0,0,(V13*((LOG(V13))/LOG(2))))","v":-0.18078614300542661},null,{"$f":"N13","v":1221},{"$f":"COUNTIF(L33:L59,Y13)","v":0},{"$f":"Z13/(AB4-Z20)","v":0},{"$f":"IF(AA13=0,0,(AA13*((LOG(AA13))/LOG(2))))","v":0},null,{"$f":"N13","v":1221},{"$f":"COUNTIF(L60:L85,AD13)","v":0},{"$f":"AE13/(AG4-AE20)","v":0},{"$f":"IF(AF13=0,0,(AF13*((LOG(AF13))/LOG(2))))","v":0},null,{"$f":"N13","v":1221},{"$f":"COUNTIF(L86:L111,AI13)","v":0},{"$f":"AJ13/(AL4-AJ20)","v":0},{"$f":"IF(AK13=0,0,(AK13*((LOG(AK13))/LOG(2))))","v":0},null,{"$f":"N13","v":1221},{"$f":"COUNTIF(L112:L138,AN13)","v":0},{"$f":"AO13/(AQ4-AO20)","v":0},{"$f":"IF(AP13=0,0,(AP13*((LOG(AP13))/LOG(2))))","v":0},null,{"$f":"N13","v":1221},{"$f":"COUNTIF(L139:L164,AS13)","v":0},{"$f":"AT13/(AV4-AT20)","v":0},{"$f":"IF(AU13=0,0,(AU13*((LOG(AU13))/LOG(2))))","v":0}]
[21,1143,21,1161,22,1168,23,1176,null,null,0,2222,null,1222,{"$f":"COUNTIF($L$7:$L$500,N14)","v":5},{"$f":"O14/$Q$4","v":3.1645569620253167E-2},{"$f":"IF(P14=0,0,(P14*((LOG(P14))/LOG(2))))","v":-0.15765356497752345},null,null,{"$f":"N14","v":1222},{"$f":"COUNTIF(L7:L32,T14)","v":0},{"$f":"U14/(W4-U20)","v":0},{"$f":"IF(V14=0,0,(V14*((LOG(V14))/LOG(2))))","v":0},null,{"$f":"N14","v":1222},{"$f":"COUNTIF(L33:L59,Y14)","v":0},{"$f":"Z14/(AB4-Z20)","v":0},{"$f":"IF(AA14=0,0,(AA14*((LOG(AA14))/LOG(2))))","v":0},null,{"$f":"N14","v":1222},{"$f":"COUNTIF(L60:L85,AD14)","v":0},{"$f":"AE14/(AG4-AE20)","v":0},{"$f":"IF(AF14=0,0,(AF14*((LOG(AF14))/LOG(2))))","v":0},null,{"$f":"N14","v":1222},{"$f":"COUNTIF(L86:L111,AI14)","v":0},{"$f":"AJ14/(AL4-AJ20)","v":0},{"$f":"IF(AK14=0,0,(AK14*((LOG(AK14))/LOG(2))))","v":0},null,{"$f":"N14","v":1222},{"$f":"COUNTIF(L112:L138,AN14)","v":2},{"$f":"AO14/(AQ4-AO20)","v":7.407407407407407E-2},{"$f":"IF(AP14=0,0,(AP14*((LOG(AP14))/LOG(2))))","v":-0.27813981497507173},null,{"$f":"N14","v":1222},{"$f":"COUNTIF(L139:L164,AS14)","v":3},{"$f":"AT14/(AV4-AT20)","v":0.11538461538461539},{"$f":"IF(AU14=0,0,(AU14*((LOG(AU14))/LOG(2))))","v":-0.35947814047153104}]
[12,1346,14,1351,13,1358,14,1359,null,null,0,1111,null,2111,{"$f":"COUNTIF($L$7:$L$500,N15)","v":54},{"$f":"O15/$Q$4","v":0.34177215189873417},{"$f":"IF(P15=0,0,(P15*((LOG(P15))/LOG(2))))","v":-0.52936857775149526},null,null,{"$f":"N15","v":2111},{"$f":"COUNTIF(L7:L32,T15)","v":3},{"$f":"U15/(W4-U20)","v":0.11538461538461539},{"$f":"IF(V15=0,0,(V15*((LOG(V15))/LOG(2))))","v":-0.35947814047153104},null,{"$f":"N15","v":2111},{"$f":"COUNTIF(L33:L59,Y15)","v":10},{"$f":"Z15/(AB4-Z20)","v":0.37037037037037035},{"$f":"IF(AA15=0,0,(AA15*((LOG(AA15))/LOG(2))))","v":-0.53072570639855787},null,{"$f":"N15","v":2111},{"$f":"COUNTIF(L60:L85,AD15)","v":12},{"$f":"AE15/(AG4-AE20)","v":0.46153846153846156},{"$f":"IF(AF15=0,0,(AF15*((LOG(AF15))/LOG(2))))","v":-0.51483563880920125},null,{"$f":"N15","v":2111},{"$f":"COUNTIF(L86:L111,AI15)","v":7},{"$f":"AJ15/(AL4-AJ20)","v":0.26923076923076922},{"$f":"IF(AK15=0,0,(AK15*((LOG(AK15))/LOG(2))))","v":-0.50967667586863141},null,{"$f":"N15","v":2111},{"$f":"COUNTIF(L112:L138,AN15)","v":10},{"$f":"AO15/(AQ4-AO20)","v":0.37037037037037035},{"$f":"IF(AP15=0,0,(AP15*((LOG(AP15))/LOG(2))))","v":-0.53072570639855787},null,{"$f":"N15","v":2111},{"$f":"COUNTIF(L139:L164,AS15)","v":12},{"$f":"AT15/(AV4-AT20)","v":0.46153846153846156},{"$f":"IF(AU15=0,0,(AU15*((LOG(AU15))/LOG(2))))","v":-0.51483563880920125}]
[21,1476,21,1498,22,1507,23,1512,null,null,0,2222,null,2112,{"$f":"COUNTIF($L$7:$L$500,N16)","v":1},{"$f":"O16/$Q$4","v":6.3291139240506328E-3},{"$f":"IF(P16=0,0,(P16*((LOG(P16))/LOG(2))))","v":-4.6226460431500652E-2},null,null,{"$f":"N16","v":2112},{"$f":"COUNTIF(L7:L32,T16)","v":0},{"$f":"U16/(W4-U20)","v":0},{"$f":"IF(V16=0,0,(V16*((LOG(V16))/LOG(2))))","v":0},null,{"$f":"N16","v":2112},{"$f":"COUNTIF(L33:L59,Y16)","v":0},{"$f":"Z16/(AB4-Z20)","v":0},{"$f":"IF(AA16=0,0,(AA16*((LOG(AA16))/LOG(2))))","v":0},null,{"$f":"N16","v":2112},{"$f":"COUNTIF(L60:L85,AD16)","v":0},{"$f":"AE16/(AG4-AE20)","v":0},{"$f":"IF(AF16=0,0,(AF16*((LOG(AF16))/LOG(2))))","v":0},null,{"$f":"N16","v":2112},{"$f":"COUNTIF(L86:L111,AI16)","v":0},{"$f":"AJ16/(AL4-AJ20)","v":0},{"$f":"IF(AK16=0,0,(AK16*((LOG(AK16))/LOG(2))))","v":0},null,{"$f":"N16","v":2112},{"$f":"COUNTIF(L112:L138,AN16)","v":0},{"$f":"AO16/(AQ4-AO20)","v":0},{"$f":"IF(AP16=0,0,(AP16*((LOG(AP16))/LOG(2))))","v":0},null,{"$f":"N16","v":2112},{"$f":"COUNTIF(L139:L164,AS16)","v":1},{"$f":"AT16/(AV4-AT20)","v":3.8461538461538464E-2},{"$f":"IF(AU16=0,0,(AU16*((LOG(AU16))/LOG(2))))","v":-0.18078614300542661}]
[12,1675,14,1679,13,1685,14,1694,null,null,0,1111,null,2121,{"$f":"COUNTIF($L$7:$L$500,N17)","v":0},{"$f":"O17/$Q$4","v":0},{"$f":"IF(P17=0,0,(P17*((LOG(P17))/LOG(2))))","v":0},null,null,{"$f":"N17","v":2121},{"$f":"COUNTIF(L7:L32,T17)","v":0},{"$f":"U17/(W4-U20)","v":0},{"$f":"IF(V17=0,0,(V17*((LOG(V17))/LOG(2))))","v":0},null,{"$f":"N17","v":2121},{"$f":"COUNTIF(L33:L59,Y17)","v":0},{"$f":"Z17/(AB4-Z20)","v":0},{"$f":"IF(AA17=0,0,(AA17*((LOG(AA17))/LOG(2))))","v":0},null,{"$f":"N17","v":2121},{"$f":"COUNTIF(L60:L85,AD17)","v":0},{"$f":"AE17/(AG4-AE20)","v":0},{"$f":"IF(AF17=0,0,(AF17*((LOG(AF17))/LOG(2))))","v":0},null,{"$f":"N17","v":2121},{"$f":"COUNTIF(L86:L111,AI17)","v":0},{"$f":"AJ17/(AL4-AJ20)","v":0},{"$f":"IF(AK17=0,0,(AK17*((LOG(AK17))/LOG(2))))","v":0},null,{"$f":"N17","v":2121},{"$f":"COUNTIF(L112:L138,AN17)","v":0},{"$f":"AO17/(AQ4-AO20)","v":0},{"$f":"IF(AP17=0,0,(AP17*((LOG(AP17))/LOG(2))))","v":0},null,{"$f":"N17","v":2121},{"$f":"COUNTIF(L139:L164,AS17)","v":0},{"$f":"AT17/(AV4-AT20)","v":0},{"$f":"IF(AU17=0,0,(AU17*((LOG(AU17))/LOG(2))))","v":0}]
[21,1860,21,1868,22,1877,23,1885,null,null,0,2222,null,2122,{"$f":"COUNTIF($L$7:$L$500,N18)","v":0},{"$f":"O18/$Q$4","v":0},{"$f":"IF(P18=0,0,(P18*((LOG(P18))/LOG(2))))","v":0},null,null,{"$f":"N18","v":2122},{"$f":"COUNTIF(L7:L32,T18)","v":0},{"$f":"U18/(W4-U20)","v":0},{"$f":"IF(V18=0,0,(V18*((LOG(V18))/LOG(2))))","v":0},null,{"$f":"N18","v":2122},{"$f":"COUNTIF(L33:L59,Y18)","v":0},{"$f":"Z18/(AB4-Z20)","v":0},{"$f":"IF(AA18=0,0,(AA18*((LOG(AA18))/LOG(2))))","v":0},null,{"$f":"N18","v":2122},{"$f":"COUNTIF(L60:L85,AD18)","v":0},{"$f":"AE18/(AG4-AE20)","v":0},{"$f":"IF(AF18=0,0,(AF18*((LOG(AF18))/LOG(2))))","v":0},null,{"$f":"N18","v":2122},{"$f":"COUNTIF(L86:L111,AI18)","v":0},{"$f":"AJ18/(AL4-AJ20)","v":0},{"$f":"IF(AK18=0,0,(AK18*((LOG(AK18))/LOG(2))))","v":0},null,{"$f":"N18","v":2122},{"$f":"COUNTIF(L112:L138,AN18)","v":0},{"$f":"AO18/(AQ4-AO20)","v":0},{"$f":"IF(AP18=0,0,(AP18*((LOG(AP18))/LOG(2))))","v":0},null,{"$f":"N18","v":2122},{"$f":"COUNTIF(L139:L164,AS18)","v":0},{"$f":"AT18/(AV4-AT20)","v":0},{"$f":"IF(AU18=0,0,(AU18*((LOG(AU18))/LOG(2))))","v":0}]
[12,2000,14,2008,13,2017,14,2025,null,null,0,1111,null,2211,{"$f":"COUNTIF($L$7:$L$500,N19)","v":18},{"$f":"O19/$Q$4","v":0.11392405063291139},{"$f":"IF(P19=0,0,(P19*((LOG(P19))/LOG(2))))","v":-0.35702154076725467},null,null,{"$f":"N19","v":2211},{"$f":"COUNTIF(L7:L32,T19)","v":1},{"$f":"U19/(W4-U20)","v":3.8461538461538464E-2},{"$f":"IF(V19=0,0,(V19*((LOG(V19))/LOG(2))))","v":-0.18078614300542661},null,{"$f":"N19","v":2211},{"$f":"COUNTIF(L33:L59,Y19)","v":3},{"$f":"Z19/(AB4-Z20)","v":0.1111111111111111},{"$f":"IF(AA19=0,0,(AA19*((LOG(AA19))/LOG(2))))","v":-0.3522138890491458},null,{"$f":"N19","v":2211},{"$f":"COUNTIF(L60:L85,AD19)","v":7},{"$f":"AE19/(AG4-AE20)","v":0.26923076923076922},{"$f":"IF(AF19=0,0,(AF19*((LOG(AF19))/LOG(2))))","v":-0.50967667586863141},null,{"$f":"N19","v":2211},{"$f":"COUNTIF(L86:L111,AI19)","v":3},{"$f":"AJ19/(AL4-AJ20)","v":0.11538461538461539},{"$f":"IF(AK19=0,0,(AK19*((LOG(AK19))/LOG(2))))","v":-0.35947814047153104},null,{"$f":"N19","v":2211},{"$f":"COUNTIF(L112:L138,AN19)","v":3},{"$f":"AO19/(AQ4-AO20)","v":0.1111111111111111},{"$f":"IF(AP19=0,0,(AP19*((LOG(AP19))/LOG(2))))","v":-0.3522138890491458},null,{"$f":"N19","v":2211},{"$f":"COUNTIF(L139:L164,AS19)","v":1},{"$f":"AT19/(AV4-AT20)","v":3.8461538461538464E-2},{"$f":"IF(AU19=0,0,(AU19*((LOG(AU19))/LOG(2))))","v":-0.18078614300542661}]
[21,2192,12,2204,13,2211,14,2216,null,null,0,2111,null,2212,{"$f":"COUNTIF($L$7:$L$500,N20)","v":0},{"$f":"O20/$Q$4","v":0},{"$f":"IF(P20=0,0,(P20*((LOG(P20))/LOG(2))))","v":0},null,null,{"$f":"N20","v":2212},{"$f":"COUNTIF(L7:L32,T20)","v":0},null,null,null,{"$f":"N20","v":2212},{"$f":"COUNTIF(L33:L59,Y20)","v":0},null,null,null,{"$f":"N20","v":2212},{"$f":"COUNTIF(L60:L85,AD20)","v":0},null,null,null,{"$f":"N20","v":2212},{"$f":"COUNTIF(L86:L111,AI20)","v":0},null,null,null,{"$f":"N20","v":2212},{"$f":"COUNTIF(L112:L138,AN20)","v":0},null,null,null,{"$f":"N20","v":2212},{"$f":"COUNTIF(L139:L164,AS20)","v":0}]
[21,2312,21,2393,22,2400,23,2407,null,null,0,2222,null,2221,{"$f":"COUNTIF($L$7:$L$500,N21)","v":3},{"$f":"O21/$Q$4","v":1.8987341772151899E-2},{"$f":"IF(P21=0,0,(P21*((LOG(P21))/LOG(2))))","v":-0.10858515659726482},null,null,{"$f":"N21","v":2221},{"$f":"COUNTIF(L7:L32,T21)","v":2},{"$f":"U21/(W4-U20)","v":7.6923076923076927E-2},{"$f":"IF(V21=0,0,(V21*((LOG(V21))/LOG(2))))","v":-0.28464920908777636},null,{"$f":"N21","v":2221},{"$f":"COUNTIF(L33:L59,Y21)","v":0},{"$f":"Z21/(AB4-Z20)","v":0},{"$f":"IF(AA21=0,0,(AA21*((LOG(AA21))/LOG(2))))","v":0},null,{"$f":"N21","v":2221},{"$f":"COUNTIF(L60:L85,AD21)","v":0},{"$f":"AE21/(AG4-AE20)","v":0},{"$f":"IF(AF21=0,0,(AF21*((LOG(AF21))/LOG(2))))","v":0},null,{"$f":"N21","v":2221},{"$f":"COUNTIF(L86:L111,AI21)","v":1},{"$f":"AJ21/(AL4-AJ20)","v":3.8461538461538464E-2},{"$f":"IF(AK21=0,0,(AK21*((LOG(AK21))/LOG(2))))","v":-0.18078614300542661},null,{"$f":"N21","v":2221},{"$f":"COUNTIF(L112:L138,AN21)","v":0},{"$f":"AO21/(AQ4-AO20)","v":0},{"$f":"IF(AP21=0,0,(AP21*((LOG(AP21))/LOG(2))))","v":0},null,{"$f":"N21","v":2221},{"$f":"COUNTIF(L139:L164,AS21)","v":0},{"$f":"AT21/(AV4-AT20)","v":0},{"$f":"IF(AU21=0,0,(AU21*((LOG(AU21))/LOG(2))))","v":0}]
[21,2613,21,2621,22,2626,23,2632,null,null,0,2222,null,2222,{"$f":"COUNTIF($L$7:$L$500,N22)","v":29},{"$f":"O22/$Q$4","v":0.18354430379746836},{"$f":"IF(P22=0,0,(P22*((LOG(P22))/LOG(2))))","v":-0.4489126129014962},null,null,{"$f":"N22","v":2222},{"$f":"COUNTIF(L7:L32,T22)","v":5},{"$f":"U22/(W4-U20)","v":0.19230769230769232},{"$f":"IF(V22=0,0,(V22*((LOG(V22))/LOG(2))))","v":-0.45740608139494804},null,{"$f":"N22","v":2222},{"$f":"COUNTIF(L33:L59,Y22)","v":1},{"$f":"Z22/(AB4-Z20)","v":3.7037037037037035E-2},{"$f":"IF(AA22=0,0,(AA22*((LOG(AA22))/LOG(2))))","v":-0.1761069445245729},null,{"$f":"N22","v":2222},{"$f":"COUNTIF(L60:L85,AD22)","v":2},{"$f":"AE22/(AG4-AE20)","v":7.6923076923076927E-2},{"$f":"IF(AF22=0,0,(AF22*((LOG(AF22))/LOG(2))))","v":-0.28464920908777636},null,{"$f":"N22","v":2222},{"$f":"COUNTIF(L86:L111,AI22)","v":6},{"$f":"AJ22/(AL4-AJ20)","v":0.23076923076923078},{"$f":"IF(AK22=0,0,(AK22*((LOG(AK22))/LOG(2))))","v":-0.48818705017383146},null,{"$f":"N22","v":2222},{"$f":"COUNTIF(L112:L138,AN22)","v":10},{"$f":"AO22/(AQ4-AO20)","v":0.37037037037037035},{"$f":"IF(AP22=0,0,(AP22*((LOG(AP22))/LOG(2))))","v":-0.53072570639855787},null,{"$f":"N22","v":2222},{"$f":"COUNTIF(L139:L164,AS22)","v":5},{"$f":"AT22/(AV4-AT20)","v":0.19230769230769232},{"$f":"IF(AU22=0,0,(AU22*((LOG(AU22))/LOG(2))))","v":-0.45740608139494804}]
[21,2739,21,2748,22,2758,14,2770,null,null,0,2221,null,null,null,{"$f":"SUM(P7:P22)","v":1},{"$f":"-SUM(Q7:Q22)","v":2.4458357086326723},null,null,null,null,{"$f":"SUM(V7:V22)","v":1},{"$f":"-SUM(W7:W22)","v":2.2625905648620859},null,null,null,{"$f":"SUM(AA7:AA22)","v":1},{"$f":"-SUM(AB7:AB22)","v":1.7551201518045438},null,null,null,{"$f":"SUM(AF7:AF22)","v":1},{"$f":"-SUM(AG7:AG22)","v":1.766567605160557},null,null,null,{"$f":"SUM(AK7:AK22)","v":1},{"$f":"-SUM(AL7:AL22)","v":2.4093769713989053},null,null,null,{"$f":"SUM(AP7:AP22)","v":0.99999999999999989},{"$f":"-SUM(AQ7:AQ22)","v":1.9699449317964048},null,null,null,{"$f":"SUM(AU7:AU22)","v":1},{"$f":"-SUM(AV7:AV22)","v":2.339513641785163}]
[12,2891,14,2896,13,2900,14,2907,null,null,0,1111,null,null,null,"U=",{"$f":"Q23/(LOG(Q4)/LOG(2))","v":0.33487255340230609},null,null,null,null,"U1=",{"$f":"W23/(LOG(W4)/LOG(2))","v":0.48135721348148353},null,null,null,"U2=",{"$f":"AB23/(LOG(AB4)/LOG(2))","v":0.36911917495544661},null,null,null,"U3=",{"$f":"AG23/(LOG(AG4)/LOG(2))","v":0.37583028633312437},null,null,null,"U4=",{"$f":"AL23/(LOG(AL4)/LOG(2))","v":0.51258544218747149},null,null,null,"U5=",{"$f":"AQ23/(LOG(AQ4)/LOG(2))","v":0.4142989567892158},null,null,null,"U6=",{"$f":"AV23/(LOG(AV4)/LOG(2))","v":0.49772229452404998}]
[12,3031,14,3035,13,3039,14,3047,null,null,0,1111]
[21,3243,12,3252,13,3256,14,3266,null,null,0,2111]
[12,3427,14,3431,13,3436,14,3443,null,null,0,1111,null,"Total Target Seq"]
[12,3634,14,3638,13,3640,14,3648,null,null,0,1111,null,{"$f":"COUNTIF(L7:L164,G3)","v":0},null,26,27,26,26,27,26]
[21,3819,21,3828,22,3835,14,3846,null,null,0,2221,null,null,null,"% of reinforcement given in 6 equal intervals based on number of trials "]
[21,4000,21,4011,11,4020,12,4024,null,null,0,2211,null,null,null,"%_1","%_2","%_3","%_4","%_5","%_6"]
[12,4176,14,4180,13,4188,14,4197,null,null,0,1111,null,null,"target sequence",{"$f":"$G$3","v":2212},{"$f":"$G$3","v":2212},{"$f":"$G$3","v":2212},{"$f":"$G$3","v":2212},{"$f":"$G$3","v":2212},{"$f":"$G$3","v":2212}]
[21,4370,12,4383,13,4392,14,4400,null,null,0,2111,null,null,"total reinforcement",{"$f":"U20","v":0},{"$f":"Z20","v":0},{"$f":"AE20","v":0},{"$f":"AJ20","v":0},{"$f":"AO20","v":0},{"$f":"AT20","v":0}]
[12,4579,14,4586,13,4604,23,4620,null,null,0,1112,null,null,"% target"]
[21,4757,12,4773,13,4780,14,4792,null,null,0,2111,null,null,"CCRF"]
[12,4932,14,4937,13,4941,14,4945,null,null,0,1111,null,null,"% CCRf"]
[12,5059,14,5064,13,5068,14,5072,null,null,0,1111,null,null,"average response rate",{"$f":"H32/P28","v":169.23076923076923},{"$f":"(H59-H32)/Q28","v":164.4814814814815},{"$f":"(H85-H59)/R28","v":153.30769230769232},{"$f":"(H111-H85)/S28","v":136.84615384615384},{"$f":"(H138-H111)/T28","v":145.40740740740742},{"$f":"(H164-H138)/U28","v":141.42307692307693}]
[12,5191,14,5195,13,5199,14,5216,null,null,0,1111]
[21,5384,12,5399,13,5403,14,5407,null,null,0,2111]
[21,5513,12,5528,13,5532,14,5536,null,null,0,2111]
[12,5687,14,5693,13,5698,14,5702,null,null,0,1111]
[12,5858,14,5862,13,5866,14,5873,null,null,0,1111]
[21,5996,12,6012,13,6016,14,6020,null,null,0,2111]
[21,6142,12,6153,13,6157,14,6161,null,null,0,2111]
[12,6315,14,6319,13,6323,14,6330,null,null,0,1111]
[12,6502,14,6506,13,6511,14,6516,null,null,0,1111]
[21,6651,12,6664,13,6668,14,6673,null,null,0,2111]
[12,6808,14,6814,13,6818,14,6826,null,null,0,1111]
[12,6993,14,6997,13,7001,14,7005,null,null,0,1111]
[21,7135,21,7149,11,7159,12,7163,null,null,0,2211]
[21,7292,12,7301,13,7305,14,7311,null,null,0,2111]
[21,7422,21,7434,11,7445,12,7449,null,null,0,2211]
[12,7692,14,7696,13,7700,14,7704,null,null,0,1111]
[12,7839,14,7845,13,7853,14,7860,null,null,0,1111]
[21,8032,12,8042,13,8046,14,8050,null,null,0,2111]
[21,8163,21,8179,11,8190,12,8197,null,null,0,2211]
[12,8354,14,8358,13,8362,14,8366,null,null,0,1111]
[21,8497,12,8508,13,8512,14,8519,null,null,0,2111]
[21,8680,12,8694,13,8702,14,8711,null,null,0,2111]
[21,8805,21,8825,22,8832,23,8841,null,null,0,2222]
[12,8976,14,8983,13,8988,14,8995,null,null,0,1111]
[21,9127,12,9137,13,9140,14,9144,null,null,0,2111]
[21,9267,21,9275,11,9284,12,9288,null,null,0,2211]
[21,9397,21,9404,11,9415,12,9424,null,null,0,2211]
[21,9647,21,9668,22,9675,23,9682,null,null,0,2222]
[21,9793,12,9803,13,9808,14,9816,null,null,0,2111]
[21,9937,12,9952,13,9956,14,9964,null,null,0,2111]
[12,10108,14,10113,13,10121,14,10128,null,null,0,1111]
[12,10251,14,10256,13,10260,14,10270,null,null,0,1111]
[21,10394,21,10404,11,10416,12,10423,null,null,0,2211]
[21,10549,12,10559,13,10563,14,10568,null,null,0,2111]
[21,10688,21,10698,22,10707,23,10711,null,null,0,2222]
[21,10843,21,10845,11,10859,12,10863,null,null,0,2211]
[21,10978,12,10989,13,10993,14,10998,null,null,0,2111]
[21,11100,21,11109,11,11120,12,11125,null,null,0,2211]
[21,11235,12,11244,13,11251,14,11259,null,null,0,2111]
[12,11396,14,11400,13,11409,14,11419,null,null,0,1111]
[21,11519,21,11534,11,11544,12,11552,null,null,0,2211]
[12,11777,14,11784,13,11793,14,11799,null,null,0,1111]
[21,11914,12,11929,13,11936,14,11948,null,null,0,2111]
[21,12061,12,12072,13,12080,14,12087,null,null,0,2111]
[21,12218,12,12226,13,12230,14,12235,null,null,0,2111]
[21,12371,12,12382,13,12390,14,12395,null,null,0,2111]
[21,12502,21,12519,11,12532,12,12536,null,null,0,2211]
[21,12659,12,12670,13,12674,14,12681,null,null,0,2111]
[21,12803,12,12816,13,12820,14,12827,null,null,0,2111]
[21,12933,21,12940,22,12950,14,12961,null,null,0,2221]
[21,13067,21,13078,11,13088,12,13092,null,null,0,2211]
[12,13234,14,13239,13,13244,14,13256,null,null,0,1111]
[21,13373,21,13379,22,13386,23,13391,null,null,0,2222]
[12,13526,14,13531,13,13535,14,13539,null,null,0,1111]
[21,13647,12,13663,13,13667,14,13672,null,null,0,2111]
[12,13768,23,13780,13,13791,23,13812,null,null,0,1212]
[12,13928,14,13933,13,13937,14,13942,null,null,0,1111]
[21,14044,12,14053,13,14060,14,14065,null,null,0,2111]
[12,14213,14,14221,13,14226,14,14233,null,null,0,1111]
[21,14344,12,14355,13,14362,14,14370,null,null,0,2111]
[21,14470,21,14479,22,14487,23,14492,null,null,0,2222]
[12,14629,14,14633,13,14637,14,14642,null,null,0,1111]
[21,14745,12,14757,13,14761,14,14765,null,null,0,2111]
[21,14877,12,14889,13,14893,14,14898,null,null,0,2111]
[12,15005,14,15009,13,15013,14,15017,null,null,0,1111]
[21,15160,21,15169,22,15178,23,15187,null,null,0,2222]
[21,15288,21,15298,22,15304,23,15309,null,null,0,2222]
[21,15410,12,15421,13,15425,14,15428,null,null,0,2111]
[12,15558,14,15562,13,15570,23,15582,null,null,0,1112]
[21,15694,12,15707,13,15715,14,15719,null,null,0,2111]
[21,15834,21,15840,11,15850,12,15854,null,null,0,2211]
[21,15975,21,15982,22,15987,23,15992,null,null,0,2222]
[12,16114,14,16118,13,16122,14,16127,null,null,0,1111]
[21,16230,21,16236,11,16254,12,16258,null,null,0,2211]
[21,16364,21,16373,22,16378,23,16385,null,null,0,2222]
[21,16485,21,16490,22,16495,23,16504,null,null,0,2222]
[21,16606,12,16617,13,16621,14,16629,null,null,0,2111]
[12,16753,14,16760,13,16764,14,16773,null,null,0,1111]
[21,16874,21,16879,22,16886,23,16895,null,null,0,2222]
[21,17001,12,17016,13,17020,14,17025,null,null,0,2111]
[21,17130,12,17146,13,17150,14,17155,null,null,0,2111]
[21,17300,21,17307,22,17316,23,17320,null,null,0,2222]
[21,17438,21,17448,11,17458,12,17462,null,null,0,2211]
[21,17589,12,17598,13,17602,14,17606,null,null,0,2111]
[21,17710,21,17725,22,17730,23,17737,null,null,0,2222]
[21,17839,12,17852,13,17856,14,17863,null,null,0,2111]
[12,18005,14,18009,13,18013,14,18018,null,null,0,1111]
[21,18129,12,18139,13,18143,14,18147,null,null,0,2111]
[21,18247,21,18254,22,18263,23,18267,null,null,0,2222]
[21,18404,21,18409,22,18415,23,18420,null,null,0,2222]
[12,18524,23,18533,24,18540,23,18544,null,null,0,1222]
[21,18683,21,18689,22,18697,23,18705,null,null,0,2222]
[21,18846,12,18858,13,18866,14,18880,null,null,0,2111]
[21,19000,12,19013,13,19017,14,19024,null,null,0,2111]
[21,19161,21,19169,11,19184,12,19192,null,null,0,2211]
[21,19420,21,19428,11,19437,12,19444,null,null,0,2211]
[21,19555,21,19562,22,19568,23,19573,null,null,0,2222]
[12,19678,23,19687,24,19694,23,19699,null,null,0,1222]
[21,19830,12,19848,13,19863,14,19871,null,null,0,2111]
[21,19984,21,19990,22,19998,23,20004,null,null,0,2222]
[21,20130,12,20148,13,20152,14,20159,null,null,0,2111]
[21,20297,21,20302,22,20306,23,20311,null,null,0,2222]
[21,20439,12,20451,13,20455,14,20463,null,null,0,2111]
[21,20563,12,20575,13,20582,14,20589,null,null,0,2111]
[21,20699,12,20712,13,20716,14,20720,null,null,0,2111]
[21,20833,12,20843,13,20848,14,20852,null,null,0,2111]
[21,20955,21,20964,22,20973,23,20977,null,null,0,2222]
[21,21089,21,21097,22,21104,23,21108,null,null,0,2222]
[21,21237,12,21251,13,21254,14,21261,null,null,0,2111]
[21,21376,21,21383,22,21387,23,21391,null,null,0,2222]
[21,21511,12,21523,13,21526,14,21531,null,null,0,2111]
[21,21634,12,21652,13,21659,14,21667,null,null,0,2111]
[21,21789,12,21803,13,21808,14,21816,null,null,0,2111]
[12,21923,23,21939,24,21948,23,21957,null,null,0,1222]
[12,22071,23,22083,24,22090,23,22095,null,null,0,1222]
[12,22207,14,22214,13,22222,14,22229,null,null,0,1111]
[12,22364,14,22370,13,22374,14,22382,null,null,0,1111]
[21,22522,12,22535,13,22539,14,22543,null,null,0,2111]
[21,22656,21,22661,11,22671,12,22675,null,null,0,2211]
[12,22815,14,22823,13,22831,23,22843,null,null,0,1112]
[12,22969,23,22980,24,22985,23,22993,null,null,0,1222]
[21,23109,21,23117,22,23123,23,23128,null,null,0,2222]
[21,23245,12,23262,13,23266,23,23287,null,null,0,2112]
[21,23400,21,23407,22,23413,23,23421,null,null,0,2222]
[21,23541,12,23554,13,23559,14,23564,null,null,0,2111]
[12,23668,23,23683,13,23696,14,23700,null,null,0,1211]
[21,23830,12,23841,13,23846,14,23850,null,null,0,2111]
[21,23968,12,23980,13,23984,14,23988,null,null,null,2111]

{"sheet":"!L810B50.053","index":16,"n_rows":161,"n_cols":48,"rows_kept":161,"cut":false,"hidden":false,"merged":[[4,39,4,42],[5,39,5,40],[4,44,4,47],[5,44,5,45],[4,24,4,27],[5,24,5,25],[4,29,4,32],[5,29,5,30],[4,34,4,37],[5,34,5,35],[1,1,1,2],[5,13,5,14],[26,13,26,14],[27,13,27,14],[4,19,4,22],[5,19,5,20]]}
["Report for:!L810B50.053"]
["Date:","<date>"]
["Hen:","<hen>",null,null,null,"Correct Sequence",{"$f":"Start!J2","v":2212},null,null,null,null,null,null,null,null,"Total Sequences in Data",{"$f":"4994-COUNTBLANK(L7:L5000)","v":155},null,null,null,null,"Total Sequences in Block Data",{"$f":"COUNTA(L7:L32)","v":26},null,null,null,"Total Sequences in Block Data",{"$f":"COUNTA(L33:L58)","v":26},null,null,null,"Total Sequences in Block Data",{"$f":"COUNTA(L59:L83)","v":25},null,null,null,"Total Sequences in Block Data",{"$f":"COUNTA(L84:L109)","v":26},null,null,null,"Total Sequences in Block Data",{"$f":"COUNTA(L110:L135)","v":26},null,null,null,"Total Sequences in Block Data",{"$f":"COUNTA(L136:L161)","v":26}]
[null,null,null,null,null,null,null,null,null,null,null,null,null,null,null,"Total Sequences in Summary",{"$f":"SUM(O7:O22)","v":155},null,null,null,null,"Total Sequences in Block Summary",{"$f":"SUM(U7:U22)","v":26},null,null,null,"Total Sequences in Block Summary",{"$f":"SUM(Z7:Z22)","v":26},null,null,null,"Total Sequences in Block Summary",{"$f":"SUM(AE7:AE22)","v":25},null,null,null,"Total Sequences in Block Summary",{"$f":"SUM(AJ7:AJ22)","v":26},null,null,null,"Total Sequences in Block Summary",{"$f":"SUM(AO7:AO22)","v":26},null,null,null,"Total Sequences in Block Summary",{"$f":"SUM(AT7:AT22)","v":26}]
[null,null,null,null,null,null,null,null,null,null,null,null,null,null,null,null,null,null,null,"Block 1",null,null,null,null,"Block 2",null,null,null,null,"Block 3",null,null,null,null,"Block 4",null,null,null,null,"Block 5",null,null,null,null,"Block 6"]
["Sequence\nComponent\n1","Time\n1","Sequence\nComponent\n2","Time\n2","Sequence\nComponent\n3","Time\n3","Sequence\nComponent\n4","Time\n4","Sequence\nComponent\n5","Time\n5","Correct?\n0=No 1=Yes","Sequence",null,"Frequency",null,"Relative Frequency","Variability",null,null,"Frequency",null,"Relative Frequency","Variability",null,"Frequency",null,"Relative Frequency","Variability",null,"Frequency",null,"Relative Frequency","Variability",null,"Frequency",null,"Relative Frequency","Variability",null,"Frequency",null,"Relative Frequency","Variability",null,"Frequency",null,"Relative Frequency","Variability"]
[12,13,14,18,13,22,14,29,null,null,0,1111,null,1111,{"$f":"COUNTIF($L$7:$L$500,N7)","v":59},{"$f":"O7/$Q$4","v":0.38064516129032255},{"$f":"IF(P7=0,0,(P7*((LOG(P7))/LOG(2))))","v":-0.53042193547633154},null,null,{"$f":"N7","v":1111},{"$f":"COUNTIF(L7:L32,T7)","v":13},{"$f":"U7/(W4-U20)","v":0.5},{"$f":"IF(V7=0,0,(V7*((LOG(V7))/LOG(2))))","v":-0.5},null,{"$f":"N7","v":1111},{"$f":"COUNTIF(L33:L58,Y7)","v":11},{"$f":"Z7/(AB4-Z20)","v":0.42307692307692307},{"$f":"IF(AA7=0,0,(AA7*((LOG(AA7))/LOG(2))))","v":-0.52504188825160547},null,{"$f":"N7","v":1111},{"$f":"COUNTIF(L59:L83,AD7)","v":8},{"$f":"AE7/(AG4-AE20)","v":0.32},{"$f":"IF(AF7=0,0,(AF7*((LOG(AF7))/LOG(2))))","v":-0.52603398072791185},null,{"$f":"N7","v":1111},{"$f":"COUNTIF(L84:L109,AI7)","v":10},{"$f":"AJ7/(AL4-AJ20)","v":0.38461538461538464},{"$f":"IF(AK7=0,0,(AK7*((LOG(AK7))/LOG(2))))","v":-0.53019677817451139},null,{"$f":"N7","v":1111},{"$f":"COUNTIF(L110:L135,AN7)","v":6},{"$f":"AO7/(AQ4-AO20)","v":0.23076923076923078},{"$f":"IF(AP7=0,0,(AP7*((LOG(AP7))/LOG(2))))","v":-0.48818705017383146},null,{"$f":"N7","v":1111},{"$f":"COUNTIF(L136:L161,AS7)","v":11},{"$f":"AT7/(AV4-AT20)","v":0.42307692307692307},{"$f":"IF(AU7=0,0,(AU7*((LOG(AU7))/LOG(2))))","v":-0.52504188825160547}]
[21,145,21,160,11,172,12,177,null,null,0,2211,null,1112,{"$f":"COUNTIF($L$7:$L$500,N8)","v":4},{"$f":"O8/$Q$4","v":2.5806451612903226E-2},{"$f":"IF(P8=0,0,(P8*((LOG(P8))/LOG(2))))","v":-0.13615804916836741},null,null,{"$f":"N8","v":1112},{"$f":"COUNTIF(L7:L32,T8)","v":1},{"$f":"U8/(W4-U20)","v":3.8461538461538464E-2},{"$f":"IF(V8=0,0,(V8*((LOG(V8))/LOG(2))))","v":-0.18078614300542661},null,{"$f":"N8","v":1112},{"$f":"COUNTIF(L33:L58,Y8)","v":1},{"$f":"Z8/(AB4-Z20)","v":3.8461538461538464E-2},{"$f":"IF(AA8=0,0,(AA8*((LOG(AA8))/LOG(2))))","v":-0.18078614300542661},null,{"$f":"N8","v":1112},{"$f":"COUNTIF(L59:L83,AD8)","v":0},{"$f":"AE8/(AG4-AE20)","v":0},{"$f":"IF(AF8=0,0,(AF8*((LOG(AF8))/LOG(2))))","v":0},null,{"$f":"N8","v":1112},{"$f":"COUNTIF(L84:L109,AI8)","v":0},{"$f":"AJ8/(AL4-AJ20)","v":0},{"$f":"IF(AK8=0,0,(AK8*((LOG(AK8))/LOG(2))))","v":0},null,{"$f":"N8","v":1112},{"$f":"COUNTIF(L110:L135,AN8)","v":1},{"$f":"AO8/(AQ4-AO20)","v":3.8461538461538464E-2},{"$f":"IF(AP8=0,0,(AP8*((LOG(AP8))/LOG(2))))","v":-0.18078614300542661},null,{"$f":"N8","v":1112},{"$f":"COUNTIF(L136:L161,AS8)","v":1},{"$f":"AT8/(AV4-AT20)","v":3.8461538461538464E-2},{"$f":"IF(AU8=0,0,(AU8*((LOG(AU8))/LOG(2))))","v":-0.18078614300542661}]
[12,292,14,308,13,313,14,321,null,null,0,1111,null,1121,{"$f":"COUNTIF($L$7:$L$500,N9)","v":0},{"$f":"O9/$Q$4","v":0},{"$f":"IF(P9=0,0,(P9*((LOG(P9))/LOG(2))))","v":0},null,null,{"$f":"N9","v":1121},{"$f":"COUNTIF(L7:L32,T9)","v":0},{"$f":"U9/(W4-U20)","v":0},{"$f":"IF(V9=0,0,(V9*((LOG(V9))/LOG(2))))","v":0},null,{"$f":"N9","v":1121},{"$f":"COUNTIF(L33:L58,Y9)","v":0},{"$f":"Z9/(AB4-Z20)","v":0},{"$f":"IF(AA9=0,0,(AA9*((LOG(AA9))/LOG(2))))","v":0},null,{"$f":"N9","v":1121},{"$f":"COUNTIF(L59:L83,AD9)","v":0},{"$f":"AE9/(AG4-AE20)","v":0},{"$f":"IF(AF9=0,0,(AF9*((LOG(AF9))/LOG(2))))","v":0},null,{"$f":"N9","v":1121},{"$f":"COUNTIF(L84:L109,AI9)","v":0},{"$f":"AJ9/(AL4-AJ20)","v":0},{"$f":"IF(AK9=0,0,(AK9*((LOG(AK9))/LOG(2))))","v":0},null,{"$f":"N9","v":1121},{"$f":"COUNTIF(L110:L135,AN9)","v":0},{"$f":"AO9/(AQ4-AO20)","v":0},{"$f":"IF(AP9=0,0,(AP9*((LOG(AP9))/LOG(2))))","v":0},null,{"$f":"N9","v":1121},{"$f":"COUNTIF(L136:L161,AS9)","v":0},{"$f":"AT9/(AV4-AT20)","v":0},{"$f":"IF(AU9=0,0,(AU9*((LOG(AU9))/LOG(2))))","v":0}]
[21,442,21,461,11,471,12,475,null,null,0,2211,null,1122,{"$f":"COUNTIF($L$7:$L$500,N10)","v":2},{"$f":"O10/$Q$4","v":1.2903225806451613E-2},{"$f":"IF(P10=0,0,(P10*((LOG(P10))/LOG(2))))","v":-8.0982250390635321E-2},null,null,{"$f":"N10","v":1122},{"$f":"COUNTIF(L7:L32,T10)","v":1},{"$f":"U10/(W4-U20)","v":3.8461538461538464E-2},{"$f":"IF(V10=0,0,(V10*((LOG(V10))/LOG(2))))","v":-0.18078614300542661},null,{"$f":"N10","v":1122},{"$f":"COUNTIF(L33:L58,Y10)","v":1},{"$f":"Z10/(AB4-Z20)","v":3.8461538461538464E-2},{"$f":"IF(AA10=0,0,(AA10*((LOG(AA10))/LOG(2))))","v":-0.18078614300542661},null,{"$f":"N10","v":1122},{"$f":"COUNTIF(L59:L83,AD10)","v":0},{"$f":"AE10/(AG4-AE20)","v":0},{"$f":"IF(AF10=0,0,(AF10*((LOG(AF10))/LOG(2))))","v":0},null,{"$f":"N10","v":1122},{"$f":"COUNTIF(L84:L109,AI10)","v":0},{"$f":"AJ10/(AL4-AJ20)","v":0},{"$f":"IF(AK10=0,0,(AK10*((LOG(AK10))/LOG(2))))","v":0},null,{"$f":"N10","v":1122},{"$f":"COUNTIF(L110:L135,AN10)","v":0},{"$f":"AO10/(AQ4-AO20)","v":0},{"$f":"IF(AP10=0,0,(AP10*((LOG(AP10))/LOG(2))))","v":0},null,{"$f":"N10","v":1122},{"$f":"COUNTIF(L136:L161,AS10)","v":0},{"$f":"AT10/(AV4-AT20)","v":0},{"$f":"IF(AU10=0,0,(AU10*((LOG(AU10))/LOG(2))))","v":0}]
[12,609,14,614,24,630,23,641,null,null,0,1122,null,1211,{"$f":"COUNTIF($L$7:$L$500,N11)","v":4},{"$f":"O11/$Q$4","v":2.5806451612903226E-2},{"$f":"IF(P11=0,0,(P11*((LOG(P11))/LOG(2))))","v":-0.13615804916836741},null,null,{"$f":"N11","v":1211},{"$f":"COUNTIF(L7:L32,T11)","v":2},{"$f":"U11/(W4-U20)","v":7.6923076923076927E-2},{"$f":"IF(V11=0,0,(V11*((LOG(V11))/LOG(2))))","v":-0.28464920908777636},null,{"$f":"N11","v":1211},{"$f":"COUNTIF(L33:L58,Y11)","v":1},{"$f":"Z11/(AB4-Z20)","v":3.8461538461538464E-2},{"$f":"IF(AA11=0,0,(AA11*((LOG(AA11))/LOG(2))))","v":-0.18078614300542661},null,{"$f":"N11","v":1211},{"$f":"COUNTIF(L59:L83,AD11)","v":0},{"$f":"AE11/(AG4-AE20)","v":0},{"$f":"IF(AF11=0,0,(AF11*((LOG(AF11))/LOG(2))))","v":0},null,{"$f":"N11","v":1211},{"$f":"COUNTIF(L84:L109,AI11)","v":0},{"$f":"AJ11/(AL4-AJ20)","v":0},{"$f":"IF(AK11=0,0,(AK11*((LOG(AK11))/LOG(2))))","v":0},null,{"$f":"N11","v":1211},{"$f":"COUNTIF(L110:L135,AN11)","v":1},{"$f":"AO11/(AQ4-AO20)","v":3.8461538461538464E-2},{"$f":"IF(AP11=0,0,(AP11*((LOG(AP11))/LOG(2))))","v":-0.18078614300542661},null,{"$f":"N11","v":1211},{"$f":"COUNTIF(L136:L161,AS11)","v":0},{"$f":"AT11/(AV4-AT20)","v":0},{"$f":"IF(AU11=0,0,(AU11*((LOG(AU11))/LOG(2))))","v":0}]
[12,748,14,753,13,760,14,765,null,null,0,1111,null,1212,{"$f":"COUNTIF($L$7:$L$500,N12)","v":0},{"$f":"O12/$Q$4","v":0},{"$f":"IF(P12=0,0,(P12*((LOG(P12))/LOG(2))))","v":0},null,null,{"$f":"N12","v":1212},{"$f":"COUNTIF(L7:L32,T12)","v":0},{"$f":"U12/(W4-U20)","v":0},{"$f":"IF(V12=0,0,(V12*((LOG(V12))/LOG(2))))","v":0},null,{"$f":"N12","v":1212},{"$f":"COUNTIF(L33:L58,Y12)","v":0},{"$f":"Z12/(AB4-Z20)","v":0},{"$f":"IF(AA12=0,0,(AA12*((LOG(AA12))/LOG(2))))","v":0},null,{"$f":"N12","v":1212},{"$f":"COUNTIF(L59:L83,AD12)","v":0},{"$f":"AE12/(AG4-AE20)","v":0},{"$f":"IF(AF12=0,0,(AF12*((LOG(AF12))/LOG(2))))","v":0},null,{"$f":"N12","v":1212},{"$f":"COUNTIF(L84:L109,AI12)","v":0},{"$f":"AJ12/(AL4-AJ20)","v":0},{"$f":"IF(AK12=0,0,(AK12*((LOG(AK12))/LOG(2))))","v":0},null,{"$f":"N12","v":1212},{"$f":"COUNTIF(L110:L135,AN12)","v":0},{"$f":"AO12/(AQ4-AO20)","v":0},{"$f":"IF(AP12=0,0,(AP12*((LOG(AP12))/LOG(2))))","v":0},null,{"$f":"N12","v":1212},{"$f":"COUNTIF(L136:L161,AS12)","v":0},{"$f":"AT12/(AV4-AT20)","v":0},{"$f":"IF(AU12=0,0,(AU12*((LOG(AU12))/LOG(2))))","v":0}]
[12,866,14,873,13,879,14,886,null,null,0,1111,null,1221,{"$f":"COUNTIF($L$7:$L$500,N13)","v":2},{"$f":"O13/$Q$4","v":1.2903225806451613E-2},{"$f":"IF(P13=0,0,(P13*((LOG(P13))/LOG(2))))","v":-8.0982250390635321E-2},null,null,{"$f":"N13","v":1221},{"$f":"COUNTIF(L7:L32,T13)","v":1},{"$f":"U13/(W4-U20)","v":3.8461538461538464E-2},{"$f":"IF(V13=0,0,(V13*((LOG(V13))/LOG(2))))","v":-0.18078614300542661},null,{"$f":"N13","v":1221},{"$f":"COUNTIF(L33:L58,Y13)","v":0},{"$f":"Z13/(AB4-Z20)","v":0},{"$f":"IF(AA13=0,0,(AA13*((LOG(AA13))/LOG(2))))","v":0},null,{"$f":"N13","v":1221},{"$f":"COUNTIF(L59:L83,AD13)","v":0},{"$f":"AE13/(AG4-AE20)","v":0},{"$f":"IF(AF13=0,0,(AF13*((LOG(AF13))/LOG(2))))","v":0},null,{"$f":"N13","v":1221},{"$f":"COUNTIF(L84:L109,AI13)","v":1},{"$f":"AJ13/(AL4-AJ20)","v":3.8461538461538464E-2},{"$f":"IF(AK13=0,0,(AK13*((LOG(AK13))/LOG(2))))","v":-0.18078614300542661},null,{"$f":"N13","v":1221},{"$f":"COUNTIF(L110:L135,AN13)","v":0},{"$f":"AO13/(AQ4-AO20)","v":0},{"$f":"IF(AP13=0,0,(AP13*((LOG(AP13))/LOG(2))))","v":0},null,{"$f":"N13","v":1221},{"$f":"COUNTIF(L136:L161,AS13)","v":0},{"$f":"AT13/(AV4-AT20)","v":0},{"$f":"IF(AU13=0,0,(AU13*((LOG(AU13))/LOG(2))))","v":0}]
[12,1026,14,1031,13,1039,23,1053,null,null,0,1112,null,1222,{"$f":"COUNTIF($L$7:$L$500,N14)","v":5},{"$f":"O14/$Q$4","v":3.2258064516129031E-2},{"$f":"IF(P14=0,0,(P14*((LOG(P14))/LOG(2))))","v":-0.15981278420602821},null,null,{"$f":"N14","v":1222},{"$f":"COUNTIF(L7:L32,T14)","v":1},{"$f":"U14/(W4-U20)","v":3.8461538461538464E-2},{"$f":"IF(V14=0,0,(V14*((LOG(V14))/LOG(2))))","v":-0.18078614300542661},null,{"$f":"N14","v":1222},{"$f":"COUNTIF(L33:L58,Y14)","v":1},{"$f":"Z14/(AB4-Z20)","v":3.8461538461538464E-2},{"$f":"IF(AA14=0,0,(AA14*((LOG(AA14))/LOG(2))))","v":-0.18078614300542661},null,{"$f":"N14","v":1222},{"$f":"COUNTIF(L59:L83,AD14)","v":0},{"$f":"AE14/(AG4-AE20)","v":0},{"$f":"IF(AF14=0,0,(AF14*((LOG(AF14))/LOG(2))))","v":0},null,{"$f":"N14","v":1222},{"$f":"COUNTIF(L84:L109,AI14)","v":0},{"$f":"AJ14/(AL4-AJ20)","v":0},{"$f":"IF(AK14=0,0,(AK14*((LOG(AK14))/LOG(2))))","v":0},null,{"$f":"N14","v":1222},{"$f":"COUNTIF(L110:L135,AN14)","v":2},{"$f":"AO14/(AQ4-AO20)","v":7.6923076923076927E-2},{"$f":"IF(AP14=0,0,(AP14*((LOG(AP14))/LOG(2))))","v":-0.28464920908777636},null,{"$f":"N14","v":1222},{"$f":"COUNTIF(L136:L161,AS14)","v":1},{"$f":"AT14/(AV4-AT20)","v":3.8461538461538464E-2},{"$f":"IF(AU14=0,0,(AU14*((LOG(AU14))/LOG(2))))","v":-0.18078614300542661}]
[21,1206,12,1221,13,1226,14,1233,null,null,0,2111,null,2111,{"$f":"COUNTIF($L$7:$L$500,N15)","v":50},{"$f":"O15/$Q$4","v":0.32258064516129031},{"$f":"IF(P15=0,0,(P15*((LOG(P15))/LOG(2))))","v":-0.52653813403210092},null,null,{"$f":"N15","v":2111},{"$f":"COUNTIF(L7:L32,T15)","v":3},{"$f":"U15/(W4-U20)","v":0.11538461538461539},{"$f":"IF(V15=0,0,(V15*((LOG(V15))/LOG(2))))","v":-0.35947814047153104},null,{"$f":"N15","v":2111},{"$f":"COUNTIF(L33:L58,Y15)","v":4},{"$f":"Z15/(AB4-Z20)","v":0.15384615384615385},{"$f":"IF(AA15=0,0,(AA15*((LOG(AA15))/LOG(2))))","v":-0.4154522643293988},null,{"$f":"N15","v":2111},{"$f":"COUNTIF(L59:L83,AD15)","v":10},{"$f":"AE15/(AG4-AE20)","v":0.4},{"$f":"IF(AF15=0,0,(AF15*((LOG(AF15))/LOG(2))))","v":-0.52877123795494496},null,{"$f":"N15","v":2111},{"$f":"COUNTIF(L84:L109,AI15)","v":12},{"$f":"AJ15/(AL4-AJ20)","v":0.46153846153846156},{"$f":"IF(AK15=0,0,(AK15*((LOG(AK15))/LOG(2))))","v":-0.51483563880920125},null,{"$f":"N15","v":2111},{"$f":"COUNTIF(L110:L135,AN15)","v":11},{"$f":"AO15/(AQ4-AO20)","v":0.42307692307692307},{"$f":"IF(AP15=0,0,(AP15*((LOG(AP15))/LOG(2))))","v":-0.52504188825160547},null,{"$f":"N15","v":2111},{"$f":"COUNTIF(L136:L161,AS15)","v":10},{"$f":"AT15/(AV4-AT20)","v":0.38461538461538464},{"$f":"IF(AU15=0,0,(AU15*((LOG(AU15))/LOG(2))))","v":-0.53019677817451139}]
[12,1347,14,1364,13,1368,14,1377,null,null,0,1111,null,2112,{"$f":"COUNTIF($L$7:$L$500,N16)","v":2},{"$f":"O16/$Q$4","v":1.2903225806451613E-2},{"$f":"IF(P16=0,0,(P16*((LOG(P16))/LOG(2))))","v":-8.0982250390635321E-2},null,null,{"$f":"N16","v":2112},{"$f":"COUNTIF(L7:L32,T16)","v":0},{"$f":"U16/(W4-U20)","v":0},{"$f":"IF(V16=0,0,(V16*((LOG(V16))/LOG(2))))","v":0},null,{"$f":"N16","v":2112},{"$f":"COUNTIF(L33:L58,Y16)","v":1},{"$f":"Z16/(AB4-Z20)","v":3.8461538461538464E-2},{"$f":"IF(AA16=0,0,(AA16*((LOG(AA16))/LOG(2))))","v":-0.18078614300542661},null,{"$f":"N16","v":2112},{"$f":"COUNTIF(L59:L83,AD16)","v":1},{"$f":"AE16/(AG4-AE20)","v":0.04},{"$f":"IF(AF16=0,0,(AF16*((LOG(AF16))/LOG(2))))","v":-0.18575424759098899},null,{"$f":"N16","v":2112},{"$f":"COUNTIF(L84:L109,AI16)","v":0},{"$f":"AJ16/(AL4-AJ20)","v":0},{"$f":"IF(AK16=0,0,(AK16*((LOG(AK16))/LOG(2))))","v":0},null,{"$f":"N16","v":2112},{"$f":"COUNTIF(L110:L135,AN16)","v":0},{"$f":"AO16/(AQ4-AO20)","v":0},{"$f":"IF(AP16=0,0,(AP16*((LOG(AP16))/LOG(2))))","v":0},null,{"$f":"N16","v":2112},{"$f":"COUNTIF(L136:L161,AS16)","v":0},{"$f":"AT16/(AV4-AT20)","v":0},{"$f":"IF(AU16=0,0,(AU16*((LOG(AU16))/LOG(2))))","v":0}]
[12,1543,14,1550,13,1556,14,1563,null,null,0,1111,null,2121,{"$f":"COUNTIF($L$7:$L$500,N17)","v":0},{"$f":"O17/$Q$4","v":0},{"$f":"IF(P17=0,0,(P17*((LOG(P17))/LOG(2))))","v":0},null,null,{"$f":"N17","v":2121},{"$f":"COUNTIF(L7:L32,T17)","v":0},{"$f":"U17/(W4-U20)","v":0},{"$f":"IF(V17=0,0,(V17*((LOG(V17))/LOG(2))))","v":0},null,{"$f":"N17","v":2121},{"$f":"COUNTIF(L33:L58,Y17)","v":0},{"$f":"Z17/(AB4-Z20)","v":0},{"$f":"IF(AA17=0,0,(AA17*((LOG(AA17))/LOG(2))))","v":0},null,{"$f":"N17","v":2121},{"$f":"COUNTIF(L59:L83,AD17)","v":0},{"$f":"AE17/(AG4-AE20)","v":0},{"$f":"IF(AF17=0,0,(AF17*((LOG(AF17))/LOG(2))))","v":0},null,{"$f":"N17","v":2121},{"$f":"COUNTIF(L84:L109,AI17)","v":0},{"$f":"AJ17/(AL4-AJ20)","v":0},{"$f":"IF(AK17=0,0,(AK17*((LOG(AK17))/LOG(2))))","v":0},null,{"$f":"N17","v":2121},{"$f":"COUNTIF(L110:L135,AN17)","v":0},{"$f":"AO17/(AQ4-AO20)","v":0},{"$f":"IF(AP17=0,0,(AP17*((LOG(AP17))/LOG(2))))","v":0},null,{"$f":"N17","v":2121},{"$f":"COUNTIF(L136:L161,AS17)","v":0},{"$f":"AT17/(AV4-AT20)","v":0},{"$f":"IF(AU17=0,0,(AU17*((LOG(AU17))/LOG(2))))","v":0}]
[21,1717,12,1787,13,1793,14,1800,null,null,0,2111,null,2122,{"$f":"COUNTIF($L$7:$L$500,N18)","v":1},{"$f":"O18/$Q$4","v":6.4516129032258064E-3},{"$f":"IF(P18=0,0,(P18*((LOG(P18))/LOG(2))))","v":-4.694273809854347E-2},null,null,{"$f":"N18","v":2122},{"$f":"COUNTIF(L7:L32,T18)","v":0},{"$f":"U18/(W4-U20)","v":0},{"$f":"IF(V18=0,0,(V18*((LOG(V18))/LOG(2))))","v":0},null,{"$f":"N18","v":2122},{"$f":"COUNTIF(L33:L58,Y18)","v":0},{"$f":"Z18/(AB4-Z20)","v":0},{"$f":"IF(AA18=0,0,(AA18*((LOG(AA18))/LOG(2))))","v":0},null,{"$f":"N18","v":2122},{"$f":"COUNTIF(L59:L83,AD18)","v":0},{"$f":"AE18/(AG4-AE20)","v":0},{"$f":"IF(AF18=0,0,(AF18*((LOG(AF18))/LOG(2))))","v":0},null,{"$f":"N18","v":2122},{"$f":"COUNTIF(L84:L109,AI18)","v":0},{"$f":"AJ18/(AL4-AJ20)","v":0},{"$f":"IF(AK18=0,0,(AK18*((LOG(AK18))/LOG(2))))","v":0},null,{"$f":"N18","v":2122},{"$f":"COUNTIF(L110:L135,AN18)","v":1},{"$f":"AO18/(AQ4-AO20)","v":3.8461538461538464E-2},{"$f":"IF(AP18=0,0,(AP18*((LOG(AP18))/LOG(2))))","v":-0.18078614300542661},null,{"$f":"N18","v":2122},{"$f":"COUNTIF(L136:L161,AS18)","v":0},{"$f":"AT18/(AV4-AT20)","v":0},{"$f":"IF(AU18=0,0,(AU18*((LOG(AU18))/LOG(2))))","v":0}]
[12,1939,14,1968,13,1972,14,1982,null,null,0,1111,null,2211,{"$f":"COUNTIF($L$7:$L$500,N19)","v":12},{"$f":"O19/$Q$4","v":7.7419354838709681E-2},{"$f":"IF(P19=0,0,(P19*((LOG(P19))/LOG(2))))","v":-0.28576737325572243},null,null,{"$f":"N19","v":2211},{"$f":"COUNTIF(L7:L32,T19)","v":3},{"$f":"U19/(W4-U20)","v":0.11538461538461539},{"$f":"IF(V19=0,0,(V19*((LOG(V19))/LOG(2))))","v":-0.35947814047153104},null,{"$f":"N19","v":2211},{"$f":"COUNTIF(L33:L58,Y19)","v":2},{"$f":"Z19/(AB4-Z20)","v":7.6923076923076927E-2},{"$f":"IF(AA19=0,0,(AA19*((LOG(AA19))/LOG(2))))","v":-0.28464920908777636},null,{"$f":"N19","v":2211},{"$f":"COUNTIF(L59:L83,AD19)","v":2},{"$f":"AE19/(AG4-AE20)","v":0.08},{"$f":"IF(AF19=0,0,(AF19*((LOG(AF19))/LOG(2))))","v":-0.29150849518197797},null,{"$f":"N19","v":2211},{"$f":"COUNTIF(L84:L109,AI19)","v":1},{"$f":"AJ19/(AL4-AJ20)","v":3.8461538461538464E-2},{"$f":"IF(AK19=0,0,(AK19*((LOG(AK19))/LOG(2))))","v":-0.18078614300542661},null,{"$f":"N19","v":2211},{"$f":"COUNTIF(L110:L135,AN19)","v":3},{"$f":"AO19/(AQ4-AO20)","v":0.11538461538461539},{"$f":"IF(AP19=0,0,(AP19*((LOG(AP19))/LOG(2))))","v":-0.35947814047153104},null,{"$f":"N19","v":2211},{"$f":"COUNTIF(L136:L161,AS19)","v":1},{"$f":"AT19/(AV4-AT20)","v":3.8461538461538464E-2},{"$f":"IF(AU19=0,0,(AU19*((LOG(AU19))/LOG(2))))","v":-0.18078614300542661}]
[12,2112,14,2116,13,2120,14,2130,null,null,0,1111,null,2212,{"$f":"COUNTIF($L$7:$L$500,N20)","v":0},{"$f":"O20/$Q$4","v":0},{"$f":"IF(P20=0,0,(P20*((LOG(P20))/LOG(2))))","v":0},null,null,{"$f":"N20","v":2212},{"$f":"COUNTIF(L7:L32,T20)","v":0},null,null,null,{"$f":"N20","v":2212},{"$f":"COUNTIF(L33:L58,Y20)","v":0},null,null,null,{"$f":"N20","v":2212},{"$f":"COUNTIF(L59:L83,AD20)","v":0},null,null,null,{"$f":"N20","v":2212},{"$f":"COUNTIF(L84:L109,AI20)","v":0},null,null,null,{"$f":"N20","v":2212},{"$f":"COUNTIF(L110:L135,AN20)","v":0},null,null,null,{"$f":"N20","v":2212},{"$f":"COUNTIF(L136:L161,AS20)","v":0}]
[12,2300,14,2304,13,2312,14,2320,null,null,0,1111,null,2221,{"$f":"COUNTIF($L$7:$L$500,N21)","v":0},{"$f":"O21/$Q$4","v":0},{"$f":"IF(P21=0,0,(P21*((LOG(P21))/LOG(2))))","v":0},null,null,{"$f":"N21","v":2221},{"$f":"COUNTIF(L7:L32,T21)","v":0},{"$f":"U21/(W4-U20)","v":0},{"$f":"IF(V21=0,0,(V21*((LOG(V21))/LOG(2))))","v":0},null,{"$f":"N21","v":2221},{"$f":"COUNTIF(L33:L58,Y21)","v":0},{"$f":"Z21/(AB4-Z20)","v":0},{"$f":"IF(AA21=0,0,(AA21*((LOG(AA21))/LOG(2))))","v":0},null,{"$f":"N21","v":2221},{"$f":"COUNTIF(L59:L83,AD21)","v":0},{"$f":"AE21/(AG4-AE20)","v":0},{"$f":"IF(AF21=0,0,(AF21*((LOG(AF21))/LOG(2))))","v":0},null,{"$f":"N21","v":2221},{"$f":"COUNTIF(L84:L109,AI21)","v":0},{"$f":"AJ21/(AL4-AJ20)","v":0},{"$f":"IF(AK21=0,0,(AK21*((LOG(AK21))/LOG(2))))","v":0},null,{"$f":"N21","v":2221},{"$f":"COUNTIF(L110:L135,AN21)","v":0},{"$f":"AO21/(AQ4-AO20)","v":0},{"$f":"IF(AP21=0,0,(AP21*((LOG(AP21))/LOG(2))))","v":0},null,{"$f":"N21","v":2221},{"$f":"COUNTIF(L136:L161,AS21)","v":0},{"$f":"AT21/(AV4-AT20)","v":0},{"$f":"IF(AU21=0,0,(AU21*((LOG(AU21))/LOG(2))))","v":0}]
[12,2439,14,2445,13,2448,14,2453,null,null,0,1111,null,2222,{"$f":"COUNTIF($L$7:$L$500,N22)","v":14},{"$f":"O22/$Q$4","v":9.0322580645161285E-2},{"$f":"IF(P22=0,0,(P22*((LOG(P22))/LOG(2))))","v":-0.3133082113873088},null,null,{"$f":"N22","v":2222},{"$f":"COUNTIF(L7:L32,T22)","v":1},{"$f":"U22/(W4-U20)","v":3.8461538461538464E-2},{"$f":"IF(V22=0,0,(V22*((LOG(V22))/LOG(2))))","v":-0.18078614300542661},null,{"$f":"N22","v":2222},{"$f":"COUNTIF(L33:L58,Y22)","v":4},{"$f":"Z22/(AB4-Z20)","v":0.15384615384615385},{"$f":"IF(AA22=0,0,(AA22*((LOG(AA22))/LOG(2))))","v":-0.4154522643293988},null,{"$f":"N22","v":2222},{"$f":"COUNTIF(L59:L83,AD22)","v":4},{"$f":"AE22/(AG4-AE20)","v":0.16},{"$f":"IF(AF22=0,0,(AF22*((LOG(AF22))/LOG(2))))","v":-0.42301699036395596},null,{"$f":"N22","v":2222},{"$f":"COUNTIF(L84:L109,AI22)","v":2},{"$f":"AJ22/(AL4-AJ20)","v":7.6923076923076927E-2},{"$f":"IF(AK22=0,0,(AK22*((LOG(AK22))/LOG(2))))","v":-0.28464920908777636},null,{"$f":"N22","v":2222},{"$f":"COUNTIF(L110:L135,AN22)","v":1},{"$f":"AO22/(AQ4-AO20)","v":3.8461538461538464E-2},{"$f":"IF(AP22=0,0,(AP22*((LOG(AP22))/LOG(2))))","v":-0.18078614300542661},null,{"$f":"N22","v":2222},{"$f":"COUNTIF(L136:L161,AS22)","v":2},{"$f":"AT22/(AV4-AT20)","v":7.6923076923076927E-2},{"$f":"IF(AU22=0,0,(AU22*((LOG(AU22))/LOG(2))))","v":-0.28464920908777636}]
[12,2558,23,2604,13,2623,14,2629,null,null,0,1211,null,null,null,{"$f":"SUM(P7:P22)","v":0.99999999999999989},{"$f":"-SUM(Q7:Q22)","v":2.3780540259646759},null,null,null,null,{"$f":"SUM(V7:V22)","v":0.99999999999999989},{"$f":"-SUM(W7:W22)","v":2.4075362050579714},null,null,null,{"$f":"SUM(AA7:AA22)","v":0.99999999999999989},{"$f":"-SUM(AB7:AB22)","v":2.5445263410253127},null,null,null,{"$f":"SUM(AF7:AF22)","v":1},{"$f":"-SUM(AG7:AG22)","v":1.9550849518197797},null,null,null,{"$f":"SUM(AK7:AK22)","v":1},{"$f":"-SUM(AL7:AL22)","v":1.6912539120823422},null,null,null,{"$f":"SUM(AP7:AP22)","v":1},{"$f":"-SUM(AQ7:AQ22)","v":2.3805008600064506},null,null,null,{"$f":"SUM(AU7:AU22)","v":1},{"$f":"-SUM(AV7:AV22)","v":1.8822463045301729}]
[21,2766,21,2785,11,2797,12,2801,null,null,0,2211,null,null,null,"U=",{"$f":"Q23/(LOG(Q4)/LOG(2))","v":0.32682976451596923},null,null,null,null,"U1=",{"$f":"W23/(LOG(W4)/LOG(2))","v":0.51219382641292388},null,null,null,"U2=",{"$f":"AB23/(LOG(AB4)/LOG(2))","v":0.54133793721571444},null,null,null,"U3=",{"$f":"AG23/(LOG(AG4)/LOG(2))","v":0.42100462889541407},null,null,null,"U4=",{"$f":"AL23/(LOG(AL4)/LOG(2))","v":0.35980759535220497},null,null,null,"U5=",{"$f":"AQ23/(LOG(AQ4)/LOG(2))","v":0.50644216344675941},null,null,null,"U6=",{"$f":"AV23/(LOG(AV4)/LOG(2))","v":0.40044047310419612}]
[12,2936,23,2949,24,2956,23,2961,null,null,0,1222]
[12,3071,14,3075,13,3080,14,3088,null,null,0,1111]
[21,3222,21,3244,22,3259,23,3267,null,null,0,2222,null,"Total Target Seq"]
[12,3409,23,3428,13,3438,14,3442,null,null,0,1211,null,{"$f":"COUNTIF(L7:L161,G3)","v":0},null,26,26,25,26,26,26]
[12,3558,14,3561,13,3570,14,3577,null,null,0,1111,null,null,null,"% of reinforcement given in 6 equal intervals based on number of trials "]
[12,3686,23,3699,24,3709,14,3720,null,null,0,1221,null,null,null,"%_1","%_2","%_3","%_4","%_5","%_6"]
[12,3872,14,3876,13,3880,14,3900,null,null,0,1111,null,null,"target sequence",{"$f":"$G$3","v":2212},{"$f":"$G$3","v":2212},{"$f":"$G$3","v":2212},{"$f":"$G$3","v":2212},{"$f":"$G$3","v":2212},{"$f":"$G$3","v":2212}]
[21,4035,12,4052,13,4061,14,4063,null,null,0,2111,null,null,"total reinforcement",{"$f":"U20","v":0},{"$f":"Z20","v":0},{"$f":"AE20","v":0},{"$f":"AJ20","v":0},{"$f":"AO20","v":0},{"$f":"AT20","v":0}]
[12,4177,14,4192,13,4196,14,4203,null,null,0,1111,null,null,"% target"]
[12,4380,14,4384,13,4388,14,4396,null,null,0,1111,null,null,"CCRF"]
[12,4532,14,4536,13,4540,14,4544,null,null,0,1111,null,null,"% CCRf"]
[12,4655,14,4660,13,4664,14,4668,null,null,0,1111,null,null,"average response rate",{"$f":"H32/P28","v":156.26923076923077},{"$f":"(H58-H32)/Q28","v":161.73076923076923},{"$f":"(H83-H58)/R28","v":159.19999999999999},{"$f":"(H109-H83)/S28","v":142.03846153846155},{"$f":"(H135-H109)/T28","v":145.46153846153845},{"$f":"(H161-H135)/U28","v":162.15384615384616}]
[12,4790,14,4794,13,4798,14,4805,null,null,0,1111]
[21,4927,21,4943,22,4950,23,4957,null,null,0,2222]
[21,5073,21,5092,11,5104,12,5110,null,null,0,2211]
[12,5230,14,5236,13,5239,14,5243,null,null,0,1111]
[21,5392,12,5401,13,5405,14,5410,null,null,0,2111]
[12,5530,23,5543,24,5551,23,5561,null,null,0,1222]
[21,5727,21,5741,22,5750,23,5757,null,null,0,2222]
[12,5875,14,5882,13,5890,23,5904,null,null,0,1112]
[21,6004,21,6013,22,6031,23,6047,null,null,0,2222]
[21,6170,12,6182,13,6186,14,6193,null,null,0,2111]
[21,6338,21,6346,11,6358,12,6361,null,null,0,2211]
[12,6493,14,6499,24,6507,23,6512,null,null,0,1122]
[12,6646,23,6658,13,6669,14,6674,null,null,0,1211]
[21,6825,12,6837,13,6842,14,6846,null,null,0,2111]
[21,7094,12,7110,13,7117,23,7130,null,null,0,2112]
[12,7279,14,7293,13,7307,14,7315,null,null,0,1111]
[12,7484,14,7491,13,7496,14,7501,null,null,0,1111]
[21,7614,12,7628,13,7633,14,7637,null,null,0,2111]
[12,7776,14,7780,13,7784,14,7792,null,null,0,1111]
[12,7900,14,7906,13,7910,14,7915,null,null,0,1111]
[21,8080,21,8088,22,8093,23,8100,null,null,0,2222]
[12,8240,14,8243,13,8256,14,8268,null,null,0,1111]
[21,8400,12,8416,13,8421,14,8425,null,null,0,2111]
[21,8546,12,8558,13,8562,14,8569,null,null,0,2111]
[21,8688,12,8699,13,8703,14,8707,null,null,0,2111]
[12,8855,14,8859,13,8862,14,8867,null,null,0,1111]
[21,9028,12,9036,13,9040,14,9045,null,null,0,2111]
[12,9219,14,9222,13,9227,14,9235,null,null,0,1111]
[12,9374,14,9379,13,9383,14,9387,null,null,0,1111]
[21,9512,12,9521,13,9525,14,9530,null,null,0,2111]
[12,9697,14,9713,13,9717,14,9722,null,null,0,1111]
[21,9849,12,9862,13,9866,14,9870,null,null,0,2111]
[21,10006,21,10014,22,10031,23,10048,null,null,0,2222]
[21,10167,21,10175,11,10184,12,10191,null,null,0,2211]
[21,10314,12,10324,13,10329,14,10333,null,null,0,2111]
[21,10428,21,10443,22,10464,23,10471,null,null,0,2222]
[12,10614,14,10618,13,10626,14,10630,null,null,0,1111]
[12,10800,14,10809,13,10818,14,10826,null,null,0,1111]
[21,10936,21,10950,22,10956,23,10960,null,null,0,2222]
[21,11074,12,11086,13,11090,14,11094,null,null,0,2111]
[12,11239,14,11243,13,11247,14,11253,null,null,0,1111]
[21,11407,12,11418,13,11441,23,11474,null,null,0,2112]
[21,11637,12,11647,13,11651,14,11656,null,null,0,2111]
[12,11795,14,11802,13,11811,14,11819,null,null,0,1111]
[21,11924,21,11938,11,11947,12,11951,null,null,0,2211]
[21,12093,21,12101,22,12105,23,12110,null,null,0,2222]
[21,12224,12,12236,13,12241,14,12248,null,null,0,2111]
[21,12385,12,12393,13,12397,14,12405,null,null,0,2111]
[21,12518,12,12527,13,12531,14,12535,null,null,0,2111]
[21,12672,12,12684,13,12688,14,12692,null,null,0,2111]
[21,12795,12,12820,13,12828,14,12835,null,null,0,2111]
[21,12945,12,12955,13,12959,14,12964,null,null,0,2111]
[21,13087,12,13096,13,13102,14,13106,null,null,0,2111]
[12,13221,14,13225,13,13229,14,13233,null,null,0,1111]
[12,13345,14,13351,13,13355,14,13359,null,null,0,1111]
[21,13508,12,13517,13,13521,14,13525,null,null,0,2111]
[12,13657,14,13660,13,13665,14,13669,null,null,0,1111]
[12,13774,14,13778,13,13782,14,13790,null,null,0,1111]
[21,13914,12,13921,13,13929,14,13937,null,null,0,2111]
[21,14054,12,14063,13,14069,14,14073,null,null,0,2111]
[12,14204,14,14208,13,14212,14,14216,null,null,0,1111]
[12,14323,14,14338,13,14342,14,14346,null,null,0,1111]
[12,14469,14,14474,13,14478,14,14482,null,null,0,1111]
[12,14617,14,14622,13,14629,14,14641,null,null,0,1111]
[21,14765,12,14773,13,14777,14,14780,null,null,0,2111]
[12,14903,14,14907,13,14911,14,14918,null,null,0,1111]
[21,15039,21,15048,22,15054,23,15059,null,null,0,2222]
[12,15187,14,15194,13,15198,14,15205,null,null,0,1111]
[21,15310,21,15318,22,15323,23,15328,null,null,0,2222]
[21,15440,12,15448,13,15453,14,15457,null,null,0,2111]
[21,15577,12,15596,13,15603,14,15611,null,null,0,2111]
[21,15777,21,15781,11,15794,12,15801,null,null,0,2211]
[12,15914,23,15923,24,15928,14,15941,null,null,0,1221]
[21,16048,12,16056,24,16066,23,16071,null,null,0,2122]
[12,16225,14,16229,13,16233,14,16241,null,null,0,1111]
[21,16353,12,16367,13,16371,14,16375,null,null,0,2111]
[21,16486,12,16504,13,16508,14,16512,null,null,0,2111]
[12,16629,14,16633,13,16637,14,16641,null,null,0,1111]
[21,16790,12,16800,13,16803,14,16811,null,null,0,2111]
[12,16940,14,16944,13,16948,14,16953,null,null,0,1111]
[12,17067,23,17078,24,17082,23,17086,null,null,0,1222]
[12,17214,14,17218,13,17222,14,17238,null,null,0,1111]
[12,17362,14,17370,13,17378,23,17393,null,null,0,1112]
[21,17512,12,17519,13,17524,14,17530,null,null,0,2111]
[21,17648,12,17659,13,17663,14,17671,null,null,0,2111]
[12,17801,23,17812,13,17829,14,17835,null,null,0,1211]
[21,17953,12,17969,13,17973,14,17977,null,null,0,2111]
[21,18097,12,18113,13,18117,14,18121,null,null,0,2111]
[12,18233,14,18237,13,18241,14,18245,null,null,0,1111]
[21,18357,12,18366,13,18369,14,18373,null,null,0,2111]
[12,18501,14,18508,13,18512,14,18520,null,null,0,1111]
[21,18629,12,18639,13,18646,14,18666,null,null,0,2111]
[21,18776,12,18784,13,18788,14,18792,null,null,0,2111]
[21,18915,12,18927,13,18931,14,18936,null,null,0,2111]
[21,19042,21,19050,11,19060,12,19064,null,null,0,2211]
[12,19233,23,19244,24,19248,23,19253,null,null,0,1222]
[21,19359,21,19377,11,19396,12,19399,null,null,0,2211]
[21,19526,21,19531,11,19543,12,19550,null,null,0,2211]
[21,19709,21,19714,22,19718,23,19723,null,null,0,2222]
[12,19868,14,19872,13,19889,14,19899,null,null,0,1111]
[12,20026,14,20033,13,20037,14,20041,null,null,0,1111]
[12,20164,14,20171,13,20178,14,20188,null,null,0,1111]
[12,20346,14,20352,13,20356,14,20364,null,null,0,1111]
[21,20498,12,20513,13,20517,14,20522,null,null,0,2111]
[12,20646,14,20653,13,20658,14,20663,null,null,0,1111]
[12,20797,14,20802,13,20806,14,20811,null,null,0,1111]
[21,20936,12,20945,13,20949,14,20953,null,null,0,2111]
[12,21081,14,21086,13,21090,14,21097,null,null,0,1111]
[12,21241,14,21245,13,21260,14,21267,null,null,0,1111]
[12,21374,14,21393,13,21400,14,21407,null,null,0,1111]
[12,21529,14,21536,13,21545,14,21553,null,null,0,1111]
[21,21670,12,21687,13,21694,14,21705,null,null,0,2111]
[12,21857,23,21869,24,21875,23,21885,null,null,0,1222]
[12,22027,14,22031,13,22035,23,22063,null,null,0,1112]
[21,22197,12,22206,13,22210,14,22214,null,null,0,2111]
[21,22389,12,22397,13,22404,14,22410,null,null,0,2111]
[21,22582,12,22593,13,22597,14,22605,null,null,0,2111]
[21,22740,21,22747,22,22752,23,22757,null,null,0,2222]
[21,22887,21,22896,11,22906,12,22915,null,null,0,2211]
[21,23084,12,23093,13,23104,14,23116,null,null,0,2111]
[21,23248,12,23257,13,23265,14,23272,null,null,0,2111]
[21,23419,12,23432,13,23436,14,23444,null,null,0,2111]
[12,23622,14,23626,13,23630,14,23635,null,null,0,1111]
[21,23781,21,23789,22,23794,23,23799,null,null,0,2222]
[21,23915,12,23928,13,23935,14,23939,null,null,1,2111]

{"sheet":"!L811A00.053","index":17,"n_rows":163,"n_cols":48,"rows_kept":163,"cut":false,"hidden":false,"merged":[[4,39,4,42],[5,39,5,40],[4,44,4,47],[5,44,5,45],[4,24,4,27],[5,24,5,25],[4,29,4,32],[5,29,5,30],[4,34,4,37],[5,34,5,35],[1,1,1,2],[5,13,5,14],[26,13,26,14],[27,13,27,14],[4,19,4,22],[5,19,5,20]]}
["Report for:!L811A00.053"]
["Date:","<date>"]
["Hen:","<hen>",null,null,null,"Correct Sequence",{"$f":"Start!J2","v":2212},null,null,null,null,null,null,null,null,"Total Sequences in Data",{"$f":"4994-COUNTBLANK(L7:L5000)","v":157},null,null,null,null,"Total Sequences in Block Data",{"$f":"COUNTA(L7:L32)","v":26},null,null,null,"Total Sequences in Block Data",{"$f":"COUNTA(L33:L58)","v":26},null,null,null,"Total Sequences in Block Data",{"$f":"COUNTA(L59:L85)","v":27},null,null,null,"Total Sequences in Block Data",{"$f":"COUNTA(L86:L111)","v":26},null,null,null,"Total Sequences in Block Data",{"$f":"COUNTA(L112:L137)","v":26},null,null,null,"Total Sequences in Block Data",{"$f":"COUNTA(L138:L163)","v":26}]
[null,null,null,null,null,null,null,null,null,null,null,null,null,null,null,"Total Sequences in Summary",{"$f":"SUM(O7:O22)","v":157},null,null,null,null,"Total Sequences in Block Summary",{"$f":"SUM(U7:U22)","v":26},null,null,null,"Total Sequences in Block Summary",{"$f":"SUM(Z7:Z22)","v":26},null,null,null,"Total Sequences in Block Summary",{"$f":"SUM(AE7:AE22)","v":27},null,null,null,"Total Sequences in Block Summary",{"$f":"SUM(AJ7:AJ22)","v":26},null,null,null,"Total Sequences in Block Summary",{"$f":"SUM(AO7:AO22)","v":26},null,null,null,"Total Sequences in Block Summary",{"$f":"SUM(AT7:AT22)","v":26}]
[null,null,null,null,null,null,null,null,null,null,null,null,null,null,null,null,null,null,null,"Block 1",null,null,null,null,"Block 2",null,null,null,null,"Block 3",null,null,null,null,"Block 4",null,null,null,null,"Block 5",null,null,null,null,"Block 6"]
["Sequence\nComponent\n1","Time\n1","Sequence\nComponent\n2","Time\n2","Sequence\nComponent\n3","Time\n3","Sequence\nComponent\n4","Time\n4","Sequence\nComponent\n5","Time\n5","Correct?\n0=No 1=Yes","Sequence",null,"Frequency",null,"Relative Frequency","Variability",null,null,"Frequency",null,"Relative Frequency","Variability",null,"Frequency",null,"Relative Frequency","Variability",null,"Frequency",null,"Relative Frequency","Variability",null,"Frequency",null,"Relative Frequency","Variability",null,"Frequency",null,"Relative Frequency","Variability",null,"Frequency",null,"Relative Frequency","Variability"]
[12,56,14,81,13,88,14,96,null,null,0,1111,null,1111,{"$f":"COUNTIF($L$7:$L$500,N7)","v":69},{"$f":"O7/$Q$4","v":0.43949044585987262},{"$f":"IF(P7=0,0,(P7*((LOG(P7))/LOG(2))))","v":-0.52127798825368532},null,null,{"$f":"N7","v":1111},{"$f":"COUNTIF(L7:L32,T7)","v":23},{"$f":"U7/(W4-U20)","v":0.88461538461538458},{"$f":"IF(V7=0,0,(V7*((LOG(V7))/LOG(2))))","v":-0.15646878953591634},null,{"$f":"N7","v":1111},{"$f":"COUNTIF(L33:L58,Y7)","v":19},{"$f":"Z7/(AB4-Z20)","v":0.73076923076923073},{"$f":"IF(AA7=0,0,(AA7*((LOG(AA7))/LOG(2))))","v":-0.33068199574048568},null,{"$f":"N7","v":1111},{"$f":"COUNTIF(L59:L85,AD7)","v":7},{"$f":"AE7/(AG4-AE20)","v":0.25925925925925924},{"$f":"IF(AF7=0,0,(AF7*((LOG(AF7))/LOG(2))))","v":-0.5049158541015204},null,{"$f":"N7","v":1111},{"$f":"COUNTIF(L86:L111,AI7)","v":8},{"$f":"AJ7/(AL4-AJ20)","v":0.30769230769230771},{"$f":"IF(AK7=0,0,(AK7*((LOG(AK7))/LOG(2))))","v":-0.52321222096648989},null,{"$f":"N7","v":1111},{"$f":"COUNTIF(L112:L137,AN7)","v":8},{"$f":"AO7/(AQ4-AO20)","v":0.30769230769230771},{"$f":"IF(AP7=0,0,(AP7*((LOG(AP7))/LOG(2))))","v":-0.52321222096648989},null,{"$f":"N7","v":1111},{"$f":"COUNTIF(L138:L163,AS7)","v":4},{"$f":"AT7/(AV4-AT20)","v":0.15384615384615385},{"$f":"IF(AU7=0,0,(AU7*((LOG(AU7))/LOG(2))))","v":-0.4154522643293988}]
[12,196,14,200,13,205,14,209,null,null,0,1111,null,1112,{"$f":"COUNTIF($L$7:$L$500,N8)","v":2},{"$f":"O8/$Q$4","v":1.2738853503184714E-2},{"$f":"IF(P8=0,0,(P8*((LOG(P8))/LOG(2))))","v":-8.0186251578237291E-2},null,null,{"$f":"N8","v":1112},{"$f":"COUNTIF(L7:L32,T8)","v":1},{"$f":"U8/(W4-U20)","v":3.8461538461538464E-2},{"$f":"IF(V8=0,0,(V8*((LOG(V8))/LOG(2))))","v":-0.18078614300542661},null,{"$f":"N8","v":1112},{"$f":"COUNTIF(L33:L58,Y8)","v":1},{"$f":"Z8/(AB4-Z20)","v":3.8461538461538464E-2},{"$f":"IF(AA8=0,0,(AA8*((LOG(AA8))/LOG(2))))","v":-0.18078614300542661},null,{"$f":"N8","v":1112},{"$f":"COUNTIF(L59:L85,AD8)","v":0},{"$f":"AE8/(AG4-AE20)","v":0},{"$f":"IF(AF8=0,0,(AF8*((LOG(AF8))/LOG(2))))","v":0},null,{"$f":"N8","v":1112},{"$f":"COUNTIF(L86:L111,AI8)","v":0},{"$f":"AJ8/(AL4-AJ20)","v":0},{"$f":"IF(AK8=0,0,(AK8*((LOG(AK8))/LOG(2))))","v":0},null,{"$f":"N8","v":1112},{"$f":"COUNTIF(L112:L137,AN8)","v":0},{"$f":"AO8/(AQ4-AO20)","v":0},{"$f":"IF(AP8=0,0,(AP8*((LOG(AP8))/LOG(2))))","v":0},null,{"$f":"N8","v":1112},{"$f":"COUNTIF(L138:L163,AS8)","v":0},{"$f":"AT8/(AV4-AT20)","v":0},{"$f":"IF(AU8=0,0,(AU8*((LOG(AU8))/LOG(2))))","v":0}]
[12,330,14,335,13,339,14,343,null,null,0,1111,null,1121,{"$f":"COUNTIF($L$7:$L$500,N9)","v":0},{"$f":"O9/$Q$4","v":0},{"$f":"IF(P9=0,0,(P9*((LOG(P9))/LOG(2))))","v":0},null,null,{"$f":"N9","v":1121},{"$f":"COUNTIF(L7:L32,T9)","v":0},{"$f":"U9/(W4-U20)","v":0},{"$f":"IF(V9=0,0,(V9*((LOG(V9))/LOG(2))))","v":0},null,{"$f":"N9","v":1121},{"$f":"COUNTIF(L33:L58,Y9)","v":0},{"$f":"Z9/(AB4-Z20)","v":0},{"$f":"IF(AA9=0,0,(AA9*((LOG(AA9))/LOG(2))))","v":0},null,{"$f":"N9","v":1121},{"$f":"COUNTIF(L59:L85,AD9)","v":0},{"$f":"AE9/(AG4-AE20)","v":0},{"$f":"IF(AF9=0,0,(AF9*((LOG(AF9))/LOG(2))))","v":0},null,{"$f":"N9","v":1121},{"$f":"COUNTIF(L86:L111,AI9)","v":0},{"$f":"AJ9/(AL4-AJ20)","v":0},{"$f":"IF(AK9=0,0,(AK9*((LOG(AK9))/LOG(2))))","v":0},null,{"$f":"N9","v":1121},{"$f":"COUNTIF(L112:L137,AN9)","v":0},{"$f":"AO9/(AQ4-AO20)","v":0},{"$f":"IF(AP9=0,0,(AP9*((LOG(AP9))/LOG(2))))","v":0},null,{"$f":"N9","v":1121},{"$f":"COUNTIF(L138:L163,AS9)","v":0},{"$f":"AT9/(AV4-AT20)","v":0},{"$f":"IF(AU9=0,0,(AU9*((LOG(AU9))/LOG(2))))","v":0}]
[12,456,14,460,13,464,14,468,null,null,0,1111,null,1122,{"$f":"COUNTIF($L$7:$L$500,N10)","v":0},{"$f":"O10/$Q$4","v":0},{"$f":"IF(P10=0,0,(P10*((LOG(P10))/LOG(2))))","v":0},null,null,{"$f":"N10","v":1122},{"$f":"COUNTIF(L7:L32,T10)","v":0},{"$f":"U10/(W4-U20)","v":0},{"$f":"IF(V10=0,0,(V10*((LOG(V10))/LOG(2))))","v":0},null,{"$f":"N10","v":1122},{"$f":"COUNTIF(L33:L58,Y10)","v":0},{"$f":"Z10/(AB4-Z20)","v":0},{"$f":"IF(AA10=0,0,(AA10*((LOG(AA10))/LOG(2))))","v":0},null,{"$f":"N10","v":1122},{"$f":"COUNTIF(L59:L85,AD10)","v":0},{"$f":"AE10/(AG4-AE20)","v":0},{"$f":"IF(AF10=0,0,(AF10*((LOG(AF10))/LOG(2))))","v":0},null,{"$f":"N10","v":1122},{"$f":"COUNTIF(L86:L111,AI10)","v":0},{"$f":"AJ10/(AL4-AJ20)","v":0},{"$f":"IF(AK10=0,0,(AK10*((LOG(AK10))/LOG(2))))","v":0},null,{"$f":"N10","v":1122},{"$f":"COUNTIF(L112:L137,AN10)","v":0},{"$f":"AO10/(AQ4-AO20)","v":0},{"$f":"IF(AP10=0,0,(AP10*((LOG(AP10))/LOG(2))))","v":0},null,{"$f":"N10","v":1122},{"$f":"COUNTIF(L138:L163,AS10)","v":0},{"$f":"AT10/(AV4-AT20)","v":0},{"$f":"IF(AU10=0,0,(AU10*((LOG(AU10))/LOG(2))))","v":0}]
[12,567,14,594,13,598,14,602,null,null,0,1111,null,1211,{"$f":"COUNTIF($L$7:$L$500,N11)","v":0},{"$f":"O11/$Q$4","v":0},{"$f":"IF(P11=0,0,(P11*((LOG(P11))/LOG(2))))","v":0},null,null,{"$f":"N11","v":1211},{"$f":"COUNTIF(L7:L32,T11)","v":0},{"$f":"U11/(W4-U20)","v":0},{"$f":"IF(V11=0,0,(V11*((LOG(V11))/LOG(2))))","v":0},null,{"$f":"N11","v":1211},{"$f":"COUNTIF(L33:L58,Y11)","v":0},{"$f":"Z11/(AB4-Z20)","v":0},{"$f":"IF(AA11=0,0,(AA11*((LOG(AA11))/LOG(2))))","v":0},null,{"$f":"N11","v":1211},{"$f":"COUNTIF(L59:L85,AD11)","v":0},{"$f":"AE11/(AG4-AE20)","v":0},{"$f":"IF(AF11=0,0,(AF11*((LOG(AF11))/LOG(2))))","v":0},null,{"$f":"N11","v":1211},{"$f":"COUNTIF(L86:L111,AI11)","v":0},{"$f":"AJ11/(AL4-AJ20)","v":0},{"$f":"IF(AK11=0,0,(AK11*((LOG(AK11))/LOG(2))))","v":0},null,{"$f":"N11","v":1211},{"$f":"COUNTIF(L112:L137,AN11)","v":0},{"$f":"AO11/(AQ4-AO20)","v":0},{"$f":"IF(AP11=0,0,(AP11*((LOG(AP11))/LOG(2))))","v":0},null,{"$f":"N11","v":1211},{"$f":"COUNTIF(L138:L163,AS11)","v":0},{"$f":"AT11/(AV4-AT20)","v":0},{"$f":"IF(AU11=0,0,(AU11*((LOG(AU11))/LOG(2))))","v":0}]
[12,713,14,737,13,741,14,749,null,null,0,1111,null,1212,{"$f":"COUNTIF($L$7:$L$500,N12)","v":0},{"$f":"O12/$Q$4","v":0},{"$f":"IF(P12=0,0,(P12*((LOG(P12))/LOG(2))))","v":0},null,null,{"$f":"N12","v":1212},{"$f":"COUNTIF(L7:L32,T12)","v":0},{"$f":"U12/(W4-U20)","v":0},{"$f":"IF(V12=0,0,(V12*((LOG(V12))/LOG(2))))","v":0},null,{"$f":"N12","v":1212},{"$f":"COUNTIF(L33:L58,Y12)","v":0},{"$f":"Z12/(AB4-Z20)","v":0},{"$f":"IF(AA12=0,0,(AA12*((LOG(AA12))/LOG(2))))","v":0},null,{"$f":"N12","v":1212},{"$f":"COUNTIF(L59:L85,AD12)","v":0},{"$f":"AE12/(AG4-AE20)","v":0},{"$f":"IF(AF12=0,0,(AF12*((LOG(AF12))/LOG(2))))","v":0},null,{"$f":"N12","v":1212},{"$f":"COUNTIF(L86:L111,AI12)","v":0},{"$f":"AJ12/(AL4-AJ20)","v":0},{"$f":"IF(AK12=0,0,(AK12*((LOG(AK12))/LOG(2))))","v":0},null,{"$f":"N12","v":1212},{"$f":"COUNTIF(L112:L137,AN12)","v":0},{"$f":"AO12/(AQ4-AO20)","v":0},{"$f":"IF(AP12=0,0,(AP12*((LOG(AP12))/LOG(2))))","v":0},null,{"$f":"N12","v":1212},{"$f":"COUNTIF(L138:L163,AS12)","v":0},{"$f":"AT12/(AV4-AT20)","v":0},{"$f":"IF(AU12=0,0,(AU12*((LOG(AU12))/LOG(2))))","v":0}]
[12,896,14,900,13,904,14,919,null,null,0,1111,null,1221,{"$f":"COUNTIF($L$7:$L$500,N13)","v":0},{"$f":"O13/$Q$4","v":0},{"$f":"IF(P13=0,0,(P13*((LOG(P13))/LOG(2))))","v":0},null,null,{"$f":"N13","v":1221},{"$f":"COUNTIF(L7:L32,T13)","v":0},{"$f":"U13/(W4-U20)","v":0},{"$f":"IF(V13=0,0,(V13*((LOG(V13))/LOG(2))))","v":0},null,{"$f":"N13","v":1221},{"$f":"COUNTIF(L33:L58,Y13)","v":0},{"$f":"Z13/(AB4-Z20)","v":0},{"$f":"IF(AA13=0,0,(AA13*((LOG(AA13))/LOG(2))))","v":0},null,{"$f":"N13","v":1221},{"$f":"COUNTIF(L59:L85,AD13)","v":0},{"$f":"AE13/(AG4-AE20)","v":0},{"$f":"IF(AF13=0,0,(AF13*((LOG(AF13))/LOG(2))))","v":0},null,{"$f":"N13","v":1221},{"$f":"COUNTIF(L86:L111,AI13)","v":0},{"$f":"AJ13/(AL4-AJ20)","v":0},{"$f":"IF(AK13=0,0,(AK13*((LOG(AK13))/LOG(2))))","v":0},null,{"$f":"N13","v":1221},{"$f":"COUNTIF(L112:L137,AN13)","v":0},{"$f":"AO13/(AQ4-AO20)","v":0},{"$f":"IF(AP13=0,0,(AP13*((LOG(AP13))/LOG(2))))","v":0},null,{"$f":"N13","v":1221},{"$f":"COUNTIF(L138:L163,AS13)","v":0},{"$f":"AT13/(AV4-AT20)","v":0},{"$f":"IF(AU13=0,0,(AU13*((LOG(AU13))/LOG(2))))","v":0}]
[12,1034,14,1038,13,1042,23,1057,null,null,0,1112,null,1222,{"$f":"COUNTIF($L$7:$L$500,N14)","v":2},{"$f":"O14/$Q$4","v":1.2738853503184714E-2},{"$f":"IF(P14=0,0,(P14*((LOG(P14))/LOG(2))))","v":-8.0186251578237291E-2},null,null,{"$f":"N14","v":1222},{"$f":"COUNTIF(L7:L32,T14)","v":0},{"$f":"U14/(W4-U20)","v":0},{"$f":"IF(V14=0,0,(V14*((LOG(V14))/LOG(2))))","v":0},null,{"$f":"N14","v":1222},{"$f":"COUNTIF(L33:L58,Y14)","v":2},{"$f":"Z14/(AB4-Z20)","v":7.6923076923076927E-2},{"$f":"IF(AA14=0,0,(AA14*((LOG(AA14))/LOG(2))))","v":-0.28464920908777636},null,{"$f":"N14","v":1222},{"$f":"COUNTIF(L59:L85,AD14)","v":0},{"$f":"AE14/(AG4-AE20)","v":0},{"$f":"IF(AF14=0,0,(AF14*((LOG(AF14))/LOG(2))))","v":0},null,{"$f":"N14","v":1222},{"$f":"COUNTIF(L86:L111,AI14)","v":0},{"$f":"AJ14/(AL4-AJ20)","v":0},{"$f":"IF(AK14=0,0,(AK14*((LOG(AK14))/LOG(2))))","v":0},null,{"$f":"N14","v":1222},{"$f":"COUNTIF(L112:L137,AN14)","v":0},{"$f":"AO14/(AQ4-AO20)","v":0},{"$f":"IF(AP14=0,0,(AP14*((LOG(AP14))/LOG(2))))","v":0},null,{"$f":"N14","v":1222},{"$f":"COUNTIF(L138:L163,AS14)","v":0},{"$f":"AT14/(AV4-AT20)","v":0},{"$f":"IF(AU14=0,0,(AU14*((LOG(AU14))/LOG(2))))","v":0}]
[12,1189,14,1194,13,1198,14,1205,null,null,0,1111,null,2111,{"$f":"COUNTIF($L$7:$L$500,N15)","v":47},{"$f":"O15/$Q$4","v":0.29936305732484075},{"$f":"IF(P15=0,0,(P15*((LOG(P15))/LOG(2))))","v":-0.52090126859272301},null,null,{"$f":"N15","v":2111},{"$f":"COUNTIF(L7:L32,T15)","v":2},{"$f":"U15/(W4-U20)","v":7.6923076923076927E-2},{"$f":"IF(V15=0,0,(V15*((LOG(V15))/LOG(2))))","v":-0.28464920908777636},null,{"$f":"N15","v":2111},{"$f":"COUNTIF(L33:L58,Y15)","v":2},{"$f":"Z15/(AB4-Z20)","v":7.6923076923076927E-2},{"$f":"IF(AA15=0,0,(AA15*((LOG(AA15))/LOG(2))))","v":-0.28464920908777636},null,{"$f":"N15","v":2111},{"$f":"COUNTIF(L59:L85,AD15)","v":11},{"$f":"AE15/(AG4-AE20)","v":0.40740740740740738},{"$f":"IF(AF15=0,0,(AF15*((LOG(AF15))/LOG(2))))","v":-0.52777832291806981},null,{"$f":"N15","v":2111},{"$f":"COUNTIF(L86:L111,AI15)","v":13},{"$f":"AJ15/(AL4-AJ20)","v":0.5},{"$f":"IF(AK15=0,0,(AK15*((LOG(AK15))/LOG(2))))","v":-0.5},null,{"$f":"N15","v":2111},{"$f":"COUNTIF(L112:L137,AN15)","v":7},{"$f":"AO15/(AQ4-AO20)","v":0.26923076923076922},{"$f":"IF(AP15=0,0,(AP15*((LOG(AP15))/LOG(2))))","v":-0.50967667586863141},null,{"$f":"N15","v":2111},{"$f":"COUNTIF(L138:L163,AS15)","v":12},{"$f":"AT15/(AV4-AT20)","v":0.46153846153846156},{"$f":"IF(AU15=0,0,(AU15*((LOG(AU15))/LOG(2))))","v":-0.51483563880920125}]
[21,1330,12,1346,13,1350,14,1354,null,null,0,2111,null,2112,{"$f":"COUNTIF($L$7:$L$500,N16)","v":0},{"$f":"O16/$Q$4","v":0},{"$f":"IF(P16=0,0,(P16*((LOG(P16))/LOG(2))))","v":0},null,null,{"$f":"N16","v":2112},{"$f":"COUNTIF(L7:L32,T16)","v":0},{"$f":"U16/(W4-U20)","v":0},{"$f":"IF(V16=0,0,(V16*((LOG(V16))/LOG(2))))","v":0},null,{"$f":"N16","v":2112},{"$f":"COUNTIF(L33:L58,Y16)","v":0},{"$f":"Z16/(AB4-Z20)","v":0},{"$f":"IF(AA16=0,0,(AA16*((LOG(AA16))/LOG(2))))","v":0},null,{"$f":"N16","v":2112},{"$f":"COUNTIF(L59:L85,AD16)","v":0},{"$f":"AE16/(AG4-AE20)","v":0},{"$f":"IF(AF16=0,0,(AF16*((LOG(AF16))/LOG(2))))","v":0},null,{"$f":"N16","v":2112},{"$f":"COUNTIF(L86:L111,AI16)","v":0},{"$f":"AJ16/(AL4-AJ20)","v":0},{"$f":"IF(AK16=0,0,(AK16*((LOG(AK16))/LOG(2))))","v":0},null,{"$f":"N16","v":2112},{"$f":"COUNTIF(L112:L137,AN16)","v":0},{"$f":"AO16/(AQ4-AO20)","v":0},{"$f":"IF(AP16=0,0,(AP16*((LOG(AP16))/LOG(2))))","v":0},null,{"$f":"N16","v":2112},{"$f":"COUNTIF(L138:L163,AS16)","v":0},{"$f":"AT16/(AV4-AT20)","v":0},{"$f":"IF(AU16=0,0,(AU16*((LOG(AU16))/LOG(2))))","v":0}]
[12,1474,14,1478,13,1487,14,1492,null,null,0,1111,null,2121,{"$f":"COUNTIF($L$7:$L$500,N17)","v":0},{"$f":"O17/$Q$4","v":0},{"$f":"IF(P17=0,0,(P17*((LOG(P17))/LOG(2))))","v":0},null,null,{"$f":"N17","v":2121},{"$f":"COUNTIF(L7:L32,T17)","v":0},{"$f":"U17/(W4-U20)","v":0},{"$f":"IF(V17=0,0,(V17*((LOG(V17))/LOG(2))))","v":0},null,{"$f":"N17","v":2121},{"$f":"COUNTIF(L33:L58,Y17)","v":0},{"$f":"Z17/(AB4-Z20)","v":0},{"$f":"IF(AA17=0,0,(AA17*((LOG(AA17))/LOG(2))))","v":0},null,{"$f":"N17","v":2121},{"$f":"COUNTIF(L59:L85,AD17)","v":0},{"$f":"AE17/(AG4-AE20)","v":0},{"$f":"IF(AF17=0,0,(AF17*((LOG(AF17))/LOG(2))))","v":0},null,{"$f":"N17","v":2121},{"$f":"COUNTIF(L86:L111,AI17)","v":0},{"$f":"AJ17/(AL4-AJ20)","v":0},{"$f":"IF(AK17=0,0,(AK17*((LOG(AK17))/LOG(2))))","v":0},null,{"$f":"N17","v":2121},{"$f":"COUNTIF(L112:L137,AN17)","v":0},{"$f":"AO17/(AQ4-AO20)","v":0},{"$f":"IF(AP17=0,0,(AP17*((LOG(AP17))/LOG(2))))","v":0},null,{"$f":"N17","v":2121},{"$f":"COUNTIF(L138:L163,AS17)","v":0},{"$f":"AT17/(AV4-AT20)","v":0},{"$f":"IF(AU17=0,0,(AU17*((LOG(AU17))/LOG(2))))","v":0}]
[12,1646,14,1653,13,1658,14,1665,null,null,0,1111,null,2122,{"$f":"COUNTIF($L$7:$L$500,N18)","v":0},{"$f":"O18/$Q$4","v":0},{"$f":"IF(P18=0,0,(P18*((LOG(P18))/LOG(2))))","v":0},null,null,{"$f":"N18","v":2122},{"$f":"COUNTIF(L7:L32,T18)","v":0},{"$f":"U18/(W4-U20)","v":0},{"$f":"IF(V18=0,0,(V18*((LOG(V18))/LOG(2))))","v":0},null,{"$f":"N18","v":2122},{"$f":"COUNTIF(L33:L58,Y18)","v":0},{"$f":"Z18/(AB4-Z20)","v":0},{"$f":"IF(AA18=0,0,(AA18*((LOG(AA18))/LOG(2))))","v":0},null,{"$f":"N18","v":2122},{"$f":"COUNTIF(L59:L85,AD18)","v":0},{"$f":"AE18/(AG4-AE20)","v":0},{"$f":"IF(AF18=0,0,(AF18*((LOG(AF18))/LOG(2))))","v":0},null,{"$f":"N18","v":2122},{"$f":"COUNTIF(L86:L111,AI18)","v":0},{"$f":"AJ18/(AL4-AJ20)","v":0},{"$f":"IF(AK18=0,0,(AK18*((LOG(AK18))/LOG(2))))","v":0},null,{"$f":"N18","v":2122},{"$f":"COUNTIF(L112:L137,AN18)","v":0},{"$f":"AO18/(AQ4-AO20)","v":0},{"$f":"IF(AP18=0,0,(AP18*((LOG(AP18))/LOG(2))))","v":0},null,{"$f":"N18","v":2122},{"$f":"COUNTIF(L138:L163,AS18)","v":0},{"$f":"AT18/(AV4-AT20)","v":0},{"$f":"IF(AU18=0,0,(AU18*((LOG(AU18))/LOG(2))))","v":0}]
[21,1795,12,1807,13,1811,14,1816,null,null,0,2111,null,2211,{"$f":"COUNTIF($L$7:$L$500,N19)","v":19},{"$f":"O19/$Q$4","v":0.12101910828025478},{"$f":"IF(P19=0,0,(P19*((LOG(P19))/LOG(2))))","v":-0.36870809855740633},null,null,{"$f":"N19","v":2211},{"$f":"COUNTIF(L7:L32,T19)","v":0},{"$f":"U19/(W4-U20)","v":0},{"$f":"IF(V19=0,0,(V19*((LOG(V19))/LOG(2))))","v":0},null,{"$f":"N19","v":2211},{"$f":"COUNTIF(L33:L58,Y19)","v":1},{"$f":"Z19/(AB4-Z20)","v":3.8461538461538464E-2},{"$f":"IF(AA19=0,0,(AA19*((LOG(AA19))/LOG(2))))","v":-0.18078614300542661},null,{"$f":"N19","v":2211},{"$f":"COUNTIF(L59:L85,AD19)","v":6},{"$f":"AE19/(AG4-AE20)","v":0.22222222222222221},{"$f":"IF(AF19=0,0,(AF19*((LOG(AF19))/LOG(2))))","v":-0.48220555587606945},null,{"$f":"N19","v":2211},{"$f":"COUNTIF(L86:L111,AI19)","v":3},{"$f":"AJ19/(AL4-AJ20)","v":0.11538461538461539},{"$f":"IF(AK19=0,0,(AK19*((LOG(AK19))/LOG(2))))","v":-0.35947814047153104},null,{"$f":"N19","v":2211},{"$f":"COUNTIF(L112:L137,AN19)","v":5},{"$f":"AO19/(AQ4-AO20)","v":0.19230769230769232},{"$f":"IF(AP19=0,0,(AP19*((LOG(AP19))/LOG(2))))","v":-0.45740608139494804},null,{"$f":"N19","v":2211},{"$f":"COUNTIF(L138:L163,AS19)","v":4},{"$f":"AT19/(AV4-AT20)","v":0.15384615384615385},{"$f":"IF(AU19=0,0,(AU19*((LOG(AU19))/LOG(2))))","v":-0.4154522643293988}]
[12,1930,14,1941,13,1945,14,1953,null,null,0,1111,null,2212,{"$f":"COUNTIF($L$7:$L$500,N20)","v":0},{"$f":"O20/$Q$4","v":0},{"$f":"IF(P20=0,0,(P20*((LOG(P20))/LOG(2))))","v":0},null,null,{"$f":"N20","v":2212},{"$f":"COUNTIF(L7:L32,T20)","v":0},null,null,null,{"$f":"N20","v":2212},{"$f":"COUNTIF(L33:L58,Y20)","v":0},null,null,null,{"$f":"N20","v":2212},{"$f":"COUNTIF(L59:L85,AD20)","v":0},null,null,null,{"$f":"N20","v":2212},{"$f":"COUNTIF(L86:L111,AI20)","v":0},null,null,null,{"$f":"N20","v":2212},{"$f":"COUNTIF(L112:L137,AN20)","v":0},null,null,null,{"$f":"N20","v":2212},{"$f":"COUNTIF(L138:L163,AS20)","v":0}]
[12,2077,14,2081,13,2085,14,2089,null,null,0,1111,null,2221,{"$f":"COUNTIF($L$7:$L$500,N21)","v":5},{"$f":"O21/$Q$4","v":3.1847133757961783E-2},{"$f":"IF(P21=0,0,(P21*((LOG(P21))/LOG(2))))","v":-0.15836600808930779},null,null,{"$f":"N21","v":2221},{"$f":"COUNTIF(L7:L32,T21)","v":0},{"$f":"U21/(W4-U20)","v":0},{"$f":"IF(V21=0,0,(V21*((LOG(V21))/LOG(2))))","v":0},null,{"$f":"N21","v":2221},{"$f":"COUNTIF(L33:L58,Y21)","v":0},{"$f":"Z21/(AB4-Z20)","v":0},{"$f":"IF(AA21=0,0,(AA21*((LOG(AA21))/LOG(2))))","v":0},null,{"$f":"N21","v":2221},{"$f":"COUNTIF(L59:L85,AD21)","v":1},{"$f":"AE21/(AG4-AE20)","v":3.7037037037037035E-2},{"$f":"IF(AF21=0,0,(AF21*((LOG(AF21))/LOG(2))))","v":-0.1761069445245729},null,{"$f":"N21","v":2221},{"$f":"COUNTIF(L86:L111,AI21)","v":1},{"$f":"AJ21/(AL4-AJ20)","v":3.8461538461538464E-2},{"$f":"IF(AK21=0,0,(AK21*((LOG(AK21))/LOG(2))))","v":-0.18078614300542661},null,{"$f":"N21","v":2221},{"$f":"COUNTIF(L112:L137,AN21)","v":2},{"$f":"AO21/(AQ4-AO20)","v":7.6923076923076927E-2},{"$f":"IF(AP21=0,0,(AP21*((LOG(AP21))/LOG(2))))","v":-0.28464920908777636},null,{"$f":"N21","v":2221},{"$f":"COUNTIF(L138:L163,AS21)","v":1},{"$f":"AT21/(AV4-AT20)","v":3.8461538461538464E-2},{"$f":"IF(AU21=0,0,(AU21*((LOG(AU21))/LOG(2))))","v":-0.18078614300542661}]
[12,2217,14,2221,13,2225,14,2230,null,null,0,1111,null,2222,{"$f":"COUNTIF($L$7:$L$500,N22)","v":13},{"$f":"O22/$Q$4","v":8.2802547770700632E-2},{"$f":"IF(P22=0,0,(P22*((LOG(P22))/LOG(2))))","v":-0.29760734649526721},null,null,{"$f":"N22","v":2222},{"$f":"COUNTIF(L7:L32,T22)","v":0},{"$f":"U22/(W4-U20)","v":0},{"$f":"IF(V22=0,0,(V22*((LOG(V22))/LOG(2))))","v":0},null,{"$f":"N22","v":2222},{"$f":"COUNTIF(L33:L58,Y22)","v":1},{"$f":"Z22/(AB4-Z20)","v":3.8461538461538464E-2},{"$f":"IF(AA22=0,0,(AA22*((LOG(AA22))/LOG(2))))","v":-0.18078614300542661},null,{"$f":"N22","v":2222},{"$f":"COUNTIF(L59:L85,AD22)","v":2},{"$f":"AE22/(AG4-AE20)","v":7.407407407407407E-2},{"$f":"IF(AF22=0,0,(AF22*((LOG(AF22))/LOG(2))))","v":-0.27813981497507173},null,{"$f":"N22","v":2222},{"$f":"COUNTIF(L86:L111,AI22)","v":1},{"$f":"AJ22/(AL4-AJ20)","v":3.8461538461538464E-2},{"$f":"IF(AK22=0,0,(AK22*((LOG(AK22))/LOG(2))))","v":-0.18078614300542661},null,{"$f":"N22","v":2222},{"$f":"COUNTIF(L112:L137,AN22)","v":4},{"$f":"AO22/(AQ4-AO20)","v":0.15384615384615385},{"$f":"IF(AP22=0,0,(AP22*((LOG(AP22))/LOG(2))))","v":-0.4154522643293988},null,{"$f":"N22","v":2222},{"$f":"COUNTIF(L138:L163,AS22)","v":5},{"$f":"AT22/(AV4-AT20)","v":0.19230769230769232},{"$f":"IF(AU22=0,0,(AU22*((LOG(AU22))/LOG(2))))","v":-0.45740608139494804}]
[12,2403,14,2407,13,2411,14,2420,null,null,0,1111,null,null,null,{"$f":"SUM(P7:P22)","v":1},{"$f":"-SUM(Q7:Q22)","v":2.0272332131448643},null,null,null,null,{"$f":"SUM(V7:V22)","v":1},{"$f":"-SUM(W7:W22)","v":0.62190414162911933},null,null,null,{"$f":"SUM(AA7:AA22)","v":0.99999999999999978},{"$f":"-SUM(AB7:AB22)","v":1.4423388429323181},null,null,null,{"$f":"SUM(AF7:AF22)","v":0.99999999999999989},{"$f":"-SUM(AG7:AG22)","v":1.9691464923953044},null,null,null,{"$f":"SUM(AK7:AK22)","v":1},{"$f":"-SUM(AL7:AL22)","v":1.744262647448874},null,null,null,{"$f":"SUM(AP7:AP22)","v":0.99999999999999989},{"$f":"-SUM(AQ7:AQ22)","v":2.1903964516472447},null,null,null,{"$f":"SUM(AU7:AU22)","v":1},{"$f":"-SUM(AV7:AV22)","v":1.9839323918683733}]
[12,2543,14,2547,13,2552,14,2567,null,null,0,1111,null,null,null,"U=",{"$f":"Q23/(LOG(Q4)/LOG(2))","v":0.27790796573665466},null,null,null,null,"U1=",{"$f":"W23/(LOG(W4)/LOG(2))","v":0.13230765182008697},null,null,null,"U2=",{"$f":"AB23/(LOG(AB4)/LOG(2))","v":0.30685189672057483},null,null,null,"U3=",{"$f":"AG23/(LOG(AG4)/LOG(2))","v":0.41413103706435644},null,null,null,"U4=",{"$f":"AL23/(LOG(AL4)/LOG(2))","v":0.37108499460528921},null,null,null,"U5=",{"$f":"AQ23/(LOG(AQ4)/LOG(2))","v":0.4659982008052414},null,null,null,"U6=",{"$f":"AV23/(LOG(AV4)/LOG(2))","v":0.42207378688668085}]
[12,2682,14,2688,13,2692,14,2696,null,null,0,1111]
[12,2830,14,2834,13,2839,14,2843,null,null,0,1111]
[12,2987,14,2992,13,2997,14,3007,null,null,0,1111,null,"Total Target Seq"]
[12,3146,14,3150,13,3155,14,3164,null,null,0,1111,null,{"$f":"COUNTIF(L7:L163,G3)","v":0},null,26,26,27,26,26,26]
[12,3308,14,3312,13,3316,14,3321,null,null,0,1111,null,null,null,"% of reinforcement given in 6 equal intervals based on number of trials "]
[12,3428,14,3432,13,3436,14,3440,null,null,0,1111,null,null,null,"%_1","%_2","%_3","%_4","%_5","%_6"]
[12,3565,14,3569,13,3573,14,3584,null,null,0,1111,null,null,"target sequence",{"$f":"$G$3","v":2212},{"$f":"$G$3","v":2212},{"$f":"$G$3","v":2212},{"$f":"$G$3","v":2212},{"$f":"$G$3","v":2212},{"$f":"$G$3","v":2212}]
[12,3690,14,3699,13,3713,14,3717,null,null,0,1111,null,null,"total reinforcement",{"$f":"U20","v":0},{"$f":"Z20","v":0},{"$f":"AE20","v":0},{"$f":"AJ20","v":0},{"$f":"AO20","v":0},{"$f":"AT20","v":0}]
[12,3848,14,3852,13,3857,14,3861,null,null,0,1111,null,null,"% target"]
[12,3981,14,3986,13,3990,14,3994,null,null,0,1111,null,null,"CCRF"]
[12,4097,23,4116,24,4122,23,4128,null,null,0,1222,null,null,"% CCRf"]
[21,4247,12,4262,13,4265,14,4270,null,null,0,2111,null,null,"average response rate",{"$f":"H32/P28","v":142.96153846153845},{"$f":"(H58-H32)/Q28","v":144.30769230769232},{"$f":"(H85-H58)/R28","v":160.2962962962963},{"$f":"(H111-H85)/S28","v":159.92307692307693},{"$f":"(H137-H111)/T28","v":148.30769230769232},{"$f":"(H163-H137)/U28","v":161.15384615384616}]
[12,4372,23,4384,24,4391,23,4395,null,null,0,1222]
[12,4517,14,4521,13,4526,14,4530,null,null,0,1111]
[12,4675,14,4679,13,4686,23,4702,null,null,0,1112]
[12,4833,14,4837,13,4841,14,4845,null,null,0,1111]
[12,4964,14,4968,13,4972,14,4977,null,null,0,1111]
[12,5108,14,5112,13,5116,14,5120,null,null,0,1111]
[12,5228,14,5232,13,5236,14,5241,null,null,0,1111]
[12,5372,14,5376,13,5380,14,5387,null,null,0,1111]
[12,5498,14,5502,13,5507,14,5514,null,null,0,1111]
[12,5638,14,5642,13,5646,14,5653,null,null,0,1111]
[21,5776,21,5781,22,5789,23,5798,null,null,0,2222]
[12,5921,14,5925,13,5933,14,5947,null,null,0,1111]
[12,6048,14,6074,13,6078,14,6083,null,null,0,1111]
[21,6200,12,6209,13,6215,14,6219,null,null,0,2111]
[12,6344,14,6348,13,6352,14,6356,null,null,0,1111]
[21,6490,21,6499,11,6508,12,6512,null,null,0,2211]
[12,6640,14,6644,13,6648,14,6653,null,null,0,1111]
[12,6810,14,6815,13,6819,14,6826,null,null,0,1111]
[12,6964,14,6969,13,6973,14,6977,null,null,0,1111]
[12,7130,14,7137,13,7141,14,7149,null,null,0,1111]
[12,7282,14,7284,13,7292,14,7300,null,null,0,1111]
[12,7453,14,7457,13,7461,14,7469,null,null,0,1111]
[21,7608,12,7617,13,7625,14,7629,null,null,0,2111]
[12,7768,14,7776,13,7780,14,7788,null,null,0,1111]
[21,7931,12,7943,13,7947,14,7955,null,null,0,2111]
[12,8095,14,8100,13,8104,14,8115,null,null,0,1111]
[21,8233,12,8244,13,8248,14,8252,null,null,0,2111]
[12,8373,14,8378,13,8382,14,8386,null,null,0,1111]
[12,8537,14,8541,13,8546,14,8554,null,null,0,1111]
[12,8717,14,8722,13,8726,14,8734,null,null,0,1111]
[21,8892,12,8902,13,8910,14,8915,null,null,0,2111]
[12,9049,14,9056,13,9062,14,9069,null,null,0,1111]
[21,9209,12,9220,13,9227,14,9231,null,null,0,2111]
[21,9378,21,9388,11,9407,12,9414,null,null,0,2211]
[21,9535,12,9550,13,9555,14,9559,null,null,0,2111]
[21,9668,21,9676,11,9685,12,9692,null,null,0,2211]
[21,9813,12,9828,13,9831,14,9836,null,null,0,2111]
[21,9941,21,9951,22,9962,23,9970,null,null,0,2222]
[21,10106,21,10119,22,10127,14,10140,null,null,0,2221]
[21,10270,21,10300,11,10315,12,10320,null,null,0,2211]
[21,10433,12,10445,13,10452,14,10456,null,null,0,2111]
[21,10564,12,10574,13,10581,14,10585,null,null,0,2111]
[21,10717,21,10727,11,10739,12,10744,null,null,0,2211]
[12,10871,14,10875,13,10879,14,10888,null,null,0,1111]
[21,11014,21,11022,22,11027,23,11032,null,null,0,2222]
[21,11146,21,11155,11,11163,12,11167,null,null,0,2211]
[21,11466,12,11480,13,11487,14,11491,null,null,0,2111]
[21,11612,12,11624,13,11628,14,11633,null,null,0,2111]
[21,11772,21,11780,11,11790,12,11797,null,null,0,2211]
[21,12059,21,12067,11,12080,12,12084,null,null,0,2211]
[21,12229,12,12242,13,12246,14,12250,null,null,0,2111]
[21,12353,12,12365,13,12369,14,12374,null,null,0,2111]
[21,12506,12,12521,13,12526,14,12532,null,null,0,2111]
[21,12653,12,12665,13,12669,14,12677,null,null,0,2111]
[21,12800,12,12813,13,12817,14,12821,null,null,0,2111]
[21,12942,12,12950,13,12954,14,12958,null,null,0,2111]
[12,13112,14,13120,13,13138,14,13151,null,null,0,1111]
[12,13272,14,13280,13,13284,14,13288,null,null,0,1111]
[21,13418,12,13427,13,13432,14,13437,null,null,0,2111]
[21,13567,21,13573,22,13578,14,13594,null,null,0,2221]
[21,13728,12,13743,13,13748,14,13761,null,null,0,2111]
[12,13922,14,13929,13,13933,14,13945,null,null,0,1111]
[21,14068,21,14078,22,14083,23,14090,null,null,0,2222]
[21,14214,12,14229,13,14234,14,14238,null,null,0,2111]
[21,14369,12,14379,13,14384,14,14389,null,null,0,2111]
[21,14533,12,14542,13,14550,14,14554,null,null,0,2111]
[21,14689,12,14699,13,14707,14,14714,null,null,0,2111]
[12,14833,14,14838,13,14845,14,14851,null,null,0,1111]
[21,14958,21,14973,11,14982,12,14989,null,null,0,2211]
[12,15121,14,15125,13,15129,14,15137,null,null,0,1111]
[12,15271,14,15274,13,15278,14,15283,null,null,0,1111]
[21,15421,21,15449,11,15462,12,15470,null,null,0,2211]
[21,15624,12,15640,13,15648,14,15652,null,null,0,2111]
[12,15790,14,15796,13,15801,14,15811,null,null,0,1111]
[12,15935,14,15939,13,15944,14,15955,null,null,0,1111]
[21,16073,21,16081,11,16095,12,16103,null,null,0,2211]
[21,16218,12,16237,13,16241,14,16249,null,null,0,2111]
[12,16404,14,16409,13,16416,14,16427,null,null,0,1111]
[21,16533,21,16542,11,16558,12,16562,null,null,0,2211]
[21,16764,21,16769,22,16774,14,16789,null,null,0,2221]
[12,16926,14,16933,13,16937,14,16941,null,null,0,1111]
[12,17067,14,17072,13,17080,14,17086,null,null,0,1111]
[12,17199,14,17204,13,17208,14,17216,null,null,0,1111]
[12,17359,14,17363,13,17369,14,17374,null,null,0,1111]
[21,17485,21,17487,11,17501,12,17505,null,null,0,2211]
[12,17617,14,17621,13,17626,14,17631,null,null,0,1111]
[21,17742,12,17751,13,17758,14,17762,null,null,0,2111]
[12,17869,14,17888,13,17893,14,17900,null,null,0,1111]
[21,18010,21,18019,11,18035,12,18043,null,null,0,2211]
[21,18154,21,18170,22,18175,23,18180,null,null,0,2222]
[21,18285,12,18298,13,18304,14,18308,null,null,0,2111]
[21,18446,12,18462,13,18469,14,18473,null,null,0,2111]
[21,18596,12,18615,13,18621,14,18628,null,null,0,2111]
[12,18765,14,18773,13,18777,14,18785,null,null,0,1111]
[21,18913,21,18918,22,18926,23,18930,null,null,0,2222]
[21,19038,21,19059,11,19072,12,19080,null,null,0,2211]
[21,19197,21,19211,22,19216,23,19221,null,null,0,2222]
[21,19331,21,19339,22,19352,23,19357,null,null,0,2222]
[21,19481,12,19491,13,19498,14,19503,null,null,0,2111]
[21,19625,12,19642,13,19646,14,19650,null,null,0,2111]
[21,19772,21,19787,22,19800,14,19811,null,null,0,2221]
[21,19941,21,19949,11,19959,12,19966,null,null,0,2211]
[21,20079,21,20095,22,20100,23,20105,null,null,0,2222]
[21,20243,12,20252,13,20260,14,20264,null,null,0,2111]
[21,20387,12,20403,13,20410,14,20417,null,null,0,2111]
[21,20589,12,20603,13,20607,14,20615,null,null,0,2111]
[21,20746,12,20759,13,20766,14,20771,null,null,0,2111]
[21,20893,21,20903,11,20915,12,20919,null,null,0,2211]
[21,21038,21,21046,11,21063,12,21067,null,null,0,2211]
[21,21200,21,21222,22,21231,23,21235,null,null,0,2222]
[21,21355,21,21371,22,21379,23,21386,null,null,0,2222]
[21,21538,12,21558,13,21563,14,21571,null,null,0,2111]
[21,21749,12,21769,13,21773,14,21778,null,null,0,2111]
[21,21889,21,21907,11,21921,12,21925,null,null,0,2211]
[21,22078,12,22089,13,22094,14,22098,null,null,0,2111]
[21,22237,21,22262,22,22268,23,22273,null,null,0,2222]
[21,22388,12,22404,13,22412,14,22417,null,null,0,2111]
[21,22544,12,22559,13,22563,14,22568,null,null,0,2111]
[21,22705,12,22715,13,22723,14,22727,null,null,0,2111]
[12,22869,14,22874,13,22879,14,22883,null,null,0,1111]
[12,23015,14,23023,13,23027,14,23036,null,null,0,1111]
[21,23156,21,23172,22,23176,23,23181,null,null,0,2222]
[21,23316,12,23325,13,23330,14,23334,null,null,0,2111]
[21,23456,21,23481,22,23488,14,23499,null,null,0,2221]
[12,23632,14,23637,13,23641,14,23645,null,null,0,1111]
[21,23796,12,23809,13,23814,14,23819,null,null,0,2111]
[12,23980,14,23987,13,23992,14,24001,null,null,1,1111]

{"sheet":"!L812930.053","index":18,"n_rows":158,"n_cols":48,"rows_kept":158,"cut":false,"hidden":false,"merged":[[4,39,4,42],[5,39,5,40],[4,44,4,47],[5,44,5,45],[4,24,4,27],[5,24,5,25],[4,29,4,32],[5,29,5,30],[4,34,4,37],[5,34,5,35],[1,1,1,2],[5,13,5,14],[26,13,26,14],[27,13,27,14],[4,19,4,22],[5,19,5,20]]}
["Report for:!L812930.053"]
["Date:","<date>"]
["Hen:","<hen>",null,null,null,"Correct Sequence",{"$f":"Start!J2","v":2212},null,null,null,null,null,null,null,null,"Total Sequences in Data",{"$f":"4994-COUNTBLANK(L7:L5000)","v":152},null,null,null,null,"Total Sequences in Block Data",{"$f":"COUNTA(L7:L31)","v":25},null,null,null,"Total Sequences in Block Data",{"$f":"COUNTA(L32:L57)","v":26},null,null,null,"Total Sequences in Block Data",{"$f":"COUNTA(L58:L82)","v":25},null,null,null,"Total Sequences in Block Data",{"$f":"COUNTA(L83:L107)","v":25},null,null,null,"Total Sequences in Block Data",{"$f":"COUNTA(L108:L133)","v":26},null,null,null,"Total Sequences in Block Data",{"$f":"COUNTA(L134:L158)","v":25}]
[null,null,null,null,null,null,null,null,null,null,null,null,null,null,null,"Total Sequences in Summary",{"$f":"SUM(O7:O22)","v":152},null,null,null,null,"Total Sequences in Block Summary",{"$f":"SUM(U7:U22)","v":25},null,null,null,"Total Sequences in Block Summary",{"$f":"SUM(Z7:Z22)","v":26},null,null,null,"Total Sequences in Block Summary",{"$f":"SUM(AE7:AE22)","v":25},null,null,null,"Total Sequences in Block Summary",{"$f":"SUM(AJ7:AJ22)","v":25},null,null,null,"Total Sequences in Block Summary",{"$f":"SUM(AO7:AO22)","v":26},null,null,null,"Total Sequences in Block Summary",{"$f":"SUM(AT7:AT22)","v":25}]
[null,null,null,null,null,null,null,null,null,null,null,null,null,null,null,null,null,null,null,"Block 1",null,null,null,null,"Block 2",null,null,null,null,"Block 3",null,null,null,null,"Block 4",null,null,null,null,"Block 5",null,null,null,null,"Block 6"]
["Sequence\nComponent\n1","Time\n1","Sequence\nComponent\n2","Time\n2","Sequence\nComponent\n3","Time\n3","Sequence\nComponent\n4","Time\n4","Sequence\nComponent\n5","Time\n5","Correct?\n0=No 1=Yes","Sequence",null,"Frequency",null,"Relative Frequency","Variability",null,null,"Frequency",null,"Relative Frequency","Variability",null,"Frequency",null,"Relative Frequency","Variability",null,"Frequency",null,"Relative Frequency","Variability",null,"Frequency",null,"Relative Frequency","Variability",null,"Frequency",null,"Relative Frequency","Variability",null,"Frequency",null,"Relative Frequency","Variability"]
[12,50,14,55,13,59,14,63,null,null,0,1111,null,1111,{"$f":"COUNTIF($L$7:$L$500,N7)","v":47},{"$f":"O7/$Q$4","v":0.30921052631578949},{"$f":"IF(P7=0,0,(P7*((LOG(P7))/LOG(2))))","v":-0.52359813883552342},null,null,{"$f":"N7","v":1111},{"$f":"COUNTIF(L7:L31,T7)","v":9},{"$f":"U7/(W4-U20)","v":0.36},{"$f":"IF(V7=0,0,(V7*((LOG(V7))/LOG(2))))","v":-0.53061522779966841},null,{"$f":"N7","v":1111},{"$f":"COUNTIF(L32:L57,Y7)","v":14},{"$f":"Z7/(AB4-Z20)","v":0.53846153846153844},{"$f":"IF(AA7=0,0,(AA7*((LOG(AA7))/LOG(2))))","v":-0.48089181327572433},null,{"$f":"N7","v":1111},{"$f":"COUNTIF(L58:L82,AD7)","v":2},{"$f":"AE7/(AG4-AE20)","v":0.08},{"$f":"IF(AF7=0,0,(AF7*((LOG(AF7))/LOG(2))))","v":-0.29150849518197797},null,{"$f":"N7","v":1111},{"$f":"COUNTIF(L83:L107,AI7)","v":7},{"$f":"AJ7/(AL4-AJ20)","v":0.28000000000000003},{"$f":"IF(AK7=0,0,(AK7*((LOG(AK7))/LOG(2))))","v":-0.51422035496079388},null,{"$f":"N7","v":1111},{"$f":"COUNTIF(L108:L133,AN7)","v":7},{"$f":"AO7/(AQ4-AO20)","v":0.26923076923076922},{"$f":"IF(AP7=0,0,(AP7*((LOG(AP7))/LOG(2))))","v":-0.50967667586863141},null,{"$f":"N7","v":1111},{"$f":"COUNTIF(L134:L158,AS7)","v":8},{"$f":"AT7/(AV4-AT20)","v":0.32},{"$f":"IF(AU7=0,0,(AU7*((LOG(AU7))/LOG(2))))","v":-0.52603398072791185}]
[21,202,12,220,24,234,23,244,null,null,0,2122,null,1112,{"$f":"COUNTIF($L$7:$L$500,N8)","v":1},{"$f":"O8/$Q$4","v":6.5789473684210523E-3},{"$f":"IF(P8=0,0,(P8*((LOG(P8))/LOG(2))))","v":-4.7683733641076219E-2},null,null,{"$f":"N8","v":1112},{"$f":"COUNTIF(L7:L31,T8)","v":1},{"$f":"U8/(W4-U20)","v":0.04},{"$f":"IF(V8=0,0,(V8*((LOG(V8))/LOG(2))))","v":-0.18575424759098899},null,{"$f":"N8","v":1112},{"$f":"COUNTIF(L32:L57,Y8)","v":0},{"$f":"Z8/(AB4-Z20)","v":0},{"$f":"IF(AA8=0,0,(AA8*((LOG(AA8))/LOG(2))))","v":0},null,{"$f":"N8","v":1112},{"$f":"COUNTIF(L58:L82,AD8)","v":0},{"$f":"AE8/(AG4-AE20)","v":0},{"$f":"IF(AF8=0,0,(AF8*((LOG(AF8))/LOG(2))))","v":0},null,{"$f":"N8","v":1112},{"$f":"COUNTIF(L83:L107,AI8)","v":0},{"$f":"AJ8/(AL4-AJ20)","v":0},{"$f":"IF(AK8=0,0,(AK8*((LOG(AK8))/LOG(2))))","v":0},null,{"$f":"N8","v":1112},{"$f":"COUNTIF(L108:L133,AN8)","v":0},{"$f":"AO8/(AQ4-AO20)","v":0},{"$f":"IF(AP8=0,0,(AP8*((LOG(AP8))/LOG(2))))","v":0},null,{"$f":"N8","v":1112},{"$f":"COUNTIF(L134:L158,AS8)","v":0},{"$f":"AT8/(AV4-AT20)","v":0},{"$f":"IF(AU8=0,0,(AU8*((LOG(AU8))/LOG(2))))","v":0}]
[12,363,14,367,24,380,23,389,null,null,0,1122,null,1121,{"$f":"COUNTIF($L$7:$L$500,N9)","v":1},{"$f":"O9/$Q$4","v":6.5789473684210523E-3},{"$f":"IF(P9=0,0,(P9*((LOG(P9))/LOG(2))))","v":-4.7683733641076219E-2},null,null,{"$f":"N9","v":1121},{"$f":"COUNTIF(L7:L31,T9)","v":1},{"$f":"U9/(W4-U20)","v":0.04},{"$f":"IF(V9=0,0,(V9*((LOG(V9))/LOG(2))))","v":-0.18575424759098899},null,{"$f":"N9","v":1121},{"$f":"COUNTIF(L32:L57,Y9)","v":0},{"$f":"Z9/(AB4-Z20)","v":0},{"$f":"IF(AA9=0,0,(AA9*((LOG(AA9))/LOG(2))))","v":0},null,{"$f":"N9","v":1121},{"$f":"COUNTIF(L58:L82,AD9)","v":0},{"$f":"AE9/(AG4-AE20)","v":0},{"$f":"IF(AF9=0,0,(AF9*((LOG(AF9))/LOG(2))))","v":0},null,{"$f":"N9","v":1121},{"$f":"COUNTIF(L83:L107,AI9)","v":0},{"$f":"AJ9/(AL4-AJ20)","v":0},{"$f":"IF(AK9=0,0,(AK9*((LOG(AK9))/LOG(2))))","v":0},null,{"$f":"N9","v":1121},{"$f":"COUNTIF(L108:L133,AN9)","v":0},{"$f":"AO9/(AQ4-AO20)","v":0},{"$f":"IF(AP9=0,0,(AP9*((LOG(AP9))/LOG(2))))","v":0},null,{"$f":"N9","v":1121},{"$f":"COUNTIF(L134:L158,AS9)","v":0},{"$f":"AT9/(AV4-AT20)","v":0},{"$f":"IF(AU9=0,0,(AU9*((LOG(AU9))/LOG(2))))","v":0}]
[12,523,14,531,13,540,23,554,null,null,0,1112,null,1122,{"$f":"COUNTIF($L$7:$L$500,N10)","v":2},{"$f":"O10/$Q$4","v":1.3157894736842105E-2},{"$f":"IF(P10=0,0,(P10*((LOG(P10))/LOG(2))))","v":-8.2209572545310333E-2},null,null,{"$f":"N10","v":1122},{"$f":"COUNTIF(L7:L31,T10)","v":2},{"$f":"U10/(W4-U20)","v":0.08},{"$f":"IF(V10=0,0,(V10*((LOG(V10))/LOG(2))))","v":-0.29150849518197797},null,{"$f":"N10","v":1122},{"$f":"COUNTIF(L32:L57,Y10)","v":0},{"$f":"Z10/(AB4-Z20)","v":0},{"$f":"IF(AA10=0,0,(AA10*((LOG(AA10))/LOG(2))))","v":0},null,{"$f":"N10","v":1122},{"$f":"COUNTIF(L58:L82,AD10)","v":0},{"$f":"AE10/(AG4-AE20)","v":0},{"$f":"IF(AF10=0,0,(AF10*((LOG(AF10))/LOG(2))))","v":0},null,{"$f":"N10","v":1122},{"$f":"COUNTIF(L83:L107,AI10)","v":0},{"$f":"AJ10/(AL4-AJ20)","v":0},{"$f":"IF(AK10=0,0,(AK10*((LOG(AK10))/LOG(2))))","v":0},null,{"$f":"N10","v":1122},{"$f":"COUNTIF(L108:L133,AN10)","v":0},{"$f":"AO10/(AQ4-AO20)","v":0},{"$f":"IF(AP10=0,0,(AP10*((LOG(AP10))/LOG(2))))","v":0},null,{"$f":"N10","v":1122},{"$f":"COUNTIF(L134:L158,AS10)","v":0},{"$f":"AT10/(AV4-AT20)","v":0},{"$f":"IF(AU10=0,0,(AU10*((LOG(AU10))/LOG(2))))","v":0}]
[12,668,14,673,13,678,14,683,null,null,0,1111,null,1211,{"$f":"COUNTIF($L$7:$L$500,N11)","v":1},{"$f":"O11/$Q$4","v":6.5789473684210523E-3},{"$f":"IF(P11=0,0,(P11*((LOG(P11))/LOG(2))))","v":-4.7683733641076219E-2},null,null,{"$f":"N11","v":1211},{"$f":"COUNTIF(L7:L31,T11)","v":0},{"$f":"U11/(W4-U20)","v":0},{"$f":"IF(V11=0,0,(V11*((LOG(V11))/LOG(2))))","v":0},null,{"$f":"N11","v":1211},{"$f":"COUNTIF(L32:L57,Y11)","v":0},{"$f":"Z11/(AB4-Z20)","v":0},{"$f":"IF(AA11=0,0,(AA11*((LOG(AA11))/LOG(2))))","v":0},null,{"$f":"N11","v":1211},{"$f":"COUNTIF(L58:L82,AD11)","v":0},{"$f":"AE11/(AG4-AE20)","v":0},{"$f":"IF(AF11=0,0,(AF11*((LOG(AF11))/LOG(2))))","v":0},null,{"$f":"N11","v":1211},{"$f":"COUNTIF(L83:L107,AI11)","v":0},{"$f":"AJ11/(AL4-AJ20)","v":0},{"$f":"IF(AK11=0,0,(AK11*((LOG(AK11))/LOG(2))))","v":0},null,{"$f":"N11","v":1211},{"$f":"COUNTIF(L108:L133,AN11)","v":1},{"$f":"AO11/(AQ4-AO20)","v":3.8461538461538464E-2},{"$f":"IF(AP11=0,0,(AP11*((LOG(AP11))/LOG(2))))","v":-0.18078614300542661},null,{"$f":"N11","v":1211},{"$f":"COUNTIF(L134:L158,AS11)","v":0},{"$f":"AT11/(AV4-AT20)","v":0},{"$f":"IF(AU11=0,0,(AU11*((LOG(AU11))/LOG(2))))","v":0}]
[12,806,14,810,24,826,23,834,null,null,0,1122,null,1212,{"$f":"COUNTIF($L$7:$L$500,N12)","v":0},{"$f":"O12/$Q$4","v":0},{"$f":"IF(P12=0,0,(P12*((LOG(P12))/LOG(2))))","v":0},null,null,{"$f":"N12","v":1212},{"$f":"COUNTIF(L7:L31,T12)","v":0},{"$f":"U12/(W4-U20)","v":0},{"$f":"IF(V12=0,0,(V12*((LOG(V12))/LOG(2))))","v":0},null,{"$f":"N12","v":1212},{"$f":"COUNTIF(L32:L57,Y12)","v":0},{"$f":"Z12/(AB4-Z20)","v":0},{"$f":"IF(AA12=0,0,(AA12*((LOG(AA12))/LOG(2))))","v":0},null,{"$f":"N12","v":1212},{"$f":"COUNTIF(L58:L82,AD12)","v":0},{"$f":"AE12/(AG4-AE20)","v":0},{"$f":"IF(AF12=0,0,(AF12*((LOG(AF12))/LOG(2))))","v":0},null,{"$f":"N12","v":1212},{"$f":"COUNTIF(L83:L107,AI12)","v":0},{"$f":"AJ12/(AL4-AJ20)","v":0},{"$f":"IF(AK12=0,0,(AK12*((LOG(AK12))/LOG(2))))","v":0},null,{"$f":"N12","v":1212},{"$f":"COUNTIF(L108:L133,AN12)","v":0},{"$f":"AO12/(AQ4-AO20)","v":0},{"$f":"IF(AP12=0,0,(AP12*((LOG(AP12))/LOG(2))))","v":0},null,{"$f":"N12","v":1212},{"$f":"COUNTIF(L134:L158,AS12)","v":0},{"$f":"AT12/(AV4-AT20)","v":0},{"$f":"IF(AU12=0,0,(AU12*((LOG(AU12))/LOG(2))))","v":0}]
[12,967,14,972,13,978,14,988,null,null,0,1111,null,1221,{"$f":"COUNTIF($L$7:$L$500,N13)","v":0},{"$f":"O13/$Q$4","v":0},{"$f":"IF(P13=0,0,(P13*((LOG(P13))/LOG(2))))","v":0},null,null,{"$f":"N13","v":1221},{"$f":"COUNTIF(L7:L31,T13)","v":0},{"$f":"U13/(W4-U20)","v":0},{"$f":"IF(V13=0,0,(V13*((LOG(V13))/LOG(2))))","v":0},null,{"$f":"N13","v":1221},{"$f":"COUNTIF(L32:L57,Y13)","v":0},{"$f":"Z13/(AB4-Z20)","v":0},{"$f":"IF(AA13=0,0,(AA13*((LOG(AA13))/LOG(2))))","v":0},null,{"$f":"N13","v":1221},{"$f":"COUNTIF(L58:L82,AD13)","v":0},{"$f":"AE13/(AG4-AE20)","v":0},{"$f":"IF(AF13=0,0,(AF13*((LOG(AF13))/LOG(2))))","v":0},null,{"$f":"N13","v":1221},{"$f":"COUNTIF(L83:L107,AI13)","v":0},{"$f":"AJ13/(AL4-AJ20)","v":0},{"$f":"IF(AK13=0,0,(AK13*((LOG(AK13))/LOG(2))))","v":0},null,{"$f":"N13","v":1221},{"$f":"COUNTIF(L108:L133,AN13)","v":0},{"$f":"AO13/(AQ4-AO20)","v":0},{"$f":"IF(AP13=0,0,(AP13*((LOG(AP13))/LOG(2))))","v":0},null,{"$f":"N13","v":1221},{"$f":"COUNTIF(L134:L158,AS13)","v":0},{"$f":"AT13/(AV4-AT20)","v":0},{"$f":"IF(AU13=0,0,(AU13*((LOG(AU13))/LOG(2))))","v":0}]
[12,1119,14,1129,24,1143,14,1156,null,null,0,1121,null,1222,{"$f":"COUNTIF($L$7:$L$500,N14)","v":0},{"$f":"O14/$Q$4","v":0},{"$f":"IF(P14=0,0,(P14*((LOG(P14))/LOG(2))))","v":0},null,null,{"$f":"N14","v":1222},{"$f":"COUNTIF(L7:L31,T14)","v":0},{"$f":"U14/(W4-U20)","v":0},{"$f":"IF(V14=0,0,(V14*((LOG(V14))/LOG(2))))","v":0},null,{"$f":"N14","v":1222},{"$f":"COUNTIF(L32:L57,Y14)","v":0},{"$f":"Z14/(AB4-Z20)","v":0},{"$f":"IF(AA14=0,0,(AA14*((LOG(AA14))/LOG(2))))","v":0},null,{"$f":"N14","v":1222},{"$f":"COUNTIF(L58:L82,AD14)","v":0},{"$f":"AE14/(AG4-AE20)","v":0},{"$f":"IF(AF14=0,0,(AF14*((LOG(AF14))/LOG(2))))","v":0},null,{"$f":"N14","v":1222},{"$f":"COUNTIF(L83:L107,AI14)","v":0},{"$f":"AJ14/(AL4-AJ20)","v":0},{"$f":"IF(AK14=0,0,(AK14*((LOG(AK14))/LOG(2))))","v":0},null,{"$f":"N14","v":1222},{"$f":"COUNTIF(L108:L133,AN14)","v":0},{"$f":"AO14/(AQ4-AO20)","v":0},{"$f":"IF(AP14=0,0,(AP14*((LOG(AP14))/LOG(2))))","v":0},null,{"$f":"N14","v":1222},{"$f":"COUNTIF(L134:L158,AS14)","v":0},{"$f":"AT14/(AV4-AT20)","v":0},{"$f":"IF(AU14=0,0,(AU14*((LOG(AU14))/LOG(2))))","v":0}]
[21,1277,21,1285,11,1306,12,1315,null,null,0,2211,null,2111,{"$f":"COUNTIF($L$7:$L$500,N15)","v":64},{"$f":"O15/$Q$4","v":0.42105263157894735},{"$f":"IF(P15=0,0,(P15*((LOG(P15))/LOG(2))))","v":-0.52544316355519383},null,null,{"$f":"N15","v":2111},{"$f":"COUNTIF(L7:L31,T15)","v":7},{"$f":"U15/(W4-U20)","v":0.28000000000000003},{"$f":"IF(V15=0,0,(V15*((LOG(V15))/LOG(2))))","v":-0.51422035496079388},null,{"$f":"N15","v":2111},{"$f":"COUNTIF(L32:L57,Y15)","v":8},{"$f":"Z15/(AB4-Z20)","v":0.30769230769230771},{"$f":"IF(AA15=0,0,(AA15*((LOG(AA15))/LOG(2))))","v":-0.52321222096648989},null,{"$f":"N15","v":2111},{"$f":"COUNTIF(L58:L82,AD15)","v":15},{"$f":"AE15/(AG4-AE20)","v":0.6},{"$f":"IF(AF15=0,0,(AF15*((LOG(AF15))/LOG(2))))","v":-0.44217935649972373},null,{"$f":"N15","v":2111},{"$f":"COUNTIF(L83:L107,AI15)","v":11},{"$f":"AJ15/(AL4-AJ20)","v":0.44},{"$f":"IF(AK15=0,0,(AK15*((LOG(AK15))/LOG(2))))","v":-0.52114681130046814},null,{"$f":"N15","v":2111},{"$f":"COUNTIF(L108:L133,AN15)","v":9},{"$f":"AO15/(AQ4-AO20)","v":0.34615384615384615},{"$f":"IF(AP15=0,0,(AP15*((LOG(AP15))/LOG(2))))","v":-0.52979355578034681},null,{"$f":"N15","v":2111},{"$f":"COUNTIF(L134:L158,AS15)","v":14},{"$f":"AT15/(AV4-AT20)","v":0.56000000000000005},{"$f":"IF(AU15=0,0,(AU15*((LOG(AU15))/LOG(2))))","v":-0.46844070992158748}]
[21,1467,21,1469,11,1481,12,1490,null,null,0,2211,null,2112,{"$f":"COUNTIF($L$7:$L$500,N16)","v":0},{"$f":"O16/$Q$4","v":0},{"$f":"IF(P16=0,0,(P16*((LOG(P16))/LOG(2))))","v":0},null,null,{"$f":"N16","v":2112},{"$f":"COUNTIF(L7:L31,T16)","v":0},{"$f":"U16/(W4-U20)","v":0},{"$f":"IF(V16=0,0,(V16*((LOG(V16))/LOG(2))))","v":0},null,{"$f":"N16","v":2112},{"$f":"COUNTIF(L32:L57,Y16)","v":0},{"$f":"Z16/(AB4-Z20)","v":0},{"$f":"IF(AA16=0,0,(AA16*((LOG(AA16))/LOG(2))))","v":0},null,{"$f":"N16","v":2112},{"$f":"COUNTIF(L58:L82,AD16)","v":0},{"$f":"AE16/(AG4-AE20)","v":0},{"$f":"IF(AF16=0,0,(AF16*((LOG(AF16))/LOG(2))))","v":0},null,{"$f":"N16","v":2112},{"$f":"COUNTIF(L83:L107,AI16)","v":0},{"$f":"AJ16/(AL4-AJ20)","v":0},{"$f":"IF(AK16=0,0,(AK16*((LOG(AK16))/LOG(2))))","v":0},null,{"$f":"N16","v":2112},{"$f":"COUNTIF(L108:L133,AN16)","v":0},{"$f":"AO16/(AQ4-AO20)","v":0},{"$f":"IF(AP16=0,0,(AP16*((LOG(AP16))/LOG(2))))","v":0},null,{"$f":"N16","v":2112},{"$f":"COUNTIF(L134:L158,AS16)","v":0},{"$f":"AT16/(AV4-AT20)","v":0},{"$f":"IF(AU16=0,0,(AU16*((LOG(AU16))/LOG(2))))","v":0}]
[21,1769,21,1830,22,1847,23,1859,null,null,0,2222,null,2121,{"$f":"COUNTIF($L$7:$L$500,N17)","v":0},{"$f":"O17/$Q$4","v":0},{"$f":"IF(P17=0,0,(P17*((LOG(P17))/LOG(2))))","v":0},null,null,{"$f":"N17","v":2121},{"$f":"COUNTIF(L7:L31,T17)","v":0},{"$f":"U17/(W4-U20)","v":0},{"$f":"IF(V17=0,0,(V17*((LOG(V17))/LOG(2))))","v":0},null,{"$f":"N17","v":2121},{"$f":"COUNTIF(L32:L57,Y17)","v":0},{"$f":"Z17/(AB4-Z20)","v":0},{"$f":"IF(AA17=0,0,(AA17*((LOG(AA17))/LOG(2))))","v":0},null,{"$f":"N17","v":2121},{"$f":"COUNTIF(L58:L82,AD17)","v":0},{"$f":"AE17/(AG4-AE20)","v":0},{"$f":"IF(AF17=0,0,(AF17*((LOG(AF17))/LOG(2))))","v":0},null,{"$f":"N17","v":2121},{"$f":"COUNTIF(L83:L107,AI17)","v":0},{"$f":"AJ17/(AL4-AJ20)","v":0},{"$f":"IF(AK17=0,0,(AK17*((LOG(AK17))/LOG(2))))","v":0},null,{"$f":"N17","v":2121},{"$f":"COUNTIF(L108:L133,AN17)","v":0},{"$f":"AO17/(AQ4-AO20)","v":0},{"$f":"IF(AP17=0,0,(AP17*((LOG(AP17))/LOG(2))))","v":0},null,{"$f":"N17","v":2121},{"$f":"COUNTIF(L134:L158,AS17)","v":0},{"$f":"AT17/(AV4-AT20)","v":0},{"$f":"IF(AU17=0,0,(AU17*((LOG(AU17))/LOG(2))))","v":0}]
[21,2013,12,2036,13,2043,14,2050,null,null,0,2111,null,2122,{"$f":"COUNTIF($L$7:$L$500,N18)","v":1},{"$f":"O18/$Q$4","v":6.5789473684210523E-3},{"$f":"IF(P18=0,0,(P18*((LOG(P18))/LOG(2))))","v":-4.7683733641076219E-2},null,null,{"$f":"N18","v":2122},{"$f":"COUNTIF(L7:L31,T18)","v":1},{"$f":"U18/(W4-U20)","v":0.04},{"$f":"IF(V18=0,0,(V18*((LOG(V18))/LOG(2))))","v":-0.18575424759098899},null,{"$f":"N18","v":2122},{"$f":"COUNTIF(L32:L57,Y18)","v":0},{"$f":"Z18/(AB4-Z20)","v":0},{"$f":"IF(AA18=0,0,(AA18*((LOG(AA18))/LOG(2))))","v":0},null,{"$f":"N18","v":2122},{"$f":"COUNTIF(L58:L82,AD18)","v":0},{"$f":"AE18/(AG4-AE20)","v":0},{"$f":"IF(AF18=0,0,(AF18*((LOG(AF18))/LOG(2))))","v":0},null,{"$f":"N18","v":2122},{"$f":"COUNTIF(L83:L107,AI18)","v":0},{"$f":"AJ18/(AL4-AJ20)","v":0},{"$f":"IF(AK18=0,0,(AK18*((LOG(AK18))/LOG(2))))","v":0},null,{"$f":"N18","v":2122},{"$f":"COUNTIF(L108:L133,AN18)","v":0},{"$f":"AO18/(AQ4-AO20)","v":0},{"$f":"IF(AP18=0,0,(AP18*((LOG(AP18))/LOG(2))))","v":0},null,{"$f":"N18","v":2122},{"$f":"COUNTIF(L134:L158,AS18)","v":0},{"$f":"AT18/(AV4-AT20)","v":0},{"$f":"IF(AU18=0,0,(AU18*((LOG(AU18))/LOG(2))))","v":0}]
[21,2222,12,2238,13,2243,14,2250,null,null,0,2111,null,2211,{"$f":"COUNTIF($L$7:$L$500,N19)","v":21},{"$f":"O19/$Q$4","v":0.13815789473684212},{"$f":"IF(P19=0,0,(P19*((LOG(P19))/LOG(2))))","v":-0.39452507831553507},null,null,{"$f":"N19","v":2211},{"$f":"COUNTIF(L7:L31,T19)","v":3},{"$f":"U19/(W4-U20)","v":0.12},{"$f":"IF(V19=0,0,(V19*((LOG(V19))/LOG(2))))","v":-0.36706724268642821},null,{"$f":"N19","v":2211},{"$f":"COUNTIF(L32:L57,Y19)","v":2},{"$f":"Z19/(AB4-Z20)","v":7.6923076923076927E-2},{"$f":"IF(AA19=0,0,(AA19*((LOG(AA19))/LOG(2))))","v":-0.28464920908777636},null,{"$f":"N19","v":2211},{"$f":"COUNTIF(L58:L82,AD19)","v":6},{"$f":"AE19/(AG4-AE20)","v":0.24},{"$f":"IF(AF19=0,0,(AF19*((LOG(AF19))/LOG(2))))","v":-0.49413448537285637},null,{"$f":"N19","v":2211},{"$f":"COUNTIF(L83:L107,AI19)","v":3},{"$f":"AJ19/(AL4-AJ20)","v":0.12},{"$f":"IF(AK19=0,0,(AK19*((LOG(AK19))/LOG(2))))","v":-0.36706724268642821},null,{"$f":"N19","v":2211},{"$f":"COUNTIF(L108:L133,AN19)","v":4},{"$f":"AO19/(AQ4-AO20)","v":0.15384615384615385},{"$f":"IF(AP19=0,0,(AP19*((LOG(AP19))/LOG(2))))","v":-0.4154522643293988},null,{"$f":"N19","v":2211},{"$f":"COUNTIF(L134:L158,AS19)","v":3},{"$f":"AT19/(AV4-AT20)","v":0.12},{"$f":"IF(AU19=0,0,(AU19*((LOG(AU19))/LOG(2))))","v":-0.36706724268642821}]
[12,2390,14,2394,13,2398,14,2403,null,null,0,1111,null,2212,{"$f":"COUNTIF($L$7:$L$500,N20)","v":0},{"$f":"O20/$Q$4","v":0},{"$f":"IF(P20=0,0,(P20*((LOG(P20))/LOG(2))))","v":0},null,null,{"$f":"N20","v":2212},{"$f":"COUNTIF(L7:L31,T20)","v":0},null,null,null,{"$f":"N20","v":2212},{"$f":"COUNTIF(L32:L57,Y20)","v":0},null,null,null,{"$f":"N20","v":2212},{"$f":"COUNTIF(L58:L82,AD20)","v":0},null,null,null,{"$f":"N20","v":2212},{"$f":"COUNTIF(L83:L107,AI20)","v":0},null,null,null,{"$f":"N20","v":2212},{"$f":"COUNTIF(L108:L133,AN20)","v":0},null,null,null,{"$f":"N20","v":2212},{"$f":"COUNTIF(L134:L158,AS20)","v":0}]
[21,2520,12,2530,13,2534,14,2538,null,null,0,2111,null,2221,{"$f":"COUNTIF($L$7:$L$500,N21)","v":3},{"$f":"O21/$Q$4","v":1.9736842105263157E-2},{"$f":"IF(P21=0,0,(P21*((LOG(P21))/LOG(2))))","v":-0.11176904630373216},null,null,{"$f":"N21","v":2221},{"$f":"COUNTIF(L7:L31,T21)","v":0},{"$f":"U21/(W4-U20)","v":0},{"$f":"IF(V21=0,0,(V21*((LOG(V21))/LOG(2))))","v":0},null,{"$f":"N21","v":2221},{"$f":"COUNTIF(L32:L57,Y21)","v":0},{"$f":"Z21/(AB4-Z20)","v":0},{"$f":"IF(AA21=0,0,(AA21*((LOG(AA21))/LOG(2))))","v":0},null,{"$f":"N21","v":2221},{"$f":"COUNTIF(L58:L82,AD21)","v":1},{"$f":"AE21/(AG4-AE20)","v":0.04},{"$f":"IF(AF21=0,0,(AF21*((LOG(AF21))/LOG(2))))","v":-0.18575424759098899},null,{"$f":"N21","v":2221},{"$f":"COUNTIF(L83:L107,AI21)","v":1},{"$f":"AJ21/(AL4-AJ20)","v":0.04},{"$f":"IF(AK21=0,0,(AK21*((LOG(AK21))/LOG(2))))","v":-0.18575424759098899},null,{"$f":"N21","v":2221},{"$f":"COUNTIF(L108:L133,AN21)","v":1},{"$f":"AO21/(AQ4-AO20)","v":3.8461538461538464E-2},{"$f":"IF(AP21=0,0,(AP21*((LOG(AP21))/LOG(2))))","v":-0.18078614300542661},null,{"$f":"N21","v":2221},{"$f":"COUNTIF(L134:L158,AS21)","v":0},{"$f":"AT21/(AV4-AT20)","v":0},{"$f":"IF(AU21=0,0,(AU21*((LOG(AU21))/LOG(2))))","v":0}]
[21,2670,12,2679,13,2683,14,2689,null,null,0,2111,null,2222,{"$f":"COUNTIF($L$7:$L$500,N22)","v":11},{"$f":"O22/$Q$4","v":7.2368421052631582E-2},{"$f":"IF(P22=0,0,(P22*((LOG(P22))/LOG(2))))","v":-0.27416746607150771},null,null,{"$f":"N22","v":2222},{"$f":"COUNTIF(L7:L31,T22)","v":1},{"$f":"U22/(W4-U20)","v":0.04},{"$f":"IF(V22=0,0,(V22*((LOG(V22))/LOG(2))))","v":-0.18575424759098899},null,{"$f":"N22","v":2222},{"$f":"COUNTIF(L32:L57,Y22)","v":2},{"$f":"Z22/(AB4-Z20)","v":7.6923076923076927E-2},{"$f":"IF(AA22=0,0,(AA22*((LOG(AA22))/LOG(2))))","v":-0.28464920908777636},null,{"$f":"N22","v":2222},{"$f":"COUNTIF(L58:L82,AD22)","v":1},{"$f":"AE22/(AG4-AE20)","v":0.04},{"$f":"IF(AF22=0,0,(AF22*((LOG(AF22))/LOG(2))))","v":-0.18575424759098899},null,{"$f":"N22","v":2222},{"$f":"COUNTIF(L83:L107,AI22)","v":3},{"$f":"AJ22/(AL4-AJ20)","v":0.12},{"$f":"IF(AK22=0,0,(AK22*((LOG(AK22))/LOG(2))))","v":-0.36706724268642821},null,{"$f":"N22","v":2222},{"$f":"COUNTIF(L108:L133,AN22)","v":4},{"$f":"AO22/(AQ4-AO20)","v":0.15384615384615385},{"$f":"IF(AP22=0,0,(AP22*((LOG(AP22))/LOG(2))))","v":-0.4154522643293988},null,{"$f":"N22","v":2222},{"$f":"COUNTIF(L134:L158,AS22)","v":0},{"$f":"AT22/(AV4-AT20)","v":0},{"$f":"IF(AU22=0,0,(AU22*((LOG(AU22))/LOG(2))))","v":0}]
[12,2814,14,2819,13,2823,14,2827,null,null,0,1111,null,null,null,{"$f":"SUM(P7:P22)","v":1},{"$f":"-SUM(Q7:Q22)","v":2.1024474001911075},null,null,null,null,{"$f":"SUM(V7:V22)","v":1},{"$f":"-SUM(W7:W22)","v":2.4464283109928244},null,null,null,{"$f":"SUM(AA7:AA22)","v":1},{"$f":"-SUM(AB7:AB22)","v":1.573402452417767},null,null,null,{"$f":"SUM(AF7:AF22)","v":1},{"$f":"-SUM(AG7:AG22)","v":1.599330832236536},null,null,null,{"$f":"SUM(AK7:AK22)","v":1},{"$f":"-SUM(AL7:AL22)","v":1.9552558992251075},null,null,null,{"$f":"SUM(AP7:AP22)","v":1},{"$f":"-SUM(AQ7:AQ22)","v":2.2319470463186293},null,null,null,{"$f":"SUM(AU7:AU22)","v":1},{"$f":"-SUM(AV7:AV22)","v":1.3615419333359275}]
[21,2941,12,2953,13,2957,14,2962,null,null,0,2111,null,null,null,"U=",{"$f":"Q23/(LOG(Q4)/LOG(2))","v":0.29007566594608603},null,null,null,null,"U1=",{"$f":"W23/(LOG(W4)/LOG(2))","v":0.52680966227584691},null,null,null,"U2=",{"$f":"AB23/(LOG(AB4)/LOG(2))","v":0.33473516240306322},null,null,null,"U3=",{"$f":"AG23/(LOG(AG4)/LOG(2))","v":0.34439714902414326},null,null,null,"U4=",{"$f":"AL23/(LOG(AL4)/LOG(2))","v":0.42104144041548314},null,null,null,"U5=",{"$f":"AQ23/(LOG(AQ4)/LOG(2))","v":0.47483792584437384},null,null,null,"U6=",{"$f":"AV23/(LOG(AV4)/LOG(2))","v":0.29319209676085517}]
[21,3115,12,3125,13,3130,14,3134,null,null,0,2111]
[21,3280,12,3289,13,3293,14,3298,null,null,0,2111]
[12,3419,14,3424,13,3428,14,3433,null,null,0,1111,null,"Total Target Seq"]
[12,3589,14,3594,13,3601,14,3609,null,null,0,1111,null,{"$f":"COUNTIF(L7:L158,G3)","v":0},null,25,26,25,25,26,25]
[12,3784,14,3788,13,3793,14,3801,null,null,0,1111,null,null,null,"% of reinforcement given in 6 equal intervals based on number of trials "]
[12,3912,14,3917,13,3927,14,3932,null,null,0,1111,null,null,null,"%_1","%_2","%_3","%_4","%_5","%_6"]
[21,4045,21,4054,11,4063,12,4068,null,null,0,2211,null,null,"target sequence",{"$f":"$G$3","v":2212},{"$f":"$G$3","v":2212},{"$f":"$G$3","v":2212},{"$f":"$G$3","v":2212},{"$f":"$G$3","v":2212},{"$f":"$G$3","v":2212}]
[12,4183,14,4188,13,4191,14,4196,null,null,0,1111,null,null,"total reinforcement",{"$f":"U20","v":0},{"$f":"Z20","v":0},{"$f":"AE20","v":0},{"$f":"AJ20","v":0},{"$f":"AO20","v":0},{"$f":"AT20","v":0}]
[12,4352,14,4356,13,4360,14,4365,null,null,0,1111,null,null,"% target"]
[21,4490,12,4504,13,4508,14,4514,null,null,0,2111,null,null,"CCRF"]
[12,4645,14,4649,13,4654,14,4658,null,null,0,1111,null,null,"% CCRf"]
[21,4798,21,4808,22,4816,23,4820,null,null,0,2222,null,null,"average response rate",{"$f":"H31/P28","v":162.72},{"$f":"(H57-H31)/Q28","v":154.92307692307693},{"$f":"(H82-H57)/R28","v":162},{"$f":"(H107-H82)/S28","v":150.12},{"$f":"(H133-H107)/T28","v":160.23076923076923},{"$f":"(H158-H133)/U28","v":155.32}]
[12,4943,14,4947,13,4951,14,4960,null,null,0,1111]
[12,5081,14,5085,13,5089,14,5094,null,null,0,1111]
[12,5218,14,5223,13,5227,14,5231,null,null,0,1111]
[21,5355,12,5364,13,5368,14,5373,null,null,0,2111]
[12,5502,14,5506,13,5510,14,5514,null,null,0,1111]
[12,5646,14,5649,13,5658,14,5663,null,null,0,1111]
[12,5784,14,5790,13,5798,14,5806,null,null,0,1111]
[12,5925,14,5932,13,5937,14,5941,null,null,0,1111]
[21,6081,21,6098,11,6109,12,6113,null,null,0,2211]
[12,6245,14,6253,13,6261,14,6270,null,null,0,1111]
[21,6402,21,6412,22,6422,23,6430,null,null,0,2222]
[21,6570,21,6588,11,6602,12,6608,null,null,0,2211]
[21,6904,12,6920,13,6929,14,6938,null,null,0,2111]
[21,7067,12,7078,13,7082,14,7090,null,null,0,2111]
[21,7199,12,7213,13,7217,14,7222,null,null,0,2111]
[12,7352,14,7356,13,7360,14,7367,null,null,0,1111]
[21,7486,12,7499,13,7503,14,7508,null,null,0,2111]
[12,7639,14,7643,13,7650,14,7658,null,null,0,1111]
[21,7767,12,7791,13,7796,14,7811,null,null,0,2111]
[21,7926,12,7947,13,7951,14,7955,null,null,0,2111]
[12,8083,14,8087,13,8092,14,8096,null,null,0,1111]
[21,8202,12,8213,13,8221,14,8225,null,null,0,2111]
[21,8338,21,8347,11,8358,12,8366,null,null,0,2211]
[21,8475,12,8499,13,8503,14,8508,null,null,0,2111]
[21,8636,12,8649,13,8652,14,8657,null,null,0,2111]
[21,8777,21,8786,22,8791,14,8810,null,null,0,2221]
[21,8927,12,8939,13,8943,14,8947,null,null,0,2111]
[21,9108,12,9119,13,9124,14,9129,null,null,0,2111]
[21,9236,21,9245,11,9254,12,9258,null,null,0,2211]
[21,9506,12,9523,13,9527,14,9531,null,null,0,2111]
[21,9654,12,9670,13,9675,14,9682,null,null,0,2111]
[21,9823,12,9833,13,9837,14,9842,null,null,0,2111]
[21,9993,21,10012,11,10027,12,10031,null,null,0,2211]
[21,10316,12,10333,13,10339,14,10343,null,null,0,2111]
[12,10462,14,10466,13,10470,14,10475,null,null,0,1111]
[12,10607,14,10611,13,10615,14,10620,null,null,0,1111]
[21,10738,21,10748,11,10759,12,10764,null,null,0,2211]
[21,10889,12,10906,13,10910,14,10918,null,null,0,2111]
[21,11037,12,11048,13,11053,14,11057,null,null,0,2111]
[21,11171,12,11192,13,11196,14,11200,null,null,0,2111]
[21,11320,21,11322,11,11340,12,11344,null,null,0,2211]
[21,11469,12,11481,13,11485,14,11489,null,null,0,2111]
[21,11614,21,11631,22,11638,23,11643,null,null,0,2222]
[21,11750,12,11765,13,11769,14,11776,null,null,0,2111]
[21,11905,12,11920,13,11924,14,11929,null,null,0,2111]
[21,12120,21,12128,11,12141,12,12146,null,null,0,2211]
[21,12279,12,12292,13,12295,14,12300,null,null,0,2111]
[12,12435,14,12443,13,12448,14,12455,null,null,0,1111]
[12,12577,14,12584,13,12592,14,12598,null,null,0,1111]
[12,12721,14,12728,13,12732,14,12737,null,null,0,1111]
[21,12842,21,12859,22,12860,14,12872,null,null,0,2221]
[21,12988,12,12999,13,13003,14,13011,null,null,0,2111]
[12,13136,14,13140,13,13146,14,13154,null,null,0,1111]
[21,13267,12,13280,13,13284,14,13288,null,null,0,2111]
[21,13396,21,13407,11,13425,12,13433,null,null,0,2211]
[12,13567,14,13571,13,13576,14,13585,null,null,0,1111]
[21,13705,12,13718,13,13722,14,13731,null,null,0,2111]
[21,13874,12,13887,13,13891,14,13904,null,null,0,2111]
[21,14032,12,14058,13,14066,14,14073,null,null,0,2111]
[21,14181,12,14194,13,14198,14,14208,null,null,0,2111]
[21,14316,21,14324,11,14337,12,14341,null,null,0,2211]
[21,14467,12,14478,13,14486,14,14494,null,null,0,2111]
[12,14628,14,14636,13,14640,14,14647,null,null,0,1111]
[21,14809,21,14820,11,14835,12,14839,null,null,0,2211]
[21,14959,12,14973,13,14977,14,14982,null,null,0,2111]
[21,15112,21,15128,22,15133,23,15140,null,null,0,2222]
[21,15270,21,15278,22,15283,23,15289,null,null,0,2222]
[21,15398,12,15408,13,15412,14,15416,null,null,0,2111]
[21,15562,21,15580,22,15584,23,15592,null,null,0,2222]
[21,15708,12,15722,13,15726,14,15730,null,null,0,2111]
[12,15886,14,15891,13,15895,14,15899,null,null,0,1111]
[21,16012,21,16014,11,16029,12,16033,null,null,0,2211]
[21,16144,21,16153,22,16159,23,16168,null,null,0,2222]
[12,16286,14,16294,13,16298,14,16306,null,null,0,1111]
[12,16430,14,16437,13,16446,14,16470,null,null,0,1111]
[21,16628,12,16644,13,16648,14,16653,null,null,0,2111]
[21,16793,12,16804,13,16808,14,16816,null,null,0,2111]
[12,16956,23,16977,13,16995,14,16999,null,null,0,1211]
[21,17124,12,17137,13,17141,14,17146,null,null,0,2111]
[21,17288,21,17293,22,17301,23,17306,null,null,0,2222]
[21,17420,12,17439,13,17442,14,17447,null,null,0,2111]
[21,17567,21,17585,11,17599,12,17603,null,null,0,2211]
[21,17749,21,17754,22,17758,23,17765,null,null,0,2222]
[21,17881,21,17900,22,17908,23,17913,null,null,0,2222]
[12,18052,14,18057,13,18065,14,18072,null,null,0,1111]
[21,18180,21,18190,11,18206,12,18210,null,null,0,2211]
[21,18486,12,18495,13,18499,14,18503,null,null,0,2111]
[21,18616,12,18630,13,18634,14,18638,null,null,0,2111]
[12,18788,14,18792,13,18796,14,18801,null,null,0,1111]
[21,18946,21,18954,22,18963,14,18979,null,null,0,2221]
[12,19105,14,19109,13,19115,14,19119,null,null,0,1111]
[21,19226,21,19243,11,19255,12,19259,null,null,0,2211]
[21,19404,12,19418,13,19422,14,19430,null,null,0,2111]
[12,19554,14,19558,13,19562,14,19568,null,null,0,1111]
[21,19733,12,19751,13,19756,14,19763,null,null,0,2111]
[12,19891,14,19899,13,19903,14,19908,null,null,0,1111]
[21,20040,12,20057,13,20060,14,20065,null,null,0,2111]
[12,20230,14,20234,13,20241,14,20245,null,null,0,1111]
[21,20360,12,20373,13,20377,14,20383,null,null,0,2111]
[12,20515,14,20519,13,20525,14,20533,null,null,0,1111]
[21,20655,12,20664,13,20668,14,20673,null,null,0,2111]
[21,20784,12,20800,13,20804,14,20812,null,null,0,2111]
[21,20927,12,20937,13,20941,14,20945,null,null,0,2111]
[21,21060,12,21081,13,21088,14,21093,null,null,0,2111]
[21,21258,21,21267,11,21278,12,21283,null,null,0,2211]
[12,21413,14,21417,13,21422,14,21427,null,null,0,1111]
[21,21577,12,21592,13,21596,14,21601,null,null,0,2111]
[21,21729,21,21745,11,21759,12,21763,null,null,0,2211]
[21,21927,12,21942,13,21947,14,21955,null,null,0,2111]
[12,22087,14,22091,13,22096,14,22101,null,null,0,1111]
[12,22223,14,22230,13,22235,14,22242,null,null,0,1111]
[21,22385,12,22398,13,22402,14,22412,null,null,0,2111]
[21,22525,12,22535,13,22542,14,22546,null,null,0,2111]
[21,22695,12,22709,13,22713,14,22717,null,null,0,2111]
[21,22861,12,22877,13,22881,14,22888,null,null,0,2111]
[21,23014,12,23027,13,23031,14,23035,null,null,0,2111]
[21,23147,12,23161,13,23164,14,23169,null,null,0,2111]
[12,23281,14,23287,13,23292,14,23297,null,null,0,1111]
[12,23440,14,23450,13,23458,14,23462,null,null,0,1111]
[21,23613,12,23626,13,23630,14,23638,null,null,0,2111]
[21,23768,21,23776,11,23795,12,23805,null,null,0,2211]
[12,23934,14,23939,13,23944,14,23948,null,null,null,1111]

{"sheet":"!L813920.053","index":19,"n_rows":153,"n_cols":48,"rows_kept":153,"cut":false,"hidden":false,"merged":[[4,39,4,42],[5,39,5,40],[4,44,4,47],[5,44,5,45],[4,24,4,27],[5,24,5,25],[4,29,4,32],[5,29,5,30],[4,34,4,37],[5,34,5,35],[1,1,1,2],[5,13,5,14],[26,13,26,14],[27,13,27,14],[4,19,4,22],[5,19,5,20]]}
["Report for:!L813920.053"]
["Date:","<date>"]
["Hen:","<hen>",null,null,null,"Correct Sequence",{"$f":"Start!J2","v":2212},null,null,null,null,null,null,null,null,"Total Sequences in Data",{"$f":"4994-COUNTBLANK(L7:L5000)","v":147},null,null,null,null,"Total Sequences in Block Data",{"$f":"COUNTA(L7:L31)","v":25},null,null,null,"Total Sequences in Block Data",{"$f":"COUNTA(L32:L55)","v":24},null,null,null,"Total Sequences in Block Data",{"$f":"COUNTA(L56:L80)","v":25},null,null,null,"Total Sequences in Block Data",{"$f":"COUNTA(L81:L104)","v":24},null,null,null,"Total Sequences in Block Data",{"$f":"COUNTA(L105:L129)","v":25},null,null,null,"Total Sequences in Block Data",{"$f":"COUNTA(L130:L153)","v":24}]
[null,null,null,null,null,null,null,null,null,null,null,null,null,null,null,"Total Sequences in Summary",{"$f":"SUM(O7:O22)","v":147},null,null,null,null,"Total Sequences in Block Summary",{"$f":"SUM(U7:U22)","v":25},null,null,null,"Total Sequences in Block Summary",{"$f":"SUM(Z7:Z22)","v":24},null,null,null,"Total Sequences in Block Summary",{"$f":"SUM(AE7:AE22)","v":25},null,null,null,"Total Sequences in Block Summary",{"$f":"SUM(AJ7:AJ22)","v":24},null,null,null,"Total Sequences in Block Summary",{"$f":"SUM(AO7:AO22)","v":25},null,null,null,"Total Sequences in Block Summary",{"$f":"SUM(AT7:AT22)","v":24}]
[null,null,null,null,null,null,null,null,null,null,null,null,null,null,null,null,null,null,null,"Block 1",null,null,null,null,"Block 2",null,null,null,null,"Block 3",null,null,null,null,"Block 4",null,null,null,null,"Block 5",null,null,null,null,"Block 6"]
["Sequence\nComponent\n1","Time\n1","Sequence\nComponent\n2","Time\n2","Sequence\nComponent\n3","Time\n3","Sequence\nComponent\n4","Time\n4","Sequence\nComponent\n5","Time\n5","Correct?\n0=No 1=Yes","Sequence",null,"Frequency",null,"Relative Frequency","Variability",null,null,"Frequency",null,"Relative Frequency","Variability",null,"Frequency",null,"Relative Frequency","Variability",null,"Frequency",null,"Relative Frequency","Variability",null,"Frequency",null,"Relative Frequency","Variability",null,"Frequency",null,"Relative Frequency","Variability",null,"Frequency",null,"Relative Frequency","Variability"]
[12,72,14,76,13,81,14,86,null,null,0,1111,null,1111,{"$f":"COUNTIF($L$7:$L$500,N7)","v":36},{"$f":"O7/$Q$4","v":0.24489795918367346},{"$f":"IF(P7=0,0,(P7*((LOG(P7))/LOG(2))))","v":-0.49708098205568624},null,null,{"$f":"N7","v":1111},{"$f":"COUNTIF(L7:L31,T7)","v":18},{"$f":"U7/(W4-U20)","v":0.72},{"$f":"IF(V7=0,0,(V7*((LOG(V7))/LOG(2))))","v":-0.3412304555993369},null,{"$f":"N7","v":1111},{"$f":"COUNTIF(L32:L55,Y7)","v":9},{"$f":"Z7/(AB4-Z20)","v":0.375},{"$f":"IF(AA7=0,0,(AA7*((LOG(AA7))/LOG(2))))","v":-0.53063906222956647},null,{"$f":"N7","v":1111},{"$f":"COUNTIF(L56:L80,AD7)","v":2},{"$f":"AE7/(AG4-AE20)","v":0.08},{"$f":"IF(AF7=0,0,(AF7*((LOG(AF7))/LOG(2))))","v":-0.29150849518197797},null,{"$f":"N7","v":1111},{"$f":"COUNTIF(L81:L104,AI7)","v":1},{"$f":"AJ7/(AL4-AJ20)","v":4.1666666666666664E-2},{"$f":"IF(AK7=0,0,(AK7*((LOG(AK7))/LOG(2))))","v":-0.19104010419671485},null,{"$f":"N7","v":1111},{"$f":"COUNTIF(L105:L129,AN7)","v":5},{"$f":"AO7/(AQ4-AO20)","v":0.2},{"$f":"IF(AP7=0,0,(AP7*((LOG(AP7))/LOG(2))))","v":-0.46438561897747244},null,{"$f":"N7","v":1111},{"$f":"COUNTIF(L130:L153,AS7)","v":1},{"$f":"AT7/(AV4-AT20)","v":4.1666666666666664E-2},{"$f":"IF(AU7=0,0,(AU7*((LOG(AU7))/LOG(2))))","v":-0.19104010419671485}]
[12,213,14,217,13,225,14,233,null,null,0,1111,null,1112,{"$f":"COUNTIF($L$7:$L$500,N8)","v":0},{"$f":"O8/$Q$4","v":0},{"$f":"IF(P8=0,0,(P8*((LOG(P8))/LOG(2))))","v":0},null,null,{"$f":"N8","v":1112},{"$f":"COUNTIF(L7:L31,T8)","v":0},{"$f":"U8/(W4-U20)","v":0},{"$f":"IF(V8=0,0,(V8*((LOG(V8))/LOG(2))))","v":0},null,{"$f":"N8","v":1112},{"$f":"COUNTIF(L32:L55,Y8)","v":0},{"$f":"Z8/(AB4-Z20)","v":0},{"$f":"IF(AA8=0,0,(AA8*((LOG(AA8))/LOG(2))))","v":0},null,{"$f":"N8","v":1112},{"$f":"COUNTIF(L56:L80,AD8)","v":0},{"$f":"AE8/(AG4-AE20)","v":0},{"$f":"IF(AF8=0,0,(AF8*((LOG(AF8))/LOG(2))))","v":0},null,{"$f":"N8","v":1112},{"$f":"COUNTIF(L81:L104,AI8)","v":0},{"$f":"AJ8/(AL4-AJ20)","v":0},{"$f":"IF(AK8=0,0,(AK8*((LOG(AK8))/LOG(2))))","v":0},null,{"$f":"N8","v":1112},{"$f":"COUNTIF(L105:L129,AN8)","v":0},{"$f":"AO8/(AQ4-AO20)","v":0},{"$f":"IF(AP8=0,0,(AP8*((LOG(AP8))/LOG(2))))","v":0},null,{"$f":"N8","v":1112},{"$f":"COUNTIF(L130:L153,AS8)","v":0},{"$f":"AT8/(AV4-AT20)","v":0},{"$f":"IF(AU8=0,0,(AU8*((LOG(AU8))/LOG(2))))","v":0}]
[12,332,14,336,13,341,14,347,null,null,0,1111,null,1121,{"$f":"COUNTIF($L$7:$L$500,N9)","v":0},{"$f":"O9/$Q$4","v":0},{"$f":"IF(P9=0,0,(P9*((LOG(P9))/LOG(2))))","v":0},null,null,{"$f":"N9","v":1121},{"$f":"COUNTIF(L7:L31,T9)","v":0},{"$f":"U9/(W4-U20)","v":0},{"$f":"IF(V9=0,0,(V9*((LOG(V9))/LOG(2))))","v":0},null,{"$f":"N9","v":1121},{"$f":"COUNTIF(L32:L55,Y9)","v":0},{"$f":"Z9/(AB4-Z20)","v":0},{"$f":"IF(AA9=0,0,(AA9*((LOG(AA9))/LOG(2))))","v":0},null,{"$f":"N9","v":1121},{"$f":"COUNTIF(L56:L80,AD9)","v":0},{"$f":"AE9/(AG4-AE20)","v":0},{"$f":"IF(AF9=0,0,(AF9*((LOG(AF9))/LOG(2))))","v":0},null,{"$f":"N9","v":1121},{"$f":"COUNTIF(L81:L104,AI9)","v":0},{"$f":"AJ9/(AL4-AJ20)","v":0},{"$f":"IF(AK9=0,0,(AK9*((LOG(AK9))/LOG(2))))","v":0},null,{"$f":"N9","v":1121},{"$f":"COUNTIF(L105:L129,AN9)","v":0},{"$f":"AO9/(AQ4-AO20)","v":0},{"$f":"IF(AP9=0,0,(AP9*((LOG(AP9))/LOG(2))))","v":0},null,{"$f":"N9","v":1121},{"$f":"COUNTIF(L130:L153,AS9)","v":0},{"$f":"AT9/(AV4-AT20)","v":0},{"$f":"IF(AU9=0,0,(AU9*((LOG(AU9))/LOG(2))))","v":0}]
[12,468,14,472,13,476,14,483,null,null,0,1111,null,1122,{"$f":"COUNTIF($L$7:$L$500,N10)","v":2},{"$f":"O10/$Q$4","v":1.3605442176870748E-2},{"$f":"IF(P10=0,0,(P10*((LOG(P10))/LOG(2))))","v":-8.4349283603215836E-2},null,null,{"$f":"N10","v":1122},{"$f":"COUNTIF(L7:L31,T10)","v":0},{"$f":"U10/(W4-U20)","v":0},{"$f":"IF(V10=0,0,(V10*((LOG(V10))/LOG(2))))","v":0},null,{"$f":"N10","v":1122},{"$f":"COUNTIF(L32:L55,Y10)","v":0},{"$f":"Z10/(AB4-Z20)","v":0},{"$f":"IF(AA10=0,0,(AA10*((LOG(AA10))/LOG(2))))","v":0},null,{"$f":"N10","v":1122},{"$f":"COUNTIF(L56:L80,AD10)","v":0},{"$f":"AE10/(AG4-AE20)","v":0},{"$f":"IF(AF10=0,0,(AF10*((LOG(AF10))/LOG(2))))","v":0},null,{"$f":"N10","v":1122},{"$f":"COUNTIF(L81:L104,AI10)","v":1},{"$f":"AJ10/(AL4-AJ20)","v":4.1666666666666664E-2},{"$f":"IF(AK10=0,0,(AK10*((LOG(AK10))/LOG(2))))","v":-0.19104010419671485},null,{"$f":"N10","v":1122},{"$f":"COUNTIF(L105:L129,AN10)","v":1},{"$f":"AO10/(AQ4-AO20)","v":0.04},{"$f":"IF(AP10=0,0,(AP10*((LOG(AP10))/LOG(2))))","v":-0.18575424759098899},null,{"$f":"N10","v":1122},{"$f":"COUNTIF(L130:L153,AS10)","v":0},{"$f":"AT10/(AV4-AT20)","v":0},{"$f":"IF(AU10=0,0,(AU10*((LOG(AU10))/LOG(2))))","v":0}]
[21,617,12,630,13,632,23,647,null,null,0,2112,null,1211,{"$f":"COUNTIF($L$7:$L$500,N11)","v":0},{"$f":"O11/$Q$4","v":0},{"$f":"IF(P11=0,0,(P11*((LOG(P11))/LOG(2))))","v":0},null,null,{"$f":"N11","v":1211},{"$f":"COUNTIF(L7:L31,T11)","v":0},{"$f":"U11/(W4-U20)","v":0},{"$f":"IF(V11=0,0,(V11*((LOG(V11))/LOG(2))))","v":0},null,{"$f":"N11","v":1211},{"$f":"COUNTIF(L32:L55,Y11)","v":0},{"$f":"Z11/(AB4-Z20)","v":0},{"$f":"IF(AA11=0,0,(AA11*((LOG(AA11))/LOG(2))))","v":0},null,{"$f":"N11","v":1211},{"$f":"COUNTIF(L56:L80,AD11)","v":0},{"$f":"AE11/(AG4-AE20)","v":0},{"$f":"IF(AF11=0,0,(AF11*((LOG(AF11))/LOG(2))))","v":0},null,{"$f":"N11","v":1211},{"$f":"COUNTIF(L81:L104,AI11)","v":0},{"$f":"AJ11/(AL4-AJ20)","v":0},{"$f":"IF(AK11=0,0,(AK11*((LOG(AK11))/LOG(2))))","v":0},null,{"$f":"N11","v":1211},{"$f":"COUNTIF(L105:L129,AN11)","v":0},{"$f":"AO11/(AQ4-AO20)","v":0},{"$f":"IF(AP11=0,0,(AP11*((LOG(AP11))/LOG(2))))","v":0},null,{"$f":"N11","v":1211},{"$f":"COUNTIF(L130:L153,AS11)","v":0},{"$f":"AT11/(AV4-AT20)","v":0},{"$f":"IF(AU11=0,0,(AU11*((LOG(AU11))/LOG(2))))","v":0}]
[12,786,14,790,13,795,14,803,null,null,0,1111,null,1212,{"$f":"COUNTIF($L$7:$L$500,N12)","v":0},{"$f":"O12/$Q$4","v":0},{"$f":"IF(P12=0,0,(P12*((LOG(P12))/LOG(2))))","v":0},null,null,{"$f":"N12","v":1212},{"$f":"COUNTIF(L7:L31,T12)","v":0},{"$f":"U12/(W4-U20)","v":0},{"$f":"IF(V12=0,0,(V12*((LOG(V12))/LOG(2))))","v":0},null,{"$f":"N12","v":1212},{"$f":"COUNTIF(L32:L55,Y12)","v":0},{"$f":"Z12/(AB4-Z20)","v":0},{"$f":"IF(AA12=0,0,(AA12*((LOG(AA12))/LOG(2))))","v":0},null,{"$f":"N12","v":1212},{"$f":"COUNTIF(L56:L80,AD12)","v":0},{"$f":"AE12/(AG4-AE20)","v":0},{"$f":"IF(AF12=0,0,(AF12*((LOG(AF12))/LOG(2))))","v":0},null,{"$f":"N12","v":1212},{"$f":"COUNTIF(L81:L104,AI12)","v":0},{"$f":"AJ12/(AL4-AJ20)","v":0},{"$f":"IF(AK12=0,0,(AK12*((LOG(AK12))/LOG(2))))","v":0},null,{"$f":"N12","v":1212},{"$f":"COUNTIF(L105:L129,AN12)","v":0},{"$f":"AO12/(AQ4-AO20)","v":0},{"$f":"IF(AP12=0,0,(AP12*((LOG(AP12))/LOG(2))))","v":0},null,{"$f":"N12","v":1212},{"$f":"COUNTIF(L130:L153,AS12)","v":0},{"$f":"AT12/(AV4-AT20)","v":0},{"$f":"IF(AU12=0,0,(AU12*((LOG(AU12))/LOG(2))))","v":0}]
[12,947,14,951,13,956,14,961,null,null,0,1111,null,1221,{"$f":"COUNTIF($L$7:$L$500,N13)","v":0},{"$f":"O13/$Q$4","v":0},{"$f":"IF(P13=0,0,(P13*((LOG(P13))/LOG(2))))","v":0},null,null,{"$f":"N13","v":1221},{"$f":"COUNTIF(L7:L31,T13)","v":0},{"$f":"U13/(W4-U20)","v":0},{"$f":"IF(V13=0,0,(V13*((LOG(V13))/LOG(2))))","v":0},null,{"$f":"N13","v":1221},{"$f":"COUNTIF(L32:L55,Y13)","v":0},{"$f":"Z13/(AB4-Z20)","v":0},{"$f":"IF(AA13=0,0,(AA13*((LOG(AA13))/LOG(2))))","v":0},null,{"$f":"N13","v":1221},{"$f":"COUNTIF(L56:L80,AD13)","v":0},{"$f":"AE13/(AG4-AE20)","v":0},{"$f":"IF(AF13=0,0,(AF13*((LOG(AF13))/LOG(2))))","v":0},null,{"$f":"N13","v":1221},{"$f":"COUNTIF(L81:L104,AI13)","v":0},{"$f":"AJ13/(AL4-AJ20)","v":0},{"$f":"IF(AK13=0,0,(AK13*((LOG(AK13))/LOG(2))))","v":0},null,{"$f":"N13","v":1221},{"$f":"COUNTIF(L105:L129,AN13)","v":0},{"$f":"AO13/(AQ4-AO20)","v":0},{"$f":"IF(AP13=0,0,(AP13*((LOG(AP13))/LOG(2))))","v":0},null,{"$f":"N13","v":1221},{"$f":"COUNTIF(L130:L153,AS13)","v":0},{"$f":"AT13/(AV4-AT20)","v":0},{"$f":"IF(AU13=0,0,(AU13*((LOG(AU13))/LOG(2))))","v":0}]
[21,1099,12,1111,13,1113,14,1118,null,null,0,2111,null,1222,{"$f":"COUNTIF($L$7:$L$500,N14)","v":2},{"$f":"O14/$Q$4","v":1.3605442176870748E-2},{"$f":"IF(P14=0,0,(P14*((LOG(P14))/LOG(2))))","v":-8.4349283603215836E-2},null,null,{"$f":"N14","v":1222},{"$f":"COUNTIF(L7:L31,T14)","v":0},{"$f":"U14/(W4-U20)","v":0},{"$f":"IF(V14=0,0,(V14*((LOG(V14))/LOG(2))))","v":0},null,{"$f":"N14","v":1222},{"$f":"COUNTIF(L32:L55,Y14)","v":2},{"$f":"Z14/(AB4-Z20)","v":8.3333333333333329E-2},{"$f":"IF(AA14=0,0,(AA14*((LOG(AA14))/LOG(2))))","v":-0.29874687506009634},null,{"$f":"N14","v":1222},{"$f":"COUNTIF(L56:L80,AD14)","v":0},{"$f":"AE14/(AG4-AE20)","v":0},{"$f":"IF(AF14=0,0,(AF14*((LOG(AF14))/LOG(2))))","v":0},null,{"$f":"N14","v":1222},{"$f":"COUNTIF(L81:L104,AI14)","v":0},{"$f":"AJ14/(AL4-AJ20)","v":0},{"$f":"IF(AK14=0,0,(AK14*((LOG(AK14))/LOG(2))))","v":0},null,{"$f":"N14","v":1222},{"$f":"COUNTIF(L105:L129,AN14)","v":0},{"$f":"AO14/(AQ4-AO20)","v":0},{"$f":"IF(AP14=0,0,(AP14*((LOG(AP14))/LOG(2))))","v":0},null,{"$f":"N14","v":1222},{"$f":"COUNTIF(L130:L153,AS14)","v":0},{"$f":"AT14/(AV4-AT20)","v":0},{"$f":"IF(AU14=0,0,(AU14*((LOG(AU14))/LOG(2))))","v":0}]
[12,1246,14,1251,13,1257,14,1265,null,null,0,1111,null,2111,{"$f":"COUNTIF($L$7:$L$500,N15)","v":46},{"$f":"O15/$Q$4","v":0.31292517006802723},{"$f":"IF(P15=0,0,(P15*((LOG(P15))/LOG(2))))","v":-0.52449712846156582},null,null,{"$f":"N15","v":2111},{"$f":"COUNTIF(L7:L31,T15)","v":5},{"$f":"U15/(W4-U20)","v":0.2},{"$f":"IF(V15=0,0,(V15*((LOG(V15))/LOG(2))))","v":-0.46438561897747244},null,{"$f":"N15","v":2111},{"$f":"COUNTIF(L32:L55,Y15)","v":7},{"$f":"Z15/(AB4-Z20)","v":0.29166666666666669},{"$f":"IF(AA15=0,0,(AA15*((LOG(AA15))/LOG(2))))","v":-0.51846887711020273},null,{"$f":"N15","v":2111},{"$f":"COUNTIF(L56:L80,AD15)","v":9},{"$f":"AE15/(AG4-AE20)","v":0.36},{"$f":"IF(AF15=0,0,(AF15*((LOG(AF15))/LOG(2))))","v":-0.53061522779966841},null,{"$f":"N15","v":2111},{"$f":"COUNTIF(L81:L104,AI15)","v":11},{"$f":"AJ15/(AL4-AJ20)","v":0.45833333333333331},{"$f":"IF(AK15=0,0,(AK15*((LOG(AK15))/LOG(2))))","v":-0.51586832095510204},null,{"$f":"N15","v":2111},{"$f":"COUNTIF(L105:L129,AN15)","v":9},{"$f":"AO15/(AQ4-AO20)","v":0.36},{"$f":"IF(AP15=0,0,(AP15*((LOG(AP15))/LOG(2))))","v":-0.53061522779966841},null,{"$f":"N15","v":2111},{"$f":"COUNTIF(L130:L153,AS15)","v":5},{"$f":"AT15/(AV4-AT20)","v":0.20833333333333334},{"$f":"IF(AU15=0,0,(AU15*((LOG(AU15))/LOG(2))))","v":-0.47146550121537367}]
[12,1437,14,1442,13,1447,14,1452,null,null,0,1111,null,2112,{"$f":"COUNTIF($L$7:$L$500,N16)","v":2},{"$f":"O16/$Q$4","v":1.3605442176870748E-2},{"$f":"IF(P16=0,0,(P16*((LOG(P16))/LOG(2))))","v":-8.4349283603215836E-2},null,null,{"$f":"N16","v":2112},{"$f":"COUNTIF(L7:L31,T16)","v":1},{"$f":"U16/(W4-U20)","v":0.04},{"$f":"IF(V16=0,0,(V16*((LOG(V16))/LOG(2))))","v":-0.18575424759098899},null,{"$f":"N16","v":2112},{"$f":"COUNTIF(L32:L55,Y16)","v":0},{"$f":"Z16/(AB4-Z20)","v":0},{"$f":"IF(AA16=0,0,(AA16*((LOG(AA16))/LOG(2))))","v":0},null,{"$f":"N16","v":2112},{"$f":"COUNTIF(L56:L80,AD16)","v":0},{"$f":"AE16/(AG4-AE20)","v":0},{"$f":"IF(AF16=0,0,(AF16*((LOG(AF16))/LOG(2))))","v":0},null,{"$f":"N16","v":2112},{"$f":"COUNTIF(L81:L104,AI16)","v":0},{"$f":"AJ16/(AL4-AJ20)","v":0},{"$f":"IF(AK16=0,0,(AK16*((LOG(AK16))/LOG(2))))","v":0},null,{"$f":"N16","v":2112},{"$f":"COUNTIF(L105:L129,AN16)","v":0},{"$f":"AO16/(AQ4-AO20)","v":0},{"$f":"IF(AP16=0,0,(AP16*((LOG(AP16))/LOG(2))))","v":0},null,{"$f":"N16","v":2112},{"$f":"COUNTIF(L130:L153,AS16)","v":1},{"$f":"AT16/(AV4-AT20)","v":4.1666666666666664E-2},{"$f":"IF(AU16=0,0,(AU16*((LOG(AU16))/LOG(2))))","v":-0.19104010419671485}]
[21,1579,21,1608,22,1616,14,1633,null,null,0,2221,null,2121,{"$f":"COUNTIF($L$7:$L$500,N17)","v":0},{"$f":"O17/$Q$4","v":0},{"$f":"IF(P17=0,0,(P17*((LOG(P17))/LOG(2))))","v":0},null,null,{"$f":"N17","v":2121},{"$f":"COUNTIF(L7:L31,T17)","v":0},{"$f":"U17/(W4-U20)","v":0},{"$f":"IF(V17=0,0,(V17*((LOG(V17))/LOG(2))))","v":0},null,{"$f":"N17","v":2121},{"$f":"COUNTIF(L32:L55,Y17)","v":0},{"$f":"Z17/(AB4-Z20)","v":0},{"$f":"IF(AA17=0,0,(AA17*((LOG(AA17))/LOG(2))))","v":0},null,{"$f":"N17","v":2121},{"$f":"COUNTIF(L56:L80,AD17)","v":0},{"$f":"AE17/(AG4-AE20)","v":0},{"$f":"IF(AF17=0,0,(AF17*((LOG(AF17))/LOG(2))))","v":0},null,{"$f":"N17","v":2121},{"$f":"COUNTIF(L81:L104,AI17)","v":0},{"$f":"AJ17/(AL4-AJ20)","v":0},{"$f":"IF(AK17=0,0,(AK17*((LOG(AK17))/LOG(2))))","v":0},null,{"$f":"N17","v":2121},{"$f":"COUNTIF(L105:L129,AN17)","v":0},{"$f":"AO17/(AQ4-AO20)","v":0},{"$f":"IF(AP17=0,0,(AP17*((LOG(AP17))/LOG(2))))","v":0},null,{"$f":"N17","v":2121},{"$f":"COUNTIF(L130:L153,AS17)","v":0},{"$f":"AT17/(AV4-AT20)","v":0},{"$f":"IF(AU17=0,0,(AU17*((LOG(AU17))/LOG(2))))","v":0}]
[12,1791,14,1795,13,1800,14,1805,null,null,0,1111,null,2122,{"$f":"COUNTIF($L$7:$L$500,N18)","v":0},{"$f":"O18/$Q$4","v":0},{"$f":"IF(P18=0,0,(P18*((LOG(P18))/LOG(2))))","v":0},null,null,{"$f":"N18","v":2122},{"$f":"COUNTIF(L7:L31,T18)","v":0},{"$f":"U18/(W4-U20)","v":0},{"$f":"IF(V18=0,0,(V18*((LOG(V18))/LOG(2))))","v":0},null,{"$f":"N18","v":2122},{"$f":"COUNTIF(L32:L55,Y18)","v":0},{"$f":"Z18/(AB4-Z20)","v":0},{"$f":"IF(AA18=0,0,(AA18*((LOG(AA18))/LOG(2))))","v":0},null,{"$f":"N18","v":2122},{"$f":"COUNTIF(L56:L80,AD18)","v":0},{"$f":"AE18/(AG4-AE20)","v":0},{"$f":"IF(AF18=0,0,(AF18*((LOG(AF18))/LOG(2))))","v":0},null,{"$f":"N18","v":2122},{"$f":"COUNTIF(L81:L104,AI18)","v":0},{"$f":"AJ18/(AL4-AJ20)","v":0},{"$f":"IF(AK18=0,0,(AK18*((LOG(AK18))/LOG(2))))","v":0},null,{"$f":"N18","v":2122},{"$f":"COUNTIF(L105:L129,AN18)","v":0},{"$f":"AO18/(AQ4-AO20)","v":0},{"$f":"IF(AP18=0,0,(AP18*((LOG(AP18))/LOG(2))))","v":0},null,{"$f":"N18","v":2122},{"$f":"COUNTIF(L130:L153,AS18)","v":0},{"$f":"AT18/(AV4-AT20)","v":0},{"$f":"IF(AU18=0,0,(AU18*((LOG(AU18))/LOG(2))))","v":0}]
[12,1935,14,1939,13,1943,14,1948,null,null,0,1111,null,2211,{"$f":"COUNTIF($L$7:$L$500,N19)","v":21},{"$f":"O19/$Q$4","v":0.14285714285714285},{"$f":"IF(P19=0,0,(P19*((LOG(P19))/LOG(2))))","v":-0.40105070315108626},null,null,{"$f":"N19","v":2211},{"$f":"COUNTIF(L7:L31,T19)","v":0},{"$f":"U19/(W4-U20)","v":0},{"$f":"IF(V19=0,0,(V19*((LOG(V19))/LOG(2))))","v":0},null,{"$f":"N19","v":2211},{"$f":"COUNTIF(L32:L55,Y19)","v":2},{"$f":"Z19/(AB4-Z20)","v":8.3333333333333329E-2},{"$f":"IF(AA19=0,0,(AA19*((LOG(AA19))/LOG(2))))","v":-0.29874687506009634},null,{"$f":"N19","v":2211},{"$f":"COUNTIF(L56:L80,AD19)","v":7},{"$f":"AE19/(AG4-AE20)","v":0.28000000000000003},{"$f":"IF(AF19=0,0,(AF19*((LOG(AF19))/LOG(2))))","v":-0.51422035496079388},null,{"$f":"N19","v":2211},{"$f":"COUNTIF(L81:L104,AI19)","v":4},{"$f":"AJ19/(AL4-AJ20)","v":0.16666666666666666},{"$f":"IF(AK19=0,0,(AK19*((LOG(AK19))/LOG(2))))","v":-0.43082708345352599},null,{"$f":"N19","v":2211},{"$f":"COUNTIF(L105:L129,AN19)","v":3},{"$f":"AO19/(AQ4-AO20)","v":0.12},{"$f":"IF(AP19=0,0,(AP19*((LOG(AP19))/LOG(2))))","v":-0.36706724268642821},null,{"$f":"N19","v":2211},{"$f":"COUNTIF(L130:L153,AS19)","v":5},{"$f":"AT19/(AV4-AT20)","v":0.20833333333333334},{"$f":"IF(AU19=0,0,(AU19*((LOG(AU19))/LOG(2))))","v":-0.47146550121537367}]
[12,2153,14,2157,13,2162,14,2173,null,null,0,1111,null,2212,{"$f":"COUNTIF($L$7:$L$500,N20)","v":0},{"$f":"O20/$Q$4","v":0},{"$f":"IF(P20=0,0,(P20*((LOG(P20))/LOG(2))))","v":0},null,null,{"$f":"N20","v":2212},{"$f":"COUNTIF(L7:L31,T20)","v":0},null,null,null,{"$f":"N20","v":2212},{"$f":"COUNTIF(L32:L55,Y20)","v":0},null,null,null,{"$f":"N20","v":2212},{"$f":"COUNTIF(L56:L80,AD20)","v":0},null,null,null,{"$f":"N20","v":2212},{"$f":"COUNTIF(L81:L104,AI20)","v":0},null,null,null,{"$f":"N20","v":2212},{"$f":"COUNTIF(L105:L129,AN20)","v":0},null,null,null,{"$f":"N20","v":2212},{"$f":"COUNTIF(L130:L153,AS20)","v":0}]
[12,2310,14,2316,13,2323,14,2330,null,null,0,1111,null,2221,{"$f":"COUNTIF($L$7:$L$500,N21)","v":8},{"$f":"O21/$Q$4","v":5.4421768707482991E-2},{"$f":"IF(P21=0,0,(P21*((LOG(P21))/LOG(2))))","v":-0.22855359699789737},null,null,{"$f":"N21","v":2221},{"$f":"COUNTIF(L7:L31,T21)","v":1},{"$f":"U21/(W4-U20)","v":0.04},{"$f":"IF(V21=0,0,(V21*((LOG(V21))/LOG(2))))","v":-0.18575424759098899},null,{"$f":"N21","v":2221},{"$f":"COUNTIF(L32:L55,Y21)","v":0},{"$f":"Z21/(AB4-Z20)","v":0},{"$f":"IF(AA21=0,0,(AA21*((LOG(AA21))/LOG(2))))","v":0},null,{"$f":"N21","v":2221},{"$f":"COUNTIF(L56:L80,AD21)","v":3},{"$f":"AE21/(AG4-AE20)","v":0.12},{"$f":"IF(AF21=0,0,(AF21*((LOG(AF21))/LOG(2))))","v":-0.36706724268642821},null,{"$f":"N21","v":2221},{"$f":"COUNTIF(L81:L104,AI21)","v":2},{"$f":"AJ21/(AL4-AJ20)","v":8.3333333333333329E-2},{"$f":"IF(AK21=0,0,(AK21*((LOG(AK21))/LOG(2))))","v":-0.29874687506009634},null,{"$f":"N21","v":2221},{"$f":"COUNTIF(L105:L129,AN21)","v":0},{"$f":"AO21/(AQ4-AO20)","v":0},{"$f":"IF(AP21=0,0,(AP21*((LOG(AP21))/LOG(2))))","v":0},null,{"$f":"N21","v":2221},{"$f":"COUNTIF(L130:L153,AS21)","v":2},{"$f":"AT21/(AV4-AT20)","v":8.3333333333333329E-2},{"$f":"IF(AU21=0,0,(AU21*((LOG(AU21))/LOG(2))))","v":-0.29874687506009634}]
[21,2465,12,2478,13,2482,14,2490,null,null,0,2111,null,2222,{"$f":"COUNTIF($L$7:$L$500,N22)","v":30},{"$f":"O22/$Q$4","v":0.20408163265306123},{"$f":"IF(P22=0,0,(P22*((LOG(P22))/LOG(2))))","v":-0.46791464269956035},null,null,{"$f":"N22","v":2222},{"$f":"COUNTIF(L7:L31,T22)","v":0},{"$f":"U22/(W4-U20)","v":0},{"$f":"IF(V22=0,0,(V22*((LOG(V22))/LOG(2))))","v":0},null,{"$f":"N22","v":2222},{"$f":"COUNTIF(L32:L55,Y22)","v":4},{"$f":"Z22/(AB4-Z20)","v":0.16666666666666666},{"$f":"IF(AA22=0,0,(AA22*((LOG(AA22))/LOG(2))))","v":-0.43082708345352599},null,{"$f":"N22","v":2222},{"$f":"COUNTIF(L56:L80,AD22)","v":4},{"$f":"AE22/(AG4-AE20)","v":0.16},{"$f":"IF(AF22=0,0,(AF22*((LOG(AF22))/LOG(2))))","v":-0.42301699036395596},null,{"$f":"N22","v":2222},{"$f":"COUNTIF(L81:L104,AI22)","v":5},{"$f":"AJ22/(AL4-AJ20)","v":0.20833333333333334},{"$f":"IF(AK22=0,0,(AK22*((LOG(AK22))/LOG(2))))","v":-0.47146550121537367},null,{"$f":"N22","v":2222},{"$f":"COUNTIF(L105:L129,AN22)","v":7},{"$f":"AO22/(AQ4-AO20)","v":0.28000000000000003},{"$f":"IF(AP22=0,0,(AP22*((LOG(AP22))/LOG(2))))","v":-0.51422035496079388},null,{"$f":"N22","v":2222},{"$f":"COUNTIF(L130:L153,AS22)","v":10},{"$f":"AT22/(AV4-AT20)","v":0.41666666666666669},{"$f":"IF(AU22=0,0,(AU22*((LOG(AU22))/LOG(2))))","v":-0.52626433576408083}]
[12,2606,14,2611,13,2615,14,2623,null,null,0,1111,null,null,null,{"$f":"SUM(P7:P22)","v":0.99999999999999989},{"$f":"-SUM(Q7:Q22)","v":2.3721449041754434},null,null,null,null,{"$f":"SUM(V7:V22)","v":1},{"$f":"-SUM(W7:W22)","v":1.1771245697587873},null,null,null,{"$f":"SUM(AA7:AA22)","v":1},{"$f":"-SUM(AB7:AB22)","v":2.0774287729134882},null,null,null,{"$f":"SUM(AF7:AF22)","v":1},{"$f":"-SUM(AG7:AG22)","v":2.1264283109928241},null,null,null,{"$f":"SUM(AK7:AK22)","v":1},{"$f":"-SUM(AL7:AL22)","v":2.0989879890775276},null,null,null,{"$f":"SUM(AP7:AP22)","v":1},{"$f":"-SUM(AQ7:AQ22)","v":2.0620426920153521},null,null,null,{"$f":"SUM(AU7:AU22)","v":1},{"$f":"-SUM(AV7:AV22)","v":2.1500224216483543}]
[12,2750,14,2754,13,2759,14,2764,null,null,0,1111,null,null,null,"U=",{"$f":"Q23/(LOG(Q4)/LOG(2))","v":0.32947956386886912},null,null,null,null,"U1=",{"$f":"W23/(LOG(W4)/LOG(2))","v":0.25347997906366904},null,null,null,"U2=",{"$f":"AB23/(LOG(AB4)/LOG(2))","v":0.45309613166666796},null,null,null,"U3=",{"$f":"AG23/(LOG(AG4)/LOG(2))","v":0.45790141298410403},null,null,null,"U4=",{"$f":"AL23/(LOG(AL4)/LOG(2))","v":0.45779828924388882},null,null,null,"U5=",{"$f":"AQ23/(LOG(AQ4)/LOG(2))","v":0.44403672459878268},null,null,null,"U6=",{"$f":"AV23/(LOG(AV4)/LOG(2))","v":0.46892911802663234}]
[12,2887,14,2892,13,2897,14,2906,null,null,0,1111]
[12,3038,14,3042,13,3046,14,3053,null,null,0,1111]
[21,3177,12,3189,13,3193,14,3197,null,null,0,2111,null,"Total Target Seq"]
[12,3326,14,3330,13,3334,14,3338,null,null,0,1111,null,{"$f":"COUNTIF(L7:L153,G3)","v":0},null,25,24,25,24,25,24]
[12,3459,14,3463,13,3467,14,3476,null,null,0,1111,null,null,null,"% of reinforcement given in 6 equal intervals based on number of trials "]
[21,3601,12,3610,13,3613,14,3617,null,null,0,2111,null,null,null,"%_1","%_2","%_3","%_4","%_5","%_6"]
[21,3750,12,3761,13,3765,14,3770,null,null,0,2111,null,null,"target sequence",{"$f":"$G$3","v":2212},{"$f":"$G$3","v":2212},{"$f":"$G$3","v":2212},{"$f":"$G$3","v":2212},{"$f":"$G$3","v":2212},{"$f":"$G$3","v":2212}]
[12,3911,14,3929,13,3933,14,3937,null,null,0,1111,null,null,"total reinforcement",{"$f":"U20","v":0},{"$f":"Z20","v":0},{"$f":"AE20","v":0},{"$f":"AJ20","v":0},{"$f":"AO20","v":0},{"$f":"AT20","v":0}]
[21,4057,12,4071,13,4075,14,4080,null,null,0,2111,null,null,"% target"]
[21,4215,12,4225,13,4230,14,4234,null,null,0,2111,null,null,"CCRF"]
[21,4366,12,4374,13,4382,14,4390,null,null,0,2111,null,null,"% CCRf"]
[21,4504,12,4521,13,4526,14,4531,null,null,0,2111,null,null,"average response rate",{"$f":"H31/P28","v":150.80000000000001},{"$f":"(H55-H31)/Q28","v":156.79166666666666},{"$f":"(H80-H55)/R28","v":146.72},{"$f":"(H104-H80)/S28","v":154.33333333333334},{"$f":"(H129-H104)/T28","v":141.4},{"$f":"(H153-H129)/U28","v":229.20833333333334}]
[12,4659,14,4665,13,4669,14,4674,null,null,0,1111]
[12,4798,23,4810,24,4820,23,4828,null,null,0,1222]
[12,5011,14,5015,13,5020,14,5025,null,null,0,1111]
[21,5145,21,5153,11,5163,12,5167,null,null,0,2211]
[12,5314,14,5318,13,5323,14,5331,null,null,0,1111]
[12,5471,14,5476,13,5481,14,5486,null,null,0,1111]
[12,5610,14,5638,13,5642,14,5647,null,null,0,1111]
[21,5813,21,5821,22,5829,23,5834,null,null,0,2222]
[21,5981,21,5986,22,5991,23,5996,null,null,0,2222]
[21,6142,21,6147,22,6152,23,6157,null,null,0,2222]
[21,6289,12,6303,13,6307,14,6316,null,null,0,2111]
[21,6447,12,6459,13,6463,14,6467,null,null,0,2111]
[12,6602,23,6615,24,6628,23,6636,null,null,0,1222]
[21,6751,21,6761,11,6774,12,6778,null,null,0,2211]
[21,6902,12,6914,13,6919,14,6923,null,null,0,2111]
[12,7053,14,7057,13,7062,14,7066,null,null,0,1111]
[12,7189,14,7193,13,7197,14,7205,null,null,0,1111]
[21,7343,21,7350,22,7355,23,7362,null,null,0,2222]
[12,7505,14,7512,13,7521,14,7533,null,null,0,1111]
[21,7670,12,7680,13,7684,14,7688,null,null,0,2111]
[21,7803,12,7812,13,7817,14,7821,null,null,0,2111]
[21,7962,21,7970,22,7975,14,7992,null,null,0,2221]
[21,8108,21,8121,22,8126,23,8131,null,null,0,2222]
[21,8260,12,8272,13,8276,14,8280,null,null,0,2111]
[21,8395,12,8408,13,8412,14,8416,null,null,0,2111]
[21,8541,12,8556,13,8560,14,8567,null,null,0,2111]
[21,8684,21,8691,22,8696,23,8701,null,null,0,2222]
[21,8822,21,8840,22,8845,14,8855,null,null,0,2221]
[21,8988,21,9001,22,9008,23,9013,null,null,0,2222]
[21,9161,12,9178,13,9183,14,9190,null,null,0,2111]
[21,9297,21,9317,11,9327,12,9331,null,null,0,2211]
[21,9442,21,9444,11,9457,12,9464,null,null,0,2211]
[21,9591,21,9596,11,9612,12,9621,null,null,0,2211]
[21,9743,21,9752,22,9758,23,9763,null,null,0,2222]
[21,9862,21,9870,11,9889,12,9894,null,null,0,2211]
[21,10016,12,10029,13,10035,14,10039,null,null,0,2111]
[21,10180,12,10193,13,10197,14,10201,null,null,0,2111]
[21,10321,21,10327,11,10342,12,10347,null,null,0,2211]
[12,10480,14,10484,13,10488,14,10493,null,null,0,1111]
[21,10596,21,10614,11,10623,12,10627,null,null,0,2211]
[21,10733,21,10749,22,10757,14,10777,null,null,0,2221]
[21,10888,21,10893,11,10903,12,10907,null,null,0,2211]
[21,11024,12,11036,13,11040,14,11045,null,null,0,2111]
[12,11185,14,11190,13,11194,14,11201,null,null,0,1111]
[21,11313,21,11335,11,11347,12,11351,null,null,0,2211]
[21,11452,12,11484,13,11488,14,11494,null,null,0,2111]
[21,11611,21,11619,11,11632,12,11640,null,null,0,2211]
[21,11751,12,11760,13,11765,14,11774,null,null,0,2111]
[21,11895,12,11909,13,11913,14,11917,null,null,0,2111]
[21,12032,21,12050,22,12054,14,12066,null,null,0,2221]
[21,12192,21,12198,11,12212,12,12217,null,null,0,2211]
[21,12337,21,12342,22,12354,23,12360,null,null,0,2222]
[21,12492,12,12517,13,12521,14,12529,null,null,0,2111]
[21,12678,21,12696,22,12703,14,12715,null,null,0,2221]
[21,12911,21,12917,22,12924,23,12934,null,null,0,2222]
[21,13074,12,13094,13,13098,14,13103,null,null,0,2111]
[21,13237,12,13245,13,13249,14,13253,null,null,0,2111]
[12,13375,14,13382,24,13395,23,13403,null,null,0,1122]
[21,13534,21,13541,22,13549,23,13557,null,null,0,2222]
[21,13678,21,13694,11,13720,12,13725,null,null,0,2211]
[21,13840,21,13846,22,13850,23,13858,null,null,0,2222]
[21,13993,21,14001,22,14010,23,14017,null,null,0,2222]
[12,14158,14,14162,13,14167,14,14174,null,null,0,1111]
[21,14290,12,14304,13,14308,14,14312,null,null,0,2111]
[21,14453,12,14462,13,14467,14,14471,null,null,0,2111]
[21,14588,12,14605,13,14609,14,14614,null,null,0,2111]
[21,14733,12,14744,13,14748,14,14752,null,null,0,2111]
[21,14881,12,14897,13,14901,14,14905,null,null,0,2111]
[21,15016,12,15032,13,15036,14,15041,null,null,0,2111]
[21,15149,21,15156,22,15161,23,15165,null,null,0,2222]
[21,15280,21,15288,11,15302,12,15310,null,null,0,2211]
[21,15425,21,15434,22,15439,23,15445,null,null,0,2222]
[21,15554,12,15571,13,15575,14,15579,null,null,0,2111]
[21,15697,12,15707,13,15714,14,15718,null,null,0,2111]
[21,15831,21,15840,11,15854,12,15862,null,null,0,2211]
[12,15972,14,15977,24,15986,23,15995,null,null,0,1122]
[12,16141,14,16145,13,16150,14,16159,null,null,0,1111]
[21,16275,21,16292,22,16297,23,16304,null,null,0,2222]
[21,16419,12,16439,13,16444,14,16450,null,null,0,2111]
[21,16575,12,16583,13,16588,14,16592,null,null,0,2111]
[21,16702,21,16720,11,16732,12,16736,null,null,0,2211]
[21,16847,21,16855,22,16862,23,16870,null,null,0,2222]
[21,17000,12,17015,13,17019,14,17029,null,null,0,2111]
[21,17154,12,17171,13,17175,14,17182,null,null,0,2111]
[12,17302,14,17306,13,17311,14,17320,null,null,0,1111]
[21,17439,12,17450,13,17458,14,17462,null,null,0,2111]
[12,17573,14,17577,13,17582,14,17586,null,null,0,1111]
[21,17697,21,17712,22,17717,23,17721,null,null,0,2222]
[12,17846,14,17851,13,17855,14,17859,null,null,0,1111]
[21,17979,21,17984,22,17996,23,18000,null,null,0,2222]
[21,18114,21,18121,22,18126,23,18131,null,null,0,2222]
[12,18278,14,18286,13,18293,14,18300,null,null,0,1111]
[21,18419,12,18432,13,18435,14,18440,null,null,0,2111]
[21,18550,21,18562,22,18570,14,18589,null,null,0,2221]
[21,18702,12,18720,13,18724,14,18729,null,null,0,2111]
[21,18831,21,18853,11,18867,12,18871,null,null,0,2211]
[21,18999,21,19008,22,19013,23,19018,null,null,0,2222]
[21,19136,12,19151,13,19159,14,19163,null,null,0,2111]
[21,19302,12,19319,13,19324,23,19337,null,null,0,2112]
[21,19486,12,19503,13,19513,14,19520,null,null,0,2111]
[21,19660,21,19669,22,19677,23,19683,null,null,0,2222]
[21,19816,12,19829,13,19833,14,19839,null,null,0,2111]
[21,19958,21,19975,22,19982,23,19989,null,null,0,2222]
[21,20105,12,20117,13,20121,14,20126,null,null,0,2111]
[21,20248,21,20250,11,20263,12,20269,null,null,0,2211]
[21,20387,21,20407,11,20425,12,20429,null,null,0,2211]
[21,22406,21,22412,22,22419,23,22421,null,null,0,2222]
[21,22566,21,22574,22,22580,23,22586,null,null,0,2222]
[21,22696,21,22703,22,22720,23,22724,null,null,0,2222]
[21,22845,21,22863,11,22871,12,22879,null,null,0,2211]
[12,23013,14,23018,13,23022,14,23029,null,null,0,1111]
[21,23135,21,23156,11,23167,12,23171,null,null,0,2211]
[21,23314,21,23321,22,23330,14,23344,null,null,0,2221]
[21,23469,21,23474,22,23478,23,23484,null,null,0,2222]
[21,23603,21,23619,22,23627,23,23631,null,null,0,2222]
[21,23745,21,23757,22,23766,23,23773,null,null,0,2222]
[21,23914,21,23929,22,23936,23,23941,null,null,null,2222]

{"sheet":"!L814940.053","index":20,"n_rows":160,"n_cols":48,"rows_kept":160,"cut":false,"hidden":false,"merged":[[4,39,4,42],[5,39,5,40],[4,44,4,47],[5,44,5,45],[4,24,4,27],[5,24,5,25],[4,29,4,32],[5,29,5,30],[4,34,4,37],[5,34,5,35],[1,1,1,2],[5,13,5,14],[26,13,26,14],[27,13,27,14],[4,19,4,22],[5,19,5,20]]}
["Report for:!L814940.053"]
["Date:","<date>"]
["Hen:","<hen>",null,null,null,"Correct Sequence",{"$f":"Start!J2","v":2212},null,null,null,null,null,null,null,null,"Total Sequences in Data",{"$f":"4994-COUNTBLANK(L7:L5000)","v":154},null,null,null,null,"Total Sequences in Block Data",{"$f":"COUNTA(L7:L32)","v":26},null,null,null,"Total Sequences in Block Data",{"$f":"COUNTA(L33:L57)","v":25},null,null,null,"Total Sequences in Block Data",{"$f":"COUNTA(L58:L83)","v":26},null,null,null,"Total Sequences in Block Data",{"$f":"COUNTA(L84:L109)","v":26},null,null,null,"Total Sequences in Block Data",{"$f":"COUNTA(L110:L134)","v":25},null,null,null,"Total Sequences in Block Data",{"$f":"COUNTA(L135:L160)","v":26}]
[null,null,null,null,null,null,null,null,null,null,null,null,null,null,null,"Total Sequences in Summary",{"$f":"SUM(O7:O22)","v":154},null,null,null,null,"Total Sequences in Block Summary",{"$f":"SUM(U7:U22)","v":26},null,null,null,"Total Sequences in Block Summary",{"$f":"SUM(Z7:Z22)","v":25},null,null,null,"Total Sequences in Block Summary",{"$f":"SUM(AE7:AE22)","v":26},null,null,null,"Total Sequences in Block Summary",{"$f":"SUM(AJ7:AJ22)","v":26},null,null,null,"Total Sequences in Block Summary",{"$f":"SUM(AO7:AO22)","v":25},null,null,null,"Total Sequences in Block Summary",{"$f":"SUM(AT7:AT22)","v":26}]
[null,null,null,null,null,null,null,null,null,null,null,null,null,null,null,null,null,null,null,"Block 1",null,null,null,null,"Block 2",null,null,null,null,"Block 3",null,null,null,null,"Block 4",null,null,null,null,"Block 5",null,null,null,null,"Block 6"]
["Sequence\nComponent\n1","Time\n1","Sequence\nComponent\n2","Time\n2","Sequence\nComponent\n3","Time\n3","Sequence\nComponent\n4","Time\n4","Sequence\nComponent\n5","Time\n5","Correct?\n0=No 1=Yes","Sequence",null,"Frequency",null,"Relative Frequency","Variability",null,null,"Frequency",null,"Relative Frequency","Variability",null,"Frequency",null,"Relative Frequency","Variability",null,"Frequency",null,"Relative Frequency","Variability",null,"Frequency",null,"Relative Frequency","Variability",null,"Frequency",null,"Relative Frequency","Variability",null,"Frequency",null,"Relative Frequency","Variability"]
[12,29,14,33,13,38,14,42,null,null,0,1111,null,1111,{"$f":"COUNTIF($L$7:$L$500,N7)","v":30},{"$f":"O7/$Q$4","v":0.19480519480519481},{"$f":"IF(P7=0,0,(P7*((LOG(P7))/LOG(2))))","v":-0.4597199893025421},null,null,{"$f":"N7","v":1111},{"$f":"COUNTIF(L7:L32,T7)","v":7},{"$f":"U7/(W4-U20)","v":0.26923076923076922},{"$f":"IF(V7=0,0,(V7*((LOG(V7))/LOG(2))))","v":-0.50967667586863141},null,{"$f":"N7","v":1111},{"$f":"COUNTIF(L33:L57,Y7)","v":7},{"$f":"Z7/(AB4-Z20)","v":0.28000000000000003},{"$f":"IF(AA7=0,0,(AA7*((LOG(AA7))/LOG(2))))","v":-0.51422035496079388},null,{"$f":"N7","v":1111},{"$f":"COUNTIF(L58:L83,AD7)","v":3},{"$f":"AE7/(AG4-AE20)","v":0.11538461538461539},{"$f":"IF(AF7=0,0,(AF7*((LOG(AF7))/LOG(2))))","v":-0.35947814047153104},null,{"$f":"N7","v":1111},{"$f":"COUNTIF(L84:L109,AI7)","v":3},{"$f":"AJ7/(AL4-AJ20)","v":0.11538461538461539},{"$f":"IF(AK7=0,0,(AK7*((LOG(AK7))/LOG(2))))","v":-0.35947814047153104},null,{"$f":"N7","v":1111},{"$f":"COUNTIF(L110:L134,AN7)","v":1},{"$f":"AO7/(AQ4-AO20)","v":0.04},{"$f":"IF(AP7=0,0,(AP7*((LOG(AP7))/LOG(2))))","v":-0.18575424759098899},null,{"$f":"N7","v":1111},{"$f":"COUNTIF(L135:L160,AS7)","v":9},{"$f":"AT7/(AV4-AT20)","v":0.34615384615384615},{"$f":"IF(AU7=0,0,(AU7*((LOG(AU7))/LOG(2))))","v":-0.52979355578034681}]
[21,179,12,198,13,203,14,225,null,null,0,2111,null,1112,{"$f":"COUNTIF($L$7:$L$500,N8)","v":0},{"$f":"O8/$Q$4","v":0},{"$f":"IF(P8=0,0,(P8*((LOG(P8))/LOG(2))))","v":0},null,null,{"$f":"N8","v":1112},{"$f":"COUNTIF(L7:L32,T8)","v":0},{"$f":"U8/(W4-U20)","v":0},{"$f":"IF(V8=0,0,(V8*((LOG(V8))/LOG(2))))","v":0},null,{"$f":"N8","v":1112},{"$f":"COUNTIF(L33:L57,Y8)","v":0},{"$f":"Z8/(AB4-Z20)","v":0},{"$f":"IF(AA8=0,0,(AA8*((LOG(AA8))/LOG(2))))","v":0},null,{"$f":"N8","v":1112},{"$f":"COUNTIF(L58:L83,AD8)","v":0},{"$f":"AE8/(AG4-AE20)","v":0},{"$f":"IF(AF8=0,0,(AF8*((LOG(AF8))/LOG(2))))","v":0},null,{"$f":"N8","v":1112},{"$f":"COUNTIF(L84:L109,AI8)","v":0},{"$f":"AJ8/(AL4-AJ20)","v":0},{"$f":"IF(AK8=0,0,(AK8*((LOG(AK8))/LOG(2))))","v":0},null,{"$f":"N8","v":1112},{"$f":"COUNTIF(L110:L134,AN8)","v":0},{"$f":"AO8/(AQ4-AO20)","v":0},{"$f":"IF(AP8=0,0,(AP8*((LOG(AP8))/LOG(2))))","v":0},null,{"$f":"N8","v":1112},{"$f":"COUNTIF(L135:L160,AS8)","v":0},{"$f":"AT8/(AV4-AT20)","v":0},{"$f":"IF(AU8=0,0,(AU8*((LOG(AU8))/LOG(2))))","v":0}]
[12,393,14,397,13,402,14,410,null,null,0,1111,null,1121,{"$f":"COUNTIF($L$7:$L$500,N9)","v":0},{"$f":"O9/$Q$4","v":0},{"$f":"IF(P9=0,0,(P9*((LOG(P9))/LOG(2))))","v":0},null,null,{"$f":"N9","v":1121},{"$f":"COUNTIF(L7:L32,T9)","v":0},{"$f":"U9/(W4-U20)","v":0},{"$f":"IF(V9=0,0,(V9*((LOG(V9))/LOG(2))))","v":0},null,{"$f":"N9","v":1121},{"$f":"COUNTIF(L33:L57,Y9)","v":0},{"$f":"Z9/(AB4-Z20)","v":0},{"$f":"IF(AA9=0,0,(AA9*((LOG(AA9))/LOG(2))))","v":0},null,{"$f":"N9","v":1121},{"$f":"COUNTIF(L58:L83,AD9)","v":0},{"$f":"AE9/(AG4-AE20)","v":0},{"$f":"IF(AF9=0,0,(AF9*((LOG(AF9))/LOG(2))))","v":0},null,{"$f":"N9","v":1121},{"$f":"COUNTIF(L84:L109,AI9)","v":0},{"$f":"AJ9/(AL4-AJ20)","v":0},{"$f":"IF(AK9=0,0,(AK9*((LOG(AK9))/LOG(2))))","v":0},null,{"$f":"N9","v":1121},{"$f":"COUNTIF(L110:L134,AN9)","v":0},{"$f":"AO9/(AQ4-AO20)","v":0},{"$f":"IF(AP9=0,0,(AP9*((LOG(AP9))/LOG(2))))","v":0},null,{"$f":"N9","v":1121},{"$f":"COUNTIF(L135:L160,AS9)","v":0},{"$f":"AT9/(AV4-AT20)","v":0},{"$f":"IF(AU9=0,0,(AU9*((LOG(AU9))/LOG(2))))","v":0}]
[21,562,12,575,13,579,14,583,null,null,0,2111,null,1122,{"$f":"COUNTIF($L$7:$L$500,N10)","v":0},{"$f":"O10/$Q$4","v":0},{"$f":"IF(P10=0,0,(P10*((LOG(P10))/LOG(2))))","v":0},null,null,{"$f":"N10","v":1122},{"$f":"COUNTIF(L7:L32,T10)","v":0},{"$f":"U10/(W4-U20)","v":0},{"$f":"IF(V10=0,0,(V10*((LOG(V10))/LOG(2))))","v":0},null,{"$f":"N10","v":1122},{"$f":"COUNTIF(L33:L57,Y10)","v":0},{"$f":"Z10/(AB4-Z20)","v":0},{"$f":"IF(AA10=0,0,(AA10*((LOG(AA10))/LOG(2))))","v":0},null,{"$f":"N10","v":1122},{"$f":"COUNTIF(L58:L83,AD10)","v":0},{"$f":"AE10/(AG4-AE20)","v":0},{"$f":"IF(AF10=0,0,(AF10*((LOG(AF10))/LOG(2))))","v":0},null,{"$f":"N10","v":1122},{"$f":"COUNTIF(L84:L109,AI10)","v":0},{"$f":"AJ10/(AL4-AJ20)","v":0},{"$f":"IF(AK10=0,0,(AK10*((LOG(AK10))/LOG(2))))","v":0},null,{"$f":"N10","v":1122},{"$f":"COUNTIF(L110:L134,AN10)","v":0},{"$f":"AO10/(AQ4-AO20)","v":0},{"$f":"IF(AP10=0,0,(AP10*((LOG(AP10))/LOG(2))))","v":0},null,{"$f":"N10","v":1122},{"$f":"COUNTIF(L135:L160,AS10)","v":0},{"$f":"AT10/(AV4-AT20)","v":0},{"$f":"IF(AU10=0,0,(AU10*((LOG(AU10))/LOG(2))))","v":0}]
[21,718,21,726,22,734,14,751,null,null,0,2221,null,1211,{"$f":"COUNTIF($L$7:$L$500,N11)","v":4},{"$f":"O11/$Q$4","v":2.5974025974025976E-2},{"$f":"IF(P11=0,0,(P11*((LOG(P11))/LOG(2))))","v":-0.13679965040765979},null,null,{"$f":"N11","v":1211},{"$f":"COUNTIF(L7:L32,T11)","v":0},{"$f":"U11/(W4-U20)","v":0},{"$f":"IF(V11=0,0,(V11*((LOG(V11))/LOG(2))))","v":0},null,{"$f":"N11","v":1211},{"$f":"COUNTIF(L33:L57,Y11)","v":0},{"$f":"Z11/(AB4-Z20)","v":0},{"$f":"IF(AA11=0,0,(AA11*((LOG(AA11))/LOG(2))))","v":0},null,{"$f":"N11","v":1211},{"$f":"COUNTIF(L58:L83,AD11)","v":0},{"$f":"AE11/(AG4-AE20)","v":0},{"$f":"IF(AF11=0,0,(AF11*((LOG(AF11))/LOG(2))))","v":0},null,{"$f":"N11","v":1211},{"$f":"COUNTIF(L84:L109,AI11)","v":1},{"$f":"AJ11/(AL4-AJ20)","v":3.8461538461538464E-2},{"$f":"IF(AK11=0,0,(AK11*((LOG(AK11))/LOG(2))))","v":-0.18078614300542661},null,{"$f":"N11","v":1211},{"$f":"COUNTIF(L110:L134,AN11)","v":3},{"$f":"AO11/(AQ4-AO20)","v":0.12},{"$f":"IF(AP11=0,0,(AP11*((LOG(AP11))/LOG(2))))","v":-0.36706724268642821},null,{"$f":"N11","v":1211},{"$f":"COUNTIF(L135:L160,AS11)","v":0},{"$f":"AT11/(AV4-AT20)","v":0},{"$f":"IF(AU11=0,0,(AU11*((LOG(AU11))/LOG(2))))","v":0}]
[21,892,12,909,13,913,14,918,null,null,0,2111,null,1212,{"$f":"COUNTIF($L$7:$L$500,N12)","v":0},{"$f":"O12/$Q$4","v":0},{"$f":"IF(P12=0,0,(P12*((LOG(P12))/LOG(2))))","v":0},null,null,{"$f":"N12","v":1212},{"$f":"COUNTIF(L7:L32,T12)","v":0},{"$f":"U12/(W4-U20)","v":0},{"$f":"IF(V12=0,0,(V12*((LOG(V12))/LOG(2))))","v":0},null,{"$f":"N12","v":1212},{"$f":"COUNTIF(L33:L57,Y12)","v":0},{"$f":"Z12/(AB4-Z20)","v":0},{"$f":"IF(AA12=0,0,(AA12*((LOG(AA12))/LOG(2))))","v":0},null,{"$f":"N12","v":1212},{"$f":"COUNTIF(L58:L83,AD12)","v":0},{"$f":"AE12/(AG4-AE20)","v":0},{"$f":"IF(AF12=0,0,(AF12*((LOG(AF12))/LOG(2))))","v":0},null,{"$f":"N12","v":1212},{"$f":"COUNTIF(L84:L109,AI12)","v":0},{"$f":"AJ12/(AL4-AJ20)","v":0},{"$f":"IF(AK12=0,0,(AK12*((LOG(AK12))/LOG(2))))","v":0},null,{"$f":"N12","v":1212},{"$f":"COUNTIF(L110:L134,AN12)","v":0},{"$f":"AO12/(AQ4-AO20)","v":0},{"$f":"IF(AP12=0,0,(AP12*((LOG(AP12))/LOG(2))))","v":0},null,{"$f":"N12","v":1212},{"$f":"COUNTIF(L135:L160,AS12)","v":0},{"$f":"AT12/(AV4-AT20)","v":0},{"$f":"IF(AU12=0,0,(AU12*((LOG(AU12))/LOG(2))))","v":0}]
[21,1047,21,1059,22,1064,23,1069,null,null,0,2222,null,1221,{"$f":"COUNTIF($L$7:$L$500,N13)","v":1},{"$f":"O13/$Q$4","v":6.4935064935064939E-3},{"$f":"IF(P13=0,0,(P13*((LOG(P13))/LOG(2))))","v":-4.7186925588927932E-2},null,null,{"$f":"N13","v":1221},{"$f":"COUNTIF(L7:L32,T13)","v":0},{"$f":"U13/(W4-U20)","v":0},{"$f":"IF(V13=0,0,(V13*((LOG(V13))/LOG(2))))","v":0},null,{"$f":"N13","v":1221},{"$f":"COUNTIF(L33:L57,Y13)","v":0},{"$f":"Z13/(AB4-Z20)","v":0},{"$f":"IF(AA13=0,0,(AA13*((LOG(AA13))/LOG(2))))","v":0},null,{"$f":"N13","v":1221},{"$f":"COUNTIF(L58:L83,AD13)","v":0},{"$f":"AE13/(AG4-AE20)","v":0},{"$f":"IF(AF13=0,0,(AF13*((LOG(AF13))/LOG(2))))","v":0},null,{"$f":"N13","v":1221},{"$f":"COUNTIF(L84:L109,AI13)","v":0},{"$f":"AJ13/(AL4-AJ20)","v":0},{"$f":"IF(AK13=0,0,(AK13*((LOG(AK13))/LOG(2))))","v":0},null,{"$f":"N13","v":1221},{"$f":"COUNTIF(L110:L134,AN13)","v":1},{"$f":"AO13/(AQ4-AO20)","v":0.04},{"$f":"IF(AP13=0,0,(AP13*((LOG(AP13))/LOG(2))))","v":-0.18575424759098899},null,{"$f":"N13","v":1221},{"$f":"COUNTIF(L135:L160,AS13)","v":0},{"$f":"AT13/(AV4-AT20)","v":0},{"$f":"IF(AU13=0,0,(AU13*((LOG(AU13))/LOG(2))))","v":0}]
[21,1242,12,1255,13,1259,14,1264,null,null,0,2111,null,1222,{"$f":"COUNTIF($L$7:$L$500,N14)","v":4},{"$f":"O14/$Q$4","v":2.5974025974025976E-2},{"$f":"IF(P14=0,0,(P14*((LOG(P14))/LOG(2))))","v":-0.13679965040765979},null,null,{"$f":"N14","v":1222},{"$f":"COUNTIF(L7:L32,T14)","v":0},{"$f":"U14/(W4-U20)","v":0},{"$f":"IF(V14=0,0,(V14*((LOG(V14))/LOG(2))))","v":0},null,{"$f":"N14","v":1222},{"$f":"COUNTIF(L33:L57,Y14)","v":0},{"$f":"Z14/(AB4-Z20)","v":0},{"$f":"IF(AA14=0,0,(AA14*((LOG(AA14))/LOG(2))))","v":0},null,{"$f":"N14","v":1222},{"$f":"COUNTIF(L58:L83,AD14)","v":0},{"$f":"AE14/(AG4-AE20)","v":0},{"$f":"IF(AF14=0,0,(AF14*((LOG(AF14))/LOG(2))))","v":0},null,{"$f":"N14","v":1222},{"$f":"COUNTIF(L84:L109,AI14)","v":1},{"$f":"AJ14/(AL4-AJ20)","v":3.8461538461538464E-2},{"$f":"IF(AK14=0,0,(AK14*((LOG(AK14))/LOG(2))))","v":-0.18078614300542661},null,{"$f":"N14","v":1222},{"$f":"COUNTIF(L110:L134,AN14)","v":0},{"$f":"AO14/(AQ4-AO20)","v":0},{"$f":"IF(AP14=0,0,(AP14*((LOG(AP14))/LOG(2))))","v":0},null,{"$f":"N14","v":1222},{"$f":"COUNTIF(L135:L160,AS14)","v":3},{"$f":"AT14/(AV4-AT20)","v":0.11538461538461539},{"$f":"IF(AU14=0,0,(AU14*((LOG(AU14))/LOG(2))))","v":-0.35947814047153104}]
[12,1429,14,1434,13,1438,14,1446,null,null,0,1111,null,2111,{"$f":"COUNTIF($L$7:$L$500,N15)","v":39},{"$f":"O15/$Q$4","v":0.25324675324675322},{"$f":"IF(P15=0,0,(P15*((LOG(P15))/LOG(2))))","v":-0.50177914643813937},null,null,{"$f":"N15","v":2111},{"$f":"COUNTIF(L7:L32,T15)","v":10},{"$f":"U15/(W4-U20)","v":0.38461538461538464},{"$f":"IF(V15=0,0,(V15*((LOG(V15))/LOG(2))))","v":-0.53019677817451139},null,{"$f":"N15","v":2111},{"$f":"COUNTIF(L33:L57,Y15)","v":6},{"$f":"Z15/(AB4-Z20)","v":0.24},{"$f":"IF(AA15=0,0,(AA15*((LOG(AA15))/LOG(2))))","v":-0.49413448537285637},null,{"$f":"N15","v":2111},{"$f":"COUNTIF(L58:L83,AD15)","v":9},{"$f":"AE15/(AG4-AE20)","v":0.34615384615384615},{"$f":"IF(AF15=0,0,(AF15*((LOG(AF15))/LOG(2))))","v":-0.52979355578034681},null,{"$f":"N15","v":2111},{"$f":"COUNTIF(L84:L109,AI15)","v":6},{"$f":"AJ15/(AL4-AJ20)","v":0.23076923076923078},{"$f":"IF(AK15=0,0,(AK15*((LOG(AK15))/LOG(2))))","v":-0.48818705017383146},null,{"$f":"N15","v":2111},{"$f":"COUNTIF(L110:L134,AN15)","v":5},{"$f":"AO15/(AQ4-AO20)","v":0.2},{"$f":"IF(AP15=0,0,(AP15*((LOG(AP15))/LOG(2))))","v":-0.46438561897747244},null,{"$f":"N15","v":2111},{"$f":"COUNTIF(L135:L160,AS15)","v":3},{"$f":"AT15/(AV4-AT20)","v":0.11538461538461539},{"$f":"IF(AU15=0,0,(AU15*((LOG(AU15))/LOG(2))))","v":-0.35947814047153104}]
[21,1597,21,1605,22,1613,23,1622,null,null,0,2222,null,2112,{"$f":"COUNTIF($L$7:$L$500,N16)","v":0},{"$f":"O16/$Q$4","v":0},{"$f":"IF(P16=0,0,(P16*((LOG(P16))/LOG(2))))","v":0},null,null,{"$f":"N16","v":2112},{"$f":"COUNTIF(L7:L32,T16)","v":0},{"$f":"U16/(W4-U20)","v":0},{"$f":"IF(V16=0,0,(V16*((LOG(V16))/LOG(2))))","v":0},null,{"$f":"N16","v":2112},{"$f":"COUNTIF(L33:L57,Y16)","v":0},{"$f":"Z16/(AB4-Z20)","v":0},{"$f":"IF(AA16=0,0,(AA16*((LOG(AA16))/LOG(2))))","v":0},null,{"$f":"N16","v":2112},{"$f":"COUNTIF(L58:L83,AD16)","v":0},{"$f":"AE16/(AG4-AE20)","v":0},{"$f":"IF(AF16=0,0,(AF16*((LOG(AF16))/LOG(2))))","v":0},null,{"$f":"N16","v":2112},{"$f":"COUNTIF(L84:L109,AI16)","v":0},{"$f":"AJ16/(AL4-AJ20)","v":0},{"$f":"IF(AK16=0,0,(AK16*((LOG(AK16))/LOG(2))))","v":0},null,{"$f":"N16","v":2112},{"$f":"COUNTIF(L110:L134,AN16)","v":0},{"$f":"AO16/(AQ4-AO20)","v":0},{"$f":"IF(AP16=0,0,(AP16*((LOG(AP16))/LOG(2))))","v":0},null,{"$f":"N16","v":2112},{"$f":"COUNTIF(L135:L160,AS16)","v":0},{"$f":"AT16/(AV4-AT20)","v":0},{"$f":"IF(AU16=0,0,(AU16*((LOG(AU16))/LOG(2))))","v":0}]
[21,1765,21,1771,11,1786,12,1791,null,null,0,2211,null,2121,{"$f":"COUNTIF($L$7:$L$500,N17)","v":0},{"$f":"O17/$Q$4","v":0},{"$f":"IF(P17=0,0,(P17*((LOG(P17))/LOG(2))))","v":0},null,null,{"$f":"N17","v":2121},{"$f":"COUNTIF(L7:L32,T17)","v":0},{"$f":"U17/(W4-U20)","v":0},{"$f":"IF(V17=0,0,(V17*((LOG(V17))/LOG(2))))","v":0},null,{"$f":"N17","v":2121},{"$f":"COUNTIF(L33:L57,Y17)","v":0},{"$f":"Z17/(AB4-Z20)","v":0},{"$f":"IF(AA17=0,0,(AA17*((LOG(AA17))/LOG(2))))","v":0},null,{"$f":"N17","v":2121},{"$f":"COUNTIF(L58:L83,AD17)","v":0},{"$f":"AE17/(AG4-AE20)","v":0},{"$f":"IF(AF17=0,0,(AF17*((LOG(AF17))/LOG(2))))","v":0},null,{"$f":"N17","v":2121},{"$f":"COUNTIF(L84:L109,AI17)","v":0},{"$f":"AJ17/(AL4-AJ20)","v":0},{"$f":"IF(AK17=0,0,(AK17*((LOG(AK17))/LOG(2))))","v":0},null,{"$f":"N17","v":2121},{"$f":"COUNTIF(L110:L134,AN17)","v":0},{"$f":"AO17/(AQ4-AO20)","v":0},{"$f":"IF(AP17=0,0,(AP17*((LOG(AP17))/LOG(2))))","v":0},null,{"$f":"N17","v":2121},{"$f":"COUNTIF(L135:L160,AS17)","v":0},{"$f":"AT17/(AV4-AT20)","v":0},{"$f":"IF(AU17=0,0,(AU17*((LOG(AU17))/LOG(2))))","v":0}]
[21,1925,12,1940,13,1944,14,1948,null,null,0,2111,null,2122,{"$f":"COUNTIF($L$7:$L$500,N18)","v":1},{"$f":"O18/$Q$4","v":6.4935064935064939E-3},{"$f":"IF(P18=0,0,(P18*((LOG(P18))/LOG(2))))","v":-4.7186925588927932E-2},null,null,{"$f":"N18","v":2122},{"$f":"COUNTIF(L7:L32,T18)","v":0},{"$f":"U18/(W4-U20)","v":0},{"$f":"IF(V18=0,0,(V18*((LOG(V18))/LOG(2))))","v":0},null,{"$f":"N18","v":2122},{"$f":"COUNTIF(L33:L57,Y18)","v":0},{"$f":"Z18/(AB4-Z20)","v":0},{"$f":"IF(AA18=0,0,(AA18*((LOG(AA18))/LOG(2))))","v":0},null,{"$f":"N18","v":2122},{"$f":"COUNTIF(L58:L83,AD18)","v":1},{"$f":"AE18/(AG4-AE20)","v":3.8461538461538464E-2},{"$f":"IF(AF18=0,0,(AF18*((LOG(AF18))/LOG(2))))","v":-0.18078614300542661},null,{"$f":"N18","v":2122},{"$f":"COUNTIF(L84:L109,AI18)","v":0},{"$f":"AJ18/(AL4-AJ20)","v":0},{"$f":"IF(AK18=0,0,(AK18*((LOG(AK18))/LOG(2))))","v":0},null,{"$f":"N18","v":2122},{"$f":"COUNTIF(L110:L134,AN18)","v":0},{"$f":"AO18/(AQ4-AO20)","v":0},{"$f":"IF(AP18=0,0,(AP18*((LOG(AP18))/LOG(2))))","v":0},null,{"$f":"N18","v":2122},{"$f":"COUNTIF(L135:L160,AS18)","v":0},{"$f":"AT18/(AV4-AT20)","v":0},{"$f":"IF(AU18=0,0,(AU18*((LOG(AU18))/LOG(2))))","v":0}]
[21,2060,21,2066,22,2073,23,2078,null,null,0,2222,null,2211,{"$f":"COUNTIF($L$7:$L$500,N19)","v":15},{"$f":"O19/$Q$4","v":9.7402597402597407E-2},{"$f":"IF(P19=0,0,(P19*((LOG(P19))/LOG(2))))","v":-0.32726259205386843},null,null,{"$f":"N19","v":2211},{"$f":"COUNTIF(L7:L32,T19)","v":2},{"$f":"U19/(W4-U20)","v":7.6923076923076927E-2},{"$f":"IF(V19=0,0,(V19*((LOG(V19))/LOG(2))))","v":-0.28464920908777636},null,{"$f":"N19","v":2211},{"$f":"COUNTIF(L33:L57,Y19)","v":1},{"$f":"Z19/(AB4-Z20)","v":0.04},{"$f":"IF(AA19=0,0,(AA19*((LOG(AA19))/LOG(2))))","v":-0.18575424759098899},null,{"$f":"N19","v":2211},{"$f":"COUNTIF(L58:L83,AD19)","v":2},{"$f":"AE19/(AG4-AE20)","v":7.6923076923076927E-2},{"$f":"IF(AF19=0,0,(AF19*((LOG(AF19))/LOG(2))))","v":-0.28464920908777636},null,{"$f":"N19","v":2211},{"$f":"COUNTIF(L84:L109,AI19)","v":4},{"$f":"AJ19/(AL4-AJ20)","v":0.15384615384615385},{"$f":"IF(AK19=0,0,(AK19*((LOG(AK19))/LOG(2))))","v":-0.4154522643293988},null,{"$f":"N19","v":2211},{"$f":"COUNTIF(L110:L134,AN19)","v":2},{"$f":"AO19/(AQ4-AO20)","v":0.08},{"$f":"IF(AP19=0,0,(AP19*((LOG(AP19))/LOG(2))))","v":-0.29150849518197797},null,{"$f":"N19","v":2211},{"$f":"COUNTIF(L135:L160,AS19)","v":4},{"$f":"AT19/(AV4-AT20)","v":0.15384615384615385},{"$f":"IF(AU19=0,0,(AU19*((LOG(AU19))/LOG(2))))","v":-0.4154522643293988}]
[12,2195,14,2203,13,2208,14,2230,null,null,0,1111,null,2212,{"$f":"COUNTIF($L$7:$L$500,N20)","v":0},{"$f":"O20/$Q$4","v":0},{"$f":"IF(P20=0,0,(P20*((LOG(P20))/LOG(2))))","v":0},null,null,{"$f":"N20","v":2212},{"$f":"COUNTIF(L7:L32,T20)","v":0},null,null,null,{"$f":"N20","v":2212},{"$f":"COUNTIF(L33:L57,Y20)","v":0},null,null,null,{"$f":"N20","v":2212},{"$f":"COUNTIF(L58:L83,AD20)","v":0},null,null,null,{"$f":"N20","v":2212},{"$f":"COUNTIF(L84:L109,AI20)","v":0},null,null,null,{"$f":"N20","v":2212},{"$f":"COUNTIF(L110:L134,AN20)","v":0},null,null,null,{"$f":"N20","v":2212},{"$f":"COUNTIF(L135:L160,AS20)","v":0}]
[21,2372,12,2381,13,2385,14,2389,null,null,0,2111,null,2221,{"$f":"COUNTIF($L$7:$L$500,N21)","v":3},{"$f":"O21/$Q$4","v":1.948051948051948E-2},{"$f":"IF(P21=0,0,(P21*((LOG(P21))/LOG(2))))","v":-0.11068488389559245},null,null,{"$f":"N21","v":2221},{"$f":"COUNTIF(L7:L32,T21)","v":2},{"$f":"U21/(W4-U20)","v":7.6923076923076927E-2},{"$f":"IF(V21=0,0,(V21*((LOG(V21))/LOG(2))))","v":-0.28464920908777636},null,{"$f":"N21","v":2221},{"$f":"COUNTIF(L33:L57,Y21)","v":0},{"$f":"Z21/(AB4-Z20)","v":0},{"$f":"IF(AA21=0,0,(AA21*((LOG(AA21))/LOG(2))))","v":0},null,{"$f":"N21","v":2221},{"$f":"COUNTIF(L58:L83,AD21)","v":0},{"$f":"AE21/(AG4-AE20)","v":0},{"$f":"IF(AF21=0,0,(AF21*((LOG(AF21))/LOG(2))))","v":0},null,{"$f":"N21","v":2221},{"$f":"COUNTIF(L84:L109,AI21)","v":0},{"$f":"AJ21/(AL4-AJ20)","v":0},{"$f":"IF(AK21=0,0,(AK21*((LOG(AK21))/LOG(2))))","v":0},null,{"$f":"N21","v":2221},{"$f":"COUNTIF(L110:L134,AN21)","v":1},{"$f":"AO21/(AQ4-AO20)","v":0.04},{"$f":"IF(AP21=0,0,(AP21*((LOG(AP21))/LOG(2))))","v":-0.18575424759098899},null,{"$f":"N21","v":2221},{"$f":"COUNTIF(L135:L160,AS21)","v":0},{"$f":"AT21/(AV4-AT20)","v":0},{"$f":"IF(AU21=0,0,(AU21*((LOG(AU21))/LOG(2))))","v":0}]
[21,2507,21,2515,11,2524,12,2531,null,null,0,2211,null,2222,{"$f":"COUNTIF($L$7:$L$500,N22)","v":57},{"$f":"O22/$Q$4","v":0.37012987012987014},{"$f":"IF(P22=0,0,(P22*((LOG(P22))/LOG(2))))","v":-0.53072793514427985},null,null,{"$f":"N22","v":2222},{"$f":"COUNTIF(L7:L32,T22)","v":5},{"$f":"U22/(W4-U20)","v":0.19230769230769232},{"$f":"IF(V22=0,0,(V22*((LOG(V22))/LOG(2))))","v":-0.45740608139494804},null,{"$f":"N22","v":2222},{"$f":"COUNTIF(L33:L57,Y22)","v":11},{"$f":"Z22/(AB4-Z20)","v":0.44},{"$f":"IF(AA22=0,0,(AA22*((LOG(AA22))/LOG(2))))","v":-0.52114681130046814},null,{"$f":"N22","v":2222},{"$f":"COUNTIF(L58:L83,AD22)","v":11},{"$f":"AE22/(AG4-AE20)","v":0.42307692307692307},{"$f":"IF(AF22=0,0,(AF22*((LOG(AF22))/LOG(2))))","v":-0.52504188825160547},null,{"$f":"N22","v":2222},{"$f":"COUNTIF(L84:L109,AI22)","v":11},{"$f":"AJ22/(AL4-AJ20)","v":0.42307692307692307},{"$f":"IF(AK22=0,0,(AK22*((LOG(AK22))/LOG(2))))","v":-0.52504188825160547},null,{"$f":"N22","v":2222},{"$f":"COUNTIF(L110:L134,AN22)","v":12},{"$f":"AO22/(AQ4-AO20)","v":0.48},{"$f":"IF(AP22=0,0,(AP22*((LOG(AP22))/LOG(2))))","v":-0.50826897074571287},null,{"$f":"N22","v":2222},{"$f":"COUNTIF(L135:L160,AS22)","v":7},{"$f":"AT22/(AV4-AT20)","v":0.26923076923076922},{"$f":"IF(AU22=0,0,(AU22*((LOG(AU22))/LOG(2))))","v":-0.50967667586863141}]
[21,2747,12,2759,13,2762,14,2769,null,null,0,2111,null,null,null,{"$f":"SUM(P7:P22)","v":1},{"$f":"-SUM(Q7:Q22)","v":2.2981476988275977},null,null,null,null,{"$f":"SUM(V7:V22)","v":1},{"$f":"-SUM(W7:W22)","v":2.0665779536136433},null,null,null,{"$f":"SUM(AA7:AA22)","v":1},{"$f":"-SUM(AB7:AB22)","v":1.7152558992251072},null,null,null,{"$f":"SUM(AF7:AF22)","v":1},{"$f":"-SUM(AG7:AG22)","v":1.8797489365966862},null,null,null,{"$f":"SUM(AK7:AK22)","v":1},{"$f":"-SUM(AL7:AL22)","v":2.1497316292372197},null,null,null,{"$f":"SUM(AP7:AP22)","v":1},{"$f":"-SUM(AQ7:AQ22)","v":2.1884930703645589},null,null,null,{"$f":"SUM(AU7:AU22)","v":1},{"$f":"-SUM(AV7:AV22)","v":2.1738787769214389}]
[21,2895,12,2903,13,2910,14,2915,null,null,0,2111,null,null,null,"U=",{"$f":"Q23/(LOG(Q4)/LOG(2))","v":0.31625364058207672},null,null,null,null,"U1=",{"$f":"W23/(LOG(W4)/LOG(2))","v":0.43965630399168781},null,null,null,"U2=",{"$f":"AB23/(LOG(AB4)/LOG(2))","v":0.36936025344667589},null,null,null,"U3=",{"$f":"AG23/(LOG(AG4)/LOG(2))","v":0.39990916793207609},null,null,null,"U4=",{"$f":"AL23/(LOG(AL4)/LOG(2))","v":0.45734692031906021},null,null,null,"U5=",{"$f":"AQ23/(LOG(AQ4)/LOG(2))","v":0.47126633145604002},null,null,null,"U6=",{"$f":"AV23/(LOG(AV4)/LOG(2))","v":0.46248413069344807}]
[21,3033,21,3038,22,3043,23,3052,null,null,0,2222]
[12,3219,14,3223,13,3227,14,3235,null,null,0,1111]
[12,3367,14,3370,13,3375,14,3381,null,null,0,1111,null,"Total Target Seq"]
[21,3510,21,3517,22,3522,14,3530,null,null,0,2221,null,{"$f":"COUNTIF(L7:L160,G3)","v":0},null,26,25,26,26,25,26]
[21,3690,12,3699,13,3703,14,3707,null,null,0,2111,null,null,null,"% of reinforcement given in 6 equal intervals based on number of trials "]
[21,3856,12,3873,13,3877,14,3886,null,null,0,2111,null,null,null,"%_1","%_2","%_3","%_4","%_5","%_6"]
[21,4039,21,4054,22,4059,23,4064,null,null,0,2222,null,null,"target sequence",{"$f":"$G$3","v":2212},{"$f":"$G$3","v":2212},{"$f":"$G$3","v":2212},{"$f":"$G$3","v":2212},{"$f":"$G$3","v":2212},{"$f":"$G$3","v":2212}]
[12,4202,14,4206,13,4215,14,4220,null,null,0,1111,null,null,"total reinforcement",{"$f":"U20","v":0},{"$f":"Z20","v":0},{"$f":"AE20","v":0},{"$f":"AJ20","v":0},{"$f":"AO20","v":0},{"$f":"AT20","v":0}]
[21,4392,21,4400,22,4404,23,4410,null,null,0,2222,null,null,"% target"]
[12,4553,14,4557,13,4569,14,4580,null,null,0,1111,null,null,"CCRF"]
[21,4735,21,4748,22,4757,23,4765,null,null,0,2222,null,null,"% CCRf"]
[21,4895,21,4903,22,4907,23,4915,null,null,0,2222,null,null,"average response rate",{"$f":"H32/P28","v":162.30769230769232},{"$f":"(H57-H32)/Q28","v":155.80000000000001},{"$f":"(H83-H57)/R28","v":154.5},{"$f":"(H109-H83)/S28","v":151.88461538461539},{"$f":"(H134-H109)/T28","v":151.24},{"$f":"(H160-H134)/U28","v":157.07692307692307}]
[21,5064,12,5081,13,5085,14,5091,null,null,0,2111]
[12,5206,14,5209,13,5218,14,5222,null,null,0,1111]
[21,5342,21,5344,22,5363,23,5370,null,null,0,2222]
[12,5513,14,5518,13,5522,14,5526,null,null,0,1111]
[21,5681,12,5699,13,5703,14,5707,null,null,0,2111]
[21,5826,12,5842,13,5849,14,5867,null,null,0,2111]
[21,5998,21,6013,22,6022,23,6026,null,null,0,2222]
[21,6144,12,6156,13,6160,14,6167,null,null,0,2111]
[12,6301,14,6309,13,6317,14,6322,null,null,0,1111]
[21,6452,21,6466,22,6473,23,6482,null,null,0,2222]
[12,6624,14,6631,13,6638,14,6644,null,null,0,1111]
[21,6748,21,6756,22,6761,23,6769,null,null,0,2222]
[21,6901,12,6928,13,6932,14,6940,null,null,0,2111]
[21,7052,21,7069,11,7089,12,7093,null,null,0,2211]
[21,7221,21,7225,22,7230,23,7235,null,null,0,2222]
[12,7364,14,7372,13,7376,14,7389,null,null,0,1111]
[21,7492,21,7522,22,7537,23,7545,null,null,0,2222]
[21,7667,21,7675,22,7680,23,7685,null,null,0,2222]
[21,7793,12,7811,13,7815,14,7819,null,null,0,2111]
[21,7937,21,7945,22,7950,23,7958,null,null,0,2222]
[12,8081,14,8085,13,8097,14,8115,null,null,0,1111]
[21,8241,21,8274,22,8281,23,8286,null,null,0,2222]
[12,8443,14,8448,13,8456,14,8461,null,null,0,1111]
[21,8579,21,8586,11,8599,12,8603,null,null,0,2211]
[21,8730,21,8735,22,8748,23,8752,null,null,0,2222]
[21,8866,21,8880,22,8887,23,8892,null,null,0,2222]
[21,9034,12,9057,13,9061,14,9072,null,null,0,2111]
[21,9189,21,9196,22,9205,23,9213,null,null,0,2222]
[12,9355,14,9359,13,9364,14,9372,null,null,0,1111]
[21,9486,12,9501,13,9506,14,9516,null,null,0,2111]
[21,9639,12,9648,13,9652,14,9656,null,null,0,2111]
[21,9780,21,9789,22,9794,23,9801,null,null,0,2222]
[21,9946,12,9956,13,9960,14,9964,null,null,0,2111]
[21,10139,21,10147,22,10158,23,10165,null,null,0,2222]
[21,10290,21,10291,11,10305,12,10312,null,null,0,2211]
[21,10436,12,10445,13,10449,14,10460,null,null,0,2111]
[21,10576,21,10581,22,10592,23,10601,null,null,0,2222]
[21,10750,12,10763,13,10771,14,10775,null,null,0,2111]
[21,10879,12,10892,13,10896,14,10903,null,null,0,2111]
[21,11048,12,11058,24,11072,23,11080,null,null,0,2122]
[21,11195,21,11202,22,11206,23,11211,null,null,0,2222]
[12,11347,14,11351,13,11356,14,11364,null,null,0,1111]
[21,11535,12,11544,13,11552,14,11556,null,null,0,2111]
[21,11681,12,11701,13,11706,14,11713,null,null,0,2111]
[21,11841,21,11858,22,11867,23,11872,null,null,0,2222]
[21,11984,21,11991,22,11995,23,11999,null,null,0,2222]
[21,12118,21,12120,22,12127,23,12132,null,null,0,2222]
[21,12265,21,12272,22,12276,23,12284,null,null,0,2222]
[21,12412,12,12429,13,12433,14,12441,null,null,0,2111]
[21,12561,21,12565,22,12569,23,12574,null,null,0,2222]
[21,12692,21,12696,22,12701,23,12706,null,null,0,2222]
[21,12825,21,12827,22,12855,23,12862,null,null,0,2222]
[21,12999,21,13004,22,13008,23,13012,null,null,0,2222]
[21,13143,21,13151,11,13161,12,13165,null,null,0,2211]
[21,13291,21,13297,11,13317,12,13321,null,null,0,2211]
[21,13440,21,13449,11,13464,12,13468,null,null,0,2211]
[21,13671,21,13683,22,13688,23,13692,null,null,0,2222]
[21,13819,21,13827,22,13831,23,13839,null,null,0,2222]
[12,13947,23,13963,24,13969,23,13977,null,null,0,1222]
[12,14087,14,14093,13,14097,14,14102,null,null,0,1111]
[21,14204,12,14215,13,14221,14,14226,null,null,0,2111]
[12,14365,14,14369,13,14374,14,14393,null,null,0,1111]
[12,14525,23,14539,13,14554,14,14558,null,null,0,1211]
[21,14670,21,14683,11,14698,12,14703,null,null,0,2211]
[21,14912,21,14921,22,14926,23,14932,null,null,0,2222]
[12,15068,14,15075,13,15080,14,15088,null,null,0,1111]
[21,15193,12,15205,13,15212,14,15217,null,null,0,2111]
[21,15336,12,15347,13,15357,14,15365,null,null,0,2111]
[21,15477,21,15493,22,15501,23,15505,null,null,0,2222]
[21,15627,21,15636,22,15640,23,15648,null,null,0,2222]
[21,15767,12,15776,13,15784,14,15793,null,null,0,2111]
[21,15910,12,15926,13,15930,14,15934,null,null,0,2111]
[21,16047,21,16065,22,16073,23,16081,null,null,0,2222]
[21,16203,21,16210,11,16224,12,16243,null,null,0,2211]
[21,16372,21,16380,11,16396,12,16400,null,null,0,2211]
[21,16518,12,16526,13,16531,14,16536,null,null,0,2111]
[21,16644,21,16660,22,16666,23,16671,null,null,0,2222]
[21,16782,12,16800,13,16807,14,16811,null,null,0,2111]
[21,16944,21,16952,22,16960,23,16971,null,null,0,2222]
[12,17077,23,17088,13,17102,14,17106,null,null,0,1211]
[21,17232,21,17246,22,17255,23,17260,null,null,0,2222]
[21,17394,12,17408,13,17412,14,17418,null,null,0,2111]
[21,17554,21,17564,22,17571,23,17581,null,null,0,2222]
[21,17696,21,17709,22,17716,23,17721,null,null,0,2222]
[12,17822,23,17846,13,17862,14,17870,null,null,0,1211]
[21,18029,21,18036,22,18044,23,18049,null,null,0,2222]
[12,18166,23,18175,24,18182,14,18191,null,null,0,1221]
[21,18319,21,18326,22,18330,23,18334,null,null,0,2222]
[21,18445,12,18464,13,18471,14,18476,null,null,0,2111]
[12,18579,23,18594,13,18604,14,18611,null,null,0,1211]
[21,18745,21,18752,22,18756,23,18761,null,null,0,2222]
[21,18892,12,18904,13,18909,14,18913,null,null,0,2111]
[21,19025,21,19033,22,19038,23,19042,null,null,0,2222]
[12,19174,14,19178,13,19182,14,19186,null,null,0,1111]
[21,19304,21,19314,22,19321,23,19327,null,null,0,2222]
[21,19520,21,19528,22,19536,23,19542,null,null,0,2222]
[21,19694,21,19698,22,19705,23,19710,null,null,0,2222]
[21,19821,21,19842,22,19850,14,19862,null,null,0,2221]
[12,19985,14,19992,13,19997,14,20008,null,null,0,1111]
[12,20144,14,20152,13,20163,14,20177,null,null,0,1111]
[12,20292,23,20306,24,20314,23,20321,null,null,0,1222]
[21,20471,21,20483,11,20500,12,20505,null,null,0,2211]
[21,20615,21,20637,22,20646,23,20653,null,null,0,2222]
[12,20798,14,20802,13,20806,14,20811,null,null,0,1111]
[21,20917,21,20919,22,20948,23,20953,null,null,0,2222]
[12,21052,14,21063,13,21071,14,21078,null,null,0,1111]
[12,21196,14,21206,13,21212,14,21229,null,null,0,1111]
[12,21369,14,21374,13,21379,14,21383,null,null,0,1111]
[21,21520,21,21533,22,21540,23,21547,null,null,0,2222]
[21,21690,21,21699,22,21717,23,21723,null,null,0,2222]
[21,21876,12,21887,13,21892,14,21898,null,null,0,2111]
[21,22064,21,22075,11,22093,12,22097,null,null,0,2211]
[12,22200,23,22227,24,22235,23,22243,null,null,0,1222]
[12,22350,23,22361,24,22368,23,22372,null,null,0,1222]
[12,22478,14,22529,13,22534,14,22551,null,null,0,1111]
[12,22696,14,22701,13,22716,14,22722,null,null,0,1111]
[21,22853,21,22867,22,22874,23,22879,null,null,0,2222]
[21,23005,21,23026,22,23035,23,23043,null,null,0,2222]
[21,23174,21,23183,22,23189,23,23197,null,null,0,2222]
[12,23318,14,23339,13,23347,14,23362,null,null,0,1111]
[21,23492,12,23511,13,23516,14,23520,null,null,0,2111]
[21,23627,12,23638,13,23646,14,23650,null,null,0,2111]
[21,23756,21,23778,11,23788,12,23794,null,null,0,2211]
[21,23913,21,23930,11,23941,12,23946,null,null,1,2211]

{"sheet":"!L815A40.053","index":21,"n_rows":167,"n_cols":48,"rows_kept":167,"cut":false,"hidden":false,"merged":[[4,39,4,42],[5,39,5,40],[4,44,4,47],[5,44,5,45],[4,24,4,27],[5,24,5,25],[4,29,4,32],[5,29,5,30],[4,34,4,37],[5,34,5,35],[1,1,1,2],[5,13,5,14],[26,13,26,14],[27,13,27,14],[4,19,4,22],[5,19,5,20]]}
["Report for:!L815A40.053"]
["Date:","<date>"]
["Hen:","<hen>",null,null,null,"Correct Sequence",{"$f":"Start!J2","v":2212},null,null,null,null,null,null,null,null,"Total Sequences in Data",{"$f":"4994-COUNTBLANK(L7:L5000)","v":161},null,null,null,null,"Total Sequences in Block Data",{"$f":"COUNTA(L7:L33)","v":27},null,null,null,"Total Sequences in Block Data",{"$f":"COUNTA(L34:L60)","v":27},null,null,null,"Total Sequences in Block Data",{"$f":"COUNTA(L61:L86)","v":26},null,null,null,"Total Sequences in Block Data",{"$f":"COUNTA(L87:L113)","v":27},null,null,null,"Total Sequences in Block Data",{"$f":"COUNTA(L114:L140)","v":27},null,null,null,"Total Sequences in Block Data",{"$f":"COUNTA(L141:L167)","v":27}]
[null,null,null,null,null,null,null,null,null,null,null,null,null,null,null,"Total Sequences in Summary",{"$f":"SUM(O7:O22)","v":161},null,null,null,null,"Total Sequences in Block Summary",{"$f":"SUM(U7:U22)","v":27},null,null,null,"Total Sequences in Block Summary",{"$f":"SUM(Z7:Z22)","v":27},null,null,null,"Total Sequences in Block Summary",{"$f":"SUM(AE7:AE22)","v":26},null,null,null,"Total Sequences in Block Summary",{"$f":"SUM(AJ7:AJ22)","v":27},null,null,null,"Total Sequences in Block Summary",{"$f":"SUM(AO7:AO22)","v":27},null,null,null,"Total Sequences in Block Summary",{"$f":"SUM(AT7:AT22)","v":27}]
[null,null,null,null,null,null,null,null,null,null,null,null,null,null,null,null,null,null,null,"Block 1",null,null,null,null,"Block 2",null,null,null,null,"Block 3",null,null,null,null,"Block 4",null,null,null,null,"Block 5",null,null,null,null,"Block 6"]
["Sequence\nComponent\n1","Time\n1","Sequence\nComponent\n2","Time\n2","Sequence\nComponent\n3","Time\n3","Sequence\nComponent\n4","Time\n4","Sequence\nComponent\n5","Time\n5","Correct?\n0=No 1=Yes","Sequence",null,"Frequency",null,"Relative Frequency","Variability",null,null,"Frequency",null,"Relative Frequency","Variability",null,"Frequency",null,"Relative Frequency","Variability",null,"Frequency",null,"Relative Frequency","Variability",null,"Frequency",null,"Relative Frequency","Variability",null,"Frequency",null,"Relative Frequency","Variability",null,"Frequency",null,"Relative Frequency","Variability"]
[12,25,14,29,13,34,14,39,null,null,0,1111,null,1111,{"$f":"COUNTIF($L$7:$L$500,N7)","v":34},{"$f":"O7/$Q$4","v":0.21118012422360249},{"$f":"IF(P7=0,0,(P7*((LOG(P7))/LOG(2))))","v":-0.47377290219494056},null,null,{"$f":"N7","v":1111},{"$f":"COUNTIF(L7:L33,T7)","v":11},{"$f":"U7/(W4-U20)","v":0.40740740740740738},{"$f":"IF(V7=0,0,(V7*((LOG(V7))/LOG(2))))","v":-0.52777832291806981},null,{"$f":"N7","v":1111},{"$f":"COUNTIF(L34:L60,Y7)","v":7},{"$f":"Z7/(AB4-Z20)","v":0.25925925925925924},{"$f":"IF(AA7=0,0,(AA7*((LOG(AA7))/LOG(2))))","v":-0.5049158541015204},null,{"$f":"N7","v":1111},{"$f":"COUNTIF(L61:L86,AD7)","v":3},{"$f":"AE7/(AG4-AE20)","v":0.11538461538461539},{"$f":"IF(AF7=0,0,(AF7*((LOG(AF7))/LOG(2))))","v":-0.35947814047153104},null,{"$f":"N7","v":1111},{"$f":"COUNTIF(L87:L113,AI7)","v":4},{"$f":"AJ7/(AL4-AJ20)","v":0.14814814814814814},{"$f":"IF(AK7=0,0,(AK7*((LOG(AK7))/LOG(2))))","v":-0.40813148180199532},null,{"$f":"N7","v":1111},{"$f":"COUNTIF(L114:L140,AN7)","v":5},{"$f":"AO7/(AQ4-AO20)","v":0.18518518518518517},{"$f":"IF(AP7=0,0,(AP7*((LOG(AP7))/LOG(2))))","v":-0.45054803838446406},null,{"$f":"N7","v":1111},{"$f":"COUNTIF(L141:L167,AS7)","v":4},{"$f":"AT7/(AV4-AT20)","v":0.14814814814814814},{"$f":"IF(AU7=0,0,(AU7*((LOG(AU7))/LOG(2))))","v":-0.40813148180199532}]
[21,189,21,197,22,205,23,212,null,null,0,2222,null,1112,{"$f":"COUNTIF($L$7:$L$500,N8)","v":0},{"$f":"O8/$Q$4","v":0},{"$f":"IF(P8=0,0,(P8*((LOG(P8))/LOG(2))))","v":0},null,null,{"$f":"N8","v":1112},{"$f":"COUNTIF(L7:L33,T8)","v":0},{"$f":"U8/(W4-U20)","v":0},{"$f":"IF(V8=0,0,(V8*((LOG(V8))/LOG(2))))","v":0},null,{"$f":"N8","v":1112},{"$f":"COUNTIF(L34:L60,Y8)","v":0},{"$f":"Z8/(AB4-Z20)","v":0},{"$f":"IF(AA8=0,0,(AA8*((LOG(AA8))/LOG(2))))","v":0},null,{"$f":"N8","v":1112},{"$f":"COUNTIF(L61:L86,AD8)","v":0},{"$f":"AE8/(AG4-AE20)","v":0},{"$f":"IF(AF8=0,0,(AF8*((LOG(AF8))/LOG(2))))","v":0},null,{"$f":"N8","v":1112},{"$f":"COUNTIF(L87:L113,AI8)","v":0},{"$f":"AJ8/(AL4-AJ20)","v":0},{"$f":"IF(AK8=0,0,(AK8*((LOG(AK8))/LOG(2))))","v":0},null,{"$f":"N8","v":1112},{"$f":"COUNTIF(L114:L140,AN8)","v":0},{"$f":"AO8/(AQ4-AO20)","v":0},{"$f":"IF(AP8=0,0,(AP8*((LOG(AP8))/LOG(2))))","v":0},null,{"$f":"N8","v":1112},{"$f":"COUNTIF(L141:L167,AS8)","v":0},{"$f":"AT8/(AV4-AT20)","v":0},{"$f":"IF(AU8=0,0,(AU8*((LOG(AU8))/LOG(2))))","v":0}]
[21,319,12,365,13,369,14,373,null,null,0,2111,null,1121,{"$f":"COUNTIF($L$7:$L$500,N9)","v":0},{"$f":"O9/$Q$4","v":0},{"$f":"IF(P9=0,0,(P9*((LOG(P9))/LOG(2))))","v":0},null,null,{"$f":"N9","v":1121},{"$f":"COUNTIF(L7:L33,T9)","v":0},{"$f":"U9/(W4-U20)","v":0},{"$f":"IF(V9=0,0,(V9*((LOG(V9))/LOG(2))))","v":0},null,{"$f":"N9","v":1121},{"$f":"COUNTIF(L34:L60,Y9)","v":0},{"$f":"Z9/(AB4-Z20)","v":0},{"$f":"IF(AA9=0,0,(AA9*((LOG(AA9))/LOG(2))))","v":0},null,{"$f":"N9","v":1121},{"$f":"COUNTIF(L61:L86,AD9)","v":0},{"$f":"AE9/(AG4-AE20)","v":0},{"$f":"IF(AF9=0,0,(AF9*((LOG(AF9))/LOG(2))))","v":0},null,{"$f":"N9","v":1121},{"$f":"COUNTIF(L87:L113,AI9)","v":0},{"$f":"AJ9/(AL4-AJ20)","v":0},{"$f":"IF(AK9=0,0,(AK9*((LOG(AK9))/LOG(2))))","v":0},null,{"$f":"N9","v":1121},{"$f":"COUNTIF(L114:L140,AN9)","v":0},{"$f":"AO9/(AQ4-AO20)","v":0},{"$f":"IF(AP9=0,0,(AP9*((LOG(AP9))/LOG(2))))","v":0},null,{"$f":"N9","v":1121},{"$f":"COUNTIF(L141:L167,AS9)","v":0},{"$f":"AT9/(AV4-AT20)","v":0},{"$f":"IF(AU9=0,0,(AU9*((LOG(AU9))/LOG(2))))","v":0}]
[21,518,21,525,22,534,23,541,null,null,0,2222,null,1122,{"$f":"COUNTIF($L$7:$L$500,N10)","v":1},{"$f":"O10/$Q$4","v":6.2111801242236021E-3},{"$f":"IF(P10=0,0,(P10*((LOG(P10))/LOG(2))))","v":-4.5533645205680845E-2},null,null,{"$f":"N10","v":1122},{"$f":"COUNTIF(L7:L33,T10)","v":0},{"$f":"U10/(W4-U20)","v":0},{"$f":"IF(V10=0,0,(V10*((LOG(V10))/LOG(2))))","v":0},null,{"$f":"N10","v":1122},{"$f":"COUNTIF(L34:L60,Y10)","v":0},{"$f":"Z10/(AB4-Z20)","v":0},{"$f":"IF(AA10=0,0,(AA10*((LOG(AA10))/LOG(2))))","v":0},null,{"$f":"N10","v":1122},{"$f":"COUNTIF(L61:L86,AD10)","v":1},{"$f":"AE10/(AG4-AE20)","v":3.8461538461538464E-2},{"$f":"IF(AF10=0,0,(AF10*((LOG(AF10))/LOG(2))))","v":-0.18078614300542661},null,{"$f":"N10","v":1122},{"$f":"COUNTIF(L87:L113,AI10)","v":0},{"$f":"AJ10/(AL4-AJ20)","v":0},{"$f":"IF(AK10=0,0,(AK10*((LOG(AK10))/LOG(2))))","v":0},null,{"$f":"N10","v":1122},{"$f":"COUNTIF(L114:L140,AN10)","v":0},{"$f":"AO10/(AQ4-AO20)","v":0},{"$f":"IF(AP10=0,0,(AP10*((LOG(AP10))/LOG(2))))","v":0},null,{"$f":"N10","v":1122},{"$f":"COUNTIF(L141:L167,AS10)","v":0},{"$f":"AT10/(AV4-AT20)","v":0},{"$f":"IF(AU10=0,0,(AU10*((LOG(AU10))/LOG(2))))","v":0}]
[12,699,14,703,13,707,14,718,null,null,0,1111,null,1211,{"$f":"COUNTIF($L$7:$L$500,N11)","v":2},{"$f":"O11/$Q$4","v":1.2422360248447204E-2},{"$f":"IF(P11=0,0,(P11*((LOG(P11))/LOG(2))))","v":-7.8644930162914489E-2},null,null,{"$f":"N11","v":1211},{"$f":"COUNTIF(L7:L33,T11)","v":0},{"$f":"U11/(W4-U20)","v":0},{"$f":"IF(V11=0,0,(V11*((LOG(V11))/LOG(2))))","v":0},null,{"$f":"N11","v":1211},{"$f":"COUNTIF(L34:L60,Y11)","v":0},{"$f":"Z11/(AB4-Z20)","v":0},{"$f":"IF(AA11=0,0,(AA11*((LOG(AA11))/LOG(2))))","v":0},null,{"$f":"N11","v":1211},{"$f":"COUNTIF(L61:L86,AD11)","v":0},{"$f":"AE11/(AG4-AE20)","v":0},{"$f":"IF(AF11=0,0,(AF11*((LOG(AF11))/LOG(2))))","v":0},null,{"$f":"N11","v":1211},{"$f":"COUNTIF(L87:L113,AI11)","v":1},{"$f":"AJ11/(AL4-AJ20)","v":3.7037037037037035E-2},{"$f":"IF(AK11=0,0,(AK11*((LOG(AK11))/LOG(2))))","v":-0.1761069445245729},null,{"$f":"N11","v":1211},{"$f":"COUNTIF(L114:L140,AN11)","v":0},{"$f":"AO11/(AQ4-AO20)","v":0},{"$f":"IF(AP11=0,0,(AP11*((LOG(AP11))/LOG(2))))","v":0},null,{"$f":"N11","v":1211},{"$f":"COUNTIF(L141:L167,AS11)","v":1},{"$f":"AT11/(AV4-AT20)","v":3.7037037037037035E-2},{"$f":"IF(AU11=0,0,(AU11*((LOG(AU11))/LOG(2))))","v":-0.1761069445245729}]
[21,826,21,835,22,850,23,859,null,null,0,2222,null,1212,{"$f":"COUNTIF($L$7:$L$500,N12)","v":0},{"$f":"O12/$Q$4","v":0},{"$f":"IF(P12=0,0,(P12*((LOG(P12))/LOG(2))))","v":0},null,null,{"$f":"N12","v":1212},{"$f":"COUNTIF(L7:L33,T12)","v":0},{"$f":"U12/(W4-U20)","v":0},{"$f":"IF(V12=0,0,(V12*((LOG(V12))/LOG(2))))","v":0},null,{"$f":"N12","v":1212},{"$f":"COUNTIF(L34:L60,Y12)","v":0},{"$f":"Z12/(AB4-Z20)","v":0},{"$f":"IF(AA12=0,0,(AA12*((LOG(AA12))/LOG(2))))","v":0},null,{"$f":"N12","v":1212},{"$f":"COUNTIF(L61:L86,AD12)","v":0},{"$f":"AE12/(AG4-AE20)","v":0},{"$f":"IF(AF12=0,0,(AF12*((LOG(AF12))/LOG(2))))","v":0},null,{"$f":"N12","v":1212},{"$f":"COUNTIF(L87:L113,AI12)","v":0},{"$f":"AJ12/(AL4-AJ20)","v":0},{"$f":"IF(AK12=0,0,(AK12*((LOG(AK12))/LOG(2))))","v":0},null,{"$f":"N12","v":1212},{"$f":"COUNTIF(L114:L140,AN12)","v":0},{"$f":"AO12/(AQ4-AO20)","v":0},{"$f":"IF(AP12=0,0,(AP12*((LOG(AP12))/LOG(2))))","v":0},null,{"$f":"N12","v":1212},{"$f":"COUNTIF(L141:L167,AS12)","v":0},{"$f":"AT12/(AV4-AT20)","v":0},{"$f":"IF(AU12=0,0,(AU12*((LOG(AU12))/LOG(2))))","v":0}]
[12,978,14,983,13,987,14,997,null,null,0,1111,null,1221,{"$f":"COUNTIF($L$7:$L$500,N13)","v":0},{"$f":"O13/$Q$4","v":0},{"$f":"IF(P13=0,0,(P13*((LOG(P13))/LOG(2))))","v":0},null,null,{"$f":"N13","v":1221},{"$f":"COUNTIF(L7:L33,T13)","v":0},{"$f":"U13/(W4-U20)","v":0},{"$f":"IF(V13=0,0,(V13*((LOG(V13))/LOG(2))))","v":0},null,{"$f":"N13","v":1221},{"$f":"COUNTIF(L34:L60,Y13)","v":0},{"$f":"Z13/(AB4-Z20)","v":0},{"$f":"IF(AA13=0,0,(AA13*((LOG(AA13))/LOG(2))))","v":0},null,{"$f":"N13","v":1221},{"$f":"COUNTIF(L61:L86,AD13)","v":0},{"$f":"AE13/(AG4-AE20)","v":0},{"$f":"IF(AF13=0,0,(AF13*((LOG(AF13))/LOG(2))))","v":0},null,{"$f":"N13","v":1221},{"$f":"COUNTIF(L87:L113,AI13)","v":0},{"$f":"AJ13/(AL4-AJ20)","v":0},{"$f":"IF(AK13=0,0,(AK13*((LOG(AK13))/LOG(2))))","v":0},null,{"$f":"N13","v":1221},{"$f":"COUNTIF(L114:L140,AN13)","v":0},{"$f":"AO13/(AQ4-AO20)","v":0},{"$f":"IF(AP13=0,0,(AP13*((LOG(AP13))/LOG(2))))","v":0},null,{"$f":"N13","v":1221},{"$f":"COUNTIF(L141:L167,AS13)","v":0},{"$f":"AT13/(AV4-AT20)","v":0},{"$f":"IF(AU13=0,0,(AU13*((LOG(AU13))/LOG(2))))","v":0}]
[21,1117,21,1124,22,1130,23,1136,null,null,0,2222,null,1222,{"$f":"COUNTIF($L$7:$L$500,N14)","v":4},{"$f":"O14/$Q$4","v":2.4844720496894408E-2},{"$f":"IF(P14=0,0,(P14*((LOG(P14))/LOG(2))))","v":-0.13244513982893458},null,null,{"$f":"N14","v":1222},{"$f":"COUNTIF(L7:L33,T14)","v":1},{"$f":"U14/(W4-U20)","v":3.7037037037037035E-2},{"$f":"IF(V14=0,0,(V14*((LOG(V14))/LOG(2))))","v":-0.1761069445245729},null,{"$f":"N14","v":1222},{"$f":"COUNTIF(L34:L60,Y14)","v":0},{"$f":"Z14/(AB4-Z20)","v":0},{"$f":"IF(AA14=0,0,(AA14*((LOG(AA14))/LOG(2))))","v":0},null,{"$f":"N14","v":1222},{"$f":"COUNTIF(L61:L86,AD14)","v":0},{"$f":"AE14/(AG4-AE20)","v":0},{"$f":"IF(AF14=0,0,(AF14*((LOG(AF14))/LOG(2))))","v":0},null,{"$f":"N14","v":1222},{"$f":"COUNTIF(L87:L113,AI14)","v":2},{"$f":"AJ14/(AL4-AJ20)","v":7.407407407407407E-2},{"$f":"IF(AK14=0,0,(AK14*((LOG(AK14))/LOG(2))))","v":-0.27813981497507173},null,{"$f":"N14","v":1222},{"$f":"COUNTIF(L114:L140,AN14)","v":1},{"$f":"AO14/(AQ4-AO20)","v":3.7037037037037035E-2},{"$f":"IF(AP14=0,0,(AP14*((LOG(AP14))/LOG(2))))","v":-0.1761069445245729},null,{"$f":"N14","v":1222},{"$f":"COUNTIF(L141:L167,AS14)","v":0},{"$f":"AT14/(AV4-AT20)","v":0},{"$f":"IF(AU14=0,0,(AU14*((LOG(AU14))/LOG(2))))","v":0}]
[21,1259,21,1268,22,1276,23,1282,null,null,0,2222,null,2111,{"$f":"COUNTIF($L$7:$L$500,N15)","v":25},{"$f":"O15/$Q$4","v":0.15527950310559005},{"$f":"IF(P15=0,0,(P15*((LOG(P15))/LOG(2))))","v":-0.41724544849998324},null,null,{"$f":"N15","v":2111},{"$f":"COUNTIF(L7:L33,T15)","v":5},{"$f":"U15/(W4-U20)","v":0.18518518518518517},{"$f":"IF(V15=0,0,(V15*((LOG(V15))/LOG(2))))","v":-0.45054803838446406},null,{"$f":"N15","v":2111},{"$f":"COUNTIF(L34:L60,Y15)","v":3},{"$f":"Z15/(AB4-Z20)","v":0.1111111111111111},{"$f":"IF(AA15=0,0,(AA15*((LOG(AA15))/LOG(2))))","v":-0.3522138890491458},null,{"$f":"N15","v":2111},{"$f":"COUNTIF(L61:L86,AD15)","v":6},{"$f":"AE15/(AG4-AE20)","v":0.23076923076923078},{"$f":"IF(AF15=0,0,(AF15*((LOG(AF15))/LOG(2))))","v":-0.48818705017383146},null,{"$f":"N15","v":2111},{"$f":"COUNTIF(L87:L113,AI15)","v":7},{"$f":"AJ15/(AL4-AJ20)","v":0.25925925925925924},{"$f":"IF(AK15=0,0,(AK15*((LOG(AK15))/LOG(2))))","v":-0.5049158541015204},null,{"$f":"N15","v":2111},{"$f":"COUNTIF(L114:L140,AN15)","v":2},{"$f":"AO15/(AQ4-AO20)","v":7.407407407407407E-2},{"$f":"IF(AP15=0,0,(AP15*((LOG(AP15))/LOG(2))))","v":-0.27813981497507173},null,{"$f":"N15","v":2111},{"$f":"COUNTIF(L141:L167,AS15)","v":2},{"$f":"AT15/(AV4-AT20)","v":7.407407407407407E-2},{"$f":"IF(AU15=0,0,(AU15*((LOG(AU15))/LOG(2))))","v":-0.27813981497507173}]
[12,1384,14,1401,13,1405,14,1413,null,null,0,1111,null,2112,{"$f":"COUNTIF($L$7:$L$500,N16)","v":0},{"$f":"O16/$Q$4","v":0},{"$f":"IF(P16=0,0,(P16*((LOG(P16))/LOG(2))))","v":0},null,null,{"$f":"N16","v":2112},{"$f":"COUNTIF(L7:L33,T16)","v":0},{"$f":"U16/(W4-U20)","v":0},{"$f":"IF(V16=0,0,(V16*((LOG(V16))/LOG(2))))","v":0},null,{"$f":"N16","v":2112},{"$f":"COUNTIF(L34:L60,Y16)","v":0},{"$f":"Z16/(AB4-Z20)","v":0},{"$f":"IF(AA16=0,0,(AA16*((LOG(AA16))/LOG(2))))","v":0},null,{"$f":"N16","v":2112},{"$f":"COUNTIF(L61:L86,AD16)","v":0},{"$f":"AE16/(AG4-AE20)","v":0},{"$f":"IF(AF16=0,0,(AF16*((LOG(AF16))/LOG(2))))","v":0},null,{"$f":"N16","v":2112},{"$f":"COUNTIF(L87:L113,AI16)","v":0},{"$f":"AJ16/(AL4-AJ20)","v":0},{"$f":"IF(AK16=0,0,(AK16*((LOG(AK16))/LOG(2))))","v":0},null,{"$f":"N16","v":2112},{"$f":"COUNTIF(L114:L140,AN16)","v":0},{"$f":"AO16/(AQ4-AO20)","v":0},{"$f":"IF(AP16=0,0,(AP16*((LOG(AP16))/LOG(2))))","v":0},null,{"$f":"N16","v":2112},{"$f":"COUNTIF(L141:L167,AS16)","v":0},{"$f":"AT16/(AV4-AT20)","v":0},{"$f":"IF(AU16=0,0,(AU16*((LOG(AU16))/LOG(2))))","v":0}]
[12,1534,14,1538,13,1543,14,1549,null,null,0,1111,null,2121,{"$f":"COUNTIF($L$7:$L$500,N17)","v":0},{"$f":"O17/$Q$4","v":0},{"$f":"IF(P17=0,0,(P17*((LOG(P17))/LOG(2))))","v":0},null,null,{"$f":"N17","v":2121},{"$f":"COUNTIF(L7:L33,T17)","v":0},{"$f":"U17/(W4-U20)","v":0},{"$f":"IF(V17=0,0,(V17*((LOG(V17))/LOG(2))))","v":0},null,{"$f":"N17","v":2121},{"$f":"COUNTIF(L34:L60,Y17)","v":0},{"$f":"Z17/(AB4-Z20)","v":0},{"$f":"IF(AA17=0,0,(AA17*((LOG(AA17))/LOG(2))))","v":0},null,{"$f":"N17","v":2121},{"$f":"COUNTIF(L61:L86,AD17)","v":0},{"$f":"AE17/(AG4-AE20)","v":0},{"$f":"IF(AF17=0,0,(AF17*((LOG(AF17))/LOG(2))))","v":0},null,{"$f":"N17","v":2121},{"$f":"COUNTIF(L87:L113,AI17)","v":0},{"$f":"AJ17/(AL4-AJ20)","v":0},{"$f":"IF(AK17=0,0,(AK17*((LOG(AK17))/LOG(2))))","v":0},null,{"$f":"N17","v":2121},{"$f":"COUNTIF(L114:L140,AN17)","v":0},{"$f":"AO17/(AQ4-AO20)","v":0},{"$f":"IF(AP17=0,0,(AP17*((LOG(AP17))/LOG(2))))","v":0},null,{"$f":"N17","v":2121},{"$f":"COUNTIF(L141:L167,AS17)","v":0},{"$f":"AT17/(AV4-AT20)","v":0},{"$f":"IF(AU17=0,0,(AU17*((LOG(AU17))/LOG(2))))","v":0}]
[12,1648,14,1664,13,1668,14,1672,null,null,0,1111,null,2122,{"$f":"COUNTIF($L$7:$L$500,N18)","v":0},{"$f":"O18/$Q$4","v":0},{"$f":"IF(P18=0,0,(P18*((LOG(P18))/LOG(2))))","v":0},null,null,{"$f":"N18","v":2122},{"$f":"COUNTIF(L7:L33,T18)","v":0},{"$f":"U18/(W4-U20)","v":0},{"$f":"IF(V18=0,0,(V18*((LOG(V18))/LOG(2))))","v":0},null,{"$f":"N18","v":2122},{"$f":"COUNTIF(L34:L60,Y18)","v":0},{"$f":"Z18/(AB4-Z20)","v":0},{"$f":"IF(AA18=0,0,(AA18*((LOG(AA18))/LOG(2))))","v":0},null,{"$f":"N18","v":2122},{"$f":"COUNTIF(L61:L86,AD18)","v":0},{"$f":"AE18/(AG4-AE20)","v":0},{"$f":"IF(AF18=0,0,(AF18*((LOG(AF18))/LOG(2))))","v":0},null,{"$f":"N18","v":2122},{"$f":"COUNTIF(L87:L113,AI18)","v":0},{"$f":"AJ18/(AL4-AJ20)","v":0},{"$f":"IF(AK18=0,0,(AK18*((LOG(AK18))/LOG(2))))","v":0},null,{"$f":"N18","v":2122},{"$f":"COUNTIF(L114:L140,AN18)","v":0},{"$f":"AO18/(AQ4-AO20)","v":0},{"$f":"IF(AP18=0,0,(AP18*((LOG(AP18))/LOG(2))))","v":0},null,{"$f":"N18","v":2122},{"$f":"COUNTIF(L141:L167,AS18)","v":0},{"$f":"AT18/(AV4-AT20)","v":0},{"$f":"IF(AU18=0,0,(AU18*((LOG(AU18))/LOG(2))))","v":0}]
[12,1801,14,1807,13,1814,14,1822,null,null,0,1111,null,2211,{"$f":"COUNTIF($L$7:$L$500,N19)","v":3},{"$f":"O19/$Q$4","v":1.8633540372670808E-2},{"$f":"IF(P19=0,0,(P19*((LOG(P19))/LOG(2))))","v":-0.1070674728706856},null,null,{"$f":"N19","v":2211},{"$f":"COUNTIF(L7:L33,T19)","v":0},{"$f":"U19/(W4-U20)","v":0},{"$f":"IF(V19=0,0,(V19*((LOG(V19))/LOG(2))))","v":0},null,{"$f":"N19","v":2211},{"$f":"COUNTIF(L34:L60,Y19)","v":0},{"$f":"Z19/(AB4-Z20)","v":0},{"$f":"IF(AA19=0,0,(AA19*((LOG(AA19))/LOG(2))))","v":0},null,{"$f":"N19","v":2211},{"$f":"COUNTIF(L61:L86,AD19)","v":2},{"$f":"AE19/(AG4-AE20)","v":7.6923076923076927E-2},{"$f":"IF(AF19=0,0,(AF19*((LOG(AF19))/LOG(2))))","v":-0.28464920908777636},null,{"$f":"N19","v":2211},{"$f":"COUNTIF(L87:L113,AI19)","v":0},{"$f":"AJ19/(AL4-AJ20)","v":0},{"$f":"IF(AK19=0,0,(AK19*((LOG(AK19))/LOG(2))))","v":0},null,{"$f":"N19","v":2211},{"$f":"COUNTIF(L114:L140,AN19)","v":0},{"$f":"AO19/(AQ4-AO20)","v":0},{"$f":"IF(AP19=0,0,(AP19*((LOG(AP19))/LOG(2))))","v":0},null,{"$f":"N19","v":2211},{"$f":"COUNTIF(L141:L167,AS19)","v":1},{"$f":"AT19/(AV4-AT20)","v":3.7037037037037035E-2},{"$f":"IF(AU19=0,0,(AU19*((LOG(AU19))/LOG(2))))","v":-0.1761069445245729}]
[21,1960,12,1973,13,1977,14,1982,null,null,0,2111,null,2212,{"$f":"COUNTIF($L$7:$L$500,N20)","v":0},{"$f":"O20/$Q$4","v":0},{"$f":"IF(P20=0,0,(P20*((LOG(P20))/LOG(2))))","v":0},null,null,{"$f":"N20","v":2212},{"$f":"COUNTIF(L7:L33,T20)","v":0},null,null,null,{"$f":"N20","v":2212},{"$f":"COUNTIF(L34:L60,Y20)","v":0},null,null,null,{"$f":"N20","v":2212},{"$f":"COUNTIF(L61:L86,AD20)","v":0},null,null,null,{"$f":"N20","v":2212},{"$f":"COUNTIF(L87:L113,AI20)","v":0},null,null,null,{"$f":"N20","v":2212},{"$f":"COUNTIF(L114:L140,AN20)","v":0},null,null,null,{"$f":"N20","v":2212},{"$f":"COUNTIF(L141:L167,AS20)","v":0}]
[21,2106,21,2113,22,2120,23,2130,null,null,0,2222,null,2221,{"$f":"COUNTIF($L$7:$L$500,N21)","v":0},{"$f":"O21/$Q$4","v":0},{"$f":"IF(P21=0,0,(P21*((LOG(P21))/LOG(2))))","v":0},null,null,{"$f":"N21","v":2221},{"$f":"COUNTIF(L7:L33,T21)","v":0},{"$f":"U21/(W4-U20)","v":0},{"$f":"IF(V21=0,0,(V21*((LOG(V21))/LOG(2))))","v":0},null,{"$f":"N21","v":2221},{"$f":"COUNTIF(L34:L60,Y21)","v":0},{"$f":"Z21/(AB4-Z20)","v":0},{"$f":"IF(AA21=0,0,(AA21*((LOG(AA21))/LOG(2))))","v":0},null,{"$f":"N21","v":2221},{"$f":"COUNTIF(L61:L86,AD21)","v":0},{"$f":"AE21/(AG4-AE20)","v":0},{"$f":"IF(AF21=0,0,(AF21*((LOG(AF21))/LOG(2))))","v":0},null,{"$f":"N21","v":2221},{"$f":"COUNTIF(L87:L113,AI21)","v":0},{"$f":"AJ21/(AL4-AJ20)","v":0},{"$f":"IF(AK21=0,0,(AK21*((LOG(AK21))/LOG(2))))","v":0},null,{"$f":"N21","v":2221},{"$f":"COUNTIF(L114:L140,AN21)","v":0},{"$f":"AO21/(AQ4-AO20)","v":0},{"$f":"IF(AP21=0,0,(AP21*((LOG(AP21))/LOG(2))))","v":0},null,{"$f":"N21","v":2221},{"$f":"COUNTIF(L141:L167,AS21)","v":0},{"$f":"AT21/(AV4-AT20)","v":0},{"$f":"IF(AU21=0,0,(AU21*((LOG(AU21))/LOG(2))))","v":0}]
[21,2278,12,2294,13,2298,14,2325,null,null,0,2111,null,2222,{"$f":"COUNTIF($L$7:$L$500,N22)","v":92},{"$f":"O22/$Q$4","v":0.5714285714285714},{"$f":"IF(P22=0,0,(P22*((LOG(P22))/LOG(2))))","v":-0.46134566974720237},null,null,{"$f":"N22","v":2222},{"$f":"COUNTIF(L7:L33,T22)","v":10},{"$f":"U22/(W4-U20)","v":0.37037037037037035},{"$f":"IF(V22=0,0,(V22*((LOG(V22))/LOG(2))))","v":-0.53072570639855787},null,{"$f":"N22","v":2222},{"$f":"COUNTIF(L34:L60,Y22)","v":17},{"$f":"Z22/(AB4-Z20)","v":0.62962962962962965},{"$f":"IF(AA22=0,0,(AA22*((LOG(AA22))/LOG(2))))","v":-0.42023034205641457},null,{"$f":"N22","v":2222},{"$f":"COUNTIF(L61:L86,AD22)","v":14},{"$f":"AE22/(AG4-AE20)","v":0.53846153846153844},{"$f":"IF(AF22=0,0,(AF22*((LOG(AF22))/LOG(2))))","v":-0.48089181327572433},null,{"$f":"N22","v":2222},{"$f":"COUNTIF(L87:L113,AI22)","v":13},{"$f":"AJ22/(AL4-AJ20)","v":0.48148148148148145},{"$f":"IF(AK22=0,0,(AK22*((LOG(AK22))/LOG(2))))","v":-0.50769708119595902},null,{"$f":"N22","v":2222},{"$f":"COUNTIF(L114:L140,AN22)","v":19},{"$f":"AO22/(AQ4-AO20)","v":0.70370370370370372},{"$f":"IF(AP22=0,0,(AP22*((LOG(AP22))/LOG(2))))","v":-0.35674962169176955},null,{"$f":"N22","v":2222},{"$f":"COUNTIF(L141:L167,AS22)","v":19},{"$f":"AT22/(AV4-AT20)","v":0.70370370370370372},{"$f":"IF(AU22=0,0,(AU22*((LOG(AU22))/LOG(2))))","v":-0.35674962169176955}]
[21,2478,12,2498,13,2502,14,2509,null,null,0,2111,null,null,null,{"$f":"SUM(P7:P22)","v":1},{"$f":"-SUM(Q7:Q22)","v":1.7160552085103418},null,null,null,null,{"$f":"SUM(V7:V22)","v":0.99999999999999989},{"$f":"-SUM(W7:W22)","v":1.6851590122256646},null,null,null,{"$f":"SUM(AA7:AA22)","v":1},{"$f":"-SUM(AB7:AB22)","v":1.2773600852070808},null,null,null,{"$f":"SUM(AF7:AF22)","v":1},{"$f":"-SUM(AG7:AG22)","v":1.7939923560142899},null,null,null,{"$f":"SUM(AK7:AK22)","v":1},{"$f":"-SUM(AL7:AL22)","v":1.8749911765991194},null,null,null,{"$f":"SUM(AP7:AP22)","v":1},{"$f":"-SUM(AQ7:AQ22)","v":1.2615444195758783},null,null,null,{"$f":"SUM(AU7:AU22)","v":1},{"$f":"-SUM(AV7:AV22)","v":1.3952348075179823}]
[21,2629,21,2638,22,2643,23,2651,null,null,0,2222,null,null,null,"U=",{"$f":"Q23/(LOG(Q4)/LOG(2))","v":0.23408466322041849},null,null,null,null,"U1=",{"$f":"W23/(LOG(W4)/LOG(2))","v":0.35440565343741975},null,null,null,"U2=",{"$f":"AB23/(LOG(AB4)/LOG(2))","v":0.26864149459390646},null,null,null,"U3=",{"$f":"AG23/(LOG(AG4)/LOG(2))","v":0.3816647938469403},null,null,null,"U4=",{"$f":"AL23/(LOG(AL4)/LOG(2))","v":0.39432924033344652},null,null,null,"U5=",{"$f":"AQ23/(LOG(AQ4)/LOG(2))","v":0.26531530325415209},null,null,null,"U6=",{"$f":"AV23/(LOG(AV4)/LOG(2))","v":0.29343171776054683}]
[12,2795,23,2818,24,2825,23,2832,null,null,0,1222]
[21,2951,21,2958,22,2963,23,2967,null,null,0,2222]
[12,3099,14,3103,13,3108,14,3121,null,null,0,1111,null,"Total Target Seq"]
[12,3229,14,3235,13,3239,14,3244,null,null,0,1111,null,{"$f":"COUNTIF(L7:L167,G3)","v":0},null,27,27,26,27,27,27]
[21,3371,21,3379,22,3384,23,3389,null,null,0,2222,null,null,null,"% of reinforcement given in 6 equal intervals based on number of trials "]
[21,3523,12,3537,13,3541,14,3546,null,null,0,2111,null,null,null,"%_1","%_2","%_3","%_4","%_5","%_6"]
[12,3661,14,3666,13,3670,14,3679,null,null,0,1111,null,null,"target sequence",{"$f":"$G$3","v":2212},{"$f":"$G$3","v":2212},{"$f":"$G$3","v":2212},{"$f":"$G$3","v":2212},{"$f":"$G$3","v":2212},{"$f":"$G$3","v":2212}]
[21,3816,21,3837,22,3844,23,3848,null,null,0,2222,null,null,"total reinforcement",{"$f":"U20","v":0},{"$f":"Z20","v":0},{"$f":"AE20","v":0},{"$f":"AJ20","v":0},{"$f":"AO20","v":0},{"$f":"AT20","v":0}]
[12,3964,14,3969,13,3973,14,3981,null,null,0,1111,null,null,"% target"]
[21,4111,21,4116,22,4120,23,4124,null,null,0,2222,null,null,"CCRF"]
[21,4268,21,4273,22,4279,23,4284,null,null,0,2222,null,null,"% CCRf"]
[21,4454,12,4467,13,4471,14,4476,null,null,0,2111,null,null,"average response rate",{"$f":"H33/P28","v":147.44444444444446},{"$f":"(H60-H33)/Q28","v":155.22222222222223},{"$f":"(H86-H60)/R28","v":150.46153846153845},{"$f":"(H113-H86)/S28","v":146.96296296296296},{"$f":"(H140-H113)/T28","v":147.22222222222223},{"$f":"(H167-H140)/U28","v":144.22222222222223}]
[21,4653,21,4662,22,4667,23,4674,null,null,0,2222]
[12,4803,14,4810,13,4822,14,4829,null,null,0,1111]
[21,4994,21,5002,22,5010,23,5015,null,null,0,2222]
[21,5170,21,5175,22,5179,23,5184,null,null,0,2222]
[12,5369,14,5372,13,5376,14,5384,null,null,0,1111]
[12,5503,14,5514,13,5521,14,5525,null,null,0,1111]
[21,5639,21,5656,22,5663,23,5668,null,null,0,2222]
[21,5791,21,5796,22,5801,23,5805,null,null,0,2222]
[21,5942,12,5954,13,5958,14,5962,null,null,0,2111]
[21,6079,12,6092,13,6096,14,6101,null,null,0,2111]
[21,6221,21,6228,22,6236,23,6243,null,null,0,2222]
[21,6366,21,6384,22,6390,23,6395,null,null,0,2222]
[12,6513,14,6520,13,6523,14,6528,null,null,0,1111]
[21,6658,21,6663,22,6667,23,6672,null,null,0,2222]
[21,6820,21,6825,22,6829,23,6834,null,null,0,2222]
[21,6991,21,6999,22,7007,23,7016,null,null,0,2222]
[12,7124,14,7128,13,7133,14,7137,null,null,0,1111]
[21,7274,21,7281,22,7285,23,7290,null,null,0,2222]
[21,7392,21,7393,22,7410,23,7416,null,null,0,2222]
[12,7557,14,7565,13,7569,14,7577,null,null,0,1111]
[21,7685,21,7703,22,7712,23,7721,null,null,0,2222]
[12,7858,14,7866,13,7870,14,7877,null,null,0,1111]
[21,8012,21,8016,22,8020,23,8024,null,null,0,2222]
[21,8159,21,8163,22,8167,23,8172,null,null,0,2222]
[21,8289,21,8294,22,8298,23,8302,null,null,0,2222]
[21,8414,21,8430,22,8435,23,8440,null,null,0,2222]
[21,8565,21,8569,22,8574,23,8578,null,null,0,2222]
[21,8682,21,8700,22,8705,23,8710,null,null,0,2222]
[12,8821,14,8825,24,8847,23,8851,null,null,0,1122]
[21,8964,12,8979,13,8982,14,8986,null,null,0,2111]
[12,9107,14,9112,13,9116,14,9120,null,null,0,1111]
[21,9234,12,9246,13,9250,14,9254,null,null,0,2111]
[21,9376,12,9394,13,9398,14,9404,null,null,0,2111]
[21,9517,21,9531,22,9540,23,9545,null,null,0,2222]
[21,9674,21,9676,11,9690,12,9706,null,null,0,2211]
[21,10014,21,10028,11,10044,12,10048,null,null,0,2211]
[21,10202,21,10206,22,10211,23,10217,null,null,0,2222]
[21,10348,21,10355,22,10360,23,10365,null,null,0,2222]
[12,10471,14,10487,13,10491,14,10495,null,null,0,1111]
[21,10620,12,10629,13,10636,14,10639,null,null,0,2111]
[21,10754,21,10766,22,10772,23,10776,null,null,0,2222]
[21,10889,12,10902,13,10910,14,10914,null,null,0,2111]
[21,11036,12,11047,13,11051,14,11056,null,null,0,2111]
[21,11175,21,11179,22,11183,23,11191,null,null,0,2222]
[21,11310,21,11317,22,11324,23,11330,null,null,0,2222]
[21,11451,21,11458,22,11465,23,11473,null,null,0,2222]
[21,11596,21,11605,22,11613,23,11619,null,null,0,2222]
[21,11753,21,11761,22,11771,23,11777,null,null,0,2222]
[12,11923,14,11927,13,11931,14,11938,null,null,0,1111]
[21,12066,21,12071,22,12075,23,12084,null,null,0,2222]
[21,12197,21,12206,22,12213,23,12219,null,null,0,2222]
[21,12354,12,12363,13,12367,14,12371,null,null,0,2111]
[12,12469,14,12486,13,12490,14,12495,null,null,0,1111]
[12,12603,23,12617,24,12623,23,12632,null,null,0,1222]
[21,12773,12,12790,13,12797,14,12801,null,null,0,2111]
[21,12931,21,12935,22,12944,23,12950,null,null,0,2222]
[21,13088,21,13096,22,13103,23,13109,null,null,0,2222]
[12,13214,23,13234,13,13250,14,13255,null,null,0,1211]
[12,13370,14,13378,13,13383,14,13388,null,null,0,1111]
[12,13521,14,13526,13,13531,14,13544,null,null,0,1111]
[21,13668,21,13673,22,13681,23,13689,null,null,0,2222]
[21,13803,21,13811,22,13820,23,13828,null,null,0,2222]
[21,13950,12,13969,13,13974,14,13981,null,null,0,2111]
[21,14105,21,14114,22,14118,23,14125,null,null,0,2222]
[12,14259,14,14267,13,14271,14,14275,null,null,0,1111]
[21,14390,12,14405,13,14409,14,14413,null,null,0,2111]
[21,14545,21,14550,22,14558,23,14566,null,null,0,2222]
[21,14677,21,14685,22,14689,23,14694,null,null,0,2222]
[21,14841,12,14858,13,14862,14,14873,null,null,0,2111]
[12,14974,23,14989,24,14995,23,15000,null,null,0,1222]
[21,15123,21,15131,22,15139,23,15144,null,null,0,2222]
[21,15258,21,15263,22,15271,23,15277,null,null,0,2222]
[21,15420,12,15433,13,15439,14,15444,null,null,0,2111]
[21,15602,12,15620,13,15624,14,15628,null,null,0,2111]
[21,15729,21,15733,22,15740,23,15744,null,null,0,2222]
[21,15852,21,15860,22,15864,23,15872,null,null,0,2222]
[21,16028,21,16036,22,16044,23,16052,null,null,0,2222]
[12,16177,14,16182,13,16187,14,16193,null,null,0,1111]
[21,16318,21,16322,22,16327,23,16335,null,null,0,2222]
[12,16464,14,16470,13,16474,14,16478,null,null,0,1111]
[12,16582,14,16593,13,16598,14,16603,null,null,0,1111]
[21,16718,21,16726,22,16730,23,16734,null,null,0,2222]
[21,16870,21,16874,22,16878,23,16882,null,null,0,2222]
[21,16983,21,16990,22,16997,23,17006,null,null,0,2222]
[12,17131,14,17137,13,17141,14,17145,null,null,0,1111]
[21,17282,21,17291,22,17297,23,17302,null,null,0,2222]
[21,17404,21,17424,22,17430,23,17436,null,null,0,2222]
[21,17557,21,17563,22,17570,23,17577,null,null,0,2222]
[21,17695,21,17700,22,17705,23,17712,null,null,0,2222]
[21,17835,21,17847,22,17851,23,17859,null,null,0,2222]
[21,17968,21,17972,22,17980,23,17984,null,null,0,2222]
[21,18102,21,18115,22,18120,23,18125,null,null,0,2222]
[12,18242,14,18246,13,18251,14,18259,null,null,0,1111]
[21,18365,21,18374,22,18378,23,18387,null,null,0,2222]
[21,18505,12,18524,13,18530,14,18541,null,null,0,2111]
[21,18679,21,18693,22,18701,23,18705,null,null,0,2222]
[21,18821,21,18841,22,18849,23,18857,null,null,0,2222]
[21,18968,21,18980,22,18985,23,18993,null,null,0,2222]
[21,19109,21,19118,22,19125,23,19132,null,null,0,2222]
[21,19325,21,19339,22,19347,23,19354,null,null,0,2222]
[21,19508,12,19527,13,19535,14,19540,null,null,0,2111]
[12,19645,23,19661,24,19666,23,19673,null,null,0,1222]
[21,19849,21,19854,22,19858,23,19865,null,null,0,2222]
[21,20008,21,20012,22,20019,23,20027,null,null,0,2222]
[21,20139,21,20146,11,20164,12,20169,null,null,0,2211]
[21,20302,21,20307,22,20311,23,20319,null,null,0,2222]
[21,20442,21,20446,22,20451,23,20455,null,null,0,2222]
[21,20580,21,20588,22,20592,23,20596,null,null,0,2222]
[21,20718,21,20726,22,20731,23,20735,null,null,0,2222]
[21,20859,21,20863,22,20867,23,20871,null,null,0,2222]
[21,21005,21,21012,22,21018,23,21026,null,null,0,2222]
[21,21166,21,21173,22,21178,23,21184,null,null,0,2222]
[12,21294,14,21302,13,21306,14,21314,null,null,0,1111]
[21,21420,21,21441,22,21449,23,21453,null,null,0,2222]
[21,21563,21,21574,22,21581,23,21588,null,null,0,2222]
[12,21699,14,21703,13,21708,14,21712,null,null,0,1111]
[21,21834,21,21842,22,21846,23,21854,null,null,0,2222]
[21,21976,12,21989,13,22001,14,22009,null,null,0,2111]
[21,22148,21,22154,22,22158,23,22166,null,null,0,2222]
[21,22289,21,22316,22,22325,23,22332,null,null,0,2222]
[12,22441,14,22447,13,22460,14,22467,null,null,0,1111]
[21,22580,21,22604,22,22613,23,22619,null,null,0,2222]
[21,22740,21,22748,22,22757,23,22763,null,null,0,2222]
[21,22876,12,22890,13,22897,14,22901,null,null,0,2111]
[12,23020,23,23033,13,23047,14,23052,null,null,0,1211]
[21,23173,21,23185,22,23192,23,23199,null,null,0,2222]
[12,23355,14,23359,13,23364,14,23368,null,null,0,1111]
[21,23474,21,23491,22,23495,23,23500,null,null,0,2222]
[21,23613,21,23629,22,23637,23,23643,null,null,0,2222]
[21,23770,21,23778,22,23783,23,23789,null,null,0,2222]
[21,23909,21,23913,22,23917,23,23921,null,null,1,2222]

{"sheet":"!L816910.053","index":22,"n_rows":169,"n_cols":48,"rows_kept":169,"cut":false,"hidden":false,"merged":[[4,39,4,42],[5,39,5,40],[4,44,4,47],[5,44,5,45],[4,24,4,27],[5,24,5,25],[4,29,4,32],[5,29,5,30],[4,34,4,37],[5,34,5,35],[1,1,1,2],[5,13,5,14],[26,13,26,14],[27,13,27,14],[4,19,4,22],[5,19,5,20]]}
["Report for:!L816910.053"]
["Date:","<date>"]
["Hen:","<hen>",null,null,null,"Correct Sequence",{"$f":"Start!J2","v":2212},null,null,null,null,null,null,null,null,"Total Sequences in Data",{"$f":"4994-COUNTBLANK(L7:L5000)","v":163},null,null,null,null,"Total Sequences in Block Data",{"$f":"COUNTA(L7:L33)","v":27},null,null,null,"Total Sequences in Block Data",{"$f":"COUNTA(L34:L60)","v":27},null,null,null,"Total Sequences in Block Data",{"$f":"COUNTA(L61:L88)","v":28},null,null,null,"Total Sequences in Block Data",{"$f":"COUNTA(L89:L115)","v":27},null,null,null,"Total Sequences in Block Data",{"$f":"COUNTA(L116:L142)","v":27},null,null,null,"Total Sequences in Block Data",{"$f":"COUNTA(L143:L169)","v":27}]
[null,null,null,null,null,null,null,null,null,null,null,null,null,null,null,"Total Sequences in Summary",{"$f":"SUM(O7:O22)","v":163},null,null,null,null,"Total Sequences in Block Summary",{"$f":"SUM(U7:U22)","v":27},null,null,null,"Total Sequences in Block Summary",{"$f":"SUM(Z7:Z22)","v":27},null,null,null,"Total Sequences in Block Summary",{"$f":"SUM(AE7:AE22)","v":28},null,null,null,"Total Sequences in Block Summary",{"$f":"SUM(AJ7:AJ22)","v":27},null,null,null,"Total Sequences in Block Summary",{"$f":"SUM(AO7:AO22)","v":27},null,null,null,"Total Sequences in Block Summary",{"$f":"SUM(AT7:AT22)","v":27}]
[null,null,null,null,null,null,null,null,null,null,null,null,null,null,null,null,null,null,null,"Block 1",null,null,null,null,"Block 2",null,null,null,null,"Block 3",null,null,null,null,"Block 4",null,null,null,null,"Block 5",null,null,null,null,"Block 6"]
["Sequence\nComponent\n1","Time\n1","Sequence\nComponent\n2","Time\n2","Sequence\nComponent\n3","Time\n3","Sequence\nComponent\n4","Time\n4","Sequence\nComponent\n5","Time\n5","Correct?\n0=No 1=Yes","Sequence",null,"Frequency",null,"Relative Frequency","Variability",null,null,"Frequency",null,"Relative Frequency","Variability",null,"Frequency",null,"Relative Frequency","Variability",null,"Frequency",null,"Relative Frequency","Variability",null,"Frequency",null,"Relative Frequency","Variability",null,"Frequency",null,"Relative Frequency","Variability",null,"Frequency",null,"Relative Frequency","Variability"]
[21,54,21,59,22,63,23,68,null,null,0,2222,null,1111,{"$f":"COUNTIF($L$7:$L$500,N7)","v":48},{"$f":"O7/$Q$4","v":0.29447852760736198},{"$f":"IF(P7=0,0,(P7*((LOG(P7))/LOG(2))))","v":-0.51939111269003824},null,null,{"$f":"N7","v":1111},{"$f":"COUNTIF(L7:L33,T7)","v":9},{"$f":"U7/(W4-U20)","v":0.33333333333333331},{"$f":"IF(V7=0,0,(V7*((LOG(V7))/LOG(2))))","v":-0.52832083357371862},null,{"$f":"N7","v":1111},{"$f":"COUNTIF(L34:L60,Y7)","v":5},{"$f":"Z7/(AB4-Z20)","v":0.18518518518518517},{"$f":"IF(AA7=0,0,(AA7*((LOG(AA7))/LOG(2))))","v":-0.45054803838446406},null,{"$f":"N7","v":1111},{"$f":"COUNTIF(L61:L88,AD7)","v":10},{"$f":"AE7/(AG4-AE20)","v":0.35714285714285715},{"$f":"IF(AF7=0,0,(AF7*((LOG(AF7))/LOG(2))))","v":-0.53050958113222924},null,{"$f":"N7","v":1111},{"$f":"COUNTIF(L89:L115,AI7)","v":7},{"$f":"AJ7/(AL4-AJ20)","v":0.25925925925925924},{"$f":"IF(AK7=0,0,(AK7*((LOG(AK7))/LOG(2))))","v":-0.5049158541015204},null,{"$f":"N7","v":1111},{"$f":"COUNTIF(L116:L142,AN7)","v":10},{"$f":"AO7/(AQ4-AO20)","v":0.37037037037037035},{"$f":"IF(AP7=0,0,(AP7*((LOG(AP7))/LOG(2))))","v":-0.53072570639855787},null,{"$f":"N7","v":1111},{"$f":"COUNTIF(L143:L169,AS7)","v":7},{"$f":"AT7/(AV4-AT20)","v":0.25925925925925924},{"$f":"IF(AU7=0,0,(AU7*((LOG(AU7))/LOG(2))))","v":-0.5049158541015204}]
[21,186,21,194,11,221,12,225,null,null,0,2211,null,1112,{"$f":"COUNTIF($L$7:$L$500,N8)","v":0},{"$f":"O8/$Q$4","v":0},{"$f":"IF(P8=0,0,(P8*((LOG(P8))/LOG(2))))","v":0},null,null,{"$f":"N8","v":1112},{"$f":"COUNTIF(L7:L33,T8)","v":0},{"$f":"U8/(W4-U20)","v":0},{"$f":"IF(V8=0,0,(V8*((LOG(V8))/LOG(2))))","v":0},null,{"$f":"N8","v":1112},{"$f":"COUNTIF(L34:L60,Y8)","v":0},{"$f":"Z8/(AB4-Z20)","v":0},{"$f":"IF(AA8=0,0,(AA8*((LOG(AA8))/LOG(2))))","v":0},null,{"$f":"N8","v":1112},{"$f":"COUNTIF(L61:L88,AD8)","v":0},{"$f":"AE8/(AG4-AE20)","v":0},{"$f":"IF(AF8=0,0,(AF8*((LOG(AF8))/LOG(2))))","v":0},null,{"$f":"N8","v":1112},{"$f":"COUNTIF(L89:L115,AI8)","v":0},{"$f":"AJ8/(AL4-AJ20)","v":0},{"$f":"IF(AK8=0,0,(AK8*((LOG(AK8))/LOG(2))))","v":0},null,{"$f":"N8","v":1112},{"$f":"COUNTIF(L116:L142,AN8)","v":0},{"$f":"AO8/(AQ4-AO20)","v":0},{"$f":"IF(AP8=0,0,(AP8*((LOG(AP8))/LOG(2))))","v":0},null,{"$f":"N8","v":1112},{"$f":"COUNTIF(L143:L169,AS8)","v":0},{"$f":"AT8/(AV4-AT20)","v":0},{"$f":"IF(AU8=0,0,(AU8*((LOG(AU8))/LOG(2))))","v":0}]
[21,360,21,370,22,375,23,380,null,null,0,2222,null,1121,{"$f":"COUNTIF($L$7:$L$500,N9)","v":0},{"$f":"O9/$Q$4","v":0},{"$f":"IF(P9=0,0,(P9*((LOG(P9))/LOG(2))))","v":0},null,null,{"$f":"N9","v":1121},{"$f":"COUNTIF(L7:L33,T9)","v":0},{"$f":"U9/(W4-U20)","v":0},{"$f":"IF(V9=0,0,(V9*((LOG(V9))/LOG(2))))","v":0},null,{"$f":"N9","v":1121},{"$f":"COUNTIF(L34:L60,Y9)","v":0},{"$f":"Z9/(AB4-Z20)","v":0},{"$f":"IF(AA9=0,0,(AA9*((LOG(AA9))/LOG(2))))","v":0},null,{"$f":"N9","v":1121},{"$f":"COUNTIF(L61:L88,AD9)","v":0},{"$f":"AE9/(AG4-AE20)","v":0},{"$f":"IF(AF9=0,0,(AF9*((LOG(AF9))/LOG(2))))","v":0},null,{"$f":"N9","v":1121},{"$f":"COUNTIF(L89:L115,AI9)","v":0},{"$f":"AJ9/(AL4-AJ20)","v":0},{"$f":"IF(AK9=0,0,(AK9*((LOG(AK9))/LOG(2))))","v":0},null,{"$f":"N9","v":1121},{"$f":"COUNTIF(L116:L142,AN9)","v":0},{"$f":"AO9/(AQ4-AO20)","v":0},{"$f":"IF(AP9=0,0,(AP9*((LOG(AP9))/LOG(2))))","v":0},null,{"$f":"N9","v":1121},{"$f":"COUNTIF(L143:L169,AS9)","v":0},{"$f":"AT9/(AV4-AT20)","v":0},{"$f":"IF(AU9=0,0,(AU9*((LOG(AU9))/LOG(2))))","v":0}]
[12,539,14,543,13,549,14,554,null,null,0,1111,null,1122,{"$f":"COUNTIF($L$7:$L$500,N10)","v":0},{"$f":"O10/$Q$4","v":0},{"$f":"IF(P10=0,0,(P10*((LOG(P10))/LOG(2))))","v":0},null,null,{"$f":"N10","v":1122},{"$f":"COUNTIF(L7:L33,T10)","v":0},{"$f":"U10/(W4-U20)","v":0},{"$f":"IF(V10=0,0,(V10*((LOG(V10))/LOG(2))))","v":0},null,{"$f":"N10","v":1122},{"$f":"COUNTIF(L34:L60,Y10)","v":0},{"$f":"Z10/(AB4-Z20)","v":0},{"$f":"IF(AA10=0,0,(AA10*((LOG(AA10))/LOG(2))))","v":0},null,{"$f":"N10","v":1122},{"$f":"COUNTIF(L61:L88,AD10)","v":0},{"$f":"AE10/(AG4-AE20)","v":0},{"$f":"IF(AF10=0,0,(AF10*((LOG(AF10))/LOG(2))))","v":0},null,{"$f":"N10","v":1122},{"$f":"COUNTIF(L89:L115,AI10)","v":0},{"$f":"AJ10/(AL4-AJ20)","v":0},{"$f":"IF(AK10=0,0,(AK10*((LOG(AK10))/LOG(2))))","v":0},null,{"$f":"N10","v":1122},{"$f":"COUNTIF(L116:L142,AN10)","v":0},{"$f":"AO10/(AQ4-AO20)","v":0},{"$f":"IF(AP10=0,0,(AP10*((LOG(AP10))/LOG(2))))","v":0},null,{"$f":"N10","v":1122},{"$f":"COUNTIF(L143:L169,AS10)","v":0},{"$f":"AT10/(AV4-AT20)","v":0},{"$f":"IF(AU10=0,0,(AU10*((LOG(AU10))/LOG(2))))","v":0}]
[21,688,21,697,22,704,23,709,null,null,0,2222,null,1211,{"$f":"COUNTIF($L$7:$L$500,N11)","v":0},{"$f":"O11/$Q$4","v":0},{"$f":"IF(P11=0,0,(P11*((LOG(P11))/LOG(2))))","v":0},null,null,{"$f":"N11","v":1211},{"$f":"COUNTIF(L7:L33,T11)","v":0},{"$f":"U11/(W4-U20)","v":0},{"$f":"IF(V11=0,0,(V11*((LOG(V11))/LOG(2))))","v":0},null,{"$f":"N11","v":1211},{"$f":"COUNTIF(L34:L60,Y11)","v":0},{"$f":"Z11/(AB4-Z20)","v":0},{"$f":"IF(AA11=0,0,(AA11*((LOG(AA11))/LOG(2))))","v":0},null,{"$f":"N11","v":1211},{"$f":"COUNTIF(L61:L88,AD11)","v":0},{"$f":"AE11/(AG4-AE20)","v":0},{"$f":"IF(AF11=0,0,(AF11*((LOG(AF11))/LOG(2))))","v":0},null,{"$f":"N11","v":1211},{"$f":"COUNTIF(L89:L115,AI11)","v":0},{"$f":"AJ11/(AL4-AJ20)","v":0},{"$f":"IF(AK11=0,0,(AK11*((LOG(AK11))/LOG(2))))","v":0},null,{"$f":"N11","v":1211},{"$f":"COUNTIF(L116:L142,AN11)","v":0},{"$f":"AO11/(AQ4-AO20)","v":0},{"$f":"IF(AP11=0,0,(AP11*((LOG(AP11))/LOG(2))))","v":0},null,{"$f":"N11","v":1211},{"$f":"COUNTIF(L143:L169,AS11)","v":0},{"$f":"AT11/(AV4-AT20)","v":0},{"$f":"IF(AU11=0,0,(AU11*((LOG(AU11))/LOG(2))))","v":0}]
[12,836,14,840,13,844,14,849,null,null,0,1111,null,1212,{"$f":"COUNTIF($L$7:$L$500,N12)","v":0},{"$f":"O12/$Q$4","v":0},{"$f":"IF(P12=0,0,(P12*((LOG(P12))/LOG(2))))","v":0},null,null,{"$f":"N12","v":1212},{"$f":"COUNTIF(L7:L33,T12)","v":0},{"$f":"U12/(W4-U20)","v":0},{"$f":"IF(V12=0,0,(V12*((LOG(V12))/LOG(2))))","v":0},null,{"$f":"N12","v":1212},{"$f":"COUNTIF(L34:L60,Y12)","v":0},{"$f":"Z12/(AB4-Z20)","v":0},{"$f":"IF(AA12=0,0,(AA12*((LOG(AA12))/LOG(2))))","v":0},null,{"$f":"N12","v":1212},{"$f":"COUNTIF(L61:L88,AD12)","v":0},{"$f":"AE12/(AG4-AE20)","v":0},{"$f":"IF(AF12=0,0,(AF12*((LOG(AF12))/LOG(2))))","v":0},null,{"$f":"N12","v":1212},{"$f":"COUNTIF(L89:L115,AI12)","v":0},{"$f":"AJ12/(AL4-AJ20)","v":0},{"$f":"IF(AK12=0,0,(AK12*((LOG(AK12))/LOG(2))))","v":0},null,{"$f":"N12","v":1212},{"$f":"COUNTIF(L116:L142,AN12)","v":0},{"$f":"AO12/(AQ4-AO20)","v":0},{"$f":"IF(AP12=0,0,(AP12*((LOG(AP12))/LOG(2))))","v":0},null,{"$f":"N12","v":1212},{"$f":"COUNTIF(L143:L169,AS12)","v":0},{"$f":"AT12/(AV4-AT20)","v":0},{"$f":"IF(AU12=0,0,(AU12*((LOG(AU12))/LOG(2))))","v":0}]
[21,981,21,990,22,994,23,1000,null,null,0,2222,null,1221,{"$f":"COUNTIF($L$7:$L$500,N13)","v":0},{"$f":"O13/$Q$4","v":0},{"$f":"IF(P13=0,0,(P13*((LOG(P13))/LOG(2))))","v":0},null,null,{"$f":"N13","v":1221},{"$f":"COUNTIF(L7:L33,T13)","v":0},{"$f":"U13/(W4-U20)","v":0},{"$f":"IF(V13=0,0,(V13*((LOG(V13))/LOG(2))))","v":0},null,{"$f":"N13","v":1221},{"$f":"COUNTIF(L34:L60,Y13)","v":0},{"$f":"Z13/(AB4-Z20)","v":0},{"$f":"IF(AA13=0,0,(AA13*((LOG(AA13))/LOG(2))))","v":0},null,{"$f":"N13","v":1221},{"$f":"COUNTIF(L61:L88,AD13)","v":0},{"$f":"AE13/(AG4-AE20)","v":0},{"$f":"IF(AF13=0,0,(AF13*((LOG(AF13))/LOG(2))))","v":0},null,{"$f":"N13","v":1221},{"$f":"COUNTIF(L89:L115,AI13)","v":0},{"$f":"AJ13/(AL4-AJ20)","v":0},{"$f":"IF(AK13=0,0,(AK13*((LOG(AK13))/LOG(2))))","v":0},null,{"$f":"N13","v":1221},{"$f":"COUNTIF(L116:L142,AN13)","v":0},{"$f":"AO13/(AQ4-AO20)","v":0},{"$f":"IF(AP13=0,0,(AP13*((LOG(AP13))/LOG(2))))","v":0},null,{"$f":"N13","v":1221},{"$f":"COUNTIF(L143:L169,AS13)","v":0},{"$f":"AT13/(AV4-AT20)","v":0},{"$f":"IF(AU13=0,0,(AU13*((LOG(AU13))/LOG(2))))","v":0}]
[21,1122,21,1148,22,1155,23,1167,null,null,0,2222,null,1222,{"$f":"COUNTIF($L$7:$L$500,N14)","v":3},{"$f":"O14/$Q$4","v":1.8404907975460124E-2},{"$f":"IF(P14=0,0,(P14*((LOG(P14))/LOG(2))))","v":-0.10608157644496788},null,null,{"$f":"N14","v":1222},{"$f":"COUNTIF(L7:L33,T14)","v":0},{"$f":"U14/(W4-U20)","v":0},{"$f":"IF(V14=0,0,(V14*((LOG(V14))/LOG(2))))","v":0},null,{"$f":"N14","v":1222},{"$f":"COUNTIF(L34:L60,Y14)","v":0},{"$f":"Z14/(AB4-Z20)","v":0},{"$f":"IF(AA14=0,0,(AA14*((LOG(AA14))/LOG(2))))","v":0},null,{"$f":"N14","v":1222},{"$f":"COUNTIF(L61:L88,AD14)","v":0},{"$f":"AE14/(AG4-AE20)","v":0},{"$f":"IF(AF14=0,0,(AF14*((LOG(AF14))/LOG(2))))","v":0},null,{"$f":"N14","v":1222},{"$f":"COUNTIF(L89:L115,AI14)","v":1},{"$f":"AJ14/(AL4-AJ20)","v":3.7037037037037035E-2},{"$f":"IF(AK14=0,0,(AK14*((LOG(AK14))/LOG(2))))","v":-0.1761069445245729},null,{"$f":"N14","v":1222},{"$f":"COUNTIF(L116:L142,AN14)","v":0},{"$f":"AO14/(AQ4-AO20)","v":0},{"$f":"IF(AP14=0,0,(AP14*((LOG(AP14))/LOG(2))))","v":0},null,{"$f":"N14","v":1222},{"$f":"COUNTIF(L143:L169,AS14)","v":2},{"$f":"AT14/(AV4-AT20)","v":7.407407407407407E-2},{"$f":"IF(AU14=0,0,(AU14*((LOG(AU14))/LOG(2))))","v":-0.27813981497507173}]
[12,1315,14,1332,13,1336,14,1344,null,null,0,1111,null,2111,{"$f":"COUNTIF($L$7:$L$500,N15)","v":30},{"$f":"O15/$Q$4","v":0.18404907975460122},{"$f":"IF(P15=0,0,(P15*((LOG(P15))/LOG(2))))","v":-0.4494179555747041},null,null,{"$f":"N15","v":2111},{"$f":"COUNTIF(L7:L33,T15)","v":1},{"$f":"U15/(W4-U20)","v":3.7037037037037035E-2},{"$f":"IF(V15=0,0,(V15*((LOG(V15))/LOG(2))))","v":-0.1761069445245729},null,{"$f":"N15","v":2111},{"$f":"COUNTIF(L34:L60,Y15)","v":7},{"$f":"Z15/(AB4-Z20)","v":0.25925925925925924},{"$f":"IF(AA15=0,0,(AA15*((LOG(AA15))/LOG(2))))","v":-0.5049158541015204},null,{"$f":"N15","v":2111},{"$f":"COUNTIF(L61:L88,AD15)","v":4},{"$f":"AE15/(AG4-AE20)","v":0.14285714285714285},{"$f":"IF(AF15=0,0,(AF15*((LOG(AF15))/LOG(2))))","v":-0.40105070315108626},null,{"$f":"N15","v":2111},{"$f":"COUNTIF(L89:L115,AI15)","v":11},{"$f":"AJ15/(AL4-AJ20)","v":0.40740740740740738},{"$f":"IF(AK15=0,0,(AK15*((LOG(AK15))/LOG(2))))","v":-0.52777832291806981},null,{"$f":"N15","v":2111},{"$f":"COUNTIF(L116:L142,AN15)","v":2},{"$f":"AO15/(AQ4-AO20)","v":7.407407407407407E-2},{"$f":"IF(AP15=0,0,(AP15*((LOG(AP15))/LOG(2))))","v":-0.27813981497507173},null,{"$f":"N15","v":2111},{"$f":"COUNTIF(L143:L169,AS15)","v":5},{"$f":"AT15/(AV4-AT20)","v":0.18518518518518517},{"$f":"IF(AU15=0,0,(AU15*((LOG(AU15))/LOG(2))))","v":-0.45054803838446406}]
[12,1467,14,1470,13,1474,14,1479,null,null,0,1111,null,2112,{"$f":"COUNTIF($L$7:$L$500,N16)","v":0},{"$f":"O16/$Q$4","v":0},{"$f":"IF(P16=0,0,(P16*((LOG(P16))/LOG(2))))","v":0},null,null,{"$f":"N16","v":2112},{"$f":"COUNTIF(L7:L33,T16)","v":0},{"$f":"U16/(W4-U20)","v":0},{"$f":"IF(V16=0,0,(V16*((LOG(V16))/LOG(2))))","v":0},null,{"$f":"N16","v":2112},{"$f":"COUNTIF(L34:L60,Y16)","v":0},{"$f":"Z16/(AB4-Z20)","v":0},{"$f":"IF(AA16=0,0,(AA16*((LOG(AA16))/LOG(2))))","v":0},null,{"$f":"N16","v":2112},{"$f":"COUNTIF(L61:L88,AD16)","v":0},{"$f":"AE16/(AG4-AE20)","v":0},{"$f":"IF(AF16=0,0,(AF16*((LOG(AF16))/LOG(2))))","v":0},null,{"$f":"N16","v":2112},{"$f":"COUNTIF(L89:L115,AI16)","v":0},{"$f":"AJ16/(AL4-AJ20)","v":0},{"$f":"IF(AK16=0,0,(AK16*((LOG(AK16))/LOG(2))))","v":0},null,{"$f":"N16","v":2112},{"$f":"COUNTIF(L116:L142,AN16)","v":0},{"$f":"AO16/(AQ4-AO20)","v":0},{"$f":"IF(AP16=0,0,(AP16*((LOG(AP16))/LOG(2))))","v":0},null,{"$f":"N16","v":2112},{"$f":"COUNTIF(L143:L169,AS16)","v":0},{"$f":"AT16/(AV4-AT20)","v":0},{"$f":"IF(AU16=0,0,(AU16*((LOG(AU16))/LOG(2))))","v":0}]
[12,1607,14,1611,13,1616,14,1623,null,null,0,1111,null,2121,{"$f":"COUNTIF($L$7:$L$500,N17)","v":0},{"$f":"O17/$Q$4","v":0},{"$f":"IF(P17=0,0,(P17*((LOG(P17))/LOG(2))))","v":0},null,null,{"$f":"N17","v":2121},{"$f":"COUNTIF(L7:L33,T17)","v":0},{"$f":"U17/(W4-U20)","v":0},{"$f":"IF(V17=0,0,(V17*((LOG(V17))/LOG(2))))","v":0},null,{"$f":"N17","v":2121},{"$f":"COUNTIF(L34:L60,Y17)","v":0},{"$f":"Z17/(AB4-Z20)","v":0},{"$f":"IF(AA17=0,0,(AA17*((LOG(AA17))/LOG(2))))","v":0},null,{"$f":"N17","v":2121},{"$f":"COUNTIF(L61:L88,AD17)","v":0},{"$f":"AE17/(AG4-AE20)","v":0},{"$f":"IF(AF17=0,0,(AF17*((LOG(AF17))/LOG(2))))","v":0},null,{"$f":"N17","v":2121},{"$f":"COUNTIF(L89:L115,AI17)","v":0},{"$f":"AJ17/(AL4-AJ20)","v":0},{"$f":"IF(AK17=0,0,(AK17*((LOG(AK17))/LOG(2))))","v":0},null,{"$f":"N17","v":2121},{"$f":"COUNTIF(L116:L142,AN17)","v":0},{"$f":"AO17/(AQ4-AO20)","v":0},{"$f":"IF(AP17=0,0,(AP17*((LOG(AP17))/LOG(2))))","v":0},null,{"$f":"N17","v":2121},{"$f":"COUNTIF(L143:L169,AS17)","v":0},{"$f":"AT17/(AV4-AT20)","v":0},{"$f":"IF(AU17=0,0,(AU17*((LOG(AU17))/LOG(2))))","v":0}]
[12,1744,14,1748,13,1752,14,1756,null,null,0,1111,null,2122,{"$f":"COUNTIF($L$7:$L$500,N18)","v":0},{"$f":"O18/$Q$4","v":0},{"$f":"IF(P18=0,0,(P18*((LOG(P18))/LOG(2))))","v":0},null,null,{"$f":"N18","v":2122},{"$f":"COUNTIF(L7:L33,T18)","v":0},{"$f":"U18/(W4-U20)","v":0},{"$f":"IF(V18=0,0,(V18*((LOG(V18))/LOG(2))))","v":0},null,{"$f":"N18","v":2122},{"$f":"COUNTIF(L34:L60,Y18)","v":0},{"$f":"Z18/(AB4-Z20)","v":0},{"$f":"IF(AA18=0,0,(AA18*((LOG(AA18))/LOG(2))))","v":0},null,{"$f":"N18","v":2122},{"$f":"COUNTIF(L61:L88,AD18)","v":0},{"$f":"AE18/(AG4-AE20)","v":0},{"$f":"IF(AF18=0,0,(AF18*((LOG(AF18))/LOG(2))))","v":0},null,{"$f":"N18","v":2122},{"$f":"COUNTIF(L89:L115,AI18)","v":0},{"$f":"AJ18/(AL4-AJ20)","v":0},{"$f":"IF(AK18=0,0,(AK18*((LOG(AK18))/LOG(2))))","v":0},null,{"$f":"N18","v":2122},{"$f":"COUNTIF(L116:L142,AN18)","v":0},{"$f":"AO18/(AQ4-AO20)","v":0},{"$f":"IF(AP18=0,0,(AP18*((LOG(AP18))/LOG(2))))","v":0},null,{"$f":"N18","v":2122},{"$f":"COUNTIF(L143:L169,AS18)","v":0},{"$f":"AT18/(AV4-AT20)","v":0},{"$f":"IF(AU18=0,0,(AU18*((LOG(AU18))/LOG(2))))","v":0}]
[21,1880,21,1887,22,1894,23,1900,null,null,0,2222,null,2211,{"$f":"COUNTIF($L$7:$L$500,N19)","v":5},{"$f":"O19/$Q$4","v":3.0674846625766871E-2},{"$f":"IF(P19=0,0,(P19*((LOG(P19))/LOG(2))))","v":-0.15419632083876425},null,null,{"$f":"N19","v":2211},{"$f":"COUNTIF(L7:L33,T19)","v":1},{"$f":"U19/(W4-U20)","v":3.7037037037037035E-2},{"$f":"IF(V19=0,0,(V19*((LOG(V19))/LOG(2))))","v":-0.1761069445245729},null,{"$f":"N19","v":2211},{"$f":"COUNTIF(L34:L60,Y19)","v":1},{"$f":"Z19/(AB4-Z20)","v":3.7037037037037035E-2},{"$f":"IF(AA19=0,0,(AA19*((LOG(AA19))/LOG(2))))","v":-0.1761069445245729},null,{"$f":"N19","v":2211},{"$f":"COUNTIF(L61:L88,AD19)","v":1},{"$f":"AE19/(AG4-AE20)","v":3.5714285714285712E-2},{"$f":"IF(AF19=0,0,(AF19*((LOG(AF19))/LOG(2))))","v":-0.17169124721634299},null,{"$f":"N19","v":2211},{"$f":"COUNTIF(L89:L115,AI19)","v":1},{"$f":"AJ19/(AL4-AJ20)","v":3.7037037037037035E-2},{"$f":"IF(AK19=0,0,(AK19*((LOG(AK19))/LOG(2))))","v":-0.1761069445245729},null,{"$f":"N19","v":2211},{"$f":"COUNTIF(L116:L142,AN19)","v":1},{"$f":"AO19/(AQ4-AO20)","v":3.7037037037037035E-2},{"$f":"IF(AP19=0,0,(AP19*((LOG(AP19))/LOG(2))))","v":-0.1761069445245729},null,{"$f":"N19","v":2211},{"$f":"COUNTIF(L143:L169,AS19)","v":0},{"$f":"AT19/(AV4-AT20)","v":0},{"$f":"IF(AU19=0,0,(AU19*((LOG(AU19))/LOG(2))))","v":0}]
[12,2075,14,2079,13,2084,14,2104,null,null,0,1111,null,2212,{"$f":"COUNTIF($L$7:$L$500,N20)","v":0},{"$f":"O20/$Q$4","v":0},{"$f":"IF(P20=0,0,(P20*((LOG(P20))/LOG(2))))","v":0},null,null,{"$f":"N20","v":2212},{"$f":"COUNTIF(L7:L33,T20)","v":0},null,null,null,{"$f":"N20","v":2212},{"$f":"COUNTIF(L34:L60,Y20)","v":0},null,null,null,{"$f":"N20","v":2212},{"$f":"COUNTIF(L61:L88,AD20)","v":0},null,null,null,{"$f":"N20","v":2212},{"$f":"COUNTIF(L89:L115,AI20)","v":0},null,null,null,{"$f":"N20","v":2212},{"$f":"COUNTIF(L116:L142,AN20)","v":0},null,null,null,{"$f":"N20","v":2212},{"$f":"COUNTIF(L143:L169,AS20)","v":0}]
[21,2263,21,2271,22,2277,23,2284,null,null,0,2222,null,2221,{"$f":"COUNTIF($L$7:$L$500,N21)","v":0},{"$f":"O21/$Q$4","v":0},{"$f":"IF(P21=0,0,(P21*((LOG(P21))/LOG(2))))","v":0},null,null,{"$f":"N21","v":2221},{"$f":"COUNTIF(L7:L33,T21)","v":0},{"$f":"U21/(W4-U20)","v":0},{"$f":"IF(V21=0,0,(V21*((LOG(V21))/LOG(2))))","v":0},null,{"$f":"N21","v":2221},{"$f":"COUNTIF(L34:L60,Y21)","v":0},{"$f":"Z21/(AB4-Z20)","v":0},{"$f":"IF(AA21=0,0,(AA21*((LOG(AA21))/LOG(2))))","v":0},null,{"$f":"N21","v":2221},{"$f":"COUNTIF(L61:L88,AD21)","v":0},{"$f":"AE21/(AG4-AE20)","v":0},{"$f":"IF(AF21=0,0,(AF21*((LOG(AF21))/LOG(2))))","v":0},null,{"$f":"N21","v":2221},{"$f":"COUNTIF(L89:L115,AI21)","v":0},{"$f":"AJ21/(AL4-AJ20)","v":0},{"$f":"IF(AK21=0,0,(AK21*((LOG(AK21))/LOG(2))))","v":0},null,{"$f":"N21","v":2221},{"$f":"COUNTIF(L116:L142,AN21)","v":0},{"$f":"AO21/(AQ4-AO20)","v":0},{"$f":"IF(AP21=0,0,(AP21*((LOG(AP21))/LOG(2))))","v":0},null,{"$f":"N21","v":2221},{"$f":"COUNTIF(L143:L169,AS21)","v":0},{"$f":"AT21/(AV4-AT20)","v":0},{"$f":"IF(AU21=0,0,(AU21*((LOG(AU21))/LOG(2))))","v":0}]
[21,2416,21,2423,22,2428,23,2437,null,null,0,2222,null,2222,{"$f":"COUNTIF($L$7:$L$500,N22)","v":77},{"$f":"O22/$Q$4","v":0.47239263803680981},{"$f":"IF(P22=0,0,(P22*((LOG(P22))/LOG(2))))","v":-0.51110125302015685},null,null,{"$f":"N22","v":2222},{"$f":"COUNTIF(L7:L33,T22)","v":16},{"$f":"U22/(W4-U20)","v":0.59259259259259256},{"$f":"IF(V22=0,0,(V22*((LOG(V22))/LOG(2))))","v":-0.44734074202279617},null,{"$f":"N22","v":2222},{"$f":"COUNTIF(L34:L60,Y22)","v":14},{"$f":"Z22/(AB4-Z20)","v":0.51851851851851849},{"$f":"IF(AA22=0,0,(AA22*((LOG(AA22))/LOG(2))))","v":-0.49131318968452231},null,{"$f":"N22","v":2222},{"$f":"COUNTIF(L61:L88,AD22)","v":13},{"$f":"AE22/(AG4-AE20)","v":0.4642857142857143},{"$f":"IF(AF22=0,0,(AF22*((LOG(AF22))/LOG(2))))","v":-0.51392491610409474},null,{"$f":"N22","v":2222},{"$f":"COUNTIF(L89:L115,AI22)","v":7},{"$f":"AJ22/(AL4-AJ20)","v":0.25925925925925924},{"$f":"IF(AK22=0,0,(AK22*((LOG(AK22))/LOG(2))))","v":-0.5049158541015204},null,{"$f":"N22","v":2222},{"$f":"COUNTIF(L116:L142,AN22)","v":14},{"$f":"AO22/(AQ4-AO20)","v":0.51851851851851849},{"$f":"IF(AP22=0,0,(AP22*((LOG(AP22))/LOG(2))))","v":-0.49131318968452231},null,{"$f":"N22","v":2222},{"$f":"COUNTIF(L143:L169,AS22)","v":13},{"$f":"AT22/(AV4-AT20)","v":0.48148148148148145},{"$f":"IF(AU22=0,0,(AU22*((LOG(AU22))/LOG(2))))","v":-0.50769708119595902}]
[12,2557,14,2560,13,2564,14,2568,null,null,0,1111,null,null,null,{"$f":"SUM(P7:P22)","v":1},{"$f":"-SUM(Q7:Q22)","v":1.7401882185686313},null,null,null,null,{"$f":"SUM(V7:V22)","v":1},{"$f":"-SUM(W7:W22)","v":1.3278754646456605},null,null,null,{"$f":"SUM(AA7:AA22)","v":1},{"$f":"-SUM(AB7:AB22)","v":1.6228840266950795},null,null,null,{"$f":"SUM(AF7:AF22)","v":1},{"$f":"-SUM(AG7:AG22)","v":1.6171764476037533},null,null,null,{"$f":"SUM(AK7:AK22)","v":1},{"$f":"-SUM(AL7:AL22)","v":1.8898239201702562},null,null,null,{"$f":"SUM(AP7:AP22)","v":1},{"$f":"-SUM(AQ7:AQ22)","v":1.4762856555827248},null,null,null,{"$f":"SUM(AU7:AU22)","v":1},{"$f":"-SUM(AV7:AV22)","v":1.7413007886570151}]
[21,2700,21,2705,22,2709,23,2718,null,null,0,2222,null,null,null,"U=",{"$f":"Q23/(LOG(Q4)/LOG(2))","v":0.23680127799620765},null,null,null,null,"U1=",{"$f":"W23/(LOG(W4)/LOG(2))","v":0.27926537989415706},null,null,null,"U2=",{"$f":"AB23/(LOG(AB4)/LOG(2))","v":0.34130860634592702},null,null,null,"U3=",{"$f":"AG23/(LOG(AG4)/LOG(2))","v":0.33639630812022153},null,null,null,"U4=",{"$f":"AL23/(LOG(AL4)/LOG(2))","v":0.39744871341548849},null,null,null,"U5=",{"$f":"AQ23/(LOG(AQ4)/LOG(2))","v":0.31047751495929538},null,null,null,"U6=",{"$f":"AV23/(LOG(AV4)/LOG(2))","v":0.36621282582705172}]
[21,2851,21,2859,22,2863,23,2873,null,null,0,2222]
[21,3034,21,3038,22,3043,23,3050,null,null,0,2222]
[21,3192,21,3200,22,3206,23,3210,null,null,0,2222,null,"Total Target Seq"]
[12,3339,14,3343,13,3352,14,3356,null,null,0,1111,null,{"$f":"COUNTIF(L7:L169,G3)","v":0},null,27,27,28,27,27,27]
[21,3514,21,3522,22,3527,23,3535,null,null,0,2222,null,null,null,"% of reinforcement given in 6 equal intervals based on number of trials "]
[21,3674,21,3679,22,3683,23,3687,null,null,0,2222,null,null,null,"%_1","%_2","%_3","%_4","%_5","%_6"]
[21,3829,21,3836,22,3841,23,3849,null,null,0,2222,null,null,"target sequence",{"$f":"$G$3","v":2212},{"$f":"$G$3","v":2212},{"$f":"$G$3","v":2212},{"$f":"$G$3","v":2212},{"$f":"$G$3","v":2212},{"$f":"$G$3","v":2212}]
[21,3997,12,4012,13,4021,14,4026,null,null,0,2111,null,null,"total reinforcement",{"$f":"U20","v":0},{"$f":"Z20","v":0},{"$f":"AE20","v":0},{"$f":"AJ20","v":0},{"$f":"AO20","v":0},{"$f":"AT20","v":0}]
[21,4143,21,4152,22,4157,23,4161,null,null,0,2222,null,null,"% target"]
[12,4297,14,4303,13,4311,14,4322,null,null,0,1111,null,null,"CCRF"]
[21,4436,21,4452,22,4456,23,4461,null,null,0,2222,null,null,"% CCRf"]
[21,4581,21,4588,22,4593,23,4601,null,null,0,2222,null,null,"average response rate",{"$f":"H33/P28","v":154.11111111111111},{"$f":"(H60-H33)/Q28","v":168.88888888888889},{"$f":"(H88-H60)/R28","v":138.89285714285714},{"$f":"(H115-H88)/S28","v":136.14814814814815},{"$f":"(H142-H115)/T28","v":140.4814814814815},{"$f":"(H169-H142)/U28","v":141.37037037037038}]
[21,4784,12,4798,13,4803,14,4809,null,null,0,2111]
[21,4935,21,4939,22,4943,23,4948,null,null,0,2222]
[21,5069,21,5073,22,5077,23,5082,null,null,0,2222]
[21,5262,21,5267,22,5272,23,5280,null,null,0,2222]
[21,5473,21,5489,22,5494,23,5501,null,null,0,2222]
[21,5658,21,5665,22,5670,23,5677,null,null,0,2222]
[21,5826,12,5838,13,5842,14,5846,null,null,0,2111]
[21,5992,21,6009,22,6014,23,6018,null,null,0,2222]
[21,6203,12,6217,13,6228,14,6251,null,null,0,2111]
[12,6398,14,6402,13,6406,14,6411,null,null,0,1111]
[21,6538,12,6552,13,6557,14,6561,null,null,0,2111]
[21,6706,21,6723,22,6728,23,6737,null,null,0,2222]
[21,6884,21,6903,22,6908,23,6913,null,null,0,2222]
[21,7055,12,7088,13,7091,14,7096,null,null,0,2111]
[21,7207,21,7216,22,7233,23,7237,null,null,0,2222]
[21,7396,12,7406,13,7411,14,7415,null,null,0,2111]
[21,7555,21,7582,22,7586,23,7591,null,null,0,2222]
[12,7729,14,7733,13,7738,14,7742,null,null,0,1111]
[12,7857,14,7861,13,7866,14,7870,null,null,0,1111]
[21,8010,21,8018,22,8026,23,8030,null,null,0,2222]
[12,8143,14,8150,13,8155,14,8163,null,null,0,1111]
[21,8299,12,8311,13,8315,14,8319,null,null,0,2111]
[21,8435,21,8437,11,8458,12,8462,null,null,0,2211]
[21,8704,21,8709,22,8716,23,8721,null,null,0,2222]
[21,8840,21,8846,22,8854,23,8862,null,null,0,2222]
[21,8974,12,8989,13,8992,14,8997,null,null,0,2111]
[21,9115,12,9134,13,9138,14,9142,null,null,0,2111]
[21,9273,21,9275,22,9287,23,9296,null,null,0,2222]
[21,9421,21,9428,22,9437,23,9446,null,null,0,2222]
[12,9565,14,9569,13,9573,14,9602,null,null,0,1111]
[21,9717,21,9727,22,9731,23,9739,null,null,0,2222]
[12,9866,14,9873,13,9877,14,9881,null,null,0,1111]
[21,9995,21,10004,22,10012,23,10019,null,null,0,2222]
[21,10144,21,10148,22,10155,23,10162,null,null,0,2222]
[21,10295,21,10300,22,10307,23,10311,null,null,0,2222]
[21,10441,21,10449,22,10453,23,10460,null,null,0,2222]
[12,10582,14,10586,13,10590,14,10594,null,null,0,1111]
[21,10723,21,10738,22,10742,23,10746,null,null,0,2222]
[21,10855,21,10867,11,10887,12,10894,null,null,0,2211]
[12,11008,14,11013,13,11017,14,11022,null,null,0,1111]
[12,11137,14,11142,13,11146,14,11151,null,null,0,1111]
[21,11267,21,11272,22,11280,23,11287,null,null,0,2222]
[21,11406,12,11417,13,11421,14,11426,null,null,0,2111]
[12,11542,14,11546,13,11550,14,11561,null,null,0,1111]
[21,11665,21,11677,22,11684,23,11691,null,null,0,2222]
[12,11804,14,11813,13,11817,14,11821,null,null,0,1111]
[21,11934,21,11941,22,11948,23,11952,null,null,0,2222]
[21,12066,12,12077,13,12084,14,12088,null,null,0,2111]
[12,12205,14,12209,13,12213,14,12217,null,null,0,1111]
[21,12329,21,12335,22,12343,23,12350,null,null,0,2222]
[12,12450,14,12471,13,12475,14,12479,null,null,0,1111]
[12,12590,14,12598,13,12602,14,12610,null,null,0,1111]
[21,12724,21,12729,22,12736,23,12741,null,null,0,2222]
[12,12841,23,12862,24,12866,23,12870,null,null,0,1222]
[12,12969,14,12985,13,12989,14,12993,null,null,0,1111]
[21,13120,21,13124,22,13129,23,13133,null,null,0,2222]
[21,13242,12,13256,13,13268,14,13275,null,null,0,2111]
[21,13390,12,13403,13,13407,14,13416,null,null,0,2111]
[21,13530,12,13542,13,13546,14,13551,null,null,0,2111]
[12,13668,14,13675,13,13679,14,13686,null,null,0,1111]
[12,13810,14,13815,13,13819,14,13830,null,null,0,1111]
[21,13940,21,13944,22,13948,23,13955,null,null,0,2222]
[21,14066,12,14077,13,14081,14,14085,null,null,0,2111]
[21,14211,21,14219,22,14227,23,14236,null,null,0,2222]
[21,14352,12,14363,13,14367,14,14374,null,null,0,2111]
[21,14480,21,14482,11,14495,12,14499,null,null,0,2211]
[21,14606,12,14619,13,14626,14,14634,null,null,0,2111]
[21,14752,12,14764,13,14768,14,14772,null,null,0,2111]
[21,14910,12,14923,13,14927,14,14931,null,null,0,2111]
[21,15035,21,15047,22,15054,23,15058,null,null,0,2222]
[12,15170,14,15174,13,15178,14,15186,null,null,0,1111]
[21,15302,21,15311,22,15318,23,15324,null,null,0,2222]
[12,15445,14,15449,13,15457,14,15464,null,null,0,1111]
[21,15589,12,15601,13,15605,14,15626,null,null,0,2111]
[12,15741,14,15745,13,15749,14,15754,null,null,0,1111]
[21,15864,12,15873,13,15877,14,15882,null,null,0,2111]
[21,15995,12,16010,13,16013,14,16021,null,null,0,2111]
[21,16126,21,16138,22,16145,23,16150,null,null,0,2222]
[12,16268,14,16272,13,16276,14,16286,null,null,0,1111]
[21,16408,21,16414,22,16421,23,16426,null,null,0,2222]
[12,16539,14,16543,13,16547,14,16555,null,null,0,1111]
[21,16682,21,16687,22,16694,23,16701,null,null,0,2222]
[21,16815,21,16820,22,16828,23,16837,null,null,0,2222]
[12,16933,14,16944,13,16949,14,16958,null,null,0,1111]
[12,17062,14,17066,13,17070,14,17074,null,null,0,1111]
[12,17185,14,17190,13,17194,14,17201,null,null,0,1111]
[21,17326,21,17337,22,17341,23,17346,null,null,0,2222]
[21,17489,21,17493,22,17497,23,17504,null,null,0,2222]
[21,17611,21,17619,22,17623,23,17631,null,null,0,2222]
[21,17736,21,17750,11,17774,12,17785,null,null,0,2211]
[21,17908,21,17924,22,17932,23,17939,null,null,0,2222]
[21,18049,21,18060,22,18067,23,18075,null,null,0,2222]
[12,18204,14,18208,13,18212,14,18220,null,null,0,1111]
[21,18345,21,18354,22,18358,23,18365,null,null,0,2222]
[12,18482,14,18490,13,18494,14,18498,null,null,0,1111]
[21,18631,21,18639,22,18641,23,18649,null,null,0,2222]
[12,18770,14,18774,13,18778,14,18783,null,null,0,1111]
[21,18894,12,18909,13,18913,14,18921,null,null,0,2111]
[12,19046,14,19053,13,19057,14,19061,null,null,0,1111]
[12,19227,14,19231,13,19235,14,19240,null,null,0,1111]
[21,19346,21,19352,22,19356,23,19363,null,null,0,2222]
[21,19496,12,19510,13,19515,14,19521,null,null,0,2111]
[21,19651,21,19659,22,19666,23,19671,null,null,0,2222]
[21,19784,21,19789,22,19797,23,19804,null,null,0,2222]
[21,19917,21,19924,22,19929,23,19936,null,null,0,2222]
[12,20059,14,20063,13,20071,14,20079,null,null,0,1111]
[21,20196,12,20216,13,20220,14,20227,null,null,0,2111]
[21,20343,21,20347,22,20351,23,20359,null,null,0,2222]
[21,20466,12,20480,13,20484,14,20488,null,null,0,2111]
[12,20604,23,20615,24,20620,23,20627,null,null,0,1222]
[12,20741,14,20745,13,20749,14,20753,null,null,0,1111]
[12,20869,14,20873,13,20877,14,20895,null,null,0,1111]
[12,21020,14,21028,13,21035,14,21042,null,null,0,1111]
[21,21163,21,21170,22,21177,23,21184,null,null,0,2222]
[12,21304,14,21308,13,21312,14,21319,null,null,0,1111]
[21,21438,21,21452,22,21459,23,21467,null,null,0,2222]
[12,21576,23,21591,24,21594,23,21598,null,null,0,1222]
[21,21734,21,21741,22,21749,23,21754,null,null,0,2222]
[21,21867,12,21876,13,21879,14,21883,null,null,0,2111]
[21,21995,21,21999,22,22007,23,22011,null,null,0,2222]
[12,22122,14,22132,13,22143,14,22156,null,null,0,1111]
[21,22301,21,22309,22,22313,23,22320,null,null,0,2222]
[12,22440,14,22444,13,22452,14,22458,null,null,0,1111]
[21,22579,21,22587,22,22594,23,22600,null,null,0,2222]
[21,22740,21,22747,22,22755,23,22761,null,null,0,2222]
[21,22889,12,22902,13,22909,14,22913,null,null,0,2111]
[21,23030,21,23037,22,23044,23,23052,null,null,0,2222]
[12,23162,14,23169,13,23173,14,23177,null,null,0,1111]
[21,23286,21,23292,22,23299,23,23306,null,null,0,2222]
[21,23414,12,23429,13,23436,14,23446,null,null,0,2111]
[21,23581,21,23585,22,23592,23,23599,null,null,0,2222]
[21,23732,21,23736,22,23746,23,23753,null,null,0,2222]
[21,23880,21,23885,22,23890,23,23896,null,null,0,2222]

{"sheet":"!L817940.053","index":23,"n_rows":172,"n_cols":48,"rows_kept":172,"cut":false,"hidden":false,"merged":[[4,39,4,42],[5,39,5,40],[4,44,4,47],[5,44,5,45],[4,24,4,27],[5,24,5,25],[4,29,4,32],[5,29,5,30],[4,34,4,37],[5,34,5,35],[1,1,1,2],[5,13,5,14],[26,13,26,14],[27,13,27,14],[4,19,4,22],[5,19,5,20]]}
["Report for:!L817940.053"]
["Date:","<date>"]
["Hen:","<hen>",null,null,null,"Correct Sequence",{"$f":"Start!J2","v":2212},null,null,null,null,null,null,null,null,"Total Sequences in Data",{"$f":"4994-COUNTBLANK(L7:L5000)","v":166},null,null,null,null,"Total Sequences in Block Data",{"$f":"COUNTA(L7:L34)","v":28},null,null,null,"Total Sequences in Block Data",{"$f":"COUNTA(L35:L61)","v":27},null,null,null,"Total Sequences in Block Data",{"$f":"COUNTA(L62:L89)","v":28},null,null,null,"Total Sequences in Block Data",{"$f":"COUNTA(L90:L117)","v":28},null,null,null,"Total Sequences in Block Data",{"$f":"COUNTA(L118:L144)","v":27},null,null,null,"Total Sequences in Block Data",{"$f":"COUNTA(L145:L172)","v":28}]
[null,null,null,null,null,null,null,null,null,null,null,null,null,null,null,"Total Sequences in Summary",{"$f":"SUM(O7:O22)","v":166},null,null,null,null,"Total Sequences in Block Summary",{"$f":"SUM(U7:U22)","v":28},null,null,null,"Total Sequences in Block Summary",{"$f":"SUM(Z7:Z22)","v":27},null,null,null,"Total Sequences in Block Summary",{"$f":"SUM(AE7:AE22)","v":28},null,null,null,"Total Sequences in Block Summary",{"$f":"SUM(AJ7:AJ22)","v":28},null,null,null,"Total Sequences in Block Summary",{"$f":"SUM(AO7:AO22)","v":27},null,null,null,"Total Sequences in Block Summary",{"$f":"SUM(AT7:AT22)","v":28}]
[null,null,null,null,null,null,null,null,null,null,null,null,null,null,null,null,null,null,null,"Block 1",null,null,null,null,"Block 2",null,null,null,null,"Block 3",null,null,null,null,"Block 4",null,null,null,null,"Block 5",null,null,null,null,"Block 6"]
["Sequence\nComponent\n1","Time\n1","Sequence\nComponent\n2","Time\n2","Sequence\nComponent\n3","Time\n3","Sequence\nComponent\n4","Time\n4","Sequence\nComponent\n5","Time\n5","Correct?\n0=No 1=Yes","Sequence",null,"Frequency",null,"Relative Frequency","Variability",null,null,"Frequency",null,"Relative Frequency","Variability",null,"Frequency",null,"Relative Frequency","Variability",null,"Frequency",null,"Relative Frequency","Variability",null,"Frequency",null,"Relative Frequency","Variability",null,"Frequency",null,"Relative Frequency","Variability",null,"Frequency",null,"Relative Frequency","Variability"]
[12,64,14,70,13,75,14,80,null,null,0,1111,null,1111,{"$f":"COUNTIF($L$7:$L$500,N7)","v":42},{"$f":"O7/$Q$4","v":0.25301204819277107},{"$f":"IF(P7=0,0,(P7*((LOG(P7))/LOG(2))))","v":-0.50165255638471629},null,null,{"$f":"N7","v":1111},{"$f":"COUNTIF(L7:L34,T7)","v":21},{"$f":"U7/(W4-U20)","v":0.75},{"$f":"IF(V7=0,0,(V7*((LOG(V7))/LOG(2))))","v":-0.31127812445913283},null,{"$f":"N7","v":1111},{"$f":"COUNTIF(L35:L61,Y7)","v":9},{"$f":"Z7/(AB4-Z20)","v":0.33333333333333331},{"$f":"IF(AA7=0,0,(AA7*((LOG(AA7))/LOG(2))))","v":-0.52832083357371862},null,{"$f":"N7","v":1111},{"$f":"COUNTIF(L62:L89,AD7)","v":3},{"$f":"AE7/(AG4-AE20)","v":0.10714285714285714},{"$f":"IF(AF7=0,0,(AF7*((LOG(AF7))/LOG(2))))","v":-0.34525633085747659},null,{"$f":"N7","v":1111},{"$f":"COUNTIF(L90:L117,AI7)","v":6},{"$f":"AJ7/(AL4-AJ20)","v":0.21428571428571427},{"$f":"IF(AK7=0,0,(AK7*((LOG(AK7))/LOG(2))))","v":-0.47622694742923877},null,{"$f":"N7","v":1111},{"$f":"COUNTIF(L118:L144,AN7)","v":2},{"$f":"AO7/(AQ4-AO20)","v":7.407407407407407E-2},{"$f":"IF(AP7=0,0,(AP7*((LOG(AP7))/LOG(2))))","v":-0.27813981497507173},null,{"$f":"N7","v":1111},{"$f":"COUNTIF(L145:L172,AS7)","v":1},{"$f":"AT7/(AV4-AT20)","v":3.5714285714285712E-2},{"$f":"IF(AU7=0,0,(AU7*((LOG(AU7))/LOG(2))))","v":-0.17169124721634299}]
[21,205,21,210,22,215,23,219,null,null,0,2222,null,1112,{"$f":"COUNTIF($L$7:$L$500,N8)","v":1},{"$f":"O8/$Q$4","v":6.024096385542169E-3},{"$f":"IF(P8=0,0,(P8*((LOG(P8))/LOG(2))))","v":-4.4427948381607983E-2},null,null,{"$f":"N8","v":1112},{"$f":"COUNTIF(L7:L34,T8)","v":1},{"$f":"U8/(W4-U20)","v":3.5714285714285712E-2},{"$f":"IF(V8=0,0,(V8*((LOG(V8))/LOG(2))))","v":-0.17169124721634299},null,{"$f":"N8","v":1112},{"$f":"COUNTIF(L35:L61,Y8)","v":0},{"$f":"Z8/(AB4-Z20)","v":0},{"$f":"IF(AA8=0,0,(AA8*((LOG(AA8))/LOG(2))))","v":0},null,{"$f":"N8","v":1112},{"$f":"COUNTIF(L62:L89,AD8)","v":0},{"$f":"AE8/(AG4-AE20)","v":0},{"$f":"IF(AF8=0,0,(AF8*((LOG(AF8))/LOG(2))))","v":0},null,{"$f":"N8","v":1112},{"$f":"COUNTIF(L90:L117,AI8)","v":0},{"$f":"AJ8/(AL4-AJ20)","v":0},{"$f":"IF(AK8=0,0,(AK8*((LOG(AK8))/LOG(2))))","v":0},null,{"$f":"N8","v":1112},{"$f":"COUNTIF(L118:L144,AN8)","v":0},{"$f":"AO8/(AQ4-AO20)","v":0},{"$f":"IF(AP8=0,0,(AP8*((LOG(AP8))/LOG(2))))","v":0},null,{"$f":"N8","v":1112},{"$f":"COUNTIF(L145:L172,AS8)","v":0},{"$f":"AT8/(AV4-AT20)","v":0},{"$f":"IF(AU8=0,0,(AU8*((LOG(AU8))/LOG(2))))","v":0}]
[12,394,14,398,13,402,14,417,null,null,0,1111,null,1121,{"$f":"COUNTIF($L$7:$L$500,N9)","v":0},{"$f":"O9/$Q$4","v":0},{"$f":"IF(P9=0,0,(P9*((LOG(P9))/LOG(2))))","v":0},null,null,{"$f":"N9","v":1121},{"$f":"COUNTIF(L7:L34,T9)","v":0},{"$f":"U9/(W4-U20)","v":0},{"$f":"IF(V9=0,0,(V9*((LOG(V9))/LOG(2))))","v":0},null,{"$f":"N9","v":1121},{"$f":"COUNTIF(L35:L61,Y9)","v":0},{"$f":"Z9/(AB4-Z20)","v":0},{"$f":"IF(AA9=0,0,(AA9*((LOG(AA9))/LOG(2))))","v":0},null,{"$f":"N9","v":1121},{"$f":"COUNTIF(L62:L89,AD9)","v":0},{"$f":"AE9/(AG4-AE20)","v":0},{"$f":"IF(AF9=0,0,(AF9*((LOG(AF9))/LOG(2))))","v":0},null,{"$f":"N9","v":1121},{"$f":"COUNTIF(L90:L117,AI9)","v":0},{"$f":"AJ9/(AL4-AJ20)","v":0},{"$f":"IF(AK9=0,0,(AK9*((LOG(AK9))/LOG(2))))","v":0},null,{"$f":"N9","v":1121},{"$f":"COUNTIF(L118:L144,AN9)","v":0},{"$f":"AO9/(AQ4-AO20)","v":0},{"$f":"IF(AP9=0,0,(AP9*((LOG(AP9))/LOG(2))))","v":0},null,{"$f":"N9","v":1121},{"$f":"COUNTIF(L145:L172,AS9)","v":0},{"$f":"AT9/(AV4-AT20)","v":0},{"$f":"IF(AU9=0,0,(AU9*((LOG(AU9))/LOG(2))))","v":0}]
[12,571,14,575,13,579,14,598,null,null,0,1111,null,1122,{"$f":"COUNTIF($L$7:$L$500,N10)","v":0},{"$f":"O10/$Q$4","v":0},{"$f":"IF(P10=0,0,(P10*((LOG(P10))/LOG(2))))","v":0},null,null,{"$f":"N10","v":1122},{"$f":"COUNTIF(L7:L34,T10)","v":0},{"$f":"U10/(W4-U20)","v":0},{"$f":"IF(V10=0,0,(V10*((LOG(V10))/LOG(2))))","v":0},null,{"$f":"N10","v":1122},{"$f":"COUNTIF(L35:L61,Y10)","v":0},{"$f":"Z10/(AB4-Z20)","v":0},{"$f":"IF(AA10=0,0,(AA10*((LOG(AA10))/LOG(2))))","v":0},null,{"$f":"N10","v":1122},{"$f":"COUNTIF(L62:L89,AD10)","v":0},{"$f":"AE10/(AG4-AE20)","v":0},{"$f":"IF(AF10=0,0,(AF10*((LOG(AF10))/LOG(2))))","v":0},null,{"$f":"N10","v":1122},{"$f":"COUNTIF(L90:L117,AI10)","v":0},{"$f":"AJ10/(AL4-AJ20)","v":0},{"$f":"IF(AK10=0,0,(AK10*((LOG(AK10))/LOG(2))))","v":0},null,{"$f":"N10","v":1122},{"$f":"COUNTIF(L118:L144,AN10)","v":0},{"$f":"AO10/(AQ4-AO20)","v":0},{"$f":"IF(AP10=0,0,(AP10*((LOG(AP10))/LOG(2))))","v":0},null,{"$f":"N10","v":1122},{"$f":"COUNTIF(L145:L172,AS10)","v":0},{"$f":"AT10/(AV4-AT20)","v":0},{"$f":"IF(AU10=0,0,(AU10*((LOG(AU10))/LOG(2))))","v":0}]
[12,734,14,738,13,742,14,746,null,null,0,1111,null,1211,{"$f":"COUNTIF($L$7:$L$500,N11)","v":0},{"$f":"O11/$Q$4","v":0},{"$f":"IF(P11=0,0,(P11*((LOG(P11))/LOG(2))))","v":0},null,null,{"$f":"N11","v":1211},{"$f":"COUNTIF(L7:L34,T11)","v":0},{"$f":"U11/(W4-U20)","v":0},{"$f":"IF(V11=0,0,(V11*((LOG(V11))/LOG(2))))","v":0},null,{"$f":"N11","v":1211},{"$f":"COUNTIF(L35:L61,Y11)","v":0},{"$f":"Z11/(AB4-Z20)","v":0},{"$f":"IF(AA11=0,0,(AA11*((LOG(AA11))/LOG(2))))","v":0},null,{"$f":"N11","v":1211},{"$f":"COUNTIF(L62:L89,AD11)","v":0},{"$f":"AE11/(AG4-AE20)","v":0},{"$f":"IF(AF11=0,0,(AF11*((LOG(AF11))/LOG(2))))","v":0},null,{"$f":"N11","v":1211},{"$f":"COUNTIF(L90:L117,AI11)","v":0},{"$f":"AJ11/(AL4-AJ20)","v":0},{"$f":"IF(AK11=0,0,(AK11*((LOG(AK11))/LOG(2))))","v":0},null,{"$f":"N11","v":1211},{"$f":"COUNTIF(L118:L144,AN11)","v":0},{"$f":"AO11/(AQ4-AO20)","v":0},{"$f":"IF(AP11=0,0,(AP11*((LOG(AP11))/LOG(2))))","v":0},null,{"$f":"N11","v":1211},{"$f":"COUNTIF(L145:L172,AS11)","v":0},{"$f":"AT11/(AV4-AT20)","v":0},{"$f":"IF(AU11=0,0,(AU11*((LOG(AU11))/LOG(2))))","v":0}]
[12,879,14,883,13,887,14,892,null,null,0,1111,null,1212,{"$f":"COUNTIF($L$7:$L$500,N12)","v":0},{"$f":"O12/$Q$4","v":0},{"$f":"IF(P12=0,0,(P12*((LOG(P12))/LOG(2))))","v":0},null,null,{"$f":"N12","v":1212},{"$f":"COUNTIF(L7:L34,T12)","v":0},{"$f":"U12/(W4-U20)","v":0},{"$f":"IF(V12=0,0,(V12*((LOG(V12))/LOG(2))))","v":0},null,{"$f":"N12","v":1212},{"$f":"COUNTIF(L35:L61,Y12)","v":0},{"$f":"Z12/(AB4-Z20)","v":0},{"$f":"IF(AA12=0,0,(AA12*((LOG(AA12))/LOG(2))))","v":0},null,{"$f":"N12","v":1212},{"$f":"COUNTIF(L62:L89,AD12)","v":0},{"$f":"AE12/(AG4-AE20)","v":0},{"$f":"IF(AF12=0,0,(AF12*((LOG(AF12))/LOG(2))))","v":0},null,{"$f":"N12","v":1212},{"$f":"COUNTIF(L90:L117,AI12)","v":0},{"$f":"AJ12/(AL4-AJ20)","v":0},{"$f":"IF(AK12=0,0,(AK12*((LOG(AK12))/LOG(2))))","v":0},null,{"$f":"N12","v":1212},{"$f":"COUNTIF(L118:L144,AN12)","v":0},{"$f":"AO12/(AQ4-AO20)","v":0},{"$f":"IF(AP12=0,0,(AP12*((LOG(AP12))/LOG(2))))","v":0},null,{"$f":"N12","v":1212},{"$f":"COUNTIF(L145:L172,AS12)","v":0},{"$f":"AT12/(AV4-AT20)","v":0},{"$f":"IF(AU12=0,0,(AU12*((LOG(AU12))/LOG(2))))","v":0}]
[12,1007,14,1014,13,1019,14,1027,null,null,0,1111,null,1221,{"$f":"COUNTIF($L$7:$L$500,N13)","v":0},{"$f":"O13/$Q$4","v":0},{"$f":"IF(P13=0,0,(P13*((LOG(P13))/LOG(2))))","v":0},null,null,{"$f":"N13","v":1221},{"$f":"COUNTIF(L7:L34,T13)","v":0},{"$f":"U13/(W4-U20)","v":0},{"$f":"IF(V13=0,0,(V13*((LOG(V13))/LOG(2))))","v":0},null,{"$f":"N13","v":1221},{"$f":"COUNTIF(L35:L61,Y13)","v":0},{"$f":"Z13/(AB4-Z20)","v":0},{"$f":"IF(AA13=0,0,(AA13*((LOG(AA13))/LOG(2))))","v":0},null,{"$f":"N13","v":1221},{"$f":"COUNTIF(L62:L89,AD13)","v":0},{"$f":"AE13/(AG4-AE20)","v":0},{"$f":"IF(AF13=0,0,(AF13*((LOG(AF13))/LOG(2))))","v":0},null,{"$f":"N13","v":1221},{"$f":"COUNTIF(L90:L117,AI13)","v":0},{"$f":"AJ13/(AL4-AJ20)","v":0},{"$f":"IF(AK13=0,0,(AK13*((LOG(AK13))/LOG(2))))","v":0},null,{"$f":"N13","v":1221},{"$f":"COUNTIF(L118:L144,AN13)","v":0},{"$f":"AO13/(AQ4-AO20)","v":0},{"$f":"IF(AP13=0,0,(AP13*((LOG(AP13))/LOG(2))))","v":0},null,{"$f":"N13","v":1221},{"$f":"COUNTIF(L145:L172,AS13)","v":0},{"$f":"AT13/(AV4-AT20)","v":0},{"$f":"IF(AU13=0,0,(AU13*((LOG(AU13))/LOG(2))))","v":0}]
[12,1133,14,1137,13,1142,14,1147,null,null,0,1111,null,1222,{"$f":"COUNTIF($L$7:$L$500,N14)","v":2},{"$f":"O14/$Q$4","v":1.2048192771084338E-2},{"$f":"IF(P14=0,0,(P14*((LOG(P14))/LOG(2))))","v":-7.6807703992131618E-2},null,null,{"$f":"N14","v":1222},{"$f":"COUNTIF(L7:L34,T14)","v":0},{"$f":"U14/(W4-U20)","v":0},{"$f":"IF(V14=0,0,(V14*((LOG(V14))/LOG(2))))","v":0},null,{"$f":"N14","v":1222},{"$f":"COUNTIF(L35:L61,Y14)","v":0},{"$f":"Z14/(AB4-Z20)","v":0},{"$f":"IF(AA14=0,0,(AA14*((LOG(AA14))/LOG(2))))","v":0},null,{"$f":"N14","v":1222},{"$f":"COUNTIF(L62:L89,AD14)","v":1},{"$f":"AE14/(AG4-AE20)","v":3.5714285714285712E-2},{"$f":"IF(AF14=0,0,(AF14*((LOG(AF14))/LOG(2))))","v":-0.17169124721634299},null,{"$f":"N14","v":1222},{"$f":"COUNTIF(L90:L117,AI14)","v":0},{"$f":"AJ14/(AL4-AJ20)","v":0},{"$f":"IF(AK14=0,0,(AK14*((LOG(AK14))/LOG(2))))","v":0},null,{"$f":"N14","v":1222},{"$f":"COUNTIF(L118:L144,AN14)","v":1},{"$f":"AO14/(AQ4-AO20)","v":3.7037037037037035E-2},{"$f":"IF(AP14=0,0,(AP14*((LOG(AP14))/LOG(2))))","v":-0.1761069445245729},null,{"$f":"N14","v":1222},{"$f":"COUNTIF(L145:L172,AS14)","v":0},{"$f":"AT14/(AV4-AT20)","v":0},{"$f":"IF(AU14=0,0,(AU14*((LOG(AU14))/LOG(2))))","v":0}]
[12,1270,14,1274,13,1278,14,1283,null,null,0,1111,null,2111,{"$f":"COUNTIF($L$7:$L$500,N15)","v":13},{"$f":"O15/$Q$4","v":7.8313253012048195E-2},{"$f":"IF(P15=0,0,(P15*((LOG(P15))/LOG(2))))","v":-0.28776985705828806},null,null,{"$f":"N15","v":2111},{"$f":"COUNTIF(L7:L34,T15)","v":0},{"$f":"U15/(W4-U20)","v":0},{"$f":"IF(V15=0,0,(V15*((LOG(V15))/LOG(2))))","v":0},null,{"$f":"N15","v":2111},{"$f":"COUNTIF(L35:L61,Y15)","v":4},{"$f":"Z15/(AB4-Z20)","v":0.14814814814814814},{"$f":"IF(AA15=0,0,(AA15*((LOG(AA15))/LOG(2))))","v":-0.40813148180199532},null,{"$f":"N15","v":2111},{"$f":"COUNTIF(L62:L89,AD15)","v":1},{"$f":"AE15/(AG4-AE20)","v":3.5714285714285712E-2},{"$f":"IF(AF15=0,0,(AF15*((LOG(AF15))/LOG(2))))","v":-0.17169124721634299},null,{"$f":"N15","v":2111},{"$f":"COUNTIF(L90:L117,AI15)","v":5},{"$f":"AJ15/(AL4-AJ20)","v":0.17857142857142858},{"$f":"IF(AK15=0,0,(AK15*((LOG(AK15))/LOG(2))))","v":-0.44382621913754317},null,{"$f":"N15","v":2111},{"$f":"COUNTIF(L118:L144,AN15)","v":1},{"$f":"AO15/(AQ4-AO20)","v":3.7037037037037035E-2},{"$f":"IF(AP15=0,0,(AP15*((LOG(AP15))/LOG(2))))","v":-0.1761069445245729},null,{"$f":"N15","v":2111},{"$f":"COUNTIF(L145:L172,AS15)","v":2},{"$f":"AT15/(AV4-AT20)","v":7.1428571428571425E-2},{"$f":"IF(AU15=0,0,(AU15*((LOG(AU15))/LOG(2))))","v":-0.27195392300411453}]
[12,1404,14,1407,13,1411,14,1416,null,null,0,1111,null,2112,{"$f":"COUNTIF($L$7:$L$500,N16)","v":0},{"$f":"O16/$Q$4","v":0},{"$f":"IF(P16=0,0,(P16*((LOG(P16))/LOG(2))))","v":0},null,null,{"$f":"N16","v":2112},{"$f":"COUNTIF(L7:L34,T16)","v":0},{"$f":"U16/(W4-U20)","v":0},{"$f":"IF(V16=0,0,(V16*((LOG(V16))/LOG(2))))","v":0},null,{"$f":"N16","v":2112},{"$f":"COUNTIF(L35:L61,Y16)","v":0},{"$f":"Z16/(AB4-Z20)","v":0},{"$f":"IF(AA16=0,0,(AA16*((LOG(AA16))/LOG(2))))","v":0},null,{"$f":"N16","v":2112},{"$f":"COUNTIF(L62:L89,AD16)","v":0},{"$f":"AE16/(AG4-AE20)","v":0},{"$f":"IF(AF16=0,0,(AF16*((LOG(AF16))/LOG(2))))","v":0},null,{"$f":"N16","v":2112},{"$f":"COUNTIF(L90:L117,AI16)","v":0},{"$f":"AJ16/(AL4-AJ20)","v":0},{"$f":"IF(AK16=0,0,(AK16*((LOG(AK16))/LOG(2))))","v":0},null,{"$f":"N16","v":2112},{"$f":"COUNTIF(L118:L144,AN16)","v":0},{"$f":"AO16/(AQ4-AO20)","v":0},{"$f":"IF(AP16=0,0,(AP16*((LOG(AP16))/LOG(2))))","v":0},null,{"$f":"N16","v":2112},{"$f":"COUNTIF(L145:L172,AS16)","v":0},{"$f":"AT16/(AV4-AT20)","v":0},{"$f":"IF(AU16=0,0,(AU16*((LOG(AU16))/LOG(2))))","v":0}]
[12,1526,14,1532,13,1536,14,1541,null,null,0,1111,null,2121,{"$f":"COUNTIF($L$7:$L$500,N17)","v":0},{"$f":"O17/$Q$4","v":0},{"$f":"IF(P17=0,0,(P17*((LOG(P17))/LOG(2))))","v":0},null,null,{"$f":"N17","v":2121},{"$f":"COUNTIF(L7:L34,T17)","v":0},{"$f":"U17/(W4-U20)","v":0},{"$f":"IF(V17=0,0,(V17*((LOG(V17))/LOG(2))))","v":0},null,{"$f":"N17","v":2121},{"$f":"COUNTIF(L35:L61,Y17)","v":0},{"$f":"Z17/(AB4-Z20)","v":0},{"$f":"IF(AA17=0,0,(AA17*((LOG(AA17))/LOG(2))))","v":0},null,{"$f":"N17","v":2121},{"$f":"COUNTIF(L62:L89,AD17)","v":0},{"$f":"AE17/(AG4-AE20)","v":0},{"$f":"IF(AF17=0,0,(AF17*((LOG(AF17))/LOG(2))))","v":0},null,{"$f":"N17","v":2121},{"$f":"COUNTIF(L90:L117,AI17)","v":0},{"$f":"AJ17/(AL4-AJ20)","v":0},{"$f":"IF(AK17=0,0,(AK17*((LOG(AK17))/LOG(2))))","v":0},null,{"$f":"N17","v":2121},{"$f":"COUNTIF(L118:L144,AN17)","v":0},{"$f":"AO17/(AQ4-AO20)","v":0},{"$f":"IF(AP17=0,0,(AP17*((LOG(AP17))/LOG(2))))","v":0},null,{"$f":"N17","v":2121},{"$f":"COUNTIF(L145:L172,AS17)","v":0},{"$f":"AT17/(AV4-AT20)","v":0},{"$f":"IF(AU17=0,0,(AU17*((LOG(AU17))/LOG(2))))","v":0}]
[12,1683,14,1688,13,1696,14,1701,null,null,0,1111,null,2122,{"$f":"COUNTIF($L$7:$L$500,N18)","v":0},{"$f":"O18/$Q$4","v":0},{"$f":"IF(P18=0,0,(P18*((LOG(P18))/LOG(2))))","v":0},null,null,{"$f":"N18","v":2122},{"$f":"COUNTIF(L7:L34,T18)","v":0},{"$f":"U18/(W4-U20)","v":0},{"$f":"IF(V18=0,0,(V18*((LOG(V18))/LOG(2))))","v":0},null,{"$f":"N18","v":2122},{"$f":"COUNTIF(L35:L61,Y18)","v":0},{"$f":"Z18/(AB4-Z20)","v":0},{"$f":"IF(AA18=0,0,(AA18*((LOG(AA18))/LOG(2))))","v":0},null,{"$f":"N18","v":2122},{"$f":"COUNTIF(L62:L89,AD18)","v":0},{"$f":"AE18/(AG4-AE20)","v":0},{"$f":"IF(AF18=0,0,(AF18*((LOG(AF18))/LOG(2))))","v":0},null,{"$f":"N18","v":2122},{"$f":"COUNTIF(L90:L117,AI18)","v":0},{"$f":"AJ18/(AL4-AJ20)","v":0},{"$f":"IF(AK18=0,0,(AK18*((LOG(AK18))/LOG(2))))","v":0},null,{"$f":"N18","v":2122},{"$f":"COUNTIF(L118:L144,AN18)","v":0},{"$f":"AO18/(AQ4-AO20)","v":0},{"$f":"IF(AP18=0,0,(AP18*((LOG(AP18))/LOG(2))))","v":0},null,{"$f":"N18","v":2122},{"$f":"COUNTIF(L145:L172,AS18)","v":0},{"$f":"AT18/(AV4-AT20)","v":0},{"$f":"IF(AU18=0,0,(AU18*((LOG(AU18))/LOG(2))))","v":0}]
[12,1834,14,1838,13,1843,14,1853,null,null,0,1111,null,2211,{"$f":"COUNTIF($L$7:$L$500,N19)","v":1},{"$f":"O19/$Q$4","v":6.024096385542169E-3},{"$f":"IF(P19=0,0,(P19*((LOG(P19))/LOG(2))))","v":-4.4427948381607983E-2},null,null,{"$f":"N19","v":2211},{"$f":"COUNTIF(L7:L34,T19)","v":0},{"$f":"U19/(W4-U20)","v":0},{"$f":"IF(V19=0,0,(V19*((LOG(V19))/LOG(2))))","v":0},null,{"$f":"N19","v":2211},{"$f":"COUNTIF(L35:L61,Y19)","v":0},{"$f":"Z19/(AB4-Z20)","v":0},{"$f":"IF(AA19=0,0,(AA19*((LOG(AA19))/LOG(2))))","v":0},null,{"$f":"N19","v":2211},{"$f":"COUNTIF(L62:L89,AD19)","v":0},{"$f":"AE19/(AG4-AE20)","v":0},{"$f":"IF(AF19=0,0,(AF19*((LOG(AF19))/LOG(2))))","v":0},null,{"$f":"N19","v":2211},{"$f":"COUNTIF(L90:L117,AI19)","v":0},{"$f":"AJ19/(AL4-AJ20)","v":0},{"$f":"IF(AK19=0,0,(AK19*((LOG(AK19))/LOG(2))))","v":0},null,{"$f":"N19","v":2211},{"$f":"COUNTIF(L118:L144,AN19)","v":0},{"$f":"AO19/(AQ4-AO20)","v":0},{"$f":"IF(AP19=0,0,(AP19*((LOG(AP19))/LOG(2))))","v":0},null,{"$f":"N19","v":2211},{"$f":"COUNTIF(L145:L172,AS19)","v":1},{"$f":"AT19/(AV4-AT20)","v":3.5714285714285712E-2},{"$f":"IF(AU19=0,0,(AU19*((LOG(AU19))/LOG(2))))","v":-0.17169124721634299}]
[12,1988,14,1993,13,1998,14,2002,null,null,0,1111,null,2212,{"$f":"COUNTIF($L$7:$L$500,N20)","v":0},{"$f":"O20/$Q$4","v":0},{"$f":"IF(P20=0,0,(P20*((LOG(P20))/LOG(2))))","v":0},null,null,{"$f":"N20","v":2212},{"$f":"COUNTIF(L7:L34,T20)","v":0},null,null,null,{"$f":"N20","v":2212},{"$f":"COUNTIF(L35:L61,Y20)","v":0},null,null,null,{"$f":"N20","v":2212},{"$f":"COUNTIF(L62:L89,AD20)","v":0},null,null,null,{"$f":"N20","v":2212},{"$f":"COUNTIF(L90:L117,AI20)","v":0},null,null,null,{"$f":"N20","v":2212},{"$f":"COUNTIF(L118:L144,AN20)","v":0},null,null,null,{"$f":"N20","v":2212},{"$f":"COUNTIF(L145:L172,AS20)","v":0}]
[12,2126,14,2142,13,2146,14,2151,null,null,0,1111,null,2221,{"$f":"COUNTIF($L$7:$L$500,N21)","v":0},{"$f":"O21/$Q$4","v":0},{"$f":"IF(P21=0,0,(P21*((LOG(P21))/LOG(2))))","v":0},null,null,{"$f":"N21","v":2221},{"$f":"COUNTIF(L7:L34,T21)","v":0},{"$f":"U21/(W4-U20)","v":0},{"$f":"IF(V21=0,0,(V21*((LOG(V21))/LOG(2))))","v":0},null,{"$f":"N21","v":2221},{"$f":"COUNTIF(L35:L61,Y21)","v":0},{"$f":"Z21/(AB4-Z20)","v":0},{"$f":"IF(AA21=0,0,(AA21*((LOG(AA21))/LOG(2))))","v":0},null,{"$f":"N21","v":2221},{"$f":"COUNTIF(L62:L89,AD21)","v":0},{"$f":"AE21/(AG4-AE20)","v":0},{"$f":"IF(AF21=0,0,(AF21*((LOG(AF21))/LOG(2))))","v":0},null,{"$f":"N21","v":2221},{"$f":"COUNTIF(L90:L117,AI21)","v":0},{"$f":"AJ21/(AL4-AJ20)","v":0},{"$f":"IF(AK21=0,0,(AK21*((LOG(AK21))/LOG(2))))","v":0},null,{"$f":"N21","v":2221},{"$f":"COUNTIF(L118:L144,AN21)","v":0},{"$f":"AO21/(AQ4-AO20)","v":0},{"$f":"IF(AP21=0,0,(AP21*((LOG(AP21))/LOG(2))))","v":0},null,{"$f":"N21","v":2221},{"$f":"COUNTIF(L145:L172,AS21)","v":0},{"$f":"AT21/(AV4-AT20)","v":0},{"$f":"IF(AU21=0,0,(AU21*((LOG(AU21))/LOG(2))))","v":0}]
[12,2292,14,2296,13,2300,14,2305,null,null,0,1111,null,2222,{"$f":"COUNTIF($L$7:$L$500,N22)","v":107},{"$f":"O22/$Q$4","v":0.64457831325301207},{"$f":"IF(P22=0,0,(P22*((LOG(P22))/LOG(2))))","v":-0.40838705788673624},null,null,{"$f":"N22","v":2222},{"$f":"COUNTIF(L7:L34,T22)","v":6},{"$f":"U22/(W4-U20)","v":0.21428571428571427},{"$f":"IF(V22=0,0,(V22*((LOG(V22))/LOG(2))))","v":-0.47622694742923877},null,{"$f":"N22","v":2222},{"$f":"COUNTIF(L35:L61,Y22)","v":14},{"$f":"Z22/(AB4-Z20)","v":0.51851851851851849},{"$f":"IF(AA22=0,0,(AA22*((LOG(AA22))/LOG(2))))","v":-0.49131318968452231},null,{"$f":"N22","v":2222},{"$f":"COUNTIF(L62:L89,AD22)","v":23},{"$f":"AE22/(AG4-AE20)","v":0.8214285714285714},{"$f":"IF(AF22=0,0,(AF22*((LOG(AF22))/LOG(2))))","v":-0.23311565064334283},null,{"$f":"N22","v":2222},{"$f":"COUNTIF(L90:L117,AI22)","v":17},{"$f":"AJ22/(AL4-AJ20)","v":0.6071428571428571},{"$f":"IF(AK22=0,0,(AK22*((LOG(AK22))/LOG(2))))","v":-0.43707733477583927},null,{"$f":"N22","v":2222},{"$f":"COUNTIF(L118:L144,AN22)","v":23},{"$f":"AO22/(AQ4-AO20)","v":0.85185185185185186},{"$f":"IF(AP22=0,0,(AP22*((LOG(AP22))/LOG(2))))","v":-0.19705509483142519},null,{"$f":"N22","v":2222},{"$f":"COUNTIF(L145:L172,AS22)","v":24},{"$f":"AT22/(AV4-AT20)","v":0.8571428571428571},{"$f":"IF(AU22=0,0,(AU22*((LOG(AU22))/LOG(2))))","v":-0.19062207543124113}]
[21,2479,21,2484,22,2488,23,2493,null,null,0,2222,null,null,null,{"$f":"SUM(P7:P22)","v":1},{"$f":"-SUM(Q7:Q22)","v":1.3634730720850883},null,null,null,null,{"$f":"SUM(V7:V22)","v":1},{"$f":"-SUM(W7:W22)","v":0.95919631910471459},null,null,null,{"$f":"SUM(AA7:AA22)","v":1},{"$f":"-SUM(AB7:AB22)","v":1.4277655050602363},null,null,null,{"$f":"SUM(AF7:AF22)","v":1},{"$f":"-SUM(AG7:AG22)","v":0.92175447593350535},null,null,null,{"$f":"SUM(AK7:AK22)","v":1},{"$f":"-SUM(AL7:AL22)","v":1.3571305013426211},null,null,null,{"$f":"SUM(AP7:AP22)","v":1},{"$f":"-SUM(AQ7:AQ22)","v":0.82740879885564267},null,null,null,{"$f":"SUM(AU7:AU22)","v":1},{"$f":"-SUM(AV7:AV22)","v":0.80595849286804166}]
[12,2609,14,2614,13,2619,14,2623,null,null,0,1111,null,null,null,"U=",{"$f":"Q23/(LOG(Q4)/LOG(2))","v":0.18487671622334273},null,null,null,null,"U1=",{"$f":"W23/(LOG(W4)/LOG(2))","v":0.19952683641135599},null,null,null,"U2=",{"$f":"AB23/(LOG(AB4)/LOG(2))","v":0.30027324608849415},null,null,null,"U3=",{"$f":"AG23/(LOG(AG4)/LOG(2))","v":0.19173838646782995},null,null,null,"U4=",{"$f":"AL23/(LOG(AL4)/LOG(2))","v":0.28230295523130494},null,null,null,"U5=",{"$f":"AQ23/(LOG(AQ4)/LOG(2))","v":0.17401227652161541},null,null,null,"U6=",{"$f":"AV23/(LOG(AV4)/LOG(2))","v":0.16765113163791162}]
[12,2742,14,2746,13,2750,14,2754,null,null,0,1111]
[12,2905,14,2913,13,2920,23,2932,null,null,0,1112]
[21,3071,21,3079,22,3081,23,3089,null,null,0,2222,null,"Total Target Seq"]
[21,3227,21,3235,22,3239,23,3245,null,null,0,2222,null,{"$f":"COUNTIF(L7:L172,G3)","v":0},null,28,27,28,28,27,28]
[12,3394,14,3398,13,3402,14,3411,null,null,0,1111,null,null,null,"% of reinforcement given in 6 equal intervals based on number of trials "]
[21,3554,21,3561,22,3569,23,3578,null,null,0,2222,null,null,null,"%_1","%_2","%_3","%_4","%_5","%_6"]
[21,3687,21,3694,22,3703,23,3707,null,null,0,2222,null,null,"target sequence",{"$f":"$G$3","v":2212},{"$f":"$G$3","v":2212},{"$f":"$G$3","v":2212},{"$f":"$G$3","v":2212},{"$f":"$G$3","v":2212},{"$f":"$G$3","v":2212}]
[12,3847,14,3852,13,3856,14,3861,null,null,0,1111,null,null,"total reinforcement",{"$f":"U20","v":0},{"$f":"Z20","v":0},{"$f":"AE20","v":0},{"$f":"AJ20","v":0},{"$f":"AO20","v":0},{"$f":"AT20","v":0}]
[12,3988,14,3996,13,4000,14,4010,null,null,0,1111,null,null,"% target"]
[12,4131,14,4135,13,4139,14,4147,null,null,0,1111,null,null,"CCRF"]
[12,4269,14,4273,13,4277,14,4281,null,null,0,1111,null,null,"% CCRf"]
[21,4394,12,4408,13,4412,14,4417,null,null,0,2111,null,null,"average response rate",{"$f":"H34/P28","v":148.10714285714286},{"$f":"(H61-H34)/Q28","v":141.55555555555554},{"$f":"(H89-H61)/R28","v":142.78571428571428},{"$f":"(H117-H89)/S28","v":144.14285714285714},{"$f":"(H144-H117)/T28","v":144.37037037037038},{"$f":"(H172-H144)/U28","v":143.92857142857142}]
[21,4531,21,4536,22,4540,23,4545,null,null,0,2222]
[21,4689,21,4697,22,4704,23,4711,null,null,0,2222]
[12,4815,14,4834,13,4838,14,4842,null,null,0,1111]
[12,4948,14,4952,13,4957,14,4961,null,null,0,1111]
[12,5097,14,5102,13,5106,14,5110,null,null,0,1111]
[21,5226,21,5236,22,5240,23,5252,null,null,0,2222]
[21,5376,21,5380,22,5385,23,5392,null,null,0,2222]
[12,5507,14,5511,13,5515,14,5520,null,null,0,1111]
[12,5660,14,5665,13,5670,14,5677,null,null,0,1111]
[21,5791,21,5796,22,5804,23,5809,null,null,0,2222]
[12,5939,14,5943,13,5948,14,5952,null,null,0,1111]
[21,6069,12,6081,13,6085,14,6090,null,null,0,2111]
[21,6229,21,6236,22,6244,23,6252,null,null,0,2222]
[12,6374,14,6378,13,6383,14,6391,null,null,0,1111]
[21,6529,21,6534,22,6538,23,6545,null,null,0,2222]
[12,6659,14,6663,13,6667,14,6679,null,null,0,1111]
[21,6800,12,6813,13,6817,14,6821,null,null,0,2111]
[21,6981,21,6985,22,6990,23,6994,null,null,0,2222]
[21,7112,21,7116,22,7120,23,7124,null,null,0,2222]
[21,7285,21,7290,22,7294,23,7299,null,null,0,2222]
[21,7422,21,7426,22,7430,23,7434,null,null,0,2222]
[21,7541,12,7559,13,7563,14,7567,null,null,0,2111]
[21,7699,21,7703,22,7707,23,7711,null,null,0,2222]
[21,7825,21,7830,22,7834,23,7838,null,null,0,2222]
[21,7954,21,7960,22,7964,23,7969,null,null,0,2222]
[21,8083,21,8097,22,8101,23,8106,null,null,0,2222]
[21,8248,21,8252,22,8259,23,8267,null,null,0,2222]
[21,8381,21,8385,22,8391,23,8398,null,null,0,2222]
[21,8521,21,8526,22,8533,23,8538,null,null,0,2222]
[21,8648,21,8660,22,8664,23,8670,null,null,0,2222]
[21,8792,21,8809,22,8817,23,8825,null,null,0,2222]
[21,8946,21,8951,22,8958,23,8962,null,null,0,2222]
[21,9104,21,9109,22,9114,23,9122,null,null,0,2222]
[12,9247,23,9260,24,9264,23,9271,null,null,0,1222]
[21,9383,21,9395,22,9399,23,9403,null,null,0,2222]
[21,9511,21,9524,22,9531,23,9539,null,null,0,2222]
[21,9649,12,9661,13,9665,14,9676,null,null,0,2111]
[21,9793,21,9801,22,9807,23,9812,null,null,0,2222]
[21,9961,21,9966,22,9980,23,9986,null,null,0,2222]
[21,10131,21,10136,22,10144,23,10152,null,null,0,2222]
[21,10272,21,10287,22,10294,23,10300,null,null,0,2222]
[21,10412,21,10416,22,10423,23,10429,null,null,0,2222]
[21,10534,21,10539,22,10543,23,10550,null,null,0,2222]
[12,10660,14,10664,13,10668,14,10672,null,null,0,1111]
[21,10778,21,10787,22,10791,23,10795,null,null,0,2222]
[21,10913,21,10917,22,10924,23,10931,null,null,0,2222]
[12,11043,14,11047,13,11054,14,11061,null,null,0,1111]
[21,11180,21,11188,22,11195,23,11203,null,null,0,2222]
[21,11323,21,11338,22,11346,23,11353,null,null,0,2222]
[21,11477,21,11492,22,11497,23,11503,null,null,0,2222]
[12,11647,14,11655,13,11660,14,11684,null,null,0,1111]
[21,11809,21,11814,22,11822,23,11828,null,null,0,2222]
[21,11954,21,11958,22,11962,23,11967,null,null,0,2222]
[21,12089,21,12093,22,12097,23,12105,null,null,0,2222]
[12,12223,14,12230,13,12235,14,12242,null,null,0,1111]
[21,12349,21,12354,22,12358,23,12362,null,null,0,2222]
[21,12518,21,12523,22,12527,23,12536,null,null,0,2222]
[12,12653,14,12658,13,12665,14,12672,null,null,0,1111]
[21,12792,21,12800,22,12808,23,12813,null,null,0,2222]
[21,12950,21,12955,22,12962,23,12970,null,null,0,2222]
[21,13116,12,13125,13,13132,14,13140,null,null,0,2111]
[21,13255,21,13269,22,13275,23,13279,null,null,0,2222]
[12,13392,14,13397,13,13402,14,13405,null,null,0,1111]
[21,13509,12,13521,13,13524,14,13529,null,null,0,2111]
[21,13640,21,13650,22,13654,23,13659,null,null,0,2222]
[21,13783,21,13788,22,13792,23,13800,null,null,0,2222]
[12,13923,14,13927,13,13931,14,13936,null,null,0,1111]
[21,14077,21,14082,22,14087,23,14095,null,null,0,2222]
[21,14217,12,14232,13,14239,14,14244,null,null,0,2111]
[21,14381,21,14395,22,14401,23,14405,null,null,0,2222]
[12,14561,14,14565,13,14570,14,14573,null,null,0,1111]
[21,14707,21,14711,22,14719,23,14725,null,null,0,2222]
[21,14846,12,14858,13,14865,14,14872,null,null,0,2111]
[21,14982,21,14987,22,14991,23,14998,null,null,0,2222]
[21,15100,21,15107,22,15112,23,15116,null,null,0,2222]
[21,15229,21,15237,22,15241,23,15246,null,null,0,2222]
[21,15358,21,15363,22,15366,23,15370,null,null,0,2222]
[21,15482,21,15487,22,15491,23,15495,null,null,0,2222]
[12,15640,14,15648,13,15662,14,15670,null,null,0,1111]
[21,15832,12,15848,13,15856,14,15866,null,null,0,2111]
[21,15983,21,15988,22,15996,23,16003,null,null,0,2222]
[21,16134,12,16152,13,16159,14,16167,null,null,0,2111]
[21,16285,21,16289,22,16293,23,16298,null,null,0,2222]
[21,16429,21,16434,22,16441,23,16449,null,null,0,2222]
[21,16570,21,16578,22,16586,23,16590,null,null,0,2222]
[21,16705,21,16710,22,16714,23,16719,null,null,0,2222]
[21,16833,21,16837,22,16846,23,16851,null,null,0,2222]
[21,16970,21,16975,22,16979,23,16986,null,null,0,2222]
[12,17107,14,17117,13,17121,14,17130,null,null,0,1111]
[12,17250,23,17262,24,17270,23,17274,null,null,0,1222]
[21,17387,21,17392,22,17401,23,17406,null,null,0,2222]
[21,17561,21,17568,22,17573,23,17580,null,null,0,2222]
[21,17705,21,17722,22,17729,23,17736,null,null,0,2222]
[21,17862,21,17869,22,17877,23,17882,null,null,0,2222]
[21,18014,21,18022,22,18026,23,18034,null,null,0,2222]
[21,18145,21,18162,22,18166,23,18174,null,null,0,2222]
[21,18294,21,18303,22,18307,23,18316,null,null,0,2222]
[21,18455,21,18463,22,18471,23,18475,null,null,0,2222]
[21,18633,21,18640,22,18645,23,18649,null,null,0,2222]
[21,18759,21,18777,22,18781,23,18785,null,null,0,2222]
[21,18904,21,18908,22,18916,23,18920,null,null,0,2222]
[21,19025,21,19034,22,19042,23,19049,null,null,0,2222]
[21,19185,21,19193,22,19198,23,19206,null,null,0,2222]
[21,19333,21,19337,22,19345,23,19350,null,null,0,2222]
[21,19466,21,19474,22,19479,23,19484,null,null,0,2222]
[12,19600,14,19604,13,19612,14,19615,null,null,0,1111]
[21,19730,21,19737,22,19741,23,19745,null,null,0,2222]
[21,19879,21,19886,22,19893,23,19901,null,null,0,2222]
[21,20029,21,20033,22,20038,23,20043,null,null,0,2222]
[21,20159,12,20175,13,20183,14,20202,null,null,0,2111]
[21,20316,21,20324,22,20331,23,20335,null,null,0,2222]
[21,20445,21,20460,22,20465,23,20473,null,null,0,2222]
[21,20605,21,20613,22,20620,23,20625,null,null,0,2222]
[21,20739,21,20744,22,20748,23,20754,null,null,0,2222]
[21,20890,21,20899,22,20904,23,20908,null,null,0,2222]
[21,21027,21,21031,22,21038,23,21044,null,null,0,2222]
[21,21153,21,21157,22,21165,23,21172,null,null,0,2222]
[21,21278,21,21291,22,21295,23,21303,null,null,0,2222]
[21,21411,21,21430,22,21439,23,21446,null,null,0,2222]
[21,21559,21,21568,22,21573,23,21580,null,null,0,2222]
[21,21690,21,21696,22,21705,23,21709,null,null,0,2222]
[21,21828,21,21835,22,21839,23,21843,null,null,0,2222]
[21,21966,21,21978,22,21985,23,21990,null,null,0,2222]
[21,22115,21,22122,11,22140,12,22144,null,null,0,2211]
[21,22297,21,22301,22,22307,23,22314,null,null,0,2222]
[21,22446,21,22450,22,22454,23,22459,null,null,0,2222]
[21,22573,21,22581,22,22585,23,22592,null,null,0,2222]
[21,22736,12,22749,13,22753,14,22771,null,null,0,2111]
[21,22895,21,22900,22,22908,23,22916,null,null,0,2222]
[21,23036,21,23042,22,23047,23,23051,null,null,0,2222]
[21,23167,21,23174,22,23182,23,23190,null,null,0,2222]
[21,23319,21,23331,22,23339,23,23346,null,null,0,2222]
[21,23479,21,23484,22,23488,23,23496,null,null,0,2222]
[21,23610,21,23620,22,23628,23,23636,null,null,0,2222]
[12,23773,14,23777,13,23781,14,23799,null,null,0,1111]
[21,23918,21,23922,22,23927,23,23931,null,null,null,2222]

{"sheet":"!L818B40.053","index":24,"n_rows":170,"n_cols":48,"rows_kept":170,"cut":false,"hidden":false,"merged":[[4,39,4,42],[5,39,5,40],[4,44,4,47],[5,44,5,45],[4,24,4,27],[5,24,5,25],[4,29,4,32],[5,29,5,30],[4,34,4,37],[5,34,5,35],[1,1,1,2],[5,13,5,14],[26,13,26,14],[27,13,27,14],[4,19,4,22],[5,19,5,20]]}
["Report for:!L818B40.053"]
["Date:","<date>"]
["Hen:","<hen>",null,null,null,"Correct Sequence",{"$f":"Start!J2","v":2212},null,null,null,null,null,null,null,null,"Total Sequences in Data",{"$f":"4994-COUNTBLANK(L7:L5000)","v":164},null,null,null,null,"Total Sequences in Block Data",{"$f":"COUNTA(L7:L33)","v":27},null,null,null,"Total Sequences in Block Data",{"$f":"COUNTA(L34:L61)","v":28},null,null,null,"Total Sequences in Block Data",{"$f":"COUNTA(L62:L88)","v":27},null,null,null,"Total Sequences in Block Data",{"$f":"COUNTA(L89:L115)","v":27},null,null,null,"Total Sequences in Block Data",{"$f":"COUNTA(L116:L143)","v":28},null,null,null,"Total Sequences in Block Data",{"$f":"COUNTA(L144:L170)","v":27}]
[null,null,null,null,null,null,null,null,null,null,null,null,null,null,null,"Total Sequences in Summary",{"$f":"SUM(O7:O22)","v":164},null,null,null,null,"Total Sequences in Block Summary",{"$f":"SUM(U7:U22)","v":27},null,null,null,"Total Sequences in Block Summary",{"$f":"SUM(Z7:Z22)","v":28},null,null,null,"Total Sequences in Block Summary",{"$f":"SUM(AE7:AE22)","v":27},null,null,null,"Total Sequences in Block Summary",{"$f":"SUM(AJ7:AJ22)","v":27},null,null,null,"Total Sequences in Block Summary",{"$f":"SUM(AO7:AO22)","v":28},null,null,null,"Total Sequences in Block Summary",{"$f":"SUM(AT7:AT22)","v":27}]
[null,null,null,null,null,null,null,null,null,null,null,null,null,null,null,null,null,null,null,"Block 1",null,null,null,null,"Block 2",null,null,null,null,"Block 3",null,null,null,null,"Block 4",null,null,null,null,"Block 5",null,null,null,null,"Block 6"]
["Sequence\nComponent\n1","Time\n1","Sequence\nComponent\n2","Time\n2","Sequence\nComponent\n3","Time\n3","Sequence\nComponent\n4","Time\n4","Sequence\nComponent\n5","Time\n5","Correct?\n0=No 1=Yes","Sequence",null,"Frequency",null,"Relative Frequency","Variability",null,null,"Frequency",null,"Relative Frequency","Variability",null,"Frequency",null,"Relative Frequency","Variability",null,"Frequency",null,"Relative Frequency","Variability",null,"Frequency",null,"Relative Frequency","Variability",null,"Frequency",null,"Relative Frequency","Variability",null,"Frequency",null,"Relative Frequency","Variability"]
[21,44,21,49,22,57,23,62,null,null,0,2222,null,1111,{"$f":"COUNTIF($L$7:$L$500,N7)","v":22},{"$f":"O7/$Q$4","v":0.13414634146341464},{"$f":"IF(P7=0,0,(P7*((LOG(P7))/LOG(2))))","v":-0.38877224689986156},null,null,{"$f":"N7","v":1111},{"$f":"COUNTIF(L7:L33,T7)","v":7},{"$f":"U7/(W4-U20)","v":0.25925925925925924},{"$f":"IF(V7=0,0,(V7*((LOG(V7))/LOG(2))))","v":-0.5049158541015204},null,{"$f":"N7","v":1111},{"$f":"COUNTIF(L34:L61,Y7)","v":0},{"$f":"Z7/(AB4-Z20)","v":0},{"$f":"IF(AA7=0,0,(AA7*((LOG(AA7))/LOG(2))))","v":0},null,{"$f":"N7","v":1111},{"$f":"COUNTIF(L62:L88,AD7)","v":1},{"$f":"AE7/(AG4-AE20)","v":3.7037037037037035E-2},{"$f":"IF(AF7=0,0,(AF7*((LOG(AF7))/LOG(2))))","v":-0.1761069445245729},null,{"$f":"N7","v":1111},{"$f":"COUNTIF(L89:L115,AI7)","v":0},{"$f":"AJ7/(AL4-AJ20)","v":0},{"$f":"IF(AK7=0,0,(AK7*((LOG(AK7))/LOG(2))))","v":0},null,{"$f":"N7","v":1111},{"$f":"COUNTIF(L116:L143,AN7)","v":4},{"$f":"AO7/(AQ4-AO20)","v":0.14285714285714285},{"$f":"IF(AP7=0,0,(AP7*((LOG(AP7))/LOG(2))))","v":-0.40105070315108626},null,{"$f":"N7","v":1111},{"$f":"COUNTIF(L144:L170,AS7)","v":10},{"$f":"AT7/(AV4-AT20)","v":0.37037037037037035},{"$f":"IF(AU7=0,0,(AU7*((LOG(AU7))/LOG(2))))","v":-0.53072570639855787}]
[12,214,14,219,13,223,14,227,null,null,0,1111,null,1112,{"$f":"COUNTIF($L$7:$L$500,N8)","v":1},{"$f":"O8/$Q$4","v":6.0975609756097563E-3},{"$f":"IF(P8=0,0,(P8*((LOG(P8))/LOG(2))))","v":-4.4863121979378563E-2},null,null,{"$f":"N8","v":1112},{"$f":"COUNTIF(L7:L33,T8)","v":0},{"$f":"U8/(W4-U20)","v":0},{"$f":"IF(V8=0,0,(V8*((LOG(V8))/LOG(2))))","v":0},null,{"$f":"N8","v":1112},{"$f":"COUNTIF(L34:L61,Y8)","v":0},{"$f":"Z8/(AB4-Z20)","v":0},{"$f":"IF(AA8=0,0,(AA8*((LOG(AA8))/LOG(2))))","v":0},null,{"$f":"N8","v":1112},{"$f":"COUNTIF(L62:L88,AD8)","v":0},{"$f":"AE8/(AG4-AE20)","v":0},{"$f":"IF(AF8=0,0,(AF8*((LOG(AF8))/LOG(2))))","v":0},null,{"$f":"N8","v":1112},{"$f":"COUNTIF(L89:L115,AI8)","v":1},{"$f":"AJ8/(AL4-AJ20)","v":3.7037037037037035E-2},{"$f":"IF(AK8=0,0,(AK8*((LOG(AK8))/LOG(2))))","v":-0.1761069445245729},null,{"$f":"N8","v":1112},{"$f":"COUNTIF(L116:L143,AN8)","v":0},{"$f":"AO8/(AQ4-AO20)","v":0},{"$f":"IF(AP8=0,0,(AP8*((LOG(AP8))/LOG(2))))","v":0},null,{"$f":"N8","v":1112},{"$f":"COUNTIF(L144:L170,AS8)","v":0},{"$f":"AT8/(AV4-AT20)","v":0},{"$f":"IF(AU8=0,0,(AU8*((LOG(AU8))/LOG(2))))","v":0}]
[12,366,14,371,13,375,14,382,null,null,0,1111,null,1121,{"$f":"COUNTIF($L$7:$L$500,N9)","v":0},{"$f":"O9/$Q$4","v":0},{"$f":"IF(P9=0,0,(P9*((LOG(P9))/LOG(2))))","v":0},null,null,{"$f":"N9","v":1121},{"$f":"COUNTIF(L7:L33,T9)","v":0},{"$f":"U9/(W4-U20)","v":0},{"$f":"IF(V9=0,0,(V9*((LOG(V9))/LOG(2))))","v":0},null,{"$f":"N9","v":1121},{"$f":"COUNTIF(L34:L61,Y9)","v":0},{"$f":"Z9/(AB4-Z20)","v":0},{"$f":"IF(AA9=0,0,(AA9*((LOG(AA9))/LOG(2))))","v":0},null,{"$f":"N9","v":1121},{"$f":"COUNTIF(L62:L88,AD9)","v":0},{"$f":"AE9/(AG4-AE20)","v":0},{"$f":"IF(AF9=0,0,(AF9*((LOG(AF9))/LOG(2))))","v":0},null,{"$f":"N9","v":1121},{"$f":"COUNTIF(L89:L115,AI9)","v":0},{"$f":"AJ9/(AL4-AJ20)","v":0},{"$f":"IF(AK9=0,0,(AK9*((LOG(AK9))/LOG(2))))","v":0},null,{"$f":"N9","v":1121},{"$f":"COUNTIF(L116:L143,AN9)","v":0},{"$f":"AO9/(AQ4-AO20)","v":0},{"$f":"IF(AP9=0,0,(AP9*((LOG(AP9))/LOG(2))))","v":0},null,{"$f":"N9","v":1121},{"$f":"COUNTIF(L144:L170,AS9)","v":0},{"$f":"AT9/(AV4-AT20)","v":0},{"$f":"IF(AU9=0,0,(AU9*((LOG(AU9))/LOG(2))))","v":0}]
[12,524,14,528,13,532,14,550,null,null,0,1111,null,1122,{"$f":"COUNTIF($L$7:$L$500,N10)","v":0},{"$f":"O10/$Q$4","v":0},{"$f":"IF(P10=0,0,(P10*((LOG(P10))/LOG(2))))","v":0},null,null,{"$f":"N10","v":1122},{"$f":"COUNTIF(L7:L33,T10)","v":0},{"$f":"U10/(W4-U20)","v":0},{"$f":"IF(V10=0,0,(V10*((LOG(V10))/LOG(2))))","v":0},null,{"$f":"N10","v":1122},{"$f":"COUNTIF(L34:L61,Y10)","v":0},{"$f":"Z10/(AB4-Z20)","v":0},{"$f":"IF(AA10=0,0,(AA10*((LOG(AA10))/LOG(2))))","v":0},null,{"$f":"N10","v":1122},{"$f":"COUNTIF(L62:L88,AD10)","v":0},{"$f":"AE10/(AG4-AE20)","v":0},{"$f":"IF(AF10=0,0,(AF10*((LOG(AF10))/LOG(2))))","v":0},null,{"$f":"N10","v":1122},{"$f":"COUNTIF(L89:L115,AI10)","v":0},{"$f":"AJ10/(AL4-AJ20)","v":0},{"$f":"IF(AK10=0,0,(AK10*((LOG(AK10))/LOG(2))))","v":0},null,{"$f":"N10","v":1122},{"$f":"COUNTIF(L116:L143,AN10)","v":0},{"$f":"AO10/(AQ4-AO20)","v":0},{"$f":"IF(AP10=0,0,(AP10*((LOG(AP10))/LOG(2))))","v":0},null,{"$f":"N10","v":1122},{"$f":"COUNTIF(L144:L170,AS10)","v":0},{"$f":"AT10/(AV4-AT20)","v":0},{"$f":"IF(AU10=0,0,(AU10*((LOG(AU10))/LOG(2))))","v":0}]
[21,701,21,707,22,713,23,719,null,null,0,2222,null,1211,{"$f":"COUNTIF($L$7:$L$500,N11)","v":0},{"$f":"O11/$Q$4","v":0},{"$f":"IF(P11=0,0,(P11*((LOG(P11))/LOG(2))))","v":0},null,null,{"$f":"N11","v":1211},{"$f":"COUNTIF(L7:L33,T11)","v":0},{"$f":"U11/(W4-U20)","v":0},{"$f":"IF(V11=0,0,(V11*((LOG(V11))/LOG(2))))","v":0},null,{"$f":"N11","v":1211},{"$f":"COUNTIF(L34:L61,Y11)","v":0},{"$f":"Z11/(AB4-Z20)","v":0},{"$f":"IF(AA11=0,0,(AA11*((LOG(AA11))/LOG(2))))","v":0},null,{"$f":"N11","v":1211},{"$f":"COUNTIF(L62:L88,AD11)","v":0},{"$f":"AE11/(AG4-AE20)","v":0},{"$f":"IF(AF11=0,0,(AF11*((LOG(AF11))/LOG(2))))","v":0},null,{"$f":"N11","v":1211},{"$f":"COUNTIF(L89:L115,AI11)","v":0},{"$f":"AJ11/(AL4-AJ20)","v":0},{"$f":"IF(AK11=0,0,(AK11*((LOG(AK11))/LOG(2))))","v":0},null,{"$f":"N11","v":1211},{"$f":"COUNTIF(L116:L143,AN11)","v":0},{"$f":"AO11/(AQ4-AO20)","v":0},{"$f":"IF(AP11=0,0,(AP11*((LOG(AP11))/LOG(2))))","v":0},null,{"$f":"N11","v":1211},{"$f":"COUNTIF(L144:L170,AS11)","v":0},{"$f":"AT11/(AV4-AT20)","v":0},{"$f":"IF(AU11=0,0,(AU11*((LOG(AU11))/LOG(2))))","v":0}]
[21,871,21,879,22,884,23,892,null,null,0,2222,null,1212,{"$f":"COUNTIF($L$7:$L$500,N12)","v":0},{"$f":"O12/$Q$4","v":0},{"$f":"IF(P12=0,0,(P12*((LOG(P12))/LOG(2))))","v":0},null,null,{"$f":"N12","v":1212},{"$f":"COUNTIF(L7:L33,T12)","v":0},{"$f":"U12/(W4-U20)","v":0},{"$f":"IF(V12=0,0,(V12*((LOG(V12))/LOG(2))))","v":0},null,{"$f":"N12","v":1212},{"$f":"COUNTIF(L34:L61,Y12)","v":0},{"$f":"Z12/(AB4-Z20)","v":0},{"$f":"IF(AA12=0,0,(AA12*((LOG(AA12))/LOG(2))))","v":0},null,{"$f":"N12","v":1212},{"$f":"COUNTIF(L62:L88,AD12)","v":0},{"$f":"AE12/(AG4-AE20)","v":0},{"$f":"IF(AF12=0,0,(AF12*((LOG(AF12))/LOG(2))))","v":0},null,{"$f":"N12","v":1212},{"$f":"COUNTIF(L89:L115,AI12)","v":0},{"$f":"AJ12/(AL4-AJ20)","v":0},{"$f":"IF(AK12=0,0,(AK12*((LOG(AK12))/LOG(2))))","v":0},null,{"$f":"N12","v":1212},{"$f":"COUNTIF(L116:L143,AN12)","v":0},{"$f":"AO12/(AQ4-AO20)","v":0},{"$f":"IF(AP12=0,0,(AP12*((LOG(AP12))/LOG(2))))","v":0},null,{"$f":"N12","v":1212},{"$f":"COUNTIF(L144:L170,AS12)","v":0},{"$f":"AT12/(AV4-AT20)","v":0},{"$f":"IF(AU12=0,0,(AU12*((LOG(AU12))/LOG(2))))","v":0}]
[21,1015,21,1024,22,1028,23,1037,null,null,0,2222,null,1221,{"$f":"COUNTIF($L$7:$L$500,N13)","v":0},{"$f":"O13/$Q$4","v":0},{"$f":"IF(P13=0,0,(P13*((LOG(P13))/LOG(2))))","v":0},null,null,{"$f":"N13","v":1221},{"$f":"COUNTIF(L7:L33,T13)","v":0},{"$f":"U13/(W4-U20)","v":0},{"$f":"IF(V13=0,0,(V13*((LOG(V13))/LOG(2))))","v":0},null,{"$f":"N13","v":1221},{"$f":"COUNTIF(L34:L61,Y13)","v":0},{"$f":"Z13/(AB4-Z20)","v":0},{"$f":"IF(AA13=0,0,(AA13*((LOG(AA13))/LOG(2))))","v":0},null,{"$f":"N13","v":1221},{"$f":"COUNTIF(L62:L88,AD13)","v":0},{"$f":"AE13/(AG4-AE20)","v":0},{"$f":"IF(AF13=0,0,(AF13*((LOG(AF13))/LOG(2))))","v":0},null,{"$f":"N13","v":1221},{"$f":"COUNTIF(L89:L115,AI13)","v":0},{"$f":"AJ13/(AL4-AJ20)","v":0},{"$f":"IF(AK13=0,0,(AK13*((LOG(AK13))/LOG(2))))","v":0},null,{"$f":"N13","v":1221},{"$f":"COUNTIF(L116:L143,AN13)","v":0},{"$f":"AO13/(AQ4-AO20)","v":0},{"$f":"IF(AP13=0,0,(AP13*((LOG(AP13))/LOG(2))))","v":0},null,{"$f":"N13","v":1221},{"$f":"COUNTIF(L144:L170,AS13)","v":0},{"$f":"AT13/(AV4-AT20)","v":0},{"$f":"IF(AU13=0,0,(AU13*((LOG(AU13))/LOG(2))))","v":0}]
[21,1223,21,1230,22,1235,23,1244,null,null,0,2222,null,1222,{"$f":"COUNTIF($L$7:$L$500,N14)","v":4},{"$f":"O14/$Q$4","v":2.4390243902439025E-2},{"$f":"IF(P14=0,0,(P14*((LOG(P14))/LOG(2))))","v":-0.13067200011263619},null,null,{"$f":"N14","v":1222},{"$f":"COUNTIF(L7:L33,T14)","v":1},{"$f":"U14/(W4-U20)","v":3.7037037037037035E-2},{"$f":"IF(V14=0,0,(V14*((LOG(V14))/LOG(2))))","v":-0.1761069445245729},null,{"$f":"N14","v":1222},{"$f":"COUNTIF(L34:L61,Y14)","v":0},{"$f":"Z14/(AB4-Z20)","v":0},{"$f":"IF(AA14=0,0,(AA14*((LOG(AA14))/LOG(2))))","v":0},null,{"$f":"N14","v":1222},{"$f":"COUNTIF(L62:L88,AD14)","v":0},{"$f":"AE14/(AG4-AE20)","v":0},{"$f":"IF(AF14=0,0,(AF14*((LOG(AF14))/LOG(2))))","v":0},null,{"$f":"N14","v":1222},{"$f":"COUNTIF(L89:L115,AI14)","v":2},{"$f":"AJ14/(AL4-AJ20)","v":7.407407407407407E-2},{"$f":"IF(AK14=0,0,(AK14*((LOG(AK14))/LOG(2))))","v":-0.27813981497507173},null,{"$f":"N14","v":1222},{"$f":"COUNTIF(L116:L143,AN14)","v":0},{"$f":"AO14/(AQ4-AO20)","v":0},{"$f":"IF(AP14=0,0,(AP14*((LOG(AP14))/LOG(2))))","v":0},null,{"$f":"N14","v":1222},{"$f":"COUNTIF(L144:L170,AS14)","v":1},{"$f":"AT14/(AV4-AT20)","v":3.7037037037037035E-2},{"$f":"IF(AU14=0,0,(AU14*((LOG(AU14))/LOG(2))))","v":-0.1761069445245729}]
[21,1418,21,1424,22,1431,23,1435,null,null,0,2222,null,2111,{"$f":"COUNTIF($L$7:$L$500,N15)","v":15},{"$f":"O15/$Q$4","v":9.1463414634146339E-2},{"$f":"IF(P15=0,0,(P15*((LOG(P15))/LOG(2))))","v":-0.3156092752142895},null,null,{"$f":"N15","v":2111},{"$f":"COUNTIF(L7:L33,T15)","v":3},{"$f":"U15/(W4-U20)","v":0.1111111111111111},{"$f":"IF(V15=0,0,(V15*((LOG(V15))/LOG(2))))","v":-0.3522138890491458},null,{"$f":"N15","v":2111},{"$f":"COUNTIF(L34:L61,Y15)","v":3},{"$f":"Z15/(AB4-Z20)","v":0.10714285714285714},{"$f":"IF(AA15=0,0,(AA15*((LOG(AA15))/LOG(2))))","v":-0.34525633085747659},null,{"$f":"N15","v":2111},{"$f":"COUNTIF(L62:L88,AD15)","v":0},{"$f":"AE15/(AG4-AE20)","v":0},{"$f":"IF(AF15=0,0,(AF15*((LOG(AF15))/LOG(2))))","v":0},null,{"$f":"N15","v":2111},{"$f":"COUNTIF(L89:L115,AI15)","v":3},{"$f":"AJ15/(AL4-AJ20)","v":0.1111111111111111},{"$f":"IF(AK15=0,0,(AK15*((LOG(AK15))/LOG(2))))","v":-0.3522138890491458},null,{"$f":"N15","v":2111},{"$f":"COUNTIF(L116:L143,AN15)","v":2},{"$f":"AO15/(AQ4-AO20)","v":7.1428571428571425E-2},{"$f":"IF(AP15=0,0,(AP15*((LOG(AP15))/LOG(2))))","v":-0.27195392300411453},null,{"$f":"N15","v":2111},{"$f":"COUNTIF(L144:L170,AS15)","v":4},{"$f":"AT15/(AV4-AT20)","v":0.14814814814814814},{"$f":"IF(AU15=0,0,(AU15*((LOG(AU15))/LOG(2))))","v":-0.40813148180199532}]
[21,1557,12,1566,13,1571,14,1575,null,null,0,2111,null,2112,{"$f":"COUNTIF($L$7:$L$500,N16)","v":0},{"$f":"O16/$Q$4","v":0},{"$f":"IF(P16=0,0,(P16*((LOG(P16))/LOG(2))))","v":0},null,null,{"$f":"N16","v":2112},{"$f":"COUNTIF(L7:L33,T16)","v":0},{"$f":"U16/(W4-U20)","v":0},{"$f":"IF(V16=0,0,(V16*((LOG(V16))/LOG(2))))","v":0},null,{"$f":"N16","v":2112},{"$f":"COUNTIF(L34:L61,Y16)","v":0},{"$f":"Z16/(AB4-Z20)","v":0},{"$f":"IF(AA16=0,0,(AA16*((LOG(AA16))/LOG(2))))","v":0},null,{"$f":"N16","v":2112},{"$f":"COUNTIF(L62:L88,AD16)","v":0},{"$f":"AE16/(AG4-AE20)","v":0},{"$f":"IF(AF16=0,0,(AF16*((LOG(AF16))/LOG(2))))","v":0},null,{"$f":"N16","v":2112},{"$f":"COUNTIF(L89:L115,AI16)","v":0},{"$f":"AJ16/(AL4-AJ20)","v":0},{"$f":"IF(AK16=0,0,(AK16*((LOG(AK16))/LOG(2))))","v":0},null,{"$f":"N16","v":2112},{"$f":"COUNTIF(L116:L143,AN16)","v":0},{"$f":"AO16/(AQ4-AO20)","v":0},{"$f":"IF(AP16=0,0,(AP16*((LOG(AP16))/LOG(2))))","v":0},null,{"$f":"N16","v":2112},{"$f":"COUNTIF(L144:L170,AS16)","v":0},{"$f":"AT16/(AV4-AT20)","v":0},{"$f":"IF(AU16=0,0,(AU16*((LOG(AU16))/LOG(2))))","v":0}]
[21,1709,21,1714,22,1719,23,1726,null,null,0,2222,null,2121,{"$f":"COUNTIF($L$7:$L$500,N17)","v":0},{"$f":"O17/$Q$4","v":0},{"$f":"IF(P17=0,0,(P17*((LOG(P17))/LOG(2))))","v":0},null,null,{"$f":"N17","v":2121},{"$f":"COUNTIF(L7:L33,T17)","v":0},{"$f":"U17/(W4-U20)","v":0},{"$f":"IF(V17=0,0,(V17*((LOG(V17))/LOG(2))))","v":0},null,{"$f":"N17","v":2121},{"$f":"COUNTIF(L34:L61,Y17)","v":0},{"$f":"Z17/(AB4-Z20)","v":0},{"$f":"IF(AA17=0,0,(AA17*((LOG(AA17))/LOG(2))))","v":0},null,{"$f":"N17","v":2121},{"$f":"COUNTIF(L62:L88,AD17)","v":0},{"$f":"AE17/(AG4-AE20)","v":0},{"$f":"IF(AF17=0,0,(AF17*((LOG(AF17))/LOG(2))))","v":0},null,{"$f":"N17","v":2121},{"$f":"COUNTIF(L89:L115,AI17)","v":0},{"$f":"AJ17/(AL4-AJ20)","v":0},{"$f":"IF(AK17=0,0,(AK17*((LOG(AK17))/LOG(2))))","v":0},null,{"$f":"N17","v":2121},{"$f":"COUNTIF(L116:L143,AN17)","v":0},{"$f":"AO17/(AQ4-AO20)","v":0},{"$f":"IF(AP17=0,0,(AP17*((LOG(AP17))/LOG(2))))","v":0},null,{"$f":"N17","v":2121},{"$f":"COUNTIF(L144:L170,AS17)","v":0},{"$f":"AT17/(AV4-AT20)","v":0},{"$f":"IF(AU17=0,0,(AU17*((LOG(AU17))/LOG(2))))","v":0}]
[21,1877,21,1881,22,1885,23,1890,null,null,0,2222,null,2122,{"$f":"COUNTIF($L$7:$L$500,N18)","v":0},{"$f":"O18/$Q$4","v":0},{"$f":"IF(P18=0,0,(P18*((LOG(P18))/LOG(2))))","v":0},null,null,{"$f":"N18","v":2122},{"$f":"COUNTIF(L7:L33,T18)","v":0},{"$f":"U18/(W4-U20)","v":0},{"$f":"IF(V18=0,0,(V18*((LOG(V18))/LOG(2))))","v":0},null,{"$f":"N18","v":2122},{"$f":"COUNTIF(L34:L61,Y18)","v":0},{"$f":"Z18/(AB4-Z20)","v":0},{"$f":"IF(AA18=0,0,(AA18*((LOG(AA18))/LOG(2))))","v":0},null,{"$f":"N18","v":2122},{"$f":"COUNTIF(L62:L88,AD18)","v":0},{"$f":"AE18/(AG4-AE20)","v":0},{"$f":"IF(AF18=0,0,(AF18*((LOG(AF18))/LOG(2))))","v":0},null,{"$f":"N18","v":2122},{"$f":"COUNTIF(L89:L115,AI18)","v":0},{"$f":"AJ18/(AL4-AJ20)","v":0},{"$f":"IF(AK18=0,0,(AK18*((LOG(AK18))/LOG(2))))","v":0},null,{"$f":"N18","v":2122},{"$f":"COUNTIF(L116:L143,AN18)","v":0},{"$f":"AO18/(AQ4-AO20)","v":0},{"$f":"IF(AP18=0,0,(AP18*((LOG(AP18))/LOG(2))))","v":0},null,{"$f":"N18","v":2122},{"$f":"COUNTIF(L144:L170,AS18)","v":0},{"$f":"AT18/(AV4-AT20)","v":0},{"$f":"IF(AU18=0,0,(AU18*((LOG(AU18))/LOG(2))))","v":0}]
[21,2013,21,2022,22,2032,23,2039,null,null,0,2222,null,2211,{"$f":"COUNTIF($L$7:$L$500,N19)","v":3},{"$f":"O19/$Q$4","v":1.8292682926829267E-2},{"$f":"IF(P19=0,0,(P19*((LOG(P19))/LOG(2))))","v":-0.10559614946152916},null,null,{"$f":"N19","v":2211},{"$f":"COUNTIF(L7:L33,T19)","v":0},{"$f":"U19/(W4-U20)","v":0},{"$f":"IF(V19=0,0,(V19*((LOG(V19))/LOG(2))))","v":0},null,{"$f":"N19","v":2211},{"$f":"COUNTIF(L34:L61,Y19)","v":0},{"$f":"Z19/(AB4-Z20)","v":0},{"$f":"IF(AA19=0,0,(AA19*((LOG(AA19))/LOG(2))))","v":0},null,{"$f":"N19","v":2211},{"$f":"COUNTIF(L62:L88,AD19)","v":0},{"$f":"AE19/(AG4-AE20)","v":0},{"$f":"IF(AF19=0,0,(AF19*((LOG(AF19))/LOG(2))))","v":0},null,{"$f":"N19","v":2211},{"$f":"COUNTIF(L89:L115,AI19)","v":1},{"$f":"AJ19/(AL4-AJ20)","v":3.7037037037037035E-2},{"$f":"IF(AK19=0,0,(AK19*((LOG(AK19))/LOG(2))))","v":-0.1761069445245729},null,{"$f":"N19","v":2211},{"$f":"COUNTIF(L116:L143,AN19)","v":1},{"$f":"AO19/(AQ4-AO20)","v":3.5714285714285712E-2},{"$f":"IF(AP19=0,0,(AP19*((LOG(AP19))/LOG(2))))","v":-0.17169124721634299},null,{"$f":"N19","v":2211},{"$f":"COUNTIF(L144:L170,AS19)","v":1},{"$f":"AT19/(AV4-AT20)","v":3.7037037037037035E-2},{"$f":"IF(AU19=0,0,(AU19*((LOG(AU19))/LOG(2))))","v":-0.1761069445245729}]
[12,2163,14,2168,13,2173,14,2178,null,null,0,1111,null,2212,{"$f":"COUNTIF($L$7:$L$500,N20)","v":0},{"$f":"O20/$Q$4","v":0},{"$f":"IF(P20=0,0,(P20*((LOG(P20))/LOG(2))))","v":0},null,null,{"$f":"N20","v":2212},{"$f":"COUNTIF(L7:L33,T20)","v":0},null,null,null,{"$f":"N20","v":2212},{"$f":"COUNTIF(L34:L61,Y20)","v":0},null,null,null,{"$f":"N20","v":2212},{"$f":"COUNTIF(L62:L88,AD20)","v":0},null,null,null,{"$f":"N20","v":2212},{"$f":"COUNTIF(L89:L115,AI20)","v":0},null,null,null,{"$f":"N20","v":2212},{"$f":"COUNTIF(L116:L143,AN20)","v":0},null,null,null,{"$f":"N20","v":2212},{"$f":"COUNTIF(L144:L170,AS20)","v":0}]
[21,2321,12,2331,13,2339,14,2343,null,null,0,2111,null,2221,{"$f":"COUNTIF($L$7:$L$500,N21)","v":1},{"$f":"O21/$Q$4","v":6.0975609756097563E-3},{"$f":"IF(P21=0,0,(P21*((LOG(P21))/LOG(2))))","v":-4.4863121979378563E-2},null,null,{"$f":"N21","v":2221},{"$f":"COUNTIF(L7:L33,T21)","v":0},{"$f":"U21/(W4-U20)","v":0},{"$f":"IF(V21=0,0,(V21*((LOG(V21))/LOG(2))))","v":0},null,{"$f":"N21","v":2221},{"$f":"COUNTIF(L34:L61,Y21)","v":0},{"$f":"Z21/(AB4-Z20)","v":0},{"$f":"IF(AA21=0,0,(AA21*((LOG(AA21))/LOG(2))))","v":0},null,{"$f":"N21","v":2221},{"$f":"COUNTIF(L62:L88,AD21)","v":0},{"$f":"AE21/(AG4-AE20)","v":0},{"$f":"IF(AF21=0,0,(AF21*((LOG(AF21))/LOG(2))))","v":0},null,{"$f":"N21","v":2221},{"$f":"COUNTIF(L89:L115,AI21)","v":0},{"$f":"AJ21/(AL4-AJ20)","v":0},{"$f":"IF(AK21=0,0,(AK21*((LOG(AK21))/LOG(2))))","v":0},null,{"$f":"N21","v":2221},{"$f":"COUNTIF(L116:L143,AN21)","v":1},{"$f":"AO21/(AQ4-AO20)","v":3.5714285714285712E-2},{"$f":"IF(AP21=0,0,(AP21*((LOG(AP21))/LOG(2))))","v":-0.17169124721634299},null,{"$f":"N21","v":2221},{"$f":"COUNTIF(L144:L170,AS21)","v":0},{"$f":"AT21/(AV4-AT20)","v":0},{"$f":"IF(AU21=0,0,(AU21*((LOG(AU21))/LOG(2))))","v":0}]
[21,2467,21,2472,22,2481,23,2486,null,null,0,2222,null,2222,{"$f":"COUNTIF($L$7:$L$500,N22)","v":118},{"$f":"O22/$Q$4","v":0.71951219512195119},{"$f":"IF(P22=0,0,(P22*((LOG(P22))/LOG(2))))","v":-0.34170278487949152},null,null,{"$f":"N22","v":2222},{"$f":"COUNTIF(L7:L33,T22)","v":16},{"$f":"U22/(W4-U20)","v":0.59259259259259256},{"$f":"IF(V22=0,0,(V22*((LOG(V22))/LOG(2))))","v":-0.44734074202279617},null,{"$f":"N22","v":2222},{"$f":"COUNTIF(L34:L61,Y22)","v":25},{"$f":"Z22/(AB4-Z20)","v":0.8928571428571429},{"$f":"IF(AA22=0,0,(AA22*((LOG(AA22))/LOG(2))))","v":-0.14598101096685656},null,{"$f":"N22","v":2222},{"$f":"COUNTIF(L62:L88,AD22)","v":26},{"$f":"AE22/(AG4-AE20)","v":0.96296296296296291},{"$f":"IF(AF22=0,0,(AF22*((LOG(AF22))/LOG(2))))","v":-5.2431199428955105E-2},null,{"$f":"N22","v":2222},{"$f":"COUNTIF(L89:L115,AI22)","v":20},{"$f":"AJ22/(AL4-AJ20)","v":0.7407407407407407},{"$f":"IF(AK22=0,0,(AK22*((LOG(AK22))/LOG(2))))","v":-0.32071067205637499},null,{"$f":"N22","v":2222},{"$f":"COUNTIF(L116:L143,AN22)","v":20},{"$f":"AO22/(AQ4-AO20)","v":0.7142857142857143},{"$f":"IF(AP22=0,0,(AP22*((LOG(AP22))/LOG(2))))","v":-0.34673344797874411},null,{"$f":"N22","v":2222},{"$f":"COUNTIF(L144:L170,AS22)","v":11},{"$f":"AT22/(AV4-AT20)","v":0.40740740740740738},{"$f":"IF(AU22=0,0,(AU22*((LOG(AU22))/LOG(2))))","v":-0.52777832291806981}]
[12,2604,14,2608,13,2612,14,2616,null,null,0,1111,null,null,null,{"$f":"SUM(P7:P22)","v":1},{"$f":"-SUM(Q7:Q22)","v":1.3720787005265651},null,null,null,null,{"$f":"SUM(V7:V22)","v":1},{"$f":"-SUM(W7:W22)","v":1.4805774296980352},null,null,null,{"$f":"SUM(AA7:AA22)","v":1},{"$f":"-SUM(AB7:AB22)","v":0.49123734182433315},null,null,null,{"$f":"SUM(AF7:AF22)","v":1},{"$f":"-SUM(AG7:AG22)","v":0.22853814395352801},null,null,null,{"$f":"SUM(AK7:AK22)","v":1},{"$f":"-SUM(AL7:AL22)","v":1.3032782651297383},null,null,null,{"$f":"SUM(AP7:AP22)","v":1},{"$f":"-SUM(AQ7:AQ22)","v":1.3631205685666308},null,null,null,{"$f":"SUM(AU7:AU22)","v":1},{"$f":"-SUM(AV7:AV22)","v":1.8188494001677689}]
[21,2789,21,2794,22,2802,23,2809,null,null,0,2222,null,null,null,"U=",{"$f":"Q23/(LOG(Q4)/LOG(2))","v":0.18648576315401622},null,null,null,null,"U1=",{"$f":"W23/(LOG(W4)/LOG(2))","v":0.31138011762094775},null,null,null,"U2=",{"$f":"AB23/(LOG(AB4)/LOG(2))","v":0.10218453802326662},null,null,null,"U3=",{"$f":"AG23/(LOG(AG4)/LOG(2))","v":4.8063838282092569E-2},null,null,null,"U4=",{"$f":"AL23/(LOG(AL4)/LOG(2))","v":0.27409234488444745},null,null,null,"U5=",{"$f":"AQ23/(LOG(AQ4)/LOG(2))","v":0.28354897665496254},null,null,null,"U6=",{"$f":"AV23/(LOG(AV4)/LOG(2))","v":0.38252206794381455}]
[21,2945,21,2949,22,2957,23,2965,null,null,0,2222]
[12,3091,23,3101,24,3108,23,3116,null,null,0,1222]
[21,3250,21,3254,22,3259,23,3264,null,null,0,2222,null,"Total Target Seq"]
[12,3410,14,3415,13,3419,14,3435,null,null,0,1111,null,{"$f":"COUNTIF(L7:L170,G3)","v":0},null,27,28,27,27,28,27]
[21,3561,21,3566,22,3573,23,3578,null,null,0,2222,null,null,null,"% of reinforcement given in 6 equal intervals based on number of trials "]
[21,3701,12,3711,13,3718,14,3726,null,null,0,2111,null,null,null,"%_1","%_2","%_3","%_4","%_5","%_6"]
[21,3845,21,3849,22,3857,23,3862,null,null,0,2222,null,null,"target sequence",{"$f":"$G$3","v":2212},{"$f":"$G$3","v":2212},{"$f":"$G$3","v":2212},{"$f":"$G$3","v":2212},{"$f":"$G$3","v":2212},{"$f":"$G$3","v":2212}]
[21,4012,21,4017,22,4025,23,4033,null,null,0,2222,null,null,"total reinforcement",{"$f":"U20","v":0},{"$f":"Z20","v":0},{"$f":"AE20","v":0},{"$f":"AJ20","v":0},{"$f":"AO20","v":0},{"$f":"AT20","v":0}]
[12,4169,14,4173,13,4177,14,4185,null,null,0,1111,null,null,"% target"]
[21,4333,12,4346,13,4351,14,4355,null,null,0,2111,null,null,"CCRF"]
[21,4471,21,4480,22,4487,23,4494,null,null,0,2222,null,null,"% CCRf"]
[21,4603,21,4616,22,4624,23,4631,null,null,0,2222,null,null,"average response rate",{"$f":"H33/P28","v":155},{"$f":"(H61-H33)/Q28","v":142.82142857142858},{"$f":"(H88-H61)/R28","v":144.74074074074073},{"$f":"(H115-H88)/S28","v":143.88888888888889},{"$f":"(H143-H115)/T28","v":147.96428571428572},{"$f":"(H170-H143)/U28","v":143.5185185185185}]
[21,4741,21,4747,22,4751,23,4758,null,null,0,2222]
[21,4899,21,4903,22,4908,23,4912,null,null,0,2222]
[21,5032,21,5036,22,5044,23,5049,null,null,0,2222]
[21,5177,12,5186,13,5191,14,5195,null,null,0,2111]
[21,5313,21,5321,22,5325,23,5333,null,null,0,2222]
[21,5451,21,5456,22,5460,23,5467,null,null,0,2222]
[21,5610,21,5615,22,5619,23,5627,null,null,0,2222]
[21,5749,21,5757,22,5761,23,5765,null,null,0,2222]
[21,5889,21,5897,22,5905,23,5909,null,null,0,2222]
[21,6048,21,6057,22,6065,23,6070,null,null,0,2222]
[21,6188,21,6192,22,6198,23,6205,null,null,0,2222]
[21,6320,21,6329,22,6333,23,6341,null,null,0,2222]
[21,6456,12,6467,13,6471,14,6479,null,null,0,2111]
[21,6611,21,6615,22,6621,23,6628,null,null,0,2222]
[21,6746,21,6753,22,6757,23,6765,null,null,0,2222]
[21,6891,21,6902,22,6910,23,6917,null,null,0,2222]
[21,7024,21,7035,22,7040,23,7047,null,null,0,2222]
[21,7168,21,7174,22,7183,23,7187,null,null,0,2222]
[21,7310,21,7319,22,7327,23,7331,null,null,0,2222]
[21,7457,21,7462,22,7467,23,7475,null,null,0,2222]
[21,7589,21,7593,22,7597,23,7603,null,null,0,2222]
[21,7724,21,7728,22,7735,23,7741,null,null,0,2222]
[21,7858,21,7866,22,7874,23,7882,null,null,0,2222]
[21,8033,21,8038,22,8046,23,8050,null,null,0,2222]
[21,8168,21,8176,22,8180,23,8184,null,null,0,2222]
[21,8305,21,8309,22,8313,23,8317,null,null,0,2222]
[21,8439,21,8452,22,8458,23,8466,null,null,0,2222]
[21,8592,21,8596,22,8603,23,8611,null,null,0,2222]
[21,8715,21,8733,22,8740,23,8748,null,null,0,2222]
[21,8857,21,8868,22,8875,23,8883,null,null,0,2222]
[21,9003,21,9007,22,9014,23,9022,null,null,0,2222]
[21,9141,21,9148,22,9152,23,9157,null,null,0,2222]
[21,9315,21,9320,22,9328,23,9333,null,null,0,2222]
[21,9452,21,9457,22,9462,23,9467,null,null,0,2222]
[21,9578,21,9589,22,9593,23,9598,null,null,0,2222]
[21,9738,21,9746,22,9753,23,9762,null,null,0,2222]
[21,9922,21,9927,22,9931,23,9939,null,null,0,2222]
[21,10064,21,10069,22,10073,23,10077,null,null,0,2222]
[21,10234,21,10249,22,10257,23,10264,null,null,0,2222]
[21,10382,21,10386,22,10392,23,10396,null,null,0,2222]
[21,10509,21,10513,22,10517,23,10521,null,null,0,2222]
[21,10650,21,10656,22,10663,23,10670,null,null,0,2222]
[21,10805,21,10812,22,10816,23,10824,null,null,0,2222]
[21,10933,21,10953,22,10960,23,10966,null,null,0,2222]
[21,11097,21,11106,22,11110,23,11115,null,null,0,2222]
[21,11232,21,11239,22,11246,23,11255,null,null,0,2222]
[21,11384,21,11392,22,11397,23,11403,null,null,0,2222]
[21,11528,21,11536,22,11546,23,11553,null,null,0,2222]
[21,11685,21,11690,22,11695,23,11699,null,null,0,2222]
[21,11815,21,11821,22,11828,23,11836,null,null,0,2222]
[12,11948,14,11957,13,11965,14,11969,null,null,0,1111]
[21,12078,21,12084,22,12087,23,12092,null,null,0,2222]
[21,12217,21,12225,22,12232,23,12237,null,null,0,2222]
[21,12353,21,12365,22,12377,23,12382,null,null,0,2222]
[21,12503,21,12508,22,12512,23,12517,null,null,0,2222]
[21,12633,21,12642,22,12647,23,12656,null,null,0,2222]
[21,12792,12,12801,13,12808,14,12816,null,null,0,2111]
[21,12935,12,12948,13,12952,14,12960,null,null,0,2111]
[21,13089,21,13094,22,13102,23,13106,null,null,0,2222]
[21,13252,12,13274,13,13279,14,13286,null,null,0,2111]
[21,13396,21,13402,22,13410,23,13419,null,null,0,2222]
[21,13538,21,13543,22,13550,23,13555,null,null,0,2222]
[21,13671,21,13680,22,13688,23,13692,null,null,0,2222]
[21,13807,21,13812,22,13817,23,13824,null,null,0,2222]
[21,13932,21,13937,22,13941,23,13950,null,null,0,2222]
[21,14061,21,14066,22,14070,23,14075,null,null,0,2222]
[21,14189,21,14191,11,14210,12,14215,null,null,0,2211]
[21,14428,21,14436,22,14441,23,14448,null,null,0,2222]
[21,14575,21,14580,22,14584,23,14592,null,null,0,2222]
[12,14711,14,14715,13,14723,23,14763,null,null,0,1112]
[21,14882,21,14886,22,14893,23,14901,null,null,0,2222]
[21,15020,21,15024,22,15031,23,15039,null,null,0,2222]
[12,15150,23,15161,24,15168,23,15177,null,null,0,1222]
[21,15289,21,15293,22,15298,23,15302,null,null,0,2222]
[21,15408,21,15416,22,15422,23,15429,null,null,0,2222]
[21,15541,21,15549,22,15554,23,15562,null,null,0,2222]
[21,15675,21,15681,22,15689,23,15697,null,null,0,2222]
[12,15803,23,15819,24,15827,23,15831,null,null,0,1222]
[21,15956,21,15964,22,15969,23,15977,null,null,0,2222]
[21,16091,21,16100,22,16108,23,16116,null,null,0,2222]
[21,16237,21,16245,22,16250,23,16258,null,null,0,2222]
[21,16366,21,16377,22,16384,23,16391,null,null,0,2222]
[12,16535,14,16540,13,16544,14,16559,null,null,0,1111]
[21,16687,21,16695,22,16701,23,16708,null,null,0,2222]
[21,16826,21,16831,22,16839,23,16847,null,null,0,2222]
[21,16959,21,16968,22,16973,23,16982,null,null,0,2222]
[21,17093,21,17102,22,17110,23,17118,null,null,0,2222]
[21,17272,21,17280,22,17294,23,17302,null,null,0,2222]
[21,17430,12,17443,13,17450,14,17469,null,null,0,2111]
[21,17584,21,17588,22,17592,23,17597,null,null,0,2222]
[21,17710,21,17715,11,17730,12,17734,null,null,0,2211]
[21,17957,21,17967,22,17974,23,17978,null,null,0,2222]
[12,18123,14,18127,13,18131,14,18136,null,null,0,1111]
[21,18250,21,18258,22,18266,23,18270,null,null,0,2222]
[12,18370,14,18380,13,18389,14,18393,null,null,0,1111]
[21,18509,21,18520,22,18530,23,18537,null,null,0,2222]
[21,18650,21,18655,22,18659,23,18663,null,null,0,2222]
[21,18805,21,18813,22,18819,23,18826,null,null,0,2222]
[21,18939,21,18944,22,18948,23,18953,null,null,0,2222]
[21,19085,21,19092,22,19097,23,19101,null,null,0,2222]
[21,19216,21,19224,22,19229,23,19234,null,null,0,2222]
[21,19365,21,19369,22,19380,14,19415,null,null,0,2221]
[21,19520,12,19538,13,19545,14,19549,null,null,0,2111]
[21,19682,21,19687,22,19694,23,19699,null,null,0,2222]
[12,19820,14,19828,13,19832,14,19840,null,null,0,1111]
[21,19958,21,19963,22,19971,23,19975,null,null,0,2222]
[21,20090,21,20101,22,20108,23,20120,null,null,0,2222]
[12,20248,14,20255,13,20260,14,20264,null,null,0,1111]
[12,20427,14,20431,13,20436,14,20441,null,null,0,1111]
[12,20565,14,20569,13,20573,14,20578,null,null,0,1111]
[21,20715,21,20720,22,20724,23,20728,null,null,0,2222]
[12,20847,14,20854,13,20859,14,20864,null,null,0,1111]
[12,20974,14,20995,13,20999,14,21003,null,null,0,1111]
[12,21160,14,21166,13,21170,14,21175,null,null,0,1111]
[21,21295,21,21299,22,21303,23,21311,null,null,0,2222]
[21,21453,21,21458,22,21462,23,21470,null,null,0,2222]
[21,21580,21,21586,11,21596,12,21600,null,null,0,2211]
[21,21711,21,21722,22,21727,23,21731,null,null,0,2222]
[21,21859,21,21863,22,21868,23,21872,null,null,0,2222]
[12,21991,14,22000,13,22005,14,22015,null,null,0,1111]
[21,22116,12,22128,13,22132,14,22136,null,null,0,2111]
[21,22253,21,22260,22,22264,23,22269,null,null,0,2222]
[21,22394,21,22399,22,22414,23,22422,null,null,0,2222]
[21,22546,21,22550,22,22555,23,22561,null,null,0,2222]
[12,22661,23,22678,24,22683,23,22690,null,null,0,1222]
[21,22830,21,22838,22,22846,23,22855,null,null,0,2222]
[12,22993,14,22998,13,23002,14,23017,null,null,0,1111]
[21,23145,12,23162,13,23166,14,23170,null,null,0,2111]
[12,23291,14,23300,13,23304,14,23310,null,null,0,1111]
[21,23423,21,23427,22,23431,23,23435,null,null,0,2222]
[21,23555,12,23567,13,23571,14,23575,null,null,0,2111]
[21,23689,12,23699,13,23703,14,23707,null,null,0,2111]
[12,23827,14,23830,13,23834,14,23838,null,null,0,1111]
[21,23978,21,23983,22,23991,23,23995,null,null,null,2222]

{"sheet":"!L819920.053","index":25,"n_rows":188,"n_cols":48,"rows_kept":188,"cut":false,"hidden":false,"merged":[[4,39,4,42],[5,39,5,40],[4,44,4,47],[5,44,5,45],[4,24,4,27],[5,24,5,25],[4,29,4,32],[5,29,5,30],[4,34,4,37],[5,34,5,35],[1,1,1,2],[5,13,5,14],[26,13,26,14],[27,13,27,14],[4,19,4,22],[5,19,5,20]]}
["Report for:!L819920.053"]
["Date:","<date>"]
["Hen:","<hen>",null,null,null,"Correct Sequence",{"$f":"Start!J2","v":2212},null,null,null,null,null,null,null,null,"Total Sequences in Data",{"$f":"4994-COUNTBLANK(L7:L5000)","v":182},null,null,null,null,"Total Sequences in Block Data",{"$f":"COUNTA(L7:L36)","v":30},null,null,null,"Total Sequences in Block Data",{"$f":"COUNTA(L37:L67)","v":31},null,null,null,"Total Sequences in Block Data",{"$f":"COUNTA(L68:L97)","v":30},null,null,null,"Total Sequences in Block Data",{"$f":"COUNTA(L98:L127)","v":30},null,null,null,"Total Sequences in Block Data",{"$f":"COUNTA(L128:L158)","v":31},null,null,null,"Total Sequences in Block Data",{"$f":"COUNTA(L159:L188)","v":30}]
[null,null,null,null,null,null,null,null,null,null,null,null,null,null,null,"Total Sequences in Summary",{"$f":"SUM(O7:O22)","v":182},null,null,null,null,"Total Sequences in Block Summary",{"$f":"SUM(U7:U22)","v":30},null,null,null,"Total Sequences in Block Summary",{"$f":"SUM(Z7:Z22)","v":31},null,null,null,"Total Sequences in Block Summary",{"$f":"SUM(AE7:AE22)","v":30},null,null,null,"Total Sequences in Block Summary",{"$f":"SUM(AJ7:AJ22)","v":30},null,null,null,"Total Sequences in Block Summary",{"$f":"SUM(AO7:AO22)","v":31},null,null,null,"Total Sequences in Block Summary",{"$f":"SUM(AT7:AT22)","v":30}]
[null,null,null,null,null,null,null,null,null,null,null,null,null,null,null,null,null,null,null,"Block 1",null,null,null,null,"Block 2",null,null,null,null,"Block 3",null,null,null,null,"Block 4",null,null,null,null,"Block 5",null,null,null,null,"Block 6"]
["Sequence\nComponent\n1","Time\n1","Sequence\nComponent\n2","Time\n2","Sequence\nComponent\n3","Time\n3","Sequence\nComponent\n4","Time\n4","Sequence\nComponent\n5","Time\n5","Correct?\n0=No 1=Yes","Sequence",null,"Frequency",null,"Relative Frequency","Variability",null,null,"Frequency",null,"Relative Frequency","Variability",null,"Frequency",null,"Relative Frequency","Variability",null,"Frequency",null,"Relative Frequency","Variability",null,"Frequency",null,"Relative Frequency","Variability",null,"Frequency",null,"Relative Frequency","Variability",null,"Frequency",null,"Relative Frequency","Variability"]
[12,38,14,43,13,47,14,52,null,null,0,1111,null,1111,{"$f":"COUNTIF($L$7:$L$500,N7)","v":114},{"$f":"O7/$Q$4","v":0.62637362637362637},{"$f":"IF(P7=0,0,(P7*((LOG(P7))/LOG(2))))","v":-0.42274245806522431},null,null,{"$f":"N7","v":1111},{"$f":"COUNTIF(L7:L36,T7)","v":10},{"$f":"U7/(W4-U20)","v":0.33333333333333331},{"$f":"IF(V7=0,0,(V7*((LOG(V7))/LOG(2))))","v":-0.52832083357371862},null,{"$f":"N7","v":1111},{"$f":"COUNTIF(L37:L67,Y7)","v":19},{"$f":"Z7/(AB4-Z20)","v":0.61290322580645162},{"$f":"IF(AA7=0,0,(AA7*((LOG(AA7))/LOG(2))))","v":-0.43287442393298403},null,{"$f":"N7","v":1111},{"$f":"COUNTIF(L68:L97,AD7)","v":16},{"$f":"AE7/(AG4-AE20)","v":0.53333333333333333},{"$f":"IF(AF7=0,0,(AF7*((LOG(AF7))/LOG(2))))","v":-0.4836749843245432},null,{"$f":"N7","v":1111},{"$f":"COUNTIF(L98:L127,AI7)","v":24},{"$f":"AJ7/(AL4-AJ20)","v":0.8},{"$f":"IF(AK7=0,0,(AK7*((LOG(AK7))/LOG(2))))","v":-0.25754247590988982},null,{"$f":"N7","v":1111},{"$f":"COUNTIF(L128:L158,AN7)","v":20},{"$f":"AO7/(AQ4-AO20)","v":0.64516129032258063},{"$f":"IF(AP7=0,0,(AP7*((LOG(AP7))/LOG(2))))","v":-0.40791497774162117},null,{"$f":"N7","v":1111},{"$f":"COUNTIF(L159:L188,AS7)","v":25},{"$f":"AT7/(AV4-AT20)","v":0.83333333333333337},{"$f":"IF(AU7=0,0,(AU7*((LOG(AU7))/LOG(2))))","v":-0.21919533819482812}]
[12,164,14,168,13,173,14,177,null,null,0,1111,null,1112,{"$f":"COUNTIF($L$7:$L$500,N8)","v":1},{"$f":"O8/$Q$4","v":5.4945054945054949E-3},{"$f":"IF(P8=0,0,(P8*((LOG(P8))/LOG(2))))","v":-4.1251618902190638E-2},null,null,{"$f":"N8","v":1112},{"$f":"COUNTIF(L7:L36,T8)","v":0},{"$f":"U8/(W4-U20)","v":0},{"$f":"IF(V8=0,0,(V8*((LOG(V8))/LOG(2))))","v":0},null,{"$f":"N8","v":1112},{"$f":"COUNTIF(L37:L67,Y8)","v":0},{"$f":"Z8/(AB4-Z20)","v":0},{"$f":"IF(AA8=0,0,(AA8*((LOG(AA8))/LOG(2))))","v":0},null,{"$f":"N8","v":1112},{"$f":"COUNTIF(L68:L97,AD8)","v":0},{"$f":"AE8/(AG4-AE20)","v":0},{"$f":"IF(AF8=0,0,(AF8*((LOG(AF8))/LOG(2))))","v":0},null,{"$f":"N8","v":1112},{"$f":"COUNTIF(L98:L127,AI8)","v":1},{"$f":"AJ8/(AL4-AJ20)","v":3.3333333333333333E-2},{"$f":"IF(AK8=0,0,(AK8*((LOG(AK8))/LOG(2))))","v":-0.16356301985361729},null,{"$f":"N8","v":1112},{"$f":"COUNTIF(L128:L158,AN8)","v":0},{"$f":"AO8/(AQ4-AO20)","v":0},{"$f":"IF(AP8=0,0,(AP8*((LOG(AP8))/LOG(2))))","v":0},null,{"$f":"N8","v":1112},{"$f":"COUNTIF(L159:L188,AS8)","v":0},{"$f":"AT8/(AV4-AT20)","v":0},{"$f":"IF(AU8=0,0,(AU8*((LOG(AU8))/LOG(2))))","v":0}]
[21,308,21,313,22,318,23,327,null,null,0,2222,null,1121,{"$f":"COUNTIF($L$7:$L$500,N9)","v":0},{"$f":"O9/$Q$4","v":0},{"$f":"IF(P9=0,0,(P9*((LOG(P9))/LOG(2))))","v":0},null,null,{"$f":"N9","v":1121},{"$f":"COUNTIF(L7:L36,T9)","v":0},{"$f":"U9/(W4-U20)","v":0},{"$f":"IF(V9=0,0,(V9*((LOG(V9))/LOG(2))))","v":0},null,{"$f":"N9","v":1121},{"$f":"COUNTIF(L37:L67,Y9)","v":0},{"$f":"Z9/(AB4-Z20)","v":0},{"$f":"IF(AA9=0,0,(AA9*((LOG(AA9))/LOG(2))))","v":0},null,{"$f":"N9","v":1121},{"$f":"COUNTIF(L68:L97,AD9)","v":0},{"$f":"AE9/(AG4-AE20)","v":0},{"$f":"IF(AF9=0,0,(AF9*((LOG(AF9))/LOG(2))))","v":0},null,{"$f":"N9","v":1121},{"$f":"COUNTIF(L98:L127,AI9)","v":0},{"$f":"AJ9/(AL4-AJ20)","v":0},{"$f":"IF(AK9=0,0,(AK9*((LOG(AK9))/LOG(2))))","v":0},null,{"$f":"N9","v":1121},{"$f":"COUNTIF(L128:L158,AN9)","v":0},{"$f":"AO9/(AQ4-AO20)","v":0},{"$f":"IF(AP9=0,0,(AP9*((LOG(AP9))/LOG(2))))","v":0},null,{"$f":"N9","v":1121},{"$f":"COUNTIF(L159:L188,AS9)","v":0},{"$f":"AT9/(AV4-AT20)","v":0},{"$f":"IF(AU9=0,0,(AU9*((LOG(AU9))/LOG(2))))","v":0}]
[21,434,21,439,22,443,23,449,null,null,0,2222,null,1122,{"$f":"COUNTIF($L$7:$L$500,N10)","v":0},{"$f":"O10/$Q$4","v":0},{"$f":"IF(P10=0,0,(P10*((LOG(P10))/LOG(2))))","v":0},null,null,{"$f":"N10","v":1122},{"$f":"COUNTIF(L7:L36,T10)","v":0},{"$f":"U10/(W4-U20)","v":0},{"$f":"IF(V10=0,0,(V10*((LOG(V10))/LOG(2))))","v":0},null,{"$f":"N10","v":1122},{"$f":"COUNTIF(L37:L67,Y10)","v":0},{"$f":"Z10/(AB4-Z20)","v":0},{"$f":"IF(AA10=0,0,(AA10*((LOG(AA10))/LOG(2))))","v":0},null,{"$f":"N10","v":1122},{"$f":"COUNTIF(L68:L97,AD10)","v":0},{"$f":"AE10/(AG4-AE20)","v":0},{"$f":"IF(AF10=0,0,(AF10*((LOG(AF10))/LOG(2))))","v":0},null,{"$f":"N10","v":1122},{"$f":"COUNTIF(L98:L127,AI10)","v":0},{"$f":"AJ10/(AL4-AJ20)","v":0},{"$f":"IF(AK10=0,0,(AK10*((LOG(AK10))/LOG(2))))","v":0},null,{"$f":"N10","v":1122},{"$f":"COUNTIF(L128:L158,AN10)","v":0},{"$f":"AO10/(AQ4-AO20)","v":0},{"$f":"IF(AP10=0,0,(AP10*((LOG(AP10))/LOG(2))))","v":0},null,{"$f":"N10","v":1122},{"$f":"COUNTIF(L159:L188,AS10)","v":0},{"$f":"AT10/(AV4-AT20)","v":0},{"$f":"IF(AU10=0,0,(AU10*((LOG(AU10))/LOG(2))))","v":0}]
[21,562,21,567,22,576,23,581,null,null,0,2222,null,1211,{"$f":"COUNTIF($L$7:$L$500,N11)","v":1},{"$f":"O11/$Q$4","v":5.4945054945054949E-3},{"$f":"IF(P11=0,0,(P11*((LOG(P11))/LOG(2))))","v":-4.1251618902190638E-2},null,null,{"$f":"N11","v":1211},{"$f":"COUNTIF(L7:L36,T11)","v":0},{"$f":"U11/(W4-U20)","v":0},{"$f":"IF(V11=0,0,(V11*((LOG(V11))/LOG(2))))","v":0},null,{"$f":"N11","v":1211},{"$f":"COUNTIF(L37:L67,Y11)","v":0},{"$f":"Z11/(AB4-Z20)","v":0},{"$f":"IF(AA11=0,0,(AA11*((LOG(AA11))/LOG(2))))","v":0},null,{"$f":"N11","v":1211},{"$f":"COUNTIF(L68:L97,AD11)","v":0},{"$f":"AE11/(AG4-AE20)","v":0},{"$f":"IF(AF11=0,0,(AF11*((LOG(AF11))/LOG(2))))","v":0},null,{"$f":"N11","v":1211},{"$f":"COUNTIF(L98:L127,AI11)","v":0},{"$f":"AJ11/(AL4-AJ20)","v":0},{"$f":"IF(AK11=0,0,(AK11*((LOG(AK11))/LOG(2))))","v":0},null,{"$f":"N11","v":1211},{"$f":"COUNTIF(L128:L158,AN11)","v":1},{"$f":"AO11/(AQ4-AO20)","v":3.2258064516129031E-2},{"$f":"IF(AP11=0,0,(AP11*((LOG(AP11))/LOG(2))))","v":-0.15981278420602821},null,{"$f":"N11","v":1211},{"$f":"COUNTIF(L159:L188,AS11)","v":0},{"$f":"AT11/(AV4-AT20)","v":0},{"$f":"IF(AU11=0,0,(AU11*((LOG(AU11))/LOG(2))))","v":0}]
[21,695,21,699,22,703,23,708,null,null,0,2222,null,1212,{"$f":"COUNTIF($L$7:$L$500,N12)","v":0},{"$f":"O12/$Q$4","v":0},{"$f":"IF(P12=0,0,(P12*((LOG(P12))/LOG(2))))","v":0},null,null,{"$f":"N12","v":1212},{"$f":"COUNTIF(L7:L36,T12)","v":0},{"$f":"U12/(W4-U20)","v":0},{"$f":"IF(V12=0,0,(V12*((LOG(V12))/LOG(2))))","v":0},null,{"$f":"N12","v":1212},{"$f":"COUNTIF(L37:L67,Y12)","v":0},{"$f":"Z12/(AB4-Z20)","v":0},{"$f":"IF(AA12=0,0,(AA12*((LOG(AA12))/LOG(2))))","v":0},null,{"$f":"N12","v":1212},{"$f":"COUNTIF(L68:L97,AD12)","v":0},{"$f":"AE12/(AG4-AE20)","v":0},{"$f":"IF(AF12=0,0,(AF12*((LOG(AF12))/LOG(2))))","v":0},null,{"$f":"N12","v":1212},{"$f":"COUNTIF(L98:L127,AI12)","v":0},{"$f":"AJ12/(AL4-AJ20)","v":0},{"$f":"IF(AK12=0,0,(AK12*((LOG(AK12))/LOG(2))))","v":0},null,{"$f":"N12","v":1212},{"$f":"COUNTIF(L128:L158,AN12)","v":0},{"$f":"AO12/(AQ4-AO20)","v":0},{"$f":"IF(AP12=0,0,(AP12*((LOG(AP12))/LOG(2))))","v":0},null,{"$f":"N12","v":1212},{"$f":"COUNTIF(L159:L188,AS12)","v":0},{"$f":"AT12/(AV4-AT20)","v":0},{"$f":"IF(AU12=0,0,(AU12*((LOG(AU12))/LOG(2))))","v":0}]
[21,841,21,845,22,849,23,854,null,null,0,2222,null,1221,{"$f":"COUNTIF($L$7:$L$500,N13)","v":0},{"$f":"O13/$Q$4","v":0},{"$f":"IF(P13=0,0,(P13*((LOG(P13))/LOG(2))))","v":0},null,null,{"$f":"N13","v":1221},{"$f":"COUNTIF(L7:L36,T13)","v":0},{"$f":"U13/(W4-U20)","v":0},{"$f":"IF(V13=0,0,(V13*((LOG(V13))/LOG(2))))","v":0},null,{"$f":"N13","v":1221},{"$f":"COUNTIF(L37:L67,Y13)","v":0},{"$f":"Z13/(AB4-Z20)","v":0},{"$f":"IF(AA13=0,0,(AA13*((LOG(AA13))/LOG(2))))","v":0},null,{"$f":"N13","v":1221},{"$f":"COUNTIF(L68:L97,AD13)","v":0},{"$f":"AE13/(AG4-AE20)","v":0},{"$f":"IF(AF13=0,0,(AF13*((LOG(AF13))/LOG(2))))","v":0},null,{"$f":"N13","v":1221},{"$f":"COUNTIF(L98:L127,AI13)","v":0},{"$f":"AJ13/(AL4-AJ20)","v":0},{"$f":"IF(AK13=0,0,(AK13*((LOG(AK13))/LOG(2))))","v":0},null,{"$f":"N13","v":1221},{"$f":"COUNTIF(L128:L158,AN13)","v":0},{"$f":"AO13/(AQ4-AO20)","v":0},{"$f":"IF(AP13=0,0,(AP13*((LOG(AP13))/LOG(2))))","v":0},null,{"$f":"N13","v":1221},{"$f":"COUNTIF(L159:L188,AS13)","v":0},{"$f":"AT13/(AV4-AT20)","v":0},{"$f":"IF(AU13=0,0,(AU13*((LOG(AU13))/LOG(2))))","v":0}]
[21,977,21,985,22,989,23,994,null,null,0,2222,null,1222,{"$f":"COUNTIF($L$7:$L$500,N14)","v":2},{"$f":"O14/$Q$4","v":1.098901098901099E-2},{"$f":"IF(P14=0,0,(P14*((LOG(P14))/LOG(2))))","v":-7.1514226815370299E-2},null,null,{"$f":"N14","v":1222},{"$f":"COUNTIF(L7:L36,T14)","v":1},{"$f":"U14/(W4-U20)","v":3.3333333333333333E-2},{"$f":"IF(V14=0,0,(V14*((LOG(V14))/LOG(2))))","v":-0.16356301985361729},null,{"$f":"N14","v":1222},{"$f":"COUNTIF(L37:L67,Y14)","v":0},{"$f":"Z14/(AB4-Z20)","v":0},{"$f":"IF(AA14=0,0,(AA14*((LOG(AA14))/LOG(2))))","v":0},null,{"$f":"N14","v":1222},{"$f":"COUNTIF(L68:L97,AD14)","v":0},{"$f":"AE14/(AG4-AE20)","v":0},{"$f":"IF(AF14=0,0,(AF14*((LOG(AF14))/LOG(2))))","v":0},null,{"$f":"N14","v":1222},{"$f":"COUNTIF(L98:L127,AI14)","v":0},{"$f":"AJ14/(AL4-AJ20)","v":0},{"$f":"IF(AK14=0,0,(AK14*((LOG(AK14))/LOG(2))))","v":0},null,{"$f":"N14","v":1222},{"$f":"COUNTIF(L128:L158,AN14)","v":0},{"$f":"AO14/(AQ4-AO20)","v":0},{"$f":"IF(AP14=0,0,(AP14*((LOG(AP14))/LOG(2))))","v":0},null,{"$f":"N14","v":1222},{"$f":"COUNTIF(L159:L188,AS14)","v":1},{"$f":"AT14/(AV4-AT20)","v":3.3333333333333333E-2},{"$f":"IF(AU14=0,0,(AU14*((LOG(AU14))/LOG(2))))","v":-0.16356301985361729}]
[12,1123,23,1132,24,1136,23,1145,null,null,0,1222,null,2111,{"$f":"COUNTIF($L$7:$L$500,N15)","v":6},{"$f":"O15/$Q$4","v":3.2967032967032968E-2},{"$f":"IF(P15=0,0,(P15*((LOG(P15))/LOG(2))))","v":-0.16229116943332547},null,null,{"$f":"N15","v":2111},{"$f":"COUNTIF(L7:L36,T15)","v":2},{"$f":"U15/(W4-U20)","v":6.6666666666666666E-2},{"$f":"IF(V15=0,0,(V15*((LOG(V15))/LOG(2))))","v":-0.26045937304056793},null,{"$f":"N15","v":2111},{"$f":"COUNTIF(L37:L67,Y15)","v":0},{"$f":"Z15/(AB4-Z20)","v":0},{"$f":"IF(AA15=0,0,(AA15*((LOG(AA15))/LOG(2))))","v":0},null,{"$f":"N15","v":2111},{"$f":"COUNTIF(L68:L97,AD15)","v":1},{"$f":"AE15/(AG4-AE20)","v":3.3333333333333333E-2},{"$f":"IF(AF15=0,0,(AF15*((LOG(AF15))/LOG(2))))","v":-0.16356301985361729},null,{"$f":"N15","v":2111},{"$f":"COUNTIF(L98:L127,AI15)","v":0},{"$f":"AJ15/(AL4-AJ20)","v":0},{"$f":"IF(AK15=0,0,(AK15*((LOG(AK15))/LOG(2))))","v":0},null,{"$f":"N15","v":2111},{"$f":"COUNTIF(L128:L158,AN15)","v":1},{"$f":"AO15/(AQ4-AO20)","v":3.2258064516129031E-2},{"$f":"IF(AP15=0,0,(AP15*((LOG(AP15))/LOG(2))))","v":-0.15981278420602821},null,{"$f":"N15","v":2111},{"$f":"COUNTIF(L159:L188,AS15)","v":2},{"$f":"AT15/(AV4-AT20)","v":6.6666666666666666E-2},{"$f":"IF(AU15=0,0,(AU15*((LOG(AU15))/LOG(2))))","v":-0.26045937304056793}]
[21,1268,21,1273,22,1278,23,1283,null,null,0,2222,null,2112,{"$f":"COUNTIF($L$7:$L$500,N16)","v":0},{"$f":"O16/$Q$4","v":0},{"$f":"IF(P16=0,0,(P16*((LOG(P16))/LOG(2))))","v":0},null,null,{"$f":"N16","v":2112},{"$f":"COUNTIF(L7:L36,T16)","v":0},{"$f":"U16/(W4-U20)","v":0},{"$f":"IF(V16=0,0,(V16*((LOG(V16))/LOG(2))))","v":0},null,{"$f":"N16","v":2112},{"$f":"COUNTIF(L37:L67,Y16)","v":0},{"$f":"Z16/(AB4-Z20)","v":0},{"$f":"IF(AA16=0,0,(AA16*((LOG(AA16))/LOG(2))))","v":0},null,{"$f":"N16","v":2112},{"$f":"COUNTIF(L68:L97,AD16)","v":0},{"$f":"AE16/(AG4-AE20)","v":0},{"$f":"IF(AF16=0,0,(AF16*((LOG(AF16))/LOG(2))))","v":0},null,{"$f":"N16","v":2112},{"$f":"COUNTIF(L98:L127,AI16)","v":0},{"$f":"AJ16/(AL4-AJ20)","v":0},{"$f":"IF(AK16=0,0,(AK16*((LOG(AK16))/LOG(2))))","v":0},null,{"$f":"N16","v":2112},{"$f":"COUNTIF(L128:L158,AN16)","v":0},{"$f":"AO16/(AQ4-AO20)","v":0},{"$f":"IF(AP16=0,0,(AP16*((LOG(AP16))/LOG(2))))","v":0},null,{"$f":"N16","v":2112},{"$f":"COUNTIF(L159:L188,AS16)","v":0},{"$f":"AT16/(AV4-AT20)","v":0},{"$f":"IF(AU16=0,0,(AU16*((LOG(AU16))/LOG(2))))","v":0}]
[21,1423,12,1434,13,1438,14,1443,null,null,0,2111,null,2121,{"$f":"COUNTIF($L$7:$L$500,N17)","v":0},{"$f":"O17/$Q$4","v":0},{"$f":"IF(P17=0,0,(P17*((LOG(P17))/LOG(2))))","v":0},null,null,{"$f":"N17","v":2121},{"$f":"COUNTIF(L7:L36,T17)","v":0},{"$f":"U17/(W4-U20)","v":0},{"$f":"IF(V17=0,0,(V17*((LOG(V17))/LOG(2))))","v":0},null,{"$f":"N17","v":2121},{"$f":"COUNTIF(L37:L67,Y17)","v":0},{"$f":"Z17/(AB4-Z20)","v":0},{"$f":"IF(AA17=0,0,(AA17*((LOG(AA17))/LOG(2))))","v":0},null,{"$f":"N17","v":2121},{"$f":"COUNTIF(L68:L97,AD17)","v":0},{"$f":"AE17/(AG4-AE20)","v":0},{"$f":"IF(AF17=0,0,(AF17*((LOG(AF17))/LOG(2))))","v":0},null,{"$f":"N17","v":2121},{"$f":"COUNTIF(L98:L127,AI17)","v":0},{"$f":"AJ17/(AL4-AJ20)","v":0},{"$f":"IF(AK17=0,0,(AK17*((LOG(AK17))/LOG(2))))","v":0},null,{"$f":"N17","v":2121},{"$f":"COUNTIF(L128:L158,AN17)","v":0},{"$f":"AO17/(AQ4-AO20)","v":0},{"$f":"IF(AP17=0,0,(AP17*((LOG(AP17))/LOG(2))))","v":0},null,{"$f":"N17","v":2121},{"$f":"COUNTIF(L159:L188,AS17)","v":0},{"$f":"AT17/(AV4-AT20)","v":0},{"$f":"IF(AU17=0,0,(AU17*((LOG(AU17))/LOG(2))))","v":0}]
[21,1548,12,1562,13,1566,14,1571,null,null,0,2111,null,2122,{"$f":"COUNTIF($L$7:$L$500,N18)","v":0},{"$f":"O18/$Q$4","v":0},{"$f":"IF(P18=0,0,(P18*((LOG(P18))/LOG(2))))","v":0},null,null,{"$f":"N18","v":2122},{"$f":"COUNTIF(L7:L36,T18)","v":0},{"$f":"U18/(W4-U20)","v":0},{"$f":"IF(V18=0,0,(V18*((LOG(V18))/LOG(2))))","v":0},null,{"$f":"N18","v":2122},{"$f":"COUNTIF(L37:L67,Y18)","v":0},{"$f":"Z18/(AB4-Z20)","v":0},{"$f":"IF(AA18=0,0,(AA18*((LOG(AA18))/LOG(2))))","v":0},null,{"$f":"N18","v":2122},{"$f":"COUNTIF(L68:L97,AD18)","v":0},{"$f":"AE18/(AG4-AE20)","v":0},{"$f":"IF(AF18=0,0,(AF18*((LOG(AF18))/LOG(2))))","v":0},null,{"$f":"N18","v":2122},{"$f":"COUNTIF(L98:L127,AI18)","v":0},{"$f":"AJ18/(AL4-AJ20)","v":0},{"$f":"IF(AK18=0,0,(AK18*((LOG(AK18))/LOG(2))))","v":0},null,{"$f":"N18","v":2122},{"$f":"COUNTIF(L128:L158,AN18)","v":0},{"$f":"AO18/(AQ4-AO20)","v":0},{"$f":"IF(AP18=0,0,(AP18*((LOG(AP18))/LOG(2))))","v":0},null,{"$f":"N18","v":2122},{"$f":"COUNTIF(L159:L188,AS18)","v":0},{"$f":"AT18/(AV4-AT20)","v":0},{"$f":"IF(AU18=0,0,(AU18*((LOG(AU18))/LOG(2))))","v":0}]
[21,1741,21,1747,22,1756,23,1764,null,null,0,2222,null,2211,{"$f":"COUNTIF($L$7:$L$500,N19)","v":2},{"$f":"O19/$Q$4","v":1.098901098901099E-2},{"$f":"IF(P19=0,0,(P19*((LOG(P19))/LOG(2))))","v":-7.1514226815370299E-2},null,null,{"$f":"N19","v":2211},{"$f":"COUNTIF(L7:L36,T19)","v":0},{"$f":"U19/(W4-U20)","v":0},{"$f":"IF(V19=0,0,(V19*((LOG(V19))/LOG(2))))","v":0},null,{"$f":"N19","v":2211},{"$f":"COUNTIF(L37:L67,Y19)","v":1},{"$f":"Z19/(AB4-Z20)","v":3.2258064516129031E-2},{"$f":"IF(AA19=0,0,(AA19*((LOG(AA19))/LOG(2))))","v":-0.15981278420602821},null,{"$f":"N19","v":2211},{"$f":"COUNTIF(L68:L97,AD19)","v":0},{"$f":"AE19/(AG4-AE20)","v":0},{"$f":"IF(AF19=0,0,(AF19*((LOG(AF19))/LOG(2))))","v":0},null,{"$f":"N19","v":2211},{"$f":"COUNTIF(L98:L127,AI19)","v":0},{"$f":"AJ19/(AL4-AJ20)","v":0},{"$f":"IF(AK19=0,0,(AK19*((LOG(AK19))/LOG(2))))","v":0},null,{"$f":"N19","v":2211},{"$f":"COUNTIF(L128:L158,AN19)","v":0},{"$f":"AO19/(AQ4-AO20)","v":0},{"$f":"IF(AP19=0,0,(AP19*((LOG(AP19))/LOG(2))))","v":0},null,{"$f":"N19","v":2211},{"$f":"COUNTIF(L159:L188,AS19)","v":1},{"$f":"AT19/(AV4-AT20)","v":3.3333333333333333E-2},{"$f":"IF(AU19=0,0,(AU19*((LOG(AU19))/LOG(2))))","v":-0.16356301985361729}]
[21,1891,21,1895,22,1903,23,1912,null,null,0,2222,null,2212,{"$f":"COUNTIF($L$7:$L$500,N20)","v":0},{"$f":"O20/$Q$4","v":0},{"$f":"IF(P20=0,0,(P20*((LOG(P20))/LOG(2))))","v":0},null,null,{"$f":"N20","v":2212},{"$f":"COUNTIF(L7:L36,T20)","v":0},null,null,null,{"$f":"N20","v":2212},{"$f":"COUNTIF(L37:L67,Y20)","v":0},null,null,null,{"$f":"N20","v":2212},{"$f":"COUNTIF(L68:L97,AD20)","v":0},null,null,null,{"$f":"N20","v":2212},{"$f":"COUNTIF(L98:L127,AI20)","v":0},null,null,null,{"$f":"N20","v":2212},{"$f":"COUNTIF(L128:L158,AN20)","v":0},null,null,null,{"$f":"N20","v":2212},{"$f":"COUNTIF(L159:L188,AS20)","v":0}]
[12,2024,14,2028,13,2032,14,2037,null,null,0,1111,null,2221,{"$f":"COUNTIF($L$7:$L$500,N21)","v":0},{"$f":"O21/$Q$4","v":0},{"$f":"IF(P21=0,0,(P21*((LOG(P21))/LOG(2))))","v":0},null,null,{"$f":"N21","v":2221},{"$f":"COUNTIF(L7:L36,T21)","v":0},{"$f":"U21/(W4-U20)","v":0},{"$f":"IF(V21=0,0,(V21*((LOG(V21))/LOG(2))))","v":0},null,{"$f":"N21","v":2221},{"$f":"COUNTIF(L37:L67,Y21)","v":0},{"$f":"Z21/(AB4-Z20)","v":0},{"$f":"IF(AA21=0,0,(AA21*((LOG(AA21))/LOG(2))))","v":0},null,{"$f":"N21","v":2221},{"$f":"COUNTIF(L68:L97,AD21)","v":0},{"$f":"AE21/(AG4-AE20)","v":0},{"$f":"IF(AF21=0,0,(AF21*((LOG(AF21))/LOG(2))))","v":0},null,{"$f":"N21","v":2221},{"$f":"COUNTIF(L98:L127,AI21)","v":0},{"$f":"AJ21/(AL4-AJ20)","v":0},{"$f":"IF(AK21=0,0,(AK21*((LOG(AK21))/LOG(2))))","v":0},null,{"$f":"N21","v":2221},{"$f":"COUNTIF(L128:L158,AN21)","v":0},{"$f":"AO21/(AQ4-AO20)","v":0},{"$f":"IF(AP21=0,0,(AP21*((LOG(AP21))/LOG(2))))","v":0},null,{"$f":"N21","v":2221},{"$f":"COUNTIF(L159:L188,AS21)","v":0},{"$f":"AT21/(AV4-AT20)","v":0},{"$f":"IF(AU21=0,0,(AU21*((LOG(AU21))/LOG(2))))","v":0}]
[21,2170,21,2175,22,2183,23,2191,null,null,0,2222,null,2222,{"$f":"COUNTIF($L$7:$L$500,N22)","v":56},{"$f":"O22/$Q$4","v":0.30769230769230771},{"$f":"IF(P22=0,0,(P22*((LOG(P22))/LOG(2))))","v":-0.52321222096648989},null,null,{"$f":"N22","v":2222},{"$f":"COUNTIF(L7:L36,T22)","v":17},{"$f":"U22/(W4-U20)","v":0.56666666666666665},{"$f":"IF(V22=0,0,(V22*((LOG(V22))/LOG(2))))","v":-0.46434239413630152},null,{"$f":"N22","v":2222},{"$f":"COUNTIF(L37:L67,Y22)","v":11},{"$f":"Z22/(AB4-Z20)","v":0.35483870967741937},{"$f":"IF(AA22=0,0,(AA22*((LOG(AA22))/LOG(2))))","v":-0.53040037449178568},null,{"$f":"N22","v":2222},{"$f":"COUNTIF(L68:L97,AD22)","v":13},{"$f":"AE22/(AG4-AE20)","v":0.43333333333333335},{"$f":"IF(AF22=0,0,(AF22*((LOG(AF22))/LOG(2))))","v":-0.52279538023588479},null,{"$f":"N22","v":2222},{"$f":"COUNTIF(L98:L127,AI22)","v":5},{"$f":"AJ22/(AL4-AJ20)","v":0.16666666666666666},{"$f":"IF(AK22=0,0,(AK22*((LOG(AK22))/LOG(2))))","v":-0.43082708345352599},null,{"$f":"N22","v":2222},{"$f":"COUNTIF(L128:L158,AN22)","v":9},{"$f":"AO22/(AQ4-AO20)","v":0.29032258064516131},{"$f":"IF(AP22=0,0,(AP22*((LOG(AP22))/LOG(2))))","v":-0.5180142509839053},null,{"$f":"N22","v":2222},{"$f":"COUNTIF(L159:L188,AS22)","v":1},{"$f":"AT22/(AV4-AT20)","v":3.3333333333333333E-2},{"$f":"IF(AU22=0,0,(AU22*((LOG(AU22))/LOG(2))))","v":-0.16356301985361729}]
[21,2321,21,2326,22,2334,23,2343,null,null,0,2222,null,null,null,{"$f":"SUM(P7:P22)","v":0.99999999999999989},{"$f":"-SUM(Q7:Q22)","v":1.3337775399001615},null,null,null,null,{"$f":"SUM(V7:V22)","v":1},{"$f":"-SUM(W7:W22)","v":1.4166856206042056},null,null,null,{"$f":"SUM(AA7:AA22)","v":1},{"$f":"-SUM(AB7:AB22)","v":1.1230875826307978},null,null,null,{"$f":"SUM(AF7:AF22)","v":1},{"$f":"-SUM(AG7:AG22)","v":1.1700333844140451},null,null,null,{"$f":"SUM(AK7:AK22)","v":1},{"$f":"-SUM(AL7:AL22)","v":0.85193257921703314},null,null,null,{"$f":"SUM(AP7:AP22)","v":1},{"$f":"-SUM(AQ7:AQ22)","v":1.2455547971375829},null,null,null,{"$f":"SUM(AU7:AU22)","v":1},{"$f":"-SUM(AV7:AV22)","v":0.9703437707962479}]
[21,2460,21,2465,22,2469,23,2473,null,null,0,2222,null,null,null,"U=",{"$f":"Q23/(LOG(Q4)/LOG(2))","v":0.17765237380878371},null,null,null,null,"U1=",{"$f":"W23/(LOG(W4)/LOG(2))","v":0.28871351276347706},null,null,null,"U2=",{"$f":"AB23/(LOG(AB4)/LOG(2))","v":0.22669420270572513},null,null,null,"U3=",{"$f":"AG23/(LOG(AG4)/LOG(2))","v":0.23844700867412466},null,null,null,"U4=",{"$f":"AL23/(LOG(AL4)/LOG(2))","v":0.17361964009947164},null,null,null,"U5=",{"$f":"AQ23/(LOG(AQ4)/LOG(2))","v":0.25141409809017379},null,null,null,"U6=",{"$f":"AV23/(LOG(AV4)/LOG(2))","v":0.19775125446340067}]
[21,2595,21,2600,22,2604,23,2608,null,null,0,2222]
[21,2735,21,2748,22,2756,23,2760,null,null,0,2222]
[12,2876,14,2880,13,2884,14,2889,null,null,0,1111,null,"Total Target Seq"]
[21,3008,21,3013,22,3021,23,3028,null,null,0,2222,null,{"$f":"COUNTIF(L7:L188,G3)","v":0},null,30,31,30,30,31,30]
[12,3134,14,3139,13,3143,14,3148,null,null,0,1111,null,null,null,"% of reinforcement given in 6 equal intervals based on number of trials "]
[12,3277,14,3282,13,3286,14,3291,null,null,0,1111,null,null,null,"%_1","%_2","%_3","%_4","%_5","%_6"]
[12,3400,14,3405,13,3409,14,3413,null,null,0,1111,null,null,"target sequence",{"$f":"$G$3","v":2212},{"$f":"$G$3","v":2212},{"$f":"$G$3","v":2212},{"$f":"$G$3","v":2212},{"$f":"$G$3","v":2212},{"$f":"$G$3","v":2212}]
[21,3569,21,3575,22,3579,23,3586,null,null,0,2222,null,null,"total reinforcement",{"$f":"U20","v":0},{"$f":"Z20","v":0},{"$f":"AE20","v":0},{"$f":"AJ20","v":0},{"$f":"AO20","v":0},{"$f":"AT20","v":0}]
[12,3696,14,3705,13,3709,14,3714,null,null,0,1111,null,null,"% target"]
[21,3839,21,3848,22,3852,23,3856,null,null,0,2222,null,null,"CCRF"]
[12,3984,14,3988,13,3992,14,3997,null,null,0,1111,null,null,"% CCRf"]
[12,4109,14,4113,13,4117,14,4125,null,null,0,1111,null,null,"average response rate",{"$f":"H36/P28","v":137.5},{"$f":"(H67-H36)/Q28","v":135.51612903225808},{"$f":"(H97-H67)/R28","v":129.19999999999999},{"$f":"(H127-H97)/S28","v":125.7},{"$f":"(H158-H127)/T28","v":130.09677419354838},{"$f":"(H188-H158)/U28","v":130.86666666666667}]
[21,4253,21,4258,22,4262,23,4266,null,null,0,2222]
[12,4379,14,4384,13,4388,14,4392,null,null,0,1111]
[12,4508,14,4512,13,4517,14,4521,null,null,0,1111]
[12,4635,14,4640,13,4644,14,4648,null,null,0,1111]
[21,4793,21,4798,22,4802,23,4807,null,null,0,2222]
[21,4939,21,4952,22,4956,23,4961,null,null,0,2222]
[12,5086,14,5090,13,5094,14,5098,null,null,0,1111]
[21,5246,21,5256,11,5266,12,5271,null,null,0,2211]
[12,5379,14,5383,13,5388,14,5396,null,null,0,1111]
[12,5496,14,5500,13,5505,14,5509,null,null,0,1111]
[12,5617,14,5621,13,5625,14,5633,null,null,0,1111]
[12,5749,14,5754,13,5758,14,5762,null,null,0,1111]
[12,5868,14,5872,13,5881,14,5885,null,null,0,1111]
[21,6008,21,6016,22,6020,23,6025,null,null,0,2222]
[21,6162,21,6170,22,6175,23,6183,null,null,0,2222]
[12,6297,14,6301,13,6305,14,6326,null,null,0,1111]
[12,6433,14,6437,13,6441,14,6445,null,null,0,1111]
[21,6575,21,6583,22,6591,23,6600,null,null,0,2222]
[12,6714,14,6718,13,6722,14,6730,null,null,0,1111]
[12,6849,14,6853,13,6857,14,6861,null,null,0,1111]
[12,6971,14,6976,13,6981,14,6988,null,null,0,1111]
[21,7101,21,7105,22,7109,23,7117,null,null,0,2222]
[21,7242,21,7250,22,7257,23,7265,null,null,0,2222]
[12,7396,14,7400,13,7404,14,7409,null,null,0,1111]
[12,7522,14,7526,13,7530,14,7542,null,null,0,1111]
[12,7660,14,7665,13,7669,14,7674,null,null,0,1111]
[21,7780,21,7788,22,7792,23,7796,null,null,0,2222]
[21,7928,21,7937,22,7941,23,7945,null,null,0,2222]
[12,8050,14,8054,13,8057,14,8061,null,null,0,1111]
[12,8169,14,8173,13,8177,14,8181,null,null,0,1111]
[21,8306,21,8310,22,8318,23,8326,null,null,0,2222]
[12,8448,14,8453,13,8457,14,8465,null,null,0,1111]
[21,8576,21,8580,22,8584,23,8588,null,null,0,2222]
[12,8697,14,8701,13,8705,14,8709,null,null,0,1111]
[21,8826,21,8830,22,8837,23,8842,null,null,0,2222]
[21,8977,21,8984,22,8988,23,8996,null,null,0,2222]
[12,9104,14,9111,13,9116,14,9120,null,null,0,1111]
[12,9230,14,9234,13,9239,14,9246,null,null,0,1111]
[21,9353,21,9360,22,9368,23,9376,null,null,0,2222]
[12,9487,14,9491,13,9495,14,9499,null,null,0,1111]
[12,9628,14,9633,13,9637,14,9644,null,null,0,1111]
[21,9756,21,9770,22,9774,23,9781,null,null,0,2222]
[21,9886,12,9898,13,9902,14,9907,null,null,0,2111]
[21,10019,21,10026,22,10031,23,10035,null,null,0,2222]
[12,10143,14,10147,13,10152,14,10156,null,null,0,1111]
[12,10273,14,10278,13,10282,14,10287,null,null,0,1111]
[12,10396,14,10401,13,10405,14,10409,null,null,0,1111]
[12,10527,14,10531,13,10535,14,10548,null,null,0,1111]
[12,10665,14,10669,13,10673,14,10678,null,null,0,1111]
[21,10794,21,10798,22,10803,23,10807,null,null,0,2222]
[21,10924,21,10928,22,10932,23,10936,null,null,0,2222]
[21,11047,21,11052,22,11059,23,11072,null,null,0,2222]
[21,11189,21,11194,22,11197,23,11201,null,null,0,2222]
[12,11319,14,11322,13,11326,14,11330,null,null,0,1111]
[12,11440,14,11444,13,11448,14,11453,null,null,0,1111]
[21,11567,21,11576,22,11583,23,11591,null,null,0,2222]
[12,11691,14,11696,13,11700,14,11705,null,null,0,1111]
[12,11808,14,11812,13,11816,14,11820,null,null,0,1111]
[21,11937,21,11941,22,11945,23,11952,null,null,0,2222]
[12,12055,14,12061,13,12065,14,12070,null,null,0,1111]
[21,12186,21,12190,22,12194,23,12202,null,null,0,2222]
[12,12320,14,12324,13,12329,14,12333,null,null,0,1111]
[12,12440,14,12444,13,12448,14,12452,null,null,0,1111]
[12,12562,14,12566,13,12570,23,12583,null,null,0,1112]
[12,12695,14,12699,13,12703,14,12708,null,null,0,1111]
[21,12825,21,12833,22,12841,23,12846,null,null,0,2222]
[12,12957,14,12961,13,12965,14,12970,null,null,0,1111]
[12,13071,14,13076,13,13079,14,13084,null,null,0,1111]
[12,13188,14,13191,13,13196,14,13201,null,null,0,1111]
[12,13320,14,13324,13,13328,14,13332,null,null,0,1111]
[12,13440,14,13446,13,13450,14,13454,null,null,0,1111]
[12,13558,14,13562,13,13566,14,13570,null,null,0,1111]
[12,13673,14,13677,13,13681,14,13686,null,null,0,1111]
[12,13782,14,13789,13,13792,14,13796,null,null,0,1111]
[12,13899,14,13905,13,13909,14,13914,null,null,0,1111]
[12,14033,14,14041,13,14045,14,14065,null,null,0,1111]
[21,14176,21,14180,22,14184,23,14191,null,null,0,2222]
[12,14297,14,14301,13,14306,14,14310,null,null,0,1111]
[12,14410,14,14415,13,14418,14,14423,null,null,0,1111]
[12,14531,14,14539,13,14543,14,14555,null,null,0,1111]
[12,14659,14,14671,13,14676,14,14680,null,null,0,1111]
[21,14789,21,14801,22,14809,23,14817,null,null,0,2222]
[12,14924,14,14931,13,14936,14,14940,null,null,0,1111]
[12,15060,14,15064,13,15068,14,15076,null,null,0,1111]
[21,15192,21,15195,22,15199,23,15206,null,null,0,2222]
[12,15317,14,15324,13,15328,14,15335,null,null,0,1111]
[12,15433,14,15441,13,15448,14,15452,null,null,0,1111]
[12,15575,14,15579,13,15583,14,15587,null,null,0,1111]
[12,15689,14,15696,13,15700,14,15705,null,null,0,1111]
[21,15823,21,15827,22,15834,23,15841,null,null,0,2222]
[12,15960,14,15964,13,15968,14,15973,null,null,0,1111]
[12,16075,14,16079,13,16083,14,16087,null,null,0,1111]
[12,16186,14,16189,13,16193,14,16202,null,null,0,1111]
[12,16314,14,16318,13,16322,14,16327,null,null,0,1111]
[12,16430,14,16433,13,16437,14,16442,null,null,0,1111]
[12,16552,14,16560,13,16564,14,16571,null,null,0,1111]
[12,16692,14,16697,13,16701,14,16705,null,null,0,1111]
[12,16816,14,16821,13,16825,14,16830,null,null,0,1111]
[12,16937,14,16941,13,16945,14,16950,null,null,0,1111]
[21,17058,21,17070,22,17077,23,17081,null,null,0,2222]
[12,17182,23,17199,13,17208,14,17212,null,null,0,1211]
[21,17330,21,17340,22,17346,23,17354,null,null,0,2222]
[12,17472,14,17477,13,17481,14,17492,null,null,0,1111]
[12,17613,14,17617,13,17621,14,17632,null,null,0,1111]
[21,17748,21,17753,22,17758,23,17763,null,null,0,2222]
[12,17873,14,17878,13,17883,14,17901,null,null,0,1111]
[12,18001,14,18009,13,18013,14,18018,null,null,0,1111]
[12,18130,14,18134,13,18138,14,18142,null,null,0,1111]
[21,18264,21,18268,22,18276,23,18284,null,null,0,2222]
[21,18395,21,18400,22,18404,23,18408,null,null,0,2222]
[12,18522,14,18527,13,18531,14,18535,null,null,0,1111]
[12,18650,14,18654,13,18658,14,18663,null,null,0,1111]
[21,18779,21,18792,22,18799,23,18803,null,null,0,2222]
[21,18921,12,18936,13,18955,14,18965,null,null,0,2111]
[21,19077,21,19083,22,19091,23,19099,null,null,0,2222]
[12,19205,14,19209,13,19213,14,19217,null,null,0,1111]
[21,19337,21,19344,22,19352,23,19360,null,null,0,2222]
[12,19480,14,19484,13,19488,14,19493,null,null,0,1111]
[12,19609,14,19614,13,19618,14,19623,null,null,0,1111]
[12,19734,14,19742,13,19746,14,19751,null,null,0,1111]
[12,19857,14,19861,13,19866,14,19870,null,null,0,1111]
[21,19989,21,19993,22,20000,23,20006,null,null,0,2222]
[12,20123,14,20127,13,20131,14,20134,null,null,0,1111]
[12,20247,14,20251,13,20256,14,20260,null,null,0,1111]
[12,20370,14,20374,13,20378,14,20383,null,null,0,1111]
[12,20490,14,20494,13,20498,14,20502,null,null,0,1111]
[12,20618,14,20622,13,20626,14,20635,null,null,0,1111]
[12,20740,14,20744,13,20748,14,20752,null,null,0,1111]
[21,20866,12,20881,13,20884,14,20888,null,null,0,2111]
[12,20989,14,20994,13,20998,14,21006,null,null,0,1111]
[12,21112,23,21126,24,21135,23,21144,null,null,0,1222]
[12,21256,14,21264,13,21268,14,21272,null,null,0,1111]
[12,21387,14,21391,13,21396,14,21400,null,null,0,1111]
[12,21507,14,21511,13,21515,14,21519,null,null,0,1111]
[12,21633,14,21636,13,21640,14,21644,null,null,0,1111]
[12,21766,14,21770,13,21777,14,21785,null,null,0,1111]
[12,21894,14,21904,13,21908,14,21913,null,null,0,1111]
[12,22032,14,22036,13,22040,14,22045,null,null,0,1111]
[12,22152,14,22160,13,22164,14,22168,null,null,0,1111]
[12,22301,14,22306,13,22310,14,22318,null,null,0,1111]
[21,22445,21,22452,22,22457,23,22464,null,null,0,2222]
[12,22579,14,22583,13,22587,14,22595,null,null,0,1111]
[12,22706,14,22710,13,22714,14,22719,null,null,0,1111]
[12,22833,14,22837,13,22842,14,22847,null,null,0,1111]
[12,22957,14,22961,13,22965,14,22970,null,null,0,1111]
[21,23095,21,23100,11,23111,12,23115,null,null,0,2211]
[12,23232,14,23237,13,23241,14,23245,null,null,0,1111]
[12,23360,14,23365,13,23370,14,23374,null,null,0,1111]
[12,23501,14,23505,13,23510,14,23516,null,null,0,1111]
[12,23622,14,23633,13,23637,14,23648,null,null,0,1111]
[12,23767,14,23775,13,23780,14,23787,null,null,0,1111]
[21,23910,12,23923,13,23927,14,23932,null,null,1,2111]

{"sheet":"!L820950.053","index":26,"n_rows":175,"n_cols":48,"rows_kept":175,"cut":false,"hidden":false,"merged":[[4,39,4,42],[5,39,5,40],[4,44,4,47],[5,44,5,45],[4,24,4,27],[5,24,5,25],[4,29,4,32],[5,29,5,30],[4,34,4,37],[5,34,5,35],[1,1,1,2],[5,13,5,14],[26,13,26,14],[27,13,27,14],[4,19,4,22],[5,19,5,20]]}
["Report for:!L820950.053"]
["Date:","<date>"]
["Hen:","<hen>",null,null,null,"Correct Sequence",{"$f":"Start!J2","v":2212},null,null,null,null,null,null,null,null,"Total Sequences in Data",{"$f":"4994-COUNTBLANK(L7:L5000)","v":169},null,null,null,null,"Total Sequences in Block Data",{"$f":"COUNTA(L7:L34)","v":28},null,null,null,"Total Sequences in Block Data",{"$f":"COUNTA(L35:L62)","v":28},null,null,null,"Total Sequences in Block Data",{"$f":"COUNTA(L63:L91)","v":29},null,null,null,"Total Sequences in Block Data",{"$f":"COUNTA(L92:L119)","v":28},null,null,null,"Total Sequences in Block Data",{"$f":"COUNTA(L120:L147)","v":28},null,null,null,"Total Sequences in Block Data",{"$f":"COUNTA(L148:L175)","v":28}]
[null,null,null,null,null,null,null,null,null,null,null,null,null,null,null,"Total Sequences in Summary",{"$f":"SUM(O7:O22)","v":169},null,null,null,null,"Total Sequences in Block Summary",{"$f":"SUM(U7:U22)","v":28},null,null,null,"Total Sequences in Block Summary",{"$f":"SUM(Z7:Z22)","v":28},null,null,null,"Total Sequences in Block Summary",{"$f":"SUM(AE7:AE22)","v":29},null,null,null,"Total Sequences in Block Summary",{"$f":"SUM(AJ7:AJ22)","v":28},null,null,null,"Total Sequences in Block Summary",{"$f":"SUM(AO7:AO22)","v":28},null,null,null,"Total Sequences in Block Summary",{"$f":"SUM(AT7:AT22)","v":28}]
[null,null,null,null,null,null,null,null,null,null,null,null,null,null,null,null,null,null,null,"Block 1",null,null,null,null,"Block 2",null,null,null,null,"Block 3",null,null,null,null,"Block 4",null,null,null,null,"Block 5",null,null,null,null,"Block 6"]
["Sequence\nComponent\n1","Time\n1","Sequence\nComponent\n2","Time\n2","Sequence\nComponent\n3","Time\n3","Sequence\nComponent\n4","Time\n4","Sequence\nComponent\n5","Time\n5","Correct?\n0=No 1=Yes","Sequence",null,"Frequency",null,"Relative Frequency","Variability",null,null,"Frequency",null,"Relative Frequency","Variability",null,"Frequency",null,"Relative Frequency","Variability",null,"Frequency",null,"Relative Frequency","Variability",null,"Frequency",null,"Relative Frequency","Variability",null,"Frequency",null,"Relative Frequency","Variability",null,"Frequency",null,"Relative Frequency","Variability"]
[12,64,14,69,13,73,14,77,null,null,0,1111,null,1111,{"$f":"COUNTIF($L$7:$L$500,N7)","v":83},{"$f":"O7/$Q$4","v":0.4911242603550296},{"$f":"IF(P7=0,0,(P7*((LOG(P7))/LOG(2))))","v":-0.50381491366642928},null,null,{"$f":"N7","v":1111},{"$f":"COUNTIF(L7:L34,T7)","v":11},{"$f":"U7/(W4-U20)","v":0.39285714285714285},{"$f":"IF(V7=0,0,(V7*((LOG(V7))/LOG(2))))","v":-0.52954129777226344},null,{"$f":"N7","v":1111},{"$f":"COUNTIF(L35:L62,Y7)","v":11},{"$f":"Z7/(AB4-Z20)","v":0.39285714285714285},{"$f":"IF(AA7=0,0,(AA7*((LOG(AA7))/LOG(2))))","v":-0.52954129777226344},null,{"$f":"N7","v":1111},{"$f":"COUNTIF(L63:L91,AD7)","v":16},{"$f":"AE7/(AG4-AE20)","v":0.55172413793103448},{"$f":"IF(AF7=0,0,(AF7*((LOG(AF7))/LOG(2))))","v":-0.47336882489797077},null,{"$f":"N7","v":1111},{"$f":"COUNTIF(L92:L119,AI7)","v":12},{"$f":"AJ7/(AL4-AJ20)","v":0.42857142857142855},{"$f":"IF(AK7=0,0,(AK7*((LOG(AK7))/LOG(2))))","v":-0.52388246628704915},null,{"$f":"N7","v":1111},{"$f":"COUNTIF(L120:L147,AN7)","v":13},{"$f":"AO7/(AQ4-AO20)","v":0.4642857142857143},{"$f":"IF(AP7=0,0,(AP7*((LOG(AP7))/LOG(2))))","v":-0.51392491610409474},null,{"$f":"N7","v":1111},{"$f":"COUNTIF(L148:L175,AS7)","v":20},{"$f":"AT7/(AV4-AT20)","v":0.7142857142857143},{"$f":"IF(AU7=0,0,(AU7*((LOG(AU7))/LOG(2))))","v":-0.34673344797874411}]
[21,200,21,205,22,210,23,218,null,null,0,2222,null,1112,{"$f":"COUNTIF($L$7:$L$500,N8)","v":0},{"$f":"O8/$Q$4","v":0},{"$f":"IF(P8=0,0,(P8*((LOG(P8))/LOG(2))))","v":0},null,null,{"$f":"N8","v":1112},{"$f":"COUNTIF(L7:L34,T8)","v":0},{"$f":"U8/(W4-U20)","v":0},{"$f":"IF(V8=0,0,(V8*((LOG(V8))/LOG(2))))","v":0},null,{"$f":"N8","v":1112},{"$f":"COUNTIF(L35:L62,Y8)","v":0},{"$f":"Z8/(AB4-Z20)","v":0},{"$f":"IF(AA8=0,0,(AA8*((LOG(AA8))/LOG(2))))","v":0},null,{"$f":"N8","v":1112},{"$f":"COUNTIF(L63:L91,AD8)","v":0},{"$f":"AE8/(AG4-AE20)","v":0},{"$f":"IF(AF8=0,0,(AF8*((LOG(AF8))/LOG(2))))","v":0},null,{"$f":"N8","v":1112},{"$f":"COUNTIF(L92:L119,AI8)","v":0},{"$f":"AJ8/(AL4-AJ20)","v":0},{"$f":"IF(AK8=0,0,(AK8*((LOG(AK8))/LOG(2))))","v":0},null,{"$f":"N8","v":1112},{"$f":"COUNTIF(L120:L147,AN8)","v":0},{"$f":"AO8/(AQ4-AO20)","v":0},{"$f":"IF(AP8=0,0,(AP8*((LOG(AP8))/LOG(2))))","v":0},null,{"$f":"N8","v":1112},{"$f":"COUNTIF(L148:L175,AS8)","v":0},{"$f":"AT8/(AV4-AT20)","v":0},{"$f":"IF(AU8=0,0,(AU8*((LOG(AU8))/LOG(2))))","v":0}]
[21,336,21,343,22,348,23,352,null,null,0,2222,null,1121,{"$f":"COUNTIF($L$7:$L$500,N9)","v":1},{"$f":"O9/$Q$4","v":5.9171597633136093E-3},{"$f":"IF(P9=0,0,(P9*((LOG(P9))/LOG(2))))","v":-4.3792186013504049E-2},null,null,{"$f":"N9","v":1121},{"$f":"COUNTIF(L7:L34,T9)","v":0},{"$f":"U9/(W4-U20)","v":0},{"$f":"IF(V9=0,0,(V9*((LOG(V9))/LOG(2))))","v":0},null,{"$f":"N9","v":1121},{"$f":"COUNTIF(L35:L62,Y9)","v":0},{"$f":"Z9/(AB4-Z20)","v":0},{"$f":"IF(AA9=0,0,(AA9*((LOG(AA9))/LOG(2))))","v":0},null,{"$f":"N9","v":1121},{"$f":"COUNTIF(L63:L91,AD9)","v":0},{"$f":"AE9/(AG4-AE20)","v":0},{"$f":"IF(AF9=0,0,(AF9*((LOG(AF9))/LOG(2))))","v":0},null,{"$f":"N9","v":1121},{"$f":"COUNTIF(L92:L119,AI9)","v":0},{"$f":"AJ9/(AL4-AJ20)","v":0},{"$f":"IF(AK9=0,0,(AK9*((LOG(AK9))/LOG(2))))","v":0},null,{"$f":"N9","v":1121},{"$f":"COUNTIF(L120:L147,AN9)","v":1},{"$f":"AO9/(AQ4-AO20)","v":3.5714285714285712E-2},{"$f":"IF(AP9=0,0,(AP9*((LOG(AP9))/LOG(2))))","v":-0.17169124721634299},null,{"$f":"N9","v":1121},{"$f":"COUNTIF(L148:L175,AS9)","v":0},{"$f":"AT9/(AV4-AT20)","v":0},{"$f":"IF(AU9=0,0,(AU9*((LOG(AU9))/LOG(2))))","v":0}]
[21,480,21,484,22,488,23,493,null,null,0,2222,null,1122,{"$f":"COUNTIF($L$7:$L$500,N10)","v":0},{"$f":"O10/$Q$4","v":0},{"$f":"IF(P10=0,0,(P10*((LOG(P10))/LOG(2))))","v":0},null,null,{"$f":"N10","v":1122},{"$f":"COUNTIF(L7:L34,T10)","v":0},{"$f":"U10/(W4-U20)","v":0},{"$f":"IF(V10=0,0,(V10*((LOG(V10))/LOG(2))))","v":0},null,{"$f":"N10","v":1122},{"$f":"COUNTIF(L35:L62,Y10)","v":0},{"$f":"Z10/(AB4-Z20)","v":0},{"$f":"IF(AA10=0,0,(AA10*((LOG(AA10))/LOG(2))))","v":0},null,{"$f":"N10","v":1122},{"$f":"COUNTIF(L63:L91,AD10)","v":0},{"$f":"AE10/(AG4-AE20)","v":0},{"$f":"IF(AF10=0,0,(AF10*((LOG(AF10))/LOG(2))))","v":0},null,{"$f":"N10","v":1122},{"$f":"COUNTIF(L92:L119,AI10)","v":0},{"$f":"AJ10/(AL4-AJ20)","v":0},{"$f":"IF(AK10=0,0,(AK10*((LOG(AK10))/LOG(2))))","v":0},null,{"$f":"N10","v":1122},{"$f":"COUNTIF(L120:L147,AN10)","v":0},{"$f":"AO10/(AQ4-AO20)","v":0},{"$f":"IF(AP10=0,0,(AP10*((LOG(AP10))/LOG(2))))","v":0},null,{"$f":"N10","v":1122},{"$f":"COUNTIF(L148:L175,AS10)","v":0},{"$f":"AT10/(AV4-AT20)","v":0},{"$f":"IF(AU10=0,0,(AU10*((LOG(AU10))/LOG(2))))","v":0}]
[12,607,14,616,13,625,14,632,null,null,0,1111,null,1211,{"$f":"COUNTIF($L$7:$L$500,N11)","v":0},{"$f":"O11/$Q$4","v":0},{"$f":"IF(P11=0,0,(P11*((LOG(P11))/LOG(2))))","v":0},null,null,{"$f":"N11","v":1211},{"$f":"COUNTIF(L7:L34,T11)","v":0},{"$f":"U11/(W4-U20)","v":0},{"$f":"IF(V11=0,0,(V11*((LOG(V11))/LOG(2))))","v":0},null,{"$f":"N11","v":1211},{"$f":"COUNTIF(L35:L62,Y11)","v":0},{"$f":"Z11/(AB4-Z20)","v":0},{"$f":"IF(AA11=0,0,(AA11*((LOG(AA11))/LOG(2))))","v":0},null,{"$f":"N11","v":1211},{"$f":"COUNTIF(L63:L91,AD11)","v":0},{"$f":"AE11/(AG4-AE20)","v":0},{"$f":"IF(AF11=0,0,(AF11*((LOG(AF11))/LOG(2))))","v":0},null,{"$f":"N11","v":1211},{"$f":"COUNTIF(L92:L119,AI11)","v":0},{"$f":"AJ11/(AL4-AJ20)","v":0},{"$f":"IF(AK11=0,0,(AK11*((LOG(AK11))/LOG(2))))","v":0},null,{"$f":"N11","v":1211},{"$f":"COUNTIF(L120:L147,AN11)","v":0},{"$f":"AO11/(AQ4-AO20)","v":0},{"$f":"IF(AP11=0,0,(AP11*((LOG(AP11))/LOG(2))))","v":0},null,{"$f":"N11","v":1211},{"$f":"COUNTIF(L148:L175,AS11)","v":0},{"$f":"AT11/(AV4-AT20)","v":0},{"$f":"IF(AU11=0,0,(AU11*((LOG(AU11))/LOG(2))))","v":0}]
[12,745,14,749,13,753,14,758,null,null,0,1111,null,1212,{"$f":"COUNTIF($L$7:$L$500,N12)","v":0},{"$f":"O12/$Q$4","v":0},{"$f":"IF(P12=0,0,(P12*((LOG(P12))/LOG(2))))","v":0},null,null,{"$f":"N12","v":1212},{"$f":"COUNTIF(L7:L34,T12)","v":0},{"$f":"U12/(W4-U20)","v":0},{"$f":"IF(V12=0,0,(V12*((LOG(V12))/LOG(2))))","v":0},null,{"$f":"N12","v":1212},{"$f":"COUNTIF(L35:L62,Y12)","v":0},{"$f":"Z12/(AB4-Z20)","v":0},{"$f":"IF(AA12=0,0,(AA12*((LOG(AA12))/LOG(2))))","v":0},null,{"$f":"N12","v":1212},{"$f":"COUNTIF(L63:L91,AD12)","v":0},{"$f":"AE12/(AG4-AE20)","v":0},{"$f":"IF(AF12=0,0,(AF12*((LOG(AF12))/LOG(2))))","v":0},null,{"$f":"N12","v":1212},{"$f":"COUNTIF(L92:L119,AI12)","v":0},{"$f":"AJ12/(AL4-AJ20)","v":0},{"$f":"IF(AK12=0,0,(AK12*((LOG(AK12))/LOG(2))))","v":0},null,{"$f":"N12","v":1212},{"$f":"COUNTIF(L120:L147,AN12)","v":0},{"$f":"AO12/(AQ4-AO20)","v":0},{"$f":"IF(AP12=0,0,(AP12*((LOG(AP12))/LOG(2))))","v":0},null,{"$f":"N12","v":1212},{"$f":"COUNTIF(L148:L175,AS12)","v":0},{"$f":"AT12/(AV4-AT20)","v":0},{"$f":"IF(AU12=0,0,(AU12*((LOG(AU12))/LOG(2))))","v":0}]
[12,879,14,883,13,887,14,892,null,null,0,1111,null,1221,{"$f":"COUNTIF($L$7:$L$500,N13)","v":0},{"$f":"O13/$Q$4","v":0},{"$f":"IF(P13=0,0,(P13*((LOG(P13))/LOG(2))))","v":0},null,null,{"$f":"N13","v":1221},{"$f":"COUNTIF(L7:L34,T13)","v":0},{"$f":"U13/(W4-U20)","v":0},{"$f":"IF(V13=0,0,(V13*((LOG(V13))/LOG(2))))","v":0},null,{"$f":"N13","v":1221},{"$f":"COUNTIF(L35:L62,Y13)","v":0},{"$f":"Z13/(AB4-Z20)","v":0},{"$f":"IF(AA13=0,0,(AA13*((LOG(AA13))/LOG(2))))","v":0},null,{"$f":"N13","v":1221},{"$f":"COUNTIF(L63:L91,AD13)","v":0},{"$f":"AE13/(AG4-AE20)","v":0},{"$f":"IF(AF13=0,0,(AF13*((LOG(AF13))/LOG(2))))","v":0},null,{"$f":"N13","v":1221},{"$f":"COUNTIF(L92:L119,AI13)","v":0},{"$f":"AJ13/(AL4-AJ20)","v":0},{"$f":"IF(AK13=0,0,(AK13*((LOG(AK13))/LOG(2))))","v":0},null,{"$f":"N13","v":1221},{"$f":"COUNTIF(L120:L147,AN13)","v":0},{"$f":"AO13/(AQ4-AO20)","v":0},{"$f":"IF(AP13=0,0,(AP13*((LOG(AP13))/LOG(2))))","v":0},null,{"$f":"N13","v":1221},{"$f":"COUNTIF(L148:L175,AS13)","v":0},{"$f":"AT13/(AV4-AT20)","v":0},{"$f":"IF(AU13=0,0,(AU13*((LOG(AU13))/LOG(2))))","v":0}]
[21,1018,21,1023,22,1028,23,1033,null,null,0,2222,null,1222,{"$f":"COUNTIF($L$7:$L$500,N14)","v":2},{"$f":"O14/$Q$4","v":1.1834319526627219E-2},{"$f":"IF(P14=0,0,(P14*((LOG(P14))/LOG(2))))","v":-7.5750052500380874E-2},null,null,{"$f":"N14","v":1222},{"$f":"COUNTIF(L7:L34,T14)","v":0},{"$f":"U14/(W4-U20)","v":0},{"$f":"IF(V14=0,0,(V14*((LOG(V14))/LOG(2))))","v":0},null,{"$f":"N14","v":1222},{"$f":"COUNTIF(L35:L62,Y14)","v":1},{"$f":"Z14/(AB4-Z20)","v":3.5714285714285712E-2},{"$f":"IF(AA14=0,0,(AA14*((LOG(AA14))/LOG(2))))","v":-0.17169124721634299},null,{"$f":"N14","v":1222},{"$f":"COUNTIF(L63:L91,AD14)","v":0},{"$f":"AE14/(AG4-AE20)","v":0},{"$f":"IF(AF14=0,0,(AF14*((LOG(AF14))/LOG(2))))","v":0},null,{"$f":"N14","v":1222},{"$f":"COUNTIF(L92:L119,AI14)","v":0},{"$f":"AJ14/(AL4-AJ20)","v":0},{"$f":"IF(AK14=0,0,(AK14*((LOG(AK14))/LOG(2))))","v":0},null,{"$f":"N14","v":1222},{"$f":"COUNTIF(L120:L147,AN14)","v":1},{"$f":"AO14/(AQ4-AO20)","v":3.5714285714285712E-2},{"$f":"IF(AP14=0,0,(AP14*((LOG(AP14))/LOG(2))))","v":-0.17169124721634299},null,{"$f":"N14","v":1222},{"$f":"COUNTIF(L148:L175,AS14)","v":0},{"$f":"AT14/(AV4-AT20)","v":0},{"$f":"IF(AU14=0,0,(AU14*((LOG(AU14))/LOG(2))))","v":0}]
[12,1149,14,1153,13,1158,14,1172,null,null,0,1111,null,2111,{"$f":"COUNTIF($L$7:$L$500,N15)","v":19},{"$f":"O15/$Q$4","v":0.11242603550295859},{"$f":"IF(P15=0,0,(P15*((LOG(P15))/LOG(2))))","v":-0.35447388481617381},null,null,{"$f":"N15","v":2111},{"$f":"COUNTIF(L7:L34,T15)","v":0},{"$f":"U15/(W4-U20)","v":0},{"$f":"IF(V15=0,0,(V15*((LOG(V15))/LOG(2))))","v":0},null,{"$f":"N15","v":2111},{"$f":"COUNTIF(L35:L62,Y15)","v":3},{"$f":"Z15/(AB4-Z20)","v":0.10714285714285714},{"$f":"IF(AA15=0,0,(AA15*((LOG(AA15))/LOG(2))))","v":-0.34525633085747659},null,{"$f":"N15","v":2111},{"$f":"COUNTIF(L63:L91,AD15)","v":2},{"$f":"AE15/(AG4-AE20)","v":6.8965517241379309E-2},{"$f":"IF(AF15=0,0,(AF15*((LOG(AF15))/LOG(2))))","v":-0.26606765483638428},null,{"$f":"N15","v":2111},{"$f":"COUNTIF(L92:L119,AI15)","v":8},{"$f":"AJ15/(AL4-AJ20)","v":0.2857142857142857},{"$f":"IF(AK15=0,0,(AK15*((LOG(AK15))/LOG(2))))","v":-0.51638712058788683},null,{"$f":"N15","v":2111},{"$f":"COUNTIF(L120:L147,AN15)","v":1},{"$f":"AO15/(AQ4-AO20)","v":3.5714285714285712E-2},{"$f":"IF(AP15=0,0,(AP15*((LOG(AP15))/LOG(2))))","v":-0.17169124721634299},null,{"$f":"N15","v":2111},{"$f":"COUNTIF(L148:L175,AS15)","v":5},{"$f":"AT15/(AV4-AT20)","v":0.17857142857142858},{"$f":"IF(AU15=0,0,(AU15*((LOG(AU15))/LOG(2))))","v":-0.44382621913754317}]
[12,1288,14,1294,13,1299,14,1304,null,null,0,1111,null,2112,{"$f":"COUNTIF($L$7:$L$500,N16)","v":0},{"$f":"O16/$Q$4","v":0},{"$f":"IF(P16=0,0,(P16*((LOG(P16))/LOG(2))))","v":0},null,null,{"$f":"N16","v":2112},{"$f":"COUNTIF(L7:L34,T16)","v":0},{"$f":"U16/(W4-U20)","v":0},{"$f":"IF(V16=0,0,(V16*((LOG(V16))/LOG(2))))","v":0},null,{"$f":"N16","v":2112},{"$f":"COUNTIF(L35:L62,Y16)","v":0},{"$f":"Z16/(AB4-Z20)","v":0},{"$f":"IF(AA16=0,0,(AA16*((LOG(AA16))/LOG(2))))","v":0},null,{"$f":"N16","v":2112},{"$f":"COUNTIF(L63:L91,AD16)","v":0},{"$f":"AE16/(AG4-AE20)","v":0},{"$f":"IF(AF16=0,0,(AF16*((LOG(AF16))/LOG(2))))","v":0},null,{"$f":"N16","v":2112},{"$f":"COUNTIF(L92:L119,AI16)","v":0},{"$f":"AJ16/(AL4-AJ20)","v":0},{"$f":"IF(AK16=0,0,(AK16*((LOG(AK16))/LOG(2))))","v":0},null,{"$f":"N16","v":2112},{"$f":"COUNTIF(L120:L147,AN16)","v":0},{"$f":"AO16/(AQ4-AO20)","v":0},{"$f":"IF(AP16=0,0,(AP16*((LOG(AP16))/LOG(2))))","v":0},null,{"$f":"N16","v":2112},{"$f":"COUNTIF(L148:L175,AS16)","v":0},{"$f":"AT16/(AV4-AT20)","v":0},{"$f":"IF(AU16=0,0,(AU16*((LOG(AU16))/LOG(2))))","v":0}]
[12,1411,14,1415,13,1419,14,1424,null,null,0,1111,null,2121,{"$f":"COUNTIF($L$7:$L$500,N17)","v":0},{"$f":"O17/$Q$4","v":0},{"$f":"IF(P17=0,0,(P17*((LOG(P17))/LOG(2))))","v":0},null,null,{"$f":"N17","v":2121},{"$f":"COUNTIF(L7:L34,T17)","v":0},{"$f":"U17/(W4-U20)","v":0},{"$f":"IF(V17=0,0,(V17*((LOG(V17))/LOG(2))))","v":0},null,{"$f":"N17","v":2121},{"$f":"COUNTIF(L35:L62,Y17)","v":0},{"$f":"Z17/(AB4-Z20)","v":0},{"$f":"IF(AA17=0,0,(AA17*((LOG(AA17))/LOG(2))))","v":0},null,{"$f":"N17","v":2121},{"$f":"COUNTIF(L63:L91,AD17)","v":0},{"$f":"AE17/(AG4-AE20)","v":0},{"$f":"IF(AF17=0,0,(AF17*((LOG(AF17))/LOG(2))))","v":0},null,{"$f":"N17","v":2121},{"$f":"COUNTIF(L92:L119,AI17)","v":0},{"$f":"AJ17/(AL4-AJ20)","v":0},{"$f":"IF(AK17=0,0,(AK17*((LOG(AK17))/LOG(2))))","v":0},null,{"$f":"N17","v":2121},{"$f":"COUNTIF(L120:L147,AN17)","v":0},{"$f":"AO17/(AQ4-AO20)","v":0},{"$f":"IF(AP17=0,0,(AP17*((LOG(AP17))/LOG(2))))","v":0},null,{"$f":"N17","v":2121},{"$f":"COUNTIF(L148:L175,AS17)","v":0},{"$f":"AT17/(AV4-AT20)","v":0},{"$f":"IF(AU17=0,0,(AU17*((LOG(AU17))/LOG(2))))","v":0}]
[21,1532,21,1540,22,1549,23,1554,null,null,0,2222,null,2122,{"$f":"COUNTIF($L$7:$L$500,N18)","v":0},{"$f":"O18/$Q$4","v":0},{"$f":"IF(P18=0,0,(P18*((LOG(P18))/LOG(2))))","v":0},null,null,{"$f":"N18","v":2122},{"$f":"COUNTIF(L7:L34,T18)","v":0},{"$f":"U18/(W4-U20)","v":0},{"$f":"IF(V18=0,0,(V18*((LOG(V18))/LOG(2))))","v":0},null,{"$f":"N18","v":2122},{"$f":"COUNTIF(L35:L62,Y18)","v":0},{"$f":"Z18/(AB4-Z20)","v":0},{"$f":"IF(AA18=0,0,(AA18*((LOG(AA18))/LOG(2))))","v":0},null,{"$f":"N18","v":2122},{"$f":"COUNTIF(L63:L91,AD18)","v":0},{"$f":"AE18/(AG4-AE20)","v":0},{"$f":"IF(AF18=0,0,(AF18*((LOG(AF18))/LOG(2))))","v":0},null,{"$f":"N18","v":2122},{"$f":"COUNTIF(L92:L119,AI18)","v":0},{"$f":"AJ18/(AL4-AJ20)","v":0},{"$f":"IF(AK18=0,0,(AK18*((LOG(AK18))/LOG(2))))","v":0},null,{"$f":"N18","v":2122},{"$f":"COUNTIF(L120:L147,AN18)","v":0},{"$f":"AO18/(AQ4-AO20)","v":0},{"$f":"IF(AP18=0,0,(AP18*((LOG(AP18))/LOG(2))))","v":0},null,{"$f":"N18","v":2122},{"$f":"COUNTIF(L148:L175,AS18)","v":0},{"$f":"AT18/(AV4-AT20)","v":0},{"$f":"IF(AU18=0,0,(AU18*((LOG(AU18))/LOG(2))))","v":0}]
[12,1665,14,1668,13,1673,14,1678,null,null,0,1111,null,2211,{"$f":"COUNTIF($L$7:$L$500,N19)","v":0},{"$f":"O19/$Q$4","v":0},{"$f":"IF(P19=0,0,(P19*((LOG(P19))/LOG(2))))","v":0},null,null,{"$f":"N19","v":2211},{"$f":"COUNTIF(L7:L34,T19)","v":0},{"$f":"U19/(W4-U20)","v":0},{"$f":"IF(V19=0,0,(V19*((LOG(V19))/LOG(2))))","v":0},null,{"$f":"N19","v":2211},{"$f":"COUNTIF(L35:L62,Y19)","v":0},{"$f":"Z19/(AB4-Z20)","v":0},{"$f":"IF(AA19=0,0,(AA19*((LOG(AA19))/LOG(2))))","v":0},null,{"$f":"N19","v":2211},{"$f":"COUNTIF(L63:L91,AD19)","v":0},{"$f":"AE19/(AG4-AE20)","v":0},{"$f":"IF(AF19=0,0,(AF19*((LOG(AF19))/LOG(2))))","v":0},null,{"$f":"N19","v":2211},{"$f":"COUNTIF(L92:L119,AI19)","v":0},{"$f":"AJ19/(AL4-AJ20)","v":0},{"$f":"IF(AK19=0,0,(AK19*((LOG(AK19))/LOG(2))))","v":0},null,{"$f":"N19","v":2211},{"$f":"COUNTIF(L120:L147,AN19)","v":0},{"$f":"AO19/(AQ4-AO20)","v":0},{"$f":"IF(AP19=0,0,(AP19*((LOG(AP19))/LOG(2))))","v":0},null,{"$f":"N19","v":2211},{"$f":"COUNTIF(L148:L175,AS19)","v":0},{"$f":"AT19/(AV4-AT20)","v":0},{"$f":"IF(AU19=0,0,(AU19*((LOG(AU19))/LOG(2))))","v":0}]
[21,1796,21,1801,22,1810,23,1819,null,null,0,2222,null,2212,{"$f":"COUNTIF($L$7:$L$500,N20)","v":0},{"$f":"O20/$Q$4","v":0},{"$f":"IF(P20=0,0,(P20*((LOG(P20))/LOG(2))))","v":0},null,null,{"$f":"N20","v":2212},{"$f":"COUNTIF(L7:L34,T20)","v":0},null,null,null,{"$f":"N20","v":2212},{"$f":"COUNTIF(L35:L62,Y20)","v":0},null,null,null,{"$f":"N20","v":2212},{"$f":"COUNTIF(L63:L91,AD20)","v":0},null,null,null,{"$f":"N20","v":2212},{"$f":"COUNTIF(L92:L119,AI20)","v":0},null,null,null,{"$f":"N20","v":2212},{"$f":"COUNTIF(L120:L147,AN20)","v":0},null,null,null,{"$f":"N20","v":2212},{"$f":"COUNTIF(L148:L175,AS20)","v":0}]
[21,1944,21,1949,22,1956,23,1961,null,null,0,2222,null,2221,{"$f":"COUNTIF($L$7:$L$500,N21)","v":0},{"$f":"O21/$Q$4","v":0},{"$f":"IF(P21=0,0,(P21*((LOG(P21))/LOG(2))))","v":0},null,null,{"$f":"N21","v":2221},{"$f":"COUNTIF(L7:L34,T21)","v":0},{"$f":"U21/(W4-U20)","v":0},{"$f":"IF(V21=0,0,(V21*((LOG(V21))/LOG(2))))","v":0},null,{"$f":"N21","v":2221},{"$f":"COUNTIF(L35:L62,Y21)","v":0},{"$f":"Z21/(AB4-Z20)","v":0},{"$f":"IF(AA21=0,0,(AA21*((LOG(AA21))/LOG(2))))","v":0},null,{"$f":"N21","v":2221},{"$f":"COUNTIF(L63:L91,AD21)","v":0},{"$f":"AE21/(AG4-AE20)","v":0},{"$f":"IF(AF21=0,0,(AF21*((LOG(AF21))/LOG(2))))","v":0},null,{"$f":"N21","v":2221},{"$f":"COUNTIF(L92:L119,AI21)","v":0},{"$f":"AJ21/(AL4-AJ20)","v":0},{"$f":"IF(AK21=0,0,(AK21*((LOG(AK21))/LOG(2))))","v":0},null,{"$f":"N21","v":2221},{"$f":"COUNTIF(L120:L147,AN21)","v":0},{"$f":"AO21/(AQ4-AO20)","v":0},{"$f":"IF(AP21=0,0,(AP21*((LOG(AP21))/LOG(2))))","v":0},null,{"$f":"N21","v":2221},{"$f":"COUNTIF(L148:L175,AS21)","v":0},{"$f":"AT21/(AV4-AT20)","v":0},{"$f":"IF(AU21=0,0,(AU21*((LOG(AU21))/LOG(2))))","v":0}]
[12,2089,14,2093,13,2097,14,2102,null,null,0,1111,null,2222,{"$f":"COUNTIF($L$7:$L$500,N22)","v":64},{"$f":"O22/$Q$4","v":0.378698224852071},{"$f":"IF(P22=0,0,(P22*((LOG(P22))/LOG(2))))","v":-0.53051055575183315},null,null,{"$f":"N22","v":2222},{"$f":"COUNTIF(L7:L34,T22)","v":17},{"$f":"U22/(W4-U20)","v":0.6071428571428571},{"$f":"IF(V22=0,0,(V22*((LOG(V22))/LOG(2))))","v":-0.43707733477583927},null,{"$f":"N22","v":2222},{"$f":"COUNTIF(L35:L62,Y22)","v":13},{"$f":"Z22/(AB4-Z20)","v":0.4642857142857143},{"$f":"IF(AA22=0,0,(AA22*((LOG(AA22))/LOG(2))))","v":-0.51392491610409474},null,{"$f":"N22","v":2222},{"$f":"COUNTIF(L63:L91,AD22)","v":11},{"$f":"AE22/(AG4-AE20)","v":0.37931034482758619},{"$f":"IF(AF22=0,0,(AF22*((LOG(AF22))/LOG(2))))","v":-0.53048424625493174},null,{"$f":"N22","v":2222},{"$f":"COUNTIF(L92:L119,AI22)","v":8},{"$f":"AJ22/(AL4-AJ20)","v":0.2857142857142857},{"$f":"IF(AK22=0,0,(AK22*((LOG(AK22))/LOG(2))))","v":-0.51638712058788683},null,{"$f":"N22","v":2222},{"$f":"COUNTIF(L120:L147,AN22)","v":12},{"$f":"AO22/(AQ4-AO20)","v":0.42857142857142855},{"$f":"IF(AP22=0,0,(AP22*((LOG(AP22))/LOG(2))))","v":-0.52388246628704915},null,{"$f":"N22","v":2222},{"$f":"COUNTIF(L148:L175,AS22)","v":3},{"$f":"AT22/(AV4-AT20)","v":0.10714285714285714},{"$f":"IF(AU22=0,0,(AU22*((LOG(AU22))/LOG(2))))","v":-0.34525633085747659}]
[12,2225,14,2229,13,2233,14,2238,null,null,0,1111,null,null,null,{"$f":"SUM(P7:P22)","v":1},{"$f":"-SUM(Q7:Q22)","v":1.5083415927483212},null,null,null,null,{"$f":"SUM(V7:V22)","v":1},{"$f":"-SUM(W7:W22)","v":0.96661863254810276},null,null,null,{"$f":"SUM(AA7:AA22)","v":1},{"$f":"-SUM(AB7:AB22)","v":1.5604137919501779},null,null,null,{"$f":"SUM(AF7:AF22)","v":1},{"$f":"-SUM(AG7:AG22)","v":1.2699207259892868},null,null,null,{"$f":"SUM(AK7:AK22)","v":0.99999999999999989},{"$f":"-SUM(AL7:AL22)","v":1.5566567074628228},null,null,null,{"$f":"SUM(AP7:AP22)","v":1},{"$f":"-SUM(AQ7:AQ22)","v":1.5528811240401728},null,null,null,{"$f":"SUM(AU7:AU22)","v":1},{"$f":"-SUM(AV7:AV22)","v":1.1358159979737639}]
[21,2350,21,2354,22,2359,23,2366,null,null,0,2222,null,null,null,"U=",{"$f":"Q23/(LOG(Q4)/LOG(2))","v":0.20380572413513512},null,null,null,null,"U1=",{"$f":"W23/(LOG(W4)/LOG(2))","v":0.20107078595611133},null,null,null,"U2=",{"$f":"AB23/(LOG(AB4)/LOG(2))","v":0.3245888471413928},null,null,null,"U3=",{"$f":"AG23/(LOG(AG4)/LOG(2))","v":0.26140915892075006},null,null,null,"U4=",{"$f":"AL23/(LOG(AL4)/LOG(2))","v":0.32380731872331897},null,null,null,"U5=",{"$f":"AQ23/(LOG(AQ4)/LOG(2))","v":0.32302194225666236},null,null,null,"U6=",{"$f":"AV23/(LOG(AV4)/LOG(2))","v":0.23626630785305558}]
[21,2491,21,2495,22,2500,23,2508,null,null,0,2222]
[21,2647,21,2651,22,2659,23,2667,null,null,0,2222]
[21,2797,21,2802,22,2810,23,2815,null,null,0,2222,null,"Total Target Seq"]
[21,2956,21,2963,22,2971,23,2979,null,null,0,2222,null,{"$f":"COUNTIF(L7:L175,G3)","v":0},null,28,28,29,28,28,28]
[21,3152,21,3160,22,3167,23,3176,null,null,0,2222,null,null,null,"% of reinforcement given in 6 equal intervals based on number of trials "]
[21,3310,21,3315,22,3320,23,3328,null,null,0,2222,null,null,null,"%_1","%_2","%_3","%_4","%_5","%_6"]
[21,3439,21,3444,22,3452,23,3457,null,null,0,2222,null,null,"target sequence",{"$f":"$G$3","v":2212},{"$f":"$G$3","v":2212},{"$f":"$G$3","v":2212},{"$f":"$G$3","v":2212},{"$f":"$G$3","v":2212},{"$f":"$G$3","v":2212}]
[21,3601,21,3615,22,3621,23,3625,null,null,0,2222,null,null,"total reinforcement",{"$f":"U20","v":0},{"$f":"Z20","v":0},{"$f":"AE20","v":0},{"$f":"AJ20","v":0},{"$f":"AO20","v":0},{"$f":"AT20","v":0}]
[21,3788,21,3793,22,3802,23,3810,null,null,0,2222,null,null,"% target"]
[12,3932,14,3937,13,3941,14,3954,null,null,0,1111,null,null,"CCRF"]
[21,4110,21,4118,22,4122,23,4127,null,null,0,2222,null,null,"% CCRf"]
[21,4268,21,4276,22,4284,23,4292,null,null,0,2222,null,null,"average response rate",{"$f":"H34/P28","v":141.21428571428572},{"$f":"(H62-H34)/Q28","v":146.39285714285714},{"$f":"(H91-H62)/R28","v":145.68965517241378},{"$f":"(H119-H91)/S28","v":144.89285714285714},{"$f":"(H147-H119)/T28","v":137.64285714285714},{"$f":"(H175-H147)/U28","v":132.78571428571428}]
[12,4432,14,4438,13,4443,14,4447,null,null,0,1111]
[21,4571,21,4576,22,4580,23,4587,null,null,0,2222]
[12,4697,14,4701,13,4705,14,4718,null,null,0,1111]
[21,4833,12,4847,13,4855,14,4863,null,null,0,2111]
[21,4985,21,4994,22,5001,23,5009,null,null,0,2222]
[21,5117,12,5140,13,5148,14,5153,null,null,0,2111]
[21,5288,21,5297,22,5310,23,5318,null,null,0,2222]
[21,5446,21,5454,22,5458,23,5463,null,null,0,2222]
[21,5601,21,5608,22,5612,23,5617,null,null,0,2222]
[12,5754,14,5758,13,5763,14,5777,null,null,0,1111]
[12,5891,14,5895,13,5900,14,5909,null,null,0,1111]
[12,6025,14,6029,13,6033,14,6044,null,null,0,1111]
[21,6169,21,6173,22,6178,23,6185,null,null,0,2222]
[12,6303,14,6312,13,6319,14,6327,null,null,0,1111]
[21,6434,21,6446,22,6450,23,6466,null,null,0,2222]
[12,6585,14,6589,13,6593,14,6597,null,null,0,1111]
[12,6714,14,6722,13,6726,14,6731,null,null,0,1111]
[12,6842,23,6853,24,6857,23,6864,null,null,0,1222]
[21,6991,21,7012,22,7019,23,7027,null,null,0,2222]
[21,7161,12,7171,13,7177,14,7180,null,null,0,2111]
[21,7305,21,7309,22,7317,23,7324,null,null,0,2222]
[12,7456,14,7466,13,7471,14,7475,null,null,0,1111]
[21,7641,21,7645,22,7650,23,7655,null,null,0,2222]
[12,7769,14,7777,13,7780,14,7785,null,null,0,1111]
[12,7899,14,7903,13,7907,14,7911,null,null,0,1111]
[21,8032,21,8037,22,8045,23,8053,null,null,0,2222]
[21,8191,21,8195,22,8203,23,8211,null,null,0,2222]
[21,8346,21,8351,22,8359,23,8367,null,null,0,2222]
[12,8475,14,8480,13,8484,14,8488,null,null,0,1111]
[21,8613,21,8618,22,8622,23,8626,null,null,0,2222]
[21,8756,21,8760,22,8767,23,8775,null,null,0,2222]
[21,8923,21,8930,22,8938,23,8946,null,null,0,2222]
[12,9083,14,9087,13,9092,14,9096,null,null,0,1111]
[12,9227,14,9232,13,9237,14,9241,null,null,0,1111]
[12,9398,14,9404,13,9408,14,9412,null,null,0,1111]
[12,9548,14,9552,13,9556,14,9560,null,null,0,1111]
[12,9678,14,9682,13,9686,14,9690,null,null,0,1111]
[21,9813,21,9817,22,9825,23,9832,null,null,0,2222]
[21,9952,12,9962,13,9966,14,9970,null,null,0,2111]
[21,10094,21,10098,22,10106,23,10118,null,null,0,2222]
[12,10264,14,10268,13,10272,14,10298,null,null,0,1111]
[21,10420,21,10424,22,10432,23,10440,null,null,0,2222]
[12,10555,14,10559,13,10563,14,10567,null,null,0,1111]
[12,10685,14,10690,13,10694,14,10698,null,null,0,1111]
[12,10814,14,10818,13,10823,14,10827,null,null,0,1111]
[12,10961,14,10965,13,10969,14,10978,null,null,0,1111]
[12,11085,14,11090,13,11095,14,11099,null,null,0,1111]
[12,11207,14,11211,13,11216,14,11220,null,null,0,1111]
[21,11350,12,11358,13,11362,14,11376,null,null,0,2111]
[21,11495,21,11502,22,11506,23,11511,null,null,0,2222]
[12,11631,14,11636,13,11640,14,11647,null,null,0,1111]
[12,11819,14,11823,13,11827,14,11831,null,null,0,1111]
[21,11957,21,11972,22,11976,23,11984,null,null,0,2222]
[12,12118,14,12122,13,12126,14,12130,null,null,0,1111]
[21,12244,21,12264,22,12271,23,12278,null,null,0,2222]
[21,12414,12,12424,13,12432,14,12437,null,null,0,2111]
[21,12574,21,12579,22,12586,23,12594,null,null,0,2222]
[21,12709,12,12721,13,12728,14,12732,null,null,0,2111]
[12,12843,14,12847,13,12851,14,12867,null,null,0,1111]
[21,12973,12,12990,13,12997,14,13001,null,null,0,2111]
[21,13134,21,13138,22,13142,23,13150,null,null,0,2222]
[21,13273,12,13285,13,13289,14,13300,null,null,0,2111]
[12,13419,14,13431,13,13435,14,13440,null,null,0,1111]
[21,13552,12,13567,13,13571,14,13576,null,null,0,2111]
[12,13697,14,13702,13,13706,14,13710,null,null,0,1111]
[21,13826,21,13842,22,13846,23,13853,null,null,0,2222]
[21,13973,12,13985,13,13995,14,13999,null,null,0,2111]
[21,14126,12,14143,13,14147,14,14155,null,null,0,2111]
[12,14285,14,14289,13,14293,14,14297,null,null,0,1111]
[12,14410,14,14414,13,14425,14,14429,null,null,0,1111]
[12,14560,14,14564,13,14568,14,14586,null,null,0,1111]
[12,14735,14,14739,13,14743,14,14751,null,null,0,1111]
[12,14884,14,14889,13,14893,14,14898,null,null,0,1111]
[21,15013,21,15017,22,15025,23,15031,null,null,0,2222]
[12,15162,14,15166,13,15170,14,15177,null,null,0,1111]
[21,15311,21,15319,22,15327,23,15332,null,null,0,2222]
[21,15461,21,15468,22,15471,23,15479,null,null,0,2222]
[21,15632,21,15639,22,15644,23,15652,null,null,0,2222]
[21,15770,12,15786,13,15790,14,15794,null,null,0,2111]
[12,15923,14,15927,13,15931,14,15939,null,null,0,1111]
[21,16064,21,16068,22,16073,23,16078,null,null,0,2222]
[12,16198,14,16203,13,16207,14,16211,null,null,0,1111]
[12,16323,14,16327,13,16331,14,16335,null,null,0,1111]
[21,16457,21,16461,22,16469,23,16477,null,null,0,2222]
[21,16611,21,16615,22,16619,23,16627,null,null,0,2222]
[12,16741,23,16754,24,16758,23,16763,null,null,0,1222]
[12,16902,14,16906,13,16911,14,16917,null,null,0,1111]
[21,17035,21,17046,22,17053,23,17060,null,null,0,2222]
[21,17170,21,17178,22,17185,23,17192,null,null,0,2222]
[12,17326,14,17340,13,17348,14,17354,null,null,0,1111]
[21,17464,21,17475,22,17484,23,17488,null,null,0,2222]
[12,17601,14,17610,13,17614,14,17618,null,null,0,1111]
[21,17730,12,17744,13,17748,14,17752,null,null,0,2111]
[21,17889,21,17894,22,17901,23,17909,null,null,0,2222]
[12,18030,14,18034,13,18038,14,18041,null,null,0,1111]
[12,18153,14,18161,13,18165,14,18170,null,null,0,1111]
[21,18281,21,18285,22,18289,23,18294,null,null,0,2222]
[12,18425,14,18429,13,18433,14,18438,null,null,0,1111]
[12,18539,14,18543,13,18549,14,18553,null,null,0,1111]
[21,18662,21,18668,22,18672,23,18678,null,null,0,2222]
[21,18805,21,18812,22,18819,23,18828,null,null,0,2222]
[12,18938,14,18949,13,18954,14,18959,null,null,0,1111]
[12,19074,14,19079,13,19083,14,19087,null,null,0,1111]
[21,19217,21,19222,22,19226,23,19230,null,null,0,2222]
[12,19347,14,19352,13,19355,14,19360,null,null,0,1111]
[21,19474,21,19478,22,19482,23,19489,null,null,0,2222]
[21,19621,21,19628,22,19636,23,19642,null,null,0,2222]
[12,19747,14,19752,24,19764,14,19774,null,null,0,1121]
[12,19889,14,19893,13,19897,14,19916,null,null,0,1111]
[12,20033,14,20037,13,20041,14,20045,null,null,0,1111]
[12,20176,14,20180,13,20185,14,20189,null,null,0,1111]
[12,20290,14,20295,13,20311,14,20315,null,null,0,1111]
[12,20429,14,20437,13,20441,14,20445,null,null,0,1111]
[12,20562,14,20566,13,20570,14,20574,null,null,0,1111]
[12,20671,14,20676,13,20681,14,20686,null,null,0,1111]
[12,20791,14,20797,13,20804,14,20808,null,null,0,1111]
[21,20910,21,20914,22,20918,23,20923,null,null,0,2222]
[21,21020,12,21039,13,21043,14,21049,null,null,0,2111]
[12,21178,14,21182,13,21187,14,21199,null,null,0,1111]
[12,21310,14,21319,13,21323,14,21328,null,null,0,1111]
[12,21445,14,21452,13,21456,14,21464,null,null,0,1111]
[21,21585,21,21589,22,21593,23,21598,null,null,0,2222]
[21,21730,12,21744,13,21748,14,21752,null,null,0,2111]
[12,21879,14,21887,13,21891,14,21895,null,null,0,1111]
[12,22005,14,22014,13,22018,14,22022,null,null,0,1111]
[12,22136,14,22140,13,22144,14,22148,null,null,0,1111]
[12,22257,14,22268,13,22272,14,22277,null,null,0,1111]
[21,22394,21,22422,22,22430,23,22438,null,null,0,2222]
[21,22537,12,22547,13,22554,14,22558,null,null,0,2111]
[12,22679,14,22683,13,22687,14,22691,null,null,0,1111]
[12,22797,14,22801,13,22807,14,22818,null,null,0,1111]
[21,22923,12,22937,13,22941,14,22946,null,null,0,2111]
[12,23069,14,23074,13,23078,14,23083,null,null,0,1111]
[12,23200,14,23205,13,23209,14,23213,null,null,0,1111]
[12,23336,14,23340,13,23344,14,23348,null,null,0,1111]
[12,23469,14,23474,13,23486,14,23490,null,null,0,1111]
[12,23618,14,23626,13,23639,14,23647,null,null,0,1111]
[21,23765,12,23777,13,23781,14,23785,null,null,0,2111]
[12,23893,14,23897,13,23902,14,23907,null,null,0,1111]

{"sheet":"!L821B20.053","index":27,"n_rows":191,"n_cols":48,"rows_kept":191,"cut":false,"hidden":false,"merged":[[4,39,4,42],[5,39,5,40],[4,44,4,47],[5,44,5,45],[4,24,4,27],[5,24,5,25],[4,29,4,32],[5,29,5,30],[4,34,4,37],[5,34,5,35],[1,1,1,2],[5,13,5,14],[26,13,26,14],[27,13,27,14],[4,19,4,22],[5,19,5,20]]}
["Report for:!L821B20.053"]
["Date:","<date>"]
["Hen:","<hen>",null,null,null,"Correct Sequence",{"$f":"Start!J2","v":2212},null,null,null,null,null,null,null,null,"Total Sequences in Data",{"$f":"4994-COUNTBLANK(L7:L5000)","v":185},null,null,null,null,"Total Sequences in Block Data",{"$f":"COUNTA(L7:L37)","v":31},null,null,null,"Total Sequences in Block Data",{"$f":"COUNTA(L38:L68)","v":31},null,null,null,"Total Sequences in Block Data",{"$f":"COUNTA(L69:L98)","v":30},null,null,null,"Total Sequences in Block Data",{"$f":"COUNTA(L99:L129)","v":31},null,null,null,"Total Sequences in Block Data",{"$f":"COUNTA(L130:L160)","v":31},null,null,null,"Total Sequences in Block Data",{"$f":"COUNTA(L161:L191)","v":31}]
[null,null,null,null,null,null,null,null,null,null,null,null,null,null,null,"Total Sequences in Summary",{"$f":"SUM(O7:O22)","v":185},null,null,null,null,"Total Sequences in Block Summary",{"$f":"SUM(U7:U22)","v":31},null,null,null,"Total Sequences in Block Summary",{"$f":"SUM(Z7:Z22)","v":31},null,null,null,"Total Sequences in Block Summary",{"$f":"SUM(AE7:AE22)","v":30},null,null,null,"Total Sequences in Block Summary",{"$f":"SUM(AJ7:AJ22)","v":31},null,null,null,"Total Sequences in Block Summary",{"$f":"SUM(AO7:AO22)","v":31},null,null,null,"Total Sequences in Block Summary",{"$f":"SUM(AT7:AT22)","v":31}]
[null,null,null,null,null,null,null,null,null,null,null,null,null,null,null,null,null,null,null,"Block 1",null,null,null,null,"Block 2",null,null,null,null,"Block 3",null,null,null,null,"Block 4",null,null,null,null,"Block 5",null,null,null,null,"Block 6"]
["Sequence\nComponent\n1","Time\n1","Sequence\nComponent\n2","Time\n2","Sequence\nComponent\n3","Time\n3","Sequence\nComponent\n4","Time\n4","Sequence\nComponent\n5","Time\n5","Correct?\n0=No 1=Yes","Sequence",null,"Frequency",null,"Relative Frequency","Variability",null,null,"Frequency",null,"Relative Frequency","Variability",null,"Frequency",null,"Relative Frequency","Variability",null,"Frequency",null,"Relative Frequency","Variability",null,"Frequency",null,"Relative Frequency","Variability",null,"Frequency",null,"Relative Frequency","Variability",null,"Frequency",null,"Relative Frequency","Variability"]
[12,7,23,24,24,28,23,33,null,null,0,1222,null,1111,{"$f":"COUNTIF($L$7:$L$500,N7)","v":101},{"$f":"O7/$Q$4","v":0.54594594594594592},{"$f":"IF(P7=0,0,(P7*((LOG(P7))/LOG(2))))","v":-0.4767036094822501},null,null,{"$f":"N7","v":1111},{"$f":"COUNTIF(L7:L37,T7)","v":11},{"$f":"U7/(W4-U20)","v":0.35483870967741937},{"$f":"IF(V7=0,0,(V7*((LOG(V7))/LOG(2))))","v":-0.53040037449178568},null,{"$f":"N7","v":1111},{"$f":"COUNTIF(L38:L68,Y7)","v":20},{"$f":"Z7/(AB4-Z20)","v":0.64516129032258063},{"$f":"IF(AA7=0,0,(AA7*((LOG(AA7))/LOG(2))))","v":-0.40791497774162117},null,{"$f":"N7","v":1111},{"$f":"COUNTIF(L69:L98,AD7)","v":19},{"$f":"AE7/(AG4-AE20)","v":0.6333333333333333},{"$f":"IF(AF7=0,0,(AF7*((LOG(AF7))/LOG(2))))","v":-0.41734328537112425},null,{"$f":"N7","v":1111},{"$f":"COUNTIF(L99:L129,AI7)","v":16},{"$f":"AJ7/(AL4-AJ20)","v":0.5161290322580645},{"$f":"IF(AK7=0,0,(AK7*((LOG(AK7))/LOG(2))))","v":-0.49248841826419365},null,{"$f":"N7","v":1111},{"$f":"COUNTIF(L130:L160,AN7)","v":17},{"$f":"AO7/(AQ4-AO20)","v":0.54838709677419351},{"$f":"IF(AP7=0,0,(AP7*((LOG(AP7))/LOG(2))))","v":-0.47530545081681003},null,{"$f":"N7","v":1111},{"$f":"COUNTIF(L161:L191,AS7)","v":18},{"$f":"AT7/(AV4-AT20)","v":0.58064516129032262},{"$f":"IF(AU7=0,0,(AU7*((LOG(AU7))/LOG(2))))","v":-0.45538334067748809}]
[21,152,21,162,22,167,23,176,null,null,0,2222,null,1112,{"$f":"COUNTIF($L$7:$L$500,N8)","v":4},{"$f":"O8/$Q$4","v":2.1621621621621623E-2},{"$f":"IF(P8=0,0,(P8*((LOG(P8))/LOG(2))))","v":-0.11959743698413648},null,null,{"$f":"N8","v":1112},{"$f":"COUNTIF(L7:L37,T8)","v":0},{"$f":"U8/(W4-U20)","v":0},{"$f":"IF(V8=0,0,(V8*((LOG(V8))/LOG(2))))","v":0},null,{"$f":"N8","v":1112},{"$f":"COUNTIF(L38:L68,Y8)","v":1},{"$f":"Z8/(AB4-Z20)","v":3.2258064516129031E-2},{"$f":"IF(AA8=0,0,(AA8*((LOG(AA8))/LOG(2))))","v":-0.15981278420602821},null,{"$f":"N8","v":1112},{"$f":"COUNTIF(L69:L98,AD8)","v":0},{"$f":"AE8/(AG4-AE20)","v":0},{"$f":"IF(AF8=0,0,(AF8*((LOG(AF8))/LOG(2))))","v":0},null,{"$f":"N8","v":1112},{"$f":"COUNTIF(L99:L129,AI8)","v":1},{"$f":"AJ8/(AL4-AJ20)","v":3.2258064516129031E-2},{"$f":"IF(AK8=0,0,(AK8*((LOG(AK8))/LOG(2))))","v":-0.15981278420602821},null,{"$f":"N8","v":1112},{"$f":"COUNTIF(L130:L160,AN8)","v":0},{"$f":"AO8/(AQ4-AO20)","v":0},{"$f":"IF(AP8=0,0,(AP8*((LOG(AP8))/LOG(2))))","v":0},null,{"$f":"N8","v":1112},{"$f":"COUNTIF(L161:L191,AS8)","v":2},{"$f":"AT8/(AV4-AT20)","v":6.4516129032258063E-2},{"$f":"IF(AU8=0,0,(AU8*((LOG(AU8))/LOG(2))))","v":-0.25510943937979835}]
[21,292,12,307,13,310,14,315,null,null,0,2111,null,1121,{"$f":"COUNTIF($L$7:$L$500,N9)","v":0},{"$f":"O9/$Q$4","v":0},{"$f":"IF(P9=0,0,(P9*((LOG(P9))/LOG(2))))","v":0},null,null,{"$f":"N9","v":1121},{"$f":"COUNTIF(L7:L37,T9)","v":0},{"$f":"U9/(W4-U20)","v":0},{"$f":"IF(V9=0,0,(V9*((LOG(V9))/LOG(2))))","v":0},null,{"$f":"N9","v":1121},{"$f":"COUNTIF(L38:L68,Y9)","v":0},{"$f":"Z9/(AB4-Z20)","v":0},{"$f":"IF(AA9=0,0,(AA9*((LOG(AA9))/LOG(2))))","v":0},null,{"$f":"N9","v":1121},{"$f":"COUNTIF(L69:L98,AD9)","v":0},{"$f":"AE9/(AG4-AE20)","v":0},{"$f":"IF(AF9=0,0,(AF9*((LOG(AF9))/LOG(2))))","v":0},null,{"$f":"N9","v":1121},{"$f":"COUNTIF(L99:L129,AI9)","v":0},{"$f":"AJ9/(AL4-AJ20)","v":0},{"$f":"IF(AK9=0,0,(AK9*((LOG(AK9))/LOG(2))))","v":0},null,{"$f":"N9","v":1121},{"$f":"COUNTIF(L130:L160,AN9)","v":0},{"$f":"AO9/(AQ4-AO20)","v":0},{"$f":"IF(AP9=0,0,(AP9*((LOG(AP9))/LOG(2))))","v":0},null,{"$f":"N9","v":1121},{"$f":"COUNTIF(L161:L191,AS9)","v":0},{"$f":"AT9/(AV4-AT20)","v":0},{"$f":"IF(AU9=0,0,(AU9*((LOG(AU9))/LOG(2))))","v":0}]
[12,489,23,500,24,504,23,509,null,null,0,1222,null,1122,{"$f":"COUNTIF($L$7:$L$500,N10)","v":2},{"$f":"O10/$Q$4","v":1.0810810810810811E-2},{"$f":"IF(P10=0,0,(P10*((LOG(P10))/LOG(2))))","v":-7.0609529302879045E-2},null,null,{"$f":"N10","v":1122},{"$f":"COUNTIF(L7:L37,T10)","v":0},{"$f":"U10/(W4-U20)","v":0},{"$f":"IF(V10=0,0,(V10*((LOG(V10))/LOG(2))))","v":0},null,{"$f":"N10","v":1122},{"$f":"COUNTIF(L38:L68,Y10)","v":0},{"$f":"Z10/(AB4-Z20)","v":0},{"$f":"IF(AA10=0,0,(AA10*((LOG(AA10))/LOG(2))))","v":0},null,{"$f":"N10","v":1122},{"$f":"COUNTIF(L69:L98,AD10)","v":0},{"$f":"AE10/(AG4-AE20)","v":0},{"$f":"IF(AF10=0,0,(AF10*((LOG(AF10))/LOG(2))))","v":0},null,{"$f":"N10","v":1122},{"$f":"COUNTIF(L99:L129,AI10)","v":0},{"$f":"AJ10/(AL4-AJ20)","v":0},{"$f":"IF(AK10=0,0,(AK10*((LOG(AK10))/LOG(2))))","v":0},null,{"$f":"N10","v":1122},{"$f":"COUNTIF(L130:L160,AN10)","v":0},{"$f":"AO10/(AQ4-AO20)","v":0},{"$f":"IF(AP10=0,0,(AP10*((LOG(AP10))/LOG(2))))","v":0},null,{"$f":"N10","v":1122},{"$f":"COUNTIF(L161:L191,AS10)","v":2},{"$f":"AT10/(AV4-AT20)","v":6.4516129032258063E-2},{"$f":"IF(AU10=0,0,(AU10*((LOG(AU10))/LOG(2))))","v":-0.25510943937979835}]
[12,627,23,652,24,657,23,665,null,null,0,1222,null,1211,{"$f":"COUNTIF($L$7:$L$500,N11)","v":0},{"$f":"O11/$Q$4","v":0},{"$f":"IF(P11=0,0,(P11*((LOG(P11))/LOG(2))))","v":0},null,null,{"$f":"N11","v":1211},{"$f":"COUNTIF(L7:L37,T11)","v":0},{"$f":"U11/(W4-U20)","v":0},{"$f":"IF(V11=0,0,(V11*((LOG(V11))/LOG(2))))","v":0},null,{"$f":"N11","v":1211},{"$f":"COUNTIF(L38:L68,Y11)","v":0},{"$f":"Z11/(AB4-Z20)","v":0},{"$f":"IF(AA11=0,0,(AA11*((LOG(AA11))/LOG(2))))","v":0},null,{"$f":"N11","v":1211},{"$f":"COUNTIF(L69:L98,AD11)","v":0},{"$f":"AE11/(AG4-AE20)","v":0},{"$f":"IF(AF11=0,0,(AF11*((LOG(AF11))/LOG(2))))","v":0},null,{"$f":"N11","v":1211},{"$f":"COUNTIF(L99:L129,AI11)","v":0},{"$f":"AJ11/(AL4-AJ20)","v":0},{"$f":"IF(AK11=0,0,(AK11*((LOG(AK11))/LOG(2))))","v":0},null,{"$f":"N11","v":1211},{"$f":"COUNTIF(L130:L160,AN11)","v":0},{"$f":"AO11/(AQ4-AO20)","v":0},{"$f":"IF(AP11=0,0,(AP11*((LOG(AP11))/LOG(2))))","v":0},null,{"$f":"N11","v":1211},{"$f":"COUNTIF(L161:L191,AS11)","v":0},{"$f":"AT11/(AV4-AT20)","v":0},{"$f":"IF(AU11=0,0,(AU11*((LOG(AU11))/LOG(2))))","v":0}]
[21,784,21,789,22,793,23,801,null,null,0,2222,null,1212,{"$f":"COUNTIF($L$7:$L$500,N12)","v":0},{"$f":"O12/$Q$4","v":0},{"$f":"IF(P12=0,0,(P12*((LOG(P12))/LOG(2))))","v":0},null,null,{"$f":"N12","v":1212},{"$f":"COUNTIF(L7:L37,T12)","v":0},{"$f":"U12/(W4-U20)","v":0},{"$f":"IF(V12=0,0,(V12*((LOG(V12))/LOG(2))))","v":0},null,{"$f":"N12","v":1212},{"$f":"COUNTIF(L38:L68,Y12)","v":0},{"$f":"Z12/(AB4-Z20)","v":0},{"$f":"IF(AA12=0,0,(AA12*((LOG(AA12))/LOG(2))))","v":0},null,{"$f":"N12","v":1212},{"$f":"COUNTIF(L69:L98,AD12)","v":0},{"$f":"AE12/(AG4-AE20)","v":0},{"$f":"IF(AF12=0,0,(AF12*((LOG(AF12))/LOG(2))))","v":0},null,{"$f":"N12","v":1212},{"$f":"COUNTIF(L99:L129,AI12)","v":0},{"$f":"AJ12/(AL4-AJ20)","v":0},{"$f":"IF(AK12=0,0,(AK12*((LOG(AK12))/LOG(2))))","v":0},null,{"$f":"N12","v":1212},{"$f":"COUNTIF(L130:L160,AN12)","v":0},{"$f":"AO12/(AQ4-AO20)","v":0},{"$f":"IF(AP12=0,0,(AP12*((LOG(AP12))/LOG(2))))","v":0},null,{"$f":"N12","v":1212},{"$f":"COUNTIF(L161:L191,AS12)","v":0},{"$f":"AT12/(AV4-AT20)","v":0},{"$f":"IF(AU12=0,0,(AU12*((LOG(AU12))/LOG(2))))","v":0}]
[21,935,12,953,13,957,14,962,null,null,0,2111,null,1221,{"$f":"COUNTIF($L$7:$L$500,N13)","v":0},{"$f":"O13/$Q$4","v":0},{"$f":"IF(P13=0,0,(P13*((LOG(P13))/LOG(2))))","v":0},null,null,{"$f":"N13","v":1221},{"$f":"COUNTIF(L7:L37,T13)","v":0},{"$f":"U13/(W4-U20)","v":0},{"$f":"IF(V13=0,0,(V13*((LOG(V13))/LOG(2))))","v":0},null,{"$f":"N13","v":1221},{"$f":"COUNTIF(L38:L68,Y13)","v":0},{"$f":"Z13/(AB4-Z20)","v":0},{"$f":"IF(AA13=0,0,(AA13*((LOG(AA13))/LOG(2))))","v":0},null,{"$f":"N13","v":1221},{"$f":"COUNTIF(L69:L98,AD13)","v":0},{"$f":"AE13/(AG4-AE20)","v":0},{"$f":"IF(AF13=0,0,(AF13*((LOG(AF13))/LOG(2))))","v":0},null,{"$f":"N13","v":1221},{"$f":"COUNTIF(L99:L129,AI13)","v":0},{"$f":"AJ13/(AL4-AJ20)","v":0},{"$f":"IF(AK13=0,0,(AK13*((LOG(AK13))/LOG(2))))","v":0},null,{"$f":"N13","v":1221},{"$f":"COUNTIF(L130:L160,AN13)","v":0},{"$f":"AO13/(AQ4-AO20)","v":0},{"$f":"IF(AP13=0,0,(AP13*((LOG(AP13))/LOG(2))))","v":0},null,{"$f":"N13","v":1221},{"$f":"COUNTIF(L161:L191,AS13)","v":0},{"$f":"AT13/(AV4-AT20)","v":0},{"$f":"IF(AU13=0,0,(AU13*((LOG(AU13))/LOG(2))))","v":0}]
[12,1079,14,1084,13,1089,14,1094,null,null,0,1111,null,1222,{"$f":"COUNTIF($L$7:$L$500,N14)","v":9},{"$f":"O14/$Q$4","v":4.8648648648648651E-2},{"$f":"IF(P14=0,0,(P14*((LOG(P14))/LOG(2))))","v":-0.21217896287387028},null,null,{"$f":"N14","v":1222},{"$f":"COUNTIF(L7:L37,T14)","v":4},{"$f":"U14/(W4-U20)","v":0.12903225806451613},{"$f":"IF(V14=0,0,(V14*((LOG(V14))/LOG(2))))","v":-0.38118662069508069},null,{"$f":"N14","v":1222},{"$f":"COUNTIF(L38:L68,Y14)","v":0},{"$f":"Z14/(AB4-Z20)","v":0},{"$f":"IF(AA14=0,0,(AA14*((LOG(AA14))/LOG(2))))","v":0},null,{"$f":"N14","v":1222},{"$f":"COUNTIF(L69:L98,AD14)","v":0},{"$f":"AE14/(AG4-AE20)","v":0},{"$f":"IF(AF14=0,0,(AF14*((LOG(AF14))/LOG(2))))","v":0},null,{"$f":"N14","v":1222},{"$f":"COUNTIF(L99:L129,AI14)","v":1},{"$f":"AJ14/(AL4-AJ20)","v":3.2258064516129031E-2},{"$f":"IF(AK14=0,0,(AK14*((LOG(AK14))/LOG(2))))","v":-0.15981278420602821},null,{"$f":"N14","v":1222},{"$f":"COUNTIF(L130:L160,AN14)","v":1},{"$f":"AO14/(AQ4-AO20)","v":3.2258064516129031E-2},{"$f":"IF(AP14=0,0,(AP14*((LOG(AP14))/LOG(2))))","v":-0.15981278420602821},null,{"$f":"N14","v":1222},{"$f":"COUNTIF(L161:L191,AS14)","v":3},{"$f":"AT14/(AV4-AT20)","v":9.6774193548387094E-2},{"$f":"IF(AU14=0,0,(AU14*((LOG(AU14))/LOG(2))))","v":-0.32605488480635986}]
[21,1202,21,1214,22,1221,23,1230,null,null,0,2222,null,2111,{"$f":"COUNTIF($L$7:$L$500,N15)","v":18},{"$f":"O15/$Q$4","v":9.7297297297297303E-2},{"$f":"IF(P15=0,0,(P15*((LOG(P15))/LOG(2))))","v":-0.32706062845044326},null,null,{"$f":"N15","v":2111},{"$f":"COUNTIF(L7:L37,T15)","v":7},{"$f":"U15/(W4-U20)","v":0.22580645161290322},{"$f":"IF(V15=0,0,(V15*((LOG(V15))/LOG(2))))","v":-0.48477063607435156},null,{"$f":"N15","v":2111},{"$f":"COUNTIF(L38:L68,Y15)","v":1},{"$f":"Z15/(AB4-Z20)","v":3.2258064516129031E-2},{"$f":"IF(AA15=0,0,(AA15*((LOG(AA15))/LOG(2))))","v":-0.15981278420602821},null,{"$f":"N15","v":2111},{"$f":"COUNTIF(L69:L98,AD15)","v":1},{"$f":"AE15/(AG4-AE20)","v":3.3333333333333333E-2},{"$f":"IF(AF15=0,0,(AF15*((LOG(AF15))/LOG(2))))","v":-0.16356301985361729},null,{"$f":"N15","v":2111},{"$f":"COUNTIF(L99:L129,AI15)","v":5},{"$f":"AJ15/(AL4-AJ20)","v":0.16129032258064516},{"$f":"IF(AK15=0,0,(AK15*((LOG(AK15))/LOG(2))))","v":-0.42455938959669559},null,{"$f":"N15","v":2111},{"$f":"COUNTIF(L130:L160,AN15)","v":3},{"$f":"AO15/(AQ4-AO20)","v":9.6774193548387094E-2},{"$f":"IF(AP15=0,0,(AP15*((LOG(AP15))/LOG(2))))","v":-0.32605488480635986},null,{"$f":"N15","v":2111},{"$f":"COUNTIF(L161:L191,AS15)","v":1},{"$f":"AT15/(AV4-AT20)","v":3.2258064516129031E-2},{"$f":"IF(AU15=0,0,(AU15*((LOG(AU15))/LOG(2))))","v":-0.15981278420602821}]
[21,1370,12,1385,13,1389,14,1393,null,null,0,2111,null,2112,{"$f":"COUNTIF($L$7:$L$500,N16)","v":0},{"$f":"O16/$Q$4","v":0},{"$f":"IF(P16=0,0,(P16*((LOG(P16))/LOG(2))))","v":0},null,null,{"$f":"N16","v":2112},{"$f":"COUNTIF(L7:L37,T16)","v":0},{"$f":"U16/(W4-U20)","v":0},{"$f":"IF(V16=0,0,(V16*((LOG(V16))/LOG(2))))","v":0},null,{"$f":"N16","v":2112},{"$f":"COUNTIF(L38:L68,Y16)","v":0},{"$f":"Z16/(AB4-Z20)","v":0},{"$f":"IF(AA16=0,0,(AA16*((LOG(AA16))/LOG(2))))","v":0},null,{"$f":"N16","v":2112},{"$f":"COUNTIF(L69:L98,AD16)","v":0},{"$f":"AE16/(AG4-AE20)","v":0},{"$f":"IF(AF16=0,0,(AF16*((LOG(AF16))/LOG(2))))","v":0},null,{"$f":"N16","v":2112},{"$f":"COUNTIF(L99:L129,AI16)","v":0},{"$f":"AJ16/(AL4-AJ20)","v":0},{"$f":"IF(AK16=0,0,(AK16*((LOG(AK16))/LOG(2))))","v":0},null,{"$f":"N16","v":2112},{"$f":"COUNTIF(L130:L160,AN16)","v":0},{"$f":"AO16/(AQ4-AO20)","v":0},{"$f":"IF(AP16=0,0,(AP16*((LOG(AP16))/LOG(2))))","v":0},null,{"$f":"N16","v":2112},{"$f":"COUNTIF(L161:L191,AS16)","v":0},{"$f":"AT16/(AV4-AT20)","v":0},{"$f":"IF(AU16=0,0,(AU16*((LOG(AU16))/LOG(2))))","v":0}]
[21,1493,12,1509,13,1514,14,1518,null,null,0,2111,null,2121,{"$f":"COUNTIF($L$7:$L$500,N17)","v":0},{"$f":"O17/$Q$4","v":0},{"$f":"IF(P17=0,0,(P17*((LOG(P17))/LOG(2))))","v":0},null,null,{"$f":"N17","v":2121},{"$f":"COUNTIF(L7:L37,T17)","v":0},{"$f":"U17/(W4-U20)","v":0},{"$f":"IF(V17=0,0,(V17*((LOG(V17))/LOG(2))))","v":0},null,{"$f":"N17","v":2121},{"$f":"COUNTIF(L38:L68,Y17)","v":0},{"$f":"Z17/(AB4-Z20)","v":0},{"$f":"IF(AA17=0,0,(AA17*((LOG(AA17))/LOG(2))))","v":0},null,{"$f":"N17","v":2121},{"$f":"COUNTIF(L69:L98,AD17)","v":0},{"$f":"AE17/(AG4-AE20)","v":0},{"$f":"IF(AF17=0,0,(AF17*((LOG(AF17))/LOG(2))))","v":0},null,{"$f":"N17","v":2121},{"$f":"COUNTIF(L99:L129,AI17)","v":0},{"$f":"AJ17/(AL4-AJ20)","v":0},{"$f":"IF(AK17=0,0,(AK17*((LOG(AK17))/LOG(2))))","v":0},null,{"$f":"N17","v":2121},{"$f":"COUNTIF(L130:L160,AN17)","v":0},{"$f":"AO17/(AQ4-AO20)","v":0},{"$f":"IF(AP17=0,0,(AP17*((LOG(AP17))/LOG(2))))","v":0},null,{"$f":"N17","v":2121},{"$f":"COUNTIF(L161:L191,AS17)","v":0},{"$f":"AT17/(AV4-AT20)","v":0},{"$f":"IF(AU17=0,0,(AU17*((LOG(AU17))/LOG(2))))","v":0}]
[12,1634,14,1638,13,1643,14,1651,null,null,0,1111,null,2122,{"$f":"COUNTIF($L$7:$L$500,N18)","v":0},{"$f":"O18/$Q$4","v":0},{"$f":"IF(P18=0,0,(P18*((LOG(P18))/LOG(2))))","v":0},null,null,{"$f":"N18","v":2122},{"$f":"COUNTIF(L7:L37,T18)","v":0},{"$f":"U18/(W4-U20)","v":0},{"$f":"IF(V18=0,0,(V18*((LOG(V18))/LOG(2))))","v":0},null,{"$f":"N18","v":2122},{"$f":"COUNTIF(L38:L68,Y18)","v":0},{"$f":"Z18/(AB4-Z20)","v":0},{"$f":"IF(AA18=0,0,(AA18*((LOG(AA18))/LOG(2))))","v":0},null,{"$f":"N18","v":2122},{"$f":"COUNTIF(L69:L98,AD18)","v":0},{"$f":"AE18/(AG4-AE20)","v":0},{"$f":"IF(AF18=0,0,(AF18*((LOG(AF18))/LOG(2))))","v":0},null,{"$f":"N18","v":2122},{"$f":"COUNTIF(L99:L129,AI18)","v":0},{"$f":"AJ18/(AL4-AJ20)","v":0},{"$f":"IF(AK18=0,0,(AK18*((LOG(AK18))/LOG(2))))","v":0},null,{"$f":"N18","v":2122},{"$f":"COUNTIF(L130:L160,AN18)","v":0},{"$f":"AO18/(AQ4-AO20)","v":0},{"$f":"IF(AP18=0,0,(AP18*((LOG(AP18))/LOG(2))))","v":0},null,{"$f":"N18","v":2122},{"$f":"COUNTIF(L161:L191,AS18)","v":0},{"$f":"AT18/(AV4-AT20)","v":0},{"$f":"IF(AU18=0,0,(AU18*((LOG(AU18))/LOG(2))))","v":0}]
[21,1768,21,1777,22,1781,23,1786,null,null,0,2222,null,2211,{"$f":"COUNTIF($L$7:$L$500,N19)","v":1},{"$f":"O19/$Q$4","v":5.4054054054054057E-3},{"$f":"IF(P19=0,0,(P19*((LOG(P19))/LOG(2))))","v":-4.0710170056844928E-2},null,null,{"$f":"N19","v":2211},{"$f":"COUNTIF(L7:L37,T19)","v":0},{"$f":"U19/(W4-U20)","v":0},{"$f":"IF(V19=0,0,(V19*((LOG(V19))/LOG(2))))","v":0},null,{"$f":"N19","v":2211},{"$f":"COUNTIF(L38:L68,Y19)","v":1},{"$f":"Z19/(AB4-Z20)","v":3.2258064516129031E-2},{"$f":"IF(AA19=0,0,(AA19*((LOG(AA19))/LOG(2))))","v":-0.15981278420602821},null,{"$f":"N19","v":2211},{"$f":"COUNTIF(L69:L98,AD19)","v":0},{"$f":"AE19/(AG4-AE20)","v":0},{"$f":"IF(AF19=0,0,(AF19*((LOG(AF19))/LOG(2))))","v":0},null,{"$f":"N19","v":2211},{"$f":"COUNTIF(L99:L129,AI19)","v":0},{"$f":"AJ19/(AL4-AJ20)","v":0},{"$f":"IF(AK19=0,0,(AK19*((LOG(AK19))/LOG(2))))","v":0},null,{"$f":"N19","v":2211},{"$f":"COUNTIF(L130:L160,AN19)","v":0},{"$f":"AO19/(AQ4-AO20)","v":0},{"$f":"IF(AP19=0,0,(AP19*((LOG(AP19))/LOG(2))))","v":0},null,{"$f":"N19","v":2211},{"$f":"COUNTIF(L161:L191,AS19)","v":0},{"$f":"AT19/(AV4-AT20)","v":0},{"$f":"IF(AU19=0,0,(AU19*((LOG(AU19))/LOG(2))))","v":0}]
[12,1903,14,1907,13,1912,14,1919,null,null,0,1111,null,2212,{"$f":"COUNTIF($L$7:$L$500,N20)","v":0},{"$f":"O20/$Q$4","v":0},{"$f":"IF(P20=0,0,(P20*((LOG(P20))/LOG(2))))","v":0},null,null,{"$f":"N20","v":2212},{"$f":"COUNTIF(L7:L37,T20)","v":0},null,null,null,{"$f":"N20","v":2212},{"$f":"COUNTIF(L38:L68,Y20)","v":0},null,null,null,{"$f":"N20","v":2212},{"$f":"COUNTIF(L69:L98,AD20)","v":0},null,null,null,{"$f":"N20","v":2212},{"$f":"COUNTIF(L99:L129,AI20)","v":0},null,null,null,{"$f":"N20","v":2212},{"$f":"COUNTIF(L130:L160,AN20)","v":0},null,null,null,{"$f":"N20","v":2212},{"$f":"COUNTIF(L161:L191,AS20)","v":0}]
[21,2048,21,2055,22,2061,23,2068,null,null,0,2222,null,2221,{"$f":"COUNTIF($L$7:$L$500,N21)","v":0},{"$f":"O21/$Q$4","v":0},{"$f":"IF(P21=0,0,(P21*((LOG(P21))/LOG(2))))","v":0},null,null,{"$f":"N21","v":2221},{"$f":"COUNTIF(L7:L37,T21)","v":0},{"$f":"U21/(W4-U20)","v":0},{"$f":"IF(V21=0,0,(V21*((LOG(V21))/LOG(2))))","v":0},null,{"$f":"N21","v":2221},{"$f":"COUNTIF(L38:L68,Y21)","v":0},{"$f":"Z21/(AB4-Z20)","v":0},{"$f":"IF(AA21=0,0,(AA21*((LOG(AA21))/LOG(2))))","v":0},null,{"$f":"N21","v":2221},{"$f":"COUNTIF(L69:L98,AD21)","v":0},{"$f":"AE21/(AG4-AE20)","v":0},{"$f":"IF(AF21=0,0,(AF21*((LOG(AF21))/LOG(2))))","v":0},null,{"$f":"N21","v":2221},{"$f":"COUNTIF(L99:L129,AI21)","v":0},{"$f":"AJ21/(AL4-AJ20)","v":0},{"$f":"IF(AK21=0,0,(AK21*((LOG(AK21))/LOG(2))))","v":0},null,{"$f":"N21","v":2221},{"$f":"COUNTIF(L130:L160,AN21)","v":0},{"$f":"AO21/(AQ4-AO20)","v":0},{"$f":"IF(AP21=0,0,(AP21*((LOG(AP21))/LOG(2))))","v":0},null,{"$f":"N21","v":2221},{"$f":"COUNTIF(L161:L191,AS21)","v":0},{"$f":"AT21/(AV4-AT20)","v":0},{"$f":"IF(AU21=0,0,(AU21*((LOG(AU21))/LOG(2))))","v":0}]
[21,2203,21,2211,22,2219,23,2228,null,null,0,2222,null,2222,{"$f":"COUNTIF($L$7:$L$500,N22)","v":50},{"$f":"O22/$Q$4","v":0.27027027027027029},{"$f":"IF(P22=0,0,(P22*((LOG(P22))/LOG(2))))","v":-0.51014196506529386},null,null,{"$f":"N22","v":2222},{"$f":"COUNTIF(L7:L37,T22)","v":9},{"$f":"U22/(W4-U20)","v":0.29032258064516131},{"$f":"IF(V22=0,0,(V22*((LOG(V22))/LOG(2))))","v":-0.5180142509839053},null,{"$f":"N22","v":2222},{"$f":"COUNTIF(L38:L68,Y22)","v":8},{"$f":"Z22/(AB4-Z20)","v":0.25806451612903225},{"$f":"IF(AA22=0,0,(AA22*((LOG(AA22))/LOG(2))))","v":-0.50430872526112902},null,{"$f":"N22","v":2222},{"$f":"COUNTIF(L69:L98,AD22)","v":10},{"$f":"AE22/(AG4-AE20)","v":0.33333333333333331},{"$f":"IF(AF22=0,0,(AF22*((LOG(AF22))/LOG(2))))","v":-0.52832083357371862},null,{"$f":"N22","v":2222},{"$f":"COUNTIF(L99:L129,AI22)","v":8},{"$f":"AJ22/(AL4-AJ20)","v":0.25806451612903225},{"$f":"IF(AK22=0,0,(AK22*((LOG(AK22))/LOG(2))))","v":-0.50430872526112902},null,{"$f":"N22","v":2222},{"$f":"COUNTIF(L130:L160,AN22)","v":10},{"$f":"AO22/(AQ4-AO20)","v":0.32258064516129031},{"$f":"IF(AP22=0,0,(AP22*((LOG(AP22))/LOG(2))))","v":-0.52653813403210092},null,{"$f":"N22","v":2222},{"$f":"COUNTIF(L161:L191,AS22)","v":5},{"$f":"AT22/(AV4-AT20)","v":0.16129032258064516},{"$f":"IF(AU22=0,0,(AU22*((LOG(AU22))/LOG(2))))","v":-0.42455938959669559}]
[21,2370,21,2375,22,2379,23,2387,null,null,0,2222,null,null,null,{"$f":"SUM(P7:P22)","v":1},{"$f":"-SUM(Q7:Q22)","v":1.7570023022157177},null,null,null,null,{"$f":"SUM(V7:V22)","v":1},{"$f":"-SUM(W7:W22)","v":1.9143718822451232},null,null,null,{"$f":"SUM(AA7:AA22)","v":0.99999999999999989},{"$f":"-SUM(AB7:AB22)","v":1.3916620556208348},null,null,null,{"$f":"SUM(AF7:AF22)","v":1},{"$f":"-SUM(AG7:AG22)","v":1.10922713879846},null,null,null,{"$f":"SUM(AK7:AK22)","v":0.99999999999999989},{"$f":"-SUM(AL7:AL22)","v":1.7409821015340747},null,null,null,{"$f":"SUM(AP7:AP22)","v":1},{"$f":"-SUM(AQ7:AQ22)","v":1.4877112538612991},null,null,null,{"$f":"SUM(AU7:AU22)","v":1},{"$f":"-SUM(AV7:AV22)","v":1.8760292780461683}]
[21,2524,12,2535,13,2539,14,2543,null,null,0,2111,null,null,null,"U=",{"$f":"Q23/(LOG(Q4)/LOG(2))","v":0.233290839327008},null,null,null,null,"U1=",{"$f":"W23/(LOG(W4)/LOG(2))","v":0.38641421580963337},null,null,null,"U2=",{"$f":"AB23/(LOG(AB4)/LOG(2))","v":0.28090571475803294},null,null,null,"U3=",{"$f":"AG23/(LOG(AG4)/LOG(2))","v":0.22605499698549961},null,null,null,"U4=",{"$f":"AL23/(LOG(AL4)/LOG(2))","v":0.35141564695043764},null,null,null,"U5=",{"$f":"AQ23/(LOG(AQ4)/LOG(2))","v":0.30029315768981368},null,null,null,"U6=",{"$f":"AV23/(LOG(AV4)/LOG(2))","v":0.3786747961748953}]
[12,2651,14,2665,13,2669,14,2673,null,null,0,1111]
[21,2782,21,2786,22,2793,23,2800,null,null,0,2222]
[21,2965,21,2967,22,2986,23,2990,null,null,0,2222,null,"Total Target Seq"]
[12,3126,14,3130,13,3134,14,3142,null,null,0,1111,null,{"$f":"COUNTIF(L7:L191,G3)","v":0},null,31,31,30,31,31,31]
[12,3242,23,3256,24,3261,23,3265,null,null,0,1222,null,null,null,"% of reinforcement given in 6 equal intervals based on number of trials "]
[12,3384,14,3388,13,3392,14,3396,null,null,0,1111,null,null,null,"%_1","%_2","%_3","%_4","%_5","%_6"]
[21,3500,12,3512,13,3517,14,3521,null,null,0,2111,null,null,"target sequence",{"$f":"$G$3","v":2212},{"$f":"$G$3","v":2212},{"$f":"$G$3","v":2212},{"$f":"$G$3","v":2212},{"$f":"$G$3","v":2212},{"$f":"$G$3","v":2212}]
[12,3636,14,3640,13,3644,14,3651,null,null,0,1111,null,null,"total reinforcement",{"$f":"U20","v":0},{"$f":"Z20","v":0},{"$f":"AE20","v":0},{"$f":"AJ20","v":0},{"$f":"AO20","v":0},{"$f":"AT20","v":0}]
[12,3786,14,3790,13,3794,14,3799,null,null,0,1111,null,null,"% target"]
[12,3928,14,3932,13,3936,14,3941,null,null,0,1111,null,null,"CCRF"]
[12,4074,14,4078,13,4082,14,4090,null,null,0,1111,null,null,"% CCRf"]
[12,4203,14,4207,13,4211,14,4216,null,null,0,1111,null,null,"average response rate",{"$f":"H37/P28","v":140.16129032258064},{"$f":"(H68-H37)/Q28","v":124.51612903225806},{"$f":"(H98-H68)/R28","v":125.4},{"$f":"(H129-H98)/S28","v":126.80645161290323},{"$f":"(H160-H129)/T28","v":125.16129032258064},{"$f":"(H191-H160)/U28","v":133}]
[21,4326,12,4337,13,4341,14,4345,null,null,0,2111]
[12,4444,14,4448,13,4453,14,4457,null,null,0,1111]
[12,4564,14,4572,13,4576,14,4580,null,null,0,1111]
[12,4690,14,4694,13,4698,14,4702,null,null,0,1111]
[21,4803,21,4808,22,4814,23,4822,null,null,0,2222]
[21,4940,21,4944,22,4948,23,4956,null,null,0,2222]
[12,5062,14,5066,13,5070,14,5075,null,null,0,1111]
[12,5175,14,5181,13,5185,14,5192,null,null,0,1111]
[21,5286,21,5291,22,5295,23,5299,null,null,0,2222]
[12,5396,14,5400,13,5407,14,5426,null,null,0,1111]
[12,5526,14,5534,13,5538,14,5545,null,null,0,1111]
[12,5652,14,5656,13,5661,14,5665,null,null,0,1111]
[12,5762,14,5766,13,5771,14,5775,null,null,0,1111]
[12,5888,14,5892,13,5896,14,5911,null,null,0,1111]
[12,6012,14,6018,13,6024,14,6029,null,null,0,1111]
[12,6126,14,6130,13,6135,14,6138,null,null,0,1111]
[12,6248,14,6254,13,6259,14,6263,null,null,0,1111]
[12,6365,14,6369,13,6373,14,6377,null,null,0,1111]
[21,6479,21,6487,22,6492,23,6500,null,null,0,2222]
[21,6598,21,6606,11,6618,12,6623,null,null,0,2211]
[12,6738,14,6742,13,6758,14,6765,null,null,0,1111]
[21,6882,21,6888,22,6897,23,6902,null,null,0,2222]
[12,7025,14,7032,13,7039,23,7051,null,null,0,1112]
[21,7173,21,7177,22,7184,23,7192,null,null,0,2222]
[12,7297,14,7300,13,7304,14,7309,null,null,0,1111]
[12,7415,14,7422,13,7427,14,7433,null,null,0,1111]
[21,7541,21,7545,22,7549,23,7557,null,null,0,2222]
[12,7672,14,7676,13,7680,14,7690,null,null,0,1111]
[21,7802,12,7813,13,7820,14,7825,null,null,0,2111]
[21,7937,21,7941,22,7949,23,7957,null,null,0,2222]
[12,8065,14,8069,13,8073,14,8077,null,null,0,1111]
[12,8193,14,8197,13,8201,14,8205,null,null,0,1111]
[12,8306,14,8314,13,8318,14,8322,null,null,0,1111]
[12,8426,14,8430,13,8434,14,8439,null,null,0,1111]
[21,8554,21,8558,22,8562,23,8566,null,null,0,2222]
[21,8670,21,8675,22,8683,23,8691,null,null,0,2222]
[12,8799,14,8803,13,8808,14,8818,null,null,0,1111]
[12,8922,14,8927,13,8931,14,8935,null,null,0,1111]
[12,9038,14,9042,13,9046,14,9050,null,null,0,1111]
[21,9158,21,9163,22,9167,23,9171,null,null,0,2222]
[21,9274,21,9279,22,9286,23,9293,null,null,0,2222]
[21,9403,21,9411,22,9420,23,9422,null,null,0,2222]
[12,9531,14,9549,13,9553,14,9557,null,null,0,1111]
[12,9660,14,9666,13,9670,14,9675,null,null,0,1111]
[12,9783,14,9787,13,9792,14,9806,null,null,0,1111]
[21,9912,12,9922,13,9926,14,9930,null,null,0,2111]
[21,10041,21,10048,22,10053,23,10060,null,null,0,2222]
[21,10166,21,10177,22,10184,23,10193,null,null,0,2222]
[21,10320,21,10328,22,10336,23,10346,null,null,0,2222]
[12,10466,14,10470,13,10479,14,10491,null,null,0,1111]
[12,10605,14,10609,13,10613,14,10623,null,null,0,1111]
[12,10731,14,10736,13,10740,14,10746,null,null,0,1111]
[12,10855,14,10859,13,10866,14,10873,null,null,0,1111]
[12,10971,14,10979,13,10983,14,10988,null,null,0,1111]
[12,11093,14,11098,13,11102,14,11109,null,null,0,1111]
[12,11211,14,11216,13,11219,14,11224,null,null,0,1111]
[21,11347,21,11351,22,11355,23,11359,null,null,0,2222]
[12,11461,14,11466,13,11470,14,11474,null,null,0,1111]
[12,11574,14,11579,13,11583,14,11589,null,null,0,1111]
[12,11697,14,11701,13,11705,14,11710,null,null,0,1111]
[12,11818,14,11821,13,11829,14,11842,null,null,0,1111]
[21,11948,21,11953,22,11960,23,11967,null,null,0,2222]
[12,12083,14,12088,13,12092,14,12097,null,null,0,1111]
[12,12211,14,12215,13,12219,14,12224,null,null,0,1111]
[21,12340,21,12347,22,12355,23,12363,null,null,0,2222]
[21,12484,12,12501,13,12505,14,12513,null,null,0,2111]
[12,12623,14,12627,13,12631,14,12635,null,null,0,1111]
[12,12734,14,12739,13,12742,14,12750,null,null,0,1111]
[21,12860,21,12865,22,12869,23,12876,null,null,0,2222]
[21,12981,21,12985,22,12989,23,12996,null,null,0,2222]
[12,13103,14,13112,13,13116,14,13120,null,null,0,1111]
[12,13223,23,13241,24,13248,23,13256,null,null,0,1222]
[21,13365,12,13380,13,13384,14,13392,null,null,0,2111]
[12,13504,14,13511,13,13515,14,13519,null,null,0,1111]
[12,13619,14,13625,13,13629,14,13634,null,null,0,1111]
[12,13730,14,13737,13,13741,14,13751,null,null,0,1111]
[21,13862,21,13870,22,13878,23,13886,null,null,0,2222]
[21,13988,12,14004,13,14008,14,14013,null,null,0,2111]
[12,14114,14,14119,13,14123,14,14127,null,null,0,1111]
[12,14243,14,14247,13,14251,14,14255,null,null,0,1111]
[12,14349,14,14354,13,14359,23,14370,null,null,0,1112]
[12,14470,14,14474,13,14478,14,14489,null,null,0,1111]
[21,14597,12,14611,13,14616,14,14627,null,null,0,2111]
[21,14728,21,14732,22,14736,23,14743,null,null,0,2222]
[21,14862,21,14867,22,14875,23,14882,null,null,0,2222]
[21,15012,21,15016,22,15023,23,15031,null,null,0,2222]
[12,15136,14,15140,13,15144,14,15148,null,null,0,1111]
[12,15257,14,15261,13,15265,14,15279,null,null,0,1111]
[21,15380,21,15385,22,15389,23,15393,null,null,0,2222]
[12,15508,14,15512,13,15517,14,15523,null,null,0,1111]
[12,15628,14,15633,13,15637,14,15642,null,null,0,1111]
[21,15748,12,15763,13,15767,14,15780,null,null,0,2111]
[12,15885,14,15889,13,15894,14,15898,null,null,0,1111]
[12,16003,14,16015,13,16020,14,16025,null,null,0,1111]
[12,16136,14,16141,13,16145,14,16150,null,null,0,1111]
[12,16254,14,16262,13,16266,14,16271,null,null,0,1111]
[12,16371,14,16380,13,16384,14,16388,null,null,0,1111]
[12,16490,14,16495,13,16500,14,16504,null,null,0,1111]
[21,16614,12,16622,13,16626,14,16638,null,null,0,2111]
[21,16748,21,16755,22,16763,23,16771,null,null,0,2222]
[12,16878,14,16887,13,16895,14,16899,null,null,0,1111]
[21,17009,12,17023,13,17027,14,17035,null,null,0,2111]
[12,17138,14,17146,13,17153,14,17160,null,null,0,1111]
[12,17279,14,17283,13,17296,14,17304,null,null,0,1111]
[12,17402,14,17407,13,17411,14,17416,null,null,0,1111]
[12,17518,14,17523,13,17530,14,17535,null,null,0,1111]
[21,17644,21,17648,22,17652,23,17665,null,null,0,2222]
[12,17766,23,17778,24,17780,23,17788,null,null,0,1222]
[12,17898,14,17905,13,17909,14,17927,null,null,0,1111]
[21,18035,21,18043,22,18052,23,18060,null,null,0,2222]
[12,18159,14,18166,13,18171,14,18179,null,null,0,1111]
[12,18285,14,18293,13,18298,14,18304,null,null,0,1111]
[12,18402,14,18410,13,18414,14,18418,null,null,0,1111]
[12,18520,14,18525,13,18530,14,18535,null,null,0,1111]
[21,18632,12,18643,13,18650,14,18654,null,null,0,2111]
[21,18760,21,18769,22,18773,23,18780,null,null,0,2222]
[21,18884,21,18888,22,18893,23,18901,null,null,0,2222]
[21,19014,21,19021,22,19029,23,19036,null,null,0,2222]
[21,19142,21,19149,22,19156,23,19164,null,null,0,2222]
[21,19265,21,19272,22,19279,23,19284,null,null,0,2222]
[12,19388,14,19392,13,19397,14,19404,null,null,0,1111]
[21,19516,21,19523,22,19530,23,19538,null,null,0,2222]
[12,19636,14,19640,13,19644,14,19648,null,null,0,1111]
[21,19758,21,19767,22,19771,23,19778,null,null,0,2222]
[12,19888,14,19895,13,19902,14,19913,null,null,0,1111]
[12,20034,14,20038,13,20042,14,20056,null,null,0,1111]
[12,20168,14,20177,13,20181,14,20185,null,null,0,1111]
[12,20292,14,20297,13,20304,14,20308,null,null,0,1111]
[12,20411,23,20429,24,20437,23,20445,null,null,0,1222]
[12,20555,14,20559,13,20563,14,20568,null,null,0,1111]
[12,20668,14,20672,13,20676,14,20680,null,null,0,1111]
[21,20793,21,20800,22,20807,23,20813,null,null,0,2222]
[12,20918,23,20926,24,20930,23,20937,null,null,0,1222]
[12,21051,14,21055,13,21060,14,21064,null,null,0,1111]
[12,21166,14,21170,13,21173,14,21178,null,null,0,1111]
[12,21280,14,21284,13,21288,14,21292,null,null,0,1111]
[12,21391,14,21396,13,21400,14,21404,null,null,0,1111]
[21,21513,12,21536,13,21540,14,21545,null,null,0,2111]
[12,21654,14,21659,13,21663,14,21668,null,null,0,1111]
[12,21767,14,21774,13,21778,14,21786,null,null,0,1111]
[12,21890,23,21906,24,21910,23,21917,null,null,0,1222]
[12,22028,14,22032,13,22037,14,22041,null,null,0,1111]
[12,22160,14,22165,13,22169,14,22173,null,null,0,1111]
[21,22280,21,22289,22,22293,23,22307,null,null,0,2222]
[12,22420,14,22423,13,22428,14,22432,null,null,0,1111]
[12,22546,14,22558,13,22562,14,22576,null,null,0,1111]
[12,22675,14,22680,13,22684,23,22694,null,null,0,1112]
[21,22802,21,22806,22,22814,23,22821,null,null,0,2222]
[12,22926,14,22930,24,22942,23,22949,null,null,0,1122]
[12,23050,14,23054,13,23059,23,23071,null,null,0,1112]
[12,23174,14,23184,13,23192,14,23199,null,null,0,1111]
[12,23305,14,23309,13,23313,14,23318,null,null,0,1111]
[21,23472,21,23481,22,23486,23,23503,null,null,0,2222]
[21,23624,21,23629,22,23633,23,23638,null,null,0,2222]
[12,23862,14,23874,24,23893,23,23901,null,null,0,1122]

{"sheet":"!L822A20.053","index":28,"n_rows":193,"n_cols":48,"rows_kept":193,"cut":false,"hidden":false,"merged":[[4,39,4,42],[5,39,5,40],[4,44,4,47],[5,44,5,45],[4,24,4,27],[5,24,5,25],[4,29,4,32],[5,29,5,30],[4,34,4,37],[5,34,5,35],[1,1,1,2],[5,13,5,14],[26,13,26,14],[27,13,27,14],[4,19,4,22],[5,19,5,20]]}
["Report for:!L822A20.053"]
["Date:","<date>"]
["Hen:","<hen>",null,null,null,"Correct Sequence",{"$f":"Start!J2","v":2212},null,null,null,null,null,null,null,null,"Total Sequences in Data",{"$f":"4994-COUNTBLANK(L7:L5000)","v":187},null,null,null,null,"Total Sequences in Block Data",{"$f":"COUNTA(L7:L37)","v":31},null,null,null,"Total Sequences in Block Data",{"$f":"COUNTA(L38:L68)","v":31},null,null,null,"Total Sequences in Block Data",{"$f":"COUNTA(L69:L100)","v":32},null,null,null,"Total Sequences in Block Data",{"$f":"COUNTA(L101:L131)","v":31},null,null,null,"Total Sequences in Block Data",{"$f":"COUNTA(L132:L162)","v":31},null,null,null,"Total Sequences in Block Data",{"$f":"COUNTA(L163:L193)","v":31}]
[null,null,null,null,null,null,null,null,null,null,null,null,null,null,null,"Total Sequences in Summary",{"$f":"SUM(O7:O22)","v":187},null,null,null,null,"Total Sequences in Block Summary",{"$f":"SUM(U7:U22)","v":31},null,null,null,"Total Sequences in Block Summary",{"$f":"SUM(Z7:Z22)","v":31},null,null,null,"Total Sequences in Block Summary",{"$f":"SUM(AE7:AE22)","v":32},null,null,null,"Total Sequences in Block Summary",{"$f":"SUM(AJ7:AJ22)","v":31},null,null,null,"Total Sequences in Block Summary",{"$f":"SUM(AO7:AO22)","v":31},null,null,null,"Total Sequences in Block Summary",{"$f":"SUM(AT7:AT22)","v":31}]
[null,null,null,null,null,null,null,null,null,null,null,null,null,null,null,null,null,null,null,"Block 1",null,null,null,null,"Block 2",null,null,null,null,"Block 3",null,null,null,null,"Block 4",null,null,null,null,"Block 5",null,null,null,null,"Block 6"]
["Sequence\nComponent\n1","Time\n1","Sequence\nComponent\n2","Time\n2","Sequence\nComponent\n3","Time\n3","Sequence\nComponent\n4","Time\n4","Sequence\nComponent\n5","Time\n5","Correct?\n0=No 1=Yes","Sequence",null,"Frequency",null,"Relative Frequency","Variability",null,null,"Frequency",null,"Relative Frequency","Variability",null,"Frequency",null,"Relative Frequency","Variability",null,"Frequency",null,"Relative Frequency","Variability",null,"Frequency",null,"Relative Frequency","Variability",null,"Frequency",null,"Relative Frequency","Variability",null,"Frequency",null,"Relative Frequency","Variability"]
[21,59,21,64,22,68,23,75,null,null,0,2222,null,1111,{"$f":"COUNTIF($L$7:$L$500,N7)","v":128},{"$f":"O7/$Q$4","v":0.68449197860962563},{"$f":"IF(P7=0,0,(P7*((LOG(P7))/LOG(2))))","v":-0.37434487093913099},null,null,{"$f":"N7","v":1111},{"$f":"COUNTIF(L7:L37,T7)","v":16},{"$f":"U7/(W4-U20)","v":0.5161290322580645},{"$f":"IF(V7=0,0,(V7*((LOG(V7))/LOG(2))))","v":-0.49248841826419365},null,{"$f":"N7","v":1111},{"$f":"COUNTIF(L38:L68,Y7)","v":17},{"$f":"Z7/(AB4-Z20)","v":0.54838709677419351},{"$f":"IF(AA7=0,0,(AA7*((LOG(AA7))/LOG(2))))","v":-0.47530545081681003},null,{"$f":"N7","v":1111},{"$f":"COUNTIF(L69:L100,AD7)","v":19},{"$f":"AE7/(AG4-AE20)","v":0.59375},{"$f":"IF(AF7=0,0,(AF7*((LOG(AF7))/LOG(2))))","v":-0.44654303889287106},null,{"$f":"N7","v":1111},{"$f":"COUNTIF(L101:L131,AI7)","v":23},{"$f":"AJ7/(AL4-AJ20)","v":0.74193548387096775},{"$f":"IF(AK7=0,0,(AK7*((LOG(AK7))/LOG(2))))","v":-0.31950290805118814},null,{"$f":"N7","v":1111},{"$f":"COUNTIF(L132:L162,AN7)","v":27},{"$f":"AO7/(AQ4-AO20)","v":0.87096774193548387},{"$f":"IF(AP7=0,0,(AP7*((LOG(AP7))/LOG(2))))","v":-0.17359154264619289},null,{"$f":"N7","v":1111},{"$f":"COUNTIF(L163:L193,AS7)","v":26},{"$f":"AT7/(AV4-AT20)","v":0.83870967741935487},{"$f":"IF(AU7=0,0,(AU7*((LOG(AU7))/LOG(2))))","v":-0.21282810962549539}]
[12,175,14,179,13,184,14,189,null,null,0,1111,null,1112,{"$f":"COUNTIF($L$7:$L$500,N8)","v":0},{"$f":"O8/$Q$4","v":0},{"$f":"IF(P8=0,0,(P8*((LOG(P8))/LOG(2))))","v":0},null,null,{"$f":"N8","v":1112},{"$f":"COUNTIF(L7:L37,T8)","v":0},{"$f":"U8/(W4-U20)","v":0},{"$f":"IF(V8=0,0,(V8*((LOG(V8))/LOG(2))))","v":0},null,{"$f":"N8","v":1112},{"$f":"COUNTIF(L38:L68,Y8)","v":0},{"$f":"Z8/(AB4-Z20)","v":0},{"$f":"IF(AA8=0,0,(AA8*((LOG(AA8))/LOG(2))))","v":0},null,{"$f":"N8","v":1112},{"$f":"COUNTIF(L69:L100,AD8)","v":0},{"$f":"AE8/(AG4-AE20)","v":0},{"$f":"IF(AF8=0,0,(AF8*((LOG(AF8))/LOG(2))))","v":0},null,{"$f":"N8","v":1112},{"$f":"COUNTIF(L101:L131,AI8)","v":0},{"$f":"AJ8/(AL4-AJ20)","v":0},{"$f":"IF(AK8=0,0,(AK8*((LOG(AK8))/LOG(2))))","v":0},null,{"$f":"N8","v":1112},{"$f":"COUNTIF(L132:L162,AN8)","v":0},{"$f":"AO8/(AQ4-AO20)","v":0},{"$f":"IF(AP8=0,0,(AP8*((LOG(AP8))/LOG(2))))","v":0},null,{"$f":"N8","v":1112},{"$f":"COUNTIF(L163:L193,AS8)","v":0},{"$f":"AT8/(AV4-AT20)","v":0},{"$f":"IF(AU8=0,0,(AU8*((LOG(AU8))/LOG(2))))","v":0}]
[21,300,21,305,22,309,23,314,null,null,0,2222,null,1121,{"$f":"COUNTIF($L$7:$L$500,N9)","v":0},{"$f":"O9/$Q$4","v":0},{"$f":"IF(P9=0,0,(P9*((LOG(P9))/LOG(2))))","v":0},null,null,{"$f":"N9","v":1121},{"$f":"COUNTIF(L7:L37,T9)","v":0},{"$f":"U9/(W4-U20)","v":0},{"$f":"IF(V9=0,0,(V9*((LOG(V9))/LOG(2))))","v":0},null,{"$f":"N9","v":1121},{"$f":"COUNTIF(L38:L68,Y9)","v":0},{"$f":"Z9/(AB4-Z20)","v":0},{"$f":"IF(AA9=0,0,(AA9*((LOG(AA9))/LOG(2))))","v":0},null,{"$f":"N9","v":1121},{"$f":"COUNTIF(L69:L100,AD9)","v":0},{"$f":"AE9/(AG4-AE20)","v":0},{"$f":"IF(AF9=0,0,(AF9*((LOG(AF9))/LOG(2))))","v":0},null,{"$f":"N9","v":1121},{"$f":"COUNTIF(L101:L131,AI9)","v":0},{"$f":"AJ9/(AL4-AJ20)","v":0},{"$f":"IF(AK9=0,0,(AK9*((LOG(AK9))/LOG(2))))","v":0},null,{"$f":"N9","v":1121},{"$f":"COUNTIF(L132:L162,AN9)","v":0},{"$f":"AO9/(AQ4-AO20)","v":0},{"$f":"IF(AP9=0,0,(AP9*((LOG(AP9))/LOG(2))))","v":0},null,{"$f":"N9","v":1121},{"$f":"COUNTIF(L163:L193,AS9)","v":0},{"$f":"AT9/(AV4-AT20)","v":0},{"$f":"IF(AU9=0,0,(AU9*((LOG(AU9))/LOG(2))))","v":0}]
[21,424,21,430,22,435,23,440,null,null,0,2222,null,1122,{"$f":"COUNTIF($L$7:$L$500,N10)","v":1},{"$f":"O10/$Q$4","v":5.3475935828877002E-3},{"$f":"IF(P10=0,0,(P10*((LOG(P10))/LOG(2))))","v":-4.0357724384425864E-2},null,null,{"$f":"N10","v":1122},{"$f":"COUNTIF(L7:L37,T10)","v":0},{"$f":"U10/(W4-U20)","v":0},{"$f":"IF(V10=0,0,(V10*((LOG(V10))/LOG(2))))","v":0},null,{"$f":"N10","v":1122},{"$f":"COUNTIF(L38:L68,Y10)","v":0},{"$f":"Z10/(AB4-Z20)","v":0},{"$f":"IF(AA10=0,0,(AA10*((LOG(AA10))/LOG(2))))","v":0},null,{"$f":"N10","v":1122},{"$f":"COUNTIF(L69:L100,AD10)","v":0},{"$f":"AE10/(AG4-AE20)","v":0},{"$f":"IF(AF10=0,0,(AF10*((LOG(AF10))/LOG(2))))","v":0},null,{"$f":"N10","v":1122},{"$f":"COUNTIF(L101:L131,AI10)","v":0},{"$f":"AJ10/(AL4-AJ20)","v":0},{"$f":"IF(AK10=0,0,(AK10*((LOG(AK10))/LOG(2))))","v":0},null,{"$f":"N10","v":1122},{"$f":"COUNTIF(L132:L162,AN10)","v":0},{"$f":"AO10/(AQ4-AO20)","v":0},{"$f":"IF(AP10=0,0,(AP10*((LOG(AP10))/LOG(2))))","v":0},null,{"$f":"N10","v":1122},{"$f":"COUNTIF(L163:L193,AS10)","v":1},{"$f":"AT10/(AV4-AT20)","v":3.2258064516129031E-2},{"$f":"IF(AU10=0,0,(AU10*((LOG(AU10))/LOG(2))))","v":-0.15981278420602821}]
[21,549,21,556,22,561,23,567,null,null,0,2222,null,1211,{"$f":"COUNTIF($L$7:$L$500,N11)","v":1},{"$f":"O11/$Q$4","v":5.3475935828877002E-3},{"$f":"IF(P11=0,0,(P11*((LOG(P11))/LOG(2))))","v":-4.0357724384425864E-2},null,null,{"$f":"N11","v":1211},{"$f":"COUNTIF(L7:L37,T11)","v":0},{"$f":"U11/(W4-U20)","v":0},{"$f":"IF(V11=0,0,(V11*((LOG(V11))/LOG(2))))","v":0},null,{"$f":"N11","v":1211},{"$f":"COUNTIF(L38:L68,Y11)","v":1},{"$f":"Z11/(AB4-Z20)","v":3.2258064516129031E-2},{"$f":"IF(AA11=0,0,(AA11*((LOG(AA11))/LOG(2))))","v":-0.15981278420602821},null,{"$f":"N11","v":1211},{"$f":"COUNTIF(L69:L100,AD11)","v":0},{"$f":"AE11/(AG4-AE20)","v":0},{"$f":"IF(AF11=0,0,(AF11*((LOG(AF11))/LOG(2))))","v":0},null,{"$f":"N11","v":1211},{"$f":"COUNTIF(L101:L131,AI11)","v":0},{"$f":"AJ11/(AL4-AJ20)","v":0},{"$f":"IF(AK11=0,0,(AK11*((LOG(AK11))/LOG(2))))","v":0},null,{"$f":"N11","v":1211},{"$f":"COUNTIF(L132:L162,AN11)","v":0},{"$f":"AO11/(AQ4-AO20)","v":0},{"$f":"IF(AP11=0,0,(AP11*((LOG(AP11))/LOG(2))))","v":0},null,{"$f":"N11","v":1211},{"$f":"COUNTIF(L163:L193,AS11)","v":0},{"$f":"AT11/(AV4-AT20)","v":0},{"$f":"IF(AU11=0,0,(AU11*((LOG(AU11))/LOG(2))))","v":0}]
[21,681,21,685,22,689,23,695,null,null,0,2222,null,1212,{"$f":"COUNTIF($L$7:$L$500,N12)","v":0},{"$f":"O12/$Q$4","v":0},{"$f":"IF(P12=0,0,(P12*((LOG(P12))/LOG(2))))","v":0},null,null,{"$f":"N12","v":1212},{"$f":"COUNTIF(L7:L37,T12)","v":0},{"$f":"U12/(W4-U20)","v":0},{"$f":"IF(V12=0,0,(V12*((LOG(V12))/LOG(2))))","v":0},null,{"$f":"N12","v":1212},{"$f":"COUNTIF(L38:L68,Y12)","v":0},{"$f":"Z12/(AB4-Z20)","v":0},{"$f":"IF(AA12=0,0,(AA12*((LOG(AA12))/LOG(2))))","v":0},null,{"$f":"N12","v":1212},{"$f":"COUNTIF(L69:L100,AD12)","v":0},{"$f":"AE12/(AG4-AE20)","v":0},{"$f":"IF(AF12=0,0,(AF12*((LOG(AF12))/LOG(2))))","v":0},null,{"$f":"N12","v":1212},{"$f":"COUNTIF(L101:L131,AI12)","v":0},{"$f":"AJ12/(AL4-AJ20)","v":0},{"$f":"IF(AK12=0,0,(AK12*((LOG(AK12))/LOG(2))))","v":0},null,{"$f":"N12","v":1212},{"$f":"COUNTIF(L132:L162,AN12)","v":0},{"$f":"AO12/(AQ4-AO20)","v":0},{"$f":"IF(AP12=0,0,(AP12*((LOG(AP12))/LOG(2))))","v":0},null,{"$f":"N12","v":1212},{"$f":"COUNTIF(L163:L193,AS12)","v":0},{"$f":"AT12/(AV4-AT20)","v":0},{"$f":"IF(AU12=0,0,(AU12*((LOG(AU12))/LOG(2))))","v":0}]
[21,792,21,797,22,801,23,809,null,null,0,2222,null,1221,{"$f":"COUNTIF($L$7:$L$500,N13)","v":0},{"$f":"O13/$Q$4","v":0},{"$f":"IF(P13=0,0,(P13*((LOG(P13))/LOG(2))))","v":0},null,null,{"$f":"N13","v":1221},{"$f":"COUNTIF(L7:L37,T13)","v":0},{"$f":"U13/(W4-U20)","v":0},{"$f":"IF(V13=0,0,(V13*((LOG(V13))/LOG(2))))","v":0},null,{"$f":"N13","v":1221},{"$f":"COUNTIF(L38:L68,Y13)","v":0},{"$f":"Z13/(AB4-Z20)","v":0},{"$f":"IF(AA13=0,0,(AA13*((LOG(AA13))/LOG(2))))","v":0},null,{"$f":"N13","v":1221},{"$f":"COUNTIF(L69:L100,AD13)","v":0},{"$f":"AE13/(AG4-AE20)","v":0},{"$f":"IF(AF13=0,0,(AF13*((LOG(AF13))/LOG(2))))","v":0},null,{"$f":"N13","v":1221},{"$f":"COUNTIF(L101:L131,AI13)","v":0},{"$f":"AJ13/(AL4-AJ20)","v":0},{"$f":"IF(AK13=0,0,(AK13*((LOG(AK13))/LOG(2))))","v":0},null,{"$f":"N13","v":1221},{"$f":"COUNTIF(L132:L162,AN13)","v":0},{"$f":"AO13/(AQ4-AO20)","v":0},{"$f":"IF(AP13=0,0,(AP13*((LOG(AP13))/LOG(2))))","v":0},null,{"$f":"N13","v":1221},{"$f":"COUNTIF(L163:L193,AS13)","v":0},{"$f":"AT13/(AV4-AT20)","v":0},{"$f":"IF(AU13=0,0,(AU13*((LOG(AU13))/LOG(2))))","v":0}]
[12,940,14,945,13,950,14,955,null,null,0,1111,null,1222,{"$f":"COUNTIF($L$7:$L$500,N14)","v":5},{"$f":"O14/$Q$4","v":2.6737967914438502E-2},{"$f":"IF(P14=0,0,(P14*((LOG(P14))/LOG(2))))","v":-0.13970498302139772},null,null,{"$f":"N14","v":1222},{"$f":"COUNTIF(L7:L37,T14)","v":2},{"$f":"U14/(W4-U20)","v":6.4516129032258063E-2},{"$f":"IF(V14=0,0,(V14*((LOG(V14))/LOG(2))))","v":-0.25510943937979835},null,{"$f":"N14","v":1222},{"$f":"COUNTIF(L38:L68,Y14)","v":1},{"$f":"Z14/(AB4-Z20)","v":3.2258064516129031E-2},{"$f":"IF(AA14=0,0,(AA14*((LOG(AA14))/LOG(2))))","v":-0.15981278420602821},null,{"$f":"N14","v":1222},{"$f":"COUNTIF(L69:L100,AD14)","v":1},{"$f":"AE14/(AG4-AE20)","v":3.125E-2},{"$f":"IF(AF14=0,0,(AF14*((LOG(AF14))/LOG(2))))","v":-0.15625},null,{"$f":"N14","v":1222},{"$f":"COUNTIF(L101:L131,AI14)","v":0},{"$f":"AJ14/(AL4-AJ20)","v":0},{"$f":"IF(AK14=0,0,(AK14*((LOG(AK14))/LOG(2))))","v":0},null,{"$f":"N14","v":1222},{"$f":"COUNTIF(L132:L162,AN14)","v":0},{"$f":"AO14/(AQ4-AO20)","v":0},{"$f":"IF(AP14=0,0,(AP14*((LOG(AP14))/LOG(2))))","v":0},null,{"$f":"N14","v":1222},{"$f":"COUNTIF(L163:L193,AS14)","v":1},{"$f":"AT14/(AV4-AT20)","v":3.2258064516129031E-2},{"$f":"IF(AU14=0,0,(AU14*((LOG(AU14))/LOG(2))))","v":-0.15981278420602821}]
[12,1068,14,1072,13,1081,14,1087,null,null,0,1111,null,2111,{"$f":"COUNTIF($L$7:$L$500,N15)","v":13},{"$f":"O15/$Q$4","v":6.9518716577540107E-2},{"$f":"IF(P15=0,0,(P15*((LOG(P15))/LOG(2))))","v":-0.26740059701981328},null,null,{"$f":"N15","v":2111},{"$f":"COUNTIF(L7:L37,T15)","v":1},{"$f":"U15/(W4-U20)","v":3.2258064516129031E-2},{"$f":"IF(V15=0,0,(V15*((LOG(V15))/LOG(2))))","v":-0.15981278420602821},null,{"$f":"N15","v":2111},{"$f":"COUNTIF(L38:L68,Y15)","v":3},{"$f":"Z15/(AB4-Z20)","v":9.6774193548387094E-2},{"$f":"IF(AA15=0,0,(AA15*((LOG(AA15))/LOG(2))))","v":-0.32605488480635986},null,{"$f":"N15","v":2111},{"$f":"COUNTIF(L69:L100,AD15)","v":3},{"$f":"AE15/(AG4-AE20)","v":9.375E-2},{"$f":"IF(AF15=0,0,(AF15*((LOG(AF15))/LOG(2))))","v":-0.32015976555739156},null,{"$f":"N15","v":2111},{"$f":"COUNTIF(L101:L131,AI15)","v":3},{"$f":"AJ15/(AL4-AJ20)","v":9.6774193548387094E-2},{"$f":"IF(AK15=0,0,(AK15*((LOG(AK15))/LOG(2))))","v":-0.32605488480635986},null,{"$f":"N15","v":2111},{"$f":"COUNTIF(L132:L162,AN15)","v":1},{"$f":"AO15/(AQ4-AO20)","v":3.2258064516129031E-2},{"$f":"IF(AP15=0,0,(AP15*((LOG(AP15))/LOG(2))))","v":-0.15981278420602821},null,{"$f":"N15","v":2111},{"$f":"COUNTIF(L163:L193,AS15)","v":2},{"$f":"AT15/(AV4-AT20)","v":6.4516129032258063E-2},{"$f":"IF(AU15=0,0,(AU15*((LOG(AU15))/LOG(2))))","v":-0.25510943937979835}]
[21,1194,21,1199,22,1206,23,1214,null,null,0,2222,null,2112,{"$f":"COUNTIF($L$7:$L$500,N16)","v":0},{"$f":"O16/$Q$4","v":0},{"$f":"IF(P16=0,0,(P16*((LOG(P16))/LOG(2))))","v":0},null,null,{"$f":"N16","v":2112},{"$f":"COUNTIF(L7:L37,T16)","v":0},{"$f":"U16/(W4-U20)","v":0},{"$f":"IF(V16=0,0,(V16*((LOG(V16))/LOG(2))))","v":0},null,{"$f":"N16","v":2112},{"$f":"COUNTIF(L38:L68,Y16)","v":0},{"$f":"Z16/(AB4-Z20)","v":0},{"$f":"IF(AA16=0,0,(AA16*((LOG(AA16))/LOG(2))))","v":0},null,{"$f":"N16","v":2112},{"$f":"COUNTIF(L69:L100,AD16)","v":0},{"$f":"AE16/(AG4-AE20)","v":0},{"$f":"IF(AF16=0,0,(AF16*((LOG(AF16))/LOG(2))))","v":0},null,{"$f":"N16","v":2112},{"$f":"COUNTIF(L101:L131,AI16)","v":0},{"$f":"AJ16/(AL4-AJ20)","v":0},{"$f":"IF(AK16=0,0,(AK16*((LOG(AK16))/LOG(2))))","v":0},null,{"$f":"N16","v":2112},{"$f":"COUNTIF(L132:L162,AN16)","v":0},{"$f":"AO16/(AQ4-AO20)","v":0},{"$f":"IF(AP16=0,0,(AP16*((LOG(AP16))/LOG(2))))","v":0},null,{"$f":"N16","v":2112},{"$f":"COUNTIF(L163:L193,AS16)","v":0},{"$f":"AT16/(AV4-AT20)","v":0},{"$f":"IF(AU16=0,0,(AU16*((LOG(AU16))/LOG(2))))","v":0}]
[21,1322,21,1327,22,1331,23,1336,null,null,0,2222,null,2121,{"$f":"COUNTIF($L$7:$L$500,N17)","v":0},{"$f":"O17/$Q$4","v":0},{"$f":"IF(P17=0,0,(P17*((LOG(P17))/LOG(2))))","v":0},null,null,{"$f":"N17","v":2121},{"$f":"COUNTIF(L7:L37,T17)","v":0},{"$f":"U17/(W4-U20)","v":0},{"$f":"IF(V17=0,0,(V17*((LOG(V17))/LOG(2))))","v":0},null,{"$f":"N17","v":2121},{"$f":"COUNTIF(L38:L68,Y17)","v":0},{"$f":"Z17/(AB4-Z20)","v":0},{"$f":"IF(AA17=0,0,(AA17*((LOG(AA17))/LOG(2))))","v":0},null,{"$f":"N17","v":2121},{"$f":"COUNTIF(L69:L100,AD17)","v":0},{"$f":"AE17/(AG4-AE20)","v":0},{"$f":"IF(AF17=0,0,(AF17*((LOG(AF17))/LOG(2))))","v":0},null,{"$f":"N17","v":2121},{"$f":"COUNTIF(L101:L131,AI17)","v":0},{"$f":"AJ17/(AL4-AJ20)","v":0},{"$f":"IF(AK17=0,0,(AK17*((LOG(AK17))/LOG(2))))","v":0},null,{"$f":"N17","v":2121},{"$f":"COUNTIF(L132:L162,AN17)","v":0},{"$f":"AO17/(AQ4-AO20)","v":0},{"$f":"IF(AP17=0,0,(AP17*((LOG(AP17))/LOG(2))))","v":0},null,{"$f":"N17","v":2121},{"$f":"COUNTIF(L163:L193,AS17)","v":0},{"$f":"AT17/(AV4-AT20)","v":0},{"$f":"IF(AU17=0,0,(AU17*((LOG(AU17))/LOG(2))))","v":0}]
[21,1439,21,1443,22,1447,23,1451,null,null,0,2222,null,2122,{"$f":"COUNTIF($L$7:$L$500,N18)","v":0},{"$f":"O18/$Q$4","v":0},{"$f":"IF(P18=0,0,(P18*((LOG(P18))/LOG(2))))","v":0},null,null,{"$f":"N18","v":2122},{"$f":"COUNTIF(L7:L37,T18)","v":0},{"$f":"U18/(W4-U20)","v":0},{"$f":"IF(V18=0,0,(V18*((LOG(V18))/LOG(2))))","v":0},null,{"$f":"N18","v":2122},{"$f":"COUNTIF(L38:L68,Y18)","v":0},{"$f":"Z18/(AB4-Z20)","v":0},{"$f":"IF(AA18=0,0,(AA18*((LOG(AA18))/LOG(2))))","v":0},null,{"$f":"N18","v":2122},{"$f":"COUNTIF(L69:L100,AD18)","v":0},{"$f":"AE18/(AG4-AE20)","v":0},{"$f":"IF(AF18=0,0,(AF18*((LOG(AF18))/LOG(2))))","v":0},null,{"$f":"N18","v":2122},{"$f":"COUNTIF(L101:L131,AI18)","v":0},{"$f":"AJ18/(AL4-AJ20)","v":0},{"$f":"IF(AK18=0,0,(AK18*((LOG(AK18))/LOG(2))))","v":0},null,{"$f":"N18","v":2122},{"$f":"COUNTIF(L132:L162,AN18)","v":0},{"$f":"AO18/(AQ4-AO20)","v":0},{"$f":"IF(AP18=0,0,(AP18*((LOG(AP18))/LOG(2))))","v":0},null,{"$f":"N18","v":2122},{"$f":"COUNTIF(L163:L193,AS18)","v":0},{"$f":"AT18/(AV4-AT20)","v":0},{"$f":"IF(AU18=0,0,(AU18*((LOG(AU18))/LOG(2))))","v":0}]
[12,1551,23,1564,24,1568,23,1572,null,null,0,1222,null,2211,{"$f":"COUNTIF($L$7:$L$500,N19)","v":1},{"$f":"O19/$Q$4","v":5.3475935828877002E-3},{"$f":"IF(P19=0,0,(P19*((LOG(P19))/LOG(2))))","v":-4.0357724384425864E-2},null,null,{"$f":"N19","v":2211},{"$f":"COUNTIF(L7:L37,T19)","v":0},{"$f":"U19/(W4-U20)","v":0},{"$f":"IF(V19=0,0,(V19*((LOG(V19))/LOG(2))))","v":0},null,{"$f":"N19","v":2211},{"$f":"COUNTIF(L38:L68,Y19)","v":1},{"$f":"Z19/(AB4-Z20)","v":3.2258064516129031E-2},{"$f":"IF(AA19=0,0,(AA19*((LOG(AA19))/LOG(2))))","v":-0.15981278420602821},null,{"$f":"N19","v":2211},{"$f":"COUNTIF(L69:L100,AD19)","v":0},{"$f":"AE19/(AG4-AE20)","v":0},{"$f":"IF(AF19=0,0,(AF19*((LOG(AF19))/LOG(2))))","v":0},null,{"$f":"N19","v":2211},{"$f":"COUNTIF(L101:L131,AI19)","v":0},{"$f":"AJ19/(AL4-AJ20)","v":0},{"$f":"IF(AK19=0,0,(AK19*((LOG(AK19))/LOG(2))))","v":0},null,{"$f":"N19","v":2211},{"$f":"COUNTIF(L132:L162,AN19)","v":0},{"$f":"AO19/(AQ4-AO20)","v":0},{"$f":"IF(AP19=0,0,(AP19*((LOG(AP19))/LOG(2))))","v":0},null,{"$f":"N19","v":2211},{"$f":"COUNTIF(L163:L193,AS19)","v":0},{"$f":"AT19/(AV4-AT20)","v":0},{"$f":"IF(AU19=0,0,(AU19*((LOG(AU19))/LOG(2))))","v":0}]
[12,1673,14,1678,13,1683,14,1688,null,null,0,1111,null,2212,{"$f":"COUNTIF($L$7:$L$500,N20)","v":0},{"$f":"O20/$Q$4","v":0},{"$f":"IF(P20=0,0,(P20*((LOG(P20))/LOG(2))))","v":0},null,null,{"$f":"N20","v":2212},{"$f":"COUNTIF(L7:L37,T20)","v":0},null,null,null,{"$f":"N20","v":2212},{"$f":"COUNTIF(L38:L68,Y20)","v":0},null,null,null,{"$f":"N20","v":2212},{"$f":"COUNTIF(L69:L100,AD20)","v":0},null,null,null,{"$f":"N20","v":2212},{"$f":"COUNTIF(L101:L131,AI20)","v":0},null,null,null,{"$f":"N20","v":2212},{"$f":"COUNTIF(L132:L162,AN20)","v":0},null,null,null,{"$f":"N20","v":2212},{"$f":"COUNTIF(L163:L193,AS20)","v":0}]
[21,1799,21,1805,22,1809,23,1817,null,null,0,2222,null,2221,{"$f":"COUNTIF($L$7:$L$500,N21)","v":1},{"$f":"O21/$Q$4","v":5.3475935828877002E-3},{"$f":"IF(P21=0,0,(P21*((LOG(P21))/LOG(2))))","v":-4.0357724384425864E-2},null,null,{"$f":"N21","v":2221},{"$f":"COUNTIF(L7:L37,T21)","v":0},{"$f":"U21/(W4-U20)","v":0},{"$f":"IF(V21=0,0,(V21*((LOG(V21))/LOG(2))))","v":0},null,{"$f":"N21","v":2221},{"$f":"COUNTIF(L38:L68,Y21)","v":1},{"$f":"Z21/(AB4-Z20)","v":3.2258064516129031E-2},{"$f":"IF(AA21=0,0,(AA21*((LOG(AA21))/LOG(2))))","v":-0.15981278420602821},null,{"$f":"N21","v":2221},{"$f":"COUNTIF(L69:L100,AD21)","v":0},{"$f":"AE21/(AG4-AE20)","v":0},{"$f":"IF(AF21=0,0,(AF21*((LOG(AF21))/LOG(2))))","v":0},null,{"$f":"N21","v":2221},{"$f":"COUNTIF(L101:L131,AI21)","v":0},{"$f":"AJ21/(AL4-AJ20)","v":0},{"$f":"IF(AK21=0,0,(AK21*((LOG(AK21))/LOG(2))))","v":0},null,{"$f":"N21","v":2221},{"$f":"COUNTIF(L132:L162,AN21)","v":0},{"$f":"AO21/(AQ4-AO20)","v":0},{"$f":"IF(AP21=0,0,(AP21*((LOG(AP21))/LOG(2))))","v":0},null,{"$f":"N21","v":2221},{"$f":"COUNTIF(L163:L193,AS21)","v":0},{"$f":"AT21/(AV4-AT20)","v":0},{"$f":"IF(AU21=0,0,(AU21*((LOG(AU21))/LOG(2))))","v":0}]
[21,1919,21,1923,22,1927,23,1932,null,null,0,2222,null,2222,{"$f":"COUNTIF($L$7:$L$500,N22)","v":37},{"$f":"O22/$Q$4","v":0.19786096256684493},{"$f":"IF(P22=0,0,(P22*((LOG(P22))/LOG(2))))","v":-0.46248834485332307},null,null,{"$f":"N22","v":2222},{"$f":"COUNTIF(L7:L37,T22)","v":12},{"$f":"U22/(W4-U20)","v":0.38709677419354838},{"$f":"IF(V22=0,0,(V22*((LOG(V22))/LOG(2))))","v":-0.5300259908383429},null,{"$f":"N22","v":2222},{"$f":"COUNTIF(L38:L68,Y22)","v":7},{"$f":"Z22/(AB4-Z20)","v":0.22580645161290322},{"$f":"IF(AA22=0,0,(AA22*((LOG(AA22))/LOG(2))))","v":-0.48477063607435156},null,{"$f":"N22","v":2222},{"$f":"COUNTIF(L69:L100,AD22)","v":9},{"$f":"AE22/(AG4-AE20)","v":0.28125},{"$f":"IF(AF22=0,0,(AF22*((LOG(AF22))/LOG(2))))","v":-0.5147085933443496},null,{"$f":"N22","v":2222},{"$f":"COUNTIF(L101:L131,AI22)","v":5},{"$f":"AJ22/(AL4-AJ20)","v":0.16129032258064516},{"$f":"IF(AK22=0,0,(AK22*((LOG(AK22))/LOG(2))))","v":-0.42455938959669559},null,{"$f":"N22","v":2222},{"$f":"COUNTIF(L132:L162,AN22)","v":3},{"$f":"AO22/(AQ4-AO20)","v":9.6774193548387094E-2},{"$f":"IF(AP22=0,0,(AP22*((LOG(AP22))/LOG(2))))","v":-0.32605488480635986},null,{"$f":"N22","v":2222},{"$f":"COUNTIF(L163:L193,AS22)","v":1},{"$f":"AT22/(AV4-AT20)","v":3.2258064516129031E-2},{"$f":"IF(AU22=0,0,(AU22*((LOG(AU22))/LOG(2))))","v":-0.15981278420602821}]
[12,2034,14,2041,13,2046,14,2051,null,null,0,1111,null,null,null,{"$f":"SUM(P7:P22)","v":1},{"$f":"-SUM(Q7:Q22)","v":1.4053696933713684},null,null,null,null,{"$f":"SUM(V7:V22)","v":0.99999999999999989},{"$f":"-SUM(W7:W22)","v":1.437436632688363},null,null,null,{"$f":"SUM(AA7:AA22)","v":0.99999999999999989},{"$f":"-SUM(AB7:AB22)","v":1.9253821085216343},null,null,null,{"$f":"SUM(AF7:AF22)","v":1},{"$f":"-SUM(AG7:AG22)","v":1.4376613977946122},null,null,null,{"$f":"SUM(AK7:AK22)","v":1},{"$f":"-SUM(AL7:AL22)","v":1.0701171824542435},null,null,null,{"$f":"SUM(AP7:AP22)","v":1},{"$f":"-SUM(AQ7:AQ22)","v":0.6594592116585809},null,null,null,{"$f":"SUM(AU7:AU22)","v":1},{"$f":"-SUM(AV7:AV22)","v":0.94737590162337837}]
[12,2163,14,2167,13,2172,14,2180,null,null,0,1111,null,null,null,"U=",{"$f":"Q23/(LOG(Q4)/LOG(2))","v":0.1862182783714578},null,null,null,null,"U1=",{"$f":"W23/(LOG(W4)/LOG(2))","v":0.29014527132779544},null,null,null,"U2=",{"$f":"AB23/(LOG(AB4)/LOG(2))","v":0.38863661992660936},null,null,null,"U3=",{"$f":"AG23/(LOG(AG4)/LOG(2))","v":0.28753227955892247},null,null,null,"U4=",{"$f":"AL23/(LOG(AL4)/LOG(2))","v":0.21600217581419934},null,null,null,"U5=",{"$f":"AQ23/(LOG(AQ4)/LOG(2))","v":0.13311123951143622},null,null,null,"U6=",{"$f":"AV23/(LOG(AV4)/LOG(2))","v":0.19122696039257223}]
[12,2288,14,2292,13,2297,14,2309,null,null,0,1111]
[12,2426,14,2431,13,2435,14,2440,null,null,0,1111]
[21,2562,12,2574,13,2578,14,2583,null,null,0,2111,null,"Total Target Seq"]
[12,2699,14,2707,13,2711,14,2720,null,null,0,1111,null,{"$f":"COUNTIF(L7:L193,G3)","v":0},null,31,31,32,31,31,31]
[12,2841,14,2846,13,2850,14,2856,null,null,0,1111,null,null,null,"% of reinforcement given in 6 equal intervals based on number of trials "]
[12,2956,23,2969,24,2974,23,2978,null,null,0,1222,null,null,null,"%_1","%_2","%_3","%_4","%_5","%_6"]
[12,3095,14,3103,13,3107,14,3112,null,null,0,1111,null,null,"target sequence",{"$f":"$G$3","v":2212},{"$f":"$G$3","v":2212},{"$f":"$G$3","v":2212},{"$f":"$G$3","v":2212},{"$f":"$G$3","v":2212},{"$f":"$G$3","v":2212}]
[12,3219,14,3223,13,3227,14,3232,null,null,0,1111,null,null,"total reinforcement",{"$f":"U20","v":0},{"$f":"Z20","v":0},{"$f":"AE20","v":0},{"$f":"AJ20","v":0},{"$f":"AO20","v":0},{"$f":"AT20","v":0}]
[12,3339,14,3348,13,3353,14,3357,null,null,0,1111,null,null,"% target"]
[12,3469,14,3473,13,3478,14,3482,null,null,0,1111,null,null,"CCRF"]
[12,3599,14,3603,13,3612,14,3623,null,null,0,1111,null,null,"% CCRf"]
[21,3738,21,3742,22,3747,23,3755,null,null,0,2222,null,null,"average response rate",{"$f":"H37/P28","v":125.45161290322581},{"$f":"(H68-H37)/Q28","v":130.7741935483871},{"$f":"(H100-H68)/R28","v":130.9375},{"$f":"(H131-H100)/S28","v":129.96774193548387},{"$f":"(H162-H131)/T28","v":123.6774193548387},{"$f":"(H193-H162)/U28","v":129.09677419354838}]
[12,3868,14,3873,13,3877,14,3889,null,null,0,1111]
[12,3999,14,4004,13,4009,14,4013,null,null,0,1111]
[12,4123,14,4127,13,4131,14,4136,null,null,0,1111]
[21,4252,21,4256,22,4264,23,4272,null,null,0,2222]
[12,4379,14,4383,13,4387,14,4391,null,null,0,1111]
[12,4519,14,4523,13,4528,14,4535,null,null,0,1111]
[12,4659,23,4668,24,4675,23,4689,null,null,0,1222]
[21,4810,21,4819,11,4829,12,4833,null,null,0,2211]
[12,4943,23,4952,13,4964,14,4969,null,null,0,1211]
[21,5086,21,5091,22,5098,23,5103,null,null,0,2222]
[21,5222,12,5234,13,5238,14,5242,null,null,0,2111]
[21,5342,21,5351,22,5359,23,5367,null,null,0,2222]
[12,5473,14,5481,13,5486,14,5490,null,null,0,1111]
[21,5630,21,5635,22,5640,14,5659,null,null,0,2221]
[21,5783,21,5787,22,5795,23,5802,null,null,0,2222]
[12,5911,14,5915,13,5919,14,5924,null,null,0,1111]
[12,6031,14,6035,13,6039,14,6044,null,null,0,1111]
[21,6168,12,6180,13,6184,14,6189,null,null,0,2111]
[21,6304,21,6309,22,6313,23,6321,null,null,0,2222]
[12,6431,14,6434,13,6439,14,6455,null,null,0,1111]
[12,6577,14,6581,13,6587,14,6594,null,null,0,1111]
[12,6706,14,6710,13,6714,14,6718,null,null,0,1111]
[21,6822,21,6828,22,6832,23,6837,null,null,0,2222]
[21,6943,12,6955,13,6959,14,6963,null,null,0,2111]
[12,7069,14,7074,13,7078,14,7081,null,null,0,1111]
[12,7187,14,7195,13,7199,14,7203,null,null,0,1111]
[12,7313,14,7318,13,7322,14,7326,null,null,0,1111]
[12,7442,14,7446,13,7451,14,7459,null,null,0,1111]
[12,7561,14,7579,13,7583,14,7587,null,null,0,1111]
[12,7694,14,7699,13,7703,14,7707,null,null,0,1111]
[12,7811,14,7815,13,7820,14,7824,null,null,0,1111]
[21,7926,21,7930,22,7935,23,7943,null,null,0,2222]
[12,8058,14,8062,13,8066,14,8071,null,null,0,1111]
[21,8185,21,8189,22,8194,23,8201,null,null,0,2222]
[21,8303,21,8307,22,8311,23,8320,null,null,0,2222]
[21,8427,21,8432,22,8436,23,8444,null,null,0,2222]
[12,8577,14,8582,13,8587,14,8591,null,null,0,1111]
[12,8696,14,8699,13,8703,14,8708,null,null,0,1111]
[21,8821,12,8832,13,8835,14,8839,null,null,0,2111]
[21,8953,21,8957,22,8961,23,8968,null,null,0,2222]
[21,9085,21,9089,22,9093,23,9098,null,null,0,2222]
[12,9207,14,9211,13,9215,14,9222,null,null,0,1111]
[21,9342,21,9347,22,9351,23,9359,null,null,0,2222]
[12,9466,14,9470,13,9474,14,9478,null,null,0,1111]
[12,9584,14,9590,13,9594,14,9606,null,null,0,1111]
[12,9716,14,9721,13,9725,14,9732,null,null,0,1111]
[12,9844,14,9848,13,9851,14,9856,null,null,0,1111]
[12,9959,14,9972,13,9976,14,9981,null,null,0,1111]
[12,10086,14,10093,13,10098,14,10105,null,null,0,1111]
[12,10213,14,10217,13,10221,14,10229,null,null,0,1111]
[12,10369,14,10373,13,10384,14,10397,null,null,0,1111]
[12,10520,14,10525,13,10529,14,10534,null,null,0,1111]
[21,10641,21,10650,22,10655,23,10660,null,null,0,2222]
[12,10770,14,10775,13,10779,14,10783,null,null,0,1111]
[12,10888,14,10892,13,10896,14,10901,null,null,0,1111]
[12,11029,14,11033,13,11037,14,11041,null,null,0,1111]
[21,11157,12,11168,13,11172,14,11176,null,null,0,2111]
[12,11275,23,11295,24,11299,23,11307,null,null,0,1222]
[12,11425,14,11429,13,11434,14,11440,null,null,0,1111]
[21,11571,21,11575,22,11583,23,11590,null,null,0,2222]
[12,11703,14,11707,13,11712,14,11718,null,null,0,1111]
[21,11834,12,11848,13,11855,14,11859,null,null,0,2111]
[21,11997,21,12005,22,12010,23,12014,null,null,0,2222]
[12,12121,14,12125,13,12129,14,12133,null,null,0,1111]
[21,12270,21,12274,22,12282,23,12290,null,null,0,2222]
[12,12391,14,12396,13,12400,14,12404,null,null,0,1111]
[21,12507,12,12516,13,12521,14,12524,null,null,0,2111]
[12,12641,14,12645,13,12650,14,12655,null,null,0,1111]
[12,12787,14,12790,13,12794,14,12799,null,null,0,1111]
[12,12915,14,12920,13,12924,14,12928,null,null,0,1111]
[21,13036,21,13040,22,13047,23,13055,null,null,0,2222]
[21,13186,21,13191,22,13195,23,13199,null,null,0,2222]
[12,13307,14,13312,13,13315,14,13323,null,null,0,1111]
[21,13430,21,13438,22,13442,23,13450,null,null,0,2222]
[12,13556,14,13561,13,13567,14,13575,null,null,0,1111]
[12,13691,14,13695,13,13700,14,13705,null,null,0,1111]
[12,13805,14,13813,13,13817,14,13822,null,null,0,1111]
[21,13949,12,13961,13,13965,14,13969,null,null,0,2111]
[12,14077,14,14082,13,14086,14,14090,null,null,0,1111]
[12,14199,14,14206,13,14210,14,14214,null,null,0,1111]
[12,14328,14,14335,13,14341,14,14348,null,null,0,1111]
[12,14452,14,14458,13,14462,14,14470,null,null,0,1111]
[21,14573,12,14586,13,14590,14,14595,null,null,0,2111]
[12,14699,14,14703,13,14707,14,14714,null,null,0,1111]
[12,14814,14,14819,13,14822,14,14827,null,null,0,1111]
[12,14934,14,14939,13,14943,14,14948,null,null,0,1111]
[12,15058,14,15062,13,15066,14,15077,null,null,0,1111]
[12,15188,14,15193,13,15197,14,15201,null,null,0,1111]
[12,15320,14,15325,13,15329,14,15338,null,null,0,1111]
[12,15464,14,15469,13,15473,14,15481,null,null,0,1111]
[12,15589,14,15602,13,15606,14,15614,null,null,0,1111]
[12,15719,14,15724,13,15728,14,15732,null,null,0,1111]
[12,15848,14,15852,13,15860,14,15867,null,null,0,1111]
[21,15985,21,15994,22,16002,23,16012,null,null,0,2222]
[12,16136,14,16141,13,16146,14,16162,null,null,0,1111]
[12,16262,14,16273,13,16274,14,16282,null,null,0,1111]
[21,16390,12,16409,13,16417,14,16423,null,null,0,2111]
[12,16526,14,16532,13,16538,14,16543,null,null,0,1111]
[12,16643,14,16648,13,16652,14,16660,null,null,0,1111]
[12,16774,14,16778,13,16782,14,16788,null,null,0,1111]
[12,16899,14,16903,13,16907,14,16911,null,null,0,1111]
[12,17014,14,17018,13,17023,14,17027,null,null,0,1111]
[12,17134,14,17138,13,17144,14,17148,null,null,0,1111]
[12,17248,14,17255,13,17259,14,17264,null,null,0,1111]
[12,17368,14,17373,13,17377,14,17386,null,null,0,1111]
[12,17493,14,17498,13,17502,14,17507,null,null,0,1111]
[12,17615,14,17619,13,17623,14,17635,null,null,0,1111]
[12,17745,14,17749,13,17753,14,17757,null,null,0,1111]
[12,17860,14,17864,13,17869,14,17874,null,null,0,1111]
[12,17983,14,17987,13,17992,14,17997,null,null,0,1111]
[12,18099,14,18103,13,18107,14,18111,null,null,0,1111]
[12,18219,14,18223,13,18227,14,18232,null,null,0,1111]
[12,18347,14,18353,13,18357,14,18362,null,null,0,1111]
[21,18468,21,18472,22,18476,23,18481,null,null,0,2222]
[12,18597,14,18601,13,18619,14,18636,null,null,0,1111]
[12,18753,14,18766,13,18770,14,18774,null,null,0,1111]
[12,18877,14,18882,13,18886,14,18891,null,null,0,1111]
[12,19000,14,19007,13,19011,14,19016,null,null,0,1111]
[12,19130,14,19134,13,19138,14,19143,null,null,0,1111]
[12,19268,14,19272,13,19276,14,19280,null,null,0,1111]
[12,19384,14,19389,13,19393,14,19397,null,null,0,1111]
[12,19506,14,19513,13,19518,14,19526,null,null,0,1111]
[12,19625,14,19633,13,19640,14,19644,null,null,0,1111]
[12,19745,14,19750,13,19754,14,19759,null,null,0,1111]
[21,19864,21,19871,22,19875,23,19880,null,null,0,2222]
[21,19983,21,19988,22,19991,23,19996,null,null,0,2222]
[12,20102,14,20107,13,20111,14,20115,null,null,0,1111]
[12,20234,14,20238,13,20243,14,20250,null,null,0,1111]
[12,20356,14,20361,13,20369,14,20373,null,null,0,1111]
[12,20475,14,20484,13,20488,14,20493,null,null,0,1111]
[12,20594,14,20599,24,20609,23,20614,null,null,0,1122]
[12,20739,14,20743,13,20747,14,20751,null,null,0,1111]
[21,20865,21,20873,22,20881,23,20889,null,null,0,2222]
[12,20995,14,21003,13,21007,14,21012,null,null,0,1111]
[12,21135,14,21141,13,21145,14,21149,null,null,0,1111]
[21,21279,12,21291,13,21298,14,21306,null,null,0,2111]
[12,21409,14,21416,13,21429,14,21434,null,null,0,1111]
[12,21538,14,21542,13,21548,14,21552,null,null,0,1111]
[12,21659,14,21663,13,21667,14,21671,null,null,0,1111]
[21,21789,12,21798,13,21806,14,21810,null,null,0,2111]
[12,21926,14,21931,13,21935,14,21939,null,null,0,1111]
[12,22039,14,22044,13,22048,14,22052,null,null,0,1111]
[12,22157,14,22179,13,22184,14,22189,null,null,0,1111]
[12,22291,14,22295,13,22300,14,22304,null,null,0,1111]
[12,22416,14,22421,13,22425,14,22430,null,null,0,1111]
[12,22537,14,22546,13,22553,14,22560,null,null,0,1111]
[12,22662,14,22675,13,22679,14,22684,null,null,0,1111]
[12,22810,14,22814,13,22819,14,22824,null,null,0,1111]
[12,22939,14,22943,13,22948,14,22954,null,null,0,1111]
[12,23059,14,23064,13,23068,14,23073,null,null,0,1111]
[12,23181,14,23187,13,23194,14,23205,null,null,0,1111]
[12,23312,14,23316,13,23321,14,23329,null,null,0,1111]
[12,23441,23,23454,24,23458,23,23466,null,null,0,1222]
[12,23578,14,23582,13,23586,14,23591,null,null,0,1111]
[12,23698,14,23703,13,23707,14,23711,null,null,0,1111]
[12,23844,14,23849,13,23854,14,23861,null,null,0,1111]
[12,23972,14,23985,13,23989,14,23998,null,null,null,1111]

{"sheet":"!L824950.053","index":29,"n_rows":181,"n_cols":48,"rows_kept":181,"cut":false,"hidden":false,"merged":[[4,39,4,42],[5,39,5,40],[4,44,4,47],[5,44,5,45],[4,24,4,27],[5,24,5,25],[4,29,4,32],[5,29,5,30],[4,34,4,37],[5,34,5,35],[1,1,1,2],[5,13,5,14],[26,13,26,14],[27,13,27,14],[4,19,4,22],[5,19,5,20]]}
["Report for:!L824950.053"]
["Date:","<date>"]
["Hen:","<hen>",null,null,null,"Correct Sequence",{"$f":"Start!J2","v":2212},null,null,null,null,null,null,null,null,"Total Sequences in Data",{"$f":"4994-COUNTBLANK(L7:L5000)","v":175},null,null,null,null,"Total Sequences in Block Data",{"$f":"COUNTA(L7:L35)","v":29},null,null,null,"Total Sequences in Block Data",{"$f":"COUNTA(L36:L64)","v":29},null,null,null,"Total Sequences in Block Data",{"$f":"COUNTA(L65:L94)","v":30},null,null,null,"Total Sequences in Block Data",{"$f":"COUNTA(L95:L123)","v":29},null,null,null,"Total Sequences in Block Data",{"$f":"COUNTA(L124:L152)","v":29},null,null,null,"Total Sequences in Block Data",{"$f":"COUNTA(L153:L181)","v":29}]
[null,null,null,null,null,null,null,null,null,null,null,null,null,null,null,"Total Sequences in Summary",{"$f":"SUM(O7:O22)","v":175},null,null,null,null,"Total Sequences in Block Summary",{"$f":"SUM(U7:U22)","v":29},null,null,null,"Total Sequences in Block Summary",{"$f":"SUM(Z7:Z22)","v":29},null,null,null,"Total Sequences in Block Summary",{"$f":"SUM(AE7:AE22)","v":30},null,null,null,"Total Sequences in Block Summary",{"$f":"SUM(AJ7:AJ22)","v":29},null,null,null,"Total Sequences in Block Summary",{"$f":"SUM(AO7:AO22)","v":29},null,null,null,"Total Sequences in Block Summary",{"$f":"SUM(AT7:AT22)","v":29}]
[null,null,null,null,null,null,null,null,null,null,null,null,null,null,null,null,null,null,null,"Block 1",null,null,null,null,"Block 2",null,null,null,null,"Block 3",null,null,null,null,"Block 4",null,null,null,null,"Block 5",null,null,null,null,"Block 6"]
["Sequence\nComponent\n1","Time\n1","Sequence\nComponent\n2","Time\n2","Sequence\nComponent\n3","Time\n3","Sequence\nComponent\n4","Time\n4","Sequence\nComponent\n5","Time\n5","Correct?\n0=No 1=Yes","Sequence",null,"Frequency",null,"Relative Frequency","Variability",null,null,"Frequency",null,"Relative Frequency","Variability",null,"Frequency",null,"Relative Frequency","Variability",null,"Frequency",null,"Relative Frequency","Variability",null,"Frequency",null,"Relative Frequency","Variability",null,"Frequency",null,"Relative Frequency","Variability",null,"Frequency",null,"Relative Frequency","Variability"]
[21,45,21,64,22,69,23,76,null,null,0,2222,null,1111,{"$f":"COUNTIF($L$7:$L$500,N7)","v":139},{"$f":"O7/$Q$4","v":0.79428571428571426},{"$f":"IF(P7=0,0,(P7*((LOG(P7))/LOG(2))))","v":-0.26391734534929245},null,null,{"$f":"N7","v":1111},{"$f":"COUNTIF(L7:L35,T7)","v":14},{"$f":"U7/(W4-U20)","v":0.48275862068965519},{"$f":"IF(V7=0,0,(V7*((LOG(V7))/LOG(2))))","v":-0.50719879389584666},null,{"$f":"N7","v":1111},{"$f":"COUNTIF(L36:L64,Y7)","v":21},{"$f":"Z7/(AB4-Z20)","v":0.72413793103448276},{"$f":"IF(AA7=0,0,(AA7*((LOG(AA7))/LOG(2))))","v":-0.33720465583879472},null,{"$f":"N7","v":1111},{"$f":"COUNTIF(L65:L94,AD7)","v":26},{"$f":"AE7/(AG4-AE20)","v":0.8666666666666667},{"$f":"IF(AF7=0,0,(AF7*((LOG(AF7))/LOG(2))))","v":-0.17892409380510282},null,{"$f":"N7","v":1111},{"$f":"COUNTIF(L95:L123,AI7)","v":28},{"$f":"AJ7/(AL4-AJ20)","v":0.96551724137931039},{"$f":"IF(AK7=0,0,(AK7*((LOG(AK7))/LOG(2))))","v":-4.8880346412382848E-2},null,{"$f":"N7","v":1111},{"$f":"COUNTIF(L124:L152,AN7)","v":26},{"$f":"AO7/(AQ4-AO20)","v":0.89655172413793105},{"$f":"IF(AP7=0,0,(AP7*((LOG(AP7))/LOG(2))))","v":-0.14124390350511995},null,{"$f":"N7","v":1111},{"$f":"COUNTIF(L153:L181,AS7)","v":24},{"$f":"AT7/(AV4-AT20)","v":0.82758620689655171},{"$f":"IF(AU7=0,0,(AU7*((LOG(AU7))/LOG(2))))","v":-0.2259463401984132}]
[21,193,21,198,22,199,23,204,null,null,0,2222,null,1112,{"$f":"COUNTIF($L$7:$L$500,N8)","v":1},{"$f":"O8/$Q$4","v":5.7142857142857143E-3},{"$f":"IF(P8=0,0,(P8*((LOG(P8))/LOG(2))))","v":-4.2578349210470448E-2},null,null,{"$f":"N8","v":1112},{"$f":"COUNTIF(L7:L35,T8)","v":1},{"$f":"U8/(W4-U20)","v":3.4482758620689655E-2},{"$f":"IF(V8=0,0,(V8*((LOG(V8))/LOG(2))))","v":-0.16751658603888178},null,{"$f":"N8","v":1112},{"$f":"COUNTIF(L36:L64,Y8)","v":0},{"$f":"Z8/(AB4-Z20)","v":0},{"$f":"IF(AA8=0,0,(AA8*((LOG(AA8))/LOG(2))))","v":0},null,{"$f":"N8","v":1112},{"$f":"COUNTIF(L65:L94,AD8)","v":0},{"$f":"AE8/(AG4-AE20)","v":0},{"$f":"IF(AF8=0,0,(AF8*((LOG(AF8))/LOG(2))))","v":0},null,{"$f":"N8","v":1112},{"$f":"COUNTIF(L95:L123,AI8)","v":0},{"$f":"AJ8/(AL4-AJ20)","v":0},{"$f":"IF(AK8=0,0,(AK8*((LOG(AK8))/LOG(2))))","v":0},null,{"$f":"N8","v":1112},{"$f":"COUNTIF(L124:L152,AN8)","v":0},{"$f":"AO8/(AQ4-AO20)","v":0},{"$f":"IF(AP8=0,0,(AP8*((LOG(AP8))/LOG(2))))","v":0},null,{"$f":"N8","v":1112},{"$f":"COUNTIF(L153:L181,AS8)","v":0},{"$f":"AT8/(AV4-AT20)","v":0},{"$f":"IF(AU8=0,0,(AU8*((LOG(AU8))/LOG(2))))","v":0}]
[12,336,14,341,13,346,14,355,null,null,0,1111,null,1121,{"$f":"COUNTIF($L$7:$L$500,N9)","v":0},{"$f":"O9/$Q$4","v":0},{"$f":"IF(P9=0,0,(P9*((LOG(P9))/LOG(2))))","v":0},null,null,{"$f":"N9","v":1121},{"$f":"COUNTIF(L7:L35,T9)","v":0},{"$f":"U9/(W4-U20)","v":0},{"$f":"IF(V9=0,0,(V9*((LOG(V9))/LOG(2))))","v":0},null,{"$f":"N9","v":1121},{"$f":"COUNTIF(L36:L64,Y9)","v":0},{"$f":"Z9/(AB4-Z20)","v":0},{"$f":"IF(AA9=0,0,(AA9*((LOG(AA9))/LOG(2))))","v":0},null,{"$f":"N9","v":1121},{"$f":"COUNTIF(L65:L94,AD9)","v":0},{"$f":"AE9/(AG4-AE20)","v":0},{"$f":"IF(AF9=0,0,(AF9*((LOG(AF9))/LOG(2))))","v":0},null,{"$f":"N9","v":1121},{"$f":"COUNTIF(L95:L123,AI9)","v":0},{"$f":"AJ9/(AL4-AJ20)","v":0},{"$f":"IF(AK9=0,0,(AK9*((LOG(AK9))/LOG(2))))","v":0},null,{"$f":"N9","v":1121},{"$f":"COUNTIF(L124:L152,AN9)","v":0},{"$f":"AO9/(AQ4-AO20)","v":0},{"$f":"IF(AP9=0,0,(AP9*((LOG(AP9))/LOG(2))))","v":0},null,{"$f":"N9","v":1121},{"$f":"COUNTIF(L153:L181,AS9)","v":0},{"$f":"AT9/(AV4-AT20)","v":0},{"$f":"IF(AU9=0,0,(AU9*((LOG(AU9))/LOG(2))))","v":0}]
[21,474,21,479,22,486,23,492,null,null,0,2222,null,1122,{"$f":"COUNTIF($L$7:$L$500,N10)","v":2},{"$f":"O10/$Q$4","v":1.1428571428571429E-2},{"$f":"IF(P10=0,0,(P10*((LOG(P10))/LOG(2))))","v":-7.3728126992369469E-2},null,null,{"$f":"N10","v":1122},{"$f":"COUNTIF(L7:L35,T10)","v":0},{"$f":"U10/(W4-U20)","v":0},{"$f":"IF(V10=0,0,(V10*((LOG(V10))/LOG(2))))","v":0},null,{"$f":"N10","v":1122},{"$f":"COUNTIF(L36:L64,Y10)","v":0},{"$f":"Z10/(AB4-Z20)","v":0},{"$f":"IF(AA10=0,0,(AA10*((LOG(AA10))/LOG(2))))","v":0},null,{"$f":"N10","v":1122},{"$f":"COUNTIF(L65:L94,AD10)","v":1},{"$f":"AE10/(AG4-AE20)","v":3.3333333333333333E-2},{"$f":"IF(AF10=0,0,(AF10*((LOG(AF10))/LOG(2))))","v":-0.16356301985361729},null,{"$f":"N10","v":1122},{"$f":"COUNTIF(L95:L123,AI10)","v":0},{"$f":"AJ10/(AL4-AJ20)","v":0},{"$f":"IF(AK10=0,0,(AK10*((LOG(AK10))/LOG(2))))","v":0},null,{"$f":"N10","v":1122},{"$f":"COUNTIF(L124:L152,AN10)","v":0},{"$f":"AO10/(AQ4-AO20)","v":0},{"$f":"IF(AP10=0,0,(AP10*((LOG(AP10))/LOG(2))))","v":0},null,{"$f":"N10","v":1122},{"$f":"COUNTIF(L153:L181,AS10)","v":1},{"$f":"AT10/(AV4-AT20)","v":3.4482758620689655E-2},{"$f":"IF(AU10=0,0,(AU10*((LOG(AU10))/LOG(2))))","v":-0.16751658603888178}]
[12,604,14,608,13,612,14,618,null,null,0,1111,null,1211,{"$f":"COUNTIF($L$7:$L$500,N11)","v":0},{"$f":"O11/$Q$4","v":0},{"$f":"IF(P11=0,0,(P11*((LOG(P11))/LOG(2))))","v":0},null,null,{"$f":"N11","v":1211},{"$f":"COUNTIF(L7:L35,T11)","v":0},{"$f":"U11/(W4-U20)","v":0},{"$f":"IF(V11=0,0,(V11*((LOG(V11))/LOG(2))))","v":0},null,{"$f":"N11","v":1211},{"$f":"COUNTIF(L36:L64,Y11)","v":0},{"$f":"Z11/(AB4-Z20)","v":0},{"$f":"IF(AA11=0,0,(AA11*((LOG(AA11))/LOG(2))))","v":0},null,{"$f":"N11","v":1211},{"$f":"COUNTIF(L65:L94,AD11)","v":0},{"$f":"AE11/(AG4-AE20)","v":0},{"$f":"IF(AF11=0,0,(AF11*((LOG(AF11))/LOG(2))))","v":0},null,{"$f":"N11","v":1211},{"$f":"COUNTIF(L95:L123,AI11)","v":0},{"$f":"AJ11/(AL4-AJ20)","v":0},{"$f":"IF(AK11=0,0,(AK11*((LOG(AK11))/LOG(2))))","v":0},null,{"$f":"N11","v":1211},{"$f":"COUNTIF(L124:L152,AN11)","v":0},{"$f":"AO11/(AQ4-AO20)","v":0},{"$f":"IF(AP11=0,0,(AP11*((LOG(AP11))/LOG(2))))","v":0},null,{"$f":"N11","v":1211},{"$f":"COUNTIF(L153:L181,AS11)","v":0},{"$f":"AT11/(AV4-AT20)","v":0},{"$f":"IF(AU11=0,0,(AU11*((LOG(AU11))/LOG(2))))","v":0}]
[12,722,14,729,13,733,14,738,null,null,0,1111,null,1212,{"$f":"COUNTIF($L$7:$L$500,N12)","v":0},{"$f":"O12/$Q$4","v":0},{"$f":"IF(P12=0,0,(P12*((LOG(P12))/LOG(2))))","v":0},null,null,{"$f":"N12","v":1212},{"$f":"COUNTIF(L7:L35,T12)","v":0},{"$f":"U12/(W4-U20)","v":0},{"$f":"IF(V12=0,0,(V12*((LOG(V12))/LOG(2))))","v":0},null,{"$f":"N12","v":1212},{"$f":"COUNTIF(L36:L64,Y12)","v":0},{"$f":"Z12/(AB4-Z20)","v":0},{"$f":"IF(AA12=0,0,(AA12*((LOG(AA12))/LOG(2))))","v":0},null,{"$f":"N12","v":1212},{"$f":"COUNTIF(L65:L94,AD12)","v":0},{"$f":"AE12/(AG4-AE20)","v":0},{"$f":"IF(AF12=0,0,(AF12*((LOG(AF12))/LOG(2))))","v":0},null,{"$f":"N12","v":1212},{"$f":"COUNTIF(L95:L123,AI12)","v":0},{"$f":"AJ12/(AL4-AJ20)","v":0},{"$f":"IF(AK12=0,0,(AK12*((LOG(AK12))/LOG(2))))","v":0},null,{"$f":"N12","v":1212},{"$f":"COUNTIF(L124:L152,AN12)","v":0},{"$f":"AO12/(AQ4-AO20)","v":0},{"$f":"IF(AP12=0,0,(AP12*((LOG(AP12))/LOG(2))))","v":0},null,{"$f":"N12","v":1212},{"$f":"COUNTIF(L153:L181,AS12)","v":0},{"$f":"AT12/(AV4-AT20)","v":0},{"$f":"IF(AU12=0,0,(AU12*((LOG(AU12))/LOG(2))))","v":0}]
[21,845,21,850,22,855,23,864,null,null,0,2222,null,1221,{"$f":"COUNTIF($L$7:$L$500,N13)","v":0},{"$f":"O13/$Q$4","v":0},{"$f":"IF(P13=0,0,(P13*((LOG(P13))/LOG(2))))","v":0},null,null,{"$f":"N13","v":1221},{"$f":"COUNTIF(L7:L35,T13)","v":0},{"$f":"U13/(W4-U20)","v":0},{"$f":"IF(V13=0,0,(V13*((LOG(V13))/LOG(2))))","v":0},null,{"$f":"N13","v":1221},{"$f":"COUNTIF(L36:L64,Y13)","v":0},{"$f":"Z13/(AB4-Z20)","v":0},{"$f":"IF(AA13=0,0,(AA13*((LOG(AA13))/LOG(2))))","v":0},null,{"$f":"N13","v":1221},{"$f":"COUNTIF(L65:L94,AD13)","v":0},{"$f":"AE13/(AG4-AE20)","v":0},{"$f":"IF(AF13=0,0,(AF13*((LOG(AF13))/LOG(2))))","v":0},null,{"$f":"N13","v":1221},{"$f":"COUNTIF(L95:L123,AI13)","v":0},{"$f":"AJ13/(AL4-AJ20)","v":0},{"$f":"IF(AK13=0,0,(AK13*((LOG(AK13))/LOG(2))))","v":0},null,{"$f":"N13","v":1221},{"$f":"COUNTIF(L124:L152,AN13)","v":0},{"$f":"AO13/(AQ4-AO20)","v":0},{"$f":"IF(AP13=0,0,(AP13*((LOG(AP13))/LOG(2))))","v":0},null,{"$f":"N13","v":1221},{"$f":"COUNTIF(L153:L181,AS13)","v":0},{"$f":"AT13/(AV4-AT20)","v":0},{"$f":"IF(AU13=0,0,(AU13*((LOG(AU13))/LOG(2))))","v":0}]
[12,987,14,991,13,996,14,1016,null,null,0,1111,null,1222,{"$f":"COUNTIF($L$7:$L$500,N14)","v":6},{"$f":"O14/$Q$4","v":3.4285714285714287E-2},{"$f":"IF(P14=0,0,(P14*((LOG(P14))/LOG(2))))","v":-0.16684280952381164},null,null,{"$f":"N14","v":1222},{"$f":"COUNTIF(L7:L35,T14)","v":0},{"$f":"U14/(W4-U20)","v":0},{"$f":"IF(V14=0,0,(V14*((LOG(V14))/LOG(2))))","v":0},null,{"$f":"N14","v":1222},{"$f":"COUNTIF(L36:L64,Y14)","v":0},{"$f":"Z14/(AB4-Z20)","v":0},{"$f":"IF(AA14=0,0,(AA14*((LOG(AA14))/LOG(2))))","v":0},null,{"$f":"N14","v":1222},{"$f":"COUNTIF(L65:L94,AD14)","v":1},{"$f":"AE14/(AG4-AE20)","v":3.3333333333333333E-2},{"$f":"IF(AF14=0,0,(AF14*((LOG(AF14))/LOG(2))))","v":-0.16356301985361729},null,{"$f":"N14","v":1222},{"$f":"COUNTIF(L95:L123,AI14)","v":0},{"$f":"AJ14/(AL4-AJ20)","v":0},{"$f":"IF(AK14=0,0,(AK14*((LOG(AK14))/LOG(2))))","v":0},null,{"$f":"N14","v":1222},{"$f":"COUNTIF(L124:L152,AN14)","v":3},{"$f":"AO14/(AQ4-AO20)","v":0.10344827586206896},{"$f":"IF(AP14=0,0,(AP14*((LOG(AP14))/LOG(2))))","v":-0.33858812011100858},null,{"$f":"N14","v":1222},{"$f":"COUNTIF(L153:L181,AS14)","v":2},{"$f":"AT14/(AV4-AT20)","v":6.8965517241379309E-2},{"$f":"IF(AU14=0,0,(AU14*((LOG(AU14))/LOG(2))))","v":-0.26606765483638428}]
[21,1144,12,1157,13,1164,14,1169,null,null,0,2111,null,2111,{"$f":"COUNTIF($L$7:$L$500,N15)","v":6},{"$f":"O15/$Q$4","v":3.4285714285714287E-2},{"$f":"IF(P15=0,0,(P15*((LOG(P15))/LOG(2))))","v":-0.16684280952381164},null,null,{"$f":"N15","v":2111},{"$f":"COUNTIF(L7:L35,T15)","v":2},{"$f":"U15/(W4-U20)","v":6.8965517241379309E-2},{"$f":"IF(V15=0,0,(V15*((LOG(V15))/LOG(2))))","v":-0.26606765483638428},null,{"$f":"N15","v":2111},{"$f":"COUNTIF(L36:L64,Y15)","v":2},{"$f":"Z15/(AB4-Z20)","v":6.8965517241379309E-2},{"$f":"IF(AA15=0,0,(AA15*((LOG(AA15))/LOG(2))))","v":-0.26606765483638428},null,{"$f":"N15","v":2111},{"$f":"COUNTIF(L65:L94,AD15)","v":1},{"$f":"AE15/(AG4-AE20)","v":3.3333333333333333E-2},{"$f":"IF(AF15=0,0,(AF15*((LOG(AF15))/LOG(2))))","v":-0.16356301985361729},null,{"$f":"N15","v":2111},{"$f":"COUNTIF(L95:L123,AI15)","v":0},{"$f":"AJ15/(AL4-AJ20)","v":0},{"$f":"IF(AK15=0,0,(AK15*((LOG(AK15))/LOG(2))))","v":0},null,{"$f":"N15","v":2111},{"$f":"COUNTIF(L124:L152,AN15)","v":0},{"$f":"AO15/(AQ4-AO20)","v":0},{"$f":"IF(AP15=0,0,(AP15*((LOG(AP15))/LOG(2))))","v":0},null,{"$f":"N15","v":2111},{"$f":"COUNTIF(L153:L181,AS15)","v":1},{"$f":"AT15/(AV4-AT20)","v":3.4482758620689655E-2},{"$f":"IF(AU15=0,0,(AU15*((LOG(AU15))/LOG(2))))","v":-0.16751658603888178}]
[21,1284,21,1309,22,1317,23,1325,null,null,0,2222,null,2112,{"$f":"COUNTIF($L$7:$L$500,N16)","v":0},{"$f":"O16/$Q$4","v":0},{"$f":"IF(P16=0,0,(P16*((LOG(P16))/LOG(2))))","v":0},null,null,{"$f":"N16","v":2112},{"$f":"COUNTIF(L7:L35,T16)","v":0},{"$f":"U16/(W4-U20)","v":0},{"$f":"IF(V16=0,0,(V16*((LOG(V16))/LOG(2))))","v":0},null,{"$f":"N16","v":2112},{"$f":"COUNTIF(L36:L64,Y16)","v":0},{"$f":"Z16/(AB4-Z20)","v":0},{"$f":"IF(AA16=0,0,(AA16*((LOG(AA16))/LOG(2))))","v":0},null,{"$f":"N16","v":2112},{"$f":"COUNTIF(L65:L94,AD16)","v":0},{"$f":"AE16/(AG4-AE20)","v":0},{"$f":"IF(AF16=0,0,(AF16*((LOG(AF16))/LOG(2))))","v":0},null,{"$f":"N16","v":2112},{"$f":"COUNTIF(L95:L123,AI16)","v":0},{"$f":"AJ16/(AL4-AJ20)","v":0},{"$f":"IF(AK16=0,0,(AK16*((LOG(AK16))/LOG(2))))","v":0},null,{"$f":"N16","v":2112},{"$f":"COUNTIF(L124:L152,AN16)","v":0},{"$f":"AO16/(AQ4-AO20)","v":0},{"$f":"IF(AP16=0,0,(AP16*((LOG(AP16))/LOG(2))))","v":0},null,{"$f":"N16","v":2112},{"$f":"COUNTIF(L153:L181,AS16)","v":0},{"$f":"AT16/(AV4-AT20)","v":0},{"$f":"IF(AU16=0,0,(AU16*((LOG(AU16))/LOG(2))))","v":0}]
[21,1454,21,1464,11,1478,12,1482,null,null,0,2211,null,2121,{"$f":"COUNTIF($L$7:$L$500,N17)","v":0},{"$f":"O17/$Q$4","v":0},{"$f":"IF(P17=0,0,(P17*((LOG(P17))/LOG(2))))","v":0},null,null,{"$f":"N17","v":2121},{"$f":"COUNTIF(L7:L35,T17)","v":0},{"$f":"U17/(W4-U20)","v":0},{"$f":"IF(V17=0,0,(V17*((LOG(V17))/LOG(2))))","v":0},null,{"$f":"N17","v":2121},{"$f":"COUNTIF(L36:L64,Y17)","v":0},{"$f":"Z17/(AB4-Z20)","v":0},{"$f":"IF(AA17=0,0,(AA17*((LOG(AA17))/LOG(2))))","v":0},null,{"$f":"N17","v":2121},{"$f":"COUNTIF(L65:L94,AD17)","v":0},{"$f":"AE17/(AG4-AE20)","v":0},{"$f":"IF(AF17=0,0,(AF17*((LOG(AF17))/LOG(2))))","v":0},null,{"$f":"N17","v":2121},{"$f":"COUNTIF(L95:L123,AI17)","v":0},{"$f":"AJ17/(AL4-AJ20)","v":0},{"$f":"IF(AK17=0,0,(AK17*((LOG(AK17))/LOG(2))))","v":0},null,{"$f":"N17","v":2121},{"$f":"COUNTIF(L124:L152,AN17)","v":0},{"$f":"AO17/(AQ4-AO20)","v":0},{"$f":"IF(AP17=0,0,(AP17*((LOG(AP17))/LOG(2))))","v":0},null,{"$f":"N17","v":2121},{"$f":"COUNTIF(L153:L181,AS17)","v":0},{"$f":"AT17/(AV4-AT20)","v":0},{"$f":"IF(AU17=0,0,(AU17*((LOG(AU17))/LOG(2))))","v":0}]
[21,1628,21,1636,22,1646,23,1653,null,null,0,2222,null,2122,{"$f":"COUNTIF($L$7:$L$500,N18)","v":0},{"$f":"O18/$Q$4","v":0},{"$f":"IF(P18=0,0,(P18*((LOG(P18))/LOG(2))))","v":0},null,null,{"$f":"N18","v":2122},{"$f":"COUNTIF(L7:L35,T18)","v":0},{"$f":"U18/(W4-U20)","v":0},{"$f":"IF(V18=0,0,(V18*((LOG(V18))/LOG(2))))","v":0},null,{"$f":"N18","v":2122},{"$f":"COUNTIF(L36:L64,Y18)","v":0},{"$f":"Z18/(AB4-Z20)","v":0},{"$f":"IF(AA18=0,0,(AA18*((LOG(AA18))/LOG(2))))","v":0},null,{"$f":"N18","v":2122},{"$f":"COUNTIF(L65:L94,AD18)","v":0},{"$f":"AE18/(AG4-AE20)","v":0},{"$f":"IF(AF18=0,0,(AF18*((LOG(AF18))/LOG(2))))","v":0},null,{"$f":"N18","v":2122},{"$f":"COUNTIF(L95:L123,AI18)","v":0},{"$f":"AJ18/(AL4-AJ20)","v":0},{"$f":"IF(AK18=0,0,(AK18*((LOG(AK18))/LOG(2))))","v":0},null,{"$f":"N18","v":2122},{"$f":"COUNTIF(L124:L152,AN18)","v":0},{"$f":"AO18/(AQ4-AO20)","v":0},{"$f":"IF(AP18=0,0,(AP18*((LOG(AP18))/LOG(2))))","v":0},null,{"$f":"N18","v":2122},{"$f":"COUNTIF(L153:L181,AS18)","v":0},{"$f":"AT18/(AV4-AT20)","v":0},{"$f":"IF(AU18=0,0,(AU18*((LOG(AU18))/LOG(2))))","v":0}]
[12,1776,14,1780,13,1785,14,1792,null,null,0,1111,null,2211,{"$f":"COUNTIF($L$7:$L$500,N19)","v":2},{"$f":"O19/$Q$4","v":1.1428571428571429E-2},{"$f":"IF(P19=0,0,(P19*((LOG(P19))/LOG(2))))","v":-7.3728126992369469E-2},null,null,{"$f":"N19","v":2211},{"$f":"COUNTIF(L7:L35,T19)","v":2},{"$f":"U19/(W4-U20)","v":6.8965517241379309E-2},{"$f":"IF(V19=0,0,(V19*((LOG(V19))/LOG(2))))","v":-0.26606765483638428},null,{"$f":"N19","v":2211},{"$f":"COUNTIF(L36:L64,Y19)","v":0},{"$f":"Z19/(AB4-Z20)","v":0},{"$f":"IF(AA19=0,0,(AA19*((LOG(AA19))/LOG(2))))","v":0},null,{"$f":"N19","v":2211},{"$f":"COUNTIF(L65:L94,AD19)","v":0},{"$f":"AE19/(AG4-AE20)","v":0},{"$f":"IF(AF19=0,0,(AF19*((LOG(AF19))/LOG(2))))","v":0},null,{"$f":"N19","v":2211},{"$f":"COUNTIF(L95:L123,AI19)","v":0},{"$f":"AJ19/(AL4-AJ20)","v":0},{"$f":"IF(AK19=0,0,(AK19*((LOG(AK19))/LOG(2))))","v":0},null,{"$f":"N19","v":2211},{"$f":"COUNTIF(L124:L152,AN19)","v":0},{"$f":"AO19/(AQ4-AO20)","v":0},{"$f":"IF(AP19=0,0,(AP19*((LOG(AP19))/LOG(2))))","v":0},null,{"$f":"N19","v":2211},{"$f":"COUNTIF(L153:L181,AS19)","v":0},{"$f":"AT19/(AV4-AT20)","v":0},{"$f":"IF(AU19=0,0,(AU19*((LOG(AU19))/LOG(2))))","v":0}]
[21,1958,21,1968,11,1984,12,1991,null,null,0,2211,null,2212,{"$f":"COUNTIF($L$7:$L$500,N20)","v":0},{"$f":"O20/$Q$4","v":0},{"$f":"IF(P20=0,0,(P20*((LOG(P20))/LOG(2))))","v":0},null,null,{"$f":"N20","v":2212},{"$f":"COUNTIF(L7:L35,T20)","v":0},null,null,null,{"$f":"N20","v":2212},{"$f":"COUNTIF(L36:L64,Y20)","v":0},null,null,null,{"$f":"N20","v":2212},{"$f":"COUNTIF(L65:L94,AD20)","v":0},null,null,null,{"$f":"N20","v":2212},{"$f":"COUNTIF(L95:L123,AI20)","v":0},null,null,null,{"$f":"N20","v":2212},{"$f":"COUNTIF(L124:L152,AN20)","v":0},null,null,null,{"$f":"N20","v":2212},{"$f":"COUNTIF(L153:L181,AS20)","v":0}]
[21,2197,12,2208,13,2215,14,2222,null,null,0,2111,null,2221,{"$f":"COUNTIF($L$7:$L$500,N21)","v":0},{"$f":"O21/$Q$4","v":0},{"$f":"IF(P21=0,0,(P21*((LOG(P21))/LOG(2))))","v":0},null,null,{"$f":"N21","v":2221},{"$f":"COUNTIF(L7:L35,T21)","v":0},{"$f":"U21/(W4-U20)","v":0},{"$f":"IF(V21=0,0,(V21*((LOG(V21))/LOG(2))))","v":0},null,{"$f":"N21","v":2221},{"$f":"COUNTIF(L36:L64,Y21)","v":0},{"$f":"Z21/(AB4-Z20)","v":0},{"$f":"IF(AA21=0,0,(AA21*((LOG(AA21))/LOG(2))))","v":0},null,{"$f":"N21","v":2221},{"$f":"COUNTIF(L65:L94,AD21)","v":0},{"$f":"AE21/(AG4-AE20)","v":0},{"$f":"IF(AF21=0,0,(AF21*((LOG(AF21))/LOG(2))))","v":0},null,{"$f":"N21","v":2221},{"$f":"COUNTIF(L95:L123,AI21)","v":0},{"$f":"AJ21/(AL4-AJ20)","v":0},{"$f":"IF(AK21=0,0,(AK21*((LOG(AK21))/LOG(2))))","v":0},null,{"$f":"N21","v":2221},{"$f":"COUNTIF(L124:L152,AN21)","v":0},{"$f":"AO21/(AQ4-AO20)","v":0},{"$f":"IF(AP21=0,0,(AP21*((LOG(AP21))/LOG(2))))","v":0},null,{"$f":"N21","v":2221},{"$f":"COUNTIF(L153:L181,AS21)","v":0},{"$f":"AT21/(AV4-AT20)","v":0},{"$f":"IF(AU21=0,0,(AU21*((LOG(AU21))/LOG(2))))","v":0}]
[12,2323,14,2328,13,2333,14,2338,null,null,0,1111,null,2222,{"$f":"COUNTIF($L$7:$L$500,N22)","v":19},{"$f":"O22/$Q$4","v":0.10857142857142857},{"$f":"IF(P22=0,0,(P22*((LOG(P22))/LOG(2))))","v":-0.34778507639649214},null,null,{"$f":"N22","v":2222},{"$f":"COUNTIF(L7:L35,T22)","v":10},{"$f":"U22/(W4-U20)","v":0.34482758620689657},{"$f":"IF(V22=0,0,(V22*((LOG(V22))/LOG(2))))","v":-0.52967341387593436},null,{"$f":"N22","v":2222},{"$f":"COUNTIF(L36:L64,Y22)","v":6},{"$f":"Z22/(AB4-Z20)","v":0.20689655172413793},{"$f":"IF(AA22=0,0,(AA22*((LOG(AA22))/LOG(2))))","v":-0.4702796884978791},null,{"$f":"N22","v":2222},{"$f":"COUNTIF(L65:L94,AD22)","v":1},{"$f":"AE22/(AG4-AE20)","v":3.3333333333333333E-2},{"$f":"IF(AF22=0,0,(AF22*((LOG(AF22))/LOG(2))))","v":-0.16356301985361729},null,{"$f":"N22","v":2222},{"$f":"COUNTIF(L95:L123,AI22)","v":1},{"$f":"AJ22/(AL4-AJ20)","v":3.4482758620689655E-2},{"$f":"IF(AK22=0,0,(AK22*((LOG(AK22))/LOG(2))))","v":-0.16751658603888178},null,{"$f":"N22","v":2222},{"$f":"COUNTIF(L124:L152,AN22)","v":0},{"$f":"AO22/(AQ4-AO20)","v":0},{"$f":"IF(AP22=0,0,(AP22*((LOG(AP22))/LOG(2))))","v":0},null,{"$f":"N22","v":2222},{"$f":"COUNTIF(L153:L181,AS22)","v":1},{"$f":"AT22/(AV4-AT20)","v":3.4482758620689655E-2},{"$f":"IF(AU22=0,0,(AU22*((LOG(AU22))/LOG(2))))","v":-0.16751658603888178}]
[12,2446,14,2451,13,2455,14,2463,null,null,0,1111,null,null,null,{"$f":"SUM(P7:P22)","v":0.99999999999999989},{"$f":"-SUM(Q7:Q22)","v":1.1354226439886173},null,null,null,null,{"$f":"SUM(V7:V22)","v":1},{"$f":"-SUM(W7:W22)","v":1.7365241034834313},null,null,null,{"$f":"SUM(AA7:AA22)","v":1},{"$f":"-SUM(AB7:AB22)","v":1.073551999173058},null,null,null,{"$f":"SUM(AF7:AF22)","v":1},{"$f":"-SUM(AG7:AG22)","v":0.83317617321957205},null,null,null,{"$f":"SUM(AK7:AK22)","v":1},{"$f":"-SUM(AL7:AL22)","v":0.21639693245126462},null,null,null,{"$f":"SUM(AP7:AP22)","v":1},{"$f":"-SUM(AQ7:AQ22)","v":0.47983202361612853},null,null,null,{"$f":"SUM(AU7:AU22)","v":0.99999999999999989},{"$f":"-SUM(AV7:AV22)","v":0.99456375315144274}]
[21,2575,21,2579,22,2584,23,2589,null,null,0,2222,null,null,null,"U=",{"$f":"Q23/(LOG(Q4)/LOG(2))","v":0.15238095216301087},null,null,null,null,"U1=",{"$f":"W23/(LOG(W4)/LOG(2))","v":0.35745798619326008},null,null,null,"U2=",{"$f":"AB23/(LOG(AB4)/LOG(2))","v":0.22098727851134095},null,null,null,"U3=",{"$f":"AG23/(LOG(AG4)/LOG(2))","v":0.16979717745597042},null,null,null,"U4=",{"$f":"AL23/(LOG(AL4)/LOG(2))","v":4.4544623099247421E-2},null,null,null,"U5=",{"$f":"AQ23/(LOG(AQ4)/LOG(2))","v":9.8771902174460441E-2},null,null,null,"U6=",{"$f":"AV23/(LOG(AV4)/LOG(2))","v":0.20472779826618595}]
[12,2730,14,2741,13,2751,14,2759,null,null,0,1111]
[21,2859,21,2876,22,2884,23,2893,null,null,0,2222]
[21,2997,21,3008,22,3016,23,3024,null,null,0,2222,null,"Total Target Seq"]
[12,3185,14,3190,13,3205,23,3216,null,null,0,1112,null,{"$f":"COUNTIF(L7:L181,G3)","v":0},null,29,29,30,29,29,29]
[12,3374,14,3378,13,3383,14,3391,null,null,0,1111,null,null,null,"% of reinforcement given in 6 equal intervals based on number of trials "]
[12,3542,14,3548,13,3553,14,3564,null,null,0,1111,null,null,null,"%_1","%_2","%_3","%_4","%_5","%_6"]
[12,3691,14,3698,13,3702,14,3710,null,null,0,1111,null,null,"target sequence",{"$f":"$G$3","v":2212},{"$f":"$G$3","v":2212},{"$f":"$G$3","v":2212},{"$f":"$G$3","v":2212},{"$f":"$G$3","v":2212},{"$f":"$G$3","v":2212}]
[12,3843,14,3848,13,3853,14,3857,null,null,0,1111,null,null,"total reinforcement",{"$f":"U20","v":0},{"$f":"Z20","v":0},{"$f":"AE20","v":0},{"$f":"AJ20","v":0},{"$f":"AO20","v":0},{"$f":"AT20","v":0}]
[12,3966,14,3970,13,3975,14,4000,null,null,0,1111,null,null,"% target"]
[21,4128,21,4137,22,4144,23,4149,null,null,0,2222,null,null,"CCRF"]
[12,4285,14,4289,13,4296,14,4304,null,null,0,1111,null,null,"% CCRf"]
[12,4430,14,4435,13,4443,14,4447,null,null,0,1111,null,null,"average response rate",{"$f":"H35/P28","v":148.41379310344828},{"$f":"(H64-H35)/Q28","v":140.86206896551724},{"$f":"(H94-H64)/R28","v":134.9},{"$f":"(H123-H94)/S28","v":127.72413793103448},{"$f":"(H152-H123)/T28","v":131.34482758620689},{"$f":"(H181-H152)/U28","v":136.82758620689654}]
[12,4579,14,4584,13,4588,14,4595,null,null,0,1111]
[12,4718,14,4723,13,4727,14,4734,null,null,0,1111]
[12,4843,14,4851,13,4855,14,4860,null,null,0,1111]
[12,4959,14,4964,13,4971,14,4975,null,null,0,1111]
[12,5112,14,5121,13,5129,14,5136,null,null,0,1111]
[21,5263,21,5273,22,5281,23,5289,null,null,0,2222]
[12,5411,14,5416,13,5421,14,5425,null,null,0,1111]
[12,5540,14,5546,13,5550,14,5555,null,null,0,1111]
[21,5660,12,5670,13,5674,14,5679,null,null,0,2111]
[12,5792,14,5796,13,5801,14,5805,null,null,0,1111]
[21,5925,21,5929,22,5934,23,5942,null,null,0,2222]
[12,6050,14,6055,13,6059,14,6064,null,null,0,1111]
[12,6193,14,6197,13,6199,14,6207,null,null,0,1111]
[12,6339,14,6343,13,6365,14,6373,null,null,0,1111]
[21,6487,21,6494,22,6498,23,6508,null,null,0,2222]
[21,6633,21,6641,22,6649,23,6658,null,null,0,2222]
[12,6763,14,6768,13,6772,14,6776,null,null,0,1111]
[12,6898,14,6902,13,6910,14,6918,null,null,0,1111]
[12,7021,14,7025,13,7029,14,7033,null,null,0,1111]
[12,7170,14,7174,13,7179,14,7187,null,null,0,1111]
[21,7302,12,7312,13,7316,14,7321,null,null,0,2111]
[12,7500,14,7504,13,7512,14,7526,null,null,0,1111]
[12,7631,14,7639,13,7643,14,7648,null,null,0,1111]
[21,7779,21,7785,22,7796,23,7812,null,null,0,2222]
[12,7922,14,7927,13,7931,14,7936,null,null,0,1111]
[12,8068,14,8075,13,8082,14,8092,null,null,0,1111]
[12,8201,14,8208,13,8212,14,8219,null,null,0,1111]
[21,8363,21,8373,22,8381,23,8389,null,null,0,2222]
[12,8495,14,8500,13,8504,14,8508,null,null,0,1111]
[12,8645,14,8649,13,8654,14,8672,null,null,0,1111]
[12,8772,23,8787,24,8791,23,8795,null,null,0,1222]
[12,8907,14,8911,13,8916,14,8920,null,null,0,1111]
[12,9029,14,9033,13,9038,14,9043,null,null,0,1111]
[12,9142,14,9147,24,9158,23,9163,null,null,0,1122]
[12,9292,14,9296,13,9307,14,9315,null,null,0,1111]
[12,9416,14,9431,13,9437,14,9449,null,null,0,1111]
[12,9579,14,9584,13,9589,14,9593,null,null,0,1111]
[12,9722,14,9727,13,9731,14,9736,null,null,0,1111]
[12,9884,14,9892,13,9896,14,9904,null,null,0,1111]
[12,10033,14,10041,13,10045,14,10050,null,null,0,1111]
[12,10163,14,10167,13,10171,14,10176,null,null,0,1111]
[12,10283,14,10288,13,10293,14,10299,null,null,0,1111]
[12,10421,14,10426,13,10430,14,10439,null,null,0,1111]
[12,10559,14,10563,13,10571,14,10577,null,null,0,1111]
[12,10710,14,10722,13,10727,14,10732,null,null,0,1111]
[12,10838,14,10842,13,10846,14,10851,null,null,0,1111]
[21,10966,21,10971,22,10979,23,10986,null,null,0,2222]
[12,11133,14,11137,13,11142,14,11150,null,null,0,1111]
[12,11249,14,11266,13,11271,14,11275,null,null,0,1111]
[12,11394,14,11403,13,11407,14,11412,null,null,0,1111]
[12,11514,14,11521,13,11525,14,11529,null,null,0,1111]
[12,11628,14,11633,13,11638,14,11643,null,null,0,1111]
[21,11757,12,11773,13,11777,14,11795,null,null,0,2111]
[12,11917,14,11922,13,11927,14,11944,null,null,0,1111]
[12,12042,14,12050,13,12054,14,12058,null,null,0,1111]
[12,12179,14,12186,13,12190,14,12198,null,null,0,1111]
[12,12305,14,12307,13,12312,14,12320,null,null,0,1111]
[12,12423,14,12428,13,12432,14,12436,null,null,0,1111]
[12,12546,14,12550,13,12554,14,12562,null,null,0,1111]
[12,12666,14,12671,13,12675,14,12680,null,null,0,1111]
[12,12805,14,12809,13,12813,14,12824,null,null,0,1111]
[12,12922,14,12927,13,12931,14,12936,null,null,0,1111]
[12,13049,14,13051,13,13057,14,13061,null,null,0,1111]
[12,13190,14,13198,13,13207,14,13216,null,null,0,1111]
[12,13321,14,13325,13,13330,14,13335,null,null,0,1111]
[12,13439,14,13443,13,13447,14,13452,null,null,0,1111]
[12,13558,14,13563,13,13569,14,13574,null,null,0,1111]
[12,13684,14,13688,13,13693,14,13697,null,null,0,1111]
[12,13804,14,13809,13,13813,14,13818,null,null,0,1111]
[12,13921,14,13925,13,13930,14,13935,null,null,0,1111]
[12,14035,14,14040,13,14044,14,14062,null,null,0,1111]
[12,14187,14,14194,13,14198,14,14203,null,null,0,1111]
[12,14319,14,14323,13,14327,14,14332,null,null,0,1111]
[12,14435,14,14440,13,14445,14,14449,null,null,0,1111]
[12,14546,14,14553,13,14557,14,14565,null,null,0,1111]
[12,14695,14,14702,13,14707,14,14712,null,null,0,1111]
[21,14863,21,14868,22,14878,23,14884,null,null,0,2222]
[12,14985,14,14989,13,14994,14,15005,null,null,0,1111]
[12,15104,14,15109,13,15113,14,15117,null,null,0,1111]
[12,15225,14,15234,13,15238,14,15242,null,null,0,1111]
[12,15346,14,15351,13,15356,14,15360,null,null,0,1111]
[12,15463,14,15479,13,15485,14,15492,null,null,0,1111]
[12,15593,14,15597,13,15602,14,15607,null,null,0,1111]
[12,15710,14,15716,13,15720,14,15724,null,null,0,1111]
[12,15825,14,15830,13,15834,14,15839,null,null,0,1111]
[12,15972,14,15981,13,16002,14,16010,null,null,0,1111]
[12,16128,14,16132,13,16136,14,16140,null,null,0,1111]
[12,16240,14,16258,13,16262,14,16278,null,null,0,1111]
[12,16387,14,16393,13,16397,14,16401,null,null,0,1111]
[12,16511,14,16517,13,16525,14,16531,null,null,0,1111]
[12,16634,14,16639,13,16643,14,16647,null,null,0,1111]
[12,16770,14,16774,13,16779,14,16794,null,null,0,1111]
[12,16910,14,16914,13,16919,14,16927,null,null,0,1111]
[12,17037,14,17047,13,17052,14,17064,null,null,0,1111]
[12,17170,14,17174,13,17188,14,17193,null,null,0,1111]
[12,17296,14,17308,13,17313,14,17319,null,null,0,1111]
[12,17452,14,17457,13,17461,14,17465,null,null,0,1111]
[12,17569,14,17573,13,17578,14,17582,null,null,0,1111]
[12,17684,14,17689,13,17693,14,17697,null,null,0,1111]
[12,17816,14,17821,13,17831,14,17839,null,null,0,1111]
[12,17939,14,17943,13,17947,14,17952,null,null,0,1111]
[12,18083,14,18087,13,18091,14,18096,null,null,0,1111]
[12,18201,14,18206,13,18211,14,18215,null,null,0,1111]
[12,18333,14,18339,13,18351,14,18358,null,null,0,1111]
[12,18462,14,18467,13,18471,14,18476,null,null,0,1111]
[12,18580,14,18596,13,18607,14,18615,null,null,0,1111]
[12,18711,23,18734,24,18738,23,18743,null,null,0,1222]
[12,18868,14,18879,13,18883,14,18892,null,null,0,1111]
[12,19014,14,19019,13,19023,14,19028,null,null,0,1111]
[12,19139,14,19148,13,19152,14,19157,null,null,0,1111]
[12,19260,23,19273,24,19282,23,19291,null,null,0,1222]
[12,19415,14,19419,13,19423,14,19431,null,null,0,1111]
[12,19526,23,19539,24,19547,23,19554,null,null,0,1222]
[12,19656,14,19668,13,19673,14,19677,null,null,0,1111]
[12,19790,14,19794,13,19798,14,19803,null,null,0,1111]
[12,19932,14,19936,13,19941,14,19949,null,null,0,1111]
[12,20055,14,20065,13,20069,14,20074,null,null,0,1111]
[12,20173,14,20186,13,20190,14,20200,null,null,0,1111]
[12,20300,14,20323,13,20327,14,20334,null,null,0,1111]
[12,20429,14,20447,13,20457,14,20462,null,null,0,1111]
[12,20576,14,20584,13,20589,14,20594,null,null,0,1111]
[12,20712,14,20717,13,20721,14,20726,null,null,0,1111]
[12,20843,14,20848,13,20856,14,20864,null,null,0,1111]
[12,21005,14,21012,13,21016,14,21025,null,null,0,1111]
[12,21147,14,21151,13,21158,14,21171,null,null,0,1111]
[12,21274,14,21285,13,21289,14,21294,null,null,0,1111]
[12,21410,14,21414,13,21422,14,21427,null,null,0,1111]
[12,21580,14,21586,13,21597,14,21613,null,null,0,1111]
[12,21731,14,21735,13,21740,14,21745,null,null,0,1111]
[12,21855,23,21868,24,21874,23,21883,null,null,0,1222]
[12,21999,14,22004,13,22023,14,22033,null,null,0,1111]
[12,22152,14,22157,13,22162,14,22170,null,null,0,1111]
[12,22277,14,22282,13,22286,14,22294,null,null,0,1111]
[12,22417,23,22444,24,22453,23,22461,null,null,0,1222]
[12,22570,14,22574,13,22579,14,22583,null,null,0,1111]
[12,22697,14,22700,13,22705,14,22709,null,null,0,1111]
[12,22820,14,22826,24,22856,23,22861,null,null,0,1122]
[12,22964,14,22993,13,22998,14,23005,null,null,0,1111]
[21,23113,12,23128,13,23140,14,23149,null,null,0,2111]
[12,23257,14,23261,13,23266,14,23270,null,null,0,1111]
[12,23371,14,23376,13,23380,14,23384,null,null,0,1111]
[21,23506,21,23520,22,23527,23,23535,null,null,0,2222]
[12,23635,14,23641,13,23647,14,23660,null,null,0,1111]
[12,23776,14,23788,13,23792,14,23797,null,null,0,1111]
[12,23905,14,23909,13,23913,14,23917,null,null,null,1111]

{"sheet":"!L825A20.053","index":30,"n_rows":174,"n_cols":48,"rows_kept":174,"cut":false,"hidden":false,"merged":[[4,39,4,42],[5,39,5,40],[4,44,4,47],[5,44,5,45],[4,24,4,27],[5,24,5,25],[4,29,4,32],[5,29,5,30],[4,34,4,37],[5,34,5,35],[1,1,1,2],[5,13,5,14],[26,13,26,14],[27,13,27,14],[4,19,4,22],[5,19,5,20]]}
["Report for:!L825A20.053"]
["Date:","<date>"]
["Hen:","<hen>",null,null,null,"Correct Sequence",{"$f":"Start!J2","v":2212},null,null,null,null,null,null,null,null,"Total Sequences in Data",{"$f":"4994-COUNTBLANK(L7:L5000)","v":168},null,null,null,null,"Total Sequences in Block Data",{"$f":"COUNTA(L7:L34)","v":28},null,null,null,"Total Sequences in Block Data",{"$f":"COUNTA(L35:L62)","v":28},null,null,null,"Total Sequences in Block Data",{"$f":"COUNTA(L63:L90)","v":28},null,null,null,"Total Sequences in Block Data",{"$f":"COUNTA(L91:L118)","v":28},null,null,null,"Total Sequences in Block Data",{"$f":"COUNTA(L119:L146)","v":28},null,null,null,"Total Sequences in Block Data",{"$f":"COUNTA(L147:L174)","v":28}]
[null,null,null,null,null,null,null,null,null,null,null,null,null,null,null,"Total Sequences in Summary",{"$f":"SUM(O7:O22)","v":168},null,null,null,null,"Total Sequences in Block Summary",{"$f":"SUM(U7:U22)","v":28},null,null,null,"Total Sequences in Block Summary",{"$f":"SUM(Z7:Z22)","v":28},null,null,null,"Total Sequences in Block Summary",{"$f":"SUM(AE7:AE22)","v":28},null,null,null,"Total Sequences in Block Summary",{"$f":"SUM(AJ7:AJ22)","v":28},null,null,null,"Total Sequences in Block Summary",{"$f":"SUM(AO7:AO22)","v":28},null,null,null,"Total Sequences in Block Summary",{"$f":"SUM(AT7:AT22)","v":28}]
[null,null,null,null,null,null,null,null,null,null,null,null,null,null,null,null,null,null,null,"Block 1",null,null,null,null,"Block 2",null,null,null,null,"Block 3",null,null,null,null,"Block 4",null,null,null,null,"Block 5",null,null,null,null,"Block 6"]
["Sequence\nComponent\n1","Time\n1","Sequence\nComponent\n2","Time\n2","Sequence\nComponent\n3","Time\n3","Sequence\nComponent\n4","Time\n4","Sequence\nComponent\n5","Time\n5","Correct?\n0=No 1=Yes","Sequence",null,"Frequency",null,"Relative Frequency","Variability",null,null,"Frequency",null,"Relative Frequency","Variability",null,"Frequency",null,"Relative Frequency","Variability",null,"Frequency",null,"Relative Frequency","Variability",null,"Frequency",null,"Relative Frequency","Variability",null,"Frequency",null,"Relative Frequency","Variability",null,"Frequency",null,"Relative Frequency","Variability"]
[21,40,21,46,22,52,23,61,null,null,0,2222,null,1111,{"$f":"COUNTIF($L$7:$L$500,N7)","v":134},{"$f":"O7/$Q$4","v":0.79761904761904767},{"$f":"IF(P7=0,0,(P7*((LOG(P7))/LOG(2))))","v":-0.26020585197031165},null,null,{"$f":"N7","v":1111},{"$f":"COUNTIF(L7:L34,T7)","v":14},{"$f":"U7/(W4-U20)","v":0.5},{"$f":"IF(V7=0,0,(V7*((LOG(V7))/LOG(2))))","v":-0.5},null,{"$f":"N7","v":1111},{"$f":"COUNTIF(L35:L62,Y7)","v":25},{"$f":"Z7/(AB4-Z20)","v":0.8928571428571429},{"$f":"IF(AA7=0,0,(AA7*((LOG(AA7))/LOG(2))))","v":-0.14598101096685656},null,{"$f":"N7","v":1111},{"$f":"COUNTIF(L63:L90,AD7)","v":22},{"$f":"AE7/(AG4-AE20)","v":0.7857142857142857},{"$f":"IF(AF7=0,0,(AF7*((LOG(AF7))/LOG(2))))","v":-0.27336830983024107},null,{"$f":"N7","v":1111},{"$f":"COUNTIF(L91:L118,AI7)","v":24},{"$f":"AJ7/(AL4-AJ20)","v":0.8571428571428571},{"$f":"IF(AK7=0,0,(AK7*((LOG(AK7))/LOG(2))))","v":-0.19062207543124113},null,{"$f":"N7","v":1111},{"$f":"COUNTIF(L119:L146,AN7)","v":22},{"$f":"AO7/(AQ4-AO20)","v":0.7857142857142857},{"$f":"IF(AP7=0,0,(AP7*((LOG(AP7))/LOG(2))))","v":-0.27336830983024107},null,{"$f":"N7","v":1111},{"$f":"COUNTIF(L147:L174,AS7)","v":27},{"$f":"AT7/(AV4-AT20)","v":0.9642857142857143},{"$f":"IF(AU7=0,0,(AU7*((LOG(AU7))/LOG(2))))","v":-5.0593583469344984E-2}]
[12,193,23,211,24,216,23,224,null,null,0,1222,null,1112,{"$f":"COUNTIF($L$7:$L$500,N8)","v":0},{"$f":"O8/$Q$4","v":0},{"$f":"IF(P8=0,0,(P8*((LOG(P8))/LOG(2))))","v":0},null,null,{"$f":"N8","v":1112},{"$f":"COUNTIF(L7:L34,T8)","v":0},{"$f":"U8/(W4-U20)","v":0},{"$f":"IF(V8=0,0,(V8*((LOG(V8))/LOG(2))))","v":0},null,{"$f":"N8","v":1112},{"$f":"COUNTIF(L35:L62,Y8)","v":0},{"$f":"Z8/(AB4-Z20)","v":0},{"$f":"IF(AA8=0,0,(AA8*((LOG(AA8))/LOG(2))))","v":0},null,{"$f":"N8","v":1112},{"$f":"COUNTIF(L63:L90,AD8)","v":0},{"$f":"AE8/(AG4-AE20)","v":0},{"$f":"IF(AF8=0,0,(AF8*((LOG(AF8))/LOG(2))))","v":0},null,{"$f":"N8","v":1112},{"$f":"COUNTIF(L91:L118,AI8)","v":0},{"$f":"AJ8/(AL4-AJ20)","v":0},{"$f":"IF(AK8=0,0,(AK8*((LOG(AK8))/LOG(2))))","v":0},null,{"$f":"N8","v":1112},{"$f":"COUNTIF(L119:L146,AN8)","v":0},{"$f":"AO8/(AQ4-AO20)","v":0},{"$f":"IF(AP8=0,0,(AP8*((LOG(AP8))/LOG(2))))","v":0},null,{"$f":"N8","v":1112},{"$f":"COUNTIF(L147:L174,AS8)","v":0},{"$f":"AT8/(AV4-AT20)","v":0},{"$f":"IF(AU8=0,0,(AU8*((LOG(AU8))/LOG(2))))","v":0}]
[12,352,23,370,24,375,23,377,null,null,0,1222,null,1121,{"$f":"COUNTIF($L$7:$L$500,N9)","v":0},{"$f":"O9/$Q$4","v":0},{"$f":"IF(P9=0,0,(P9*((LOG(P9))/LOG(2))))","v":0},null,null,{"$f":"N9","v":1121},{"$f":"COUNTIF(L7:L34,T9)","v":0},{"$f":"U9/(W4-U20)","v":0},{"$f":"IF(V9=0,0,(V9*((LOG(V9))/LOG(2))))","v":0},null,{"$f":"N9","v":1121},{"$f":"COUNTIF(L35:L62,Y9)","v":0},{"$f":"Z9/(AB4-Z20)","v":0},{"$f":"IF(AA9=0,0,(AA9*((LOG(AA9))/LOG(2))))","v":0},null,{"$f":"N9","v":1121},{"$f":"COUNTIF(L63:L90,AD9)","v":0},{"$f":"AE9/(AG4-AE20)","v":0},{"$f":"IF(AF9=0,0,(AF9*((LOG(AF9))/LOG(2))))","v":0},null,{"$f":"N9","v":1121},{"$f":"COUNTIF(L91:L118,AI9)","v":0},{"$f":"AJ9/(AL4-AJ20)","v":0},{"$f":"IF(AK9=0,0,(AK9*((LOG(AK9))/LOG(2))))","v":0},null,{"$f":"N9","v":1121},{"$f":"COUNTIF(L119:L146,AN9)","v":0},{"$f":"AO9/(AQ4-AO20)","v":0},{"$f":"IF(AP9=0,0,(AP9*((LOG(AP9))/LOG(2))))","v":0},null,{"$f":"N9","v":1121},{"$f":"COUNTIF(L147:L174,AS9)","v":0},{"$f":"AT9/(AV4-AT20)","v":0},{"$f":"IF(AU9=0,0,(AU9*((LOG(AU9))/LOG(2))))","v":0}]
[21,496,21,501,22,505,23,510,null,null,0,2222,null,1122,{"$f":"COUNTIF($L$7:$L$500,N10)","v":0},{"$f":"O10/$Q$4","v":0},{"$f":"IF(P10=0,0,(P10*((LOG(P10))/LOG(2))))","v":0},null,null,{"$f":"N10","v":1122},{"$f":"COUNTIF(L7:L34,T10)","v":0},{"$f":"U10/(W4-U20)","v":0},{"$f":"IF(V10=0,0,(V10*((LOG(V10))/LOG(2))))","v":0},null,{"$f":"N10","v":1122},{"$f":"COUNTIF(L35:L62,Y10)","v":0},{"$f":"Z10/(AB4-Z20)","v":0},{"$f":"IF(AA10=0,0,(AA10*((LOG(AA10))/LOG(2))))","v":0},null,{"$f":"N10","v":1122},{"$f":"COUNTIF(L63:L90,AD10)","v":0},{"$f":"AE10/(AG4-AE20)","v":0},{"$f":"IF(AF10=0,0,(AF10*((LOG(AF10))/LOG(2))))","v":0},null,{"$f":"N10","v":1122},{"$f":"COUNTIF(L91:L118,AI10)","v":0},{"$f":"AJ10/(AL4-AJ20)","v":0},{"$f":"IF(AK10=0,0,(AK10*((LOG(AK10))/LOG(2))))","v":0},null,{"$f":"N10","v":1122},{"$f":"COUNTIF(L119:L146,AN10)","v":0},{"$f":"AO10/(AQ4-AO20)","v":0},{"$f":"IF(AP10=0,0,(AP10*((LOG(AP10))/LOG(2))))","v":0},null,{"$f":"N10","v":1122},{"$f":"COUNTIF(L147:L174,AS10)","v":0},{"$f":"AT10/(AV4-AT20)","v":0},{"$f":"IF(AU10=0,0,(AU10*((LOG(AU10))/LOG(2))))","v":0}]
[21,637,21,641,22,649,23,657,null,null,0,2222,null,1211,{"$f":"COUNTIF($L$7:$L$500,N11)","v":1},{"$f":"O11/$Q$4","v":5.9523809523809521E-3},{"$f":"IF(P11=0,0,(P11*((LOG(P11))/LOG(2))))","v":-4.4001889421302141E-2},null,null,{"$f":"N11","v":1211},{"$f":"COUNTIF(L7:L34,T11)","v":0},{"$f":"U11/(W4-U20)","v":0},{"$f":"IF(V11=0,0,(V11*((LOG(V11))/LOG(2))))","v":0},null,{"$f":"N11","v":1211},{"$f":"COUNTIF(L35:L62,Y11)","v":0},{"$f":"Z11/(AB4-Z20)","v":0},{"$f":"IF(AA11=0,0,(AA11*((LOG(AA11))/LOG(2))))","v":0},null,{"$f":"N11","v":1211},{"$f":"COUNTIF(L63:L90,AD11)","v":0},{"$f":"AE11/(AG4-AE20)","v":0},{"$f":"IF(AF11=0,0,(AF11*((LOG(AF11))/LOG(2))))","v":0},null,{"$f":"N11","v":1211},{"$f":"COUNTIF(L91:L118,AI11)","v":0},{"$f":"AJ11/(AL4-AJ20)","v":0},{"$f":"IF(AK11=0,0,(AK11*((LOG(AK11))/LOG(2))))","v":0},null,{"$f":"N11","v":1211},{"$f":"COUNTIF(L119:L146,AN11)","v":1},{"$f":"AO11/(AQ4-AO20)","v":3.5714285714285712E-2},{"$f":"IF(AP11=0,0,(AP11*((LOG(AP11))/LOG(2))))","v":-0.17169124721634299},null,{"$f":"N11","v":1211},{"$f":"COUNTIF(L147:L174,AS11)","v":0},{"$f":"AT11/(AV4-AT20)","v":0},{"$f":"IF(AU11=0,0,(AU11*((LOG(AU11))/LOG(2))))","v":0}]
[21,828,12,841,13,845,14,853,null,null,0,2111,null,1212,{"$f":"COUNTIF($L$7:$L$500,N12)","v":0},{"$f":"O12/$Q$4","v":0},{"$f":"IF(P12=0,0,(P12*((LOG(P12))/LOG(2))))","v":0},null,null,{"$f":"N12","v":1212},{"$f":"COUNTIF(L7:L34,T12)","v":0},{"$f":"U12/(W4-U20)","v":0},{"$f":"IF(V12=0,0,(V12*((LOG(V12))/LOG(2))))","v":0},null,{"$f":"N12","v":1212},{"$f":"COUNTIF(L35:L62,Y12)","v":0},{"$f":"Z12/(AB4-Z20)","v":0},{"$f":"IF(AA12=0,0,(AA12*((LOG(AA12))/LOG(2))))","v":0},null,{"$f":"N12","v":1212},{"$f":"COUNTIF(L63:L90,AD12)","v":0},{"$f":"AE12/(AG4-AE20)","v":0},{"$f":"IF(AF12=0,0,(AF12*((LOG(AF12))/LOG(2))))","v":0},null,{"$f":"N12","v":1212},{"$f":"COUNTIF(L91:L118,AI12)","v":0},{"$f":"AJ12/(AL4-AJ20)","v":0},{"$f":"IF(AK12=0,0,(AK12*((LOG(AK12))/LOG(2))))","v":0},null,{"$f":"N12","v":1212},{"$f":"COUNTIF(L119:L146,AN12)","v":0},{"$f":"AO12/(AQ4-AO20)","v":0},{"$f":"IF(AP12=0,0,(AP12*((LOG(AP12))/LOG(2))))","v":0},null,{"$f":"N12","v":1212},{"$f":"COUNTIF(L147:L174,AS12)","v":0},{"$f":"AT12/(AV4-AT20)","v":0},{"$f":"IF(AU12=0,0,(AU12*((LOG(AU12))/LOG(2))))","v":0}]
[21,1004,21,1008,22,1013,23,1017,null,null,0,2222,null,1221,{"$f":"COUNTIF($L$7:$L$500,N13)","v":0},{"$f":"O13/$Q$4","v":0},{"$f":"IF(P13=0,0,(P13*((LOG(P13))/LOG(2))))","v":0},null,null,{"$f":"N13","v":1221},{"$f":"COUNTIF(L7:L34,T13)","v":0},{"$f":"U13/(W4-U20)","v":0},{"$f":"IF(V13=0,0,(V13*((LOG(V13))/LOG(2))))","v":0},null,{"$f":"N13","v":1221},{"$f":"COUNTIF(L35:L62,Y13)","v":0},{"$f":"Z13/(AB4-Z20)","v":0},{"$f":"IF(AA13=0,0,(AA13*((LOG(AA13))/LOG(2))))","v":0},null,{"$f":"N13","v":1221},{"$f":"COUNTIF(L63:L90,AD13)","v":0},{"$f":"AE13/(AG4-AE20)","v":0},{"$f":"IF(AF13=0,0,(AF13*((LOG(AF13))/LOG(2))))","v":0},null,{"$f":"N13","v":1221},{"$f":"COUNTIF(L91:L118,AI13)","v":0},{"$f":"AJ13/(AL4-AJ20)","v":0},{"$f":"IF(AK13=0,0,(AK13*((LOG(AK13))/LOG(2))))","v":0},null,{"$f":"N13","v":1221},{"$f":"COUNTIF(L119:L146,AN13)","v":0},{"$f":"AO13/(AQ4-AO20)","v":0},{"$f":"IF(AP13=0,0,(AP13*((LOG(AP13))/LOG(2))))","v":0},null,{"$f":"N13","v":1221},{"$f":"COUNTIF(L147:L174,AS13)","v":0},{"$f":"AT13/(AV4-AT20)","v":0},{"$f":"IF(AU13=0,0,(AU13*((LOG(AU13))/LOG(2))))","v":0}]
[12,1121,23,1171,24,1191,23,1199,null,null,0,1222,null,1222,{"$f":"COUNTIF($L$7:$L$500,N14)","v":7},{"$f":"O14/$Q$4","v":4.1666666666666664E-2},{"$f":"IF(P14=0,0,(P14*((LOG(P14))/LOG(2))))","v":-0.19104010419671485},null,null,{"$f":"N14","v":1222},{"$f":"COUNTIF(L7:L34,T14)","v":4},{"$f":"U14/(W4-U20)","v":0.14285714285714285},{"$f":"IF(V14=0,0,(V14*((LOG(V14))/LOG(2))))","v":-0.40105070315108626},null,{"$f":"N14","v":1222},{"$f":"COUNTIF(L35:L62,Y14)","v":0},{"$f":"Z14/(AB4-Z20)","v":0},{"$f":"IF(AA14=0,0,(AA14*((LOG(AA14))/LOG(2))))","v":0},null,{"$f":"N14","v":1222},{"$f":"COUNTIF(L63:L90,AD14)","v":3},{"$f":"AE14/(AG4-AE20)","v":0.10714285714285714},{"$f":"IF(AF14=0,0,(AF14*((LOG(AF14))/LOG(2))))","v":-0.34525633085747659},null,{"$f":"N14","v":1222},{"$f":"COUNTIF(L91:L118,AI14)","v":0},{"$f":"AJ14/(AL4-AJ20)","v":0},{"$f":"IF(AK14=0,0,(AK14*((LOG(AK14))/LOG(2))))","v":0},null,{"$f":"N14","v":1222},{"$f":"COUNTIF(L119:L146,AN14)","v":0},{"$f":"AO14/(AQ4-AO20)","v":0},{"$f":"IF(AP14=0,0,(AP14*((LOG(AP14))/LOG(2))))","v":0},null,{"$f":"N14","v":1222},{"$f":"COUNTIF(L147:L174,AS14)","v":0},{"$f":"AT14/(AV4-AT20)","v":0},{"$f":"IF(AU14=0,0,(AU14*((LOG(AU14))/LOG(2))))","v":0}]
[12,1319,14,1324,13,1328,14,1336,null,null,0,1111,null,2111,{"$f":"COUNTIF($L$7:$L$500,N15)","v":10},{"$f":"O15/$Q$4","v":5.9523809523809521E-2},{"$f":"IF(P15=0,0,(P15*((LOG(P15))/LOG(2))))","v":-0.24228507904115462},null,null,{"$f":"N15","v":2111},{"$f":"COUNTIF(L7:L34,T15)","v":2},{"$f":"U15/(W4-U20)","v":7.1428571428571425E-2},{"$f":"IF(V15=0,0,(V15*((LOG(V15))/LOG(2))))","v":-0.27195392300411453},null,{"$f":"N15","v":2111},{"$f":"COUNTIF(L35:L62,Y15)","v":1},{"$f":"Z15/(AB4-Z20)","v":3.5714285714285712E-2},{"$f":"IF(AA15=0,0,(AA15*((LOG(AA15))/LOG(2))))","v":-0.17169124721634299},null,{"$f":"N15","v":2111},{"$f":"COUNTIF(L63:L90,AD15)","v":1},{"$f":"AE15/(AG4-AE20)","v":3.5714285714285712E-2},{"$f":"IF(AF15=0,0,(AF15*((LOG(AF15))/LOG(2))))","v":-0.17169124721634299},null,{"$f":"N15","v":2111},{"$f":"COUNTIF(L91:L118,AI15)","v":2},{"$f":"AJ15/(AL4-AJ20)","v":7.1428571428571425E-2},{"$f":"IF(AK15=0,0,(AK15*((LOG(AK15))/LOG(2))))","v":-0.27195392300411453},null,{"$f":"N15","v":2111},{"$f":"COUNTIF(L119:L146,AN15)","v":4},{"$f":"AO15/(AQ4-AO20)","v":0.14285714285714285},{"$f":"IF(AP15=0,0,(AP15*((LOG(AP15))/LOG(2))))","v":-0.40105070315108626},null,{"$f":"N15","v":2111},{"$f":"COUNTIF(L147:L174,AS15)","v":0},{"$f":"AT15/(AV4-AT20)","v":0},{"$f":"IF(AU15=0,0,(AU15*((LOG(AU15))/LOG(2))))","v":0}]
[21,1471,21,1475,22,1479,23,1486,null,null,0,2222,null,2112,{"$f":"COUNTIF($L$7:$L$500,N16)","v":0},{"$f":"O16/$Q$4","v":0},{"$f":"IF(P16=0,0,(P16*((LOG(P16))/LOG(2))))","v":0},null,null,{"$f":"N16","v":2112},{"$f":"COUNTIF(L7:L34,T16)","v":0},{"$f":"U16/(W4-U20)","v":0},{"$f":"IF(V16=0,0,(V16*((LOG(V16))/LOG(2))))","v":0},null,{"$f":"N16","v":2112},{"$f":"COUNTIF(L35:L62,Y16)","v":0},{"$f":"Z16/(AB4-Z20)","v":0},{"$f":"IF(AA16=0,0,(AA16*((LOG(AA16))/LOG(2))))","v":0},null,{"$f":"N16","v":2112},{"$f":"COUNTIF(L63:L90,AD16)","v":0},{"$f":"AE16/(AG4-AE20)","v":0},{"$f":"IF(AF16=0,0,(AF16*((LOG(AF16))/LOG(2))))","v":0},null,{"$f":"N16","v":2112},{"$f":"COUNTIF(L91:L118,AI16)","v":0},{"$f":"AJ16/(AL4-AJ20)","v":0},{"$f":"IF(AK16=0,0,(AK16*((LOG(AK16))/LOG(2))))","v":0},null,{"$f":"N16","v":2112},{"$f":"COUNTIF(L119:L146,AN16)","v":0},{"$f":"AO16/(AQ4-AO20)","v":0},{"$f":"IF(AP16=0,0,(AP16*((LOG(AP16))/LOG(2))))","v":0},null,{"$f":"N16","v":2112},{"$f":"COUNTIF(L147:L174,AS16)","v":0},{"$f":"AT16/(AV4-AT20)","v":0},{"$f":"IF(AU16=0,0,(AU16*((LOG(AU16))/LOG(2))))","v":0}]
[12,1626,14,1630,13,1653,14,1661,null,null,0,1111,null,2121,{"$f":"COUNTIF($L$7:$L$500,N17)","v":0},{"$f":"O17/$Q$4","v":0},{"$f":"IF(P17=0,0,(P17*((LOG(P17))/LOG(2))))","v":0},null,null,{"$f":"N17","v":2121},{"$f":"COUNTIF(L7:L34,T17)","v":0},{"$f":"U17/(W4-U20)","v":0},{"$f":"IF(V17=0,0,(V17*((LOG(V17))/LOG(2))))","v":0},null,{"$f":"N17","v":2121},{"$f":"COUNTIF(L35:L62,Y17)","v":0},{"$f":"Z17/(AB4-Z20)","v":0},{"$f":"IF(AA17=0,0,(AA17*((LOG(AA17))/LOG(2))))","v":0},null,{"$f":"N17","v":2121},{"$f":"COUNTIF(L63:L90,AD17)","v":0},{"$f":"AE17/(AG4-AE20)","v":0},{"$f":"IF(AF17=0,0,(AF17*((LOG(AF17))/LOG(2))))","v":0},null,{"$f":"N17","v":2121},{"$f":"COUNTIF(L91:L118,AI17)","v":0},{"$f":"AJ17/(AL4-AJ20)","v":0},{"$f":"IF(AK17=0,0,(AK17*((LOG(AK17))/LOG(2))))","v":0},null,{"$f":"N17","v":2121},{"$f":"COUNTIF(L119:L146,AN17)","v":0},{"$f":"AO17/(AQ4-AO20)","v":0},{"$f":"IF(AP17=0,0,(AP17*((LOG(AP17))/LOG(2))))","v":0},null,{"$f":"N17","v":2121},{"$f":"COUNTIF(L147:L174,AS17)","v":0},{"$f":"AT17/(AV4-AT20)","v":0},{"$f":"IF(AU17=0,0,(AU17*((LOG(AU17))/LOG(2))))","v":0}]
[12,1884,14,1888,13,1893,14,1901,null,null,0,1111,null,2122,{"$f":"COUNTIF($L$7:$L$500,N18)","v":0},{"$f":"O18/$Q$4","v":0},{"$f":"IF(P18=0,0,(P18*((LOG(P18))/LOG(2))))","v":0},null,null,{"$f":"N18","v":2122},{"$f":"COUNTIF(L7:L34,T18)","v":0},{"$f":"U18/(W4-U20)","v":0},{"$f":"IF(V18=0,0,(V18*((LOG(V18))/LOG(2))))","v":0},null,{"$f":"N18","v":2122},{"$f":"COUNTIF(L35:L62,Y18)","v":0},{"$f":"Z18/(AB4-Z20)","v":0},{"$f":"IF(AA18=0,0,(AA18*((LOG(AA18))/LOG(2))))","v":0},null,{"$f":"N18","v":2122},{"$f":"COUNTIF(L63:L90,AD18)","v":0},{"$f":"AE18/(AG4-AE20)","v":0},{"$f":"IF(AF18=0,0,(AF18*((LOG(AF18))/LOG(2))))","v":0},null,{"$f":"N18","v":2122},{"$f":"COUNTIF(L91:L118,AI18)","v":0},{"$f":"AJ18/(AL4-AJ20)","v":0},{"$f":"IF(AK18=0,0,(AK18*((LOG(AK18))/LOG(2))))","v":0},null,{"$f":"N18","v":2122},{"$f":"COUNTIF(L119:L146,AN18)","v":0},{"$f":"AO18/(AQ4-AO20)","v":0},{"$f":"IF(AP18=0,0,(AP18*((LOG(AP18))/LOG(2))))","v":0},null,{"$f":"N18","v":2122},{"$f":"COUNTIF(L147:L174,AS18)","v":0},{"$f":"AT18/(AV4-AT20)","v":0},{"$f":"IF(AU18=0,0,(AU18*((LOG(AU18))/LOG(2))))","v":0}]
[12,2061,14,2070,13,2079,14,2086,null,null,0,1111,null,2211,{"$f":"COUNTIF($L$7:$L$500,N19)","v":1},{"$f":"O19/$Q$4","v":5.9523809523809521E-3},{"$f":"IF(P19=0,0,(P19*((LOG(P19))/LOG(2))))","v":-4.4001889421302141E-2},null,null,{"$f":"N19","v":2211},{"$f":"COUNTIF(L7:L34,T19)","v":0},{"$f":"U19/(W4-U20)","v":0},{"$f":"IF(V19=0,0,(V19*((LOG(V19))/LOG(2))))","v":0},null,{"$f":"N19","v":2211},{"$f":"COUNTIF(L35:L62,Y19)","v":0},{"$f":"Z19/(AB4-Z20)","v":0},{"$f":"IF(AA19=0,0,(AA19*((LOG(AA19))/LOG(2))))","v":0},null,{"$f":"N19","v":2211},{"$f":"COUNTIF(L63:L90,AD19)","v":1},{"$f":"AE19/(AG4-AE20)","v":3.5714285714285712E-2},{"$f":"IF(AF19=0,0,(AF19*((LOG(AF19))/LOG(2))))","v":-0.17169124721634299},null,{"$f":"N19","v":2211},{"$f":"COUNTIF(L91:L118,AI19)","v":0},{"$f":"AJ19/(AL4-AJ20)","v":0},{"$f":"IF(AK19=0,0,(AK19*((LOG(AK19))/LOG(2))))","v":0},null,{"$f":"N19","v":2211},{"$f":"COUNTIF(L119:L146,AN19)","v":0},{"$f":"AO19/(AQ4-AO20)","v":0},{"$f":"IF(AP19=0,0,(AP19*((LOG(AP19))/LOG(2))))","v":0},null,{"$f":"N19","v":2211},{"$f":"COUNTIF(L147:L174,AS19)","v":0},{"$f":"AT19/(AV4-AT20)","v":0},{"$f":"IF(AU19=0,0,(AU19*((LOG(AU19))/LOG(2))))","v":0}]
[21,2266,21,2271,22,2276,23,2281,null,null,0,2222,null,2212,{"$f":"COUNTIF($L$7:$L$500,N20)","v":0},{"$f":"O20/$Q$4","v":0},{"$f":"IF(P20=0,0,(P20*((LOG(P20))/LOG(2))))","v":0},null,null,{"$f":"N20","v":2212},{"$f":"COUNTIF(L7:L34,T20)","v":0},null,null,null,{"$f":"N20","v":2212},{"$f":"COUNTIF(L35:L62,Y20)","v":0},null,null,null,{"$f":"N20","v":2212},{"$f":"COUNTIF(L63:L90,AD20)","v":0},null,null,null,{"$f":"N20","v":2212},{"$f":"COUNTIF(L91:L118,AI20)","v":0},null,null,null,{"$f":"N20","v":2212},{"$f":"COUNTIF(L119:L146,AN20)","v":0},null,null,null,{"$f":"N20","v":2212},{"$f":"COUNTIF(L147:L174,AS20)","v":0}]
[21,2420,21,2424,22,2431,23,2436,null,null,0,2222,null,2221,{"$f":"COUNTIF($L$7:$L$500,N21)","v":0},{"$f":"O21/$Q$4","v":0},{"$f":"IF(P21=0,0,(P21*((LOG(P21))/LOG(2))))","v":0},null,null,{"$f":"N21","v":2221},{"$f":"COUNTIF(L7:L34,T21)","v":0},{"$f":"U21/(W4-U20)","v":0},{"$f":"IF(V21=0,0,(V21*((LOG(V21))/LOG(2))))","v":0},null,{"$f":"N21","v":2221},{"$f":"COUNTIF(L35:L62,Y21)","v":0},{"$f":"Z21/(AB4-Z20)","v":0},{"$f":"IF(AA21=0,0,(AA21*((LOG(AA21))/LOG(2))))","v":0},null,{"$f":"N21","v":2221},{"$f":"COUNTIF(L63:L90,AD21)","v":0},{"$f":"AE21/(AG4-AE20)","v":0},{"$f":"IF(AF21=0,0,(AF21*((LOG(AF21))/LOG(2))))","v":0},null,{"$f":"N21","v":2221},{"$f":"COUNTIF(L91:L118,AI21)","v":0},{"$f":"AJ21/(AL4-AJ20)","v":0},{"$f":"IF(AK21=0,0,(AK21*((LOG(AK21))/LOG(2))))","v":0},null,{"$f":"N21","v":2221},{"$f":"COUNTIF(L119:L146,AN21)","v":0},{"$f":"AO21/(AQ4-AO20)","v":0},{"$f":"IF(AP21=0,0,(AP21*((LOG(AP21))/LOG(2))))","v":0},null,{"$f":"N21","v":2221},{"$f":"COUNTIF(L147:L174,AS21)","v":0},{"$f":"AT21/(AV4-AT20)","v":0},{"$f":"IF(AU21=0,0,(AU21*((LOG(AU21))/LOG(2))))","v":0}]
[12,2546,14,2550,13,2555,14,2566,null,null,0,1111,null,2222,{"$f":"COUNTIF($L$7:$L$500,N22)","v":15},{"$f":"O22/$Q$4","v":8.9285714285714288E-2},{"$f":"IF(P22=0,0,(P22*((LOG(P22))/LOG(2))))","v":-0.31119882385448588},null,null,{"$f":"N22","v":2222},{"$f":"COUNTIF(L7:L34,T22)","v":8},{"$f":"U22/(W4-U20)","v":0.2857142857142857},{"$f":"IF(V22=0,0,(V22*((LOG(V22))/LOG(2))))","v":-0.51638712058788683},null,{"$f":"N22","v":2222},{"$f":"COUNTIF(L35:L62,Y22)","v":2},{"$f":"Z22/(AB4-Z20)","v":7.1428571428571425E-2},{"$f":"IF(AA22=0,0,(AA22*((LOG(AA22))/LOG(2))))","v":-0.27195392300411453},null,{"$f":"N22","v":2222},{"$f":"COUNTIF(L63:L90,AD22)","v":1},{"$f":"AE22/(AG4-AE20)","v":3.5714285714285712E-2},{"$f":"IF(AF22=0,0,(AF22*((LOG(AF22))/LOG(2))))","v":-0.17169124721634299},null,{"$f":"N22","v":2222},{"$f":"COUNTIF(L91:L118,AI22)","v":2},{"$f":"AJ22/(AL4-AJ20)","v":7.1428571428571425E-2},{"$f":"IF(AK22=0,0,(AK22*((LOG(AK22))/LOG(2))))","v":-0.27195392300411453},null,{"$f":"N22","v":2222},{"$f":"COUNTIF(L119:L146,AN22)","v":1},{"$f":"AO22/(AQ4-AO20)","v":3.5714285714285712E-2},{"$f":"IF(AP22=0,0,(AP22*((LOG(AP22))/LOG(2))))","v":-0.17169124721634299},null,{"$f":"N22","v":2222},{"$f":"COUNTIF(L147:L174,AS22)","v":1},{"$f":"AT22/(AV4-AT20)","v":3.5714285714285712E-2},{"$f":"IF(AU22=0,0,(AU22*((LOG(AU22))/LOG(2))))","v":-0.17169124721634299}]
[12,2700,23,2717,24,2722,23,2726,null,null,0,1222,null,null,null,{"$f":"SUM(P7:P22)","v":1},{"$f":"-SUM(Q7:Q22)","v":1.0927336379052712},null,null,null,null,{"$f":"SUM(V7:V22)","v":0.99999999999999989},{"$f":"-SUM(W7:W22)","v":1.6893917467430875},null,null,null,{"$f":"SUM(AA7:AA22)","v":1},{"$f":"-SUM(AB7:AB22)","v":0.58962618118731402},null,null,null,{"$f":"SUM(AF7:AF22)","v":0.99999999999999989},{"$f":"-SUM(AG7:AG22)","v":1.1336983823367466},null,null,null,{"$f":"SUM(AK7:AK22)","v":0.99999999999999989},{"$f":"-SUM(AL7:AL22)","v":0.73452992143947027},null,null,null,{"$f":"SUM(AP7:AP22)","v":0.99999999999999989},{"$f":"-SUM(AQ7:AQ22)","v":1.0178015074140134},null,null,null,{"$f":"SUM(AU7:AU22)","v":1},{"$f":"-SUM(AV7:AV22)","v":0.22228483068568797}]
[12,2863,14,2871,13,2882,14,2898,null,null,0,1111,null,null,null,"U=",{"$f":"Q23/(LOG(Q4)/LOG(2))","v":0.14782017267523051},null,null,null,null,"U1=",{"$f":"W23/(LOG(W4)/LOG(2))","v":0.35141814451677894},null,null,null,"U2=",{"$f":"AB23/(LOG(AB4)/LOG(2))","v":0.1226508528592158},null,null,null,"U3=",{"$f":"AG23/(LOG(AG4)/LOG(2))","v":0.23582581288828797},null,null,null,"U4=",{"$f":"AL23/(LOG(AL4)/LOG(2))","v":0.15279294608958952},null,null,null,"U5=",{"$f":"AQ23/(LOG(AQ4)/LOG(2))","v":0.21171757107927089},null,null,null,"U6=",{"$f":"AV23/(LOG(AV4)/LOG(2))","v":4.623848962467441E-2}]
[12,3054,14,3062,13,3069,14,3076,null,null,0,1111]
[21,3281,21,3288,22,3296,23,3304,null,null,0,2222]
[21,3469,12,3485,13,3493,14,3509,null,null,0,2111,null,"Total Target Seq"]
[12,3696,14,3703,13,3712,14,3720,null,null,0,1111,null,{"$f":"COUNTIF(L7:L174,G3)","v":0},null,28,28,28,28,28,28]
[12,3830,14,3834,13,3838,14,3845,null,null,0,1111,null,null,null,"% of reinforcement given in 6 equal intervals based on number of trials "]
[12,3977,14,3981,13,3986,14,3994,null,null,0,1111,null,null,null,"%_1","%_2","%_3","%_4","%_5","%_6"]
[12,4188,14,4196,13,4202,14,4225,null,null,0,1111,null,null,"target sequence",{"$f":"$G$3","v":2212},{"$f":"$G$3","v":2212},{"$f":"$G$3","v":2212},{"$f":"$G$3","v":2212},{"$f":"$G$3","v":2212},{"$f":"$G$3","v":2212}]
[12,4338,14,4357,13,4361,14,4369,null,null,0,1111,null,null,"total reinforcement",{"$f":"U20","v":0},{"$f":"Z20","v":0},{"$f":"AE20","v":0},{"$f":"AJ20","v":0},{"$f":"AO20","v":0},{"$f":"AT20","v":0}]
[12,4468,14,4473,13,4481,14,4489,null,null,0,1111,null,null,"% target"]
[12,4599,14,4603,13,4607,14,4611,null,null,0,1111,null,null,"CCRF"]
[12,4724,14,4728,13,4732,14,4736,null,null,0,1111,null,null,"% CCRf"]
[12,4863,14,4875,13,4883,14,4887,null,null,0,1111,null,null,"average response rate",{"$f":"H34/P28","v":164.67857142857142},{"$f":"(H62-H34)/Q28","v":141.64285714285714},{"$f":"(H90-H62)/R28","v":138.82142857142858},{"$f":"(H118-H90)/S28","v":136.21428571428572},{"$f":"(H146-H118)/T28","v":135.39285714285714},{"$f":"(H174-H146)/U28","v":137.25}]
[21,5018,12,5035,13,5039,14,5043,null,null,0,2111]
[12,5175,14,5179,13,5183,14,5189,null,null,0,1111]
[12,5311,14,5316,13,5320,14,5324,null,null,0,1111]
[12,5442,14,5446,13,5450,14,5454,null,null,0,1111]
[12,5573,14,5578,13,5582,14,5586,null,null,0,1111]
[12,5706,14,5711,13,5715,14,5719,null,null,0,1111]
[21,5843,21,5851,22,5855,23,5860,null,null,0,2222]
[12,5966,14,5971,13,5975,14,5982,null,null,0,1111]
[12,6096,14,6104,13,6108,14,6113,null,null,0,1111]
[12,6217,14,6224,13,6233,14,6241,null,null,0,1111]
[12,6358,14,6363,13,6368,14,6373,null,null,0,1111]
[12,6506,14,6510,13,6515,14,6519,null,null,0,1111]
[12,6636,14,6641,13,6645,14,6649,null,null,0,1111]
[12,6765,14,6769,13,6775,14,6787,null,null,0,1111]
[12,6915,14,6919,13,6947,14,6960,null,null,0,1111]
[12,7104,14,7109,13,7114,14,7118,null,null,0,1111]
[12,7224,14,7229,13,7233,14,7237,null,null,0,1111]
[21,7399,21,7403,22,7407,23,7411,null,null,0,2222]
[12,7567,14,7572,13,7579,14,7590,null,null,0,1111]
[12,7695,14,7703,13,7707,14,7712,null,null,0,1111]
[12,7814,14,7818,13,7828,14,7840,null,null,0,1111]
[12,7989,14,7994,13,7998,14,8006,null,null,0,1111]
[12,8143,14,8150,13,8158,14,8166,null,null,0,1111]
[12,8283,14,8287,13,8291,14,8295,null,null,0,1111]
[12,8420,14,8428,13,8436,14,8441,null,null,0,1111]
[12,8544,14,8560,13,8568,14,8577,null,null,0,1111]
[12,8687,14,8699,13,8707,14,8711,null,null,0,1111]
[12,8815,23,8833,24,8838,23,8842,null,null,0,1222]
[12,8960,14,8965,13,8970,14,8974,null,null,0,1111]
[12,9075,14,9092,13,9107,14,9115,null,null,0,1111]
[12,9236,14,9245,13,9250,14,9261,null,null,0,1111]
[12,9366,14,9371,13,9376,14,9381,null,null,0,1111]
[12,9492,14,9504,13,9509,14,9513,null,null,0,1111]
[12,9629,14,9633,13,9637,14,9641,null,null,0,1111]
[12,9748,23,9781,24,9789,23,9794,null,null,0,1222]
[12,9904,14,9912,13,9919,14,9926,null,null,0,1111]
[12,10057,23,10070,24,10075,23,10083,null,null,0,1222]
[12,10206,14,10211,13,10215,14,10219,null,null,0,1111]
[12,10339,14,10341,13,10345,14,10354,null,null,0,1111]
[12,10468,14,10479,13,10485,14,10491,null,null,0,1111]
[12,10604,14,10608,13,10612,14,10617,null,null,0,1111]
[12,10774,14,10788,13,10793,14,10799,null,null,0,1111]
[12,10912,14,10920,13,10929,14,10937,null,null,0,1111]
[12,11039,14,11043,13,11047,14,11051,null,null,0,1111]
[21,11181,12,11195,13,11200,14,11208,null,null,0,2111]
[21,11324,21,11325,11,11338,12,11343,null,null,0,2211]
[12,11452,14,11456,13,11460,14,11469,null,null,0,1111]
[12,11599,14,11604,13,11608,14,11612,null,null,0,1111]
[12,11726,14,11728,13,11740,14,11756,null,null,0,1111]
[12,11858,14,11865,13,11869,14,11873,null,null,0,1111]
[12,11998,14,12002,13,12010,14,12018,null,null,0,1111]
[12,12141,14,12148,13,12155,14,12160,null,null,0,1111]
[21,12308,21,12318,22,12325,23,12331,null,null,0,2222]
[12,12438,14,12442,13,12449,14,12464,null,null,0,1111]
[12,12569,14,12578,13,12583,14,12587,null,null,0,1111]
[21,12708,12,12718,13,12722,14,12726,null,null,0,2111]
[12,12830,14,12835,13,12840,14,12845,null,null,0,1111]
[12,12964,14,12969,13,12974,14,12988,null,null,0,1111]
[12,13134,14,13148,13,13152,14,13164,null,null,0,1111]
[12,13264,14,13271,13,13275,14,13279,null,null,0,1111]
[12,13382,14,13395,13,13400,14,13404,null,null,0,1111]
[12,13525,14,13530,13,13534,14,13538,null,null,0,1111]
[12,13661,14,13666,13,13671,14,13675,null,null,0,1111]
[12,13808,14,13815,13,13826,14,13833,null,null,0,1111]
[12,13949,14,13953,13,13960,14,13964,null,null,0,1111]
[12,14064,14,14073,13,14077,14,14081,null,null,0,1111]
[21,14206,12,14220,13,14224,14,14231,null,null,0,2111]
[12,14370,14,14375,13,14379,14,14383,null,null,0,1111]
[12,14488,14,14502,13,14507,14,14517,null,null,0,1111]
[12,14677,14,14681,13,14692,14,14697,null,null,0,1111]
[12,14805,14,14810,13,14814,14,14818,null,null,0,1111]
[12,14962,14,14967,13,14971,14,14975,null,null,0,1111]
[21,15103,21,15109,22,15118,23,15127,null,null,0,2222]
[12,15238,14,15242,13,15246,14,15251,null,null,0,1111]
[12,15367,14,15375,13,15379,14,15383,null,null,0,1111]
[21,15487,21,15494,22,15502,23,15509,null,null,0,2222]
[12,15636,14,15640,13,15644,14,15649,null,null,0,1111]
[12,15763,14,15773,13,15777,14,15781,null,null,0,1111]
[12,15894,14,15896,13,15900,14,15905,null,null,0,1111]
[12,16017,14,16021,13,16026,14,16030,null,null,0,1111]
[12,16139,14,16144,13,16148,14,16152,null,null,0,1111]
[12,16258,14,16262,13,16273,14,16278,null,null,0,1111]
[12,16393,14,16397,13,16404,14,16409,null,null,0,1111]
[12,16547,14,16553,13,16567,14,16574,null,null,0,1111]
[12,16699,14,16703,13,16709,14,16713,null,null,0,1111]
[21,16839,12,16847,13,16854,14,16861,null,null,0,2111]
[12,16956,14,16971,13,16975,14,16979,null,null,0,1111]
[12,17094,14,17099,13,17102,14,17107,null,null,0,1111]
[12,17207,14,17212,13,17220,14,17225,null,null,0,1111]
[12,17328,14,17339,13,17344,14,17348,null,null,0,1111]
[12,17490,14,17497,13,17504,14,17511,null,null,0,1111]
[12,17614,14,17622,13,17629,14,17636,null,null,0,1111]
[12,17756,14,17761,13,17768,14,17775,null,null,0,1111]
[12,17885,14,17892,13,17900,14,17904,null,null,0,1111]
[12,18007,14,18018,13,18025,14,18029,null,null,0,1111]
[12,18138,14,18143,13,18147,14,18151,null,null,0,1111]
[21,18268,12,18282,13,18290,14,18294,null,null,0,2111]
[12,18420,14,18424,13,18429,14,18433,null,null,0,1111]
[21,18536,12,18547,13,18554,14,18562,null,null,0,2111]
[12,18673,14,18682,13,18686,14,18691,null,null,0,1111]
[12,18794,23,18810,13,18821,14,18828,null,null,0,1211]
[21,18947,21,18956,22,18963,23,18971,null,null,0,2222]
[12,19101,14,19105,13,19114,14,19120,null,null,0,1111]
[12,19256,14,19260,13,19264,14,19272,null,null,0,1111]
[12,19382,14,19390,13,19393,14,19397,null,null,0,1111]
[12,19500,14,19504,13,19509,14,19513,null,null,0,1111]
[21,19623,12,19640,13,19644,14,19652,null,null,0,2111]
[12,19754,14,19762,13,19778,14,19785,null,null,0,1111]
[12,19907,14,19913,13,19918,14,19926,null,null,0,1111]
[12,20049,14,20060,13,20064,14,20069,null,null,0,1111]
[12,20190,14,20195,13,20199,14,20212,null,null,0,1111]
[12,20338,14,20343,13,20347,14,20354,null,null,0,1111]
[12,20466,14,20480,13,20484,14,20493,null,null,0,1111]
[12,20611,14,20636,13,20643,14,20651,null,null,0,1111]
[12,20759,14,20775,13,20779,14,20783,null,null,0,1111]
[12,20887,14,20891,13,20899,14,20904,null,null,0,1111]
[12,21013,14,21016,13,21020,14,21025,null,null,0,1111]
[12,21165,14,21173,13,21178,14,21181,null,null,0,1111]
[12,21297,14,21301,13,21305,14,21309,null,null,0,1111]
[12,21415,14,21433,13,21437,14,21448,null,null,0,1111]
[12,21565,14,21569,13,21574,14,21582,null,null,0,1111]
[12,21688,14,21698,13,21702,14,21706,null,null,0,1111]
[12,21836,14,21843,13,21850,14,21857,null,null,0,1111]
[12,21975,14,21987,13,21995,14,22002,null,null,0,1111]
[12,22117,14,22125,13,22129,14,22134,null,null,0,1111]
[12,22239,14,22252,13,22256,14,22264,null,null,0,1111]
[12,22373,14,22379,13,22386,14,22394,null,null,0,1111]
[12,22533,14,22544,13,22548,14,22553,null,null,0,1111]
[12,22680,14,22685,13,22692,14,22697,null,null,0,1111]
[12,22796,14,22803,13,22814,14,22818,null,null,0,1111]
[12,22919,14,22935,13,22939,14,22948,null,null,0,1111]
[21,23066,21,23082,22,23089,23,23097,null,null,0,2222]
[12,23214,14,23223,13,23230,14,23245,null,null,0,1111]
[12,23359,14,23363,13,23366,14,23374,null,null,0,1111]
[12,23473,14,23478,13,23486,14,23490,null,null,0,1111]
[12,23619,14,23633,13,23638,14,23647,null,null,0,1111]
[12,23767,14,23778,13,23786,14,23791,null,null,0,1111]
[12,23898,14,23903,13,23907,14,23912,null,null,null,1111]

{"sheet":"!L826850.053","index":31,"n_rows":179,"n_cols":48,"rows_kept":179,"cut":false,"hidden":false,"merged":[[4,39,4,42],[5,39,5,40],[4,44,4,47],[5,44,5,45],[4,24,4,27],[5,24,5,25],[4,29,4,32],[5,29,5,30],[4,34,4,37],[5,34,5,35],[1,1,1,2],[5,13,5,14],[26,13,26,14],[27,13,27,14],[4,19,4,22],[5,19,5,20]]}
["Report for:!L826850.053"]
["Date:","<date>"]
["Hen:","<hen>",null,null,null,"Correct Sequence",{"$f":"Start!J2","v":2212},null,null,null,null,null,null,null,null,"Total Sequences in Data",{"$f":"4994-COUNTBLANK(L7:L5000)","v":173},null,null,null,null,"Total Sequences in Block Data",{"$f":"COUNTA(L7:L35)","v":29},null,null,null,"Total Sequences in Block Data",{"$f":"COUNTA(L36:L64)","v":29},null,null,null,"Total Sequences in Block Data",{"$f":"COUNTA(L65:L92)","v":28},null,null,null,"Total Sequences in Block Data",{"$f":"COUNTA(L93:L121)","v":29},null,null,null,"Total Sequences in Block Data",{"$f":"COUNTA(L122:L150)","v":29},null,null,null,"Total Sequences in Block Data",{"$f":"COUNTA(L151:L179)","v":29}]
[null,null,null,null,null,null,null,null,null,null,null,null,null,null,null,"Total Sequences in Summary",{"$f":"SUM(O7:O22)","v":173},null,null,null,null,"Total Sequences in Block Summary",{"$f":"SUM(U7:U22)","v":29},null,null,null,"Total Sequences in Block Summary",{"$f":"SUM(Z7:Z22)","v":29},null,null,null,"Total Sequences in Block Summary",{"$f":"SUM(AE7:AE22)","v":28},null,null,null,"Total Sequences in Block Summary",{"$f":"SUM(AJ7:AJ22)","v":29},null,null,null,"Total Sequences in Block Summary",{"$f":"SUM(AO7:AO22)","v":29},null,null,null,"Total Sequences in Block Summary",{"$f":"SUM(AT7:AT22)","v":29}]
[null,null,null,null,null,null,null,null,null,null,null,null,null,null,null,null,null,null,null,"Block 1",null,null,null,null,"Block 2",null,null,null,null,"Block 3",null,null,null,null,"Block 4",null,null,null,null,"Block 5",null,null,null,null,"Block 6"]
["Sequence\nComponent\n1","Time\n1","Sequence\nComponent\n2","Time\n2","Sequence\nComponent\n3","Time\n3","Sequence\nComponent\n4","Time\n4","Sequence\nComponent\n5","Time\n5","Correct?\n0=No 1=Yes","Sequence",null,"Frequency",null,"Relative Frequency","Variability",null,null,"Frequency",null,"Relative Frequency","Variability",null,"Frequency",null,"Relative Frequency","Variability",null,"Frequency",null,"Relative Frequency","Variability",null,"Frequency",null,"Relative Frequency","Variability",null,"Frequency",null,"Relative Frequency","Variability",null,"Frequency",null,"Relative Frequency","Variability"]
[12,82,14,86,13,90,14,95,null,null,0,1111,null,1111,{"$f":"COUNTIF($L$7:$L$500,N7)","v":139},{"$f":"O7/$Q$4","v":0.80346820809248554},{"$f":"IF(P7=0,0,(P7*((LOG(P7))/LOG(2))))","v":-0.25364459267593753},null,null,{"$f":"N7","v":1111},{"$f":"COUNTIF(L7:L35,T7)","v":14},{"$f":"U7/(W4-U20)","v":0.48275862068965519},{"$f":"IF(V7=0,0,(V7*((LOG(V7))/LOG(2))))","v":-0.50719879389584666},null,{"$f":"N7","v":1111},{"$f":"COUNTIF(L36:L64,Y7)","v":22},{"$f":"Z7/(AB4-Z20)","v":0.75862068965517238},{"$f":"IF(AA7=0,0,(AA7*((LOG(AA7))/LOG(2))))","v":-0.30234780285469132},null,{"$f":"N7","v":1111},{"$f":"COUNTIF(L65:L92,AD7)","v":26},{"$f":"AE7/(AG4-AE20)","v":0.9285714285714286},{"$f":"IF(AF7=0,0,(AF7*((LOG(AF7))/LOG(2))))","v":-9.9278403636761048E-2},null,{"$f":"N7","v":1111},{"$f":"COUNTIF(L93:L121,AI7)","v":29},{"$f":"AJ7/(AL4-AJ20)","v":1},{"$f":"IF(AK7=0,0,(AK7*((LOG(AK7))/LOG(2))))","v":0},null,{"$f":"N7","v":1111},{"$f":"COUNTIF(L122:L150,AN7)","v":23},{"$f":"AO7/(AQ4-AO20)","v":0.7931034482758621},{"$f":"IF(AP7=0,0,(AP7*((LOG(AP7))/LOG(2))))","v":-0.2652288930559607},null,{"$f":"N7","v":1111},{"$f":"COUNTIF(L151:L179,AS7)","v":25},{"$f":"AT7/(AV4-AT20)","v":0.86206896551724133},{"$f":"IF(AU7=0,0,(AU7*((LOG(AU7))/LOG(2))))","v":-0.18459034944210989}]
[12,199,14,203,13,208,14,216,null,null,0,1111,null,1112,{"$f":"COUNTIF($L$7:$L$500,N8)","v":0},{"$f":"O8/$Q$4","v":0},{"$f":"IF(P8=0,0,(P8*((LOG(P8))/LOG(2))))","v":0},null,null,{"$f":"N8","v":1112},{"$f":"COUNTIF(L7:L35,T8)","v":0},{"$f":"U8/(W4-U20)","v":0},{"$f":"IF(V8=0,0,(V8*((LOG(V8))/LOG(2))))","v":0},null,{"$f":"N8","v":1112},{"$f":"COUNTIF(L36:L64,Y8)","v":0},{"$f":"Z8/(AB4-Z20)","v":0},{"$f":"IF(AA8=0,0,(AA8*((LOG(AA8))/LOG(2))))","v":0},null,{"$f":"N8","v":1112},{"$f":"COUNTIF(L65:L92,AD8)","v":0},{"$f":"AE8/(AG4-AE20)","v":0},{"$f":"IF(AF8=0,0,(AF8*((LOG(AF8))/LOG(2))))","v":0},null,{"$f":"N8","v":1112},{"$f":"COUNTIF(L93:L121,AI8)","v":0},{"$f":"AJ8/(AL4-AJ20)","v":0},{"$f":"IF(AK8=0,0,(AK8*((LOG(AK8))/LOG(2))))","v":0},null,{"$f":"N8","v":1112},{"$f":"COUNTIF(L122:L150,AN8)","v":0},{"$f":"AO8/(AQ4-AO20)","v":0},{"$f":"IF(AP8=0,0,(AP8*((LOG(AP8))/LOG(2))))","v":0},null,{"$f":"N8","v":1112},{"$f":"COUNTIF(L151:L179,AS8)","v":0},{"$f":"AT8/(AV4-AT20)","v":0},{"$f":"IF(AU8=0,0,(AU8*((LOG(AU8))/LOG(2))))","v":0}]
[21,325,21,333,22,335,23,340,null,null,0,2222,null,1121,{"$f":"COUNTIF($L$7:$L$500,N9)","v":1},{"$f":"O9/$Q$4","v":5.7803468208092483E-3},{"$f":"IF(P9=0,0,(P9*((LOG(P9))/LOG(2))))","v":-4.2974729639518636E-2},null,null,{"$f":"N9","v":1121},{"$f":"COUNTIF(L7:L35,T9)","v":0},{"$f":"U9/(W4-U20)","v":0},{"$f":"IF(V9=0,0,(V9*((LOG(V9))/LOG(2))))","v":0},null,{"$f":"N9","v":1121},{"$f":"COUNTIF(L36:L64,Y9)","v":0},{"$f":"Z9/(AB4-Z20)","v":0},{"$f":"IF(AA9=0,0,(AA9*((LOG(AA9))/LOG(2))))","v":0},null,{"$f":"N9","v":1121},{"$f":"COUNTIF(L65:L92,AD9)","v":0},{"$f":"AE9/(AG4-AE20)","v":0},{"$f":"IF(AF9=0,0,(AF9*((LOG(AF9))/LOG(2))))","v":0},null,{"$f":"N9","v":1121},{"$f":"COUNTIF(L93:L121,AI9)","v":0},{"$f":"AJ9/(AL4-AJ20)","v":0},{"$f":"IF(AK9=0,0,(AK9*((LOG(AK9))/LOG(2))))","v":0},null,{"$f":"N9","v":1121},{"$f":"COUNTIF(L122:L150,AN9)","v":1},{"$f":"AO9/(AQ4-AO20)","v":3.4482758620689655E-2},{"$f":"IF(AP9=0,0,(AP9*((LOG(AP9))/LOG(2))))","v":-0.16751658603888178},null,{"$f":"N9","v":1121},{"$f":"COUNTIF(L151:L179,AS9)","v":0},{"$f":"AT9/(AV4-AT20)","v":0},{"$f":"IF(AU9=0,0,(AU9*((LOG(AU9))/LOG(2))))","v":0}]
[21,463,21,470,22,475,23,481,null,null,0,2222,null,1122,{"$f":"COUNTIF($L$7:$L$500,N10)","v":2},{"$f":"O10/$Q$4","v":1.1560693641618497E-2},{"$f":"IF(P10=0,0,(P10*((LOG(P10))/LOG(2))))","v":-7.438876563741878E-2},null,null,{"$f":"N10","v":1122},{"$f":"COUNTIF(L7:L35,T10)","v":1},{"$f":"U10/(W4-U20)","v":3.4482758620689655E-2},{"$f":"IF(V10=0,0,(V10*((LOG(V10))/LOG(2))))","v":-0.16751658603888178},null,{"$f":"N10","v":1122},{"$f":"COUNTIF(L36:L64,Y10)","v":0},{"$f":"Z10/(AB4-Z20)","v":0},{"$f":"IF(AA10=0,0,(AA10*((LOG(AA10))/LOG(2))))","v":0},null,{"$f":"N10","v":1122},{"$f":"COUNTIF(L65:L92,AD10)","v":0},{"$f":"AE10/(AG4-AE20)","v":0},{"$f":"IF(AF10=0,0,(AF10*((LOG(AF10))/LOG(2))))","v":0},null,{"$f":"N10","v":1122},{"$f":"COUNTIF(L93:L121,AI10)","v":0},{"$f":"AJ10/(AL4-AJ20)","v":0},{"$f":"IF(AK10=0,0,(AK10*((LOG(AK10))/LOG(2))))","v":0},null,{"$f":"N10","v":1122},{"$f":"COUNTIF(L122:L150,AN10)","v":0},{"$f":"AO10/(AQ4-AO20)","v":0},{"$f":"IF(AP10=0,0,(AP10*((LOG(AP10))/LOG(2))))","v":0},null,{"$f":"N10","v":1122},{"$f":"COUNTIF(L151:L179,AS10)","v":1},{"$f":"AT10/(AV4-AT20)","v":3.4482758620689655E-2},{"$f":"IF(AU10=0,0,(AU10*((LOG(AU10))/LOG(2))))","v":-0.16751658603888178}]
[21,596,21,610,22,615,23,617,null,null,0,2222,null,1211,{"$f":"COUNTIF($L$7:$L$500,N11)","v":0},{"$f":"O11/$Q$4","v":0},{"$f":"IF(P11=0,0,(P11*((LOG(P11))/LOG(2))))","v":0},null,null,{"$f":"N11","v":1211},{"$f":"COUNTIF(L7:L35,T11)","v":0},{"$f":"U11/(W4-U20)","v":0},{"$f":"IF(V11=0,0,(V11*((LOG(V11))/LOG(2))))","v":0},null,{"$f":"N11","v":1211},{"$f":"COUNTIF(L36:L64,Y11)","v":0},{"$f":"Z11/(AB4-Z20)","v":0},{"$f":"IF(AA11=0,0,(AA11*((LOG(AA11))/LOG(2))))","v":0},null,{"$f":"N11","v":1211},{"$f":"COUNTIF(L65:L92,AD11)","v":0},{"$f":"AE11/(AG4-AE20)","v":0},{"$f":"IF(AF11=0,0,(AF11*((LOG(AF11))/LOG(2))))","v":0},null,{"$f":"N11","v":1211},{"$f":"COUNTIF(L93:L121,AI11)","v":0},{"$f":"AJ11/(AL4-AJ20)","v":0},{"$f":"IF(AK11=0,0,(AK11*((LOG(AK11))/LOG(2))))","v":0},null,{"$f":"N11","v":1211},{"$f":"COUNTIF(L122:L150,AN11)","v":0},{"$f":"AO11/(AQ4-AO20)","v":0},{"$f":"IF(AP11=0,0,(AP11*((LOG(AP11))/LOG(2))))","v":0},null,{"$f":"N11","v":1211},{"$f":"COUNTIF(L151:L179,AS11)","v":0},{"$f":"AT11/(AV4-AT20)","v":0},{"$f":"IF(AU11=0,0,(AU11*((LOG(AU11))/LOG(2))))","v":0}]
[21,764,21,770,22,771,23,777,null,null,0,2222,null,1212,{"$f":"COUNTIF($L$7:$L$500,N12)","v":0},{"$f":"O12/$Q$4","v":0},{"$f":"IF(P12=0,0,(P12*((LOG(P12))/LOG(2))))","v":0},null,null,{"$f":"N12","v":1212},{"$f":"COUNTIF(L7:L35,T12)","v":0},{"$f":"U12/(W4-U20)","v":0},{"$f":"IF(V12=0,0,(V12*((LOG(V12))/LOG(2))))","v":0},null,{"$f":"N12","v":1212},{"$f":"COUNTIF(L36:L64,Y12)","v":0},{"$f":"Z12/(AB4-Z20)","v":0},{"$f":"IF(AA12=0,0,(AA12*((LOG(AA12))/LOG(2))))","v":0},null,{"$f":"N12","v":1212},{"$f":"COUNTIF(L65:L92,AD12)","v":0},{"$f":"AE12/(AG4-AE20)","v":0},{"$f":"IF(AF12=0,0,(AF12*((LOG(AF12))/LOG(2))))","v":0},null,{"$f":"N12","v":1212},{"$f":"COUNTIF(L93:L121,AI12)","v":0},{"$f":"AJ12/(AL4-AJ20)","v":0},{"$f":"IF(AK12=0,0,(AK12*((LOG(AK12))/LOG(2))))","v":0},null,{"$f":"N12","v":1212},{"$f":"COUNTIF(L122:L150,AN12)","v":0},{"$f":"AO12/(AQ4-AO20)","v":0},{"$f":"IF(AP12=0,0,(AP12*((LOG(AP12))/LOG(2))))","v":0},null,{"$f":"N12","v":1212},{"$f":"COUNTIF(L151:L179,AS12)","v":0},{"$f":"AT12/(AV4-AT20)","v":0},{"$f":"IF(AU12=0,0,(AU12*((LOG(AU12))/LOG(2))))","v":0}]
[21,918,12,933,13,938,14,947,null,null,0,2111,null,1221,{"$f":"COUNTIF($L$7:$L$500,N13)","v":0},{"$f":"O13/$Q$4","v":0},{"$f":"IF(P13=0,0,(P13*((LOG(P13))/LOG(2))))","v":0},null,null,{"$f":"N13","v":1221},{"$f":"COUNTIF(L7:L35,T13)","v":0},{"$f":"U13/(W4-U20)","v":0},{"$f":"IF(V13=0,0,(V13*((LOG(V13))/LOG(2))))","v":0},null,{"$f":"N13","v":1221},{"$f":"COUNTIF(L36:L64,Y13)","v":0},{"$f":"Z13/(AB4-Z20)","v":0},{"$f":"IF(AA13=0,0,(AA13*((LOG(AA13))/LOG(2))))","v":0},null,{"$f":"N13","v":1221},{"$f":"COUNTIF(L65:L92,AD13)","v":0},{"$f":"AE13/(AG4-AE20)","v":0},{"$f":"IF(AF13=0,0,(AF13*((LOG(AF13))/LOG(2))))","v":0},null,{"$f":"N13","v":1221},{"$f":"COUNTIF(L93:L121,AI13)","v":0},{"$f":"AJ13/(AL4-AJ20)","v":0},{"$f":"IF(AK13=0,0,(AK13*((LOG(AK13))/LOG(2))))","v":0},null,{"$f":"N13","v":1221},{"$f":"COUNTIF(L122:L150,AN13)","v":0},{"$f":"AO13/(AQ4-AO20)","v":0},{"$f":"IF(AP13=0,0,(AP13*((LOG(AP13))/LOG(2))))","v":0},null,{"$f":"N13","v":1221},{"$f":"COUNTIF(L151:L179,AS13)","v":0},{"$f":"AT13/(AV4-AT20)","v":0},{"$f":"IF(AU13=0,0,(AU13*((LOG(AU13))/LOG(2))))","v":0}]
[21,1071,21,1078,22,1083,23,1087,null,null,0,2222,null,1222,{"$f":"COUNTIF($L$7:$L$500,N14)","v":4},{"$f":"O14/$Q$4","v":2.3121387283236993E-2},{"$f":"IF(P14=0,0,(P14*((LOG(P14))/LOG(2))))","v":-0.12565614399160055},null,null,{"$f":"N14","v":1222},{"$f":"COUNTIF(L7:L35,T14)","v":0},{"$f":"U14/(W4-U20)","v":0},{"$f":"IF(V14=0,0,(V14*((LOG(V14))/LOG(2))))","v":0},null,{"$f":"N14","v":1222},{"$f":"COUNTIF(L36:L64,Y14)","v":0},{"$f":"Z14/(AB4-Z20)","v":0},{"$f":"IF(AA14=0,0,(AA14*((LOG(AA14))/LOG(2))))","v":0},null,{"$f":"N14","v":1222},{"$f":"COUNTIF(L65:L92,AD14)","v":1},{"$f":"AE14/(AG4-AE20)","v":3.5714285714285712E-2},{"$f":"IF(AF14=0,0,(AF14*((LOG(AF14))/LOG(2))))","v":-0.17169124721634299},null,{"$f":"N14","v":1222},{"$f":"COUNTIF(L93:L121,AI14)","v":0},{"$f":"AJ14/(AL4-AJ20)","v":0},{"$f":"IF(AK14=0,0,(AK14*((LOG(AK14))/LOG(2))))","v":0},null,{"$f":"N14","v":1222},{"$f":"COUNTIF(L122:L150,AN14)","v":1},{"$f":"AO14/(AQ4-AO20)","v":3.4482758620689655E-2},{"$f":"IF(AP14=0,0,(AP14*((LOG(AP14))/LOG(2))))","v":-0.16751658603888178},null,{"$f":"N14","v":1222},{"$f":"COUNTIF(L151:L179,AS14)","v":2},{"$f":"AT14/(AV4-AT20)","v":6.8965517241379309E-2},{"$f":"IF(AU14=0,0,(AU14*((LOG(AU14))/LOG(2))))","v":-0.26606765483638428}]
[12,1212,14,1220,13,1224,14,1240,null,null,0,1111,null,2111,{"$f":"COUNTIF($L$7:$L$500,N15)","v":6},{"$f":"O15/$Q$4","v":3.4682080924855488E-2},{"$f":"IF(P15=0,0,(P15*((LOG(P15))/LOG(2))))","v":-0.16819649919938387},null,null,{"$f":"N15","v":2111},{"$f":"COUNTIF(L7:L35,T15)","v":2},{"$f":"U15/(W4-U20)","v":6.8965517241379309E-2},{"$f":"IF(V15=0,0,(V15*((LOG(V15))/LOG(2))))","v":-0.26606765483638428},null,{"$f":"N15","v":2111},{"$f":"COUNTIF(L36:L64,Y15)","v":2},{"$f":"Z15/(AB4-Z20)","v":6.8965517241379309E-2},{"$f":"IF(AA15=0,0,(AA15*((LOG(AA15))/LOG(2))))","v":-0.26606765483638428},null,{"$f":"N15","v":2111},{"$f":"COUNTIF(L65:L92,AD15)","v":0},{"$f":"AE15/(AG4-AE20)","v":0},{"$f":"IF(AF15=0,0,(AF15*((LOG(AF15))/LOG(2))))","v":0},null,{"$f":"N15","v":2111},{"$f":"COUNTIF(L93:L121,AI15)","v":0},{"$f":"AJ15/(AL4-AJ20)","v":0},{"$f":"IF(AK15=0,0,(AK15*((LOG(AK15))/LOG(2))))","v":0},null,{"$f":"N15","v":2111},{"$f":"COUNTIF(L122:L150,AN15)","v":2},{"$f":"AO15/(AQ4-AO20)","v":6.8965517241379309E-2},{"$f":"IF(AP15=0,0,(AP15*((LOG(AP15))/LOG(2))))","v":-0.26606765483638428},null,{"$f":"N15","v":2111},{"$f":"COUNTIF(L151:L179,AS15)","v":0},{"$f":"AT15/(AV4-AT20)","v":0},{"$f":"IF(AU15=0,0,(AU15*((LOG(AU15))/LOG(2))))","v":0}]
[12,1355,14,1359,13,1363,14,1368,null,null,0,1111,null,2112,{"$f":"COUNTIF($L$7:$L$500,N16)","v":0},{"$f":"O16/$Q$4","v":0},{"$f":"IF(P16=0,0,(P16*((LOG(P16))/LOG(2))))","v":0},null,null,{"$f":"N16","v":2112},{"$f":"COUNTIF(L7:L35,T16)","v":0},{"$f":"U16/(W4-U20)","v":0},{"$f":"IF(V16=0,0,(V16*((LOG(V16))/LOG(2))))","v":0},null,{"$f":"N16","v":2112},{"$f":"COUNTIF(L36:L64,Y16)","v":0},{"$f":"Z16/(AB4-Z20)","v":0},{"$f":"IF(AA16=0,0,(AA16*((LOG(AA16))/LOG(2))))","v":0},null,{"$f":"N16","v":2112},{"$f":"COUNTIF(L65:L92,AD16)","v":0},{"$f":"AE16/(AG4-AE20)","v":0},{"$f":"IF(AF16=0,0,(AF16*((LOG(AF16))/LOG(2))))","v":0},null,{"$f":"N16","v":2112},{"$f":"COUNTIF(L93:L121,AI16)","v":0},{"$f":"AJ16/(AL4-AJ20)","v":0},{"$f":"IF(AK16=0,0,(AK16*((LOG(AK16))/LOG(2))))","v":0},null,{"$f":"N16","v":2112},{"$f":"COUNTIF(L122:L150,AN16)","v":0},{"$f":"AO16/(AQ4-AO20)","v":0},{"$f":"IF(AP16=0,0,(AP16*((LOG(AP16))/LOG(2))))","v":0},null,{"$f":"N16","v":2112},{"$f":"COUNTIF(L151:L179,AS16)","v":0},{"$f":"AT16/(AV4-AT20)","v":0},{"$f":"IF(AU16=0,0,(AU16*((LOG(AU16))/LOG(2))))","v":0}]
[21,1508,21,1512,22,1517,23,1526,null,null,0,2222,null,2121,{"$f":"COUNTIF($L$7:$L$500,N17)","v":0},{"$f":"O17/$Q$4","v":0},{"$f":"IF(P17=0,0,(P17*((LOG(P17))/LOG(2))))","v":0},null,null,{"$f":"N17","v":2121},{"$f":"COUNTIF(L7:L35,T17)","v":0},{"$f":"U17/(W4-U20)","v":0},{"$f":"IF(V17=0,0,(V17*((LOG(V17))/LOG(2))))","v":0},null,{"$f":"N17","v":2121},{"$f":"COUNTIF(L36:L64,Y17)","v":0},{"$f":"Z17/(AB4-Z20)","v":0},{"$f":"IF(AA17=0,0,(AA17*((LOG(AA17))/LOG(2))))","v":0},null,{"$f":"N17","v":2121},{"$f":"COUNTIF(L65:L92,AD17)","v":0},{"$f":"AE17/(AG4-AE20)","v":0},{"$f":"IF(AF17=0,0,(AF17*((LOG(AF17))/LOG(2))))","v":0},null,{"$f":"N17","v":2121},{"$f":"COUNTIF(L93:L121,AI17)","v":0},{"$f":"AJ17/(AL4-AJ20)","v":0},{"$f":"IF(AK17=0,0,(AK17*((LOG(AK17))/LOG(2))))","v":0},null,{"$f":"N17","v":2121},{"$f":"COUNTIF(L122:L150,AN17)","v":0},{"$f":"AO17/(AQ4-AO20)","v":0},{"$f":"IF(AP17=0,0,(AP17*((LOG(AP17))/LOG(2))))","v":0},null,{"$f":"N17","v":2121},{"$f":"COUNTIF(L151:L179,AS17)","v":0},{"$f":"AT17/(AV4-AT20)","v":0},{"$f":"IF(AU17=0,0,(AU17*((LOG(AU17))/LOG(2))))","v":0}]
[12,1637,14,1641,13,1645,14,1649,null,null,0,1111,null,2122,{"$f":"COUNTIF($L$7:$L$500,N18)","v":0},{"$f":"O18/$Q$4","v":0},{"$f":"IF(P18=0,0,(P18*((LOG(P18))/LOG(2))))","v":0},null,null,{"$f":"N18","v":2122},{"$f":"COUNTIF(L7:L35,T18)","v":0},{"$f":"U18/(W4-U20)","v":0},{"$f":"IF(V18=0,0,(V18*((LOG(V18))/LOG(2))))","v":0},null,{"$f":"N18","v":2122},{"$f":"COUNTIF(L36:L64,Y18)","v":0},{"$f":"Z18/(AB4-Z20)","v":0},{"$f":"IF(AA18=0,0,(AA18*((LOG(AA18))/LOG(2))))","v":0},null,{"$f":"N18","v":2122},{"$f":"COUNTIF(L65:L92,AD18)","v":0},{"$f":"AE18/(AG4-AE20)","v":0},{"$f":"IF(AF18=0,0,(AF18*((LOG(AF18))/LOG(2))))","v":0},null,{"$f":"N18","v":2122},{"$f":"COUNTIF(L93:L121,AI18)","v":0},{"$f":"AJ18/(AL4-AJ20)","v":0},{"$f":"IF(AK18=0,0,(AK18*((LOG(AK18))/LOG(2))))","v":0},null,{"$f":"N18","v":2122},{"$f":"COUNTIF(L122:L150,AN18)","v":0},{"$f":"AO18/(AQ4-AO20)","v":0},{"$f":"IF(AP18=0,0,(AP18*((LOG(AP18))/LOG(2))))","v":0},null,{"$f":"N18","v":2122},{"$f":"COUNTIF(L151:L179,AS18)","v":0},{"$f":"AT18/(AV4-AT20)","v":0},{"$f":"IF(AU18=0,0,(AU18*((LOG(AU18))/LOG(2))))","v":0}]
[21,1776,21,1784,22,1789,23,1799,null,null,0,2222,null,2211,{"$f":"COUNTIF($L$7:$L$500,N19)","v":1},{"$f":"O19/$Q$4","v":5.7803468208092483E-3},{"$f":"IF(P19=0,0,(P19*((LOG(P19))/LOG(2))))","v":-4.2974729639518636E-2},null,null,{"$f":"N19","v":2211},{"$f":"COUNTIF(L7:L35,T19)","v":0},{"$f":"U19/(W4-U20)","v":0},{"$f":"IF(V19=0,0,(V19*((LOG(V19))/LOG(2))))","v":0},null,{"$f":"N19","v":2211},{"$f":"COUNTIF(L36:L64,Y19)","v":1},{"$f":"Z19/(AB4-Z20)","v":3.4482758620689655E-2},{"$f":"IF(AA19=0,0,(AA19*((LOG(AA19))/LOG(2))))","v":-0.16751658603888178},null,{"$f":"N19","v":2211},{"$f":"COUNTIF(L65:L92,AD19)","v":0},{"$f":"AE19/(AG4-AE20)","v":0},{"$f":"IF(AF19=0,0,(AF19*((LOG(AF19))/LOG(2))))","v":0},null,{"$f":"N19","v":2211},{"$f":"COUNTIF(L93:L121,AI19)","v":0},{"$f":"AJ19/(AL4-AJ20)","v":0},{"$f":"IF(AK19=0,0,(AK19*((LOG(AK19))/LOG(2))))","v":0},null,{"$f":"N19","v":2211},{"$f":"COUNTIF(L122:L150,AN19)","v":0},{"$f":"AO19/(AQ4-AO20)","v":0},{"$f":"IF(AP19=0,0,(AP19*((LOG(AP19))/LOG(2))))","v":0},null,{"$f":"N19","v":2211},{"$f":"COUNTIF(L151:L179,AS19)","v":0},{"$f":"AT19/(AV4-AT20)","v":0},{"$f":"IF(AU19=0,0,(AU19*((LOG(AU19))/LOG(2))))","v":0}]
[12,1915,14,1920,13,1925,14,1932,null,null,0,1111,null,2212,{"$f":"COUNTIF($L$7:$L$500,N20)","v":0},{"$f":"O20/$Q$4","v":0},{"$f":"IF(P20=0,0,(P20*((LOG(P20))/LOG(2))))","v":0},null,null,{"$f":"N20","v":2212},{"$f":"COUNTIF(L7:L35,T20)","v":0},null,null,null,{"$f":"N20","v":2212},{"$f":"COUNTIF(L36:L64,Y20)","v":0},null,null,null,{"$f":"N20","v":2212},{"$f":"COUNTIF(L65:L92,AD20)","v":0},null,null,null,{"$f":"N20","v":2212},{"$f":"COUNTIF(L93:L121,AI20)","v":0},null,null,null,{"$f":"N20","v":2212},{"$f":"COUNTIF(L122:L150,AN20)","v":0},null,null,null,{"$f":"N20","v":2212},{"$f":"COUNTIF(L151:L179,AS20)","v":0}]
[12,2045,14,2049,13,2057,14,2066,null,null,0,1111,null,2221,{"$f":"COUNTIF($L$7:$L$500,N21)","v":0},{"$f":"O21/$Q$4","v":0},{"$f":"IF(P21=0,0,(P21*((LOG(P21))/LOG(2))))","v":0},null,null,{"$f":"N21","v":2221},{"$f":"COUNTIF(L7:L35,T21)","v":0},{"$f":"U21/(W4-U20)","v":0},{"$f":"IF(V21=0,0,(V21*((LOG(V21))/LOG(2))))","v":0},null,{"$f":"N21","v":2221},{"$f":"COUNTIF(L36:L64,Y21)","v":0},{"$f":"Z21/(AB4-Z20)","v":0},{"$f":"IF(AA21=0,0,(AA21*((LOG(AA21))/LOG(2))))","v":0},null,{"$f":"N21","v":2221},{"$f":"COUNTIF(L65:L92,AD21)","v":0},{"$f":"AE21/(AG4-AE20)","v":0},{"$f":"IF(AF21=0,0,(AF21*((LOG(AF21))/LOG(2))))","v":0},null,{"$f":"N21","v":2221},{"$f":"COUNTIF(L93:L121,AI21)","v":0},{"$f":"AJ21/(AL4-AJ20)","v":0},{"$f":"IF(AK21=0,0,(AK21*((LOG(AK21))/LOG(2))))","v":0},null,{"$f":"N21","v":2221},{"$f":"COUNTIF(L122:L150,AN21)","v":0},{"$f":"AO21/(AQ4-AO20)","v":0},{"$f":"IF(AP21=0,0,(AP21*((LOG(AP21))/LOG(2))))","v":0},null,{"$f":"N21","v":2221},{"$f":"COUNTIF(L151:L179,AS21)","v":0},{"$f":"AT21/(AV4-AT20)","v":0},{"$f":"IF(AU21=0,0,(AU21*((LOG(AU21))/LOG(2))))","v":0}]
[21,2219,21,2225,22,2234,23,2241,null,null,0,2222,null,2222,{"$f":"COUNTIF($L$7:$L$500,N22)","v":20},{"$f":"O22/$Q$4","v":0.11560693641618497},{"$f":"IF(P22=0,0,(P22*((LOG(P22))/LOG(2))))","v":-0.35984972632940604},null,null,{"$f":"N22","v":2222},{"$f":"COUNTIF(L7:L35,T22)","v":12},{"$f":"U22/(W4-U20)","v":0.41379310344827586},{"$f":"IF(V22=0,0,(V22*((LOG(V22))/LOG(2))))","v":-0.5267662735474824},null,{"$f":"N22","v":2222},{"$f":"COUNTIF(L36:L64,Y22)","v":4},{"$f":"Z22/(AB4-Z20)","v":0.13793103448275862},{"$f":"IF(AA22=0,0,(AA22*((LOG(AA22))/LOG(2))))","v":-0.39420427519000989},null,{"$f":"N22","v":2222},{"$f":"COUNTIF(L65:L92,AD22)","v":1},{"$f":"AE22/(AG4-AE20)","v":3.5714285714285712E-2},{"$f":"IF(AF22=0,0,(AF22*((LOG(AF22))/LOG(2))))","v":-0.17169124721634299},null,{"$f":"N22","v":2222},{"$f":"COUNTIF(L93:L121,AI22)","v":0},{"$f":"AJ22/(AL4-AJ20)","v":0},{"$f":"IF(AK22=0,0,(AK22*((LOG(AK22))/LOG(2))))","v":0},null,{"$f":"N22","v":2222},{"$f":"COUNTIF(L122:L150,AN22)","v":2},{"$f":"AO22/(AQ4-AO20)","v":6.8965517241379309E-2},{"$f":"IF(AP22=0,0,(AP22*((LOG(AP22))/LOG(2))))","v":-0.26606765483638428},null,{"$f":"N22","v":2222},{"$f":"COUNTIF(L151:L179,AS22)","v":1},{"$f":"AT22/(AV4-AT20)","v":3.4482758620689655E-2},{"$f":"IF(AU22=0,0,(AU22*((LOG(AU22))/LOG(2))))","v":-0.16751658603888178}]
[21,2397,12,2414,13,2418,14,2426,null,null,0,2111,null,null,null,{"$f":"SUM(P7:P22)","v":1},{"$f":"-SUM(Q7:Q22)","v":1.0676851871127839},null,null,null,null,{"$f":"SUM(V7:V22)","v":1},{"$f":"-SUM(W7:W22)","v":1.4675493083185951},null,null,null,{"$f":"SUM(AA7:AA22)","v":1},{"$f":"-SUM(AB7:AB22)","v":1.1301363189199671},null,null,null,{"$f":"SUM(AF7:AF22)","v":1},{"$f":"-SUM(AG7:AG22)","v":0.44266089806944703},null,null,null,{"$f":"SUM(AK7:AK22)","v":1},{"$f":"-SUM(AL7:AL22)","v":0},null,null,null,{"$f":"SUM(AP7:AP22)","v":1},{"$f":"-SUM(AQ7:AQ22)","v":1.1323973748064928},null,null,null,{"$f":"SUM(AU7:AU22)","v":0.99999999999999989},{"$f":"-SUM(AV7:AV22)","v":0.78569117635625774}]
[12,2543,14,2549,13,2553,14,2557,null,null,0,1111,null,null,null,"U=",{"$f":"Q23/(LOG(Q4)/LOG(2))","v":0.14360976156734784},null,null,null,null,"U1=",{"$f":"W23/(LOG(W4)/LOG(2))","v":0.30209037659688431},null,null,null,"U2=",{"$f":"AB23/(LOG(AB4)/LOG(2))","v":0.23263498149817061},null,null,null,"U3=",{"$f":"AG23/(LOG(AG4)/LOG(2))","v":9.2079928619038395E-2},null,null,null,"U4=",{"$f":"AL23/(LOG(AL4)/LOG(2))","v":0},null,null,null,"U5=",{"$f":"AQ23/(LOG(AQ4)/LOG(2))","v":0.23310041269042794},null,null,null,"U6=",{"$f":"AV23/(LOG(AV4)/LOG(2))","v":0.16173203994504826}]
[21,2677,21,2682,22,2687,23,2691,null,null,0,2222]
[12,2818,14,2822,13,2830,14,2838,null,null,0,1111]
[12,2957,14,2975,13,2980,14,2984,null,null,0,1111,null,"Total Target Seq"]
[21,3130,21,3138,22,3143,23,3145,null,null,0,2222,null,{"$f":"COUNTIF(L7:L179,G3)","v":0},null,29,29,28,29,29,29]
[12,3253,14,3259,13,3267,14,3276,null,null,0,1111,null,null,null,"% of reinforcement given in 6 equal intervals based on number of trials "]
[12,3447,14,3452,13,3456,14,3461,null,null,0,1111,null,null,null,"%_1","%_2","%_3","%_4","%_5","%_6"]
[12,3610,14,3614,13,3621,14,3626,null,null,0,1111,null,null,"target sequence",{"$f":"$G$3","v":2212},{"$f":"$G$3","v":2212},{"$f":"$G$3","v":2212},{"$f":"$G$3","v":2212},{"$f":"$G$3","v":2212},{"$f":"$G$3","v":2212}]
[12,3740,14,3745,13,3749,14,3754,null,null,0,1111,null,null,"total reinforcement",{"$f":"U20","v":0},{"$f":"Z20","v":0},{"$f":"AE20","v":0},{"$f":"AJ20","v":0},{"$f":"AO20","v":0},{"$f":"AT20","v":0}]
[12,3895,14,3900,24,3913,23,3917,null,null,0,1122,null,null,"% target"]
[21,4066,21,4076,22,4081,23,4086,null,null,0,2222,null,null,"CCRF"]
[21,4219,21,4223,22,4228,23,4236,null,null,0,2222,null,null,"% CCRf"]
[12,4351,14,4355,13,4359,14,4364,null,null,0,1111,null,null,"average response rate",{"$f":"H35/P28","v":146.06896551724137},{"$f":"(H64-H35)/Q28","v":146.17241379310346},{"$f":"(H92-H64)/R28","v":137},{"$f":"(H121-H92)/S28","v":136.27586206896552},{"$f":"(H150-H121)/T28","v":134.17241379310346},{"$f":"(H179-H150)/U28","v":129.9655172413793}]
[12,4500,14,4504,13,4509,14,4513,null,null,0,1111]
[12,4635,14,4642,13,4647,14,4659,null,null,0,1111]
[21,4770,12,4782,13,4789,14,4795,null,null,0,2111]
[21,4929,21,4938,22,4947,23,4952,null,null,0,2222]
[21,5076,21,5090,11,5103,12,5107,null,null,0,2211]
[12,5235,14,5240,13,5244,14,5249,null,null,0,1111]
[12,5357,14,5376,13,5380,14,5385,null,null,0,1111]
[12,5512,14,5516,13,5521,14,5527,null,null,0,1111]
[21,5645,21,5650,22,5654,23,5662,null,null,0,2222]
[12,5785,14,5789,13,5794,14,5798,null,null,0,1111]
[12,5912,14,5916,13,5920,14,5925,null,null,0,1111]
[12,6062,14,6067,13,6071,14,6079,null,null,0,1111]
[21,6198,21,6208,22,6212,23,6216,null,null,0,2222]
[12,6375,14,6382,13,6386,14,6394,null,null,0,1111]
[12,6529,14,6533,13,6538,14,6547,null,null,0,1111]
[12,6693,14,6698,13,6703,14,6707,null,null,0,1111]
[12,6824,14,6829,13,6834,14,6838,null,null,0,1111]
[12,6965,14,6970,13,6974,14,6983,null,null,0,1111]
[12,7122,14,7126,13,7131,14,7138,null,null,0,1111]
[12,7254,14,7259,13,7264,14,7269,null,null,0,1111]
[12,7401,14,7405,13,7409,14,7414,null,null,0,1111]
[12,7535,14,7540,13,7544,14,7649,null,null,0,1111]
[12,7771,14,7775,13,7779,14,7787,null,null,0,1111]
[21,7900,12,7910,13,7915,14,7920,null,null,0,2111]
[21,8084,21,8092,22,8097,23,8104,null,null,0,2222]
[12,8204,14,8209,13,8214,14,8218,null,null,0,1111]
[12,8340,14,8344,13,8348,14,8352,null,null,0,1111]
[12,8460,14,8465,13,8470,14,8475,null,null,0,1111]
[12,8601,14,8607,13,8612,14,8617,null,null,0,1111]
[12,8729,14,8734,13,8738,14,8742,null,null,0,1111]
[12,8851,14,8859,13,8863,14,8866,null,null,0,1111]
[12,8996,14,9001,13,9006,14,9011,null,null,0,1111]
[12,9111,14,9125,13,9129,14,9133,null,null,0,1111]
[12,9245,14,9250,13,9255,14,9260,null,null,0,1111]
[12,9393,14,9398,13,9405,14,9413,null,null,0,1111]
[12,9531,14,9536,13,9540,14,9546,null,null,0,1111]
[12,9661,14,9665,13,9669,14,9674,null,null,0,1111]
[12,9790,14,9794,13,9799,14,9803,null,null,0,1111]
[12,9919,14,9926,13,9931,14,9938,null,null,0,1111]
[12,10075,14,10080,13,10084,14,10093,null,null,0,1111]
[12,10214,14,10221,13,10228,14,10232,null,null,0,1111]
[12,10363,14,10368,13,10372,14,10388,null,null,0,1111]
[12,10510,14,10516,13,10523,14,10539,null,null,0,1111]
[12,10644,14,10653,13,10657,14,10661,null,null,0,1111]
[12,10763,14,10777,13,10781,14,10785,null,null,0,1111]
[12,10897,14,10905,13,10910,14,10918,null,null,0,1111]
[12,11038,14,11042,13,11059,14,11066,null,null,0,1111]
[12,11225,14,11229,13,11233,14,11238,null,null,0,1111]
[21,11349,21,11354,22,11361,23,11370,null,null,0,2222]
[12,11492,14,11497,13,11502,14,11507,null,null,0,1111]
[12,11623,14,11627,13,11631,14,11639,null,null,0,1111]
[12,11737,23,11752,24,11758,23,11762,null,null,0,1222]
[12,11879,14,11883,13,11887,14,11899,null,null,0,1111]
[12,12023,14,12039,13,12043,14,12047,null,null,0,1111]
[12,12157,14,12161,13,12165,14,12170,null,null,0,1111]
[12,12298,14,12302,13,12306,14,12311,null,null,0,1111]
[12,12421,14,12425,13,12429,14,12436,null,null,0,1111]
[12,12542,14,12547,13,12551,14,12556,null,null,0,1111]
[12,12676,14,12680,13,12685,14,12692,null,null,0,1111]
[12,12802,14,12808,13,12813,14,12817,null,null,0,1111]
[12,12935,14,12945,13,12950,14,12958,null,null,0,1111]
[12,13066,14,13075,13,13080,14,13084,null,null,0,1111]
[12,13200,14,13205,13,13209,14,13218,null,null,0,1111]
[12,13352,14,13358,13,13363,14,13370,null,null,0,1111]
[12,13480,14,13485,13,13490,14,13496,null,null,0,1111]
[12,13598,14,13613,13,13617,14,13622,null,null,0,1111]
[12,13735,14,13740,13,13745,14,13753,null,null,0,1111]
[12,13874,14,13879,13,13884,14,13889,null,null,0,1111]
[12,13993,14,13997,13,14001,14,14009,null,null,0,1111]
[12,14115,14,14124,13,14128,14,14133,null,null,0,1111]
[12,14260,14,14265,13,14278,14,14285,null,null,0,1111]
[12,14398,14,14403,13,14410,14,14415,null,null,0,1111]
[12,14520,14,14528,13,14533,14,14541,null,null,0,1111]
[12,14682,14,14687,13,14705,14,14721,null,null,0,1111]
[12,14829,14,14843,13,14847,14,14851,null,null,0,1111]
[12,15000,14,15008,13,15012,14,15019,null,null,0,1111]
[12,15136,14,15142,13,15146,14,15150,null,null,0,1111]
[12,15275,14,15279,13,15283,14,15295,null,null,0,1111]
[12,15419,14,15423,13,15439,14,15449,null,null,0,1111]
[12,15604,14,15608,13,15613,14,15618,null,null,0,1111]
[12,15724,14,15730,13,15734,14,15738,null,null,0,1111]
[12,15849,14,15853,13,15858,14,15862,null,null,0,1111]
[12,15970,14,15975,13,15986,14,15991,null,null,0,1111]
[12,16100,14,16119,13,16125,14,16133,null,null,0,1111]
[12,16251,14,16254,13,16259,14,16263,null,null,0,1111]
[12,16376,14,16380,13,16388,14,16395,null,null,0,1111]
[12,16495,14,16508,13,16519,14,16523,null,null,0,1111]
[12,16633,14,16638,13,16641,14,16646,null,null,0,1111]
[12,16786,14,16793,13,16801,14,16808,null,null,0,1111]
[21,16927,12,16936,13,16940,14,16944,null,null,0,2111]
[12,17042,14,17056,13,17061,14,17065,null,null,0,1111]
[12,17176,14,17181,13,17186,14,17190,null,null,0,1111]
[12,17301,14,17306,13,17311,14,17314,null,null,0,1111]
[12,17434,14,17439,13,17449,14,17457,null,null,0,1111]
[12,17570,14,17575,13,17586,14,17591,null,null,0,1111]
[21,17742,21,17751,22,17761,23,17767,null,null,0,2222]
[12,17867,14,17875,13,17883,14,17888,null,null,0,1111]
[12,18002,14,18007,13,18019,14,18028,null,null,0,1111]
[12,18144,14,18151,13,18156,14,18164,null,null,0,1111]
[12,18271,14,18276,13,18283,14,18287,null,null,0,1111]
[12,18403,14,18407,13,18412,14,18416,null,null,0,1111]
[12,18535,23,18551,24,18558,23,18563,null,null,0,1222]
[12,18677,14,18700,13,18704,14,18715,null,null,0,1111]
[12,18830,14,18834,13,18839,14,18843,null,null,0,1111]
[12,18941,14,18947,13,18954,14,18958,null,null,0,1111]
[12,19062,14,19069,13,19074,14,19078,null,null,0,1111]
[21,19182,12,19198,13,19203,14,19211,null,null,0,2111]
[12,19322,14,19328,13,19332,14,19347,null,null,0,1111]
[21,19472,21,19480,22,19487,23,19493,null,null,0,2222]
[12,19615,14,19619,13,19623,14,19637,null,null,0,1111]
[12,19751,14,19755,13,19762,14,19766,null,null,0,1111]
[12,19886,14,19891,13,19899,14,19903,null,null,0,1111]
[12,20009,14,20015,24,20028,14,20039,null,null,0,1121]
[12,20136,14,20142,13,20150,14,20154,null,null,0,1111]
[12,20275,14,20282,13,20286,14,20291,null,null,0,1111]
[12,20400,14,20405,13,20412,14,20416,null,null,0,1111]
[12,20511,14,20520,13,20525,14,20532,null,null,0,1111]
[12,20663,14,20667,13,20671,14,20675,null,null,0,1111]
[12,20801,14,20805,13,20809,14,20814,null,null,0,1111]
[12,20929,14,20930,13,20938,14,20942,null,null,0,1111]
[12,21043,14,21048,13,21053,14,21058,null,null,0,1111]
[12,21169,14,21174,13,21179,14,21184,null,null,0,1111]
[12,21303,14,21312,13,21317,14,21322,null,null,0,1111]
[12,21429,14,21440,13,21445,14,21457,null,null,0,1111]
[12,21571,14,21580,13,21585,14,21594,null,null,0,1111]
[12,21698,14,21710,13,21717,14,21722,null,null,0,1111]
[12,21839,14,21844,13,21854,14,21867,null,null,0,1111]
[12,21977,14,21982,13,21986,14,21990,null,null,0,1111]
[12,22093,14,22098,24,22111,23,22119,null,null,0,1122]
[12,22222,14,22234,13,22239,14,22243,null,null,0,1111]
[12,22340,14,22345,13,22359,14,22364,null,null,0,1111]
[12,22475,14,22480,13,22484,14,22488,null,null,0,1111]
[12,22588,14,22594,13,22598,14,22603,null,null,0,1111]
[12,22702,14,22712,13,22726,14,22739,null,null,0,1111]
[12,22862,14,22864,13,22869,14,22874,null,null,0,1111]
[12,23002,14,23011,13,23015,14,23020,null,null,0,1111]
[12,23127,14,23131,13,23136,14,23140,null,null,0,1111]
[21,23241,21,23248,22,23252,23,23257,null,null,0,2222]
[12,23358,23,23375,24,23384,23,23393,null,null,0,1222]
[12,23494,14,23513,13,23520,14,23524,null,null,0,1111]
[12,23634,14,23640,13,23644,14,23664,null,null,0,1111]
[12,23767,23,23784,24,23789,23,23794,null,null,0,1222]
[12,23905,14,23911,13,23915,14,23923,null,null,null,1111]

{"sheet":"!L829A40.053","index":32,"n_rows":178,"n_cols":48,"rows_kept":178,"cut":false,"hidden":false,"merged":[[4,39,4,42],[5,39,5,40],[4,44,4,47],[5,44,5,45],[4,24,4,27],[5,24,5,25],[4,29,4,32],[5,29,5,30],[4,34,4,37],[5,34,5,35],[1,1,1,2],[5,13,5,14],[26,13,26,14],[27,13,27,14],[4,19,4,22],[5,19,5,20]]}
["Report for:!L829A40.053"]
["Date:","<date>"]
["Hen:","<hen>",null,null,null,"Correct Sequence",{"$f":"Start!J2","v":2212},null,null,null,null,null,null,null,null,"Total Sequences in Data",{"$f":"4994-COUNTBLANK(L7:L5000)","v":172},null,null,null,null,"Total Sequences in Block Data",{"$f":"COUNTA(L7:L35)","v":29},null,null,null,"Total Sequences in Block Data",{"$f":"COUNTA(L36:L63)","v":28},null,null,null,"Total Sequences in Block Data",{"$f":"COUNTA(L64:L92)","v":29},null,null,null,"Total Sequences in Block Data",{"$f":"COUNTA(L93:L121)","v":29},null,null,null,"Total Sequences in Block Data",{"$f":"COUNTA(L122:L149)","v":28},null,null,null,"Total Sequences in Block Data",{"$f":"COUNTA(L150:L178)","v":29}]
[null,null,null,null,null,null,null,null,null,null,null,null,null,null,null,"Total Sequences in Summary",{"$f":"SUM(O7:O22)","v":172},null,null,null,null,"Total Sequences in Block Summary",{"$f":"SUM(U7:U22)","v":29},null,null,null,"Total Sequences in Block Summary",{"$f":"SUM(Z7:Z22)","v":28},null,null,null,"Total Sequences in Block Summary",{"$f":"SUM(AE7:AE22)","v":29},null,null,null,"Total Sequences in Block Summary",{"$f":"SUM(AJ7:AJ22)","v":29},null,null,null,"Total Sequences in Block Summary",{"$f":"SUM(AO7:AO22)","v":28},null,null,null,"Total Sequences in Block Summary",{"$f":"SUM(AT7:AT22)","v":29}]
[null,null,null,null,null,null,null,null,null,null,null,null,null,null,null,null,null,null,null,"Block 1",null,null,null,null,"Block 2",null,null,null,null,"Block 3",null,null,null,null,"Block 4",null,null,null,null,"Block 5",null,null,null,null,"Block 6"]
["Sequence\nComponent\n1","Time\n1","Sequence\nComponent\n2","Time\n2","Sequence\nComponent\n3","Time\n3","Sequence\nComponent\n4","Time\n4","Sequence\nComponent\n5","Time\n5","Correct?\n0=No 1=Yes","Sequence",null,"Frequency",null,"Relative Frequency","Variability",null,null,"Frequency",null,"Relative Frequency","Variability",null,"Frequency",null,"Relative Frequency","Variability",null,"Frequency",null,"Relative Frequency","Variability",null,"Frequency",null,"Relative Frequency","Variability",null,"Frequency",null,"Relative Frequency","Variability",null,"Frequency",null,"Relative Frequency","Variability"]
[21,44,21,52,22,57,23,64,null,null,0,2222,null,1111,{"$f":"COUNTIF($L$7:$L$500,N7)","v":139},{"$f":"O7/$Q$4","v":0.80813953488372092},{"$f":"IF(P7=0,0,(P7*((LOG(P7))/LOG(2))))","v":-0.24836041741293069},null,null,{"$f":"N7","v":1111},{"$f":"COUNTIF(L7:L35,T7)","v":16},{"$f":"U7/(W4-U20)","v":0.55172413793103448},{"$f":"IF(V7=0,0,(V7*((LOG(V7))/LOG(2))))","v":-0.47336882489797077},null,{"$f":"N7","v":1111},{"$f":"COUNTIF(L36:L63,Y7)","v":21},{"$f":"Z7/(AB4-Z20)","v":0.75},{"$f":"IF(AA7=0,0,(AA7*((LOG(AA7))/LOG(2))))","v":-0.31127812445913283},null,{"$f":"N7","v":1111},{"$f":"COUNTIF(L64:L92,AD7)","v":23},{"$f":"AE7/(AG4-AE20)","v":0.7931034482758621},{"$f":"IF(AF7=0,0,(AF7*((LOG(AF7))/LOG(2))))","v":-0.2652288930559607},null,{"$f":"N7","v":1111},{"$f":"COUNTIF(L93:L121,AI7)","v":28},{"$f":"AJ7/(AL4-AJ20)","v":0.96551724137931039},{"$f":"IF(AK7=0,0,(AK7*((LOG(AK7))/LOG(2))))","v":-4.8880346412382848E-2},null,{"$f":"N7","v":1111},{"$f":"COUNTIF(L122:L149,AN7)","v":26},{"$f":"AO7/(AQ4-AO20)","v":0.9285714285714286},{"$f":"IF(AP7=0,0,(AP7*((LOG(AP7))/LOG(2))))","v":-9.9278403636761048E-2},null,{"$f":"N7","v":1111},{"$f":"COUNTIF(L150:L178,AS7)","v":25},{"$f":"AT7/(AV4-AT20)","v":0.86206896551724133},{"$f":"IF(AU7=0,0,(AU7*((LOG(AU7))/LOG(2))))","v":-0.18459034944210989}]
[12,173,14,190,13,195,14,203,null,null,0,1111,null,1112,{"$f":"COUNTIF($L$7:$L$500,N8)","v":0},{"$f":"O8/$Q$4","v":0},{"$f":"IF(P8=0,0,(P8*((LOG(P8))/LOG(2))))","v":0},null,null,{"$f":"N8","v":1112},{"$f":"COUNTIF(L7:L35,T8)","v":0},{"$f":"U8/(W4-U20)","v":0},{"$f":"IF(V8=0,0,(V8*((LOG(V8))/LOG(2))))","v":0},null,{"$f":"N8","v":1112},{"$f":"COUNTIF(L36:L63,Y8)","v":0},{"$f":"Z8/(AB4-Z20)","v":0},{"$f":"IF(AA8=0,0,(AA8*((LOG(AA8))/LOG(2))))","v":0},null,{"$f":"N8","v":1112},{"$f":"COUNTIF(L64:L92,AD8)","v":0},{"$f":"AE8/(AG4-AE20)","v":0},{"$f":"IF(AF8=0,0,(AF8*((LOG(AF8))/LOG(2))))","v":0},null,{"$f":"N8","v":1112},{"$f":"COUNTIF(L93:L121,AI8)","v":0},{"$f":"AJ8/(AL4-AJ20)","v":0},{"$f":"IF(AK8=0,0,(AK8*((LOG(AK8))/LOG(2))))","v":0},null,{"$f":"N8","v":1112},{"$f":"COUNTIF(L122:L149,AN8)","v":0},{"$f":"AO8/(AQ4-AO20)","v":0},{"$f":"IF(AP8=0,0,(AP8*((LOG(AP8))/LOG(2))))","v":0},null,{"$f":"N8","v":1112},{"$f":"COUNTIF(L150:L178,AS8)","v":0},{"$f":"AT8/(AV4-AT20)","v":0},{"$f":"IF(AU8=0,0,(AU8*((LOG(AU8))/LOG(2))))","v":0}]
[12,311,14,316,13,323,14,329,null,null,0,1111,null,1121,{"$f":"COUNTIF($L$7:$L$500,N9)","v":0},{"$f":"O9/$Q$4","v":0},{"$f":"IF(P9=0,0,(P9*((LOG(P9))/LOG(2))))","v":0},null,null,{"$f":"N9","v":1121},{"$f":"COUNTIF(L7:L35,T9)","v":0},{"$f":"U9/(W4-U20)","v":0},{"$f":"IF(V9=0,0,(V9*((LOG(V9))/LOG(2))))","v":0},null,{"$f":"N9","v":1121},{"$f":"COUNTIF(L36:L63,Y9)","v":0},{"$f":"Z9/(AB4-Z20)","v":0},{"$f":"IF(AA9=0,0,(AA9*((LOG(AA9))/LOG(2))))","v":0},null,{"$f":"N9","v":1121},{"$f":"COUNTIF(L64:L92,AD9)","v":0},{"$f":"AE9/(AG4-AE20)","v":0},{"$f":"IF(AF9=0,0,(AF9*((LOG(AF9))/LOG(2))))","v":0},null,{"$f":"N9","v":1121},{"$f":"COUNTIF(L93:L121,AI9)","v":0},{"$f":"AJ9/(AL4-AJ20)","v":0},{"$f":"IF(AK9=0,0,(AK9*((LOG(AK9))/LOG(2))))","v":0},null,{"$f":"N9","v":1121},{"$f":"COUNTIF(L122:L149,AN9)","v":0},{"$f":"AO9/(AQ4-AO20)","v":0},{"$f":"IF(AP9=0,0,(AP9*((LOG(AP9))/LOG(2))))","v":0},null,{"$f":"N9","v":1121},{"$f":"COUNTIF(L150:L178,AS9)","v":0},{"$f":"AT9/(AV4-AT20)","v":0},{"$f":"IF(AU9=0,0,(AU9*((LOG(AU9))/LOG(2))))","v":0}]
[12,445,14,449,13,455,14,462,null,null,0,1111,null,1122,{"$f":"COUNTIF($L$7:$L$500,N10)","v":0},{"$f":"O10/$Q$4","v":0},{"$f":"IF(P10=0,0,(P10*((LOG(P10))/LOG(2))))","v":0},null,null,{"$f":"N10","v":1122},{"$f":"COUNTIF(L7:L35,T10)","v":0},{"$f":"U10/(W4-U20)","v":0},{"$f":"IF(V10=0,0,(V10*((LOG(V10))/LOG(2))))","v":0},null,{"$f":"N10","v":1122},{"$f":"COUNTIF(L36:L63,Y10)","v":0},{"$f":"Z10/(AB4-Z20)","v":0},{"$f":"IF(AA10=0,0,(AA10*((LOG(AA10))/LOG(2))))","v":0},null,{"$f":"N10","v":1122},{"$f":"COUNTIF(L64:L92,AD10)","v":0},{"$f":"AE10/(AG4-AE20)","v":0},{"$f":"IF(AF10=0,0,(AF10*((LOG(AF10))/LOG(2))))","v":0},null,{"$f":"N10","v":1122},{"$f":"COUNTIF(L93:L121,AI10)","v":0},{"$f":"AJ10/(AL4-AJ20)","v":0},{"$f":"IF(AK10=0,0,(AK10*((LOG(AK10))/LOG(2))))","v":0},null,{"$f":"N10","v":1122},{"$f":"COUNTIF(L122:L149,AN10)","v":0},{"$f":"AO10/(AQ4-AO20)","v":0},{"$f":"IF(AP10=0,0,(AP10*((LOG(AP10))/LOG(2))))","v":0},null,{"$f":"N10","v":1122},{"$f":"COUNTIF(L150:L178,AS10)","v":0},{"$f":"AT10/(AV4-AT20)","v":0},{"$f":"IF(AU10=0,0,(AU10*((LOG(AU10))/LOG(2))))","v":0}]
[21,591,21,598,22,600,23,608,null,null,0,2222,null,1211,{"$f":"COUNTIF($L$7:$L$500,N11)","v":0},{"$f":"O11/$Q$4","v":0},{"$f":"IF(P11=0,0,(P11*((LOG(P11))/LOG(2))))","v":0},null,null,{"$f":"N11","v":1211},{"$f":"COUNTIF(L7:L35,T11)","v":0},{"$f":"U11/(W4-U20)","v":0},{"$f":"IF(V11=0,0,(V11*((LOG(V11))/LOG(2))))","v":0},null,{"$f":"N11","v":1211},{"$f":"COUNTIF(L36:L63,Y11)","v":0},{"$f":"Z11/(AB4-Z20)","v":0},{"$f":"IF(AA11=0,0,(AA11*((LOG(AA11))/LOG(2))))","v":0},null,{"$f":"N11","v":1211},{"$f":"COUNTIF(L64:L92,AD11)","v":0},{"$f":"AE11/(AG4-AE20)","v":0},{"$f":"IF(AF11=0,0,(AF11*((LOG(AF11))/LOG(2))))","v":0},null,{"$f":"N11","v":1211},{"$f":"COUNTIF(L93:L121,AI11)","v":0},{"$f":"AJ11/(AL4-AJ20)","v":0},{"$f":"IF(AK11=0,0,(AK11*((LOG(AK11))/LOG(2))))","v":0},null,{"$f":"N11","v":1211},{"$f":"COUNTIF(L122:L149,AN11)","v":0},{"$f":"AO11/(AQ4-AO20)","v":0},{"$f":"IF(AP11=0,0,(AP11*((LOG(AP11))/LOG(2))))","v":0},null,{"$f":"N11","v":1211},{"$f":"COUNTIF(L150:L178,AS11)","v":0},{"$f":"AT11/(AV4-AT20)","v":0},{"$f":"IF(AU11=0,0,(AU11*((LOG(AU11))/LOG(2))))","v":0}]
[21,734,21,743,22,750,23,755,null,null,0,2222,null,1212,{"$f":"COUNTIF($L$7:$L$500,N12)","v":0},{"$f":"O12/$Q$4","v":0},{"$f":"IF(P12=0,0,(P12*((LOG(P12))/LOG(2))))","v":0},null,null,{"$f":"N12","v":1212},{"$f":"COUNTIF(L7:L35,T12)","v":0},{"$f":"U12/(W4-U20)","v":0},{"$f":"IF(V12=0,0,(V12*((LOG(V12))/LOG(2))))","v":0},null,{"$f":"N12","v":1212},{"$f":"COUNTIF(L36:L63,Y12)","v":0},{"$f":"Z12/(AB4-Z20)","v":0},{"$f":"IF(AA12=0,0,(AA12*((LOG(AA12))/LOG(2))))","v":0},null,{"$f":"N12","v":1212},{"$f":"COUNTIF(L64:L92,AD12)","v":0},{"$f":"AE12/(AG4-AE20)","v":0},{"$f":"IF(AF12=0,0,(AF12*((LOG(AF12))/LOG(2))))","v":0},null,{"$f":"N12","v":1212},{"$f":"COUNTIF(L93:L121,AI12)","v":0},{"$f":"AJ12/(AL4-AJ20)","v":0},{"$f":"IF(AK12=0,0,(AK12*((LOG(AK12))/LOG(2))))","v":0},null,{"$f":"N12","v":1212},{"$f":"COUNTIF(L122:L149,AN12)","v":0},{"$f":"AO12/(AQ4-AO20)","v":0},{"$f":"IF(AP12=0,0,(AP12*((LOG(AP12))/LOG(2))))","v":0},null,{"$f":"N12","v":1212},{"$f":"COUNTIF(L150:L178,AS12)","v":0},{"$f":"AT12/(AV4-AT20)","v":0},{"$f":"IF(AU12=0,0,(AU12*((LOG(AU12))/LOG(2))))","v":0}]
[12,894,14,902,13,906,14,914,null,null,0,1111,null,1221,{"$f":"COUNTIF($L$7:$L$500,N13)","v":0},{"$f":"O13/$Q$4","v":0},{"$f":"IF(P13=0,0,(P13*((LOG(P13))/LOG(2))))","v":0},null,null,{"$f":"N13","v":1221},{"$f":"COUNTIF(L7:L35,T13)","v":0},{"$f":"U13/(W4-U20)","v":0},{"$f":"IF(V13=0,0,(V13*((LOG(V13))/LOG(2))))","v":0},null,{"$f":"N13","v":1221},{"$f":"COUNTIF(L36:L63,Y13)","v":0},{"$f":"Z13/(AB4-Z20)","v":0},{"$f":"IF(AA13=0,0,(AA13*((LOG(AA13))/LOG(2))))","v":0},null,{"$f":"N13","v":1221},{"$f":"COUNTIF(L64:L92,AD13)","v":0},{"$f":"AE13/(AG4-AE20)","v":0},{"$f":"IF(AF13=0,0,(AF13*((LOG(AF13))/LOG(2))))","v":0},null,{"$f":"N13","v":1221},{"$f":"COUNTIF(L93:L121,AI13)","v":0},{"$f":"AJ13/(AL4-AJ20)","v":0},{"$f":"IF(AK13=0,0,(AK13*((LOG(AK13))/LOG(2))))","v":0},null,{"$f":"N13","v":1221},{"$f":"COUNTIF(L122:L149,AN13)","v":0},{"$f":"AO13/(AQ4-AO20)","v":0},{"$f":"IF(AP13=0,0,(AP13*((LOG(AP13))/LOG(2))))","v":0},null,{"$f":"N13","v":1221},{"$f":"COUNTIF(L150:L178,AS13)","v":0},{"$f":"AT13/(AV4-AT20)","v":0},{"$f":"IF(AU13=0,0,(AU13*((LOG(AU13))/LOG(2))))","v":0}]
[12,1023,14,1027,13,1031,14,1036,null,null,0,1111,null,1222,{"$f":"COUNTIF($L$7:$L$500,N14)","v":6},{"$f":"O14/$Q$4","v":3.4883720930232558E-2},{"$f":"IF(P14=0,0,(P14*((LOG(P14))/LOG(2))))","v":-0.16888263676677703},null,null,{"$f":"N14","v":1222},{"$f":"COUNTIF(L7:L35,T14)","v":2},{"$f":"U14/(W4-U20)","v":6.8965517241379309E-2},{"$f":"IF(V14=0,0,(V14*((LOG(V14))/LOG(2))))","v":-0.26606765483638428},null,{"$f":"N14","v":1222},{"$f":"COUNTIF(L36:L63,Y14)","v":0},{"$f":"Z14/(AB4-Z20)","v":0},{"$f":"IF(AA14=0,0,(AA14*((LOG(AA14))/LOG(2))))","v":0},null,{"$f":"N14","v":1222},{"$f":"COUNTIF(L64:L92,AD14)","v":2},{"$f":"AE14/(AG4-AE20)","v":6.8965517241379309E-2},{"$f":"IF(AF14=0,0,(AF14*((LOG(AF14))/LOG(2))))","v":-0.26606765483638428},null,{"$f":"N14","v":1222},{"$f":"COUNTIF(L93:L121,AI14)","v":0},{"$f":"AJ14/(AL4-AJ20)","v":0},{"$f":"IF(AK14=0,0,(AK14*((LOG(AK14))/LOG(2))))","v":0},null,{"$f":"N14","v":1222},{"$f":"COUNTIF(L122:L149,AN14)","v":0},{"$f":"AO14/(AQ4-AO20)","v":0},{"$f":"IF(AP14=0,0,(AP14*((LOG(AP14))/LOG(2))))","v":0},null,{"$f":"N14","v":1222},{"$f":"COUNTIF(L150:L178,AS14)","v":2},{"$f":"AT14/(AV4-AT20)","v":6.8965517241379309E-2},{"$f":"IF(AU14=0,0,(AU14*((LOG(AU14))/LOG(2))))","v":-0.26606765483638428}]
[21,1183,21,1190,22,1198,23,1203,null,null,0,2222,null,2111,{"$f":"COUNTIF($L$7:$L$500,N15)","v":7},{"$f":"O15/$Q$4","v":4.0697674418604654E-2},{"$f":"IF(P15=0,0,(P15*((LOG(P15))/LOG(2))))","v":-0.1879788885378573},null,null,{"$f":"N15","v":2111},{"$f":"COUNTIF(L7:L35,T15)","v":1},{"$f":"U15/(W4-U20)","v":3.4482758620689655E-2},{"$f":"IF(V15=0,0,(V15*((LOG(V15))/LOG(2))))","v":-0.16751658603888178},null,{"$f":"N15","v":2111},{"$f":"COUNTIF(L36:L63,Y15)","v":1},{"$f":"Z15/(AB4-Z20)","v":3.5714285714285712E-2},{"$f":"IF(AA15=0,0,(AA15*((LOG(AA15))/LOG(2))))","v":-0.17169124721634299},null,{"$f":"N15","v":2111},{"$f":"COUNTIF(L64:L92,AD15)","v":3},{"$f":"AE15/(AG4-AE20)","v":0.10344827586206896},{"$f":"IF(AF15=0,0,(AF15*((LOG(AF15))/LOG(2))))","v":-0.33858812011100858},null,{"$f":"N15","v":2111},{"$f":"COUNTIF(L93:L121,AI15)","v":1},{"$f":"AJ15/(AL4-AJ20)","v":3.4482758620689655E-2},{"$f":"IF(AK15=0,0,(AK15*((LOG(AK15))/LOG(2))))","v":-0.16751658603888178},null,{"$f":"N15","v":2111},{"$f":"COUNTIF(L122:L149,AN15)","v":0},{"$f":"AO15/(AQ4-AO20)","v":0},{"$f":"IF(AP15=0,0,(AP15*((LOG(AP15))/LOG(2))))","v":0},null,{"$f":"N15","v":2111},{"$f":"COUNTIF(L150:L178,AS15)","v":1},{"$f":"AT15/(AV4-AT20)","v":3.4482758620689655E-2},{"$f":"IF(AU15=0,0,(AU15*((LOG(AU15))/LOG(2))))","v":-0.16751658603888178}]
[12,1311,14,1315,13,1319,14,1324,null,null,0,1111,null,2112,{"$f":"COUNTIF($L$7:$L$500,N16)","v":0},{"$f":"O16/$Q$4","v":0},{"$f":"IF(P16=0,0,(P16*((LOG(P16))/LOG(2))))","v":0},null,null,{"$f":"N16","v":2112},{"$f":"COUNTIF(L7:L35,T16)","v":0},{"$f":"U16/(W4-U20)","v":0},{"$f":"IF(V16=0,0,(V16*((LOG(V16))/LOG(2))))","v":0},null,{"$f":"N16","v":2112},{"$f":"COUNTIF(L36:L63,Y16)","v":0},{"$f":"Z16/(AB4-Z20)","v":0},{"$f":"IF(AA16=0,0,(AA16*((LOG(AA16))/LOG(2))))","v":0},null,{"$f":"N16","v":2112},{"$f":"COUNTIF(L64:L92,AD16)","v":0},{"$f":"AE16/(AG4-AE20)","v":0},{"$f":"IF(AF16=0,0,(AF16*((LOG(AF16))/LOG(2))))","v":0},null,{"$f":"N16","v":2112},{"$f":"COUNTIF(L93:L121,AI16)","v":0},{"$f":"AJ16/(AL4-AJ20)","v":0},{"$f":"IF(AK16=0,0,(AK16*((LOG(AK16))/LOG(2))))","v":0},null,{"$f":"N16","v":2112},{"$f":"COUNTIF(L122:L149,AN16)","v":0},{"$f":"AO16/(AQ4-AO20)","v":0},{"$f":"IF(AP16=0,0,(AP16*((LOG(AP16))/LOG(2))))","v":0},null,{"$f":"N16","v":2112},{"$f":"COUNTIF(L150:L178,AS16)","v":0},{"$f":"AT16/(AV4-AT20)","v":0},{"$f":"IF(AU16=0,0,(AU16*((LOG(AU16))/LOG(2))))","v":0}]
[12,1473,14,1476,13,1481,14,1485,null,null,0,1111,null,2121,{"$f":"COUNTIF($L$7:$L$500,N17)","v":0},{"$f":"O17/$Q$4","v":0},{"$f":"IF(P17=0,0,(P17*((LOG(P17))/LOG(2))))","v":0},null,null,{"$f":"N17","v":2121},{"$f":"COUNTIF(L7:L35,T17)","v":0},{"$f":"U17/(W4-U20)","v":0},{"$f":"IF(V17=0,0,(V17*((LOG(V17))/LOG(2))))","v":0},null,{"$f":"N17","v":2121},{"$f":"COUNTIF(L36:L63,Y17)","v":0},{"$f":"Z17/(AB4-Z20)","v":0},{"$f":"IF(AA17=0,0,(AA17*((LOG(AA17))/LOG(2))))","v":0},null,{"$f":"N17","v":2121},{"$f":"COUNTIF(L64:L92,AD17)","v":0},{"$f":"AE17/(AG4-AE20)","v":0},{"$f":"IF(AF17=0,0,(AF17*((LOG(AF17))/LOG(2))))","v":0},null,{"$f":"N17","v":2121},{"$f":"COUNTIF(L93:L121,AI17)","v":0},{"$f":"AJ17/(AL4-AJ20)","v":0},{"$f":"IF(AK17=0,0,(AK17*((LOG(AK17))/LOG(2))))","v":0},null,{"$f":"N17","v":2121},{"$f":"COUNTIF(L122:L149,AN17)","v":0},{"$f":"AO17/(AQ4-AO20)","v":0},{"$f":"IF(AP17=0,0,(AP17*((LOG(AP17))/LOG(2))))","v":0},null,{"$f":"N17","v":2121},{"$f":"COUNTIF(L150:L178,AS17)","v":0},{"$f":"AT17/(AV4-AT20)","v":0},{"$f":"IF(AU17=0,0,(AU17*((LOG(AU17))/LOG(2))))","v":0}]
[21,1603,21,1618,22,1625,23,1632,null,null,0,2222,null,2122,{"$f":"COUNTIF($L$7:$L$500,N18)","v":0},{"$f":"O18/$Q$4","v":0},{"$f":"IF(P18=0,0,(P18*((LOG(P18))/LOG(2))))","v":0},null,null,{"$f":"N18","v":2122},{"$f":"COUNTIF(L7:L35,T18)","v":0},{"$f":"U18/(W4-U20)","v":0},{"$f":"IF(V18=0,0,(V18*((LOG(V18))/LOG(2))))","v":0},null,{"$f":"N18","v":2122},{"$f":"COUNTIF(L36:L63,Y18)","v":0},{"$f":"Z18/(AB4-Z20)","v":0},{"$f":"IF(AA18=0,0,(AA18*((LOG(AA18))/LOG(2))))","v":0},null,{"$f":"N18","v":2122},{"$f":"COUNTIF(L64:L92,AD18)","v":0},{"$f":"AE18/(AG4-AE20)","v":0},{"$f":"IF(AF18=0,0,(AF18*((LOG(AF18))/LOG(2))))","v":0},null,{"$f":"N18","v":2122},{"$f":"COUNTIF(L93:L121,AI18)","v":0},{"$f":"AJ18/(AL4-AJ20)","v":0},{"$f":"IF(AK18=0,0,(AK18*((LOG(AK18))/LOG(2))))","v":0},null,{"$f":"N18","v":2122},{"$f":"COUNTIF(L122:L149,AN18)","v":0},{"$f":"AO18/(AQ4-AO20)","v":0},{"$f":"IF(AP18=0,0,(AP18*((LOG(AP18))/LOG(2))))","v":0},null,{"$f":"N18","v":2122},{"$f":"COUNTIF(L150:L178,AS18)","v":0},{"$f":"AT18/(AV4-AT20)","v":0},{"$f":"IF(AU18=0,0,(AU18*((LOG(AU18))/LOG(2))))","v":0}]
[12,1782,14,1786,13,1794,14,1802,null,null,0,1111,null,2211,{"$f":"COUNTIF($L$7:$L$500,N19)","v":1},{"$f":"O19/$Q$4","v":5.8139534883720929E-3},{"$f":"IF(P19=0,0,(P19*((LOG(P19))/LOG(2))))","v":-4.3175957876174981E-2},null,null,{"$f":"N19","v":2211},{"$f":"COUNTIF(L7:L35,T19)","v":0},{"$f":"U19/(W4-U20)","v":0},{"$f":"IF(V19=0,0,(V19*((LOG(V19))/LOG(2))))","v":0},null,{"$f":"N19","v":2211},{"$f":"COUNTIF(L36:L63,Y19)","v":0},{"$f":"Z19/(AB4-Z20)","v":0},{"$f":"IF(AA19=0,0,(AA19*((LOG(AA19))/LOG(2))))","v":0},null,{"$f":"N19","v":2211},{"$f":"COUNTIF(L64:L92,AD19)","v":1},{"$f":"AE19/(AG4-AE20)","v":3.4482758620689655E-2},{"$f":"IF(AF19=0,0,(AF19*((LOG(AF19))/LOG(2))))","v":-0.16751658603888178},null,{"$f":"N19","v":2211},{"$f":"COUNTIF(L93:L121,AI19)","v":0},{"$f":"AJ19/(AL4-AJ20)","v":0},{"$f":"IF(AK19=0,0,(AK19*((LOG(AK19))/LOG(2))))","v":0},null,{"$f":"N19","v":2211},{"$f":"COUNTIF(L122:L149,AN19)","v":0},{"$f":"AO19/(AQ4-AO20)","v":0},{"$f":"IF(AP19=0,0,(AP19*((LOG(AP19))/LOG(2))))","v":0},null,{"$f":"N19","v":2211},{"$f":"COUNTIF(L150:L178,AS19)","v":0},{"$f":"AT19/(AV4-AT20)","v":0},{"$f":"IF(AU19=0,0,(AU19*((LOG(AU19))/LOG(2))))","v":0}]
[12,1934,23,1946,24,1951,23,1955,null,null,0,1222,null,2212,{"$f":"COUNTIF($L$7:$L$500,N20)","v":0},{"$f":"O20/$Q$4","v":0},{"$f":"IF(P20=0,0,(P20*((LOG(P20))/LOG(2))))","v":0},null,null,{"$f":"N20","v":2212},{"$f":"COUNTIF(L7:L35,T20)","v":0},null,null,null,{"$f":"N20","v":2212},{"$f":"COUNTIF(L36:L63,Y20)","v":0},null,null,null,{"$f":"N20","v":2212},{"$f":"COUNTIF(L64:L92,AD20)","v":0},null,null,null,{"$f":"N20","v":2212},{"$f":"COUNTIF(L93:L121,AI20)","v":0},null,null,null,{"$f":"N20","v":2212},{"$f":"COUNTIF(L122:L149,AN20)","v":0},null,null,null,{"$f":"N20","v":2212},{"$f":"COUNTIF(L150:L178,AS20)","v":0}]
[12,2083,23,2095,24,2100,23,2106,null,null,0,1222,null,2221,{"$f":"COUNTIF($L$7:$L$500,N21)","v":0},{"$f":"O21/$Q$4","v":0},{"$f":"IF(P21=0,0,(P21*((LOG(P21))/LOG(2))))","v":0},null,null,{"$f":"N21","v":2221},{"$f":"COUNTIF(L7:L35,T21)","v":0},{"$f":"U21/(W4-U20)","v":0},{"$f":"IF(V21=0,0,(V21*((LOG(V21))/LOG(2))))","v":0},null,{"$f":"N21","v":2221},{"$f":"COUNTIF(L36:L63,Y21)","v":0},{"$f":"Z21/(AB4-Z20)","v":0},{"$f":"IF(AA21=0,0,(AA21*((LOG(AA21))/LOG(2))))","v":0},null,{"$f":"N21","v":2221},{"$f":"COUNTIF(L64:L92,AD21)","v":0},{"$f":"AE21/(AG4-AE20)","v":0},{"$f":"IF(AF21=0,0,(AF21*((LOG(AF21))/LOG(2))))","v":0},null,{"$f":"N21","v":2221},{"$f":"COUNTIF(L93:L121,AI21)","v":0},{"$f":"AJ21/(AL4-AJ20)","v":0},{"$f":"IF(AK21=0,0,(AK21*((LOG(AK21))/LOG(2))))","v":0},null,{"$f":"N21","v":2221},{"$f":"COUNTIF(L122:L149,AN21)","v":0},{"$f":"AO21/(AQ4-AO20)","v":0},{"$f":"IF(AP21=0,0,(AP21*((LOG(AP21))/LOG(2))))","v":0},null,{"$f":"N21","v":2221},{"$f":"COUNTIF(L150:L178,AS21)","v":0},{"$f":"AT21/(AV4-AT20)","v":0},{"$f":"IF(AU21=0,0,(AU21*((LOG(AU21))/LOG(2))))","v":0}]
[12,2259,14,2267,13,2272,14,2280,null,null,0,1111,null,2222,{"$f":"COUNTIF($L$7:$L$500,N22)","v":19},{"$f":"O22/$Q$4","v":0.11046511627906977},{"$f":"IF(P22=0,0,(P22*((LOG(P22))/LOG(2))))","v":-0.35109539292971936},null,null,{"$f":"N22","v":2222},{"$f":"COUNTIF(L7:L35,T22)","v":10},{"$f":"U22/(W4-U20)","v":0.34482758620689657},{"$f":"IF(V22=0,0,(V22*((LOG(V22))/LOG(2))))","v":-0.52967341387593436},null,{"$f":"N22","v":2222},{"$f":"COUNTIF(L36:L63,Y22)","v":6},{"$f":"Z22/(AB4-Z20)","v":0.21428571428571427},{"$f":"IF(AA22=0,0,(AA22*((LOG(AA22))/LOG(2))))","v":-0.47622694742923877},null,{"$f":"N22","v":2222},{"$f":"COUNTIF(L64:L92,AD22)","v":0},{"$f":"AE22/(AG4-AE20)","v":0},{"$f":"IF(AF22=0,0,(AF22*((LOG(AF22))/LOG(2))))","v":0},null,{"$f":"N22","v":2222},{"$f":"COUNTIF(L93:L121,AI22)","v":0},{"$f":"AJ22/(AL4-AJ20)","v":0},{"$f":"IF(AK22=0,0,(AK22*((LOG(AK22))/LOG(2))))","v":0},null,{"$f":"N22","v":2222},{"$f":"COUNTIF(L122:L149,AN22)","v":2},{"$f":"AO22/(AQ4-AO20)","v":7.1428571428571425E-2},{"$f":"IF(AP22=0,0,(AP22*((LOG(AP22))/LOG(2))))","v":-0.27195392300411453},null,{"$f":"N22","v":2222},{"$f":"COUNTIF(L150:L178,AS22)","v":1},{"$f":"AT22/(AV4-AT20)","v":3.4482758620689655E-2},{"$f":"IF(AU22=0,0,(AU22*((LOG(AU22))/LOG(2))))","v":-0.16751658603888178}]
[21,2390,21,2396,22,2400,23,2404,null,null,0,2222,null,null,null,{"$f":"SUM(P7:P22)","v":0.99999999999999989},{"$f":"-SUM(Q7:Q22)","v":0.99949329352345939},null,null,null,null,{"$f":"SUM(V7:V22)","v":1},{"$f":"-SUM(W7:W22)","v":1.4366264796491712},null,null,null,{"$f":"SUM(AA7:AA22)","v":1},{"$f":"-SUM(AB7:AB22)","v":0.95919631910471459},null,null,null,{"$f":"SUM(AF7:AF22)","v":1},{"$f":"-SUM(AG7:AG22)","v":1.0374012540422355},null,null,null,{"$f":"SUM(AK7:AK22)","v":1},{"$f":"-SUM(AL7:AL22)","v":0.21639693245126462},null,null,null,{"$f":"SUM(AP7:AP22)","v":1},{"$f":"-SUM(AQ7:AQ22)","v":0.37123232664087558},null,null,null,{"$f":"SUM(AU7:AU22)","v":0.99999999999999989},{"$f":"-SUM(AV7:AV22)","v":0.78569117635625774}]
[21,2575,21,2585,22,2592,23,2599,null,null,0,2222,null,null,null,"U=",{"$f":"Q23/(LOG(Q4)/LOG(2))","v":0.13458896585805252},null,null,null,null,"U1=",{"$f":"W23/(LOG(W4)/LOG(2))","v":0.29572501026456671},null,null,null,"U2=",{"$f":"AB23/(LOG(AB4)/LOG(2))","v":0.19952683641135599},null,null,null,"U3=",{"$f":"AG23/(LOG(AG4)/LOG(2))","v":0.21354576213507667},null,null,null,"U4=",{"$f":"AL23/(LOG(AL4)/LOG(2))","v":4.4544623099247421E-2},null,null,null,"U5=",{"$f":"AQ23/(LOG(AQ4)/LOG(2))","v":7.7221743070716289E-2},null,null,null,"U6=",{"$f":"AV23/(LOG(AV4)/LOG(2))","v":0.16173203994504826}]
[21,2714,12,2728,13,2734,14,2742,null,null,0,2111]
[12,2878,14,2884,13,2888,14,2897,null,null,0,1111]
[12,3029,14,3035,13,3040,14,3048,null,null,0,1111,null,"Total Target Seq"]
[21,3174,21,3182,22,3186,23,3191,null,null,0,2222,null,{"$f":"COUNTIF(L7:L178,G3)","v":0},null,29,28,29,29,28,29]
[21,3315,21,3320,22,3327,23,3332,null,null,0,2222,null,null,null,"% of reinforcement given in 6 equal intervals based on number of trials "]
[12,3520,14,3524,13,3531,14,3540,null,null,0,1111,null,null,null,"%_1","%_2","%_3","%_4","%_5","%_6"]
[12,3666,14,3671,13,3676,14,3684,null,null,0,1111,null,null,"target sequence",{"$f":"$G$3","v":2212},{"$f":"$G$3","v":2212},{"$f":"$G$3","v":2212},{"$f":"$G$3","v":2212},{"$f":"$G$3","v":2212},{"$f":"$G$3","v":2212}]
[12,3816,14,3820,13,3828,14,3836,null,null,0,1111,null,null,"total reinforcement",{"$f":"U20","v":0},{"$f":"Z20","v":0},{"$f":"AE20","v":0},{"$f":"AJ20","v":0},{"$f":"AO20","v":0},{"$f":"AT20","v":0}]
[21,3986,21,3994,22,4002,23,4010,null,null,0,2222,null,null,"% target"]
[12,4131,14,4136,13,4140,14,4145,null,null,0,1111,null,null,"CCRF"]
[12,4273,14,4278,13,4286,14,4291,null,null,0,1111,null,null,"% CCRf"]
[21,4423,21,4433,22,4437,23,4447,null,null,0,2222,null,null,"average response rate",{"$f":"H35/P28","v":147.9655172413793},{"$f":"(H63-H35)/Q28","v":144.96428571428572},{"$f":"(H92-H63)/R28","v":135.9655172413793},{"$f":"(H121-H92)/S28","v":132.34482758620689},{"$f":"(H149-H121)/T28","v":137.39285714285714},{"$f":"(H178-H149)/U28","v":138.06896551724137}]
[21,4559,12,4571,13,4575,14,4582,null,null,0,2111]
[12,4726,14,4731,13,4735,14,4740,null,null,0,1111]
[21,4900,21,4908,22,4915,23,4922,null,null,0,2222]
[12,5056,14,5072,13,5076,14,5081,null,null,0,1111]
[12,5217,14,5222,13,5227,14,5234,null,null,0,1111]
[12,5346,14,5351,13,5358,14,5367,null,null,0,1111]
[12,5490,14,5498,13,5502,14,5515,null,null,0,1111]
[21,5673,21,5678,22,5682,23,5689,null,null,0,2222]
[12,5820,14,5825,13,5829,14,5836,null,null,0,1111]
[12,5958,14,5963,13,5967,14,5971,null,null,0,1111]
[12,6107,14,6119,13,6127,14,6135,null,null,0,1111]
[12,6257,14,6262,13,6267,14,6271,null,null,0,1111]
[12,6398,14,6402,13,6410,14,6415,null,null,0,1111]
[12,6537,14,6543,13,6555,14,6563,null,null,0,1111]
[21,6711,21,6720,22,6724,23,6730,null,null,0,2222]
[12,6846,14,6854,13,6858,14,6865,null,null,0,1111]
[12,6984,14,6989,13,6994,14,6998,null,null,0,1111]
[12,7107,14,7118,13,7123,14,7131,null,null,0,1111]
[21,7243,21,7250,22,7258,23,7262,null,null,0,2222]
[12,7382,14,7386,13,7391,14,7399,null,null,0,1111]
[12,7522,14,7524,13,7532,14,7538,null,null,0,1111]
[12,7679,14,7683,13,7688,14,7693,null,null,0,1111]
[21,7792,21,7799,22,7804,23,7809,null,null,0,2222]
[12,7926,14,7931,13,7938,14,7948,null,null,0,1111]
[12,8059,14,8063,13,8068,14,8072,null,null,0,1111]
[12,8188,14,8193,13,8201,14,8216,null,null,0,1111]
[12,8336,14,8341,13,8346,14,8350,null,null,0,1111]
[12,8468,14,8472,13,8477,14,8481,null,null,0,1111]
[12,8588,14,8592,13,8596,14,8601,null,null,0,1111]
[12,8714,14,8720,13,8724,14,8728,null,null,0,1111]
[12,8852,14,8857,13,8864,14,8869,null,null,0,1111]
[12,8979,14,8986,13,8990,14,8994,null,null,0,1111]
[12,9101,14,9107,13,9119,14,9124,null,null,0,1111]
[12,9226,14,9249,13,9255,14,9262,null,null,0,1111]
[12,9362,14,9374,13,9382,14,9387,null,null,0,1111]
[12,9513,14,9518,13,9522,14,9527,null,null,0,1111]
[12,9661,14,9665,13,9670,14,9674,null,null,0,1111]
[12,9794,14,9799,13,9805,14,9813,null,null,0,1111]
[12,9939,23,9956,24,9963,23,9968,null,null,0,1222]
[12,10073,14,10079,13,10084,14,10092,null,null,0,1111]
[21,10220,12,10229,13,10235,14,10240,null,null,0,2111]
[12,10353,14,10373,13,10378,14,10383,null,null,0,1111]
[12,10514,14,10526,13,10534,14,10543,null,null,0,1111]
[12,10645,14,10647,13,10652,14,10659,null,null,0,1111]
[12,10760,14,10770,13,10777,14,10781,null,null,0,1111]
[12,10884,14,10891,13,10896,14,10902,null,null,0,1111]
[12,11001,23,11026,24,11033,23,11038,null,null,0,1222]
[12,11169,14,11176,13,11181,14,11190,null,null,0,1111]
[12,11315,14,11320,13,11324,14,11329,null,null,0,1111]
[12,11470,14,11475,13,11480,14,11485,null,null,0,1111]
[21,11602,12,11612,13,11617,14,11621,null,null,0,2111]
[12,11745,14,11751,13,11756,14,11761,null,null,0,1111]
[21,11869,12,11879,13,11884,14,11891,null,null,0,2111]
[21,12006,21,12008,11,12018,12,12022,null,null,0,2211]
[12,12150,14,12154,13,12162,14,12170,null,null,0,1111]
[12,12270,14,12280,13,12285,14,12293,null,null,0,1111]
[12,12401,14,12408,13,12412,14,12417,null,null,0,1111]
[12,12521,14,12530,13,12535,14,12539,null,null,0,1111]
[12,12654,14,12661,13,12666,14,12671,null,null,0,1111]
[12,12802,14,12808,13,12812,14,12816,null,null,0,1111]
[12,12916,14,12921,13,12926,14,12931,null,null,0,1111]
[12,13035,14,13040,13,13045,14,13050,null,null,0,1111]
[12,13166,14,13174,13,13179,14,13186,null,null,0,1111]
[12,13293,14,13306,13,13311,14,13315,null,null,0,1111]
[12,13430,14,13435,13,13439,14,13446,null,null,0,1111]
[12,13549,14,13554,13,13561,14,13566,null,null,0,1111]
[12,13667,14,13672,13,13681,14,13705,null,null,0,1111]
[12,13818,14,13822,13,13834,14,13841,null,null,0,1111]
[12,13955,14,13969,13,13979,14,13983,null,null,0,1111]
[21,14121,12,14130,13,14138,14,14143,null,null,0,2111]
[12,14267,14,14271,13,14275,14,14280,null,null,0,1111]
[12,14390,14,14405,13,14410,14,14417,null,null,0,1111]
[12,14537,14,14546,13,14552,14,14558,null,null,0,1111]
[12,14656,14,14676,13,14681,14,14686,null,null,0,1111]
[12,14792,14,14796,13,14800,14,14804,null,null,0,1111]
[12,14930,14,14937,13,14942,14,14947,null,null,0,1111]
[12,15065,14,15070,13,15074,14,15079,null,null,0,1111]
[12,15193,14,15198,13,15202,14,15207,null,null,0,1111]
[12,15321,14,15337,13,15341,14,15349,null,null,0,1111]
[12,15447,14,15452,13,15457,14,15461,null,null,0,1111]
[12,15577,14,15582,13,15586,14,15595,null,null,0,1111]
[12,15707,14,15712,13,15716,14,15720,null,null,0,1111]
[12,15840,14,15846,13,15850,14,15859,null,null,0,1111]
[12,15980,14,15984,13,15989,14,16001,null,null,0,1111]
[12,16115,14,16120,13,16127,14,16131,null,null,0,1111]
[12,16251,14,16255,13,16259,14,16264,null,null,0,1111]
[21,16373,21,16383,22,16391,23,16395,null,null,0,2222]
[12,16534,14,16538,13,16543,14,16551,null,null,0,1111]
[21,16691,21,16697,22,16702,23,16720,null,null,0,2222]
[12,16824,14,16829,13,16833,14,16838,null,null,0,1111]
[12,16940,14,16947,13,16952,14,16959,null,null,0,1111]
[12,17069,14,17075,13,17079,14,17084,null,null,0,1111]
[12,17187,14,17194,13,17198,14,17205,null,null,0,1111]
[12,17317,14,17324,13,17329,14,17352,null,null,0,1111]
[12,17498,14,17503,13,17508,14,17513,null,null,0,1111]
[12,17640,14,17647,13,17652,14,17657,null,null,0,1111]
[12,17774,14,17776,13,17784,14,17789,null,null,0,1111]
[12,17905,14,17910,13,17914,14,17924,null,null,0,1111]
[12,18037,14,18041,13,18047,14,18051,null,null,0,1111]
[12,18180,14,18185,13,18191,14,18195,null,null,0,1111]
[12,18317,14,18322,13,18326,14,18331,null,null,0,1111]
[12,18446,14,18451,13,18455,14,18463,null,null,0,1111]
[12,18577,14,18582,13,18587,14,18592,null,null,0,1111]
[12,18695,14,18701,13,18705,14,18710,null,null,0,1111]
[12,18822,14,18826,13,18830,14,18835,null,null,0,1111]
[12,18968,14,18975,13,18982,14,18986,null,null,0,1111]
[12,19104,14,19109,13,19114,14,19118,null,null,0,1111]
[12,19237,14,19243,13,19248,14,19252,null,null,0,1111]
[12,19370,14,19375,13,19379,14,19384,null,null,0,1111]
[12,19515,14,19520,13,19525,14,19530,null,null,0,1111]
[12,19648,14,19653,13,19658,14,19663,null,null,0,1111]
[12,19822,14,19830,13,19835,14,19843,null,null,0,1111]
[12,19948,14,19968,13,19973,14,19978,null,null,0,1111]
[12,20090,14,20095,13,20100,14,20104,null,null,0,1111]
[12,20229,14,20233,13,20238,14,20246,null,null,0,1111]
[12,20361,14,20366,13,20370,14,20375,null,null,0,1111]
[12,20478,14,20484,13,20488,14,20493,null,null,0,1111]
[12,20608,14,20613,13,20618,14,20623,null,null,0,1111]
[12,20740,14,20745,13,20750,14,20755,null,null,0,1111]
[12,20865,14,20873,13,20878,14,20885,null,null,0,1111]
[12,21003,23,21017,24,21021,23,21026,null,null,0,1222]
[12,21149,14,21154,13,21159,14,21167,null,null,0,1111]
[12,21289,14,21293,13,21298,14,21303,null,null,0,1111]
[12,21419,14,21423,13,21427,14,21433,null,null,0,1111]
[12,21546,14,21551,13,21555,14,21560,null,null,0,1111]
[12,21663,14,21677,13,21682,14,21686,null,null,0,1111]
[12,21798,14,21803,13,21807,14,21812,null,null,0,1111]
[12,21959,14,21964,13,21968,14,21973,null,null,0,1111]
[12,22077,14,22083,13,22090,14,22101,null,null,0,1111]
[12,22220,14,22227,13,22232,14,22240,null,null,0,1111]
[12,22344,23,22373,24,22378,23,22383,null,null,0,1222]
[12,22529,14,22534,13,22538,14,22542,null,null,0,1111]
[12,22657,14,22661,13,22665,14,22670,null,null,0,1111]
[12,22802,14,22804,13,22813,14,22818,null,null,0,1111]
[12,22983,14,22988,13,22992,14,22996,null,null,0,1111]
[21,23123,12,23132,13,23136,14,23140,null,null,0,2111]
[12,23262,14,23267,13,23271,14,23275,null,null,0,1111]
[21,23417,21,23422,22,23426,23,23430,null,null,0,2222]
[12,23551,14,23556,13,23560,14,23568,null,null,0,1111]
[12,23669,14,23698,13,23707,14,23711,null,null,0,1111]
[12,23832,14,23837,13,23841,14,23846,null,null,0,1111]
[12,23957,14,23973,13,23978,14,23982,null,null,1,1111]