{"text_format":"1","workbook":"xlsx","n_sheets":32,"sheets":["Sample Report","Summary","Start","!2011-05-19_09h50m.Subject 53","!2011-05-21_09h42m.Subject 53","!2011-05-22_09h18m.Subject 53","!2011-05-26_09h17m.Subject 53","!2011-05-28_14h16m.Subject 53","!2011-05-29_08h34m.Subject 53","!2011-06-01_08h42m.Subject 53","!2011-06-02_11h29m.Subject 53","!2011-06-03_11h25m.Subject 53","!2011-06-04_11h08m.Subject 53","!2011-06-05_10h17m.Subject 53","!2011-06-06_09h20m.Subject 53","!2011-06-07_08h59m.Subject 53","!2011-06-08_08h28m.Subject 53","!2011-06-09_09h18m.Subject 53","!2011-06-10_09h48m.Subject 53","!2011-06-11_09h25m.Subject 53","!2011-06-12_09h33m.Subject 53","!2011-06-13_09h14m.Subject 53","!2011-06-14_08h49m.Subject 53","!2011-06-15_11h11m.Subject 53","!2011-06-16_09h17m.Subject 53","!2011-06-17_08h26m.Subject 53","!2011-06-18_09h25m.Subject 53","!2011-06-19_14h06m.Subject 53","!2011-06-20_09h24m.Subject 53","!2011-06-23_09h08m.Subject 53","!2011-06-24_08h19m.Subject 53","!2011-06-25_08h05m.Subject 53"],"not_rendered":{"charts":0,"images":0,"macros":1,"external_links":0,"defined_names":0,"comments":0,"pivot_tables":0},"unopened":[],"bounds":{"document_bytes":16777216,"sheet_cells":100000,"rows_first":2000,"rows_last":500,"rows_between":2000,"halvings":0,"cell_chars":16384,"cell_head_chars":4096},"cells_cut":0,"cells_raw":0,"read":"whole","date_system":"1900"}

{"sheet":"Sample Report","index":0,"n_rows":12,"n_cols":11,"rows_kept":12,"cut":false,"hidden":true,"merged":[[7,0,7,6]]}
[]
["Date"]
["Hen"]
["Program"]
["Start at 999999"]
["Sequence component 1","Time 1","Seqeunce Component 2","Time 2","Seqeunce Component 3","Time 3","Correct   0 = No 1=Yes",null,null,"Seqeunce","Time"]
[12,7,12,42,13,18,"if 77 new line,                                  if 31 or 41 = yes new line on 77, ",null,null,"=string of Seqeunce compponent 1, 2 & 3","=time 3"]
["This continues until ther is a 1 on its own to indicate start of summary data"]
[null,null,null,null,null,null,null,null,null,"10-19 =1"]
["Summary Data ",null,null,null,null,null,null,null,null,"20-29 =2"]
["Correct","Incorrect","Rft","total","Av Correct","Av Incorrect","Percent correct","Time",null,"in this example the seqeunce would be 111"]
[40,33,40,73,23.95,15,54,806]

{"sheet":"Summary","index":1,"n_rows":32,"n_cols":16,"rows_kept":32,"cut":false,"hidden":false,"merged":[]}
[]
["Day","Date","Average Response Rate","Target %","RF for non correct sequence","U Value",null,null,null,null,"Block 1","Block 2","Block 3","Block 4","Block 5","Block 6"]
[1,{"$f":"'!2011-05-19_09h50m.Subject 53'!B2:C2","v":"2011-05-19"},{"$f":"('!2011-05-19_09h50m.Subject 53'!F79/60)/'!2011-05-19_09h50m.Subject 53'!Q3","v":4.0899543378995435},{"$f":"'!2011-05-19_09h50m.Subject 53'!N20/'!2011-05-19_09h50m.Subject 53'!Q3","v":1.3698630136986301E-2},{"$f":"SUM('!2011-05-19_09h50m.Subject 53'!L20:Q20)/'!2011-05-19_09h50m.Subject 53'!Q3","v":3.3835616438356166},{"$f":"'!2011-05-19_09h50m.Subject 53'!Q16","v":0.23400070844279955},null,null,null,"Average Response Rate",{"$f":"AVERAGE(C3:C7)","v":3.3370231897067852},{"$f":"AVERAGE(C8:C12)","v":3.4484034329867668},{"$f":"AVERAGE(C13:C17)","v":2.4955917722841527},{"$f":"AVERAGE(C18:C22)","v":1.948057011294716},{"$f":"AVERAGE(C23:C27)","v":1.9254374527588811},{"$f":"AVERAGE(C28:C32)","v":1.9806105266534093}]
[2,{"$f":"'!2011-05-21_09h42m.Subject 53'!B2:C2","v":"2011-05-21"},{"$f":"('!2011-05-21_09h42m.Subject 53'!F100/60)/'!2011-05-21_09h42m.Subject 53'!Q3","v":2.5691489361702127},{"$f":"'!2011-05-21_09h42m.Subject 53'!N20/'!2011-05-21_09h42m.Subject 53'!Q3","v":2.1276595744680851E-2},{"$f":"SUM('!2011-05-21_09h42m.Subject 53'!L20:Q20)/'!2011-05-21_09h42m.Subject 53'!Q3","v":1.6489361702127661},{"$f":"'!2011-05-21_09h42m.Subject 53'!Q16","v":0.35003682709225059},null,null,null,"Target %",{"$f":"AVERAGE(D3:D7)","v":1.012407365400834E-2},{"$f":"AVERAGE(D8:D12)","v":0.11005957005957008},{"$f":"AVERAGE(D13:D17)","v":0.31227951845919977},{"$f":"AVERAGE(D18:D22)","v":0.67960766919783322},{"$f":"AVERAGE(D23:D27)","v":0.73768507402961192},{"$f":"AVERAGE(D28:D32)","v":0.60963392990784104}]
[3,{"$f":"'!2011-05-22_09h18m.Subject 53'!B2:C2","v":"2011-05-22"},{"$f":"('!2011-05-22_09h18m.Subject 53'!F167/60)/'!2011-05-22_09h18m.Subject 53'!Q3","v":2.4789855072463767},{"$f":"'!2011-05-22_09h18m.Subject 53'!N20/'!2011-05-22_09h18m.Subject 53'!Q3","v":6.2111801242236021E-3},{"$f":"SUM('!2011-05-22_09h18m.Subject 53'!L20:Q20)/'!2011-05-22_09h18m.Subject 53'!Q3","v":1.0993788819875776},{"$f":"'!2011-05-22_09h18m.Subject 53'!Q16","v":0.29710206914908005},null,null,null,"CCRF",{"$f":"AVERAGE(E3:E7)","v":1.8212596029691059},{"$f":"AVERAGE(E8:E12)","v":1.4594357494357495},{"$f":"AVERAGE(E13:E17)","v":1.9342213955080876},{"$f":"AVERAGE(E18:E22)","v":4.3409352123286551},{"$f":"AVERAGE(E23:E27)","v":4.7426353874883285},{"$f":"AVERAGE(E28:E32)","v":4.2918867292464062}]
[4,{"$f":"'!2011-05-26_09h17m.Subject 53'!B2:C2","v":"2011-05-26"},{"$f":"('!2011-05-26_09h17m.Subject 53'!F112/60)/'!2011-05-26_09h17m.Subject 53'!Q3","v":3.44685534591195},{"$f":"'!2011-05-26_09h17m.Subject 53'!N20/'!2011-05-26_09h17m.Subject 53'!Q3","v":9.433962264150943E-3},{"$f":"SUM('!2011-05-26_09h17m.Subject 53'!L20:Q20)/'!2011-05-26_09h17m.Subject 53'!Q3","v":1.3867924528301887},{"$f":"'!2011-05-26_09h17m.Subject 53'!Q16","v":0.37382194486113868},null,null,null,"U Value",{"$f":"AVERAGE(F3:F7)","v":0.32142333261592343},{"$f":"AVERAGE(F8:F12)","v":0.34291574273299186},{"$f":"AVERAGE(F13:F17)","v":0.27480202351359972},{"$f":"AVERAGE(F18:F22)","v":0.24884575846946433},{"$f":"AVERAGE(F23:F27)","v":0.24073377188062714},{"$f":"AVERAGE(F28:F32)","v":0.23626915236175655}]
[5,{"$f":"'!2011-05-28_14h16m.Subject 53'!B2:C2","v":"2011-05-28"},{"$f":"('!2011-05-28_14h16m.Subject 53'!F103/60)/'!2011-05-28_14h16m.Subject 53'!Q3","v":4.1001718213058416},{"$f":"'!2011-05-28_14h16m.Subject 53'!N20/'!2011-05-28_14h16m.Subject 53'!Q3","v":0},{"$f":"SUM('!2011-05-28_14h16m.Subject 53'!L20:Q20)/'!2011-05-28_14h16m.Subject 53'!Q3","v":1.5876288659793814},{"$f":"'!2011-05-28_14h16m.Subject 53'!Q16","v":0.35215511353434831}]
[6,{"$f":"'!2011-05-29_08h34m.Subject 53'!B2:C2","v":"2011-05-29"},{"$f":"('!2011-05-29_08h34m.Subject 53'!F62/60)/'!2011-05-29_08h34m.Subject 53'!Q3","v":6.9919642857142863},{"$f":"'!2011-05-29_08h34m.Subject 53'!N20/'!2011-05-29_08h34m.Subject 53'!Q3","v":0},{"$f":"SUM('!2011-05-29_08h34m.Subject 53'!L20:Q20)/'!2011-05-29_08h34m.Subject 53'!Q3","v":2.3214285714285716},{"$f":"'!2011-05-29_08h34m.Subject 53'!Q16","v":0.34389130329308409}]
[7,{"$f":"'!2011-06-01_08h42m.Subject 53'!B2:C2","v":"2011-06-01"},{"$f":"('!2011-06-01_08h42m.Subject 53'!F160/60)/'!2011-06-01_08h42m.Subject 53'!Q3","v":2.5856060606060605},{"$f":"'!2011-06-01_08h42m.Subject 53'!N20/'!2011-06-01_08h42m.Subject 53'!Q3","v":4.5454545454545456E-2},{"$f":"SUM('!2011-06-01_08h42m.Subject 53'!L20:Q20)/'!2011-06-01_08h42m.Subject 53'!Q3","v":1.0974025974025974},{"$f":"'!2011-06-01_08h42m.Subject 53'!Q16","v":0.27922620126676101}]
[8,{"$f":"'!2011-06-02_11h29m.Subject 53'!B2:C2","v":"2011-06-02"},{"$f":"('!2011-06-02_11h29m.Subject 53'!F162/60)/'!2011-06-02_11h29m.Subject 53'!Q3","v":2.5566239316239314},{"$f":"'!2011-06-02_11h29m.Subject 53'!N20/'!2011-06-02_11h29m.Subject 53'!Q3","v":7.0512820512820512E-2},{"$f":"SUM('!2011-06-02_11h29m.Subject 53'!L20:Q20)/'!2011-06-02_11h29m.Subject 53'!Q3","v":1.1794871794871795},{"$f":"'!2011-06-02_11h29m.Subject 53'!Q16","v":0.3763366926719271}]
[9,{"$f":"'!2011-06-03_11h25m.Subject 53'!B2:C2","v":"2011-06-03"},{"$f":"('!2011-06-03_11h25m.Subject 53'!F162/60)/'!2011-06-03_11h25m.Subject 53'!Q3","v":2.558440170940171},{"$f":"'!2011-06-03_11h25m.Subject 53'!N20/'!2011-06-03_11h25m.Subject 53'!Q3","v":0.16025641025641027},{"$f":"SUM('!2011-06-03_11h25m.Subject 53'!L20:Q20)/'!2011-06-03_11h25m.Subject 53'!Q3","v":1.2692307692307692},{"$f":"'!2011-06-03_11h25m.Subject 53'!Q16","v":0.40657684489410262}]
[10,{"$f":"'!2011-06-04_11h08m.Subject 53'!B2:C2","v":"2011-06-04"},{"$f":"('!2011-06-04_11h08m.Subject 53'!F141/60)/'!2011-06-04_11h08m.Subject 53'!Q3","v":2.5493827160493829},{"$f":"'!2011-06-04_11h08m.Subject 53'!N20/'!2011-06-04_11h08m.Subject 53'!Q3","v":0.27407407407407408},{"$f":"SUM('!2011-06-04_11h08m.Subject 53'!L20:Q20)/'!2011-06-04_11h08m.Subject 53'!Q3","v":1.4296296296296296},{"$f":"'!2011-06-04_11h08m.Subject 53'!Q16","v":0.30854767153908452}]
[11,{"$f":"'!2011-06-05_10h17m.Subject 53'!B2:C2","v":"2011-06-05"},{"$f":"('!2011-06-05_10h17m.Subject 53'!F115/60)/'!2011-06-05_10h17m.Subject 53'!Q3","v":2.3120795107033638},{"$f":"'!2011-06-05_10h17m.Subject 53'!N20/'!2011-06-05_10h17m.Subject 53'!Q3","v":0.32110091743119268},{"$f":"SUM('!2011-06-05_10h17m.Subject 53'!L20:Q20)/'!2011-06-05_10h17m.Subject 53'!Q3","v":2.5871559633027523},{"$f":"'!2011-06-05_10h17m.Subject 53'!Q16","v":0.35990121330915653}]
[12,{"$f":"'!2011-06-06_09h20m.Subject 53'!B2:C2","v":"2011-06-06"},{"$f":"('!2011-06-06_09h20m.Subject 53'!F138/60)/'!2011-06-06_09h20m.Subject 53'!Q3","v":2.7824494949494953},{"$f":"'!2011-06-06_09h20m.Subject 53'!N20/'!2011-06-06_09h20m.Subject 53'!Q3","v":0.2878787878787879},{"$f":"SUM('!2011-06-06_09h20m.Subject 53'!L20:Q20)/'!2011-06-06_09h20m.Subject 53'!Q3","v":1.5378787878787878},{"$f":"'!2011-06-06_09h20m.Subject 53'!Q16","v":0.24225298246130486}]
[13,{"$f":"'!2011-06-07_08h59m.Subject 53'!B2:C2","v":"2011-06-07"},{"$f":"('!2011-06-07_08h59m.Subject 53'!F142/60)/'!2011-06-07_08h59m.Subject 53'!Q3","v":2.7068627450980394},{"$f":"'!2011-06-07_08h59m.Subject 53'!N20/'!2011-06-07_08h59m.Subject 53'!Q3","v":0.24264705882352941},{"$f":"SUM('!2011-06-07_08h59m.Subject 53'!L20:Q20)/'!2011-06-07_08h59m.Subject 53'!Q3","v":1.3897058823529411},{"$f":"'!2011-06-07_08h59m.Subject 53'!Q16","v":0.25971469024481247}]
[14,{"$f":"'!2011-06-08_08h28m.Subject 53'!B2:C2","v":"2011-06-08"},{"$f":"('!2011-06-08_08h28m.Subject 53'!F159/60)/'!2011-06-08_08h28m.Subject 53'!Q3","v":2.5961873638344226},{"$f":"'!2011-06-08_08h28m.Subject 53'!N20/'!2011-06-08_08h28m.Subject 53'!Q3","v":0.22875816993464052},{"$f":"SUM('!2011-06-08_08h28m.Subject 53'!L20:Q20)/'!2011-06-08_08h28m.Subject 53'!Q3","v":1.9411764705882353},{"$f":"'!2011-06-08_08h28m.Subject 53'!Q16","v":0.21744896306621553}]
[15,{"$f":"'!2011-06-09_09h18m.Subject 53'!B2:C2","v":"2011-06-09"},{"$f":"('!2011-06-09_09h18m.Subject 53'!F85/60)/'!2011-06-09_09h18m.Subject 53'!Q3","v":2.080379746835443},{"$f":"'!2011-06-09_09h18m.Subject 53'!N20/'!2011-06-09_09h18m.Subject 53'!Q3","v":0.48101265822784811},{"$f":"SUM('!2011-06-09_09h18m.Subject 53'!L20:Q20)/'!2011-06-09_09h18m.Subject 53'!Q3","v":2.2151898734177213},{"$f":"'!2011-06-09_09h18m.Subject 53'!Q16","v":0.29469226848650915}]
[16,{"$f":"'!2011-06-10_09h48m.Subject 53'!B2:C2","v":"2011-06-10"},{"$f":"('!2011-06-10_09h48m.Subject 53'!F69/60)/'!2011-06-10_09h48m.Subject 53'!Q3","v":2.0047619047619047},{"$f":"'!2011-06-10_09h48m.Subject 53'!N20/'!2011-06-10_09h48m.Subject 53'!Q3","v":0.60317460317460314},{"$f":"SUM('!2011-06-10_09h48m.Subject 53'!L20:Q20)/'!2011-06-10_09h48m.Subject 53'!Q3","v":4.2857142857142856},{"$f":"'!2011-06-10_09h48m.Subject 53'!Q16","v":0.26048037589923417}]
[17,{"$f":"'!2011-06-11_09h25m.Subject 53'!B2:C2","v":"2011-06-11"},{"$f":"('!2011-06-11_09h25m.Subject 53'!F67/60)/'!2011-06-11_09h25m.Subject 53'!Q3","v":1.9325136612021858},{"$f":"'!2011-06-11_09h25m.Subject 53'!N20/'!2011-06-11_09h25m.Subject 53'!Q3","v":0.63934426229508201},{"$f":"SUM('!2011-06-11_09h25m.Subject 53'!L20:Q20)/'!2011-06-11_09h25m.Subject 53'!Q3","v":4.4262295081967213},{"$f":"'!2011-06-11_09h25m.Subject 53'!Q16","v":0.25963358458566538}]
[18,{"$f":"'!2011-06-12_09h33m.Subject 53'!B2:C2","v":"2011-06-12"},{"$f":"('!2011-06-12_09h33m.Subject 53'!F58/60)/'!2011-06-12_09h33m.Subject 53'!Q3","v":1.9099358974358973},{"$f":"'!2011-06-12_09h33m.Subject 53'!N20/'!2011-06-12_09h33m.Subject 53'!Q3","v":0.75},{"$f":"SUM('!2011-06-12_09h33m.Subject 53'!L20:Q20)/'!2011-06-12_09h33m.Subject 53'!Q3","v":5.134615384615385},{"$f":"'!2011-06-12_09h33m.Subject 53'!Q16","v":0.23590504986892269}]
[19,{"$f":"'!2011-06-13_09h14m.Subject 53'!B2:C2","v":"2011-06-13"},{"$f":"('!2011-06-13_09h14m.Subject 53'!F61/60)/'!2011-06-13_09h14m.Subject 53'!Q3","v":1.9454545454545455},{"$f":"'!2011-06-13_09h14m.Subject 53'!N20/'!2011-06-13_09h14m.Subject 53'!Q3","v":0.70909090909090911},{"$f":"SUM('!2011-06-13_09h14m.Subject 53'!L20:Q20)/'!2011-06-13_09h14m.Subject 53'!Q3","v":3.0545454545454547},{"$f":"'!2011-06-13_09h14m.Subject 53'!Q16","v":0.2435341718551951}]
[20,{"$f":"'!2011-06-14_08h49m.Subject 53'!B2:C2","v":"2011-06-14"},{"$f":"('!2011-06-14_08h49m.Subject 53'!F62/60)/'!2011-06-14_08h49m.Subject 53'!Q3","v":1.9476190476190476},{"$f":"'!2011-06-14_08h49m.Subject 53'!N20/'!2011-06-14_08h49m.Subject 53'!Q3","v":0.6964285714285714},{"$f":"SUM('!2011-06-14_08h49m.Subject 53'!L20:Q20)/'!2011-06-14_08h49m.Subject 53'!Q3","v":4.8035714285714288},{"$f":"'!2011-06-14_08h49m.Subject 53'!Q16","v":0.24467561013830424}]
[21,{"$f":"'!2011-06-15_11h11m.Subject 53'!B2:C2","v":"2011-06-15"},{"$f":"('!2011-06-15_11h11m.Subject 53'!F57/60)/'!2011-06-15_11h11m.Subject 53'!Q3","v":1.8542483660130717},{"$f":"'!2011-06-15_11h11m.Subject 53'!N20/'!2011-06-15_11h11m.Subject 53'!Q3","v":0.76470588235294112},{"$f":"SUM('!2011-06-15_11h11m.Subject 53'!L20:Q20)/'!2011-06-15_11h11m.Subject 53'!Q3","v":3.2745098039215685},{"$f":"'!2011-06-15_11h11m.Subject 53'!Q16","v":0.20571316625835451}]
[22,{"$f":"'!2011-06-16_09h17m.Subject 53'!B2:C2","v":"2011-06-16"},{"$f":"('!2011-06-16_09h17m.Subject 53'!F55/60)/'!2011-06-16_09h17m.Subject 53'!Q3","v":1.856122448979592},{"$f":"'!2011-06-16_09h17m.Subject 53'!N20/'!2011-06-16_09h17m.Subject 53'!Q3","v":0.79591836734693877},{"$f":"SUM('!2011-06-16_09h17m.Subject 53'!L20:Q20)/'!2011-06-16_09h17m.Subject 53'!Q3","v":5.4285714285714288},{"$f":"'!2011-06-16_09h17m.Subject 53'!Q16","v":0.19128168871023754}]
[23,{"$f":"'!2011-06-17_08h26m.Subject 53'!B2:C2","v":"2011-06-17"},{"$f":"('!2011-06-17_08h26m.Subject 53'!F57/60)/'!2011-06-17_08h26m.Subject 53'!Q3","v":1.8346405228758169},{"$f":"'!2011-06-17_08h26m.Subject 53'!N20/'!2011-06-17_08h26m.Subject 53'!Q3","v":0.76470588235294112},{"$f":"SUM('!2011-06-17_08h26m.Subject 53'!L20:Q20)/'!2011-06-17_08h26m.Subject 53'!Q3","v":5.2352941176470589},{"$f":"'!2011-06-17_08h26m.Subject 53'!Q16","v":0.23646598660914087}]
[24,{"$f":"'!2011-06-18_09h25m.Subject 53'!B2:C2","v":"2011-06-18"},{"$f":"('!2011-06-18_09h25m.Subject 53'!F54/60)/'!2011-06-18_09h25m.Subject 53'!Q3","v":1.9173611111111111},{"$f":"'!2011-06-18_09h25m.Subject 53'!N20/'!2011-06-18_09h25m.Subject 53'!Q3","v":0.79166666666666663},{"$f":"SUM('!2011-06-18_09h25m.Subject 53'!L20:Q20)/'!2011-06-18_09h25m.Subject 53'!Q3","v":5.520833333333333},{"$f":"'!2011-06-18_09h25m.Subject 53'!Q16","v":0.22063405197362171}]
[25,{"$f":"'!2011-06-19_14h06m.Subject 53'!B2:C2","v":"2011-06-19"},{"$f":"('!2011-06-19_14h06m.Subject 53'!F69/60)/'!2011-06-19_14h06m.Subject 53'!Q3","v":2.1648148148148145},{"$f":"'!2011-06-19_14h06m.Subject 53'!N20/'!2011-06-19_14h06m.Subject 53'!Q3","v":0.5714285714285714},{"$f":"SUM('!2011-06-19_14h06m.Subject 53'!L20:Q20)/'!2011-06-19_14h06m.Subject 53'!Q3","v":4.253968253968254},{"$f":"'!2011-06-19_14h06m.Subject 53'!Q16","v":0.34957396585178113}]
[26,{"$f":"'!2011-06-20_09h24m.Subject 53'!B2:C2","v":"2011-06-20"},{"$f":"('!2011-06-20_09h24m.Subject 53'!F137/60)/'!2011-06-20_09h24m.Subject 53'!Q3","v":2.1566157760814249},{"$f":"'!2011-06-20_09h24m.Subject 53'!N20/'!2011-06-20_09h24m.Subject 53'!Q3","v":0.29007633587786258},{"$f":"SUM('!2011-06-20_09h24m.Subject 53'!L20:Q20)/'!2011-06-20_09h24m.Subject 53'!Q3","v":2.2366412213740459},{"$f":"'!2011-06-20_09h24m.Subject 53'!Q16","v":0.26091592160207283}]
[27,{"$f":"'!2011-06-23_09h08m.Subject 53'!B2:C2","v":"2011-06-23"},{"$f":"('!2011-06-23_09h08m.Subject 53'!F69/60)/'!2011-06-23_09h08m.Subject 53'!Q3","v":1.9452380952380952},{"$f":"'!2011-06-23_09h08m.Subject 53'!N20/'!2011-06-23_09h08m.Subject 53'!Q3","v":0.61904761904761907},{"$f":"SUM('!2011-06-23_09h08m.Subject 53'!L20:Q20)/'!2011-06-23_09h08m.Subject 53'!Q3","v":4.4603174603174605},{"$f":"'!2011-06-23_09h08m.Subject 53'!Q16","v":0.31414985770322323}]
[28,{"$f":"'!2011-06-24_08h19m.Subject 53'!B2:C2","v":"2011-06-24"},{"$f":"('!2011-06-24_08h19m.Subject 53'!F57/60)/'!2011-06-24_08h19m.Subject 53'!Q3","v":1.8781045751633987},{"$f":"'!2011-06-24_08h19m.Subject 53'!N20/'!2011-06-24_08h19m.Subject 53'!Q3","v":0.76470588235294112},{"$f":"SUM('!2011-06-24_08h19m.Subject 53'!L20:Q20)/'!2011-06-24_08h19m.Subject 53'!Q3","v":5.2352941176470589},{"$f":"'!2011-06-24_08h19m.Subject 53'!Q16","v":0.17241576533862757}]
[29,{"$f":"'!2011-06-25_08h05m.Subject 53'!B2:C2","v":"2011-06-25"},{"$f":"('!2011-06-25_08h05m.Subject 53'!F57/60)/'!2011-06-25_08h05m.Subject 53'!Q3","v":1.9424836601307189},{"$f":"'!2011-06-25_08h05m.Subject 53'!N20/'!2011-06-25_08h05m.Subject 53'!Q3","v":0.76470588235294112},{"$f":"SUM('!2011-06-25_08h05m.Subject 53'!L20:Q20)/'!2011-06-25_08h05m.Subject 53'!Q3","v":5.2352941176470589},{"$f":"'!2011-06-25_08h05m.Subject 53'!Q16","v":0.19759506480310265}]
[30]

{"sheet":"Start","index":2,"n_rows":35,"n_cols":10,"rows_kept":35,"cut":false,"hidden":false,"merged":[]}
[null,null,null,null,null,"Use Folder 51",null,"Auto Clean Up",null,"Correct sequence"]
[null,null,null,null,null,false,null,true,null,211]
[]
["Working with Folder",null,null,null,null,null,"Process All/Or Pick A number: ALL or an integer"]
["G:\\Hen Chapter\\Raw Data\\53\\Phase 1 var\\",null,null,null,null,null,"ALL"]
["Filenames:"]
["!2011-05-19_09h50m.Subject 53",null,null,null,null,null,"Paint Cells"]
["!2011-05-21_09h42m.Subject 53",null,null,null,null,null,false]
["!2011-05-22_09h18m.Subject 53"]
["!2011-05-26_09h17m.Subject 53"]
["!2011-05-28_14h16m.Subject 53"]
["!2011-05-29_08h34m.Subject 53"]
["!2011-06-01_08h42m.Subject 53"]
["!2011-06-02_11h29m.Subject 53"]
["!2011-06-03_11h25m.Subject 53"]
["!2011-06-04_11h08m.Subject 53"]
["!2011-06-05_10h17m.Subject 53"]
["!2011-06-06_09h20m.Subject 53"]
["!2011-06-07_08h59m.Subject 53"]
["!2011-06-08_08h28m.Subject 53"]
["!2011-06-09_09h18m.Subject 53"]
["!2011-06-10_09h48m.Subject 53"]
["!2011-06-11_09h25m.Subject 53"]
["!2011-06-12_09h33m.Subject 53"]
["!2011-06-13_09h14m.Subject 53"]
["!2011-06-14_08h49m.Subject 53"]
["!2011-06-15_11h11m.Subject 53"]
["!2011-06-16_09h17m.Subject 53"]
["!2011-06-17_08h26m.Subject 53"]
["!2011-06-18_09h25m.Subject 53"]
["!2011-06-19_14h06m.Subject 53"]
["!2011-06-20_09h24m.Subject 53"]
["!2011-06-23_09h08m.Subject 53"]
["!2011-06-24_08h19m.Subject 53"]
["!2011-06-25_08h05m.Subject 53"]

{"sheet":"!2011-05-19_09h50m.Subject 53","index":3,"n_rows":79,"n_cols":48,"rows_kept":79,"cut":false,"hidden":false,"merged":[[4,39,4,42],[5,39,5,40],[4,44,4,47],[5,44,5,45],[4,24,4,27],[5,24,5,25],[4,29,4,32],[5,29,5,30],[4,34,4,37],[5,34,5,35],[1,1,1,2],[5,13,5,14],[18,13,18,14],[19,13,19,14],[4,19,4,22],[5,19,5,20]]}
["Report for:!2011-05-19_09h50m.Subject 53"]
["Date","2011-05-19",null,null,null,"Group",0]
["Hen",53,null,null,null,"Correct Sequence",{"$f":"Start!J2","v":211},null,null,null,null,null,null,null,null,"Total Sequences in Data",{"$f":"4994-COUNTBLANK(L7:L5000)","v":73},null,null,null,null,"Total Sequences in Block Data",{"$f":"COUNTA(L7:L18)","v":12},null,null,null,"Total Sequences in Block Data",{"$f":"COUNTA(L19:L30)","v":12},null,null,null,"Total Sequences in Block Data",{"$f":"COUNTA(L31:L43)","v":13},null,null,null,"Total Sequences in Block Data",{"$f":"COUNTA(L44:L55)","v":12},null,null,null,"Total Sequences in Block Data",{"$f":"COUNTA(L56:L67)","v":12},null,null,null,"Total Sequences in Block Data",{"$f":"COUNTA(L68:L79)","v":12}]
["Program",0,null,null,null,null,null,null,null,null,null,null,null,null,null,"Total Sequences in Summary",{"$f":"SUM(O7:O14)","v":73},null,null,null,null,"Total Sequences in Block Summary",{"$f":"SUM(U7:U14)","v":12},null,null,null,"Total Sequences in Block Summary",{"$f":"SUM(Z7:Z14)","v":12},null,null,null,"Total Sequences in Block Summary",{"$f":"SUM(AE7:AE14)","v":13},null,null,null,"Total Sequences in Block Summary",{"$f":"SUM(AJ7:AJ14)","v":12},null,null,null,"Total Sequences in Block Summary",{"$f":"SUM(AO7:AO14)","v":12},null,null,null,"Total Sequences in Block Summary",{"$f":"SUM(AT7:AT14)","v":12}]
[null,null,null,null,null,null,null,null,null,null,null,null,null,null,null,null,null,null,null,"Block 1",null,null,null,null,"Block 2",null,null,null,null,"Block 3",null,null,null,null,"Block 4",null,null,null,null,"Block 5",null,null,null,null,"Block 6"]
["Sequence\nComponent\n1","Time\n1","Sequence\nComponent\n2","Time\n2","Sequence\nComponent\n3","Time\n3","Sequence\nComponent\n4","Time\n4","Sequence\nComponent\n5","Time\n5","Correct?\n0=No 1=Yes","Sequence",null,"Frequency",null,"Relative Frequency","Variability",null,null,"Frequency",null,"Relative Frequency","Variability",null,"Frequency",null,"Relative Frequency","Variability",null,"Frequency",null,"Relative Frequency","Variability",null,"Frequency",null,"Relative Frequency","Variability",null,"Frequency",null,"Relative Frequency","Variability",null,"Frequency",null,"Relative Frequency","Variability"]
[21,26,22,35,24,44,null,null,null,null,0,222,null,111,{"$f":"COUNTIF($L$7:$L$500,N7)","v":0},{"$f":"O7/$Q$4","v":0},{"$f":"IF(P7=0,0,(P7*((LOG(P7))/LOG(2))))","v":0},null,null,{"$f":"N7","v":111},{"$f":"COUNTIF(L7:L18,T7)","v":0},{"$f":"U7/(W4-U11)","v":0},{"$f":"IF(V7=0,0,(V7*((LOG(V7))/LOG(2))))","v":0},null,{"$f":"N7","v":111},{"$f":"COUNTIF(L19:L30,Y7)","v":0},{"$f":"Z7/(AB4-Z11)","v":0},{"$f":"IF(AA7=0,0,(AA7*((LOG(AA7))/LOG(2))))","v":0},null,{"$f":"N7","v":111},{"$f":"COUNTIF(L31:L43,AD7)","v":0},{"$f":"AE7/(AG4-AE11)","v":0},{"$f":"IF(AF7=0,0,(AF7*((LOG(AF7))/LOG(2))))","v":0},null,{"$f":"N7","v":111},{"$f":"COUNTIF(L44:L55,AI7)","v":0},{"$f":"AJ7/(AL4-AJ11)","v":0},{"$f":"IF(AK7=0,0,(AK7*((LOG(AK7))/LOG(2))))","v":0},null,{"$f":"N7","v":111},{"$f":"COUNTIF(L56:L67,AN7)","v":0},{"$f":"AO7/(AQ4-AO11)","v":0},{"$f":"IF(AP7=0,0,(AP7*((LOG(AP7))/LOG(2))))","v":0},null,{"$f":"N7","v":111},{"$f":"COUNTIF(L68:L79,AS7)","v":0},{"$f":"AT7/(AV4-AT11)","v":0},{"$f":"IF(AU7=0,0,(AU7*((LOG(AU7))/LOG(2))))","v":0}]
[21,150,22,160,24,165,null,null,null,null,0,222,null,112,{"$f":"COUNTIF($L$7:$L$500,N8)","v":5},{"$f":"O8/$Q$4","v":6.8493150684931503E-2},{"$f":"IF(P8=0,0,(P8*((LOG(P8))/LOG(2))))","v":-0.26492441534196265},null,null,{"$f":"N8","v":112},{"$f":"COUNTIF(L7:L18,T8)","v":2},{"$f":"U8/(W4-U11)","v":0.16666666666666666},{"$f":"IF(V8=0,0,(V8*((LOG(V8))/LOG(2))))","v":-0.43082708345352599},null,{"$f":"N8","v":112},{"$f":"COUNTIF(L19:L30,Y8)","v":2},{"$f":"Z8/(AB4-Z11)","v":0.16666666666666666},{"$f":"IF(AA8=0,0,(AA8*((LOG(AA8))/LOG(2))))","v":-0.43082708345352599},null,{"$f":"N8","v":112},{"$f":"COUNTIF(L31:L43,AD8)","v":0},{"$f":"AE8/(AG4-AE11)","v":0},{"$f":"IF(AF8=0,0,(AF8*((LOG(AF8))/LOG(2))))","v":0},null,{"$f":"N8","v":112},{"$f":"COUNTIF(L44:L55,AI8)","v":1},{"$f":"AJ8/(AL4-AJ11)","v":8.3333333333333329E-2},{"$f":"IF(AK8=0,0,(AK8*((LOG(AK8))/LOG(2))))","v":-0.29874687506009634},null,{"$f":"N8","v":112},{"$f":"COUNTIF(L56:L67,AN8)","v":0},{"$f":"AO8/(AQ4-AO11)","v":0},{"$f":"IF(AP8=0,0,(AP8*((LOG(AP8))/LOG(2))))","v":0},null,{"$f":"N8","v":112},{"$f":"COUNTIF(L68:L79,AS8)","v":0},{"$f":"AT8/(AV4-AT11)","v":0},{"$f":"IF(AU8=0,0,(AU8*((LOG(AU8))/LOG(2))))","v":0}]
[12,270,24,285,24,293,null,null,null,null,0,122,null,121,{"$f":"COUNTIF($L$7:$L$500,N9)","v":0},{"$f":"O9/$Q$4","v":0},{"$f":"IF(P9=0,0,(P9*((LOG(P9))/LOG(2))))","v":0},null,null,{"$f":"N9","v":121},{"$f":"COUNTIF(L7:L18,T9)","v":0},{"$f":"U9/(W4-U11)","v":0},{"$f":"IF(V9=0,0,(V9*((LOG(V9))/LOG(2))))","v":0},null,{"$f":"N9","v":121},{"$f":"COUNTIF(L19:L30,Y9)","v":0},{"$f":"Z9/(AB4-Z11)","v":0},{"$f":"IF(AA9=0,0,(AA9*((LOG(AA9))/LOG(2))))","v":0},null,{"$f":"N9","v":121},{"$f":"COUNTIF(L31:L43,AD9)","v":0},{"$f":"AE9/(AG4-AE11)","v":0},{"$f":"IF(AF9=0,0,(AF9*((LOG(AF9))/LOG(2))))","v":0},null,{"$f":"N9","v":121},{"$f":"COUNTIF(L44:L55,AI9)","v":0},{"$f":"AJ9/(AL4-AJ11)","v":0},{"$f":"IF(AK9=0,0,(AK9*((LOG(AK9))/LOG(2))))","v":0},null,{"$f":"N9","v":121},{"$f":"COUNTIF(L56:L67,AN9)","v":0},{"$f":"AO9/(AQ4-AO11)","v":0},{"$f":"IF(AP9=0,0,(AP9*((LOG(AP9))/LOG(2))))","v":0},null,{"$f":"N9","v":121},{"$f":"COUNTIF(L68:L79,AS9)","v":0},{"$f":"AT9/(AV4-AT11)","v":0},{"$f":"IF(AU9=0,0,(AU9*((LOG(AU9))/LOG(2))))","v":0}]
[21,398,22,406,24,415,null,null,null,null,0,222,null,122,{"$f":"COUNTIF($L$7:$L$500,N10)","v":27},{"$f":"O10/$Q$4","v":0.36986301369863012},{"$f":"IF(P10=0,0,(P10*((LOG(P10))/LOG(2))))","v":-0.53073014426502485},null,null,{"$f":"N10","v":122},{"$f":"COUNTIF(L7:L18,T10)","v":3},{"$f":"U10/(W4-U11)","v":0.25},{"$f":"IF(V10=0,0,(V10*((LOG(V10))/LOG(2))))","v":-0.5},null,{"$f":"N10","v":122},{"$f":"COUNTIF(L19:L30,Y10)","v":4},{"$f":"Z10/(AB4-Z11)","v":0.33333333333333331},{"$f":"IF(AA10=0,0,(AA10*((LOG(AA10))/LOG(2))))","v":-0.52832083357371862},null,{"$f":"N10","v":122},{"$f":"COUNTIF(L31:L43,AD10)","v":4},{"$f":"AE10/(AG4-AE11)","v":0.30769230769230771},{"$f":"IF(AF10=0,0,(AF10*((LOG(AF10))/LOG(2))))","v":-0.52321222096648989},null,{"$f":"N10","v":122},{"$f":"COUNTIF(L44:L55,AI10)","v":3},{"$f":"AJ10/(AL4-AJ11)","v":0.25},{"$f":"IF(AK10=0,0,(AK10*((LOG(AK10))/LOG(2))))","v":-0.5},null,{"$f":"N10","v":122},{"$f":"COUNTIF(L56:L67,AN10)","v":7},{"$f":"AO10/(AQ4-AO11)","v":0.63636363636363635},{"$f":"IF(AP10=0,0,(AP10*((LOG(AP10))/LOG(2))))","v":-0.41495789782344106},null,{"$f":"N10","v":122},{"$f":"COUNTIF(L68:L79,AS10)","v":6},{"$f":"AT10/(AV4-AT11)","v":0.5},{"$f":"IF(AU10=0,0,(AU10*((LOG(AU10))/LOG(2))))","v":-0.5}]
[12,515,13,522,24,536,null,null,null,null,0,112,null,211,{"$f":"COUNTIF($L$7:$L$500,N11)","v":1},{"$f":"O11/$Q$4","v":1.3698630136986301E-2},{"$f":"IF(P11=0,0,(P11*((LOG(P11))/LOG(2))))","v":-8.4792117244931728E-2},null,null,{"$f":"N11","v":211},{"$f":"COUNTIF(L7:L18,T11)","v":0},null,null,null,{"$f":"N11","v":211},{"$f":"COUNTIF(L19:L30,Y11)","v":0},null,null,null,{"$f":"N11","v":211},{"$f":"COUNTIF(L31:L43,AD11)","v":0},null,null,null,{"$f":"N11","v":211},{"$f":"COUNTIF(L44:L55,AI11)","v":0},null,null,null,{"$f":"N11","v":211},{"$f":"COUNTIF(L56:L67,AN11)","v":1},null,null,null,{"$f":"N11","v":211},{"$f":"COUNTIF(L68:L79,AS11)","v":0}]
[21,639,22,644,24,649,null,null,null,null,0,222,null,212,{"$f":"COUNTIF($L$7:$L$500,N12)","v":1},{"$f":"O12/$Q$4","v":1.3698630136986301E-2},{"$f":"IF(P12=0,0,(P12*((LOG(P12))/LOG(2))))","v":-8.4792117244931728E-2},null,null,{"$f":"N12","v":212},{"$f":"COUNTIF(L7:L18,T12)","v":0},{"$f":"U12/(W4-U11)","v":0},{"$f":"IF(V12=0,0,(V12*((LOG(V12))/LOG(2))))","v":0},null,{"$f":"N12","v":212},{"$f":"COUNTIF(L19:L30,Y12)","v":0},{"$f":"Z12/(AB4-Z11)","v":0},{"$f":"IF(AA12=0,0,(AA12*((LOG(AA12))/LOG(2))))","v":0},null,{"$f":"N12","v":212},{"$f":"COUNTIF(L31:L43,AD12)","v":0},{"$f":"AE12/(AG4-AE11)","v":0},{"$f":"IF(AF12=0,0,(AF12*((LOG(AF12))/LOG(2))))","v":0},null,{"$f":"N12","v":212},{"$f":"COUNTIF(L44:L55,AI12)","v":0},{"$f":"AJ12/(AL4-AJ11)","v":0},{"$f":"IF(AK12=0,0,(AK12*((LOG(AK12))/LOG(2))))","v":0},null,{"$f":"N12","v":212},{"$f":"COUNTIF(L56:L67,AN12)","v":0},{"$f":"AO12/(AQ4-AO11)","v":0},{"$f":"IF(AP12=0,0,(AP12*((LOG(AP12))/LOG(2))))","v":0},null,{"$f":"N12","v":212},{"$f":"COUNTIF(L68:L79,AS12)","v":1},{"$f":"AT12/(AV4-AT11)","v":8.3333333333333329E-2},{"$f":"IF(AU12=0,0,(AU12*((LOG(AU12))/LOG(2))))","v":-0.29874687506009634}]
[21,755,22,761,24,767,null,null,null,null,0,222,null,221,{"$f":"COUNTIF($L$7:$L$500,N13)","v":0},{"$f":"O13/$Q$4","v":0},{"$f":"IF(P13=0,0,(P13*((LOG(P13))/LOG(2))))","v":0},null,null,{"$f":"N13","v":221},{"$f":"COUNTIF(L7:L18,T13)","v":0},{"$f":"U13/(W4-U11)","v":0},{"$f":"IF(V13=0,0,(V13*((LOG(V13))/LOG(2))))","v":0},null,{"$f":"N13","v":221},{"$f":"COUNTIF(L19:L30,Y13)","v":0},{"$f":"Z13/(AB4-Z11)","v":0},{"$f":"IF(AA13=0,0,(AA13*((LOG(AA13))/LOG(2))))","v":0},null,{"$f":"N13","v":221},{"$f":"COUNTIF(L31:L43,AD13)","v":0},{"$f":"AE13/(AG4-AE11)","v":0},{"$f":"IF(AF13=0,0,(AF13*((LOG(AF13))/LOG(2))))","v":0},null,{"$f":"N13","v":221},{"$f":"COUNTIF(L44:L55,AI13)","v":0},{"$f":"AJ13/(AL4-AJ11)","v":0},{"$f":"IF(AK13=0,0,(AK13*((LOG(AK13))/LOG(2))))","v":0},null,{"$f":"N13","v":221},{"$f":"COUNTIF(L56:L67,AN13)","v":0},{"$f":"AO13/(AQ4-AO11)","v":0},{"$f":"IF(AP13=0,0,(AP13*((LOG(AP13))/LOG(2))))","v":0},null,{"$f":"N13","v":221},{"$f":"COUNTIF(L68:L79,AS13)","v":0},{"$f":"AT13/(AV4-AT11)","v":0},{"$f":"IF(AU13=0,0,(AU13*((LOG(AU13))/LOG(2))))","v":0}]
[21,891,22,901,24,909,null,null,null,null,0,222,null,222,{"$f":"COUNTIF($L$7:$L$500,N14)","v":39},{"$f":"O14/$Q$4","v":0.53424657534246578},{"$f":"IF(P14=0,0,(P14*((LOG(P14))/LOG(2))))","v":-0.48318453781771215},null,null,{"$f":"N14","v":222},{"$f":"COUNTIF(L7:L18,T14)","v":7},{"$f":"U14/(W4-U11)","v":0.58333333333333337},{"$f":"IF(V14=0,0,(V14*((LOG(V14))/LOG(2))))","v":-0.45360442088707198},null,{"$f":"N14","v":222},{"$f":"COUNTIF(L19:L30,Y14)","v":6},{"$f":"Z14/(AB4-Z11)","v":0.5},{"$f":"IF(AA14=0,0,(AA14*((LOG(AA14))/LOG(2))))","v":-0.5},null,{"$f":"N14","v":222},{"$f":"COUNTIF(L31:L43,AD14)","v":9},{"$f":"AE14/(AG4-AE11)","v":0.69230769230769229},{"$f":"IF(AF14=0,0,(AF14*((LOG(AF14))/LOG(2))))","v":-0.36727941925300139},null,{"$f":"N14","v":222},{"$f":"COUNTIF(L44:L55,AI14)","v":8},{"$f":"AJ14/(AL4-AJ11)","v":0.66666666666666663},{"$f":"IF(AK14=0,0,(AK14*((LOG(AK14))/LOG(2))))","v":-0.38997500048077083},null,{"$f":"N14","v":222},{"$f":"COUNTIF(L56:L67,AN14)","v":4},{"$f":"AO14/(AQ4-AO11)","v":0.36363636363636365},{"$f":"IF(AP14=0,0,(AP14*((LOG(AP14))/LOG(2))))","v":-0.53070240677719893},null,{"$f":"N14","v":222},{"$f":"COUNTIF(L68:L79,AS14)","v":5},{"$f":"AT14/(AV4-AT11)","v":0.41666666666666669},{"$f":"IF(AU14=0,0,(AU14*((LOG(AU14))/LOG(2))))","v":-0.52626433576408083}]
[21,1028,22,1037,24,1046,null,null,null,null,0,222,null,null,null,{"$f":"SUM(P7:P14)","v":1},{"$f":"-SUM(Q7:Q14)","v":1.4484233319145632},null,null,null,null,{"$f":"SUM(V7:V14)","v":1},{"$f":"-SUM(W7:W14)","v":1.3844315043405979},null,null,null,{"$f":"SUM(AA7:AA14)","v":1},{"$f":"-SUM(AB7:AB14)","v":1.4591479170272446},null,null,null,{"$f":"SUM(AF7:AF14)","v":1},{"$f":"-SUM(AG7:AG14)","v":0.89049164021949134},null,null,null,{"$f":"SUM(AK7:AK14)","v":1},{"$f":"-SUM(AL7:AL14)","v":1.1887218755408671},null,null,null,{"$f":"SUM(AP7:AP14)","v":1},{"$f":"-SUM(AQ7:AQ14)","v":0.94566030460063999},null,null,null,{"$f":"SUM(AU7:AU14)","v":1},{"$f":"-SUM(AV7:AV14)","v":1.3250112108241772}]
[12,1145,24,1159,24,1169,null,null,null,null,0,122,null,null,null,"U=",{"$f":"Q15/(LOG(Q4)/LOG(2))","v":0.23400070844279955},null,null,null,null,"U1=",{"$f":"W15/(LOG(W4)/LOG(2))","v":0.38617740187299132},null,null,null,"U2=",{"$f":"AB15/(LOG(AB4)/LOG(2))","v":0.40701901811628993},null,null,null,"U3=",{"$f":"AG15/(LOG(AG4)/LOG(2))","v":0.24064481738587215},null,null,null,"U4=",{"$f":"AL15/(LOG(AL4)/LOG(2))","v":0.3315855815233052},null,null,null,"U5=",{"$f":"AQ15/(LOG(AQ4)/LOG(2))","v":0.26378527095064719},null,null,null,"U6=",{"$f":"AV15/(LOG(AV4)/LOG(2))","v":0.36960253016806616}]
[12,1272,24,1285,24,1295,null,null,null,null,0,122]
[12,1403,13,1405,24,1420,null,null,null,null,0,112]
[21,1535,22,1544,24,1554,null,null,null,null,0,222,null,"Total Target Seq"]
[21,1666,22,1674,24,1681,null,null,null,null,0,222,null,{"$f":"COUNTIF(L7:L79,G3)","v":1},null,12,12,13,12,12,12]
[12,1782,24,1795,24,1804,null,null,null,null,0,122,null,null,null,"% of reinforcement given in 6 equal intervals based on number of trials "]
[21,1911,22,1919,24,1927,null,null,null,null,0,222,null,null,null,"%_1","%_2","%_3","%_4","%_5","%_6"]
[12,2026,24,2040,24,2048,null,null,null,null,0,122,null,null,"target sequence",{"$f":"$G$3","v":211},{"$f":"$G$3","v":211},{"$f":"$G$3","v":211},{"$f":"$G$3","v":211},{"$f":"$G$3","v":211},{"$f":"$G$3","v":211}]
[12,2149,13,2150,24,2163,null,null,null,null,0,112,null,null,"total reinforcement",{"$f":"U11","v":0},{"$f":"Z11","v":0},{"$f":"AE11","v":0},{"$f":"AJ11","v":0},{"$f":"AO11","v":1},{"$f":"AT11","v":0}]
[21,2278,22,2286,24,2294,null,null,null,null,0,222,null,null,"% target"]
[12,2398,13,2399,24,2413,null,null,null,null,0,112,null,null,"CCRF"]
[12,2513,24,2527,24,2535,null,null,null,null,0,122,null,null,"% CCRf"]
[21,2657,22,2666,24,2675,null,null,null,null,0,222,null,null,"average response rate",{"$f":"F18/P20","v":118.33333333333333},{"$f":"(F30-F18)/Q20","v":125.5},{"$f":"(F43-F30)/R20","v":140.07692307692307},{"$f":"(F55-F43)/S20","v":273.41666666666669},{"$f":"(F67-F55)/T20","v":549},{"$f":"(F79-F67)/U20","v":274.83333333333331}]
[12,2777,24,2790,24,2798,null,null,null,null,0,122]
[21,2910,22,2915,24,2926,null,null,null,null,0,222]
[21,3042,22,3050,24,3060,null,null,null,null,0,222]
[21,3180,22,3239,24,3248,null,null,null,null,0,222]
[21,3375,22,3384,24,3392,null,null,null,null,0,222]
[21,3509,22,3517,24,3525,null,null,null,null,0,222]
[21,3642,22,3651,24,3658,null,null,null,null,0,222]
[12,3761,24,3797,24,3807,null,null,null,null,0,122]
[21,3918,22,3927,24,3935,null,null,null,null,0,222]
[21,4057,22,4066,24,4075,null,null,null,null,0,222]
[12,4177,24,4190,24,4198,null,null,null,null,0,122]
[21,4343,22,4351,24,4360,null,null,null,null,0,222]
[12,4458,24,4472,24,4481,null,null,null,null,0,122]
[21,4596,22,4605,24,4614,null,null,null,null,0,222]
[12,4723,24,4738,24,4747,null,null,null,null,0,122]
[12,4854,24,4872,24,4880,null,null,null,null,0,122]
[21,4997,22,5018,24,5027,null,null,null,null,0,222]
[21,5146,22,5153,24,5161,null,null,null,null,0,222]
[21,5583,22,5591,24,5603,null,null,null,null,0,222]
[21,5767,22,5776,24,5784,null,null,null,null,0,222]
[21,5991,22,6001,24,6010,null,null,null,null,0,222]
[21,6164,22,6171,24,6210,null,null,null,null,0,222]
[21,6925,22,6935,24,6945,null,null,null,null,0,222]
[21,7183,22,7241,24,7250,null,null,null,null,0,222]
[12,7406,24,7435,24,7441,null,null,null,null,0,122]
[12,7811,24,7844,24,7854,null,null,null,null,0,122]
[12,7976,13,8004,24,8028,null,null,null,null,0,112]
[12,8165,24,8183,24,8191,null,null,null,null,0,122]
[12,8540,24,8558,24,8565,null,null,null,null,0,122]
[21,12762,11,12802,11,12934,null,null,null,null,0,211]
[12,13149,24,13166,24,13174,null,null,null,null,0,122]
[12,13326,24,13343,24,13352,null,null,null,null,0,122]
[21,13728,22,13736,24,13746,null,null,null,null,0,222]
[12,13893,24,13910,24,13918,null,null,null,null,0,122]
[12,14035,24,14048,24,14058,null,null,null,null,0,122]
[21,14201,22,14209,24,14217,null,null,null,null,0,222]
[21,14327,22,14335,24,14344,null,null,null,null,0,222]
[12,14455,24,14472,24,14482,null,null,null,null,0,122]
[21,14599,22,14607,24,14616,null,null,null,null,0,222]
[12,14739,24,14753,24,14762,null,null,null,null,0,122]
[21,14870,22,14878,24,14887,null,null,null,null,0,222]
[21,15006,22,15016,24,15026,null,null,null,null,0,222]
[12,15154,24,15167,24,15177,null,null,null,null,0,122]
[12,15286,24,15300,24,15309,null,null,null,null,0,122]
[21,15427,22,15435,24,15445,null,null,null,null,0,222]
[12,15610,24,15624,24,15634,null,null,null,null,0,122]
[12,15846,24,15891,24,15901,null,null,null,null,0,122]
[12,16639,24,16656,24,16665,null,null,null,null,0,122]
[21,16779,22,16790,24,16801,null,null,null,null,0,222]
[21,17251,11,17269,22,17285,null,null,null,null,0,212]
[21,17460,22,17470,24,17914,null,null,null,null,0,222]

{"sheet":"!2011-05-21_09h42m.Subject 53","index":4,"n_rows":100,"n_cols":48,"rows_kept":100,"cut":false,"hidden":false,"merged":[[4,39,4,42],[5,39,5,40],[4,44,4,47],[5,44,5,45],[4,24,4,27],[5,24,5,25],[4,29,4,32],[5,29,5,30],[4,34,4,37],[5,34,5,35],[1,1,1,2],[5,13,5,14],[18,13,18,14],[19,13,19,14],[4,19,4,22],[5,19,5,20]]}
["Report for:!2011-05-21_09h42m.Subject 53"]
["Date","2011-05-21",null,null,null,"Group",0]
["Hen",53,null,null,null,"Correct Sequence",{"$f":"Start!J2","v":211},null,null,null,null,null,null,null,null,"Total Sequences in Data",{"$f":"4994-COUNTBLANK(L7:L5000)","v":94},null,null,null,null,"Total Sequences in Block Data",{"$f":"COUNTA(L7:L22)","v":16},null,null,null,"Total Sequences in Block Data",{"$f":"COUNTA(L23:L37)","v":15},null,null,null,"Total Sequences in Block Data",{"$f":"COUNTA(L38:L53)","v":16},null,null,null,"Total Sequences in Block Data",{"$f":"COUNTA(L54:L69)","v":16},null,null,null,"Total Sequences in Block Data",{"$f":"COUNTA(L70:L84)","v":15},null,null,null,"Total Sequences in Block Data",{"$f":"COUNTA(L85:L100)","v":16}]
["Program",0,null,null,null,null,null,null,null,null,null,null,null,null,null,"Total Sequences in Summary",{"$f":"SUM(O7:O14)","v":94},null,null,null,null,"Total Sequences in Block Summary",{"$f":"SUM(U7:U14)","v":16},null,null,null,"Total Sequences in Block Summary",{"$f":"SUM(Z7:Z14)","v":15},null,null,null,"Total Sequences in Block Summary",{"$f":"SUM(AE7:AE14)","v":16},null,null,null,"Total Sequences in Block Summary",{"$f":"SUM(AJ7:AJ14)","v":16},null,null,null,"Total Sequences in Block Summary",{"$f":"SUM(AO7:AO14)","v":15},null,null,null,"Total Sequences in Block Summary",{"$f":"SUM(AT7:AT14)","v":16}]
[null,null,null,null,null,null,null,null,null,null,null,null,null,null,null,null,null,null,null,"Block 1",null,null,null,null,"Block 2",null,null,null,null,"Block 3",null,null,null,null,"Block 4",null,null,null,null,"Block 5",null,null,null,null,"Block 6"]
["Sequence\nComponent\n1","Time\n1","Sequence\nComponent\n2","Time\n2","Sequence\nComponent\n3","Time\n3","Sequence\nComponent\n4","Time\n4","Sequence\nComponent\n5","Time\n5","Correct?\n0=No 1=Yes","Sequence",null,"Frequency",null,"Relative Frequency","Variability",null,null,"Frequency",null,"Relative Frequency","Variability",null,"Frequency",null,"Relative Frequency","Variability",null,"Frequency",null,"Relative Frequency","Variability",null,"Frequency",null,"Relative Frequency","Variability",null,"Frequency",null,"Relative Frequency","Variability",null,"Frequency",null,"Relative Frequency","Variability"]
[21,32,22,40,24,47,null,null,null,null,0,222,null,111,{"$f":"COUNTIF($L$7:$L$500,N7)","v":11},{"$f":"O7/$Q$4","v":0.11702127659574468},{"$f":"IF(P7=0,0,(P7*((LOG(P7))/LOG(2))))","v":-0.36219925067493347},null,null,{"$f":"N7","v":111},{"$f":"COUNTIF(L7:L22,T7)","v":0},{"$f":"U7/(W4-U11)","v":0},{"$f":"IF(V7=0,0,(V7*((LOG(V7))/LOG(2))))","v":0},null,{"$f":"N7","v":111},{"$f":"COUNTIF(L23:L37,Y7)","v":0},{"$f":"Z7/(AB4-Z11)","v":0},{"$f":"IF(AA7=0,0,(AA7*((LOG(AA7))/LOG(2))))","v":0},null,{"$f":"N7","v":111},{"$f":"COUNTIF(L38:L53,AD7)","v":2},{"$f":"AE7/(AG4-AE11)","v":0.13333333333333333},{"$f":"IF(AF7=0,0,(AF7*((LOG(AF7))/LOG(2))))","v":-0.3875854127478025},null,{"$f":"N7","v":111},{"$f":"COUNTIF(L54:L69,AI7)","v":1},{"$f":"AJ7/(AL4-AJ11)","v":6.6666666666666666E-2},{"$f":"IF(AK7=0,0,(AK7*((LOG(AK7))/LOG(2))))","v":-0.26045937304056793},null,{"$f":"N7","v":111},{"$f":"COUNTIF(L70:L84,AN7)","v":1},{"$f":"AO7/(AQ4-AO11)","v":6.6666666666666666E-2},{"$f":"IF(AP7=0,0,(AP7*((LOG(AP7))/LOG(2))))","v":-0.26045937304056793},null,{"$f":"N7","v":111},{"$f":"COUNTIF(L85:L100,AS7)","v":7},{"$f":"AT7/(AV4-AT11)","v":0.4375},{"$f":"IF(AU7=0,0,(AU7*((LOG(AU7))/LOG(2))))","v":-0.52178222159979815}]
[12,148,24,161,24,168,null,null,null,null,0,122,null,112,{"$f":"COUNTIF($L$7:$L$500,N8)","v":19},{"$f":"O8/$Q$4","v":0.20212765957446807},{"$f":"IF(P8=0,0,(P8*((LOG(P8))/LOG(2))))","v":-0.46624005772815941},null,null,{"$f":"N8","v":112},{"$f":"COUNTIF(L7:L22,T8)","v":1},{"$f":"U8/(W4-U11)","v":6.25E-2},{"$f":"IF(V8=0,0,(V8*((LOG(V8))/LOG(2))))","v":-0.25},null,{"$f":"N8","v":112},{"$f":"COUNTIF(L23:L37,Y8)","v":3},{"$f":"Z8/(AB4-Z11)","v":0.2},{"$f":"IF(AA8=0,0,(AA8*((LOG(AA8))/LOG(2))))","v":-0.46438561897747244},null,{"$f":"N8","v":112},{"$f":"COUNTIF(L38:L53,AD8)","v":0},{"$f":"AE8/(AG4-AE11)","v":0},{"$f":"IF(AF8=0,0,(AF8*((LOG(AF8))/LOG(2))))","v":0},null,{"$f":"N8","v":112},{"$f":"COUNTIF(L54:L69,AI8)","v":6},{"$f":"AJ8/(AL4-AJ11)","v":0.4},{"$f":"IF(AK8=0,0,(AK8*((LOG(AK8))/LOG(2))))","v":-0.52877123795494496},null,{"$f":"N8","v":112},{"$f":"COUNTIF(L70:L84,AN8)","v":4},{"$f":"AO8/(AQ4-AO11)","v":0.26666666666666666},{"$f":"IF(AP8=0,0,(AP8*((LOG(AP8))/LOG(2))))","v":-0.50850415882893829},null,{"$f":"N8","v":112},{"$f":"COUNTIF(L85:L100,AS8)","v":5},{"$f":"AT8/(AV4-AT11)","v":0.3125},{"$f":"IF(AU8=0,0,(AU8*((LOG(AU8))/LOG(2))))","v":-0.52439747034769923}]
[12,267,24,280,24,288,null,null,null,null,0,122,null,121,{"$f":"COUNTIF($L$7:$L$500,N9)","v":6},{"$f":"O9/$Q$4","v":6.3829787234042548E-2},{"$f":"IF(P9=0,0,(P9*((LOG(P9))/LOG(2))))","v":-0.2533804053802009},null,null,{"$f":"N9","v":121},{"$f":"COUNTIF(L7:L22,T9)","v":0},{"$f":"U9/(W4-U11)","v":0},{"$f":"IF(V9=0,0,(V9*((LOG(V9))/LOG(2))))","v":0},null,{"$f":"N9","v":121},{"$f":"COUNTIF(L23:L37,Y9)","v":0},{"$f":"Z9/(AB4-Z11)","v":0},{"$f":"IF(AA9=0,0,(AA9*((LOG(AA9))/LOG(2))))","v":0},null,{"$f":"N9","v":121},{"$f":"COUNTIF(L38:L53,AD9)","v":4},{"$f":"AE9/(AG4-AE11)","v":0.26666666666666666},{"$f":"IF(AF9=0,0,(AF9*((LOG(AF9))/LOG(2))))","v":-0.50850415882893829},null,{"$f":"N9","v":121},{"$f":"COUNTIF(L54:L69,AI9)","v":2},{"$f":"AJ9/(AL4-AJ11)","v":0.13333333333333333},{"$f":"IF(AK9=0,0,(AK9*((LOG(AK9))/LOG(2))))","v":-0.3875854127478025},null,{"$f":"N9","v":121},{"$f":"COUNTIF(L70:L84,AN9)","v":0},{"$f":"AO9/(AQ4-AO11)","v":0},{"$f":"IF(AP9=0,0,(AP9*((LOG(AP9))/LOG(2))))","v":0},null,{"$f":"N9","v":121},{"$f":"COUNTIF(L85:L100,AS9)","v":0},{"$f":"AT9/(AV4-AT11)","v":0},{"$f":"IF(AU9=0,0,(AU9*((LOG(AU9))/LOG(2))))","v":0}]
[12,394,24,408,24,416,null,null,null,null,0,122,null,122,{"$f":"COUNTIF($L$7:$L$500,N10)","v":39},{"$f":"O10/$Q$4","v":0.41489361702127658},{"$f":"IF(P10=0,0,(P10*((LOG(P10))/LOG(2))))","v":-0.52657743276383162},null,null,{"$f":"N10","v":122},{"$f":"COUNTIF(L7:L22,T10)","v":10},{"$f":"U10/(W4-U11)","v":0.625},{"$f":"IF(V10=0,0,(V10*((LOG(V10))/LOG(2))))","v":-0.42379494069539858},null,{"$f":"N10","v":122},{"$f":"COUNTIF(L23:L37,Y10)","v":7},{"$f":"Z10/(AB4-Z11)","v":0.46666666666666667},{"$f":"IF(AA10=0,0,(AA10*((LOG(AA10))/LOG(2))))","v":-0.51311664765709342},null,{"$f":"N10","v":122},{"$f":"COUNTIF(L38:L53,AD10)","v":6},{"$f":"AE10/(AG4-AE11)","v":0.4},{"$f":"IF(AF10=0,0,(AF10*((LOG(AF10))/LOG(2))))","v":-0.52877123795494496},null,{"$f":"N10","v":122},{"$f":"COUNTIF(L54:L69,AI10)","v":5},{"$f":"AJ10/(AL4-AJ11)","v":0.33333333333333331},{"$f":"IF(AK10=0,0,(AK10*((LOG(AK10))/LOG(2))))","v":-0.52832083357371862},null,{"$f":"N10","v":122},{"$f":"COUNTIF(L70:L84,AN10)","v":8},{"$f":"AO10/(AQ4-AO11)","v":0.53333333333333333},{"$f":"IF(AP10=0,0,(AP10*((LOG(AP10))/LOG(2))))","v":-0.4836749843245432},null,{"$f":"N10","v":122},{"$f":"COUNTIF(L85:L100,AS10)","v":3},{"$f":"AT10/(AV4-AT11)","v":0.1875},{"$f":"IF(AU10=0,0,(AU10*((LOG(AU10))/LOG(2))))","v":-0.45281953111478312}]
[21,527,22,549,24,556,null,null,null,null,0,222,null,211,{"$f":"COUNTIF($L$7:$L$500,N11)","v":2},{"$f":"O11/$Q$4","v":2.1276595744680851E-2},{"$f":"IF(P11=0,0,(P11*((LOG(P11))/LOG(2))))","v":-0.11818274152505612},null,null,{"$f":"N11","v":211},{"$f":"COUNTIF(L7:L22,T11)","v":0},null,null,null,{"$f":"N11","v":211},{"$f":"COUNTIF(L23:L37,Y11)","v":0},null,null,null,{"$f":"N11","v":211},{"$f":"COUNTIF(L38:L53,AD11)","v":1},null,null,null,{"$f":"N11","v":211},{"$f":"COUNTIF(L54:L69,AI11)","v":1},null,null,null,{"$f":"N11","v":211},{"$f":"COUNTIF(L70:L84,AN11)","v":0},null,null,null,{"$f":"N11","v":211},{"$f":"COUNTIF(L85:L100,AS11)","v":0}]
[12,661,24,673,24,681,null,null,null,null,0,122,null,212,{"$f":"COUNTIF($L$7:$L$500,N12)","v":3},{"$f":"O12/$Q$4","v":3.1914893617021274E-2},{"$f":"IF(P12=0,0,(P12*((LOG(P12))/LOG(2))))","v":-0.15860509630712172},null,null,{"$f":"N12","v":212},{"$f":"COUNTIF(L7:L22,T12)","v":0},{"$f":"U12/(W4-U11)","v":0},{"$f":"IF(V12=0,0,(V12*((LOG(V12))/LOG(2))))","v":0},null,{"$f":"N12","v":212},{"$f":"COUNTIF(L23:L37,Y12)","v":1},{"$f":"Z12/(AB4-Z11)","v":6.6666666666666666E-2},{"$f":"IF(AA12=0,0,(AA12*((LOG(AA12))/LOG(2))))","v":-0.26045937304056793},null,{"$f":"N12","v":212},{"$f":"COUNTIF(L38:L53,AD12)","v":0},{"$f":"AE12/(AG4-AE11)","v":0},{"$f":"IF(AF12=0,0,(AF12*((LOG(AF12))/LOG(2))))","v":0},null,{"$f":"N12","v":212},{"$f":"COUNTIF(L54:L69,AI12)","v":1},{"$f":"AJ12/(AL4-AJ11)","v":6.6666666666666666E-2},{"$f":"IF(AK12=0,0,(AK12*((LOG(AK12))/LOG(2))))","v":-0.26045937304056793},null,{"$f":"N12","v":212},{"$f":"COUNTIF(L70:L84,AN12)","v":0},{"$f":"AO12/(AQ4-AO11)","v":0},{"$f":"IF(AP12=0,0,(AP12*((LOG(AP12))/LOG(2))))","v":0},null,{"$f":"N12","v":212},{"$f":"COUNTIF(L85:L100,AS12)","v":1},{"$f":"AT12/(AV4-AT11)","v":6.25E-2},{"$f":"IF(AU12=0,0,(AU12*((LOG(AU12))/LOG(2))))","v":-0.25}]
[21,787,22,794,24,800,null,null,null,null,0,222,null,221,{"$f":"COUNTIF($L$7:$L$500,N13)","v":0},{"$f":"O13/$Q$4","v":0},{"$f":"IF(P13=0,0,(P13*((LOG(P13))/LOG(2))))","v":0},null,null,{"$f":"N13","v":221},{"$f":"COUNTIF(L7:L22,T13)","v":0},{"$f":"U13/(W4-U11)","v":0},{"$f":"IF(V13=0,0,(V13*((LOG(V13))/LOG(2))))","v":0},null,{"$f":"N13","v":221},{"$f":"COUNTIF(L23:L37,Y13)","v":0},{"$f":"Z13/(AB4-Z11)","v":0},{"$f":"IF(AA13=0,0,(AA13*((LOG(AA13))/LOG(2))))","v":0},null,{"$f":"N13","v":221},{"$f":"COUNTIF(L38:L53,AD13)","v":0},{"$f":"AE13/(AG4-AE11)","v":0},{"$f":"IF(AF13=0,0,(AF13*((LOG(AF13))/LOG(2))))","v":0},null,{"$f":"N13","v":221},{"$f":"COUNTIF(L54:L69,AI13)","v":0},{"$f":"AJ13/(AL4-AJ11)","v":0},{"$f":"IF(AK13=0,0,(AK13*((LOG(AK13))/LOG(2))))","v":0},null,{"$f":"N13","v":221},{"$f":"COUNTIF(L70:L84,AN13)","v":0},{"$f":"AO13/(AQ4-AO11)","v":0},{"$f":"IF(AP13=0,0,(AP13*((LOG(AP13))/LOG(2))))","v":0},null,{"$f":"N13","v":221},{"$f":"COUNTIF(L85:L100,AS13)","v":0},{"$f":"AT13/(AV4-AT11)","v":0},{"$f":"IF(AU13=0,0,(AU13*((LOG(AU13))/LOG(2))))","v":0}]
[12,910,24,926,24,934,null,null,null,null,0,122,null,222,{"$f":"COUNTIF($L$7:$L$500,N14)","v":14},{"$f":"O14/$Q$4","v":0.14893617021276595},{"$f":"IF(P14=0,0,(P14*((LOG(P14))/LOG(2))))","v":-0.40916250015617511},null,null,{"$f":"N14","v":222},{"$f":"COUNTIF(L7:L22,T14)","v":5},{"$f":"U14/(W4-U11)","v":0.3125},{"$f":"IF(V14=0,0,(V14*((LOG(V14))/LOG(2))))","v":-0.52439747034769923},null,{"$f":"N14","v":222},{"$f":"COUNTIF(L23:L37,Y14)","v":4},{"$f":"Z14/(AB4-Z11)","v":0.26666666666666666},{"$f":"IF(AA14=0,0,(AA14*((LOG(AA14))/LOG(2))))","v":-0.50850415882893829},null,{"$f":"N14","v":222},{"$f":"COUNTIF(L38:L53,AD14)","v":3},{"$f":"AE14/(AG4-AE11)","v":0.2},{"$f":"IF(AF14=0,0,(AF14*((LOG(AF14))/LOG(2))))","v":-0.46438561897747244},null,{"$f":"N14","v":222},{"$f":"COUNTIF(L54:L69,AI14)","v":0},{"$f":"AJ14/(AL4-AJ11)","v":0},{"$f":"IF(AK14=0,0,(AK14*((LOG(AK14))/LOG(2))))","v":0},null,{"$f":"N14","v":222},{"$f":"COUNTIF(L70:L84,AN14)","v":2},{"$f":"AO14/(AQ4-AO11)","v":0.13333333333333333},{"$f":"IF(AP14=0,0,(AP14*((LOG(AP14))/LOG(2))))","v":-0.3875854127478025},null,{"$f":"N14","v":222},{"$f":"COUNTIF(L85:L100,AS14)","v":0},{"$f":"AT14/(AV4-AT11)","v":0},{"$f":"IF(AU14=0,0,(AU14*((LOG(AU14))/LOG(2))))","v":0}]
[12,1064,24,1078,24,1085,null,null,null,null,0,122,null,null,null,{"$f":"SUM(P7:P14)","v":1},{"$f":"-SUM(Q7:Q14)","v":2.2943474845354781},null,null,null,null,{"$f":"SUM(V7:V14)","v":1},{"$f":"-SUM(W7:W14)","v":1.1981924110430979},null,null,null,{"$f":"SUM(AA7:AA14)","v":1},{"$f":"-SUM(AB7:AB14)","v":1.7464657985040721},null,null,null,{"$f":"SUM(AF7:AF14)","v":1},{"$f":"-SUM(AG7:AG14)","v":1.8892464285091581},null,null,null,{"$f":"SUM(AK7:AK14)","v":1},{"$f":"-SUM(AL7:AL14)","v":1.965596230357602},null,null,null,{"$f":"SUM(AP7:AP14)","v":1},{"$f":"-SUM(AQ7:AQ14)","v":1.6402239289418519},null,null,null,{"$f":"SUM(AU7:AU14)","v":1},{"$f":"-SUM(AV7:AV14)","v":1.7489992230622806}]
[12,1198,24,1212,24,1219,null,null,null,null,0,122,null,null,null,"U=",{"$f":"Q15/(LOG(Q4)/LOG(2))","v":0.35003682709225059},null,null,null,null,"U1=",{"$f":"W15/(LOG(W4)/LOG(2))","v":0.29954810276077448},null,null,null,"U2=",{"$f":"AB15/(LOG(AB4)/LOG(2))","v":0.44702193618299951},null,null,null,"U3=",{"$f":"AG15/(LOG(AG4)/LOG(2))","v":0.47231160712728953},null,null,null,"U4=",{"$f":"AL15/(LOG(AL4)/LOG(2))","v":0.4913990575894005},null,null,null,"U5=",{"$f":"AQ15/(LOG(AQ4)/LOG(2))","v":0.41982847709775156},null,null,null,"U6=",{"$f":"AV15/(LOG(AV4)/LOG(2))","v":0.43724980576557015}]
[12,1318,24,1334,24,1342,null,null,null,null,0,122]
[12,1448,24,1464,24,1472,null,null,null,null,0,122]
[12,1582,13,1585,24,1599,null,null,null,null,0,112,null,"Total Target Seq"]
[12,1690,24,1705,24,1733,null,null,null,null,0,122,null,{"$f":"COUNTIF(L7:L100,G3)","v":2},null,16,15,16,16,15,16]
[21,1843,22,1852,24,1860,null,null,null,null,0,222,null,null,null,"% of reinforcement given in 6 equal intervals based on number of trials "]
[21,1975,22,1984,24,1992,null,null,null,null,0,222,null,null,null,"%_1","%_2","%_3","%_4","%_5","%_6"]
[12,2098,24,2122,24,2131,null,null,null,null,0,122,null,null,"target sequence",{"$f":"$G$3","v":211},{"$f":"$G$3","v":211},{"$f":"$G$3","v":211},{"$f":"$G$3","v":211},{"$f":"$G$3","v":211},{"$f":"$G$3","v":211}]
[12,2234,24,2250,24,2259,null,null,null,null,0,122,null,null,"total reinforcement",{"$f":"U11","v":0},{"$f":"Z11","v":0},{"$f":"AE11","v":1},{"$f":"AJ11","v":1},{"$f":"AO11","v":0},{"$f":"AT11","v":0}]
[21,2373,22,2380,24,2389,null,null,null,null,0,222,null,null,"% target"]
[12,2491,13,2493,24,2507,null,null,null,null,0,112,null,null,"CCRF"]
[12,2610,24,2626,24,2636,null,null,null,null,0,122,null,null,"% CCRf"]
[21,2746,22,2754,24,2762,null,null,null,null,0,222,null,null,"average response rate",{"$f":"F22/P20","v":124.5},{"$f":"(F37-F22)/Q20","v":128.6},{"$f":"(F53-F37)/R20","v":153.3125},{"$f":"(F69-F53)/S20","v":192.25},{"$f":"(F84-F69)/T20","v":142.6},{"$f":"(F100-F84)/U20","v":181.3125}]
[21,2867,11,2885,22,2900,null,null,null,null,0,212]
[12,3004,24,3021,24,3029,null,null,null,null,0,122]
[21,3151,22,3160,24,3168,null,null,null,null,0,222]
[12,3280,13,3281,24,3295,null,null,null,null,0,112]
[21,3405,22,3413,24,3424,null,null,null,null,0,222]
[12,3523,24,3538,24,3545,null,null,null,null,0,122]
[12,3650,24,3666,24,3675,null,null,null,null,0,122]
[12,3774,24,3792,24,3801,null,null,null,null,0,122]
[12,3904,13,3906,24,3921,null,null,null,null,0,112]
[12,4021,24,4075,24,4084,null,null,null,null,0,122]
[12,4185,24,4202,24,4211,null,null,null,null,0,122]
[12,4324,24,4339,13,4359,null,null,null,null,0,121]
[12,4457,13,4502,13,4527,null,null,null,null,0,111]
[12,4699,24,4720,13,4731,null,null,null,null,0,121]
[12,4856,24,4872,24,4881,null,null,null,null,0,122]
[12,4993,24,5010,24,5019,null,null,null,null,0,122]
[12,5119,24,5134,13,5144,null,null,null,null,0,121]
[12,5243,24,5259,24,5268,null,null,null,null,0,122]
[21,5378,22,5386,24,5388,null,null,null,null,0,222]
[12,5487,13,5500,13,5516,null,null,null,null,0,111]
[21,5624,11,5635,11,5636,null,null,null,null,0,211]
[12,5805,24,5843,24,5849,null,null,null,null,0,122]
[12,6004,24,6020,13,6037,null,null,null,null,0,121]
[21,6229,22,6237,24,6245,null,null,null,null,0,222]
[21,6358,22,6365,24,6374,null,null,null,null,0,222]
[12,6473,13,6474,24,6489,null,null,null,null,0,112]
[12,6587,24,6616,24,6625,null,null,null,null,0,122]
[12,6725,13,6749,24,6765,null,null,null,null,0,112]
[12,6867,24,6886,13,6912,null,null,null,null,0,121]
[12,7014,24,7032,24,7041,null,null,null,null,0,122]
[12,7142,13,7143,24,7157,null,null,null,null,0,112]
[12,7282,24,7299,24,7308,null,null,null,null,0,122]
[12,7422,13,7466,24,7485,null,null,null,null,0,112]
[12,7588,13,7613,13,7628,null,null,null,null,0,111]
[12,7755,24,7812,24,7820,null,null,null,null,0,122]
[12,8545,24,8559,13,8616,null,null,null,null,0,121]
[12,8739,13,8759,24,8803,null,null,null,null,0,112]
[21,8930,11,8945,11,8970,null,null,null,null,0,211]
[12,9154,24,9170,24,9178,null,null,null,null,0,122]
[21,9284,11,9295,22,9308,null,null,null,null,0,212]
[12,9419,13,9434,24,9450,null,null,null,null,0,112]
[12,9571,24,9584,24,9592,null,null,null,null,0,122]
[21,9712,22,9720,24,9728,null,null,null,null,0,222]
[12,9827,24,9911,24,9921,null,null,null,null,0,122]
[12,10038,24,10054,24,10062,null,null,null,null,0,122]
[12,10163,24,10176,24,10185,null,null,null,null,0,122]
[12,10282,24,10295,24,10304,null,null,null,null,0,122]
[21,10420,22,10428,24,10441,null,null,null,null,0,222]
[12,10561,24,10576,24,10585,null,null,null,null,0,122]
[12,10687,13,10689,24,10703,null,null,null,null,0,112]
[12,10825,13,10848,24,10872,null,null,null,null,0,112]
[12,10971,24,10990,24,10999,null,null,null,null,0,122]
[12,11099,13,11144,13,11172,null,null,null,null,0,111]
[12,11270,13,11291,24,11308,null,null,null,null,0,112]
[12,11409,24,11424,24,11434,null,null,null,null,0,122]
[12,11544,13,11567,24,11589,null,null,null,null,0,112]
[12,11688,13,11708,24,11724,null,null,null,null,0,112]
[21,11842,11,11853,22,11880,null,null,null,null,0,212]
[12,12005,13,12015,24,12028,null,null,null,null,0,112]
[12,12130,13,12153,13,12176,null,null,null,null,0,111]
[12,12275,13,12277,13,12301,null,null,null,null,0,111]
[12,12408,24,12424,24,12438,null,null,null,null,0,122]
[12,12582,24,12604,24,12606,null,null,null,null,0,122]
[12,12734,13,12762,24,12783,null,null,null,null,0,112]
[12,12899,13,12933,13,12955,null,null,null,null,0,111]
[12,13073,13,13092,13,13101,null,null,null,null,0,111]
[12,13231,13,13252,13,13261,null,null,null,null,0,111]
[12,13387,13,13417,24,13432,null,null,null,null,0,112]
[12,13897,13,13908,24,13928,null,null,null,null,0,112]
[12,14048,13,14080,13,14107,null,null,null,null,0,111]
[12,14291,24,14307,24,14316,null,null,null,null,0,122]
[12,14459,13,14480,13,14490,null,null,null,null,0,111]

{"sheet":"!2011-05-22_09h18m.Subject 53","index":5,"n_rows":167,"n_cols":48,"rows_kept":167,"cut":false,"hidden":false,"merged":[[4,39,4,42],[5,39,5,40],[4,44,4,47],[5,44,5,45],[4,24,4,27],[5,24,5,25],[4,29,4,32],[5,29,5,30],[4,34,4,37],[5,34,5,35],[1,1,1,2],[5,13,5,14],[18,13,18,14],[19,13,19,14],[4,19,4,22],[5,19,5,20]]}
["Report for:!2011-05-22_09h18m.Subject 53"]
["Date","2011-05-22",null,null,null,"Group",0]
["Hen",53,null,null,null,"Correct Sequence",{"$f":"Start!J2","v":211},null,null,null,null,null,null,null,null,"Total Sequences in Data",{"$f":"4994-COUNTBLANK(L7:L5000)","v":161},null,null,null,null,"Total Sequences in Block Data",{"$f":"COUNTA(L7:L33)","v":27},null,null,null,"Total Sequences in Block Data",{"$f":"COUNTA(L34:L60)","v":27},null,null,null,"Total Sequences in Block Data",{"$f":"COUNTA(L61:L86)","v":26},null,null,null,"Total Sequences in Block Data",{"$f":"COUNTA(L87:L113)","v":27},null,null,null,"Total Sequences in Block Data",{"$f":"COUNTA(L114:L140)","v":27},null,null,null,"Total Sequences in Block Data",{"$f":"COUNTA(L141:L167)","v":27}]
["Program",0,null,null,null,null,null,null,null,null,null,null,null,null,null,"Total Sequences in Summary",{"$f":"SUM(O7:O14)","v":161},null,null,null,null,"Total Sequences in Block Summary",{"$f":"SUM(U7:U14)","v":27},null,null,null,"Total Sequences in Block Summary",{"$f":"SUM(Z7:Z14)","v":27},null,null,null,"Total Sequences in Block Summary",{"$f":"SUM(AE7:AE14)","v":26},null,null,null,"Total Sequences in Block Summary",{"$f":"SUM(AJ7:AJ14)","v":27},null,null,null,"Total Sequences in Block Summary",{"$f":"SUM(AO7:AO14)","v":27},null,null,null,"Total Sequences in Block Summary",{"$f":"SUM(AT7:AT14)","v":27}]
[null,null,null,null,null,null,null,null,null,null,null,null,null,null,null,null,null,null,null,"Block 1",null,null,null,null,"Block 2",null,null,null,null,"Block 3",null,null,null,null,"Block 4",null,null,null,null,"Block 5",null,null,null,null,"Block 6"]
["Sequence\nComponent\n1","Time\n1","Sequence\nComponent\n2","Time\n2","Sequence\nComponent\n3","Time\n3","Sequence\nComponent\n4","Time\n4","Sequence\nComponent\n5","Time\n5","Correct?\n0=No 1=Yes","Sequence",null,"Frequency",null,"Relative Frequency","Variability",null,null,"Frequency",null,"Relative Frequency","Variability",null,"Frequency",null,"Relative Frequency","Variability",null,"Frequency",null,"Relative Frequency","Variability",null,"Frequency",null,"Relative Frequency","Variability",null,"Frequency",null,"Relative Frequency","Variability",null,"Frequency",null,"Relative Frequency","Variability"]
[12,84,13,100,13,160,null,null,null,null,0,111,null,111,{"$f":"COUNTIF($L$7:$L$500,N7)","v":43},{"$f":"O7/$Q$4","v":0.26708074534161491},{"$f":"IF(P7=0,0,(P7*((LOG(P7))/LOG(2))))","v":-0.50869590873750503},null,null,{"$f":"N7","v":111},{"$f":"COUNTIF(L7:L33,T7)","v":3},{"$f":"U7/(W4-U11)","v":0.1111111111111111},{"$f":"IF(V7=0,0,(V7*((LOG(V7))/LOG(2))))","v":-0.3522138890491458},null,{"$f":"N7","v":111},{"$f":"COUNTIF(L34:L60,Y7)","v":10},{"$f":"Z7/(AB4-Z11)","v":0.38461538461538464},{"$f":"IF(AA7=0,0,(AA7*((LOG(AA7))/LOG(2))))","v":-0.53019677817451139},null,{"$f":"N7","v":111},{"$f":"COUNTIF(L61:L86,AD7)","v":6},{"$f":"AE7/(AG4-AE11)","v":0.23076923076923078},{"$f":"IF(AF7=0,0,(AF7*((LOG(AF7))/LOG(2))))","v":-0.48818705017383146},null,{"$f":"N7","v":111},{"$f":"COUNTIF(L87:L113,AI7)","v":7},{"$f":"AJ7/(AL4-AJ11)","v":0.25925925925925924},{"$f":"IF(AK7=0,0,(AK7*((LOG(AK7))/LOG(2))))","v":-0.5049158541015204},null,{"$f":"N7","v":111},{"$f":"COUNTIF(L114:L140,AN7)","v":7},{"$f":"AO7/(AQ4-AO11)","v":0.25925925925925924},{"$f":"IF(AP7=0,0,(AP7*((LOG(AP7))/LOG(2))))","v":-0.5049158541015204},null,{"$f":"N7","v":111},{"$f":"COUNTIF(L141:L167,AS7)","v":10},{"$f":"AT7/(AV4-AT11)","v":0.37037037037037035},{"$f":"IF(AU7=0,0,(AU7*((LOG(AU7))/LOG(2))))","v":-0.53072570639855787}]
[12,279,13,295,13,316,null,null,null,null,0,111,null,112,{"$f":"COUNTIF($L$7:$L$500,N8)","v":45},{"$f":"O8/$Q$4","v":0.27950310559006208},{"$f":"IF(P8=0,0,(P8*((LOG(P8))/LOG(2))))","v":-0.51402403838709565},null,null,{"$f":"N8","v":112},{"$f":"COUNTIF(L7:L33,T8)","v":11},{"$f":"U8/(W4-U11)","v":0.40740740740740738},{"$f":"IF(V8=0,0,(V8*((LOG(V8))/LOG(2))))","v":-0.52777832291806981},null,{"$f":"N8","v":112},{"$f":"COUNTIF(L34:L60,Y8)","v":7},{"$f":"Z8/(AB4-Z11)","v":0.26923076923076922},{"$f":"IF(AA8=0,0,(AA8*((LOG(AA8))/LOG(2))))","v":-0.50967667586863141},null,{"$f":"N8","v":112},{"$f":"COUNTIF(L61:L86,AD8)","v":7},{"$f":"AE8/(AG4-AE11)","v":0.26923076923076922},{"$f":"IF(AF8=0,0,(AF8*((LOG(AF8))/LOG(2))))","v":-0.50967667586863141},null,{"$f":"N8","v":112},{"$f":"COUNTIF(L87:L113,AI8)","v":7},{"$f":"AJ8/(AL4-AJ11)","v":0.25925925925925924},{"$f":"IF(AK8=0,0,(AK8*((LOG(AK8))/LOG(2))))","v":-0.5049158541015204},null,{"$f":"N8","v":112},{"$f":"COUNTIF(L114:L140,AN8)","v":8},{"$f":"AO8/(AQ4-AO11)","v":0.29629629629629628},{"$f":"IF(AP8=0,0,(AP8*((LOG(AP8))/LOG(2))))","v":-0.51996666730769436},null,{"$f":"N8","v":112},{"$f":"COUNTIF(L141:L167,AS8)","v":5},{"$f":"AT8/(AV4-AT11)","v":0.18518518518518517},{"$f":"IF(AU8=0,0,(AU8*((LOG(AU8))/LOG(2))))","v":-0.45054803838446406}]
[12,418,24,435,24,445,null,null,null,null,0,122,null,121,{"$f":"COUNTIF($L$7:$L$500,N9)","v":10},{"$f":"O9/$Q$4","v":6.2111801242236024E-2},{"$f":"IF(P9=0,0,(P9*((LOG(P9))/LOG(2))))","v":-0.2490055144861649},null,null,{"$f":"N9","v":121},{"$f":"COUNTIF(L7:L33,T9)","v":1},{"$f":"U9/(W4-U11)","v":3.7037037037037035E-2},{"$f":"IF(V9=0,0,(V9*((LOG(V9))/LOG(2))))","v":-0.1761069445245729},null,{"$f":"N9","v":121},{"$f":"COUNTIF(L34:L60,Y9)","v":1},{"$f":"Z9/(AB4-Z11)","v":3.8461538461538464E-2},{"$f":"IF(AA9=0,0,(AA9*((LOG(AA9))/LOG(2))))","v":-0.18078614300542661},null,{"$f":"N9","v":121},{"$f":"COUNTIF(L61:L86,AD9)","v":1},{"$f":"AE9/(AG4-AE11)","v":3.8461538461538464E-2},{"$f":"IF(AF9=0,0,(AF9*((LOG(AF9))/LOG(2))))","v":-0.18078614300542661},null,{"$f":"N9","v":121},{"$f":"COUNTIF(L87:L113,AI9)","v":3},{"$f":"AJ9/(AL4-AJ11)","v":0.1111111111111111},{"$f":"IF(AK9=0,0,(AK9*((LOG(AK9))/LOG(2))))","v":-0.3522138890491458},null,{"$f":"N9","v":121},{"$f":"COUNTIF(L114:L140,AN9)","v":2},{"$f":"AO9/(AQ4-AO11)","v":7.407407407407407E-2},{"$f":"IF(AP9=0,0,(AP9*((LOG(AP9))/LOG(2))))","v":-0.27813981497507173},null,{"$f":"N9","v":121},{"$f":"COUNTIF(L141:L167,AS9)","v":2},{"$f":"AT9/(AV4-AT11)","v":7.407407407407407E-2},{"$f":"IF(AU9=0,0,(AU9*((LOG(AU9))/LOG(2))))","v":-0.27813981497507173}]
[12,552,13,567,24,581,null,null,null,null,0,112,null,122,{"$f":"COUNTIF($L$7:$L$500,N10)","v":52},{"$f":"O10/$Q$4","v":0.32298136645962733},{"$f":"IF(P10=0,0,(P10*((LOG(P10))/LOG(2))))","v":-0.52661374110946146},null,null,{"$f":"N10","v":122},{"$f":"COUNTIF(L7:L33,T10)","v":12},{"$f":"U10/(W4-U11)","v":0.44444444444444442},{"$f":"IF(V10=0,0,(V10*((LOG(V10))/LOG(2))))","v":-0.51996666730769447},null,{"$f":"N10","v":122},{"$f":"COUNTIF(L34:L60,Y10)","v":4},{"$f":"Z10/(AB4-Z11)","v":0.15384615384615385},{"$f":"IF(AA10=0,0,(AA10*((LOG(AA10))/LOG(2))))","v":-0.4154522643293988},null,{"$f":"N10","v":122},{"$f":"COUNTIF(L61:L86,AD10)","v":9},{"$f":"AE10/(AG4-AE11)","v":0.34615384615384615},{"$f":"IF(AF10=0,0,(AF10*((LOG(AF10))/LOG(2))))","v":-0.52979355578034681},null,{"$f":"N10","v":122},{"$f":"COUNTIF(L87:L113,AI10)","v":9},{"$f":"AJ10/(AL4-AJ11)","v":0.33333333333333331},{"$f":"IF(AK10=0,0,(AK10*((LOG(AK10))/LOG(2))))","v":-0.52832083357371862},null,{"$f":"N10","v":122},{"$f":"COUNTIF(L114:L140,AN10)","v":10},{"$f":"AO10/(AQ4-AO11)","v":0.37037037037037035},{"$f":"IF(AP10=0,0,(AP10*((LOG(AP10))/LOG(2))))","v":-0.53072570639855787},null,{"$f":"N10","v":122},{"$f":"COUNTIF(L141:L167,AS10)","v":8},{"$f":"AT10/(AV4-AT11)","v":0.29629629629629628},{"$f":"IF(AU10=0,0,(AU10*((LOG(AU10))/LOG(2))))","v":-0.51996666730769436}]
[12,695,24,709,24,717,null,null,null,null,0,122,null,211,{"$f":"COUNTIF($L$7:$L$500,N11)","v":1},{"$f":"O11/$Q$4","v":6.2111801242236021E-3},{"$f":"IF(P11=0,0,(P11*((LOG(P11))/LOG(2))))","v":-4.5533645205680845E-2},null,null,{"$f":"N11","v":211},{"$f":"COUNTIF(L7:L33,T11)","v":0},null,null,null,{"$f":"N11","v":211},{"$f":"COUNTIF(L34:L60,Y11)","v":1},null,null,null,{"$f":"N11","v":211},{"$f":"COUNTIF(L61:L86,AD11)","v":0},null,null,null,{"$f":"N11","v":211},{"$f":"COUNTIF(L87:L113,AI11)","v":0},null,null,null,{"$f":"N11","v":211},{"$f":"COUNTIF(L114:L140,AN11)","v":0},null,null,null,{"$f":"N11","v":211},{"$f":"COUNTIF(L141:L167,AS11)","v":0}]
[12,814,24,828,24,834,null,null,null,null,0,122,null,212,{"$f":"COUNTIF($L$7:$L$500,N12)","v":2},{"$f":"O12/$Q$4","v":1.2422360248447204E-2},{"$f":"IF(P12=0,0,(P12*((LOG(P12))/LOG(2))))","v":-7.8644930162914489E-2},null,null,{"$f":"N12","v":212},{"$f":"COUNTIF(L7:L33,T12)","v":0},{"$f":"U12/(W4-U11)","v":0},{"$f":"IF(V12=0,0,(V12*((LOG(V12))/LOG(2))))","v":0},null,{"$f":"N12","v":212},{"$f":"COUNTIF(L34:L60,Y12)","v":2},{"$f":"Z12/(AB4-Z11)","v":7.6923076923076927E-2},{"$f":"IF(AA12=0,0,(AA12*((LOG(AA12))/LOG(2))))","v":-0.28464920908777636},null,{"$f":"N12","v":212},{"$f":"COUNTIF(L61:L86,AD12)","v":0},{"$f":"AE12/(AG4-AE11)","v":0},{"$f":"IF(AF12=0,0,(AF12*((LOG(AF12))/LOG(2))))","v":0},null,{"$f":"N12","v":212},{"$f":"COUNTIF(L87:L113,AI12)","v":0},{"$f":"AJ12/(AL4-AJ11)","v":0},{"$f":"IF(AK12=0,0,(AK12*((LOG(AK12))/LOG(2))))","v":0},null,{"$f":"N12","v":212},{"$f":"COUNTIF(L114:L140,AN12)","v":0},{"$f":"AO12/(AQ4-AO11)","v":0},{"$f":"IF(AP12=0,0,(AP12*((LOG(AP12))/LOG(2))))","v":0},null,{"$f":"N12","v":212},{"$f":"COUNTIF(L141:L167,AS12)","v":0},{"$f":"AT12/(AV4-AT11)","v":0},{"$f":"IF(AU12=0,0,(AU12*((LOG(AU12))/LOG(2))))","v":0}]
[12,933,24,948,24,958,null,null,null,null,0,122,null,221,{"$f":"COUNTIF($L$7:$L$500,N13)","v":2},{"$f":"O13/$Q$4","v":1.2422360248447204E-2},{"$f":"IF(P13=0,0,(P13*((LOG(P13))/LOG(2))))","v":-7.8644930162914489E-2},null,null,{"$f":"N13","v":221},{"$f":"COUNTIF(L7:L33,T13)","v":0},{"$f":"U13/(W4-U11)","v":0},{"$f":"IF(V13=0,0,(V13*((LOG(V13))/LOG(2))))","v":0},null,{"$f":"N13","v":221},{"$f":"COUNTIF(L34:L60,Y13)","v":0},{"$f":"Z13/(AB4-Z11)","v":0},{"$f":"IF(AA13=0,0,(AA13*((LOG(AA13))/LOG(2))))","v":0},null,{"$f":"N13","v":221},{"$f":"COUNTIF(L61:L86,AD13)","v":1},{"$f":"AE13/(AG4-AE11)","v":3.8461538461538464E-2},{"$f":"IF(AF13=0,0,(AF13*((LOG(AF13))/LOG(2))))","v":-0.18078614300542661},null,{"$f":"N13","v":221},{"$f":"COUNTIF(L87:L113,AI13)","v":1},{"$f":"AJ13/(AL4-AJ11)","v":3.7037037037037035E-2},{"$f":"IF(AK13=0,0,(AK13*((LOG(AK13))/LOG(2))))","v":-0.1761069445245729},null,{"$f":"N13","v":221},{"$f":"COUNTIF(L114:L140,AN13)","v":0},{"$f":"AO13/(AQ4-AO11)","v":0},{"$f":"IF(AP13=0,0,(AP13*((LOG(AP13))/LOG(2))))","v":0},null,{"$f":"N13","v":221},{"$f":"COUNTIF(L141:L167,AS13)","v":0},{"$f":"AT13/(AV4-AT11)","v":0},{"$f":"IF(AU13=0,0,(AU13*((LOG(AU13))/LOG(2))))","v":0}]
[12,1059,13,1075,24,1089,null,null,null,null,0,112,null,222,{"$f":"COUNTIF($L$7:$L$500,N14)","v":6},{"$f":"O14/$Q$4","v":3.7267080745341616E-2},{"$f":"IF(P14=0,0,(P14*((LOG(P14))/LOG(2))))","v":-0.17686786499602961},null,null,{"$f":"N14","v":222},{"$f":"COUNTIF(L7:L33,T14)","v":0},{"$f":"U14/(W4-U11)","v":0},{"$f":"IF(V14=0,0,(V14*((LOG(V14))/LOG(2))))","v":0},null,{"$f":"N14","v":222},{"$f":"COUNTIF(L34:L60,Y14)","v":2},{"$f":"Z14/(AB4-Z11)","v":7.6923076923076927E-2},{"$f":"IF(AA14=0,0,(AA14*((LOG(AA14))/LOG(2))))","v":-0.28464920908777636},null,{"$f":"N14","v":222},{"$f":"COUNTIF(L61:L86,AD14)","v":2},{"$f":"AE14/(AG4-AE11)","v":7.6923076923076927E-2},{"$f":"IF(AF14=0,0,(AF14*((LOG(AF14))/LOG(2))))","v":-0.28464920908777636},null,{"$f":"N14","v":222},{"$f":"COUNTIF(L87:L113,AI14)","v":0},{"$f":"AJ14/(AL4-AJ11)","v":0},{"$f":"IF(AK14=0,0,(AK14*((LOG(AK14))/LOG(2))))","v":0},null,{"$f":"N14","v":222},{"$f":"COUNTIF(L114:L140,AN14)","v":0},{"$f":"AO14/(AQ4-AO11)","v":0},{"$f":"IF(AP14=0,0,(AP14*((LOG(AP14))/LOG(2))))","v":0},null,{"$f":"N14","v":222},{"$f":"COUNTIF(L141:L167,AS14)","v":2},{"$f":"AT14/(AV4-AT11)","v":7.407407407407407E-2},{"$f":"IF(AU14=0,0,(AU14*((LOG(AU14))/LOG(2))))","v":-0.27813981497507173}]
[12,1196,24,1210,24,1220,null,null,null,null,0,122,null,null,null,{"$f":"SUM(P7:P14)","v":1},{"$f":"-SUM(Q7:Q14)","v":2.1780305732477667},null,null,null,null,{"$f":"SUM(V7:V14)","v":1},{"$f":"-SUM(W7:W14)","v":1.5760658237994831},null,null,null,{"$f":"SUM(AA7:AA14)","v":1},{"$f":"-SUM(AB7:AB14)","v":2.2054102795535204},null,null,null,{"$f":"SUM(AF7:AF14)","v":1},{"$f":"-SUM(AG7:AG14)","v":2.1738787769214394},null,null,null,{"$f":"SUM(AK7:AK14)","v":0.99999999999999978},{"$f":"-SUM(AL7:AL14)","v":2.066473375350478},null,null,null,{"$f":"SUM(AP7:AP14)","v":1},{"$f":"-SUM(AQ7:AQ14)","v":1.8337480427828443},null,null,null,{"$f":"SUM(AU7:AU14)","v":1},{"$f":"-SUM(AV7:AV14)","v":2.0575200420408599}]
[12,1320,13,1330,24,1340,null,null,null,null,0,112,null,null,null,"U=",{"$f":"Q15/(LOG(Q4)/LOG(2))","v":0.29710206914908005},null,null,null,null,"U1=",{"$f":"W15/(LOG(W4)/LOG(2))","v":0.33146227394073469},null,null,null,"U2=",{"$f":"AB15/(LOG(AB4)/LOG(2))","v":0.4638196547342206},null,null,null,"U3=",{"$f":"AG15/(LOG(AG4)/LOG(2))","v":0.46248413069344818},null,null,null,"U4=",{"$f":"AL15/(LOG(AL4)/LOG(2))","v":0.43459984582395167},null,null,null,"U5=",{"$f":"AQ15/(LOG(AQ4)/LOG(2))","v":0.38565540024837414},null,null,null,"U6=",{"$f":"AV15/(LOG(AV4)/LOG(2))","v":0.43271687103105821}]
[12,1441,24,1453,24,1462,null,null,null,null,0,122]
[12,1562,24,1576,24,1584,null,null,null,null,0,122]
[12,1682,13,1686,24,1700,null,null,null,null,0,112,null,"Total Target Seq"]
[12,1798,24,1812,24,1820,null,null,null,null,0,122,null,{"$f":"COUNTIF(L7:L167,G3)","v":1},null,27,27,26,27,27,27]
[12,1918,13,1920,24,1937,null,null,null,null,0,112,null,null,null,"% of reinforcement given in 6 equal intervals based on number of trials "]
[12,2041,24,2054,24,2062,null,null,null,null,0,122,null,null,null,"%_1","%_2","%_3","%_4","%_5","%_6"]
[12,2162,24,2177,24,2186,null,null,null,null,0,122,null,null,"target sequence",{"$f":"$G$3","v":211},{"$f":"$G$3","v":211},{"$f":"$G$3","v":211},{"$f":"$G$3","v":211},{"$f":"$G$3","v":211},{"$f":"$G$3","v":211}]
[12,2330,24,2345,13,2377,null,null,null,null,0,121,null,null,"total reinforcement",{"$f":"U11","v":0},{"$f":"Z11","v":1},{"$f":"AE11","v":0},{"$f":"AJ11","v":0},{"$f":"AO11","v":0},{"$f":"AT11","v":0}]
[12,2578,13,2598,24,2613,null,null,null,null,0,112,null,null,"% target"]
[12,2712,24,2748,24,2761,null,null,null,null,0,122,null,null,"CCRF"]
[12,2861,13,2914,24,2928,null,null,null,null,0,112,null,null,"% CCRf"]
[12,3028,13,3093,24,3106,null,null,null,null,0,112,null,null,"average response rate",{"$f":"F33/P20","v":139.33333333333334},{"$f":"(F60-F33)/Q20","v":164.59259259259258},{"$f":"(F86-F60)/R20","v":148.92307692307693},{"$f":"(F113-F86)/S20","v":154.96296296296296},{"$f":"(F140-F113)/T20","v":135.5185185185185},{"$f":"(F167-F140)/U20","v":149.11111111111111}]
[12,3203,13,3217,24,3232,null,null,null,null,0,112]
[12,3331,13,3351,24,3370,null,null,null,null,0,112]
[12,3468,13,3489,24,3502,null,null,null,null,0,112]
[12,3607,13,3617,13,3629,null,null,null,null,0,111]
[12,3728,24,3752,24,3762,null,null,null,null,0,122]
[12,3863,13,3903,13,3913,null,null,null,null,0,111]
[12,4069,13,4084,24,4097,null,null,null,null,0,112]
[12,4216,13,4243,13,4271,null,null,null,null,0,111]
[21,4449,11,4509,11,4539,null,null,null,null,0,211]
[12,4651,13,4670,13,4690,null,null,null,null,0,111]
[12,4790,13,4853,13,4878,null,null,null,null,0,111]
[12,4976,13,5001,13,5012,null,null,null,null,0,111]
[12,5122,13,5149,24,5180,null,null,null,null,0,112]
[12,5292,13,5317,13,5335,null,null,null,null,0,111]
[12,5435,13,5446,13,5463,null,null,null,null,0,111]
[12,5564,13,5575,24,5595,null,null,null,null,0,112]
[21,5724,11,5747,22,5760,null,null,null,null,0,212]
[12,5868,24,5886,24,5894,null,null,null,null,0,122]
[12,6013,13,6022,24,6041,null,null,null,null,0,112]
[12,6147,13,6157,13,6173,null,null,null,null,0,111]
[12,6300,13,6302,13,6328,null,null,null,null,0,111]
[21,6465,22,6473,24,6482,null,null,null,null,0,222]
[12,6761,24,6774,13,6802,null,null,null,null,0,121]
[12,6901,13,6932,24,6945,null,null,null,null,0,112]
[12,7094,24,7147,24,7157,null,null,null,null,0,122]
[21,7274,11,7306,22,7323,null,null,null,null,0,212]
[12,7423,13,7454,24,7467,null,null,null,null,0,112]
[12,7568,24,7587,24,7595,null,null,null,null,0,122]
[12,7724,13,7740,13,7750,null,null,null,null,0,111]
[12,7869,13,7886,24,7901,null,null,null,null,0,112]
[12,8013,24,8033,24,8041,null,null,null,null,0,122]
[21,8190,22,8198,24,8206,null,null,null,null,0,222]
[12,8304,13,8323,24,8337,null,null,null,null,0,112]
[12,8486,24,8499,24,8509,null,null,null,null,0,122]
[12,8641,24,8654,24,8662,null,null,null,null,0,122]
[12,8761,13,8776,24,8790,null,null,null,null,0,112]
[12,8904,24,8916,24,8924,null,null,null,null,0,122]
[21,9049,22,9059,13,9075,null,null,null,null,0,221]
[12,9200,13,9222,24,9235,null,null,null,null,0,112]
[12,9369,24,9380,24,9389,null,null,null,null,0,122]
[12,9487,24,9503,24,9512,null,null,null,null,0,122]
[12,9610,24,9624,13,9639,null,null,null,null,0,121]
[12,9863,13,9886,13,9899,null,null,null,null,0,111]
[21,10027,22,10035,24,10043,null,null,null,null,0,222]
[12,10227,13,10241,24,10254,null,null,null,null,0,112]
[21,10357,22,10388,24,10405,null,null,null,null,0,222]
[12,10504,13,10516,13,10528,null,null,null,null,0,111]
[12,10688,24,10703,24,10712,null,null,null,null,0,122]
[12,10811,13,10820,24,10836,null,null,null,null,0,112]
[12,10944,13,10959,13,10986,null,null,null,null,0,111]
[12,11107,13,11116,13,11124,null,null,null,null,0,111]
[12,11233,24,11247,24,11255,null,null,null,null,0,122]
[12,11371,13,11382,24,11397,null,null,null,null,0,112]
[12,11496,13,11504,24,11516,null,null,null,null,0,112]
[12,11631,24,11649,24,11658,null,null,null,null,0,122]
[12,11759,24,11774,24,11782,null,null,null,null,0,122]
[12,11883,13,11914,13,11923,null,null,null,null,0,111]
[12,12033,13,12062,13,12078,null,null,null,null,0,111]
[12,12210,24,12233,13,12255,null,null,null,null,0,121]
[12,12401,13,12468,13,12504,null,null,null,null,0,111]
[12,12651,24,12665,24,12673,null,null,null,null,0,122]
[21,12821,22,12831,13,12872,null,null,null,null,0,221]
[12,12974,13,12987,13,13029,null,null,null,null,0,111]
[12,13127,13,13182,13,13192,null,null,null,null,0,111]
[12,13290,13,13310,24,13325,null,null,null,null,0,112]
[12,13423,13,13432,24,13453,null,null,null,null,0,112]
[12,13576,13,13585,13,13594,null,null,null,null,0,111]
[12,13728,24,13744,13,13766,null,null,null,null,0,121]
[12,13893,13,13935,24,13949,null,null,null,null,0,112]
[12,14048,24,14079,24,14088,null,null,null,null,0,122]
[12,14239,13,14266,13,14284,null,null,null,null,0,111]
[12,14434,24,14450,24,14458,null,null,null,null,0,122]
[12,14558,24,14571,24,14580,null,null,null,null,0,122]
[12,14678,13,14721,24,14737,null,null,null,null,0,112]
[12,14839,24,14856,24,14867,null,null,null,null,0,122]
[12,14966,24,14979,13,14992,null,null,null,null,0,121]
[12,15090,24,15103,24,15111,null,null,null,null,0,122]
[12,15209,13,15228,24,15245,null,null,null,null,0,112]
[12,15344,13,15367,24,15382,null,null,null,null,0,112]
[12,15517,13,15536,13,15562,null,null,null,null,0,111]
[12,15683,13,15697,24,15711,null,null,null,null,0,112]
[12,15815,24,15830,24,15837,null,null,null,null,0,122]
[12,15936,24,15949,24,15956,null,null,null,null,0,122]
[12,16064,24,16079,24,16089,null,null,null,null,0,122]
[12,16201,13,16231,13,16262,null,null,null,null,0,111]
[12,16370,24,16384,24,16392,null,null,null,null,0,122]
[12,16494,24,16505,24,16512,null,null,null,null,0,122]
[12,16608,13,16630,13,16692,null,null,null,null,0,111]
[12,16793,13,16801,13,16811,null,null,null,null,0,111]
[12,16914,13,16934,24,16946,null,null,null,null,0,112]
[12,17049,13,17059,24,17072,null,null,null,null,0,112]
[12,17182,24,17198,13,17213,null,null,null,null,0,121]
[12,17320,13,17341,24,17352,null,null,null,null,0,112]
[12,17478,13,17515,24,17530,null,null,null,null,0,112]
[12,17635,13,17645,24,17659,null,null,null,null,0,112]
[12,17759,13,17767,13,17773,null,null,null,null,0,111]
[12,17875,13,17894,13,17906,null,null,null,null,0,111]
[12,18009,13,18029,13,18040,null,null,null,null,0,111]
[12,18138,13,18146,24,18161,null,null,null,null,0,112]
[12,18263,13,18272,24,18287,null,null,null,null,0,112]
[12,18386,24,18398,13,18414,null,null,null,null,0,121]
[12,18528,13,18540,13,18564,null,null,null,null,0,111]
[12,18667,13,18676,13,18693,null,null,null,null,0,111]
[12,18798,24,18814,24,18823,null,null,null,null,0,122]
[12,18956,24,18967,24,18975,null,null,null,null,0,122]
[12,19075,24,19097,24,19103,null,null,null,null,0,122]
[12,19218,24,19231,24,19239,null,null,null,null,0,122]
[12,19365,24,19374,24,19382,null,null,null,null,0,122]
[12,19483,24,19493,24,19498,null,null,null,null,0,122]
[12,19596,24,19613,24,19621,null,null,null,null,0,122]
[12,19782,13,19790,24,19802,null,null,null,null,0,112]
[12,19901,24,19913,24,19921,null,null,null,null,0,122]
[12,20020,13,20030,13,20061,null,null,null,null,0,111]
[12,20161,13,20169,24,20179,null,null,null,null,0,112]
[12,20288,24,20303,24,20310,null,null,null,null,0,122]
[12,20517,13,20527,13,20542,null,null,null,null,0,111]
[12,20641,24,20658,24,20666,null,null,null,null,0,122]
[12,20767,13,20777,24,20789,null,null,null,null,0,112]
[12,20887,13,20912,13,20920,null,null,null,null,0,111]
[12,21021,13,21029,24,21041,null,null,null,null,0,112]
[12,21146,13,21178,13,21234,null,null,null,null,0,111]
[12,21380,13,21389,13,21403,null,null,null,null,0,111]
[12,21506,13,21514,24,21527,null,null,null,null,0,112]
[12,21692,24,21705,13,21725,null,null,null,null,0,121]
[12,21831,24,21845,13,21877,null,null,null,null,0,121]
[21,22014,22,22025,24,22032,null,null,null,null,0,222]
[12,22146,13,22174,13,22200,null,null,null,null,0,111]
[12,22300,13,22332,13,22348,null,null,null,null,0,111]
[12,22454,13,22464,24,22488,null,null,null,null,0,112]
[12,22645,13,22653,13,22670,null,null,null,null,0,111]
[12,22820,24,22839,24,22847,null,null,null,null,0,122]
[12,22958,13,22986,13,23010,null,null,null,null,0,111]
[12,23111,13,23120,13,23135,null,null,null,null,0,111]
[12,23249,24,23262,24,23271,null,null,null,null,0,122]
[21,23379,22,23387,24,23396,null,null,null,null,0,222]
[12,23495,24,23507,24,23513,null,null,null,null,0,122]
[12,23664,24,23679,24,23687,null,null,null,null,0,122]
[12,23789,24,23798,24,23806,null,null,null,null,0,122]
[12,23924,24,23939,24,23947,null,null,null,null,null,122]

{"sheet":"!2011-05-26_09h17m.Subject 53","index":6,"n_rows":112,"n_cols":48,"rows_kept":112,"cut":false,"hidden":false,"merged":[[4,39,4,42],[5,39,5,40],[4,44,4,47],[5,44,5,45],[4,24,4,27],[5,24,5,25],[4,29,4,32],[5,29,5,30],[4,34,4,37],[5,34,5,35],[1,1,1,2],[5,13,5,14],[18,13,18,14],[19,13,19,14],[4,19,4,22],[5,19,5,20]]}
["Report for:!2011-05-26_09h17m.Subject 53"]
["Date","2011-05-26",null,null,null,"Group",0]
["Hen",53,null,null,null,"Correct Sequence",{"$f":"Start!J2","v":211},null,null,null,null,null,null,null,null,"Total Sequences in Data",{"$f":"4994-COUNTBLANK(L7:L5000)","v":106},null,null,null,null,"Total Sequences in Block Data",{"$f":"COUNTA(L7:L24)","v":18},null,null,null,"Total Sequences in Block Data",{"$f":"COUNTA(L25:L41)","v":17},null,null,null,"Total Sequences in Block Data",{"$f":"COUNTA(L42:L59)","v":18},null,null,null,"Total Sequences in Block Data",{"$f":"COUNTA(L60:L77)","v":18},null,null,null,"Total Sequences in Block Data",{"$f":"COUNTA(L78:L94)","v":17},null,null,null,"Total Sequences in Block Data",{"$f":"COUNTA(L95:L112)","v":18}]
["Program",0,null,null,null,null,null,null,null,null,null,null,null,null,null,"Total Sequences in Summary",{"$f":"SUM(O7:O14)","v":106},null,null,null,null,"Total Sequences in Block Summary",{"$f":"SUM(U7:U14)","v":18},null,null,null,"Total Sequences in Block Summary",{"$f":"SUM(Z7:Z14)","v":17},null,null,null,"Total Sequences in Block Summary",{"$f":"SUM(AE7:AE14)","v":18},null,null,null,"Total Sequences in Block Summary",{"$f":"SUM(AJ7:AJ14)","v":18},null,null,null,"Total Sequences in Block Summary",{"$f":"SUM(AO7:AO14)","v":17},null,null,null,"Total Sequences in Block Summary",{"$f":"SUM(AT7:AT14)","v":18}]
[null,null,null,null,null,null,null,null,null,null,null,null,null,null,null,null,null,null,null,"Block 1",null,null,null,null,"Block 2",null,null,null,null,"Block 3",null,null,null,null,"Block 4",null,null,null,null,"Block 5",null,null,null,null,"Block 6"]
["Sequence\nComponent\n1","Time\n1","Sequence\nComponent\n2","Time\n2","Sequence\nComponent\n3","Time\n3","Sequence\nComponent\n4","Time\n4","Sequence\nComponent\n5","Time\n5","Correct?\n0=No 1=Yes","Sequence",null,"Frequency",null,"Relative Frequency","Variability",null,null,"Frequency",null,"Relative Frequency","Variability",null,"Frequency",null,"Relative Frequency","Variability",null,"Frequency",null,"Relative Frequency","Variability",null,"Frequency",null,"Relative Frequency","Variability",null,"Frequency",null,"Relative Frequency","Variability",null,"Frequency",null,"Relative Frequency","Variability"]
[12,48,24,60,24,74,null,null,null,null,0,122,null,111,{"$f":"COUNTIF($L$7:$L$500,N7)","v":24},{"$f":"O7/$Q$4","v":0.22641509433962265},{"$f":"IF(P7=0,0,(P7*((LOG(P7))/LOG(2))))","v":-0.48519802728499078},null,null,{"$f":"N7","v":111},{"$f":"COUNTIF(L7:L24,T7)","v":5},{"$f":"U7/(W4-U11)","v":0.27777777777777779},{"$f":"IF(V7=0,0,(V7*((LOG(V7))/LOG(2))))","v":-0.51333247404304172},null,{"$f":"N7","v":111},{"$f":"COUNTIF(L25:L41,Y7)","v":2},{"$f":"Z7/(AB4-Z11)","v":0.11764705882352941},{"$f":"IF(AA7=0,0,(AA7*((LOG(AA7))/LOG(2))))","v":-0.36323092250003997},null,{"$f":"N7","v":111},{"$f":"COUNTIF(L42:L59,AD7)","v":3},{"$f":"AE7/(AG4-AE11)","v":0.16666666666666666},{"$f":"IF(AF7=0,0,(AF7*((LOG(AF7))/LOG(2))))","v":-0.43082708345352599},null,{"$f":"N7","v":111},{"$f":"COUNTIF(L60:L77,AI7)","v":8},{"$f":"AJ7/(AL4-AJ11)","v":0.44444444444444442},{"$f":"IF(AK7=0,0,(AK7*((LOG(AK7))/LOG(2))))","v":-0.51996666730769447},null,{"$f":"N7","v":111},{"$f":"COUNTIF(L78:L94,AN7)","v":3},{"$f":"AO7/(AQ4-AO11)","v":0.17647058823529413},{"$f":"IF(AP7=0,0,(AP7*((LOG(AP7))/LOG(2))))","v":-0.44161770715220888},null,{"$f":"N7","v":111},{"$f":"COUNTIF(L95:L112,AS7)","v":3},{"$f":"AT7/(AV4-AT11)","v":0.17647058823529413},{"$f":"IF(AU7=0,0,(AU7*((LOG(AU7))/LOG(2))))","v":-0.44161770715220888}]
[21,200,22,208,24,970,null,null,null,null,0,222,null,112,{"$f":"COUNTIF($L$7:$L$500,N8)","v":22},{"$f":"O8/$Q$4","v":0.20754716981132076},{"$f":"IF(P8=0,0,(P8*((LOG(P8))/LOG(2))))","v":-0.47081843764499853},null,null,{"$f":"N8","v":112},{"$f":"COUNTIF(L7:L24,T8)","v":2},{"$f":"U8/(W4-U11)","v":0.1111111111111111},{"$f":"IF(V8=0,0,(V8*((LOG(V8))/LOG(2))))","v":-0.3522138890491458},null,{"$f":"N8","v":112},{"$f":"COUNTIF(L25:L41,Y8)","v":5},{"$f":"Z8/(AB4-Z11)","v":0.29411764705882354},{"$f":"IF(AA8=0,0,(AA8*((LOG(AA8))/LOG(2))))","v":-0.51927492540087561},null,{"$f":"N8","v":112},{"$f":"COUNTIF(L42:L59,AD8)","v":5},{"$f":"AE8/(AG4-AE11)","v":0.27777777777777779},{"$f":"IF(AF8=0,0,(AF8*((LOG(AF8))/LOG(2))))","v":-0.51333247404304172},null,{"$f":"N8","v":112},{"$f":"COUNTIF(L60:L77,AI8)","v":4},{"$f":"AJ8/(AL4-AJ11)","v":0.22222222222222221},{"$f":"IF(AK8=0,0,(AK8*((LOG(AK8))/LOG(2))))","v":-0.48220555587606945},null,{"$f":"N8","v":112},{"$f":"COUNTIF(L78:L94,AN8)","v":4},{"$f":"AO8/(AQ4-AO11)","v":0.23529411764705882},{"$f":"IF(AP8=0,0,(AP8*((LOG(AP8))/LOG(2))))","v":-0.49116772735302094},null,{"$f":"N8","v":112},{"$f":"COUNTIF(L95:L112,AS8)","v":2},{"$f":"AT8/(AV4-AT11)","v":0.11764705882352941},{"$f":"IF(AU8=0,0,(AU8*((LOG(AU8))/LOG(2))))","v":-0.36323092250003997}]
[21,1091,11,1117,22,1131,null,null,null,null,0,212,null,121,{"$f":"COUNTIF($L$7:$L$500,N9)","v":8},{"$f":"O9/$Q$4","v":7.5471698113207544E-2},{"$f":"IF(P9=0,0,(P9*((LOG(P9))/LOG(2))))","v":-0.28135248713684519},null,null,{"$f":"N9","v":121},{"$f":"COUNTIF(L7:L24,T9)","v":0},{"$f":"U9/(W4-U11)","v":0},{"$f":"IF(V9=0,0,(V9*((LOG(V9))/LOG(2))))","v":0},null,{"$f":"N9","v":121},{"$f":"COUNTIF(L25:L41,Y9)","v":2},{"$f":"Z9/(AB4-Z11)","v":0.11764705882352941},{"$f":"IF(AA9=0,0,(AA9*((LOG(AA9))/LOG(2))))","v":-0.36323092250003997},null,{"$f":"N9","v":121},{"$f":"COUNTIF(L42:L59,AD9)","v":2},{"$f":"AE9/(AG4-AE11)","v":0.1111111111111111},{"$f":"IF(AF9=0,0,(AF9*((LOG(AF9))/LOG(2))))","v":-0.3522138890491458},null,{"$f":"N9","v":121},{"$f":"COUNTIF(L60:L77,AI9)","v":2},{"$f":"AJ9/(AL4-AJ11)","v":0.1111111111111111},{"$f":"IF(AK9=0,0,(AK9*((LOG(AK9))/LOG(2))))","v":-0.3522138890491458},null,{"$f":"N9","v":121},{"$f":"COUNTIF(L78:L94,AN9)","v":1},{"$f":"AO9/(AQ4-AO11)","v":5.8823529411764705E-2},{"$f":"IF(AP9=0,0,(AP9*((LOG(AP9))/LOG(2))))","v":-0.24043899066178465},null,{"$f":"N9","v":121},{"$f":"COUNTIF(L95:L112,AS9)","v":1},{"$f":"AT9/(AV4-AT11)","v":5.8823529411764705E-2},{"$f":"IF(AU9=0,0,(AU9*((LOG(AU9))/LOG(2))))","v":-0.24043899066178465}]
[12,1759,24,1780,24,1790,null,null,null,null,0,122,null,122,{"$f":"COUNTIF($L$7:$L$500,N10)","v":32},{"$f":"O10/$Q$4","v":0.30188679245283018},{"$f":"IF(P10=0,0,(P10*((LOG(P10))/LOG(2))))","v":-0.5216363636417205},null,null,{"$f":"N10","v":122},{"$f":"COUNTIF(L7:L24,T10)","v":4},{"$f":"U10/(W4-U11)","v":0.22222222222222221},{"$f":"IF(V10=0,0,(V10*((LOG(V10))/LOG(2))))","v":-0.48220555587606945},null,{"$f":"N10","v":122},{"$f":"COUNTIF(L25:L41,Y10)","v":5},{"$f":"Z10/(AB4-Z11)","v":0.29411764705882354},{"$f":"IF(AA10=0,0,(AA10*((LOG(AA10))/LOG(2))))","v":-0.51927492540087561},null,{"$f":"N10","v":122},{"$f":"COUNTIF(L42:L59,AD10)","v":7},{"$f":"AE10/(AG4-AE11)","v":0.3888888888888889},{"$f":"IF(AF10=0,0,(AF10*((LOG(AF10))/LOG(2))))","v":-0.52988836420516428},null,{"$f":"N10","v":122},{"$f":"COUNTIF(L60:L77,AI10)","v":4},{"$f":"AJ10/(AL4-AJ11)","v":0.22222222222222221},{"$f":"IF(AK10=0,0,(AK10*((LOG(AK10))/LOG(2))))","v":-0.48220555587606945},null,{"$f":"N10","v":122},{"$f":"COUNTIF(L78:L94,AN10)","v":4},{"$f":"AO10/(AQ4-AO11)","v":0.23529411764705882},{"$f":"IF(AP10=0,0,(AP10*((LOG(AP10))/LOG(2))))","v":-0.49116772735302094},null,{"$f":"N10","v":122},{"$f":"COUNTIF(L95:L112,AS10)","v":8},{"$f":"AT10/(AV4-AT11)","v":0.47058823529411764},{"$f":"IF(AU10=0,0,(AU10*((LOG(AU10))/LOG(2))))","v":-0.51174721941192436}]
[21,1947,11,1968,22,1982,null,null,null,null,0,212,null,211,{"$f":"COUNTIF($L$7:$L$500,N11)","v":1},{"$f":"O11/$Q$4","v":9.433962264150943E-3},{"$f":"IF(P11=0,0,(P11*((LOG(P11))/LOG(2))))","v":-6.3470947684558479E-2},null,null,{"$f":"N11","v":211},{"$f":"COUNTIF(L7:L24,T11)","v":0},null,null,null,{"$f":"N11","v":211},{"$f":"COUNTIF(L25:L41,Y11)","v":0},null,null,null,{"$f":"N11","v":211},{"$f":"COUNTIF(L42:L59,AD11)","v":0},null,null,null,{"$f":"N11","v":211},{"$f":"COUNTIF(L60:L77,AI11)","v":0},null,null,null,{"$f":"N11","v":211},{"$f":"COUNTIF(L78:L94,AN11)","v":0},null,null,null,{"$f":"N11","v":211},{"$f":"COUNTIF(L95:L112,AS11)","v":1}]
[12,2082,24,2097,24,2103,null,null,null,null,0,122,null,212,{"$f":"COUNTIF($L$7:$L$500,N12)","v":5},{"$f":"O12/$Q$4","v":4.716981132075472E-2},{"$f":"IF(P12=0,0,(P12*((LOG(P12))/LOG(2))))","v":-0.2078298282865961},null,null,{"$f":"N12","v":212},{"$f":"COUNTIF(L7:L24,T12)","v":4},{"$f":"U12/(W4-U11)","v":0.22222222222222221},{"$f":"IF(V12=0,0,(V12*((LOG(V12))/LOG(2))))","v":-0.48220555587606945},null,{"$f":"N12","v":212},{"$f":"COUNTIF(L25:L41,Y12)","v":0},{"$f":"Z12/(AB4-Z11)","v":0},{"$f":"IF(AA12=0,0,(AA12*((LOG(AA12))/LOG(2))))","v":0},null,{"$f":"N12","v":212},{"$f":"COUNTIF(L42:L59,AD12)","v":0},{"$f":"AE12/(AG4-AE11)","v":0},{"$f":"IF(AF12=0,0,(AF12*((LOG(AF12))/LOG(2))))","v":0},null,{"$f":"N12","v":212},{"$f":"COUNTIF(L60:L77,AI12)","v":0},{"$f":"AJ12/(AL4-AJ11)","v":0},{"$f":"IF(AK12=0,0,(AK12*((LOG(AK12))/LOG(2))))","v":0},null,{"$f":"N12","v":212},{"$f":"COUNTIF(L78:L94,AN12)","v":0},{"$f":"AO12/(AQ4-AO11)","v":0},{"$f":"IF(AP12=0,0,(AP12*((LOG(AP12))/LOG(2))))","v":0},null,{"$f":"N12","v":212},{"$f":"COUNTIF(L95:L112,AS12)","v":1},{"$f":"AT12/(AV4-AT11)","v":5.8823529411764705E-2},{"$f":"IF(AU12=0,0,(AU12*((LOG(AU12))/LOG(2))))","v":-0.24043899066178465}]
[12,2226,13,2237,24,2256,null,null,null,null,0,112,null,221,{"$f":"COUNTIF($L$7:$L$500,N13)","v":3},{"$f":"O13/$Q$4","v":2.8301886792452831E-2},{"$f":"IF(P13=0,0,(P13*((LOG(P13))/LOG(2))))","v":-0.14555541378798234},null,null,{"$f":"N13","v":221},{"$f":"COUNTIF(L7:L24,T13)","v":1},{"$f":"U13/(W4-U11)","v":5.5555555555555552E-2},{"$f":"IF(V13=0,0,(V13*((LOG(V13))/LOG(2))))","v":-0.23166250008012845},null,{"$f":"N13","v":221},{"$f":"COUNTIF(L25:L41,Y13)","v":0},{"$f":"Z13/(AB4-Z11)","v":0},{"$f":"IF(AA13=0,0,(AA13*((LOG(AA13))/LOG(2))))","v":0},null,{"$f":"N13","v":221},{"$f":"COUNTIF(L42:L59,AD13)","v":1},{"$f":"AE13/(AG4-AE11)","v":5.5555555555555552E-2},{"$f":"IF(AF13=0,0,(AF13*((LOG(AF13))/LOG(2))))","v":-0.23166250008012845},null,{"$f":"N13","v":221},{"$f":"COUNTIF(L60:L77,AI13)","v":0},{"$f":"AJ13/(AL4-AJ11)","v":0},{"$f":"IF(AK13=0,0,(AK13*((LOG(AK13))/LOG(2))))","v":0},null,{"$f":"N13","v":221},{"$f":"COUNTIF(L78:L94,AN13)","v":1},{"$f":"AO13/(AQ4-AO11)","v":5.8823529411764705E-2},{"$f":"IF(AP13=0,0,(AP13*((LOG(AP13))/LOG(2))))","v":-0.24043899066178465},null,{"$f":"N13","v":221},{"$f":"COUNTIF(L95:L112,AS13)","v":0},{"$f":"AT13/(AV4-AT11)","v":0},{"$f":"IF(AU13=0,0,(AU13*((LOG(AU13))/LOG(2))))","v":0}]
[21,2388,22,2398,24,2412,null,null,null,null,0,222,null,222,{"$f":"COUNTIF($L$7:$L$500,N14)","v":11},{"$f":"O14/$Q$4","v":0.10377358490566038},{"$f":"IF(P14=0,0,(P14*((LOG(P14))/LOG(2))))","v":-0.33918280372815962},null,null,{"$f":"N14","v":222},{"$f":"COUNTIF(L7:L24,T14)","v":2},{"$f":"U14/(W4-U11)","v":0.1111111111111111},{"$f":"IF(V14=0,0,(V14*((LOG(V14))/LOG(2))))","v":-0.3522138890491458},null,{"$f":"N14","v":222},{"$f":"COUNTIF(L25:L41,Y14)","v":3},{"$f":"Z14/(AB4-Z11)","v":0.17647058823529413},{"$f":"IF(AA14=0,0,(AA14*((LOG(AA14))/LOG(2))))","v":-0.44161770715220888},null,{"$f":"N14","v":222},{"$f":"COUNTIF(L42:L59,AD14)","v":0},{"$f":"AE14/(AG4-AE11)","v":0},{"$f":"IF(AF14=0,0,(AF14*((LOG(AF14))/LOG(2))))","v":0},null,{"$f":"N14","v":222},{"$f":"COUNTIF(L60:L77,AI14)","v":0},{"$f":"AJ14/(AL4-AJ11)","v":0},{"$f":"IF(AK14=0,0,(AK14*((LOG(AK14))/LOG(2))))","v":0},null,{"$f":"N14","v":222},{"$f":"COUNTIF(L78:L94,AN14)","v":4},{"$f":"AO14/(AQ4-AO11)","v":0.23529411764705882},{"$f":"IF(AP14=0,0,(AP14*((LOG(AP14))/LOG(2))))","v":-0.49116772735302094},null,{"$f":"N14","v":222},{"$f":"COUNTIF(L95:L112,AS14)","v":2},{"$f":"AT14/(AV4-AT11)","v":0.11764705882352941},{"$f":"IF(AU14=0,0,(AU14*((LOG(AU14))/LOG(2))))","v":-0.36323092250003997}]
[21,2538,22,2550,13,2586,null,null,null,null,0,221,null,null,null,{"$f":"SUM(P7:P14)","v":1},{"$f":"-SUM(Q7:Q14)","v":2.5150443091958516},null,null,null,null,{"$f":"SUM(V7:V14)","v":1},{"$f":"-SUM(W7:W14)","v":2.4138338639736006},null,null,null,{"$f":"SUM(AA7:AA14)","v":1},{"$f":"-SUM(AB7:AB14)","v":2.2066294029540399},null,null,null,{"$f":"SUM(AF7:AF14)","v":1},{"$f":"-SUM(AG7:AG14)","v":2.0579243108310061},null,null,null,{"$f":"SUM(AK7:AK14)","v":0.99999999999999989},{"$f":"-SUM(AL7:AL14)","v":1.8365916681089791},null,null,null,{"$f":"SUM(AP7:AP14)","v":1},{"$f":"-SUM(AQ7:AQ14)","v":2.3959988705348407},null,null,null,{"$f":"SUM(AU7:AU14)","v":1},{"$f":"-SUM(AV7:AV14)","v":2.1607047528877827}]
[21,2727,11,2757,22,2779,null,null,null,null,0,212,null,null,null,"U=",{"$f":"Q15/(LOG(Q4)/LOG(2))","v":0.37382194486113868},null,null,null,null,"U1=",{"$f":"W15/(LOG(W4)/LOG(2))","v":0.57886745280519269},null,null,null,"U2=",{"$f":"AB15/(LOG(AB4)/LOG(2))","v":0.53985307968672336},null,null,null,"U3=",{"$f":"AG15/(LOG(AG4)/LOG(2))","v":0.49351590499090564},null,null,null,"U4=",{"$f":"AL15/(LOG(AL4)/LOG(2))","v":0.44043757800769334},null,null,null,"U5=",{"$f":"AQ15/(LOG(AQ4)/LOG(2))","v":0.58618242259100606},null,null,null,"U6=",{"$f":"AV15/(LOG(AV4)/LOG(2))","v":0.51816393631550417}]
[21,2902,11,2952,22,2965,null,null,null,null,0,212]
[12,3072,24,3086,24,3094,null,null,null,null,0,122]
[12,3219,13,3257,13,3343,null,null,null,null,0,111,null,"Total Target Seq"]
[12,3439,13,3474,13,3499,null,null,null,null,0,111,null,{"$f":"COUNTIF(L7:L112,G3)","v":1},null,18,17,18,18,17,18]
[12,3608,13,3660,13,3691,null,null,null,null,0,111,null,null,null,"% of reinforcement given in 6 equal intervals based on number of trials "]
[12,3801,13,3823,13,3851,null,null,null,null,0,111,null,null,null,"%_1","%_2","%_3","%_4","%_5","%_6"]
[12,3951,13,3952,13,3967,null,null,null,null,0,111,null,null,"target sequence",{"$f":"$G$3","v":211},{"$f":"$G$3","v":211},{"$f":"$G$3","v":211},{"$f":"$G$3","v":211},{"$f":"$G$3","v":211},{"$f":"$G$3","v":211}]
[12,4067,13,4097,24,4108,null,null,null,null,0,112,null,null,"total reinforcement",{"$f":"U11","v":0},{"$f":"Z11","v":0},{"$f":"AE11","v":0},{"$f":"AJ11","v":0},{"$f":"AO11","v":0},{"$f":"AT11","v":1}]
[12,4223,13,4246,24,4260,null,null,null,null,0,112,null,null,"% target"]
[12,4369,24,4379,13,4417,null,null,null,null,0,121,null,null,"CCRF"]
[12,4535,13,4546,24,4561,null,null,null,null,0,112,null,null,"% CCRf"]
[12,4670,13,4689,13,4696,null,null,null,null,0,111,null,null,"average response rate",{"$f":"F24/P20","v":228.22222222222223},{"$f":"(F41-F24)/Q20","v":141.94117647058823},{"$f":"(F59-F41)/R20","v":198.16666666666666},{"$f":"(F77-F59)/S20","v":143.61111111111111},{"$f":"(F94-F77)/T20","v":174.70588235294119},{"$f":"(F112-F94)/U20","v":348.83333333333331}]
[12,4797,24,4811,24,4819,null,null,null,null,0,122]
[12,4922,13,4946,24,4960,null,null,null,null,0,112]
[12,5077,24,5093,24,5102,null,null,null,null,0,122]
[21,5249,22,5259,24,5267,null,null,null,null,0,222]
[21,5377,22,5386,24,5394,null,null,null,null,0,222]
[21,5564,22,5572,24,5583,null,null,null,null,0,222]
[12,5689,24,5705,13,5740,null,null,null,null,0,121]
[12,5845,24,5872,24,5874,null,null,null,null,0,122]
[12,5973,13,5981,24,5995,null,null,null,null,0,112]
[12,6094,13,6096,13,6108,null,null,null,null,0,111]
[12,6215,24,6248,24,6261,null,null,null,null,0,122]
[12,6377,24,6391,24,6401,null,null,null,null,0,122]
[12,6499,13,6501,24,6521,null,null,null,null,0,112]
[12,6621,13,6641,13,6651,null,null,null,null,0,111]
[21,6820,22,6822,13,6839,null,null,null,null,0,221]
[12,7526,24,7544,24,7553,null,null,null,null,0,122]
[12,7653,24,7665,24,7666,null,null,null,null,0,122]
[12,7805,13,7824,24,7840,null,null,null,null,0,112]
[12,7953,24,7967,24,7977,null,null,null,null,0,122]
[12,8268,24,8290,24,8304,null,null,null,null,0,122]
[12,8433,24,8448,24,8449,null,null,null,null,0,122]
[12,8580,24,8599,24,8609,null,null,null,null,0,122]
[12,8719,24,8740,13,8764,null,null,null,null,0,121]
[12,8959,24,8981,13,8998,null,null,null,null,0,121]
[12,9117,13,9126,13,9147,null,null,null,null,0,111]
[12,9300,13,9316,13,9349,null,null,null,null,0,111]
[12,9503,13,9525,24,9546,null,null,null,null,0,112]
[12,9658,13,9666,24,9686,null,null,null,null,0,112]
[12,9806,13,9816,24,9831,null,null,null,null,0,112]
[12,9934,24,9949,24,9957,null,null,null,null,0,122]
[12,10059,13,10067,24,10088,null,null,null,null,0,112]
[12,10193,24,10206,13,10235,null,null,null,null,0,121]
[12,10369,13,10377,13,10396,null,null,null,null,0,111]
[12,10501,13,10514,24,10529,null,null,null,null,0,112]
[12,10692,13,10717,13,10728,null,null,null,null,0,111]
[12,10827,13,10845,13,10857,null,null,null,null,0,111]
[12,10964,13,10982,13,11002,null,null,null,null,0,111]
[12,11129,13,11140,13,11163,null,null,null,null,0,111]
[12,11274,24,11287,24,11295,null,null,null,null,0,122]
[12,11401,13,11415,24,11431,null,null,null,null,0,112]
[12,11550,13,11565,13,11582,null,null,null,null,0,111]
[12,11680,13,11697,24,11712,null,null,null,null,0,112]
[12,11817,24,11832,24,11842,null,null,null,null,0,122]
[12,11945,24,11963,24,11965,null,null,null,null,0,122]
[12,12064,13,12074,13,12090,null,null,null,null,0,111]
[12,12213,13,12225,24,12238,null,null,null,null,0,112]
[12,12341,24,12353,13,12369,null,null,null,null,0,121]
[12,12482,13,12515,13,12541,null,null,null,null,0,111]
[12,12654,24,12665,24,12673,null,null,null,null,0,122]
[12,12803,13,12832,13,12841,null,null,null,null,0,111]
[12,12941,13,12943,13,12958,null,null,null,null,0,111]
[12,13080,24,13093,24,13101,null,null,null,null,0,122]
[12,13232,24,13247,24,13266,null,null,null,null,0,122]
[12,13410,13,13428,13,13443,null,null,null,null,0,111]
[12,13639,24,13658,24,13668,null,null,null,null,0,122]
[12,13878,13,13895,24,13943,null,null,null,null,0,112]
[21,14110,22,14120,24,14130,null,null,null,null,0,222]
[12,14256,13,14272,24,14285,null,null,null,null,0,112]
[12,14422,13,14444,24,14458,null,null,null,null,0,112]
[21,14694,22,14703,24,14713,null,null,null,null,0,222]
[21,14839,22,14864,24,14865,null,null,null,null,0,222]
[12,14969,13,14979,24,15005,null,null,null,null,0,112]
[21,15145,22,15158,24,15189,null,null,null,null,0,222]
[12,15302,24,15317,13,15341,null,null,null,null,0,121]
[12,15453,24,15469,24,15478,null,null,null,null,0,122]
[21,15609,22,15619,13,15643,null,null,null,null,0,221]
[21,15795,11,15814,22,15825,null,null,null,null,0,212]
[12,15932,24,15947,13,15971,null,null,null,null,0,121]
[12,16086,24,16104,24,16120,null,null,null,null,0,122]
[12,16252,24,16272,24,16280,null,null,null,null,0,122]
[21,16415,11,16436,11,16504,null,null,null,null,0,211]
[12,16610,13,16634,24,16647,null,null,null,null,0,112]
[12,16751,13,16763,13,16774,null,null,null,null,0,111]
[21,16906,22,16914,24,16924,null,null,null,null,0,222]
[12,17045,13,17055,13,17079,null,null,null,null,0,111]
[12,17180,24,17191,24,17221,null,null,null,null,0,122]
[12,17322,24,17338,24,17339,null,null,null,null,0,122]
[12,17456,24,17470,24,17479,null,null,null,null,0,122]
[12,17614,13,17627,13,17638,null,null,null,null,0,111]
[12,17753,24,17769,24,17778,null,null,null,null,0,122]
[12,17898,13,17900,24,17913,null,null,null,null,0,112]
[12,18032,24,18045,24,18047,null,null,null,null,0,122]
[12,20944,24,20962,24,20976,null,null,null,null,0,122]
[21,21899,22,21912,24,21922,null,null,null,null,0,222]

{"sheet":"!2011-05-28_14h16m.Subject 53","index":7,"n_rows":103,"n_cols":48,"rows_kept":103,"cut":false,"hidden":false,"merged":[[4,39,4,42],[5,39,5,40],[4,44,4,47],[5,44,5,45],[4,24,4,27],[5,24,5,25],[4,29,4,32],[5,29,5,30],[4,34,4,37],[5,34,5,35],[1,1,1,2],[5,13,5,14],[18,13,18,14],[19,13,19,14],[4,19,4,22],[5,19,5,20]]}
["Report for:!2011-05-28_14h16m.Subject 53"]
["Date","2011-05-28",null,null,null,"Group",0]
["Hen",53,null,null,null,"Correct Sequence",{"$f":"Start!J2","v":211},null,null,null,null,null,null,null,null,"Total Sequences in Data",{"$f":"4994-COUNTBLANK(L7:L5000)","v":97},null,null,null,null,"Total Sequences in Block Data",{"$f":"COUNTA(L7:L22)","v":16},null,null,null,"Total Sequences in Block Data",{"$f":"COUNTA(L23:L38)","v":16},null,null,null,"Total Sequences in Block Data",{"$f":"COUNTA(L39:L55)","v":17},null,null,null,"Total Sequences in Block Data",{"$f":"COUNTA(L56:L71)","v":16},null,null,null,"Total Sequences in Block Data",{"$f":"COUNTA(L72:L87)","v":16},null,null,null,"Total Sequences in Block Data",{"$f":"COUNTA(L88:L103)","v":16}]
["Program",0,null,null,null,null,null,null,null,null,null,null,null,null,null,"Total Sequences in Summary",{"$f":"SUM(O7:O14)","v":97},null,null,null,null,"Total Sequences in Block Summary",{"$f":"SUM(U7:U14)","v":16},null,null,null,"Total Sequences in Block Summary",{"$f":"SUM(Z7:Z14)","v":16},null,null,null,"Total Sequences in Block Summary",{"$f":"SUM(AE7:AE14)","v":17},null,null,null,"Total Sequences in Block Summary",{"$f":"SUM(AJ7:AJ14)","v":16},null,null,null,"Total Sequences in Block Summary",{"$f":"SUM(AO7:AO14)","v":16},null,null,null,"Total Sequences in Block Summary",{"$f":"SUM(AT7:AT14)","v":16}]
[null,null,null,null,null,null,null,null,null,null,null,null,null,null,null,null,null,null,null,"Block 1",null,null,null,null,"Block 2",null,null,null,null,"Block 3",null,null,null,null,"Block 4",null,null,null,null,"Block 5",null,null,null,null,"Block 6"]
["Sequence\nComponent\n1","Time\n1","Sequence\nComponent\n2","Time\n2","Sequence\nComponent\n3","Time\n3","Sequence\nComponent\n4","Time\n4","Sequence\nComponent\n5","Time\n5","Correct?\n0=No 1=Yes","Sequence",null,"Frequency",null,"Relative Frequency","Variability",null,null,"Frequency",null,"Relative Frequency","Variability",null,"Frequency",null,"Relative Frequency","Variability",null,"Frequency",null,"Relative Frequency","Variability",null,"Frequency",null,"Relative Frequency","Variability",null,"Frequency",null,"Relative Frequency","Variability",null,"Frequency",null,"Relative Frequency","Variability"]
[12,74,13,117,24,134,null,null,null,null,0,112,null,111,{"$f":"COUNTIF($L$7:$L$500,N7)","v":24},{"$f":"O7/$Q$4","v":0.24742268041237114},{"$f":"IF(P7=0,0,(P7*((LOG(P7))/LOG(2))))","v":-0.49854441438333325},null,null,{"$f":"N7","v":111},{"$f":"COUNTIF(L7:L22,T7)","v":1},{"$f":"U7/(W4-U11)","v":6.25E-2},{"$f":"IF(V7=0,0,(V7*((LOG(V7))/LOG(2))))","v":-0.25},null,{"$f":"N7","v":111},{"$f":"COUNTIF(L23:L38,Y7)","v":0},{"$f":"Z7/(AB4-Z11)","v":0},{"$f":"IF(AA7=0,0,(AA7*((LOG(AA7))/LOG(2))))","v":0},null,{"$f":"N7","v":111},{"$f":"COUNTIF(L39:L55,AD7)","v":2},{"$f":"AE7/(AG4-AE11)","v":0.11764705882352941},{"$f":"IF(AF7=0,0,(AF7*((LOG(AF7))/LOG(2))))","v":-0.36323092250003997},null,{"$f":"N7","v":111},{"$f":"COUNTIF(L56:L71,AI7)","v":5},{"$f":"AJ7/(AL4-AJ11)","v":0.3125},{"$f":"IF(AK7=0,0,(AK7*((LOG(AK7))/LOG(2))))","v":-0.52439747034769923},null,{"$f":"N7","v":111},{"$f":"COUNTIF(L72:L87,AN7)","v":9},{"$f":"AO7/(AQ4-AO11)","v":0.5625},{"$f":"IF(AP7=0,0,(AP7*((LOG(AP7))/LOG(2))))","v":-0.4669171866886993},null,{"$f":"N7","v":111},{"$f":"COUNTIF(L88:L103,AS7)","v":7},{"$f":"AT7/(AV4-AT11)","v":0.4375},{"$f":"IF(AU7=0,0,(AU7*((LOG(AU7))/LOG(2))))","v":-0.52178222159979815}]
[12,246,24,263,13,285,null,null,null,null,0,121,null,112,{"$f":"COUNTIF($L$7:$L$500,N8)","v":23},{"$f":"O8/$Q$4","v":0.23711340206185566},{"$f":"IF(P8=0,0,(P8*((LOG(P8))/LOG(2))))","v":-0.49233062248446019},null,null,{"$f":"N8","v":112},{"$f":"COUNTIF(L7:L22,T8)","v":4},{"$f":"U8/(W4-U11)","v":0.25},{"$f":"IF(V8=0,0,(V8*((LOG(V8))/LOG(2))))","v":-0.5},null,{"$f":"N8","v":112},{"$f":"COUNTIF(L23:L38,Y8)","v":5},{"$f":"Z8/(AB4-Z11)","v":0.3125},{"$f":"IF(AA8=0,0,(AA8*((LOG(AA8))/LOG(2))))","v":-0.52439747034769923},null,{"$f":"N8","v":112},{"$f":"COUNTIF(L39:L55,AD8)","v":5},{"$f":"AE8/(AG4-AE11)","v":0.29411764705882354},{"$f":"IF(AF8=0,0,(AF8*((LOG(AF8))/LOG(2))))","v":-0.51927492540087561},null,{"$f":"N8","v":112},{"$f":"COUNTIF(L56:L71,AI8)","v":2},{"$f":"AJ8/(AL4-AJ11)","v":0.125},{"$f":"IF(AK8=0,0,(AK8*((LOG(AK8))/LOG(2))))","v":-0.375},null,{"$f":"N8","v":112},{"$f":"COUNTIF(L72:L87,AN8)","v":5},{"$f":"AO8/(AQ4-AO11)","v":0.3125},{"$f":"IF(AP8=0,0,(AP8*((LOG(AP8))/LOG(2))))","v":-0.52439747034769923},null,{"$f":"N8","v":112},{"$f":"COUNTIF(L88:L103,AS8)","v":2},{"$f":"AT8/(AV4-AT11)","v":0.125},{"$f":"IF(AU8=0,0,(AU8*((LOG(AU8))/LOG(2))))","v":-0.375}]
[12,403,24,423,24,434,null,null,null,null,0,122,null,121,{"$f":"COUNTIF($L$7:$L$500,N9)","v":14},{"$f":"O9/$Q$4","v":0.14432989690721648},{"$f":"IF(P9=0,0,(P9*((LOG(P9))/LOG(2))))","v":-0.40304959671972501},null,null,{"$f":"N9","v":121},{"$f":"COUNTIF(L7:L22,T9)","v":3},{"$f":"U9/(W4-U11)","v":0.1875},{"$f":"IF(V9=0,0,(V9*((LOG(V9))/LOG(2))))","v":-0.45281953111478312},null,{"$f":"N9","v":121},{"$f":"COUNTIF(L23:L38,Y9)","v":7},{"$f":"Z9/(AB4-Z11)","v":0.4375},{"$f":"IF(AA9=0,0,(AA9*((LOG(AA9))/LOG(2))))","v":-0.52178222159979815},null,{"$f":"N9","v":121},{"$f":"COUNTIF(L39:L55,AD9)","v":2},{"$f":"AE9/(AG4-AE11)","v":0.11764705882352941},{"$f":"IF(AF9=0,0,(AF9*((LOG(AF9))/LOG(2))))","v":-0.36323092250003997},null,{"$f":"N9","v":121},{"$f":"COUNTIF(L56:L71,AI9)","v":1},{"$f":"AJ9/(AL4-AJ11)","v":6.25E-2},{"$f":"IF(AK9=0,0,(AK9*((LOG(AK9))/LOG(2))))","v":-0.25},null,{"$f":"N9","v":121},{"$f":"COUNTIF(L72:L87,AN9)","v":1},{"$f":"AO9/(AQ4-AO11)","v":6.25E-2},{"$f":"IF(AP9=0,0,(AP9*((LOG(AP9))/LOG(2))))","v":-0.25},null,{"$f":"N9","v":121},{"$f":"COUNTIF(L88:L103,AS9)","v":0},{"$f":"AT9/(AV4-AT11)","v":0},{"$f":"IF(AU9=0,0,(AU9*((LOG(AU9))/LOG(2))))","v":0}]
[21,551,22,566,24,604,null,null,null,null,0,222,null,122,{"$f":"COUNTIF($L$7:$L$500,N10)","v":28},{"$f":"O10/$Q$4","v":0.28865979381443296},{"$f":"IF(P10=0,0,(P10*((LOG(P10))/LOG(2))))","v":-0.51743939962501706},null,null,{"$f":"N10","v":122},{"$f":"COUNTIF(L7:L22,T10)","v":6},{"$f":"U10/(W4-U11)","v":0.375},{"$f":"IF(V10=0,0,(V10*((LOG(V10))/LOG(2))))","v":-0.53063906222956647},null,{"$f":"N10","v":122},{"$f":"COUNTIF(L23:L38,Y10)","v":2},{"$f":"Z10/(AB4-Z11)","v":0.125},{"$f":"IF(AA10=0,0,(AA10*((LOG(AA10))/LOG(2))))","v":-0.375},null,{"$f":"N10","v":122},{"$f":"COUNTIF(L39:L55,AD10)","v":6},{"$f":"AE10/(AG4-AE11)","v":0.35294117647058826},{"$f":"IF(AF10=0,0,(AF10*((LOG(AF10))/LOG(2))))","v":-0.53029423783382934},null,{"$f":"N10","v":122},{"$f":"COUNTIF(L56:L71,AI10)","v":8},{"$f":"AJ10/(AL4-AJ11)","v":0.5},{"$f":"IF(AK10=0,0,(AK10*((LOG(AK10))/LOG(2))))","v":-0.5},null,{"$f":"N10","v":122},{"$f":"COUNTIF(L72:L87,AN10)","v":0},{"$f":"AO10/(AQ4-AO11)","v":0},{"$f":"IF(AP10=0,0,(AP10*((LOG(AP10))/LOG(2))))","v":0},null,{"$f":"N10","v":122},{"$f":"COUNTIF(L88:L103,AS10)","v":6},{"$f":"AT10/(AV4-AT11)","v":0.375},{"$f":"IF(AU10=0,0,(AU10*((LOG(AU10))/LOG(2))))","v":-0.53063906222956647}]
[12,716,24,735,24,743,null,null,null,null,0,122,null,211,{"$f":"COUNTIF($L$7:$L$500,N11)","v":0},{"$f":"O11/$Q$4","v":0},{"$f":"IF(P11=0,0,(P11*((LOG(P11))/LOG(2))))","v":0},null,null,{"$f":"N11","v":211},{"$f":"COUNTIF(L7:L22,T11)","v":0},null,null,null,{"$f":"N11","v":211},{"$f":"COUNTIF(L23:L38,Y11)","v":0},null,null,null,{"$f":"N11","v":211},{"$f":"COUNTIF(L39:L55,AD11)","v":0},null,null,null,{"$f":"N11","v":211},{"$f":"COUNTIF(L56:L71,AI11)","v":0},null,null,null,{"$f":"N11","v":211},{"$f":"COUNTIF(L72:L87,AN11)","v":0},null,null,null,{"$f":"N11","v":211},{"$f":"COUNTIF(L88:L103,AS11)","v":0}]
[12,842,13,863,24,878,null,null,null,null,0,112,null,212,{"$f":"COUNTIF($L$7:$L$500,N12)","v":3},{"$f":"O12/$Q$4","v":3.0927835051546393E-2},{"$f":"IF(P12=0,0,(P12*((LOG(P12))/LOG(2))))","v":-0.15510155695255584},null,null,{"$f":"N12","v":212},{"$f":"COUNTIF(L7:L22,T12)","v":0},{"$f":"U12/(W4-U11)","v":0},{"$f":"IF(V12=0,0,(V12*((LOG(V12))/LOG(2))))","v":0},null,{"$f":"N12","v":212},{"$f":"COUNTIF(L23:L38,Y12)","v":1},{"$f":"Z12/(AB4-Z11)","v":6.25E-2},{"$f":"IF(AA12=0,0,(AA12*((LOG(AA12))/LOG(2))))","v":-0.25},null,{"$f":"N12","v":212},{"$f":"COUNTIF(L39:L55,AD12)","v":0},{"$f":"AE12/(AG4-AE11)","v":0},{"$f":"IF(AF12=0,0,(AF12*((LOG(AF12))/LOG(2))))","v":0},null,{"$f":"N12","v":212},{"$f":"COUNTIF(L56:L71,AI12)","v":0},{"$f":"AJ12/(AL4-AJ11)","v":0},{"$f":"IF(AK12=0,0,(AK12*((LOG(AK12))/LOG(2))))","v":0},null,{"$f":"N12","v":212},{"$f":"COUNTIF(L72:L87,AN12)","v":1},{"$f":"AO12/(AQ4-AO11)","v":6.25E-2},{"$f":"IF(AP12=0,0,(AP12*((LOG(AP12))/LOG(2))))","v":-0.25},null,{"$f":"N12","v":212},{"$f":"COUNTIF(L88:L103,AS12)","v":1},{"$f":"AT12/(AV4-AT11)","v":6.25E-2},{"$f":"IF(AU12=0,0,(AU12*((LOG(AU12))/LOG(2))))","v":-0.25}]
[12,976,13,978,13,1001,null,null,null,null,0,111,null,221,{"$f":"COUNTIF($L$7:$L$500,N13)","v":1},{"$f":"O13/$Q$4","v":1.0309278350515464E-2},{"$f":"IF(P13=0,0,(P13*((LOG(P13))/LOG(2))))","v":-6.8040338579248724E-2},null,null,{"$f":"N13","v":221},{"$f":"COUNTIF(L7:L22,T13)","v":0},{"$f":"U13/(W4-U11)","v":0},{"$f":"IF(V13=0,0,(V13*((LOG(V13))/LOG(2))))","v":0},null,{"$f":"N13","v":221},{"$f":"COUNTIF(L23:L38,Y13)","v":0},{"$f":"Z13/(AB4-Z11)","v":0},{"$f":"IF(AA13=0,0,(AA13*((LOG(AA13))/LOG(2))))","v":0},null,{"$f":"N13","v":221},{"$f":"COUNTIF(L39:L55,AD13)","v":1},{"$f":"AE13/(AG4-AE11)","v":5.8823529411764705E-2},{"$f":"IF(AF13=0,0,(AF13*((LOG(AF13))/LOG(2))))","v":-0.24043899066178465},null,{"$f":"N13","v":221},{"$f":"COUNTIF(L56:L71,AI13)","v":0},{"$f":"AJ13/(AL4-AJ11)","v":0},{"$f":"IF(AK13=0,0,(AK13*((LOG(AK13))/LOG(2))))","v":0},null,{"$f":"N13","v":221},{"$f":"COUNTIF(L72:L87,AN13)","v":0},{"$f":"AO13/(AQ4-AO11)","v":0},{"$f":"IF(AP13=0,0,(AP13*((LOG(AP13))/LOG(2))))","v":0},null,{"$f":"N13","v":221},{"$f":"COUNTIF(L88:L103,AS13)","v":0},{"$f":"AT13/(AV4-AT11)","v":0},{"$f":"IF(AU13=0,0,(AU13*((LOG(AU13))/LOG(2))))","v":0}]
[21,1122,22,1154,24,1164,null,null,null,null,0,222,null,222,{"$f":"COUNTIF($L$7:$L$500,N14)","v":4},{"$f":"O14/$Q$4","v":4.1237113402061855E-2},{"$f":"IF(P14=0,0,(P14*((LOG(P14))/LOG(2))))","v":-0.18968712751287126},null,null,{"$f":"N14","v":222},{"$f":"COUNTIF(L7:L22,T14)","v":2},{"$f":"U14/(W4-U11)","v":0.125},{"$f":"IF(V14=0,0,(V14*((LOG(V14))/LOG(2))))","v":-0.375},null,{"$f":"N14","v":222},{"$f":"COUNTIF(L23:L38,Y14)","v":1},{"$f":"Z14/(AB4-Z11)","v":6.25E-2},{"$f":"IF(AA14=0,0,(AA14*((LOG(AA14))/LOG(2))))","v":-0.25},null,{"$f":"N14","v":222},{"$f":"COUNTIF(L39:L55,AD14)","v":1},{"$f":"AE14/(AG4-AE11)","v":5.8823529411764705E-2},{"$f":"IF(AF14=0,0,(AF14*((LOG(AF14))/LOG(2))))","v":-0.24043899066178465},null,{"$f":"N14","v":222},{"$f":"COUNTIF(L56:L71,AI14)","v":0},{"$f":"AJ14/(AL4-AJ11)","v":0},{"$f":"IF(AK14=0,0,(AK14*((LOG(AK14))/LOG(2))))","v":0},null,{"$f":"N14","v":222},{"$f":"COUNTIF(L72:L87,AN14)","v":0},{"$f":"AO14/(AQ4-AO11)","v":0},{"$f":"IF(AP14=0,0,(AP14*((LOG(AP14))/LOG(2))))","v":0},null,{"$f":"N14","v":222},{"$f":"COUNTIF(L88:L103,AS14)","v":0},{"$f":"AT14/(AV4-AT11)","v":0},{"$f":"IF(AU14=0,0,(AU14*((LOG(AU14))/LOG(2))))","v":0}]
[12,1272,24,1299,13,1331,null,null,null,null,0,121,null,null,null,{"$f":"SUM(P7:P14)","v":0.99999999999999989},{"$f":"-SUM(Q7:Q14)","v":2.3241930562572111},null,null,null,null,{"$f":"SUM(V7:V14)","v":1},{"$f":"-SUM(W7:W14)","v":2.1084585933443494},null,null,null,{"$f":"SUM(AA7:AA14)","v":1},{"$f":"-SUM(AB7:AB14)","v":1.9211796919474975},null,null,null,{"$f":"SUM(AF7:AF14)","v":1},{"$f":"-SUM(AG7:AG14)","v":2.2569089895583541},null,null,null,{"$f":"SUM(AK7:AK14)","v":1},{"$f":"-SUM(AL7:AL14)","v":1.6493974703476992},null,null,null,{"$f":"SUM(AP7:AP14)","v":1},{"$f":"-SUM(AQ7:AQ14)","v":1.4913146570363986},null,null,null,{"$f":"SUM(AU7:AU14)","v":1},{"$f":"-SUM(AV7:AV14)","v":1.6774212838293647}]
[12,1446,24,1459,24,1470,null,null,null,null,0,122,null,null,null,"U=",{"$f":"Q15/(LOG(Q4)/LOG(2))","v":0.35215511353434831},null,null,null,null,"U1=",{"$f":"W15/(LOG(W4)/LOG(2))","v":0.52711464833608734},null,null,null,"U2=",{"$f":"AB15/(LOG(AB4)/LOG(2))","v":0.48029492298687437},null,null,null,"U3=",{"$f":"AG15/(LOG(AG4)/LOG(2))","v":0.55215400780694912},null,null,null,"U4=",{"$f":"AL15/(LOG(AL4)/LOG(2))","v":0.41234936758692481},null,null,null,"U5=",{"$f":"AQ15/(LOG(AQ4)/LOG(2))","v":0.37282866425909966},null,null,null,"U6=",{"$f":"AV15/(LOG(AV4)/LOG(2))","v":0.41935532095734118}]
[12,1571,13,1594,24,1610,null,null,null,null,0,112]
[12,1718,24,1730,24,1740,null,null,null,null,0,122]
[12,1860,24,1875,13,1894,null,null,null,null,0,121,null,"Total Target Seq"]
[12,2004,24,2018,24,2029,null,null,null,null,0,122,null,{"$f":"COUNTIF(L7:L103,G3)","v":0},null,16,16,17,16,16,16]
[12,2131,24,2146,24,2155,null,null,null,null,0,122,null,null,null,"% of reinforcement given in 6 equal intervals based on number of trials "]
[12,2272,13,2294,24,2308,null,null,null,null,0,112,null,null,null,"%_1","%_2","%_3","%_4","%_5","%_6"]
[12,2439,24,2462,13,2483,null,null,null,null,0,121,null,null,"target sequence",{"$f":"$G$3","v":211},{"$f":"$G$3","v":211},{"$f":"$G$3","v":211},{"$f":"$G$3","v":211},{"$f":"$G$3","v":211},{"$f":"$G$3","v":211}]
[12,2587,13,2609,24,2632,null,null,null,null,0,112,null,null,"total reinforcement",{"$f":"U11","v":0},{"$f":"Z11","v":0},{"$f":"AE11","v":0},{"$f":"AJ11","v":0},{"$f":"AO11","v":0},{"$f":"AT11","v":0}]
[12,2771,24,2785,13,2804,null,null,null,null,0,121,null,null,"% target"]
[12,2921,24,2935,13,2959,null,null,null,null,0,121,null,null,"CCRF"]
[12,3079,24,3095,24,3104,null,null,null,null,0,122,null,null,"% CCRf"]
[12,3296,24,3324,13,3345,null,null,null,null,0,121,null,null,"average response rate",{"$f":"F22/P20","v":144.25},{"$f":"(F38-F22)/Q20","v":162.625},{"$f":"(F55-F38)/R20","v":184.47058823529412},{"$f":"(F71-F55)/S20","v":150.3125},{"$f":"(F87-F71)/T20","v":176.4375},{"$f":"(F103-F87)/U20","v":661.8125}]
[21,3483,22,3492,24,3535,null,null,null,null,0,222]
[12,3650,24,3663,13,3685,null,null,null,null,0,121]
[12,3783,24,3798,13,3812,null,null,null,null,0,121]
[21,3976,11,3995,22,4009,null,null,null,null,0,212]
[12,4117,24,4140,13,4160,null,null,null,null,0,121]
[12,4273,13,4300,24,4313,null,null,null,null,0,112]
[12,4430,24,4445,24,4455,null,null,null,null,0,122]
[12,4554,13,4573,24,4588,null,null,null,null,0,112]
[12,4698,13,4717,24,4733,null,null,null,null,0,112]
[12,4860,13,4893,24,4910,null,null,null,null,0,112]
[12,5044,13,5046,24,5064,null,null,null,null,0,112]
[12,5168,13,5170,24,5184,null,null,null,null,0,112]
[12,5366,24,5378,13,5397,null,null,null,null,0,121]
[12,5521,24,5536,24,5546,null,null,null,null,0,122]
[12,5670,13,5672,24,5685,null,null,null,null,0,112]
[12,5811,13,5851,13,5853,null,null,null,null,0,111]
[12,6000,24,6015,24,6026,null,null,null,null,0,122]
[12,6173,24,6188,24,6201,null,null,null,null,0,122]
[21,6584,22,6592,24,6602,null,null,null,null,0,222]
[12,6846,13,6855,24,6878,null,null,null,null,0,112]
[12,7004,13,7019,13,7030,null,null,null,null,0,111]
[12,7164,24,7178,24,7187,null,null,null,null,0,122]
[21,7326,22,7338,13,7352,null,null,null,null,0,221]
[12,7570,24,7585,24,7587,null,null,null,null,0,122]
[12,7728,13,7730,24,7744,null,null,null,null,0,112]
[12,7856,24,7872,24,7881,null,null,null,null,0,122]
[12,7998,24,8017,13,8046,null,null,null,null,0,121]
[12,8197,13,8199,24,8216,null,null,null,null,0,112]
[12,8332,24,8375,24,8383,null,null,null,null,0,122]
[12,8485,13,8506,24,8522,null,null,null,null,0,112]
[12,8630,24,8646,24,8663,null,null,null,null,0,122]
[12,8770,24,8784,24,8793,null,null,null,null,0,122]
[12,8902,24,8916,24,8926,null,null,null,null,0,122]
[12,9034,24,9050,24,9061,null,null,null,null,0,122]
[12,9173,24,9188,24,9197,null,null,null,null,0,122]
[12,9300,24,9317,13,9344,null,null,null,null,0,121]
[12,9459,24,9474,24,9483,null,null,null,null,0,122]
[12,9594,13,9608,13,9635,null,null,null,null,0,111]
[12,9806,13,9823,13,9825,null,null,null,null,0,111]
[12,9930,13,9959,13,9980,null,null,null,null,0,111]
[12,10089,24,10105,24,10114,null,null,null,null,0,122]
[12,10220,13,10276,13,10288,null,null,null,null,0,111]
[12,10392,13,10413,13,10451,null,null,null,null,0,111]
[12,10557,13,10558,13,10581,null,null,null,null,0,111]
[12,10689,13,10708,13,10727,null,null,null,null,0,111]
[12,10836,13,10866,13,10878,null,null,null,null,0,111]
[12,10985,13,11007,24,11024,null,null,null,null,0,112]
[12,11145,13,11147,13,11173,null,null,null,null,0,111]
[12,11313,13,11330,13,11353,null,null,null,null,0,111]
[12,11462,13,11464,13,11479,null,null,null,null,0,111]
[12,11637,13,11648,13,11657,null,null,null,null,0,111]
[21,11957,11,11976,22,11995,null,null,null,null,0,212]
[12,12106,13,12123,24,12140,null,null,null,null,0,112]
[12,12283,13,12294,13,12307,null,null,null,null,0,111]
[12,12466,13,12479,24,12495,null,null,null,null,0,112]
[12,12634,13,12654,24,12675,null,null,null,null,0,112]
[12,12802,13,12811,13,12845,null,null,null,null,0,111]
[12,12978,13,12987,24,13004,null,null,null,null,0,112]
[12,13223,24,13240,13,13274,null,null,null,null,0,121]
[12,13412,24,13429,24,13439,null,null,null,null,0,122]
[12,13626,24,13640,24,13649,null,null,null,null,0,122]
[12,13805,24,13819,24,13827,null,null,null,null,0,122]
[12,13932,13,13976,13,14003,null,null,null,null,0,111]
[12,14131,24,14144,24,14151,null,null,null,null,0,122]
[12,14307,13,14362,24,14378,null,null,null,null,0,112]
[12,14510,24,14524,24,14532,null,null,null,null,0,122]
[12,14657,24,14671,24,14677,null,null,null,null,0,122]
[12,14797,13,14820,13,14821,null,null,null,null,0,111]
[21,14979,11,15008,22,15025,null,null,null,null,0,212]
[12,15245,13,15263,13,15277,null,null,null,null,0,111]
[12,15465,13,15739,13,15759,null,null,null,null,0,111]
[12,16457,13,16498,13,16688,null,null,null,null,0,111]
[12,16828,13,16902,13,16904,null,null,null,null,0,111]
[12,17136,13,23074,24,23089,null,null,null,null,0,112]
[12,23833,13,23847,13,23863,null,null,null,null,0,111]

{"sheet":"!2011-05-29_08h34m.Subject 53","index":8,"n_rows":62,"n_cols":48,"rows_kept":62,"cut":false,"hidden":false,"merged":[[4,39,4,42],[5,39,5,40],[4,44,4,47],[5,44,5,45],[4,24,4,27],[5,24,5,25],[4,29,4,32],[5,29,5,30],[4,34,4,37],[5,34,5,35],[1,1,1,2],[5,13,5,14],[18,13,18,14],[19,13,19,14],[4,19,4,22],[5,19,5,20]]}
["Report for:!2011-05-29_08h34m.Subject 53"]
["Date","2011-05-29",null,null,null,"Group",0]
["Hen",53,null,null,null,"Correct Sequence",{"$f":"Start!J2","v":211},null,null,null,null,null,null,null,null,"Total Sequences in Data",{"$f":"4994-COUNTBLANK(L7:L5000)","v":56},null,null,null,null,"Total Sequences in Block Data",{"$f":"COUNTA(L7:L15)","v":9},null,null,null,"Total Sequences in Block Data",{"$f":"COUNTA(L16:L25)","v":10},null,null,null,"Total Sequences in Block Data",{"$f":"COUNTA(L26:L34)","v":9},null,null,null,"Total Sequences in Block Data",{"$f":"COUNTA(L35:L43)","v":9},null,null,null,"Total Sequences in Block Data",{"$f":"COUNTA(L44:L53)","v":10},null,null,null,"Total Sequences in Block Data",{"$f":"COUNTA(L54:L62)","v":9}]
["Program",0,null,null,null,null,null,null,null,null,null,null,null,null,null,"Total Sequences in Summary",{"$f":"SUM(O7:O14)","v":56},null,null,null,null,"Total Sequences in Block Summary",{"$f":"SUM(U7:U14)","v":9},null,null,null,"Total Sequences in Block Summary",{"$f":"SUM(Z7:Z14)","v":10},null,null,null,"Total Sequences in Block Summary",{"$f":"SUM(AE7:AE14)","v":9},null,null,null,"Total Sequences in Block Summary",{"$f":"SUM(AJ7:AJ14)","v":9},null,null,null,"Total Sequences in Block Summary",{"$f":"SUM(AO7:AO14)","v":10},null,null,null,"Total Sequences in Block Summary",{"$f":"SUM(AT7:AT14)","v":9}]
[null,null,null,null,null,null,null,null,null,null,null,null,null,null,null,null,null,null,null,"Block 1",null,null,null,null,"Block 2",null,null,null,null,"Block 3",null,null,null,null,"Block 4",null,null,null,null,"Block 5",null,null,null,null,"Block 6"]
["Sequence\nComponent\n1","Time\n1","Sequence\nComponent\n2","Time\n2","Sequence\nComponent\n3","Time\n3","Sequence\nComponent\n4","Time\n4","Sequence\nComponent\n5","Time\n5","Correct?\n0=No 1=Yes","Sequence",null,"Frequency",null,"Relative Frequency","Variability",null,null,"Frequency",null,"Relative Frequency","Variability",null,"Frequency",null,"Relative Frequency","Variability",null,"Frequency",null,"Relative Frequency","Variability",null,"Frequency",null,"Relative Frequency","Variability",null,"Frequency",null,"Relative Frequency","Variability",null,"Frequency",null,"Relative Frequency","Variability"]
[12,24,13,26,13,54,null,null,null,null,0,111,null,111,{"$f":"COUNTIF($L$7:$L$500,N7)","v":23},{"$f":"O7/$Q$4","v":0.4107142857142857},{"$f":"IF(P7=0,0,(P7*((LOG(P7))/LOG(2))))","v":-0.52727211103595717},null,null,{"$f":"N7","v":111},{"$f":"COUNTIF(L7:L15,T7)","v":2},{"$f":"U7/(W4-U11)","v":0.22222222222222221},{"$f":"IF(V7=0,0,(V7*((LOG(V7))/LOG(2))))","v":-0.48220555587606945},null,{"$f":"N7","v":111},{"$f":"COUNTIF(L16:L25,Y7)","v":4},{"$f":"Z7/(AB4-Z11)","v":0.4},{"$f":"IF(AA7=0,0,(AA7*((LOG(AA7))/LOG(2))))","v":-0.52877123795494496},null,{"$f":"N7","v":111},{"$f":"COUNTIF(L26:L34,AD7)","v":3},{"$f":"AE7/(AG4-AE11)","v":0.33333333333333331},{"$f":"IF(AF7=0,0,(AF7*((LOG(AF7))/LOG(2))))","v":-0.52832083357371862},null,{"$f":"N7","v":111},{"$f":"COUNTIF(L35:L43,AI7)","v":5},{"$f":"AJ7/(AL4-AJ11)","v":0.55555555555555558},{"$f":"IF(AK7=0,0,(AK7*((LOG(AK7))/LOG(2))))","v":-0.4711093925305278},null,{"$f":"N7","v":111},{"$f":"COUNTIF(L44:L53,AN7)","v":6},{"$f":"AO7/(AQ4-AO11)","v":0.6},{"$f":"IF(AP7=0,0,(AP7*((LOG(AP7))/LOG(2))))","v":-0.44217935649972373},null,{"$f":"N7","v":111},{"$f":"COUNTIF(L54:L62,AS7)","v":3},{"$f":"AT7/(AV4-AT11)","v":0.33333333333333331},{"$f":"IF(AU7=0,0,(AU7*((LOG(AU7))/LOG(2))))","v":-0.52832083357371862}]
[21,199,22,207,24,218,null,null,null,null,0,222,null,112,{"$f":"COUNTIF($L$7:$L$500,N8)","v":15},{"$f":"O8/$Q$4","v":0.26785714285714285},{"$f":"IF(P8=0,0,(P8*((LOG(P8))/LOG(2))))","v":-0.50905294458457651},null,null,{"$f":"N8","v":112},{"$f":"COUNTIF(L7:L15,T8)","v":3},{"$f":"U8/(W4-U11)","v":0.33333333333333331},{"$f":"IF(V8=0,0,(V8*((LOG(V8))/LOG(2))))","v":-0.52832083357371862},null,{"$f":"N8","v":112},{"$f":"COUNTIF(L16:L25,Y8)","v":2},{"$f":"Z8/(AB4-Z11)","v":0.2},{"$f":"IF(AA8=0,0,(AA8*((LOG(AA8))/LOG(2))))","v":-0.46438561897747244},null,{"$f":"N8","v":112},{"$f":"COUNTIF(L26:L34,AD8)","v":6},{"$f":"AE8/(AG4-AE11)","v":0.66666666666666663},{"$f":"IF(AF8=0,0,(AF8*((LOG(AF8))/LOG(2))))","v":-0.38997500048077083},null,{"$f":"N8","v":112},{"$f":"COUNTIF(L35:L43,AI8)","v":3},{"$f":"AJ8/(AL4-AJ11)","v":0.33333333333333331},{"$f":"IF(AK8=0,0,(AK8*((LOG(AK8))/LOG(2))))","v":-0.52832083357371862},null,{"$f":"N8","v":112},{"$f":"COUNTIF(L44:L53,AN8)","v":1},{"$f":"AO8/(AQ4-AO11)","v":0.1},{"$f":"IF(AP8=0,0,(AP8*((LOG(AP8))/LOG(2))))","v":-0.33219280948873625},null,{"$f":"N8","v":112},{"$f":"COUNTIF(L54:L62,AS8)","v":0},{"$f":"AT8/(AV4-AT11)","v":0},{"$f":"IF(AU8=0,0,(AU8*((LOG(AU8))/LOG(2))))","v":0}]
[12,322,13,361,13,404,null,null,null,null,0,111,null,121,{"$f":"COUNTIF($L$7:$L$500,N9)","v":2},{"$f":"O9/$Q$4","v":3.5714285714285712E-2},{"$f":"IF(P9=0,0,(P9*((LOG(P9))/LOG(2))))","v":-0.17169124721634299},null,null,{"$f":"N9","v":121},{"$f":"COUNTIF(L7:L15,T9)","v":1},{"$f":"U9/(W4-U11)","v":0.1111111111111111},{"$f":"IF(V9=0,0,(V9*((LOG(V9))/LOG(2))))","v":-0.3522138890491458},null,{"$f":"N9","v":121},{"$f":"COUNTIF(L16:L25,Y9)","v":0},{"$f":"Z9/(AB4-Z11)","v":0},{"$f":"IF(AA9=0,0,(AA9*((LOG(AA9))/LOG(2))))","v":0},null,{"$f":"N9","v":121},{"$f":"COUNTIF(L26:L34,AD9)","v":0},{"$f":"AE9/(AG4-AE11)","v":0},{"$f":"IF(AF9=0,0,(AF9*((LOG(AF9))/LOG(2))))","v":0},null,{"$f":"N9","v":121},{"$f":"COUNTIF(L35:L43,AI9)","v":0},{"$f":"AJ9/(AL4-AJ11)","v":0},{"$f":"IF(AK9=0,0,(AK9*((LOG(AK9))/LOG(2))))","v":0},null,{"$f":"N9","v":121},{"$f":"COUNTIF(L44:L53,AN9)","v":0},{"$f":"AO9/(AQ4-AO11)","v":0},{"$f":"IF(AP9=0,0,(AP9*((LOG(AP9))/LOG(2))))","v":0},null,{"$f":"N9","v":121},{"$f":"COUNTIF(L54:L62,AS9)","v":1},{"$f":"AT9/(AV4-AT11)","v":0.1111111111111111},{"$f":"IF(AU9=0,0,(AU9*((LOG(AU9))/LOG(2))))","v":-0.3522138890491458}]
[12,517,13,544,24,561,null,null,null,null,0,112,null,122,{"$f":"COUNTIF($L$7:$L$500,N10)","v":10},{"$f":"O10/$Q$4","v":0.17857142857142858},{"$f":"IF(P10=0,0,(P10*((LOG(P10))/LOG(2))))","v":-0.44382621913754317},null,null,{"$f":"N10","v":122},{"$f":"COUNTIF(L7:L15,T10)","v":2},{"$f":"U10/(W4-U11)","v":0.22222222222222221},{"$f":"IF(V10=0,0,(V10*((LOG(V10))/LOG(2))))","v":-0.48220555587606945},null,{"$f":"N10","v":122},{"$f":"COUNTIF(L16:L25,Y10)","v":4},{"$f":"Z10/(AB4-Z11)","v":0.4},{"$f":"IF(AA10=0,0,(AA10*((LOG(AA10))/LOG(2))))","v":-0.52877123795494496},null,{"$f":"N10","v":122},{"$f":"COUNTIF(L26:L34,AD10)","v":0},{"$f":"AE10/(AG4-AE11)","v":0},{"$f":"IF(AF10=0,0,(AF10*((LOG(AF10))/LOG(2))))","v":0},null,{"$f":"N10","v":122},{"$f":"COUNTIF(L35:L43,AI10)","v":0},{"$f":"AJ10/(AL4-AJ11)","v":0},{"$f":"IF(AK10=0,0,(AK10*((LOG(AK10))/LOG(2))))","v":0},null,{"$f":"N10","v":122},{"$f":"COUNTIF(L44:L53,AN10)","v":2},{"$f":"AO10/(AQ4-AO11)","v":0.2},{"$f":"IF(AP10=0,0,(AP10*((LOG(AP10))/LOG(2))))","v":-0.46438561897747244},null,{"$f":"N10","v":122},{"$f":"COUNTIF(L54:L62,AS10)","v":2},{"$f":"AT10/(AV4-AT11)","v":0.22222222222222221},{"$f":"IF(AU10=0,0,(AU10*((LOG(AU10))/LOG(2))))","v":-0.48220555587606945}]
[12,677,24,700,24,714,null,null,null,null,0,122,null,211,{"$f":"COUNTIF($L$7:$L$500,N11)","v":0},{"$f":"O11/$Q$4","v":0},{"$f":"IF(P11=0,0,(P11*((LOG(P11))/LOG(2))))","v":0},null,null,{"$f":"N11","v":211},{"$f":"COUNTIF(L7:L15,T11)","v":0},null,null,null,{"$f":"N11","v":211},{"$f":"COUNTIF(L16:L25,Y11)","v":0},null,null,null,{"$f":"N11","v":211},{"$f":"COUNTIF(L26:L34,AD11)","v":0},null,null,null,{"$f":"N11","v":211},{"$f":"COUNTIF(L35:L43,AI11)","v":0},null,null,null,{"$f":"N11","v":211},{"$f":"COUNTIF(L44:L53,AN11)","v":0},null,null,null,{"$f":"N11","v":211},{"$f":"COUNTIF(L54:L62,AS11)","v":0}]
[12,820,13,848,24,863,null,null,null,null,0,112,null,212,{"$f":"COUNTIF($L$7:$L$500,N12)","v":0},{"$f":"O12/$Q$4","v":0},{"$f":"IF(P12=0,0,(P12*((LOG(P12))/LOG(2))))","v":0},null,null,{"$f":"N12","v":212},{"$f":"COUNTIF(L7:L15,T12)","v":0},{"$f":"U12/(W4-U11)","v":0},{"$f":"IF(V12=0,0,(V12*((LOG(V12))/LOG(2))))","v":0},null,{"$f":"N12","v":212},{"$f":"COUNTIF(L16:L25,Y12)","v":0},{"$f":"Z12/(AB4-Z11)","v":0},{"$f":"IF(AA12=0,0,(AA12*((LOG(AA12))/LOG(2))))","v":0},null,{"$f":"N12","v":212},{"$f":"COUNTIF(L26:L34,AD12)","v":0},{"$f":"AE12/(AG4-AE11)","v":0},{"$f":"IF(AF12=0,0,(AF12*((LOG(AF12))/LOG(2))))","v":0},null,{"$f":"N12","v":212},{"$f":"COUNTIF(L35:L43,AI12)","v":0},{"$f":"AJ12/(AL4-AJ11)","v":0},{"$f":"IF(AK12=0,0,(AK12*((LOG(AK12))/LOG(2))))","v":0},null,{"$f":"N12","v":212},{"$f":"COUNTIF(L44:L53,AN12)","v":0},{"$f":"AO12/(AQ4-AO11)","v":0},{"$f":"IF(AP12=0,0,(AP12*((LOG(AP12))/LOG(2))))","v":0},null,{"$f":"N12","v":212},{"$f":"COUNTIF(L54:L62,AS12)","v":0},{"$f":"AT12/(AV4-AT11)","v":0},{"$f":"IF(AU12=0,0,(AU12*((LOG(AU12))/LOG(2))))","v":0}]
[12,985,24,998,24,1007,null,null,null,null,0,122,null,221,{"$f":"COUNTIF($L$7:$L$500,N13)","v":0},{"$f":"O13/$Q$4","v":0},{"$f":"IF(P13=0,0,(P13*((LOG(P13))/LOG(2))))","v":0},null,null,{"$f":"N13","v":221},{"$f":"COUNTIF(L7:L15,T13)","v":0},{"$f":"U13/(W4-U11)","v":0},{"$f":"IF(V13=0,0,(V13*((LOG(V13))/LOG(2))))","v":0},null,{"$f":"N13","v":221},{"$f":"COUNTIF(L16:L25,Y13)","v":0},{"$f":"Z13/(AB4-Z11)","v":0},{"$f":"IF(AA13=0,0,(AA13*((LOG(AA13))/LOG(2))))","v":0},null,{"$f":"N13","v":221},{"$f":"COUNTIF(L26:L34,AD13)","v":0},{"$f":"AE13/(AG4-AE11)","v":0},{"$f":"IF(AF13=0,0,(AF13*((LOG(AF13))/LOG(2))))","v":0},null,{"$f":"N13","v":221},{"$f":"COUNTIF(L35:L43,AI13)","v":0},{"$f":"AJ13/(AL4-AJ11)","v":0},{"$f":"IF(AK13=0,0,(AK13*((LOG(AK13))/LOG(2))))","v":0},null,{"$f":"N13","v":221},{"$f":"COUNTIF(L44:L53,AN13)","v":0},{"$f":"AO13/(AQ4-AO11)","v":0},{"$f":"IF(AP13=0,0,(AP13*((LOG(AP13))/LOG(2))))","v":0},null,{"$f":"N13","v":221},{"$f":"COUNTIF(L54:L62,AS13)","v":0},{"$f":"AT13/(AV4-AT11)","v":0},{"$f":"IF(AU13=0,0,(AU13*((LOG(AU13))/LOG(2))))","v":0}]
[12,1128,24,1144,13,1164,null,null,null,null,0,121,null,222,{"$f":"COUNTIF($L$7:$L$500,N14)","v":6},{"$f":"O14/$Q$4","v":0.10714285714285714},{"$f":"IF(P14=0,0,(P14*((LOG(P14))/LOG(2))))","v":-0.34525633085747659},null,null,{"$f":"N14","v":222},{"$f":"COUNTIF(L7:L15,T14)","v":1},{"$f":"U14/(W4-U11)","v":0.1111111111111111},{"$f":"IF(V14=0,0,(V14*((LOG(V14))/LOG(2))))","v":-0.3522138890491458},null,{"$f":"N14","v":222},{"$f":"COUNTIF(L16:L25,Y14)","v":0},{"$f":"Z14/(AB4-Z11)","v":0},{"$f":"IF(AA14=0,0,(AA14*((LOG(AA14))/LOG(2))))","v":0},null,{"$f":"N14","v":222},{"$f":"COUNTIF(L26:L34,AD14)","v":0},{"$f":"AE14/(AG4-AE11)","v":0},{"$f":"IF(AF14=0,0,(AF14*((LOG(AF14))/LOG(2))))","v":0},null,{"$f":"N14","v":222},{"$f":"COUNTIF(L35:L43,AI14)","v":1},{"$f":"AJ14/(AL4-AJ11)","v":0.1111111111111111},{"$f":"IF(AK14=0,0,(AK14*((LOG(AK14))/LOG(2))))","v":-0.3522138890491458},null,{"$f":"N14","v":222},{"$f":"COUNTIF(L44:L53,AN14)","v":1},{"$f":"AO14/(AQ4-AO11)","v":0.1},{"$f":"IF(AP14=0,0,(AP14*((LOG(AP14))/LOG(2))))","v":-0.33219280948873625},null,{"$f":"N14","v":222},{"$f":"COUNTIF(L54:L62,AS14)","v":3},{"$f":"AT14/(AV4-AT11)","v":0.33333333333333331},{"$f":"IF(AU14=0,0,(AU14*((LOG(AU14))/LOG(2))))","v":-0.52832083357371862}]
[12,1267,13,1284,24,1298,null,null,null,null,0,112,null,null,null,{"$f":"SUM(P7:P14)","v":1},{"$f":"-SUM(Q7:Q14)","v":1.9970988528318965},null,null,null,null,{"$f":"SUM(V7:V14)","v":1},{"$f":"-SUM(W7:W14)","v":2.1971597234241491},null,null,null,{"$f":"SUM(AA7:AA14)","v":1},{"$f":"-SUM(AB7:AB14)","v":1.5219280948873624},null,null,null,{"$f":"SUM(AF7:AF14)","v":1},{"$f":"-SUM(AG7:AG14)","v":0.91829583405448945},null,null,null,{"$f":"SUM(AK7:AK14)","v":1},{"$f":"-SUM(AL7:AL14)","v":1.3516441151533922},null,null,null,{"$f":"SUM(AP7:AP14)","v":0.99999999999999989},{"$f":"-SUM(AQ7:AQ14)","v":1.5709505944546687},null,null,null,{"$f":"SUM(AU7:AU14)","v":1},{"$f":"-SUM(AV7:AV14)","v":1.8910611120726524}]
[12,1422,24,1440,24,1454,null,null,null,null,0,122,null,null,null,"U=",{"$f":"Q15/(LOG(Q4)/LOG(2))","v":0.34389130329308409},null,null,null,null,"U1=",{"$f":"W15/(LOG(W4)/LOG(2))","v":0.69312672142856502},null,null,null,"U2=",{"$f":"AB15/(LOG(AB4)/LOG(2))","v":0.45814600780483389},null,null,null,"U3=",{"$f":"AG15/(LOG(AG4)/LOG(2))","v":0.28969008214284753},null,null,null,"U4=",{"$f":"AL15/(LOG(AL4)/LOG(2))","v":0.42639624424502021},null,null,null,"U5=",{"$f":"AQ15/(LOG(AQ4)/LOG(2))","v":0.4729032506370176},null,null,null,"U6=",{"$f":"AV15/(LOG(AV4)/LOG(2))","v":0.5965633607142824}]
[12,1566,24,1580,24,1591,null,null,null,null,0,122]
[12,1702,24,1715,24,1725,null,null,null,null,0,122]
[12,1832,13,1852,13,1870,null,null,null,null,0,111,null,"Total Target Seq"]
[12,1976,13,1994,13,2004,null,null,null,null,0,111,null,{"$f":"COUNTIF(L7:L62,G3)","v":0},null,9,10,9,9,10,9]
[12,2116,13,2138,24,2151,null,null,null,null,0,112,null,null,null,"% of reinforcement given in 6 equal intervals based on number of trials "]
[12,2255,13,2276,13,2299,null,null,null,null,0,111,null,null,null,"%_1","%_2","%_3","%_4","%_5","%_6"]
[12,2410,13,2427,13,2436,null,null,null,null,0,111,null,null,"target sequence",{"$f":"$G$3","v":211},{"$f":"$G$3","v":211},{"$f":"$G$3","v":211},{"$f":"$G$3","v":211},{"$f":"$G$3","v":211},{"$f":"$G$3","v":211}]
[12,2542,24,2560,24,2568,null,null,null,null,0,122,null,null,"total reinforcement",{"$f":"U11","v":0},{"$f":"Z11","v":0},{"$f":"AE11","v":0},{"$f":"AJ11","v":0},{"$f":"AO11","v":0},{"$f":"AT11","v":0}]
[12,2677,13,2700,24,2723,null,null,null,null,0,112,null,null,"% target"]
[12,2839,13,2861,24,2874,null,null,null,null,0,112,null,null,"CCRF"]
[12,2980,13,2992,13,3008,null,null,null,null,0,111,null,null,"% CCRf"]
[12,3116,13,3126,24,3143,null,null,null,null,0,112,null,null,"average response rate",{"$f":"F15/P20","v":144.22222222222223},{"$f":"(F25-F15)/Q20","v":142.5},{"$f":"(F34-F25)/R20","v":149},{"$f":"(F43-F34)/S20","v":191.44444444444446},{"$f":"(F53-F43)/T20","v":287.60000000000002},{"$f":"(F62-F53)/U20","v":1647.7777777777778}]
[12,3269,13,3294,13,3316,null,null,null,null,0,111]
[12,3429,13,3440,24,3460,null,null,null,null,0,112]
[12,3576,13,3608,24,3630,null,null,null,null,0,112]
[12,3764,13,3781,24,3794,null,null,null,null,0,112]
[12,3901,13,3910,24,3923,null,null,null,null,0,112]
[12,4041,13,4047,13,4064,null,null,null,null,0,111]
[12,4180,13,4196,24,4209,null,null,null,null,0,112]
[12,4383,13,4405,13,4441,null,null,null,null,0,111]
[12,4564,13,4580,13,4603,null,null,null,null,0,111]
[21,4797,22,4806,24,4820,null,null,null,null,0,222]
[12,4931,13,4971,13,4998,null,null,null,null,0,111]
[12,5129,13,5150,24,5166,null,null,null,null,0,112]
[12,5288,13,5333,13,5341,null,null,null,null,0,111]
[12,5503,13,5620,24,5635,null,null,null,null,0,112]
[12,5750,13,5770,13,5787,null,null,null,null,0,111]
[12,5965,24,5985,24,5994,null,null,null,null,0,122]
[12,6180,13,6181,13,6226,null,null,null,null,0,111]
[12,6354,13,6362,13,6398,null,null,null,null,0,111]
[12,6551,13,6575,13,6583,null,null,null,null,0,111]
[12,6745,13,6769,24,6785,null,null,null,null,0,112]
[12,7017,13,7035,13,7043,null,null,null,null,0,111]
[12,7183,13,7189,13,7205,null,null,null,null,0,111]
[12,7689,13,7744,13,7756,null,null,null,null,0,111]
[21,7913,22,7922,24,7933,null,null,null,null,0,222]
[12,8631,24,8652,24,8663,null,null,null,null,0,122]
[12,8869,24,8944,13,8987,null,null,null,null,0,121]
[21,9120,22,9129,24,9144,null,null,null,null,0,222]
[12,9254,24,9273,24,9281,null,null,null,null,0,122]
[12,9470,13,9498,13,9534,null,null,null,null,0,111]
[12,9981,13,10151,13,10167,null,null,null,null,0,111]
[21,10767,22,10781,24,11038,null,null,null,null,0,222]
[12,11345,24,11368,24,11383,null,null,null,null,0,122]
[12,14087,13,14108,13,14129,null,null,null,null,0,111]
[21,21773,22,23476,24,23493,null,null,null,null,0,222]

{"sheet":"!2011-06-01_08h42m.Subject 53","index":9,"n_rows":160,"n_cols":48,"rows_kept":160,"cut":false,"hidden":false,"merged":[[4,39,4,42],[5,39,5,40],[4,44,4,47],[5,44,5,45],[4,24,4,27],[5,24,5,25],[4,29,4,32],[5,29,5,30],[4,34,4,37],[5,34,5,35],[1,1,1,2],[5,13,5,14],[18,13,18,14],[19,13,19,14],[4,19,4,22],[5,19,5,20]]}
["Report for:!2011-06-01_08h42m.Subject 53"]
["Date","2011-06-01",null,null,null,"Group",0]
["Hen",53,null,null,null,"Correct Sequence",{"$f":"Start!J2","v":211},null,null,null,null,null,null,null,null,"Total Sequences in Data",{"$f":"4994-COUNTBLANK(L7:L5000)","v":154},null,null,null,null,"Total Sequences in Block Data",{"$f":"COUNTA(L7:L32)","v":26},null,null,null,"Total Sequences in Block Data",{"$f":"COUNTA(L33:L57)","v":25},null,null,null,"Total Sequences in Block Data",{"$f":"COUNTA(L58:L83)","v":26},null,null,null,"Total Sequences in Block Data",{"$f":"COUNTA(L84:L109)","v":26},null,null,null,"Total Sequences in Block Data",{"$f":"COUNTA(L110:L134)","v":25},null,null,null,"Total Sequences in Block Data",{"$f":"COUNTA(L135:L160)","v":26}]
["Program",0,null,null,null,null,null,null,null,null,null,null,null,null,null,"Total Sequences in Summary",{"$f":"SUM(O7:O14)","v":154},null,null,null,null,"Total Sequences in Block Summary",{"$f":"SUM(U7:U14)","v":26},null,null,null,"Total Sequences in Block Summary",{"$f":"SUM(Z7:Z14)","v":25},null,null,null,"Total Sequences in Block Summary",{"$f":"SUM(AE7:AE14)","v":26},null,null,null,"Total Sequences in Block Summary",{"$f":"SUM(AJ7:AJ14)","v":26},null,null,null,"Total Sequences in Block Summary",{"$f":"SUM(AO7:AO14)","v":25},null,null,null,"Total Sequences in Block Summary",{"$f":"SUM(AT7:AT14)","v":26}]
[null,null,null,null,null,null,null,null,null,null,null,null,null,null,null,null,null,null,null,"Block 1",null,null,null,null,"Block 2",null,null,null,null,"Block 3",null,null,null,null,"Block 4",null,null,null,null,"Block 5",null,null,null,null,"Block 6"]
["Sequence\nComponent\n1","Time\n1","Sequence\nComponent\n2","Time\n2","Sequence\nComponent\n3","Time\n3","Sequence\nComponent\n4","Time\n4","Sequence\nComponent\n5","Time\n5","Correct?\n0=No 1=Yes","Sequence",null,"Frequency",null,"Relative Frequency","Variability",null,null,"Frequency",null,"Relative Frequency","Variability",null,"Frequency",null,"Relative Frequency","Variability",null,"Frequency",null,"Relative Frequency","Variability",null,"Frequency",null,"Relative Frequency","Variability",null,"Frequency",null,"Relative Frequency","Variability",null,"Frequency",null,"Relative Frequency","Variability"]
[21,47,22,56,24,67,null,null,null,null,0,222,null,111,{"$f":"COUNTIF($L$7:$L$500,N7)","v":88},{"$f":"O7/$Q$4","v":0.5714285714285714},{"$f":"IF(P7=0,0,(P7*((LOG(P7))/LOG(2))))","v":-0.46134566974720237},null,null,{"$f":"N7","v":111},{"$f":"COUNTIF(L7:L32,T7)","v":12},{"$f":"U7/(W4-U11)","v":0.46153846153846156},{"$f":"IF(V7=0,0,(V7*((LOG(V7))/LOG(2))))","v":-0.51483563880920125},null,{"$f":"N7","v":111},{"$f":"COUNTIF(L33:L57,Y7)","v":12},{"$f":"Z7/(AB4-Z11)","v":0.48},{"$f":"IF(AA7=0,0,(AA7*((LOG(AA7))/LOG(2))))","v":-0.50826897074571287},null,{"$f":"N7","v":111},{"$f":"COUNTIF(L58:L83,AD7)","v":11},{"$f":"AE7/(AG4-AE11)","v":0.42307692307692307},{"$f":"IF(AF7=0,0,(AF7*((LOG(AF7))/LOG(2))))","v":-0.52504188825160547},null,{"$f":"N7","v":111},{"$f":"COUNTIF(L84:L109,AI7)","v":21},{"$f":"AJ7/(AL4-AJ11)","v":0.84},{"$f":"IF(AK7=0,0,(AK7*((LOG(AK7))/LOG(2))))","v":-0.21129256427661014},null,{"$f":"N7","v":111},{"$f":"COUNTIF(L110:L134,AN7)","v":17},{"$f":"AO7/(AQ4-AO11)","v":0.77272727272727271},{"$f":"IF(AP7=0,0,(AP7*((LOG(AP7))/LOG(2))))","v":-0.28743041888992199},null,{"$f":"N7","v":111},{"$f":"COUNTIF(L135:L160,AS7)","v":15},{"$f":"AT7/(AV4-AT11)","v":0.65217391304347827},{"$f":"IF(AU7=0,0,(AU7*((LOG(AU7))/LOG(2))))","v":-0.40217697420553983}]
[12,175,24,190,24,192,null,null,null,null,0,122,null,112,{"$f":"COUNTIF($L$7:$L$500,N8)","v":22},{"$f":"O8/$Q$4","v":0.14285714285714285},{"$f":"IF(P8=0,0,(P8*((LOG(P8))/LOG(2))))","v":-0.40105070315108626},null,null,{"$f":"N8","v":112},{"$f":"COUNTIF(L7:L32,T8)","v":4},{"$f":"U8/(W4-U11)","v":0.15384615384615385},{"$f":"IF(V8=0,0,(V8*((LOG(V8))/LOG(2))))","v":-0.4154522643293988},null,{"$f":"N8","v":112},{"$f":"COUNTIF(L33:L57,Y8)","v":6},{"$f":"Z8/(AB4-Z11)","v":0.24},{"$f":"IF(AA8=0,0,(AA8*((LOG(AA8))/LOG(2))))","v":-0.49413448537285637},null,{"$f":"N8","v":112},{"$f":"COUNTIF(L58:L83,AD8)","v":4},{"$f":"AE8/(AG4-AE11)","v":0.15384615384615385},{"$f":"IF(AF8=0,0,(AF8*((LOG(AF8))/LOG(2))))","v":-0.4154522643293988},null,{"$f":"N8","v":112},{"$f":"COUNTIF(L84:L109,AI8)","v":2},{"$f":"AJ8/(AL4-AJ11)","v":0.08},{"$f":"IF(AK8=0,0,(AK8*((LOG(AK8))/LOG(2))))","v":-0.29150849518197797},null,{"$f":"N8","v":112},{"$f":"COUNTIF(L110:L134,AN8)","v":2},{"$f":"AO8/(AQ4-AO11)","v":9.0909090909090912E-2},{"$f":"IF(AP8=0,0,(AP8*((LOG(AP8))/LOG(2))))","v":-0.31449378351248153},null,{"$f":"N8","v":112},{"$f":"COUNTIF(L135:L160,AS8)","v":4},{"$f":"AT8/(AV4-AT11)","v":0.17391304347826086},{"$f":"IF(AU8=0,0,(AU8*((LOG(AU8))/LOG(2))))","v":-0.43888034018382832}]
[21,303,22,311,24,319,null,null,null,null,0,222,null,121,{"$f":"COUNTIF($L$7:$L$500,N9)","v":5},{"$f":"O9/$Q$4","v":3.2467532467532464E-2},{"$f":"IF(P9=0,0,(P9*((LOG(P9))/LOG(2))))","v":-0.1605473521366084},null,null,{"$f":"N9","v":121},{"$f":"COUNTIF(L7:L32,T9)","v":0},{"$f":"U9/(W4-U11)","v":0},{"$f":"IF(V9=0,0,(V9*((LOG(V9))/LOG(2))))","v":0},null,{"$f":"N9","v":121},{"$f":"COUNTIF(L33:L57,Y9)","v":0},{"$f":"Z9/(AB4-Z11)","v":0},{"$f":"IF(AA9=0,0,(AA9*((LOG(AA9))/LOG(2))))","v":0},null,{"$f":"N9","v":121},{"$f":"COUNTIF(L58:L83,AD9)","v":2},{"$f":"AE9/(AG4-AE11)","v":7.6923076923076927E-2},{"$f":"IF(AF9=0,0,(AF9*((LOG(AF9))/LOG(2))))","v":-0.28464920908777636},null,{"$f":"N9","v":121},{"$f":"COUNTIF(L84:L109,AI9)","v":0},{"$f":"AJ9/(AL4-AJ11)","v":0},{"$f":"IF(AK9=0,0,(AK9*((LOG(AK9))/LOG(2))))","v":0},null,{"$f":"N9","v":121},{"$f":"COUNTIF(L110:L134,AN9)","v":1},{"$f":"AO9/(AQ4-AO11)","v":4.5454545454545456E-2},{"$f":"IF(AP9=0,0,(AP9*((LOG(AP9))/LOG(2))))","v":-0.20270143721078623},null,{"$f":"N9","v":121},{"$f":"COUNTIF(L135:L160,AS9)","v":2},{"$f":"AT9/(AV4-AT11)","v":8.6956521739130432E-2},{"$f":"IF(AU9=0,0,(AU9*((LOG(AU9))/LOG(2))))","v":-0.30639669183104457}]
[21,418,22,428,24,436,null,null,null,null,0,222,null,122,{"$f":"COUNTIF($L$7:$L$500,N10)","v":11},{"$f":"O10/$Q$4","v":7.1428571428571425E-2},{"$f":"IF(P10=0,0,(P10*((LOG(P10))/LOG(2))))","v":-0.27195392300411453},null,null,{"$f":"N10","v":122},{"$f":"COUNTIF(L7:L32,T10)","v":5},{"$f":"U10/(W4-U11)","v":0.19230769230769232},{"$f":"IF(V10=0,0,(V10*((LOG(V10))/LOG(2))))","v":-0.45740608139494804},null,{"$f":"N10","v":122},{"$f":"COUNTIF(L33:L57,Y10)","v":1},{"$f":"Z10/(AB4-Z11)","v":0.04},{"$f":"IF(AA10=0,0,(AA10*((LOG(AA10))/LOG(2))))","v":-0.18575424759098899},null,{"$f":"N10","v":122},{"$f":"COUNTIF(L58:L83,AD10)","v":3},{"$f":"AE10/(AG4-AE11)","v":0.11538461538461539},{"$f":"IF(AF10=0,0,(AF10*((LOG(AF10))/LOG(2))))","v":-0.35947814047153104},null,{"$f":"N10","v":122},{"$f":"COUNTIF(L84:L109,AI10)","v":1},{"$f":"AJ10/(AL4-AJ11)","v":0.04},{"$f":"IF(AK10=0,0,(AK10*((LOG(AK10))/LOG(2))))","v":-0.18575424759098899},null,{"$f":"N10","v":122},{"$f":"COUNTIF(L110:L134,AN10)","v":1},{"$f":"AO10/(AQ4-AO11)","v":4.5454545454545456E-2},{"$f":"IF(AP10=0,0,(AP10*((LOG(AP10))/LOG(2))))","v":-0.20270143721078623},null,{"$f":"N10","v":122},{"$f":"COUNTIF(L135:L160,AS10)","v":0},{"$f":"AT10/(AV4-AT11)","v":0},{"$f":"IF(AU10=0,0,(AU10*((LOG(AU10))/LOG(2))))","v":0}]
[12,533,24,544,24,556,null,null,null,null,0,122,null,211,{"$f":"COUNTIF($L$7:$L$500,N11)","v":7},{"$f":"O11/$Q$4","v":4.5454545454545456E-2},{"$f":"IF(P11=0,0,(P11*((LOG(P11))/LOG(2))))","v":-0.20270143721078623},null,null,{"$f":"N11","v":211},{"$f":"COUNTIF(L7:L32,T11)","v":0},null,null,null,{"$f":"N11","v":211},{"$f":"COUNTIF(L33:L57,Y11)","v":0},null,null,null,{"$f":"N11","v":211},{"$f":"COUNTIF(L58:L83,AD11)","v":0},null,null,null,{"$f":"N11","v":211},{"$f":"COUNTIF(L84:L109,AI11)","v":1},null,null,null,{"$f":"N11","v":211},{"$f":"COUNTIF(L110:L134,AN11)","v":3},null,null,null,{"$f":"N11","v":211},{"$f":"COUNTIF(L135:L160,AS11)","v":3}]
[21,672,22,674,24,702,null,null,null,null,0,222,null,212,{"$f":"COUNTIF($L$7:$L$500,N12)","v":3},{"$f":"O12/$Q$4","v":1.948051948051948E-2},{"$f":"IF(P12=0,0,(P12*((LOG(P12))/LOG(2))))","v":-0.11068488389559245},null,null,{"$f":"N12","v":212},{"$f":"COUNTIF(L7:L32,T12)","v":0},{"$f":"U12/(W4-U11)","v":0},{"$f":"IF(V12=0,0,(V12*((LOG(V12))/LOG(2))))","v":0},null,{"$f":"N12","v":212},{"$f":"COUNTIF(L33:L57,Y12)","v":0},{"$f":"Z12/(AB4-Z11)","v":0},{"$f":"IF(AA12=0,0,(AA12*((LOG(AA12))/LOG(2))))","v":0},null,{"$f":"N12","v":212},{"$f":"COUNTIF(L58:L83,AD12)","v":0},{"$f":"AE12/(AG4-AE11)","v":0},{"$f":"IF(AF12=0,0,(AF12*((LOG(AF12))/LOG(2))))","v":0},null,{"$f":"N12","v":212},{"$f":"COUNTIF(L84:L109,AI12)","v":0},{"$f":"AJ12/(AL4-AJ11)","v":0},{"$f":"IF(AK12=0,0,(AK12*((LOG(AK12))/LOG(2))))","v":0},null,{"$f":"N12","v":212},{"$f":"COUNTIF(L110:L134,AN12)","v":1},{"$f":"AO12/(AQ4-AO11)","v":4.5454545454545456E-2},{"$f":"IF(AP12=0,0,(AP12*((LOG(AP12))/LOG(2))))","v":-0.20270143721078623},null,{"$f":"N12","v":212},{"$f":"COUNTIF(L135:L160,AS12)","v":2},{"$f":"AT12/(AV4-AT11)","v":8.6956521739130432E-2},{"$f":"IF(AU12=0,0,(AU12*((LOG(AU12))/LOG(2))))","v":-0.30639669183104457}]
[21,817,22,826,24,836,null,null,null,null,0,222,null,221,{"$f":"COUNTIF($L$7:$L$500,N13)","v":2},{"$f":"O13/$Q$4","v":1.2987012987012988E-2},{"$f":"IF(P13=0,0,(P13*((LOG(P13))/LOG(2))))","v":-8.1386838190842872E-2},null,null,{"$f":"N13","v":221},{"$f":"COUNTIF(L7:L32,T13)","v":0},{"$f":"U13/(W4-U11)","v":0},{"$f":"IF(V13=0,0,(V13*((LOG(V13))/LOG(2))))","v":0},null,{"$f":"N13","v":221},{"$f":"COUNTIF(L33:L57,Y13)","v":1},{"$f":"Z13/(AB4-Z11)","v":0.04},{"$f":"IF(AA13=0,0,(AA13*((LOG(AA13))/LOG(2))))","v":-0.18575424759098899},null,{"$f":"N13","v":221},{"$f":"COUNTIF(L58:L83,AD13)","v":1},{"$f":"AE13/(AG4-AE11)","v":3.8461538461538464E-2},{"$f":"IF(AF13=0,0,(AF13*((LOG(AF13))/LOG(2))))","v":-0.18078614300542661},null,{"$f":"N13","v":221},{"$f":"COUNTIF(L84:L109,AI13)","v":0},{"$f":"AJ13/(AL4-AJ11)","v":0},{"$f":"IF(AK13=0,0,(AK13*((LOG(AK13))/LOG(2))))","v":0},null,{"$f":"N13","v":221},{"$f":"COUNTIF(L110:L134,AN13)","v":0},{"$f":"AO13/(AQ4-AO11)","v":0},{"$f":"IF(AP13=0,0,(AP13*((LOG(AP13))/LOG(2))))","v":0},null,{"$f":"N13","v":221},{"$f":"COUNTIF(L135:L160,AS13)","v":0},{"$f":"AT13/(AV4-AT11)","v":0},{"$f":"IF(AU13=0,0,(AU13*((LOG(AU13))/LOG(2))))","v":0}]
[12,943,24,953,24,962,null,null,null,null,0,122,null,222,{"$f":"COUNTIF($L$7:$L$500,N14)","v":16},{"$f":"O14/$Q$4","v":0.1038961038961039},{"$f":"IF(P14=0,0,(P14*((LOG(P14))/LOG(2))))","v":-0.33940639383843135},null,null,{"$f":"N14","v":222},{"$f":"COUNTIF(L7:L32,T14)","v":5},{"$f":"U14/(W4-U11)","v":0.19230769230769232},{"$f":"IF(V14=0,0,(V14*((LOG(V14))/LOG(2))))","v":-0.45740608139494804},null,{"$f":"N14","v":222},{"$f":"COUNTIF(L33:L57,Y14)","v":5},{"$f":"Z14/(AB4-Z11)","v":0.2},{"$f":"IF(AA14=0,0,(AA14*((LOG(AA14))/LOG(2))))","v":-0.46438561897747244},null,{"$f":"N14","v":222},{"$f":"COUNTIF(L58:L83,AD14)","v":5},{"$f":"AE14/(AG4-AE11)","v":0.19230769230769232},{"$f":"IF(AF14=0,0,(AF14*((LOG(AF14))/LOG(2))))","v":-0.45740608139494804},null,{"$f":"N14","v":222},{"$f":"COUNTIF(L84:L109,AI14)","v":1},{"$f":"AJ14/(AL4-AJ11)","v":0.04},{"$f":"IF(AK14=0,0,(AK14*((LOG(AK14))/LOG(2))))","v":-0.18575424759098899},null,{"$f":"N14","v":222},{"$f":"COUNTIF(L110:L134,AN14)","v":0},{"$f":"AO14/(AQ4-AO11)","v":0},{"$f":"IF(AP14=0,0,(AP14*((LOG(AP14))/LOG(2))))","v":0},null,{"$f":"N14","v":222},{"$f":"COUNTIF(L135:L160,AS14)","v":0},{"$f":"AT14/(AV4-AT11)","v":0},{"$f":"IF(AU14=0,0,(AU14*((LOG(AU14))/LOG(2))))","v":0}]
[12,1092,13,1103,24,1122,null,null,null,null,0,112,null,null,null,{"$f":"SUM(P7:P14)","v":0.99999999999999978},{"$f":"-SUM(Q7:Q14)","v":2.0290772011746645},null,null,null,null,{"$f":"SUM(V7:V14)","v":1},{"$f":"-SUM(W7:W14)","v":1.8451000659284962},null,null,null,{"$f":"SUM(AA7:AA14)","v":1},{"$f":"-SUM(AB7:AB14)","v":1.8382975702780198},null,null,null,{"$f":"SUM(AF7:AF14)","v":0.99999999999999989},{"$f":"-SUM(AG7:AG14)","v":2.2228137265406862},null,null,null,{"$f":"SUM(AK7:AK14)","v":1},{"$f":"-SUM(AL7:AL14)","v":0.87430955464056614},null,null,null,{"$f":"SUM(AP7:AP14)","v":0.99999999999999989},{"$f":"-SUM(AQ7:AQ14)","v":1.2100285140347622},null,null,null,{"$f":"SUM(AU7:AU14)","v":1},{"$f":"-SUM(AV7:AV14)","v":1.4538506980514574}]
[12,1229,13,1247,13,1255,null,null,null,null,0,111,null,null,null,"U=",{"$f":"Q15/(LOG(Q4)/LOG(2))","v":0.27922620126676101},null,null,null,null,"U1=",{"$f":"W15/(LOG(W4)/LOG(2))","v":0.39253775743733776},null,null,null,"U2=",{"$f":"AB15/(LOG(AB4)/LOG(2))","v":0.39585583514100942},null,null,null,"U3=",{"$f":"AG15/(LOG(AG4)/LOG(2))","v":0.47289484810577559},null,null,null,"U4=",{"$f":"AL15/(LOG(AL4)/LOG(2))","v":0.186005907333779},null,null,null,"U5=",{"$f":"AQ15/(LOG(AQ4)/LOG(2))","v":0.26056545779757684},null,null,null,"U6=",{"$f":"AV15/(LOG(AV4)/LOG(2))","v":0.30930099846624981}]
[12,1363,13,1379,13,1388,null,null,null,null,0,111]
[12,1505,13,1511,13,1521,null,null,null,null,0,111]
[12,1622,13,1638,13,1648,null,null,null,null,0,111,null,"Total Target Seq"]
[12,1762,13,1772,13,1781,null,null,null,null,0,111,null,{"$f":"COUNTIF(L7:L160,G3)","v":7},null,26,25,26,26,25,26]
[12,1951,24,1968,24,1978,null,null,null,null,0,122,null,null,null,"% of reinforcement given in 6 equal intervals based on number of trials "]
[12,2081,13,2101,24,2117,null,null,null,null,0,112,null,null,null,"%_1","%_2","%_3","%_4","%_5","%_6"]
[12,2223,13,2241,13,2249,null,null,null,null,0,111,null,null,"target sequence",{"$f":"$G$3","v":211},{"$f":"$G$3","v":211},{"$f":"$G$3","v":211},{"$f":"$G$3","v":211},{"$f":"$G$3","v":211},{"$f":"$G$3","v":211}]
[12,2341,13,2356,13,2369,null,null,null,null,0,111,null,null,"total reinforcement",{"$f":"U11","v":0},{"$f":"Z11","v":0},{"$f":"AE11","v":0},{"$f":"AJ11","v":1},{"$f":"AO11","v":3},{"$f":"AT11","v":3}]
[12,2481,13,2496,13,2514,null,null,null,null,0,111,null,null,"% target"]
[12,2614,13,2643,24,2658,null,null,null,null,0,112,null,null,"CCRF"]
[12,2776,24,2792,24,2800,null,null,null,null,0,122,null,null,"% CCRf"]
[12,2929,13,2938,24,2952,null,null,null,null,0,112,null,null,"average response rate",{"$f":"F32/P20","v":133.38461538461539},{"$f":"(F57-F32)/Q20","v":166.32},{"$f":"(F83-F57)/R20","v":191.80769230769232},{"$f":"(F109-F83)/S20","v":146.42307692307693},{"$f":"(F134-F109)/T20","v":138.56},{"$f":"(F160-F134)/U20","v":154.11538461538461}]
[12,3056,13,3076,13,3084,null,null,null,null,0,111]
[12,3188,13,3197,13,3208,null,null,null,null,0,111]
[12,3313,13,3337,13,3346,null,null,null,null,0,111]
[12,3449,13,3458,13,3468,null,null,null,null,0,111]
[12,3591,13,3622,24,3638,null,null,null,null,0,112]
[12,3778,13,3795,13,3827,null,null,null,null,0,111]
[12,3952,24,3974,24,3983,null,null,null,null,0,122]
[12,4093,13,4099,13,4122,null,null,null,null,0,111]
[21,4344,22,4353,24,4362,null,null,null,null,0,222]
[21,4520,22,4528,24,4537,null,null,null,null,0,222]
[21,4669,22,4675,24,4680,null,null,null,null,0,222]
[12,4773,13,4804,13,4812,null,null,null,null,0,111]
[12,4997,13,5003,24,5016,null,null,null,null,0,112]
[21,5207,22,5212,24,5221,null,null,null,null,0,222]
[21,5347,22,5355,24,5364,null,null,null,null,0,222]
[21,5520,22,5526,13,5596,null,null,null,null,0,221]
[12,5780,13,5788,13,5794,null,null,null,null,0,111]
[12,5919,13,5927,13,5936,null,null,null,null,0,111]
[12,6040,13,6071,13,6083,null,null,null,null,0,111]
[12,6188,13,6197,13,6203,null,null,null,null,0,111]
[12,6315,13,6340,13,6346,null,null,null,null,0,111]
[12,6542,13,6566,24,6583,null,null,null,null,0,112]
[12,6699,13,6719,13,6727,null,null,null,null,0,111]
[12,6827,13,6835,24,6851,null,null,null,null,0,112]
[12,7000,13,7009,24,7025,null,null,null,null,0,112]
[12,7136,13,7154,13,7162,null,null,null,null,0,111]
[12,7283,13,7293,13,7303,null,null,null,null,0,111]
[12,7426,13,7446,24,7460,null,null,null,null,0,112]
[12,7598,13,7618,13,7626,null,null,null,null,0,111]
[12,7742,13,7752,13,7758,null,null,null,null,0,111]
[12,7871,24,7887,24,7896,null,null,null,null,0,122]
[21,8091,22,8096,24,8110,null,null,null,null,0,222]
[12,8239,13,8254,13,8264,null,null,null,null,0,111]
[21,8395,22,8403,24,8412,null,null,null,null,0,222]
[12,8559,13,8572,13,8580,null,null,null,null,0,111]
[12,8683,24,8702,24,8710,null,null,null,null,0,122]
[12,8921,13,8960,13,8971,null,null,null,null,0,111]
[12,9159,13,9185,24,9213,null,null,null,null,0,112]
[21,9546,22,9555,24,9564,null,null,null,null,0,222]
[21,9707,22,9718,24,9729,null,null,null,null,0,222]
[12,9876,13,9915,24,9932,null,null,null,null,0,112]
[21,10208,22,10217,24,10229,null,null,null,null,0,222]
[12,10399,13,10410,24,10428,null,null,null,null,0,112]
[12,10710,13,10776,13,10793,null,null,null,null,0,111]
[12,10930,24,10958,24,10969,null,null,null,null,0,122]
[12,11075,13,11087,24,11113,null,null,null,null,0,112]
[12,11210,13,11232,13,11240,null,null,null,null,0,111]
[12,11382,24,11397,13,11424,null,null,null,null,0,121]
[21,11570,22,11583,13,11622,null,null,null,null,0,221]
[12,11748,24,11765,13,11794,null,null,null,null,0,121]
[12,11926,13,11935,13,11965,null,null,null,null,0,111]
[12,12105,13,12127,13,12146,null,null,null,null,0,111]
[12,12248,13,12265,13,12272,null,null,null,null,0,111]
[12,12397,13,12405,13,12414,null,null,null,null,0,111]
[12,12584,13,12592,13,12613,null,null,null,null,0,111]
[12,12711,13,12736,13,12760,null,null,null,null,0,111]
[12,12868,13,12890,13,12896,null,null,null,null,0,111]
[12,12999,13,13036,24,13053,null,null,null,null,0,112]
[12,13183,13,13203,24,13217,null,null,null,null,0,112]
[12,13333,13,13359,13,13368,null,null,null,null,0,111]
[12,13481,13,13490,13,13495,null,null,null,null,0,111]
[12,13618,13,13640,13,13651,null,null,null,null,0,111]
[12,13777,24,13873,24,13881,null,null,null,null,0,122]
[12,14006,13,14023,13,14031,null,null,null,null,0,111]
[12,14141,13,14158,13,14168,null,null,null,null,0,111]
[12,14285,13,14294,13,14309,null,null,null,null,0,111]
[12,14414,13,14423,13,14442,null,null,null,null,0,111]
[12,14550,13,14565,13,14575,null,null,null,null,0,111]
[12,14682,13,14692,13,14702,null,null,null,null,0,111]
[12,14802,13,14809,13,14827,null,null,null,null,0,111]
[12,14939,13,14958,13,14967,null,null,null,null,0,111]
[12,15079,13,15121,13,15130,null,null,null,null,0,111]
[12,15257,13,15262,13,15268,null,null,null,null,0,111]
[21,15394,22,15409,24,15417,null,null,null,null,0,222]
[12,15564,13,15570,13,15580,null,null,null,null,0,111]
[21,15722,11,15745,11,15755,null,null,null,null,0,211]
[12,15879,13,15904,13,15912,null,null,null,null,0,111]
[12,16034,13,16042,13,16050,null,null,null,null,0,111]
[12,16161,13,16166,13,16175,null,null,null,null,0,111]
[12,16282,13,16291,13,16300,null,null,null,null,0,111]
[12,16402,13,16412,13,16420,null,null,null,null,0,111]
[12,16529,13,16537,13,16543,null,null,null,null,0,111]
[12,16645,13,16652,13,16660,null,null,null,null,0,111]
[12,16765,13,16775,24,16791,null,null,null,null,0,112]
[12,16895,13,16903,13,16910,null,null,null,null,0,111]
[12,17014,13,17029,13,17051,null,null,null,null,0,111]
[21,17179,11,17212,22,17227,null,null,null,null,0,212]
[12,17332,13,17352,13,17360,null,null,null,null,0,111]
[12,17463,13,17471,13,17495,null,null,null,null,0,111]
[12,17605,13,17614,24,17631,null,null,null,null,0,112]
[12,17787,13,17812,13,17824,null,null,null,null,0,111]
[12,17930,13,17943,13,17948,null,null,null,null,0,111]
[12,18052,24,18069,13,18089,null,null,null,null,0,121]
[12,18211,13,18230,13,18236,null,null,null,null,0,111]
[12,18350,13,18364,13,18382,null,null,null,null,0,111]
[21,18516,11,18534,11,18543,null,null,null,null,0,211]
[12,18648,13,18669,13,18678,null,null,null,null,0,111]
[12,18783,13,18792,13,18805,null,null,null,null,0,111]
[12,18902,13,18910,13,18927,null,null,null,null,0,111]
[12,19035,24,19049,24,19051,null,null,null,null,0,122]
[12,19155,13,19157,13,19175,null,null,null,null,0,111]
[12,19272,13,19280,13,19293,null,null,null,null,0,111]
[21,19409,11,19426,11,19438,null,null,null,null,0,211]
[21,19563,11,19582,11,19591,null,null,null,null,0,211]
[12,19752,13,19760,13,19767,null,null,null,null,0,111]
[12,19868,13,19870,13,19884,null,null,null,null,0,111]
[12,19991,13,19999,13,20008,null,null,null,null,0,111]
[21,20110,11,20129,22,20145,null,null,null,null,0,212]
[12,20255,13,20257,13,20295,null,null,null,null,0,111]
[12,20403,13,20421,24,20435,null,null,null,null,0,112]
[12,20563,13,20572,13,20600,null,null,null,null,0,111]
[12,20759,13,20768,13,20776,null,null,null,null,0,111]
[12,20883,13,20889,13,20897,null,null,null,null,0,111]
[12,21011,13,21019,13,21041,null,null,null,null,0,111]
[12,21157,13,21164,24,21178,null,null,null,null,0,112]
[12,21342,24,21369,13,21389,null,null,null,null,0,121]
[12,21492,13,21510,13,21520,null,null,null,null,0,111]
[12,21627,13,21635,24,21653,null,null,null,null,0,112]
[12,21792,13,21797,13,21808,null,null,null,null,0,111]
[21,22021,11,22043,22,22059,null,null,null,null,0,212]
[21,22178,11,22202,11,22210,null,null,null,null,0,211]
[12,22315,13,22341,13,22349,null,null,null,null,0,111]
[21,22491,11,22516,11,22524,null,null,null,null,0,211]
[12,22670,13,22684,13,22700,null,null,null,null,0,111]
[12,22860,13,22868,13,22878,null,null,null,null,0,111]
[12,22982,13,23006,13,23022,null,null,null,null,0,111]
[12,23126,13,23135,13,23142,null,null,null,null,0,111]
[12,23247,13,23263,13,23268,null,null,null,null,0,111]
[21,23405,11,23429,11,23441,null,null,null,null,0,211]
[12,23558,13,23594,13,23600,null,null,null,null,0,111]
[12,23714,24,23728,13,23762,null,null,null,null,0,121]
[12,23869,13,23878,24,23891,null,null,null,null,0,112]

{"sheet":"!2011-06-02_11h29m.Subject 53","index":10,"n_rows":162,"n_cols":48,"rows_kept":162,"cut":false,"hidden":false,"merged":[[4,39,4,42],[5,39,5,40],[4,44,4,47],[5,44,5,45],[4,24,4,27],[5,24,5,25],[4,29,4,32],[5,29,5,30],[4,34,4,37],[5,34,5,35],[1,1,1,2],[5,13,5,14],[18,13,18,14],[19,13,19,14],[4,19,4,22],[5,19,5,20]]}
["Report for:!2011-06-02_11h29m.Subject 53"]
["Date","2011-06-02",null,null,null,"Group",0]
["Hen",53,null,null,null,"Correct Sequence",{"$f":"Start!J2","v":211},null,null,null,null,null,null,null,null,"Total Sequences in Data",{"$f":"4994-COUNTBLANK(L7:L5000)","v":156},null,null,null,null,"Total Sequences in Block Data",{"$f":"COUNTA(L7:L32)","v":26},null,null,null,"Total Sequences in Block Data",{"$f":"COUNTA(L33:L58)","v":26},null,null,null,"Total Sequences in Block Data",{"$f":"COUNTA(L59:L84)","v":26},null,null,null,"Total Sequences in Block Data",{"$f":"COUNTA(L85:L110)","v":26},null,null,null,"Total Sequences in Block Data",{"$f":"COUNTA(L111:L136)","v":26},null,null,null,"Total Sequences in Block Data",{"$f":"COUNTA(L137:L162)","v":26}]
["Program",0,null,null,null,null,null,null,null,null,null,null,null,null,null,"Total Sequences in Summary",{"$f":"SUM(O7:O14)","v":156},null,null,null,null,"Total Sequences in Block Summary",{"$f":"SUM(U7:U14)","v":26},null,null,null,"Total Sequences in Block Summary",{"$f":"SUM(Z7:Z14)","v":26},null,null,null,"Total Sequences in Block Summary",{"$f":"SUM(AE7:AE14)","v":26},null,null,null,"Total Sequences in Block Summary",{"$f":"SUM(AJ7:AJ14)","v":26},null,null,null,"Total Sequences in Block Summary",{"$f":"SUM(AO7:AO14)","v":26},null,null,null,"Total Sequences in Block Summary",{"$f":"SUM(AT7:AT14)","v":26}]
[null,null,null,null,null,null,null,null,null,null,null,null,null,null,null,null,null,null,null,"Block 1",null,null,null,null,"Block 2",null,null,null,null,"Block 3",null,null,null,null,"Block 4",null,null,null,null,"Block 5",null,null,null,null,"Block 6"]
["Sequence\nComponent\n1","Time\n1","Sequence\nComponent\n2","Time\n2","Sequence\nComponent\n3","Time\n3","Sequence\nComponent\n4","Time\n4","Sequence\nComponent\n5","Time\n5","Correct?\n0=No 1=Yes","Sequence",null,"Frequency",null,"Relative Frequency","Variability",null,null,"Frequency",null,"Relative Frequency","Variability",null,"Frequency",null,"Relative Frequency","Variability",null,"Frequency",null,"Relative Frequency","Variability",null,"Frequency",null,"Relative Frequency","Variability",null,"Frequency",null,"Relative Frequency","Variability",null,"Frequency",null,"Relative Frequency","Variability"]
[21,38,22,47,24,59,null,null,null,null,0,222,null,111,{"$f":"COUNTIF($L$7:$L$500,N7)","v":32},{"$f":"O7/$Q$4","v":0.20512820512820512},{"$f":"IF(P7=0,0,(P7*((LOG(P7))/LOG(2))))","v":-0.46880045515123048},null,null,{"$f":"N7","v":111},{"$f":"COUNTIF(L7:L32,T7)","v":6},{"$f":"U7/(W4-U11)","v":0.24},{"$f":"IF(V7=0,0,(V7*((LOG(V7))/LOG(2))))","v":-0.49413448537285637},null,{"$f":"N7","v":111},{"$f":"COUNTIF(L33:L58,Y7)","v":10},{"$f":"Z7/(AB4-Z11)","v":0.41666666666666669},{"$f":"IF(AA7=0,0,(AA7*((LOG(AA7))/LOG(2))))","v":-0.52626433576408083},null,{"$f":"N7","v":111},{"$f":"COUNTIF(L59:L84,AD7)","v":4},{"$f":"AE7/(AG4-AE11)","v":0.15384615384615385},{"$f":"IF(AF7=0,0,(AF7*((LOG(AF7))/LOG(2))))","v":-0.4154522643293988},null,{"$f":"N7","v":111},{"$f":"COUNTIF(L85:L110,AI7)","v":4},{"$f":"AJ7/(AL4-AJ11)","v":0.19047619047619047},{"$f":"IF(AK7=0,0,(AK7*((LOG(AK7))/LOG(2))))","v":-0.4556795091007162},null,{"$f":"N7","v":111},{"$f":"COUNTIF(L111:L136,AN7)","v":6},{"$f":"AO7/(AQ4-AO11)","v":0.24},{"$f":"IF(AP7=0,0,(AP7*((LOG(AP7))/LOG(2))))","v":-0.49413448537285637},null,{"$f":"N7","v":111},{"$f":"COUNTIF(L137:L162,AS7)","v":2},{"$f":"AT7/(AV4-AT11)","v":8.3333333333333329E-2},{"$f":"IF(AU7=0,0,(AU7*((LOG(AU7))/LOG(2))))","v":-0.29874687506009634}]
[12,183,13,202,13,219,null,null,null,null,0,111,null,112,{"$f":"COUNTIF($L$7:$L$500,N8)","v":41},{"$f":"O8/$Q$4","v":0.26282051282051283},{"$f":"IF(P8=0,0,(P8*((LOG(P8))/LOG(2))))","v":-0.50667858194878679},null,null,{"$f":"N8","v":112},{"$f":"COUNTIF(L7:L32,T8)","v":8},{"$f":"U8/(W4-U11)","v":0.32},{"$f":"IF(V8=0,0,(V8*((LOG(V8))/LOG(2))))","v":-0.52603398072791185},null,{"$f":"N8","v":112},{"$f":"COUNTIF(L33:L58,Y8)","v":7},{"$f":"Z8/(AB4-Z11)","v":0.29166666666666669},{"$f":"IF(AA8=0,0,(AA8*((LOG(AA8))/LOG(2))))","v":-0.51846887711020273},null,{"$f":"N8","v":112},{"$f":"COUNTIF(L59:L84,AD8)","v":7},{"$f":"AE8/(AG4-AE11)","v":0.26923076923076922},{"$f":"IF(AF8=0,0,(AF8*((LOG(AF8))/LOG(2))))","v":-0.50967667586863141},null,{"$f":"N8","v":112},{"$f":"COUNTIF(L85:L110,AI8)","v":3},{"$f":"AJ8/(AL4-AJ11)","v":0.14285714285714285},{"$f":"IF(AK8=0,0,(AK8*((LOG(AK8))/LOG(2))))","v":-0.40105070315108626},null,{"$f":"N8","v":112},{"$f":"COUNTIF(L111:L136,AN8)","v":9},{"$f":"AO8/(AQ4-AO11)","v":0.36},{"$f":"IF(AP8=0,0,(AP8*((LOG(AP8))/LOG(2))))","v":-0.53061522779966841},null,{"$f":"N8","v":112},{"$f":"COUNTIF(L137:L162,AS8)","v":7},{"$f":"AT8/(AV4-AT11)","v":0.29166666666666669},{"$f":"IF(AU8=0,0,(AU8*((LOG(AU8))/LOG(2))))","v":-0.51846887711020273}]
[12,329,24,342,13,364,null,null,null,null,0,121,null,121,{"$f":"COUNTIF($L$7:$L$500,N9)","v":21},{"$f":"O9/$Q$4","v":0.13461538461538461},{"$f":"IF(P9=0,0,(P9*((LOG(P9))/LOG(2))))","v":-0.38945372254970029},null,null,{"$f":"N9","v":121},{"$f":"COUNTIF(L7:L32,T9)","v":4},{"$f":"U9/(W4-U11)","v":0.16},{"$f":"IF(V9=0,0,(V9*((LOG(V9))/LOG(2))))","v":-0.42301699036395596},null,{"$f":"N9","v":121},{"$f":"COUNTIF(L33:L58,Y9)","v":4},{"$f":"Z9/(AB4-Z11)","v":0.16666666666666666},{"$f":"IF(AA9=0,0,(AA9*((LOG(AA9))/LOG(2))))","v":-0.43082708345352599},null,{"$f":"N9","v":121},{"$f":"COUNTIF(L59:L84,AD9)","v":3},{"$f":"AE9/(AG4-AE11)","v":0.11538461538461539},{"$f":"IF(AF9=0,0,(AF9*((LOG(AF9))/LOG(2))))","v":-0.35947814047153104},null,{"$f":"N9","v":121},{"$f":"COUNTIF(L85:L110,AI9)","v":1},{"$f":"AJ9/(AL4-AJ11)","v":4.7619047619047616E-2},{"$f":"IF(AK9=0,0,(AK9*((LOG(AK9))/LOG(2))))","v":-0.20915797251327431},null,{"$f":"N9","v":121},{"$f":"COUNTIF(L111:L136,AN9)","v":4},{"$f":"AO9/(AQ4-AO11)","v":0.16},{"$f":"IF(AP9=0,0,(AP9*((LOG(AP9))/LOG(2))))","v":-0.42301699036395596},null,{"$f":"N9","v":121},{"$f":"COUNTIF(L137:L162,AS9)","v":5},{"$f":"AT9/(AV4-AT11)","v":0.20833333333333334},{"$f":"IF(AU9=0,0,(AU9*((LOG(AU9))/LOG(2))))","v":-0.47146550121537367}]
[12,470,13,500,13,508,null,null,null,null,0,111,null,122,{"$f":"COUNTIF($L$7:$L$500,N10)","v":22},{"$f":"O10/$Q$4","v":0.14102564102564102},{"$f":"IF(P10=0,0,(P10*((LOG(P10))/LOG(2))))","v":-0.39853431541633921},null,null,{"$f":"N10","v":122},{"$f":"COUNTIF(L7:L32,T10)","v":2},{"$f":"U10/(W4-U11)","v":0.08},{"$f":"IF(V10=0,0,(V10*((LOG(V10))/LOG(2))))","v":-0.29150849518197797},null,{"$f":"N10","v":122},{"$f":"COUNTIF(L33:L58,Y10)","v":3},{"$f":"Z10/(AB4-Z11)","v":0.125},{"$f":"IF(AA10=0,0,(AA10*((LOG(AA10))/LOG(2))))","v":-0.375},null,{"$f":"N10","v":122},{"$f":"COUNTIF(L59:L84,AD10)","v":5},{"$f":"AE10/(AG4-AE11)","v":0.19230769230769232},{"$f":"IF(AF10=0,0,(AF10*((LOG(AF10))/LOG(2))))","v":-0.45740608139494804},null,{"$f":"N10","v":122},{"$f":"COUNTIF(L85:L110,AI10)","v":4},{"$f":"AJ10/(AL4-AJ11)","v":0.19047619047619047},{"$f":"IF(AK10=0,0,(AK10*((LOG(AK10))/LOG(2))))","v":-0.4556795091007162},null,{"$f":"N10","v":122},{"$f":"COUNTIF(L111:L136,AN10)","v":4},{"$f":"AO10/(AQ4-AO11)","v":0.16},{"$f":"IF(AP10=0,0,(AP10*((LOG(AP10))/LOG(2))))","v":-0.42301699036395596},null,{"$f":"N10","v":122},{"$f":"COUNTIF(L137:L162,AS10)","v":4},{"$f":"AT10/(AV4-AT11)","v":0.16666666666666666},{"$f":"IF(AU10=0,0,(AU10*((LOG(AU10))/LOG(2))))","v":-0.43082708345352599}]
[12,619,13,627,24,638,null,null,null,null,0,112,null,211,{"$f":"COUNTIF($L$7:$L$500,N11)","v":11},{"$f":"O11/$Q$4","v":7.0512820512820512E-2},{"$f":"IF(P11=0,0,(P11*((LOG(P11))/LOG(2))))","v":-0.26977997822099015},null,null,{"$f":"N11","v":211},{"$f":"COUNTIF(L7:L32,T11)","v":1},null,null,null,{"$f":"N11","v":211},{"$f":"COUNTIF(L33:L58,Y11)","v":2},null,null,null,{"$f":"N11","v":211},{"$f":"COUNTIF(L59:L84,AD11)","v":0},null,null,null,{"$f":"N11","v":211},{"$f":"COUNTIF(L85:L110,AI11)","v":5},null,null,null,{"$f":"N11","v":211},{"$f":"COUNTIF(L111:L136,AN11)","v":1},null,null,null,{"$f":"N11","v":211},{"$f":"COUNTIF(L137:L162,AS11)","v":2}]
[12,745,13,767,24,783,null,null,null,null,0,112,null,212,{"$f":"COUNTIF($L$7:$L$500,N12)","v":7},{"$f":"O12/$Q$4","v":4.4871794871794872E-2},{"$f":"IF(P12=0,0,(P12*((LOG(P12))/LOG(2))))","v":-0.20093801972841352},null,null,{"$f":"N12","v":212},{"$f":"COUNTIF(L7:L32,T12)","v":1},{"$f":"U12/(W4-U11)","v":0.04},{"$f":"IF(V12=0,0,(V12*((LOG(V12))/LOG(2))))","v":-0.18575424759098899},null,{"$f":"N12","v":212},{"$f":"COUNTIF(L33:L58,Y12)","v":0},{"$f":"Z12/(AB4-Z11)","v":0},{"$f":"IF(AA12=0,0,(AA12*((LOG(AA12))/LOG(2))))","v":0},null,{"$f":"N12","v":212},{"$f":"COUNTIF(L59:L84,AD12)","v":0},{"$f":"AE12/(AG4-AE11)","v":0},{"$f":"IF(AF12=0,0,(AF12*((LOG(AF12))/LOG(2))))","v":0},null,{"$f":"N12","v":212},{"$f":"COUNTIF(L85:L110,AI12)","v":4},{"$f":"AJ12/(AL4-AJ11)","v":0.19047619047619047},{"$f":"IF(AK12=0,0,(AK12*((LOG(AK12))/LOG(2))))","v":-0.4556795091007162},null,{"$f":"N12","v":212},{"$f":"COUNTIF(L111:L136,AN12)","v":1},{"$f":"AO12/(AQ4-AO11)","v":0.04},{"$f":"IF(AP12=0,0,(AP12*((LOG(AP12))/LOG(2))))","v":-0.18575424759098899},null,{"$f":"N12","v":212},{"$f":"COUNTIF(L137:L162,AS12)","v":1},{"$f":"AT12/(AV4-AT11)","v":4.1666666666666664E-2},{"$f":"IF(AU12=0,0,(AU12*((LOG(AU12))/LOG(2))))","v":-0.19104010419671485}]
[12,904,13,914,24,924,null,null,null,null,0,112,null,221,{"$f":"COUNTIF($L$7:$L$500,N13)","v":5},{"$f":"O13/$Q$4","v":3.2051282051282048E-2},{"$f":"IF(P13=0,0,(P13*((LOG(P13))/LOG(2))))","v":-0.15908570910175915},null,null,{"$f":"N13","v":221},{"$f":"COUNTIF(L7:L32,T13)","v":1},{"$f":"U13/(W4-U11)","v":0.04},{"$f":"IF(V13=0,0,(V13*((LOG(V13))/LOG(2))))","v":-0.18575424759098899},null,{"$f":"N13","v":221},{"$f":"COUNTIF(L33:L58,Y13)","v":0},{"$f":"Z13/(AB4-Z11)","v":0},{"$f":"IF(AA13=0,0,(AA13*((LOG(AA13))/LOG(2))))","v":0},null,{"$f":"N13","v":221},{"$f":"COUNTIF(L59:L84,AD13)","v":3},{"$f":"AE13/(AG4-AE11)","v":0.11538461538461539},{"$f":"IF(AF13=0,0,(AF13*((LOG(AF13))/LOG(2))))","v":-0.35947814047153104},null,{"$f":"N13","v":221},{"$f":"COUNTIF(L85:L110,AI13)","v":0},{"$f":"AJ13/(AL4-AJ11)","v":0},{"$f":"IF(AK13=0,0,(AK13*((LOG(AK13))/LOG(2))))","v":0},null,{"$f":"N13","v":221},{"$f":"COUNTIF(L111:L136,AN13)","v":0},{"$f":"AO13/(AQ4-AO11)","v":0},{"$f":"IF(AP13=0,0,(AP13*((LOG(AP13))/LOG(2))))","v":0},null,{"$f":"N13","v":221},{"$f":"COUNTIF(L137:L162,AS13)","v":1},{"$f":"AT13/(AV4-AT11)","v":4.1666666666666664E-2},{"$f":"IF(AU13=0,0,(AU13*((LOG(AU13))/LOG(2))))","v":-0.19104010419671485}]
[12,1045,13,1059,13,1064,null,null,null,null,0,111,null,222,{"$f":"COUNTIF($L$7:$L$500,N14)","v":17},{"$f":"O14/$Q$4","v":0.10897435897435898},{"$f":"IF(P14=0,0,(P14*((LOG(P14))/LOG(2))))","v":-0.34849339371411825},null,null,{"$f":"N14","v":222},{"$f":"COUNTIF(L7:L32,T14)","v":3},{"$f":"U14/(W4-U11)","v":0.12},{"$f":"IF(V14=0,0,(V14*((LOG(V14))/LOG(2))))","v":-0.36706724268642821},null,{"$f":"N14","v":222},{"$f":"COUNTIF(L33:L58,Y14)","v":0},{"$f":"Z14/(AB4-Z11)","v":0},{"$f":"IF(AA14=0,0,(AA14*((LOG(AA14))/LOG(2))))","v":0},null,{"$f":"N14","v":222},{"$f":"COUNTIF(L59:L84,AD14)","v":4},{"$f":"AE14/(AG4-AE11)","v":0.15384615384615385},{"$f":"IF(AF14=0,0,(AF14*((LOG(AF14))/LOG(2))))","v":-0.4154522643293988},null,{"$f":"N14","v":222},{"$f":"COUNTIF(L85:L110,AI14)","v":5},{"$f":"AJ14/(AL4-AJ11)","v":0.23809523809523808},{"$f":"IF(AK14=0,0,(AK14*((LOG(AK14))/LOG(2))))","v":-0.49294983997414238},null,{"$f":"N14","v":222},{"$f":"COUNTIF(L111:L136,AN14)","v":1},{"$f":"AO14/(AQ4-AO11)","v":0.04},{"$f":"IF(AP14=0,0,(AP14*((LOG(AP14))/LOG(2))))","v":-0.18575424759098899},null,{"$f":"N14","v":222},{"$f":"COUNTIF(L137:L162,AS14)","v":4},{"$f":"AT14/(AV4-AT11)","v":0.16666666666666666},{"$f":"IF(AU14=0,0,(AU14*((LOG(AU14))/LOG(2))))","v":-0.43082708345352599}]
[12,1233,13,1254,24,1267,null,null,null,null,0,112,null,null,null,{"$f":"SUM(P7:P14)","v":1},{"$f":"-SUM(Q7:Q14)","v":2.7417641758313378},null,null,null,null,{"$f":"SUM(V7:V14)","v":1},{"$f":"-SUM(W7:W14)","v":2.4732696895151083},null,null,null,{"$f":"SUM(AA7:AA14)","v":1},{"$f":"-SUM(AB7:AB14)","v":1.8505602963278094},null,null,null,{"$f":"SUM(AF7:AF14)","v":1},{"$f":"-SUM(AG7:AG14)","v":2.5169435668654394},null,null,null,{"$f":"SUM(AK7:AK14)","v":1},{"$f":"-SUM(AL7:AL14)","v":2.4701970429406517},null,null,null,{"$f":"SUM(AP7:AP14)","v":1},{"$f":"-SUM(AQ7:AQ14)","v":2.2422921890824146},null,null,null,{"$f":"SUM(AU7:AU14)","v":0.99999999999999989},{"$f":"-SUM(AV7:AV14)","v":2.5324156286861546}]
[12,1401,24,1415,24,1423,null,null,null,null,0,122,null,null,null,"U=",{"$f":"Q15/(LOG(Q4)/LOG(2))","v":0.3763366926719271},null,null,null,null,"U1=",{"$f":"W15/(LOG(W4)/LOG(2))","v":0.52617836581749111},null,null,null,"U2=",{"$f":"AB15/(LOG(AB4)/LOG(2))","v":0.39369939990628378},null,null,null,"U3=",{"$f":"AG15/(LOG(AG4)/LOG(2))","v":0.53546981086714773},null,null,null,"U4=",{"$f":"AL15/(LOG(AL4)/LOG(2))","v":0.52552467238481126},null,null,null,"U5=",{"$f":"AQ15/(LOG(AQ4)/LOG(2))","v":0.47703881414081534},null,null,null,"U6=",{"$f":"AV15/(LOG(AV4)/LOG(2))","v":0.53876143095983853}]
[12,1551,13,1612,13,1630,null,null,null,null,0,111]
[12,1759,13,1765,24,1779,null,null,null,null,0,112]
[12,1904,24,1929,13,1949,null,null,null,null,0,121,null,"Total Target Seq"]
[12,2069,24,2088,13,2102,null,null,null,null,0,121,null,{"$f":"COUNTIF(L7:L162,G3)","v":11},null,26,26,26,26,26,26]
[12,2222,24,2235,24,2247,null,null,null,null,0,122,null,null,null,"% of reinforcement given in 6 equal intervals based on number of trials "]
[21,2362,11,2385,22,2403,null,null,null,null,0,212,null,null,null,"%_1","%_2","%_3","%_4","%_5","%_6"]
[21,2601,22,2610,24,2626,null,null,null,null,0,222,null,null,"target sequence",{"$f":"$G$3","v":211},{"$f":"$G$3","v":211},{"$f":"$G$3","v":211},{"$f":"$G$3","v":211},{"$f":"$G$3","v":211},{"$f":"$G$3","v":211}]
[12,2726,24,2736,13,2763,null,null,null,null,0,121,null,null,"total reinforcement",{"$f":"U11","v":1},{"$f":"Z11","v":2},{"$f":"AE11","v":0},{"$f":"AJ11","v":5},{"$f":"AO11","v":1},{"$f":"AT11","v":2}]
[12,2869,13,2909,24,2922,null,null,null,null,0,112,null,null,"% target"]
[12,3028,13,3051,13,3070,null,null,null,null,0,111,null,null,"CCRF"]
[12,3184,13,3203,24,3217,null,null,null,null,0,112,null,null,"% CCRf"]
[12,3342,13,3344,13,3367,null,null,null,null,0,111,null,null,"average response rate",{"$f":"F32/P20","v":151.92307692307693},{"$f":"(F58-F32)/Q20","v":147.92307692307693},{"$f":"(F84-F58)/R20","v":153.65384615384616},{"$f":"(F110-F84)/S20","v":158.26923076923077},{"$f":"(F136-F110)/T20","v":158.61538461538461},{"$f":"(F162-F136)/U20","v":150}]
[21,3487,22,3496,24,3504,null,null,null,null,0,222]
[21,3626,22,3637,13,3656,null,null,null,null,0,221]
[21,3777,11,3792,11,3804,null,null,null,null,0,211]
[12,3918,13,3938,24,3950,null,null,null,null,0,112]
[12,4053,13,4071,13,4082,null,null,null,null,0,111]
[12,4196,13,4204,24,4218,null,null,null,null,0,112]
[21,4337,11,4354,11,4364,null,null,null,null,0,211]
[12,4472,13,4492,24,4507,null,null,null,null,0,112]
[12,4636,24,4649,24,4656,null,null,null,null,0,122]
[12,4780,13,4782,13,4801,null,null,null,null,0,111]
[12,4941,13,4950,24,4964,null,null,null,null,0,112]
[12,5074,13,5117,13,5130,null,null,null,null,0,111]
[12,5271,13,5273,13,5288,null,null,null,null,0,111]
[12,5400,13,5401,13,5419,null,null,null,null,0,111]
[12,5522,13,5538,13,5565,null,null,null,null,0,111]
[12,5697,13,5717,24,5733,null,null,null,null,0,112]
[21,5859,11,5879,11,5892,null,null,null,null,0,211]
[12,5985,13,6010,13,6032,null,null,null,null,0,111]
[12,6138,24,6176,13,6194,null,null,null,null,0,121]
[12,6299,24,6309,13,6326,null,null,null,null,0,121]
[12,6450,13,6452,13,6473,null,null,null,null,0,111]
[12,6599,24,6612,13,6631,null,null,null,null,0,121]
[12,6732,13,6748,13,6770,null,null,null,null,0,111]
[12,6880,13,6887,13,6905,null,null,null,null,0,111]
[12,7013,24,7028,24,7036,null,null,null,null,0,122]
[12,7140,13,7176,24,7196,null,null,null,null,0,112]
[12,7322,13,7330,24,7346,null,null,null,null,0,112]
[12,7471,24,7485,13,7506,null,null,null,null,0,121]
[12,7620,24,7633,24,7642,null,null,null,null,0,122]
[12,7747,13,7782,24,7796,null,null,null,null,0,112]
[12,7901,24,7911,13,7929,null,null,null,null,0,121]
[12,8033,13,8054,24,8068,null,null,null,null,0,112]
[12,8187,13,8207,13,8232,null,null,null,null,0,111]
[12,8349,13,8369,24,8400,null,null,null,null,0,112]
[21,8520,22,8528,13,8546,null,null,null,null,0,221]
[12,8690,13,8712,24,8725,null,null,null,null,0,112]
[12,8829,13,8892,13,8908,null,null,null,null,0,111]
[21,9061,22,9065,13,9082,null,null,null,null,0,221]
[12,9218,13,9255,24,9269,null,null,null,null,0,112]
[12,9451,13,9456,24,9469,null,null,null,null,0,112]
[12,9584,13,9609,13,9615,null,null,null,null,0,111]
[21,9762,22,9769,24,9777,null,null,null,null,0,222]
[21,9913,22,9921,24,9929,null,null,null,null,0,222]
[12,10052,24,10075,24,10080,null,null,null,null,0,122]
[12,10187,13,10229,24,10246,null,null,null,null,0,112]
[12,10352,24,10365,13,10381,null,null,null,null,0,121]
[12,10491,24,10503,24,10510,null,null,null,null,0,122]
[12,10632,24,10645,24,10653,null,null,null,null,0,122]
[21,10776,22,10808,24,10815,null,null,null,null,0,222]
[21,10945,22,10952,24,10960,null,null,null,null,0,222]
[21,11074,22,11111,13,11129,null,null,null,null,0,221]
[12,11240,24,11258,13,11275,null,null,null,null,0,121]
[12,11379,13,11412,13,11420,null,null,null,null,0,111]
[12,11521,13,11523,24,11536,null,null,null,null,0,112]
[12,11638,24,11656,24,11664,null,null,null,null,0,122]
[12,11766,24,11782,24,11791,null,null,null,null,0,122]
[12,11897,24,11910,24,11919,null,null,null,null,0,122]
[12,12023,24,12038,24,12049,null,null,null,null,0,122]
[21,12155,22,12178,24,12186,null,null,null,null,0,222]
[21,12295,11,12315,11,12324,null,null,null,null,0,211]
[12,12425,24,12439,13,12461,null,null,null,null,0,121]
[21,12583,22,12589,24,12596,null,null,null,null,0,222]
[12,12699,13,12720,13,12740,null,null,null,null,0,111]
[21,12882,22,12893,24,12902,null,null,null,null,0,222]
[12,13000,24,13034,24,13040,null,null,null,null,0,122]
[12,13154,13,13169,24,13184,null,null,null,null,0,112]
[21,13322,22,13330,24,13337,null,null,null,null,0,222]
[21,13438,11,13464,22,13478,null,null,null,null,0,212]
[21,13608,11,13642,11,13654,null,null,null,null,0,211]
[21,13773,11,13791,22,13806,null,null,null,null,0,212]
[12,13909,13,13918,24,13931,null,null,null,null,0,112]
[21,14066,11,14090,22,14106,null,null,null,null,0,212]
[12,14248,24,14262,24,14270,null,null,null,null,0,122]
[21,14480,22,14503,24,14511,null,null,null,null,0,222]
[21,14627,11,14649,22,14665,null,null,null,null,0,212]
[21,14804,11,14829,11,14847,null,null,null,null,0,211]
[12,14993,13,15026,13,15043,null,null,null,null,0,111]
[12,15150,13,15185,24,15199,null,null,null,null,0,112]
[12,15331,13,15356,13,15387,null,null,null,null,0,111]
[12,15552,13,15571,13,15585,null,null,null,null,0,111]
[21,15705,11,15721,11,15734,null,null,null,null,0,211]
[21,15878,11,15895,11,15906,null,null,null,null,0,211]
[12,16080,13,16102,24,16118,null,null,null,null,0,112]
[12,16259,13,16294,24,16308,null,null,null,null,0,112]
[21,16452,11,16472,22,16487,null,null,null,null,0,212]
[12,16623,24,16639,24,16646,null,null,null,null,0,122]
[12,16784,13,16815,13,16847,null,null,null,null,0,111]
[12,16960,13,16979,13,17001,null,null,null,null,0,111]
[12,17121,24,17136,24,17144,null,null,null,null,0,122]
[21,17271,11,17293,11,17331,null,null,null,null,0,211]
[12,17446,13,17475,24,17489,null,null,null,null,0,112]
[12,17596,13,17624,24,17640,null,null,null,null,0,112]
[12,17757,13,17780,13,17789,null,null,null,null,0,111]
[12,17915,13,17924,24,17937,null,null,null,null,0,112]
[12,18103,24,18117,24,18125,null,null,null,null,0,122]
[12,18234,24,18287,13,18321,null,null,null,null,0,121]
[12,18426,13,18440,13,18447,null,null,null,null,0,111]
[12,18555,24,18596,13,18609,null,null,null,null,0,121]
[12,18714,24,18724,24,18756,null,null,null,null,0,122]
[12,18856,13,18882,24,18893,null,null,null,null,0,112]
[12,19000,13,19013,24,19035,null,null,null,null,0,112]
[12,19132,13,19152,13,19174,null,null,null,null,0,111]
[21,19298,22,19307,24,19315,null,null,null,null,0,222]
[12,19414,24,19427,13,19451,null,null,null,null,0,121]
[12,19555,13,19556,24,19613,null,null,null,null,0,112]
[12,19719,13,19721,24,19733,null,null,null,null,0,112]
[12,19831,24,19840,13,19858,null,null,null,null,0,121]
[12,19962,13,19992,13,20030,null,null,null,null,0,111]
[12,20134,13,20158,13,20164,null,null,null,null,0,111]
[12,20271,24,20286,13,20310,null,null,null,null,0,121]
[12,20413,13,20449,24,20463,null,null,null,null,0,112]
[21,20573,22,20581,24,20589,null,null,null,null,0,222]
[12,20717,13,20739,24,20757,null,null,null,null,0,112]
[21,20883,22,20890,24,20899,null,null,null,null,0,222]
[12,21012,13,21026,24,21039,null,null,null,null,0,112]
[21,21155,22,21163,13,21186,null,null,null,null,0,221]
[12,21307,24,21321,24,21328,null,null,null,null,0,122]
[12,21434,24,21473,13,21491,null,null,null,null,0,121]
[12,21648,13,21656,24,21669,null,null,null,null,0,112]
[12,21768,13,21791,24,21827,null,null,null,null,0,112]
[12,21934,13,21955,24,21968,null,null,null,null,0,112]
[21,22087,22,22094,24,22102,null,null,null,null,0,222]
[21,22221,11,22239,22,22257,null,null,null,null,0,212]
[12,22365,13,22402,24,22415,null,null,null,null,0,112]
[21,22549,11,22570,11,22590,null,null,null,null,0,211]
[12,22699,24,22710,24,22719,null,null,null,null,0,122]
[12,22853,24,22868,24,22877,null,null,null,null,0,122]
[12,23006,24,23018,13,23035,null,null,null,null,0,121]
[12,23145,24,23156,24,23164,null,null,null,null,0,122]
[21,23283,11,23299,11,23321,null,null,null,null,0,211]
[12,23455,24,23475,13,23506,null,null,null,null,0,121]
[12,23606,24,23620,13,23642,null,null,null,null,0,121]
[12,23751,13,23778,13,23780,null,null,null,null,0,111]
[21,23914,22,23922,24,23930,null,null,null,null,null,222]

{"sheet":"!2011-06-03_11h25m.Subject 53","index":11,"n_rows":162,"n_cols":48,"rows_kept":162,"cut":false,"hidden":false,"merged":[[4,39,4,42],[5,39,5,40],[4,44,4,47],[5,44,5,45],[4,24,4,27],[5,24,5,25],[4,29,4,32],[5,29,5,30],[4,34,4,37],[5,34,5,35],[1,1,1,2],[5,13,5,14],[18,13,18,14],[19,13,19,14],[4,19,4,22],[5,19,5,20]]}
["Report for:!2011-06-03_11h25m.Subject 53"]
["Date","2011-06-03",null,null,null,"Group",0]
["Hen",53,null,null,null,"Correct Sequence",{"$f":"Start!J2","v":211},null,null,null,null,null,null,null,null,"Total Sequences in Data",{"$f":"4994-COUNTBLANK(L7:L5000)","v":156},null,null,null,null,"Total Sequences in Block Data",{"$f":"COUNTA(L7:L32)","v":26},null,null,null,"Total Sequences in Block Data",{"$f":"COUNTA(L33:L58)","v":26},null,null,null,"Total Sequences in Block Data",{"$f":"COUNTA(L59:L84)","v":26},null,null,null,"Total Sequences in Block Data",{"$f":"COUNTA(L85:L110)","v":26},null,null,null,"Total Sequences in Block Data",{"$f":"COUNTA(L111:L136)","v":26},null,null,null,"Total Sequences in Block Data",{"$f":"COUNTA(L137:L162)","v":26}]
["Program",0,null,null,null,null,null,null,null,null,null,null,null,null,null,"Total Sequences in Summary",{"$f":"SUM(O7:O14)","v":156},null,null,null,null,"Total Sequences in Block Summary",{"$f":"SUM(U7:U14)","v":26},null,null,null,"Total Sequences in Block Summary",{"$f":"SUM(Z7:Z14)","v":26},null,null,null,"Total Sequences in Block Summary",{"$f":"SUM(AE7:AE14)","v":26},null,null,null,"Total Sequences in Block Summary",{"$f":"SUM(AJ7:AJ14)","v":26},null,null,null,"Total Sequences in Block Summary",{"$f":"SUM(AO7:AO14)","v":26},null,null,null,"Total Sequences in Block Summary",{"$f":"SUM(AT7:AT14)","v":26}]
[null,null,null,null,null,null,null,null,null,null,null,null,null,null,null,null,null,null,null,"Block 1",null,null,null,null,"Block 2",null,null,null,null,"Block 3",null,null,null,null,"Block 4",null,null,null,null,"Block 5",null,null,null,null,"Block 6"]
["Sequence\nComponent\n1","Time\n1","Sequence\nComponent\n2","Time\n2","Sequence\nComponent\n3","Time\n3","Sequence\nComponent\n4","Time\n4","Sequence\nComponent\n5","Time\n5","Correct?\n0=No 1=Yes","Sequence",null,"Frequency",null,"Relative Frequency","Variability",null,null,"Frequency",null,"Relative Frequency","Variability",null,"Frequency",null,"Relative Frequency","Variability",null,"Frequency",null,"Relative Frequency","Variability",null,"Frequency",null,"Relative Frequency","Variability",null,"Frequency",null,"Relative Frequency","Variability",null,"Frequency",null,"Relative Frequency","Variability"]
[21,34,22,42,24,81,null,null,null,null,0,222,null,111,{"$f":"COUNTIF($L$7:$L$500,N7)","v":22},{"$f":"O7/$Q$4","v":0.14102564102564102},{"$f":"IF(P7=0,0,(P7*((LOG(P7))/LOG(2))))","v":-0.39853431541633921},null,null,{"$f":"N7","v":111},{"$f":"COUNTIF(L7:L32,T7)","v":5},{"$f":"U7/(W4-U11)","v":0.21739130434782608},{"$f":"IF(V7=0,0,(V7*((LOG(V7))/LOG(2))))","v":-0.47861605677601093},null,{"$f":"N7","v":111},{"$f":"COUNTIF(L33:L58,Y7)","v":2},{"$f":"Z7/(AB4-Z11)","v":9.0909090909090912E-2},{"$f":"IF(AA7=0,0,(AA7*((LOG(AA7))/LOG(2))))","v":-0.31449378351248153},null,{"$f":"N7","v":111},{"$f":"COUNTIF(L59:L84,AD7)","v":5},{"$f":"AE7/(AG4-AE11)","v":0.23809523809523808},{"$f":"IF(AF7=0,0,(AF7*((LOG(AF7))/LOG(2))))","v":-0.49294983997414238},null,{"$f":"N7","v":111},{"$f":"COUNTIF(L85:L110,AI7)","v":4},{"$f":"AJ7/(AL4-AJ11)","v":0.22222222222222221},{"$f":"IF(AK7=0,0,(AK7*((LOG(AK7))/LOG(2))))","v":-0.48220555587606945},null,{"$f":"N7","v":111},{"$f":"COUNTIF(L111:L136,AN7)","v":1},{"$f":"AO7/(AQ4-AO11)","v":4.1666666666666664E-2},{"$f":"IF(AP7=0,0,(AP7*((LOG(AP7))/LOG(2))))","v":-0.19104010419671485},null,{"$f":"N7","v":111},{"$f":"COUNTIF(L137:L162,AS7)","v":5},{"$f":"AT7/(AV4-AT11)","v":0.21739130434782608},{"$f":"IF(AU7=0,0,(AU7*((LOG(AU7))/LOG(2))))","v":-0.47861605677601093}]
[12,185,24,195,13,216,null,null,null,null,0,121,null,112,{"$f":"COUNTIF($L$7:$L$500,N8)","v":15},{"$f":"O8/$Q$4","v":9.6153846153846159E-2},{"$f":"IF(P8=0,0,(P8*((LOG(P8))/LOG(2))))","v":-0.32485688685132019},null,null,{"$f":"N8","v":112},{"$f":"COUNTIF(L7:L32,T8)","v":7},{"$f":"U8/(W4-U11)","v":0.30434782608695654},{"$f":"IF(V8=0,0,(V8*((LOG(V8))/LOG(2))))","v":-0.52232387991286355},null,{"$f":"N8","v":112},{"$f":"COUNTIF(L33:L58,Y8)","v":4},{"$f":"Z8/(AB4-Z11)","v":0.18181818181818182},{"$f":"IF(AA8=0,0,(AA8*((LOG(AA8))/LOG(2))))","v":-0.44716938520678134},null,{"$f":"N8","v":112},{"$f":"COUNTIF(L59:L84,AD8)","v":2},{"$f":"AE8/(AG4-AE11)","v":9.5238095238095233E-2},{"$f":"IF(AF8=0,0,(AF8*((LOG(AF8))/LOG(2))))","v":-0.32307784978845333},null,{"$f":"N8","v":112},{"$f":"COUNTIF(L85:L110,AI8)","v":1},{"$f":"AJ8/(AL4-AJ11)","v":5.5555555555555552E-2},{"$f":"IF(AK8=0,0,(AK8*((LOG(AK8))/LOG(2))))","v":-0.23166250008012845},null,{"$f":"N8","v":112},{"$f":"COUNTIF(L111:L136,AN8)","v":0},{"$f":"AO8/(AQ4-AO11)","v":0},{"$f":"IF(AP8=0,0,(AP8*((LOG(AP8))/LOG(2))))","v":0},null,{"$f":"N8","v":112},{"$f":"COUNTIF(L137:L162,AS8)","v":1},{"$f":"AT8/(AV4-AT11)","v":4.3478260869565216E-2},{"$f":"IF(AU8=0,0,(AU8*((LOG(AU8))/LOG(2))))","v":-0.19667660678508753}]
[12,322,13,365,13,390,null,null,null,null,0,111,null,121,{"$f":"COUNTIF($L$7:$L$500,N9)","v":23},{"$f":"O9/$Q$4","v":0.14743589743589744},{"$f":"IF(P9=0,0,(P9*((LOG(P9))/LOG(2))))","v":-0.40719439772128468},null,null,{"$f":"N9","v":121},{"$f":"COUNTIF(L7:L32,T9)","v":4},{"$f":"U9/(W4-U11)","v":0.17391304347826086},{"$f":"IF(V9=0,0,(V9*((LOG(V9))/LOG(2))))","v":-0.43888034018382832},null,{"$f":"N9","v":121},{"$f":"COUNTIF(L33:L58,Y9)","v":3},{"$f":"Z9/(AB4-Z11)","v":0.13636363636363635},{"$f":"IF(AA9=0,0,(AA9*((LOG(AA9))/LOG(2))))","v":-0.39197306153401923},null,{"$f":"N9","v":121},{"$f":"COUNTIF(L59:L84,AD9)","v":6},{"$f":"AE9/(AG4-AE11)","v":0.2857142857142857},{"$f":"IF(AF9=0,0,(AF9*((LOG(AF9))/LOG(2))))","v":-0.51638712058788683},null,{"$f":"N9","v":121},{"$f":"COUNTIF(L85:L110,AI9)","v":3},{"$f":"AJ9/(AL4-AJ11)","v":0.16666666666666666},{"$f":"IF(AK9=0,0,(AK9*((LOG(AK9))/LOG(2))))","v":-0.43082708345352599},null,{"$f":"N9","v":121},{"$f":"COUNTIF(L111:L136,AN9)","v":1},{"$f":"AO9/(AQ4-AO11)","v":4.1666666666666664E-2},{"$f":"IF(AP9=0,0,(AP9*((LOG(AP9))/LOG(2))))","v":-0.19104010419671485},null,{"$f":"N9","v":121},{"$f":"COUNTIF(L137:L162,AS9)","v":6},{"$f":"AT9/(AV4-AT11)","v":0.2608695652173913},{"$f":"IF(AU9=0,0,(AU9*((LOG(AU9))/LOG(2))))","v":-0.50572159704413644}]
[12,494,24,508,24,516,null,null,null,null,0,122,null,122,{"$f":"COUNTIF($L$7:$L$500,N10)","v":21},{"$f":"O10/$Q$4","v":0.13461538461538461},{"$f":"IF(P10=0,0,(P10*((LOG(P10))/LOG(2))))","v":-0.38945372254970029},null,null,{"$f":"N10","v":122},{"$f":"COUNTIF(L7:L32,T10)","v":3},{"$f":"U10/(W4-U11)","v":0.13043478260869565},{"$f":"IF(V10=0,0,(V10*((LOG(V10))/LOG(2))))","v":-0.3832955811307639},null,{"$f":"N10","v":122},{"$f":"COUNTIF(L33:L58,Y10)","v":6},{"$f":"Z10/(AB4-Z11)","v":0.27272727272727271},{"$f":"IF(AA10=0,0,(AA10*((LOG(AA10))/LOG(2))))","v":-0.51121885034076575},null,{"$f":"N10","v":122},{"$f":"COUNTIF(L59:L84,AD10)","v":1},{"$f":"AE10/(AG4-AE11)","v":4.7619047619047616E-2},{"$f":"IF(AF10=0,0,(AF10*((LOG(AF10))/LOG(2))))","v":-0.20915797251327431},null,{"$f":"N10","v":122},{"$f":"COUNTIF(L85:L110,AI10)","v":2},{"$f":"AJ10/(AL4-AJ11)","v":0.1111111111111111},{"$f":"IF(AK10=0,0,(AK10*((LOG(AK10))/LOG(2))))","v":-0.3522138890491458},null,{"$f":"N10","v":122},{"$f":"COUNTIF(L111:L136,AN10)","v":6},{"$f":"AO10/(AQ4-AO11)","v":0.25},{"$f":"IF(AP10=0,0,(AP10*((LOG(AP10))/LOG(2))))","v":-0.5},null,{"$f":"N10","v":122},{"$f":"COUNTIF(L137:L162,AS10)","v":3},{"$f":"AT10/(AV4-AT11)","v":0.13043478260869565},{"$f":"IF(AU10=0,0,(AU10*((LOG(AU10))/LOG(2))))","v":-0.3832955811307639}]
[12,621,24,635,24,643,null,null,null,null,0,122,null,211,{"$f":"COUNTIF($L$7:$L$500,N11)","v":25},{"$f":"O11/$Q$4","v":0.16025641025641027},{"$f":"IF(P11=0,0,(P11*((LOG(P11))/LOG(2))))","v":-0.42332468414864166},null,null,{"$f":"N11","v":211},{"$f":"COUNTIF(L7:L32,T11)","v":3},null,null,null,{"$f":"N11","v":211},{"$f":"COUNTIF(L33:L58,Y11)","v":4},null,null,null,{"$f":"N11","v":211},{"$f":"COUNTIF(L59:L84,AD11)","v":5},null,null,null,{"$f":"N11","v":211},{"$f":"COUNTIF(L85:L110,AI11)","v":8},null,null,null,{"$f":"N11","v":211},{"$f":"COUNTIF(L111:L136,AN11)","v":2},null,null,null,{"$f":"N11","v":211},{"$f":"COUNTIF(L137:L162,AS11)","v":3}]
[12,752,24,764,13,782,null,null,null,null,0,121,null,212,{"$f":"COUNTIF($L$7:$L$500,N12)","v":11},{"$f":"O12/$Q$4","v":7.0512820512820512E-2},{"$f":"IF(P12=0,0,(P12*((LOG(P12))/LOG(2))))","v":-0.26977997822099015},null,null,{"$f":"N12","v":212},{"$f":"COUNTIF(L7:L32,T12)","v":1},{"$f":"U12/(W4-U11)","v":4.3478260869565216E-2},{"$f":"IF(V12=0,0,(V12*((LOG(V12))/LOG(2))))","v":-0.19667660678508753},null,{"$f":"N12","v":212},{"$f":"COUNTIF(L33:L58,Y12)","v":2},{"$f":"Z12/(AB4-Z11)","v":9.0909090909090912E-2},{"$f":"IF(AA12=0,0,(AA12*((LOG(AA12))/LOG(2))))","v":-0.31449378351248153},null,{"$f":"N12","v":212},{"$f":"COUNTIF(L59:L84,AD12)","v":2},{"$f":"AE12/(AG4-AE11)","v":9.5238095238095233E-2},{"$f":"IF(AF12=0,0,(AF12*((LOG(AF12))/LOG(2))))","v":-0.32307784978845333},null,{"$f":"N12","v":212},{"$f":"COUNTIF(L85:L110,AI12)","v":1},{"$f":"AJ12/(AL4-AJ11)","v":5.5555555555555552E-2},{"$f":"IF(AK12=0,0,(AK12*((LOG(AK12))/LOG(2))))","v":-0.23166250008012845},null,{"$f":"N12","v":212},{"$f":"COUNTIF(L111:L136,AN12)","v":3},{"$f":"AO12/(AQ4-AO11)","v":0.125},{"$f":"IF(AP12=0,0,(AP12*((LOG(AP12))/LOG(2))))","v":-0.375},null,{"$f":"N12","v":212},{"$f":"COUNTIF(L137:L162,AS12)","v":2},{"$f":"AT12/(AV4-AT11)","v":8.6956521739130432E-2},{"$f":"IF(AU12=0,0,(AU12*((LOG(AU12))/LOG(2))))","v":-0.30639669183104457}]
[12,883,13,918,24,930,null,null,null,null,0,112,null,221,{"$f":"COUNTIF($L$7:$L$500,N13)","v":18},{"$f":"O13/$Q$4","v":0.11538461538461539},{"$f":"IF(P13=0,0,(P13*((LOG(P13))/LOG(2))))","v":-0.35947814047153104},null,null,{"$f":"N13","v":221},{"$f":"COUNTIF(L7:L32,T13)","v":2},{"$f":"U13/(W4-U11)","v":8.6956521739130432E-2},{"$f":"IF(V13=0,0,(V13*((LOG(V13))/LOG(2))))","v":-0.30639669183104457},null,{"$f":"N13","v":221},{"$f":"COUNTIF(L33:L58,Y13)","v":4},{"$f":"Z13/(AB4-Z11)","v":0.18181818181818182},{"$f":"IF(AA13=0,0,(AA13*((LOG(AA13))/LOG(2))))","v":-0.44716938520678134},null,{"$f":"N13","v":221},{"$f":"COUNTIF(L59:L84,AD13)","v":2},{"$f":"AE13/(AG4-AE11)","v":9.5238095238095233E-2},{"$f":"IF(AF13=0,0,(AF13*((LOG(AF13))/LOG(2))))","v":-0.32307784978845333},null,{"$f":"N13","v":221},{"$f":"COUNTIF(L85:L110,AI13)","v":2},{"$f":"AJ13/(AL4-AJ11)","v":0.1111111111111111},{"$f":"IF(AK13=0,0,(AK13*((LOG(AK13))/LOG(2))))","v":-0.3522138890491458},null,{"$f":"N13","v":221},{"$f":"COUNTIF(L111:L136,AN13)","v":5},{"$f":"AO13/(AQ4-AO11)","v":0.20833333333333334},{"$f":"IF(AP13=0,0,(AP13*((LOG(AP13))/LOG(2))))","v":-0.47146550121537367},null,{"$f":"N13","v":221},{"$f":"COUNTIF(L137:L162,AS13)","v":3},{"$f":"AT13/(AV4-AT11)","v":0.13043478260869565},{"$f":"IF(AU13=0,0,(AU13*((LOG(AU13))/LOG(2))))","v":-0.3832955811307639}]
[21,1033,11,1049,11,1058,null,null,null,null,0,211,null,222,{"$f":"COUNTIF($L$7:$L$500,N14)","v":21},{"$f":"O14/$Q$4","v":0.13461538461538461},{"$f":"IF(P14=0,0,(P14*((LOG(P14))/LOG(2))))","v":-0.38945372254970029},null,null,{"$f":"N14","v":222},{"$f":"COUNTIF(L7:L32,T14)","v":1},{"$f":"U14/(W4-U11)","v":4.3478260869565216E-2},{"$f":"IF(V14=0,0,(V14*((LOG(V14))/LOG(2))))","v":-0.19667660678508753},null,{"$f":"N14","v":222},{"$f":"COUNTIF(L33:L58,Y14)","v":1},{"$f":"Z14/(AB4-Z11)","v":4.5454545454545456E-2},{"$f":"IF(AA14=0,0,(AA14*((LOG(AA14))/LOG(2))))","v":-0.20270143721078623},null,{"$f":"N14","v":222},{"$f":"COUNTIF(L59:L84,AD14)","v":3},{"$f":"AE14/(AG4-AE11)","v":0.14285714285714285},{"$f":"IF(AF14=0,0,(AF14*((LOG(AF14))/LOG(2))))","v":-0.40105070315108626},null,{"$f":"N14","v":222},{"$f":"COUNTIF(L85:L110,AI14)","v":5},{"$f":"AJ14/(AL4-AJ11)","v":0.27777777777777779},{"$f":"IF(AK14=0,0,(AK14*((LOG(AK14))/LOG(2))))","v":-0.51333247404304172},null,{"$f":"N14","v":222},{"$f":"COUNTIF(L111:L136,AN14)","v":8},{"$f":"AO14/(AQ4-AO11)","v":0.33333333333333331},{"$f":"IF(AP14=0,0,(AP14*((LOG(AP14))/LOG(2))))","v":-0.52832083357371862},null,{"$f":"N14","v":222},{"$f":"COUNTIF(L137:L162,AS14)","v":3},{"$f":"AT14/(AV4-AT11)","v":0.13043478260869565},{"$f":"IF(AU14=0,0,(AU14*((LOG(AU14))/LOG(2))))","v":-0.3832955811307639}]
[12,1157,13,1178,24,1190,null,null,null,null,0,112,null,null,null,{"$f":"SUM(P7:P14)","v":0.99999999999999989},{"$f":"-SUM(Q7:Q14)","v":2.9620758479295075},null,null,null,null,{"$f":"SUM(V7:V14)","v":1},{"$f":"-SUM(W7:W14)","v":2.522865763404686},null,null,null,{"$f":"SUM(AA7:AA14)","v":1},{"$f":"-SUM(AB7:AB14)","v":2.6292196865240967},null,null,null,{"$f":"SUM(AF7:AF14)","v":1},{"$f":"-SUM(AG7:AG14)","v":2.5887791855917501},null,null,null,{"$f":"SUM(AK7:AK14)","v":1},{"$f":"-SUM(AL7:AL14)","v":2.5941178916311856},null,null,null,{"$f":"SUM(AP7:AP14)","v":1},{"$f":"-SUM(AQ7:AQ14)","v":2.2568665431825221},null,null,null,{"$f":"SUM(AU7:AU14)","v":1},{"$f":"-SUM(AV7:AV14)","v":2.6372976958285714}]
[21,1308,11,1327,22,1342,null,null,null,null,0,212,null,null,null,"U=",{"$f":"Q15/(LOG(Q4)/LOG(2))","v":0.40657684489410262},null,null,null,null,"U1=",{"$f":"W15/(LOG(W4)/LOG(2))","v":0.5367297348092398},null,null,null,"U2=",{"$f":"AB15/(LOG(AB4)/LOG(2))","v":0.55935611223281223},null,null,null,"U3=",{"$f":"AG15/(LOG(AG4)/LOG(2))","v":0.55075255525573441},null,null,null,"U4=",{"$f":"AL15/(LOG(AL4)/LOG(2))","v":0.55188834389670571},null,null,null,"U5=",{"$f":"AQ15/(LOG(AQ4)/LOG(2))","v":0.48013945045870249},null,null,null,"U6=",{"$f":"AV15/(LOG(AV4)/LOG(2))","v":0.56107467683290657}]
[12,1447,13,1468,24,1478,null,null,null,null,0,112]
[21,1595,22,1604,13,1630,null,null,null,null,0,221]
[12,1728,13,1745,24,1757,null,null,null,null,0,112,null,"Total Target Seq"]
[12,1880,24,1891,13,1916,null,null,null,null,0,121,null,{"$f":"COUNTIF(L7:L162,G3)","v":25},null,26,26,26,26,26,26]
[12,2021,13,2044,24,2062,null,null,null,null,0,112,null,null,null,"% of reinforcement given in 6 equal intervals based on number of trials "]
[21,2180,11,2196,11,2205,null,null,null,null,0,211,null,null,null,"%_1","%_2","%_3","%_4","%_5","%_6"]
[12,2334,24,2347,24,2385,null,null,null,null,0,122,null,null,"target sequence",{"$f":"$G$3","v":211},{"$f":"$G$3","v":211},{"$f":"$G$3","v":211},{"$f":"$G$3","v":211},{"$f":"$G$3","v":211},{"$f":"$G$3","v":211}]
[21,2506,11,2540,11,2561,null,null,null,null,0,211,null,null,"total reinforcement",{"$f":"U11","v":3},{"$f":"Z11","v":4},{"$f":"AE11","v":5},{"$f":"AJ11","v":8},{"$f":"AO11","v":2},{"$f":"AT11","v":3}]
[12,2659,13,2679,24,2695,null,null,null,null,0,112,null,null,"% target"]
[12,2808,13,2816,13,2843,null,null,null,null,0,111,null,null,"CCRF"]
[21,2959,22,2991,13,3015,null,null,null,null,0,221,null,null,"% CCRf"]
[12,3160,13,3162,24,3175,null,null,null,null,0,112,null,null,"average response rate",{"$f":"F32/P20","v":143.73076923076923},{"$f":"(F58-F32)/Q20","v":163.23076923076923},{"$f":"(F84-F58)/R20","v":167.07692307692307},{"$f":"(F110-F84)/S20","v":147.15384615384616},{"$f":"(F136-F110)/T20","v":143.30769230769232},{"$f":"(F162-F136)/U20","v":156.53846153846155}]
[12,3276,13,3307,13,3309,null,null,null,null,0,111]
[12,3415,13,3416,13,3455,null,null,null,null,0,111]
[12,3566,13,3576,13,3584,null,null,null,null,0,111]
[12,3689,24,3714,13,3737,null,null,null,null,0,121]
[21,3852,22,3860,13,3880,null,null,null,null,0,221]
[12,3986,24,3998,13,4016,null,null,null,null,0,121]
[21,4134,11,4153,22,4167,null,null,null,null,0,212]
[12,4300,24,4312,24,4335,null,null,null,null,0,122]
[21,4450,11,4469,11,4514,null,null,null,null,0,211]
[12,4676,24,4688,24,4697,null,null,null,null,0,122]
[12,4797,13,4826,13,4853,null,null,null,null,0,111]
[21,4965,22,4970,13,4989,null,null,null,null,0,221]
[21,5100,22,5105,13,5124,null,null,null,null,0,221]
[12,5234,13,5263,13,5293,null,null,null,null,0,111]
[12,5401,24,5411,24,5418,null,null,null,null,0,122]
[12,5522,24,5531,24,5540,null,null,null,null,0,122]
[21,5640,11,5657,11,5676,null,null,null,null,0,211]
[21,5837,22,5845,24,5853,null,null,null,null,0,222]
[12,5959,13,5982,24,6042,null,null,null,null,0,112]
[12,6178,24,6194,13,6211,null,null,null,null,0,121]
[21,6345,11,6368,22,6382,null,null,null,null,0,212]
[12,6496,24,6506,24,6513,null,null,null,null,0,122]
[21,6635,11,6656,11,6689,null,null,null,null,0,211]
[12,6812,13,6837,24,6852,null,null,null,null,0,112]
[21,6974,11,7024,11,7039,null,null,null,null,0,211]
[12,7203,13,7215,24,7228,null,null,null,null,0,112]
[12,7387,13,7389,24,7432,null,null,null,null,0,112]
[12,7610,24,7624,24,7632,null,null,null,null,0,122]
[12,7762,24,7781,13,7805,null,null,null,null,0,121]
[21,7918,22,7919,13,7981,null,null,null,null,0,221]
[12,8098,13,8128,24,8140,null,null,null,null,0,112]
[12,8263,13,8296,24,8317,null,null,null,null,0,112]
[12,8447,13,8500,13,8518,null,null,null,null,0,111]
[21,8643,11,8662,11,8747,null,null,null,null,0,211]
[12,8858,24,8871,13,8897,null,null,null,null,0,121]
[12,9058,13,9095,13,9108,null,null,null,null,0,111]
[12,9206,24,9215,13,9233,null,null,null,null,0,121]
[21,9352,22,9357,13,9385,null,null,null,null,0,221]
[12,9500,24,9512,13,9533,null,null,null,null,0,121]
[12,9636,24,9650,13,9713,null,null,null,null,0,121]
[21,9873,11,9896,11,9910,null,null,null,null,0,211]
[12,10037,24,10046,13,10078,null,null,null,null,0,121]
[12,10224,13,10237,13,10244,null,null,null,null,0,111]
[21,10362,11,10403,22,10417,null,null,null,null,0,212]
[21,10525,11,10556,11,10568,null,null,null,null,0,211]
[12,10713,24,10749,24,10757,null,null,null,null,0,122]
[21,10884,11,10902,22,10915,null,null,null,null,0,212]
[12,11027,24,11041,13,11068,null,null,null,null,0,121]
[21,11211,22,11219,24,11227,null,null,null,null,0,222]
[21,11349,22,11357,24,11365,null,null,null,null,0,222]
[21,11478,22,11494,13,11522,null,null,null,null,0,221]
[21,11665,11,11686,11,11688,null,null,null,null,0,211]
[12,11807,13,11832,13,11852,null,null,null,null,0,111]
[12,12003,13,12015,13,12024,null,null,null,null,0,111]
[21,12141,11,12160,11,12175,null,null,null,null,0,211]
[21,12310,22,12317,24,12325,null,null,null,null,0,222]
[21,12442,11,12472,11,12486,null,null,null,null,0,211]
[21,12608,11,12646,11,12659,null,null,null,null,0,211]
[12,12780,24,12789,13,12808,null,null,null,null,0,121]
[21,12916,11,12931,11,12943,null,null,null,null,0,211]
[12,13073,13,13081,13,13118,null,null,null,null,0,111]
[21,13230,11,13244,11,13272,null,null,null,null,0,211]
[12,13442,13,13461,13,13466,null,null,null,null,0,111]
[12,13609,13,13611,13,13636,null,null,null,null,0,111]
[21,13741,11,13770,11,13784,null,null,null,null,0,211]
[21,13887,11,13905,11,13937,null,null,null,null,0,211]
[21,14065,11,14079,11,14087,null,null,null,null,0,211]
[21,14231,22,14264,13,14287,null,null,null,null,0,221]
[21,14394,22,14401,13,14422,null,null,null,null,0,221]
[12,14520,24,14529,24,14534,null,null,null,null,0,122]
[21,14638,11,14666,11,14701,null,null,null,null,0,211]
[12,14854,13,14866,13,14875,null,null,null,null,0,111]
[21,14971,11,14986,22,14998,null,null,null,null,0,212]
[12,15097,24,15109,13,15141,null,null,null,null,0,121]
[21,15249,22,15261,24,15266,null,null,null,null,0,222]
[21,15378,22,15387,24,15396,null,null,null,null,0,222]
[12,15519,24,15531,24,15537,null,null,null,null,0,122]
[12,15629,13,15637,24,15650,null,null,null,null,0,112]
[12,15747,24,15755,13,15778,null,null,null,null,0,121]
[21,15884,22,15892,24,15899,null,null,null,null,0,222]
[21,16016,22,16023,24,16030,null,null,null,null,0,222]
[21,16136,22,16144,24,16151,null,null,null,null,0,222]
[12,16251,24,16260,24,16265,null,null,null,null,0,122]
[21,16370,22,16378,13,16404,null,null,null,null,0,221]
[21,16538,22,16545,24,16550,null,null,null,null,0,222]
[12,16647,24,16656,24,16661,null,null,null,null,0,122]
[12,16780,24,16792,13,16805,null,null,null,null,0,121]
[21,16919,11,16933,22,16945,null,null,null,null,0,212]
[21,17057,22,17062,24,17086,null,null,null,null,0,222]
[21,17195,11,17244,11,17263,null,null,null,null,0,211]
[21,17366,22,17371,13,17388,null,null,null,null,0,221]
[12,17526,13,17535,13,17548,null,null,null,null,0,111]
[21,17658,22,17678,24,17686,null,null,null,null,0,222]
[12,17785,24,17797,24,17801,null,null,null,null,0,122]
[21,17903,22,17908,24,17916,null,null,null,null,0,222]
[21,18040,22,18047,24,18061,null,null,null,null,0,222]
[21,18167,22,18180,13,18213,null,null,null,null,0,221]
[21,18313,22,18318,13,18333,null,null,null,null,0,221]
[21,18460,22,18466,24,18474,null,null,null,null,0,222]
[12,18575,24,18584,24,18603,null,null,null,null,0,122]
[21,18708,22,18713,24,18730,null,null,null,null,0,222]
[21,18834,22,18855,24,18864,null,null,null,null,0,222]
[21,18973,11,19031,11,19045,null,null,null,null,0,211]
[21,19184,11,19198,22,19212,null,null,null,null,0,212]
[12,19346,24,19357,24,19364,null,null,null,null,0,122]
[21,19527,22,19534,13,19577,null,null,null,null,0,221]
[21,19704,11,19723,22,19737,null,null,null,null,0,212]
[12,19859,24,19872,24,19877,null,null,null,null,0,122]
[12,19990,24,20001,13,20015,null,null,null,null,0,121]
[12,20139,24,20152,13,20181,null,null,null,null,0,121]
[12,20330,13,20404,13,20435,null,null,null,null,0,111]
[12,20558,13,20583,13,20599,null,null,null,null,0,111]
[12,20711,24,20722,13,20736,null,null,null,null,0,121]
[21,20851,22,20856,13,20876,null,null,null,null,0,221]
[12,21003,24,21015,13,21033,null,null,null,null,0,121]
[21,21150,11,21171,22,21214,null,null,null,null,0,212]
[21,21321,22,21357,24,21362,null,null,null,null,0,222]
[21,21466,22,21472,24,21476,null,null,null,null,0,222]
[12,21601,13,21619,13,21633,null,null,null,null,0,111]
[21,21739,11,21753,11,21765,null,null,null,null,0,211]
[12,21889,13,21897,13,21922,null,null,null,null,0,111]
[21,22041,11,22058,11,22067,null,null,null,null,0,211]
[12,22228,13,22267,13,22280,null,null,null,null,0,111]
[21,22407,22,22414,13,22437,null,null,null,null,0,221]
[12,22541,24,22579,13,22597,null,null,null,null,0,121]
[12,22713,24,22724,13,22740,null,null,null,null,0,121]
[21,22850,22,22860,13,22873,null,null,null,null,0,221]
[12,22971,24,22984,24,22989,null,null,null,null,0,122]
[21,23104,11,23120,22,23160,null,null,null,null,0,212]
[12,23321,24,23331,24,23339,null,null,null,null,0,122]
[21,23475,11,23511,11,23531,null,null,null,null,0,211]
[12,23659,13,23685,24,23698,null,null,null,null,0,112]
[21,23811,22,23819,24,23826,null,null,null,null,0,222]
[12,23926,24,23942,24,23947,null,null,null,null,null,122]

{"sheet":"!2011-06-04_11h08m.Subject 53","index":12,"n_rows":141,"n_cols":48,"rows_kept":141,"cut":false,"hidden":false,"merged":[[4,39,4,42],[5,39,5,40],[4,44,4,47],[5,44,5,45],[4,24,4,27],[5,24,5,25],[4,29,4,32],[5,29,5,30],[4,34,4,37],[5,34,5,35],[1,1,1,2],[5,13,5,14],[18,13,18,14],[19,13,19,14],[4,19,4,22],[5,19,5,20]]}
["Report for:!2011-06-04_11h08m.Subject 53"]
["Date","2011-06-04",null,null,null,"Group",0]
["Hen",53,null,null,null,"Correct Sequence",{"$f":"Start!J2","v":211},null,null,null,null,null,null,null,null,"Total Sequences in Data",{"$f":"4994-COUNTBLANK(L7:L5000)","v":135},null,null,null,null,"Total Sequences in Block Data",{"$f":"COUNTA(L7:L29)","v":23},null,null,null,"Total Sequences in Block Data",{"$f":"COUNTA(L30:L51)","v":22},null,null,null,"Total Sequences in Block Data",{"$f":"COUNTA(L52:L74)","v":23},null,null,null,"Total Sequences in Block Data",{"$f":"COUNTA(L75:L96)","v":22},null,null,null,"Total Sequences in Block Data",{"$f":"COUNTA(L97:L119)","v":23},null,null,null,"Total Sequences in Block Data",{"$f":"COUNTA(L120:L141)","v":22}]
["Program",0,null,null,null,null,null,null,null,null,null,null,null,null,null,"Total Sequences in Summary",{"$f":"SUM(O7:O14)","v":135},null,null,null,null,"Total Sequences in Block Summary",{"$f":"SUM(U7:U14)","v":23},null,null,null,"Total Sequences in Block Summary",{"$f":"SUM(Z7:Z14)","v":22},null,null,null,"Total Sequences in Block Summary",{"$f":"SUM(AE7:AE14)","v":23},null,null,null,"Total Sequences in Block Summary",{"$f":"SUM(AJ7:AJ14)","v":22},null,null,null,"Total Sequences in Block Summary",{"$f":"SUM(AO7:AO14)","v":23},null,null,null,"Total Sequences in Block Summary",{"$f":"SUM(AT7:AT14)","v":22}]
[null,null,null,null,null,null,null,null,null,null,null,null,null,null,null,null,null,null,null,"Block 1",null,null,null,null,"Block 2",null,null,null,null,"Block 3",null,null,null,null,"Block 4",null,null,null,null,"Block 5",null,null,null,null,"Block 6"]
["Sequence\nComponent\n1","Time\n1","Sequence\nComponent\n2","Time\n2","Sequence\nComponent\n3","Time\n3","Sequence\nComponent\n4","Time\n4","Sequence\nComponent\n5","Time\n5","Correct?\n0=No 1=Yes","Sequence",null,"Frequency",null,"Relative Frequency","Variability",null,null,"Frequency",null,"Relative Frequency","Variability",null,"Frequency",null,"Relative Frequency","Variability",null,"Frequency",null,"Relative Frequency","Variability",null,"Frequency",null,"Relative Frequency","Variability",null,"Frequency",null,"Relative Frequency","Variability",null,"Frequency",null,"Relative Frequency","Variability"]
[12,34,24,70,13,97,null,null,null,null,0,121,null,111,{"$f":"COUNTIF($L$7:$L$500,N7)","v":62},{"$f":"O7/$Q$4","v":0.45925925925925926},{"$f":"IF(P7=0,0,(P7*((LOG(P7))/LOG(2))))","v":-0.51557330202344631},null,null,{"$f":"N7","v":111},{"$f":"COUNTIF(L7:L29,T7)","v":7},{"$f":"U7/(W4-U11)","v":0.35},{"$f":"IF(V7=0,0,(V7*((LOG(V7))/LOG(2))))","v":-0.53010061049041535},null,{"$f":"N7","v":111},{"$f":"COUNTIF(L30:L51,Y7)","v":8},{"$f":"Z7/(AB4-Z11)","v":0.5},{"$f":"IF(AA7=0,0,(AA7*((LOG(AA7))/LOG(2))))","v":-0.5},null,{"$f":"N7","v":111},{"$f":"COUNTIF(L52:L74,AD7)","v":11},{"$f":"AE7/(AG4-AE11)","v":0.6875},{"$f":"IF(AF7=0,0,(AF7*((LOG(AF7))/LOG(2))))","v":-0.3716407621868581},null,{"$f":"N7","v":111},{"$f":"COUNTIF(L75:L96,AI7)","v":10},{"$f":"AJ7/(AL4-AJ11)","v":0.7142857142857143},{"$f":"IF(AK7=0,0,(AK7*((LOG(AK7))/LOG(2))))","v":-0.34673344797874411},null,{"$f":"N7","v":111},{"$f":"COUNTIF(L97:L119,AN7)","v":13},{"$f":"AO7/(AQ4-AO11)","v":0.72222222222222221},{"$f":"IF(AP7=0,0,(AP7*((LOG(AP7))/LOG(2))))","v":-0.33907270460643685},null,{"$f":"N7","v":111},{"$f":"COUNTIF(L120:L141,AS7)","v":13},{"$f":"AT7/(AV4-AT11)","v":0.9285714285714286},{"$f":"IF(AU7=0,0,(AU7*((LOG(AU7))/LOG(2))))","v":-9.9278403636761048E-2}]
[12,205,24,217,24,225,null,null,null,null,0,122,null,112,{"$f":"COUNTIF($L$7:$L$500,N8)","v":3},{"$f":"O8/$Q$4","v":2.2222222222222223E-2},{"$f":"IF(P8=0,0,(P8*((LOG(P8))/LOG(2))))","v":-0.12204117991843723},null,null,{"$f":"N8","v":112},{"$f":"COUNTIF(L7:L29,T8)","v":1},{"$f":"U8/(W4-U11)","v":0.05},{"$f":"IF(V8=0,0,(V8*((LOG(V8))/LOG(2))))","v":-0.21609640474436814},null,{"$f":"N8","v":112},{"$f":"COUNTIF(L30:L51,Y8)","v":0},{"$f":"Z8/(AB4-Z11)","v":0},{"$f":"IF(AA8=0,0,(AA8*((LOG(AA8))/LOG(2))))","v":0},null,{"$f":"N8","v":112},{"$f":"COUNTIF(L52:L74,AD8)","v":1},{"$f":"AE8/(AG4-AE11)","v":6.25E-2},{"$f":"IF(AF8=0,0,(AF8*((LOG(AF8))/LOG(2))))","v":-0.25},null,{"$f":"N8","v":112},{"$f":"COUNTIF(L75:L96,AI8)","v":0},{"$f":"AJ8/(AL4-AJ11)","v":0},{"$f":"IF(AK8=0,0,(AK8*((LOG(AK8))/LOG(2))))","v":0},null,{"$f":"N8","v":112},{"$f":"COUNTIF(L97:L119,AN8)","v":1},{"$f":"AO8/(AQ4-AO11)","v":5.5555555555555552E-2},{"$f":"IF(AP8=0,0,(AP8*((LOG(AP8))/LOG(2))))","v":-0.23166250008012845},null,{"$f":"N8","v":112},{"$f":"COUNTIF(L120:L141,AS8)","v":0},{"$f":"AT8/(AV4-AT11)","v":0},{"$f":"IF(AU8=0,0,(AU8*((LOG(AU8))/LOG(2))))","v":0}]
[21,329,22,352,24,360,null,null,null,null,0,222,null,121,{"$f":"COUNTIF($L$7:$L$500,N9)","v":11},{"$f":"O9/$Q$4","v":8.1481481481481488E-2},{"$f":"IF(P9=0,0,(P9*((LOG(P9))/LOG(2))))","v":-0.29474980564851011},null,null,{"$f":"N9","v":121},{"$f":"COUNTIF(L7:L29,T9)","v":3},{"$f":"U9/(W4-U11)","v":0.15},{"$f":"IF(V9=0,0,(V9*((LOG(V9))/LOG(2))))","v":-0.41054483912493089},null,{"$f":"N9","v":121},{"$f":"COUNTIF(L30:L51,Y9)","v":3},{"$f":"Z9/(AB4-Z11)","v":0.1875},{"$f":"IF(AA9=0,0,(AA9*((LOG(AA9))/LOG(2))))","v":-0.45281953111478312},null,{"$f":"N9","v":121},{"$f":"COUNTIF(L52:L74,AD9)","v":2},{"$f":"AE9/(AG4-AE11)","v":0.125},{"$f":"IF(AF9=0,0,(AF9*((LOG(AF9))/LOG(2))))","v":-0.375},null,{"$f":"N9","v":121},{"$f":"COUNTIF(L75:L96,AI9)","v":1},{"$f":"AJ9/(AL4-AJ11)","v":7.1428571428571425E-2},{"$f":"IF(AK9=0,0,(AK9*((LOG(AK9))/LOG(2))))","v":-0.27195392300411453},null,{"$f":"N9","v":121},{"$f":"COUNTIF(L97:L119,AN9)","v":2},{"$f":"AO9/(AQ4-AO11)","v":0.1111111111111111},{"$f":"IF(AP9=0,0,(AP9*((LOG(AP9))/LOG(2))))","v":-0.3522138890491458},null,{"$f":"N9","v":121},{"$f":"COUNTIF(L120:L141,AS9)","v":0},{"$f":"AT9/(AV4-AT11)","v":0},{"$f":"IF(AU9=0,0,(AU9*((LOG(AU9))/LOG(2))))","v":0}]
[21,472,22,496,13,511,null,null,null,null,0,221,null,122,{"$f":"COUNTIF($L$7:$L$500,N10)","v":8},{"$f":"O10/$Q$4","v":5.9259259259259262E-2},{"$f":"IF(P10=0,0,(P10*((LOG(P10))/LOG(2))))","v":-0.24158907241782701},null,null,{"$f":"N10","v":122},{"$f":"COUNTIF(L7:L29,T10)","v":3},{"$f":"U10/(W4-U11)","v":0.15},{"$f":"IF(V10=0,0,(V10*((LOG(V10))/LOG(2))))","v":-0.41054483912493089},null,{"$f":"N10","v":122},{"$f":"COUNTIF(L30:L51,Y10)","v":3},{"$f":"Z10/(AB4-Z11)","v":0.1875},{"$f":"IF(AA10=0,0,(AA10*((LOG(AA10))/LOG(2))))","v":-0.45281953111478312},null,{"$f":"N10","v":122},{"$f":"COUNTIF(L52:L74,AD10)","v":0},{"$f":"AE10/(AG4-AE11)","v":0},{"$f":"IF(AF10=0,0,(AF10*((LOG(AF10))/LOG(2))))","v":0},null,{"$f":"N10","v":122},{"$f":"COUNTIF(L75:L96,AI10)","v":2},{"$f":"AJ10/(AL4-AJ11)","v":0.14285714285714285},{"$f":"IF(AK10=0,0,(AK10*((LOG(AK10))/LOG(2))))","v":-0.40105070315108626},null,{"$f":"N10","v":122},{"$f":"COUNTIF(L97:L119,AN10)","v":0},{"$f":"AO10/(AQ4-AO11)","v":0},{"$f":"IF(AP10=0,0,(AP10*((LOG(AP10))/LOG(2))))","v":0},null,{"$f":"N10","v":122},{"$f":"COUNTIF(L120:L141,AS10)","v":0},{"$f":"AT10/(AV4-AT11)","v":0},{"$f":"IF(AU10=0,0,(AU10*((LOG(AU10))/LOG(2))))","v":0}]
[21,625,22,633,24,641,null,null,null,null,0,222,null,211,{"$f":"COUNTIF($L$7:$L$500,N11)","v":37},{"$f":"O11/$Q$4","v":0.27407407407407408},{"$f":"IF(P11=0,0,(P11*((LOG(P11))/LOG(2))))","v":-0.51179557453784896},null,null,{"$f":"N11","v":211},{"$f":"COUNTIF(L7:L29,T11)","v":3},null,null,null,{"$f":"N11","v":211},{"$f":"COUNTIF(L30:L51,Y11)","v":6},null,null,null,{"$f":"N11","v":211},{"$f":"COUNTIF(L52:L74,AD11)","v":7},null,null,null,{"$f":"N11","v":211},{"$f":"COUNTIF(L75:L96,AI11)","v":8},null,null,null,{"$f":"N11","v":211},{"$f":"COUNTIF(L97:L119,AN11)","v":5},null,null,null,{"$f":"N11","v":211},{"$f":"COUNTIF(L120:L141,AS11)","v":8}]
[12,744,24,757,24,766,null,null,null,null,0,122,null,212,{"$f":"COUNTIF($L$7:$L$500,N12)","v":5},{"$f":"O12/$Q$4","v":3.7037037037037035E-2},{"$f":"IF(P12=0,0,(P12*((LOG(P12))/LOG(2))))","v":-0.1761069445245729},null,null,{"$f":"N12","v":212},{"$f":"COUNTIF(L7:L29,T12)","v":1},{"$f":"U12/(W4-U11)","v":0.05},{"$f":"IF(V12=0,0,(V12*((LOG(V12))/LOG(2))))","v":-0.21609640474436814},null,{"$f":"N12","v":212},{"$f":"COUNTIF(L30:L51,Y12)","v":0},{"$f":"Z12/(AB4-Z11)","v":0},{"$f":"IF(AA12=0,0,(AA12*((LOG(AA12))/LOG(2))))","v":0},null,{"$f":"N12","v":212},{"$f":"COUNTIF(L52:L74,AD12)","v":1},{"$f":"AE12/(AG4-AE11)","v":6.25E-2},{"$f":"IF(AF12=0,0,(AF12*((LOG(AF12))/LOG(2))))","v":-0.25},null,{"$f":"N12","v":212},{"$f":"COUNTIF(L75:L96,AI12)","v":1},{"$f":"AJ12/(AL4-AJ11)","v":7.1428571428571425E-2},{"$f":"IF(AK12=0,0,(AK12*((LOG(AK12))/LOG(2))))","v":-0.27195392300411453},null,{"$f":"N12","v":212},{"$f":"COUNTIF(L97:L119,AN12)","v":1},{"$f":"AO12/(AQ4-AO11)","v":5.5555555555555552E-2},{"$f":"IF(AP12=0,0,(AP12*((LOG(AP12))/LOG(2))))","v":-0.23166250008012845},null,{"$f":"N12","v":212},{"$f":"COUNTIF(L120:L141,AS12)","v":1},{"$f":"AT12/(AV4-AT11)","v":7.1428571428571425E-2},{"$f":"IF(AU12=0,0,(AU12*((LOG(AU12))/LOG(2))))","v":-0.27195392300411453}]
[21,872,11,896,22,917,null,null,null,null,0,212,null,221,{"$f":"COUNTIF($L$7:$L$500,N13)","v":6},{"$f":"O13/$Q$4","v":4.4444444444444446E-2},{"$f":"IF(P13=0,0,(P13*((LOG(P13))/LOG(2))))","v":-0.19963791539243},null,null,{"$f":"N13","v":221},{"$f":"COUNTIF(L7:L29,T13)","v":3},{"$f":"U13/(W4-U11)","v":0.15},{"$f":"IF(V13=0,0,(V13*((LOG(V13))/LOG(2))))","v":-0.41054483912493089},null,{"$f":"N13","v":221},{"$f":"COUNTIF(L30:L51,Y13)","v":2},{"$f":"Z13/(AB4-Z11)","v":0.125},{"$f":"IF(AA13=0,0,(AA13*((LOG(AA13))/LOG(2))))","v":-0.375},null,{"$f":"N13","v":221},{"$f":"COUNTIF(L52:L74,AD13)","v":1},{"$f":"AE13/(AG4-AE11)","v":6.25E-2},{"$f":"IF(AF13=0,0,(AF13*((LOG(AF13))/LOG(2))))","v":-0.25},null,{"$f":"N13","v":221},{"$f":"COUNTIF(L75:L96,AI13)","v":0},{"$f":"AJ13/(AL4-AJ11)","v":0},{"$f":"IF(AK13=0,0,(AK13*((LOG(AK13))/LOG(2))))","v":0},null,{"$f":"N13","v":221},{"$f":"COUNTIF(L97:L119,AN13)","v":0},{"$f":"AO13/(AQ4-AO11)","v":0},{"$f":"IF(AP13=0,0,(AP13*((LOG(AP13))/LOG(2))))","v":0},null,{"$f":"N13","v":221},{"$f":"COUNTIF(L120:L141,AS13)","v":0},{"$f":"AT13/(AV4-AT11)","v":0},{"$f":"IF(AU13=0,0,(AU13*((LOG(AU13))/LOG(2))))","v":0}]
[21,1033,22,1038,13,1063,null,null,null,null,0,221,null,222,{"$f":"COUNTIF($L$7:$L$500,N14)","v":3},{"$f":"O14/$Q$4","v":2.2222222222222223E-2},{"$f":"IF(P14=0,0,(P14*((LOG(P14))/LOG(2))))","v":-0.12204117991843723},null,null,{"$f":"N14","v":222},{"$f":"COUNTIF(L7:L29,T14)","v":2},{"$f":"U14/(W4-U11)","v":0.1},{"$f":"IF(V14=0,0,(V14*((LOG(V14))/LOG(2))))","v":-0.33219280948873625},null,{"$f":"N14","v":222},{"$f":"COUNTIF(L30:L51,Y14)","v":0},{"$f":"Z14/(AB4-Z11)","v":0},{"$f":"IF(AA14=0,0,(AA14*((LOG(AA14))/LOG(2))))","v":0},null,{"$f":"N14","v":222},{"$f":"COUNTIF(L52:L74,AD14)","v":0},{"$f":"AE14/(AG4-AE11)","v":0},{"$f":"IF(AF14=0,0,(AF14*((LOG(AF14))/LOG(2))))","v":0},null,{"$f":"N14","v":222},{"$f":"COUNTIF(L75:L96,AI14)","v":0},{"$f":"AJ14/(AL4-AJ11)","v":0},{"$f":"IF(AK14=0,0,(AK14*((LOG(AK14))/LOG(2))))","v":0},null,{"$f":"N14","v":222},{"$f":"COUNTIF(L97:L119,AN14)","v":1},{"$f":"AO14/(AQ4-AO11)","v":5.5555555555555552E-2},{"$f":"IF(AP14=0,0,(AP14*((LOG(AP14))/LOG(2))))","v":-0.23166250008012845},null,{"$f":"N14","v":222},{"$f":"COUNTIF(L120:L141,AS14)","v":0},{"$f":"AT14/(AV4-AT11)","v":0},{"$f":"IF(AU14=0,0,(AU14*((LOG(AU14))/LOG(2))))","v":0}]
[12,1204,24,1222,13,1244,null,null,null,null,0,121,null,null,null,{"$f":"SUM(P7:P14)","v":0.99999999999999978},{"$f":"-SUM(Q7:Q14)","v":2.18353497438151},null,null,null,null,{"$f":"SUM(V7:V14)","v":1},{"$f":"-SUM(W7:W14)","v":2.5261207468426803},null,null,null,{"$f":"SUM(AA7:AA14)","v":1},{"$f":"-SUM(AB7:AB14)","v":1.7806390622295662},null,null,null,{"$f":"SUM(AF7:AF14)","v":1},{"$f":"-SUM(AG7:AG14)","v":1.496640762186858},null,null,null,{"$f":"SUM(AK7:AK14)","v":1},{"$f":"-SUM(AL7:AL14)","v":1.2916919971380596},null,null,null,{"$f":"SUM(AP7:AP14)","v":1},{"$f":"-SUM(AQ7:AQ14)","v":1.3862740938959679},null,null,null,{"$f":"SUM(AU7:AU14)","v":1},{"$f":"-SUM(AV7:AV14)","v":0.37123232664087558}]
[12,1376,24,1389,24,1395,null,null,null,null,0,122,null,null,null,"U=",{"$f":"Q15/(LOG(Q4)/LOG(2))","v":0.30854767153908452},null,null,null,null,"U1=",{"$f":"W15/(LOG(W4)/LOG(2))","v":0.55843619947776435},null,null,null,"U2=",{"$f":"AB15/(LOG(AB4)/LOG(2))","v":0.3992973128655552},null,null,null,"U3=",{"$f":"AG15/(LOG(AG4)/LOG(2))","v":0.33085448518790994},null,null,null,"U4=",{"$f":"AL15/(LOG(AL4)/LOG(2))","v":0.28965395314947601},null,null,null,"U5=",{"$f":"AQ15/(LOG(AQ4)/LOG(2))","v":0.30645630752105829},null,null,null,"U6=",{"$f":"AV15/(LOG(AV4)/LOG(2))","v":8.3246556599138044E-2}]
[21,1511,22,1520,13,1542,null,null,null,null,0,221]
[21,1676,11,1703,11,1718,null,null,null,null,0,211]
[21,1833,11,1853,11,1861,null,null,null,null,0,211,null,"Total Target Seq"]
[12,1963,13,2007,13,2020,null,null,null,null,0,111,null,{"$f":"COUNTIF(L7:L141,G3)","v":37},null,23,22,23,22,23,22]
[12,2134,13,2139,13,2151,null,null,null,null,0,111,null,null,null,"% of reinforcement given in 6 equal intervals based on number of trials "]
[21,2268,11,2306,11,2326,null,null,null,null,0,211,null,null,null,"%_1","%_2","%_3","%_4","%_5","%_6"]
[12,2481,13,2500,13,2526,null,null,null,null,0,111,null,null,"target sequence",{"$f":"$G$3","v":211},{"$f":"$G$3","v":211},{"$f":"$G$3","v":211},{"$f":"$G$3","v":211},{"$f":"$G$3","v":211},{"$f":"$G$3","v":211}]
[12,2627,13,2651,13,2667,null,null,null,null,0,111,null,null,"total reinforcement",{"$f":"U11","v":3},{"$f":"Z11","v":6},{"$f":"AE11","v":7},{"$f":"AJ11","v":8},{"$f":"AO11","v":5},{"$f":"AT11","v":8}]
[12,2796,13,2804,13,2816,null,null,null,null,0,111,null,null,"% target"]
[12,2918,13,2943,24,2957,null,null,null,null,0,112,null,null,"CCRF"]
[12,3074,24,3081,13,3099,null,null,null,null,0,121,null,null,"% CCRf"]
[12,3204,13,3229,13,3239,null,null,null,null,0,111,null,null,"average response rate",{"$f":"F29/P20","v":148.65217391304347},{"$f":"(F51-F29)/Q20","v":158.40909090909091},{"$f":"(F74-F51)/R20","v":159.78260869565219},{"$f":"(F96-F74)/S20","v":147.59090909090909},{"$f":"(F119-F96)/T20","v":145.82608695652175},{"$f":"(F141-F119)/U20","v":157.72727272727272}]
[12,3365,13,3380,13,3419,null,null,null,null,0,111]
[21,3528,22,3534,13,3568,null,null,null,null,0,221]
[12,3714,13,3731,13,3733,null,null,null,null,0,111]
[12,3871,24,3882,24,3898,null,null,null,null,0,122]
[21,4021,11,4054,11,4073,null,null,null,null,0,211]
[21,4220,11,4250,11,4264,null,null,null,null,0,211]
[12,4413,13,4439,13,4465,null,null,null,null,0,111]
[12,4581,13,4594,13,4608,null,null,null,null,0,111]
[21,4721,11,4746,11,4762,null,null,null,null,0,211]
[21,4891,11,4912,11,4925,null,null,null,null,0,211]
[21,5038,11,5070,11,5087,null,null,null,null,0,211]
[21,5202,11,5221,11,5237,null,null,null,null,0,211]
[12,5388,13,5401,13,5403,null,null,null,null,0,111]
[12,5501,13,5522,13,5530,null,null,null,null,0,111]
[12,5628,24,5639,13,5657,null,null,null,null,0,121]
[12,5817,13,5836,13,5849,null,null,null,null,0,111]
[12,5948,13,5974,13,6001,null,null,null,null,0,111]
[12,6101,24,6111,13,6151,null,null,null,null,0,121]
[12,6249,24,6259,13,6285,null,null,null,null,0,121]
[12,6416,24,6429,24,6437,null,null,null,null,0,122]
[21,6573,22,6580,13,6602,null,null,null,null,0,221]
[12,6705,24,6713,24,6743,null,null,null,null,0,122]
[12,6867,13,6886,13,6904,null,null,null,null,0,111]
[21,7015,11,7048,11,7057,null,null,null,null,0,211]
[12,7171,13,7190,13,7207,null,null,null,null,0,111]
[12,7375,13,7402,13,7411,null,null,null,null,0,111]
[12,7534,24,7547,13,7570,null,null,null,null,0,121]
[12,7693,13,7721,13,7733,null,null,null,null,0,111]
[21,7836,11,7849,11,7860,null,null,null,null,0,211]
[12,7981,13,7992,13,8003,null,null,null,null,0,111]
[12,8125,13,8136,13,8149,null,null,null,null,0,111]
[21,8258,11,8285,11,8301,null,null,null,null,0,211]
[12,8502,13,8515,13,8531,null,null,null,null,0,111]
[12,8644,13,8652,13,8663,null,null,null,null,0,111]
[21,8771,11,8792,11,8807,null,null,null,null,0,211]
[12,8990,13,9002,13,9010,null,null,null,null,0,111]
[12,9107,13,9156,13,9186,null,null,null,null,0,111]
[12,9311,13,9328,13,9364,null,null,null,null,0,111]
[12,9498,13,9507,24,9519,null,null,null,null,0,112]
[21,9633,22,9638,13,9665,null,null,null,null,0,221]
[21,9772,11,9792,11,9814,null,null,null,null,0,211]
[12,9912,24,9958,13,9980,null,null,null,null,0,121]
[21,10091,11,10105,22,10116,null,null,null,null,0,212]
[21,10224,11,10251,11,10259,null,null,null,null,0,211]
[12,10397,13,10421,13,10433,null,null,null,null,0,111]
[21,10537,11,10568,11,10579,null,null,null,null,0,211]
[21,10696,11,10709,11,10725,null,null,null,null,0,211]
[12,10883,13,10895,13,10907,null,null,null,null,0,111]
[21,11033,11,11051,22,11061,null,null,null,null,0,212]
[12,11175,13,11183,13,11191,null,null,null,null,0,111]
[12,11297,24,11307,24,11313,null,null,null,null,0,122]
[21,11423,11,11433,11,11450,null,null,null,null,0,211]
[21,11549,11,11578,11,11590,null,null,null,null,0,211]
[12,11736,13,11765,13,11773,null,null,null,null,0,111]
[12,11896,13,11917,13,11930,null,null,null,null,0,111]
[12,12043,13,12059,13,12061,null,null,null,null,0,111]
[21,12167,11,12184,11,12196,null,null,null,null,0,211]
[12,12293,24,12305,13,12335,null,null,null,null,0,121]
[21,12445,11,12458,11,12467,null,null,null,null,0,211]
[12,12589,24,12600,24,12605,null,null,null,null,0,122]
[21,12711,11,12721,11,12729,null,null,null,null,0,211]
[12,12881,13,12890,13,12906,null,null,null,null,0,111]
[12,13041,13,13048,13,13060,null,null,null,null,0,111]
[12,13164,13,13186,13,13199,null,null,null,null,0,111]
[21,13303,11,13321,11,13328,null,null,null,null,0,211]
[21,13480,11,13515,11,13541,null,null,null,null,0,211]
[12,13650,13,13667,13,13675,null,null,null,null,0,111]
[12,13789,13,13819,13,13826,null,null,null,null,0,111]
[12,13935,13,13937,13,13954,null,null,null,null,0,111]
[21,14063,11,14083,11,14091,null,null,null,null,0,211]
[12,14257,24,14269,13,14284,null,null,null,null,0,121]
[12,14397,13,14411,13,14423,null,null,null,null,0,111]
[12,14522,13,14545,13,14553,null,null,null,null,0,111]
[12,14656,13,14694,13,14702,null,null,null,null,0,111]
[12,14800,13,14802,13,14829,null,null,null,null,0,111]
[12,14927,13,14949,13,14961,null,null,null,null,0,111]
[21,15071,11,15095,11,15148,null,null,null,null,0,211]
[12,15267,13,15276,24,15304,null,null,null,null,0,112]
[21,15409,11,15420,22,15428,null,null,null,null,0,212]
[12,15526,13,15531,13,15562,null,null,null,null,0,111]
[21,15673,11,15693,11,15699,null,null,null,null,0,211]
[12,15811,13,15821,13,15829,null,null,null,null,0,111]
[12,15945,13,15970,13,15981,null,null,null,null,0,111]
[12,16080,13,16112,13,16123,null,null,null,null,0,111]
[21,16233,11,16259,11,16266,null,null,null,null,0,211]
[12,16426,13,16451,13,16462,null,null,null,null,0,111]
[12,16564,13,16578,13,16587,null,null,null,null,0,111]
[21,16696,11,16726,11,16738,null,null,null,null,0,211]
[12,16858,24,16883,13,16903,null,null,null,null,0,121]
[12,17024,13,17037,13,17051,null,null,null,null,0,111]
[21,17167,22,17173,24,17180,null,null,null,null,0,222]
[21,17285,11,17320,11,17327,null,null,null,null,0,211]
[12,17477,13,17497,13,17506,null,null,null,null,0,111]
[12,17634,13,17648,13,17669,null,null,null,null,0,111]
[12,17838,13,17848,13,17856,null,null,null,null,0,111]
[12,18001,13,18008,13,18016,null,null,null,null,0,111]
[21,18122,11,18135,11,18142,null,null,null,null,0,211]
[12,18279,13,18286,13,18295,null,null,null,null,0,111]
[12,18440,13,18451,13,18464,null,null,null,null,0,111]
[12,18590,13,18598,13,18606,null,null,null,null,0,111]
[21,18734,11,18745,22,18754,null,null,null,null,0,212]
[21,18860,11,18881,11,18889,null,null,null,null,0,211]
[12,19032,13,19043,13,19051,null,null,null,null,0,111]
[21,19178,11,19197,11,19205,null,null,null,null,0,211]
[12,19358,13,19363,13,19372,null,null,null,null,0,111]
[21,19475,11,19491,11,19499,null,null,null,null,0,211]
[12,19664,13,19693,13,19705,null,null,null,null,0,111]
[12,19840,13,19855,13,19867,null,null,null,null,0,111]
[21,20009,11,20037,11,20056,null,null,null,null,0,211]
[12,20187,13,20207,13,20226,null,null,null,null,0,111]
[21,20334,11,20367,11,20371,null,null,null,null,0,211]
[12,20496,13,20505,13,20513,null,null,null,null,0,111]
[21,20617,11,20642,11,20650,null,null,null,null,1,211]

{"sheet":"!2011-06-05_10h17m.Subject 53","index":13,"n_rows":115,"n_cols":48,"rows_kept":115,"cut":false,"hidden":false,"merged":[[4,39,4,42],[5,39,5,40],[4,44,4,47],[5,44,5,45],[4,24,4,27],[5,24,5,25],[4,29,4,32],[5,29,5,30],[4,34,4,37],[5,34,5,35],[1,1,1,2],[5,13,5,14],[18,13,18,14],[19,13,19,14],[4,19,4,22],[5,19,5,20]]}
["Report for:!2011-06-05_10h17m.Subject 53"]
["Date","2011-06-05",null,null,null,"Group",0]
["Hen",53,null,null,null,"Correct Sequence",{"$f":"Start!J2","v":211},null,null,null,null,null,null,null,null,"Total Sequences in Data",{"$f":"4994-COUNTBLANK(L7:L5000)","v":109},null,null,null,null,"Total Sequences in Block Data",{"$f":"COUNTA(L7:L24)","v":18},null,null,null,"Total Sequences in Block Data",{"$f":"COUNTA(L25:L42)","v":18},null,null,null,"Total Sequences in Block Data",{"$f":"COUNTA(L43:L61)","v":19},null,null,null,"Total Sequences in Block Data",{"$f":"COUNTA(L62:L79)","v":18},null,null,null,"Total Sequences in Block Data",{"$f":"COUNTA(L80:L97)","v":18},null,null,null,"Total Sequences in Block Data",{"$f":"COUNTA(L98:L115)","v":18}]
["Program",0,null,null,null,null,null,null,null,null,null,null,null,null,null,"Total Sequences in Summary",{"$f":"SUM(O7:O14)","v":109},null,null,null,null,"Total Sequences in Block Summary",{"$f":"SUM(U7:U14)","v":18},null,null,null,"Total Sequences in Block Summary",{"$f":"SUM(Z7:Z14)","v":18},null,null,null,"Total Sequences in Block Summary",{"$f":"SUM(AE7:AE14)","v":19},null,null,null,"Total Sequences in Block Summary",{"$f":"SUM(AJ7:AJ14)","v":18},null,null,null,"Total Sequences in Block Summary",{"$f":"SUM(AO7:AO14)","v":18},null,null,null,"Total Sequences in Block Summary",{"$f":"SUM(AT7:AT14)","v":18}]
[null,null,null,null,null,null,null,null,null,null,null,null,null,null,null,null,null,null,null,"Block 1",null,null,null,null,"Block 2",null,null,null,null,"Block 3",null,null,null,null,"Block 4",null,null,null,null,"Block 5",null,null,null,null,"Block 6"]
["Sequence\nComponent\n1","Time\n1","Sequence\nComponent\n2","Time\n2","Sequence\nComponent\n3","Time\n3","Sequence\nComponent\n4","Time\n4","Sequence\nComponent\n5","Time\n5","Correct?\n0=No 1=Yes","Sequence",null,"Frequency",null,"Relative Frequency","Variability",null,null,"Frequency",null,"Relative Frequency","Variability",null,"Frequency",null,"Relative Frequency","Variability",null,"Frequency",null,"Relative Frequency","Variability",null,"Frequency",null,"Relative Frequency","Variability",null,"Frequency",null,"Relative Frequency","Variability",null,"Frequency",null,"Relative Frequency","Variability"]
[21,21,11,56,11,57,null,null,null,null,0,211,null,111,{"$f":"COUNTIF($L$7:$L$500,N7)","v":34},{"$f":"O7/$Q$4","v":0.31192660550458717},{"$f":"IF(P7=0,0,(P7*((LOG(P7))/LOG(2))))","v":-0.52426174715508211},null,null,{"$f":"N7","v":111},{"$f":"COUNTIF(L7:L24,T7)","v":6},{"$f":"U7/(W4-U11)","v":0.66666666666666663},{"$f":"IF(V7=0,0,(V7*((LOG(V7))/LOG(2))))","v":-0.38997500048077083},null,{"$f":"N7","v":111},{"$f":"COUNTIF(L25:L42,Y7)","v":10},{"$f":"Z7/(AB4-Z11)","v":0.76923076923076927},{"$f":"IF(AA7=0,0,(AA7*((LOG(AA7))/LOG(2))))","v":-0.29116278711825366},null,{"$f":"N7","v":111},{"$f":"COUNTIF(L43:L61,AD7)","v":7},{"$f":"AE7/(AG4-AE11)","v":0.53846153846153844},{"$f":"IF(AF7=0,0,(AF7*((LOG(AF7))/LOG(2))))","v":-0.48089181327572433},null,{"$f":"N7","v":111},{"$f":"COUNTIF(L62:L79,AI7)","v":6},{"$f":"AJ7/(AL4-AJ11)","v":0.46153846153846156},{"$f":"IF(AK7=0,0,(AK7*((LOG(AK7))/LOG(2))))","v":-0.51483563880920125},null,{"$f":"N7","v":111},{"$f":"COUNTIF(L80:L97,AN7)","v":4},{"$f":"AO7/(AQ4-AO11)","v":0.26666666666666666},{"$f":"IF(AP7=0,0,(AP7*((LOG(AP7))/LOG(2))))","v":-0.50850415882893829},null,{"$f":"N7","v":111},{"$f":"COUNTIF(L98:L115,AS7)","v":1},{"$f":"AT7/(AV4-AT11)","v":9.0909090909090912E-2},{"$f":"IF(AU7=0,0,(AU7*((LOG(AU7))/LOG(2))))","v":-0.31449378351248153}]
[12,179,24,189,13,204,null,null,null,null,0,121,null,112,{"$f":"COUNTIF($L$7:$L$500,N8)","v":6},{"$f":"O8/$Q$4","v":5.5045871559633031E-2},{"$f":"IF(P8=0,0,(P8*((LOG(P8))/LOG(2))))","v":-0.23026909123242773},null,null,{"$f":"N8","v":112},{"$f":"COUNTIF(L7:L24,T8)","v":0},{"$f":"U8/(W4-U11)","v":0},{"$f":"IF(V8=0,0,(V8*((LOG(V8))/LOG(2))))","v":0},null,{"$f":"N8","v":112},{"$f":"COUNTIF(L25:L42,Y8)","v":1},{"$f":"Z8/(AB4-Z11)","v":7.6923076923076927E-2},{"$f":"IF(AA8=0,0,(AA8*((LOG(AA8))/LOG(2))))","v":-0.28464920908777636},null,{"$f":"N8","v":112},{"$f":"COUNTIF(L43:L61,AD8)","v":1},{"$f":"AE8/(AG4-AE11)","v":7.6923076923076927E-2},{"$f":"IF(AF8=0,0,(AF8*((LOG(AF8))/LOG(2))))","v":-0.28464920908777636},null,{"$f":"N8","v":112},{"$f":"COUNTIF(L62:L79,AI8)","v":1},{"$f":"AJ8/(AL4-AJ11)","v":7.6923076923076927E-2},{"$f":"IF(AK8=0,0,(AK8*((LOG(AK8))/LOG(2))))","v":-0.28464920908777636},null,{"$f":"N8","v":112},{"$f":"COUNTIF(L80:L97,AN8)","v":2},{"$f":"AO8/(AQ4-AO11)","v":0.13333333333333333},{"$f":"IF(AP8=0,0,(AP8*((LOG(AP8))/LOG(2))))","v":-0.3875854127478025},null,{"$f":"N8","v":112},{"$f":"COUNTIF(L98:L115,AS8)","v":1},{"$f":"AT8/(AV4-AT11)","v":9.0909090909090912E-2},{"$f":"IF(AU8=0,0,(AU8*((LOG(AU8))/LOG(2))))","v":-0.31449378351248153}]
[21,322,11,374,11,390,null,null,null,null,0,211,null,121,{"$f":"COUNTIF($L$7:$L$500,N9)","v":15},{"$f":"O9/$Q$4","v":0.13761467889908258},{"$f":"IF(P9=0,0,(P9*((LOG(P9))/LOG(2))))","v":-0.39375601777546898},null,null,{"$f":"N9","v":121},{"$f":"COUNTIF(L7:L24,T9)","v":1},{"$f":"U9/(W4-U11)","v":0.1111111111111111},{"$f":"IF(V9=0,0,(V9*((LOG(V9))/LOG(2))))","v":-0.3522138890491458},null,{"$f":"N9","v":121},{"$f":"COUNTIF(L25:L42,Y9)","v":1},{"$f":"Z9/(AB4-Z11)","v":7.6923076923076927E-2},{"$f":"IF(AA9=0,0,(AA9*((LOG(AA9))/LOG(2))))","v":-0.28464920908777636},null,{"$f":"N9","v":121},{"$f":"COUNTIF(L43:L61,AD9)","v":3},{"$f":"AE9/(AG4-AE11)","v":0.23076923076923078},{"$f":"IF(AF9=0,0,(AF9*((LOG(AF9))/LOG(2))))","v":-0.48818705017383146},null,{"$f":"N9","v":121},{"$f":"COUNTIF(L62:L79,AI9)","v":1},{"$f":"AJ9/(AL4-AJ11)","v":7.6923076923076927E-2},{"$f":"IF(AK9=0,0,(AK9*((LOG(AK9))/LOG(2))))","v":-0.28464920908777636},null,{"$f":"N9","v":121},{"$f":"COUNTIF(L80:L97,AN9)","v":6},{"$f":"AO9/(AQ4-AO11)","v":0.4},{"$f":"IF(AP9=0,0,(AP9*((LOG(AP9))/LOG(2))))","v":-0.52877123795494496},null,{"$f":"N9","v":121},{"$f":"COUNTIF(L98:L115,AS9)","v":3},{"$f":"AT9/(AV4-AT11)","v":0.27272727272727271},{"$f":"IF(AU9=0,0,(AU9*((LOG(AU9))/LOG(2))))","v":-0.51121885034076575}]
[21,503,11,517,22,529,null,null,null,null,0,212,null,122,{"$f":"COUNTIF($L$7:$L$500,N10)","v":2},{"$f":"O10/$Q$4","v":1.834862385321101E-2},{"$f":"IF(P10=0,0,(P10*((LOG(P10))/LOG(2))))","v":-0.10583824449131975},null,null,{"$f":"N10","v":122},{"$f":"COUNTIF(L7:L24,T10)","v":0},{"$f":"U10/(W4-U11)","v":0},{"$f":"IF(V10=0,0,(V10*((LOG(V10))/LOG(2))))","v":0},null,{"$f":"N10","v":122},{"$f":"COUNTIF(L25:L42,Y10)","v":1},{"$f":"Z10/(AB4-Z11)","v":7.6923076923076927E-2},{"$f":"IF(AA10=0,0,(AA10*((LOG(AA10))/LOG(2))))","v":-0.28464920908777636},null,{"$f":"N10","v":122},{"$f":"COUNTIF(L43:L61,AD10)","v":0},{"$f":"AE10/(AG4-AE11)","v":0},{"$f":"IF(AF10=0,0,(AF10*((LOG(AF10))/LOG(2))))","v":0},null,{"$f":"N10","v":122},{"$f":"COUNTIF(L62:L79,AI10)","v":1},{"$f":"AJ10/(AL4-AJ11)","v":7.6923076923076927E-2},{"$f":"IF(AK10=0,0,(AK10*((LOG(AK10))/LOG(2))))","v":-0.28464920908777636},null,{"$f":"N10","v":122},{"$f":"COUNTIF(L80:L97,AN10)","v":0},{"$f":"AO10/(AQ4-AO11)","v":0},{"$f":"IF(AP10=0,0,(AP10*((LOG(AP10))/LOG(2))))","v":0},null,{"$f":"N10","v":122},{"$f":"COUNTIF(L98:L115,AS10)","v":0},{"$f":"AT10/(AV4-AT11)","v":0},{"$f":"IF(AU10=0,0,(AU10*((LOG(AU10))/LOG(2))))","v":0}]
[12,646,13,674,13,683,null,null,null,null,0,111,null,211,{"$f":"COUNTIF($L$7:$L$500,N11)","v":35},{"$f":"O11/$Q$4","v":0.32110091743119268},{"$f":"IF(P11=0,0,(P11*((LOG(P11))/LOG(2))))","v":-0.52625271352402381},null,null,{"$f":"N11","v":211},{"$f":"COUNTIF(L7:L24,T11)","v":9},null,null,null,{"$f":"N11","v":211},{"$f":"COUNTIF(L25:L42,Y11)","v":5},null,null,null,{"$f":"N11","v":211},{"$f":"COUNTIF(L43:L61,AD11)","v":6},null,null,null,{"$f":"N11","v":211},{"$f":"COUNTIF(L62:L79,AI11)","v":5},null,null,null,{"$f":"N11","v":211},{"$f":"COUNTIF(L80:L97,AN11)","v":3},null,null,null,{"$f":"N11","v":211},{"$f":"COUNTIF(L98:L115,AS11)","v":7}]
[21,792,22,802,13,816,null,null,null,null,0,221,null,212,{"$f":"COUNTIF($L$7:$L$500,N12)","v":5},{"$f":"O12/$Q$4","v":4.5871559633027525E-2},{"$f":"IF(P12=0,0,(P12*((LOG(P12))/LOG(2))))","v":-0.2039567077930993},null,null,{"$f":"N12","v":212},{"$f":"COUNTIF(L7:L24,T12)","v":1},{"$f":"U12/(W4-U11)","v":0.1111111111111111},{"$f":"IF(V12=0,0,(V12*((LOG(V12))/LOG(2))))","v":-0.3522138890491458},null,{"$f":"N12","v":212},{"$f":"COUNTIF(L25:L42,Y12)","v":0},{"$f":"Z12/(AB4-Z11)","v":0},{"$f":"IF(AA12=0,0,(AA12*((LOG(AA12))/LOG(2))))","v":0},null,{"$f":"N12","v":212},{"$f":"COUNTIF(L43:L61,AD12)","v":0},{"$f":"AE12/(AG4-AE11)","v":0},{"$f":"IF(AF12=0,0,(AF12*((LOG(AF12))/LOG(2))))","v":0},null,{"$f":"N12","v":212},{"$f":"COUNTIF(L62:L79,AI12)","v":1},{"$f":"AJ12/(AL4-AJ11)","v":7.6923076923076927E-2},{"$f":"IF(AK12=0,0,(AK12*((LOG(AK12))/LOG(2))))","v":-0.28464920908777636},null,{"$f":"N12","v":212},{"$f":"COUNTIF(L80:L97,AN12)","v":2},{"$f":"AO12/(AQ4-AO11)","v":0.13333333333333333},{"$f":"IF(AP12=0,0,(AP12*((LOG(AP12))/LOG(2))))","v":-0.3875854127478025},null,{"$f":"N12","v":212},{"$f":"COUNTIF(L98:L115,AS12)","v":1},{"$f":"AT12/(AV4-AT11)","v":9.0909090909090912E-2},{"$f":"IF(AU12=0,0,(AU12*((LOG(AU12))/LOG(2))))","v":-0.31449378351248153}]
[12,920,13,929,13,937,null,null,null,null,0,111,null,221,{"$f":"COUNTIF($L$7:$L$500,N13)","v":8},{"$f":"O13/$Q$4","v":7.3394495412844041E-2},{"$f":"IF(P13=0,0,(P13*((LOG(P13))/LOG(2))))","v":-0.27656398713959096},null,null,{"$f":"N13","v":221},{"$f":"COUNTIF(L7:L24,T13)","v":1},{"$f":"U13/(W4-U11)","v":0.1111111111111111},{"$f":"IF(V13=0,0,(V13*((LOG(V13))/LOG(2))))","v":-0.3522138890491458},null,{"$f":"N13","v":221},{"$f":"COUNTIF(L25:L42,Y13)","v":0},{"$f":"Z13/(AB4-Z11)","v":0},{"$f":"IF(AA13=0,0,(AA13*((LOG(AA13))/LOG(2))))","v":0},null,{"$f":"N13","v":221},{"$f":"COUNTIF(L43:L61,AD13)","v":1},{"$f":"AE13/(AG4-AE11)","v":7.6923076923076927E-2},{"$f":"IF(AF13=0,0,(AF13*((LOG(AF13))/LOG(2))))","v":-0.28464920908777636},null,{"$f":"N13","v":221},{"$f":"COUNTIF(L62:L79,AI13)","v":1},{"$f":"AJ13/(AL4-AJ11)","v":7.6923076923076927E-2},{"$f":"IF(AK13=0,0,(AK13*((LOG(AK13))/LOG(2))))","v":-0.28464920908777636},null,{"$f":"N13","v":221},{"$f":"COUNTIF(L80:L97,AN13)","v":1},{"$f":"AO13/(AQ4-AO11)","v":6.6666666666666666E-2},{"$f":"IF(AP13=0,0,(AP13*((LOG(AP13))/LOG(2))))","v":-0.26045937304056793},null,{"$f":"N13","v":221},{"$f":"COUNTIF(L98:L115,AS13)","v":4},{"$f":"AT13/(AV4-AT11)","v":0.36363636363636365},{"$f":"IF(AU13=0,0,(AU13*((LOG(AU13))/LOG(2))))","v":-0.53070240677719893}]
[21,1046,11,1057,11,1065,null,null,null,null,0,211,null,222,{"$f":"COUNTIF($L$7:$L$500,N14)","v":4},{"$f":"O14/$Q$4","v":3.669724770642202E-2},{"$f":"IF(P14=0,0,(P14*((LOG(P14))/LOG(2))))","v":-0.1749792412762175},null,null,{"$f":"N14","v":222},{"$f":"COUNTIF(L7:L24,T14)","v":0},{"$f":"U14/(W4-U11)","v":0},{"$f":"IF(V14=0,0,(V14*((LOG(V14))/LOG(2))))","v":0},null,{"$f":"N14","v":222},{"$f":"COUNTIF(L25:L42,Y14)","v":0},{"$f":"Z14/(AB4-Z11)","v":0},{"$f":"IF(AA14=0,0,(AA14*((LOG(AA14))/LOG(2))))","v":0},null,{"$f":"N14","v":222},{"$f":"COUNTIF(L43:L61,AD14)","v":1},{"$f":"AE14/(AG4-AE11)","v":7.6923076923076927E-2},{"$f":"IF(AF14=0,0,(AF14*((LOG(AF14))/LOG(2))))","v":-0.28464920908777636},null,{"$f":"N14","v":222},{"$f":"COUNTIF(L62:L79,AI14)","v":2},{"$f":"AJ14/(AL4-AJ11)","v":0.15384615384615385},{"$f":"IF(AK14=0,0,(AK14*((LOG(AK14))/LOG(2))))","v":-0.4154522643293988},null,{"$f":"N14","v":222},{"$f":"COUNTIF(L80:L97,AN14)","v":0},{"$f":"AO14/(AQ4-AO11)","v":0},{"$f":"IF(AP14=0,0,(AP14*((LOG(AP14))/LOG(2))))","v":0},null,{"$f":"N14","v":222},{"$f":"COUNTIF(L98:L115,AS14)","v":1},{"$f":"AT14/(AV4-AT11)","v":9.0909090909090912E-2},{"$f":"IF(AU14=0,0,(AU14*((LOG(AU14))/LOG(2))))","v":-0.31449378351248153}]
[21,1176,11,1194,11,1201,null,null,null,null,0,211,null,null,null,{"$f":"SUM(P7:P14)","v":1},{"$f":"-SUM(Q7:Q14)","v":2.4358777503872302},null,null,null,null,{"$f":"SUM(V7:V14)","v":1},{"$f":"-SUM(W7:W14)","v":1.4466166676282082},null,null,null,{"$f":"SUM(AA7:AA14)","v":1},{"$f":"-SUM(AB7:AB14)","v":1.1451104143815827},null,null,null,{"$f":"SUM(AF7:AF14)","v":1},{"$f":"-SUM(AG7:AG14)","v":1.8230264907128848},null,null,null,{"$f":"SUM(AK7:AK14)","v":0.99999999999999989},{"$f":"-SUM(AL7:AL14)","v":2.353533948577482},null,null,null,{"$f":"SUM(AP7:AP14)","v":1},{"$f":"-SUM(AQ7:AQ14)","v":2.0729055953200559},null,null,null,{"$f":"SUM(AU7:AU14)","v":1},{"$f":"-SUM(AV7:AV14)","v":2.2998963911678909}]
[21,1303,11,1314,11,1323,null,null,null,null,0,211,null,null,null,"U=",{"$f":"Q15/(LOG(Q4)/LOG(2))","v":0.35990121330915653},null,null,null,null,"U1=",{"$f":"W15/(LOG(W4)/LOG(2))","v":0.3469167112424914},null,null,null,"U2=",{"$f":"AB15/(LOG(AB4)/LOG(2))","v":0.27461175296570245},null,null,null,"U3=",{"$f":"AG15/(LOG(AG4)/LOG(2))","v":0.42915668521731604},null,null,null,"U4=",{"$f":"AL15/(LOG(AL4)/LOG(2))","v":0.56440678136019984},null,null,null,"U5=",{"$f":"AQ15/(LOG(AQ4)/LOG(2))","v":0.49710860377658356},null,null,null,"U6=",{"$f":"AV15/(LOG(AV4)/LOG(2))","v":0.55154382641711608}]
[12,1428,13,1447,13,1458,null,null,null,null,0,111]
[21,1573,11,1590,11,1598,null,null,null,null,0,211]
[21,1702,11,1715,11,1720,null,null,null,null,0,211,null,"Total Target Seq"]
[21,1832,11,1851,11,1859,null,null,null,null,0,211,null,{"$f":"COUNTIF(L7:L115,G3)","v":35},null,18,18,19,18,18,18]
[12,1957,13,1980,13,1988,null,null,null,null,0,111,null,null,null,"% of reinforcement given in 6 equal intervals based on number of trials "]
[21,2088,11,2101,11,2109,null,null,null,null,0,211,null,null,null,"%_1","%_2","%_3","%_4","%_5","%_6"]
[12,2213,13,2235,13,2243,null,null,null,null,0,111,null,null,"target sequence",{"$f":"$G$3","v":211},{"$f":"$G$3","v":211},{"$f":"$G$3","v":211},{"$f":"$G$3","v":211},{"$f":"$G$3","v":211},{"$f":"$G$3","v":211}]
[12,2361,13,2369,13,2378,null,null,null,null,0,111,null,null,"total reinforcement",{"$f":"U11","v":9},{"$f":"Z11","v":5},{"$f":"AE11","v":6},{"$f":"AJ11","v":5},{"$f":"AO11","v":3},{"$f":"AT11","v":7}]
[12,2496,13,2507,13,2519,null,null,null,null,0,111,null,null,"% target"]
[12,2626,13,2660,13,2669,null,null,null,null,0,111,null,null,"CCRF"]
[21,2784,11,2799,11,2807,null,null,null,null,0,211,null,null,"% CCRf"]
[12,2907,13,2915,13,2928,null,null,null,null,0,111,null,null,"average response rate",{"$f":"F24/P20","v":132.11111111111111},{"$f":"(F42-F24)/Q20","v":137.38888888888889},{"$f":"(F61-F42)/R20","v":137.63157894736841},{"$f":"(F79-F61)/S20","v":148.11111111111111},{"$f":"(F97-F79)/T20","v":140.38888888888889},{"$f":"(F115-F97)/U20","v":136.77777777777777}]
[12,3033,13,3053,13,3065,null,null,null,null,0,111]
[12,3173,13,3180,13,3189,null,null,null,null,0,111]
[12,3324,13,3331,13,3339,null,null,null,null,0,111]
[21,3461,11,3494,11,3502,null,null,null,null,0,211]
[12,3616,13,3624,13,3629,null,null,null,null,0,111]
[12,3730,13,3737,13,3742,null,null,null,null,0,111]
[12,3842,24,3856,24,3865,null,null,null,null,0,122]
[12,3972,13,3978,13,3984,null,null,null,null,0,111]
[12,4088,13,4105,24,4117,null,null,null,null,0,112]
[12,4217,24,4227,13,4243,null,null,null,null,0,121]
[21,4353,11,4367,11,4375,null,null,null,null,0,211]
[21,4502,11,4520,11,4528,null,null,null,null,0,211]
[21,4658,11,4674,11,4690,null,null,null,null,0,211]
[12,4835,13,4840,13,4851,null,null,null,null,0,111]
[12,4956,13,4978,13,4990,null,null,null,null,0,111]
[12,5090,24,5100,13,5111,null,null,null,null,0,121]
[12,5221,13,5228,13,5234,null,null,null,null,0,111]
[21,5341,11,5354,11,5361,null,null,null,null,0,211]
[12,5461,13,5466,13,5475,null,null,null,null,0,111]
[21,5603,11,5619,11,5626,null,null,null,null,0,211]
[12,5732,24,5739,13,5756,null,null,null,null,0,121]
[12,5873,13,5901,13,5908,null,null,null,null,0,111]
[12,6059,13,6066,13,6075,null,null,null,null,0,111]
[21,6179,22,6204,24,6213,null,null,null,null,0,222]
[21,6323,11,6340,11,6347,null,null,null,null,0,211]
[21,6460,11,6473,11,6478,null,null,null,null,0,211]
[12,6601,24,6613,13,6628,null,null,null,null,0,121]
[21,6745,11,6756,11,6761,null,null,null,null,0,211]
[12,6862,13,6896,13,6903,null,null,null,null,0,111]
[12,7022,13,7034,13,7041,null,null,null,null,0,111]
[12,7163,13,7171,24,7183,null,null,null,null,0,112]
[21,7301,22,7306,13,7328,null,null,null,null,0,221]
[21,7436,11,7458,11,7466,null,null,null,null,0,211]
[21,7567,22,7602,24,7615,null,null,null,null,0,222]
[21,7728,11,7745,22,7759,null,null,null,null,0,212]
[12,7893,13,7909,24,7922,null,null,null,null,0,112]
[12,8047,13,8064,13,8071,null,null,null,null,0,111]
[21,8171,22,8177,13,8187,null,null,null,null,0,221]
[12,8302,24,8311,24,8332,null,null,null,null,0,122]
[21,8446,22,8463,24,8478,null,null,null,null,0,222]
[12,8615,13,8663,13,8680,null,null,null,null,0,111]
[12,8788,13,8799,13,8810,null,null,null,null,0,111]
[21,8952,11,8973,11,8981,null,null,null,null,0,211]
[12,9106,13,9118,13,9125,null,null,null,null,0,111]
[21,9239,11,9252,11,9254,null,null,null,null,0,211]
[21,9359,11,9377,11,9384,null,null,null,null,0,211]
[12,9522,13,9533,13,9542,null,null,null,null,0,111]
[21,9665,11,9681,11,9691,null,null,null,null,0,211]
[12,9835,13,9843,13,9853,null,null,null,null,0,111]
[21,9965,11,9975,11,9996,null,null,null,null,0,211]
[12,10096,24,10105,13,10132,null,null,null,null,0,121]
[21,10255,22,10265,13,10283,null,null,null,null,0,221]
[12,10396,13,10414,13,10426,null,null,null,null,0,111]
[12,10560,13,10572,13,10580,null,null,null,null,0,111]
[12,10710,13,10725,13,10733,null,null,null,null,0,111]
[12,10832,24,10851,13,10863,null,null,null,null,0,121]
[12,10975,13,10982,13,10989,null,null,null,null,0,111]
[21,11095,11,11109,22,11117,null,null,null,null,0,212]
[12,11222,24,11230,13,11247,null,null,null,null,0,121]
[12,11377,24,11389,13,11413,null,null,null,null,0,121]
[12,11516,24,11524,13,11541,null,null,null,null,0,121]
[12,11652,24,11661,13,11679,null,null,null,null,0,121]
[21,11796,11,11814,11,11819,null,null,null,null,0,211]
[21,11924,11,11938,22,11949,null,null,null,null,0,212]
[21,12066,11,12078,11,12083,null,null,null,null,0,211]
[12,12183,13,12213,24,12224,null,null,null,null,0,112]
[12,12341,24,12350,13,12364,null,null,null,null,0,121]
[21,12469,11,12491,11,12505,null,null,null,null,0,211]
[12,12641,13,12649,24,12659,null,null,null,null,0,112]
[12,12759,24,12777,13,12793,null,null,null,null,0,121]
[21,12898,22,12913,13,12933,null,null,null,null,0,221]
[21,13044,11,13064,11,13072,null,null,null,null,0,211]
[21,13180,22,13185,13,13199,null,null,null,null,0,221]
[12,13299,24,13308,13,13326,null,null,null,null,0,121]
[21,13432,22,13440,13,13460,null,null,null,null,0,221]
[21,13567,11,13583,11,13590,null,null,null,null,0,211]
[21,13698,11,13713,11,13733,null,null,null,null,0,211]
[21,13839,11,13851,11,13858,null,null,null,null,0,211]
[12,13954,13,13966,24,13975,null,null,null,null,0,112]
[12,14094,13,14096,13,14104,null,null,null,null,0,111]
[12,14205,24,14213,13,14230,null,null,null,null,0,121]
[21,14343,22,14348,24,14356,null,null,null,null,0,222]
[21,14481,11,14490,11,14506,null,null,null,null,0,211]
[21,14653,11,14663,22,14673,null,null,null,null,0,212]
[21,14783,22,14827,13,14844,null,null,null,null,0,221]
[21,14960,11,14974,11,14981,null,null,null,null,0,211]
[21,15101,11,15113,11,15121,null,null,null,null,1,211]

{"sheet":"!2011-06-06_09h20m.Subject 53","index":14,"n_rows":138,"n_cols":48,"rows_kept":138,"cut":false,"hidden":false,"merged":[[4,39,4,42],[5,39,5,40],[4,44,4,47],[5,44,5,45],[4,24,4,27],[5,24,5,25],[4,29,4,32],[5,29,5,30],[4,34,4,37],[5,34,5,35],[1,1,1,2],[5,13,5,14],[18,13,18,14],[19,13,19,14],[4,19,4,22],[5,19,5,20]]}
["Report for:!2011-06-06_09h20m.Subject 53"]
["Date","2011-06-06",null,null,null,"Group",0]
["Hen",53,null,null,null,"Correct Sequence",{"$f":"Start!J2","v":211},null,null,null,null,null,null,null,null,"Total Sequences in Data",{"$f":"4994-COUNTBLANK(L7:L5000)","v":132},null,null,null,null,"Total Sequences in Block Data",{"$f":"COUNTA(L7:L28)","v":22},null,null,null,"Total Sequences in Block Data",{"$f":"COUNTA(L29:L50)","v":22},null,null,null,"Total Sequences in Block Data",{"$f":"COUNTA(L51:L72)","v":22},null,null,null,"Total Sequences in Block Data",{"$f":"COUNTA(L73:L94)","v":22},null,null,null,"Total Sequences in Block Data",{"$f":"COUNTA(L95:L116)","v":22},null,null,null,"Total Sequences in Block Data",{"$f":"COUNTA(L117:L138)","v":22}]
["Program",0,null,null,null,null,null,null,null,null,null,null,null,null,null,"Total Sequences in Summary",{"$f":"SUM(O7:O14)","v":132},null,null,null,null,"Total Sequences in Block Summary",{"$f":"SUM(U7:U14)","v":22},null,null,null,"Total Sequences in Block Summary",{"$f":"SUM(Z7:Z14)","v":22},null,null,null,"Total Sequences in Block Summary",{"$f":"SUM(AE7:AE14)","v":22},null,null,null,"Total Sequences in Block Summary",{"$f":"SUM(AJ7:AJ14)","v":22},null,null,null,"Total Sequences in Block Summary",{"$f":"SUM(AO7:AO14)","v":22},null,null,null,"Total Sequences in Block Summary",{"$f":"SUM(AT7:AT14)","v":22}]
[null,null,null,null,null,null,null,null,null,null,null,null,null,null,null,null,null,null,null,"Block 1",null,null,null,null,"Block 2",null,null,null,null,"Block 3",null,null,null,null,"Block 4",null,null,null,null,"Block 5",null,null,null,null,"Block 6"]
["Sequence\nComponent\n1","Time\n1","Sequence\nComponent\n2","Time\n2","Sequence\nComponent\n3","Time\n3","Sequence\nComponent\n4","Time\n4","Sequence\nComponent\n5","Time\n5","Correct?\n0=No 1=Yes","Sequence",null,"Frequency",null,"Relative Frequency","Variability",null,null,"Frequency",null,"Relative Frequency","Variability",null,"Frequency",null,"Relative Frequency","Variability",null,"Frequency",null,"Relative Frequency","Variability",null,"Frequency",null,"Relative Frequency","Variability",null,"Frequency",null,"Relative Frequency","Variability",null,"Frequency",null,"Relative Frequency","Variability"]
[12,39,13,49,13,58,null,null,null,null,0,111,null,111,{"$f":"COUNTIF($L$7:$L$500,N7)","v":75},{"$f":"O7/$Q$4","v":0.56818181818181823},{"$f":"IF(P7=0,0,(P7*((LOG(P7))/LOG(2))))","v":-0.4633951300355526},null,null,{"$f":"N7","v":111},{"$f":"COUNTIF(L7:L28,T7)","v":10},{"$f":"U7/(W4-U11)","v":0.625},{"$f":"IF(V7=0,0,(V7*((LOG(V7))/LOG(2))))","v":-0.42379494069539858},null,{"$f":"N7","v":111},{"$f":"COUNTIF(L29:L50,Y7)","v":11},{"$f":"Z7/(AB4-Z11)","v":0.7857142857142857},{"$f":"IF(AA7=0,0,(AA7*((LOG(AA7))/LOG(2))))","v":-0.27336830983024107},null,{"$f":"N7","v":111},{"$f":"COUNTIF(L51:L72,AD7)","v":13},{"$f":"AE7/(AG4-AE11)","v":0.8666666666666667},{"$f":"IF(AF7=0,0,(AF7*((LOG(AF7))/LOG(2))))","v":-0.17892409380510282},null,{"$f":"N7","v":111},{"$f":"COUNTIF(L73:L94,AI7)","v":14},{"$f":"AJ7/(AL4-AJ11)","v":0.93333333333333335},{"$f":"IF(AK7=0,0,(AK7*((LOG(AK7))/LOG(2))))","v":-9.2899961980853443E-2},null,{"$f":"N7","v":111},{"$f":"COUNTIF(L95:L116,AN7)","v":14},{"$f":"AO7/(AQ4-AO11)","v":0.73684210526315785},{"$f":"IF(AP7=0,0,(AP7*((LOG(AP7))/LOG(2))))","v":-0.32463243575809159},null,{"$f":"N7","v":111},{"$f":"COUNTIF(L117:L138,AS7)","v":13},{"$f":"AT7/(AV4-AT11)","v":0.8666666666666667},{"$f":"IF(AU7=0,0,(AU7*((LOG(AU7))/LOG(2))))","v":-0.17892409380510282}]
[12,189,13,197,13,202,null,null,null,null,0,111,null,112,{"$f":"COUNTIF($L$7:$L$500,N8)","v":2},{"$f":"O8/$Q$4","v":1.5151515151515152E-2},{"$f":"IF(P8=0,0,(P8*((LOG(P8))/LOG(2))))","v":-9.1581729081188695E-2},null,null,{"$f":"N8","v":112},{"$f":"COUNTIF(L7:L28,T8)","v":1},{"$f":"U8/(W4-U11)","v":6.25E-2},{"$f":"IF(V8=0,0,(V8*((LOG(V8))/LOG(2))))","v":-0.25},null,{"$f":"N8","v":112},{"$f":"COUNTIF(L29:L50,Y8)","v":0},{"$f":"Z8/(AB4-Z11)","v":0},{"$f":"IF(AA8=0,0,(AA8*((LOG(AA8))/LOG(2))))","v":0},null,{"$f":"N8","v":112},{"$f":"COUNTIF(L51:L72,AD8)","v":1},{"$f":"AE8/(AG4-AE11)","v":6.6666666666666666E-2},{"$f":"IF(AF8=0,0,(AF8*((LOG(AF8))/LOG(2))))","v":-0.26045937304056793},null,{"$f":"N8","v":112},{"$f":"COUNTIF(L73:L94,AI8)","v":0},{"$f":"AJ8/(AL4-AJ11)","v":0},{"$f":"IF(AK8=0,0,(AK8*((LOG(AK8))/LOG(2))))","v":0},null,{"$f":"N8","v":112},{"$f":"COUNTIF(L95:L116,AN8)","v":0},{"$f":"AO8/(AQ4-AO11)","v":0},{"$f":"IF(AP8=0,0,(AP8*((LOG(AP8))/LOG(2))))","v":0},null,{"$f":"N8","v":112},{"$f":"COUNTIF(L117:L138,AS8)","v":0},{"$f":"AT8/(AV4-AT11)","v":0},{"$f":"IF(AU8=0,0,(AU8*((LOG(AU8))/LOG(2))))","v":0}]
[21,318,11,345,11,360,null,null,null,null,0,211,null,121,{"$f":"COUNTIF($L$7:$L$500,N9)","v":7},{"$f":"O9/$Q$4","v":5.3030303030303032E-2},{"$f":"IF(P9=0,0,(P9*((LOG(P9))/LOG(2))))","v":-0.22469147258413597},null,null,{"$f":"N9","v":121},{"$f":"COUNTIF(L7:L28,T9)","v":2},{"$f":"U9/(W4-U11)","v":0.125},{"$f":"IF(V9=0,0,(V9*((LOG(V9))/LOG(2))))","v":-0.375},null,{"$f":"N9","v":121},{"$f":"COUNTIF(L29:L50,Y9)","v":1},{"$f":"Z9/(AB4-Z11)","v":7.1428571428571425E-2},{"$f":"IF(AA9=0,0,(AA9*((LOG(AA9))/LOG(2))))","v":-0.27195392300411453},null,{"$f":"N9","v":121},{"$f":"COUNTIF(L51:L72,AD9)","v":1},{"$f":"AE9/(AG4-AE11)","v":6.6666666666666666E-2},{"$f":"IF(AF9=0,0,(AF9*((LOG(AF9))/LOG(2))))","v":-0.26045937304056793},null,{"$f":"N9","v":121},{"$f":"COUNTIF(L73:L94,AI9)","v":1},{"$f":"AJ9/(AL4-AJ11)","v":6.6666666666666666E-2},{"$f":"IF(AK9=0,0,(AK9*((LOG(AK9))/LOG(2))))","v":-0.26045937304056793},null,{"$f":"N9","v":121},{"$f":"COUNTIF(L95:L116,AN9)","v":0},{"$f":"AO9/(AQ4-AO11)","v":0},{"$f":"IF(AP9=0,0,(AP9*((LOG(AP9))/LOG(2))))","v":0},null,{"$f":"N9","v":121},{"$f":"COUNTIF(L117:L138,AS9)","v":2},{"$f":"AT9/(AV4-AT11)","v":0.13333333333333333},{"$f":"IF(AU9=0,0,(AU9*((LOG(AU9))/LOG(2))))","v":-0.3875854127478025}]
[12,645,13,668,13,687,null,null,null,null,0,111,null,122,{"$f":"COUNTIF($L$7:$L$500,N10)","v":1},{"$f":"O10/$Q$4","v":7.575757575757576E-3},{"$f":"IF(P10=0,0,(P10*((LOG(P10))/LOG(2))))","v":-5.3366622116351931E-2},null,null,{"$f":"N10","v":122},{"$f":"COUNTIF(L7:L28,T10)","v":0},{"$f":"U10/(W4-U11)","v":0},{"$f":"IF(V10=0,0,(V10*((LOG(V10))/LOG(2))))","v":0},null,{"$f":"N10","v":122},{"$f":"COUNTIF(L29:L50,Y10)","v":0},{"$f":"Z10/(AB4-Z11)","v":0},{"$f":"IF(AA10=0,0,(AA10*((LOG(AA10))/LOG(2))))","v":0},null,{"$f":"N10","v":122},{"$f":"COUNTIF(L51:L72,AD10)","v":0},{"$f":"AE10/(AG4-AE11)","v":0},{"$f":"IF(AF10=0,0,(AF10*((LOG(AF10))/LOG(2))))","v":0},null,{"$f":"N10","v":122},{"$f":"COUNTIF(L73:L94,AI10)","v":0},{"$f":"AJ10/(AL4-AJ11)","v":0},{"$f":"IF(AK10=0,0,(AK10*((LOG(AK10))/LOG(2))))","v":0},null,{"$f":"N10","v":122},{"$f":"COUNTIF(L95:L116,AN10)","v":1},{"$f":"AO10/(AQ4-AO11)","v":5.2631578947368418E-2},{"$f":"IF(AP10=0,0,(AP10*((LOG(AP10))/LOG(2))))","v":-0.22357513228650452},null,{"$f":"N10","v":122},{"$f":"COUNTIF(L117:L138,AS10)","v":0},{"$f":"AT10/(AV4-AT11)","v":0},{"$f":"IF(AU10=0,0,(AU10*((LOG(AU10))/LOG(2))))","v":0}]
[21,802,11,820,11,827,null,null,null,null,0,211,null,211,{"$f":"COUNTIF($L$7:$L$500,N11)","v":38},{"$f":"O11/$Q$4","v":0.2878787878787879},{"$f":"IF(P11=0,0,(P11*((LOG(P11))/LOG(2))))","v":-0.51716462897549231},null,null,{"$f":"N11","v":211},{"$f":"COUNTIF(L7:L28,T11)","v":6},null,null,null,{"$f":"N11","v":211},{"$f":"COUNTIF(L29:L50,Y11)","v":8},null,null,null,{"$f":"N11","v":211},{"$f":"COUNTIF(L51:L72,AD11)","v":7},null,null,null,{"$f":"N11","v":211},{"$f":"COUNTIF(L73:L94,AI11)","v":7},null,null,null,{"$f":"N11","v":211},{"$f":"COUNTIF(L95:L116,AN11)","v":3},null,null,null,{"$f":"N11","v":211},{"$f":"COUNTIF(L117:L138,AS11)","v":7}]
[12,1055,13,1063,13,1071,null,null,null,null,0,111,null,212,{"$f":"COUNTIF($L$7:$L$500,N12)","v":3},{"$f":"O12/$Q$4","v":2.2727272727272728E-2},{"$f":"IF(P12=0,0,(P12*((LOG(P12))/LOG(2))))","v":-0.12407799133266585},null,null,{"$f":"N12","v":212},{"$f":"COUNTIF(L7:L28,T12)","v":1},{"$f":"U12/(W4-U11)","v":6.25E-2},{"$f":"IF(V12=0,0,(V12*((LOG(V12))/LOG(2))))","v":-0.25},null,{"$f":"N12","v":212},{"$f":"COUNTIF(L29:L50,Y12)","v":1},{"$f":"Z12/(AB4-Z11)","v":7.1428571428571425E-2},{"$f":"IF(AA12=0,0,(AA12*((LOG(AA12))/LOG(2))))","v":-0.27195392300411453},null,{"$f":"N12","v":212},{"$f":"COUNTIF(L51:L72,AD12)","v":0},{"$f":"AE12/(AG4-AE11)","v":0},{"$f":"IF(AF12=0,0,(AF12*((LOG(AF12))/LOG(2))))","v":0},null,{"$f":"N12","v":212},{"$f":"COUNTIF(L73:L94,AI12)","v":0},{"$f":"AJ12/(AL4-AJ11)","v":0},{"$f":"IF(AK12=0,0,(AK12*((LOG(AK12))/LOG(2))))","v":0},null,{"$f":"N12","v":212},{"$f":"COUNTIF(L95:L116,AN12)","v":1},{"$f":"AO12/(AQ4-AO11)","v":5.2631578947368418E-2},{"$f":"IF(AP12=0,0,(AP12*((LOG(AP12))/LOG(2))))","v":-0.22357513228650452},null,{"$f":"N12","v":212},{"$f":"COUNTIF(L117:L138,AS12)","v":0},{"$f":"AT12/(AV4-AT11)","v":0},{"$f":"IF(AU12=0,0,(AU12*((LOG(AU12))/LOG(2))))","v":0}]
[12,1175,13,1193,13,1204,null,null,null,null,0,111,null,221,{"$f":"COUNTIF($L$7:$L$500,N13)","v":5},{"$f":"O13/$Q$4","v":3.787878787878788E-2},{"$f":"IF(P13=0,0,(P13*((LOG(P13))/LOG(2))))","v":-0.17888128880572313},null,null,{"$f":"N13","v":221},{"$f":"COUNTIF(L7:L28,T13)","v":2},{"$f":"U13/(W4-U11)","v":0.125},{"$f":"IF(V13=0,0,(V13*((LOG(V13))/LOG(2))))","v":-0.375},null,{"$f":"N13","v":221},{"$f":"COUNTIF(L29:L50,Y13)","v":1},{"$f":"Z13/(AB4-Z11)","v":7.1428571428571425E-2},{"$f":"IF(AA13=0,0,(AA13*((LOG(AA13))/LOG(2))))","v":-0.27195392300411453},null,{"$f":"N13","v":221},{"$f":"COUNTIF(L51:L72,AD13)","v":0},{"$f":"AE13/(AG4-AE11)","v":0},{"$f":"IF(AF13=0,0,(AF13*((LOG(AF13))/LOG(2))))","v":0},null,{"$f":"N13","v":221},{"$f":"COUNTIF(L73:L94,AI13)","v":0},{"$f":"AJ13/(AL4-AJ11)","v":0},{"$f":"IF(AK13=0,0,(AK13*((LOG(AK13))/LOG(2))))","v":0},null,{"$f":"N13","v":221},{"$f":"COUNTIF(L95:L116,AN13)","v":2},{"$f":"AO13/(AQ4-AO11)","v":0.10526315789473684},{"$f":"IF(AP13=0,0,(AP13*((LOG(AP13))/LOG(2))))","v":-0.34188710667827216},null,{"$f":"N13","v":221},{"$f":"COUNTIF(L117:L138,AS13)","v":0},{"$f":"AT13/(AV4-AT11)","v":0},{"$f":"IF(AU13=0,0,(AU13*((LOG(AU13))/LOG(2))))","v":0}]
[12,1314,13,1334,13,1339,null,null,null,null,0,111,null,222,{"$f":"COUNTIF($L$7:$L$500,N14)","v":1},{"$f":"O14/$Q$4","v":7.575757575757576E-3},{"$f":"IF(P14=0,0,(P14*((LOG(P14))/LOG(2))))","v":-5.3366622116351931E-2},null,null,{"$f":"N14","v":222},{"$f":"COUNTIF(L7:L28,T14)","v":0},{"$f":"U14/(W4-U11)","v":0},{"$f":"IF(V14=0,0,(V14*((LOG(V14))/LOG(2))))","v":0},null,{"$f":"N14","v":222},{"$f":"COUNTIF(L29:L50,Y14)","v":0},{"$f":"Z14/(AB4-Z11)","v":0},{"$f":"IF(AA14=0,0,(AA14*((LOG(AA14))/LOG(2))))","v":0},null,{"$f":"N14","v":222},{"$f":"COUNTIF(L51:L72,AD14)","v":0},{"$f":"AE14/(AG4-AE11)","v":0},{"$f":"IF(AF14=0,0,(AF14*((LOG(AF14))/LOG(2))))","v":0},null,{"$f":"N14","v":222},{"$f":"COUNTIF(L73:L94,AI14)","v":0},{"$f":"AJ14/(AL4-AJ11)","v":0},{"$f":"IF(AK14=0,0,(AK14*((LOG(AK14))/LOG(2))))","v":0},null,{"$f":"N14","v":222},{"$f":"COUNTIF(L95:L116,AN14)","v":1},{"$f":"AO14/(AQ4-AO11)","v":5.2631578947368418E-2},{"$f":"IF(AP14=0,0,(AP14*((LOG(AP14))/LOG(2))))","v":-0.22357513228650452},null,{"$f":"N14","v":222},{"$f":"COUNTIF(L117:L138,AS14)","v":0},{"$f":"AT14/(AV4-AT11)","v":0},{"$f":"IF(AU14=0,0,(AU14*((LOG(AU14))/LOG(2))))","v":0}]
[21,1449,11,1465,11,1473,null,null,null,null,0,211,null,null,null,{"$f":"SUM(P7:P14)","v":1},{"$f":"-SUM(Q7:Q14)","v":1.7065254850474627},null,null,null,null,{"$f":"SUM(V7:V14)","v":1},{"$f":"-SUM(W7:W14)","v":1.6737949406953985},null,null,null,{"$f":"SUM(AA7:AA14)","v":0.99999999999999989},{"$f":"-SUM(AB7:AB14)","v":1.0892300788425848},null,null,null,{"$f":"SUM(AF7:AF14)","v":1},{"$f":"-SUM(AG7:AG14)","v":0.69984283988623863},null,null,null,{"$f":"SUM(AK7:AK14)","v":1},{"$f":"-SUM(AL7:AL14)","v":0.35335933502142136},null,null,null,{"$f":"SUM(AP7:AP14)","v":1},{"$f":"-SUM(AQ7:AQ14)","v":1.3372449392958774},null,null,null,{"$f":"SUM(AU7:AU14)","v":1},{"$f":"-SUM(AV7:AV14)","v":0.56650950655290533}]
[12,1629,13,1636,13,1641,null,null,null,null,0,111,null,null,null,"U=",{"$f":"Q15/(LOG(Q4)/LOG(2))","v":0.24225298246130486},null,null,null,null,"U1=",{"$f":"W15/(LOG(W4)/LOG(2))","v":0.37533817845756606},null,null,null,"U2=",{"$f":"AB15/(LOG(AB4)/LOG(2))","v":0.24425311833247243},null,null,null,"U3=",{"$f":"AG15/(LOG(AG4)/LOG(2))","v":0.15693543476737848},null,null,null,"U4=",{"$f":"AL15/(LOG(AL4)/LOG(2))","v":7.9238648608182957E-2},null,null,null,"U5=",{"$f":"AQ15/(LOG(AQ4)/LOG(2))","v":0.29986891910330704},null,null,null,"U6=",{"$f":"AV15/(LOG(AV4)/LOG(2))","v":0.12703625820503511}]
[12,1783,13,1840,13,1852,null,null,null,null,0,111]
[12,1956,13,1967,13,1969,null,null,null,null,0,111]
[21,2078,11,2095,11,2103,null,null,null,null,0,211,null,"Total Target Seq"]
[12,2248,24,2271,13,2297,null,null,null,null,0,121,null,{"$f":"COUNTIF(L7:L138,G3)","v":38},null,22,22,22,22,22,22]
[12,2489,24,2501,13,2515,null,null,null,null,0,121,null,null,null,"% of reinforcement given in 6 equal intervals based on number of trials "]
[21,2655,22,2656,13,2677,null,null,null,null,0,221,null,null,null,"%_1","%_2","%_3","%_4","%_5","%_6"]
[21,2786,11,2799,22,2809,null,null,null,null,0,212,null,null,"target sequence",{"$f":"$G$3","v":211},{"$f":"$G$3","v":211},{"$f":"$G$3","v":211},{"$f":"$G$3","v":211},{"$f":"$G$3","v":211},{"$f":"$G$3","v":211}]
[21,2928,11,2942,11,2947,null,null,null,null,0,211,null,null,"total reinforcement",{"$f":"U11","v":6},{"$f":"Z11","v":8},{"$f":"AE11","v":7},{"$f":"AJ11","v":7},{"$f":"AO11","v":3},{"$f":"AT11","v":7}]
[12,3224,13,3238,13,3243,null,null,null,null,0,111,null,null,"% target"]
[21,3354,22,3362,13,3375,null,null,null,null,0,221,null,null,"CCRF"]
[21,3477,11,3494,11,3501,null,null,null,null,0,211,null,null,"% CCRf"]
[12,3784,13,3798,24,3812,null,null,null,null,0,112,null,null,"average response rate",{"$f":"F28/P20","v":173.27272727272728},{"$f":"(F50-F28)/Q20","v":182.81818181818181},{"$f":"(F72-F50)/R20","v":168.86363636363637},{"$f":"(F94-F72)/S20","v":172.59090909090909},{"$f":"(F116-F94)/T20","v":141},{"$f":"(F138-F116)/U20","v":163.13636363636363}]
[12,4049,13,4069,13,4082,null,null,null,null,0,111]
[21,4192,11,4211,11,4217,null,null,null,null,0,211]
[21,4377,11,4390,22,4402,null,null,null,null,0,212]
[21,4548,11,4557,11,4568,null,null,null,null,0,211]
[12,4861,13,4872,13,4879,null,null,null,null,0,111]
[12,4991,13,5010,13,5015,null,null,null,null,0,111]
[12,5116,13,5136,13,5146,null,null,null,null,0,111]
[21,5254,11,5270,11,5277,null,null,null,null,0,211]
[12,5543,13,5548,13,5553,null,null,null,null,0,111]
[12,5661,13,5663,13,5678,null,null,null,null,0,111]
[21,5787,11,5800,11,5805,null,null,null,null,0,211]
[12,5996,24,6006,13,6025,null,null,null,null,0,121]
[12,6145,13,6153,13,6158,null,null,null,null,0,111]
[21,6261,22,6271,13,6283,null,null,null,null,0,221]
[12,6399,13,6407,13,6417,null,null,null,null,0,111]
[21,6539,11,6556,11,6564,null,null,null,null,0,211]
[12,6775,13,6783,13,6788,null,null,null,null,0,111]
[21,6898,11,6911,11,6916,null,null,null,null,0,211]
[12,7260,13,7265,13,7273,null,null,null,null,0,111]
[21,7397,11,7412,11,7422,null,null,null,null,0,211]
[12,7683,13,7692,13,7701,null,null,null,null,0,111]
[21,7814,11,7827,11,7834,null,null,null,null,0,211]
[12,8084,13,8092,13,8097,null,null,null,null,0,111]
[21,8214,11,8226,11,8231,null,null,null,null,0,211]
[12,8418,13,8426,13,8431,null,null,null,null,0,111]
[12,8548,13,8550,13,8558,null,null,null,null,0,111]
[21,8661,11,8670,11,8675,null,null,null,null,0,211]
[12,8908,13,8916,13,8923,null,null,null,null,0,111]
[12,9039,13,9044,13,9049,null,null,null,null,0,111]
[21,9151,11,9162,11,9173,null,null,null,null,0,211]
[12,9387,13,9392,13,9405,null,null,null,null,0,111]
[12,9535,13,9559,13,9564,null,null,null,null,0,111]
[21,9664,11,9677,11,9681,null,null,null,null,0,211]
[12,9866,13,9872,13,9882,null,null,null,null,0,111]
[12,9994,13,9998,13,10016,null,null,null,null,0,111]
[12,10155,13,10160,24,10172,null,null,null,null,0,112]
[21,10280,11,10306,11,10318,null,null,null,null,0,211]
[12,10549,13,10555,13,10564,null,null,null,null,0,111]
[12,10702,13,10710,13,10719,null,null,null,null,0,111]
[12,10832,13,10837,13,10841,null,null,null,null,0,111]
[21,10948,11,10965,11,10967,null,null,null,null,0,211]
[12,11129,24,11138,13,11148,null,null,null,null,0,121]
[21,11252,11,11268,11,11276,null,null,null,null,0,211]
[12,11523,13,11534,13,11549,null,null,null,null,0,111]
[12,11671,13,11679,13,11688,null,null,null,null,0,111]
[21,11792,11,11806,11,11811,null,null,null,null,0,211]
[12,12136,13,12140,13,12147,null,null,null,null,0,111]
[12,12255,13,12267,13,12274,null,null,null,null,0,111]
[21,12387,11,12400,11,12407,null,null,null,null,0,211]
[12,12681,13,12688,13,12696,null,null,null,null,0,111]
[12,12832,24,12856,13,12866,null,null,null,null,0,121]
[12,12979,13,12984,13,12988,null,null,null,null,0,111]
[21,13096,11,13112,11,13120,null,null,null,null,0,211]
[12,13354,13,13361,13,13369,null,null,null,null,0,111]
[12,13502,13,13513,13,13524,null,null,null,null,0,111]
[12,13636,13,13644,13,13664,null,null,null,null,0,111]
[21,13762,11,13777,11,13797,null,null,null,null,0,211]
[12,13967,13,13975,13,13991,null,null,null,null,0,111]
[12,14100,13,14109,13,14118,null,null,null,null,0,111]
[21,14220,11,14238,11,14262,null,null,null,null,0,211]
[21,14481,11,14491,11,14499,null,null,null,null,0,211]
[12,14648,13,14656,13,14669,null,null,null,null,0,111]
[21,14772,11,14800,11,14807,null,null,null,null,0,211]
[12,15053,13,15062,13,15070,null,null,null,null,0,111]
[12,15190,13,15194,13,15202,null,null,null,null,0,111]
[12,15319,13,15341,13,15346,null,null,null,null,0,111]
[12,15463,13,15468,13,15473,null,null,null,null,0,111]
[12,15595,13,15602,13,15611,null,null,null,null,0,111]
[12,15728,13,15735,13,15742,null,null,null,null,0,111]
[12,15873,13,15882,13,15887,null,null,null,null,0,111]
[12,16013,13,16024,13,16035,null,null,null,null,0,111]
[12,16156,13,16162,13,16167,null,null,null,null,0,111]
[12,16277,13,16285,13,16290,null,null,null,null,0,111]
[12,16408,13,16416,13,16421,null,null,null,null,0,111]
[12,16544,13,16551,13,16557,null,null,null,null,0,111]
[21,16658,11,16671,22,16679,null,null,null,null,0,212]
[21,16779,22,16784,13,16799,null,null,null,null,0,221]
[12,16912,13,16917,13,16922,null,null,null,null,0,111]
[21,17032,11,17050,11,17058,null,null,null,null,0,211]
[12,17236,13,17244,13,17250,null,null,null,null,0,111]
[21,17360,22,17365,24,17370,null,null,null,null,0,222]
[21,17489,11,17499,11,17506,null,null,null,null,0,211]
[12,17701,24,17719,24,17724,null,null,null,null,0,122]
[21,17832,22,17834,13,17856,null,null,null,null,0,221]
[21,17954,11,17965,11,17974,null,null,null,null,0,211]
[12,18157,13,18180,13,18188,null,null,null,null,0,111]
[12,18310,13,18315,13,18322,null,null,null,null,0,111]
[12,18433,13,18440,13,18448,null,null,null,null,0,111]
[12,18564,13,18571,13,18586,null,null,null,null,0,111]
[21,18685,11,18702,11,18709,null,null,null,null,0,211]
[12,18888,24,18923,13,18938,null,null,null,null,0,121]
[12,19042,13,19050,13,19055,null,null,null,null,0,111]
[12,19185,13,19192,13,19201,null,null,null,null,0,111]
[21,19299,11,19310,11,19315,null,null,null,null,0,211]
[12,19527,13,19537,13,19544,null,null,null,null,0,111]
[12,19660,13,19668,13,19674,null,null,null,null,0,111]
[21,19785,11,19795,11,19803,null,null,null,null,0,211]
[21,20118,11,20130,11,20139,null,null,null,null,0,211]
[12,20361,13,20368,13,20375,null,null,null,null,0,111]
[12,20472,13,20502,13,20510,null,null,null,null,0,111]
[12,20630,13,20637,13,20644,null,null,null,null,0,111]
[12,20760,13,20768,13,20777,null,null,null,null,0,111]
[12,20885,13,20892,13,20899,null,null,null,null,0,111]
[21,21004,11,21029,11,21036,null,null,null,null,0,211]
[12,21246,24,21263,13,21275,null,null,null,null,0,121]
[12,21400,13,21408,13,21415,null,null,null,null,0,111]
[12,21532,13,21540,13,21547,null,null,null,null,0,111]
[12,21688,13,21696,13,21701,null,null,null,null,0,111]
[21,21810,11,21820,11,21827,null,null,null,null,0,211]
[21,22012,11,22025,11,22037,null,null,null,null,1,211]

{"sheet":"!2011-06-07_08h59m.Subject 53","index":15,"n_rows":142,"n_cols":48,"rows_kept":142,"cut":false,"hidden":false,"merged":[[4,39,4,42],[5,39,5,40],[4,44,4,47],[5,44,5,45],[4,24,4,27],[5,24,5,25],[4,29,4,32],[5,29,5,30],[4,34,4,37],[5,34,5,35],[1,1,1,2],[5,13,5,14],[18,13,18,14],[19,13,19,14],[4,19,4,22],[5,19,5,20]]}
["Report for:!2011-06-07_08h59m.Subject 53"]
["Date","2011-06-07",null,null,null,"Group",0]
["Hen",53,null,null,null,"Correct Sequence",{"$f":"Start!J2","v":211},null,null,null,null,null,null,null,null,"Total Sequences in Data",{"$f":"4994-COUNTBLANK(L7:L5000)","v":136},null,null,null,null,"Total Sequences in Block Data",{"$f":"COUNTA(L7:L29)","v":23},null,null,null,"Total Sequences in Block Data",{"$f":"COUNTA(L30:L51)","v":22},null,null,null,"Total Sequences in Block Data",{"$f":"COUNTA(L52:L74)","v":23},null,null,null,"Total Sequences in Block Data",{"$f":"COUNTA(L75:L97)","v":23},null,null,null,"Total Sequences in Block Data",{"$f":"COUNTA(L98:L119)","v":22},null,null,null,"Total Sequences in Block Data",{"$f":"COUNTA(L120:L142)","v":23}]
["Program",0,null,null,null,null,null,null,null,null,null,null,null,null,null,"Total Sequences in Summary",{"$f":"SUM(O7:O14)","v":136},null,null,null,null,"Total Sequences in Block Summary",{"$f":"SUM(U7:U14)","v":23},null,null,null,"Total Sequences in Block Summary",{"$f":"SUM(Z7:Z14)","v":22},null,null,null,"Total Sequences in Block Summary",{"$f":"SUM(AE7:AE14)","v":23},null,null,null,"Total Sequences in Block Summary",{"$f":"SUM(AJ7:AJ14)","v":23},null,null,null,"Total Sequences in Block Summary",{"$f":"SUM(AO7:AO14)","v":22},null,null,null,"Total Sequences in Block Summary",{"$f":"SUM(AT7:AT14)","v":23}]
[null,null,null,null,null,null,null,null,null,null,null,null,null,null,null,null,null,null,null,"Block 1",null,null,null,null,"Block 2",null,null,null,null,"Block 3",null,null,null,null,"Block 4",null,null,null,null,"Block 5",null,null,null,null,"Block 6"]
["Sequence\nComponent\n1","Time\n1","Sequence\nComponent\n2","Time\n2","Sequence\nComponent\n3","Time\n3","Sequence\nComponent\n4","Time\n4","Sequence\nComponent\n5","Time\n5","Correct?\n0=No 1=Yes","Sequence",null,"Frequency",null,"Relative Frequency","Variability",null,null,"Frequency",null,"Relative Frequency","Variability",null,"Frequency",null,"Relative Frequency","Variability",null,"Frequency",null,"Relative Frequency","Variability",null,"Frequency",null,"Relative Frequency","Variability",null,"Frequency",null,"Relative Frequency","Variability",null,"Frequency",null,"Relative Frequency","Variability"]
[12,41,13,60,13,69,null,null,null,null,0,111,null,111,{"$f":"COUNTIF($L$7:$L$500,N7)","v":79},{"$f":"O7/$Q$4","v":0.58088235294117652},{"$f":"IF(P7=0,0,(P7*((LOG(P7))/LOG(2))))","v":-0.4552270981822476},null,null,{"$f":"N7","v":111},{"$f":"COUNTIF(L7:L29,T7)","v":14},{"$f":"U7/(W4-U11)","v":0.82352941176470584},{"$f":"IF(V7=0,0,(V7*((LOG(V7))/LOG(2))))","v":-0.2306771099234291},null,{"$f":"N7","v":111},{"$f":"COUNTIF(L30:L51,Y7)","v":14},{"$f":"Z7/(AB4-Z11)","v":0.875},{"$f":"IF(AA7=0,0,(AA7*((LOG(AA7))/LOG(2))))","v":-0.1685644431995964},null,{"$f":"N7","v":111},{"$f":"COUNTIF(L52:L74,AD7)","v":10},{"$f":"AE7/(AG4-AE11)","v":0.58823529411764708},{"$f":"IF(AF7=0,0,(AF7*((LOG(AF7))/LOG(2))))","v":-0.45031455668410414},null,{"$f":"N7","v":111},{"$f":"COUNTIF(L75:L97,AI7)","v":15},{"$f":"AJ7/(AL4-AJ11)","v":0.88235294117647056},{"$f":"IF(AK7=0,0,(AK7*((LOG(AK7))/LOG(2))))","v":-0.1593284520369008},null,{"$f":"N7","v":111},{"$f":"COUNTIF(L98:L119,AN7)","v":13},{"$f":"AO7/(AQ4-AO11)","v":0.76470588235294112},{"$f":"IF(AP7=0,0,(AP7*((LOG(AP7))/LOG(2))))","v":-0.29595885884824796},null,{"$f":"N7","v":111},{"$f":"COUNTIF(L120:L142,AS7)","v":13},{"$f":"AT7/(AV4-AT11)","v":0.68421052631578949},{"$f":"IF(AU7=0,0,(AU7*((LOG(AU7))/LOG(2))))","v":-0.37459691257539013}]
[21,180,11,190,11,209,null,null,null,null,0,211,null,112,{"$f":"COUNTIF($L$7:$L$500,N8)","v":5},{"$f":"O8/$Q$4","v":3.6764705882352942E-2},{"$f":"IF(P8=0,0,(P8*((LOG(P8))/LOG(2))))","v":-0.17520348332216826},null,null,{"$f":"N8","v":112},{"$f":"COUNTIF(L7:L29,T8)","v":1},{"$f":"U8/(W4-U11)","v":5.8823529411764705E-2},{"$f":"IF(V8=0,0,(V8*((LOG(V8))/LOG(2))))","v":-0.24043899066178465},null,{"$f":"N8","v":112},{"$f":"COUNTIF(L30:L51,Y8)","v":1},{"$f":"Z8/(AB4-Z11)","v":6.25E-2},{"$f":"IF(AA8=0,0,(AA8*((LOG(AA8))/LOG(2))))","v":-0.25},null,{"$f":"N8","v":112},{"$f":"COUNTIF(L52:L74,AD8)","v":0},{"$f":"AE8/(AG4-AE11)","v":0},{"$f":"IF(AF8=0,0,(AF8*((LOG(AF8))/LOG(2))))","v":0},null,{"$f":"N8","v":112},{"$f":"COUNTIF(L75:L97,AI8)","v":1},{"$f":"AJ8/(AL4-AJ11)","v":5.8823529411764705E-2},{"$f":"IF(AK8=0,0,(AK8*((LOG(AK8))/LOG(2))))","v":-0.24043899066178465},null,{"$f":"N8","v":112},{"$f":"COUNTIF(L98:L119,AN8)","v":1},{"$f":"AO8/(AQ4-AO11)","v":5.8823529411764705E-2},{"$f":"IF(AP8=0,0,(AP8*((LOG(AP8))/LOG(2))))","v":-0.24043899066178465},null,{"$f":"N8","v":112},{"$f":"COUNTIF(L120:L142,AS8)","v":1},{"$f":"AT8/(AV4-AT11)","v":5.2631578947368418E-2},{"$f":"IF(AU8=0,0,(AU8*((LOG(AU8))/LOG(2))))","v":-0.22357513228650452}]
[12,389,13,394,13,402,null,null,null,null,0,111,null,121,{"$f":"COUNTIF($L$7:$L$500,N9)","v":5},{"$f":"O9/$Q$4","v":3.6764705882352942E-2},{"$f":"IF(P9=0,0,(P9*((LOG(P9))/LOG(2))))","v":-0.17520348332216826},null,null,{"$f":"N9","v":121},{"$f":"COUNTIF(L7:L29,T9)","v":2},{"$f":"U9/(W4-U11)","v":0.11764705882352941},{"$f":"IF(V9=0,0,(V9*((LOG(V9))/LOG(2))))","v":-0.36323092250003997},null,{"$f":"N9","v":121},{"$f":"COUNTIF(L30:L51,Y9)","v":0},{"$f":"Z9/(AB4-Z11)","v":0},{"$f":"IF(AA9=0,0,(AA9*((LOG(AA9))/LOG(2))))","v":0},null,{"$f":"N9","v":121},{"$f":"COUNTIF(L52:L74,AD9)","v":2},{"$f":"AE9/(AG4-AE11)","v":0.11764705882352941},{"$f":"IF(AF9=0,0,(AF9*((LOG(AF9))/LOG(2))))","v":-0.36323092250003997},null,{"$f":"N9","v":121},{"$f":"COUNTIF(L75:L97,AI9)","v":0},{"$f":"AJ9/(AL4-AJ11)","v":0},{"$f":"IF(AK9=0,0,(AK9*((LOG(AK9))/LOG(2))))","v":0},null,{"$f":"N9","v":121},{"$f":"COUNTIF(L98:L119,AN9)","v":0},{"$f":"AO9/(AQ4-AO11)","v":0},{"$f":"IF(AP9=0,0,(AP9*((LOG(AP9))/LOG(2))))","v":0},null,{"$f":"N9","v":121},{"$f":"COUNTIF(L120:L142,AS9)","v":1},{"$f":"AT9/(AV4-AT11)","v":5.2631578947368418E-2},{"$f":"IF(AU9=0,0,(AU9*((LOG(AU9))/LOG(2))))","v":-0.22357513228650452}]
[12,502,24,512,13,526,null,null,null,null,0,121,null,122,{"$f":"COUNTIF($L$7:$L$500,N10)","v":3},{"$f":"O10/$Q$4","v":2.2058823529411766E-2},{"$f":"IF(P10=0,0,(P10*((LOG(P10))/LOG(2))))","v":-0.1213786839822614},null,null,{"$f":"N10","v":122},{"$f":"COUNTIF(L7:L29,T10)","v":0},{"$f":"U10/(W4-U11)","v":0},{"$f":"IF(V10=0,0,(V10*((LOG(V10))/LOG(2))))","v":0},null,{"$f":"N10","v":122},{"$f":"COUNTIF(L30:L51,Y10)","v":0},{"$f":"Z10/(AB4-Z11)","v":0},{"$f":"IF(AA10=0,0,(AA10*((LOG(AA10))/LOG(2))))","v":0},null,{"$f":"N10","v":122},{"$f":"COUNTIF(L52:L74,AD10)","v":1},{"$f":"AE10/(AG4-AE11)","v":5.8823529411764705E-2},{"$f":"IF(AF10=0,0,(AF10*((LOG(AF10))/LOG(2))))","v":-0.24043899066178465},null,{"$f":"N10","v":122},{"$f":"COUNTIF(L75:L97,AI10)","v":0},{"$f":"AJ10/(AL4-AJ11)","v":0},{"$f":"IF(AK10=0,0,(AK10*((LOG(AK10))/LOG(2))))","v":0},null,{"$f":"N10","v":122},{"$f":"COUNTIF(L98:L119,AN10)","v":1},{"$f":"AO10/(AQ4-AO11)","v":5.8823529411764705E-2},{"$f":"IF(AP10=0,0,(AP10*((LOG(AP10))/LOG(2))))","v":-0.24043899066178465},null,{"$f":"N10","v":122},{"$f":"COUNTIF(L120:L142,AS10)","v":1},{"$f":"AT10/(AV4-AT11)","v":5.2631578947368418E-2},{"$f":"IF(AU10=0,0,(AU10*((LOG(AU10))/LOG(2))))","v":-0.22357513228650452}]
[12,636,13,641,13,649,null,null,null,null,0,111,null,211,{"$f":"COUNTIF($L$7:$L$500,N11)","v":33},{"$f":"O11/$Q$4","v":0.24264705882352941},{"$f":"IF(P11=0,0,(P11*((LOG(P11))/LOG(2))))","v":-0.49574461634141342},null,null,{"$f":"N11","v":211},{"$f":"COUNTIF(L7:L29,T11)","v":6},null,null,null,{"$f":"N11","v":211},{"$f":"COUNTIF(L30:L51,Y11)","v":6},null,null,null,{"$f":"N11","v":211},{"$f":"COUNTIF(L52:L74,AD11)","v":6},null,null,null,{"$f":"N11","v":211},{"$f":"COUNTIF(L75:L97,AI11)","v":6},null,null,null,{"$f":"N11","v":211},{"$f":"COUNTIF(L98:L119,AN11)","v":5},null,null,null,{"$f":"N11","v":211},{"$f":"COUNTIF(L120:L142,AS11)","v":4}]
[12,765,13,780,13,793,null,null,null,null,0,111,null,212,{"$f":"COUNTIF($L$7:$L$500,N12)","v":3},{"$f":"O12/$Q$4","v":2.2058823529411766E-2},{"$f":"IF(P12=0,0,(P12*((LOG(P12))/LOG(2))))","v":-0.1213786839822614},null,null,{"$f":"N12","v":212},{"$f":"COUNTIF(L7:L29,T12)","v":0},{"$f":"U12/(W4-U11)","v":0},{"$f":"IF(V12=0,0,(V12*((LOG(V12))/LOG(2))))","v":0},null,{"$f":"N12","v":212},{"$f":"COUNTIF(L30:L51,Y12)","v":1},{"$f":"Z12/(AB4-Z11)","v":6.25E-2},{"$f":"IF(AA12=0,0,(AA12*((LOG(AA12))/LOG(2))))","v":-0.25},null,{"$f":"N12","v":212},{"$f":"COUNTIF(L52:L74,AD12)","v":1},{"$f":"AE12/(AG4-AE11)","v":5.8823529411764705E-2},{"$f":"IF(AF12=0,0,(AF12*((LOG(AF12))/LOG(2))))","v":-0.24043899066178465},null,{"$f":"N12","v":212},{"$f":"COUNTIF(L75:L97,AI12)","v":1},{"$f":"AJ12/(AL4-AJ11)","v":5.8823529411764705E-2},{"$f":"IF(AK12=0,0,(AK12*((LOG(AK12))/LOG(2))))","v":-0.24043899066178465},null,{"$f":"N12","v":212},{"$f":"COUNTIF(L98:L119,AN12)","v":0},{"$f":"AO12/(AQ4-AO11)","v":0},{"$f":"IF(AP12=0,0,(AP12*((LOG(AP12))/LOG(2))))","v":0},null,{"$f":"N12","v":212},{"$f":"COUNTIF(L120:L142,AS12)","v":0},{"$f":"AT12/(AV4-AT11)","v":0},{"$f":"IF(AU12=0,0,(AU12*((LOG(AU12))/LOG(2))))","v":0}]
[12,907,13,909,24,931,null,null,null,null,0,112,null,221,{"$f":"COUNTIF($L$7:$L$500,N13)","v":5},{"$f":"O13/$Q$4","v":3.6764705882352942E-2},{"$f":"IF(P13=0,0,(P13*((LOG(P13))/LOG(2))))","v":-0.17520348332216826},null,null,{"$f":"N13","v":221},{"$f":"COUNTIF(L7:L29,T13)","v":0},{"$f":"U13/(W4-U11)","v":0},{"$f":"IF(V13=0,0,(V13*((LOG(V13))/LOG(2))))","v":0},null,{"$f":"N13","v":221},{"$f":"COUNTIF(L30:L51,Y13)","v":0},{"$f":"Z13/(AB4-Z11)","v":0},{"$f":"IF(AA13=0,0,(AA13*((LOG(AA13))/LOG(2))))","v":0},null,{"$f":"N13","v":221},{"$f":"COUNTIF(L52:L74,AD13)","v":3},{"$f":"AE13/(AG4-AE11)","v":0.17647058823529413},{"$f":"IF(AF13=0,0,(AF13*((LOG(AF13))/LOG(2))))","v":-0.44161770715220888},null,{"$f":"N13","v":221},{"$f":"COUNTIF(L75:L97,AI13)","v":0},{"$f":"AJ13/(AL4-AJ11)","v":0},{"$f":"IF(AK13=0,0,(AK13*((LOG(AK13))/LOG(2))))","v":0},null,{"$f":"N13","v":221},{"$f":"COUNTIF(L98:L119,AN13)","v":1},{"$f":"AO13/(AQ4-AO11)","v":5.8823529411764705E-2},{"$f":"IF(AP13=0,0,(AP13*((LOG(AP13))/LOG(2))))","v":-0.24043899066178465},null,{"$f":"N13","v":221},{"$f":"COUNTIF(L120:L142,AS13)","v":1},{"$f":"AT13/(AV4-AT11)","v":5.2631578947368418E-2},{"$f":"IF(AU13=0,0,(AU13*((LOG(AU13))/LOG(2))))","v":-0.22357513228650452}]
[12,1262,13,1270,13,1287,null,null,null,null,0,111,null,222,{"$f":"COUNTIF($L$7:$L$500,N14)","v":3},{"$f":"O14/$Q$4","v":2.2058823529411766E-2},{"$f":"IF(P14=0,0,(P14*((LOG(P14))/LOG(2))))","v":-0.1213786839822614},null,null,{"$f":"N14","v":222},{"$f":"COUNTIF(L7:L29,T14)","v":0},{"$f":"U14/(W4-U11)","v":0},{"$f":"IF(V14=0,0,(V14*((LOG(V14))/LOG(2))))","v":0},null,{"$f":"N14","v":222},{"$f":"COUNTIF(L30:L51,Y14)","v":0},{"$f":"Z14/(AB4-Z11)","v":0},{"$f":"IF(AA14=0,0,(AA14*((LOG(AA14))/LOG(2))))","v":0},null,{"$f":"N14","v":222},{"$f":"COUNTIF(L52:L74,AD14)","v":0},{"$f":"AE14/(AG4-AE11)","v":0},{"$f":"IF(AF14=0,0,(AF14*((LOG(AF14))/LOG(2))))","v":0},null,{"$f":"N14","v":222},{"$f":"COUNTIF(L75:L97,AI14)","v":0},{"$f":"AJ14/(AL4-AJ11)","v":0},{"$f":"IF(AK14=0,0,(AK14*((LOG(AK14))/LOG(2))))","v":0},null,{"$f":"N14","v":222},{"$f":"COUNTIF(L98:L119,AN14)","v":1},{"$f":"AO14/(AQ4-AO11)","v":5.8823529411764705E-2},{"$f":"IF(AP14=0,0,(AP14*((LOG(AP14))/LOG(2))))","v":-0.24043899066178465},null,{"$f":"N14","v":222},{"$f":"COUNTIF(L120:L142,AS14)","v":2},{"$f":"AT14/(AV4-AT11)","v":0.10526315789473684},{"$f":"IF(AU14=0,0,(AU14*((LOG(AU14))/LOG(2))))","v":-0.34188710667827216}]
[12,1386,13,1400,13,1405,null,null,null,null,0,111,null,null,null,{"$f":"SUM(P7:P14)","v":1},{"$f":"-SUM(Q7:Q14)","v":1.8407182164369502},null,null,null,null,{"$f":"SUM(V7:V14)","v":1},{"$f":"-SUM(W7:W14)","v":0.83434702308525366},null,null,null,{"$f":"SUM(AA7:AA14)","v":1},{"$f":"-SUM(AB7:AB14)","v":0.6685644431995964},null,null,null,{"$f":"SUM(AF7:AF14)","v":1},{"$f":"-SUM(AG7:AG14)","v":1.7360411676599223},null,null,null,{"$f":"SUM(AK7:AK14)","v":1},{"$f":"-SUM(AL7:AL14)","v":0.64020643336047012},null,null,null,{"$f":"SUM(AP7:AP14)","v":1},{"$f":"-SUM(AQ7:AQ14)","v":1.2577148214953864},null,null,null,{"$f":"SUM(AU7:AU14)","v":0.99999999999999989},{"$f":"-SUM(AV7:AV14)","v":1.6107845483996805}]
[21,1510,11,1526,11,1533,null,null,null,null,0,211,null,null,null,"U=",{"$f":"Q15/(LOG(Q4)/LOG(2))","v":0.25971469024481247},null,null,null,null,"U1=",{"$f":"W15/(LOG(W4)/LOG(2))","v":0.18444469893201523},null,null,null,"U2=",{"$f":"AB15/(LOG(AB4)/LOG(2))","v":0.14992144747897149},null,null,null,"U3=",{"$f":"AG15/(LOG(AG4)/LOG(2))","v":0.3837774710558296},null,null,null,"U4=",{"$f":"AL15/(LOG(AL4)/LOG(2))","v":0.14152706198778572},null,null,null,"U5=",{"$f":"AQ15/(LOG(AQ4)/LOG(2))","v":0.28203478134725068},null,null,null,"U6=",{"$f":"AV15/(LOG(AV4)/LOG(2))","v":0.35608765040630269}]
[21,1747,11,1761,11,1769,null,null,null,null,0,211]
[12,1955,24,1993,13,2002,null,null,null,null,0,121]
[12,2119,13,2129,13,2134,null,null,null,null,0,111,null,"Total Target Seq"]
[12,2233,13,2252,13,2259,null,null,null,null,0,111,null,{"$f":"COUNTIF(L7:L142,G3)","v":33},null,23,22,23,23,22,23]
[12,2373,13,2378,13,2382,null,null,null,null,0,111,null,null,null,"% of reinforcement given in 6 equal intervals based on number of trials "]
[21,2485,11,2501,11,2509,null,null,null,null,0,211,null,null,null,"%_1","%_2","%_3","%_4","%_5","%_6"]
[12,2724,13,2731,13,2736,null,null,null,null,0,111,null,null,"target sequence",{"$f":"$G$3","v":211},{"$f":"$G$3","v":211},{"$f":"$G$3","v":211},{"$f":"$G$3","v":211},{"$f":"$G$3","v":211},{"$f":"$G$3","v":211}]
[12,2847,13,2852,13,2856,null,null,null,null,0,111,null,null,"total reinforcement",{"$f":"U11","v":6},{"$f":"Z11","v":6},{"$f":"AE11","v":6},{"$f":"AJ11","v":6},{"$f":"AO11","v":5},{"$f":"AT11","v":4}]
[21,2959,11,2968,11,2973,null,null,null,null,0,211,null,null,"% target"]
[21,3275,11,3288,11,3304,null,null,null,null,0,211,null,null,"CCRF"]
[12,3443,13,3512,13,3517,null,null,null,null,0,111,null,null,"% CCRf"]
[12,3624,13,3629,13,3634,null,null,null,null,0,111,null,null,"average response rate",{"$f":"F29/P20","v":163.34782608695653},{"$f":"(F51-F29)/Q20","v":161.68181818181819},{"$f":"(F74-F51)/R20","v":166.65217391304347},{"$f":"(F97-F74)/S20","v":152.13043478260869},{"$f":"(F119-F97)/T20","v":161.68181818181819},{"$f":"(F142-F119)/U20","v":168.91304347826087}]
[12,3745,13,3752,13,3757,null,null,null,null,0,111]
[21,3866,11,3878,11,3884,null,null,null,null,0,211]
[12,4155,13,4159,13,4164,null,null,null,null,0,111]
[21,4270,11,4281,11,4286,null,null,null,null,0,211]
[12,4497,13,4502,13,4506,null,null,null,null,0,111]
[12,4613,13,4617,13,4623,null,null,null,null,0,111]
[12,4741,13,4747,13,4752,null,null,null,null,0,111]
[21,4860,11,4876,11,4880,null,null,null,null,0,211]
[12,5077,13,5099,13,5104,null,null,null,null,0,111]
[12,5214,13,5223,13,5231,null,null,null,null,0,111]
[12,5347,13,5351,13,5359,null,null,null,null,0,111]
[12,5477,13,5485,13,5494,null,null,null,null,0,111]
[12,5616,13,5621,13,5625,null,null,null,null,0,111]
[21,5731,11,5755,11,5763,null,null,null,null,0,211]
[12,5956,13,5965,13,5974,null,null,null,null,0,111]
[21,6084,11,6096,11,6101,null,null,null,null,0,211]
[21,6323,11,6335,22,6351,null,null,null,null,0,212]
[21,6477,11,6493,11,6500,null,null,null,null,0,211]
[12,6743,13,6751,13,6759,null,null,null,null,0,111]
[12,6887,13,6895,13,6900,null,null,null,null,0,111]
[12,7009,13,7014,13,7022,null,null,null,null,0,111]
[12,7132,13,7140,24,7186,null,null,null,null,0,112]
[12,7301,13,7307,13,7314,null,null,null,null,0,111]
[12,7439,13,7448,13,7455,null,null,null,null,0,111]
[21,7558,22,7585,13,7604,null,null,null,null,0,221]
[12,7824,24,7833,13,7845,null,null,null,null,0,121]
[12,7956,13,7964,13,7970,null,null,null,null,0,111]
[21,8072,22,8102,13,8115,null,null,null,null,0,221]
[21,8217,11,8235,11,8243,null,null,null,null,0,211]
[12,8501,13,8522,13,8527,null,null,null,null,0,111]
[21,8627,22,8651,13,8665,null,null,null,null,0,221]
[21,8769,11,8782,22,8795,null,null,null,null,0,212]
[21,8907,11,8918,11,8925,null,null,null,null,0,211]
[12,9156,24,9171,13,9186,null,null,null,null,0,121]
[12,9294,24,9306,24,9308,null,null,null,null,0,122]
[21,9414,11,9427,11,9434,null,null,null,null,0,211]
[12,9623,13,9631,13,9639,null,null,null,null,0,111]
[21,9747,11,9764,11,9768,null,null,null,null,0,211]
[21,9992,11,10004,11,10009,null,null,null,null,0,211]
[12,10210,13,10245,13,10249,null,null,null,null,0,111]
[21,10354,11,10374,11,10389,null,null,null,null,0,211]
[12,10614,13,10621,13,10626,null,null,null,null,0,111]
[12,10735,13,10742,13,10749,null,null,null,null,0,111]
[12,10858,13,10866,13,10873,null,null,null,null,0,111]
[12,11002,13,11009,13,11014,null,null,null,null,0,111]
[12,11134,13,11142,13,11147,null,null,null,null,0,111]
[12,11259,13,11266,13,11273,null,null,null,null,0,111]
[12,11387,13,11394,13,11399,null,null,null,null,0,111]
[12,11508,13,11514,13,11522,null,null,null,null,0,111]
[12,11638,13,11643,13,11650,null,null,null,null,0,111]
[12,11762,13,11767,13,11771,null,null,null,null,0,111]
[12,11880,13,11885,13,11889,null,null,null,null,0,111]
[12,11998,13,12007,13,12015,null,null,null,null,0,111]
[21,12114,11,12125,11,12129,null,null,null,null,0,211]
[12,12308,13,12317,13,12328,null,null,null,null,0,111]
[21,12452,11,12469,11,12490,null,null,null,null,0,211]
[12,12629,13,12638,13,12665,null,null,null,null,0,111]
[12,12817,13,12821,13,12831,null,null,null,null,0,111]
[12,12944,13,12952,13,12957,null,null,null,null,0,111]
[21,13056,11,13085,11,13092,null,null,null,null,0,211]
[21,13309,11,13326,11,13334,null,null,null,null,0,211]
[12,13573,13,13578,13,13583,null,null,null,null,0,111]
[21,13687,11,13698,11,13705,null,null,null,null,0,211]
[12,13947,13,13956,13,13965,null,null,null,null,0,111]
[12,14082,13,14090,13,14096,null,null,null,null,0,111]
[12,14224,13,14231,13,14236,null,null,null,null,0,111]
[12,14344,13,14352,24,14372,null,null,null,null,0,112]
[21,14473,11,14491,22,14530,null,null,null,null,0,212]
[21,14629,11,14641,11,14646,null,null,null,null,0,211]
[12,14820,13,14831,13,14838,null,null,null,null,0,111]
[12,14959,13,14967,13,14974,null,null,null,null,0,111]
[12,15086,13,15092,13,15097,null,null,null,null,0,111]
[12,15205,13,15210,13,15216,null,null,null,null,0,111]
[12,15335,13,15360,13,15368,null,null,null,null,0,111]
[12,15477,13,15483,13,15488,null,null,null,null,0,111]
[12,15606,13,15611,13,15616,null,null,null,null,0,111]
[12,15713,24,15721,24,15749,null,null,null,null,0,122]
[12,15861,13,15871,13,15883,null,null,null,null,0,111]
[21,16003,11,16011,11,16018,null,null,null,null,0,211]
[12,16248,13,16256,13,16261,null,null,null,null,0,111]
[21,16396,22,16404,13,16416,null,null,null,null,0,221]
[12,16533,13,16541,13,16549,null,null,null,null,0,111]
[12,16661,13,16672,24,16692,null,null,null,null,0,112]
[21,16820,11,16836,11,16842,null,null,null,null,0,211]
[21,17075,11,17087,11,17092,null,null,null,null,0,211]
[21,17347,11,17360,11,17372,null,null,null,null,0,211]
[21,17550,11,17559,11,17566,null,null,null,null,0,211]
[12,17788,13,17793,13,17802,null,null,null,null,0,111]
[12,17921,13,17929,13,17933,null,null,null,null,0,111]
[12,18047,13,18054,13,18063,null,null,null,null,0,111]
[21,18188,22,18198,24,18203,null,null,null,null,0,222]
[12,18403,13,18434,13,18438,null,null,null,null,0,111]
[12,18569,13,18578,13,18583,null,null,null,null,0,111]
[12,18691,13,18697,13,18704,null,null,null,null,0,111]
[21,18804,22,18808,13,18822,null,null,null,null,0,221]
[12,19066,13,19075,13,19082,null,null,null,null,0,111]
[12,19198,13,19204,13,19210,null,null,null,null,0,111]
[12,19325,13,19332,13,19337,null,null,null,null,0,111]
[12,19462,13,19467,13,19474,null,null,null,null,0,111]
[21,19577,22,19584,24,19589,null,null,null,null,0,222]
[12,19767,13,19775,13,19781,null,null,null,null,0,111]
[12,19889,13,19895,13,19903,null,null,null,null,0,111]
[21,20010,11,20025,11,20033,null,null,null,null,0,211]
[21,20238,11,20250,11,20259,null,null,null,null,0,211]
[12,20438,24,20462,24,20469,null,null,null,null,0,122]
[12,20676,13,20683,13,20691,null,null,null,null,0,111]
[21,20788,22,20795,24,20805,null,null,null,null,0,222]
[21,20933,11,20947,11,20955,null,null,null,null,0,211]
[12,21260,13,21267,13,21276,null,null,null,null,0,111]
[21,21382,11,21395,11,21402,null,null,null,null,0,211]
[12,21637,13,21645,13,21652,null,null,null,null,0,111]
[12,21771,13,21778,24,21800,null,null,null,null,0,112]
[12,21910,13,21918,13,21926,null,null,null,null,0,111]
[12,22034,24,22069,13,22088,null,null,null,null,1,121]

{"sheet":"!2011-06-08_08h28m.Subject 53","index":16,"n_rows":159,"n_cols":48,"rows_kept":159,"cut":false,"hidden":false,"merged":[[4,39,4,42],[5,39,5,40],[4,44,4,47],[5,44,5,45],[4,24,4,27],[5,24,5,25],[4,29,4,32],[5,29,5,30],[4,34,4,37],[5,34,5,35],[1,1,1,2],[5,13,5,14],[18,13,18,14],[19,13,19,14],[4,19,4,22],[5,19,5,20]]}
["Report for:!2011-06-08_08h28m.Subject 53"]
["Date","2011-06-08",null,null,null,"Group",0]
["Hen",53,null,null,null,"Correct Sequence",{"$f":"Start!J2","v":211},null,null,null,null,null,null,null,null,"Total Sequences in Data",{"$f":"4994-COUNTBLANK(L7:L5000)","v":153},null,null,null,null,"Total Sequences in Block Data",{"$f":"COUNTA(L7:L32)","v":26},null,null,null,"Total Sequences in Block Data",{"$f":"COUNTA(L33:L57)","v":25},null,null,null,"Total Sequences in Block Data",{"$f":"COUNTA(L58:L83)","v":26},null,null,null,"Total Sequences in Block Data",{"$f":"COUNTA(L84:L108)","v":25},null,null,null,"Total Sequences in Block Data",{"$f":"COUNTA(L109:L134)","v":26},null,null,null,"Total Sequences in Block Data",{"$f":"COUNTA(L135:L159)","v":25}]
["Program",0,null,null,null,null,null,null,null,null,null,null,null,null,null,"Total Sequences in Summary",{"$f":"SUM(O7:O14)","v":153},null,null,null,null,"Total Sequences in Block Summary",{"$f":"SUM(U7:U14)","v":26},null,null,null,"Total Sequences in Block Summary",{"$f":"SUM(Z7:Z14)","v":25},null,null,null,"Total Sequences in Block Summary",{"$f":"SUM(AE7:AE14)","v":26},null,null,null,"Total Sequences in Block Summary",{"$f":"SUM(AJ7:AJ14)","v":25},null,null,null,"Total Sequences in Block Summary",{"$f":"SUM(AO7:AO14)","v":26},null,null,null,"Total Sequences in Block Summary",{"$f":"SUM(AT7:AT14)","v":25}]
[null,null,null,null,null,null,null,null,null,null,null,null,null,null,null,null,null,null,null,"Block 1",null,null,null,null,"Block 2",null,null,null,null,"Block 3",null,null,null,null,"Block 4",null,null,null,null,"Block 5",null,null,null,null,"Block 6"]
["Sequence\nComponent\n1","Time\n1","Sequence\nComponent\n2","Time\n2","Sequence\nComponent\n3","Time\n3","Sequence\nComponent\n4","Time\n4","Sequence\nComponent\n5","Time\n5","Correct?\n0=No 1=Yes","Sequence",null,"Frequency",null,"Relative Frequency","Variability",null,null,"Frequency",null,"Relative Frequency","Variability",null,"Frequency",null,"Relative Frequency","Variability",null,"Frequency",null,"Relative Frequency","Variability",null,"Frequency",null,"Relative Frequency","Variability",null,"Frequency",null,"Relative Frequency","Variability",null,"Frequency",null,"Relative Frequency","Variability"]
[21,110,22,124,24,133,null,null,null,null,0,222,null,111,{"$f":"COUNTIF($L$7:$L$500,N7)","v":94},{"$f":"O7/$Q$4","v":0.6143790849673203},{"$f":"IF(P7=0,0,(P7*((LOG(P7))/LOG(2))))","v":-0.43178500101576045},null,null,{"$f":"N7","v":111},{"$f":"COUNTIF(L7:L32,T7)","v":11},{"$f":"U7/(W4-U11)","v":0.57894736842105265},{"$f":"IF(V7=0,0,(V7*((LOG(V7))/LOG(2))))","v":-0.45649762330890375},null,{"$f":"N7","v":111},{"$f":"COUNTIF(L33:L57,Y7)","v":19},{"$f":"Z7/(AB4-Z11)","v":1},{"$f":"IF(AA7=0,0,(AA7*((LOG(AA7))/LOG(2))))","v":0},null,{"$f":"N7","v":111},{"$f":"COUNTIF(L58:L83,AD7)","v":18},{"$f":"AE7/(AG4-AE11)","v":0.78260869565217395},{"$f":"IF(AF7=0,0,(AF7*((LOG(AF7))/LOG(2))))","v":-0.27675935578541772},null,{"$f":"N7","v":111},{"$f":"COUNTIF(L84:L108,AI7)","v":15},{"$f":"AJ7/(AL4-AJ11)","v":0.7142857142857143},{"$f":"IF(AK7=0,0,(AK7*((LOG(AK7))/LOG(2))))","v":-0.34673344797874411},null,{"$f":"N7","v":111},{"$f":"COUNTIF(L109:L134,AN7)","v":19},{"$f":"AO7/(AQ4-AO11)","v":0.95},{"$f":"IF(AP7=0,0,(AP7*((LOG(AP7))/LOG(2))))","v":-7.0300552371588068E-2},null,{"$f":"N7","v":111},{"$f":"COUNTIF(L135:L159,AS7)","v":12},{"$f":"AT7/(AV4-AT11)","v":0.75},{"$f":"IF(AU7=0,0,(AU7*((LOG(AU7))/LOG(2))))","v":-0.31127812445913283}]
[21,259,22,270,13,311,null,null,null,null,0,221,null,112,{"$f":"COUNTIF($L$7:$L$500,N8)","v":2},{"$f":"O8/$Q$4","v":1.3071895424836602E-2},{"$f":"IF(P8=0,0,(P8*((LOG(P8))/LOG(2))))","v":-8.1795919512322249E-2},null,null,{"$f":"N8","v":112},{"$f":"COUNTIF(L7:L32,T8)","v":0},{"$f":"U8/(W4-U11)","v":0},{"$f":"IF(V8=0,0,(V8*((LOG(V8))/LOG(2))))","v":0},null,{"$f":"N8","v":112},{"$f":"COUNTIF(L33:L57,Y8)","v":0},{"$f":"Z8/(AB4-Z11)","v":0},{"$f":"IF(AA8=0,0,(AA8*((LOG(AA8))/LOG(2))))","v":0},null,{"$f":"N8","v":112},{"$f":"COUNTIF(L58:L83,AD8)","v":1},{"$f":"AE8/(AG4-AE11)","v":4.3478260869565216E-2},{"$f":"IF(AF8=0,0,(AF8*((LOG(AF8))/LOG(2))))","v":-0.19667660678508753},null,{"$f":"N8","v":112},{"$f":"COUNTIF(L84:L108,AI8)","v":0},{"$f":"AJ8/(AL4-AJ11)","v":0},{"$f":"IF(AK8=0,0,(AK8*((LOG(AK8))/LOG(2))))","v":0},null,{"$f":"N8","v":112},{"$f":"COUNTIF(L109:L134,AN8)","v":1},{"$f":"AO8/(AQ4-AO11)","v":0.05},{"$f":"IF(AP8=0,0,(AP8*((LOG(AP8))/LOG(2))))","v":-0.21609640474436814},null,{"$f":"N8","v":112},{"$f":"COUNTIF(L135:L159,AS8)","v":0},{"$f":"AT8/(AV4-AT11)","v":0},{"$f":"IF(AU8=0,0,(AU8*((LOG(AU8))/LOG(2))))","v":0}]
[21,415,22,423,24,432,null,null,null,null,0,222,null,121,{"$f":"COUNTIF($L$7:$L$500,N9)","v":0},{"$f":"O9/$Q$4","v":0},{"$f":"IF(P9=0,0,(P9*((LOG(P9))/LOG(2))))","v":0},null,null,{"$f":"N9","v":121},{"$f":"COUNTIF(L7:L32,T9)","v":0},{"$f":"U9/(W4-U11)","v":0},{"$f":"IF(V9=0,0,(V9*((LOG(V9))/LOG(2))))","v":0},null,{"$f":"N9","v":121},{"$f":"COUNTIF(L33:L57,Y9)","v":0},{"$f":"Z9/(AB4-Z11)","v":0},{"$f":"IF(AA9=0,0,(AA9*((LOG(AA9))/LOG(2))))","v":0},null,{"$f":"N9","v":121},{"$f":"COUNTIF(L58:L83,AD9)","v":0},{"$f":"AE9/(AG4-AE11)","v":0},{"$f":"IF(AF9=0,0,(AF9*((LOG(AF9))/LOG(2))))","v":0},null,{"$f":"N9","v":121},{"$f":"COUNTIF(L84:L108,AI9)","v":0},{"$f":"AJ9/(AL4-AJ11)","v":0},{"$f":"IF(AK9=0,0,(AK9*((LOG(AK9))/LOG(2))))","v":0},null,{"$f":"N9","v":121},{"$f":"COUNTIF(L109:L134,AN9)","v":0},{"$f":"AO9/(AQ4-AO11)","v":0},{"$f":"IF(AP9=0,0,(AP9*((LOG(AP9))/LOG(2))))","v":0},null,{"$f":"N9","v":121},{"$f":"COUNTIF(L135:L159,AS9)","v":0},{"$f":"AT9/(AV4-AT11)","v":0},{"$f":"IF(AU9=0,0,(AU9*((LOG(AU9))/LOG(2))))","v":0}]
[12,549,24,566,24,575,null,null,null,null,0,122,null,122,{"$f":"COUNTIF($L$7:$L$500,N10)","v":1},{"$f":"O10/$Q$4","v":6.5359477124183009E-3},{"$f":"IF(P10=0,0,(P10*((LOG(P10))/LOG(2))))","v":-4.743390746857943E-2},null,null,{"$f":"N10","v":122},{"$f":"COUNTIF(L7:L32,T10)","v":1},{"$f":"U10/(W4-U11)","v":5.2631578947368418E-2},{"$f":"IF(V10=0,0,(V10*((LOG(V10))/LOG(2))))","v":-0.22357513228650452},null,{"$f":"N10","v":122},{"$f":"COUNTIF(L33:L57,Y10)","v":0},{"$f":"Z10/(AB4-Z11)","v":0},{"$f":"IF(AA10=0,0,(AA10*((LOG(AA10))/LOG(2))))","v":0},null,{"$f":"N10","v":122},{"$f":"COUNTIF(L58:L83,AD10)","v":0},{"$f":"AE10/(AG4-AE11)","v":0},{"$f":"IF(AF10=0,0,(AF10*((LOG(AF10))/LOG(2))))","v":0},null,{"$f":"N10","v":122},{"$f":"COUNTIF(L84:L108,AI10)","v":0},{"$f":"AJ10/(AL4-AJ11)","v":0},{"$f":"IF(AK10=0,0,(AK10*((LOG(AK10))/LOG(2))))","v":0},null,{"$f":"N10","v":122},{"$f":"COUNTIF(L109:L134,AN10)","v":0},{"$f":"AO10/(AQ4-AO11)","v":0},{"$f":"IF(AP10=0,0,(AP10*((LOG(AP10))/LOG(2))))","v":0},null,{"$f":"N10","v":122},{"$f":"COUNTIF(L135:L159,AS10)","v":0},{"$f":"AT10/(AV4-AT11)","v":0},{"$f":"IF(AU10=0,0,(AU10*((LOG(AU10))/LOG(2))))","v":0}]
[21,687,22,697,13,722,null,null,null,null,0,221,null,211,{"$f":"COUNTIF($L$7:$L$500,N11)","v":35},{"$f":"O11/$Q$4","v":0.22875816993464052},{"$f":"IF(P11=0,0,(P11*((LOG(P11))/LOG(2))))","v":-0.48682136536711756},null,null,{"$f":"N11","v":211},{"$f":"COUNTIF(L7:L32,T11)","v":7},null,null,null,{"$f":"N11","v":211},{"$f":"COUNTIF(L33:L57,Y11)","v":6},null,null,null,{"$f":"N11","v":211},{"$f":"COUNTIF(L58:L83,AD11)","v":3},null,null,null,{"$f":"N11","v":211},{"$f":"COUNTIF(L84:L108,AI11)","v":4},null,null,null,{"$f":"N11","v":211},{"$f":"COUNTIF(L109:L134,AN11)","v":6},null,null,null,{"$f":"N11","v":211},{"$f":"COUNTIF(L135:L159,AS11)","v":9}]
[21,837,22,846,24,854,null,null,null,null,0,222,null,212,{"$f":"COUNTIF($L$7:$L$500,N12)","v":0},{"$f":"O12/$Q$4","v":0},{"$f":"IF(P12=0,0,(P12*((LOG(P12))/LOG(2))))","v":0},null,null,{"$f":"N12","v":212},{"$f":"COUNTIF(L7:L32,T12)","v":0},{"$f":"U12/(W4-U11)","v":0},{"$f":"IF(V12=0,0,(V12*((LOG(V12))/LOG(2))))","v":0},null,{"$f":"N12","v":212},{"$f":"COUNTIF(L33:L57,Y12)","v":0},{"$f":"Z12/(AB4-Z11)","v":0},{"$f":"IF(AA12=0,0,(AA12*((LOG(AA12))/LOG(2))))","v":0},null,{"$f":"N12","v":212},{"$f":"COUNTIF(L58:L83,AD12)","v":0},{"$f":"AE12/(AG4-AE11)","v":0},{"$f":"IF(AF12=0,0,(AF12*((LOG(AF12))/LOG(2))))","v":0},null,{"$f":"N12","v":212},{"$f":"COUNTIF(L84:L108,AI12)","v":0},{"$f":"AJ12/(AL4-AJ11)","v":0},{"$f":"IF(AK12=0,0,(AK12*((LOG(AK12))/LOG(2))))","v":0},null,{"$f":"N12","v":212},{"$f":"COUNTIF(L109:L134,AN12)","v":0},{"$f":"AO12/(AQ4-AO11)","v":0},{"$f":"IF(AP12=0,0,(AP12*((LOG(AP12))/LOG(2))))","v":0},null,{"$f":"N12","v":212},{"$f":"COUNTIF(L135:L159,AS12)","v":0},{"$f":"AT12/(AV4-AT11)","v":0},{"$f":"IF(AU12=0,0,(AU12*((LOG(AU12))/LOG(2))))","v":0}]
[21,964,11,985,11,994,null,null,null,null,0,211,null,221,{"$f":"COUNTIF($L$7:$L$500,N13)","v":10},{"$f":"O13/$Q$4","v":6.535947712418301E-2},{"$f":"IF(P13=0,0,(P13*((LOG(P13))/LOG(2))))","v":-0.25721959135982286},null,null,{"$f":"N13","v":221},{"$f":"COUNTIF(L7:L32,T13)","v":4},{"$f":"U13/(W4-U11)","v":0.21052631578947367},{"$f":"IF(V13=0,0,(V13*((LOG(V13))/LOG(2))))","v":-0.47324789756707064},null,{"$f":"N13","v":221},{"$f":"COUNTIF(L33:L57,Y13)","v":0},{"$f":"Z13/(AB4-Z11)","v":0},{"$f":"IF(AA13=0,0,(AA13*((LOG(AA13))/LOG(2))))","v":0},null,{"$f":"N13","v":221},{"$f":"COUNTIF(L58:L83,AD13)","v":1},{"$f":"AE13/(AG4-AE11)","v":4.3478260869565216E-2},{"$f":"IF(AF13=0,0,(AF13*((LOG(AF13))/LOG(2))))","v":-0.19667660678508753},null,{"$f":"N13","v":221},{"$f":"COUNTIF(L84:L108,AI13)","v":2},{"$f":"AJ13/(AL4-AJ11)","v":9.5238095238095233E-2},{"$f":"IF(AK13=0,0,(AK13*((LOG(AK13))/LOG(2))))","v":-0.32307784978845333},null,{"$f":"N13","v":221},{"$f":"COUNTIF(L109:L134,AN13)","v":0},{"$f":"AO13/(AQ4-AO11)","v":0},{"$f":"IF(AP13=0,0,(AP13*((LOG(AP13))/LOG(2))))","v":0},null,{"$f":"N13","v":221},{"$f":"COUNTIF(L135:L159,AS13)","v":3},{"$f":"AT13/(AV4-AT11)","v":0.1875},{"$f":"IF(AU13=0,0,(AU13*((LOG(AU13))/LOG(2))))","v":-0.45281953111478312}]
[12,1164,13,1172,13,1178,null,null,null,null,0,111,null,222,{"$f":"COUNTIF($L$7:$L$500,N14)","v":11},{"$f":"O14/$Q$4","v":7.1895424836601302E-2},{"$f":"IF(P14=0,0,(P14*((LOG(P14))/LOG(2))))","v":-0.27305567623927385},null,null,{"$f":"N14","v":222},{"$f":"COUNTIF(L7:L32,T14)","v":3},{"$f":"U14/(W4-U11)","v":0.15789473684210525},{"$f":"IF(V14=0,0,(V14*((LOG(V14))/LOG(2))))","v":-0.42046815990354147},null,{"$f":"N14","v":222},{"$f":"COUNTIF(L33:L57,Y14)","v":0},{"$f":"Z14/(AB4-Z11)","v":0},{"$f":"IF(AA14=0,0,(AA14*((LOG(AA14))/LOG(2))))","v":0},null,{"$f":"N14","v":222},{"$f":"COUNTIF(L58:L83,AD14)","v":3},{"$f":"AE14/(AG4-AE11)","v":0.13043478260869565},{"$f":"IF(AF14=0,0,(AF14*((LOG(AF14))/LOG(2))))","v":-0.3832955811307639},null,{"$f":"N14","v":222},{"$f":"COUNTIF(L84:L108,AI14)","v":4},{"$f":"AJ14/(AL4-AJ11)","v":0.19047619047619047},{"$f":"IF(AK14=0,0,(AK14*((LOG(AK14))/LOG(2))))","v":-0.4556795091007162},null,{"$f":"N14","v":222},{"$f":"COUNTIF(L109:L134,AN14)","v":0},{"$f":"AO14/(AQ4-AO11)","v":0},{"$f":"IF(AP14=0,0,(AP14*((LOG(AP14))/LOG(2))))","v":0},null,{"$f":"N14","v":222},{"$f":"COUNTIF(L135:L159,AS14)","v":1},{"$f":"AT14/(AV4-AT11)","v":6.25E-2},{"$f":"IF(AU14=0,0,(AU14*((LOG(AU14))/LOG(2))))","v":-0.25}]
[12,1356,13,1382,13,1390,null,null,null,null,0,111,null,null,null,{"$f":"SUM(P7:P14)","v":0.99999999999999989},{"$f":"-SUM(Q7:Q14)","v":1.5781114609628761},null,null,null,null,{"$f":"SUM(V7:V14)","v":1},{"$f":"-SUM(W7:W14)","v":1.5737888130660203},null,null,null,{"$f":"SUM(AA7:AA14)","v":1},{"$f":"-SUM(AB7:AB14)","v":0},null,null,null,{"$f":"SUM(AF7:AF14)","v":1},{"$f":"-SUM(AG7:AG14)","v":1.0534081504863566},null,null,null,{"$f":"SUM(AK7:AK14)","v":1},{"$f":"-SUM(AL7:AL14)","v":1.1254908068679137},null,null,null,{"$f":"SUM(AP7:AP14)","v":1},{"$f":"-SUM(AQ7:AQ14)","v":0.2863969571159562},null,null,null,{"$f":"SUM(AU7:AU14)","v":1},{"$f":"-SUM(AV7:AV14)","v":1.0140976555739161}]
[21,1498,11,1516,11,1522,null,null,null,null,0,211,null,null,null,"U=",{"$f":"Q15/(LOG(Q4)/LOG(2))","v":0.21744896306621553},null,null,null,null,"U1=",{"$f":"W15/(LOG(W4)/LOG(2))","v":0.3348173591062274},null,null,null,"U2=",{"$f":"AB15/(LOG(AB4)/LOG(2))","v":0},null,null,null,"U3=",{"$f":"AG15/(LOG(AG4)/LOG(2))","v":0.22410842679691967},null,null,null,"U4=",{"$f":"AL15/(LOG(AL4)/LOG(2))","v":0.24236125342255949},null,null,null,"U5=",{"$f":"AQ15/(LOG(AQ4)/LOG(2))","v":6.092982237611147E-2},null,null,null,"U6=",{"$f":"AV15/(LOG(AV4)/LOG(2))","v":0.21837404392643567}]
[12,1719,13,1724,13,1729,null,null,null,null,0,111]
[12,1843,13,1848,13,1853,null,null,null,null,0,111]
[21,1956,22,1962,13,1976,null,null,null,null,0,221,null,"Total Target Seq"]
[21,2076,11,2090,11,2095,null,null,null,null,0,211,null,{"$f":"COUNTIF(L7:L159,G3)","v":35},null,26,25,26,25,26,25]
[12,2325,13,2333,13,2338,null,null,null,null,0,111,null,null,null,"% of reinforcement given in 6 equal intervals based on number of trials "]
[21,2443,11,2454,11,2463,null,null,null,null,0,211,null,null,null,"%_1","%_2","%_3","%_4","%_5","%_6"]
[21,2660,11,2671,11,2676,null,null,null,null,0,211,null,null,"target sequence",{"$f":"$G$3","v":211},{"$f":"$G$3","v":211},{"$f":"$G$3","v":211},{"$f":"$G$3","v":211},{"$f":"$G$3","v":211},{"$f":"$G$3","v":211}]
[12,2833,13,2838,13,2847,null,null,null,null,0,111,null,null,"total reinforcement",{"$f":"U11","v":7},{"$f":"Z11","v":6},{"$f":"AE11","v":3},{"$f":"AJ11","v":4},{"$f":"AO11","v":6},{"$f":"AT11","v":9}]
[12,2958,13,2962,13,2967,null,null,null,null,0,111,null,null,"% target"]
[21,3070,22,3078,13,3096,null,null,null,null,0,221,null,null,"CCRF"]
[21,3199,11,3210,11,3218,null,null,null,null,0,211,null,null,"% CCRf"]
[12,3381,13,3386,13,3396,null,null,null,null,0,111,null,null,"average response rate",{"$f":"F32/P20","v":150.57692307692307},{"$f":"(F57-F32)/Q20","v":148.16},{"$f":"(F83-F57)/R20","v":142.53846153846155},{"$f":"(F108-F83)/S20","v":149.44},{"$f":"(F134-F108)/T20","v":167.19230769230768},{"$f":"(F159-F134)/U20","v":177}]
[12,3505,13,3510,13,3519,null,null,null,null,0,111]
[12,3633,13,3639,13,3645,null,null,null,null,0,111]
[12,3762,13,3767,13,3776,null,null,null,null,0,111]
[21,3889,11,3906,11,3915,null,null,null,null,0,211]
[12,4083,13,4098,13,4103,null,null,null,null,0,111]
[12,4213,13,4219,13,4223,null,null,null,null,0,111]
[21,4315,11,4333,11,4339,null,null,null,null,0,211]
[12,4480,13,4490,13,4510,null,null,null,null,0,111]
[21,4612,11,4623,11,4628,null,null,null,null,0,211]
[12,4795,13,4802,13,4807,null,null,null,null,0,111]
[21,4929,11,4939,11,4944,null,null,null,null,0,211]
[12,5121,13,5129,13,5134,null,null,null,null,0,111]
[12,5240,13,5247,13,5255,null,null,null,null,0,111]
[12,5367,13,5374,13,5380,null,null,null,null,0,111]
[12,5493,13,5497,13,5503,null,null,null,null,0,111]
[12,5630,13,5635,13,5640,null,null,null,null,0,111]
[21,5748,11,5764,11,5769,null,null,null,null,0,211]
[12,5990,13,5995,13,6000,null,null,null,null,0,111]
[12,6117,13,6124,13,6131,null,null,null,null,0,111]
[21,6229,11,6238,11,6242,null,null,null,null,0,211]
[12,6409,13,6416,13,6421,null,null,null,null,0,111]
[12,6535,13,6543,13,6550,null,null,null,null,0,111]
[12,6666,13,6671,13,6679,null,null,null,null,0,111]
[12,6796,13,6805,13,6812,null,null,null,null,0,111]
[21,6915,11,6927,11,6932,null,null,null,null,0,211]
[12,7240,13,7245,13,7253,null,null,null,null,0,111]
[12,7360,13,7366,13,7370,null,null,null,null,0,111]
[12,7488,13,7493,13,7498,null,null,null,null,0,111]
[12,7609,13,7614,13,7619,null,null,null,null,0,111]
[12,7739,13,7744,13,7749,null,null,null,null,0,111]
[12,7854,13,7859,13,7868,null,null,null,null,0,111]
[12,7975,13,7981,13,7986,null,null,null,null,0,111]
[12,8095,13,8103,13,8110,null,null,null,null,0,111]
[12,8222,13,8227,13,8236,null,null,null,null,0,111]
[12,8353,13,8357,13,8365,null,null,null,null,0,111]
[21,8470,11,8491,11,8500,null,null,null,null,0,211]
[12,8726,13,8731,13,8739,null,null,null,null,0,111]
[12,8850,13,8855,13,8859,null,null,null,null,0,111]
[12,8973,13,8978,13,8983,null,null,null,null,0,111]
[12,9096,13,9105,13,9114,null,null,null,null,0,111]
[12,9228,13,9236,13,9244,null,null,null,null,0,111]
[12,9355,13,9361,13,9365,null,null,null,null,0,111]
[12,9489,13,9496,13,9504,null,null,null,null,0,111]
[21,9619,22,9626,24,9634,null,null,null,null,0,222]
[21,9737,11,9747,11,9751,null,null,null,null,0,211]
[12,10022,13,10057,13,10062,null,null,null,null,0,111]
[21,10174,22,10180,24,10185,null,null,null,null,0,222]
[12,10294,13,10299,13,10304,null,null,null,null,0,111]
[12,10415,13,10419,13,10424,null,null,null,null,0,111]
[21,10539,22,10545,13,10562,null,null,null,null,0,221]
[12,10681,13,10690,24,10703,null,null,null,null,0,112]
[21,10817,22,10825,24,10830,null,null,null,null,0,222]
[12,10955,13,10962,13,10967,null,null,null,null,0,111]
[21,11091,11,11104,11,11109,null,null,null,null,0,211]
[12,11314,13,11320,13,11325,null,null,null,null,0,111]
[12,11441,13,11448,13,11452,null,null,null,null,0,111]
[12,11568,13,11575,13,11580,null,null,null,null,0,111]
[21,11672,22,11681,24,11689,null,null,null,null,0,222]
[21,11792,11,11800,11,11805,null,null,null,null,0,211]
[12,11978,13,11982,13,11987,null,null,null,null,0,111]
[21,12108,22,12116,24,12123,null,null,null,null,0,222]
[21,12227,22,12234,24,12242,null,null,null,null,0,222]
[12,12364,13,12371,13,12380,null,null,null,null,0,111]
[12,12478,13,12498,13,12503,null,null,null,null,0,111]
[21,12619,22,12624,24,12629,null,null,null,null,0,222]
[12,12758,13,12766,13,12771,null,null,null,null,0,111]
[12,12894,13,12904,13,12917,null,null,null,null,0,111]
[12,13033,13,13041,13,13048,null,null,null,null,0,111]
[12,13167,13,13177,13,13188,null,null,null,null,0,111]
[21,13294,22,13299,13,13316,null,null,null,null,0,221]
[21,13420,22,13427,13,13446,null,null,null,null,0,221]
[21,13553,11,13573,11,13579,null,null,null,null,0,211]
[12,13791,13,13800,13,13808,null,null,null,null,0,111]
[12,13927,13,13934,13,13946,null,null,null,null,0,111]
[21,14057,11,14073,11,14082,null,null,null,null,0,211]
[12,14345,13,14352,13,14359,null,null,null,null,0,111]
[12,14481,13,14490,13,14497,null,null,null,null,0,111]
[12,14613,13,14621,13,14629,null,null,null,null,0,111]
[21,14744,11,14764,11,14771,null,null,null,null,0,211]
[12,15048,13,15056,13,15061,null,null,null,null,0,111]
[12,15176,13,15183,13,15188,null,null,null,null,0,111]
[12,15322,13,15327,13,15334,null,null,null,null,0,111]
[12,15450,13,15455,13,15460,null,null,null,null,0,111]
[12,15574,13,15582,13,15594,null,null,null,null,0,111]
[12,15710,13,15715,13,15720,null,null,null,null,0,111]
[12,15833,13,15842,13,15859,null,null,null,null,0,111]
[12,15982,13,15988,13,15993,null,null,null,null,0,111]
[21,16101,11,16127,11,16132,null,null,null,null,0,211]
[12,16405,13,16412,13,16419,null,null,null,null,0,111]
[21,16553,11,16566,11,16571,null,null,null,null,0,211]
[21,16872,11,16901,11,16908,null,null,null,null,0,211]
[12,17144,13,17149,13,17154,null,null,null,null,0,111]
[12,17277,13,17284,13,17292,null,null,null,null,0,111]
[12,17404,13,17412,13,17419,null,null,null,null,0,111]
[12,17543,13,17552,13,17560,null,null,null,null,0,111]
[12,17683,13,17693,13,17700,null,null,null,null,0,111]
[12,17841,13,17849,13,17858,null,null,null,null,0,111]
[12,17969,13,17995,13,18002,null,null,null,null,0,111]
[21,18108,11,18120,11,18127,null,null,null,null,0,211]
[12,18388,13,18393,24,18409,null,null,null,null,0,112]
[21,18514,11,18525,11,18530,null,null,null,null,0,211]
[12,18749,13,18756,13,18765,null,null,null,null,0,111]
[12,18886,13,18893,13,18901,null,null,null,null,0,111]
[12,19020,13,19028,13,19035,null,null,null,null,0,111]
[21,19137,11,19148,11,19153,null,null,null,null,0,211]
[12,19391,13,19399,13,19408,null,null,null,null,0,111]
[21,19511,11,19546,11,19553,null,null,null,null,0,211]
[12,19820,13,19828,13,19835,null,null,null,null,0,111]
[12,19956,13,19964,13,19973,null,null,null,null,0,111]
[21,20081,22,20089,13,20101,null,null,null,null,0,221]
[12,20222,13,20231,13,20240,null,null,null,null,0,111]
[21,20365,11,20380,11,20388,null,null,null,null,0,211]
[12,20616,13,20623,13,20630,null,null,null,null,0,111]
[21,20755,22,20761,13,20773,null,null,null,null,0,221]
[21,20877,11,20894,11,20902,null,null,null,null,0,211]
[21,21060,11,21077,11,21083,null,null,null,null,0,211]
[12,21348,13,21355,13,21363,null,null,null,null,0,111]
[21,21467,11,21479,11,21485,null,null,null,null,0,211]
[12,21762,13,21770,13,21775,null,null,null,null,0,111]
[12,21884,13,21892,13,21901,null,null,null,null,0,111]
[21,22028,22,22030,24,22032,null,null,null,null,0,222]
[12,22154,13,22162,13,22169,null,null,null,null,0,111]
[21,22282,22,22284,13,22305,null,null,null,null,0,221]
[12,22419,13,22426,13,22438,null,null,null,null,0,111]
[21,22543,11,22560,11,22567,null,null,null,null,0,211]
[21,22824,11,22837,11,22844,null,null,null,null,0,211]
[12,23135,13,23140,13,23155,null,null,null,null,0,111]
[12,23297,13,23304,13,23312,null,null,null,null,0,111]
[21,23410,11,23425,11,23435,null,null,null,null,0,211]
[12,23698,13,23705,13,23713,null,null,null,null,0,111]
[21,23816,11,23828,11,23833,null,null,null,null,0,211]

{"sheet":"!2011-06-09_09h18m.Subject 53","index":17,"n_rows":85,"n_cols":48,"rows_kept":85,"cut":false,"hidden":false,"merged":[[4,39,4,42],[5,39,5,40],[4,44,4,47],[5,44,5,45],[4,24,4,27],[5,24,5,25],[4,29,4,32],[5,29,5,30],[4,34,4,37],[5,34,5,35],[1,1,1,2],[5,13,5,14],[18,13,18,14],[19,13,19,14],[4,19,4,22],[5,19,5,20]]}
["Report for:!2011-06-09_09h18m.Subject 53"]
["Date","2011-06-09",null,null,null,"Group",0]
["Hen",53,null,null,null,"Correct Sequence",{"$f":"Start!J2","v":211},null,null,null,null,null,null,null,null,"Total Sequences in Data",{"$f":"4994-COUNTBLANK(L7:L5000)","v":79},null,null,null,null,"Total Sequences in Block Data",{"$f":"COUNTA(L7:L19)","v":13},null,null,null,"Total Sequences in Block Data",{"$f":"COUNTA(L20:L32)","v":13},null,null,null,"Total Sequences in Block Data",{"$f":"COUNTA(L33:L46)","v":14},null,null,null,"Total Sequences in Block Data",{"$f":"COUNTA(L47:L59)","v":13},null,null,null,"Total Sequences in Block Data",{"$f":"COUNTA(L60:L72)","v":13},null,null,null,"Total Sequences in Block Data",{"$f":"COUNTA(L73:L85)","v":13}]
["Program",0,null,null,null,null,null,null,null,null,null,null,null,null,null,"Total Sequences in Summary",{"$f":"SUM(O7:O14)","v":79},null,null,null,null,"Total Sequences in Block Summary",{"$f":"SUM(U7:U14)","v":13},null,null,null,"Total Sequences in Block Summary",{"$f":"SUM(Z7:Z14)","v":13},null,null,null,"Total Sequences in Block Summary",{"$f":"SUM(AE7:AE14)","v":14},null,null,null,"Total Sequences in Block Summary",{"$f":"SUM(AJ7:AJ14)","v":13},null,null,null,"Total Sequences in Block Summary",{"$f":"SUM(AO7:AO14)","v":13},null,null,null,"Total Sequences in Block Summary",{"$f":"SUM(AT7:AT14)","v":13}]
[null,null,null,null,null,null,null,null,null,null,null,null,null,null,null,null,null,null,null,"Block 1",null,null,null,null,"Block 2",null,null,null,null,"Block 3",null,null,null,null,"Block 4",null,null,null,null,"Block 5",null,null,null,null,"Block 6"]
["Sequence\nComponent\n1","Time\n1","Sequence\nComponent\n2","Time\n2","Sequence\nComponent\n3","Time\n3","Sequence\nComponent\n4","Time\n4","Sequence\nComponent\n5","Time\n5","Correct?\n0=No 1=Yes","Sequence",null,"Frequency",null,"Relative Frequency","Variability",null,null,"Frequency",null,"Relative Frequency","Variability",null,"Frequency",null,"Relative Frequency","Variability",null,"Frequency",null,"Relative Frequency","Variability",null,"Frequency",null,"Relative Frequency","Variability",null,"Frequency",null,"Relative Frequency","Variability",null,"Frequency",null,"Relative Frequency","Variability"]
[12,25,13,47,13,66,null,null,null,null,0,111,null,111,{"$f":"COUNTIF($L$7:$L$500,N7)","v":26},{"$f":"O7/$Q$4","v":0.32911392405063289},{"$f":"IF(P7=0,0,(P7*((LOG(P7))/LOG(2))))","v":-0.52768185798653522},null,null,{"$f":"N7","v":111},{"$f":"COUNTIF(L7:L19,T7)","v":7},{"$f":"U7/(W4-U11)","v":0.63636363636363635},{"$f":"IF(V7=0,0,(V7*((LOG(V7))/LOG(2))))","v":-0.41495789782344106},null,{"$f":"N7","v":111},{"$f":"COUNTIF(L20:L32,Y7)","v":10},{"$f":"Z7/(AB4-Z11)","v":1},{"$f":"IF(AA7=0,0,(AA7*((LOG(AA7))/LOG(2))))","v":0},null,{"$f":"N7","v":111},{"$f":"COUNTIF(L33:L46,AD7)","v":3},{"$f":"AE7/(AG4-AE11)","v":0.42857142857142855},{"$f":"IF(AF7=0,0,(AF7*((LOG(AF7))/LOG(2))))","v":-0.52388246628704915},null,{"$f":"N7","v":111},{"$f":"COUNTIF(L47:L59,AI7)","v":4},{"$f":"AJ7/(AL4-AJ11)","v":0.66666666666666663},{"$f":"IF(AK7=0,0,(AK7*((LOG(AK7))/LOG(2))))","v":-0.38997500048077083},null,{"$f":"N7","v":111},{"$f":"COUNTIF(L60:L72,AN7)","v":1},{"$f":"AO7/(AQ4-AO11)","v":1},{"$f":"IF(AP7=0,0,(AP7*((LOG(AP7))/LOG(2))))","v":0},null,{"$f":"N7","v":111},{"$f":"COUNTIF(L73:L85,AS7)","v":1},{"$f":"AT7/(AV4-AT11)","v":0.16666666666666666},{"$f":"IF(AU7=0,0,(AU7*((LOG(AU7))/LOG(2))))","v":-0.43082708345352599}]
[12,170,24,184,13,203,null,null,null,null,0,121,null,112,{"$f":"COUNTIF($L$7:$L$500,N8)","v":2},{"$f":"O8/$Q$4","v":2.5316455696202531E-2},{"$f":"IF(P8=0,0,(P8*((LOG(P8))/LOG(2))))","v":-0.13427293033359755},null,null,{"$f":"N8","v":112},{"$f":"COUNTIF(L7:L19,T8)","v":0},{"$f":"U8/(W4-U11)","v":0},{"$f":"IF(V8=0,0,(V8*((LOG(V8))/LOG(2))))","v":0},null,{"$f":"N8","v":112},{"$f":"COUNTIF(L20:L32,Y8)","v":0},{"$f":"Z8/(AB4-Z11)","v":0},{"$f":"IF(AA8=0,0,(AA8*((LOG(AA8))/LOG(2))))","v":0},null,{"$f":"N8","v":112},{"$f":"COUNTIF(L33:L46,AD8)","v":2},{"$f":"AE8/(AG4-AE11)","v":0.2857142857142857},{"$f":"IF(AF8=0,0,(AF8*((LOG(AF8))/LOG(2))))","v":-0.51638712058788683},null,{"$f":"N8","v":112},{"$f":"COUNTIF(L47:L59,AI8)","v":0},{"$f":"AJ8/(AL4-AJ11)","v":0},{"$f":"IF(AK8=0,0,(AK8*((LOG(AK8))/LOG(2))))","v":0},null,{"$f":"N8","v":112},{"$f":"COUNTIF(L60:L72,AN8)","v":0},{"$f":"AO8/(AQ4-AO11)","v":0},{"$f":"IF(AP8=0,0,(AP8*((LOG(AP8))/LOG(2))))","v":0},null,{"$f":"N8","v":112},{"$f":"COUNTIF(L73:L85,AS8)","v":0},{"$f":"AT8/(AV4-AT11)","v":0},{"$f":"IF(AU8=0,0,(AU8*((LOG(AU8))/LOG(2))))","v":0}]
[12,325,13,331,13,338,null,null,null,null,0,111,null,121,{"$f":"COUNTIF($L$7:$L$500,N9)","v":4},{"$f":"O9/$Q$4","v":5.0632911392405063E-2},{"$f":"IF(P9=0,0,(P9*((LOG(P9))/LOG(2))))","v":-0.21791294927479002},null,null,{"$f":"N9","v":121},{"$f":"COUNTIF(L7:L19,T9)","v":2},{"$f":"U9/(W4-U11)","v":0.18181818181818182},{"$f":"IF(V9=0,0,(V9*((LOG(V9))/LOG(2))))","v":-0.44716938520678134},null,{"$f":"N9","v":121},{"$f":"COUNTIF(L20:L32,Y9)","v":0},{"$f":"Z9/(AB4-Z11)","v":0},{"$f":"IF(AA9=0,0,(AA9*((LOG(AA9))/LOG(2))))","v":0},null,{"$f":"N9","v":121},{"$f":"COUNTIF(L33:L46,AD9)","v":1},{"$f":"AE9/(AG4-AE11)","v":0.14285714285714285},{"$f":"IF(AF9=0,0,(AF9*((LOG(AF9))/LOG(2))))","v":-0.40105070315108626},null,{"$f":"N9","v":121},{"$f":"COUNTIF(L47:L59,AI9)","v":1},{"$f":"AJ9/(AL4-AJ11)","v":0.16666666666666666},{"$f":"IF(AK9=0,0,(AK9*((LOG(AK9))/LOG(2))))","v":-0.43082708345352599},null,{"$f":"N9","v":121},{"$f":"COUNTIF(L60:L72,AN9)","v":0},{"$f":"AO9/(AQ4-AO11)","v":0},{"$f":"IF(AP9=0,0,(AP9*((LOG(AP9))/LOG(2))))","v":0},null,{"$f":"N9","v":121},{"$f":"COUNTIF(L73:L85,AS9)","v":0},{"$f":"AT9/(AV4-AT11)","v":0},{"$f":"IF(AU9=0,0,(AU9*((LOG(AU9))/LOG(2))))","v":0}]
[21,448,22,457,24,463,null,null,null,null,0,222,null,122,{"$f":"COUNTIF($L$7:$L$500,N10)","v":0},{"$f":"O10/$Q$4","v":0},{"$f":"IF(P10=0,0,(P10*((LOG(P10))/LOG(2))))","v":0},null,null,{"$f":"N10","v":122},{"$f":"COUNTIF(L7:L19,T10)","v":0},{"$f":"U10/(W4-U11)","v":0},{"$f":"IF(V10=0,0,(V10*((LOG(V10))/LOG(2))))","v":0},null,{"$f":"N10","v":122},{"$f":"COUNTIF(L20:L32,Y10)","v":0},{"$f":"Z10/(AB4-Z11)","v":0},{"$f":"IF(AA10=0,0,(AA10*((LOG(AA10))/LOG(2))))","v":0},null,{"$f":"N10","v":122},{"$f":"COUNTIF(L33:L46,AD10)","v":0},{"$f":"AE10/(AG4-AE11)","v":0},{"$f":"IF(AF10=0,0,(AF10*((LOG(AF10))/LOG(2))))","v":0},null,{"$f":"N10","v":122},{"$f":"COUNTIF(L47:L59,AI10)","v":0},{"$f":"AJ10/(AL4-AJ11)","v":0},{"$f":"IF(AK10=0,0,(AK10*((LOG(AK10))/LOG(2))))","v":0},null,{"$f":"N10","v":122},{"$f":"COUNTIF(L60:L72,AN10)","v":0},{"$f":"AO10/(AQ4-AO11)","v":0},{"$f":"IF(AP10=0,0,(AP10*((LOG(AP10))/LOG(2))))","v":0},null,{"$f":"N10","v":122},{"$f":"COUNTIF(L73:L85,AS10)","v":0},{"$f":"AT10/(AV4-AT11)","v":0},{"$f":"IF(AU10=0,0,(AU10*((LOG(AU10))/LOG(2))))","v":0}]
[21,570,11,587,11,599,null,null,null,null,0,211,null,211,{"$f":"COUNTIF($L$7:$L$500,N11)","v":38},{"$f":"O11/$Q$4","v":0.48101265822784811},{"$f":"IF(P11=0,0,(P11*((LOG(P11))/LOG(2))))","v":-0.50787877113764135},null,null,{"$f":"N11","v":211},{"$f":"COUNTIF(L7:L19,T11)","v":2},null,null,null,{"$f":"N11","v":211},{"$f":"COUNTIF(L20:L32,Y11)","v":3},null,null,null,{"$f":"N11","v":211},{"$f":"COUNTIF(L33:L46,AD11)","v":7},null,null,null,{"$f":"N11","v":211},{"$f":"COUNTIF(L47:L59,AI11)","v":7},null,null,null,{"$f":"N11","v":211},{"$f":"COUNTIF(L60:L72,AN11)","v":12},null,null,null,{"$f":"N11","v":211},{"$f":"COUNTIF(L73:L85,AS11)","v":7}]
[12,719,13,721,13,731,null,null,null,null,0,111,null,212,{"$f":"COUNTIF($L$7:$L$500,N12)","v":0},{"$f":"O12/$Q$4","v":0},{"$f":"IF(P12=0,0,(P12*((LOG(P12))/LOG(2))))","v":0},null,null,{"$f":"N12","v":212},{"$f":"COUNTIF(L7:L19,T12)","v":0},{"$f":"U12/(W4-U11)","v":0},{"$f":"IF(V12=0,0,(V12*((LOG(V12))/LOG(2))))","v":0},null,{"$f":"N12","v":212},{"$f":"COUNTIF(L20:L32,Y12)","v":0},{"$f":"Z12/(AB4-Z11)","v":0},{"$f":"IF(AA12=0,0,(AA12*((LOG(AA12))/LOG(2))))","v":0},null,{"$f":"N12","v":212},{"$f":"COUNTIF(L33:L46,AD12)","v":0},{"$f":"AE12/(AG4-AE11)","v":0},{"$f":"IF(AF12=0,0,(AF12*((LOG(AF12))/LOG(2))))","v":0},null,{"$f":"N12","v":212},{"$f":"COUNTIF(L47:L59,AI12)","v":0},{"$f":"AJ12/(AL4-AJ11)","v":0},{"$f":"IF(AK12=0,0,(AK12*((LOG(AK12))/LOG(2))))","v":0},null,{"$f":"N12","v":212},{"$f":"COUNTIF(L60:L72,AN12)","v":0},{"$f":"AO12/(AQ4-AO11)","v":0},{"$f":"IF(AP12=0,0,(AP12*((LOG(AP12))/LOG(2))))","v":0},null,{"$f":"N12","v":212},{"$f":"COUNTIF(L73:L85,AS12)","v":0},{"$f":"AT12/(AV4-AT11)","v":0},{"$f":"IF(AU12=0,0,(AU12*((LOG(AU12))/LOG(2))))","v":0}]
[21,835,11,848,11,859,null,null,null,null,0,211,null,221,{"$f":"COUNTIF($L$7:$L$500,N13)","v":5},{"$f":"O13/$Q$4","v":6.3291139240506333E-2},{"$f":"IF(P13=0,0,(P13*((LOG(P13))/LOG(2))))","v":-0.25201599071454056},null,null,{"$f":"N13","v":221},{"$f":"COUNTIF(L7:L19,T13)","v":1},{"$f":"U13/(W4-U11)","v":9.0909090909090912E-2},{"$f":"IF(V13=0,0,(V13*((LOG(V13))/LOG(2))))","v":-0.31449378351248153},null,{"$f":"N13","v":221},{"$f":"COUNTIF(L20:L32,Y13)","v":0},{"$f":"Z13/(AB4-Z11)","v":0},{"$f":"IF(AA13=0,0,(AA13*((LOG(AA13))/LOG(2))))","v":0},null,{"$f":"N13","v":221},{"$f":"COUNTIF(L33:L46,AD13)","v":0},{"$f":"AE13/(AG4-AE11)","v":0},{"$f":"IF(AF13=0,0,(AF13*((LOG(AF13))/LOG(2))))","v":0},null,{"$f":"N13","v":221},{"$f":"COUNTIF(L47:L59,AI13)","v":1},{"$f":"AJ13/(AL4-AJ11)","v":0.16666666666666666},{"$f":"IF(AK13=0,0,(AK13*((LOG(AK13))/LOG(2))))","v":-0.43082708345352599},null,{"$f":"N13","v":221},{"$f":"COUNTIF(L60:L72,AN13)","v":0},{"$f":"AO13/(AQ4-AO11)","v":0},{"$f":"IF(AP13=0,0,(AP13*((LOG(AP13))/LOG(2))))","v":0},null,{"$f":"N13","v":221},{"$f":"COUNTIF(L73:L85,AS13)","v":3},{"$f":"AT13/(AV4-AT11)","v":0.5},{"$f":"IF(AU13=0,0,(AU13*((LOG(AU13))/LOG(2))))","v":-0.5}]
[12,955,24,970,13,980,null,null,null,null,0,121,null,222,{"$f":"COUNTIF($L$7:$L$500,N14)","v":4},{"$f":"O14/$Q$4","v":5.0632911392405063E-2},{"$f":"IF(P14=0,0,(P14*((LOG(P14))/LOG(2))))","v":-0.21791294927479002},null,null,{"$f":"N14","v":222},{"$f":"COUNTIF(L7:L19,T14)","v":1},{"$f":"U14/(W4-U11)","v":9.0909090909090912E-2},{"$f":"IF(V14=0,0,(V14*((LOG(V14))/LOG(2))))","v":-0.31449378351248153},null,{"$f":"N14","v":222},{"$f":"COUNTIF(L20:L32,Y14)","v":0},{"$f":"Z14/(AB4-Z11)","v":0},{"$f":"IF(AA14=0,0,(AA14*((LOG(AA14))/LOG(2))))","v":0},null,{"$f":"N14","v":222},{"$f":"COUNTIF(L33:L46,AD14)","v":1},{"$f":"AE14/(AG4-AE11)","v":0.14285714285714285},{"$f":"IF(AF14=0,0,(AF14*((LOG(AF14))/LOG(2))))","v":-0.40105070315108626},null,{"$f":"N14","v":222},{"$f":"COUNTIF(L47:L59,AI14)","v":0},{"$f":"AJ14/(AL4-AJ11)","v":0},{"$f":"IF(AK14=0,0,(AK14*((LOG(AK14))/LOG(2))))","v":0},null,{"$f":"N14","v":222},{"$f":"COUNTIF(L60:L72,AN14)","v":0},{"$f":"AO14/(AQ4-AO11)","v":0},{"$f":"IF(AP14=0,0,(AP14*((LOG(AP14))/LOG(2))))","v":0},null,{"$f":"N14","v":222},{"$f":"COUNTIF(L73:L85,AS14)","v":2},{"$f":"AT14/(AV4-AT11)","v":0.33333333333333331},{"$f":"IF(AU14=0,0,(AU14*((LOG(AU14))/LOG(2))))","v":-0.52832083357371862}]
[12,1083,13,1102,13,1121,null,null,null,null,0,111,null,null,null,{"$f":"SUM(P7:P14)","v":1},{"$f":"-SUM(Q7:Q14)","v":1.8576754487218945},null,null,null,null,{"$f":"SUM(V7:V14)","v":1},{"$f":"-SUM(W7:W14)","v":1.4911148500551854},null,null,null,{"$f":"SUM(AA7:AA14)","v":1},{"$f":"-SUM(AB7:AB14)","v":0},null,null,null,{"$f":"SUM(AF7:AF14)","v":0.99999999999999978},{"$f":"-SUM(AG7:AG14)","v":1.8423709931771088},null,null,null,{"$f":"SUM(AK7:AK14)","v":0.99999999999999989},{"$f":"-SUM(AL7:AL14)","v":1.2516291673878228},null,null,null,{"$f":"SUM(AP7:AP14)","v":1},{"$f":"-SUM(AQ7:AQ14)","v":0},null,null,null,{"$f":"SUM(AU7:AU14)","v":1},{"$f":"-SUM(AV7:AV14)","v":1.4591479170272446}]
[12,1228,13,1246,13,1251,null,null,null,null,0,111,null,null,null,"U=",{"$f":"Q15/(LOG(Q4)/LOG(2))","v":0.29469226848650915},null,null,null,null,"U1=",{"$f":"W15/(LOG(W4)/LOG(2))","v":0.40295612511808293},null,null,null,"U2=",{"$f":"AB15/(LOG(AB4)/LOG(2))","v":0},null,null,null,"U3=",{"$f":"AG15/(LOG(AG4)/LOG(2))","v":0.48389788472398015},null,null,null,"U4=",{"$f":"AL15/(LOG(AL4)/LOG(2))","v":0.33823795622228808},null,null,null,"U5=",{"$f":"AQ15/(LOG(AQ4)/LOG(2))","v":0},null,null,null,"U6=",{"$f":"AV15/(LOG(AV4)/LOG(2))","v":0.39431744013391046}]
[21,1369,22,1374,13,1386,null,null,null,null,0,221]
[12,1507,13,1512,13,1516,null,null,null,null,0,111]
[12,1624,13,1631,13,1638,null,null,null,null,0,111,null,"Total Target Seq"]
[12,1756,13,1760,13,1769,null,null,null,null,0,111,null,{"$f":"COUNTIF(L7:L85,G3)","v":38},null,13,13,14,13,13,13]
[21,1869,11,1881,11,1885,null,null,null,null,0,211,null,null,null,"% of reinforcement given in 6 equal intervals based on number of trials "]
[12,2024,13,2029,13,2033,null,null,null,null,0,111,null,null,null,"%_1","%_2","%_3","%_4","%_5","%_6"]
[12,2148,13,2156,13,2165,null,null,null,null,0,111,null,null,"target sequence",{"$f":"$G$3","v":211},{"$f":"$G$3","v":211},{"$f":"$G$3","v":211},{"$f":"$G$3","v":211},{"$f":"$G$3","v":211},{"$f":"$G$3","v":211}]
[12,2284,13,2292,13,2300,null,null,null,null,0,111,null,null,"total reinforcement",{"$f":"U11","v":2},{"$f":"Z11","v":3},{"$f":"AE11","v":7},{"$f":"AJ11","v":7},{"$f":"AO11","v":12},{"$f":"AT11","v":7}]
[12,2430,13,2440,13,2447,null,null,null,null,0,111,null,null,"% target"]
[21,2560,11,2571,11,2575,null,null,null,null,0,211,null,null,"CCRF"]
[21,2689,11,2699,11,2712,null,null,null,null,0,211,null,null,"% CCRf"]
[12,2829,13,2833,13,2838,null,null,null,null,0,111,null,null,"average response rate",{"$f":"F19/P20","v":126},{"$f":"(F32-F19)/Q20","v":133.46153846153845},{"$f":"(F46-F32)/R20","v":129.21428571428572},{"$f":"(F59-F46)/S20","v":124.30769230769231},{"$f":"(F72-F59)/T20","v":117.38461538461539},{"$f":"(F85-F72)/U20","v":118.23076923076923}]
[12,2949,13,2957,13,2965,null,null,null,null,0,111]
[12,3092,13,3100,13,3105,null,null,null,null,0,111]
[12,3223,13,3231,13,3244,null,null,null,null,0,111]
[12,3363,13,3369,13,3373,null,null,null,null,0,111]
[21,3478,11,3490,11,3495,null,null,null,null,0,211]
[21,3640,11,3652,11,3659,null,null,null,null,0,211]
[12,3751,24,3765,13,3773,null,null,null,null,0,121]
[21,3880,11,3891,11,3898,null,null,null,null,0,211]
[12,4015,13,4022,24,4041,null,null,null,null,0,112]
[21,4139,22,4155,24,4162,null,null,null,null,0,222]
[21,4269,11,4279,11,4283,null,null,null,null,0,211]
[12,4400,13,4408,24,4419,null,null,null,null,0,112]
[12,4529,13,4534,13,4539,null,null,null,null,0,111]
[12,4658,13,4662,13,4671,null,null,null,null,0,111]
[21,4773,11,4784,11,4788,null,null,null,null,0,211]
[12,4909,13,4915,13,4922,null,null,null,null,0,111]
[21,5036,11,5046,11,5050,null,null,null,null,0,211]
[21,5167,11,5177,11,5182,null,null,null,null,0,211]
[12,5324,13,5341,13,5348,null,null,null,null,0,111]
[12,5461,13,5467,13,5479,null,null,null,null,0,111]
[12,5603,13,5610,13,5617,null,null,null,null,0,111]
[12,5725,13,5732,13,5739,null,null,null,null,0,111]
[21,5844,11,5856,11,5865,null,null,null,null,0,211]
[21,5961,11,5979,11,5983,null,null,null,null,0,211]
[21,6085,11,6097,11,6102,null,null,null,null,0,211]
[12,6195,24,6207,13,6218,null,null,null,null,0,121]
[21,6315,22,6321,13,6330,null,null,null,null,0,221]
[21,6428,11,6446,11,6450,null,null,null,null,0,211]
[21,6549,11,6559,11,6572,null,null,null,null,0,211]
[21,6672,11,6680,11,6684,null,null,null,null,0,211]
[21,6784,11,6793,11,6798,null,null,null,null,0,211]
[21,6898,11,6909,11,6917,null,null,null,null,0,211]
[21,7018,11,7030,11,7036,null,null,null,null,0,211]
[21,7128,11,7140,11,7145,null,null,null,null,0,211]
[21,7240,11,7251,11,7257,null,null,null,null,0,211]
[21,7353,11,7369,11,7375,null,null,null,null,0,211]
[21,7468,11,7482,11,7490,null,null,null,null,0,211]
[21,7594,11,7602,11,7609,null,null,null,null,0,211]
[21,7702,11,7713,11,7721,null,null,null,null,0,211]
[21,7820,11,7831,11,7839,null,null,null,null,0,211]
[21,7932,11,7948,11,7955,null,null,null,null,0,211]
[21,8051,11,8062,11,8070,null,null,null,null,0,211]
[21,8163,11,8174,11,8182,null,null,null,null,0,211]
[12,8310,13,8317,13,8324,null,null,null,null,0,111]
[12,8443,13,8450,13,8457,null,null,null,null,0,111]
[21,8563,11,8571,11,8576,null,null,null,null,0,211]
[21,8668,11,8693,11,8701,null,null,null,null,0,211]
[21,8796,11,8811,11,8817,null,null,null,null,0,211]
[21,8912,22,8921,13,8932,null,null,null,null,0,221]
[21,9031,11,9046,11,9054,null,null,null,null,0,211]
[21,9148,22,9155,13,9165,null,null,null,null,0,221]
[21,9260,22,9269,24,9273,null,null,null,null,0,222]
[21,9374,22,9379,13,9390,null,null,null,null,0,221]
[21,9493,22,9497,24,9505,null,null,null,null,0,222]
[21,9608,11,9624,11,9630,null,null,null,null,0,211]
[21,9729,11,9740,11,9747,null,null,null,null,0,211]
[21,9845,11,9853,11,9861,null,null,null,null,1,211]

{"sheet":"!2011-06-10_09h48m.Subject 53","index":18,"n_rows":69,"n_cols":48,"rows_kept":69,"cut":false,"hidden":false,"merged":[[4,39,4,42],[5,39,5,40],[4,44,4,47],[5,44,5,45],[4,24,4,27],[5,24,5,25],[4,29,4,32],[5,29,5,30],[4,34,4,37],[5,34,5,35],[1,1,1,2],[5,13,5,14],[18,13,18,14],[19,13,19,14],[4,19,4,22],[5,19,5,20]]}
["Report for:!2011-06-10_09h48m.Subject 53"]
["Date","2011-06-10",null,null,null,"Group",0]
["Hen",53,null,null,null,"Correct Sequence",{"$f":"Start!J2","v":211},null,null,null,null,null,null,null,null,"Total Sequences in Data",{"$f":"4994-COUNTBLANK(L7:L5000)","v":63},null,null,null,null,"Total Sequences in Block Data",{"$f":"COUNTA(L7:L17)","v":11},null,null,null,"Total Sequences in Block Data",{"$f":"COUNTA(L18:L27)","v":10},null,null,null,"Total Sequences in Block Data",{"$f":"COUNTA(L28:L38)","v":11},null,null,null,"Total Sequences in Block Data",{"$f":"COUNTA(L39:L48)","v":10},null,null,null,"Total Sequences in Block Data",{"$f":"COUNTA(L49:L59)","v":11},null,null,null,"Total Sequences in Block Data",{"$f":"COUNTA(L60:L69)","v":10}]
["Program",0,null,null,null,null,null,null,null,null,null,null,null,null,null,"Total Sequences in Summary",{"$f":"SUM(O7:O14)","v":63},null,null,null,null,"Total Sequences in Block Summary",{"$f":"SUM(U7:U14)","v":11},null,null,null,"Total Sequences in Block Summary",{"$f":"SUM(Z7:Z14)","v":10},null,null,null,"Total Sequences in Block Summary",{"$f":"SUM(AE7:AE14)","v":11},null,null,null,"Total Sequences in Block Summary",{"$f":"SUM(AJ7:AJ14)","v":10},null,null,null,"Total Sequences in Block Summary",{"$f":"SUM(AO7:AO14)","v":11},null,null,null,"Total Sequences in Block Summary",{"$f":"SUM(AT7:AT14)","v":10}]
[null,null,null,null,null,null,null,null,null,null,null,null,null,null,null,null,null,null,null,"Block 1",null,null,null,null,"Block 2",null,null,null,null,"Block 3",null,null,null,null,"Block 4",null,null,null,null,"Block 5",null,null,null,null,"Block 6"]
["Sequence\nComponent\n1","Time\n1","Sequence\nComponent\n2","Time\n2","Sequence\nComponent\n3","Time\n3","Sequence\nComponent\n4","Time\n4","Sequence\nComponent\n5","Time\n5","Correct?\n0=No 1=Yes","Sequence",null,"Frequency",null,"Relative Frequency","Variability",null,null,"Frequency",null,"Relative Frequency","Variability",null,"Frequency",null,"Relative Frequency","Variability",null,"Frequency",null,"Relative Frequency","Variability",null,"Frequency",null,"Relative Frequency","Variability",null,"Frequency",null,"Relative Frequency","Variability",null,"Frequency",null,"Relative Frequency","Variability"]
[12,12,24,47,13,72,null,null,null,null,0,121,null,111,{"$f":"COUNTIF($L$7:$L$500,N7)","v":18},{"$f":"O7/$Q$4","v":0.2857142857142857},{"$f":"IF(P7=0,0,(P7*((LOG(P7))/LOG(2))))","v":-0.51638712058788683},null,null,{"$f":"N7","v":111},{"$f":"COUNTIF(L7:L17,T7)","v":5},{"$f":"U7/(W4-U11)","v":0.7142857142857143},{"$f":"IF(V7=0,0,(V7*((LOG(V7))/LOG(2))))","v":-0.34673344797874411},null,{"$f":"N7","v":111},{"$f":"COUNTIF(L18:L27,Y7)","v":4},{"$f":"Z7/(AB4-Z11)","v":0.8},{"$f":"IF(AA7=0,0,(AA7*((LOG(AA7))/LOG(2))))","v":-0.25754247590988982},null,{"$f":"N7","v":111},{"$f":"COUNTIF(L28:L38,AD7)","v":2},{"$f":"AE7/(AG4-AE11)","v":0.5},{"$f":"IF(AF7=0,0,(AF7*((LOG(AF7))/LOG(2))))","v":-0.5},null,{"$f":"N7","v":111},{"$f":"COUNTIF(L39:L48,AI7)","v":5},{"$f":"AJ7/(AL4-AJ11)","v":1},{"$f":"IF(AK7=0,0,(AK7*((LOG(AK7))/LOG(2))))","v":0},null,{"$f":"N7","v":111},{"$f":"COUNTIF(L49:L59,AN7)","v":1},{"$f":"AO7/(AQ4-AO11)","v":0.33333333333333331},{"$f":"IF(AP7=0,0,(AP7*((LOG(AP7))/LOG(2))))","v":-0.52832083357371862},null,{"$f":"N7","v":111},{"$f":"COUNTIF(L60:L69,AS7)","v":1},{"$f":"AT7/(AV4-AT11)","v":1},{"$f":"IF(AU7=0,0,(AU7*((LOG(AU7))/LOG(2))))","v":0}]
[21,171,11,186,11,194,null,null,null,null,0,211,null,112,{"$f":"COUNTIF($L$7:$L$500,N8)","v":1},{"$f":"O8/$Q$4","v":1.5873015873015872E-2},{"$f":"IF(P8=0,0,(P8*((LOG(P8))/LOG(2))))","v":-9.4877459103173273E-2},null,null,{"$f":"N8","v":112},{"$f":"COUNTIF(L7:L17,T8)","v":0},{"$f":"U8/(W4-U11)","v":0},{"$f":"IF(V8=0,0,(V8*((LOG(V8))/LOG(2))))","v":0},null,{"$f":"N8","v":112},{"$f":"COUNTIF(L18:L27,Y8)","v":0},{"$f":"Z8/(AB4-Z11)","v":0},{"$f":"IF(AA8=0,0,(AA8*((LOG(AA8))/LOG(2))))","v":0},null,{"$f":"N8","v":112},{"$f":"COUNTIF(L28:L38,AD8)","v":0},{"$f":"AE8/(AG4-AE11)","v":0},{"$f":"IF(AF8=0,0,(AF8*((LOG(AF8))/LOG(2))))","v":0},null,{"$f":"N8","v":112},{"$f":"COUNTIF(L39:L48,AI8)","v":0},{"$f":"AJ8/(AL4-AJ11)","v":0},{"$f":"IF(AK8=0,0,(AK8*((LOG(AK8))/LOG(2))))","v":0},null,{"$f":"N8","v":112},{"$f":"COUNTIF(L49:L59,AN8)","v":1},{"$f":"AO8/(AQ4-AO11)","v":0.33333333333333331},{"$f":"IF(AP8=0,0,(AP8*((LOG(AP8))/LOG(2))))","v":-0.52832083357371862},null,{"$f":"N8","v":112},{"$f":"COUNTIF(L60:L69,AS8)","v":0},{"$f":"AT8/(AV4-AT11)","v":0},{"$f":"IF(AU8=0,0,(AU8*((LOG(AU8))/LOG(2))))","v":0}]
[12,321,13,337,13,344,null,null,null,null,0,111,null,121,{"$f":"COUNTIF($L$7:$L$500,N9)","v":1},{"$f":"O9/$Q$4","v":1.5873015873015872E-2},{"$f":"IF(P9=0,0,(P9*((LOG(P9))/LOG(2))))","v":-9.4877459103173273E-2},null,null,{"$f":"N9","v":121},{"$f":"COUNTIF(L7:L17,T9)","v":1},{"$f":"U9/(W4-U11)","v":0.14285714285714285},{"$f":"IF(V9=0,0,(V9*((LOG(V9))/LOG(2))))","v":-0.40105070315108626},null,{"$f":"N9","v":121},{"$f":"COUNTIF(L18:L27,Y9)","v":0},{"$f":"Z9/(AB4-Z11)","v":0},{"$f":"IF(AA9=0,0,(AA9*((LOG(AA9))/LOG(2))))","v":0},null,{"$f":"N9","v":121},{"$f":"COUNTIF(L28:L38,AD9)","v":0},{"$f":"AE9/(AG4-AE11)","v":0},{"$f":"IF(AF9=0,0,(AF9*((LOG(AF9))/LOG(2))))","v":0},null,{"$f":"N9","v":121},{"$f":"COUNTIF(L39:L48,AI9)","v":0},{"$f":"AJ9/(AL4-AJ11)","v":0},{"$f":"IF(AK9=0,0,(AK9*((LOG(AK9))/LOG(2))))","v":0},null,{"$f":"N9","v":121},{"$f":"COUNTIF(L49:L59,AN9)","v":0},{"$f":"AO9/(AQ4-AO11)","v":0},{"$f":"IF(AP9=0,0,(AP9*((LOG(AP9))/LOG(2))))","v":0},null,{"$f":"N9","v":121},{"$f":"COUNTIF(L60:L69,AS9)","v":0},{"$f":"AT9/(AV4-AT11)","v":0},{"$f":"IF(AU9=0,0,(AU9*((LOG(AU9))/LOG(2))))","v":0}]
[12,458,13,470,13,478,null,null,null,null,0,111,null,122,{"$f":"COUNTIF($L$7:$L$500,N10)","v":1},{"$f":"O10/$Q$4","v":1.5873015873015872E-2},{"$f":"IF(P10=0,0,(P10*((LOG(P10))/LOG(2))))","v":-9.4877459103173273E-2},null,null,{"$f":"N10","v":122},{"$f":"COUNTIF(L7:L17,T10)","v":0},{"$f":"U10/(W4-U11)","v":0},{"$f":"IF(V10=0,0,(V10*((LOG(V10))/LOG(2))))","v":0},null,{"$f":"N10","v":122},{"$f":"COUNTIF(L18:L27,Y10)","v":1},{"$f":"Z10/(AB4-Z11)","v":0.2},{"$f":"IF(AA10=0,0,(AA10*((LOG(AA10))/LOG(2))))","v":-0.46438561897747244},null,{"$f":"N10","v":122},{"$f":"COUNTIF(L28:L38,AD10)","v":0},{"$f":"AE10/(AG4-AE11)","v":0},{"$f":"IF(AF10=0,0,(AF10*((LOG(AF10))/LOG(2))))","v":0},null,{"$f":"N10","v":122},{"$f":"COUNTIF(L39:L48,AI10)","v":0},{"$f":"AJ10/(AL4-AJ11)","v":0},{"$f":"IF(AK10=0,0,(AK10*((LOG(AK10))/LOG(2))))","v":0},null,{"$f":"N10","v":122},{"$f":"COUNTIF(L49:L59,AN10)","v":0},{"$f":"AO10/(AQ4-AO11)","v":0},{"$f":"IF(AP10=0,0,(AP10*((LOG(AP10))/LOG(2))))","v":0},null,{"$f":"N10","v":122},{"$f":"COUNTIF(L60:L69,AS10)","v":0},{"$f":"AT10/(AV4-AT11)","v":0},{"$f":"IF(AU10=0,0,(AU10*((LOG(AU10))/LOG(2))))","v":0}]
[21,579,11,592,11,615,null,null,null,null,0,211,null,211,{"$f":"COUNTIF($L$7:$L$500,N11)","v":38},{"$f":"O11/$Q$4","v":0.60317460317460314},{"$f":"IF(P11=0,0,(P11*((LOG(P11))/LOG(2))))","v":-0.43992685051016789},null,null,{"$f":"N11","v":211},{"$f":"COUNTIF(L7:L17,T11)","v":4},null,null,null,{"$f":"N11","v":211},{"$f":"COUNTIF(L18:L27,Y11)","v":5},null,null,null,{"$f":"N11","v":211},{"$f":"COUNTIF(L28:L38,AD11)","v":7},null,null,null,{"$f":"N11","v":211},{"$f":"COUNTIF(L39:L48,AI11)","v":5},null,null,null,{"$f":"N11","v":211},{"$f":"COUNTIF(L49:L59,AN11)","v":8},null,null,null,{"$f":"N11","v":211},{"$f":"COUNTIF(L60:L69,AS11)","v":9}]
[21,708,11,721,11,727,null,null,null,null,0,211,null,212,{"$f":"COUNTIF($L$7:$L$500,N12)","v":0},{"$f":"O12/$Q$4","v":0},{"$f":"IF(P12=0,0,(P12*((LOG(P12))/LOG(2))))","v":0},null,null,{"$f":"N12","v":212},{"$f":"COUNTIF(L7:L17,T12)","v":0},{"$f":"U12/(W4-U11)","v":0},{"$f":"IF(V12=0,0,(V12*((LOG(V12))/LOG(2))))","v":0},null,{"$f":"N12","v":212},{"$f":"COUNTIF(L18:L27,Y12)","v":0},{"$f":"Z12/(AB4-Z11)","v":0},{"$f":"IF(AA12=0,0,(AA12*((LOG(AA12))/LOG(2))))","v":0},null,{"$f":"N12","v":212},{"$f":"COUNTIF(L28:L38,AD12)","v":0},{"$f":"AE12/(AG4-AE11)","v":0},{"$f":"IF(AF12=0,0,(AF12*((LOG(AF12))/LOG(2))))","v":0},null,{"$f":"N12","v":212},{"$f":"COUNTIF(L39:L48,AI12)","v":0},{"$f":"AJ12/(AL4-AJ11)","v":0},{"$f":"IF(AK12=0,0,(AK12*((LOG(AK12))/LOG(2))))","v":0},null,{"$f":"N12","v":212},{"$f":"COUNTIF(L49:L59,AN12)","v":0},{"$f":"AO12/(AQ4-AO11)","v":0},{"$f":"IF(AP12=0,0,(AP12*((LOG(AP12))/LOG(2))))","v":0},null,{"$f":"N12","v":212},{"$f":"COUNTIF(L60:L69,AS12)","v":0},{"$f":"AT12/(AV4-AT11)","v":0},{"$f":"IF(AU12=0,0,(AU12*((LOG(AU12))/LOG(2))))","v":0}]
[12,838,13,846,13,858,null,null,null,null,0,111,null,221,{"$f":"COUNTIF($L$7:$L$500,N13)","v":2},{"$f":"O13/$Q$4","v":3.1746031746031744E-2},{"$f":"IF(P13=0,0,(P13*((LOG(P13))/LOG(2))))","v":-0.15800888646031477},null,null,{"$f":"N13","v":221},{"$f":"COUNTIF(L7:L17,T13)","v":1},{"$f":"U13/(W4-U11)","v":0.14285714285714285},{"$f":"IF(V13=0,0,(V13*((LOG(V13))/LOG(2))))","v":-0.40105070315108626},null,{"$f":"N13","v":221},{"$f":"COUNTIF(L18:L27,Y13)","v":0},{"$f":"Z13/(AB4-Z11)","v":0},{"$f":"IF(AA13=0,0,(AA13*((LOG(AA13))/LOG(2))))","v":0},null,{"$f":"N13","v":221},{"$f":"COUNTIF(L28:L38,AD13)","v":0},{"$f":"AE13/(AG4-AE11)","v":0},{"$f":"IF(AF13=0,0,(AF13*((LOG(AF13))/LOG(2))))","v":0},null,{"$f":"N13","v":221},{"$f":"COUNTIF(L39:L48,AI13)","v":0},{"$f":"AJ13/(AL4-AJ11)","v":0},{"$f":"IF(AK13=0,0,(AK13*((LOG(AK13))/LOG(2))))","v":0},null,{"$f":"N13","v":221},{"$f":"COUNTIF(L49:L59,AN13)","v":1},{"$f":"AO13/(AQ4-AO11)","v":0.33333333333333331},{"$f":"IF(AP13=0,0,(AP13*((LOG(AP13))/LOG(2))))","v":-0.52832083357371862},null,{"$f":"N13","v":221},{"$f":"COUNTIF(L60:L69,AS13)","v":0},{"$f":"AT13/(AV4-AT11)","v":0},{"$f":"IF(AU13=0,0,(AU13*((LOG(AU13))/LOG(2))))","v":0}]
[12,968,13,975,13,983,null,null,null,null,0,111,null,222,{"$f":"COUNTIF($L$7:$L$500,N14)","v":2},{"$f":"O14/$Q$4","v":3.1746031746031744E-2},{"$f":"IF(P14=0,0,(P14*((LOG(P14))/LOG(2))))","v":-0.15800888646031477},null,null,{"$f":"N14","v":222},{"$f":"COUNTIF(L7:L17,T14)","v":0},{"$f":"U14/(W4-U11)","v":0},{"$f":"IF(V14=0,0,(V14*((LOG(V14))/LOG(2))))","v":0},null,{"$f":"N14","v":222},{"$f":"COUNTIF(L18:L27,Y14)","v":0},{"$f":"Z14/(AB4-Z11)","v":0},{"$f":"IF(AA14=0,0,(AA14*((LOG(AA14))/LOG(2))))","v":0},null,{"$f":"N14","v":222},{"$f":"COUNTIF(L28:L38,AD14)","v":2},{"$f":"AE14/(AG4-AE11)","v":0.5},{"$f":"IF(AF14=0,0,(AF14*((LOG(AF14))/LOG(2))))","v":-0.5},null,{"$f":"N14","v":222},{"$f":"COUNTIF(L39:L48,AI14)","v":0},{"$f":"AJ14/(AL4-AJ11)","v":0},{"$f":"IF(AK14=0,0,(AK14*((LOG(AK14))/LOG(2))))","v":0},null,{"$f":"N14","v":222},{"$f":"COUNTIF(L49:L59,AN14)","v":0},{"$f":"AO14/(AQ4-AO11)","v":0},{"$f":"IF(AP14=0,0,(AP14*((LOG(AP14))/LOG(2))))","v":0},null,{"$f":"N14","v":222},{"$f":"COUNTIF(L60:L69,AS14)","v":0},{"$f":"AT14/(AV4-AT11)","v":0},{"$f":"IF(AU14=0,0,(AU14*((LOG(AU14))/LOG(2))))","v":0}]
[12,1107,13,1122,13,1140,null,null,null,null,0,111,null,null,null,{"$f":"SUM(P7:P14)","v":1},{"$f":"-SUM(Q7:Q14)","v":1.5569641213282042},null,null,null,null,{"$f":"SUM(V7:V14)","v":1},{"$f":"-SUM(W7:W14)","v":1.1488348542809166},null,null,null,{"$f":"SUM(AA7:AA14)","v":1},{"$f":"-SUM(AB7:AB14)","v":0.72192809488736231},null,null,null,{"$f":"SUM(AF7:AF14)","v":1},{"$f":"-SUM(AG7:AG14)","v":1},null,null,null,{"$f":"SUM(AK7:AK14)","v":1},{"$f":"-SUM(AL7:AL14)","v":0},null,null,null,{"$f":"SUM(AP7:AP14)","v":1},{"$f":"-SUM(AQ7:AQ14)","v":1.5849625007211559},null,null,null,{"$f":"SUM(AU7:AU14)","v":1},{"$f":"-SUM(AV7:AV14)","v":0}]
[21,1238,11,1250,11,1258,null,null,null,null,0,211,null,null,null,"U=",{"$f":"Q15/(LOG(Q4)/LOG(2))","v":0.26048037589923417},null,null,null,null,"U1=",{"$f":"W15/(LOG(W4)/LOG(2))","v":0.33208774762064913},null,null,null,"U2=",{"$f":"AB15/(LOG(AB4)/LOG(2))","v":0.21732201127364889},null,null,null,"U3=",{"$f":"AG15/(LOG(AG4)/LOG(2))","v":0.28906482631788782},null,null,null,"U4=",{"$f":"AL15/(LOG(AL4)/LOG(2))","v":0},null,null,null,"U5=",{"$f":"AQ15/(LOG(AQ4)/LOG(2))","v":0.45815690999132608},null,null,null,"U6=",{"$f":"AV15/(LOG(AV4)/LOG(2))","v":0}]
[21,1354,22,1356,13,1373,null,null,null,null,0,221]
[12,1487,13,1493,13,1501,null,null,null,null,0,111]
[12,1618,24,1628,24,1635,null,null,null,null,0,122,null,"Total Target Seq"]
[21,1726,11,1743,11,1749,null,null,null,null,0,211,null,{"$f":"COUNTIF(L7:L69,G3)","v":38},null,11,10,11,10,11,10]
[21,1847,11,1859,11,1865,null,null,null,null,0,211,null,null,null,"% of reinforcement given in 6 equal intervals based on number of trials "]
[12,1966,13,1971,13,1978,null,null,null,null,0,111,null,null,null,"%_1","%_2","%_3","%_4","%_5","%_6"]
[12,2086,13,2093,13,2100,null,null,null,null,0,111,null,null,"target sequence",{"$f":"$G$3","v":211},{"$f":"$G$3","v":211},{"$f":"$G$3","v":211},{"$f":"$G$3","v":211},{"$f":"$G$3","v":211},{"$f":"$G$3","v":211}]
[21,2203,11,2214,11,2221,null,null,null,null,0,211,null,null,"total reinforcement",{"$f":"U11","v":4},{"$f":"Z11","v":5},{"$f":"AE11","v":7},{"$f":"AJ11","v":5},{"$f":"AO11","v":8},{"$f":"AT11","v":9}]
[21,2334,11,2349,11,2356,null,null,null,null,0,211,null,null,"% target"]
[12,2477,13,2479,13,2486,null,null,null,null,0,111,null,null,"CCRF"]
[21,2587,11,2599,11,2606,null,null,null,null,0,211,null,null,"% CCRf"]
[21,2700,11,2712,11,2716,null,null,null,null,0,211,null,null,"average response rate",{"$f":"F17/P20","v":124.81818181818181},{"$f":"(F27-F17)/Q20","v":123.3},{"$f":"(F38-F27)/R20","v":116.81818181818181},{"$f":"(F48-F38)/S20","v":119.7},{"$f":"(F59-F48)/T20","v":121.72727272727273},{"$f":"(F69-F59)/U20","v":115.1}]
[21,2820,22,2827,24,2834,null,null,null,null,0,222]
[21,2935,11,2948,11,2952,null,null,null,null,0,211]
[12,3061,13,3065,13,3070,null,null,null,null,0,111]
[12,3185,13,3191,13,3196,null,null,null,null,0,111]
[21,3297,22,3308,24,3316,null,null,null,null,0,222]
[21,3419,11,3431,11,3436,null,null,null,null,0,211]
[21,3534,11,3545,11,3552,null,null,null,null,0,211]
[21,3650,11,3658,11,3663,null,null,null,null,0,211]
[21,3761,11,3771,11,3778,null,null,null,null,0,211]
[21,3869,11,3887,11,3891,null,null,null,null,0,211]
[12,4004,13,4008,13,4013,null,null,null,null,0,111]
[12,4120,13,4124,13,4129,null,null,null,null,0,111]
[12,4241,13,4246,13,4250,null,null,null,null,0,111]
[21,4353,11,4370,11,4376,null,null,null,null,0,211]
[21,4475,11,4483,11,4488,null,null,null,null,0,211]
[21,4584,11,4593,11,4598,null,null,null,null,0,211]
[21,4698,11,4706,11,4710,null,null,null,null,0,211]
[12,4816,13,4823,13,4830,null,null,null,null,0,111]
[12,4944,13,4949,13,4953,null,null,null,null,0,111]
[21,5062,11,5081,11,5088,null,null,null,null,0,211]
[21,5181,22,5190,13,5200,null,null,null,null,0,221]
[21,5303,11,5317,11,5322,null,null,null,null,0,211]
[21,5418,11,5428,11,5432,null,null,null,null,0,211]
[21,5530,11,5538,11,5542,null,null,null,null,0,211]
[12,5686,13,5690,24,5716,null,null,null,null,0,112]
[21,5821,11,5833,11,5838,null,null,null,null,0,211]
[12,5944,13,5950,13,5956,null,null,null,null,0,111]
[21,6062,11,6069,11,6074,null,null,null,null,0,211]
[21,6190,11,6201,11,6208,null,null,null,null,0,211]
[21,6300,11,6316,11,6322,null,null,null,null,0,211]
[21,6412,11,6423,11,6427,null,null,null,null,0,211]
[21,6523,11,6533,11,6538,null,null,null,null,0,211]
[21,6634,11,6644,11,6649,null,null,null,null,0,211]
[21,6744,11,6757,11,6763,null,null,null,null,0,211]
[21,6858,11,6866,11,6871,null,null,null,null,0,211]
[21,6962,11,6976,11,6982,null,null,null,null,0,211]
[12,7110,13,7114,13,7119,null,null,null,null,0,111]
[21,7222,11,7232,11,7239,null,null,null,null,0,211]
[21,7334,11,7342,11,7346,null,null,null,null,0,211]
[21,7447,11,7464,11,7471,null,null,null,null,0,211]
[21,7564,11,7574,11,7578,null,null,null,null,1,211]

{"sheet":"!2011-06-11_09h25m.Subject 53","index":19,"n_rows":67,"n_cols":48,"rows_kept":67,"cut":false,"hidden":false,"merged":[[4,39,4,42],[5,39,5,40],[4,44,4,47],[5,44,5,45],[4,24,4,27],[5,24,5,25],[4,29,4,32],[5,29,5,30],[4,34,4,37],[5,34,5,35],[1,1,1,2],[5,13,5,14],[18,13,18,14],[19,13,19,14],[4,19,4,22],[5,19,5,20]]}
["Report for:!2011-06-11_09h25m.Subject 53"]
["Date","2011-06-11",null,null,null,"Group",0]
["Hen",53,null,null,null,"Correct Sequence",{"$f":"Start!J2","v":211},null,null,null,null,null,null,null,null,"Total Sequences in Data",{"$f":"4994-COUNTBLANK(L7:L5000)","v":61},null,null,null,null,"Total Sequences in Block Data",{"$f":"COUNTA(L7:L16)","v":10},null,null,null,"Total Sequences in Block Data",{"$f":"COUNTA(L17:L26)","v":10},null,null,null,"Total Sequences in Block Data",{"$f":"COUNTA(L27:L37)","v":11},null,null,null,"Total Sequences in Block Data",{"$f":"COUNTA(L38:L47)","v":10},null,null,null,"Total Sequences in Block Data",{"$f":"COUNTA(L48:L57)","v":10},null,null,null,"Total Sequences in Block Data",{"$f":"COUNTA(L58:L67)","v":10}]
["Program",0,null,null,null,null,null,null,null,null,null,null,null,null,null,"Total Sequences in Summary",{"$f":"SUM(O7:O14)","v":61},null,null,null,null,"Total Sequences in Block Summary",{"$f":"SUM(U7:U14)","v":10},null,null,null,"Total Sequences in Block Summary",{"$f":"SUM(Z7:Z14)","v":10},null,null,null,"Total Sequences in Block Summary",{"$f":"SUM(AE7:AE14)","v":11},null,null,null,"Total Sequences in Block Summary",{"$f":"SUM(AJ7:AJ14)","v":10},null,null,null,"Total Sequences in Block Summary",{"$f":"SUM(AO7:AO14)","v":10},null,null,null,"Total Sequences in Block Summary",{"$f":"SUM(AT7:AT14)","v":10}]
[null,null,null,null,null,null,null,null,null,null,null,null,null,null,null,null,null,null,null,"Block 1",null,null,null,null,"Block 2",null,null,null,null,"Block 3",null,null,null,null,"Block 4",null,null,null,null,"Block 5",null,null,null,null,"Block 6"]
["Sequence\nComponent\n1","Time\n1","Sequence\nComponent\n2","Time\n2","Sequence\nComponent\n3","Time\n3","Sequence\nComponent\n4","Time\n4","Sequence\nComponent\n5","Time\n5","Correct?\n0=No 1=Yes","Sequence",null,"Frequency",null,"Relative Frequency","Variability",null,null,"Frequency",null,"Relative Frequency","Variability",null,"Frequency",null,"Relative Frequency","Variability",null,"Frequency",null,"Relative Frequency","Variability",null,"Frequency",null,"Relative Frequency","Variability",null,"Frequency",null,"Relative Frequency","Variability",null,"Frequency",null,"Relative Frequency","Variability"]
[12,42,13,66,13,90,null,null,null,null,0,111,null,111,{"$f":"COUNTIF($L$7:$L$500,N7)","v":13},{"$f":"O7/$Q$4","v":0.21311475409836064},{"$f":"IF(P7=0,0,(P7*((LOG(P7))/LOG(2))))","v":-0.47530932872923476},null,null,{"$f":"N7","v":111},{"$f":"COUNTIF(L7:L16,T7)","v":5},{"$f":"U7/(W4-U11)","v":0.7142857142857143},{"$f":"IF(V7=0,0,(V7*((LOG(V7))/LOG(2))))","v":-0.34673344797874411},null,{"$f":"N7","v":111},{"$f":"COUNTIF(L17:L26,Y7)","v":4},{"$f":"Z7/(AB4-Z11)","v":0.5714285714285714},{"$f":"IF(AA7=0,0,(AA7*((LOG(AA7))/LOG(2))))","v":-0.46134566974720237},null,{"$f":"N7","v":111},{"$f":"COUNTIF(L27:L37,AD7)","v":2},{"$f":"AE7/(AG4-AE11)","v":0.4},{"$f":"IF(AF7=0,0,(AF7*((LOG(AF7))/LOG(2))))","v":-0.52877123795494496},null,{"$f":"N7","v":111},{"$f":"COUNTIF(L38:L47,AI7)","v":1},{"$f":"AJ7/(AL4-AJ11)","v":1},{"$f":"IF(AK7=0,0,(AK7*((LOG(AK7))/LOG(2))))","v":0},null,{"$f":"N7","v":111},{"$f":"COUNTIF(L48:L57,AN7)","v":1},{"$f":"AO7/(AQ4-AO11)","v":1},{"$f":"IF(AP7=0,0,(AP7*((LOG(AP7))/LOG(2))))","v":0},null,{"$f":"N7","v":111},{"$f":"COUNTIF(L58:L67,AS7)","v":0},{"$f":"AT7/(AV4-AT11)","v":0},{"$f":"IF(AU7=0,0,(AU7*((LOG(AU7))/LOG(2))))","v":0}]
[12,215,13,222,13,235,null,null,null,null,0,111,null,112,{"$f":"COUNTIF($L$7:$L$500,N8)","v":1},{"$f":"O8/$Q$4","v":1.6393442622950821E-2},{"$f":"IF(P8=0,0,(P8*((LOG(P8))/LOG(2))))","v":-9.7225202255129275E-2},null,null,{"$f":"N8","v":112},{"$f":"COUNTIF(L7:L16,T8)","v":0},{"$f":"U8/(W4-U11)","v":0},{"$f":"IF(V8=0,0,(V8*((LOG(V8))/LOG(2))))","v":0},null,{"$f":"N8","v":112},{"$f":"COUNTIF(L17:L26,Y8)","v":1},{"$f":"Z8/(AB4-Z11)","v":0.14285714285714285},{"$f":"IF(AA8=0,0,(AA8*((LOG(AA8))/LOG(2))))","v":-0.40105070315108626},null,{"$f":"N8","v":112},{"$f":"COUNTIF(L27:L37,AD8)","v":0},{"$f":"AE8/(AG4-AE11)","v":0},{"$f":"IF(AF8=0,0,(AF8*((LOG(AF8))/LOG(2))))","v":0},null,{"$f":"N8","v":112},{"$f":"COUNTIF(L38:L47,AI8)","v":0},{"$f":"AJ8/(AL4-AJ11)","v":0},{"$f":"IF(AK8=0,0,(AK8*((LOG(AK8))/LOG(2))))","v":0},null,{"$f":"N8","v":112},{"$f":"COUNTIF(L48:L57,AN8)","v":0},{"$f":"AO8/(AQ4-AO11)","v":0},{"$f":"IF(AP8=0,0,(AP8*((LOG(AP8))/LOG(2))))","v":0},null,{"$f":"N8","v":112},{"$f":"COUNTIF(L58:L67,AS8)","v":0},{"$f":"AT8/(AV4-AT11)","v":0},{"$f":"IF(AU8=0,0,(AU8*((LOG(AU8))/LOG(2))))","v":0}]
[12,345,13,364,13,371,null,null,null,null,0,111,null,121,{"$f":"COUNTIF($L$7:$L$500,N9)","v":2},{"$f":"O9/$Q$4","v":3.2786885245901641E-2},{"$f":"IF(P9=0,0,(P9*((LOG(P9))/LOG(2))))","v":-0.16166351926435696},null,null,{"$f":"N9","v":121},{"$f":"COUNTIF(L7:L16,T9)","v":2},{"$f":"U9/(W4-U11)","v":0.2857142857142857},{"$f":"IF(V9=0,0,(V9*((LOG(V9))/LOG(2))))","v":-0.51638712058788683},null,{"$f":"N9","v":121},{"$f":"COUNTIF(L17:L26,Y9)","v":0},{"$f":"Z9/(AB4-Z11)","v":0},{"$f":"IF(AA9=0,0,(AA9*((LOG(AA9))/LOG(2))))","v":0},null,{"$f":"N9","v":121},{"$f":"COUNTIF(L27:L37,AD9)","v":0},{"$f":"AE9/(AG4-AE11)","v":0},{"$f":"IF(AF9=0,0,(AF9*((LOG(AF9))/LOG(2))))","v":0},null,{"$f":"N9","v":121},{"$f":"COUNTIF(L38:L47,AI9)","v":0},{"$f":"AJ9/(AL4-AJ11)","v":0},{"$f":"IF(AK9=0,0,(AK9*((LOG(AK9))/LOG(2))))","v":0},null,{"$f":"N9","v":121},{"$f":"COUNTIF(L48:L57,AN9)","v":0},{"$f":"AO9/(AQ4-AO11)","v":0},{"$f":"IF(AP9=0,0,(AP9*((LOG(AP9))/LOG(2))))","v":0},null,{"$f":"N9","v":121},{"$f":"COUNTIF(L58:L67,AS9)","v":0},{"$f":"AT9/(AV4-AT11)","v":0},{"$f":"IF(AU9=0,0,(AU9*((LOG(AU9))/LOG(2))))","v":0}]
[12,484,13,493,13,505,null,null,null,null,0,111,null,122,{"$f":"COUNTIF($L$7:$L$500,N10)","v":0},{"$f":"O10/$Q$4","v":0},{"$f":"IF(P10=0,0,(P10*((LOG(P10))/LOG(2))))","v":0},null,null,{"$f":"N10","v":122},{"$f":"COUNTIF(L7:L16,T10)","v":0},{"$f":"U10/(W4-U11)","v":0},{"$f":"IF(V10=0,0,(V10*((LOG(V10))/LOG(2))))","v":0},null,{"$f":"N10","v":122},{"$f":"COUNTIF(L17:L26,Y10)","v":0},{"$f":"Z10/(AB4-Z11)","v":0},{"$f":"IF(AA10=0,0,(AA10*((LOG(AA10))/LOG(2))))","v":0},null,{"$f":"N10","v":122},{"$f":"COUNTIF(L27:L37,AD10)","v":0},{"$f":"AE10/(AG4-AE11)","v":0},{"$f":"IF(AF10=0,0,(AF10*((LOG(AF10))/LOG(2))))","v":0},null,{"$f":"N10","v":122},{"$f":"COUNTIF(L38:L47,AI10)","v":0},{"$f":"AJ10/(AL4-AJ11)","v":0},{"$f":"IF(AK10=0,0,(AK10*((LOG(AK10))/LOG(2))))","v":0},null,{"$f":"N10","v":122},{"$f":"COUNTIF(L48:L57,AN10)","v":0},{"$f":"AO10/(AQ4-AO11)","v":0},{"$f":"IF(AP10=0,0,(AP10*((LOG(AP10))/LOG(2))))","v":0},null,{"$f":"N10","v":122},{"$f":"COUNTIF(L58:L67,AS10)","v":0},{"$f":"AT10/(AV4-AT11)","v":0},{"$f":"IF(AU10=0,0,(AU10*((LOG(AU10))/LOG(2))))","v":0}]
[21,606,11,615,11,619,null,null,null,null,0,211,null,211,{"$f":"COUNTIF($L$7:$L$500,N11)","v":39},{"$f":"O11/$Q$4","v":0.63934426229508201},{"$f":"IF(P11=0,0,(P11*((LOG(P11))/LOG(2))))","v":-0.41259130539876843},null,null,{"$f":"N11","v":211},{"$f":"COUNTIF(L7:L16,T11)","v":3},null,null,null,{"$f":"N11","v":211},{"$f":"COUNTIF(L17:L26,Y11)","v":3},null,null,null,{"$f":"N11","v":211},{"$f":"COUNTIF(L27:L37,AD11)","v":6},null,null,null,{"$f":"N11","v":211},{"$f":"COUNTIF(L38:L47,AI11)","v":9},null,null,null,{"$f":"N11","v":211},{"$f":"COUNTIF(L48:L57,AN11)","v":9},null,null,null,{"$f":"N11","v":211},{"$f":"COUNTIF(L58:L67,AS11)","v":9}]
[21,742,11,751,11,755,null,null,null,null,0,211,null,212,{"$f":"COUNTIF($L$7:$L$500,N12)","v":0},{"$f":"O12/$Q$4","v":0},{"$f":"IF(P12=0,0,(P12*((LOG(P12))/LOG(2))))","v":0},null,null,{"$f":"N12","v":212},{"$f":"COUNTIF(L7:L16,T12)","v":0},{"$f":"U12/(W4-U11)","v":0},{"$f":"IF(V12=0,0,(V12*((LOG(V12))/LOG(2))))","v":0},null,{"$f":"N12","v":212},{"$f":"COUNTIF(L17:L26,Y12)","v":0},{"$f":"Z12/(AB4-Z11)","v":0},{"$f":"IF(AA12=0,0,(AA12*((LOG(AA12))/LOG(2))))","v":0},null,{"$f":"N12","v":212},{"$f":"COUNTIF(L27:L37,AD12)","v":0},{"$f":"AE12/(AG4-AE11)","v":0},{"$f":"IF(AF12=0,0,(AF12*((LOG(AF12))/LOG(2))))","v":0},null,{"$f":"N12","v":212},{"$f":"COUNTIF(L38:L47,AI12)","v":0},{"$f":"AJ12/(AL4-AJ11)","v":0},{"$f":"IF(AK12=0,0,(AK12*((LOG(AK12))/LOG(2))))","v":0},null,{"$f":"N12","v":212},{"$f":"COUNTIF(L48:L57,AN12)","v":0},{"$f":"AO12/(AQ4-AO11)","v":0},{"$f":"IF(AP12=0,0,(AP12*((LOG(AP12))/LOG(2))))","v":0},null,{"$f":"N12","v":212},{"$f":"COUNTIF(L58:L67,AS12)","v":0},{"$f":"AT12/(AV4-AT11)","v":0},{"$f":"IF(AU12=0,0,(AU12*((LOG(AU12))/LOG(2))))","v":0}]
[12,869,13,884,13,889,null,null,null,null,0,111,null,221,{"$f":"COUNTIF($L$7:$L$500,N13)","v":5},{"$f":"O13/$Q$4","v":8.1967213114754092E-2},{"$f":"IF(P13=0,0,(P13*((LOG(P13))/LOG(2))))","v":-0.29580403628487895},null,null,{"$f":"N13","v":221},{"$f":"COUNTIF(L7:L16,T13)","v":0},{"$f":"U13/(W4-U11)","v":0},{"$f":"IF(V13=0,0,(V13*((LOG(V13))/LOG(2))))","v":0},null,{"$f":"N13","v":221},{"$f":"COUNTIF(L17:L26,Y13)","v":1},{"$f":"Z13/(AB4-Z11)","v":0.14285714285714285},{"$f":"IF(AA13=0,0,(AA13*((LOG(AA13))/LOG(2))))","v":-0.40105070315108626},null,{"$f":"N13","v":221},{"$f":"COUNTIF(L27:L37,AD13)","v":3},{"$f":"AE13/(AG4-AE11)","v":0.6},{"$f":"IF(AF13=0,0,(AF13*((LOG(AF13))/LOG(2))))","v":-0.44217935649972373},null,{"$f":"N13","v":221},{"$f":"COUNTIF(L38:L47,AI13)","v":0},{"$f":"AJ13/(AL4-AJ11)","v":0},{"$f":"IF(AK13=0,0,(AK13*((LOG(AK13))/LOG(2))))","v":0},null,{"$f":"N13","v":221},{"$f":"COUNTIF(L48:L57,AN13)","v":0},{"$f":"AO13/(AQ4-AO11)","v":0},{"$f":"IF(AP13=0,0,(AP13*((LOG(AP13))/LOG(2))))","v":0},null,{"$f":"N13","v":221},{"$f":"COUNTIF(L58:L67,AS13)","v":1},{"$f":"AT13/(AV4-AT11)","v":1},{"$f":"IF(AU13=0,0,(AU13*((LOG(AU13))/LOG(2))))","v":0}]
[21,994,11,1006,11,1011,null,null,null,null,0,211,null,222,{"$f":"COUNTIF($L$7:$L$500,N14)","v":1},{"$f":"O14/$Q$4","v":1.6393442622950821E-2},{"$f":"IF(P14=0,0,(P14*((LOG(P14))/LOG(2))))","v":-9.7225202255129275E-2},null,null,{"$f":"N14","v":222},{"$f":"COUNTIF(L7:L16,T14)","v":0},{"$f":"U14/(W4-U11)","v":0},{"$f":"IF(V14=0,0,(V14*((LOG(V14))/LOG(2))))","v":0},null,{"$f":"N14","v":222},{"$f":"COUNTIF(L17:L26,Y14)","v":1},{"$f":"Z14/(AB4-Z11)","v":0.14285714285714285},{"$f":"IF(AA14=0,0,(AA14*((LOG(AA14))/LOG(2))))","v":-0.40105070315108626},null,{"$f":"N14","v":222},{"$f":"COUNTIF(L27:L37,AD14)","v":0},{"$f":"AE14/(AG4-AE11)","v":0},{"$f":"IF(AF14=0,0,(AF14*((LOG(AF14))/LOG(2))))","v":0},null,{"$f":"N14","v":222},{"$f":"COUNTIF(L38:L47,AI14)","v":0},{"$f":"AJ14/(AL4-AJ11)","v":0},{"$f":"IF(AK14=0,0,(AK14*((LOG(AK14))/LOG(2))))","v":0},null,{"$f":"N14","v":222},{"$f":"COUNTIF(L48:L57,AN14)","v":0},{"$f":"AO14/(AQ4-AO11)","v":0},{"$f":"IF(AP14=0,0,(AP14*((LOG(AP14))/LOG(2))))","v":0},null,{"$f":"N14","v":222},{"$f":"COUNTIF(L58:L67,AS14)","v":0},{"$f":"AT14/(AV4-AT11)","v":0},{"$f":"IF(AU14=0,0,(AU14*((LOG(AU14))/LOG(2))))","v":0}]
[12,1123,24,1134,13,1149,null,null,null,null,0,121,null,null,null,{"$f":"SUM(P7:P14)","v":1},{"$f":"-SUM(Q7:Q14)","v":1.5398185941874976},null,null,null,null,{"$f":"SUM(V7:V14)","v":1},{"$f":"-SUM(W7:W14)","v":0.863120568566631},null,null,null,{"$f":"SUM(AA7:AA14)","v":0.99999999999999978},{"$f":"-SUM(AB7:AB14)","v":1.6644977792004614},null,null,null,{"$f":"SUM(AF7:AF14)","v":1},{"$f":"-SUM(AG7:AG14)","v":0.97095059445466869},null,null,null,{"$f":"SUM(AK7:AK14)","v":1},{"$f":"-SUM(AL7:AL14)","v":0},null,null,null,{"$f":"SUM(AP7:AP14)","v":1},{"$f":"-SUM(AQ7:AQ14)","v":0},null,null,null,{"$f":"SUM(AU7:AU14)","v":1},{"$f":"-SUM(AV7:AV14)","v":0}]
[12,1252,24,1264,13,1281,null,null,null,null,0,121,null,null,null,"U=",{"$f":"Q15/(LOG(Q4)/LOG(2))","v":0.25963358458566538},null,null,null,null,"U1=",{"$f":"W15/(LOG(W4)/LOG(2))","v":0.25982518101310592},null,null,null,"U2=",{"$f":"AB15/(LOG(AB4)/LOG(2))","v":0.50106375925542124},null,null,null,"U3=",{"$f":"AG15/(LOG(AG4)/LOG(2))","v":0.28066766494928874},null,null,null,"U4=",{"$f":"AL15/(LOG(AL4)/LOG(2))","v":0},null,null,null,"U5=",{"$f":"AQ15/(LOG(AQ4)/LOG(2))","v":0},null,null,null,"U6=",{"$f":"AV15/(LOG(AV4)/LOG(2))","v":0}]
[12,1385,13,1398,13,1405,null,null,null,null,0,111]
[12,1506,13,1515,13,1522,null,null,null,null,0,111]
[21,1628,11,1639,11,1647,null,null,null,null,0,211,null,"Total Target Seq"]
[21,1738,11,1749,11,1757,null,null,null,null,0,211,null,{"$f":"COUNTIF(L7:L67,G3)","v":39},null,10,10,11,10,10,10]
[21,1857,11,1865,11,1870,null,null,null,null,0,211,null,null,null,"% of reinforcement given in 6 equal intervals based on number of trials "]
[12,1989,13,1991,13,1998,null,null,null,null,0,111,null,null,null,"%_1","%_2","%_3","%_4","%_5","%_6"]
[12,2113,13,2120,13,2127,null,null,null,null,0,111,null,null,"target sequence",{"$f":"$G$3","v":211},{"$f":"$G$3","v":211},{"$f":"$G$3","v":211},{"$f":"$G$3","v":211},{"$f":"$G$3","v":211},{"$f":"$G$3","v":211}]
[21,2231,22,2233,13,2241,null,null,null,null,0,221,null,null,"total reinforcement",{"$f":"U11","v":3},{"$f":"Z11","v":3},{"$f":"AE11","v":6},{"$f":"AJ11","v":9},{"$f":"AO11","v":9},{"$f":"AT11","v":9}]
[12,2354,13,2367,24,2380,null,null,null,null,0,112,null,null,"% target"]
[21,2489,22,2498,24,2505,null,null,null,null,0,222,null,null,"CCRF"]
[21,2602,11,2614,11,2621,null,null,null,null,0,211,null,null,"% CCRf"]
[21,2729,11,2737,11,2742,null,null,null,null,0,211,null,null,"average response rate",{"$f":"F16/P20","v":128.1},{"$f":"(F26-F16)/Q20","v":122.4},{"$f":"(F37-F26)/R20","v":114.90909090909091},{"$f":"(F47-F37)/S20","v":110.6},{"$f":"(F57-F47)/T20","v":113.1},{"$f":"(F67-F57)/U20","v":106.7}]
[21,2837,11,2848,11,2855,null,null,null,null,0,211]
[21,2951,11,2958,11,2963,null,null,null,null,0,211]
[12,3062,13,3067,13,3071,null,null,null,null,0,111]
[21,3175,22,3177,13,3185,null,null,null,null,0,221]
[12,3294,13,3298,13,3305,null,null,null,null,0,111]
[21,3408,22,3409,13,3417,null,null,null,null,0,221]
[21,3522,22,3524,13,3534,null,null,null,null,0,221]
[21,3638,11,3647,11,3652,null,null,null,null,0,211]
[21,3752,11,3762,11,3769,null,null,null,null,0,211]
[21,3868,11,3876,11,3880,null,null,null,null,0,211]
[21,3970,11,3979,11,3986,null,null,null,null,0,211]
[21,4082,11,4090,11,4094,null,null,null,null,0,211]
[21,4206,11,4214,11,4218,null,null,null,null,0,211]
[21,4313,11,4321,11,4325,null,null,null,null,0,211]
[21,4417,11,4425,11,4430,null,null,null,null,0,211]
[12,4533,13,4538,13,4544,null,null,null,null,0,111]
[21,4646,11,4654,11,4658,null,null,null,null,0,211]
[21,4754,11,4765,11,4769,null,null,null,null,0,211]
[21,4861,11,4871,11,4875,null,null,null,null,0,211]
[21,4969,11,4977,11,4981,null,null,null,null,0,211]
[21,5073,11,5083,11,5089,null,null,null,null,0,211]
[21,5184,11,5192,11,5196,null,null,null,null,0,211]
[21,5292,11,5300,11,5304,null,null,null,null,0,211]
[12,5445,13,5452,13,5459,null,null,null,null,0,111]
[21,5561,11,5569,11,5573,null,null,null,null,0,211]
[21,5668,11,5676,11,5688,null,null,null,null,0,211]
[21,5784,11,5792,11,5796,null,null,null,null,0,211]
[21,5885,11,5895,11,5903,null,null,null,null,0,211]
[21,5994,11,6002,11,6006,null,null,null,null,0,211]
[21,6098,11,6106,11,6110,null,null,null,null,0,211]
[21,6198,11,6210,11,6215,null,null,null,null,0,211]
[21,6307,11,6316,11,6321,null,null,null,null,0,211]
[21,6409,22,6418,13,6426,null,null,null,null,0,221]
[21,6527,11,6535,11,6539,null,null,null,null,0,211]
[21,6634,11,6645,11,6652,null,null,null,null,0,211]
[21,6746,11,6756,11,6760,null,null,null,null,0,211]
[21,6851,11,6859,11,6863,null,null,null,null,0,211]
[21,6952,11,6960,11,6964,null,null,null,null,0,211]
[21,7057,11,7066,11,7073,null,null,null,null,1,211]

{"sheet":"!2011-06-12_09h33m.Subject 53","index":20,"n_rows":58,"n_cols":48,"rows_kept":58,"cut":false,"hidden":false,"merged":[[4,39,4,42],[5,39,5,40],[4,44,4,47],[5,44,5,45],[4,24,4,27],[5,24,5,25],[4,29,4,32],[5,29,5,30],[4,34,4,37],[5,34,5,35],[1,1,1,2],[5,13,5,14],[18,13,18,14],[19,13,19,14],[4,19,4,22],[5,19,5,20]]}
["Report for:!2011-06-12_09h33m.Subject 53"]
["Date","2011-06-12",null,null,null,"Group",0]
["Hen",53,null,null,null,"Correct Sequence",{"$f":"Start!J2","v":211},null,null,null,null,null,null,null,null,"Total Sequences in Data",{"$f":"4994-COUNTBLANK(L7:L5000)","v":52},null,null,null,null,"Total Sequences in Block Data",{"$f":"COUNTA(L7:L15)","v":9},null,null,null,"Total Sequences in Block Data",{"$f":"COUNTA(L16:L23)","v":8},null,null,null,"Total Sequences in Block Data",{"$f":"COUNTA(L24:L32)","v":9},null,null,null,"Total Sequences in Block Data",{"$f":"COUNTA(L33:L41)","v":9},null,null,null,"Total Sequences in Block Data",{"$f":"COUNTA(L42:L49)","v":8},null,null,null,"Total Sequences in Block Data",{"$f":"COUNTA(L50:L58)","v":9}]
["Program",0,null,null,null,null,null,null,null,null,null,null,null,null,null,"Total Sequences in Summary",{"$f":"SUM(O7:O14)","v":52},null,null,null,null,"Total Sequences in Block Summary",{"$f":"SUM(U7:U14)","v":9},null,null,null,"Total Sequences in Block Summary",{"$f":"SUM(Z7:Z14)","v":8},null,null,null,"Total Sequences in Block Summary",{"$f":"SUM(AE7:AE14)","v":9},null,null,null,"Total Sequences in Block Summary",{"$f":"SUM(AJ7:AJ14)","v":9},null,null,null,"Total Sequences in Block Summary",{"$f":"SUM(AO7:AO14)","v":8},null,null,null,"Total Sequences in Block Summary",{"$f":"SUM(AT7:AT14)","v":9}]
[null,null,null,null,null,null,null,null,null,null,null,null,null,null,null,null,null,null,null,"Block 1",null,null,null,null,"Block 2",null,null,null,null,"Block 3",null,null,null,null,"Block 4",null,null,null,null,"Block 5",null,null,null,null,"Block 6"]
["Sequence\nComponent\n1","Time\n1","Sequence\nComponent\n2","Time\n2","Sequence\nComponent\n3","Time\n3","Sequence\nComponent\n4","Time\n4","Sequence\nComponent\n5","Time\n5","Correct?\n0=No 1=Yes","Sequence",null,"Frequency",null,"Relative Frequency","Variability",null,null,"Frequency",null,"Relative Frequency","Variability",null,"Frequency",null,"Relative Frequency","Variability",null,"Frequency",null,"Relative Frequency","Variability",null,"Frequency",null,"Relative Frequency","Variability",null,"Frequency",null,"Relative Frequency","Variability",null,"Frequency",null,"Relative Frequency","Variability"]
[21,17,11,26,11,31,null,null,null,null,0,211,null,111,{"$f":"COUNTIF($L$7:$L$500,N7)","v":5},{"$f":"O7/$Q$4","v":9.6153846153846159E-2},{"$f":"IF(P7=0,0,(P7*((LOG(P7))/LOG(2))))","v":-0.32485688685132019},null,null,{"$f":"N7","v":111},{"$f":"COUNTIF(L7:L15,T7)","v":0},{"$f":"U7/(W4-U11)","v":0},{"$f":"IF(V7=0,0,(V7*((LOG(V7))/LOG(2))))","v":0},null,{"$f":"N7","v":111},{"$f":"COUNTIF(L16:L23,Y7)","v":1},{"$f":"Z7/(AB4-Z11)","v":0.5},{"$f":"IF(AA7=0,0,(AA7*((LOG(AA7))/LOG(2))))","v":-0.5},null,{"$f":"N7","v":111},{"$f":"COUNTIF(L24:L32,AD7)","v":1},{"$f":"AE7/(AG4-AE11)","v":0.33333333333333331},{"$f":"IF(AF7=0,0,(AF7*((LOG(AF7))/LOG(2))))","v":-0.52832083357371862},null,{"$f":"N7","v":111},{"$f":"COUNTIF(L33:L41,AI7)","v":1},{"$f":"AJ7/(AL4-AJ11)","v":0.5},{"$f":"IF(AK7=0,0,(AK7*((LOG(AK7))/LOG(2))))","v":-0.5},null,{"$f":"N7","v":111},{"$f":"COUNTIF(L42:L49,AN7)","v":0},{"$f":"AO7/(AQ4-AO11)","v":{"$error":"#DIV/0!"}},{"$f":"IF(AP7=0,0,(AP7*((LOG(AP7))/LOG(2))))","v":{"$error":"#DIV/0!"}},null,{"$f":"N7","v":111},{"$f":"COUNTIF(L50:L58,AS7)","v":2},{"$f":"AT7/(AV4-AT11)","v":0.66666666666666663},{"$f":"IF(AU7=0,0,(AU7*((LOG(AU7))/LOG(2))))","v":-0.38997500048077083}]
[21,123,11,135,11,142,null,null,null,null,0,211,null,112,{"$f":"COUNTIF($L$7:$L$500,N8)","v":3},{"$f":"O8/$Q$4","v":5.7692307692307696E-2},{"$f":"IF(P8=0,0,(P8*((LOG(P8))/LOG(2))))","v":-0.23743137792807323},null,null,{"$f":"N8","v":112},{"$f":"COUNTIF(L7:L15,T8)","v":2},{"$f":"U8/(W4-U11)","v":0.66666666666666663},{"$f":"IF(V8=0,0,(V8*((LOG(V8))/LOG(2))))","v":-0.38997500048077083},null,{"$f":"N8","v":112},{"$f":"COUNTIF(L16:L23,Y8)","v":0},{"$f":"Z8/(AB4-Z11)","v":0},{"$f":"IF(AA8=0,0,(AA8*((LOG(AA8))/LOG(2))))","v":0},null,{"$f":"N8","v":112},{"$f":"COUNTIF(L24:L32,AD8)","v":1},{"$f":"AE8/(AG4-AE11)","v":0.33333333333333331},{"$f":"IF(AF8=0,0,(AF8*((LOG(AF8))/LOG(2))))","v":-0.52832083357371862},null,{"$f":"N8","v":112},{"$f":"COUNTIF(L33:L41,AI8)","v":0},{"$f":"AJ8/(AL4-AJ11)","v":0},{"$f":"IF(AK8=0,0,(AK8*((LOG(AK8))/LOG(2))))","v":0},null,{"$f":"N8","v":112},{"$f":"COUNTIF(L42:L49,AN8)","v":0},{"$f":"AO8/(AQ4-AO11)","v":{"$error":"#DIV/0!"}},{"$f":"IF(AP8=0,0,(AP8*((LOG(AP8))/LOG(2))))","v":{"$error":"#DIV/0!"}},null,{"$f":"N8","v":112},{"$f":"COUNTIF(L50:L58,AS8)","v":0},{"$f":"AT8/(AV4-AT11)","v":0},{"$f":"IF(AU8=0,0,(AU8*((LOG(AU8))/LOG(2))))","v":0}]
[21,236,11,257,11,272,null,null,null,null,0,211,null,121,{"$f":"COUNTIF($L$7:$L$500,N9)","v":1},{"$f":"O9/$Q$4","v":1.9230769230769232E-2},{"$f":"IF(P9=0,0,(P9*((LOG(P9))/LOG(2))))","v":-0.10962384073348255},null,null,{"$f":"N9","v":121},{"$f":"COUNTIF(L7:L15,T9)","v":1},{"$f":"U9/(W4-U11)","v":0.33333333333333331},{"$f":"IF(V9=0,0,(V9*((LOG(V9))/LOG(2))))","v":-0.52832083357371862},null,{"$f":"N9","v":121},{"$f":"COUNTIF(L16:L23,Y9)","v":0},{"$f":"Z9/(AB4-Z11)","v":0},{"$f":"IF(AA9=0,0,(AA9*((LOG(AA9))/LOG(2))))","v":0},null,{"$f":"N9","v":121},{"$f":"COUNTIF(L24:L32,AD9)","v":0},{"$f":"AE9/(AG4-AE11)","v":0},{"$f":"IF(AF9=0,0,(AF9*((LOG(AF9))/LOG(2))))","v":0},null,{"$f":"N9","v":121},{"$f":"COUNTIF(L33:L41,AI9)","v":0},{"$f":"AJ9/(AL4-AJ11)","v":0},{"$f":"IF(AK9=0,0,(AK9*((LOG(AK9))/LOG(2))))","v":0},null,{"$f":"N9","v":121},{"$f":"COUNTIF(L42:L49,AN9)","v":0},{"$f":"AO9/(AQ4-AO11)","v":{"$error":"#DIV/0!"}},{"$f":"IF(AP9=0,0,(AP9*((LOG(AP9))/LOG(2))))","v":{"$error":"#DIV/0!"}},null,{"$f":"N9","v":121},{"$f":"COUNTIF(L50:L58,AS9)","v":0},{"$f":"AT9/(AV4-AT11)","v":0},{"$f":"IF(AU9=0,0,(AU9*((LOG(AU9))/LOG(2))))","v":0}]
[21,364,11,377,11,381,null,null,null,null,0,211,null,122,{"$f":"COUNTIF($L$7:$L$500,N10)","v":0},{"$f":"O10/$Q$4","v":0},{"$f":"IF(P10=0,0,(P10*((LOG(P10))/LOG(2))))","v":0},null,null,{"$f":"N10","v":122},{"$f":"COUNTIF(L7:L15,T10)","v":0},{"$f":"U10/(W4-U11)","v":0},{"$f":"IF(V10=0,0,(V10*((LOG(V10))/LOG(2))))","v":0},null,{"$f":"N10","v":122},{"$f":"COUNTIF(L16:L23,Y10)","v":0},{"$f":"Z10/(AB4-Z11)","v":0},{"$f":"IF(AA10=0,0,(AA10*((LOG(AA10))/LOG(2))))","v":0},null,{"$f":"N10","v":122},{"$f":"COUNTIF(L24:L32,AD10)","v":0},{"$f":"AE10/(AG4-AE11)","v":0},{"$f":"IF(AF10=0,0,(AF10*((LOG(AF10))/LOG(2))))","v":0},null,{"$f":"N10","v":122},{"$f":"COUNTIF(L33:L41,AI10)","v":0},{"$f":"AJ10/(AL4-AJ11)","v":0},{"$f":"IF(AK10=0,0,(AK10*((LOG(AK10))/LOG(2))))","v":0},null,{"$f":"N10","v":122},{"$f":"COUNTIF(L42:L49,AN10)","v":0},{"$f":"AO10/(AQ4-AO11)","v":{"$error":"#DIV/0!"}},{"$f":"IF(AP10=0,0,(AP10*((LOG(AP10))/LOG(2))))","v":{"$error":"#DIV/0!"}},null,{"$f":"N10","v":122},{"$f":"COUNTIF(L50:L58,AS10)","v":0},{"$f":"AT10/(AV4-AT11)","v":0},{"$f":"IF(AU10=0,0,(AU10*((LOG(AU10))/LOG(2))))","v":0}]
[12,495,13,503,24,520,null,null,null,null,0,112,null,211,{"$f":"COUNTIF($L$7:$L$500,N11)","v":39},{"$f":"O11/$Q$4","v":0.75},{"$f":"IF(P11=0,0,(P11*((LOG(P11))/LOG(2))))","v":-0.31127812445913283},null,null,{"$f":"N11","v":211},{"$f":"COUNTIF(L7:L15,T11)","v":6},null,null,null,{"$f":"N11","v":211},{"$f":"COUNTIF(L16:L23,Y11)","v":6},null,null,null,{"$f":"N11","v":211},{"$f":"COUNTIF(L24:L32,AD11)","v":6},null,null,null,{"$f":"N11","v":211},{"$f":"COUNTIF(L33:L41,AI11)","v":7},null,null,null,{"$f":"N11","v":211},{"$f":"COUNTIF(L42:L49,AN11)","v":8},null,null,null,{"$f":"N11","v":211},{"$f":"COUNTIF(L50:L58,AS11)","v":6}]
[21,617,11,626,11,631,null,null,null,null,0,211,null,212,{"$f":"COUNTIF($L$7:$L$500,N12)","v":2},{"$f":"O12/$Q$4","v":3.8461538461538464E-2},{"$f":"IF(P12=0,0,(P12*((LOG(P12))/LOG(2))))","v":-0.18078614300542661},null,null,{"$f":"N12","v":212},{"$f":"COUNTIF(L7:L15,T12)","v":0},{"$f":"U12/(W4-U11)","v":0},{"$f":"IF(V12=0,0,(V12*((LOG(V12))/LOG(2))))","v":0},null,{"$f":"N12","v":212},{"$f":"COUNTIF(L16:L23,Y12)","v":1},{"$f":"Z12/(AB4-Z11)","v":0.5},{"$f":"IF(AA12=0,0,(AA12*((LOG(AA12))/LOG(2))))","v":-0.5},null,{"$f":"N12","v":212},{"$f":"COUNTIF(L24:L32,AD12)","v":0},{"$f":"AE12/(AG4-AE11)","v":0},{"$f":"IF(AF12=0,0,(AF12*((LOG(AF12))/LOG(2))))","v":0},null,{"$f":"N12","v":212},{"$f":"COUNTIF(L33:L41,AI12)","v":0},{"$f":"AJ12/(AL4-AJ11)","v":0},{"$f":"IF(AK12=0,0,(AK12*((LOG(AK12))/LOG(2))))","v":0},null,{"$f":"N12","v":212},{"$f":"COUNTIF(L42:L49,AN12)","v":0},{"$f":"AO12/(AQ4-AO11)","v":{"$error":"#DIV/0!"}},{"$f":"IF(AP12=0,0,(AP12*((LOG(AP12))/LOG(2))))","v":{"$error":"#DIV/0!"}},null,{"$f":"N12","v":212},{"$f":"COUNTIF(L50:L58,AS12)","v":1},{"$f":"AT12/(AV4-AT11)","v":0.33333333333333331},{"$f":"IF(AU12=0,0,(AU12*((LOG(AU12))/LOG(2))))","v":-0.52832083357371862}]
[21,727,11,738,11,743,null,null,null,null,0,211,null,221,{"$f":"COUNTIF($L$7:$L$500,N13)","v":2},{"$f":"O13/$Q$4","v":3.8461538461538464E-2},{"$f":"IF(P13=0,0,(P13*((LOG(P13))/LOG(2))))","v":-0.18078614300542661},null,null,{"$f":"N13","v":221},{"$f":"COUNTIF(L7:L15,T13)","v":0},{"$f":"U13/(W4-U11)","v":0},{"$f":"IF(V13=0,0,(V13*((LOG(V13))/LOG(2))))","v":0},null,{"$f":"N13","v":221},{"$f":"COUNTIF(L16:L23,Y13)","v":0},{"$f":"Z13/(AB4-Z11)","v":0},{"$f":"IF(AA13=0,0,(AA13*((LOG(AA13))/LOG(2))))","v":0},null,{"$f":"N13","v":221},{"$f":"COUNTIF(L24:L32,AD13)","v":1},{"$f":"AE13/(AG4-AE11)","v":0.33333333333333331},{"$f":"IF(AF13=0,0,(AF13*((LOG(AF13))/LOG(2))))","v":-0.52832083357371862},null,{"$f":"N13","v":221},{"$f":"COUNTIF(L33:L41,AI13)","v":1},{"$f":"AJ13/(AL4-AJ11)","v":0.5},{"$f":"IF(AK13=0,0,(AK13*((LOG(AK13))/LOG(2))))","v":-0.5},null,{"$f":"N13","v":221},{"$f":"COUNTIF(L42:L49,AN13)","v":0},{"$f":"AO13/(AQ4-AO11)","v":{"$error":"#DIV/0!"}},{"$f":"IF(AP13=0,0,(AP13*((LOG(AP13))/LOG(2))))","v":{"$error":"#DIV/0!"}},null,{"$f":"N13","v":221},{"$f":"COUNTIF(L50:L58,AS13)","v":0},{"$f":"AT13/(AV4-AT11)","v":0},{"$f":"IF(AU13=0,0,(AU13*((LOG(AU13))/LOG(2))))","v":0}]
[12,851,24,869,13,878,null,null,null,null,0,121,null,222,{"$f":"COUNTIF($L$7:$L$500,N14)","v":0},{"$f":"O14/$Q$4","v":0},{"$f":"IF(P14=0,0,(P14*((LOG(P14))/LOG(2))))","v":0},null,null,{"$f":"N14","v":222},{"$f":"COUNTIF(L7:L15,T14)","v":0},{"$f":"U14/(W4-U11)","v":0},{"$f":"IF(V14=0,0,(V14*((LOG(V14))/LOG(2))))","v":0},null,{"$f":"N14","v":222},{"$f":"COUNTIF(L16:L23,Y14)","v":0},{"$f":"Z14/(AB4-Z11)","v":0},{"$f":"IF(AA14=0,0,(AA14*((LOG(AA14))/LOG(2))))","v":0},null,{"$f":"N14","v":222},{"$f":"COUNTIF(L24:L32,AD14)","v":0},{"$f":"AE14/(AG4-AE11)","v":0},{"$f":"IF(AF14=0,0,(AF14*((LOG(AF14))/LOG(2))))","v":0},null,{"$f":"N14","v":222},{"$f":"COUNTIF(L33:L41,AI14)","v":0},{"$f":"AJ14/(AL4-AJ11)","v":0},{"$f":"IF(AK14=0,0,(AK14*((LOG(AK14))/LOG(2))))","v":0},null,{"$f":"N14","v":222},{"$f":"COUNTIF(L42:L49,AN14)","v":0},{"$f":"AO14/(AQ4-AO11)","v":{"$error":"#DIV/0!"}},{"$f":"IF(AP14=0,0,(AP14*((LOG(AP14))/LOG(2))))","v":{"$error":"#DIV/0!"}},null,{"$f":"N14","v":222},{"$f":"COUNTIF(L50:L58,AS14)","v":0},{"$f":"AT14/(AV4-AT11)","v":0},{"$f":"IF(AU14=0,0,(AU14*((LOG(AU14))/LOG(2))))","v":0}]
[12,989,13,997,24,1010,null,null,null,null,0,112,null,null,null,{"$f":"SUM(P7:P14)","v":1},{"$f":"-SUM(Q7:Q14)","v":1.344762515982862},null,null,null,null,{"$f":"SUM(V7:V14)","v":1},{"$f":"-SUM(W7:W14)","v":0.91829583405448945},null,null,null,{"$f":"SUM(AA7:AA14)","v":1},{"$f":"-SUM(AB7:AB14)","v":1},null,null,null,{"$f":"SUM(AF7:AF14)","v":1},{"$f":"-SUM(AG7:AG14)","v":1.5849625007211559},null,null,null,{"$f":"SUM(AK7:AK14)","v":1},{"$f":"-SUM(AL7:AL14)","v":1},null,null,null,{"$f":"SUM(AP7:AP14)","v":{"$error":"#DIV/0!"}},{"$f":"-SUM(AQ7:AQ14)","v":{"$error":"#DIV/0!"}},null,null,null,{"$f":"SUM(AU7:AU14)","v":1},{"$f":"-SUM(AV7:AV14)","v":0.91829583405448945}]
[12,1122,13,1126,13,1134,null,null,null,null,0,111,null,null,null,"U=",{"$f":"Q15/(LOG(Q4)/LOG(2))","v":0.23590504986892269},null,null,null,null,"U1=",{"$f":"W15/(LOG(W4)/LOG(2))","v":0.28969008214284753},null,null,null,"U2=",{"$f":"AB15/(LOG(AB4)/LOG(2))","v":0.33333333333333331},null,null,null,"U3=",{"$f":"AG15/(LOG(AG4)/LOG(2))","v":0.49999999999999994},null,null,null,"U4=",{"$f":"AL15/(LOG(AL4)/LOG(2))","v":0.31546487678572877},null,null,null,"U5=",{"$f":"AQ15/(LOG(AQ4)/LOG(2))","v":{"$error":"#DIV/0!"}},null,null,null,"U6=",{"$f":"AV15/(LOG(AV4)/LOG(2))","v":0.28969008214284753}]
[21,1238,11,1248,11,1255,null,null,null,null,0,211]
[21,1349,11,1358,11,1365,null,null,null,null,0,211]
[21,1461,11,1471,11,1477,null,null,null,null,0,211,null,"Total Target Seq"]
[21,1573,11,1582,11,1586,null,null,null,null,0,211,null,{"$f":"COUNTIF(L7:L58,G3)","v":39},null,9,8,9,9,8,9]
[21,1678,11,1691,22,1700,null,null,null,null,0,212,null,null,null,"% of reinforcement given in 6 equal intervals based on number of trials "]
[21,1800,11,1810,11,1817,null,null,null,null,0,211,null,null,null,"%_1","%_2","%_3","%_4","%_5","%_6"]
[21,1911,11,1919,11,1924,null,null,null,null,0,211,null,null,"target sequence",{"$f":"$G$3","v":211},{"$f":"$G$3","v":211},{"$f":"$G$3","v":211},{"$f":"$G$3","v":211},{"$f":"$G$3","v":211},{"$f":"$G$3","v":211}]
[21,2019,11,2030,11,2040,null,null,null,null,0,211,null,null,"total reinforcement",{"$f":"U11","v":6},{"$f":"Z11","v":6},{"$f":"AE11","v":6},{"$f":"AJ11","v":7},{"$f":"AO11","v":8},{"$f":"AT11","v":6}]
[21,2135,11,2142,11,2147,null,null,null,null,0,211,null,null,"% target"]
[21,2238,11,2247,11,2252,null,null,null,null,0,211,null,null,"CCRF"]
[12,2351,13,2367,13,2374,null,null,null,null,0,111,null,null,"% CCRf"]
[21,2472,22,2477,13,2488,null,null,null,null,0,221,null,null,"average response rate",{"$f":"F15/P20","v":112.22222222222223},{"$f":"(F23-F15)/Q20","v":114.25},{"$f":"(F32-F23)/R20","v":114.55555555555556},{"$f":"(F41-F32)/S20","v":112.44444444444444},{"$f":"(F49-F41)/T20","v":109.25},{"$f":"(F58-F49)/U20","v":124.22222222222223}]
[21,2595,11,2607,11,2611,null,null,null,null,0,211]
[21,2706,11,2714,11,2718,null,null,null,null,0,211]
[21,2814,11,2823,11,2830,null,null,null,null,0,211]
[12,2934,13,2940,24,2955,null,null,null,null,0,112]
[21,3056,11,3064,11,3069,null,null,null,null,0,211]
[21,3163,11,3170,11,3174,null,null,null,null,0,211]
[21,3267,11,3275,11,3279,null,null,null,null,0,211]
[12,3390,13,3406,13,3419,null,null,null,null,0,111]
[21,3520,11,3530,11,3537,null,null,null,null,0,211]
[21,3628,11,3642,11,3646,null,null,null,null,0,211]
[21,3736,22,3742,13,3750,null,null,null,null,0,221]
[21,3847,11,3856,11,3861,null,null,null,null,0,211]
[21,3954,11,3962,11,3967,null,null,null,null,0,211]
[21,4058,11,4066,11,4075,null,null,null,null,0,211]
[21,4171,11,4179,11,4184,null,null,null,null,0,211]
[21,4276,11,4284,11,4288,null,null,null,null,0,211]
[21,4381,11,4389,11,4410,null,null,null,null,0,211]
[21,4499,11,4510,11,4521,null,null,null,null,0,211]
[21,4613,11,4626,11,4636,null,null,null,null,0,211]
[21,4728,11,4735,11,4739,null,null,null,null,0,211]
[21,4828,11,4837,11,4841,null,null,null,null,0,211]
[12,4950,13,4979,13,4985,null,null,null,null,0,111]
[12,5095,13,5103,13,5105,null,null,null,null,0,111]
[21,5205,11,5214,11,5221,null,null,null,null,0,211]
[21,5316,11,5324,11,5329,null,null,null,null,0,211]
[21,5424,11,5432,11,5436,null,null,null,null,0,211]
[21,5529,11,5536,11,5548,null,null,null,null,0,211]
[21,5644,11,5663,22,5702,null,null,null,null,0,212]
[21,5802,11,5811,11,5815,null,null,null,null,0,211]
[21,5912,11,5941,11,5959,null,null,null,null,1,211]

{"sheet":"!2011-06-13_09h14m.Subject 53","index":21,"n_rows":61,"n_cols":48,"rows_kept":61,"cut":false,"hidden":false,"merged":[[4,39,4,42],[5,39,5,40],[4,44,4,47],[5,44,5,45],[4,24,4,27],[5,24,5,25],[4,29,4,32],[5,29,5,30],[4,34,4,37],[5,34,5,35],[1,1,1,2],[5,13,5,14],[18,13,18,14],[19,13,19,14],[4,19,4,22],[5,19,5,20]]}
["Report for:!2011-06-13_09h14m.Subject 53"]
["Date","2011-06-13",null,null,null,"Group",0]
["Hen",53,null,null,null,"Correct Sequence",{"$f":"Start!J2","v":211},null,null,null,null,null,null,null,null,"Total Sequences in Data",{"$f":"4994-COUNTBLANK(L7:L5000)","v":55},null,null,null,null,"Total Sequences in Block Data",{"$f":"COUNTA(L7:L15)","v":9},null,null,null,"Total Sequences in Block Data",{"$f":"COUNTA(L16:L24)","v":9},null,null,null,"Total Sequences in Block Data",{"$f":"COUNTA(L25:L34)","v":10},null,null,null,"Total Sequences in Block Data",{"$f":"COUNTA(L35:L43)","v":9},null,null,null,"Total Sequences in Block Data",{"$f":"COUNTA(L44:L52)","v":9},null,null,null,"Total Sequences in Block Data",{"$f":"COUNTA(L53:L61)","v":9}]
["Program",0,null,null,null,null,null,null,null,null,null,null,null,null,null,"Total Sequences in Summary",{"$f":"SUM(O7:O14)","v":55},null,null,null,null,"Total Sequences in Block Summary",{"$f":"SUM(U7:U14)","v":9},null,null,null,"Total Sequences in Block Summary",{"$f":"SUM(Z7:Z14)","v":9},null,null,null,"Total Sequences in Block Summary",{"$f":"SUM(AE7:AE14)","v":10},null,null,null,"Total Sequences in Block Summary",{"$f":"SUM(AJ7:AJ14)","v":9},null,null,null,"Total Sequences in Block Summary",{"$f":"SUM(AO7:AO14)","v":9},null,null,null,"Total Sequences in Block Summary",{"$f":"SUM(AT7:AT14)","v":9}]
[null,null,null,null,null,null,null,null,null,null,null,null,null,null,null,null,null,null,null,"Block 1",null,null,null,null,"Block 2",null,null,null,null,"Block 3",null,null,null,null,"Block 4",null,null,null,null,"Block 5",null,null,null,null,"Block 6"]
["Sequence\nComponent\n1","Time\n1","Sequence\nComponent\n2","Time\n2","Sequence\nComponent\n3","Time\n3","Sequence\nComponent\n4","Time\n4","Sequence\nComponent\n5","Time\n5","Correct?\n0=No 1=Yes","Sequence",null,"Frequency",null,"Relative Frequency","Variability",null,null,"Frequency",null,"Relative Frequency","Variability",null,"Frequency",null,"Relative Frequency","Variability",null,"Frequency",null,"Relative Frequency","Variability",null,"Frequency",null,"Relative Frequency","Variability",null,"Frequency",null,"Relative Frequency","Variability",null,"Frequency",null,"Relative Frequency","Variability"]
[21,20,22,60,24,93,null,null,null,null,0,222,null,111,{"$f":"COUNTIF($L$7:$L$500,N7)","v":7},{"$f":"O7/$Q$4","v":0.12727272727272726},{"$f":"IF(P7=0,0,(P7*((LOG(P7))/LOG(2))))","v":-0.37850970073217072},null,null,{"$f":"N7","v":111},{"$f":"COUNTIF(L7:L15,T7)","v":1},{"$f":"U7/(W4-U11)","v":0.25},{"$f":"IF(V7=0,0,(V7*((LOG(V7))/LOG(2))))","v":-0.5},null,{"$f":"N7","v":111},{"$f":"COUNTIF(L16:L24,Y7)","v":2},{"$f":"Z7/(AB4-Z11)","v":1},{"$f":"IF(AA7=0,0,(AA7*((LOG(AA7))/LOG(2))))","v":0},null,{"$f":"N7","v":111},{"$f":"COUNTIF(L25:L34,AD7)","v":2},{"$f":"AE7/(AG4-AE11)","v":0.4},{"$f":"IF(AF7=0,0,(AF7*((LOG(AF7))/LOG(2))))","v":-0.52877123795494496},null,{"$f":"N7","v":111},{"$f":"COUNTIF(L35:L43,AI7)","v":2},{"$f":"AJ7/(AL4-AJ11)","v":1},{"$f":"IF(AK7=0,0,(AK7*((LOG(AK7))/LOG(2))))","v":0},null,{"$f":"N7","v":111},{"$f":"COUNTIF(L44:L52,AN7)","v":0},{"$f":"AO7/(AQ4-AO11)","v":0},{"$f":"IF(AP7=0,0,(AP7*((LOG(AP7))/LOG(2))))","v":0},null,{"$f":"N7","v":111},{"$f":"COUNTIF(L53:L61,AS7)","v":0},{"$f":"AT7/(AV4-AT11)","v":0},{"$f":"IF(AU7=0,0,(AU7*((LOG(AU7))/LOG(2))))","v":0}]
[21,210,11,218,11,223,null,null,null,null,0,211,null,112,{"$f":"COUNTIF($L$7:$L$500,N8)","v":0},{"$f":"O8/$Q$4","v":0},{"$f":"IF(P8=0,0,(P8*((LOG(P8))/LOG(2))))","v":0},null,null,{"$f":"N8","v":112},{"$f":"COUNTIF(L7:L15,T8)","v":0},{"$f":"U8/(W4-U11)","v":0},{"$f":"IF(V8=0,0,(V8*((LOG(V8))/LOG(2))))","v":0},null,{"$f":"N8","v":112},{"$f":"COUNTIF(L16:L24,Y8)","v":0},{"$f":"Z8/(AB4-Z11)","v":0},{"$f":"IF(AA8=0,0,(AA8*((LOG(AA8))/LOG(2))))","v":0},null,{"$f":"N8","v":112},{"$f":"COUNTIF(L25:L34,AD8)","v":0},{"$f":"AE8/(AG4-AE11)","v":0},{"$f":"IF(AF8=0,0,(AF8*((LOG(AF8))/LOG(2))))","v":0},null,{"$f":"N8","v":112},{"$f":"COUNTIF(L35:L43,AI8)","v":0},{"$f":"AJ8/(AL4-AJ11)","v":0},{"$f":"IF(AK8=0,0,(AK8*((LOG(AK8))/LOG(2))))","v":0},null,{"$f":"N8","v":112},{"$f":"COUNTIF(L44:L52,AN8)","v":0},{"$f":"AO8/(AQ4-AO11)","v":0},{"$f":"IF(AP8=0,0,(AP8*((LOG(AP8))/LOG(2))))","v":0},null,{"$f":"N8","v":112},{"$f":"COUNTIF(L53:L61,AS8)","v":0},{"$f":"AT8/(AV4-AT11)","v":0},{"$f":"IF(AU8=0,0,(AU8*((LOG(AU8))/LOG(2))))","v":0}]
[21,323,11,332,22,354,null,null,null,null,0,212,null,121,{"$f":"COUNTIF($L$7:$L$500,N9)","v":0},{"$f":"O9/$Q$4","v":0},{"$f":"IF(P9=0,0,(P9*((LOG(P9))/LOG(2))))","v":0},null,null,{"$f":"N9","v":121},{"$f":"COUNTIF(L7:L15,T9)","v":0},{"$f":"U9/(W4-U11)","v":0},{"$f":"IF(V9=0,0,(V9*((LOG(V9))/LOG(2))))","v":0},null,{"$f":"N9","v":121},{"$f":"COUNTIF(L16:L24,Y9)","v":0},{"$f":"Z9/(AB4-Z11)","v":0},{"$f":"IF(AA9=0,0,(AA9*((LOG(AA9))/LOG(2))))","v":0},null,{"$f":"N9","v":121},{"$f":"COUNTIF(L25:L34,AD9)","v":0},{"$f":"AE9/(AG4-AE11)","v":0},{"$f":"IF(AF9=0,0,(AF9*((LOG(AF9))/LOG(2))))","v":0},null,{"$f":"N9","v":121},{"$f":"COUNTIF(L35:L43,AI9)","v":0},{"$f":"AJ9/(AL4-AJ11)","v":0},{"$f":"IF(AK9=0,0,(AK9*((LOG(AK9))/LOG(2))))","v":0},null,{"$f":"N9","v":121},{"$f":"COUNTIF(L44:L52,AN9)","v":0},{"$f":"AO9/(AQ4-AO11)","v":0},{"$f":"IF(AP9=0,0,(AP9*((LOG(AP9))/LOG(2))))","v":0},null,{"$f":"N9","v":121},{"$f":"COUNTIF(L53:L61,AS9)","v":0},{"$f":"AT9/(AV4-AT11)","v":0},{"$f":"IF(AU9=0,0,(AU9*((LOG(AU9))/LOG(2))))","v":0}]
[21,486,11,495,11,500,null,null,null,null,0,211,null,122,{"$f":"COUNTIF($L$7:$L$500,N10)","v":0},{"$f":"O10/$Q$4","v":0},{"$f":"IF(P10=0,0,(P10*((LOG(P10))/LOG(2))))","v":0},null,null,{"$f":"N10","v":122},{"$f":"COUNTIF(L7:L15,T10)","v":0},{"$f":"U10/(W4-U11)","v":0},{"$f":"IF(V10=0,0,(V10*((LOG(V10))/LOG(2))))","v":0},null,{"$f":"N10","v":122},{"$f":"COUNTIF(L16:L24,Y10)","v":0},{"$f":"Z10/(AB4-Z11)","v":0},{"$f":"IF(AA10=0,0,(AA10*((LOG(AA10))/LOG(2))))","v":0},null,{"$f":"N10","v":122},{"$f":"COUNTIF(L25:L34,AD10)","v":0},{"$f":"AE10/(AG4-AE11)","v":0},{"$f":"IF(AF10=0,0,(AF10*((LOG(AF10))/LOG(2))))","v":0},null,{"$f":"N10","v":122},{"$f":"COUNTIF(L35:L43,AI10)","v":0},{"$f":"AJ10/(AL4-AJ11)","v":0},{"$f":"IF(AK10=0,0,(AK10*((LOG(AK10))/LOG(2))))","v":0},null,{"$f":"N10","v":122},{"$f":"COUNTIF(L44:L52,AN10)","v":0},{"$f":"AO10/(AQ4-AO11)","v":0},{"$f":"IF(AP10=0,0,(AP10*((LOG(AP10))/LOG(2))))","v":0},null,{"$f":"N10","v":122},{"$f":"COUNTIF(L53:L61,AS10)","v":0},{"$f":"AT10/(AV4-AT11)","v":0},{"$f":"IF(AU10=0,0,(AU10*((LOG(AU10))/LOG(2))))","v":0}]
[21,622,11,630,11,635,null,null,null,null,0,211,null,211,{"$f":"COUNTIF($L$7:$L$500,N11)","v":39},{"$f":"O11/$Q$4","v":0.70909090909090911},{"$f":"IF(P11=0,0,(P11*((LOG(P11))/LOG(2))))","v":-0.35167895076061884},null,null,{"$f":"N11","v":211},{"$f":"COUNTIF(L7:L15,T11)","v":5},null,null,null,{"$f":"N11","v":211},{"$f":"COUNTIF(L16:L24,Y11)","v":7},null,null,null,{"$f":"N11","v":211},{"$f":"COUNTIF(L25:L34,AD11)","v":5},null,null,null,{"$f":"N11","v":211},{"$f":"COUNTIF(L35:L43,AI11)","v":7},null,null,null,{"$f":"N11","v":211},{"$f":"COUNTIF(L44:L52,AN11)","v":7},null,null,null,{"$f":"N11","v":211},{"$f":"COUNTIF(L53:L61,AS11)","v":8}]
[21,761,11,771,22,784,null,null,null,null,0,212,null,212,{"$f":"COUNTIF($L$7:$L$500,N12)","v":2},{"$f":"O12/$Q$4","v":3.6363636363636362E-2},{"$f":"IF(P12=0,0,(P12*((LOG(P12))/LOG(2))))","v":-0.17386762594635127},null,null,{"$f":"N12","v":212},{"$f":"COUNTIF(L7:L15,T12)","v":2},{"$f":"U12/(W4-U11)","v":0.5},{"$f":"IF(V12=0,0,(V12*((LOG(V12))/LOG(2))))","v":-0.5},null,{"$f":"N12","v":212},{"$f":"COUNTIF(L16:L24,Y12)","v":0},{"$f":"Z12/(AB4-Z11)","v":0},{"$f":"IF(AA12=0,0,(AA12*((LOG(AA12))/LOG(2))))","v":0},null,{"$f":"N12","v":212},{"$f":"COUNTIF(L25:L34,AD12)","v":0},{"$f":"AE12/(AG4-AE11)","v":0},{"$f":"IF(AF12=0,0,(AF12*((LOG(AF12))/LOG(2))))","v":0},null,{"$f":"N12","v":212},{"$f":"COUNTIF(L35:L43,AI12)","v":0},{"$f":"AJ12/(AL4-AJ11)","v":0},{"$f":"IF(AK12=0,0,(AK12*((LOG(AK12))/LOG(2))))","v":0},null,{"$f":"N12","v":212},{"$f":"COUNTIF(L44:L52,AN12)","v":0},{"$f":"AO12/(AQ4-AO11)","v":0},{"$f":"IF(AP12=0,0,(AP12*((LOG(AP12))/LOG(2))))","v":0},null,{"$f":"N12","v":212},{"$f":"COUNTIF(L53:L61,AS12)","v":0},{"$f":"AT12/(AV4-AT11)","v":0},{"$f":"IF(AU12=0,0,(AU12*((LOG(AU12))/LOG(2))))","v":0}]
[12,889,13,896,13,901,null,null,null,null,0,111,null,221,{"$f":"COUNTIF($L$7:$L$500,N13)","v":4},{"$f":"O13/$Q$4","v":7.2727272727272724E-2},{"$f":"IF(P13=0,0,(P13*((LOG(P13))/LOG(2))))","v":-0.27500797916542979},null,null,{"$f":"N13","v":221},{"$f":"COUNTIF(L7:L15,T13)","v":0},{"$f":"U13/(W4-U11)","v":0},{"$f":"IF(V13=0,0,(V13*((LOG(V13))/LOG(2))))","v":0},null,{"$f":"N13","v":221},{"$f":"COUNTIF(L16:L24,Y13)","v":0},{"$f":"Z13/(AB4-Z11)","v":0},{"$f":"IF(AA13=0,0,(AA13*((LOG(AA13))/LOG(2))))","v":0},null,{"$f":"N13","v":221},{"$f":"COUNTIF(L25:L34,AD13)","v":1},{"$f":"AE13/(AG4-AE11)","v":0.2},{"$f":"IF(AF13=0,0,(AF13*((LOG(AF13))/LOG(2))))","v":-0.46438561897747244},null,{"$f":"N13","v":221},{"$f":"COUNTIF(L35:L43,AI13)","v":0},{"$f":"AJ13/(AL4-AJ11)","v":0},{"$f":"IF(AK13=0,0,(AK13*((LOG(AK13))/LOG(2))))","v":0},null,{"$f":"N13","v":221},{"$f":"COUNTIF(L44:L52,AN13)","v":2},{"$f":"AO13/(AQ4-AO11)","v":1},{"$f":"IF(AP13=0,0,(AP13*((LOG(AP13))/LOG(2))))","v":0},null,{"$f":"N13","v":221},{"$f":"COUNTIF(L53:L61,AS13)","v":1},{"$f":"AT13/(AV4-AT11)","v":1},{"$f":"IF(AU13=0,0,(AU13*((LOG(AU13))/LOG(2))))","v":0}]
[21,1008,11,1018,11,1022,null,null,null,null,0,211,null,222,{"$f":"COUNTIF($L$7:$L$500,N14)","v":3},{"$f":"O14/$Q$4","v":5.4545454545454543E-2},{"$f":"IF(P14=0,0,(P14*((LOG(P14))/LOG(2))))","v":-0.22889439342564566},null,null,{"$f":"N14","v":222},{"$f":"COUNTIF(L7:L15,T14)","v":1},{"$f":"U14/(W4-U11)","v":0.25},{"$f":"IF(V14=0,0,(V14*((LOG(V14))/LOG(2))))","v":-0.5},null,{"$f":"N14","v":222},{"$f":"COUNTIF(L16:L24,Y14)","v":0},{"$f":"Z14/(AB4-Z11)","v":0},{"$f":"IF(AA14=0,0,(AA14*((LOG(AA14))/LOG(2))))","v":0},null,{"$f":"N14","v":222},{"$f":"COUNTIF(L25:L34,AD14)","v":2},{"$f":"AE14/(AG4-AE11)","v":0.4},{"$f":"IF(AF14=0,0,(AF14*((LOG(AF14))/LOG(2))))","v":-0.52877123795494496},null,{"$f":"N14","v":222},{"$f":"COUNTIF(L35:L43,AI14)","v":0},{"$f":"AJ14/(AL4-AJ11)","v":0},{"$f":"IF(AK14=0,0,(AK14*((LOG(AK14))/LOG(2))))","v":0},null,{"$f":"N14","v":222},{"$f":"COUNTIF(L44:L52,AN14)","v":0},{"$f":"AO14/(AQ4-AO11)","v":0},{"$f":"IF(AP14=0,0,(AP14*((LOG(AP14))/LOG(2))))","v":0},null,{"$f":"N14","v":222},{"$f":"COUNTIF(L53:L61,AS14)","v":0},{"$f":"AT14/(AV4-AT11)","v":0},{"$f":"IF(AU14=0,0,(AU14*((LOG(AU14))/LOG(2))))","v":0}]
[21,1120,11,1134,11,1141,null,null,null,null,0,211,null,null,null,{"$f":"SUM(P7:P14)","v":1},{"$f":"-SUM(Q7:Q14)","v":1.4079586500302161},null,null,null,null,{"$f":"SUM(V7:V14)","v":1},{"$f":"-SUM(W7:W14)","v":1.5},null,null,null,{"$f":"SUM(AA7:AA14)","v":1},{"$f":"-SUM(AB7:AB14)","v":0},null,null,null,{"$f":"SUM(AF7:AF14)","v":1},{"$f":"-SUM(AG7:AG14)","v":1.5219280948873624},null,null,null,{"$f":"SUM(AK7:AK14)","v":1},{"$f":"-SUM(AL7:AL14)","v":0},null,null,null,{"$f":"SUM(AP7:AP14)","v":1},{"$f":"-SUM(AQ7:AQ14)","v":0},null,null,null,{"$f":"SUM(AU7:AU14)","v":1},{"$f":"-SUM(AV7:AV14)","v":0}]
[21,1237,11,1246,11,1250,null,null,null,null,0,211,null,null,null,"U=",{"$f":"Q15/(LOG(Q4)/LOG(2))","v":0.2435341718551951},null,null,null,null,"U1=",{"$f":"W15/(LOG(W4)/LOG(2))","v":0.47319731517859309},null,null,null,"U2=",{"$f":"AB15/(LOG(AB4)/LOG(2))","v":0},null,null,null,"U3=",{"$f":"AG15/(LOG(AG4)/LOG(2))","v":0.45814600780483389},null,null,null,"U4=",{"$f":"AL15/(LOG(AL4)/LOG(2))","v":0},null,null,null,"U5=",{"$f":"AQ15/(LOG(AQ4)/LOG(2))","v":0},null,null,null,"U6=",{"$f":"AV15/(LOG(AV4)/LOG(2))","v":0}]
[21,1356,11,1365,11,1369,null,null,null,null,0,211]
[21,1465,11,1473,11,1478,null,null,null,null,0,211]
[21,1575,11,1584,11,1588,null,null,null,null,0,211,null,"Total Target Seq"]
[12,1703,13,1714,13,1725,null,null,null,null,0,111,null,{"$f":"COUNTIF(L7:L61,G3)","v":39},null,9,9,10,9,9,9]
[21,1825,11,1833,11,1838,null,null,null,null,0,211,null,null,null,"% of reinforcement given in 6 equal intervals based on number of trials "]
[21,1934,11,1948,11,1955,null,null,null,null,0,211,null,null,null,"%_1","%_2","%_3","%_4","%_5","%_6"]
[21,2053,11,2067,11,2078,null,null,null,null,0,211,null,null,"target sequence",{"$f":"$G$3","v":211},{"$f":"$G$3","v":211},{"$f":"$G$3","v":211},{"$f":"$G$3","v":211},{"$f":"$G$3","v":211},{"$f":"$G$3","v":211}]
[12,2179,13,2183,13,2190,null,null,null,null,0,111,null,null,"total reinforcement",{"$f":"U11","v":5},{"$f":"Z11","v":7},{"$f":"AE11","v":5},{"$f":"AJ11","v":7},{"$f":"AO11","v":7},{"$f":"AT11","v":8}]
[12,2307,13,2314,13,2320,null,null,null,null,0,111,null,null,"% target"]
[21,2420,11,2431,11,2437,null,null,null,null,0,211,null,null,"CCRF"]
[21,2530,22,2565,24,2573,null,null,null,null,0,222,null,null,"% CCRf"]
[21,2672,11,2682,11,2687,null,null,null,null,0,211,null,null,"average response rate",{"$f":"F15/P20","v":126.77777777777777},{"$f":"(F24-F15)/Q20","v":116.55555555555556},{"$f":"(F34-F24)/R20","v":123.4},{"$f":"(F43-F34)/S20","v":111.55555555555556},{"$f":"(F52-F43)/T20","v":114.11111111111111},{"$f":"(F61-F52)/U20","v":107.22222222222223}]
[21,2818,11,2835,11,2841,null,null,null,null,0,211]
[21,2935,22,2943,13,2951,null,null,null,null,0,221]
[12,3056,13,3060,13,3064,null,null,null,null,0,111]
[21,3179,22,3186,24,3193,null,null,null,null,0,222]
[21,3300,11,3313,11,3318,null,null,null,null,0,211]
[21,3407,11,3420,11,3424,null,null,null,null,0,211]
[21,3516,11,3523,11,3527,null,null,null,null,0,211]
[21,3621,11,3629,11,3633,null,null,null,null,0,211]
[12,3724,13,3739,13,3743,null,null,null,null,0,111]
[12,3850,13,3854,13,3859,null,null,null,null,0,111]
[21,3985,11,3994,11,3999,null,null,null,null,0,211]
[21,4094,11,4102,11,4107,null,null,null,null,0,211]
[21,4202,11,4209,11,4213,null,null,null,null,0,211]
[21,4307,11,4318,11,4322,null,null,null,null,0,211]
[21,4415,11,4423,11,4428,null,null,null,null,0,211]
[21,4556,11,4564,11,4569,null,null,null,null,0,211]
[21,4660,11,4671,11,4675,null,null,null,null,0,211]
[21,4766,11,4774,11,4778,null,null,null,null,0,211]
[21,4871,11,4879,11,4883,null,null,null,null,0,211]
[21,4978,11,4986,11,4991,null,null,null,null,0,211]
[21,5076,22,5088,13,5100,null,null,null,null,0,221]
[21,5201,11,5212,11,5218,null,null,null,null,0,211]
[21,5314,22,5316,13,5325,null,null,null,null,0,221]
[21,5443,11,5451,11,5455,null,null,null,null,0,211]
[21,5547,11,5556,11,5560,null,null,null,null,0,211]
[21,5650,11,5662,11,5666,null,null,null,null,0,211]
[21,5759,11,5766,11,5771,null,null,null,null,0,211]
[21,5865,11,5873,11,5877,null,null,null,null,0,211]
[21,5970,11,5979,11,5983,null,null,null,null,0,211]
[21,6074,22,6085,13,6093,null,null,null,null,0,221]
[21,6193,11,6202,11,6210,null,null,null,null,0,211]
[21,6304,11,6312,11,6316,null,null,null,null,0,211]
[21,6408,11,6415,11,6420,null,null,null,null,1,211]

{"sheet":"!2011-06-14_08h49m.Subject 53","index":22,"n_rows":62,"n_cols":48,"rows_kept":62,"cut":false,"hidden":false,"merged":[[4,39,4,42],[5,39,5,40],[4,44,4,47],[5,44,5,45],[4,24,4,27],[5,24,5,25],[4,29,4,32],[5,29,5,30],[4,34,4,37],[5,34,5,35],[1,1,1,2],[5,13,5,14],[18,13,18,14],[19,13,19,14],[4,19,4,22],[5,19,5,20]]}
["Report for:!2011-06-14_08h49m.Subject 53"]
["Date","2011-06-14",null,null,null,"Group",0]
["Hen",53,null,null,null,"Correct Sequence",{"$f":"Start!J2","v":211},null,null,null,null,null,null,null,null,"Total Sequences in Data",{"$f":"4994-COUNTBLANK(L7:L5000)","v":56},null,null,null,null,"Total Sequences in Block Data",{"$f":"COUNTA(L7:L15)","v":9},null,null,null,"Total Sequences in Block Data",{"$f":"COUNTA(L16:L25)","v":10},null,null,null,"Total Sequences in Block Data",{"$f":"COUNTA(L26:L34)","v":9},null,null,null,"Total Sequences in Block Data",{"$f":"COUNTA(L35:L43)","v":9},null,null,null,"Total Sequences in Block Data",{"$f":"COUNTA(L44:L53)","v":10},null,null,null,"Total Sequences in Block Data",{"$f":"COUNTA(L54:L62)","v":9}]
["Program",0,null,null,null,null,null,null,null,null,null,null,null,null,null,"Total Sequences in Summary",{"$f":"SUM(O7:O14)","v":56},null,null,null,null,"Total Sequences in Block Summary",{"$f":"SUM(U7:U14)","v":9},null,null,null,"Total Sequences in Block Summary",{"$f":"SUM(Z7:Z14)","v":10},null,null,null,"Total Sequences in Block Summary",{"$f":"SUM(AE7:AE14)","v":9},null,null,null,"Total Sequences in Block Summary",{"$f":"SUM(AJ7:AJ14)","v":9},null,null,null,"Total Sequences in Block Summary",{"$f":"SUM(AO7:AO14)","v":10},null,null,null,"Total Sequences in Block Summary",{"$f":"SUM(AT7:AT14)","v":9}]
[null,null,null,null,null,null,null,null,null,null,null,null,null,null,null,null,null,null,null,"Block 1",null,null,null,null,"Block 2",null,null,null,null,"Block 3",null,null,null,null,"Block 4",null,null,null,null,"Block 5",null,null,null,null,"Block 6"]
["Sequence\nComponent\n1","Time\n1","Sequence\nComponent\n2","Time\n2","Sequence\nComponent\n3","Time\n3","Sequence\nComponent\n4","Time\n4","Sequence\nComponent\n5","Time\n5","Correct?\n0=No 1=Yes","Sequence",null,"Frequency",null,"Relative Frequency","Variability",null,null,"Frequency",null,"Relative Frequency","Variability",null,"Frequency",null,"Relative Frequency","Variability",null,"Frequency",null,"Relative Frequency","Variability",null,"Frequency",null,"Relative Frequency","Variability",null,"Frequency",null,"Relative Frequency","Variability",null,"Frequency",null,"Relative Frequency","Variability"]
[12,26,13,30,13,34,null,null,null,null,0,111,null,111,{"$f":"COUNTIF($L$7:$L$500,N7)","v":8},{"$f":"O7/$Q$4","v":0.14285714285714285},{"$f":"IF(P7=0,0,(P7*((LOG(P7))/LOG(2))))","v":-0.40105070315108626},null,null,{"$f":"N7","v":111},{"$f":"COUNTIF(L7:L15,T7)","v":4},{"$f":"U7/(W4-U11)","v":1},{"$f":"IF(V7=0,0,(V7*((LOG(V7))/LOG(2))))","v":0},null,{"$f":"N7","v":111},{"$f":"COUNTIF(L16:L25,Y7)","v":2},{"$f":"Z7/(AB4-Z11)","v":0.5},{"$f":"IF(AA7=0,0,(AA7*((LOG(AA7))/LOG(2))))","v":-0.5},null,{"$f":"N7","v":111},{"$f":"COUNTIF(L26:L34,AD7)","v":0},{"$f":"AE7/(AG4-AE11)","v":{"$error":"#DIV/0!"}},{"$f":"IF(AF7=0,0,(AF7*((LOG(AF7))/LOG(2))))","v":{"$error":"#DIV/0!"}},null,{"$f":"N7","v":111},{"$f":"COUNTIF(L35:L43,AI7)","v":1},{"$f":"AJ7/(AL4-AJ11)","v":0.33333333333333331},{"$f":"IF(AK7=0,0,(AK7*((LOG(AK7))/LOG(2))))","v":-0.52832083357371862},null,{"$f":"N7","v":111},{"$f":"COUNTIF(L44:L53,AN7)","v":0},{"$f":"AO7/(AQ4-AO11)","v":0},{"$f":"IF(AP7=0,0,(AP7*((LOG(AP7))/LOG(2))))","v":0},null,{"$f":"N7","v":111},{"$f":"COUNTIF(L54:L62,AS7)","v":1},{"$f":"AT7/(AV4-AT11)","v":0.5},{"$f":"IF(AU7=0,0,(AU7*((LOG(AU7))/LOG(2))))","v":-0.5}]
[12,139,13,141,13,153,null,null,null,null,0,111,null,112,{"$f":"COUNTIF($L$7:$L$500,N8)","v":0},{"$f":"O8/$Q$4","v":0},{"$f":"IF(P8=0,0,(P8*((LOG(P8))/LOG(2))))","v":0},null,null,{"$f":"N8","v":112},{"$f":"COUNTIF(L7:L15,T8)","v":0},{"$f":"U8/(W4-U11)","v":0},{"$f":"IF(V8=0,0,(V8*((LOG(V8))/LOG(2))))","v":0},null,{"$f":"N8","v":112},{"$f":"COUNTIF(L16:L25,Y8)","v":0},{"$f":"Z8/(AB4-Z11)","v":0},{"$f":"IF(AA8=0,0,(AA8*((LOG(AA8))/LOG(2))))","v":0},null,{"$f":"N8","v":112},{"$f":"COUNTIF(L26:L34,AD8)","v":0},{"$f":"AE8/(AG4-AE11)","v":{"$error":"#DIV/0!"}},{"$f":"IF(AF8=0,0,(AF8*((LOG(AF8))/LOG(2))))","v":{"$error":"#DIV/0!"}},null,{"$f":"N8","v":112},{"$f":"COUNTIF(L35:L43,AI8)","v":0},{"$f":"AJ8/(AL4-AJ11)","v":0},{"$f":"IF(AK8=0,0,(AK8*((LOG(AK8))/LOG(2))))","v":0},null,{"$f":"N8","v":112},{"$f":"COUNTIF(L44:L53,AN8)","v":0},{"$f":"AO8/(AQ4-AO11)","v":0},{"$f":"IF(AP8=0,0,(AP8*((LOG(AP8))/LOG(2))))","v":0},null,{"$f":"N8","v":112},{"$f":"COUNTIF(L54:L62,AS8)","v":0},{"$f":"AT8/(AV4-AT11)","v":0},{"$f":"IF(AU8=0,0,(AU8*((LOG(AU8))/LOG(2))))","v":0}]
[21,269,11,278,11,283,null,null,null,null,0,211,null,121,{"$f":"COUNTIF($L$7:$L$500,N9)","v":1},{"$f":"O9/$Q$4","v":1.7857142857142856E-2},{"$f":"IF(P9=0,0,(P9*((LOG(P9))/LOG(2))))","v":-0.10370276646531436},null,null,{"$f":"N9","v":121},{"$f":"COUNTIF(L7:L15,T9)","v":0},{"$f":"U9/(W4-U11)","v":0},{"$f":"IF(V9=0,0,(V9*((LOG(V9))/LOG(2))))","v":0},null,{"$f":"N9","v":121},{"$f":"COUNTIF(L16:L25,Y9)","v":1},{"$f":"Z9/(AB4-Z11)","v":0.25},{"$f":"IF(AA9=0,0,(AA9*((LOG(AA9))/LOG(2))))","v":-0.5},null,{"$f":"N9","v":121},{"$f":"COUNTIF(L26:L34,AD9)","v":0},{"$f":"AE9/(AG4-AE11)","v":{"$error":"#DIV/0!"}},{"$f":"IF(AF9=0,0,(AF9*((LOG(AF9))/LOG(2))))","v":{"$error":"#DIV/0!"}},null,{"$f":"N9","v":121},{"$f":"COUNTIF(L35:L43,AI9)","v":0},{"$f":"AJ9/(AL4-AJ11)","v":0},{"$f":"IF(AK9=0,0,(AK9*((LOG(AK9))/LOG(2))))","v":0},null,{"$f":"N9","v":121},{"$f":"COUNTIF(L44:L53,AN9)","v":0},{"$f":"AO9/(AQ4-AO11)","v":0},{"$f":"IF(AP9=0,0,(AP9*((LOG(AP9))/LOG(2))))","v":0},null,{"$f":"N9","v":121},{"$f":"COUNTIF(L54:L62,AS9)","v":0},{"$f":"AT9/(AV4-AT11)","v":0},{"$f":"IF(AU9=0,0,(AU9*((LOG(AU9))/LOG(2))))","v":0}]
[12,388,13,419,13,427,null,null,null,null,0,111,null,122,{"$f":"COUNTIF($L$7:$L$500,N10)","v":0},{"$f":"O10/$Q$4","v":0},{"$f":"IF(P10=0,0,(P10*((LOG(P10))/LOG(2))))","v":0},null,null,{"$f":"N10","v":122},{"$f":"COUNTIF(L7:L15,T10)","v":0},{"$f":"U10/(W4-U11)","v":0},{"$f":"IF(V10=0,0,(V10*((LOG(V10))/LOG(2))))","v":0},null,{"$f":"N10","v":122},{"$f":"COUNTIF(L16:L25,Y10)","v":0},{"$f":"Z10/(AB4-Z11)","v":0},{"$f":"IF(AA10=0,0,(AA10*((LOG(AA10))/LOG(2))))","v":0},null,{"$f":"N10","v":122},{"$f":"COUNTIF(L26:L34,AD10)","v":0},{"$f":"AE10/(AG4-AE11)","v":{"$error":"#DIV/0!"}},{"$f":"IF(AF10=0,0,(AF10*((LOG(AF10))/LOG(2))))","v":{"$error":"#DIV/0!"}},null,{"$f":"N10","v":122},{"$f":"COUNTIF(L35:L43,AI10)","v":0},{"$f":"AJ10/(AL4-AJ11)","v":0},{"$f":"IF(AK10=0,0,(AK10*((LOG(AK10))/LOG(2))))","v":0},null,{"$f":"N10","v":122},{"$f":"COUNTIF(L44:L53,AN10)","v":0},{"$f":"AO10/(AQ4-AO11)","v":0},{"$f":"IF(AP10=0,0,(AP10*((LOG(AP10))/LOG(2))))","v":0},null,{"$f":"N10","v":122},{"$f":"COUNTIF(L54:L62,AS10)","v":0},{"$f":"AT10/(AV4-AT11)","v":0},{"$f":"IF(AU10=0,0,(AU10*((LOG(AU10))/LOG(2))))","v":0}]
[21,543,11,554,11,563,null,null,null,null,0,211,null,211,{"$f":"COUNTIF($L$7:$L$500,N11)","v":39},{"$f":"O11/$Q$4","v":0.6964285714285714},{"$f":"IF(P11=0,0,(P11*((LOG(P11))/LOG(2))))","v":-0.36350277543962278},null,null,{"$f":"N11","v":211},{"$f":"COUNTIF(L7:L15,T11)","v":5},null,null,null,{"$f":"N11","v":211},{"$f":"COUNTIF(L16:L25,Y11)","v":6},null,null,null,{"$f":"N11","v":211},{"$f":"COUNTIF(L26:L34,AD11)","v":9},null,null,null,{"$f":"N11","v":211},{"$f":"COUNTIF(L35:L43,AI11)","v":6},null,null,null,{"$f":"N11","v":211},{"$f":"COUNTIF(L44:L53,AN11)","v":6},null,null,null,{"$f":"N11","v":211},{"$f":"COUNTIF(L54:L62,AS11)","v":7}]
[21,667,11,676,11,681,null,null,null,null,0,211,null,212,{"$f":"COUNTIF($L$7:$L$500,N12)","v":1},{"$f":"O12/$Q$4","v":1.7857142857142856E-2},{"$f":"IF(P12=0,0,(P12*((LOG(P12))/LOG(2))))","v":-0.10370276646531436},null,null,{"$f":"N12","v":212},{"$f":"COUNTIF(L7:L15,T12)","v":0},{"$f":"U12/(W4-U11)","v":0},{"$f":"IF(V12=0,0,(V12*((LOG(V12))/LOG(2))))","v":0},null,{"$f":"N12","v":212},{"$f":"COUNTIF(L16:L25,Y12)","v":0},{"$f":"Z12/(AB4-Z11)","v":0},{"$f":"IF(AA12=0,0,(AA12*((LOG(AA12))/LOG(2))))","v":0},null,{"$f":"N12","v":212},{"$f":"COUNTIF(L26:L34,AD12)","v":0},{"$f":"AE12/(AG4-AE11)","v":{"$error":"#DIV/0!"}},{"$f":"IF(AF12=0,0,(AF12*((LOG(AF12))/LOG(2))))","v":{"$error":"#DIV/0!"}},null,{"$f":"N12","v":212},{"$f":"COUNTIF(L35:L43,AI12)","v":0},{"$f":"AJ12/(AL4-AJ11)","v":0},{"$f":"IF(AK12=0,0,(AK12*((LOG(AK12))/LOG(2))))","v":0},null,{"$f":"N12","v":212},{"$f":"COUNTIF(L44:L53,AN12)","v":1},{"$f":"AO12/(AQ4-AO11)","v":0.25},{"$f":"IF(AP12=0,0,(AP12*((LOG(AP12))/LOG(2))))","v":-0.5},null,{"$f":"N12","v":212},{"$f":"COUNTIF(L54:L62,AS12)","v":0},{"$f":"AT12/(AV4-AT11)","v":0},{"$f":"IF(AU12=0,0,(AU12*((LOG(AU12))/LOG(2))))","v":0}]
[21,791,11,800,11,809,null,null,null,null,0,211,null,221,{"$f":"COUNTIF($L$7:$L$500,N13)","v":6},{"$f":"O13/$Q$4","v":0.10714285714285714},{"$f":"IF(P13=0,0,(P13*((LOG(P13))/LOG(2))))","v":-0.34525633085747659},null,null,{"$f":"N13","v":221},{"$f":"COUNTIF(L7:L15,T13)","v":0},{"$f":"U13/(W4-U11)","v":0},{"$f":"IF(V13=0,0,(V13*((LOG(V13))/LOG(2))))","v":0},null,{"$f":"N13","v":221},{"$f":"COUNTIF(L16:L25,Y13)","v":0},{"$f":"Z13/(AB4-Z11)","v":0},{"$f":"IF(AA13=0,0,(AA13*((LOG(AA13))/LOG(2))))","v":0},null,{"$f":"N13","v":221},{"$f":"COUNTIF(L26:L34,AD13)","v":0},{"$f":"AE13/(AG4-AE11)","v":{"$error":"#DIV/0!"}},{"$f":"IF(AF13=0,0,(AF13*((LOG(AF13))/LOG(2))))","v":{"$error":"#DIV/0!"}},null,{"$f":"N13","v":221},{"$f":"COUNTIF(L35:L43,AI13)","v":2},{"$f":"AJ13/(AL4-AJ11)","v":0.66666666666666663},{"$f":"IF(AK13=0,0,(AK13*((LOG(AK13))/LOG(2))))","v":-0.38997500048077083},null,{"$f":"N13","v":221},{"$f":"COUNTIF(L44:L53,AN13)","v":3},{"$f":"AO13/(AQ4-AO11)","v":0.75},{"$f":"IF(AP13=0,0,(AP13*((LOG(AP13))/LOG(2))))","v":-0.31127812445913283},null,{"$f":"N13","v":221},{"$f":"COUNTIF(L54:L62,AS13)","v":1},{"$f":"AT13/(AV4-AT11)","v":0.5},{"$f":"IF(AU13=0,0,(AU13*((LOG(AU13))/LOG(2))))","v":-0.5}]
[12,917,13,922,13,927,null,null,null,null,0,111,null,222,{"$f":"COUNTIF($L$7:$L$500,N14)","v":1},{"$f":"O14/$Q$4","v":1.7857142857142856E-2},{"$f":"IF(P14=0,0,(P14*((LOG(P14))/LOG(2))))","v":-0.10370276646531436},null,null,{"$f":"N14","v":222},{"$f":"COUNTIF(L7:L15,T14)","v":0},{"$f":"U14/(W4-U11)","v":0},{"$f":"IF(V14=0,0,(V14*((LOG(V14))/LOG(2))))","v":0},null,{"$f":"N14","v":222},{"$f":"COUNTIF(L16:L25,Y14)","v":1},{"$f":"Z14/(AB4-Z11)","v":0.25},{"$f":"IF(AA14=0,0,(AA14*((LOG(AA14))/LOG(2))))","v":-0.5},null,{"$f":"N14","v":222},{"$f":"COUNTIF(L26:L34,AD14)","v":0},{"$f":"AE14/(AG4-AE11)","v":{"$error":"#DIV/0!"}},{"$f":"IF(AF14=0,0,(AF14*((LOG(AF14))/LOG(2))))","v":{"$error":"#DIV/0!"}},null,{"$f":"N14","v":222},{"$f":"COUNTIF(L35:L43,AI14)","v":0},{"$f":"AJ14/(AL4-AJ11)","v":0},{"$f":"IF(AK14=0,0,(AK14*((LOG(AK14))/LOG(2))))","v":0},null,{"$f":"N14","v":222},{"$f":"COUNTIF(L44:L53,AN14)","v":0},{"$f":"AO14/(AQ4-AO11)","v":0},{"$f":"IF(AP14=0,0,(AP14*((LOG(AP14))/LOG(2))))","v":0},null,{"$f":"N14","v":222},{"$f":"COUNTIF(L54:L62,AS14)","v":0},{"$f":"AT14/(AV4-AT11)","v":0},{"$f":"IF(AU14=0,0,(AU14*((LOG(AU14))/LOG(2))))","v":0}]
[21,1027,11,1038,11,1043,null,null,null,null,0,211,null,null,null,{"$f":"SUM(P7:P14)","v":1},{"$f":"-SUM(Q7:Q14)","v":1.4209181088441287},null,null,null,null,{"$f":"SUM(V7:V14)","v":1},{"$f":"-SUM(W7:W14)","v":0},null,null,null,{"$f":"SUM(AA7:AA14)","v":1},{"$f":"-SUM(AB7:AB14)","v":1.5},null,null,null,{"$f":"SUM(AF7:AF14)","v":{"$error":"#DIV/0!"}},{"$f":"-SUM(AG7:AG14)","v":{"$error":"#DIV/0!"}},null,null,null,{"$f":"SUM(AK7:AK14)","v":1},{"$f":"-SUM(AL7:AL14)","v":0.91829583405448945},null,null,null,{"$f":"SUM(AP7:AP14)","v":1},{"$f":"-SUM(AQ7:AQ14)","v":0.81127812445913283},null,null,null,{"$f":"SUM(AU7:AU14)","v":1},{"$f":"-SUM(AV7:AV14)","v":1}]
[12,1147,13,1152,13,1157,null,null,null,null,0,111,null,null,null,"U=",{"$f":"Q15/(LOG(Q4)/LOG(2))","v":0.24467561013830424},null,null,null,null,"U1=",{"$f":"W15/(LOG(W4)/LOG(2))","v":0},null,null,null,"U2=",{"$f":"AB15/(LOG(AB4)/LOG(2))","v":0.45154499349597182},null,null,null,"U3=",{"$f":"AG15/(LOG(AG4)/LOG(2))","v":{"$error":"#DIV/0!"}},null,null,null,"U4=",{"$f":"AL15/(LOG(AL4)/LOG(2))","v":0.28969008214284753},null,null,null,"U5=",{"$f":"AQ15/(LOG(AQ4)/LOG(2))","v":0.24421905028821556},null,null,null,"U6=",{"$f":"AV15/(LOG(AV4)/LOG(2))","v":0.31546487678572877}]
[12,1261,13,1266,13,1271,null,null,null,null,0,111]
[21,1383,22,1392,24,1401,null,null,null,null,0,222]
[21,1496,11,1507,11,1511,null,null,null,null,0,211,null,"Total Target Seq"]
[21,1606,11,1615,11,1620,null,null,null,null,0,211,null,{"$f":"COUNTIF(L7:L62,G3)","v":39},null,9,10,9,9,10,9]
[21,1733,11,1742,11,1746,null,null,null,null,0,211,null,null,null,"% of reinforcement given in 6 equal intervals based on number of trials "]
[21,1843,11,1861,11,1868,null,null,null,null,0,211,null,null,null,"%_1","%_2","%_3","%_4","%_5","%_6"]
[21,1966,11,1975,11,1980,null,null,null,null,0,211,null,null,"target sequence",{"$f":"$G$3","v":211},{"$f":"$G$3","v":211},{"$f":"$G$3","v":211},{"$f":"$G$3","v":211},{"$f":"$G$3","v":211},{"$f":"$G$3","v":211}]
[12,2103,24,2113,13,2125,null,null,null,null,0,121,null,null,"total reinforcement",{"$f":"U11","v":5},{"$f":"Z11","v":6},{"$f":"AE11","v":9},{"$f":"AJ11","v":6},{"$f":"AO11","v":6},{"$f":"AT11","v":7}]
[21,2240,11,2251,11,2262,null,null,null,null,0,211,null,null,"% target"]
[21,2366,11,2375,11,2379,null,null,null,null,0,211,null,null,"CCRF"]
[21,2481,11,2489,11,2494,null,null,null,null,0,211,null,null,"% CCRf"]
[21,2596,11,2605,11,2609,null,null,null,null,0,211,null,null,"average response rate",{"$f":"F15/P20","v":115.88888888888889},{"$f":"(F25-F15)/Q20","v":121.9},{"$f":"(F34-F25)/R20","v":118.11111111111111},{"$f":"(F43-F34)/S20","v":115.11111111111111},{"$f":"(F53-F43)/T20","v":114.2},{"$f":"(F62-F53)/U20","v":115.66666666666667}]
[21,2703,11,2732,11,2737,null,null,null,null,0,211]
[21,2829,11,2838,11,2852,null,null,null,null,0,211]
[21,2944,11,2953,11,2964,null,null,null,null,0,211]
[21,3073,11,3082,11,3087,null,null,null,null,0,211]
[21,3180,11,3193,11,3198,null,null,null,null,0,211]
[21,3306,11,3318,11,3325,null,null,null,null,0,211]
[21,3419,11,3430,11,3438,null,null,null,null,0,211]
[12,3539,13,3547,13,3552,null,null,null,null,0,111]
[21,3656,11,3667,11,3671,null,null,null,null,0,211]
[21,3772,11,3787,11,3794,null,null,null,null,0,211]
[21,3898,22,3912,13,3923,null,null,null,null,0,221]
[21,4022,11,4030,11,4035,null,null,null,null,0,211]
[21,4129,11,4137,11,4141,null,null,null,null,0,211]
[21,4234,11,4244,11,4248,null,null,null,null,0,211]
[21,4342,22,4352,13,4361,null,null,null,null,0,221]
[21,4460,11,4471,11,4476,null,null,null,null,0,211]
[21,4566,11,4578,11,4583,null,null,null,null,0,211]
[21,4676,11,4685,11,4689,null,null,null,null,0,211]
[21,4790,11,4798,11,4802,null,null,null,null,0,211]
[21,4897,11,4912,22,4931,null,null,null,null,0,212]
[21,5035,22,5037,13,5044,null,null,null,null,0,221]
[21,5147,22,5156,13,5165,null,null,null,null,0,221]
[21,5268,11,5277,11,5291,null,null,null,null,0,211]
[21,5385,11,5393,11,5397,null,null,null,null,0,211]
[21,5487,22,5495,13,5503,null,null,null,null,0,221]
[21,5595,11,5607,11,5611,null,null,null,null,0,211]
[21,5704,11,5712,11,5717,null,null,null,null,0,211]
[21,5810,11,5818,11,5825,null,null,null,null,0,211]
[21,5918,11,5930,11,5937,null,null,null,null,0,211]
[21,6029,11,6040,11,6051,null,null,null,null,0,211]
[21,6146,22,6153,13,6166,null,null,null,null,0,221]
[21,6266,11,6274,11,6278,null,null,null,null,0,211]
[12,6386,13,6425,13,6432,null,null,null,null,0,111]
[21,6532,11,6540,11,6544,null,null,null,null,1,211]

{"sheet":"!2011-06-15_11h11m.Subject 53","index":23,"n_rows":57,"n_cols":48,"rows_kept":57,"cut":false,"hidden":false,"merged":[[4,39,4,42],[5,39,5,40],[4,44,4,47],[5,44,5,45],[4,24,4,27],[5,24,5,25],[4,29,4,32],[5,29,5,30],[4,34,4,37],[5,34,5,35],[1,1,1,2],[5,13,5,14],[18,13,18,14],[19,13,19,14],[4,19,4,22],[5,19,5,20]]}
["Report for:!2011-06-15_11h11m.Subject 53"]
["Date","2011-06-15",null,null,null,"Group",0]
["Hen",53,null,null,null,"Correct Sequence",{"$f":"Start!J2","v":211},null,null,null,null,null,null,null,null,"Total Sequences in Data",{"$f":"4994-COUNTBLANK(L7:L5000)","v":51},null,null,null,null,"Total Sequences in Block Data",{"$f":"COUNTA(L7:L15)","v":9},null,null,null,"Total Sequences in Block Data",{"$f":"COUNTA(L16:L23)","v":8},null,null,null,"Total Sequences in Block Data",{"$f":"COUNTA(L24:L32)","v":9},null,null,null,"Total Sequences in Block Data",{"$f":"COUNTA(L33:L40)","v":8},null,null,null,"Total Sequences in Block Data",{"$f":"COUNTA(L41:L49)","v":9},null,null,null,"Total Sequences in Block Data",{"$f":"COUNTA(L50:L57)","v":8}]
["Program",0,null,null,null,null,null,null,null,null,null,null,null,null,null,"Total Sequences in Summary",{"$f":"SUM(O7:O14)","v":51},null,null,null,null,"Total Sequences in Block Summary",{"$f":"SUM(U7:U14)","v":9},null,null,null,"Total Sequences in Block Summary",{"$f":"SUM(Z7:Z14)","v":8},null,null,null,"Total Sequences in Block Summary",{"$f":"SUM(AE7:AE14)","v":9},null,null,null,"Total Sequences in Block Summary",{"$f":"SUM(AJ7:AJ14)","v":8},null,null,null,"Total Sequences in Block Summary",{"$f":"SUM(AO7:AO14)","v":9},null,null,null,"Total Sequences in Block Summary",{"$f":"SUM(AT7:AT14)","v":8}]
[null,null,null,null,null,null,null,null,null,null,null,null,null,null,null,null,null,null,null,"Block 1",null,null,null,null,"Block 2",null,null,null,null,"Block 3",null,null,null,null,"Block 4",null,null,null,null,"Block 5",null,null,null,null,"Block 6"]
["Sequence\nComponent\n1","Time\n1","Sequence\nComponent\n2","Time\n2","Sequence\nComponent\n3","Time\n3","Sequence\nComponent\n4","Time\n4","Sequence\nComponent\n5","Time\n5","Correct?\n0=No 1=Yes","Sequence",null,"Frequency",null,"Relative Frequency","Variability",null,null,"Frequency",null,"Relative Frequency","Variability",null,"Frequency",null,"Relative Frequency","Variability",null,"Frequency",null,"Relative Frequency","Variability",null,"Frequency",null,"Relative Frequency","Variability",null,"Frequency",null,"Relative Frequency","Variability",null,"Frequency",null,"Relative Frequency","Variability"]
[12,19,13,42,13,53,null,null,null,null,0,111,null,111,{"$f":"COUNTIF($L$7:$L$500,N7)","v":7},{"$f":"O7/$Q$4","v":0.13725490196078433},{"$f":"IF(P7=0,0,(P7*((LOG(P7))/LOG(2))))","v":-0.39324495959602429},null,null,{"$f":"N7","v":111},{"$f":"COUNTIF(L7:L15,T7)","v":2},{"$f":"U7/(W4-U11)","v":0.66666666666666663},{"$f":"IF(V7=0,0,(V7*((LOG(V7))/LOG(2))))","v":-0.38997500048077083},null,{"$f":"N7","v":111},{"$f":"COUNTIF(L16:L23,Y7)","v":4},{"$f":"Z7/(AB4-Z11)","v":1},{"$f":"IF(AA7=0,0,(AA7*((LOG(AA7))/LOG(2))))","v":0},null,{"$f":"N7","v":111},{"$f":"COUNTIF(L24:L32,AD7)","v":1},{"$f":"AE7/(AG4-AE11)","v":0.5},{"$f":"IF(AF7=0,0,(AF7*((LOG(AF7))/LOG(2))))","v":-0.5},null,{"$f":"N7","v":111},{"$f":"COUNTIF(L33:L40,AI7)","v":0},{"$f":"AJ7/(AL4-AJ11)","v":{"$error":"#DIV/0!"}},{"$f":"IF(AK7=0,0,(AK7*((LOG(AK7))/LOG(2))))","v":{"$error":"#DIV/0!"}},null,{"$f":"N7","v":111},{"$f":"COUNTIF(L41:L49,AN7)","v":0},{"$f":"AO7/(AQ4-AO11)","v":0},{"$f":"IF(AP7=0,0,(AP7*((LOG(AP7))/LOG(2))))","v":0},null,{"$f":"N7","v":111},{"$f":"COUNTIF(L50:L57,AS7)","v":0},{"$f":"AT7/(AV4-AT11)","v":0},{"$f":"IF(AU7=0,0,(AU7*((LOG(AU7))/LOG(2))))","v":0}]
[21,162,11,173,11,178,null,null,null,null,0,211,null,112,{"$f":"COUNTIF($L$7:$L$500,N8)","v":2},{"$f":"O8/$Q$4","v":3.9215686274509803E-2},{"$f":"IF(P8=0,0,(P8*((LOG(P8))/LOG(2))))","v":-0.18323236635182338},null,null,{"$f":"N8","v":112},{"$f":"COUNTIF(L7:L15,T8)","v":1},{"$f":"U8/(W4-U11)","v":0.33333333333333331},{"$f":"IF(V8=0,0,(V8*((LOG(V8))/LOG(2))))","v":-0.52832083357371862},null,{"$f":"N8","v":112},{"$f":"COUNTIF(L16:L23,Y8)","v":0},{"$f":"Z8/(AB4-Z11)","v":0},{"$f":"IF(AA8=0,0,(AA8*((LOG(AA8))/LOG(2))))","v":0},null,{"$f":"N8","v":112},{"$f":"COUNTIF(L24:L32,AD8)","v":1},{"$f":"AE8/(AG4-AE11)","v":0.5},{"$f":"IF(AF8=0,0,(AF8*((LOG(AF8))/LOG(2))))","v":-0.5},null,{"$f":"N8","v":112},{"$f":"COUNTIF(L33:L40,AI8)","v":0},{"$f":"AJ8/(AL4-AJ11)","v":{"$error":"#DIV/0!"}},{"$f":"IF(AK8=0,0,(AK8*((LOG(AK8))/LOG(2))))","v":{"$error":"#DIV/0!"}},null,{"$f":"N8","v":112},{"$f":"COUNTIF(L41:L49,AN8)","v":0},{"$f":"AO8/(AQ4-AO11)","v":0},{"$f":"IF(AP8=0,0,(AP8*((LOG(AP8))/LOG(2))))","v":0},null,{"$f":"N8","v":112},{"$f":"COUNTIF(L50:L57,AS8)","v":0},{"$f":"AT8/(AV4-AT11)","v":0},{"$f":"IF(AU8=0,0,(AU8*((LOG(AU8))/LOG(2))))","v":0}]
[12,293,13,301,24,314,null,null,null,null,0,112,null,121,{"$f":"COUNTIF($L$7:$L$500,N9)","v":1},{"$f":"O9/$Q$4","v":1.9607843137254902E-2},{"$f":"IF(P9=0,0,(P9*((LOG(P9))/LOG(2))))","v":-0.11122402631316657},null,null,{"$f":"N9","v":121},{"$f":"COUNTIF(L7:L15,T9)","v":0},{"$f":"U9/(W4-U11)","v":0},{"$f":"IF(V9=0,0,(V9*((LOG(V9))/LOG(2))))","v":0},null,{"$f":"N9","v":121},{"$f":"COUNTIF(L16:L23,Y9)","v":0},{"$f":"Z9/(AB4-Z11)","v":0},{"$f":"IF(AA9=0,0,(AA9*((LOG(AA9))/LOG(2))))","v":0},null,{"$f":"N9","v":121},{"$f":"COUNTIF(L24:L32,AD9)","v":0},{"$f":"AE9/(AG4-AE11)","v":0},{"$f":"IF(AF9=0,0,(AF9*((LOG(AF9))/LOG(2))))","v":0},null,{"$f":"N9","v":121},{"$f":"COUNTIF(L33:L40,AI9)","v":0},{"$f":"AJ9/(AL4-AJ11)","v":{"$error":"#DIV/0!"}},{"$f":"IF(AK9=0,0,(AK9*((LOG(AK9))/LOG(2))))","v":{"$error":"#DIV/0!"}},null,{"$f":"N9","v":121},{"$f":"COUNTIF(L41:L49,AN9)","v":1},{"$f":"AO9/(AQ4-AO11)","v":0.5},{"$f":"IF(AP9=0,0,(AP9*((LOG(AP9))/LOG(2))))","v":-0.5},null,{"$f":"N9","v":121},{"$f":"COUNTIF(L50:L57,AS9)","v":0},{"$f":"AT9/(AV4-AT11)","v":0},{"$f":"IF(AU9=0,0,(AU9*((LOG(AU9))/LOG(2))))","v":0}]
[21,416,11,425,11,430,null,null,null,null,0,211,null,122,{"$f":"COUNTIF($L$7:$L$500,N10)","v":0},{"$f":"O10/$Q$4","v":0},{"$f":"IF(P10=0,0,(P10*((LOG(P10))/LOG(2))))","v":0},null,null,{"$f":"N10","v":122},{"$f":"COUNTIF(L7:L15,T10)","v":0},{"$f":"U10/(W4-U11)","v":0},{"$f":"IF(V10=0,0,(V10*((LOG(V10))/LOG(2))))","v":0},null,{"$f":"N10","v":122},{"$f":"COUNTIF(L16:L23,Y10)","v":0},{"$f":"Z10/(AB4-Z11)","v":0},{"$f":"IF(AA10=0,0,(AA10*((LOG(AA10))/LOG(2))))","v":0},null,{"$f":"N10","v":122},{"$f":"COUNTIF(L24:L32,AD10)","v":0},{"$f":"AE10/(AG4-AE11)","v":0},{"$f":"IF(AF10=0,0,(AF10*((LOG(AF10))/LOG(2))))","v":0},null,{"$f":"N10","v":122},{"$f":"COUNTIF(L33:L40,AI10)","v":0},{"$f":"AJ10/(AL4-AJ11)","v":{"$error":"#DIV/0!"}},{"$f":"IF(AK10=0,0,(AK10*((LOG(AK10))/LOG(2))))","v":{"$error":"#DIV/0!"}},null,{"$f":"N10","v":122},{"$f":"COUNTIF(L41:L49,AN10)","v":0},{"$f":"AO10/(AQ4-AO11)","v":0},{"$f":"IF(AP10=0,0,(AP10*((LOG(AP10))/LOG(2))))","v":0},null,{"$f":"N10","v":122},{"$f":"COUNTIF(L50:L57,AS10)","v":0},{"$f":"AT10/(AV4-AT11)","v":0},{"$f":"IF(AU10=0,0,(AU10*((LOG(AU10))/LOG(2))))","v":0}]
[12,534,13,541,13,547,null,null,null,null,0,111,null,211,{"$f":"COUNTIF($L$7:$L$500,N11)","v":39},{"$f":"O11/$Q$4","v":0.76470588235294112},{"$f":"IF(P11=0,0,(P11*((LOG(P11))/LOG(2))))","v":-0.29595885884824796},null,null,{"$f":"N11","v":211},{"$f":"COUNTIF(L7:L15,T11)","v":6},null,null,null,{"$f":"N11","v":211},{"$f":"COUNTIF(L16:L23,Y11)","v":4},null,null,null,{"$f":"N11","v":211},{"$f":"COUNTIF(L24:L32,AD11)","v":7},null,null,null,{"$f":"N11","v":211},{"$f":"COUNTIF(L33:L40,AI11)","v":8},null,null,null,{"$f":"N11","v":211},{"$f":"COUNTIF(L41:L49,AN11)","v":7},null,null,null,{"$f":"N11","v":211},{"$f":"COUNTIF(L50:L57,AS11)","v":7}]
[21,648,11,657,11,661,null,null,null,null,0,211,null,212,{"$f":"COUNTIF($L$7:$L$500,N12)","v":0},{"$f":"O12/$Q$4","v":0},{"$f":"IF(P12=0,0,(P12*((LOG(P12))/LOG(2))))","v":0},null,null,{"$f":"N12","v":212},{"$f":"COUNTIF(L7:L15,T12)","v":0},{"$f":"U12/(W4-U11)","v":0},{"$f":"IF(V12=0,0,(V12*((LOG(V12))/LOG(2))))","v":0},null,{"$f":"N12","v":212},{"$f":"COUNTIF(L16:L23,Y12)","v":0},{"$f":"Z12/(AB4-Z11)","v":0},{"$f":"IF(AA12=0,0,(AA12*((LOG(AA12))/LOG(2))))","v":0},null,{"$f":"N12","v":212},{"$f":"COUNTIF(L24:L32,AD12)","v":0},{"$f":"AE12/(AG4-AE11)","v":0},{"$f":"IF(AF12=0,0,(AF12*((LOG(AF12))/LOG(2))))","v":0},null,{"$f":"N12","v":212},{"$f":"COUNTIF(L33:L40,AI12)","v":0},{"$f":"AJ12/(AL4-AJ11)","v":{"$error":"#DIV/0!"}},{"$f":"IF(AK12=0,0,(AK12*((LOG(AK12))/LOG(2))))","v":{"$error":"#DIV/0!"}},null,{"$f":"N12","v":212},{"$f":"COUNTIF(L41:L49,AN12)","v":0},{"$f":"AO12/(AQ4-AO11)","v":0},{"$f":"IF(AP12=0,0,(AP12*((LOG(AP12))/LOG(2))))","v":0},null,{"$f":"N12","v":212},{"$f":"COUNTIF(L50:L57,AS12)","v":0},{"$f":"AT12/(AV4-AT11)","v":0},{"$f":"IF(AU12=0,0,(AU12*((LOG(AU12))/LOG(2))))","v":0}]
[21,756,11,766,11,771,null,null,null,null,0,211,null,221,{"$f":"COUNTIF($L$7:$L$500,N13)","v":2},{"$f":"O13/$Q$4","v":3.9215686274509803E-2},{"$f":"IF(P13=0,0,(P13*((LOG(P13))/LOG(2))))","v":-0.18323236635182338},null,null,{"$f":"N13","v":221},{"$f":"COUNTIF(L7:L15,T13)","v":0},{"$f":"U13/(W4-U11)","v":0},{"$f":"IF(V13=0,0,(V13*((LOG(V13))/LOG(2))))","v":0},null,{"$f":"N13","v":221},{"$f":"COUNTIF(L16:L23,Y13)","v":0},{"$f":"Z13/(AB4-Z11)","v":0},{"$f":"IF(AA13=0,0,(AA13*((LOG(AA13))/LOG(2))))","v":0},null,{"$f":"N13","v":221},{"$f":"COUNTIF(L24:L32,AD13)","v":0},{"$f":"AE13/(AG4-AE11)","v":0},{"$f":"IF(AF13=0,0,(AF13*((LOG(AF13))/LOG(2))))","v":0},null,{"$f":"N13","v":221},{"$f":"COUNTIF(L33:L40,AI13)","v":0},{"$f":"AJ13/(AL4-AJ11)","v":{"$error":"#DIV/0!"}},{"$f":"IF(AK13=0,0,(AK13*((LOG(AK13))/LOG(2))))","v":{"$error":"#DIV/0!"}},null,{"$f":"N13","v":221},{"$f":"COUNTIF(L41:L49,AN13)","v":1},{"$f":"AO13/(AQ4-AO11)","v":0.5},{"$f":"IF(AP13=0,0,(AP13*((LOG(AP13))/LOG(2))))","v":-0.5},null,{"$f":"N13","v":221},{"$f":"COUNTIF(L50:L57,AS13)","v":1},{"$f":"AT13/(AV4-AT11)","v":1},{"$f":"IF(AU13=0,0,(AU13*((LOG(AU13))/LOG(2))))","v":0}]
[21,873,11,881,11,885,null,null,null,null,0,211,null,222,{"$f":"COUNTIF($L$7:$L$500,N14)","v":0},{"$f":"O14/$Q$4","v":0},{"$f":"IF(P14=0,0,(P14*((LOG(P14))/LOG(2))))","v":0},null,null,{"$f":"N14","v":222},{"$f":"COUNTIF(L7:L15,T14)","v":0},{"$f":"U14/(W4-U11)","v":0},{"$f":"IF(V14=0,0,(V14*((LOG(V14))/LOG(2))))","v":0},null,{"$f":"N14","v":222},{"$f":"COUNTIF(L16:L23,Y14)","v":0},{"$f":"Z14/(AB4-Z11)","v":0},{"$f":"IF(AA14=0,0,(AA14*((LOG(AA14))/LOG(2))))","v":0},null,{"$f":"N14","v":222},{"$f":"COUNTIF(L24:L32,AD14)","v":0},{"$f":"AE14/(AG4-AE11)","v":0},{"$f":"IF(AF14=0,0,(AF14*((LOG(AF14))/LOG(2))))","v":0},null,{"$f":"N14","v":222},{"$f":"COUNTIF(L33:L40,AI14)","v":0},{"$f":"AJ14/(AL4-AJ11)","v":{"$error":"#DIV/0!"}},{"$f":"IF(AK14=0,0,(AK14*((LOG(AK14))/LOG(2))))","v":{"$error":"#DIV/0!"}},null,{"$f":"N14","v":222},{"$f":"COUNTIF(L41:L49,AN14)","v":0},{"$f":"AO14/(AQ4-AO11)","v":0},{"$f":"IF(AP14=0,0,(AP14*((LOG(AP14))/LOG(2))))","v":0},null,{"$f":"N14","v":222},{"$f":"COUNTIF(L50:L57,AS14)","v":0},{"$f":"AT14/(AV4-AT11)","v":0},{"$f":"IF(AU14=0,0,(AU14*((LOG(AU14))/LOG(2))))","v":0}]
[21,995,11,1003,11,1010,null,null,null,null,0,211,null,null,null,{"$f":"SUM(P7:P14)","v":0.99999999999999989},{"$f":"-SUM(Q7:Q14)","v":1.1668925774610857},null,null,null,null,{"$f":"SUM(V7:V14)","v":1},{"$f":"-SUM(W7:W14)","v":0.91829583405448945},null,null,null,{"$f":"SUM(AA7:AA14)","v":1},{"$f":"-SUM(AB7:AB14)","v":0},null,null,null,{"$f":"SUM(AF7:AF14)","v":1},{"$f":"-SUM(AG7:AG14)","v":1},null,null,null,{"$f":"SUM(AK7:AK14)","v":{"$error":"#DIV/0!"}},{"$f":"-SUM(AL7:AL14)","v":{"$error":"#DIV/0!"}},null,null,null,{"$f":"SUM(AP7:AP14)","v":1},{"$f":"-SUM(AQ7:AQ14)","v":1},null,null,null,{"$f":"SUM(AU7:AU14)","v":1},{"$f":"-SUM(AV7:AV14)","v":0}]
[21,1104,11,1117,11,1122,null,null,null,null,0,211,null,null,null,"U=",{"$f":"Q15/(LOG(Q4)/LOG(2))","v":0.20571316625835451},null,null,null,null,"U1=",{"$f":"W15/(LOG(W4)/LOG(2))","v":0.28969008214284753},null,null,null,"U2=",{"$f":"AB15/(LOG(AB4)/LOG(2))","v":0},null,null,null,"U3=",{"$f":"AG15/(LOG(AG4)/LOG(2))","v":0.31546487678572877},null,null,null,"U4=",{"$f":"AL15/(LOG(AL4)/LOG(2))","v":{"$error":"#DIV/0!"}},null,null,null,"U5=",{"$f":"AQ15/(LOG(AQ4)/LOG(2))","v":0.31546487678572877},null,null,null,"U6=",{"$f":"AV15/(LOG(AV4)/LOG(2))","v":0}]
[21,1216,11,1223,11,1228,null,null,null,null,0,211]
[21,1319,11,1326,11,1331,null,null,null,null,0,211]
[12,1448,13,1469,13,1482,null,null,null,null,0,111,null,"Total Target Seq"]
[12,1593,13,1597,13,1602,null,null,null,null,0,111,null,{"$f":"COUNTIF(L7:L57,G3)","v":39},null,9,8,9,8,9,8]
[12,1712,13,1716,13,1720,null,null,null,null,0,111,null,null,null,"% of reinforcement given in 6 equal intervals based on number of trials "]
[12,1829,13,1833,13,1837,null,null,null,null,0,111,null,null,null,"%_1","%_2","%_3","%_4","%_5","%_6"]
[21,1938,11,1949,11,1953,null,null,null,null,0,211,null,null,"target sequence",{"$f":"$G$3","v":211},{"$f":"$G$3","v":211},{"$f":"$G$3","v":211},{"$f":"$G$3","v":211},{"$f":"$G$3","v":211},{"$f":"$G$3","v":211}]
[21,2048,11,2057,11,2061,null,null,null,null,0,211,null,null,"total reinforcement",{"$f":"U11","v":6},{"$f":"Z11","v":4},{"$f":"AE11","v":7},{"$f":"AJ11","v":8},{"$f":"AO11","v":7},{"$f":"AT11","v":7}]
[21,2150,11,2159,11,2163,null,null,null,null,0,211,null,null,"% target"]
[21,2257,11,2265,11,2269,null,null,null,null,0,211,null,null,"CCRF"]
[21,2361,11,2374,11,2379,null,null,null,null,0,211,null,null,"% CCRf"]
[21,2472,11,2483,11,2490,null,null,null,null,0,211,null,null,"average response rate",{"$f":"F15/P20","v":112.22222222222223},{"$f":"(F23-F15)/Q20","v":117.875},{"$f":"(F32-F23)/R20","v":114.77777777777777},{"$f":"(F40-F32)/S20","v":107},{"$f":"(F49-F40)/T20","v":107.88888888888889},{"$f":"(F57-F49)/U20","v":107.625}]
[12,2590,13,2594,13,2600,null,null,null,null,0,111]
[21,2700,11,2711,11,2719,null,null,null,null,0,211]
[21,2819,11,2828,11,2832,null,null,null,null,0,211]
[12,2971,13,2976,24,2986,null,null,null,null,0,112]
[21,3084,11,3094,11,3098,null,null,null,null,0,211]
[21,3191,11,3198,11,3202,null,null,null,null,0,211]
[21,3298,11,3308,11,3312,null,null,null,null,0,211]
[21,3397,11,3415,11,3419,null,null,null,null,0,211]
[21,3514,11,3523,11,3529,null,null,null,null,0,211]
[21,3617,11,3626,11,3630,null,null,null,null,0,211]
[21,3724,11,3732,11,3736,null,null,null,null,0,211]
[21,3829,11,3838,11,3842,null,null,null,null,0,211]
[21,3935,11,3943,11,3951,null,null,null,null,0,211]
[21,4045,11,4053,11,4058,null,null,null,null,0,211]
[21,4151,11,4159,11,4164,null,null,null,null,0,211]
[21,4253,11,4261,11,4265,null,null,null,null,0,211]
[21,4358,11,4367,11,4371,null,null,null,null,0,211]
[21,4465,11,4472,11,4477,null,null,null,null,0,211]
[12,4571,24,4584,13,4592,null,null,null,null,0,121]
[21,4678,22,4693,13,4701,null,null,null,null,0,221]
[21,4801,11,4809,11,4813,null,null,null,null,0,211]
[21,4906,11,4914,11,4918,null,null,null,null,0,211]
[21,5014,11,5021,11,5026,null,null,null,null,0,211]
[21,5121,11,5129,11,5136,null,null,null,null,0,211]
[21,5230,11,5237,11,5242,null,null,null,null,0,211]
[21,5335,11,5343,11,5348,null,null,null,null,0,211]
[21,5443,11,5451,11,5455,null,null,null,null,0,211]
[21,5544,22,5552,13,5561,null,null,null,null,0,221]
[21,5662,11,5669,11,5674,null,null,null,null,1,211]

{"sheet":"!2011-06-16_09h17m.Subject 53","index":24,"n_rows":55,"n_cols":48,"rows_kept":55,"cut":false,"hidden":false,"merged":[[4,39,4,42],[5,39,5,40],[4,44,4,47],[5,44,5,45],[4,24,4,27],[5,24,5,25],[4,29,4,32],[5,29,5,30],[4,34,4,37],[5,34,5,35],[1,1,1,2],[5,13,5,14],[18,13,18,14],[19,13,19,14],[4,19,4,22],[5,19,5,20]]}
["Report for:!2011-06-16_09h17m.Subject 53"]
["Date","2011-06-16",null,null,null,"Group",0]
["Hen",53,null,null,null,"Correct Sequence",{"$f":"Start!J2","v":211},null,null,null,null,null,null,null,null,"Total Sequences in Data",{"$f":"4994-COUNTBLANK(L7:L5000)","v":49},null,null,null,null,"Total Sequences in Block Data",{"$f":"COUNTA(L7:L14)","v":8},null,null,null,"Total Sequences in Block Data",{"$f":"COUNTA(L15:L22)","v":8},null,null,null,"Total Sequences in Block Data",{"$f":"COUNTA(L23:L31)","v":9},null,null,null,"Total Sequences in Block Data",{"$f":"COUNTA(L32:L39)","v":8},null,null,null,"Total Sequences in Block Data",{"$f":"COUNTA(L40:L47)","v":8},null,null,null,"Total Sequences in Block Data",{"$f":"COUNTA(L48:L55)","v":8}]
["Program",0,null,null,null,null,null,null,null,null,null,null,null,null,null,"Total Sequences in Summary",{"$f":"SUM(O7:O14)","v":49},null,null,null,null,"Total Sequences in Block Summary",{"$f":"SUM(U7:U14)","v":8},null,null,null,"Total Sequences in Block Summary",{"$f":"SUM(Z7:Z14)","v":8},null,null,null,"Total Sequences in Block Summary",{"$f":"SUM(AE7:AE14)","v":9},null,null,null,"Total Sequences in Block Summary",{"$f":"SUM(AJ7:AJ14)","v":8},null,null,null,"Total Sequences in Block Summary",{"$f":"SUM(AO7:AO14)","v":8},null,null,null,"Total Sequences in Block Summary",{"$f":"SUM(AT7:AT14)","v":8}]
[null,null,null,null,null,null,null,null,null,null,null,null,null,null,null,null,null,null,null,"Block 1",null,null,null,null,"Block 2",null,null,null,null,"Block 3",null,null,null,null,"Block 4",null,null,null,null,"Block 5",null,null,null,null,"Block 6"]
["Sequence\nComponent\n1","Time\n1","Sequence\nComponent\n2","Time\n2","Sequence\nComponent\n3","Time\n3","Sequence\nComponent\n4","Time\n4","Sequence\nComponent\n5","Time\n5","Correct?\n0=No 1=Yes","Sequence",null,"Frequency",null,"Relative Frequency","Variability",null,null,"Frequency",null,"Relative Frequency","Variability",null,"Frequency",null,"Relative Frequency","Variability",null,"Frequency",null,"Relative Frequency","Variability",null,"Frequency",null,"Relative Frequency","Variability",null,"Frequency",null,"Relative Frequency","Variability",null,"Frequency",null,"Relative Frequency","Variability"]
[21,26,11,37,22,50,null,null,null,null,0,212,null,111,{"$f":"COUNTIF($L$7:$L$500,N7)","v":1},{"$f":"O7/$Q$4","v":2.0408163265306121E-2},{"$f":"IF(P7=0,0,(P7*((LOG(P7))/LOG(2))))","v":-0.11458591518602465},null,null,{"$f":"N7","v":111},{"$f":"COUNTIF(L7:L14,T7)","v":0},{"$f":"U7/(W4-U11)","v":0},{"$f":"IF(V7=0,0,(V7*((LOG(V7))/LOG(2))))","v":0},null,{"$f":"N7","v":111},{"$f":"COUNTIF(L15:L22,Y7)","v":1},{"$f":"Z7/(AB4-Z11)","v":0.5},{"$f":"IF(AA7=0,0,(AA7*((LOG(AA7))/LOG(2))))","v":-0.5},null,{"$f":"N7","v":111},{"$f":"COUNTIF(L23:L31,AD7)","v":0},{"$f":"AE7/(AG4-AE11)","v":{"$error":"#DIV/0!"}},{"$f":"IF(AF7=0,0,(AF7*((LOG(AF7))/LOG(2))))","v":{"$error":"#DIV/0!"}},null,{"$f":"N7","v":111},{"$f":"COUNTIF(L32:L39,AI7)","v":0},{"$f":"AJ7/(AL4-AJ11)","v":0},{"$f":"IF(AK7=0,0,(AK7*((LOG(AK7))/LOG(2))))","v":0},null,{"$f":"N7","v":111},{"$f":"COUNTIF(L40:L47,AN7)","v":0},{"$f":"AO7/(AQ4-AO11)","v":{"$error":"#DIV/0!"}},{"$f":"IF(AP7=0,0,(AP7*((LOG(AP7))/LOG(2))))","v":{"$error":"#DIV/0!"}},null,{"$f":"N7","v":111},{"$f":"COUNTIF(L48:L55,AS7)","v":0},{"$f":"AT7/(AV4-AT11)","v":0},{"$f":"IF(AU7=0,0,(AU7*((LOG(AU7))/LOG(2))))","v":0}]
[21,179,22,188,24,195,null,null,null,null,0,222,null,112,{"$f":"COUNTIF($L$7:$L$500,N8)","v":0},{"$f":"O8/$Q$4","v":0},{"$f":"IF(P8=0,0,(P8*((LOG(P8))/LOG(2))))","v":0},null,null,{"$f":"N8","v":112},{"$f":"COUNTIF(L7:L14,T8)","v":0},{"$f":"U8/(W4-U11)","v":0},{"$f":"IF(V8=0,0,(V8*((LOG(V8))/LOG(2))))","v":0},null,{"$f":"N8","v":112},{"$f":"COUNTIF(L15:L22,Y8)","v":0},{"$f":"Z8/(AB4-Z11)","v":0},{"$f":"IF(AA8=0,0,(AA8*((LOG(AA8))/LOG(2))))","v":0},null,{"$f":"N8","v":112},{"$f":"COUNTIF(L23:L31,AD8)","v":0},{"$f":"AE8/(AG4-AE11)","v":{"$error":"#DIV/0!"}},{"$f":"IF(AF8=0,0,(AF8*((LOG(AF8))/LOG(2))))","v":{"$error":"#DIV/0!"}},null,{"$f":"N8","v":112},{"$f":"COUNTIF(L32:L39,AI8)","v":0},{"$f":"AJ8/(AL4-AJ11)","v":0},{"$f":"IF(AK8=0,0,(AK8*((LOG(AK8))/LOG(2))))","v":0},null,{"$f":"N8","v":112},{"$f":"COUNTIF(L40:L47,AN8)","v":0},{"$f":"AO8/(AQ4-AO11)","v":{"$error":"#DIV/0!"}},{"$f":"IF(AP8=0,0,(AP8*((LOG(AP8))/LOG(2))))","v":{"$error":"#DIV/0!"}},null,{"$f":"N8","v":112},{"$f":"COUNTIF(L48:L55,AS8)","v":0},{"$f":"AT8/(AV4-AT11)","v":0},{"$f":"IF(AU8=0,0,(AU8*((LOG(AU8))/LOG(2))))","v":0}]
[21,297,11,309,22,318,null,null,null,null,0,212,null,121,{"$f":"COUNTIF($L$7:$L$500,N9)","v":0},{"$f":"O9/$Q$4","v":0},{"$f":"IF(P9=0,0,(P9*((LOG(P9))/LOG(2))))","v":0},null,null,{"$f":"N9","v":121},{"$f":"COUNTIF(L7:L14,T9)","v":0},{"$f":"U9/(W4-U11)","v":0},{"$f":"IF(V9=0,0,(V9*((LOG(V9))/LOG(2))))","v":0},null,{"$f":"N9","v":121},{"$f":"COUNTIF(L15:L22,Y9)","v":0},{"$f":"Z9/(AB4-Z11)","v":0},{"$f":"IF(AA9=0,0,(AA9*((LOG(AA9))/LOG(2))))","v":0},null,{"$f":"N9","v":121},{"$f":"COUNTIF(L23:L31,AD9)","v":0},{"$f":"AE9/(AG4-AE11)","v":{"$error":"#DIV/0!"}},{"$f":"IF(AF9=0,0,(AF9*((LOG(AF9))/LOG(2))))","v":{"$error":"#DIV/0!"}},null,{"$f":"N9","v":121},{"$f":"COUNTIF(L32:L39,AI9)","v":0},{"$f":"AJ9/(AL4-AJ11)","v":0},{"$f":"IF(AK9=0,0,(AK9*((LOG(AK9))/LOG(2))))","v":0},null,{"$f":"N9","v":121},{"$f":"COUNTIF(L40:L47,AN9)","v":0},{"$f":"AO9/(AQ4-AO11)","v":{"$error":"#DIV/0!"}},{"$f":"IF(AP9=0,0,(AP9*((LOG(AP9))/LOG(2))))","v":{"$error":"#DIV/0!"}},null,{"$f":"N9","v":121},{"$f":"COUNTIF(L48:L55,AS9)","v":0},{"$f":"AT9/(AV4-AT11)","v":0},{"$f":"IF(AU9=0,0,(AU9*((LOG(AU9))/LOG(2))))","v":0}]
[21,424,11,433,11,437,null,null,null,null,0,211,null,122,{"$f":"COUNTIF($L$7:$L$500,N10)","v":0},{"$f":"O10/$Q$4","v":0},{"$f":"IF(P10=0,0,(P10*((LOG(P10))/LOG(2))))","v":0},null,null,{"$f":"N10","v":122},{"$f":"COUNTIF(L7:L14,T10)","v":0},{"$f":"U10/(W4-U11)","v":0},{"$f":"IF(V10=0,0,(V10*((LOG(V10))/LOG(2))))","v":0},null,{"$f":"N10","v":122},{"$f":"COUNTIF(L15:L22,Y10)","v":0},{"$f":"Z10/(AB4-Z11)","v":0},{"$f":"IF(AA10=0,0,(AA10*((LOG(AA10))/LOG(2))))","v":0},null,{"$f":"N10","v":122},{"$f":"COUNTIF(L23:L31,AD10)","v":0},{"$f":"AE10/(AG4-AE11)","v":{"$error":"#DIV/0!"}},{"$f":"IF(AF10=0,0,(AF10*((LOG(AF10))/LOG(2))))","v":{"$error":"#DIV/0!"}},null,{"$f":"N10","v":122},{"$f":"COUNTIF(L32:L39,AI10)","v":0},{"$f":"AJ10/(AL4-AJ11)","v":0},{"$f":"IF(AK10=0,0,(AK10*((LOG(AK10))/LOG(2))))","v":0},null,{"$f":"N10","v":122},{"$f":"COUNTIF(L40:L47,AN10)","v":0},{"$f":"AO10/(AQ4-AO11)","v":{"$error":"#DIV/0!"}},{"$f":"IF(AP10=0,0,(AP10*((LOG(AP10))/LOG(2))))","v":{"$error":"#DIV/0!"}},null,{"$f":"N10","v":122},{"$f":"COUNTIF(L48:L55,AS10)","v":0},{"$f":"AT10/(AV4-AT11)","v":0},{"$f":"IF(AU10=0,0,(AU10*((LOG(AU10))/LOG(2))))","v":0}]
[21,536,22,550,13,559,null,null,null,null,0,221,null,211,{"$f":"COUNTIF($L$7:$L$500,N11)","v":39},{"$f":"O11/$Q$4","v":0.79591836734693877},{"$f":"IF(P11=0,0,(P11*((LOG(P11))/LOG(2))))","v":-0.26210198744623336},null,null,{"$f":"N11","v":211},{"$f":"COUNTIF(L7:L14,T11)","v":3},null,null,null,{"$f":"N11","v":211},{"$f":"COUNTIF(L15:L22,Y11)","v":6},null,null,null,{"$f":"N11","v":211},{"$f":"COUNTIF(L23:L31,AD11)","v":9},null,null,null,{"$f":"N11","v":211},{"$f":"COUNTIF(L32:L39,AI11)","v":6},null,null,null,{"$f":"N11","v":211},{"$f":"COUNTIF(L40:L47,AN11)","v":8},null,null,null,{"$f":"N11","v":211},{"$f":"COUNTIF(L48:L55,AS11)","v":7}]
[21,663,11,672,11,679,null,null,null,null,0,211,null,212,{"$f":"COUNTIF($L$7:$L$500,N12)","v":3},{"$f":"O12/$Q$4","v":6.1224489795918366E-2},{"$f":"IF(P12=0,0,(P12*((LOG(P12))/LOG(2))))","v":-0.24671922510575831},null,null,{"$f":"N12","v":212},{"$f":"COUNTIF(L7:L14,T12)","v":2},{"$f":"U12/(W4-U11)","v":0.4},{"$f":"IF(V12=0,0,(V12*((LOG(V12))/LOG(2))))","v":-0.52877123795494496},null,{"$f":"N12","v":212},{"$f":"COUNTIF(L15:L22,Y12)","v":1},{"$f":"Z12/(AB4-Z11)","v":0.5},{"$f":"IF(AA12=0,0,(AA12*((LOG(AA12))/LOG(2))))","v":-0.5},null,{"$f":"N12","v":212},{"$f":"COUNTIF(L23:L31,AD12)","v":0},{"$f":"AE12/(AG4-AE11)","v":{"$error":"#DIV/0!"}},{"$f":"IF(AF12=0,0,(AF12*((LOG(AF12))/LOG(2))))","v":{"$error":"#DIV/0!"}},null,{"$f":"N12","v":212},{"$f":"COUNTIF(L32:L39,AI12)","v":0},{"$f":"AJ12/(AL4-AJ11)","v":0},{"$f":"IF(AK12=0,0,(AK12*((LOG(AK12))/LOG(2))))","v":0},null,{"$f":"N12","v":212},{"$f":"COUNTIF(L40:L47,AN12)","v":0},{"$f":"AO12/(AQ4-AO11)","v":{"$error":"#DIV/0!"}},{"$f":"IF(AP12=0,0,(AP12*((LOG(AP12))/LOG(2))))","v":{"$error":"#DIV/0!"}},null,{"$f":"N12","v":212},{"$f":"COUNTIF(L48:L55,AS12)","v":0},{"$f":"AT12/(AV4-AT11)","v":0},{"$f":"IF(AU12=0,0,(AU12*((LOG(AU12))/LOG(2))))","v":0}]
[21,804,22,815,13,828,null,null,null,null,0,221,null,221,{"$f":"COUNTIF($L$7:$L$500,N13)","v":5},{"$f":"O13/$Q$4","v":0.10204081632653061},{"$f":"IF(P13=0,0,(P13*((LOG(P13))/LOG(2))))","v":-0.33599813767631082},null,null,{"$f":"N13","v":221},{"$f":"COUNTIF(L7:L14,T13)","v":2},{"$f":"U13/(W4-U11)","v":0.4},{"$f":"IF(V13=0,0,(V13*((LOG(V13))/LOG(2))))","v":-0.52877123795494496},null,{"$f":"N13","v":221},{"$f":"COUNTIF(L15:L22,Y13)","v":0},{"$f":"Z13/(AB4-Z11)","v":0},{"$f":"IF(AA13=0,0,(AA13*((LOG(AA13))/LOG(2))))","v":0},null,{"$f":"N13","v":221},{"$f":"COUNTIF(L23:L31,AD13)","v":0},{"$f":"AE13/(AG4-AE11)","v":{"$error":"#DIV/0!"}},{"$f":"IF(AF13=0,0,(AF13*((LOG(AF13))/LOG(2))))","v":{"$error":"#DIV/0!"}},null,{"$f":"N13","v":221},{"$f":"COUNTIF(L32:L39,AI13)","v":2},{"$f":"AJ13/(AL4-AJ11)","v":1},{"$f":"IF(AK13=0,0,(AK13*((LOG(AK13))/LOG(2))))","v":0},null,{"$f":"N13","v":221},{"$f":"COUNTIF(L40:L47,AN13)","v":0},{"$f":"AO13/(AQ4-AO11)","v":{"$error":"#DIV/0!"}},{"$f":"IF(AP13=0,0,(AP13*((LOG(AP13))/LOG(2))))","v":{"$error":"#DIV/0!"}},null,{"$f":"N13","v":221},{"$f":"COUNTIF(L48:L55,AS13)","v":1},{"$f":"AT13/(AV4-AT11)","v":1},{"$f":"IF(AU13=0,0,(AU13*((LOG(AU13))/LOG(2))))","v":0}]
[21,931,11,943,11,950,null,null,null,null,0,211,null,222,{"$f":"COUNTIF($L$7:$L$500,N14)","v":1},{"$f":"O14/$Q$4","v":2.0408163265306121E-2},{"$f":"IF(P14=0,0,(P14*((LOG(P14))/LOG(2))))","v":-0.11458591518602465},null,null,{"$f":"N14","v":222},{"$f":"COUNTIF(L7:L14,T14)","v":1},{"$f":"U14/(W4-U11)","v":0.2},{"$f":"IF(V14=0,0,(V14*((LOG(V14))/LOG(2))))","v":-0.46438561897747244},null,{"$f":"N14","v":222},{"$f":"COUNTIF(L15:L22,Y14)","v":0},{"$f":"Z14/(AB4-Z11)","v":0},{"$f":"IF(AA14=0,0,(AA14*((LOG(AA14))/LOG(2))))","v":0},null,{"$f":"N14","v":222},{"$f":"COUNTIF(L23:L31,AD14)","v":0},{"$f":"AE14/(AG4-AE11)","v":{"$error":"#DIV/0!"}},{"$f":"IF(AF14=0,0,(AF14*((LOG(AF14))/LOG(2))))","v":{"$error":"#DIV/0!"}},null,{"$f":"N14","v":222},{"$f":"COUNTIF(L32:L39,AI14)","v":0},{"$f":"AJ14/(AL4-AJ11)","v":0},{"$f":"IF(AK14=0,0,(AK14*((LOG(AK14))/LOG(2))))","v":0},null,{"$f":"N14","v":222},{"$f":"COUNTIF(L40:L47,AN14)","v":0},{"$f":"AO14/(AQ4-AO11)","v":{"$error":"#DIV/0!"}},{"$f":"IF(AP14=0,0,(AP14*((LOG(AP14))/LOG(2))))","v":{"$error":"#DIV/0!"}},null,{"$f":"N14","v":222},{"$f":"COUNTIF(L48:L55,AS14)","v":0},{"$f":"AT14/(AV4-AT11)","v":0},{"$f":"IF(AU14=0,0,(AU14*((LOG(AU14))/LOG(2))))","v":0}]
[21,1044,11,1056,22,1064,null,null,null,null,0,212,null,null,null,{"$f":"SUM(P7:P14)","v":1},{"$f":"-SUM(Q7:Q14)","v":1.0739911806003517},null,null,null,null,{"$f":"SUM(V7:V14)","v":1},{"$f":"-SUM(W7:W14)","v":1.5219280948873624},null,null,null,{"$f":"SUM(AA7:AA14)","v":1},{"$f":"-SUM(AB7:AB14)","v":1},null,null,null,{"$f":"SUM(AF7:AF14)","v":{"$error":"#DIV/0!"}},{"$f":"-SUM(AG7:AG14)","v":{"$error":"#DIV/0!"}},null,null,null,{"$f":"SUM(AK7:AK14)","v":1},{"$f":"-SUM(AL7:AL14)","v":0},null,null,null,{"$f":"SUM(AP7:AP14)","v":{"$error":"#DIV/0!"}},{"$f":"-SUM(AQ7:AQ14)","v":{"$error":"#DIV/0!"}},null,null,null,{"$f":"SUM(AU7:AU14)","v":1},{"$f":"-SUM(AV7:AV14)","v":0}]
[21,1165,11,1173,11,1180,null,null,null,null,0,211,null,null,null,"U=",{"$f":"Q15/(LOG(Q4)/LOG(2))","v":0.19128168871023754},null,null,null,null,"U1=",{"$f":"W15/(LOG(W4)/LOG(2))","v":0.50730936496245416},null,null,null,"U2=",{"$f":"AB15/(LOG(AB4)/LOG(2))","v":0.33333333333333331},null,null,null,"U3=",{"$f":"AG15/(LOG(AG4)/LOG(2))","v":{"$error":"#DIV/0!"}},null,null,null,"U4=",{"$f":"AL15/(LOG(AL4)/LOG(2))","v":0},null,null,null,"U5=",{"$f":"AQ15/(LOG(AQ4)/LOG(2))","v":{"$error":"#DIV/0!"}},null,null,null,"U6=",{"$f":"AV15/(LOG(AV4)/LOG(2))","v":0}]
[21,1291,11,1299,11,1306,null,null,null,null,0,211]
[21,1399,11,1408,11,1412,null,null,null,null,0,211]
[21,1507,11,1515,11,1522,null,null,null,null,0,211,null,"Total Target Seq"]
[21,1635,11,1643,11,1651,null,null,null,null,0,211,null,{"$f":"COUNTIF(L7:L55,G3)","v":39},null,8,8,9,8,8,8]
[12,1753,13,1760,13,1767,null,null,null,null,0,111,null,null,null,"% of reinforcement given in 6 equal intervals based on number of trials "]
[21,1869,11,1878,11,1884,null,null,null,null,0,211,null,null,null,"%_1","%_2","%_3","%_4","%_5","%_6"]
[21,1973,11,1983,11,1987,null,null,null,null,0,211,null,null,"target sequence",{"$f":"$G$3","v":211},{"$f":"$G$3","v":211},{"$f":"$G$3","v":211},{"$f":"$G$3","v":211},{"$f":"$G$3","v":211},{"$f":"$G$3","v":211}]
[21,2081,11,2089,11,2095,null,null,null,null,0,211,null,null,"total reinforcement",{"$f":"U11","v":3},{"$f":"Z11","v":6},{"$f":"AE11","v":9},{"$f":"AJ11","v":6},{"$f":"AO11","v":8},{"$f":"AT11","v":7}]
[21,2188,11,2196,11,2203,null,null,null,null,0,211,null,null,"% target"]
[21,2298,11,2308,11,2313,null,null,null,null,0,211,null,null,"CCRF"]
[21,2412,11,2420,11,2422,null,null,null,null,0,211,null,null,"% CCRf"]
[21,2520,11,2527,11,2532,null,null,null,null,0,211,null,null,"average response rate",{"$f":"F14/P20","v":118.75},{"$f":"(F22-F14)/Q20","v":116.75},{"$f":"(F31-F22)/R20","v":108.22222222222223},{"$f":"(F39-F31)/S20","v":109},{"$f":"(F47-F39)/T20","v":106.375},{"$f":"(F55-F47)/U20","v":109.5}]
[21,2629,11,2637,11,2642,null,null,null,null,0,211]
[21,2738,11,2746,11,2753,null,null,null,null,0,211]
[21,2845,11,2854,11,2858,null,null,null,null,0,211]
[21,2953,22,2955,13,2965,null,null,null,null,0,221]
[21,3069,11,3077,11,3079,null,null,null,null,0,211]
[21,3180,11,3188,11,3192,null,null,null,null,0,211]
[21,3282,22,3289,13,3297,null,null,null,null,0,221]
[21,3397,11,3406,11,3411,null,null,null,null,0,211]
[21,3507,11,3515,11,3519,null,null,null,null,0,211]
[21,3612,11,3620,11,3625,null,null,null,null,0,211]
[21,3718,11,3726,11,3730,null,null,null,null,0,211]
[21,3819,11,3831,11,3835,null,null,null,null,0,211]
[21,3925,11,3935,11,3939,null,null,null,null,0,211]
[21,4031,11,4039,11,4043,null,null,null,null,0,211]
[21,4138,11,4145,11,4150,null,null,null,null,0,211]
[21,4244,11,4256,11,4263,null,null,null,null,0,211]
[21,4358,11,4365,11,4370,null,null,null,null,0,211]
[21,4462,11,4472,11,4477,null,null,null,null,0,211]
[21,4569,11,4577,11,4581,null,null,null,null,0,211]
[21,4672,11,4680,11,4685,null,null,null,null,0,211]
[21,4793,11,4804,11,4810,null,null,null,null,0,211]
[21,4900,11,4912,11,4919,null,null,null,null,0,211]
[21,5011,11,5019,11,5023,null,null,null,null,0,211]
[21,5115,11,5123,11,5125,null,null,null,null,0,211]
[21,5219,11,5232,11,5239,null,null,null,null,0,211]
[21,5330,22,5335,13,5343,null,null,null,null,0,221]
[21,5444,11,5453,11,5457,null,null,null,null,1,211]

{"sheet":"!2011-06-17_08h26m.Subject 53","index":25,"n_rows":57,"n_cols":48,"rows_kept":57,"cut":false,"hidden":false,"merged":[[4,39,4,42],[5,39,5,40],[4,44,4,47],[5,44,5,45],[4,24,4,27],[5,24,5,25],[4,29,4,32],[5,29,5,30],[4,34,4,37],[5,34,5,35],[1,1,1,2],[5,13,5,14],[18,13,18,14],[19,13,19,14],[4,19,4,22],[5,19,5,20]]}
["Report for:!2011-06-17_08h26m.Subject 53"]
["Date","2011-06-17",null,null,null,"Group",0]
["Hen",53,null,null,null,"Correct Sequence",{"$f":"Start!J2","v":211},null,null,null,null,null,null,null,null,"Total Sequences in Data",{"$f":"4994-COUNTBLANK(L7:L5000)","v":51},null,null,null,null,"Total Sequences in Block Data",{"$f":"COUNTA(L7:L15)","v":9},null,null,null,"Total Sequences in Block Data",{"$f":"COUNTA(L16:L23)","v":8},null,null,null,"Total Sequences in Block Data",{"$f":"COUNTA(L24:L32)","v":9},null,null,null,"Total Sequences in Block Data",{"$f":"COUNTA(L33:L40)","v":8},null,null,null,"Total Sequences in Block Data",{"$f":"COUNTA(L41:L49)","v":9},null,null,null,"Total Sequences in Block Data",{"$f":"COUNTA(L50:L57)","v":8}]
["Program",0,null,null,null,null,null,null,null,null,null,null,null,null,null,"Total Sequences in Summary",{"$f":"SUM(O7:O14)","v":51},null,null,null,null,"Total Sequences in Block Summary",{"$f":"SUM(U7:U14)","v":9},null,null,null,"Total Sequences in Block Summary",{"$f":"SUM(Z7:Z14)","v":8},null,null,null,"Total Sequences in Block Summary",{"$f":"SUM(AE7:AE14)","v":9},null,null,null,"Total Sequences in Block Summary",{"$f":"SUM(AJ7:AJ14)","v":8},null,null,null,"Total Sequences in Block Summary",{"$f":"SUM(AO7:AO14)","v":9},null,null,null,"Total Sequences in Block Summary",{"$f":"SUM(AT7:AT14)","v":8}]
[null,null,null,null,null,null,null,null,null,null,null,null,null,null,null,null,null,null,null,"Block 1",null,null,null,null,"Block 2",null,null,null,null,"Block 3",null,null,null,null,"Block 4",null,null,null,null,"Block 5",null,null,null,null,"Block 6"]
["Sequence\nComponent\n1","Time\n1","Sequence\nComponent\n2","Time\n2","Sequence\nComponent\n3","Time\n3","Sequence\nComponent\n4","Time\n4","Sequence\nComponent\n5","Time\n5","Correct?\n0=No 1=Yes","Sequence",null,"Frequency",null,"Relative Frequency","Variability",null,null,"Frequency",null,"Relative Frequency","Variability",null,"Frequency",null,"Relative Frequency","Variability",null,"Frequency",null,"Relative Frequency","Variability",null,"Frequency",null,"Relative Frequency","Variability",null,"Frequency",null,"Relative Frequency","Variability",null,"Frequency",null,"Relative Frequency","Variability"]
[12,28,13,32,24,42,null,null,null,null,0,112,null,111,{"$f":"COUNTIF($L$7:$L$500,N7)","v":3},{"$f":"O7/$Q$4","v":5.8823529411764705E-2},{"$f":"IF(P7=0,0,(P7*((LOG(P7))/LOG(2))))","v":-0.24043899066178465},null,null,{"$f":"N7","v":111},{"$f":"COUNTIF(L7:L15,T7)","v":2},{"$f":"U7/(W4-U11)","v":0.4},{"$f":"IF(V7=0,0,(V7*((LOG(V7))/LOG(2))))","v":-0.52877123795494496},null,{"$f":"N7","v":111},{"$f":"COUNTIF(L16:L23,Y7)","v":1},{"$f":"Z7/(AB4-Z11)","v":1},{"$f":"IF(AA7=0,0,(AA7*((LOG(AA7))/LOG(2))))","v":0},null,{"$f":"N7","v":111},{"$f":"COUNTIF(L24:L32,AD7)","v":0},{"$f":"AE7/(AG4-AE11)","v":0},{"$f":"IF(AF7=0,0,(AF7*((LOG(AF7))/LOG(2))))","v":0},null,{"$f":"N7","v":111},{"$f":"COUNTIF(L33:L40,AI7)","v":0},{"$f":"AJ7/(AL4-AJ11)","v":0},{"$f":"IF(AK7=0,0,(AK7*((LOG(AK7))/LOG(2))))","v":0},null,{"$f":"N7","v":111},{"$f":"COUNTIF(L41:L49,AN7)","v":0},{"$f":"AO7/(AQ4-AO11)","v":0},{"$f":"IF(AP7=0,0,(AP7*((LOG(AP7))/LOG(2))))","v":0},null,{"$f":"N7","v":111},{"$f":"COUNTIF(L50:L57,AS7)","v":0},{"$f":"AT7/(AV4-AT11)","v":0},{"$f":"IF(AU7=0,0,(AU7*((LOG(AU7))/LOG(2))))","v":0}]
[12,159,13,179,13,186,null,null,null,null,0,111,null,112,{"$f":"COUNTIF($L$7:$L$500,N8)","v":1},{"$f":"O8/$Q$4","v":1.9607843137254902E-2},{"$f":"IF(P8=0,0,(P8*((LOG(P8))/LOG(2))))","v":-0.11122402631316657},null,null,{"$f":"N8","v":112},{"$f":"COUNTIF(L7:L15,T8)","v":1},{"$f":"U8/(W4-U11)","v":0.2},{"$f":"IF(V8=0,0,(V8*((LOG(V8))/LOG(2))))","v":-0.46438561897747244},null,{"$f":"N8","v":112},{"$f":"COUNTIF(L16:L23,Y8)","v":0},{"$f":"Z8/(AB4-Z11)","v":0},{"$f":"IF(AA8=0,0,(AA8*((LOG(AA8))/LOG(2))))","v":0},null,{"$f":"N8","v":112},{"$f":"COUNTIF(L24:L32,AD8)","v":0},{"$f":"AE8/(AG4-AE11)","v":0},{"$f":"IF(AF8=0,0,(AF8*((LOG(AF8))/LOG(2))))","v":0},null,{"$f":"N8","v":112},{"$f":"COUNTIF(L33:L40,AI8)","v":0},{"$f":"AJ8/(AL4-AJ11)","v":0},{"$f":"IF(AK8=0,0,(AK8*((LOG(AK8))/LOG(2))))","v":0},null,{"$f":"N8","v":112},{"$f":"COUNTIF(L41:L49,AN8)","v":0},{"$f":"AO8/(AQ4-AO11)","v":0},{"$f":"IF(AP8=0,0,(AP8*((LOG(AP8))/LOG(2))))","v":0},null,{"$f":"N8","v":112},{"$f":"COUNTIF(L50:L57,AS8)","v":0},{"$f":"AT8/(AV4-AT11)","v":0},{"$f":"IF(AU8=0,0,(AU8*((LOG(AU8))/LOG(2))))","v":0}]
[12,291,24,301,13,313,null,null,null,null,0,121,null,121,{"$f":"COUNTIF($L$7:$L$500,N9)","v":2},{"$f":"O9/$Q$4","v":3.9215686274509803E-2},{"$f":"IF(P9=0,0,(P9*((LOG(P9))/LOG(2))))","v":-0.18323236635182338},null,null,{"$f":"N9","v":121},{"$f":"COUNTIF(L7:L15,T9)","v":1},{"$f":"U9/(W4-U11)","v":0.2},{"$f":"IF(V9=0,0,(V9*((LOG(V9))/LOG(2))))","v":-0.46438561897747244},null,{"$f":"N9","v":121},{"$f":"COUNTIF(L16:L23,Y9)","v":0},{"$f":"Z9/(AB4-Z11)","v":0},{"$f":"IF(AA9=0,0,(AA9*((LOG(AA9))/LOG(2))))","v":0},null,{"$f":"N9","v":121},{"$f":"COUNTIF(L24:L32,AD9)","v":1},{"$f":"AE9/(AG4-AE11)","v":0.5},{"$f":"IF(AF9=0,0,(AF9*((LOG(AF9))/LOG(2))))","v":-0.5},null,{"$f":"N9","v":121},{"$f":"COUNTIF(L33:L40,AI9)","v":0},{"$f":"AJ9/(AL4-AJ11)","v":0},{"$f":"IF(AK9=0,0,(AK9*((LOG(AK9))/LOG(2))))","v":0},null,{"$f":"N9","v":121},{"$f":"COUNTIF(L41:L49,AN9)","v":0},{"$f":"AO9/(AQ4-AO11)","v":0},{"$f":"IF(AP9=0,0,(AP9*((LOG(AP9))/LOG(2))))","v":0},null,{"$f":"N9","v":121},{"$f":"COUNTIF(L50:L57,AS9)","v":0},{"$f":"AT9/(AV4-AT11)","v":0},{"$f":"IF(AU9=0,0,(AU9*((LOG(AU9))/LOG(2))))","v":0}]
[21,426,22,433,24,442,null,null,null,null,0,222,null,122,{"$f":"COUNTIF($L$7:$L$500,N10)","v":0},{"$f":"O10/$Q$4","v":0},{"$f":"IF(P10=0,0,(P10*((LOG(P10))/LOG(2))))","v":0},null,null,{"$f":"N10","v":122},{"$f":"COUNTIF(L7:L15,T10)","v":0},{"$f":"U10/(W4-U11)","v":0},{"$f":"IF(V10=0,0,(V10*((LOG(V10))/LOG(2))))","v":0},null,{"$f":"N10","v":122},{"$f":"COUNTIF(L16:L23,Y10)","v":0},{"$f":"Z10/(AB4-Z11)","v":0},{"$f":"IF(AA10=0,0,(AA10*((LOG(AA10))/LOG(2))))","v":0},null,{"$f":"N10","v":122},{"$f":"COUNTIF(L24:L32,AD10)","v":0},{"$f":"AE10/(AG4-AE11)","v":0},{"$f":"IF(AF10=0,0,(AF10*((LOG(AF10))/LOG(2))))","v":0},null,{"$f":"N10","v":122},{"$f":"COUNTIF(L33:L40,AI10)","v":0},{"$f":"AJ10/(AL4-AJ11)","v":0},{"$f":"IF(AK10=0,0,(AK10*((LOG(AK10))/LOG(2))))","v":0},null,{"$f":"N10","v":122},{"$f":"COUNTIF(L41:L49,AN10)","v":0},{"$f":"AO10/(AQ4-AO11)","v":0},{"$f":"IF(AP10=0,0,(AP10*((LOG(AP10))/LOG(2))))","v":0},null,{"$f":"N10","v":122},{"$f":"COUNTIF(L50:L57,AS10)","v":0},{"$f":"AT10/(AV4-AT11)","v":0},{"$f":"IF(AU10=0,0,(AU10*((LOG(AU10))/LOG(2))))","v":0}]
[12,544,13,563,13,570,null,null,null,null,0,111,null,211,{"$f":"COUNTIF($L$7:$L$500,N11)","v":39},{"$f":"O11/$Q$4","v":0.76470588235294112},{"$f":"IF(P11=0,0,(P11*((LOG(P11))/LOG(2))))","v":-0.29595885884824796},null,null,{"$f":"N11","v":211},{"$f":"COUNTIF(L7:L15,T11)","v":4},null,null,null,{"$f":"N11","v":211},{"$f":"COUNTIF(L16:L23,Y11)","v":7},null,null,null,{"$f":"N11","v":211},{"$f":"COUNTIF(L24:L32,AD11)","v":7},null,null,null,{"$f":"N11","v":211},{"$f":"COUNTIF(L33:L40,AI11)","v":7},null,null,null,{"$f":"N11","v":211},{"$f":"COUNTIF(L41:L49,AN11)","v":7},null,null,null,{"$f":"N11","v":211},{"$f":"COUNTIF(L50:L57,AS11)","v":7}]
[21,682,11,693,11,698,null,null,null,null,0,211,null,212,{"$f":"COUNTIF($L$7:$L$500,N12)","v":1},{"$f":"O12/$Q$4","v":1.9607843137254902E-2},{"$f":"IF(P12=0,0,(P12*((LOG(P12))/LOG(2))))","v":-0.11122402631316657},null,null,{"$f":"N12","v":212},{"$f":"COUNTIF(L7:L15,T12)","v":0},{"$f":"U12/(W4-U11)","v":0},{"$f":"IF(V12=0,0,(V12*((LOG(V12))/LOG(2))))","v":0},null,{"$f":"N12","v":212},{"$f":"COUNTIF(L16:L23,Y12)","v":0},{"$f":"Z12/(AB4-Z11)","v":0},{"$f":"IF(AA12=0,0,(AA12*((LOG(AA12))/LOG(2))))","v":0},null,{"$f":"N12","v":212},{"$f":"COUNTIF(L24:L32,AD12)","v":1},{"$f":"AE12/(AG4-AE11)","v":0.5},{"$f":"IF(AF12=0,0,(AF12*((LOG(AF12))/LOG(2))))","v":-0.5},null,{"$f":"N12","v":212},{"$f":"COUNTIF(L33:L40,AI12)","v":0},{"$f":"AJ12/(AL4-AJ11)","v":0},{"$f":"IF(AK12=0,0,(AK12*((LOG(AK12))/LOG(2))))","v":0},null,{"$f":"N12","v":212},{"$f":"COUNTIF(L41:L49,AN12)","v":0},{"$f":"AO12/(AQ4-AO11)","v":0},{"$f":"IF(AP12=0,0,(AP12*((LOG(AP12))/LOG(2))))","v":0},null,{"$f":"N12","v":212},{"$f":"COUNTIF(L50:L57,AS12)","v":0},{"$f":"AT12/(AV4-AT11)","v":0},{"$f":"IF(AU12=0,0,(AU12*((LOG(AU12))/LOG(2))))","v":0}]
[21,793,11,805,11,810,null,null,null,null,0,211,null,221,{"$f":"COUNTIF($L$7:$L$500,N13)","v":4},{"$f":"O13/$Q$4","v":7.8431372549019607E-2},{"$f":"IF(P13=0,0,(P13*((LOG(P13))/LOG(2))))","v":-0.2880333601546271},null,null,{"$f":"N13","v":221},{"$f":"COUNTIF(L7:L15,T13)","v":0},{"$f":"U13/(W4-U11)","v":0},{"$f":"IF(V13=0,0,(V13*((LOG(V13))/LOG(2))))","v":0},null,{"$f":"N13","v":221},{"$f":"COUNTIF(L16:L23,Y13)","v":0},{"$f":"Z13/(AB4-Z11)","v":0},{"$f":"IF(AA13=0,0,(AA13*((LOG(AA13))/LOG(2))))","v":0},null,{"$f":"N13","v":221},{"$f":"COUNTIF(L24:L32,AD13)","v":0},{"$f":"AE13/(AG4-AE11)","v":0},{"$f":"IF(AF13=0,0,(AF13*((LOG(AF13))/LOG(2))))","v":0},null,{"$f":"N13","v":221},{"$f":"COUNTIF(L33:L40,AI13)","v":1},{"$f":"AJ13/(AL4-AJ11)","v":1},{"$f":"IF(AK13=0,0,(AK13*((LOG(AK13))/LOG(2))))","v":0},null,{"$f":"N13","v":221},{"$f":"COUNTIF(L41:L49,AN13)","v":2},{"$f":"AO13/(AQ4-AO11)","v":1},{"$f":"IF(AP13=0,0,(AP13*((LOG(AP13))/LOG(2))))","v":0},null,{"$f":"N13","v":221},{"$f":"COUNTIF(L50:L57,AS13)","v":1},{"$f":"AT13/(AV4-AT11)","v":1},{"$f":"IF(AU13=0,0,(AU13*((LOG(AU13))/LOG(2))))","v":0}]
[21,909,11,921,11,927,null,null,null,null,0,211,null,222,{"$f":"COUNTIF($L$7:$L$500,N14)","v":1},{"$f":"O14/$Q$4","v":1.9607843137254902E-2},{"$f":"IF(P14=0,0,(P14*((LOG(P14))/LOG(2))))","v":-0.11122402631316657},null,null,{"$f":"N14","v":222},{"$f":"COUNTIF(L7:L15,T14)","v":1},{"$f":"U14/(W4-U11)","v":0.2},{"$f":"IF(V14=0,0,(V14*((LOG(V14))/LOG(2))))","v":-0.46438561897747244},null,{"$f":"N14","v":222},{"$f":"COUNTIF(L16:L23,Y14)","v":0},{"$f":"Z14/(AB4-Z11)","v":0},{"$f":"IF(AA14=0,0,(AA14*((LOG(AA14))/LOG(2))))","v":0},null,{"$f":"N14","v":222},{"$f":"COUNTIF(L24:L32,AD14)","v":0},{"$f":"AE14/(AG4-AE11)","v":0},{"$f":"IF(AF14=0,0,(AF14*((LOG(AF14))/LOG(2))))","v":0},null,{"$f":"N14","v":222},{"$f":"COUNTIF(L33:L40,AI14)","v":0},{"$f":"AJ14/(AL4-AJ11)","v":0},{"$f":"IF(AK14=0,0,(AK14*((LOG(AK14))/LOG(2))))","v":0},null,{"$f":"N14","v":222},{"$f":"COUNTIF(L41:L49,AN14)","v":0},{"$f":"AO14/(AQ4-AO11)","v":0},{"$f":"IF(AP14=0,0,(AP14*((LOG(AP14))/LOG(2))))","v":0},null,{"$f":"N14","v":222},{"$f":"COUNTIF(L50:L57,AS14)","v":0},{"$f":"AT14/(AV4-AT11)","v":0},{"$f":"IF(AU14=0,0,(AU14*((LOG(AU14))/LOG(2))))","v":0}]
[21,1034,11,1043,11,1047,null,null,null,null,0,211,null,null,null,{"$f":"SUM(P7:P14)","v":1},{"$f":"-SUM(Q7:Q14)","v":1.3413356549559829},null,null,null,null,{"$f":"SUM(V7:V14)","v":1},{"$f":"-SUM(W7:W14)","v":1.9219280948873623},null,null,null,{"$f":"SUM(AA7:AA14)","v":1},{"$f":"-SUM(AB7:AB14)","v":0},null,null,null,{"$f":"SUM(AF7:AF14)","v":1},{"$f":"-SUM(AG7:AG14)","v":1},null,null,null,{"$f":"SUM(AK7:AK14)","v":1},{"$f":"-SUM(AL7:AL14)","v":0},null,null,null,{"$f":"SUM(AP7:AP14)","v":1},{"$f":"-SUM(AQ7:AQ14)","v":0},null,null,null,{"$f":"SUM(AU7:AU14)","v":1},{"$f":"-SUM(AV7:AV14)","v":0}]
[12,1151,13,1156,13,1162,null,null,null,null,0,111,null,null,null,"U=",{"$f":"Q15/(LOG(Q4)/LOG(2))","v":0.23646598660914087},null,null,null,null,"U1=",{"$f":"W15/(LOG(W4)/LOG(2))","v":0.60630080964467215},null,null,null,"U2=",{"$f":"AB15/(LOG(AB4)/LOG(2))","v":0},null,null,null,"U3=",{"$f":"AG15/(LOG(AG4)/LOG(2))","v":0.31546487678572877},null,null,null,"U4=",{"$f":"AL15/(LOG(AL4)/LOG(2))","v":0},null,null,null,"U5=",{"$f":"AQ15/(LOG(AQ4)/LOG(2))","v":0},null,null,null,"U6=",{"$f":"AV15/(LOG(AV4)/LOG(2))","v":0}]
[21,1262,11,1272,11,1277,null,null,null,null,0,211]
[21,1369,11,1378,11,1382,null,null,null,null,0,211]
[21,1473,11,1484,11,1488,null,null,null,null,0,211,null,"Total Target Seq"]
[21,1581,11,1589,11,1594,null,null,null,null,0,211,null,{"$f":"COUNTIF(L7:L57,G3)","v":39},null,9,8,9,8,9,8]
[21,1681,11,1694,11,1699,null,null,null,null,0,211,null,null,null,"% of reinforcement given in 6 equal intervals based on number of trials "]
[21,1791,11,1798,11,1803,null,null,null,null,0,211,null,null,null,"%_1","%_2","%_3","%_4","%_5","%_6"]
[21,1900,11,1908,11,1913,null,null,null,null,0,211,null,null,"target sequence",{"$f":"$G$3","v":211},{"$f":"$G$3","v":211},{"$f":"$G$3","v":211},{"$f":"$G$3","v":211},{"$f":"$G$3","v":211},{"$f":"$G$3","v":211}]
[21,2002,11,2011,11,2015,null,null,null,null,0,211,null,null,"total reinforcement",{"$f":"U11","v":4},{"$f":"Z11","v":7},{"$f":"AE11","v":7},{"$f":"AJ11","v":7},{"$f":"AO11","v":7},{"$f":"AT11","v":7}]
[21,2105,11,2113,11,2117,null,null,null,null,0,211,null,null,"% target"]
[12,2208,24,2226,13,2239,null,null,null,null,0,121,null,null,"CCRF"]
[21,2339,11,2348,11,2355,null,null,null,null,0,211,null,null,"% CCRf"]
[21,2455,11,2464,22,2477,null,null,null,null,0,212,null,null,"average response rate",{"$f":"F15/P20","v":116.33333333333333},{"$f":"(F23-F15)/Q20","v":108.25},{"$f":"(F32-F23)/R20","v":112.11111111111111},{"$f":"(F40-F32)/S20","v":108.375},{"$f":"(F49-F40)/T20","v":107.55555555555556},{"$f":"(F57-F49)/U20","v":107.125}]
[21,2574,11,2583,11,2587,null,null,null,null,0,211]
[21,2680,11,2688,11,2692,null,null,null,null,0,211]
[21,2784,11,2792,11,2797,null,null,null,null,0,211]
[21,2892,11,2903,11,2922,null,null,null,null,0,211]
[21,3011,22,3013,13,3023,null,null,null,null,0,221]
[21,3123,11,3132,11,3140,null,null,null,null,0,211]
[21,3233,11,3244,11,3249,null,null,null,null,0,211]
[21,3345,11,3355,11,3359,null,null,null,null,0,211]
[21,3452,11,3463,11,3474,null,null,null,null,0,211]
[21,3566,11,3573,11,3578,null,null,null,null,0,211]
[21,3672,11,3680,11,3685,null,null,null,null,0,211]
[21,3778,11,3785,11,3789,null,null,null,null,0,211]
[21,3887,11,3895,11,3900,null,null,null,null,0,211]
[21,3990,11,3998,11,4003,null,null,null,null,0,211]
[21,4092,22,4094,13,4102,null,null,null,null,0,221]
[21,4197,22,4205,13,4214,null,null,null,null,0,221]
[21,4315,11,4326,11,4333,null,null,null,null,0,211]
[21,4427,11,4436,11,4440,null,null,null,null,0,211]
[21,4533,11,4540,11,4545,null,null,null,null,0,211]
[21,4641,11,4648,11,4653,null,null,null,null,0,211]
[21,4745,11,4753,11,4757,null,null,null,null,0,211]
[21,4845,22,4851,13,4861,null,null,null,null,0,221]
[21,4962,11,4970,11,4974,null,null,null,null,0,211]
[21,5072,11,5080,11,5085,null,null,null,null,0,211]
[21,5179,11,5188,11,5192,null,null,null,null,0,211]
[21,5285,11,5293,11,5298,null,null,null,null,0,211]
[21,5391,11,5398,11,5402,null,null,null,null,0,211]
[21,5495,11,5504,11,5508,null,null,null,null,0,211]
[21,5601,11,5610,11,5614,null,null,null,null,1,211]

{"sheet":"!2011-06-18_09h25m.Subject 53","index":26,"n_rows":54,"n_cols":48,"rows_kept":54,"cut":false,"hidden":false,"merged":[[4,39,4,42],[5,39,5,40],[4,44,4,47],[5,44,5,45],[4,24,4,27],[5,24,5,25],[4,29,4,32],[5,29,5,30],[4,34,4,37],[5,34,5,35],[1,1,1,2],[5,13,5,14],[18,13,18,14],[19,13,19,14],[4,19,4,22],[5,19,5,20]]}
["Report for:!2011-06-18_09h25m.Subject 53"]
["Date","2011-06-18",null,null,null,"Group",0]
["Hen",53,null,null,null,"Correct Sequence",{"$f":"Start!J2","v":211},null,null,null,null,null,null,null,null,"Total Sequences in Data",{"$f":"4994-COUNTBLANK(L7:L5000)","v":48},null,null,null,null,"Total Sequences in Block Data",{"$f":"COUNTA(L7:L14)","v":8},null,null,null,"Total Sequences in Block Data",{"$f":"COUNTA(L15:L22)","v":8},null,null,null,"Total Sequences in Block Data",{"$f":"COUNTA(L23:L30)","v":8},null,null,null,"Total Sequences in Block Data",{"$f":"COUNTA(L31:L38)","v":8},null,null,null,"Total Sequences in Block Data",{"$f":"COUNTA(L39:L46)","v":8},null,null,null,"Total Sequences in Block Data",{"$f":"COUNTA(L47:L54)","v":8}]
["Program",0,null,null,null,null,null,null,null,null,null,null,null,null,null,"Total Sequences in Summary",{"$f":"SUM(O7:O14)","v":48},null,null,null,null,"Total Sequences in Block Summary",{"$f":"SUM(U7:U14)","v":8},null,null,null,"Total Sequences in Block Summary",{"$f":"SUM(Z7:Z14)","v":8},null,null,null,"Total Sequences in Block Summary",{"$f":"SUM(AE7:AE14)","v":8},null,null,null,"Total Sequences in Block Summary",{"$f":"SUM(AJ7:AJ14)","v":8},null,null,null,"Total Sequences in Block Summary",{"$f":"SUM(AO7:AO14)","v":8},null,null,null,"Total Sequences in Block Summary",{"$f":"SUM(AT7:AT14)","v":8}]
[null,null,null,null,null,null,null,null,null,null,null,null,null,null,null,null,null,null,null,"Block 1",null,null,null,null,"Block 2",null,null,null,null,"Block 3",null,null,null,null,"Block 4",null,null,null,null,"Block 5",null,null,null,null,"Block 6"]
["Sequence\nComponent\n1","Time\n1","Sequence\nComponent\n2","Time\n2","Sequence\nComponent\n3","Time\n3","Sequence\nComponent\n4","Time\n4","Sequence\nComponent\n5","Time\n5","Correct?\n0=No 1=Yes","Sequence",null,"Frequency",null,"Relative Frequency","Variability",null,null,"Frequency",null,"Relative Frequency","Variability",null,"Frequency",null,"Relative Frequency","Variability",null,"Frequency",null,"Relative Frequency","Variability",null,"Frequency",null,"Relative Frequency","Variability",null,"Frequency",null,"Relative Frequency","Variability",null,"Frequency",null,"Relative Frequency","Variability"]
[12,15,24,46,13,62,null,null,null,null,0,121,null,111,{"$f":"COUNTIF($L$7:$L$500,N7)","v":1},{"$f":"O7/$Q$4","v":2.0833333333333332E-2},{"$f":"IF(P7=0,0,(P7*((LOG(P7))/LOG(2))))","v":-0.11635338543169074},null,null,{"$f":"N7","v":111},{"$f":"COUNTIF(L7:L14,T7)","v":0},{"$f":"U7/(W4-U11)","v":0},{"$f":"IF(V7=0,0,(V7*((LOG(V7))/LOG(2))))","v":0},null,{"$f":"N7","v":111},{"$f":"COUNTIF(L15:L22,Y7)","v":1},{"$f":"Z7/(AB4-Z11)","v":0.25},{"$f":"IF(AA7=0,0,(AA7*((LOG(AA7))/LOG(2))))","v":-0.5},null,{"$f":"N7","v":111},{"$f":"COUNTIF(L23:L30,AD7)","v":0},{"$f":"AE7/(AG4-AE11)","v":0},{"$f":"IF(AF7=0,0,(AF7*((LOG(AF7))/LOG(2))))","v":0},null,{"$f":"N7","v":111},{"$f":"COUNTIF(L31:L38,AI7)","v":0},{"$f":"AJ7/(AL4-AJ11)","v":{"$error":"#DIV/0!"}},{"$f":"IF(AK7=0,0,(AK7*((LOG(AK7))/LOG(2))))","v":{"$error":"#DIV/0!"}},null,{"$f":"N7","v":111},{"$f":"COUNTIF(L39:L46,AN7)","v":0},{"$f":"AO7/(AQ4-AO11)","v":0},{"$f":"IF(AP7=0,0,(AP7*((LOG(AP7))/LOG(2))))","v":0},null,{"$f":"N7","v":111},{"$f":"COUNTIF(L47:L54,AS7)","v":0},{"$f":"AT7/(AV4-AT11)","v":{"$error":"#DIV/0!"}},{"$f":"IF(AU7=0,0,(AU7*((LOG(AU7))/LOG(2))))","v":{"$error":"#DIV/0!"}}]
[21,181,11,196,11,205,null,null,null,null,0,211,null,112,{"$f":"COUNTIF($L$7:$L$500,N8)","v":0},{"$f":"O8/$Q$4","v":0},{"$f":"IF(P8=0,0,(P8*((LOG(P8))/LOG(2))))","v":0},null,null,{"$f":"N8","v":112},{"$f":"COUNTIF(L7:L14,T8)","v":0},{"$f":"U8/(W4-U11)","v":0},{"$f":"IF(V8=0,0,(V8*((LOG(V8))/LOG(2))))","v":0},null,{"$f":"N8","v":112},{"$f":"COUNTIF(L15:L22,Y8)","v":0},{"$f":"Z8/(AB4-Z11)","v":0},{"$f":"IF(AA8=0,0,(AA8*((LOG(AA8))/LOG(2))))","v":0},null,{"$f":"N8","v":112},{"$f":"COUNTIF(L23:L30,AD8)","v":0},{"$f":"AE8/(AG4-AE11)","v":0},{"$f":"IF(AF8=0,0,(AF8*((LOG(AF8))/LOG(2))))","v":0},null,{"$f":"N8","v":112},{"$f":"COUNTIF(L31:L38,AI8)","v":0},{"$f":"AJ8/(AL4-AJ11)","v":{"$error":"#DIV/0!"}},{"$f":"IF(AK8=0,0,(AK8*((LOG(AK8))/LOG(2))))","v":{"$error":"#DIV/0!"}},null,{"$f":"N8","v":112},{"$f":"COUNTIF(L39:L46,AN8)","v":0},{"$f":"AO8/(AQ4-AO11)","v":0},{"$f":"IF(AP8=0,0,(AP8*((LOG(AP8))/LOG(2))))","v":0},null,{"$f":"N8","v":112},{"$f":"COUNTIF(L47:L54,AS8)","v":0},{"$f":"AT8/(AV4-AT11)","v":{"$error":"#DIV/0!"}},{"$f":"IF(AU8=0,0,(AU8*((LOG(AU8))/LOG(2))))","v":{"$error":"#DIV/0!"}}]
[21,305,22,323,24,333,null,null,null,null,0,222,null,121,{"$f":"COUNTIF($L$7:$L$500,N9)","v":1},{"$f":"O9/$Q$4","v":2.0833333333333332E-2},{"$f":"IF(P9=0,0,(P9*((LOG(P9))/LOG(2))))","v":-0.11635338543169074},null,null,{"$f":"N9","v":121},{"$f":"COUNTIF(L7:L14,T9)","v":1},{"$f":"U9/(W4-U11)","v":0.25},{"$f":"IF(V9=0,0,(V9*((LOG(V9))/LOG(2))))","v":-0.5},null,{"$f":"N9","v":121},{"$f":"COUNTIF(L15:L22,Y9)","v":0},{"$f":"Z9/(AB4-Z11)","v":0},{"$f":"IF(AA9=0,0,(AA9*((LOG(AA9))/LOG(2))))","v":0},null,{"$f":"N9","v":121},{"$f":"COUNTIF(L23:L30,AD9)","v":0},{"$f":"AE9/(AG4-AE11)","v":0},{"$f":"IF(AF9=0,0,(AF9*((LOG(AF9))/LOG(2))))","v":0},null,{"$f":"N9","v":121},{"$f":"COUNTIF(L31:L38,AI9)","v":0},{"$f":"AJ9/(AL4-AJ11)","v":{"$error":"#DIV/0!"}},{"$f":"IF(AK9=0,0,(AK9*((LOG(AK9))/LOG(2))))","v":{"$error":"#DIV/0!"}},null,{"$f":"N9","v":121},{"$f":"COUNTIF(L39:L46,AN9)","v":0},{"$f":"AO9/(AQ4-AO11)","v":0},{"$f":"IF(AP9=0,0,(AP9*((LOG(AP9))/LOG(2))))","v":0},null,{"$f":"N9","v":121},{"$f":"COUNTIF(L47:L54,AS9)","v":0},{"$f":"AT9/(AV4-AT11)","v":{"$error":"#DIV/0!"}},{"$f":"IF(AU9=0,0,(AU9*((LOG(AU9))/LOG(2))))","v":{"$error":"#DIV/0!"}}]
[21,436,11,447,11,451,null,null,null,null,0,211,null,122,{"$f":"COUNTIF($L$7:$L$500,N10)","v":1},{"$f":"O10/$Q$4","v":2.0833333333333332E-2},{"$f":"IF(P10=0,0,(P10*((LOG(P10))/LOG(2))))","v":-0.11635338543169074},null,null,{"$f":"N10","v":122},{"$f":"COUNTIF(L7:L14,T10)","v":0},{"$f":"U10/(W4-U11)","v":0},{"$f":"IF(V10=0,0,(V10*((LOG(V10))/LOG(2))))","v":0},null,{"$f":"N10","v":122},{"$f":"COUNTIF(L15:L22,Y10)","v":1},{"$f":"Z10/(AB4-Z11)","v":0.25},{"$f":"IF(AA10=0,0,(AA10*((LOG(AA10))/LOG(2))))","v":-0.5},null,{"$f":"N10","v":122},{"$f":"COUNTIF(L23:L30,AD10)","v":0},{"$f":"AE10/(AG4-AE11)","v":0},{"$f":"IF(AF10=0,0,(AF10*((LOG(AF10))/LOG(2))))","v":0},null,{"$f":"N10","v":122},{"$f":"COUNTIF(L31:L38,AI10)","v":0},{"$f":"AJ10/(AL4-AJ11)","v":{"$error":"#DIV/0!"}},{"$f":"IF(AK10=0,0,(AK10*((LOG(AK10))/LOG(2))))","v":{"$error":"#DIV/0!"}},null,{"$f":"N10","v":122},{"$f":"COUNTIF(L39:L46,AN10)","v":0},{"$f":"AO10/(AQ4-AO11)","v":0},{"$f":"IF(AP10=0,0,(AP10*((LOG(AP10))/LOG(2))))","v":0},null,{"$f":"N10","v":122},{"$f":"COUNTIF(L47:L54,AS10)","v":0},{"$f":"AT10/(AV4-AT11)","v":{"$error":"#DIV/0!"}},{"$f":"IF(AU10=0,0,(AU10*((LOG(AU10))/LOG(2))))","v":{"$error":"#DIV/0!"}}]
[21,554,11,568,22,583,null,null,null,null,0,212,null,211,{"$f":"COUNTIF($L$7:$L$500,N11)","v":38},{"$f":"O11/$Q$4","v":0.79166666666666663},{"$f":"IF(P11=0,0,(P11*((LOG(P11))/LOG(2))))","v":-0.26681936492807684},null,null,{"$f":"N11","v":211},{"$f":"COUNTIF(L7:L14,T11)","v":4},null,null,null,{"$f":"N11","v":211},{"$f":"COUNTIF(L15:L22,Y11)","v":4},null,null,null,{"$f":"N11","v":211},{"$f":"COUNTIF(L23:L30,AD11)","v":7},null,null,null,{"$f":"N11","v":211},{"$f":"COUNTIF(L31:L38,AI11)","v":8},null,null,null,{"$f":"N11","v":211},{"$f":"COUNTIF(L39:L46,AN11)","v":7},null,null,null,{"$f":"N11","v":211},{"$f":"COUNTIF(L47:L54,AS11)","v":8}]
[21,683,11,692,11,696,null,null,null,null,0,211,null,212,{"$f":"COUNTIF($L$7:$L$500,N12)","v":1},{"$f":"O12/$Q$4","v":2.0833333333333332E-2},{"$f":"IF(P12=0,0,(P12*((LOG(P12))/LOG(2))))","v":-0.11635338543169074},null,null,{"$f":"N12","v":212},{"$f":"COUNTIF(L7:L14,T12)","v":1},{"$f":"U12/(W4-U11)","v":0.25},{"$f":"IF(V12=0,0,(V12*((LOG(V12))/LOG(2))))","v":-0.5},null,{"$f":"N12","v":212},{"$f":"COUNTIF(L15:L22,Y12)","v":0},{"$f":"Z12/(AB4-Z11)","v":0},{"$f":"IF(AA12=0,0,(AA12*((LOG(AA12))/LOG(2))))","v":0},null,{"$f":"N12","v":212},{"$f":"COUNTIF(L23:L30,AD12)","v":0},{"$f":"AE12/(AG4-AE11)","v":0},{"$f":"IF(AF12=0,0,(AF12*((LOG(AF12))/LOG(2))))","v":0},null,{"$f":"N12","v":212},{"$f":"COUNTIF(L31:L38,AI12)","v":0},{"$f":"AJ12/(AL4-AJ11)","v":{"$error":"#DIV/0!"}},{"$f":"IF(AK12=0,0,(AK12*((LOG(AK12))/LOG(2))))","v":{"$error":"#DIV/0!"}},null,{"$f":"N12","v":212},{"$f":"COUNTIF(L39:L46,AN12)","v":0},{"$f":"AO12/(AQ4-AO11)","v":0},{"$f":"IF(AP12=0,0,(AP12*((LOG(AP12))/LOG(2))))","v":0},null,{"$f":"N12","v":212},{"$f":"COUNTIF(L47:L54,AS12)","v":0},{"$f":"AT12/(AV4-AT11)","v":{"$error":"#DIV/0!"}},{"$f":"IF(AU12=0,0,(AU12*((LOG(AU12))/LOG(2))))","v":{"$error":"#DIV/0!"}}]
[21,791,22,807,13,816,null,null,null,null,0,221,null,221,{"$f":"COUNTIF($L$7:$L$500,N13)","v":3},{"$f":"O13/$Q$4","v":6.25E-2},{"$f":"IF(P13=0,0,(P13*((LOG(P13))/LOG(2))))","v":-0.25},null,null,{"$f":"N13","v":221},{"$f":"COUNTIF(L7:L14,T13)","v":1},{"$f":"U13/(W4-U11)","v":0.25},{"$f":"IF(V13=0,0,(V13*((LOG(V13))/LOG(2))))","v":-0.5},null,{"$f":"N13","v":221},{"$f":"COUNTIF(L15:L22,Y13)","v":0},{"$f":"Z13/(AB4-Z11)","v":0},{"$f":"IF(AA13=0,0,(AA13*((LOG(AA13))/LOG(2))))","v":0},null,{"$f":"N13","v":221},{"$f":"COUNTIF(L23:L30,AD13)","v":1},{"$f":"AE13/(AG4-AE11)","v":1},{"$f":"IF(AF13=0,0,(AF13*((LOG(AF13))/LOG(2))))","v":0},null,{"$f":"N13","v":221},{"$f":"COUNTIF(L31:L38,AI13)","v":0},{"$f":"AJ13/(AL4-AJ11)","v":{"$error":"#DIV/0!"}},{"$f":"IF(AK13=0,0,(AK13*((LOG(AK13))/LOG(2))))","v":{"$error":"#DIV/0!"}},null,{"$f":"N13","v":221},{"$f":"COUNTIF(L39:L46,AN13)","v":1},{"$f":"AO13/(AQ4-AO11)","v":1},{"$f":"IF(AP13=0,0,(AP13*((LOG(AP13))/LOG(2))))","v":0},null,{"$f":"N13","v":221},{"$f":"COUNTIF(L47:L54,AS13)","v":0},{"$f":"AT13/(AV4-AT11)","v":{"$error":"#DIV/0!"}},{"$f":"IF(AU13=0,0,(AU13*((LOG(AU13))/LOG(2))))","v":{"$error":"#DIV/0!"}}]
[21,909,11,917,11,922,null,null,null,null,0,211,null,222,{"$f":"COUNTIF($L$7:$L$500,N14)","v":3},{"$f":"O14/$Q$4","v":6.25E-2},{"$f":"IF(P14=0,0,(P14*((LOG(P14))/LOG(2))))","v":-0.25},null,null,{"$f":"N14","v":222},{"$f":"COUNTIF(L7:L14,T14)","v":1},{"$f":"U14/(W4-U11)","v":0.25},{"$f":"IF(V14=0,0,(V14*((LOG(V14))/LOG(2))))","v":-0.5},null,{"$f":"N14","v":222},{"$f":"COUNTIF(L15:L22,Y14)","v":2},{"$f":"Z14/(AB4-Z11)","v":0.5},{"$f":"IF(AA14=0,0,(AA14*((LOG(AA14))/LOG(2))))","v":-0.5},null,{"$f":"N14","v":222},{"$f":"COUNTIF(L23:L30,AD14)","v":0},{"$f":"AE14/(AG4-AE11)","v":0},{"$f":"IF(AF14=0,0,(AF14*((LOG(AF14))/LOG(2))))","v":0},null,{"$f":"N14","v":222},{"$f":"COUNTIF(L31:L38,AI14)","v":0},{"$f":"AJ14/(AL4-AJ11)","v":{"$error":"#DIV/0!"}},{"$f":"IF(AK14=0,0,(AK14*((LOG(AK14))/LOG(2))))","v":{"$error":"#DIV/0!"}},null,{"$f":"N14","v":222},{"$f":"COUNTIF(L39:L46,AN14)","v":0},{"$f":"AO14/(AQ4-AO11)","v":0},{"$f":"IF(AP14=0,0,(AP14*((LOG(AP14))/LOG(2))))","v":0},null,{"$f":"N14","v":222},{"$f":"COUNTIF(L47:L54,AS14)","v":0},{"$f":"AT14/(AV4-AT11)","v":{"$error":"#DIV/0!"}},{"$f":"IF(AU14=0,0,(AU14*((LOG(AU14))/LOG(2))))","v":{"$error":"#DIV/0!"}}]
[21,1019,11,1028,11,1036,null,null,null,null,0,211,null,null,null,{"$f":"SUM(P7:P14)","v":1},{"$f":"-SUM(Q7:Q14)","v":1.2322329066548399},null,null,null,null,{"$f":"SUM(V7:V14)","v":1},{"$f":"-SUM(W7:W14)","v":2},null,null,null,{"$f":"SUM(AA7:AA14)","v":1},{"$f":"-SUM(AB7:AB14)","v":1.5},null,null,null,{"$f":"SUM(AF7:AF14)","v":1},{"$f":"-SUM(AG7:AG14)","v":0},null,null,null,{"$f":"SUM(AK7:AK14)","v":{"$error":"#DIV/0!"}},{"$f":"-SUM(AL7:AL14)","v":{"$error":"#DIV/0!"}},null,null,null,{"$f":"SUM(AP7:AP14)","v":1},{"$f":"-SUM(AQ7:AQ14)","v":0},null,null,null,{"$f":"SUM(AU7:AU14)","v":{"$error":"#DIV/0!"}},{"$f":"-SUM(AV7:AV14)","v":{"$error":"#DIV/0!"}}]
[21,1166,22,1175,24,1181,null,null,null,null,0,222,null,null,null,"U=",{"$f":"Q15/(LOG(Q4)/LOG(2))","v":0.22063405197362171},null,null,null,null,"U1=",{"$f":"W15/(LOG(W4)/LOG(2))","v":0.66666666666666663},null,null,null,"U2=",{"$f":"AB15/(LOG(AB4)/LOG(2))","v":0.5},null,null,null,"U3=",{"$f":"AG15/(LOG(AG4)/LOG(2))","v":0},null,null,null,"U4=",{"$f":"AL15/(LOG(AL4)/LOG(2))","v":{"$error":"#DIV/0!"}},null,null,null,"U5=",{"$f":"AQ15/(LOG(AQ4)/LOG(2))","v":0},null,null,null,"U6=",{"$f":"AV15/(LOG(AV4)/LOG(2))","v":{"$error":"#DIV/0!"}}]
[21,1287,22,1309,24,1311,null,null,null,null,0,222]
[12,1427,13,1434,13,1442,null,null,null,null,0,111]
[21,1543,11,1551,11,1558,null,null,null,null,0,211,null,"Total Target Seq"]
[21,1708,11,1717,11,1723,null,null,null,null,0,211,null,{"$f":"COUNTIF(L7:L54,G3)","v":38},null,8,8,8,8,8,8]
[21,1817,11,1827,11,1832,null,null,null,null,0,211,null,null,null,"% of reinforcement given in 6 equal intervals based on number of trials "]
[12,1939,24,1948,24,1953,null,null,null,null,0,122,null,null,null,"%_1","%_2","%_3","%_4","%_5","%_6"]
[21,2050,11,2058,11,2062,null,null,null,null,0,211,null,null,"target sequence",{"$f":"$G$3","v":211},{"$f":"$G$3","v":211},{"$f":"$G$3","v":211},{"$f":"$G$3","v":211},{"$f":"$G$3","v":211},{"$f":"$G$3","v":211}]
[21,2161,11,2169,11,2174,null,null,null,null,0,211,null,null,"total reinforcement",{"$f":"U11","v":4},{"$f":"Z11","v":4},{"$f":"AE11","v":7},{"$f":"AJ11","v":8},{"$f":"AO11","v":7},{"$f":"AT11","v":8}]
[21,2267,11,2275,11,2282,null,null,null,null,0,211,null,null,"% target"]
[21,2376,11,2388,11,2398,null,null,null,null,0,211,null,null,"CCRF"]
[21,2489,11,2497,11,2505,null,null,null,null,0,211,null,null,"% CCRf"]
[21,2599,22,2601,13,2610,null,null,null,null,0,221,null,null,"average response rate",{"$f":"F14/P20","v":115.25},{"$f":"(F22-F14)/Q20","v":128.875},{"$f":"(F30-F22)/R20","v":110},{"$f":"(F38-F30)/S20","v":115.125},{"$f":"(F46-F38)/T20","v":110},{"$f":"(F54-F46)/U20","v":111}]
[21,2711,11,2721,11,2725,null,null,null,null,0,211]
[21,2815,11,2828,11,2833,null,null,null,null,0,211]
[21,2926,11,2935,11,2940,null,null,null,null,0,211]
[21,3031,11,3038,11,3046,null,null,null,null,0,211]
[21,3140,11,3148,11,3155,null,null,null,null,0,211]
[21,3248,11,3256,11,3272,null,null,null,null,0,211]
[21,3412,11,3421,11,3429,null,null,null,null,0,211]
[21,3522,11,3530,11,3534,null,null,null,null,0,211]
[21,3628,11,3635,11,3640,null,null,null,null,0,211]
[21,3732,11,3746,11,3754,null,null,null,null,0,211]
[21,3850,11,3863,11,3870,null,null,null,null,0,211]
[21,3959,22,3965,13,3974,null,null,null,null,0,221]
[21,4073,11,4082,11,4090,null,null,null,null,0,211]
[21,4180,11,4191,11,4198,null,null,null,null,0,211]
[21,4289,11,4297,11,4324,null,null,null,null,0,211]
[21,4414,11,4423,11,4424,null,null,null,null,0,211]
[21,4518,11,4525,11,4530,null,null,null,null,0,211]
[21,4619,11,4627,11,4634,null,null,null,null,0,211]
[21,4738,11,4746,11,4753,null,null,null,null,0,211]
[21,4845,11,4853,11,4858,null,null,null,null,0,211]
[21,4959,11,4967,11,4972,null,null,null,null,0,211]
[21,5076,11,5084,11,5089,null,null,null,null,0,211]
[21,5182,11,5194,11,5207,null,null,null,null,0,211]
[21,5302,11,5310,11,5314,null,null,null,null,0,211]
[21,5406,11,5414,11,5418,null,null,null,null,0,211]
[21,5510,11,5518,11,5522,null,null,null,null,1,211]

{"sheet":"!2011-06-19_14h06m.Subject 53","index":27,"n_rows":69,"n_cols":48,"rows_kept":69,"cut":false,"hidden":false,"merged":[[4,39,4,42],[5,39,5,40],[4,44,4,47],[5,44,5,45],[4,24,4,27],[5,24,5,25],[4,29,4,32],[5,29,5,30],[4,34,4,37],[5,34,5,35],[1,1,1,2],[5,13,5,14],[18,13,18,14],[19,13,19,14],[4,19,4,22],[5,19,5,20]]}
["Report for:!2011-06-19_14h06m.Subject 53"]
["Date","2011-06-19",null,null,null,"Group",0]
["Hen",53,null,null,null,"Correct Sequence",{"$f":"Start!J2","v":211},null,null,null,null,null,null,null,null,"Total Sequences in Data",{"$f":"4994-COUNTBLANK(L7:L5000)","v":63},null,null,null,null,"Total Sequences in Block Data",{"$f":"COUNTA(L7:L17)","v":11},null,null,null,"Total Sequences in Block Data",{"$f":"COUNTA(L18:L27)","v":10},null,null,null,"Total Sequences in Block Data",{"$f":"COUNTA(L28:L38)","v":11},null,null,null,"Total Sequences in Block Data",{"$f":"COUNTA(L39:L48)","v":10},null,null,null,"Total Sequences in Block Data",{"$f":"COUNTA(L49:L59)","v":11},null,null,null,"Total Sequences in Block Data",{"$f":"COUNTA(L60:L69)","v":10}]
["Program",0,null,null,null,null,null,null,null,null,null,null,null,null,null,"Total Sequences in Summary",{"$f":"SUM(O7:O14)","v":63},null,null,null,null,"Total Sequences in Block Summary",{"$f":"SUM(U7:U14)","v":11},null,null,null,"Total Sequences in Block Summary",{"$f":"SUM(Z7:Z14)","v":10},null,null,null,"Total Sequences in Block Summary",{"$f":"SUM(AE7:AE14)","v":11},null,null,null,"Total Sequences in Block Summary",{"$f":"SUM(AJ7:AJ14)","v":10},null,null,null,"Total Sequences in Block Summary",{"$f":"SUM(AO7:AO14)","v":11},null,null,null,"Total Sequences in Block Summary",{"$f":"SUM(AT7:AT14)","v":10}]
[null,null,null,null,null,null,null,null,null,null,null,null,null,null,null,null,null,null,null,"Block 1",null,null,null,null,"Block 2",null,null,null,null,"Block 3",null,null,null,null,"Block 4",null,null,null,null,"Block 5",null,null,null,null,"Block 6"]
["Sequence\nComponent\n1","Time\n1","Sequence\nComponent\n2","Time\n2","Sequence\nComponent\n3","Time\n3","Sequence\nComponent\n4","Time\n4","Sequence\nComponent\n5","Time\n5","Correct?\n0=No 1=Yes","Sequence",null,"Frequency",null,"Relative Frequency","Variability",null,null,"Frequency",null,"Relative Frequency","Variability",null,"Frequency",null,"Relative Frequency","Variability",null,"Frequency",null,"Relative Frequency","Variability",null,"Frequency",null,"Relative Frequency","Variability",null,"Frequency",null,"Relative Frequency","Variability",null,"Frequency",null,"Relative Frequency","Variability"]
[12,15,13,27,13,91,null,null,null,null,0,111,null,111,{"$f":"COUNTIF($L$7:$L$500,N7)","v":4},{"$f":"O7/$Q$4","v":6.3492063492063489E-2},{"$f":"IF(P7=0,0,(P7*((LOG(P7))/LOG(2))))","v":-0.25252570942856611},null,null,{"$f":"N7","v":111},{"$f":"COUNTIF(L7:L17,T7)","v":1},{"$f":"U7/(W4-U11)","v":0.25},{"$f":"IF(V7=0,0,(V7*((LOG(V7))/LOG(2))))","v":-0.5},null,{"$f":"N7","v":111},{"$f":"COUNTIF(L18:L27,Y7)","v":0},{"$f":"Z7/(AB4-Z11)","v":0},{"$f":"IF(AA7=0,0,(AA7*((LOG(AA7))/LOG(2))))","v":0},null,{"$f":"N7","v":111},{"$f":"COUNTIF(L28:L38,AD7)","v":0},{"$f":"AE7/(AG4-AE11)","v":0},{"$f":"IF(AF7=0,0,(AF7*((LOG(AF7))/LOG(2))))","v":0},null,{"$f":"N7","v":111},{"$f":"COUNTIF(L39:L48,AI7)","v":0},{"$f":"AJ7/(AL4-AJ11)","v":0},{"$f":"IF(AK7=0,0,(AK7*((LOG(AK7))/LOG(2))))","v":0},null,{"$f":"N7","v":111},{"$f":"COUNTIF(L49:L59,AN7)","v":2},{"$f":"AO7/(AQ4-AO11)","v":0.4},{"$f":"IF(AP7=0,0,(AP7*((LOG(AP7))/LOG(2))))","v":-0.52877123795494496},null,{"$f":"N7","v":111},{"$f":"COUNTIF(L60:L69,AS7)","v":1},{"$f":"AT7/(AV4-AT11)","v":0.5},{"$f":"IF(AU7=0,0,(AU7*((LOG(AU7))/LOG(2))))","v":-0.5}]
[21,212,22,231,24,252,null,null,null,null,0,222,null,112,{"$f":"COUNTIF($L$7:$L$500,N8)","v":2},{"$f":"O8/$Q$4","v":3.1746031746031744E-2},{"$f":"IF(P8=0,0,(P8*((LOG(P8))/LOG(2))))","v":-0.15800888646031477},null,null,{"$f":"N8","v":112},{"$f":"COUNTIF(L7:L17,T8)","v":0},{"$f":"U8/(W4-U11)","v":0},{"$f":"IF(V8=0,0,(V8*((LOG(V8))/LOG(2))))","v":0},null,{"$f":"N8","v":112},{"$f":"COUNTIF(L18:L27,Y8)","v":0},{"$f":"Z8/(AB4-Z11)","v":0},{"$f":"IF(AA8=0,0,(AA8*((LOG(AA8))/LOG(2))))","v":0},null,{"$f":"N8","v":112},{"$f":"COUNTIF(L28:L38,AD8)","v":0},{"$f":"AE8/(AG4-AE11)","v":0},{"$f":"IF(AF8=0,0,(AF8*((LOG(AF8))/LOG(2))))","v":0},null,{"$f":"N8","v":112},{"$f":"COUNTIF(L39:L48,AI8)","v":1},{"$f":"AJ8/(AL4-AJ11)","v":0.2},{"$f":"IF(AK8=0,0,(AK8*((LOG(AK8))/LOG(2))))","v":-0.46438561897747244},null,{"$f":"N8","v":112},{"$f":"COUNTIF(L49:L59,AN8)","v":1},{"$f":"AO8/(AQ4-AO11)","v":0.2},{"$f":"IF(AP8=0,0,(AP8*((LOG(AP8))/LOG(2))))","v":-0.46438561897747244},null,{"$f":"N8","v":112},{"$f":"COUNTIF(L60:L69,AS8)","v":0},{"$f":"AT8/(AV4-AT11)","v":0},{"$f":"IF(AU8=0,0,(AU8*((LOG(AU8))/LOG(2))))","v":0}]
[21,361,11,369,11,378,null,null,null,null,0,211,null,121,{"$f":"COUNTIF($L$7:$L$500,N9)","v":1},{"$f":"O9/$Q$4","v":1.5873015873015872E-2},{"$f":"IF(P9=0,0,(P9*((LOG(P9))/LOG(2))))","v":-9.4877459103173273E-2},null,null,{"$f":"N9","v":121},{"$f":"COUNTIF(L7:L17,T9)","v":1},{"$f":"U9/(W4-U11)","v":0.25},{"$f":"IF(V9=0,0,(V9*((LOG(V9))/LOG(2))))","v":-0.5},null,{"$f":"N9","v":121},{"$f":"COUNTIF(L18:L27,Y9)","v":0},{"$f":"Z9/(AB4-Z11)","v":0},{"$f":"IF(AA9=0,0,(AA9*((LOG(AA9))/LOG(2))))","v":0},null,{"$f":"N9","v":121},{"$f":"COUNTIF(L28:L38,AD9)","v":0},{"$f":"AE9/(AG4-AE11)","v":0},{"$f":"IF(AF9=0,0,(AF9*((LOG(AF9))/LOG(2))))","v":0},null,{"$f":"N9","v":121},{"$f":"COUNTIF(L39:L48,AI9)","v":0},{"$f":"AJ9/(AL4-AJ11)","v":0},{"$f":"IF(AK9=0,0,(AK9*((LOG(AK9))/LOG(2))))","v":0},null,{"$f":"N9","v":121},{"$f":"COUNTIF(L49:L59,AN9)","v":0},{"$f":"AO9/(AQ4-AO11)","v":0},{"$f":"IF(AP9=0,0,(AP9*((LOG(AP9))/LOG(2))))","v":0},null,{"$f":"N9","v":121},{"$f":"COUNTIF(L60:L69,AS9)","v":0},{"$f":"AT9/(AV4-AT11)","v":0},{"$f":"IF(AU9=0,0,(AU9*((LOG(AU9))/LOG(2))))","v":0}]
[21,482,11,495,22,509,null,null,null,null,0,212,null,122,{"$f":"COUNTIF($L$7:$L$500,N10)","v":3},{"$f":"O10/$Q$4","v":4.7619047619047616E-2},{"$f":"IF(P10=0,0,(P10*((LOG(P10))/LOG(2))))","v":-0.20915797251327431},null,null,{"$f":"N10","v":122},{"$f":"COUNTIF(L7:L17,T10)","v":0},{"$f":"U10/(W4-U11)","v":0},{"$f":"IF(V10=0,0,(V10*((LOG(V10))/LOG(2))))","v":0},null,{"$f":"N10","v":122},{"$f":"COUNTIF(L18:L27,Y10)","v":0},{"$f":"Z10/(AB4-Z11)","v":0},{"$f":"IF(AA10=0,0,(AA10*((LOG(AA10))/LOG(2))))","v":0},null,{"$f":"N10","v":122},{"$f":"COUNTIF(L28:L38,AD10)","v":2},{"$f":"AE10/(AG4-AE11)","v":0.25},{"$f":"IF(AF10=0,0,(AF10*((LOG(AF10))/LOG(2))))","v":-0.5},null,{"$f":"N10","v":122},{"$f":"COUNTIF(L39:L48,AI10)","v":1},{"$f":"AJ10/(AL4-AJ11)","v":0.2},{"$f":"IF(AK10=0,0,(AK10*((LOG(AK10))/LOG(2))))","v":-0.46438561897747244},null,{"$f":"N10","v":122},{"$f":"COUNTIF(L49:L59,AN10)","v":0},{"$f":"AO10/(AQ4-AO11)","v":0},{"$f":"IF(AP10=0,0,(AP10*((LOG(AP10))/LOG(2))))","v":0},null,{"$f":"N10","v":122},{"$f":"COUNTIF(L60:L69,AS10)","v":0},{"$f":"AT10/(AV4-AT11)","v":0},{"$f":"IF(AU10=0,0,(AU10*((LOG(AU10))/LOG(2))))","v":0}]
[12,616,24,626,13,641,null,null,null,null,0,121,null,211,{"$f":"COUNTIF($L$7:$L$500,N11)","v":36},{"$f":"O11/$Q$4","v":0.5714285714285714},{"$f":"IF(P11=0,0,(P11*((LOG(P11))/LOG(2))))","v":-0.46134566974720237},null,null,{"$f":"N11","v":211},{"$f":"COUNTIF(L7:L17,T11)","v":7},null,null,null,{"$f":"N11","v":211},{"$f":"COUNTIF(L18:L27,Y11)","v":7},null,null,null,{"$f":"N11","v":211},{"$f":"COUNTIF(L28:L38,AD11)","v":3},null,null,null,{"$f":"N11","v":211},{"$f":"COUNTIF(L39:L48,AI11)","v":5},null,null,null,{"$f":"N11","v":211},{"$f":"COUNTIF(L49:L59,AN11)","v":6},null,null,null,{"$f":"N11","v":211},{"$f":"COUNTIF(L60:L69,AS11)","v":8}]
[21,746,11,756,11,774,null,null,null,null,0,211,null,212,{"$f":"COUNTIF($L$7:$L$500,N12)","v":3},{"$f":"O12/$Q$4","v":4.7619047619047616E-2},{"$f":"IF(P12=0,0,(P12*((LOG(P12))/LOG(2))))","v":-0.20915797251327431},null,null,{"$f":"N12","v":212},{"$f":"COUNTIF(L7:L17,T12)","v":1},{"$f":"U12/(W4-U11)","v":0.25},{"$f":"IF(V12=0,0,(V12*((LOG(V12))/LOG(2))))","v":-0.5},null,{"$f":"N12","v":212},{"$f":"COUNTIF(L18:L27,Y12)","v":1},{"$f":"Z12/(AB4-Z11)","v":0.33333333333333331},{"$f":"IF(AA12=0,0,(AA12*((LOG(AA12))/LOG(2))))","v":-0.52832083357371862},null,{"$f":"N12","v":212},{"$f":"COUNTIF(L28:L38,AD12)","v":0},{"$f":"AE12/(AG4-AE11)","v":0},{"$f":"IF(AF12=0,0,(AF12*((LOG(AF12))/LOG(2))))","v":0},null,{"$f":"N12","v":212},{"$f":"COUNTIF(L39:L48,AI12)","v":0},{"$f":"AJ12/(AL4-AJ11)","v":0},{"$f":"IF(AK12=0,0,(AK12*((LOG(AK12))/LOG(2))))","v":0},null,{"$f":"N12","v":212},{"$f":"COUNTIF(L49:L59,AN12)","v":1},{"$f":"AO12/(AQ4-AO11)","v":0.2},{"$f":"IF(AP12=0,0,(AP12*((LOG(AP12))/LOG(2))))","v":-0.46438561897747244},null,{"$f":"N12","v":212},{"$f":"COUNTIF(L60:L69,AS12)","v":0},{"$f":"AT12/(AV4-AT11)","v":0},{"$f":"IF(AU12=0,0,(AU12*((LOG(AU12))/LOG(2))))","v":0}]
[21,903,11,923,11,935,null,null,null,null,0,211,null,221,{"$f":"COUNTIF($L$7:$L$500,N13)","v":7},{"$f":"O13/$Q$4","v":0.1111111111111111},{"$f":"IF(P13=0,0,(P13*((LOG(P13))/LOG(2))))","v":-0.3522138890491458},null,null,{"$f":"N13","v":221},{"$f":"COUNTIF(L7:L17,T13)","v":0},{"$f":"U13/(W4-U11)","v":0},{"$f":"IF(V13=0,0,(V13*((LOG(V13))/LOG(2))))","v":0},null,{"$f":"N13","v":221},{"$f":"COUNTIF(L18:L27,Y13)","v":2},{"$f":"Z13/(AB4-Z11)","v":0.66666666666666663},{"$f":"IF(AA13=0,0,(AA13*((LOG(AA13))/LOG(2))))","v":-0.38997500048077083},null,{"$f":"N13","v":221},{"$f":"COUNTIF(L28:L38,AD13)","v":3},{"$f":"AE13/(AG4-AE11)","v":0.375},{"$f":"IF(AF13=0,0,(AF13*((LOG(AF13))/LOG(2))))","v":-0.53063906222956647},null,{"$f":"N13","v":221},{"$f":"COUNTIF(L39:L48,AI13)","v":0},{"$f":"AJ13/(AL4-AJ11)","v":0},{"$f":"IF(AK13=0,0,(AK13*((LOG(AK13))/LOG(2))))","v":0},null,{"$f":"N13","v":221},{"$f":"COUNTIF(L49:L59,AN13)","v":1},{"$f":"AO13/(AQ4-AO11)","v":0.2},{"$f":"IF(AP13=0,0,(AP13*((LOG(AP13))/LOG(2))))","v":-0.46438561897747244},null,{"$f":"N13","v":221},{"$f":"COUNTIF(L60:L69,AS13)","v":1},{"$f":"AT13/(AV4-AT11)","v":0.5},{"$f":"IF(AU13=0,0,(AU13*((LOG(AU13))/LOG(2))))","v":-0.5}]
[21,1035,11,1045,11,1055,null,null,null,null,0,211,null,222,{"$f":"COUNTIF($L$7:$L$500,N14)","v":7},{"$f":"O14/$Q$4","v":0.1111111111111111},{"$f":"IF(P14=0,0,(P14*((LOG(P14))/LOG(2))))","v":-0.3522138890491458},null,null,{"$f":"N14","v":222},{"$f":"COUNTIF(L7:L17,T14)","v":1},{"$f":"U14/(W4-U11)","v":0.25},{"$f":"IF(V14=0,0,(V14*((LOG(V14))/LOG(2))))","v":-0.5},null,{"$f":"N14","v":222},{"$f":"COUNTIF(L18:L27,Y14)","v":0},{"$f":"Z14/(AB4-Z11)","v":0},{"$f":"IF(AA14=0,0,(AA14*((LOG(AA14))/LOG(2))))","v":0},null,{"$f":"N14","v":222},{"$f":"COUNTIF(L28:L38,AD14)","v":3},{"$f":"AE14/(AG4-AE11)","v":0.375},{"$f":"IF(AF14=0,0,(AF14*((LOG(AF14))/LOG(2))))","v":-0.53063906222956647},null,{"$f":"N14","v":222},{"$f":"COUNTIF(L39:L48,AI14)","v":3},{"$f":"AJ14/(AL4-AJ11)","v":0.6},{"$f":"IF(AK14=0,0,(AK14*((LOG(AK14))/LOG(2))))","v":-0.44217935649972373},null,{"$f":"N14","v":222},{"$f":"COUNTIF(L49:L59,AN14)","v":0},{"$f":"AO14/(AQ4-AO11)","v":0},{"$f":"IF(AP14=0,0,(AP14*((LOG(AP14))/LOG(2))))","v":0},null,{"$f":"N14","v":222},{"$f":"COUNTIF(L60:L69,AS14)","v":0},{"$f":"AT14/(AV4-AT11)","v":0},{"$f":"IF(AU14=0,0,(AU14*((LOG(AU14))/LOG(2))))","v":0}]
[21,1156,11,1165,11,1173,null,null,null,null,0,211,null,null,null,{"$f":"SUM(P7:P14)","v":1},{"$f":"-SUM(Q7:Q14)","v":2.0895014478640968},null,null,null,null,{"$f":"SUM(V7:V14)","v":1},{"$f":"-SUM(W7:W14)","v":2},null,null,null,{"$f":"SUM(AA7:AA14)","v":1},{"$f":"-SUM(AB7:AB14)","v":0.91829583405448945},null,null,null,{"$f":"SUM(AF7:AF14)","v":1},{"$f":"-SUM(AG7:AG14)","v":1.5612781244591329},null,null,null,{"$f":"SUM(AK7:AK14)","v":1},{"$f":"-SUM(AL7:AL14)","v":1.3709505944546687},null,null,null,{"$f":"SUM(AP7:AP14)","v":1},{"$f":"-SUM(AQ7:AQ14)","v":1.9219280948873623},null,null,null,{"$f":"SUM(AU7:AU14)","v":1},{"$f":"-SUM(AV7:AV14)","v":1}]
[21,1293,11,1303,11,1310,null,null,null,null,0,211,null,null,null,"U=",{"$f":"Q15/(LOG(Q4)/LOG(2))","v":0.34957396585178113},null,null,null,null,"U1=",{"$f":"W15/(LOG(W4)/LOG(2))","v":0.57812965263577565},null,null,null,"U2=",{"$f":"AB15/(LOG(AB4)/LOG(2))","v":0.27643459094367495},null,null,null,"U3=",{"$f":"AG15/(LOG(AG4)/LOG(2))","v":0.45131058988069689},null,null,null,"U4=",{"$f":"AL15/(LOG(AL4)/LOG(2))","v":0.41269725150422137},null,null,null,"U5=",{"$f":"AQ15/(LOG(AQ4)/LOG(2))","v":0.55556181094408441},null,null,null,"U6=",{"$f":"AV15/(LOG(AV4)/LOG(2))","v":0.3010299956639812}]
[21,1435,11,1448,11,1469,null,null,null,null,0,211]
[21,1571,11,1580,11,1585,null,null,null,null,0,211]
[21,1676,11,1689,11,1704,null,null,null,null,0,211,null,"Total Target Seq"]
[21,1805,11,1819,11,1826,null,null,null,null,0,211,null,{"$f":"COUNTIF(L7:L69,G3)","v":36},null,11,10,11,10,11,10]
[21,1918,11,1927,22,1939,null,null,null,null,0,212,null,null,null,"% of reinforcement given in 6 equal intervals based on number of trials "]
[21,2043,11,2052,11,2060,null,null,null,null,0,211,null,null,null,"%_1","%_2","%_3","%_4","%_5","%_6"]
[21,2170,11,2184,11,2199,null,null,null,null,0,211,null,null,"target sequence",{"$f":"$G$3","v":211},{"$f":"$G$3","v":211},{"$f":"$G$3","v":211},{"$f":"$G$3","v":211},{"$f":"$G$3","v":211},{"$f":"$G$3","v":211}]
[21,2294,22,2317,13,2330,null,null,null,null,0,221,null,null,"total reinforcement",{"$f":"U11","v":7},{"$f":"Z11","v":7},{"$f":"AE11","v":3},{"$f":"AJ11","v":5},{"$f":"AO11","v":6},{"$f":"AT11","v":8}]
[21,2437,22,2448,13,2459,null,null,null,null,0,221,null,null,"% target"]
[21,2565,11,2575,11,2580,null,null,null,null,0,211,null,null,"CCRF"]
[21,2672,11,2683,11,2694,null,null,null,null,0,211,null,null,"% CCRf"]
[21,2784,22,2793,13,2802,null,null,null,null,0,221,null,null,"average response rate",{"$f":"F17/P20","v":133.54545454545453},{"$f":"(F27-F17)/Q20","v":122.5},{"$f":"(F38-F27)/R20","v":139.54545454545453},{"$f":"(F48-F38)/S20","v":130.19999999999999},{"$f":"(F59-F48)/T20","v":131.81818181818181},{"$f":"(F69-F59)/U20","v":120.2}]
[21,2906,22,2955,13,2994,null,null,null,null,0,221]
[21,3095,11,3105,11,3113,null,null,null,null,0,211]
[12,3229,24,3239,24,3249,null,null,null,null,0,122]
[12,3361,24,3372,24,3381,null,null,null,null,0,122]
[21,3519,22,3537,24,3545,null,null,null,null,0,222]
[21,3688,11,3700,11,3711,null,null,null,null,0,211]
[21,3817,11,3829,11,3844,null,null,null,null,0,211]
[21,3958,22,3966,24,3975,null,null,null,null,0,222]
[21,4080,22,4089,13,4099,null,null,null,null,0,221]
[21,4211,22,4220,24,4229,null,null,null,null,0,222]
[21,4340,11,4349,11,4353,null,null,null,null,0,211]
[12,4463,13,4475,24,4493,null,null,null,null,0,112]
[21,4606,22,4626,24,4640,null,null,null,null,0,222]
[21,4756,11,4768,11,4776,null,null,null,null,0,211]
[12,4883,24,4895,24,4903,null,null,null,null,0,122]
[21,5007,11,5027,11,5032,null,null,null,null,0,211]
[21,5125,11,5137,11,5155,null,null,null,null,0,211]
[21,5256,22,5279,24,5288,null,null,null,null,0,222]
[21,5390,22,5399,24,5404,null,null,null,null,0,222]
[21,5511,11,5522,11,5531,null,null,null,null,0,211]
[21,5630,22,5649,13,5667,null,null,null,null,0,221]
[21,5769,11,5785,11,5797,null,null,null,null,0,211]
[12,5906,13,5910,13,5921,null,null,null,null,0,111]
[21,6038,11,6050,11,6062,null,null,null,null,0,211]
[21,6154,11,6164,22,6183,null,null,null,null,0,212]
[21,6286,11,6298,11,6319,null,null,null,null,0,211]
[12,6422,13,6430,13,6440,null,null,null,null,0,111]
[21,6542,11,6551,11,6556,null,null,null,null,0,211]
[21,6663,11,6673,11,6688,null,null,null,null,0,211]
[12,6805,13,6815,24,6833,null,null,null,null,0,112]
[21,6945,11,6963,11,6981,null,null,null,null,0,211]
[21,7086,22,7087,13,7102,null,null,null,null,0,221]
[21,7206,11,7218,11,7226,null,null,null,null,0,211]
[21,7332,11,7352,11,7361,null,null,null,null,0,211]
[21,7456,11,7467,11,7475,null,null,null,null,0,211]
[21,7578,11,7589,11,7597,null,null,null,null,0,211]
[21,7698,11,7709,11,7717,null,null,null,null,0,211]
[12,7823,13,7828,13,7835,null,null,null,null,0,111]
[21,7937,11,7947,11,7954,null,null,null,null,0,211]
[21,8050,11,8060,11,8069,null,null,null,null,0,211]
[21,8162,11,8174,11,8183,null,null,null,null,1,211]

{"sheet":"!2011-06-20_09h24m.Subject 53","index":28,"n_rows":137,"n_cols":48,"rows_kept":137,"cut":false,"hidden":false,"merged":[[4,39,4,42],[5,39,5,40],[4,44,4,47],[5,44,5,45],[4,24,4,27],[5,24,5,25],[4,29,4,32],[5,29,5,30],[4,34,4,37],[5,34,5,35],[1,1,1,2],[5,13,5,14],[18,13,18,14],[19,13,19,14],[4,19,4,22],[5,19,5,20]]}
["Report for:!2011-06-20_09h24m.Subject 53"]
["Date","2011-06-20",null,null,null,"Group",0]
["Hen",53,null,null,null,"Correct Sequence",{"$f":"Start!J2","v":211},null,null,null,null,null,null,null,null,"Total Sequences in Data",{"$f":"4994-COUNTBLANK(L7:L5000)","v":131},null,null,null,null,"Total Sequences in Block Data",{"$f":"COUNTA(L7:L28)","v":22},null,null,null,"Total Sequences in Block Data",{"$f":"COUNTA(L29:L50)","v":22},null,null,null,"Total Sequences in Block Data",{"$f":"COUNTA(L51:L71)","v":21},null,null,null,"Total Sequences in Block Data",{"$f":"COUNTA(L72:L93)","v":22},null,null,null,"Total Sequences in Block Data",{"$f":"COUNTA(L94:L115)","v":22},null,null,null,"Total Sequences in Block Data",{"$f":"COUNTA(L116:L137)","v":22}]
["Program",0,null,null,null,null,null,null,null,null,null,null,null,null,null,"Total Sequences in Summary",{"$f":"SUM(O7:O14)","v":131},null,null,null,null,"Total Sequences in Block Summary",{"$f":"SUM(U7:U14)","v":22},null,null,null,"Total Sequences in Block Summary",{"$f":"SUM(Z7:Z14)","v":22},null,null,null,"Total Sequences in Block Summary",{"$f":"SUM(AE7:AE14)","v":21},null,null,null,"Total Sequences in Block Summary",{"$f":"SUM(AJ7:AJ14)","v":22},null,null,null,"Total Sequences in Block Summary",{"$f":"SUM(AO7:AO14)","v":22},null,null,null,"Total Sequences in Block Summary",{"$f":"SUM(AT7:AT14)","v":22}]
[null,null,null,null,null,null,null,null,null,null,null,null,null,null,null,null,null,null,null,"Block 1",null,null,null,null,"Block 2",null,null,null,null,"Block 3",null,null,null,null,"Block 4",null,null,null,null,"Block 5",null,null,null,null,"Block 6"]
["Sequence\nComponent\n1","Time\n1","Sequence\nComponent\n2","Time\n2","Sequence\nComponent\n3","Time\n3","Sequence\nComponent\n4","Time\n4","Sequence\nComponent\n5","Time\n5","Correct?\n0=No 1=Yes","Sequence",null,"Frequency",null,"Relative Frequency","Variability",null,null,"Frequency",null,"Relative Frequency","Variability",null,"Frequency",null,"Relative Frequency","Variability",null,"Frequency",null,"Relative Frequency","Variability",null,"Frequency",null,"Relative Frequency","Variability",null,"Frequency",null,"Relative Frequency","Variability",null,"Frequency",null,"Relative Frequency","Variability"]
[21,64,11,76,11,80,null,null,null,null,0,211,null,111,{"$f":"COUNTIF($L$7:$L$500,N7)","v":0},{"$f":"O7/$Q$4","v":0},{"$f":"IF(P7=0,0,(P7*((LOG(P7))/LOG(2))))","v":0},null,null,{"$f":"N7","v":111},{"$f":"COUNTIF(L7:L28,T7)","v":0},{"$f":"U7/(W4-U11)","v":0},{"$f":"IF(V7=0,0,(V7*((LOG(V7))/LOG(2))))","v":0},null,{"$f":"N7","v":111},{"$f":"COUNTIF(L29:L50,Y7)","v":0},{"$f":"Z7/(AB4-Z11)","v":0},{"$f":"IF(AA7=0,0,(AA7*((LOG(AA7))/LOG(2))))","v":0},null,{"$f":"N7","v":111},{"$f":"COUNTIF(L51:L71,AD7)","v":0},{"$f":"AE7/(AG4-AE11)","v":0},{"$f":"IF(AF7=0,0,(AF7*((LOG(AF7))/LOG(2))))","v":0},null,{"$f":"N7","v":111},{"$f":"COUNTIF(L72:L93,AI7)","v":0},{"$f":"AJ7/(AL4-AJ11)","v":0},{"$f":"IF(AK7=0,0,(AK7*((LOG(AK7))/LOG(2))))","v":0},null,{"$f":"N7","v":111},{"$f":"COUNTIF(L94:L115,AN7)","v":0},{"$f":"AO7/(AQ4-AO11)","v":0},{"$f":"IF(AP7=0,0,(AP7*((LOG(AP7))/LOG(2))))","v":0},null,{"$f":"N7","v":111},{"$f":"COUNTIF(L116:L137,AS7)","v":0},{"$f":"AT7/(AV4-AT11)","v":0},{"$f":"IF(AU7=0,0,(AU7*((LOG(AU7))/LOG(2))))","v":0}]
[21,188,22,210,13,222,null,null,null,null,0,221,null,112,{"$f":"COUNTIF($L$7:$L$500,N8)","v":1},{"$f":"O8/$Q$4","v":7.6335877862595417E-3},{"$f":"IF(P8=0,0,(P8*((LOG(P8))/LOG(2))))","v":-5.3690251920133214E-2},null,null,{"$f":"N8","v":112},{"$f":"COUNTIF(L7:L28,T8)","v":0},{"$f":"U8/(W4-U11)","v":0},{"$f":"IF(V8=0,0,(V8*((LOG(V8))/LOG(2))))","v":0},null,{"$f":"N8","v":112},{"$f":"COUNTIF(L29:L50,Y8)","v":0},{"$f":"Z8/(AB4-Z11)","v":0},{"$f":"IF(AA8=0,0,(AA8*((LOG(AA8))/LOG(2))))","v":0},null,{"$f":"N8","v":112},{"$f":"COUNTIF(L51:L71,AD8)","v":1},{"$f":"AE8/(AG4-AE11)","v":5.8823529411764705E-2},{"$f":"IF(AF8=0,0,(AF8*((LOG(AF8))/LOG(2))))","v":-0.24043899066178465},null,{"$f":"N8","v":112},{"$f":"COUNTIF(L72:L93,AI8)","v":0},{"$f":"AJ8/(AL4-AJ11)","v":0},{"$f":"IF(AK8=0,0,(AK8*((LOG(AK8))/LOG(2))))","v":0},null,{"$f":"N8","v":112},{"$f":"COUNTIF(L94:L115,AN8)","v":0},{"$f":"AO8/(AQ4-AO11)","v":0},{"$f":"IF(AP8=0,0,(AP8*((LOG(AP8))/LOG(2))))","v":0},null,{"$f":"N8","v":112},{"$f":"COUNTIF(L116:L137,AS8)","v":0},{"$f":"AT8/(AV4-AT11)","v":0},{"$f":"IF(AU8=0,0,(AU8*((LOG(AU8))/LOG(2))))","v":0}]
[12,366,24,377,24,385,null,null,null,null,0,122,null,121,{"$f":"COUNTIF($L$7:$L$500,N9)","v":0},{"$f":"O9/$Q$4","v":0},{"$f":"IF(P9=0,0,(P9*((LOG(P9))/LOG(2))))","v":0},null,null,{"$f":"N9","v":121},{"$f":"COUNTIF(L7:L28,T9)","v":0},{"$f":"U9/(W4-U11)","v":0},{"$f":"IF(V9=0,0,(V9*((LOG(V9))/LOG(2))))","v":0},null,{"$f":"N9","v":121},{"$f":"COUNTIF(L29:L50,Y9)","v":0},{"$f":"Z9/(AB4-Z11)","v":0},{"$f":"IF(AA9=0,0,(AA9*((LOG(AA9))/LOG(2))))","v":0},null,{"$f":"N9","v":121},{"$f":"COUNTIF(L51:L71,AD9)","v":0},{"$f":"AE9/(AG4-AE11)","v":0},{"$f":"IF(AF9=0,0,(AF9*((LOG(AF9))/LOG(2))))","v":0},null,{"$f":"N9","v":121},{"$f":"COUNTIF(L72:L93,AI9)","v":0},{"$f":"AJ9/(AL4-AJ11)","v":0},{"$f":"IF(AK9=0,0,(AK9*((LOG(AK9))/LOG(2))))","v":0},null,{"$f":"N9","v":121},{"$f":"COUNTIF(L94:L115,AN9)","v":0},{"$f":"AO9/(AQ4-AO11)","v":0},{"$f":"IF(AP9=0,0,(AP9*((LOG(AP9))/LOG(2))))","v":0},null,{"$f":"N9","v":121},{"$f":"COUNTIF(L116:L137,AS9)","v":0},{"$f":"AT9/(AV4-AT11)","v":0},{"$f":"IF(AU9=0,0,(AU9*((LOG(AU9))/LOG(2))))","v":0}]
[21,494,11,510,11,523,null,null,null,null,0,211,null,122,{"$f":"COUNTIF($L$7:$L$500,N10)","v":2},{"$f":"O10/$Q$4","v":1.5267175572519083E-2},{"$f":"IF(P10=0,0,(P10*((LOG(P10))/LOG(2))))","v":-9.2113328267747346E-2},null,null,{"$f":"N10","v":122},{"$f":"COUNTIF(L7:L28,T10)","v":1},{"$f":"U10/(W4-U11)","v":0.125},{"$f":"IF(V10=0,0,(V10*((LOG(V10))/LOG(2))))","v":-0.375},null,{"$f":"N10","v":122},{"$f":"COUNTIF(L29:L50,Y10)","v":0},{"$f":"Z10/(AB4-Z11)","v":0},{"$f":"IF(AA10=0,0,(AA10*((LOG(AA10))/LOG(2))))","v":0},null,{"$f":"N10","v":122},{"$f":"COUNTIF(L51:L71,AD10)","v":0},{"$f":"AE10/(AG4-AE11)","v":0},{"$f":"IF(AF10=0,0,(AF10*((LOG(AF10))/LOG(2))))","v":0},null,{"$f":"N10","v":122},{"$f":"COUNTIF(L72:L93,AI10)","v":0},{"$f":"AJ10/(AL4-AJ11)","v":0},{"$f":"IF(AK10=0,0,(AK10*((LOG(AK10))/LOG(2))))","v":0},null,{"$f":"N10","v":122},{"$f":"COUNTIF(L94:L115,AN10)","v":0},{"$f":"AO10/(AQ4-AO11)","v":0},{"$f":"IF(AP10=0,0,(AP10*((LOG(AP10))/LOG(2))))","v":0},null,{"$f":"N10","v":122},{"$f":"COUNTIF(L116:L137,AS10)","v":1},{"$f":"AT10/(AV4-AT11)","v":5.5555555555555552E-2},{"$f":"IF(AU10=0,0,(AU10*((LOG(AU10))/LOG(2))))","v":-0.23166250008012845}]
[21,622,22,630,24,636,null,null,null,null,0,222,null,211,{"$f":"COUNTIF($L$7:$L$500,N11)","v":38},{"$f":"O11/$Q$4","v":0.29007633587786258},{"$f":"IF(P11=0,0,(P11*((LOG(P11))/LOG(2))))","v":-0.51792998891272413},null,null,{"$f":"N11","v":211},{"$f":"COUNTIF(L7:L28,T11)","v":14},null,null,null,{"$f":"N11","v":211},{"$f":"COUNTIF(L29:L50,Y11)","v":6},null,null,null,{"$f":"N11","v":211},{"$f":"COUNTIF(L51:L71,AD11)","v":4},null,null,null,{"$f":"N11","v":211},{"$f":"COUNTIF(L72:L93,AI11)","v":3},null,null,null,{"$f":"N11","v":211},{"$f":"COUNTIF(L94:L115,AN11)","v":7},null,null,null,{"$f":"N11","v":211},{"$f":"COUNTIF(L116:L137,AS11)","v":4}]
[21,751,11,760,11,769,null,null,null,null,0,211,null,212,{"$f":"COUNTIF($L$7:$L$500,N12)","v":4},{"$f":"O12/$Q$4","v":3.0534351145038167E-2},{"$f":"IF(P12=0,0,(P12*((LOG(P12))/LOG(2))))","v":-0.15369230539045647},null,null,{"$f":"N12","v":212},{"$f":"COUNTIF(L7:L28,T12)","v":0},{"$f":"U12/(W4-U11)","v":0},{"$f":"IF(V12=0,0,(V12*((LOG(V12))/LOG(2))))","v":0},null,{"$f":"N12","v":212},{"$f":"COUNTIF(L29:L50,Y12)","v":0},{"$f":"Z12/(AB4-Z11)","v":0},{"$f":"IF(AA12=0,0,(AA12*((LOG(AA12))/LOG(2))))","v":0},null,{"$f":"N12","v":212},{"$f":"COUNTIF(L51:L71,AD12)","v":1},{"$f":"AE12/(AG4-AE11)","v":5.8823529411764705E-2},{"$f":"IF(AF12=0,0,(AF12*((LOG(AF12))/LOG(2))))","v":-0.24043899066178465},null,{"$f":"N12","v":212},{"$f":"COUNTIF(L72:L93,AI12)","v":1},{"$f":"AJ12/(AL4-AJ11)","v":5.2631578947368418E-2},{"$f":"IF(AK12=0,0,(AK12*((LOG(AK12))/LOG(2))))","v":-0.22357513228650452},null,{"$f":"N12","v":212},{"$f":"COUNTIF(L94:L115,AN12)","v":1},{"$f":"AO12/(AQ4-AO11)","v":6.6666666666666666E-2},{"$f":"IF(AP12=0,0,(AP12*((LOG(AP12))/LOG(2))))","v":-0.26045937304056793},null,{"$f":"N12","v":212},{"$f":"COUNTIF(L116:L137,AS12)","v":1},{"$f":"AT12/(AV4-AT11)","v":5.5555555555555552E-2},{"$f":"IF(AU12=0,0,(AU12*((LOG(AU12))/LOG(2))))","v":-0.23166250008012845}]
[21,875,11,886,11,891,null,null,null,null,0,211,null,221,{"$f":"COUNTIF($L$7:$L$500,N13)","v":31},{"$f":"O13/$Q$4","v":0.23664122137404581},{"$f":"IF(P13=0,0,(P13*((LOG(P13))/LOG(2))))","v":-0.49203074370738803},null,null,{"$f":"N13","v":221},{"$f":"COUNTIF(L7:L28,T13)","v":4},{"$f":"U13/(W4-U11)","v":0.5},{"$f":"IF(V13=0,0,(V13*((LOG(V13))/LOG(2))))","v":-0.5},null,{"$f":"N13","v":221},{"$f":"COUNTIF(L29:L50,Y13)","v":9},{"$f":"Z13/(AB4-Z11)","v":0.5625},{"$f":"IF(AA13=0,0,(AA13*((LOG(AA13))/LOG(2))))","v":-0.4669171866886993},null,{"$f":"N13","v":221},{"$f":"COUNTIF(L51:L71,AD13)","v":6},{"$f":"AE13/(AG4-AE11)","v":0.35294117647058826},{"$f":"IF(AF13=0,0,(AF13*((LOG(AF13))/LOG(2))))","v":-0.53029423783382934},null,{"$f":"N13","v":221},{"$f":"COUNTIF(L72:L93,AI13)","v":5},{"$f":"AJ13/(AL4-AJ11)","v":0.26315789473684209},{"$f":"IF(AK13=0,0,(AK13*((LOG(AK13))/LOG(2))))","v":-0.50684195225163764},null,{"$f":"N13","v":221},{"$f":"COUNTIF(L94:L115,AN13)","v":3},{"$f":"AO13/(AQ4-AO11)","v":0.2},{"$f":"IF(AP13=0,0,(AP13*((LOG(AP13))/LOG(2))))","v":-0.46438561897747244},null,{"$f":"N13","v":221},{"$f":"COUNTIF(L116:L137,AS13)","v":4},{"$f":"AT13/(AV4-AT11)","v":0.22222222222222221},{"$f":"IF(AU13=0,0,(AU13*((LOG(AU13))/LOG(2))))","v":-0.48220555587606945}]
[21,995,11,1004,11,1009,null,null,null,null,0,211,null,222,{"$f":"COUNTIF($L$7:$L$500,N14)","v":55},{"$f":"O14/$Q$4","v":0.41984732824427479},{"$f":"IF(P14=0,0,(P14*((LOG(P14))/LOG(2))))","v":-0.52567542626491204},null,null,{"$f":"N14","v":222},{"$f":"COUNTIF(L7:L28,T14)","v":3},{"$f":"U14/(W4-U11)","v":0.375},{"$f":"IF(V14=0,0,(V14*((LOG(V14))/LOG(2))))","v":-0.53063906222956647},null,{"$f":"N14","v":222},{"$f":"COUNTIF(L29:L50,Y14)","v":7},{"$f":"Z14/(AB4-Z11)","v":0.4375},{"$f":"IF(AA14=0,0,(AA14*((LOG(AA14))/LOG(2))))","v":-0.52178222159979815},null,{"$f":"N14","v":222},{"$f":"COUNTIF(L51:L71,AD14)","v":9},{"$f":"AE14/(AG4-AE11)","v":0.52941176470588236},{"$f":"IF(AF14=0,0,(AF14*((LOG(AF14))/LOG(2))))","v":-0.48575532695719081},null,{"$f":"N14","v":222},{"$f":"COUNTIF(L72:L93,AI14)","v":13},{"$f":"AJ14/(AL4-AJ11)","v":0.68421052631578949},{"$f":"IF(AK14=0,0,(AK14*((LOG(AK14))/LOG(2))))","v":-0.37459691257539013},null,{"$f":"N14","v":222},{"$f":"COUNTIF(L94:L115,AN14)","v":11},{"$f":"AO14/(AQ4-AO11)","v":0.73333333333333328},{"$f":"IF(AP14=0,0,(AP14*((LOG(AP14))/LOG(2))))","v":-0.32813658311222899},null,{"$f":"N14","v":222},{"$f":"COUNTIF(L116:L137,AS14)","v":12},{"$f":"AT14/(AV4-AT11)","v":0.66666666666666663},{"$f":"IF(AU14=0,0,(AU14*((LOG(AU14))/LOG(2))))","v":-0.38997500048077083}]
[21,1110,11,1119,11,1124,null,null,null,null,0,211,null,null,null,{"$f":"SUM(P7:P14)","v":1},{"$f":"-SUM(Q7:Q14)","v":1.8351320444633612},null,null,null,null,{"$f":"SUM(V7:V14)","v":1},{"$f":"-SUM(W7:W14)","v":1.4056390622295665},null,null,null,{"$f":"SUM(AA7:AA14)","v":1},{"$f":"-SUM(AB7:AB14)","v":0.98869940828849745},null,null,null,{"$f":"SUM(AF7:AF14)","v":1},{"$f":"-SUM(AG7:AG14)","v":1.4969275461145894},null,null,null,{"$f":"SUM(AK7:AK14)","v":1},{"$f":"-SUM(AL7:AL14)","v":1.1050139971135322},null,null,null,{"$f":"SUM(AP7:AP14)","v":1},{"$f":"-SUM(AQ7:AQ14)","v":1.0529815751302694},null,null,null,{"$f":"SUM(AU7:AU14)","v":1},{"$f":"-SUM(AV7:AV14)","v":1.3355055565170972}]
[21,1231,11,1242,11,1246,null,null,null,null,0,211,null,null,null,"U=",{"$f":"Q15/(LOG(Q4)/LOG(2))","v":0.26091592160207283},null,null,null,null,"U1=",{"$f":"W15/(LOG(W4)/LOG(2))","v":0.3152058787839645},null,null,null,"U2=",{"$f":"AB15/(LOG(AB4)/LOG(2))","v":0.22170973631626667},null,null,null,"U3=",{"$f":"AG15/(LOG(AG4)/LOG(2))","v":0.34080586670522811},null,null,null,"U4=",{"$f":"AL15/(LOG(AL4)/LOG(2))","v":0.24779256452668733},null,null,null,"U5=",{"$f":"AQ15/(LOG(AQ4)/LOG(2))","v":0.23612461523785783},null,null,null,"U6=",{"$f":"AV15/(LOG(AV4)/LOG(2))","v":0.29947887325721523}]
[21,1351,11,1360,11,1365,null,null,null,null,0,211]
[21,1459,11,1468,11,1473,null,null,null,null,0,211]
[21,1571,11,1581,11,1587,null,null,null,null,0,211,null,"Total Target Seq"]
[21,1677,11,1686,11,1691,null,null,null,null,0,211,null,{"$f":"COUNTIF(L7:L137,G3)","v":38},null,22,22,21,22,22,22]
[21,1792,11,1800,11,1804,null,null,null,null,0,211,null,null,null,"% of reinforcement given in 6 equal intervals based on number of trials "]
[21,1901,11,1910,11,1915,null,null,null,null,0,211,null,null,null,"%_1","%_2","%_3","%_4","%_5","%_6"]
[21,2008,22,2032,13,2041,null,null,null,null,0,221,null,null,"target sequence",{"$f":"$G$3","v":211},{"$f":"$G$3","v":211},{"$f":"$G$3","v":211},{"$f":"$G$3","v":211},{"$f":"$G$3","v":211},{"$f":"$G$3","v":211}]
[21,2175,22,2181,13,2191,null,null,null,null,0,221,null,null,"total reinforcement",{"$f":"U11","v":14},{"$f":"Z11","v":6},{"$f":"AE11","v":4},{"$f":"AJ11","v":3},{"$f":"AO11","v":7},{"$f":"AT11","v":4}]
[21,2295,22,2304,13,2314,null,null,null,null,0,221,null,null,"% target"]
[21,2419,22,2442,24,2451,null,null,null,null,0,222,null,null,"CCRF"]
[21,2565,11,2575,11,2580,null,null,null,null,0,211,null,null,"% CCRf"]
[21,2678,22,2686,24,2693,null,null,null,null,0,222,null,null,"average response rate",{"$f":"F28/P20","v":122.40909090909091},{"$f":"(F50-F28)/Q20","v":127.5},{"$f":"(F71-F50)/R20","v":125.57142857142857},{"$f":"(F93-F71)/S20","v":128.90909090909091},{"$f":"(F115-F93)/T20","v":127.72727272727273},{"$f":"(F137-F115)/U20","v":144.09090909090909}]
[21,2801,22,2811,13,2820,null,null,null,null,0,221]
[21,2926,11,2935,11,2939,null,null,null,null,0,211]
[21,3034,22,3048,13,3059,null,null,null,null,0,221]
[21,3174,22,3179,24,3184,null,null,null,null,0,222]
[21,3290,22,3299,24,3304,null,null,null,null,0,222]
[21,3408,22,3427,13,3445,null,null,null,null,0,221]
[21,3549,22,3557,24,3565,null,null,null,null,0,222]
[21,3674,22,3682,24,3687,null,null,null,null,0,222]
[21,3805,22,3810,13,3827,null,null,null,null,0,221]
[21,3932,11,3940,11,3946,null,null,null,null,0,211]
[21,4041,22,4046,13,4062,null,null,null,null,0,221]
[21,4164,22,4177,13,4187,null,null,null,null,0,221]
[21,4318,22,4326,24,4331,null,null,null,null,0,222]
[21,4461,22,4469,24,4476,null,null,null,null,0,222]
[21,4593,22,4617,13,4627,null,null,null,null,0,221]
[21,4731,22,4736,13,4748,null,null,null,null,0,221]
[21,4851,11,4864,11,4869,null,null,null,null,0,211]
[21,4959,11,4970,11,4978,null,null,null,null,0,211]
[21,5115,11,5126,11,5135,null,null,null,null,0,211]
[21,5234,11,5243,11,5248,null,null,null,null,0,211]
[21,5341,22,5355,24,5376,null,null,null,null,0,222]
[21,5482,22,5489,13,5498,null,null,null,null,0,221]
[21,5602,22,5620,24,5627,null,null,null,null,0,222]
[21,5736,22,5744,24,5751,null,null,null,null,0,222]
[21,5859,22,5867,13,5876,null,null,null,null,0,221]
[21,5977,22,5994,24,6001,null,null,null,null,0,222]
[21,6099,22,6106,24,6123,null,null,null,null,0,222]
[21,6226,11,6234,11,6239,null,null,null,null,0,211]
[21,6336,22,6341,13,6359,null,null,null,null,0,221]
[21,6474,22,6484,13,6493,null,null,null,null,0,221]
[12,6611,13,6616,24,6629,null,null,null,null,0,112]
[21,6723,22,6729,24,6734,null,null,null,null,0,222]
[21,6837,22,6849,13,6861,null,null,null,null,0,221]
[21,6966,22,6975,24,6980,null,null,null,null,0,222]
[21,7087,22,7104,24,7112,null,null,null,null,0,222]
[21,7231,11,7247,11,7258,null,null,null,null,0,211]
[21,7348,22,7353,24,7370,null,null,null,null,0,222]
[21,7480,11,7489,11,7494,null,null,null,null,0,211]
[21,7600,11,7610,22,7623,null,null,null,null,0,212]
[21,7734,22,7751,24,7759,null,null,null,null,0,222]
[21,7861,22,7869,13,7884,null,null,null,null,0,221]
[21,7990,22,7999,13,8015,null,null,null,null,0,221]
[21,8119,11,8131,11,8135,null,null,null,null,0,211]
[21,8245,11,8257,11,8261,null,null,null,null,0,211]
[21,8367,11,8379,11,8386,null,null,null,null,0,211]
[21,8480,22,8489,13,8498,null,null,null,null,0,221]
[21,8602,22,8606,24,8611,null,null,null,null,0,222]
[21,8733,11,8743,11,8749,null,null,null,null,0,211]
[21,8847,22,8873,24,8880,null,null,null,null,0,222]
[21,8986,22,8993,13,9003,null,null,null,null,0,221]
[21,9137,22,9146,24,9151,null,null,null,null,0,222]
[21,9255,22,9260,24,9266,null,null,null,null,0,222]
[21,9394,22,9399,13,9413,null,null,null,null,0,221]
[21,9537,22,9551,24,9559,null,null,null,null,0,222]
[21,9696,22,9701,24,9706,null,null,null,null,0,222]
[21,9825,22,9830,24,9835,null,null,null,null,0,222]
[21,9937,22,9942,24,9947,null,null,null,null,0,222]
[21,10069,22,10078,24,10083,null,null,null,null,0,222]
[21,10195,22,10200,24,10205,null,null,null,null,0,222]
[21,10315,22,10320,24,10326,null,null,null,null,0,222]
[21,10433,22,10438,24,10443,null,null,null,null,0,222]
[21,10549,11,10560,22,10571,null,null,null,null,0,212]
[21,10703,22,10710,13,10720,null,null,null,null,0,221]
[21,10829,22,10835,24,10843,null,null,null,null,0,222]
[21,10952,22,10962,13,10971,null,null,null,null,0,221]
[21,11082,11,11093,11,11100,null,null,null,null,0,211]
[21,11212,11,11224,22,11238,null,null,null,null,0,212]
[21,11349,22,11364,24,11369,null,null,null,null,0,222]
[21,11475,22,11480,24,11492,null,null,null,null,0,222]
[21,11608,22,11613,24,11618,null,null,null,null,0,222]
[21,11766,22,11774,24,11781,null,null,null,null,0,222]
[21,11890,22,11894,24,11899,null,null,null,null,0,222]
[21,12023,22,12028,24,12033,null,null,null,null,0,222]
[21,12145,11,12157,11,12164,null,null,null,null,0,211]
[21,12263,22,12271,24,12276,null,null,null,null,0,222]
[21,12385,11,12399,11,12415,null,null,null,null,0,211]
[21,12509,22,12515,13,12524,null,null,null,null,0,221]
[21,12665,11,12677,11,12683,null,null,null,null,0,211]
[21,12789,11,12799,11,12808,null,null,null,null,0,211]
[21,12913,22,12923,13,12934,null,null,null,null,0,221]
[21,13040,22,13045,13,13058,null,null,null,null,0,221]
[21,13167,22,13176,24,13181,null,null,null,null,0,222]
[21,13298,22,13305,24,13311,null,null,null,null,0,222]
[21,13414,22,13420,24,13424,null,null,null,null,0,222]
[21,13525,22,13529,24,13534,null,null,null,null,0,222]
[21,13638,11,13650,11,13655,null,null,null,null,0,211]
[21,13757,11,13773,11,13781,null,null,null,null,0,211]
[21,13890,22,13895,24,13900,null,null,null,null,0,222]
[21,14004,22,14008,24,14017,null,null,null,null,0,222]
[21,14129,22,14135,24,14139,null,null,null,null,0,222]
[21,14257,22,14271,24,14279,null,null,null,null,0,222]
[21,14388,22,14393,24,14399,null,null,null,null,0,222]
[21,14503,22,14508,24,14512,null,null,null,null,0,222]
[21,14635,11,14647,22,14665,null,null,null,null,0,212]
[21,14774,11,14791,11,14802,null,null,null,null,0,211]
[21,14904,22,14913,13,14934,null,null,null,null,0,221]
[21,15039,22,15045,24,15049,null,null,null,null,0,222]
[21,15164,22,15185,24,15194,null,null,null,null,0,222]
[21,15301,22,15311,13,15329,null,null,null,null,0,221]
[21,15437,22,15444,24,15449,null,null,null,null,0,222]
[21,15555,22,15560,24,15565,null,null,null,null,0,222]
[21,16041,22,16050,24,16058,null,null,null,null,0,222]
[21,16166,22,16188,24,16195,null,null,null,null,0,222]
[21,16313,11,16326,11,16343,null,null,null,null,0,211]
[21,16439,22,16445,13,16458,null,null,null,null,0,221]
[12,16561,24,16573,24,16586,null,null,null,null,0,122]
[21,16689,11,16698,11,16703,null,null,null,null,0,211]
[21,16799,22,16808,13,16830,null,null,null,null,0,221]
[21,16935,11,16944,11,16951,null,null,null,null,1,211]

{"sheet":"!2011-06-23_09h08m.Subject 53","index":29,"n_rows":69,"n_cols":48,"rows_kept":69,"cut":false,"hidden":false,"merged":[[4,39,4,42],[5,39,5,40],[4,44,4,47],[5,44,5,45],[4,24,4,27],[5,24,5,25],[4,29,4,32],[5,29,5,30],[4,34,4,37],[5,34,5,35],[1,1,1,2],[5,13,5,14],[18,13,18,14],[19,13,19,14],[4,19,4,22],[5,19,5,20]]}
["Report for:!2011-06-23_09h08m.Subject 53"]
["Date","2011-06-23",null,null,null,"Group",0]
["Hen",53,null,null,null,"Correct Sequence",{"$f":"Start!J2","v":211},null,null,null,null,null,null,null,null,"Total Sequences in Data",{"$f":"4994-COUNTBLANK(L7:L5000)","v":63},null,null,null,null,"Total Sequences in Block Data",{"$f":"COUNTA(L7:L17)","v":11},null,null,null,"Total Sequences in Block Data",{"$f":"COUNTA(L18:L27)","v":10},null,null,null,"Total Sequences in Block Data",{"$f":"COUNTA(L28:L38)","v":11},null,null,null,"Total Sequences in Block Data",{"$f":"COUNTA(L39:L48)","v":10},null,null,null,"Total Sequences in Block Data",{"$f":"COUNTA(L49:L59)","v":11},null,null,null,"Total Sequences in Block Data",{"$f":"COUNTA(L60:L69)","v":10}]
["Program",0,null,null,null,null,null,null,null,null,null,null,null,null,null,"Total Sequences in Summary",{"$f":"SUM(O7:O14)","v":63},null,null,null,null,"Total Sequences in Block Summary",{"$f":"SUM(U7:U14)","v":11},null,null,null,"Total Sequences in Block Summary",{"$f":"SUM(Z7:Z14)","v":10},null,null,null,"Total Sequences in Block Summary",{"$f":"SUM(AE7:AE14)","v":11},null,null,null,"Total Sequences in Block Summary",{"$f":"SUM(AJ7:AJ14)","v":10},null,null,null,"Total Sequences in Block Summary",{"$f":"SUM(AO7:AO14)","v":11},null,null,null,"Total Sequences in Block Summary",{"$f":"SUM(AT7:AT14)","v":10}]
[null,null,null,null,null,null,null,null,null,null,null,null,null,null,null,null,null,null,null,"Block 1",null,null,null,null,"Block 2",null,null,null,null,"Block 3",null,null,null,null,"Block 4",null,null,null,null,"Block 5",null,null,null,null,"Block 6"]
["Sequence\nComponent\n1","Time\n1","Sequence\nComponent\n2","Time\n2","Sequence\nComponent\n3","Time\n3","Sequence\nComponent\n4","Time\n4","Sequence\nComponent\n5","Time\n5","Correct?\n0=No 1=Yes","Sequence",null,"Frequency",null,"Relative Frequency","Variability",null,null,"Frequency",null,"Relative Frequency","Variability",null,"Frequency",null,"Relative Frequency","Variability",null,"Frequency",null,"Relative Frequency","Variability",null,"Frequency",null,"Relative Frequency","Variability",null,"Frequency",null,"Relative Frequency","Variability",null,"Frequency",null,"Relative Frequency","Variability"]
[12,31,13,43,13,52,null,null,null,null,0,111,null,111,{"$f":"COUNTIF($L$7:$L$500,N7)","v":4},{"$f":"O7/$Q$4","v":6.3492063492063489E-2},{"$f":"IF(P7=0,0,(P7*((LOG(P7))/LOG(2))))","v":-0.25252570942856611},null,null,{"$f":"N7","v":111},{"$f":"COUNTIF(L7:L17,T7)","v":1},{"$f":"U7/(W4-U11)","v":9.0909090909090912E-2},{"$f":"IF(V7=0,0,(V7*((LOG(V7))/LOG(2))))","v":-0.31449378351248153},null,{"$f":"N7","v":111},{"$f":"COUNTIF(L18:L27,Y7)","v":0},{"$f":"Z7/(AB4-Z11)","v":0},{"$f":"IF(AA7=0,0,(AA7*((LOG(AA7))/LOG(2))))","v":0},null,{"$f":"N7","v":111},{"$f":"COUNTIF(L28:L38,AD7)","v":2},{"$f":"AE7/(AG4-AE11)","v":1},{"$f":"IF(AF7=0,0,(AF7*((LOG(AF7))/LOG(2))))","v":0},null,{"$f":"N7","v":111},{"$f":"COUNTIF(L39:L48,AI7)","v":1},{"$f":"AJ7/(AL4-AJ11)","v":0.33333333333333331},{"$f":"IF(AK7=0,0,(AK7*((LOG(AK7))/LOG(2))))","v":-0.52832083357371862},null,{"$f":"N7","v":111},{"$f":"COUNTIF(L49:L59,AN7)","v":0},{"$f":"AO7/(AQ4-AO11)","v":0},{"$f":"IF(AP7=0,0,(AP7*((LOG(AP7))/LOG(2))))","v":0},null,{"$f":"N7","v":111},{"$f":"COUNTIF(L60:L69,AS7)","v":0},{"$f":"AT7/(AV4-AT11)","v":0},{"$f":"IF(AU7=0,0,(AU7*((LOG(AU7))/LOG(2))))","v":0}]
[12,200,13,208,24,220,null,null,null,null,0,112,null,112,{"$f":"COUNTIF($L$7:$L$500,N8)","v":1},{"$f":"O8/$Q$4","v":1.5873015873015872E-2},{"$f":"IF(P8=0,0,(P8*((LOG(P8))/LOG(2))))","v":-9.4877459103173273E-2},null,null,{"$f":"N8","v":112},{"$f":"COUNTIF(L7:L17,T8)","v":1},{"$f":"U8/(W4-U11)","v":9.0909090909090912E-2},{"$f":"IF(V8=0,0,(V8*((LOG(V8))/LOG(2))))","v":-0.31449378351248153},null,{"$f":"N8","v":112},{"$f":"COUNTIF(L18:L27,Y8)","v":0},{"$f":"Z8/(AB4-Z11)","v":0},{"$f":"IF(AA8=0,0,(AA8*((LOG(AA8))/LOG(2))))","v":0},null,{"$f":"N8","v":112},{"$f":"COUNTIF(L28:L38,AD8)","v":0},{"$f":"AE8/(AG4-AE11)","v":0},{"$f":"IF(AF8=0,0,(AF8*((LOG(AF8))/LOG(2))))","v":0},null,{"$f":"N8","v":112},{"$f":"COUNTIF(L39:L48,AI8)","v":0},{"$f":"AJ8/(AL4-AJ11)","v":0},{"$f":"IF(AK8=0,0,(AK8*((LOG(AK8))/LOG(2))))","v":0},null,{"$f":"N8","v":112},{"$f":"COUNTIF(L49:L59,AN8)","v":0},{"$f":"AO8/(AQ4-AO11)","v":0},{"$f":"IF(AP8=0,0,(AP8*((LOG(AP8))/LOG(2))))","v":0},null,{"$f":"N8","v":112},{"$f":"COUNTIF(L60:L69,AS8)","v":0},{"$f":"AT8/(AV4-AT11)","v":0},{"$f":"IF(AU8=0,0,(AU8*((LOG(AU8))/LOG(2))))","v":0}]
[21,334,22,359,13,369,null,null,null,null,0,221,null,121,{"$f":"COUNTIF($L$7:$L$500,N9)","v":1},{"$f":"O9/$Q$4","v":1.5873015873015872E-2},{"$f":"IF(P9=0,0,(P9*((LOG(P9))/LOG(2))))","v":-9.4877459103173273E-2},null,null,{"$f":"N9","v":121},{"$f":"COUNTIF(L7:L17,T9)","v":1},{"$f":"U9/(W4-U11)","v":9.0909090909090912E-2},{"$f":"IF(V9=0,0,(V9*((LOG(V9))/LOG(2))))","v":-0.31449378351248153},null,{"$f":"N9","v":121},{"$f":"COUNTIF(L18:L27,Y9)","v":0},{"$f":"Z9/(AB4-Z11)","v":0},{"$f":"IF(AA9=0,0,(AA9*((LOG(AA9))/LOG(2))))","v":0},null,{"$f":"N9","v":121},{"$f":"COUNTIF(L28:L38,AD9)","v":0},{"$f":"AE9/(AG4-AE11)","v":0},{"$f":"IF(AF9=0,0,(AF9*((LOG(AF9))/LOG(2))))","v":0},null,{"$f":"N9","v":121},{"$f":"COUNTIF(L39:L48,AI9)","v":0},{"$f":"AJ9/(AL4-AJ11)","v":0},{"$f":"IF(AK9=0,0,(AK9*((LOG(AK9))/LOG(2))))","v":0},null,{"$f":"N9","v":121},{"$f":"COUNTIF(L49:L59,AN9)","v":0},{"$f":"AO9/(AQ4-AO11)","v":0},{"$f":"IF(AP9=0,0,(AP9*((LOG(AP9))/LOG(2))))","v":0},null,{"$f":"N9","v":121},{"$f":"COUNTIF(L60:L69,AS9)","v":0},{"$f":"AT9/(AV4-AT11)","v":0},{"$f":"IF(AU9=0,0,(AU9*((LOG(AU9))/LOG(2))))","v":0}]
[12,468,24,478,24,507,null,null,null,null,0,122,null,122,{"$f":"COUNTIF($L$7:$L$500,N10)","v":2},{"$f":"O10/$Q$4","v":3.1746031746031744E-2},{"$f":"IF(P10=0,0,(P10*((LOG(P10))/LOG(2))))","v":-0.15800888646031477},null,null,{"$f":"N10","v":122},{"$f":"COUNTIF(L7:L17,T10)","v":2},{"$f":"U10/(W4-U11)","v":0.18181818181818182},{"$f":"IF(V10=0,0,(V10*((LOG(V10))/LOG(2))))","v":-0.44716938520678134},null,{"$f":"N10","v":122},{"$f":"COUNTIF(L18:L27,Y10)","v":0},{"$f":"Z10/(AB4-Z11)","v":0},{"$f":"IF(AA10=0,0,(AA10*((LOG(AA10))/LOG(2))))","v":0},null,{"$f":"N10","v":122},{"$f":"COUNTIF(L28:L38,AD10)","v":0},{"$f":"AE10/(AG4-AE11)","v":0},{"$f":"IF(AF10=0,0,(AF10*((LOG(AF10))/LOG(2))))","v":0},null,{"$f":"N10","v":122},{"$f":"COUNTIF(L39:L48,AI10)","v":0},{"$f":"AJ10/(AL4-AJ11)","v":0},{"$f":"IF(AK10=0,0,(AK10*((LOG(AK10))/LOG(2))))","v":0},null,{"$f":"N10","v":122},{"$f":"COUNTIF(L49:L59,AN10)","v":0},{"$f":"AO10/(AQ4-AO11)","v":0},{"$f":"IF(AP10=0,0,(AP10*((LOG(AP10))/LOG(2))))","v":0},null,{"$f":"N10","v":122},{"$f":"COUNTIF(L60:L69,AS10)","v":0},{"$f":"AT10/(AV4-AT11)","v":0},{"$f":"IF(AU10=0,0,(AU10*((LOG(AU10))/LOG(2))))","v":0}]
[21,632,22,655,24,660,null,null,null,null,0,222,null,211,{"$f":"COUNTIF($L$7:$L$500,N11)","v":39},{"$f":"O11/$Q$4","v":0.61904761904761907},{"$f":"IF(P11=0,0,(P11*((LOG(P11))/LOG(2))))","v":-0.42830524572808026},null,null,{"$f":"N11","v":211},{"$f":"COUNTIF(L7:L17,T11)","v":0},null,null,null,{"$f":"N11","v":211},{"$f":"COUNTIF(L18:L27,Y11)","v":5},null,null,null,{"$f":"N11","v":211},{"$f":"COUNTIF(L28:L38,AD11)","v":9},null,null,null,{"$f":"N11","v":211},{"$f":"COUNTIF(L39:L48,AI11)","v":7},null,null,null,{"$f":"N11","v":211},{"$f":"COUNTIF(L49:L59,AN11)","v":9},null,null,null,{"$f":"N11","v":211},{"$f":"COUNTIF(L60:L69,AS11)","v":9}]
[12,775,24,789,13,798,null,null,null,null,0,121,null,212,{"$f":"COUNTIF($L$7:$L$500,N12)","v":2},{"$f":"O12/$Q$4","v":3.1746031746031744E-2},{"$f":"IF(P12=0,0,(P12*((LOG(P12))/LOG(2))))","v":-0.15800888646031477},null,null,{"$f":"N12","v":212},{"$f":"COUNTIF(L7:L17,T12)","v":0},{"$f":"U12/(W4-U11)","v":0},{"$f":"IF(V12=0,0,(V12*((LOG(V12))/LOG(2))))","v":0},null,{"$f":"N12","v":212},{"$f":"COUNTIF(L18:L27,Y12)","v":1},{"$f":"Z12/(AB4-Z11)","v":0.2},{"$f":"IF(AA12=0,0,(AA12*((LOG(AA12))/LOG(2))))","v":-0.46438561897747244},null,{"$f":"N12","v":212},{"$f":"COUNTIF(L28:L38,AD12)","v":0},{"$f":"AE12/(AG4-AE11)","v":0},{"$f":"IF(AF12=0,0,(AF12*((LOG(AF12))/LOG(2))))","v":0},null,{"$f":"N12","v":212},{"$f":"COUNTIF(L39:L48,AI12)","v":1},{"$f":"AJ12/(AL4-AJ11)","v":0.33333333333333331},{"$f":"IF(AK12=0,0,(AK12*((LOG(AK12))/LOG(2))))","v":-0.52832083357371862},null,{"$f":"N12","v":212},{"$f":"COUNTIF(L49:L59,AN12)","v":0},{"$f":"AO12/(AQ4-AO11)","v":0},{"$f":"IF(AP12=0,0,(AP12*((LOG(AP12))/LOG(2))))","v":0},null,{"$f":"N12","v":212},{"$f":"COUNTIF(L60:L69,AS12)","v":0},{"$f":"AT12/(AV4-AT11)","v":0},{"$f":"IF(AU12=0,0,(AU12*((LOG(AU12))/LOG(2))))","v":0}]
[12,911,24,921,24,930,null,null,null,null,0,122,null,221,{"$f":"COUNTIF($L$7:$L$500,N13)","v":9},{"$f":"O13/$Q$4","v":0.14285714285714285},{"$f":"IF(P13=0,0,(P13*((LOG(P13))/LOG(2))))","v":-0.40105070315108626},null,null,{"$f":"N13","v":221},{"$f":"COUNTIF(L7:L17,T13)","v":2},{"$f":"U13/(W4-U11)","v":0.18181818181818182},{"$f":"IF(V13=0,0,(V13*((LOG(V13))/LOG(2))))","v":-0.44716938520678134},null,{"$f":"N13","v":221},{"$f":"COUNTIF(L18:L27,Y13)","v":3},{"$f":"Z13/(AB4-Z11)","v":0.6},{"$f":"IF(AA13=0,0,(AA13*((LOG(AA13))/LOG(2))))","v":-0.44217935649972373},null,{"$f":"N13","v":221},{"$f":"COUNTIF(L28:L38,AD13)","v":0},{"$f":"AE13/(AG4-AE11)","v":0},{"$f":"IF(AF13=0,0,(AF13*((LOG(AF13))/LOG(2))))","v":0},null,{"$f":"N13","v":221},{"$f":"COUNTIF(L39:L48,AI13)","v":1},{"$f":"AJ13/(AL4-AJ11)","v":0.33333333333333331},{"$f":"IF(AK13=0,0,(AK13*((LOG(AK13))/LOG(2))))","v":-0.52832083357371862},null,{"$f":"N13","v":221},{"$f":"COUNTIF(L49:L59,AN13)","v":2},{"$f":"AO13/(AQ4-AO11)","v":1},{"$f":"IF(AP13=0,0,(AP13*((LOG(AP13))/LOG(2))))","v":0},null,{"$f":"N13","v":221},{"$f":"COUNTIF(L60:L69,AS13)","v":1},{"$f":"AT13/(AV4-AT11)","v":1},{"$f":"IF(AU13=0,0,(AU13*((LOG(AU13))/LOG(2))))","v":0}]
[21,1034,22,1058,24,1063,null,null,null,null,0,222,null,222,{"$f":"COUNTIF($L$7:$L$500,N14)","v":5},{"$f":"O14/$Q$4","v":7.9365079365079361E-2},{"$f":"IF(P14=0,0,(P14*((LOG(P14))/LOG(2))))","v":-0.29010728798512331},null,null,{"$f":"N14","v":222},{"$f":"COUNTIF(L7:L17,T14)","v":4},{"$f":"U14/(W4-U11)","v":0.36363636363636365},{"$f":"IF(V14=0,0,(V14*((LOG(V14))/LOG(2))))","v":-0.53070240677719893},null,{"$f":"N14","v":222},{"$f":"COUNTIF(L18:L27,Y14)","v":1},{"$f":"Z14/(AB4-Z11)","v":0.2},{"$f":"IF(AA14=0,0,(AA14*((LOG(AA14))/LOG(2))))","v":-0.46438561897747244},null,{"$f":"N14","v":222},{"$f":"COUNTIF(L28:L38,AD14)","v":0},{"$f":"AE14/(AG4-AE11)","v":0},{"$f":"IF(AF14=0,0,(AF14*((LOG(AF14))/LOG(2))))","v":0},null,{"$f":"N14","v":222},{"$f":"COUNTIF(L39:L48,AI14)","v":0},{"$f":"AJ14/(AL4-AJ11)","v":0},{"$f":"IF(AK14=0,0,(AK14*((LOG(AK14))/LOG(2))))","v":0},null,{"$f":"N14","v":222},{"$f":"COUNTIF(L49:L59,AN14)","v":0},{"$f":"AO14/(AQ4-AO11)","v":0},{"$f":"IF(AP14=0,0,(AP14*((LOG(AP14))/LOG(2))))","v":0},null,{"$f":"N14","v":222},{"$f":"COUNTIF(L60:L69,AS14)","v":0},{"$f":"AT14/(AV4-AT11)","v":0},{"$f":"IF(AU14=0,0,(AU14*((LOG(AU14))/LOG(2))))","v":0}]
[21,1206,22,1212,24,1232,null,null,null,null,0,222,null,null,null,{"$f":"SUM(P7:P14)","v":1},{"$f":"-SUM(Q7:Q14)","v":1.877761637419832},null,null,null,null,{"$f":"SUM(V7:V14)","v":1},{"$f":"-SUM(W7:W14)","v":2.368522527728206},null,null,null,{"$f":"SUM(AA7:AA14)","v":1},{"$f":"-SUM(AB7:AB14)","v":1.3709505944546687},null,null,null,{"$f":"SUM(AF7:AF14)","v":1},{"$f":"-SUM(AG7:AG14)","v":0},null,null,null,{"$f":"SUM(AK7:AK14)","v":1},{"$f":"-SUM(AL7:AL14)","v":1.5849625007211559},null,null,null,{"$f":"SUM(AP7:AP14)","v":1},{"$f":"-SUM(AQ7:AQ14)","v":0},null,null,null,{"$f":"SUM(AU7:AU14)","v":1},{"$f":"-SUM(AV7:AV14)","v":0}]
[21,1338,22,1361,24,1367,null,null,null,null,0,222,null,null,null,"U=",{"$f":"Q15/(LOG(Q4)/LOG(2))","v":0.31414985770322323},null,null,null,null,"U1=",{"$f":"W15/(LOG(W4)/LOG(2))","v":0.68465655310775853},null,null,null,"U2=",{"$f":"AB15/(LOG(AB4)/LOG(2))","v":0.41269725150422137},null,null,null,"U3=",{"$f":"AG15/(LOG(AG4)/LOG(2))","v":0},null,null,null,"U4=",{"$f":"AL15/(LOG(AL4)/LOG(2))","v":0.47712125471966238},null,null,null,"U5=",{"$f":"AQ15/(LOG(AQ4)/LOG(2))","v":0},null,null,null,"U6=",{"$f":"AV15/(LOG(AV4)/LOG(2))","v":0}]
[21,1492,22,1501,13,1519,null,null,null,null,0,221]
[21,1624,22,1626,13,1643,null,null,null,null,0,221]
[21,1768,22,1790,24,1799,null,null,null,null,0,222,null,"Total Target Seq"]
[21,1901,22,1907,13,1920,null,null,null,null,0,221,null,{"$f":"COUNTIF(L7:L69,G3)","v":39},null,11,10,11,10,11,10]
[21,2032,22,2038,13,2049,null,null,null,null,0,221,null,null,null,"% of reinforcement given in 6 equal intervals based on number of trials "]
[21,2147,11,2160,11,2165,null,null,null,null,0,211,null,null,null,"%_1","%_2","%_3","%_4","%_5","%_6"]
[21,2261,11,2270,11,2275,null,null,null,null,0,211,null,null,"target sequence",{"$f":"$G$3","v":211},{"$f":"$G$3","v":211},{"$f":"$G$3","v":211},{"$f":"$G$3","v":211},{"$f":"$G$3","v":211},{"$f":"$G$3","v":211}]
[21,2370,11,2378,11,2383,null,null,null,null,0,211,null,null,"total reinforcement",{"$f":"U11","v":0},{"$f":"Z11","v":5},{"$f":"AE11","v":9},{"$f":"AJ11","v":7},{"$f":"AO11","v":9},{"$f":"AT11","v":9}]
[21,2480,11,2488,11,2493,null,null,null,null,0,211,null,null,"% target"]
[21,2585,11,2593,11,2598,null,null,null,null,0,211,null,null,"CCRF"]
[21,2689,11,2701,22,2711,null,null,null,null,0,212,null,null,"% CCRf"]
[21,2808,11,2817,11,2824,null,null,null,null,0,211,null,null,"average response rate",{"$f":"F17/P20","v":138.09090909090909},{"$f":"(F27-F17)/Q20","v":119.2},{"$f":"(F38-F27)/R20","v":111.45454545454545},{"$f":"(F48-F38)/S20","v":109.3},{"$f":"(F59-F48)/T20","v":112.45454545454545},{"$f":"(F69-F59)/U20","v":108.6}]
[12,2932,13,2936,13,2943,null,null,null,null,0,111]
[21,3045,11,3055,11,3059,null,null,null,null,0,211]
[12,3166,13,3171,13,3176,null,null,null,null,0,111]
[21,3278,11,3287,11,3291,null,null,null,null,0,211]
[21,3391,11,3399,11,3403,null,null,null,null,0,211]
[21,3499,11,3507,11,3511,null,null,null,null,0,211]
[21,3606,11,3613,11,3618,null,null,null,null,0,211]
[21,3711,11,3720,11,3724,null,null,null,null,0,211]
[21,3820,11,3828,11,3832,null,null,null,null,0,211]
[21,3925,11,3933,11,3937,null,null,null,null,0,211]
[21,4029,11,4037,11,4042,null,null,null,null,0,211]
[21,4135,11,4143,11,4148,null,null,null,null,0,211]
[21,4236,22,4238,13,4246,null,null,null,null,0,221]
[21,4351,11,4359,11,4367,null,null,null,null,0,211]
[21,4457,11,4466,22,4482,null,null,null,null,0,212]
[21,4583,11,4592,11,4596,null,null,null,null,0,211]
[21,4691,11,4699,11,4703,null,null,null,null,0,211]
[21,4799,11,4807,11,4814,null,null,null,null,0,211]
[21,4906,11,4914,11,4918,null,null,null,null,0,211]
[12,5018,13,5023,13,5030,null,null,null,null,0,111]
[21,5135,11,5145,11,5149,null,null,null,null,0,211]
[21,5244,11,5252,11,5260,null,null,null,null,0,211]
[21,5352,11,5361,11,5365,null,null,null,null,0,211]
[21,5457,11,5466,11,5474,null,null,null,null,0,211]
[21,5565,11,5573,11,5577,null,null,null,null,0,211]
[21,5671,11,5679,11,5683,null,null,null,null,0,211]
[21,5776,11,5785,11,5789,null,null,null,null,0,211]
[21,5878,22,5883,13,5890,null,null,null,null,0,221]
[21,6010,11,6018,11,6023,null,null,null,null,0,211]
[21,6138,22,6143,13,6154,null,null,null,null,0,221]
[21,6255,11,6263,11,6267,null,null,null,null,0,211]
[21,6361,11,6368,11,6372,null,null,null,null,0,211]
[21,6466,11,6473,11,6478,null,null,null,null,0,211]
[21,6572,11,6582,11,6586,null,null,null,null,0,211]
[21,6680,11,6688,11,6692,null,null,null,null,0,211]
[21,6787,11,6796,11,6803,null,null,null,null,0,211]
[21,6896,11,6905,11,6910,null,null,null,null,0,211]
[21,7004,11,7013,11,7020,null,null,null,null,0,211]
[21,7111,11,7120,11,7124,null,null,null,null,0,211]
[21,7214,22,7220,13,7227,null,null,null,null,0,221]
[21,7334,11,7346,11,7353,null,null,null,null,1,211]

{"sheet":"!2011-06-24_08h19m.Subject 53","index":30,"n_rows":57,"n_cols":48,"rows_kept":57,"cut":false,"hidden":false,"merged":[[4,39,4,42],[5,39,5,40],[4,44,4,47],[5,44,5,45],[4,24,4,27],[5,24,5,25],[4,29,4,32],[5,29,5,30],[4,34,4,37],[5,34,5,35],[1,1,1,2],[5,13,5,14],[18,13,18,14],[19,13,19,14],[4,19,4,22],[5,19,5,20]]}
["Report for:!2011-06-24_08h19m.Subject 53"]
["Date","2011-06-24",null,null,null,"Group",0]
["Hen",53,null,null,null,"Correct Sequence",{"$f":"Start!J2","v":211},null,null,null,null,null,null,null,null,"Total Sequences in Data",{"$f":"4994-COUNTBLANK(L7:L5000)","v":51},null,null,null,null,"Total Sequences in Block Data",{"$f":"COUNTA(L7:L15)","v":9},null,null,null,"Total Sequences in Block Data",{"$f":"COUNTA(L16:L23)","v":8},null,null,null,"Total Sequences in Block Data",{"$f":"COUNTA(L24:L32)","v":9},null,null,null,"Total Sequences in Block Data",{"$f":"COUNTA(L33:L40)","v":8},null,null,null,"Total Sequences in Block Data",{"$f":"COUNTA(L41:L49)","v":9},null,null,null,"Total Sequences in Block Data",{"$f":"COUNTA(L50:L57)","v":8}]
["Program",0,null,null,null,null,null,null,null,null,null,null,null,null,null,"Total Sequences in Summary",{"$f":"SUM(O7:O14)","v":51},null,null,null,null,"Total Sequences in Block Summary",{"$f":"SUM(U7:U14)","v":9},null,null,null,"Total Sequences in Block Summary",{"$f":"SUM(Z7:Z14)","v":8},null,null,null,"Total Sequences in Block Summary",{"$f":"SUM(AE7:AE14)","v":9},null,null,null,"Total Sequences in Block Summary",{"$f":"SUM(AJ7:AJ14)","v":8},null,null,null,"Total Sequences in Block Summary",{"$f":"SUM(AO7:AO14)","v":9},null,null,null,"Total Sequences in Block Summary",{"$f":"SUM(AT7:AT14)","v":8}]
[null,null,null,null,null,null,null,null,null,null,null,null,null,null,null,null,null,null,null,"Block 1",null,null,null,null,"Block 2",null,null,null,null,"Block 3",null,null,null,null,"Block 4",null,null,null,null,"Block 5",null,null,null,null,"Block 6"]
["Sequence\nComponent\n1","Time\n1","Sequence\nComponent\n2","Time\n2","Sequence\nComponent\n3","Time\n3","Sequence\nComponent\n4","Time\n4","Sequence\nComponent\n5","Time\n5","Correct?\n0=No 1=Yes","Sequence",null,"Frequency",null,"Relative Frequency","Variability",null,null,"Frequency",null,"Relative Frequency","Variability",null,"Frequency",null,"Relative Frequency","Variability",null,"Frequency",null,"Relative Frequency","Variability",null,"Frequency",null,"Relative Frequency","Variability",null,"Frequency",null,"Relative Frequency","Variability",null,"Frequency",null,"Relative Frequency","Variability"]
[21,84,11,100,11,130,null,null,null,null,0,211,null,111,{"$f":"COUNTIF($L$7:$L$500,N7)","v":9},{"$f":"O7/$Q$4","v":0.17647058823529413},{"$f":"IF(P7=0,0,(P7*((LOG(P7))/LOG(2))))","v":-0.44161770715220888},null,null,{"$f":"N7","v":111},{"$f":"COUNTIF(L7:L15,T7)","v":2},{"$f":"U7/(W4-U11)","v":0.5},{"$f":"IF(V7=0,0,(V7*((LOG(V7))/LOG(2))))","v":-0.5},null,{"$f":"N7","v":111},{"$f":"COUNTIF(L16:L23,Y7)","v":2},{"$f":"Z7/(AB4-Z11)","v":1},{"$f":"IF(AA7=0,0,(AA7*((LOG(AA7))/LOG(2))))","v":0},null,{"$f":"N7","v":111},{"$f":"COUNTIF(L24:L32,AD7)","v":2},{"$f":"AE7/(AG4-AE11)","v":1},{"$f":"IF(AF7=0,0,(AF7*((LOG(AF7))/LOG(2))))","v":0},null,{"$f":"N7","v":111},{"$f":"COUNTIF(L33:L40,AI7)","v":1},{"$f":"AJ7/(AL4-AJ11)","v":0.5},{"$f":"IF(AK7=0,0,(AK7*((LOG(AK7))/LOG(2))))","v":-0.5},null,{"$f":"N7","v":111},{"$f":"COUNTIF(L41:L49,AN7)","v":1},{"$f":"AO7/(AQ4-AO11)","v":1},{"$f":"IF(AP7=0,0,(AP7*((LOG(AP7))/LOG(2))))","v":0},null,{"$f":"N7","v":111},{"$f":"COUNTIF(L50:L57,AS7)","v":1},{"$f":"AT7/(AV4-AT11)","v":1},{"$f":"IF(AU7=0,0,(AU7*((LOG(AU7))/LOG(2))))","v":0}]
[12,244,13,253,13,261,null,null,null,null,0,111,null,112,{"$f":"COUNTIF($L$7:$L$500,N8)","v":0},{"$f":"O8/$Q$4","v":0},{"$f":"IF(P8=0,0,(P8*((LOG(P8))/LOG(2))))","v":0},null,null,{"$f":"N8","v":112},{"$f":"COUNTIF(L7:L15,T8)","v":0},{"$f":"U8/(W4-U11)","v":0},{"$f":"IF(V8=0,0,(V8*((LOG(V8))/LOG(2))))","v":0},null,{"$f":"N8","v":112},{"$f":"COUNTIF(L16:L23,Y8)","v":0},{"$f":"Z8/(AB4-Z11)","v":0},{"$f":"IF(AA8=0,0,(AA8*((LOG(AA8))/LOG(2))))","v":0},null,{"$f":"N8","v":112},{"$f":"COUNTIF(L24:L32,AD8)","v":0},{"$f":"AE8/(AG4-AE11)","v":0},{"$f":"IF(AF8=0,0,(AF8*((LOG(AF8))/LOG(2))))","v":0},null,{"$f":"N8","v":112},{"$f":"COUNTIF(L33:L40,AI8)","v":0},{"$f":"AJ8/(AL4-AJ11)","v":0},{"$f":"IF(AK8=0,0,(AK8*((LOG(AK8))/LOG(2))))","v":0},null,{"$f":"N8","v":112},{"$f":"COUNTIF(L41:L49,AN8)","v":0},{"$f":"AO8/(AQ4-AO11)","v":0},{"$f":"IF(AP8=0,0,(AP8*((LOG(AP8))/LOG(2))))","v":0},null,{"$f":"N8","v":112},{"$f":"COUNTIF(L50:L57,AS8)","v":0},{"$f":"AT8/(AV4-AT11)","v":0},{"$f":"IF(AU8=0,0,(AU8*((LOG(AU8))/LOG(2))))","v":0}]
[21,367,11,376,11,381,null,null,null,null,0,211,null,121,{"$f":"COUNTIF($L$7:$L$500,N9)","v":0},{"$f":"O9/$Q$4","v":0},{"$f":"IF(P9=0,0,(P9*((LOG(P9))/LOG(2))))","v":0},null,null,{"$f":"N9","v":121},{"$f":"COUNTIF(L7:L15,T9)","v":0},{"$f":"U9/(W4-U11)","v":0},{"$f":"IF(V9=0,0,(V9*((LOG(V9))/LOG(2))))","v":0},null,{"$f":"N9","v":121},{"$f":"COUNTIF(L16:L23,Y9)","v":0},{"$f":"Z9/(AB4-Z11)","v":0},{"$f":"IF(AA9=0,0,(AA9*((LOG(AA9))/LOG(2))))","v":0},null,{"$f":"N9","v":121},{"$f":"COUNTIF(L24:L32,AD9)","v":0},{"$f":"AE9/(AG4-AE11)","v":0},{"$f":"IF(AF9=0,0,(AF9*((LOG(AF9))/LOG(2))))","v":0},null,{"$f":"N9","v":121},{"$f":"COUNTIF(L33:L40,AI9)","v":0},{"$f":"AJ9/(AL4-AJ11)","v":0},{"$f":"IF(AK9=0,0,(AK9*((LOG(AK9))/LOG(2))))","v":0},null,{"$f":"N9","v":121},{"$f":"COUNTIF(L41:L49,AN9)","v":0},{"$f":"AO9/(AQ4-AO11)","v":0},{"$f":"IF(AP9=0,0,(AP9*((LOG(AP9))/LOG(2))))","v":0},null,{"$f":"N9","v":121},{"$f":"COUNTIF(L50:L57,AS9)","v":0},{"$f":"AT9/(AV4-AT11)","v":0},{"$f":"IF(AU9=0,0,(AU9*((LOG(AU9))/LOG(2))))","v":0}]
[21,509,22,518,13,526,null,null,null,null,0,221,null,122,{"$f":"COUNTIF($L$7:$L$500,N10)","v":0},{"$f":"O10/$Q$4","v":0},{"$f":"IF(P10=0,0,(P10*((LOG(P10))/LOG(2))))","v":0},null,null,{"$f":"N10","v":122},{"$f":"COUNTIF(L7:L15,T10)","v":0},{"$f":"U10/(W4-U11)","v":0},{"$f":"IF(V10=0,0,(V10*((LOG(V10))/LOG(2))))","v":0},null,{"$f":"N10","v":122},{"$f":"COUNTIF(L16:L23,Y10)","v":0},{"$f":"Z10/(AB4-Z11)","v":0},{"$f":"IF(AA10=0,0,(AA10*((LOG(AA10))/LOG(2))))","v":0},null,{"$f":"N10","v":122},{"$f":"COUNTIF(L24:L32,AD10)","v":0},{"$f":"AE10/(AG4-AE11)","v":0},{"$f":"IF(AF10=0,0,(AF10*((LOG(AF10))/LOG(2))))","v":0},null,{"$f":"N10","v":122},{"$f":"COUNTIF(L33:L40,AI10)","v":0},{"$f":"AJ10/(AL4-AJ11)","v":0},{"$f":"IF(AK10=0,0,(AK10*((LOG(AK10))/LOG(2))))","v":0},null,{"$f":"N10","v":122},{"$f":"COUNTIF(L41:L49,AN10)","v":0},{"$f":"AO10/(AQ4-AO11)","v":0},{"$f":"IF(AP10=0,0,(AP10*((LOG(AP10))/LOG(2))))","v":0},null,{"$f":"N10","v":122},{"$f":"COUNTIF(L50:L57,AS10)","v":0},{"$f":"AT10/(AV4-AT11)","v":0},{"$f":"IF(AU10=0,0,(AU10*((LOG(AU10))/LOG(2))))","v":0}]
[21,627,11,636,11,642,null,null,null,null,0,211,null,211,{"$f":"COUNTIF($L$7:$L$500,N11)","v":39},{"$f":"O11/$Q$4","v":0.76470588235294112},{"$f":"IF(P11=0,0,(P11*((LOG(P11))/LOG(2))))","v":-0.29595885884824796},null,null,{"$f":"N11","v":211},{"$f":"COUNTIF(L7:L15,T11)","v":5},null,null,null,{"$f":"N11","v":211},{"$f":"COUNTIF(L16:L23,Y11)","v":6},null,null,null,{"$f":"N11","v":211},{"$f":"COUNTIF(L24:L32,AD11)","v":7},null,null,null,{"$f":"N11","v":211},{"$f":"COUNTIF(L33:L40,AI11)","v":6},null,null,null,{"$f":"N11","v":211},{"$f":"COUNTIF(L41:L49,AN11)","v":8},null,null,null,{"$f":"N11","v":211},{"$f":"COUNTIF(L50:L57,AS11)","v":7}]
[21,738,22,739,13,750,null,null,null,null,0,221,null,212,{"$f":"COUNTIF($L$7:$L$500,N12)","v":0},{"$f":"O12/$Q$4","v":0},{"$f":"IF(P12=0,0,(P12*((LOG(P12))/LOG(2))))","v":0},null,null,{"$f":"N12","v":212},{"$f":"COUNTIF(L7:L15,T12)","v":0},{"$f":"U12/(W4-U11)","v":0},{"$f":"IF(V12=0,0,(V12*((LOG(V12))/LOG(2))))","v":0},null,{"$f":"N12","v":212},{"$f":"COUNTIF(L16:L23,Y12)","v":0},{"$f":"Z12/(AB4-Z11)","v":0},{"$f":"IF(AA12=0,0,(AA12*((LOG(AA12))/LOG(2))))","v":0},null,{"$f":"N12","v":212},{"$f":"COUNTIF(L24:L32,AD12)","v":0},{"$f":"AE12/(AG4-AE11)","v":0},{"$f":"IF(AF12=0,0,(AF12*((LOG(AF12))/LOG(2))))","v":0},null,{"$f":"N12","v":212},{"$f":"COUNTIF(L33:L40,AI12)","v":0},{"$f":"AJ12/(AL4-AJ11)","v":0},{"$f":"IF(AK12=0,0,(AK12*((LOG(AK12))/LOG(2))))","v":0},null,{"$f":"N12","v":212},{"$f":"COUNTIF(L41:L49,AN12)","v":0},{"$f":"AO12/(AQ4-AO11)","v":0},{"$f":"IF(AP12=0,0,(AP12*((LOG(AP12))/LOG(2))))","v":0},null,{"$f":"N12","v":212},{"$f":"COUNTIF(L50:L57,AS12)","v":0},{"$f":"AT12/(AV4-AT11)","v":0},{"$f":"IF(AU12=0,0,(AU12*((LOG(AU12))/LOG(2))))","v":0}]
[12,857,13,862,13,867,null,null,null,null,0,111,null,221,{"$f":"COUNTIF($L$7:$L$500,N13)","v":3},{"$f":"O13/$Q$4","v":5.8823529411764705E-2},{"$f":"IF(P13=0,0,(P13*((LOG(P13))/LOG(2))))","v":-0.24043899066178465},null,null,{"$f":"N13","v":221},{"$f":"COUNTIF(L7:L15,T13)","v":2},{"$f":"U13/(W4-U11)","v":0.5},{"$f":"IF(V13=0,0,(V13*((LOG(V13))/LOG(2))))","v":-0.5},null,{"$f":"N13","v":221},{"$f":"COUNTIF(L16:L23,Y13)","v":0},{"$f":"Z13/(AB4-Z11)","v":0},{"$f":"IF(AA13=0,0,(AA13*((LOG(AA13))/LOG(2))))","v":0},null,{"$f":"N13","v":221},{"$f":"COUNTIF(L24:L32,AD13)","v":0},{"$f":"AE13/(AG4-AE11)","v":0},{"$f":"IF(AF13=0,0,(AF13*((LOG(AF13))/LOG(2))))","v":0},null,{"$f":"N13","v":221},{"$f":"COUNTIF(L33:L40,AI13)","v":1},{"$f":"AJ13/(AL4-AJ11)","v":0.5},{"$f":"IF(AK13=0,0,(AK13*((LOG(AK13))/LOG(2))))","v":-0.5},null,{"$f":"N13","v":221},{"$f":"COUNTIF(L41:L49,AN13)","v":0},{"$f":"AO13/(AQ4-AO11)","v":0},{"$f":"IF(AP13=0,0,(AP13*((LOG(AP13))/LOG(2))))","v":0},null,{"$f":"N13","v":221},{"$f":"COUNTIF(L50:L57,AS13)","v":0},{"$f":"AT13/(AV4-AT11)","v":0},{"$f":"IF(AU13=0,0,(AU13*((LOG(AU13))/LOG(2))))","v":0}]
[21,976,11,984,11,989,null,null,null,null,0,211,null,222,{"$f":"COUNTIF($L$7:$L$500,N14)","v":0},{"$f":"O14/$Q$4","v":0},{"$f":"IF(P14=0,0,(P14*((LOG(P14))/LOG(2))))","v":0},null,null,{"$f":"N14","v":222},{"$f":"COUNTIF(L7:L15,T14)","v":0},{"$f":"U14/(W4-U11)","v":0},{"$f":"IF(V14=0,0,(V14*((LOG(V14))/LOG(2))))","v":0},null,{"$f":"N14","v":222},{"$f":"COUNTIF(L16:L23,Y14)","v":0},{"$f":"Z14/(AB4-Z11)","v":0},{"$f":"IF(AA14=0,0,(AA14*((LOG(AA14))/LOG(2))))","v":0},null,{"$f":"N14","v":222},{"$f":"COUNTIF(L24:L32,AD14)","v":0},{"$f":"AE14/(AG4-AE11)","v":0},{"$f":"IF(AF14=0,0,(AF14*((LOG(AF14))/LOG(2))))","v":0},null,{"$f":"N14","v":222},{"$f":"COUNTIF(L33:L40,AI14)","v":0},{"$f":"AJ14/(AL4-AJ11)","v":0},{"$f":"IF(AK14=0,0,(AK14*((LOG(AK14))/LOG(2))))","v":0},null,{"$f":"N14","v":222},{"$f":"COUNTIF(L41:L49,AN14)","v":0},{"$f":"AO14/(AQ4-AO11)","v":0},{"$f":"IF(AP14=0,0,(AP14*((LOG(AP14))/LOG(2))))","v":0},null,{"$f":"N14","v":222},{"$f":"COUNTIF(L50:L57,AS14)","v":0},{"$f":"AT14/(AV4-AT11)","v":0},{"$f":"IF(AU14=0,0,(AU14*((LOG(AU14))/LOG(2))))","v":0}]
[21,1088,11,1097,11,1102,null,null,null,null,0,211,null,null,null,{"$f":"SUM(P7:P14)","v":1},{"$f":"-SUM(Q7:Q14)","v":0.97801555666224149},null,null,null,null,{"$f":"SUM(V7:V14)","v":1},{"$f":"-SUM(W7:W14)","v":1},null,null,null,{"$f":"SUM(AA7:AA14)","v":1},{"$f":"-SUM(AB7:AB14)","v":0},null,null,null,{"$f":"SUM(AF7:AF14)","v":1},{"$f":"-SUM(AG7:AG14)","v":0},null,null,null,{"$f":"SUM(AK7:AK14)","v":1},{"$f":"-SUM(AL7:AL14)","v":1},null,null,null,{"$f":"SUM(AP7:AP14)","v":1},{"$f":"-SUM(AQ7:AQ14)","v":0},null,null,null,{"$f":"SUM(AU7:AU14)","v":1},{"$f":"-SUM(AV7:AV14)","v":0}]
[12,1198,13,1206,13,1215,null,null,null,null,0,111,null,null,null,"U=",{"$f":"Q15/(LOG(Q4)/LOG(2))","v":0.17241576533862757},null,null,null,null,"U1=",{"$f":"W15/(LOG(W4)/LOG(2))","v":0.31546487678572877},null,null,null,"U2=",{"$f":"AB15/(LOG(AB4)/LOG(2))","v":0},null,null,null,"U3=",{"$f":"AG15/(LOG(AG4)/LOG(2))","v":0},null,null,null,"U4=",{"$f":"AL15/(LOG(AL4)/LOG(2))","v":0.33333333333333331},null,null,null,"U5=",{"$f":"AQ15/(LOG(AQ4)/LOG(2))","v":0},null,null,null,"U6=",{"$f":"AV15/(LOG(AV4)/LOG(2))","v":0}]
[12,1327,13,1334,13,1342,null,null,null,null,0,111]
[21,1448,11,1457,11,1462,null,null,null,null,0,211]
[21,1559,11,1567,11,1572,null,null,null,null,0,211,null,"Total Target Seq"]
[21,1667,11,1689,11,1696,null,null,null,null,0,211,null,{"$f":"COUNTIF(L7:L57,G3)","v":39},null,9,8,9,8,9,8]
[21,1789,11,1797,11,1801,null,null,null,null,0,211,null,null,null,"% of reinforcement given in 6 equal intervals based on number of trials "]
[21,1900,11,1909,11,1913,null,null,null,null,0,211,null,null,null,"%_1","%_2","%_3","%_4","%_5","%_6"]
[21,2008,11,2018,11,2022,null,null,null,null,0,211,null,null,"target sequence",{"$f":"$G$3","v":211},{"$f":"$G$3","v":211},{"$f":"$G$3","v":211},{"$f":"$G$3","v":211},{"$f":"$G$3","v":211},{"$f":"$G$3","v":211}]
[21,2115,11,2125,11,2130,null,null,null,null,0,211,null,null,"total reinforcement",{"$f":"U11","v":5},{"$f":"Z11","v":6},{"$f":"AE11","v":7},{"$f":"AJ11","v":6},{"$f":"AO11","v":8},{"$f":"AT11","v":7}]
[21,2222,11,2231,11,2239,null,null,null,null,0,211,null,null,"% target"]
[21,2332,11,2342,11,2347,null,null,null,null,0,211,null,null,"CCRF"]
[21,2439,11,2449,11,2453,null,null,null,null,0,211,null,null,"% CCRf"]
[12,2554,13,2561,13,2572,null,null,null,null,0,111,null,null,"average response rate",{"$f":"F15/P20","v":122.44444444444444},{"$f":"(F23-F15)/Q20","v":115},{"$f":"(F32-F23)/R20","v":109.66666666666667},{"$f":"(F40-F32)/S20","v":111.5},{"$f":"(F49-F40)/T20","v":107.88888888888889},{"$f":"(F57-F49)/U20","v":109.375}]
[12,2669,13,2676,13,2681,null,null,null,null,0,111]
[21,2782,11,2792,11,2796,null,null,null,null,0,211]
[21,2890,11,2899,11,2904,null,null,null,null,0,211]
[21,2996,11,3005,11,3009,null,null,null,null,0,211]
[21,3102,11,3110,11,3117,null,null,null,null,0,211]
[21,3209,11,3217,11,3222,null,null,null,null,0,211]
[12,3324,13,3331,13,3339,null,null,null,null,0,111]
[21,3440,11,3450,11,3454,null,null,null,null,0,211]
[21,3549,11,3556,11,3558,null,null,null,null,0,211]
[21,3662,22,3664,13,3671,null,null,null,null,0,221]
[21,3779,11,3788,11,3793,null,null,null,null,0,211]
[21,3885,11,3894,11,3901,null,null,null,null,0,211]
[21,3993,11,4003,11,4008,null,null,null,null,0,211]
[21,4100,11,4108,11,4113,null,null,null,null,0,211]
[12,4213,13,4219,13,4231,null,null,null,null,0,111]
[21,4333,11,4342,11,4350,null,null,null,null,0,211]
[21,4442,11,4449,11,4454,null,null,null,null,0,211]
[21,4549,11,4558,11,4562,null,null,null,null,0,211]
[21,4652,11,4659,11,4663,null,null,null,null,0,211]
[21,4757,11,4766,11,4770,null,null,null,null,0,211]
[21,4858,11,4867,11,4872,null,null,null,null,0,211]
[21,4962,11,4970,11,4977,null,null,null,null,0,211]
[21,5070,11,5078,11,5082,null,null,null,null,0,211]
[21,5173,11,5187,11,5201,null,null,null,null,0,211]
[21,5290,11,5298,11,5302,null,null,null,null,0,211]
[21,5395,11,5409,11,5417,null,null,null,null,0,211]
[21,5505,11,5513,11,5517,null,null,null,null,0,211]
[12,5616,13,5626,13,5633,null,null,null,null,0,111]
[21,5734,11,5742,11,5747,null,null,null,null,1,211]

{"sheet":"!2011-06-25_08h05m.Subject 53","index":31,"n_rows":57,"n_cols":48,"rows_kept":57,"cut":false,"hidden":false,"merged":[[4,39,4,42],[5,39,5,40],[4,44,4,47],[5,44,5,45],[4,24,4,27],[5,24,5,25],[4,29,4,32],[5,29,5,30],[4,34,4,37],[5,34,5,35],[1,1,1,2],[5,13,5,14],[18,13,18,14],[19,13,19,14],[4,19,4,22],[5,19,5,20]]}
["Report for:!2011-06-25_08h05m.Subject 53"]
["Date","2011-06-25",null,null,null,"Group",0]
["Hen",53,null,null,null,"Correct Sequence",{"$f":"Start!J2","v":211},null,null,null,null,null,null,null,null,"Total Sequences in Data",{"$f":"4994-COUNTBLANK(L7:L5000)","v":51},null,null,null,null,"Total Sequences in Block Data",{"$f":"COUNTA(L7:L15)","v":9},null,null,null,"Total Sequences in Block Data",{"$f":"COUNTA(L16:L23)","v":8},null,null,null,"Total Sequences in Block Data",{"$f":"COUNTA(L24:L32)","v":9},null,null,null,"Total Sequences in Block Data",{"$f":"COUNTA(L33:L40)","v":8},null,null,null,"Total Sequences in Block Data",{"$f":"COUNTA(L41:L49)","v":9},null,null,null,"Total Sequences in Block Data",{"$f":"COUNTA(L50:L57)","v":8}]
["Program",0,null,null,null,null,null,null,null,null,null,null,null,null,null,"Total Sequences in Summary",{"$f":"SUM(O7:O14)","v":51},null,null,null,null,"Total Sequences in Block Summary",{"$f":"SUM(U7:U14)","v":9},null,null,null,"Total Sequences in Block Summary",{"$f":"SUM(Z7:Z14)","v":8},null,null,null,"Total Sequences in Block Summary",{"$f":"SUM(AE7:AE14)","v":9},null,null,null,"Total Sequences in Block Summary",{"$f":"SUM(AJ7:AJ14)","v":8},null,null,null,"Total Sequences in Block Summary",{"$f":"SUM(AO7:AO14)","v":9},null,null,null,"Total Sequences in Block Summary",{"$f":"SUM(AT7:AT14)","v":8}]
[null,null,null,null,null,null,null,null,null,null,null,null,null,null,null,null,null,null,null,"Block 1",null,null,null,null,"Block 2",null,null,null,null,"Block 3",null,null,null,null,"Block 4",null,null,null,null,"Block 5",null,null,null,null,"Block 6"]
["Sequence\nComponent\n1","Time\n1","Sequence\nComponent\n2","Time\n2","Sequence\nComponent\n3","Time\n3","Sequence\nComponent\n4","Time\n4","Sequence\nComponent\n5","Time\n5","Correct?\n0=No 1=Yes","Sequence",null,"Frequency",null,"Relative Frequency","Variability",null,null,"Frequency",null,"Relative Frequency","Variability",null,"Frequency",null,"Relative Frequency","Variability",null,"Frequency",null,"Relative Frequency","Variability",null,"Frequency",null,"Relative Frequency","Variability",null,"Frequency",null,"Relative Frequency","Variability",null,"Frequency",null,"Relative Frequency","Variability"]
[12,27,13,46,13,51,null,null,null,null,0,111,null,111,{"$f":"COUNTIF($L$7:$L$500,N7)","v":8},{"$f":"O7/$Q$4","v":0.15686274509803921},{"$f":"IF(P7=0,0,(P7*((LOG(P7))/LOG(2))))","v":-0.419203975211215},null,null,{"$f":"N7","v":111},{"$f":"COUNTIF(L7:L15,T7)","v":1},{"$f":"U7/(W4-U11)","v":0.33333333333333331},{"$f":"IF(V7=0,0,(V7*((LOG(V7))/LOG(2))))","v":-0.52832083357371862},null,{"$f":"N7","v":111},{"$f":"COUNTIF(L16:L23,Y7)","v":1},{"$f":"Z7/(AB4-Z11)","v":0.5},{"$f":"IF(AA7=0,0,(AA7*((LOG(AA7))/LOG(2))))","v":-0.5},null,{"$f":"N7","v":111},{"$f":"COUNTIF(L24:L32,AD7)","v":2},{"$f":"AE7/(AG4-AE11)","v":0.66666666666666663},{"$f":"IF(AF7=0,0,(AF7*((LOG(AF7))/LOG(2))))","v":-0.38997500048077083},null,{"$f":"N7","v":111},{"$f":"COUNTIF(L33:L40,AI7)","v":1},{"$f":"AJ7/(AL4-AJ11)","v":1},{"$f":"IF(AK7=0,0,(AK7*((LOG(AK7))/LOG(2))))","v":0},null,{"$f":"N7","v":111},{"$f":"COUNTIF(L41:L49,AN7)","v":2},{"$f":"AO7/(AQ4-AO11)","v":1},{"$f":"IF(AP7=0,0,(AP7*((LOG(AP7))/LOG(2))))","v":0},null,{"$f":"N7","v":111},{"$f":"COUNTIF(L50:L57,AS7)","v":1},{"$f":"AT7/(AV4-AT11)","v":1},{"$f":"IF(AU7=0,0,(AU7*((LOG(AU7))/LOG(2))))","v":0}]
[21,178,11,191,22,205,null,null,null,null,0,212,null,112,{"$f":"COUNTIF($L$7:$L$500,N8)","v":1},{"$f":"O8/$Q$4","v":1.9607843137254902E-2},{"$f":"IF(P8=0,0,(P8*((LOG(P8))/LOG(2))))","v":-0.11122402631316657},null,null,{"$f":"N8","v":112},{"$f":"COUNTIF(L7:L15,T8)","v":1},{"$f":"U8/(W4-U11)","v":0.33333333333333331},{"$f":"IF(V8=0,0,(V8*((LOG(V8))/LOG(2))))","v":-0.52832083357371862},null,{"$f":"N8","v":112},{"$f":"COUNTIF(L16:L23,Y8)","v":0},{"$f":"Z8/(AB4-Z11)","v":0},{"$f":"IF(AA8=0,0,(AA8*((LOG(AA8))/LOG(2))))","v":0},null,{"$f":"N8","v":112},{"$f":"COUNTIF(L24:L32,AD8)","v":0},{"$f":"AE8/(AG4-AE11)","v":0},{"$f":"IF(AF8=0,0,(AF8*((LOG(AF8))/LOG(2))))","v":0},null,{"$f":"N8","v":112},{"$f":"COUNTIF(L33:L40,AI8)","v":0},{"$f":"AJ8/(AL4-AJ11)","v":0},{"$f":"IF(AK8=0,0,(AK8*((LOG(AK8))/LOG(2))))","v":0},null,{"$f":"N8","v":112},{"$f":"COUNTIF(L41:L49,AN8)","v":0},{"$f":"AO8/(AQ4-AO11)","v":0},{"$f":"IF(AP8=0,0,(AP8*((LOG(AP8))/LOG(2))))","v":0},null,{"$f":"N8","v":112},{"$f":"COUNTIF(L50:L57,AS8)","v":0},{"$f":"AT8/(AV4-AT11)","v":0},{"$f":"IF(AU8=0,0,(AU8*((LOG(AU8))/LOG(2))))","v":0}]
[21,316,11,325,11,330,null,null,null,null,0,211,null,121,{"$f":"COUNTIF($L$7:$L$500,N9)","v":0},{"$f":"O9/$Q$4","v":0},{"$f":"IF(P9=0,0,(P9*((LOG(P9))/LOG(2))))","v":0},null,null,{"$f":"N9","v":121},{"$f":"COUNTIF(L7:L15,T9)","v":0},{"$f":"U9/(W4-U11)","v":0},{"$f":"IF(V9=0,0,(V9*((LOG(V9))/LOG(2))))","v":0},null,{"$f":"N9","v":121},{"$f":"COUNTIF(L16:L23,Y9)","v":0},{"$f":"Z9/(AB4-Z11)","v":0},{"$f":"IF(AA9=0,0,(AA9*((LOG(AA9))/LOG(2))))","v":0},null,{"$f":"N9","v":121},{"$f":"COUNTIF(L24:L32,AD9)","v":0},{"$f":"AE9/(AG4-AE11)","v":0},{"$f":"IF(AF9=0,0,(AF9*((LOG(AF9))/LOG(2))))","v":0},null,{"$f":"N9","v":121},{"$f":"COUNTIF(L33:L40,AI9)","v":0},{"$f":"AJ9/(AL4-AJ11)","v":0},{"$f":"IF(AK9=0,0,(AK9*((LOG(AK9))/LOG(2))))","v":0},null,{"$f":"N9","v":121},{"$f":"COUNTIF(L41:L49,AN9)","v":0},{"$f":"AO9/(AQ4-AO11)","v":0},{"$f":"IF(AP9=0,0,(AP9*((LOG(AP9))/LOG(2))))","v":0},null,{"$f":"N9","v":121},{"$f":"COUNTIF(L50:L57,AS9)","v":0},{"$f":"AT9/(AV4-AT11)","v":0},{"$f":"IF(AU9=0,0,(AU9*((LOG(AU9))/LOG(2))))","v":0}]
[21,432,11,441,11,450,null,null,null,null,0,211,null,122,{"$f":"COUNTIF($L$7:$L$500,N10)","v":0},{"$f":"O10/$Q$4","v":0},{"$f":"IF(P10=0,0,(P10*((LOG(P10))/LOG(2))))","v":0},null,null,{"$f":"N10","v":122},{"$f":"COUNTIF(L7:L15,T10)","v":0},{"$f":"U10/(W4-U11)","v":0},{"$f":"IF(V10=0,0,(V10*((LOG(V10))/LOG(2))))","v":0},null,{"$f":"N10","v":122},{"$f":"COUNTIF(L16:L23,Y10)","v":0},{"$f":"Z10/(AB4-Z11)","v":0},{"$f":"IF(AA10=0,0,(AA10*((LOG(AA10))/LOG(2))))","v":0},null,{"$f":"N10","v":122},{"$f":"COUNTIF(L24:L32,AD10)","v":0},{"$f":"AE10/(AG4-AE11)","v":0},{"$f":"IF(AF10=0,0,(AF10*((LOG(AF10))/LOG(2))))","v":0},null,{"$f":"N10","v":122},{"$f":"COUNTIF(L33:L40,AI10)","v":0},{"$f":"AJ10/(AL4-AJ11)","v":0},{"$f":"IF(AK10=0,0,(AK10*((LOG(AK10))/LOG(2))))","v":0},null,{"$f":"N10","v":122},{"$f":"COUNTIF(L41:L49,AN10)","v":0},{"$f":"AO10/(AQ4-AO11)","v":0},{"$f":"IF(AP10=0,0,(AP10*((LOG(AP10))/LOG(2))))","v":0},null,{"$f":"N10","v":122},{"$f":"COUNTIF(L50:L57,AS10)","v":0},{"$f":"AT10/(AV4-AT11)","v":0},{"$f":"IF(AU10=0,0,(AU10*((LOG(AU10))/LOG(2))))","v":0}]
[21,544,11,553,11,558,null,null,null,null,0,211,null,211,{"$f":"COUNTIF($L$7:$L$500,N11)","v":39},{"$f":"O11/$Q$4","v":0.76470588235294112},{"$f":"IF(P11=0,0,(P11*((LOG(P11))/LOG(2))))","v":-0.29595885884824796},null,null,{"$f":"N11","v":211},{"$f":"COUNTIF(L7:L15,T11)","v":6},null,null,null,{"$f":"N11","v":211},{"$f":"COUNTIF(L16:L23,Y11)","v":6},null,null,null,{"$f":"N11","v":211},{"$f":"COUNTIF(L24:L32,AD11)","v":6},null,null,null,{"$f":"N11","v":211},{"$f":"COUNTIF(L33:L40,AI11)","v":7},null,null,null,{"$f":"N11","v":211},{"$f":"COUNTIF(L41:L49,AN11)","v":7},null,null,null,{"$f":"N11","v":211},{"$f":"COUNTIF(L50:L57,AS11)","v":7}]
[12,649,13,656,24,666,null,null,null,null,0,112,null,212,{"$f":"COUNTIF($L$7:$L$500,N12)","v":1},{"$f":"O12/$Q$4","v":1.9607843137254902E-2},{"$f":"IF(P12=0,0,(P12*((LOG(P12))/LOG(2))))","v":-0.11122402631316657},null,null,{"$f":"N12","v":212},{"$f":"COUNTIF(L7:L15,T12)","v":1},{"$f":"U12/(W4-U11)","v":0.33333333333333331},{"$f":"IF(V12=0,0,(V12*((LOG(V12))/LOG(2))))","v":-0.52832083357371862},null,{"$f":"N12","v":212},{"$f":"COUNTIF(L16:L23,Y12)","v":0},{"$f":"Z12/(AB4-Z11)","v":0},{"$f":"IF(AA12=0,0,(AA12*((LOG(AA12))/LOG(2))))","v":0},null,{"$f":"N12","v":212},{"$f":"COUNTIF(L24:L32,AD12)","v":0},{"$f":"AE12/(AG4-AE11)","v":0},{"$f":"IF(AF12=0,0,(AF12*((LOG(AF12))/LOG(2))))","v":0},null,{"$f":"N12","v":212},{"$f":"COUNTIF(L33:L40,AI12)","v":0},{"$f":"AJ12/(AL4-AJ11)","v":0},{"$f":"IF(AK12=0,0,(AK12*((LOG(AK12))/LOG(2))))","v":0},null,{"$f":"N12","v":212},{"$f":"COUNTIF(L41:L49,AN12)","v":0},{"$f":"AO12/(AQ4-AO11)","v":0},{"$f":"IF(AP12=0,0,(AP12*((LOG(AP12))/LOG(2))))","v":0},null,{"$f":"N12","v":212},{"$f":"COUNTIF(L50:L57,AS12)","v":0},{"$f":"AT12/(AV4-AT11)","v":0},{"$f":"IF(AU12=0,0,(AU12*((LOG(AU12))/LOG(2))))","v":0}]
[21,763,11,773,11,777,null,null,null,null,0,211,null,221,{"$f":"COUNTIF($L$7:$L$500,N13)","v":2},{"$f":"O13/$Q$4","v":3.9215686274509803E-2},{"$f":"IF(P13=0,0,(P13*((LOG(P13))/LOG(2))))","v":-0.18323236635182338},null,null,{"$f":"N13","v":221},{"$f":"COUNTIF(L7:L15,T13)","v":0},{"$f":"U13/(W4-U11)","v":0},{"$f":"IF(V13=0,0,(V13*((LOG(V13))/LOG(2))))","v":0},null,{"$f":"N13","v":221},{"$f":"COUNTIF(L16:L23,Y13)","v":1},{"$f":"Z13/(AB4-Z11)","v":0.5},{"$f":"IF(AA13=0,0,(AA13*((LOG(AA13))/LOG(2))))","v":-0.5},null,{"$f":"N13","v":221},{"$f":"COUNTIF(L24:L32,AD13)","v":1},{"$f":"AE13/(AG4-AE11)","v":0.33333333333333331},{"$f":"IF(AF13=0,0,(AF13*((LOG(AF13))/LOG(2))))","v":-0.52832083357371862},null,{"$f":"N13","v":221},{"$f":"COUNTIF(L33:L40,AI13)","v":0},{"$f":"AJ13/(AL4-AJ11)","v":0},{"$f":"IF(AK13=0,0,(AK13*((LOG(AK13))/LOG(2))))","v":0},null,{"$f":"N13","v":221},{"$f":"COUNTIF(L41:L49,AN13)","v":0},{"$f":"AO13/(AQ4-AO11)","v":0},{"$f":"IF(AP13=0,0,(AP13*((LOG(AP13))/LOG(2))))","v":0},null,{"$f":"N13","v":221},{"$f":"COUNTIF(L50:L57,AS13)","v":0},{"$f":"AT13/(AV4-AT11)","v":0},{"$f":"IF(AU13=0,0,(AU13*((LOG(AU13))/LOG(2))))","v":0}]
[21,875,11,886,11,893,null,null,null,null,0,211,null,222,{"$f":"COUNTIF($L$7:$L$500,N14)","v":0},{"$f":"O14/$Q$4","v":0},{"$f":"IF(P14=0,0,(P14*((LOG(P14))/LOG(2))))","v":0},null,null,{"$f":"N14","v":222},{"$f":"COUNTIF(L7:L15,T14)","v":0},{"$f":"U14/(W4-U11)","v":0},{"$f":"IF(V14=0,0,(V14*((LOG(V14))/LOG(2))))","v":0},null,{"$f":"N14","v":222},{"$f":"COUNTIF(L16:L23,Y14)","v":0},{"$f":"Z14/(AB4-Z11)","v":0},{"$f":"IF(AA14=0,0,(AA14*((LOG(AA14))/LOG(2))))","v":0},null,{"$f":"N14","v":222},{"$f":"COUNTIF(L24:L32,AD14)","v":0},{"$f":"AE14/(AG4-AE11)","v":0},{"$f":"IF(AF14=0,0,(AF14*((LOG(AF14))/LOG(2))))","v":0},null,{"$f":"N14","v":222},{"$f":"COUNTIF(L33:L40,AI14)","v":0},{"$f":"AJ14/(AL4-AJ11)","v":0},{"$f":"IF(AK14=0,0,(AK14*((LOG(AK14))/LOG(2))))","v":0},null,{"$f":"N14","v":222},{"$f":"COUNTIF(L41:L49,AN14)","v":0},{"$f":"AO14/(AQ4-AO11)","v":0},{"$f":"IF(AP14=0,0,(AP14*((LOG(AP14))/LOG(2))))","v":0},null,{"$f":"N14","v":222},{"$f":"COUNTIF(L50:L57,AS14)","v":0},{"$f":"AT14/(AV4-AT11)","v":0},{"$f":"IF(AU14=0,0,(AU14*((LOG(AU14))/LOG(2))))","v":0}]
[21,982,11,996,11,1001,null,null,null,null,0,211,null,null,null,{"$f":"SUM(P7:P14)","v":1},{"$f":"-SUM(Q7:Q14)","v":1.1208432530376193},null,null,null,null,{"$f":"SUM(V7:V14)","v":1},{"$f":"-SUM(W7:W14)","v":1.5849625007211559},null,null,null,{"$f":"SUM(AA7:AA14)","v":1},{"$f":"-SUM(AB7:AB14)","v":1},null,null,null,{"$f":"SUM(AF7:AF14)","v":1},{"$f":"-SUM(AG7:AG14)","v":0.91829583405448945},null,null,null,{"$f":"SUM(AK7:AK14)","v":1},{"$f":"-SUM(AL7:AL14)","v":0},null,null,null,{"$f":"SUM(AP7:AP14)","v":1},{"$f":"-SUM(AQ7:AQ14)","v":0},null,null,null,{"$f":"SUM(AU7:AU14)","v":1},{"$f":"-SUM(AV7:AV14)","v":0}]
[21,1096,11,1105,11,1110,null,null,null,null,0,211,null,null,null,"U=",{"$f":"Q15/(LOG(Q4)/LOG(2))","v":0.19759506480310265},null,null,null,null,"U1=",{"$f":"W15/(LOG(W4)/LOG(2))","v":0.49999999999999994},null,null,null,"U2=",{"$f":"AB15/(LOG(AB4)/LOG(2))","v":0.33333333333333331},null,null,null,"U3=",{"$f":"AG15/(LOG(AG4)/LOG(2))","v":0.28969008214284753},null,null,null,"U4=",{"$f":"AL15/(LOG(AL4)/LOG(2))","v":0},null,null,null,"U5=",{"$f":"AQ15/(LOG(AQ4)/LOG(2))","v":0},null,null,null,"U6=",{"$f":"AV15/(LOG(AV4)/LOG(2))","v":0}]
[21,1205,11,1214,11,1219,null,null,null,null,0,211]
[21,1312,22,1314,13,1323,null,null,null,null,0,221]
[12,1454,13,1458,13,1466,null,null,null,null,0,111,null,"Total Target Seq"]
[21,1571,11,1581,11,1586,null,null,null,null,0,211,null,{"$f":"COUNTIF(L7:L57,G3)","v":39},null,9,8,9,8,9,8]
[21,1682,11,1692,11,1699,null,null,null,null,0,211,null,null,null,"% of reinforcement given in 6 equal intervals based on number of trials "]
[21,1798,11,1807,11,1812,null,null,null,null,0,211,null,null,null,"%_1","%_2","%_3","%_4","%_5","%_6"]
[21,1912,11,1920,11,1925,null,null,null,null,0,211,null,null,"target sequence",{"$f":"$G$3","v":211},{"$f":"$G$3","v":211},{"$f":"$G$3","v":211},{"$f":"$G$3","v":211},{"$f":"$G$3","v":211},{"$f":"$G$3","v":211}]
[21,2020,11,2029,11,2033,null,null,null,null,0,211,null,null,"total reinforcement",{"$f":"U11","v":6},{"$f":"Z11","v":6},{"$f":"AE11","v":6},{"$f":"AJ11","v":7},{"$f":"AO11","v":7},{"$f":"AT11","v":7}]
[21,2130,11,2140,11,2147,null,null,null,null,0,211,null,null,"% target"]
[21,2247,22,2249,13,2266,null,null,null,null,0,221,null,null,"CCRF"]
[12,2382,13,2390,13,2398,null,null,null,null,0,111,null,null,"% CCRf"]
[21,2502,11,2511,11,2516,null,null,null,null,0,211,null,null,"average response rate",{"$f":"F15/P20","v":111.22222222222223},{"$f":"(F23-F15)/Q20","v":115.5},{"$f":"(F32-F23)/R20","v":119.22222222222223},{"$f":"(F40-F32)/S20","v":120.375},{"$f":"(F49-F40)/T20","v":116.22222222222223},{"$f":"(F57-F49)/U20","v":117.125}]
[21,2617,11,2626,11,2630,null,null,null,null,0,211]
[21,2725,11,2734,11,2749,null,null,null,null,0,211]
[21,2842,11,2852,11,2856,null,null,null,null,0,211]
[12,2980,13,2991,13,2998,null,null,null,null,0,111]
[21,3098,11,3114,11,3122,null,null,null,null,0,211]
[21,3218,11,3232,11,3243,null,null,null,null,0,211]
[21,3337,11,3345,11,3350,null,null,null,null,0,211]
[21,3445,11,3458,11,3471,null,null,null,null,0,211]
[21,3587,11,3597,11,3605,null,null,null,null,0,211]
[12,3726,13,3734,13,3741,null,null,null,null,0,111]
[21,3840,11,3848,11,3853,null,null,null,null,0,211]
[21,3947,11,3956,11,3961,null,null,null,null,0,211]
[21,4057,11,4065,11,4070,null,null,null,null,0,211]
[12,4186,13,4190,13,4195,null,null,null,null,0,111]
[21,4313,11,4321,11,4326,null,null,null,null,0,211]
[21,4421,11,4431,11,4436,null,null,null,null,0,211]
[21,4526,11,4536,11,4541,null,null,null,null,0,211]
[21,4636,11,4644,11,4648,null,null,null,null,0,211]
[21,4746,11,4756,11,4760,null,null,null,null,0,211]
[21,4855,11,4873,11,4881,null,null,null,null,0,211]
[12,4986,13,4999,13,5007,null,null,null,null,0,111]
[12,5134,13,5142,13,5154,null,null,null,null,0,111]
[21,5256,11,5265,11,5270,null,null,null,null,0,211]
[21,5362,11,5371,11,5383,null,null,null,null,0,211]
[21,5475,11,5484,11,5489,null,null,null,null,0,211]
[21,5586,11,5599,11,5607,null,null,null,null,0,211]
[21,5699,11,5712,11,5719,null,null,null,null,0,211]
[21,5823,11,5831,11,5836,null,null,null,null,0,211]
[21,5930,11,5940,11,5944,null,null,null,null,1,211]