{"text_format":"1","workbook":"xlsx","n_sheets":34,"sheets":["Sample Report","Summary","Start","!L807930.052","!L808920.052","!L809A00.052","!L810A50.052","!L811940.052","!L812910.052","!L813900.052","!L814930.052","!L815A00.052","!L816850.052","!L817920.052","!L818B20.052","!L819910.052","!L820920.052","!L821A30.052","!L822950.052","!L823910.052","!L824920.052","!L826830.052","!L829A10.052","!L830910.052","!L831A10.052","!L901910.052","!L902930.052","!L903900.052","!L904A20.052","!L905950.052","!L906920.052","!L907940.052","!L908840.052","!L909910.052"],"not_rendered":{"charts":0,"images":0,"macros":1,"external_links":0,"defined_names":0,"comments":0,"pivot_tables":0},"unopened":[],"bounds":{"document_bytes":16777216,"sheet_cells":100000,"rows_first":2000,"rows_last":500,"rows_between":2000,"halvings":0,"cell_chars":16384,"cell_head_chars":4096},"cells_cut":0,"cells_raw":0,"read":"whole","date_system":"1900"}

{"sheet":"Sample Report","index":0,"n_rows":12,"n_cols":11,"rows_kept":12,"cut":false,"hidden":true,"merged":[[7,0,7,6]]}
[]
["Date"]
["Hen"]
["Program"]
["Start at 999999"]
["Sequence component 1","Time 1","Seqeunce Component 2","Time 2","Seqeunce Component 3","Time 3","Correct   0 = No 1=Yes",null,null,"Seqeunce","Time"]
[12,7,12,42,13,18,"if 77 new line,                                  if 31 or 41 = yes new line on 77, ",null,null,"=string of Seqeunce compponent 1, 2 & 3","=time 3"]
["This continues until ther is a 1 on its own to indicate start of summary data"]
[null,null,null,null,null,null,null,null,null,"10-19 =1"]
["Summary Data ",null,null,null,null,null,null,null,null,"20-29 =2"]
["Correct","Incorrect","Rft","total","Av Correct","Av Incorrect","Percent correct","Time",null,"in this example the seqeunce would be 111"]
[40,33,40,73,23.95,15,54,806]

{"sheet":"Summary","index":1,"n_rows":33,"n_cols":24,"rows_kept":33,"cut":false,"hidden":false,"merged":[]}
[]
["Day","Date","Average Response Rate","Target %","RF for non correct sequence","U Value",null,null,null,null,"Block 1","Block 2","Block 3","Block 4","Block 5","Block 6"]
[1,{"$f":"'!L807930.052'!B2:C2","v":"<date>"},{"$f":"('!L807930.052'!D7/60)/'!L807930.052'!Q3","v":1.4492753623188406E-3},{"$f":"'!L807930.052'!N20/'!L807930.052'!Q3","v":0},{"$f":"SUM('!L807930.052'!L20:Q20)/'!L807930.052'!Q3","v":0.43478260869565216},{"$f":"'!L807930.052'!Q16","v":0.10262376370298655},null,null,null,"Average Response Rate",{"$f":"AVERAGE(C3:C7)","v":3.3625700518724599E-3},{"$f":"AVERAGE(C8:C12)","v":5.4469220506956359E-3},{"$f":"AVERAGE(C13:C17)","v":6.3496800078668729E-3},{"$f":"AVERAGE(C18:C22)","v":6.5243572995983658E-3},{"$f":"AVERAGE(C23:C27)","v":7.4708964697620395E-3},{"$f":"AVERAGE(C28:C32)","v":5.2779727034332575E-3}]
[2,{"$f":"'!L808920.052'!B2:C2","v":"<date>"},{"$f":"('!L808920.052'!D7/60)/'!L808920.052'!Q3","v":2.4509803921568627E-3},{"$f":"'!L808920.052'!N20/'!L808920.052'!Q3","v":0},{"$f":"SUM('!L808920.052'!L20:Q20)/'!L808920.052'!Q3","v":0.46470588235294119},{"$f":"'!L808920.052'!Q16","v":6.5777278486767787E-2},null,null,null,"Target %",{"$f":"AVERAGE(D3:D7)","v":0.24844796852910447},{"$f":"AVERAGE(D8:D12)","v":0.8374464708696514},{"$f":"AVERAGE(D13:D17)","v":0.84657891188881018},{"$f":"AVERAGE(D18:D22)","v":0.95346283514179153},{"$f":"AVERAGE(D23:D27)","v":0.94816735542770714},{"$f":"AVERAGE(D28:D32)","v":0.93202163936337412}]
[3,{"$f":"'!L809A00.052'!B2:C2","v":"<date>"},{"$f":"('!L809A00.052'!D7/60)/'!L809A00.052'!Q3","v":1.4705882352941176E-3},{"$f":"'!L809A00.052'!N20/'!L809A00.052'!Q3","v":9.8039215686274508E-2},{"$f":"SUM('!L809A00.052'!L20:Q20)/'!L809A00.052'!Q3","v":0.53921568627450978},{"$f":"'!L809A00.052'!Q16","v":0.15636722102919184},null,null,null,"CCRF",{"$f":"AVERAGE(E3:E7)","v":0.73711387621697166},{"$f":"AVERAGE(E8:E12)","v":1.4246840760317849},{"$f":"AVERAGE(E13:E17)","v":1.474858583188833},{"$f":"AVERAGE(E18:E22)","v":1.5727591325294106},{"$f":"AVERAGE(E23:E27)","v":1.5644761364557167},{"$f":"AVERAGE(E28:E32)","v":1.5902072464515435}]
[4,{"$f":"'!L810A50.052'!B2:C2","v":"<date>"},{"$f":"('!L810A50.052'!D7/60)/'!L810A50.052'!Q3","v":4.5454545454545461E-3},{"$f":"'!L810A50.052'!N20/'!L810A50.052'!Q3","v":0.45454545454545453},{"$f":"SUM('!L810A50.052'!L20:Q20)/'!L810A50.052'!Q3","v":1.0227272727272727},{"$f":"'!L810A50.052'!Q16","v":0.24670813011931306},null,null,null,"U Value",{"$f":"AVERAGE(F3:F7)","v":0.15979875507179259},{"$f":"AVERAGE(F8:F12)","v":0.14316040488168039},{"$f":"AVERAGE(F13:F17)","v":0.14429691297319022},{"$f":"AVERAGE(F18:F22)","v":5.3381128034723301E-2},{"$f":"AVERAGE(F23:F27)","v":5.946751231983112E-2},{"$f":"AVERAGE(F28:F32)","v":7.3876680808271186E-2}]
[5,{"$f":"'!L811940.052'!B2:C2","v":"<date>"},{"$f":"('!L811940.052'!D7/60)/'!L811940.052'!Q3","v":6.8965517241379318E-3},{"$f":"'!L811940.052'!N20/'!L811940.052'!Q3","v":0.68965517241379315},{"$f":"SUM('!L811940.052'!L20:Q20)/'!L811940.052'!Q3","v":1.2241379310344827},{"$f":"'!L811940.052'!Q16","v":0.22751738202070373}]
[6,{"$f":"'!L812910.052'!B2:C2","v":"<date>"},{"$f":"('!L812910.052'!D7/60)/'!L812910.052'!Q3","v":5.6603773584905656E-3},{"$f":"'!L812910.052'!N20/'!L812910.052'!Q3","v":0.75471698113207553},{"$f":"SUM('!L812910.052'!L20:Q20)/'!L812910.052'!Q3","v":1.320754716981132},{"$f":"'!L812910.052'!Q16","v":0.20783010967169391}]
[7,{"$f":"'!L813900.052'!B2:C2","v":"<date>"},{"$f":"('!L813900.052'!D7/60)/'!L813900.052'!Q3","v":6.3492063492063492E-3},{"$f":"'!L813900.052'!N20/'!L813900.052'!Q3","v":0.95238095238095233},{"$f":"SUM('!L813900.052'!L20:Q20)/'!L813900.052'!Q3","v":1.5714285714285714},{"$f":"'!L813900.052'!Q16","v":6.0051078206022804E-2},{"$f":"K3","v":3.3625700518724599E-3},5.4469220506956359E-3,6.3496800078668729E-3,6.5243572995983658E-3,7.4708964697620395E-3,5.2779727034332575E-3,{"$f":"K4","v":0.24844796852910447},0.8374464708696514,0.84657891188881018,0.95346283514179153,0.94816735542770714,0.93202163936337412,{"$f":"K6","v":0.15979875507179259},0.14316040488168039,0.14429691297319022,5.3381128034723301E-2,5.946751231983112E-2,7.3876680808271186E-2]
[8,{"$f":"'!L814930.052'!B2:C2","v":"<date>"},{"$f":"('!L814930.052'!D7/60)/'!L814930.052'!Q3","v":6.0606060606060606E-3},{"$f":"'!L814930.052'!N20/'!L814930.052'!Q3","v":0.90909090909090906},{"$f":"SUM('!L814930.052'!L20:Q20)/'!L814930.052'!Q3","v":1.5227272727272727},{"$f":"'!L814930.052'!Q16","v":9.7154083956270218E-2}]
[9,{"$f":"'!L815A00.052'!B2:C2","v":"<date>"},{"$f":"('!L815A00.052'!D7/60)/'!L815A00.052'!Q3","v":4.7619047619047623E-3},{"$f":"'!L815A00.052'!N20/'!L815A00.052'!Q3","v":0.81632653061224492},{"$f":"SUM('!L815A00.052'!L20:Q20)/'!L815A00.052'!Q3","v":1.3877551020408163},{"$f":"'!L815A00.052'!Q16","v":0.15496473122001975}]
[10,{"$f":"'!L816850.052'!B2:C2","v":"<date>"},{"$f":"('!L816850.052'!D7/60)/'!L816850.052'!Q3","v":4.4025157232704401E-3},{"$f":"'!L816850.052'!N20/'!L816850.052'!Q3","v":0.75471698113207553},{"$f":"SUM('!L816850.052'!L20:Q20)/'!L816850.052'!Q3","v":1.320754716981132},{"$f":"'!L816850.052'!Q16","v":0.19580202135439526}]
[11,{"$f":"'!L817920.052'!B2:C2","v":"<date>"},{"$f":"('!L817920.052'!D7/60)/'!L817920.052'!Q3","v":4.8148148148148152E-3},{"$f":"'!L817920.052'!N20/'!L817920.052'!Q3","v":0.88888888888888884},{"$f":"SUM('!L817920.052'!L20:Q20)/'!L817920.052'!Q3","v":1.4888888888888889},{"$f":"'!L817920.052'!Q16","v":0.1193743108391018}]
[12,{"$f":"'!L818B20.052'!B2:C2","v":"<date>"},{"$f":"('!L818B20.052'!D7/60)/'!L818B20.052'!Q3","v":1.011904761904762E-2},{"$f":"'!L818B20.052'!N20/'!L818B20.052'!Q3","v":0.7142857142857143},{"$f":"SUM('!L818B20.052'!L20:Q20)/'!L818B20.052'!Q3","v":1.2678571428571428},{"$f":"'!L818B20.052'!Q16","v":0.21778102874338229}]
[13,{"$f":"'!L819910.052'!B2:C2","v":"<date>"},{"$f":"('!L819910.052'!D7/60)/'!L819910.052'!Q3","v":5.3191489361702126E-3},{"$f":"'!L819910.052'!N20/'!L819910.052'!Q3","v":0.85106382978723405},{"$f":"SUM('!L819910.052'!L20:Q20)/'!L819910.052'!Q3","v":1.6382978723404256},{"$f":"'!L819910.052'!Q16","v":0.14815726761703191}]
[14,{"$f":"'!L820920.052'!B2:C2","v":"<date>"},{"$f":"('!L820920.052'!D7/60)/'!L820920.052'!Q3","v":6.0606060606060606E-3},{"$f":"'!L820920.052'!N20/'!L820920.052'!Q3","v":0.90909090909090906},{"$f":"SUM('!L820920.052'!L20:Q20)/'!L820920.052'!Q3","v":1.5227272727272727},{"$f":"'!L820920.052'!Q16","v":0.10547995899779904}]
[15,{"$f":"'!L821A30.052'!B2:C2","v":"<date>"},{"$f":"('!L821A30.052'!D7/60)/'!L821A30.052'!Q3","v":5.434782608695652E-3},{"$f":"'!L821A30.052'!N20/'!L821A30.052'!Q3","v":0.86956521739130432},{"$f":"SUM('!L821A30.052'!L20:Q20)/'!L821A30.052'!Q3","v":1.4565217391304348},{"$f":"'!L821A30.052'!Q16","v":0.13069199866863618}]
[16,{"$f":"'!L822950.052'!B2:C2","v":"<date>"},{"$f":"('!L822950.052'!D7/60)/'!L822950.052'!Q3","v":6.0606060606060606E-3},{"$f":"'!L822950.052'!N20/'!L822950.052'!Q3","v":0.90909090909090906},{"$f":"SUM('!L822950.052'!L20:Q20)/'!L822950.052'!Q3","v":1.5227272727272727},{"$f":"'!L822950.052'!Q16","v":9.7154083956270218E-2}]
[17,{"$f":"'!L823910.052'!B2:C2","v":"<date>"},{"$f":"('!L823910.052'!D7/60)/'!L823910.052'!Q3","v":5.4166666666666669E-3},{"$f":"'!L823910.052'!N20/'!L823910.052'!Q3","v":1},{"$f":"SUM('!L823910.052'!L20:Q20)/'!L823910.052'!Q3","v":1.625},{"$f":"'!L823910.052'!Q16","v":0}]
[18,{"$f":"'!L824920.052'!B2:C2","v":"<date>"},{"$f":"('!L824920.052'!D7/60)/'!L824920.052'!Q3","v":5.5555555555555558E-3},{"$f":"'!L824920.052'!N20/'!L824920.052'!Q3","v":0.95238095238095233},{"$f":"SUM('!L824920.052'!L20:Q20)/'!L824920.052'!Q3","v":1.5714285714285714},{"$f":"'!L824920.052'!Q16","v":5.1220172329100477E-2}]
[19,{"$f":"'!L826830.052'!B2:C2","v":"<date>"},{"$f":"('!L826830.052'!D7/60)/'!L826830.052'!Q3","v":1.016260162601626E-2},{"$f":"'!L826830.052'!N20/'!L826830.052'!Q3","v":0.97560975609756095},{"$f":"SUM('!L826830.052'!L20:Q20)/'!L826830.052'!Q3","v":1.6097560975609757},{"$f":"'!L826830.052'!Q16","v":3.0877354779509855E-2}]
[20,{"$f":"'!L829A10.052'!B2:C2","v":"<date>"},{"$f":"('!L829A10.052'!D7/60)/'!L829A10.052'!Q3","v":5.4263565891472867E-3},{"$f":"'!L829A10.052'!N20/'!L829A10.052'!Q3","v":0.93023255813953487},{"$f":"SUM('!L829A10.052'!L20:Q20)/'!L829A10.052'!Q3","v":1.5348837209302326},{"$f":"'!L829A10.052'!Q16","v":8.7654029108735945E-2}]
[21,{"$f":"'!L830910.052'!B2:C2","v":"<date>"},{"$f":"('!L830910.052'!D7/60)/'!L830910.052'!Q3","v":6.0975609756097563E-3},{"$f":"'!L830910.052'!N20/'!L830910.052'!Q3","v":0.97560975609756095},{"$f":"SUM('!L830910.052'!L20:Q20)/'!L830910.052'!Q3","v":1.6097560975609757},{"$f":"'!L830910.052'!Q16","v":3.0877354779509855E-2}]
[22,{"$f":"'!L831A10.052'!B2:C2","v":"<date>"},{"$f":"('!L831A10.052'!D7/60)/'!L831A10.052'!Q3","v":1.5503875968992248E-2},{"$f":"'!L831A10.052'!N20/'!L831A10.052'!Q3","v":0.93023255813953487},{"$f":"SUM('!L831A10.052'!L20:Q20)/'!L831A10.052'!Q3","v":1.5348837209302326},{"$f":"'!L831A10.052'!Q16","v":7.9082455473912391E-2}]
[23,{"$f":"'!L901910.052'!B2:C2","v":"<date>"},{"$f":"('!L901910.052'!D7/60)/'!L901910.052'!Q3","v":4.3650793650793652E-3},{"$f":"'!L901910.052'!N20/'!L901910.052'!Q3","v":0.95238095238095233},{"$f":"SUM('!L901910.052'!L20:Q20)/'!L901910.052'!Q3","v":1.5714285714285714},{"$f":"'!L901910.052'!Q16","v":6.0051078206022804E-2}]
[24,{"$f":"'!L902930.052'!B2:C2","v":"<date>"},{"$f":"('!L902930.052'!D7/60)/'!L902930.052'!Q3","v":5.0387596899224806E-3},{"$f":"'!L902930.052'!N20/'!L902930.052'!Q3","v":0.93023255813953487},{"$f":"SUM('!L902930.052'!L20:Q20)/'!L902930.052'!Q3","v":1.5348837209302326},{"$f":"'!L902930.052'!Q16","v":6.7275594933687746E-2}]
[25,{"$f":"'!L903900.052'!B2:C2","v":"<date>"},{"$f":"('!L903900.052'!D7/60)/'!L903900.052'!Q3","v":6.3492063492063492E-3},{"$f":"'!L903900.052'!N20/'!L903900.052'!Q3","v":0.95238095238095233},{"$f":"SUM('!L903900.052'!L20:Q20)/'!L903900.052'!Q3","v":1.5714285714285714},{"$f":"'!L903900.052'!Q16","v":6.0051078206022804E-2}]
[26,{"$f":"'!L904A20.052'!B2:C2","v":"<date>"},{"$f":"('!L904A20.052'!D7/60)/'!L904A20.052'!Q3","v":5.2845528455284551E-3},{"$f":"'!L904A20.052'!N20/'!L904A20.052'!Q3","v":0.97560975609756095},{"$f":"SUM('!L904A20.052'!L20:Q20)/'!L904A20.052'!Q3","v":1.6097560975609757},{"$f":"'!L904A20.052'!Q16","v":3.0877354779509855E-2}]
[27,{"$f":"'!L905950.052'!B2:C2","v":"<date>"},{"$f":"('!L905950.052'!D7/60)/'!L905950.052'!Q3","v":5.0724637681159425E-3},{"$f":"'!L905950.052'!N20/'!L905950.052'!Q3","v":0.86956521739130432},{"$f":"SUM('!L905950.052'!L20:Q20)/'!L905950.052'!Q3","v":1.673913043478261},{"$f":"'!L905950.052'!Q16","v":0.12282058141733007}]
[28,{"$f":"'!L906920.052'!B2:C2","v":"<date>"},{"$f":"('!L906920.052'!D7/60)/'!L906920.052'!Q3","v":5.3030303030303034E-3},{"$f":"'!L906920.052'!N20/'!L906920.052'!Q3","v":0.90909090909090906},{"$f":"SUM('!L906920.052'!L20:Q20)/'!L906920.052'!Q3","v":1.5227272727272727},{"$f":"'!L906920.052'!Q16","v":9.7154083956270218E-2}]
[29,{"$f":"'!L907940.052'!B2:C2","v":"<date>"},{"$f":"('!L907940.052'!D7/60)/'!L907940.052'!Q3","v":5.6910569105691061E-3},{"$f":"'!L907940.052'!N20/'!L907940.052'!Q3","v":0.97560975609756095},{"$f":"SUM('!L907940.052'!L20:Q20)/'!L907940.052'!Q3","v":1.6097560975609757},{"$f":"'!L907940.052'!Q16","v":3.0877354779509855E-2}]
[30,{"$f":"'!L908840.052'!B2:C2","v":"<date>"},{"$f":"('!L908840.052'!D7/60)/'!L908840.052'!Q3","v":5.0387596899224806E-3},{"$f":"'!L908840.052'!N20/'!L908840.052'!Q3","v":0.93023255813953487},{"$f":"SUM('!L908840.052'!L20:Q20)/'!L908840.052'!Q3","v":1.5348837209302326},{"$f":"'!L908840.052'!Q16","v":8.7654029108735945E-2}]
[null,{"$f":"'!L909910.052'!B2:C2","v":"<date>"},{"$f":"('!L909910.052'!D7/60)/'!L909910.052'!Q3","v":4.6511627906976744E-3},{"$f":"'!L909910.052'!N20/'!L909910.052'!Q3","v":0.93023255813953487},{"$f":"SUM('!L909910.052'!L20:Q20)/'!L909910.052'!Q3","v":1.5348837209302326},{"$f":"'!L909910.052'!Q16","v":7.9082455473912391E-2}]

{"sheet":"Start","index":2,"n_rows":37,"n_cols":10,"rows_kept":37,"cut":false,"hidden":false,"merged":[]}
[null,null,null,null,null,"Use Folder 51",null,"Auto Clean Up",null,"Correct sequence"]
[null,null,null,null,null,false,null,true,null,12]
[]
["Working with Folder",null,null,null,null,null,"Process All/Or Pick A number: ALL or an integer"]
["E:\\Hen Data\\Raw Data\\52\\Phase 4 con LR\\",null,null,null,null,null,"ALL"]
["Filenames:"]
["!L807930.052",null,null,null,null,null,"Paint Cells"]
["!L808920.052",null,null,null,null,null,false]
["!L809A00.052"]
["!L810A50.052"]
["!L811940.052"]
["!L812910.052"]
["!L813900.052"]
["!L814930.052"]
["!L815A00.052"]
["!L816850.052"]
["!L817920.052"]
["!L818B20.052"]
["!L819910.052"]
["!L820920.052"]
["!L821A30.052"]
["!L822950.052"]
["!L823910.052"]
["!L824920.052"]
["!L826830.052"]
["!L829A10.052"]
["!L830910.052"]
["!L831A10.052"]
["!L901910.052"]
["!L902930.052"]
["!L903900.052"]
["!L904A20.052"]
["!L905950.052"]
["!L906920.052"]
["!L907940.052"]
["!L908840.052"]
["!L909910.052"]

{"sheet":"!L807930.052","index":3,"n_rows":213,"n_cols":48,"rows_kept":213,"cut":false,"hidden":false,"merged":[[4,39,4,42],[5,39,5,40],[4,44,4,47],[5,44,5,45],[4,24,4,27],[5,24,5,25],[4,29,4,32],[5,29,5,30],[4,34,4,37],[5,34,5,35],[1,1,1,2],[5,13,5,14],[18,13,18,14],[19,13,19,14],[4,19,4,22],[5,19,5,20]]}
["Report for:!L807930.052"]
["Date:","<date>"]
["Hen:","<hen>",null,null,null,"Correct Sequence",{"$f":"Start!J2","v":12},null,null,null,null,null,null,null,null,"Total Sequences in Data",{"$f":"4994-COUNTBLANK(L7:L5000)","v":207},null,null,null,null,"Total Sequences in Block Data",{"$f":"COUNTA(L7:L41)","v":35},null,null,null,"Total Sequences in Block Data",{"$f":"COUNTA(L42:L75)","v":34},null,null,null,"Total Sequences in Block Data",{"$f":"COUNTA(L76:L110)","v":35},null,null,null,"Total Sequences in Block Data",{"$f":"COUNTA(L111:L144)","v":34},null,null,null,"Total Sequences in Block Data",{"$f":"COUNTA(L145:L179)","v":35},null,null,null,"Total Sequences in Block Data",{"$f":"COUNTA(L180:L213)","v":34}]
[null,null,null,null,null,null,null,null,null,null,null,null,null,null,null,"Total Sequences in Summary",{"$f":"SUM(O7:O14)","v":207},null,null,null,null,"Total Sequences in Block Summary",{"$f":"SUM(U7:U14)","v":35},null,null,null,"Total Sequences in Block Summary",{"$f":"SUM(Z7:Z14)","v":34},null,null,null,"Total Sequences in Block Summary",{"$f":"SUM(AE7:AE14)","v":35},null,null,null,"Total Sequences in Block Summary",{"$f":"SUM(AJ7:AJ14)","v":34},null,null,null,"Total Sequences in Block Summary",{"$f":"SUM(AO7:AO14)","v":35},null,null,null,"Total Sequences in Block Summary",{"$f":"SUM(AT7:AT14)","v":34}]
[null,null,null,null,null,null,null,null,null,null,null,null,null,null,null,null,null,null,null,"Block 1",null,null,null,null,"Block 2",null,null,null,null,"Block 3",null,null,null,null,"Block 4",null,null,null,null,"Block 5",null,null,null,null,"Block 6"]
["Sequence\nComponent\n1","Time\n1","Sequence\nComponent\n2","Time\n2","Sequence\nComponent\n3","Time\n3","Sequence\nComponent\n4","Time\n4","Sequence\nComponent\n5","Time\n5","Correct?\n0=No 1=Yes","Sequence",null,"Frequency",null,"Relative Frequency","Variability",null,null,"Frequency",null,"Relative Frequency","Variability",null,"Frequency",null,"Relative Frequency","Variability",null,"Frequency",null,"Relative Frequency","Variability",null,"Frequency",null,"Relative Frequency","Variability",null,"Frequency",null,"Relative Frequency","Variability",null,"Frequency",null,"Relative Frequency","Variability"]
[22,9,14,18,null,null,null,null,null,null,0,21,null,11,{"$f":"COUNTIF($L$7:$L$500,N7)","v":0},{"$f":"O7/$Q$4","v":0},{"$f":"IF(P7=0,0,(P7*((LOG(P7))/LOG(2))))","v":0},null,null,{"$f":"N7","v":11},{"$f":"COUNTIF(L7:L41,T7)","v":0},{"$f":"U7/(W4-U8)","v":0},{"$f":"IF(V7=0,0,(V7*((LOG(V7))/LOG(2))))","v":0},null,{"$f":"N7","v":11},{"$f":"COUNTIF(L42:L75,Y7)","v":0},{"$f":"Z7/(AB4-Z8)","v":0},{"$f":"IF(AA7=0,0,(AA7*((LOG(AA7))/LOG(2))))","v":0},null,{"$f":"N7","v":11},{"$f":"COUNTIF(L76:L110,AD7)","v":0},{"$f":"AE7/(AG4-AE8)","v":0},{"$f":"IF(AF7=0,0,(AF7*((LOG(AF7))/LOG(2))))","v":0},null,{"$f":"N7","v":11},{"$f":"COUNTIF(L111:L144,AI7)","v":0},{"$f":"AJ7/(AL4-AJ8)","v":0},{"$f":"IF(AK7=0,0,(AK7*((LOG(AK7))/LOG(2))))","v":0},null,{"$f":"N7","v":11},{"$f":"COUNTIF(L145:L179,AN7)","v":0},{"$f":"AO7/(AQ4-AO8)","v":0},{"$f":"IF(AP7=0,0,(AP7*((LOG(AP7))/LOG(2))))","v":0},null,{"$f":"N7","v":11},{"$f":"COUNTIF(L180:L213,AS7)","v":0},{"$f":"AT7/(AV4-AT8)","v":0},{"$f":"IF(AU7=0,0,(AU7*((LOG(AU7))/LOG(2))))","v":0}]
[22,119,14,127,null,null,null,null,null,null,0,21,null,12,{"$f":"COUNTIF($L$7:$L$500,N8)","v":0},{"$f":"O8/$Q$4","v":0},{"$f":"IF(P8=0,0,(P8*((LOG(P8))/LOG(2))))","v":0},null,null,{"$f":"N8","v":12},{"$f":"COUNTIF(L7:L41,T8)","v":0},null,null,null,{"$f":"N8","v":12},{"$f":"COUNTIF(L42:L75,Y8)","v":0},null,null,null,{"$f":"N8","v":12},{"$f":"COUNTIF(L76:L110,AD8)","v":0},null,null,null,{"$f":"N8","v":12},{"$f":"COUNTIF(L111:L144,AI8)","v":0},null,null,null,{"$f":"N8","v":12},{"$f":"COUNTIF(L145:L179,AN8)","v":0},null,null,null,{"$f":"N8","v":12},{"$f":"COUNTIF(L180:L213,AS8)","v":0}]
[22,219,23,226,null,null,null,null,null,null,0,22,null,21,{"$f":"COUNTIF($L$7:$L$500,N9)","v":49},{"$f":"O9/$Q$4","v":0.23671497584541062},{"$f":"IF(P9=0,0,(P9*((LOG(P9))/LOG(2))))","v":-0.49207767418271364},null,null,{"$f":"N9","v":21},{"$f":"COUNTIF(L7:L41,T9)","v":14},{"$f":"U9/(W4-U8)","v":0.4},{"$f":"IF(V9=0,0,(V9*((LOG(V9))/LOG(2))))","v":-0.52877123795494496},null,{"$f":"N9","v":21},{"$f":"COUNTIF(L42:L75,Y9)","v":10},{"$f":"Z9/(AB4-Z8)","v":0.29411764705882354},{"$f":"IF(AA9=0,0,(AA9*((LOG(AA9))/LOG(2))))","v":-0.51927492540087561},null,{"$f":"N9","v":21},{"$f":"COUNTIF(L76:L110,AD9)","v":4},{"$f":"AE9/(AG4-AE8)","v":0.11428571428571428},{"$f":"IF(AF9=0,0,(AF9*((LOG(AF9))/LOG(2))))","v":-0.35763234479371042},null,{"$f":"N9","v":21},{"$f":"COUNTIF(L111:L144,AI9)","v":5},{"$f":"AJ9/(AL4-AJ8)","v":0.14705882352941177},{"$f":"IF(AK9=0,0,(AK9*((LOG(AK9))/LOG(2))))","v":-0.40669628622984955},null,{"$f":"N9","v":21},{"$f":"COUNTIF(L145:L179,AN9)","v":11},{"$f":"AO9/(AQ4-AO8)","v":0.31428571428571428},{"$f":"IF(AP9=0,0,(AP9*((LOG(AP9))/LOG(2))))","v":-0.52481043946812467},null,{"$f":"N9","v":21},{"$f":"COUNTIF(L180:L213,AS9)","v":5},{"$f":"AT9/(AV4-AT8)","v":0.14705882352941177},{"$f":"IF(AU9=0,0,(AU9*((LOG(AU9))/LOG(2))))","v":-0.40669628622984955}]
[22,323,14,331,null,null,null,null,null,null,0,21,null,22,{"$f":"COUNTIF($L$7:$L$500,N10)","v":158},{"$f":"O10/$Q$4","v":0.76328502415458932},{"$f":"IF(P10=0,0,(P10*((LOG(P10))/LOG(2))))","v":-0.29745691339570596},null,null,{"$f":"N10","v":22},{"$f":"COUNTIF(L7:L41,T10)","v":21},{"$f":"U10/(W4-U8)","v":0.6},{"$f":"IF(V10=0,0,(V10*((LOG(V10))/LOG(2))))","v":-0.44217935649972373},null,{"$f":"N10","v":22},{"$f":"COUNTIF(L42:L75,Y10)","v":24},{"$f":"Z10/(AB4-Z8)","v":0.70588235294117652},{"$f":"IF(AA10=0,0,(AA10*((LOG(AA10))/LOG(2))))","v":-0.35470612272648222},null,{"$f":"N10","v":22},{"$f":"COUNTIF(L76:L110,AD10)","v":31},{"$f":"AE10/(AG4-AE8)","v":0.88571428571428568},{"$f":"IF(AF10=0,0,(AF10*((LOG(AF10))/LOG(2))))","v":-0.15507679723716658},null,{"$f":"N10","v":22},{"$f":"COUNTIF(L111:L144,AI10)","v":29},{"$f":"AJ10/(AL4-AJ8)","v":0.8529411764705882},{"$f":"IF(AK10=0,0,(AK10*((LOG(AK10))/LOG(2))))","v":-0.1957345158105957},null,{"$f":"N10","v":22},{"$f":"COUNTIF(L145:L179,AN10)","v":24},{"$f":"AO10/(AQ4-AO8)","v":0.68571428571428572},{"$f":"IF(AP10=0,0,(AP10*((LOG(AP10))/LOG(2))))","v":-0.37324835398204131},null,{"$f":"N10","v":22},{"$f":"COUNTIF(L180:L213,AS10)","v":29},{"$f":"AT10/(AV4-AT8)","v":0.8529411764705882},{"$f":"IF(AU10=0,0,(AU10*((LOG(AU10))/LOG(2))))","v":-0.1957345158105957}]
[22,435,23,443,null,null,null,null,null,null,0,22,null,null,null,null,null,null,null,{"$f":"N11","v":0},{"$f":"COUNTIF(L7:L41,T11)","v":0},{"$f":"U11/(W4-U8)","v":0},{"$f":"IF(V11=0,0,(V11*((LOG(V11))/LOG(2))))","v":0},null,{"$f":"N11","v":0},{"$f":"COUNTIF(L42:L75,Y11)","v":0},{"$f":"Z11/(AB4-Z8)","v":0},{"$f":"IF(AA11=0,0,(AA11*((LOG(AA11))/LOG(2))))","v":0},null,{"$f":"N11","v":0},{"$f":"COUNTIF(L76:L110,AD11)","v":0},{"$f":"AE11/(AG4-AE8)","v":0},{"$f":"IF(AF11=0,0,(AF11*((LOG(AF11))/LOG(2))))","v":0},null,{"$f":"N11","v":0},{"$f":"COUNTIF(L111:L144,AI11)","v":0},{"$f":"AJ11/(AL4-AJ8)","v":0},{"$f":"IF(AK11=0,0,(AK11*((LOG(AK11))/LOG(2))))","v":0},null,{"$f":"N11","v":0},{"$f":"COUNTIF(L145:L179,AN11)","v":0},{"$f":"AO11/(AQ4-AO8)","v":0},{"$f":"IF(AP11=0,0,(AP11*((LOG(AP11))/LOG(2))))","v":0},null,{"$f":"N11","v":0},{"$f":"COUNTIF(L180:L213,AS11)","v":0},{"$f":"AT11/(AV4-AT8)","v":0},{"$f":"IF(AU11=0,0,(AU11*((LOG(AU11))/LOG(2))))","v":0}]
[22,538,23,545,null,null,null,null,null,null,0,22,null,null,null,null,null,null,null,{"$f":"N12","v":0},{"$f":"COUNTIF(L7:L41,T12)","v":0},{"$f":"U12/(W4-U8)","v":0},{"$f":"IF(V12=0,0,(V12*((LOG(V12))/LOG(2))))","v":0},null,{"$f":"N12","v":0},{"$f":"COUNTIF(L42:L75,Y12)","v":0},{"$f":"Z12/(AB4-Z8)","v":0},{"$f":"IF(AA12=0,0,(AA12*((LOG(AA12))/LOG(2))))","v":0},null,{"$f":"N12","v":0},{"$f":"COUNTIF(L76:L110,AD12)","v":0},{"$f":"AE12/(AG4-AE8)","v":0},{"$f":"IF(AF12=0,0,(AF12*((LOG(AF12))/LOG(2))))","v":0},null,{"$f":"N12","v":0},{"$f":"COUNTIF(L111:L144,AI12)","v":0},{"$f":"AJ12/(AL4-AJ8)","v":0},{"$f":"IF(AK12=0,0,(AK12*((LOG(AK12))/LOG(2))))","v":0},null,{"$f":"N12","v":0},{"$f":"COUNTIF(L145:L179,AN12)","v":0},{"$f":"AO12/(AQ4-AO8)","v":0},{"$f":"IF(AP12=0,0,(AP12*((LOG(AP12))/LOG(2))))","v":0},null,{"$f":"N12","v":0},{"$f":"COUNTIF(L180:L213,AS12)","v":0},{"$f":"AT12/(AV4-AT8)","v":0},{"$f":"IF(AU12=0,0,(AU12*((LOG(AU12))/LOG(2))))","v":0}]
[22,647,23,664,null,null,null,null,null,null,0,22,null,null,null,null,null,null,null,{"$f":"N13","v":0},{"$f":"COUNTIF(L7:L41,T13)","v":0},{"$f":"U13/(W4-U8)","v":0},{"$f":"IF(V13=0,0,(V13*((LOG(V13))/LOG(2))))","v":0},null,{"$f":"N13","v":0},{"$f":"COUNTIF(L42:L75,Y13)","v":0},{"$f":"Z13/(AB4-Z8)","v":0},{"$f":"IF(AA13=0,0,(AA13*((LOG(AA13))/LOG(2))))","v":0},null,{"$f":"N13","v":0},{"$f":"COUNTIF(L76:L110,AD13)","v":0},{"$f":"AE13/(AG4-AE8)","v":0},{"$f":"IF(AF13=0,0,(AF13*((LOG(AF13))/LOG(2))))","v":0},null,{"$f":"N13","v":0},{"$f":"COUNTIF(L111:L144,AI13)","v":0},{"$f":"AJ13/(AL4-AJ8)","v":0},{"$f":"IF(AK13=0,0,(AK13*((LOG(AK13))/LOG(2))))","v":0},null,{"$f":"N13","v":0},{"$f":"COUNTIF(L145:L179,AN13)","v":0},{"$f":"AO13/(AQ4-AO8)","v":0},{"$f":"IF(AP13=0,0,(AP13*((LOG(AP13))/LOG(2))))","v":0},null,{"$f":"N13","v":0},{"$f":"COUNTIF(L180:L213,AS13)","v":0},{"$f":"AT13/(AV4-AT8)","v":0},{"$f":"IF(AU13=0,0,(AU13*((LOG(AU13))/LOG(2))))","v":0}]
[22,761,14,769,null,null,null,null,null,null,0,21,null,null,null,null,null,null,null,{"$f":"N14","v":0},{"$f":"COUNTIF(L7:L41,T14)","v":0},{"$f":"U14/(W4-U8)","v":0},{"$f":"IF(V14=0,0,(V14*((LOG(V14))/LOG(2))))","v":0},null,{"$f":"N14","v":0},{"$f":"COUNTIF(L42:L75,Y14)","v":0},{"$f":"Z14/(AB4-Z8)","v":0},{"$f":"IF(AA14=0,0,(AA14*((LOG(AA14))/LOG(2))))","v":0},null,{"$f":"N14","v":0},{"$f":"COUNTIF(L76:L110,AD14)","v":0},{"$f":"AE14/(AG4-AE8)","v":0},{"$f":"IF(AF14=0,0,(AF14*((LOG(AF14))/LOG(2))))","v":0},null,{"$f":"N14","v":0},{"$f":"COUNTIF(L111:L144,AI14)","v":0},{"$f":"AJ14/(AL4-AJ8)","v":0},{"$f":"IF(AK14=0,0,(AK14*((LOG(AK14))/LOG(2))))","v":0},null,{"$f":"N14","v":0},{"$f":"COUNTIF(L145:L179,AN14)","v":0},{"$f":"AO14/(AQ4-AO8)","v":0},{"$f":"IF(AP14=0,0,(AP14*((LOG(AP14))/LOG(2))))","v":0},null,{"$f":"N14","v":0},{"$f":"COUNTIF(L180:L213,AS14)","v":0},{"$f":"AT14/(AV4-AT8)","v":0},{"$f":"IF(AU14=0,0,(AU14*((LOG(AU14))/LOG(2))))","v":0}]
[22,867,14,876,null,null,null,null,null,null,0,21,null,null,null,{"$f":"SUM(P7:P14)","v":1},{"$f":"-SUM(Q7:Q14)","v":0.78953458757841966},null,null,null,null,{"$f":"SUM(V7:V14)","v":1},{"$f":"-SUM(W7:W14)","v":0.97095059445466869},null,null,null,{"$f":"SUM(AA7:AA14)","v":1},{"$f":"-SUM(AB7:AB14)","v":0.87398104812735777},null,null,null,{"$f":"SUM(AF7:AF14)","v":1},{"$f":"-SUM(AG7:AG14)","v":0.51270914203087703},null,null,null,{"$f":"SUM(AK7:AK14)","v":1},{"$f":"-SUM(AL7:AL14)","v":0.60243080204044519},null,null,null,{"$f":"SUM(AP7:AP14)","v":1},{"$f":"-SUM(AQ7:AQ14)","v":0.89805879345016604},null,null,null,{"$f":"SUM(AU7:AU14)","v":1},{"$f":"-SUM(AV7:AV14)","v":0.60243080204044519}]
[22,971,23,975,null,null,null,null,null,null,0,22,null,null,null,"U=",{"$f":"Q15/(LOG(Q4)/LOG(2))","v":0.10262376370298655},null,null,null,null,"U1=",{"$f":"W15/(LOG(W4)/LOG(2))","v":0.1892955782020726},null,null,null,"U2=",{"$f":"AB15/(LOG(AB4)/LOG(2))","v":0.17179114136046655},null,null,null,"U3=",{"$f":"AG15/(LOG(AG4)/LOG(2))","v":9.9957272846342149E-2},null,null,null,"U4=",{"$f":"AL15/(LOG(AL4)/LOG(2))","v":0.11841478175639836},null,null,null,"U5=",{"$f":"AQ15/(LOG(AQ4)/LOG(2))","v":0.17508466397415823},null,null,null,"U6=",{"$f":"AV15/(LOG(AV4)/LOG(2))","v":0.11841478175639836}]
[22,1079,23,1086,null,null,null,null,null,null,0,22]
[22,1184,23,1191,null,null,null,null,null,null,0,22]
[22,1322,23,1333,null,null,null,null,null,null,0,22,null,"Total Target Seq"]
[22,1429,14,1437,null,null,null,null,null,null,0,21,null,{"$f":"COUNTIF(L7:L213,G3)","v":0},null,35,34,35,34,35,34]
[22,1531,14,1539,null,null,null,null,null,null,0,21,null,null,null,"% of reinforcement given in 6 equal intervals based on number of trials "]
[22,1639,23,1646,null,null,null,null,null,null,0,22,null,null,null,"%_1","%_2","%_3","%_4","%_5","%_6"]
[22,1743,23,1747,null,null,null,null,null,null,0,22,null,null,"target sequence",{"$f":"$G$3","v":12},{"$f":"$G$3","v":12},{"$f":"$G$3","v":12},{"$f":"$G$3","v":12},{"$f":"$G$3","v":12},{"$f":"$G$3","v":12}]
[22,1852,23,1858,null,null,null,null,null,null,0,22,null,null,"total reinforcement",{"$f":"U8","v":0},{"$f":"Z8","v":0},{"$f":"AE8","v":0},{"$f":"AJ8","v":0},{"$f":"AO8","v":0},{"$f":"AT8","v":0}]
[22,1956,23,1961,null,null,null,null,null,null,0,22,null,null,"% target"]
[22,2067,23,2081,null,null,null,null,null,null,0,22,null,null,"CCRF"]
[22,2191,14,2199,null,null,null,null,null,null,0,21,null,null,"% CCRf"]
[22,2300,14,2309,null,null,null,null,null,null,0,21,null,null,"average response rate",{"$f":"D41/P20","v":107.48571428571428},{"$f":"(D75-D41)/Q20","v":112.70588235294117},{"$f":"(D110-D75)/R20","v":111.97142857142858},{"$f":"(D144-D110)/S20","v":111.23529411764706},{"$f":"(D179-D144)/T20","v":118.51428571428572},{"$f":"(D213-D179)/U20","v":133.35294117647058}]
[22,2418,23,2426,null,null,null,null,null,null,0,22]
[22,2524,14,2532,null,null,null,null,null,null,0,21]
[22,2634,14,2645,null,null,null,null,null,null,0,21]
[22,2753,14,2762,null,null,null,null,null,null,0,21]
[22,2858,23,2865,null,null,null,null,null,null,0,22]
[22,2982,23,2993,null,null,null,null,null,null,0,22]
[22,3090,23,3095,null,null,null,null,null,null,0,22]
[22,3196,23,3213,null,null,null,null,null,null,0,22]
[22,3311,23,3316,null,null,null,null,null,null,0,22]
[22,3417,14,3425,null,null,null,null,null,null,0,21]
[22,3521,23,3534,null,null,null,null,null,null,0,22]
[22,3630,23,3638,null,null,null,null,null,null,0,22]
[22,3751,14,3762,null,null,null,null,null,null,0,21]
[22,3872,23,3884,null,null,null,null,null,null,0,22]
[22,4002,23,4025,null,null,null,null,null,null,0,22]
[22,4118,23,4122,null,null,null,null,null,null,0,22]
[22,4219,23,4236,null,null,null,null,null,null,0,22]
[22,4339,23,4347,null,null,null,null,null,null,0,22]
[22,4445,23,4453,null,null,null,null,null,null,0,22]
[22,4576,14,4586,null,null,null,null,null,null,0,21]
[22,4681,23,4685,null,null,null,null,null,null,0,22]
[22,4784,14,4794,null,null,null,null,null,null,0,21]
[22,4913,14,4922,null,null,null,null,null,null,0,21]
[22,5018,23,5022,null,null,null,null,null,null,0,22]
[22,5114,23,5119,null,null,null,null,null,null,0,22]
[22,5245,14,5255,null,null,null,null,null,null,0,21]
[22,5357,23,5366,null,null,null,null,null,null,0,22]
[22,5465,23,5472,null,null,null,null,null,null,0,22]
[22,5571,23,5590,null,null,null,null,null,null,0,22]
[22,5687,23,5691,null,null,null,null,null,null,0,22]
[22,5789,23,5796,null,null,null,null,null,null,0,22]
[22,5899,23,5912,null,null,null,null,null,null,0,22]
[22,6008,23,6026,null,null,null,null,null,null,0,22]
[22,6121,23,6132,null,null,null,null,null,null,0,22]
[22,6251,23,6260,null,null,null,null,null,null,0,22]
[22,6358,14,6367,null,null,null,null,null,null,0,21]
[22,6464,14,6474,null,null,null,null,null,null,0,21]
[22,6573,23,6580,null,null,null,null,null,null,0,22]
[22,6677,23,6682,null,null,null,null,null,null,0,22]
[22,6784,23,6797,null,null,null,null,null,null,0,22]
[22,6902,14,6923,null,null,null,null,null,null,0,21]
[22,7043,23,7056,null,null,null,null,null,null,0,22]
[22,7151,23,7155,null,null,null,null,null,null,0,22]
[22,7254,14,7262,null,null,null,null,null,null,0,21]
[22,7366,14,7375,null,null,null,null,null,null,0,21]
[22,7473,14,7485,null,null,null,null,null,null,0,21]
[22,7582,23,7594,null,null,null,null,null,null,0,22]
[22,7696,23,7704,null,null,null,null,null,null,0,22]
[22,7798,23,7803,null,null,null,null,null,null,0,22]
[22,7902,23,7909,null,null,null,null,null,null,0,22]
[22,8006,23,8011,null,null,null,null,null,null,0,22]
[22,8115,23,8122,null,null,null,null,null,null,0,22]
[22,8222,23,8226,null,null,null,null,null,null,0,22]
[22,8323,23,8329,null,null,null,null,null,null,0,22]
[22,8438,23,8445,null,null,null,null,null,null,0,22]
[22,8549,23,8556,null,null,null,null,null,null,0,22]
[22,8659,23,8670,null,null,null,null,null,null,0,22]
[22,8773,23,8781,null,null,null,null,null,null,0,22]
[22,8896,14,8905,null,null,null,null,null,null,0,21]
[22,9002,23,9019,null,null,null,null,null,null,0,22]
[22,9132,23,9142,null,null,null,null,null,null,0,22]
[22,9247,23,9255,null,null,null,null,null,null,0,22]
[22,9352,23,9356,null,null,null,null,null,null,0,22]
[22,9453,23,9458,null,null,null,null,null,null,0,22]
[22,9557,23,9572,null,null,null,null,null,null,0,22]
[22,9685,23,9692,null,null,null,null,null,null,0,22]
[22,9789,23,9796,null,null,null,null,null,null,0,22]
[22,9900,23,9906,null,null,null,null,null,null,0,22]
[22,10006,23,10014,null,null,null,null,null,null,0,22]
[22,10129,23,10136,null,null,null,null,null,null,0,22]
[22,10236,23,10243,null,null,null,null,null,null,0,22]
[22,10339,23,10355,null,null,null,null,null,null,0,22]
[22,10459,23,10473,null,null,null,null,null,null,0,22]
[22,10576,23,10584,null,null,null,null,null,null,0,22]
[22,10691,23,10698,null,null,null,null,null,null,0,22]
[22,10800,23,10807,null,null,null,null,null,null,0,22]
[22,10924,23,10947,null,null,null,null,null,null,0,22]
[22,11044,23,11057,null,null,null,null,null,null,0,22]
[22,11162,14,11172,null,null,null,null,null,null,0,21]
[22,11274,14,11282,null,null,null,null,null,null,0,21]
[22,11385,14,11397,null,null,null,null,null,null,0,21]
[22,11505,23,11513,null,null,null,null,null,null,0,22]
[22,11610,23,11616,null,null,null,null,null,null,0,22]
[22,11713,23,11719,null,null,null,null,null,null,0,22]
[22,11821,23,11829,null,null,null,null,null,null,0,22]
[22,11942,23,11949,null,null,null,null,null,null,0,22]
[22,12049,23,12061,null,null,null,null,null,null,0,22]
[22,12163,23,12169,null,null,null,null,null,null,0,22]
[22,12269,23,12281,null,null,null,null,null,null,0,22]
[22,12384,23,12392,null,null,null,null,null,null,0,22]
[22,12492,23,12499,null,null,null,null,null,null,0,22]
[22,12599,23,12606,null,null,null,null,null,null,0,22]
[22,12720,14,12729,null,null,null,null,null,null,0,21]
[22,12826,23,12839,null,null,null,null,null,null,0,22]
[22,12949,23,12963,null,null,null,null,null,null,0,22]
[22,13064,14,13074,null,null,null,null,null,null,0,21]
[22,13179,14,13189,null,null,null,null,null,null,0,21]
[22,13292,14,13303,null,null,null,null,null,null,0,21]
[22,13406,23,13413,null,null,null,null,null,null,0,22]
[22,13511,23,13518,null,null,null,null,null,null,0,22]
[22,13623,23,13630,null,null,null,null,null,null,0,22]
[22,13729,23,13736,null,null,null,null,null,null,0,22]
[22,13833,23,13840,null,null,null,null,null,null,0,22]
[22,13955,23,13974,null,null,null,null,null,null,0,22]
[22,14070,23,14074,null,null,null,null,null,null,0,22]
[22,14186,23,14193,null,null,null,null,null,null,0,22]
[22,14291,23,14302,null,null,null,null,null,null,0,22]
[22,14399,23,14403,null,null,null,null,null,null,0,22]
[22,14503,23,14509,null,null,null,null,null,null,0,22]
[22,14613,14,14624,null,null,null,null,null,null,0,21]
[22,14739,23,14747,null,null,null,null,null,null,0,22]
[22,14843,23,14850,null,null,null,null,null,null,0,22]
[22,14948,23,14952,null,null,null,null,null,null,0,22]
[22,15050,23,15057,null,null,null,null,null,null,0,22]
[22,15166,23,15186,null,null,null,null,null,null,0,22]
[22,15282,23,15295,null,null,null,null,null,null,0,22]
[22,15410,23,15421,null,null,null,null,null,null,0,22]
[22,15547,23,15555,null,null,null,null,null,null,0,22]
[22,15674,23,15682,null,null,null,null,null,null,0,22]
[22,15778,23,15785,null,null,null,null,null,null,0,22]
[22,15921,14,15934,null,null,null,null,null,null,0,21]
[22,16031,23,16037,null,null,null,null,null,null,0,22]
[22,16146,14,16155,null,null,null,null,null,null,0,21]
[22,16266,23,16278,null,null,null,null,null,null,0,22]
[22,16378,23,16385,null,null,null,null,null,null,0,22]
[22,16493,14,16502,null,null,null,null,null,null,0,21]
[22,16611,23,16623,null,null,null,null,null,null,0,22]
[22,16732,14,16742,null,null,null,null,null,null,0,21]
[22,16846,14,16855,null,null,null,null,null,null,0,21]
[22,16968,14,16977,null,null,null,null,null,null,0,21]
[22,17082,14,17096,null,null,null,null,null,null,0,21]
[22,17205,23,17220,null,null,null,null,null,null,0,22]
[22,17322,23,17329,null,null,null,null,null,null,0,22]
[22,17433,23,17440,null,null,null,null,null,null,0,22]
[22,17546,23,17554,null,null,null,null,null,null,0,22]
[22,17659,14,17675,null,null,null,null,null,null,0,21]
[22,17791,23,17805,null,null,null,null,null,null,0,22]
[22,17905,23,17912,null,null,null,null,null,null,0,22]
[22,18010,23,18016,null,null,null,null,null,null,0,22]
[22,18138,14,18158,null,null,null,null,null,null,0,21]
[22,18265,23,18276,null,null,null,null,null,null,0,22]
[22,18385,23,18396,null,null,null,null,null,null,0,22]
[22,18504,23,18524,null,null,null,null,null,null,0,22]
[22,18629,23,18636,null,null,null,null,null,null,0,22]
[22,18739,23,18760,null,null,null,null,null,null,0,22]
[22,18858,23,18865,null,null,null,null,null,null,0,22]
[22,18967,23,18977,null,null,null,null,null,null,0,22]
[22,19092,14,19104,null,null,null,null,null,null,0,21]
[22,19208,14,19223,null,null,null,null,null,null,0,21]
[22,19328,23,19335,null,null,null,null,null,null,0,22]
[22,19437,23,19443,null,null,null,null,null,null,0,22]
[22,19543,23,19548,null,null,null,null,null,null,0,22]
[22,19645,23,19657,null,null,null,null,null,null,0,22]
[22,19770,14,19783,null,null,null,null,null,null,0,21]
[22,19895,23,19911,null,null,null,null,null,null,0,22]
[22,20025,23,20038,null,null,null,null,null,null,0,22]
[22,20137,23,20148,null,null,null,null,null,null,0,22]
[22,20248,23,20255,null,null,null,null,null,null,0,22]
[22,20364,23,20375,null,null,null,null,null,null,0,22]
[22,20477,23,20489,null,null,null,null,null,null,0,22]
[22,20589,23,20595,null,null,null,null,null,null,0,22]
[22,20699,23,20709,null,null,null,null,null,null,0,22]
[22,20856,23,20870,null,null,null,null,null,null,0,22]
[22,20987,14,20998,null,null,null,null,null,null,0,21]
[22,21106,23,21113,null,null,null,null,null,null,0,22]
[22,21255,23,21275,null,null,null,null,null,null,0,22]
[22,21380,23,21390,null,null,null,null,null,null,0,22]
[22,21492,23,21502,null,null,null,null,null,null,0,22]
[22,21607,23,21614,null,null,null,null,null,null,0,22]
[22,21719,23,21729,null,null,null,null,null,null,0,22]
[22,21832,23,21844,null,null,null,null,null,null,0,22]
[22,21951,23,21958,null,null,null,null,null,null,0,22]
[22,22062,23,22080,null,null,null,null,null,null,0,22]
[22,22185,23,22191,null,null,null,null,null,null,0,22]
[22,22306,23,22318,null,null,null,null,null,null,0,22]
[22,22493,14,22507,null,null,null,null,null,null,0,21]
[22,22634,23,22648,null,null,null,null,null,null,0,22]
[22,22878,14,22890,null,null,null,null,null,null,0,21]
[22,23052,23,23073,null,null,null,null,null,null,0,22]
[22,23190,23,23197,null,null,null,null,null,null,0,22]
[22,23336,23,23344,null,null,null,null,null,null,0,22]
[22,23470,23,23482,null,null,null,null,null,null,0,22]
[22,23587,23,23595,null,null,null,null,null,null,0,22]
[22,23846,23,23855,null,null,null,null,null,null,0,22]
[22,23966,14,23977,null,null,null,null,null,null,null,21]

{"sheet":"!L808920.052","index":4,"n_rows":176,"n_cols":48,"rows_kept":176,"cut":false,"hidden":false,"merged":[[4,39,4,42],[5,39,5,40],[4,44,4,47],[5,44,5,45],[4,24,4,27],[5,24,5,25],[4,29,4,32],[5,29,5,30],[4,34,4,37],[5,34,5,35],[1,1,1,2],[5,13,5,14],[18,13,18,14],[19,13,19,14],[4,19,4,22],[5,19,5,20]]}
["Report for:!L808920.052"]
["Date:","<date>"]
["Hen:","<hen>",null,null,null,"Correct Sequence",{"$f":"Start!J2","v":12},null,null,null,null,null,null,null,null,"Total Sequences in Data",{"$f":"4994-COUNTBLANK(L7:L5000)","v":170},null,null,null,null,"Total Sequences in Block Data",{"$f":"COUNTA(L7:L34)","v":28},null,null,null,"Total Sequences in Block Data",{"$f":"COUNTA(L35:L63)","v":29},null,null,null,"Total Sequences in Block Data",{"$f":"COUNTA(L64:L91)","v":28},null,null,null,"Total Sequences in Block Data",{"$f":"COUNTA(L92:L119)","v":28},null,null,null,"Total Sequences in Block Data",{"$f":"COUNTA(L120:L148)","v":29},null,null,null,"Total Sequences in Block Data",{"$f":"COUNTA(L149:L176)","v":28}]
[null,null,null,null,null,null,null,null,null,null,null,null,null,null,null,"Total Sequences in Summary",{"$f":"SUM(O7:O14)","v":170},null,null,null,null,"Total Sequences in Block Summary",{"$f":"SUM(U7:U14)","v":28},null,null,null,"Total Sequences in Block Summary",{"$f":"SUM(Z7:Z14)","v":29},null,null,null,"Total Sequences in Block Summary",{"$f":"SUM(AE7:AE14)","v":28},null,null,null,"Total Sequences in Block Summary",{"$f":"SUM(AJ7:AJ14)","v":28},null,null,null,"Total Sequences in Block Summary",{"$f":"SUM(AO7:AO14)","v":29},null,null,null,"Total Sequences in Block Summary",{"$f":"SUM(AT7:AT14)","v":28}]
[null,null,null,null,null,null,null,null,null,null,null,null,null,null,null,null,null,null,null,"Block 1",null,null,null,null,"Block 2",null,null,null,null,"Block 3",null,null,null,null,"Block 4",null,null,null,null,"Block 5",null,null,null,null,"Block 6"]
["Sequence\nComponent\n1","Time\n1","Sequence\nComponent\n2","Time\n2","Sequence\nComponent\n3","Time\n3","Sequence\nComponent\n4","Time\n4","Sequence\nComponent\n5","Time\n5","Correct?\n0=No 1=Yes","Sequence",null,"Frequency",null,"Relative Frequency","Variability",null,null,"Frequency",null,"Relative Frequency","Variability",null,"Frequency",null,"Relative Frequency","Variability",null,"Frequency",null,"Relative Frequency","Variability",null,"Frequency",null,"Relative Frequency","Variability",null,"Frequency",null,"Relative Frequency","Variability",null,"Frequency",null,"Relative Frequency","Variability"]
[22,9,23,25,null,null,null,null,null,null,0,22,null,11,{"$f":"COUNTIF($L$7:$L$500,N7)","v":0},{"$f":"O7/$Q$4","v":0},{"$f":"IF(P7=0,0,(P7*((LOG(P7))/LOG(2))))","v":0},null,null,{"$f":"N7","v":11},{"$f":"COUNTIF(L7:L34,T7)","v":0},{"$f":"U7/(W4-U8)","v":0},{"$f":"IF(V7=0,0,(V7*((LOG(V7))/LOG(2))))","v":0},null,{"$f":"N7","v":11},{"$f":"COUNTIF(L35:L63,Y7)","v":0},{"$f":"Z7/(AB4-Z8)","v":0},{"$f":"IF(AA7=0,0,(AA7*((LOG(AA7))/LOG(2))))","v":0},null,{"$f":"N7","v":11},{"$f":"COUNTIF(L64:L91,AD7)","v":0},{"$f":"AE7/(AG4-AE8)","v":0},{"$f":"IF(AF7=0,0,(AF7*((LOG(AF7))/LOG(2))))","v":0},null,{"$f":"N7","v":11},{"$f":"COUNTIF(L92:L119,AI7)","v":0},{"$f":"AJ7/(AL4-AJ8)","v":0},{"$f":"IF(AK7=0,0,(AK7*((LOG(AK7))/LOG(2))))","v":0},null,{"$f":"N7","v":11},{"$f":"COUNTIF(L120:L148,AN7)","v":0},{"$f":"AO7/(AQ4-AO8)","v":0},{"$f":"IF(AP7=0,0,(AP7*((LOG(AP7))/LOG(2))))","v":0},null,{"$f":"N7","v":11},{"$f":"COUNTIF(L149:L176,AS7)","v":0},{"$f":"AT7/(AV4-AT8)","v":0},{"$f":"IF(AU7=0,0,(AU7*((LOG(AU7))/LOG(2))))","v":0}]
[22,127,23,140,null,null,null,null,null,null,0,22,null,12,{"$f":"COUNTIF($L$7:$L$500,N8)","v":0},{"$f":"O8/$Q$4","v":0},{"$f":"IF(P8=0,0,(P8*((LOG(P8))/LOG(2))))","v":0},null,null,{"$f":"N8","v":12},{"$f":"COUNTIF(L7:L34,T8)","v":0},null,null,null,{"$f":"N8","v":12},{"$f":"COUNTIF(L35:L63,Y8)","v":0},null,null,null,{"$f":"N8","v":12},{"$f":"COUNTIF(L64:L91,AD8)","v":0},null,null,null,{"$f":"N8","v":12},{"$f":"COUNTIF(L92:L119,AI8)","v":0},null,null,null,{"$f":"N8","v":12},{"$f":"COUNTIF(L120:L148,AN8)","v":0},null,null,null,{"$f":"N8","v":12},{"$f":"COUNTIF(L149:L176,AS8)","v":0}]
[22,240,23,248,null,null,null,null,null,null,0,22,null,21,{"$f":"COUNTIF($L$7:$L$500,N9)","v":18},{"$f":"O9/$Q$4","v":0.10588235294117647},{"$f":"IF(P9=0,0,(P9*((LOG(P9))/LOG(2))))","v":-0.34300227543833534},null,null,{"$f":"N9","v":21},{"$f":"COUNTIF(L7:L34,T9)","v":6},{"$f":"U9/(W4-U8)","v":0.21428571428571427},{"$f":"IF(V9=0,0,(V9*((LOG(V9))/LOG(2))))","v":-0.47622694742923877},null,{"$f":"N9","v":21},{"$f":"COUNTIF(L35:L63,Y9)","v":4},{"$f":"Z9/(AB4-Z8)","v":0.13793103448275862},{"$f":"IF(AA9=0,0,(AA9*((LOG(AA9))/LOG(2))))","v":-0.39420427519000989},null,{"$f":"N9","v":21},{"$f":"COUNTIF(L64:L91,AD9)","v":1},{"$f":"AE9/(AG4-AE8)","v":3.5714285714285712E-2},{"$f":"IF(AF9=0,0,(AF9*((LOG(AF9))/LOG(2))))","v":-0.17169124721634299},null,{"$f":"N9","v":21},{"$f":"COUNTIF(L92:L119,AI9)","v":3},{"$f":"AJ9/(AL4-AJ8)","v":0.10714285714285714},{"$f":"IF(AK9=0,0,(AK9*((LOG(AK9))/LOG(2))))","v":-0.34525633085747659},null,{"$f":"N9","v":21},{"$f":"COUNTIF(L120:L148,AN9)","v":1},{"$f":"AO9/(AQ4-AO8)","v":3.4482758620689655E-2},{"$f":"IF(AP9=0,0,(AP9*((LOG(AP9))/LOG(2))))","v":-0.16751658603888178},null,{"$f":"N9","v":21},{"$f":"COUNTIF(L149:L176,AS9)","v":3},{"$f":"AT9/(AV4-AT8)","v":0.10714285714285714},{"$f":"IF(AU9=0,0,(AU9*((LOG(AU9))/LOG(2))))","v":-0.34525633085747659}]
[22,346,14,354,null,null,null,null,null,null,0,21,null,22,{"$f":"COUNTIF($L$7:$L$500,N10)","v":152},{"$f":"O10/$Q$4","v":0.89411764705882357},{"$f":"IF(P10=0,0,(P10*((LOG(P10))/LOG(2))))","v":-0.14436729558532743},null,null,{"$f":"N10","v":22},{"$f":"COUNTIF(L7:L34,T10)","v":22},{"$f":"U10/(W4-U8)","v":0.7857142857142857},{"$f":"IF(V10=0,0,(V10*((LOG(V10))/LOG(2))))","v":-0.27336830983024107},null,{"$f":"N10","v":22},{"$f":"COUNTIF(L35:L63,Y10)","v":25},{"$f":"Z10/(AB4-Z8)","v":0.86206896551724133},{"$f":"IF(AA10=0,0,(AA10*((LOG(AA10))/LOG(2))))","v":-0.18459034944210989},null,{"$f":"N10","v":22},{"$f":"COUNTIF(L64:L91,AD10)","v":27},{"$f":"AE10/(AG4-AE8)","v":0.9642857142857143},{"$f":"IF(AF10=0,0,(AF10*((LOG(AF10))/LOG(2))))","v":-5.0593583469344984E-2},null,{"$f":"N10","v":22},{"$f":"COUNTIF(L92:L119,AI10)","v":25},{"$f":"AJ10/(AL4-AJ8)","v":0.8928571428571429},{"$f":"IF(AK10=0,0,(AK10*((LOG(AK10))/LOG(2))))","v":-0.14598101096685656},null,{"$f":"N10","v":22},{"$f":"COUNTIF(L120:L148,AN10)","v":28},{"$f":"AO10/(AQ4-AO8)","v":0.96551724137931039},{"$f":"IF(AP10=0,0,(AP10*((LOG(AP10))/LOG(2))))","v":-4.8880346412382848E-2},null,{"$f":"N10","v":22},{"$f":"COUNTIF(L149:L176,AS10)","v":25},{"$f":"AT10/(AV4-AT8)","v":0.8928571428571429},{"$f":"IF(AU10=0,0,(AU10*((LOG(AU10))/LOG(2))))","v":-0.14598101096685656}]
[22,454,14,463,null,null,null,null,null,null,0,21,null,null,null,null,null,null,null,{"$f":"N11","v":0},{"$f":"COUNTIF(L7:L34,T11)","v":0},{"$f":"U11/(W4-U8)","v":0},{"$f":"IF(V11=0,0,(V11*((LOG(V11))/LOG(2))))","v":0},null,{"$f":"N11","v":0},{"$f":"COUNTIF(L35:L63,Y11)","v":0},{"$f":"Z11/(AB4-Z8)","v":0},{"$f":"IF(AA11=0,0,(AA11*((LOG(AA11))/LOG(2))))","v":0},null,{"$f":"N11","v":0},{"$f":"COUNTIF(L64:L91,AD11)","v":0},{"$f":"AE11/(AG4-AE8)","v":0},{"$f":"IF(AF11=0,0,(AF11*((LOG(AF11))/LOG(2))))","v":0},null,{"$f":"N11","v":0},{"$f":"COUNTIF(L92:L119,AI11)","v":0},{"$f":"AJ11/(AL4-AJ8)","v":0},{"$f":"IF(AK11=0,0,(AK11*((LOG(AK11))/LOG(2))))","v":0},null,{"$f":"N11","v":0},{"$f":"COUNTIF(L120:L148,AN11)","v":0},{"$f":"AO11/(AQ4-AO8)","v":0},{"$f":"IF(AP11=0,0,(AP11*((LOG(AP11))/LOG(2))))","v":0},null,{"$f":"N11","v":0},{"$f":"COUNTIF(L149:L176,AS11)","v":0},{"$f":"AT11/(AV4-AT8)","v":0},{"$f":"IF(AU11=0,0,(AU11*((LOG(AU11))/LOG(2))))","v":0}]
[22,575,23,587,null,null,null,null,null,null,0,22,null,null,null,null,null,null,null,{"$f":"N12","v":0},{"$f":"COUNTIF(L7:L34,T12)","v":0},{"$f":"U12/(W4-U8)","v":0},{"$f":"IF(V12=0,0,(V12*((LOG(V12))/LOG(2))))","v":0},null,{"$f":"N12","v":0},{"$f":"COUNTIF(L35:L63,Y12)","v":0},{"$f":"Z12/(AB4-Z8)","v":0},{"$f":"IF(AA12=0,0,(AA12*((LOG(AA12))/LOG(2))))","v":0},null,{"$f":"N12","v":0},{"$f":"COUNTIF(L64:L91,AD12)","v":0},{"$f":"AE12/(AG4-AE8)","v":0},{"$f":"IF(AF12=0,0,(AF12*((LOG(AF12))/LOG(2))))","v":0},null,{"$f":"N12","v":0},{"$f":"COUNTIF(L92:L119,AI12)","v":0},{"$f":"AJ12/(AL4-AJ8)","v":0},{"$f":"IF(AK12=0,0,(AK12*((LOG(AK12))/LOG(2))))","v":0},null,{"$f":"N12","v":0},{"$f":"COUNTIF(L120:L148,AN12)","v":0},{"$f":"AO12/(AQ4-AO8)","v":0},{"$f":"IF(AP12=0,0,(AP12*((LOG(AP12))/LOG(2))))","v":0},null,{"$f":"N12","v":0},{"$f":"COUNTIF(L149:L176,AS12)","v":0},{"$f":"AT12/(AV4-AT8)","v":0},{"$f":"IF(AU12=0,0,(AU12*((LOG(AU12))/LOG(2))))","v":0}]
[22,689,23,697,null,null,null,null,null,null,0,22,null,null,null,null,null,null,null,{"$f":"N13","v":0},{"$f":"COUNTIF(L7:L34,T13)","v":0},{"$f":"U13/(W4-U8)","v":0},{"$f":"IF(V13=0,0,(V13*((LOG(V13))/LOG(2))))","v":0},null,{"$f":"N13","v":0},{"$f":"COUNTIF(L35:L63,Y13)","v":0},{"$f":"Z13/(AB4-Z8)","v":0},{"$f":"IF(AA13=0,0,(AA13*((LOG(AA13))/LOG(2))))","v":0},null,{"$f":"N13","v":0},{"$f":"COUNTIF(L64:L91,AD13)","v":0},{"$f":"AE13/(AG4-AE8)","v":0},{"$f":"IF(AF13=0,0,(AF13*((LOG(AF13))/LOG(2))))","v":0},null,{"$f":"N13","v":0},{"$f":"COUNTIF(L92:L119,AI13)","v":0},{"$f":"AJ13/(AL4-AJ8)","v":0},{"$f":"IF(AK13=0,0,(AK13*((LOG(AK13))/LOG(2))))","v":0},null,{"$f":"N13","v":0},{"$f":"COUNTIF(L120:L148,AN13)","v":0},{"$f":"AO13/(AQ4-AO8)","v":0},{"$f":"IF(AP13=0,0,(AP13*((LOG(AP13))/LOG(2))))","v":0},null,{"$f":"N13","v":0},{"$f":"COUNTIF(L149:L176,AS13)","v":0},{"$f":"AT13/(AV4-AT8)","v":0},{"$f":"IF(AU13=0,0,(AU13*((LOG(AU13))/LOG(2))))","v":0}]
[22,803,23,810,null,null,null,null,null,null,0,22,null,null,null,null,null,null,null,{"$f":"N14","v":0},{"$f":"COUNTIF(L7:L34,T14)","v":0},{"$f":"U14/(W4-U8)","v":0},{"$f":"IF(V14=0,0,(V14*((LOG(V14))/LOG(2))))","v":0},null,{"$f":"N14","v":0},{"$f":"COUNTIF(L35:L63,Y14)","v":0},{"$f":"Z14/(AB4-Z8)","v":0},{"$f":"IF(AA14=0,0,(AA14*((LOG(AA14))/LOG(2))))","v":0},null,{"$f":"N14","v":0},{"$f":"COUNTIF(L64:L91,AD14)","v":0},{"$f":"AE14/(AG4-AE8)","v":0},{"$f":"IF(AF14=0,0,(AF14*((LOG(AF14))/LOG(2))))","v":0},null,{"$f":"N14","v":0},{"$f":"COUNTIF(L92:L119,AI14)","v":0},{"$f":"AJ14/(AL4-AJ8)","v":0},{"$f":"IF(AK14=0,0,(AK14*((LOG(AK14))/LOG(2))))","v":0},null,{"$f":"N14","v":0},{"$f":"COUNTIF(L120:L148,AN14)","v":0},{"$f":"AO14/(AQ4-AO8)","v":0},{"$f":"IF(AP14=0,0,(AP14*((LOG(AP14))/LOG(2))))","v":0},null,{"$f":"N14","v":0},{"$f":"COUNTIF(L149:L176,AS14)","v":0},{"$f":"AT14/(AV4-AT8)","v":0},{"$f":"IF(AU14=0,0,(AU14*((LOG(AU14))/LOG(2))))","v":0}]
[22,918,23,925,null,null,null,null,null,null,0,22,null,null,null,{"$f":"SUM(P7:P14)","v":1},{"$f":"-SUM(Q7:Q14)","v":0.48736957102366274},null,null,null,null,{"$f":"SUM(V7:V14)","v":1},{"$f":"-SUM(W7:W14)","v":0.74959525725947984},null,null,null,{"$f":"SUM(AA7:AA14)","v":1},{"$f":"-SUM(AB7:AB14)","v":0.57879462463211984},null,null,null,{"$f":"SUM(AF7:AF14)","v":1},{"$f":"-SUM(AG7:AG14)","v":0.22228483068568797},null,null,null,{"$f":"SUM(AK7:AK14)","v":1},{"$f":"-SUM(AL7:AL14)","v":0.49123734182433315},null,null,null,{"$f":"SUM(AP7:AP14)","v":1},{"$f":"-SUM(AQ7:AQ14)","v":0.21639693245126462},null,null,null,{"$f":"SUM(AU7:AU14)","v":1},{"$f":"-SUM(AV7:AV14)","v":0.49123734182433315}]
[22,1032,23,1048,null,null,null,null,null,null,0,22,null,null,null,"U=",{"$f":"Q15/(LOG(Q4)/LOG(2))","v":6.5777278486767787E-2},null,null,null,null,"U1=",{"$f":"W15/(LOG(W4)/LOG(2))","v":0.1559267558590503},null,null,null,"U2=",{"$f":"AB15/(LOG(AB4)/LOG(2))","v":0.11914304012564803},null,null,null,"U3=",{"$f":"AG15/(LOG(AG4)/LOG(2))","v":4.623848962467441E-2},null,null,null,"U4=",{"$f":"AL15/(LOG(AL4)/LOG(2))","v":0.10218453802326662},null,null,null,"U5=",{"$f":"AQ15/(LOG(AQ4)/LOG(2))","v":4.4544623099247421E-2},null,null,null,"U6=",{"$f":"AV15/(LOG(AV4)/LOG(2))","v":0.10218453802326662}]
[22,1154,23,1167,null,null,null,null,null,null,0,22]
[22,1266,23,1272,null,null,null,null,null,null,0,22]
[22,1389,23,1398,null,null,null,null,null,null,0,22,null,"Total Target Seq"]
[22,1503,23,1511,null,null,null,null,null,null,0,22,null,{"$f":"COUNTIF(L7:L176,G3)","v":0},null,28,29,28,28,29,28]
[22,1614,23,1626,null,null,null,null,null,null,0,22,null,null,null,"% of reinforcement given in 6 equal intervals based on number of trials "]
[22,1724,23,1729,null,null,null,null,null,null,0,22,null,null,null,"%_1","%_2","%_3","%_4","%_5","%_6"]
[22,1835,23,1843,null,null,null,null,null,null,0,22,null,null,"target sequence",{"$f":"$G$3","v":12},{"$f":"$G$3","v":12},{"$f":"$G$3","v":12},{"$f":"$G$3","v":12},{"$f":"$G$3","v":12},{"$f":"$G$3","v":12}]
[22,1949,23,1953,null,null,null,null,null,null,0,22,null,null,"total reinforcement",{"$f":"U8","v":0},{"$f":"Z8","v":0},{"$f":"AE8","v":0},{"$f":"AJ8","v":0},{"$f":"AO8","v":0},{"$f":"AT8","v":0}]
[22,2087,14,2098,null,null,null,null,null,null,0,21,null,null,"% target"]
[22,2203,23,2211,null,null,null,null,null,null,0,22,null,null,"CCRF"]
[22,2319,23,2327,null,null,null,null,null,null,0,22,null,null,"% CCRf"]
[22,2444,23,2451,null,null,null,null,null,null,0,22,null,null,"average response rate",{"$f":"D34/P20","v":113.39285714285714},{"$f":"(D63-D34)/Q20","v":121.79310344827586},{"$f":"(D91-D63)/R20","v":121.85714285714286},{"$f":"(D119-D91)/S20","v":130.85714285714286},{"$f":"(D148-D119)/T20","v":186.27586206896552},{"$f":"(D176-D148)/U20","v":168.07142857142858}]
[22,2564,14,2576,null,null,null,null,null,null,0,21]
[22,2688,23,2697,null,null,null,null,null,null,0,22]
[22,2822,23,2829,null,null,null,null,null,null,0,22]
[22,2952,14,2961,null,null,null,null,null,null,0,21]
[22,3063,14,3073,null,null,null,null,null,null,0,21]
[22,3170,23,3175,null,null,null,null,null,null,0,22]
[22,3283,23,3291,null,null,null,null,null,null,0,22]
[22,3401,23,3408,null,null,null,null,null,null,0,22]
[22,3537,23,3551,null,null,null,null,null,null,0,22]
[22,3681,23,3689,null,null,null,null,null,null,0,22]
[22,3813,23,3820,null,null,null,null,null,null,0,22]
[22,3930,23,3936,null,null,null,null,null,null,0,22]
[22,4046,14,4057,null,null,null,null,null,null,0,21]
[22,4158,23,4165,null,null,null,null,null,null,0,22]
[22,4266,23,4274,null,null,null,null,null,null,0,22]
[22,4382,23,4389,null,null,null,null,null,null,0,22]
[22,4506,23,4510,null,null,null,null,null,null,0,22]
[22,4620,23,4633,null,null,null,null,null,null,0,22]
[22,4748,23,4755,null,null,null,null,null,null,0,22]
[22,4864,23,4871,null,null,null,null,null,null,0,22]
[22,4988,23,4995,null,null,null,null,null,null,0,22]
[22,5109,23,5130,null,null,null,null,null,null,0,22]
[22,5227,23,5240,null,null,null,null,null,null,0,22]
[22,5365,23,5380,null,null,null,null,null,null,0,22]
[22,5479,23,5484,null,null,null,null,null,null,0,22]
[22,5583,23,5598,null,null,null,null,null,null,0,22]
[22,5710,14,5721,null,null,null,null,null,null,0,21]
[22,5842,14,5851,null,null,null,null,null,null,0,21]
[22,5959,23,5981,null,null,null,null,null,null,0,22]
[22,6104,23,6111,null,null,null,null,null,null,0,22]
[22,6233,23,6251,null,null,null,null,null,null,0,22]
[22,6350,23,6355,null,null,null,null,null,null,0,22]
[22,6459,14,6471,null,null,null,null,null,null,0,21]
[22,6577,23,6585,null,null,null,null,null,null,0,22]
[22,6702,23,6707,null,null,null,null,null,null,0,22]
[22,6806,23,6811,null,null,null,null,null,null,0,22]
[22,6916,23,6924,null,null,null,null,null,null,0,22]
[22,7031,23,7039,null,null,null,null,null,null,0,22]
[22,7139,23,7152,null,null,null,null,null,null,0,22]
[22,7260,23,7267,null,null,null,null,null,null,0,22]
[22,7374,23,7381,null,null,null,null,null,null,0,22]
[22,7482,23,7487,null,null,null,null,null,null,0,22]
[22,7597,23,7604,null,null,null,null,null,null,0,22]
[22,7728,23,7737,null,null,null,null,null,null,0,22]
[22,7848,23,7856,null,null,null,null,null,null,0,22]
[22,8006,14,8018,null,null,null,null,null,null,0,21]
[22,8135,23,8143,null,null,null,null,null,null,0,22]
[22,8254,23,8262,null,null,null,null,null,null,0,22]
[22,8368,23,8386,null,null,null,null,null,null,0,22]
[22,8493,23,8509,null,null,null,null,null,null,0,22]
[22,8615,23,8622,null,null,null,null,null,null,0,22]
[22,8725,23,8739,null,null,null,null,null,null,0,22]
[22,8854,23,8868,null,null,null,null,null,null,0,22]
[22,9008,23,9016,null,null,null,null,null,null,0,22]
[22,9122,23,9129,null,null,null,null,null,null,0,22]
[22,9235,23,9246,null,null,null,null,null,null,0,22]
[22,9358,23,9365,null,null,null,null,null,null,0,22]
[22,9478,23,9491,null,null,null,null,null,null,0,22]
[22,9611,23,9618,null,null,null,null,null,null,0,22]
[22,9720,23,9727,null,null,null,null,null,null,0,22]
[22,9860,23,9873,null,null,null,null,null,null,0,22]
[22,9986,23,9995,null,null,null,null,null,null,0,22]
[22,10111,23,10119,null,null,null,null,null,null,0,22]
[22,10226,23,10233,null,null,null,null,null,null,0,22]
[22,10346,23,10353,null,null,null,null,null,null,0,22]
[22,10482,23,10498,null,null,null,null,null,null,0,22]
[22,10618,23,10632,null,null,null,null,null,null,0,22]
[22,10772,23,10787,null,null,null,null,null,null,0,22]
[22,10914,23,10921,null,null,null,null,null,null,0,22]
[22,11034,23,11042,null,null,null,null,null,null,0,22]
[22,11174,14,11187,null,null,null,null,null,null,0,21]
[22,11295,23,11303,null,null,null,null,null,null,0,22]
[22,11410,23,11418,null,null,null,null,null,null,0,22]
[22,11528,23,11535,null,null,null,null,null,null,0,22]
[22,11666,23,11675,null,null,null,null,null,null,0,22]
[22,11797,23,11809,null,null,null,null,null,null,0,22]
[22,11920,23,11930,null,null,null,null,null,null,0,22]
[22,12057,23,12070,null,null,null,null,null,null,0,22]
[22,12175,14,12187,null,null,null,null,null,null,0,21]
[22,12299,23,12306,null,null,null,null,null,null,0,22]
[22,12419,23,12426,null,null,null,null,null,null,0,22]
[22,12530,23,12542,null,null,null,null,null,null,0,22]
[22,12653,14,12664,null,null,null,null,null,null,0,21]
[22,12783,23,12796,null,null,null,null,null,null,0,22]
[22,12933,23,12943,null,null,null,null,null,null,0,22]
[22,13105,23,13113,null,null,null,null,null,null,0,22]
[22,13220,23,13228,null,null,null,null,null,null,0,22]
[22,13334,23,13341,null,null,null,null,null,null,0,22]
[22,13481,23,13493,null,null,null,null,null,null,0,22]
[22,13621,23,13628,null,null,null,null,null,null,0,22]
[22,13777,23,13783,null,null,null,null,null,null,0,22]
[22,13989,23,13996,null,null,null,null,null,null,0,22]
[22,14128,23,14135,null,null,null,null,null,null,0,22]
[22,14284,23,14301,null,null,null,null,null,null,0,22]
[22,14525,23,14543,null,null,null,null,null,null,0,22]
[22,14721,23,14733,null,null,null,null,null,null,0,22]
[22,15051,23,15058,null,null,null,null,null,null,0,22]
[22,15267,23,15282,null,null,null,null,null,null,0,22]
[22,15445,14,15457,null,null,null,null,null,null,0,21]
[22,15601,23,15607,null,null,null,null,null,null,0,22]
[22,15832,23,15848,null,null,null,null,null,null,0,22]
[22,15986,23,15998,null,null,null,null,null,null,0,22]
[22,16131,23,16144,null,null,null,null,null,null,0,22]
[22,16283,23,16288,null,null,null,null,null,null,0,22]
[22,16421,23,16423,null,null,null,null,null,null,0,22]
[22,16609,23,16616,null,null,null,null,null,null,0,22]
[22,16740,23,16749,null,null,null,null,null,null,0,22]
[22,16929,23,16936,null,null,null,null,null,null,0,22]
[22,17092,23,17100,null,null,null,null,null,null,0,22]
[22,17252,23,17268,null,null,null,null,null,null,0,22]
[22,17402,23,17418,null,null,null,null,null,null,0,22]
[22,17666,23,17678,null,null,null,null,null,null,0,22]
[22,17797,23,17802,null,null,null,null,null,null,0,22]
[22,17912,23,17918,null,null,null,null,null,null,0,22]
[22,18034,23,18039,null,null,null,null,null,null,0,22]
[22,18496,23,18504,null,null,null,null,null,null,0,22]
[22,18667,23,18674,null,null,null,null,null,null,0,22]
[22,18944,23,18948,null,null,null,null,null,null,0,22]
[22,19062,23,19070,null,null,null,null,null,null,0,22]
[22,19178,23,19185,null,null,null,null,null,null,0,22]
[22,19600,14,19612,null,null,null,null,null,null,0,21]
[22,19898,23,19918,null,null,null,null,null,null,0,22]
[22,20086,23,20100,null,null,null,null,null,null,0,22]
[22,20250,14,20262,null,null,null,null,null,null,0,21]
[22,20446,23,20459,null,null,null,null,null,null,0,22]
[22,20647,14,20659,null,null,null,null,null,null,0,21]
[22,20816,23,20828,null,null,null,null,null,null,0,22]
[22,21027,23,21040,null,null,null,null,null,null,0,22]
[22,21160,23,21167,null,null,null,null,null,null,0,22]
[22,21291,23,21298,null,null,null,null,null,null,0,22]
[22,21449,23,21458,null,null,null,null,null,null,0,22]
[22,21577,23,21591,null,null,null,null,null,null,0,22]
[22,21714,23,21722,null,null,null,null,null,null,0,22]
[22,21848,23,21857,null,null,null,null,null,null,0,22]
[22,22093,23,22106,null,null,null,null,null,null,0,22]
[22,22242,23,22256,null,null,null,null,null,null,0,22]
[22,22429,23,22436,null,null,null,null,null,null,0,22]
[22,22559,23,22566,null,null,null,null,null,null,0,22]
[22,22680,23,22690,null,null,null,null,null,null,0,22]
[22,22796,23,22805,null,null,null,null,null,null,0,22]
[22,22913,23,22920,null,null,null,null,null,null,0,22]
[22,23033,23,23040,null,null,null,null,null,null,0,22]
[22,23153,23,23159,null,null,null,null,null,null,0,22]
[22,23267,23,23275,null,null,null,null,null,null,0,22]
[22,23394,23,23401,null,null,null,null,null,null,0,22]
[22,23510,23,23517,null,null,null,null,null,null,0,22]
[22,23632,23,23639,null,null,null,null,null,null,0,22]
[22,23883,23,23891,null,null,null,null,null,null,0,22]

{"sheet":"!L809A00.052","index":5,"n_rows":210,"n_cols":48,"rows_kept":210,"cut":false,"hidden":false,"merged":[[4,39,4,42],[5,39,5,40],[4,44,4,47],[5,44,5,45],[4,24,4,27],[5,24,5,25],[4,29,4,32],[5,29,5,30],[4,34,4,37],[5,34,5,35],[1,1,1,2],[5,13,5,14],[18,13,18,14],[19,13,19,14],[4,19,4,22],[5,19,5,20]]}
["Report for:!L809A00.052"]
["Date:","<date>"]
["Hen:","<hen>",null,null,null,"Correct Sequence",{"$f":"Start!J2","v":12},null,null,null,null,null,null,null,null,"Total Sequences in Data",{"$f":"4994-COUNTBLANK(L7:L5000)","v":204},null,null,null,null,"Total Sequences in Block Data",{"$f":"COUNTA(L7:L40)","v":34},null,null,null,"Total Sequences in Block Data",{"$f":"COUNTA(L41:L74)","v":34},null,null,null,"Total Sequences in Block Data",{"$f":"COUNTA(L75:L108)","v":34},null,null,null,"Total Sequences in Block Data",{"$f":"COUNTA(L109:L142)","v":34},null,null,null,"Total Sequences in Block Data",{"$f":"COUNTA(L143:L176)","v":34},null,null,null,"Total Sequences in Block Data",{"$f":"COUNTA(L177:L210)","v":34}]
[null,null,null,null,null,null,null,null,null,null,null,null,null,null,null,"Total Sequences in Summary",{"$f":"SUM(O7:O14)","v":204},null,null,null,null,"Total Sequences in Block Summary",{"$f":"SUM(U7:U14)","v":34},null,null,null,"Total Sequences in Block Summary",{"$f":"SUM(Z7:Z14)","v":34},null,null,null,"Total Sequences in Block Summary",{"$f":"SUM(AE7:AE14)","v":34},null,null,null,"Total Sequences in Block Summary",{"$f":"SUM(AJ7:AJ14)","v":34},null,null,null,"Total Sequences in Block Summary",{"$f":"SUM(AO7:AO14)","v":34},null,null,null,"Total Sequences in Block Summary",{"$f":"SUM(AT7:AT14)","v":34}]
[null,null,null,null,null,null,null,null,null,null,null,null,null,null,null,null,null,null,null,"Block 1",null,null,null,null,"Block 2",null,null,null,null,"Block 3",null,null,null,null,"Block 4",null,null,null,null,"Block 5",null,null,null,null,"Block 6"]
["Sequence\nComponent\n1","Time\n1","Sequence\nComponent\n2","Time\n2","Sequence\nComponent\n3","Time\n3","Sequence\nComponent\n4","Time\n4","Sequence\nComponent\n5","Time\n5","Correct?\n0=No 1=Yes","Sequence",null,"Frequency",null,"Relative Frequency","Variability",null,null,"Frequency",null,"Relative Frequency","Variability",null,"Frequency",null,"Relative Frequency","Variability",null,"Frequency",null,"Relative Frequency","Variability",null,"Frequency",null,"Relative Frequency","Variability",null,"Frequency",null,"Relative Frequency","Variability",null,"Frequency",null,"Relative Frequency","Variability"]
[22,10,23,18,null,null,null,null,null,null,0,22,null,11,{"$f":"COUNTIF($L$7:$L$500,N7)","v":3},{"$f":"O7/$Q$4","v":1.4705882352941176E-2},{"$f":"IF(P7=0,0,(P7*((LOG(P7))/LOG(2))))","v":-8.9521512371328521E-2},null,null,{"$f":"N7","v":11},{"$f":"COUNTIF(L7:L40,T7)","v":0},{"$f":"U7/(W4-U8)","v":0},{"$f":"IF(V7=0,0,(V7*((LOG(V7))/LOG(2))))","v":0},null,{"$f":"N7","v":11},{"$f":"COUNTIF(L41:L74,Y7)","v":0},{"$f":"Z7/(AB4-Z8)","v":0},{"$f":"IF(AA7=0,0,(AA7*((LOG(AA7))/LOG(2))))","v":0},null,{"$f":"N7","v":11},{"$f":"COUNTIF(L75:L108,AD7)","v":0},{"$f":"AE7/(AG4-AE8)","v":0},{"$f":"IF(AF7=0,0,(AF7*((LOG(AF7))/LOG(2))))","v":0},null,{"$f":"N7","v":11},{"$f":"COUNTIF(L109:L142,AI7)","v":0},{"$f":"AJ7/(AL4-AJ8)","v":0},{"$f":"IF(AK7=0,0,(AK7*((LOG(AK7))/LOG(2))))","v":0},null,{"$f":"N7","v":11},{"$f":"COUNTIF(L143:L176,AN7)","v":0},{"$f":"AO7/(AQ4-AO8)","v":0},{"$f":"IF(AP7=0,0,(AP7*((LOG(AP7))/LOG(2))))","v":0},null,{"$f":"N7","v":11},{"$f":"COUNTIF(L177:L210,AS7)","v":3},{"$f":"AT7/(AV4-AT8)","v":0.12},{"$f":"IF(AU7=0,0,(AU7*((LOG(AU7))/LOG(2))))","v":-0.36706724268642821}]
[22,119,23,125,null,null,null,null,null,null,0,22,null,12,{"$f":"COUNTIF($L$7:$L$500,N8)","v":20},{"$f":"O8/$Q$4","v":9.8039215686274508E-2},{"$f":"IF(P8=0,0,(P8*((LOG(P8))/LOG(2))))","v":-0.32848012226315026},null,null,{"$f":"N8","v":12},{"$f":"COUNTIF(L7:L40,T8)","v":0},null,null,null,{"$f":"N8","v":12},{"$f":"COUNTIF(L41:L74,Y8)","v":0},null,null,null,{"$f":"N8","v":12},{"$f":"COUNTIF(L75:L108,AD8)","v":1},null,null,null,{"$f":"N8","v":12},{"$f":"COUNTIF(L109:L142,AI8)","v":1},null,null,null,{"$f":"N8","v":12},{"$f":"COUNTIF(L143:L176,AN8)","v":9},null,null,null,{"$f":"N8","v":12},{"$f":"COUNTIF(L177:L210,AS8)","v":9}]
[22,226,14,237,null,null,null,null,null,null,0,21,null,21,{"$f":"COUNTIF($L$7:$L$500,N9)","v":35},{"$f":"O9/$Q$4","v":0.17156862745098039},{"$f":"IF(P9=0,0,(P9*((LOG(P9))/LOG(2))))","v":-0.43632343811729668},null,null,{"$f":"N9","v":21},{"$f":"COUNTIF(L7:L40,T9)","v":5},{"$f":"U9/(W4-U8)","v":0.14705882352941177},{"$f":"IF(V9=0,0,(V9*((LOG(V9))/LOG(2))))","v":-0.40669628622984955},null,{"$f":"N9","v":21},{"$f":"COUNTIF(L41:L74,Y9)","v":7},{"$f":"Z9/(AB4-Z8)","v":0.20588235294117646},{"$f":"IF(AA9=0,0,(AA9*((LOG(AA9))/LOG(2))))","v":-0.46943398336321018},null,{"$f":"N9","v":21},{"$f":"COUNTIF(L75:L108,AD9)","v":3},{"$f":"AE9/(AG4-AE8)","v":9.0909090909090912E-2},{"$f":"IF(AF9=0,0,(AF9*((LOG(AF9))/LOG(2))))","v":-0.31449378351248153},null,{"$f":"N9","v":21},{"$f":"COUNTIF(L109:L142,AI9)","v":2},{"$f":"AJ9/(AL4-AJ8)","v":6.0606060606060608E-2},{"$f":"IF(AK9=0,0,(AK9*((LOG(AK9))/LOG(2))))","v":-0.24511479511263354},null,{"$f":"N9","v":21},{"$f":"COUNTIF(L143:L176,AN9)","v":4},{"$f":"AO9/(AQ4-AO8)","v":0.16},{"$f":"IF(AP9=0,0,(AP9*((LOG(AP9))/LOG(2))))","v":-0.42301699036395596},null,{"$f":"N9","v":21},{"$f":"COUNTIF(L177:L210,AS9)","v":14},{"$f":"AT9/(AV4-AT8)","v":0.56000000000000005},{"$f":"IF(AU9=0,0,(AU9*((LOG(AU9))/LOG(2))))","v":-0.46844070992158748}]
[22,340,23,355,null,null,null,null,null,null,0,22,null,22,{"$f":"COUNTIF($L$7:$L$500,N10)","v":146},{"$f":"O10/$Q$4","v":0.71568627450980393},{"$f":"IF(P10=0,0,(P10*((LOG(P10))/LOG(2))))","v":-0.34539075652625412},null,null,{"$f":"N10","v":22},{"$f":"COUNTIF(L7:L40,T10)","v":29},{"$f":"U10/(W4-U8)","v":0.8529411764705882},{"$f":"IF(V10=0,0,(V10*((LOG(V10))/LOG(2))))","v":-0.1957345158105957},null,{"$f":"N10","v":22},{"$f":"COUNTIF(L41:L74,Y10)","v":27},{"$f":"Z10/(AB4-Z8)","v":0.79411764705882348},{"$f":"IF(AA10=0,0,(AA10*((LOG(AA10))/LOG(2))))","v":-0.26410394574545631},null,{"$f":"N10","v":22},{"$f":"COUNTIF(L75:L108,AD10)","v":30},{"$f":"AE10/(AG4-AE8)","v":0.90909090909090906},{"$f":"IF(AF10=0,0,(AF10*((LOG(AF10))/LOG(2))))","v":-0.12500320340903179},null,{"$f":"N10","v":22},{"$f":"COUNTIF(L109:L142,AI10)","v":31},{"$f":"AJ10/(AL4-AJ8)","v":0.93939393939393945},{"$f":"IF(AK10=0,0,(AK10*((LOG(AK10))/LOG(2))))","v":-8.4731275094512809E-2},null,{"$f":"N10","v":22},{"$f":"COUNTIF(L143:L176,AN10)","v":21},{"$f":"AO10/(AQ4-AO8)","v":0.84},{"$f":"IF(AP10=0,0,(AP10*((LOG(AP10))/LOG(2))))","v":-0.21129256427661014},null,{"$f":"N10","v":22},{"$f":"COUNTIF(L177:L210,AS10)","v":8},{"$f":"AT10/(AV4-AT8)","v":0.32},{"$f":"IF(AU10=0,0,(AU10*((LOG(AU10))/LOG(2))))","v":-0.52603398072791185}]
[22,450,23,462,null,null,null,null,null,null,0,22,null,null,null,null,null,null,null,{"$f":"N11","v":0},{"$f":"COUNTIF(L7:L40,T11)","v":0},{"$f":"U11/(W4-U8)","v":0},{"$f":"IF(V11=0,0,(V11*((LOG(V11))/LOG(2))))","v":0},null,{"$f":"N11","v":0},{"$f":"COUNTIF(L41:L74,Y11)","v":0},{"$f":"Z11/(AB4-Z8)","v":0},{"$f":"IF(AA11=0,0,(AA11*((LOG(AA11))/LOG(2))))","v":0},null,{"$f":"N11","v":0},{"$f":"COUNTIF(L75:L108,AD11)","v":0},{"$f":"AE11/(AG4-AE8)","v":0},{"$f":"IF(AF11=0,0,(AF11*((LOG(AF11))/LOG(2))))","v":0},null,{"$f":"N11","v":0},{"$f":"COUNTIF(L109:L142,AI11)","v":0},{"$f":"AJ11/(AL4-AJ8)","v":0},{"$f":"IF(AK11=0,0,(AK11*((LOG(AK11))/LOG(2))))","v":0},null,{"$f":"N11","v":0},{"$f":"COUNTIF(L143:L176,AN11)","v":0},{"$f":"AO11/(AQ4-AO8)","v":0},{"$f":"IF(AP11=0,0,(AP11*((LOG(AP11))/LOG(2))))","v":0},null,{"$f":"N11","v":0},{"$f":"COUNTIF(L177:L210,AS11)","v":0},{"$f":"AT11/(AV4-AT8)","v":0},{"$f":"IF(AU11=0,0,(AU11*((LOG(AU11))/LOG(2))))","v":0}]
[22,570,14,578,null,null,null,null,null,null,0,21,null,null,null,null,null,null,null,{"$f":"N12","v":0},{"$f":"COUNTIF(L7:L40,T12)","v":0},{"$f":"U12/(W4-U8)","v":0},{"$f":"IF(V12=0,0,(V12*((LOG(V12))/LOG(2))))","v":0},null,{"$f":"N12","v":0},{"$f":"COUNTIF(L41:L74,Y12)","v":0},{"$f":"Z12/(AB4-Z8)","v":0},{"$f":"IF(AA12=0,0,(AA12*((LOG(AA12))/LOG(2))))","v":0},null,{"$f":"N12","v":0},{"$f":"COUNTIF(L75:L108,AD12)","v":0},{"$f":"AE12/(AG4-AE8)","v":0},{"$f":"IF(AF12=0,0,(AF12*((LOG(AF12))/LOG(2))))","v":0},null,{"$f":"N12","v":0},{"$f":"COUNTIF(L109:L142,AI12)","v":0},{"$f":"AJ12/(AL4-AJ8)","v":0},{"$f":"IF(AK12=0,0,(AK12*((LOG(AK12))/LOG(2))))","v":0},null,{"$f":"N12","v":0},{"$f":"COUNTIF(L143:L176,AN12)","v":0},{"$f":"AO12/(AQ4-AO8)","v":0},{"$f":"IF(AP12=0,0,(AP12*((LOG(AP12))/LOG(2))))","v":0},null,{"$f":"N12","v":0},{"$f":"COUNTIF(L177:L210,AS12)","v":0},{"$f":"AT12/(AV4-AT8)","v":0},{"$f":"IF(AU12=0,0,(AU12*((LOG(AU12))/LOG(2))))","v":0}]
[22,676,23,681,null,null,null,null,null,null,0,22,null,null,null,null,null,null,null,{"$f":"N13","v":0},{"$f":"COUNTIF(L7:L40,T13)","v":0},{"$f":"U13/(W4-U8)","v":0},{"$f":"IF(V13=0,0,(V13*((LOG(V13))/LOG(2))))","v":0},null,{"$f":"N13","v":0},{"$f":"COUNTIF(L41:L74,Y13)","v":0},{"$f":"Z13/(AB4-Z8)","v":0},{"$f":"IF(AA13=0,0,(AA13*((LOG(AA13))/LOG(2))))","v":0},null,{"$f":"N13","v":0},{"$f":"COUNTIF(L75:L108,AD13)","v":0},{"$f":"AE13/(AG4-AE8)","v":0},{"$f":"IF(AF13=0,0,(AF13*((LOG(AF13))/LOG(2))))","v":0},null,{"$f":"N13","v":0},{"$f":"COUNTIF(L109:L142,AI13)","v":0},{"$f":"AJ13/(AL4-AJ8)","v":0},{"$f":"IF(AK13=0,0,(AK13*((LOG(AK13))/LOG(2))))","v":0},null,{"$f":"N13","v":0},{"$f":"COUNTIF(L143:L176,AN13)","v":0},{"$f":"AO13/(AQ4-AO8)","v":0},{"$f":"IF(AP13=0,0,(AP13*((LOG(AP13))/LOG(2))))","v":0},null,{"$f":"N13","v":0},{"$f":"COUNTIF(L177:L210,AS13)","v":0},{"$f":"AT13/(AV4-AT8)","v":0},{"$f":"IF(AU13=0,0,(AU13*((LOG(AU13))/LOG(2))))","v":0}]
[22,790,23,810,null,null,null,null,null,null,0,22,null,null,null,null,null,null,null,{"$f":"N14","v":0},{"$f":"COUNTIF(L7:L40,T14)","v":0},{"$f":"U14/(W4-U8)","v":0},{"$f":"IF(V14=0,0,(V14*((LOG(V14))/LOG(2))))","v":0},null,{"$f":"N14","v":0},{"$f":"COUNTIF(L41:L74,Y14)","v":0},{"$f":"Z14/(AB4-Z8)","v":0},{"$f":"IF(AA14=0,0,(AA14*((LOG(AA14))/LOG(2))))","v":0},null,{"$f":"N14","v":0},{"$f":"COUNTIF(L75:L108,AD14)","v":0},{"$f":"AE14/(AG4-AE8)","v":0},{"$f":"IF(AF14=0,0,(AF14*((LOG(AF14))/LOG(2))))","v":0},null,{"$f":"N14","v":0},{"$f":"COUNTIF(L109:L142,AI14)","v":0},{"$f":"AJ14/(AL4-AJ8)","v":0},{"$f":"IF(AK14=0,0,(AK14*((LOG(AK14))/LOG(2))))","v":0},null,{"$f":"N14","v":0},{"$f":"COUNTIF(L143:L176,AN14)","v":0},{"$f":"AO14/(AQ4-AO8)","v":0},{"$f":"IF(AP14=0,0,(AP14*((LOG(AP14))/LOG(2))))","v":0},null,{"$f":"N14","v":0},{"$f":"COUNTIF(L177:L210,AS14)","v":0},{"$f":"AT14/(AV4-AT8)","v":0},{"$f":"IF(AU14=0,0,(AU14*((LOG(AU14))/LOG(2))))","v":0}]
[22,921,23,926,null,null,null,null,null,null,0,22,null,null,null,{"$f":"SUM(P7:P14)","v":1},{"$f":"-SUM(Q7:Q14)","v":1.1997158292780297},null,null,null,null,{"$f":"SUM(V7:V14)","v":1},{"$f":"-SUM(W7:W14)","v":0.60243080204044519},null,null,null,{"$f":"SUM(AA7:AA14)","v":1},{"$f":"-SUM(AB7:AB14)","v":0.73353792910866655},null,null,null,{"$f":"SUM(AF7:AF14)","v":1},{"$f":"-SUM(AG7:AG14)","v":0.43949698692151329},null,null,null,{"$f":"SUM(AK7:AK14)","v":1},{"$f":"-SUM(AL7:AL14)","v":0.32984607020714635},null,null,null,{"$f":"SUM(AP7:AP14)","v":1},{"$f":"-SUM(AQ7:AQ14)","v":0.63430955464056615},null,null,null,{"$f":"SUM(AU7:AU14)","v":1},{"$f":"-SUM(AV7:AV14)","v":1.3615419333359275}]
[22,1028,23,1034,null,null,null,null,null,null,0,22,null,null,null,"U=",{"$f":"Q15/(LOG(Q4)/LOG(2))","v":0.15636722102919184},null,null,null,null,"U1=",{"$f":"W15/(LOG(W4)/LOG(2))","v":0.11841478175639836},null,null,null,"U2=",{"$f":"AB15/(LOG(AB4)/LOG(2))","v":0.14418541265028403},null,null,null,"U3=",{"$f":"AG15/(LOG(AG4)/LOG(2))","v":8.6388245110700146E-2},null,null,null,"U4=",{"$f":"AL15/(LOG(AL4)/LOG(2))","v":6.483508194549889E-2},null,null,null,"U5=",{"$f":"AQ15/(LOG(AQ4)/LOG(2))","v":0.12468092140102446},null,null,null,"U6=",{"$f":"AV15/(LOG(AV4)/LOG(2))","v":0.26762690476994289}]
[22,1145,23,1152,null,null,null,null,null,null,0,22]
[22,1253,23,1260,null,null,null,null,null,null,0,22]
[22,1363,23,1368,null,null,null,null,null,null,0,22,null,"Total Target Seq"]
[22,1485,23,1501,null,null,null,null,null,null,0,22,null,{"$f":"COUNTIF(L7:L210,G3)","v":20},null,34,34,34,34,34,34]
[22,1613,23,1620,null,null,null,null,null,null,0,22,null,null,null,"% of reinforcement given in 6 equal intervals based on number of trials "]
[22,1723,23,1730,null,null,null,null,null,null,0,22,null,null,null,"%_1","%_2","%_3","%_4","%_5","%_6"]
[22,1859,14,1869,null,null,null,null,null,null,0,21,null,null,"target sequence",{"$f":"$G$3","v":12},{"$f":"$G$3","v":12},{"$f":"$G$3","v":12},{"$f":"$G$3","v":12},{"$f":"$G$3","v":12},{"$f":"$G$3","v":12}]
[22,1971,23,1977,null,null,null,null,null,null,0,22,null,null,"total reinforcement",{"$f":"U8","v":0},{"$f":"Z8","v":0},{"$f":"AE8","v":1},{"$f":"AJ8","v":1},{"$f":"AO8","v":9},{"$f":"AT8","v":9}]
[22,2092,23,2098,null,null,null,null,null,null,0,22,null,null,"% target"]
[22,2201,23,2208,null,null,null,null,null,null,0,22,null,null,"CCRF"]
[22,2308,23,2313,null,null,null,null,null,null,0,22,null,null,"% CCRf"]
[22,2424,23,2436,null,null,null,null,null,null,0,22,null,null,"average response rate",{"$f":"D40/P20","v":116.61764705882354},{"$f":"(D74-D40)/Q20","v":127.23529411764706},{"$f":"(D108-D74)/R20","v":121.97058823529412},{"$f":"(D142-D108)/S20","v":119.41176470588235},{"$f":"(D176-D142)/T20","v":111.64705882352941},{"$f":"(D210-D176)/U20","v":107.70588235294117}]
[22,2543,23,2548,null,null,null,null,null,null,0,22]
[22,2674,23,2696,null,null,null,null,null,null,0,22]
[22,2798,23,2805,null,null,null,null,null,null,0,22]
[22,2981,14,2992,null,null,null,null,null,null,0,21]
[22,3106,23,3114,null,null,null,null,null,null,0,22]
[22,3220,23,3228,null,null,null,null,null,null,0,22]
[22,3332,23,3337,null,null,null,null,null,null,0,22]
[22,3450,23,3457,null,null,null,null,null,null,0,22]
[22,3572,23,3588,null,null,null,null,null,null,0,22]
[22,3701,23,3716,null,null,null,null,null,null,0,22]
[22,3839,14,3850,null,null,null,null,null,null,0,21]
[22,3958,23,3965,null,null,null,null,null,null,0,22]
[22,4072,14,4083,null,null,null,null,null,null,0,21]
[22,4192,23,4199,null,null,null,null,null,null,0,22]
[22,4305,23,4312,null,null,null,null,null,null,0,22]
[22,4418,23,4431,null,null,null,null,null,null,0,22]
[22,4540,23,4548,null,null,null,null,null,null,0,22]
[22,4653,23,4660,null,null,null,null,null,null,0,22]
[22,4768,23,4775,null,null,null,null,null,null,0,22]
[22,4883,23,4889,null,null,null,null,null,null,0,22]
[22,5003,23,5017,null,null,null,null,null,null,0,22]
[22,5146,23,5155,null,null,null,null,null,null,0,22]
[22,5314,23,5321,null,null,null,null,null,null,0,22]
[22,5451,14,5462,null,null,null,null,null,null,0,21]
[22,5580,23,5591,null,null,null,null,null,null,0,22]
[22,5706,14,5718,null,null,null,null,null,null,0,21]
[22,5846,23,5858,null,null,null,null,null,null,0,22]
[22,5970,23,5976,null,null,null,null,null,null,0,22]
[22,6105,23,6112,null,null,null,null,null,null,0,22]
[22,6224,23,6231,null,null,null,null,null,null,0,22]
[22,6343,14,6355,null,null,null,null,null,null,0,21]
[22,6464,23,6475,null,null,null,null,null,null,0,22]
[22,6584,23,6591,null,null,null,null,null,null,0,22]
[22,6699,23,6710,null,null,null,null,null,null,0,22]
[22,6821,14,6833,null,null,null,null,null,null,0,21]
[22,6946,23,6953,null,null,null,null,null,null,0,22]
[22,7062,23,7069,null,null,null,null,null,null,0,22]
[22,7191,14,7205,null,null,null,null,null,null,0,21]
[22,7322,23,7335,null,null,null,null,null,null,0,22]
[22,7442,23,7447,null,null,null,null,null,null,0,22]
[22,7578,23,7584,null,null,null,null,null,null,0,22]
[22,7713,23,7726,null,null,null,null,null,null,0,22]
[22,7850,23,7859,null,null,null,null,null,null,0,22]
[22,7998,14,8010,null,null,null,null,null,null,0,21]
[22,8134,23,8142,null,null,null,null,null,null,0,22]
[22,8277,23,8291,null,null,null,null,null,null,0,22]
[22,8463,23,8476,null,null,null,null,null,null,0,22]
[22,8631,23,8646,null,null,null,null,null,null,0,22]
[22,8783,14,8794,null,null,null,null,null,null,0,21]
[22,8922,23,8929,null,null,null,null,null,null,0,22]
[22,9052,23,9059,null,null,null,null,null,null,0,22]
[22,9181,23,9188,null,null,null,null,null,null,0,22]
[11,9347,21,9356,null,null,null,null,null,null,0,12]
[22,9458,23,9471,null,null,null,null,null,null,0,22]
[22,9582,23,9587,null,null,null,null,null,null,0,22]
[22,9704,23,9711,null,null,null,null,null,null,0,22]
[22,9824,23,9830,null,null,null,null,null,null,0,22]
[22,9942,14,9954,null,null,null,null,null,null,0,21]
[22,10077,23,10085,null,null,null,null,null,null,0,22]
[22,10196,23,10211,null,null,null,null,null,null,0,22]
[22,10303,23,10310,null,null,null,null,null,null,0,22]
[22,10404,23,10411,null,null,null,null,null,null,0,22]
[22,10510,23,10518,null,null,null,null,null,null,0,22]
[22,10612,23,10623,null,null,null,null,null,null,0,22]
[22,10723,14,10735,null,null,null,null,null,null,0,21]
[22,10833,23,10837,null,null,null,null,null,null,0,22]
[22,10941,23,10947,null,null,null,null,null,null,0,22]
[22,11065,23,11081,null,null,null,null,null,null,0,22]
[22,11192,23,11197,null,null,null,null,null,null,0,22]
[22,11300,23,11304,null,null,null,null,null,null,0,22]
[22,11414,23,11419,null,null,null,null,null,null,0,22]
[22,11524,23,11532,null,null,null,null,null,null,0,22]
[22,11645,23,11657,null,null,null,null,null,null,0,22]
[22,11755,23,11760,null,null,null,null,null,null,0,22]
[22,11881,23,11888,null,null,null,null,null,null,0,22]
[22,11990,23,11997,null,null,null,null,null,null,0,22]
[22,12100,23,12105,null,null,null,null,null,null,0,22]
[22,12210,23,12217,null,null,null,null,null,null,0,22]
[22,12328,23,12333,null,null,null,null,null,null,0,22]
[22,12433,23,12438,null,null,null,null,null,null,0,22]
[22,12539,23,12548,null,null,null,null,null,null,0,22]
[22,12669,23,12673,null,null,null,null,null,null,0,22]
[22,12776,23,12780,null,null,null,null,null,null,0,22]
[22,12883,23,12894,null,null,null,null,null,null,0,22]
[22,13005,23,13012,null,null,null,null,null,null,0,22]
[22,13113,23,13118,null,null,null,null,null,null,0,22]
[22,13215,23,13220,null,null,null,null,null,null,0,22]
[22,13328,23,13337,null,null,null,null,null,null,0,22]
[22,13450,23,13457,null,null,null,null,null,null,0,22]
[22,13574,23,13580,null,null,null,null,null,null,0,22]
[22,13696,14,13710,null,null,null,null,null,null,0,21]
[22,13821,23,13839,null,null,null,null,null,null,0,22]
[22,13948,23,13953,null,null,null,null,null,null,0,22]
[22,14071,23,14076,null,null,null,null,null,null,0,22]
[22,14182,23,14187,null,null,null,null,null,null,0,22]
[22,14300,23,14304,null,null,null,null,null,null,0,22]
[22,14424,23,14432,null,null,null,null,null,null,0,22]
[22,14532,23,14549,null,null,null,null,null,null,0,22]
[22,14655,23,14663,null,null,null,null,null,null,0,22]
[22,14785,23,14792,null,null,null,null,null,null,0,22]
[22,14922,23,14942,null,null,null,null,null,null,0,22]
[22,15046,23,15053,null,null,null,null,null,null,0,22]
[22,15156,23,15170,null,null,null,null,null,null,0,22]
[22,15295,14,15307,null,null,null,null,null,null,0,21]
[22,15407,23,15412,null,null,null,null,null,null,0,22]
[22,15513,23,15525,null,null,null,null,null,null,0,22]
[11,15646,21,15654,null,null,null,null,null,null,0,12]
[22,15761,23,15777,null,null,null,null,null,null,0,22]
[22,15885,23,15899,null,null,null,null,null,null,0,22]
[22,16013,23,16020,null,null,null,null,null,null,0,22]
[22,16134,23,16147,null,null,null,null,null,null,0,22]
[22,16255,23,16272,null,null,null,null,null,null,0,22]
[22,16367,23,16372,null,null,null,null,null,null,0,22]
[22,16491,23,16498,null,null,null,null,null,null,0,22]
[22,16592,23,16605,null,null,null,null,null,null,0,22]
[22,16701,23,16709,null,null,null,null,null,null,0,22]
[22,16813,23,16820,null,null,null,null,null,null,0,22]
[22,16919,23,16930,null,null,null,null,null,null,0,22]
[22,17044,14,17055,null,null,null,null,null,null,0,21]
[22,17170,23,17177,null,null,null,null,null,null,0,22]
[22,17282,23,17293,null,null,null,null,null,null,0,22]
[22,17398,23,17412,null,null,null,null,null,null,0,22]
[22,17515,23,17519,null,null,null,null,null,null,0,22]
[22,17622,23,17627,null,null,null,null,null,null,0,22]
[22,17733,23,17741,null,null,null,null,null,null,0,22]
[22,17844,23,17849,null,null,null,null,null,null,0,22]
[11,17976,21,17985,null,null,null,null,null,null,0,12]
[22,18094,23,18102,null,null,null,null,null,null,0,22]
[22,18207,23,18213,null,null,null,null,null,null,0,22]
[22,18308,23,18312,null,null,null,null,null,null,0,22]
[22,18408,23,18421,null,null,null,null,null,null,0,22]
[22,18529,23,18534,null,null,null,null,null,null,0,22]
[22,18631,23,18637,null,null,null,null,null,null,0,22]
[22,18736,14,18744,null,null,null,null,null,null,0,21]
[11,18870,21,18880,null,null,null,null,null,null,0,12]
[11,18996,21,19004,null,null,null,null,null,null,0,12]
[11,19105,21,19114,null,null,null,null,null,null,0,12]
[11,19217,21,19226,null,null,null,null,null,null,0,12]
[11,19321,21,19333,null,null,null,null,null,null,0,12]
[11,19432,21,19442,null,null,null,null,null,null,0,12]
[11,19548,21,19556,null,null,null,null,null,null,0,12]
[22,19663,14,19672,null,null,null,null,null,null,0,21]
[22,19778,14,19788,null,null,null,null,null,null,0,21]
[22,19880,23,19884,null,null,null,null,null,null,0,22]
[22,19979,23,19982,null,null,null,null,null,null,0,22]
[11,20085,21,20094,null,null,null,null,null,null,0,12]
[22,20190,23,20198,null,null,null,null,null,null,0,22]
[22,20290,23,20294,null,null,null,null,null,null,0,22]
[22,20392,14,20401,null,null,null,null,null,null,0,21]
[22,20499,14,20510,null,null,null,null,null,null,0,21]
[22,20604,14,20614,null,null,null,null,null,null,0,21]
[22,20708,23,20712,null,null,null,null,null,null,0,22]
[22,20809,14,20817,null,null,null,null,null,null,0,21]
[22,20913,23,20917,null,null,null,null,null,null,0,22]
[11,21025,21,21036,null,null,null,null,null,null,0,12]
[11,21131,12,21139,null,null,null,null,null,null,0,11]
[22,21234,14,21245,null,null,null,null,null,null,0,21]
[11,21353,21,21361,null,null,null,null,null,null,0,12]
[11,21454,21,21463,null,null,null,null,null,null,0,12]
[11,21558,21,21590,null,null,null,null,null,null,0,12]
[11,21685,21,21693,null,null,null,null,null,null,0,12]
[11,21787,21,21795,null,null,null,null,null,null,0,12]
[22,21896,23,21928,null,null,null,null,null,null,0,22]
[22,22022,23,22026,null,null,null,null,null,null,0,22]
[22,22121,23,22126,null,null,null,null,null,null,0,22]
[22,22224,14,22232,null,null,null,null,null,null,0,21]
[11,22343,21,22351,null,null,null,null,null,null,0,12]
[11,22444,12,22457,null,null,null,null,null,null,0,11]
[22,22549,23,22553,null,null,null,null,null,null,0,22]
[11,22656,21,22664,null,null,null,null,null,null,0,12]
[22,22751,14,22762,null,null,null,null,null,null,0,21]
[22,22857,14,22865,null,null,null,null,null,null,0,21]
[22,22961,14,22969,null,null,null,null,null,null,0,21]
[22,23075,14,23088,null,null,null,null,null,null,0,21]
[22,23187,14,23197,null,null,null,null,null,null,0,21]
[22,23289,23,23293,null,null,null,null,null,null,0,22]
[11,23397,12,23405,null,null,null,null,null,null,0,11]
[22,23501,14,23509,null,null,null,null,null,null,0,21]
[22,23601,23,23606,null,null,null,null,null,null,0,22]
[22,23701,14,23712,null,null,null,null,null,null,0,21]
[11,23833,21,23841,null,null,null,null,null,null,0,12]
[22,23946,14,23956,null,null,null,null,null,null,null,21]

{"sheet":"!L810A50.052","index":6,"n_rows":94,"n_cols":48,"rows_kept":94,"cut":false,"hidden":false,"merged":[[4,39,4,42],[5,39,5,40],[4,44,4,47],[5,44,5,45],[4,24,4,27],[5,24,5,25],[4,29,4,32],[5,29,5,30],[4,34,4,37],[5,34,5,35],[1,1,1,2],[5,13,5,14],[18,13,18,14],[19,13,19,14],[4,19,4,22],[5,19,5,20]]}
["Report for:!L810A50.052"]
["Date:","<date>"]
["Hen:","<hen>",null,null,null,"Correct Sequence",{"$f":"Start!J2","v":12},null,null,null,null,null,null,null,null,"Total Sequences in Data",{"$f":"4994-COUNTBLANK(L7:L5000)","v":88},null,null,null,null,"Total Sequences in Block Data",{"$f":"COUNTA(L7:L21)","v":15},null,null,null,"Total Sequences in Block Data",{"$f":"COUNTA(L22:L35)","v":14},null,null,null,"Total Sequences in Block Data",{"$f":"COUNTA(L36:L50)","v":15},null,null,null,"Total Sequences in Block Data",{"$f":"COUNTA(L51:L65)","v":15},null,null,null,"Total Sequences in Block Data",{"$f":"COUNTA(L66:L79)","v":14},null,null,null,"Total Sequences in Block Data",{"$f":"COUNTA(L80:L94)","v":15}]
[null,null,null,null,null,null,null,null,null,null,null,null,null,null,null,"Total Sequences in Summary",{"$f":"SUM(O7:O14)","v":88},null,null,null,null,"Total Sequences in Block Summary",{"$f":"SUM(U7:U14)","v":15},null,null,null,"Total Sequences in Block Summary",{"$f":"SUM(Z7:Z14)","v":14},null,null,null,"Total Sequences in Block Summary",{"$f":"SUM(AE7:AE14)","v":15},null,null,null,"Total Sequences in Block Summary",{"$f":"SUM(AJ7:AJ14)","v":15},null,null,null,"Total Sequences in Block Summary",{"$f":"SUM(AO7:AO14)","v":14},null,null,null,"Total Sequences in Block Summary",{"$f":"SUM(AT7:AT14)","v":15}]
[null,null,null,null,null,null,null,null,null,null,null,null,null,null,null,null,null,null,null,"Block 1",null,null,null,null,"Block 2",null,null,null,null,"Block 3",null,null,null,null,"Block 4",null,null,null,null,"Block 5",null,null,null,null,"Block 6"]
["Sequence\nComponent\n1","Time\n1","Sequence\nComponent\n2","Time\n2","Sequence\nComponent\n3","Time\n3","Sequence\nComponent\n4","Time\n4","Sequence\nComponent\n5","Time\n5","Correct?\n0=No 1=Yes","Sequence",null,"Frequency",null,"Relative Frequency","Variability",null,null,"Frequency",null,"Relative Frequency","Variability",null,"Frequency",null,"Relative Frequency","Variability",null,"Frequency",null,"Relative Frequency","Variability",null,"Frequency",null,"Relative Frequency","Variability",null,"Frequency",null,"Relative Frequency","Variability",null,"Frequency",null,"Relative Frequency","Variability"]
[22,15,14,24,null,null,null,null,null,null,0,21,null,11,{"$f":"COUNTIF($L$7:$L$500,N7)","v":1},{"$f":"O7/$Q$4","v":1.1363636363636364E-2},{"$f":"IF(P7=0,0,(P7*((LOG(P7))/LOG(2))))","v":-7.3402632029969286E-2},null,null,{"$f":"N7","v":11},{"$f":"COUNTIF(L7:L21,T7)","v":0},{"$f":"U7/(W4-U8)","v":0},{"$f":"IF(V7=0,0,(V7*((LOG(V7))/LOG(2))))","v":0},null,{"$f":"N7","v":11},{"$f":"COUNTIF(L22:L35,Y7)","v":0},{"$f":"Z7/(AB4-Z8)","v":0},{"$f":"IF(AA7=0,0,(AA7*((LOG(AA7))/LOG(2))))","v":0},null,{"$f":"N7","v":11},{"$f":"COUNTIF(L36:L50,AD7)","v":0},{"$f":"AE7/(AG4-AE8)","v":0},{"$f":"IF(AF7=0,0,(AF7*((LOG(AF7))/LOG(2))))","v":0},null,{"$f":"N7","v":11},{"$f":"COUNTIF(L51:L65,AI7)","v":0},{"$f":"AJ7/(AL4-AJ8)","v":0},{"$f":"IF(AK7=0,0,(AK7*((LOG(AK7))/LOG(2))))","v":0},null,{"$f":"N7","v":11},{"$f":"COUNTIF(L66:L79,AN7)","v":1},{"$f":"AO7/(AQ4-AO8)","v":0.16666666666666666},{"$f":"IF(AP7=0,0,(AP7*((LOG(AP7))/LOG(2))))","v":-0.43082708345352599},null,{"$f":"N7","v":11},{"$f":"COUNTIF(L80:L94,AS7)","v":0},{"$f":"AT7/(AV4-AT8)","v":0},{"$f":"IF(AU7=0,0,(AU7*((LOG(AU7))/LOG(2))))","v":0}]
[11,126,21,134,null,null,null,null,null,null,0,12,null,12,{"$f":"COUNTIF($L$7:$L$500,N8)","v":40},{"$f":"O8/$Q$4","v":0.45454545454545453},{"$f":"IF(P8=0,0,(P8*((LOG(P8))/LOG(2))))","v":-0.51704705624997038},null,null,{"$f":"N8","v":12},{"$f":"COUNTIF(L7:L21,T8)","v":3},null,null,null,{"$f":"N8","v":12},{"$f":"COUNTIF(L22:L35,Y8)","v":3},null,null,null,{"$f":"N8","v":12},{"$f":"COUNTIF(L36:L50,AD8)","v":2},null,null,null,{"$f":"N8","v":12},{"$f":"COUNTIF(L51:L65,AI8)","v":11},null,null,null,{"$f":"N8","v":12},{"$f":"COUNTIF(L66:L79,AN8)","v":8},null,null,null,{"$f":"N8","v":12},{"$f":"COUNTIF(L80:L94,AS8)","v":13}]
[22,228,14,236,null,null,null,null,null,null,0,21,null,21,{"$f":"COUNTIF($L$7:$L$500,N9)","v":28},{"$f":"O9/$Q$4","v":0.31818181818181818},{"$f":"IF(P9=0,0,(P9*((LOG(P9))/LOG(2))))","v":-0.52566076709353871},null,null,{"$f":"N9","v":21},{"$f":"COUNTIF(L7:L21,T9)","v":7},{"$f":"U9/(W4-U8)","v":0.58333333333333337},{"$f":"IF(V9=0,0,(V9*((LOG(V9))/LOG(2))))","v":-0.45360442088707198},null,{"$f":"N9","v":21},{"$f":"COUNTIF(L22:L35,Y9)","v":5},{"$f":"Z9/(AB4-Z8)","v":0.45454545454545453},{"$f":"IF(AA9=0,0,(AA9*((LOG(AA9))/LOG(2))))","v":-0.51704705624997038},null,{"$f":"N9","v":21},{"$f":"COUNTIF(L36:L50,AD9)","v":9},{"$f":"AE9/(AG4-AE8)","v":0.69230769230769229},{"$f":"IF(AF9=0,0,(AF9*((LOG(AF9))/LOG(2))))","v":-0.36727941925300139},null,{"$f":"N9","v":21},{"$f":"COUNTIF(L51:L65,AI9)","v":2},{"$f":"AJ9/(AL4-AJ8)","v":0.5},{"$f":"IF(AK9=0,0,(AK9*((LOG(AK9))/LOG(2))))","v":-0.5},null,{"$f":"N9","v":21},{"$f":"COUNTIF(L66:L79,AN9)","v":4},{"$f":"AO9/(AQ4-AO8)","v":0.66666666666666663},{"$f":"IF(AP9=0,0,(AP9*((LOG(AP9))/LOG(2))))","v":-0.38997500048077083},null,{"$f":"N9","v":21},{"$f":"COUNTIF(L80:L94,AS9)","v":1},{"$f":"AT9/(AV4-AT8)","v":0.5},{"$f":"IF(AU9=0,0,(AU9*((LOG(AU9))/LOG(2))))","v":-0.5}]
[22,346,14,358,null,null,null,null,null,null,0,21,null,22,{"$f":"COUNTIF($L$7:$L$500,N10)","v":19},{"$f":"O10/$Q$4","v":0.21590909090909091},{"$f":"IF(P10=0,0,(P10*((LOG(P10))/LOG(2))))","v":-0.47748384089409684},null,null,{"$f":"N10","v":22},{"$f":"COUNTIF(L7:L21,T10)","v":5},{"$f":"U10/(W4-U8)","v":0.41666666666666669},{"$f":"IF(V10=0,0,(V10*((LOG(V10))/LOG(2))))","v":-0.52626433576408083},null,{"$f":"N10","v":22},{"$f":"COUNTIF(L22:L35,Y10)","v":6},{"$f":"Z10/(AB4-Z8)","v":0.54545454545454541},{"$f":"IF(AA10=0,0,(AA10*((LOG(AA10))/LOG(2))))","v":-0.47698315522698609},null,{"$f":"N10","v":22},{"$f":"COUNTIF(L36:L50,AD10)","v":4},{"$f":"AE10/(AG4-AE8)","v":0.30769230769230771},{"$f":"IF(AF10=0,0,(AF10*((LOG(AF10))/LOG(2))))","v":-0.52321222096648989},null,{"$f":"N10","v":22},{"$f":"COUNTIF(L51:L65,AI10)","v":2},{"$f":"AJ10/(AL4-AJ8)","v":0.5},{"$f":"IF(AK10=0,0,(AK10*((LOG(AK10))/LOG(2))))","v":-0.5},null,{"$f":"N10","v":22},{"$f":"COUNTIF(L66:L79,AN10)","v":1},{"$f":"AO10/(AQ4-AO8)","v":0.16666666666666666},{"$f":"IF(AP10=0,0,(AP10*((LOG(AP10))/LOG(2))))","v":-0.43082708345352599},null,{"$f":"N10","v":22},{"$f":"COUNTIF(L80:L94,AS10)","v":1},{"$f":"AT10/(AV4-AT8)","v":0.5},{"$f":"IF(AU10=0,0,(AU10*((LOG(AU10))/LOG(2))))","v":-0.5}]
[22,462,14,470,null,null,null,null,null,null,0,21,null,null,null,null,null,null,null,{"$f":"N11","v":0},{"$f":"COUNTIF(L7:L21,T11)","v":0},{"$f":"U11/(W4-U8)","v":0},{"$f":"IF(V11=0,0,(V11*((LOG(V11))/LOG(2))))","v":0},null,{"$f":"N11","v":0},{"$f":"COUNTIF(L22:L35,Y11)","v":0},{"$f":"Z11/(AB4-Z8)","v":0},{"$f":"IF(AA11=0,0,(AA11*((LOG(AA11))/LOG(2))))","v":0},null,{"$f":"N11","v":0},{"$f":"COUNTIF(L36:L50,AD11)","v":0},{"$f":"AE11/(AG4-AE8)","v":0},{"$f":"IF(AF11=0,0,(AF11*((LOG(AF11))/LOG(2))))","v":0},null,{"$f":"N11","v":0},{"$f":"COUNTIF(L51:L65,AI11)","v":0},{"$f":"AJ11/(AL4-AJ8)","v":0},{"$f":"IF(AK11=0,0,(AK11*((LOG(AK11))/LOG(2))))","v":0},null,{"$f":"N11","v":0},{"$f":"COUNTIF(L66:L79,AN11)","v":0},{"$f":"AO11/(AQ4-AO8)","v":0},{"$f":"IF(AP11=0,0,(AP11*((LOG(AP11))/LOG(2))))","v":0},null,{"$f":"N11","v":0},{"$f":"COUNTIF(L80:L94,AS11)","v":0},{"$f":"AT11/(AV4-AT8)","v":0},{"$f":"IF(AU11=0,0,(AU11*((LOG(AU11))/LOG(2))))","v":0}]
[11,580,21,588,null,null,null,null,null,null,0,12,null,null,null,null,null,null,null,{"$f":"N12","v":0},{"$f":"COUNTIF(L7:L21,T12)","v":0},{"$f":"U12/(W4-U8)","v":0},{"$f":"IF(V12=0,0,(V12*((LOG(V12))/LOG(2))))","v":0},null,{"$f":"N12","v":0},{"$f":"COUNTIF(L22:L35,Y12)","v":0},{"$f":"Z12/(AB4-Z8)","v":0},{"$f":"IF(AA12=0,0,(AA12*((LOG(AA12))/LOG(2))))","v":0},null,{"$f":"N12","v":0},{"$f":"COUNTIF(L36:L50,AD12)","v":0},{"$f":"AE12/(AG4-AE8)","v":0},{"$f":"IF(AF12=0,0,(AF12*((LOG(AF12))/LOG(2))))","v":0},null,{"$f":"N12","v":0},{"$f":"COUNTIF(L51:L65,AI12)","v":0},{"$f":"AJ12/(AL4-AJ8)","v":0},{"$f":"IF(AK12=0,0,(AK12*((LOG(AK12))/LOG(2))))","v":0},null,{"$f":"N12","v":0},{"$f":"COUNTIF(L66:L79,AN12)","v":0},{"$f":"AO12/(AQ4-AO8)","v":0},{"$f":"IF(AP12=0,0,(AP12*((LOG(AP12))/LOG(2))))","v":0},null,{"$f":"N12","v":0},{"$f":"COUNTIF(L80:L94,AS12)","v":0},{"$f":"AT12/(AV4-AT8)","v":0},{"$f":"IF(AU12=0,0,(AU12*((LOG(AU12))/LOG(2))))","v":0}]
[22,682,23,688,null,null,null,null,null,null,0,22,null,null,null,null,null,null,null,{"$f":"N13","v":0},{"$f":"COUNTIF(L7:L21,T13)","v":0},{"$f":"U13/(W4-U8)","v":0},{"$f":"IF(V13=0,0,(V13*((LOG(V13))/LOG(2))))","v":0},null,{"$f":"N13","v":0},{"$f":"COUNTIF(L22:L35,Y13)","v":0},{"$f":"Z13/(AB4-Z8)","v":0},{"$f":"IF(AA13=0,0,(AA13*((LOG(AA13))/LOG(2))))","v":0},null,{"$f":"N13","v":0},{"$f":"COUNTIF(L36:L50,AD13)","v":0},{"$f":"AE13/(AG4-AE8)","v":0},{"$f":"IF(AF13=0,0,(AF13*((LOG(AF13))/LOG(2))))","v":0},null,{"$f":"N13","v":0},{"$f":"COUNTIF(L51:L65,AI13)","v":0},{"$f":"AJ13/(AL4-AJ8)","v":0},{"$f":"IF(AK13=0,0,(AK13*((LOG(AK13))/LOG(2))))","v":0},null,{"$f":"N13","v":0},{"$f":"COUNTIF(L66:L79,AN13)","v":0},{"$f":"AO13/(AQ4-AO8)","v":0},{"$f":"IF(AP13=0,0,(AP13*((LOG(AP13))/LOG(2))))","v":0},null,{"$f":"N13","v":0},{"$f":"COUNTIF(L80:L94,AS13)","v":0},{"$f":"AT13/(AV4-AT8)","v":0},{"$f":"IF(AU13=0,0,(AU13*((LOG(AU13))/LOG(2))))","v":0}]
[22,791,14,807,null,null,null,null,null,null,0,21,null,null,null,null,null,null,null,{"$f":"N14","v":0},{"$f":"COUNTIF(L7:L21,T14)","v":0},{"$f":"U14/(W4-U8)","v":0},{"$f":"IF(V14=0,0,(V14*((LOG(V14))/LOG(2))))","v":0},null,{"$f":"N14","v":0},{"$f":"COUNTIF(L22:L35,Y14)","v":0},{"$f":"Z14/(AB4-Z8)","v":0},{"$f":"IF(AA14=0,0,(AA14*((LOG(AA14))/LOG(2))))","v":0},null,{"$f":"N14","v":0},{"$f":"COUNTIF(L36:L50,AD14)","v":0},{"$f":"AE14/(AG4-AE8)","v":0},{"$f":"IF(AF14=0,0,(AF14*((LOG(AF14))/LOG(2))))","v":0},null,{"$f":"N14","v":0},{"$f":"COUNTIF(L51:L65,AI14)","v":0},{"$f":"AJ14/(AL4-AJ8)","v":0},{"$f":"IF(AK14=0,0,(AK14*((LOG(AK14))/LOG(2))))","v":0},null,{"$f":"N14","v":0},{"$f":"COUNTIF(L66:L79,AN14)","v":0},{"$f":"AO14/(AQ4-AO8)","v":0},{"$f":"IF(AP14=0,0,(AP14*((LOG(AP14))/LOG(2))))","v":0},null,{"$f":"N14","v":0},{"$f":"COUNTIF(L80:L94,AS14)","v":0},{"$f":"AT14/(AV4-AT8)","v":0},{"$f":"IF(AU14=0,0,(AU14*((LOG(AU14))/LOG(2))))","v":0}]
[22,905,23,912,null,null,null,null,null,null,0,22,null,null,null,{"$f":"SUM(P7:P14)","v":1},{"$f":"-SUM(Q7:Q14)","v":1.5935942962675753},null,null,null,null,{"$f":"SUM(V7:V14)","v":1},{"$f":"-SUM(W7:W14)","v":0.97986875665115281},null,null,null,{"$f":"SUM(AA7:AA14)","v":1},{"$f":"-SUM(AB7:AB14)","v":0.99403021147695647},null,null,null,{"$f":"SUM(AF7:AF14)","v":1},{"$f":"-SUM(AG7:AG14)","v":0.89049164021949134},null,null,null,{"$f":"SUM(AK7:AK14)","v":1},{"$f":"-SUM(AL7:AL14)","v":1},null,null,null,{"$f":"SUM(AP7:AP14)","v":0.99999999999999989},{"$f":"-SUM(AQ7:AQ14)","v":1.2516291673878228},null,null,null,{"$f":"SUM(AU7:AU14)","v":1},{"$f":"-SUM(AV7:AV14)","v":1}]
[22,1016,23,1025,null,null,null,null,null,null,0,22,null,null,null,"U=",{"$f":"Q15/(LOG(Q4)/LOG(2))","v":0.24670813011931306},null,null,null,null,"U1=",{"$f":"W15/(LOG(W4)/LOG(2))","v":0.25080527152527882},null,null,null,"U2=",{"$f":"AB15/(LOG(AB4)/LOG(2))","v":0.26108157285734579},null,null,null,"U3=",{"$f":"AG15/(LOG(AG4)/LOG(2))","v":0.22792848134023386},null,null,null,"U4=",{"$f":"AL15/(LOG(AL4)/LOG(2))","v":0.2559580248098155},null,null,null,"U5=",{"$f":"AQ15/(LOG(AQ4)/LOG(2))","v":0.32873981885340137},null,null,null,"U6=",{"$f":"AV15/(LOG(AV4)/LOG(2))","v":0.2559580248098155}]
[22,1126,14,1137,null,null,null,null,null,null,0,21]
[11,1229,21,1242,null,null,null,null,null,null,0,12]
[22,1343,23,1351,null,null,null,null,null,null,0,22,null,"Total Target Seq"]
[22,1461,14,1478,null,null,null,null,null,null,0,21,null,{"$f":"COUNTIF(L7:L94,G3)","v":40},null,15,14,15,15,14,15]
[22,1573,23,1593,null,null,null,null,null,null,0,22,null,null,null,"% of reinforcement given in 6 equal intervals based on number of trials "]
[22,1690,14,1699,null,null,null,null,null,null,0,21,null,null,null,"%_1","%_2","%_3","%_4","%_5","%_6"]
[22,1794,14,1803,null,null,null,null,null,null,0,21,null,null,"target sequence",{"$f":"$G$3","v":12},{"$f":"$G$3","v":12},{"$f":"$G$3","v":12},{"$f":"$G$3","v":12},{"$f":"$G$3","v":12},{"$f":"$G$3","v":12}]
[22,1897,23,1912,null,null,null,null,null,null,0,22,null,null,"total reinforcement",{"$f":"U8","v":3},{"$f":"Z8","v":3},{"$f":"AE8","v":2},{"$f":"AJ8","v":11},{"$f":"AO8","v":8},{"$f":"AT8","v":13}]
[22,2010,14,2020,null,null,null,null,null,null,0,21,null,null,"% target"]
[22,2118,23,2133,null,null,null,null,null,null,0,22,null,null,"CCRF"]
[11,2243,21,2251,null,null,null,null,null,null,0,12,null,null,"% CCRf"]
[22,2345,23,2349,null,null,null,null,null,null,0,22,null,null,"average response rate",{"$f":"D21/P20","v":106.2},{"$f":"(D35-D21)/Q20","v":109.92857142857143},{"$f":"(D50-D35)/R20","v":112.53333333333333},{"$f":"(D65-D50)/S20","v":112.6},{"$f":"(D79-D65)/T20","v":111.85714285714286},{"$f":"(D94-D79)/U20","v":105.2}]
[22,2449,23,2460,null,null,null,null,null,null,0,22]
[22,2557,23,2573,null,null,null,null,null,null,0,22]
[22,2670,23,2675,null,null,null,null,null,null,0,22]
[11,2793,21,2801,null,null,null,null,null,null,0,12]
[11,2907,21,2915,null,null,null,null,null,null,0,12]
[22,3016,14,3025,null,null,null,null,null,null,0,21]
[22,3124,14,3132,null,null,null,null,null,null,0,21]
[11,3232,21,3240,null,null,null,null,null,null,0,12]
[22,3327,23,3334,null,null,null,null,null,null,0,22]
[22,3428,14,3436,null,null,null,null,null,null,0,21]
[22,3544,14,3555,null,null,null,null,null,null,0,21]
[22,3657,14,3666,null,null,null,null,null,null,0,21]
[22,3767,23,3783,null,null,null,null,null,null,0,22]
[22,3889,14,3897,null,null,null,null,null,null,0,21]
[22,4003,14,4011,null,null,null,null,null,null,0,21]
[11,4129,21,4139,null,null,null,null,null,null,0,12]
[22,4242,14,4250,null,null,null,null,null,null,0,21]
[22,4352,14,4364,null,null,null,null,null,null,0,21]
[22,4461,23,4476,null,null,null,null,null,null,0,22]
[22,4577,14,4585,null,null,null,null,null,null,0,21]
[22,4693,14,4700,null,null,null,null,null,null,0,21]
[22,4810,23,4820,null,null,null,null,null,null,0,22]
[11,4933,21,4943,null,null,null,null,null,null,0,12]
[11,5044,21,5054,null,null,null,null,null,null,0,12]
[22,5157,14,5169,null,null,null,null,null,null,0,21]
[11,5277,21,5285,null,null,null,null,null,null,0,12]
[22,5387,23,5421,null,null,null,null,null,null,0,22]
[11,5527,21,5534,null,null,null,null,null,null,0,12]
[11,5629,21,5638,null,null,null,null,null,null,0,12]
[11,5727,21,5743,null,null,null,null,null,null,0,12]
[22,5828,23,5843,null,null,null,null,null,null,0,22]
[22,5957,14,5986,null,null,null,null,null,null,0,21]
[11,6091,21,6099,null,null,null,null,null,null,0,12]
[11,6190,21,6198,null,null,null,null,null,null,0,12]
[11,6297,21,6305,null,null,null,null,null,null,0,12]
[11,6401,21,6411,null,null,null,null,null,null,0,12]
[11,6501,21,6509,null,null,null,null,null,null,0,12]
[11,6597,21,6604,null,null,null,null,null,null,0,12]
[22,6710,14,6744,null,null,null,null,null,null,0,21]
[11,6843,21,6851,null,null,null,null,null,null,0,12]
[22,6950,14,6958,null,null,null,null,null,null,0,21]
[22,7062,23,7077,null,null,null,null,null,null,0,22]
[11,7180,21,7187,null,null,null,null,null,null,0,12]
[11,7282,21,7291,null,null,null,null,null,null,0,12]
[11,7388,21,7398,null,null,null,null,null,null,0,12]
[11,7495,21,7503,null,null,null,null,null,null,0,12]
[11,7590,21,7598,null,null,null,null,null,null,0,12]
[11,7683,12,7693,null,null,null,null,null,null,0,11]
[22,7800,14,7807,null,null,null,null,null,null,0,21]
[11,7921,21,7929,null,null,null,null,null,null,0,12]
[22,8042,14,8075,null,null,null,null,null,null,0,21]
[11,8172,21,8180,null,null,null,null,null,null,0,12]
[11,8278,21,8289,null,null,null,null,null,null,0,12]
[11,8380,21,8388,null,null,null,null,null,null,0,12]
[11,8476,21,8486,null,null,null,null,null,null,0,12]
[11,8586,21,8593,null,null,null,null,null,null,0,12]
[11,8688,21,8696,null,null,null,null,null,null,0,12]
[11,8785,21,8793,null,null,null,null,null,null,0,12]
[11,8889,21,8897,null,null,null,null,null,null,0,12]
[11,8991,21,8999,null,null,null,null,null,null,0,12]
[11,9096,21,9106,null,null,null,null,null,null,0,12]
[11,9198,21,9206,null,null,null,null,null,null,0,12]
[22,9295,23,9310,null,null,null,null,null,null,0,22]
[22,9427,14,9438,null,null,null,null,null,null,0,21]
[11,9545,21,9553,null,null,null,null,null,null,0,12]
[11,9645,21,9653,null,null,null,null,null,null,1,12]

{"sheet":"!L811940.052","index":7,"n_rows":64,"n_cols":48,"rows_kept":64,"cut":false,"hidden":false,"merged":[[4,39,4,42],[5,39,5,40],[4,44,4,47],[5,44,5,45],[4,24,4,27],[5,24,5,25],[4,29,4,32],[5,29,5,30],[4,34,4,37],[5,34,5,35],[1,1,1,2],[5,13,5,14],[18,13,18,14],[19,13,19,14],[4,19,4,22],[5,19,5,20]]}
["Report for:!L811940.052"]
["Date:","<date>"]
["Hen:","<hen>",null,null,null,"Correct Sequence",{"$f":"Start!J2","v":12},null,null,null,null,null,null,null,null,"Total Sequences in Data",{"$f":"4994-COUNTBLANK(L7:L5000)","v":58},null,null,null,null,"Total Sequences in Block Data",{"$f":"COUNTA(L7:L16)","v":10},null,null,null,"Total Sequences in Block Data",{"$f":"COUNTA(L17:L25)","v":9},null,null,null,"Total Sequences in Block Data",{"$f":"COUNTA(L26:L35)","v":10},null,null,null,"Total Sequences in Block Data",{"$f":"COUNTA(L36:L45)","v":10},null,null,null,"Total Sequences in Block Data",{"$f":"COUNTA(L46:L54)","v":9},null,null,null,"Total Sequences in Block Data",{"$f":"COUNTA(L55:L64)","v":10}]
[null,null,null,null,null,null,null,null,null,null,null,null,null,null,null,"Total Sequences in Summary",{"$f":"SUM(O7:O14)","v":58},null,null,null,null,"Total Sequences in Block Summary",{"$f":"SUM(U7:U14)","v":10},null,null,null,"Total Sequences in Block Summary",{"$f":"SUM(Z7:Z14)","v":9},null,null,null,"Total Sequences in Block Summary",{"$f":"SUM(AE7:AE14)","v":10},null,null,null,"Total Sequences in Block Summary",{"$f":"SUM(AJ7:AJ14)","v":10},null,null,null,"Total Sequences in Block Summary",{"$f":"SUM(AO7:AO14)","v":9},null,null,null,"Total Sequences in Block Summary",{"$f":"SUM(AT7:AT14)","v":10}]
[null,null,null,null,null,null,null,null,null,null,null,null,null,null,null,null,null,null,null,"Block 1",null,null,null,null,"Block 2",null,null,null,null,"Block 3",null,null,null,null,"Block 4",null,null,null,null,"Block 5",null,null,null,null,"Block 6"]
["Sequence\nComponent\n1","Time\n1","Sequence\nComponent\n2","Time\n2","Sequence\nComponent\n3","Time\n3","Sequence\nComponent\n4","Time\n4","Sequence\nComponent\n5","Time\n5","Correct?\n0=No 1=Yes","Sequence",null,"Frequency",null,"Relative Frequency","Variability",null,null,"Frequency",null,"Relative Frequency","Variability",null,"Frequency",null,"Relative Frequency","Variability",null,"Frequency",null,"Relative Frequency","Variability",null,"Frequency",null,"Relative Frequency","Variability",null,"Frequency",null,"Relative Frequency","Variability",null,"Frequency",null,"Relative Frequency","Variability"]
[11,16,21,24,null,null,null,null,null,null,0,12,null,11,{"$f":"COUNTIF($L$7:$L$500,N7)","v":10},{"$f":"O7/$Q$4","v":0.17241379310344829},{"$f":"IF(P7=0,0,(P7*((LOG(P7))/LOG(2))))","v":-0.43725050004141547},null,null,{"$f":"N7","v":11},{"$f":"COUNTIF(L7:L16,T7)","v":0},{"$f":"U7/(W4-U8)","v":0},{"$f":"IF(V7=0,0,(V7*((LOG(V7))/LOG(2))))","v":0},null,{"$f":"N7","v":11},{"$f":"COUNTIF(L17:L25,Y7)","v":0},{"$f":"Z7/(AB4-Z8)","v":0},{"$f":"IF(AA7=0,0,(AA7*((LOG(AA7))/LOG(2))))","v":0},null,{"$f":"N7","v":11},{"$f":"COUNTIF(L26:L35,AD7)","v":1},{"$f":"AE7/(AG4-AE8)","v":0.5},{"$f":"IF(AF7=0,0,(AF7*((LOG(AF7))/LOG(2))))","v":-0.5},null,{"$f":"N7","v":11},{"$f":"COUNTIF(L36:L45,AI7)","v":3},{"$f":"AJ7/(AL4-AJ8)","v":1},{"$f":"IF(AK7=0,0,(AK7*((LOG(AK7))/LOG(2))))","v":0},null,{"$f":"N7","v":11},{"$f":"COUNTIF(L46:L54,AN7)","v":3},{"$f":"AO7/(AQ4-AO8)","v":1},{"$f":"IF(AP7=0,0,(AP7*((LOG(AP7))/LOG(2))))","v":0},null,{"$f":"N7","v":11},{"$f":"COUNTIF(L55:L64,AS7)","v":3},{"$f":"AT7/(AV4-AT8)","v":0.75},{"$f":"IF(AU7=0,0,(AU7*((LOG(AU7))/LOG(2))))","v":-0.31127812445913283}]
[22,126,14,138,null,null,null,null,null,null,0,21,null,12,{"$f":"COUNTIF($L$7:$L$500,N8)","v":40},{"$f":"O8/$Q$4","v":0.68965517241379315},{"$f":"IF(P8=0,0,(P8*((LOG(P8))/LOG(2))))","v":-0.36969165533807569},null,null,{"$f":"N8","v":12},{"$f":"COUNTIF(L7:L16,T8)","v":6},null,null,null,{"$f":"N8","v":12},{"$f":"COUNTIF(L17:L25,Y8)","v":7},null,null,null,{"$f":"N8","v":12},{"$f":"COUNTIF(L26:L35,AD8)","v":8},null,null,null,{"$f":"N8","v":12},{"$f":"COUNTIF(L36:L45,AI8)","v":7},null,null,null,{"$f":"N8","v":12},{"$f":"COUNTIF(L46:L54,AN8)","v":6},null,null,null,{"$f":"N8","v":12},{"$f":"COUNTIF(L55:L64,AS8)","v":6}]
[11,236,21,245,null,null,null,null,null,null,0,12,null,21,{"$f":"COUNTIF($L$7:$L$500,N9)","v":5},{"$f":"O9/$Q$4","v":8.6206896551724144E-2},{"$f":"IF(P9=0,0,(P9*((LOG(P9))/LOG(2))))","v":-0.30483214657243185},null,null,{"$f":"N9","v":21},{"$f":"COUNTIF(L7:L16,T9)","v":2},{"$f":"U9/(W4-U8)","v":0.5},{"$f":"IF(V9=0,0,(V9*((LOG(V9))/LOG(2))))","v":-0.5},null,{"$f":"N9","v":21},{"$f":"COUNTIF(L17:L25,Y9)","v":1},{"$f":"Z9/(AB4-Z8)","v":0.5},{"$f":"IF(AA9=0,0,(AA9*((LOG(AA9))/LOG(2))))","v":-0.5},null,{"$f":"N9","v":21},{"$f":"COUNTIF(L26:L35,AD9)","v":1},{"$f":"AE9/(AG4-AE8)","v":0.5},{"$f":"IF(AF9=0,0,(AF9*((LOG(AF9))/LOG(2))))","v":-0.5},null,{"$f":"N9","v":21},{"$f":"COUNTIF(L36:L45,AI9)","v":0},{"$f":"AJ9/(AL4-AJ8)","v":0},{"$f":"IF(AK9=0,0,(AK9*((LOG(AK9))/LOG(2))))","v":0},null,{"$f":"N9","v":21},{"$f":"COUNTIF(L46:L54,AN9)","v":0},{"$f":"AO9/(AQ4-AO8)","v":0},{"$f":"IF(AP9=0,0,(AP9*((LOG(AP9))/LOG(2))))","v":0},null,{"$f":"N9","v":21},{"$f":"COUNTIF(L55:L64,AS9)","v":1},{"$f":"AT9/(AV4-AT8)","v":0.25},{"$f":"IF(AU9=0,0,(AU9*((LOG(AU9))/LOG(2))))","v":-0.5}]
[22,345,23,362,null,null,null,null,null,null,0,22,null,22,{"$f":"COUNTIF($L$7:$L$500,N10)","v":3},{"$f":"O10/$Q$4","v":5.1724137931034482E-2},{"$f":"IF(P10=0,0,(P10*((LOG(P10))/LOG(2))))","v":-0.22101819798653879},null,null,{"$f":"N10","v":22},{"$f":"COUNTIF(L7:L16,T10)","v":2},{"$f":"U10/(W4-U8)","v":0.5},{"$f":"IF(V10=0,0,(V10*((LOG(V10))/LOG(2))))","v":-0.5},null,{"$f":"N10","v":22},{"$f":"COUNTIF(L17:L25,Y10)","v":1},{"$f":"Z10/(AB4-Z8)","v":0.5},{"$f":"IF(AA10=0,0,(AA10*((LOG(AA10))/LOG(2))))","v":-0.5},null,{"$f":"N10","v":22},{"$f":"COUNTIF(L26:L35,AD10)","v":0},{"$f":"AE10/(AG4-AE8)","v":0},{"$f":"IF(AF10=0,0,(AF10*((LOG(AF10))/LOG(2))))","v":0},null,{"$f":"N10","v":22},{"$f":"COUNTIF(L36:L45,AI10)","v":0},{"$f":"AJ10/(AL4-AJ8)","v":0},{"$f":"IF(AK10=0,0,(AK10*((LOG(AK10))/LOG(2))))","v":0},null,{"$f":"N10","v":22},{"$f":"COUNTIF(L46:L54,AN10)","v":0},{"$f":"AO10/(AQ4-AO8)","v":0},{"$f":"IF(AP10=0,0,(AP10*((LOG(AP10))/LOG(2))))","v":0},null,{"$f":"N10","v":22},{"$f":"COUNTIF(L55:L64,AS10)","v":0},{"$f":"AT10/(AV4-AT8)","v":0},{"$f":"IF(AU10=0,0,(AU10*((LOG(AU10))/LOG(2))))","v":0}]
[22,469,14,478,null,null,null,null,null,null,0,21,null,null,null,null,null,null,null,{"$f":"N11","v":0},{"$f":"COUNTIF(L7:L16,T11)","v":0},{"$f":"U11/(W4-U8)","v":0},{"$f":"IF(V11=0,0,(V11*((LOG(V11))/LOG(2))))","v":0},null,{"$f":"N11","v":0},{"$f":"COUNTIF(L17:L25,Y11)","v":0},{"$f":"Z11/(AB4-Z8)","v":0},{"$f":"IF(AA11=0,0,(AA11*((LOG(AA11))/LOG(2))))","v":0},null,{"$f":"N11","v":0},{"$f":"COUNTIF(L26:L35,AD11)","v":0},{"$f":"AE11/(AG4-AE8)","v":0},{"$f":"IF(AF11=0,0,(AF11*((LOG(AF11))/LOG(2))))","v":0},null,{"$f":"N11","v":0},{"$f":"COUNTIF(L36:L45,AI11)","v":0},{"$f":"AJ11/(AL4-AJ8)","v":0},{"$f":"IF(AK11=0,0,(AK11*((LOG(AK11))/LOG(2))))","v":0},null,{"$f":"N11","v":0},{"$f":"COUNTIF(L46:L54,AN11)","v":0},{"$f":"AO11/(AQ4-AO8)","v":0},{"$f":"IF(AP11=0,0,(AP11*((LOG(AP11))/LOG(2))))","v":0},null,{"$f":"N11","v":0},{"$f":"COUNTIF(L55:L64,AS11)","v":0},{"$f":"AT11/(AV4-AT8)","v":0},{"$f":"IF(AU11=0,0,(AU11*((LOG(AU11))/LOG(2))))","v":0}]
[11,575,21,584,null,null,null,null,null,null,0,12,null,null,null,null,null,null,null,{"$f":"N12","v":0},{"$f":"COUNTIF(L7:L16,T12)","v":0},{"$f":"U12/(W4-U8)","v":0},{"$f":"IF(V12=0,0,(V12*((LOG(V12))/LOG(2))))","v":0},null,{"$f":"N12","v":0},{"$f":"COUNTIF(L17:L25,Y12)","v":0},{"$f":"Z12/(AB4-Z8)","v":0},{"$f":"IF(AA12=0,0,(AA12*((LOG(AA12))/LOG(2))))","v":0},null,{"$f":"N12","v":0},{"$f":"COUNTIF(L26:L35,AD12)","v":0},{"$f":"AE12/(AG4-AE8)","v":0},{"$f":"IF(AF12=0,0,(AF12*((LOG(AF12))/LOG(2))))","v":0},null,{"$f":"N12","v":0},{"$f":"COUNTIF(L36:L45,AI12)","v":0},{"$f":"AJ12/(AL4-AJ8)","v":0},{"$f":"IF(AK12=0,0,(AK12*((LOG(AK12))/LOG(2))))","v":0},null,{"$f":"N12","v":0},{"$f":"COUNTIF(L46:L54,AN12)","v":0},{"$f":"AO12/(AQ4-AO8)","v":0},{"$f":"IF(AP12=0,0,(AP12*((LOG(AP12))/LOG(2))))","v":0},null,{"$f":"N12","v":0},{"$f":"COUNTIF(L55:L64,AS12)","v":0},{"$f":"AT12/(AV4-AT8)","v":0},{"$f":"IF(AU12=0,0,(AU12*((LOG(AU12))/LOG(2))))","v":0}]
[11,686,21,694,null,null,null,null,null,null,0,12,null,null,null,null,null,null,null,{"$f":"N13","v":0},{"$f":"COUNTIF(L7:L16,T13)","v":0},{"$f":"U13/(W4-U8)","v":0},{"$f":"IF(V13=0,0,(V13*((LOG(V13))/LOG(2))))","v":0},null,{"$f":"N13","v":0},{"$f":"COUNTIF(L17:L25,Y13)","v":0},{"$f":"Z13/(AB4-Z8)","v":0},{"$f":"IF(AA13=0,0,(AA13*((LOG(AA13))/LOG(2))))","v":0},null,{"$f":"N13","v":0},{"$f":"COUNTIF(L26:L35,AD13)","v":0},{"$f":"AE13/(AG4-AE8)","v":0},{"$f":"IF(AF13=0,0,(AF13*((LOG(AF13))/LOG(2))))","v":0},null,{"$f":"N13","v":0},{"$f":"COUNTIF(L36:L45,AI13)","v":0},{"$f":"AJ13/(AL4-AJ8)","v":0},{"$f":"IF(AK13=0,0,(AK13*((LOG(AK13))/LOG(2))))","v":0},null,{"$f":"N13","v":0},{"$f":"COUNTIF(L46:L54,AN13)","v":0},{"$f":"AO13/(AQ4-AO8)","v":0},{"$f":"IF(AP13=0,0,(AP13*((LOG(AP13))/LOG(2))))","v":0},null,{"$f":"N13","v":0},{"$f":"COUNTIF(L55:L64,AS13)","v":0},{"$f":"AT13/(AV4-AT8)","v":0},{"$f":"IF(AU13=0,0,(AU13*((LOG(AU13))/LOG(2))))","v":0}]
[11,782,21,790,null,null,null,null,null,null,0,12,null,null,null,null,null,null,null,{"$f":"N14","v":0},{"$f":"COUNTIF(L7:L16,T14)","v":0},{"$f":"U14/(W4-U8)","v":0},{"$f":"IF(V14=0,0,(V14*((LOG(V14))/LOG(2))))","v":0},null,{"$f":"N14","v":0},{"$f":"COUNTIF(L17:L25,Y14)","v":0},{"$f":"Z14/(AB4-Z8)","v":0},{"$f":"IF(AA14=0,0,(AA14*((LOG(AA14))/LOG(2))))","v":0},null,{"$f":"N14","v":0},{"$f":"COUNTIF(L26:L35,AD14)","v":0},{"$f":"AE14/(AG4-AE8)","v":0},{"$f":"IF(AF14=0,0,(AF14*((LOG(AF14))/LOG(2))))","v":0},null,{"$f":"N14","v":0},{"$f":"COUNTIF(L36:L45,AI14)","v":0},{"$f":"AJ14/(AL4-AJ8)","v":0},{"$f":"IF(AK14=0,0,(AK14*((LOG(AK14))/LOG(2))))","v":0},null,{"$f":"N14","v":0},{"$f":"COUNTIF(L46:L54,AN14)","v":0},{"$f":"AO14/(AQ4-AO8)","v":0},{"$f":"IF(AP14=0,0,(AP14*((LOG(AP14))/LOG(2))))","v":0},null,{"$f":"N14","v":0},{"$f":"COUNTIF(L55:L64,AS14)","v":0},{"$f":"AT14/(AV4-AT8)","v":0},{"$f":"IF(AU14=0,0,(AU14*((LOG(AU14))/LOG(2))))","v":0}]
[11,878,21,886,null,null,null,null,null,null,0,12,null,null,null,{"$f":"SUM(P7:P14)","v":1},{"$f":"-SUM(Q7:Q14)","v":1.3327924999384619},null,null,null,null,{"$f":"SUM(V7:V14)","v":1},{"$f":"-SUM(W7:W14)","v":1},null,null,null,{"$f":"SUM(AA7:AA14)","v":1},{"$f":"-SUM(AB7:AB14)","v":1},null,null,null,{"$f":"SUM(AF7:AF14)","v":1},{"$f":"-SUM(AG7:AG14)","v":1},null,null,null,{"$f":"SUM(AK7:AK14)","v":1},{"$f":"-SUM(AL7:AL14)","v":0},null,null,null,{"$f":"SUM(AP7:AP14)","v":1},{"$f":"-SUM(AQ7:AQ14)","v":0},null,null,null,{"$f":"SUM(AU7:AU14)","v":1},{"$f":"-SUM(AV7:AV14)","v":0.81127812445913283}]
[22,972,23,988,null,null,null,null,null,null,0,22,null,null,null,"U=",{"$f":"Q15/(LOG(Q4)/LOG(2))","v":0.22751738202070373},null,null,null,null,"U1=",{"$f":"W15/(LOG(W4)/LOG(2))","v":0.3010299956639812},null,null,null,"U2=",{"$f":"AB15/(LOG(AB4)/LOG(2))","v":0.31546487678572877},null,null,null,"U3=",{"$f":"AG15/(LOG(AG4)/LOG(2))","v":0.3010299956639812},null,null,null,"U4=",{"$f":"AL15/(LOG(AL4)/LOG(2))","v":0},null,null,null,"U5=",{"$f":"AQ15/(LOG(AQ4)/LOG(2))","v":0},null,null,null,"U6=",{"$f":"AV15/(LOG(AV4)/LOG(2))","v":0.24421905028821556}]
[22,1087,14,1096,null,null,null,null,null,null,0,21]
[11,1196,21,1204,null,null,null,null,null,null,0,12]
[22,1306,23,1337,null,null,null,null,null,null,0,22,null,"Total Target Seq"]
[11,1437,21,1445,null,null,null,null,null,null,0,12,null,{"$f":"COUNTIF(L7:L64,G3)","v":40},null,10,9,10,10,9,10]
[11,1547,21,1554,null,null,null,null,null,null,0,12,null,null,null,"% of reinforcement given in 6 equal intervals based on number of trials "]
[11,1658,21,1666,null,null,null,null,null,null,0,12,null,null,null,"%_1","%_2","%_3","%_4","%_5","%_6"]
[11,1766,21,1774,null,null,null,null,null,null,0,12,null,null,"target sequence",{"$f":"$G$3","v":12},{"$f":"$G$3","v":12},{"$f":"$G$3","v":12},{"$f":"$G$3","v":12},{"$f":"$G$3","v":12},{"$f":"$G$3","v":12}]
[11,1869,21,1878,null,null,null,null,null,null,0,12,null,null,"total reinforcement",{"$f":"U8","v":6},{"$f":"Z8","v":7},{"$f":"AE8","v":8},{"$f":"AJ8","v":7},{"$f":"AO8","v":6},{"$f":"AT8","v":6}]
[11,1966,21,1974,null,null,null,null,null,null,0,12,null,null,"% target"]
[11,2074,21,2082,null,null,null,null,null,null,0,12,null,null,"CCRF"]
[11,2181,21,2190,null,null,null,null,null,null,0,12,null,null,"% CCRf"]
[11,2279,21,2290,null,null,null,null,null,null,0,12,null,null,"average response rate",{"$f":"D16/P20","v":98.8},{"$f":"(D25-D16)/Q20","v":109.55555555555556},{"$f":"(D35-D25)/R20","v":104.8},{"$f":"(D45-D35)/S20","v":115.6},{"$f":"(D54-D45)/T20","v":100.88888888888889},{"$f":"(D64-D54)/U20","v":102}]
[11,2395,21,2403,null,null,null,null,null,null,0,12]
[11,2495,21,2503,null,null,null,null,null,null,0,12]
[11,2592,21,2600,null,null,null,null,null,null,0,12]
[11,2690,12,2698,null,null,null,null,null,null,0,11]
[22,2796,14,2805,null,null,null,null,null,null,0,21]
[11,2910,21,2919,null,null,null,null,null,null,0,12]
[11,3012,21,3022,null,null,null,null,null,null,0,12]
[11,3203,21,3211,null,null,null,null,null,null,0,12]
[11,3301,21,3310,null,null,null,null,null,null,0,12]
[11,3400,12,3408,null,null,null,null,null,null,0,11]
[11,3510,12,3516,null,null,null,null,null,null,0,11]
[11,3619,21,3627,null,null,null,null,null,null,0,12]
[11,3722,21,3738,null,null,null,null,null,null,0,12]
[11,3827,21,3855,null,null,null,null,null,null,0,12]
[11,3944,12,3954,null,null,null,null,null,null,0,11]
[11,4056,21,4068,null,null,null,null,null,null,0,12]
[11,4168,21,4178,null,null,null,null,null,null,0,12]
[11,4268,12,4275,null,null,null,null,null,null,0,11]
[11,4375,21,4383,null,null,null,null,null,null,0,12]
[11,4472,21,4479,null,null,null,null,null,null,0,12]
[11,4569,12,4578,null,null,null,null,null,null,0,11]
[11,4676,21,4683,null,null,null,null,null,null,0,12]
[11,4771,21,4781,null,null,null,null,null,null,0,12]
[11,4870,12,4875,null,null,null,null,null,null,0,11]
[11,4972,21,4980,null,null,null,null,null,null,0,12]
[11,5075,21,5086,null,null,null,null,null,null,0,12]
[11,5177,12,5182,null,null,null,null,null,null,0,11]
[11,5282,12,5286,null,null,null,null,null,null,0,11]
[11,5383,21,5390,null,null,null,null,null,null,0,12]
[22,5486,14,5494,null,null,null,null,null,null,0,21]
[11,5593,21,5601,null,null,null,null,null,null,0,12]
[11,5695,21,5703,null,null,null,null,null,null,0,12]
[11,5796,12,5805,null,null,null,null,null,null,0,11]
[11,5902,21,5910,null,null,null,null,null,null,0,12]
[11,5998,21,6010,null,null,null,null,null,null,0,12]
[11,6098,21,6106,null,null,null,null,null,null,1,12]

{"sheet":"!L812910.052","index":8,"n_rows":59,"n_cols":48,"rows_kept":59,"cut":false,"hidden":false,"merged":[[4,39,4,42],[5,39,5,40],[4,44,4,47],[5,44,5,45],[4,24,4,27],[5,24,5,25],[4,29,4,32],[5,29,5,30],[4,34,4,37],[5,34,5,35],[1,1,1,2],[5,13,5,14],[18,13,18,14],[19,13,19,14],[4,19,4,22],[5,19,5,20]]}
["Report for:!L812910.052"]
["Date:","<date>"]
["Hen:","<hen>",null,null,null,"Correct Sequence",{"$f":"Start!J2","v":12},null,null,null,null,null,null,null,null,"Total Sequences in Data",{"$f":"4994-COUNTBLANK(L7:L5000)","v":53},null,null,null,null,"Total Sequences in Block Data",{"$f":"COUNTA(L7:L15)","v":9},null,null,null,"Total Sequences in Block Data",{"$f":"COUNTA(L16:L24)","v":9},null,null,null,"Total Sequences in Block Data",{"$f":"COUNTA(L25:L32)","v":8},null,null,null,"Total Sequences in Block Data",{"$f":"COUNTA(L33:L41)","v":9},null,null,null,"Total Sequences in Block Data",{"$f":"COUNTA(L42:L50)","v":9},null,null,null,"Total Sequences in Block Data",{"$f":"COUNTA(L51:L59)","v":9}]
[null,null,null,null,null,null,null,null,null,null,null,null,null,null,null,"Total Sequences in Summary",{"$f":"SUM(O7:O14)","v":53},null,null,null,null,"Total Sequences in Block Summary",{"$f":"SUM(U7:U14)","v":9},null,null,null,"Total Sequences in Block Summary",{"$f":"SUM(Z7:Z14)","v":9},null,null,null,"Total Sequences in Block Summary",{"$f":"SUM(AE7:AE14)","v":8},null,null,null,"Total Sequences in Block Summary",{"$f":"SUM(AJ7:AJ14)","v":9},null,null,null,"Total Sequences in Block Summary",{"$f":"SUM(AO7:AO14)","v":9},null,null,null,"Total Sequences in Block Summary",{"$f":"SUM(AT7:AT14)","v":9}]
[null,null,null,null,null,null,null,null,null,null,null,null,null,null,null,null,null,null,null,"Block 1",null,null,null,null,"Block 2",null,null,null,null,"Block 3",null,null,null,null,"Block 4",null,null,null,null,"Block 5",null,null,null,null,"Block 6"]
["Sequence\nComponent\n1","Time\n1","Sequence\nComponent\n2","Time\n2","Sequence\nComponent\n3","Time\n3","Sequence\nComponent\n4","Time\n4","Sequence\nComponent\n5","Time\n5","Correct?\n0=No 1=Yes","Sequence",null,"Frequency",null,"Relative Frequency","Variability",null,null,"Frequency",null,"Relative Frequency","Variability",null,"Frequency",null,"Relative Frequency","Variability",null,"Frequency",null,"Relative Frequency","Variability",null,"Frequency",null,"Relative Frequency","Variability",null,"Frequency",null,"Relative Frequency","Variability",null,"Frequency",null,"Relative Frequency","Variability"]
[11,10,12,18,null,null,null,null,null,null,0,11,null,11,{"$f":"COUNTIF($L$7:$L$500,N7)","v":5},{"$f":"O7/$Q$4","v":9.4339622641509441E-2},{"$f":"IF(P7=0,0,(P7*((LOG(P7))/LOG(2))))","v":-0.32132003393168274},null,null,{"$f":"N7","v":11},{"$f":"COUNTIF(L7:L15,T7)","v":1},{"$f":"U7/(W4-U8)","v":0.2},{"$f":"IF(V7=0,0,(V7*((LOG(V7))/LOG(2))))","v":-0.46438561897747244},null,{"$f":"N7","v":11},{"$f":"COUNTIF(L16:L24,Y7)","v":1},{"$f":"Z7/(AB4-Z8)","v":0.5},{"$f":"IF(AA7=0,0,(AA7*((LOG(AA7))/LOG(2))))","v":-0.5},null,{"$f":"N7","v":11},{"$f":"COUNTIF(L25:L32,AD7)","v":0},{"$f":"AE7/(AG4-AE8)","v":0},{"$f":"IF(AF7=0,0,(AF7*((LOG(AF7))/LOG(2))))","v":0},null,{"$f":"N7","v":11},{"$f":"COUNTIF(L33:L41,AI7)","v":1},{"$f":"AJ7/(AL4-AJ8)","v":0.5},{"$f":"IF(AK7=0,0,(AK7*((LOG(AK7))/LOG(2))))","v":-0.5},null,{"$f":"N7","v":11},{"$f":"COUNTIF(L42:L50,AN7)","v":2},{"$f":"AO7/(AQ4-AO8)","v":1},{"$f":"IF(AP7=0,0,(AP7*((LOG(AP7))/LOG(2))))","v":0},null,{"$f":"N7","v":11},{"$f":"COUNTIF(L51:L59,AS7)","v":0},{"$f":"AT7/(AV4-AT8)","v":0},{"$f":"IF(AU7=0,0,(AU7*((LOG(AU7))/LOG(2))))","v":0}]
[11,117,21,124,null,null,null,null,null,null,0,12,null,12,{"$f":"COUNTIF($L$7:$L$500,N8)","v":40},{"$f":"O8/$Q$4","v":0.75471698113207553},{"$f":"IF(P8=0,0,(P8*((LOG(P8))/LOG(2))))","v":-0.30640932805723531},null,null,{"$f":"N8","v":12},{"$f":"COUNTIF(L7:L15,T8)","v":4},null,null,null,{"$f":"N8","v":12},{"$f":"COUNTIF(L16:L24,Y8)","v":7},null,null,null,{"$f":"N8","v":12},{"$f":"COUNTIF(L25:L32,AD8)","v":7},null,null,null,{"$f":"N8","v":12},{"$f":"COUNTIF(L33:L41,AI8)","v":7},null,null,null,{"$f":"N8","v":12},{"$f":"COUNTIF(L42:L50,AN8)","v":7},null,null,null,{"$f":"N8","v":12},{"$f":"COUNTIF(L51:L59,AS8)","v":8}]
[11,219,21,228,null,null,null,null,null,null,0,12,null,21,{"$f":"COUNTIF($L$7:$L$500,N9)","v":4},{"$f":"O9/$Q$4","v":7.5471698113207544E-2},{"$f":"IF(P9=0,0,(P9*((LOG(P9))/LOG(2))))","v":-0.28135248713684519},null,null,{"$f":"N9","v":21},{"$f":"COUNTIF(L7:L15,T9)","v":2},{"$f":"U9/(W4-U8)","v":0.4},{"$f":"IF(V9=0,0,(V9*((LOG(V9))/LOG(2))))","v":-0.52877123795494496},null,{"$f":"N9","v":21},{"$f":"COUNTIF(L16:L24,Y9)","v":0},{"$f":"Z9/(AB4-Z8)","v":0},{"$f":"IF(AA9=0,0,(AA9*((LOG(AA9))/LOG(2))))","v":0},null,{"$f":"N9","v":21},{"$f":"COUNTIF(L25:L32,AD9)","v":1},{"$f":"AE9/(AG4-AE8)","v":1},{"$f":"IF(AF9=0,0,(AF9*((LOG(AF9))/LOG(2))))","v":0},null,{"$f":"N9","v":21},{"$f":"COUNTIF(L33:L41,AI9)","v":1},{"$f":"AJ9/(AL4-AJ8)","v":0.5},{"$f":"IF(AK9=0,0,(AK9*((LOG(AK9))/LOG(2))))","v":-0.5},null,{"$f":"N9","v":21},{"$f":"COUNTIF(L42:L50,AN9)","v":0},{"$f":"AO9/(AQ4-AO8)","v":0},{"$f":"IF(AP9=0,0,(AP9*((LOG(AP9))/LOG(2))))","v":0},null,{"$f":"N9","v":21},{"$f":"COUNTIF(L51:L59,AS9)","v":0},{"$f":"AT9/(AV4-AT8)","v":0},{"$f":"IF(AU9=0,0,(AU9*((LOG(AU9))/LOG(2))))","v":0}]
[22,315,14,323,null,null,null,null,null,null,0,21,null,22,{"$f":"COUNTIF($L$7:$L$500,N10)","v":4},{"$f":"O10/$Q$4","v":7.5471698113207544E-2},{"$f":"IF(P10=0,0,(P10*((LOG(P10))/LOG(2))))","v":-0.28135248713684519},null,null,{"$f":"N10","v":22},{"$f":"COUNTIF(L7:L15,T10)","v":2},{"$f":"U10/(W4-U8)","v":0.4},{"$f":"IF(V10=0,0,(V10*((LOG(V10))/LOG(2))))","v":-0.52877123795494496},null,{"$f":"N10","v":22},{"$f":"COUNTIF(L16:L24,Y10)","v":1},{"$f":"Z10/(AB4-Z8)","v":0.5},{"$f":"IF(AA10=0,0,(AA10*((LOG(AA10))/LOG(2))))","v":-0.5},null,{"$f":"N10","v":22},{"$f":"COUNTIF(L25:L32,AD10)","v":0},{"$f":"AE10/(AG4-AE8)","v":0},{"$f":"IF(AF10=0,0,(AF10*((LOG(AF10))/LOG(2))))","v":0},null,{"$f":"N10","v":22},{"$f":"COUNTIF(L33:L41,AI10)","v":0},{"$f":"AJ10/(AL4-AJ8)","v":0},{"$f":"IF(AK10=0,0,(AK10*((LOG(AK10))/LOG(2))))","v":0},null,{"$f":"N10","v":22},{"$f":"COUNTIF(L42:L50,AN10)","v":0},{"$f":"AO10/(AQ4-AO8)","v":0},{"$f":"IF(AP10=0,0,(AP10*((LOG(AP10))/LOG(2))))","v":0},null,{"$f":"N10","v":22},{"$f":"COUNTIF(L51:L59,AS10)","v":1},{"$f":"AT10/(AV4-AT8)","v":1},{"$f":"IF(AU10=0,0,(AU10*((LOG(AU10))/LOG(2))))","v":0}]
[22,429,23,449,null,null,null,null,null,null,0,22,null,null,null,null,null,null,null,{"$f":"N11","v":0},{"$f":"COUNTIF(L7:L15,T11)","v":0},{"$f":"U11/(W4-U8)","v":0},{"$f":"IF(V11=0,0,(V11*((LOG(V11))/LOG(2))))","v":0},null,{"$f":"N11","v":0},{"$f":"COUNTIF(L16:L24,Y11)","v":0},{"$f":"Z11/(AB4-Z8)","v":0},{"$f":"IF(AA11=0,0,(AA11*((LOG(AA11))/LOG(2))))","v":0},null,{"$f":"N11","v":0},{"$f":"COUNTIF(L25:L32,AD11)","v":0},{"$f":"AE11/(AG4-AE8)","v":0},{"$f":"IF(AF11=0,0,(AF11*((LOG(AF11))/LOG(2))))","v":0},null,{"$f":"N11","v":0},{"$f":"COUNTIF(L33:L41,AI11)","v":0},{"$f":"AJ11/(AL4-AJ8)","v":0},{"$f":"IF(AK11=0,0,(AK11*((LOG(AK11))/LOG(2))))","v":0},null,{"$f":"N11","v":0},{"$f":"COUNTIF(L42:L50,AN11)","v":0},{"$f":"AO11/(AQ4-AO8)","v":0},{"$f":"IF(AP11=0,0,(AP11*((LOG(AP11))/LOG(2))))","v":0},null,{"$f":"N11","v":0},{"$f":"COUNTIF(L51:L59,AS11)","v":0},{"$f":"AT11/(AV4-AT8)","v":0},{"$f":"IF(AU11=0,0,(AU11*((LOG(AU11))/LOG(2))))","v":0}]
[11,555,21,564,null,null,null,null,null,null,0,12,null,null,null,null,null,null,null,{"$f":"N12","v":0},{"$f":"COUNTIF(L7:L15,T12)","v":0},{"$f":"U12/(W4-U8)","v":0},{"$f":"IF(V12=0,0,(V12*((LOG(V12))/LOG(2))))","v":0},null,{"$f":"N12","v":0},{"$f":"COUNTIF(L16:L24,Y12)","v":0},{"$f":"Z12/(AB4-Z8)","v":0},{"$f":"IF(AA12=0,0,(AA12*((LOG(AA12))/LOG(2))))","v":0},null,{"$f":"N12","v":0},{"$f":"COUNTIF(L25:L32,AD12)","v":0},{"$f":"AE12/(AG4-AE8)","v":0},{"$f":"IF(AF12=0,0,(AF12*((LOG(AF12))/LOG(2))))","v":0},null,{"$f":"N12","v":0},{"$f":"COUNTIF(L33:L41,AI12)","v":0},{"$f":"AJ12/(AL4-AJ8)","v":0},{"$f":"IF(AK12=0,0,(AK12*((LOG(AK12))/LOG(2))))","v":0},null,{"$f":"N12","v":0},{"$f":"COUNTIF(L42:L50,AN12)","v":0},{"$f":"AO12/(AQ4-AO8)","v":0},{"$f":"IF(AP12=0,0,(AP12*((LOG(AP12))/LOG(2))))","v":0},null,{"$f":"N12","v":0},{"$f":"COUNTIF(L51:L59,AS12)","v":0},{"$f":"AT12/(AV4-AT8)","v":0},{"$f":"IF(AU12=0,0,(AU12*((LOG(AU12))/LOG(2))))","v":0}]
[11,660,21,668,null,null,null,null,null,null,0,12,null,null,null,null,null,null,null,{"$f":"N13","v":0},{"$f":"COUNTIF(L7:L15,T13)","v":0},{"$f":"U13/(W4-U8)","v":0},{"$f":"IF(V13=0,0,(V13*((LOG(V13))/LOG(2))))","v":0},null,{"$f":"N13","v":0},{"$f":"COUNTIF(L16:L24,Y13)","v":0},{"$f":"Z13/(AB4-Z8)","v":0},{"$f":"IF(AA13=0,0,(AA13*((LOG(AA13))/LOG(2))))","v":0},null,{"$f":"N13","v":0},{"$f":"COUNTIF(L25:L32,AD13)","v":0},{"$f":"AE13/(AG4-AE8)","v":0},{"$f":"IF(AF13=0,0,(AF13*((LOG(AF13))/LOG(2))))","v":0},null,{"$f":"N13","v":0},{"$f":"COUNTIF(L33:L41,AI13)","v":0},{"$f":"AJ13/(AL4-AJ8)","v":0},{"$f":"IF(AK13=0,0,(AK13*((LOG(AK13))/LOG(2))))","v":0},null,{"$f":"N13","v":0},{"$f":"COUNTIF(L42:L50,AN13)","v":0},{"$f":"AO13/(AQ4-AO8)","v":0},{"$f":"IF(AP13=0,0,(AP13*((LOG(AP13))/LOG(2))))","v":0},null,{"$f":"N13","v":0},{"$f":"COUNTIF(L51:L59,AS13)","v":0},{"$f":"AT13/(AV4-AT8)","v":0},{"$f":"IF(AU13=0,0,(AU13*((LOG(AU13))/LOG(2))))","v":0}]
[22,770,23,788,null,null,null,null,null,null,0,22,null,null,null,null,null,null,null,{"$f":"N14","v":0},{"$f":"COUNTIF(L7:L15,T14)","v":0},{"$f":"U14/(W4-U8)","v":0},{"$f":"IF(V14=0,0,(V14*((LOG(V14))/LOG(2))))","v":0},null,{"$f":"N14","v":0},{"$f":"COUNTIF(L16:L24,Y14)","v":0},{"$f":"Z14/(AB4-Z8)","v":0},{"$f":"IF(AA14=0,0,(AA14*((LOG(AA14))/LOG(2))))","v":0},null,{"$f":"N14","v":0},{"$f":"COUNTIF(L25:L32,AD14)","v":0},{"$f":"AE14/(AG4-AE8)","v":0},{"$f":"IF(AF14=0,0,(AF14*((LOG(AF14))/LOG(2))))","v":0},null,{"$f":"N14","v":0},{"$f":"COUNTIF(L33:L41,AI14)","v":0},{"$f":"AJ14/(AL4-AJ8)","v":0},{"$f":"IF(AK14=0,0,(AK14*((LOG(AK14))/LOG(2))))","v":0},null,{"$f":"N14","v":0},{"$f":"COUNTIF(L42:L50,AN14)","v":0},{"$f":"AO14/(AQ4-AO8)","v":0},{"$f":"IF(AP14=0,0,(AP14*((LOG(AP14))/LOG(2))))","v":0},null,{"$f":"N14","v":0},{"$f":"COUNTIF(L51:L59,AS14)","v":0},{"$f":"AT14/(AV4-AT8)","v":0},{"$f":"IF(AU14=0,0,(AU14*((LOG(AU14))/LOG(2))))","v":0}]
[22,903,14,912,null,null,null,null,null,null,0,21,null,null,null,{"$f":"SUM(P7:P14)","v":1},{"$f":"-SUM(Q7:Q14)","v":1.1904343362626084},null,null,null,null,{"$f":"SUM(V7:V14)","v":1},{"$f":"-SUM(W7:W14)","v":1.5219280948873624},null,null,null,{"$f":"SUM(AA7:AA14)","v":1},{"$f":"-SUM(AB7:AB14)","v":1},null,null,null,{"$f":"SUM(AF7:AF14)","v":1},{"$f":"-SUM(AG7:AG14)","v":0},null,null,null,{"$f":"SUM(AK7:AK14)","v":1},{"$f":"-SUM(AL7:AL14)","v":1},null,null,null,{"$f":"SUM(AP7:AP14)","v":1},{"$f":"-SUM(AQ7:AQ14)","v":0},null,null,null,{"$f":"SUM(AU7:AU14)","v":1},{"$f":"-SUM(AV7:AV14)","v":0}]
[22,1018,23,1033,null,null,null,null,null,null,0,22,null,null,null,"U=",{"$f":"Q15/(LOG(Q4)/LOG(2))","v":0.20783010967169391},null,null,null,null,"U1=",{"$f":"W15/(LOG(W4)/LOG(2))","v":0.48011485893038064},null,null,null,"U2=",{"$f":"AB15/(LOG(AB4)/LOG(2))","v":0.31546487678572877},null,null,null,"U3=",{"$f":"AG15/(LOG(AG4)/LOG(2))","v":0},null,null,null,"U4=",{"$f":"AL15/(LOG(AL4)/LOG(2))","v":0.31546487678572877},null,null,null,"U5=",{"$f":"AQ15/(LOG(AQ4)/LOG(2))","v":0},null,null,null,"U6=",{"$f":"AV15/(LOG(AV4)/LOG(2))","v":0}]
[11,1141,21,1148,null,null,null,null,null,null,0,12]
[11,1245,21,1253,null,null,null,null,null,null,0,12]
[11,1341,21,1350,null,null,null,null,null,null,0,12,null,"Total Target Seq"]
[11,1444,21,1453,null,null,null,null,null,null,0,12,null,{"$f":"COUNTIF(L7:L59,G3)","v":40},null,9,9,8,9,9,9]
[11,1542,21,1550,null,null,null,null,null,null,0,12,null,null,null,"% of reinforcement given in 6 equal intervals based on number of trials "]
[11,1647,12,1652,null,null,null,null,null,null,0,11,null,null,null,"%_1","%_2","%_3","%_4","%_5","%_6"]
[11,1750,21,1757,null,null,null,null,null,null,0,12,null,null,"target sequence",{"$f":"$G$3","v":12},{"$f":"$G$3","v":12},{"$f":"$G$3","v":12},{"$f":"$G$3","v":12},{"$f":"$G$3","v":12},{"$f":"$G$3","v":12}]
[11,1845,21,1852,null,null,null,null,null,null,0,12,null,null,"total reinforcement",{"$f":"U8","v":4},{"$f":"Z8","v":7},{"$f":"AE8","v":7},{"$f":"AJ8","v":7},{"$f":"AO8","v":7},{"$f":"AT8","v":8}]
[11,1942,21,1950,null,null,null,null,null,null,0,12,null,null,"% target"]
[11,2042,21,2055,null,null,null,null,null,null,0,12,null,null,"CCRF"]
[11,2145,21,2152,null,null,null,null,null,null,0,12,null,null,"% CCRf"]
[11,2240,21,2248,null,null,null,null,null,null,0,12,null,null,"average response rate",{"$f":"D15/P20","v":101.33333333333333},{"$f":"(D24-D15)/Q20","v":104.44444444444444},{"$f":"(D32-D24)/R20","v":103.125},{"$f":"(D41-D32)/S20","v":101.88888888888889},{"$f":"(D50-D41)/T20","v":102.44444444444444},{"$f":"(D59-D50)/U20","v":99.222222222222229}]
[11,2344,21,2351,null,null,null,null,null,null,0,12]
[22,2448,14,2475,null,null,null,null,null,null,0,21]
[11,2571,21,2579,null,null,null,null,null,null,0,12]
[11,2669,21,2677,null,null,null,null,null,null,0,12]
[11,2765,21,2772,null,null,null,null,null,null,0,12]
[11,2863,21,2871,null,null,null,null,null,null,0,12]
[11,2960,21,2967,null,null,null,null,null,null,0,12]
[11,3060,21,3068,null,null,null,null,null,null,0,12]
[11,3167,21,3175,null,null,null,null,null,null,0,12]
[11,3263,21,3270,null,null,null,null,null,null,0,12]
[11,3356,12,3363,null,null,null,null,null,null,0,11]
[22,3469,14,3477,null,null,null,null,null,null,0,21]
[11,3586,21,3594,null,null,null,null,null,null,0,12]
[11,3692,21,3699,null,null,null,null,null,null,0,12]
[11,3787,21,3795,null,null,null,null,null,null,0,12]
[11,3884,21,3892,null,null,null,null,null,null,0,12]
[11,3991,21,3999,null,null,null,null,null,null,0,12]
[11,4086,12,4095,null,null,null,null,null,null,0,11]
[11,4195,21,4202,null,null,null,null,null,null,0,12]
[11,4288,12,4298,null,null,null,null,null,null,0,11]
[11,4402,21,4409,null,null,null,null,null,null,0,12]
[11,4508,21,4516,null,null,null,null,null,null,0,12]
[11,4605,21,4612,null,null,null,null,null,null,0,12]
[11,4700,21,4708,null,null,null,null,null,null,0,12]
[11,4799,21,4806,null,null,null,null,null,null,0,12]
[11,4893,21,4901,null,null,null,null,null,null,0,12]
[11,4987,21,4997,null,null,null,null,null,null,0,12]
[22,5103,23,5119,null,null,null,null,null,null,0,22]
[11,5215,21,5220,null,null,null,null,null,null,0,12]
[11,5306,21,5314,null,null,null,null,null,null,0,12]
[11,5402,21,5409,null,null,null,null,null,null,1,12]

{"sheet":"!L813900.052","index":9,"n_rows":48,"n_cols":48,"rows_kept":48,"cut":false,"hidden":false,"merged":[[4,39,4,42],[5,39,5,40],[4,44,4,47],[5,44,5,45],[4,24,4,27],[5,24,5,25],[4,29,4,32],[5,29,5,30],[4,34,4,37],[5,34,5,35],[1,1,1,2],[5,13,5,14],[18,13,18,14],[19,13,19,14],[4,19,4,22],[5,19,5,20]]}
["Report for:!L813900.052"]
["Date:","<date>"]
["Hen:","<hen>",null,null,null,"Correct Sequence",{"$f":"Start!J2","v":12},null,null,null,null,null,null,null,null,"Total Sequences in Data",{"$f":"4994-COUNTBLANK(L7:L5000)","v":42},null,null,null,null,"Total Sequences in Block Data",{"$f":"COUNTA(L7:L13)","v":7},null,null,null,"Total Sequences in Block Data",{"$f":"COUNTA(L14:L20)","v":7},null,null,null,"Total Sequences in Block Data",{"$f":"COUNTA(L21:L27)","v":7},null,null,null,"Total Sequences in Block Data",{"$f":"COUNTA(L28:L34)","v":7},null,null,null,"Total Sequences in Block Data",{"$f":"COUNTA(L35:L41)","v":7},null,null,null,"Total Sequences in Block Data",{"$f":"COUNTA(L42:L48)","v":7}]
[null,null,null,null,null,null,null,null,null,null,null,null,null,null,null,"Total Sequences in Summary",{"$f":"SUM(O7:O14)","v":42},null,null,null,null,"Total Sequences in Block Summary",{"$f":"SUM(U7:U14)","v":7},null,null,null,"Total Sequences in Block Summary",{"$f":"SUM(Z7:Z14)","v":7},null,null,null,"Total Sequences in Block Summary",{"$f":"SUM(AE7:AE14)","v":7},null,null,null,"Total Sequences in Block Summary",{"$f":"SUM(AJ7:AJ14)","v":7},null,null,null,"Total Sequences in Block Summary",{"$f":"SUM(AO7:AO14)","v":7},null,null,null,"Total Sequences in Block Summary",{"$f":"SUM(AT7:AT14)","v":7}]
[null,null,null,null,null,null,null,null,null,null,null,null,null,null,null,null,null,null,null,"Block 1",null,null,null,null,"Block 2",null,null,null,null,"Block 3",null,null,null,null,"Block 4",null,null,null,null,"Block 5",null,null,null,null,"Block 6"]
["Sequence\nComponent\n1","Time\n1","Sequence\nComponent\n2","Time\n2","Sequence\nComponent\n3","Time\n3","Sequence\nComponent\n4","Time\n4","Sequence\nComponent\n5","Time\n5","Correct?\n0=No 1=Yes","Sequence",null,"Frequency",null,"Relative Frequency","Variability",null,null,"Frequency",null,"Relative Frequency","Variability",null,"Frequency",null,"Relative Frequency","Variability",null,"Frequency",null,"Relative Frequency","Variability",null,"Frequency",null,"Relative Frequency","Variability",null,"Frequency",null,"Relative Frequency","Variability",null,"Frequency",null,"Relative Frequency","Variability"]
[11,9,21,16,null,null,null,null,null,null,0,12,null,11,{"$f":"COUNTIF($L$7:$L$500,N7)","v":1},{"$f":"O7/$Q$4","v":2.3809523809523808E-2},{"$f":"IF(P7=0,0,(P7*((LOG(P7))/LOG(2))))","v":-0.12838851006616095},null,null,{"$f":"N7","v":11},{"$f":"COUNTIF(L7:L13,T7)","v":0},{"$f":"U7/(W4-U8)","v":{"$error":"#DIV/0!"}},{"$f":"IF(V7=0,0,(V7*((LOG(V7))/LOG(2))))","v":{"$error":"#DIV/0!"}},null,{"$f":"N7","v":11},{"$f":"COUNTIF(L14:L20,Y7)","v":0},{"$f":"Z7/(AB4-Z8)","v":{"$error":"#DIV/0!"}},{"$f":"IF(AA7=0,0,(AA7*((LOG(AA7))/LOG(2))))","v":{"$error":"#DIV/0!"}},null,{"$f":"N7","v":11},{"$f":"COUNTIF(L21:L27,AD7)","v":1},{"$f":"AE7/(AG4-AE8)","v":0.5},{"$f":"IF(AF7=0,0,(AF7*((LOG(AF7))/LOG(2))))","v":-0.5},null,{"$f":"N7","v":11},{"$f":"COUNTIF(L28:L34,AI7)","v":0},{"$f":"AJ7/(AL4-AJ8)","v":{"$error":"#DIV/0!"}},{"$f":"IF(AK7=0,0,(AK7*((LOG(AK7))/LOG(2))))","v":{"$error":"#DIV/0!"}},null,{"$f":"N7","v":11},{"$f":"COUNTIF(L35:L41,AN7)","v":0},{"$f":"AO7/(AQ4-AO8)","v":{"$error":"#DIV/0!"}},{"$f":"IF(AP7=0,0,(AP7*((LOG(AP7))/LOG(2))))","v":{"$error":"#DIV/0!"}},null,{"$f":"N7","v":11},{"$f":"COUNTIF(L42:L48,AS7)","v":0},{"$f":"AT7/(AV4-AT8)","v":{"$error":"#DIV/0!"}},{"$f":"IF(AU7=0,0,(AU7*((LOG(AU7))/LOG(2))))","v":{"$error":"#DIV/0!"}}]
[11,105,21,112,null,null,null,null,null,null,0,12,null,12,{"$f":"COUNTIF($L$7:$L$500,N8)","v":40},{"$f":"O8/$Q$4","v":0.95238095238095233},{"$f":"IF(P8=0,0,(P8*((LOG(P8))/LOG(2))))","v":-6.7037455134664775E-2},null,null,{"$f":"N8","v":12},{"$f":"COUNTIF(L7:L13,T8)","v":7},null,null,null,{"$f":"N8","v":12},{"$f":"COUNTIF(L14:L20,Y8)","v":7},null,null,null,{"$f":"N8","v":12},{"$f":"COUNTIF(L21:L27,AD8)","v":5},null,null,null,{"$f":"N8","v":12},{"$f":"COUNTIF(L28:L34,AI8)","v":7},null,null,null,{"$f":"N8","v":12},{"$f":"COUNTIF(L35:L41,AN8)","v":7},null,null,null,{"$f":"N8","v":12},{"$f":"COUNTIF(L42:L48,AS8)","v":7}]
[11,198,21,205,null,null,null,null,null,null,0,12,null,21,{"$f":"COUNTIF($L$7:$L$500,N9)","v":0},{"$f":"O9/$Q$4","v":0},{"$f":"IF(P9=0,0,(P9*((LOG(P9))/LOG(2))))","v":0},null,null,{"$f":"N9","v":21},{"$f":"COUNTIF(L7:L13,T9)","v":0},{"$f":"U9/(W4-U8)","v":{"$error":"#DIV/0!"}},{"$f":"IF(V9=0,0,(V9*((LOG(V9))/LOG(2))))","v":{"$error":"#DIV/0!"}},null,{"$f":"N9","v":21},{"$f":"COUNTIF(L14:L20,Y9)","v":0},{"$f":"Z9/(AB4-Z8)","v":{"$error":"#DIV/0!"}},{"$f":"IF(AA9=0,0,(AA9*((LOG(AA9))/LOG(2))))","v":{"$error":"#DIV/0!"}},null,{"$f":"N9","v":21},{"$f":"COUNTIF(L21:L27,AD9)","v":0},{"$f":"AE9/(AG4-AE8)","v":0},{"$f":"IF(AF9=0,0,(AF9*((LOG(AF9))/LOG(2))))","v":0},null,{"$f":"N9","v":21},{"$f":"COUNTIF(L28:L34,AI9)","v":0},{"$f":"AJ9/(AL4-AJ8)","v":{"$error":"#DIV/0!"}},{"$f":"IF(AK9=0,0,(AK9*((LOG(AK9))/LOG(2))))","v":{"$error":"#DIV/0!"}},null,{"$f":"N9","v":21},{"$f":"COUNTIF(L35:L41,AN9)","v":0},{"$f":"AO9/(AQ4-AO8)","v":{"$error":"#DIV/0!"}},{"$f":"IF(AP9=0,0,(AP9*((LOG(AP9))/LOG(2))))","v":{"$error":"#DIV/0!"}},null,{"$f":"N9","v":21},{"$f":"COUNTIF(L42:L48,AS9)","v":0},{"$f":"AT9/(AV4-AT8)","v":{"$error":"#DIV/0!"}},{"$f":"IF(AU9=0,0,(AU9*((LOG(AU9))/LOG(2))))","v":{"$error":"#DIV/0!"}}]
[11,292,21,299,null,null,null,null,null,null,0,12,null,22,{"$f":"COUNTIF($L$7:$L$500,N10)","v":1},{"$f":"O10/$Q$4","v":2.3809523809523808E-2},{"$f":"IF(P10=0,0,(P10*((LOG(P10))/LOG(2))))","v":-0.12838851006616095},null,null,{"$f":"N10","v":22},{"$f":"COUNTIF(L7:L13,T10)","v":0},{"$f":"U10/(W4-U8)","v":{"$error":"#DIV/0!"}},{"$f":"IF(V10=0,0,(V10*((LOG(V10))/LOG(2))))","v":{"$error":"#DIV/0!"}},null,{"$f":"N10","v":22},{"$f":"COUNTIF(L14:L20,Y10)","v":0},{"$f":"Z10/(AB4-Z8)","v":{"$error":"#DIV/0!"}},{"$f":"IF(AA10=0,0,(AA10*((LOG(AA10))/LOG(2))))","v":{"$error":"#DIV/0!"}},null,{"$f":"N10","v":22},{"$f":"COUNTIF(L21:L27,AD10)","v":1},{"$f":"AE10/(AG4-AE8)","v":0.5},{"$f":"IF(AF10=0,0,(AF10*((LOG(AF10))/LOG(2))))","v":-0.5},null,{"$f":"N10","v":22},{"$f":"COUNTIF(L28:L34,AI10)","v":0},{"$f":"AJ10/(AL4-AJ8)","v":{"$error":"#DIV/0!"}},{"$f":"IF(AK10=0,0,(AK10*((LOG(AK10))/LOG(2))))","v":{"$error":"#DIV/0!"}},null,{"$f":"N10","v":22},{"$f":"COUNTIF(L35:L41,AN10)","v":0},{"$f":"AO10/(AQ4-AO8)","v":{"$error":"#DIV/0!"}},{"$f":"IF(AP10=0,0,(AP10*((LOG(AP10))/LOG(2))))","v":{"$error":"#DIV/0!"}},null,{"$f":"N10","v":22},{"$f":"COUNTIF(L42:L48,AS10)","v":0},{"$f":"AT10/(AV4-AT8)","v":{"$error":"#DIV/0!"}},{"$f":"IF(AU10=0,0,(AU10*((LOG(AU10))/LOG(2))))","v":{"$error":"#DIV/0!"}}]
[11,385,21,392,null,null,null,null,null,null,0,12,null,null,null,null,null,null,null,{"$f":"N11","v":0},{"$f":"COUNTIF(L7:L13,T11)","v":0},{"$f":"U11/(W4-U8)","v":{"$error":"#DIV/0!"}},{"$f":"IF(V11=0,0,(V11*((LOG(V11))/LOG(2))))","v":{"$error":"#DIV/0!"}},null,{"$f":"N11","v":0},{"$f":"COUNTIF(L14:L20,Y11)","v":0},{"$f":"Z11/(AB4-Z8)","v":{"$error":"#DIV/0!"}},{"$f":"IF(AA11=0,0,(AA11*((LOG(AA11))/LOG(2))))","v":{"$error":"#DIV/0!"}},null,{"$f":"N11","v":0},{"$f":"COUNTIF(L21:L27,AD11)","v":0},{"$f":"AE11/(AG4-AE8)","v":0},{"$f":"IF(AF11=0,0,(AF11*((LOG(AF11))/LOG(2))))","v":0},null,{"$f":"N11","v":0},{"$f":"COUNTIF(L28:L34,AI11)","v":0},{"$f":"AJ11/(AL4-AJ8)","v":{"$error":"#DIV/0!"}},{"$f":"IF(AK11=0,0,(AK11*((LOG(AK11))/LOG(2))))","v":{"$error":"#DIV/0!"}},null,{"$f":"N11","v":0},{"$f":"COUNTIF(L35:L41,AN11)","v":0},{"$f":"AO11/(AQ4-AO8)","v":{"$error":"#DIV/0!"}},{"$f":"IF(AP11=0,0,(AP11*((LOG(AP11))/LOG(2))))","v":{"$error":"#DIV/0!"}},null,{"$f":"N11","v":0},{"$f":"COUNTIF(L42:L48,AS11)","v":0},{"$f":"AT11/(AV4-AT8)","v":{"$error":"#DIV/0!"}},{"$f":"IF(AU11=0,0,(AU11*((LOG(AU11))/LOG(2))))","v":{"$error":"#DIV/0!"}}]
[11,478,21,485,null,null,null,null,null,null,0,12,null,null,null,null,null,null,null,{"$f":"N12","v":0},{"$f":"COUNTIF(L7:L13,T12)","v":0},{"$f":"U12/(W4-U8)","v":{"$error":"#DIV/0!"}},{"$f":"IF(V12=0,0,(V12*((LOG(V12))/LOG(2))))","v":{"$error":"#DIV/0!"}},null,{"$f":"N12","v":0},{"$f":"COUNTIF(L14:L20,Y12)","v":0},{"$f":"Z12/(AB4-Z8)","v":{"$error":"#DIV/0!"}},{"$f":"IF(AA12=0,0,(AA12*((LOG(AA12))/LOG(2))))","v":{"$error":"#DIV/0!"}},null,{"$f":"N12","v":0},{"$f":"COUNTIF(L21:L27,AD12)","v":0},{"$f":"AE12/(AG4-AE8)","v":0},{"$f":"IF(AF12=0,0,(AF12*((LOG(AF12))/LOG(2))))","v":0},null,{"$f":"N12","v":0},{"$f":"COUNTIF(L28:L34,AI12)","v":0},{"$f":"AJ12/(AL4-AJ8)","v":{"$error":"#DIV/0!"}},{"$f":"IF(AK12=0,0,(AK12*((LOG(AK12))/LOG(2))))","v":{"$error":"#DIV/0!"}},null,{"$f":"N12","v":0},{"$f":"COUNTIF(L35:L41,AN12)","v":0},{"$f":"AO12/(AQ4-AO8)","v":{"$error":"#DIV/0!"}},{"$f":"IF(AP12=0,0,(AP12*((LOG(AP12))/LOG(2))))","v":{"$error":"#DIV/0!"}},null,{"$f":"N12","v":0},{"$f":"COUNTIF(L42:L48,AS12)","v":0},{"$f":"AT12/(AV4-AT8)","v":{"$error":"#DIV/0!"}},{"$f":"IF(AU12=0,0,(AU12*((LOG(AU12))/LOG(2))))","v":{"$error":"#DIV/0!"}}]
[11,569,21,576,null,null,null,null,null,null,0,12,null,null,null,null,null,null,null,{"$f":"N13","v":0},{"$f":"COUNTIF(L7:L13,T13)","v":0},{"$f":"U13/(W4-U8)","v":{"$error":"#DIV/0!"}},{"$f":"IF(V13=0,0,(V13*((LOG(V13))/LOG(2))))","v":{"$error":"#DIV/0!"}},null,{"$f":"N13","v":0},{"$f":"COUNTIF(L14:L20,Y13)","v":0},{"$f":"Z13/(AB4-Z8)","v":{"$error":"#DIV/0!"}},{"$f":"IF(AA13=0,0,(AA13*((LOG(AA13))/LOG(2))))","v":{"$error":"#DIV/0!"}},null,{"$f":"N13","v":0},{"$f":"COUNTIF(L21:L27,AD13)","v":0},{"$f":"AE13/(AG4-AE8)","v":0},{"$f":"IF(AF13=0,0,(AF13*((LOG(AF13))/LOG(2))))","v":0},null,{"$f":"N13","v":0},{"$f":"COUNTIF(L28:L34,AI13)","v":0},{"$f":"AJ13/(AL4-AJ8)","v":{"$error":"#DIV/0!"}},{"$f":"IF(AK13=0,0,(AK13*((LOG(AK13))/LOG(2))))","v":{"$error":"#DIV/0!"}},null,{"$f":"N13","v":0},{"$f":"COUNTIF(L35:L41,AN13)","v":0},{"$f":"AO13/(AQ4-AO8)","v":{"$error":"#DIV/0!"}},{"$f":"IF(AP13=0,0,(AP13*((LOG(AP13))/LOG(2))))","v":{"$error":"#DIV/0!"}},null,{"$f":"N13","v":0},{"$f":"COUNTIF(L42:L48,AS13)","v":0},{"$f":"AT13/(AV4-AT8)","v":{"$error":"#DIV/0!"}},{"$f":"IF(AU13=0,0,(AU13*((LOG(AU13))/LOG(2))))","v":{"$error":"#DIV/0!"}}]
[11,664,21,671,null,null,null,null,null,null,0,12,null,null,null,null,null,null,null,{"$f":"N14","v":0},{"$f":"COUNTIF(L7:L13,T14)","v":0},{"$f":"U14/(W4-U8)","v":{"$error":"#DIV/0!"}},{"$f":"IF(V14=0,0,(V14*((LOG(V14))/LOG(2))))","v":{"$error":"#DIV/0!"}},null,{"$f":"N14","v":0},{"$f":"COUNTIF(L14:L20,Y14)","v":0},{"$f":"Z14/(AB4-Z8)","v":{"$error":"#DIV/0!"}},{"$f":"IF(AA14=0,0,(AA14*((LOG(AA14))/LOG(2))))","v":{"$error":"#DIV/0!"}},null,{"$f":"N14","v":0},{"$f":"COUNTIF(L21:L27,AD14)","v":0},{"$f":"AE14/(AG4-AE8)","v":0},{"$f":"IF(AF14=0,0,(AF14*((LOG(AF14))/LOG(2))))","v":0},null,{"$f":"N14","v":0},{"$f":"COUNTIF(L28:L34,AI14)","v":0},{"$f":"AJ14/(AL4-AJ8)","v":{"$error":"#DIV/0!"}},{"$f":"IF(AK14=0,0,(AK14*((LOG(AK14))/LOG(2))))","v":{"$error":"#DIV/0!"}},null,{"$f":"N14","v":0},{"$f":"COUNTIF(L35:L41,AN14)","v":0},{"$f":"AO14/(AQ4-AO8)","v":{"$error":"#DIV/0!"}},{"$f":"IF(AP14=0,0,(AP14*((LOG(AP14))/LOG(2))))","v":{"$error":"#DIV/0!"}},null,{"$f":"N14","v":0},{"$f":"COUNTIF(L42:L48,AS14)","v":0},{"$f":"AT14/(AV4-AT8)","v":{"$error":"#DIV/0!"}},{"$f":"IF(AU14=0,0,(AU14*((LOG(AU14))/LOG(2))))","v":{"$error":"#DIV/0!"}}]
[11,760,21,767,null,null,null,null,null,null,0,12,null,null,null,{"$f":"SUM(P7:P14)","v":1},{"$f":"-SUM(Q7:Q14)","v":0.3238144752669867},null,null,null,null,{"$f":"SUM(V7:V14)","v":{"$error":"#DIV/0!"}},{"$f":"-SUM(W7:W14)","v":{"$error":"#DIV/0!"}},null,null,null,{"$f":"SUM(AA7:AA14)","v":{"$error":"#DIV/0!"}},{"$f":"-SUM(AB7:AB14)","v":{"$error":"#DIV/0!"}},null,null,null,{"$f":"SUM(AF7:AF14)","v":1},{"$f":"-SUM(AG7:AG14)","v":1},null,null,null,{"$f":"SUM(AK7:AK14)","v":{"$error":"#DIV/0!"}},{"$f":"-SUM(AL7:AL14)","v":{"$error":"#DIV/0!"}},null,null,null,{"$f":"SUM(AP7:AP14)","v":{"$error":"#DIV/0!"}},{"$f":"-SUM(AQ7:AQ14)","v":{"$error":"#DIV/0!"}},null,null,null,{"$f":"SUM(AU7:AU14)","v":{"$error":"#DIV/0!"}},{"$f":"-SUM(AV7:AV14)","v":{"$error":"#DIV/0!"}}]
[11,861,21,869,null,null,null,null,null,null,0,12,null,null,null,"U=",{"$f":"Q15/(LOG(Q4)/LOG(2))","v":6.0051078206022804E-2},null,null,null,null,"U1=",{"$f":"W15/(LOG(W4)/LOG(2))","v":{"$error":"#DIV/0!"}},null,null,null,"U2=",{"$f":"AB15/(LOG(AB4)/LOG(2))","v":{"$error":"#DIV/0!"}},null,null,null,"U3=",{"$f":"AG15/(LOG(AG4)/LOG(2))","v":0.35620718710802218},null,null,null,"U4=",{"$f":"AL15/(LOG(AL4)/LOG(2))","v":{"$error":"#DIV/0!"}},null,null,null,"U5=",{"$f":"AQ15/(LOG(AQ4)/LOG(2))","v":{"$error":"#DIV/0!"}},null,null,null,"U6=",{"$f":"AV15/(LOG(AV4)/LOG(2))","v":{"$error":"#DIV/0!"}}]
[11,956,21,963,null,null,null,null,null,null,0,12]
[11,1051,21,1060,null,null,null,null,null,null,0,12]
[11,1147,21,1153,null,null,null,null,null,null,0,12,null,"Total Target Seq"]
[11,1241,21,1248,null,null,null,null,null,null,0,12,null,{"$f":"COUNTIF(L7:L48,G3)","v":40},null,7,7,7,7,7,7]
[11,1341,21,1349,null,null,null,null,null,null,0,12,null,null,null,"% of reinforcement given in 6 equal intervals based on number of trials "]
[11,1433,21,1441,null,null,null,null,null,null,0,12,null,null,null,"%_1","%_2","%_3","%_4","%_5","%_6"]
[11,1530,21,1538,null,null,null,null,null,null,0,12,null,null,"target sequence",{"$f":"$G$3","v":12},{"$f":"$G$3","v":12},{"$f":"$G$3","v":12},{"$f":"$G$3","v":12},{"$f":"$G$3","v":12},{"$f":"$G$3","v":12}]
[22,1641,23,1672,null,null,null,null,null,null,0,22,null,null,"total reinforcement",{"$f":"U8","v":7},{"$f":"Z8","v":7},{"$f":"AE8","v":5},{"$f":"AJ8","v":7},{"$f":"AO8","v":7},{"$f":"AT8","v":7}]
[11,1770,21,1777,null,null,null,null,null,null,0,12,null,null,"% target"]
[11,1867,12,1876,null,null,null,null,null,null,0,11,null,null,"CCRF"]
[11,1974,21,1981,null,null,null,null,null,null,0,12,null,null,"% CCRf"]
[11,2072,21,2080,null,null,null,null,null,null,0,12,null,null,"average response rate",{"$f":"D13/P20","v":82.285714285714292},{"$f":"(D20-D13)/Q20","v":96},{"$f":"(D27-D20)/R20","v":104.71428571428571},{"$f":"(D34-D27)/S20","v":100.85714285714286},{"$f":"(D41-D34)/T20","v":99.142857142857139},{"$f":"(D48-D41)/U20","v":96}]
[11,2167,21,2174,null,null,null,null,null,null,0,12]
[11,2262,21,2267,null,null,null,null,null,null,0,12]
[11,2369,21,2376,null,null,null,null,null,null,0,12]
[11,2473,21,2480,null,null,null,null,null,null,0,12]
[11,2567,21,2582,null,null,null,null,null,null,0,12]
[11,2679,21,2687,null,null,null,null,null,null,0,12]
[11,2775,21,2782,null,null,null,null,null,null,0,12]
[11,2871,21,2879,null,null,null,null,null,null,0,12]
[11,2966,21,2973,null,null,null,null,null,null,0,12]
[11,3067,21,3076,null,null,null,null,null,null,0,12]
[11,3168,21,3178,null,null,null,null,null,null,0,12]
[11,3272,21,3280,null,null,null,null,null,null,0,12]
[11,3373,21,3381,null,null,null,null,null,null,0,12]
[11,3466,21,3474,null,null,null,null,null,null,0,12]
[11,3562,21,3570,null,null,null,null,null,null,0,12]
[11,3660,21,3668,null,null,null,null,null,null,0,12]
[11,3755,21,3763,null,null,null,null,null,null,0,12]
[11,3850,21,3858,null,null,null,null,null,null,0,12]
[11,3949,21,3957,null,null,null,null,null,null,0,12]
[11,4046,21,4053,null,null,null,null,null,null,1,12]

{"sheet":"!L814930.052","index":10,"n_rows":50,"n_cols":48,"rows_kept":50,"cut":false,"hidden":false,"merged":[[4,39,4,42],[5,39,5,40],[4,44,4,47],[5,44,5,45],[4,24,4,27],[5,24,5,25],[4,29,4,32],[5,29,5,30],[4,34,4,37],[5,34,5,35],[1,1,1,2],[5,13,5,14],[18,13,18,14],[19,13,19,14],[4,19,4,22],[5,19,5,20]]}
["Report for:!L814930.052"]
["Date:","<date>"]
["Hen:","<hen>",null,null,null,"Correct Sequence",{"$f":"Start!J2","v":12},null,null,null,null,null,null,null,null,"Total Sequences in Data",{"$f":"4994-COUNTBLANK(L7:L5000)","v":44},null,null,null,null,"Total Sequences in Block Data",{"$f":"COUNTA(L7:L13)","v":7},null,null,null,"Total Sequences in Block Data",{"$f":"COUNTA(L14:L21)","v":8},null,null,null,"Total Sequences in Block Data",{"$f":"COUNTA(L22:L28)","v":7},null,null,null,"Total Sequences in Block Data",{"$f":"COUNTA(L29:L35)","v":7},null,null,null,"Total Sequences in Block Data",{"$f":"COUNTA(L36:L43)","v":8},null,null,null,"Total Sequences in Block Data",{"$f":"COUNTA(L44:L50)","v":7}]
[null,null,null,null,null,null,null,null,null,null,null,null,null,null,null,"Total Sequences in Summary",{"$f":"SUM(O7:O14)","v":44},null,null,null,null,"Total Sequences in Block Summary",{"$f":"SUM(U7:U14)","v":7},null,null,null,"Total Sequences in Block Summary",{"$f":"SUM(Z7:Z14)","v":8},null,null,null,"Total Sequences in Block Summary",{"$f":"SUM(AE7:AE14)","v":7},null,null,null,"Total Sequences in Block Summary",{"$f":"SUM(AJ7:AJ14)","v":7},null,null,null,"Total Sequences in Block Summary",{"$f":"SUM(AO7:AO14)","v":8},null,null,null,"Total Sequences in Block Summary",{"$f":"SUM(AT7:AT14)","v":7}]
[null,null,null,null,null,null,null,null,null,null,null,null,null,null,null,null,null,null,null,"Block 1",null,null,null,null,"Block 2",null,null,null,null,"Block 3",null,null,null,null,"Block 4",null,null,null,null,"Block 5",null,null,null,null,"Block 6"]
["Sequence\nComponent\n1","Time\n1","Sequence\nComponent\n2","Time\n2","Sequence\nComponent\n3","Time\n3","Sequence\nComponent\n4","Time\n4","Sequence\nComponent\n5","Time\n5","Correct?\n0=No 1=Yes","Sequence",null,"Frequency",null,"Relative Frequency","Variability",null,null,"Frequency",null,"Relative Frequency","Variability",null,"Frequency",null,"Relative Frequency","Variability",null,"Frequency",null,"Relative Frequency","Variability",null,"Frequency",null,"Relative Frequency","Variability",null,"Frequency",null,"Relative Frequency","Variability",null,"Frequency",null,"Relative Frequency","Variability"]
[11,9,21,16,null,null,null,null,null,null,0,12,null,11,{"$f":"COUNTIF($L$7:$L$500,N7)","v":2},{"$f":"O7/$Q$4","v":4.5454545454545456E-2},{"$f":"IF(P7=0,0,(P7*((LOG(P7))/LOG(2))))","v":-0.20270143721078623},null,null,{"$f":"N7","v":11},{"$f":"COUNTIF(L7:L13,T7)","v":0},{"$f":"U7/(W4-U8)","v":{"$error":"#DIV/0!"}},{"$f":"IF(V7=0,0,(V7*((LOG(V7))/LOG(2))))","v":{"$error":"#DIV/0!"}},null,{"$f":"N7","v":11},{"$f":"COUNTIF(L14:L21,Y7)","v":1},{"$f":"Z7/(AB4-Z8)","v":0.5},{"$f":"IF(AA7=0,0,(AA7*((LOG(AA7))/LOG(2))))","v":-0.5},null,{"$f":"N7","v":11},{"$f":"COUNTIF(L22:L28,AD7)","v":0},{"$f":"AE7/(AG4-AE8)","v":0},{"$f":"IF(AF7=0,0,(AF7*((LOG(AF7))/LOG(2))))","v":0},null,{"$f":"N7","v":11},{"$f":"COUNTIF(L29:L35,AI7)","v":0},{"$f":"AJ7/(AL4-AJ8)","v":{"$error":"#DIV/0!"}},{"$f":"IF(AK7=0,0,(AK7*((LOG(AK7))/LOG(2))))","v":{"$error":"#DIV/0!"}},null,{"$f":"N7","v":11},{"$f":"COUNTIF(L36:L43,AN7)","v":0},{"$f":"AO7/(AQ4-AO8)","v":{"$error":"#DIV/0!"}},{"$f":"IF(AP7=0,0,(AP7*((LOG(AP7))/LOG(2))))","v":{"$error":"#DIV/0!"}},null,{"$f":"N7","v":11},{"$f":"COUNTIF(L44:L50,AS7)","v":1},{"$f":"AT7/(AV4-AT8)","v":1},{"$f":"IF(AU7=0,0,(AU7*((LOG(AU7))/LOG(2))))","v":0}]
[11,103,21,110,null,null,null,null,null,null,0,12,null,12,{"$f":"COUNTIF($L$7:$L$500,N8)","v":40},{"$f":"O8/$Q$4","v":0.90909090909090906},{"$f":"IF(P8=0,0,(P8*((LOG(P8))/LOG(2))))","v":-0.12500320340903179},null,null,{"$f":"N8","v":12},{"$f":"COUNTIF(L7:L13,T8)","v":7},null,null,null,{"$f":"N8","v":12},{"$f":"COUNTIF(L14:L21,Y8)","v":6},null,null,null,{"$f":"N8","v":12},{"$f":"COUNTIF(L22:L28,AD8)","v":6},null,null,null,{"$f":"N8","v":12},{"$f":"COUNTIF(L29:L35,AI8)","v":7},null,null,null,{"$f":"N8","v":12},{"$f":"COUNTIF(L36:L43,AN8)","v":8},null,null,null,{"$f":"N8","v":12},{"$f":"COUNTIF(L44:L50,AS8)","v":6}]
[11,197,21,202,null,null,null,null,null,null,0,12,null,21,{"$f":"COUNTIF($L$7:$L$500,N9)","v":2},{"$f":"O9/$Q$4","v":4.5454545454545456E-2},{"$f":"IF(P9=0,0,(P9*((LOG(P9))/LOG(2))))","v":-0.20270143721078623},null,null,{"$f":"N9","v":21},{"$f":"COUNTIF(L7:L13,T9)","v":0},{"$f":"U9/(W4-U8)","v":{"$error":"#DIV/0!"}},{"$f":"IF(V9=0,0,(V9*((LOG(V9))/LOG(2))))","v":{"$error":"#DIV/0!"}},null,{"$f":"N9","v":21},{"$f":"COUNTIF(L14:L21,Y9)","v":1},{"$f":"Z9/(AB4-Z8)","v":0.5},{"$f":"IF(AA9=0,0,(AA9*((LOG(AA9))/LOG(2))))","v":-0.5},null,{"$f":"N9","v":21},{"$f":"COUNTIF(L22:L28,AD9)","v":1},{"$f":"AE9/(AG4-AE8)","v":1},{"$f":"IF(AF9=0,0,(AF9*((LOG(AF9))/LOG(2))))","v":0},null,{"$f":"N9","v":21},{"$f":"COUNTIF(L29:L35,AI9)","v":0},{"$f":"AJ9/(AL4-AJ8)","v":{"$error":"#DIV/0!"}},{"$f":"IF(AK9=0,0,(AK9*((LOG(AK9))/LOG(2))))","v":{"$error":"#DIV/0!"}},null,{"$f":"N9","v":21},{"$f":"COUNTIF(L36:L43,AN9)","v":0},{"$f":"AO9/(AQ4-AO8)","v":{"$error":"#DIV/0!"}},{"$f":"IF(AP9=0,0,(AP9*((LOG(AP9))/LOG(2))))","v":{"$error":"#DIV/0!"}},null,{"$f":"N9","v":21},{"$f":"COUNTIF(L44:L50,AS9)","v":0},{"$f":"AT9/(AV4-AT8)","v":0},{"$f":"IF(AU9=0,0,(AU9*((LOG(AU9))/LOG(2))))","v":0}]
[11,303,21,310,null,null,null,null,null,null,0,12,null,22,{"$f":"COUNTIF($L$7:$L$500,N10)","v":0},{"$f":"O10/$Q$4","v":0},{"$f":"IF(P10=0,0,(P10*((LOG(P10))/LOG(2))))","v":0},null,null,{"$f":"N10","v":22},{"$f":"COUNTIF(L7:L13,T10)","v":0},{"$f":"U10/(W4-U8)","v":{"$error":"#DIV/0!"}},{"$f":"IF(V10=0,0,(V10*((LOG(V10))/LOG(2))))","v":{"$error":"#DIV/0!"}},null,{"$f":"N10","v":22},{"$f":"COUNTIF(L14:L21,Y10)","v":0},{"$f":"Z10/(AB4-Z8)","v":0},{"$f":"IF(AA10=0,0,(AA10*((LOG(AA10))/LOG(2))))","v":0},null,{"$f":"N10","v":22},{"$f":"COUNTIF(L22:L28,AD10)","v":0},{"$f":"AE10/(AG4-AE8)","v":0},{"$f":"IF(AF10=0,0,(AF10*((LOG(AF10))/LOG(2))))","v":0},null,{"$f":"N10","v":22},{"$f":"COUNTIF(L29:L35,AI10)","v":0},{"$f":"AJ10/(AL4-AJ8)","v":{"$error":"#DIV/0!"}},{"$f":"IF(AK10=0,0,(AK10*((LOG(AK10))/LOG(2))))","v":{"$error":"#DIV/0!"}},null,{"$f":"N10","v":22},{"$f":"COUNTIF(L36:L43,AN10)","v":0},{"$f":"AO10/(AQ4-AO8)","v":{"$error":"#DIV/0!"}},{"$f":"IF(AP10=0,0,(AP10*((LOG(AP10))/LOG(2))))","v":{"$error":"#DIV/0!"}},null,{"$f":"N10","v":22},{"$f":"COUNTIF(L44:L50,AS10)","v":0},{"$f":"AT10/(AV4-AT8)","v":0},{"$f":"IF(AU10=0,0,(AU10*((LOG(AU10))/LOG(2))))","v":0}]
[11,396,21,403,null,null,null,null,null,null,0,12,null,null,null,null,null,null,null,{"$f":"N11","v":0},{"$f":"COUNTIF(L7:L13,T11)","v":0},{"$f":"U11/(W4-U8)","v":{"$error":"#DIV/0!"}},{"$f":"IF(V11=0,0,(V11*((LOG(V11))/LOG(2))))","v":{"$error":"#DIV/0!"}},null,{"$f":"N11","v":0},{"$f":"COUNTIF(L14:L21,Y11)","v":0},{"$f":"Z11/(AB4-Z8)","v":0},{"$f":"IF(AA11=0,0,(AA11*((LOG(AA11))/LOG(2))))","v":0},null,{"$f":"N11","v":0},{"$f":"COUNTIF(L22:L28,AD11)","v":0},{"$f":"AE11/(AG4-AE8)","v":0},{"$f":"IF(AF11=0,0,(AF11*((LOG(AF11))/LOG(2))))","v":0},null,{"$f":"N11","v":0},{"$f":"COUNTIF(L29:L35,AI11)","v":0},{"$f":"AJ11/(AL4-AJ8)","v":{"$error":"#DIV/0!"}},{"$f":"IF(AK11=0,0,(AK11*((LOG(AK11))/LOG(2))))","v":{"$error":"#DIV/0!"}},null,{"$f":"N11","v":0},{"$f":"COUNTIF(L36:L43,AN11)","v":0},{"$f":"AO11/(AQ4-AO8)","v":{"$error":"#DIV/0!"}},{"$f":"IF(AP11=0,0,(AP11*((LOG(AP11))/LOG(2))))","v":{"$error":"#DIV/0!"}},null,{"$f":"N11","v":0},{"$f":"COUNTIF(L44:L50,AS11)","v":0},{"$f":"AT11/(AV4-AT8)","v":0},{"$f":"IF(AU11=0,0,(AU11*((LOG(AU11))/LOG(2))))","v":0}]
[11,500,21,506,null,null,null,null,null,null,0,12,null,null,null,null,null,null,null,{"$f":"N12","v":0},{"$f":"COUNTIF(L7:L13,T12)","v":0},{"$f":"U12/(W4-U8)","v":{"$error":"#DIV/0!"}},{"$f":"IF(V12=0,0,(V12*((LOG(V12))/LOG(2))))","v":{"$error":"#DIV/0!"}},null,{"$f":"N12","v":0},{"$f":"COUNTIF(L14:L21,Y12)","v":0},{"$f":"Z12/(AB4-Z8)","v":0},{"$f":"IF(AA12=0,0,(AA12*((LOG(AA12))/LOG(2))))","v":0},null,{"$f":"N12","v":0},{"$f":"COUNTIF(L22:L28,AD12)","v":0},{"$f":"AE12/(AG4-AE8)","v":0},{"$f":"IF(AF12=0,0,(AF12*((LOG(AF12))/LOG(2))))","v":0},null,{"$f":"N12","v":0},{"$f":"COUNTIF(L29:L35,AI12)","v":0},{"$f":"AJ12/(AL4-AJ8)","v":{"$error":"#DIV/0!"}},{"$f":"IF(AK12=0,0,(AK12*((LOG(AK12))/LOG(2))))","v":{"$error":"#DIV/0!"}},null,{"$f":"N12","v":0},{"$f":"COUNTIF(L36:L43,AN12)","v":0},{"$f":"AO12/(AQ4-AO8)","v":{"$error":"#DIV/0!"}},{"$f":"IF(AP12=0,0,(AP12*((LOG(AP12))/LOG(2))))","v":{"$error":"#DIV/0!"}},null,{"$f":"N12","v":0},{"$f":"COUNTIF(L44:L50,AS12)","v":0},{"$f":"AT12/(AV4-AT8)","v":0},{"$f":"IF(AU12=0,0,(AU12*((LOG(AU12))/LOG(2))))","v":0}]
[11,593,21,609,null,null,null,null,null,null,0,12,null,null,null,null,null,null,null,{"$f":"N13","v":0},{"$f":"COUNTIF(L7:L13,T13)","v":0},{"$f":"U13/(W4-U8)","v":{"$error":"#DIV/0!"}},{"$f":"IF(V13=0,0,(V13*((LOG(V13))/LOG(2))))","v":{"$error":"#DIV/0!"}},null,{"$f":"N13","v":0},{"$f":"COUNTIF(L14:L21,Y13)","v":0},{"$f":"Z13/(AB4-Z8)","v":0},{"$f":"IF(AA13=0,0,(AA13*((LOG(AA13))/LOG(2))))","v":0},null,{"$f":"N13","v":0},{"$f":"COUNTIF(L22:L28,AD13)","v":0},{"$f":"AE13/(AG4-AE8)","v":0},{"$f":"IF(AF13=0,0,(AF13*((LOG(AF13))/LOG(2))))","v":0},null,{"$f":"N13","v":0},{"$f":"COUNTIF(L29:L35,AI13)","v":0},{"$f":"AJ13/(AL4-AJ8)","v":{"$error":"#DIV/0!"}},{"$f":"IF(AK13=0,0,(AK13*((LOG(AK13))/LOG(2))))","v":{"$error":"#DIV/0!"}},null,{"$f":"N13","v":0},{"$f":"COUNTIF(L36:L43,AN13)","v":0},{"$f":"AO13/(AQ4-AO8)","v":{"$error":"#DIV/0!"}},{"$f":"IF(AP13=0,0,(AP13*((LOG(AP13))/LOG(2))))","v":{"$error":"#DIV/0!"}},null,{"$f":"N13","v":0},{"$f":"COUNTIF(L44:L50,AS13)","v":0},{"$f":"AT13/(AV4-AT8)","v":0},{"$f":"IF(AU13=0,0,(AU13*((LOG(AU13))/LOG(2))))","v":0}]
[11,697,12,706,null,null,null,null,null,null,0,11,null,null,null,null,null,null,null,{"$f":"N14","v":0},{"$f":"COUNTIF(L7:L13,T14)","v":0},{"$f":"U14/(W4-U8)","v":{"$error":"#DIV/0!"}},{"$f":"IF(V14=0,0,(V14*((LOG(V14))/LOG(2))))","v":{"$error":"#DIV/0!"}},null,{"$f":"N14","v":0},{"$f":"COUNTIF(L14:L21,Y14)","v":0},{"$f":"Z14/(AB4-Z8)","v":0},{"$f":"IF(AA14=0,0,(AA14*((LOG(AA14))/LOG(2))))","v":0},null,{"$f":"N14","v":0},{"$f":"COUNTIF(L22:L28,AD14)","v":0},{"$f":"AE14/(AG4-AE8)","v":0},{"$f":"IF(AF14=0,0,(AF14*((LOG(AF14))/LOG(2))))","v":0},null,{"$f":"N14","v":0},{"$f":"COUNTIF(L29:L35,AI14)","v":0},{"$f":"AJ14/(AL4-AJ8)","v":{"$error":"#DIV/0!"}},{"$f":"IF(AK14=0,0,(AK14*((LOG(AK14))/LOG(2))))","v":{"$error":"#DIV/0!"}},null,{"$f":"N14","v":0},{"$f":"COUNTIF(L36:L43,AN14)","v":0},{"$f":"AO14/(AQ4-AO8)","v":{"$error":"#DIV/0!"}},{"$f":"IF(AP14=0,0,(AP14*((LOG(AP14))/LOG(2))))","v":{"$error":"#DIV/0!"}},null,{"$f":"N14","v":0},{"$f":"COUNTIF(L44:L50,AS14)","v":0},{"$f":"AT14/(AV4-AT8)","v":0},{"$f":"IF(AU14=0,0,(AU14*((LOG(AU14))/LOG(2))))","v":0}]
[11,805,21,822,null,null,null,null,null,null,0,12,null,null,null,{"$f":"SUM(P7:P14)","v":0.99999999999999989},{"$f":"-SUM(Q7:Q14)","v":0.53040607783060423},null,null,null,null,{"$f":"SUM(V7:V14)","v":{"$error":"#DIV/0!"}},{"$f":"-SUM(W7:W14)","v":{"$error":"#DIV/0!"}},null,null,null,{"$f":"SUM(AA7:AA14)","v":1},{"$f":"-SUM(AB7:AB14)","v":1},null,null,null,{"$f":"SUM(AF7:AF14)","v":1},{"$f":"-SUM(AG7:AG14)","v":0},null,null,null,{"$f":"SUM(AK7:AK14)","v":{"$error":"#DIV/0!"}},{"$f":"-SUM(AL7:AL14)","v":{"$error":"#DIV/0!"}},null,null,null,{"$f":"SUM(AP7:AP14)","v":{"$error":"#DIV/0!"}},{"$f":"-SUM(AQ7:AQ14)","v":{"$error":"#DIV/0!"}},null,null,null,{"$f":"SUM(AU7:AU14)","v":1},{"$f":"-SUM(AV7:AV14)","v":0}]
[11,909,21,916,null,null,null,null,null,null,0,12,null,null,null,"U=",{"$f":"Q15/(LOG(Q4)/LOG(2))","v":9.7154083956270218E-2},null,null,null,null,"U1=",{"$f":"W15/(LOG(W4)/LOG(2))","v":{"$error":"#DIV/0!"}},null,null,null,"U2=",{"$f":"AB15/(LOG(AB4)/LOG(2))","v":0.33333333333333331},null,null,null,"U3=",{"$f":"AG15/(LOG(AG4)/LOG(2))","v":0},null,null,null,"U4=",{"$f":"AL15/(LOG(AL4)/LOG(2))","v":{"$error":"#DIV/0!"}},null,null,null,"U5=",{"$f":"AQ15/(LOG(AQ4)/LOG(2))","v":{"$error":"#DIV/0!"}},null,null,null,"U6=",{"$f":"AV15/(LOG(AV4)/LOG(2))","v":0}]
[11,1005,21,1010,null,null,null,null,null,null,0,12]
[22,1112,14,1163,null,null,null,null,null,null,0,21]
[11,1268,21,1275,null,null,null,null,null,null,0,12,null,"Total Target Seq"]
[11,1377,21,1383,null,null,null,null,null,null,0,12,null,{"$f":"COUNTIF(L7:L50,G3)","v":40},null,7,8,7,7,8,7]
[11,1479,21,1486,null,null,null,null,null,null,0,12,null,null,null,"% of reinforcement given in 6 equal intervals based on number of trials "]
[11,1575,21,1581,null,null,null,null,null,null,0,12,null,null,null,"%_1","%_2","%_3","%_4","%_5","%_6"]
[11,1668,21,1676,null,null,null,null,null,null,0,12,null,null,"target sequence",{"$f":"$G$3","v":12},{"$f":"$G$3","v":12},{"$f":"$G$3","v":12},{"$f":"$G$3","v":12},{"$f":"$G$3","v":12},{"$f":"$G$3","v":12}]
[11,1765,21,1772,null,null,null,null,null,null,0,12,null,null,"total reinforcement",{"$f":"U8","v":7},{"$f":"Z8","v":6},{"$f":"AE8","v":6},{"$f":"AJ8","v":7},{"$f":"AO8","v":8},{"$f":"AT8","v":6}]
[11,1861,21,1868,null,null,null,null,null,null,0,12,null,null,"% target"]
[11,1955,21,1962,null,null,null,null,null,null,0,12,null,null,"CCRF"]
[11,2050,21,2058,null,null,null,null,null,null,0,12,null,null,"% CCRf"]
[22,2159,14,2185,null,null,null,null,null,null,0,21,null,null,"average response rate",{"$f":"D13/P20","v":87},{"$f":"(D21-D13)/Q20","v":109.625},{"$f":"(D28-D21)/R20","v":99.857142857142861},{"$f":"(D35-D28)/S20","v":101},{"$f":"(D43-D35)/T20","v":97.75},{"$f":"(D50-D43)/U20","v":97.285714285714292}]
[11,2291,21,2298,null,null,null,null,null,null,0,12]
[11,2393,21,2401,null,null,null,null,null,null,0,12]
[11,2501,21,2508,null,null,null,null,null,null,0,12]
[11,2598,21,2607,null,null,null,null,null,null,0,12]
[11,2697,21,2705,null,null,null,null,null,null,0,12]
[11,2791,21,2798,null,null,null,null,null,null,0,12]
[11,2885,21,2892,null,null,null,null,null,null,0,12]
[11,2978,21,2987,null,null,null,null,null,null,0,12]
[11,3077,21,3085,null,null,null,null,null,null,0,12]
[11,3179,21,3187,null,null,null,null,null,null,0,12]
[11,3274,21,3281,null,null,null,null,null,null,0,12]
[11,3373,21,3381,null,null,null,null,null,null,0,12]
[11,3479,21,3486,null,null,null,null,null,null,0,12]
[11,3572,21,3579,null,null,null,null,null,null,0,12]
[11,3666,21,3674,null,null,null,null,null,null,0,12]
[11,3762,21,3770,null,null,null,null,null,null,0,12]
[11,3858,21,3865,null,null,null,null,null,null,0,12]
[11,3951,12,3960,null,null,null,null,null,null,0,11]
[11,4057,21,4064,null,null,null,null,null,null,0,12]
[11,4157,21,4166,null,null,null,null,null,null,0,12]
[11,4255,21,4262,null,null,null,null,null,null,0,12]
[11,4348,21,4355,null,null,null,null,null,null,1,12]

{"sheet":"!L815A00.052","index":11,"n_rows":55,"n_cols":48,"rows_kept":55,"cut":false,"hidden":false,"merged":[[4,39,4,42],[5,39,5,40],[4,44,4,47],[5,44,5,45],[4,24,4,27],[5,24,5,25],[4,29,4,32],[5,29,5,30],[4,34,4,37],[5,34,5,35],[1,1,1,2],[5,13,5,14],[18,13,18,14],[19,13,19,14],[4,19,4,22],[5,19,5,20]]}
["Report for:!L815A00.052"]
["Date:","<date>"]
["Hen:","<hen>",null,null,null,"Correct Sequence",{"$f":"Start!J2","v":12},null,null,null,null,null,null,null,null,"Total Sequences in Data",{"$f":"4994-COUNTBLANK(L7:L5000)","v":49},null,null,null,null,"Total Sequences in Block Data",{"$f":"COUNTA(L7:L14)","v":8},null,null,null,"Total Sequences in Block Data",{"$f":"COUNTA(L15:L22)","v":8},null,null,null,"Total Sequences in Block Data",{"$f":"COUNTA(L23:L31)","v":9},null,null,null,"Total Sequences in Block Data",{"$f":"COUNTA(L32:L39)","v":8},null,null,null,"Total Sequences in Block Data",{"$f":"COUNTA(L40:L47)","v":8},null,null,null,"Total Sequences in Block Data",{"$f":"COUNTA(L48:L55)","v":8}]
[null,null,null,null,null,null,null,null,null,null,null,null,null,null,null,"Total Sequences in Summary",{"$f":"SUM(O7:O14)","v":49},null,null,null,null,"Total Sequences in Block Summary",{"$f":"SUM(U7:U14)","v":8},null,null,null,"Total Sequences in Block Summary",{"$f":"SUM(Z7:Z14)","v":8},null,null,null,"Total Sequences in Block Summary",{"$f":"SUM(AE7:AE14)","v":9},null,null,null,"Total Sequences in Block Summary",{"$f":"SUM(AJ7:AJ14)","v":8},null,null,null,"Total Sequences in Block Summary",{"$f":"SUM(AO7:AO14)","v":8},null,null,null,"Total Sequences in Block Summary",{"$f":"SUM(AT7:AT14)","v":8}]
[null,null,null,null,null,null,null,null,null,null,null,null,null,null,null,null,null,null,null,"Block 1",null,null,null,null,"Block 2",null,null,null,null,"Block 3",null,null,null,null,"Block 4",null,null,null,null,"Block 5",null,null,null,null,"Block 6"]
["Sequence\nComponent\n1","Time\n1","Sequence\nComponent\n2","Time\n2","Sequence\nComponent\n3","Time\n3","Sequence\nComponent\n4","Time\n4","Sequence\nComponent\n5","Time\n5","Correct?\n0=No 1=Yes","Sequence",null,"Frequency",null,"Relative Frequency","Variability",null,null,"Frequency",null,"Relative Frequency","Variability",null,"Frequency",null,"Relative Frequency","Variability",null,"Frequency",null,"Relative Frequency","Variability",null,"Frequency",null,"Relative Frequency","Variability",null,"Frequency",null,"Relative Frequency","Variability",null,"Frequency",null,"Relative Frequency","Variability"]
[11,7,21,14,null,null,null,null,null,null,0,12,null,11,{"$f":"COUNTIF($L$7:$L$500,N7)","v":5},{"$f":"O7/$Q$4","v":0.10204081632653061},{"$f":"IF(P7=0,0,(P7*((LOG(P7))/LOG(2))))","v":-0.33599813767631082},null,null,{"$f":"N7","v":11},{"$f":"COUNTIF(L7:L14,T7)","v":1},{"$f":"U7/(W4-U8)","v":0.5},{"$f":"IF(V7=0,0,(V7*((LOG(V7))/LOG(2))))","v":-0.5},null,{"$f":"N7","v":11},{"$f":"COUNTIF(L15:L22,Y7)","v":0},{"$f":"Z7/(AB4-Z8)","v":{"$error":"#DIV/0!"}},{"$f":"IF(AA7=0,0,(AA7*((LOG(AA7))/LOG(2))))","v":{"$error":"#DIV/0!"}},null,{"$f":"N7","v":11},{"$f":"COUNTIF(L23:L31,AD7)","v":1},{"$f":"AE7/(AG4-AE8)","v":0.33333333333333331},{"$f":"IF(AF7=0,0,(AF7*((LOG(AF7))/LOG(2))))","v":-0.52832083357371862},null,{"$f":"N7","v":11},{"$f":"COUNTIF(L32:L39,AI7)","v":2},{"$f":"AJ7/(AL4-AJ8)","v":1},{"$f":"IF(AK7=0,0,(AK7*((LOG(AK7))/LOG(2))))","v":0},null,{"$f":"N7","v":11},{"$f":"COUNTIF(L40:L47,AN7)","v":1},{"$f":"AO7/(AQ4-AO8)","v":0.5},{"$f":"IF(AP7=0,0,(AP7*((LOG(AP7))/LOG(2))))","v":-0.5},null,{"$f":"N7","v":11},{"$f":"COUNTIF(L48:L55,AS7)","v":0},{"$f":"AT7/(AV4-AT8)","v":{"$error":"#DIV/0!"}},{"$f":"IF(AU7=0,0,(AU7*((LOG(AU7))/LOG(2))))","v":{"$error":"#DIV/0!"}}]
[11,101,21,106,null,null,null,null,null,null,0,12,null,12,{"$f":"COUNTIF($L$7:$L$500,N8)","v":40},{"$f":"O8/$Q$4","v":0.81632653061224492},{"$f":"IF(P8=0,0,(P8*((LOG(P8))/LOG(2))))","v":-0.23900550957375172},null,null,{"$f":"N8","v":12},{"$f":"COUNTIF(L7:L14,T8)","v":6},null,null,null,{"$f":"N8","v":12},{"$f":"COUNTIF(L15:L22,Y8)","v":8},null,null,null,{"$f":"N8","v":12},{"$f":"COUNTIF(L23:L31,AD8)","v":6},null,null,null,{"$f":"N8","v":12},{"$f":"COUNTIF(L32:L39,AI8)","v":6},null,null,null,{"$f":"N8","v":12},{"$f":"COUNTIF(L40:L47,AN8)","v":6},null,null,null,{"$f":"N8","v":12},{"$f":"COUNTIF(L48:L55,AS8)","v":8}]
[11,196,21,203,null,null,null,null,null,null,0,12,null,21,{"$f":"COUNTIF($L$7:$L$500,N9)","v":4},{"$f":"O9/$Q$4","v":8.1632653061224483E-2},{"$f":"IF(P9=0,0,(P9*((LOG(P9))/LOG(2))))","v":-0.29507835462164966},null,null,{"$f":"N9","v":21},{"$f":"COUNTIF(L7:L14,T9)","v":1},{"$f":"U9/(W4-U8)","v":0.5},{"$f":"IF(V9=0,0,(V9*((LOG(V9))/LOG(2))))","v":-0.5},null,{"$f":"N9","v":21},{"$f":"COUNTIF(L15:L22,Y9)","v":0},{"$f":"Z9/(AB4-Z8)","v":{"$error":"#DIV/0!"}},{"$f":"IF(AA9=0,0,(AA9*((LOG(AA9))/LOG(2))))","v":{"$error":"#DIV/0!"}},null,{"$f":"N9","v":21},{"$f":"COUNTIF(L23:L31,AD9)","v":2},{"$f":"AE9/(AG4-AE8)","v":0.66666666666666663},{"$f":"IF(AF9=0,0,(AF9*((LOG(AF9))/LOG(2))))","v":-0.38997500048077083},null,{"$f":"N9","v":21},{"$f":"COUNTIF(L32:L39,AI9)","v":0},{"$f":"AJ9/(AL4-AJ8)","v":0},{"$f":"IF(AK9=0,0,(AK9*((LOG(AK9))/LOG(2))))","v":0},null,{"$f":"N9","v":21},{"$f":"COUNTIF(L40:L47,AN9)","v":1},{"$f":"AO9/(AQ4-AO8)","v":0.5},{"$f":"IF(AP9=0,0,(AP9*((LOG(AP9))/LOG(2))))","v":-0.5},null,{"$f":"N9","v":21},{"$f":"COUNTIF(L48:L55,AS9)","v":0},{"$f":"AT9/(AV4-AT8)","v":{"$error":"#DIV/0!"}},{"$f":"IF(AU9=0,0,(AU9*((LOG(AU9))/LOG(2))))","v":{"$error":"#DIV/0!"}}]
[22,295,14,307,null,null,null,null,null,null,0,21,null,22,{"$f":"COUNTIF($L$7:$L$500,N10)","v":0},{"$f":"O10/$Q$4","v":0},{"$f":"IF(P10=0,0,(P10*((LOG(P10))/LOG(2))))","v":0},null,null,{"$f":"N10","v":22},{"$f":"COUNTIF(L7:L14,T10)","v":0},{"$f":"U10/(W4-U8)","v":0},{"$f":"IF(V10=0,0,(V10*((LOG(V10))/LOG(2))))","v":0},null,{"$f":"N10","v":22},{"$f":"COUNTIF(L15:L22,Y10)","v":0},{"$f":"Z10/(AB4-Z8)","v":{"$error":"#DIV/0!"}},{"$f":"IF(AA10=0,0,(AA10*((LOG(AA10))/LOG(2))))","v":{"$error":"#DIV/0!"}},null,{"$f":"N10","v":22},{"$f":"COUNTIF(L23:L31,AD10)","v":0},{"$f":"AE10/(AG4-AE8)","v":0},{"$f":"IF(AF10=0,0,(AF10*((LOG(AF10))/LOG(2))))","v":0},null,{"$f":"N10","v":22},{"$f":"COUNTIF(L32:L39,AI10)","v":0},{"$f":"AJ10/(AL4-AJ8)","v":0},{"$f":"IF(AK10=0,0,(AK10*((LOG(AK10))/LOG(2))))","v":0},null,{"$f":"N10","v":22},{"$f":"COUNTIF(L40:L47,AN10)","v":0},{"$f":"AO10/(AQ4-AO8)","v":0},{"$f":"IF(AP10=0,0,(AP10*((LOG(AP10))/LOG(2))))","v":0},null,{"$f":"N10","v":22},{"$f":"COUNTIF(L48:L55,AS10)","v":0},{"$f":"AT10/(AV4-AT8)","v":{"$error":"#DIV/0!"}},{"$f":"IF(AU10=0,0,(AU10*((LOG(AU10))/LOG(2))))","v":{"$error":"#DIV/0!"}}]
[11,403,12,412,null,null,null,null,null,null,0,11,null,null,null,null,null,null,null,{"$f":"N11","v":0},{"$f":"COUNTIF(L7:L14,T11)","v":0},{"$f":"U11/(W4-U8)","v":0},{"$f":"IF(V11=0,0,(V11*((LOG(V11))/LOG(2))))","v":0},null,{"$f":"N11","v":0},{"$f":"COUNTIF(L15:L22,Y11)","v":0},{"$f":"Z11/(AB4-Z8)","v":{"$error":"#DIV/0!"}},{"$f":"IF(AA11=0,0,(AA11*((LOG(AA11))/LOG(2))))","v":{"$error":"#DIV/0!"}},null,{"$f":"N11","v":0},{"$f":"COUNTIF(L23:L31,AD11)","v":0},{"$f":"AE11/(AG4-AE8)","v":0},{"$f":"IF(AF11=0,0,(AF11*((LOG(AF11))/LOG(2))))","v":0},null,{"$f":"N11","v":0},{"$f":"COUNTIF(L32:L39,AI11)","v":0},{"$f":"AJ11/(AL4-AJ8)","v":0},{"$f":"IF(AK11=0,0,(AK11*((LOG(AK11))/LOG(2))))","v":0},null,{"$f":"N11","v":0},{"$f":"COUNTIF(L40:L47,AN11)","v":0},{"$f":"AO11/(AQ4-AO8)","v":0},{"$f":"IF(AP11=0,0,(AP11*((LOG(AP11))/LOG(2))))","v":0},null,{"$f":"N11","v":0},{"$f":"COUNTIF(L48:L55,AS11)","v":0},{"$f":"AT11/(AV4-AT8)","v":{"$error":"#DIV/0!"}},{"$f":"IF(AU11=0,0,(AU11*((LOG(AU11))/LOG(2))))","v":{"$error":"#DIV/0!"}}]
[11,511,21,520,null,null,null,null,null,null,0,12,null,null,null,null,null,null,null,{"$f":"N12","v":0},{"$f":"COUNTIF(L7:L14,T12)","v":0},{"$f":"U12/(W4-U8)","v":0},{"$f":"IF(V12=0,0,(V12*((LOG(V12))/LOG(2))))","v":0},null,{"$f":"N12","v":0},{"$f":"COUNTIF(L15:L22,Y12)","v":0},{"$f":"Z12/(AB4-Z8)","v":{"$error":"#DIV/0!"}},{"$f":"IF(AA12=0,0,(AA12*((LOG(AA12))/LOG(2))))","v":{"$error":"#DIV/0!"}},null,{"$f":"N12","v":0},{"$f":"COUNTIF(L23:L31,AD12)","v":0},{"$f":"AE12/(AG4-AE8)","v":0},{"$f":"IF(AF12=0,0,(AF12*((LOG(AF12))/LOG(2))))","v":0},null,{"$f":"N12","v":0},{"$f":"COUNTIF(L32:L39,AI12)","v":0},{"$f":"AJ12/(AL4-AJ8)","v":0},{"$f":"IF(AK12=0,0,(AK12*((LOG(AK12))/LOG(2))))","v":0},null,{"$f":"N12","v":0},{"$f":"COUNTIF(L40:L47,AN12)","v":0},{"$f":"AO12/(AQ4-AO8)","v":0},{"$f":"IF(AP12=0,0,(AP12*((LOG(AP12))/LOG(2))))","v":0},null,{"$f":"N12","v":0},{"$f":"COUNTIF(L48:L55,AS12)","v":0},{"$f":"AT12/(AV4-AT8)","v":{"$error":"#DIV/0!"}},{"$f":"IF(AU12=0,0,(AU12*((LOG(AU12))/LOG(2))))","v":{"$error":"#DIV/0!"}}]
[11,614,21,620,null,null,null,null,null,null,0,12,null,null,null,null,null,null,null,{"$f":"N13","v":0},{"$f":"COUNTIF(L7:L14,T13)","v":0},{"$f":"U13/(W4-U8)","v":0},{"$f":"IF(V13=0,0,(V13*((LOG(V13))/LOG(2))))","v":0},null,{"$f":"N13","v":0},{"$f":"COUNTIF(L15:L22,Y13)","v":0},{"$f":"Z13/(AB4-Z8)","v":{"$error":"#DIV/0!"}},{"$f":"IF(AA13=0,0,(AA13*((LOG(AA13))/LOG(2))))","v":{"$error":"#DIV/0!"}},null,{"$f":"N13","v":0},{"$f":"COUNTIF(L23:L31,AD13)","v":0},{"$f":"AE13/(AG4-AE8)","v":0},{"$f":"IF(AF13=0,0,(AF13*((LOG(AF13))/LOG(2))))","v":0},null,{"$f":"N13","v":0},{"$f":"COUNTIF(L32:L39,AI13)","v":0},{"$f":"AJ13/(AL4-AJ8)","v":0},{"$f":"IF(AK13=0,0,(AK13*((LOG(AK13))/LOG(2))))","v":0},null,{"$f":"N13","v":0},{"$f":"COUNTIF(L40:L47,AN13)","v":0},{"$f":"AO13/(AQ4-AO8)","v":0},{"$f":"IF(AP13=0,0,(AP13*((LOG(AP13))/LOG(2))))","v":0},null,{"$f":"N13","v":0},{"$f":"COUNTIF(L48:L55,AS13)","v":0},{"$f":"AT13/(AV4-AT8)","v":{"$error":"#DIV/0!"}},{"$f":"IF(AU13=0,0,(AU13*((LOG(AU13))/LOG(2))))","v":{"$error":"#DIV/0!"}}]
[11,706,21,714,null,null,null,null,null,null,0,12,null,null,null,null,null,null,null,{"$f":"N14","v":0},{"$f":"COUNTIF(L7:L14,T14)","v":0},{"$f":"U14/(W4-U8)","v":0},{"$f":"IF(V14=0,0,(V14*((LOG(V14))/LOG(2))))","v":0},null,{"$f":"N14","v":0},{"$f":"COUNTIF(L15:L22,Y14)","v":0},{"$f":"Z14/(AB4-Z8)","v":{"$error":"#DIV/0!"}},{"$f":"IF(AA14=0,0,(AA14*((LOG(AA14))/LOG(2))))","v":{"$error":"#DIV/0!"}},null,{"$f":"N14","v":0},{"$f":"COUNTIF(L23:L31,AD14)","v":0},{"$f":"AE14/(AG4-AE8)","v":0},{"$f":"IF(AF14=0,0,(AF14*((LOG(AF14))/LOG(2))))","v":0},null,{"$f":"N14","v":0},{"$f":"COUNTIF(L32:L39,AI14)","v":0},{"$f":"AJ14/(AL4-AJ8)","v":0},{"$f":"IF(AK14=0,0,(AK14*((LOG(AK14))/LOG(2))))","v":0},null,{"$f":"N14","v":0},{"$f":"COUNTIF(L40:L47,AN14)","v":0},{"$f":"AO14/(AQ4-AO8)","v":0},{"$f":"IF(AP14=0,0,(AP14*((LOG(AP14))/LOG(2))))","v":0},null,{"$f":"N14","v":0},{"$f":"COUNTIF(L48:L55,AS14)","v":0},{"$f":"AT14/(AV4-AT8)","v":{"$error":"#DIV/0!"}},{"$f":"IF(AU14=0,0,(AU14*((LOG(AU14))/LOG(2))))","v":{"$error":"#DIV/0!"}}]
[11,800,21,807,null,null,null,null,null,null,0,12,null,null,null,{"$f":"SUM(P7:P14)","v":1},{"$f":"-SUM(Q7:Q14)","v":0.87008200187171225},null,null,null,null,{"$f":"SUM(V7:V14)","v":1},{"$f":"-SUM(W7:W14)","v":1},null,null,null,{"$f":"SUM(AA7:AA14)","v":{"$error":"#DIV/0!"}},{"$f":"-SUM(AB7:AB14)","v":{"$error":"#DIV/0!"}},null,null,null,{"$f":"SUM(AF7:AF14)","v":1},{"$f":"-SUM(AG7:AG14)","v":0.91829583405448945},null,null,null,{"$f":"SUM(AK7:AK14)","v":1},{"$f":"-SUM(AL7:AL14)","v":0},null,null,null,{"$f":"SUM(AP7:AP14)","v":1},{"$f":"-SUM(AQ7:AQ14)","v":1},null,null,null,{"$f":"SUM(AU7:AU14)","v":{"$error":"#DIV/0!"}},{"$f":"-SUM(AV7:AV14)","v":{"$error":"#DIV/0!"}}]
[11,893,21,900,null,null,null,null,null,null,0,12,null,null,null,"U=",{"$f":"Q15/(LOG(Q4)/LOG(2))","v":0.15496473122001975},null,null,null,null,"U1=",{"$f":"W15/(LOG(W4)/LOG(2))","v":0.33333333333333331},null,null,null,"U2=",{"$f":"AB15/(LOG(AB4)/LOG(2))","v":{"$error":"#DIV/0!"}},null,null,null,"U3=",{"$f":"AG15/(LOG(AG4)/LOG(2))","v":0.28969008214284753},null,null,null,"U4=",{"$f":"AL15/(LOG(AL4)/LOG(2))","v":0},null,null,null,"U5=",{"$f":"AQ15/(LOG(AQ4)/LOG(2))","v":0.33333333333333331},null,null,null,"U6=",{"$f":"AV15/(LOG(AV4)/LOG(2))","v":{"$error":"#DIV/0!"}}]
[11,992,21,999,null,null,null,null,null,null,0,12]
[11,1085,21,1092,null,null,null,null,null,null,0,12]
[11,1185,21,1193,null,null,null,null,null,null,0,12,null,"Total Target Seq"]
[11,1279,21,1287,null,null,null,null,null,null,0,12,null,{"$f":"COUNTIF(L7:L55,G3)","v":40},null,8,8,9,8,8,8]
[11,1373,21,1381,null,null,null,null,null,null,0,12,null,null,null,"% of reinforcement given in 6 equal intervals based on number of trials "]
[11,1469,21,1476,null,null,null,null,null,null,0,12,null,null,null,"%_1","%_2","%_3","%_4","%_5","%_6"]
[22,1586,14,1699,null,null,null,null,null,null,0,21,null,null,"target sequence",{"$f":"$G$3","v":12},{"$f":"$G$3","v":12},{"$f":"$G$3","v":12},{"$f":"$G$3","v":12},{"$f":"$G$3","v":12},{"$f":"$G$3","v":12}]
[11,1795,21,1800,null,null,null,null,null,null,0,12,null,null,"total reinforcement",{"$f":"U8","v":6},{"$f":"Z8","v":8},{"$f":"AE8","v":6},{"$f":"AJ8","v":6},{"$f":"AO8","v":6},{"$f":"AT8","v":8}]
[11,1893,21,1901,null,null,null,null,null,null,0,12,null,null,"% target"]
[11,1985,21,1993,null,null,null,null,null,null,0,12,null,null,"CCRF"]
[11,2078,21,2086,null,null,null,null,null,null,0,12,null,null,"% CCRf"]
[11,2174,21,2182,null,null,null,null,null,null,0,12,null,null,"average response rate",{"$f":"D14/P20","v":89.25},{"$f":"(D22-D14)/Q20","v":95.25},{"$f":"(D31-D22)/R20","v":118.66666666666667},{"$f":"(D39-D31)/S20","v":105.5},{"$f":"(D47-D39)/T20","v":112.5},{"$f":"(D55-D47)/U20","v":95.75}]
[11,2266,21,2273,null,null,null,null,null,null,0,12]
[11,2355,12,2359,null,null,null,null,null,null,0,11]
[22,2463,14,2544,null,null,null,null,null,null,0,21]
[11,2667,21,2675,null,null,null,null,null,null,0,12]
[11,2770,12,2780,null,null,null,null,null,null,0,11]
[11,2890,21,2897,null,null,null,null,null,null,0,12]
[11,2987,12,2995,null,null,null,null,null,null,0,11]
[11,3089,21,3097,null,null,null,null,null,null,0,12]
[11,3188,21,3196,null,null,null,null,null,null,0,12]
[11,3284,21,3292,null,null,null,null,null,null,0,12]
[11,3380,21,3388,null,null,null,null,null,null,0,12]
[11,3473,21,3481,null,null,null,null,null,null,0,12]
[11,3567,21,3585,null,null,null,null,null,null,0,12]
[11,3667,12,3672,null,null,null,null,null,null,0,11]
[11,3768,21,3776,null,null,null,null,null,null,0,12]
[11,3872,21,3881,null,null,null,null,null,null,0,12]
[11,3967,21,3975,null,null,null,null,null,null,0,12]
[22,4069,14,4184,null,null,null,null,null,null,0,21]
[11,4280,21,4288,null,null,null,null,null,null,0,12]
[11,4372,21,4381,null,null,null,null,null,null,0,12]
[11,4466,21,4474,null,null,null,null,null,null,0,12]
[11,4562,21,4570,null,null,null,null,null,null,0,12]
[11,4658,21,4666,null,null,null,null,null,null,0,12]
[11,4751,21,4759,null,null,null,null,null,null,0,12]
[11,4858,21,4867,null,null,null,null,null,null,0,12]
[11,4952,21,4961,null,null,null,null,null,null,0,12]
[11,5046,21,5054,null,null,null,null,null,null,1,12]

{"sheet":"!L816850.052","index":12,"n_rows":59,"n_cols":48,"rows_kept":59,"cut":false,"hidden":false,"merged":[[4,39,4,42],[5,39,5,40],[4,44,4,47],[5,44,5,45],[4,24,4,27],[5,24,5,25],[4,29,4,32],[5,29,5,30],[4,34,4,37],[5,34,5,35],[1,1,1,2],[5,13,5,14],[18,13,18,14],[19,13,19,14],[4,19,4,22],[5,19,5,20]]}
["Report for:!L816850.052"]
["Date:","<date>"]
["Hen:","<hen>",null,null,null,"Correct Sequence",{"$f":"Start!J2","v":12},null,null,null,null,null,null,null,null,"Total Sequences in Data",{"$f":"4994-COUNTBLANK(L7:L5000)","v":53},null,null,null,null,"Total Sequences in Block Data",{"$f":"COUNTA(L7:L15)","v":9},null,null,null,"Total Sequences in Block Data",{"$f":"COUNTA(L16:L24)","v":9},null,null,null,"Total Sequences in Block Data",{"$f":"COUNTA(L25:L32)","v":8},null,null,null,"Total Sequences in Block Data",{"$f":"COUNTA(L33:L41)","v":9},null,null,null,"Total Sequences in Block Data",{"$f":"COUNTA(L42:L50)","v":9},null,null,null,"Total Sequences in Block Data",{"$f":"COUNTA(L51:L59)","v":9}]
[null,null,null,null,null,null,null,null,null,null,null,null,null,null,null,"Total Sequences in Summary",{"$f":"SUM(O7:O14)","v":53},null,null,null,null,"Total Sequences in Block Summary",{"$f":"SUM(U7:U14)","v":9},null,null,null,"Total Sequences in Block Summary",{"$f":"SUM(Z7:Z14)","v":9},null,null,null,"Total Sequences in Block Summary",{"$f":"SUM(AE7:AE14)","v":8},null,null,null,"Total Sequences in Block Summary",{"$f":"SUM(AJ7:AJ14)","v":9},null,null,null,"Total Sequences in Block Summary",{"$f":"SUM(AO7:AO14)","v":9},null,null,null,"Total Sequences in Block Summary",{"$f":"SUM(AT7:AT14)","v":9}]
[null,null,null,null,null,null,null,null,null,null,null,null,null,null,null,null,null,null,null,"Block 1",null,null,null,null,"Block 2",null,null,null,null,"Block 3",null,null,null,null,"Block 4",null,null,null,null,"Block 5",null,null,null,null,"Block 6"]
["Sequence\nComponent\n1","Time\n1","Sequence\nComponent\n2","Time\n2","Sequence\nComponent\n3","Time\n3","Sequence\nComponent\n4","Time\n4","Sequence\nComponent\n5","Time\n5","Correct?\n0=No 1=Yes","Sequence",null,"Frequency",null,"Relative Frequency","Variability",null,null,"Frequency",null,"Relative Frequency","Variability",null,"Frequency",null,"Relative Frequency","Variability",null,"Frequency",null,"Relative Frequency","Variability",null,"Frequency",null,"Relative Frequency","Variability",null,"Frequency",null,"Relative Frequency","Variability",null,"Frequency",null,"Relative Frequency","Variability"]
[11,7,21,14,null,null,null,null,null,null,0,12,null,11,{"$f":"COUNTIF($L$7:$L$500,N7)","v":7},{"$f":"O7/$Q$4","v":0.13207547169811321},{"$f":"IF(P7=0,0,(P7*((LOG(P7))/LOG(2))))","v":-0.38573507033092763},null,null,{"$f":"N7","v":11},{"$f":"COUNTIF(L7:L15,T7)","v":0},{"$f":"U7/(W4-U8)","v":0},{"$f":"IF(V7=0,0,(V7*((LOG(V7))/LOG(2))))","v":0},null,{"$f":"N7","v":11},{"$f":"COUNTIF(L16:L24,Y7)","v":1},{"$f":"Z7/(AB4-Z8)","v":1},{"$f":"IF(AA7=0,0,(AA7*((LOG(AA7))/LOG(2))))","v":0},null,{"$f":"N7","v":11},{"$f":"COUNTIF(L25:L32,AD7)","v":2},{"$f":"AE7/(AG4-AE8)","v":0.66666666666666663},{"$f":"IF(AF7=0,0,(AF7*((LOG(AF7))/LOG(2))))","v":-0.38997500048077083},null,{"$f":"N7","v":11},{"$f":"COUNTIF(L33:L41,AI7)","v":2},{"$f":"AJ7/(AL4-AJ8)","v":0.66666666666666663},{"$f":"IF(AK7=0,0,(AK7*((LOG(AK7))/LOG(2))))","v":-0.38997500048077083},null,{"$f":"N7","v":11},{"$f":"COUNTIF(L42:L50,AN7)","v":2},{"$f":"AO7/(AQ4-AO8)","v":0.5},{"$f":"IF(AP7=0,0,(AP7*((LOG(AP7))/LOG(2))))","v":-0.5},null,{"$f":"N7","v":11},{"$f":"COUNTIF(L51:L59,AS7)","v":0},{"$f":"AT7/(AV4-AT8)","v":{"$error":"#DIV/0!"}},{"$f":"IF(AU7=0,0,(AU7*((LOG(AU7))/LOG(2))))","v":{"$error":"#DIV/0!"}}]
[11,101,21,108,null,null,null,null,null,null,0,12,null,12,{"$f":"COUNTIF($L$7:$L$500,N8)","v":40},{"$f":"O8/$Q$4","v":0.75471698113207553},{"$f":"IF(P8=0,0,(P8*((LOG(P8))/LOG(2))))","v":-0.30640932805723531},null,null,{"$f":"N8","v":12},{"$f":"COUNTIF(L7:L15,T8)","v":7},null,null,null,{"$f":"N8","v":12},{"$f":"COUNTIF(L16:L24,Y8)","v":8},null,null,null,{"$f":"N8","v":12},{"$f":"COUNTIF(L25:L32,AD8)","v":5},null,null,null,{"$f":"N8","v":12},{"$f":"COUNTIF(L33:L41,AI8)","v":6},null,null,null,{"$f":"N8","v":12},{"$f":"COUNTIF(L42:L50,AN8)","v":5},null,null,null,{"$f":"N8","v":12},{"$f":"COUNTIF(L51:L59,AS8)","v":9}]
[11,198,21,205,null,null,null,null,null,null,0,12,null,21,{"$f":"COUNTIF($L$7:$L$500,N9)","v":1},{"$f":"O9/$Q$4","v":1.8867924528301886E-2},{"$f":"IF(P9=0,0,(P9*((LOG(P9))/LOG(2))))","v":-0.10807397084081509},null,null,{"$f":"N9","v":21},{"$f":"COUNTIF(L7:L15,T9)","v":1},{"$f":"U9/(W4-U8)","v":0.5},{"$f":"IF(V9=0,0,(V9*((LOG(V9))/LOG(2))))","v":-0.5},null,{"$f":"N9","v":21},{"$f":"COUNTIF(L16:L24,Y9)","v":0},{"$f":"Z9/(AB4-Z8)","v":0},{"$f":"IF(AA9=0,0,(AA9*((LOG(AA9))/LOG(2))))","v":0},null,{"$f":"N9","v":21},{"$f":"COUNTIF(L25:L32,AD9)","v":0},{"$f":"AE9/(AG4-AE8)","v":0},{"$f":"IF(AF9=0,0,(AF9*((LOG(AF9))/LOG(2))))","v":0},null,{"$f":"N9","v":21},{"$f":"COUNTIF(L33:L41,AI9)","v":0},{"$f":"AJ9/(AL4-AJ8)","v":0},{"$f":"IF(AK9=0,0,(AK9*((LOG(AK9))/LOG(2))))","v":0},null,{"$f":"N9","v":21},{"$f":"COUNTIF(L42:L50,AN9)","v":0},{"$f":"AO9/(AQ4-AO8)","v":0},{"$f":"IF(AP9=0,0,(AP9*((LOG(AP9))/LOG(2))))","v":0},null,{"$f":"N9","v":21},{"$f":"COUNTIF(L51:L59,AS9)","v":0},{"$f":"AT9/(AV4-AT8)","v":{"$error":"#DIV/0!"}},{"$f":"IF(AU9=0,0,(AU9*((LOG(AU9))/LOG(2))))","v":{"$error":"#DIV/0!"}}]
[11,290,21,297,null,null,null,null,null,null,0,12,null,22,{"$f":"COUNTIF($L$7:$L$500,N10)","v":5},{"$f":"O10/$Q$4","v":9.4339622641509441E-2},{"$f":"IF(P10=0,0,(P10*((LOG(P10))/LOG(2))))","v":-0.32132003393168274},null,null,{"$f":"N10","v":22},{"$f":"COUNTIF(L7:L15,T10)","v":1},{"$f":"U10/(W4-U8)","v":0.5},{"$f":"IF(V10=0,0,(V10*((LOG(V10))/LOG(2))))","v":-0.5},null,{"$f":"N10","v":22},{"$f":"COUNTIF(L16:L24,Y10)","v":0},{"$f":"Z10/(AB4-Z8)","v":0},{"$f":"IF(AA10=0,0,(AA10*((LOG(AA10))/LOG(2))))","v":0},null,{"$f":"N10","v":22},{"$f":"COUNTIF(L25:L32,AD10)","v":1},{"$f":"AE10/(AG4-AE8)","v":0.33333333333333331},{"$f":"IF(AF10=0,0,(AF10*((LOG(AF10))/LOG(2))))","v":-0.52832083357371862},null,{"$f":"N10","v":22},{"$f":"COUNTIF(L33:L41,AI10)","v":1},{"$f":"AJ10/(AL4-AJ8)","v":0.33333333333333331},{"$f":"IF(AK10=0,0,(AK10*((LOG(AK10))/LOG(2))))","v":-0.52832083357371862},null,{"$f":"N10","v":22},{"$f":"COUNTIF(L42:L50,AN10)","v":2},{"$f":"AO10/(AQ4-AO8)","v":0.5},{"$f":"IF(AP10=0,0,(AP10*((LOG(AP10))/LOG(2))))","v":-0.5},null,{"$f":"N10","v":22},{"$f":"COUNTIF(L51:L59,AS10)","v":0},{"$f":"AT10/(AV4-AT8)","v":{"$error":"#DIV/0!"}},{"$f":"IF(AU10=0,0,(AU10*((LOG(AU10))/LOG(2))))","v":{"$error":"#DIV/0!"}}]
[22,393,23,460,null,null,null,null,null,null,0,22,null,null,null,null,null,null,null,{"$f":"N11","v":0},{"$f":"COUNTIF(L7:L15,T11)","v":0},{"$f":"U11/(W4-U8)","v":0},{"$f":"IF(V11=0,0,(V11*((LOG(V11))/LOG(2))))","v":0},null,{"$f":"N11","v":0},{"$f":"COUNTIF(L16:L24,Y11)","v":0},{"$f":"Z11/(AB4-Z8)","v":0},{"$f":"IF(AA11=0,0,(AA11*((LOG(AA11))/LOG(2))))","v":0},null,{"$f":"N11","v":0},{"$f":"COUNTIF(L25:L32,AD11)","v":0},{"$f":"AE11/(AG4-AE8)","v":0},{"$f":"IF(AF11=0,0,(AF11*((LOG(AF11))/LOG(2))))","v":0},null,{"$f":"N11","v":0},{"$f":"COUNTIF(L33:L41,AI11)","v":0},{"$f":"AJ11/(AL4-AJ8)","v":0},{"$f":"IF(AK11=0,0,(AK11*((LOG(AK11))/LOG(2))))","v":0},null,{"$f":"N11","v":0},{"$f":"COUNTIF(L42:L50,AN11)","v":0},{"$f":"AO11/(AQ4-AO8)","v":0},{"$f":"IF(AP11=0,0,(AP11*((LOG(AP11))/LOG(2))))","v":0},null,{"$f":"N11","v":0},{"$f":"COUNTIF(L51:L59,AS11)","v":0},{"$f":"AT11/(AV4-AT8)","v":{"$error":"#DIV/0!"}},{"$f":"IF(AU11=0,0,(AU11*((LOG(AU11))/LOG(2))))","v":{"$error":"#DIV/0!"}}]
[22,564,14,573,null,null,null,null,null,null,0,21,null,null,null,null,null,null,null,{"$f":"N12","v":0},{"$f":"COUNTIF(L7:L15,T12)","v":0},{"$f":"U12/(W4-U8)","v":0},{"$f":"IF(V12=0,0,(V12*((LOG(V12))/LOG(2))))","v":0},null,{"$f":"N12","v":0},{"$f":"COUNTIF(L16:L24,Y12)","v":0},{"$f":"Z12/(AB4-Z8)","v":0},{"$f":"IF(AA12=0,0,(AA12*((LOG(AA12))/LOG(2))))","v":0},null,{"$f":"N12","v":0},{"$f":"COUNTIF(L25:L32,AD12)","v":0},{"$f":"AE12/(AG4-AE8)","v":0},{"$f":"IF(AF12=0,0,(AF12*((LOG(AF12))/LOG(2))))","v":0},null,{"$f":"N12","v":0},{"$f":"COUNTIF(L33:L41,AI12)","v":0},{"$f":"AJ12/(AL4-AJ8)","v":0},{"$f":"IF(AK12=0,0,(AK12*((LOG(AK12))/LOG(2))))","v":0},null,{"$f":"N12","v":0},{"$f":"COUNTIF(L42:L50,AN12)","v":0},{"$f":"AO12/(AQ4-AO8)","v":0},{"$f":"IF(AP12=0,0,(AP12*((LOG(AP12))/LOG(2))))","v":0},null,{"$f":"N12","v":0},{"$f":"COUNTIF(L51:L59,AS12)","v":0},{"$f":"AT12/(AV4-AT8)","v":{"$error":"#DIV/0!"}},{"$f":"IF(AU12=0,0,(AU12*((LOG(AU12))/LOG(2))))","v":{"$error":"#DIV/0!"}}]
[11,673,21,678,null,null,null,null,null,null,0,12,null,null,null,null,null,null,null,{"$f":"N13","v":0},{"$f":"COUNTIF(L7:L15,T13)","v":0},{"$f":"U13/(W4-U8)","v":0},{"$f":"IF(V13=0,0,(V13*((LOG(V13))/LOG(2))))","v":0},null,{"$f":"N13","v":0},{"$f":"COUNTIF(L16:L24,Y13)","v":0},{"$f":"Z13/(AB4-Z8)","v":0},{"$f":"IF(AA13=0,0,(AA13*((LOG(AA13))/LOG(2))))","v":0},null,{"$f":"N13","v":0},{"$f":"COUNTIF(L25:L32,AD13)","v":0},{"$f":"AE13/(AG4-AE8)","v":0},{"$f":"IF(AF13=0,0,(AF13*((LOG(AF13))/LOG(2))))","v":0},null,{"$f":"N13","v":0},{"$f":"COUNTIF(L33:L41,AI13)","v":0},{"$f":"AJ13/(AL4-AJ8)","v":0},{"$f":"IF(AK13=0,0,(AK13*((LOG(AK13))/LOG(2))))","v":0},null,{"$f":"N13","v":0},{"$f":"COUNTIF(L42:L50,AN13)","v":0},{"$f":"AO13/(AQ4-AO8)","v":0},{"$f":"IF(AP13=0,0,(AP13*((LOG(AP13))/LOG(2))))","v":0},null,{"$f":"N13","v":0},{"$f":"COUNTIF(L51:L59,AS13)","v":0},{"$f":"AT13/(AV4-AT8)","v":{"$error":"#DIV/0!"}},{"$f":"IF(AU13=0,0,(AU13*((LOG(AU13))/LOG(2))))","v":{"$error":"#DIV/0!"}}]
[11,774,21,781,null,null,null,null,null,null,0,12,null,null,null,null,null,null,null,{"$f":"N14","v":0},{"$f":"COUNTIF(L7:L15,T14)","v":0},{"$f":"U14/(W4-U8)","v":0},{"$f":"IF(V14=0,0,(V14*((LOG(V14))/LOG(2))))","v":0},null,{"$f":"N14","v":0},{"$f":"COUNTIF(L16:L24,Y14)","v":0},{"$f":"Z14/(AB4-Z8)","v":0},{"$f":"IF(AA14=0,0,(AA14*((LOG(AA14))/LOG(2))))","v":0},null,{"$f":"N14","v":0},{"$f":"COUNTIF(L25:L32,AD14)","v":0},{"$f":"AE14/(AG4-AE8)","v":0},{"$f":"IF(AF14=0,0,(AF14*((LOG(AF14))/LOG(2))))","v":0},null,{"$f":"N14","v":0},{"$f":"COUNTIF(L33:L41,AI14)","v":0},{"$f":"AJ14/(AL4-AJ8)","v":0},{"$f":"IF(AK14=0,0,(AK14*((LOG(AK14))/LOG(2))))","v":0},null,{"$f":"N14","v":0},{"$f":"COUNTIF(L42:L50,AN14)","v":0},{"$f":"AO14/(AQ4-AO8)","v":0},{"$f":"IF(AP14=0,0,(AP14*((LOG(AP14))/LOG(2))))","v":0},null,{"$f":"N14","v":0},{"$f":"COUNTIF(L51:L59,AS14)","v":0},{"$f":"AT14/(AV4-AT8)","v":{"$error":"#DIV/0!"}},{"$f":"IF(AU14=0,0,(AU14*((LOG(AU14))/LOG(2))))","v":{"$error":"#DIV/0!"}}]
[11,876,21,883,null,null,null,null,null,null,0,12,null,null,null,{"$f":"SUM(P7:P14)","v":1},{"$f":"-SUM(Q7:Q14)","v":1.1215384031606608},null,null,null,null,{"$f":"SUM(V7:V14)","v":1},{"$f":"-SUM(W7:W14)","v":1},null,null,null,{"$f":"SUM(AA7:AA14)","v":1},{"$f":"-SUM(AB7:AB14)","v":0},null,null,null,{"$f":"SUM(AF7:AF14)","v":1},{"$f":"-SUM(AG7:AG14)","v":0.91829583405448945},null,null,null,{"$f":"SUM(AK7:AK14)","v":1},{"$f":"-SUM(AL7:AL14)","v":0.91829583405448945},null,null,null,{"$f":"SUM(AP7:AP14)","v":1},{"$f":"-SUM(AQ7:AQ14)","v":1},null,null,null,{"$f":"SUM(AU7:AU14)","v":{"$error":"#DIV/0!"}},{"$f":"-SUM(AV7:AV14)","v":{"$error":"#DIV/0!"}}]
[11,969,21,977,null,null,null,null,null,null,0,12,null,null,null,"U=",{"$f":"Q15/(LOG(Q4)/LOG(2))","v":0.19580202135439526},null,null,null,null,"U1=",{"$f":"W15/(LOG(W4)/LOG(2))","v":0.31546487678572877},null,null,null,"U2=",{"$f":"AB15/(LOG(AB4)/LOG(2))","v":0},null,null,null,"U3=",{"$f":"AG15/(LOG(AG4)/LOG(2))","v":0.30609861135149646},null,null,null,"U4=",{"$f":"AL15/(LOG(AL4)/LOG(2))","v":0.28969008214284753},null,null,null,"U5=",{"$f":"AQ15/(LOG(AQ4)/LOG(2))","v":0.31546487678572877},null,null,null,"U6=",{"$f":"AV15/(LOG(AV4)/LOG(2))","v":{"$error":"#DIV/0!"}}]
[11,1071,21,1079,null,null,null,null,null,null,0,12]
[11,1166,12,1175,null,null,null,null,null,null,0,11]
[11,1273,21,1281,null,null,null,null,null,null,0,12,null,"Total Target Seq"]
[11,1366,21,1374,null,null,null,null,null,null,0,12,null,{"$f":"COUNTIF(L7:L59,G3)","v":40},null,9,9,8,9,9,9]
[11,1464,21,1470,null,null,null,null,null,null,0,12,null,null,null,"% of reinforcement given in 6 equal intervals based on number of trials "]
[11,1557,21,1564,null,null,null,null,null,null,0,12,null,null,null,"%_1","%_2","%_3","%_4","%_5","%_6"]
[11,1650,21,1657,null,null,null,null,null,null,0,12,null,null,"target sequence",{"$f":"$G$3","v":12},{"$f":"$G$3","v":12},{"$f":"$G$3","v":12},{"$f":"$G$3","v":12},{"$f":"$G$3","v":12},{"$f":"$G$3","v":12}]
[11,1746,21,1753,null,null,null,null,null,null,0,12,null,null,"total reinforcement",{"$f":"U8","v":7},{"$f":"Z8","v":8},{"$f":"AE8","v":5},{"$f":"AJ8","v":6},{"$f":"AO8","v":5},{"$f":"AT8","v":9}]
[11,1844,21,1851,null,null,null,null,null,null,0,12,null,null,"% target"]
[11,1938,21,1945,null,null,null,null,null,null,0,12,null,null,"CCRF"]
[11,2030,21,2037,null,null,null,null,null,null,0,12,null,null,"% CCRf"]
[11,2127,12,2136,null,null,null,null,null,null,0,11,null,null,"average response rate",{"$f":"D15/P20","v":98.111111111111114},{"$f":"(D24-D15)/Q20","v":96.666666666666671},{"$f":"(D32-D24)/R20","v":112.375},{"$f":"(D41-D32)/S20","v":127.88888888888889},{"$f":"(D50-D41)/T20","v":121.88888888888889},{"$f":"(D59-D50)/U20","v":96.222222222222229}]
[11,2233,21,2240,null,null,null,null,null,null,0,12]
[22,2334,23,2426,null,null,null,null,null,null,0,22]
[11,2537,21,2546,null,null,null,null,null,null,0,12]
[11,2632,12,2652,null,null,null,null,null,null,0,11]
[11,2749,12,2758,null,null,null,null,null,null,0,11]
[11,2854,12,2862,null,null,null,null,null,null,0,11]
[11,2960,21,2968,null,null,null,null,null,null,0,12]
[11,3064,21,3072,null,null,null,null,null,null,0,12]
[11,3158,21,3343,null,null,null,null,null,null,0,12]
[11,3430,21,3438,null,null,null,null,null,null,0,12]
[11,3525,21,3534,null,null,null,null,null,null,0,12]
[22,3630,23,3699,null,null,null,null,null,null,0,22]
[11,3795,21,3803,null,null,null,null,null,null,0,12]
[11,3891,21,3901,null,null,null,null,null,null,0,12]
[11,3986,21,3994,null,null,null,null,null,null,0,12]
[11,4079,21,4089,null,null,null,null,null,null,0,12]
[11,4171,12,4175,null,null,null,null,null,null,0,11]
[11,4279,21,4288,null,null,null,null,null,null,0,12]
[22,4383,23,4445,null,null,null,null,null,null,0,22]
[22,4551,23,4628,null,null,null,null,null,null,0,22]
[11,4732,12,4796,null,null,null,null,null,null,0,11]
[11,4895,21,4900,null,null,null,null,null,null,0,12]
[11,4989,21,4997,null,null,null,null,null,null,0,12]
[11,5087,21,5096,null,null,null,null,null,null,0,12]
[11,5183,21,5192,null,null,null,null,null,null,0,12]
[11,5277,21,5285,null,null,null,null,null,null,0,12]
[11,5378,21,5386,null,null,null,null,null,null,0,12]
[11,5471,21,5479,null,null,null,null,null,null,0,12]
[11,5569,21,5576,null,null,null,null,null,null,0,12]
[11,5662,21,5671,null,null,null,null,null,null,0,12]
[11,5758,21,5766,null,null,null,null,null,null,1,12]

{"sheet":"!L817920.052","index":13,"n_rows":51,"n_cols":48,"rows_kept":51,"cut":false,"hidden":false,"merged":[[4,39,4,42],[5,39,5,40],[4,44,4,47],[5,44,5,45],[4,24,4,27],[5,24,5,25],[4,29,4,32],[5,29,5,30],[4,34,4,37],[5,34,5,35],[1,1,1,2],[5,13,5,14],[18,13,18,14],[19,13,19,14],[4,19,4,22],[5,19,5,20]]}
["Report for:!L817920.052"]
["Date:","<date>"]
["Hen:","<hen>",null,null,null,"Correct Sequence",{"$f":"Start!J2","v":12},null,null,null,null,null,null,null,null,"Total Sequences in Data",{"$f":"4994-COUNTBLANK(L7:L5000)","v":45},null,null,null,null,"Total Sequences in Block Data",{"$f":"COUNTA(L7:L14)","v":8},null,null,null,"Total Sequences in Block Data",{"$f":"COUNTA(L15:L21)","v":7},null,null,null,"Total Sequences in Block Data",{"$f":"COUNTA(L22:L29)","v":8},null,null,null,"Total Sequences in Block Data",{"$f":"COUNTA(L30:L36)","v":7},null,null,null,"Total Sequences in Block Data",{"$f":"COUNTA(L37:L44)","v":8},null,null,null,"Total Sequences in Block Data",{"$f":"COUNTA(L45:L51)","v":7}]
[null,null,null,null,null,null,null,null,null,null,null,null,null,null,null,"Total Sequences in Summary",{"$f":"SUM(O7:O14)","v":45},null,null,null,null,"Total Sequences in Block Summary",{"$f":"SUM(U7:U14)","v":8},null,null,null,"Total Sequences in Block Summary",{"$f":"SUM(Z7:Z14)","v":7},null,null,null,"Total Sequences in Block Summary",{"$f":"SUM(AE7:AE14)","v":8},null,null,null,"Total Sequences in Block Summary",{"$f":"SUM(AJ7:AJ14)","v":7},null,null,null,"Total Sequences in Block Summary",{"$f":"SUM(AO7:AO14)","v":8},null,null,null,"Total Sequences in Block Summary",{"$f":"SUM(AT7:AT14)","v":7}]
[null,null,null,null,null,null,null,null,null,null,null,null,null,null,null,null,null,null,null,"Block 1",null,null,null,null,"Block 2",null,null,null,null,"Block 3",null,null,null,null,"Block 4",null,null,null,null,"Block 5",null,null,null,null,"Block 6"]
["Sequence\nComponent\n1","Time\n1","Sequence\nComponent\n2","Time\n2","Sequence\nComponent\n3","Time\n3","Sequence\nComponent\n4","Time\n4","Sequence\nComponent\n5","Time\n5","Correct?\n0=No 1=Yes","Sequence",null,"Frequency",null,"Relative Frequency","Variability",null,null,"Frequency",null,"Relative Frequency","Variability",null,"Frequency",null,"Relative Frequency","Variability",null,"Frequency",null,"Relative Frequency","Variability",null,"Frequency",null,"Relative Frequency","Variability",null,"Frequency",null,"Relative Frequency","Variability",null,"Frequency",null,"Relative Frequency","Variability"]
[11,7,21,13,null,null,null,null,null,null,0,12,null,11,{"$f":"COUNTIF($L$7:$L$500,N7)","v":3},{"$f":"O7/$Q$4","v":6.6666666666666666E-2},{"$f":"IF(P7=0,0,(P7*((LOG(P7))/LOG(2))))","v":-0.26045937304056793},null,null,{"$f":"N7","v":11},{"$f":"COUNTIF(L7:L14,T7)","v":1},{"$f":"U7/(W4-U8)","v":1},{"$f":"IF(V7=0,0,(V7*((LOG(V7))/LOG(2))))","v":0},null,{"$f":"N7","v":11},{"$f":"COUNTIF(L15:L21,Y7)","v":1},{"$f":"Z7/(AB4-Z8)","v":1},{"$f":"IF(AA7=0,0,(AA7*((LOG(AA7))/LOG(2))))","v":0},null,{"$f":"N7","v":11},{"$f":"COUNTIF(L22:L29,AD7)","v":1},{"$f":"AE7/(AG4-AE8)","v":1},{"$f":"IF(AF7=0,0,(AF7*((LOG(AF7))/LOG(2))))","v":0},null,{"$f":"N7","v":11},{"$f":"COUNTIF(L30:L36,AI7)","v":0},{"$f":"AJ7/(AL4-AJ8)","v":0},{"$f":"IF(AK7=0,0,(AK7*((LOG(AK7))/LOG(2))))","v":0},null,{"$f":"N7","v":11},{"$f":"COUNTIF(L37:L44,AN7)","v":0},{"$f":"AO7/(AQ4-AO8)","v":{"$error":"#DIV/0!"}},{"$f":"IF(AP7=0,0,(AP7*((LOG(AP7))/LOG(2))))","v":{"$error":"#DIV/0!"}},null,{"$f":"N7","v":11},{"$f":"COUNTIF(L45:L51,AS7)","v":0},{"$f":"AT7/(AV4-AT8)","v":0},{"$f":"IF(AU7=0,0,(AU7*((LOG(AU7))/LOG(2))))","v":0}]
[11,98,21,106,null,null,null,null,null,null,0,12,null,12,{"$f":"COUNTIF($L$7:$L$500,N8)","v":40},{"$f":"O8/$Q$4","v":0.88888888888888884},{"$f":"IF(P8=0,0,(P8*((LOG(P8))/LOG(2))))","v":-0.15104444572649992},null,null,{"$f":"N8","v":12},{"$f":"COUNTIF(L7:L14,T8)","v":7},null,null,null,{"$f":"N8","v":12},{"$f":"COUNTIF(L15:L21,Y8)","v":6},null,null,null,{"$f":"N8","v":12},{"$f":"COUNTIF(L22:L29,AD8)","v":7},null,null,null,{"$f":"N8","v":12},{"$f":"COUNTIF(L30:L36,AI8)","v":6},null,null,null,{"$f":"N8","v":12},{"$f":"COUNTIF(L37:L44,AN8)","v":8},null,null,null,{"$f":"N8","v":12},{"$f":"COUNTIF(L45:L51,AS8)","v":6}]
[11,197,21,203,null,null,null,null,null,null,0,12,null,21,{"$f":"COUNTIF($L$7:$L$500,N9)","v":1},{"$f":"O9/$Q$4","v":2.2222222222222223E-2},{"$f":"IF(P9=0,0,(P9*((LOG(P9))/LOG(2))))","v":-0.12204117991843723},null,null,{"$f":"N9","v":21},{"$f":"COUNTIF(L7:L14,T9)","v":0},{"$f":"U9/(W4-U8)","v":0},{"$f":"IF(V9=0,0,(V9*((LOG(V9))/LOG(2))))","v":0},null,{"$f":"N9","v":21},{"$f":"COUNTIF(L15:L21,Y9)","v":0},{"$f":"Z9/(AB4-Z8)","v":0},{"$f":"IF(AA9=0,0,(AA9*((LOG(AA9))/LOG(2))))","v":0},null,{"$f":"N9","v":21},{"$f":"COUNTIF(L22:L29,AD9)","v":0},{"$f":"AE9/(AG4-AE8)","v":0},{"$f":"IF(AF9=0,0,(AF9*((LOG(AF9))/LOG(2))))","v":0},null,{"$f":"N9","v":21},{"$f":"COUNTIF(L30:L36,AI9)","v":0},{"$f":"AJ9/(AL4-AJ8)","v":0},{"$f":"IF(AK9=0,0,(AK9*((LOG(AK9))/LOG(2))))","v":0},null,{"$f":"N9","v":21},{"$f":"COUNTIF(L37:L44,AN9)","v":0},{"$f":"AO9/(AQ4-AO8)","v":{"$error":"#DIV/0!"}},{"$f":"IF(AP9=0,0,(AP9*((LOG(AP9))/LOG(2))))","v":{"$error":"#DIV/0!"}},null,{"$f":"N9","v":21},{"$f":"COUNTIF(L45:L51,AS9)","v":1},{"$f":"AT9/(AV4-AT8)","v":1},{"$f":"IF(AU9=0,0,(AU9*((LOG(AU9))/LOG(2))))","v":0}]
[11,290,21,297,null,null,null,null,null,null,0,12,null,22,{"$f":"COUNTIF($L$7:$L$500,N10)","v":1},{"$f":"O10/$Q$4","v":2.2222222222222223E-2},{"$f":"IF(P10=0,0,(P10*((LOG(P10))/LOG(2))))","v":-0.12204117991843723},null,null,{"$f":"N10","v":22},{"$f":"COUNTIF(L7:L14,T10)","v":0},{"$f":"U10/(W4-U8)","v":0},{"$f":"IF(V10=0,0,(V10*((LOG(V10))/LOG(2))))","v":0},null,{"$f":"N10","v":22},{"$f":"COUNTIF(L15:L21,Y10)","v":0},{"$f":"Z10/(AB4-Z8)","v":0},{"$f":"IF(AA10=0,0,(AA10*((LOG(AA10))/LOG(2))))","v":0},null,{"$f":"N10","v":22},{"$f":"COUNTIF(L22:L29,AD10)","v":0},{"$f":"AE10/(AG4-AE8)","v":0},{"$f":"IF(AF10=0,0,(AF10*((LOG(AF10))/LOG(2))))","v":0},null,{"$f":"N10","v":22},{"$f":"COUNTIF(L30:L36,AI10)","v":1},{"$f":"AJ10/(AL4-AJ8)","v":1},{"$f":"IF(AK10=0,0,(AK10*((LOG(AK10))/LOG(2))))","v":0},null,{"$f":"N10","v":22},{"$f":"COUNTIF(L37:L44,AN10)","v":0},{"$f":"AO10/(AQ4-AO8)","v":{"$error":"#DIV/0!"}},{"$f":"IF(AP10=0,0,(AP10*((LOG(AP10))/LOG(2))))","v":{"$error":"#DIV/0!"}},null,{"$f":"N10","v":22},{"$f":"COUNTIF(L45:L51,AS10)","v":0},{"$f":"AT10/(AV4-AT8)","v":0},{"$f":"IF(AU10=0,0,(AU10*((LOG(AU10))/LOG(2))))","v":0}]
[11,383,21,388,null,null,null,null,null,null,0,12,null,null,null,null,null,null,null,{"$f":"N11","v":0},{"$f":"COUNTIF(L7:L14,T11)","v":0},{"$f":"U11/(W4-U8)","v":0},{"$f":"IF(V11=0,0,(V11*((LOG(V11))/LOG(2))))","v":0},null,{"$f":"N11","v":0},{"$f":"COUNTIF(L15:L21,Y11)","v":0},{"$f":"Z11/(AB4-Z8)","v":0},{"$f":"IF(AA11=0,0,(AA11*((LOG(AA11))/LOG(2))))","v":0},null,{"$f":"N11","v":0},{"$f":"COUNTIF(L22:L29,AD11)","v":0},{"$f":"AE11/(AG4-AE8)","v":0},{"$f":"IF(AF11=0,0,(AF11*((LOG(AF11))/LOG(2))))","v":0},null,{"$f":"N11","v":0},{"$f":"COUNTIF(L30:L36,AI11)","v":0},{"$f":"AJ11/(AL4-AJ8)","v":0},{"$f":"IF(AK11=0,0,(AK11*((LOG(AK11))/LOG(2))))","v":0},null,{"$f":"N11","v":0},{"$f":"COUNTIF(L37:L44,AN11)","v":0},{"$f":"AO11/(AQ4-AO8)","v":{"$error":"#DIV/0!"}},{"$f":"IF(AP11=0,0,(AP11*((LOG(AP11))/LOG(2))))","v":{"$error":"#DIV/0!"}},null,{"$f":"N11","v":0},{"$f":"COUNTIF(L45:L51,AS11)","v":0},{"$f":"AT11/(AV4-AT8)","v":0},{"$f":"IF(AU11=0,0,(AU11*((LOG(AU11))/LOG(2))))","v":0}]
[11,477,21,484,null,null,null,null,null,null,0,12,null,null,null,null,null,null,null,{"$f":"N12","v":0},{"$f":"COUNTIF(L7:L14,T12)","v":0},{"$f":"U12/(W4-U8)","v":0},{"$f":"IF(V12=0,0,(V12*((LOG(V12))/LOG(2))))","v":0},null,{"$f":"N12","v":0},{"$f":"COUNTIF(L15:L21,Y12)","v":0},{"$f":"Z12/(AB4-Z8)","v":0},{"$f":"IF(AA12=0,0,(AA12*((LOG(AA12))/LOG(2))))","v":0},null,{"$f":"N12","v":0},{"$f":"COUNTIF(L22:L29,AD12)","v":0},{"$f":"AE12/(AG4-AE8)","v":0},{"$f":"IF(AF12=0,0,(AF12*((LOG(AF12))/LOG(2))))","v":0},null,{"$f":"N12","v":0},{"$f":"COUNTIF(L30:L36,AI12)","v":0},{"$f":"AJ12/(AL4-AJ8)","v":0},{"$f":"IF(AK12=0,0,(AK12*((LOG(AK12))/LOG(2))))","v":0},null,{"$f":"N12","v":0},{"$f":"COUNTIF(L37:L44,AN12)","v":0},{"$f":"AO12/(AQ4-AO8)","v":{"$error":"#DIV/0!"}},{"$f":"IF(AP12=0,0,(AP12*((LOG(AP12))/LOG(2))))","v":{"$error":"#DIV/0!"}},null,{"$f":"N12","v":0},{"$f":"COUNTIF(L45:L51,AS12)","v":0},{"$f":"AT12/(AV4-AT8)","v":0},{"$f":"IF(AU12=0,0,(AU12*((LOG(AU12))/LOG(2))))","v":0}]
[11,569,12,578,null,null,null,null,null,null,0,11,null,null,null,null,null,null,null,{"$f":"N13","v":0},{"$f":"COUNTIF(L7:L14,T13)","v":0},{"$f":"U13/(W4-U8)","v":0},{"$f":"IF(V13=0,0,(V13*((LOG(V13))/LOG(2))))","v":0},null,{"$f":"N13","v":0},{"$f":"COUNTIF(L15:L21,Y13)","v":0},{"$f":"Z13/(AB4-Z8)","v":0},{"$f":"IF(AA13=0,0,(AA13*((LOG(AA13))/LOG(2))))","v":0},null,{"$f":"N13","v":0},{"$f":"COUNTIF(L22:L29,AD13)","v":0},{"$f":"AE13/(AG4-AE8)","v":0},{"$f":"IF(AF13=0,0,(AF13*((LOG(AF13))/LOG(2))))","v":0},null,{"$f":"N13","v":0},{"$f":"COUNTIF(L30:L36,AI13)","v":0},{"$f":"AJ13/(AL4-AJ8)","v":0},{"$f":"IF(AK13=0,0,(AK13*((LOG(AK13))/LOG(2))))","v":0},null,{"$f":"N13","v":0},{"$f":"COUNTIF(L37:L44,AN13)","v":0},{"$f":"AO13/(AQ4-AO8)","v":{"$error":"#DIV/0!"}},{"$f":"IF(AP13=0,0,(AP13*((LOG(AP13))/LOG(2))))","v":{"$error":"#DIV/0!"}},null,{"$f":"N13","v":0},{"$f":"COUNTIF(L45:L51,AS13)","v":0},{"$f":"AT13/(AV4-AT8)","v":0},{"$f":"IF(AU13=0,0,(AU13*((LOG(AU13))/LOG(2))))","v":0}]
[11,675,21,682,null,null,null,null,null,null,0,12,null,null,null,null,null,null,null,{"$f":"N14","v":0},{"$f":"COUNTIF(L7:L14,T14)","v":0},{"$f":"U14/(W4-U8)","v":0},{"$f":"IF(V14=0,0,(V14*((LOG(V14))/LOG(2))))","v":0},null,{"$f":"N14","v":0},{"$f":"COUNTIF(L15:L21,Y14)","v":0},{"$f":"Z14/(AB4-Z8)","v":0},{"$f":"IF(AA14=0,0,(AA14*((LOG(AA14))/LOG(2))))","v":0},null,{"$f":"N14","v":0},{"$f":"COUNTIF(L22:L29,AD14)","v":0},{"$f":"AE14/(AG4-AE8)","v":0},{"$f":"IF(AF14=0,0,(AF14*((LOG(AF14))/LOG(2))))","v":0},null,{"$f":"N14","v":0},{"$f":"COUNTIF(L30:L36,AI14)","v":0},{"$f":"AJ14/(AL4-AJ8)","v":0},{"$f":"IF(AK14=0,0,(AK14*((LOG(AK14))/LOG(2))))","v":0},null,{"$f":"N14","v":0},{"$f":"COUNTIF(L37:L44,AN14)","v":0},{"$f":"AO14/(AQ4-AO8)","v":{"$error":"#DIV/0!"}},{"$f":"IF(AP14=0,0,(AP14*((LOG(AP14))/LOG(2))))","v":{"$error":"#DIV/0!"}},null,{"$f":"N14","v":0},{"$f":"COUNTIF(L45:L51,AS14)","v":0},{"$f":"AT14/(AV4-AT8)","v":0},{"$f":"IF(AU14=0,0,(AU14*((LOG(AU14))/LOG(2))))","v":0}]
[11,768,12,781,null,null,null,null,null,null,0,11,null,null,null,{"$f":"SUM(P7:P14)","v":1},{"$f":"-SUM(Q7:Q14)","v":0.6555861786039423},null,null,null,null,{"$f":"SUM(V7:V14)","v":1},{"$f":"-SUM(W7:W14)","v":0},null,null,null,{"$f":"SUM(AA7:AA14)","v":1},{"$f":"-SUM(AB7:AB14)","v":0},null,null,null,{"$f":"SUM(AF7:AF14)","v":1},{"$f":"-SUM(AG7:AG14)","v":0},null,null,null,{"$f":"SUM(AK7:AK14)","v":1},{"$f":"-SUM(AL7:AL14)","v":0},null,null,null,{"$f":"SUM(AP7:AP14)","v":{"$error":"#DIV/0!"}},{"$f":"-SUM(AQ7:AQ14)","v":{"$error":"#DIV/0!"}},null,null,null,{"$f":"SUM(AU7:AU14)","v":1},{"$f":"-SUM(AV7:AV14)","v":0}]
[11,891,21,897,null,null,null,null,null,null,0,12,null,null,null,"U=",{"$f":"Q15/(LOG(Q4)/LOG(2))","v":0.1193743108391018},null,null,null,null,"U1=",{"$f":"W15/(LOG(W4)/LOG(2))","v":0},null,null,null,"U2=",{"$f":"AB15/(LOG(AB4)/LOG(2))","v":0},null,null,null,"U3=",{"$f":"AG15/(LOG(AG4)/LOG(2))","v":0},null,null,null,"U4=",{"$f":"AL15/(LOG(AL4)/LOG(2))","v":0},null,null,null,"U5=",{"$f":"AQ15/(LOG(AQ4)/LOG(2))","v":{"$error":"#DIV/0!"}},null,null,null,"U6=",{"$f":"AV15/(LOG(AV4)/LOG(2))","v":0}]
[11,985,21,991,null,null,null,null,null,null,0,12]
[11,1079,21,1086,null,null,null,null,null,null,0,12]
[11,1178,21,1185,null,null,null,null,null,null,0,12,null,"Total Target Seq"]
[11,1269,21,1276,null,null,null,null,null,null,0,12,null,{"$f":"COUNTIF(L7:L51,G3)","v":40},null,8,7,8,7,8,7]
[11,1366,21,1373,null,null,null,null,null,null,0,12,null,null,null,"% of reinforcement given in 6 equal intervals based on number of trials "]
[11,1458,21,1465,null,null,null,null,null,null,0,12,null,null,null,"%_1","%_2","%_3","%_4","%_5","%_6"]
[11,1550,21,1557,null,null,null,null,null,null,0,12,null,null,"target sequence",{"$f":"$G$3","v":12},{"$f":"$G$3","v":12},{"$f":"$G$3","v":12},{"$f":"$G$3","v":12},{"$f":"$G$3","v":12},{"$f":"$G$3","v":12}]
[11,1643,21,1650,null,null,null,null,null,null,0,12,null,null,"total reinforcement",{"$f":"U8","v":7},{"$f":"Z8","v":6},{"$f":"AE8","v":7},{"$f":"AJ8","v":6},{"$f":"AO8","v":8},{"$f":"AT8","v":6}]
[11,1735,12,1742,null,null,null,null,null,null,0,11,null,null,"% target"]
[11,1839,21,1846,null,null,null,null,null,null,0,12,null,null,"CCRF"]
[11,1933,21,1940,null,null,null,null,null,null,0,12,null,null,"% CCRf"]
[11,2024,21,2031,null,null,null,null,null,null,0,12,null,null,"average response rate",{"$f":"D14/P20","v":85.25},{"$f":"(D21-D14)/Q20","v":98.714285714285708},{"$f":"(D29-D21)/R20","v":94.25},{"$f":"(D36-D29)/S20","v":108.85714285714286},{"$f":"(D44-D36)/T20","v":95.75},{"$f":"(D51-D44)/U20","v":104.57142857142857}]
[11,2120,21,2127,null,null,null,null,null,null,0,12]
[11,2216,21,2223,null,null,null,null,null,null,0,12]
[22,2318,23,2398,null,null,null,null,null,null,0,22]
[11,2498,21,2506,null,null,null,null,null,null,0,12]
[11,2604,21,2611,null,null,null,null,null,null,0,12]
[11,2699,21,2706,null,null,null,null,null,null,0,12]
[11,2791,21,2796,null,null,null,null,null,null,0,12]
[11,2882,21,2889,null,null,null,null,null,null,0,12]
[11,2975,21,2984,null,null,null,null,null,null,0,12]
[11,3067,21,3075,null,null,null,null,null,null,0,12]
[11,3163,21,3171,null,null,null,null,null,null,0,12]
[11,3270,21,3278,null,null,null,null,null,null,0,12]
[11,3363,21,3371,null,null,null,null,null,null,0,12]
[11,3459,21,3467,null,null,null,null,null,null,0,12]
[11,3554,21,3561,null,null,null,null,null,null,0,12]
[11,3647,21,3655,null,null,null,null,null,null,0,12]
[11,3740,21,3747,null,null,null,null,null,null,0,12]
[11,3838,21,3846,null,null,null,null,null,null,0,12]
[22,3941,14,4002,null,null,null,null,null,null,0,21]
[11,4099,21,4106,null,null,null,null,null,null,0,12]
[11,4193,21,4201,null,null,null,null,null,null,0,12]
[11,4288,21,4293,null,null,null,null,null,null,0,12]
[11,4379,21,4387,null,null,null,null,null,null,1,12]

{"sheet":"!L818B20.052","index":14,"n_rows":62,"n_cols":48,"rows_kept":62,"cut":false,"hidden":false,"merged":[[4,39,4,42],[5,39,5,40],[4,44,4,47],[5,44,5,45],[4,24,4,27],[5,24,5,25],[4,29,4,32],[5,29,5,30],[4,34,4,37],[5,34,5,35],[1,1,1,2],[5,13,5,14],[18,13,18,14],[19,13,19,14],[4,19,4,22],[5,19,5,20]]}
["Report for:!L818B20.052"]
["Date:","<date>"]
["Hen:","<hen>",null,null,null,"Correct Sequence",{"$f":"Start!J2","v":12},null,null,null,null,null,null,null,null,"Total Sequences in Data",{"$f":"4994-COUNTBLANK(L7:L5000)","v":56},null,null,null,null,"Total Sequences in Block Data",{"$f":"COUNTA(L7:L15)","v":9},null,null,null,"Total Sequences in Block Data",{"$f":"COUNTA(L16:L25)","v":10},null,null,null,"Total Sequences in Block Data",{"$f":"COUNTA(L26:L34)","v":9},null,null,null,"Total Sequences in Block Data",{"$f":"COUNTA(L35:L43)","v":9},null,null,null,"Total Sequences in Block Data",{"$f":"COUNTA(L44:L53)","v":10},null,null,null,"Total Sequences in Block Data",{"$f":"COUNTA(L54:L62)","v":9}]
[null,null,null,null,null,null,null,null,null,null,null,null,null,null,null,"Total Sequences in Summary",{"$f":"SUM(O7:O14)","v":56},null,null,null,null,"Total Sequences in Block Summary",{"$f":"SUM(U7:U14)","v":9},null,null,null,"Total Sequences in Block Summary",{"$f":"SUM(Z7:Z14)","v":10},null,null,null,"Total Sequences in Block Summary",{"$f":"SUM(AE7:AE14)","v":9},null,null,null,"Total Sequences in Block Summary",{"$f":"SUM(AJ7:AJ14)","v":9},null,null,null,"Total Sequences in Block Summary",{"$f":"SUM(AO7:AO14)","v":10},null,null,null,"Total Sequences in Block Summary",{"$f":"SUM(AT7:AT14)","v":9}]
[null,null,null,null,null,null,null,null,null,null,null,null,null,null,null,null,null,null,null,"Block 1",null,null,null,null,"Block 2",null,null,null,null,"Block 3",null,null,null,null,"Block 4",null,null,null,null,"Block 5",null,null,null,null,"Block 6"]
["Sequence\nComponent\n1","Time\n1","Sequence\nComponent\n2","Time\n2","Sequence\nComponent\n3","Time\n3","Sequence\nComponent\n4","Time\n4","Sequence\nComponent\n5","Time\n5","Correct?\n0=No 1=Yes","Sequence",null,"Frequency",null,"Relative Frequency","Variability",null,null,"Frequency",null,"Relative Frequency","Variability",null,"Frequency",null,"Relative Frequency","Variability",null,"Frequency",null,"Relative Frequency","Variability",null,"Frequency",null,"Relative Frequency","Variability",null,"Frequency",null,"Relative Frequency","Variability",null,"Frequency",null,"Relative Frequency","Variability"]
[11,25,21,34,null,null,null,null,null,null,0,12,null,11,{"$f":"COUNTIF($L$7:$L$500,N7)","v":2},{"$f":"O7/$Q$4","v":3.5714285714285712E-2},{"$f":"IF(P7=0,0,(P7*((LOG(P7))/LOG(2))))","v":-0.17169124721634299},null,null,{"$f":"N7","v":11},{"$f":"COUNTIF(L7:L15,T7)","v":0},{"$f":"U7/(W4-U8)","v":0},{"$f":"IF(V7=0,0,(V7*((LOG(V7))/LOG(2))))","v":0},null,{"$f":"N7","v":11},{"$f":"COUNTIF(L16:L25,Y7)","v":0},{"$f":"Z7/(AB4-Z8)","v":0},{"$f":"IF(AA7=0,0,(AA7*((LOG(AA7))/LOG(2))))","v":0},null,{"$f":"N7","v":11},{"$f":"COUNTIF(L26:L34,AD7)","v":0},{"$f":"AE7/(AG4-AE8)","v":0},{"$f":"IF(AF7=0,0,(AF7*((LOG(AF7))/LOG(2))))","v":0},null,{"$f":"N7","v":11},{"$f":"COUNTIF(L35:L43,AI7)","v":0},{"$f":"AJ7/(AL4-AJ8)","v":0},{"$f":"IF(AK7=0,0,(AK7*((LOG(AK7))/LOG(2))))","v":0},null,{"$f":"N7","v":11},{"$f":"COUNTIF(L44:L53,AN7)","v":2},{"$f":"AO7/(AQ4-AO8)","v":0.4},{"$f":"IF(AP7=0,0,(AP7*((LOG(AP7))/LOG(2))))","v":-0.52877123795494496},null,{"$f":"N7","v":11},{"$f":"COUNTIF(L54:L62,AS7)","v":0},{"$f":"AT7/(AV4-AT8)","v":0},{"$f":"IF(AU7=0,0,(AU7*((LOG(AU7))/LOG(2))))","v":0}]
[22,133,23,155,null,null,null,null,null,null,0,22,null,12,{"$f":"COUNTIF($L$7:$L$500,N8)","v":40},{"$f":"O8/$Q$4","v":0.7142857142857143},{"$f":"IF(P8=0,0,(P8*((LOG(P8))/LOG(2))))","v":-0.34673344797874411},null,null,{"$f":"N8","v":12},{"$f":"COUNTIF(L7:L15,T8)","v":4},null,null,null,{"$f":"N8","v":12},{"$f":"COUNTIF(L16:L25,Y8)","v":9},null,null,null,{"$f":"N8","v":12},{"$f":"COUNTIF(L26:L34,AD8)","v":8},null,null,null,{"$f":"N8","v":12},{"$f":"COUNTIF(L35:L43,AI8)","v":6},null,null,null,{"$f":"N8","v":12},{"$f":"COUNTIF(L44:L53,AN8)","v":5},null,null,null,{"$f":"N8","v":12},{"$f":"COUNTIF(L54:L62,AS8)","v":8}]
[22,272,23,312,null,null,null,null,null,null,0,22,null,21,{"$f":"COUNTIF($L$7:$L$500,N9)","v":6},{"$f":"O9/$Q$4","v":0.10714285714285714},{"$f":"IF(P9=0,0,(P9*((LOG(P9))/LOG(2))))","v":-0.34525633085747659},null,null,{"$f":"N9","v":21},{"$f":"COUNTIF(L7:L15,T9)","v":1},{"$f":"U9/(W4-U8)","v":0.2},{"$f":"IF(V9=0,0,(V9*((LOG(V9))/LOG(2))))","v":-0.46438561897747244},null,{"$f":"N9","v":21},{"$f":"COUNTIF(L16:L25,Y9)","v":1},{"$f":"Z9/(AB4-Z8)","v":1},{"$f":"IF(AA9=0,0,(AA9*((LOG(AA9))/LOG(2))))","v":0},null,{"$f":"N9","v":21},{"$f":"COUNTIF(L26:L34,AD9)","v":0},{"$f":"AE9/(AG4-AE8)","v":0},{"$f":"IF(AF9=0,0,(AF9*((LOG(AF9))/LOG(2))))","v":0},null,{"$f":"N9","v":21},{"$f":"COUNTIF(L35:L43,AI9)","v":1},{"$f":"AJ9/(AL4-AJ8)","v":0.33333333333333331},{"$f":"IF(AK9=0,0,(AK9*((LOG(AK9))/LOG(2))))","v":-0.52832083357371862},null,{"$f":"N9","v":21},{"$f":"COUNTIF(L44:L53,AN9)","v":2},{"$f":"AO9/(AQ4-AO8)","v":0.4},{"$f":"IF(AP9=0,0,(AP9*((LOG(AP9))/LOG(2))))","v":-0.52877123795494496},null,{"$f":"N9","v":21},{"$f":"COUNTIF(L54:L62,AS9)","v":1},{"$f":"AT9/(AV4-AT8)","v":1},{"$f":"IF(AU9=0,0,(AU9*((LOG(AU9))/LOG(2))))","v":0}]
[22,430,23,449,null,null,null,null,null,null,0,22,null,22,{"$f":"COUNTIF($L$7:$L$500,N10)","v":8},{"$f":"O10/$Q$4","v":0.14285714285714285},{"$f":"IF(P10=0,0,(P10*((LOG(P10))/LOG(2))))","v":-0.40105070315108626},null,null,{"$f":"N10","v":22},{"$f":"COUNTIF(L7:L15,T10)","v":4},{"$f":"U10/(W4-U8)","v":0.8},{"$f":"IF(V10=0,0,(V10*((LOG(V10))/LOG(2))))","v":-0.25754247590988982},null,{"$f":"N10","v":22},{"$f":"COUNTIF(L16:L25,Y10)","v":0},{"$f":"Z10/(AB4-Z8)","v":0},{"$f":"IF(AA10=0,0,(AA10*((LOG(AA10))/LOG(2))))","v":0},null,{"$f":"N10","v":22},{"$f":"COUNTIF(L26:L34,AD10)","v":1},{"$f":"AE10/(AG4-AE8)","v":1},{"$f":"IF(AF10=0,0,(AF10*((LOG(AF10))/LOG(2))))","v":0},null,{"$f":"N10","v":22},{"$f":"COUNTIF(L35:L43,AI10)","v":2},{"$f":"AJ10/(AL4-AJ8)","v":0.66666666666666663},{"$f":"IF(AK10=0,0,(AK10*((LOG(AK10))/LOG(2))))","v":-0.38997500048077083},null,{"$f":"N10","v":22},{"$f":"COUNTIF(L44:L53,AN10)","v":1},{"$f":"AO10/(AQ4-AO8)","v":0.2},{"$f":"IF(AP10=0,0,(AP10*((LOG(AP10))/LOG(2))))","v":-0.46438561897747244},null,{"$f":"N10","v":22},{"$f":"COUNTIF(L54:L62,AS10)","v":0},{"$f":"AT10/(AV4-AT8)","v":0},{"$f":"IF(AU10=0,0,(AU10*((LOG(AU10))/LOG(2))))","v":0}]
[22,568,14,580,null,null,null,null,null,null,0,21,null,null,null,null,null,null,null,{"$f":"N11","v":0},{"$f":"COUNTIF(L7:L15,T11)","v":0},{"$f":"U11/(W4-U8)","v":0},{"$f":"IF(V11=0,0,(V11*((LOG(V11))/LOG(2))))","v":0},null,{"$f":"N11","v":0},{"$f":"COUNTIF(L16:L25,Y11)","v":0},{"$f":"Z11/(AB4-Z8)","v":0},{"$f":"IF(AA11=0,0,(AA11*((LOG(AA11))/LOG(2))))","v":0},null,{"$f":"N11","v":0},{"$f":"COUNTIF(L26:L34,AD11)","v":0},{"$f":"AE11/(AG4-AE8)","v":0},{"$f":"IF(AF11=0,0,(AF11*((LOG(AF11))/LOG(2))))","v":0},null,{"$f":"N11","v":0},{"$f":"COUNTIF(L35:L43,AI11)","v":0},{"$f":"AJ11/(AL4-AJ8)","v":0},{"$f":"IF(AK11=0,0,(AK11*((LOG(AK11))/LOG(2))))","v":0},null,{"$f":"N11","v":0},{"$f":"COUNTIF(L44:L53,AN11)","v":0},{"$f":"AO11/(AQ4-AO8)","v":0},{"$f":"IF(AP11=0,0,(AP11*((LOG(AP11))/LOG(2))))","v":0},null,{"$f":"N11","v":0},{"$f":"COUNTIF(L54:L62,AS11)","v":0},{"$f":"AT11/(AV4-AT8)","v":0},{"$f":"IF(AU11=0,0,(AU11*((LOG(AU11))/LOG(2))))","v":0}]
[11,690,21,698,null,null,null,null,null,null,0,12,null,null,null,null,null,null,null,{"$f":"N12","v":0},{"$f":"COUNTIF(L7:L15,T12)","v":0},{"$f":"U12/(W4-U8)","v":0},{"$f":"IF(V12=0,0,(V12*((LOG(V12))/LOG(2))))","v":0},null,{"$f":"N12","v":0},{"$f":"COUNTIF(L16:L25,Y12)","v":0},{"$f":"Z12/(AB4-Z8)","v":0},{"$f":"IF(AA12=0,0,(AA12*((LOG(AA12))/LOG(2))))","v":0},null,{"$f":"N12","v":0},{"$f":"COUNTIF(L26:L34,AD12)","v":0},{"$f":"AE12/(AG4-AE8)","v":0},{"$f":"IF(AF12=0,0,(AF12*((LOG(AF12))/LOG(2))))","v":0},null,{"$f":"N12","v":0},{"$f":"COUNTIF(L35:L43,AI12)","v":0},{"$f":"AJ12/(AL4-AJ8)","v":0},{"$f":"IF(AK12=0,0,(AK12*((LOG(AK12))/LOG(2))))","v":0},null,{"$f":"N12","v":0},{"$f":"COUNTIF(L44:L53,AN12)","v":0},{"$f":"AO12/(AQ4-AO8)","v":0},{"$f":"IF(AP12=0,0,(AP12*((LOG(AP12))/LOG(2))))","v":0},null,{"$f":"N12","v":0},{"$f":"COUNTIF(L54:L62,AS12)","v":0},{"$f":"AT12/(AV4-AT8)","v":0},{"$f":"IF(AU12=0,0,(AU12*((LOG(AU12))/LOG(2))))","v":0}]
[22,802,23,820,null,null,null,null,null,null,0,22,null,null,null,null,null,null,null,{"$f":"N13","v":0},{"$f":"COUNTIF(L7:L15,T13)","v":0},{"$f":"U13/(W4-U8)","v":0},{"$f":"IF(V13=0,0,(V13*((LOG(V13))/LOG(2))))","v":0},null,{"$f":"N13","v":0},{"$f":"COUNTIF(L16:L25,Y13)","v":0},{"$f":"Z13/(AB4-Z8)","v":0},{"$f":"IF(AA13=0,0,(AA13*((LOG(AA13))/LOG(2))))","v":0},null,{"$f":"N13","v":0},{"$f":"COUNTIF(L26:L34,AD13)","v":0},{"$f":"AE13/(AG4-AE8)","v":0},{"$f":"IF(AF13=0,0,(AF13*((LOG(AF13))/LOG(2))))","v":0},null,{"$f":"N13","v":0},{"$f":"COUNTIF(L35:L43,AI13)","v":0},{"$f":"AJ13/(AL4-AJ8)","v":0},{"$f":"IF(AK13=0,0,(AK13*((LOG(AK13))/LOG(2))))","v":0},null,{"$f":"N13","v":0},{"$f":"COUNTIF(L44:L53,AN13)","v":0},{"$f":"AO13/(AQ4-AO8)","v":0},{"$f":"IF(AP13=0,0,(AP13*((LOG(AP13))/LOG(2))))","v":0},null,{"$f":"N13","v":0},{"$f":"COUNTIF(L54:L62,AS13)","v":0},{"$f":"AT13/(AV4-AT8)","v":0},{"$f":"IF(AU13=0,0,(AU13*((LOG(AU13))/LOG(2))))","v":0}]
[11,928,21,936,null,null,null,null,null,null,0,12,null,null,null,null,null,null,null,{"$f":"N14","v":0},{"$f":"COUNTIF(L7:L15,T14)","v":0},{"$f":"U14/(W4-U8)","v":0},{"$f":"IF(V14=0,0,(V14*((LOG(V14))/LOG(2))))","v":0},null,{"$f":"N14","v":0},{"$f":"COUNTIF(L16:L25,Y14)","v":0},{"$f":"Z14/(AB4-Z8)","v":0},{"$f":"IF(AA14=0,0,(AA14*((LOG(AA14))/LOG(2))))","v":0},null,{"$f":"N14","v":0},{"$f":"COUNTIF(L26:L34,AD14)","v":0},{"$f":"AE14/(AG4-AE8)","v":0},{"$f":"IF(AF14=0,0,(AF14*((LOG(AF14))/LOG(2))))","v":0},null,{"$f":"N14","v":0},{"$f":"COUNTIF(L35:L43,AI14)","v":0},{"$f":"AJ14/(AL4-AJ8)","v":0},{"$f":"IF(AK14=0,0,(AK14*((LOG(AK14))/LOG(2))))","v":0},null,{"$f":"N14","v":0},{"$f":"COUNTIF(L44:L53,AN14)","v":0},{"$f":"AO14/(AQ4-AO8)","v":0},{"$f":"IF(AP14=0,0,(AP14*((LOG(AP14))/LOG(2))))","v":0},null,{"$f":"N14","v":0},{"$f":"COUNTIF(L54:L62,AS14)","v":0},{"$f":"AT14/(AV4-AT8)","v":0},{"$f":"IF(AU14=0,0,(AU14*((LOG(AU14))/LOG(2))))","v":0}]
[11,1025,21,1033,null,null,null,null,null,null,0,12,null,null,null,{"$f":"SUM(P7:P14)","v":1},{"$f":"-SUM(Q7:Q14)","v":1.2647317292036497},null,null,null,null,{"$f":"SUM(V7:V14)","v":1},{"$f":"-SUM(W7:W14)","v":0.72192809488736231},null,null,null,{"$f":"SUM(AA7:AA14)","v":1},{"$f":"-SUM(AB7:AB14)","v":0},null,null,null,{"$f":"SUM(AF7:AF14)","v":1},{"$f":"-SUM(AG7:AG14)","v":0},null,null,null,{"$f":"SUM(AK7:AK14)","v":1},{"$f":"-SUM(AL7:AL14)","v":0.91829583405448945},null,null,null,{"$f":"SUM(AP7:AP14)","v":1},{"$f":"-SUM(AQ7:AQ14)","v":1.5219280948873624},null,null,null,{"$f":"SUM(AU7:AU14)","v":1},{"$f":"-SUM(AV7:AV14)","v":0}]
[11,1124,21,1132,null,null,null,null,null,null,0,12,null,null,null,"U=",{"$f":"Q15/(LOG(Q4)/LOG(2))","v":0.21778102874338229},null,null,null,null,"U1=",{"$f":"W15/(LOG(W4)/LOG(2))","v":0.22774295750179763},null,null,null,"U2=",{"$f":"AB15/(LOG(AB4)/LOG(2))","v":0},null,null,null,"U3=",{"$f":"AG15/(LOG(AG4)/LOG(2))","v":0},null,null,null,"U4=",{"$f":"AL15/(LOG(AL4)/LOG(2))","v":0.28969008214284753},null,null,null,"U5=",{"$f":"AQ15/(LOG(AQ4)/LOG(2))","v":0.45814600780483389},null,null,null,"U6=",{"$f":"AV15/(LOG(AV4)/LOG(2))","v":0}]
[11,1231,21,1239,null,null,null,null,null,null,0,12]
[11,1332,21,1340,null,null,null,null,null,null,0,12]
[11,1430,21,1439,null,null,null,null,null,null,0,12,null,"Total Target Seq"]
[11,1527,21,1534,null,null,null,null,null,null,0,12,null,{"$f":"COUNTIF(L7:L62,G3)","v":40},null,9,10,9,9,10,9]
[11,1634,21,1643,null,null,null,null,null,null,0,12,null,null,null,"% of reinforcement given in 6 equal intervals based on number of trials "]
[11,1746,21,1753,null,null,null,null,null,null,0,12,null,null,null,"%_1","%_2","%_3","%_4","%_5","%_6"]
[11,1848,21,1855,null,null,null,null,null,null,0,12,null,null,"target sequence",{"$f":"$G$3","v":12},{"$f":"$G$3","v":12},{"$f":"$G$3","v":12},{"$f":"$G$3","v":12},{"$f":"$G$3","v":12},{"$f":"$G$3","v":12}]
[22,1949,14,1973,null,null,null,null,null,null,0,21,null,null,"total reinforcement",{"$f":"U8","v":4},{"$f":"Z8","v":9},{"$f":"AE8","v":8},{"$f":"AJ8","v":6},{"$f":"AO8","v":5},{"$f":"AT8","v":8}]
[11,2071,21,2079,null,null,null,null,null,null,0,12,null,null,"% target"]
[22,2184,23,2221,null,null,null,null,null,null,0,22,null,null,"CCRF"]
[11,2329,21,2337,null,null,null,null,null,null,0,12,null,null,"% CCRf"]
[11,2425,21,2432,null,null,null,null,null,null,0,12,null,null,"average response rate",{"$f":"D15/P20","v":114.77777777777777},{"$f":"(D25-D15)/Q20","v":104.6},{"$f":"(D34-D25)/R20","v":108.77777777777777},{"$f":"(D43-D34)/S20","v":119.55555555555556},{"$f":"(D53-D43)/T20","v":114.6},{"$f":"(D62-D53)/U20","v":106.44444444444444}]
[11,2527,21,2535,null,null,null,null,null,null,0,12]
[11,2631,21,2638,null,null,null,null,null,null,0,12]
[11,2733,21,2741,null,null,null,null,null,null,0,12]
[11,2836,21,2844,null,null,null,null,null,null,0,12]
[11,2941,21,2948,null,null,null,null,null,null,0,12]
[11,3050,21,3058,null,null,null,null,null,null,0,12]
[11,3155,21,3164,null,null,null,null,null,null,0,12]
[22,3267,23,3313,null,null,null,null,null,null,0,22]
[11,3411,21,3432,null,null,null,null,null,null,0,12]
[11,3519,21,3527,null,null,null,null,null,null,0,12]
[22,3620,23,3640,null,null,null,null,null,null,0,22]
[11,3738,21,3743,null,null,null,null,null,null,0,12]
[22,3839,14,3901,null,null,null,null,null,null,0,21]
[11,4020,21,4028,null,null,null,null,null,null,0,12]
[11,4126,21,4134,null,null,null,null,null,null,0,12]
[11,4222,12,4238,null,null,null,null,null,null,0,11]
[11,4337,21,4345,null,null,null,null,null,null,0,12]
[22,4439,14,4469,null,null,null,null,null,null,0,21]
[11,4567,21,4575,null,null,null,null,null,null,0,12]
[11,4664,21,4672,null,null,null,null,null,null,0,12]
[22,4778,14,4818,null,null,null,null,null,null,0,21]
[11,4916,12,4928,null,null,null,null,null,null,0,11]
[11,5027,21,5035,null,null,null,null,null,null,0,12]
[22,5135,23,5175,null,null,null,null,null,null,0,22]
[11,5274,21,5280,null,null,null,null,null,null,0,12]
[11,5380,21,5387,null,null,null,null,null,null,0,12]
[11,5474,21,5481,null,null,null,null,null,null,0,12]
[11,5569,21,5585,null,null,null,null,null,null,0,12]
[11,5680,21,5688,null,null,null,null,null,null,0,12]
[11,5775,21,5783,null,null,null,null,null,null,0,12]
[11,5878,21,5886,null,null,null,null,null,null,0,12]
[11,5972,21,5980,null,null,null,null,null,null,0,12]
[22,6083,14,6124,null,null,null,null,null,null,0,21]
[11,6231,21,6238,null,null,null,null,null,null,1,12]

{"sheet":"!L819910.052","index":15,"n_rows":53,"n_cols":48,"rows_kept":53,"cut":false,"hidden":false,"merged":[[4,39,4,42],[5,39,5,40],[4,44,4,47],[5,44,5,45],[4,24,4,27],[5,24,5,25],[4,29,4,32],[5,29,5,30],[4,34,4,37],[5,34,5,35],[1,1,1,2],[5,13,5,14],[18,13,18,14],[19,13,19,14],[4,19,4,22],[5,19,5,20]]}
["Report for:!L819910.052"]
["Date:","<date>"]
["Hen:","<hen>",null,null,null,"Correct Sequence",{"$f":"Start!J2","v":12},null,null,null,null,null,null,null,null,"Total Sequences in Data",{"$f":"4994-COUNTBLANK(L7:L5000)","v":47},null,null,null,null,"Total Sequences in Block Data",{"$f":"COUNTA(L7:L14)","v":8},null,null,null,"Total Sequences in Block Data",{"$f":"COUNTA(L15:L22)","v":8},null,null,null,"Total Sequences in Block Data",{"$f":"COUNTA(L23:L29)","v":7},null,null,null,"Total Sequences in Block Data",{"$f":"COUNTA(L30:L37)","v":8},null,null,null,"Total Sequences in Block Data",{"$f":"COUNTA(L38:L45)","v":8},null,null,null,"Total Sequences in Block Data",{"$f":"COUNTA(L46:L53)","v":8}]
[null,null,null,null,null,null,null,null,null,null,null,null,null,null,null,"Total Sequences in Summary",{"$f":"SUM(O7:O14)","v":47},null,null,null,null,"Total Sequences in Block Summary",{"$f":"SUM(U7:U14)","v":8},null,null,null,"Total Sequences in Block Summary",{"$f":"SUM(Z7:Z14)","v":8},null,null,null,"Total Sequences in Block Summary",{"$f":"SUM(AE7:AE14)","v":7},null,null,null,"Total Sequences in Block Summary",{"$f":"SUM(AJ7:AJ14)","v":8},null,null,null,"Total Sequences in Block Summary",{"$f":"SUM(AO7:AO14)","v":8},null,null,null,"Total Sequences in Block Summary",{"$f":"SUM(AT7:AT14)","v":8}]
[null,null,null,null,null,null,null,null,null,null,null,null,null,null,null,null,null,null,null,"Block 1",null,null,null,null,"Block 2",null,null,null,null,"Block 3",null,null,null,null,"Block 4",null,null,null,null,"Block 5",null,null,null,null,"Block 6"]
["Sequence\nComponent\n1","Time\n1","Sequence\nComponent\n2","Time\n2","Sequence\nComponent\n3","Time\n3","Sequence\nComponent\n4","Time\n4","Sequence\nComponent\n5","Time\n5","Correct?\n0=No 1=Yes","Sequence",null,"Frequency",null,"Relative Frequency","Variability",null,null,"Frequency",null,"Relative Frequency","Variability",null,"Frequency",null,"Relative Frequency","Variability",null,"Frequency",null,"Relative Frequency","Variability",null,"Frequency",null,"Relative Frequency","Variability",null,"Frequency",null,"Relative Frequency","Variability",null,"Frequency",null,"Relative Frequency","Variability"]
[11,8,21,15,null,null,null,null,null,null,0,12,null,11,{"$f":"COUNTIF($L$7:$L$500,N7)","v":3},{"$f":"O7/$Q$4","v":6.3829787234042548E-2},{"$f":"IF(P7=0,0,(P7*((LOG(P7))/LOG(2))))","v":-0.2533804053802009},null,null,{"$f":"N7","v":11},{"$f":"COUNTIF(L7:L14,T7)","v":0},{"$f":"U7/(W4-U8)","v":0},{"$f":"IF(V7=0,0,(V7*((LOG(V7))/LOG(2))))","v":0},null,{"$f":"N7","v":11},{"$f":"COUNTIF(L15:L22,Y7)","v":0},{"$f":"Z7/(AB4-Z8)","v":0},{"$f":"IF(AA7=0,0,(AA7*((LOG(AA7))/LOG(2))))","v":0},null,{"$f":"N7","v":11},{"$f":"COUNTIF(L23:L29,AD7)","v":0},{"$f":"AE7/(AG4-AE8)","v":{"$error":"#DIV/0!"}},{"$f":"IF(AF7=0,0,(AF7*((LOG(AF7))/LOG(2))))","v":{"$error":"#DIV/0!"}},null,{"$f":"N7","v":11},{"$f":"COUNTIF(L30:L37,AI7)","v":3},{"$f":"AJ7/(AL4-AJ8)","v":1},{"$f":"IF(AK7=0,0,(AK7*((LOG(AK7))/LOG(2))))","v":0},null,{"$f":"N7","v":11},{"$f":"COUNTIF(L38:L45,AN7)","v":0},{"$f":"AO7/(AQ4-AO8)","v":0},{"$f":"IF(AP7=0,0,(AP7*((LOG(AP7))/LOG(2))))","v":0},null,{"$f":"N7","v":11},{"$f":"COUNTIF(L46:L53,AS7)","v":0},{"$f":"AT7/(AV4-AT8)","v":{"$error":"#DIV/0!"}},{"$f":"IF(AU7=0,0,(AU7*((LOG(AU7))/LOG(2))))","v":{"$error":"#DIV/0!"}}]
[11,102,21,109,null,null,null,null,null,null,0,12,null,12,{"$f":"COUNTIF($L$7:$L$500,N8)","v":40},{"$f":"O8/$Q$4","v":0.85106382978723405},{"$f":"IF(P8=0,0,(P8*((LOG(P8))/LOG(2))))","v":-0.19800915471512767},null,null,{"$f":"N8","v":12},{"$f":"COUNTIF(L7:L14,T8)","v":7},null,null,null,{"$f":"N8","v":12},{"$f":"COUNTIF(L15:L22,Y8)","v":6},null,null,null,{"$f":"N8","v":12},{"$f":"COUNTIF(L23:L29,AD8)","v":7},null,null,null,{"$f":"N8","v":12},{"$f":"COUNTIF(L30:L37,AI8)","v":5},null,null,null,{"$f":"N8","v":12},{"$f":"COUNTIF(L38:L45,AN8)","v":7},null,null,null,{"$f":"N8","v":12},{"$f":"COUNTIF(L46:L53,AS8)","v":8}]
[11,195,21,202,null,null,null,null,null,null,0,12,null,21,{"$f":"COUNTIF($L$7:$L$500,N9)","v":3},{"$f":"O9/$Q$4","v":6.3829787234042548E-2},{"$f":"IF(P9=0,0,(P9*((LOG(P9))/LOG(2))))","v":-0.2533804053802009},null,null,{"$f":"N9","v":21},{"$f":"COUNTIF(L7:L14,T9)","v":1},{"$f":"U9/(W4-U8)","v":1},{"$f":"IF(V9=0,0,(V9*((LOG(V9))/LOG(2))))","v":0},null,{"$f":"N9","v":21},{"$f":"COUNTIF(L15:L22,Y9)","v":2},{"$f":"Z9/(AB4-Z8)","v":1},{"$f":"IF(AA9=0,0,(AA9*((LOG(AA9))/LOG(2))))","v":0},null,{"$f":"N9","v":21},{"$f":"COUNTIF(L23:L29,AD9)","v":0},{"$f":"AE9/(AG4-AE8)","v":{"$error":"#DIV/0!"}},{"$f":"IF(AF9=0,0,(AF9*((LOG(AF9))/LOG(2))))","v":{"$error":"#DIV/0!"}},null,{"$f":"N9","v":21},{"$f":"COUNTIF(L30:L37,AI9)","v":0},{"$f":"AJ9/(AL4-AJ8)","v":0},{"$f":"IF(AK9=0,0,(AK9*((LOG(AK9))/LOG(2))))","v":0},null,{"$f":"N9","v":21},{"$f":"COUNTIF(L38:L45,AN9)","v":0},{"$f":"AO9/(AQ4-AO8)","v":0},{"$f":"IF(AP9=0,0,(AP9*((LOG(AP9))/LOG(2))))","v":0},null,{"$f":"N9","v":21},{"$f":"COUNTIF(L46:L53,AS9)","v":0},{"$f":"AT9/(AV4-AT8)","v":{"$error":"#DIV/0!"}},{"$f":"IF(AU9=0,0,(AU9*((LOG(AU9))/LOG(2))))","v":{"$error":"#DIV/0!"}}]
[11,288,21,295,null,null,null,null,null,null,0,12,null,22,{"$f":"COUNTIF($L$7:$L$500,N10)","v":1},{"$f":"O10/$Q$4","v":2.1276595744680851E-2},{"$f":"IF(P10=0,0,(P10*((LOG(P10))/LOG(2))))","v":-0.11818274152505612},null,null,{"$f":"N10","v":22},{"$f":"COUNTIF(L7:L14,T10)","v":0},{"$f":"U10/(W4-U8)","v":0},{"$f":"IF(V10=0,0,(V10*((LOG(V10))/LOG(2))))","v":0},null,{"$f":"N10","v":22},{"$f":"COUNTIF(L15:L22,Y10)","v":0},{"$f":"Z10/(AB4-Z8)","v":0},{"$f":"IF(AA10=0,0,(AA10*((LOG(AA10))/LOG(2))))","v":0},null,{"$f":"N10","v":22},{"$f":"COUNTIF(L23:L29,AD10)","v":0},{"$f":"AE10/(AG4-AE8)","v":{"$error":"#DIV/0!"}},{"$f":"IF(AF10=0,0,(AF10*((LOG(AF10))/LOG(2))))","v":{"$error":"#DIV/0!"}},null,{"$f":"N10","v":22},{"$f":"COUNTIF(L30:L37,AI10)","v":0},{"$f":"AJ10/(AL4-AJ8)","v":0},{"$f":"IF(AK10=0,0,(AK10*((LOG(AK10))/LOG(2))))","v":0},null,{"$f":"N10","v":22},{"$f":"COUNTIF(L38:L45,AN10)","v":1},{"$f":"AO10/(AQ4-AO8)","v":1},{"$f":"IF(AP10=0,0,(AP10*((LOG(AP10))/LOG(2))))","v":0},null,{"$f":"N10","v":22},{"$f":"COUNTIF(L46:L53,AS10)","v":0},{"$f":"AT10/(AV4-AT8)","v":{"$error":"#DIV/0!"}},{"$f":"IF(AU10=0,0,(AU10*((LOG(AU10))/LOG(2))))","v":{"$error":"#DIV/0!"}}]
[11,382,21,387,null,null,null,null,null,null,0,12,null,null,null,null,null,null,null,{"$f":"N11","v":0},{"$f":"COUNTIF(L7:L14,T11)","v":0},{"$f":"U11/(W4-U8)","v":0},{"$f":"IF(V11=0,0,(V11*((LOG(V11))/LOG(2))))","v":0},null,{"$f":"N11","v":0},{"$f":"COUNTIF(L15:L22,Y11)","v":0},{"$f":"Z11/(AB4-Z8)","v":0},{"$f":"IF(AA11=0,0,(AA11*((LOG(AA11))/LOG(2))))","v":0},null,{"$f":"N11","v":0},{"$f":"COUNTIF(L23:L29,AD11)","v":0},{"$f":"AE11/(AG4-AE8)","v":{"$error":"#DIV/0!"}},{"$f":"IF(AF11=0,0,(AF11*((LOG(AF11))/LOG(2))))","v":{"$error":"#DIV/0!"}},null,{"$f":"N11","v":0},{"$f":"COUNTIF(L30:L37,AI11)","v":0},{"$f":"AJ11/(AL4-AJ8)","v":0},{"$f":"IF(AK11=0,0,(AK11*((LOG(AK11))/LOG(2))))","v":0},null,{"$f":"N11","v":0},{"$f":"COUNTIF(L38:L45,AN11)","v":0},{"$f":"AO11/(AQ4-AO8)","v":0},{"$f":"IF(AP11=0,0,(AP11*((LOG(AP11))/LOG(2))))","v":0},null,{"$f":"N11","v":0},{"$f":"COUNTIF(L46:L53,AS11)","v":0},{"$f":"AT11/(AV4-AT8)","v":{"$error":"#DIV/0!"}},{"$f":"IF(AU11=0,0,(AU11*((LOG(AU11))/LOG(2))))","v":{"$error":"#DIV/0!"}}]
[11,475,21,482,null,null,null,null,null,null,0,12,null,null,null,null,null,null,null,{"$f":"N12","v":0},{"$f":"COUNTIF(L7:L14,T12)","v":0},{"$f":"U12/(W4-U8)","v":0},{"$f":"IF(V12=0,0,(V12*((LOG(V12))/LOG(2))))","v":0},null,{"$f":"N12","v":0},{"$f":"COUNTIF(L15:L22,Y12)","v":0},{"$f":"Z12/(AB4-Z8)","v":0},{"$f":"IF(AA12=0,0,(AA12*((LOG(AA12))/LOG(2))))","v":0},null,{"$f":"N12","v":0},{"$f":"COUNTIF(L23:L29,AD12)","v":0},{"$f":"AE12/(AG4-AE8)","v":{"$error":"#DIV/0!"}},{"$f":"IF(AF12=0,0,(AF12*((LOG(AF12))/LOG(2))))","v":{"$error":"#DIV/0!"}},null,{"$f":"N12","v":0},{"$f":"COUNTIF(L30:L37,AI12)","v":0},{"$f":"AJ12/(AL4-AJ8)","v":0},{"$f":"IF(AK12=0,0,(AK12*((LOG(AK12))/LOG(2))))","v":0},null,{"$f":"N12","v":0},{"$f":"COUNTIF(L38:L45,AN12)","v":0},{"$f":"AO12/(AQ4-AO8)","v":0},{"$f":"IF(AP12=0,0,(AP12*((LOG(AP12))/LOG(2))))","v":0},null,{"$f":"N12","v":0},{"$f":"COUNTIF(L46:L53,AS12)","v":0},{"$f":"AT12/(AV4-AT8)","v":{"$error":"#DIV/0!"}},{"$f":"IF(AU12=0,0,(AU12*((LOG(AU12))/LOG(2))))","v":{"$error":"#DIV/0!"}}]
[22,580,14,619,null,null,null,null,null,null,0,21,null,null,null,null,null,null,null,{"$f":"N13","v":0},{"$f":"COUNTIF(L7:L14,T13)","v":0},{"$f":"U13/(W4-U8)","v":0},{"$f":"IF(V13=0,0,(V13*((LOG(V13))/LOG(2))))","v":0},null,{"$f":"N13","v":0},{"$f":"COUNTIF(L15:L22,Y13)","v":0},{"$f":"Z13/(AB4-Z8)","v":0},{"$f":"IF(AA13=0,0,(AA13*((LOG(AA13))/LOG(2))))","v":0},null,{"$f":"N13","v":0},{"$f":"COUNTIF(L23:L29,AD13)","v":0},{"$f":"AE13/(AG4-AE8)","v":{"$error":"#DIV/0!"}},{"$f":"IF(AF13=0,0,(AF13*((LOG(AF13))/LOG(2))))","v":{"$error":"#DIV/0!"}},null,{"$f":"N13","v":0},{"$f":"COUNTIF(L30:L37,AI13)","v":0},{"$f":"AJ13/(AL4-AJ8)","v":0},{"$f":"IF(AK13=0,0,(AK13*((LOG(AK13))/LOG(2))))","v":0},null,{"$f":"N13","v":0},{"$f":"COUNTIF(L38:L45,AN13)","v":0},{"$f":"AO13/(AQ4-AO8)","v":0},{"$f":"IF(AP13=0,0,(AP13*((LOG(AP13))/LOG(2))))","v":0},null,{"$f":"N13","v":0},{"$f":"COUNTIF(L46:L53,AS13)","v":0},{"$f":"AT13/(AV4-AT8)","v":{"$error":"#DIV/0!"}},{"$f":"IF(AU13=0,0,(AU13*((LOG(AU13))/LOG(2))))","v":{"$error":"#DIV/0!"}}]
[11,721,21,728,null,null,null,null,null,null,0,12,null,null,null,null,null,null,null,{"$f":"N14","v":0},{"$f":"COUNTIF(L7:L14,T14)","v":0},{"$f":"U14/(W4-U8)","v":0},{"$f":"IF(V14=0,0,(V14*((LOG(V14))/LOG(2))))","v":0},null,{"$f":"N14","v":0},{"$f":"COUNTIF(L15:L22,Y14)","v":0},{"$f":"Z14/(AB4-Z8)","v":0},{"$f":"IF(AA14=0,0,(AA14*((LOG(AA14))/LOG(2))))","v":0},null,{"$f":"N14","v":0},{"$f":"COUNTIF(L23:L29,AD14)","v":0},{"$f":"AE14/(AG4-AE8)","v":{"$error":"#DIV/0!"}},{"$f":"IF(AF14=0,0,(AF14*((LOG(AF14))/LOG(2))))","v":{"$error":"#DIV/0!"}},null,{"$f":"N14","v":0},{"$f":"COUNTIF(L30:L37,AI14)","v":0},{"$f":"AJ14/(AL4-AJ8)","v":0},{"$f":"IF(AK14=0,0,(AK14*((LOG(AK14))/LOG(2))))","v":0},null,{"$f":"N14","v":0},{"$f":"COUNTIF(L38:L45,AN14)","v":0},{"$f":"AO14/(AQ4-AO8)","v":0},{"$f":"IF(AP14=0,0,(AP14*((LOG(AP14))/LOG(2))))","v":0},null,{"$f":"N14","v":0},{"$f":"COUNTIF(L46:L53,AS14)","v":0},{"$f":"AT14/(AV4-AT8)","v":{"$error":"#DIV/0!"}},{"$f":"IF(AU14=0,0,(AU14*((LOG(AU14))/LOG(2))))","v":{"$error":"#DIV/0!"}}]
[22,825,14,874,null,null,null,null,null,null,0,21,null,null,null,{"$f":"SUM(P7:P14)","v":1},{"$f":"-SUM(Q7:Q14)","v":0.82295270700058565},null,null,null,null,{"$f":"SUM(V7:V14)","v":1},{"$f":"-SUM(W7:W14)","v":0},null,null,null,{"$f":"SUM(AA7:AA14)","v":1},{"$f":"-SUM(AB7:AB14)","v":0},null,null,null,{"$f":"SUM(AF7:AF14)","v":{"$error":"#DIV/0!"}},{"$f":"-SUM(AG7:AG14)","v":{"$error":"#DIV/0!"}},null,null,null,{"$f":"SUM(AK7:AK14)","v":1},{"$f":"-SUM(AL7:AL14)","v":0},null,null,null,{"$f":"SUM(AP7:AP14)","v":1},{"$f":"-SUM(AQ7:AQ14)","v":0},null,null,null,{"$f":"SUM(AU7:AU14)","v":{"$error":"#DIV/0!"}},{"$f":"-SUM(AV7:AV14)","v":{"$error":"#DIV/0!"}}]
[11,971,21,980,null,null,null,null,null,null,0,12,null,null,null,"U=",{"$f":"Q15/(LOG(Q4)/LOG(2))","v":0.14815726761703191},null,null,null,null,"U1=",{"$f":"W15/(LOG(W4)/LOG(2))","v":0},null,null,null,"U2=",{"$f":"AB15/(LOG(AB4)/LOG(2))","v":0},null,null,null,"U3=",{"$f":"AG15/(LOG(AG4)/LOG(2))","v":{"$error":"#DIV/0!"}},null,null,null,"U4=",{"$f":"AL15/(LOG(AL4)/LOG(2))","v":0},null,null,null,"U5=",{"$f":"AQ15/(LOG(AQ4)/LOG(2))","v":0},null,null,null,"U6=",{"$f":"AV15/(LOG(AV4)/LOG(2))","v":{"$error":"#DIV/0!"}}]
[11,1067,21,1075,null,null,null,null,null,null,0,12]
[11,1161,21,1169,null,null,null,null,null,null,0,12]
[11,1264,21,1272,null,null,null,null,null,null,0,12,null,"Total Target Seq"]
[22,1371,14,1380,null,null,null,null,null,null,0,21,null,{"$f":"COUNTIF(L7:L53,G3)","v":40},null,8,8,7,8,8,8]
[11,1486,21,1493,null,null,null,null,null,null,0,12,null,null,null,"% of reinforcement given in 6 equal intervals based on number of trials "]
[11,1587,21,1595,null,null,null,null,null,null,0,12,null,null,null,"%_1","%_2","%_3","%_4","%_5","%_6"]
[11,1683,21,1690,null,null,null,null,null,null,0,12,null,null,"target sequence",{"$f":"$G$3","v":12},{"$f":"$G$3","v":12},{"$f":"$G$3","v":12},{"$f":"$G$3","v":12},{"$f":"$G$3","v":12},{"$f":"$G$3","v":12}]
[11,1776,21,1783,null,null,null,null,null,null,0,12,null,null,"total reinforcement",{"$f":"U8","v":7},{"$f":"Z8","v":6},{"$f":"AE8","v":7},{"$f":"AJ8","v":5},{"$f":"AO8","v":7},{"$f":"AT8","v":8}]
[11,1872,21,1879,null,null,null,null,null,null,0,12,null,null,"% target"]
[11,1968,21,1975,null,null,null,null,null,null,0,12,null,null,"CCRF"]
[11,2062,21,2067,null,null,null,null,null,null,0,12,null,null,"% CCRf"]
[11,2156,21,2164,null,null,null,null,null,null,0,12,null,null,"average response rate",{"$f":"D14/P20","v":91},{"$f":"(D22-D14)/Q20","v":108.375},{"$f":"(D29-D22)/R20","v":95.142857142857139},{"$f":"(D37-D29)/S20","v":106.375},{"$f":"(D45-D37)/T20","v":109.5},{"$f":"(D53-D45)/U20","v":94.375}]
[11,2253,21,2261,null,null,null,null,null,null,0,12]
[11,2349,21,2357,null,null,null,null,null,null,0,12]
[11,2450,21,2458,null,null,null,null,null,null,0,12]
[11,2545,21,2553,null,null,null,null,null,null,0,12]
[11,2640,21,2648,null,null,null,null,null,null,0,12]
[11,2734,21,2742,null,null,null,null,null,null,0,12]
[11,2841,12,2868,null,null,null,null,null,null,0,11]
[11,2970,12,2984,null,null,null,null,null,null,0,11]
[11,3091,12,3112,null,null,null,null,null,null,0,11]
[11,3208,21,3223,null,null,null,null,null,null,0,12]
[11,3315,21,3324,null,null,null,null,null,null,0,12]
[11,3414,21,3422,null,null,null,null,null,null,0,12]
[11,3510,21,3518,null,null,null,null,null,null,0,12]
[11,3605,21,3613,null,null,null,null,null,null,0,12]
[11,3699,21,3705,null,null,null,null,null,null,0,12]
[22,3805,23,3866,null,null,null,null,null,null,0,22]
[11,3980,21,3988,null,null,null,null,null,null,0,12]
[11,4075,21,4083,null,null,null,null,null,null,0,12]
[11,4169,21,4174,null,null,null,null,null,null,0,12]
[11,4261,21,4266,null,null,null,null,null,null,0,12]
[11,4354,21,4363,null,null,null,null,null,null,0,12]
[11,4451,21,4458,null,null,null,null,null,null,0,12]
[11,4546,21,4554,null,null,null,null,null,null,0,12]
[11,4642,21,4649,null,null,null,null,null,null,0,12]
[11,4737,21,4743,null,null,null,null,null,null,1,12]

{"sheet":"!L820920.052","index":16,"n_rows":50,"n_cols":48,"rows_kept":50,"cut":false,"hidden":false,"merged":[[4,39,4,42],[5,39,5,40],[4,44,4,47],[5,44,5,45],[4,24,4,27],[5,24,5,25],[4,29,4,32],[5,29,5,30],[4,34,4,37],[5,34,5,35],[1,1,1,2],[5,13,5,14],[18,13,18,14],[19,13,19,14],[4,19,4,22],[5,19,5,20]]}
["Report for:!L820920.052"]
["Date:","<date>"]
["Hen:","<hen>",null,null,null,"Correct Sequence",{"$f":"Start!J2","v":12},null,null,null,null,null,null,null,null,"Total Sequences in Data",{"$f":"4994-COUNTBLANK(L7:L5000)","v":44},null,null,null,null,"Total Sequences in Block Data",{"$f":"COUNTA(L7:L13)","v":7},null,null,null,"Total Sequences in Block Data",{"$f":"COUNTA(L14:L21)","v":8},null,null,null,"Total Sequences in Block Data",{"$f":"COUNTA(L22:L28)","v":7},null,null,null,"Total Sequences in Block Data",{"$f":"COUNTA(L29:L35)","v":7},null,null,null,"Total Sequences in Block Data",{"$f":"COUNTA(L36:L43)","v":8},null,null,null,"Total Sequences in Block Data",{"$f":"COUNTA(L44:L50)","v":7}]
[null,null,null,null,null,null,null,null,null,null,null,null,null,null,null,"Total Sequences in Summary",{"$f":"SUM(O7:O14)","v":44},null,null,null,null,"Total Sequences in Block Summary",{"$f":"SUM(U7:U14)","v":7},null,null,null,"Total Sequences in Block Summary",{"$f":"SUM(Z7:Z14)","v":8},null,null,null,"Total Sequences in Block Summary",{"$f":"SUM(AE7:AE14)","v":7},null,null,null,"Total Sequences in Block Summary",{"$f":"SUM(AJ7:AJ14)","v":7},null,null,null,"Total Sequences in Block Summary",{"$f":"SUM(AO7:AO14)","v":8},null,null,null,"Total Sequences in Block Summary",{"$f":"SUM(AT7:AT14)","v":7}]
[null,null,null,null,null,null,null,null,null,null,null,null,null,null,null,null,null,null,null,"Block 1",null,null,null,null,"Block 2",null,null,null,null,"Block 3",null,null,null,null,"Block 4",null,null,null,null,"Block 5",null,null,null,null,"Block 6"]
["Sequence\nComponent\n1","Time\n1","Sequence\nComponent\n2","Time\n2","Sequence\nComponent\n3","Time\n3","Sequence\nComponent\n4","Time\n4","Sequence\nComponent\n5","Time\n5","Correct?\n0=No 1=Yes","Sequence",null,"Frequency",null,"Relative Frequency","Variability",null,null,"Frequency",null,"Relative Frequency","Variability",null,"Frequency",null,"Relative Frequency","Variability",null,"Frequency",null,"Relative Frequency","Variability",null,"Frequency",null,"Relative Frequency","Variability",null,"Frequency",null,"Relative Frequency","Variability",null,"Frequency",null,"Relative Frequency","Variability"]
[11,9,21,16,null,null,null,null,null,null,0,12,null,11,{"$f":"COUNTIF($L$7:$L$500,N7)","v":1},{"$f":"O7/$Q$4","v":2.2727272727272728E-2},{"$f":"IF(P7=0,0,(P7*((LOG(P7))/LOG(2))))","v":-0.12407799133266585},null,null,{"$f":"N7","v":11},{"$f":"COUNTIF(L7:L13,T7)","v":0},{"$f":"U7/(W4-U8)","v":{"$error":"#DIV/0!"}},{"$f":"IF(V7=0,0,(V7*((LOG(V7))/LOG(2))))","v":{"$error":"#DIV/0!"}},null,{"$f":"N7","v":11},{"$f":"COUNTIF(L14:L21,Y7)","v":0},{"$f":"Z7/(AB4-Z8)","v":0},{"$f":"IF(AA7=0,0,(AA7*((LOG(AA7))/LOG(2))))","v":0},null,{"$f":"N7","v":11},{"$f":"COUNTIF(L22:L28,AD7)","v":0},{"$f":"AE7/(AG4-AE8)","v":0},{"$f":"IF(AF7=0,0,(AF7*((LOG(AF7))/LOG(2))))","v":0},null,{"$f":"N7","v":11},{"$f":"COUNTIF(L29:L35,AI7)","v":0},{"$f":"AJ7/(AL4-AJ8)","v":{"$error":"#DIV/0!"}},{"$f":"IF(AK7=0,0,(AK7*((LOG(AK7))/LOG(2))))","v":{"$error":"#DIV/0!"}},null,{"$f":"N7","v":11},{"$f":"COUNTIF(L36:L43,AN7)","v":1},{"$f":"AO7/(AQ4-AO8)","v":1},{"$f":"IF(AP7=0,0,(AP7*((LOG(AP7))/LOG(2))))","v":0},null,{"$f":"N7","v":11},{"$f":"COUNTIF(L44:L50,AS7)","v":0},{"$f":"AT7/(AV4-AT8)","v":{"$error":"#DIV/0!"}},{"$f":"IF(AU7=0,0,(AU7*((LOG(AU7))/LOG(2))))","v":{"$error":"#DIV/0!"}}]
[11,108,21,115,null,null,null,null,null,null,0,12,null,12,{"$f":"COUNTIF($L$7:$L$500,N8)","v":40},{"$f":"O8/$Q$4","v":0.90909090909090906},{"$f":"IF(P8=0,0,(P8*((LOG(P8))/LOG(2))))","v":-0.12500320340903179},null,null,{"$f":"N8","v":12},{"$f":"COUNTIF(L7:L13,T8)","v":7},null,null,null,{"$f":"N8","v":12},{"$f":"COUNTIF(L14:L21,Y8)","v":6},null,null,null,{"$f":"N8","v":12},{"$f":"COUNTIF(L22:L28,AD8)","v":6},null,null,null,{"$f":"N8","v":12},{"$f":"COUNTIF(L29:L35,AI8)","v":7},null,null,null,{"$f":"N8","v":12},{"$f":"COUNTIF(L36:L43,AN8)","v":7},null,null,null,{"$f":"N8","v":12},{"$f":"COUNTIF(L44:L50,AS8)","v":7}]
[11,200,21,207,null,null,null,null,null,null,0,12,null,21,{"$f":"COUNTIF($L$7:$L$500,N9)","v":1},{"$f":"O9/$Q$4","v":2.2727272727272728E-2},{"$f":"IF(P9=0,0,(P9*((LOG(P9))/LOG(2))))","v":-0.12407799133266585},null,null,{"$f":"N9","v":21},{"$f":"COUNTIF(L7:L13,T9)","v":0},{"$f":"U9/(W4-U8)","v":{"$error":"#DIV/0!"}},{"$f":"IF(V9=0,0,(V9*((LOG(V9))/LOG(2))))","v":{"$error":"#DIV/0!"}},null,{"$f":"N9","v":21},{"$f":"COUNTIF(L14:L21,Y9)","v":1},{"$f":"Z9/(AB4-Z8)","v":0.5},{"$f":"IF(AA9=0,0,(AA9*((LOG(AA9))/LOG(2))))","v":-0.5},null,{"$f":"N9","v":21},{"$f":"COUNTIF(L22:L28,AD9)","v":0},{"$f":"AE9/(AG4-AE8)","v":0},{"$f":"IF(AF9=0,0,(AF9*((LOG(AF9))/LOG(2))))","v":0},null,{"$f":"N9","v":21},{"$f":"COUNTIF(L29:L35,AI9)","v":0},{"$f":"AJ9/(AL4-AJ8)","v":{"$error":"#DIV/0!"}},{"$f":"IF(AK9=0,0,(AK9*((LOG(AK9))/LOG(2))))","v":{"$error":"#DIV/0!"}},null,{"$f":"N9","v":21},{"$f":"COUNTIF(L36:L43,AN9)","v":0},{"$f":"AO9/(AQ4-AO8)","v":0},{"$f":"IF(AP9=0,0,(AP9*((LOG(AP9))/LOG(2))))","v":0},null,{"$f":"N9","v":21},{"$f":"COUNTIF(L44:L50,AS9)","v":0},{"$f":"AT9/(AV4-AT8)","v":{"$error":"#DIV/0!"}},{"$f":"IF(AU9=0,0,(AU9*((LOG(AU9))/LOG(2))))","v":{"$error":"#DIV/0!"}}]
[11,296,21,307,null,null,null,null,null,null,0,12,null,22,{"$f":"COUNTIF($L$7:$L$500,N10)","v":2},{"$f":"O10/$Q$4","v":4.5454545454545456E-2},{"$f":"IF(P10=0,0,(P10*((LOG(P10))/LOG(2))))","v":-0.20270143721078623},null,null,{"$f":"N10","v":22},{"$f":"COUNTIF(L7:L13,T10)","v":0},{"$f":"U10/(W4-U8)","v":{"$error":"#DIV/0!"}},{"$f":"IF(V10=0,0,(V10*((LOG(V10))/LOG(2))))","v":{"$error":"#DIV/0!"}},null,{"$f":"N10","v":22},{"$f":"COUNTIF(L14:L21,Y10)","v":1},{"$f":"Z10/(AB4-Z8)","v":0.5},{"$f":"IF(AA10=0,0,(AA10*((LOG(AA10))/LOG(2))))","v":-0.5},null,{"$f":"N10","v":22},{"$f":"COUNTIF(L22:L28,AD10)","v":1},{"$f":"AE10/(AG4-AE8)","v":1},{"$f":"IF(AF10=0,0,(AF10*((LOG(AF10))/LOG(2))))","v":0},null,{"$f":"N10","v":22},{"$f":"COUNTIF(L29:L35,AI10)","v":0},{"$f":"AJ10/(AL4-AJ8)","v":{"$error":"#DIV/0!"}},{"$f":"IF(AK10=0,0,(AK10*((LOG(AK10))/LOG(2))))","v":{"$error":"#DIV/0!"}},null,{"$f":"N10","v":22},{"$f":"COUNTIF(L36:L43,AN10)","v":0},{"$f":"AO10/(AQ4-AO8)","v":0},{"$f":"IF(AP10=0,0,(AP10*((LOG(AP10))/LOG(2))))","v":0},null,{"$f":"N10","v":22},{"$f":"COUNTIF(L44:L50,AS10)","v":0},{"$f":"AT10/(AV4-AT8)","v":{"$error":"#DIV/0!"}},{"$f":"IF(AU10=0,0,(AU10*((LOG(AU10))/LOG(2))))","v":{"$error":"#DIV/0!"}}]
[11,392,21,397,null,null,null,null,null,null,0,12,null,null,null,null,null,null,null,{"$f":"N11","v":0},{"$f":"COUNTIF(L7:L13,T11)","v":0},{"$f":"U11/(W4-U8)","v":{"$error":"#DIV/0!"}},{"$f":"IF(V11=0,0,(V11*((LOG(V11))/LOG(2))))","v":{"$error":"#DIV/0!"}},null,{"$f":"N11","v":0},{"$f":"COUNTIF(L14:L21,Y11)","v":0},{"$f":"Z11/(AB4-Z8)","v":0},{"$f":"IF(AA11=0,0,(AA11*((LOG(AA11))/LOG(2))))","v":0},null,{"$f":"N11","v":0},{"$f":"COUNTIF(L22:L28,AD11)","v":0},{"$f":"AE11/(AG4-AE8)","v":0},{"$f":"IF(AF11=0,0,(AF11*((LOG(AF11))/LOG(2))))","v":0},null,{"$f":"N11","v":0},{"$f":"COUNTIF(L29:L35,AI11)","v":0},{"$f":"AJ11/(AL4-AJ8)","v":{"$error":"#DIV/0!"}},{"$f":"IF(AK11=0,0,(AK11*((LOG(AK11))/LOG(2))))","v":{"$error":"#DIV/0!"}},null,{"$f":"N11","v":0},{"$f":"COUNTIF(L36:L43,AN11)","v":0},{"$f":"AO11/(AQ4-AO8)","v":0},{"$f":"IF(AP11=0,0,(AP11*((LOG(AP11))/LOG(2))))","v":0},null,{"$f":"N11","v":0},{"$f":"COUNTIF(L44:L50,AS11)","v":0},{"$f":"AT11/(AV4-AT8)","v":{"$error":"#DIV/0!"}},{"$f":"IF(AU11=0,0,(AU11*((LOG(AU11))/LOG(2))))","v":{"$error":"#DIV/0!"}}]
[11,482,21,489,null,null,null,null,null,null,0,12,null,null,null,null,null,null,null,{"$f":"N12","v":0},{"$f":"COUNTIF(L7:L13,T12)","v":0},{"$f":"U12/(W4-U8)","v":{"$error":"#DIV/0!"}},{"$f":"IF(V12=0,0,(V12*((LOG(V12))/LOG(2))))","v":{"$error":"#DIV/0!"}},null,{"$f":"N12","v":0},{"$f":"COUNTIF(L14:L21,Y12)","v":0},{"$f":"Z12/(AB4-Z8)","v":0},{"$f":"IF(AA12=0,0,(AA12*((LOG(AA12))/LOG(2))))","v":0},null,{"$f":"N12","v":0},{"$f":"COUNTIF(L22:L28,AD12)","v":0},{"$f":"AE12/(AG4-AE8)","v":0},{"$f":"IF(AF12=0,0,(AF12*((LOG(AF12))/LOG(2))))","v":0},null,{"$f":"N12","v":0},{"$f":"COUNTIF(L29:L35,AI12)","v":0},{"$f":"AJ12/(AL4-AJ8)","v":{"$error":"#DIV/0!"}},{"$f":"IF(AK12=0,0,(AK12*((LOG(AK12))/LOG(2))))","v":{"$error":"#DIV/0!"}},null,{"$f":"N12","v":0},{"$f":"COUNTIF(L36:L43,AN12)","v":0},{"$f":"AO12/(AQ4-AO8)","v":0},{"$f":"IF(AP12=0,0,(AP12*((LOG(AP12))/LOG(2))))","v":0},null,{"$f":"N12","v":0},{"$f":"COUNTIF(L44:L50,AS12)","v":0},{"$f":"AT12/(AV4-AT8)","v":{"$error":"#DIV/0!"}},{"$f":"IF(AU12=0,0,(AU12*((LOG(AU12))/LOG(2))))","v":{"$error":"#DIV/0!"}}]
[11,580,21,585,null,null,null,null,null,null,0,12,null,null,null,null,null,null,null,{"$f":"N13","v":0},{"$f":"COUNTIF(L7:L13,T13)","v":0},{"$f":"U13/(W4-U8)","v":{"$error":"#DIV/0!"}},{"$f":"IF(V13=0,0,(V13*((LOG(V13))/LOG(2))))","v":{"$error":"#DIV/0!"}},null,{"$f":"N13","v":0},{"$f":"COUNTIF(L14:L21,Y13)","v":0},{"$f":"Z13/(AB4-Z8)","v":0},{"$f":"IF(AA13=0,0,(AA13*((LOG(AA13))/LOG(2))))","v":0},null,{"$f":"N13","v":0},{"$f":"COUNTIF(L22:L28,AD13)","v":0},{"$f":"AE13/(AG4-AE8)","v":0},{"$f":"IF(AF13=0,0,(AF13*((LOG(AF13))/LOG(2))))","v":0},null,{"$f":"N13","v":0},{"$f":"COUNTIF(L29:L35,AI13)","v":0},{"$f":"AJ13/(AL4-AJ8)","v":{"$error":"#DIV/0!"}},{"$f":"IF(AK13=0,0,(AK13*((LOG(AK13))/LOG(2))))","v":{"$error":"#DIV/0!"}},null,{"$f":"N13","v":0},{"$f":"COUNTIF(L36:L43,AN13)","v":0},{"$f":"AO13/(AQ4-AO8)","v":0},{"$f":"IF(AP13=0,0,(AP13*((LOG(AP13))/LOG(2))))","v":0},null,{"$f":"N13","v":0},{"$f":"COUNTIF(L44:L50,AS13)","v":0},{"$f":"AT13/(AV4-AT8)","v":{"$error":"#DIV/0!"}},{"$f":"IF(AU13=0,0,(AU13*((LOG(AU13))/LOG(2))))","v":{"$error":"#DIV/0!"}}]
[11,670,21,677,null,null,null,null,null,null,0,12,null,null,null,null,null,null,null,{"$f":"N14","v":0},{"$f":"COUNTIF(L7:L13,T14)","v":0},{"$f":"U14/(W4-U8)","v":{"$error":"#DIV/0!"}},{"$f":"IF(V14=0,0,(V14*((LOG(V14))/LOG(2))))","v":{"$error":"#DIV/0!"}},null,{"$f":"N14","v":0},{"$f":"COUNTIF(L14:L21,Y14)","v":0},{"$f":"Z14/(AB4-Z8)","v":0},{"$f":"IF(AA14=0,0,(AA14*((LOG(AA14))/LOG(2))))","v":0},null,{"$f":"N14","v":0},{"$f":"COUNTIF(L22:L28,AD14)","v":0},{"$f":"AE14/(AG4-AE8)","v":0},{"$f":"IF(AF14=0,0,(AF14*((LOG(AF14))/LOG(2))))","v":0},null,{"$f":"N14","v":0},{"$f":"COUNTIF(L29:L35,AI14)","v":0},{"$f":"AJ14/(AL4-AJ8)","v":{"$error":"#DIV/0!"}},{"$f":"IF(AK14=0,0,(AK14*((LOG(AK14))/LOG(2))))","v":{"$error":"#DIV/0!"}},null,{"$f":"N14","v":0},{"$f":"COUNTIF(L36:L43,AN14)","v":0},{"$f":"AO14/(AQ4-AO8)","v":0},{"$f":"IF(AP14=0,0,(AP14*((LOG(AP14))/LOG(2))))","v":0},null,{"$f":"N14","v":0},{"$f":"COUNTIF(L44:L50,AS14)","v":0},{"$f":"AT14/(AV4-AT8)","v":{"$error":"#DIV/0!"}},{"$f":"IF(AU14=0,0,(AU14*((LOG(AU14))/LOG(2))))","v":{"$error":"#DIV/0!"}}]
[11,764,21,771,null,null,null,null,null,null,0,12,null,null,null,{"$f":"SUM(P7:P14)","v":0.99999999999999989},{"$f":"-SUM(Q7:Q14)","v":0.57586062328514975},null,null,null,null,{"$f":"SUM(V7:V14)","v":{"$error":"#DIV/0!"}},{"$f":"-SUM(W7:W14)","v":{"$error":"#DIV/0!"}},null,null,null,{"$f":"SUM(AA7:AA14)","v":1},{"$f":"-SUM(AB7:AB14)","v":1},null,null,null,{"$f":"SUM(AF7:AF14)","v":1},{"$f":"-SUM(AG7:AG14)","v":0},null,null,null,{"$f":"SUM(AK7:AK14)","v":{"$error":"#DIV/0!"}},{"$f":"-SUM(AL7:AL14)","v":{"$error":"#DIV/0!"}},null,null,null,{"$f":"SUM(AP7:AP14)","v":1},{"$f":"-SUM(AQ7:AQ14)","v":0},null,null,null,{"$f":"SUM(AU7:AU14)","v":{"$error":"#DIV/0!"}},{"$f":"-SUM(AV7:AV14)","v":{"$error":"#DIV/0!"}}]
[22,866,14,886,null,null,null,null,null,null,0,21,null,null,null,"U=",{"$f":"Q15/(LOG(Q4)/LOG(2))","v":0.10547995899779904},null,null,null,null,"U1=",{"$f":"W15/(LOG(W4)/LOG(2))","v":{"$error":"#DIV/0!"}},null,null,null,"U2=",{"$f":"AB15/(LOG(AB4)/LOG(2))","v":0.33333333333333331},null,null,null,"U3=",{"$f":"AG15/(LOG(AG4)/LOG(2))","v":0},null,null,null,"U4=",{"$f":"AL15/(LOG(AL4)/LOG(2))","v":{"$error":"#DIV/0!"}},null,null,null,"U5=",{"$f":"AQ15/(LOG(AQ4)/LOG(2))","v":0},null,null,null,"U6=",{"$f":"AV15/(LOG(AV4)/LOG(2))","v":{"$error":"#DIV/0!"}}]
[11,984,21,989,null,null,null,null,null,null,0,12]
[22,1085,23,1151,null,null,null,null,null,null,0,22]
[11,1250,21,1257,null,null,null,null,null,null,0,12,null,"Total Target Seq"]
[11,1343,21,1350,null,null,null,null,null,null,0,12,null,{"$f":"COUNTIF(L7:L50,G3)","v":40},null,7,8,7,7,8,7]
[11,1437,21,1444,null,null,null,null,null,null,0,12,null,null,null,"% of reinforcement given in 6 equal intervals based on number of trials "]
[11,1532,21,1539,null,null,null,null,null,null,0,12,null,null,null,"%_1","%_2","%_3","%_4","%_5","%_6"]
[11,1622,21,1629,null,null,null,null,null,null,0,12,null,null,"target sequence",{"$f":"$G$3","v":12},{"$f":"$G$3","v":12},{"$f":"$G$3","v":12},{"$f":"$G$3","v":12},{"$f":"$G$3","v":12},{"$f":"$G$3","v":12}]
[11,1720,21,1726,null,null,null,null,null,null,0,12,null,null,"total reinforcement",{"$f":"U8","v":7},{"$f":"Z8","v":6},{"$f":"AE8","v":6},{"$f":"AJ8","v":7},{"$f":"AO8","v":7},{"$f":"AT8","v":7}]
[11,1812,21,1819,null,null,null,null,null,null,0,12,null,null,"% target"]
[11,1905,21,1910,null,null,null,null,null,null,0,12,null,null,"CCRF"]
[22,2018,23,2037,null,null,null,null,null,null,0,22,null,null,"% CCRf"]
[11,2134,21,2141,null,null,null,null,null,null,0,12,null,null,"average response rate",{"$f":"D13/P20","v":83.571428571428569},{"$f":"(D21-D13)/Q20","v":107.375},{"$f":"(D28-D21)/R20","v":99.571428571428569},{"$f":"(D35-D28)/S20","v":93.428571428571431},{"$f":"(D43-D35)/T20","v":93.125},{"$f":"(D50-D43)/U20","v":93.714285714285708}]
[11,2232,21,2239,null,null,null,null,null,null,0,12]
[11,2324,21,2329,null,null,null,null,null,null,0,12]
[11,2415,21,2420,null,null,null,null,null,null,0,12]
[11,2505,21,2510,null,null,null,null,null,null,0,12]
[11,2596,21,2603,null,null,null,null,null,null,0,12]
[11,2690,21,2695,null,null,null,null,null,null,0,12]
[11,2787,21,2795,null,null,null,null,null,null,0,12]
[11,2882,21,2887,null,null,null,null,null,null,0,12]
[11,2972,21,2979,null,null,null,null,null,null,0,12]
[11,3065,21,3070,null,null,null,null,null,null,0,12]
[11,3155,21,3160,null,null,null,null,null,null,0,12]
[11,3240,12,3247,null,null,null,null,null,null,0,11]
[11,3346,21,3353,null,null,null,null,null,null,0,12]
[11,3439,21,3445,null,null,null,null,null,null,0,12]
[11,3533,21,3540,null,null,null,null,null,null,0,12]
[11,3626,21,3633,null,null,null,null,null,null,0,12]
[11,3720,21,3727,null,null,null,null,null,null,0,12]
[11,3815,21,3823,null,null,null,null,null,null,0,12]
[11,3911,21,3918,null,null,null,null,null,null,0,12]
[11,4005,21,4011,null,null,null,null,null,null,0,12]
[11,4097,21,4102,null,null,null,null,null,null,0,12]
[11,4188,21,4196,null,null,null,null,null,null,1,12]

{"sheet":"!L821A30.052","index":17,"n_rows":52,"n_cols":48,"rows_kept":52,"cut":false,"hidden":false,"merged":[[4,39,4,42],[5,39,5,40],[4,44,4,47],[5,44,5,45],[4,24,4,27],[5,24,5,25],[4,29,4,32],[5,29,5,30],[4,34,4,37],[5,34,5,35],[1,1,1,2],[5,13,5,14],[18,13,18,14],[19,13,19,14],[4,19,4,22],[5,19,5,20]]}
["Report for:!L821A30.052"]
["Date:","<date>"]
["Hen:","<hen>",null,null,null,"Correct Sequence",{"$f":"Start!J2","v":12},null,null,null,null,null,null,null,null,"Total Sequences in Data",{"$f":"4994-COUNTBLANK(L7:L5000)","v":46},null,null,null,null,"Total Sequences in Block Data",{"$f":"COUNTA(L7:L14)","v":8},null,null,null,"Total Sequences in Block Data",{"$f":"COUNTA(L15:L21)","v":7},null,null,null,"Total Sequences in Block Data",{"$f":"COUNTA(L22:L29)","v":8},null,null,null,"Total Sequences in Block Data",{"$f":"COUNTA(L30:L37)","v":8},null,null,null,"Total Sequences in Block Data",{"$f":"COUNTA(L38:L44)","v":7},null,null,null,"Total Sequences in Block Data",{"$f":"COUNTA(L45:L52)","v":8}]
[null,null,null,null,null,null,null,null,null,null,null,null,null,null,null,"Total Sequences in Summary",{"$f":"SUM(O7:O14)","v":46},null,null,null,null,"Total Sequences in Block Summary",{"$f":"SUM(U7:U14)","v":8},null,null,null,"Total Sequences in Block Summary",{"$f":"SUM(Z7:Z14)","v":7},null,null,null,"Total Sequences in Block Summary",{"$f":"SUM(AE7:AE14)","v":8},null,null,null,"Total Sequences in Block Summary",{"$f":"SUM(AJ7:AJ14)","v":8},null,null,null,"Total Sequences in Block Summary",{"$f":"SUM(AO7:AO14)","v":7},null,null,null,"Total Sequences in Block Summary",{"$f":"SUM(AT7:AT14)","v":8}]
[null,null,null,null,null,null,null,null,null,null,null,null,null,null,null,null,null,null,null,"Block 1",null,null,null,null,"Block 2",null,null,null,null,"Block 3",null,null,null,null,"Block 4",null,null,null,null,"Block 5",null,null,null,null,"Block 6"]
["Sequence\nComponent\n1","Time\n1","Sequence\nComponent\n2","Time\n2","Sequence\nComponent\n3","Time\n3","Sequence\nComponent\n4","Time\n4","Sequence\nComponent\n5","Time\n5","Correct?\n0=No 1=Yes","Sequence",null,"Frequency",null,"Relative Frequency","Variability",null,null,"Frequency",null,"Relative Frequency","Variability",null,"Frequency",null,"Relative Frequency","Variability",null,"Frequency",null,"Relative Frequency","Variability",null,"Frequency",null,"Relative Frequency","Variability",null,"Frequency",null,"Relative Frequency","Variability",null,"Frequency",null,"Relative Frequency","Variability"]
[11,8,21,15,null,null,null,null,null,null,0,12,null,11,{"$f":"COUNTIF($L$7:$L$500,N7)","v":1},{"$f":"O7/$Q$4","v":2.1739130434782608E-2},{"$f":"IF(P7=0,0,(P7*((LOG(P7))/LOG(2))))","v":-0.12007743382732637},null,null,{"$f":"N7","v":11},{"$f":"COUNTIF(L7:L14,T7)","v":1},{"$f":"U7/(W4-U8)","v":0.33333333333333331},{"$f":"IF(V7=0,0,(V7*((LOG(V7))/LOG(2))))","v":-0.52832083357371862},null,{"$f":"N7","v":11},{"$f":"COUNTIF(L15:L21,Y7)","v":0},{"$f":"Z7/(AB4-Z8)","v":0},{"$f":"IF(AA7=0,0,(AA7*((LOG(AA7))/LOG(2))))","v":0},null,{"$f":"N7","v":11},{"$f":"COUNTIF(L22:L29,AD7)","v":0},{"$f":"AE7/(AG4-AE8)","v":0},{"$f":"IF(AF7=0,0,(AF7*((LOG(AF7))/LOG(2))))","v":0},null,{"$f":"N7","v":11},{"$f":"COUNTIF(L30:L37,AI7)","v":0},{"$f":"AJ7/(AL4-AJ8)","v":{"$error":"#DIV/0!"}},{"$f":"IF(AK7=0,0,(AK7*((LOG(AK7))/LOG(2))))","v":{"$error":"#DIV/0!"}},null,{"$f":"N7","v":11},{"$f":"COUNTIF(L38:L44,AN7)","v":0},{"$f":"AO7/(AQ4-AO8)","v":{"$error":"#DIV/0!"}},{"$f":"IF(AP7=0,0,(AP7*((LOG(AP7))/LOG(2))))","v":{"$error":"#DIV/0!"}},null,{"$f":"N7","v":11},{"$f":"COUNTIF(L45:L52,AS7)","v":0},{"$f":"AT7/(AV4-AT8)","v":{"$error":"#DIV/0!"}},{"$f":"IF(AU7=0,0,(AU7*((LOG(AU7))/LOG(2))))","v":{"$error":"#DIV/0!"}}]
[11,102,21,109,null,null,null,null,null,null,0,12,null,12,{"$f":"COUNTIF($L$7:$L$500,N8)","v":40},{"$f":"O8/$Q$4","v":0.86956521739130432},{"$f":"IF(P8=0,0,(P8*((LOG(P8))/LOG(2))))","v":-0.17533379232143528},null,null,{"$f":"N8","v":12},{"$f":"COUNTIF(L7:L14,T8)","v":5},null,null,null,{"$f":"N8","v":12},{"$f":"COUNTIF(L15:L21,Y8)","v":6},null,null,null,{"$f":"N8","v":12},{"$f":"COUNTIF(L22:L29,AD8)","v":6},null,null,null,{"$f":"N8","v":12},{"$f":"COUNTIF(L30:L37,AI8)","v":8},null,null,null,{"$f":"N8","v":12},{"$f":"COUNTIF(L38:L44,AN8)","v":7},null,null,null,{"$f":"N8","v":12},{"$f":"COUNTIF(L45:L52,AS8)","v":8}]
[22,196,23,208,null,null,null,null,null,null,0,22,null,21,{"$f":"COUNTIF($L$7:$L$500,N9)","v":1},{"$f":"O9/$Q$4","v":2.1739130434782608E-2},{"$f":"IF(P9=0,0,(P9*((LOG(P9))/LOG(2))))","v":-0.12007743382732637},null,null,{"$f":"N9","v":21},{"$f":"COUNTIF(L7:L14,T9)","v":0},{"$f":"U9/(W4-U8)","v":0},{"$f":"IF(V9=0,0,(V9*((LOG(V9))/LOG(2))))","v":0},null,{"$f":"N9","v":21},{"$f":"COUNTIF(L15:L21,Y9)","v":0},{"$f":"Z9/(AB4-Z8)","v":0},{"$f":"IF(AA9=0,0,(AA9*((LOG(AA9))/LOG(2))))","v":0},null,{"$f":"N9","v":21},{"$f":"COUNTIF(L22:L29,AD9)","v":1},{"$f":"AE9/(AG4-AE8)","v":0.5},{"$f":"IF(AF9=0,0,(AF9*((LOG(AF9))/LOG(2))))","v":-0.5},null,{"$f":"N9","v":21},{"$f":"COUNTIF(L30:L37,AI9)","v":0},{"$f":"AJ9/(AL4-AJ8)","v":{"$error":"#DIV/0!"}},{"$f":"IF(AK9=0,0,(AK9*((LOG(AK9))/LOG(2))))","v":{"$error":"#DIV/0!"}},null,{"$f":"N9","v":21},{"$f":"COUNTIF(L38:L44,AN9)","v":0},{"$f":"AO9/(AQ4-AO8)","v":{"$error":"#DIV/0!"}},{"$f":"IF(AP9=0,0,(AP9*((LOG(AP9))/LOG(2))))","v":{"$error":"#DIV/0!"}},null,{"$f":"N9","v":21},{"$f":"COUNTIF(L45:L52,AS9)","v":0},{"$f":"AT9/(AV4-AT8)","v":{"$error":"#DIV/0!"}},{"$f":"IF(AU9=0,0,(AU9*((LOG(AU9))/LOG(2))))","v":{"$error":"#DIV/0!"}}]
[11,310,21,317,null,null,null,null,null,null,0,12,null,22,{"$f":"COUNTIF($L$7:$L$500,N10)","v":4},{"$f":"O10/$Q$4","v":8.6956521739130432E-2},{"$f":"IF(P10=0,0,(P10*((LOG(P10))/LOG(2))))","v":-0.30639669183104457},null,null,{"$f":"N10","v":22},{"$f":"COUNTIF(L7:L14,T10)","v":2},{"$f":"U10/(W4-U8)","v":0.66666666666666663},{"$f":"IF(V10=0,0,(V10*((LOG(V10))/LOG(2))))","v":-0.38997500048077083},null,{"$f":"N10","v":22},{"$f":"COUNTIF(L15:L21,Y10)","v":1},{"$f":"Z10/(AB4-Z8)","v":1},{"$f":"IF(AA10=0,0,(AA10*((LOG(AA10))/LOG(2))))","v":0},null,{"$f":"N10","v":22},{"$f":"COUNTIF(L22:L29,AD10)","v":1},{"$f":"AE10/(AG4-AE8)","v":0.5},{"$f":"IF(AF10=0,0,(AF10*((LOG(AF10))/LOG(2))))","v":-0.5},null,{"$f":"N10","v":22},{"$f":"COUNTIF(L30:L37,AI10)","v":0},{"$f":"AJ10/(AL4-AJ8)","v":{"$error":"#DIV/0!"}},{"$f":"IF(AK10=0,0,(AK10*((LOG(AK10))/LOG(2))))","v":{"$error":"#DIV/0!"}},null,{"$f":"N10","v":22},{"$f":"COUNTIF(L38:L44,AN10)","v":0},{"$f":"AO10/(AQ4-AO8)","v":{"$error":"#DIV/0!"}},{"$f":"IF(AP10=0,0,(AP10*((LOG(AP10))/LOG(2))))","v":{"$error":"#DIV/0!"}},null,{"$f":"N10","v":22},{"$f":"COUNTIF(L45:L52,AS10)","v":0},{"$f":"AT10/(AV4-AT8)","v":{"$error":"#DIV/0!"}},{"$f":"IF(AU10=0,0,(AU10*((LOG(AU10))/LOG(2))))","v":{"$error":"#DIV/0!"}}]
[22,402,23,420,null,null,null,null,null,null,0,22,null,null,null,null,null,null,null,{"$f":"N11","v":0},{"$f":"COUNTIF(L7:L14,T11)","v":0},{"$f":"U11/(W4-U8)","v":0},{"$f":"IF(V11=0,0,(V11*((LOG(V11))/LOG(2))))","v":0},null,{"$f":"N11","v":0},{"$f":"COUNTIF(L15:L21,Y11)","v":0},{"$f":"Z11/(AB4-Z8)","v":0},{"$f":"IF(AA11=0,0,(AA11*((LOG(AA11))/LOG(2))))","v":0},null,{"$f":"N11","v":0},{"$f":"COUNTIF(L22:L29,AD11)","v":0},{"$f":"AE11/(AG4-AE8)","v":0},{"$f":"IF(AF11=0,0,(AF11*((LOG(AF11))/LOG(2))))","v":0},null,{"$f":"N11","v":0},{"$f":"COUNTIF(L30:L37,AI11)","v":0},{"$f":"AJ11/(AL4-AJ8)","v":{"$error":"#DIV/0!"}},{"$f":"IF(AK11=0,0,(AK11*((LOG(AK11))/LOG(2))))","v":{"$error":"#DIV/0!"}},null,{"$f":"N11","v":0},{"$f":"COUNTIF(L38:L44,AN11)","v":0},{"$f":"AO11/(AQ4-AO8)","v":{"$error":"#DIV/0!"}},{"$f":"IF(AP11=0,0,(AP11*((LOG(AP11))/LOG(2))))","v":{"$error":"#DIV/0!"}},null,{"$f":"N11","v":0},{"$f":"COUNTIF(L45:L52,AS11)","v":0},{"$f":"AT11/(AV4-AT8)","v":{"$error":"#DIV/0!"}},{"$f":"IF(AU11=0,0,(AU11*((LOG(AU11))/LOG(2))))","v":{"$error":"#DIV/0!"}}]
[11,517,21,524,null,null,null,null,null,null,0,12,null,null,null,null,null,null,null,{"$f":"N12","v":0},{"$f":"COUNTIF(L7:L14,T12)","v":0},{"$f":"U12/(W4-U8)","v":0},{"$f":"IF(V12=0,0,(V12*((LOG(V12))/LOG(2))))","v":0},null,{"$f":"N12","v":0},{"$f":"COUNTIF(L15:L21,Y12)","v":0},{"$f":"Z12/(AB4-Z8)","v":0},{"$f":"IF(AA12=0,0,(AA12*((LOG(AA12))/LOG(2))))","v":0},null,{"$f":"N12","v":0},{"$f":"COUNTIF(L22:L29,AD12)","v":0},{"$f":"AE12/(AG4-AE8)","v":0},{"$f":"IF(AF12=0,0,(AF12*((LOG(AF12))/LOG(2))))","v":0},null,{"$f":"N12","v":0},{"$f":"COUNTIF(L30:L37,AI12)","v":0},{"$f":"AJ12/(AL4-AJ8)","v":{"$error":"#DIV/0!"}},{"$f":"IF(AK12=0,0,(AK12*((LOG(AK12))/LOG(2))))","v":{"$error":"#DIV/0!"}},null,{"$f":"N12","v":0},{"$f":"COUNTIF(L38:L44,AN12)","v":0},{"$f":"AO12/(AQ4-AO8)","v":{"$error":"#DIV/0!"}},{"$f":"IF(AP12=0,0,(AP12*((LOG(AP12))/LOG(2))))","v":{"$error":"#DIV/0!"}},null,{"$f":"N12","v":0},{"$f":"COUNTIF(L45:L52,AS12)","v":0},{"$f":"AT12/(AV4-AT8)","v":{"$error":"#DIV/0!"}},{"$f":"IF(AU12=0,0,(AU12*((LOG(AU12))/LOG(2))))","v":{"$error":"#DIV/0!"}}]
[11,611,12,626,null,null,null,null,null,null,0,11,null,null,null,null,null,null,null,{"$f":"N13","v":0},{"$f":"COUNTIF(L7:L14,T13)","v":0},{"$f":"U13/(W4-U8)","v":0},{"$f":"IF(V13=0,0,(V13*((LOG(V13))/LOG(2))))","v":0},null,{"$f":"N13","v":0},{"$f":"COUNTIF(L15:L21,Y13)","v":0},{"$f":"Z13/(AB4-Z8)","v":0},{"$f":"IF(AA13=0,0,(AA13*((LOG(AA13))/LOG(2))))","v":0},null,{"$f":"N13","v":0},{"$f":"COUNTIF(L22:L29,AD13)","v":0},{"$f":"AE13/(AG4-AE8)","v":0},{"$f":"IF(AF13=0,0,(AF13*((LOG(AF13))/LOG(2))))","v":0},null,{"$f":"N13","v":0},{"$f":"COUNTIF(L30:L37,AI13)","v":0},{"$f":"AJ13/(AL4-AJ8)","v":{"$error":"#DIV/0!"}},{"$f":"IF(AK13=0,0,(AK13*((LOG(AK13))/LOG(2))))","v":{"$error":"#DIV/0!"}},null,{"$f":"N13","v":0},{"$f":"COUNTIF(L38:L44,AN13)","v":0},{"$f":"AO13/(AQ4-AO8)","v":{"$error":"#DIV/0!"}},{"$f":"IF(AP13=0,0,(AP13*((LOG(AP13))/LOG(2))))","v":{"$error":"#DIV/0!"}},null,{"$f":"N13","v":0},{"$f":"COUNTIF(L45:L52,AS13)","v":0},{"$f":"AT13/(AV4-AT8)","v":{"$error":"#DIV/0!"}},{"$f":"IF(AU13=0,0,(AU13*((LOG(AU13))/LOG(2))))","v":{"$error":"#DIV/0!"}}]
[11,721,21,726,null,null,null,null,null,null,0,12,null,null,null,null,null,null,null,{"$f":"N14","v":0},{"$f":"COUNTIF(L7:L14,T14)","v":0},{"$f":"U14/(W4-U8)","v":0},{"$f":"IF(V14=0,0,(V14*((LOG(V14))/LOG(2))))","v":0},null,{"$f":"N14","v":0},{"$f":"COUNTIF(L15:L21,Y14)","v":0},{"$f":"Z14/(AB4-Z8)","v":0},{"$f":"IF(AA14=0,0,(AA14*((LOG(AA14))/LOG(2))))","v":0},null,{"$f":"N14","v":0},{"$f":"COUNTIF(L22:L29,AD14)","v":0},{"$f":"AE14/(AG4-AE8)","v":0},{"$f":"IF(AF14=0,0,(AF14*((LOG(AF14))/LOG(2))))","v":0},null,{"$f":"N14","v":0},{"$f":"COUNTIF(L30:L37,AI14)","v":0},{"$f":"AJ14/(AL4-AJ8)","v":{"$error":"#DIV/0!"}},{"$f":"IF(AK14=0,0,(AK14*((LOG(AK14))/LOG(2))))","v":{"$error":"#DIV/0!"}},null,{"$f":"N14","v":0},{"$f":"COUNTIF(L38:L44,AN14)","v":0},{"$f":"AO14/(AQ4-AO8)","v":{"$error":"#DIV/0!"}},{"$f":"IF(AP14=0,0,(AP14*((LOG(AP14))/LOG(2))))","v":{"$error":"#DIV/0!"}},null,{"$f":"N14","v":0},{"$f":"COUNTIF(L45:L52,AS14)","v":0},{"$f":"AT14/(AV4-AT8)","v":{"$error":"#DIV/0!"}},{"$f":"IF(AU14=0,0,(AU14*((LOG(AU14))/LOG(2))))","v":{"$error":"#DIV/0!"}}]
[11,816,21,822,null,null,null,null,null,null,0,12,null,null,null,{"$f":"SUM(P7:P14)","v":1},{"$f":"-SUM(Q7:Q14)","v":0.72188535180713265},null,null,null,null,{"$f":"SUM(V7:V14)","v":1},{"$f":"-SUM(W7:W14)","v":0.91829583405448945},null,null,null,{"$f":"SUM(AA7:AA14)","v":1},{"$f":"-SUM(AB7:AB14)","v":0},null,null,null,{"$f":"SUM(AF7:AF14)","v":1},{"$f":"-SUM(AG7:AG14)","v":1},null,null,null,{"$f":"SUM(AK7:AK14)","v":{"$error":"#DIV/0!"}},{"$f":"-SUM(AL7:AL14)","v":{"$error":"#DIV/0!"}},null,null,null,{"$f":"SUM(AP7:AP14)","v":{"$error":"#DIV/0!"}},{"$f":"-SUM(AQ7:AQ14)","v":{"$error":"#DIV/0!"}},null,null,null,{"$f":"SUM(AU7:AU14)","v":{"$error":"#DIV/0!"}},{"$f":"-SUM(AV7:AV14)","v":{"$error":"#DIV/0!"}}]
[11,910,21,915,null,null,null,null,null,null,0,12,null,null,null,"U=",{"$f":"Q15/(LOG(Q4)/LOG(2))","v":0.13069199866863618},null,null,null,null,"U1=",{"$f":"W15/(LOG(W4)/LOG(2))","v":0.30609861135149646},null,null,null,"U2=",{"$f":"AB15/(LOG(AB4)/LOG(2))","v":0},null,null,null,"U3=",{"$f":"AG15/(LOG(AG4)/LOG(2))","v":0.33333333333333331},null,null,null,"U4=",{"$f":"AL15/(LOG(AL4)/LOG(2))","v":{"$error":"#DIV/0!"}},null,null,null,"U5=",{"$f":"AQ15/(LOG(AQ4)/LOG(2))","v":{"$error":"#DIV/0!"}},null,null,null,"U6=",{"$f":"AV15/(LOG(AV4)/LOG(2))","v":{"$error":"#DIV/0!"}}]
[22,1002,23,1013,null,null,null,null,null,null,0,22]
[11,1110,21,1119,null,null,null,null,null,null,0,12]
[11,1208,21,1216,null,null,null,null,null,null,0,12,null,"Total Target Seq"]
[11,1302,21,1309,null,null,null,null,null,null,0,12,null,{"$f":"COUNTIF(L7:L52,G3)","v":40},null,8,7,8,8,7,8]
[11,1395,21,1402,null,null,null,null,null,null,0,12,null,null,null,"% of reinforcement given in 6 equal intervals based on number of trials "]
[11,1489,21,1496,null,null,null,null,null,null,0,12,null,null,null,"%_1","%_2","%_3","%_4","%_5","%_6"]
[11,1584,21,1588,null,null,null,null,null,null,0,12,null,null,"target sequence",{"$f":"$G$3","v":12},{"$f":"$G$3","v":12},{"$f":"$G$3","v":12},{"$f":"$G$3","v":12},{"$f":"$G$3","v":12},{"$f":"$G$3","v":12}]
[11,1675,21,1682,null,null,null,null,null,null,0,12,null,null,"total reinforcement",{"$f":"U8","v":5},{"$f":"Z8","v":6},{"$f":"AE8","v":6},{"$f":"AJ8","v":8},{"$f":"AO8","v":7},{"$f":"AT8","v":8}]
[11,1769,21,1775,null,null,null,null,null,null,0,12,null,null,"% target"]
[22,1871,14,1890,null,null,null,null,null,null,0,21,null,null,"CCRF"]
[11,1986,21,1993,null,null,null,null,null,null,0,12,null,null,"% CCRf"]
[11,2081,21,2088,null,null,null,null,null,null,0,12,null,null,"average response rate",{"$f":"D14/P20","v":90.75},{"$f":"(D21-D14)/Q20","v":96.571428571428569},{"$f":"(D29-D21)/R20","v":110.625},{"$f":"(D37-D29)/S20","v":95.5},{"$f":"(D44-D37)/T20","v":94.285714285714292},{"$f":"(D52-D44)/U20","v":93.625}]
[22,2181,23,2287,null,null,null,null,null,null,0,22]
[11,2385,21,2391,null,null,null,null,null,null,0,12]
[11,2478,21,2485,null,null,null,null,null,null,0,12]
[11,2573,21,2580,null,null,null,null,null,null,0,12]
[11,2669,21,2676,null,null,null,null,null,null,0,12]
[11,2764,21,2770,null,null,null,null,null,null,0,12]
[11,2858,21,2865,null,null,null,null,null,null,0,12]
[11,2955,21,2962,null,null,null,null,null,null,0,12]
[11,3046,21,3051,null,null,null,null,null,null,0,12]
[11,3137,21,3144,null,null,null,null,null,null,0,12]
[11,3231,21,3237,null,null,null,null,null,null,0,12]
[11,3327,21,3334,null,null,null,null,null,null,0,12]
[11,3421,21,3429,null,null,null,null,null,null,0,12]
[11,3514,21,3522,null,null,null,null,null,null,0,12]
[11,3612,21,3619,null,null,null,null,null,null,0,12]
[11,3705,21,3711,null,null,null,null,null,null,0,12]
[11,3804,21,3811,null,null,null,null,null,null,0,12]
[11,3897,21,3904,null,null,null,null,null,null,0,12]
[11,3994,21,3998,null,null,null,null,null,null,0,12]
[11,4085,21,4093,null,null,null,null,null,null,0,12]
[11,4179,21,4184,null,null,null,null,null,null,0,12]
[11,4268,21,4275,null,null,null,null,null,null,0,12]
[11,4362,21,4367,null,null,null,null,null,null,0,12]
[11,4453,21,4460,null,null,null,null,null,null,1,12]

{"sheet":"!L822950.052","index":18,"n_rows":50,"n_cols":48,"rows_kept":50,"cut":false,"hidden":false,"merged":[[4,39,4,42],[5,39,5,40],[4,44,4,47],[5,44,5,45],[4,24,4,27],[5,24,5,25],[4,29,4,32],[5,29,5,30],[4,34,4,37],[5,34,5,35],[1,1,1,2],[5,13,5,14],[18,13,18,14],[19,13,19,14],[4,19,4,22],[5,19,5,20]]}
["Report for:!L822950.052"]
["Date:","<date>"]
["Hen:","<hen>",null,null,null,"Correct Sequence",{"$f":"Start!J2","v":12},null,null,null,null,null,null,null,null,"Total Sequences in Data",{"$f":"4994-COUNTBLANK(L7:L5000)","v":44},null,null,null,null,"Total Sequences in Block Data",{"$f":"COUNTA(L7:L13)","v":7},null,null,null,"Total Sequences in Block Data",{"$f":"COUNTA(L14:L21)","v":8},null,null,null,"Total Sequences in Block Data",{"$f":"COUNTA(L22:L28)","v":7},null,null,null,"Total Sequences in Block Data",{"$f":"COUNTA(L29:L35)","v":7},null,null,null,"Total Sequences in Block Data",{"$f":"COUNTA(L36:L43)","v":8},null,null,null,"Total Sequences in Block Data",{"$f":"COUNTA(L44:L50)","v":7}]
[null,null,null,null,null,null,null,null,null,null,null,null,null,null,null,"Total Sequences in Summary",{"$f":"SUM(O7:O14)","v":44},null,null,null,null,"Total Sequences in Block Summary",{"$f":"SUM(U7:U14)","v":7},null,null,null,"Total Sequences in Block Summary",{"$f":"SUM(Z7:Z14)","v":8},null,null,null,"Total Sequences in Block Summary",{"$f":"SUM(AE7:AE14)","v":7},null,null,null,"Total Sequences in Block Summary",{"$f":"SUM(AJ7:AJ14)","v":7},null,null,null,"Total Sequences in Block Summary",{"$f":"SUM(AO7:AO14)","v":8},null,null,null,"Total Sequences in Block Summary",{"$f":"SUM(AT7:AT14)","v":7}]
[null,null,null,null,null,null,null,null,null,null,null,null,null,null,null,null,null,null,null,"Block 1",null,null,null,null,"Block 2",null,null,null,null,"Block 3",null,null,null,null,"Block 4",null,null,null,null,"Block 5",null,null,null,null,"Block 6"]
["Sequence\nComponent\n1","Time\n1","Sequence\nComponent\n2","Time\n2","Sequence\nComponent\n3","Time\n3","Sequence\nComponent\n4","Time\n4","Sequence\nComponent\n5","Time\n5","Correct?\n0=No 1=Yes","Sequence",null,"Frequency",null,"Relative Frequency","Variability",null,null,"Frequency",null,"Relative Frequency","Variability",null,"Frequency",null,"Relative Frequency","Variability",null,"Frequency",null,"Relative Frequency","Variability",null,"Frequency",null,"Relative Frequency","Variability",null,"Frequency",null,"Relative Frequency","Variability",null,"Frequency",null,"Relative Frequency","Variability"]
[11,10,21,16,null,null,null,null,null,null,0,12,null,11,{"$f":"COUNTIF($L$7:$L$500,N7)","v":0},{"$f":"O7/$Q$4","v":0},{"$f":"IF(P7=0,0,(P7*((LOG(P7))/LOG(2))))","v":0},null,null,{"$f":"N7","v":11},{"$f":"COUNTIF(L7:L13,T7)","v":0},{"$f":"U7/(W4-U8)","v":0},{"$f":"IF(V7=0,0,(V7*((LOG(V7))/LOG(2))))","v":0},null,{"$f":"N7","v":11},{"$f":"COUNTIF(L14:L21,Y7)","v":0},{"$f":"Z7/(AB4-Z8)","v":0},{"$f":"IF(AA7=0,0,(AA7*((LOG(AA7))/LOG(2))))","v":0},null,{"$f":"N7","v":11},{"$f":"COUNTIF(L22:L28,AD7)","v":0},{"$f":"AE7/(AG4-AE8)","v":{"$error":"#DIV/0!"}},{"$f":"IF(AF7=0,0,(AF7*((LOG(AF7))/LOG(2))))","v":{"$error":"#DIV/0!"}},null,{"$f":"N7","v":11},{"$f":"COUNTIF(L29:L35,AI7)","v":0},{"$f":"AJ7/(AL4-AJ8)","v":0},{"$f":"IF(AK7=0,0,(AK7*((LOG(AK7))/LOG(2))))","v":0},null,{"$f":"N7","v":11},{"$f":"COUNTIF(L36:L43,AN7)","v":0},{"$f":"AO7/(AQ4-AO8)","v":{"$error":"#DIV/0!"}},{"$f":"IF(AP7=0,0,(AP7*((LOG(AP7))/LOG(2))))","v":{"$error":"#DIV/0!"}},null,{"$f":"N7","v":11},{"$f":"COUNTIF(L44:L50,AS7)","v":0},{"$f":"AT7/(AV4-AT8)","v":0},{"$f":"IF(AU7=0,0,(AU7*((LOG(AU7))/LOG(2))))","v":0}]
[11,101,21,108,null,null,null,null,null,null,0,12,null,12,{"$f":"COUNTIF($L$7:$L$500,N8)","v":40},{"$f":"O8/$Q$4","v":0.90909090909090906},{"$f":"IF(P8=0,0,(P8*((LOG(P8))/LOG(2))))","v":-0.12500320340903179},null,null,{"$f":"N8","v":12},{"$f":"COUNTIF(L7:L13,T8)","v":6},null,null,null,{"$f":"N8","v":12},{"$f":"COUNTIF(L14:L21,Y8)","v":7},null,null,null,{"$f":"N8","v":12},{"$f":"COUNTIF(L22:L28,AD8)","v":7},null,null,null,{"$f":"N8","v":12},{"$f":"COUNTIF(L29:L35,AI8)","v":6},null,null,null,{"$f":"N8","v":12},{"$f":"COUNTIF(L36:L43,AN8)","v":8},null,null,null,{"$f":"N8","v":12},{"$f":"COUNTIF(L44:L50,AS8)","v":6}]
[11,196,21,202,null,null,null,null,null,null,0,12,null,21,{"$f":"COUNTIF($L$7:$L$500,N9)","v":2},{"$f":"O9/$Q$4","v":4.5454545454545456E-2},{"$f":"IF(P9=0,0,(P9*((LOG(P9))/LOG(2))))","v":-0.20270143721078623},null,null,{"$f":"N9","v":21},{"$f":"COUNTIF(L7:L13,T9)","v":0},{"$f":"U9/(W4-U8)","v":0},{"$f":"IF(V9=0,0,(V9*((LOG(V9))/LOG(2))))","v":0},null,{"$f":"N9","v":21},{"$f":"COUNTIF(L14:L21,Y9)","v":1},{"$f":"Z9/(AB4-Z8)","v":1},{"$f":"IF(AA9=0,0,(AA9*((LOG(AA9))/LOG(2))))","v":0},null,{"$f":"N9","v":21},{"$f":"COUNTIF(L22:L28,AD9)","v":0},{"$f":"AE9/(AG4-AE8)","v":{"$error":"#DIV/0!"}},{"$f":"IF(AF9=0,0,(AF9*((LOG(AF9))/LOG(2))))","v":{"$error":"#DIV/0!"}},null,{"$f":"N9","v":21},{"$f":"COUNTIF(L29:L35,AI9)","v":0},{"$f":"AJ9/(AL4-AJ8)","v":0},{"$f":"IF(AK9=0,0,(AK9*((LOG(AK9))/LOG(2))))","v":0},null,{"$f":"N9","v":21},{"$f":"COUNTIF(L36:L43,AN9)","v":0},{"$f":"AO9/(AQ4-AO8)","v":{"$error":"#DIV/0!"}},{"$f":"IF(AP9=0,0,(AP9*((LOG(AP9))/LOG(2))))","v":{"$error":"#DIV/0!"}},null,{"$f":"N9","v":21},{"$f":"COUNTIF(L44:L50,AS9)","v":1},{"$f":"AT9/(AV4-AT8)","v":1},{"$f":"IF(AU9=0,0,(AU9*((LOG(AU9))/LOG(2))))","v":0}]
[11,288,21,294,null,null,null,null,null,null,0,12,null,22,{"$f":"COUNTIF($L$7:$L$500,N10)","v":2},{"$f":"O10/$Q$4","v":4.5454545454545456E-2},{"$f":"IF(P10=0,0,(P10*((LOG(P10))/LOG(2))))","v":-0.20270143721078623},null,null,{"$f":"N10","v":22},{"$f":"COUNTIF(L7:L13,T10)","v":1},{"$f":"U10/(W4-U8)","v":1},{"$f":"IF(V10=0,0,(V10*((LOG(V10))/LOG(2))))","v":0},null,{"$f":"N10","v":22},{"$f":"COUNTIF(L14:L21,Y10)","v":0},{"$f":"Z10/(AB4-Z8)","v":0},{"$f":"IF(AA10=0,0,(AA10*((LOG(AA10))/LOG(2))))","v":0},null,{"$f":"N10","v":22},{"$f":"COUNTIF(L22:L28,AD10)","v":0},{"$f":"AE10/(AG4-AE8)","v":{"$error":"#DIV/0!"}},{"$f":"IF(AF10=0,0,(AF10*((LOG(AF10))/LOG(2))))","v":{"$error":"#DIV/0!"}},null,{"$f":"N10","v":22},{"$f":"COUNTIF(L29:L35,AI10)","v":1},{"$f":"AJ10/(AL4-AJ8)","v":1},{"$f":"IF(AK10=0,0,(AK10*((LOG(AK10))/LOG(2))))","v":0},null,{"$f":"N10","v":22},{"$f":"COUNTIF(L36:L43,AN10)","v":0},{"$f":"AO10/(AQ4-AO8)","v":{"$error":"#DIV/0!"}},{"$f":"IF(AP10=0,0,(AP10*((LOG(AP10))/LOG(2))))","v":{"$error":"#DIV/0!"}},null,{"$f":"N10","v":22},{"$f":"COUNTIF(L44:L50,AS10)","v":0},{"$f":"AT10/(AV4-AT8)","v":0},{"$f":"IF(AU10=0,0,(AU10*((LOG(AU10))/LOG(2))))","v":0}]
[22,388,23,410,null,null,null,null,null,null,0,22,null,null,null,null,null,null,null,{"$f":"N11","v":0},{"$f":"COUNTIF(L7:L13,T11)","v":0},{"$f":"U11/(W4-U8)","v":0},{"$f":"IF(V11=0,0,(V11*((LOG(V11))/LOG(2))))","v":0},null,{"$f":"N11","v":0},{"$f":"COUNTIF(L14:L21,Y11)","v":0},{"$f":"Z11/(AB4-Z8)","v":0},{"$f":"IF(AA11=0,0,(AA11*((LOG(AA11))/LOG(2))))","v":0},null,{"$f":"N11","v":0},{"$f":"COUNTIF(L22:L28,AD11)","v":0},{"$f":"AE11/(AG4-AE8)","v":{"$error":"#DIV/0!"}},{"$f":"IF(AF11=0,0,(AF11*((LOG(AF11))/LOG(2))))","v":{"$error":"#DIV/0!"}},null,{"$f":"N11","v":0},{"$f":"COUNTIF(L29:L35,AI11)","v":0},{"$f":"AJ11/(AL4-AJ8)","v":0},{"$f":"IF(AK11=0,0,(AK11*((LOG(AK11))/LOG(2))))","v":0},null,{"$f":"N11","v":0},{"$f":"COUNTIF(L36:L43,AN11)","v":0},{"$f":"AO11/(AQ4-AO8)","v":{"$error":"#DIV/0!"}},{"$f":"IF(AP11=0,0,(AP11*((LOG(AP11))/LOG(2))))","v":{"$error":"#DIV/0!"}},null,{"$f":"N11","v":0},{"$f":"COUNTIF(L44:L50,AS11)","v":0},{"$f":"AT11/(AV4-AT8)","v":0},{"$f":"IF(AU11=0,0,(AU11*((LOG(AU11))/LOG(2))))","v":0}]
[11,509,21,515,null,null,null,null,null,null,0,12,null,null,null,null,null,null,null,{"$f":"N12","v":0},{"$f":"COUNTIF(L7:L13,T12)","v":0},{"$f":"U12/(W4-U8)","v":0},{"$f":"IF(V12=0,0,(V12*((LOG(V12))/LOG(2))))","v":0},null,{"$f":"N12","v":0},{"$f":"COUNTIF(L14:L21,Y12)","v":0},{"$f":"Z12/(AB4-Z8)","v":0},{"$f":"IF(AA12=0,0,(AA12*((LOG(AA12))/LOG(2))))","v":0},null,{"$f":"N12","v":0},{"$f":"COUNTIF(L22:L28,AD12)","v":0},{"$f":"AE12/(AG4-AE8)","v":{"$error":"#DIV/0!"}},{"$f":"IF(AF12=0,0,(AF12*((LOG(AF12))/LOG(2))))","v":{"$error":"#DIV/0!"}},null,{"$f":"N12","v":0},{"$f":"COUNTIF(L29:L35,AI12)","v":0},{"$f":"AJ12/(AL4-AJ8)","v":0},{"$f":"IF(AK12=0,0,(AK12*((LOG(AK12))/LOG(2))))","v":0},null,{"$f":"N12","v":0},{"$f":"COUNTIF(L36:L43,AN12)","v":0},{"$f":"AO12/(AQ4-AO8)","v":{"$error":"#DIV/0!"}},{"$f":"IF(AP12=0,0,(AP12*((LOG(AP12))/LOG(2))))","v":{"$error":"#DIV/0!"}},null,{"$f":"N12","v":0},{"$f":"COUNTIF(L44:L50,AS12)","v":0},{"$f":"AT12/(AV4-AT8)","v":0},{"$f":"IF(AU12=0,0,(AU12*((LOG(AU12))/LOG(2))))","v":0}]
[11,601,21,608,null,null,null,null,null,null,0,12,null,null,null,null,null,null,null,{"$f":"N13","v":0},{"$f":"COUNTIF(L7:L13,T13)","v":0},{"$f":"U13/(W4-U8)","v":0},{"$f":"IF(V13=0,0,(V13*((LOG(V13))/LOG(2))))","v":0},null,{"$f":"N13","v":0},{"$f":"COUNTIF(L14:L21,Y13)","v":0},{"$f":"Z13/(AB4-Z8)","v":0},{"$f":"IF(AA13=0,0,(AA13*((LOG(AA13))/LOG(2))))","v":0},null,{"$f":"N13","v":0},{"$f":"COUNTIF(L22:L28,AD13)","v":0},{"$f":"AE13/(AG4-AE8)","v":{"$error":"#DIV/0!"}},{"$f":"IF(AF13=0,0,(AF13*((LOG(AF13))/LOG(2))))","v":{"$error":"#DIV/0!"}},null,{"$f":"N13","v":0},{"$f":"COUNTIF(L29:L35,AI13)","v":0},{"$f":"AJ13/(AL4-AJ8)","v":0},{"$f":"IF(AK13=0,0,(AK13*((LOG(AK13))/LOG(2))))","v":0},null,{"$f":"N13","v":0},{"$f":"COUNTIF(L36:L43,AN13)","v":0},{"$f":"AO13/(AQ4-AO8)","v":{"$error":"#DIV/0!"}},{"$f":"IF(AP13=0,0,(AP13*((LOG(AP13))/LOG(2))))","v":{"$error":"#DIV/0!"}},null,{"$f":"N13","v":0},{"$f":"COUNTIF(L44:L50,AS13)","v":0},{"$f":"AT13/(AV4-AT8)","v":0},{"$f":"IF(AU13=0,0,(AU13*((LOG(AU13))/LOG(2))))","v":0}]
[22,696,14,707,null,null,null,null,null,null,0,21,null,null,null,null,null,null,null,{"$f":"N14","v":0},{"$f":"COUNTIF(L7:L13,T14)","v":0},{"$f":"U14/(W4-U8)","v":0},{"$f":"IF(V14=0,0,(V14*((LOG(V14))/LOG(2))))","v":0},null,{"$f":"N14","v":0},{"$f":"COUNTIF(L14:L21,Y14)","v":0},{"$f":"Z14/(AB4-Z8)","v":0},{"$f":"IF(AA14=0,0,(AA14*((LOG(AA14))/LOG(2))))","v":0},null,{"$f":"N14","v":0},{"$f":"COUNTIF(L22:L28,AD14)","v":0},{"$f":"AE14/(AG4-AE8)","v":{"$error":"#DIV/0!"}},{"$f":"IF(AF14=0,0,(AF14*((LOG(AF14))/LOG(2))))","v":{"$error":"#DIV/0!"}},null,{"$f":"N14","v":0},{"$f":"COUNTIF(L29:L35,AI14)","v":0},{"$f":"AJ14/(AL4-AJ8)","v":0},{"$f":"IF(AK14=0,0,(AK14*((LOG(AK14))/LOG(2))))","v":0},null,{"$f":"N14","v":0},{"$f":"COUNTIF(L36:L43,AN14)","v":0},{"$f":"AO14/(AQ4-AO8)","v":{"$error":"#DIV/0!"}},{"$f":"IF(AP14=0,0,(AP14*((LOG(AP14))/LOG(2))))","v":{"$error":"#DIV/0!"}},null,{"$f":"N14","v":0},{"$f":"COUNTIF(L44:L50,AS14)","v":0},{"$f":"AT14/(AV4-AT8)","v":0},{"$f":"IF(AU14=0,0,(AU14*((LOG(AU14))/LOG(2))))","v":0}]
[11,807,21,813,null,null,null,null,null,null,0,12,null,null,null,{"$f":"SUM(P7:P14)","v":0.99999999999999989},{"$f":"-SUM(Q7:Q14)","v":0.53040607783060423},null,null,null,null,{"$f":"SUM(V7:V14)","v":1},{"$f":"-SUM(W7:W14)","v":0},null,null,null,{"$f":"SUM(AA7:AA14)","v":1},{"$f":"-SUM(AB7:AB14)","v":0},null,null,null,{"$f":"SUM(AF7:AF14)","v":{"$error":"#DIV/0!"}},{"$f":"-SUM(AG7:AG14)","v":{"$error":"#DIV/0!"}},null,null,null,{"$f":"SUM(AK7:AK14)","v":1},{"$f":"-SUM(AL7:AL14)","v":0},null,null,null,{"$f":"SUM(AP7:AP14)","v":{"$error":"#DIV/0!"}},{"$f":"-SUM(AQ7:AQ14)","v":{"$error":"#DIV/0!"}},null,null,null,{"$f":"SUM(AU7:AU14)","v":1},{"$f":"-SUM(AV7:AV14)","v":0}]
[11,901,21,908,null,null,null,null,null,null,0,12,null,null,null,"U=",{"$f":"Q15/(LOG(Q4)/LOG(2))","v":9.7154083956270218E-2},null,null,null,null,"U1=",{"$f":"W15/(LOG(W4)/LOG(2))","v":0},null,null,null,"U2=",{"$f":"AB15/(LOG(AB4)/LOG(2))","v":0},null,null,null,"U3=",{"$f":"AG15/(LOG(AG4)/LOG(2))","v":{"$error":"#DIV/0!"}},null,null,null,"U4=",{"$f":"AL15/(LOG(AL4)/LOG(2))","v":0},null,null,null,"U5=",{"$f":"AQ15/(LOG(AQ4)/LOG(2))","v":{"$error":"#DIV/0!"}},null,null,null,"U6=",{"$f":"AV15/(LOG(AV4)/LOG(2))","v":0}]
[11,994,21,1001,null,null,null,null,null,null,0,12]
[11,1085,21,1092,null,null,null,null,null,null,0,12]
[11,1177,21,1184,null,null,null,null,null,null,0,12,null,"Total Target Seq"]
[11,1271,21,1277,null,null,null,null,null,null,0,12,null,{"$f":"COUNTIF(L7:L50,G3)","v":40},null,7,8,7,7,8,7]
[11,1362,21,1367,null,null,null,null,null,null,0,12,null,null,null,"% of reinforcement given in 6 equal intervals based on number of trials "]
[11,1454,21,1460,null,null,null,null,null,null,0,12,null,null,null,"%_1","%_2","%_3","%_4","%_5","%_6"]
[11,1547,21,1554,null,null,null,null,null,null,0,12,null,null,"target sequence",{"$f":"$G$3","v":12},{"$f":"$G$3","v":12},{"$f":"$G$3","v":12},{"$f":"$G$3","v":12},{"$f":"$G$3","v":12},{"$f":"$G$3","v":12}]
[11,1640,21,1647,null,null,null,null,null,null,0,12,null,null,"total reinforcement",{"$f":"U8","v":6},{"$f":"Z8","v":7},{"$f":"AE8","v":7},{"$f":"AJ8","v":6},{"$f":"AO8","v":8},{"$f":"AT8","v":6}]
[11,1734,21,1741,null,null,null,null,null,null,0,12,null,null,"% target"]
[11,1831,21,1838,null,null,null,null,null,null,0,12,null,null,"CCRF"]
[11,1923,21,1928,null,null,null,null,null,null,0,12,null,null,"% CCRf"]
[11,2015,21,2022,null,null,null,null,null,null,0,12,null,null,"average response rate",{"$f":"D13/P20","v":86.857142857142861},{"$f":"(D21-D13)/Q20","v":94.875},{"$f":"(D28-D21)/R20","v":93.571428571428569},{"$f":"(D35-D28)/S20","v":96.428571428571431},{"$f":"(D43-D35)/T20","v":91.75},{"$f":"(D50-D43)/U20","v":96.571428571428569}]
[11,2106,21,2114,null,null,null,null,null,null,0,12]
[11,2200,21,2207,null,null,null,null,null,null,0,12]
[11,2295,21,2301,null,null,null,null,null,null,0,12]
[22,2396,23,2407,null,null,null,null,null,null,0,22]
[11,2505,21,2512,null,null,null,null,null,null,0,12]
[11,2599,21,2603,null,null,null,null,null,null,0,12]
[11,2690,21,2697,null,null,null,null,null,null,0,12]
[11,2783,21,2790,null,null,null,null,null,null,0,12]
[11,2875,21,2882,null,null,null,null,null,null,0,12]
[11,2967,21,2974,null,null,null,null,null,null,0,12]
[11,3061,21,3066,null,null,null,null,null,null,0,12]
[11,3149,21,3156,null,null,null,null,null,null,0,12]
[11,3242,21,3247,null,null,null,null,null,null,0,12]
[11,3335,21,3343,null,null,null,null,null,null,0,12]
[11,3426,21,3431,null,null,null,null,null,null,0,12]
[11,3522,21,3529,null,null,null,null,null,null,0,12]
[11,3616,21,3623,null,null,null,null,null,null,0,12]
[11,3709,21,3716,null,null,null,null,null,null,0,12]
[22,3804,14,3815,null,null,null,null,null,null,0,21]
[11,3911,21,3918,null,null,null,null,null,null,0,12]
[11,4007,21,4015,null,null,null,null,null,null,0,12]
[11,4101,21,4107,null,null,null,null,null,null,1,12]

{"sheet":"!L823910.052","index":19,"n_rows":46,"n_cols":48,"rows_kept":46,"cut":false,"hidden":false,"merged":[[4,39,4,42],[5,39,5,40],[4,44,4,47],[5,44,5,45],[4,24,4,27],[5,24,5,25],[4,29,4,32],[5,29,5,30],[4,34,4,37],[5,34,5,35],[1,1,1,2],[5,13,5,14],[18,13,18,14],[19,13,19,14],[4,19,4,22],[5,19,5,20]]}
["Report for:!L823910.052"]
["Date:","<date>"]
["Hen:","<hen>",null,null,null,"Correct Sequence",{"$f":"Start!J2","v":12},null,null,null,null,null,null,null,null,"Total Sequences in Data",{"$f":"4994-COUNTBLANK(L7:L5000)","v":40},null,null,null,null,"Total Sequences in Block Data",{"$f":"COUNTA(L7:L13)","v":7},null,null,null,"Total Sequences in Block Data",{"$f":"COUNTA(L14:L19)","v":6},null,null,null,"Total Sequences in Block Data",{"$f":"COUNTA(L20:L26)","v":7},null,null,null,"Total Sequences in Block Data",{"$f":"COUNTA(L27:L33)","v":7},null,null,null,"Total Sequences in Block Data",{"$f":"COUNTA(L34:L39)","v":6},null,null,null,"Total Sequences in Block Data",{"$f":"COUNTA(L40:L46)","v":7}]
[null,null,null,null,null,null,null,null,null,null,null,null,null,null,null,"Total Sequences in Summary",{"$f":"SUM(O7:O14)","v":40},null,null,null,null,"Total Sequences in Block Summary",{"$f":"SUM(U7:U14)","v":7},null,null,null,"Total Sequences in Block Summary",{"$f":"SUM(Z7:Z14)","v":6},null,null,null,"Total Sequences in Block Summary",{"$f":"SUM(AE7:AE14)","v":7},null,null,null,"Total Sequences in Block Summary",{"$f":"SUM(AJ7:AJ14)","v":7},null,null,null,"Total Sequences in Block Summary",{"$f":"SUM(AO7:AO14)","v":6},null,null,null,"Total Sequences in Block Summary",{"$f":"SUM(AT7:AT14)","v":7}]
[null,null,null,null,null,null,null,null,null,null,null,null,null,null,null,null,null,null,null,"Block 1",null,null,null,null,"Block 2",null,null,null,null,"Block 3",null,null,null,null,"Block 4",null,null,null,null,"Block 5",null,null,null,null,"Block 6"]
["Sequence\nComponent\n1","Time\n1","Sequence\nComponent\n2","Time\n2","Sequence\nComponent\n3","Time\n3","Sequence\nComponent\n4","Time\n4","Sequence\nComponent\n5","Time\n5","Correct?\n0=No 1=Yes","Sequence",null,"Frequency",null,"Relative Frequency","Variability",null,null,"Frequency",null,"Relative Frequency","Variability",null,"Frequency",null,"Relative Frequency","Variability",null,"Frequency",null,"Relative Frequency","Variability",null,"Frequency",null,"Relative Frequency","Variability",null,"Frequency",null,"Relative Frequency","Variability",null,"Frequency",null,"Relative Frequency","Variability"]
[11,7,21,13,null,null,null,null,null,null,0,12,null,11,{"$f":"COUNTIF($L$7:$L$500,N7)","v":0},{"$f":"O7/$Q$4","v":0},{"$f":"IF(P7=0,0,(P7*((LOG(P7))/LOG(2))))","v":0},null,null,{"$f":"N7","v":11},{"$f":"COUNTIF(L7:L13,T7)","v":0},{"$f":"U7/(W4-U8)","v":{"$error":"#DIV/0!"}},{"$f":"IF(V7=0,0,(V7*((LOG(V7))/LOG(2))))","v":{"$error":"#DIV/0!"}},null,{"$f":"N7","v":11},{"$f":"COUNTIF(L14:L19,Y7)","v":0},{"$f":"Z7/(AB4-Z8)","v":{"$error":"#DIV/0!"}},{"$f":"IF(AA7=0,0,(AA7*((LOG(AA7))/LOG(2))))","v":{"$error":"#DIV/0!"}},null,{"$f":"N7","v":11},{"$f":"COUNTIF(L20:L26,AD7)","v":0},{"$f":"AE7/(AG4-AE8)","v":{"$error":"#DIV/0!"}},{"$f":"IF(AF7=0,0,(AF7*((LOG(AF7))/LOG(2))))","v":{"$error":"#DIV/0!"}},null,{"$f":"N7","v":11},{"$f":"COUNTIF(L27:L33,AI7)","v":0},{"$f":"AJ7/(AL4-AJ8)","v":{"$error":"#DIV/0!"}},{"$f":"IF(AK7=0,0,(AK7*((LOG(AK7))/LOG(2))))","v":{"$error":"#DIV/0!"}},null,{"$f":"N7","v":11},{"$f":"COUNTIF(L34:L39,AN7)","v":0},{"$f":"AO7/(AQ4-AO8)","v":{"$error":"#DIV/0!"}},{"$f":"IF(AP7=0,0,(AP7*((LOG(AP7))/LOG(2))))","v":{"$error":"#DIV/0!"}},null,{"$f":"N7","v":11},{"$f":"COUNTIF(L40:L46,AS7)","v":0},{"$f":"AT7/(AV4-AT8)","v":{"$error":"#DIV/0!"}},{"$f":"IF(AU7=0,0,(AU7*((LOG(AU7))/LOG(2))))","v":{"$error":"#DIV/0!"}}]
[11,100,21,107,null,null,null,null,null,null,0,12,null,12,{"$f":"COUNTIF($L$7:$L$500,N8)","v":40},{"$f":"O8/$Q$4","v":1},{"$f":"IF(P8=0,0,(P8*((LOG(P8))/LOG(2))))","v":0},null,null,{"$f":"N8","v":12},{"$f":"COUNTIF(L7:L13,T8)","v":7},null,null,null,{"$f":"N8","v":12},{"$f":"COUNTIF(L14:L19,Y8)","v":6},null,null,null,{"$f":"N8","v":12},{"$f":"COUNTIF(L20:L26,AD8)","v":7},null,null,null,{"$f":"N8","v":12},{"$f":"COUNTIF(L27:L33,AI8)","v":7},null,null,null,{"$f":"N8","v":12},{"$f":"COUNTIF(L34:L39,AN8)","v":6},null,null,null,{"$f":"N8","v":12},{"$f":"COUNTIF(L40:L46,AS8)","v":7}]
[11,199,21,206,null,null,null,null,null,null,0,12,null,21,{"$f":"COUNTIF($L$7:$L$500,N9)","v":0},{"$f":"O9/$Q$4","v":0},{"$f":"IF(P9=0,0,(P9*((LOG(P9))/LOG(2))))","v":0},null,null,{"$f":"N9","v":21},{"$f":"COUNTIF(L7:L13,T9)","v":0},{"$f":"U9/(W4-U8)","v":{"$error":"#DIV/0!"}},{"$f":"IF(V9=0,0,(V9*((LOG(V9))/LOG(2))))","v":{"$error":"#DIV/0!"}},null,{"$f":"N9","v":21},{"$f":"COUNTIF(L14:L19,Y9)","v":0},{"$f":"Z9/(AB4-Z8)","v":{"$error":"#DIV/0!"}},{"$f":"IF(AA9=0,0,(AA9*((LOG(AA9))/LOG(2))))","v":{"$error":"#DIV/0!"}},null,{"$f":"N9","v":21},{"$f":"COUNTIF(L20:L26,AD9)","v":0},{"$f":"AE9/(AG4-AE8)","v":{"$error":"#DIV/0!"}},{"$f":"IF(AF9=0,0,(AF9*((LOG(AF9))/LOG(2))))","v":{"$error":"#DIV/0!"}},null,{"$f":"N9","v":21},{"$f":"COUNTIF(L27:L33,AI9)","v":0},{"$f":"AJ9/(AL4-AJ8)","v":{"$error":"#DIV/0!"}},{"$f":"IF(AK9=0,0,(AK9*((LOG(AK9))/LOG(2))))","v":{"$error":"#DIV/0!"}},null,{"$f":"N9","v":21},{"$f":"COUNTIF(L34:L39,AN9)","v":0},{"$f":"AO9/(AQ4-AO8)","v":{"$error":"#DIV/0!"}},{"$f":"IF(AP9=0,0,(AP9*((LOG(AP9))/LOG(2))))","v":{"$error":"#DIV/0!"}},null,{"$f":"N9","v":21},{"$f":"COUNTIF(L40:L46,AS9)","v":0},{"$f":"AT9/(AV4-AT8)","v":{"$error":"#DIV/0!"}},{"$f":"IF(AU9=0,0,(AU9*((LOG(AU9))/LOG(2))))","v":{"$error":"#DIV/0!"}}]
[11,292,21,298,null,null,null,null,null,null,0,12,null,22,{"$f":"COUNTIF($L$7:$L$500,N10)","v":0},{"$f":"O10/$Q$4","v":0},{"$f":"IF(P10=0,0,(P10*((LOG(P10))/LOG(2))))","v":0},null,null,{"$f":"N10","v":22},{"$f":"COUNTIF(L7:L13,T10)","v":0},{"$f":"U10/(W4-U8)","v":{"$error":"#DIV/0!"}},{"$f":"IF(V10=0,0,(V10*((LOG(V10))/LOG(2))))","v":{"$error":"#DIV/0!"}},null,{"$f":"N10","v":22},{"$f":"COUNTIF(L14:L19,Y10)","v":0},{"$f":"Z10/(AB4-Z8)","v":{"$error":"#DIV/0!"}},{"$f":"IF(AA10=0,0,(AA10*((LOG(AA10))/LOG(2))))","v":{"$error":"#DIV/0!"}},null,{"$f":"N10","v":22},{"$f":"COUNTIF(L20:L26,AD10)","v":0},{"$f":"AE10/(AG4-AE8)","v":{"$error":"#DIV/0!"}},{"$f":"IF(AF10=0,0,(AF10*((LOG(AF10))/LOG(2))))","v":{"$error":"#DIV/0!"}},null,{"$f":"N10","v":22},{"$f":"COUNTIF(L27:L33,AI10)","v":0},{"$f":"AJ10/(AL4-AJ8)","v":{"$error":"#DIV/0!"}},{"$f":"IF(AK10=0,0,(AK10*((LOG(AK10))/LOG(2))))","v":{"$error":"#DIV/0!"}},null,{"$f":"N10","v":22},{"$f":"COUNTIF(L34:L39,AN10)","v":0},{"$f":"AO10/(AQ4-AO8)","v":{"$error":"#DIV/0!"}},{"$f":"IF(AP10=0,0,(AP10*((LOG(AP10))/LOG(2))))","v":{"$error":"#DIV/0!"}},null,{"$f":"N10","v":22},{"$f":"COUNTIF(L40:L46,AS10)","v":0},{"$f":"AT10/(AV4-AT8)","v":{"$error":"#DIV/0!"}},{"$f":"IF(AU10=0,0,(AU10*((LOG(AU10))/LOG(2))))","v":{"$error":"#DIV/0!"}}]
[11,384,21,389,null,null,null,null,null,null,0,12,null,null,null,null,null,null,null,{"$f":"N11","v":0},{"$f":"COUNTIF(L7:L13,T11)","v":0},{"$f":"U11/(W4-U8)","v":{"$error":"#DIV/0!"}},{"$f":"IF(V11=0,0,(V11*((LOG(V11))/LOG(2))))","v":{"$error":"#DIV/0!"}},null,{"$f":"N11","v":0},{"$f":"COUNTIF(L14:L19,Y11)","v":0},{"$f":"Z11/(AB4-Z8)","v":{"$error":"#DIV/0!"}},{"$f":"IF(AA11=0,0,(AA11*((LOG(AA11))/LOG(2))))","v":{"$error":"#DIV/0!"}},null,{"$f":"N11","v":0},{"$f":"COUNTIF(L20:L26,AD11)","v":0},{"$f":"AE11/(AG4-AE8)","v":{"$error":"#DIV/0!"}},{"$f":"IF(AF11=0,0,(AF11*((LOG(AF11))/LOG(2))))","v":{"$error":"#DIV/0!"}},null,{"$f":"N11","v":0},{"$f":"COUNTIF(L27:L33,AI11)","v":0},{"$f":"AJ11/(AL4-AJ8)","v":{"$error":"#DIV/0!"}},{"$f":"IF(AK11=0,0,(AK11*((LOG(AK11))/LOG(2))))","v":{"$error":"#DIV/0!"}},null,{"$f":"N11","v":0},{"$f":"COUNTIF(L34:L39,AN11)","v":0},{"$f":"AO11/(AQ4-AO8)","v":{"$error":"#DIV/0!"}},{"$f":"IF(AP11=0,0,(AP11*((LOG(AP11))/LOG(2))))","v":{"$error":"#DIV/0!"}},null,{"$f":"N11","v":0},{"$f":"COUNTIF(L40:L46,AS11)","v":0},{"$f":"AT11/(AV4-AT8)","v":{"$error":"#DIV/0!"}},{"$f":"IF(AU11=0,0,(AU11*((LOG(AU11))/LOG(2))))","v":{"$error":"#DIV/0!"}}]
[11,475,21,479,null,null,null,null,null,null,0,12,null,null,null,null,null,null,null,{"$f":"N12","v":0},{"$f":"COUNTIF(L7:L13,T12)","v":0},{"$f":"U12/(W4-U8)","v":{"$error":"#DIV/0!"}},{"$f":"IF(V12=0,0,(V12*((LOG(V12))/LOG(2))))","v":{"$error":"#DIV/0!"}},null,{"$f":"N12","v":0},{"$f":"COUNTIF(L14:L19,Y12)","v":0},{"$f":"Z12/(AB4-Z8)","v":{"$error":"#DIV/0!"}},{"$f":"IF(AA12=0,0,(AA12*((LOG(AA12))/LOG(2))))","v":{"$error":"#DIV/0!"}},null,{"$f":"N12","v":0},{"$f":"COUNTIF(L20:L26,AD12)","v":0},{"$f":"AE12/(AG4-AE8)","v":{"$error":"#DIV/0!"}},{"$f":"IF(AF12=0,0,(AF12*((LOG(AF12))/LOG(2))))","v":{"$error":"#DIV/0!"}},null,{"$f":"N12","v":0},{"$f":"COUNTIF(L27:L33,AI12)","v":0},{"$f":"AJ12/(AL4-AJ8)","v":{"$error":"#DIV/0!"}},{"$f":"IF(AK12=0,0,(AK12*((LOG(AK12))/LOG(2))))","v":{"$error":"#DIV/0!"}},null,{"$f":"N12","v":0},{"$f":"COUNTIF(L34:L39,AN12)","v":0},{"$f":"AO12/(AQ4-AO8)","v":{"$error":"#DIV/0!"}},{"$f":"IF(AP12=0,0,(AP12*((LOG(AP12))/LOG(2))))","v":{"$error":"#DIV/0!"}},null,{"$f":"N12","v":0},{"$f":"COUNTIF(L40:L46,AS12)","v":0},{"$f":"AT12/(AV4-AT8)","v":{"$error":"#DIV/0!"}},{"$f":"IF(AU12=0,0,(AU12*((LOG(AU12))/LOG(2))))","v":{"$error":"#DIV/0!"}}]
[11,568,21,575,null,null,null,null,null,null,0,12,null,null,null,null,null,null,null,{"$f":"N13","v":0},{"$f":"COUNTIF(L7:L13,T13)","v":0},{"$f":"U13/(W4-U8)","v":{"$error":"#DIV/0!"}},{"$f":"IF(V13=0,0,(V13*((LOG(V13))/LOG(2))))","v":{"$error":"#DIV/0!"}},null,{"$f":"N13","v":0},{"$f":"COUNTIF(L14:L19,Y13)","v":0},{"$f":"Z13/(AB4-Z8)","v":{"$error":"#DIV/0!"}},{"$f":"IF(AA13=0,0,(AA13*((LOG(AA13))/LOG(2))))","v":{"$error":"#DIV/0!"}},null,{"$f":"N13","v":0},{"$f":"COUNTIF(L20:L26,AD13)","v":0},{"$f":"AE13/(AG4-AE8)","v":{"$error":"#DIV/0!"}},{"$f":"IF(AF13=0,0,(AF13*((LOG(AF13))/LOG(2))))","v":{"$error":"#DIV/0!"}},null,{"$f":"N13","v":0},{"$f":"COUNTIF(L27:L33,AI13)","v":0},{"$f":"AJ13/(AL4-AJ8)","v":{"$error":"#DIV/0!"}},{"$f":"IF(AK13=0,0,(AK13*((LOG(AK13))/LOG(2))))","v":{"$error":"#DIV/0!"}},null,{"$f":"N13","v":0},{"$f":"COUNTIF(L34:L39,AN13)","v":0},{"$f":"AO13/(AQ4-AO8)","v":{"$error":"#DIV/0!"}},{"$f":"IF(AP13=0,0,(AP13*((LOG(AP13))/LOG(2))))","v":{"$error":"#DIV/0!"}},null,{"$f":"N13","v":0},{"$f":"COUNTIF(L40:L46,AS13)","v":0},{"$f":"AT13/(AV4-AT8)","v":{"$error":"#DIV/0!"}},{"$f":"IF(AU13=0,0,(AU13*((LOG(AU13))/LOG(2))))","v":{"$error":"#DIV/0!"}}]
[11,669,21,676,null,null,null,null,null,null,0,12,null,null,null,null,null,null,null,{"$f":"N14","v":0},{"$f":"COUNTIF(L7:L13,T14)","v":0},{"$f":"U14/(W4-U8)","v":{"$error":"#DIV/0!"}},{"$f":"IF(V14=0,0,(V14*((LOG(V14))/LOG(2))))","v":{"$error":"#DIV/0!"}},null,{"$f":"N14","v":0},{"$f":"COUNTIF(L14:L19,Y14)","v":0},{"$f":"Z14/(AB4-Z8)","v":{"$error":"#DIV/0!"}},{"$f":"IF(AA14=0,0,(AA14*((LOG(AA14))/LOG(2))))","v":{"$error":"#DIV/0!"}},null,{"$f":"N14","v":0},{"$f":"COUNTIF(L20:L26,AD14)","v":0},{"$f":"AE14/(AG4-AE8)","v":{"$error":"#DIV/0!"}},{"$f":"IF(AF14=0,0,(AF14*((LOG(AF14))/LOG(2))))","v":{"$error":"#DIV/0!"}},null,{"$f":"N14","v":0},{"$f":"COUNTIF(L27:L33,AI14)","v":0},{"$f":"AJ14/(AL4-AJ8)","v":{"$error":"#DIV/0!"}},{"$f":"IF(AK14=0,0,(AK14*((LOG(AK14))/LOG(2))))","v":{"$error":"#DIV/0!"}},null,{"$f":"N14","v":0},{"$f":"COUNTIF(L34:L39,AN14)","v":0},{"$f":"AO14/(AQ4-AO8)","v":{"$error":"#DIV/0!"}},{"$f":"IF(AP14=0,0,(AP14*((LOG(AP14))/LOG(2))))","v":{"$error":"#DIV/0!"}},null,{"$f":"N14","v":0},{"$f":"COUNTIF(L40:L46,AS14)","v":0},{"$f":"AT14/(AV4-AT8)","v":{"$error":"#DIV/0!"}},{"$f":"IF(AU14=0,0,(AU14*((LOG(AU14))/LOG(2))))","v":{"$error":"#DIV/0!"}}]
[11,759,21,765,null,null,null,null,null,null,0,12,null,null,null,{"$f":"SUM(P7:P14)","v":1},{"$f":"-SUM(Q7:Q14)","v":0},null,null,null,null,{"$f":"SUM(V7:V14)","v":{"$error":"#DIV/0!"}},{"$f":"-SUM(W7:W14)","v":{"$error":"#DIV/0!"}},null,null,null,{"$f":"SUM(AA7:AA14)","v":{"$error":"#DIV/0!"}},{"$f":"-SUM(AB7:AB14)","v":{"$error":"#DIV/0!"}},null,null,null,{"$f":"SUM(AF7:AF14)","v":{"$error":"#DIV/0!"}},{"$f":"-SUM(AG7:AG14)","v":{"$error":"#DIV/0!"}},null,null,null,{"$f":"SUM(AK7:AK14)","v":{"$error":"#DIV/0!"}},{"$f":"-SUM(AL7:AL14)","v":{"$error":"#DIV/0!"}},null,null,null,{"$f":"SUM(AP7:AP14)","v":{"$error":"#DIV/0!"}},{"$f":"-SUM(AQ7:AQ14)","v":{"$error":"#DIV/0!"}},null,null,null,{"$f":"SUM(AU7:AU14)","v":{"$error":"#DIV/0!"}},{"$f":"-SUM(AV7:AV14)","v":{"$error":"#DIV/0!"}}]
[11,851,21,857,null,null,null,null,null,null,0,12,null,null,null,"U=",{"$f":"Q15/(LOG(Q4)/LOG(2))","v":0},null,null,null,null,"U1=",{"$f":"W15/(LOG(W4)/LOG(2))","v":{"$error":"#DIV/0!"}},null,null,null,"U2=",{"$f":"AB15/(LOG(AB4)/LOG(2))","v":{"$error":"#DIV/0!"}},null,null,null,"U3=",{"$f":"AG15/(LOG(AG4)/LOG(2))","v":{"$error":"#DIV/0!"}},null,null,null,"U4=",{"$f":"AL15/(LOG(AL4)/LOG(2))","v":{"$error":"#DIV/0!"}},null,null,null,"U5=",{"$f":"AQ15/(LOG(AQ4)/LOG(2))","v":{"$error":"#DIV/0!"}},null,null,null,"U6=",{"$f":"AV15/(LOG(AV4)/LOG(2))","v":{"$error":"#DIV/0!"}}]
[11,943,21,947,null,null,null,null,null,null,0,12]
[11,1035,21,1043,null,null,null,null,null,null,0,12]
[11,1133,21,1138,null,null,null,null,null,null,0,12,null,"Total Target Seq"]
[11,1225,21,1231,null,null,null,null,null,null,0,12,null,{"$f":"COUNTIF(L7:L46,G3)","v":40},null,7,6,7,7,6,7]
[11,1318,21,1325,null,null,null,null,null,null,0,12,null,null,null,"% of reinforcement given in 6 equal intervals based on number of trials "]
[11,1411,21,1415,null,null,null,null,null,null,0,12,null,null,null,"%_1","%_2","%_3","%_4","%_5","%_6"]
[11,1503,21,1510,null,null,null,null,null,null,0,12,null,null,"target sequence",{"$f":"$G$3","v":12},{"$f":"$G$3","v":12},{"$f":"$G$3","v":12},{"$f":"$G$3","v":12},{"$f":"$G$3","v":12},{"$f":"$G$3","v":12}]
[11,1594,21,1601,null,null,null,null,null,null,0,12,null,null,"total reinforcement",{"$f":"U8","v":7},{"$f":"Z8","v":6},{"$f":"AE8","v":7},{"$f":"AJ8","v":7},{"$f":"AO8","v":6},{"$f":"AT8","v":7}]
[11,1684,21,1691,null,null,null,null,null,null,0,12,null,null,"% target"]
[11,1776,21,1781,null,null,null,null,null,null,0,12,null,null,"CCRF"]
[11,1867,21,1872,null,null,null,null,null,null,0,12,null,null,"% CCRf"]
[11,1963,21,1969,null,null,null,null,null,null,0,12,null,null,"average response rate",{"$f":"D13/P20","v":82.142857142857139},{"$f":"(D19-D13)/Q20","v":93.833333333333329},{"$f":"(D26-D19)/R20","v":91.857142857142861},{"$f":"(D33-D26)/S20","v":94},{"$f":"(D39-D33)/T20","v":93.166666666666671},{"$f":"(D46-D39)/U20","v":93.142857142857139}]
[11,2061,21,2069,null,null,null,null,null,null,0,12]
[11,2156,21,2162,null,null,null,null,null,null,0,12]
[11,2248,21,2253,null,null,null,null,null,null,0,12]
[11,2338,21,2342,null,null,null,null,null,null,0,12]
[11,2434,21,2439,null,null,null,null,null,null,0,12]
[11,2526,21,2532,null,null,null,null,null,null,0,12]
[11,2619,21,2626,null,null,null,null,null,null,0,12]
[11,2713,21,2721,null,null,null,null,null,null,0,12]
[11,2807,21,2814,null,null,null,null,null,null,0,12]
[11,2899,21,2904,null,null,null,null,null,null,0,12]
[11,2991,21,2998,null,null,null,null,null,null,0,12]
[11,3086,21,3093,null,null,null,null,null,null,0,12]
[11,3181,21,3186,null,null,null,null,null,null,0,12]
[11,3271,21,3278,null,null,null,null,null,null,0,12]
[11,3363,21,3370,null,null,null,null,null,null,0,12]
[11,3459,21,3465,null,null,null,null,null,null,0,12]
[11,3553,21,3559,null,null,null,null,null,null,0,12]
[11,3645,21,3650,null,null,null,null,null,null,1,12]

{"sheet":"!L824920.052","index":20,"n_rows":48,"n_cols":48,"rows_kept":48,"cut":false,"hidden":false,"merged":[[4,39,4,42],[5,39,5,40],[4,44,4,47],[5,44,5,45],[4,24,4,27],[5,24,5,25],[4,29,4,32],[5,29,5,30],[4,34,4,37],[5,34,5,35],[1,1,1,2],[5,13,5,14],[18,13,18,14],[19,13,19,14],[4,19,4,22],[5,19,5,20]]}
["Report for:!L824920.052"]
["Date:","<date>"]
["Hen:","<hen>",null,null,null,"Correct Sequence",{"$f":"Start!J2","v":12},null,null,null,null,null,null,null,null,"Total Sequences in Data",{"$f":"4994-COUNTBLANK(L7:L5000)","v":42},null,null,null,null,"Total Sequences in Block Data",{"$f":"COUNTA(L7:L13)","v":7},null,null,null,"Total Sequences in Block Data",{"$f":"COUNTA(L14:L20)","v":7},null,null,null,"Total Sequences in Block Data",{"$f":"COUNTA(L21:L27)","v":7},null,null,null,"Total Sequences in Block Data",{"$f":"COUNTA(L28:L34)","v":7},null,null,null,"Total Sequences in Block Data",{"$f":"COUNTA(L35:L41)","v":7},null,null,null,"Total Sequences in Block Data",{"$f":"COUNTA(L42:L48)","v":7}]
[null,null,null,null,null,null,null,null,null,null,null,null,null,null,null,"Total Sequences in Summary",{"$f":"SUM(O7:O14)","v":42},null,null,null,null,"Total Sequences in Block Summary",{"$f":"SUM(U7:U14)","v":7},null,null,null,"Total Sequences in Block Summary",{"$f":"SUM(Z7:Z14)","v":7},null,null,null,"Total Sequences in Block Summary",{"$f":"SUM(AE7:AE14)","v":7},null,null,null,"Total Sequences in Block Summary",{"$f":"SUM(AJ7:AJ14)","v":7},null,null,null,"Total Sequences in Block Summary",{"$f":"SUM(AO7:AO14)","v":7},null,null,null,"Total Sequences in Block Summary",{"$f":"SUM(AT7:AT14)","v":7}]
[null,null,null,null,null,null,null,null,null,null,null,null,null,null,null,null,null,null,null,"Block 1",null,null,null,null,"Block 2",null,null,null,null,"Block 3",null,null,null,null,"Block 4",null,null,null,null,"Block 5",null,null,null,null,"Block 6"]
["Sequence\nComponent\n1","Time\n1","Sequence\nComponent\n2","Time\n2","Sequence\nComponent\n3","Time\n3","Sequence\nComponent\n4","Time\n4","Sequence\nComponent\n5","Time\n5","Correct?\n0=No 1=Yes","Sequence",null,"Frequency",null,"Relative Frequency","Variability",null,null,"Frequency",null,"Relative Frequency","Variability",null,"Frequency",null,"Relative Frequency","Variability",null,"Frequency",null,"Relative Frequency","Variability",null,"Frequency",null,"Relative Frequency","Variability",null,"Frequency",null,"Relative Frequency","Variability",null,"Frequency",null,"Relative Frequency","Variability"]
[11,8,21,14,null,null,null,null,null,null,0,12,null,11,{"$f":"COUNTIF($L$7:$L$500,N7)","v":0},{"$f":"O7/$Q$4","v":0},{"$f":"IF(P7=0,0,(P7*((LOG(P7))/LOG(2))))","v":0},null,null,{"$f":"N7","v":11},{"$f":"COUNTIF(L7:L13,T7)","v":0},{"$f":"U7/(W4-U8)","v":{"$error":"#DIV/0!"}},{"$f":"IF(V7=0,0,(V7*((LOG(V7))/LOG(2))))","v":{"$error":"#DIV/0!"}},null,{"$f":"N7","v":11},{"$f":"COUNTIF(L14:L20,Y7)","v":0},{"$f":"Z7/(AB4-Z8)","v":{"$error":"#DIV/0!"}},{"$f":"IF(AA7=0,0,(AA7*((LOG(AA7))/LOG(2))))","v":{"$error":"#DIV/0!"}},null,{"$f":"N7","v":11},{"$f":"COUNTIF(L21:L27,AD7)","v":0},{"$f":"AE7/(AG4-AE8)","v":0},{"$f":"IF(AF7=0,0,(AF7*((LOG(AF7))/LOG(2))))","v":0},null,{"$f":"N7","v":11},{"$f":"COUNTIF(L28:L34,AI7)","v":0},{"$f":"AJ7/(AL4-AJ8)","v":{"$error":"#DIV/0!"}},{"$f":"IF(AK7=0,0,(AK7*((LOG(AK7))/LOG(2))))","v":{"$error":"#DIV/0!"}},null,{"$f":"N7","v":11},{"$f":"COUNTIF(L35:L41,AN7)","v":0},{"$f":"AO7/(AQ4-AO8)","v":0},{"$f":"IF(AP7=0,0,(AP7*((LOG(AP7))/LOG(2))))","v":0},null,{"$f":"N7","v":11},{"$f":"COUNTIF(L42:L48,AS7)","v":0},{"$f":"AT7/(AV4-AT8)","v":{"$error":"#DIV/0!"}},{"$f":"IF(AU7=0,0,(AU7*((LOG(AU7))/LOG(2))))","v":{"$error":"#DIV/0!"}}]
[11,102,21,109,null,null,null,null,null,null,0,12,null,12,{"$f":"COUNTIF($L$7:$L$500,N8)","v":40},{"$f":"O8/$Q$4","v":0.95238095238095233},{"$f":"IF(P8=0,0,(P8*((LOG(P8))/LOG(2))))","v":-6.7037455134664775E-2},null,null,{"$f":"N8","v":12},{"$f":"COUNTIF(L7:L13,T8)","v":7},null,null,null,{"$f":"N8","v":12},{"$f":"COUNTIF(L14:L20,Y8)","v":7},null,null,null,{"$f":"N8","v":12},{"$f":"COUNTIF(L21:L27,AD8)","v":6},null,null,null,{"$f":"N8","v":12},{"$f":"COUNTIF(L28:L34,AI8)","v":7},null,null,null,{"$f":"N8","v":12},{"$f":"COUNTIF(L35:L41,AN8)","v":6},null,null,null,{"$f":"N8","v":12},{"$f":"COUNTIF(L42:L48,AS8)","v":7}]
[11,196,21,201,null,null,null,null,null,null,0,12,null,21,{"$f":"COUNTIF($L$7:$L$500,N9)","v":0},{"$f":"O9/$Q$4","v":0},{"$f":"IF(P9=0,0,(P9*((LOG(P9))/LOG(2))))","v":0},null,null,{"$f":"N9","v":21},{"$f":"COUNTIF(L7:L13,T9)","v":0},{"$f":"U9/(W4-U8)","v":{"$error":"#DIV/0!"}},{"$f":"IF(V9=0,0,(V9*((LOG(V9))/LOG(2))))","v":{"$error":"#DIV/0!"}},null,{"$f":"N9","v":21},{"$f":"COUNTIF(L14:L20,Y9)","v":0},{"$f":"Z9/(AB4-Z8)","v":{"$error":"#DIV/0!"}},{"$f":"IF(AA9=0,0,(AA9*((LOG(AA9))/LOG(2))))","v":{"$error":"#DIV/0!"}},null,{"$f":"N9","v":21},{"$f":"COUNTIF(L21:L27,AD9)","v":0},{"$f":"AE9/(AG4-AE8)","v":0},{"$f":"IF(AF9=0,0,(AF9*((LOG(AF9))/LOG(2))))","v":0},null,{"$f":"N9","v":21},{"$f":"COUNTIF(L28:L34,AI9)","v":0},{"$f":"AJ9/(AL4-AJ8)","v":{"$error":"#DIV/0!"}},{"$f":"IF(AK9=0,0,(AK9*((LOG(AK9))/LOG(2))))","v":{"$error":"#DIV/0!"}},null,{"$f":"N9","v":21},{"$f":"COUNTIF(L35:L41,AN9)","v":0},{"$f":"AO9/(AQ4-AO8)","v":0},{"$f":"IF(AP9=0,0,(AP9*((LOG(AP9))/LOG(2))))","v":0},null,{"$f":"N9","v":21},{"$f":"COUNTIF(L42:L48,AS9)","v":0},{"$f":"AT9/(AV4-AT8)","v":{"$error":"#DIV/0!"}},{"$f":"IF(AU9=0,0,(AU9*((LOG(AU9))/LOG(2))))","v":{"$error":"#DIV/0!"}}]
[11,286,21,293,null,null,null,null,null,null,0,12,null,22,{"$f":"COUNTIF($L$7:$L$500,N10)","v":2},{"$f":"O10/$Q$4","v":4.7619047619047616E-2},{"$f":"IF(P10=0,0,(P10*((LOG(P10))/LOG(2))))","v":-0.20915797251327431},null,null,{"$f":"N10","v":22},{"$f":"COUNTIF(L7:L13,T10)","v":0},{"$f":"U10/(W4-U8)","v":{"$error":"#DIV/0!"}},{"$f":"IF(V10=0,0,(V10*((LOG(V10))/LOG(2))))","v":{"$error":"#DIV/0!"}},null,{"$f":"N10","v":22},{"$f":"COUNTIF(L14:L20,Y10)","v":0},{"$f":"Z10/(AB4-Z8)","v":{"$error":"#DIV/0!"}},{"$f":"IF(AA10=0,0,(AA10*((LOG(AA10))/LOG(2))))","v":{"$error":"#DIV/0!"}},null,{"$f":"N10","v":22},{"$f":"COUNTIF(L21:L27,AD10)","v":1},{"$f":"AE10/(AG4-AE8)","v":1},{"$f":"IF(AF10=0,0,(AF10*((LOG(AF10))/LOG(2))))","v":0},null,{"$f":"N10","v":22},{"$f":"COUNTIF(L28:L34,AI10)","v":0},{"$f":"AJ10/(AL4-AJ8)","v":{"$error":"#DIV/0!"}},{"$f":"IF(AK10=0,0,(AK10*((LOG(AK10))/LOG(2))))","v":{"$error":"#DIV/0!"}},null,{"$f":"N10","v":22},{"$f":"COUNTIF(L35:L41,AN10)","v":1},{"$f":"AO10/(AQ4-AO8)","v":1},{"$f":"IF(AP10=0,0,(AP10*((LOG(AP10))/LOG(2))))","v":0},null,{"$f":"N10","v":22},{"$f":"COUNTIF(L42:L48,AS10)","v":0},{"$f":"AT10/(AV4-AT8)","v":{"$error":"#DIV/0!"}},{"$f":"IF(AU10=0,0,(AU10*((LOG(AU10))/LOG(2))))","v":{"$error":"#DIV/0!"}}]
[11,380,21,387,null,null,null,null,null,null,0,12,null,null,null,null,null,null,null,{"$f":"N11","v":0},{"$f":"COUNTIF(L7:L13,T11)","v":0},{"$f":"U11/(W4-U8)","v":{"$error":"#DIV/0!"}},{"$f":"IF(V11=0,0,(V11*((LOG(V11))/LOG(2))))","v":{"$error":"#DIV/0!"}},null,{"$f":"N11","v":0},{"$f":"COUNTIF(L14:L20,Y11)","v":0},{"$f":"Z11/(AB4-Z8)","v":{"$error":"#DIV/0!"}},{"$f":"IF(AA11=0,0,(AA11*((LOG(AA11))/LOG(2))))","v":{"$error":"#DIV/0!"}},null,{"$f":"N11","v":0},{"$f":"COUNTIF(L21:L27,AD11)","v":0},{"$f":"AE11/(AG4-AE8)","v":0},{"$f":"IF(AF11=0,0,(AF11*((LOG(AF11))/LOG(2))))","v":0},null,{"$f":"N11","v":0},{"$f":"COUNTIF(L28:L34,AI11)","v":0},{"$f":"AJ11/(AL4-AJ8)","v":{"$error":"#DIV/0!"}},{"$f":"IF(AK11=0,0,(AK11*((LOG(AK11))/LOG(2))))","v":{"$error":"#DIV/0!"}},null,{"$f":"N11","v":0},{"$f":"COUNTIF(L35:L41,AN11)","v":0},{"$f":"AO11/(AQ4-AO8)","v":0},{"$f":"IF(AP11=0,0,(AP11*((LOG(AP11))/LOG(2))))","v":0},null,{"$f":"N11","v":0},{"$f":"COUNTIF(L42:L48,AS11)","v":0},{"$f":"AT11/(AV4-AT8)","v":{"$error":"#DIV/0!"}},{"$f":"IF(AU11=0,0,(AU11*((LOG(AU11))/LOG(2))))","v":{"$error":"#DIV/0!"}}]
[11,475,21,480,null,null,null,null,null,null,0,12,null,null,null,null,null,null,null,{"$f":"N12","v":0},{"$f":"COUNTIF(L7:L13,T12)","v":0},{"$f":"U12/(W4-U8)","v":{"$error":"#DIV/0!"}},{"$f":"IF(V12=0,0,(V12*((LOG(V12))/LOG(2))))","v":{"$error":"#DIV/0!"}},null,{"$f":"N12","v":0},{"$f":"COUNTIF(L14:L20,Y12)","v":0},{"$f":"Z12/(AB4-Z8)","v":{"$error":"#DIV/0!"}},{"$f":"IF(AA12=0,0,(AA12*((LOG(AA12))/LOG(2))))","v":{"$error":"#DIV/0!"}},null,{"$f":"N12","v":0},{"$f":"COUNTIF(L21:L27,AD12)","v":0},{"$f":"AE12/(AG4-AE8)","v":0},{"$f":"IF(AF12=0,0,(AF12*((LOG(AF12))/LOG(2))))","v":0},null,{"$f":"N12","v":0},{"$f":"COUNTIF(L28:L34,AI12)","v":0},{"$f":"AJ12/(AL4-AJ8)","v":{"$error":"#DIV/0!"}},{"$f":"IF(AK12=0,0,(AK12*((LOG(AK12))/LOG(2))))","v":{"$error":"#DIV/0!"}},null,{"$f":"N12","v":0},{"$f":"COUNTIF(L35:L41,AN12)","v":0},{"$f":"AO12/(AQ4-AO8)","v":0},{"$f":"IF(AP12=0,0,(AP12*((LOG(AP12))/LOG(2))))","v":0},null,{"$f":"N12","v":0},{"$f":"COUNTIF(L42:L48,AS12)","v":0},{"$f":"AT12/(AV4-AT8)","v":{"$error":"#DIV/0!"}},{"$f":"IF(AU12=0,0,(AU12*((LOG(AU12))/LOG(2))))","v":{"$error":"#DIV/0!"}}]
[11,567,21,572,null,null,null,null,null,null,0,12,null,null,null,null,null,null,null,{"$f":"N13","v":0},{"$f":"COUNTIF(L7:L13,T13)","v":0},{"$f":"U13/(W4-U8)","v":{"$error":"#DIV/0!"}},{"$f":"IF(V13=0,0,(V13*((LOG(V13))/LOG(2))))","v":{"$error":"#DIV/0!"}},null,{"$f":"N13","v":0},{"$f":"COUNTIF(L14:L20,Y13)","v":0},{"$f":"Z13/(AB4-Z8)","v":{"$error":"#DIV/0!"}},{"$f":"IF(AA13=0,0,(AA13*((LOG(AA13))/LOG(2))))","v":{"$error":"#DIV/0!"}},null,{"$f":"N13","v":0},{"$f":"COUNTIF(L21:L27,AD13)","v":0},{"$f":"AE13/(AG4-AE8)","v":0},{"$f":"IF(AF13=0,0,(AF13*((LOG(AF13))/LOG(2))))","v":0},null,{"$f":"N13","v":0},{"$f":"COUNTIF(L28:L34,AI13)","v":0},{"$f":"AJ13/(AL4-AJ8)","v":{"$error":"#DIV/0!"}},{"$f":"IF(AK13=0,0,(AK13*((LOG(AK13))/LOG(2))))","v":{"$error":"#DIV/0!"}},null,{"$f":"N13","v":0},{"$f":"COUNTIF(L35:L41,AN13)","v":0},{"$f":"AO13/(AQ4-AO8)","v":0},{"$f":"IF(AP13=0,0,(AP13*((LOG(AP13))/LOG(2))))","v":0},null,{"$f":"N13","v":0},{"$f":"COUNTIF(L42:L48,AS13)","v":0},{"$f":"AT13/(AV4-AT8)","v":{"$error":"#DIV/0!"}},{"$f":"IF(AU13=0,0,(AU13*((LOG(AU13))/LOG(2))))","v":{"$error":"#DIV/0!"}}]
[11,660,21,667,null,null,null,null,null,null,0,12,null,null,null,null,null,null,null,{"$f":"N14","v":0},{"$f":"COUNTIF(L7:L13,T14)","v":0},{"$f":"U14/(W4-U8)","v":{"$error":"#DIV/0!"}},{"$f":"IF(V14=0,0,(V14*((LOG(V14))/LOG(2))))","v":{"$error":"#DIV/0!"}},null,{"$f":"N14","v":0},{"$f":"COUNTIF(L14:L20,Y14)","v":0},{"$f":"Z14/(AB4-Z8)","v":{"$error":"#DIV/0!"}},{"$f":"IF(AA14=0,0,(AA14*((LOG(AA14))/LOG(2))))","v":{"$error":"#DIV/0!"}},null,{"$f":"N14","v":0},{"$f":"COUNTIF(L21:L27,AD14)","v":0},{"$f":"AE14/(AG4-AE8)","v":0},{"$f":"IF(AF14=0,0,(AF14*((LOG(AF14))/LOG(2))))","v":0},null,{"$f":"N14","v":0},{"$f":"COUNTIF(L28:L34,AI14)","v":0},{"$f":"AJ14/(AL4-AJ8)","v":{"$error":"#DIV/0!"}},{"$f":"IF(AK14=0,0,(AK14*((LOG(AK14))/LOG(2))))","v":{"$error":"#DIV/0!"}},null,{"$f":"N14","v":0},{"$f":"COUNTIF(L35:L41,AN14)","v":0},{"$f":"AO14/(AQ4-AO8)","v":0},{"$f":"IF(AP14=0,0,(AP14*((LOG(AP14))/LOG(2))))","v":0},null,{"$f":"N14","v":0},{"$f":"COUNTIF(L42:L48,AS14)","v":0},{"$f":"AT14/(AV4-AT8)","v":{"$error":"#DIV/0!"}},{"$f":"IF(AU14=0,0,(AU14*((LOG(AU14))/LOG(2))))","v":{"$error":"#DIV/0!"}}]
[11,754,21,758,null,null,null,null,null,null,0,12,null,null,null,{"$f":"SUM(P7:P14)","v":1},{"$f":"-SUM(Q7:Q14)","v":0.27619542764793908},null,null,null,null,{"$f":"SUM(V7:V14)","v":{"$error":"#DIV/0!"}},{"$f":"-SUM(W7:W14)","v":{"$error":"#DIV/0!"}},null,null,null,{"$f":"SUM(AA7:AA14)","v":{"$error":"#DIV/0!"}},{"$f":"-SUM(AB7:AB14)","v":{"$error":"#DIV/0!"}},null,null,null,{"$f":"SUM(AF7:AF14)","v":1},{"$f":"-SUM(AG7:AG14)","v":0},null,null,null,{"$f":"SUM(AK7:AK14)","v":{"$error":"#DIV/0!"}},{"$f":"-SUM(AL7:AL14)","v":{"$error":"#DIV/0!"}},null,null,null,{"$f":"SUM(AP7:AP14)","v":1},{"$f":"-SUM(AQ7:AQ14)","v":0},null,null,null,{"$f":"SUM(AU7:AU14)","v":{"$error":"#DIV/0!"}},{"$f":"-SUM(AV7:AV14)","v":{"$error":"#DIV/0!"}}]
[11,845,21,850,null,null,null,null,null,null,0,12,null,null,null,"U=",{"$f":"Q15/(LOG(Q4)/LOG(2))","v":5.1220172329100477E-2},null,null,null,null,"U1=",{"$f":"W15/(LOG(W4)/LOG(2))","v":{"$error":"#DIV/0!"}},null,null,null,"U2=",{"$f":"AB15/(LOG(AB4)/LOG(2))","v":{"$error":"#DIV/0!"}},null,null,null,"U3=",{"$f":"AG15/(LOG(AG4)/LOG(2))","v":0},null,null,null,"U4=",{"$f":"AL15/(LOG(AL4)/LOG(2))","v":{"$error":"#DIV/0!"}},null,null,null,"U5=",{"$f":"AQ15/(LOG(AQ4)/LOG(2))","v":0},null,null,null,"U6=",{"$f":"AV15/(LOG(AV4)/LOG(2))","v":{"$error":"#DIV/0!"}}]
[11,938,21,943,null,null,null,null,null,null,0,12]
[11,1030,21,1037,null,null,null,null,null,null,0,12]
[11,1124,21,1131,null,null,null,null,null,null,0,12,null,"Total Target Seq"]
[11,1218,21,1223,null,null,null,null,null,null,0,12,null,{"$f":"COUNTIF(L7:L48,G3)","v":40},null,7,7,7,7,7,7]
[11,1310,21,1315,null,null,null,null,null,null,0,12,null,null,null,"% of reinforcement given in 6 equal intervals based on number of trials "]
[11,1403,21,1408,null,null,null,null,null,null,0,12,null,null,null,"%_1","%_2","%_3","%_4","%_5","%_6"]
[11,1494,21,1501,null,null,null,null,null,null,0,12,null,null,"target sequence",{"$f":"$G$3","v":12},{"$f":"$G$3","v":12},{"$f":"$G$3","v":12},{"$f":"$G$3","v":12},{"$f":"$G$3","v":12},{"$f":"$G$3","v":12}]
[11,1591,21,1599,null,null,null,null,null,null,0,12,null,null,"total reinforcement",{"$f":"U8","v":7},{"$f":"Z8","v":7},{"$f":"AE8","v":6},{"$f":"AJ8","v":7},{"$f":"AO8","v":6},{"$f":"AT8","v":7}]
[22,1695,23,1716,null,null,null,null,null,null,0,22,null,null,"% target"]
[11,1814,21,1819,null,null,null,null,null,null,0,12,null,null,"CCRF"]
[11,1905,21,1912,null,null,null,null,null,null,0,12,null,null,"% CCRf"]
[11,1996,21,2004,null,null,null,null,null,null,0,12,null,null,"average response rate",{"$f":"D13/P20","v":81.714285714285708},{"$f":"(D20-D13)/Q20","v":93},{"$f":"(D27-D20)/R20","v":98.428571428571431},{"$f":"(D34-D27)/S20","v":92.571428571428569},{"$f":"(D41-D34)/T20","v":104},{"$f":"(D48-D41)/U20","v":94.285714285714292}]
[11,2092,21,2097,null,null,null,null,null,null,0,12]
[11,2182,21,2189,null,null,null,null,null,null,0,12]
[11,2274,21,2280,null,null,null,null,null,null,0,12]
[11,2368,21,2375,null,null,null,null,null,null,0,12]
[11,2461,21,2468,null,null,null,null,null,null,0,12]
[11,2555,21,2560,null,null,null,null,null,null,0,12]
[11,2649,21,2656,null,null,null,null,null,null,0,12]
[11,2742,21,2747,null,null,null,null,null,null,0,12]
[11,2836,21,2844,null,null,null,null,null,null,0,12]
[11,2930,21,2937,null,null,null,null,null,null,0,12]
[22,3032,23,3084,null,null,null,null,null,null,0,22]
[11,3181,21,3188,null,null,null,null,null,null,0,12]
[11,3281,21,3288,null,null,null,null,null,null,0,12]
[11,3375,21,3382,null,null,null,null,null,null,0,12]
[11,3467,21,3472,null,null,null,null,null,null,0,12]
[11,3558,21,3565,null,null,null,null,null,null,0,12]
[11,3657,21,3664,null,null,null,null,null,null,0,12]
[11,3750,21,3757,null,null,null,null,null,null,0,12]
[11,3844,21,3851,null,null,null,null,null,null,0,12]
[11,3940,21,3948,null,null,null,null,null,null,1,12]

{"sheet":"!L826830.052","index":21,"n_rows":47,"n_cols":48,"rows_kept":47,"cut":false,"hidden":false,"merged":[[4,39,4,42],[5,39,5,40],[4,44,4,47],[5,44,5,45],[4,24,4,27],[5,24,5,25],[4,29,4,32],[5,29,5,30],[4,34,4,37],[5,34,5,35],[1,1,1,2],[5,13,5,14],[18,13,18,14],[19,13,19,14],[4,19,4,22],[5,19,5,20]]}
["Report for:!L826830.052"]
["Date:","<date>"]
["Hen:","<hen>",null,null,null,"Correct Sequence",{"$f":"Start!J2","v":12},null,null,null,null,null,null,null,null,"Total Sequences in Data",{"$f":"4994-COUNTBLANK(L7:L5000)","v":41},null,null,null,null,"Total Sequences in Block Data",{"$f":"COUNTA(L7:L13)","v":7},null,null,null,"Total Sequences in Block Data",{"$f":"COUNTA(L14:L20)","v":7},null,null,null,"Total Sequences in Block Data",{"$f":"COUNTA(L21:L26)","v":6},null,null,null,"Total Sequences in Block Data",{"$f":"COUNTA(L27:L33)","v":7},null,null,null,"Total Sequences in Block Data",{"$f":"COUNTA(L34:L40)","v":7},null,null,null,"Total Sequences in Block Data",{"$f":"COUNTA(L41:L47)","v":7}]
[null,null,null,null,null,null,null,null,null,null,null,null,null,null,null,"Total Sequences in Summary",{"$f":"SUM(O7:O14)","v":41},null,null,null,null,"Total Sequences in Block Summary",{"$f":"SUM(U7:U14)","v":7},null,null,null,"Total Sequences in Block Summary",{"$f":"SUM(Z7:Z14)","v":7},null,null,null,"Total Sequences in Block Summary",{"$f":"SUM(AE7:AE14)","v":6},null,null,null,"Total Sequences in Block Summary",{"$f":"SUM(AJ7:AJ14)","v":7},null,null,null,"Total Sequences in Block Summary",{"$f":"SUM(AO7:AO14)","v":7},null,null,null,"Total Sequences in Block Summary",{"$f":"SUM(AT7:AT14)","v":7}]
[null,null,null,null,null,null,null,null,null,null,null,null,null,null,null,null,null,null,null,"Block 1",null,null,null,null,"Block 2",null,null,null,null,"Block 3",null,null,null,null,"Block 4",null,null,null,null,"Block 5",null,null,null,null,"Block 6"]
["Sequence\nComponent\n1","Time\n1","Sequence\nComponent\n2","Time\n2","Sequence\nComponent\n3","Time\n3","Sequence\nComponent\n4","Time\n4","Sequence\nComponent\n5","Time\n5","Correct?\n0=No 1=Yes","Sequence",null,"Frequency",null,"Relative Frequency","Variability",null,null,"Frequency",null,"Relative Frequency","Variability",null,"Frequency",null,"Relative Frequency","Variability",null,"Frequency",null,"Relative Frequency","Variability",null,"Frequency",null,"Relative Frequency","Variability",null,"Frequency",null,"Relative Frequency","Variability",null,"Frequency",null,"Relative Frequency","Variability"]
[11,7,21,25,null,null,null,null,null,null,0,12,null,11,{"$f":"COUNTIF($L$7:$L$500,N7)","v":0},{"$f":"O7/$Q$4","v":0},{"$f":"IF(P7=0,0,(P7*((LOG(P7))/LOG(2))))","v":0},null,null,{"$f":"N7","v":11},{"$f":"COUNTIF(L7:L13,T7)","v":0},{"$f":"U7/(W4-U8)","v":{"$error":"#DIV/0!"}},{"$f":"IF(V7=0,0,(V7*((LOG(V7))/LOG(2))))","v":{"$error":"#DIV/0!"}},null,{"$f":"N7","v":11},{"$f":"COUNTIF(L14:L20,Y7)","v":0},{"$f":"Z7/(AB4-Z8)","v":{"$error":"#DIV/0!"}},{"$f":"IF(AA7=0,0,(AA7*((LOG(AA7))/LOG(2))))","v":{"$error":"#DIV/0!"}},null,{"$f":"N7","v":11},{"$f":"COUNTIF(L21:L26,AD7)","v":0},{"$f":"AE7/(AG4-AE8)","v":0},{"$f":"IF(AF7=0,0,(AF7*((LOG(AF7))/LOG(2))))","v":0},null,{"$f":"N7","v":11},{"$f":"COUNTIF(L27:L33,AI7)","v":0},{"$f":"AJ7/(AL4-AJ8)","v":{"$error":"#DIV/0!"}},{"$f":"IF(AK7=0,0,(AK7*((LOG(AK7))/LOG(2))))","v":{"$error":"#DIV/0!"}},null,{"$f":"N7","v":11},{"$f":"COUNTIF(L34:L40,AN7)","v":0},{"$f":"AO7/(AQ4-AO8)","v":{"$error":"#DIV/0!"}},{"$f":"IF(AP7=0,0,(AP7*((LOG(AP7))/LOG(2))))","v":{"$error":"#DIV/0!"}},null,{"$f":"N7","v":11},{"$f":"COUNTIF(L41:L47,AS7)","v":0},{"$f":"AT7/(AV4-AT8)","v":{"$error":"#DIV/0!"}},{"$f":"IF(AU7=0,0,(AU7*((LOG(AU7))/LOG(2))))","v":{"$error":"#DIV/0!"}}]
[11,119,21,127,null,null,null,null,null,null,0,12,null,12,{"$f":"COUNTIF($L$7:$L$500,N8)","v":40},{"$f":"O8/$Q$4","v":0.97560975609756095},{"$f":"IF(P8=0,0,(P8*((LOG(P8))/LOG(2))))","v":-3.4755033883630611E-2},null,null,{"$f":"N8","v":12},{"$f":"COUNTIF(L7:L13,T8)","v":7},null,null,null,{"$f":"N8","v":12},{"$f":"COUNTIF(L14:L20,Y8)","v":7},null,null,null,{"$f":"N8","v":12},{"$f":"COUNTIF(L21:L26,AD8)","v":5},null,null,null,{"$f":"N8","v":12},{"$f":"COUNTIF(L27:L33,AI8)","v":7},null,null,null,{"$f":"N8","v":12},{"$f":"COUNTIF(L34:L40,AN8)","v":7},null,null,null,{"$f":"N8","v":12},{"$f":"COUNTIF(L41:L47,AS8)","v":7}]
[11,221,21,229,null,null,null,null,null,null,0,12,null,21,{"$f":"COUNTIF($L$7:$L$500,N9)","v":0},{"$f":"O9/$Q$4","v":0},{"$f":"IF(P9=0,0,(P9*((LOG(P9))/LOG(2))))","v":0},null,null,{"$f":"N9","v":21},{"$f":"COUNTIF(L7:L13,T9)","v":0},{"$f":"U9/(W4-U8)","v":{"$error":"#DIV/0!"}},{"$f":"IF(V9=0,0,(V9*((LOG(V9))/LOG(2))))","v":{"$error":"#DIV/0!"}},null,{"$f":"N9","v":21},{"$f":"COUNTIF(L14:L20,Y9)","v":0},{"$f":"Z9/(AB4-Z8)","v":{"$error":"#DIV/0!"}},{"$f":"IF(AA9=0,0,(AA9*((LOG(AA9))/LOG(2))))","v":{"$error":"#DIV/0!"}},null,{"$f":"N9","v":21},{"$f":"COUNTIF(L21:L26,AD9)","v":0},{"$f":"AE9/(AG4-AE8)","v":0},{"$f":"IF(AF9=0,0,(AF9*((LOG(AF9))/LOG(2))))","v":0},null,{"$f":"N9","v":21},{"$f":"COUNTIF(L27:L33,AI9)","v":0},{"$f":"AJ9/(AL4-AJ8)","v":{"$error":"#DIV/0!"}},{"$f":"IF(AK9=0,0,(AK9*((LOG(AK9))/LOG(2))))","v":{"$error":"#DIV/0!"}},null,{"$f":"N9","v":21},{"$f":"COUNTIF(L34:L40,AN9)","v":0},{"$f":"AO9/(AQ4-AO8)","v":{"$error":"#DIV/0!"}},{"$f":"IF(AP9=0,0,(AP9*((LOG(AP9))/LOG(2))))","v":{"$error":"#DIV/0!"}},null,{"$f":"N9","v":21},{"$f":"COUNTIF(L41:L47,AS9)","v":0},{"$f":"AT9/(AV4-AT8)","v":{"$error":"#DIV/0!"}},{"$f":"IF(AU9=0,0,(AU9*((LOG(AU9))/LOG(2))))","v":{"$error":"#DIV/0!"}}]
[11,320,21,328,null,null,null,null,null,null,0,12,null,22,{"$f":"COUNTIF($L$7:$L$500,N10)","v":1},{"$f":"O10/$Q$4","v":2.4390243902439025E-2},{"$f":"IF(P10=0,0,(P10*((LOG(P10))/LOG(2))))","v":-0.13067200011263619},null,null,{"$f":"N10","v":22},{"$f":"COUNTIF(L7:L13,T10)","v":0},{"$f":"U10/(W4-U8)","v":{"$error":"#DIV/0!"}},{"$f":"IF(V10=0,0,(V10*((LOG(V10))/LOG(2))))","v":{"$error":"#DIV/0!"}},null,{"$f":"N10","v":22},{"$f":"COUNTIF(L14:L20,Y10)","v":0},{"$f":"Z10/(AB4-Z8)","v":{"$error":"#DIV/0!"}},{"$f":"IF(AA10=0,0,(AA10*((LOG(AA10))/LOG(2))))","v":{"$error":"#DIV/0!"}},null,{"$f":"N10","v":22},{"$f":"COUNTIF(L21:L26,AD10)","v":1},{"$f":"AE10/(AG4-AE8)","v":1},{"$f":"IF(AF10=0,0,(AF10*((LOG(AF10))/LOG(2))))","v":0},null,{"$f":"N10","v":22},{"$f":"COUNTIF(L27:L33,AI10)","v":0},{"$f":"AJ10/(AL4-AJ8)","v":{"$error":"#DIV/0!"}},{"$f":"IF(AK10=0,0,(AK10*((LOG(AK10))/LOG(2))))","v":{"$error":"#DIV/0!"}},null,{"$f":"N10","v":22},{"$f":"COUNTIF(L34:L40,AN10)","v":0},{"$f":"AO10/(AQ4-AO8)","v":{"$error":"#DIV/0!"}},{"$f":"IF(AP10=0,0,(AP10*((LOG(AP10))/LOG(2))))","v":{"$error":"#DIV/0!"}},null,{"$f":"N10","v":22},{"$f":"COUNTIF(L41:L47,AS10)","v":0},{"$f":"AT10/(AV4-AT8)","v":{"$error":"#DIV/0!"}},{"$f":"IF(AU10=0,0,(AU10*((LOG(AU10))/LOG(2))))","v":{"$error":"#DIV/0!"}}]
[11,413,21,421,null,null,null,null,null,null,0,12,null,null,null,null,null,null,null,{"$f":"N11","v":0},{"$f":"COUNTIF(L7:L13,T11)","v":0},{"$f":"U11/(W4-U8)","v":{"$error":"#DIV/0!"}},{"$f":"IF(V11=0,0,(V11*((LOG(V11))/LOG(2))))","v":{"$error":"#DIV/0!"}},null,{"$f":"N11","v":0},{"$f":"COUNTIF(L14:L20,Y11)","v":0},{"$f":"Z11/(AB4-Z8)","v":{"$error":"#DIV/0!"}},{"$f":"IF(AA11=0,0,(AA11*((LOG(AA11))/LOG(2))))","v":{"$error":"#DIV/0!"}},null,{"$f":"N11","v":0},{"$f":"COUNTIF(L21:L26,AD11)","v":0},{"$f":"AE11/(AG4-AE8)","v":0},{"$f":"IF(AF11=0,0,(AF11*((LOG(AF11))/LOG(2))))","v":0},null,{"$f":"N11","v":0},{"$f":"COUNTIF(L27:L33,AI11)","v":0},{"$f":"AJ11/(AL4-AJ8)","v":{"$error":"#DIV/0!"}},{"$f":"IF(AK11=0,0,(AK11*((LOG(AK11))/LOG(2))))","v":{"$error":"#DIV/0!"}},null,{"$f":"N11","v":0},{"$f":"COUNTIF(L34:L40,AN11)","v":0},{"$f":"AO11/(AQ4-AO8)","v":{"$error":"#DIV/0!"}},{"$f":"IF(AP11=0,0,(AP11*((LOG(AP11))/LOG(2))))","v":{"$error":"#DIV/0!"}},null,{"$f":"N11","v":0},{"$f":"COUNTIF(L41:L47,AS11)","v":0},{"$f":"AT11/(AV4-AT8)","v":{"$error":"#DIV/0!"}},{"$f":"IF(AU11=0,0,(AU11*((LOG(AU11))/LOG(2))))","v":{"$error":"#DIV/0!"}}]
[11,508,21,516,null,null,null,null,null,null,0,12,null,null,null,null,null,null,null,{"$f":"N12","v":0},{"$f":"COUNTIF(L7:L13,T12)","v":0},{"$f":"U12/(W4-U8)","v":{"$error":"#DIV/0!"}},{"$f":"IF(V12=0,0,(V12*((LOG(V12))/LOG(2))))","v":{"$error":"#DIV/0!"}},null,{"$f":"N12","v":0},{"$f":"COUNTIF(L14:L20,Y12)","v":0},{"$f":"Z12/(AB4-Z8)","v":{"$error":"#DIV/0!"}},{"$f":"IF(AA12=0,0,(AA12*((LOG(AA12))/LOG(2))))","v":{"$error":"#DIV/0!"}},null,{"$f":"N12","v":0},{"$f":"COUNTIF(L21:L26,AD12)","v":0},{"$f":"AE12/(AG4-AE8)","v":0},{"$f":"IF(AF12=0,0,(AF12*((LOG(AF12))/LOG(2))))","v":0},null,{"$f":"N12","v":0},{"$f":"COUNTIF(L27:L33,AI12)","v":0},{"$f":"AJ12/(AL4-AJ8)","v":{"$error":"#DIV/0!"}},{"$f":"IF(AK12=0,0,(AK12*((LOG(AK12))/LOG(2))))","v":{"$error":"#DIV/0!"}},null,{"$f":"N12","v":0},{"$f":"COUNTIF(L34:L40,AN12)","v":0},{"$f":"AO12/(AQ4-AO8)","v":{"$error":"#DIV/0!"}},{"$f":"IF(AP12=0,0,(AP12*((LOG(AP12))/LOG(2))))","v":{"$error":"#DIV/0!"}},null,{"$f":"N12","v":0},{"$f":"COUNTIF(L41:L47,AS12)","v":0},{"$f":"AT12/(AV4-AT8)","v":{"$error":"#DIV/0!"}},{"$f":"IF(AU12=0,0,(AU12*((LOG(AU12))/LOG(2))))","v":{"$error":"#DIV/0!"}}]
[11,605,21,614,null,null,null,null,null,null,0,12,null,null,null,null,null,null,null,{"$f":"N13","v":0},{"$f":"COUNTIF(L7:L13,T13)","v":0},{"$f":"U13/(W4-U8)","v":{"$error":"#DIV/0!"}},{"$f":"IF(V13=0,0,(V13*((LOG(V13))/LOG(2))))","v":{"$error":"#DIV/0!"}},null,{"$f":"N13","v":0},{"$f":"COUNTIF(L14:L20,Y13)","v":0},{"$f":"Z13/(AB4-Z8)","v":{"$error":"#DIV/0!"}},{"$f":"IF(AA13=0,0,(AA13*((LOG(AA13))/LOG(2))))","v":{"$error":"#DIV/0!"}},null,{"$f":"N13","v":0},{"$f":"COUNTIF(L21:L26,AD13)","v":0},{"$f":"AE13/(AG4-AE8)","v":0},{"$f":"IF(AF13=0,0,(AF13*((LOG(AF13))/LOG(2))))","v":0},null,{"$f":"N13","v":0},{"$f":"COUNTIF(L27:L33,AI13)","v":0},{"$f":"AJ13/(AL4-AJ8)","v":{"$error":"#DIV/0!"}},{"$f":"IF(AK13=0,0,(AK13*((LOG(AK13))/LOG(2))))","v":{"$error":"#DIV/0!"}},null,{"$f":"N13","v":0},{"$f":"COUNTIF(L34:L40,AN13)","v":0},{"$f":"AO13/(AQ4-AO8)","v":{"$error":"#DIV/0!"}},{"$f":"IF(AP13=0,0,(AP13*((LOG(AP13))/LOG(2))))","v":{"$error":"#DIV/0!"}},null,{"$f":"N13","v":0},{"$f":"COUNTIF(L41:L47,AS13)","v":0},{"$f":"AT13/(AV4-AT8)","v":{"$error":"#DIV/0!"}},{"$f":"IF(AU13=0,0,(AU13*((LOG(AU13))/LOG(2))))","v":{"$error":"#DIV/0!"}}]
[11,703,21,710,null,null,null,null,null,null,0,12,null,null,null,null,null,null,null,{"$f":"N14","v":0},{"$f":"COUNTIF(L7:L13,T14)","v":0},{"$f":"U14/(W4-U8)","v":{"$error":"#DIV/0!"}},{"$f":"IF(V14=0,0,(V14*((LOG(V14))/LOG(2))))","v":{"$error":"#DIV/0!"}},null,{"$f":"N14","v":0},{"$f":"COUNTIF(L14:L20,Y14)","v":0},{"$f":"Z14/(AB4-Z8)","v":{"$error":"#DIV/0!"}},{"$f":"IF(AA14=0,0,(AA14*((LOG(AA14))/LOG(2))))","v":{"$error":"#DIV/0!"}},null,{"$f":"N14","v":0},{"$f":"COUNTIF(L21:L26,AD14)","v":0},{"$f":"AE14/(AG4-AE8)","v":0},{"$f":"IF(AF14=0,0,(AF14*((LOG(AF14))/LOG(2))))","v":0},null,{"$f":"N14","v":0},{"$f":"COUNTIF(L27:L33,AI14)","v":0},{"$f":"AJ14/(AL4-AJ8)","v":{"$error":"#DIV/0!"}},{"$f":"IF(AK14=0,0,(AK14*((LOG(AK14))/LOG(2))))","v":{"$error":"#DIV/0!"}},null,{"$f":"N14","v":0},{"$f":"COUNTIF(L34:L40,AN14)","v":0},{"$f":"AO14/(AQ4-AO8)","v":{"$error":"#DIV/0!"}},{"$f":"IF(AP14=0,0,(AP14*((LOG(AP14))/LOG(2))))","v":{"$error":"#DIV/0!"}},null,{"$f":"N14","v":0},{"$f":"COUNTIF(L41:L47,AS14)","v":0},{"$f":"AT14/(AV4-AT8)","v":{"$error":"#DIV/0!"}},{"$f":"IF(AU14=0,0,(AU14*((LOG(AU14))/LOG(2))))","v":{"$error":"#DIV/0!"}}]
[11,794,21,801,null,null,null,null,null,null,0,12,null,null,null,{"$f":"SUM(P7:P14)","v":1},{"$f":"-SUM(Q7:Q14)","v":0.16542703399626679},null,null,null,null,{"$f":"SUM(V7:V14)","v":{"$error":"#DIV/0!"}},{"$f":"-SUM(W7:W14)","v":{"$error":"#DIV/0!"}},null,null,null,{"$f":"SUM(AA7:AA14)","v":{"$error":"#DIV/0!"}},{"$f":"-SUM(AB7:AB14)","v":{"$error":"#DIV/0!"}},null,null,null,{"$f":"SUM(AF7:AF14)","v":1},{"$f":"-SUM(AG7:AG14)","v":0},null,null,null,{"$f":"SUM(AK7:AK14)","v":{"$error":"#DIV/0!"}},{"$f":"-SUM(AL7:AL14)","v":{"$error":"#DIV/0!"}},null,null,null,{"$f":"SUM(AP7:AP14)","v":{"$error":"#DIV/0!"}},{"$f":"-SUM(AQ7:AQ14)","v":{"$error":"#DIV/0!"}},null,null,null,{"$f":"SUM(AU7:AU14)","v":{"$error":"#DIV/0!"}},{"$f":"-SUM(AV7:AV14)","v":{"$error":"#DIV/0!"}}]
[11,890,21,897,null,null,null,null,null,null,0,12,null,null,null,"U=",{"$f":"Q15/(LOG(Q4)/LOG(2))","v":3.0877354779509855E-2},null,null,null,null,"U1=",{"$f":"W15/(LOG(W4)/LOG(2))","v":{"$error":"#DIV/0!"}},null,null,null,"U2=",{"$f":"AB15/(LOG(AB4)/LOG(2))","v":{"$error":"#DIV/0!"}},null,null,null,"U3=",{"$f":"AG15/(LOG(AG4)/LOG(2))","v":0},null,null,null,"U4=",{"$f":"AL15/(LOG(AL4)/LOG(2))","v":{"$error":"#DIV/0!"}},null,null,null,"U5=",{"$f":"AQ15/(LOG(AQ4)/LOG(2))","v":{"$error":"#DIV/0!"}},null,null,null,"U6=",{"$f":"AV15/(LOG(AV4)/LOG(2))","v":{"$error":"#DIV/0!"}}]
[11,982,21,988,null,null,null,null,null,null,0,12]
[11,1076,21,1083,null,null,null,null,null,null,0,12]
[11,1171,21,1176,null,null,null,null,null,null,0,12,null,"Total Target Seq"]
[11,1259,21,1266,null,null,null,null,null,null,0,12,null,{"$f":"COUNTIF(L7:L47,G3)","v":40},null,7,7,6,7,7,7]
[11,1354,21,1362,null,null,null,null,null,null,0,12,null,null,null,"% of reinforcement given in 6 equal intervals based on number of trials "]
[11,1449,21,1457,null,null,null,null,null,null,0,12,null,null,null,"%_1","%_2","%_3","%_4","%_5","%_6"]
[22,1553,23,1575,null,null,null,null,null,null,0,22,null,null,"target sequence",{"$f":"$G$3","v":12},{"$f":"$G$3","v":12},{"$f":"$G$3","v":12},{"$f":"$G$3","v":12},{"$f":"$G$3","v":12},{"$f":"$G$3","v":12}]
[11,1674,21,1679,null,null,null,null,null,null,0,12,null,null,"total reinforcement",{"$f":"U8","v":7},{"$f":"Z8","v":7},{"$f":"AE8","v":5},{"$f":"AJ8","v":7},{"$f":"AO8","v":7},{"$f":"AT8","v":7}]
[11,1766,21,1772,null,null,null,null,null,null,0,12,null,null,"% target"]
[11,1859,21,1866,null,null,null,null,null,null,0,12,null,null,"CCRF"]
[11,1954,21,1961,null,null,null,null,null,null,0,12,null,null,"% CCRf"]
[11,2050,21,2059,null,null,null,null,null,null,0,12,null,null,"average response rate",{"$f":"D13/P20","v":87.714285714285708},{"$f":"(D20-D13)/Q20","v":93.142857142857139},{"$f":"(D26-D20)/R20","v":100},{"$f":"(D33-D26)/S20","v":94.714285714285708},{"$f":"(D40-D33)/T20","v":95.285714285714292},{"$f":"(D47-D40)/U20","v":98.571428571428569}]
[11,2144,21,2152,null,null,null,null,null,null,0,12]
[11,2237,21,2245,null,null,null,null,null,null,0,12]
[11,2331,21,2338,null,null,null,null,null,null,0,12]
[11,2426,21,2432,null,null,null,null,null,null,0,12]
[11,2522,21,2529,null,null,null,null,null,null,0,12]
[11,2617,21,2624,null,null,null,null,null,null,0,12]
[11,2712,21,2720,null,null,null,null,null,null,0,12]
[11,2808,21,2815,null,null,null,null,null,null,0,12]
[11,2902,21,2908,null,null,null,null,null,null,0,12]
[11,2994,21,3001,null,null,null,null,null,null,0,12]
[11,3092,21,3100,null,null,null,null,null,null,0,12]
[11,3188,21,3196,null,null,null,null,null,null,0,12]
[11,3281,21,3288,null,null,null,null,null,null,0,12]
[11,3378,21,3386,null,null,null,null,null,null,0,12]
[11,3483,21,3493,null,null,null,null,null,null,0,12]
[11,3580,21,3587,null,null,null,null,null,null,0,12]
[11,3673,21,3680,null,null,null,null,null,null,0,12]
[11,3770,21,3779,null,null,null,null,null,null,0,12]
[11,3878,21,3886,null,null,null,null,null,null,1,12]

{"sheet":"!L829A10.052","index":22,"n_rows":49,"n_cols":48,"rows_kept":49,"cut":false,"hidden":false,"merged":[[4,39,4,42],[5,39,5,40],[4,44,4,47],[5,44,5,45],[4,24,4,27],[5,24,5,25],[4,29,4,32],[5,29,5,30],[4,34,4,37],[5,34,5,35],[1,1,1,2],[5,13,5,14],[18,13,18,14],[19,13,19,14],[4,19,4,22],[5,19,5,20]]}
["Report for:!L829A10.052"]
["Date:","<date>"]
["Hen:","<hen>",null,null,null,"Correct Sequence",{"$f":"Start!J2","v":12},null,null,null,null,null,null,null,null,"Total Sequences in Data",{"$f":"4994-COUNTBLANK(L7:L5000)","v":43},null,null,null,null,"Total Sequences in Block Data",{"$f":"COUNTA(L7:L13)","v":7},null,null,null,"Total Sequences in Block Data",{"$f":"COUNTA(L14:L20)","v":7},null,null,null,"Total Sequences in Block Data",{"$f":"COUNTA(L21:L28)","v":8},null,null,null,"Total Sequences in Block Data",{"$f":"COUNTA(L29:L35)","v":7},null,null,null,"Total Sequences in Block Data",{"$f":"COUNTA(L36:L42)","v":7},null,null,null,"Total Sequences in Block Data",{"$f":"COUNTA(L43:L49)","v":7}]
[null,null,null,null,null,null,null,null,null,null,null,null,null,null,null,"Total Sequences in Summary",{"$f":"SUM(O7:O14)","v":43},null,null,null,null,"Total Sequences in Block Summary",{"$f":"SUM(U7:U14)","v":7},null,null,null,"Total Sequences in Block Summary",{"$f":"SUM(Z7:Z14)","v":7},null,null,null,"Total Sequences in Block Summary",{"$f":"SUM(AE7:AE14)","v":8},null,null,null,"Total Sequences in Block Summary",{"$f":"SUM(AJ7:AJ14)","v":7},null,null,null,"Total Sequences in Block Summary",{"$f":"SUM(AO7:AO14)","v":7},null,null,null,"Total Sequences in Block Summary",{"$f":"SUM(AT7:AT14)","v":7}]
[null,null,null,null,null,null,null,null,null,null,null,null,null,null,null,null,null,null,null,"Block 1",null,null,null,null,"Block 2",null,null,null,null,"Block 3",null,null,null,null,"Block 4",null,null,null,null,"Block 5",null,null,null,null,"Block 6"]
["Sequence\nComponent\n1","Time\n1","Sequence\nComponent\n2","Time\n2","Sequence\nComponent\n3","Time\n3","Sequence\nComponent\n4","Time\n4","Sequence\nComponent\n5","Time\n5","Correct?\n0=No 1=Yes","Sequence",null,"Frequency",null,"Relative Frequency","Variability",null,null,"Frequency",null,"Relative Frequency","Variability",null,"Frequency",null,"Relative Frequency","Variability",null,"Frequency",null,"Relative Frequency","Variability",null,"Frequency",null,"Relative Frequency","Variability",null,"Frequency",null,"Relative Frequency","Variability",null,"Frequency",null,"Relative Frequency","Variability"]
[11,7,12,14,null,null,null,null,null,null,0,11,null,11,{"$f":"COUNTIF($L$7:$L$500,N7)","v":1},{"$f":"O7/$Q$4","v":2.3255813953488372E-2},{"$f":"IF(P7=0,0,(P7*((LOG(P7))/LOG(2))))","v":-0.12619220359772321},null,null,{"$f":"N7","v":11},{"$f":"COUNTIF(L7:L13,T7)","v":1},{"$f":"U7/(W4-U8)","v":1},{"$f":"IF(V7=0,0,(V7*((LOG(V7))/LOG(2))))","v":0},null,{"$f":"N7","v":11},{"$f":"COUNTIF(L14:L20,Y7)","v":0},{"$f":"Z7/(AB4-Z8)","v":0},{"$f":"IF(AA7=0,0,(AA7*((LOG(AA7))/LOG(2))))","v":0},null,{"$f":"N7","v":11},{"$f":"COUNTIF(L21:L28,AD7)","v":0},{"$f":"AE7/(AG4-AE8)","v":{"$error":"#DIV/0!"}},{"$f":"IF(AF7=0,0,(AF7*((LOG(AF7))/LOG(2))))","v":{"$error":"#DIV/0!"}},null,{"$f":"N7","v":11},{"$f":"COUNTIF(L29:L35,AI7)","v":0},{"$f":"AJ7/(AL4-AJ8)","v":{"$error":"#DIV/0!"}},{"$f":"IF(AK7=0,0,(AK7*((LOG(AK7))/LOG(2))))","v":{"$error":"#DIV/0!"}},null,{"$f":"N7","v":11},{"$f":"COUNTIF(L36:L42,AN7)","v":0},{"$f":"AO7/(AQ4-AO8)","v":0},{"$f":"IF(AP7=0,0,(AP7*((LOG(AP7))/LOG(2))))","v":0},null,{"$f":"N7","v":11},{"$f":"COUNTIF(L43:L49,AS7)","v":0},{"$f":"AT7/(AV4-AT8)","v":{"$error":"#DIV/0!"}},{"$f":"IF(AU7=0,0,(AU7*((LOG(AU7))/LOG(2))))","v":{"$error":"#DIV/0!"}}]
[11,112,21,120,null,null,null,null,null,null,0,12,null,12,{"$f":"COUNTIF($L$7:$L$500,N8)","v":40},{"$f":"O8/$Q$4","v":0.93023255813953487},{"$f":"IF(P8=0,0,(P8*((LOG(P8))/LOG(2))))","v":-9.7057357967195917E-2},null,null,{"$f":"N8","v":12},{"$f":"COUNTIF(L7:L13,T8)","v":6},null,null,null,{"$f":"N8","v":12},{"$f":"COUNTIF(L14:L20,Y8)","v":6},null,null,null,{"$f":"N8","v":12},{"$f":"COUNTIF(L21:L28,AD8)","v":8},null,null,null,{"$f":"N8","v":12},{"$f":"COUNTIF(L29:L35,AI8)","v":7},null,null,null,{"$f":"N8","v":12},{"$f":"COUNTIF(L36:L42,AN8)","v":6},null,null,null,{"$f":"N8","v":12},{"$f":"COUNTIF(L43:L49,AS8)","v":7}]
[11,208,21,216,null,null,null,null,null,null,0,12,null,21,{"$f":"COUNTIF($L$7:$L$500,N9)","v":1},{"$f":"O9/$Q$4","v":2.3255813953488372E-2},{"$f":"IF(P9=0,0,(P9*((LOG(P9))/LOG(2))))","v":-0.12619220359772321},null,null,{"$f":"N9","v":21},{"$f":"COUNTIF(L7:L13,T9)","v":0},{"$f":"U9/(W4-U8)","v":0},{"$f":"IF(V9=0,0,(V9*((LOG(V9))/LOG(2))))","v":0},null,{"$f":"N9","v":21},{"$f":"COUNTIF(L14:L20,Y9)","v":0},{"$f":"Z9/(AB4-Z8)","v":0},{"$f":"IF(AA9=0,0,(AA9*((LOG(AA9))/LOG(2))))","v":0},null,{"$f":"N9","v":21},{"$f":"COUNTIF(L21:L28,AD9)","v":0},{"$f":"AE9/(AG4-AE8)","v":{"$error":"#DIV/0!"}},{"$f":"IF(AF9=0,0,(AF9*((LOG(AF9))/LOG(2))))","v":{"$error":"#DIV/0!"}},null,{"$f":"N9","v":21},{"$f":"COUNTIF(L29:L35,AI9)","v":0},{"$f":"AJ9/(AL4-AJ8)","v":{"$error":"#DIV/0!"}},{"$f":"IF(AK9=0,0,(AK9*((LOG(AK9))/LOG(2))))","v":{"$error":"#DIV/0!"}},null,{"$f":"N9","v":21},{"$f":"COUNTIF(L36:L42,AN9)","v":1},{"$f":"AO9/(AQ4-AO8)","v":1},{"$f":"IF(AP9=0,0,(AP9*((LOG(AP9))/LOG(2))))","v":0},null,{"$f":"N9","v":21},{"$f":"COUNTIF(L43:L49,AS9)","v":0},{"$f":"AT9/(AV4-AT8)","v":{"$error":"#DIV/0!"}},{"$f":"IF(AU9=0,0,(AU9*((LOG(AU9))/LOG(2))))","v":{"$error":"#DIV/0!"}}]
[11,303,21,313,null,null,null,null,null,null,0,12,null,22,{"$f":"COUNTIF($L$7:$L$500,N10)","v":1},{"$f":"O10/$Q$4","v":2.3255813953488372E-2},{"$f":"IF(P10=0,0,(P10*((LOG(P10))/LOG(2))))","v":-0.12619220359772321},null,null,{"$f":"N10","v":22},{"$f":"COUNTIF(L7:L13,T10)","v":0},{"$f":"U10/(W4-U8)","v":0},{"$f":"IF(V10=0,0,(V10*((LOG(V10))/LOG(2))))","v":0},null,{"$f":"N10","v":22},{"$f":"COUNTIF(L14:L20,Y10)","v":1},{"$f":"Z10/(AB4-Z8)","v":1},{"$f":"IF(AA10=0,0,(AA10*((LOG(AA10))/LOG(2))))","v":0},null,{"$f":"N10","v":22},{"$f":"COUNTIF(L21:L28,AD10)","v":0},{"$f":"AE10/(AG4-AE8)","v":{"$error":"#DIV/0!"}},{"$f":"IF(AF10=0,0,(AF10*((LOG(AF10))/LOG(2))))","v":{"$error":"#DIV/0!"}},null,{"$f":"N10","v":22},{"$f":"COUNTIF(L29:L35,AI10)","v":0},{"$f":"AJ10/(AL4-AJ8)","v":{"$error":"#DIV/0!"}},{"$f":"IF(AK10=0,0,(AK10*((LOG(AK10))/LOG(2))))","v":{"$error":"#DIV/0!"}},null,{"$f":"N10","v":22},{"$f":"COUNTIF(L36:L42,AN10)","v":0},{"$f":"AO10/(AQ4-AO8)","v":0},{"$f":"IF(AP10=0,0,(AP10*((LOG(AP10))/LOG(2))))","v":0},null,{"$f":"N10","v":22},{"$f":"COUNTIF(L43:L49,AS10)","v":0},{"$f":"AT10/(AV4-AT8)","v":{"$error":"#DIV/0!"}},{"$f":"IF(AU10=0,0,(AU10*((LOG(AU10))/LOG(2))))","v":{"$error":"#DIV/0!"}}]
[11,402,21,409,null,null,null,null,null,null,0,12,null,null,null,null,null,null,null,{"$f":"N11","v":0},{"$f":"COUNTIF(L7:L13,T11)","v":0},{"$f":"U11/(W4-U8)","v":0},{"$f":"IF(V11=0,0,(V11*((LOG(V11))/LOG(2))))","v":0},null,{"$f":"N11","v":0},{"$f":"COUNTIF(L14:L20,Y11)","v":0},{"$f":"Z11/(AB4-Z8)","v":0},{"$f":"IF(AA11=0,0,(AA11*((LOG(AA11))/LOG(2))))","v":0},null,{"$f":"N11","v":0},{"$f":"COUNTIF(L21:L28,AD11)","v":0},{"$f":"AE11/(AG4-AE8)","v":{"$error":"#DIV/0!"}},{"$f":"IF(AF11=0,0,(AF11*((LOG(AF11))/LOG(2))))","v":{"$error":"#DIV/0!"}},null,{"$f":"N11","v":0},{"$f":"COUNTIF(L29:L35,AI11)","v":0},{"$f":"AJ11/(AL4-AJ8)","v":{"$error":"#DIV/0!"}},{"$f":"IF(AK11=0,0,(AK11*((LOG(AK11))/LOG(2))))","v":{"$error":"#DIV/0!"}},null,{"$f":"N11","v":0},{"$f":"COUNTIF(L36:L42,AN11)","v":0},{"$f":"AO11/(AQ4-AO8)","v":0},{"$f":"IF(AP11=0,0,(AP11*((LOG(AP11))/LOG(2))))","v":0},null,{"$f":"N11","v":0},{"$f":"COUNTIF(L43:L49,AS11)","v":0},{"$f":"AT11/(AV4-AT8)","v":{"$error":"#DIV/0!"}},{"$f":"IF(AU11=0,0,(AU11*((LOG(AU11))/LOG(2))))","v":{"$error":"#DIV/0!"}}]
[11,495,21,502,null,null,null,null,null,null,0,12,null,null,null,null,null,null,null,{"$f":"N12","v":0},{"$f":"COUNTIF(L7:L13,T12)","v":0},{"$f":"U12/(W4-U8)","v":0},{"$f":"IF(V12=0,0,(V12*((LOG(V12))/LOG(2))))","v":0},null,{"$f":"N12","v":0},{"$f":"COUNTIF(L14:L20,Y12)","v":0},{"$f":"Z12/(AB4-Z8)","v":0},{"$f":"IF(AA12=0,0,(AA12*((LOG(AA12))/LOG(2))))","v":0},null,{"$f":"N12","v":0},{"$f":"COUNTIF(L21:L28,AD12)","v":0},{"$f":"AE12/(AG4-AE8)","v":{"$error":"#DIV/0!"}},{"$f":"IF(AF12=0,0,(AF12*((LOG(AF12))/LOG(2))))","v":{"$error":"#DIV/0!"}},null,{"$f":"N12","v":0},{"$f":"COUNTIF(L29:L35,AI12)","v":0},{"$f":"AJ12/(AL4-AJ8)","v":{"$error":"#DIV/0!"}},{"$f":"IF(AK12=0,0,(AK12*((LOG(AK12))/LOG(2))))","v":{"$error":"#DIV/0!"}},null,{"$f":"N12","v":0},{"$f":"COUNTIF(L36:L42,AN12)","v":0},{"$f":"AO12/(AQ4-AO8)","v":0},{"$f":"IF(AP12=0,0,(AP12*((LOG(AP12))/LOG(2))))","v":0},null,{"$f":"N12","v":0},{"$f":"COUNTIF(L43:L49,AS12)","v":0},{"$f":"AT12/(AV4-AT8)","v":{"$error":"#DIV/0!"}},{"$f":"IF(AU12=0,0,(AU12*((LOG(AU12))/LOG(2))))","v":{"$error":"#DIV/0!"}}]
[11,587,21,594,null,null,null,null,null,null,0,12,null,null,null,null,null,null,null,{"$f":"N13","v":0},{"$f":"COUNTIF(L7:L13,T13)","v":0},{"$f":"U13/(W4-U8)","v":0},{"$f":"IF(V13=0,0,(V13*((LOG(V13))/LOG(2))))","v":0},null,{"$f":"N13","v":0},{"$f":"COUNTIF(L14:L20,Y13)","v":0},{"$f":"Z13/(AB4-Z8)","v":0},{"$f":"IF(AA13=0,0,(AA13*((LOG(AA13))/LOG(2))))","v":0},null,{"$f":"N13","v":0},{"$f":"COUNTIF(L21:L28,AD13)","v":0},{"$f":"AE13/(AG4-AE8)","v":{"$error":"#DIV/0!"}},{"$f":"IF(AF13=0,0,(AF13*((LOG(AF13))/LOG(2))))","v":{"$error":"#DIV/0!"}},null,{"$f":"N13","v":0},{"$f":"COUNTIF(L29:L35,AI13)","v":0},{"$f":"AJ13/(AL4-AJ8)","v":{"$error":"#DIV/0!"}},{"$f":"IF(AK13=0,0,(AK13*((LOG(AK13))/LOG(2))))","v":{"$error":"#DIV/0!"}},null,{"$f":"N13","v":0},{"$f":"COUNTIF(L36:L42,AN13)","v":0},{"$f":"AO13/(AQ4-AO8)","v":0},{"$f":"IF(AP13=0,0,(AP13*((LOG(AP13))/LOG(2))))","v":0},null,{"$f":"N13","v":0},{"$f":"COUNTIF(L43:L49,AS13)","v":0},{"$f":"AT13/(AV4-AT8)","v":{"$error":"#DIV/0!"}},{"$f":"IF(AU13=0,0,(AU13*((LOG(AU13))/LOG(2))))","v":{"$error":"#DIV/0!"}}]
[11,680,21,687,null,null,null,null,null,null,0,12,null,null,null,null,null,null,null,{"$f":"N14","v":0},{"$f":"COUNTIF(L7:L13,T14)","v":0},{"$f":"U14/(W4-U8)","v":0},{"$f":"IF(V14=0,0,(V14*((LOG(V14))/LOG(2))))","v":0},null,{"$f":"N14","v":0},{"$f":"COUNTIF(L14:L20,Y14)","v":0},{"$f":"Z14/(AB4-Z8)","v":0},{"$f":"IF(AA14=0,0,(AA14*((LOG(AA14))/LOG(2))))","v":0},null,{"$f":"N14","v":0},{"$f":"COUNTIF(L21:L28,AD14)","v":0},{"$f":"AE14/(AG4-AE8)","v":{"$error":"#DIV/0!"}},{"$f":"IF(AF14=0,0,(AF14*((LOG(AF14))/LOG(2))))","v":{"$error":"#DIV/0!"}},null,{"$f":"N14","v":0},{"$f":"COUNTIF(L29:L35,AI14)","v":0},{"$f":"AJ14/(AL4-AJ8)","v":{"$error":"#DIV/0!"}},{"$f":"IF(AK14=0,0,(AK14*((LOG(AK14))/LOG(2))))","v":{"$error":"#DIV/0!"}},null,{"$f":"N14","v":0},{"$f":"COUNTIF(L36:L42,AN14)","v":0},{"$f":"AO14/(AQ4-AO8)","v":0},{"$f":"IF(AP14=0,0,(AP14*((LOG(AP14))/LOG(2))))","v":0},null,{"$f":"N14","v":0},{"$f":"COUNTIF(L43:L49,AS14)","v":0},{"$f":"AT14/(AV4-AT8)","v":{"$error":"#DIV/0!"}},{"$f":"IF(AU14=0,0,(AU14*((LOG(AU14))/LOG(2))))","v":{"$error":"#DIV/0!"}}]
[11,782,21,790,null,null,null,null,null,null,0,12,null,null,null,{"$f":"SUM(P7:P14)","v":1},{"$f":"-SUM(Q7:Q14)","v":0.47563396876036557},null,null,null,null,{"$f":"SUM(V7:V14)","v":1},{"$f":"-SUM(W7:W14)","v":0},null,null,null,{"$f":"SUM(AA7:AA14)","v":1},{"$f":"-SUM(AB7:AB14)","v":0},null,null,null,{"$f":"SUM(AF7:AF14)","v":{"$error":"#DIV/0!"}},{"$f":"-SUM(AG7:AG14)","v":{"$error":"#DIV/0!"}},null,null,null,{"$f":"SUM(AK7:AK14)","v":{"$error":"#DIV/0!"}},{"$f":"-SUM(AL7:AL14)","v":{"$error":"#DIV/0!"}},null,null,null,{"$f":"SUM(AP7:AP14)","v":1},{"$f":"-SUM(AQ7:AQ14)","v":0},null,null,null,{"$f":"SUM(AU7:AU14)","v":{"$error":"#DIV/0!"}},{"$f":"-SUM(AV7:AV14)","v":{"$error":"#DIV/0!"}}]
[11,873,21,881,null,null,null,null,null,null,0,12,null,null,null,"U=",{"$f":"Q15/(LOG(Q4)/LOG(2))","v":8.7654029108735945E-2},null,null,null,null,"U1=",{"$f":"W15/(LOG(W4)/LOG(2))","v":0},null,null,null,"U2=",{"$f":"AB15/(LOG(AB4)/LOG(2))","v":0},null,null,null,"U3=",{"$f":"AG15/(LOG(AG4)/LOG(2))","v":{"$error":"#DIV/0!"}},null,null,null,"U4=",{"$f":"AL15/(LOG(AL4)/LOG(2))","v":{"$error":"#DIV/0!"}},null,null,null,"U5=",{"$f":"AQ15/(LOG(AQ4)/LOG(2))","v":0},null,null,null,"U6=",{"$f":"AV15/(LOG(AV4)/LOG(2))","v":{"$error":"#DIV/0!"}}]
[11,967,21,975,null,null,null,null,null,null,0,12]
[22,1071,23,1128,null,null,null,null,null,null,0,22]
[11,1225,21,1232,null,null,null,null,null,null,0,12,null,"Total Target Seq"]
[11,1321,21,1329,null,null,null,null,null,null,0,12,null,{"$f":"COUNTIF(L7:L49,G3)","v":40},null,7,7,8,7,7,7]
[11,1417,21,1424,null,null,null,null,null,null,0,12,null,null,null,"% of reinforcement given in 6 equal intervals based on number of trials "]
[11,1511,21,1518,null,null,null,null,null,null,0,12,null,null,null,"%_1","%_2","%_3","%_4","%_5","%_6"]
[11,1604,21,1612,null,null,null,null,null,null,0,12,null,null,"target sequence",{"$f":"$G$3","v":12},{"$f":"$G$3","v":12},{"$f":"$G$3","v":12},{"$f":"$G$3","v":12},{"$f":"$G$3","v":12},{"$f":"$G$3","v":12}]
[11,1697,21,1704,null,null,null,null,null,null,0,12,null,null,"total reinforcement",{"$f":"U8","v":6},{"$f":"Z8","v":6},{"$f":"AE8","v":8},{"$f":"AJ8","v":7},{"$f":"AO8","v":6},{"$f":"AT8","v":7}]
[11,1794,21,1802,null,null,null,null,null,null,0,12,null,null,"% target"]
[11,1888,21,1896,null,null,null,null,null,null,0,12,null,null,"CCRF"]
[11,1982,21,1990,null,null,null,null,null,null,0,12,null,null,"% CCRf"]
[11,2077,21,2084,null,null,null,null,null,null,0,12,null,null,"average response rate",{"$f":"D13/P20","v":84.857142857142861},{"$f":"(D20-D13)/Q20","v":105},{"$f":"(D28-D20)/R20","v":94.375},{"$f":"(D35-D28)/S20","v":94.857142857142861},{"$f":"(D42-D35)/T20","v":99.428571428571431},{"$f":"(D49-D42)/U20","v":95}]
[11,2170,21,2179,null,null,null,null,null,null,0,12]
[11,2271,21,2278,null,null,null,null,null,null,0,12]
[11,2365,21,2373,null,null,null,null,null,null,0,12]
[11,2460,21,2467,null,null,null,null,null,null,0,12]
[11,2552,21,2560,null,null,null,null,null,null,0,12]
[11,2646,21,2653,null,null,null,null,null,null,0,12]
[11,2739,21,2748,null,null,null,null,null,null,0,12]
[11,2834,21,2841,null,null,null,null,null,null,0,12]
[22,2946,14,2957,null,null,null,null,null,null,0,21]
[11,3054,21,3062,null,null,null,null,null,null,0,12]
[11,3149,21,3157,null,null,null,null,null,null,0,12]
[11,3242,21,3250,null,null,null,null,null,null,0,12]
[11,3337,21,3345,null,null,null,null,null,null,0,12]
[11,3435,21,3444,null,null,null,null,null,null,0,12]
[11,3531,21,3538,null,null,null,null,null,null,0,12]
[11,3626,21,3631,null,null,null,null,null,null,0,12]
[11,3727,21,3734,null,null,null,null,null,null,0,12]
[11,3821,21,3829,null,null,null,null,null,null,0,12]
[11,3914,21,3922,null,null,null,null,null,null,0,12]
[11,4009,21,4017,null,null,null,null,null,null,0,12]
[11,4101,21,4109,null,null,null,null,null,null,1,12]

{"sheet":"!L830910.052","index":23,"n_rows":47,"n_cols":48,"rows_kept":47,"cut":false,"hidden":false,"merged":[[4,39,4,42],[5,39,5,40],[4,44,4,47],[5,44,5,45],[4,24,4,27],[5,24,5,25],[4,29,4,32],[5,29,5,30],[4,34,4,37],[5,34,5,35],[1,1,1,2],[5,13,5,14],[18,13,18,14],[19,13,19,14],[4,19,4,22],[5,19,5,20]]}
["Report for:!L830910.052"]
["Date:","<date>"]
["Hen:","<hen>",null,null,null,"Correct Sequence",{"$f":"Start!J2","v":12},null,null,null,null,null,null,null,null,"Total Sequences in Data",{"$f":"4994-COUNTBLANK(L7:L5000)","v":41},null,null,null,null,"Total Sequences in Block Data",{"$f":"COUNTA(L7:L13)","v":7},null,null,null,"Total Sequences in Block Data",{"$f":"COUNTA(L14:L20)","v":7},null,null,null,"Total Sequences in Block Data",{"$f":"COUNTA(L21:L26)","v":6},null,null,null,"Total Sequences in Block Data",{"$f":"COUNTA(L27:L33)","v":7},null,null,null,"Total Sequences in Block Data",{"$f":"COUNTA(L34:L40)","v":7},null,null,null,"Total Sequences in Block Data",{"$f":"COUNTA(L41:L47)","v":7}]
[null,null,null,null,null,null,null,null,null,null,null,null,null,null,null,"Total Sequences in Summary",{"$f":"SUM(O7:O14)","v":41},null,null,null,null,"Total Sequences in Block Summary",{"$f":"SUM(U7:U14)","v":7},null,null,null,"Total Sequences in Block Summary",{"$f":"SUM(Z7:Z14)","v":7},null,null,null,"Total Sequences in Block Summary",{"$f":"SUM(AE7:AE14)","v":6},null,null,null,"Total Sequences in Block Summary",{"$f":"SUM(AJ7:AJ14)","v":7},null,null,null,"Total Sequences in Block Summary",{"$f":"SUM(AO7:AO14)","v":7},null,null,null,"Total Sequences in Block Summary",{"$f":"SUM(AT7:AT14)","v":7}]
[null,null,null,null,null,null,null,null,null,null,null,null,null,null,null,null,null,null,null,"Block 1",null,null,null,null,"Block 2",null,null,null,null,"Block 3",null,null,null,null,"Block 4",null,null,null,null,"Block 5",null,null,null,null,"Block 6"]
["Sequence\nComponent\n1","Time\n1","Sequence\nComponent\n2","Time\n2","Sequence\nComponent\n3","Time\n3","Sequence\nComponent\n4","Time\n4","Sequence\nComponent\n5","Time\n5","Correct?\n0=No 1=Yes","Sequence",null,"Frequency",null,"Relative Frequency","Variability",null,null,"Frequency",null,"Relative Frequency","Variability",null,"Frequency",null,"Relative Frequency","Variability",null,"Frequency",null,"Relative Frequency","Variability",null,"Frequency",null,"Relative Frequency","Variability",null,"Frequency",null,"Relative Frequency","Variability",null,"Frequency",null,"Relative Frequency","Variability"]
[11,9,21,15,null,null,null,null,null,null,0,12,null,11,{"$f":"COUNTIF($L$7:$L$500,N7)","v":1},{"$f":"O7/$Q$4","v":2.4390243902439025E-2},{"$f":"IF(P7=0,0,(P7*((LOG(P7))/LOG(2))))","v":-0.13067200011263619},null,null,{"$f":"N7","v":11},{"$f":"COUNTIF(L7:L13,T7)","v":1},{"$f":"U7/(W4-U8)","v":1},{"$f":"IF(V7=0,0,(V7*((LOG(V7))/LOG(2))))","v":0},null,{"$f":"N7","v":11},{"$f":"COUNTIF(L14:L20,Y7)","v":0},{"$f":"Z7/(AB4-Z8)","v":{"$error":"#DIV/0!"}},{"$f":"IF(AA7=0,0,(AA7*((LOG(AA7))/LOG(2))))","v":{"$error":"#DIV/0!"}},null,{"$f":"N7","v":11},{"$f":"COUNTIF(L21:L26,AD7)","v":0},{"$f":"AE7/(AG4-AE8)","v":{"$error":"#DIV/0!"}},{"$f":"IF(AF7=0,0,(AF7*((LOG(AF7))/LOG(2))))","v":{"$error":"#DIV/0!"}},null,{"$f":"N7","v":11},{"$f":"COUNTIF(L27:L33,AI7)","v":0},{"$f":"AJ7/(AL4-AJ8)","v":{"$error":"#DIV/0!"}},{"$f":"IF(AK7=0,0,(AK7*((LOG(AK7))/LOG(2))))","v":{"$error":"#DIV/0!"}},null,{"$f":"N7","v":11},{"$f":"COUNTIF(L34:L40,AN7)","v":0},{"$f":"AO7/(AQ4-AO8)","v":{"$error":"#DIV/0!"}},{"$f":"IF(AP7=0,0,(AP7*((LOG(AP7))/LOG(2))))","v":{"$error":"#DIV/0!"}},null,{"$f":"N7","v":11},{"$f":"COUNTIF(L41:L47,AS7)","v":0},{"$f":"AT7/(AV4-AT8)","v":{"$error":"#DIV/0!"}},{"$f":"IF(AU7=0,0,(AU7*((LOG(AU7))/LOG(2))))","v":{"$error":"#DIV/0!"}}]
[11,106,21,114,null,null,null,null,null,null,0,12,null,12,{"$f":"COUNTIF($L$7:$L$500,N8)","v":40},{"$f":"O8/$Q$4","v":0.97560975609756095},{"$f":"IF(P8=0,0,(P8*((LOG(P8))/LOG(2))))","v":-3.4755033883630611E-2},null,null,{"$f":"N8","v":12},{"$f":"COUNTIF(L7:L13,T8)","v":6},null,null,null,{"$f":"N8","v":12},{"$f":"COUNTIF(L14:L20,Y8)","v":7},null,null,null,{"$f":"N8","v":12},{"$f":"COUNTIF(L21:L26,AD8)","v":6},null,null,null,{"$f":"N8","v":12},{"$f":"COUNTIF(L27:L33,AI8)","v":7},null,null,null,{"$f":"N8","v":12},{"$f":"COUNTIF(L34:L40,AN8)","v":7},null,null,null,{"$f":"N8","v":12},{"$f":"COUNTIF(L41:L47,AS8)","v":7}]
[11,202,21,207,null,null,null,null,null,null,0,12,null,21,{"$f":"COUNTIF($L$7:$L$500,N9)","v":0},{"$f":"O9/$Q$4","v":0},{"$f":"IF(P9=0,0,(P9*((LOG(P9))/LOG(2))))","v":0},null,null,{"$f":"N9","v":21},{"$f":"COUNTIF(L7:L13,T9)","v":0},{"$f":"U9/(W4-U8)","v":0},{"$f":"IF(V9=0,0,(V9*((LOG(V9))/LOG(2))))","v":0},null,{"$f":"N9","v":21},{"$f":"COUNTIF(L14:L20,Y9)","v":0},{"$f":"Z9/(AB4-Z8)","v":{"$error":"#DIV/0!"}},{"$f":"IF(AA9=0,0,(AA9*((LOG(AA9))/LOG(2))))","v":{"$error":"#DIV/0!"}},null,{"$f":"N9","v":21},{"$f":"COUNTIF(L21:L26,AD9)","v":0},{"$f":"AE9/(AG4-AE8)","v":{"$error":"#DIV/0!"}},{"$f":"IF(AF9=0,0,(AF9*((LOG(AF9))/LOG(2))))","v":{"$error":"#DIV/0!"}},null,{"$f":"N9","v":21},{"$f":"COUNTIF(L27:L33,AI9)","v":0},{"$f":"AJ9/(AL4-AJ8)","v":{"$error":"#DIV/0!"}},{"$f":"IF(AK9=0,0,(AK9*((LOG(AK9))/LOG(2))))","v":{"$error":"#DIV/0!"}},null,{"$f":"N9","v":21},{"$f":"COUNTIF(L34:L40,AN9)","v":0},{"$f":"AO9/(AQ4-AO8)","v":{"$error":"#DIV/0!"}},{"$f":"IF(AP9=0,0,(AP9*((LOG(AP9))/LOG(2))))","v":{"$error":"#DIV/0!"}},null,{"$f":"N9","v":21},{"$f":"COUNTIF(L41:L47,AS9)","v":0},{"$f":"AT9/(AV4-AT8)","v":{"$error":"#DIV/0!"}},{"$f":"IF(AU9=0,0,(AU9*((LOG(AU9))/LOG(2))))","v":{"$error":"#DIV/0!"}}]
[11,293,12,309,null,null,null,null,null,null,0,11,null,22,{"$f":"COUNTIF($L$7:$L$500,N10)","v":0},{"$f":"O10/$Q$4","v":0},{"$f":"IF(P10=0,0,(P10*((LOG(P10))/LOG(2))))","v":0},null,null,{"$f":"N10","v":22},{"$f":"COUNTIF(L7:L13,T10)","v":0},{"$f":"U10/(W4-U8)","v":0},{"$f":"IF(V10=0,0,(V10*((LOG(V10))/LOG(2))))","v":0},null,{"$f":"N10","v":22},{"$f":"COUNTIF(L14:L20,Y10)","v":0},{"$f":"Z10/(AB4-Z8)","v":{"$error":"#DIV/0!"}},{"$f":"IF(AA10=0,0,(AA10*((LOG(AA10))/LOG(2))))","v":{"$error":"#DIV/0!"}},null,{"$f":"N10","v":22},{"$f":"COUNTIF(L21:L26,AD10)","v":0},{"$f":"AE10/(AG4-AE8)","v":{"$error":"#DIV/0!"}},{"$f":"IF(AF10=0,0,(AF10*((LOG(AF10))/LOG(2))))","v":{"$error":"#DIV/0!"}},null,{"$f":"N10","v":22},{"$f":"COUNTIF(L27:L33,AI10)","v":0},{"$f":"AJ10/(AL4-AJ8)","v":{"$error":"#DIV/0!"}},{"$f":"IF(AK10=0,0,(AK10*((LOG(AK10))/LOG(2))))","v":{"$error":"#DIV/0!"}},null,{"$f":"N10","v":22},{"$f":"COUNTIF(L34:L40,AN10)","v":0},{"$f":"AO10/(AQ4-AO8)","v":{"$error":"#DIV/0!"}},{"$f":"IF(AP10=0,0,(AP10*((LOG(AP10))/LOG(2))))","v":{"$error":"#DIV/0!"}},null,{"$f":"N10","v":22},{"$f":"COUNTIF(L41:L47,AS10)","v":0},{"$f":"AT10/(AV4-AT8)","v":{"$error":"#DIV/0!"}},{"$f":"IF(AU10=0,0,(AU10*((LOG(AU10))/LOG(2))))","v":{"$error":"#DIV/0!"}}]
[11,408,21,415,null,null,null,null,null,null,0,12,null,null,null,null,null,null,null,{"$f":"N11","v":0},{"$f":"COUNTIF(L7:L13,T11)","v":0},{"$f":"U11/(W4-U8)","v":0},{"$f":"IF(V11=0,0,(V11*((LOG(V11))/LOG(2))))","v":0},null,{"$f":"N11","v":0},{"$f":"COUNTIF(L14:L20,Y11)","v":0},{"$f":"Z11/(AB4-Z8)","v":{"$error":"#DIV/0!"}},{"$f":"IF(AA11=0,0,(AA11*((LOG(AA11))/LOG(2))))","v":{"$error":"#DIV/0!"}},null,{"$f":"N11","v":0},{"$f":"COUNTIF(L21:L26,AD11)","v":0},{"$f":"AE11/(AG4-AE8)","v":{"$error":"#DIV/0!"}},{"$f":"IF(AF11=0,0,(AF11*((LOG(AF11))/LOG(2))))","v":{"$error":"#DIV/0!"}},null,{"$f":"N11","v":0},{"$f":"COUNTIF(L27:L33,AI11)","v":0},{"$f":"AJ11/(AL4-AJ8)","v":{"$error":"#DIV/0!"}},{"$f":"IF(AK11=0,0,(AK11*((LOG(AK11))/LOG(2))))","v":{"$error":"#DIV/0!"}},null,{"$f":"N11","v":0},{"$f":"COUNTIF(L34:L40,AN11)","v":0},{"$f":"AO11/(AQ4-AO8)","v":{"$error":"#DIV/0!"}},{"$f":"IF(AP11=0,0,(AP11*((LOG(AP11))/LOG(2))))","v":{"$error":"#DIV/0!"}},null,{"$f":"N11","v":0},{"$f":"COUNTIF(L41:L47,AS11)","v":0},{"$f":"AT11/(AV4-AT8)","v":{"$error":"#DIV/0!"}},{"$f":"IF(AU11=0,0,(AU11*((LOG(AU11))/LOG(2))))","v":{"$error":"#DIV/0!"}}]
[11,503,21,511,null,null,null,null,null,null,0,12,null,null,null,null,null,null,null,{"$f":"N12","v":0},{"$f":"COUNTIF(L7:L13,T12)","v":0},{"$f":"U12/(W4-U8)","v":0},{"$f":"IF(V12=0,0,(V12*((LOG(V12))/LOG(2))))","v":0},null,{"$f":"N12","v":0},{"$f":"COUNTIF(L14:L20,Y12)","v":0},{"$f":"Z12/(AB4-Z8)","v":{"$error":"#DIV/0!"}},{"$f":"IF(AA12=0,0,(AA12*((LOG(AA12))/LOG(2))))","v":{"$error":"#DIV/0!"}},null,{"$f":"N12","v":0},{"$f":"COUNTIF(L21:L26,AD12)","v":0},{"$f":"AE12/(AG4-AE8)","v":{"$error":"#DIV/0!"}},{"$f":"IF(AF12=0,0,(AF12*((LOG(AF12))/LOG(2))))","v":{"$error":"#DIV/0!"}},null,{"$f":"N12","v":0},{"$f":"COUNTIF(L27:L33,AI12)","v":0},{"$f":"AJ12/(AL4-AJ8)","v":{"$error":"#DIV/0!"}},{"$f":"IF(AK12=0,0,(AK12*((LOG(AK12))/LOG(2))))","v":{"$error":"#DIV/0!"}},null,{"$f":"N12","v":0},{"$f":"COUNTIF(L34:L40,AN12)","v":0},{"$f":"AO12/(AQ4-AO8)","v":{"$error":"#DIV/0!"}},{"$f":"IF(AP12=0,0,(AP12*((LOG(AP12))/LOG(2))))","v":{"$error":"#DIV/0!"}},null,{"$f":"N12","v":0},{"$f":"COUNTIF(L41:L47,AS12)","v":0},{"$f":"AT12/(AV4-AT8)","v":{"$error":"#DIV/0!"}},{"$f":"IF(AU12=0,0,(AU12*((LOG(AU12))/LOG(2))))","v":{"$error":"#DIV/0!"}}]
[11,598,21,606,null,null,null,null,null,null,0,12,null,null,null,null,null,null,null,{"$f":"N13","v":0},{"$f":"COUNTIF(L7:L13,T13)","v":0},{"$f":"U13/(W4-U8)","v":0},{"$f":"IF(V13=0,0,(V13*((LOG(V13))/LOG(2))))","v":0},null,{"$f":"N13","v":0},{"$f":"COUNTIF(L14:L20,Y13)","v":0},{"$f":"Z13/(AB4-Z8)","v":{"$error":"#DIV/0!"}},{"$f":"IF(AA13=0,0,(AA13*((LOG(AA13))/LOG(2))))","v":{"$error":"#DIV/0!"}},null,{"$f":"N13","v":0},{"$f":"COUNTIF(L21:L26,AD13)","v":0},{"$f":"AE13/(AG4-AE8)","v":{"$error":"#DIV/0!"}},{"$f":"IF(AF13=0,0,(AF13*((LOG(AF13))/LOG(2))))","v":{"$error":"#DIV/0!"}},null,{"$f":"N13","v":0},{"$f":"COUNTIF(L27:L33,AI13)","v":0},{"$f":"AJ13/(AL4-AJ8)","v":{"$error":"#DIV/0!"}},{"$f":"IF(AK13=0,0,(AK13*((LOG(AK13))/LOG(2))))","v":{"$error":"#DIV/0!"}},null,{"$f":"N13","v":0},{"$f":"COUNTIF(L34:L40,AN13)","v":0},{"$f":"AO13/(AQ4-AO8)","v":{"$error":"#DIV/0!"}},{"$f":"IF(AP13=0,0,(AP13*((LOG(AP13))/LOG(2))))","v":{"$error":"#DIV/0!"}},null,{"$f":"N13","v":0},{"$f":"COUNTIF(L41:L47,AS13)","v":0},{"$f":"AT13/(AV4-AT8)","v":{"$error":"#DIV/0!"}},{"$f":"IF(AU13=0,0,(AU13*((LOG(AU13))/LOG(2))))","v":{"$error":"#DIV/0!"}}]
[11,690,21,698,null,null,null,null,null,null,0,12,null,null,null,null,null,null,null,{"$f":"N14","v":0},{"$f":"COUNTIF(L7:L13,T14)","v":0},{"$f":"U14/(W4-U8)","v":0},{"$f":"IF(V14=0,0,(V14*((LOG(V14))/LOG(2))))","v":0},null,{"$f":"N14","v":0},{"$f":"COUNTIF(L14:L20,Y14)","v":0},{"$f":"Z14/(AB4-Z8)","v":{"$error":"#DIV/0!"}},{"$f":"IF(AA14=0,0,(AA14*((LOG(AA14))/LOG(2))))","v":{"$error":"#DIV/0!"}},null,{"$f":"N14","v":0},{"$f":"COUNTIF(L21:L26,AD14)","v":0},{"$f":"AE14/(AG4-AE8)","v":{"$error":"#DIV/0!"}},{"$f":"IF(AF14=0,0,(AF14*((LOG(AF14))/LOG(2))))","v":{"$error":"#DIV/0!"}},null,{"$f":"N14","v":0},{"$f":"COUNTIF(L27:L33,AI14)","v":0},{"$f":"AJ14/(AL4-AJ8)","v":{"$error":"#DIV/0!"}},{"$f":"IF(AK14=0,0,(AK14*((LOG(AK14))/LOG(2))))","v":{"$error":"#DIV/0!"}},null,{"$f":"N14","v":0},{"$f":"COUNTIF(L34:L40,AN14)","v":0},{"$f":"AO14/(AQ4-AO8)","v":{"$error":"#DIV/0!"}},{"$f":"IF(AP14=0,0,(AP14*((LOG(AP14))/LOG(2))))","v":{"$error":"#DIV/0!"}},null,{"$f":"N14","v":0},{"$f":"COUNTIF(L41:L47,AS14)","v":0},{"$f":"AT14/(AV4-AT8)","v":{"$error":"#DIV/0!"}},{"$f":"IF(AU14=0,0,(AU14*((LOG(AU14))/LOG(2))))","v":{"$error":"#DIV/0!"}}]
[11,786,21,793,null,null,null,null,null,null,0,12,null,null,null,{"$f":"SUM(P7:P14)","v":1},{"$f":"-SUM(Q7:Q14)","v":0.16542703399626679},null,null,null,null,{"$f":"SUM(V7:V14)","v":1},{"$f":"-SUM(W7:W14)","v":0},null,null,null,{"$f":"SUM(AA7:AA14)","v":{"$error":"#DIV/0!"}},{"$f":"-SUM(AB7:AB14)","v":{"$error":"#DIV/0!"}},null,null,null,{"$f":"SUM(AF7:AF14)","v":{"$error":"#DIV/0!"}},{"$f":"-SUM(AG7:AG14)","v":{"$error":"#DIV/0!"}},null,null,null,{"$f":"SUM(AK7:AK14)","v":{"$error":"#DIV/0!"}},{"$f":"-SUM(AL7:AL14)","v":{"$error":"#DIV/0!"}},null,null,null,{"$f":"SUM(AP7:AP14)","v":{"$error":"#DIV/0!"}},{"$f":"-SUM(AQ7:AQ14)","v":{"$error":"#DIV/0!"}},null,null,null,{"$f":"SUM(AU7:AU14)","v":{"$error":"#DIV/0!"}},{"$f":"-SUM(AV7:AV14)","v":{"$error":"#DIV/0!"}}]
[11,880,21,887,null,null,null,null,null,null,0,12,null,null,null,"U=",{"$f":"Q15/(LOG(Q4)/LOG(2))","v":3.0877354779509855E-2},null,null,null,null,"U1=",{"$f":"W15/(LOG(W4)/LOG(2))","v":0},null,null,null,"U2=",{"$f":"AB15/(LOG(AB4)/LOG(2))","v":{"$error":"#DIV/0!"}},null,null,null,"U3=",{"$f":"AG15/(LOG(AG4)/LOG(2))","v":{"$error":"#DIV/0!"}},null,null,null,"U4=",{"$f":"AL15/(LOG(AL4)/LOG(2))","v":{"$error":"#DIV/0!"}},null,null,null,"U5=",{"$f":"AQ15/(LOG(AQ4)/LOG(2))","v":{"$error":"#DIV/0!"}},null,null,null,"U6=",{"$f":"AV15/(LOG(AV4)/LOG(2))","v":{"$error":"#DIV/0!"}}]
[11,973,21,980,null,null,null,null,null,null,0,12]
[11,1067,21,1072,null,null,null,null,null,null,0,12]
[11,1159,21,1166,null,null,null,null,null,null,0,12,null,"Total Target Seq"]
[11,1253,21,1260,null,null,null,null,null,null,0,12,null,{"$f":"COUNTIF(L7:L47,G3)","v":40},null,7,7,6,7,7,7]
[11,1345,21,1353,null,null,null,null,null,null,0,12,null,null,null,"% of reinforcement given in 6 equal intervals based on number of trials "]
[11,1439,21,1446,null,null,null,null,null,null,0,12,null,null,null,"%_1","%_2","%_3","%_4","%_5","%_6"]
[11,1529,21,1536,null,null,null,null,null,null,0,12,null,null,"target sequence",{"$f":"$G$3","v":12},{"$f":"$G$3","v":12},{"$f":"$G$3","v":12},{"$f":"$G$3","v":12},{"$f":"$G$3","v":12},{"$f":"$G$3","v":12}]
[11,1623,21,1628,null,null,null,null,null,null,0,12,null,null,"total reinforcement",{"$f":"U8","v":6},{"$f":"Z8","v":7},{"$f":"AE8","v":6},{"$f":"AJ8","v":7},{"$f":"AO8","v":7},{"$f":"AT8","v":7}]
[11,1713,21,1721,null,null,null,null,null,null,0,12,null,null,"% target"]
[11,1806,21,1813,null,null,null,null,null,null,0,12,null,null,"CCRF"]
[11,1899,21,1904,null,null,null,null,null,null,0,12,null,null,"% CCRf"]
[11,1988,21,1996,null,null,null,null,null,null,0,12,null,null,"average response rate",{"$f":"D13/P20","v":86.571428571428569},{"$f":"(D20-D13)/Q20","v":93.428571428571431},{"$f":"(D26-D20)/R20","v":92.166666666666671},{"$f":"(D33-D26)/S20","v":91.714285714285708},{"$f":"(D40-D33)/T20","v":94.285714285714292},{"$f":"(D47-D40)/U20","v":93.142857142857139}]
[11,2082,21,2089,null,null,null,null,null,null,0,12]
[11,2172,21,2180,null,null,null,null,null,null,0,12]
[11,2267,21,2272,null,null,null,null,null,null,0,12]
[11,2358,21,2363,null,null,null,null,null,null,0,12]
[11,2447,21,2455,null,null,null,null,null,null,0,12]
[11,2541,21,2549,null,null,null,null,null,null,0,12]
[11,2636,21,2643,null,null,null,null,null,null,0,12]
[11,2730,21,2737,null,null,null,null,null,null,0,12]
[11,2827,21,2834,null,null,null,null,null,null,0,12]
[11,2920,21,2927,null,null,null,null,null,null,0,12]
[11,3013,21,3021,null,null,null,null,null,null,0,12]
[11,3107,21,3115,null,null,null,null,null,null,0,12]
[11,3201,21,3208,null,null,null,null,null,null,0,12]
[11,3291,21,3299,null,null,null,null,null,null,0,12]
[11,3383,21,3391,null,null,null,null,null,null,0,12]
[11,3477,21,3484,null,null,null,null,null,null,0,12]
[11,3570,21,3577,null,null,null,null,null,null,0,12]
[11,3665,21,3672,null,null,null,null,null,null,0,12]
[11,3760,21,3767,null,null,null,null,null,null,1,12]

{"sheet":"!L831A10.052","index":24,"n_rows":49,"n_cols":48,"rows_kept":49,"cut":false,"hidden":false,"merged":[[4,39,4,42],[5,39,5,40],[4,44,4,47],[5,44,5,45],[4,24,4,27],[5,24,5,25],[4,29,4,32],[5,29,5,30],[4,34,4,37],[5,34,5,35],[1,1,1,2],[5,13,5,14],[18,13,18,14],[19,13,19,14],[4,19,4,22],[5,19,5,20]]}
["Report for:!L831A10.052"]
["Date:","<date>"]
["Hen:","<hen>",null,null,null,"Correct Sequence",{"$f":"Start!J2","v":12},null,null,null,null,null,null,null,null,"Total Sequences in Data",{"$f":"4994-COUNTBLANK(L7:L5000)","v":43},null,null,null,null,"Total Sequences in Block Data",{"$f":"COUNTA(L7:L13)","v":7},null,null,null,"Total Sequences in Block Data",{"$f":"COUNTA(L14:L20)","v":7},null,null,null,"Total Sequences in Block Data",{"$f":"COUNTA(L21:L28)","v":8},null,null,null,"Total Sequences in Block Data",{"$f":"COUNTA(L29:L35)","v":7},null,null,null,"Total Sequences in Block Data",{"$f":"COUNTA(L36:L42)","v":7},null,null,null,"Total Sequences in Block Data",{"$f":"COUNTA(L43:L49)","v":7}]
[null,null,null,null,null,null,null,null,null,null,null,null,null,null,null,"Total Sequences in Summary",{"$f":"SUM(O7:O14)","v":43},null,null,null,null,"Total Sequences in Block Summary",{"$f":"SUM(U7:U14)","v":7},null,null,null,"Total Sequences in Block Summary",{"$f":"SUM(Z7:Z14)","v":7},null,null,null,"Total Sequences in Block Summary",{"$f":"SUM(AE7:AE14)","v":8},null,null,null,"Total Sequences in Block Summary",{"$f":"SUM(AJ7:AJ14)","v":7},null,null,null,"Total Sequences in Block Summary",{"$f":"SUM(AO7:AO14)","v":7},null,null,null,"Total Sequences in Block Summary",{"$f":"SUM(AT7:AT14)","v":7}]
[null,null,null,null,null,null,null,null,null,null,null,null,null,null,null,null,null,null,null,"Block 1",null,null,null,null,"Block 2",null,null,null,null,"Block 3",null,null,null,null,"Block 4",null,null,null,null,"Block 5",null,null,null,null,"Block 6"]
["Sequence\nComponent\n1","Time\n1","Sequence\nComponent\n2","Time\n2","Sequence\nComponent\n3","Time\n3","Sequence\nComponent\n4","Time\n4","Sequence\nComponent\n5","Time\n5","Correct?\n0=No 1=Yes","Sequence",null,"Frequency",null,"Relative Frequency","Variability",null,null,"Frequency",null,"Relative Frequency","Variability",null,"Frequency",null,"Relative Frequency","Variability",null,"Frequency",null,"Relative Frequency","Variability",null,"Frequency",null,"Relative Frequency","Variability",null,"Frequency",null,"Relative Frequency","Variability",null,"Frequency",null,"Relative Frequency","Variability"]
[22,22,23,40,null,null,null,null,null,null,0,22,null,11,{"$f":"COUNTIF($L$7:$L$500,N7)","v":0},{"$f":"O7/$Q$4","v":0},{"$f":"IF(P7=0,0,(P7*((LOG(P7))/LOG(2))))","v":0},null,null,{"$f":"N7","v":11},{"$f":"COUNTIF(L7:L13,T7)","v":0},{"$f":"U7/(W4-U8)","v":0},{"$f":"IF(V7=0,0,(V7*((LOG(V7))/LOG(2))))","v":0},null,{"$f":"N7","v":11},{"$f":"COUNTIF(L14:L20,Y7)","v":0},{"$f":"Z7/(AB4-Z8)","v":{"$error":"#DIV/0!"}},{"$f":"IF(AA7=0,0,(AA7*((LOG(AA7))/LOG(2))))","v":{"$error":"#DIV/0!"}},null,{"$f":"N7","v":11},{"$f":"COUNTIF(L21:L28,AD7)","v":0},{"$f":"AE7/(AG4-AE8)","v":{"$error":"#DIV/0!"}},{"$f":"IF(AF7=0,0,(AF7*((LOG(AF7))/LOG(2))))","v":{"$error":"#DIV/0!"}},null,{"$f":"N7","v":11},{"$f":"COUNTIF(L29:L35,AI7)","v":0},{"$f":"AJ7/(AL4-AJ8)","v":{"$error":"#DIV/0!"}},{"$f":"IF(AK7=0,0,(AK7*((LOG(AK7))/LOG(2))))","v":{"$error":"#DIV/0!"}},null,{"$f":"N7","v":11},{"$f":"COUNTIF(L36:L42,AN7)","v":0},{"$f":"AO7/(AQ4-AO8)","v":{"$error":"#DIV/0!"}},{"$f":"IF(AP7=0,0,(AP7*((LOG(AP7))/LOG(2))))","v":{"$error":"#DIV/0!"}},null,{"$f":"N7","v":11},{"$f":"COUNTIF(L43:L49,AS7)","v":0},{"$f":"AT7/(AV4-AT8)","v":{"$error":"#DIV/0!"}},{"$f":"IF(AU7=0,0,(AU7*((LOG(AU7))/LOG(2))))","v":{"$error":"#DIV/0!"}}]
[22,154,14,174,null,null,null,null,null,null,0,21,null,12,{"$f":"COUNTIF($L$7:$L$500,N8)","v":40},{"$f":"O8/$Q$4","v":0.93023255813953487},{"$f":"IF(P8=0,0,(P8*((LOG(P8))/LOG(2))))","v":-9.7057357967195917E-2},null,null,{"$f":"N8","v":12},{"$f":"COUNTIF(L7:L13,T8)","v":4},null,null,null,{"$f":"N8","v":12},{"$f":"COUNTIF(L14:L20,Y8)","v":7},null,null,null,{"$f":"N8","v":12},{"$f":"COUNTIF(L21:L28,AD8)","v":8},null,null,null,{"$f":"N8","v":12},{"$f":"COUNTIF(L29:L35,AI8)","v":7},null,null,null,{"$f":"N8","v":12},{"$f":"COUNTIF(L36:L42,AN8)","v":7},null,null,null,{"$f":"N8","v":12},{"$f":"COUNTIF(L43:L49,AS8)","v":7}]
[22,309,14,319,null,null,null,null,null,null,0,21,null,21,{"$f":"COUNTIF($L$7:$L$500,N9)","v":2},{"$f":"O9/$Q$4","v":4.6511627906976744E-2},{"$f":"IF(P9=0,0,(P9*((LOG(P9))/LOG(2))))","v":-0.20587277928846967},null,null,{"$f":"N9","v":21},{"$f":"COUNTIF(L7:L13,T9)","v":2},{"$f":"U9/(W4-U8)","v":0.66666666666666663},{"$f":"IF(V9=0,0,(V9*((LOG(V9))/LOG(2))))","v":-0.38997500048077083},null,{"$f":"N9","v":21},{"$f":"COUNTIF(L14:L20,Y9)","v":0},{"$f":"Z9/(AB4-Z8)","v":{"$error":"#DIV/0!"}},{"$f":"IF(AA9=0,0,(AA9*((LOG(AA9))/LOG(2))))","v":{"$error":"#DIV/0!"}},null,{"$f":"N9","v":21},{"$f":"COUNTIF(L21:L28,AD9)","v":0},{"$f":"AE9/(AG4-AE8)","v":{"$error":"#DIV/0!"}},{"$f":"IF(AF9=0,0,(AF9*((LOG(AF9))/LOG(2))))","v":{"$error":"#DIV/0!"}},null,{"$f":"N9","v":21},{"$f":"COUNTIF(L29:L35,AI9)","v":0},{"$f":"AJ9/(AL4-AJ8)","v":{"$error":"#DIV/0!"}},{"$f":"IF(AK9=0,0,(AK9*((LOG(AK9))/LOG(2))))","v":{"$error":"#DIV/0!"}},null,{"$f":"N9","v":21},{"$f":"COUNTIF(L36:L42,AN9)","v":0},{"$f":"AO9/(AQ4-AO8)","v":{"$error":"#DIV/0!"}},{"$f":"IF(AP9=0,0,(AP9*((LOG(AP9))/LOG(2))))","v":{"$error":"#DIV/0!"}},null,{"$f":"N9","v":21},{"$f":"COUNTIF(L43:L49,AS9)","v":0},{"$f":"AT9/(AV4-AT8)","v":{"$error":"#DIV/0!"}},{"$f":"IF(AU9=0,0,(AU9*((LOG(AU9))/LOG(2))))","v":{"$error":"#DIV/0!"}}]
[11,418,21,425,null,null,null,null,null,null,0,12,null,22,{"$f":"COUNTIF($L$7:$L$500,N10)","v":1},{"$f":"O10/$Q$4","v":2.3255813953488372E-2},{"$f":"IF(P10=0,0,(P10*((LOG(P10))/LOG(2))))","v":-0.12619220359772321},null,null,{"$f":"N10","v":22},{"$f":"COUNTIF(L7:L13,T10)","v":1},{"$f":"U10/(W4-U8)","v":0.33333333333333331},{"$f":"IF(V10=0,0,(V10*((LOG(V10))/LOG(2))))","v":-0.52832083357371862},null,{"$f":"N10","v":22},{"$f":"COUNTIF(L14:L20,Y10)","v":0},{"$f":"Z10/(AB4-Z8)","v":{"$error":"#DIV/0!"}},{"$f":"IF(AA10=0,0,(AA10*((LOG(AA10))/LOG(2))))","v":{"$error":"#DIV/0!"}},null,{"$f":"N10","v":22},{"$f":"COUNTIF(L21:L28,AD10)","v":0},{"$f":"AE10/(AG4-AE8)","v":{"$error":"#DIV/0!"}},{"$f":"IF(AF10=0,0,(AF10*((LOG(AF10))/LOG(2))))","v":{"$error":"#DIV/0!"}},null,{"$f":"N10","v":22},{"$f":"COUNTIF(L29:L35,AI10)","v":0},{"$f":"AJ10/(AL4-AJ8)","v":{"$error":"#DIV/0!"}},{"$f":"IF(AK10=0,0,(AK10*((LOG(AK10))/LOG(2))))","v":{"$error":"#DIV/0!"}},null,{"$f":"N10","v":22},{"$f":"COUNTIF(L36:L42,AN10)","v":0},{"$f":"AO10/(AQ4-AO8)","v":{"$error":"#DIV/0!"}},{"$f":"IF(AP10=0,0,(AP10*((LOG(AP10))/LOG(2))))","v":{"$error":"#DIV/0!"}},null,{"$f":"N10","v":22},{"$f":"COUNTIF(L43:L49,AS10)","v":0},{"$f":"AT10/(AV4-AT8)","v":{"$error":"#DIV/0!"}},{"$f":"IF(AU10=0,0,(AU10*((LOG(AU10))/LOG(2))))","v":{"$error":"#DIV/0!"}}]
[11,514,21,522,null,null,null,null,null,null,0,12,null,null,null,null,null,null,null,{"$f":"N11","v":0},{"$f":"COUNTIF(L7:L13,T11)","v":0},{"$f":"U11/(W4-U8)","v":0},{"$f":"IF(V11=0,0,(V11*((LOG(V11))/LOG(2))))","v":0},null,{"$f":"N11","v":0},{"$f":"COUNTIF(L14:L20,Y11)","v":0},{"$f":"Z11/(AB4-Z8)","v":{"$error":"#DIV/0!"}},{"$f":"IF(AA11=0,0,(AA11*((LOG(AA11))/LOG(2))))","v":{"$error":"#DIV/0!"}},null,{"$f":"N11","v":0},{"$f":"COUNTIF(L21:L28,AD11)","v":0},{"$f":"AE11/(AG4-AE8)","v":{"$error":"#DIV/0!"}},{"$f":"IF(AF11=0,0,(AF11*((LOG(AF11))/LOG(2))))","v":{"$error":"#DIV/0!"}},null,{"$f":"N11","v":0},{"$f":"COUNTIF(L29:L35,AI11)","v":0},{"$f":"AJ11/(AL4-AJ8)","v":{"$error":"#DIV/0!"}},{"$f":"IF(AK11=0,0,(AK11*((LOG(AK11))/LOG(2))))","v":{"$error":"#DIV/0!"}},null,{"$f":"N11","v":0},{"$f":"COUNTIF(L36:L42,AN11)","v":0},{"$f":"AO11/(AQ4-AO8)","v":{"$error":"#DIV/0!"}},{"$f":"IF(AP11=0,0,(AP11*((LOG(AP11))/LOG(2))))","v":{"$error":"#DIV/0!"}},null,{"$f":"N11","v":0},{"$f":"COUNTIF(L43:L49,AS11)","v":0},{"$f":"AT11/(AV4-AT8)","v":{"$error":"#DIV/0!"}},{"$f":"IF(AU11=0,0,(AU11*((LOG(AU11))/LOG(2))))","v":{"$error":"#DIV/0!"}}]
[11,610,21,617,null,null,null,null,null,null,0,12,null,null,null,null,null,null,null,{"$f":"N12","v":0},{"$f":"COUNTIF(L7:L13,T12)","v":0},{"$f":"U12/(W4-U8)","v":0},{"$f":"IF(V12=0,0,(V12*((LOG(V12))/LOG(2))))","v":0},null,{"$f":"N12","v":0},{"$f":"COUNTIF(L14:L20,Y12)","v":0},{"$f":"Z12/(AB4-Z8)","v":{"$error":"#DIV/0!"}},{"$f":"IF(AA12=0,0,(AA12*((LOG(AA12))/LOG(2))))","v":{"$error":"#DIV/0!"}},null,{"$f":"N12","v":0},{"$f":"COUNTIF(L21:L28,AD12)","v":0},{"$f":"AE12/(AG4-AE8)","v":{"$error":"#DIV/0!"}},{"$f":"IF(AF12=0,0,(AF12*((LOG(AF12))/LOG(2))))","v":{"$error":"#DIV/0!"}},null,{"$f":"N12","v":0},{"$f":"COUNTIF(L29:L35,AI12)","v":0},{"$f":"AJ12/(AL4-AJ8)","v":{"$error":"#DIV/0!"}},{"$f":"IF(AK12=0,0,(AK12*((LOG(AK12))/LOG(2))))","v":{"$error":"#DIV/0!"}},null,{"$f":"N12","v":0},{"$f":"COUNTIF(L36:L42,AN12)","v":0},{"$f":"AO12/(AQ4-AO8)","v":{"$error":"#DIV/0!"}},{"$f":"IF(AP12=0,0,(AP12*((LOG(AP12))/LOG(2))))","v":{"$error":"#DIV/0!"}},null,{"$f":"N12","v":0},{"$f":"COUNTIF(L43:L49,AS12)","v":0},{"$f":"AT12/(AV4-AT8)","v":{"$error":"#DIV/0!"}},{"$f":"IF(AU12=0,0,(AU12*((LOG(AU12))/LOG(2))))","v":{"$error":"#DIV/0!"}}]
[11,704,21,711,null,null,null,null,null,null,0,12,null,null,null,null,null,null,null,{"$f":"N13","v":0},{"$f":"COUNTIF(L7:L13,T13)","v":0},{"$f":"U13/(W4-U8)","v":0},{"$f":"IF(V13=0,0,(V13*((LOG(V13))/LOG(2))))","v":0},null,{"$f":"N13","v":0},{"$f":"COUNTIF(L14:L20,Y13)","v":0},{"$f":"Z13/(AB4-Z8)","v":{"$error":"#DIV/0!"}},{"$f":"IF(AA13=0,0,(AA13*((LOG(AA13))/LOG(2))))","v":{"$error":"#DIV/0!"}},null,{"$f":"N13","v":0},{"$f":"COUNTIF(L21:L28,AD13)","v":0},{"$f":"AE13/(AG4-AE8)","v":{"$error":"#DIV/0!"}},{"$f":"IF(AF13=0,0,(AF13*((LOG(AF13))/LOG(2))))","v":{"$error":"#DIV/0!"}},null,{"$f":"N13","v":0},{"$f":"COUNTIF(L29:L35,AI13)","v":0},{"$f":"AJ13/(AL4-AJ8)","v":{"$error":"#DIV/0!"}},{"$f":"IF(AK13=0,0,(AK13*((LOG(AK13))/LOG(2))))","v":{"$error":"#DIV/0!"}},null,{"$f":"N13","v":0},{"$f":"COUNTIF(L36:L42,AN13)","v":0},{"$f":"AO13/(AQ4-AO8)","v":{"$error":"#DIV/0!"}},{"$f":"IF(AP13=0,0,(AP13*((LOG(AP13))/LOG(2))))","v":{"$error":"#DIV/0!"}},null,{"$f":"N13","v":0},{"$f":"COUNTIF(L43:L49,AS13)","v":0},{"$f":"AT13/(AV4-AT8)","v":{"$error":"#DIV/0!"}},{"$f":"IF(AU13=0,0,(AU13*((LOG(AU13))/LOG(2))))","v":{"$error":"#DIV/0!"}}]
[11,798,21,805,null,null,null,null,null,null,0,12,null,null,null,null,null,null,null,{"$f":"N14","v":0},{"$f":"COUNTIF(L7:L13,T14)","v":0},{"$f":"U14/(W4-U8)","v":0},{"$f":"IF(V14=0,0,(V14*((LOG(V14))/LOG(2))))","v":0},null,{"$f":"N14","v":0},{"$f":"COUNTIF(L14:L20,Y14)","v":0},{"$f":"Z14/(AB4-Z8)","v":{"$error":"#DIV/0!"}},{"$f":"IF(AA14=0,0,(AA14*((LOG(AA14))/LOG(2))))","v":{"$error":"#DIV/0!"}},null,{"$f":"N14","v":0},{"$f":"COUNTIF(L21:L28,AD14)","v":0},{"$f":"AE14/(AG4-AE8)","v":{"$error":"#DIV/0!"}},{"$f":"IF(AF14=0,0,(AF14*((LOG(AF14))/LOG(2))))","v":{"$error":"#DIV/0!"}},null,{"$f":"N14","v":0},{"$f":"COUNTIF(L29:L35,AI14)","v":0},{"$f":"AJ14/(AL4-AJ8)","v":{"$error":"#DIV/0!"}},{"$f":"IF(AK14=0,0,(AK14*((LOG(AK14))/LOG(2))))","v":{"$error":"#DIV/0!"}},null,{"$f":"N14","v":0},{"$f":"COUNTIF(L36:L42,AN14)","v":0},{"$f":"AO14/(AQ4-AO8)","v":{"$error":"#DIV/0!"}},{"$f":"IF(AP14=0,0,(AP14*((LOG(AP14))/LOG(2))))","v":{"$error":"#DIV/0!"}},null,{"$f":"N14","v":0},{"$f":"COUNTIF(L43:L49,AS14)","v":0},{"$f":"AT14/(AV4-AT8)","v":{"$error":"#DIV/0!"}},{"$f":"IF(AU14=0,0,(AU14*((LOG(AU14))/LOG(2))))","v":{"$error":"#DIV/0!"}}]
[11,894,21,901,null,null,null,null,null,null,0,12,null,null,null,{"$f":"SUM(P7:P14)","v":1},{"$f":"-SUM(Q7:Q14)","v":0.4291223408533888},null,null,null,null,{"$f":"SUM(V7:V14)","v":1},{"$f":"-SUM(W7:W14)","v":0.91829583405448945},null,null,null,{"$f":"SUM(AA7:AA14)","v":{"$error":"#DIV/0!"}},{"$f":"-SUM(AB7:AB14)","v":{"$error":"#DIV/0!"}},null,null,null,{"$f":"SUM(AF7:AF14)","v":{"$error":"#DIV/0!"}},{"$f":"-SUM(AG7:AG14)","v":{"$error":"#DIV/0!"}},null,null,null,{"$f":"SUM(AK7:AK14)","v":{"$error":"#DIV/0!"}},{"$f":"-SUM(AL7:AL14)","v":{"$error":"#DIV/0!"}},null,null,null,{"$f":"SUM(AP7:AP14)","v":{"$error":"#DIV/0!"}},{"$f":"-SUM(AQ7:AQ14)","v":{"$error":"#DIV/0!"}},null,null,null,{"$f":"SUM(AU7:AU14)","v":{"$error":"#DIV/0!"}},{"$f":"-SUM(AV7:AV14)","v":{"$error":"#DIV/0!"}}]
[11,986,21,994,null,null,null,null,null,null,0,12,null,null,null,"U=",{"$f":"Q15/(LOG(Q4)/LOG(2))","v":7.9082455473912391E-2},null,null,null,null,"U1=",{"$f":"W15/(LOG(W4)/LOG(2))","v":0.32710357598156481},null,null,null,"U2=",{"$f":"AB15/(LOG(AB4)/LOG(2))","v":{"$error":"#DIV/0!"}},null,null,null,"U3=",{"$f":"AG15/(LOG(AG4)/LOG(2))","v":{"$error":"#DIV/0!"}},null,null,null,"U4=",{"$f":"AL15/(LOG(AL4)/LOG(2))","v":{"$error":"#DIV/0!"}},null,null,null,"U5=",{"$f":"AQ15/(LOG(AQ4)/LOG(2))","v":{"$error":"#DIV/0!"}},null,null,null,"U6=",{"$f":"AV15/(LOG(AV4)/LOG(2))","v":{"$error":"#DIV/0!"}}]
[11,1083,21,1091,null,null,null,null,null,null,0,12]
[11,1250,21,1268,null,null,null,null,null,null,0,12]
[11,1364,21,1371,null,null,null,null,null,null,0,12,null,"Total Target Seq"]
[11,1471,21,1478,null,null,null,null,null,null,0,12,null,{"$f":"COUNTIF(L7:L49,G3)","v":40},null,7,7,8,7,7,7]
[11,1563,21,1571,null,null,null,null,null,null,0,12,null,null,null,"% of reinforcement given in 6 equal intervals based on number of trials "]
[11,1656,21,1663,null,null,null,null,null,null,0,12,null,null,null,"%_1","%_2","%_3","%_4","%_5","%_6"]
[11,1750,21,1758,null,null,null,null,null,null,0,12,null,null,"target sequence",{"$f":"$G$3","v":12},{"$f":"$G$3","v":12},{"$f":"$G$3","v":12},{"$f":"$G$3","v":12},{"$f":"$G$3","v":12},{"$f":"$G$3","v":12}]
[11,1848,21,1856,null,null,null,null,null,null,0,12,null,null,"total reinforcement",{"$f":"U8","v":4},{"$f":"Z8","v":7},{"$f":"AE8","v":8},{"$f":"AJ8","v":7},{"$f":"AO8","v":7},{"$f":"AT8","v":7}]
[11,1944,21,1951,null,null,null,null,null,null,0,12,null,null,"% target"]
[11,2036,21,2044,null,null,null,null,null,null,0,12,null,null,"CCRF"]
[11,2128,21,2136,null,null,null,null,null,null,0,12,null,null,"% CCRf"]
[11,2221,21,2229,null,null,null,null,null,null,0,12,null,null,"average response rate",{"$f":"D13/P20","v":101.57142857142857},{"$f":"(D20-D13)/Q20","v":109.57142857142857},{"$f":"(D28-D20)/R20","v":93.875},{"$f":"(D35-D28)/S20","v":95.285714285714292},{"$f":"(D42-D35)/T20","v":93.714285714285708},{"$f":"(D49-D42)/U20","v":102}]
[11,2316,21,2324,null,null,null,null,null,null,0,12]
[11,2411,21,2418,null,null,null,null,null,null,0,12]
[11,2504,21,2511,null,null,null,null,null,null,0,12]
[11,2596,21,2604,null,null,null,null,null,null,0,12]
[11,2692,21,2700,null,null,null,null,null,null,0,12]
[11,2785,21,2793,null,null,null,null,null,null,0,12]
[11,2889,21,2896,null,null,null,null,null,null,0,12]
[11,2986,21,2994,null,null,null,null,null,null,0,12]
[11,3077,21,3085,null,null,null,null,null,null,0,12]
[11,3170,21,3178,null,null,null,null,null,null,0,12]
[11,3266,21,3274,null,null,null,null,null,null,0,12]
[11,3360,21,3367,null,null,null,null,null,null,0,12]
[11,3453,21,3460,null,null,null,null,null,null,0,12]
[11,3545,21,3552,null,null,null,null,null,null,0,12]
[11,3637,21,3645,null,null,null,null,null,null,0,12]
[11,3735,21,3759,null,null,null,null,null,null,0,12]
[11,3850,21,3858,null,null,null,null,null,null,0,12]
[11,3963,21,3974,null,null,null,null,null,null,0,12]
[11,4068,21,4076,null,null,null,null,null,null,0,12]
[11,4164,21,4172,null,null,null,null,null,null,0,12]
[11,4258,21,4266,null,null,null,null,null,null,1,12]

{"sheet":"!L901910.052","index":25,"n_rows":48,"n_cols":48,"rows_kept":48,"cut":false,"hidden":false,"merged":[[4,39,4,42],[5,39,5,40],[4,44,4,47],[5,44,5,45],[4,24,4,27],[5,24,5,25],[4,29,4,32],[5,29,5,30],[4,34,4,37],[5,34,5,35],[1,1,1,2],[5,13,5,14],[18,13,18,14],[19,13,19,14],[4,19,4,22],[5,19,5,20]]}
["Report for:!L901910.052"]
["Date:","<date>"]
["Hen:","<hen>",null,null,null,"Correct Sequence",{"$f":"Start!J2","v":12},null,null,null,null,null,null,null,null,"Total Sequences in Data",{"$f":"4994-COUNTBLANK(L7:L5000)","v":42},null,null,null,null,"Total Sequences in Block Data",{"$f":"COUNTA(L7:L13)","v":7},null,null,null,"Total Sequences in Block Data",{"$f":"COUNTA(L14:L20)","v":7},null,null,null,"Total Sequences in Block Data",{"$f":"COUNTA(L21:L27)","v":7},null,null,null,"Total Sequences in Block Data",{"$f":"COUNTA(L28:L34)","v":7},null,null,null,"Total Sequences in Block Data",{"$f":"COUNTA(L35:L41)","v":7},null,null,null,"Total Sequences in Block Data",{"$f":"COUNTA(L42:L48)","v":7}]
[null,null,null,null,null,null,null,null,null,null,null,null,null,null,null,"Total Sequences in Summary",{"$f":"SUM(O7:O14)","v":42},null,null,null,null,"Total Sequences in Block Summary",{"$f":"SUM(U7:U14)","v":7},null,null,null,"Total Sequences in Block Summary",{"$f":"SUM(Z7:Z14)","v":7},null,null,null,"Total Sequences in Block Summary",{"$f":"SUM(AE7:AE14)","v":7},null,null,null,"Total Sequences in Block Summary",{"$f":"SUM(AJ7:AJ14)","v":7},null,null,null,"Total Sequences in Block Summary",{"$f":"SUM(AO7:AO14)","v":7},null,null,null,"Total Sequences in Block Summary",{"$f":"SUM(AT7:AT14)","v":7}]
[null,null,null,null,null,null,null,null,null,null,null,null,null,null,null,null,null,null,null,"Block 1",null,null,null,null,"Block 2",null,null,null,null,"Block 3",null,null,null,null,"Block 4",null,null,null,null,"Block 5",null,null,null,null,"Block 6"]
["Sequence\nComponent\n1","Time\n1","Sequence\nComponent\n2","Time\n2","Sequence\nComponent\n3","Time\n3","Sequence\nComponent\n4","Time\n4","Sequence\nComponent\n5","Time\n5","Correct?\n0=No 1=Yes","Sequence",null,"Frequency",null,"Relative Frequency","Variability",null,null,"Frequency",null,"Relative Frequency","Variability",null,"Frequency",null,"Relative Frequency","Variability",null,"Frequency",null,"Relative Frequency","Variability",null,"Frequency",null,"Relative Frequency","Variability",null,"Frequency",null,"Relative Frequency","Variability",null,"Frequency",null,"Relative Frequency","Variability"]
[11,6,21,11,null,null,null,null,null,null,0,12,null,11,{"$f":"COUNTIF($L$7:$L$500,N7)","v":1},{"$f":"O7/$Q$4","v":2.3809523809523808E-2},{"$f":"IF(P7=0,0,(P7*((LOG(P7))/LOG(2))))","v":-0.12838851006616095},null,null,{"$f":"N7","v":11},{"$f":"COUNTIF(L7:L13,T7)","v":0},{"$f":"U7/(W4-U8)","v":{"$error":"#DIV/0!"}},{"$f":"IF(V7=0,0,(V7*((LOG(V7))/LOG(2))))","v":{"$error":"#DIV/0!"}},null,{"$f":"N7","v":11},{"$f":"COUNTIF(L14:L20,Y7)","v":1},{"$f":"Z7/(AB4-Z8)","v":1},{"$f":"IF(AA7=0,0,(AA7*((LOG(AA7))/LOG(2))))","v":0},null,{"$f":"N7","v":11},{"$f":"COUNTIF(L21:L27,AD7)","v":0},{"$f":"AE7/(AG4-AE8)","v":{"$error":"#DIV/0!"}},{"$f":"IF(AF7=0,0,(AF7*((LOG(AF7))/LOG(2))))","v":{"$error":"#DIV/0!"}},null,{"$f":"N7","v":11},{"$f":"COUNTIF(L28:L34,AI7)","v":0},{"$f":"AJ7/(AL4-AJ8)","v":0},{"$f":"IF(AK7=0,0,(AK7*((LOG(AK7))/LOG(2))))","v":0},null,{"$f":"N7","v":11},{"$f":"COUNTIF(L35:L41,AN7)","v":0},{"$f":"AO7/(AQ4-AO8)","v":{"$error":"#DIV/0!"}},{"$f":"IF(AP7=0,0,(AP7*((LOG(AP7))/LOG(2))))","v":{"$error":"#DIV/0!"}},null,{"$f":"N7","v":11},{"$f":"COUNTIF(L42:L48,AS7)","v":0},{"$f":"AT7/(AV4-AT8)","v":{"$error":"#DIV/0!"}},{"$f":"IF(AU7=0,0,(AU7*((LOG(AU7))/LOG(2))))","v":{"$error":"#DIV/0!"}}]
[11,103,21,109,null,null,null,null,null,null,0,12,null,12,{"$f":"COUNTIF($L$7:$L$500,N8)","v":40},{"$f":"O8/$Q$4","v":0.95238095238095233},{"$f":"IF(P8=0,0,(P8*((LOG(P8))/LOG(2))))","v":-6.7037455134664775E-2},null,null,{"$f":"N8","v":12},{"$f":"COUNTIF(L7:L13,T8)","v":7},null,null,null,{"$f":"N8","v":12},{"$f":"COUNTIF(L14:L20,Y8)","v":6},null,null,null,{"$f":"N8","v":12},{"$f":"COUNTIF(L21:L27,AD8)","v":7},null,null,null,{"$f":"N8","v":12},{"$f":"COUNTIF(L28:L34,AI8)","v":6},null,null,null,{"$f":"N8","v":12},{"$f":"COUNTIF(L35:L41,AN8)","v":7},null,null,null,{"$f":"N8","v":12},{"$f":"COUNTIF(L42:L48,AS8)","v":7}]
[11,194,21,201,null,null,null,null,null,null,0,12,null,21,{"$f":"COUNTIF($L$7:$L$500,N9)","v":1},{"$f":"O9/$Q$4","v":2.3809523809523808E-2},{"$f":"IF(P9=0,0,(P9*((LOG(P9))/LOG(2))))","v":-0.12838851006616095},null,null,{"$f":"N9","v":21},{"$f":"COUNTIF(L7:L13,T9)","v":0},{"$f":"U9/(W4-U8)","v":{"$error":"#DIV/0!"}},{"$f":"IF(V9=0,0,(V9*((LOG(V9))/LOG(2))))","v":{"$error":"#DIV/0!"}},null,{"$f":"N9","v":21},{"$f":"COUNTIF(L14:L20,Y9)","v":0},{"$f":"Z9/(AB4-Z8)","v":0},{"$f":"IF(AA9=0,0,(AA9*((LOG(AA9))/LOG(2))))","v":0},null,{"$f":"N9","v":21},{"$f":"COUNTIF(L21:L27,AD9)","v":0},{"$f":"AE9/(AG4-AE8)","v":{"$error":"#DIV/0!"}},{"$f":"IF(AF9=0,0,(AF9*((LOG(AF9))/LOG(2))))","v":{"$error":"#DIV/0!"}},null,{"$f":"N9","v":21},{"$f":"COUNTIF(L28:L34,AI9)","v":1},{"$f":"AJ9/(AL4-AJ8)","v":1},{"$f":"IF(AK9=0,0,(AK9*((LOG(AK9))/LOG(2))))","v":0},null,{"$f":"N9","v":21},{"$f":"COUNTIF(L35:L41,AN9)","v":0},{"$f":"AO9/(AQ4-AO8)","v":{"$error":"#DIV/0!"}},{"$f":"IF(AP9=0,0,(AP9*((LOG(AP9))/LOG(2))))","v":{"$error":"#DIV/0!"}},null,{"$f":"N9","v":21},{"$f":"COUNTIF(L42:L48,AS9)","v":0},{"$f":"AT9/(AV4-AT8)","v":{"$error":"#DIV/0!"}},{"$f":"IF(AU9=0,0,(AU9*((LOG(AU9))/LOG(2))))","v":{"$error":"#DIV/0!"}}]
[11,286,21,294,null,null,null,null,null,null,0,12,null,22,{"$f":"COUNTIF($L$7:$L$500,N10)","v":0},{"$f":"O10/$Q$4","v":0},{"$f":"IF(P10=0,0,(P10*((LOG(P10))/LOG(2))))","v":0},null,null,{"$f":"N10","v":22},{"$f":"COUNTIF(L7:L13,T10)","v":0},{"$f":"U10/(W4-U8)","v":{"$error":"#DIV/0!"}},{"$f":"IF(V10=0,0,(V10*((LOG(V10))/LOG(2))))","v":{"$error":"#DIV/0!"}},null,{"$f":"N10","v":22},{"$f":"COUNTIF(L14:L20,Y10)","v":0},{"$f":"Z10/(AB4-Z8)","v":0},{"$f":"IF(AA10=0,0,(AA10*((LOG(AA10))/LOG(2))))","v":0},null,{"$f":"N10","v":22},{"$f":"COUNTIF(L21:L27,AD10)","v":0},{"$f":"AE10/(AG4-AE8)","v":{"$error":"#DIV/0!"}},{"$f":"IF(AF10=0,0,(AF10*((LOG(AF10))/LOG(2))))","v":{"$error":"#DIV/0!"}},null,{"$f":"N10","v":22},{"$f":"COUNTIF(L28:L34,AI10)","v":0},{"$f":"AJ10/(AL4-AJ8)","v":0},{"$f":"IF(AK10=0,0,(AK10*((LOG(AK10))/LOG(2))))","v":0},null,{"$f":"N10","v":22},{"$f":"COUNTIF(L35:L41,AN10)","v":0},{"$f":"AO10/(AQ4-AO8)","v":{"$error":"#DIV/0!"}},{"$f":"IF(AP10=0,0,(AP10*((LOG(AP10))/LOG(2))))","v":{"$error":"#DIV/0!"}},null,{"$f":"N10","v":22},{"$f":"COUNTIF(L42:L48,AS10)","v":0},{"$f":"AT10/(AV4-AT8)","v":{"$error":"#DIV/0!"}},{"$f":"IF(AU10=0,0,(AU10*((LOG(AU10))/LOG(2))))","v":{"$error":"#DIV/0!"}}]
[11,380,21,387,null,null,null,null,null,null,0,12,null,null,null,null,null,null,null,{"$f":"N11","v":0},{"$f":"COUNTIF(L7:L13,T11)","v":0},{"$f":"U11/(W4-U8)","v":{"$error":"#DIV/0!"}},{"$f":"IF(V11=0,0,(V11*((LOG(V11))/LOG(2))))","v":{"$error":"#DIV/0!"}},null,{"$f":"N11","v":0},{"$f":"COUNTIF(L14:L20,Y11)","v":0},{"$f":"Z11/(AB4-Z8)","v":0},{"$f":"IF(AA11=0,0,(AA11*((LOG(AA11))/LOG(2))))","v":0},null,{"$f":"N11","v":0},{"$f":"COUNTIF(L21:L27,AD11)","v":0},{"$f":"AE11/(AG4-AE8)","v":{"$error":"#DIV/0!"}},{"$f":"IF(AF11=0,0,(AF11*((LOG(AF11))/LOG(2))))","v":{"$error":"#DIV/0!"}},null,{"$f":"N11","v":0},{"$f":"COUNTIF(L28:L34,AI11)","v":0},{"$f":"AJ11/(AL4-AJ8)","v":0},{"$f":"IF(AK11=0,0,(AK11*((LOG(AK11))/LOG(2))))","v":0},null,{"$f":"N11","v":0},{"$f":"COUNTIF(L35:L41,AN11)","v":0},{"$f":"AO11/(AQ4-AO8)","v":{"$error":"#DIV/0!"}},{"$f":"IF(AP11=0,0,(AP11*((LOG(AP11))/LOG(2))))","v":{"$error":"#DIV/0!"}},null,{"$f":"N11","v":0},{"$f":"COUNTIF(L42:L48,AS11)","v":0},{"$f":"AT11/(AV4-AT8)","v":{"$error":"#DIV/0!"}},{"$f":"IF(AU11=0,0,(AU11*((LOG(AU11))/LOG(2))))","v":{"$error":"#DIV/0!"}}]
[11,473,21,479,null,null,null,null,null,null,0,12,null,null,null,null,null,null,null,{"$f":"N12","v":0},{"$f":"COUNTIF(L7:L13,T12)","v":0},{"$f":"U12/(W4-U8)","v":{"$error":"#DIV/0!"}},{"$f":"IF(V12=0,0,(V12*((LOG(V12))/LOG(2))))","v":{"$error":"#DIV/0!"}},null,{"$f":"N12","v":0},{"$f":"COUNTIF(L14:L20,Y12)","v":0},{"$f":"Z12/(AB4-Z8)","v":0},{"$f":"IF(AA12=0,0,(AA12*((LOG(AA12))/LOG(2))))","v":0},null,{"$f":"N12","v":0},{"$f":"COUNTIF(L21:L27,AD12)","v":0},{"$f":"AE12/(AG4-AE8)","v":{"$error":"#DIV/0!"}},{"$f":"IF(AF12=0,0,(AF12*((LOG(AF12))/LOG(2))))","v":{"$error":"#DIV/0!"}},null,{"$f":"N12","v":0},{"$f":"COUNTIF(L28:L34,AI12)","v":0},{"$f":"AJ12/(AL4-AJ8)","v":0},{"$f":"IF(AK12=0,0,(AK12*((LOG(AK12))/LOG(2))))","v":0},null,{"$f":"N12","v":0},{"$f":"COUNTIF(L35:L41,AN12)","v":0},{"$f":"AO12/(AQ4-AO8)","v":{"$error":"#DIV/0!"}},{"$f":"IF(AP12=0,0,(AP12*((LOG(AP12))/LOG(2))))","v":{"$error":"#DIV/0!"}},null,{"$f":"N12","v":0},{"$f":"COUNTIF(L42:L48,AS12)","v":0},{"$f":"AT12/(AV4-AT8)","v":{"$error":"#DIV/0!"}},{"$f":"IF(AU12=0,0,(AU12*((LOG(AU12))/LOG(2))))","v":{"$error":"#DIV/0!"}}]
[11,564,21,571,null,null,null,null,null,null,0,12,null,null,null,null,null,null,null,{"$f":"N13","v":0},{"$f":"COUNTIF(L7:L13,T13)","v":0},{"$f":"U13/(W4-U8)","v":{"$error":"#DIV/0!"}},{"$f":"IF(V13=0,0,(V13*((LOG(V13))/LOG(2))))","v":{"$error":"#DIV/0!"}},null,{"$f":"N13","v":0},{"$f":"COUNTIF(L14:L20,Y13)","v":0},{"$f":"Z13/(AB4-Z8)","v":0},{"$f":"IF(AA13=0,0,(AA13*((LOG(AA13))/LOG(2))))","v":0},null,{"$f":"N13","v":0},{"$f":"COUNTIF(L21:L27,AD13)","v":0},{"$f":"AE13/(AG4-AE8)","v":{"$error":"#DIV/0!"}},{"$f":"IF(AF13=0,0,(AF13*((LOG(AF13))/LOG(2))))","v":{"$error":"#DIV/0!"}},null,{"$f":"N13","v":0},{"$f":"COUNTIF(L28:L34,AI13)","v":0},{"$f":"AJ13/(AL4-AJ8)","v":0},{"$f":"IF(AK13=0,0,(AK13*((LOG(AK13))/LOG(2))))","v":0},null,{"$f":"N13","v":0},{"$f":"COUNTIF(L35:L41,AN13)","v":0},{"$f":"AO13/(AQ4-AO8)","v":{"$error":"#DIV/0!"}},{"$f":"IF(AP13=0,0,(AP13*((LOG(AP13))/LOG(2))))","v":{"$error":"#DIV/0!"}},null,{"$f":"N13","v":0},{"$f":"COUNTIF(L42:L48,AS13)","v":0},{"$f":"AT13/(AV4-AT8)","v":{"$error":"#DIV/0!"}},{"$f":"IF(AU13=0,0,(AU13*((LOG(AU13))/LOG(2))))","v":{"$error":"#DIV/0!"}}]
[11,660,21,667,null,null,null,null,null,null,0,12,null,null,null,null,null,null,null,{"$f":"N14","v":0},{"$f":"COUNTIF(L7:L13,T14)","v":0},{"$f":"U14/(W4-U8)","v":{"$error":"#DIV/0!"}},{"$f":"IF(V14=0,0,(V14*((LOG(V14))/LOG(2))))","v":{"$error":"#DIV/0!"}},null,{"$f":"N14","v":0},{"$f":"COUNTIF(L14:L20,Y14)","v":0},{"$f":"Z14/(AB4-Z8)","v":0},{"$f":"IF(AA14=0,0,(AA14*((LOG(AA14))/LOG(2))))","v":0},null,{"$f":"N14","v":0},{"$f":"COUNTIF(L21:L27,AD14)","v":0},{"$f":"AE14/(AG4-AE8)","v":{"$error":"#DIV/0!"}},{"$f":"IF(AF14=0,0,(AF14*((LOG(AF14))/LOG(2))))","v":{"$error":"#DIV/0!"}},null,{"$f":"N14","v":0},{"$f":"COUNTIF(L28:L34,AI14)","v":0},{"$f":"AJ14/(AL4-AJ8)","v":0},{"$f":"IF(AK14=0,0,(AK14*((LOG(AK14))/LOG(2))))","v":0},null,{"$f":"N14","v":0},{"$f":"COUNTIF(L35:L41,AN14)","v":0},{"$f":"AO14/(AQ4-AO8)","v":{"$error":"#DIV/0!"}},{"$f":"IF(AP14=0,0,(AP14*((LOG(AP14))/LOG(2))))","v":{"$error":"#DIV/0!"}},null,{"$f":"N14","v":0},{"$f":"COUNTIF(L42:L48,AS14)","v":0},{"$f":"AT14/(AV4-AT8)","v":{"$error":"#DIV/0!"}},{"$f":"IF(AU14=0,0,(AU14*((LOG(AU14))/LOG(2))))","v":{"$error":"#DIV/0!"}}]
[11,752,12,761,null,null,null,null,null,null,0,11,null,null,null,{"$f":"SUM(P7:P14)","v":1},{"$f":"-SUM(Q7:Q14)","v":0.3238144752669867},null,null,null,null,{"$f":"SUM(V7:V14)","v":{"$error":"#DIV/0!"}},{"$f":"-SUM(W7:W14)","v":{"$error":"#DIV/0!"}},null,null,null,{"$f":"SUM(AA7:AA14)","v":1},{"$f":"-SUM(AB7:AB14)","v":0},null,null,null,{"$f":"SUM(AF7:AF14)","v":{"$error":"#DIV/0!"}},{"$f":"-SUM(AG7:AG14)","v":{"$error":"#DIV/0!"}},null,null,null,{"$f":"SUM(AK7:AK14)","v":1},{"$f":"-SUM(AL7:AL14)","v":0},null,null,null,{"$f":"SUM(AP7:AP14)","v":{"$error":"#DIV/0!"}},{"$f":"-SUM(AQ7:AQ14)","v":{"$error":"#DIV/0!"}},null,null,null,{"$f":"SUM(AU7:AU14)","v":{"$error":"#DIV/0!"}},{"$f":"-SUM(AV7:AV14)","v":{"$error":"#DIV/0!"}}]
[11,863,21,870,null,null,null,null,null,null,0,12,null,null,null,"U=",{"$f":"Q15/(LOG(Q4)/LOG(2))","v":6.0051078206022804E-2},null,null,null,null,"U1=",{"$f":"W15/(LOG(W4)/LOG(2))","v":{"$error":"#DIV/0!"}},null,null,null,"U2=",{"$f":"AB15/(LOG(AB4)/LOG(2))","v":0},null,null,null,"U3=",{"$f":"AG15/(LOG(AG4)/LOG(2))","v":{"$error":"#DIV/0!"}},null,null,null,"U4=",{"$f":"AL15/(LOG(AL4)/LOG(2))","v":0},null,null,null,"U5=",{"$f":"AQ15/(LOG(AQ4)/LOG(2))","v":{"$error":"#DIV/0!"}},null,null,null,"U6=",{"$f":"AV15/(LOG(AV4)/LOG(2))","v":{"$error":"#DIV/0!"}}]
[11,956,21,963,null,null,null,null,null,null,0,12]
[11,1048,21,1055,null,null,null,null,null,null,0,12]
[11,1142,21,1150,null,null,null,null,null,null,0,12,null,"Total Target Seq"]
[11,1236,21,1243,null,null,null,null,null,null,0,12,null,{"$f":"COUNTIF(L7:L48,G3)","v":40},null,7,7,7,7,7,7]
[11,1329,21,1334,null,null,null,null,null,null,0,12,null,null,null,"% of reinforcement given in 6 equal intervals based on number of trials "]
[11,1421,21,1429,null,null,null,null,null,null,0,12,null,null,null,"%_1","%_2","%_3","%_4","%_5","%_6"]
[11,1516,21,1523,null,null,null,null,null,null,0,12,null,null,"target sequence",{"$f":"$G$3","v":12},{"$f":"$G$3","v":12},{"$f":"$G$3","v":12},{"$f":"$G$3","v":12},{"$f":"$G$3","v":12},{"$f":"$G$3","v":12}]
[11,1606,21,1614,null,null,null,null,null,null,0,12,null,null,"total reinforcement",{"$f":"U8","v":7},{"$f":"Z8","v":6},{"$f":"AE8","v":7},{"$f":"AJ8","v":6},{"$f":"AO8","v":7},{"$f":"AT8","v":7}]
[11,1712,21,1720,null,null,null,null,null,null,0,12,null,null,"% target"]
[11,1806,21,1813,null,null,null,null,null,null,0,12,null,null,"CCRF"]
[11,1897,21,1905,null,null,null,null,null,null,0,12,null,null,"% CCRf"]
[11,1991,21,2000,null,null,null,null,null,null,0,12,null,null,"average response rate",{"$f":"D13/P20","v":81.571428571428569},{"$f":"(D20-D13)/Q20","v":96},{"$f":"(D27-D20)/R20","v":94.571428571428569},{"$f":"(D34-D27)/S20","v":104.57142857142857},{"$f":"(D41-D34)/T20","v":97.857142857142861},{"$f":"(D48-D41)/U20","v":94.571428571428569}]
[11,2086,21,2093,null,null,null,null,null,null,0,12]
[11,2179,21,2187,null,null,null,null,null,null,0,12]
[11,2272,21,2280,null,null,null,null,null,null,0,12]
[11,2367,21,2374,null,null,null,null,null,null,0,12]
[22,2466,14,2526,null,null,null,null,null,null,0,21]
[11,2629,21,2637,null,null,null,null,null,null,0,12]
[11,2724,21,2731,null,null,null,null,null,null,0,12]
[11,2833,21,2842,null,null,null,null,null,null,0,12]
[11,2930,21,2938,null,null,null,null,null,null,0,12]
[11,3024,21,3031,null,null,null,null,null,null,0,12]
[11,3117,21,3125,null,null,null,null,null,null,0,12]
[11,3219,21,3230,null,null,null,null,null,null,0,12]
[11,3314,21,3322,null,null,null,null,null,null,0,12]
[11,3409,21,3417,null,null,null,null,null,null,0,12]
[11,3504,21,3512,null,null,null,null,null,null,0,12]
[11,3598,21,3606,null,null,null,null,null,null,0,12]
[11,3690,21,3699,null,null,null,null,null,null,0,12]
[11,3783,21,3792,null,null,null,null,null,null,0,12]
[11,3880,21,3888,null,null,null,null,null,null,0,12]
[11,3976,21,3984,null,null,null,null,null,null,1,12]

{"sheet":"!L902930.052","index":26,"n_rows":49,"n_cols":48,"rows_kept":49,"cut":false,"hidden":false,"merged":[[4,39,4,42],[5,39,5,40],[4,44,4,47],[5,44,5,45],[4,24,4,27],[5,24,5,25],[4,29,4,32],[5,29,5,30],[4,34,4,37],[5,34,5,35],[1,1,1,2],[5,13,5,14],[18,13,18,14],[19,13,19,14],[4,19,4,22],[5,19,5,20]]}
["Report for:!L902930.052"]
["Date:","<date>"]
["Hen:","<hen>",null,null,null,"Correct Sequence",{"$f":"Start!J2","v":12},null,null,null,null,null,null,null,null,"Total Sequences in Data",{"$f":"4994-COUNTBLANK(L7:L5000)","v":43},null,null,null,null,"Total Sequences in Block Data",{"$f":"COUNTA(L7:L13)","v":7},null,null,null,"Total Sequences in Block Data",{"$f":"COUNTA(L14:L20)","v":7},null,null,null,"Total Sequences in Block Data",{"$f":"COUNTA(L21:L28)","v":8},null,null,null,"Total Sequences in Block Data",{"$f":"COUNTA(L29:L35)","v":7},null,null,null,"Total Sequences in Block Data",{"$f":"COUNTA(L36:L42)","v":7},null,null,null,"Total Sequences in Block Data",{"$f":"COUNTA(L43:L49)","v":7}]
[null,null,null,null,null,null,null,null,null,null,null,null,null,null,null,"Total Sequences in Summary",{"$f":"SUM(O7:O14)","v":43},null,null,null,null,"Total Sequences in Block Summary",{"$f":"SUM(U7:U14)","v":7},null,null,null,"Total Sequences in Block Summary",{"$f":"SUM(Z7:Z14)","v":7},null,null,null,"Total Sequences in Block Summary",{"$f":"SUM(AE7:AE14)","v":8},null,null,null,"Total Sequences in Block Summary",{"$f":"SUM(AJ7:AJ14)","v":7},null,null,null,"Total Sequences in Block Summary",{"$f":"SUM(AO7:AO14)","v":7},null,null,null,"Total Sequences in Block Summary",{"$f":"SUM(AT7:AT14)","v":7}]
[null,null,null,null,null,null,null,null,null,null,null,null,null,null,null,null,null,null,null,"Block 1",null,null,null,null,"Block 2",null,null,null,null,"Block 3",null,null,null,null,"Block 4",null,null,null,null,"Block 5",null,null,null,null,"Block 6"]
["Sequence\nComponent\n1","Time\n1","Sequence\nComponent\n2","Time\n2","Sequence\nComponent\n3","Time\n3","Sequence\nComponent\n4","Time\n4","Sequence\nComponent\n5","Time\n5","Correct?\n0=No 1=Yes","Sequence",null,"Frequency",null,"Relative Frequency","Variability",null,null,"Frequency",null,"Relative Frequency","Variability",null,"Frequency",null,"Relative Frequency","Variability",null,"Frequency",null,"Relative Frequency","Variability",null,"Frequency",null,"Relative Frequency","Variability",null,"Frequency",null,"Relative Frequency","Variability",null,"Frequency",null,"Relative Frequency","Variability"]
[11,6,21,13,null,null,null,null,null,null,0,12,null,11,{"$f":"COUNTIF($L$7:$L$500,N7)","v":3},{"$f":"O7/$Q$4","v":6.9767441860465115E-2},{"$f":"IF(P7=0,0,(P7*((LOG(P7))/LOG(2))))","v":-0.26799783167308894},null,null,{"$f":"N7","v":11},{"$f":"COUNTIF(L7:L13,T7)","v":1},{"$f":"U7/(W4-U8)","v":1},{"$f":"IF(V7=0,0,(V7*((LOG(V7))/LOG(2))))","v":0},null,{"$f":"N7","v":11},{"$f":"COUNTIF(L14:L20,Y7)","v":1},{"$f":"Z7/(AB4-Z8)","v":1},{"$f":"IF(AA7=0,0,(AA7*((LOG(AA7))/LOG(2))))","v":0},null,{"$f":"N7","v":11},{"$f":"COUNTIF(L21:L28,AD7)","v":0},{"$f":"AE7/(AG4-AE8)","v":{"$error":"#DIV/0!"}},{"$f":"IF(AF7=0,0,(AF7*((LOG(AF7))/LOG(2))))","v":{"$error":"#DIV/0!"}},null,{"$f":"N7","v":11},{"$f":"COUNTIF(L29:L35,AI7)","v":0},{"$f":"AJ7/(AL4-AJ8)","v":{"$error":"#DIV/0!"}},{"$f":"IF(AK7=0,0,(AK7*((LOG(AK7))/LOG(2))))","v":{"$error":"#DIV/0!"}},null,{"$f":"N7","v":11},{"$f":"COUNTIF(L36:L42,AN7)","v":1},{"$f":"AO7/(AQ4-AO8)","v":1},{"$f":"IF(AP7=0,0,(AP7*((LOG(AP7))/LOG(2))))","v":0},null,{"$f":"N7","v":11},{"$f":"COUNTIF(L43:L49,AS7)","v":0},{"$f":"AT7/(AV4-AT8)","v":{"$error":"#DIV/0!"}},{"$f":"IF(AU7=0,0,(AU7*((LOG(AU7))/LOG(2))))","v":{"$error":"#DIV/0!"}}]
[11,98,21,105,null,null,null,null,null,null,0,12,null,12,{"$f":"COUNTIF($L$7:$L$500,N8)","v":40},{"$f":"O8/$Q$4","v":0.93023255813953487},{"$f":"IF(P8=0,0,(P8*((LOG(P8))/LOG(2))))","v":-9.7057357967195917E-2},null,null,{"$f":"N8","v":12},{"$f":"COUNTIF(L7:L13,T8)","v":6},null,null,null,{"$f":"N8","v":12},{"$f":"COUNTIF(L14:L20,Y8)","v":6},null,null,null,{"$f":"N8","v":12},{"$f":"COUNTIF(L21:L28,AD8)","v":8},null,null,null,{"$f":"N8","v":12},{"$f":"COUNTIF(L29:L35,AI8)","v":7},null,null,null,{"$f":"N8","v":12},{"$f":"COUNTIF(L36:L42,AN8)","v":6},null,null,null,{"$f":"N8","v":12},{"$f":"COUNTIF(L43:L49,AS8)","v":7}]
[11,190,21,195,null,null,null,null,null,null,0,12,null,21,{"$f":"COUNTIF($L$7:$L$500,N9)","v":0},{"$f":"O9/$Q$4","v":0},{"$f":"IF(P9=0,0,(P9*((LOG(P9))/LOG(2))))","v":0},null,null,{"$f":"N9","v":21},{"$f":"COUNTIF(L7:L13,T9)","v":0},{"$f":"U9/(W4-U8)","v":0},{"$f":"IF(V9=0,0,(V9*((LOG(V9))/LOG(2))))","v":0},null,{"$f":"N9","v":21},{"$f":"COUNTIF(L14:L20,Y9)","v":0},{"$f":"Z9/(AB4-Z8)","v":0},{"$f":"IF(AA9=0,0,(AA9*((LOG(AA9))/LOG(2))))","v":0},null,{"$f":"N9","v":21},{"$f":"COUNTIF(L21:L28,AD9)","v":0},{"$f":"AE9/(AG4-AE8)","v":{"$error":"#DIV/0!"}},{"$f":"IF(AF9=0,0,(AF9*((LOG(AF9))/LOG(2))))","v":{"$error":"#DIV/0!"}},null,{"$f":"N9","v":21},{"$f":"COUNTIF(L29:L35,AI9)","v":0},{"$f":"AJ9/(AL4-AJ8)","v":{"$error":"#DIV/0!"}},{"$f":"IF(AK9=0,0,(AK9*((LOG(AK9))/LOG(2))))","v":{"$error":"#DIV/0!"}},null,{"$f":"N9","v":21},{"$f":"COUNTIF(L36:L42,AN9)","v":0},{"$f":"AO9/(AQ4-AO8)","v":0},{"$f":"IF(AP9=0,0,(AP9*((LOG(AP9))/LOG(2))))","v":0},null,{"$f":"N9","v":21},{"$f":"COUNTIF(L43:L49,AS9)","v":0},{"$f":"AT9/(AV4-AT8)","v":{"$error":"#DIV/0!"}},{"$f":"IF(AU9=0,0,(AU9*((LOG(AU9))/LOG(2))))","v":{"$error":"#DIV/0!"}}]
[11,278,12,283,null,null,null,null,null,null,0,11,null,22,{"$f":"COUNTIF($L$7:$L$500,N10)","v":0},{"$f":"O10/$Q$4","v":0},{"$f":"IF(P10=0,0,(P10*((LOG(P10))/LOG(2))))","v":0},null,null,{"$f":"N10","v":22},{"$f":"COUNTIF(L7:L13,T10)","v":0},{"$f":"U10/(W4-U8)","v":0},{"$f":"IF(V10=0,0,(V10*((LOG(V10))/LOG(2))))","v":0},null,{"$f":"N10","v":22},{"$f":"COUNTIF(L14:L20,Y10)","v":0},{"$f":"Z10/(AB4-Z8)","v":0},{"$f":"IF(AA10=0,0,(AA10*((LOG(AA10))/LOG(2))))","v":0},null,{"$f":"N10","v":22},{"$f":"COUNTIF(L21:L28,AD10)","v":0},{"$f":"AE10/(AG4-AE8)","v":{"$error":"#DIV/0!"}},{"$f":"IF(AF10=0,0,(AF10*((LOG(AF10))/LOG(2))))","v":{"$error":"#DIV/0!"}},null,{"$f":"N10","v":22},{"$f":"COUNTIF(L29:L35,AI10)","v":0},{"$f":"AJ10/(AL4-AJ8)","v":{"$error":"#DIV/0!"}},{"$f":"IF(AK10=0,0,(AK10*((LOG(AK10))/LOG(2))))","v":{"$error":"#DIV/0!"}},null,{"$f":"N10","v":22},{"$f":"COUNTIF(L36:L42,AN10)","v":0},{"$f":"AO10/(AQ4-AO8)","v":0},{"$f":"IF(AP10=0,0,(AP10*((LOG(AP10))/LOG(2))))","v":0},null,{"$f":"N10","v":22},{"$f":"COUNTIF(L43:L49,AS10)","v":0},{"$f":"AT10/(AV4-AT8)","v":{"$error":"#DIV/0!"}},{"$f":"IF(AU10=0,0,(AU10*((LOG(AU10))/LOG(2))))","v":{"$error":"#DIV/0!"}}]
[11,381,21,388,null,null,null,null,null,null,0,12,null,null,null,null,null,null,null,{"$f":"N11","v":0},{"$f":"COUNTIF(L7:L13,T11)","v":0},{"$f":"U11/(W4-U8)","v":0},{"$f":"IF(V11=0,0,(V11*((LOG(V11))/LOG(2))))","v":0},null,{"$f":"N11","v":0},{"$f":"COUNTIF(L14:L20,Y11)","v":0},{"$f":"Z11/(AB4-Z8)","v":0},{"$f":"IF(AA11=0,0,(AA11*((LOG(AA11))/LOG(2))))","v":0},null,{"$f":"N11","v":0},{"$f":"COUNTIF(L21:L28,AD11)","v":0},{"$f":"AE11/(AG4-AE8)","v":{"$error":"#DIV/0!"}},{"$f":"IF(AF11=0,0,(AF11*((LOG(AF11))/LOG(2))))","v":{"$error":"#DIV/0!"}},null,{"$f":"N11","v":0},{"$f":"COUNTIF(L29:L35,AI11)","v":0},{"$f":"AJ11/(AL4-AJ8)","v":{"$error":"#DIV/0!"}},{"$f":"IF(AK11=0,0,(AK11*((LOG(AK11))/LOG(2))))","v":{"$error":"#DIV/0!"}},null,{"$f":"N11","v":0},{"$f":"COUNTIF(L36:L42,AN11)","v":0},{"$f":"AO11/(AQ4-AO8)","v":0},{"$f":"IF(AP11=0,0,(AP11*((LOG(AP11))/LOG(2))))","v":0},null,{"$f":"N11","v":0},{"$f":"COUNTIF(L43:L49,AS11)","v":0},{"$f":"AT11/(AV4-AT8)","v":{"$error":"#DIV/0!"}},{"$f":"IF(AU11=0,0,(AU11*((LOG(AU11))/LOG(2))))","v":{"$error":"#DIV/0!"}}]
[11,475,21,482,null,null,null,null,null,null,0,12,null,null,null,null,null,null,null,{"$f":"N12","v":0},{"$f":"COUNTIF(L7:L13,T12)","v":0},{"$f":"U12/(W4-U8)","v":0},{"$f":"IF(V12=0,0,(V12*((LOG(V12))/LOG(2))))","v":0},null,{"$f":"N12","v":0},{"$f":"COUNTIF(L14:L20,Y12)","v":0},{"$f":"Z12/(AB4-Z8)","v":0},{"$f":"IF(AA12=0,0,(AA12*((LOG(AA12))/LOG(2))))","v":0},null,{"$f":"N12","v":0},{"$f":"COUNTIF(L21:L28,AD12)","v":0},{"$f":"AE12/(AG4-AE8)","v":{"$error":"#DIV/0!"}},{"$f":"IF(AF12=0,0,(AF12*((LOG(AF12))/LOG(2))))","v":{"$error":"#DIV/0!"}},null,{"$f":"N12","v":0},{"$f":"COUNTIF(L29:L35,AI12)","v":0},{"$f":"AJ12/(AL4-AJ8)","v":{"$error":"#DIV/0!"}},{"$f":"IF(AK12=0,0,(AK12*((LOG(AK12))/LOG(2))))","v":{"$error":"#DIV/0!"}},null,{"$f":"N12","v":0},{"$f":"COUNTIF(L36:L42,AN12)","v":0},{"$f":"AO12/(AQ4-AO8)","v":0},{"$f":"IF(AP12=0,0,(AP12*((LOG(AP12))/LOG(2))))","v":0},null,{"$f":"N12","v":0},{"$f":"COUNTIF(L43:L49,AS12)","v":0},{"$f":"AT12/(AV4-AT8)","v":{"$error":"#DIV/0!"}},{"$f":"IF(AU12=0,0,(AU12*((LOG(AU12))/LOG(2))))","v":{"$error":"#DIV/0!"}}]
[11,567,21,574,null,null,null,null,null,null,0,12,null,null,null,null,null,null,null,{"$f":"N13","v":0},{"$f":"COUNTIF(L7:L13,T13)","v":0},{"$f":"U13/(W4-U8)","v":0},{"$f":"IF(V13=0,0,(V13*((LOG(V13))/LOG(2))))","v":0},null,{"$f":"N13","v":0},{"$f":"COUNTIF(L14:L20,Y13)","v":0},{"$f":"Z13/(AB4-Z8)","v":0},{"$f":"IF(AA13=0,0,(AA13*((LOG(AA13))/LOG(2))))","v":0},null,{"$f":"N13","v":0},{"$f":"COUNTIF(L21:L28,AD13)","v":0},{"$f":"AE13/(AG4-AE8)","v":{"$error":"#DIV/0!"}},{"$f":"IF(AF13=0,0,(AF13*((LOG(AF13))/LOG(2))))","v":{"$error":"#DIV/0!"}},null,{"$f":"N13","v":0},{"$f":"COUNTIF(L29:L35,AI13)","v":0},{"$f":"AJ13/(AL4-AJ8)","v":{"$error":"#DIV/0!"}},{"$f":"IF(AK13=0,0,(AK13*((LOG(AK13))/LOG(2))))","v":{"$error":"#DIV/0!"}},null,{"$f":"N13","v":0},{"$f":"COUNTIF(L36:L42,AN13)","v":0},{"$f":"AO13/(AQ4-AO8)","v":0},{"$f":"IF(AP13=0,0,(AP13*((LOG(AP13))/LOG(2))))","v":0},null,{"$f":"N13","v":0},{"$f":"COUNTIF(L43:L49,AS13)","v":0},{"$f":"AT13/(AV4-AT8)","v":{"$error":"#DIV/0!"}},{"$f":"IF(AU13=0,0,(AU13*((LOG(AU13))/LOG(2))))","v":{"$error":"#DIV/0!"}}]
[11,660,21,667,null,null,null,null,null,null,0,12,null,null,null,null,null,null,null,{"$f":"N14","v":0},{"$f":"COUNTIF(L7:L13,T14)","v":0},{"$f":"U14/(W4-U8)","v":0},{"$f":"IF(V14=0,0,(V14*((LOG(V14))/LOG(2))))","v":0},null,{"$f":"N14","v":0},{"$f":"COUNTIF(L14:L20,Y14)","v":0},{"$f":"Z14/(AB4-Z8)","v":0},{"$f":"IF(AA14=0,0,(AA14*((LOG(AA14))/LOG(2))))","v":0},null,{"$f":"N14","v":0},{"$f":"COUNTIF(L21:L28,AD14)","v":0},{"$f":"AE14/(AG4-AE8)","v":{"$error":"#DIV/0!"}},{"$f":"IF(AF14=0,0,(AF14*((LOG(AF14))/LOG(2))))","v":{"$error":"#DIV/0!"}},null,{"$f":"N14","v":0},{"$f":"COUNTIF(L29:L35,AI14)","v":0},{"$f":"AJ14/(AL4-AJ8)","v":{"$error":"#DIV/0!"}},{"$f":"IF(AK14=0,0,(AK14*((LOG(AK14))/LOG(2))))","v":{"$error":"#DIV/0!"}},null,{"$f":"N14","v":0},{"$f":"COUNTIF(L36:L42,AN14)","v":0},{"$f":"AO14/(AQ4-AO8)","v":0},{"$f":"IF(AP14=0,0,(AP14*((LOG(AP14))/LOG(2))))","v":0},null,{"$f":"N14","v":0},{"$f":"COUNTIF(L43:L49,AS14)","v":0},{"$f":"AT14/(AV4-AT8)","v":{"$error":"#DIV/0!"}},{"$f":"IF(AU14=0,0,(AU14*((LOG(AU14))/LOG(2))))","v":{"$error":"#DIV/0!"}}]
[11,753,12,769,null,null,null,null,null,null,0,11,null,null,null,{"$f":"SUM(P7:P14)","v":1},{"$f":"-SUM(Q7:Q14)","v":0.36505518964028483},null,null,null,null,{"$f":"SUM(V7:V14)","v":1},{"$f":"-SUM(W7:W14)","v":0},null,null,null,{"$f":"SUM(AA7:AA14)","v":1},{"$f":"-SUM(AB7:AB14)","v":0},null,null,null,{"$f":"SUM(AF7:AF14)","v":{"$error":"#DIV/0!"}},{"$f":"-SUM(AG7:AG14)","v":{"$error":"#DIV/0!"}},null,null,null,{"$f":"SUM(AK7:AK14)","v":{"$error":"#DIV/0!"}},{"$f":"-SUM(AL7:AL14)","v":{"$error":"#DIV/0!"}},null,null,null,{"$f":"SUM(AP7:AP14)","v":1},{"$f":"-SUM(AQ7:AQ14)","v":0},null,null,null,{"$f":"SUM(AU7:AU14)","v":{"$error":"#DIV/0!"}},{"$f":"-SUM(AV7:AV14)","v":{"$error":"#DIV/0!"}}]
[11,865,21,871,null,null,null,null,null,null,0,12,null,null,null,"U=",{"$f":"Q15/(LOG(Q4)/LOG(2))","v":6.7275594933687746E-2},null,null,null,null,"U1=",{"$f":"W15/(LOG(W4)/LOG(2))","v":0},null,null,null,"U2=",{"$f":"AB15/(LOG(AB4)/LOG(2))","v":0},null,null,null,"U3=",{"$f":"AG15/(LOG(AG4)/LOG(2))","v":{"$error":"#DIV/0!"}},null,null,null,"U4=",{"$f":"AL15/(LOG(AL4)/LOG(2))","v":{"$error":"#DIV/0!"}},null,null,null,"U5=",{"$f":"AQ15/(LOG(AQ4)/LOG(2))","v":0},null,null,null,"U6=",{"$f":"AV15/(LOG(AV4)/LOG(2))","v":{"$error":"#DIV/0!"}}]
[11,961,21,968,null,null,null,null,null,null,0,12]
[11,1057,21,1064,null,null,null,null,null,null,0,12]
[11,1149,21,1163,null,null,null,null,null,null,0,12,null,"Total Target Seq"]
[11,1251,21,1256,null,null,null,null,null,null,0,12,null,{"$f":"COUNTIF(L7:L49,G3)","v":40},null,7,7,8,7,7,7]
[11,1343,21,1350,null,null,null,null,null,null,0,12,null,null,null,"% of reinforcement given in 6 equal intervals based on number of trials "]
[11,1439,21,1446,null,null,null,null,null,null,0,12,null,null,null,"%_1","%_2","%_3","%_4","%_5","%_6"]
[11,1531,21,1537,null,null,null,null,null,null,0,12,null,null,"target sequence",{"$f":"$G$3","v":12},{"$f":"$G$3","v":12},{"$f":"$G$3","v":12},{"$f":"$G$3","v":12},{"$f":"$G$3","v":12},{"$f":"$G$3","v":12}]
[11,1624,21,1631,null,null,null,null,null,null,0,12,null,null,"total reinforcement",{"$f":"U8","v":6},{"$f":"Z8","v":6},{"$f":"AE8","v":8},{"$f":"AJ8","v":7},{"$f":"AO8","v":6},{"$f":"AT8","v":7}]
[11,1716,21,1723,null,null,null,null,null,null,0,12,null,null,"% target"]
[11,1811,21,1817,null,null,null,null,null,null,0,12,null,null,"CCRF"]
[11,1903,21,1908,null,null,null,null,null,null,0,12,null,null,"% CCRf"]
[11,1995,21,2002,null,null,null,null,null,null,0,12,null,null,"average response rate",{"$f":"D13/P20","v":82},{"$f":"(D20-D13)/Q20","v":97.428571428571431},{"$f":"(D28-D20)/R20","v":93.25},{"$f":"(D35-D28)/S20","v":95},{"$f":"(D42-D35)/T20","v":99.142857142857139},{"$f":"(D49-D42)/U20","v":93.285714285714292}]
[11,2089,21,2096,null,null,null,null,null,null,0,12]
[11,2183,21,2191,null,null,null,null,null,null,0,12]
[11,2281,21,2289,null,null,null,null,null,null,0,12]
[11,2377,21,2383,null,null,null,null,null,null,0,12]
[11,2472,21,2479,null,null,null,null,null,null,0,12]
[11,2566,21,2573,null,null,null,null,null,null,0,12]
[11,2659,21,2667,null,null,null,null,null,null,0,12]
[11,2755,21,2763,null,null,null,null,null,null,0,12]
[11,2858,21,2865,null,null,null,null,null,null,0,12]
[11,2955,21,2964,null,null,null,null,null,null,0,12]
[11,3051,21,3058,null,null,null,null,null,null,0,12]
[11,3144,21,3151,null,null,null,null,null,null,0,12]
[11,3235,12,3250,null,null,null,null,null,null,0,11]
[11,3345,21,3361,null,null,null,null,null,null,0,12]
[11,3446,21,3453,null,null,null,null,null,null,0,12]
[11,3538,21,3545,null,null,null,null,null,null,0,12]
[11,3632,21,3639,null,null,null,null,null,null,0,12]
[11,3725,21,3731,null,null,null,null,null,null,0,12]
[11,3818,21,3825,null,null,null,null,null,null,0,12]
[11,3911,21,3918,null,null,null,null,null,null,0,12]
[11,4006,21,4014,null,null,null,null,null,null,1,12]

{"sheet":"!L903900.052","index":27,"n_rows":48,"n_cols":48,"rows_kept":48,"cut":false,"hidden":false,"merged":[[4,39,4,42],[5,39,5,40],[4,44,4,47],[5,44,5,45],[4,24,4,27],[5,24,5,25],[4,29,4,32],[5,29,5,30],[4,34,4,37],[5,34,5,35],[1,1,1,2],[5,13,5,14],[18,13,18,14],[19,13,19,14],[4,19,4,22],[5,19,5,20]]}
["Report for:!L903900.052"]
["Date:","<date>"]
["Hen:","<hen>",null,null,null,"Correct Sequence",{"$f":"Start!J2","v":12},null,null,null,null,null,null,null,null,"Total Sequences in Data",{"$f":"4994-COUNTBLANK(L7:L5000)","v":42},null,null,null,null,"Total Sequences in Block Data",{"$f":"COUNTA(L7:L13)","v":7},null,null,null,"Total Sequences in Block Data",{"$f":"COUNTA(L14:L20)","v":7},null,null,null,"Total Sequences in Block Data",{"$f":"COUNTA(L21:L27)","v":7},null,null,null,"Total Sequences in Block Data",{"$f":"COUNTA(L28:L34)","v":7},null,null,null,"Total Sequences in Block Data",{"$f":"COUNTA(L35:L41)","v":7},null,null,null,"Total Sequences in Block Data",{"$f":"COUNTA(L42:L48)","v":7}]
[null,null,null,null,null,null,null,null,null,null,null,null,null,null,null,"Total Sequences in Summary",{"$f":"SUM(O7:O14)","v":42},null,null,null,null,"Total Sequences in Block Summary",{"$f":"SUM(U7:U14)","v":7},null,null,null,"Total Sequences in Block Summary",{"$f":"SUM(Z7:Z14)","v":7},null,null,null,"Total Sequences in Block Summary",{"$f":"SUM(AE7:AE14)","v":7},null,null,null,"Total Sequences in Block Summary",{"$f":"SUM(AJ7:AJ14)","v":7},null,null,null,"Total Sequences in Block Summary",{"$f":"SUM(AO7:AO14)","v":7},null,null,null,"Total Sequences in Block Summary",{"$f":"SUM(AT7:AT14)","v":7}]
[null,null,null,null,null,null,null,null,null,null,null,null,null,null,null,null,null,null,null,"Block 1",null,null,null,null,"Block 2",null,null,null,null,"Block 3",null,null,null,null,"Block 4",null,null,null,null,"Block 5",null,null,null,null,"Block 6"]
["Sequence\nComponent\n1","Time\n1","Sequence\nComponent\n2","Time\n2","Sequence\nComponent\n3","Time\n3","Sequence\nComponent\n4","Time\n4","Sequence\nComponent\n5","Time\n5","Correct?\n0=No 1=Yes","Sequence",null,"Frequency",null,"Relative Frequency","Variability",null,null,"Frequency",null,"Relative Frequency","Variability",null,"Frequency",null,"Relative Frequency","Variability",null,"Frequency",null,"Relative Frequency","Variability",null,"Frequency",null,"Relative Frequency","Variability",null,"Frequency",null,"Relative Frequency","Variability",null,"Frequency",null,"Relative Frequency","Variability"]
[11,11,21,16,null,null,null,null,null,null,0,12,null,11,{"$f":"COUNTIF($L$7:$L$500,N7)","v":1},{"$f":"O7/$Q$4","v":2.3809523809523808E-2},{"$f":"IF(P7=0,0,(P7*((LOG(P7))/LOG(2))))","v":-0.12838851006616095},null,null,{"$f":"N7","v":11},{"$f":"COUNTIF(L7:L13,T7)","v":0},{"$f":"U7/(W4-U8)","v":0},{"$f":"IF(V7=0,0,(V7*((LOG(V7))/LOG(2))))","v":0},null,{"$f":"N7","v":11},{"$f":"COUNTIF(L14:L20,Y7)","v":0},{"$f":"Z7/(AB4-Z8)","v":{"$error":"#DIV/0!"}},{"$f":"IF(AA7=0,0,(AA7*((LOG(AA7))/LOG(2))))","v":{"$error":"#DIV/0!"}},null,{"$f":"N7","v":11},{"$f":"COUNTIF(L21:L27,AD7)","v":0},{"$f":"AE7/(AG4-AE8)","v":{"$error":"#DIV/0!"}},{"$f":"IF(AF7=0,0,(AF7*((LOG(AF7))/LOG(2))))","v":{"$error":"#DIV/0!"}},null,{"$f":"N7","v":11},{"$f":"COUNTIF(L28:L34,AI7)","v":0},{"$f":"AJ7/(AL4-AJ8)","v":{"$error":"#DIV/0!"}},{"$f":"IF(AK7=0,0,(AK7*((LOG(AK7))/LOG(2))))","v":{"$error":"#DIV/0!"}},null,{"$f":"N7","v":11},{"$f":"COUNTIF(L35:L41,AN7)","v":1},{"$f":"AO7/(AQ4-AO8)","v":1},{"$f":"IF(AP7=0,0,(AP7*((LOG(AP7))/LOG(2))))","v":0},null,{"$f":"N7","v":11},{"$f":"COUNTIF(L42:L48,AS7)","v":0},{"$f":"AT7/(AV4-AT8)","v":{"$error":"#DIV/0!"}},{"$f":"IF(AU7=0,0,(AU7*((LOG(AU7))/LOG(2))))","v":{"$error":"#DIV/0!"}}]
[11,104,21,110,null,null,null,null,null,null,0,12,null,12,{"$f":"COUNTIF($L$7:$L$500,N8)","v":40},{"$f":"O8/$Q$4","v":0.95238095238095233},{"$f":"IF(P8=0,0,(P8*((LOG(P8))/LOG(2))))","v":-6.7037455134664775E-2},null,null,{"$f":"N8","v":12},{"$f":"COUNTIF(L7:L13,T8)","v":6},null,null,null,{"$f":"N8","v":12},{"$f":"COUNTIF(L14:L20,Y8)","v":7},null,null,null,{"$f":"N8","v":12},{"$f":"COUNTIF(L21:L27,AD8)","v":7},null,null,null,{"$f":"N8","v":12},{"$f":"COUNTIF(L28:L34,AI8)","v":7},null,null,null,{"$f":"N8","v":12},{"$f":"COUNTIF(L35:L41,AN8)","v":6},null,null,null,{"$f":"N8","v":12},{"$f":"COUNTIF(L42:L48,AS8)","v":7}]
[11,197,21,204,null,null,null,null,null,null,0,12,null,21,{"$f":"COUNTIF($L$7:$L$500,N9)","v":0},{"$f":"O9/$Q$4","v":0},{"$f":"IF(P9=0,0,(P9*((LOG(P9))/LOG(2))))","v":0},null,null,{"$f":"N9","v":21},{"$f":"COUNTIF(L7:L13,T9)","v":0},{"$f":"U9/(W4-U8)","v":0},{"$f":"IF(V9=0,0,(V9*((LOG(V9))/LOG(2))))","v":0},null,{"$f":"N9","v":21},{"$f":"COUNTIF(L14:L20,Y9)","v":0},{"$f":"Z9/(AB4-Z8)","v":{"$error":"#DIV/0!"}},{"$f":"IF(AA9=0,0,(AA9*((LOG(AA9))/LOG(2))))","v":{"$error":"#DIV/0!"}},null,{"$f":"N9","v":21},{"$f":"COUNTIF(L21:L27,AD9)","v":0},{"$f":"AE9/(AG4-AE8)","v":{"$error":"#DIV/0!"}},{"$f":"IF(AF9=0,0,(AF9*((LOG(AF9))/LOG(2))))","v":{"$error":"#DIV/0!"}},null,{"$f":"N9","v":21},{"$f":"COUNTIF(L28:L34,AI9)","v":0},{"$f":"AJ9/(AL4-AJ8)","v":{"$error":"#DIV/0!"}},{"$f":"IF(AK9=0,0,(AK9*((LOG(AK9))/LOG(2))))","v":{"$error":"#DIV/0!"}},null,{"$f":"N9","v":21},{"$f":"COUNTIF(L35:L41,AN9)","v":0},{"$f":"AO9/(AQ4-AO8)","v":0},{"$f":"IF(AP9=0,0,(AP9*((LOG(AP9))/LOG(2))))","v":0},null,{"$f":"N9","v":21},{"$f":"COUNTIF(L42:L48,AS9)","v":0},{"$f":"AT9/(AV4-AT8)","v":{"$error":"#DIV/0!"}},{"$f":"IF(AU9=0,0,(AU9*((LOG(AU9))/LOG(2))))","v":{"$error":"#DIV/0!"}}]
[11,289,21,296,null,null,null,null,null,null,0,12,null,22,{"$f":"COUNTIF($L$7:$L$500,N10)","v":1},{"$f":"O10/$Q$4","v":2.3809523809523808E-2},{"$f":"IF(P10=0,0,(P10*((LOG(P10))/LOG(2))))","v":-0.12838851006616095},null,null,{"$f":"N10","v":22},{"$f":"COUNTIF(L7:L13,T10)","v":1},{"$f":"U10/(W4-U8)","v":1},{"$f":"IF(V10=0,0,(V10*((LOG(V10))/LOG(2))))","v":0},null,{"$f":"N10","v":22},{"$f":"COUNTIF(L14:L20,Y10)","v":0},{"$f":"Z10/(AB4-Z8)","v":{"$error":"#DIV/0!"}},{"$f":"IF(AA10=0,0,(AA10*((LOG(AA10))/LOG(2))))","v":{"$error":"#DIV/0!"}},null,{"$f":"N10","v":22},{"$f":"COUNTIF(L21:L27,AD10)","v":0},{"$f":"AE10/(AG4-AE8)","v":{"$error":"#DIV/0!"}},{"$f":"IF(AF10=0,0,(AF10*((LOG(AF10))/LOG(2))))","v":{"$error":"#DIV/0!"}},null,{"$f":"N10","v":22},{"$f":"COUNTIF(L28:L34,AI10)","v":0},{"$f":"AJ10/(AL4-AJ8)","v":{"$error":"#DIV/0!"}},{"$f":"IF(AK10=0,0,(AK10*((LOG(AK10))/LOG(2))))","v":{"$error":"#DIV/0!"}},null,{"$f":"N10","v":22},{"$f":"COUNTIF(L35:L41,AN10)","v":0},{"$f":"AO10/(AQ4-AO8)","v":0},{"$f":"IF(AP10=0,0,(AP10*((LOG(AP10))/LOG(2))))","v":0},null,{"$f":"N10","v":22},{"$f":"COUNTIF(L42:L48,AS10)","v":0},{"$f":"AT10/(AV4-AT8)","v":{"$error":"#DIV/0!"}},{"$f":"IF(AU10=0,0,(AU10*((LOG(AU10))/LOG(2))))","v":{"$error":"#DIV/0!"}}]
[11,382,21,389,null,null,null,null,null,null,0,12,null,null,null,null,null,null,null,{"$f":"N11","v":0},{"$f":"COUNTIF(L7:L13,T11)","v":0},{"$f":"U11/(W4-U8)","v":0},{"$f":"IF(V11=0,0,(V11*((LOG(V11))/LOG(2))))","v":0},null,{"$f":"N11","v":0},{"$f":"COUNTIF(L14:L20,Y11)","v":0},{"$f":"Z11/(AB4-Z8)","v":{"$error":"#DIV/0!"}},{"$f":"IF(AA11=0,0,(AA11*((LOG(AA11))/LOG(2))))","v":{"$error":"#DIV/0!"}},null,{"$f":"N11","v":0},{"$f":"COUNTIF(L21:L27,AD11)","v":0},{"$f":"AE11/(AG4-AE8)","v":{"$error":"#DIV/0!"}},{"$f":"IF(AF11=0,0,(AF11*((LOG(AF11))/LOG(2))))","v":{"$error":"#DIV/0!"}},null,{"$f":"N11","v":0},{"$f":"COUNTIF(L28:L34,AI11)","v":0},{"$f":"AJ11/(AL4-AJ8)","v":{"$error":"#DIV/0!"}},{"$f":"IF(AK11=0,0,(AK11*((LOG(AK11))/LOG(2))))","v":{"$error":"#DIV/0!"}},null,{"$f":"N11","v":0},{"$f":"COUNTIF(L35:L41,AN11)","v":0},{"$f":"AO11/(AQ4-AO8)","v":0},{"$f":"IF(AP11=0,0,(AP11*((LOG(AP11))/LOG(2))))","v":0},null,{"$f":"N11","v":0},{"$f":"COUNTIF(L42:L48,AS11)","v":0},{"$f":"AT11/(AV4-AT8)","v":{"$error":"#DIV/0!"}},{"$f":"IF(AU11=0,0,(AU11*((LOG(AU11))/LOG(2))))","v":{"$error":"#DIV/0!"}}]
[11,483,21,490,null,null,null,null,null,null,0,12,null,null,null,null,null,null,null,{"$f":"N12","v":0},{"$f":"COUNTIF(L7:L13,T12)","v":0},{"$f":"U12/(W4-U8)","v":0},{"$f":"IF(V12=0,0,(V12*((LOG(V12))/LOG(2))))","v":0},null,{"$f":"N12","v":0},{"$f":"COUNTIF(L14:L20,Y12)","v":0},{"$f":"Z12/(AB4-Z8)","v":{"$error":"#DIV/0!"}},{"$f":"IF(AA12=0,0,(AA12*((LOG(AA12))/LOG(2))))","v":{"$error":"#DIV/0!"}},null,{"$f":"N12","v":0},{"$f":"COUNTIF(L21:L27,AD12)","v":0},{"$f":"AE12/(AG4-AE8)","v":{"$error":"#DIV/0!"}},{"$f":"IF(AF12=0,0,(AF12*((LOG(AF12))/LOG(2))))","v":{"$error":"#DIV/0!"}},null,{"$f":"N12","v":0},{"$f":"COUNTIF(L28:L34,AI12)","v":0},{"$f":"AJ12/(AL4-AJ8)","v":{"$error":"#DIV/0!"}},{"$f":"IF(AK12=0,0,(AK12*((LOG(AK12))/LOG(2))))","v":{"$error":"#DIV/0!"}},null,{"$f":"N12","v":0},{"$f":"COUNTIF(L35:L41,AN12)","v":0},{"$f":"AO12/(AQ4-AO8)","v":0},{"$f":"IF(AP12=0,0,(AP12*((LOG(AP12))/LOG(2))))","v":0},null,{"$f":"N12","v":0},{"$f":"COUNTIF(L42:L48,AS12)","v":0},{"$f":"AT12/(AV4-AT8)","v":{"$error":"#DIV/0!"}},{"$f":"IF(AU12=0,0,(AU12*((LOG(AU12))/LOG(2))))","v":{"$error":"#DIV/0!"}}]
[22,576,23,602,null,null,null,null,null,null,0,22,null,null,null,null,null,null,null,{"$f":"N13","v":0},{"$f":"COUNTIF(L7:L13,T13)","v":0},{"$f":"U13/(W4-U8)","v":0},{"$f":"IF(V13=0,0,(V13*((LOG(V13))/LOG(2))))","v":0},null,{"$f":"N13","v":0},{"$f":"COUNTIF(L14:L20,Y13)","v":0},{"$f":"Z13/(AB4-Z8)","v":{"$error":"#DIV/0!"}},{"$f":"IF(AA13=0,0,(AA13*((LOG(AA13))/LOG(2))))","v":{"$error":"#DIV/0!"}},null,{"$f":"N13","v":0},{"$f":"COUNTIF(L21:L27,AD13)","v":0},{"$f":"AE13/(AG4-AE8)","v":{"$error":"#DIV/0!"}},{"$f":"IF(AF13=0,0,(AF13*((LOG(AF13))/LOG(2))))","v":{"$error":"#DIV/0!"}},null,{"$f":"N13","v":0},{"$f":"COUNTIF(L28:L34,AI13)","v":0},{"$f":"AJ13/(AL4-AJ8)","v":{"$error":"#DIV/0!"}},{"$f":"IF(AK13=0,0,(AK13*((LOG(AK13))/LOG(2))))","v":{"$error":"#DIV/0!"}},null,{"$f":"N13","v":0},{"$f":"COUNTIF(L35:L41,AN13)","v":0},{"$f":"AO13/(AQ4-AO8)","v":0},{"$f":"IF(AP13=0,0,(AP13*((LOG(AP13))/LOG(2))))","v":0},null,{"$f":"N13","v":0},{"$f":"COUNTIF(L42:L48,AS13)","v":0},{"$f":"AT13/(AV4-AT8)","v":{"$error":"#DIV/0!"}},{"$f":"IF(AU13=0,0,(AU13*((LOG(AU13))/LOG(2))))","v":{"$error":"#DIV/0!"}}]
[11,699,21,704,null,null,null,null,null,null,0,12,null,null,null,null,null,null,null,{"$f":"N14","v":0},{"$f":"COUNTIF(L7:L13,T14)","v":0},{"$f":"U14/(W4-U8)","v":0},{"$f":"IF(V14=0,0,(V14*((LOG(V14))/LOG(2))))","v":0},null,{"$f":"N14","v":0},{"$f":"COUNTIF(L14:L20,Y14)","v":0},{"$f":"Z14/(AB4-Z8)","v":{"$error":"#DIV/0!"}},{"$f":"IF(AA14=0,0,(AA14*((LOG(AA14))/LOG(2))))","v":{"$error":"#DIV/0!"}},null,{"$f":"N14","v":0},{"$f":"COUNTIF(L21:L27,AD14)","v":0},{"$f":"AE14/(AG4-AE8)","v":{"$error":"#DIV/0!"}},{"$f":"IF(AF14=0,0,(AF14*((LOG(AF14))/LOG(2))))","v":{"$error":"#DIV/0!"}},null,{"$f":"N14","v":0},{"$f":"COUNTIF(L28:L34,AI14)","v":0},{"$f":"AJ14/(AL4-AJ8)","v":{"$error":"#DIV/0!"}},{"$f":"IF(AK14=0,0,(AK14*((LOG(AK14))/LOG(2))))","v":{"$error":"#DIV/0!"}},null,{"$f":"N14","v":0},{"$f":"COUNTIF(L35:L41,AN14)","v":0},{"$f":"AO14/(AQ4-AO8)","v":0},{"$f":"IF(AP14=0,0,(AP14*((LOG(AP14))/LOG(2))))","v":0},null,{"$f":"N14","v":0},{"$f":"COUNTIF(L42:L48,AS14)","v":0},{"$f":"AT14/(AV4-AT8)","v":{"$error":"#DIV/0!"}},{"$f":"IF(AU14=0,0,(AU14*((LOG(AU14))/LOG(2))))","v":{"$error":"#DIV/0!"}}]
[11,792,21,799,null,null,null,null,null,null,0,12,null,null,null,{"$f":"SUM(P7:P14)","v":1},{"$f":"-SUM(Q7:Q14)","v":0.3238144752669867},null,null,null,null,{"$f":"SUM(V7:V14)","v":1},{"$f":"-SUM(W7:W14)","v":0},null,null,null,{"$f":"SUM(AA7:AA14)","v":{"$error":"#DIV/0!"}},{"$f":"-SUM(AB7:AB14)","v":{"$error":"#DIV/0!"}},null,null,null,{"$f":"SUM(AF7:AF14)","v":{"$error":"#DIV/0!"}},{"$f":"-SUM(AG7:AG14)","v":{"$error":"#DIV/0!"}},null,null,null,{"$f":"SUM(AK7:AK14)","v":{"$error":"#DIV/0!"}},{"$f":"-SUM(AL7:AL14)","v":{"$error":"#DIV/0!"}},null,null,null,{"$f":"SUM(AP7:AP14)","v":1},{"$f":"-SUM(AQ7:AQ14)","v":0},null,null,null,{"$f":"SUM(AU7:AU14)","v":{"$error":"#DIV/0!"}},{"$f":"-SUM(AV7:AV14)","v":{"$error":"#DIV/0!"}}]
[11,885,21,892,null,null,null,null,null,null,0,12,null,null,null,"U=",{"$f":"Q15/(LOG(Q4)/LOG(2))","v":6.0051078206022804E-2},null,null,null,null,"U1=",{"$f":"W15/(LOG(W4)/LOG(2))","v":0},null,null,null,"U2=",{"$f":"AB15/(LOG(AB4)/LOG(2))","v":{"$error":"#DIV/0!"}},null,null,null,"U3=",{"$f":"AG15/(LOG(AG4)/LOG(2))","v":{"$error":"#DIV/0!"}},null,null,null,"U4=",{"$f":"AL15/(LOG(AL4)/LOG(2))","v":{"$error":"#DIV/0!"}},null,null,null,"U5=",{"$f":"AQ15/(LOG(AQ4)/LOG(2))","v":0},null,null,null,"U6=",{"$f":"AV15/(LOG(AV4)/LOG(2))","v":{"$error":"#DIV/0!"}}]
[11,976,21,982,null,null,null,null,null,null,0,12]
[11,1070,21,1077,null,null,null,null,null,null,0,12]
[11,1160,21,1165,null,null,null,null,null,null,0,12,null,"Total Target Seq"]
[11,1250,21,1254,null,null,null,null,null,null,0,12,null,{"$f":"COUNTIF(L7:L48,G3)","v":40},null,7,7,7,7,7,7]
[11,1337,21,1343,null,null,null,null,null,null,0,12,null,null,null,"% of reinforcement given in 6 equal intervals based on number of trials "]
[11,1430,21,1437,null,null,null,null,null,null,0,12,null,null,null,"%_1","%_2","%_3","%_4","%_5","%_6"]
[11,1523,21,1528,null,null,null,null,null,null,0,12,null,null,"target sequence",{"$f":"$G$3","v":12},{"$f":"$G$3","v":12},{"$f":"$G$3","v":12},{"$f":"$G$3","v":12},{"$f":"$G$3","v":12},{"$f":"$G$3","v":12}]
[11,1612,21,1617,null,null,null,null,null,null,0,12,null,null,"total reinforcement",{"$f":"U8","v":6},{"$f":"Z8","v":7},{"$f":"AE8","v":7},{"$f":"AJ8","v":7},{"$f":"AO8","v":6},{"$f":"AT8","v":7}]
[11,1703,21,1710,null,null,null,null,null,null,0,12,null,null,"% target"]
[11,1800,21,1809,null,null,null,null,null,null,0,12,null,null,"CCRF"]
[11,1895,21,1903,null,null,null,null,null,null,0,12,null,null,"% CCRf"]
[11,1991,21,1999,null,null,null,null,null,null,0,12,null,null,"average response rate",{"$f":"D13/P20","v":86},{"$f":"(D20-D13)/Q20","v":93.142857142857139},{"$f":"(D27-D20)/R20","v":92.714285714285708},{"$f":"(D34-D27)/S20","v":94.857142857142861},{"$f":"(D41-D34)/T20","v":94.857142857142861},{"$f":"(D48-D41)/U20","v":95.714285714285708}]
[11,2089,21,2094,null,null,null,null,null,null,0,12]
[11,2181,21,2188,null,null,null,null,null,null,0,12]
[11,2274,21,2280,null,null,null,null,null,null,0,12]
[11,2369,21,2377,null,null,null,null,null,null,0,12]
[11,2467,21,2474,null,null,null,null,null,null,0,12]
[11,2562,21,2567,null,null,null,null,null,null,0,12]
[11,2655,21,2662,null,null,null,null,null,null,0,12]
[11,2748,21,2755,null,null,null,null,null,null,0,12]
[11,2840,21,2849,null,null,null,null,null,null,0,12]
[11,2938,21,2943,null,null,null,null,null,null,0,12]
[11,3027,21,3035,null,null,null,null,null,null,0,12]
[11,3122,21,3130,null,null,null,null,null,null,0,12]
[11,3216,12,3231,null,null,null,null,null,null,0,11]
[11,3327,21,3332,null,null,null,null,null,null,0,12]
[11,3422,21,3430,null,null,null,null,null,null,0,12]
[11,3519,21,3526,null,null,null,null,null,null,0,12]
[11,3613,21,3621,null,null,null,null,null,null,0,12]
[11,3706,21,3714,null,null,null,null,null,null,0,12]
[11,3800,21,3807,null,null,null,null,null,null,0,12]
[11,3893,21,3901,null,null,null,null,null,null,1,12]

{"sheet":"!L904A20.052","index":28,"n_rows":47,"n_cols":48,"rows_kept":47,"cut":false,"hidden":false,"merged":[[4,39,4,42],[5,39,5,40],[4,44,4,47],[5,44,5,45],[4,24,4,27],[5,24,5,25],[4,29,4,32],[5,29,5,30],[4,34,4,37],[5,34,5,35],[1,1,1,2],[5,13,5,14],[18,13,18,14],[19,13,19,14],[4,19,4,22],[5,19,5,20]]}
["Report for:!L904A20.052"]
["Date:","<date>"]
["Hen:","<hen>",null,null,null,"Correct Sequence",{"$f":"Start!J2","v":12},null,null,null,null,null,null,null,null,"Total Sequences in Data",{"$f":"4994-COUNTBLANK(L7:L5000)","v":41},null,null,null,null,"Total Sequences in Block Data",{"$f":"COUNTA(L7:L13)","v":7},null,null,null,"Total Sequences in Block Data",{"$f":"COUNTA(L14:L20)","v":7},null,null,null,"Total Sequences in Block Data",{"$f":"COUNTA(L21:L26)","v":6},null,null,null,"Total Sequences in Block Data",{"$f":"COUNTA(L27:L33)","v":7},null,null,null,"Total Sequences in Block Data",{"$f":"COUNTA(L34:L40)","v":7},null,null,null,"Total Sequences in Block Data",{"$f":"COUNTA(L41:L47)","v":7}]
[null,null,null,null,null,null,null,null,null,null,null,null,null,null,null,"Total Sequences in Summary",{"$f":"SUM(O7:O14)","v":41},null,null,null,null,"Total Sequences in Block Summary",{"$f":"SUM(U7:U14)","v":7},null,null,null,"Total Sequences in Block Summary",{"$f":"SUM(Z7:Z14)","v":7},null,null,null,"Total Sequences in Block Summary",{"$f":"SUM(AE7:AE14)","v":6},null,null,null,"Total Sequences in Block Summary",{"$f":"SUM(AJ7:AJ14)","v":7},null,null,null,"Total Sequences in Block Summary",{"$f":"SUM(AO7:AO14)","v":7},null,null,null,"Total Sequences in Block Summary",{"$f":"SUM(AT7:AT14)","v":7}]
[null,null,null,null,null,null,null,null,null,null,null,null,null,null,null,null,null,null,null,"Block 1",null,null,null,null,"Block 2",null,null,null,null,"Block 3",null,null,null,null,"Block 4",null,null,null,null,"Block 5",null,null,null,null,"Block 6"]
["Sequence\nComponent\n1","Time\n1","Sequence\nComponent\n2","Time\n2","Sequence\nComponent\n3","Time\n3","Sequence\nComponent\n4","Time\n4","Sequence\nComponent\n5","Time\n5","Correct?\n0=No 1=Yes","Sequence",null,"Frequency",null,"Relative Frequency","Variability",null,null,"Frequency",null,"Relative Frequency","Variability",null,"Frequency",null,"Relative Frequency","Variability",null,"Frequency",null,"Relative Frequency","Variability",null,"Frequency",null,"Relative Frequency","Variability",null,"Frequency",null,"Relative Frequency","Variability",null,"Frequency",null,"Relative Frequency","Variability"]
[11,7,21,13,null,null,null,null,null,null,0,12,null,11,{"$f":"COUNTIF($L$7:$L$500,N7)","v":0},{"$f":"O7/$Q$4","v":0},{"$f":"IF(P7=0,0,(P7*((LOG(P7))/LOG(2))))","v":0},null,null,{"$f":"N7","v":11},{"$f":"COUNTIF(L7:L13,T7)","v":0},{"$f":"U7/(W4-U8)","v":{"$error":"#DIV/0!"}},{"$f":"IF(V7=0,0,(V7*((LOG(V7))/LOG(2))))","v":{"$error":"#DIV/0!"}},null,{"$f":"N7","v":11},{"$f":"COUNTIF(L14:L20,Y7)","v":0},{"$f":"Z7/(AB4-Z8)","v":0},{"$f":"IF(AA7=0,0,(AA7*((LOG(AA7))/LOG(2))))","v":0},null,{"$f":"N7","v":11},{"$f":"COUNTIF(L21:L26,AD7)","v":0},{"$f":"AE7/(AG4-AE8)","v":{"$error":"#DIV/0!"}},{"$f":"IF(AF7=0,0,(AF7*((LOG(AF7))/LOG(2))))","v":{"$error":"#DIV/0!"}},null,{"$f":"N7","v":11},{"$f":"COUNTIF(L27:L33,AI7)","v":0},{"$f":"AJ7/(AL4-AJ8)","v":{"$error":"#DIV/0!"}},{"$f":"IF(AK7=0,0,(AK7*((LOG(AK7))/LOG(2))))","v":{"$error":"#DIV/0!"}},null,{"$f":"N7","v":11},{"$f":"COUNTIF(L34:L40,AN7)","v":0},{"$f":"AO7/(AQ4-AO8)","v":{"$error":"#DIV/0!"}},{"$f":"IF(AP7=0,0,(AP7*((LOG(AP7))/LOG(2))))","v":{"$error":"#DIV/0!"}},null,{"$f":"N7","v":11},{"$f":"COUNTIF(L41:L47,AS7)","v":0},{"$f":"AT7/(AV4-AT8)","v":{"$error":"#DIV/0!"}},{"$f":"IF(AU7=0,0,(AU7*((LOG(AU7))/LOG(2))))","v":{"$error":"#DIV/0!"}}]
[11,103,21,109,null,null,null,null,null,null,0,12,null,12,{"$f":"COUNTIF($L$7:$L$500,N8)","v":40},{"$f":"O8/$Q$4","v":0.97560975609756095},{"$f":"IF(P8=0,0,(P8*((LOG(P8))/LOG(2))))","v":-3.4755033883630611E-2},null,null,{"$f":"N8","v":12},{"$f":"COUNTIF(L7:L13,T8)","v":7},null,null,null,{"$f":"N8","v":12},{"$f":"COUNTIF(L14:L20,Y8)","v":6},null,null,null,{"$f":"N8","v":12},{"$f":"COUNTIF(L21:L26,AD8)","v":6},null,null,null,{"$f":"N8","v":12},{"$f":"COUNTIF(L27:L33,AI8)","v":7},null,null,null,{"$f":"N8","v":12},{"$f":"COUNTIF(L34:L40,AN8)","v":7},null,null,null,{"$f":"N8","v":12},{"$f":"COUNTIF(L41:L47,AS8)","v":7}]
[11,197,21,204,null,null,null,null,null,null,0,12,null,21,{"$f":"COUNTIF($L$7:$L$500,N9)","v":0},{"$f":"O9/$Q$4","v":0},{"$f":"IF(P9=0,0,(P9*((LOG(P9))/LOG(2))))","v":0},null,null,{"$f":"N9","v":21},{"$f":"COUNTIF(L7:L13,T9)","v":0},{"$f":"U9/(W4-U8)","v":{"$error":"#DIV/0!"}},{"$f":"IF(V9=0,0,(V9*((LOG(V9))/LOG(2))))","v":{"$error":"#DIV/0!"}},null,{"$f":"N9","v":21},{"$f":"COUNTIF(L14:L20,Y9)","v":0},{"$f":"Z9/(AB4-Z8)","v":0},{"$f":"IF(AA9=0,0,(AA9*((LOG(AA9))/LOG(2))))","v":0},null,{"$f":"N9","v":21},{"$f":"COUNTIF(L21:L26,AD9)","v":0},{"$f":"AE9/(AG4-AE8)","v":{"$error":"#DIV/0!"}},{"$f":"IF(AF9=0,0,(AF9*((LOG(AF9))/LOG(2))))","v":{"$error":"#DIV/0!"}},null,{"$f":"N9","v":21},{"$f":"COUNTIF(L27:L33,AI9)","v":0},{"$f":"AJ9/(AL4-AJ8)","v":{"$error":"#DIV/0!"}},{"$f":"IF(AK9=0,0,(AK9*((LOG(AK9))/LOG(2))))","v":{"$error":"#DIV/0!"}},null,{"$f":"N9","v":21},{"$f":"COUNTIF(L34:L40,AN9)","v":0},{"$f":"AO9/(AQ4-AO8)","v":{"$error":"#DIV/0!"}},{"$f":"IF(AP9=0,0,(AP9*((LOG(AP9))/LOG(2))))","v":{"$error":"#DIV/0!"}},null,{"$f":"N9","v":21},{"$f":"COUNTIF(L41:L47,AS9)","v":0},{"$f":"AT9/(AV4-AT8)","v":{"$error":"#DIV/0!"}},{"$f":"IF(AU9=0,0,(AU9*((LOG(AU9))/LOG(2))))","v":{"$error":"#DIV/0!"}}]
[11,289,21,296,null,null,null,null,null,null,0,12,null,22,{"$f":"COUNTIF($L$7:$L$500,N10)","v":1},{"$f":"O10/$Q$4","v":2.4390243902439025E-2},{"$f":"IF(P10=0,0,(P10*((LOG(P10))/LOG(2))))","v":-0.13067200011263619},null,null,{"$f":"N10","v":22},{"$f":"COUNTIF(L7:L13,T10)","v":0},{"$f":"U10/(W4-U8)","v":{"$error":"#DIV/0!"}},{"$f":"IF(V10=0,0,(V10*((LOG(V10))/LOG(2))))","v":{"$error":"#DIV/0!"}},null,{"$f":"N10","v":22},{"$f":"COUNTIF(L14:L20,Y10)","v":1},{"$f":"Z10/(AB4-Z8)","v":1},{"$f":"IF(AA10=0,0,(AA10*((LOG(AA10))/LOG(2))))","v":0},null,{"$f":"N10","v":22},{"$f":"COUNTIF(L21:L26,AD10)","v":0},{"$f":"AE10/(AG4-AE8)","v":{"$error":"#DIV/0!"}},{"$f":"IF(AF10=0,0,(AF10*((LOG(AF10))/LOG(2))))","v":{"$error":"#DIV/0!"}},null,{"$f":"N10","v":22},{"$f":"COUNTIF(L27:L33,AI10)","v":0},{"$f":"AJ10/(AL4-AJ8)","v":{"$error":"#DIV/0!"}},{"$f":"IF(AK10=0,0,(AK10*((LOG(AK10))/LOG(2))))","v":{"$error":"#DIV/0!"}},null,{"$f":"N10","v":22},{"$f":"COUNTIF(L34:L40,AN10)","v":0},{"$f":"AO10/(AQ4-AO8)","v":{"$error":"#DIV/0!"}},{"$f":"IF(AP10=0,0,(AP10*((LOG(AP10))/LOG(2))))","v":{"$error":"#DIV/0!"}},null,{"$f":"N10","v":22},{"$f":"COUNTIF(L41:L47,AS10)","v":0},{"$f":"AT10/(AV4-AT8)","v":{"$error":"#DIV/0!"}},{"$f":"IF(AU10=0,0,(AU10*((LOG(AU10))/LOG(2))))","v":{"$error":"#DIV/0!"}}]
[11,381,21,386,null,null,null,null,null,null,0,12,null,null,null,null,null,null,null,{"$f":"N11","v":0},{"$f":"COUNTIF(L7:L13,T11)","v":0},{"$f":"U11/(W4-U8)","v":{"$error":"#DIV/0!"}},{"$f":"IF(V11=0,0,(V11*((LOG(V11))/LOG(2))))","v":{"$error":"#DIV/0!"}},null,{"$f":"N11","v":0},{"$f":"COUNTIF(L14:L20,Y11)","v":0},{"$f":"Z11/(AB4-Z8)","v":0},{"$f":"IF(AA11=0,0,(AA11*((LOG(AA11))/LOG(2))))","v":0},null,{"$f":"N11","v":0},{"$f":"COUNTIF(L21:L26,AD11)","v":0},{"$f":"AE11/(AG4-AE8)","v":{"$error":"#DIV/0!"}},{"$f":"IF(AF11=0,0,(AF11*((LOG(AF11))/LOG(2))))","v":{"$error":"#DIV/0!"}},null,{"$f":"N11","v":0},{"$f":"COUNTIF(L27:L33,AI11)","v":0},{"$f":"AJ11/(AL4-AJ8)","v":{"$error":"#DIV/0!"}},{"$f":"IF(AK11=0,0,(AK11*((LOG(AK11))/LOG(2))))","v":{"$error":"#DIV/0!"}},null,{"$f":"N11","v":0},{"$f":"COUNTIF(L34:L40,AN11)","v":0},{"$f":"AO11/(AQ4-AO8)","v":{"$error":"#DIV/0!"}},{"$f":"IF(AP11=0,0,(AP11*((LOG(AP11))/LOG(2))))","v":{"$error":"#DIV/0!"}},null,{"$f":"N11","v":0},{"$f":"COUNTIF(L41:L47,AS11)","v":0},{"$f":"AT11/(AV4-AT8)","v":{"$error":"#DIV/0!"}},{"$f":"IF(AU11=0,0,(AU11*((LOG(AU11))/LOG(2))))","v":{"$error":"#DIV/0!"}}]
[11,471,21,478,null,null,null,null,null,null,0,12,null,null,null,null,null,null,null,{"$f":"N12","v":0},{"$f":"COUNTIF(L7:L13,T12)","v":0},{"$f":"U12/(W4-U8)","v":{"$error":"#DIV/0!"}},{"$f":"IF(V12=0,0,(V12*((LOG(V12))/LOG(2))))","v":{"$error":"#DIV/0!"}},null,{"$f":"N12","v":0},{"$f":"COUNTIF(L14:L20,Y12)","v":0},{"$f":"Z12/(AB4-Z8)","v":0},{"$f":"IF(AA12=0,0,(AA12*((LOG(AA12))/LOG(2))))","v":0},null,{"$f":"N12","v":0},{"$f":"COUNTIF(L21:L26,AD12)","v":0},{"$f":"AE12/(AG4-AE8)","v":{"$error":"#DIV/0!"}},{"$f":"IF(AF12=0,0,(AF12*((LOG(AF12))/LOG(2))))","v":{"$error":"#DIV/0!"}},null,{"$f":"N12","v":0},{"$f":"COUNTIF(L27:L33,AI12)","v":0},{"$f":"AJ12/(AL4-AJ8)","v":{"$error":"#DIV/0!"}},{"$f":"IF(AK12=0,0,(AK12*((LOG(AK12))/LOG(2))))","v":{"$error":"#DIV/0!"}},null,{"$f":"N12","v":0},{"$f":"COUNTIF(L34:L40,AN12)","v":0},{"$f":"AO12/(AQ4-AO8)","v":{"$error":"#DIV/0!"}},{"$f":"IF(AP12=0,0,(AP12*((LOG(AP12))/LOG(2))))","v":{"$error":"#DIV/0!"}},null,{"$f":"N12","v":0},{"$f":"COUNTIF(L41:L47,AS12)","v":0},{"$f":"AT12/(AV4-AT8)","v":{"$error":"#DIV/0!"}},{"$f":"IF(AU12=0,0,(AU12*((LOG(AU12))/LOG(2))))","v":{"$error":"#DIV/0!"}}]
[11,564,21,571,null,null,null,null,null,null,0,12,null,null,null,null,null,null,null,{"$f":"N13","v":0},{"$f":"COUNTIF(L7:L13,T13)","v":0},{"$f":"U13/(W4-U8)","v":{"$error":"#DIV/0!"}},{"$f":"IF(V13=0,0,(V13*((LOG(V13))/LOG(2))))","v":{"$error":"#DIV/0!"}},null,{"$f":"N13","v":0},{"$f":"COUNTIF(L14:L20,Y13)","v":0},{"$f":"Z13/(AB4-Z8)","v":0},{"$f":"IF(AA13=0,0,(AA13*((LOG(AA13))/LOG(2))))","v":0},null,{"$f":"N13","v":0},{"$f":"COUNTIF(L21:L26,AD13)","v":0},{"$f":"AE13/(AG4-AE8)","v":{"$error":"#DIV/0!"}},{"$f":"IF(AF13=0,0,(AF13*((LOG(AF13))/LOG(2))))","v":{"$error":"#DIV/0!"}},null,{"$f":"N13","v":0},{"$f":"COUNTIF(L27:L33,AI13)","v":0},{"$f":"AJ13/(AL4-AJ8)","v":{"$error":"#DIV/0!"}},{"$f":"IF(AK13=0,0,(AK13*((LOG(AK13))/LOG(2))))","v":{"$error":"#DIV/0!"}},null,{"$f":"N13","v":0},{"$f":"COUNTIF(L34:L40,AN13)","v":0},{"$f":"AO13/(AQ4-AO8)","v":{"$error":"#DIV/0!"}},{"$f":"IF(AP13=0,0,(AP13*((LOG(AP13))/LOG(2))))","v":{"$error":"#DIV/0!"}},null,{"$f":"N13","v":0},{"$f":"COUNTIF(L41:L47,AS13)","v":0},{"$f":"AT13/(AV4-AT8)","v":{"$error":"#DIV/0!"}},{"$f":"IF(AU13=0,0,(AU13*((LOG(AU13))/LOG(2))))","v":{"$error":"#DIV/0!"}}]
[22,664,23,698,null,null,null,null,null,null,0,22,null,null,null,null,null,null,null,{"$f":"N14","v":0},{"$f":"COUNTIF(L7:L13,T14)","v":0},{"$f":"U14/(W4-U8)","v":{"$error":"#DIV/0!"}},{"$f":"IF(V14=0,0,(V14*((LOG(V14))/LOG(2))))","v":{"$error":"#DIV/0!"}},null,{"$f":"N14","v":0},{"$f":"COUNTIF(L14:L20,Y14)","v":0},{"$f":"Z14/(AB4-Z8)","v":0},{"$f":"IF(AA14=0,0,(AA14*((LOG(AA14))/LOG(2))))","v":0},null,{"$f":"N14","v":0},{"$f":"COUNTIF(L21:L26,AD14)","v":0},{"$f":"AE14/(AG4-AE8)","v":{"$error":"#DIV/0!"}},{"$f":"IF(AF14=0,0,(AF14*((LOG(AF14))/LOG(2))))","v":{"$error":"#DIV/0!"}},null,{"$f":"N14","v":0},{"$f":"COUNTIF(L27:L33,AI14)","v":0},{"$f":"AJ14/(AL4-AJ8)","v":{"$error":"#DIV/0!"}},{"$f":"IF(AK14=0,0,(AK14*((LOG(AK14))/LOG(2))))","v":{"$error":"#DIV/0!"}},null,{"$f":"N14","v":0},{"$f":"COUNTIF(L34:L40,AN14)","v":0},{"$f":"AO14/(AQ4-AO8)","v":{"$error":"#DIV/0!"}},{"$f":"IF(AP14=0,0,(AP14*((LOG(AP14))/LOG(2))))","v":{"$error":"#DIV/0!"}},null,{"$f":"N14","v":0},{"$f":"COUNTIF(L41:L47,AS14)","v":0},{"$f":"AT14/(AV4-AT8)","v":{"$error":"#DIV/0!"}},{"$f":"IF(AU14=0,0,(AU14*((LOG(AU14))/LOG(2))))","v":{"$error":"#DIV/0!"}}]
[11,795,21,800,null,null,null,null,null,null,0,12,null,null,null,{"$f":"SUM(P7:P14)","v":1},{"$f":"-SUM(Q7:Q14)","v":0.16542703399626679},null,null,null,null,{"$f":"SUM(V7:V14)","v":{"$error":"#DIV/0!"}},{"$f":"-SUM(W7:W14)","v":{"$error":"#DIV/0!"}},null,null,null,{"$f":"SUM(AA7:AA14)","v":1},{"$f":"-SUM(AB7:AB14)","v":0},null,null,null,{"$f":"SUM(AF7:AF14)","v":{"$error":"#DIV/0!"}},{"$f":"-SUM(AG7:AG14)","v":{"$error":"#DIV/0!"}},null,null,null,{"$f":"SUM(AK7:AK14)","v":{"$error":"#DIV/0!"}},{"$f":"-SUM(AL7:AL14)","v":{"$error":"#DIV/0!"}},null,null,null,{"$f":"SUM(AP7:AP14)","v":{"$error":"#DIV/0!"}},{"$f":"-SUM(AQ7:AQ14)","v":{"$error":"#DIV/0!"}},null,null,null,{"$f":"SUM(AU7:AU14)","v":{"$error":"#DIV/0!"}},{"$f":"-SUM(AV7:AV14)","v":{"$error":"#DIV/0!"}}]
[11,887,21,894,null,null,null,null,null,null,0,12,null,null,null,"U=",{"$f":"Q15/(LOG(Q4)/LOG(2))","v":3.0877354779509855E-2},null,null,null,null,"U1=",{"$f":"W15/(LOG(W4)/LOG(2))","v":{"$error":"#DIV/0!"}},null,null,null,"U2=",{"$f":"AB15/(LOG(AB4)/LOG(2))","v":0},null,null,null,"U3=",{"$f":"AG15/(LOG(AG4)/LOG(2))","v":{"$error":"#DIV/0!"}},null,null,null,"U4=",{"$f":"AL15/(LOG(AL4)/LOG(2))","v":{"$error":"#DIV/0!"}},null,null,null,"U5=",{"$f":"AQ15/(LOG(AQ4)/LOG(2))","v":{"$error":"#DIV/0!"}},null,null,null,"U6=",{"$f":"AV15/(LOG(AV4)/LOG(2))","v":{"$error":"#DIV/0!"}}]
[11,980,21,986,null,null,null,null,null,null,0,12]
[11,1072,21,1077,null,null,null,null,null,null,0,12]
[11,1163,21,1169,null,null,null,null,null,null,0,12,null,"Total Target Seq"]
[11,1253,21,1260,null,null,null,null,null,null,0,12,null,{"$f":"COUNTIF(L7:L47,G3)","v":40},null,7,7,6,7,7,7]
[11,1348,21,1354,null,null,null,null,null,null,0,12,null,null,null,"% of reinforcement given in 6 equal intervals based on number of trials "]
[11,1440,21,1444,null,null,null,null,null,null,0,12,null,null,null,"%_1","%_2","%_3","%_4","%_5","%_6"]
[11,1531,21,1537,null,null,null,null,null,null,0,12,null,null,"target sequence",{"$f":"$G$3","v":12},{"$f":"$G$3","v":12},{"$f":"$G$3","v":12},{"$f":"$G$3","v":12},{"$f":"$G$3","v":12},{"$f":"$G$3","v":12}]
[11,1622,21,1627,null,null,null,null,null,null,0,12,null,null,"total reinforcement",{"$f":"U8","v":7},{"$f":"Z8","v":6},{"$f":"AE8","v":6},{"$f":"AJ8","v":7},{"$f":"AO8","v":7},{"$f":"AT8","v":7}]
[11,1718,21,1726,null,null,null,null,null,null,0,12,null,null,"% target"]
[11,1813,21,1821,null,null,null,null,null,null,0,12,null,null,"CCRF"]
[11,1906,21,1913,null,null,null,null,null,null,0,12,null,null,"% CCRf"]
[11,2000,21,2007,null,null,null,null,null,null,0,12,null,null,"average response rate",{"$f":"D13/P20","v":81.571428571428569},{"$f":"(D20-D13)/Q20","v":98.428571428571431},{"$f":"(D26-D20)/R20","v":93.5},{"$f":"(D33-D26)/S20","v":92.428571428571431},{"$f":"(D40-D33)/T20","v":93},{"$f":"(D47-D40)/U20","v":94.428571428571431}]
[11,2093,21,2097,null,null,null,null,null,null,0,12]
[11,2184,21,2191,null,null,null,null,null,null,0,12]
[11,2279,21,2283,null,null,null,null,null,null,0,12]
[11,2370,21,2377,null,null,null,null,null,null,0,12]
[11,2461,21,2468,null,null,null,null,null,null,0,12]
[11,2554,21,2561,null,null,null,null,null,null,0,12]
[11,2646,21,2653,null,null,null,null,null,null,0,12]
[11,2741,21,2748,null,null,null,null,null,null,0,12]
[11,2834,21,2839,null,null,null,null,null,null,0,12]
[11,2925,21,2932,null,null,null,null,null,null,0,12]
[11,3017,21,3025,null,null,null,null,null,null,0,12]
[11,3111,21,3119,null,null,null,null,null,null,0,12]
[11,3206,21,3213,null,null,null,null,null,null,0,12]
[11,3298,21,3306,null,null,null,null,null,null,0,12]
[11,3392,21,3399,null,null,null,null,null,null,0,12]
[11,3486,21,3493,null,null,null,null,null,null,0,12]
[11,3578,21,3585,null,null,null,null,null,null,0,12]
[11,3677,21,3685,null,null,null,null,null,null,0,12]
[11,3773,21,3780,null,null,null,null,null,null,1,12]

{"sheet":"!L905950.052","index":29,"n_rows":52,"n_cols":48,"rows_kept":52,"cut":false,"hidden":false,"merged":[[4,39,4,42],[5,39,5,40],[4,44,4,47],[5,44,5,45],[4,24,4,27],[5,24,5,25],[4,29,4,32],[5,29,5,30],[4,34,4,37],[5,34,5,35],[1,1,1,2],[5,13,5,14],[18,13,18,14],[19,13,19,14],[4,19,4,22],[5,19,5,20]]}
["Report for:!L905950.052"]
["Date:","<date>"]
["Hen:","<hen>",null,null,null,"Correct Sequence",{"$f":"Start!J2","v":12},null,null,null,null,null,null,null,null,"Total Sequences in Data",{"$f":"4994-COUNTBLANK(L7:L5000)","v":46},null,null,null,null,"Total Sequences in Block Data",{"$f":"COUNTA(L7:L14)","v":8},null,null,null,"Total Sequences in Block Data",{"$f":"COUNTA(L15:L21)","v":7},null,null,null,"Total Sequences in Block Data",{"$f":"COUNTA(L22:L29)","v":8},null,null,null,"Total Sequences in Block Data",{"$f":"COUNTA(L30:L37)","v":8},null,null,null,"Total Sequences in Block Data",{"$f":"COUNTA(L38:L44)","v":7},null,null,null,"Total Sequences in Block Data",{"$f":"COUNTA(L45:L52)","v":8}]
[null,null,null,null,null,null,null,null,null,null,null,null,null,null,null,"Total Sequences in Summary",{"$f":"SUM(O7:O14)","v":46},null,null,null,null,"Total Sequences in Block Summary",{"$f":"SUM(U7:U14)","v":8},null,null,null,"Total Sequences in Block Summary",{"$f":"SUM(Z7:Z14)","v":7},null,null,null,"Total Sequences in Block Summary",{"$f":"SUM(AE7:AE14)","v":8},null,null,null,"Total Sequences in Block Summary",{"$f":"SUM(AJ7:AJ14)","v":8},null,null,null,"Total Sequences in Block Summary",{"$f":"SUM(AO7:AO14)","v":7},null,null,null,"Total Sequences in Block Summary",{"$f":"SUM(AT7:AT14)","v":8}]
[null,null,null,null,null,null,null,null,null,null,null,null,null,null,null,null,null,null,null,"Block 1",null,null,null,null,"Block 2",null,null,null,null,"Block 3",null,null,null,null,"Block 4",null,null,null,null,"Block 5",null,null,null,null,"Block 6"]
["Sequence\nComponent\n1","Time\n1","Sequence\nComponent\n2","Time\n2","Sequence\nComponent\n3","Time\n3","Sequence\nComponent\n4","Time\n4","Sequence\nComponent\n5","Time\n5","Correct?\n0=No 1=Yes","Sequence",null,"Frequency",null,"Relative Frequency","Variability",null,null,"Frequency",null,"Relative Frequency","Variability",null,"Frequency",null,"Relative Frequency","Variability",null,"Frequency",null,"Relative Frequency","Variability",null,"Frequency",null,"Relative Frequency","Variability",null,"Frequency",null,"Relative Frequency","Variability",null,"Frequency",null,"Relative Frequency","Variability"]
[11,7,21,14,null,null,null,null,null,null,0,12,null,11,{"$f":"COUNTIF($L$7:$L$500,N7)","v":0},{"$f":"O7/$Q$4","v":0},{"$f":"IF(P7=0,0,(P7*((LOG(P7))/LOG(2))))","v":0},null,null,{"$f":"N7","v":11},{"$f":"COUNTIF(L7:L14,T7)","v":0},{"$f":"U7/(W4-U8)","v":{"$error":"#DIV/0!"}},{"$f":"IF(V7=0,0,(V7*((LOG(V7))/LOG(2))))","v":{"$error":"#DIV/0!"}},null,{"$f":"N7","v":11},{"$f":"COUNTIF(L15:L21,Y7)","v":0},{"$f":"Z7/(AB4-Z8)","v":0},{"$f":"IF(AA7=0,0,(AA7*((LOG(AA7))/LOG(2))))","v":0},null,{"$f":"N7","v":11},{"$f":"COUNTIF(L22:L29,AD7)","v":0},{"$f":"AE7/(AG4-AE8)","v":0},{"$f":"IF(AF7=0,0,(AF7*((LOG(AF7))/LOG(2))))","v":0},null,{"$f":"N7","v":11},{"$f":"COUNTIF(L30:L37,AI7)","v":0},{"$f":"AJ7/(AL4-AJ8)","v":0},{"$f":"IF(AK7=0,0,(AK7*((LOG(AK7))/LOG(2))))","v":0},null,{"$f":"N7","v":11},{"$f":"COUNTIF(L38:L44,AN7)","v":0},{"$f":"AO7/(AQ4-AO8)","v":0},{"$f":"IF(AP7=0,0,(AP7*((LOG(AP7))/LOG(2))))","v":0},null,{"$f":"N7","v":11},{"$f":"COUNTIF(L45:L52,AS7)","v":0},{"$f":"AT7/(AV4-AT8)","v":{"$error":"#DIV/0!"}},{"$f":"IF(AU7=0,0,(AU7*((LOG(AU7))/LOG(2))))","v":{"$error":"#DIV/0!"}}]
[11,100,21,107,null,null,null,null,null,null,0,12,null,12,{"$f":"COUNTIF($L$7:$L$500,N8)","v":40},{"$f":"O8/$Q$4","v":0.86956521739130432},{"$f":"IF(P8=0,0,(P8*((LOG(P8))/LOG(2))))","v":-0.17533379232143528},null,null,{"$f":"N8","v":12},{"$f":"COUNTIF(L7:L14,T8)","v":8},null,null,null,{"$f":"N8","v":12},{"$f":"COUNTIF(L15:L21,Y8)","v":4},null,null,null,{"$f":"N8","v":12},{"$f":"COUNTIF(L22:L29,AD8)","v":7},null,null,null,{"$f":"N8","v":12},{"$f":"COUNTIF(L30:L37,AI8)","v":7},null,null,null,{"$f":"N8","v":12},{"$f":"COUNTIF(L38:L44,AN8)","v":6},null,null,null,{"$f":"N8","v":12},{"$f":"COUNTIF(L45:L52,AS8)","v":8}]
[11,191,21,196,null,null,null,null,null,null,0,12,null,21,{"$f":"COUNTIF($L$7:$L$500,N9)","v":2},{"$f":"O9/$Q$4","v":4.3478260869565216E-2},{"$f":"IF(P9=0,0,(P9*((LOG(P9))/LOG(2))))","v":-0.19667660678508753},null,null,{"$f":"N9","v":21},{"$f":"COUNTIF(L7:L14,T9)","v":0},{"$f":"U9/(W4-U8)","v":{"$error":"#DIV/0!"}},{"$f":"IF(V9=0,0,(V9*((LOG(V9))/LOG(2))))","v":{"$error":"#DIV/0!"}},null,{"$f":"N9","v":21},{"$f":"COUNTIF(L15:L21,Y9)","v":1},{"$f":"Z9/(AB4-Z8)","v":0.33333333333333331},{"$f":"IF(AA9=0,0,(AA9*((LOG(AA9))/LOG(2))))","v":-0.52832083357371862},null,{"$f":"N9","v":21},{"$f":"COUNTIF(L22:L29,AD9)","v":1},{"$f":"AE9/(AG4-AE8)","v":1},{"$f":"IF(AF9=0,0,(AF9*((LOG(AF9))/LOG(2))))","v":0},null,{"$f":"N9","v":21},{"$f":"COUNTIF(L30:L37,AI9)","v":0},{"$f":"AJ9/(AL4-AJ8)","v":0},{"$f":"IF(AK9=0,0,(AK9*((LOG(AK9))/LOG(2))))","v":0},null,{"$f":"N9","v":21},{"$f":"COUNTIF(L38:L44,AN9)","v":0},{"$f":"AO9/(AQ4-AO8)","v":0},{"$f":"IF(AP9=0,0,(AP9*((LOG(AP9))/LOG(2))))","v":0},null,{"$f":"N9","v":21},{"$f":"COUNTIF(L45:L52,AS9)","v":0},{"$f":"AT9/(AV4-AT8)","v":{"$error":"#DIV/0!"}},{"$f":"IF(AU9=0,0,(AU9*((LOG(AU9))/LOG(2))))","v":{"$error":"#DIV/0!"}}]
[11,281,21,288,null,null,null,null,null,null,0,12,null,22,{"$f":"COUNTIF($L$7:$L$500,N10)","v":4},{"$f":"O10/$Q$4","v":8.6956521739130432E-2},{"$f":"IF(P10=0,0,(P10*((LOG(P10))/LOG(2))))","v":-0.30639669183104457},null,null,{"$f":"N10","v":22},{"$f":"COUNTIF(L7:L14,T10)","v":0},{"$f":"U10/(W4-U8)","v":{"$error":"#DIV/0!"}},{"$f":"IF(V10=0,0,(V10*((LOG(V10))/LOG(2))))","v":{"$error":"#DIV/0!"}},null,{"$f":"N10","v":22},{"$f":"COUNTIF(L15:L21,Y10)","v":2},{"$f":"Z10/(AB4-Z8)","v":0.66666666666666663},{"$f":"IF(AA10=0,0,(AA10*((LOG(AA10))/LOG(2))))","v":-0.38997500048077083},null,{"$f":"N10","v":22},{"$f":"COUNTIF(L22:L29,AD10)","v":0},{"$f":"AE10/(AG4-AE8)","v":0},{"$f":"IF(AF10=0,0,(AF10*((LOG(AF10))/LOG(2))))","v":0},null,{"$f":"N10","v":22},{"$f":"COUNTIF(L30:L37,AI10)","v":1},{"$f":"AJ10/(AL4-AJ8)","v":1},{"$f":"IF(AK10=0,0,(AK10*((LOG(AK10))/LOG(2))))","v":0},null,{"$f":"N10","v":22},{"$f":"COUNTIF(L38:L44,AN10)","v":1},{"$f":"AO10/(AQ4-AO8)","v":1},{"$f":"IF(AP10=0,0,(AP10*((LOG(AP10))/LOG(2))))","v":0},null,{"$f":"N10","v":22},{"$f":"COUNTIF(L45:L52,AS10)","v":0},{"$f":"AT10/(AV4-AT8)","v":{"$error":"#DIV/0!"}},{"$f":"IF(AU10=0,0,(AU10*((LOG(AU10))/LOG(2))))","v":{"$error":"#DIV/0!"}}]
[11,375,21,381,null,null,null,null,null,null,0,12,null,null,null,null,null,null,null,{"$f":"N11","v":0},{"$f":"COUNTIF(L7:L14,T11)","v":0},{"$f":"U11/(W4-U8)","v":{"$error":"#DIV/0!"}},{"$f":"IF(V11=0,0,(V11*((LOG(V11))/LOG(2))))","v":{"$error":"#DIV/0!"}},null,{"$f":"N11","v":0},{"$f":"COUNTIF(L15:L21,Y11)","v":0},{"$f":"Z11/(AB4-Z8)","v":0},{"$f":"IF(AA11=0,0,(AA11*((LOG(AA11))/LOG(2))))","v":0},null,{"$f":"N11","v":0},{"$f":"COUNTIF(L22:L29,AD11)","v":0},{"$f":"AE11/(AG4-AE8)","v":0},{"$f":"IF(AF11=0,0,(AF11*((LOG(AF11))/LOG(2))))","v":0},null,{"$f":"N11","v":0},{"$f":"COUNTIF(L30:L37,AI11)","v":0},{"$f":"AJ11/(AL4-AJ8)","v":0},{"$f":"IF(AK11=0,0,(AK11*((LOG(AK11))/LOG(2))))","v":0},null,{"$f":"N11","v":0},{"$f":"COUNTIF(L38:L44,AN11)","v":0},{"$f":"AO11/(AQ4-AO8)","v":0},{"$f":"IF(AP11=0,0,(AP11*((LOG(AP11))/LOG(2))))","v":0},null,{"$f":"N11","v":0},{"$f":"COUNTIF(L45:L52,AS11)","v":0},{"$f":"AT11/(AV4-AT8)","v":{"$error":"#DIV/0!"}},{"$f":"IF(AU11=0,0,(AU11*((LOG(AU11))/LOG(2))))","v":{"$error":"#DIV/0!"}}]
[11,465,21,472,null,null,null,null,null,null,0,12,null,null,null,null,null,null,null,{"$f":"N12","v":0},{"$f":"COUNTIF(L7:L14,T12)","v":0},{"$f":"U12/(W4-U8)","v":{"$error":"#DIV/0!"}},{"$f":"IF(V12=0,0,(V12*((LOG(V12))/LOG(2))))","v":{"$error":"#DIV/0!"}},null,{"$f":"N12","v":0},{"$f":"COUNTIF(L15:L21,Y12)","v":0},{"$f":"Z12/(AB4-Z8)","v":0},{"$f":"IF(AA12=0,0,(AA12*((LOG(AA12))/LOG(2))))","v":0},null,{"$f":"N12","v":0},{"$f":"COUNTIF(L22:L29,AD12)","v":0},{"$f":"AE12/(AG4-AE8)","v":0},{"$f":"IF(AF12=0,0,(AF12*((LOG(AF12))/LOG(2))))","v":0},null,{"$f":"N12","v":0},{"$f":"COUNTIF(L30:L37,AI12)","v":0},{"$f":"AJ12/(AL4-AJ8)","v":0},{"$f":"IF(AK12=0,0,(AK12*((LOG(AK12))/LOG(2))))","v":0},null,{"$f":"N12","v":0},{"$f":"COUNTIF(L38:L44,AN12)","v":0},{"$f":"AO12/(AQ4-AO8)","v":0},{"$f":"IF(AP12=0,0,(AP12*((LOG(AP12))/LOG(2))))","v":0},null,{"$f":"N12","v":0},{"$f":"COUNTIF(L45:L52,AS12)","v":0},{"$f":"AT12/(AV4-AT8)","v":{"$error":"#DIV/0!"}},{"$f":"IF(AU12=0,0,(AU12*((LOG(AU12))/LOG(2))))","v":{"$error":"#DIV/0!"}}]
[11,557,21,564,null,null,null,null,null,null,0,12,null,null,null,null,null,null,null,{"$f":"N13","v":0},{"$f":"COUNTIF(L7:L14,T13)","v":0},{"$f":"U13/(W4-U8)","v":{"$error":"#DIV/0!"}},{"$f":"IF(V13=0,0,(V13*((LOG(V13))/LOG(2))))","v":{"$error":"#DIV/0!"}},null,{"$f":"N13","v":0},{"$f":"COUNTIF(L15:L21,Y13)","v":0},{"$f":"Z13/(AB4-Z8)","v":0},{"$f":"IF(AA13=0,0,(AA13*((LOG(AA13))/LOG(2))))","v":0},null,{"$f":"N13","v":0},{"$f":"COUNTIF(L22:L29,AD13)","v":0},{"$f":"AE13/(AG4-AE8)","v":0},{"$f":"IF(AF13=0,0,(AF13*((LOG(AF13))/LOG(2))))","v":0},null,{"$f":"N13","v":0},{"$f":"COUNTIF(L30:L37,AI13)","v":0},{"$f":"AJ13/(AL4-AJ8)","v":0},{"$f":"IF(AK13=0,0,(AK13*((LOG(AK13))/LOG(2))))","v":0},null,{"$f":"N13","v":0},{"$f":"COUNTIF(L38:L44,AN13)","v":0},{"$f":"AO13/(AQ4-AO8)","v":0},{"$f":"IF(AP13=0,0,(AP13*((LOG(AP13))/LOG(2))))","v":0},null,{"$f":"N13","v":0},{"$f":"COUNTIF(L45:L52,AS13)","v":0},{"$f":"AT13/(AV4-AT8)","v":{"$error":"#DIV/0!"}},{"$f":"IF(AU13=0,0,(AU13*((LOG(AU13))/LOG(2))))","v":{"$error":"#DIV/0!"}}]
[11,648,21,655,null,null,null,null,null,null,0,12,null,null,null,null,null,null,null,{"$f":"N14","v":0},{"$f":"COUNTIF(L7:L14,T14)","v":0},{"$f":"U14/(W4-U8)","v":{"$error":"#DIV/0!"}},{"$f":"IF(V14=0,0,(V14*((LOG(V14))/LOG(2))))","v":{"$error":"#DIV/0!"}},null,{"$f":"N14","v":0},{"$f":"COUNTIF(L15:L21,Y14)","v":0},{"$f":"Z14/(AB4-Z8)","v":0},{"$f":"IF(AA14=0,0,(AA14*((LOG(AA14))/LOG(2))))","v":0},null,{"$f":"N14","v":0},{"$f":"COUNTIF(L22:L29,AD14)","v":0},{"$f":"AE14/(AG4-AE8)","v":0},{"$f":"IF(AF14=0,0,(AF14*((LOG(AF14))/LOG(2))))","v":0},null,{"$f":"N14","v":0},{"$f":"COUNTIF(L30:L37,AI14)","v":0},{"$f":"AJ14/(AL4-AJ8)","v":0},{"$f":"IF(AK14=0,0,(AK14*((LOG(AK14))/LOG(2))))","v":0},null,{"$f":"N14","v":0},{"$f":"COUNTIF(L38:L44,AN14)","v":0},{"$f":"AO14/(AQ4-AO8)","v":0},{"$f":"IF(AP14=0,0,(AP14*((LOG(AP14))/LOG(2))))","v":0},null,{"$f":"N14","v":0},{"$f":"COUNTIF(L45:L52,AS14)","v":0},{"$f":"AT14/(AV4-AT8)","v":{"$error":"#DIV/0!"}},{"$f":"IF(AU14=0,0,(AU14*((LOG(AU14))/LOG(2))))","v":{"$error":"#DIV/0!"}}]
[22,747,23,776,null,null,null,null,null,null,0,22,null,null,null,{"$f":"SUM(P7:P14)","v":1},{"$f":"-SUM(Q7:Q14)","v":0.67840709093756735},null,null,null,null,{"$f":"SUM(V7:V14)","v":{"$error":"#DIV/0!"}},{"$f":"-SUM(W7:W14)","v":{"$error":"#DIV/0!"}},null,null,null,{"$f":"SUM(AA7:AA14)","v":1},{"$f":"-SUM(AB7:AB14)","v":0.91829583405448945},null,null,null,{"$f":"SUM(AF7:AF14)","v":1},{"$f":"-SUM(AG7:AG14)","v":0},null,null,null,{"$f":"SUM(AK7:AK14)","v":1},{"$f":"-SUM(AL7:AL14)","v":0},null,null,null,{"$f":"SUM(AP7:AP14)","v":1},{"$f":"-SUM(AQ7:AQ14)","v":0},null,null,null,{"$f":"SUM(AU7:AU14)","v":{"$error":"#DIV/0!"}},{"$f":"-SUM(AV7:AV14)","v":{"$error":"#DIV/0!"}}]
[11,875,21,882,null,null,null,null,null,null,0,12,null,null,null,"U=",{"$f":"Q15/(LOG(Q4)/LOG(2))","v":0.12282058141733007},null,null,null,null,"U1=",{"$f":"W15/(LOG(W4)/LOG(2))","v":{"$error":"#DIV/0!"}},null,null,null,"U2=",{"$f":"AB15/(LOG(AB4)/LOG(2))","v":0.32710357598156481},null,null,null,"U3=",{"$f":"AG15/(LOG(AG4)/LOG(2))","v":0},null,null,null,"U4=",{"$f":"AL15/(LOG(AL4)/LOG(2))","v":0},null,null,null,"U5=",{"$f":"AQ15/(LOG(AQ4)/LOG(2))","v":0},null,null,null,"U6=",{"$f":"AV15/(LOG(AV4)/LOG(2))","v":{"$error":"#DIV/0!"}}]
[11,967,21,975,null,null,null,null,null,null,0,12]
[11,1062,21,1068,null,null,null,null,null,null,0,12]
[11,1153,21,1160,null,null,null,null,null,null,0,12,null,"Total Target Seq"]
[22,1252,23,1294,null,null,null,null,null,null,0,22,null,{"$f":"COUNTIF(L7:L52,G3)","v":40},null,8,7,8,8,7,8]
[22,1404,14,1428,null,null,null,null,null,null,0,21,null,null,null,"% of reinforcement given in 6 equal intervals based on number of trials "]
[22,1533,14,1549,null,null,null,null,null,null,0,21,null,null,null,"%_1","%_2","%_3","%_4","%_5","%_6"]
[11,1645,21,1652,null,null,null,null,null,null,0,12,null,null,"target sequence",{"$f":"$G$3","v":12},{"$f":"$G$3","v":12},{"$f":"$G$3","v":12},{"$f":"$G$3","v":12},{"$f":"$G$3","v":12},{"$f":"$G$3","v":12}]
[11,1737,21,1744,null,null,null,null,null,null,0,12,null,null,"total reinforcement",{"$f":"U8","v":8},{"$f":"Z8","v":4},{"$f":"AE8","v":7},{"$f":"AJ8","v":7},{"$f":"AO8","v":6},{"$f":"AT8","v":8}]
[11,1830,21,1838,null,null,null,null,null,null,0,12,null,null,"% target"]
[11,1923,21,1930,null,null,null,null,null,null,0,12,null,null,"CCRF"]
[11,2015,21,2020,null,null,null,null,null,null,0,12,null,null,"% CCRf"]
[11,2105,21,2112,null,null,null,null,null,null,0,12,null,null,"average response rate",{"$f":"D14/P20","v":81.875},{"$f":"(D21-D14)/Q20","v":110.42857142857143},{"$f":"(D29-D21)/R20","v":96.875},{"$f":"(D37-D29)/S20","v":99.25},{"$f":"(D44-D37)/T20","v":101.28571428571429},{"$f":"(D52-D44)/U20","v":94.375}]
[11,2196,21,2203,null,null,null,null,null,null,0,12]
[11,2288,21,2295,null,null,null,null,null,null,0,12]
[11,2381,21,2386,null,null,null,null,null,null,0,12]
[11,2471,21,2478,null,null,null,null,null,null,0,12]
[11,2564,21,2572,null,null,null,null,null,null,0,12]
[22,2665,23,2703,null,null,null,null,null,null,0,22]
[11,2801,21,2809,null,null,null,null,null,null,0,12]
[11,2896,21,2903,null,null,null,null,null,null,0,12]
[11,2989,21,2997,null,null,null,null,null,null,0,12]
[11,3083,21,3089,null,null,null,null,null,null,0,12]
[22,3184,23,3224,null,null,null,null,null,null,0,22]
[11,3320,21,3328,null,null,null,null,null,null,0,12]
[11,3416,21,3423,null,null,null,null,null,null,0,12]
[11,3510,21,3517,null,null,null,null,null,null,0,12]
[11,3602,21,3610,null,null,null,null,null,null,0,12]
[11,3698,21,3706,null,null,null,null,null,null,0,12]
[11,3792,21,3797,null,null,null,null,null,null,0,12]
[11,3886,21,3894,null,null,null,null,null,null,0,12]
[11,3980,21,3988,null,null,null,null,null,null,0,12]
[11,4073,21,4080,null,null,null,null,null,null,0,12]
[11,4166,21,4174,null,null,null,null,null,null,0,12]
[11,4264,21,4272,null,null,null,null,null,null,0,12]
[11,4358,21,4366,null,null,null,null,null,null,0,12]
[11,4453,21,4461,null,null,null,null,null,null,1,12]

{"sheet":"!L906920.052","index":30,"n_rows":50,"n_cols":48,"rows_kept":50,"cut":false,"hidden":false,"merged":[[4,39,4,42],[5,39,5,40],[4,44,4,47],[5,44,5,45],[4,24,4,27],[5,24,5,25],[4,29,4,32],[5,29,5,30],[4,34,4,37],[5,34,5,35],[1,1,1,2],[5,13,5,14],[18,13,18,14],[19,13,19,14],[4,19,4,22],[5,19,5,20]]}
["Report for:!L906920.052"]
["Date:","<date>"]
["Hen:","<hen>",null,null,null,"Correct Sequence",{"$f":"Start!J2","v":12},null,null,null,null,null,null,null,null,"Total Sequences in Data",{"$f":"4994-COUNTBLANK(L7:L5000)","v":44},null,null,null,null,"Total Sequences in Block Data",{"$f":"COUNTA(L7:L13)","v":7},null,null,null,"Total Sequences in Block Data",{"$f":"COUNTA(L14:L21)","v":8},null,null,null,"Total Sequences in Block Data",{"$f":"COUNTA(L22:L28)","v":7},null,null,null,"Total Sequences in Block Data",{"$f":"COUNTA(L29:L35)","v":7},null,null,null,"Total Sequences in Block Data",{"$f":"COUNTA(L36:L43)","v":8},null,null,null,"Total Sequences in Block Data",{"$f":"COUNTA(L44:L50)","v":7}]
[null,null,null,null,null,null,null,null,null,null,null,null,null,null,null,"Total Sequences in Summary",{"$f":"SUM(O7:O14)","v":44},null,null,null,null,"Total Sequences in Block Summary",{"$f":"SUM(U7:U14)","v":7},null,null,null,"Total Sequences in Block Summary",{"$f":"SUM(Z7:Z14)","v":8},null,null,null,"Total Sequences in Block Summary",{"$f":"SUM(AE7:AE14)","v":7},null,null,null,"Total Sequences in Block Summary",{"$f":"SUM(AJ7:AJ14)","v":7},null,null,null,"Total Sequences in Block Summary",{"$f":"SUM(AO7:AO14)","v":8},null,null,null,"Total Sequences in Block Summary",{"$f":"SUM(AT7:AT14)","v":7}]
[null,null,null,null,null,null,null,null,null,null,null,null,null,null,null,null,null,null,null,"Block 1",null,null,null,null,"Block 2",null,null,null,null,"Block 3",null,null,null,null,"Block 4",null,null,null,null,"Block 5",null,null,null,null,"Block 6"]
["Sequence\nComponent\n1","Time\n1","Sequence\nComponent\n2","Time\n2","Sequence\nComponent\n3","Time\n3","Sequence\nComponent\n4","Time\n4","Sequence\nComponent\n5","Time\n5","Correct?\n0=No 1=Yes","Sequence",null,"Frequency",null,"Relative Frequency","Variability",null,null,"Frequency",null,"Relative Frequency","Variability",null,"Frequency",null,"Relative Frequency","Variability",null,"Frequency",null,"Relative Frequency","Variability",null,"Frequency",null,"Relative Frequency","Variability",null,"Frequency",null,"Relative Frequency","Variability",null,"Frequency",null,"Relative Frequency","Variability"]
[11,8,21,14,null,null,null,null,null,null,0,12,null,11,{"$f":"COUNTIF($L$7:$L$500,N7)","v":2},{"$f":"O7/$Q$4","v":4.5454545454545456E-2},{"$f":"IF(P7=0,0,(P7*((LOG(P7))/LOG(2))))","v":-0.20270143721078623},null,null,{"$f":"N7","v":11},{"$f":"COUNTIF(L7:L13,T7)","v":0},{"$f":"U7/(W4-U8)","v":0},{"$f":"IF(V7=0,0,(V7*((LOG(V7))/LOG(2))))","v":0},null,{"$f":"N7","v":11},{"$f":"COUNTIF(L14:L21,Y7)","v":0},{"$f":"Z7/(AB4-Z8)","v":0},{"$f":"IF(AA7=0,0,(AA7*((LOG(AA7))/LOG(2))))","v":0},null,{"$f":"N7","v":11},{"$f":"COUNTIF(L22:L28,AD7)","v":0},{"$f":"AE7/(AG4-AE8)","v":{"$error":"#DIV/0!"}},{"$f":"IF(AF7=0,0,(AF7*((LOG(AF7))/LOG(2))))","v":{"$error":"#DIV/0!"}},null,{"$f":"N7","v":11},{"$f":"COUNTIF(L29:L35,AI7)","v":0},{"$f":"AJ7/(AL4-AJ8)","v":{"$error":"#DIV/0!"}},{"$f":"IF(AK7=0,0,(AK7*((LOG(AK7))/LOG(2))))","v":{"$error":"#DIV/0!"}},null,{"$f":"N7","v":11},{"$f":"COUNTIF(L36:L43,AN7)","v":0},{"$f":"AO7/(AQ4-AO8)","v":{"$error":"#DIV/0!"}},{"$f":"IF(AP7=0,0,(AP7*((LOG(AP7))/LOG(2))))","v":{"$error":"#DIV/0!"}},null,{"$f":"N7","v":11},{"$f":"COUNTIF(L44:L50,AS7)","v":2},{"$f":"AT7/(AV4-AT8)","v":1},{"$f":"IF(AU7=0,0,(AU7*((LOG(AU7))/LOG(2))))","v":0}]
[22,101,23,118,null,null,null,null,null,null,0,22,null,12,{"$f":"COUNTIF($L$7:$L$500,N8)","v":40},{"$f":"O8/$Q$4","v":0.90909090909090906},{"$f":"IF(P8=0,0,(P8*((LOG(P8))/LOG(2))))","v":-0.12500320340903179},null,null,{"$f":"N8","v":12},{"$f":"COUNTIF(L7:L13,T8)","v":6},null,null,null,{"$f":"N8","v":12},{"$f":"COUNTIF(L14:L21,Y8)","v":7},null,null,null,{"$f":"N8","v":12},{"$f":"COUNTIF(L22:L28,AD8)","v":7},null,null,null,{"$f":"N8","v":12},{"$f":"COUNTIF(L29:L35,AI8)","v":7},null,null,null,{"$f":"N8","v":12},{"$f":"COUNTIF(L36:L43,AN8)","v":8},null,null,null,{"$f":"N8","v":12},{"$f":"COUNTIF(L44:L50,AS8)","v":5}]
[11,215,21,221,null,null,null,null,null,null,0,12,null,21,{"$f":"COUNTIF($L$7:$L$500,N9)","v":0},{"$f":"O9/$Q$4","v":0},{"$f":"IF(P9=0,0,(P9*((LOG(P9))/LOG(2))))","v":0},null,null,{"$f":"N9","v":21},{"$f":"COUNTIF(L7:L13,T9)","v":0},{"$f":"U9/(W4-U8)","v":0},{"$f":"IF(V9=0,0,(V9*((LOG(V9))/LOG(2))))","v":0},null,{"$f":"N9","v":21},{"$f":"COUNTIF(L14:L21,Y9)","v":0},{"$f":"Z9/(AB4-Z8)","v":0},{"$f":"IF(AA9=0,0,(AA9*((LOG(AA9))/LOG(2))))","v":0},null,{"$f":"N9","v":21},{"$f":"COUNTIF(L22:L28,AD9)","v":0},{"$f":"AE9/(AG4-AE8)","v":{"$error":"#DIV/0!"}},{"$f":"IF(AF9=0,0,(AF9*((LOG(AF9))/LOG(2))))","v":{"$error":"#DIV/0!"}},null,{"$f":"N9","v":21},{"$f":"COUNTIF(L29:L35,AI9)","v":0},{"$f":"AJ9/(AL4-AJ8)","v":{"$error":"#DIV/0!"}},{"$f":"IF(AK9=0,0,(AK9*((LOG(AK9))/LOG(2))))","v":{"$error":"#DIV/0!"}},null,{"$f":"N9","v":21},{"$f":"COUNTIF(L36:L43,AN9)","v":0},{"$f":"AO9/(AQ4-AO8)","v":{"$error":"#DIV/0!"}},{"$f":"IF(AP9=0,0,(AP9*((LOG(AP9))/LOG(2))))","v":{"$error":"#DIV/0!"}},null,{"$f":"N9","v":21},{"$f":"COUNTIF(L44:L50,AS9)","v":0},{"$f":"AT9/(AV4-AT8)","v":0},{"$f":"IF(AU9=0,0,(AU9*((LOG(AU9))/LOG(2))))","v":0}]
[11,307,21,314,null,null,null,null,null,null,0,12,null,22,{"$f":"COUNTIF($L$7:$L$500,N10)","v":2},{"$f":"O10/$Q$4","v":4.5454545454545456E-2},{"$f":"IF(P10=0,0,(P10*((LOG(P10))/LOG(2))))","v":-0.20270143721078623},null,null,{"$f":"N10","v":22},{"$f":"COUNTIF(L7:L13,T10)","v":1},{"$f":"U10/(W4-U8)","v":1},{"$f":"IF(V10=0,0,(V10*((LOG(V10))/LOG(2))))","v":0},null,{"$f":"N10","v":22},{"$f":"COUNTIF(L14:L21,Y10)","v":1},{"$f":"Z10/(AB4-Z8)","v":1},{"$f":"IF(AA10=0,0,(AA10*((LOG(AA10))/LOG(2))))","v":0},null,{"$f":"N10","v":22},{"$f":"COUNTIF(L22:L28,AD10)","v":0},{"$f":"AE10/(AG4-AE8)","v":{"$error":"#DIV/0!"}},{"$f":"IF(AF10=0,0,(AF10*((LOG(AF10))/LOG(2))))","v":{"$error":"#DIV/0!"}},null,{"$f":"N10","v":22},{"$f":"COUNTIF(L29:L35,AI10)","v":0},{"$f":"AJ10/(AL4-AJ8)","v":{"$error":"#DIV/0!"}},{"$f":"IF(AK10=0,0,(AK10*((LOG(AK10))/LOG(2))))","v":{"$error":"#DIV/0!"}},null,{"$f":"N10","v":22},{"$f":"COUNTIF(L36:L43,AN10)","v":0},{"$f":"AO10/(AQ4-AO8)","v":{"$error":"#DIV/0!"}},{"$f":"IF(AP10=0,0,(AP10*((LOG(AP10))/LOG(2))))","v":{"$error":"#DIV/0!"}},null,{"$f":"N10","v":22},{"$f":"COUNTIF(L44:L50,AS10)","v":0},{"$f":"AT10/(AV4-AT8)","v":0},{"$f":"IF(AU10=0,0,(AU10*((LOG(AU10))/LOG(2))))","v":0}]
[11,399,21,406,null,null,null,null,null,null,0,12,null,null,null,null,null,null,null,{"$f":"N11","v":0},{"$f":"COUNTIF(L7:L13,T11)","v":0},{"$f":"U11/(W4-U8)","v":0},{"$f":"IF(V11=0,0,(V11*((LOG(V11))/LOG(2))))","v":0},null,{"$f":"N11","v":0},{"$f":"COUNTIF(L14:L21,Y11)","v":0},{"$f":"Z11/(AB4-Z8)","v":0},{"$f":"IF(AA11=0,0,(AA11*((LOG(AA11))/LOG(2))))","v":0},null,{"$f":"N11","v":0},{"$f":"COUNTIF(L22:L28,AD11)","v":0},{"$f":"AE11/(AG4-AE8)","v":{"$error":"#DIV/0!"}},{"$f":"IF(AF11=0,0,(AF11*((LOG(AF11))/LOG(2))))","v":{"$error":"#DIV/0!"}},null,{"$f":"N11","v":0},{"$f":"COUNTIF(L29:L35,AI11)","v":0},{"$f":"AJ11/(AL4-AJ8)","v":{"$error":"#DIV/0!"}},{"$f":"IF(AK11=0,0,(AK11*((LOG(AK11))/LOG(2))))","v":{"$error":"#DIV/0!"}},null,{"$f":"N11","v":0},{"$f":"COUNTIF(L36:L43,AN11)","v":0},{"$f":"AO11/(AQ4-AO8)","v":{"$error":"#DIV/0!"}},{"$f":"IF(AP11=0,0,(AP11*((LOG(AP11))/LOG(2))))","v":{"$error":"#DIV/0!"}},null,{"$f":"N11","v":0},{"$f":"COUNTIF(L44:L50,AS11)","v":0},{"$f":"AT11/(AV4-AT8)","v":0},{"$f":"IF(AU11=0,0,(AU11*((LOG(AU11))/LOG(2))))","v":0}]
[11,490,21,497,null,null,null,null,null,null,0,12,null,null,null,null,null,null,null,{"$f":"N12","v":0},{"$f":"COUNTIF(L7:L13,T12)","v":0},{"$f":"U12/(W4-U8)","v":0},{"$f":"IF(V12=0,0,(V12*((LOG(V12))/LOG(2))))","v":0},null,{"$f":"N12","v":0},{"$f":"COUNTIF(L14:L21,Y12)","v":0},{"$f":"Z12/(AB4-Z8)","v":0},{"$f":"IF(AA12=0,0,(AA12*((LOG(AA12))/LOG(2))))","v":0},null,{"$f":"N12","v":0},{"$f":"COUNTIF(L22:L28,AD12)","v":0},{"$f":"AE12/(AG4-AE8)","v":{"$error":"#DIV/0!"}},{"$f":"IF(AF12=0,0,(AF12*((LOG(AF12))/LOG(2))))","v":{"$error":"#DIV/0!"}},null,{"$f":"N12","v":0},{"$f":"COUNTIF(L29:L35,AI12)","v":0},{"$f":"AJ12/(AL4-AJ8)","v":{"$error":"#DIV/0!"}},{"$f":"IF(AK12=0,0,(AK12*((LOG(AK12))/LOG(2))))","v":{"$error":"#DIV/0!"}},null,{"$f":"N12","v":0},{"$f":"COUNTIF(L36:L43,AN12)","v":0},{"$f":"AO12/(AQ4-AO8)","v":{"$error":"#DIV/0!"}},{"$f":"IF(AP12=0,0,(AP12*((LOG(AP12))/LOG(2))))","v":{"$error":"#DIV/0!"}},null,{"$f":"N12","v":0},{"$f":"COUNTIF(L44:L50,AS12)","v":0},{"$f":"AT12/(AV4-AT8)","v":0},{"$f":"IF(AU12=0,0,(AU12*((LOG(AU12))/LOG(2))))","v":0}]
[11,585,21,591,null,null,null,null,null,null,0,12,null,null,null,null,null,null,null,{"$f":"N13","v":0},{"$f":"COUNTIF(L7:L13,T13)","v":0},{"$f":"U13/(W4-U8)","v":0},{"$f":"IF(V13=0,0,(V13*((LOG(V13))/LOG(2))))","v":0},null,{"$f":"N13","v":0},{"$f":"COUNTIF(L14:L21,Y13)","v":0},{"$f":"Z13/(AB4-Z8)","v":0},{"$f":"IF(AA13=0,0,(AA13*((LOG(AA13))/LOG(2))))","v":0},null,{"$f":"N13","v":0},{"$f":"COUNTIF(L22:L28,AD13)","v":0},{"$f":"AE13/(AG4-AE8)","v":{"$error":"#DIV/0!"}},{"$f":"IF(AF13=0,0,(AF13*((LOG(AF13))/LOG(2))))","v":{"$error":"#DIV/0!"}},null,{"$f":"N13","v":0},{"$f":"COUNTIF(L29:L35,AI13)","v":0},{"$f":"AJ13/(AL4-AJ8)","v":{"$error":"#DIV/0!"}},{"$f":"IF(AK13=0,0,(AK13*((LOG(AK13))/LOG(2))))","v":{"$error":"#DIV/0!"}},null,{"$f":"N13","v":0},{"$f":"COUNTIF(L36:L43,AN13)","v":0},{"$f":"AO13/(AQ4-AO8)","v":{"$error":"#DIV/0!"}},{"$f":"IF(AP13=0,0,(AP13*((LOG(AP13))/LOG(2))))","v":{"$error":"#DIV/0!"}},null,{"$f":"N13","v":0},{"$f":"COUNTIF(L44:L50,AS13)","v":0},{"$f":"AT13/(AV4-AT8)","v":0},{"$f":"IF(AU13=0,0,(AU13*((LOG(AU13))/LOG(2))))","v":0}]
[11,678,21,685,null,null,null,null,null,null,0,12,null,null,null,null,null,null,null,{"$f":"N14","v":0},{"$f":"COUNTIF(L7:L13,T14)","v":0},{"$f":"U14/(W4-U8)","v":0},{"$f":"IF(V14=0,0,(V14*((LOG(V14))/LOG(2))))","v":0},null,{"$f":"N14","v":0},{"$f":"COUNTIF(L14:L21,Y14)","v":0},{"$f":"Z14/(AB4-Z8)","v":0},{"$f":"IF(AA14=0,0,(AA14*((LOG(AA14))/LOG(2))))","v":0},null,{"$f":"N14","v":0},{"$f":"COUNTIF(L22:L28,AD14)","v":0},{"$f":"AE14/(AG4-AE8)","v":{"$error":"#DIV/0!"}},{"$f":"IF(AF14=0,0,(AF14*((LOG(AF14))/LOG(2))))","v":{"$error":"#DIV/0!"}},null,{"$f":"N14","v":0},{"$f":"COUNTIF(L29:L35,AI14)","v":0},{"$f":"AJ14/(AL4-AJ8)","v":{"$error":"#DIV/0!"}},{"$f":"IF(AK14=0,0,(AK14*((LOG(AK14))/LOG(2))))","v":{"$error":"#DIV/0!"}},null,{"$f":"N14","v":0},{"$f":"COUNTIF(L36:L43,AN14)","v":0},{"$f":"AO14/(AQ4-AO8)","v":{"$error":"#DIV/0!"}},{"$f":"IF(AP14=0,0,(AP14*((LOG(AP14))/LOG(2))))","v":{"$error":"#DIV/0!"}},null,{"$f":"N14","v":0},{"$f":"COUNTIF(L44:L50,AS14)","v":0},{"$f":"AT14/(AV4-AT8)","v":0},{"$f":"IF(AU14=0,0,(AU14*((LOG(AU14))/LOG(2))))","v":0}]
[11,770,21,775,null,null,null,null,null,null,0,12,null,null,null,{"$f":"SUM(P7:P14)","v":0.99999999999999989},{"$f":"-SUM(Q7:Q14)","v":0.53040607783060423},null,null,null,null,{"$f":"SUM(V7:V14)","v":1},{"$f":"-SUM(W7:W14)","v":0},null,null,null,{"$f":"SUM(AA7:AA14)","v":1},{"$f":"-SUM(AB7:AB14)","v":0},null,null,null,{"$f":"SUM(AF7:AF14)","v":{"$error":"#DIV/0!"}},{"$f":"-SUM(AG7:AG14)","v":{"$error":"#DIV/0!"}},null,null,null,{"$f":"SUM(AK7:AK14)","v":{"$error":"#DIV/0!"}},{"$f":"-SUM(AL7:AL14)","v":{"$error":"#DIV/0!"}},null,null,null,{"$f":"SUM(AP7:AP14)","v":{"$error":"#DIV/0!"}},{"$f":"-SUM(AQ7:AQ14)","v":{"$error":"#DIV/0!"}},null,null,null,{"$f":"SUM(AU7:AU14)","v":1},{"$f":"-SUM(AV7:AV14)","v":0}]
[22,867,23,885,null,null,null,null,null,null,0,22,null,null,null,"U=",{"$f":"Q15/(LOG(Q4)/LOG(2))","v":9.7154083956270218E-2},null,null,null,null,"U1=",{"$f":"W15/(LOG(W4)/LOG(2))","v":0},null,null,null,"U2=",{"$f":"AB15/(LOG(AB4)/LOG(2))","v":0},null,null,null,"U3=",{"$f":"AG15/(LOG(AG4)/LOG(2))","v":{"$error":"#DIV/0!"}},null,null,null,"U4=",{"$f":"AL15/(LOG(AL4)/LOG(2))","v":{"$error":"#DIV/0!"}},null,null,null,"U5=",{"$f":"AQ15/(LOG(AQ4)/LOG(2))","v":{"$error":"#DIV/0!"}},null,null,null,"U6=",{"$f":"AV15/(LOG(AV4)/LOG(2))","v":0}]
[11,983,21,987,null,null,null,null,null,null,0,12]
[11,1073,21,1079,null,null,null,null,null,null,0,12]
[11,1164,21,1171,null,null,null,null,null,null,0,12,null,"Total Target Seq"]
[11,1258,21,1265,null,null,null,null,null,null,0,12,null,{"$f":"COUNTIF(L7:L50,G3)","v":40},null,7,8,7,7,8,7]
[11,1350,21,1355,null,null,null,null,null,null,0,12,null,null,null,"% of reinforcement given in 6 equal intervals based on number of trials "]
[11,1441,21,1447,null,null,null,null,null,null,0,12,null,null,null,"%_1","%_2","%_3","%_4","%_5","%_6"]
[11,1532,21,1537,null,null,null,null,null,null,0,12,null,null,"target sequence",{"$f":"$G$3","v":12},{"$f":"$G$3","v":12},{"$f":"$G$3","v":12},{"$f":"$G$3","v":12},{"$f":"$G$3","v":12},{"$f":"$G$3","v":12}]
[11,1622,21,1629,null,null,null,null,null,null,0,12,null,null,"total reinforcement",{"$f":"U8","v":6},{"$f":"Z8","v":7},{"$f":"AE8","v":7},{"$f":"AJ8","v":7},{"$f":"AO8","v":8},{"$f":"AT8","v":5}]
[11,1713,21,1718,null,null,null,null,null,null,0,12,null,null,"% target"]
[11,1803,21,1810,null,null,null,null,null,null,0,12,null,null,"CCRF"]
[11,1892,21,1899,null,null,null,null,null,null,0,12,null,null,"% CCRf"]
[11,1985,21,1990,null,null,null,null,null,null,0,12,null,null,"average response rate",{"$f":"D13/P20","v":84.428571428571431},{"$f":"(D21-D13)/Q20","v":95.5},{"$f":"(D28-D21)/R20","v":90.714285714285708},{"$f":"(D35-D28)/S20","v":93.428571428571431},{"$f":"(D43-D35)/T20","v":92.125},{"$f":"(D50-D43)/U20","v":98}]
[11,2076,21,2083,null,null,null,null,null,null,0,12]
[11,2179,21,2186,null,null,null,null,null,null,0,12]
[11,2273,21,2280,null,null,null,null,null,null,0,12]
[11,2363,21,2371,null,null,null,null,null,null,0,12]
[11,2456,21,2461,null,null,null,null,null,null,0,12]
[11,2547,21,2554,null,null,null,null,null,null,0,12]
[11,2639,21,2644,null,null,null,null,null,null,0,12]
[11,2729,21,2736,null,null,null,null,null,null,0,12]
[11,2822,21,2827,null,null,null,null,null,null,0,12]
[11,2912,21,2917,null,null,null,null,null,null,0,12]
[11,3006,21,3013,null,null,null,null,null,null,0,12]
[11,3099,21,3106,null,null,null,null,null,null,0,12]
[11,3191,21,3196,null,null,null,null,null,null,0,12]
[11,3283,21,3288,null,null,null,null,null,null,0,12]
[11,3374,21,3381,null,null,null,null,null,null,0,12]
[11,3469,21,3475,null,null,null,null,null,null,0,12]
[11,3560,12,3564,null,null,null,null,null,null,0,11]
[11,3663,21,3671,null,null,null,null,null,null,0,12]
[11,3764,21,3771,null,null,null,null,null,null,0,12]
[11,3856,21,3862,null,null,null,null,null,null,0,12]
[11,3951,12,3963,null,null,null,null,null,null,0,11]
[11,4060,21,4067,null,null,null,null,null,null,1,12]

{"sheet":"!L907940.052","index":31,"n_rows":47,"n_cols":48,"rows_kept":47,"cut":false,"hidden":false,"merged":[[4,39,4,42],[5,39,5,40],[4,44,4,47],[5,44,5,45],[4,24,4,27],[5,24,5,25],[4,29,4,32],[5,29,5,30],[4,34,4,37],[5,34,5,35],[1,1,1,2],[5,13,5,14],[18,13,18,14],[19,13,19,14],[4,19,4,22],[5,19,5,20]]}
["Report for:!L907940.052"]
["Date:","<date>"]
["Hen:","<hen>",null,null,null,"Correct Sequence",{"$f":"Start!J2","v":12},null,null,null,null,null,null,null,null,"Total Sequences in Data",{"$f":"4994-COUNTBLANK(L7:L5000)","v":41},null,null,null,null,"Total Sequences in Block Data",{"$f":"COUNTA(L7:L13)","v":7},null,null,null,"Total Sequences in Block Data",{"$f":"COUNTA(L14:L20)","v":7},null,null,null,"Total Sequences in Block Data",{"$f":"COUNTA(L21:L26)","v":6},null,null,null,"Total Sequences in Block Data",{"$f":"COUNTA(L27:L33)","v":7},null,null,null,"Total Sequences in Block Data",{"$f":"COUNTA(L34:L40)","v":7},null,null,null,"Total Sequences in Block Data",{"$f":"COUNTA(L41:L47)","v":7}]
[null,null,null,null,null,null,null,null,null,null,null,null,null,null,null,"Total Sequences in Summary",{"$f":"SUM(O7:O14)","v":41},null,null,null,null,"Total Sequences in Block Summary",{"$f":"SUM(U7:U14)","v":7},null,null,null,"Total Sequences in Block Summary",{"$f":"SUM(Z7:Z14)","v":7},null,null,null,"Total Sequences in Block Summary",{"$f":"SUM(AE7:AE14)","v":6},null,null,null,"Total Sequences in Block Summary",{"$f":"SUM(AJ7:AJ14)","v":7},null,null,null,"Total Sequences in Block Summary",{"$f":"SUM(AO7:AO14)","v":7},null,null,null,"Total Sequences in Block Summary",{"$f":"SUM(AT7:AT14)","v":7}]
[null,null,null,null,null,null,null,null,null,null,null,null,null,null,null,null,null,null,null,"Block 1",null,null,null,null,"Block 2",null,null,null,null,"Block 3",null,null,null,null,"Block 4",null,null,null,null,"Block 5",null,null,null,null,"Block 6"]
["Sequence\nComponent\n1","Time\n1","Sequence\nComponent\n2","Time\n2","Sequence\nComponent\n3","Time\n3","Sequence\nComponent\n4","Time\n4","Sequence\nComponent\n5","Time\n5","Correct?\n0=No 1=Yes","Sequence",null,"Frequency",null,"Relative Frequency","Variability",null,null,"Frequency",null,"Relative Frequency","Variability",null,"Frequency",null,"Relative Frequency","Variability",null,"Frequency",null,"Relative Frequency","Variability",null,"Frequency",null,"Relative Frequency","Variability",null,"Frequency",null,"Relative Frequency","Variability",null,"Frequency",null,"Relative Frequency","Variability"]
[11,7,21,14,null,null,null,null,null,null,0,12,null,11,{"$f":"COUNTIF($L$7:$L$500,N7)","v":1},{"$f":"O7/$Q$4","v":2.4390243902439025E-2},{"$f":"IF(P7=0,0,(P7*((LOG(P7))/LOG(2))))","v":-0.13067200011263619},null,null,{"$f":"N7","v":11},{"$f":"COUNTIF(L7:L13,T7)","v":0},{"$f":"U7/(W4-U8)","v":{"$error":"#DIV/0!"}},{"$f":"IF(V7=0,0,(V7*((LOG(V7))/LOG(2))))","v":{"$error":"#DIV/0!"}},null,{"$f":"N7","v":11},{"$f":"COUNTIF(L14:L20,Y7)","v":0},{"$f":"Z7/(AB4-Z8)","v":{"$error":"#DIV/0!"}},{"$f":"IF(AA7=0,0,(AA7*((LOG(AA7))/LOG(2))))","v":{"$error":"#DIV/0!"}},null,{"$f":"N7","v":11},{"$f":"COUNTIF(L21:L26,AD7)","v":0},{"$f":"AE7/(AG4-AE8)","v":{"$error":"#DIV/0!"}},{"$f":"IF(AF7=0,0,(AF7*((LOG(AF7))/LOG(2))))","v":{"$error":"#DIV/0!"}},null,{"$f":"N7","v":11},{"$f":"COUNTIF(L27:L33,AI7)","v":0},{"$f":"AJ7/(AL4-AJ8)","v":{"$error":"#DIV/0!"}},{"$f":"IF(AK7=0,0,(AK7*((LOG(AK7))/LOG(2))))","v":{"$error":"#DIV/0!"}},null,{"$f":"N7","v":11},{"$f":"COUNTIF(L34:L40,AN7)","v":1},{"$f":"AO7/(AQ4-AO8)","v":1},{"$f":"IF(AP7=0,0,(AP7*((LOG(AP7))/LOG(2))))","v":0},null,{"$f":"N7","v":11},{"$f":"COUNTIF(L41:L47,AS7)","v":0},{"$f":"AT7/(AV4-AT8)","v":{"$error":"#DIV/0!"}},{"$f":"IF(AU7=0,0,(AU7*((LOG(AU7))/LOG(2))))","v":{"$error":"#DIV/0!"}}]
[11,100,21,108,null,null,null,null,null,null,0,12,null,12,{"$f":"COUNTIF($L$7:$L$500,N8)","v":40},{"$f":"O8/$Q$4","v":0.97560975609756095},{"$f":"IF(P8=0,0,(P8*((LOG(P8))/LOG(2))))","v":-3.4755033883630611E-2},null,null,{"$f":"N8","v":12},{"$f":"COUNTIF(L7:L13,T8)","v":7},null,null,null,{"$f":"N8","v":12},{"$f":"COUNTIF(L14:L20,Y8)","v":7},null,null,null,{"$f":"N8","v":12},{"$f":"COUNTIF(L21:L26,AD8)","v":6},null,null,null,{"$f":"N8","v":12},{"$f":"COUNTIF(L27:L33,AI8)","v":7},null,null,null,{"$f":"N8","v":12},{"$f":"COUNTIF(L34:L40,AN8)","v":6},null,null,null,{"$f":"N8","v":12},{"$f":"COUNTIF(L41:L47,AS8)","v":7}]
[11,194,21,200,null,null,null,null,null,null,0,12,null,21,{"$f":"COUNTIF($L$7:$L$500,N9)","v":0},{"$f":"O9/$Q$4","v":0},{"$f":"IF(P9=0,0,(P9*((LOG(P9))/LOG(2))))","v":0},null,null,{"$f":"N9","v":21},{"$f":"COUNTIF(L7:L13,T9)","v":0},{"$f":"U9/(W4-U8)","v":{"$error":"#DIV/0!"}},{"$f":"IF(V9=0,0,(V9*((LOG(V9))/LOG(2))))","v":{"$error":"#DIV/0!"}},null,{"$f":"N9","v":21},{"$f":"COUNTIF(L14:L20,Y9)","v":0},{"$f":"Z9/(AB4-Z8)","v":{"$error":"#DIV/0!"}},{"$f":"IF(AA9=0,0,(AA9*((LOG(AA9))/LOG(2))))","v":{"$error":"#DIV/0!"}},null,{"$f":"N9","v":21},{"$f":"COUNTIF(L21:L26,AD9)","v":0},{"$f":"AE9/(AG4-AE8)","v":{"$error":"#DIV/0!"}},{"$f":"IF(AF9=0,0,(AF9*((LOG(AF9))/LOG(2))))","v":{"$error":"#DIV/0!"}},null,{"$f":"N9","v":21},{"$f":"COUNTIF(L27:L33,AI9)","v":0},{"$f":"AJ9/(AL4-AJ8)","v":{"$error":"#DIV/0!"}},{"$f":"IF(AK9=0,0,(AK9*((LOG(AK9))/LOG(2))))","v":{"$error":"#DIV/0!"}},null,{"$f":"N9","v":21},{"$f":"COUNTIF(L34:L40,AN9)","v":0},{"$f":"AO9/(AQ4-AO8)","v":0},{"$f":"IF(AP9=0,0,(AP9*((LOG(AP9))/LOG(2))))","v":0},null,{"$f":"N9","v":21},{"$f":"COUNTIF(L41:L47,AS9)","v":0},{"$f":"AT9/(AV4-AT8)","v":{"$error":"#DIV/0!"}},{"$f":"IF(AU9=0,0,(AU9*((LOG(AU9))/LOG(2))))","v":{"$error":"#DIV/0!"}}]
[11,286,21,293,null,null,null,null,null,null,0,12,null,22,{"$f":"COUNTIF($L$7:$L$500,N10)","v":0},{"$f":"O10/$Q$4","v":0},{"$f":"IF(P10=0,0,(P10*((LOG(P10))/LOG(2))))","v":0},null,null,{"$f":"N10","v":22},{"$f":"COUNTIF(L7:L13,T10)","v":0},{"$f":"U10/(W4-U8)","v":{"$error":"#DIV/0!"}},{"$f":"IF(V10=0,0,(V10*((LOG(V10))/LOG(2))))","v":{"$error":"#DIV/0!"}},null,{"$f":"N10","v":22},{"$f":"COUNTIF(L14:L20,Y10)","v":0},{"$f":"Z10/(AB4-Z8)","v":{"$error":"#DIV/0!"}},{"$f":"IF(AA10=0,0,(AA10*((LOG(AA10))/LOG(2))))","v":{"$error":"#DIV/0!"}},null,{"$f":"N10","v":22},{"$f":"COUNTIF(L21:L26,AD10)","v":0},{"$f":"AE10/(AG4-AE8)","v":{"$error":"#DIV/0!"}},{"$f":"IF(AF10=0,0,(AF10*((LOG(AF10))/LOG(2))))","v":{"$error":"#DIV/0!"}},null,{"$f":"N10","v":22},{"$f":"COUNTIF(L27:L33,AI10)","v":0},{"$f":"AJ10/(AL4-AJ8)","v":{"$error":"#DIV/0!"}},{"$f":"IF(AK10=0,0,(AK10*((LOG(AK10))/LOG(2))))","v":{"$error":"#DIV/0!"}},null,{"$f":"N10","v":22},{"$f":"COUNTIF(L34:L40,AN10)","v":0},{"$f":"AO10/(AQ4-AO8)","v":0},{"$f":"IF(AP10=0,0,(AP10*((LOG(AP10))/LOG(2))))","v":0},null,{"$f":"N10","v":22},{"$f":"COUNTIF(L41:L47,AS10)","v":0},{"$f":"AT10/(AV4-AT8)","v":{"$error":"#DIV/0!"}},{"$f":"IF(AU10=0,0,(AU10*((LOG(AU10))/LOG(2))))","v":{"$error":"#DIV/0!"}}]
[11,376,21,383,null,null,null,null,null,null,0,12,null,null,null,null,null,null,null,{"$f":"N11","v":0},{"$f":"COUNTIF(L7:L13,T11)","v":0},{"$f":"U11/(W4-U8)","v":{"$error":"#DIV/0!"}},{"$f":"IF(V11=0,0,(V11*((LOG(V11))/LOG(2))))","v":{"$error":"#DIV/0!"}},null,{"$f":"N11","v":0},{"$f":"COUNTIF(L14:L20,Y11)","v":0},{"$f":"Z11/(AB4-Z8)","v":{"$error":"#DIV/0!"}},{"$f":"IF(AA11=0,0,(AA11*((LOG(AA11))/LOG(2))))","v":{"$error":"#DIV/0!"}},null,{"$f":"N11","v":0},{"$f":"COUNTIF(L21:L26,AD11)","v":0},{"$f":"AE11/(AG4-AE8)","v":{"$error":"#DIV/0!"}},{"$f":"IF(AF11=0,0,(AF11*((LOG(AF11))/LOG(2))))","v":{"$error":"#DIV/0!"}},null,{"$f":"N11","v":0},{"$f":"COUNTIF(L27:L33,AI11)","v":0},{"$f":"AJ11/(AL4-AJ8)","v":{"$error":"#DIV/0!"}},{"$f":"IF(AK11=0,0,(AK11*((LOG(AK11))/LOG(2))))","v":{"$error":"#DIV/0!"}},null,{"$f":"N11","v":0},{"$f":"COUNTIF(L34:L40,AN11)","v":0},{"$f":"AO11/(AQ4-AO8)","v":0},{"$f":"IF(AP11=0,0,(AP11*((LOG(AP11))/LOG(2))))","v":0},null,{"$f":"N11","v":0},{"$f":"COUNTIF(L41:L47,AS11)","v":0},{"$f":"AT11/(AV4-AT8)","v":{"$error":"#DIV/0!"}},{"$f":"IF(AU11=0,0,(AU11*((LOG(AU11))/LOG(2))))","v":{"$error":"#DIV/0!"}}]
[11,468,21,474,null,null,null,null,null,null,0,12,null,null,null,null,null,null,null,{"$f":"N12","v":0},{"$f":"COUNTIF(L7:L13,T12)","v":0},{"$f":"U12/(W4-U8)","v":{"$error":"#DIV/0!"}},{"$f":"IF(V12=0,0,(V12*((LOG(V12))/LOG(2))))","v":{"$error":"#DIV/0!"}},null,{"$f":"N12","v":0},{"$f":"COUNTIF(L14:L20,Y12)","v":0},{"$f":"Z12/(AB4-Z8)","v":{"$error":"#DIV/0!"}},{"$f":"IF(AA12=0,0,(AA12*((LOG(AA12))/LOG(2))))","v":{"$error":"#DIV/0!"}},null,{"$f":"N12","v":0},{"$f":"COUNTIF(L21:L26,AD12)","v":0},{"$f":"AE12/(AG4-AE8)","v":{"$error":"#DIV/0!"}},{"$f":"IF(AF12=0,0,(AF12*((LOG(AF12))/LOG(2))))","v":{"$error":"#DIV/0!"}},null,{"$f":"N12","v":0},{"$f":"COUNTIF(L27:L33,AI12)","v":0},{"$f":"AJ12/(AL4-AJ8)","v":{"$error":"#DIV/0!"}},{"$f":"IF(AK12=0,0,(AK12*((LOG(AK12))/LOG(2))))","v":{"$error":"#DIV/0!"}},null,{"$f":"N12","v":0},{"$f":"COUNTIF(L34:L40,AN12)","v":0},{"$f":"AO12/(AQ4-AO8)","v":0},{"$f":"IF(AP12=0,0,(AP12*((LOG(AP12))/LOG(2))))","v":0},null,{"$f":"N12","v":0},{"$f":"COUNTIF(L41:L47,AS12)","v":0},{"$f":"AT12/(AV4-AT8)","v":{"$error":"#DIV/0!"}},{"$f":"IF(AU12=0,0,(AU12*((LOG(AU12))/LOG(2))))","v":{"$error":"#DIV/0!"}}]
[11,561,21,568,null,null,null,null,null,null,0,12,null,null,null,null,null,null,null,{"$f":"N13","v":0},{"$f":"COUNTIF(L7:L13,T13)","v":0},{"$f":"U13/(W4-U8)","v":{"$error":"#DIV/0!"}},{"$f":"IF(V13=0,0,(V13*((LOG(V13))/LOG(2))))","v":{"$error":"#DIV/0!"}},null,{"$f":"N13","v":0},{"$f":"COUNTIF(L14:L20,Y13)","v":0},{"$f":"Z13/(AB4-Z8)","v":{"$error":"#DIV/0!"}},{"$f":"IF(AA13=0,0,(AA13*((LOG(AA13))/LOG(2))))","v":{"$error":"#DIV/0!"}},null,{"$f":"N13","v":0},{"$f":"COUNTIF(L21:L26,AD13)","v":0},{"$f":"AE13/(AG4-AE8)","v":{"$error":"#DIV/0!"}},{"$f":"IF(AF13=0,0,(AF13*((LOG(AF13))/LOG(2))))","v":{"$error":"#DIV/0!"}},null,{"$f":"N13","v":0},{"$f":"COUNTIF(L27:L33,AI13)","v":0},{"$f":"AJ13/(AL4-AJ8)","v":{"$error":"#DIV/0!"}},{"$f":"IF(AK13=0,0,(AK13*((LOG(AK13))/LOG(2))))","v":{"$error":"#DIV/0!"}},null,{"$f":"N13","v":0},{"$f":"COUNTIF(L34:L40,AN13)","v":0},{"$f":"AO13/(AQ4-AO8)","v":0},{"$f":"IF(AP13=0,0,(AP13*((LOG(AP13))/LOG(2))))","v":0},null,{"$f":"N13","v":0},{"$f":"COUNTIF(L41:L47,AS13)","v":0},{"$f":"AT13/(AV4-AT8)","v":{"$error":"#DIV/0!"}},{"$f":"IF(AU13=0,0,(AU13*((LOG(AU13))/LOG(2))))","v":{"$error":"#DIV/0!"}}]
[11,652,21,657,null,null,null,null,null,null,0,12,null,null,null,null,null,null,null,{"$f":"N14","v":0},{"$f":"COUNTIF(L7:L13,T14)","v":0},{"$f":"U14/(W4-U8)","v":{"$error":"#DIV/0!"}},{"$f":"IF(V14=0,0,(V14*((LOG(V14))/LOG(2))))","v":{"$error":"#DIV/0!"}},null,{"$f":"N14","v":0},{"$f":"COUNTIF(L14:L20,Y14)","v":0},{"$f":"Z14/(AB4-Z8)","v":{"$error":"#DIV/0!"}},{"$f":"IF(AA14=0,0,(AA14*((LOG(AA14))/LOG(2))))","v":{"$error":"#DIV/0!"}},null,{"$f":"N14","v":0},{"$f":"COUNTIF(L21:L26,AD14)","v":0},{"$f":"AE14/(AG4-AE8)","v":{"$error":"#DIV/0!"}},{"$f":"IF(AF14=0,0,(AF14*((LOG(AF14))/LOG(2))))","v":{"$error":"#DIV/0!"}},null,{"$f":"N14","v":0},{"$f":"COUNTIF(L27:L33,AI14)","v":0},{"$f":"AJ14/(AL4-AJ8)","v":{"$error":"#DIV/0!"}},{"$f":"IF(AK14=0,0,(AK14*((LOG(AK14))/LOG(2))))","v":{"$error":"#DIV/0!"}},null,{"$f":"N14","v":0},{"$f":"COUNTIF(L34:L40,AN14)","v":0},{"$f":"AO14/(AQ4-AO8)","v":0},{"$f":"IF(AP14=0,0,(AP14*((LOG(AP14))/LOG(2))))","v":0},null,{"$f":"N14","v":0},{"$f":"COUNTIF(L41:L47,AS14)","v":0},{"$f":"AT14/(AV4-AT8)","v":{"$error":"#DIV/0!"}},{"$f":"IF(AU14=0,0,(AU14*((LOG(AU14))/LOG(2))))","v":{"$error":"#DIV/0!"}}]
[11,740,21,748,null,null,null,null,null,null,0,12,null,null,null,{"$f":"SUM(P7:P14)","v":1},{"$f":"-SUM(Q7:Q14)","v":0.16542703399626679},null,null,null,null,{"$f":"SUM(V7:V14)","v":{"$error":"#DIV/0!"}},{"$f":"-SUM(W7:W14)","v":{"$error":"#DIV/0!"}},null,null,null,{"$f":"SUM(AA7:AA14)","v":{"$error":"#DIV/0!"}},{"$f":"-SUM(AB7:AB14)","v":{"$error":"#DIV/0!"}},null,null,null,{"$f":"SUM(AF7:AF14)","v":{"$error":"#DIV/0!"}},{"$f":"-SUM(AG7:AG14)","v":{"$error":"#DIV/0!"}},null,null,null,{"$f":"SUM(AK7:AK14)","v":{"$error":"#DIV/0!"}},{"$f":"-SUM(AL7:AL14)","v":{"$error":"#DIV/0!"}},null,null,null,{"$f":"SUM(AP7:AP14)","v":1},{"$f":"-SUM(AQ7:AQ14)","v":0},null,null,null,{"$f":"SUM(AU7:AU14)","v":{"$error":"#DIV/0!"}},{"$f":"-SUM(AV7:AV14)","v":{"$error":"#DIV/0!"}}]
[11,834,21,839,null,null,null,null,null,null,0,12,null,null,null,"U=",{"$f":"Q15/(LOG(Q4)/LOG(2))","v":3.0877354779509855E-2},null,null,null,null,"U1=",{"$f":"W15/(LOG(W4)/LOG(2))","v":{"$error":"#DIV/0!"}},null,null,null,"U2=",{"$f":"AB15/(LOG(AB4)/LOG(2))","v":{"$error":"#DIV/0!"}},null,null,null,"U3=",{"$f":"AG15/(LOG(AG4)/LOG(2))","v":{"$error":"#DIV/0!"}},null,null,null,"U4=",{"$f":"AL15/(LOG(AL4)/LOG(2))","v":{"$error":"#DIV/0!"}},null,null,null,"U5=",{"$f":"AQ15/(LOG(AQ4)/LOG(2))","v":0},null,null,null,"U6=",{"$f":"AV15/(LOG(AV4)/LOG(2))","v":{"$error":"#DIV/0!"}}]
[11,922,21,927,null,null,null,null,null,null,0,12]
[11,1013,21,1017,null,null,null,null,null,null,0,12]
[11,1102,21,1109,null,null,null,null,null,null,0,12,null,"Total Target Seq"]
[11,1193,21,1198,null,null,null,null,null,null,0,12,null,{"$f":"COUNTIF(L7:L47,G3)","v":40},null,7,7,6,7,7,7]
[11,1284,21,1291,null,null,null,null,null,null,0,12,null,null,null,"% of reinforcement given in 6 equal intervals based on number of trials "]
[11,1374,21,1379,null,null,null,null,null,null,0,12,null,null,null,"%_1","%_2","%_3","%_4","%_5","%_6"]
[11,1466,21,1473,null,null,null,null,null,null,0,12,null,null,"target sequence",{"$f":"$G$3","v":12},{"$f":"$G$3","v":12},{"$f":"$G$3","v":12},{"$f":"$G$3","v":12},{"$f":"$G$3","v":12},{"$f":"$G$3","v":12}]
[11,1561,21,1568,null,null,null,null,null,null,0,12,null,null,"total reinforcement",{"$f":"U8","v":7},{"$f":"Z8","v":7},{"$f":"AE8","v":6},{"$f":"AJ8","v":7},{"$f":"AO8","v":6},{"$f":"AT8","v":7}]
[11,1654,21,1660,null,null,null,null,null,null,0,12,null,null,"% target"]
[11,1743,21,1751,null,null,null,null,null,null,0,12,null,null,"CCRF"]
[11,1836,21,1841,null,null,null,null,null,null,0,12,null,null,"% CCRf"]
[11,1926,21,1933,null,null,null,null,null,null,0,12,null,null,"average response rate",{"$f":"D13/P20","v":81.142857142857139},{"$f":"(D20-D13)/Q20","v":90},{"$f":"(D26-D20)/R20","v":92.166666666666671},{"$f":"(D33-D26)/S20","v":92.428571428571431},{"$f":"(D40-D33)/T20","v":95.857142857142861},{"$f":"(D47-D40)/U20","v":93.428571428571431}]
[11,2016,21,2021,null,null,null,null,null,null,0,12]
[11,2106,21,2112,null,null,null,null,null,null,0,12]
[11,2210,21,2218,null,null,null,null,null,null,0,12]
[11,2302,21,2307,null,null,null,null,null,null,0,12]
[11,2393,21,2398,null,null,null,null,null,null,0,12]
[11,2493,21,2501,null,null,null,null,null,null,0,12]
[11,2588,21,2595,null,null,null,null,null,null,0,12]
[11,2681,21,2689,null,null,null,null,null,null,0,12]
[11,2774,21,2781,null,null,null,null,null,null,0,12]
[11,2866,21,2873,null,null,null,null,null,null,0,12]
[11,2955,12,2963,null,null,null,null,null,null,0,11]
[11,3063,21,3069,null,null,null,null,null,null,0,12]
[11,3155,21,3162,null,null,null,null,null,null,0,12]
[11,3249,21,3255,null,null,null,null,null,null,0,12]
[11,3343,21,3351,null,null,null,null,null,null,0,12]
[11,3438,21,3445,null,null,null,null,null,null,0,12]
[11,3530,21,3538,null,null,null,null,null,null,0,12]
[11,3624,21,3632,null,null,null,null,null,null,0,12]
[11,3718,21,3723,null,null,null,null,null,null,1,12]

{"sheet":"!L908840.052","index":32,"n_rows":49,"n_cols":48,"rows_kept":49,"cut":false,"hidden":false,"merged":[[4,39,4,42],[5,39,5,40],[4,44,4,47],[5,44,5,45],[4,24,4,27],[5,24,5,25],[4,29,4,32],[5,29,5,30],[4,34,4,37],[5,34,5,35],[1,1,1,2],[5,13,5,14],[18,13,18,14],[19,13,19,14],[4,19,4,22],[5,19,5,20]]}
["Report for:!L908840.052"]
["Date:","<date>"]
["Hen:","<hen>",null,null,null,"Correct Sequence",{"$f":"Start!J2","v":12},null,null,null,null,null,null,null,null,"Total Sequences in Data",{"$f":"4994-COUNTBLANK(L7:L5000)","v":43},null,null,null,null,"Total Sequences in Block Data",{"$f":"COUNTA(L7:L13)","v":7},null,null,null,"Total Sequences in Block Data",{"$f":"COUNTA(L14:L20)","v":7},null,null,null,"Total Sequences in Block Data",{"$f":"COUNTA(L21:L28)","v":8},null,null,null,"Total Sequences in Block Data",{"$f":"COUNTA(L29:L35)","v":7},null,null,null,"Total Sequences in Block Data",{"$f":"COUNTA(L36:L42)","v":7},null,null,null,"Total Sequences in Block Data",{"$f":"COUNTA(L43:L49)","v":7}]
[null,null,null,null,null,null,null,null,null,null,null,null,null,null,null,"Total Sequences in Summary",{"$f":"SUM(O7:O14)","v":43},null,null,null,null,"Total Sequences in Block Summary",{"$f":"SUM(U7:U14)","v":7},null,null,null,"Total Sequences in Block Summary",{"$f":"SUM(Z7:Z14)","v":7},null,null,null,"Total Sequences in Block Summary",{"$f":"SUM(AE7:AE14)","v":8},null,null,null,"Total Sequences in Block Summary",{"$f":"SUM(AJ7:AJ14)","v":7},null,null,null,"Total Sequences in Block Summary",{"$f":"SUM(AO7:AO14)","v":7},null,null,null,"Total Sequences in Block Summary",{"$f":"SUM(AT7:AT14)","v":7}]
[null,null,null,null,null,null,null,null,null,null,null,null,null,null,null,null,null,null,null,"Block 1",null,null,null,null,"Block 2",null,null,null,null,"Block 3",null,null,null,null,"Block 4",null,null,null,null,"Block 5",null,null,null,null,"Block 6"]
["Sequence\nComponent\n1","Time\n1","Sequence\nComponent\n2","Time\n2","Sequence\nComponent\n3","Time\n3","Sequence\nComponent\n4","Time\n4","Sequence\nComponent\n5","Time\n5","Correct?\n0=No 1=Yes","Sequence",null,"Frequency",null,"Relative Frequency","Variability",null,null,"Frequency",null,"Relative Frequency","Variability",null,"Frequency",null,"Relative Frequency","Variability",null,"Frequency",null,"Relative Frequency","Variability",null,"Frequency",null,"Relative Frequency","Variability",null,"Frequency",null,"Relative Frequency","Variability",null,"Frequency",null,"Relative Frequency","Variability"]
[11,6,21,13,null,null,null,null,null,null,0,12,null,11,{"$f":"COUNTIF($L$7:$L$500,N7)","v":1},{"$f":"O7/$Q$4","v":2.3255813953488372E-2},{"$f":"IF(P7=0,0,(P7*((LOG(P7))/LOG(2))))","v":-0.12619220359772321},null,null,{"$f":"N7","v":11},{"$f":"COUNTIF(L7:L13,T7)","v":0},{"$f":"U7/(W4-U8)","v":0},{"$f":"IF(V7=0,0,(V7*((LOG(V7))/LOG(2))))","v":0},null,{"$f":"N7","v":11},{"$f":"COUNTIF(L14:L20,Y7)","v":1},{"$f":"Z7/(AB4-Z8)","v":0.5},{"$f":"IF(AA7=0,0,(AA7*((LOG(AA7))/LOG(2))))","v":-0.5},null,{"$f":"N7","v":11},{"$f":"COUNTIF(L21:L28,AD7)","v":0},{"$f":"AE7/(AG4-AE8)","v":{"$error":"#DIV/0!"}},{"$f":"IF(AF7=0,0,(AF7*((LOG(AF7))/LOG(2))))","v":{"$error":"#DIV/0!"}},null,{"$f":"N7","v":11},{"$f":"COUNTIF(L29:L35,AI7)","v":0},{"$f":"AJ7/(AL4-AJ8)","v":{"$error":"#DIV/0!"}},{"$f":"IF(AK7=0,0,(AK7*((LOG(AK7))/LOG(2))))","v":{"$error":"#DIV/0!"}},null,{"$f":"N7","v":11},{"$f":"COUNTIF(L36:L42,AN7)","v":0},{"$f":"AO7/(AQ4-AO8)","v":{"$error":"#DIV/0!"}},{"$f":"IF(AP7=0,0,(AP7*((LOG(AP7))/LOG(2))))","v":{"$error":"#DIV/0!"}},null,{"$f":"N7","v":11},{"$f":"COUNTIF(L43:L49,AS7)","v":0},{"$f":"AT7/(AV4-AT8)","v":{"$error":"#DIV/0!"}},{"$f":"IF(AU7=0,0,(AU7*((LOG(AU7))/LOG(2))))","v":{"$error":"#DIV/0!"}}]
[11,98,21,105,null,null,null,null,null,null,0,12,null,12,{"$f":"COUNTIF($L$7:$L$500,N8)","v":40},{"$f":"O8/$Q$4","v":0.93023255813953487},{"$f":"IF(P8=0,0,(P8*((LOG(P8))/LOG(2))))","v":-9.7057357967195917E-2},null,null,{"$f":"N8","v":12},{"$f":"COUNTIF(L7:L13,T8)","v":6},null,null,null,{"$f":"N8","v":12},{"$f":"COUNTIF(L14:L20,Y8)","v":5},null,null,null,{"$f":"N8","v":12},{"$f":"COUNTIF(L21:L28,AD8)","v":8},null,null,null,{"$f":"N8","v":12},{"$f":"COUNTIF(L29:L35,AI8)","v":7},null,null,null,{"$f":"N8","v":12},{"$f":"COUNTIF(L36:L42,AN8)","v":7},null,null,null,{"$f":"N8","v":12},{"$f":"COUNTIF(L43:L49,AS8)","v":7}]
[22,194,14,208,null,null,null,null,null,null,0,21,null,21,{"$f":"COUNTIF($L$7:$L$500,N9)","v":1},{"$f":"O9/$Q$4","v":2.3255813953488372E-2},{"$f":"IF(P9=0,0,(P9*((LOG(P9))/LOG(2))))","v":-0.12619220359772321},null,null,{"$f":"N9","v":21},{"$f":"COUNTIF(L7:L13,T9)","v":1},{"$f":"U9/(W4-U8)","v":1},{"$f":"IF(V9=0,0,(V9*((LOG(V9))/LOG(2))))","v":0},null,{"$f":"N9","v":21},{"$f":"COUNTIF(L14:L20,Y9)","v":0},{"$f":"Z9/(AB4-Z8)","v":0},{"$f":"IF(AA9=0,0,(AA9*((LOG(AA9))/LOG(2))))","v":0},null,{"$f":"N9","v":21},{"$f":"COUNTIF(L21:L28,AD9)","v":0},{"$f":"AE9/(AG4-AE8)","v":{"$error":"#DIV/0!"}},{"$f":"IF(AF9=0,0,(AF9*((LOG(AF9))/LOG(2))))","v":{"$error":"#DIV/0!"}},null,{"$f":"N9","v":21},{"$f":"COUNTIF(L29:L35,AI9)","v":0},{"$f":"AJ9/(AL4-AJ8)","v":{"$error":"#DIV/0!"}},{"$f":"IF(AK9=0,0,(AK9*((LOG(AK9))/LOG(2))))","v":{"$error":"#DIV/0!"}},null,{"$f":"N9","v":21},{"$f":"COUNTIF(L36:L42,AN9)","v":0},{"$f":"AO9/(AQ4-AO8)","v":{"$error":"#DIV/0!"}},{"$f":"IF(AP9=0,0,(AP9*((LOG(AP9))/LOG(2))))","v":{"$error":"#DIV/0!"}},null,{"$f":"N9","v":21},{"$f":"COUNTIF(L43:L49,AS9)","v":0},{"$f":"AT9/(AV4-AT8)","v":{"$error":"#DIV/0!"}},{"$f":"IF(AU9=0,0,(AU9*((LOG(AU9))/LOG(2))))","v":{"$error":"#DIV/0!"}}]
[11,303,21,310,null,null,null,null,null,null,0,12,null,22,{"$f":"COUNTIF($L$7:$L$500,N10)","v":1},{"$f":"O10/$Q$4","v":2.3255813953488372E-2},{"$f":"IF(P10=0,0,(P10*((LOG(P10))/LOG(2))))","v":-0.12619220359772321},null,null,{"$f":"N10","v":22},{"$f":"COUNTIF(L7:L13,T10)","v":0},{"$f":"U10/(W4-U8)","v":0},{"$f":"IF(V10=0,0,(V10*((LOG(V10))/LOG(2))))","v":0},null,{"$f":"N10","v":22},{"$f":"COUNTIF(L14:L20,Y10)","v":1},{"$f":"Z10/(AB4-Z8)","v":0.5},{"$f":"IF(AA10=0,0,(AA10*((LOG(AA10))/LOG(2))))","v":-0.5},null,{"$f":"N10","v":22},{"$f":"COUNTIF(L21:L28,AD10)","v":0},{"$f":"AE10/(AG4-AE8)","v":{"$error":"#DIV/0!"}},{"$f":"IF(AF10=0,0,(AF10*((LOG(AF10))/LOG(2))))","v":{"$error":"#DIV/0!"}},null,{"$f":"N10","v":22},{"$f":"COUNTIF(L29:L35,AI10)","v":0},{"$f":"AJ10/(AL4-AJ8)","v":{"$error":"#DIV/0!"}},{"$f":"IF(AK10=0,0,(AK10*((LOG(AK10))/LOG(2))))","v":{"$error":"#DIV/0!"}},null,{"$f":"N10","v":22},{"$f":"COUNTIF(L36:L42,AN10)","v":0},{"$f":"AO10/(AQ4-AO8)","v":{"$error":"#DIV/0!"}},{"$f":"IF(AP10=0,0,(AP10*((LOG(AP10))/LOG(2))))","v":{"$error":"#DIV/0!"}},null,{"$f":"N10","v":22},{"$f":"COUNTIF(L43:L49,AS10)","v":0},{"$f":"AT10/(AV4-AT8)","v":{"$error":"#DIV/0!"}},{"$f":"IF(AU10=0,0,(AU10*((LOG(AU10))/LOG(2))))","v":{"$error":"#DIV/0!"}}]
[11,397,21,404,null,null,null,null,null,null,0,12,null,null,null,null,null,null,null,{"$f":"N11","v":0},{"$f":"COUNTIF(L7:L13,T11)","v":0},{"$f":"U11/(W4-U8)","v":0},{"$f":"IF(V11=0,0,(V11*((LOG(V11))/LOG(2))))","v":0},null,{"$f":"N11","v":0},{"$f":"COUNTIF(L14:L20,Y11)","v":0},{"$f":"Z11/(AB4-Z8)","v":0},{"$f":"IF(AA11=0,0,(AA11*((LOG(AA11))/LOG(2))))","v":0},null,{"$f":"N11","v":0},{"$f":"COUNTIF(L21:L28,AD11)","v":0},{"$f":"AE11/(AG4-AE8)","v":{"$error":"#DIV/0!"}},{"$f":"IF(AF11=0,0,(AF11*((LOG(AF11))/LOG(2))))","v":{"$error":"#DIV/0!"}},null,{"$f":"N11","v":0},{"$f":"COUNTIF(L29:L35,AI11)","v":0},{"$f":"AJ11/(AL4-AJ8)","v":{"$error":"#DIV/0!"}},{"$f":"IF(AK11=0,0,(AK11*((LOG(AK11))/LOG(2))))","v":{"$error":"#DIV/0!"}},null,{"$f":"N11","v":0},{"$f":"COUNTIF(L36:L42,AN11)","v":0},{"$f":"AO11/(AQ4-AO8)","v":{"$error":"#DIV/0!"}},{"$f":"IF(AP11=0,0,(AP11*((LOG(AP11))/LOG(2))))","v":{"$error":"#DIV/0!"}},null,{"$f":"N11","v":0},{"$f":"COUNTIF(L43:L49,AS11)","v":0},{"$f":"AT11/(AV4-AT8)","v":{"$error":"#DIV/0!"}},{"$f":"IF(AU11=0,0,(AU11*((LOG(AU11))/LOG(2))))","v":{"$error":"#DIV/0!"}}]
[11,492,21,499,null,null,null,null,null,null,0,12,null,null,null,null,null,null,null,{"$f":"N12","v":0},{"$f":"COUNTIF(L7:L13,T12)","v":0},{"$f":"U12/(W4-U8)","v":0},{"$f":"IF(V12=0,0,(V12*((LOG(V12))/LOG(2))))","v":0},null,{"$f":"N12","v":0},{"$f":"COUNTIF(L14:L20,Y12)","v":0},{"$f":"Z12/(AB4-Z8)","v":0},{"$f":"IF(AA12=0,0,(AA12*((LOG(AA12))/LOG(2))))","v":0},null,{"$f":"N12","v":0},{"$f":"COUNTIF(L21:L28,AD12)","v":0},{"$f":"AE12/(AG4-AE8)","v":{"$error":"#DIV/0!"}},{"$f":"IF(AF12=0,0,(AF12*((LOG(AF12))/LOG(2))))","v":{"$error":"#DIV/0!"}},null,{"$f":"N12","v":0},{"$f":"COUNTIF(L29:L35,AI12)","v":0},{"$f":"AJ12/(AL4-AJ8)","v":{"$error":"#DIV/0!"}},{"$f":"IF(AK12=0,0,(AK12*((LOG(AK12))/LOG(2))))","v":{"$error":"#DIV/0!"}},null,{"$f":"N12","v":0},{"$f":"COUNTIF(L36:L42,AN12)","v":0},{"$f":"AO12/(AQ4-AO8)","v":{"$error":"#DIV/0!"}},{"$f":"IF(AP12=0,0,(AP12*((LOG(AP12))/LOG(2))))","v":{"$error":"#DIV/0!"}},null,{"$f":"N12","v":0},{"$f":"COUNTIF(L43:L49,AS12)","v":0},{"$f":"AT12/(AV4-AT8)","v":{"$error":"#DIV/0!"}},{"$f":"IF(AU12=0,0,(AU12*((LOG(AU12))/LOG(2))))","v":{"$error":"#DIV/0!"}}]
[11,583,21,590,null,null,null,null,null,null,0,12,null,null,null,null,null,null,null,{"$f":"N13","v":0},{"$f":"COUNTIF(L7:L13,T13)","v":0},{"$f":"U13/(W4-U8)","v":0},{"$f":"IF(V13=0,0,(V13*((LOG(V13))/LOG(2))))","v":0},null,{"$f":"N13","v":0},{"$f":"COUNTIF(L14:L20,Y13)","v":0},{"$f":"Z13/(AB4-Z8)","v":0},{"$f":"IF(AA13=0,0,(AA13*((LOG(AA13))/LOG(2))))","v":0},null,{"$f":"N13","v":0},{"$f":"COUNTIF(L21:L28,AD13)","v":0},{"$f":"AE13/(AG4-AE8)","v":{"$error":"#DIV/0!"}},{"$f":"IF(AF13=0,0,(AF13*((LOG(AF13))/LOG(2))))","v":{"$error":"#DIV/0!"}},null,{"$f":"N13","v":0},{"$f":"COUNTIF(L29:L35,AI13)","v":0},{"$f":"AJ13/(AL4-AJ8)","v":{"$error":"#DIV/0!"}},{"$f":"IF(AK13=0,0,(AK13*((LOG(AK13))/LOG(2))))","v":{"$error":"#DIV/0!"}},null,{"$f":"N13","v":0},{"$f":"COUNTIF(L36:L42,AN13)","v":0},{"$f":"AO13/(AQ4-AO8)","v":{"$error":"#DIV/0!"}},{"$f":"IF(AP13=0,0,(AP13*((LOG(AP13))/LOG(2))))","v":{"$error":"#DIV/0!"}},null,{"$f":"N13","v":0},{"$f":"COUNTIF(L43:L49,AS13)","v":0},{"$f":"AT13/(AV4-AT8)","v":{"$error":"#DIV/0!"}},{"$f":"IF(AU13=0,0,(AU13*((LOG(AU13))/LOG(2))))","v":{"$error":"#DIV/0!"}}]
[11,676,21,683,null,null,null,null,null,null,0,12,null,null,null,null,null,null,null,{"$f":"N14","v":0},{"$f":"COUNTIF(L7:L13,T14)","v":0},{"$f":"U14/(W4-U8)","v":0},{"$f":"IF(V14=0,0,(V14*((LOG(V14))/LOG(2))))","v":0},null,{"$f":"N14","v":0},{"$f":"COUNTIF(L14:L20,Y14)","v":0},{"$f":"Z14/(AB4-Z8)","v":0},{"$f":"IF(AA14=0,0,(AA14*((LOG(AA14))/LOG(2))))","v":0},null,{"$f":"N14","v":0},{"$f":"COUNTIF(L21:L28,AD14)","v":0},{"$f":"AE14/(AG4-AE8)","v":{"$error":"#DIV/0!"}},{"$f":"IF(AF14=0,0,(AF14*((LOG(AF14))/LOG(2))))","v":{"$error":"#DIV/0!"}},null,{"$f":"N14","v":0},{"$f":"COUNTIF(L29:L35,AI14)","v":0},{"$f":"AJ14/(AL4-AJ8)","v":{"$error":"#DIV/0!"}},{"$f":"IF(AK14=0,0,(AK14*((LOG(AK14))/LOG(2))))","v":{"$error":"#DIV/0!"}},null,{"$f":"N14","v":0},{"$f":"COUNTIF(L36:L42,AN14)","v":0},{"$f":"AO14/(AQ4-AO8)","v":{"$error":"#DIV/0!"}},{"$f":"IF(AP14=0,0,(AP14*((LOG(AP14))/LOG(2))))","v":{"$error":"#DIV/0!"}},null,{"$f":"N14","v":0},{"$f":"COUNTIF(L43:L49,AS14)","v":0},{"$f":"AT14/(AV4-AT8)","v":{"$error":"#DIV/0!"}},{"$f":"IF(AU14=0,0,(AU14*((LOG(AU14))/LOG(2))))","v":{"$error":"#DIV/0!"}}]
[11,768,21,773,null,null,null,null,null,null,0,12,null,null,null,{"$f":"SUM(P7:P14)","v":1},{"$f":"-SUM(Q7:Q14)","v":0.47563396876036557},null,null,null,null,{"$f":"SUM(V7:V14)","v":1},{"$f":"-SUM(W7:W14)","v":0},null,null,null,{"$f":"SUM(AA7:AA14)","v":1},{"$f":"-SUM(AB7:AB14)","v":1},null,null,null,{"$f":"SUM(AF7:AF14)","v":{"$error":"#DIV/0!"}},{"$f":"-SUM(AG7:AG14)","v":{"$error":"#DIV/0!"}},null,null,null,{"$f":"SUM(AK7:AK14)","v":{"$error":"#DIV/0!"}},{"$f":"-SUM(AL7:AL14)","v":{"$error":"#DIV/0!"}},null,null,null,{"$f":"SUM(AP7:AP14)","v":{"$error":"#DIV/0!"}},{"$f":"-SUM(AQ7:AQ14)","v":{"$error":"#DIV/0!"}},null,null,null,{"$f":"SUM(AU7:AU14)","v":{"$error":"#DIV/0!"}},{"$f":"-SUM(AV7:AV14)","v":{"$error":"#DIV/0!"}}]
[11,855,12,858,null,null,null,null,null,null,0,11,null,null,null,"U=",{"$f":"Q15/(LOG(Q4)/LOG(2))","v":8.7654029108735945E-2},null,null,null,null,"U1=",{"$f":"W15/(LOG(W4)/LOG(2))","v":0},null,null,null,"U2=",{"$f":"AB15/(LOG(AB4)/LOG(2))","v":0.35620718710802218},null,null,null,"U3=",{"$f":"AG15/(LOG(AG4)/LOG(2))","v":{"$error":"#DIV/0!"}},null,null,null,"U4=",{"$f":"AL15/(LOG(AL4)/LOG(2))","v":{"$error":"#DIV/0!"}},null,null,null,"U5=",{"$f":"AQ15/(LOG(AQ4)/LOG(2))","v":{"$error":"#DIV/0!"}},null,null,null,"U6=",{"$f":"AV15/(LOG(AV4)/LOG(2))","v":{"$error":"#DIV/0!"}}]
[11,955,21,962,null,null,null,null,null,null,0,12]
[22,1049,23,1079,null,null,null,null,null,null,0,22]
[11,1175,21,1182,null,null,null,null,null,null,0,12,null,"Total Target Seq"]
[11,1268,21,1275,null,null,null,null,null,null,0,12,null,{"$f":"COUNTIF(L7:L49,G3)","v":40},null,7,7,8,7,7,7]
[11,1359,21,1366,null,null,null,null,null,null,0,12,null,null,null,"% of reinforcement given in 6 equal intervals based on number of trials "]
[11,1452,21,1459,null,null,null,null,null,null,0,12,null,null,null,"%_1","%_2","%_3","%_4","%_5","%_6"]
[11,1542,21,1549,null,null,null,null,null,null,0,12,null,null,"target sequence",{"$f":"$G$3","v":12},{"$f":"$G$3","v":12},{"$f":"$G$3","v":12},{"$f":"$G$3","v":12},{"$f":"$G$3","v":12},{"$f":"$G$3","v":12}]
[11,1635,21,1642,null,null,null,null,null,null,0,12,null,null,"total reinforcement",{"$f":"U8","v":6},{"$f":"Z8","v":5},{"$f":"AE8","v":8},{"$f":"AJ8","v":7},{"$f":"AO8","v":7},{"$f":"AT8","v":7}]
[11,1732,21,1740,null,null,null,null,null,null,0,12,null,null,"% target"]
[11,1826,21,1833,null,null,null,null,null,null,0,12,null,null,"CCRF"]
[11,1919,21,1924,null,null,null,null,null,null,0,12,null,null,"% CCRf"]
[11,2010,21,2015,null,null,null,null,null,null,0,12,null,null,"average response rate",{"$f":"D13/P20","v":84.285714285714292},{"$f":"(D20-D13)/Q20","v":97.857142857142861},{"$f":"(D28-D20)/R20","v":92.5},{"$f":"(D35-D28)/S20","v":92},{"$f":"(D42-D35)/T20","v":92.714285714285708},{"$f":"(D49-D42)/U20","v":93}]
[11,2101,21,2108,null,null,null,null,null,null,0,12]
[11,2192,21,2200,null,null,null,null,null,null,0,12]
[11,2286,21,2290,null,null,null,null,null,null,0,12]
[11,2373,21,2380,null,null,null,null,null,null,0,12]
[11,2467,21,2474,null,null,null,null,null,null,0,12]
[11,2559,21,2565,null,null,null,null,null,null,0,12]
[11,2652,21,2659,null,null,null,null,null,null,0,12]
[11,2743,21,2751,null,null,null,null,null,null,0,12]
[11,2841,21,2849,null,null,null,null,null,null,0,12]
[11,2934,21,2940,null,null,null,null,null,null,0,12]
[11,3026,21,3033,null,null,null,null,null,null,0,12]
[11,3117,21,3124,null,null,null,null,null,null,0,12]
[11,3210,21,3215,null,null,null,null,null,null,0,12]
[11,3300,21,3308,null,null,null,null,null,null,0,12]
[11,3395,21,3401,null,null,null,null,null,null,0,12]
[11,3487,21,3494,null,null,null,null,null,null,0,12]
[11,3580,21,3587,null,null,null,null,null,null,0,12]
[11,3674,21,3680,null,null,null,null,null,null,0,12]
[11,3766,21,3774,null,null,null,null,null,null,0,12]
[11,3859,21,3867,null,null,null,null,null,null,0,12]
[11,3954,21,3959,null,null,null,null,null,null,1,12]

{"sheet":"!L909910.052","index":33,"n_rows":49,"n_cols":48,"rows_kept":49,"cut":false,"hidden":false,"merged":[[4,39,4,42],[5,39,5,40],[4,44,4,47],[5,44,5,45],[4,24,4,27],[5,24,5,25],[4,29,4,32],[5,29,5,30],[4,34,4,37],[5,34,5,35],[1,1,1,2],[5,13,5,14],[18,13,18,14],[19,13,19,14],[4,19,4,22],[5,19,5,20]]}
["Report for:!L909910.052"]
["Date:","<date>"]
["Hen:","<hen>",null,null,null,"Correct Sequence",{"$f":"Start!J2","v":12},null,null,null,null,null,null,null,null,"Total Sequences in Data",{"$f":"4994-COUNTBLANK(L7:L5000)","v":43},null,null,null,null,"Total Sequences in Block Data",{"$f":"COUNTA(L7:L13)","v":7},null,null,null,"Total Sequences in Block Data",{"$f":"COUNTA(L14:L20)","v":7},null,null,null,"Total Sequences in Block Data",{"$f":"COUNTA(L21:L28)","v":8},null,null,null,"Total Sequences in Block Data",{"$f":"COUNTA(L29:L35)","v":7},null,null,null,"Total Sequences in Block Data",{"$f":"COUNTA(L36:L42)","v":7},null,null,null,"Total Sequences in Block Data",{"$f":"COUNTA(L43:L49)","v":7}]
[null,null,null,null,null,null,null,null,null,null,null,null,null,null,null,"Total Sequences in Summary",{"$f":"SUM(O7:O14)","v":43},null,null,null,null,"Total Sequences in Block Summary",{"$f":"SUM(U7:U14)","v":7},null,null,null,"Total Sequences in Block Summary",{"$f":"SUM(Z7:Z14)","v":7},null,null,null,"Total Sequences in Block Summary",{"$f":"SUM(AE7:AE14)","v":8},null,null,null,"Total Sequences in Block Summary",{"$f":"SUM(AJ7:AJ14)","v":7},null,null,null,"Total Sequences in Block Summary",{"$f":"SUM(AO7:AO14)","v":7},null,null,null,"Total Sequences in Block Summary",{"$f":"SUM(AT7:AT14)","v":7}]
[null,null,null,null,null,null,null,null,null,null,null,null,null,null,null,null,null,null,null,"Block 1",null,null,null,null,"Block 2",null,null,null,null,"Block 3",null,null,null,null,"Block 4",null,null,null,null,"Block 5",null,null,null,null,"Block 6"]
["Sequence\nComponent\n1","Time\n1","Sequence\nComponent\n2","Time\n2","Sequence\nComponent\n3","Time\n3","Sequence\nComponent\n4","Time\n4","Sequence\nComponent\n5","Time\n5","Correct?\n0=No 1=Yes","Sequence",null,"Frequency",null,"Relative Frequency","Variability",null,null,"Frequency",null,"Relative Frequency","Variability",null,"Frequency",null,"Relative Frequency","Variability",null,"Frequency",null,"Relative Frequency","Variability",null,"Frequency",null,"Relative Frequency","Variability",null,"Frequency",null,"Relative Frequency","Variability",null,"Frequency",null,"Relative Frequency","Variability"]
[11,6,21,12,null,null,null,null,null,null,0,12,null,11,{"$f":"COUNTIF($L$7:$L$500,N7)","v":1},{"$f":"O7/$Q$4","v":2.3255813953488372E-2},{"$f":"IF(P7=0,0,(P7*((LOG(P7))/LOG(2))))","v":-0.12619220359772321},null,null,{"$f":"N7","v":11},{"$f":"COUNTIF(L7:L13,T7)","v":1},{"$f":"U7/(W4-U8)","v":1},{"$f":"IF(V7=0,0,(V7*((LOG(V7))/LOG(2))))","v":0},null,{"$f":"N7","v":11},{"$f":"COUNTIF(L14:L20,Y7)","v":0},{"$f":"Z7/(AB4-Z8)","v":{"$error":"#DIV/0!"}},{"$f":"IF(AA7=0,0,(AA7*((LOG(AA7))/LOG(2))))","v":{"$error":"#DIV/0!"}},null,{"$f":"N7","v":11},{"$f":"COUNTIF(L21:L28,AD7)","v":0},{"$f":"AE7/(AG4-AE8)","v":{"$error":"#DIV/0!"}},{"$f":"IF(AF7=0,0,(AF7*((LOG(AF7))/LOG(2))))","v":{"$error":"#DIV/0!"}},null,{"$f":"N7","v":11},{"$f":"COUNTIF(L29:L35,AI7)","v":0},{"$f":"AJ7/(AL4-AJ8)","v":0},{"$f":"IF(AK7=0,0,(AK7*((LOG(AK7))/LOG(2))))","v":0},null,{"$f":"N7","v":11},{"$f":"COUNTIF(L36:L42,AN7)","v":0},{"$f":"AO7/(AQ4-AO8)","v":0},{"$f":"IF(AP7=0,0,(AP7*((LOG(AP7))/LOG(2))))","v":0},null,{"$f":"N7","v":11},{"$f":"COUNTIF(L43:L49,AS7)","v":0},{"$f":"AT7/(AV4-AT8)","v":{"$error":"#DIV/0!"}},{"$f":"IF(AU7=0,0,(AU7*((LOG(AU7))/LOG(2))))","v":{"$error":"#DIV/0!"}}]
[11,97,21,104,null,null,null,null,null,null,0,12,null,12,{"$f":"COUNTIF($L$7:$L$500,N8)","v":40},{"$f":"O8/$Q$4","v":0.93023255813953487},{"$f":"IF(P8=0,0,(P8*((LOG(P8))/LOG(2))))","v":-9.7057357967195917E-2},null,null,{"$f":"N8","v":12},{"$f":"COUNTIF(L7:L13,T8)","v":6},null,null,null,{"$f":"N8","v":12},{"$f":"COUNTIF(L14:L20,Y8)","v":7},null,null,null,{"$f":"N8","v":12},{"$f":"COUNTIF(L21:L28,AD8)","v":8},null,null,null,{"$f":"N8","v":12},{"$f":"COUNTIF(L29:L35,AI8)","v":6},null,null,null,{"$f":"N8","v":12},{"$f":"COUNTIF(L36:L42,AN8)","v":6},null,null,null,{"$f":"N8","v":12},{"$f":"COUNTIF(L43:L49,AS8)","v":7}]
[11,190,21,197,null,null,null,null,null,null,0,12,null,21,{"$f":"COUNTIF($L$7:$L$500,N9)","v":0},{"$f":"O9/$Q$4","v":0},{"$f":"IF(P9=0,0,(P9*((LOG(P9))/LOG(2))))","v":0},null,null,{"$f":"N9","v":21},{"$f":"COUNTIF(L7:L13,T9)","v":0},{"$f":"U9/(W4-U8)","v":0},{"$f":"IF(V9=0,0,(V9*((LOG(V9))/LOG(2))))","v":0},null,{"$f":"N9","v":21},{"$f":"COUNTIF(L14:L20,Y9)","v":0},{"$f":"Z9/(AB4-Z8)","v":{"$error":"#DIV/0!"}},{"$f":"IF(AA9=0,0,(AA9*((LOG(AA9))/LOG(2))))","v":{"$error":"#DIV/0!"}},null,{"$f":"N9","v":21},{"$f":"COUNTIF(L21:L28,AD9)","v":0},{"$f":"AE9/(AG4-AE8)","v":{"$error":"#DIV/0!"}},{"$f":"IF(AF9=0,0,(AF9*((LOG(AF9))/LOG(2))))","v":{"$error":"#DIV/0!"}},null,{"$f":"N9","v":21},{"$f":"COUNTIF(L29:L35,AI9)","v":0},{"$f":"AJ9/(AL4-AJ8)","v":0},{"$f":"IF(AK9=0,0,(AK9*((LOG(AK9))/LOG(2))))","v":0},null,{"$f":"N9","v":21},{"$f":"COUNTIF(L36:L42,AN9)","v":0},{"$f":"AO9/(AQ4-AO8)","v":0},{"$f":"IF(AP9=0,0,(AP9*((LOG(AP9))/LOG(2))))","v":0},null,{"$f":"N9","v":21},{"$f":"COUNTIF(L43:L49,AS9)","v":0},{"$f":"AT9/(AV4-AT8)","v":{"$error":"#DIV/0!"}},{"$f":"IF(AU9=0,0,(AU9*((LOG(AU9))/LOG(2))))","v":{"$error":"#DIV/0!"}}]
[11,282,21,286,null,null,null,null,null,null,0,12,null,22,{"$f":"COUNTIF($L$7:$L$500,N10)","v":2},{"$f":"O10/$Q$4","v":4.6511627906976744E-2},{"$f":"IF(P10=0,0,(P10*((LOG(P10))/LOG(2))))","v":-0.20587277928846967},null,null,{"$f":"N10","v":22},{"$f":"COUNTIF(L7:L13,T10)","v":0},{"$f":"U10/(W4-U8)","v":0},{"$f":"IF(V10=0,0,(V10*((LOG(V10))/LOG(2))))","v":0},null,{"$f":"N10","v":22},{"$f":"COUNTIF(L14:L20,Y10)","v":0},{"$f":"Z10/(AB4-Z8)","v":{"$error":"#DIV/0!"}},{"$f":"IF(AA10=0,0,(AA10*((LOG(AA10))/LOG(2))))","v":{"$error":"#DIV/0!"}},null,{"$f":"N10","v":22},{"$f":"COUNTIF(L21:L28,AD10)","v":0},{"$f":"AE10/(AG4-AE8)","v":{"$error":"#DIV/0!"}},{"$f":"IF(AF10=0,0,(AF10*((LOG(AF10))/LOG(2))))","v":{"$error":"#DIV/0!"}},null,{"$f":"N10","v":22},{"$f":"COUNTIF(L29:L35,AI10)","v":1},{"$f":"AJ10/(AL4-AJ8)","v":1},{"$f":"IF(AK10=0,0,(AK10*((LOG(AK10))/LOG(2))))","v":0},null,{"$f":"N10","v":22},{"$f":"COUNTIF(L36:L42,AN10)","v":1},{"$f":"AO10/(AQ4-AO8)","v":1},{"$f":"IF(AP10=0,0,(AP10*((LOG(AP10))/LOG(2))))","v":0},null,{"$f":"N10","v":22},{"$f":"COUNTIF(L43:L49,AS10)","v":0},{"$f":"AT10/(AV4-AT8)","v":{"$error":"#DIV/0!"}},{"$f":"IF(AU10=0,0,(AU10*((LOG(AU10))/LOG(2))))","v":{"$error":"#DIV/0!"}}]
[11,372,21,378,null,null,null,null,null,null,0,12,null,null,null,null,null,null,null,{"$f":"N11","v":0},{"$f":"COUNTIF(L7:L13,T11)","v":0},{"$f":"U11/(W4-U8)","v":0},{"$f":"IF(V11=0,0,(V11*((LOG(V11))/LOG(2))))","v":0},null,{"$f":"N11","v":0},{"$f":"COUNTIF(L14:L20,Y11)","v":0},{"$f":"Z11/(AB4-Z8)","v":{"$error":"#DIV/0!"}},{"$f":"IF(AA11=0,0,(AA11*((LOG(AA11))/LOG(2))))","v":{"$error":"#DIV/0!"}},null,{"$f":"N11","v":0},{"$f":"COUNTIF(L21:L28,AD11)","v":0},{"$f":"AE11/(AG4-AE8)","v":{"$error":"#DIV/0!"}},{"$f":"IF(AF11=0,0,(AF11*((LOG(AF11))/LOG(2))))","v":{"$error":"#DIV/0!"}},null,{"$f":"N11","v":0},{"$f":"COUNTIF(L29:L35,AI11)","v":0},{"$f":"AJ11/(AL4-AJ8)","v":0},{"$f":"IF(AK11=0,0,(AK11*((LOG(AK11))/LOG(2))))","v":0},null,{"$f":"N11","v":0},{"$f":"COUNTIF(L36:L42,AN11)","v":0},{"$f":"AO11/(AQ4-AO8)","v":0},{"$f":"IF(AP11=0,0,(AP11*((LOG(AP11))/LOG(2))))","v":0},null,{"$f":"N11","v":0},{"$f":"COUNTIF(L43:L49,AS11)","v":0},{"$f":"AT11/(AV4-AT8)","v":{"$error":"#DIV/0!"}},{"$f":"IF(AU11=0,0,(AU11*((LOG(AU11))/LOG(2))))","v":{"$error":"#DIV/0!"}}]
[11,463,21,469,null,null,null,null,null,null,0,12,null,null,null,null,null,null,null,{"$f":"N12","v":0},{"$f":"COUNTIF(L7:L13,T12)","v":0},{"$f":"U12/(W4-U8)","v":0},{"$f":"IF(V12=0,0,(V12*((LOG(V12))/LOG(2))))","v":0},null,{"$f":"N12","v":0},{"$f":"COUNTIF(L14:L20,Y12)","v":0},{"$f":"Z12/(AB4-Z8)","v":{"$error":"#DIV/0!"}},{"$f":"IF(AA12=0,0,(AA12*((LOG(AA12))/LOG(2))))","v":{"$error":"#DIV/0!"}},null,{"$f":"N12","v":0},{"$f":"COUNTIF(L21:L28,AD12)","v":0},{"$f":"AE12/(AG4-AE8)","v":{"$error":"#DIV/0!"}},{"$f":"IF(AF12=0,0,(AF12*((LOG(AF12))/LOG(2))))","v":{"$error":"#DIV/0!"}},null,{"$f":"N12","v":0},{"$f":"COUNTIF(L29:L35,AI12)","v":0},{"$f":"AJ12/(AL4-AJ8)","v":0},{"$f":"IF(AK12=0,0,(AK12*((LOG(AK12))/LOG(2))))","v":0},null,{"$f":"N12","v":0},{"$f":"COUNTIF(L36:L42,AN12)","v":0},{"$f":"AO12/(AQ4-AO8)","v":0},{"$f":"IF(AP12=0,0,(AP12*((LOG(AP12))/LOG(2))))","v":0},null,{"$f":"N12","v":0},{"$f":"COUNTIF(L43:L49,AS12)","v":0},{"$f":"AT12/(AV4-AT8)","v":{"$error":"#DIV/0!"}},{"$f":"IF(AU12=0,0,(AU12*((LOG(AU12))/LOG(2))))","v":{"$error":"#DIV/0!"}}]
[11,555,12,572,null,null,null,null,null,null,0,11,null,null,null,null,null,null,null,{"$f":"N13","v":0},{"$f":"COUNTIF(L7:L13,T13)","v":0},{"$f":"U13/(W4-U8)","v":0},{"$f":"IF(V13=0,0,(V13*((LOG(V13))/LOG(2))))","v":0},null,{"$f":"N13","v":0},{"$f":"COUNTIF(L14:L20,Y13)","v":0},{"$f":"Z13/(AB4-Z8)","v":{"$error":"#DIV/0!"}},{"$f":"IF(AA13=0,0,(AA13*((LOG(AA13))/LOG(2))))","v":{"$error":"#DIV/0!"}},null,{"$f":"N13","v":0},{"$f":"COUNTIF(L21:L28,AD13)","v":0},{"$f":"AE13/(AG4-AE8)","v":{"$error":"#DIV/0!"}},{"$f":"IF(AF13=0,0,(AF13*((LOG(AF13))/LOG(2))))","v":{"$error":"#DIV/0!"}},null,{"$f":"N13","v":0},{"$f":"COUNTIF(L29:L35,AI13)","v":0},{"$f":"AJ13/(AL4-AJ8)","v":0},{"$f":"IF(AK13=0,0,(AK13*((LOG(AK13))/LOG(2))))","v":0},null,{"$f":"N13","v":0},{"$f":"COUNTIF(L36:L42,AN13)","v":0},{"$f":"AO13/(AQ4-AO8)","v":0},{"$f":"IF(AP13=0,0,(AP13*((LOG(AP13))/LOG(2))))","v":0},null,{"$f":"N13","v":0},{"$f":"COUNTIF(L43:L49,AS13)","v":0},{"$f":"AT13/(AV4-AT8)","v":{"$error":"#DIV/0!"}},{"$f":"IF(AU13=0,0,(AU13*((LOG(AU13))/LOG(2))))","v":{"$error":"#DIV/0!"}}]
[11,668,21,673,null,null,null,null,null,null,0,12,null,null,null,null,null,null,null,{"$f":"N14","v":0},{"$f":"COUNTIF(L7:L13,T14)","v":0},{"$f":"U14/(W4-U8)","v":0},{"$f":"IF(V14=0,0,(V14*((LOG(V14))/LOG(2))))","v":0},null,{"$f":"N14","v":0},{"$f":"COUNTIF(L14:L20,Y14)","v":0},{"$f":"Z14/(AB4-Z8)","v":{"$error":"#DIV/0!"}},{"$f":"IF(AA14=0,0,(AA14*((LOG(AA14))/LOG(2))))","v":{"$error":"#DIV/0!"}},null,{"$f":"N14","v":0},{"$f":"COUNTIF(L21:L28,AD14)","v":0},{"$f":"AE14/(AG4-AE8)","v":{"$error":"#DIV/0!"}},{"$f":"IF(AF14=0,0,(AF14*((LOG(AF14))/LOG(2))))","v":{"$error":"#DIV/0!"}},null,{"$f":"N14","v":0},{"$f":"COUNTIF(L29:L35,AI14)","v":0},{"$f":"AJ14/(AL4-AJ8)","v":0},{"$f":"IF(AK14=0,0,(AK14*((LOG(AK14))/LOG(2))))","v":0},null,{"$f":"N14","v":0},{"$f":"COUNTIF(L36:L42,AN14)","v":0},{"$f":"AO14/(AQ4-AO8)","v":0},{"$f":"IF(AP14=0,0,(AP14*((LOG(AP14))/LOG(2))))","v":0},null,{"$f":"N14","v":0},{"$f":"COUNTIF(L43:L49,AS14)","v":0},{"$f":"AT14/(AV4-AT8)","v":{"$error":"#DIV/0!"}},{"$f":"IF(AU14=0,0,(AU14*((LOG(AU14))/LOG(2))))","v":{"$error":"#DIV/0!"}}]
[11,760,21,767,null,null,null,null,null,null,0,12,null,null,null,{"$f":"SUM(P7:P14)","v":1},{"$f":"-SUM(Q7:Q14)","v":0.4291223408533888},null,null,null,null,{"$f":"SUM(V7:V14)","v":1},{"$f":"-SUM(W7:W14)","v":0},null,null,null,{"$f":"SUM(AA7:AA14)","v":{"$error":"#DIV/0!"}},{"$f":"-SUM(AB7:AB14)","v":{"$error":"#DIV/0!"}},null,null,null,{"$f":"SUM(AF7:AF14)","v":{"$error":"#DIV/0!"}},{"$f":"-SUM(AG7:AG14)","v":{"$error":"#DIV/0!"}},null,null,null,{"$f":"SUM(AK7:AK14)","v":1},{"$f":"-SUM(AL7:AL14)","v":0},null,null,null,{"$f":"SUM(AP7:AP14)","v":1},{"$f":"-SUM(AQ7:AQ14)","v":0},null,null,null,{"$f":"SUM(AU7:AU14)","v":{"$error":"#DIV/0!"}},{"$f":"-SUM(AV7:AV14)","v":{"$error":"#DIV/0!"}}]
[11,853,21,857,null,null,null,null,null,null,0,12,null,null,null,"U=",{"$f":"Q15/(LOG(Q4)/LOG(2))","v":7.9082455473912391E-2},null,null,null,null,"U1=",{"$f":"W15/(LOG(W4)/LOG(2))","v":0},null,null,null,"U2=",{"$f":"AB15/(LOG(AB4)/LOG(2))","v":{"$error":"#DIV/0!"}},null,null,null,"U3=",{"$f":"AG15/(LOG(AG4)/LOG(2))","v":{"$error":"#DIV/0!"}},null,null,null,"U4=",{"$f":"AL15/(LOG(AL4)/LOG(2))","v":0},null,null,null,"U5=",{"$f":"AQ15/(LOG(AQ4)/LOG(2))","v":0},null,null,null,"U6=",{"$f":"AV15/(LOG(AV4)/LOG(2))","v":{"$error":"#DIV/0!"}}]
[11,942,21,948,null,null,null,null,null,null,0,12]
[11,1034,21,1038,null,null,null,null,null,null,0,12]
[11,1126,21,1132,null,null,null,null,null,null,0,12,null,"Total Target Seq"]
[11,1218,21,1224,null,null,null,null,null,null,0,12,null,{"$f":"COUNTIF(L7:L49,G3)","v":40},null,7,7,8,7,7,7]
[11,1308,21,1314,null,null,null,null,null,null,0,12,null,null,null,"% of reinforcement given in 6 equal intervals based on number of trials "]
[11,1399,21,1406,null,null,null,null,null,null,0,12,null,null,null,"%_1","%_2","%_3","%_4","%_5","%_6"]
[11,1492,21,1498,null,null,null,null,null,null,0,12,null,null,"target sequence",{"$f":"$G$3","v":12},{"$f":"$G$3","v":12},{"$f":"$G$3","v":12},{"$f":"$G$3","v":12},{"$f":"$G$3","v":12},{"$f":"$G$3","v":12}]
[11,1584,21,1589,null,null,null,null,null,null,0,12,null,null,"total reinforcement",{"$f":"U8","v":6},{"$f":"Z8","v":7},{"$f":"AE8","v":8},{"$f":"AJ8","v":6},{"$f":"AO8","v":6},{"$f":"AT8","v":7}]
[11,1674,21,1678,null,null,null,null,null,null,0,12,null,null,"% target"]
[11,1763,21,1768,null,null,null,null,null,null,0,12,null,null,"CCRF"]
[11,1855,21,1861,null,null,null,null,null,null,0,12,null,null,"% CCRf"]
[11,1944,21,1953,null,null,null,null,null,null,0,12,null,null,"average response rate",{"$f":"D13/P20","v":81.714285714285708},{"$f":"(D20-D13)/Q20","v":93.142857142857139},{"$f":"(D28-D20)/R20","v":91.125},{"$f":"(D35-D28)/S20","v":101.71428571428571},{"$f":"(D42-D35)/T20","v":99.285714285714292},{"$f":"(D49-D42)/U20","v":93.857142857142861}]
[11,2040,21,2044,null,null,null,null,null,null,0,12]
[11,2131,21,2136,null,null,null,null,null,null,0,12]
[11,2221,21,2226,null,null,null,null,null,null,0,12]
[11,2312,21,2317,null,null,null,null,null,null,0,12]
[22,2414,23,2471,null,null,null,null,null,null,0,22]
[11,2568,21,2572,null,null,null,null,null,null,0,12]
[11,2658,21,2665,null,null,null,null,null,null,0,12]
[11,2750,21,2755,null,null,null,null,null,null,0,12]
[11,2842,21,2850,null,null,null,null,null,null,0,12]
[11,2935,21,2940,null,null,null,null,null,null,0,12]
[11,3026,21,3031,null,null,null,null,null,null,0,12]
[11,3116,21,3121,null,null,null,null,null,null,0,12]
[22,3218,23,3256,null,null,null,null,null,null,0,22]
[11,3353,21,3360,null,null,null,null,null,null,0,12]
[11,3447,21,3452,null,null,null,null,null,null,0,12]
[11,3541,21,3549,null,null,null,null,null,null,0,12]
[11,3635,21,3642,null,null,null,null,null,null,0,12]
[11,3730,21,3738,null,null,null,null,null,null,0,12]
[11,3825,21,3832,null,null,null,null,null,null,0,12]
[11,3918,21,3926,null,null,null,null,null,null,0,12]
[11,4012,21,4017,null,null,null,null,null,null,1,12]