{"text_format":"1","workbook":"xlsx","n_sheets":33,"sheets":["Sample Report","Summary","Start","!2011-05-05_09h39m.Subject 52 p","!2011-05-06_08h52m.Subject 52 p","!2011-05-07_09h34m.Subject 52 p","!2011-05-08_09h18m.Subject 52 p","!2011-05-09_08h56m.Subject 52 p","!2011-05-10_08h14m.Subject 52 p","!2011-05-11_08h02m.Subject 52 p","!2011-05-12_08h35m.Subject 52 p","!2011-05-13_09h26m.Subject 52 p","!2011-05-14_10h27m.Subject 52 p","!2011-05-15_08h55m.Subject 52 p","!2011-05-16_08h38m.Subject 52 p","!2011-05-17_09h27m.Subject 52 p","!2011-05-18_08h52m.Subject 52 p","!2011-05-19_09h16m.Subject 52","!2011-05-20_09h21m.Subject 52","!2011-05-21_08h39m.Subject 52","!2011-05-22_08h49m.Subject 52","!2011-05-23_08h30m.Subject 52","!2011-05-24_09h55m.Subject 52","!2011-05-25_08h23m.Subject 52","!2011-05-27_08h39m.Subject 52","!2011-05-28_13h32m.Subject 52","!2011-05-29_08h02m.Subject 52","!2011-05-30_08h46m.Subject 52","!2011-05-31_09h38m.Subject 52","!2011-06-02_10h06m.Subject 52","!2011-06-03_09h32m.Subject 52","!2011-06-04_10h40m.Subject 52","!2011-06-05_09h58m.Subject 52"],"not_rendered":{"charts":0,"images":0,"macros":1,"external_links":0,"defined_names":0,"comments":0,"pivot_tables":0},"unopened":[],"bounds":{"document_bytes":16777216,"sheet_cells":100000,"rows_first":2000,"rows_last":500,"rows_between":2000,"halvings":0,"cell_chars":16384,"cell_head_chars":4096},"cells_cut":0,"cells_raw":0,"read":"whole","date_system":"1900"}

{"sheet":"Sample Report","index":0,"n_rows":12,"n_cols":11,"rows_kept":12,"cut":false,"hidden":true,"merged":[[7,0,7,6]]}
[]
["Date"]
["Hen"]
["Program"]
["Start at 999999"]
["Sequence component 1","Time 1","Seqeunce Component 2","Time 2","Seqeunce Component 3","Time 3","Correct   0 = No 1=Yes",null,null,"Seqeunce","Time"]
[12,7,12,42,13,18,"if 77 new line,                                  if 31 or 41 = yes new line on 77, ",null,null,"=string of Seqeunce compponent 1, 2 & 3","=time 3"]
["This continues until ther is a 1 on its own to indicate start of summary data"]
[null,null,null,null,null,null,null,null,null,"10-19 =1"]
["Summary Data ",null,null,null,null,null,null,null,null,"20-29 =2"]
["Correct","Incorrect","Rft","total","Av Correct","Av Incorrect","Percent correct","Time",null,"in this example the seqeunce would be 111"]
[40,33,40,73,23.95,15,54,806]

{"sheet":"Summary","index":1,"n_rows":32,"n_cols":25,"rows_kept":32,"cut":false,"hidden":false,"merged":[]}
[]
["Day","Date","Average Response Rate","Target %","RF for non correct sequence","U Value",null,null,null,null,"Block 1","Block 2","Block 3","Block 4","Block 5","Block 6"]
[1,{"$f":"'!2011-05-05_09h39m.Subject 52 p'!B2:C2","v":"2011-05-05"},{"$f":"('!2011-05-05_09h39m.Subject 52 p'!F196/60)/'!2011-05-05_09h39m.Subject 52 p'!Q3","v":2.081588132635253},{"$f":"'!2011-05-05_09h39m.Subject 52 p'!N20/'!2011-05-05_09h39m.Subject 52 p'!Q3","v":1.0471204188481676E-2},{"$f":"SUM('!2011-05-05_09h39m.Subject 52 p'!L20:Q20)/'!2011-05-05_09h39m.Subject 52 p'!Q3","v":0.92670157068062831},{"$f":"'!2011-05-05_09h39m.Subject 52 p'!Q16","v":0.25834701872967525},null,null,null,"Average Response Rate",{"$f":"AVERAGE(C3:C7)","v":2.7059638301151816},{"$f":"AVERAGE(C8:C12)","v":3.1725747651344536},{"$f":"AVERAGE(C13:C17)","v":2.0439583173610147},{"$f":"AVERAGE(C18:C22)","v":2.0975592243777728},{"$f":"AVERAGE(C23:C27)","v":1.966133157705912},{"$f":"AVERAGE(C28:C32)","v":1.843201280893344}]
[2,{"$f":"'!2011-05-06_08h52m.Subject 52 p'!B2:C2","v":"2011-05-06"},{"$f":"('!2011-05-06_08h52m.Subject 52 p'!F132/60)/'!2011-05-06_08h52m.Subject 52 p'!Q3","v":3.1691798941798943},{"$f":"'!2011-05-06_08h52m.Subject 52 p'!N20/'!2011-05-06_08h52m.Subject 52 p'!Q3","v":7.9365079365079361E-3},{"$f":"SUM('!2011-05-06_08h52m.Subject 52 p'!L20:Q20)/'!2011-05-06_08h52m.Subject 52 p'!Q3","v":2.0158730158730158},{"$f":"'!2011-05-06_08h52m.Subject 52 p'!Q16","v":0.35578075890444316},null,null,null,"Target %",{"$f":"AVERAGE(D3:D7)","v":5.53255112708144E-2},{"$f":"AVERAGE(D8:D12)","v":0.14194331940789423},{"$f":"AVERAGE(D13:D17)","v":0.13500194771638269},{"$f":"AVERAGE(D18:D22)","v":0.14551413640123317},{"$f":"AVERAGE(D23:D27)","v":8.4721990268877237E-2},{"$f":"AVERAGE(D28:D32)","v":7.7777980566926891E-2}]
[3,{"$f":"'!2011-05-07_09h34m.Subject 52 p'!B2:C2","v":"2011-05-07"},{"$f":"('!2011-05-07_09h34m.Subject 52 p'!F153/60)/'!2011-05-07_09h34m.Subject 52 p'!Q3","v":2.7054421768707484},{"$f":"'!2011-05-07_09h34m.Subject 52 p'!N20/'!2011-05-07_09h34m.Subject 52 p'!Q3","v":2.7210884353741496E-2},{"$f":"SUM('!2011-05-07_09h34m.Subject 52 p'!L20:Q20)/'!2011-05-07_09h34m.Subject 52 p'!Q3","v":1.870748299319728},{"$f":"'!2011-05-07_09h34m.Subject 52 p'!Q16","v":0.32408881878914342},null,null,null,"CCRF",{"$f":"AVERAGE(E3:E7)","v":1.7617783286355237},{"$f":"AVERAGE(E8:E12)","v":3.4343608353124679},{"$f":"AVERAGE(E13:E17)","v":1.7623281767944583},{"$f":"AVERAGE(E18:E22)","v":2.1133545755319947},{"$f":"AVERAGE(E23:E27)","v":2.0618573903769204},{"$f":"AVERAGE(E28:E32)","v":2.436026933885874}]
[4,{"$f":"'!2011-05-08_09h18m.Subject 52 p'!B2:C2","v":"2011-05-08"},{"$f":"('!2011-05-08_09h18m.Subject 52 p'!F142/60)/'!2011-05-08_09h18m.Subject 52 p'!Q3","v":2.9321078431372549},{"$f":"'!2011-05-08_09h18m.Subject 52 p'!N20/'!2011-05-08_09h18m.Subject 52 p'!Q3","v":5.8823529411764705E-2},{"$f":"SUM('!2011-05-08_09h18m.Subject 52 p'!L20:Q20)/'!2011-05-08_09h18m.Subject 52 p'!Q3","v":2.0220588235294117},{"$f":"'!2011-05-08_09h18m.Subject 52 p'!Q16","v":0.31800907059012712},null,null,null,"U Value",{"$f":"AVERAGE(F3:F7)","v":0.31323693405149539},{"$f":"AVERAGE(F8:F12)","v":0.35952966003375419},{"$f":"AVERAGE(F13:F17)","v":0.30818373863729276},{"$f":"AVERAGE(F18:F22)","v":0.27766171836269049},{"$f":"AVERAGE(F23:F27)","v":0.29246022483212536},{"$f":"AVERAGE(F28:F32)","v":0.24608838852758855}]
[5,{"$f":"'!2011-05-09_08h56m.Subject 52 p'!B2:C2","v":"2011-05-09"},{"$f":"('!2011-05-09_08h56m.Subject 52 p'!F157/60)/'!2011-05-09_08h56m.Subject 52 p'!Q3","v":2.6415011037527596},{"$f":"'!2011-05-09_08h56m.Subject 52 p'!N20/'!2011-05-09_08h56m.Subject 52 p'!Q3","v":0.17218543046357615},{"$f":"SUM('!2011-05-09_08h56m.Subject 52 p'!L20:Q20)/'!2011-05-09_08h56m.Subject 52 p'!Q3","v":1.9735099337748345},{"$f":"'!2011-05-09_08h56m.Subject 52 p'!Q16","v":0.30995900324408798}]
[6,{"$f":"'!2011-05-10_08h14m.Subject 52 p'!B2:C2","v":"2011-05-10"},{"$f":"('!2011-05-10_08h14m.Subject 52 p'!F121/60)/'!2011-05-10_08h14m.Subject 52 p'!Q3","v":3.4526086956521742},{"$f":"'!2011-05-10_08h14m.Subject 52 p'!N20/'!2011-05-10_08h14m.Subject 52 p'!Q3","v":0.17391304347826086},{"$f":"SUM('!2011-05-10_08h14m.Subject 52 p'!L20:Q20)/'!2011-05-10_08h14m.Subject 52 p'!Q3","v":1.5652173913043479},{"$f":"'!2011-05-10_08h14m.Subject 52 p'!Q16","v":0.34764774790076974}]
[7,{"$f":"'!2011-05-11_08h02m.Subject 52 p'!B2:C2","v":"2011-05-11"},{"$f":"('!2011-05-11_08h02m.Subject 52 p'!F28/60)/'!2011-05-11_08h02m.Subject 52 p'!Q3","v":5.6469696969696974},{"$f":"'!2011-05-11_08h02m.Subject 52 p'!N20/'!2011-05-11_08h02m.Subject 52 p'!Q3","v":9.0909090909090912E-2},{"$f":"SUM('!2011-05-11_08h02m.Subject 52 p'!L20:Q20)/'!2011-05-11_08h02m.Subject 52 p'!Q3","v":10.5},{"$f":"'!2011-05-11_08h02m.Subject 52 p'!Q16","v":0.50804306840790736},null,2.7059638301151816,3.1725747651344536,2.0439583173610147,2.0975592243777728,1.966133157705912,1.843201280893344,5.53255112708144E-2,0.14194331940789423,0.13500194771638269,0.14551413640123317,8.4721990268877237E-2,7.7777980566926891E-2,0.31323693405149539,0.35952966003375419,0.30818373863729276,0.27766171836269049,0.29246022483212536,0.24608838852758855]
[8,{"$f":"'!2011-05-12_08h35m.Subject 52 p'!B2:C2","v":"2011-05-12"},{"$f":"('!2011-05-12_08h35m.Subject 52 p'!F179/60)/'!2011-05-12_08h35m.Subject 52 p'!Q3","v":2.2885057471264365},{"$f":"'!2011-05-12_08h35m.Subject 52 p'!N20/'!2011-05-12_08h35m.Subject 52 p'!Q3","v":0.1206896551724138},{"$f":"SUM('!2011-05-12_08h35m.Subject 52 p'!L20:Q20)/'!2011-05-12_08h35m.Subject 52 p'!Q3","v":1.7298850574712643},{"$f":"'!2011-05-12_08h35m.Subject 52 p'!Q16","v":0.34053354475567532}]
[9,{"$f":"'!2011-05-13_09h26m.Subject 52 p'!B2:C2","v":"2011-05-13"},{"$f":"('!2011-05-13_09h26m.Subject 52 p'!F179/60)/'!2011-05-13_09h26m.Subject 52 p'!Q3","v":2.2986512524084781},{"$f":"'!2011-05-13_09h26m.Subject 52 p'!N20/'!2011-05-13_09h26m.Subject 52 p'!Q3","v":0.13294797687861271},{"$f":"SUM('!2011-05-13_09h26m.Subject 52 p'!L20:Q20)/'!2011-05-13_09h26m.Subject 52 p'!Q3","v":1.6936416184971099},{"$f":"'!2011-05-13_09h26m.Subject 52 p'!Q16","v":0.28316863820441585}]
[10,{"$f":"'!2011-05-14_10h27m.Subject 52 p'!B2:C2","v":"2011-05-14"},{"$f":"('!2011-05-14_10h27m.Subject 52 p'!F188/60)/'!2011-05-14_10h27m.Subject 52 p'!Q3","v":2.176138433515483},{"$f":"'!2011-05-14_10h27m.Subject 52 p'!N20/'!2011-05-14_10h27m.Subject 52 p'!Q3","v":0.19125683060109289},{"$f":"SUM('!2011-05-14_10h27m.Subject 52 p'!L20:Q20)/'!2011-05-14_10h27m.Subject 52 p'!Q3","v":1.6830601092896176},{"$f":"'!2011-05-14_10h27m.Subject 52 p'!Q16","v":0.31825530090000248}]
[11,{"$f":"'!2011-05-15_08h55m.Subject 52 p'!B2:C2","v":"2011-05-15"},{"$f":"('!2011-05-15_08h55m.Subject 52 p'!F184/60)/'!2011-05-15_08h55m.Subject 52 p'!Q3","v":2.2410112359550562},{"$f":"'!2011-05-15_08h55m.Subject 52 p'!N20/'!2011-05-15_08h55m.Subject 52 p'!Q3","v":0.19101123595505617},{"$f":"SUM('!2011-05-15_08h55m.Subject 52 p'!L20:Q20)/'!2011-05-15_08h55m.Subject 52 p'!Q3","v":1.202247191011236},{"$f":"'!2011-05-15_08h55m.Subject 52 p'!Q16","v":0.34499616839955249}]
[12,{"$f":"'!2011-05-16_08h38m.Subject 52 p'!B2:C2","v":"2011-05-16"},{"$f":"('!2011-05-16_08h38m.Subject 52 p'!F125/60)/'!2011-05-16_08h38m.Subject 52 p'!Q3","v":2.0256302521008402},{"$f":"'!2011-05-16_08h38m.Subject 52 p'!N20/'!2011-05-16_08h38m.Subject 52 p'!Q3","v":8.4033613445378158E-2},{"$f":"SUM('!2011-05-16_08h38m.Subject 52 p'!L20:Q20)/'!2011-05-16_08h38m.Subject 52 p'!Q3","v":1.3613445378151261},{"$f":"'!2011-05-16_08h38m.Subject 52 p'!Q16","v":0.34060531033156577}]
[13,{"$f":"'!2011-05-17_09h27m.Subject 52 p'!B2:C2","v":"2011-05-17"},{"$f":"('!2011-05-17_09h27m.Subject 52 p'!F104/60)/'!2011-05-17_09h27m.Subject 52 p'!Q3","v":2.0037414965986393},{"$f":"'!2011-05-17_09h27m.Subject 52 p'!N20/'!2011-05-17_09h27m.Subject 52 p'!Q3","v":0.1326530612244898},{"$f":"SUM('!2011-05-17_09h27m.Subject 52 p'!L20:Q20)/'!2011-05-17_09h27m.Subject 52 p'!Q3","v":1.7142857142857142},{"$f":"'!2011-05-17_09h27m.Subject 52 p'!Q16","v":0.31985307784049027}]
[14,{"$f":"'!2011-05-18_08h52m.Subject 52 p'!B2:C2","v":"2011-05-18"},{"$f":"('!2011-05-18_08h52m.Subject 52 p'!F68/60)/'!2011-05-18_08h52m.Subject 52 p'!Q3","v":1.9594086021505377},{"$f":"'!2011-05-18_08h52m.Subject 52 p'!N20/'!2011-05-18_08h52m.Subject 52 p'!Q3","v":8.0645161290322578E-2},{"$f":"SUM('!2011-05-18_08h52m.Subject 52 p'!L20:Q20)/'!2011-05-18_08h52m.Subject 52 p'!Q3","v":2.3870967741935485},{"$f":"'!2011-05-18_08h52m.Subject 52 p'!Q16","v":0.24870722869877568}]
[15,{"$f":"'!2011-05-19_09h16m.Subject 52'!B2:C2","v":"2011-05-19"},{"$f":"('!2011-05-19_09h16m.Subject 52'!F81/60)/'!2011-05-19_09h16m.Subject 52'!Q3","v":1.99},{"$f":"'!2011-05-19_09h16m.Subject 52'!N20/'!2011-05-19_09h16m.Subject 52'!Q3","v":0.18666666666666668},{"$f":"SUM('!2011-05-19_09h16m.Subject 52'!L20:Q20)/'!2011-05-19_09h16m.Subject 52'!Q3","v":2.1466666666666665},{"$f":"'!2011-05-19_09h16m.Subject 52'!Q16","v":0.28675690791607966}]
[16,{"$f":"'!2011-05-20_09h21m.Subject 52'!B2:C2","v":"2011-05-20"},{"$f":"('!2011-05-20_09h21m.Subject 52'!F68/60)/'!2011-05-20_09h21m.Subject 52'!Q3","v":1.9876344086021505},{"$f":"'!2011-05-20_09h21m.Subject 52'!N20/'!2011-05-20_09h21m.Subject 52'!Q3","v":0.24193548387096775},{"$f":"SUM('!2011-05-20_09h21m.Subject 52'!L20:Q20)/'!2011-05-20_09h21m.Subject 52'!Q3","v":2.5483870967741935},{"$f":"'!2011-05-20_09h21m.Subject 52'!Q16","v":0.2300486553736909}]
[17,{"$f":"'!2011-05-21_08h39m.Subject 52'!B2:C2","v":"2011-05-21"},{"$f":"('!2011-05-21_08h39m.Subject 52'!F94/60)/'!2011-05-21_08h39m.Subject 52'!Q3","v":2.1304924242424241},{"$f":"'!2011-05-21_08h39m.Subject 52'!N20/'!2011-05-21_08h39m.Subject 52'!Q3","v":0.125},{"$f":"SUM('!2011-05-21_08h39m.Subject 52'!L20:Q20)/'!2011-05-21_08h39m.Subject 52'!Q3","v":1.8409090909090908},{"$f":"'!2011-05-21_08h39m.Subject 52'!Q16","v":0.3004565089107557}]
[18,{"$f":"'!2011-05-22_08h49m.Subject 52'!B2:C2","v":"2011-05-22"},{"$f":"('!2011-05-22_08h49m.Subject 52'!F86/60)/'!2011-05-22_08h49m.Subject 52'!Q3","v":2.1339583333333332},{"$f":"'!2011-05-22_08h49m.Subject 52'!N20/'!2011-05-22_08h49m.Subject 52'!Q3","v":0.16250000000000001},{"$f":"SUM('!2011-05-22_08h49m.Subject 52'!L20:Q20)/'!2011-05-22_08h49m.Subject 52'!Q3","v":1.8875},{"$f":"'!2011-05-22_08h49m.Subject 52'!Q16","v":0.31821603932039905}]
[19,{"$f":"'!2011-05-23_08h30m.Subject 52'!B2:C2","v":"2011-05-23"},{"$f":"('!2011-05-23_08h30m.Subject 52'!F72/60)/'!2011-05-23_08h30m.Subject 52'!Q3","v":2.1121212121212123},{"$f":"'!2011-05-23_08h30m.Subject 52'!N20/'!2011-05-23_08h30m.Subject 52'!Q3","v":0.12121212121212122},{"$f":"SUM('!2011-05-23_08h30m.Subject 52'!L20:Q20)/'!2011-05-23_08h30m.Subject 52'!Q3","v":2.1515151515151514},{"$f":"'!2011-05-23_08h30m.Subject 52'!Q16","v":0.26557834354869403}]
[20,{"$f":"'!2011-05-24_09h55m.Subject 52'!B2:C2","v":"2011-05-24"},{"$f":"('!2011-05-24_09h55m.Subject 52'!F71/60)/'!2011-05-24_09h55m.Subject 52'!Q3","v":2.1235897435897435},{"$f":"'!2011-05-24_09h55m.Subject 52'!N20/'!2011-05-24_09h55m.Subject 52'!Q3","v":7.6923076923076927E-2},{"$f":"SUM('!2011-05-24_09h55m.Subject 52'!L20:Q20)/'!2011-05-24_09h55m.Subject 52'!Q3","v":2.1384615384615384},{"$f":"'!2011-05-24_09h55m.Subject 52'!Q16","v":0.27400904465991271}]
[21,{"$f":"'!2011-05-25_08h23m.Subject 52'!B2:C2","v":"2011-05-25"},{"$f":"('!2011-05-25_08h23m.Subject 52'!F95/60)/'!2011-05-25_08h23m.Subject 52'!Q3","v":2.148501872659176},{"$f":"'!2011-05-25_08h23m.Subject 52'!N20/'!2011-05-25_08h23m.Subject 52'!Q3","v":7.8651685393258425E-2},{"$f":"SUM('!2011-05-25_08h23m.Subject 52'!L20:Q20)/'!2011-05-25_08h23m.Subject 52'!Q3","v":1.6741573033707866},{"$f":"'!2011-05-25_08h23m.Subject 52'!Q16","v":0.34884213137244474}]
[22,{"$f":"'!2011-05-27_08h39m.Subject 52'!B2:C2","v":"2011-05-27"},{"$f":"('!2011-05-27_08h39m.Subject 52'!F73/60)/'!2011-05-27_08h39m.Subject 52'!Q3","v":1.9385572139303482},{"$f":"'!2011-05-27_08h39m.Subject 52'!N20/'!2011-05-27_08h39m.Subject 52'!Q3","v":8.9552238805970144E-2},{"$f":"SUM('!2011-05-27_08h39m.Subject 52'!L20:Q20)/'!2011-05-27_08h39m.Subject 52'!Q3","v":2.08955223880597},{"$f":"'!2011-05-27_08h39m.Subject 52'!Q16","v":0.3109766060515281}]
[23,{"$f":"'!2011-05-28_13h32m.Subject 52'!B2:C2","v":"2011-05-28"},{"$f":"('!2011-05-28_13h32m.Subject 52'!F60/60)/'!2011-05-28_13h32m.Subject 52'!Q3","v":1.8793209876543211},{"$f":"'!2011-05-28_13h32m.Subject 52'!N20/'!2011-05-28_13h32m.Subject 52'!Q3","v":0.12962962962962962},{"$f":"SUM('!2011-05-28_13h32m.Subject 52'!L20:Q20)/'!2011-05-28_13h32m.Subject 52'!Q3","v":2.5370370370370372},{"$f":"'!2011-05-28_13h32m.Subject 52'!Q16","v":0.21957283761709945}]
[24,{"$f":"'!2011-05-29_08h02m.Subject 52'!B2:C2","v":"2011-05-29"},{"$f":"('!2011-05-29_08h02m.Subject 52'!F98/60)/'!2011-05-29_08h02m.Subject 52'!Q3","v":1.9791666666666667},{"$f":"'!2011-05-29_08h02m.Subject 52'!N20/'!2011-05-29_08h02m.Subject 52'!Q3","v":5.434782608695652E-2},{"$f":"SUM('!2011-05-29_08h02m.Subject 52'!L20:Q20)/'!2011-05-29_08h02m.Subject 52'!Q3","v":1.5978260869565217},{"$f":"'!2011-05-29_08h02m.Subject 52'!Q16","v":0.34547868590108993}]
[25,{"$f":"'!2011-05-30_08h46m.Subject 52'!B2:C2","v":"2011-05-30"},{"$f":"('!2011-05-30_08h46m.Subject 52'!F62/60)/'!2011-05-30_08h46m.Subject 52'!Q3","v":1.8851190476190476},{"$f":"'!2011-05-30_08h46m.Subject 52'!N20/'!2011-05-30_08h46m.Subject 52'!Q3","v":7.1428571428571425E-2},{"$f":"SUM('!2011-05-30_08h46m.Subject 52'!L20:Q20)/'!2011-05-30_08h46m.Subject 52'!Q3","v":2.4107142857142856},{"$f":"'!2011-05-30_08h46m.Subject 52'!Q16","v":0.23743086321846446}]
[26,{"$f":"'!2011-05-31_09h38m.Subject 52'!B2:C2","v":"2011-05-31"},{"$f":"('!2011-05-31_09h38m.Subject 52'!F54/60)/'!2011-05-31_09h38m.Subject 52'!Q3","v":1.8527777777777779},{"$f":"'!2011-05-31_09h38m.Subject 52'!N20/'!2011-05-31_09h38m.Subject 52'!Q3","v":8.3333333333333329E-2},{"$f":"SUM('!2011-05-31_09h38m.Subject 52'!L20:Q20)/'!2011-05-31_09h38m.Subject 52'!Q3","v":2.75},{"$f":"'!2011-05-31_09h38m.Subject 52'!Q16","v":0.16861153287840797}]
[27,{"$f":"'!2011-06-02_10h06m.Subject 52'!B2:C2","v":"2011-06-02"},{"$f":"('!2011-06-02_10h06m.Subject 52'!F59/60)/'!2011-06-02_10h06m.Subject 52'!Q3","v":1.7773584905660378},{"$f":"'!2011-06-02_10h06m.Subject 52'!N20/'!2011-06-02_10h06m.Subject 52'!Q3","v":3.7735849056603772E-2},{"$f":"SUM('!2011-06-02_10h06m.Subject 52'!L20:Q20)/'!2011-06-02_10h06m.Subject 52'!Q3","v":2.4716981132075473},{"$f":"'!2011-06-02_10h06m.Subject 52'!Q16","v":0.21428032843672581}]
[28,{"$f":"'!2011-06-03_09h32m.Subject 52'!B2:C2","v":"2011-06-03"},{"$f":"('!2011-06-03_09h32m.Subject 52'!F68/60)/'!2011-06-03_09h32m.Subject 52'!Q3","v":1.8067204301075268},{"$f":"'!2011-06-03_09h32m.Subject 52'!N20/'!2011-06-03_09h32m.Subject 52'!Q3","v":0.14516129032258066},{"$f":"SUM('!2011-06-03_09h32m.Subject 52'!L20:Q20)/'!2011-06-03_09h32m.Subject 52'!Q3","v":2.2903225806451615},{"$f":"'!2011-06-03_09h32m.Subject 52'!Q16","v":0.27028797188017156}]
[29,{"$f":"'!2011-06-04_10h40m.Subject 52'!B2:C2","v":"2011-06-04"},{"$f":"('!2011-06-04_10h40m.Subject 52'!F61/60)/'!2011-06-04_10h40m.Subject 52'!Q3","v":1.8196969696969696},{"$f":"'!2011-06-04_10h40m.Subject 52'!N20/'!2011-06-04_10h40m.Subject 52'!Q3","v":1.8181818181818181E-2},{"$f":"SUM('!2011-06-04_10h40m.Subject 52'!L20:Q20)/'!2011-06-04_10h40m.Subject 52'!Q3","v":2.5636363636363635},{"$f":"'!2011-06-04_10h40m.Subject 52'!Q16","v":0.26762392700642579}]
[30,{"$f":"'!2011-06-05_09h58m.Subject 52'!B2:C2","v":"2011-06-05"},{"$f":"('!2011-06-05_09h58m.Subject 52'!F73/60)/'!2011-06-05_09h58m.Subject 52'!Q3","v":1.959452736318408},{"$f":"'!2011-06-05_09h58m.Subject 52'!N20/'!2011-06-05_09h58m.Subject 52'!Q3","v":0.1044776119402985},{"$f":"SUM('!2011-06-05_09h58m.Subject 52'!L20:Q20)/'!2011-06-05_09h58m.Subject 52'!Q3","v":2.1044776119402986},{"$f":"'!2011-06-05_09h58m.Subject 52'!Q16","v":0.30963818243621161}]

{"sheet":"Start","index":2,"n_rows":36,"n_cols":10,"rows_kept":36,"cut":false,"hidden":false,"merged":[]}
[null,null,null,null,null,"Use Folder 51",null,"Auto Clean Up",null,"Correct sequence"]
[null,null,null,null,null,false,null,true,null,122]
[]
["Working with Folder",null,null,null,null,null,"Process All/Or Pick A number: ALL or an integer"]
["E:\\Hen Data\\Raw Data\\52\\Phase 2 CON\\",null,null,null,null,null,"ALL"]
["Filenames:"]
["!2011-05-05_09h39m.Subject 52 phase 2",null,null,null,null,null,"Paint Cells"]
["!2011-05-06_08h52m.Subject 52 phase 2",null,null,null,null,null,false]
["!2011-05-07_09h34m.Subject 52 phase 2"]
["!2011-05-08_09h18m.Subject 52 phase 2"]
["!2011-05-09_08h56m.Subject 52 phase 2"]
["!2011-05-10_08h14m.Subject 52 phase 2"]
["!2011-05-11_08h02m.Subject 52 phase 2"]
["!2011-05-12_08h35m.Subject 52 phase 2"]
["!2011-05-13_09h26m.Subject 52 phase 2"]
["!2011-05-14_10h27m.Subject 52 phase 2"]
["!2011-05-15_08h55m.Subject 52 phase 2"]
["!2011-05-16_08h38m.Subject 52 phase 2"]
["!2011-05-17_09h27m.Subject 52 phase 2"]
["!2011-05-18_08h52m.Subject 52 phase 2"]
["!2011-05-19_09h16m.Subject 52"]
["!2011-05-20_09h21m.Subject 52"]
["!2011-05-21_08h39m.Subject 52"]
["!2011-05-22_08h49m.Subject 52"]
["!2011-05-23_08h30m.Subject 52"]
["!2011-05-24_09h55m.Subject 52"]
["!2011-05-25_08h23m.Subject 52"]
["!2011-05-27_08h39m.Subject 52"]
["!2011-05-28_13h32m.Subject 52"]
["!2011-05-29_08h02m.Subject 52"]
["!2011-05-30_08h46m.Subject 52"]
["!2011-05-31_09h38m.Subject 52"]
["!2011-06-02_10h06m.Subject 52"]
["!2011-06-03_09h32m.Subject 52"]
["!2011-06-04_10h40m.Subject 52"]
["!2011-06-05_09h58m.Subject 52"]

{"sheet":"!2011-05-05_09h39m.Subject 52 p","index":3,"n_rows":197,"n_cols":48,"rows_kept":197,"cut":false,"hidden":false,"merged":[[4,39,4,42],[5,39,5,40],[4,44,4,47],[5,44,5,45],[4,24,4,27],[5,24,5,25],[4,29,4,32],[5,29,5,30],[4,34,4,37],[5,34,5,35],[1,1,1,2],[5,13,5,14],[18,13,18,14],[19,13,19,14],[4,19,4,22],[5,19,5,20]]}
["Report for:!2011-05-05_09h39m.Subject 52 phase 2"]
["Date","2011-05-05",null,null,null,"Group",0]
["Hen",0,null,null,null,"Correct Sequence",{"$f":"Start!J2","v":122},null,null,null,null,null,null,null,null,"Total Sequences in Data",{"$f":"4994-COUNTBLANK(L7:L5000)","v":191},null,null,null,null,"Total Sequences in Block Data",{"$f":"COUNTA(L7:L38)","v":32},null,null,null,"Total Sequences in Block Data",{"$f":"COUNTA(L39:L70)","v":32},null,null,null,"Total Sequences in Block Data",{"$f":"COUNTA(L71:L101)","v":31},null,null,null,"Total Sequences in Block Data",{"$f":"COUNTA(L102:L133)","v":32},null,null,null,"Total Sequences in Block Data",{"$f":"COUNTA(L134:L165)","v":32},null,null,null,"Total Sequences in Block Data",{"$f":"COUNTA(L166:L197)","v":32}]
["Program",0,null,null,null,null,null,null,null,null,null,null,null,null,null,"Total Sequences in Summary",{"$f":"SUM(O7:O14)","v":190},null,null,null,null,"Total Sequences in Block Summary",{"$f":"SUM(U7:U14)","v":32},null,null,null,"Total Sequences in Block Summary",{"$f":"SUM(Z7:Z14)","v":32},null,null,null,"Total Sequences in Block Summary",{"$f":"SUM(AE7:AE14)","v":31},null,null,null,"Total Sequences in Block Summary",{"$f":"SUM(AJ7:AJ14)","v":32},null,null,null,"Total Sequences in Block Summary",{"$f":"SUM(AO7:AO14)","v":32},null,null,null,"Total Sequences in Block Summary",{"$f":"SUM(AT7:AT14)","v":31}]
[null,null,null,null,null,null,null,null,null,null,null,null,null,null,null,null,null,null,null,"Block 1",null,null,null,null,"Block 2",null,null,null,null,"Block 3",null,null,null,null,"Block 4",null,null,null,null,"Block 5",null,null,null,null,"Block 6"]
["Sequence\nComponent\n1","Time\n1","Sequence\nComponent\n2","Time\n2","Sequence\nComponent\n3","Time\n3","Sequence\nComponent\n4","Time\n4","Sequence\nComponent\n5","Time\n5","Correct?\n0=No 1=Yes","Sequence",null,"Frequency",null,"Relative Frequency","Variability",null,null,"Frequency",null,"Relative Frequency","Variability",null,"Frequency",null,"Relative Frequency","Variability",null,"Frequency",null,"Relative Frequency","Variability",null,"Frequency",null,"Relative Frequency","Variability",null,"Frequency",null,"Relative Frequency","Variability",null,"Frequency",null,"Relative Frequency","Variability"]
[11,44,11,79,12,93,null,null,null,null,0,111,null,111,{"$f":"COUNTIF($L$7:$L$500,N7)","v":27},{"$f":"O7/$Q$4","v":0.14210526315789473},{"$f":"IF(P7=0,0,(P7*((LOG(P7))/LOG(2))))","v":-0.40002178350801021},null,null,{"$f":"N7","v":111},{"$f":"COUNTIF(L7:L38,T7)","v":10},{"$f":"U7/(W4-U10)","v":0.3125},{"$f":"IF(V7=0,0,(V7*((LOG(V7))/LOG(2))))","v":-0.52439747034769923},null,{"$f":"N7","v":111},{"$f":"COUNTIF(L39:L70,Y7)","v":7},{"$f":"Z7/(AB4-Z10)","v":0.22580645161290322},{"$f":"IF(AA7=0,0,(AA7*((LOG(AA7))/LOG(2))))","v":-0.48477063607435156},null,{"$f":"N7","v":111},{"$f":"COUNTIF(L71:L101,AD7)","v":4},{"$f":"AE7/(AG4-AE10)","v":0.12903225806451613},{"$f":"IF(AF7=0,0,(AF7*((LOG(AF7))/LOG(2))))","v":-0.38118662069508069},null,{"$f":"N7","v":111},{"$f":"COUNTIF(L102:L133,AI7)","v":3},{"$f":"AJ7/(AL4-AJ10)","v":9.6774193548387094E-2},{"$f":"IF(AK7=0,0,(AK7*((LOG(AK7))/LOG(2))))","v":-0.32605488480635986},null,{"$f":"N7","v":111},{"$f":"COUNTIF(L134:L165,AN7)","v":2},{"$f":"AO7/(AQ4-AO10)","v":6.25E-2},{"$f":"IF(AP7=0,0,(AP7*((LOG(AP7))/LOG(2))))","v":-0.25},null,{"$f":"N7","v":111},{"$f":"COUNTIF(L166:L197,AS7)","v":1},{"$f":"AT7/(AV4-AT10)","v":3.2258064516129031E-2},{"$f":"IF(AU7=0,0,(AU7*((LOG(AU7))/LOG(2))))","v":-0.15981278420602821}]
[11,193,11,201,12,210,null,null,null,null,0,111,null,112,{"$f":"COUNTIF($L$7:$L$500,N8)","v":6},{"$f":"O8/$Q$4","v":3.1578947368421054E-2},{"$f":"IF(P8=0,0,(P8*((LOG(P8))/LOG(2))))","v":-0.15741767708241444},null,null,{"$f":"N8","v":112},{"$f":"COUNTIF(L7:L38,T8)","v":1},{"$f":"U8/(W4-U10)","v":3.125E-2},{"$f":"IF(V8=0,0,(V8*((LOG(V8))/LOG(2))))","v":-0.15625},null,{"$f":"N8","v":112},{"$f":"COUNTIF(L39:L70,Y8)","v":1},{"$f":"Z8/(AB4-Z10)","v":3.2258064516129031E-2},{"$f":"IF(AA8=0,0,(AA8*((LOG(AA8))/LOG(2))))","v":-0.15981278420602821},null,{"$f":"N8","v":112},{"$f":"COUNTIF(L71:L101,AD8)","v":1},{"$f":"AE8/(AG4-AE10)","v":3.2258064516129031E-2},{"$f":"IF(AF8=0,0,(AF8*((LOG(AF8))/LOG(2))))","v":-0.15981278420602821},null,{"$f":"N8","v":112},{"$f":"COUNTIF(L102:L133,AI8)","v":0},{"$f":"AJ8/(AL4-AJ10)","v":0},{"$f":"IF(AK8=0,0,(AK8*((LOG(AK8))/LOG(2))))","v":0},null,{"$f":"N8","v":112},{"$f":"COUNTIF(L134:L165,AN8)","v":2},{"$f":"AO8/(AQ4-AO10)","v":6.25E-2},{"$f":"IF(AP8=0,0,(AP8*((LOG(AP8))/LOG(2))))","v":-0.25},null,{"$f":"N8","v":112},{"$f":"COUNTIF(L166:L197,AS8)","v":1},{"$f":"AT8/(AV4-AT10)","v":3.2258064516129031E-2},{"$f":"IF(AU8=0,0,(AU8*((LOG(AU8))/LOG(2))))","v":-0.15981278420602821}]
[22,316,13,325,14,333,null,null,null,null,0,211,null,121,{"$f":"COUNTIF($L$7:$L$500,N9)","v":10},{"$f":"O9/$Q$4","v":5.2631578947368418E-2},{"$f":"IF(P9=0,0,(P9*((LOG(P9))/LOG(2))))","v":-0.22357513228650452},null,null,{"$f":"N9","v":121},{"$f":"COUNTIF(L7:L38,T9)","v":0},{"$f":"U9/(W4-U10)","v":0},{"$f":"IF(V9=0,0,(V9*((LOG(V9))/LOG(2))))","v":0},null,{"$f":"N9","v":121},{"$f":"COUNTIF(L39:L70,Y9)","v":2},{"$f":"Z9/(AB4-Z10)","v":6.4516129032258063E-2},{"$f":"IF(AA9=0,0,(AA9*((LOG(AA9))/LOG(2))))","v":-0.25510943937979835},null,{"$f":"N9","v":121},{"$f":"COUNTIF(L71:L101,AD9)","v":4},{"$f":"AE9/(AG4-AE10)","v":0.12903225806451613},{"$f":"IF(AF9=0,0,(AF9*((LOG(AF9))/LOG(2))))","v":-0.38118662069508069},null,{"$f":"N9","v":121},{"$f":"COUNTIF(L102:L133,AI9)","v":2},{"$f":"AJ9/(AL4-AJ10)","v":6.4516129032258063E-2},{"$f":"IF(AK9=0,0,(AK9*((LOG(AK9))/LOG(2))))","v":-0.25510943937979835},null,{"$f":"N9","v":121},{"$f":"COUNTIF(L134:L165,AN9)","v":0},{"$f":"AO9/(AQ4-AO10)","v":0},{"$f":"IF(AP9=0,0,(AP9*((LOG(AP9))/LOG(2))))","v":0},null,{"$f":"N9","v":121},{"$f":"COUNTIF(L166:L197,AS9)","v":2},{"$f":"AT9/(AV4-AT10)","v":6.4516129032258063E-2},{"$f":"IF(AU9=0,0,(AU9*((LOG(AU9))/LOG(2))))","v":-0.25510943937979835}]
[22,446,13,454,14,465,null,null,null,null,0,211,null,122,{"$f":"COUNTIF($L$7:$L$500,N10)","v":2},{"$f":"O10/$Q$4","v":1.0526315789473684E-2},{"$f":"IF(P10=0,0,(P10*((LOG(P10))/LOG(2))))","v":-6.9156374824536293E-2},null,null,{"$f":"N10","v":122},{"$f":"COUNTIF(L7:L38,T10)","v":0},null,null,null,{"$f":"N10","v":122},{"$f":"COUNTIF(L39:L70,Y10)","v":1},null,null,null,{"$f":"N10","v":122},{"$f":"COUNTIF(L71:L101,AD10)","v":0},null,null,null,{"$f":"N10","v":122},{"$f":"COUNTIF(L102:L133,AI10)","v":1},null,null,null,{"$f":"N10","v":122},{"$f":"COUNTIF(L134:L165,AN10)","v":0},null,null,null,{"$f":"N10","v":122},{"$f":"COUNTIF(L166:L197,AS10)","v":0}]
[22,569,13,578,14,587,null,null,null,null,0,211,null,211,{"$f":"COUNTIF($L$7:$L$500,N11)","v":112},{"$f":"O11/$Q$4","v":0.58947368421052626},{"$f":"IF(P11=0,0,(P11*((LOG(P11))/LOG(2))))","v":-0.44947408875060268},null,null,{"$f":"N11","v":211},{"$f":"COUNTIF(L7:L38,T11)","v":20},{"$f":"U11/(W4-U10)","v":0.625},{"$f":"IF(V11=0,0,(V11*((LOG(V11))/LOG(2))))","v":-0.42379494069539858},null,{"$f":"N11","v":211},{"$f":"COUNTIF(L39:L70,Y11)","v":17},{"$f":"Z11/(AB4-Z10)","v":0.54838709677419351},{"$f":"IF(AA11=0,0,(AA11*((LOG(AA11))/LOG(2))))","v":-0.47530545081681003},null,{"$f":"N11","v":211},{"$f":"COUNTIF(L71:L101,AD11)","v":21},{"$f":"AE11/(AG4-AE10)","v":0.67741935483870963},{"$f":"IF(AF11=0,0,(AF11*((LOG(AF11))/LOG(2))))","v":-0.38062763354098111},null,{"$f":"N11","v":211},{"$f":"COUNTIF(L102:L133,AI11)","v":18},{"$f":"AJ11/(AL4-AJ10)","v":0.58064516129032262},{"$f":"IF(AK11=0,0,(AK11*((LOG(AK11))/LOG(2))))","v":-0.45538334067748809},null,{"$f":"N11","v":211},{"$f":"COUNTIF(L134:L165,AN11)","v":21},{"$f":"AO11/(AQ4-AO10)","v":0.65625},{"$f":"IF(AP11=0,0,(AP11*((LOG(AP11))/LOG(2))))","v":-0.3987916913014386},null,{"$f":"N11","v":211},{"$f":"COUNTIF(L166:L197,AS11)","v":15},{"$f":"AT11/(AV4-AT10)","v":0.4838709677419355},{"$f":"IF(AU11=0,0,(AU11*((LOG(AU11))/LOG(2))))","v":-0.50676082973146286}]
[22,695,13,704,14,714,null,null,null,null,0,211,null,212,{"$f":"COUNTIF($L$7:$L$500,N12)","v":18},{"$f":"O12/$Q$4","v":9.4736842105263161E-2},{"$f":"IF(P12=0,0,(P12*((LOG(P12))/LOG(2))))","v":-0.32209868907366018},null,null,{"$f":"N12","v":212},{"$f":"COUNTIF(L7:L38,T12)","v":0},{"$f":"U12/(W4-U10)","v":0},{"$f":"IF(V12=0,0,(V12*((LOG(V12))/LOG(2))))","v":0},null,{"$f":"N12","v":212},{"$f":"COUNTIF(L39:L70,Y12)","v":1},{"$f":"Z12/(AB4-Z10)","v":3.2258064516129031E-2},{"$f":"IF(AA12=0,0,(AA12*((LOG(AA12))/LOG(2))))","v":-0.15981278420602821},null,{"$f":"N12","v":212},{"$f":"COUNTIF(L71:L101,AD12)","v":1},{"$f":"AE12/(AG4-AE10)","v":3.2258064516129031E-2},{"$f":"IF(AF12=0,0,(AF12*((LOG(AF12))/LOG(2))))","v":-0.15981278420602821},null,{"$f":"N12","v":212},{"$f":"COUNTIF(L102:L133,AI12)","v":4},{"$f":"AJ12/(AL4-AJ10)","v":0.12903225806451613},{"$f":"IF(AK12=0,0,(AK12*((LOG(AK12))/LOG(2))))","v":-0.38118662069508069},null,{"$f":"N12","v":212},{"$f":"COUNTIF(L134:L165,AN12)","v":4},{"$f":"AO12/(AQ4-AO10)","v":0.125},{"$f":"IF(AP12=0,0,(AP12*((LOG(AP12))/LOG(2))))","v":-0.375},null,{"$f":"N12","v":212},{"$f":"COUNTIF(L166:L197,AS12)","v":8},{"$f":"AT12/(AV4-AT10)","v":0.25806451612903225},{"$f":"IF(AU12=0,0,(AU12*((LOG(AU12))/LOG(2))))","v":-0.50430872526112902}]
[22,816,13,825,14,836,null,null,null,null,0,211,null,221,{"$f":"COUNTIF($L$7:$L$500,N13)","v":13},{"$f":"O13/$Q$4","v":6.8421052631578952E-2},{"$f":"IF(P13=0,0,(P13*((LOG(P13))/LOG(2))))","v":-0.26474950827614802},null,null,{"$f":"N13","v":221},{"$f":"COUNTIF(L7:L38,T13)","v":1},{"$f":"U13/(W4-U10)","v":3.125E-2},{"$f":"IF(V13=0,0,(V13*((LOG(V13))/LOG(2))))","v":-0.15625},null,{"$f":"N13","v":221},{"$f":"COUNTIF(L39:L70,Y13)","v":2},{"$f":"Z13/(AB4-Z10)","v":6.4516129032258063E-2},{"$f":"IF(AA13=0,0,(AA13*((LOG(AA13))/LOG(2))))","v":-0.25510943937979835},null,{"$f":"N13","v":221},{"$f":"COUNTIF(L71:L101,AD13)","v":0},{"$f":"AE13/(AG4-AE10)","v":0},{"$f":"IF(AF13=0,0,(AF13*((LOG(AF13))/LOG(2))))","v":0},null,{"$f":"N13","v":221},{"$f":"COUNTIF(L102:L133,AI13)","v":3},{"$f":"AJ13/(AL4-AJ10)","v":9.6774193548387094E-2},{"$f":"IF(AK13=0,0,(AK13*((LOG(AK13))/LOG(2))))","v":-0.32605488480635986},null,{"$f":"N13","v":221},{"$f":"COUNTIF(L134:L165,AN13)","v":3},{"$f":"AO13/(AQ4-AO10)","v":9.375E-2},{"$f":"IF(AP13=0,0,(AP13*((LOG(AP13))/LOG(2))))","v":-0.32015976555739156},null,{"$f":"N13","v":221},{"$f":"COUNTIF(L166:L197,AS13)","v":4},{"$f":"AT13/(AV4-AT10)","v":0.12903225806451613},{"$f":"IF(AU13=0,0,(AU13*((LOG(AU13))/LOG(2))))","v":-0.38118662069508069}]
[22,936,13,944,14,950,null,null,null,null,0,211,null,222,{"$f":"COUNTIF($L$7:$L$500,N14)","v":2},{"$f":"O14/$Q$4","v":1.0526315789473684E-2},{"$f":"IF(P14=0,0,(P14*((LOG(P14))/LOG(2))))","v":-6.9156374824536293E-2},null,null,{"$f":"N14","v":222},{"$f":"COUNTIF(L7:L38,T14)","v":0},{"$f":"U14/(W4-U10)","v":0},{"$f":"IF(V14=0,0,(V14*((LOG(V14))/LOG(2))))","v":0},null,{"$f":"N14","v":222},{"$f":"COUNTIF(L39:L70,Y14)","v":1},{"$f":"Z14/(AB4-Z10)","v":3.2258064516129031E-2},{"$f":"IF(AA14=0,0,(AA14*((LOG(AA14))/LOG(2))))","v":-0.15981278420602821},null,{"$f":"N14","v":222},{"$f":"COUNTIF(L71:L101,AD14)","v":0},{"$f":"AE14/(AG4-AE10)","v":0},{"$f":"IF(AF14=0,0,(AF14*((LOG(AF14))/LOG(2))))","v":0},null,{"$f":"N14","v":222},{"$f":"COUNTIF(L102:L133,AI14)","v":1},{"$f":"AJ14/(AL4-AJ10)","v":3.2258064516129031E-2},{"$f":"IF(AK14=0,0,(AK14*((LOG(AK14))/LOG(2))))","v":-0.15981278420602821},null,{"$f":"N14","v":222},{"$f":"COUNTIF(L134:L165,AN14)","v":0},{"$f":"AO14/(AQ4-AO10)","v":0},{"$f":"IF(AP14=0,0,(AP14*((LOG(AP14))/LOG(2))))","v":0},null,{"$f":"N14","v":222},{"$f":"COUNTIF(L166:L197,AS14)","v":0},{"$f":"AT14/(AV4-AT10)","v":0},{"$f":"IF(AU14=0,0,(AU14*((LOG(AU14))/LOG(2))))","v":0}]
[22,1050,13,1057,14,1064,null,null,null,null,0,211,null,null,null,{"$f":"SUM(P7:P14)","v":0.99999999999999989},{"$f":"-SUM(Q7:Q14)","v":1.9556496286264127},null,null,null,null,{"$f":"SUM(V7:V14)","v":1},{"$f":"-SUM(W7:W14)","v":1.2606924110430979},null,null,null,{"$f":"SUM(AA7:AA14)","v":0.99999999999999978},{"$f":"-SUM(AB7:AB14)","v":1.9497333182688428},null,null,null,{"$f":"SUM(AF7:AF14)","v":0.99999999999999989},{"$f":"-SUM(AG7:AG14)","v":1.4626264433431988},null,null,null,{"$f":"SUM(AK7:AK14)","v":1},{"$f":"-SUM(AL7:AL14)","v":1.9036019545711149},null,null,null,{"$f":"SUM(AP7:AP14)","v":1},{"$f":"-SUM(AQ7:AQ14)","v":1.5939514568588302},null,null,null,{"$f":"SUM(AU7:AU14)","v":1},{"$f":"-SUM(AV7:AV14)","v":1.9669911834795273}]
[11,1174,11,1178,12,1185,null,null,null,null,0,111,null,null,null,"U=",{"$f":"Q15/(LOG(Q4)/LOG(2))","v":0.25834701872967525},null,null,null,null,"U1=",{"$f":"W15/(LOG(W4)/LOG(2))","v":0.25213848220861956},null,null,null,"U2=",{"$f":"AB15/(LOG(AB4)/LOG(2))","v":0.38994666365376857},null,null,null,"U3=",{"$f":"AG15/(LOG(AG4)/LOG(2))","v":0.29522981159965012},null,null,null,"U4=",{"$f":"AL15/(LOG(AL4)/LOG(2))","v":0.38072039091422299},null,null,null,"U5=",{"$f":"AQ15/(LOG(AQ4)/LOG(2))","v":0.31879029137176607},null,null,null,"U6=",{"$f":"AV15/(LOG(AV4)/LOG(2))","v":0.39703537370038616}]
[11,1289,11,1296,12,1302,null,null,null,null,0,111]
[22,1405,13,1414,14,1419,null,null,null,null,0,211]
[22,1523,13,1531,14,1540,null,null,null,null,0,211,null,"Total Target Seq"]
[11,1651,11,1656,12,1662,null,null,null,null,0,111,null,{"$f":"COUNTIF(L7:L197,G3)","v":2},null,32,32,31,32,32,32]
[22,1763,13,1772,14,1777,null,null,null,null,0,211,null,null,null,"% of reinforcement given in 6 equal intervals based on number of trials "]
[11,1886,11,1892,12,1900,null,null,null,null,0,111,null,null,null,"%_1","%_2","%_3","%_4","%_5","%_6"]
[22,2002,13,2010,14,2016,null,null,null,null,0,211,null,null,"target sequence",{"$f":"$G$3","v":122},{"$f":"$G$3","v":122},{"$f":"$G$3","v":122},{"$f":"$G$3","v":122},{"$f":"$G$3","v":122},{"$f":"$G$3","v":122}]
[11,2114,11,2121,21,2139,null,null,null,null,0,112,null,null,"total reinforcement",{"$f":"U10","v":0},{"$f":"Z10","v":1},{"$f":"AE10","v":0},{"$f":"AJ10","v":1},{"$f":"AO10","v":0},{"$f":"AT10","v":0}]
[22,2242,13,2249,14,2260,null,null,null,null,0,211,null,null,"% target"]
[11,2369,11,2374,12,2390,null,null,null,null,0,111,null,null,"CCRF"]
[22,2490,13,2498,14,2506,null,null,null,null,0,211,null,null,"% CCRf"]
[22,2608,13,2616,14,2621,null,null,null,null,0,211,null,null,"average response rate",{"$f":"F38/P20","v":117.34375},{"$f":"(F70-F38)/Q20","v":118.5625},{"$f":"(F101-F70)/R20","v":124.12903225806451},{"$f":"(F133-F101)/S20","v":135.5625},{"$f":"(F165-F133)/T20","v":123.875},{"$f":"(F197-F165)/U20","v":-615.59375}]
[11,2726,11,2730,12,2737,null,null,null,null,0,111]
[11,2835,11,2840,12,2848,null,null,null,null,0,111]
[22,2950,13,2958,14,2963,null,null,null,null,0,211]
[22,3060,13,3068,14,3072,null,null,null,null,0,211]
[22,3176,13,3183,14,3188,null,null,null,null,0,211]
[22,3288,24,3298,14,3306,null,null,null,null,0,221]
[11,3409,11,3414,12,3418,null,null,null,null,0,111]
[22,3519,13,3524,14,3529,null,null,null,null,0,211]
[22,3633,13,3640,14,3644,null,null,null,null,0,211]
[22,3742,13,3751,14,3755,null,null,null,null,0,211]
[22,3856,13,3865,14,3870,null,null,null,null,0,211]
[22,3968,13,3975,14,3987,null,null,null,null,0,211]
[22,4088,13,4095,14,4100,null,null,null,null,0,211]
[22,4198,13,4205,14,4210,null,null,null,null,0,211]
[22,4310,13,4317,14,4322,null,null,null,null,0,211]
[11,4422,11,4429,12,4435,null,null,null,null,0,111]
[11,4533,11,4538,12,4544,null,null,null,null,0,111]
[11,4659,22,4673,23,4681,null,null,null,null,0,122]
[22,4784,13,4792,14,4796,null,null,null,null,0,211]
[22,4902,13,4909,14,4913,null,null,null,null,0,211]
[22,5017,13,5025,14,5029,null,null,null,null,0,211]
[22,5132,13,5140,14,5145,null,null,null,null,0,211]
[11,5246,22,5259,14,5266,null,null,null,null,0,121]
[11,5372,11,5379,12,5387,null,null,null,null,0,111]
[11,5491,11,5498,21,5511,null,null,null,null,0,112]
[22,5613,13,5620,14,5629,null,null,null,null,0,211]
[22,5732,13,5740,14,5744,null,null,null,null,0,211]
[11,5851,11,5858,12,5862,null,null,null,null,0,111]
[22,5961,13,5969,14,5980,null,null,null,null,0,211]
[11,6092,11,6097,12,6104,null,null,null,null,0,111]
[22,6204,13,6211,14,6217,null,null,null,null,0,211]
[22,6318,13,6326,14,6331,null,null,null,null,0,211]
[22,6429,24,6441,23,6450,null,null,null,null,0,222]
[22,6550,13,6558,14,6562,null,null,null,null,0,211]
[22,6662,13,6670,14,6674,null,null,null,null,0,211]
[22,6780,13,6789,23,6804,null,null,null,null,0,212]
[22,6909,24,6917,14,6927,null,null,null,null,0,221]
[22,7032,13,7040,14,7044,null,null,null,null,0,211]
[11,7144,11,7148,12,7153,null,null,null,null,0,111]
[11,7289,22,7301,14,7309,null,null,null,null,0,121]
[11,7419,11,7424,12,7432,null,null,null,null,0,111]
[22,7529,24,7540,14,7549,null,null,null,null,0,221]
[11,7647,22,7659,14,7667,null,null,null,null,0,121]
[22,7801,13,7810,14,7817,null,null,null,null,0,211]
[22,7921,13,7929,14,7933,null,null,null,null,0,211]
[22,8036,13,8047,14,8052,null,null,null,null,0,211]
[22,8155,13,8164,14,8169,null,null,null,null,0,211]
[22,8268,13,8276,14,8281,null,null,null,null,0,211]
[22,8384,13,8391,14,8396,null,null,null,null,0,211]
[11,8503,22,8516,14,8524,null,null,null,null,0,121]
[11,8631,11,8638,12,8646,null,null,null,null,0,111]
[22,8753,13,8762,14,8767,null,null,null,null,0,211]
[22,8870,13,8878,14,8882,null,null,null,null,0,211]
[22,8984,13,8992,14,9004,null,null,null,null,0,211]
[22,9112,13,9120,14,9124,null,null,null,null,0,211]
[22,9281,13,9293,14,9300,null,null,null,null,0,211]
[22,9403,13,9411,14,9416,null,null,null,null,0,211]
[11,9535,11,9542,12,9549,null,null,null,null,0,111]
[11,9668,22,9682,14,9690,null,null,null,null,0,121]
[11,9814,11,9820,21,9841,null,null,null,null,0,112]
[22,9940,13,9948,14,9959,null,null,null,null,0,211]
[22,10064,13,10072,14,10080,null,null,null,null,0,211]
[11,10182,22,10194,14,10202,null,null,null,null,0,121]
[22,10301,13,10308,14,10313,null,null,null,null,0,211]
[22,10413,13,10425,23,10435,null,null,null,null,0,212]
[11,10547,11,10556,12,10563,null,null,null,null,0,111]
[22,10663,13,10670,14,10674,null,null,null,null,0,211]
[22,10776,13,10783,14,10788,null,null,null,null,0,211]
[11,10894,11,10898,12,10903,null,null,null,null,0,111]
[22,11030,13,11037,14,11044,null,null,null,null,0,211]
[22,11147,13,11154,14,11163,null,null,null,null,0,211]
[22,11265,13,11274,14,11283,null,null,null,null,0,211]
[22,11384,13,11393,14,11397,null,null,null,null,0,211]
[11,11503,22,11515,23,11525,null,null,null,null,0,122]
[22,11642,13,11651,14,11655,null,null,null,null,0,211]
[22,11758,13,11766,14,11772,null,null,null,null,0,211]
[22,11875,24,11884,23,11892,null,null,null,null,0,222]
[22,12019,13,12027,14,12032,null,null,null,null,0,211]
[22,12176,13,12189,14,12209,null,null,null,null,0,211]
[22,12310,13,12318,14,12325,null,null,null,null,0,211]
[22,12428,13,12436,14,12440,null,null,null,null,0,211]
[11,12541,22,12554,14,12562,null,null,null,null,0,121]
[22,12663,13,12671,14,12677,null,null,null,null,0,211]
[22,12798,13,12807,14,12812,null,null,null,null,0,211]
[22,12926,13,12933,14,12937,null,null,null,null,0,211]
[22,13141,13,13151,14,13165,null,null,null,null,0,211]
[22,13285,13,13294,14,13301,null,null,null,null,0,211]
[11,13424,11,13430,12,13434,null,null,null,null,0,111]
[22,13538,13,13547,14,13551,null,null,null,null,0,211]
[22,13655,24,13664,14,13673,null,null,null,null,0,221]
[22,13774,13,13783,14,13787,null,null,null,null,0,211]
[22,13890,13,13899,14,13904,null,null,null,null,0,211]
[11,14017,22,14038,14,14046,null,null,null,null,0,121]
[11,14154,11,14160,12,14167,null,null,null,null,0,111]
[22,14281,13,14289,23,14305,null,null,null,null,0,212]
[11,14487,11,14496,12,14516,null,null,null,null,0,111]
[22,14620,13,14629,23,14642,null,null,null,null,0,212]
[22,14779,24,14787,14,14796,null,null,null,null,0,221]
[22,14896,13,14904,14,14908,null,null,null,null,0,211]
[22,15008,24,15019,14,15027,null,null,null,null,0,221]
[22,15130,13,15152,23,15168,null,null,null,null,0,212]
[22,15306,13,15314,14,15320,null,null,null,null,0,211]
[22,15477,13,15485,14,15493,null,null,null,null,0,211]
[22,15599,13,15607,23,15623,null,null,null,null,0,212]
[22,15722,13,15730,14,15735,null,null,null,null,0,211]
[22,15838,13,15846,14,15852,null,null,null,null,0,211]
[22,15966,13,15973,14,15979,null,null,null,null,0,211]
[22,16081,13,16089,23,16104,null,null,null,null,0,212]
[22,16226,13,16234,14,16239,null,null,null,null,0,211]
[11,16386,11,16394,21,16409,null,null,null,null,0,112]
[22,16508,13,16516,23,16531,null,null,null,null,0,212]
[22,16633,13,16640,14,16645,null,null,null,null,0,211]
[22,16744,13,16751,14,16756,null,null,null,null,0,211]
[22,16872,24,16880,14,16889,null,null,null,null,0,221]
[22,16992,13,17000,14,17005,null,null,null,null,0,211]
[11,17131,11,17136,21,17153,null,null,null,null,0,112]
[22,17252,13,17260,14,17278,null,null,null,null,0,211]
[22,17376,13,17384,23,17399,null,null,null,null,0,212]
[22,17499,13,17507,14,17512,null,null,null,null,0,211]
[22,17611,13,17619,14,17623,null,null,null,null,0,211]
[22,17722,13,17730,14,17734,null,null,null,null,0,211]
[22,17834,13,17842,14,17848,null,null,null,null,0,211]
[22,17951,24,17960,14,17970,null,null,null,null,0,221]
[22,18068,13,18076,14,18081,null,null,null,null,0,211]
[22,18192,13,18200,14,18204,null,null,null,null,0,211]
[22,18306,13,18314,14,18318,null,null,null,null,0,211]
[22,18421,13,18433,14,18437,null,null,null,null,0,211]
[11,18540,11,18544,12,18548,null,null,null,null,0,111]
[22,18696,13,18706,14,18741,null,null,null,null,0,211]
[22,18842,13,18851,14,18855,null,null,null,null,0,211]
[22,18957,13,18964,14,18972,null,null,null,null,0,211]
[22,19070,13,19080,14,19084,null,null,null,null,0,211]
[22,19184,13,19192,14,19196,null,null,null,null,0,211]
[22,19302,13,19310,23,19325,null,null,null,null,0,212]
[22,19428,24,19444,14,19452,null,null,null,null,0,221]
[11,19562,11,19571,12,19579,null,null,null,null,0,111]
[22,19683,13,19691,14,19699,null,null,null,null,0,211]
[22,19806,13,19814,14,19819,null,null,null,null,0,211]
[11,19923,11,19930,21,19948,null,null,null,null,0,112]
[22,20046,13,20053,14,20058,null,null,null,null,0,211]
[22,20157,13,20166,14,20199,null,null,null,null,0,211]
[22,20296,13,20304,14,20309,null,null,null,null,0,211]
[22,20414,13,20422,14,20427,null,null,null,null,0,211]
[22,20525,24,20535,14,20544,null,null,null,null,0,221]
[22,20668,13,20676,23,20703,null,null,null,null,0,212]
[22,20804,13,20811,14,20818,null,null,null,null,0,211]
[22,20919,13,20927,23,20959,null,null,null,null,0,212]
[11,21064,11,21071,12,21076,null,null,null,null,0,111]
[22,21176,13,21186,14,21191,null,null,null,null,0,211]
[22,21292,13,21300,14,21306,null,null,null,null,0,211]
[22,21412,13,21419,14,21423,null,null,null,null,0,211]
[11,21535,22,21551,14,21559,null,null,null,null,0,121]
[22,21675,13,21689,23,21705,null,null,null,null,0,212]
[22,21801,13,21813,14,21817,null,null,null,null,0,211]
[22,21996,13,22004,23,22016,null,null,null,null,0,212]
[22,22123,13,22132,14,22136,null,null,null,null,0,211]
[11,22259,22,22272,14,22280,null,null,null,null,0,121]
[22,22429,13,22438,23,22458,null,null,null,null,0,212]
[22,22560,24,22568,14,22576,null,null,null,null,0,221]
[22,22686,24,22694,14,22704,null,null,null,null,0,221]
[22,22839,13,22848,14,22855,null,null,null,null,0,211]
[22,22965,13,22973,14,22977,null,null,null,null,0,211]
[22,23087,13,23099,14,23121,null,null,null,null,0,211]
[22,23222,13,23231,23,23258,null,null,null,null,0,212]
[22,23363,13,23371,14,23376,null,null,null,null,0,211]
[22,23546,24,23558,14,23570,null,null,null,null,0,221]
[22,23673,13,23683,23,23696,null,null,null,null,0,212]
[22,23822,13,23835,23,23855,null,null,null,null,0,212]
[22,23977,13,23985,null,null,null,null,null,null,null,21]

{"sheet":"!2011-05-06_08h52m.Subject 52 p","index":4,"n_rows":132,"n_cols":48,"rows_kept":132,"cut":false,"hidden":false,"merged":[[4,39,4,42],[5,39,5,40],[4,44,4,47],[5,44,5,45],[4,24,4,27],[5,24,5,25],[4,29,4,32],[5,29,5,30],[4,34,4,37],[5,34,5,35],[1,1,1,2],[5,13,5,14],[18,13,18,14],[19,13,19,14],[4,19,4,22],[5,19,5,20]]}
["Report for:!2011-05-06_08h52m.Subject 52 phase 2"]
["Date","2011-05-06",null,null,null,"Group",0]
["Hen",0,null,null,null,"Correct Sequence",{"$f":"Start!J2","v":122},null,null,null,null,null,null,null,null,"Total Sequences in Data",{"$f":"4994-COUNTBLANK(L7:L5000)","v":126},null,null,null,null,"Total Sequences in Block Data",{"$f":"COUNTA(L7:L27)","v":21},null,null,null,"Total Sequences in Block Data",{"$f":"COUNTA(L28:L48)","v":21},null,null,null,"Total Sequences in Block Data",{"$f":"COUNTA(L49:L69)","v":21},null,null,null,"Total Sequences in Block Data",{"$f":"COUNTA(L70:L90)","v":21},null,null,null,"Total Sequences in Block Data",{"$f":"COUNTA(L91:L111)","v":21},null,null,null,"Total Sequences in Block Data",{"$f":"COUNTA(L112:L132)","v":21}]
["Program",0,null,null,null,null,null,null,null,null,null,null,null,null,null,"Total Sequences in Summary",{"$f":"SUM(O7:O14)","v":126},null,null,null,null,"Total Sequences in Block Summary",{"$f":"SUM(U7:U14)","v":21},null,null,null,"Total Sequences in Block Summary",{"$f":"SUM(Z7:Z14)","v":21},null,null,null,"Total Sequences in Block Summary",{"$f":"SUM(AE7:AE14)","v":21},null,null,null,"Total Sequences in Block Summary",{"$f":"SUM(AJ7:AJ14)","v":21},null,null,null,"Total Sequences in Block Summary",{"$f":"SUM(AO7:AO14)","v":21},null,null,null,"Total Sequences in Block Summary",{"$f":"SUM(AT7:AT14)","v":21}]
[null,null,null,null,null,null,null,null,null,null,null,null,null,null,null,null,null,null,null,"Block 1",null,null,null,null,"Block 2",null,null,null,null,"Block 3",null,null,null,null,"Block 4",null,null,null,null,"Block 5",null,null,null,null,"Block 6"]
["Sequence\nComponent\n1","Time\n1","Sequence\nComponent\n2","Time\n2","Sequence\nComponent\n3","Time\n3","Sequence\nComponent\n4","Time\n4","Sequence\nComponent\n5","Time\n5","Correct?\n0=No 1=Yes","Sequence",null,"Frequency",null,"Relative Frequency","Variability",null,null,"Frequency",null,"Relative Frequency","Variability",null,"Frequency",null,"Relative Frequency","Variability",null,"Frequency",null,"Relative Frequency","Variability",null,"Frequency",null,"Relative Frequency","Variability",null,"Frequency",null,"Relative Frequency","Variability",null,"Frequency",null,"Relative Frequency","Variability"]
[22,12,13,19,14,24,null,null,null,null,0,211,null,111,{"$f":"COUNTIF($L$7:$L$500,N7)","v":25},{"$f":"O7/$Q$4","v":0.1984126984126984},{"$f":"IF(P7=0,0,(P7*((LOG(P7))/LOG(2))))","v":-0.46298089954864918},null,null,{"$f":"N7","v":111},{"$f":"COUNTIF(L7:L27,T7)","v":5},{"$f":"U7/(W4-U10)","v":0.23809523809523808},{"$f":"IF(V7=0,0,(V7*((LOG(V7))/LOG(2))))","v":-0.49294983997414238},null,{"$f":"N7","v":111},{"$f":"COUNTIF(L28:L48,Y7)","v":5},{"$f":"Z7/(AB4-Z10)","v":0.23809523809523808},{"$f":"IF(AA7=0,0,(AA7*((LOG(AA7))/LOG(2))))","v":-0.49294983997414238},null,{"$f":"N7","v":111},{"$f":"COUNTIF(L49:L69,AD7)","v":2},{"$f":"AE7/(AG4-AE10)","v":9.5238095238095233E-2},{"$f":"IF(AF7=0,0,(AF7*((LOG(AF7))/LOG(2))))","v":-0.32307784978845333},null,{"$f":"N7","v":111},{"$f":"COUNTIF(L70:L90,AI7)","v":5},{"$f":"AJ7/(AL4-AJ10)","v":0.23809523809523808},{"$f":"IF(AK7=0,0,(AK7*((LOG(AK7))/LOG(2))))","v":-0.49294983997414238},null,{"$f":"N7","v":111},{"$f":"COUNTIF(L91:L111,AN7)","v":1},{"$f":"AO7/(AQ4-AO10)","v":0.05},{"$f":"IF(AP7=0,0,(AP7*((LOG(AP7))/LOG(2))))","v":-0.21609640474436814},null,{"$f":"N7","v":111},{"$f":"COUNTIF(L112:L132,AS7)","v":7},{"$f":"AT7/(AV4-AT10)","v":0.33333333333333331},{"$f":"IF(AU7=0,0,(AU7*((LOG(AU7))/LOG(2))))","v":-0.52832083357371862}]
[22,127,24,135,14,144,null,null,null,null,0,221,null,112,{"$f":"COUNTIF($L$7:$L$500,N8)","v":2},{"$f":"O8/$Q$4","v":1.5873015873015872E-2},{"$f":"IF(P8=0,0,(P8*((LOG(P8))/LOG(2))))","v":-9.4877459103173273E-2},null,null,{"$f":"N8","v":112},{"$f":"COUNTIF(L7:L27,T8)","v":0},{"$f":"U8/(W4-U10)","v":0},{"$f":"IF(V8=0,0,(V8*((LOG(V8))/LOG(2))))","v":0},null,{"$f":"N8","v":112},{"$f":"COUNTIF(L28:L48,Y8)","v":1},{"$f":"Z8/(AB4-Z10)","v":4.7619047619047616E-2},{"$f":"IF(AA8=0,0,(AA8*((LOG(AA8))/LOG(2))))","v":-0.20915797251327431},null,{"$f":"N8","v":112},{"$f":"COUNTIF(L49:L69,AD8)","v":1},{"$f":"AE8/(AG4-AE10)","v":4.7619047619047616E-2},{"$f":"IF(AF8=0,0,(AF8*((LOG(AF8))/LOG(2))))","v":-0.20915797251327431},null,{"$f":"N8","v":112},{"$f":"COUNTIF(L70:L90,AI8)","v":0},{"$f":"AJ8/(AL4-AJ10)","v":0},{"$f":"IF(AK8=0,0,(AK8*((LOG(AK8))/LOG(2))))","v":0},null,{"$f":"N8","v":112},{"$f":"COUNTIF(L91:L111,AN8)","v":0},{"$f":"AO8/(AQ4-AO10)","v":0},{"$f":"IF(AP8=0,0,(AP8*((LOG(AP8))/LOG(2))))","v":0},null,{"$f":"N8","v":112},{"$f":"COUNTIF(L112:L132,AS8)","v":0},{"$f":"AT8/(AV4-AT10)","v":0},{"$f":"IF(AU8=0,0,(AU8*((LOG(AU8))/LOG(2))))","v":0}]
[22,257,13,266,23,278,null,null,null,null,0,212,null,121,{"$f":"COUNTIF($L$7:$L$500,N9)","v":9},{"$f":"O9/$Q$4","v":7.1428571428571425E-2},{"$f":"IF(P9=0,0,(P9*((LOG(P9))/LOG(2))))","v":-0.27195392300411453},null,null,{"$f":"N9","v":121},{"$f":"COUNTIF(L7:L27,T9)","v":2},{"$f":"U9/(W4-U10)","v":9.5238095238095233E-2},{"$f":"IF(V9=0,0,(V9*((LOG(V9))/LOG(2))))","v":-0.32307784978845333},null,{"$f":"N9","v":121},{"$f":"COUNTIF(L28:L48,Y9)","v":2},{"$f":"Z9/(AB4-Z10)","v":9.5238095238095233E-2},{"$f":"IF(AA9=0,0,(AA9*((LOG(AA9))/LOG(2))))","v":-0.32307784978845333},null,{"$f":"N9","v":121},{"$f":"COUNTIF(L49:L69,AD9)","v":0},{"$f":"AE9/(AG4-AE10)","v":0},{"$f":"IF(AF9=0,0,(AF9*((LOG(AF9))/LOG(2))))","v":0},null,{"$f":"N9","v":121},{"$f":"COUNTIF(L70:L90,AI9)","v":3},{"$f":"AJ9/(AL4-AJ10)","v":0.14285714285714285},{"$f":"IF(AK9=0,0,(AK9*((LOG(AK9))/LOG(2))))","v":-0.40105070315108626},null,{"$f":"N9","v":121},{"$f":"COUNTIF(L91:L111,AN9)","v":2},{"$f":"AO9/(AQ4-AO10)","v":0.1},{"$f":"IF(AP9=0,0,(AP9*((LOG(AP9))/LOG(2))))","v":-0.33219280948873625},null,{"$f":"N9","v":121},{"$f":"COUNTIF(L112:L132,AS9)","v":0},{"$f":"AT9/(AV4-AT10)","v":0},{"$f":"IF(AU9=0,0,(AU9*((LOG(AU9))/LOG(2))))","v":0}]
[22,384,13,395,14,411,null,null,null,null,0,211,null,122,{"$f":"COUNTIF($L$7:$L$500,N10)","v":1},{"$f":"O10/$Q$4","v":7.9365079365079361E-3},{"$f":"IF(P10=0,0,(P10*((LOG(P10))/LOG(2))))","v":-5.5375237488094572E-2},null,null,{"$f":"N10","v":122},{"$f":"COUNTIF(L7:L27,T10)","v":0},null,null,null,{"$f":"N10","v":122},{"$f":"COUNTIF(L28:L48,Y10)","v":0},null,null,null,{"$f":"N10","v":122},{"$f":"COUNTIF(L49:L69,AD10)","v":0},null,null,null,{"$f":"N10","v":122},{"$f":"COUNTIF(L70:L90,AI10)","v":0},null,null,null,{"$f":"N10","v":122},{"$f":"COUNTIF(L91:L111,AN10)","v":1},null,null,null,{"$f":"N10","v":122},{"$f":"COUNTIF(L112:L132,AS10)","v":0}]
[22,522,24,556,14,565,null,null,null,null,0,221,null,211,{"$f":"COUNTIF($L$7:$L$500,N11)","v":45},{"$f":"O11/$Q$4","v":0.35714285714285715},{"$f":"IF(P11=0,0,(P11*((LOG(P11))/LOG(2))))","v":-0.53050958113222924},null,null,{"$f":"N11","v":211},{"$f":"COUNTIF(L7:L27,T11)","v":8},{"$f":"U11/(W4-U10)","v":0.38095238095238093},{"$f":"IF(V11=0,0,(V11*((LOG(V11))/LOG(2))))","v":-0.53040663724905157},null,{"$f":"N11","v":211},{"$f":"COUNTIF(L28:L48,Y11)","v":7},{"$f":"Z11/(AB4-Z10)","v":0.33333333333333331},{"$f":"IF(AA11=0,0,(AA11*((LOG(AA11))/LOG(2))))","v":-0.52832083357371862},null,{"$f":"N11","v":211},{"$f":"COUNTIF(L49:L69,AD11)","v":13},{"$f":"AE11/(AG4-AE10)","v":0.61904761904761907},{"$f":"IF(AF11=0,0,(AF11*((LOG(AF11))/LOG(2))))","v":-0.42830524572808026},null,{"$f":"N11","v":211},{"$f":"COUNTIF(L70:L90,AI11)","v":7},{"$f":"AJ11/(AL4-AJ10)","v":0.33333333333333331},{"$f":"IF(AK11=0,0,(AK11*((LOG(AK11))/LOG(2))))","v":-0.52832083357371862},null,{"$f":"N11","v":211},{"$f":"COUNTIF(L91:L111,AN11)","v":6},{"$f":"AO11/(AQ4-AO10)","v":0.3},{"$f":"IF(AP11=0,0,(AP11*((LOG(AP11))/LOG(2))))","v":-0.52108967824986185},null,{"$f":"N11","v":211},{"$f":"COUNTIF(L112:L132,AS11)","v":4},{"$f":"AT11/(AV4-AT10)","v":0.19047619047619047},{"$f":"IF(AU11=0,0,(AU11*((LOG(AU11))/LOG(2))))","v":-0.4556795091007162}]
[22,668,24,678,14,687,null,null,null,null,0,221,null,212,{"$f":"COUNTIF($L$7:$L$500,N12)","v":13},{"$f":"O12/$Q$4","v":0.10317460317460317},{"$f":"IF(P12=0,0,(P12*((LOG(P12))/LOG(2))))","v":-0.33808668785448182},null,null,{"$f":"N12","v":212},{"$f":"COUNTIF(L7:L27,T12)","v":1},{"$f":"U12/(W4-U10)","v":4.7619047619047616E-2},{"$f":"IF(V12=0,0,(V12*((LOG(V12))/LOG(2))))","v":-0.20915797251327431},null,{"$f":"N12","v":212},{"$f":"COUNTIF(L28:L48,Y12)","v":1},{"$f":"Z12/(AB4-Z10)","v":4.7619047619047616E-2},{"$f":"IF(AA12=0,0,(AA12*((LOG(AA12))/LOG(2))))","v":-0.20915797251327431},null,{"$f":"N12","v":212},{"$f":"COUNTIF(L49:L69,AD12)","v":4},{"$f":"AE12/(AG4-AE10)","v":0.19047619047619047},{"$f":"IF(AF12=0,0,(AF12*((LOG(AF12))/LOG(2))))","v":-0.4556795091007162},null,{"$f":"N12","v":212},{"$f":"COUNTIF(L70:L90,AI12)","v":4},{"$f":"AJ12/(AL4-AJ10)","v":0.19047619047619047},{"$f":"IF(AK12=0,0,(AK12*((LOG(AK12))/LOG(2))))","v":-0.4556795091007162},null,{"$f":"N12","v":212},{"$f":"COUNTIF(L91:L111,AN12)","v":3},{"$f":"AO12/(AQ4-AO10)","v":0.15},{"$f":"IF(AP12=0,0,(AP12*((LOG(AP12))/LOG(2))))","v":-0.41054483912493089},null,{"$f":"N12","v":212},{"$f":"COUNTIF(L112:L132,AS12)","v":0},{"$f":"AT12/(AV4-AT10)","v":0},{"$f":"IF(AU12=0,0,(AU12*((LOG(AU12))/LOG(2))))","v":0}]
[11,790,11,794,12,835,null,null,null,null,0,111,null,221,{"$f":"COUNTIF($L$7:$L$500,N13)","v":11},{"$f":"O13/$Q$4","v":8.7301587301587297E-2},{"$f":"IF(P13=0,0,(P13*((LOG(P13))/LOG(2))))","v":-0.30711374090070481},null,null,{"$f":"N13","v":221},{"$f":"COUNTIF(L7:L27,T13)","v":4},{"$f":"U13/(W4-U10)","v":0.19047619047619047},{"$f":"IF(V13=0,0,(V13*((LOG(V13))/LOG(2))))","v":-0.4556795091007162},null,{"$f":"N13","v":221},{"$f":"COUNTIF(L28:L48,Y13)","v":4},{"$f":"Z13/(AB4-Z10)","v":0.19047619047619047},{"$f":"IF(AA13=0,0,(AA13*((LOG(AA13))/LOG(2))))","v":-0.4556795091007162},null,{"$f":"N13","v":221},{"$f":"COUNTIF(L49:L69,AD13)","v":0},{"$f":"AE13/(AG4-AE10)","v":0},{"$f":"IF(AF13=0,0,(AF13*((LOG(AF13))/LOG(2))))","v":0},null,{"$f":"N13","v":221},{"$f":"COUNTIF(L70:L90,AI13)","v":1},{"$f":"AJ13/(AL4-AJ10)","v":4.7619047619047616E-2},{"$f":"IF(AK13=0,0,(AK13*((LOG(AK13))/LOG(2))))","v":-0.20915797251327431},null,{"$f":"N13","v":221},{"$f":"COUNTIF(L91:L111,AN13)","v":1},{"$f":"AO13/(AQ4-AO10)","v":0.05},{"$f":"IF(AP13=0,0,(AP13*((LOG(AP13))/LOG(2))))","v":-0.21609640474436814},null,{"$f":"N13","v":221},{"$f":"COUNTIF(L112:L132,AS13)","v":1},{"$f":"AT13/(AV4-AT10)","v":4.7619047619047616E-2},{"$f":"IF(AU13=0,0,(AU13*((LOG(AU13))/LOG(2))))","v":-0.20915797251327431}]
[22,1042,13,1067,14,1074,null,null,null,null,0,211,null,222,{"$f":"COUNTIF($L$7:$L$500,N14)","v":20},{"$f":"O14/$Q$4","v":0.15873015873015872},{"$f":"IF(P14=0,0,(P14*((LOG(P14))/LOG(2))))","v":-0.42148441724008795},null,null,{"$f":"N14","v":222},{"$f":"COUNTIF(L7:L27,T14)","v":1},{"$f":"U14/(W4-U10)","v":4.7619047619047616E-2},{"$f":"IF(V14=0,0,(V14*((LOG(V14))/LOG(2))))","v":-0.20915797251327431},null,{"$f":"N14","v":222},{"$f":"COUNTIF(L28:L48,Y14)","v":1},{"$f":"Z14/(AB4-Z10)","v":4.7619047619047616E-2},{"$f":"IF(AA14=0,0,(AA14*((LOG(AA14))/LOG(2))))","v":-0.20915797251327431},null,{"$f":"N14","v":222},{"$f":"COUNTIF(L49:L69,AD14)","v":1},{"$f":"AE14/(AG4-AE10)","v":4.7619047619047616E-2},{"$f":"IF(AF14=0,0,(AF14*((LOG(AF14))/LOG(2))))","v":-0.20915797251327431},null,{"$f":"N14","v":222},{"$f":"COUNTIF(L70:L90,AI14)","v":1},{"$f":"AJ14/(AL4-AJ10)","v":4.7619047619047616E-2},{"$f":"IF(AK14=0,0,(AK14*((LOG(AK14))/LOG(2))))","v":-0.20915797251327431},null,{"$f":"N14","v":222},{"$f":"COUNTIF(L91:L111,AN14)","v":7},{"$f":"AO14/(AQ4-AO10)","v":0.35},{"$f":"IF(AP14=0,0,(AP14*((LOG(AP14))/LOG(2))))","v":-0.53010061049041535},null,{"$f":"N14","v":222},{"$f":"COUNTIF(L112:L132,AS14)","v":9},{"$f":"AT14/(AV4-AT10)","v":0.42857142857142855},{"$f":"IF(AU14=0,0,(AU14*((LOG(AU14))/LOG(2))))","v":-0.52388246628704915}]
[22,1188,13,1196,14,1203,null,null,null,null,0,211,null,null,null,{"$f":"SUM(P7:P14)","v":0.99999999999999989},{"$f":"-SUM(Q7:Q14)","v":2.4823819462715355},null,null,null,null,{"$f":"SUM(V7:V14)","v":1},{"$f":"-SUM(W7:W14)","v":2.2204297811389124},null,null,null,{"$f":"SUM(AA7:AA14)","v":1},{"$f":"-SUM(AB7:AB14)","v":2.4275019499768535},null,null,null,{"$f":"SUM(AF7:AF14)","v":1},{"$f":"-SUM(AG7:AG14)","v":1.6253785496437985},null,null,null,{"$f":"SUM(AK7:AK14)","v":1},{"$f":"-SUM(AL7:AL14)","v":2.2963168308262119},null,null,null,{"$f":"SUM(AP7:AP14)","v":1},{"$f":"-SUM(AQ7:AQ14)","v":2.2261207468426805},null,null,null,{"$f":"SUM(AU7:AU14)","v":1},{"$f":"-SUM(AV7:AV14)","v":1.7170407814747584}]
[22,1313,24,1334,23,1344,null,null,null,null,0,222,null,null,null,"U=",{"$f":"Q15/(LOG(Q4)/LOG(2))","v":0.35578075890444316},null,null,null,null,"U1=",{"$f":"W15/(LOG(W4)/LOG(2))","v":0.50552580048601703},null,null,null,"U2=",{"$f":"AB15/(LOG(AB4)/LOG(2))","v":0.55266997266356854},null,null,null,"U3=",{"$f":"AG15/(LOG(AG4)/LOG(2))","v":0.37005033862409631},null,null,null,"U4=",{"$f":"AL15/(LOG(AL4)/LOG(2))","v":0.5228030239612026},null,null,null,"U5=",{"$f":"AQ15/(LOG(AQ4)/LOG(2))","v":0.50682146406311979},null,null,null,"U6=",{"$f":"AV15/(LOG(AV4)/LOG(2))","v":0.39091910174116873}]
[11,1453,22,1468,14,1477,null,null,null,null,0,121]
[11,1599,11,1604,12,1614,null,null,null,null,0,111]
[22,1716,24,1741,14,1782,null,null,null,null,0,221,null,"Total Target Seq"]
[22,1884,13,1892,14,1906,null,null,null,null,0,211,null,{"$f":"COUNTIF(L7:L132,G3)","v":1},null,21,21,21,21,21,21]
[11,2027,11,2033,12,2042,null,null,null,null,0,111,null,null,null,"% of reinforcement given in 6 equal intervals based on number of trials "]
[22,2151,13,2160,14,2166,null,null,null,null,0,211,null,null,null,"%_1","%_2","%_3","%_4","%_5","%_6"]
[11,2276,11,2281,12,2287,null,null,null,null,0,111,null,null,"target sequence",{"$f":"$G$3","v":122},{"$f":"$G$3","v":122},{"$f":"$G$3","v":122},{"$f":"$G$3","v":122},{"$f":"$G$3","v":122},{"$f":"$G$3","v":122}]
[22,2410,13,2425,14,2430,null,null,null,null,0,211,null,null,"total reinforcement",{"$f":"U10","v":0},{"$f":"Z10","v":0},{"$f":"AE10","v":0},{"$f":"AJ10","v":0},{"$f":"AO10","v":1},{"$f":"AT10","v":0}]
[22,2533,13,2542,14,2547,null,null,null,null,0,211,null,null,"% target"]
[11,2653,22,2673,14,2695,null,null,null,null,0,121,null,null,"CCRF"]
[11,2814,11,2821,12,2827,null,null,null,null,0,111,null,null,"% CCRf"]
[11,2959,11,2967,12,3003,null,null,null,null,0,111,null,null,"average response rate",{"$f":"F27/P20","v":134.61904761904762},{"$f":"(F48-F27)/Q20","v":150.42857142857142},{"$f":"(F69-F48)/R20","v":129.33333333333334},{"$f":"(F90-F69)/S20","v":156.9047619047619},{"$f":"(F111-F90)/T20","v":181.42857142857142},{"$f":"(F132-F111)/U20","v":388.1904761904762}]
[11,3127,22,3197,14,3210,null,null,null,null,0,121]
[11,3403,11,3409,12,3443,null,null,null,null,0,111]
[11,3557,11,3563,12,3603,null,null,null,null,0,111]
[22,3714,13,3726,14,3733,null,null,null,null,0,211]
[22,3838,13,3847,14,3860,null,null,null,null,0,211]
[22,3969,13,3982,23,4055,null,null,null,null,0,212]
[11,4219,11,4251,12,4258,null,null,null,null,0,111]
[22,4374,24,4419,14,4430,null,null,null,null,0,221]
[11,4542,11,4547,21,4570,null,null,null,null,0,112]
[22,4668,13,4675,14,4683,null,null,null,null,0,211]
[22,4800,13,4811,14,4821,null,null,null,null,0,211]
[22,4926,13,4936,14,4943,null,null,null,null,0,211]
[22,5042,24,5051,23,5063,null,null,null,null,0,222]
[22,5169,24,5180,14,5191,null,null,null,null,0,221]
[11,5295,22,5308,14,5318,null,null,null,null,0,121]
[11,5452,11,5473,12,5480,null,null,null,null,0,111]
[22,5583,24,5594,14,5602,null,null,null,null,0,221]
[22,5703,24,5712,14,5722,null,null,null,null,0,221]
[22,5824,13,5857,14,5863,null,null,null,null,0,211]
[22,5968,13,5980,14,5986,null,null,null,null,0,211]
[11,6097,11,6102,12,6106,null,null,null,null,0,111]
[22,6205,13,6214,14,6221,null,null,null,null,0,211]
[11,6322,11,6334,21,6352,null,null,null,null,0,112]
[22,6447,13,6456,23,6478,null,null,null,null,0,212]
[22,6577,13,6585,14,6589,null,null,null,null,0,211]
[22,6732,13,6744,23,6763,null,null,null,null,0,212]
[22,6861,13,6871,14,6877,null,null,null,null,0,211]
[22,6977,13,6985,14,6991,null,null,null,null,0,211]
[22,7097,13,7106,14,7110,null,null,null,null,0,211]
[22,7243,13,7256,14,7263,null,null,null,null,0,211]
[22,7366,13,7374,14,7381,null,null,null,null,0,211]
[22,7490,13,7498,23,7529,null,null,null,null,0,212]
[22,7634,13,7642,14,7649,null,null,null,null,0,211]
[22,7750,13,7769,14,7779,null,null,null,null,0,211]
[22,7879,13,7888,14,7900,null,null,null,null,0,211]
[22,8011,13,8020,14,8042,null,null,null,null,0,211]
[22,8155,13,8162,23,8188,null,null,null,null,0,212]
[22,8288,24,8312,23,8338,null,null,null,null,0,222]
[22,8444,13,8452,14,8458,null,null,null,null,0,211]
[22,8562,13,8572,14,8579,null,null,null,null,0,211]
[11,8688,11,8695,12,8702,null,null,null,null,0,111]
[22,8834,13,8846,23,8864,null,null,null,null,0,212]
[22,8966,13,8974,14,8981,null,null,null,null,0,211]
[22,9082,13,9091,14,9098,null,null,null,null,0,211]
[11,9207,11,9216,12,9225,null,null,null,null,0,111]
[22,9327,13,9335,14,9342,null,null,null,null,0,211]
[11,9469,11,9497,12,9505,null,null,null,null,0,111]
[11,9663,11,9671,12,9678,null,null,null,null,0,111]
[11,9809,11,9818,12,9838,null,null,null,null,0,111]
[22,9942,13,9949,23,9967,null,null,null,null,0,212]
[11,10152,22,10181,14,10190,null,null,null,null,0,121]
[22,10296,13,10306,14,10311,null,null,null,null,0,211]
[22,10412,13,10422,23,10439,null,null,null,null,0,212]
[11,10551,22,10568,14,10578,null,null,null,null,0,121]
[22,10684,13,10692,23,10736,null,null,null,null,0,212]
[22,10843,13,10852,14,10865,null,null,null,null,0,211]
[11,10995,11,11006,12,11014,null,null,null,null,0,111]
[22,11249,24,11263,14,11274,null,null,null,null,0,221]
[22,11381,24,11391,23,11399,null,null,null,null,0,222]
[22,11505,13,11514,14,11521,null,null,null,null,0,211]
[22,11837,13,11849,14,11857,null,null,null,null,0,211]
[11,11967,22,11989,14,11997,null,null,null,null,0,121]
[22,12100,13,12109,14,12117,null,null,null,null,0,211]
[22,12229,13,12237,14,12245,null,null,null,null,0,211]
[22,12428,24,12455,23,12464,null,null,null,null,0,222]
[11,12667,22,12720,14,12728,null,null,null,null,0,121]
[22,12845,24,12855,23,12864,null,null,null,null,0,222]
[11,12976,22,12997,14,13020,null,null,null,null,0,121]
[22,13138,13,13151,23,13191,null,null,null,null,0,212]
[22,13328,13,13340,14,13348,null,null,null,null,0,211]
[11,13635,22,13695,23,13732,null,null,null,null,0,122]
[22,13841,24,13853,23,13868,null,null,null,null,0,222]
[22,13992,13,14021,14,14057,null,null,null,null,0,211]
[11,14177,11,14187,12,14196,null,null,null,null,0,111]
[22,14299,13,14309,14,14317,null,null,null,null,0,211]
[22,14444,24,14480,23,14505,null,null,null,null,0,222]
[22,14639,24,14649,14,14844,null,null,null,null,0,221]
[22,14961,24,14973,23,15008,null,null,null,null,0,222]
[22,15136,24,15149,23,15156,null,null,null,null,0,222]
[22,15259,13,15276,23,15298,null,null,null,null,0,212]
[22,15403,13,15412,23,15445,null,null,null,null,0,212]
[22,15551,24,15624,23,15629,null,null,null,null,0,222]
[22,15779,13,15799,14,15807,null,null,null,null,0,211]
[22,15917,13,15928,14,15937,null,null,null,null,0,211]
[22,16094,24,16171,23,16225,null,null,null,null,0,222]
[11,16386,11,16403,12,16412,null,null,null,null,0,111]
[11,16534,11,16542,12,16550,null,null,null,null,0,111]
[22,16694,13,16809,14,16820,null,null,null,null,0,211]
[22,17569,24,17577,23,17606,null,null,null,null,0,222]
[22,17763,24,17796,23,17806,null,null,null,null,0,222]
[11,17919,11,17926,12,17944,null,null,null,null,0,111]
[22,18068,24,18115,23,18132,null,null,null,null,0,222]
[22,18259,13,18379,14,18388,null,null,null,null,0,211]
[22,18498,24,18505,23,18528,null,null,null,null,0,222]
[11,18944,11,18959,12,18966,null,null,null,null,0,111]
[11,19167,11,19247,12,19254,null,null,null,null,0,111]
[22,19402,13,19425,14,19433,null,null,null,null,0,211]
[11,20113,11,20120,12,20157,null,null,null,null,0,111]
[22,20293,24,20312,23,20319,null,null,null,null,0,222]
[22,20936,24,20981,14,21029,null,null,null,null,0,221]
[22,21355,24,21719,23,21742,null,null,null,null,0,222]
[11,21885,11,21893,12,21927,null,null,null,null,0,111]
[22,22138,24,22167,23,22207,null,null,null,null,0,222]
[22,23923,24,23931,23,23959,null,null,null,null,null,222]

{"sheet":"!2011-05-07_09h34m.Subject 52 p","index":5,"n_rows":153,"n_cols":48,"rows_kept":153,"cut":false,"hidden":false,"merged":[[4,39,4,42],[5,39,5,40],[4,44,4,47],[5,44,5,45],[4,24,4,27],[5,24,5,25],[4,29,4,32],[5,29,5,30],[4,34,4,37],[5,34,5,35],[1,1,1,2],[5,13,5,14],[18,13,18,14],[19,13,19,14],[4,19,4,22],[5,19,5,20]]}
["Report for:!2011-05-07_09h34m.Subject 52 phase 2"]
["Date","2011-05-07",null,null,null,"Group",0]
["Hen",0,null,null,null,"Correct Sequence",{"$f":"Start!J2","v":122},null,null,null,null,null,null,null,null,"Total Sequences in Data",{"$f":"4994-COUNTBLANK(L7:L5000)","v":147},null,null,null,null,"Total Sequences in Block Data",{"$f":"COUNTA(L7:L31)","v":25},null,null,null,"Total Sequences in Block Data",{"$f":"COUNTA(L32:L55)","v":24},null,null,null,"Total Sequences in Block Data",{"$f":"COUNTA(L56:L80)","v":25},null,null,null,"Total Sequences in Block Data",{"$f":"COUNTA(L81:L104)","v":24},null,null,null,"Total Sequences in Block Data",{"$f":"COUNTA(L105:L129)","v":25},null,null,null,"Total Sequences in Block Data",{"$f":"COUNTA(L130:L153)","v":24}]
["Program",0,null,null,null,null,null,null,null,null,null,null,null,null,null,"Total Sequences in Summary",{"$f":"SUM(O7:O14)","v":147},null,null,null,null,"Total Sequences in Block Summary",{"$f":"SUM(U7:U14)","v":25},null,null,null,"Total Sequences in Block Summary",{"$f":"SUM(Z7:Z14)","v":24},null,null,null,"Total Sequences in Block Summary",{"$f":"SUM(AE7:AE14)","v":25},null,null,null,"Total Sequences in Block Summary",{"$f":"SUM(AJ7:AJ14)","v":24},null,null,null,"Total Sequences in Block Summary",{"$f":"SUM(AO7:AO14)","v":25},null,null,null,"Total Sequences in Block Summary",{"$f":"SUM(AT7:AT14)","v":24}]
[null,null,null,null,null,null,null,null,null,null,null,null,null,null,null,null,null,null,null,"Block 1",null,null,null,null,"Block 2",null,null,null,null,"Block 3",null,null,null,null,"Block 4",null,null,null,null,"Block 5",null,null,null,null,"Block 6"]
["Sequence\nComponent\n1","Time\n1","Sequence\nComponent\n2","Time\n2","Sequence\nComponent\n3","Time\n3","Sequence\nComponent\n4","Time\n4","Sequence\nComponent\n5","Time\n5","Correct?\n0=No 1=Yes","Sequence",null,"Frequency",null,"Relative Frequency","Variability",null,null,"Frequency",null,"Relative Frequency","Variability",null,"Frequency",null,"Relative Frequency","Variability",null,"Frequency",null,"Relative Frequency","Variability",null,"Frequency",null,"Relative Frequency","Variability",null,"Frequency",null,"Relative Frequency","Variability",null,"Frequency",null,"Relative Frequency","Variability"]
[22,10,24,21,23,29,null,null,null,null,0,222,null,111,{"$f":"COUNTIF($L$7:$L$500,N7)","v":16},{"$f":"O7/$Q$4","v":0.10884353741496598},{"$f":"IF(P7=0,0,(P7*((LOG(P7))/LOG(2))))","v":-0.34826365658082875},null,null,{"$f":"N7","v":111},{"$f":"COUNTIF(L7:L31,T7)","v":7},{"$f":"U7/(W4-U10)","v":0.28000000000000003},{"$f":"IF(V7=0,0,(V7*((LOG(V7))/LOG(2))))","v":-0.51422035496079388},null,{"$f":"N7","v":111},{"$f":"COUNTIF(L32:L55,Y7)","v":4},{"$f":"Z7/(AB4-Z10)","v":0.18181818181818182},{"$f":"IF(AA7=0,0,(AA7*((LOG(AA7))/LOG(2))))","v":-0.44716938520678134},null,{"$f":"N7","v":111},{"$f":"COUNTIF(L56:L80,AD7)","v":3},{"$f":"AE7/(AG4-AE10)","v":0.125},{"$f":"IF(AF7=0,0,(AF7*((LOG(AF7))/LOG(2))))","v":-0.375},null,{"$f":"N7","v":111},{"$f":"COUNTIF(L81:L104,AI7)","v":1},{"$f":"AJ7/(AL4-AJ10)","v":4.3478260869565216E-2},{"$f":"IF(AK7=0,0,(AK7*((LOG(AK7))/LOG(2))))","v":-0.19667660678508753},null,{"$f":"N7","v":111},{"$f":"COUNTIF(L105:L129,AN7)","v":0},{"$f":"AO7/(AQ4-AO10)","v":0},{"$f":"IF(AP7=0,0,(AP7*((LOG(AP7))/LOG(2))))","v":0},null,{"$f":"N7","v":111},{"$f":"COUNTIF(L130:L153,AS7)","v":1},{"$f":"AT7/(AV4-AT10)","v":4.1666666666666664E-2},{"$f":"IF(AU7=0,0,(AU7*((LOG(AU7))/LOG(2))))","v":-0.19104010419671485}]
[11,141,11,152,12,160,null,null,null,null,0,111,null,112,{"$f":"COUNTIF($L$7:$L$500,N8)","v":5},{"$f":"O8/$Q$4","v":3.4013605442176874E-2},{"$f":"IF(P8=0,0,(P8*((LOG(P8))/LOG(2))))","v":-0.16590966836561233},null,null,{"$f":"N8","v":112},{"$f":"COUNTIF(L7:L31,T8)","v":0},{"$f":"U8/(W4-U10)","v":0},{"$f":"IF(V8=0,0,(V8*((LOG(V8))/LOG(2))))","v":0},null,{"$f":"N8","v":112},{"$f":"COUNTIF(L32:L55,Y8)","v":1},{"$f":"Z8/(AB4-Z10)","v":4.5454545454545456E-2},{"$f":"IF(AA8=0,0,(AA8*((LOG(AA8))/LOG(2))))","v":-0.20270143721078623},null,{"$f":"N8","v":112},{"$f":"COUNTIF(L56:L80,AD8)","v":2},{"$f":"AE8/(AG4-AE10)","v":8.3333333333333329E-2},{"$f":"IF(AF8=0,0,(AF8*((LOG(AF8))/LOG(2))))","v":-0.29874687506009634},null,{"$f":"N8","v":112},{"$f":"COUNTIF(L81:L104,AI8)","v":0},{"$f":"AJ8/(AL4-AJ10)","v":0},{"$f":"IF(AK8=0,0,(AK8*((LOG(AK8))/LOG(2))))","v":0},null,{"$f":"N8","v":112},{"$f":"COUNTIF(L105:L129,AN8)","v":1},{"$f":"AO8/(AQ4-AO10)","v":0.04},{"$f":"IF(AP8=0,0,(AP8*((LOG(AP8))/LOG(2))))","v":-0.18575424759098899},null,{"$f":"N8","v":112},{"$f":"COUNTIF(L130:L153,AS8)","v":1},{"$f":"AT8/(AV4-AT10)","v":4.1666666666666664E-2},{"$f":"IF(AU8=0,0,(AU8*((LOG(AU8))/LOG(2))))","v":-0.19104010419671485}]
[22,263,13,271,14,276,null,null,null,null,0,211,null,121,{"$f":"COUNTIF($L$7:$L$500,N9)","v":1},{"$f":"O9/$Q$4","v":6.8027210884353739E-3},{"$f":"IF(P9=0,0,(P9*((LOG(P9))/LOG(2))))","v":-4.8977362890043293E-2},null,null,{"$f":"N9","v":121},{"$f":"COUNTIF(L7:L31,T9)","v":0},{"$f":"U9/(W4-U10)","v":0},{"$f":"IF(V9=0,0,(V9*((LOG(V9))/LOG(2))))","v":0},null,{"$f":"N9","v":121},{"$f":"COUNTIF(L32:L55,Y9)","v":0},{"$f":"Z9/(AB4-Z10)","v":0},{"$f":"IF(AA9=0,0,(AA9*((LOG(AA9))/LOG(2))))","v":0},null,{"$f":"N9","v":121},{"$f":"COUNTIF(L56:L80,AD9)","v":0},{"$f":"AE9/(AG4-AE10)","v":0},{"$f":"IF(AF9=0,0,(AF9*((LOG(AF9))/LOG(2))))","v":0},null,{"$f":"N9","v":121},{"$f":"COUNTIF(L81:L104,AI9)","v":0},{"$f":"AJ9/(AL4-AJ10)","v":0},{"$f":"IF(AK9=0,0,(AK9*((LOG(AK9))/LOG(2))))","v":0},null,{"$f":"N9","v":121},{"$f":"COUNTIF(L105:L129,AN9)","v":0},{"$f":"AO9/(AQ4-AO10)","v":0},{"$f":"IF(AP9=0,0,(AP9*((LOG(AP9))/LOG(2))))","v":0},null,{"$f":"N9","v":121},{"$f":"COUNTIF(L130:L153,AS9)","v":1},{"$f":"AT9/(AV4-AT10)","v":4.1666666666666664E-2},{"$f":"IF(AU9=0,0,(AU9*((LOG(AU9))/LOG(2))))","v":-0.19104010419671485}]
[22,392,13,400,14,410,null,null,null,null,0,211,null,122,{"$f":"COUNTIF($L$7:$L$500,N10)","v":4},{"$f":"O10/$Q$4","v":2.7210884353741496E-2},{"$f":"IF(P10=0,0,(P10*((LOG(P10))/LOG(2))))","v":-0.14148768285269017},null,null,{"$f":"N10","v":122},{"$f":"COUNTIF(L7:L31,T10)","v":0},null,null,null,{"$f":"N10","v":122},{"$f":"COUNTIF(L32:L55,Y10)","v":2},null,null,null,{"$f":"N10","v":122},{"$f":"COUNTIF(L56:L80,AD10)","v":1},null,null,null,{"$f":"N10","v":122},{"$f":"COUNTIF(L81:L104,AI10)","v":1},null,null,null,{"$f":"N10","v":122},{"$f":"COUNTIF(L105:L129,AN10)","v":0},null,null,null,{"$f":"N10","v":122},{"$f":"COUNTIF(L130:L153,AS10)","v":0}]
[22,560,13,570,14,590,null,null,null,null,0,211,null,211,{"$f":"COUNTIF($L$7:$L$500,N11)","v":27},{"$f":"O11/$Q$4","v":0.18367346938775511},{"$f":"IF(P11=0,0,(P11*((LOG(P11))/LOG(2))))","v":-0.44904211396032784},null,null,{"$f":"N11","v":211},{"$f":"COUNTIF(L7:L31,T11)","v":12},{"$f":"U11/(W4-U10)","v":0.48},{"$f":"IF(V11=0,0,(V11*((LOG(V11))/LOG(2))))","v":-0.50826897074571287},null,{"$f":"N11","v":211},{"$f":"COUNTIF(L32:L55,Y11)","v":4},{"$f":"Z11/(AB4-Z10)","v":0.18181818181818182},{"$f":"IF(AA11=0,0,(AA11*((LOG(AA11))/LOG(2))))","v":-0.44716938520678134},null,{"$f":"N11","v":211},{"$f":"COUNTIF(L56:L80,AD11)","v":2},{"$f":"AE11/(AG4-AE10)","v":8.3333333333333329E-2},{"$f":"IF(AF11=0,0,(AF11*((LOG(AF11))/LOG(2))))","v":-0.29874687506009634},null,{"$f":"N11","v":211},{"$f":"COUNTIF(L81:L104,AI11)","v":3},{"$f":"AJ11/(AL4-AJ10)","v":0.13043478260869565},{"$f":"IF(AK11=0,0,(AK11*((LOG(AK11))/LOG(2))))","v":-0.3832955811307639},null,{"$f":"N11","v":211},{"$f":"COUNTIF(L105:L129,AN11)","v":2},{"$f":"AO11/(AQ4-AO10)","v":0.08},{"$f":"IF(AP11=0,0,(AP11*((LOG(AP11))/LOG(2))))","v":-0.29150849518197797},null,{"$f":"N11","v":211},{"$f":"COUNTIF(L130:L153,AS11)","v":4},{"$f":"AT11/(AV4-AT10)","v":0.16666666666666666},{"$f":"IF(AU11=0,0,(AU11*((LOG(AU11))/LOG(2))))","v":-0.43082708345352599}]
[22,695,24,707,14,718,null,null,null,null,0,221,null,212,{"$f":"COUNTIF($L$7:$L$500,N12)","v":14},{"$f":"O12/$Q$4","v":9.5238095238095233E-2},{"$f":"IF(P12=0,0,(P12*((LOG(P12))/LOG(2))))","v":-0.32307784978845333},null,null,{"$f":"N12","v":212},{"$f":"COUNTIF(L7:L31,T12)","v":0},{"$f":"U12/(W4-U10)","v":0},{"$f":"IF(V12=0,0,(V12*((LOG(V12))/LOG(2))))","v":0},null,{"$f":"N12","v":212},{"$f":"COUNTIF(L32:L55,Y12)","v":1},{"$f":"Z12/(AB4-Z10)","v":4.5454545454545456E-2},{"$f":"IF(AA12=0,0,(AA12*((LOG(AA12))/LOG(2))))","v":-0.20270143721078623},null,{"$f":"N12","v":212},{"$f":"COUNTIF(L56:L80,AD12)","v":3},{"$f":"AE12/(AG4-AE10)","v":0.125},{"$f":"IF(AF12=0,0,(AF12*((LOG(AF12))/LOG(2))))","v":-0.375},null,{"$f":"N12","v":212},{"$f":"COUNTIF(L81:L104,AI12)","v":2},{"$f":"AJ12/(AL4-AJ10)","v":8.6956521739130432E-2},{"$f":"IF(AK12=0,0,(AK12*((LOG(AK12))/LOG(2))))","v":-0.30639669183104457},null,{"$f":"N12","v":212},{"$f":"COUNTIF(L105:L129,AN12)","v":5},{"$f":"AO12/(AQ4-AO10)","v":0.2},{"$f":"IF(AP12=0,0,(AP12*((LOG(AP12))/LOG(2))))","v":-0.46438561897747244},null,{"$f":"N12","v":212},{"$f":"COUNTIF(L130:L153,AS12)","v":3},{"$f":"AT12/(AV4-AT10)","v":0.125},{"$f":"IF(AU12=0,0,(AU12*((LOG(AU12))/LOG(2))))","v":-0.375}]
[11,825,11,834,12,840,null,null,null,null,0,111,null,221,{"$f":"COUNTIF($L$7:$L$500,N13)","v":15},{"$f":"O13/$Q$4","v":0.10204081632653061},{"$f":"IF(P13=0,0,(P13*((LOG(P13))/LOG(2))))","v":-0.33599813767631082},null,null,{"$f":"N13","v":221},{"$f":"COUNTIF(L7:L31,T13)","v":1},{"$f":"U13/(W4-U10)","v":0.04},{"$f":"IF(V13=0,0,(V13*((LOG(V13))/LOG(2))))","v":-0.18575424759098899},null,{"$f":"N13","v":221},{"$f":"COUNTIF(L32:L55,Y13)","v":2},{"$f":"Z13/(AB4-Z10)","v":9.0909090909090912E-2},{"$f":"IF(AA13=0,0,(AA13*((LOG(AA13))/LOG(2))))","v":-0.31449378351248153},null,{"$f":"N13","v":221},{"$f":"COUNTIF(L56:L80,AD13)","v":1},{"$f":"AE13/(AG4-AE10)","v":4.1666666666666664E-2},{"$f":"IF(AF13=0,0,(AF13*((LOG(AF13))/LOG(2))))","v":-0.19104010419671485},null,{"$f":"N13","v":221},{"$f":"COUNTIF(L81:L104,AI13)","v":1},{"$f":"AJ13/(AL4-AJ10)","v":4.3478260869565216E-2},{"$f":"IF(AK13=0,0,(AK13*((LOG(AK13))/LOG(2))))","v":-0.19667660678508753},null,{"$f":"N13","v":221},{"$f":"COUNTIF(L105:L129,AN13)","v":3},{"$f":"AO13/(AQ4-AO10)","v":0.12},{"$f":"IF(AP13=0,0,(AP13*((LOG(AP13))/LOG(2))))","v":-0.36706724268642821},null,{"$f":"N13","v":221},{"$f":"COUNTIF(L130:L153,AS13)","v":7},{"$f":"AT13/(AV4-AT10)","v":0.29166666666666669},{"$f":"IF(AU13=0,0,(AU13*((LOG(AU13))/LOG(2))))","v":-0.51846887711020273}]
[22,943,13,950,14,957,null,null,null,null,0,211,null,222,{"$f":"COUNTIF($L$7:$L$500,N14)","v":65},{"$f":"O14/$Q$4","v":0.44217687074829931},{"$f":"IF(P14=0,0,(P14*((LOG(P14))/LOG(2))))","v":-0.52057683379261321},null,null,{"$f":"N14","v":222},{"$f":"COUNTIF(L7:L31,T14)","v":5},{"$f":"U14/(W4-U10)","v":0.2},{"$f":"IF(V14=0,0,(V14*((LOG(V14))/LOG(2))))","v":-0.46438561897747244},null,{"$f":"N14","v":222},{"$f":"COUNTIF(L32:L55,Y14)","v":10},{"$f":"Z14/(AB4-Z10)","v":0.45454545454545453},{"$f":"IF(AA14=0,0,(AA14*((LOG(AA14))/LOG(2))))","v":-0.51704705624997038},null,{"$f":"N14","v":222},{"$f":"COUNTIF(L56:L80,AD14)","v":13},{"$f":"AE14/(AG4-AE10)","v":0.54166666666666663},{"$f":"IF(AF14=0,0,(AF14*((LOG(AF14))/LOG(2))))","v":-0.47911650723086807},null,{"$f":"N14","v":222},{"$f":"COUNTIF(L81:L104,AI14)","v":16},{"$f":"AJ14/(AL4-AJ10)","v":0.69565217391304346},{"$f":"IF(AK14=0,0,(AK14*((LOG(AK14))/LOG(2))))","v":-0.36421701290922631},null,{"$f":"N14","v":222},{"$f":"COUNTIF(L105:L129,AN14)","v":14},{"$f":"AO14/(AQ4-AO10)","v":0.56000000000000005},{"$f":"IF(AP14=0,0,(AP14*((LOG(AP14))/LOG(2))))","v":-0.46844070992158748},null,{"$f":"N14","v":222},{"$f":"COUNTIF(L130:L153,AS14)","v":7},{"$f":"AT14/(AV4-AT10)","v":0.29166666666666669},{"$f":"IF(AU14=0,0,(AU14*((LOG(AU14))/LOG(2))))","v":-0.51846887711020273}]
[11,1066,11,1073,12,1080,null,null,null,null,0,111,null,null,null,{"$f":"SUM(P7:P14)","v":1},{"$f":"-SUM(Q7:Q14)","v":2.3333333059068799},null,null,null,null,{"$f":"SUM(V7:V14)","v":1},{"$f":"-SUM(W7:W14)","v":1.6726291922749683},null,null,null,{"$f":"SUM(AA7:AA14)","v":1},{"$f":"-SUM(AB7:AB14)","v":2.1312824845975871},null,null,null,{"$f":"SUM(AF7:AF14)","v":1},{"$f":"-SUM(AG7:AG14)","v":2.0176503615477754},null,null,null,{"$f":"SUM(AK7:AK14)","v":1},{"$f":"-SUM(AL7:AL14)","v":1.44726249944121},null,null,null,{"$f":"SUM(AP7:AP14)","v":1},{"$f":"-SUM(AQ7:AQ14)","v":1.777156314358455},null,null,null,{"$f":"SUM(AU7:AU14)","v":1},{"$f":"-SUM(AV7:AV14)","v":2.4158851502640757}]
[22,1181,13,1189,14,1197,null,null,null,null,0,211,null,null,null,"U=",{"$f":"Q15/(LOG(Q4)/LOG(2))","v":0.32408881878914342},null,null,null,null,"U1=",{"$f":"W15/(LOG(W4)/LOG(2))","v":0.36018109173103141},null,null,null,"U2=",{"$f":"AB15/(LOG(AB4)/LOG(2))","v":0.46484185732432132},null,null,null,"U3=",{"$f":"AG15/(LOG(AG4)/LOG(2))","v":0.43447735655346642},null,null,null,"U4=",{"$f":"AL15/(LOG(AL4)/LOG(2))","v":0.31565416275783587},null,null,null,"U5=",{"$f":"AQ15/(LOG(AQ4)/LOG(2))","v":0.3826897823131481},null,null,null,"U6=",{"$f":"AV15/(LOG(AV4)/LOG(2))","v":0.52691492021670572}]
[22,1299,13,1308,14,1313,null,null,null,null,0,211]
[22,1441,24,1447,23,1471,null,null,null,null,0,222]
[11,1632,11,1648,12,1659,null,null,null,null,0,111,null,"Total Target Seq"]
[22,1765,24,1773,23,1790,null,null,null,null,0,222,null,{"$f":"COUNTIF(L7:L153,G3)","v":4},null,25,24,25,24,25,24]
[22,1940,13,1955,14,1961,null,null,null,null,0,211,null,null,null,"% of reinforcement given in 6 equal intervals based on number of trials "]
[22,2087,24,2097,23,2104,null,null,null,null,0,222,null,null,null,"%_1","%_2","%_3","%_4","%_5","%_6"]
[22,2247,13,2259,14,2266,null,null,null,null,0,211,null,null,"target sequence",{"$f":"$G$3","v":122},{"$f":"$G$3","v":122},{"$f":"$G$3","v":122},{"$f":"$G$3","v":122},{"$f":"$G$3","v":122},{"$f":"$G$3","v":122}]
[11,2371,11,2377,12,2413,null,null,null,null,0,111,null,null,"total reinforcement",{"$f":"U10","v":0},{"$f":"Z10","v":2},{"$f":"AE10","v":1},{"$f":"AJ10","v":1},{"$f":"AO10","v":0},{"$f":"AT10","v":0}]
[22,2515,13,2524,14,2529,null,null,null,null,0,211,null,null,"% target"]
[22,2640,13,2650,14,2654,null,null,null,null,0,211,null,null,"CCRF"]
[11,2755,11,2763,12,2770,null,null,null,null,0,111,null,null,"% CCRf"]
[22,2873,24,2881,23,2888,null,null,null,null,0,222,null,null,"average response rate",{"$f":"F31/P20","v":130.72},{"$f":"(F55-F31)/Q20","v":162.95833333333334},{"$f":"(F80-F55)/R20","v":142.76},{"$f":"(F104-F80)/S20","v":142.04166666666666},{"$f":"(F129-F104)/T20","v":169.84},{"$f":"(F153-F129)/U20","v":227.45833333333334}]
[22,2997,13,3006,14,3014,null,null,null,null,0,211]
[22,3116,13,3125,14,3129,null,null,null,null,0,211]
[11,3258,11,3262,12,3268,null,null,null,null,0,111]
[22,3393,13,3414,14,3435,null,null,null,null,0,211]
[22,3538,13,3547,14,3557,null,null,null,null,0,211]
[11,3681,11,3690,12,3700,null,null,null,null,0,111]
[11,3823,22,3862,23,3870,null,null,null,null,0,122]
[11,3975,22,3995,23,4002,null,null,null,null,0,122]
[11,4130,11,4136,12,4146,null,null,null,null,0,111]
[22,4250,13,4263,23,4279,null,null,null,null,0,212]
[22,4382,24,4412,23,4448,null,null,null,null,0,222]
[11,4577,11,4582,12,4588,null,null,null,null,0,111]
[22,4693,24,4699,14,4862,null,null,null,null,0,221]
[22,4979,24,4999,14,5007,null,null,null,null,0,221]
[22,5200,13,5289,14,5294,null,null,null,null,0,211]
[22,5402,13,5412,14,5419,null,null,null,null,0,211]
[22,5528,24,5562,23,5569,null,null,null,null,0,222]
[22,5697,24,5705,23,5712,null,null,null,null,0,222]
[11,5910,11,5917,12,5927,null,null,null,null,0,111]
[22,6109,24,6114,23,6127,null,null,null,null,0,222]
[22,6243,24,6255,23,6285,null,null,null,null,0,222]
[22,6390,24,6398,23,6406,null,null,null,null,0,222]
[11,6527,11,6546,21,6606,null,null,null,null,0,112]
[22,6718,24,6736,23,6748,null,null,null,null,0,222]
[22,6855,24,6877,23,6904,null,null,null,null,0,222]
[22,7004,24,7041,23,7059,null,null,null,null,0,222]
[22,7160,24,7168,23,7179,null,null,null,null,0,222]
[22,7315,24,7341,23,7358,null,null,null,null,0,222]
[22,7465,24,7479,23,7488,null,null,null,null,0,222]
[22,7653,13,7665,14,7673,null,null,null,null,0,211]
[11,7782,11,7790,12,7828,null,null,null,null,0,111]
[22,7941,24,7947,23,7953,null,null,null,null,0,222]
[22,8055,24,8061,23,8068,null,null,null,null,0,222]
[22,8165,24,8172,23,8180,null,null,null,null,0,222]
[11,8300,11,8305,21,8338,null,null,null,null,0,112]
[22,8430,13,8442,23,8458,null,null,null,null,0,212]
[22,8589,24,8602,23,8608,null,null,null,null,0,222]
[22,8718,24,8725,23,8736,null,null,null,null,0,222]
[22,8835,24,8853,23,8868,null,null,null,null,0,222]
[22,8970,24,8984,23,8997,null,null,null,null,0,222]
[22,9096,13,9108,23,9121,null,null,null,null,0,212]
[22,9267,24,9282,23,9288,null,null,null,null,0,222]
[22,9391,24,9398,23,9404,null,null,null,null,0,222]
[22,9541,13,9559,14,9566,null,null,null,null,0,211]
[11,9689,22,9716,23,9729,null,null,null,null,0,122]
[11,9874,11,9887,12,9899,null,null,null,null,0,111]
[11,10002,11,10014,12,10064,null,null,null,null,0,111]
[22,10180,24,10194,23,10201,null,null,null,null,0,222]
[22,10312,24,10325,14,10340,null,null,null,null,0,221]
[11,10468,11,10477,21,10494,null,null,null,null,0,112]
[22,10589,13,10602,23,10617,null,null,null,null,0,212]
[22,10729,24,10740,23,10748,null,null,null,null,0,222]
[22,10855,24,10865,23,10879,null,null,null,null,0,222]
[22,10983,24,10999,23,11003,null,null,null,null,0,222]
[22,11111,13,11126,14,11137,null,null,null,null,0,211]
[22,11241,13,11265,23,11283,null,null,null,null,0,212]
[22,11392,24,11397,23,11404,null,null,null,null,0,222]
[22,11506,24,11512,23,11522,null,null,null,null,0,222]
[22,11629,24,11637,23,11651,null,null,null,null,0,222]
[22,11758,24,11782,23,11788,null,null,null,null,0,222]
[11,11932,11,11943,12,11952,null,null,null,null,0,111]
[22,12063,24,12078,14,12092,null,null,null,null,0,221]
[22,12192,24,12200,23,12213,null,null,null,null,0,222]
[22,12338,24,12348,23,12361,null,null,null,null,0,222]
[22,12469,24,12477,23,12496,null,null,null,null,0,222]
[22,12594,24,12600,23,12625,null,null,null,null,0,222]
[22,12743,24,12751,23,12773,null,null,null,null,0,222]
[22,12917,24,12924,23,12951,null,null,null,null,0,222]
[22,13073,13,13101,14,13114,null,null,null,null,0,211]
[22,13218,24,13231,23,13239,null,null,null,null,0,222]
[22,13343,24,13350,23,13358,null,null,null,null,0,222]
[22,13473,13,13543,23,13560,null,null,null,null,0,212]
[11,13679,22,13699,23,13713,null,null,null,null,0,122]
[22,13849,24,13854,23,13864,null,null,null,null,0,222]
[22,14007,24,14015,23,14031,null,null,null,null,0,222]
[22,14133,13,14153,14,14157,null,null,null,null,0,211]
[22,14288,24,14300,23,14314,null,null,null,null,0,222]
[22,14416,13,14427,23,14441,null,null,null,null,0,212]
[22,14537,24,14561,14,14600,null,null,null,null,0,221]
[22,14721,13,14773,23,14788,null,null,null,null,0,212]
[22,14891,24,14958,23,14968,null,null,null,null,0,222]
[22,15087,24,15103,23,15117,null,null,null,null,0,222]
[22,15224,24,15235,23,15243,null,null,null,null,0,222]
[22,15363,13,15377,14,15385,null,null,null,null,0,211]
[22,15540,24,15551,14,15567,null,null,null,null,0,221]
[22,15687,13,15705,23,15758,null,null,null,null,0,212]
[22,15966,24,15979,23,15985,null,null,null,null,0,222]
[22,16190,13,16205,14,16214,null,null,null,null,0,211]
[11,16331,11,16347,21,16420,null,null,null,null,0,112]
[22,16510,13,16522,23,16534,null,null,null,null,0,212]
[22,16632,24,16644,23,16653,null,null,null,null,0,222]
[22,16750,24,16761,14,16791,null,null,null,null,0,221]
[22,16894,24,16907,23,16923,null,null,null,null,0,222]
[22,17082,24,17102,23,17114,null,null,null,null,0,222]
[22,17313,24,17332,23,17344,null,null,null,null,0,222]
[22,17449,24,17460,23,17469,null,null,null,null,0,222]
[22,17626,24,17638,23,17650,null,null,null,null,0,222]
[22,17775,13,17792,23,17833,null,null,null,null,0,212]
[22,17957,24,17970,23,18083,null,null,null,null,0,222]
[22,18224,24,18239,23,18252,null,null,null,null,0,222]
[22,18381,24,18390,23,18403,null,null,null,null,0,222]
[22,18532,24,18543,23,18586,null,null,null,null,0,222]
[22,18770,24,18777,14,18858,null,null,null,null,0,221]
[22,18974,24,18988,14,19079,null,null,null,null,0,221]
[22,19193,13,19206,14,19232,null,null,null,null,0,211]
[22,19392,13,19406,23,19424,null,null,null,null,0,212]
[22,19522,24,19541,23,19553,null,null,null,null,0,222]
[22,19671,24,19686,14,19753,null,null,null,null,0,221]
[22,19854,13,19867,14,19878,null,null,null,null,0,211]
[22,20053,24,20132,14,20151,null,null,null,null,0,221]
[22,20299,24,20307,23,20319,null,null,null,null,0,222]
[22,20424,13,20477,23,20495,null,null,null,null,0,212]
[22,20764,13,20831,14,20844,null,null,null,null,0,211]
[22,20988,24,21027,23,22151,null,null,null,null,0,222]
[22,22260,24,22274,14,22305,null,null,null,null,0,221]
[11,22465,11,22481,21,22510,null,null,null,null,0,112]
[22,22608,24,22621,23,22633,null,null,null,null,0,222]
[22,22734,24,22746,14,22760,null,null,null,null,0,221]
[22,22860,24,22869,23,22883,null,null,null,null,0,222]
[22,22985,13,23055,14,23069,null,null,null,null,0,211]
[11,23173,11,23184,12,23191,null,null,null,null,0,111]
[22,23292,24,23300,23,23313,null,null,null,null,0,222]
[22,23449,13,23464,23,23506,null,null,null,null,0,212]
[11,23637,22,23669,14,23682,null,null,null,null,0,121]
[22,23825,24,23848,14,23862,null,null,null,null,0,221]

{"sheet":"!2011-05-08_09h18m.Subject 52 p","index":6,"n_rows":142,"n_cols":48,"rows_kept":142,"cut":false,"hidden":false,"merged":[[4,39,4,42],[5,39,5,40],[4,44,4,47],[5,44,5,45],[4,24,4,27],[5,24,5,25],[4,29,4,32],[5,29,5,30],[4,34,4,37],[5,34,5,35],[1,1,1,2],[5,13,5,14],[18,13,18,14],[19,13,19,14],[4,19,4,22],[5,19,5,20]]}
["Report for:!2011-05-08_09h18m.Subject 52 phase 2"]
["Date","2011-05-08",null,null,null,"Group",0]
["Hen",0,null,null,null,"Correct Sequence",{"$f":"Start!J2","v":122},null,null,null,null,null,null,null,null,"Total Sequences in Data",{"$f":"4994-COUNTBLANK(L7:L5000)","v":136},null,null,null,null,"Total Sequences in Block Data",{"$f":"COUNTA(L7:L29)","v":23},null,null,null,"Total Sequences in Block Data",{"$f":"COUNTA(L30:L51)","v":22},null,null,null,"Total Sequences in Block Data",{"$f":"COUNTA(L52:L74)","v":23},null,null,null,"Total Sequences in Block Data",{"$f":"COUNTA(L75:L97)","v":23},null,null,null,"Total Sequences in Block Data",{"$f":"COUNTA(L98:L119)","v":22},null,null,null,"Total Sequences in Block Data",{"$f":"COUNTA(L120:L142)","v":23}]
["Program",0,null,null,null,null,null,null,null,null,null,null,null,null,null,"Total Sequences in Summary",{"$f":"SUM(O7:O14)","v":136},null,null,null,null,"Total Sequences in Block Summary",{"$f":"SUM(U7:U14)","v":23},null,null,null,"Total Sequences in Block Summary",{"$f":"SUM(Z7:Z14)","v":22},null,null,null,"Total Sequences in Block Summary",{"$f":"SUM(AE7:AE14)","v":23},null,null,null,"Total Sequences in Block Summary",{"$f":"SUM(AJ7:AJ14)","v":23},null,null,null,"Total Sequences in Block Summary",{"$f":"SUM(AO7:AO14)","v":22},null,null,null,"Total Sequences in Block Summary",{"$f":"SUM(AT7:AT14)","v":23}]
[null,null,null,null,null,null,null,null,null,null,null,null,null,null,null,null,null,null,null,"Block 1",null,null,null,null,"Block 2",null,null,null,null,"Block 3",null,null,null,null,"Block 4",null,null,null,null,"Block 5",null,null,null,null,"Block 6"]
["Sequence\nComponent\n1","Time\n1","Sequence\nComponent\n2","Time\n2","Sequence\nComponent\n3","Time\n3","Sequence\nComponent\n4","Time\n4","Sequence\nComponent\n5","Time\n5","Correct?\n0=No 1=Yes","Sequence",null,"Frequency",null,"Relative Frequency","Variability",null,null,"Frequency",null,"Relative Frequency","Variability",null,"Frequency",null,"Relative Frequency","Variability",null,"Frequency",null,"Relative Frequency","Variability",null,"Frequency",null,"Relative Frequency","Variability",null,"Frequency",null,"Relative Frequency","Variability",null,"Frequency",null,"Relative Frequency","Variability"]
[11,11,22,24,14,31,null,null,null,null,0,121,null,111,{"$f":"COUNTIF($L$7:$L$500,N7)","v":1},{"$f":"O7/$Q$4","v":7.3529411764705881E-3},{"$f":"IF(P7=0,0,(P7*((LOG(P7))/LOG(2))))","v":-5.2113697362134843E-2},null,null,{"$f":"N7","v":111},{"$f":"COUNTIF(L7:L29,T7)","v":0},{"$f":"U7/(W4-U10)","v":0},{"$f":"IF(V7=0,0,(V7*((LOG(V7))/LOG(2))))","v":0},null,{"$f":"N7","v":111},{"$f":"COUNTIF(L30:L51,Y7)","v":0},{"$f":"Z7/(AB4-Z10)","v":0},{"$f":"IF(AA7=0,0,(AA7*((LOG(AA7))/LOG(2))))","v":0},null,{"$f":"N7","v":111},{"$f":"COUNTIF(L52:L74,AD7)","v":0},{"$f":"AE7/(AG4-AE10)","v":0},{"$f":"IF(AF7=0,0,(AF7*((LOG(AF7))/LOG(2))))","v":0},null,{"$f":"N7","v":111},{"$f":"COUNTIF(L75:L97,AI7)","v":0},{"$f":"AJ7/(AL4-AJ10)","v":0},{"$f":"IF(AK7=0,0,(AK7*((LOG(AK7))/LOG(2))))","v":0},null,{"$f":"N7","v":111},{"$f":"COUNTIF(L98:L119,AN7)","v":1},{"$f":"AO7/(AQ4-AO10)","v":0.05},{"$f":"IF(AP7=0,0,(AP7*((LOG(AP7))/LOG(2))))","v":-0.21609640474436814},null,{"$f":"N7","v":111},{"$f":"COUNTIF(L120:L142,AS7)","v":0},{"$f":"AT7/(AV4-AT10)","v":0},{"$f":"IF(AU7=0,0,(AU7*((LOG(AU7))/LOG(2))))","v":0}]
[22,142,24,150,23,158,null,null,null,null,0,222,null,112,{"$f":"COUNTIF($L$7:$L$500,N8)","v":5},{"$f":"O8/$Q$4","v":3.6764705882352942E-2},{"$f":"IF(P8=0,0,(P8*((LOG(P8))/LOG(2))))","v":-0.17520348332216826},null,null,{"$f":"N8","v":112},{"$f":"COUNTIF(L7:L29,T8)","v":2},{"$f":"U8/(W4-U10)","v":9.5238095238095233E-2},{"$f":"IF(V8=0,0,(V8*((LOG(V8))/LOG(2))))","v":-0.32307784978845333},null,{"$f":"N8","v":112},{"$f":"COUNTIF(L30:L51,Y8)","v":1},{"$f":"Z8/(AB4-Z10)","v":4.5454545454545456E-2},{"$f":"IF(AA8=0,0,(AA8*((LOG(AA8))/LOG(2))))","v":-0.20270143721078623},null,{"$f":"N8","v":112},{"$f":"COUNTIF(L52:L74,AD8)","v":1},{"$f":"AE8/(AG4-AE10)","v":4.5454545454545456E-2},{"$f":"IF(AF8=0,0,(AF8*((LOG(AF8))/LOG(2))))","v":-0.20270143721078623},null,{"$f":"N8","v":112},{"$f":"COUNTIF(L75:L97,AI8)","v":0},{"$f":"AJ8/(AL4-AJ10)","v":0},{"$f":"IF(AK8=0,0,(AK8*((LOG(AK8))/LOG(2))))","v":0},null,{"$f":"N8","v":112},{"$f":"COUNTIF(L98:L119,AN8)","v":0},{"$f":"AO8/(AQ4-AO10)","v":0},{"$f":"IF(AP8=0,0,(AP8*((LOG(AP8))/LOG(2))))","v":0},null,{"$f":"N8","v":112},{"$f":"COUNTIF(L120:L142,AS8)","v":1},{"$f":"AT8/(AV4-AT10)","v":0.05},{"$f":"IF(AU8=0,0,(AU8*((LOG(AU8))/LOG(2))))","v":-0.21609640474436814}]
[11,267,11,274,21,282,null,null,null,null,0,112,null,121,{"$f":"COUNTIF($L$7:$L$500,N9)","v":7},{"$f":"O9/$Q$4","v":5.1470588235294115E-2},{"$f":"IF(P9=0,0,(P9*((LOG(P9))/LOG(2))))","v":-0.22029967231139078},null,null,{"$f":"N9","v":121},{"$f":"COUNTIF(L7:L29,T9)","v":2},{"$f":"U9/(W4-U10)","v":9.5238095238095233E-2},{"$f":"IF(V9=0,0,(V9*((LOG(V9))/LOG(2))))","v":-0.32307784978845333},null,{"$f":"N9","v":121},{"$f":"COUNTIF(L30:L51,Y9)","v":0},{"$f":"Z9/(AB4-Z10)","v":0},{"$f":"IF(AA9=0,0,(AA9*((LOG(AA9))/LOG(2))))","v":0},null,{"$f":"N9","v":121},{"$f":"COUNTIF(L52:L74,AD9)","v":0},{"$f":"AE9/(AG4-AE10)","v":0},{"$f":"IF(AF9=0,0,(AF9*((LOG(AF9))/LOG(2))))","v":0},null,{"$f":"N9","v":121},{"$f":"COUNTIF(L75:L97,AI9)","v":4},{"$f":"AJ9/(AL4-AJ10)","v":0.17391304347826086},{"$f":"IF(AK9=0,0,(AK9*((LOG(AK9))/LOG(2))))","v":-0.43888034018382832},null,{"$f":"N9","v":121},{"$f":"COUNTIF(L98:L119,AN9)","v":1},{"$f":"AO9/(AQ4-AO10)","v":0.05},{"$f":"IF(AP9=0,0,(AP9*((LOG(AP9))/LOG(2))))","v":-0.21609640474436814},null,{"$f":"N9","v":121},{"$f":"COUNTIF(L120:L142,AS9)","v":0},{"$f":"AT9/(AV4-AT10)","v":0},{"$f":"IF(AU9=0,0,(AU9*((LOG(AU9))/LOG(2))))","v":0}]
[22,387,13,395,14,401,null,null,null,null,0,211,null,122,{"$f":"COUNTIF($L$7:$L$500,N10)","v":8},{"$f":"O10/$Q$4","v":5.8823529411764705E-2},{"$f":"IF(P10=0,0,(P10*((LOG(P10))/LOG(2))))","v":-0.24043899066178465},null,null,{"$f":"N10","v":122},{"$f":"COUNTIF(L7:L29,T10)","v":2},null,null,null,{"$f":"N10","v":122},{"$f":"COUNTIF(L30:L51,Y10)","v":0},null,null,null,{"$f":"N10","v":122},{"$f":"COUNTIF(L52:L74,AD10)","v":1},null,null,null,{"$f":"N10","v":122},{"$f":"COUNTIF(L75:L97,AI10)","v":0},null,null,null,{"$f":"N10","v":122},{"$f":"COUNTIF(L98:L119,AN10)","v":2},null,null,null,{"$f":"N10","v":122},{"$f":"COUNTIF(L120:L142,AS10)","v":3}]
[22,525,24,543,23,556,null,null,null,null,0,222,null,211,{"$f":"COUNTIF($L$7:$L$500,N11)","v":9},{"$f":"O11/$Q$4","v":6.6176470588235295E-2},{"$f":"IF(P11=0,0,(P11*((LOG(P11))/LOG(2))))","v":-0.25924882763435475},null,null,{"$f":"N11","v":211},{"$f":"COUNTIF(L7:L29,T11)","v":2},{"$f":"U11/(W4-U10)","v":9.5238095238095233E-2},{"$f":"IF(V11=0,0,(V11*((LOG(V11))/LOG(2))))","v":-0.32307784978845333},null,{"$f":"N11","v":211},{"$f":"COUNTIF(L30:L51,Y11)","v":1},{"$f":"Z11/(AB4-Z10)","v":4.5454545454545456E-2},{"$f":"IF(AA11=0,0,(AA11*((LOG(AA11))/LOG(2))))","v":-0.20270143721078623},null,{"$f":"N11","v":211},{"$f":"COUNTIF(L52:L74,AD11)","v":1},{"$f":"AE11/(AG4-AE10)","v":4.5454545454545456E-2},{"$f":"IF(AF11=0,0,(AF11*((LOG(AF11))/LOG(2))))","v":-0.20270143721078623},null,{"$f":"N11","v":211},{"$f":"COUNTIF(L75:L97,AI11)","v":3},{"$f":"AJ11/(AL4-AJ10)","v":0.13043478260869565},{"$f":"IF(AK11=0,0,(AK11*((LOG(AK11))/LOG(2))))","v":-0.3832955811307639},null,{"$f":"N11","v":211},{"$f":"COUNTIF(L98:L119,AN11)","v":1},{"$f":"AO11/(AQ4-AO10)","v":0.05},{"$f":"IF(AP11=0,0,(AP11*((LOG(AP11))/LOG(2))))","v":-0.21609640474436814},null,{"$f":"N11","v":211},{"$f":"COUNTIF(L120:L142,AS11)","v":1},{"$f":"AT11/(AV4-AT10)","v":0.05},{"$f":"IF(AU11=0,0,(AU11*((LOG(AU11))/LOG(2))))","v":-0.21609640474436814}]
[22,661,24,669,23,678,null,null,null,null,0,222,null,212,{"$f":"COUNTIF($L$7:$L$500,N12)","v":19},{"$f":"O12/$Q$4","v":0.13970588235294118},{"$f":"IF(P12=0,0,(P12*((LOG(P12))/LOG(2))))","v":-0.39669978844359061},null,null,{"$f":"N12","v":212},{"$f":"COUNTIF(L7:L29,T12)","v":1},{"$f":"U12/(W4-U10)","v":4.7619047619047616E-2},{"$f":"IF(V12=0,0,(V12*((LOG(V12))/LOG(2))))","v":-0.20915797251327431},null,{"$f":"N12","v":212},{"$f":"COUNTIF(L30:L51,Y12)","v":4},{"$f":"Z12/(AB4-Z10)","v":0.18181818181818182},{"$f":"IF(AA12=0,0,(AA12*((LOG(AA12))/LOG(2))))","v":-0.44716938520678134},null,{"$f":"N12","v":212},{"$f":"COUNTIF(L52:L74,AD12)","v":2},{"$f":"AE12/(AG4-AE10)","v":9.0909090909090912E-2},{"$f":"IF(AF12=0,0,(AF12*((LOG(AF12))/LOG(2))))","v":-0.31449378351248153},null,{"$f":"N12","v":212},{"$f":"COUNTIF(L75:L97,AI12)","v":4},{"$f":"AJ12/(AL4-AJ10)","v":0.17391304347826086},{"$f":"IF(AK12=0,0,(AK12*((LOG(AK12))/LOG(2))))","v":-0.43888034018382832},null,{"$f":"N12","v":212},{"$f":"COUNTIF(L98:L119,AN12)","v":3},{"$f":"AO12/(AQ4-AO10)","v":0.15},{"$f":"IF(AP12=0,0,(AP12*((LOG(AP12))/LOG(2))))","v":-0.41054483912493089},null,{"$f":"N12","v":212},{"$f":"COUNTIF(L120:L142,AS12)","v":5},{"$f":"AT12/(AV4-AT10)","v":0.25},{"$f":"IF(AU12=0,0,(AU12*((LOG(AU12))/LOG(2))))","v":-0.5}]
[22,847,24,854,23,862,null,null,null,null,0,222,null,221,{"$f":"COUNTIF($L$7:$L$500,N13)","v":20},{"$f":"O13/$Q$4","v":0.14705882352941177},{"$f":"IF(P13=0,0,(P13*((LOG(P13))/LOG(2))))","v":-0.40669628622984955},null,null,{"$f":"N13","v":221},{"$f":"COUNTIF(L7:L29,T13)","v":0},{"$f":"U13/(W4-U10)","v":0},{"$f":"IF(V13=0,0,(V13*((LOG(V13))/LOG(2))))","v":0},null,{"$f":"N13","v":221},{"$f":"COUNTIF(L30:L51,Y13)","v":5},{"$f":"Z13/(AB4-Z10)","v":0.22727272727272727},{"$f":"IF(AA13=0,0,(AA13*((LOG(AA13))/LOG(2))))","v":-0.48579625539771243},null,{"$f":"N13","v":221},{"$f":"COUNTIF(L52:L74,AD13)","v":4},{"$f":"AE13/(AG4-AE10)","v":0.18181818181818182},{"$f":"IF(AF13=0,0,(AF13*((LOG(AF13))/LOG(2))))","v":-0.44716938520678134},null,{"$f":"N13","v":221},{"$f":"COUNTIF(L75:L97,AI13)","v":2},{"$f":"AJ13/(AL4-AJ10)","v":8.6956521739130432E-2},{"$f":"IF(AK13=0,0,(AK13*((LOG(AK13))/LOG(2))))","v":-0.30639669183104457},null,{"$f":"N13","v":221},{"$f":"COUNTIF(L98:L119,AN13)","v":6},{"$f":"AO13/(AQ4-AO10)","v":0.3},{"$f":"IF(AP13=0,0,(AP13*((LOG(AP13))/LOG(2))))","v":-0.52108967824986185},null,{"$f":"N13","v":221},{"$f":"COUNTIF(L120:L142,AS13)","v":3},{"$f":"AT13/(AV4-AT10)","v":0.15},{"$f":"IF(AU13=0,0,(AU13*((LOG(AU13))/LOG(2))))","v":-0.41054483912493089}]
[11,977,22,992,23,999,null,null,null,null,0,122,null,222,{"$f":"COUNTIF($L$7:$L$500,N14)","v":67},{"$f":"O14/$Q$4","v":0.49264705882352944},{"$f":"IF(P14=0,0,(P14*((LOG(P14))/LOG(2))))","v":-0.50317672502280864},null,null,{"$f":"N14","v":222},{"$f":"COUNTIF(L7:L29,T14)","v":14},{"$f":"U14/(W4-U10)","v":0.66666666666666663},{"$f":"IF(V14=0,0,(V14*((LOG(V14))/LOG(2))))","v":-0.38997500048077083},null,{"$f":"N14","v":222},{"$f":"COUNTIF(L30:L51,Y14)","v":11},{"$f":"Z14/(AB4-Z10)","v":0.5},{"$f":"IF(AA14=0,0,(AA14*((LOG(AA14))/LOG(2))))","v":-0.5},null,{"$f":"N14","v":222},{"$f":"COUNTIF(L52:L74,AD14)","v":14},{"$f":"AE14/(AG4-AE10)","v":0.63636363636363635},{"$f":"IF(AF14=0,0,(AF14*((LOG(AF14))/LOG(2))))","v":-0.41495789782344106},null,{"$f":"N14","v":222},{"$f":"COUNTIF(L75:L97,AI14)","v":10},{"$f":"AJ14/(AL4-AJ10)","v":0.43478260869565216},{"$f":"IF(AK14=0,0,(AK14*((LOG(AK14))/LOG(2))))","v":-0.52244950485636987},null,{"$f":"N14","v":222},{"$f":"COUNTIF(L98:L119,AN14)","v":8},{"$f":"AO14/(AQ4-AO10)","v":0.4},{"$f":"IF(AP14=0,0,(AP14*((LOG(AP14))/LOG(2))))","v":-0.52877123795494496},null,{"$f":"N14","v":222},{"$f":"COUNTIF(L120:L142,AS14)","v":10},{"$f":"AT14/(AV4-AT10)","v":0.5},{"$f":"IF(AU14=0,0,(AU14*((LOG(AU14))/LOG(2))))","v":-0.5}]
[22,1113,24,1122,23,1129,null,null,null,null,0,222,null,null,null,{"$f":"SUM(P7:P14)","v":1},{"$f":"-SUM(Q7:Q14)","v":2.253877470988082},null,null,null,null,{"$f":"SUM(V7:V14)","v":1},{"$f":"-SUM(W7:W14)","v":1.5683665223594052},null,null,null,{"$f":"SUM(AA7:AA14)","v":1},{"$f":"-SUM(AB7:AB14)","v":1.8383685150260662},null,null,null,{"$f":"SUM(AF7:AF14)","v":1},{"$f":"-SUM(AG7:AG14)","v":1.5820239409642762},null,null,null,{"$f":"SUM(AK7:AK14)","v":1},{"$f":"-SUM(AL7:AL14)","v":2.089902458185835},null,null,null,{"$f":"SUM(AP7:AP14)","v":1},{"$f":"-SUM(AQ7:AQ14)","v":2.1086949695628423},null,null,null,{"$f":"SUM(AU7:AU14)","v":1},{"$f":"-SUM(AV7:AV14)","v":1.8427376486136673}]
[11,1233,11,1240,21,1275,null,null,null,null,0,112,null,null,null,"U=",{"$f":"Q15/(LOG(Q4)/LOG(2))","v":0.31800907059012712},null,null,null,null,"U1=",{"$f":"W15/(LOG(W4)/LOG(2))","v":0.34671052095558791},null,null,null,"U2=",{"$f":"AB15/(LOG(AB4)/LOG(2))","v":0.41224278613063037},null,null,null,"U3=",{"$f":"AG15/(LOG(AG4)/LOG(2))","v":0.34972969450456159},null,null,null,"U4=",{"$f":"AL15/(LOG(AL4)/LOG(2))","v":0.4620037215114236},null,null,null,"U5=",{"$f":"AQ15/(LOG(AQ4)/LOG(2))","v":0.4728618240831356},null,null,null,"U6=",{"$f":"AV15/(LOG(AV4)/LOG(2))","v":0.40736429975193694}]
[22,1366,24,1374,23,1383,null,null,null,null,0,222]
[22,1483,24,1507,23,1513,null,null,null,null,0,222]
[11,1655,22,1674,14,1691,null,null,null,null,0,121,null,"Total Target Seq"]
[22,1789,24,1796,23,1811,null,null,null,null,0,222,null,{"$f":"COUNTIF(L7:L142,G3)","v":8},null,23,22,23,23,22,23]
[22,1923,13,1937,14,1945,null,null,null,null,0,211,null,null,null,"% of reinforcement given in 6 equal intervals based on number of trials "]
[22,2048,24,2056,23,2083,null,null,null,null,0,222,null,null,null,"%_1","%_2","%_3","%_4","%_5","%_6"]
[11,2217,22,2235,23,2246,null,null,null,null,0,122,null,null,"target sequence",{"$f":"$G$3","v":122},{"$f":"$G$3","v":122},{"$f":"$G$3","v":122},{"$f":"$G$3","v":122},{"$f":"$G$3","v":122},{"$f":"$G$3","v":122}]
[22,2346,13,2359,23,2370,null,null,null,null,0,212,null,null,"total reinforcement",{"$f":"U10","v":2},{"$f":"Z10","v":0},{"$f":"AE10","v":1},{"$f":"AJ10","v":0},{"$f":"AO10","v":2},{"$f":"AT10","v":3}]
[22,2478,24,2493,23,2503,null,null,null,null,0,222,null,null,"% target"]
[22,2619,24,2631,23,2646,null,null,null,null,0,222,null,null,"CCRF"]
[22,2749,24,2766,23,2775,null,null,null,null,0,222,null,null,"% CCRf"]
[22,2883,24,2893,23,2912,null,null,null,null,0,222,null,null,"average response rate",{"$f":"F29/P20","v":131.82608695652175},{"$f":"(F51-F29)/Q20","v":140.81818181818181},{"$f":"(F74-F51)/R20","v":151.7391304347826},{"$f":"(F97-F74)/S20","v":178.52173913043478},{"$f":"(F119-F97)/T20","v":231.40909090909091},{"$f":"(F142-F119)/U20","v":222.13043478260869}]
[22,3015,24,3024,23,3032,null,null,null,null,0,222]
[11,3161,11,3171,21,3202,null,null,null,null,0,112]
[22,3293,24,3305,23,3313,null,null,null,null,0,222]
[22,3421,24,3432,23,3439,null,null,null,null,0,222]
[22,3531,24,3536,23,3545,null,null,null,null,0,222]
[22,3694,24,3707,14,3722,null,null,null,null,0,221]
[22,3827,24,3835,23,3842,null,null,null,null,0,222]
[22,3954,13,3966,23,3979,null,null,null,null,0,212]
[22,4094,24,4103,23,4110,null,null,null,null,0,222]
[22,4211,24,4218,23,4227,null,null,null,null,0,222]
[22,4340,24,4365,14,4377,null,null,null,null,0,221]
[22,4478,13,4497,23,4522,null,null,null,null,0,212]
[22,4626,24,4639,23,4647,null,null,null,null,0,222]
[22,4769,24,4776,14,4803,null,null,null,null,0,221]
[22,4903,24,4915,23,4928,null,null,null,null,0,222]
[22,5032,24,5042,14,5059,null,null,null,null,0,221]
[22,5165,24,5173,23,5219,null,null,null,null,0,222]
[22,5321,13,5342,23,5371,null,null,null,null,0,212]
[22,5495,24,5503,23,5511,null,null,null,null,0,222]
[22,5633,24,5645,23,5657,null,null,null,null,0,222]
[22,5765,13,5780,23,5802,null,null,null,null,0,212]
[22,5913,13,5937,14,5945,null,null,null,null,0,211]
[22,6061,24,6072,14,6130,null,null,null,null,0,221]
[22,6282,24,6328,14,6341,null,null,null,null,0,221]
[22,6441,24,6451,23,6470,null,null,null,null,0,222]
[22,6573,24,6586,14,6606,null,null,null,null,0,221]
[11,6735,11,6744,21,6762,null,null,null,null,0,112]
[22,6863,24,6876,14,6890,null,null,null,null,0,221]
[22,6996,24,7009,23,7018,null,null,null,null,0,222]
[22,7122,24,7134,23,7143,null,null,null,null,0,222]
[22,7242,24,7250,23,7257,null,null,null,null,0,222]
[22,7362,24,7382,23,7390,null,null,null,null,0,222]
[22,7490,24,7504,23,7520,null,null,null,null,0,222]
[22,7690,13,7709,23,7723,null,null,null,null,0,212]
[22,7830,24,7842,23,7851,null,null,null,null,0,222]
[22,7969,13,7982,23,7994,null,null,null,null,0,212]
[11,8109,22,8130,23,8149,null,null,null,null,0,122]
[22,8251,24,8265,23,8275,null,null,null,null,0,222]
[22,8408,24,8421,14,8433,null,null,null,null,0,221]
[22,8552,24,8598,23,8607,null,null,null,null,0,222]
[22,8731,24,8761,23,8771,null,null,null,null,0,222]
[22,8901,24,8911,23,8919,null,null,null,null,0,222]
[22,9051,24,9062,23,9071,null,null,null,null,0,222]
[22,9207,13,9238,14,9250,null,null,null,null,0,211]
[22,9402,24,9412,23,9461,null,null,null,null,0,222]
[22,9602,24,9612,23,9620,null,null,null,null,0,222]
[22,9739,24,9756,23,9763,null,null,null,null,0,222]
[22,9889,24,9916,23,9945,null,null,null,null,0,222]
[22,10065,24,10072,23,10101,null,null,null,null,0,222]
[11,10318,22,10350,14,10362,null,null,null,null,0,121]
[22,10474,24,10491,14,10510,null,null,null,null,0,221]
[22,10612,13,10687,23,10700,null,null,null,null,0,212]
[22,10818,24,10867,23,10873,null,null,null,null,0,222]
[22,10995,13,11017,23,11037,null,null,null,null,0,212]
[22,11164,24,11204,23,11210,null,null,null,null,0,222]
[22,11328,24,11450,23,11470,null,null,null,null,0,222]
[11,11578,22,11620,14,11649,null,null,null,null,0,121]
[22,11796,13,11810,23,11839,null,null,null,null,0,212]
[11,11949,22,11971,14,11984,null,null,null,null,0,121]
[22,12096,13,12123,14,12146,null,null,null,null,0,211]
[22,12266,24,12275,23,12303,null,null,null,null,0,222]
[22,12418,13,12444,14,12467,null,null,null,null,0,211]
[22,12687,13,12704,14,12725,null,null,null,null,0,211]
[22,12840,24,12850,23,12857,null,null,null,null,0,222]
[22,12978,24,12988,23,13000,null,null,null,null,0,222]
[11,13121,22,13147,14,13222,null,null,null,null,0,121]
[22,13324,13,13341,23,13355,null,null,null,null,0,212]
[22,13470,24,13479,23,13498,null,null,null,null,0,222]
[22,13688,24,13707,14,13726,null,null,null,null,0,221]
[22,13852,24,13869,23,13885,null,null,null,null,0,222]
[22,14343,24,14362,14,14400,null,null,null,null,0,221]
[22,14504,24,14516,23,14525,null,null,null,null,0,222]
[22,14683,24,14706,23,14720,null,null,null,null,0,222]
[22,14876,13,14899,23,14917,null,null,null,null,0,212]
[22,15031,24,15055,23,15065,null,null,null,null,0,222]
[22,15184,24,15217,14,15235,null,null,null,null,0,221]
[22,15359,24,15385,14,15438,null,null,null,null,0,221]
[22,15548,24,15653,23,15672,null,null,null,null,0,222]
[22,15788,24,15797,23,15821,null,null,null,null,0,222]
[22,15968,24,15994,14,16034,null,null,null,null,0,221]
[22,16240,24,16251,14,16321,null,null,null,null,0,221]
[11,16799,11,16816,12,16857,null,null,null,null,0,111]
[11,16977,22,16995,23,17006,null,null,null,null,0,122]
[11,17170,22,17191,23,17210,null,null,null,null,0,122]
[22,17332,13,17373,23,17390,null,null,null,null,0,212]
[22,17524,24,17555,23,17568,null,null,null,null,0,222]
[11,17701,22,17716,14,17737,null,null,null,null,0,121]
[22,17852,13,17905,23,17935,null,null,null,null,0,212]
[22,18308,24,18327,23,18340,null,null,null,null,0,222]
[22,18444,13,18548,14,18561,null,null,null,null,0,211]
[22,18718,24,18736,14,18817,null,null,null,null,0,221]
[22,18989,24,18997,23,19054,null,null,null,null,0,222]
[22,19157,24,19275,23,19352,null,null,null,null,0,222]
[22,19492,24,19505,23,19515,null,null,null,null,0,222]
[11,19659,11,19744,21,19760,null,null,null,null,0,112]
[22,19856,13,19872,23,19883,null,null,null,null,0,212]
[22,19989,24,20004,23,20016,null,null,null,null,0,222]
[22,20118,24,20174,23,20193,null,null,null,null,0,222]
[11,20303,22,20334,23,20342,null,null,null,null,0,122]
[22,20479,13,20506,14,20513,null,null,null,null,0,211]
[22,20618,24,20689,23,20698,null,null,null,null,0,222]
[22,20920,13,20941,23,20973,null,null,null,null,0,212]
[22,21172,24,21183,14,21210,null,null,null,null,0,221]
[22,21312,24,21325,23,21337,null,null,null,null,0,222]
[11,21482,22,21515,23,21528,null,null,null,null,0,122]
[22,21678,13,21701,23,21719,null,null,null,null,0,212]
[22,22362,24,22378,23,22391,null,null,null,null,0,222]
[22,22522,24,22543,14,22558,null,null,null,null,0,221]
[22,22713,13,22732,23,22747,null,null,null,null,0,212]
[22,22873,13,22928,23,22946,null,null,null,null,0,212]
[22,23049,24,23066,23,23146,null,null,null,null,0,222]
[22,23302,24,23315,14,23355,null,null,null,null,0,221]
[11,23719,22,23734,23,23744,null,null,null,null,0,122]
[22,23892,24,23910,23,23926,null,null,null,null,null,222]

{"sheet":"!2011-05-09_08h56m.Subject 52 p","index":7,"n_rows":157,"n_cols":48,"rows_kept":157,"cut":false,"hidden":false,"merged":[[4,39,4,42],[5,39,5,40],[4,44,4,47],[5,44,5,45],[4,24,4,27],[5,24,5,25],[4,29,4,32],[5,29,5,30],[4,34,4,37],[5,34,5,35],[1,1,1,2],[5,13,5,14],[18,13,18,14],[19,13,19,14],[4,19,4,22],[5,19,5,20]]}
["Report for:!2011-05-09_08h56m.Subject 52 phase 2"]
["Date","2011-05-09",null,null,null,"Group",0]
["Hen",0,null,null,null,"Correct Sequence",{"$f":"Start!J2","v":122},null,null,null,null,null,null,null,null,"Total Sequences in Data",{"$f":"4994-COUNTBLANK(L7:L5000)","v":151},null,null,null,null,"Total Sequences in Block Data",{"$f":"COUNTA(L7:L31)","v":25},null,null,null,"Total Sequences in Block Data",{"$f":"COUNTA(L32:L56)","v":25},null,null,null,"Total Sequences in Block Data",{"$f":"COUNTA(L57:L82)","v":26},null,null,null,"Total Sequences in Block Data",{"$f":"COUNTA(L83:L107)","v":25},null,null,null,"Total Sequences in Block Data",{"$f":"COUNTA(L108:L132)","v":25},null,null,null,"Total Sequences in Block Data",{"$f":"COUNTA(L133:L157)","v":25}]
["Program",0,null,null,null,null,null,null,null,null,null,null,null,null,null,"Total Sequences in Summary",{"$f":"SUM(O7:O14)","v":151},null,null,null,null,"Total Sequences in Block Summary",{"$f":"SUM(U7:U14)","v":25},null,null,null,"Total Sequences in Block Summary",{"$f":"SUM(Z7:Z14)","v":25},null,null,null,"Total Sequences in Block Summary",{"$f":"SUM(AE7:AE14)","v":26},null,null,null,"Total Sequences in Block Summary",{"$f":"SUM(AJ7:AJ14)","v":25},null,null,null,"Total Sequences in Block Summary",{"$f":"SUM(AO7:AO14)","v":25},null,null,null,"Total Sequences in Block Summary",{"$f":"SUM(AT7:AT14)","v":25}]
[null,null,null,null,null,null,null,null,null,null,null,null,null,null,null,null,null,null,null,"Block 1",null,null,null,null,"Block 2",null,null,null,null,"Block 3",null,null,null,null,"Block 4",null,null,null,null,"Block 5",null,null,null,null,"Block 6"]
["Sequence\nComponent\n1","Time\n1","Sequence\nComponent\n2","Time\n2","Sequence\nComponent\n3","Time\n3","Sequence\nComponent\n4","Time\n4","Sequence\nComponent\n5","Time\n5","Correct?\n0=No 1=Yes","Sequence",null,"Frequency",null,"Relative Frequency","Variability",null,null,"Frequency",null,"Relative Frequency","Variability",null,"Frequency",null,"Relative Frequency","Variability",null,"Frequency",null,"Relative Frequency","Variability",null,"Frequency",null,"Relative Frequency","Variability",null,"Frequency",null,"Relative Frequency","Variability",null,"Frequency",null,"Relative Frequency","Variability"]
[22,9,24,15,23,27,null,null,null,null,0,222,null,111,{"$f":"COUNTIF($L$7:$L$500,N7)","v":0},{"$f":"O7/$Q$4","v":0},{"$f":"IF(P7=0,0,(P7*((LOG(P7))/LOG(2))))","v":0},null,null,{"$f":"N7","v":111},{"$f":"COUNTIF(L7:L31,T7)","v":0},{"$f":"U7/(W4-U10)","v":0},{"$f":"IF(V7=0,0,(V7*((LOG(V7))/LOG(2))))","v":0},null,{"$f":"N7","v":111},{"$f":"COUNTIF(L32:L56,Y7)","v":0},{"$f":"Z7/(AB4-Z10)","v":0},{"$f":"IF(AA7=0,0,(AA7*((LOG(AA7))/LOG(2))))","v":0},null,{"$f":"N7","v":111},{"$f":"COUNTIF(L57:L82,AD7)","v":0},{"$f":"AE7/(AG4-AE10)","v":0},{"$f":"IF(AF7=0,0,(AF7*((LOG(AF7))/LOG(2))))","v":0},null,{"$f":"N7","v":111},{"$f":"COUNTIF(L83:L107,AI7)","v":0},{"$f":"AJ7/(AL4-AJ10)","v":0},{"$f":"IF(AK7=0,0,(AK7*((LOG(AK7))/LOG(2))))","v":0},null,{"$f":"N7","v":111},{"$f":"COUNTIF(L108:L132,AN7)","v":0},{"$f":"AO7/(AQ4-AO10)","v":0},{"$f":"IF(AP7=0,0,(AP7*((LOG(AP7))/LOG(2))))","v":0},null,{"$f":"N7","v":111},{"$f":"COUNTIF(L133:L157,AS7)","v":0},{"$f":"AT7/(AV4-AT10)","v":0},{"$f":"IF(AU7=0,0,(AU7*((LOG(AU7))/LOG(2))))","v":0}]
[22,129,13,139,14,151,null,null,null,null,0,211,null,112,{"$f":"COUNTIF($L$7:$L$500,N8)","v":3},{"$f":"O8/$Q$4","v":1.9867549668874173E-2},{"$f":"IF(P8=0,0,(P8*((LOG(P8))/LOG(2))))","v":-0.11232004447557463},null,null,{"$f":"N8","v":112},{"$f":"COUNTIF(L7:L31,T8)","v":0},{"$f":"U8/(W4-U10)","v":0},{"$f":"IF(V8=0,0,(V8*((LOG(V8))/LOG(2))))","v":0},null,{"$f":"N8","v":112},{"$f":"COUNTIF(L32:L56,Y8)","v":1},{"$f":"Z8/(AB4-Z10)","v":4.3478260869565216E-2},{"$f":"IF(AA8=0,0,(AA8*((LOG(AA8))/LOG(2))))","v":-0.19667660678508753},null,{"$f":"N8","v":112},{"$f":"COUNTIF(L57:L82,AD8)","v":1},{"$f":"AE8/(AG4-AE10)","v":5.2631578947368418E-2},{"$f":"IF(AF8=0,0,(AF8*((LOG(AF8))/LOG(2))))","v":-0.22357513228650452},null,{"$f":"N8","v":112},{"$f":"COUNTIF(L83:L107,AI8)","v":0},{"$f":"AJ8/(AL4-AJ10)","v":0},{"$f":"IF(AK8=0,0,(AK8*((LOG(AK8))/LOG(2))))","v":0},null,{"$f":"N8","v":112},{"$f":"COUNTIF(L108:L132,AN8)","v":1},{"$f":"AO8/(AQ4-AO10)","v":5.2631578947368418E-2},{"$f":"IF(AP8=0,0,(AP8*((LOG(AP8))/LOG(2))))","v":-0.22357513228650452},null,{"$f":"N8","v":112},{"$f":"COUNTIF(L133:L157,AS8)","v":0},{"$f":"AT8/(AV4-AT10)","v":0},{"$f":"IF(AU8=0,0,(AU8*((LOG(AU8))/LOG(2))))","v":0}]
[22,250,13,258,14,263,null,null,null,null,0,211,null,121,{"$f":"COUNTIF($L$7:$L$500,N9)","v":17},{"$f":"O9/$Q$4","v":0.11258278145695365},{"$f":"IF(P9=0,0,(P9*((LOG(P9))/LOG(2))))","v":-0.35474180309450709},null,null,{"$f":"N9","v":121},{"$f":"COUNTIF(L7:L31,T9)","v":0},{"$f":"U9/(W4-U10)","v":0},{"$f":"IF(V9=0,0,(V9*((LOG(V9))/LOG(2))))","v":0},null,{"$f":"N9","v":121},{"$f":"COUNTIF(L32:L56,Y9)","v":5},{"$f":"Z9/(AB4-Z10)","v":0.21739130434782608},{"$f":"IF(AA9=0,0,(AA9*((LOG(AA9))/LOG(2))))","v":-0.47861605677601093},null,{"$f":"N9","v":121},{"$f":"COUNTIF(L57:L82,AD9)","v":0},{"$f":"AE9/(AG4-AE10)","v":0},{"$f":"IF(AF9=0,0,(AF9*((LOG(AF9))/LOG(2))))","v":0},null,{"$f":"N9","v":121},{"$f":"COUNTIF(L83:L107,AI9)","v":2},{"$f":"AJ9/(AL4-AJ10)","v":8.3333333333333329E-2},{"$f":"IF(AK9=0,0,(AK9*((LOG(AK9))/LOG(2))))","v":-0.29874687506009634},null,{"$f":"N9","v":121},{"$f":"COUNTIF(L108:L132,AN9)","v":5},{"$f":"AO9/(AQ4-AO10)","v":0.26315789473684209},{"$f":"IF(AP9=0,0,(AP9*((LOG(AP9))/LOG(2))))","v":-0.50684195225163764},null,{"$f":"N9","v":121},{"$f":"COUNTIF(L133:L157,AS9)","v":5},{"$f":"AT9/(AV4-AT10)","v":0.27777777777777779},{"$f":"IF(AU9=0,0,(AU9*((LOG(AU9))/LOG(2))))","v":-0.51333247404304172}]
[22,370,13,381,23,392,null,null,null,null,0,212,null,122,{"$f":"COUNTIF($L$7:$L$500,N10)","v":26},{"$f":"O10/$Q$4","v":0.17218543046357615},{"$f":"IF(P10=0,0,(P10*((LOG(P10))/LOG(2))))","v":-0.43700059967406391},null,null,{"$f":"N10","v":122},{"$f":"COUNTIF(L7:L31,T10)","v":3},null,null,null,{"$f":"N10","v":122},{"$f":"COUNTIF(L32:L56,Y10)","v":2},null,null,null,{"$f":"N10","v":122},{"$f":"COUNTIF(L57:L82,AD10)","v":7},null,null,null,{"$f":"N10","v":122},{"$f":"COUNTIF(L83:L107,AI10)","v":1},null,null,null,{"$f":"N10","v":122},{"$f":"COUNTIF(L108:L132,AN10)","v":6},null,null,null,{"$f":"N10","v":122},{"$f":"COUNTIF(L133:L157,AS10)","v":7}]
[22,495,24,505,23,533,null,null,null,null,0,222,null,211,{"$f":"COUNTIF($L$7:$L$500,N11)","v":3},{"$f":"O11/$Q$4","v":1.9867549668874173E-2},{"$f":"IF(P11=0,0,(P11*((LOG(P11))/LOG(2))))","v":-0.11232004447557463},null,null,{"$f":"N11","v":211},{"$f":"COUNTIF(L7:L31,T11)","v":2},{"$f":"U11/(W4-U10)","v":9.0909090909090912E-2},{"$f":"IF(V11=0,0,(V11*((LOG(V11))/LOG(2))))","v":-0.31449378351248153},null,{"$f":"N11","v":211},{"$f":"COUNTIF(L32:L56,Y11)","v":0},{"$f":"Z11/(AB4-Z10)","v":0},{"$f":"IF(AA11=0,0,(AA11*((LOG(AA11))/LOG(2))))","v":0},null,{"$f":"N11","v":211},{"$f":"COUNTIF(L57:L82,AD11)","v":0},{"$f":"AE11/(AG4-AE10)","v":0},{"$f":"IF(AF11=0,0,(AF11*((LOG(AF11))/LOG(2))))","v":0},null,{"$f":"N11","v":211},{"$f":"COUNTIF(L83:L107,AI11)","v":0},{"$f":"AJ11/(AL4-AJ10)","v":0},{"$f":"IF(AK11=0,0,(AK11*((LOG(AK11))/LOG(2))))","v":0},null,{"$f":"N11","v":211},{"$f":"COUNTIF(L108:L132,AN11)","v":0},{"$f":"AO11/(AQ4-AO10)","v":0},{"$f":"IF(AP11=0,0,(AP11*((LOG(AP11))/LOG(2))))","v":0},null,{"$f":"N11","v":211},{"$f":"COUNTIF(L133:L157,AS11)","v":1},{"$f":"AT11/(AV4-AT10)","v":5.5555555555555552E-2},{"$f":"IF(AU11=0,0,(AU11*((LOG(AU11))/LOG(2))))","v":-0.23166250008012845}]
[22,639,24,647,23,655,null,null,null,null,0,222,null,212,{"$f":"COUNTIF($L$7:$L$500,N12)","v":18},{"$f":"O12/$Q$4","v":0.11920529801324503},{"$f":"IF(P12=0,0,(P12*((LOG(P12))/LOG(2))))","v":-0.36577904160191915},null,null,{"$f":"N12","v":212},{"$f":"COUNTIF(L7:L31,T12)","v":1},{"$f":"U12/(W4-U10)","v":4.5454545454545456E-2},{"$f":"IF(V12=0,0,(V12*((LOG(V12))/LOG(2))))","v":-0.20270143721078623},null,{"$f":"N12","v":212},{"$f":"COUNTIF(L32:L56,Y12)","v":2},{"$f":"Z12/(AB4-Z10)","v":8.6956521739130432E-2},{"$f":"IF(AA12=0,0,(AA12*((LOG(AA12))/LOG(2))))","v":-0.30639669183104457},null,{"$f":"N12","v":212},{"$f":"COUNTIF(L57:L82,AD12)","v":3},{"$f":"AE12/(AG4-AE10)","v":0.15789473684210525},{"$f":"IF(AF12=0,0,(AF12*((LOG(AF12))/LOG(2))))","v":-0.42046815990354147},null,{"$f":"N12","v":212},{"$f":"COUNTIF(L83:L107,AI12)","v":2},{"$f":"AJ12/(AL4-AJ10)","v":8.3333333333333329E-2},{"$f":"IF(AK12=0,0,(AK12*((LOG(AK12))/LOG(2))))","v":-0.29874687506009634},null,{"$f":"N12","v":212},{"$f":"COUNTIF(L108:L132,AN12)","v":3},{"$f":"AO12/(AQ4-AO10)","v":0.15789473684210525},{"$f":"IF(AP12=0,0,(AP12*((LOG(AP12))/LOG(2))))","v":-0.42046815990354147},null,{"$f":"N12","v":212},{"$f":"COUNTIF(L133:L157,AS12)","v":7},{"$f":"AT12/(AV4-AT10)","v":0.3888888888888889},{"$f":"IF(AU12=0,0,(AU12*((LOG(AU12))/LOG(2))))","v":-0.52988836420516428}]
[22,757,24,767,23,775,null,null,null,null,0,222,null,221,{"$f":"COUNTIF($L$7:$L$500,N13)","v":16},{"$f":"O13/$Q$4","v":0.10596026490066225},{"$f":"IF(P13=0,0,(P13*((LOG(P13))/LOG(2))))","v":-0.34314222403444544},null,null,{"$f":"N13","v":221},{"$f":"COUNTIF(L7:L31,T13)","v":0},{"$f":"U13/(W4-U10)","v":0},{"$f":"IF(V13=0,0,(V13*((LOG(V13))/LOG(2))))","v":0},null,{"$f":"N13","v":221},{"$f":"COUNTIF(L32:L56,Y13)","v":3},{"$f":"Z13/(AB4-Z10)","v":0.13043478260869565},{"$f":"IF(AA13=0,0,(AA13*((LOG(AA13))/LOG(2))))","v":-0.3832955811307639},null,{"$f":"N13","v":221},{"$f":"COUNTIF(L57:L82,AD13)","v":4},{"$f":"AE13/(AG4-AE10)","v":0.21052631578947367},{"$f":"IF(AF13=0,0,(AF13*((LOG(AF13))/LOG(2))))","v":-0.47324789756707064},null,{"$f":"N13","v":221},{"$f":"COUNTIF(L83:L107,AI13)","v":5},{"$f":"AJ13/(AL4-AJ10)","v":0.20833333333333334},{"$f":"IF(AK13=0,0,(AK13*((LOG(AK13))/LOG(2))))","v":-0.47146550121537367},null,{"$f":"N13","v":221},{"$f":"COUNTIF(L108:L132,AN13)","v":4},{"$f":"AO13/(AQ4-AO10)","v":0.21052631578947367},{"$f":"IF(AP13=0,0,(AP13*((LOG(AP13))/LOG(2))))","v":-0.47324789756707064},null,{"$f":"N13","v":221},{"$f":"COUNTIF(L133:L157,AS13)","v":0},{"$f":"AT13/(AV4-AT10)","v":0},{"$f":"IF(AU13=0,0,(AU13*((LOG(AU13))/LOG(2))))","v":0}]
[22,904,24,919,23,933,null,null,null,null,0,222,null,222,{"$f":"COUNTIF($L$7:$L$500,N14)","v":68},{"$f":"O14/$Q$4","v":0.45033112582781459},{"$f":"IF(P14=0,0,(P14*((LOG(P14))/LOG(2))))","v":-0.51830496072239929},null,null,{"$f":"N14","v":222},{"$f":"COUNTIF(L7:L31,T14)","v":19},{"$f":"U14/(W4-U10)","v":0.86363636363636365},{"$f":"IF(V14=0,0,(V14*((LOG(V14))/LOG(2))))","v":-0.18266263630366014},null,{"$f":"N14","v":222},{"$f":"COUNTIF(L32:L56,Y14)","v":12},{"$f":"Z14/(AB4-Z10)","v":0.52173913043478259},{"$f":"IF(AA14=0,0,(AA14*((LOG(AA14))/LOG(2))))","v":-0.48970406365349045},null,{"$f":"N14","v":222},{"$f":"COUNTIF(L57:L82,AD14)","v":11},{"$f":"AE14/(AG4-AE10)","v":0.57894736842105265},{"$f":"IF(AF14=0,0,(AF14*((LOG(AF14))/LOG(2))))","v":-0.45649762330890375},null,{"$f":"N14","v":222},{"$f":"COUNTIF(L83:L107,AI14)","v":15},{"$f":"AJ14/(AL4-AJ10)","v":0.625},{"$f":"IF(AK14=0,0,(AK14*((LOG(AK14))/LOG(2))))","v":-0.42379494069539858},null,{"$f":"N14","v":222},{"$f":"COUNTIF(L108:L132,AN14)","v":6},{"$f":"AO14/(AQ4-AO10)","v":0.31578947368421051},{"$f":"IF(AP14=0,0,(AP14*((LOG(AP14))/LOG(2))))","v":-0.52514684612287243},null,{"$f":"N14","v":222},{"$f":"COUNTIF(L133:L157,AS14)","v":5},{"$f":"AT14/(AV4-AT10)","v":0.27777777777777779},{"$f":"IF(AU14=0,0,(AU14*((LOG(AU14))/LOG(2))))","v":-0.51333247404304172}]
[22,1039,24,1047,23,1056,null,null,null,null,0,222,null,null,null,{"$f":"SUM(P7:P14)","v":1},{"$f":"-SUM(Q7:Q14)","v":2.2436087180784838},null,null,null,null,{"$f":"SUM(V7:V14)","v":1},{"$f":"-SUM(W7:W14)","v":0.69985785702692782},null,null,null,{"$f":"SUM(AA7:AA14)","v":1},{"$f":"-SUM(AB7:AB14)","v":1.8546890001763974},null,null,null,{"$f":"SUM(AF7:AF14)","v":1},{"$f":"-SUM(AG7:AG14)","v":1.5737888130660203},null,null,null,{"$f":"SUM(AK7:AK14)","v":1},{"$f":"-SUM(AL7:AL14)","v":1.492754192030965},null,null,null,{"$f":"SUM(AP7:AP14)","v":0.99999999999999989},{"$f":"-SUM(AQ7:AQ14)","v":2.1492799881316267},null,null,null,{"$f":"SUM(AU7:AU14)","v":1},{"$f":"-SUM(AV7:AV14)","v":1.7882158123713761}]
[22,1161,24,1166,23,1179,null,null,null,null,0,222,null,null,null,"U=",{"$f":"Q15/(LOG(Q4)/LOG(2))","v":0.30995900324408798},null,null,null,null,"U1=",{"$f":"W15/(LOG(W4)/LOG(2))","v":0.15070618650248901},null,null,null,"U2=",{"$f":"AB15/(LOG(AB4)/LOG(2))","v":0.39938553744627669},null,null,null,"U3=",{"$f":"AG15/(LOG(AG4)/LOG(2))","v":0.3348173591062274},null,null,null,"U4=",{"$f":"AL15/(LOG(AL4)/LOG(2))","v":0.3214471187367624},null,null,null,"U5=",{"$f":"AQ15/(LOG(AQ4)/LOG(2))","v":0.46282225381227599},null,null,null,"U6=",{"$f":"AV15/(LOG(AV4)/LOG(2))","v":0.38507131558226027}]
[22,1279,24,1293,23,1308,null,null,null,null,0,222]
[22,1408,24,1417,23,1432,null,null,null,null,0,222]
[11,1573,22,1587,23,1599,null,null,null,null,0,122,null,"Total Target Seq"]
[22,1699,24,1707,23,1718,null,null,null,null,0,222,null,{"$f":"COUNTIF(L7:L157,G3)","v":26},null,25,25,26,25,25,25]
[22,1814,24,1822,23,1827,null,null,null,null,0,222,null,null,null,"% of reinforcement given in 6 equal intervals based on number of trials "]
[11,2064,22,2078,23,2086,null,null,null,null,0,122,null,null,null,"%_1","%_2","%_3","%_4","%_5","%_6"]
[11,2194,22,2207,23,2216,null,null,null,null,0,122,null,null,"target sequence",{"$f":"$G$3","v":122},{"$f":"$G$3","v":122},{"$f":"$G$3","v":122},{"$f":"$G$3","v":122},{"$f":"$G$3","v":122},{"$f":"$G$3","v":122}]
[22,2324,24,2335,23,2349,null,null,null,null,0,222,null,null,"total reinforcement",{"$f":"U10","v":3},{"$f":"Z10","v":2},{"$f":"AE10","v":7},{"$f":"AJ10","v":1},{"$f":"AO10","v":6},{"$f":"AT10","v":7}]
[22,2476,24,2489,23,2504,null,null,null,null,0,222,null,null,"% target"]
[22,2610,24,2618,23,2646,null,null,null,null,0,222,null,null,"CCRF"]
[22,2754,24,2766,23,2776,null,null,null,null,0,222,null,null,"% CCRf"]
[22,2903,24,2917,23,2933,null,null,null,null,0,222,null,null,"average response rate",{"$f":"F31/P20","v":136.47999999999999},{"$f":"(F56-F31)/Q20","v":161.08000000000001},{"$f":"(F82-F56)/R20","v":147},{"$f":"(F107-F82)/S20","v":163.04},{"$f":"(F132-F107)/T20","v":171.6},{"$f":"(F157-F132)/U20","v":172.2}]
[22,3052,24,3065,23,3098,null,null,null,null,0,222]
[22,3208,24,3222,23,3275,null,null,null,null,0,222]
[22,3389,24,3399,23,3412,null,null,null,null,0,222]
[22,3526,24,3533,23,3539,null,null,null,null,0,222]
[22,3642,24,3652,23,3661,null,null,null,null,0,222]
[22,3767,24,3791,14,3807,null,null,null,null,0,221]
[22,3962,24,3985,23,3998,null,null,null,null,0,222]
[22,4104,24,4111,23,4136,null,null,null,null,0,222]
[22,4242,24,4255,23,4266,null,null,null,null,0,222]
[11,4388,22,4401,23,4416,null,null,null,null,0,122]
[11,4543,22,4555,14,4571,null,null,null,null,0,121]
[22,4680,24,4696,23,4703,null,null,null,null,0,222]
[11,4840,22,4856,14,4871,null,null,null,null,0,121]
[11,5006,22,5019,14,5034,null,null,null,null,0,121]
[22,5266,24,5278,23,5289,null,null,null,null,0,222]
[11,5405,22,5417,14,5438,null,null,null,null,0,121]
[22,5549,13,5568,23,5582,null,null,null,null,0,212]
[22,5715,24,5739,23,5748,null,null,null,null,0,222]
[11,5946,22,5966,14,5991,null,null,null,null,0,121]
[11,6126,22,6146,23,6169,null,null,null,null,0,122]
[22,6278,24,6298,23,6323,null,null,null,null,0,222]
[22,6432,24,6449,14,6469,null,null,null,null,0,221]
[11,6622,11,6655,21,6696,null,null,null,null,0,112]
[22,6807,24,6815,14,6832,null,null,null,null,0,221]
[22,6940,24,6948,23,6971,null,null,null,null,0,222]
[22,7087,24,7116,23,7123,null,null,null,null,0,222]
[22,7239,24,7251,23,7259,null,null,null,null,0,222]
[22,7403,13,7421,23,7439,null,null,null,null,0,212]
[22,7541,24,7556,14,7571,null,null,null,null,0,221]
[22,7678,24,7686,23,7706,null,null,null,null,0,222]
[22,7809,24,7829,23,7837,null,null,null,null,0,222]
[22,7949,24,7966,14,7980,null,null,null,null,0,221]
[22,8097,24,8109,23,8117,null,null,null,null,0,222]
[11,8234,22,8247,23,8255,null,null,null,null,0,122]
[22,8371,13,8387,23,8400,null,null,null,null,0,212]
[22,8499,24,8507,23,8530,null,null,null,null,0,222]
[22,8639,24,8652,23,8663,null,null,null,null,0,222]
[11,8863,22,8876,23,8903,null,null,null,null,0,122]
[22,9026,24,9040,23,9057,null,null,null,null,0,222]
[22,9179,13,9196,23,9209,null,null,null,null,0,212]
[11,9321,22,9341,23,9361,null,null,null,null,0,122]
[11,9532,22,9545,23,9554,null,null,null,null,0,122]
[22,9656,24,9672,23,9710,null,null,null,null,0,222]
[22,9818,13,9833,23,9844,null,null,null,null,0,212]
[11,9979,22,9993,23,10021,null,null,null,null,0,122]
[11,10184,22,10196,23,10208,null,null,null,null,0,122]
[22,10319,24,10346,14,10368,null,null,null,null,0,221]
[11,10483,11,10490,21,10502,null,null,null,null,0,112]
[22,10603,24,10612,14,10623,null,null,null,null,0,221]
[22,10727,24,10741,23,10769,null,null,null,null,0,222]
[22,10867,24,10876,23,10884,null,null,null,null,0,222]
[22,10983,24,11001,23,11007,null,null,null,null,0,222]
[11,11107,22,11117,23,11125,null,null,null,null,0,122]
[22,11227,24,11255,23,11261,null,null,null,null,0,222]
[22,11386,24,11397,23,11405,null,null,null,null,0,222]
[22,11540,24,11554,23,11565,null,null,null,null,0,222]
[22,11671,24,11681,23,11690,null,null,null,null,0,222]
[22,11789,24,11800,23,11809,null,null,null,null,0,222]
[22,11918,24,11932,14,11948,null,null,null,null,0,221]
[22,12051,24,12073,23,12081,null,null,null,null,0,222]
[22,12187,24,12207,23,12218,null,null,null,null,0,222]
[22,12341,24,12358,23,12378,null,null,null,null,0,222]
[11,12585,22,12604,23,12620,null,null,null,null,0,122]
[11,12728,22,12743,14,12770,null,null,null,null,0,121]
[22,12903,24,12911,23,12922,null,null,null,null,0,222]
[22,13032,24,13044,23,13056,null,null,null,null,0,222]
[22,13173,24,13189,23,13208,null,null,null,null,0,222]
[22,13372,24,13387,23,13393,null,null,null,null,0,222]
[22,13514,24,13530,23,13567,null,null,null,null,0,222]
[22,13697,13,13715,23,13725,null,null,null,null,0,212]
[22,13850,13,13867,23,13883,null,null,null,null,0,212]
[22,13988,24,14002,23,14009,null,null,null,null,0,222]
[22,14159,24,14177,23,14192,null,null,null,null,0,222]
[22,14333,24,14342,14,14361,null,null,null,null,0,221]
[22,14518,24,14525,14,14550,null,null,null,null,0,221]
[22,14659,24,14684,14,14705,null,null,null,null,0,221]
[11,14853,22,14869,14,14883,null,null,null,null,0,121]
[22,15071,24,15079,14,15103,null,null,null,null,0,221]
[22,15297,24,15310,23,15337,null,null,null,null,0,222]
[22,15440,24,15455,14,15470,null,null,null,null,0,221]
[22,15578,24,15585,23,15653,null,null,null,null,0,222]
[11,15771,22,15786,14,15802,null,null,null,null,0,121]
[22,15909,13,15968,23,15980,null,null,null,null,0,212]
[11,16091,22,16103,23,16121,null,null,null,null,0,122]
[22,16228,24,16249,23,16273,null,null,null,null,0,222]
[11,16397,22,16408,14,16423,null,null,null,null,0,121]
[22,16538,24,16567,23,16584,null,null,null,null,0,222]
[22,16723,13,16746,23,16757,null,null,null,null,0,212]
[11,16902,22,16916,23,16940,null,null,null,null,0,122]
[22,17074,24,17096,14,17112,null,null,null,null,0,221]
[11,17378,22,17390,23,17403,null,null,null,null,0,122]
[22,17553,24,17572,14,17598,null,null,null,null,0,221]
[11,17728,22,17740,14,17754,null,null,null,null,0,121]
[11,17924,22,17938,14,17962,null,null,null,null,0,121]
[11,18146,22,18159,14,18176,null,null,null,null,0,121]
[11,18330,11,18393,21,18415,null,null,null,null,0,112]
[11,18515,22,18528,23,18542,null,null,null,null,0,122]
[22,18640,24,18661,23,18669,null,null,null,null,0,222]
[22,18788,13,18845,23,18856,null,null,null,null,0,212]
[22,18964,24,18971,14,18990,null,null,null,null,0,221]
[22,19096,24,19117,23,19125,null,null,null,null,0,222]
[11,19290,22,19308,23,19329,null,null,null,null,0,122]
[11,19453,22,19466,23,19481,null,null,null,null,0,122]
[22,19587,24,19614,23,19627,null,null,null,null,0,222]
[22,19751,13,19768,23,19780,null,null,null,null,0,212]
[22,19883,24,19899,23,19908,null,null,null,null,0,222]
[11,20013,22,20025,14,20050,null,null,null,null,0,121]
[11,20176,22,20187,23,20196,null,null,null,null,0,122]
[22,20314,24,20324,23,20341,null,null,null,null,0,222]
[11,20586,22,20602,14,20620,null,null,null,null,0,121]
[11,20742,22,20753,23,20794,null,null,null,null,0,122]
[22,20892,24,20921,23,20951,null,null,null,null,0,222]
[11,21072,22,21087,23,21117,null,null,null,null,0,122]
[11,21220,22,21234,23,21268,null,null,null,null,0,122]
[11,21382,22,21394,23,21409,null,null,null,null,0,122]
[22,21535,13,21571,23,21583,null,null,null,null,0,212]
[11,21729,22,21741,14,21761,null,null,null,null,0,121]
[11,21882,22,21893,23,21917,null,null,null,null,0,122]
[22,22029,13,22053,23,22064,null,null,null,null,0,212]
[22,22196,13,22212,23,22224,null,null,null,null,0,212]
[22,22346,13,22364,14,22372,null,null,null,null,0,211]
[11,22486,22,22500,14,22514,null,null,null,null,0,121]
[22,22636,24,22645,23,22654,null,null,null,null,0,222]
[11,22858,22,22892,14,22913,null,null,null,null,0,121]
[22,23095,24,23111,23,23126,null,null,null,null,0,222]
[22,23284,13,23304,23,23316,null,null,null,null,0,212]
[11,23539,22,23553,23,23571,null,null,null,null,0,122]
[22,23702,13,23721,23,23734,null,null,null,null,0,212]
[22,23896,13,23919,23,23932,null,null,null,null,null,212]

{"sheet":"!2011-05-10_08h14m.Subject 52 p","index":8,"n_rows":121,"n_cols":48,"rows_kept":121,"cut":false,"hidden":false,"merged":[[4,39,4,42],[5,39,5,40],[4,44,4,47],[5,44,5,45],[4,24,4,27],[5,24,5,25],[4,29,4,32],[5,29,5,30],[4,34,4,37],[5,34,5,35],[1,1,1,2],[5,13,5,14],[18,13,18,14],[19,13,19,14],[4,19,4,22],[5,19,5,20]]}
["Report for:!2011-05-10_08h14m.Subject 52 phase 2"]
["Date","2011-05-10",null,null,null,"Group",0]
["Hen",0,null,null,null,"Correct Sequence",{"$f":"Start!J2","v":122},null,null,null,null,null,null,null,null,"Total Sequences in Data",{"$f":"4994-COUNTBLANK(L7:L5000)","v":115},null,null,null,null,"Total Sequences in Block Data",{"$f":"COUNTA(L7:L25)","v":19},null,null,null,"Total Sequences in Block Data",{"$f":"COUNTA(L26:L44)","v":19},null,null,null,"Total Sequences in Block Data",{"$f":"COUNTA(L45:L64)","v":20},null,null,null,"Total Sequences in Block Data",{"$f":"COUNTA(L65:L83)","v":19},null,null,null,"Total Sequences in Block Data",{"$f":"COUNTA(L84:L102)","v":19},null,null,null,"Total Sequences in Block Data",{"$f":"COUNTA(L103:L121)","v":19}]
["Program",0,null,null,null,null,null,null,null,null,null,null,null,null,null,"Total Sequences in Summary",{"$f":"SUM(O7:O14)","v":115},null,null,null,null,"Total Sequences in Block Summary",{"$f":"SUM(U7:U14)","v":19},null,null,null,"Total Sequences in Block Summary",{"$f":"SUM(Z7:Z14)","v":19},null,null,null,"Total Sequences in Block Summary",{"$f":"SUM(AE7:AE14)","v":20},null,null,null,"Total Sequences in Block Summary",{"$f":"SUM(AJ7:AJ14)","v":19},null,null,null,"Total Sequences in Block Summary",{"$f":"SUM(AO7:AO14)","v":19},null,null,null,"Total Sequences in Block Summary",{"$f":"SUM(AT7:AT14)","v":19}]
[null,null,null,null,null,null,null,null,null,null,null,null,null,null,null,null,null,null,null,"Block 1",null,null,null,null,"Block 2",null,null,null,null,"Block 3",null,null,null,null,"Block 4",null,null,null,null,"Block 5",null,null,null,null,"Block 6"]
["Sequence\nComponent\n1","Time\n1","Sequence\nComponent\n2","Time\n2","Sequence\nComponent\n3","Time\n3","Sequence\nComponent\n4","Time\n4","Sequence\nComponent\n5","Time\n5","Correct?\n0=No 1=Yes","Sequence",null,"Frequency",null,"Relative Frequency","Variability",null,null,"Frequency",null,"Relative Frequency","Variability",null,"Frequency",null,"Relative Frequency","Variability",null,"Frequency",null,"Relative Frequency","Variability",null,"Frequency",null,"Relative Frequency","Variability",null,"Frequency",null,"Relative Frequency","Variability",null,"Frequency",null,"Relative Frequency","Variability"]
[22,14,24,21,23,34,null,null,null,null,0,222,null,111,{"$f":"COUNTIF($L$7:$L$500,N7)","v":0},{"$f":"O7/$Q$4","v":0},{"$f":"IF(P7=0,0,(P7*((LOG(P7))/LOG(2))))","v":0},null,null,{"$f":"N7","v":111},{"$f":"COUNTIF(L7:L25,T7)","v":0},{"$f":"U7/(W4-U10)","v":0},{"$f":"IF(V7=0,0,(V7*((LOG(V7))/LOG(2))))","v":0},null,{"$f":"N7","v":111},{"$f":"COUNTIF(L26:L44,Y7)","v":0},{"$f":"Z7/(AB4-Z10)","v":0},{"$f":"IF(AA7=0,0,(AA7*((LOG(AA7))/LOG(2))))","v":0},null,{"$f":"N7","v":111},{"$f":"COUNTIF(L45:L64,AD7)","v":0},{"$f":"AE7/(AG4-AE10)","v":0},{"$f":"IF(AF7=0,0,(AF7*((LOG(AF7))/LOG(2))))","v":0},null,{"$f":"N7","v":111},{"$f":"COUNTIF(L65:L83,AI7)","v":0},{"$f":"AJ7/(AL4-AJ10)","v":0},{"$f":"IF(AK7=0,0,(AK7*((LOG(AK7))/LOG(2))))","v":0},null,{"$f":"N7","v":111},{"$f":"COUNTIF(L84:L102,AN7)","v":0},{"$f":"AO7/(AQ4-AO10)","v":0},{"$f":"IF(AP7=0,0,(AP7*((LOG(AP7))/LOG(2))))","v":0},null,{"$f":"N7","v":111},{"$f":"COUNTIF(L103:L121,AS7)","v":0},{"$f":"AT7/(AV4-AT10)","v":0},{"$f":"IF(AU7=0,0,(AU7*((LOG(AU7))/LOG(2))))","v":0}]
[22,141,24,148,14,168,null,null,null,null,0,221,null,112,{"$f":"COUNTIF($L$7:$L$500,N8)","v":1},{"$f":"O8/$Q$4","v":8.6956521739130436E-3},{"$f":"IF(P8=0,0,(P8*((LOG(P8))/LOG(2))))","v":-5.9526000442994574E-2},null,null,{"$f":"N8","v":112},{"$f":"COUNTIF(L7:L25,T8)","v":0},{"$f":"U8/(W4-U10)","v":0},{"$f":"IF(V8=0,0,(V8*((LOG(V8))/LOG(2))))","v":0},null,{"$f":"N8","v":112},{"$f":"COUNTIF(L26:L44,Y8)","v":0},{"$f":"Z8/(AB4-Z10)","v":0},{"$f":"IF(AA8=0,0,(AA8*((LOG(AA8))/LOG(2))))","v":0},null,{"$f":"N8","v":112},{"$f":"COUNTIF(L45:L64,AD8)","v":1},{"$f":"AE8/(AG4-AE10)","v":7.6923076923076927E-2},{"$f":"IF(AF8=0,0,(AF8*((LOG(AF8))/LOG(2))))","v":-0.28464920908777636},null,{"$f":"N8","v":112},{"$f":"COUNTIF(L65:L83,AI8)","v":0},{"$f":"AJ8/(AL4-AJ10)","v":0},{"$f":"IF(AK8=0,0,(AK8*((LOG(AK8))/LOG(2))))","v":0},null,{"$f":"N8","v":112},{"$f":"COUNTIF(L84:L102,AN8)","v":0},{"$f":"AO8/(AQ4-AO10)","v":0},{"$f":"IF(AP8=0,0,(AP8*((LOG(AP8))/LOG(2))))","v":0},null,{"$f":"N8","v":112},{"$f":"COUNTIF(L103:L121,AS8)","v":0},{"$f":"AT8/(AV4-AT10)","v":0},{"$f":"IF(AU8=0,0,(AU8*((LOG(AU8))/LOG(2))))","v":0}]
[22,277,24,284,14,304,null,null,null,null,0,221,null,121,{"$f":"COUNTIF($L$7:$L$500,N9)","v":35},{"$f":"O9/$Q$4","v":0.30434782608695654},{"$f":"IF(P9=0,0,(P9*((LOG(P9))/LOG(2))))","v":-0.52232387991286355},null,null,{"$f":"N9","v":121},{"$f":"COUNTIF(L7:L25,T9)","v":0},{"$f":"U9/(W4-U10)","v":0},{"$f":"IF(V9=0,0,(V9*((LOG(V9))/LOG(2))))","v":0},null,{"$f":"N9","v":121},{"$f":"COUNTIF(L26:L44,Y9)","v":10},{"$f":"Z9/(AB4-Z10)","v":0.55555555555555558},{"$f":"IF(AA9=0,0,(AA9*((LOG(AA9))/LOG(2))))","v":-0.4711093925305278},null,{"$f":"N9","v":121},{"$f":"COUNTIF(L45:L64,AD9)","v":7},{"$f":"AE9/(AG4-AE10)","v":0.53846153846153844},{"$f":"IF(AF9=0,0,(AF9*((LOG(AF9))/LOG(2))))","v":-0.48089181327572433},null,{"$f":"N9","v":121},{"$f":"COUNTIF(L65:L83,AI9)","v":6},{"$f":"AJ9/(AL4-AJ10)","v":0.35294117647058826},{"$f":"IF(AK9=0,0,(AK9*((LOG(AK9))/LOG(2))))","v":-0.53029423783382934},null,{"$f":"N9","v":121},{"$f":"COUNTIF(L84:L102,AN9)","v":7},{"$f":"AO9/(AQ4-AO10)","v":0.41176470588235292},{"$f":"IF(AP9=0,0,(AP9*((LOG(AP9))/LOG(2))))","v":-0.52710326084406744},null,{"$f":"N9","v":121},{"$f":"COUNTIF(L103:L121,AS9)","v":5},{"$f":"AT9/(AV4-AT10)","v":0.29411764705882354},{"$f":"IF(AU9=0,0,(AU9*((LOG(AU9))/LOG(2))))","v":-0.51927492540087561}]
[22,408,24,429,23,438,null,null,null,null,0,222,null,122,{"$f":"COUNTIF($L$7:$L$500,N10)","v":20},{"$f":"O10/$Q$4","v":0.17391304347826086},{"$f":"IF(P10=0,0,(P10*((LOG(P10))/LOG(2))))","v":-0.43888034018382832},null,null,{"$f":"N10","v":122},{"$f":"COUNTIF(L7:L25,T10)","v":6},null,null,null,{"$f":"N10","v":122},{"$f":"COUNTIF(L26:L44,Y10)","v":1},null,null,null,{"$f":"N10","v":122},{"$f":"COUNTIF(L45:L64,AD10)","v":7},null,null,null,{"$f":"N10","v":122},{"$f":"COUNTIF(L65:L83,AI10)","v":2},null,null,null,{"$f":"N10","v":122},{"$f":"COUNTIF(L84:L102,AN10)","v":2},null,null,null,{"$f":"N10","v":122},{"$f":"COUNTIF(L103:L121,AS10)","v":2}]
[11,568,22,591,23,598,null,null,null,null,0,122,null,211,{"$f":"COUNTIF($L$7:$L$500,N11)","v":2},{"$f":"O11/$Q$4","v":1.7391304347826087E-2},{"$f":"IF(P11=0,0,(P11*((LOG(P11))/LOG(2))))","v":-0.10166069653816305},null,null,{"$f":"N11","v":211},{"$f":"COUNTIF(L7:L25,T11)","v":0},{"$f":"U11/(W4-U10)","v":0},{"$f":"IF(V11=0,0,(V11*((LOG(V11))/LOG(2))))","v":0},null,{"$f":"N11","v":211},{"$f":"COUNTIF(L26:L44,Y11)","v":0},{"$f":"Z11/(AB4-Z10)","v":0},{"$f":"IF(AA11=0,0,(AA11*((LOG(AA11))/LOG(2))))","v":0},null,{"$f":"N11","v":211},{"$f":"COUNTIF(L45:L64,AD11)","v":1},{"$f":"AE11/(AG4-AE10)","v":7.6923076923076927E-2},{"$f":"IF(AF11=0,0,(AF11*((LOG(AF11))/LOG(2))))","v":-0.28464920908777636},null,{"$f":"N11","v":211},{"$f":"COUNTIF(L65:L83,AI11)","v":1},{"$f":"AJ11/(AL4-AJ10)","v":5.8823529411764705E-2},{"$f":"IF(AK11=0,0,(AK11*((LOG(AK11))/LOG(2))))","v":-0.24043899066178465},null,{"$f":"N11","v":211},{"$f":"COUNTIF(L84:L102,AN11)","v":0},{"$f":"AO11/(AQ4-AO10)","v":0},{"$f":"IF(AP11=0,0,(AP11*((LOG(AP11))/LOG(2))))","v":0},null,{"$f":"N11","v":211},{"$f":"COUNTIF(L103:L121,AS11)","v":0},{"$f":"AT11/(AV4-AT10)","v":0},{"$f":"IF(AU11=0,0,(AU11*((LOG(AU11))/LOG(2))))","v":0}]
[22,707,24,714,23,721,null,null,null,null,0,222,null,212,{"$f":"COUNTIF($L$7:$L$500,N12)","v":27},{"$f":"O12/$Q$4","v":0.23478260869565218},{"$f":"IF(P12=0,0,(P12*((LOG(P12))/LOG(2))))","v":-0.49083712014856068},null,null,{"$f":"N12","v":212},{"$f":"COUNTIF(L7:L25,T12)","v":3},{"$f":"U12/(W4-U10)","v":0.23076923076923078},{"$f":"IF(V12=0,0,(V12*((LOG(V12))/LOG(2))))","v":-0.48818705017383146},null,{"$f":"N12","v":212},{"$f":"COUNTIF(L26:L44,Y12)","v":5},{"$f":"Z12/(AB4-Z10)","v":0.27777777777777779},{"$f":"IF(AA12=0,0,(AA12*((LOG(AA12))/LOG(2))))","v":-0.51333247404304172},null,{"$f":"N12","v":212},{"$f":"COUNTIF(L45:L64,AD12)","v":1},{"$f":"AE12/(AG4-AE10)","v":7.6923076923076927E-2},{"$f":"IF(AF12=0,0,(AF12*((LOG(AF12))/LOG(2))))","v":-0.28464920908777636},null,{"$f":"N12","v":212},{"$f":"COUNTIF(L65:L83,AI12)","v":6},{"$f":"AJ12/(AL4-AJ10)","v":0.35294117647058826},{"$f":"IF(AK12=0,0,(AK12*((LOG(AK12))/LOG(2))))","v":-0.53029423783382934},null,{"$f":"N12","v":212},{"$f":"COUNTIF(L84:L102,AN12)","v":4},{"$f":"AO12/(AQ4-AO10)","v":0.23529411764705882},{"$f":"IF(AP12=0,0,(AP12*((LOG(AP12))/LOG(2))))","v":-0.49116772735302094},null,{"$f":"N12","v":212},{"$f":"COUNTIF(L103:L121,AS12)","v":8},{"$f":"AT12/(AV4-AT10)","v":0.47058823529411764},{"$f":"IF(AU12=0,0,(AU12*((LOG(AU12))/LOG(2))))","v":-0.51174721941192436}]
[22,823,24,829,23,841,null,null,null,null,0,222,null,221,{"$f":"COUNTIF($L$7:$L$500,N13)","v":15},{"$f":"O13/$Q$4","v":0.13043478260869565},{"$f":"IF(P13=0,0,(P13*((LOG(P13))/LOG(2))))","v":-0.3832955811307639},null,null,{"$f":"N13","v":221},{"$f":"COUNTIF(L7:L25,T13)","v":4},{"$f":"U13/(W4-U10)","v":0.30769230769230771},{"$f":"IF(V13=0,0,(V13*((LOG(V13))/LOG(2))))","v":-0.52321222096648989},null,{"$f":"N13","v":221},{"$f":"COUNTIF(L26:L44,Y13)","v":3},{"$f":"Z13/(AB4-Z10)","v":0.16666666666666666},{"$f":"IF(AA13=0,0,(AA13*((LOG(AA13))/LOG(2))))","v":-0.43082708345352599},null,{"$f":"N13","v":221},{"$f":"COUNTIF(L45:L64,AD13)","v":1},{"$f":"AE13/(AG4-AE10)","v":7.6923076923076927E-2},{"$f":"IF(AF13=0,0,(AF13*((LOG(AF13))/LOG(2))))","v":-0.28464920908777636},null,{"$f":"N13","v":221},{"$f":"COUNTIF(L65:L83,AI13)","v":2},{"$f":"AJ13/(AL4-AJ10)","v":0.11764705882352941},{"$f":"IF(AK13=0,0,(AK13*((LOG(AK13))/LOG(2))))","v":-0.36323092250003997},null,{"$f":"N13","v":221},{"$f":"COUNTIF(L84:L102,AN13)","v":2},{"$f":"AO13/(AQ4-AO10)","v":0.11764705882352941},{"$f":"IF(AP13=0,0,(AP13*((LOG(AP13))/LOG(2))))","v":-0.36323092250003997},null,{"$f":"N13","v":221},{"$f":"COUNTIF(L103:L121,AS13)","v":3},{"$f":"AT13/(AV4-AT10)","v":0.17647058823529413},{"$f":"IF(AU13=0,0,(AU13*((LOG(AU13))/LOG(2))))","v":-0.44161770715220888}]
[11,1167,22,1179,23,1187,null,null,null,null,0,122,null,222,{"$f":"COUNTIF($L$7:$L$500,N14)","v":15},{"$f":"O14/$Q$4","v":0.13043478260869565},{"$f":"IF(P14=0,0,(P14*((LOG(P14))/LOG(2))))","v":-0.3832955811307639},null,null,{"$f":"N14","v":222},{"$f":"COUNTIF(L7:L25,T14)","v":6},{"$f":"U14/(W4-U10)","v":0.46153846153846156},{"$f":"IF(V14=0,0,(V14*((LOG(V14))/LOG(2))))","v":-0.51483563880920125},null,{"$f":"N14","v":222},{"$f":"COUNTIF(L26:L44,Y14)","v":0},{"$f":"Z14/(AB4-Z10)","v":0},{"$f":"IF(AA14=0,0,(AA14*((LOG(AA14))/LOG(2))))","v":0},null,{"$f":"N14","v":222},{"$f":"COUNTIF(L45:L64,AD14)","v":2},{"$f":"AE14/(AG4-AE10)","v":0.15384615384615385},{"$f":"IF(AF14=0,0,(AF14*((LOG(AF14))/LOG(2))))","v":-0.4154522643293988},null,{"$f":"N14","v":222},{"$f":"COUNTIF(L65:L83,AI14)","v":2},{"$f":"AJ14/(AL4-AJ10)","v":0.11764705882352941},{"$f":"IF(AK14=0,0,(AK14*((LOG(AK14))/LOG(2))))","v":-0.36323092250003997},null,{"$f":"N14","v":222},{"$f":"COUNTIF(L84:L102,AN14)","v":4},{"$f":"AO14/(AQ4-AO10)","v":0.23529411764705882},{"$f":"IF(AP14=0,0,(AP14*((LOG(AP14))/LOG(2))))","v":-0.49116772735302094},null,{"$f":"N14","v":222},{"$f":"COUNTIF(L103:L121,AS14)","v":1},{"$f":"AT14/(AV4-AT10)","v":5.8823529411764705E-2},{"$f":"IF(AU14=0,0,(AU14*((LOG(AU14))/LOG(2))))","v":-0.24043899066178465}]
[11,1290,22,1301,23,1328,null,null,null,null,0,122,null,null,null,{"$f":"SUM(P7:P14)","v":1},{"$f":"-SUM(Q7:Q14)","v":2.3798191994879376},null,null,null,null,{"$f":"SUM(V7:V14)","v":1},{"$f":"-SUM(W7:W14)","v":1.5262349099495225},null,null,null,{"$f":"SUM(AA7:AA14)","v":1},{"$f":"-SUM(AB7:AB14)","v":1.4152689500270954},null,null,null,{"$f":"SUM(AF7:AF14)","v":0.99999999999999989},{"$f":"-SUM(AG7:AG14)","v":2.0349409139562287},null,null,null,{"$f":"SUM(AK7:AK14)","v":1},{"$f":"-SUM(AL7:AL14)","v":2.0274893113295236},null,null,null,{"$f":"SUM(AP7:AP14)","v":1},{"$f":"-SUM(AQ7:AQ14)","v":1.8726696380501493},null,null,null,{"$f":"SUM(AU7:AU14)","v":1},{"$f":"-SUM(AV7:AV14)","v":1.7130788426267936}]
[22,1507,13,1523,23,1535,null,null,null,null,0,212,null,null,null,"U=",{"$f":"Q15/(LOG(Q4)/LOG(2))","v":0.34764774790076974},null,null,null,null,"U1=",{"$f":"W15/(LOG(W4)/LOG(2))","v":0.35928930169344608},null,null,null,"U2=",{"$f":"AB15/(LOG(AB4)/LOG(2))","v":0.33316692564742156},null,null,null,"U3=",{"$f":"AG15/(LOG(AG4)/LOG(2))","v":0.47084099255687939},null,null,null,"U4=",{"$f":"AL15/(LOG(AL4)/LOG(2))","v":0.47728905564255686},null,null,null,"U5=",{"$f":"AQ15/(LOG(AQ4)/LOG(2))","v":0.44084312458808139},null,null,null,"U6=",{"$f":"AV15/(LOG(AV4)/LOG(2))","v":0.40327402885415176}]
[22,1651,24,1660,23,1668,null,null,null,null,0,222]
[11,1864,22,1876,23,1888,null,null,null,null,0,122]
[22,1990,24,2019,14,2036,null,null,null,null,0,221,null,"Total Target Seq"]
[11,2144,22,2156,23,2164,null,null,null,null,0,122,null,{"$f":"COUNTIF(L7:L121,G3)","v":20},null,19,19,20,19,19,19]
[22,2291,24,2307,14,2334,null,null,null,null,0,221,null,null,null,"% of reinforcement given in 6 equal intervals based on number of trials "]
[22,2450,13,2466,23,2476,null,null,null,null,0,212,null,null,null,"%_1","%_2","%_3","%_4","%_5","%_6"]
[11,2576,22,2587,23,2595,null,null,null,null,0,122,null,null,"target sequence",{"$f":"$G$3","v":122},{"$f":"$G$3","v":122},{"$f":"$G$3","v":122},{"$f":"$G$3","v":122},{"$f":"$G$3","v":122},{"$f":"$G$3","v":122}]
[22,2703,24,2717,23,2726,null,null,null,null,0,222,null,null,"total reinforcement",{"$f":"U10","v":6},{"$f":"Z10","v":1},{"$f":"AE10","v":7},{"$f":"AJ10","v":2},{"$f":"AO10","v":2},{"$f":"AT10","v":2}]
[22,2852,13,2876,23,2888,null,null,null,null,0,212,null,null,"% target"]
[11,3014,22,3026,14,3040,null,null,null,null,0,121,null,null,"CCRF"]
[11,3148,22,3165,23,3193,null,null,null,null,0,122,null,null,"% CCRf"]
[11,3326,22,3339,14,3353,null,null,null,null,0,121,null,null,"average response rate",{"$f":"F25/P20","v":152},{"$f":"(F44-F25)/Q20","v":162.47368421052633},{"$f":"(F64-F44)/R20","v":281.60000000000002},{"$f":"(F83-F64)/S20","v":146.10526315789474},{"$f":"(F102-F83)/T20","v":222.89473684210526},{"$f":"(F121-F102)/U20","v":273.94736842105266}]
[22,3489,13,3508,23,3521,null,null,null,null,0,212]
[11,3654,22,3666,14,3680,null,null,null,null,0,121]
[22,3795,13,3821,23,3833,null,null,null,null,0,212]
[22,3944,13,3961,23,3974,null,null,null,null,0,212]
[11,4167,22,4182,14,4201,null,null,null,null,0,121]
[11,4330,22,4342,14,4359,null,null,null,null,0,121]
[22,4514,24,4535,14,4553,null,null,null,null,0,221]
[11,4675,22,4684,14,4702,null,null,null,null,0,121]
[11,4835,22,4846,14,4860,null,null,null,null,0,121]
[22,4984,13,4998,23,5011,null,null,null,null,0,212]
[11,5154,22,5166,14,5182,null,null,null,null,0,121]
[22,5311,24,5320,14,5337,null,null,null,null,0,221]
[22,5492,24,5525,14,5547,null,null,null,null,0,221]
[11,5658,22,5670,14,5691,null,null,null,null,0,121]
[11,5795,22,5807,14,5822,null,null,null,null,0,121]
[22,5926,13,5963,23,5975,null,null,null,null,0,212]
[11,6145,22,6158,23,6176,null,null,null,null,0,122]
[11,6297,22,6313,14,6330,null,null,null,null,0,121]
[11,6466,22,6479,23,6496,null,null,null,null,0,122]
[11,6684,22,6699,14,6737,null,null,null,null,0,121]
[22,6837,24,6852,14,6869,null,null,null,null,0,221]
[22,6966,24,6976,23,6986,null,null,null,null,0,222]
[22,7112,13,7128,23,7139,null,null,null,null,0,212]
[11,7267,22,7282,14,7294,null,null,null,null,0,121]
[11,7513,22,7530,14,7542,null,null,null,null,0,121]
[11,7681,22,7694,23,7718,null,null,null,null,0,122]
[11,8027,22,8046,23,8059,null,null,null,null,0,122]
[22,9249,13,9278,14,9312,null,null,null,null,0,211]
[11,9423,22,9438,23,9458,null,null,null,null,0,122]
[22,9572,24,9583,23,9593,null,null,null,null,0,222]
[11,9768,22,9780,23,9795,null,null,null,null,0,122]
[11,10533,22,10549,14,10589,null,null,null,null,0,121]
[11,10729,22,10743,14,10757,null,null,null,null,0,121]
[11,10919,22,10934,23,10957,null,null,null,null,0,122]
[11,11090,22,11102,14,11119,null,null,null,null,0,121]
[11,11558,11,11592,21,11607,null,null,null,null,0,112]
[11,11712,22,11724,23,11732,null,null,null,null,0,122]
[22,11837,24,11846,14,11863,null,null,null,null,0,221]
[22,11979,13,11994,23,12023,null,null,null,null,0,212]
[22,12133,13,12146,23,12157,null,null,null,null,0,212]
[11,12267,22,12277,14,12291,null,null,null,null,0,121]
[22,12392,13,12407,23,12418,null,null,null,null,0,212]
[22,12530,13,12544,23,12554,null,null,null,null,0,212]
[11,12663,22,12674,14,12687,null,null,null,null,0,121]
[22,12800,24,12813,23,12829,null,null,null,null,0,222]
[22,12929,24,12938,23,12947,null,null,null,null,0,222]
[22,13081,13,13095,23,13105,null,null,null,null,0,212]
[22,13214,13,13231,14,13239,null,null,null,null,0,211]
[11,13341,22,13354,14,13374,null,null,null,null,0,121]
[11,13555,22,13568,14,13586,null,null,null,null,0,121]
[11,13718,22,13727,14,13743,null,null,null,null,0,121]
[11,13889,22,13902,14,13918,null,null,null,null,0,121]
[11,14046,22,14060,23,14079,null,null,null,null,0,122]
[22,14210,13,14226,23,14237,null,null,null,null,0,212]
[22,14351,24,14361,14,14383,null,null,null,null,0,221]
[22,14535,24,14543,14,14571,null,null,null,null,0,221]
[11,14740,22,14759,14,14777,null,null,null,null,0,121]
[22,15324,13,15344,23,15361,null,null,null,null,0,212]
[22,15551,24,15560,14,15581,null,null,null,null,0,221]
[22,15745,24,15768,23,15786,null,null,null,null,0,222]
[22,15906,13,15925,23,15940,null,null,null,null,0,212]
[22,16454,24,16466,23,16485,null,null,null,null,0,222]
[11,16652,22,16664,14,16681,null,null,null,null,0,121]
[22,16805,24,16813,23,16823,null,null,null,null,0,222]
[11,17017,22,17038,14,17074,null,null,null,null,0,121]
[22,17192,13,17209,23,17223,null,null,null,null,0,212]
[11,17396,22,17408,23,17424,null,null,null,null,0,122]
[22,17545,13,17561,23,17573,null,null,null,null,0,212]
[22,17717,24,17727,23,17750,null,null,null,null,0,222]
[11,17880,22,17894,14,17911,null,null,null,null,0,121]
[11,18022,22,18034,14,18054,null,null,null,null,0,121]
[11,18215,22,18228,14,18245,null,null,null,null,0,121]
[11,18392,22,18406,14,18425,null,null,null,null,0,121]
[11,18583,22,18597,23,18618,null,null,null,null,0,122]
[11,18750,22,18761,14,18784,null,null,null,null,0,121]
[22,18902,13,18924,23,18935,null,null,null,null,0,212]
[22,19092,13,19113,23,19125,null,null,null,null,0,212]
[22,20230,24,20246,14,20274,null,null,null,null,0,221]
[11,20520,22,20533,23,20556,null,null,null,null,0,122]
[22,20671,13,20686,23,20697,null,null,null,null,0,212]
[22,20800,24,20818,14,20846,null,null,null,null,0,221]
[22,20976,13,20997,23,21015,null,null,null,null,0,212]
[22,21136,13,21156,23,21168,null,null,null,null,0,212]
[11,21307,22,21320,14,21336,null,null,null,null,0,121]
[22,21454,13,21473,23,21484,null,null,null,null,0,212]
[11,21639,22,21653,14,21674,null,null,null,null,0,121]
[11,21998,22,22027,23,22034,null,null,null,null,0,122]
[11,22158,22,22169,14,22189,null,null,null,null,0,121]
[22,22489,24,22498,23,22521,null,null,null,null,0,222]
[22,23168,24,23181,14,23213,null,null,null,null,0,221]
[11,23324,22,23336,14,23356,null,null,null,null,0,121]
[22,23543,13,23567,23,23581,null,null,null,null,0,212]
[22,23792,13,23810,23,23823,null,null,null,null,0,212]

{"sheet":"!2011-05-11_08h02m.Subject 52 p","index":9,"n_rows":28,"n_cols":48,"rows_kept":28,"cut":false,"hidden":false,"merged":[[4,39,4,42],[5,39,5,40],[4,44,4,47],[5,44,5,45],[4,24,4,27],[5,24,5,25],[4,29,4,32],[5,29,5,30],[4,34,4,37],[5,34,5,35],[1,1,1,2],[5,13,5,14],[18,13,18,14],[19,13,19,14],[4,19,4,22],[5,19,5,20]]}
["Report for:!2011-05-11_08h02m.Subject 52 phase 2"]
["Date","2011-05-11",null,null,null,"Group",0]
["Hen",0,null,null,null,"Correct Sequence",{"$f":"Start!J2","v":122},null,null,null,null,null,null,null,null,"Total Sequences in Data",{"$f":"4994-COUNTBLANK(L7:L5000)","v":22},null,null,null,null,"Total Sequences in Block Data",{"$f":"COUNTA(L7:L10)","v":4},null,null,null,"Total Sequences in Block Data",{"$f":"COUNTA(L11:L13)","v":3},null,null,null,"Total Sequences in Block Data",{"$f":"COUNTA(L14:L17)","v":4},null,null,null,"Total Sequences in Block Data",{"$f":"COUNTA(L18:L21)","v":4},null,null,null,"Total Sequences in Block Data",{"$f":"COUNTA(L22:L24)","v":3},null,null,null,"Total Sequences in Block Data",{"$f":"COUNTA(L25:L28)","v":4}]
["Program",0,null,null,null,null,null,null,null,null,null,null,null,null,null,"Total Sequences in Summary",{"$f":"SUM(O7:O14)","v":22},null,null,null,null,"Total Sequences in Block Summary",{"$f":"SUM(U7:U14)","v":4},null,null,null,"Total Sequences in Block Summary",{"$f":"SUM(Z7:Z14)","v":3},null,null,null,"Total Sequences in Block Summary",{"$f":"SUM(AE7:AE14)","v":4},null,null,null,"Total Sequences in Block Summary",{"$f":"SUM(AJ7:AJ14)","v":4},null,null,null,"Total Sequences in Block Summary",{"$f":"SUM(AO7:AO14)","v":3},null,null,null,"Total Sequences in Block Summary",{"$f":"SUM(AT7:AT14)","v":4}]
[null,null,null,null,null,null,null,null,null,null,null,null,null,null,null,null,null,null,null,"Block 1",null,null,null,null,"Block 2",null,null,null,null,"Block 3",null,null,null,null,"Block 4",null,null,null,null,"Block 5",null,null,null,null,"Block 6"]
["Sequence\nComponent\n1","Time\n1","Sequence\nComponent\n2","Time\n2","Sequence\nComponent\n3","Time\n3","Sequence\nComponent\n4","Time\n4","Sequence\nComponent\n5","Time\n5","Correct?\n0=No 1=Yes","Sequence",null,"Frequency",null,"Relative Frequency","Variability",null,null,"Frequency",null,"Relative Frequency","Variability",null,"Frequency",null,"Relative Frequency","Variability",null,"Frequency",null,"Relative Frequency","Variability",null,"Frequency",null,"Relative Frequency","Variability",null,"Frequency",null,"Relative Frequency","Variability",null,"Frequency",null,"Relative Frequency","Variability"]
[11,15,11,40,21,57,null,null,null,null,0,112,null,111,{"$f":"COUNTIF($L$7:$L$500,N7)","v":0},{"$f":"O7/$Q$4","v":0},{"$f":"IF(P7=0,0,(P7*((LOG(P7))/LOG(2))))","v":0},null,null,{"$f":"N7","v":111},{"$f":"COUNTIF(L7:L10,T7)","v":0},{"$f":"U7/(W4-U10)","v":0},{"$f":"IF(V7=0,0,(V7*((LOG(V7))/LOG(2))))","v":0},null,{"$f":"N7","v":111},{"$f":"COUNTIF(L11:L13,Y7)","v":0},{"$f":"Z7/(AB4-Z10)","v":0},{"$f":"IF(AA7=0,0,(AA7*((LOG(AA7))/LOG(2))))","v":0},null,{"$f":"N7","v":111},{"$f":"COUNTIF(L14:L17,AD7)","v":0},{"$f":"AE7/(AG4-AE10)","v":0},{"$f":"IF(AF7=0,0,(AF7*((LOG(AF7))/LOG(2))))","v":0},null,{"$f":"N7","v":111},{"$f":"COUNTIF(L18:L21,AI7)","v":0},{"$f":"AJ7/(AL4-AJ10)","v":0},{"$f":"IF(AK7=0,0,(AK7*((LOG(AK7))/LOG(2))))","v":0},null,{"$f":"N7","v":111},{"$f":"COUNTIF(L22:L24,AN7)","v":0},{"$f":"AO7/(AQ4-AO10)","v":0},{"$f":"IF(AP7=0,0,(AP7*((LOG(AP7))/LOG(2))))","v":0},null,{"$f":"N7","v":111},{"$f":"COUNTIF(L25:L28,AS7)","v":0},{"$f":"AT7/(AV4-AT10)","v":0},{"$f":"IF(AU7=0,0,(AU7*((LOG(AU7))/LOG(2))))","v":0}]
[11,167,22,179,23,185,null,null,null,null,0,122,null,112,{"$f":"COUNTIF($L$7:$L$500,N8)","v":1},{"$f":"O8/$Q$4","v":4.5454545454545456E-2},{"$f":"IF(P8=0,0,(P8*((LOG(P8))/LOG(2))))","v":-0.20270143721078623},null,null,{"$f":"N8","v":112},{"$f":"COUNTIF(L7:L10,T8)","v":1},{"$f":"U8/(W4-U10)","v":0.33333333333333331},{"$f":"IF(V8=0,0,(V8*((LOG(V8))/LOG(2))))","v":-0.52832083357371862},null,{"$f":"N8","v":112},{"$f":"COUNTIF(L11:L13,Y8)","v":0},{"$f":"Z8/(AB4-Z10)","v":0},{"$f":"IF(AA8=0,0,(AA8*((LOG(AA8))/LOG(2))))","v":0},null,{"$f":"N8","v":112},{"$f":"COUNTIF(L14:L17,AD8)","v":0},{"$f":"AE8/(AG4-AE10)","v":0},{"$f":"IF(AF8=0,0,(AF8*((LOG(AF8))/LOG(2))))","v":0},null,{"$f":"N8","v":112},{"$f":"COUNTIF(L18:L21,AI8)","v":0},{"$f":"AJ8/(AL4-AJ10)","v":0},{"$f":"IF(AK8=0,0,(AK8*((LOG(AK8))/LOG(2))))","v":0},null,{"$f":"N8","v":112},{"$f":"COUNTIF(L22:L24,AN8)","v":0},{"$f":"AO8/(AQ4-AO10)","v":0},{"$f":"IF(AP8=0,0,(AP8*((LOG(AP8))/LOG(2))))","v":0},null,{"$f":"N8","v":112},{"$f":"COUNTIF(L25:L28,AS8)","v":0},{"$f":"AT8/(AV4-AT10)","v":0},{"$f":"IF(AU8=0,0,(AU8*((LOG(AU8))/LOG(2))))","v":0}]
[22,285,24,296,23,309,null,null,null,null,0,222,null,121,{"$f":"COUNTIF($L$7:$L$500,N9)","v":2},{"$f":"O9/$Q$4","v":9.0909090909090912E-2},{"$f":"IF(P9=0,0,(P9*((LOG(P9))/LOG(2))))","v":-0.31449378351248153},null,null,{"$f":"N9","v":121},{"$f":"COUNTIF(L7:L10,T9)","v":0},{"$f":"U9/(W4-U10)","v":0},{"$f":"IF(V9=0,0,(V9*((LOG(V9))/LOG(2))))","v":0},null,{"$f":"N9","v":121},{"$f":"COUNTIF(L11:L13,Y9)","v":0},{"$f":"Z9/(AB4-Z10)","v":0},{"$f":"IF(AA9=0,0,(AA9*((LOG(AA9))/LOG(2))))","v":0},null,{"$f":"N9","v":121},{"$f":"COUNTIF(L14:L17,AD9)","v":1},{"$f":"AE9/(AG4-AE10)","v":0.25},{"$f":"IF(AF9=0,0,(AF9*((LOG(AF9))/LOG(2))))","v":-0.5},null,{"$f":"N9","v":121},{"$f":"COUNTIF(L18:L21,AI9)","v":1},{"$f":"AJ9/(AL4-AJ10)","v":0.25},{"$f":"IF(AK9=0,0,(AK9*((LOG(AK9))/LOG(2))))","v":-0.5},null,{"$f":"N9","v":121},{"$f":"COUNTIF(L22:L24,AN9)","v":0},{"$f":"AO9/(AQ4-AO10)","v":0},{"$f":"IF(AP9=0,0,(AP9*((LOG(AP9))/LOG(2))))","v":0},null,{"$f":"N9","v":121},{"$f":"COUNTIF(L25:L28,AS9)","v":0},{"$f":"AT9/(AV4-AT10)","v":0},{"$f":"IF(AU9=0,0,(AU9*((LOG(AU9))/LOG(2))))","v":0}]
[22,406,24,413,23,425,null,null,null,null,0,222,null,122,{"$f":"COUNTIF($L$7:$L$500,N10)","v":2},{"$f":"O10/$Q$4","v":9.0909090909090912E-2},{"$f":"IF(P10=0,0,(P10*((LOG(P10))/LOG(2))))","v":-0.31449378351248153},null,null,{"$f":"N10","v":122},{"$f":"COUNTIF(L7:L10,T10)","v":1},null,null,null,{"$f":"N10","v":122},{"$f":"COUNTIF(L11:L13,Y10)","v":1},null,null,null,{"$f":"N10","v":122},{"$f":"COUNTIF(L14:L17,AD10)","v":0},null,null,null,{"$f":"N10","v":122},{"$f":"COUNTIF(L18:L21,AI10)","v":0},null,null,null,{"$f":"N10","v":122},{"$f":"COUNTIF(L22:L24,AN10)","v":0},null,null,null,{"$f":"N10","v":122},{"$f":"COUNTIF(L25:L28,AS10)","v":0}]
[22,538,13,550,23,559,null,null,null,null,0,212,null,211,{"$f":"COUNTIF($L$7:$L$500,N11)","v":0},{"$f":"O11/$Q$4","v":0},{"$f":"IF(P11=0,0,(P11*((LOG(P11))/LOG(2))))","v":0},null,null,{"$f":"N11","v":211},{"$f":"COUNTIF(L7:L10,T11)","v":0},{"$f":"U11/(W4-U10)","v":0},{"$f":"IF(V11=0,0,(V11*((LOG(V11))/LOG(2))))","v":0},null,{"$f":"N11","v":211},{"$f":"COUNTIF(L11:L13,Y11)","v":0},{"$f":"Z11/(AB4-Z10)","v":0},{"$f":"IF(AA11=0,0,(AA11*((LOG(AA11))/LOG(2))))","v":0},null,{"$f":"N11","v":211},{"$f":"COUNTIF(L14:L17,AD11)","v":0},{"$f":"AE11/(AG4-AE10)","v":0},{"$f":"IF(AF11=0,0,(AF11*((LOG(AF11))/LOG(2))))","v":0},null,{"$f":"N11","v":211},{"$f":"COUNTIF(L18:L21,AI11)","v":0},{"$f":"AJ11/(AL4-AJ10)","v":0},{"$f":"IF(AK11=0,0,(AK11*((LOG(AK11))/LOG(2))))","v":0},null,{"$f":"N11","v":211},{"$f":"COUNTIF(L22:L24,AN11)","v":0},{"$f":"AO11/(AQ4-AO10)","v":0},{"$f":"IF(AP11=0,0,(AP11*((LOG(AP11))/LOG(2))))","v":0},null,{"$f":"N11","v":211},{"$f":"COUNTIF(L25:L28,AS11)","v":0},{"$f":"AT11/(AV4-AT10)","v":0},{"$f":"IF(AU11=0,0,(AU11*((LOG(AU11))/LOG(2))))","v":0}]
[11,935,22,949,23,965,null,null,null,null,0,122,null,212,{"$f":"COUNTIF($L$7:$L$500,N12)","v":8},{"$f":"O12/$Q$4","v":0.36363636363636365},{"$f":"IF(P12=0,0,(P12*((LOG(P12))/LOG(2))))","v":-0.53070240677719893},null,null,{"$f":"N12","v":212},{"$f":"COUNTIF(L7:L10,T12)","v":0},{"$f":"U12/(W4-U10)","v":0},{"$f":"IF(V12=0,0,(V12*((LOG(V12))/LOG(2))))","v":0},null,{"$f":"N12","v":212},{"$f":"COUNTIF(L11:L13,Y12)","v":2},{"$f":"Z12/(AB4-Z10)","v":1},{"$f":"IF(AA12=0,0,(AA12*((LOG(AA12))/LOG(2))))","v":0},null,{"$f":"N12","v":212},{"$f":"COUNTIF(L14:L17,AD12)","v":0},{"$f":"AE12/(AG4-AE10)","v":0},{"$f":"IF(AF12=0,0,(AF12*((LOG(AF12))/LOG(2))))","v":0},null,{"$f":"N12","v":212},{"$f":"COUNTIF(L18:L21,AI12)","v":2},{"$f":"AJ12/(AL4-AJ10)","v":0.5},{"$f":"IF(AK12=0,0,(AK12*((LOG(AK12))/LOG(2))))","v":-0.5},null,{"$f":"N12","v":212},{"$f":"COUNTIF(L22:L24,AN12)","v":2},{"$f":"AO12/(AQ4-AO10)","v":0.66666666666666663},{"$f":"IF(AP12=0,0,(AP12*((LOG(AP12))/LOG(2))))","v":-0.38997500048077083},null,{"$f":"N12","v":212},{"$f":"COUNTIF(L25:L28,AS12)","v":2},{"$f":"AT12/(AV4-AT10)","v":0.5},{"$f":"IF(AU12=0,0,(AU12*((LOG(AU12))/LOG(2))))","v":-0.5}]
[22,1077,13,1090,23,1100,null,null,null,null,0,212,null,221,{"$f":"COUNTIF($L$7:$L$500,N13)","v":3},{"$f":"O13/$Q$4","v":0.13636363636363635},{"$f":"IF(P13=0,0,(P13*((LOG(P13))/LOG(2))))","v":-0.39197306153401923},null,null,{"$f":"N13","v":221},{"$f":"COUNTIF(L7:L10,T13)","v":0},{"$f":"U13/(W4-U10)","v":0},{"$f":"IF(V13=0,0,(V13*((LOG(V13))/LOG(2))))","v":0},null,{"$f":"N13","v":221},{"$f":"COUNTIF(L11:L13,Y13)","v":0},{"$f":"Z13/(AB4-Z10)","v":0},{"$f":"IF(AA13=0,0,(AA13*((LOG(AA13))/LOG(2))))","v":0},null,{"$f":"N13","v":221},{"$f":"COUNTIF(L14:L17,AD13)","v":2},{"$f":"AE13/(AG4-AE10)","v":0.5},{"$f":"IF(AF13=0,0,(AF13*((LOG(AF13))/LOG(2))))","v":-0.5},null,{"$f":"N13","v":221},{"$f":"COUNTIF(L18:L21,AI13)","v":0},{"$f":"AJ13/(AL4-AJ10)","v":0},{"$f":"IF(AK13=0,0,(AK13*((LOG(AK13))/LOG(2))))","v":0},null,{"$f":"N13","v":221},{"$f":"COUNTIF(L22:L24,AN13)","v":0},{"$f":"AO13/(AQ4-AO10)","v":0},{"$f":"IF(AP13=0,0,(AP13*((LOG(AP13))/LOG(2))))","v":0},null,{"$f":"N13","v":221},{"$f":"COUNTIF(L25:L28,AS13)","v":1},{"$f":"AT13/(AV4-AT10)","v":0.25},{"$f":"IF(AU13=0,0,(AU13*((LOG(AU13))/LOG(2))))","v":-0.5}]
[22,1204,24,1231,14,1244,null,null,null,null,0,221,null,222,{"$f":"COUNTIF($L$7:$L$500,N14)","v":6},{"$f":"O14/$Q$4","v":0.27272727272727271},{"$f":"IF(P14=0,0,(P14*((LOG(P14))/LOG(2))))","v":-0.51121885034076575},null,null,{"$f":"N14","v":222},{"$f":"COUNTIF(L7:L10,T14)","v":2},{"$f":"U14/(W4-U10)","v":0.66666666666666663},{"$f":"IF(V14=0,0,(V14*((LOG(V14))/LOG(2))))","v":-0.38997500048077083},null,{"$f":"N14","v":222},{"$f":"COUNTIF(L11:L13,Y14)","v":0},{"$f":"Z14/(AB4-Z10)","v":0},{"$f":"IF(AA14=0,0,(AA14*((LOG(AA14))/LOG(2))))","v":0},null,{"$f":"N14","v":222},{"$f":"COUNTIF(L14:L17,AD14)","v":1},{"$f":"AE14/(AG4-AE10)","v":0.25},{"$f":"IF(AF14=0,0,(AF14*((LOG(AF14))/LOG(2))))","v":-0.5},null,{"$f":"N14","v":222},{"$f":"COUNTIF(L18:L21,AI14)","v":1},{"$f":"AJ14/(AL4-AJ10)","v":0.25},{"$f":"IF(AK14=0,0,(AK14*((LOG(AK14))/LOG(2))))","v":-0.5},null,{"$f":"N14","v":222},{"$f":"COUNTIF(L22:L24,AN14)","v":1},{"$f":"AO14/(AQ4-AO10)","v":0.33333333333333331},{"$f":"IF(AP14=0,0,(AP14*((LOG(AP14))/LOG(2))))","v":-0.52832083357371862},null,{"$f":"N14","v":222},{"$f":"COUNTIF(L25:L28,AS14)","v":1},{"$f":"AT14/(AV4-AT10)","v":0.25},{"$f":"IF(AU14=0,0,(AU14*((LOG(AU14))/LOG(2))))","v":-0.5}]
[22,1357,24,1366,23,1395,null,null,null,null,0,222,null,null,null,{"$f":"SUM(P7:P14)","v":1},{"$f":"-SUM(Q7:Q14)","v":2.2655833228877333},null,null,null,null,{"$f":"SUM(V7:V14)","v":1},{"$f":"-SUM(W7:W14)","v":0.91829583405448945},null,null,null,{"$f":"SUM(AA7:AA14)","v":1},{"$f":"-SUM(AB7:AB14)","v":0},null,null,null,{"$f":"SUM(AF7:AF14)","v":1},{"$f":"-SUM(AG7:AG14)","v":1.5},null,null,null,{"$f":"SUM(AK7:AK14)","v":1},{"$f":"-SUM(AL7:AL14)","v":1.5},null,null,null,{"$f":"SUM(AP7:AP14)","v":1},{"$f":"-SUM(AQ7:AQ14)","v":0.91829583405448945},null,null,null,{"$f":"SUM(AU7:AU14)","v":1},{"$f":"-SUM(AV7:AV14)","v":1.5}]
[11,1527,22,1537,14,1551,null,null,null,null,0,121,null,null,null,"U=",{"$f":"Q15/(LOG(Q4)/LOG(2))","v":0.50804306840790736},null,null,null,null,"U1=",{"$f":"W15/(LOG(W4)/LOG(2))","v":0.45914791702724472},null,null,null,"U2=",{"$f":"AB15/(LOG(AB4)/LOG(2))","v":0},null,null,null,"U3=",{"$f":"AG15/(LOG(AG4)/LOG(2))","v":0.75},null,null,null,"U4=",{"$f":"AL15/(LOG(AL4)/LOG(2))","v":0.75},null,null,null,"U5=",{"$f":"AQ15/(LOG(AQ4)/LOG(2))","v":0.57938016428569505},null,null,null,"U6=",{"$f":"AV15/(LOG(AV4)/LOG(2))","v":0.75}]
[22,1680,24,1715,14,1734,null,null,null,null,0,221]
[11,1932,22,1944,14,1962,null,null,null,null,0,121]
[22,2106,13,2121,23,2132,null,null,null,null,0,212,null,"Total Target Seq"]
[22,4271,24,4289,23,4305,null,null,null,null,0,222,null,{"$f":"COUNTIF(L7:L28,G3)","v":2},null,4,3,4,4,3,4]
[22,4420,13,4442,23,4455,null,null,null,null,0,212,null,null,null,"% of reinforcement given in 6 equal intervals based on number of trials "]
[22,4631,24,4642,23,4651,null,null,null,null,0,222,null,null,null,"%_1","%_2","%_3","%_4","%_5","%_6"]
[22,4813,13,4833,23,4844,null,null,null,null,0,212,null,null,"target sequence",{"$f":"$G$3","v":122},{"$f":"$G$3","v":122},{"$f":"$G$3","v":122},{"$f":"$G$3","v":122},{"$f":"$G$3","v":122},{"$f":"$G$3","v":122}]
[22,4961,13,4988,23,4998,null,null,null,null,0,212,null,null,"total reinforcement",{"$f":"U10","v":1},{"$f":"Z10","v":1},{"$f":"AE10","v":0},{"$f":"AJ10","v":0},{"$f":"AO10","v":0},{"$f":"AT10","v":0}]
[22,5135,13,5186,23,5197,null,null,null,null,0,212,null,null,"% target"]
[22,5354,13,5375,23,5385,null,null,null,null,0,212,null,null,"CCRF"]
[22,5613,24,5623,14,7003,null,null,null,null,0,221,null,null,"% CCRf"]
[22,7406,24,7416,23,7454,null,null,null,null,0,222,null,null,"average response rate",{"$f":"F10/P20","v":106.25},{"$f":"(F13-F10)/Q20","v":225},{"$f":"(F17-F13)/R20","v":158.5},{"$f":"(F21-F17)/S20","v":680.25},{"$f":"(F24-F21)/T20","v":181},{"$f":"(F28-F24)/U20","v":614}]

{"sheet":"!2011-05-12_08h35m.Subject 52 p","index":10,"n_rows":180,"n_cols":48,"rows_kept":180,"cut":false,"hidden":false,"merged":[[4,39,4,42],[5,39,5,40],[4,44,4,47],[5,44,5,45],[4,24,4,27],[5,24,5,25],[4,29,4,32],[5,29,5,30],[4,34,4,37],[5,34,5,35],[1,1,1,2],[5,13,5,14],[18,13,18,14],[19,13,19,14],[4,19,4,22],[5,19,5,20]]}
["Report for:!2011-05-12_08h35m.Subject 52 phase 2"]
["Date","2011-05-12",null,null,null,"Group",0]
["Hen",0,null,null,null,"Correct Sequence",{"$f":"Start!J2","v":122},null,null,null,null,null,null,null,null,"Total Sequences in Data",{"$f":"4994-COUNTBLANK(L7:L5000)","v":174},null,null,null,null,"Total Sequences in Block Data",{"$f":"COUNTA(L7:L35)","v":29},null,null,null,"Total Sequences in Block Data",{"$f":"COUNTA(L36:L64)","v":29},null,null,null,"Total Sequences in Block Data",{"$f":"COUNTA(L65:L93)","v":29},null,null,null,"Total Sequences in Block Data",{"$f":"COUNTA(L94:L122)","v":29},null,null,null,"Total Sequences in Block Data",{"$f":"COUNTA(L123:L151)","v":29},null,null,null,"Total Sequences in Block Data",{"$f":"COUNTA(L152:L180)","v":29}]
["Program",0,null,null,null,null,null,null,null,null,null,null,null,null,null,"Total Sequences in Summary",{"$f":"SUM(O7:O14)","v":173},null,null,null,null,"Total Sequences in Block Summary",{"$f":"SUM(U7:U14)","v":29},null,null,null,"Total Sequences in Block Summary",{"$f":"SUM(Z7:Z14)","v":29},null,null,null,"Total Sequences in Block Summary",{"$f":"SUM(AE7:AE14)","v":29},null,null,null,"Total Sequences in Block Summary",{"$f":"SUM(AJ7:AJ14)","v":29},null,null,null,"Total Sequences in Block Summary",{"$f":"SUM(AO7:AO14)","v":29},null,null,null,"Total Sequences in Block Summary",{"$f":"SUM(AT7:AT14)","v":28}]
[null,null,null,null,null,null,null,null,null,null,null,null,null,null,null,null,null,null,null,"Block 1",null,null,null,null,"Block 2",null,null,null,null,"Block 3",null,null,null,null,"Block 4",null,null,null,null,"Block 5",null,null,null,null,"Block 6"]
["Sequence\nComponent\n1","Time\n1","Sequence\nComponent\n2","Time\n2","Sequence\nComponent\n3","Time\n3","Sequence\nComponent\n4","Time\n4","Sequence\nComponent\n5","Time\n5","Correct?\n0=No 1=Yes","Sequence",null,"Frequency",null,"Relative Frequency","Variability",null,null,"Frequency",null,"Relative Frequency","Variability",null,"Frequency",null,"Relative Frequency","Variability",null,"Frequency",null,"Relative Frequency","Variability",null,"Frequency",null,"Relative Frequency","Variability",null,"Frequency",null,"Relative Frequency","Variability",null,"Frequency",null,"Relative Frequency","Variability"]
[22,14,13,23,23,33,null,null,null,null,0,212,null,111,{"$f":"COUNTIF($L$7:$L$500,N7)","v":0},{"$f":"O7/$Q$4","v":0},{"$f":"IF(P7=0,0,(P7*((LOG(P7))/LOG(2))))","v":0},null,null,{"$f":"N7","v":111},{"$f":"COUNTIF(L7:L35,T7)","v":0},{"$f":"U7/(W4-U10)","v":0},{"$f":"IF(V7=0,0,(V7*((LOG(V7))/LOG(2))))","v":0},null,{"$f":"N7","v":111},{"$f":"COUNTIF(L36:L64,Y7)","v":0},{"$f":"Z7/(AB4-Z10)","v":0},{"$f":"IF(AA7=0,0,(AA7*((LOG(AA7))/LOG(2))))","v":0},null,{"$f":"N7","v":111},{"$f":"COUNTIF(L65:L93,AD7)","v":0},{"$f":"AE7/(AG4-AE10)","v":0},{"$f":"IF(AF7=0,0,(AF7*((LOG(AF7))/LOG(2))))","v":0},null,{"$f":"N7","v":111},{"$f":"COUNTIF(L94:L122,AI7)","v":0},{"$f":"AJ7/(AL4-AJ10)","v":0},{"$f":"IF(AK7=0,0,(AK7*((LOG(AK7))/LOG(2))))","v":0},null,{"$f":"N7","v":111},{"$f":"COUNTIF(L123:L151,AN7)","v":0},{"$f":"AO7/(AQ4-AO10)","v":0},{"$f":"IF(AP7=0,0,(AP7*((LOG(AP7))/LOG(2))))","v":0},null,{"$f":"N7","v":111},{"$f":"COUNTIF(L152:L180,AS7)","v":0},{"$f":"AT7/(AV4-AT10)","v":0},{"$f":"IF(AU7=0,0,(AU7*((LOG(AU7))/LOG(2))))","v":0}]
[11,131,22,139,14,147,null,null,null,null,0,121,null,112,{"$f":"COUNTIF($L$7:$L$500,N8)","v":5},{"$f":"O8/$Q$4","v":2.8901734104046242E-2},{"$f":"IF(P8=0,0,(P8*((LOG(P8))/LOG(2))))","v":-0.14776589979044399},null,null,{"$f":"N8","v":112},{"$f":"COUNTIF(L7:L35,T8)","v":2},{"$f":"U8/(W4-U10)","v":0.08},{"$f":"IF(V8=0,0,(V8*((LOG(V8))/LOG(2))))","v":-0.29150849518197797},null,{"$f":"N8","v":112},{"$f":"COUNTIF(L36:L64,Y8)","v":0},{"$f":"Z8/(AB4-Z10)","v":0},{"$f":"IF(AA8=0,0,(AA8*((LOG(AA8))/LOG(2))))","v":0},null,{"$f":"N8","v":112},{"$f":"COUNTIF(L65:L93,AD8)","v":1},{"$f":"AE8/(AG4-AE10)","v":3.7037037037037035E-2},{"$f":"IF(AF8=0,0,(AF8*((LOG(AF8))/LOG(2))))","v":-0.1761069445245729},null,{"$f":"N8","v":112},{"$f":"COUNTIF(L94:L122,AI8)","v":1},{"$f":"AJ8/(AL4-AJ10)","v":3.8461538461538464E-2},{"$f":"IF(AK8=0,0,(AK8*((LOG(AK8))/LOG(2))))","v":-0.18078614300542661},null,{"$f":"N8","v":112},{"$f":"COUNTIF(L123:L151,AN8)","v":0},{"$f":"AO8/(AQ4-AO10)","v":0},{"$f":"IF(AP8=0,0,(AP8*((LOG(AP8))/LOG(2))))","v":0},null,{"$f":"N8","v":112},{"$f":"COUNTIF(L152:L180,AS8)","v":1},{"$f":"AT8/(AV4-AT10)","v":0.04},{"$f":"IF(AU8=0,0,(AU8*((LOG(AU8))/LOG(2))))","v":-0.18575424759098899}]
[22,250,13,261,23,274,null,null,null,null,0,212,null,121,{"$f":"COUNTIF($L$7:$L$500,N9)","v":37},{"$f":"O9/$Q$4","v":0.2138728323699422},{"$f":"IF(P9=0,0,(P9*((LOG(P9))/LOG(2))))","v":-0.47590445025599809},null,null,{"$f":"N9","v":121},{"$f":"COUNTIF(L7:L35,T9)","v":1},{"$f":"U9/(W4-U10)","v":0.04},{"$f":"IF(V9=0,0,(V9*((LOG(V9))/LOG(2))))","v":-0.18575424759098899},null,{"$f":"N9","v":121},{"$f":"COUNTIF(L36:L64,Y9)","v":3},{"$f":"Z9/(AB4-Z10)","v":0.13636363636363635},{"$f":"IF(AA9=0,0,(AA9*((LOG(AA9))/LOG(2))))","v":-0.39197306153401923},null,{"$f":"N9","v":121},{"$f":"COUNTIF(L65:L93,AD9)","v":10},{"$f":"AE9/(AG4-AE10)","v":0.37037037037037035},{"$f":"IF(AF9=0,0,(AF9*((LOG(AF9))/LOG(2))))","v":-0.53072570639855787},null,{"$f":"N9","v":121},{"$f":"COUNTIF(L94:L122,AI9)","v":8},{"$f":"AJ9/(AL4-AJ10)","v":0.30769230769230771},{"$f":"IF(AK9=0,0,(AK9*((LOG(AK9))/LOG(2))))","v":-0.52321222096648989},null,{"$f":"N9","v":121},{"$f":"COUNTIF(L123:L151,AN9)","v":7},{"$f":"AO9/(AQ4-AO10)","v":0.25925925925925924},{"$f":"IF(AP9=0,0,(AP9*((LOG(AP9))/LOG(2))))","v":-0.5049158541015204},null,{"$f":"N9","v":121},{"$f":"COUNTIF(L152:L180,AS9)","v":8},{"$f":"AT9/(AV4-AT10)","v":0.32},{"$f":"IF(AU9=0,0,(AU9*((LOG(AU9))/LOG(2))))","v":-0.52603398072791185}]
[22,373,13,381,23,399,null,null,null,null,0,212,null,122,{"$f":"COUNTIF($L$7:$L$500,N10)","v":21},{"$f":"O10/$Q$4","v":0.12138728323699421},{"$f":"IF(P10=0,0,(P10*((LOG(P10))/LOG(2))))","v":-0.36929784336426158},null,null,{"$f":"N10","v":122},{"$f":"COUNTIF(L7:L35,T10)","v":4},null,null,null,{"$f":"N10","v":122},{"$f":"COUNTIF(L36:L64,Y10)","v":7},null,null,null,{"$f":"N10","v":122},{"$f":"COUNTIF(L65:L93,AD10)","v":2},null,null,null,{"$f":"N10","v":122},{"$f":"COUNTIF(L94:L122,AI10)","v":3},null,null,null,{"$f":"N10","v":122},{"$f":"COUNTIF(L123:L151,AN10)","v":2},null,null,null,{"$f":"N10","v":122},{"$f":"COUNTIF(L152:L180,AS10)","v":3}]
[22,500,13,512,23,523,null,null,null,null,0,212,null,211,{"$f":"COUNTIF($L$7:$L$500,N11)","v":8},{"$f":"O11/$Q$4","v":4.6242774566473986E-2},{"$f":"IF(P11=0,0,(P11*((LOG(P11))/LOG(2))))","v":-0.20506951341672713},null,null,{"$f":"N11","v":211},{"$f":"COUNTIF(L7:L35,T11)","v":1},{"$f":"U11/(W4-U10)","v":0.04},{"$f":"IF(V11=0,0,(V11*((LOG(V11))/LOG(2))))","v":-0.18575424759098899},null,{"$f":"N11","v":211},{"$f":"COUNTIF(L36:L64,Y11)","v":3},{"$f":"Z11/(AB4-Z10)","v":0.13636363636363635},{"$f":"IF(AA11=0,0,(AA11*((LOG(AA11))/LOG(2))))","v":-0.39197306153401923},null,{"$f":"N11","v":211},{"$f":"COUNTIF(L65:L93,AD11)","v":0},{"$f":"AE11/(AG4-AE10)","v":0},{"$f":"IF(AF11=0,0,(AF11*((LOG(AF11))/LOG(2))))","v":0},null,{"$f":"N11","v":211},{"$f":"COUNTIF(L94:L122,AI11)","v":0},{"$f":"AJ11/(AL4-AJ10)","v":0},{"$f":"IF(AK11=0,0,(AK11*((LOG(AK11))/LOG(2))))","v":0},null,{"$f":"N11","v":211},{"$f":"COUNTIF(L123:L151,AN11)","v":3},{"$f":"AO11/(AQ4-AO10)","v":0.1111111111111111},{"$f":"IF(AP11=0,0,(AP11*((LOG(AP11))/LOG(2))))","v":-0.3522138890491458},null,{"$f":"N11","v":211},{"$f":"COUNTIF(L152:L180,AS11)","v":1},{"$f":"AT11/(AV4-AT10)","v":0.04},{"$f":"IF(AU11=0,0,(AU11*((LOG(AU11))/LOG(2))))","v":-0.18575424759098899}]
[11,625,22,639,23,647,null,null,null,null,0,122,null,212,{"$f":"COUNTIF($L$7:$L$500,N12)","v":51},{"$f":"O12/$Q$4","v":0.2947976878612717},{"$f":"IF(P12=0,0,(P12*((LOG(P12))/LOG(2))))","v":-0.51949333623657035},null,null,{"$f":"N12","v":212},{"$f":"COUNTIF(L7:L35,T12)","v":8},{"$f":"U12/(W4-U10)","v":0.32},{"$f":"IF(V12=0,0,(V12*((LOG(V12))/LOG(2))))","v":-0.52603398072791185},null,{"$f":"N12","v":212},{"$f":"COUNTIF(L36:L64,Y12)","v":3},{"$f":"Z12/(AB4-Z10)","v":0.13636363636363635},{"$f":"IF(AA12=0,0,(AA12*((LOG(AA12))/LOG(2))))","v":-0.39197306153401923},null,{"$f":"N12","v":212},{"$f":"COUNTIF(L65:L93,AD12)","v":11},{"$f":"AE12/(AG4-AE10)","v":0.40740740740740738},{"$f":"IF(AF12=0,0,(AF12*((LOG(AF12))/LOG(2))))","v":-0.52777832291806981},null,{"$f":"N12","v":212},{"$f":"COUNTIF(L94:L122,AI12)","v":9},{"$f":"AJ12/(AL4-AJ10)","v":0.34615384615384615},{"$f":"IF(AK12=0,0,(AK12*((LOG(AK12))/LOG(2))))","v":-0.52979355578034681},null,{"$f":"N12","v":212},{"$f":"COUNTIF(L123:L151,AN12)","v":9},{"$f":"AO12/(AQ4-AO10)","v":0.33333333333333331},{"$f":"IF(AP12=0,0,(AP12*((LOG(AP12))/LOG(2))))","v":-0.52832083357371862},null,{"$f":"N12","v":212},{"$f":"COUNTIF(L152:L180,AS12)","v":11},{"$f":"AT12/(AV4-AT10)","v":0.44},{"$f":"IF(AU12=0,0,(AU12*((LOG(AU12))/LOG(2))))","v":-0.52114681130046814}]
[11,753,22,763,23,770,null,null,null,null,0,122,null,221,{"$f":"COUNTIF($L$7:$L$500,N13)","v":25},{"$f":"O13/$Q$4","v":0.14450867052023122},{"$f":"IF(P13=0,0,(P13*((LOG(P13))/LOG(2))))","v":-0.40329075691647398},null,null,{"$f":"N13","v":221},{"$f":"COUNTIF(L7:L35,T13)","v":4},{"$f":"U13/(W4-U10)","v":0.16},{"$f":"IF(V13=0,0,(V13*((LOG(V13))/LOG(2))))","v":-0.42301699036395596},null,{"$f":"N13","v":221},{"$f":"COUNTIF(L36:L64,Y13)","v":5},{"$f":"Z13/(AB4-Z10)","v":0.22727272727272727},{"$f":"IF(AA13=0,0,(AA13*((LOG(AA13))/LOG(2))))","v":-0.48579625539771243},null,{"$f":"N13","v":221},{"$f":"COUNTIF(L65:L93,AD13)","v":4},{"$f":"AE13/(AG4-AE10)","v":0.14814814814814814},{"$f":"IF(AF13=0,0,(AF13*((LOG(AF13))/LOG(2))))","v":-0.40813148180199532},null,{"$f":"N13","v":221},{"$f":"COUNTIF(L94:L122,AI13)","v":3},{"$f":"AJ13/(AL4-AJ10)","v":0.11538461538461539},{"$f":"IF(AK13=0,0,(AK13*((LOG(AK13))/LOG(2))))","v":-0.35947814047153104},null,{"$f":"N13","v":221},{"$f":"COUNTIF(L123:L151,AN13)","v":5},{"$f":"AO13/(AQ4-AO10)","v":0.18518518518518517},{"$f":"IF(AP13=0,0,(AP13*((LOG(AP13))/LOG(2))))","v":-0.45054803838446406},null,{"$f":"N13","v":221},{"$f":"COUNTIF(L152:L180,AS13)","v":4},{"$f":"AT13/(AV4-AT10)","v":0.16},{"$f":"IF(AU13=0,0,(AU13*((LOG(AU13))/LOG(2))))","v":-0.42301699036395596}]
[22,876,13,898,23,910,null,null,null,null,0,212,null,222,{"$f":"COUNTIF($L$7:$L$500,N14)","v":26},{"$f":"O14/$Q$4","v":0.15028901734104047},{"$f":"IF(P14=0,0,(P14*((LOG(P14))/LOG(2))))","v":-0.41091850431726268},null,null,{"$f":"N14","v":222},{"$f":"COUNTIF(L7:L35,T14)","v":9},{"$f":"U14/(W4-U10)","v":0.36},{"$f":"IF(V14=0,0,(V14*((LOG(V14))/LOG(2))))","v":-0.53061522779966841},null,{"$f":"N14","v":222},{"$f":"COUNTIF(L36:L64,Y14)","v":8},{"$f":"Z14/(AB4-Z10)","v":0.36363636363636365},{"$f":"IF(AA14=0,0,(AA14*((LOG(AA14))/LOG(2))))","v":-0.53070240677719893},null,{"$f":"N14","v":222},{"$f":"COUNTIF(L65:L93,AD14)","v":1},{"$f":"AE14/(AG4-AE10)","v":3.7037037037037035E-2},{"$f":"IF(AF14=0,0,(AF14*((LOG(AF14))/LOG(2))))","v":-0.1761069445245729},null,{"$f":"N14","v":222},{"$f":"COUNTIF(L94:L122,AI14)","v":5},{"$f":"AJ14/(AL4-AJ10)","v":0.19230769230769232},{"$f":"IF(AK14=0,0,(AK14*((LOG(AK14))/LOG(2))))","v":-0.45740608139494804},null,{"$f":"N14","v":222},{"$f":"COUNTIF(L123:L151,AN14)","v":3},{"$f":"AO14/(AQ4-AO10)","v":0.1111111111111111},{"$f":"IF(AP14=0,0,(AP14*((LOG(AP14))/LOG(2))))","v":-0.3522138890491458},null,{"$f":"N14","v":222},{"$f":"COUNTIF(L152:L180,AS14)","v":0},{"$f":"AT14/(AV4-AT10)","v":0},{"$f":"IF(AU14=0,0,(AU14*((LOG(AU14))/LOG(2))))","v":0}]
[11,1010,22,1019,23,1047,null,null,null,null,0,122,null,null,null,{"$f":"SUM(P7:P14)","v":1},{"$f":"-SUM(Q7:Q14)","v":2.5317403042977378},null,null,null,null,{"$f":"SUM(V7:V14)","v":1},{"$f":"-SUM(W7:W14)","v":2.1426831892554921},null,null,null,{"$f":"SUM(AA7:AA14)","v":1},{"$f":"-SUM(AB7:AB14)","v":2.1924178467769688},null,null,null,{"$f":"SUM(AF7:AF14)","v":1},{"$f":"-SUM(AG7:AG14)","v":1.8188494001677686},null,null,null,{"$f":"SUM(AK7:AK14)","v":1},{"$f":"-SUM(AL7:AL14)","v":2.0506761416187422},null,null,null,{"$f":"SUM(AP7:AP14)","v":1},{"$f":"-SUM(AQ7:AQ14)","v":2.1882125041579945},null,null,null,{"$f":"SUM(AU7:AU14)","v":1},{"$f":"-SUM(AV7:AV14)","v":1.841706277574314}]
[22,1146,13,1156,23,1172,null,null,null,null,0,212,null,null,null,"U=",{"$f":"Q15/(LOG(Q4)/LOG(2))","v":0.34053354475567532},null,null,null,null,"U1=",{"$f":"W15/(LOG(W4)/LOG(2))","v":0.44106454747446466},null,null,null,"U2=",{"$f":"AB15/(LOG(AB4)/LOG(2))","v":0.4513022691887652},null,null,null,"U3=",{"$f":"AG15/(LOG(AG4)/LOG(2))","v":0.37440438774709639},null,null,null,"U4=",{"$f":"AL15/(LOG(AL4)/LOG(2))","v":0.42212518815440342},null,null,null,"U5=",{"$f":"AQ15/(LOG(AQ4)/LOG(2))","v":0.45043661273123847},null,null,null,"U6=",{"$f":"AV15/(LOG(AV4)/LOG(2))","v":0.3831017903679228}]
[22,1289,24,1296,14,1310,null,null,null,null,0,221]
[11,1421,11,1425,21,1440,null,null,null,null,0,112]
[22,1535,24,1547,23,1556,null,null,null,null,0,222,null,"Total Target Seq"]
[22,1658,24,1673,23,1692,null,null,null,null,0,222,null,{"$f":"COUNTIF(L7:L180,G3)","v":21},null,29,29,29,29,29,29]
[22,1792,24,1798,23,1804,null,null,null,null,0,222,null,null,null,"% of reinforcement given in 6 equal intervals based on number of trials "]
[22,1911,24,1920,23,1941,null,null,null,null,0,222,null,null,null,"%_1","%_2","%_3","%_4","%_5","%_6"]
[22,2065,24,2080,23,2092,null,null,null,null,0,222,null,null,"target sequence",{"$f":"$G$3","v":122},{"$f":"$G$3","v":122},{"$f":"$G$3","v":122},{"$f":"$G$3","v":122},{"$f":"$G$3","v":122},{"$f":"$G$3","v":122}]
[22,2195,24,2206,23,2213,null,null,null,null,0,222,null,null,"total reinforcement",{"$f":"U10","v":4},{"$f":"Z10","v":7},{"$f":"AE10","v":2},{"$f":"AJ10","v":3},{"$f":"AO10","v":2},{"$f":"AT10","v":3}]
[22,2317,24,2342,14,2355,null,null,null,null,0,221,null,null,"% target"]
[22,2456,13,2469,23,2477,null,null,null,null,0,212,null,null,"CCRF"]
[22,2577,24,2586,14,2598,null,null,null,null,0,221,null,null,"% CCRf"]
[22,2718,13,2732,23,2744,null,null,null,null,0,212,null,null,"average response rate",{"$f":"F35/P20","v":125.06896551724138},{"$f":"(F64-F35)/Q20","v":129.68965517241378},{"$f":"(F93-F64)/R20","v":138.34482758620689},{"$f":"(F122-F93)/S20","v":143.82758620689654},{"$f":"(F151-F122)/T20","v":145.44827586206895},{"$f":"(F180-F151)/U20","v":-682.37931034482756}]
[22,2850,13,2861,14,2868,null,null,null,null,0,211]
[22,2967,24,2987,23,2995,null,null,null,null,0,222]
[22,3100,24,3108,23,3128,null,null,null,null,0,222]
[11,3229,11,3247,21,3258,null,null,null,null,0,112]
[11,3356,22,3364,23,3372,null,null,null,null,0,122]
[22,3479,24,3491,14,3504,null,null,null,null,0,221]
[22,3602,24,3614,23,3627,null,null,null,null,0,222]
[22,3742,24,3756,23,3770,null,null,null,null,0,222]
[22,3872,24,3886,23,3892,null,null,null,null,0,222]
[11,3990,22,3999,23,4011,null,null,null,null,0,122]
[22,4108,24,4117,23,4129,null,null,null,null,0,222]
[22,4230,24,4243,23,4255,null,null,null,null,0,222]
[22,4362,24,4370,14,4382,null,null,null,null,0,221]
[22,4483,13,4495,14,4500,null,null,null,null,0,211]
[22,4617,13,4629,14,4636,null,null,null,null,0,211]
[11,4749,22,4757,23,4765,null,null,null,null,0,122]
[22,4864,24,4874,14,4887,null,null,null,null,0,221]
[22,4988,24,4999,23,5011,null,null,null,null,0,222]
[22,5120,24,5127,23,5139,null,null,null,null,0,222]
[22,5236,24,5251,23,5259,null,null,null,null,0,222]
[11,5368,22,5379,23,5389,null,null,null,null,0,122]
[22,5493,24,5504,14,5518,null,null,null,null,0,221]
[11,5620,22,5629,23,5640,null,null,null,null,0,122]
[22,5793,13,5808,23,5819,null,null,null,null,0,212]
[11,5927,22,5937,23,5945,null,null,null,null,0,122]
[22,6042,24,6049,14,6061,null,null,null,null,0,221]
[22,6167,24,6179,23,6188,null,null,null,null,0,222]
[22,6293,13,6309,23,6317,null,null,null,null,0,212]
[22,6438,13,6449,14,6468,null,null,null,null,0,211]
[11,6565,22,6576,23,6590,null,null,null,null,0,122]
[11,6702,22,6710,14,6721,null,null,null,null,0,121]
[22,6825,13,6836,23,6844,null,null,null,null,0,212]
[11,6960,22,6971,23,6988,null,null,null,null,0,122]
[22,7091,24,7105,14,7119,null,null,null,null,0,221]
[11,7240,22,7248,14,7260,null,null,null,null,0,121]
[11,7365,22,7375,14,7388,null,null,null,null,0,121]
[22,7485,13,7498,23,7510,null,null,null,null,0,212]
[22,7615,13,7628,23,7637,null,null,null,null,0,212]
[11,7746,22,7756,14,7768,null,null,null,null,0,121]
[22,7907,13,7924,23,7936,null,null,null,null,0,212]
[11,8039,22,8050,23,8063,null,null,null,null,0,122]
[22,8179,13,8192,23,8202,null,null,null,null,0,212]
[11,8307,22,8316,14,8331,null,null,null,null,0,121]
[11,8444,22,8454,23,8463,null,null,null,null,0,122]
[11,8576,22,8584,14,8598,null,null,null,null,0,121]
[22,8711,24,8717,23,8731,null,null,null,null,0,222]
[11,8843,22,8852,14,8866,null,null,null,null,0,121]
[11,8998,22,9007,14,9021,null,null,null,null,0,121]
[11,9135,22,9147,14,9162,null,null,null,null,0,121]
[22,9286,13,9301,23,9312,null,null,null,null,0,212]
[22,9424,24,9438,14,9453,null,null,null,null,0,221]
[11,9553,22,9567,14,9583,null,null,null,null,0,121]
[22,9715,24,9746,14,9759,null,null,null,null,0,221]
[11,9866,22,9879,14,9894,null,null,null,null,0,121]
[11,10004,22,10013,14,10025,null,null,null,null,0,121]
[11,10157,11,10172,21,10180,null,null,null,null,0,112]
[22,10283,24,10292,14,10305,null,null,null,null,0,221]
[22,10407,24,10421,14,10431,null,null,null,null,0,221]
[22,10536,13,10546,23,10555,null,null,null,null,0,212]
[22,10656,13,10672,23,10680,null,null,null,null,0,212]
[22,10793,13,10805,23,10814,null,null,null,null,0,212]
[11,10931,22,10940,14,10952,null,null,null,null,0,121]
[22,11114,13,11126,23,11136,null,null,null,null,0,212]
[22,11253,13,11265,23,11275,null,null,null,null,0,212]
[22,11379,13,11390,23,11400,null,null,null,null,0,212]
[11,11505,22,11514,14,11526,null,null,null,null,0,121]
[11,11644,22,11656,23,11678,null,null,null,null,0,122]
[22,11781,13,11794,23,11802,null,null,null,null,0,212]
[22,11927,13,11939,23,11950,null,null,null,null,0,212]
[22,12074,13,12087,23,12096,null,null,null,null,0,212]
[22,12195,13,12203,23,12213,null,null,null,null,0,212]
[11,12325,22,12335,14,12352,null,null,null,null,0,121]
[11,12465,22,12474,14,12488,null,null,null,null,0,121]
[11,12595,22,12607,14,12623,null,null,null,null,0,121]
[11,12727,22,12738,23,12756,null,null,null,null,0,122]
[11,12871,22,12881,14,12897,null,null,null,null,0,121]
[22,13027,24,13042,23,13056,null,null,null,null,0,222]
[22,13167,13,13182,23,13194,null,null,null,null,0,212]
[22,13300,13,13313,23,13321,null,null,null,null,0,212]
[11,13477,22,13493,14,13507,null,null,null,null,0,121]
[22,13613,13,13626,23,13638,null,null,null,null,0,212]
[11,13746,22,13757,14,13771,null,null,null,null,0,121]
[11,13999,22,14011,23,14026,null,null,null,null,0,122]
[22,14128,13,14141,23,14150,null,null,null,null,0,212]
[11,14256,22,14266,14,14279,null,null,null,null,0,121]
[11,14391,11,14407,21,14416,null,null,null,null,0,112]
[22,14521,24,14534,14,14546,null,null,null,null,0,221]
[22,14667,24,14685,23,14702,null,null,null,null,0,222]
[22,14800,24,14823,23,14835,null,null,null,null,0,222]
[22,14949,24,14958,23,14973,null,null,null,null,0,222]
[22,15078,24,15090,14,15102,null,null,null,null,0,221]
[22,15226,24,15241,14,15266,null,null,null,null,0,221]
[22,15368,13,15381,23,15392,null,null,null,null,0,212]
[22,15542,24,15553,23,15571,null,null,null,null,0,222]
[22,15702,24,15717,14,15731,null,null,null,null,0,221]
[11,15883,22,15894,14,15912,null,null,null,null,0,121]
[22,16013,13,16025,23,16037,null,null,null,null,0,212]
[22,16153,24,16167,14,16182,null,null,null,null,0,221]
[22,16289,13,16300,14,16307,null,null,null,null,0,211]
[11,16422,22,16434,23,16447,null,null,null,null,0,122]
[22,16565,13,16578,23,16590,null,null,null,null,0,212]
[11,16694,22,16705,14,16716,null,null,null,null,0,121]
[22,16854,24,16868,14,16881,null,null,null,null,0,221]
[22,17032,13,17042,23,17054,null,null,null,null,0,212]
[22,17224,13,17235,23,17246,null,null,null,null,0,212]
[22,17367,13,17378,23,17389,null,null,null,null,0,212]
[22,17512,13,17524,23,17535,null,null,null,null,0,212]
[22,17680,24,17698,23,17713,null,null,null,null,0,222]
[22,17822,24,17837,23,17846,null,null,null,null,0,222]
[22,17981,24,17995,14,18007,null,null,null,null,0,221]
[11,18114,22,18123,14,18137,null,null,null,null,0,121]
[22,18244,13,18257,14,18263,null,null,null,null,0,211]
[11,18378,22,18388,14,18400,null,null,null,null,0,121]
[11,18506,22,18517,14,18528,null,null,null,null,0,121]
[22,18626,13,18634,14,18639,null,null,null,null,0,211]
[11,18743,22,18754,23,18767,null,null,null,null,0,122]
[22,18887,24,18902,23,18920,null,null,null,null,0,222]
[11,19029,22,19041,14,19052,null,null,null,null,0,121]
[22,19151,13,19161,23,19170,null,null,null,null,0,212]
[11,19297,22,19308,14,19325,null,null,null,null,0,121]
[22,19470,24,19479,14,19515,null,null,null,null,0,221]
[22,19643,13,19657,23,19669,null,null,null,null,0,212]
[22,19773,13,19781,23,19789,null,null,null,null,0,212]
[22,19914,24,19927,14,19941,null,null,null,null,0,221]
[11,20041,22,20054,14,20071,null,null,null,null,0,121]
[22,20197,13,20210,23,20221,null,null,null,null,0,212]
[11,20322,22,20333,23,20342,null,null,null,null,0,122]
[22,20445,13,20456,23,20467,null,null,null,null,0,212]
[22,20597,13,20610,23,20622,null,null,null,null,0,212]
[22,20756,13,20768,23,20779,null,null,null,null,0,212]
[11,20918,22,20931,14,20948,null,null,null,null,0,121]
[11,21091,22,21103,14,21121,null,null,null,null,0,121]
[22,21272,13,21287,14,21315,null,null,null,null,0,211]
[22,21440,24,21447,14,21459,null,null,null,null,0,221]
[11,21604,22,21616,14,21629,null,null,null,null,0,121]
[11,21741,22,21749,14,21762,null,null,null,null,0,121]
[11,21887,22,21900,14,21913,null,null,null,null,0,121]
[11,22059,22,22072,14,22086,null,null,null,null,0,121]
[22,22194,13,22206,23,22216,null,null,null,null,0,212]
[11,22323,22,22335,23,22355,null,null,null,null,0,122]
[22,22472,13,22484,23,22498,null,null,null,null,0,212]
[22,22618,13,22633,23,22645,null,null,null,null,0,212]
[22,22764,13,22778,23,22789,null,null,null,null,0,212]
[22,22896,24,22922,14,22934,null,null,null,null,0,221]
[11,23045,22,23057,14,23068,null,null,null,null,0,121]
[22,23178,24,23190,14,23219,null,null,null,null,0,221]
[11,23337,11,23356,21,23370,null,null,null,null,0,112]
[22,23467,13,23479,23,23488,null,null,null,null,0,212]
[22,23604,13,23620,23,23630,null,null,null,null,0,212]
[22,23738,13,23749,23,23761,null,null,null,null,0,212]
[11,23866,22,23875,23,23892,null,null,null,null,0,122]
[22,23994,null,null,null,null,null,null,null,null,null,2]

{"sheet":"!2011-05-13_09h26m.Subject 52 p","index":11,"n_rows":179,"n_cols":48,"rows_kept":179,"cut":false,"hidden":false,"merged":[[4,39,4,42],[5,39,5,40],[4,44,4,47],[5,44,5,45],[4,24,4,27],[5,24,5,25],[4,29,4,32],[5,29,5,30],[4,34,4,37],[5,34,5,35],[1,1,1,2],[5,13,5,14],[18,13,18,14],[19,13,19,14],[4,19,4,22],[5,19,5,20]]}
["Report for:!2011-05-13_09h26m.Subject 52 phase 2"]
["Date","2011-05-13",null,null,null,"Group",0]
["Hen",0,null,null,null,"Correct Sequence",{"$f":"Start!J2","v":122},null,null,null,null,null,null,null,null,"Total Sequences in Data",{"$f":"4994-COUNTBLANK(L7:L5000)","v":173},null,null,null,null,"Total Sequences in Block Data",{"$f":"COUNTA(L7:L35)","v":29},null,null,null,"Total Sequences in Block Data",{"$f":"COUNTA(L36:L64)","v":29},null,null,null,"Total Sequences in Block Data",{"$f":"COUNTA(L65:L92)","v":28},null,null,null,"Total Sequences in Block Data",{"$f":"COUNTA(L93:L121)","v":29},null,null,null,"Total Sequences in Block Data",{"$f":"COUNTA(L122:L150)","v":29},null,null,null,"Total Sequences in Block Data",{"$f":"COUNTA(L151:L179)","v":29}]
["Program",0,null,null,null,null,null,null,null,null,null,null,null,null,null,"Total Sequences in Summary",{"$f":"SUM(O7:O14)","v":173},null,null,null,null,"Total Sequences in Block Summary",{"$f":"SUM(U7:U14)","v":29},null,null,null,"Total Sequences in Block Summary",{"$f":"SUM(Z7:Z14)","v":29},null,null,null,"Total Sequences in Block Summary",{"$f":"SUM(AE7:AE14)","v":28},null,null,null,"Total Sequences in Block Summary",{"$f":"SUM(AJ7:AJ14)","v":29},null,null,null,"Total Sequences in Block Summary",{"$f":"SUM(AO7:AO14)","v":29},null,null,null,"Total Sequences in Block Summary",{"$f":"SUM(AT7:AT14)","v":29}]
[null,null,null,null,null,null,null,null,null,null,null,null,null,null,null,null,null,null,null,"Block 1",null,null,null,null,"Block 2",null,null,null,null,"Block 3",null,null,null,null,"Block 4",null,null,null,null,"Block 5",null,null,null,null,"Block 6"]
["Sequence\nComponent\n1","Time\n1","Sequence\nComponent\n2","Time\n2","Sequence\nComponent\n3","Time\n3","Sequence\nComponent\n4","Time\n4","Sequence\nComponent\n5","Time\n5","Correct?\n0=No 1=Yes","Sequence",null,"Frequency",null,"Relative Frequency","Variability",null,null,"Frequency",null,"Relative Frequency","Variability",null,"Frequency",null,"Relative Frequency","Variability",null,"Frequency",null,"Relative Frequency","Variability",null,"Frequency",null,"Relative Frequency","Variability",null,"Frequency",null,"Relative Frequency","Variability",null,"Frequency",null,"Relative Frequency","Variability"]
[11,136,22,153,23,168,null,null,null,null,0,122,null,111,{"$f":"COUNTIF($L$7:$L$500,N7)","v":0},{"$f":"O7/$Q$4","v":0},{"$f":"IF(P7=0,0,(P7*((LOG(P7))/LOG(2))))","v":0},null,null,{"$f":"N7","v":111},{"$f":"COUNTIF(L7:L35,T7)","v":0},{"$f":"U7/(W4-U10)","v":0},{"$f":"IF(V7=0,0,(V7*((LOG(V7))/LOG(2))))","v":0},null,{"$f":"N7","v":111},{"$f":"COUNTIF(L36:L64,Y7)","v":0},{"$f":"Z7/(AB4-Z10)","v":0},{"$f":"IF(AA7=0,0,(AA7*((LOG(AA7))/LOG(2))))","v":0},null,{"$f":"N7","v":111},{"$f":"COUNTIF(L65:L92,AD7)","v":0},{"$f":"AE7/(AG4-AE10)","v":0},{"$f":"IF(AF7=0,0,(AF7*((LOG(AF7))/LOG(2))))","v":0},null,{"$f":"N7","v":111},{"$f":"COUNTIF(L93:L121,AI7)","v":0},{"$f":"AJ7/(AL4-AJ10)","v":0},{"$f":"IF(AK7=0,0,(AK7*((LOG(AK7))/LOG(2))))","v":0},null,{"$f":"N7","v":111},{"$f":"COUNTIF(L122:L150,AN7)","v":0},{"$f":"AO7/(AQ4-AO10)","v":0},{"$f":"IF(AP7=0,0,(AP7*((LOG(AP7))/LOG(2))))","v":0},null,{"$f":"N7","v":111},{"$f":"COUNTIF(L151:L179,AS7)","v":0},{"$f":"AT7/(AV4-AT10)","v":0},{"$f":"IF(AU7=0,0,(AU7*((LOG(AU7))/LOG(2))))","v":0}]
[22,268,24,293,23,317,null,null,null,null,0,222,null,112,{"$f":"COUNTIF($L$7:$L$500,N8)","v":7},{"$f":"O8/$Q$4","v":4.046242774566474E-2},{"$f":"IF(P8=0,0,(P8*((LOG(P8))/LOG(2))))","v":-0.18723071178643838},null,null,{"$f":"N8","v":112},{"$f":"COUNTIF(L7:L35,T8)","v":1},{"$f":"U8/(W4-U10)","v":3.8461538461538464E-2},{"$f":"IF(V8=0,0,(V8*((LOG(V8))/LOG(2))))","v":-0.18078614300542661},null,{"$f":"N8","v":112},{"$f":"COUNTIF(L36:L64,Y8)","v":1},{"$f":"Z8/(AB4-Z10)","v":0.04},{"$f":"IF(AA8=0,0,(AA8*((LOG(AA8))/LOG(2))))","v":-0.18575424759098899},null,{"$f":"N8","v":112},{"$f":"COUNTIF(L65:L92,AD8)","v":1},{"$f":"AE8/(AG4-AE10)","v":4.3478260869565216E-2},{"$f":"IF(AF8=0,0,(AF8*((LOG(AF8))/LOG(2))))","v":-0.19667660678508753},null,{"$f":"N8","v":112},{"$f":"COUNTIF(L93:L121,AI8)","v":1},{"$f":"AJ8/(AL4-AJ10)","v":3.5714285714285712E-2},{"$f":"IF(AK8=0,0,(AK8*((LOG(AK8))/LOG(2))))","v":-0.17169124721634299},null,{"$f":"N8","v":112},{"$f":"COUNTIF(L122:L150,AN8)","v":1},{"$f":"AO8/(AQ4-AO10)","v":4.3478260869565216E-2},{"$f":"IF(AP8=0,0,(AP8*((LOG(AP8))/LOG(2))))","v":-0.19667660678508753},null,{"$f":"N8","v":112},{"$f":"COUNTIF(L151:L179,AS8)","v":2},{"$f":"AT8/(AV4-AT10)","v":0.08},{"$f":"IF(AU8=0,0,(AU8*((LOG(AU8))/LOG(2))))","v":-0.29150849518197797}]
[22,436,24,447,23,460,null,null,null,null,0,222,null,121,{"$f":"COUNTIF($L$7:$L$500,N9)","v":67},{"$f":"O9/$Q$4","v":0.38728323699421963},{"$f":"IF(P9=0,0,(P9*((LOG(P9))/LOG(2))))","v":-0.53001222827161731},null,null,{"$f":"N9","v":121},{"$f":"COUNTIF(L7:L35,T9)","v":2},{"$f":"U9/(W4-U10)","v":7.6923076923076927E-2},{"$f":"IF(V9=0,0,(V9*((LOG(V9))/LOG(2))))","v":-0.28464920908777636},null,{"$f":"N9","v":121},{"$f":"COUNTIF(L36:L64,Y9)","v":10},{"$f":"Z9/(AB4-Z10)","v":0.4},{"$f":"IF(AA9=0,0,(AA9*((LOG(AA9))/LOG(2))))","v":-0.52877123795494496},null,{"$f":"N9","v":121},{"$f":"COUNTIF(L65:L92,AD9)","v":20},{"$f":"AE9/(AG4-AE10)","v":0.86956521739130432},{"$f":"IF(AF9=0,0,(AF9*((LOG(AF9))/LOG(2))))","v":-0.17533379232143528},null,{"$f":"N9","v":121},{"$f":"COUNTIF(L93:L121,AI9)","v":9},{"$f":"AJ9/(AL4-AJ10)","v":0.32142857142857145},{"$f":"IF(AK9=0,0,(AK9*((LOG(AK9))/LOG(2))))","v":-0.5263167601977724},null,{"$f":"N9","v":121},{"$f":"COUNTIF(L122:L150,AN9)","v":14},{"$f":"AO9/(AQ4-AO10)","v":0.60869565217391308},{"$f":"IF(AP9=0,0,(AP9*((LOG(AP9))/LOG(2))))","v":-0.43595210765181397},null,{"$f":"N9","v":121},{"$f":"COUNTIF(L151:L179,AS9)","v":12},{"$f":"AT9/(AV4-AT10)","v":0.48},{"$f":"IF(AU9=0,0,(AU9*((LOG(AU9))/LOG(2))))","v":-0.50826897074571287}]
[22,562,24,570,14,584,null,null,null,null,0,221,null,122,{"$f":"COUNTIF($L$7:$L$500,N10)","v":23},{"$f":"O10/$Q$4","v":0.13294797687861271},{"$f":"IF(P10=0,0,(P10*((LOG(P10))/LOG(2))))","v":-0.3870203713660888},null,null,{"$f":"N10","v":122},{"$f":"COUNTIF(L7:L35,T10)","v":3},null,null,null,{"$f":"N10","v":122},{"$f":"COUNTIF(L36:L64,Y10)","v":4},null,null,null,{"$f":"N10","v":122},{"$f":"COUNTIF(L65:L92,AD10)","v":5},null,null,null,{"$f":"N10","v":122},{"$f":"COUNTIF(L93:L121,AI10)","v":1},null,null,null,{"$f":"N10","v":122},{"$f":"COUNTIF(L122:L150,AN10)","v":6},null,null,null,{"$f":"N10","v":122},{"$f":"COUNTIF(L151:L179,AS10)","v":4}]
[11,738,22,749,23,757,null,null,null,null,0,122,null,211,{"$f":"COUNTIF($L$7:$L$500,N11)","v":0},{"$f":"O11/$Q$4","v":0},{"$f":"IF(P11=0,0,(P11*((LOG(P11))/LOG(2))))","v":0},null,null,{"$f":"N11","v":211},{"$f":"COUNTIF(L7:L35,T11)","v":0},{"$f":"U11/(W4-U10)","v":0},{"$f":"IF(V11=0,0,(V11*((LOG(V11))/LOG(2))))","v":0},null,{"$f":"N11","v":211},{"$f":"COUNTIF(L36:L64,Y11)","v":0},{"$f":"Z11/(AB4-Z10)","v":0},{"$f":"IF(AA11=0,0,(AA11*((LOG(AA11))/LOG(2))))","v":0},null,{"$f":"N11","v":211},{"$f":"COUNTIF(L65:L92,AD11)","v":0},{"$f":"AE11/(AG4-AE10)","v":0},{"$f":"IF(AF11=0,0,(AF11*((LOG(AF11))/LOG(2))))","v":0},null,{"$f":"N11","v":211},{"$f":"COUNTIF(L93:L121,AI11)","v":0},{"$f":"AJ11/(AL4-AJ10)","v":0},{"$f":"IF(AK11=0,0,(AK11*((LOG(AK11))/LOG(2))))","v":0},null,{"$f":"N11","v":211},{"$f":"COUNTIF(L122:L150,AN11)","v":0},{"$f":"AO11/(AQ4-AO10)","v":0},{"$f":"IF(AP11=0,0,(AP11*((LOG(AP11))/LOG(2))))","v":0},null,{"$f":"N11","v":211},{"$f":"COUNTIF(L151:L179,AS11)","v":0},{"$f":"AT11/(AV4-AT10)","v":0},{"$f":"IF(AU11=0,0,(AU11*((LOG(AU11))/LOG(2))))","v":0}]
[22,862,24,884,23,896,null,null,null,null,0,222,null,212,{"$f":"COUNTIF($L$7:$L$500,N12)","v":54},{"$f":"O12/$Q$4","v":0.31213872832369943},{"$f":"IF(P12=0,0,(P12*((LOG(P12))/LOG(2))))","v":-0.52431213396275045},null,null,{"$f":"N12","v":212},{"$f":"COUNTIF(L7:L35,T12)","v":8},{"$f":"U12/(W4-U10)","v":0.30769230769230771},{"$f":"IF(V12=0,0,(V12*((LOG(V12))/LOG(2))))","v":-0.52321222096648989},null,{"$f":"N12","v":212},{"$f":"COUNTIF(L36:L64,Y12)","v":10},{"$f":"Z12/(AB4-Z10)","v":0.4},{"$f":"IF(AA12=0,0,(AA12*((LOG(AA12))/LOG(2))))","v":-0.52877123795494496},null,{"$f":"N12","v":212},{"$f":"COUNTIF(L65:L92,AD12)","v":2},{"$f":"AE12/(AG4-AE10)","v":8.6956521739130432E-2},{"$f":"IF(AF12=0,0,(AF12*((LOG(AF12))/LOG(2))))","v":-0.30639669183104457},null,{"$f":"N12","v":212},{"$f":"COUNTIF(L93:L121,AI12)","v":17},{"$f":"AJ12/(AL4-AJ10)","v":0.6071428571428571},{"$f":"IF(AK12=0,0,(AK12*((LOG(AK12))/LOG(2))))","v":-0.43707733477583927},null,{"$f":"N12","v":212},{"$f":"COUNTIF(L122:L150,AN12)","v":6},{"$f":"AO12/(AQ4-AO10)","v":0.2608695652173913},{"$f":"IF(AP12=0,0,(AP12*((LOG(AP12))/LOG(2))))","v":-0.50572159704413644},null,{"$f":"N12","v":212},{"$f":"COUNTIF(L151:L179,AS12)","v":11},{"$f":"AT12/(AV4-AT10)","v":0.44},{"$f":"IF(AU12=0,0,(AU12*((LOG(AU12))/LOG(2))))","v":-0.52114681130046814}]
[11,989,11,1005,21,1017,null,null,null,null,0,112,null,221,{"$f":"COUNTIF($L$7:$L$500,N13)","v":5},{"$f":"O13/$Q$4","v":2.8901734104046242E-2},{"$f":"IF(P13=0,0,(P13*((LOG(P13))/LOG(2))))","v":-0.14776589979044399},null,null,{"$f":"N13","v":221},{"$f":"COUNTIF(L7:L35,T13)","v":3},{"$f":"U13/(W4-U10)","v":0.11538461538461539},{"$f":"IF(V13=0,0,(V13*((LOG(V13))/LOG(2))))","v":-0.35947814047153104},null,{"$f":"N13","v":221},{"$f":"COUNTIF(L36:L64,Y13)","v":1},{"$f":"Z13/(AB4-Z10)","v":0.04},{"$f":"IF(AA13=0,0,(AA13*((LOG(AA13))/LOG(2))))","v":-0.18575424759098899},null,{"$f":"N13","v":221},{"$f":"COUNTIF(L65:L92,AD13)","v":0},{"$f":"AE13/(AG4-AE10)","v":0},{"$f":"IF(AF13=0,0,(AF13*((LOG(AF13))/LOG(2))))","v":0},null,{"$f":"N13","v":221},{"$f":"COUNTIF(L93:L121,AI13)","v":1},{"$f":"AJ13/(AL4-AJ10)","v":3.5714285714285712E-2},{"$f":"IF(AK13=0,0,(AK13*((LOG(AK13))/LOG(2))))","v":-0.17169124721634299},null,{"$f":"N13","v":221},{"$f":"COUNTIF(L122:L150,AN13)","v":0},{"$f":"AO13/(AQ4-AO10)","v":0},{"$f":"IF(AP13=0,0,(AP13*((LOG(AP13))/LOG(2))))","v":0},null,{"$f":"N13","v":221},{"$f":"COUNTIF(L151:L179,AS13)","v":0},{"$f":"AT13/(AV4-AT10)","v":0},{"$f":"IF(AU13=0,0,(AU13*((LOG(AU13))/LOG(2))))","v":0}]
[22,1116,24,1128,23,1136,null,null,null,null,0,222,null,222,{"$f":"COUNTIF($L$7:$L$500,N14)","v":17},{"$f":"O14/$Q$4","v":9.8265895953757232E-2},{"$f":"IF(P14=0,0,(P14*((LOG(P14))/LOG(2))))","v":-0.32891220559866208},null,null,{"$f":"N14","v":222},{"$f":"COUNTIF(L7:L35,T14)","v":12},{"$f":"U14/(W4-U10)","v":0.46153846153846156},{"$f":"IF(V14=0,0,(V14*((LOG(V14))/LOG(2))))","v":-0.51483563880920125},null,{"$f":"N14","v":222},{"$f":"COUNTIF(L36:L64,Y14)","v":3},{"$f":"Z14/(AB4-Z10)","v":0.12},{"$f":"IF(AA14=0,0,(AA14*((LOG(AA14))/LOG(2))))","v":-0.36706724268642821},null,{"$f":"N14","v":222},{"$f":"COUNTIF(L65:L92,AD14)","v":0},{"$f":"AE14/(AG4-AE10)","v":0},{"$f":"IF(AF14=0,0,(AF14*((LOG(AF14))/LOG(2))))","v":0},null,{"$f":"N14","v":222},{"$f":"COUNTIF(L93:L121,AI14)","v":0},{"$f":"AJ14/(AL4-AJ10)","v":0},{"$f":"IF(AK14=0,0,(AK14*((LOG(AK14))/LOG(2))))","v":0},null,{"$f":"N14","v":222},{"$f":"COUNTIF(L122:L150,AN14)","v":2},{"$f":"AO14/(AQ4-AO10)","v":8.6956521739130432E-2},{"$f":"IF(AP14=0,0,(AP14*((LOG(AP14))/LOG(2))))","v":-0.30639669183104457},null,{"$f":"N14","v":222},{"$f":"COUNTIF(L151:L179,AS14)","v":0},{"$f":"AT14/(AV4-AT10)","v":0},{"$f":"IF(AU14=0,0,(AU14*((LOG(AU14))/LOG(2))))","v":0}]
[22,1235,24,1243,23,1267,null,null,null,null,0,222,null,null,null,{"$f":"SUM(P7:P14)","v":1},{"$f":"-SUM(Q7:Q14)","v":2.1052535507760011},null,null,null,null,{"$f":"SUM(V7:V14)","v":1},{"$f":"-SUM(W7:W14)","v":1.8629613523404251},null,null,null,{"$f":"SUM(AA7:AA14)","v":1},{"$f":"-SUM(AB7:AB14)","v":1.7961182137782963},null,null,null,{"$f":"SUM(AF7:AF14)","v":1},{"$f":"-SUM(AG7:AG14)","v":0.67840709093756735},null,null,null,{"$f":"SUM(AK7:AK14)","v":0.99999999999999989},{"$f":"-SUM(AL7:AL14)","v":1.3067765894062977},null,null,null,{"$f":"SUM(AP7:AP14)","v":1},{"$f":"-SUM(AQ7:AQ14)","v":1.4447470033120824},null,null,null,{"$f":"SUM(AU7:AU14)","v":1},{"$f":"-SUM(AV7:AV14)","v":1.3209242772281589}]
[22,1369,24,1378,23,1399,null,null,null,null,0,222,null,null,null,"U=",{"$f":"Q15/(LOG(Q4)/LOG(2))","v":0.28316863820441585},null,null,null,null,"U1=",{"$f":"W15/(LOG(W4)/LOG(2))","v":0.38348469337548391},null,null,null,"U2=",{"$f":"AB15/(LOG(AB4)/LOG(2))","v":0.36972524503075577},null,null,null,"U3=",{"$f":"AG15/(LOG(AG4)/LOG(2))","v":0.14111857808226924},null,null,null,"U4=",{"$f":"AL15/(LOG(AL4)/LOG(2))","v":0.26899582166273611},null,null,null,"U5=",{"$f":"AQ15/(LOG(AQ4)/LOG(2))","v":0.29739659433849697},null,null,null,"U6=",{"$f":"AV15/(LOG(AV4)/LOG(2))","v":0.2719080783875053}]
[22,1497,13,1510,23,1521,null,null,null,null,0,212]
[22,1616,24,1625,23,1642,null,null,null,null,0,222]
[22,1744,24,1757,23,1772,null,null,null,null,0,222,null,"Total Target Seq"]
[22,1871,13,1882,23,1891,null,null,null,null,0,212,null,{"$f":"COUNTIF(L7:L179,G3)","v":23},null,29,29,28,29,29,29]
[22,2029,24,2042,14,2051,null,null,null,null,0,221,null,null,null,"% of reinforcement given in 6 equal intervals based on number of trials "]
[22,2153,24,2164,23,2177,null,null,null,null,0,222,null,null,null,"%_1","%_2","%_3","%_4","%_5","%_6"]
[22,2275,24,2285,23,2297,null,null,null,null,0,222,null,null,"target sequence",{"$f":"$G$3","v":122},{"$f":"$G$3","v":122},{"$f":"$G$3","v":122},{"$f":"$G$3","v":122},{"$f":"$G$3","v":122},{"$f":"$G$3","v":122}]
[22,2410,13,2422,23,2433,null,null,null,null,0,212,null,null,"total reinforcement",{"$f":"U10","v":3},{"$f":"Z10","v":4},{"$f":"AE10","v":5},{"$f":"AJ10","v":1},{"$f":"AO10","v":6},{"$f":"AT10","v":4}]
[22,2541,13,2554,23,2564,null,null,null,null,0,212,null,null,"% target"]
[22,2662,24,2675,14,2687,null,null,null,null,0,221,null,null,"CCRF"]
[22,2794,24,2805,23,2812,null,null,null,null,0,222,null,null,"% CCRf"]
[22,2914,24,2928,23,2937,null,null,null,null,0,222,null,null,"average response rate",{"$f":"F35/P20","v":133.9655172413793},{"$f":"(F64-F35)/Q20","v":141.58620689655172},{"$f":"(F92-F64)/R20","v":145.82142857142858},{"$f":"(F121-F92)/S20","v":133.24137931034483},{"$f":"(F150-F121)/T20","v":140.34482758620689},{"$f":"(F179-F150)/U20","v":132.82758620689654}]
[11,3072,22,3084,14,3100,null,null,null,null,0,121]
[22,3205,13,3216,23,3225,null,null,null,null,0,212]
[22,3326,13,3338,23,3350,null,null,null,null,0,212]
[22,3446,13,3457,23,3465,null,null,null,null,0,212]
[22,3578,13,3587,23,3595,null,null,null,null,0,212]
[11,3713,22,3721,14,3733,null,null,null,null,0,121]
[11,3862,22,3871,23,3885,null,null,null,null,0,122]
[22,4014,13,4027,23,4035,null,null,null,null,0,212]
[22,4187,24,4199,23,4207,null,null,null,null,0,222]
[22,4327,13,4340,23,4348,null,null,null,null,0,212]
[22,4463,13,4481,23,4490,null,null,null,null,0,212]
[22,4624,13,4639,23,4650,null,null,null,null,0,212]
[11,4768,22,4779,23,4793,null,null,null,null,0,122]
[11,4904,22,4913,23,4921,null,null,null,null,0,122]
[11,5037,22,5050,14,5063,null,null,null,null,0,121]
[11,5210,11,5226,21,5238,null,null,null,null,0,112]
[11,5337,22,5348,14,5356,null,null,null,null,0,121]
[11,5467,22,5478,14,5490,null,null,null,null,0,121]
[11,5583,22,5593,14,5605,null,null,null,null,0,121]
[22,5705,24,5713,23,5726,null,null,null,null,0,222]
[22,5844,24,5858,14,5868,null,null,null,null,0,221]
[22,5975,13,5986,23,5995,null,null,null,null,0,212]
[22,6094,24,6109,23,6123,null,null,null,null,0,222]
[22,6253,13,6262,23,6273,null,null,null,null,0,212]
[22,6376,13,6389,23,6397,null,null,null,null,0,212]
[11,6513,22,6524,14,6539,null,null,null,null,0,121]
[11,6678,22,6690,23,6704,null,null,null,null,0,122]
[11,6821,22,6830,23,6841,null,null,null,null,0,122]
[22,6987,13,6996,23,7008,null,null,null,null,0,212]
[11,7131,22,7140,14,7153,null,null,null,null,0,121]
[11,7286,22,7297,14,7307,null,null,null,null,0,121]
[11,7416,22,7428,14,7440,null,null,null,null,0,121]
[22,7556,13,7566,23,7575,null,null,null,null,0,212]
[11,7693,22,7702,14,7713,null,null,null,null,0,121]
[11,7823,22,7837,14,7851,null,null,null,null,0,121]
[22,7972,13,7980,23,7991,null,null,null,null,0,212]
[11,8104,22,8116,14,8128,null,null,null,null,0,121]
[11,8242,22,8254,14,8265,null,null,null,null,0,121]
[11,8392,22,8417,14,8432,null,null,null,null,0,121]
[11,8557,22,8566,14,8582,null,null,null,null,0,121]
[11,8696,22,8708,14,8719,null,null,null,null,0,121]
[11,8825,22,8834,14,8846,null,null,null,null,0,121]
[11,8963,22,8974,14,8989,null,null,null,null,0,121]
[11,9109,22,9118,14,9128,null,null,null,null,0,121]
[11,9250,22,9260,14,9274,null,null,null,null,0,121]
[11,9390,22,9399,14,9412,null,null,null,null,0,121]
[11,9522,22,9531,14,9542,null,null,null,null,0,121]
[11,9702,22,9713,23,9734,null,null,null,null,0,122]
[11,9853,22,9864,14,9873,null,null,null,null,0,121]
[11,9994,22,10007,14,10031,null,null,null,null,0,121]
[11,10137,22,10146,14,10155,null,null,null,null,0,121]
[11,10295,22,10305,14,10320,null,null,null,null,0,121]
[11,10432,22,10441,14,10450,null,null,null,null,0,121]
[11,10573,22,10582,14,10602,null,null,null,null,0,121]
[11,10722,22,10732,14,10745,null,null,null,null,0,121]
[11,10879,22,10888,23,10906,null,null,null,null,0,122]
[22,11014,13,11026,23,11036,null,null,null,null,0,212]
[22,11167,13,11180,23,11189,null,null,null,null,0,212]
[11,11299,22,11308,14,11320,null,null,null,null,0,121]
[11,11473,22,11484,23,11506,null,null,null,null,0,122]
[11,11626,22,11637,23,11653,null,null,null,null,0,122]
[11,11776,22,11785,14,11796,null,null,null,null,0,121]
[11,11912,11,11936,21,11945,null,null,null,null,0,112]
[11,12047,22,12059,23,12074,null,null,null,null,0,122]
[22,12189,24,12196,14,12209,null,null,null,null,0,221]
[11,12326,22,12339,14,12353,null,null,null,null,0,121]
[22,12469,13,12480,23,12490,null,null,null,null,0,212]
[11,12603,22,12612,14,12625,null,null,null,null,0,121]
[11,12747,22,12756,23,12772,null,null,null,null,0,122]
[11,12900,22,12909,14,12925,null,null,null,null,0,121]
[22,13038,13,13049,23,13057,null,null,null,null,0,212]
[22,13177,13,13188,23,13196,null,null,null,null,0,212]
[22,13320,13,13329,23,13344,null,null,null,null,0,212]
[11,13444,11,13460,21,13469,null,null,null,null,0,112]
[22,13601,13,13614,23,13624,null,null,null,null,0,212]
[11,13742,22,13751,14,13761,null,null,null,null,0,121]
[22,13865,13,13873,23,13881,null,null,null,null,0,212]
[22,13990,13,14001,23,14009,null,null,null,null,0,212]
[22,14109,13,14117,23,14130,null,null,null,null,0,212]
[11,14231,22,14241,14,14250,null,null,null,null,0,121]
[22,14362,13,14369,23,14378,null,null,null,null,0,212]
[22,14486,13,14498,23,14507,null,null,null,null,0,212]
[22,14602,13,14624,23,14633,null,null,null,null,0,212]
[11,14744,22,14752,14,14763,null,null,null,null,0,121]
[22,14867,13,14875,23,14884,null,null,null,null,0,212]
[11,15015,22,15024,14,15039,null,null,null,null,0,121]
[11,15148,22,15162,14,15179,null,null,null,null,0,121]
[22,15277,13,15290,23,15300,null,null,null,null,0,212]
[22,15397,13,15407,23,15416,null,null,null,null,0,212]
[22,15514,13,15523,23,15531,null,null,null,null,0,212]
[22,15637,13,15645,23,15657,null,null,null,null,0,212]
[11,15780,22,15791,14,15805,null,null,null,null,0,121]
[22,15920,13,15928,23,15938,null,null,null,null,0,212]
[11,16043,22,16052,14,16064,null,null,null,null,0,121]
[11,16172,11,16187,21,16196,null,null,null,null,0,112]
[11,16290,22,16299,14,16307,null,null,null,null,0,121]
[22,16410,13,16423,23,16433,null,null,null,null,0,212]
[22,16550,13,16559,23,16567,null,null,null,null,0,212]
[11,16670,22,16679,14,16687,null,null,null,null,0,121]
[22,16810,13,16821,23,16834,null,null,null,null,0,212]
[11,16933,22,16942,23,16963,null,null,null,null,0,122]
[22,17062,24,17074,23,17081,null,null,null,null,0,222]
[22,17189,13,17199,23,17211,null,null,null,null,0,212]
[11,17313,22,17352,14,17366,null,null,null,null,0,121]
[11,17487,22,17497,14,17516,null,null,null,null,0,121]
[22,17625,13,17634,23,17644,null,null,null,null,0,212]
[11,17792,22,17803,23,17812,null,null,null,null,0,122]
[22,17925,13,17935,23,17944,null,null,null,null,0,212]
[11,18064,22,18077,14,18088,null,null,null,null,0,121]
[11,18225,22,18234,23,18241,null,null,null,null,0,122]
[11,18341,22,18351,14,18363,null,null,null,null,0,121]
[22,18480,24,18495,23,18510,null,null,null,null,0,222]
[11,18792,22,18801,23,18813,null,null,null,null,0,122]
[11,18936,22,18945,14,18961,null,null,null,null,0,121]
[11,19065,22,19074,14,19085,null,null,null,null,0,121]
[11,19183,22,19194,14,19206,null,null,null,null,0,121]
[11,19321,22,19329,14,19340,null,null,null,null,0,121]
[11,19444,22,19452,23,19470,null,null,null,null,0,122]
[11,19573,22,19585,23,19597,null,null,null,null,0,122]
[11,19711,22,19720,14,19728,null,null,null,null,0,121]
[11,19859,22,19872,14,19886,null,null,null,null,0,121]
[11,19985,22,19997,14,20008,null,null,null,null,0,121]
[22,20142,13,20155,23,20164,null,null,null,null,0,212]
[11,20286,22,20296,14,20310,null,null,null,null,0,121]
[11,20427,22,20440,14,20449,null,null,null,null,0,121]
[11,20566,22,20587,14,20596,null,null,null,null,0,121]
[22,20697,13,20705,23,20714,null,null,null,null,0,212]
[11,20826,22,20835,14,20843,null,null,null,null,0,121]
[11,20961,11,20974,21,20987,null,null,null,null,0,112]
[11,21086,11,21106,21,21114,null,null,null,null,0,112]
[22,21224,13,21233,23,21242,null,null,null,null,0,212]
[22,21350,13,21361,23,21369,null,null,null,null,0,212]
[11,21473,22,21481,14,21494,null,null,null,null,0,121]
[11,21596,22,21604,23,21616,null,null,null,null,0,122]
[22,21717,13,21725,23,21733,null,null,null,null,0,212]
[11,21852,22,21860,14,21873,null,null,null,null,0,121]
[11,21975,22,21983,23,21991,null,null,null,null,0,122]
[11,22112,22,22121,23,22138,null,null,null,null,0,122]
[11,22246,22,22255,14,22267,null,null,null,null,0,121]
[11,22379,22,22394,14,22402,null,null,null,null,0,121]
[11,22552,22,22564,14,22577,null,null,null,null,0,121]
[11,22686,22,22695,14,22707,null,null,null,null,0,121]
[22,22805,13,22815,23,22824,null,null,null,null,0,212]
[11,22929,22,22942,14,22952,null,null,null,null,0,121]
[22,23062,13,23077,23,23086,null,null,null,null,0,212]
[11,23190,22,23198,23,23216,null,null,null,null,0,122]
[22,23339,13,23348,23,23358,null,null,null,null,0,212]
[11,23461,22,23470,14,23485,null,null,null,null,0,121]
[22,23597,13,23605,23,23614,null,null,null,null,0,212]
[22,23714,13,23723,23,23732,null,null,null,null,0,212]
[22,23843,13,23852,23,23860,null,null,null,null,0,212]

{"sheet":"!2011-05-14_10h27m.Subject 52 p","index":12,"n_rows":189,"n_cols":48,"rows_kept":189,"cut":false,"hidden":false,"merged":[[4,39,4,42],[5,39,5,40],[4,44,4,47],[5,44,5,45],[4,24,4,27],[5,24,5,25],[4,29,4,32],[5,29,5,30],[4,34,4,37],[5,34,5,35],[1,1,1,2],[5,13,5,14],[18,13,18,14],[19,13,19,14],[4,19,4,22],[5,19,5,20]]}
["Report for:!2011-05-14_10h27m.Subject 52 phase 2"]
["Date","2011-05-14",null,null,null,"Group",0]
["Hen",0,null,null,null,"Correct Sequence",{"$f":"Start!J2","v":122},null,null,null,null,null,null,null,null,"Total Sequences in Data",{"$f":"4994-COUNTBLANK(L7:L5000)","v":183},null,null,null,null,"Total Sequences in Block Data",{"$f":"COUNTA(L7:L37)","v":31},null,null,null,"Total Sequences in Block Data",{"$f":"COUNTA(L38:L67)","v":30},null,null,null,"Total Sequences in Block Data",{"$f":"COUNTA(L68:L98)","v":31},null,null,null,"Total Sequences in Block Data",{"$f":"COUNTA(L99:L128)","v":30},null,null,null,"Total Sequences in Block Data",{"$f":"COUNTA(L129:L159)","v":31},null,null,null,"Total Sequences in Block Data",{"$f":"COUNTA(L160:L189)","v":30}]
["Program",0,null,null,null,null,null,null,null,null,null,null,null,null,null,"Total Sequences in Summary",{"$f":"SUM(O7:O14)","v":182},null,null,null,null,"Total Sequences in Block Summary",{"$f":"SUM(U7:U14)","v":31},null,null,null,"Total Sequences in Block Summary",{"$f":"SUM(Z7:Z14)","v":30},null,null,null,"Total Sequences in Block Summary",{"$f":"SUM(AE7:AE14)","v":31},null,null,null,"Total Sequences in Block Summary",{"$f":"SUM(AJ7:AJ14)","v":30},null,null,null,"Total Sequences in Block Summary",{"$f":"SUM(AO7:AO14)","v":31},null,null,null,"Total Sequences in Block Summary",{"$f":"SUM(AT7:AT14)","v":29}]
[null,null,null,null,null,null,null,null,null,null,null,null,null,null,null,null,null,null,null,"Block 1",null,null,null,null,"Block 2",null,null,null,null,"Block 3",null,null,null,null,"Block 4",null,null,null,null,"Block 5",null,null,null,null,"Block 6"]
["Sequence\nComponent\n1","Time\n1","Sequence\nComponent\n2","Time\n2","Sequence\nComponent\n3","Time\n3","Sequence\nComponent\n4","Time\n4","Sequence\nComponent\n5","Time\n5","Correct?\n0=No 1=Yes","Sequence",null,"Frequency",null,"Relative Frequency","Variability",null,null,"Frequency",null,"Relative Frequency","Variability",null,"Frequency",null,"Relative Frequency","Variability",null,"Frequency",null,"Relative Frequency","Variability",null,"Frequency",null,"Relative Frequency","Variability",null,"Frequency",null,"Relative Frequency","Variability",null,"Frequency",null,"Relative Frequency","Variability"]
[11,10,22,23,14,37,null,null,null,null,0,121,null,111,{"$f":"COUNTIF($L$7:$L$500,N7)","v":1},{"$f":"O7/$Q$4","v":5.4945054945054949E-3},{"$f":"IF(P7=0,0,(P7*((LOG(P7))/LOG(2))))","v":-4.1251618902190638E-2},null,null,{"$f":"N7","v":111},{"$f":"COUNTIF(L7:L37,T7)","v":0},{"$f":"U7/(W4-U10)","v":0},{"$f":"IF(V7=0,0,(V7*((LOG(V7))/LOG(2))))","v":0},null,{"$f":"N7","v":111},{"$f":"COUNTIF(L38:L67,Y7)","v":0},{"$f":"Z7/(AB4-Z10)","v":0},{"$f":"IF(AA7=0,0,(AA7*((LOG(AA7))/LOG(2))))","v":0},null,{"$f":"N7","v":111},{"$f":"COUNTIF(L68:L98,AD7)","v":0},{"$f":"AE7/(AG4-AE10)","v":0},{"$f":"IF(AF7=0,0,(AF7*((LOG(AF7))/LOG(2))))","v":0},null,{"$f":"N7","v":111},{"$f":"COUNTIF(L99:L128,AI7)","v":0},{"$f":"AJ7/(AL4-AJ10)","v":0},{"$f":"IF(AK7=0,0,(AK7*((LOG(AK7))/LOG(2))))","v":0},null,{"$f":"N7","v":111},{"$f":"COUNTIF(L129:L159,AN7)","v":0},{"$f":"AO7/(AQ4-AO10)","v":0},{"$f":"IF(AP7=0,0,(AP7*((LOG(AP7))/LOG(2))))","v":0},null,{"$f":"N7","v":111},{"$f":"COUNTIF(L160:L189,AS7)","v":1},{"$f":"AT7/(AV4-AT10)","v":0.05},{"$f":"IF(AU7=0,0,(AU7*((LOG(AU7))/LOG(2))))","v":-0.21609640474436814}]
[11,136,22,145,23,152,null,null,null,null,0,122,null,112,{"$f":"COUNTIF($L$7:$L$500,N8)","v":13},{"$f":"O8/$Q$4","v":7.1428571428571425E-2},{"$f":"IF(P8=0,0,(P8*((LOG(P8))/LOG(2))))","v":-0.27195392300411453},null,null,{"$f":"N8","v":112},{"$f":"COUNTIF(L7:L37,T8)","v":2},{"$f":"U8/(W4-U10)","v":7.6923076923076927E-2},{"$f":"IF(V8=0,0,(V8*((LOG(V8))/LOG(2))))","v":-0.28464920908777636},null,{"$f":"N8","v":112},{"$f":"COUNTIF(L38:L67,Y8)","v":1},{"$f":"Z8/(AB4-Z10)","v":3.5714285714285712E-2},{"$f":"IF(AA8=0,0,(AA8*((LOG(AA8))/LOG(2))))","v":-0.17169124721634299},null,{"$f":"N8","v":112},{"$f":"COUNTIF(L68:L98,AD8)","v":3},{"$f":"AE8/(AG4-AE10)","v":0.11538461538461539},{"$f":"IF(AF8=0,0,(AF8*((LOG(AF8))/LOG(2))))","v":-0.35947814047153104},null,{"$f":"N8","v":112},{"$f":"COUNTIF(L99:L128,AI8)","v":3},{"$f":"AJ8/(AL4-AJ10)","v":0.14285714285714285},{"$f":"IF(AK8=0,0,(AK8*((LOG(AK8))/LOG(2))))","v":-0.40105070315108626},null,{"$f":"N8","v":112},{"$f":"COUNTIF(L129:L159,AN8)","v":3},{"$f":"AO8/(AQ4-AO10)","v":0.11538461538461539},{"$f":"IF(AP8=0,0,(AP8*((LOG(AP8))/LOG(2))))","v":-0.35947814047153104},null,{"$f":"N8","v":112},{"$f":"COUNTIF(L160:L189,AS8)","v":1},{"$f":"AT8/(AV4-AT10)","v":0.05},{"$f":"IF(AU8=0,0,(AU8*((LOG(AU8))/LOG(2))))","v":-0.21609640474436814}]
[11,255,22,265,23,272,null,null,null,null,0,122,null,121,{"$f":"COUNTIF($L$7:$L$500,N9)","v":57},{"$f":"O9/$Q$4","v":0.31318681318681318},{"$f":"IF(P9=0,0,(P9*((LOG(P9))/LOG(2))))","v":-0.52455804221942537},null,null,{"$f":"N9","v":121},{"$f":"COUNTIF(L7:L37,T9)","v":11},{"$f":"U9/(W4-U10)","v":0.42307692307692307},{"$f":"IF(V9=0,0,(V9*((LOG(V9))/LOG(2))))","v":-0.52504188825160547},null,{"$f":"N9","v":121},{"$f":"COUNTIF(L38:L67,Y9)","v":16},{"$f":"Z9/(AB4-Z10)","v":0.5714285714285714},{"$f":"IF(AA9=0,0,(AA9*((LOG(AA9))/LOG(2))))","v":-0.46134566974720237},null,{"$f":"N9","v":121},{"$f":"COUNTIF(L68:L98,AD9)","v":5},{"$f":"AE9/(AG4-AE10)","v":0.19230769230769232},{"$f":"IF(AF9=0,0,(AF9*((LOG(AF9))/LOG(2))))","v":-0.45740608139494804},null,{"$f":"N9","v":121},{"$f":"COUNTIF(L99:L128,AI9)","v":5},{"$f":"AJ9/(AL4-AJ10)","v":0.23809523809523808},{"$f":"IF(AK9=0,0,(AK9*((LOG(AK9))/LOG(2))))","v":-0.49294983997414238},null,{"$f":"N9","v":121},{"$f":"COUNTIF(L129:L159,AN9)","v":10},{"$f":"AO9/(AQ4-AO10)","v":0.38461538461538464},{"$f":"IF(AP9=0,0,(AP9*((LOG(AP9))/LOG(2))))","v":-0.53019677817451139},null,{"$f":"N9","v":121},{"$f":"COUNTIF(L160:L189,AS9)","v":10},{"$f":"AT9/(AV4-AT10)","v":0.5},{"$f":"IF(AU9=0,0,(AU9*((LOG(AU9))/LOG(2))))","v":-0.5}]
[22,371,24,378,14,386,null,null,null,null,0,221,null,122,{"$f":"COUNTIF($L$7:$L$500,N10)","v":35},{"$f":"O10/$Q$4","v":0.19230769230769232},{"$f":"IF(P10=0,0,(P10*((LOG(P10))/LOG(2))))","v":-0.45740608139494804},null,null,{"$f":"N10","v":122},{"$f":"COUNTIF(L7:L37,T10)","v":5},null,null,null,{"$f":"N10","v":122},{"$f":"COUNTIF(L38:L67,Y10)","v":2},null,null,null,{"$f":"N10","v":122},{"$f":"COUNTIF(L68:L98,AD10)","v":5},null,null,null,{"$f":"N10","v":122},{"$f":"COUNTIF(L99:L128,AI10)","v":9},null,null,null,{"$f":"N10","v":122},{"$f":"COUNTIF(L129:L159,AN10)","v":5},null,null,null,{"$f":"N10","v":122},{"$f":"COUNTIF(L160:L189,AS10)","v":9}]
[22,491,24,508,14,520,null,null,null,null,0,221,null,211,{"$f":"COUNTIF($L$7:$L$500,N11)","v":1},{"$f":"O11/$Q$4","v":5.4945054945054949E-3},{"$f":"IF(P11=0,0,(P11*((LOG(P11))/LOG(2))))","v":-4.1251618902190638E-2},null,null,{"$f":"N11","v":211},{"$f":"COUNTIF(L7:L37,T11)","v":0},{"$f":"U11/(W4-U10)","v":0},{"$f":"IF(V11=0,0,(V11*((LOG(V11))/LOG(2))))","v":0},null,{"$f":"N11","v":211},{"$f":"COUNTIF(L38:L67,Y11)","v":0},{"$f":"Z11/(AB4-Z10)","v":0},{"$f":"IF(AA11=0,0,(AA11*((LOG(AA11))/LOG(2))))","v":0},null,{"$f":"N11","v":211},{"$f":"COUNTIF(L68:L98,AD11)","v":0},{"$f":"AE11/(AG4-AE10)","v":0},{"$f":"IF(AF11=0,0,(AF11*((LOG(AF11))/LOG(2))))","v":0},null,{"$f":"N11","v":211},{"$f":"COUNTIF(L99:L128,AI11)","v":0},{"$f":"AJ11/(AL4-AJ10)","v":0},{"$f":"IF(AK11=0,0,(AK11*((LOG(AK11))/LOG(2))))","v":0},null,{"$f":"N11","v":211},{"$f":"COUNTIF(L129:L159,AN11)","v":1},{"$f":"AO11/(AQ4-AO10)","v":3.8461538461538464E-2},{"$f":"IF(AP11=0,0,(AP11*((LOG(AP11))/LOG(2))))","v":-0.18078614300542661},null,{"$f":"N11","v":211},{"$f":"COUNTIF(L160:L189,AS11)","v":0},{"$f":"AT11/(AV4-AT10)","v":0},{"$f":"IF(AU11=0,0,(AU11*((LOG(AU11))/LOG(2))))","v":0}]
[22,622,24,640,23,652,null,null,null,null,0,222,null,212,{"$f":"COUNTIF($L$7:$L$500,N12)","v":49},{"$f":"O12/$Q$4","v":0.26923076923076922},{"$f":"IF(P12=0,0,(P12*((LOG(P12))/LOG(2))))","v":-0.50967667586863141},null,null,{"$f":"N12","v":212},{"$f":"COUNTIF(L7:L37,T12)","v":8},{"$f":"U12/(W4-U10)","v":0.30769230769230771},{"$f":"IF(V12=0,0,(V12*((LOG(V12))/LOG(2))))","v":-0.52321222096648989},null,{"$f":"N12","v":212},{"$f":"COUNTIF(L38:L67,Y12)","v":8},{"$f":"Z12/(AB4-Z10)","v":0.2857142857142857},{"$f":"IF(AA12=0,0,(AA12*((LOG(AA12))/LOG(2))))","v":-0.51638712058788683},null,{"$f":"N12","v":212},{"$f":"COUNTIF(L68:L98,AD12)","v":15},{"$f":"AE12/(AG4-AE10)","v":0.57692307692307687},{"$f":"IF(AF12=0,0,(AF12*((LOG(AF12))/LOG(2))))","v":-0.45781680146110021},null,{"$f":"N12","v":212},{"$f":"COUNTIF(L99:L128,AI12)","v":5},{"$f":"AJ12/(AL4-AJ10)","v":0.23809523809523808},{"$f":"IF(AK12=0,0,(AK12*((LOG(AK12))/LOG(2))))","v":-0.49294983997414238},null,{"$f":"N12","v":212},{"$f":"COUNTIF(L129:L159,AN12)","v":11},{"$f":"AO12/(AQ4-AO10)","v":0.42307692307692307},{"$f":"IF(AP12=0,0,(AP12*((LOG(AP12))/LOG(2))))","v":-0.52504188825160547},null,{"$f":"N12","v":212},{"$f":"COUNTIF(L160:L189,AS12)","v":2},{"$f":"AT12/(AV4-AT10)","v":0.1},{"$f":"IF(AU12=0,0,(AU12*((LOG(AU12))/LOG(2))))","v":-0.33219280948873625}]
[22,762,13,770,23,782,null,null,null,null,0,212,null,221,{"$f":"COUNTIF($L$7:$L$500,N13)","v":14},{"$f":"O13/$Q$4","v":7.6923076923076927E-2},{"$f":"IF(P13=0,0,(P13*((LOG(P13))/LOG(2))))","v":-0.28464920908777636},null,null,{"$f":"N13","v":221},{"$f":"COUNTIF(L7:L37,T13)","v":3},{"$f":"U13/(W4-U10)","v":0.11538461538461539},{"$f":"IF(V13=0,0,(V13*((LOG(V13))/LOG(2))))","v":-0.35947814047153104},null,{"$f":"N13","v":221},{"$f":"COUNTIF(L38:L67,Y13)","v":2},{"$f":"Z13/(AB4-Z10)","v":7.1428571428571425E-2},{"$f":"IF(AA13=0,0,(AA13*((LOG(AA13))/LOG(2))))","v":-0.27195392300411453},null,{"$f":"N13","v":221},{"$f":"COUNTIF(L68:L98,AD13)","v":3},{"$f":"AE13/(AG4-AE10)","v":0.11538461538461539},{"$f":"IF(AF13=0,0,(AF13*((LOG(AF13))/LOG(2))))","v":-0.35947814047153104},null,{"$f":"N13","v":221},{"$f":"COUNTIF(L99:L128,AI13)","v":4},{"$f":"AJ13/(AL4-AJ10)","v":0.19047619047619047},{"$f":"IF(AK13=0,0,(AK13*((LOG(AK13))/LOG(2))))","v":-0.4556795091007162},null,{"$f":"N13","v":221},{"$f":"COUNTIF(L129:L159,AN13)","v":1},{"$f":"AO13/(AQ4-AO10)","v":3.8461538461538464E-2},{"$f":"IF(AP13=0,0,(AP13*((LOG(AP13))/LOG(2))))","v":-0.18078614300542661},null,{"$f":"N13","v":221},{"$f":"COUNTIF(L160:L189,AS13)","v":1},{"$f":"AT13/(AV4-AT10)","v":0.05},{"$f":"IF(AU13=0,0,(AU13*((LOG(AU13))/LOG(2))))","v":-0.21609640474436814}]
[22,881,24,893,14,905,null,null,null,null,0,221,null,222,{"$f":"COUNTIF($L$7:$L$500,N14)","v":12},{"$f":"O14/$Q$4","v":6.5934065934065936E-2},{"$f":"IF(P14=0,0,(P14*((LOG(P14))/LOG(2))))","v":-0.25864827293258508},null,null,{"$f":"N14","v":222},{"$f":"COUNTIF(L7:L37,T14)","v":2},{"$f":"U14/(W4-U10)","v":7.6923076923076927E-2},{"$f":"IF(V14=0,0,(V14*((LOG(V14))/LOG(2))))","v":-0.28464920908777636},null,{"$f":"N14","v":222},{"$f":"COUNTIF(L38:L67,Y14)","v":1},{"$f":"Z14/(AB4-Z10)","v":3.5714285714285712E-2},{"$f":"IF(AA14=0,0,(AA14*((LOG(AA14))/LOG(2))))","v":-0.17169124721634299},null,{"$f":"N14","v":222},{"$f":"COUNTIF(L68:L98,AD14)","v":0},{"$f":"AE14/(AG4-AE10)","v":0},{"$f":"IF(AF14=0,0,(AF14*((LOG(AF14))/LOG(2))))","v":0},null,{"$f":"N14","v":222},{"$f":"COUNTIF(L99:L128,AI14)","v":4},{"$f":"AJ14/(AL4-AJ10)","v":0.19047619047619047},{"$f":"IF(AK14=0,0,(AK14*((LOG(AK14))/LOG(2))))","v":-0.4556795091007162},null,{"$f":"N14","v":222},{"$f":"COUNTIF(L129:L159,AN14)","v":0},{"$f":"AO14/(AQ4-AO10)","v":0},{"$f":"IF(AP14=0,0,(AP14*((LOG(AP14))/LOG(2))))","v":0},null,{"$f":"N14","v":222},{"$f":"COUNTIF(L160:L189,AS14)","v":5},{"$f":"AT14/(AV4-AT10)","v":0.25},{"$f":"IF(AU14=0,0,(AU14*((LOG(AU14))/LOG(2))))","v":-0.5}]
[22,1009,24,1021,23,1035,null,null,null,null,0,222,null,null,null,{"$f":"SUM(P7:P14)","v":1},{"$f":"-SUM(Q7:Q14)","v":2.3893954423118617},null,null,null,null,{"$f":"SUM(V7:V14)","v":1},{"$f":"-SUM(W7:W14)","v":1.9770306678651792},null,null,null,{"$f":"SUM(AA7:AA14)","v":0.99999999999999989},{"$f":"-SUM(AB7:AB14)","v":1.5930692077718898},null,null,null,{"$f":"SUM(AF7:AF14)","v":1},{"$f":"-SUM(AG7:AG14)","v":1.6341791637991103},null,null,null,{"$f":"SUM(AK7:AK14)","v":1},{"$f":"-SUM(AL7:AL14)","v":2.2983094013008034},null,null,null,{"$f":"SUM(AP7:AP14)","v":0.99999999999999989},{"$f":"-SUM(AQ7:AQ14)","v":1.7762890929085011},null,null,null,{"$f":"SUM(AU7:AU14)","v":1},{"$f":"-SUM(AV7:AV14)","v":1.9804820237218406}]
[11,1146,22,1154,23,1162,null,null,null,null,0,122,null,null,null,"U=",{"$f":"Q15/(LOG(Q4)/LOG(2))","v":0.31825530090000248},null,null,null,null,"U1=",{"$f":"W15/(LOG(W4)/LOG(2))","v":0.39906183445338528},null,null,null,"U2=",{"$f":"AB15/(LOG(AB4)/LOG(2))","v":0.32465961421630768},null,null,null,"U3=",{"$f":"AG15/(LOG(AG4)/LOG(2))","v":0.32985757152435019},null,null,null,"U4=",{"$f":"AL15/(LOG(AL4)/LOG(2))","v":0.46838407266665033},null,null,null,"U5=",{"$f":"AQ15/(LOG(AQ4)/LOG(2))","v":0.35854233090932769},null,null,null,"U6=",{"$f":"AV15/(LOG(AV4)/LOG(2))","v":0.40767595132797191}]
[11,1278,11,1300,21,1309,null,null,null,null,0,112]
[11,1410,22,1418,14,1426,null,null,null,null,0,121]
[22,1529,13,1539,23,1549,null,null,null,null,0,212,null,"Total Target Seq"]
[22,1648,13,1655,23,1666,null,null,null,null,0,212,null,{"$f":"COUNTIF(L7:L189,G3)","v":35},null,31,30,31,30,31,30]
[11,1767,22,1776,14,1785,null,null,null,null,0,121,null,null,null,"% of reinforcement given in 6 equal intervals based on number of trials "]
[11,1886,22,1898,14,1907,null,null,null,null,0,121,null,null,null,"%_1","%_2","%_3","%_4","%_5","%_6"]
[22,2007,13,2015,23,2024,null,null,null,null,0,212,null,null,"target sequence",{"$f":"$G$3","v":122},{"$f":"$G$3","v":122},{"$f":"$G$3","v":122},{"$f":"$G$3","v":122},{"$f":"$G$3","v":122},{"$f":"$G$3","v":122}]
[11,2123,22,2132,14,2140,null,null,null,null,0,121,null,null,"total reinforcement",{"$f":"U10","v":5},{"$f":"Z10","v":2},{"$f":"AE10","v":5},{"$f":"AJ10","v":9},{"$f":"AO10","v":5},{"$f":"AT10","v":9}]
[11,2254,22,2264,14,2279,null,null,null,null,0,121,null,null,"% target"]
[22,2395,13,2406,23,2417,null,null,null,null,0,212,null,null,"CCRF"]
[22,2516,13,2527,23,2537,null,null,null,null,0,212,null,null,"% CCRf"]
[11,2647,22,2656,14,2668,null,null,null,null,0,121,null,null,"average response rate",{"$f":"F37/P20","v":122.90322580645162},{"$f":"(F67-F37)/Q20","v":133.56666666666666},{"$f":"(F98-F67)/R20","v":133.64516129032259},{"$f":"(F128-F98)/S20","v":132.93333333333334},{"$f":"(F159-F128)/T20","v":131.93548387096774},{"$f":"(F189-F159)/U20","v":-667.93333333333328}]
[11,2769,22,2779,23,2793,null,null,null,null,0,122]
[11,2909,22,2917,14,2932,null,null,null,null,0,121]
[22,3042,13,3050,23,3059,null,null,null,null,0,212]
[11,3164,11,3181,21,3191,null,null,null,null,0,112]
[11,3288,22,3298,14,3313,null,null,null,null,0,121]
[11,3416,22,3423,23,3438,null,null,null,null,0,122]
[22,3538,13,3548,23,3557,null,null,null,null,0,212]
[11,3662,22,3671,14,3683,null,null,null,null,0,121]
[11,3788,22,3800,14,3810,null,null,null,null,0,121]
[11,3938,22,3949,14,3963,null,null,null,null,0,121]
[22,4063,13,4070,23,4079,null,null,null,null,0,212]
[22,4178,13,4186,23,4194,null,null,null,null,0,212]
[11,4304,22,4313,14,4327,null,null,null,null,0,121]
[11,4451,22,4460,14,4474,null,null,null,null,0,121]
[22,4572,24,4588,14,4597,null,null,null,null,0,221]
[22,4697,13,4709,23,4718,null,null,null,null,0,212]
[11,4848,22,4856,14,4875,null,null,null,null,0,121]
[11,4989,22,4998,14,5006,null,null,null,null,0,121]
[11,5105,22,5119,14,5128,null,null,null,null,0,121]
[11,5229,22,5238,14,5250,null,null,null,null,0,121]
[11,5361,22,5370,14,5384,null,null,null,null,0,121]
[22,5501,13,5509,23,5521,null,null,null,null,0,212]
[11,5630,22,5638,14,5650,null,null,null,null,0,121]
[22,5767,24,5782,23,5798,null,null,null,null,0,222]
[22,5903,13,5912,23,5921,null,null,null,null,0,212]
[22,6044,13,6056,23,6067,null,null,null,null,0,212]
[22,6172,13,6180,23,6189,null,null,null,null,0,212]
[22,6307,24,6322,14,6332,null,null,null,null,0,221]
[11,6447,22,6468,14,6479,null,null,null,null,0,121]
[11,6599,22,6611,14,6621,null,null,null,null,0,121]
[11,6722,11,6739,21,6747,null,null,null,null,0,112]
[11,6843,22,6853,23,6867,null,null,null,null,0,122]
[11,6979,22,6987,14,7002,null,null,null,null,0,121]
[11,7106,22,7115,14,7126,null,null,null,null,0,121]
[22,7231,13,7239,23,7248,null,null,null,null,0,212]
[11,7347,22,7355,14,7366,null,null,null,null,0,121]
[11,7464,22,7474,14,7483,null,null,null,null,0,121]
[11,7588,22,7609,23,7623,null,null,null,null,0,122]
[11,7787,22,7801,14,7817,null,null,null,null,0,121]
[22,7921,13,7930,23,7939,null,null,null,null,0,212]
[22,8055,13,8066,23,8077,null,null,null,null,0,212]
[11,8179,22,8188,14,8196,null,null,null,null,0,121]
[11,8334,11,8358,21,8371,null,null,null,null,0,112]
[22,8482,13,8496,23,8505,null,null,null,null,0,212]
[22,8631,13,8639,23,8648,null,null,null,null,0,212]
[22,8751,13,8758,23,8767,null,null,null,null,0,212]
[11,8869,22,8877,14,8885,null,null,null,null,0,121]
[22,8989,24,8999,14,9006,null,null,null,null,0,221]
[22,9116,13,9128,23,9136,null,null,null,null,0,212]
[22,9248,13,9256,23,9265,null,null,null,null,0,212]
[22,9379,13,9387,23,9396,null,null,null,null,0,212]
[22,9537,13,9547,23,9555,null,null,null,null,0,212]
[22,9657,13,9666,23,9674,null,null,null,null,0,212]
[11,9780,22,9789,23,9802,null,null,null,null,0,122]
[11,9900,11,9913,21,9922,null,null,null,null,0,112]
[22,10035,24,10048,14,10061,null,null,null,null,0,221]
[22,10160,13,10168,23,10176,null,null,null,null,0,212]
[22,10330,13,10342,23,10352,null,null,null,null,0,212]
[22,10459,13,10467,23,10492,null,null,null,null,0,212]
[11,10602,22,10613,23,10622,null,null,null,null,0,122]
[11,10738,22,10750,14,10761,null,null,null,null,0,121]
[22,10871,24,10878,14,10888,null,null,null,null,0,221]
[11,11004,11,11031,21,11039,null,null,null,null,0,112]
[11,11147,22,11155,14,11167,null,null,null,null,0,121]
[22,11271,13,11279,23,11288,null,null,null,null,0,212]
[22,11400,13,11408,23,11417,null,null,null,null,0,212]
[11,11535,22,11550,23,11558,null,null,null,null,0,122]
[11,11661,22,11671,23,11685,null,null,null,null,0,122]
[11,11804,22,11813,14,11830,null,null,null,null,0,121]
[11,11933,22,11945,23,11960,null,null,null,null,0,122]
[11,12081,22,12091,14,12103,null,null,null,null,0,121]
[11,12213,22,12222,23,12236,null,null,null,null,0,122]
[22,12359,24,12373,23,12382,null,null,null,null,0,222]
[22,12485,24,12503,14,12516,null,null,null,null,0,221]
[22,12615,24,12629,14,12637,null,null,null,null,0,221]
[11,12737,22,12747,23,12761,null,null,null,null,0,122]
[22,12865,24,12883,23,12898,null,null,null,null,0,222]
[22,13026,13,13035,23,13044,null,null,null,null,0,212]
[22,13160,13,13169,23,13177,null,null,null,null,0,212]
[11,13286,22,13295,14,13306,null,null,null,null,0,121]
[11,13415,11,13427,21,13438,null,null,null,null,0,112]
[11,13539,22,13551,23,13567,null,null,null,null,0,122]
[11,13666,11,13683,21,13692,null,null,null,null,0,112]
[11,13789,22,13797,14,13806,null,null,null,null,0,121]
[22,13905,13,13913,23,13922,null,null,null,null,0,212]
[11,14036,22,14044,23,14058,null,null,null,null,0,122]
[11,14172,22,14185,23,14199,null,null,null,null,0,122]
[11,14298,11,14313,21,14324,null,null,null,null,0,112]
[22,14417,24,14431,14,14439,null,null,null,null,0,221]
[11,14537,22,14546,23,14559,null,null,null,null,0,122]
[22,14668,13,14676,23,14684,null,null,null,null,0,212]
[22,14787,13,14795,23,14804,null,null,null,null,0,212]
[11,14917,22,14927,23,14940,null,null,null,null,0,122]
[11,15047,22,15056,23,15070,null,null,null,null,0,122]
[22,15178,24,15186,14,15194,null,null,null,null,0,221]
[11,15309,22,15322,23,15333,null,null,null,null,0,122]
[11,15459,22,15468,14,15483,null,null,null,null,0,121]
[22,15665,24,15680,23,15695,null,null,null,null,0,222]
[22,15798,24,15812,23,15826,null,null,null,null,0,222]
[11,15932,22,15940,14,15948,null,null,null,null,0,121]
[11,16057,22,16068,14,16080,null,null,null,null,0,121]
[22,16180,13,16189,23,16197,null,null,null,null,0,212]
[22,16305,13,16324,23,16333,null,null,null,null,0,212]
[22,16436,13,16445,23,16453,null,null,null,null,0,212]
[22,16563,13,16571,23,16582,null,null,null,null,0,212]
[11,16684,22,16693,14,16702,null,null,null,null,0,121]
[11,16805,22,16813,23,16827,null,null,null,null,0,122]
[11,16935,22,16944,14,16952,null,null,null,null,0,121]
[11,17092,22,17101,14,17118,null,null,null,null,0,121]
[22,17221,24,17234,14,17243,null,null,null,null,0,221]
[11,17347,11,17364,21,17373,null,null,null,null,0,112]
[11,17472,22,17484,14,17498,null,null,null,null,0,121]
[22,17595,13,17604,14,17620,null,null,null,null,0,211]
[22,17717,13,17734,23,17743,null,null,null,null,0,212]
[22,17848,13,17865,23,17876,null,null,null,null,0,212]
[11,17987,22,17999,14,18012,null,null,null,null,0,121]
[22,18110,13,18118,23,18127,null,null,null,null,0,212]
[11,18235,22,18247,23,18261,null,null,null,null,0,122]
[22,18362,13,18370,23,18378,null,null,null,null,0,212]
[11,18477,22,18495,14,18504,null,null,null,null,0,121]
[11,18711,22,18722,23,18741,null,null,null,null,0,122]
[11,18844,22,18855,14,18863,null,null,null,null,0,121]
[11,18962,22,18971,14,18982,null,null,null,null,0,121]
[22,19102,13,19115,23,19124,null,null,null,null,0,212]
[22,19225,13,19233,23,19241,null,null,null,null,0,212]
[11,19358,22,19376,14,19388,null,null,null,null,0,121]
[11,19490,11,19516,21,19528,null,null,null,null,0,112]
[22,19631,13,19639,23,19648,null,null,null,null,0,212]
[11,19757,22,19774,23,19791,null,null,null,null,0,122]
[11,19890,11,19906,21,19915,null,null,null,null,0,112]
[11,20017,22,20026,23,20038,null,null,null,null,0,122]
[22,20140,24,20163,23,20177,null,null,null,null,0,222]
[22,20286,24,20303,23,20311,null,null,null,null,0,222]
[11,20414,22,20424,14,20433,null,null,null,null,0,121]
[11,20531,22,20540,23,20554,null,null,null,null,0,122]
[11,20658,22,20669,14,20678,null,null,null,null,0,121]
[11,20781,22,20790,14,20807,null,null,null,null,0,121]
[11,20926,22,20935,14,20949,null,null,null,null,0,121]
[11,21051,22,21064,14,21077,null,null,null,null,0,121]
[11,21177,11,21193,12,21216,null,null,null,null,0,111]
[22,21311,24,21321,23,21337,null,null,null,null,0,222]
[22,21441,24,21464,23,21478,null,null,null,null,0,222]
[11,21580,22,21597,23,21616,null,null,null,null,0,122]
[22,21716,24,21737,14,21745,null,null,null,null,0,221]
[11,21850,22,21872,23,21892,null,null,null,null,0,122]
[22,22020,24,22037,23,22050,null,null,null,null,0,222]
[11,22188,11,22218,21,22230,null,null,null,null,0,112]
[11,22334,22,22343,23,22357,null,null,null,null,0,122]
[11,22461,22,22470,14,22479,null,null,null,null,0,121]
[11,22583,22,22600,23,22614,null,null,null,null,0,122]
[11,22717,22,22725,14,22740,null,null,null,null,0,121]
[11,22840,22,22851,23,22859,null,null,null,null,0,122]
[11,22963,22,22988,14,23003,null,null,null,null,0,121]
[22,23102,13,23110,23,23123,null,null,null,null,0,212]
[11,23225,22,23234,14,23241,null,null,null,null,0,121]
[11,23345,22,23356,14,23369,null,null,null,null,0,121]
[11,23474,22,23482,23,23497,null,null,null,null,0,122]
[11,23598,22,23606,23,23621,null,null,null,null,0,122]
[22,23718,13,23743,23,23752,null,null,null,null,0,212]
[11,23863,22,23880,23,23894,null,null,null,null,0,122]
[11,23997,null,null,null,null,null,null,null,null,null,1]

{"sheet":"!2011-05-15_08h55m.Subject 52 p","index":13,"n_rows":184,"n_cols":48,"rows_kept":184,"cut":false,"hidden":false,"merged":[[4,39,4,42],[5,39,5,40],[4,44,4,47],[5,44,5,45],[4,24,4,27],[5,24,5,25],[4,29,4,32],[5,29,5,30],[4,34,4,37],[5,34,5,35],[1,1,1,2],[5,13,5,14],[18,13,18,14],[19,13,19,14],[4,19,4,22],[5,19,5,20]]}
["Report for:!2011-05-15_08h55m.Subject 52 phase 2"]
["Date","2011-05-15",null,null,null,"Group",0]
["Hen",0,null,null,null,"Correct Sequence",{"$f":"Start!J2","v":122},null,null,null,null,null,null,null,null,"Total Sequences in Data",{"$f":"4994-COUNTBLANK(L7:L5000)","v":178},null,null,null,null,"Total Sequences in Block Data",{"$f":"COUNTA(L7:L36)","v":30},null,null,null,"Total Sequences in Block Data",{"$f":"COUNTA(L37:L65)","v":29},null,null,null,"Total Sequences in Block Data",{"$f":"COUNTA(L66:L95)","v":30},null,null,null,"Total Sequences in Block Data",{"$f":"COUNTA(L96:L125)","v":30},null,null,null,"Total Sequences in Block Data",{"$f":"COUNTA(L126:L154)","v":29},null,null,null,"Total Sequences in Block Data",{"$f":"COUNTA(L155:L184)","v":30}]
["Program",0,null,null,null,null,null,null,null,null,null,null,null,null,null,"Total Sequences in Summary",{"$f":"SUM(O7:O14)","v":178},null,null,null,null,"Total Sequences in Block Summary",{"$f":"SUM(U7:U14)","v":30},null,null,null,"Total Sequences in Block Summary",{"$f":"SUM(Z7:Z14)","v":29},null,null,null,"Total Sequences in Block Summary",{"$f":"SUM(AE7:AE14)","v":30},null,null,null,"Total Sequences in Block Summary",{"$f":"SUM(AJ7:AJ14)","v":30},null,null,null,"Total Sequences in Block Summary",{"$f":"SUM(AO7:AO14)","v":29},null,null,null,"Total Sequences in Block Summary",{"$f":"SUM(AT7:AT14)","v":30}]
[null,null,null,null,null,null,null,null,null,null,null,null,null,null,null,null,null,null,null,"Block 1",null,null,null,null,"Block 2",null,null,null,null,"Block 3",null,null,null,null,"Block 4",null,null,null,null,"Block 5",null,null,null,null,"Block 6"]
["Sequence\nComponent\n1","Time\n1","Sequence\nComponent\n2","Time\n2","Sequence\nComponent\n3","Time\n3","Sequence\nComponent\n4","Time\n4","Sequence\nComponent\n5","Time\n5","Correct?\n0=No 1=Yes","Sequence",null,"Frequency",null,"Relative Frequency","Variability",null,null,"Frequency",null,"Relative Frequency","Variability",null,"Frequency",null,"Relative Frequency","Variability",null,"Frequency",null,"Relative Frequency","Variability",null,"Frequency",null,"Relative Frequency","Variability",null,"Frequency",null,"Relative Frequency","Variability",null,"Frequency",null,"Relative Frequency","Variability"]
[22,11,13,18,23,26,null,null,null,null,0,212,null,111,{"$f":"COUNTIF($L$7:$L$500,N7)","v":3},{"$f":"O7/$Q$4","v":1.6853932584269662E-2},{"$f":"IF(P7=0,0,(P7*((LOG(P7))/LOG(2))))","v":-9.9282656127728783E-2},null,null,{"$f":"N7","v":111},{"$f":"COUNTIF(L7:L36,T7)","v":0},{"$f":"U7/(W4-U10)","v":0},{"$f":"IF(V7=0,0,(V7*((LOG(V7))/LOG(2))))","v":0},null,{"$f":"N7","v":111},{"$f":"COUNTIF(L37:L65,Y7)","v":0},{"$f":"Z7/(AB4-Z10)","v":0},{"$f":"IF(AA7=0,0,(AA7*((LOG(AA7))/LOG(2))))","v":0},null,{"$f":"N7","v":111},{"$f":"COUNTIF(L66:L95,AD7)","v":1},{"$f":"AE7/(AG4-AE10)","v":4.1666666666666664E-2},{"$f":"IF(AF7=0,0,(AF7*((LOG(AF7))/LOG(2))))","v":-0.19104010419671485},null,{"$f":"N7","v":111},{"$f":"COUNTIF(L96:L125,AI7)","v":1},{"$f":"AJ7/(AL4-AJ10)","v":3.7037037037037035E-2},{"$f":"IF(AK7=0,0,(AK7*((LOG(AK7))/LOG(2))))","v":-0.1761069445245729},null,{"$f":"N7","v":111},{"$f":"COUNTIF(L126:L154,AN7)","v":1},{"$f":"AO7/(AQ4-AO10)","v":4.1666666666666664E-2},{"$f":"IF(AP7=0,0,(AP7*((LOG(AP7))/LOG(2))))","v":-0.19104010419671485},null,{"$f":"N7","v":111},{"$f":"COUNTIF(L155:L184,AS7)","v":0},{"$f":"AT7/(AV4-AT10)","v":0},{"$f":"IF(AU7=0,0,(AU7*((LOG(AU7))/LOG(2))))","v":0}]
[11,138,22,147,14,162,null,null,null,null,0,121,null,112,{"$f":"COUNTIF($L$7:$L$500,N8)","v":37},{"$f":"O8/$Q$4","v":0.20786516853932585},{"$f":"IF(P8=0,0,(P8*((LOG(P8))/LOG(2))))","v":-0.471080687738683},null,null,{"$f":"N8","v":112},{"$f":"COUNTIF(L7:L36,T8)","v":4},{"$f":"U8/(W4-U10)","v":0.18181818181818182},{"$f":"IF(V8=0,0,(V8*((LOG(V8))/LOG(2))))","v":-0.44716938520678134},null,{"$f":"N8","v":112},{"$f":"COUNTIF(L37:L65,Y8)","v":3},{"$f":"Z8/(AB4-Z10)","v":0.15789473684210525},{"$f":"IF(AA8=0,0,(AA8*((LOG(AA8))/LOG(2))))","v":-0.42046815990354147},null,{"$f":"N8","v":112},{"$f":"COUNTIF(L66:L95,AD8)","v":3},{"$f":"AE8/(AG4-AE10)","v":0.125},{"$f":"IF(AF8=0,0,(AF8*((LOG(AF8))/LOG(2))))","v":-0.375},null,{"$f":"N8","v":112},{"$f":"COUNTIF(L96:L125,AI8)","v":4},{"$f":"AJ8/(AL4-AJ10)","v":0.14814814814814814},{"$f":"IF(AK8=0,0,(AK8*((LOG(AK8))/LOG(2))))","v":-0.40813148180199532},null,{"$f":"N8","v":112},{"$f":"COUNTIF(L126:L154,AN8)","v":8},{"$f":"AO8/(AQ4-AO10)","v":0.33333333333333331},{"$f":"IF(AP8=0,0,(AP8*((LOG(AP8))/LOG(2))))","v":-0.52832083357371862},null,{"$f":"N8","v":112},{"$f":"COUNTIF(L155:L184,AS8)","v":15},{"$f":"AT8/(AV4-AT10)","v":0.5357142857142857},{"$f":"IF(AU8=0,0,(AU8*((LOG(AU8))/LOG(2))))","v":-0.48239160345486726}]
[22,259,24,266,14,276,null,null,null,null,0,221,null,121,{"$f":"COUNTIF($L$7:$L$500,N9)","v":50},{"$f":"O9/$Q$4","v":0.2808988764044944},{"$f":"IF(P9=0,0,(P9*((LOG(P9))/LOG(2))))","v":-0.51457225876170598},null,null,{"$f":"N9","v":121},{"$f":"COUNTIF(L7:L36,T9)","v":8},{"$f":"U9/(W4-U10)","v":0.36363636363636365},{"$f":"IF(V9=0,0,(V9*((LOG(V9))/LOG(2))))","v":-0.53070240677719893},null,{"$f":"N9","v":121},{"$f":"COUNTIF(L37:L65,Y9)","v":5},{"$f":"Z9/(AB4-Z10)","v":0.26315789473684209},{"$f":"IF(AA9=0,0,(AA9*((LOG(AA9))/LOG(2))))","v":-0.50684195225163764},null,{"$f":"N9","v":121},{"$f":"COUNTIF(L66:L95,AD9)","v":10},{"$f":"AE9/(AG4-AE10)","v":0.41666666666666669},{"$f":"IF(AF9=0,0,(AF9*((LOG(AF9))/LOG(2))))","v":-0.52626433576408083},null,{"$f":"N9","v":121},{"$f":"COUNTIF(L96:L125,AI9)","v":10},{"$f":"AJ9/(AL4-AJ10)","v":0.37037037037037035},{"$f":"IF(AK9=0,0,(AK9*((LOG(AK9))/LOG(2))))","v":-0.53072570639855787},null,{"$f":"N9","v":121},{"$f":"COUNTIF(L126:L154,AN9)","v":5},{"$f":"AO9/(AQ4-AO10)","v":0.20833333333333334},{"$f":"IF(AP9=0,0,(AP9*((LOG(AP9))/LOG(2))))","v":-0.47146550121537367},null,{"$f":"N9","v":121},{"$f":"COUNTIF(L155:L184,AS9)","v":12},{"$f":"AT9/(AV4-AT10)","v":0.42857142857142855},{"$f":"IF(AU9=0,0,(AU9*((LOG(AU9))/LOG(2))))","v":-0.52388246628704915}]
[22,400,13,414,14,428,null,null,null,null,0,211,null,122,{"$f":"COUNTIF($L$7:$L$500,N10)","v":34},{"$f":"O10/$Q$4","v":0.19101123595505617},{"$f":"IF(P10=0,0,(P10*((LOG(P10))/LOG(2))))","v":-0.45618651713677522},null,null,{"$f":"N10","v":122},{"$f":"COUNTIF(L7:L36,T10)","v":8},null,null,null,{"$f":"N10","v":122},{"$f":"COUNTIF(L37:L65,Y10)","v":10},null,null,null,{"$f":"N10","v":122},{"$f":"COUNTIF(L66:L95,AD10)","v":6},null,null,null,{"$f":"N10","v":122},{"$f":"COUNTIF(L96:L125,AI10)","v":3},null,null,null,{"$f":"N10","v":122},{"$f":"COUNTIF(L126:L154,AN10)","v":5},null,null,null,{"$f":"N10","v":122},{"$f":"COUNTIF(L155:L184,AS10)","v":2}]
[22,524,13,532,23,549,null,null,null,null,0,212,null,211,{"$f":"COUNTIF($L$7:$L$500,N11)","v":5},{"$f":"O11/$Q$4","v":2.8089887640449437E-2},{"$f":"IF(P11=0,0,(P11*((LOG(P11))/LOG(2))))","v":-0.14476981281120885},null,null,{"$f":"N11","v":211},{"$f":"COUNTIF(L7:L36,T11)","v":1},{"$f":"U11/(W4-U10)","v":4.5454545454545456E-2},{"$f":"IF(V11=0,0,(V11*((LOG(V11))/LOG(2))))","v":-0.20270143721078623},null,{"$f":"N11","v":211},{"$f":"COUNTIF(L37:L65,Y11)","v":2},{"$f":"Z11/(AB4-Z10)","v":0.10526315789473684},{"$f":"IF(AA11=0,0,(AA11*((LOG(AA11))/LOG(2))))","v":-0.34188710667827216},null,{"$f":"N11","v":211},{"$f":"COUNTIF(L66:L95,AD11)","v":1},{"$f":"AE11/(AG4-AE10)","v":4.1666666666666664E-2},{"$f":"IF(AF11=0,0,(AF11*((LOG(AF11))/LOG(2))))","v":-0.19104010419671485},null,{"$f":"N11","v":211},{"$f":"COUNTIF(L96:L125,AI11)","v":0},{"$f":"AJ11/(AL4-AJ10)","v":0},{"$f":"IF(AK11=0,0,(AK11*((LOG(AK11))/LOG(2))))","v":0},null,{"$f":"N11","v":211},{"$f":"COUNTIF(L126:L154,AN11)","v":1},{"$f":"AO11/(AQ4-AO10)","v":4.1666666666666664E-2},{"$f":"IF(AP11=0,0,(AP11*((LOG(AP11))/LOG(2))))","v":-0.19104010419671485},null,{"$f":"N11","v":211},{"$f":"COUNTIF(L155:L184,AS11)","v":0},{"$f":"AT11/(AV4-AT10)","v":0},{"$f":"IF(AU11=0,0,(AU11*((LOG(AU11))/LOG(2))))","v":0}]
[11,664,22,672,14,690,null,null,null,null,0,121,null,212,{"$f":"COUNTIF($L$7:$L$500,N12)","v":29},{"$f":"O12/$Q$4","v":0.16292134831460675},{"$f":"IF(P12=0,0,(P12*((LOG(P12))/LOG(2))))","v":-0.42648775640070752},null,null,{"$f":"N12","v":212},{"$f":"COUNTIF(L7:L36,T12)","v":6},{"$f":"U12/(W4-U10)","v":0.27272727272727271},{"$f":"IF(V12=0,0,(V12*((LOG(V12))/LOG(2))))","v":-0.51121885034076575},null,{"$f":"N12","v":212},{"$f":"COUNTIF(L37:L65,Y12)","v":6},{"$f":"Z12/(AB4-Z10)","v":0.31578947368421051},{"$f":"IF(AA12=0,0,(AA12*((LOG(AA12))/LOG(2))))","v":-0.52514684612287243},null,{"$f":"N12","v":212},{"$f":"COUNTIF(L66:L95,AD12)","v":4},{"$f":"AE12/(AG4-AE10)","v":0.16666666666666666},{"$f":"IF(AF12=0,0,(AF12*((LOG(AF12))/LOG(2))))","v":-0.43082708345352599},null,{"$f":"N12","v":212},{"$f":"COUNTIF(L96:L125,AI12)","v":6},{"$f":"AJ12/(AL4-AJ10)","v":0.22222222222222221},{"$f":"IF(AK12=0,0,(AK12*((LOG(AK12))/LOG(2))))","v":-0.48220555587606945},null,{"$f":"N12","v":212},{"$f":"COUNTIF(L126:L154,AN12)","v":7},{"$f":"AO12/(AQ4-AO10)","v":0.29166666666666669},{"$f":"IF(AP12=0,0,(AP12*((LOG(AP12))/LOG(2))))","v":-0.51846887711020273},null,{"$f":"N12","v":212},{"$f":"COUNTIF(L155:L184,AS12)","v":0},{"$f":"AT12/(AV4-AT10)","v":0},{"$f":"IF(AU12=0,0,(AU12*((LOG(AU12))/LOG(2))))","v":0}]
[11,802,22,812,23,834,null,null,null,null,0,122,null,221,{"$f":"COUNTIF($L$7:$L$500,N13)","v":10},{"$f":"O13/$Q$4","v":5.6179775280898875E-2},{"$f":"IF(P13=0,0,(P13*((LOG(P13))/LOG(2))))","v":-0.23335985034151888},null,null,{"$f":"N13","v":221},{"$f":"COUNTIF(L7:L36,T13)","v":2},{"$f":"U13/(W4-U10)","v":9.0909090909090912E-2},{"$f":"IF(V13=0,0,(V13*((LOG(V13))/LOG(2))))","v":-0.31449378351248153},null,{"$f":"N13","v":221},{"$f":"COUNTIF(L37:L65,Y13)","v":0},{"$f":"Z13/(AB4-Z10)","v":0},{"$f":"IF(AA13=0,0,(AA13*((LOG(AA13))/LOG(2))))","v":0},null,{"$f":"N13","v":221},{"$f":"COUNTIF(L66:L95,AD13)","v":3},{"$f":"AE13/(AG4-AE10)","v":0.125},{"$f":"IF(AF13=0,0,(AF13*((LOG(AF13))/LOG(2))))","v":-0.375},null,{"$f":"N13","v":221},{"$f":"COUNTIF(L96:L125,AI13)","v":3},{"$f":"AJ13/(AL4-AJ10)","v":0.1111111111111111},{"$f":"IF(AK13=0,0,(AK13*((LOG(AK13))/LOG(2))))","v":-0.3522138890491458},null,{"$f":"N13","v":221},{"$f":"COUNTIF(L126:L154,AN13)","v":1},{"$f":"AO13/(AQ4-AO10)","v":4.1666666666666664E-2},{"$f":"IF(AP13=0,0,(AP13*((LOG(AP13))/LOG(2))))","v":-0.19104010419671485},null,{"$f":"N13","v":221},{"$f":"COUNTIF(L155:L184,AS13)","v":1},{"$f":"AT13/(AV4-AT10)","v":3.5714285714285712E-2},{"$f":"IF(AU13=0,0,(AU13*((LOG(AU13))/LOG(2))))","v":-0.17169124721634299}]
[11,934,22,942,23,957,null,null,null,null,0,122,null,222,{"$f":"COUNTIF($L$7:$L$500,N14)","v":10},{"$f":"O14/$Q$4","v":5.6179775280898875E-2},{"$f":"IF(P14=0,0,(P14*((LOG(P14))/LOG(2))))","v":-0.23335985034151888},null,null,{"$f":"N14","v":222},{"$f":"COUNTIF(L7:L36,T14)","v":1},{"$f":"U14/(W4-U10)","v":4.5454545454545456E-2},{"$f":"IF(V14=0,0,(V14*((LOG(V14))/LOG(2))))","v":-0.20270143721078623},null,{"$f":"N14","v":222},{"$f":"COUNTIF(L37:L65,Y14)","v":3},{"$f":"Z14/(AB4-Z10)","v":0.15789473684210525},{"$f":"IF(AA14=0,0,(AA14*((LOG(AA14))/LOG(2))))","v":-0.42046815990354147},null,{"$f":"N14","v":222},{"$f":"COUNTIF(L66:L95,AD14)","v":2},{"$f":"AE14/(AG4-AE10)","v":8.3333333333333329E-2},{"$f":"IF(AF14=0,0,(AF14*((LOG(AF14))/LOG(2))))","v":-0.29874687506009634},null,{"$f":"N14","v":222},{"$f":"COUNTIF(L96:L125,AI14)","v":3},{"$f":"AJ14/(AL4-AJ10)","v":0.1111111111111111},{"$f":"IF(AK14=0,0,(AK14*((LOG(AK14))/LOG(2))))","v":-0.3522138890491458},null,{"$f":"N14","v":222},{"$f":"COUNTIF(L126:L154,AN14)","v":1},{"$f":"AO14/(AQ4-AO10)","v":4.1666666666666664E-2},{"$f":"IF(AP14=0,0,(AP14*((LOG(AP14))/LOG(2))))","v":-0.19104010419671485},null,{"$f":"N14","v":222},{"$f":"COUNTIF(L155:L184,AS14)","v":0},{"$f":"AT14/(AV4-AT10)","v":0},{"$f":"IF(AU14=0,0,(AU14*((LOG(AU14))/LOG(2))))","v":0}]
[22,1075,13,1088,23,1096,null,null,null,null,0,212,null,null,null,{"$f":"SUM(P7:P14)","v":1},{"$f":"-SUM(Q7:Q14)","v":2.5790993896598478},null,null,null,null,{"$f":"SUM(V7:V14)","v":0.99999999999999989},{"$f":"-SUM(W7:W14)","v":2.2089873002588001},null,null,null,{"$f":"SUM(AA7:AA14)","v":1},{"$f":"-SUM(AB7:AB14)","v":2.2148122248598652},null,null,null,{"$f":"SUM(AF7:AF14)","v":1},{"$f":"-SUM(AG7:AG14)","v":2.3879185026711327},null,null,null,{"$f":"SUM(AK7:AK14)","v":1},{"$f":"-SUM(AL7:AL14)","v":2.3015974666994872},null,null,null,{"$f":"SUM(AP7:AP14)","v":1},{"$f":"-SUM(AQ7:AQ14)","v":2.2824156286861546},null,null,null,{"$f":"SUM(AU7:AU14)","v":0.99999999999999989},{"$f":"-SUM(AV7:AV14)","v":1.1779653169582593}]
[22,1204,13,1212,23,1221,null,null,null,null,0,212,null,null,null,"U=",{"$f":"Q15/(LOG(Q4)/LOG(2))","v":0.34499616839955249},null,null,null,null,"U1=",{"$f":"W15/(LOG(W4)/LOG(2))","v":0.45018067087857228},null,null,null,"U2=",{"$f":"AB15/(LOG(AB4)/LOG(2))","v":0.45591208098205077},null,null,null,"U3=",{"$f":"AG15/(LOG(AG4)/LOG(2))","v":0.4866459637001545},null,null,null,"U4=",{"$f":"AL15/(LOG(AL4)/LOG(2))","v":0.4690541641094117},null,null,null,"U5=",{"$f":"AQ15/(LOG(AQ4)/LOG(2))","v":0.46982802752323605},null,null,null,"U6=",{"$f":"AV15/(LOG(AV4)/LOG(2))","v":0.2400634972404915}]
[22,1327,13,1335,23,1343,null,null,null,null,0,212]
[11,1451,22,1476,23,1508,null,null,null,null,0,122]
[22,1620,13,1629,23,1651,null,null,null,null,0,212,null,"Total Target Seq"]
[11,1760,22,1769,14,1777,null,null,null,null,0,121,null,{"$f":"COUNTIF(L7:L184,G3)","v":34},null,30,29,30,30,29,30]
[11,1875,11,1892,21,1901,null,null,null,null,0,112,null,null,null,"% of reinforcement given in 6 equal intervals based on number of trials "]
[11,2017,22,2025,23,2039,null,null,null,null,0,122,null,null,null,"%_1","%_2","%_3","%_4","%_5","%_6"]
[11,2144,11,2162,21,2169,null,null,null,null,0,112,null,null,"target sequence",{"$f":"$G$3","v":122},{"$f":"$G$3","v":122},{"$f":"$G$3","v":122},{"$f":"$G$3","v":122},{"$f":"$G$3","v":122},{"$f":"$G$3","v":122}]
[11,2277,22,2286,23,2304,null,null,null,null,0,122,null,null,"total reinforcement",{"$f":"U10","v":8},{"$f":"Z10","v":10},{"$f":"AE10","v":6},{"$f":"AJ10","v":3},{"$f":"AO10","v":5},{"$f":"AT10","v":2}]
[11,2451,22,2475,23,2485,null,null,null,null,0,122,null,null,"% target"]
[11,2584,22,2593,14,2602,null,null,null,null,0,121,null,null,"CCRF"]
[11,2707,22,2727,14,2736,null,null,null,null,0,121,null,null,"% CCRf"]
[11,2836,22,2845,14,2858,null,null,null,null,0,121,null,null,"average response rate",{"$f":"F36/P20","v":128.69999999999999},{"$f":"(F65-F36)/Q20","v":129.37931034482759},{"$f":"(F95-F65)/R20","v":140.69999999999999},{"$f":"(F125-F95)/S20","v":142.80000000000001},{"$f":"(F154-F125)/T20","v":137.68965517241378},{"$f":"(F184-F154)/U20","v":127.43333333333334}]
[11,2960,22,2969,14,2978,null,null,null,null,0,121]
[11,3076,22,3085,14,3092,null,null,null,null,0,121]
[11,3187,22,3196,23,3205,null,null,null,null,0,122]
[22,3330,24,3349,23,3362,null,null,null,null,0,222]
[11,3460,22,3469,23,3482,null,null,null,null,0,122]
[22,3581,24,3601,14,3610,null,null,null,null,0,221]
[11,3711,11,3726,21,3736,null,null,null,null,0,112]
[11,3837,11,3853,21,3861,null,null,null,null,0,112]
[11,3949,11,3965,21,3974,null,null,null,null,0,112]
[11,4068,22,4084,14,4099,null,null,null,null,0,121]
[22,4202,13,4213,23,4222,null,null,null,null,0,212]
[22,4327,24,4345,23,4359,null,null,null,null,0,222]
[11,4457,22,4479,23,4491,null,null,null,null,0,122]
[11,4591,22,4602,23,4615,null,null,null,null,0,122]
[11,4723,22,4731,23,4750,null,null,null,null,0,122]
[22,4868,13,4877,23,4886,null,null,null,null,0,212]
[11,4983,22,4992,23,5006,null,null,null,null,0,122]
[11,5108,22,5118,23,5135,null,null,null,null,0,122]
[22,5236,13,5244,23,5252,null,null,null,null,0,212]
[11,5364,22,5373,23,5387,null,null,null,null,0,122]
[11,5493,11,5519,21,5527,null,null,null,null,0,112]
[22,5631,13,5640,23,5648,null,null,null,null,0,212]
[22,5747,13,5754,14,5770,null,null,null,null,0,211]
[11,5876,22,5893,23,5906,null,null,null,null,0,122]
[11,6011,22,6019,14,6031,null,null,null,null,0,121]
[22,6132,13,6140,14,6160,null,null,null,null,0,211]
[11,6262,22,6284,14,6296,null,null,null,null,0,121]
[11,6397,22,6413,23,6431,null,null,null,null,0,122]
[11,6534,22,6546,23,6559,null,null,null,null,0,122]
[22,6665,24,6678,23,6691,null,null,null,null,0,222]
[11,6789,11,6805,21,6813,null,null,null,null,0,112]
[22,6915,24,6931,23,6951,null,null,null,null,0,222]
[11,7049,22,7060,14,7071,null,null,null,null,0,121]
[22,7171,13,7179,23,7187,null,null,null,null,0,212]
[11,7291,22,7312,14,7325,null,null,null,null,0,121]
[22,7445,13,7457,23,7465,null,null,null,null,0,212]
[11,7594,22,7603,23,7613,null,null,null,null,0,122]
[11,7715,11,7731,21,7739,null,null,null,null,0,112]
[11,7848,22,7856,14,7864,null,null,null,null,0,121]
[11,7961,22,7978,23,7999,null,null,null,null,0,122]
[11,8106,22,8122,14,8129,null,null,null,null,0,121]
[22,8229,13,8236,23,8244,null,null,null,null,0,212]
[11,8356,11,8371,12,8393,null,null,null,null,0,111]
[11,8506,22,8518,14,8530,null,null,null,null,0,121]
[11,8639,11,8646,21,8656,null,null,null,null,0,112]
[22,8749,13,8757,14,8773,null,null,null,null,0,211]
[11,8885,22,8896,14,8909,null,null,null,null,0,121]
[22,9045,13,9059,23,9067,null,null,null,null,0,212]
[11,9171,22,9180,23,9193,null,null,null,null,0,122]
[22,9320,24,9342,23,9352,null,null,null,null,0,222]
[11,9463,22,9471,14,9482,null,null,null,null,0,121]
[11,9596,22,9605,23,9628,null,null,null,null,0,122]
[11,9737,22,9757,23,9769,null,null,null,null,0,122]
[22,9885,13,9894,23,9919,null,null,null,null,0,212]
[22,10045,24,10073,23,10106,null,null,null,null,0,222]
[22,10215,24,10228,14,10235,null,null,null,null,0,221]
[22,10359,24,10372,14,10387,null,null,null,null,0,221]
[11,10489,22,10500,14,10522,null,null,null,null,0,121]
[11,10621,22,10636,14,10645,null,null,null,null,0,121]
[11,10765,22,10773,23,10791,null,null,null,null,0,122]
[22,10924,13,10932,23,10943,null,null,null,null,0,212]
[11,11051,22,11093,14,11105,null,null,null,null,0,121]
[11,11269,11,11282,21,11293,null,null,null,null,0,112]
[11,11388,22,11408,14,11416,null,null,null,null,0,121]
[22,11557,24,11570,14,11578,null,null,null,null,0,221]
[11,11678,22,11689,14,11701,null,null,null,null,0,121]
[11,11802,22,11812,23,11834,null,null,null,null,0,122]
[11,11941,22,11956,14,11968,null,null,null,null,0,121]
[22,12078,13,12085,23,12115,null,null,null,null,0,212]
[22,12232,13,12240,23,12251,null,null,null,null,0,212]
[22,12369,24,12383,23,12397,null,null,null,null,0,222]
[22,12501,13,12546,23,12557,null,null,null,null,0,212]
[11,12655,22,12679,14,12687,null,null,null,null,0,121]
[22,12801,13,12809,23,12838,null,null,null,null,0,212]
[22,12957,24,12978,14,12995,null,null,null,null,0,221]
[22,13132,24,13150,23,13158,null,null,null,null,0,222]
[22,13275,13,13287,23,13295,null,null,null,null,0,212]
[22,13418,24,13434,23,13464,null,null,null,null,0,222]
[11,13571,22,13599,23,13617,null,null,null,null,0,122]
[22,13739,24,13752,14,13764,null,null,null,null,0,221]
[11,13863,22,13889,14,13897,null,null,null,null,0,121]
[11,14048,22,14058,14,14081,null,null,null,null,0,121]
[11,14183,22,14192,14,14200,null,null,null,null,0,121]
[11,14317,22,14329,14,14348,null,null,null,null,0,121]
[11,14449,22,14458,14,14469,null,null,null,null,0,121]
[11,14583,22,14594,23,14615,null,null,null,null,0,122]
[11,14722,11,14751,12,14774,null,null,null,null,0,111]
[11,14877,11,14892,21,14900,null,null,null,null,0,112]
[11,14997,11,15012,21,15025,null,null,null,null,0,112]
[11,15130,22,15138,23,15158,null,null,null,null,0,122]
[22,15272,24,15301,14,15317,null,null,null,null,0,221]
[11,15418,11,15433,21,15441,null,null,null,null,0,112]
[11,15561,22,15570,14,15594,null,null,null,null,0,121]
[11,15692,11,15712,21,15721,null,null,null,null,0,112]
[22,15820,13,15828,23,15865,null,null,null,null,0,212]
[11,15975,22,15983,14,15996,null,null,null,null,0,121]
[11,16095,22,16104,14,16118,null,null,null,null,0,121]
[11,16221,22,16232,23,16251,null,null,null,null,0,122]
[11,16349,22,16373,14,16381,null,null,null,null,0,121]
[11,16488,22,16512,14,16525,null,null,null,null,0,121]
[11,16625,11,16639,21,16648,null,null,null,null,0,112]
[22,16754,13,16762,23,16773,null,null,null,null,0,212]
[22,16873,24,16897,14,16909,null,null,null,null,0,221]
[11,17037,22,17059,23,17075,null,null,null,null,0,122]
[11,17180,22,17201,14,17219,null,null,null,null,0,121]
[22,17341,13,17348,23,17361,null,null,null,null,0,212]
[22,17493,13,17506,23,17534,null,null,null,null,0,212]
[22,17635,13,17643,23,17654,null,null,null,null,0,212]
[11,17770,22,17779,23,17799,null,null,null,null,0,122]
[11,17906,22,17928,14,17939,null,null,null,null,0,121]
[11,18046,11,18072,21,18081,null,null,null,null,0,112]
[22,18188,13,18208,23,18217,null,null,null,null,0,212]
[11,18329,22,18338,23,18356,null,null,null,null,0,122]
[22,18454,13,18466,23,18475,null,null,null,null,0,212]
[11,18578,11,18604,21,18615,null,null,null,null,0,112]
[11,18708,11,18716,21,18726,null,null,null,null,0,112]
[11,18819,11,18827,21,18836,null,null,null,null,0,112]
[11,18938,22,18947,23,18980,null,null,null,null,0,122]
[11,19088,22,19100,14,19111,null,null,null,null,0,121]
[22,19298,24,19315,23,19333,null,null,null,null,0,222]
[11,19432,11,19468,21,19477,null,null,null,null,0,112]
[22,19568,13,19577,14,19592,null,null,null,null,0,211]
[11,19703,11,19729,21,19739,null,null,null,null,0,112]
[11,19835,11,19849,12,19864,null,null,null,null,0,111]
[11,19963,11,19972,21,19981,null,null,null,null,0,112]
[22,20088,13,20102,23,20111,null,null,null,null,0,212]
[11,20240,22,20249,23,20272,null,null,null,null,0,122]
[11,20376,11,20390,21,20398,null,null,null,null,0,112]
[11,20492,11,20506,21,20515,null,null,null,null,0,112]
[11,20619,11,20639,21,20652,null,null,null,null,0,112]
[11,20741,11,20749,21,20766,null,null,null,null,0,112]
[11,20872,22,20881,14,20892,null,null,null,null,0,121]
[11,20990,11,20998,21,21010,null,null,null,null,0,112]
[11,21103,11,21111,21,21122,null,null,null,null,0,112]
[11,21216,22,21231,23,21259,null,null,null,null,0,122]
[11,21358,22,21379,14,21396,null,null,null,null,0,121]
[11,21494,11,21507,21,21519,null,null,null,null,0,112]
[22,21639,24,21649,14,21662,null,null,null,null,0,221]
[11,21773,22,21785,14,21796,null,null,null,null,0,121]
[11,21898,11,21912,21,21923,null,null,null,null,0,112]
[11,22014,11,22021,21,22033,null,null,null,null,0,112]
[11,22130,11,22137,21,22146,null,null,null,null,0,112]
[11,22251,22,22262,14,22280,null,null,null,null,0,121]
[11,22384,11,22392,21,22403,null,null,null,null,0,112]
[11,22506,11,22534,21,22544,null,null,null,null,0,112]
[11,22637,11,22649,21,22660,null,null,null,null,0,112]
[11,22752,11,22767,21,22777,null,null,null,null,0,112]
[11,22870,22,22878,14,22896,null,null,null,null,0,121]
[11,22999,22,23009,14,23019,null,null,null,null,0,121]
[11,23127,22,23138,14,23146,null,null,null,null,0,121]
[11,23255,22,23266,14,23291,null,null,null,null,0,121]
[11,23390,22,23401,14,23409,null,null,null,null,0,121]
[11,23535,22,23547,14,23563,null,null,null,null,0,121]
[11,23669,22,23679,14,23688,null,null,null,null,0,121]
[11,23793,22,23802,14,23810,null,null,null,null,0,121]
[11,23912,11,23919,21,23934,null,null,null,null,1,112]

{"sheet":"!2011-05-16_08h38m.Subject 52 p","index":14,"n_rows":125,"n_cols":48,"rows_kept":125,"cut":false,"hidden":false,"merged":[[4,39,4,42],[5,39,5,40],[4,44,4,47],[5,44,5,45],[4,24,4,27],[5,24,5,25],[4,29,4,32],[5,29,5,30],[4,34,4,37],[5,34,5,35],[1,1,1,2],[5,13,5,14],[18,13,18,14],[19,13,19,14],[4,19,4,22],[5,19,5,20]]}
["Report for:!2011-05-16_08h38m.Subject 52 phase 2"]
["Date","2011-05-16",null,null,null,"Group",0]
["Hen",0,null,null,null,"Correct Sequence",{"$f":"Start!J2","v":122},null,null,null,null,null,null,null,null,"Total Sequences in Data",{"$f":"4994-COUNTBLANK(L7:L5000)","v":119},null,null,null,null,"Total Sequences in Block Data",{"$f":"COUNTA(L7:L26)","v":20},null,null,null,"Total Sequences in Block Data",{"$f":"COUNTA(L27:L46)","v":20},null,null,null,"Total Sequences in Block Data",{"$f":"COUNTA(L47:L65)","v":19},null,null,null,"Total Sequences in Block Data",{"$f":"COUNTA(L66:L85)","v":20},null,null,null,"Total Sequences in Block Data",{"$f":"COUNTA(L86:L105)","v":20},null,null,null,"Total Sequences in Block Data",{"$f":"COUNTA(L106:L125)","v":20}]
["Program",0,null,null,null,null,null,null,null,null,null,null,null,null,null,"Total Sequences in Summary",{"$f":"SUM(O7:O14)","v":119},null,null,null,null,"Total Sequences in Block Summary",{"$f":"SUM(U7:U14)","v":20},null,null,null,"Total Sequences in Block Summary",{"$f":"SUM(Z7:Z14)","v":20},null,null,null,"Total Sequences in Block Summary",{"$f":"SUM(AE7:AE14)","v":19},null,null,null,"Total Sequences in Block Summary",{"$f":"SUM(AJ7:AJ14)","v":20},null,null,null,"Total Sequences in Block Summary",{"$f":"SUM(AO7:AO14)","v":20},null,null,null,"Total Sequences in Block Summary",{"$f":"SUM(AT7:AT14)","v":20}]
[null,null,null,null,null,null,null,null,null,null,null,null,null,null,null,null,null,null,null,"Block 1",null,null,null,null,"Block 2",null,null,null,null,"Block 3",null,null,null,null,"Block 4",null,null,null,null,"Block 5",null,null,null,null,"Block 6"]
["Sequence\nComponent\n1","Time\n1","Sequence\nComponent\n2","Time\n2","Sequence\nComponent\n3","Time\n3","Sequence\nComponent\n4","Time\n4","Sequence\nComponent\n5","Time\n5","Correct?\n0=No 1=Yes","Sequence",null,"Frequency",null,"Relative Frequency","Variability",null,null,"Frequency",null,"Relative Frequency","Variability",null,"Frequency",null,"Relative Frequency","Variability",null,"Frequency",null,"Relative Frequency","Variability",null,"Frequency",null,"Relative Frequency","Variability",null,"Frequency",null,"Relative Frequency","Variability",null,"Frequency",null,"Relative Frequency","Variability"]
[11,18,22,26,23,48,null,null,null,null,0,122,null,111,{"$f":"COUNTIF($L$7:$L$500,N7)","v":11},{"$f":"O7/$Q$4","v":9.2436974789915971E-2},{"$f":"IF(P7=0,0,(P7*((LOG(P7))/LOG(2))))","v":-0.31755670244854711},null,null,{"$f":"N7","v":111},{"$f":"COUNTIF(L7:L26,T7)","v":0},{"$f":"U7/(W4-U10)","v":0},{"$f":"IF(V7=0,0,(V7*((LOG(V7))/LOG(2))))","v":0},null,{"$f":"N7","v":111},{"$f":"COUNTIF(L27:L46,Y7)","v":0},{"$f":"Z7/(AB4-Z10)","v":0},{"$f":"IF(AA7=0,0,(AA7*((LOG(AA7))/LOG(2))))","v":0},null,{"$f":"N7","v":111},{"$f":"COUNTIF(L47:L65,AD7)","v":5},{"$f":"AE7/(AG4-AE10)","v":0.26315789473684209},{"$f":"IF(AF7=0,0,(AF7*((LOG(AF7))/LOG(2))))","v":-0.50684195225163764},null,{"$f":"N7","v":111},{"$f":"COUNTIF(L66:L85,AI7)","v":4},{"$f":"AJ7/(AL4-AJ10)","v":0.22222222222222221},{"$f":"IF(AK7=0,0,(AK7*((LOG(AK7))/LOG(2))))","v":-0.48220555587606945},null,{"$f":"N7","v":111},{"$f":"COUNTIF(L86:L105,AN7)","v":0},{"$f":"AO7/(AQ4-AO10)","v":0},{"$f":"IF(AP7=0,0,(AP7*((LOG(AP7))/LOG(2))))","v":0},null,{"$f":"N7","v":111},{"$f":"COUNTIF(L106:L125,AS7)","v":2},{"$f":"AT7/(AV4-AT10)","v":0.10526315789473684},{"$f":"IF(AU7=0,0,(AU7*((LOG(AU7))/LOG(2))))","v":-0.34188710667827216}]
[22,145,24,157,23,175,null,null,null,null,0,222,null,112,{"$f":"COUNTIF($L$7:$L$500,N8)","v":40},{"$f":"O8/$Q$4","v":0.33613445378151263},{"$f":"IF(P8=0,0,(P8*((LOG(P8))/LOG(2))))","v":-0.52870240955313652},null,null,{"$f":"N8","v":112},{"$f":"COUNTIF(L7:L26,T8)","v":4},{"$f":"U8/(W4-U10)","v":0.25},{"$f":"IF(V8=0,0,(V8*((LOG(V8))/LOG(2))))","v":-0.5},null,{"$f":"N8","v":112},{"$f":"COUNTIF(L27:L46,Y8)","v":6},{"$f":"Z8/(AB4-Z10)","v":0.35294117647058826},{"$f":"IF(AA8=0,0,(AA8*((LOG(AA8))/LOG(2))))","v":-0.53029423783382934},null,{"$f":"N8","v":112},{"$f":"COUNTIF(L47:L65,AD8)","v":9},{"$f":"AE8/(AG4-AE10)","v":0.47368421052631576},{"$f":"IF(AF8=0,0,(AF8*((LOG(AF8))/LOG(2))))","v":-0.51063276884270825},null,{"$f":"N8","v":112},{"$f":"COUNTIF(L66:L85,AI8)","v":10},{"$f":"AJ8/(AL4-AJ10)","v":0.55555555555555558},{"$f":"IF(AK8=0,0,(AK8*((LOG(AK8))/LOG(2))))","v":-0.4711093925305278},null,{"$f":"N8","v":112},{"$f":"COUNTIF(L86:L105,AN8)","v":4},{"$f":"AO8/(AQ4-AO10)","v":0.2},{"$f":"IF(AP8=0,0,(AP8*((LOG(AP8))/LOG(2))))","v":-0.46438561897747244},null,{"$f":"N8","v":112},{"$f":"COUNTIF(L106:L125,AS8)","v":7},{"$f":"AT8/(AV4-AT10)","v":0.36842105263157893},{"$f":"IF(AU8=0,0,(AU8*((LOG(AU8))/LOG(2))))","v":-0.53073727051062469}]
[22,274,24,288,23,306,null,null,null,null,0,222,null,121,{"$f":"COUNTIF($L$7:$L$500,N9)","v":36},{"$f":"O9/$Q$4","v":0.30252100840336132},{"$f":"IF(P9=0,0,(P9*((LOG(P9))/LOG(2))))","v":-0.5218162977072498},null,null,{"$f":"N9","v":121},{"$f":"COUNTIF(L7:L26,T9)","v":5},{"$f":"U9/(W4-U10)","v":0.3125},{"$f":"IF(V9=0,0,(V9*((LOG(V9))/LOG(2))))","v":-0.52439747034769923},null,{"$f":"N9","v":121},{"$f":"COUNTIF(L27:L46,Y9)","v":6},{"$f":"Z9/(AB4-Z10)","v":0.35294117647058826},{"$f":"IF(AA9=0,0,(AA9*((LOG(AA9))/LOG(2))))","v":-0.53029423783382934},null,{"$f":"N9","v":121},{"$f":"COUNTIF(L47:L65,AD9)","v":4},{"$f":"AE9/(AG4-AE10)","v":0.21052631578947367},{"$f":"IF(AF9=0,0,(AF9*((LOG(AF9))/LOG(2))))","v":-0.47324789756707064},null,{"$f":"N9","v":121},{"$f":"COUNTIF(L66:L85,AI9)","v":4},{"$f":"AJ9/(AL4-AJ10)","v":0.22222222222222221},{"$f":"IF(AK9=0,0,(AK9*((LOG(AK9))/LOG(2))))","v":-0.48220555587606945},null,{"$f":"N9","v":121},{"$f":"COUNTIF(L86:L105,AN9)","v":12},{"$f":"AO9/(AQ4-AO10)","v":0.6},{"$f":"IF(AP9=0,0,(AP9*((LOG(AP9))/LOG(2))))","v":-0.44217935649972373},null,{"$f":"N9","v":121},{"$f":"COUNTIF(L106:L125,AS9)","v":5},{"$f":"AT9/(AV4-AT10)","v":0.26315789473684209},{"$f":"IF(AU9=0,0,(AU9*((LOG(AU9))/LOG(2))))","v":-0.50684195225163764}]
[11,415,22,448,14,461,null,null,null,null,0,121,null,122,{"$f":"COUNTIF($L$7:$L$500,N10)","v":10},{"$f":"O10/$Q$4","v":8.4033613445378158E-2},{"$f":"IF(P10=0,0,(P10*((LOG(P10))/LOG(2))))","v":-0.30024282927904045},null,null,{"$f":"N10","v":122},{"$f":"COUNTIF(L7:L26,T10)","v":4},null,null,null,{"$f":"N10","v":122},{"$f":"COUNTIF(L27:L46,Y10)","v":3},null,null,null,{"$f":"N10","v":122},{"$f":"COUNTIF(L47:L65,AD10)","v":0},null,null,null,{"$f":"N10","v":122},{"$f":"COUNTIF(L66:L85,AI10)","v":2},null,null,null,{"$f":"N10","v":122},{"$f":"COUNTIF(L86:L105,AN10)","v":0},null,null,null,{"$f":"N10","v":122},{"$f":"COUNTIF(L106:L125,AS10)","v":1}]
[11,559,22,568,23,586,null,null,null,null,0,122,null,211,{"$f":"COUNTIF($L$7:$L$500,N11)","v":1},{"$f":"O11/$Q$4","v":8.4033613445378148E-3},{"$f":"IF(P11=0,0,(P11*((LOG(P11))/LOG(2))))","v":-5.7939645069814645E-2},null,null,{"$f":"N11","v":211},{"$f":"COUNTIF(L7:L26,T11)","v":0},{"$f":"U11/(W4-U10)","v":0},{"$f":"IF(V11=0,0,(V11*((LOG(V11))/LOG(2))))","v":0},null,{"$f":"N11","v":211},{"$f":"COUNTIF(L27:L46,Y11)","v":0},{"$f":"Z11/(AB4-Z10)","v":0},{"$f":"IF(AA11=0,0,(AA11*((LOG(AA11))/LOG(2))))","v":0},null,{"$f":"N11","v":211},{"$f":"COUNTIF(L47:L65,AD11)","v":0},{"$f":"AE11/(AG4-AE10)","v":0},{"$f":"IF(AF11=0,0,(AF11*((LOG(AF11))/LOG(2))))","v":0},null,{"$f":"N11","v":211},{"$f":"COUNTIF(L66:L85,AI11)","v":0},{"$f":"AJ11/(AL4-AJ10)","v":0},{"$f":"IF(AK11=0,0,(AK11*((LOG(AK11))/LOG(2))))","v":0},null,{"$f":"N11","v":211},{"$f":"COUNTIF(L86:L105,AN11)","v":0},{"$f":"AO11/(AQ4-AO10)","v":0},{"$f":"IF(AP11=0,0,(AP11*((LOG(AP11))/LOG(2))))","v":0},null,{"$f":"N11","v":211},{"$f":"COUNTIF(L106:L125,AS11)","v":1},{"$f":"AT11/(AV4-AT10)","v":5.2631578947368418E-2},{"$f":"IF(AU11=0,0,(AU11*((LOG(AU11))/LOG(2))))","v":-0.22357513228650452}]
[22,698,13,712,23,721,null,null,null,null,0,212,null,212,{"$f":"COUNTIF($L$7:$L$500,N12)","v":16},{"$f":"O12/$Q$4","v":0.13445378151260504},{"$f":"IF(P12=0,0,(P12*((LOG(P12))/LOG(2))))","v":-0.38921919506661429},null,null,{"$f":"N12","v":212},{"$f":"COUNTIF(L7:L26,T12)","v":4},{"$f":"U12/(W4-U10)","v":0.25},{"$f":"IF(V12=0,0,(V12*((LOG(V12))/LOG(2))))","v":-0.5},null,{"$f":"N12","v":212},{"$f":"COUNTIF(L27:L46,Y12)","v":4},{"$f":"Z12/(AB4-Z10)","v":0.23529411764705882},{"$f":"IF(AA12=0,0,(AA12*((LOG(AA12))/LOG(2))))","v":-0.49116772735302094},null,{"$f":"N12","v":212},{"$f":"COUNTIF(L47:L65,AD12)","v":1},{"$f":"AE12/(AG4-AE10)","v":5.2631578947368418E-2},{"$f":"IF(AF12=0,0,(AF12*((LOG(AF12))/LOG(2))))","v":-0.22357513228650452},null,{"$f":"N12","v":212},{"$f":"COUNTIF(L66:L85,AI12)","v":0},{"$f":"AJ12/(AL4-AJ10)","v":0},{"$f":"IF(AK12=0,0,(AK12*((LOG(AK12))/LOG(2))))","v":0},null,{"$f":"N12","v":212},{"$f":"COUNTIF(L86:L105,AN12)","v":3},{"$f":"AO12/(AQ4-AO10)","v":0.15},{"$f":"IF(AP12=0,0,(AP12*((LOG(AP12))/LOG(2))))","v":-0.41054483912493089},null,{"$f":"N12","v":212},{"$f":"COUNTIF(L106:L125,AS12)","v":4},{"$f":"AT12/(AV4-AT10)","v":0.21052631578947367},{"$f":"IF(AU12=0,0,(AU12*((LOG(AU12))/LOG(2))))","v":-0.47324789756707064}]
[11,835,22,843,14,865,null,null,null,null,0,121,null,221,{"$f":"COUNTIF($L$7:$L$500,N13)","v":2},{"$f":"O13/$Q$4","v":1.680672268907563E-2},{"$f":"IF(P13=0,0,(P13*((LOG(P13))/LOG(2))))","v":-9.9072567450553678E-2},null,null,{"$f":"N13","v":221},{"$f":"COUNTIF(L7:L26,T13)","v":1},{"$f":"U13/(W4-U10)","v":6.25E-2},{"$f":"IF(V13=0,0,(V13*((LOG(V13))/LOG(2))))","v":-0.25},null,{"$f":"N13","v":221},{"$f":"COUNTIF(L27:L46,Y13)","v":1},{"$f":"Z13/(AB4-Z10)","v":5.8823529411764705E-2},{"$f":"IF(AA13=0,0,(AA13*((LOG(AA13))/LOG(2))))","v":-0.24043899066178465},null,{"$f":"N13","v":221},{"$f":"COUNTIF(L47:L65,AD13)","v":0},{"$f":"AE13/(AG4-AE10)","v":0},{"$f":"IF(AF13=0,0,(AF13*((LOG(AF13))/LOG(2))))","v":0},null,{"$f":"N13","v":221},{"$f":"COUNTIF(L66:L85,AI13)","v":0},{"$f":"AJ13/(AL4-AJ10)","v":0},{"$f":"IF(AK13=0,0,(AK13*((LOG(AK13))/LOG(2))))","v":0},null,{"$f":"N13","v":221},{"$f":"COUNTIF(L86:L105,AN13)","v":0},{"$f":"AO13/(AQ4-AO10)","v":0},{"$f":"IF(AP13=0,0,(AP13*((LOG(AP13))/LOG(2))))","v":0},null,{"$f":"N13","v":221},{"$f":"COUNTIF(L106:L125,AS13)","v":0},{"$f":"AT13/(AV4-AT10)","v":0},{"$f":"IF(AU13=0,0,(AU13*((LOG(AU13))/LOG(2))))","v":0}]
[11,967,22,975,14,989,null,null,null,null,0,121,null,222,{"$f":"COUNTIF($L$7:$L$500,N14)","v":3},{"$f":"O14/$Q$4","v":2.5210084033613446E-2},{"$f":"IF(P14=0,0,(P14*((LOG(P14))/LOG(2))))","v":-0.13386189737613749},null,null,{"$f":"N14","v":222},{"$f":"COUNTIF(L7:L26,T14)","v":2},{"$f":"U14/(W4-U10)","v":0.125},{"$f":"IF(V14=0,0,(V14*((LOG(V14))/LOG(2))))","v":-0.375},null,{"$f":"N14","v":222},{"$f":"COUNTIF(L27:L46,Y14)","v":0},{"$f":"Z14/(AB4-Z10)","v":0},{"$f":"IF(AA14=0,0,(AA14*((LOG(AA14))/LOG(2))))","v":0},null,{"$f":"N14","v":222},{"$f":"COUNTIF(L47:L65,AD14)","v":0},{"$f":"AE14/(AG4-AE10)","v":0},{"$f":"IF(AF14=0,0,(AF14*((LOG(AF14))/LOG(2))))","v":0},null,{"$f":"N14","v":222},{"$f":"COUNTIF(L66:L85,AI14)","v":0},{"$f":"AJ14/(AL4-AJ10)","v":0},{"$f":"IF(AK14=0,0,(AK14*((LOG(AK14))/LOG(2))))","v":0},null,{"$f":"N14","v":222},{"$f":"COUNTIF(L86:L105,AN14)","v":1},{"$f":"AO14/(AQ4-AO10)","v":0.05},{"$f":"IF(AP14=0,0,(AP14*((LOG(AP14))/LOG(2))))","v":-0.21609640474436814},null,{"$f":"N14","v":222},{"$f":"COUNTIF(L106:L125,AS14)","v":0},{"$f":"AT14/(AV4-AT10)","v":0},{"$f":"IF(AU14=0,0,(AU14*((LOG(AU14))/LOG(2))))","v":0}]
[22,1091,13,1101,23,1110,null,null,null,null,0,212,null,null,null,{"$f":"SUM(P7:P14)","v":1},{"$f":"-SUM(Q7:Q14)","v":2.348411543951094},null,null,null,null,{"$f":"SUM(V7:V14)","v":1},{"$f":"-SUM(W7:W14)","v":2.149397470347699},null,null,null,{"$f":"SUM(AA7:AA14)","v":1},{"$f":"-SUM(AB7:AB14)","v":1.7921951936824643},null,null,null,{"$f":"SUM(AF7:AF14)","v":1},{"$f":"-SUM(AG7:AG14)","v":1.7142977509479211},null,null,null,{"$f":"SUM(AK7:AK14)","v":1},{"$f":"-SUM(AL7:AL14)","v":1.4355205042826666},null,null,null,{"$f":"SUM(AP7:AP14)","v":1},{"$f":"-SUM(AQ7:AQ14)","v":1.533206219346495},null,null,null,{"$f":"SUM(AU7:AU14)","v":1},{"$f":"-SUM(AV7:AV14)","v":2.0762893592941096}]
[11,1209,11,1229,21,1241,null,null,null,null,0,112,null,null,null,"U=",{"$f":"Q15/(LOG(Q4)/LOG(2))","v":0.34060531033156577},null,null,null,null,"U1=",{"$f":"W15/(LOG(W4)/LOG(2))","v":0.49732374605915702},null,null,null,"U2=",{"$f":"AB15/(LOG(AB4)/LOG(2))","v":0.41467492154775709},null,null,null,"U3=",{"$f":"AG15/(LOG(AG4)/LOG(2))","v":0.40356097073752195},null,null,null,"U4=",{"$f":"AL15/(LOG(AL4)/LOG(2))","v":0.33214816923511981},null,null,null,"U5=",{"$f":"AQ15/(LOG(AQ4)/LOG(2))","v":0.35475051543782177},null,null,null,"U6=",{"$f":"AV15/(LOG(AV4)/LOG(2))","v":0.48040812195609228}]
[22,1345,13,1354,23,1363,null,null,null,null,0,212]
[11,1462,11,1470,21,1479,null,null,null,null,0,112]
[22,1583,24,1592,14,1600,null,null,null,null,0,221,null,"Total Target Seq"]
[11,1692,11,1705,21,1715,null,null,null,null,0,112,null,{"$f":"COUNTIF(L7:L125,G3)","v":10},null,20,20,19,20,20,20]
[11,1807,22,1816,14,1826,null,null,null,null,0,121,null,null,null,"% of reinforcement given in 6 equal intervals based on number of trials "]
[11,1931,11,1938,21,1949,null,null,null,null,0,112,null,null,null,"%_1","%_2","%_3","%_4","%_5","%_6"]
[11,2042,22,2053,23,2073,null,null,null,null,0,122,null,null,"target sequence",{"$f":"$G$3","v":122},{"$f":"$G$3","v":122},{"$f":"$G$3","v":122},{"$f":"$G$3","v":122},{"$f":"$G$3","v":122},{"$f":"$G$3","v":122}]
[22,2180,13,2191,23,2202,null,null,null,null,0,212,null,null,"total reinforcement",{"$f":"U10","v":4},{"$f":"Z10","v":3},{"$f":"AE10","v":0},{"$f":"AJ10","v":2},{"$f":"AO10","v":0},{"$f":"AT10","v":1}]
[11,2310,22,2318,23,2326,null,null,null,null,0,122,null,null,"% target"]
[11,2425,22,2435,14,2447,null,null,null,null,0,121,null,null,"CCRF"]
[11,2548,22,2565,14,2578,null,null,null,null,0,121,null,null,"% CCRf"]
[11,2710,22,2719,14,2733,null,null,null,null,0,121,null,null,"average response rate",{"$f":"F26/P20","v":122.35},{"$f":"(F46-F26)/Q20","v":127.1},{"$f":"(F65-F46)/R20","v":118.42105263157895},{"$f":"(F85-F65)/S20","v":115.75},{"$f":"(F105-F85)/T20","v":126.25},{"$f":"(F125-F105)/U20","v":119.2}]
[22,2831,13,2836,23,2844,null,null,null,null,0,212]
[11,2945,22,2954,14,2961,null,null,null,null,0,121]
[11,3059,22,3073,14,3084,null,null,null,null,0,121]
[22,3191,13,3200,23,3209,null,null,null,null,0,212]
[11,3311,22,3320,14,3332,null,null,null,null,0,121]
[22,3450,13,3463,23,3474,null,null,null,null,0,212]
[11,3577,11,3592,21,3600,null,null,null,null,0,112]
[11,3696,22,3705,23,3723,null,null,null,null,0,122]
[22,3841,13,3867,23,3876,null,null,null,null,0,212]
[11,3982,22,3992,14,4003,null,null,null,null,0,121]
[11,4115,22,4123,23,4144,null,null,null,null,0,122]
[22,4267,24,4284,14,4292,null,null,null,null,0,221]
[11,4395,11,4410,21,4419,null,null,null,null,0,112]
[11,4520,22,4531,23,4549,null,null,null,null,0,122]
[11,4644,11,4651,21,4660,null,null,null,null,0,112]
[11,4755,11,4762,21,4771,null,null,null,null,0,112]
[11,4861,11,4868,21,4878,null,null,null,null,0,112]
[11,4968,11,4974,21,4989,null,null,null,null,0,112]
[11,5088,11,5099,12,5117,null,null,null,null,0,111]
[11,5214,11,5219,21,5229,null,null,null,null,0,112]
[22,5336,13,5343,23,5352,null,null,null,null,0,212]
[11,5458,22,5469,14,5477,null,null,null,null,0,121]
[11,5572,11,5576,12,5591,null,null,null,null,0,111]
[11,5724,22,5735,14,5744,null,null,null,null,0,121]
[11,5844,11,5851,21,5862,null,null,null,null,0,112]
[11,5954,11,5964,21,5975,null,null,null,null,0,112]
[11,6068,11,6076,21,6086,null,null,null,null,0,112]
[11,6176,11,6182,21,6193,null,null,null,null,0,112]
[11,6280,11,6284,12,6290,null,null,null,null,0,111]
[11,6387,11,6395,21,6406,null,null,null,null,0,112]
[11,6498,11,6504,12,6518,null,null,null,null,0,111]
[11,6632,22,6642,14,6655,null,null,null,null,0,121]
[11,6752,11,6757,12,6768,null,null,null,null,0,111]
[11,6875,22,6887,14,6899,null,null,null,null,0,121]
[11,6999,11,7006,21,7018,null,null,null,null,0,112]
[11,7109,11,7116,21,7127,null,null,null,null,0,112]
[11,7221,11,7228,21,7239,null,null,null,null,0,112]
[11,7335,11,7340,21,7351,null,null,null,null,0,112]
[11,7445,11,7451,21,7461,null,null,null,null,0,112]
[11,7554,11,7559,21,7568,null,null,null,null,0,112]
[11,7666,11,7672,21,7682,null,null,null,null,0,112]
[11,7772,11,7777,12,7781,null,null,null,null,0,111]
[11,7872,11,7878,12,7885,null,null,null,null,0,111]
[11,7994,22,8005,23,8029,null,null,null,null,0,122]
[11,8138,22,8146,14,8158,null,null,null,null,0,121]
[11,8257,11,8264,21,8273,null,null,null,null,0,112]
[11,8364,11,8370,21,8381,null,null,null,null,0,112]
[11,8471,11,8478,21,8491,null,null,null,null,0,112]
[11,8587,22,8598,14,8611,null,null,null,null,0,121]
[11,8713,11,8718,21,8729,null,null,null,null,0,112]
[11,8820,11,8828,21,8836,null,null,null,null,0,112]
[11,8926,22,8934,14,8957,null,null,null,null,0,121]
[11,9055,11,9059,12,9066,null,null,null,null,0,111]
[11,9173,22,9182,23,9203,null,null,null,null,0,122]
[11,9308,11,9316,21,9326,null,null,null,null,0,112]
[11,9417,22,9428,14,9440,null,null,null,null,0,121]
[11,9537,11,9542,12,9554,null,null,null,null,0,111]
[11,9654,22,9665,14,9677,null,null,null,null,0,121]
[11,9815,22,9827,14,9863,null,null,null,null,0,121]
[11,9960,22,9971,14,9983,null,null,null,null,0,121]
[11,10084,22,10094,14,10106,null,null,null,null,0,121]
[11,10206,22,10218,14,10228,null,null,null,null,0,121]
[11,10337,11,10342,21,10352,null,null,null,null,0,112]
[22,10466,13,10478,23,10489,null,null,null,null,0,212]
[11,10592,22,10603,14,10627,null,null,null,null,0,121]
[11,10729,22,10739,14,10750,null,null,null,null,0,121]
[22,10861,24,10882,23,10900,null,null,null,null,0,222]
[11,10997,11,11001,21,11016,null,null,null,null,0,112]
[11,11109,11,11114,21,11125,null,null,null,null,0,112]
[11,11220,22,11228,14,11238,null,null,null,null,0,121]
[11,11338,22,11348,14,11356,null,null,null,null,0,121]
[22,11452,13,11461,23,11469,null,null,null,null,0,212]
[11,11566,22,11575,14,11582,null,null,null,null,0,121]
[22,11689,13,11697,23,11705,null,null,null,null,0,212]
[11,11816,22,11825,14,11838,null,null,null,null,0,121]
[11,11939,11,11948,21,11957,null,null,null,null,0,112]
[11,12048,22,12068,14,12079,null,null,null,null,0,121]
[11,12178,11,12182,12,12189,null,null,null,null,0,111]
[22,12285,13,12292,23,12301,null,null,null,null,0,212]
[11,12395,11,12403,21,12411,null,null,null,null,0,112]
[11,12503,22,12511,14,12523,null,null,null,null,0,121]
[11,12623,22,12632,23,12650,null,null,null,null,0,122]
[22,12753,13,12760,23,12770,null,null,null,null,0,212]
[11,12866,11,12878,21,12889,null,null,null,null,0,112]
[11,12980,11,12984,21,12993,null,null,null,null,0,112]
[11,13088,11,13096,21,13105,null,null,null,null,0,112]
[11,13205,22,13214,14,13225,null,null,null,null,0,121]
[11,13323,22,13332,14,13345,null,null,null,null,0,121]
[11,13447,22,13458,14,13492,null,null,null,null,0,121]
[22,13588,13,13596,23,13606,null,null,null,null,0,212]
[11,13706,11,13721,21,13729,null,null,null,null,0,112]
[11,13825,22,13853,14,13865,null,null,null,null,0,121]
[11,13963,11,13967,12,13986,null,null,null,null,0,111]
[22,14084,13,14091,14,14107,null,null,null,null,0,211]
[22,14205,13,14212,23,14222,null,null,null,null,0,212]
[11,14321,11,14335,21,14350,null,null,null,null,0,112]
[11,14446,11,14453,21,14463,null,null,null,null,1,112]

{"sheet":"!2011-05-17_09h27m.Subject 52 p","index":15,"n_rows":104,"n_cols":48,"rows_kept":104,"cut":false,"hidden":false,"merged":[[4,39,4,42],[5,39,5,40],[4,44,4,47],[5,44,5,45],[4,24,4,27],[5,24,5,25],[4,29,4,32],[5,29,5,30],[4,34,4,37],[5,34,5,35],[1,1,1,2],[5,13,5,14],[18,13,18,14],[19,13,19,14],[4,19,4,22],[5,19,5,20]]}
["Report for:!2011-05-17_09h27m.Subject 52 phase 2"]
["Date","2011-05-17",null,null,null,"Group",0]
["Hen",0,null,null,null,"Correct Sequence",{"$f":"Start!J2","v":122},null,null,null,null,null,null,null,null,"Total Sequences in Data",{"$f":"4994-COUNTBLANK(L7:L5000)","v":98},null,null,null,null,"Total Sequences in Block Data",{"$f":"COUNTA(L7:L22)","v":16},null,null,null,"Total Sequences in Block Data",{"$f":"COUNTA(L23:L39)","v":17},null,null,null,"Total Sequences in Block Data",{"$f":"COUNTA(L40:L55)","v":16},null,null,null,"Total Sequences in Block Data",{"$f":"COUNTA(L56:L71)","v":16},null,null,null,"Total Sequences in Block Data",{"$f":"COUNTA(L72:L88)","v":17},null,null,null,"Total Sequences in Block Data",{"$f":"COUNTA(L89:L104)","v":16}]
["Program",0,null,null,null,null,null,null,null,null,null,null,null,null,null,"Total Sequences in Summary",{"$f":"SUM(O7:O14)","v":98},null,null,null,null,"Total Sequences in Block Summary",{"$f":"SUM(U7:U14)","v":16},null,null,null,"Total Sequences in Block Summary",{"$f":"SUM(Z7:Z14)","v":17},null,null,null,"Total Sequences in Block Summary",{"$f":"SUM(AE7:AE14)","v":16},null,null,null,"Total Sequences in Block Summary",{"$f":"SUM(AJ7:AJ14)","v":16},null,null,null,"Total Sequences in Block Summary",{"$f":"SUM(AO7:AO14)","v":17},null,null,null,"Total Sequences in Block Summary",{"$f":"SUM(AT7:AT14)","v":16}]
[null,null,null,null,null,null,null,null,null,null,null,null,null,null,null,null,null,null,null,"Block 1",null,null,null,null,"Block 2",null,null,null,null,"Block 3",null,null,null,null,"Block 4",null,null,null,null,"Block 5",null,null,null,null,"Block 6"]
["Sequence\nComponent\n1","Time\n1","Sequence\nComponent\n2","Time\n2","Sequence\nComponent\n3","Time\n3","Sequence\nComponent\n4","Time\n4","Sequence\nComponent\n5","Time\n5","Correct?\n0=No 1=Yes","Sequence",null,"Frequency",null,"Relative Frequency","Variability",null,null,"Frequency",null,"Relative Frequency","Variability",null,"Frequency",null,"Relative Frequency","Variability",null,"Frequency",null,"Relative Frequency","Variability",null,"Frequency",null,"Relative Frequency","Variability",null,"Frequency",null,"Relative Frequency","Variability",null,"Frequency",null,"Relative Frequency","Variability"]
[11,11,22,18,14,25,null,null,null,null,0,121,null,111,{"$f":"COUNTIF($L$7:$L$500,N7)","v":11},{"$f":"O7/$Q$4","v":0.11224489795918367},{"$f":"IF(P7=0,0,(P7*((LOG(P7))/LOG(2))))","v":-0.35416388245160224},null,null,{"$f":"N7","v":111},{"$f":"COUNTIF(L7:L22,T7)","v":1},{"$f":"U7/(W4-U10)","v":7.1428571428571425E-2},{"$f":"IF(V7=0,0,(V7*((LOG(V7))/LOG(2))))","v":-0.27195392300411453},null,{"$f":"N7","v":111},{"$f":"COUNTIF(L23:L39,Y7)","v":2},{"$f":"Z7/(AB4-Z10)","v":0.125},{"$f":"IF(AA7=0,0,(AA7*((LOG(AA7))/LOG(2))))","v":-0.375},null,{"$f":"N7","v":111},{"$f":"COUNTIF(L40:L55,AD7)","v":0},{"$f":"AE7/(AG4-AE10)","v":0},{"$f":"IF(AF7=0,0,(AF7*((LOG(AF7))/LOG(2))))","v":0},null,{"$f":"N7","v":111},{"$f":"COUNTIF(L56:L71,AI7)","v":1},{"$f":"AJ7/(AL4-AJ10)","v":7.6923076923076927E-2},{"$f":"IF(AK7=0,0,(AK7*((LOG(AK7))/LOG(2))))","v":-0.28464920908777636},null,{"$f":"N7","v":111},{"$f":"COUNTIF(L72:L88,AN7)","v":4},{"$f":"AO7/(AQ4-AO10)","v":0.2857142857142857},{"$f":"IF(AP7=0,0,(AP7*((LOG(AP7))/LOG(2))))","v":-0.51638712058788683},null,{"$f":"N7","v":111},{"$f":"COUNTIF(L89:L104,AS7)","v":3},{"$f":"AT7/(AV4-AT10)","v":0.21428571428571427},{"$f":"IF(AU7=0,0,(AU7*((LOG(AU7))/LOG(2))))","v":-0.47622694742923877}]
[11,124,11,132,21,140,null,null,null,null,0,112,null,112,{"$f":"COUNTIF($L$7:$L$500,N8)","v":40},{"$f":"O8/$Q$4","v":0.40816326530612246},{"$f":"IF(P8=0,0,(P8*((LOG(P8))/LOG(2))))","v":-0.52766602009299834},null,null,{"$f":"N8","v":112},{"$f":"COUNTIF(L7:L22,T8)","v":4},{"$f":"U8/(W4-U10)","v":0.2857142857142857},{"$f":"IF(V8=0,0,(V8*((LOG(V8))/LOG(2))))","v":-0.51638712058788683},null,{"$f":"N8","v":112},{"$f":"COUNTIF(L23:L39,Y8)","v":6},{"$f":"Z8/(AB4-Z10)","v":0.375},{"$f":"IF(AA8=0,0,(AA8*((LOG(AA8))/LOG(2))))","v":-0.53063906222956647},null,{"$f":"N8","v":112},{"$f":"COUNTIF(L40:L55,AD8)","v":10},{"$f":"AE8/(AG4-AE10)","v":0.7142857142857143},{"$f":"IF(AF8=0,0,(AF8*((LOG(AF8))/LOG(2))))","v":-0.34673344797874411},null,{"$f":"N8","v":112},{"$f":"COUNTIF(L56:L71,AI8)","v":7},{"$f":"AJ8/(AL4-AJ10)","v":0.53846153846153844},{"$f":"IF(AK8=0,0,(AK8*((LOG(AK8))/LOG(2))))","v":-0.48089181327572433},null,{"$f":"N8","v":112},{"$f":"COUNTIF(L72:L88,AN8)","v":6},{"$f":"AO8/(AQ4-AO10)","v":0.42857142857142855},{"$f":"IF(AP8=0,0,(AP8*((LOG(AP8))/LOG(2))))","v":-0.52388246628704915},null,{"$f":"N8","v":112},{"$f":"COUNTIF(L89:L104,AS8)","v":7},{"$f":"AT8/(AV4-AT10)","v":0.5},{"$f":"IF(AU8=0,0,(AU8*((LOG(AU8))/LOG(2))))","v":-0.5}]
[11,233,22,241,14,252,null,null,null,null,0,121,null,121,{"$f":"COUNTIF($L$7:$L$500,N9)","v":26},{"$f":"O9/$Q$4","v":0.26530612244897961},{"$f":"IF(P9=0,0,(P9*((LOG(P9))/LOG(2))))","v":-0.50786758444211244},null,null,{"$f":"N9","v":121},{"$f":"COUNTIF(L7:L22,T9)","v":9},{"$f":"U9/(W4-U10)","v":0.6428571428571429},{"$f":"IF(V9=0,0,(V9*((LOG(V9))/LOG(2))))","v":-0.40977637753840174},null,{"$f":"N9","v":121},{"$f":"COUNTIF(L23:L39,Y9)","v":4},{"$f":"Z9/(AB4-Z10)","v":0.25},{"$f":"IF(AA9=0,0,(AA9*((LOG(AA9))/LOG(2))))","v":-0.5},null,{"$f":"N9","v":121},{"$f":"COUNTIF(L40:L55,AD9)","v":3},{"$f":"AE9/(AG4-AE10)","v":0.21428571428571427},{"$f":"IF(AF9=0,0,(AF9*((LOG(AF9))/LOG(2))))","v":-0.47622694742923877},null,{"$f":"N9","v":121},{"$f":"COUNTIF(L56:L71,AI9)","v":4},{"$f":"AJ9/(AL4-AJ10)","v":0.30769230769230771},{"$f":"IF(AK9=0,0,(AK9*((LOG(AK9))/LOG(2))))","v":-0.52321222096648989},null,{"$f":"N9","v":121},{"$f":"COUNTIF(L72:L88,AN9)","v":3},{"$f":"AO9/(AQ4-AO10)","v":0.21428571428571427},{"$f":"IF(AP9=0,0,(AP9*((LOG(AP9))/LOG(2))))","v":-0.47622694742923877},null,{"$f":"N9","v":121},{"$f":"COUNTIF(L89:L104,AS9)","v":3},{"$f":"AT9/(AV4-AT10)","v":0.21428571428571427},{"$f":"IF(AU9=0,0,(AU9*((LOG(AU9))/LOG(2))))","v":-0.47622694742923877}]
[11,354,22,362,14,374,null,null,null,null,0,121,null,122,{"$f":"COUNTIF($L$7:$L$500,N10)","v":13},{"$f":"O10/$Q$4","v":0.1326530612244898},{"$f":"IF(P10=0,0,(P10*((LOG(P10))/LOG(2))))","v":-0.386586853445546},null,null,{"$f":"N10","v":122},{"$f":"COUNTIF(L7:L22,T10)","v":2},null,null,null,{"$f":"N10","v":122},{"$f":"COUNTIF(L23:L39,Y10)","v":1},null,null,null,{"$f":"N10","v":122},{"$f":"COUNTIF(L40:L55,AD10)","v":2},null,null,null,{"$f":"N10","v":122},{"$f":"COUNTIF(L56:L71,AI10)","v":3},null,null,null,{"$f":"N10","v":122},{"$f":"COUNTIF(L72:L88,AN10)","v":3},null,null,null,{"$f":"N10","v":122},{"$f":"COUNTIF(L89:L104,AS10)","v":2}]
[11,477,22,485,14,497,null,null,null,null,0,121,null,211,{"$f":"COUNTIF($L$7:$L$500,N11)","v":0},{"$f":"O11/$Q$4","v":0},{"$f":"IF(P11=0,0,(P11*((LOG(P11))/LOG(2))))","v":0},null,null,{"$f":"N11","v":211},{"$f":"COUNTIF(L7:L22,T11)","v":0},{"$f":"U11/(W4-U10)","v":0},{"$f":"IF(V11=0,0,(V11*((LOG(V11))/LOG(2))))","v":0},null,{"$f":"N11","v":211},{"$f":"COUNTIF(L23:L39,Y11)","v":0},{"$f":"Z11/(AB4-Z10)","v":0},{"$f":"IF(AA11=0,0,(AA11*((LOG(AA11))/LOG(2))))","v":0},null,{"$f":"N11","v":211},{"$f":"COUNTIF(L40:L55,AD11)","v":0},{"$f":"AE11/(AG4-AE10)","v":0},{"$f":"IF(AF11=0,0,(AF11*((LOG(AF11))/LOG(2))))","v":0},null,{"$f":"N11","v":211},{"$f":"COUNTIF(L56:L71,AI11)","v":0},{"$f":"AJ11/(AL4-AJ10)","v":0},{"$f":"IF(AK11=0,0,(AK11*((LOG(AK11))/LOG(2))))","v":0},null,{"$f":"N11","v":211},{"$f":"COUNTIF(L72:L88,AN11)","v":0},{"$f":"AO11/(AQ4-AO10)","v":0},{"$f":"IF(AP11=0,0,(AP11*((LOG(AP11))/LOG(2))))","v":0},null,{"$f":"N11","v":211},{"$f":"COUNTIF(L89:L104,AS11)","v":0},{"$f":"AT11/(AV4-AT10)","v":0},{"$f":"IF(AU11=0,0,(AU11*((LOG(AU11))/LOG(2))))","v":0}]
[11,599,11,607,21,615,null,null,null,null,0,112,null,212,{"$f":"COUNTIF($L$7:$L$500,N12)","v":7},{"$f":"O12/$Q$4","v":7.1428571428571425E-2},{"$f":"IF(P12=0,0,(P12*((LOG(P12))/LOG(2))))","v":-0.27195392300411453},null,null,{"$f":"N12","v":212},{"$f":"COUNTIF(L7:L22,T12)","v":0},{"$f":"U12/(W4-U10)","v":0},{"$f":"IF(V12=0,0,(V12*((LOG(V12))/LOG(2))))","v":0},null,{"$f":"N12","v":212},{"$f":"COUNTIF(L23:L39,Y12)","v":3},{"$f":"Z12/(AB4-Z10)","v":0.1875},{"$f":"IF(AA12=0,0,(AA12*((LOG(AA12))/LOG(2))))","v":-0.45281953111478312},null,{"$f":"N12","v":212},{"$f":"COUNTIF(L40:L55,AD12)","v":1},{"$f":"AE12/(AG4-AE10)","v":7.1428571428571425E-2},{"$f":"IF(AF12=0,0,(AF12*((LOG(AF12))/LOG(2))))","v":-0.27195392300411453},null,{"$f":"N12","v":212},{"$f":"COUNTIF(L56:L71,AI12)","v":1},{"$f":"AJ12/(AL4-AJ10)","v":7.6923076923076927E-2},{"$f":"IF(AK12=0,0,(AK12*((LOG(AK12))/LOG(2))))","v":-0.28464920908777636},null,{"$f":"N12","v":212},{"$f":"COUNTIF(L72:L88,AN12)","v":1},{"$f":"AO12/(AQ4-AO10)","v":7.1428571428571425E-2},{"$f":"IF(AP12=0,0,(AP12*((LOG(AP12))/LOG(2))))","v":-0.27195392300411453},null,{"$f":"N12","v":212},{"$f":"COUNTIF(L89:L104,AS12)","v":1},{"$f":"AT12/(AV4-AT10)","v":7.1428571428571425E-2},{"$f":"IF(AU12=0,0,(AU12*((LOG(AU12))/LOG(2))))","v":-0.27195392300411453}]
[11,708,22,721,23,735,null,null,null,null,0,122,null,221,{"$f":"COUNTIF($L$7:$L$500,N13)","v":1},{"$f":"O13/$Q$4","v":1.020408163265306E-2},{"$f":"IF(P13=0,0,(P13*((LOG(P13))/LOG(2))))","v":-6.7497039225665384E-2},null,null,{"$f":"N13","v":221},{"$f":"COUNTIF(L7:L22,T13)","v":0},{"$f":"U13/(W4-U10)","v":0},{"$f":"IF(V13=0,0,(V13*((LOG(V13))/LOG(2))))","v":0},null,{"$f":"N13","v":221},{"$f":"COUNTIF(L23:L39,Y13)","v":1},{"$f":"Z13/(AB4-Z10)","v":6.25E-2},{"$f":"IF(AA13=0,0,(AA13*((LOG(AA13))/LOG(2))))","v":-0.25},null,{"$f":"N13","v":221},{"$f":"COUNTIF(L40:L55,AD13)","v":0},{"$f":"AE13/(AG4-AE10)","v":0},{"$f":"IF(AF13=0,0,(AF13*((LOG(AF13))/LOG(2))))","v":0},null,{"$f":"N13","v":221},{"$f":"COUNTIF(L56:L71,AI13)","v":0},{"$f":"AJ13/(AL4-AJ10)","v":0},{"$f":"IF(AK13=0,0,(AK13*((LOG(AK13))/LOG(2))))","v":0},null,{"$f":"N13","v":221},{"$f":"COUNTIF(L72:L88,AN13)","v":0},{"$f":"AO13/(AQ4-AO10)","v":0},{"$f":"IF(AP13=0,0,(AP13*((LOG(AP13))/LOG(2))))","v":0},null,{"$f":"N13","v":221},{"$f":"COUNTIF(L89:L104,AS13)","v":0},{"$f":"AT13/(AV4-AT10)","v":0},{"$f":"IF(AU13=0,0,(AU13*((LOG(AU13))/LOG(2))))","v":0}]
[11,832,22,841,14,851,null,null,null,null,0,121,null,222,{"$f":"COUNTIF($L$7:$L$500,N14)","v":0},{"$f":"O14/$Q$4","v":0},{"$f":"IF(P14=0,0,(P14*((LOG(P14))/LOG(2))))","v":0},null,null,{"$f":"N14","v":222},{"$f":"COUNTIF(L7:L22,T14)","v":0},{"$f":"U14/(W4-U10)","v":0},{"$f":"IF(V14=0,0,(V14*((LOG(V14))/LOG(2))))","v":0},null,{"$f":"N14","v":222},{"$f":"COUNTIF(L23:L39,Y14)","v":0},{"$f":"Z14/(AB4-Z10)","v":0},{"$f":"IF(AA14=0,0,(AA14*((LOG(AA14))/LOG(2))))","v":0},null,{"$f":"N14","v":222},{"$f":"COUNTIF(L40:L55,AD14)","v":0},{"$f":"AE14/(AG4-AE10)","v":0},{"$f":"IF(AF14=0,0,(AF14*((LOG(AF14))/LOG(2))))","v":0},null,{"$f":"N14","v":222},{"$f":"COUNTIF(L56:L71,AI14)","v":0},{"$f":"AJ14/(AL4-AJ10)","v":0},{"$f":"IF(AK14=0,0,(AK14*((LOG(AK14))/LOG(2))))","v":0},null,{"$f":"N14","v":222},{"$f":"COUNTIF(L72:L88,AN14)","v":0},{"$f":"AO14/(AQ4-AO10)","v":0},{"$f":"IF(AP14=0,0,(AP14*((LOG(AP14))/LOG(2))))","v":0},null,{"$f":"N14","v":222},{"$f":"COUNTIF(L89:L104,AS14)","v":0},{"$f":"AT14/(AV4-AT10)","v":0},{"$f":"IF(AU14=0,0,(AU14*((LOG(AU14))/LOG(2))))","v":0}]
[11,957,22,965,14,978,null,null,null,null,0,121,null,null,null,{"$f":"SUM(P7:P14)","v":1},{"$f":"-SUM(Q7:Q14)","v":2.1157353026620389},null,null,null,null,{"$f":"SUM(V7:V14)","v":1},{"$f":"-SUM(W7:W14)","v":1.1981174211304031},null,null,null,{"$f":"SUM(AA7:AA14)","v":1},{"$f":"-SUM(AB7:AB14)","v":2.1084585933443494},null,null,null,{"$f":"SUM(AF7:AF14)","v":1},{"$f":"-SUM(AG7:AG14)","v":1.0949143184120975},null,null,null,{"$f":"SUM(AK7:AK14)","v":1},{"$f":"-SUM(AL7:AL14)","v":1.573402452417767},null,null,null,{"$f":"SUM(AP7:AP14)","v":0.99999999999999989},{"$f":"-SUM(AQ7:AQ14)","v":1.7884504573082893},null,null,null,{"$f":"SUM(AU7:AU14)","v":1},{"$f":"-SUM(AV7:AV14)","v":1.7244078178625921}]
[11,1076,11,1082,12,1090,null,null,null,null,0,111,null,null,null,"U=",{"$f":"Q15/(LOG(Q4)/LOG(2))","v":0.31985307784049027},null,null,null,null,"U1=",{"$f":"W15/(LOG(W4)/LOG(2))","v":0.29952935528260077},null,null,null,"U2=",{"$f":"AB15/(LOG(AB4)/LOG(2))","v":0.51583553789552739},null,null,null,"U3=",{"$f":"AG15/(LOG(AG4)/LOG(2))","v":0.27372857960302438},null,null,null,"U4=",{"$f":"AL15/(LOG(AL4)/LOG(2))","v":0.39335061310444175},null,null,null,"U5=",{"$f":"AQ15/(LOG(AQ4)/LOG(2))","v":0.43754537393206228},null,null,null,"U6=",{"$f":"AV15/(LOG(AV4)/LOG(2))","v":0.43110195446564803}]
[11,1197,22,1207,14,1237,null,null,null,null,0,121]
[11,1337,11,1344,21,1355,null,null,null,null,0,112]
[11,1447,11,1452,21,1461,null,null,null,null,0,112,null,"Total Target Seq"]
[11,1551,22,1561,23,1582,null,null,null,null,0,122,null,{"$f":"COUNTIF(L7:L104,G3)","v":13},null,16,17,16,16,17,16]
[11,1683,22,1693,14,1706,null,null,null,null,0,121,null,null,null,"% of reinforcement given in 6 equal intervals based on number of trials "]
[11,1810,22,1821,14,1845,null,null,null,null,0,121,null,null,null,"%_1","%_2","%_3","%_4","%_5","%_6"]
[22,1964,13,1977,23,1987,null,null,null,null,0,212,null,null,"target sequence",{"$f":"$G$3","v":122},{"$f":"$G$3","v":122},{"$f":"$G$3","v":122},{"$f":"$G$3","v":122},{"$f":"$G$3","v":122},{"$f":"$G$3","v":122}]
[11,2086,11,2101,21,2109,null,null,null,null,0,112,null,null,"total reinforcement",{"$f":"U10","v":2},{"$f":"Z10","v":1},{"$f":"AE10","v":2},{"$f":"AJ10","v":3},{"$f":"AO10","v":3},{"$f":"AT10","v":2}]
[11,2204,22,2213,23,2233,null,null,null,null,0,122,null,null,"% target"]
[11,2336,22,2343,14,2355,null,null,null,null,0,121,null,null,"CCRF"]
[11,2458,11,2465,21,2475,null,null,null,null,0,112,null,null,"% CCRf"]
[11,2563,22,2575,14,2584,null,null,null,null,0,121,null,null,"average response rate",{"$f":"F22/P20","v":115.3125},{"$f":"(F39-F22)/Q20","v":122.35294117647059},{"$f":"(F55-F39)/R20","v":115.8125},{"$f":"(F71-F55)/S20","v":125.4375},{"$f":"(F88-F71)/T20","v":125.11764705882354},{"$f":"(F104-F88)/U20","v":116.875}]
[22,2694,24,2713,14,2721,null,null,null,null,0,221]
[11,2823,11,2830,21,2840,null,null,null,null,0,112]
[22,2929,13,2943,23,2950,null,null,null,null,0,212]
[11,3054,11,3061,21,3071,null,null,null,null,0,112]
[11,3161,11,3167,21,3175,null,null,null,null,0,112]
[11,3270,22,3278,14,3299,null,null,null,null,0,121]
[11,3399,11,3408,12,3419,null,null,null,null,0,111]
[11,3523,22,3534,14,3585,null,null,null,null,0,121]
[11,3683,11,3688,12,3692,null,null,null,null,0,111]
[22,3799,13,3804,23,3812,null,null,null,null,0,212]
[11,3910,11,3915,21,3925,null,null,null,null,0,112]
[11,4014,11,4023,21,4031,null,null,null,null,0,112]
[11,4120,11,4127,21,4136,null,null,null,null,0,112]
[11,4227,22,4235,23,4258,null,null,null,null,0,122]
[11,4358,22,4366,14,4378,null,null,null,null,0,121]
[11,4475,11,4480,21,4490,null,null,null,null,0,112]
[11,4583,11,4590,21,4599,null,null,null,null,0,112]
[11,4692,11,4697,21,4705,null,null,null,null,0,112]
[11,4796,22,4806,14,4832,null,null,null,null,0,121]
[11,4931,11,4939,21,4949,null,null,null,null,0,112]
[11,5040,11,5047,21,5055,null,null,null,null,0,112]
[11,5152,22,5161,14,5174,null,null,null,null,0,121]
[11,5278,11,5285,21,5296,null,null,null,null,0,112]
[22,5395,13,5402,23,5412,null,null,null,null,0,212]
[11,5512,11,5518,21,5528,null,null,null,null,0,112]
[11,5619,11,5632,21,5641,null,null,null,null,0,112]
[11,5735,22,5744,23,5778,null,null,null,null,0,122]
[11,5883,22,5891,14,5907,null,null,null,null,0,121]
[11,6011,11,6017,21,6073,null,null,null,null,0,112]
[11,6163,11,6169,21,6180,null,null,null,null,0,112]
[11,6272,11,6279,21,6287,null,null,null,null,0,112]
[11,6382,22,6391,23,6420,null,null,null,null,0,122]
[22,6525,13,6532,23,6540,null,null,null,null,0,212]
[11,6641,11,6650,21,6658,null,null,null,null,0,112]
[11,6754,22,6762,14,6801,null,null,null,null,0,121]
[11,6905,22,6915,14,6953,null,null,null,null,0,121]
[11,7051,11,7056,21,7066,null,null,null,null,0,112]
[11,7161,11,7167,12,7172,null,null,null,null,0,111]
[11,7274,22,7282,23,7313,null,null,null,null,0,122]
[11,7413,22,7423,14,7437,null,null,null,null,0,121]
[11,7533,11,7540,21,7553,null,null,null,null,0,112]
[11,7641,11,7652,21,7662,null,null,null,null,0,112]
[11,7753,22,7762,23,7785,null,null,null,null,0,122]
[11,7886,11,7898,21,7906,null,null,null,null,0,112]
[11,8001,22,8009,14,8022,null,null,null,null,0,121]
[11,8122,11,8128,21,8137,null,null,null,null,0,112]
[11,8227,11,8234,21,8245,null,null,null,null,0,112]
[11,8332,22,8342,14,8353,null,null,null,null,0,121]
[11,8450,11,8457,12,8461,null,null,null,null,0,111]
[11,8562,11,8569,21,8580,null,null,null,null,0,112]
[11,8672,22,8683,23,8705,null,null,null,null,0,122]
[11,8809,22,8818,23,8882,null,null,null,null,0,122]
[11,8977,11,8982,12,8997,null,null,null,null,0,111]
[11,9103,11,9158,12,9165,null,null,null,null,0,111]
[11,9276,22,9287,23,9313,null,null,null,null,0,122]
[11,9414,11,9426,21,9436,null,null,null,null,0,112]
[22,9526,13,9533,23,9541,null,null,null,null,0,212]
[11,9639,11,9645,12,9650,null,null,null,null,0,111]
[11,9748,11,9755,21,9766,null,null,null,null,0,112]
[11,9860,22,9868,14,9912,null,null,null,null,0,121]
[11,10014,11,10025,21,10037,null,null,null,null,0,112]
[11,10128,22,10136,14,10148,null,null,null,null,0,121]
[11,10247,11,10251,21,10262,null,null,null,null,0,112]
[11,10353,11,10358,21,10368,null,null,null,null,0,112]
[11,10456,11,10461,21,10469,null,null,null,null,0,112]
[11,10560,22,10571,14,10617,null,null,null,null,0,121]
[11,10715,11,10720,12,10727,null,null,null,null,0,111]
[22,10834,13,10843,23,10851,null,null,null,null,0,212]
[11,10947,11,10951,12,10957,null,null,null,null,0,111]
[11,11057,22,11068,23,11090,null,null,null,null,0,122]
[11,11192,22,11200,14,11213,null,null,null,null,0,121]
[11,11312,11,11319,21,11328,null,null,null,null,0,112]
[11,11410,11,11422,12,11429,null,null,null,null,0,111]
[11,11524,11,11529,21,11540,null,null,null,null,0,112]
[11,11635,22,11645,23,11669,null,null,null,null,0,122]
[11,11767,11,11772,21,11782,null,null,null,null,1,112]

{"sheet":"!2011-05-18_08h52m.Subject 52 p","index":16,"n_rows":68,"n_cols":48,"rows_kept":68,"cut":false,"hidden":false,"merged":[[4,39,4,42],[5,39,5,40],[4,44,4,47],[5,44,5,45],[4,24,4,27],[5,24,5,25],[4,29,4,32],[5,29,5,30],[4,34,4,37],[5,34,5,35],[1,1,1,2],[5,13,5,14],[18,13,18,14],[19,13,19,14],[4,19,4,22],[5,19,5,20]]}
["Report for:!2011-05-18_08h52m.Subject 52 phase 2"]
["Date","2011-05-18",null,null,null,"Group",0]
["Hen",0,null,null,null,"Correct Sequence",{"$f":"Start!J2","v":122},null,null,null,null,null,null,null,null,"Total Sequences in Data",{"$f":"4994-COUNTBLANK(L7:L5000)","v":62},null,null,null,null,"Total Sequences in Block Data",{"$f":"COUNTA(L7:L16)","v":10},null,null,null,"Total Sequences in Block Data",{"$f":"COUNTA(L17:L27)","v":11},null,null,null,"Total Sequences in Block Data",{"$f":"COUNTA(L28:L37)","v":10},null,null,null,"Total Sequences in Block Data",{"$f":"COUNTA(L38:L47)","v":10},null,null,null,"Total Sequences in Block Data",{"$f":"COUNTA(L48:L58)","v":11},null,null,null,"Total Sequences in Block Data",{"$f":"COUNTA(L59:L68)","v":10}]
["Program",0,null,null,null,null,null,null,null,null,null,null,null,null,null,"Total Sequences in Summary",{"$f":"SUM(O7:O14)","v":62},null,null,null,null,"Total Sequences in Block Summary",{"$f":"SUM(U7:U14)","v":10},null,null,null,"Total Sequences in Block Summary",{"$f":"SUM(Z7:Z14)","v":11},null,null,null,"Total Sequences in Block Summary",{"$f":"SUM(AE7:AE14)","v":10},null,null,null,"Total Sequences in Block Summary",{"$f":"SUM(AJ7:AJ14)","v":10},null,null,null,"Total Sequences in Block Summary",{"$f":"SUM(AO7:AO14)","v":11},null,null,null,"Total Sequences in Block Summary",{"$f":"SUM(AT7:AT14)","v":10}]
[null,null,null,null,null,null,null,null,null,null,null,null,null,null,null,null,null,null,null,"Block 1",null,null,null,null,"Block 2",null,null,null,null,"Block 3",null,null,null,null,"Block 4",null,null,null,null,"Block 5",null,null,null,null,"Block 6"]
["Sequence\nComponent\n1","Time\n1","Sequence\nComponent\n2","Time\n2","Sequence\nComponent\n3","Time\n3","Sequence\nComponent\n4","Time\n4","Sequence\nComponent\n5","Time\n5","Correct?\n0=No 1=Yes","Sequence",null,"Frequency",null,"Relative Frequency","Variability",null,null,"Frequency",null,"Relative Frequency","Variability",null,"Frequency",null,"Relative Frequency","Variability",null,"Frequency",null,"Relative Frequency","Variability",null,"Frequency",null,"Relative Frequency","Variability",null,"Frequency",null,"Relative Frequency","Variability",null,"Frequency",null,"Relative Frequency","Variability"]
[11,7,22,15,23,42,null,null,null,null,0,122,null,111,{"$f":"COUNTIF($L$7:$L$500,N7)","v":3},{"$f":"O7/$Q$4","v":4.8387096774193547E-2},{"$f":"IF(P7=0,0,(P7*((LOG(P7))/LOG(2))))","v":-0.21141453917737349},null,null,{"$f":"N7","v":111},{"$f":"COUNTIF(L7:L16,T7)","v":0},{"$f":"U7/(W4-U10)","v":0},{"$f":"IF(V7=0,0,(V7*((LOG(V7))/LOG(2))))","v":0},null,{"$f":"N7","v":111},{"$f":"COUNTIF(L17:L27,Y7)","v":0},{"$f":"Z7/(AB4-Z10)","v":0},{"$f":"IF(AA7=0,0,(AA7*((LOG(AA7))/LOG(2))))","v":0},null,{"$f":"N7","v":111},{"$f":"COUNTIF(L28:L37,AD7)","v":0},{"$f":"AE7/(AG4-AE10)","v":0},{"$f":"IF(AF7=0,0,(AF7*((LOG(AF7))/LOG(2))))","v":0},null,{"$f":"N7","v":111},{"$f":"COUNTIF(L38:L47,AI7)","v":1},{"$f":"AJ7/(AL4-AJ10)","v":0.1111111111111111},{"$f":"IF(AK7=0,0,(AK7*((LOG(AK7))/LOG(2))))","v":-0.3522138890491458},null,{"$f":"N7","v":111},{"$f":"COUNTIF(L48:L58,AN7)","v":2},{"$f":"AO7/(AQ4-AO10)","v":0.18181818181818182},{"$f":"IF(AP7=0,0,(AP7*((LOG(AP7))/LOG(2))))","v":-0.44716938520678134},null,{"$f":"N7","v":111},{"$f":"COUNTIF(L59:L68,AS7)","v":0},{"$f":"AT7/(AV4-AT10)","v":0},{"$f":"IF(AU7=0,0,(AU7*((LOG(AU7))/LOG(2))))","v":0}]
[11,141,22,149,14,162,null,null,null,null,0,121,null,112,{"$f":"COUNTIF($L$7:$L$500,N8)","v":40},{"$f":"O8/$Q$4","v":0.64516129032258063},{"$f":"IF(P8=0,0,(P8*((LOG(P8))/LOG(2))))","v":-0.40791497774162117},null,null,{"$f":"N8","v":112},{"$f":"COUNTIF(L7:L16,T8)","v":4},{"$f":"U8/(W4-U10)","v":0.44444444444444442},{"$f":"IF(V8=0,0,(V8*((LOG(V8))/LOG(2))))","v":-0.51996666730769447},null,{"$f":"N8","v":112},{"$f":"COUNTIF(L17:L27,Y8)","v":5},{"$f":"Z8/(AB4-Z10)","v":0.55555555555555558},{"$f":"IF(AA8=0,0,(AA8*((LOG(AA8))/LOG(2))))","v":-0.4711093925305278},null,{"$f":"N8","v":112},{"$f":"COUNTIF(L28:L37,AD8)","v":10},{"$f":"AE8/(AG4-AE10)","v":1},{"$f":"IF(AF8=0,0,(AF8*((LOG(AF8))/LOG(2))))","v":0},null,{"$f":"N8","v":112},{"$f":"COUNTIF(L38:L47,AI8)","v":6},{"$f":"AJ8/(AL4-AJ10)","v":0.66666666666666663},{"$f":"IF(AK8=0,0,(AK8*((LOG(AK8))/LOG(2))))","v":-0.38997500048077083},null,{"$f":"N8","v":112},{"$f":"COUNTIF(L48:L58,AN8)","v":8},{"$f":"AO8/(AQ4-AO10)","v":0.72727272727272729},{"$f":"IF(AP8=0,0,(AP8*((LOG(AP8))/LOG(2))))","v":-0.33413208628167068},null,{"$f":"N8","v":112},{"$f":"COUNTIF(L59:L68,AS8)","v":7},{"$f":"AT8/(AV4-AT10)","v":0.77777777777777779},{"$f":"IF(AU8=0,0,(AU8*((LOG(AU8))/LOG(2))))","v":-0.28199895063255082}]
[11,268,22,277,14,290,null,null,null,null,0,121,null,121,{"$f":"COUNTIF($L$7:$L$500,N9)","v":13},{"$f":"O9/$Q$4","v":0.20967741935483872},{"$f":"IF(P9=0,0,(P9*((LOG(P9))/LOG(2))))","v":-0.47256186611605122},null,null,{"$f":"N9","v":121},{"$f":"COUNTIF(L7:L16,T9)","v":5},{"$f":"U9/(W4-U10)","v":0.55555555555555558},{"$f":"IF(V9=0,0,(V9*((LOG(V9))/LOG(2))))","v":-0.4711093925305278},null,{"$f":"N9","v":121},{"$f":"COUNTIF(L17:L27,Y9)","v":4},{"$f":"Z9/(AB4-Z10)","v":0.44444444444444442},{"$f":"IF(AA9=0,0,(AA9*((LOG(AA9))/LOG(2))))","v":-0.51996666730769447},null,{"$f":"N9","v":121},{"$f":"COUNTIF(L28:L37,AD9)","v":0},{"$f":"AE9/(AG4-AE10)","v":0},{"$f":"IF(AF9=0,0,(AF9*((LOG(AF9))/LOG(2))))","v":0},null,{"$f":"N9","v":121},{"$f":"COUNTIF(L38:L47,AI9)","v":2},{"$f":"AJ9/(AL4-AJ10)","v":0.22222222222222221},{"$f":"IF(AK9=0,0,(AK9*((LOG(AK9))/LOG(2))))","v":-0.48220555587606945},null,{"$f":"N9","v":121},{"$f":"COUNTIF(L48:L58,AN9)","v":0},{"$f":"AO9/(AQ4-AO10)","v":0},{"$f":"IF(AP9=0,0,(AP9*((LOG(AP9))/LOG(2))))","v":0},null,{"$f":"N9","v":121},{"$f":"COUNTIF(L59:L68,AS9)","v":2},{"$f":"AT9/(AV4-AT10)","v":0.22222222222222221},{"$f":"IF(AU9=0,0,(AU9*((LOG(AU9))/LOG(2))))","v":-0.48220555587606945}]
[11,387,11,392,21,401,null,null,null,null,0,112,null,122,{"$f":"COUNTIF($L$7:$L$500,N10)","v":5},{"$f":"O10/$Q$4","v":8.0645161290322578E-2},{"$f":"IF(P10=0,0,(P10*((LOG(P10))/LOG(2))))","v":-0.29292485608867042},null,null,{"$f":"N10","v":122},{"$f":"COUNTIF(L7:L16,T10)","v":1},null,null,null,{"$f":"N10","v":122},{"$f":"COUNTIF(L17:L27,Y10)","v":2},null,null,null,{"$f":"N10","v":122},{"$f":"COUNTIF(L28:L37,AD10)","v":0},null,null,null,{"$f":"N10","v":122},{"$f":"COUNTIF(L38:L47,AI10)","v":1},null,null,null,{"$f":"N10","v":122},{"$f":"COUNTIF(L48:L58,AN10)","v":0},null,null,null,{"$f":"N10","v":122},{"$f":"COUNTIF(L59:L68,AS10)","v":1}]
[11,494,11,501,21,511,null,null,null,null,0,112,null,211,{"$f":"COUNTIF($L$7:$L$500,N11)","v":1},{"$f":"O11/$Q$4","v":1.6129032258064516E-2},{"$f":"IF(P11=0,0,(P11*((LOG(P11))/LOG(2))))","v":-9.603542436107862E-2},null,null,{"$f":"N11","v":211},{"$f":"COUNTIF(L7:L16,T11)","v":0},{"$f":"U11/(W4-U10)","v":0},{"$f":"IF(V11=0,0,(V11*((LOG(V11))/LOG(2))))","v":0},null,{"$f":"N11","v":211},{"$f":"COUNTIF(L17:L27,Y11)","v":0},{"$f":"Z11/(AB4-Z10)","v":0},{"$f":"IF(AA11=0,0,(AA11*((LOG(AA11))/LOG(2))))","v":0},null,{"$f":"N11","v":211},{"$f":"COUNTIF(L28:L37,AD11)","v":0},{"$f":"AE11/(AG4-AE10)","v":0},{"$f":"IF(AF11=0,0,(AF11*((LOG(AF11))/LOG(2))))","v":0},null,{"$f":"N11","v":211},{"$f":"COUNTIF(L38:L47,AI11)","v":0},{"$f":"AJ11/(AL4-AJ10)","v":0},{"$f":"IF(AK11=0,0,(AK11*((LOG(AK11))/LOG(2))))","v":0},null,{"$f":"N11","v":211},{"$f":"COUNTIF(L48:L58,AN11)","v":1},{"$f":"AO11/(AQ4-AO10)","v":9.0909090909090912E-2},{"$f":"IF(AP11=0,0,(AP11*((LOG(AP11))/LOG(2))))","v":-0.31449378351248153},null,{"$f":"N11","v":211},{"$f":"COUNTIF(L59:L68,AS11)","v":0},{"$f":"AT11/(AV4-AT10)","v":0},{"$f":"IF(AU11=0,0,(AU11*((LOG(AU11))/LOG(2))))","v":0}]
[11,603,22,611,14,624,null,null,null,null,0,121,null,212,{"$f":"COUNTIF($L$7:$L$500,N12)","v":0},{"$f":"O12/$Q$4","v":0},{"$f":"IF(P12=0,0,(P12*((LOG(P12))/LOG(2))))","v":0},null,null,{"$f":"N12","v":212},{"$f":"COUNTIF(L7:L16,T12)","v":0},{"$f":"U12/(W4-U10)","v":0},{"$f":"IF(V12=0,0,(V12*((LOG(V12))/LOG(2))))","v":0},null,{"$f":"N12","v":212},{"$f":"COUNTIF(L17:L27,Y12)","v":0},{"$f":"Z12/(AB4-Z10)","v":0},{"$f":"IF(AA12=0,0,(AA12*((LOG(AA12))/LOG(2))))","v":0},null,{"$f":"N12","v":212},{"$f":"COUNTIF(L28:L37,AD12)","v":0},{"$f":"AE12/(AG4-AE10)","v":0},{"$f":"IF(AF12=0,0,(AF12*((LOG(AF12))/LOG(2))))","v":0},null,{"$f":"N12","v":212},{"$f":"COUNTIF(L38:L47,AI12)","v":0},{"$f":"AJ12/(AL4-AJ10)","v":0},{"$f":"IF(AK12=0,0,(AK12*((LOG(AK12))/LOG(2))))","v":0},null,{"$f":"N12","v":212},{"$f":"COUNTIF(L48:L58,AN12)","v":0},{"$f":"AO12/(AQ4-AO10)","v":0},{"$f":"IF(AP12=0,0,(AP12*((LOG(AP12))/LOG(2))))","v":0},null,{"$f":"N12","v":212},{"$f":"COUNTIF(L59:L68,AS12)","v":0},{"$f":"AT12/(AV4-AT10)","v":0},{"$f":"IF(AU12=0,0,(AU12*((LOG(AU12))/LOG(2))))","v":0}]
[11,719,22,727,14,741,null,null,null,null,0,121,null,221,{"$f":"COUNTIF($L$7:$L$500,N13)","v":0},{"$f":"O13/$Q$4","v":0},{"$f":"IF(P13=0,0,(P13*((LOG(P13))/LOG(2))))","v":0},null,null,{"$f":"N13","v":221},{"$f":"COUNTIF(L7:L16,T13)","v":0},{"$f":"U13/(W4-U10)","v":0},{"$f":"IF(V13=0,0,(V13*((LOG(V13))/LOG(2))))","v":0},null,{"$f":"N13","v":221},{"$f":"COUNTIF(L17:L27,Y13)","v":0},{"$f":"Z13/(AB4-Z10)","v":0},{"$f":"IF(AA13=0,0,(AA13*((LOG(AA13))/LOG(2))))","v":0},null,{"$f":"N13","v":221},{"$f":"COUNTIF(L28:L37,AD13)","v":0},{"$f":"AE13/(AG4-AE10)","v":0},{"$f":"IF(AF13=0,0,(AF13*((LOG(AF13))/LOG(2))))","v":0},null,{"$f":"N13","v":221},{"$f":"COUNTIF(L38:L47,AI13)","v":0},{"$f":"AJ13/(AL4-AJ10)","v":0},{"$f":"IF(AK13=0,0,(AK13*((LOG(AK13))/LOG(2))))","v":0},null,{"$f":"N13","v":221},{"$f":"COUNTIF(L48:L58,AN13)","v":0},{"$f":"AO13/(AQ4-AO10)","v":0},{"$f":"IF(AP13=0,0,(AP13*((LOG(AP13))/LOG(2))))","v":0},null,{"$f":"N13","v":221},{"$f":"COUNTIF(L59:L68,AS13)","v":0},{"$f":"AT13/(AV4-AT10)","v":0},{"$f":"IF(AU13=0,0,(AU13*((LOG(AU13))/LOG(2))))","v":0}]
[11,843,22,854,14,899,null,null,null,null,0,121,null,222,{"$f":"COUNTIF($L$7:$L$500,N14)","v":0},{"$f":"O14/$Q$4","v":0},{"$f":"IF(P14=0,0,(P14*((LOG(P14))/LOG(2))))","v":0},null,null,{"$f":"N14","v":222},{"$f":"COUNTIF(L7:L16,T14)","v":0},{"$f":"U14/(W4-U10)","v":0},{"$f":"IF(V14=0,0,(V14*((LOG(V14))/LOG(2))))","v":0},null,{"$f":"N14","v":222},{"$f":"COUNTIF(L17:L27,Y14)","v":0},{"$f":"Z14/(AB4-Z10)","v":0},{"$f":"IF(AA14=0,0,(AA14*((LOG(AA14))/LOG(2))))","v":0},null,{"$f":"N14","v":222},{"$f":"COUNTIF(L28:L37,AD14)","v":0},{"$f":"AE14/(AG4-AE10)","v":0},{"$f":"IF(AF14=0,0,(AF14*((LOG(AF14))/LOG(2))))","v":0},null,{"$f":"N14","v":222},{"$f":"COUNTIF(L38:L47,AI14)","v":0},{"$f":"AJ14/(AL4-AJ10)","v":0},{"$f":"IF(AK14=0,0,(AK14*((LOG(AK14))/LOG(2))))","v":0},null,{"$f":"N14","v":222},{"$f":"COUNTIF(L48:L58,AN14)","v":0},{"$f":"AO14/(AQ4-AO10)","v":0},{"$f":"IF(AP14=0,0,(AP14*((LOG(AP14))/LOG(2))))","v":0},null,{"$f":"N14","v":222},{"$f":"COUNTIF(L59:L68,AS14)","v":0},{"$f":"AT14/(AV4-AT10)","v":0},{"$f":"IF(AU14=0,0,(AU14*((LOG(AU14))/LOG(2))))","v":0}]
[11,996,11,1000,21,1011,null,null,null,null,0,112,null,null,null,{"$f":"SUM(P7:P14)","v":1},{"$f":"-SUM(Q7:Q14)","v":1.4808516634847948},null,null,null,null,{"$f":"SUM(V7:V14)","v":1},{"$f":"-SUM(W7:W14)","v":0.99107605983822222},null,null,null,{"$f":"SUM(AA7:AA14)","v":1},{"$f":"-SUM(AB7:AB14)","v":0.99107605983822222},null,null,null,{"$f":"SUM(AF7:AF14)","v":1},{"$f":"-SUM(AG7:AG14)","v":0},null,null,null,{"$f":"SUM(AK7:AK14)","v":0.99999999999999989},{"$f":"-SUM(AL7:AL14)","v":1.2243944454059861},null,null,null,{"$f":"SUM(AP7:AP14)","v":1},{"$f":"-SUM(AQ7:AQ14)","v":1.0957952550009336},null,null,null,{"$f":"SUM(AU7:AU14)","v":1},{"$f":"-SUM(AV7:AV14)","v":0.76420450650862026}]
[11,1105,11,1113,21,1122,null,null,null,null,0,112,null,null,null,"U=",{"$f":"Q15/(LOG(Q4)/LOG(2))","v":0.24870722869877568},null,null,null,null,"U1=",{"$f":"W15/(LOG(W4)/LOG(2))","v":0.29834362199577563},null,null,null,"U2=",{"$f":"AB15/(LOG(AB4)/LOG(2))","v":0.28648522910495228},null,null,null,"U3=",{"$f":"AG15/(LOG(AG4)/LOG(2))","v":0},null,null,null,"U4=",{"$f":"AL15/(LOG(AL4)/LOG(2))","v":0.36857945459156666},null,null,null,"U5=",{"$f":"AQ15/(LOG(AQ4)/LOG(2))","v":0.31675586506681047},null,null,null,"U6=",{"$f":"AV15/(LOG(AV4)/LOG(2))","v":0.23004847928068486}]
[11,1212,11,1220,21,1230,null,null,null,null,0,112]
[11,1320,22,1332,14,1344,null,null,null,null,0,121]
[11,1445,22,1453,23,1487,null,null,null,null,0,122,null,"Total Target Seq"]
[11,1585,22,1598,23,1638,null,null,null,null,0,122,null,{"$f":"COUNTIF(L7:L68,G3)","v":5},null,10,11,10,10,11,10]
[11,1742,22,1754,14,1765,null,null,null,null,0,121,null,null,null,"% of reinforcement given in 6 equal intervals based on number of trials "]
[11,1875,22,1886,14,1929,null,null,null,null,0,121,null,null,null,"%_1","%_2","%_3","%_4","%_5","%_6"]
[11,2025,11,2032,21,2043,null,null,null,null,0,112,null,null,"target sequence",{"$f":"$G$3","v":122},{"$f":"$G$3","v":122},{"$f":"$G$3","v":122},{"$f":"$G$3","v":122},{"$f":"$G$3","v":122},{"$f":"$G$3","v":122}]
[11,2129,11,2137,21,2147,null,null,null,null,0,112,null,null,"total reinforcement",{"$f":"U10","v":1},{"$f":"Z10","v":2},{"$f":"AE10","v":0},{"$f":"AJ10","v":1},{"$f":"AO10","v":0},{"$f":"AT10","v":1}]
[11,2238,11,2245,21,2253,null,null,null,null,0,112,null,null,"% target"]
[11,2348,22,2359,14,2391,null,null,null,null,0,121,null,null,"CCRF"]
[11,2491,11,2498,21,2506,null,null,null,null,0,112,null,null,"% CCRf"]
[11,2592,11,2598,21,2609,null,null,null,null,0,112,null,null,"average response rate",{"$f":"F16/P20","v":112.2},{"$f":"(F27-F16)/Q20","v":125.81818181818181},{"$f":"(F37-F27)/R20","v":105.5},{"$f":"(F47-F37)/S20","v":120.3},{"$f":"(F58-F47)/T20","v":113.81818181818181},{"$f":"(F68-F58)/U20","v":127.3}]
[11,2698,11,2705,21,2716,null,null,null,null,0,112]
[11,2809,11,2814,21,2824,null,null,null,null,0,112]
[11,2915,11,2922,21,2930,null,null,null,null,0,112]
[11,3020,11,3025,21,3033,null,null,null,null,0,112]
[11,3125,11,3131,21,3139,null,null,null,null,0,112]
[11,3228,11,3232,21,3242,null,null,null,null,0,112]
[11,3331,11,3337,21,3346,null,null,null,null,0,112]
[11,3433,11,3445,21,3452,null,null,null,null,0,112]
[11,3546,11,3553,21,3561,null,null,null,null,0,112]
[11,3648,11,3655,21,3665,null,null,null,null,0,112]
[11,3755,11,3761,21,3769,null,null,null,null,0,112]
[11,3861,22,3873,14,3910,null,null,null,null,0,121]
[11,4008,11,4013,21,4021,null,null,null,null,0,112]
[11,4110,22,4121,23,4162,null,null,null,null,0,122]
[11,4261,11,4266,21,4276,null,null,null,null,0,112]
[11,4368,11,4375,21,4384,null,null,null,null,0,112]
[11,4475,22,4484,14,4544,null,null,null,null,0,121]
[11,4644,11,4650,21,4662,null,null,null,null,0,112]
[11,4751,11,4757,12,4764,null,null,null,null,0,111]
[11,4863,11,4868,12,4872,null,null,null,null,0,111]
[11,4972,11,4984,21,4995,null,null,null,null,0,112]
[11,5086,11,5092,21,5103,null,null,null,null,0,112]
[22,5204,13,5250,14,5259,null,null,null,null,0,211]
[11,5356,11,5362,21,5373,null,null,null,null,0,112]
[11,5460,11,5465,12,5472,null,null,null,null,0,111]
[11,5570,11,5579,21,5590,null,null,null,null,0,112]
[11,5677,11,5684,21,5692,null,null,null,null,0,112]
[11,5782,11,5790,21,5800,null,null,null,null,0,112]
[11,5885,11,5898,21,5908,null,null,null,null,0,112]
[11,5998,11,6006,21,6016,null,null,null,null,0,112]
[11,6106,22,6117,23,6162,null,null,null,null,0,122]
[11,6263,22,6271,14,6327,null,null,null,null,0,121]
[11,6428,22,6439,14,6474,null,null,null,null,0,121]
[11,6572,11,6587,21,6655,null,null,null,null,0,112]
[11,6748,11,6755,21,6765,null,null,null,null,0,112]
[11,6854,11,6859,21,6867,null,null,null,null,0,112]
[11,6957,11,6963,21,6974,null,null,null,null,0,112]
[11,7062,11,7068,21,7078,null,null,null,null,0,112]
[11,7166,11,7171,21,7181,null,null,null,null,0,112]
[11,7271,11,7278,21,7289,null,null,null,null,1,112]

{"sheet":"!2011-05-19_09h16m.Subject 52","index":17,"n_rows":81,"n_cols":48,"rows_kept":81,"cut":false,"hidden":false,"merged":[[4,39,4,42],[5,39,5,40],[4,44,4,47],[5,44,5,45],[4,24,4,27],[5,24,5,25],[4,29,4,32],[5,29,5,30],[4,34,4,37],[5,34,5,35],[1,1,1,2],[5,13,5,14],[18,13,18,14],[19,13,19,14],[4,19,4,22],[5,19,5,20]]}
["Report for:!2011-05-19_09h16m.Subject 52"]
["Date","2011-05-19",null,null,null,"Group",0]
["Hen",52,null,null,null,"Correct Sequence",{"$f":"Start!J2","v":122},null,null,null,null,null,null,null,null,"Total Sequences in Data",{"$f":"4994-COUNTBLANK(L7:L5000)","v":75},null,null,null,null,"Total Sequences in Block Data",{"$f":"COUNTA(L7:L19)","v":13},null,null,null,"Total Sequences in Block Data",{"$f":"COUNTA(L20:L31)","v":12},null,null,null,"Total Sequences in Block Data",{"$f":"COUNTA(L32:L44)","v":13},null,null,null,"Total Sequences in Block Data",{"$f":"COUNTA(L45:L56)","v":12},null,null,null,"Total Sequences in Block Data",{"$f":"COUNTA(L57:L69)","v":13},null,null,null,"Total Sequences in Block Data",{"$f":"COUNTA(L70:L81)","v":12}]
["Program",0,null,null,null,null,null,null,null,null,null,null,null,null,null,"Total Sequences in Summary",{"$f":"SUM(O7:O14)","v":75},null,null,null,null,"Total Sequences in Block Summary",{"$f":"SUM(U7:U14)","v":13},null,null,null,"Total Sequences in Block Summary",{"$f":"SUM(Z7:Z14)","v":12},null,null,null,"Total Sequences in Block Summary",{"$f":"SUM(AE7:AE14)","v":13},null,null,null,"Total Sequences in Block Summary",{"$f":"SUM(AJ7:AJ14)","v":12},null,null,null,"Total Sequences in Block Summary",{"$f":"SUM(AO7:AO14)","v":13},null,null,null,"Total Sequences in Block Summary",{"$f":"SUM(AT7:AT14)","v":12}]
[null,null,null,null,null,null,null,null,null,null,null,null,null,null,null,null,null,null,null,"Block 1",null,null,null,null,"Block 2",null,null,null,null,"Block 3",null,null,null,null,"Block 4",null,null,null,null,"Block 5",null,null,null,null,"Block 6"]
["Sequence\nComponent\n1","Time\n1","Sequence\nComponent\n2","Time\n2","Sequence\nComponent\n3","Time\n3","Sequence\nComponent\n4","Time\n4","Sequence\nComponent\n5","Time\n5","Correct?\n0=No 1=Yes","Sequence",null,"Frequency",null,"Relative Frequency","Variability",null,null,"Frequency",null,"Relative Frequency","Variability",null,"Frequency",null,"Relative Frequency","Variability",null,"Frequency",null,"Relative Frequency","Variability",null,"Frequency",null,"Relative Frequency","Variability",null,"Frequency",null,"Relative Frequency","Variability",null,"Frequency",null,"Relative Frequency","Variability"]
[11,19,22,27,23,45,null,null,null,null,0,122,null,111,{"$f":"COUNTIF($L$7:$L$500,N7)","v":12},{"$f":"O7/$Q$4","v":0.16},{"$f":"IF(P7=0,0,(P7*((LOG(P7))/LOG(2))))","v":-0.42301699036395596},null,null,{"$f":"N7","v":111},{"$f":"COUNTIF(L7:L19,T7)","v":4},{"$f":"U7/(W4-U10)","v":0.36363636363636365},{"$f":"IF(V7=0,0,(V7*((LOG(V7))/LOG(2))))","v":-0.53070240677719893},null,{"$f":"N7","v":111},{"$f":"COUNTIF(L20:L31,Y7)","v":2},{"$f":"Z7/(AB4-Z10)","v":0.22222222222222221},{"$f":"IF(AA7=0,0,(AA7*((LOG(AA7))/LOG(2))))","v":-0.48220555587606945},null,{"$f":"N7","v":111},{"$f":"COUNTIF(L32:L44,AD7)","v":2},{"$f":"AE7/(AG4-AE10)","v":0.16666666666666666},{"$f":"IF(AF7=0,0,(AF7*((LOG(AF7))/LOG(2))))","v":-0.43082708345352599},null,{"$f":"N7","v":111},{"$f":"COUNTIF(L45:L56,AI7)","v":3},{"$f":"AJ7/(AL4-AJ10)","v":0.3},{"$f":"IF(AK7=0,0,(AK7*((LOG(AK7))/LOG(2))))","v":-0.52108967824986185},null,{"$f":"N7","v":111},{"$f":"COUNTIF(L57:L69,AN7)","v":1},{"$f":"AO7/(AQ4-AO10)","v":0.125},{"$f":"IF(AP7=0,0,(AP7*((LOG(AP7))/LOG(2))))","v":-0.375},null,{"$f":"N7","v":111},{"$f":"COUNTIF(L70:L81,AS7)","v":0},{"$f":"AT7/(AV4-AT10)","v":0},{"$f":"IF(AU7=0,0,(AU7*((LOG(AU7))/LOG(2))))","v":0}]
[11,147,11,154,21,163,null,null,null,null,0,112,null,112,{"$f":"COUNTIF($L$7:$L$500,N8)","v":40},{"$f":"O8/$Q$4","v":0.53333333333333333},{"$f":"IF(P8=0,0,(P8*((LOG(P8))/LOG(2))))","v":-0.4836749843245432},null,null,{"$f":"N8","v":112},{"$f":"COUNTIF(L7:L19,T8)","v":7},{"$f":"U8/(W4-U10)","v":0.63636363636363635},{"$f":"IF(V8=0,0,(V8*((LOG(V8))/LOG(2))))","v":-0.41495789782344106},null,{"$f":"N8","v":112},{"$f":"COUNTIF(L20:L31,Y8)","v":5},{"$f":"Z8/(AB4-Z10)","v":0.55555555555555558},{"$f":"IF(AA8=0,0,(AA8*((LOG(AA8))/LOG(2))))","v":-0.4711093925305278},null,{"$f":"N8","v":112},{"$f":"COUNTIF(L32:L44,AD8)","v":8},{"$f":"AE8/(AG4-AE10)","v":0.66666666666666663},{"$f":"IF(AF8=0,0,(AF8*((LOG(AF8))/LOG(2))))","v":-0.38997500048077083},null,{"$f":"N8","v":112},{"$f":"COUNTIF(L45:L56,AI8)","v":7},{"$f":"AJ8/(AL4-AJ10)","v":0.7},{"$f":"IF(AK8=0,0,(AK8*((LOG(AK8))/LOG(2))))","v":-0.36020122098083079},null,{"$f":"N8","v":112},{"$f":"COUNTIF(L57:L69,AN8)","v":6},{"$f":"AO8/(AQ4-AO10)","v":0.75},{"$f":"IF(AP8=0,0,(AP8*((LOG(AP8))/LOG(2))))","v":-0.31127812445913283},null,{"$f":"N8","v":112},{"$f":"COUNTIF(L70:L81,AS8)","v":7},{"$f":"AT8/(AV4-AT10)","v":0.63636363636363635},{"$f":"IF(AU8=0,0,(AU8*((LOG(AU8))/LOG(2))))","v":-0.41495789782344106}]
[11,259,11,266,21,274,null,null,null,null,0,112,null,121,{"$f":"COUNTIF($L$7:$L$500,N9)","v":8},{"$f":"O9/$Q$4","v":0.10666666666666667},{"$f":"IF(P9=0,0,(P9*((LOG(P9))/LOG(2))))","v":-0.34440732698622734},null,null,{"$f":"N9","v":121},{"$f":"COUNTIF(L7:L19,T9)","v":0},{"$f":"U9/(W4-U10)","v":0},{"$f":"IF(V9=0,0,(V9*((LOG(V9))/LOG(2))))","v":0},null,{"$f":"N9","v":121},{"$f":"COUNTIF(L20:L31,Y9)","v":1},{"$f":"Z9/(AB4-Z10)","v":0.1111111111111111},{"$f":"IF(AA9=0,0,(AA9*((LOG(AA9))/LOG(2))))","v":-0.3522138890491458},null,{"$f":"N9","v":121},{"$f":"COUNTIF(L32:L44,AD9)","v":2},{"$f":"AE9/(AG4-AE10)","v":0.16666666666666666},{"$f":"IF(AF9=0,0,(AF9*((LOG(AF9))/LOG(2))))","v":-0.43082708345352599},null,{"$f":"N9","v":121},{"$f":"COUNTIF(L45:L56,AI9)","v":0},{"$f":"AJ9/(AL4-AJ10)","v":0},{"$f":"IF(AK9=0,0,(AK9*((LOG(AK9))/LOG(2))))","v":0},null,{"$f":"N9","v":121},{"$f":"COUNTIF(L57:L69,AN9)","v":1},{"$f":"AO9/(AQ4-AO10)","v":0.125},{"$f":"IF(AP9=0,0,(AP9*((LOG(AP9))/LOG(2))))","v":-0.375},null,{"$f":"N9","v":121},{"$f":"COUNTIF(L70:L81,AS9)","v":4},{"$f":"AT9/(AV4-AT10)","v":0.36363636363636365},{"$f":"IF(AU9=0,0,(AU9*((LOG(AU9))/LOG(2))))","v":-0.53070240677719893}]
[11,364,11,371,21,379,null,null,null,null,0,112,null,122,{"$f":"COUNTIF($L$7:$L$500,N10)","v":14},{"$f":"O10/$Q$4","v":0.18666666666666668},{"$f":"IF(P10=0,0,(P10*((LOG(P10))/LOG(2))))","v":-0.45200657010847833},null,null,{"$f":"N10","v":122},{"$f":"COUNTIF(L7:L19,T10)","v":2},null,null,null,{"$f":"N10","v":122},{"$f":"COUNTIF(L20:L31,Y10)","v":3},null,null,null,{"$f":"N10","v":122},{"$f":"COUNTIF(L32:L44,AD10)","v":1},null,null,null,{"$f":"N10","v":122},{"$f":"COUNTIF(L45:L56,AI10)","v":2},null,null,null,{"$f":"N10","v":122},{"$f":"COUNTIF(L57:L69,AN10)","v":5},null,null,null,{"$f":"N10","v":122},{"$f":"COUNTIF(L70:L81,AS10)","v":1}]
[11,472,11,479,21,487,null,null,null,null,0,112,null,211,{"$f":"COUNTIF($L$7:$L$500,N11)","v":0},{"$f":"O11/$Q$4","v":0},{"$f":"IF(P11=0,0,(P11*((LOG(P11))/LOG(2))))","v":0},null,null,{"$f":"N11","v":211},{"$f":"COUNTIF(L7:L19,T11)","v":0},{"$f":"U11/(W4-U10)","v":0},{"$f":"IF(V11=0,0,(V11*((LOG(V11))/LOG(2))))","v":0},null,{"$f":"N11","v":211},{"$f":"COUNTIF(L20:L31,Y11)","v":0},{"$f":"Z11/(AB4-Z10)","v":0},{"$f":"IF(AA11=0,0,(AA11*((LOG(AA11))/LOG(2))))","v":0},null,{"$f":"N11","v":211},{"$f":"COUNTIF(L32:L44,AD11)","v":0},{"$f":"AE11/(AG4-AE10)","v":0},{"$f":"IF(AF11=0,0,(AF11*((LOG(AF11))/LOG(2))))","v":0},null,{"$f":"N11","v":211},{"$f":"COUNTIF(L45:L56,AI11)","v":0},{"$f":"AJ11/(AL4-AJ10)","v":0},{"$f":"IF(AK11=0,0,(AK11*((LOG(AK11))/LOG(2))))","v":0},null,{"$f":"N11","v":211},{"$f":"COUNTIF(L57:L69,AN11)","v":0},{"$f":"AO11/(AQ4-AO10)","v":0},{"$f":"IF(AP11=0,0,(AP11*((LOG(AP11))/LOG(2))))","v":0},null,{"$f":"N11","v":211},{"$f":"COUNTIF(L70:L81,AS11)","v":0},{"$f":"AT11/(AV4-AT10)","v":0},{"$f":"IF(AU11=0,0,(AU11*((LOG(AU11))/LOG(2))))","v":0}]
[11,574,11,581,12,585,null,null,null,null,0,111,null,212,{"$f":"COUNTIF($L$7:$L$500,N12)","v":1},{"$f":"O12/$Q$4","v":1.3333333333333334E-2},{"$f":"IF(P12=0,0,(P12*((LOG(P12))/LOG(2))))","v":-8.3050915873278425E-2},null,null,{"$f":"N12","v":212},{"$f":"COUNTIF(L7:L19,T12)","v":0},{"$f":"U12/(W4-U10)","v":0},{"$f":"IF(V12=0,0,(V12*((LOG(V12))/LOG(2))))","v":0},null,{"$f":"N12","v":212},{"$f":"COUNTIF(L20:L31,Y12)","v":1},{"$f":"Z12/(AB4-Z10)","v":0.1111111111111111},{"$f":"IF(AA12=0,0,(AA12*((LOG(AA12))/LOG(2))))","v":-0.3522138890491458},null,{"$f":"N12","v":212},{"$f":"COUNTIF(L32:L44,AD12)","v":0},{"$f":"AE12/(AG4-AE10)","v":0},{"$f":"IF(AF12=0,0,(AF12*((LOG(AF12))/LOG(2))))","v":0},null,{"$f":"N12","v":212},{"$f":"COUNTIF(L45:L56,AI12)","v":0},{"$f":"AJ12/(AL4-AJ10)","v":0},{"$f":"IF(AK12=0,0,(AK12*((LOG(AK12))/LOG(2))))","v":0},null,{"$f":"N12","v":212},{"$f":"COUNTIF(L57:L69,AN12)","v":0},{"$f":"AO12/(AQ4-AO10)","v":0},{"$f":"IF(AP12=0,0,(AP12*((LOG(AP12))/LOG(2))))","v":0},null,{"$f":"N12","v":212},{"$f":"COUNTIF(L70:L81,AS12)","v":0},{"$f":"AT12/(AV4-AT10)","v":0},{"$f":"IF(AU12=0,0,(AU12*((LOG(AU12))/LOG(2))))","v":0}]
[11,681,11,685,12,692,null,null,null,null,0,111,null,221,{"$f":"COUNTIF($L$7:$L$500,N13)","v":0},{"$f":"O13/$Q$4","v":0},{"$f":"IF(P13=0,0,(P13*((LOG(P13))/LOG(2))))","v":0},null,null,{"$f":"N13","v":221},{"$f":"COUNTIF(L7:L19,T13)","v":0},{"$f":"U13/(W4-U10)","v":0},{"$f":"IF(V13=0,0,(V13*((LOG(V13))/LOG(2))))","v":0},null,{"$f":"N13","v":221},{"$f":"COUNTIF(L20:L31,Y13)","v":0},{"$f":"Z13/(AB4-Z10)","v":0},{"$f":"IF(AA13=0,0,(AA13*((LOG(AA13))/LOG(2))))","v":0},null,{"$f":"N13","v":221},{"$f":"COUNTIF(L32:L44,AD13)","v":0},{"$f":"AE13/(AG4-AE10)","v":0},{"$f":"IF(AF13=0,0,(AF13*((LOG(AF13))/LOG(2))))","v":0},null,{"$f":"N13","v":221},{"$f":"COUNTIF(L45:L56,AI13)","v":0},{"$f":"AJ13/(AL4-AJ10)","v":0},{"$f":"IF(AK13=0,0,(AK13*((LOG(AK13))/LOG(2))))","v":0},null,{"$f":"N13","v":221},{"$f":"COUNTIF(L57:L69,AN13)","v":0},{"$f":"AO13/(AQ4-AO10)","v":0},{"$f":"IF(AP13=0,0,(AP13*((LOG(AP13))/LOG(2))))","v":0},null,{"$f":"N13","v":221},{"$f":"COUNTIF(L70:L81,AS13)","v":0},{"$f":"AT13/(AV4-AT10)","v":0},{"$f":"IF(AU13=0,0,(AU13*((LOG(AU13))/LOG(2))))","v":0}]
[11,790,11,794,12,801,null,null,null,null,0,111,null,222,{"$f":"COUNTIF($L$7:$L$500,N14)","v":0},{"$f":"O14/$Q$4","v":0},{"$f":"IF(P14=0,0,(P14*((LOG(P14))/LOG(2))))","v":0},null,null,{"$f":"N14","v":222},{"$f":"COUNTIF(L7:L19,T14)","v":0},{"$f":"U14/(W4-U10)","v":0},{"$f":"IF(V14=0,0,(V14*((LOG(V14))/LOG(2))))","v":0},null,{"$f":"N14","v":222},{"$f":"COUNTIF(L20:L31,Y14)","v":0},{"$f":"Z14/(AB4-Z10)","v":0},{"$f":"IF(AA14=0,0,(AA14*((LOG(AA14))/LOG(2))))","v":0},null,{"$f":"N14","v":222},{"$f":"COUNTIF(L32:L44,AD14)","v":0},{"$f":"AE14/(AG4-AE10)","v":0},{"$f":"IF(AF14=0,0,(AF14*((LOG(AF14))/LOG(2))))","v":0},null,{"$f":"N14","v":222},{"$f":"COUNTIF(L45:L56,AI14)","v":0},{"$f":"AJ14/(AL4-AJ10)","v":0},{"$f":"IF(AK14=0,0,(AK14*((LOG(AK14))/LOG(2))))","v":0},null,{"$f":"N14","v":222},{"$f":"COUNTIF(L57:L69,AN14)","v":0},{"$f":"AO14/(AQ4-AO10)","v":0},{"$f":"IF(AP14=0,0,(AP14*((LOG(AP14))/LOG(2))))","v":0},null,{"$f":"N14","v":222},{"$f":"COUNTIF(L70:L81,AS14)","v":0},{"$f":"AT14/(AV4-AT10)","v":0},{"$f":"IF(AU14=0,0,(AU14*((LOG(AU14))/LOG(2))))","v":0}]
[11,899,11,910,21,922,null,null,null,null,0,112,null,null,null,{"$f":"SUM(P7:P14)","v":1},{"$f":"-SUM(Q7:Q14)","v":1.7861567876564832},null,null,null,null,{"$f":"SUM(V7:V14)","v":1},{"$f":"-SUM(W7:W14)","v":0.94566030460063999},null,null,null,{"$f":"SUM(AA7:AA14)","v":1},{"$f":"-SUM(AB7:AB14)","v":1.6577427265048887},null,null,null,{"$f":"SUM(AF7:AF14)","v":0.99999999999999989},{"$f":"-SUM(AG7:AG14)","v":1.2516291673878228},null,null,null,{"$f":"SUM(AK7:AK14)","v":1},{"$f":"-SUM(AL7:AL14)","v":0.8812908992306927},null,null,null,{"$f":"SUM(AP7:AP14)","v":1},{"$f":"-SUM(AQ7:AQ14)","v":1.0612781244591329},null,null,null,{"$f":"SUM(AU7:AU14)","v":1},{"$f":"-SUM(AV7:AV14)","v":0.94566030460063999}]
[11,1012,11,1017,12,1021,null,null,null,null,0,111,null,null,null,"U=",{"$f":"Q15/(LOG(Q4)/LOG(2))","v":0.28675690791607966},null,null,null,null,"U1=",{"$f":"W15/(LOG(W4)/LOG(2))","v":0.25555349543045397},null,null,null,"U2=",{"$f":"AB15/(LOG(AB4)/LOG(2))","v":0.46241563926300894},null,null,null,"U3=",{"$f":"AG15/(LOG(AG4)/LOG(2))","v":0.33823795622228808},null,null,null,"U4=",{"$f":"AL15/(LOG(AL4)/LOG(2))","v":0.24582987940694243},null,null,null,"U5=",{"$f":"AQ15/(LOG(AQ4)/LOG(2))","v":0.28679784168792344},null,null,null,"U6=",{"$f":"AV15/(LOG(AV4)/LOG(2))","v":0.26378527095064719}]
[11,1120,11,1124,21,1135,null,null,null,null,0,112]
[11,1223,11,1235,21,1246,null,null,null,null,0,112]
[11,1339,22,1350,23,1400,null,null,null,null,0,122,null,"Total Target Seq"]
[11,1498,22,1511,23,1549,null,null,null,null,0,122,null,{"$f":"COUNTIF(L7:L81,G3)","v":14},null,13,12,13,12,13,12]
[11,1649,22,1660,23,1712,null,null,null,null,0,122,null,null,null,"% of reinforcement given in 6 equal intervals based on number of trials "]
[22,1817,13,1824,23,1835,null,null,null,null,0,212,null,null,null,"%_1","%_2","%_3","%_4","%_5","%_6"]
[11,1940,22,1950,23,1976,null,null,null,null,0,122,null,null,"target sequence",{"$f":"$G$3","v":122},{"$f":"$G$3","v":122},{"$f":"$G$3","v":122},{"$f":"$G$3","v":122},{"$f":"$G$3","v":122},{"$f":"$G$3","v":122}]
[11,2075,11,2083,21,2091,null,null,null,null,0,112,null,null,"total reinforcement",{"$f":"U10","v":2},{"$f":"Z10","v":3},{"$f":"AE10","v":1},{"$f":"AJ10","v":2},{"$f":"AO10","v":5},{"$f":"AT10","v":1}]
[11,2179,11,2183,21,2193,null,null,null,null,0,112,null,null,"% target"]
[11,2278,11,2282,12,2294,null,null,null,null,0,111,null,null,"CCRF"]
[11,2386,11,2390,12,2397,null,null,null,null,0,111,null,null,"% CCRf"]
[11,2498,11,2504,21,2515,null,null,null,null,0,112,null,null,"average response rate",{"$f":"F19/P20","v":107.69230769230769},{"$f":"(F31-F19)/Q20","v":121},{"$f":"(F44-F31)/R20","v":116.69230769230769},{"$f":"(F56-F44)/S20","v":115.08333333333333},{"$f":"(F69-F56)/T20","v":125.53846153846153},{"$f":"(F81-F69)/U20","v":131.08333333333334}]
[11,2606,11,2610,21,2621,null,null,null,null,0,112]
[11,2709,11,2713,21,2724,null,null,null,null,0,112]
[11,2820,22,2831,14,2852,null,null,null,null,0,121]
[11,2958,11,2963,12,2967,null,null,null,null,0,111]
[11,3066,11,3070,21,3081,null,null,null,null,0,112]
[11,3174,11,3181,21,3192,null,null,null,null,0,112]
[11,3282,22,3294,14,3324,null,null,null,null,0,121]
[11,3425,11,3429,21,3440,null,null,null,null,0,112]
[11,3535,11,3540,21,3551,null,null,null,null,0,112]
[11,3639,22,3653,23,3684,null,null,null,null,0,122]
[11,3780,11,3791,21,3802,null,null,null,null,0,112]
[11,3892,11,3899,21,3910,null,null,null,null,0,112]
[11,3996,11,4001,12,4006,null,null,null,null,0,111]
[11,4104,11,4110,21,4122,null,null,null,null,0,112]
[11,4214,11,4219,21,4230,null,null,null,null,0,112]
[11,4317,22,4330,14,4369,null,null,null,null,0,121]
[11,4466,11,4470,12,4475,null,null,null,null,0,111]
[11,4582,22,4592,23,4633,null,null,null,null,0,122]
[11,4734,11,4741,21,4752,null,null,null,null,0,112]
[11,4839,11,4844,21,4855,null,null,null,null,0,112]
[11,4940,11,4945,21,4956,null,null,null,null,0,112]
[11,5045,11,5050,12,5054,null,null,null,null,0,111]
[11,5153,11,5160,21,5170,null,null,null,null,0,112]
[11,5259,11,5263,21,5273,null,null,null,null,0,112]
[11,5365,11,5370,21,5378,null,null,null,null,0,112]
[11,5472,22,5483,23,5537,null,null,null,null,0,122]
[11,5636,11,5643,21,5651,null,null,null,null,0,112]
[11,5739,11,5743,12,5750,null,null,null,null,0,111]
[11,5858,22,5870,23,5918,null,null,null,null,0,122]
[11,6016,11,6022,21,6033,null,null,null,null,0,112]
[11,6127,22,6138,23,6165,null,null,null,null,0,122]
[11,6263,22,6274,23,6304,null,null,null,null,0,122]
[11,6404,22,6414,23,6443,null,null,null,null,0,122]
[11,6548,11,6555,21,6566,null,null,null,null,0,112]
[11,6651,11,6656,12,6663,null,null,null,null,0,111]
[11,6765,11,6771,21,6783,null,null,null,null,0,112]
[11,6876,22,6888,23,6923,null,null,null,null,0,122]
[11,7022,11,7027,21,7038,null,null,null,null,0,112]
[11,7129,11,7138,21,7149,null,null,null,null,0,112]
[11,7235,11,7248,21,7259,null,null,null,null,0,112]
[11,7345,22,7357,14,7382,null,null,null,null,0,121]
[11,7478,11,7483,21,7496,null,null,null,null,0,112]
[11,7589,22,7600,14,7641,null,null,null,null,0,121]
[11,7753,22,7764,14,7814,null,null,null,null,0,121]
[11,7922,11,7930,21,7941,null,null,null,null,0,112]
[11,8032,22,8043,14,8085,null,null,null,null,0,121]
[11,8181,11,8188,21,8199,null,null,null,null,0,112]
[11,8290,22,8304,23,8356,null,null,null,null,0,122]
[11,8458,11,8465,21,8475,null,null,null,null,0,112]
[11,8567,22,8579,14,8625,null,null,null,null,0,121]
[11,8723,11,8728,21,8740,null,null,null,null,0,112]
[11,8832,11,8837,21,8848,null,null,null,null,0,112]
[11,8940,11,8945,21,8955,null,null,null,null,1,112]

{"sheet":"!2011-05-20_09h21m.Subject 52","index":18,"n_rows":68,"n_cols":48,"rows_kept":68,"cut":false,"hidden":false,"merged":[[4,39,4,42],[5,39,5,40],[4,44,4,47],[5,44,5,45],[4,24,4,27],[5,24,5,25],[4,29,4,32],[5,29,5,30],[4,34,4,37],[5,34,5,35],[1,1,1,2],[5,13,5,14],[18,13,18,14],[19,13,19,14],[4,19,4,22],[5,19,5,20]]}
["Report for:!2011-05-20_09h21m.Subject 52"]
["Date","2011-05-20",null,null,null,"Group",0]
["Hen",52,null,null,null,"Correct Sequence",{"$f":"Start!J2","v":122},null,null,null,null,null,null,null,null,"Total Sequences in Data",{"$f":"4994-COUNTBLANK(L7:L5000)","v":62},null,null,null,null,"Total Sequences in Block Data",{"$f":"COUNTA(L7:L16)","v":10},null,null,null,"Total Sequences in Block Data",{"$f":"COUNTA(L17:L27)","v":11},null,null,null,"Total Sequences in Block Data",{"$f":"COUNTA(L28:L37)","v":10},null,null,null,"Total Sequences in Block Data",{"$f":"COUNTA(L38:L47)","v":10},null,null,null,"Total Sequences in Block Data",{"$f":"COUNTA(L48:L58)","v":11},null,null,null,"Total Sequences in Block Data",{"$f":"COUNTA(L59:L68)","v":10}]
["Program",0,null,null,null,null,null,null,null,null,null,null,null,null,null,"Total Sequences in Summary",{"$f":"SUM(O7:O14)","v":62},null,null,null,null,"Total Sequences in Block Summary",{"$f":"SUM(U7:U14)","v":10},null,null,null,"Total Sequences in Block Summary",{"$f":"SUM(Z7:Z14)","v":11},null,null,null,"Total Sequences in Block Summary",{"$f":"SUM(AE7:AE14)","v":10},null,null,null,"Total Sequences in Block Summary",{"$f":"SUM(AJ7:AJ14)","v":10},null,null,null,"Total Sequences in Block Summary",{"$f":"SUM(AO7:AO14)","v":11},null,null,null,"Total Sequences in Block Summary",{"$f":"SUM(AT7:AT14)","v":10}]
[null,null,null,null,null,null,null,null,null,null,null,null,null,null,null,null,null,null,null,"Block 1",null,null,null,null,"Block 2",null,null,null,null,"Block 3",null,null,null,null,"Block 4",null,null,null,null,"Block 5",null,null,null,null,"Block 6"]
["Sequence\nComponent\n1","Time\n1","Sequence\nComponent\n2","Time\n2","Sequence\nComponent\n3","Time\n3","Sequence\nComponent\n4","Time\n4","Sequence\nComponent\n5","Time\n5","Correct?\n0=No 1=Yes","Sequence",null,"Frequency",null,"Relative Frequency","Variability",null,null,"Frequency",null,"Relative Frequency","Variability",null,"Frequency",null,"Relative Frequency","Variability",null,"Frequency",null,"Relative Frequency","Variability",null,"Frequency",null,"Relative Frequency","Variability",null,"Frequency",null,"Relative Frequency","Variability",null,"Frequency",null,"Relative Frequency","Variability"]
[11,8,11,18,21,28,null,null,null,null,0,112,null,111,{"$f":"COUNTIF($L$7:$L$500,N7)","v":3},{"$f":"O7/$Q$4","v":4.8387096774193547E-2},{"$f":"IF(P7=0,0,(P7*((LOG(P7))/LOG(2))))","v":-0.21141453917737349},null,null,{"$f":"N7","v":111},{"$f":"COUNTIF(L7:L16,T7)","v":0},{"$f":"U7/(W4-U10)","v":0},{"$f":"IF(V7=0,0,(V7*((LOG(V7))/LOG(2))))","v":0},null,{"$f":"N7","v":111},{"$f":"COUNTIF(L17:L27,Y7)","v":1},{"$f":"Z7/(AB4-Z10)","v":0.125},{"$f":"IF(AA7=0,0,(AA7*((LOG(AA7))/LOG(2))))","v":-0.375},null,{"$f":"N7","v":111},{"$f":"COUNTIF(L28:L37,AD7)","v":0},{"$f":"AE7/(AG4-AE10)","v":0},{"$f":"IF(AF7=0,0,(AF7*((LOG(AF7))/LOG(2))))","v":0},null,{"$f":"N7","v":111},{"$f":"COUNTIF(L38:L47,AI7)","v":1},{"$f":"AJ7/(AL4-AJ10)","v":0.14285714285714285},{"$f":"IF(AK7=0,0,(AK7*((LOG(AK7))/LOG(2))))","v":-0.40105070315108626},null,{"$f":"N7","v":111},{"$f":"COUNTIF(L48:L58,AN7)","v":0},{"$f":"AO7/(AQ4-AO10)","v":0},{"$f":"IF(AP7=0,0,(AP7*((LOG(AP7))/LOG(2))))","v":0},null,{"$f":"N7","v":111},{"$f":"COUNTIF(L59:L68,AS7)","v":1},{"$f":"AT7/(AV4-AT10)","v":0.1111111111111111},{"$f":"IF(AU7=0,0,(AU7*((LOG(AU7))/LOG(2))))","v":-0.3522138890491458}]
[11,122,11,127,21,136,null,null,null,null,0,112,null,112,{"$f":"COUNTIF($L$7:$L$500,N8)","v":40},{"$f":"O8/$Q$4","v":0.64516129032258063},{"$f":"IF(P8=0,0,(P8*((LOG(P8))/LOG(2))))","v":-0.40791497774162117},null,null,{"$f":"N8","v":112},{"$f":"COUNTIF(L7:L16,T8)","v":9},{"$f":"U8/(W4-U10)","v":0.9},{"$f":"IF(V8=0,0,(V8*((LOG(V8))/LOG(2))))","v":-0.13680278410054494},null,{"$f":"N8","v":112},{"$f":"COUNTIF(L17:L27,Y8)","v":6},{"$f":"Z8/(AB4-Z10)","v":0.75},{"$f":"IF(AA8=0,0,(AA8*((LOG(AA8))/LOG(2))))","v":-0.31127812445913283},null,{"$f":"N8","v":112},{"$f":"COUNTIF(L28:L37,AD8)","v":4},{"$f":"AE8/(AG4-AE10)","v":1},{"$f":"IF(AF8=0,0,(AF8*((LOG(AF8))/LOG(2))))","v":0},null,{"$f":"N8","v":112},{"$f":"COUNTIF(L38:L47,AI8)","v":5},{"$f":"AJ8/(AL4-AJ10)","v":0.7142857142857143},{"$f":"IF(AK8=0,0,(AK8*((LOG(AK8))/LOG(2))))","v":-0.34673344797874411},null,{"$f":"N8","v":112},{"$f":"COUNTIF(L48:L58,AN8)","v":9},{"$f":"AO8/(AQ4-AO10)","v":1},{"$f":"IF(AP8=0,0,(AP8*((LOG(AP8))/LOG(2))))","v":0},null,{"$f":"N8","v":112},{"$f":"COUNTIF(L59:L68,AS8)","v":7},{"$f":"AT8/(AV4-AT10)","v":0.77777777777777779},{"$f":"IF(AU8=0,0,(AU8*((LOG(AU8))/LOG(2))))","v":-0.28199895063255082}]
[11,224,11,230,21,240,null,null,null,null,0,112,null,121,{"$f":"COUNTIF($L$7:$L$500,N9)","v":4},{"$f":"O9/$Q$4","v":6.4516129032258063E-2},{"$f":"IF(P9=0,0,(P9*((LOG(P9))/LOG(2))))","v":-0.25510943937979835},null,null,{"$f":"N9","v":121},{"$f":"COUNTIF(L7:L16,T9)","v":1},{"$f":"U9/(W4-U10)","v":0.1},{"$f":"IF(V9=0,0,(V9*((LOG(V9))/LOG(2))))","v":-0.33219280948873625},null,{"$f":"N9","v":121},{"$f":"COUNTIF(L17:L27,Y9)","v":1},{"$f":"Z9/(AB4-Z10)","v":0.125},{"$f":"IF(AA9=0,0,(AA9*((LOG(AA9))/LOG(2))))","v":-0.375},null,{"$f":"N9","v":121},{"$f":"COUNTIF(L28:L37,AD9)","v":0},{"$f":"AE9/(AG4-AE10)","v":0},{"$f":"IF(AF9=0,0,(AF9*((LOG(AF9))/LOG(2))))","v":0},null,{"$f":"N9","v":121},{"$f":"COUNTIF(L38:L47,AI9)","v":1},{"$f":"AJ9/(AL4-AJ10)","v":0.14285714285714285},{"$f":"IF(AK9=0,0,(AK9*((LOG(AK9))/LOG(2))))","v":-0.40105070315108626},null,{"$f":"N9","v":121},{"$f":"COUNTIF(L48:L58,AN9)","v":0},{"$f":"AO9/(AQ4-AO10)","v":0},{"$f":"IF(AP9=0,0,(AP9*((LOG(AP9))/LOG(2))))","v":0},null,{"$f":"N9","v":121},{"$f":"COUNTIF(L59:L68,AS9)","v":1},{"$f":"AT9/(AV4-AT10)","v":0.1111111111111111},{"$f":"IF(AU9=0,0,(AU9*((LOG(AU9))/LOG(2))))","v":-0.3522138890491458}]
[11,327,11,334,21,342,null,null,null,null,0,112,null,122,{"$f":"COUNTIF($L$7:$L$500,N10)","v":15},{"$f":"O10/$Q$4","v":0.24193548387096775},{"$f":"IF(P10=0,0,(P10*((LOG(P10))/LOG(2))))","v":-0.49531589873669918},null,null,{"$f":"N10","v":122},{"$f":"COUNTIF(L7:L16,T10)","v":0},null,null,null,{"$f":"N10","v":122},{"$f":"COUNTIF(L17:L27,Y10)","v":3},null,null,null,{"$f":"N10","v":122},{"$f":"COUNTIF(L28:L37,AD10)","v":6},null,null,null,{"$f":"N10","v":122},{"$f":"COUNTIF(L38:L47,AI10)","v":3},null,null,null,{"$f":"N10","v":122},{"$f":"COUNTIF(L48:L58,AN10)","v":2},null,null,null,{"$f":"N10","v":122},{"$f":"COUNTIF(L59:L68,AS10)","v":1}]
[11,431,11,438,21,446,null,null,null,null,0,112,null,211,{"$f":"COUNTIF($L$7:$L$500,N11)","v":0},{"$f":"O11/$Q$4","v":0},{"$f":"IF(P11=0,0,(P11*((LOG(P11))/LOG(2))))","v":0},null,null,{"$f":"N11","v":211},{"$f":"COUNTIF(L7:L16,T11)","v":0},{"$f":"U11/(W4-U10)","v":0},{"$f":"IF(V11=0,0,(V11*((LOG(V11))/LOG(2))))","v":0},null,{"$f":"N11","v":211},{"$f":"COUNTIF(L17:L27,Y11)","v":0},{"$f":"Z11/(AB4-Z10)","v":0},{"$f":"IF(AA11=0,0,(AA11*((LOG(AA11))/LOG(2))))","v":0},null,{"$f":"N11","v":211},{"$f":"COUNTIF(L28:L37,AD11)","v":0},{"$f":"AE11/(AG4-AE10)","v":0},{"$f":"IF(AF11=0,0,(AF11*((LOG(AF11))/LOG(2))))","v":0},null,{"$f":"N11","v":211},{"$f":"COUNTIF(L38:L47,AI11)","v":0},{"$f":"AJ11/(AL4-AJ10)","v":0},{"$f":"IF(AK11=0,0,(AK11*((LOG(AK11))/LOG(2))))","v":0},null,{"$f":"N11","v":211},{"$f":"COUNTIF(L48:L58,AN11)","v":0},{"$f":"AO11/(AQ4-AO10)","v":0},{"$f":"IF(AP11=0,0,(AP11*((LOG(AP11))/LOG(2))))","v":0},null,{"$f":"N11","v":211},{"$f":"COUNTIF(L59:L68,AS11)","v":0},{"$f":"AT11/(AV4-AT10)","v":0},{"$f":"IF(AU11=0,0,(AU11*((LOG(AU11))/LOG(2))))","v":0}]
[11,531,11,536,21,543,null,null,null,null,0,112,null,212,{"$f":"COUNTIF($L$7:$L$500,N12)","v":0},{"$f":"O12/$Q$4","v":0},{"$f":"IF(P12=0,0,(P12*((LOG(P12))/LOG(2))))","v":0},null,null,{"$f":"N12","v":212},{"$f":"COUNTIF(L7:L16,T12)","v":0},{"$f":"U12/(W4-U10)","v":0},{"$f":"IF(V12=0,0,(V12*((LOG(V12))/LOG(2))))","v":0},null,{"$f":"N12","v":212},{"$f":"COUNTIF(L17:L27,Y12)","v":0},{"$f":"Z12/(AB4-Z10)","v":0},{"$f":"IF(AA12=0,0,(AA12*((LOG(AA12))/LOG(2))))","v":0},null,{"$f":"N12","v":212},{"$f":"COUNTIF(L28:L37,AD12)","v":0},{"$f":"AE12/(AG4-AE10)","v":0},{"$f":"IF(AF12=0,0,(AF12*((LOG(AF12))/LOG(2))))","v":0},null,{"$f":"N12","v":212},{"$f":"COUNTIF(L38:L47,AI12)","v":0},{"$f":"AJ12/(AL4-AJ10)","v":0},{"$f":"IF(AK12=0,0,(AK12*((LOG(AK12))/LOG(2))))","v":0},null,{"$f":"N12","v":212},{"$f":"COUNTIF(L48:L58,AN12)","v":0},{"$f":"AO12/(AQ4-AO10)","v":0},{"$f":"IF(AP12=0,0,(AP12*((LOG(AP12))/LOG(2))))","v":0},null,{"$f":"N12","v":212},{"$f":"COUNTIF(L59:L68,AS12)","v":0},{"$f":"AT12/(AV4-AT10)","v":0},{"$f":"IF(AU12=0,0,(AU12*((LOG(AU12))/LOG(2))))","v":0}]
[11,629,11,636,21,643,null,null,null,null,0,112,null,221,{"$f":"COUNTIF($L$7:$L$500,N13)","v":0},{"$f":"O13/$Q$4","v":0},{"$f":"IF(P13=0,0,(P13*((LOG(P13))/LOG(2))))","v":0},null,null,{"$f":"N13","v":221},{"$f":"COUNTIF(L7:L16,T13)","v":0},{"$f":"U13/(W4-U10)","v":0},{"$f":"IF(V13=0,0,(V13*((LOG(V13))/LOG(2))))","v":0},null,{"$f":"N13","v":221},{"$f":"COUNTIF(L17:L27,Y13)","v":0},{"$f":"Z13/(AB4-Z10)","v":0},{"$f":"IF(AA13=0,0,(AA13*((LOG(AA13))/LOG(2))))","v":0},null,{"$f":"N13","v":221},{"$f":"COUNTIF(L28:L37,AD13)","v":0},{"$f":"AE13/(AG4-AE10)","v":0},{"$f":"IF(AF13=0,0,(AF13*((LOG(AF13))/LOG(2))))","v":0},null,{"$f":"N13","v":221},{"$f":"COUNTIF(L38:L47,AI13)","v":0},{"$f":"AJ13/(AL4-AJ10)","v":0},{"$f":"IF(AK13=0,0,(AK13*((LOG(AK13))/LOG(2))))","v":0},null,{"$f":"N13","v":221},{"$f":"COUNTIF(L48:L58,AN13)","v":0},{"$f":"AO13/(AQ4-AO10)","v":0},{"$f":"IF(AP13=0,0,(AP13*((LOG(AP13))/LOG(2))))","v":0},null,{"$f":"N13","v":221},{"$f":"COUNTIF(L59:L68,AS13)","v":0},{"$f":"AT13/(AV4-AT10)","v":0},{"$f":"IF(AU13=0,0,(AU13*((LOG(AU13))/LOG(2))))","v":0}]
[11,731,11,737,21,745,null,null,null,null,0,112,null,222,{"$f":"COUNTIF($L$7:$L$500,N14)","v":0},{"$f":"O14/$Q$4","v":0},{"$f":"IF(P14=0,0,(P14*((LOG(P14))/LOG(2))))","v":0},null,null,{"$f":"N14","v":222},{"$f":"COUNTIF(L7:L16,T14)","v":0},{"$f":"U14/(W4-U10)","v":0},{"$f":"IF(V14=0,0,(V14*((LOG(V14))/LOG(2))))","v":0},null,{"$f":"N14","v":222},{"$f":"COUNTIF(L17:L27,Y14)","v":0},{"$f":"Z14/(AB4-Z10)","v":0},{"$f":"IF(AA14=0,0,(AA14*((LOG(AA14))/LOG(2))))","v":0},null,{"$f":"N14","v":222},{"$f":"COUNTIF(L28:L37,AD14)","v":0},{"$f":"AE14/(AG4-AE10)","v":0},{"$f":"IF(AF14=0,0,(AF14*((LOG(AF14))/LOG(2))))","v":0},null,{"$f":"N14","v":222},{"$f":"COUNTIF(L38:L47,AI14)","v":0},{"$f":"AJ14/(AL4-AJ10)","v":0},{"$f":"IF(AK14=0,0,(AK14*((LOG(AK14))/LOG(2))))","v":0},null,{"$f":"N14","v":222},{"$f":"COUNTIF(L48:L58,AN14)","v":0},{"$f":"AO14/(AQ4-AO10)","v":0},{"$f":"IF(AP14=0,0,(AP14*((LOG(AP14))/LOG(2))))","v":0},null,{"$f":"N14","v":222},{"$f":"COUNTIF(L59:L68,AS14)","v":0},{"$f":"AT14/(AV4-AT10)","v":0},{"$f":"IF(AU14=0,0,(AU14*((LOG(AU14))/LOG(2))))","v":0}]
[11,838,11,843,21,850,null,null,null,null,0,112,null,null,null,{"$f":"SUM(P7:P14)","v":1},{"$f":"-SUM(Q7:Q14)","v":1.3697548550354921},null,null,null,null,{"$f":"SUM(V7:V14)","v":1},{"$f":"-SUM(W7:W14)","v":0.46899559358928122},null,null,null,{"$f":"SUM(AA7:AA14)","v":1},{"$f":"-SUM(AB7:AB14)","v":1.0612781244591329},null,null,null,{"$f":"SUM(AF7:AF14)","v":1},{"$f":"-SUM(AG7:AG14)","v":0},null,null,null,{"$f":"SUM(AK7:AK14)","v":1},{"$f":"-SUM(AL7:AL14)","v":1.1488348542809166},null,null,null,{"$f":"SUM(AP7:AP14)","v":1},{"$f":"-SUM(AQ7:AQ14)","v":0},null,null,null,{"$f":"SUM(AU7:AU14)","v":1},{"$f":"-SUM(AV7:AV14)","v":0.98642672873084236}]
[11,940,22,951,14,989,null,null,null,null,0,121,null,null,null,"U=",{"$f":"Q15/(LOG(Q4)/LOG(2))","v":0.2300486553736909},null,null,null,null,"U1=",{"$f":"W15/(LOG(W4)/LOG(2))","v":0.14118174150460763},null,null,null,"U2=",{"$f":"AB15/(LOG(AB4)/LOG(2))","v":0.306778176721753},null,null,null,"U3=",{"$f":"AG15/(LOG(AG4)/LOG(2))","v":0},null,null,null,"U4=",{"$f":"AL15/(LOG(AL4)/LOG(2))","v":0.34583375120281479},null,null,null,"U5=",{"$f":"AQ15/(LOG(AQ4)/LOG(2))","v":0},null,null,null,"U6=",{"$f":"AV15/(LOG(AV4)/LOG(2))","v":0.29694403387268065}]
[11,1087,11,1091,21,1099,null,null,null,null,0,112]
[11,1192,22,1200,14,1327,null,null,null,null,0,121]
[11,1429,11,1435,21,1443,null,null,null,null,0,112,null,"Total Target Seq"]
[11,1532,22,1543,23,1594,null,null,null,null,0,122,null,{"$f":"COUNTIF(L7:L68,G3)","v":15},null,10,11,10,10,11,10]
[11,1691,11,1696,21,1704,null,null,null,null,0,112,null,null,null,"% of reinforcement given in 6 equal intervals based on number of trials "]
[11,1796,11,1800,21,1811,null,null,null,null,0,112,null,null,null,"%_1","%_2","%_3","%_4","%_5","%_6"]
[11,1902,11,1908,12,1913,null,null,null,null,0,111,null,null,"target sequence",{"$f":"$G$3","v":122},{"$f":"$G$3","v":122},{"$f":"$G$3","v":122},{"$f":"$G$3","v":122},{"$f":"$G$3","v":122},{"$f":"$G$3","v":122}]
[11,2009,11,2013,21,2022,null,null,null,null,0,112,null,null,"total reinforcement",{"$f":"U10","v":0},{"$f":"Z10","v":3},{"$f":"AE10","v":6},{"$f":"AJ10","v":3},{"$f":"AO10","v":2},{"$f":"AT10","v":1}]
[11,2108,22,2119,23,2160,null,null,null,null,0,122,null,null,"% target"]
[11,2267,22,2277,23,2315,null,null,null,null,0,122,null,null,"CCRF"]
[11,2414,11,2418,21,2427,null,null,null,null,0,112,null,null,"% CCRf"]
[11,2517,11,2521,21,2530,null,null,null,null,0,112,null,null,"average response rate",{"$f":"F16/P20","v":98.9},{"$f":"(F27-F16)/Q20","v":130.72727272727272},{"$f":"(F37-F27)/R20","v":128.5},{"$f":"(F47-F37)/S20","v":125.7},{"$f":"(F58-F47)/T20","v":115.72727272727273},{"$f":"(F68-F58)/U20","v":115.2}]
[11,2617,11,2624,21,2633,null,null,null,null,0,112]
[11,2720,22,2728,23,2766,null,null,null,null,0,122]
[11,2866,22,2877,23,2917,null,null,null,null,0,122]
[11,3020,22,3034,23,3055,null,null,null,null,0,122]
[11,3152,11,3156,21,3166,null,null,null,null,0,112]
[11,3255,22,3265,23,3302,null,null,null,null,0,122]
[11,3400,22,3408,23,3447,null,null,null,null,0,122]
[11,3548,22,3558,23,3597,null,null,null,null,0,122]
[11,3697,11,3702,21,3712,null,null,null,null,0,112]
[11,3813,22,3823,23,3859,null,null,null,null,0,122]
[11,3956,11,3962,21,3972,null,null,null,null,0,112]
[11,4065,22,4075,14,4132,null,null,null,null,0,121]
[11,4229,11,4233,12,4240,null,null,null,null,0,111]
[11,4341,22,4352,23,4400,null,null,null,null,0,122]
[11,4499,11,4505,21,4514,null,null,null,null,0,112]
[11,4603,11,4608,21,4619,null,null,null,null,0,112]
[11,4708,11,4712,21,4723,null,null,null,null,0,112]
[11,4812,22,4821,23,4852,null,null,null,null,0,122]
[11,4952,11,4959,21,4969,null,null,null,null,0,112]
[11,5061,11,5065,21,5075,null,null,null,null,0,112]
[11,5165,11,5171,21,5181,null,null,null,null,0,112]
[11,5270,11,5274,21,5285,null,null,null,null,0,112]
[11,5371,11,5382,21,5392,null,null,null,null,0,112]
[11,5484,11,5490,21,5500,null,null,null,null,0,112]
[11,5596,11,5601,21,5611,null,null,null,null,0,112]
[11,5702,11,5706,21,5714,null,null,null,null,0,112]
[11,5806,22,5817,23,5851,null,null,null,null,0,122]
[11,5952,11,5957,21,5968,null,null,null,null,0,112]
[11,6060,22,6070,23,6132,null,null,null,null,0,122]
[11,6230,11,6234,21,6242,null,null,null,null,0,112]
[11,6331,11,6335,21,6344,null,null,null,null,0,112]
[11,6436,11,6444,21,6453,null,null,null,null,0,112]
[11,6544,11,6550,21,6561,null,null,null,null,0,112]
[11,6648,11,6655,21,6665,null,null,null,null,0,112]
[11,6751,11,6756,21,6765,null,null,null,null,0,112]
[11,6862,11,6866,12,6870,null,null,null,null,0,111]
[11,6966,11,6972,21,6980,null,null,null,null,0,112]
[11,7077,22,7085,23,7124,null,null,null,null,0,122]
[11,7220,22,7231,14,7277,null,null,null,null,0,121]
[11,7377,11,7385,21,7394,null,null,null,null,1,112]

{"sheet":"!2011-05-21_08h39m.Subject 52","index":19,"n_rows":94,"n_cols":48,"rows_kept":94,"cut":false,"hidden":false,"merged":[[4,39,4,42],[5,39,5,40],[4,44,4,47],[5,44,5,45],[4,24,4,27],[5,24,5,25],[4,29,4,32],[5,29,5,30],[4,34,4,37],[5,34,5,35],[1,1,1,2],[5,13,5,14],[18,13,18,14],[19,13,19,14],[4,19,4,22],[5,19,5,20]]}
["Report for:!2011-05-21_08h39m.Subject 52"]
["Date","2011-05-21",null,null,null,"Group",0]
["Hen",52,null,null,null,"Correct Sequence",{"$f":"Start!J2","v":122},null,null,null,null,null,null,null,null,"Total Sequences in Data",{"$f":"4994-COUNTBLANK(L7:L5000)","v":88},null,null,null,null,"Total Sequences in Block Data",{"$f":"COUNTA(L7:L21)","v":15},null,null,null,"Total Sequences in Block Data",{"$f":"COUNTA(L22:L35)","v":14},null,null,null,"Total Sequences in Block Data",{"$f":"COUNTA(L36:L50)","v":15},null,null,null,"Total Sequences in Block Data",{"$f":"COUNTA(L51:L65)","v":15},null,null,null,"Total Sequences in Block Data",{"$f":"COUNTA(L66:L79)","v":14},null,null,null,"Total Sequences in Block Data",{"$f":"COUNTA(L80:L94)","v":15}]
["Program",0,null,null,null,null,null,null,null,null,null,null,null,null,null,"Total Sequences in Summary",{"$f":"SUM(O7:O14)","v":88},null,null,null,null,"Total Sequences in Block Summary",{"$f":"SUM(U7:U14)","v":15},null,null,null,"Total Sequences in Block Summary",{"$f":"SUM(Z7:Z14)","v":14},null,null,null,"Total Sequences in Block Summary",{"$f":"SUM(AE7:AE14)","v":15},null,null,null,"Total Sequences in Block Summary",{"$f":"SUM(AJ7:AJ14)","v":15},null,null,null,"Total Sequences in Block Summary",{"$f":"SUM(AO7:AO14)","v":14},null,null,null,"Total Sequences in Block Summary",{"$f":"SUM(AT7:AT14)","v":15}]
[null,null,null,null,null,null,null,null,null,null,null,null,null,null,null,null,null,null,null,"Block 1",null,null,null,null,"Block 2",null,null,null,null,"Block 3",null,null,null,null,"Block 4",null,null,null,null,"Block 5",null,null,null,null,"Block 6"]
["Sequence\nComponent\n1","Time\n1","Sequence\nComponent\n2","Time\n2","Sequence\nComponent\n3","Time\n3","Sequence\nComponent\n4","Time\n4","Sequence\nComponent\n5","Time\n5","Correct?\n0=No 1=Yes","Sequence",null,"Frequency",null,"Relative Frequency","Variability",null,null,"Frequency",null,"Relative Frequency","Variability",null,"Frequency",null,"Relative Frequency","Variability",null,"Frequency",null,"Relative Frequency","Variability",null,"Frequency",null,"Relative Frequency","Variability",null,"Frequency",null,"Relative Frequency","Variability",null,"Frequency",null,"Relative Frequency","Variability"]
[11,8,22,16,23,36,null,null,null,null,0,122,null,111,{"$f":"COUNTIF($L$7:$L$500,N7)","v":19},{"$f":"O7/$Q$4","v":0.21590909090909091},{"$f":"IF(P7=0,0,(P7*((LOG(P7))/LOG(2))))","v":-0.47748384089409684},null,null,{"$f":"N7","v":111},{"$f":"COUNTIF(L7:L21,T7)","v":2},{"$f":"U7/(W4-U10)","v":0.18181818181818182},{"$f":"IF(V7=0,0,(V7*((LOG(V7))/LOG(2))))","v":-0.44716938520678134},null,{"$f":"N7","v":111},{"$f":"COUNTIF(L22:L35,Y7)","v":2},{"$f":"Z7/(AB4-Z10)","v":0.16666666666666666},{"$f":"IF(AA7=0,0,(AA7*((LOG(AA7))/LOG(2))))","v":-0.43082708345352599},null,{"$f":"N7","v":111},{"$f":"COUNTIF(L36:L50,AD7)","v":7},{"$f":"AE7/(AG4-AE10)","v":0.5},{"$f":"IF(AF7=0,0,(AF7*((LOG(AF7))/LOG(2))))","v":-0.5},null,{"$f":"N7","v":111},{"$f":"COUNTIF(L51:L65,AI7)","v":3},{"$f":"AJ7/(AL4-AJ10)","v":0.21428571428571427},{"$f":"IF(AK7=0,0,(AK7*((LOG(AK7))/LOG(2))))","v":-0.47622694742923877},null,{"$f":"N7","v":111},{"$f":"COUNTIF(L66:L79,AN7)","v":5},{"$f":"AO7/(AQ4-AO10)","v":0.41666666666666669},{"$f":"IF(AP7=0,0,(AP7*((LOG(AP7))/LOG(2))))","v":-0.52626433576408083},null,{"$f":"N7","v":111},{"$f":"COUNTIF(L80:L94,AS7)","v":0},{"$f":"AT7/(AV4-AT10)","v":0},{"$f":"IF(AU7=0,0,(AU7*((LOG(AU7))/LOG(2))))","v":0}]
[11,139,11,143,21,150,null,null,null,null,0,112,null,112,{"$f":"COUNTIF($L$7:$L$500,N8)","v":40},{"$f":"O8/$Q$4","v":0.45454545454545453},{"$f":"IF(P8=0,0,(P8*((LOG(P8))/LOG(2))))","v":-0.51704705624997038},null,null,{"$f":"N8","v":112},{"$f":"COUNTIF(L7:L21,T8)","v":8},{"$f":"U8/(W4-U10)","v":0.72727272727272729},{"$f":"IF(V8=0,0,(V8*((LOG(V8))/LOG(2))))","v":-0.33413208628167068},null,{"$f":"N8","v":112},{"$f":"COUNTIF(L22:L35,Y8)","v":9},{"$f":"Z8/(AB4-Z10)","v":0.75},{"$f":"IF(AA8=0,0,(AA8*((LOG(AA8))/LOG(2))))","v":-0.31127812445913283},null,{"$f":"N8","v":112},{"$f":"COUNTIF(L36:L50,AD8)","v":6},{"$f":"AE8/(AG4-AE10)","v":0.42857142857142855},{"$f":"IF(AF8=0,0,(AF8*((LOG(AF8))/LOG(2))))","v":-0.52388246628704915},null,{"$f":"N8","v":112},{"$f":"COUNTIF(L51:L65,AI8)","v":7},{"$f":"AJ8/(AL4-AJ10)","v":0.5},{"$f":"IF(AK8=0,0,(AK8*((LOG(AK8))/LOG(2))))","v":-0.5},null,{"$f":"N8","v":112},{"$f":"COUNTIF(L66:L79,AN8)","v":3},{"$f":"AO8/(AQ4-AO10)","v":0.25},{"$f":"IF(AP8=0,0,(AP8*((LOG(AP8))/LOG(2))))","v":-0.5},null,{"$f":"N8","v":112},{"$f":"COUNTIF(L80:L94,AS8)","v":7},{"$f":"AT8/(AV4-AT10)","v":0.5},{"$f":"IF(AU8=0,0,(AU8*((LOG(AU8))/LOG(2))))","v":-0.5}]
[11,239,11,246,21,253,null,null,null,null,0,112,null,121,{"$f":"COUNTIF($L$7:$L$500,N9)","v":16},{"$f":"O9/$Q$4","v":0.18181818181818182},{"$f":"IF(P9=0,0,(P9*((LOG(P9))/LOG(2))))","v":-0.44716938520678134},null,null,{"$f":"N9","v":121},{"$f":"COUNTIF(L7:L21,T9)","v":1},{"$f":"U9/(W4-U10)","v":9.0909090909090912E-2},{"$f":"IF(V9=0,0,(V9*((LOG(V9))/LOG(2))))","v":-0.31449378351248153},null,{"$f":"N9","v":121},{"$f":"COUNTIF(L22:L35,Y9)","v":1},{"$f":"Z9/(AB4-Z10)","v":8.3333333333333329E-2},{"$f":"IF(AA9=0,0,(AA9*((LOG(AA9))/LOG(2))))","v":-0.29874687506009634},null,{"$f":"N9","v":121},{"$f":"COUNTIF(L36:L50,AD9)","v":1},{"$f":"AE9/(AG4-AE10)","v":7.1428571428571425E-2},{"$f":"IF(AF9=0,0,(AF9*((LOG(AF9))/LOG(2))))","v":-0.27195392300411453},null,{"$f":"N9","v":121},{"$f":"COUNTIF(L51:L65,AI9)","v":3},{"$f":"AJ9/(AL4-AJ10)","v":0.21428571428571427},{"$f":"IF(AK9=0,0,(AK9*((LOG(AK9))/LOG(2))))","v":-0.47622694742923877},null,{"$f":"N9","v":121},{"$f":"COUNTIF(L66:L79,AN9)","v":4},{"$f":"AO9/(AQ4-AO10)","v":0.33333333333333331},{"$f":"IF(AP9=0,0,(AP9*((LOG(AP9))/LOG(2))))","v":-0.52832083357371862},null,{"$f":"N9","v":121},{"$f":"COUNTIF(L80:L94,AS9)","v":6},{"$f":"AT9/(AV4-AT10)","v":0.42857142857142855},{"$f":"IF(AU9=0,0,(AU9*((LOG(AU9))/LOG(2))))","v":-0.52388246628704915}]
[11,347,22,354,14,399,null,null,null,null,0,121,null,122,{"$f":"COUNTIF($L$7:$L$500,N10)","v":11},{"$f":"O10/$Q$4","v":0.125},{"$f":"IF(P10=0,0,(P10*((LOG(P10))/LOG(2))))","v":-0.375},null,null,{"$f":"N10","v":122},{"$f":"COUNTIF(L7:L21,T10)","v":4},null,null,null,{"$f":"N10","v":122},{"$f":"COUNTIF(L22:L35,Y10)","v":2},null,null,null,{"$f":"N10","v":122},{"$f":"COUNTIF(L36:L50,AD10)","v":1},null,null,null,{"$f":"N10","v":122},{"$f":"COUNTIF(L51:L65,AI10)","v":1},null,null,null,{"$f":"N10","v":122},{"$f":"COUNTIF(L66:L79,AN10)","v":2},null,null,null,{"$f":"N10","v":122},{"$f":"COUNTIF(L80:L94,AS10)","v":1}]
[11,497,11,502,21,509,null,null,null,null,0,112,null,211,{"$f":"COUNTIF($L$7:$L$500,N11)","v":0},{"$f":"O11/$Q$4","v":0},{"$f":"IF(P11=0,0,(P11*((LOG(P11))/LOG(2))))","v":0},null,null,{"$f":"N11","v":211},{"$f":"COUNTIF(L7:L21,T11)","v":0},{"$f":"U11/(W4-U10)","v":0},{"$f":"IF(V11=0,0,(V11*((LOG(V11))/LOG(2))))","v":0},null,{"$f":"N11","v":211},{"$f":"COUNTIF(L22:L35,Y11)","v":0},{"$f":"Z11/(AB4-Z10)","v":0},{"$f":"IF(AA11=0,0,(AA11*((LOG(AA11))/LOG(2))))","v":0},null,{"$f":"N11","v":211},{"$f":"COUNTIF(L36:L50,AD11)","v":0},{"$f":"AE11/(AG4-AE10)","v":0},{"$f":"IF(AF11=0,0,(AF11*((LOG(AF11))/LOG(2))))","v":0},null,{"$f":"N11","v":211},{"$f":"COUNTIF(L51:L65,AI11)","v":0},{"$f":"AJ11/(AL4-AJ10)","v":0},{"$f":"IF(AK11=0,0,(AK11*((LOG(AK11))/LOG(2))))","v":0},null,{"$f":"N11","v":211},{"$f":"COUNTIF(L66:L79,AN11)","v":0},{"$f":"AO11/(AQ4-AO10)","v":0},{"$f":"IF(AP11=0,0,(AP11*((LOG(AP11))/LOG(2))))","v":0},null,{"$f":"N11","v":211},{"$f":"COUNTIF(L80:L94,AS11)","v":0},{"$f":"AT11/(AV4-AT10)","v":0},{"$f":"IF(AU11=0,0,(AU11*((LOG(AU11))/LOG(2))))","v":0}]
[11,597,11,602,21,611,null,null,null,null,0,112,null,212,{"$f":"COUNTIF($L$7:$L$500,N12)","v":2},{"$f":"O12/$Q$4","v":2.2727272727272728E-2},{"$f":"IF(P12=0,0,(P12*((LOG(P12))/LOG(2))))","v":-0.12407799133266585},null,null,{"$f":"N12","v":212},{"$f":"COUNTIF(L7:L21,T12)","v":0},{"$f":"U12/(W4-U10)","v":0},{"$f":"IF(V12=0,0,(V12*((LOG(V12))/LOG(2))))","v":0},null,{"$f":"N12","v":212},{"$f":"COUNTIF(L22:L35,Y12)","v":0},{"$f":"Z12/(AB4-Z10)","v":0},{"$f":"IF(AA12=0,0,(AA12*((LOG(AA12))/LOG(2))))","v":0},null,{"$f":"N12","v":212},{"$f":"COUNTIF(L36:L50,AD12)","v":0},{"$f":"AE12/(AG4-AE10)","v":0},{"$f":"IF(AF12=0,0,(AF12*((LOG(AF12))/LOG(2))))","v":0},null,{"$f":"N12","v":212},{"$f":"COUNTIF(L51:L65,AI12)","v":1},{"$f":"AJ12/(AL4-AJ10)","v":7.1428571428571425E-2},{"$f":"IF(AK12=0,0,(AK12*((LOG(AK12))/LOG(2))))","v":-0.27195392300411453},null,{"$f":"N12","v":212},{"$f":"COUNTIF(L66:L79,AN12)","v":0},{"$f":"AO12/(AQ4-AO10)","v":0},{"$f":"IF(AP12=0,0,(AP12*((LOG(AP12))/LOG(2))))","v":0},null,{"$f":"N12","v":212},{"$f":"COUNTIF(L80:L94,AS12)","v":1},{"$f":"AT12/(AV4-AT10)","v":7.1428571428571425E-2},{"$f":"IF(AU12=0,0,(AU12*((LOG(AU12))/LOG(2))))","v":-0.27195392300411453}]
[11,698,22,708,23,807,null,null,null,null,0,122,null,221,{"$f":"COUNTIF($L$7:$L$500,N13)","v":0},{"$f":"O13/$Q$4","v":0},{"$f":"IF(P13=0,0,(P13*((LOG(P13))/LOG(2))))","v":0},null,null,{"$f":"N13","v":221},{"$f":"COUNTIF(L7:L21,T13)","v":0},{"$f":"U13/(W4-U10)","v":0},{"$f":"IF(V13=0,0,(V13*((LOG(V13))/LOG(2))))","v":0},null,{"$f":"N13","v":221},{"$f":"COUNTIF(L22:L35,Y13)","v":0},{"$f":"Z13/(AB4-Z10)","v":0},{"$f":"IF(AA13=0,0,(AA13*((LOG(AA13))/LOG(2))))","v":0},null,{"$f":"N13","v":221},{"$f":"COUNTIF(L36:L50,AD13)","v":0},{"$f":"AE13/(AG4-AE10)","v":0},{"$f":"IF(AF13=0,0,(AF13*((LOG(AF13))/LOG(2))))","v":0},null,{"$f":"N13","v":221},{"$f":"COUNTIF(L51:L65,AI13)","v":0},{"$f":"AJ13/(AL4-AJ10)","v":0},{"$f":"IF(AK13=0,0,(AK13*((LOG(AK13))/LOG(2))))","v":0},null,{"$f":"N13","v":221},{"$f":"COUNTIF(L66:L79,AN13)","v":0},{"$f":"AO13/(AQ4-AO10)","v":0},{"$f":"IF(AP13=0,0,(AP13*((LOG(AP13))/LOG(2))))","v":0},null,{"$f":"N13","v":221},{"$f":"COUNTIF(L80:L94,AS13)","v":0},{"$f":"AT13/(AV4-AT10)","v":0},{"$f":"IF(AU13=0,0,(AU13*((LOG(AU13))/LOG(2))))","v":0}]
[11,905,11,911,12,917,null,null,null,null,0,111,null,222,{"$f":"COUNTIF($L$7:$L$500,N14)","v":0},{"$f":"O14/$Q$4","v":0},{"$f":"IF(P14=0,0,(P14*((LOG(P14))/LOG(2))))","v":0},null,null,{"$f":"N14","v":222},{"$f":"COUNTIF(L7:L21,T14)","v":0},{"$f":"U14/(W4-U10)","v":0},{"$f":"IF(V14=0,0,(V14*((LOG(V14))/LOG(2))))","v":0},null,{"$f":"N14","v":222},{"$f":"COUNTIF(L22:L35,Y14)","v":0},{"$f":"Z14/(AB4-Z10)","v":0},{"$f":"IF(AA14=0,0,(AA14*((LOG(AA14))/LOG(2))))","v":0},null,{"$f":"N14","v":222},{"$f":"COUNTIF(L36:L50,AD14)","v":0},{"$f":"AE14/(AG4-AE10)","v":0},{"$f":"IF(AF14=0,0,(AF14*((LOG(AF14))/LOG(2))))","v":0},null,{"$f":"N14","v":222},{"$f":"COUNTIF(L51:L65,AI14)","v":0},{"$f":"AJ14/(AL4-AJ10)","v":0},{"$f":"IF(AK14=0,0,(AK14*((LOG(AK14))/LOG(2))))","v":0},null,{"$f":"N14","v":222},{"$f":"COUNTIF(L66:L79,AN14)","v":0},{"$f":"AO14/(AQ4-AO10)","v":0},{"$f":"IF(AP14=0,0,(AP14*((LOG(AP14))/LOG(2))))","v":0},null,{"$f":"N14","v":222},{"$f":"COUNTIF(L80:L94,AS14)","v":0},{"$f":"AT14/(AV4-AT10)","v":0},{"$f":"IF(AU14=0,0,(AU14*((LOG(AU14))/LOG(2))))","v":0}]
[11,1013,11,1019,12,1024,null,null,null,null,0,111,null,null,null,{"$f":"SUM(P7:P14)","v":1},{"$f":"-SUM(Q7:Q14)","v":1.9407782736835144},null,null,null,null,{"$f":"SUM(V7:V14)","v":1},{"$f":"-SUM(W7:W14)","v":1.0957952550009336},null,null,null,{"$f":"SUM(AA7:AA14)","v":1},{"$f":"-SUM(AB7:AB14)","v":1.0408520829727552},null,null,null,{"$f":"SUM(AF7:AF14)","v":1},{"$f":"-SUM(AG7:AG14)","v":1.2958363892911637},null,null,null,{"$f":"SUM(AK7:AK14)","v":1},{"$f":"-SUM(AL7:AL14)","v":1.7244078178625921},null,null,null,{"$f":"SUM(AP7:AP14)","v":1},{"$f":"-SUM(AQ7:AQ14)","v":1.5545851693377994},null,null,null,{"$f":"SUM(AU7:AU14)","v":1},{"$f":"-SUM(AV7:AV14)","v":1.2958363892911637}]
[11,1124,11,1129,21,1139,null,null,null,null,0,112,null,null,null,"U=",{"$f":"Q15/(LOG(Q4)/LOG(2))","v":0.3004565089107557},null,null,null,null,"U1=",{"$f":"W15/(LOG(W4)/LOG(2))","v":0.280477589066007},null,null,null,"U2=",{"$f":"AB15/(LOG(AB4)/LOG(2))","v":0.27337931563528861},null,null,null,"U3=",{"$f":"AG15/(LOG(AG4)/LOG(2))","v":0.3316797226796494},null,null,null,"U4=",{"$f":"AL15/(LOG(AL4)/LOG(2))","v":0.44137601902671314},null,null,null,"U5=",{"$f":"AQ15/(LOG(AQ4)/LOG(2))","v":0.40831107190228988},null,null,null,"U6=",{"$f":"AV15/(LOG(AV4)/LOG(2))","v":0.3316797226796494}]
[11,1230,11,1237,21,1245,null,null,null,null,0,112]
[11,1331,11,1335,21,1344,null,null,null,null,0,112]
[11,1434,22,1445,23,1496,null,null,null,null,0,122,null,"Total Target Seq"]
[11,1596,22,1608,23,1672,null,null,null,null,0,122,null,{"$f":"COUNTIF(L7:L94,G3)","v":11},null,15,14,15,15,14,15]
[11,1774,11,1781,21,1790,null,null,null,null,0,112,null,null,null,"% of reinforcement given in 6 equal intervals based on number of trials "]
[11,1884,11,1889,21,1897,null,null,null,null,0,112,null,null,null,"%_1","%_2","%_3","%_4","%_5","%_6"]
[11,1982,22,1994,14,2042,null,null,null,null,0,121,null,null,"target sequence",{"$f":"$G$3","v":122},{"$f":"$G$3","v":122},{"$f":"$G$3","v":122},{"$f":"$G$3","v":122},{"$f":"$G$3","v":122},{"$f":"$G$3","v":122}]
[11,2138,11,2144,21,2154,null,null,null,null,0,112,null,null,"total reinforcement",{"$f":"U10","v":4},{"$f":"Z10","v":2},{"$f":"AE10","v":1},{"$f":"AJ10","v":1},{"$f":"AO10","v":2},{"$f":"AT10","v":1}]
[11,2243,11,2250,21,2260,null,null,null,null,0,112,null,null,"% target"]
[11,2350,22,2361,23,2404,null,null,null,null,0,122,null,null,"CCRF"]
[11,2505,11,2511,12,2516,null,null,null,null,0,111,null,null,"% CCRf"]
[11,2616,11,2623,12,2630,null,null,null,null,0,111,null,null,"average response rate",{"$f":"F21/P20","v":119.33333333333333},{"$f":"(F35-F21)/Q20","v":117.57142857142857},{"$f":"(F50-F35)/R20","v":115.6},{"$f":"(F65-F50)/S20","v":130.6},{"$f":"(F79-F65)/T20","v":132.07142857142858},{"$f":"(F94-F79)/U20","v":151.4}]
[11,2727,11,2732,21,2743,null,null,null,null,0,112]
[11,2838,11,2844,21,2855,null,null,null,null,0,112]
[11,2951,22,2962,23,3010,null,null,null,null,0,122]
[11,3107,11,3111,21,3121,null,null,null,null,0,112]
[11,3209,11,3216,21,3227,null,null,null,null,0,112]
[11,3320,11,3324,21,3334,null,null,null,null,0,112]
[11,3421,11,3425,21,3436,null,null,null,null,0,112]
[11,3525,11,3530,21,3538,null,null,null,null,0,112]
[11,3628,11,3635,12,3639,null,null,null,null,0,111]
[11,3742,11,3746,12,3753,null,null,null,null,0,111]
[11,3851,11,3855,12,3859,null,null,null,null,0,111]
[11,3964,22,3975,14,4017,null,null,null,null,0,121]
[11,4113,11,4122,21,4133,null,null,null,null,0,112]
[11,4225,11,4232,21,4243,null,null,null,null,0,112]
[11,4333,11,4338,21,4348,null,null,null,null,0,112]
[11,4439,11,4445,21,4455,null,null,null,null,0,112]
[11,4547,22,4559,23,4624,null,null,null,null,0,122]
[11,4720,11,4726,12,4732,null,null,null,null,0,111]
[11,4842,11,4846,21,4859,null,null,null,null,0,112]
[11,4946,11,4950,12,4955,null,null,null,null,0,111]
[11,5054,11,5058,12,5062,null,null,null,null,0,111]
[11,5160,11,5166,12,5170,null,null,null,null,0,111]
[11,5266,11,5278,12,5285,null,null,null,null,0,111]
[11,5383,22,5398,14,5453,null,null,null,null,0,121]
[11,5553,22,5565,23,5632,null,null,null,null,0,122]
[11,5727,11,5732,12,5739,null,null,null,null,0,111]
[22,5835,13,5847,23,5856,null,null,null,null,0,212]
[11,5948,11,5953,12,5959,null,null,null,null,0,111]
[11,6057,11,6063,21,6073,null,null,null,null,0,112]
[11,6163,11,6168,21,6176,null,null,null,null,0,112]
[11,6305,22,6316,14,6431,null,null,null,null,0,121]
[11,6527,11,6531,21,6541,null,null,null,null,0,112]
[11,6627,11,6632,21,6642,null,null,null,null,0,112]
[11,6737,11,6742,21,6752,null,null,null,null,0,112]
[11,6843,11,6848,21,6858,null,null,null,null,0,112]
[11,6946,22,6957,14,7016,null,null,null,null,0,121]
[11,7116,11,7121,21,7129,null,null,null,null,0,112]
[11,7215,22,7227,14,7272,null,null,null,null,0,121]
[11,7371,11,7383,12,7389,null,null,null,null,0,111]
[11,7486,11,7491,12,7495,null,null,null,null,0,111]
[11,7593,11,7597,12,7604,null,null,null,null,0,111]
[11,7700,11,7704,12,7709,null,null,null,null,0,111]
[11,7812,11,7817,21,7828,null,null,null,null,0,112]
[11,7921,22,7933,14,7978,null,null,null,null,0,121]
[11,8081,22,8092,23,8119,null,null,null,null,0,122]
[11,8226,22,8234,23,8289,null,null,null,null,0,122]
[11,8395,11,8401,21,8412,null,null,null,null,0,112]
[11,8500,11,8504,21,8515,null,null,null,null,0,112]
[11,8603,22,8614,14,8706,null,null,null,null,0,121]
[11,8805,22,8815,14,8870,null,null,null,null,0,121]
[11,8970,11,8974,12,8978,null,null,null,null,0,111]
[11,9075,22,9087,14,9171,null,null,null,null,0,121]
[11,9268,11,9275,21,9285,null,null,null,null,0,112]
[11,9380,22,9391,14,9485,null,null,null,null,0,121]
[11,9596,22,9607,14,9725,null,null,null,null,0,121]
[11,9819,11,9824,21,9836,null,null,null,null,0,112]
[11,9926,22,9937,14,9999,null,null,null,null,0,121]
[11,10096,22,10107,14,10206,null,null,null,null,0,121]
[11,10307,22,10318,23,10393,null,null,null,null,0,122]
[22,10492,13,10499,23,10510,null,null,null,null,0,212]
[11,10609,11,10614,21,10622,null,null,null,null,0,112]
[11,10713,22,10724,14,10807,null,null,null,null,0,121]
[11,10903,11,10907,21,10918,null,null,null,null,0,112]
[11,11016,11,11021,21,11029,null,null,null,null,0,112]
[11,11119,11,11131,21,11141,null,null,null,null,0,112]
[11,11229,11,11239,21,11249,null,null,null,null,1,112]

{"sheet":"!2011-05-22_08h49m.Subject 52","index":20,"n_rows":86,"n_cols":48,"rows_kept":86,"cut":false,"hidden":false,"merged":[[4,39,4,42],[5,39,5,40],[4,44,4,47],[5,44,5,45],[4,24,4,27],[5,24,5,25],[4,29,4,32],[5,29,5,30],[4,34,4,37],[5,34,5,35],[1,1,1,2],[5,13,5,14],[18,13,18,14],[19,13,19,14],[4,19,4,22],[5,19,5,20]]}
["Report for:!2011-05-22_08h49m.Subject 52"]
["Date","2011-05-22",null,null,null,"Group",0]
["Hen",52,null,null,null,"Correct Sequence",{"$f":"Start!J2","v":122},null,null,null,null,null,null,null,null,"Total Sequences in Data",{"$f":"4994-COUNTBLANK(L7:L5000)","v":80},null,null,null,null,"Total Sequences in Block Data",{"$f":"COUNTA(L7:L19)","v":13},null,null,null,"Total Sequences in Block Data",{"$f":"COUNTA(L20:L33)","v":14},null,null,null,"Total Sequences in Block Data",{"$f":"COUNTA(L34:L46)","v":13},null,null,null,"Total Sequences in Block Data",{"$f":"COUNTA(L47:L59)","v":13},null,null,null,"Total Sequences in Block Data",{"$f":"COUNTA(L60:L73)","v":14},null,null,null,"Total Sequences in Block Data",{"$f":"COUNTA(L74:L86)","v":13}]
["Program",0,null,null,null,null,null,null,null,null,null,null,null,null,null,"Total Sequences in Summary",{"$f":"SUM(O7:O14)","v":80},null,null,null,null,"Total Sequences in Block Summary",{"$f":"SUM(U7:U14)","v":13},null,null,null,"Total Sequences in Block Summary",{"$f":"SUM(Z7:Z14)","v":14},null,null,null,"Total Sequences in Block Summary",{"$f":"SUM(AE7:AE14)","v":13},null,null,null,"Total Sequences in Block Summary",{"$f":"SUM(AJ7:AJ14)","v":13},null,null,null,"Total Sequences in Block Summary",{"$f":"SUM(AO7:AO14)","v":14},null,null,null,"Total Sequences in Block Summary",{"$f":"SUM(AT7:AT14)","v":13}]
[null,null,null,null,null,null,null,null,null,null,null,null,null,null,null,null,null,null,null,"Block 1",null,null,null,null,"Block 2",null,null,null,null,"Block 3",null,null,null,null,"Block 4",null,null,null,null,"Block 5",null,null,null,null,"Block 6"]
["Sequence\nComponent\n1","Time\n1","Sequence\nComponent\n2","Time\n2","Sequence\nComponent\n3","Time\n3","Sequence\nComponent\n4","Time\n4","Sequence\nComponent\n5","Time\n5","Correct?\n0=No 1=Yes","Sequence",null,"Frequency",null,"Relative Frequency","Variability",null,null,"Frequency",null,"Relative Frequency","Variability",null,"Frequency",null,"Relative Frequency","Variability",null,"Frequency",null,"Relative Frequency","Variability",null,"Frequency",null,"Relative Frequency","Variability",null,"Frequency",null,"Relative Frequency","Variability",null,"Frequency",null,"Relative Frequency","Variability"]
[11,8,11,13,21,20,null,null,null,null,0,112,null,111,{"$f":"COUNTIF($L$7:$L$500,N7)","v":14},{"$f":"O7/$Q$4","v":0.17499999999999999},{"$f":"IF(P7=0,0,(P7*((LOG(P7))/LOG(2))))","v":-0.44005030524520772},null,null,{"$f":"N7","v":111},{"$f":"COUNTIF(L7:L19,T7)","v":1},{"$f":"U7/(W4-U10)","v":8.3333333333333329E-2},{"$f":"IF(V7=0,0,(V7*((LOG(V7))/LOG(2))))","v":-0.29874687506009634},null,{"$f":"N7","v":111},{"$f":"COUNTIF(L20:L33,Y7)","v":4},{"$f":"Z7/(AB4-Z10)","v":0.33333333333333331},{"$f":"IF(AA7=0,0,(AA7*((LOG(AA7))/LOG(2))))","v":-0.52832083357371862},null,{"$f":"N7","v":111},{"$f":"COUNTIF(L34:L46,AD7)","v":0},{"$f":"AE7/(AG4-AE10)","v":0},{"$f":"IF(AF7=0,0,(AF7*((LOG(AF7))/LOG(2))))","v":0},null,{"$f":"N7","v":111},{"$f":"COUNTIF(L47:L59,AI7)","v":6},{"$f":"AJ7/(AL4-AJ10)","v":0.46153846153846156},{"$f":"IF(AK7=0,0,(AK7*((LOG(AK7))/LOG(2))))","v":-0.51483563880920125},null,{"$f":"N7","v":111},{"$f":"COUNTIF(L60:L73,AN7)","v":2},{"$f":"AO7/(AQ4-AO10)","v":0.22222222222222221},{"$f":"IF(AP7=0,0,(AP7*((LOG(AP7))/LOG(2))))","v":-0.48220555587606945},null,{"$f":"N7","v":111},{"$f":"COUNTIF(L74:L86,AS7)","v":1},{"$f":"AT7/(AV4-AT10)","v":0.1},{"$f":"IF(AU7=0,0,(AU7*((LOG(AU7))/LOG(2))))","v":-0.33219280948873625}]
[11,106,22,117,14,142,null,null,null,null,0,121,null,112,{"$f":"COUNTIF($L$7:$L$500,N8)","v":40},{"$f":"O8/$Q$4","v":0.5},{"$f":"IF(P8=0,0,(P8*((LOG(P8))/LOG(2))))","v":-0.5},null,null,{"$f":"N8","v":112},{"$f":"COUNTIF(L7:L19,T8)","v":6},{"$f":"U8/(W4-U10)","v":0.5},{"$f":"IF(V8=0,0,(V8*((LOG(V8))/LOG(2))))","v":-0.5},null,{"$f":"N8","v":112},{"$f":"COUNTIF(L20:L33,Y8)","v":7},{"$f":"Z8/(AB4-Z10)","v":0.58333333333333337},{"$f":"IF(AA8=0,0,(AA8*((LOG(AA8))/LOG(2))))","v":-0.45360442088707198},null,{"$f":"N8","v":112},{"$f":"COUNTIF(L34:L46,AD8)","v":11},{"$f":"AE8/(AG4-AE10)","v":1},{"$f":"IF(AF8=0,0,(AF8*((LOG(AF8))/LOG(2))))","v":0},null,{"$f":"N8","v":112},{"$f":"COUNTIF(L47:L59,AI8)","v":5},{"$f":"AJ8/(AL4-AJ10)","v":0.38461538461538464},{"$f":"IF(AK8=0,0,(AK8*((LOG(AK8))/LOG(2))))","v":-0.53019677817451139},null,{"$f":"N8","v":112},{"$f":"COUNTIF(L60:L73,AN8)","v":5},{"$f":"AO8/(AQ4-AO10)","v":0.55555555555555558},{"$f":"IF(AP8=0,0,(AP8*((LOG(AP8))/LOG(2))))","v":-0.4711093925305278},null,{"$f":"N8","v":112},{"$f":"COUNTIF(L74:L86,AS8)","v":6},{"$f":"AT8/(AV4-AT10)","v":0.6},{"$f":"IF(AU8=0,0,(AU8*((LOG(AU8))/LOG(2))))","v":-0.44217935649972373}]
[11,242,22,250,14,267,null,null,null,null,0,121,null,121,{"$f":"COUNTIF($L$7:$L$500,N9)","v":9},{"$f":"O9/$Q$4","v":0.1125},{"$f":"IF(P9=0,0,(P9*((LOG(P9))/LOG(2))))","v":-0.35460034801256812},null,null,{"$f":"N9","v":121},{"$f":"COUNTIF(L7:L19,T9)","v":4},{"$f":"U9/(W4-U10)","v":0.33333333333333331},{"$f":"IF(V9=0,0,(V9*((LOG(V9))/LOG(2))))","v":-0.52832083357371862},null,{"$f":"N9","v":121},{"$f":"COUNTIF(L20:L33,Y9)","v":0},{"$f":"Z9/(AB4-Z10)","v":0},{"$f":"IF(AA9=0,0,(AA9*((LOG(AA9))/LOG(2))))","v":0},null,{"$f":"N9","v":121},{"$f":"COUNTIF(L34:L46,AD9)","v":0},{"$f":"AE9/(AG4-AE10)","v":0},{"$f":"IF(AF9=0,0,(AF9*((LOG(AF9))/LOG(2))))","v":0},null,{"$f":"N9","v":121},{"$f":"COUNTIF(L47:L59,AI9)","v":1},{"$f":"AJ9/(AL4-AJ10)","v":7.6923076923076927E-2},{"$f":"IF(AK9=0,0,(AK9*((LOG(AK9))/LOG(2))))","v":-0.28464920908777636},null,{"$f":"N9","v":121},{"$f":"COUNTIF(L60:L73,AN9)","v":1},{"$f":"AO9/(AQ4-AO10)","v":0.1111111111111111},{"$f":"IF(AP9=0,0,(AP9*((LOG(AP9))/LOG(2))))","v":-0.3522138890491458},null,{"$f":"N9","v":121},{"$f":"COUNTIF(L74:L86,AS9)","v":3},{"$f":"AT9/(AV4-AT10)","v":0.3},{"$f":"IF(AU9=0,0,(AU9*((LOG(AU9))/LOG(2))))","v":-0.52108967824986185}]
[22,373,24,493,23,508,null,null,null,null,0,222,null,122,{"$f":"COUNTIF($L$7:$L$500,N10)","v":13},{"$f":"O10/$Q$4","v":0.16250000000000001},{"$f":"IF(P10=0,0,(P10*((LOG(P10))/LOG(2))))","v":-0.42599186122126886},null,null,{"$f":"N10","v":122},{"$f":"COUNTIF(L7:L19,T10)","v":1},null,null,null,{"$f":"N10","v":122},{"$f":"COUNTIF(L20:L33,Y10)","v":2},null,null,null,{"$f":"N10","v":122},{"$f":"COUNTIF(L34:L46,AD10)","v":2},null,null,null,{"$f":"N10","v":122},{"$f":"COUNTIF(L47:L59,AI10)","v":0},null,null,null,{"$f":"N10","v":122},{"$f":"COUNTIF(L60:L73,AN10)","v":5},null,null,null,{"$f":"N10","v":122},{"$f":"COUNTIF(L74:L86,AS10)","v":3}]
[11,606,11,610,21,619,null,null,null,null,0,112,null,211,{"$f":"COUNTIF($L$7:$L$500,N11)","v":1},{"$f":"O11/$Q$4","v":1.2500000000000001E-2},{"$f":"IF(P11=0,0,(P11*((LOG(P11))/LOG(2))))","v":-7.902410118609203E-2},null,null,{"$f":"N11","v":211},{"$f":"COUNTIF(L7:L19,T11)","v":0},{"$f":"U11/(W4-U10)","v":0},{"$f":"IF(V11=0,0,(V11*((LOG(V11))/LOG(2))))","v":0},null,{"$f":"N11","v":211},{"$f":"COUNTIF(L20:L33,Y11)","v":0},{"$f":"Z11/(AB4-Z10)","v":0},{"$f":"IF(AA11=0,0,(AA11*((LOG(AA11))/LOG(2))))","v":0},null,{"$f":"N11","v":211},{"$f":"COUNTIF(L34:L46,AD11)","v":0},{"$f":"AE11/(AG4-AE10)","v":0},{"$f":"IF(AF11=0,0,(AF11*((LOG(AF11))/LOG(2))))","v":0},null,{"$f":"N11","v":211},{"$f":"COUNTIF(L47:L59,AI11)","v":1},{"$f":"AJ11/(AL4-AJ10)","v":7.6923076923076927E-2},{"$f":"IF(AK11=0,0,(AK11*((LOG(AK11))/LOG(2))))","v":-0.28464920908777636},null,{"$f":"N11","v":211},{"$f":"COUNTIF(L60:L73,AN11)","v":0},{"$f":"AO11/(AQ4-AO10)","v":0},{"$f":"IF(AP11=0,0,(AP11*((LOG(AP11))/LOG(2))))","v":0},null,{"$f":"N11","v":211},{"$f":"COUNTIF(L74:L86,AS11)","v":0},{"$f":"AT11/(AV4-AT10)","v":0},{"$f":"IF(AU11=0,0,(AU11*((LOG(AU11))/LOG(2))))","v":0}]
[11,705,11,709,21,717,null,null,null,null,0,112,null,212,{"$f":"COUNTIF($L$7:$L$500,N12)","v":1},{"$f":"O12/$Q$4","v":1.2500000000000001E-2},{"$f":"IF(P12=0,0,(P12*((LOG(P12))/LOG(2))))","v":-7.902410118609203E-2},null,null,{"$f":"N12","v":212},{"$f":"COUNTIF(L7:L19,T12)","v":0},{"$f":"U12/(W4-U10)","v":0},{"$f":"IF(V12=0,0,(V12*((LOG(V12))/LOG(2))))","v":0},null,{"$f":"N12","v":212},{"$f":"COUNTIF(L20:L33,Y12)","v":1},{"$f":"Z12/(AB4-Z10)","v":8.3333333333333329E-2},{"$f":"IF(AA12=0,0,(AA12*((LOG(AA12))/LOG(2))))","v":-0.29874687506009634},null,{"$f":"N12","v":212},{"$f":"COUNTIF(L34:L46,AD12)","v":0},{"$f":"AE12/(AG4-AE10)","v":0},{"$f":"IF(AF12=0,0,(AF12*((LOG(AF12))/LOG(2))))","v":0},null,{"$f":"N12","v":212},{"$f":"COUNTIF(L47:L59,AI12)","v":0},{"$f":"AJ12/(AL4-AJ10)","v":0},{"$f":"IF(AK12=0,0,(AK12*((LOG(AK12))/LOG(2))))","v":0},null,{"$f":"N12","v":212},{"$f":"COUNTIF(L60:L73,AN12)","v":0},{"$f":"AO12/(AQ4-AO10)","v":0},{"$f":"IF(AP12=0,0,(AP12*((LOG(AP12))/LOG(2))))","v":0},null,{"$f":"N12","v":212},{"$f":"COUNTIF(L74:L86,AS12)","v":0},{"$f":"AT12/(AV4-AT10)","v":0},{"$f":"IF(AU12=0,0,(AU12*((LOG(AU12))/LOG(2))))","v":0}]
[11,803,22,813,14,898,null,null,null,null,0,121,null,221,{"$f":"COUNTIF($L$7:$L$500,N13)","v":0},{"$f":"O13/$Q$4","v":0},{"$f":"IF(P13=0,0,(P13*((LOG(P13))/LOG(2))))","v":0},null,null,{"$f":"N13","v":221},{"$f":"COUNTIF(L7:L19,T13)","v":0},{"$f":"U13/(W4-U10)","v":0},{"$f":"IF(V13=0,0,(V13*((LOG(V13))/LOG(2))))","v":0},null,{"$f":"N13","v":221},{"$f":"COUNTIF(L20:L33,Y13)","v":0},{"$f":"Z13/(AB4-Z10)","v":0},{"$f":"IF(AA13=0,0,(AA13*((LOG(AA13))/LOG(2))))","v":0},null,{"$f":"N13","v":221},{"$f":"COUNTIF(L34:L46,AD13)","v":0},{"$f":"AE13/(AG4-AE10)","v":0},{"$f":"IF(AF13=0,0,(AF13*((LOG(AF13))/LOG(2))))","v":0},null,{"$f":"N13","v":221},{"$f":"COUNTIF(L47:L59,AI13)","v":0},{"$f":"AJ13/(AL4-AJ10)","v":0},{"$f":"IF(AK13=0,0,(AK13*((LOG(AK13))/LOG(2))))","v":0},null,{"$f":"N13","v":221},{"$f":"COUNTIF(L60:L73,AN13)","v":0},{"$f":"AO13/(AQ4-AO10)","v":0},{"$f":"IF(AP13=0,0,(AP13*((LOG(AP13))/LOG(2))))","v":0},null,{"$f":"N13","v":221},{"$f":"COUNTIF(L74:L86,AS13)","v":0},{"$f":"AT13/(AV4-AT10)","v":0},{"$f":"IF(AU13=0,0,(AU13*((LOG(AU13))/LOG(2))))","v":0}]
[11,999,11,1004,21,1012,null,null,null,null,0,112,null,222,{"$f":"COUNTIF($L$7:$L$500,N14)","v":2},{"$f":"O14/$Q$4","v":2.5000000000000001E-2},{"$f":"IF(P14=0,0,(P14*((LOG(P14))/LOG(2))))","v":-0.13304820237218404},null,null,{"$f":"N14","v":222},{"$f":"COUNTIF(L7:L19,T14)","v":1},{"$f":"U14/(W4-U10)","v":8.3333333333333329E-2},{"$f":"IF(V14=0,0,(V14*((LOG(V14))/LOG(2))))","v":-0.29874687506009634},null,{"$f":"N14","v":222},{"$f":"COUNTIF(L20:L33,Y14)","v":0},{"$f":"Z14/(AB4-Z10)","v":0},{"$f":"IF(AA14=0,0,(AA14*((LOG(AA14))/LOG(2))))","v":0},null,{"$f":"N14","v":222},{"$f":"COUNTIF(L34:L46,AD14)","v":0},{"$f":"AE14/(AG4-AE10)","v":0},{"$f":"IF(AF14=0,0,(AF14*((LOG(AF14))/LOG(2))))","v":0},null,{"$f":"N14","v":222},{"$f":"COUNTIF(L47:L59,AI14)","v":0},{"$f":"AJ14/(AL4-AJ10)","v":0},{"$f":"IF(AK14=0,0,(AK14*((LOG(AK14))/LOG(2))))","v":0},null,{"$f":"N14","v":222},{"$f":"COUNTIF(L60:L73,AN14)","v":1},{"$f":"AO14/(AQ4-AO10)","v":0.1111111111111111},{"$f":"IF(AP14=0,0,(AP14*((LOG(AP14))/LOG(2))))","v":-0.3522138890491458},null,{"$f":"N14","v":222},{"$f":"COUNTIF(L74:L86,AS14)","v":0},{"$f":"AT14/(AV4-AT10)","v":0},{"$f":"IF(AU14=0,0,(AU14*((LOG(AU14))/LOG(2))))","v":0}]
[11,1104,22,1113,23,1190,null,null,null,null,0,122,null,null,null,{"$f":"SUM(P7:P14)","v":1},{"$f":"-SUM(Q7:Q14)","v":2.0117389192234123},null,null,null,null,{"$f":"SUM(V7:V14)","v":1},{"$f":"-SUM(W7:W14)","v":1.6258145836939113},null,null,null,{"$f":"SUM(AA7:AA14)","v":1},{"$f":"-SUM(AB7:AB14)","v":1.2806721295208869},null,null,null,{"$f":"SUM(AF7:AF14)","v":1},{"$f":"-SUM(AG7:AG14)","v":0},null,null,null,{"$f":"SUM(AK7:AK14)","v":1},{"$f":"-SUM(AL7:AL14)","v":1.6143308351592653},null,null,null,{"$f":"SUM(AP7:AP14)","v":1},{"$f":"-SUM(AQ7:AQ14)","v":1.6577427265048887},null,null,null,{"$f":"SUM(AU7:AU14)","v":1},{"$f":"-SUM(AV7:AV14)","v":1.2954618442383219}]
[11,1290,11,1303,21,1312,null,null,null,null,0,112,null,null,null,"U=",{"$f":"Q15/(LOG(Q4)/LOG(2))","v":0.31821603932039905},null,null,null,null,"U1=",{"$f":"W15/(LOG(W4)/LOG(2))","v":0.43935713253846376},null,null,null,"U2=",{"$f":"AB15/(LOG(AB4)/LOG(2))","v":0.33636793935375348},null,null,null,"U3=",{"$f":"AG15/(LOG(AG4)/LOG(2))","v":0},null,null,null,"U4=",{"$f":"AL15/(LOG(AL4)/LOG(2))","v":0.43625378552855359},null,null,null,"U5=",{"$f":"AQ15/(LOG(AQ4)/LOG(2))","v":0.43540535632779859},null,null,null,"U6=",{"$f":"AV15/(LOG(AV4)/LOG(2))","v":0.35008321791797609}]
[11,1399,11,1405,21,1415,null,null,null,null,0,112]
[11,1506,22,1516,14,1561,null,null,null,null,0,121]
[11,1652,11,1661,12,1668,null,null,null,null,0,111,null,"Total Target Seq"]
[11,1764,11,1768,12,1775,null,null,null,null,0,111,null,{"$f":"COUNTIF(L7:L86,G3)","v":13},null,13,14,13,13,14,13]
[11,1873,11,1878,21,1889,null,null,null,null,0,112,null,null,null,"% of reinforcement given in 6 equal intervals based on number of trials "]
[11,1977,22,1989,23,2050,null,null,null,null,0,122,null,null,null,"%_1","%_2","%_3","%_4","%_5","%_6"]
[11,2152,11,2160,21,2170,null,null,null,null,0,112,null,null,"target sequence",{"$f":"$G$3","v":122},{"$f":"$G$3","v":122},{"$f":"$G$3","v":122},{"$f":"$G$3","v":122},{"$f":"$G$3","v":122},{"$f":"$G$3","v":122}]
[11,2255,11,2259,12,2266,null,null,null,null,0,111,null,null,"total reinforcement",{"$f":"U10","v":1},{"$f":"Z10","v":2},{"$f":"AE10","v":2},{"$f":"AJ10","v":0},{"$f":"AO10","v":5},{"$f":"AT10","v":3}]
[11,2358,11,2367,12,2374,null,null,null,null,0,111,null,null,"% target"]
[11,2475,11,2479,21,2486,null,null,null,null,0,112,null,null,"CCRF"]
[11,2574,11,2578,12,2582,null,null,null,null,0,111,null,null,"% CCRf"]
[22,2678,13,2686,23,2695,null,null,null,null,0,212,null,null,"average response rate",{"$f":"F19/P20","v":128.30769230769232},{"$f":"(F33-F19)/Q20","v":115.57142857142857},{"$f":"(F46-F33)/R20","v":116.38461538461539},{"$f":"(F59-F46)/S20","v":111.46153846153847},{"$f":"(F73-F59)/T20","v":148.42857142857142},{"$f":"(F86-F73)/U20","v":147.46153846153845}]
[11,2791,11,2795,21,2804,null,null,null,null,0,112]
[11,2893,11,2898,21,2907,null,null,null,null,0,112]
[11,2993,11,2997,21,3008,null,null,null,null,0,112]
[11,3098,11,3102,21,3112,null,null,null,null,0,112]
[11,3201,22,3215,23,3286,null,null,null,null,0,122]
[11,3384,11,3392,21,3400,null,null,null,null,0,112]
[11,3486,11,3490,21,3500,null,null,null,null,0,112]
[11,3589,11,3594,21,3605,null,null,null,null,0,112]
[11,3693,11,3699,21,3709,null,null,null,null,0,112]
[11,3797,11,3801,21,3811,null,null,null,null,0,112]
[11,3911,22,3920,23,3972,null,null,null,null,0,122]
[11,4068,11,4072,21,4082,null,null,null,null,0,112]
[11,4173,11,4180,21,4188,null,null,null,null,0,112]
[11,4275,11,4280,21,4290,null,null,null,null,0,112]
[11,4377,11,4381,21,4390,null,null,null,null,0,112]
[11,4475,11,4479,21,4488,null,null,null,null,0,112]
[11,4578,22,4589,23,4685,null,null,null,null,0,122]
[11,4782,11,4789,21,4799,null,null,null,null,0,112]
[11,4888,11,4893,21,4902,null,null,null,null,0,112]
[11,4989,11,4993,12,4999,null,null,null,null,0,111]
[11,5095,11,5108,12,5114,null,null,null,null,0,111]
[11,5212,11,5216,12,5220,null,null,null,null,0,111]
[11,5316,11,5320,12,5324,null,null,null,null,0,111]
[22,5420,13,5429,14,5435,null,null,null,null,0,211]
[11,5537,11,5544,21,5554,null,null,null,null,0,112]
[11,5641,11,5646,21,5657,null,null,null,null,0,112]
[11,5746,11,5755,21,5763,null,null,null,null,0,112]
[11,5851,22,5863,14,5918,null,null,null,null,0,121]
[11,6015,11,6020,12,6027,null,null,null,null,0,111]
[11,6122,11,6126,12,6134,null,null,null,null,0,111]
[11,6233,11,6238,21,6248,null,null,null,null,0,112]
[11,6336,22,6347,23,6447,null,null,null,null,0,122]
[22,6542,24,6558,23,6631,null,null,null,null,0,222]
[11,6729,22,6739,23,6831,null,null,null,null,0,122]
[11,6932,11,6936,21,6945,null,null,null,null,0,112]
[11,7034,22,7046,23,7122,null,null,null,null,0,122]
[11,7222,11,7228,21,7237,null,null,null,null,0,112]
[11,7326,22,7338,23,7419,null,null,null,null,0,122]
[11,7515,11,7519,12,7525,null,null,null,null,0,111]
[11,7621,22,7634,14,7708,null,null,null,null,0,121]
[11,7807,11,7811,21,7821,null,null,null,null,0,112]
[11,7908,11,7913,21,7924,null,null,null,null,0,112]
[11,8011,11,8016,12,8023,null,null,null,null,0,111]
[11,8118,11,8122,21,8134,null,null,null,null,0,112]
[11,8229,22,8240,23,8326,null,null,null,null,0,122]
[11,8425,11,8431,21,8441,null,null,null,null,0,112]
[11,8535,22,8546,23,8598,null,null,null,null,0,122]
[11,8700,11,8707,21,8717,null,null,null,null,0,112]
[11,8809,22,8820,14,8890,null,null,null,null,0,121]
[11,8993,22,9001,14,9098,null,null,null,null,0,121]
[11,9206,22,9215,23,9299,null,null,null,null,0,122]
[11,9395,11,9401,21,9412,null,null,null,null,0,112]
[11,9501,11,9508,21,9519,null,null,null,null,0,112]
[11,9612,11,9619,21,9627,null,null,null,null,0,112]
[11,9715,22,9726,14,9825,null,null,null,null,0,121]
[11,9922,11,9926,12,9931,null,null,null,null,0,111]
[11,10031,22,10041,23,10128,null,null,null,null,0,122]
[11,10228,11,10232,21,10243,null,null,null,null,1,112]

{"sheet":"!2011-05-23_08h30m.Subject 52","index":21,"n_rows":72,"n_cols":48,"rows_kept":72,"cut":false,"hidden":false,"merged":[[4,39,4,42],[5,39,5,40],[4,44,4,47],[5,44,5,45],[4,24,4,27],[5,24,5,25],[4,29,4,32],[5,29,5,30],[4,34,4,37],[5,34,5,35],[1,1,1,2],[5,13,5,14],[18,13,18,14],[19,13,19,14],[4,19,4,22],[5,19,5,20]]}
["Report for:!2011-05-23_08h30m.Subject 52"]
["Date","2011-05-23",null,null,null,"Group",0]
["Hen",52,null,null,null,"Correct Sequence",{"$f":"Start!J2","v":122},null,null,null,null,null,null,null,null,"Total Sequences in Data",{"$f":"4994-COUNTBLANK(L7:L5000)","v":66},null,null,null,null,"Total Sequences in Block Data",{"$f":"COUNTA(L7:L17)","v":11},null,null,null,"Total Sequences in Block Data",{"$f":"COUNTA(L18:L28)","v":11},null,null,null,"Total Sequences in Block Data",{"$f":"COUNTA(L29:L39)","v":11},null,null,null,"Total Sequences in Block Data",{"$f":"COUNTA(L40:L50)","v":11},null,null,null,"Total Sequences in Block Data",{"$f":"COUNTA(L51:L61)","v":11},null,null,null,"Total Sequences in Block Data",{"$f":"COUNTA(L62:L72)","v":11}]
["Program",0,null,null,null,null,null,null,null,null,null,null,null,null,null,"Total Sequences in Summary",{"$f":"SUM(O7:O14)","v":66},null,null,null,null,"Total Sequences in Block Summary",{"$f":"SUM(U7:U14)","v":11},null,null,null,"Total Sequences in Block Summary",{"$f":"SUM(Z7:Z14)","v":11},null,null,null,"Total Sequences in Block Summary",{"$f":"SUM(AE7:AE14)","v":11},null,null,null,"Total Sequences in Block Summary",{"$f":"SUM(AJ7:AJ14)","v":11},null,null,null,"Total Sequences in Block Summary",{"$f":"SUM(AO7:AO14)","v":11},null,null,null,"Total Sequences in Block Summary",{"$f":"SUM(AT7:AT14)","v":11}]
[null,null,null,null,null,null,null,null,null,null,null,null,null,null,null,null,null,null,null,"Block 1",null,null,null,null,"Block 2",null,null,null,null,"Block 3",null,null,null,null,"Block 4",null,null,null,null,"Block 5",null,null,null,null,"Block 6"]
["Sequence\nComponent\n1","Time\n1","Sequence\nComponent\n2","Time\n2","Sequence\nComponent\n3","Time\n3","Sequence\nComponent\n4","Time\n4","Sequence\nComponent\n5","Time\n5","Correct?\n0=No 1=Yes","Sequence",null,"Frequency",null,"Relative Frequency","Variability",null,null,"Frequency",null,"Relative Frequency","Variability",null,"Frequency",null,"Relative Frequency","Variability",null,"Frequency",null,"Relative Frequency","Variability",null,"Frequency",null,"Relative Frequency","Variability",null,"Frequency",null,"Relative Frequency","Variability",null,"Frequency",null,"Relative Frequency","Variability"]
[11,9,11,14,21,21,null,null,null,null,0,112,null,111,{"$f":"COUNTIF($L$7:$L$500,N7)","v":4},{"$f":"O7/$Q$4","v":6.0606060606060608E-2},{"$f":"IF(P7=0,0,(P7*((LOG(P7))/LOG(2))))","v":-0.24511479511263354},null,null,{"$f":"N7","v":111},{"$f":"COUNTIF(L7:L17,T7)","v":0},{"$f":"U7/(W4-U10)","v":0},{"$f":"IF(V7=0,0,(V7*((LOG(V7))/LOG(2))))","v":0},null,{"$f":"N7","v":111},{"$f":"COUNTIF(L18:L28,Y7)","v":1},{"$f":"Z7/(AB4-Z10)","v":9.0909090909090912E-2},{"$f":"IF(AA7=0,0,(AA7*((LOG(AA7))/LOG(2))))","v":-0.31449378351248153},null,{"$f":"N7","v":111},{"$f":"COUNTIF(L29:L39,AD7)","v":0},{"$f":"AE7/(AG4-AE10)","v":0},{"$f":"IF(AF7=0,0,(AF7*((LOG(AF7))/LOG(2))))","v":0},null,{"$f":"N7","v":111},{"$f":"COUNTIF(L40:L50,AI7)","v":2},{"$f":"AJ7/(AL4-AJ10)","v":0.2},{"$f":"IF(AK7=0,0,(AK7*((LOG(AK7))/LOG(2))))","v":-0.46438561897747244},null,{"$f":"N7","v":111},{"$f":"COUNTIF(L51:L61,AN7)","v":1},{"$f":"AO7/(AQ4-AO10)","v":9.0909090909090912E-2},{"$f":"IF(AP7=0,0,(AP7*((LOG(AP7))/LOG(2))))","v":-0.31449378351248153},null,{"$f":"N7","v":111},{"$f":"COUNTIF(L62:L72,AS7)","v":0},{"$f":"AT7/(AV4-AT10)","v":0},{"$f":"IF(AU7=0,0,(AU7*((LOG(AU7))/LOG(2))))","v":0}]
[11,116,22,123,23,230,null,null,null,null,0,122,null,112,{"$f":"COUNTIF($L$7:$L$500,N8)","v":40},{"$f":"O8/$Q$4","v":0.60606060606060608},{"$f":"IF(P8=0,0,(P8*((LOG(P8))/LOG(2))))","v":-0.43785819664914605},null,null,{"$f":"N8","v":112},{"$f":"COUNTIF(L7:L17,T8)","v":8},{"$f":"U8/(W4-U10)","v":0.88888888888888884},{"$f":"IF(V8=0,0,(V8*((LOG(V8))/LOG(2))))","v":-0.15104444572649992},null,{"$f":"N8","v":112},{"$f":"COUNTIF(L18:L28,Y8)","v":8},{"$f":"Z8/(AB4-Z10)","v":0.72727272727272729},{"$f":"IF(AA8=0,0,(AA8*((LOG(AA8))/LOG(2))))","v":-0.33413208628167068},null,{"$f":"N8","v":112},{"$f":"COUNTIF(L29:L39,AD8)","v":7},{"$f":"AE8/(AG4-AE10)","v":0.7},{"$f":"IF(AF8=0,0,(AF8*((LOG(AF8))/LOG(2))))","v":-0.36020122098083079},null,{"$f":"N8","v":112},{"$f":"COUNTIF(L40:L50,AI8)","v":7},{"$f":"AJ8/(AL4-AJ10)","v":0.7},{"$f":"IF(AK8=0,0,(AK8*((LOG(AK8))/LOG(2))))","v":-0.36020122098083079},null,{"$f":"N8","v":112},{"$f":"COUNTIF(L51:L61,AN8)","v":6},{"$f":"AO8/(AQ4-AO10)","v":0.54545454545454541},{"$f":"IF(AP8=0,0,(AP8*((LOG(AP8))/LOG(2))))","v":-0.47698315522698609},null,{"$f":"N8","v":112},{"$f":"COUNTIF(L62:L72,AS8)","v":4},{"$f":"AT8/(AV4-AT10)","v":0.5714285714285714},{"$f":"IF(AU8=0,0,(AU8*((LOG(AU8))/LOG(2))))","v":-0.46134566974720237}]
[11,327,11,331,21,341,null,null,null,null,0,112,null,121,{"$f":"COUNTIF($L$7:$L$500,N9)","v":13},{"$f":"O9/$Q$4","v":0.19696969696969696},{"$f":"IF(P9=0,0,(P9*((LOG(P9))/LOG(2))))","v":-0.46168798811857115},null,null,{"$f":"N9","v":121},{"$f":"COUNTIF(L7:L17,T9)","v":1},{"$f":"U9/(W4-U10)","v":0.1111111111111111},{"$f":"IF(V9=0,0,(V9*((LOG(V9))/LOG(2))))","v":-0.3522138890491458},null,{"$f":"N9","v":121},{"$f":"COUNTIF(L18:L28,Y9)","v":2},{"$f":"Z9/(AB4-Z10)","v":0.18181818181818182},{"$f":"IF(AA9=0,0,(AA9*((LOG(AA9))/LOG(2))))","v":-0.44716938520678134},null,{"$f":"N9","v":121},{"$f":"COUNTIF(L29:L39,AD9)","v":3},{"$f":"AE9/(AG4-AE10)","v":0.3},{"$f":"IF(AF9=0,0,(AF9*((LOG(AF9))/LOG(2))))","v":-0.52108967824986185},null,{"$f":"N9","v":121},{"$f":"COUNTIF(L40:L50,AI9)","v":1},{"$f":"AJ9/(AL4-AJ10)","v":0.1},{"$f":"IF(AK9=0,0,(AK9*((LOG(AK9))/LOG(2))))","v":-0.33219280948873625},null,{"$f":"N9","v":121},{"$f":"COUNTIF(L51:L61,AN9)","v":4},{"$f":"AO9/(AQ4-AO10)","v":0.36363636363636365},{"$f":"IF(AP9=0,0,(AP9*((LOG(AP9))/LOG(2))))","v":-0.53070240677719893},null,{"$f":"N9","v":121},{"$f":"COUNTIF(L62:L72,AS9)","v":2},{"$f":"AT9/(AV4-AT10)","v":0.2857142857142857},{"$f":"IF(AU9=0,0,(AU9*((LOG(AU9))/LOG(2))))","v":-0.51638712058788683}]
[11,429,11,433,21,441,null,null,null,null,0,112,null,122,{"$f":"COUNTIF($L$7:$L$500,N10)","v":8},{"$f":"O10/$Q$4","v":0.12121212121212122},{"$f":"IF(P10=0,0,(P10*((LOG(P10))/LOG(2))))","v":-0.36901746901314586},null,null,{"$f":"N10","v":122},{"$f":"COUNTIF(L7:L17,T10)","v":2},null,null,null,{"$f":"N10","v":122},{"$f":"COUNTIF(L18:L28,Y10)","v":0},null,null,null,{"$f":"N10","v":122},{"$f":"COUNTIF(L29:L39,AD10)","v":1},null,null,null,{"$f":"N10","v":122},{"$f":"COUNTIF(L40:L50,AI10)","v":1},null,null,null,{"$f":"N10","v":122},{"$f":"COUNTIF(L51:L61,AN10)","v":0},null,null,null,{"$f":"N10","v":122},{"$f":"COUNTIF(L62:L72,AS10)","v":4}]
[11,533,22,543,14,579,null,null,null,null,0,121,null,211,{"$f":"COUNTIF($L$7:$L$500,N11)","v":0},{"$f":"O11/$Q$4","v":0},{"$f":"IF(P11=0,0,(P11*((LOG(P11))/LOG(2))))","v":0},null,null,{"$f":"N11","v":211},{"$f":"COUNTIF(L7:L17,T11)","v":0},{"$f":"U11/(W4-U10)","v":0},{"$f":"IF(V11=0,0,(V11*((LOG(V11))/LOG(2))))","v":0},null,{"$f":"N11","v":211},{"$f":"COUNTIF(L18:L28,Y11)","v":0},{"$f":"Z11/(AB4-Z10)","v":0},{"$f":"IF(AA11=0,0,(AA11*((LOG(AA11))/LOG(2))))","v":0},null,{"$f":"N11","v":211},{"$f":"COUNTIF(L29:L39,AD11)","v":0},{"$f":"AE11/(AG4-AE10)","v":0},{"$f":"IF(AF11=0,0,(AF11*((LOG(AF11))/LOG(2))))","v":0},null,{"$f":"N11","v":211},{"$f":"COUNTIF(L40:L50,AI11)","v":0},{"$f":"AJ11/(AL4-AJ10)","v":0},{"$f":"IF(AK11=0,0,(AK11*((LOG(AK11))/LOG(2))))","v":0},null,{"$f":"N11","v":211},{"$f":"COUNTIF(L51:L61,AN11)","v":0},{"$f":"AO11/(AQ4-AO10)","v":0},{"$f":"IF(AP11=0,0,(AP11*((LOG(AP11))/LOG(2))))","v":0},null,{"$f":"N11","v":211},{"$f":"COUNTIF(L62:L72,AS11)","v":0},{"$f":"AT11/(AV4-AT10)","v":0},{"$f":"IF(AU11=0,0,(AU11*((LOG(AU11))/LOG(2))))","v":0}]
[11,676,11,680,21,690,null,null,null,null,0,112,null,212,{"$f":"COUNTIF($L$7:$L$500,N12)","v":0},{"$f":"O12/$Q$4","v":0},{"$f":"IF(P12=0,0,(P12*((LOG(P12))/LOG(2))))","v":0},null,null,{"$f":"N12","v":212},{"$f":"COUNTIF(L7:L17,T12)","v":0},{"$f":"U12/(W4-U10)","v":0},{"$f":"IF(V12=0,0,(V12*((LOG(V12))/LOG(2))))","v":0},null,{"$f":"N12","v":212},{"$f":"COUNTIF(L18:L28,Y12)","v":0},{"$f":"Z12/(AB4-Z10)","v":0},{"$f":"IF(AA12=0,0,(AA12*((LOG(AA12))/LOG(2))))","v":0},null,{"$f":"N12","v":212},{"$f":"COUNTIF(L29:L39,AD12)","v":0},{"$f":"AE12/(AG4-AE10)","v":0},{"$f":"IF(AF12=0,0,(AF12*((LOG(AF12))/LOG(2))))","v":0},null,{"$f":"N12","v":212},{"$f":"COUNTIF(L40:L50,AI12)","v":0},{"$f":"AJ12/(AL4-AJ10)","v":0},{"$f":"IF(AK12=0,0,(AK12*((LOG(AK12))/LOG(2))))","v":0},null,{"$f":"N12","v":212},{"$f":"COUNTIF(L51:L61,AN12)","v":0},{"$f":"AO12/(AQ4-AO10)","v":0},{"$f":"IF(AP12=0,0,(AP12*((LOG(AP12))/LOG(2))))","v":0},null,{"$f":"N12","v":212},{"$f":"COUNTIF(L62:L72,AS12)","v":0},{"$f":"AT12/(AV4-AT10)","v":0},{"$f":"IF(AU12=0,0,(AU12*((LOG(AU12))/LOG(2))))","v":0}]
[11,778,11,785,21,795,null,null,null,null,0,112,null,221,{"$f":"COUNTIF($L$7:$L$500,N13)","v":0},{"$f":"O13/$Q$4","v":0},{"$f":"IF(P13=0,0,(P13*((LOG(P13))/LOG(2))))","v":0},null,null,{"$f":"N13","v":221},{"$f":"COUNTIF(L7:L17,T13)","v":0},{"$f":"U13/(W4-U10)","v":0},{"$f":"IF(V13=0,0,(V13*((LOG(V13))/LOG(2))))","v":0},null,{"$f":"N13","v":221},{"$f":"COUNTIF(L18:L28,Y13)","v":0},{"$f":"Z13/(AB4-Z10)","v":0},{"$f":"IF(AA13=0,0,(AA13*((LOG(AA13))/LOG(2))))","v":0},null,{"$f":"N13","v":221},{"$f":"COUNTIF(L29:L39,AD13)","v":0},{"$f":"AE13/(AG4-AE10)","v":0},{"$f":"IF(AF13=0,0,(AF13*((LOG(AF13))/LOG(2))))","v":0},null,{"$f":"N13","v":221},{"$f":"COUNTIF(L40:L50,AI13)","v":0},{"$f":"AJ13/(AL4-AJ10)","v":0},{"$f":"IF(AK13=0,0,(AK13*((LOG(AK13))/LOG(2))))","v":0},null,{"$f":"N13","v":221},{"$f":"COUNTIF(L51:L61,AN13)","v":0},{"$f":"AO13/(AQ4-AO10)","v":0},{"$f":"IF(AP13=0,0,(AP13*((LOG(AP13))/LOG(2))))","v":0},null,{"$f":"N13","v":221},{"$f":"COUNTIF(L62:L72,AS13)","v":0},{"$f":"AT13/(AV4-AT10)","v":0},{"$f":"IF(AU13=0,0,(AU13*((LOG(AU13))/LOG(2))))","v":0}]
[11,883,11,887,21,896,null,null,null,null,0,112,null,222,{"$f":"COUNTIF($L$7:$L$500,N14)","v":1},{"$f":"O14/$Q$4","v":1.5151515151515152E-2},{"$f":"IF(P14=0,0,(P14*((LOG(P14))/LOG(2))))","v":-9.1581729081188695E-2},null,null,{"$f":"N14","v":222},{"$f":"COUNTIF(L7:L17,T14)","v":0},{"$f":"U14/(W4-U10)","v":0},{"$f":"IF(V14=0,0,(V14*((LOG(V14))/LOG(2))))","v":0},null,{"$f":"N14","v":222},{"$f":"COUNTIF(L18:L28,Y14)","v":0},{"$f":"Z14/(AB4-Z10)","v":0},{"$f":"IF(AA14=0,0,(AA14*((LOG(AA14))/LOG(2))))","v":0},null,{"$f":"N14","v":222},{"$f":"COUNTIF(L29:L39,AD14)","v":0},{"$f":"AE14/(AG4-AE10)","v":0},{"$f":"IF(AF14=0,0,(AF14*((LOG(AF14))/LOG(2))))","v":0},null,{"$f":"N14","v":222},{"$f":"COUNTIF(L40:L50,AI14)","v":0},{"$f":"AJ14/(AL4-AJ10)","v":0},{"$f":"IF(AK14=0,0,(AK14*((LOG(AK14))/LOG(2))))","v":0},null,{"$f":"N14","v":222},{"$f":"COUNTIF(L51:L61,AN14)","v":0},{"$f":"AO14/(AQ4-AO10)","v":0},{"$f":"IF(AP14=0,0,(AP14*((LOG(AP14))/LOG(2))))","v":0},null,{"$f":"N14","v":222},{"$f":"COUNTIF(L62:L72,AS14)","v":1},{"$f":"AT14/(AV4-AT10)","v":0.14285714285714285},{"$f":"IF(AU14=0,0,(AU14*((LOG(AU14))/LOG(2))))","v":-0.40105070315108626}]
[11,989,11,996,21,1006,null,null,null,null,0,112,null,null,null,{"$f":"SUM(P7:P14)","v":1.0000000000000002},{"$f":"-SUM(Q7:Q14)","v":1.6052601779746851},null,null,null,null,{"$f":"SUM(V7:V14)","v":1},{"$f":"-SUM(W7:W14)","v":0.50325833477564574},null,null,null,{"$f":"SUM(AA7:AA14)","v":1},{"$f":"-SUM(AB7:AB14)","v":1.0957952550009336},null,null,null,{"$f":"SUM(AF7:AF14)","v":1},{"$f":"-SUM(AG7:AG14)","v":0.8812908992306927},null,null,null,{"$f":"SUM(AK7:AK14)","v":0.99999999999999989},{"$f":"-SUM(AL7:AL14)","v":1.1567796494470395},null,null,null,{"$f":"SUM(AP7:AP14)","v":1},{"$f":"-SUM(AQ7:AQ14)","v":1.3221793455166666},null,null,null,{"$f":"SUM(AU7:AU14)","v":1},{"$f":"-SUM(AV7:AV14)","v":1.3787834934861753}]
[11,1093,11,1097,21,1106,null,null,null,null,0,112,null,null,null,"U=",{"$f":"Q15/(LOG(Q4)/LOG(2))","v":0.26557834354869403},null,null,null,null,"U1=",{"$f":"W15/(LOG(W4)/LOG(2))","v":0.14547428313495148},null,null,null,"U2=",{"$f":"AB15/(LOG(AB4)/LOG(2))","v":0.31675586506681047},null,null,null,"U3=",{"$f":"AG15/(LOG(AG4)/LOG(2))","v":0.25475020072165538},null,null,null,"U4=",{"$f":"AL15/(LOG(AL4)/LOG(2))","v":0.33438430845547562},null,null,null,"U5=",{"$f":"AQ15/(LOG(AQ4)/LOG(2))","v":0.38219554287287383},null,null,null,"U6=",{"$f":"AV15/(LOG(AV4)/LOG(2))","v":0.3985578110745519}]
[11,1196,22,1206,23,1284,null,null,null,null,0,122]
[11,1381,11,1385,21,1394,null,null,null,null,0,112]
[11,1488,22,1499,14,1533,null,null,null,null,0,121,null,"Total Target Seq"]
[11,1630,11,1636,21,1645,null,null,null,null,0,112,null,{"$f":"COUNTIF(L7:L72,G3)","v":8},null,11,11,11,11,11,11]
[11,1732,11,1736,12,1744,null,null,null,null,0,111,null,null,null,"% of reinforcement given in 6 equal intervals based on number of trials "]
[11,1839,11,1843,21,1852,null,null,null,null,0,112,null,null,null,"%_1","%_2","%_3","%_4","%_5","%_6"]
[11,1941,11,1945,21,1954,null,null,null,null,0,112,null,null,"target sequence",{"$f":"$G$3","v":122},{"$f":"$G$3","v":122},{"$f":"$G$3","v":122},{"$f":"$G$3","v":122},{"$f":"$G$3","v":122},{"$f":"$G$3","v":122}]
[11,2043,11,2049,21,2060,null,null,null,null,0,112,null,null,"total reinforcement",{"$f":"U10","v":2},{"$f":"Z10","v":0},{"$f":"AE10","v":1},{"$f":"AJ10","v":1},{"$f":"AO10","v":0},{"$f":"AT10","v":4}]
[11,2149,11,2153,21,2163,null,null,null,null,0,112,null,null,"% target"]
[11,2251,11,2255,21,2263,null,null,null,null,0,112,null,null,"CCRF"]
[11,2351,22,2362,14,2443,null,null,null,null,0,121,null,null,"% CCRf"]
[11,2543,11,2548,21,2558,null,null,null,null,0,112,null,null,"average response rate",{"$f":"F17/P20","v":116.72727272727273},{"$f":"(F28-F17)/Q20","v":115.81818181818181},{"$f":"(F39-F28)/R20","v":131},{"$f":"(F50-F39)/S20","v":116.54545454545455},{"$f":"(F61-F50)/T20","v":134},{"$f":"(F72-F61)/U20","v":146.27272727272728}]
[11,2649,22,2658,14,2731,null,null,null,null,0,121]
[11,2828,11,2833,21,2843,null,null,null,null,0,112]
[11,2928,11,2939,21,2948,null,null,null,null,0,112]
[11,3038,11,3042,21,3050,null,null,null,null,0,112]
[11,3136,22,3147,14,3203,null,null,null,null,0,121]
[11,3301,22,3309,14,3378,null,null,null,null,0,121]
[11,3476,22,3492,23,3583,null,null,null,null,0,122]
[11,3680,11,3685,21,3693,null,null,null,null,0,112]
[11,3783,11,3789,21,3797,null,null,null,null,0,112]
[11,3886,11,3890,21,3901,null,null,null,null,0,112]
[11,3986,11,3990,21,3999,null,null,null,null,0,112]
[11,4086,11,4098,21,4108,null,null,null,null,0,112]
[11,4196,11,4200,21,4208,null,null,null,null,0,112]
[11,4294,11,4301,21,4313,null,null,null,null,0,112]
[11,4400,11,4403,12,4410,null,null,null,null,0,111]
[11,4506,11,4510,12,4517,null,null,null,null,0,111]
[11,4612,11,4617,21,4625,null,null,null,null,0,112]
[11,4713,22,4724,14,4795,null,null,null,null,0,121]
[11,4897,22,4907,23,4967,null,null,null,null,0,122]
[11,5065,11,5070,21,5082,null,null,null,null,0,112]
[11,5167,11,5171,21,5179,null,null,null,null,0,112]
[11,5267,11,5274,21,5281,null,null,null,null,0,112]
[11,5370,22,5381,14,5526,null,null,null,null,0,121]
[11,5623,22,5634,14,5708,null,null,null,null,0,121]
[11,5812,22,5820,14,5849,null,null,null,null,0,121]
[11,5948,11,5957,21,5967,null,null,null,null,0,112]
[11,6054,11,6061,12,6068,null,null,null,null,0,111]
[11,6164,11,6170,21,6179,null,null,null,null,0,112]
[11,6267,11,6278,21,6288,null,null,null,null,0,112]
[11,6379,22,6390,14,6440,null,null,null,null,0,121]
[11,6541,11,6546,21,6554,null,null,null,null,0,112]
[11,6641,11,6645,21,6653,null,null,null,null,0,112]
[11,6741,11,6746,21,6755,null,null,null,null,0,112]
[11,6846,11,6853,21,6861,null,null,null,null,0,112]
[11,6948,22,6960,23,7044,null,null,null,null,0,122]
[11,7142,11,7150,21,7161,null,null,null,null,0,112]
[11,7251,22,7261,14,7307,null,null,null,null,0,121]
[11,7403,11,7407,21,7416,null,null,null,null,0,112]
[11,7511,22,7525,23,7557,null,null,null,null,0,122]
[11,7658,22,7666,23,7721,null,null,null,null,0,122]
[22,7820,24,7831,23,7864,null,null,null,null,0,222]
[11,7971,22,7979,23,8061,null,null,null,null,0,122]
[11,8163,22,8173,14,8252,null,null,null,null,0,121]
[11,8348,11,8355,21,8364,null,null,null,null,1,112]

{"sheet":"!2011-05-24_09h55m.Subject 52","index":22,"n_rows":71,"n_cols":48,"rows_kept":71,"cut":false,"hidden":false,"merged":[[4,39,4,42],[5,39,5,40],[4,44,4,47],[5,44,5,45],[4,24,4,27],[5,24,5,25],[4,29,4,32],[5,29,5,30],[4,34,4,37],[5,34,5,35],[1,1,1,2],[5,13,5,14],[18,13,18,14],[19,13,19,14],[4,19,4,22],[5,19,5,20]]}
["Report for:!2011-05-24_09h55m.Subject 52"]
["Date","2011-05-24",null,null,null,"Group",0]
["Hen",52,null,null,null,"Correct Sequence",{"$f":"Start!J2","v":122},null,null,null,null,null,null,null,null,"Total Sequences in Data",{"$f":"4994-COUNTBLANK(L7:L5000)","v":65},null,null,null,null,"Total Sequences in Block Data",{"$f":"COUNTA(L7:L17)","v":11},null,null,null,"Total Sequences in Block Data",{"$f":"COUNTA(L18:L28)","v":11},null,null,null,"Total Sequences in Block Data",{"$f":"COUNTA(L29:L38)","v":10},null,null,null,"Total Sequences in Block Data",{"$f":"COUNTA(L39:L49)","v":11},null,null,null,"Total Sequences in Block Data",{"$f":"COUNTA(L50:L60)","v":11},null,null,null,"Total Sequences in Block Data",{"$f":"COUNTA(L61:L71)","v":11}]
["Program",0,null,null,null,null,null,null,null,null,null,null,null,null,null,"Total Sequences in Summary",{"$f":"SUM(O7:O14)","v":65},null,null,null,null,"Total Sequences in Block Summary",{"$f":"SUM(U7:U14)","v":11},null,null,null,"Total Sequences in Block Summary",{"$f":"SUM(Z7:Z14)","v":11},null,null,null,"Total Sequences in Block Summary",{"$f":"SUM(AE7:AE14)","v":10},null,null,null,"Total Sequences in Block Summary",{"$f":"SUM(AJ7:AJ14)","v":11},null,null,null,"Total Sequences in Block Summary",{"$f":"SUM(AO7:AO14)","v":11},null,null,null,"Total Sequences in Block Summary",{"$f":"SUM(AT7:AT14)","v":11}]
[null,null,null,null,null,null,null,null,null,null,null,null,null,null,null,null,null,null,null,"Block 1",null,null,null,null,"Block 2",null,null,null,null,"Block 3",null,null,null,null,"Block 4",null,null,null,null,"Block 5",null,null,null,null,"Block 6"]
["Sequence\nComponent\n1","Time\n1","Sequence\nComponent\n2","Time\n2","Sequence\nComponent\n3","Time\n3","Sequence\nComponent\n4","Time\n4","Sequence\nComponent\n5","Time\n5","Correct?\n0=No 1=Yes","Sequence",null,"Frequency",null,"Relative Frequency","Variability",null,null,"Frequency",null,"Relative Frequency","Variability",null,"Frequency",null,"Relative Frequency","Variability",null,"Frequency",null,"Relative Frequency","Variability",null,"Frequency",null,"Relative Frequency","Variability",null,"Frequency",null,"Relative Frequency","Variability",null,"Frequency",null,"Relative Frequency","Variability"]
[11,10,22,20,23,114,null,null,null,null,0,122,null,111,{"$f":"COUNTIF($L$7:$L$500,N7)","v":7},{"$f":"O7/$Q$4","v":0.1076923076923077},{"$f":"IF(P7=0,0,(P7*((LOG(P7))/LOG(2))))","v":-0.34623215748916852},null,null,{"$f":"N7","v":111},{"$f":"COUNTIF(L7:L17,T7)","v":0},{"$f":"U7/(W4-U10)","v":0},{"$f":"IF(V7=0,0,(V7*((LOG(V7))/LOG(2))))","v":0},null,{"$f":"N7","v":111},{"$f":"COUNTIF(L18:L28,Y7)","v":0},{"$f":"Z7/(AB4-Z10)","v":0},{"$f":"IF(AA7=0,0,(AA7*((LOG(AA7))/LOG(2))))","v":0},null,{"$f":"N7","v":111},{"$f":"COUNTIF(L29:L38,AD7)","v":0},{"$f":"AE7/(AG4-AE10)","v":0},{"$f":"IF(AF7=0,0,(AF7*((LOG(AF7))/LOG(2))))","v":0},null,{"$f":"N7","v":111},{"$f":"COUNTIF(L39:L49,AI7)","v":1},{"$f":"AJ7/(AL4-AJ10)","v":9.0909090909090912E-2},{"$f":"IF(AK7=0,0,(AK7*((LOG(AK7))/LOG(2))))","v":-0.31449378351248153},null,{"$f":"N7","v":111},{"$f":"COUNTIF(L50:L60,AN7)","v":3},{"$f":"AO7/(AQ4-AO10)","v":0.27272727272727271},{"$f":"IF(AP7=0,0,(AP7*((LOG(AP7))/LOG(2))))","v":-0.51121885034076575},null,{"$f":"N7","v":111},{"$f":"COUNTIF(L61:L71,AS7)","v":3},{"$f":"AT7/(AV4-AT10)","v":0.27272727272727271},{"$f":"IF(AU7=0,0,(AU7*((LOG(AU7))/LOG(2))))","v":-0.51121885034076575}]
[11,213,22,225,14,264,null,null,null,null,0,121,null,112,{"$f":"COUNTIF($L$7:$L$500,N8)","v":40},{"$f":"O8/$Q$4","v":0.61538461538461542},{"$f":"IF(P8=0,0,(P8*((LOG(P8))/LOG(2))))","v":-0.43103982654836437},null,null,{"$f":"N8","v":112},{"$f":"COUNTIF(L7:L17,T8)","v":2},{"$f":"U8/(W4-U10)","v":0.2857142857142857},{"$f":"IF(V8=0,0,(V8*((LOG(V8))/LOG(2))))","v":-0.51638712058788683},null,{"$f":"N8","v":112},{"$f":"COUNTIF(L18:L28,Y8)","v":10},{"$f":"Z8/(AB4-Z10)","v":0.90909090909090906},{"$f":"IF(AA8=0,0,(AA8*((LOG(AA8))/LOG(2))))","v":-0.12500320340903179},null,{"$f":"N8","v":112},{"$f":"COUNTIF(L29:L38,AD8)","v":8},{"$f":"AE8/(AG4-AE10)","v":0.88888888888888884},{"$f":"IF(AF8=0,0,(AF8*((LOG(AF8))/LOG(2))))","v":-0.15104444572649992},null,{"$f":"N8","v":112},{"$f":"COUNTIF(L39:L49,AI8)","v":10},{"$f":"AJ8/(AL4-AJ10)","v":0.90909090909090906},{"$f":"IF(AK8=0,0,(AK8*((LOG(AK8))/LOG(2))))","v":-0.12500320340903179},null,{"$f":"N8","v":112},{"$f":"COUNTIF(L50:L60,AN8)","v":4},{"$f":"AO8/(AQ4-AO10)","v":0.36363636363636365},{"$f":"IF(AP8=0,0,(AP8*((LOG(AP8))/LOG(2))))","v":-0.53070240677719893},null,{"$f":"N8","v":112},{"$f":"COUNTIF(L61:L71,AS8)","v":6},{"$f":"AT8/(AV4-AT10)","v":0.54545454545454541},{"$f":"IF(AU8=0,0,(AU8*((LOG(AU8))/LOG(2))))","v":-0.47698315522698609}]
[11,360,22,371,23,431,null,null,null,null,0,122,null,121,{"$f":"COUNTIF($L$7:$L$500,N9)","v":11},{"$f":"O9/$Q$4","v":0.16923076923076924},{"$f":"IF(P9=0,0,(P9*((LOG(P9))/LOG(2))))","v":-0.43372766366619592},null,null,{"$f":"N9","v":121},{"$f":"COUNTIF(L7:L17,T9)","v":4},{"$f":"U9/(W4-U10)","v":0.5714285714285714},{"$f":"IF(V9=0,0,(V9*((LOG(V9))/LOG(2))))","v":-0.46134566974720237},null,{"$f":"N9","v":121},{"$f":"COUNTIF(L18:L28,Y9)","v":1},{"$f":"Z9/(AB4-Z10)","v":9.0909090909090912E-2},{"$f":"IF(AA9=0,0,(AA9*((LOG(AA9))/LOG(2))))","v":-0.31449378351248153},null,{"$f":"N9","v":121},{"$f":"COUNTIF(L29:L38,AD9)","v":1},{"$f":"AE9/(AG4-AE10)","v":0.1111111111111111},{"$f":"IF(AF9=0,0,(AF9*((LOG(AF9))/LOG(2))))","v":-0.3522138890491458},null,{"$f":"N9","v":121},{"$f":"COUNTIF(L39:L49,AI9)","v":0},{"$f":"AJ9/(AL4-AJ10)","v":0},{"$f":"IF(AK9=0,0,(AK9*((LOG(AK9))/LOG(2))))","v":0},null,{"$f":"N9","v":121},{"$f":"COUNTIF(L50:L60,AN9)","v":4},{"$f":"AO9/(AQ4-AO10)","v":0.36363636363636365},{"$f":"IF(AP9=0,0,(AP9*((LOG(AP9))/LOG(2))))","v":-0.53070240677719893},null,{"$f":"N9","v":121},{"$f":"COUNTIF(L61:L71,AS9)","v":1},{"$f":"AT9/(AV4-AT10)","v":9.0909090909090912E-2},{"$f":"IF(AU9=0,0,(AU9*((LOG(AU9))/LOG(2))))","v":-0.31449378351248153}]
[11,533,11,542,21,552,null,null,null,null,0,112,null,122,{"$f":"COUNTIF($L$7:$L$500,N10)","v":5},{"$f":"O10/$Q$4","v":7.6923076923076927E-2},{"$f":"IF(P10=0,0,(P10*((LOG(P10))/LOG(2))))","v":-0.28464920908777636},null,null,{"$f":"N10","v":122},{"$f":"COUNTIF(L7:L17,T10)","v":4},null,null,null,{"$f":"N10","v":122},{"$f":"COUNTIF(L18:L28,Y10)","v":0},null,null,null,{"$f":"N10","v":122},{"$f":"COUNTIF(L29:L38,AD10)","v":1},null,null,null,{"$f":"N10","v":122},{"$f":"COUNTIF(L39:L49,AI10)","v":0},null,null,null,{"$f":"N10","v":122},{"$f":"COUNTIF(L50:L60,AN10)","v":0},null,null,null,{"$f":"N10","v":122},{"$f":"COUNTIF(L61:L71,AS10)","v":0}]
[11,647,22,658,14,704,null,null,null,null,0,121,null,211,{"$f":"COUNTIF($L$7:$L$500,N11)","v":0},{"$f":"O11/$Q$4","v":0},{"$f":"IF(P11=0,0,(P11*((LOG(P11))/LOG(2))))","v":0},null,null,{"$f":"N11","v":211},{"$f":"COUNTIF(L7:L17,T11)","v":0},{"$f":"U11/(W4-U10)","v":0},{"$f":"IF(V11=0,0,(V11*((LOG(V11))/LOG(2))))","v":0},null,{"$f":"N11","v":211},{"$f":"COUNTIF(L18:L28,Y11)","v":0},{"$f":"Z11/(AB4-Z10)","v":0},{"$f":"IF(AA11=0,0,(AA11*((LOG(AA11))/LOG(2))))","v":0},null,{"$f":"N11","v":211},{"$f":"COUNTIF(L29:L38,AD11)","v":0},{"$f":"AE11/(AG4-AE10)","v":0},{"$f":"IF(AF11=0,0,(AF11*((LOG(AF11))/LOG(2))))","v":0},null,{"$f":"N11","v":211},{"$f":"COUNTIF(L39:L49,AI11)","v":0},{"$f":"AJ11/(AL4-AJ10)","v":0},{"$f":"IF(AK11=0,0,(AK11*((LOG(AK11))/LOG(2))))","v":0},null,{"$f":"N11","v":211},{"$f":"COUNTIF(L50:L60,AN11)","v":0},{"$f":"AO11/(AQ4-AO10)","v":0},{"$f":"IF(AP11=0,0,(AP11*((LOG(AP11))/LOG(2))))","v":0},null,{"$f":"N11","v":211},{"$f":"COUNTIF(L61:L71,AS11)","v":0},{"$f":"AT11/(AV4-AT10)","v":0},{"$f":"IF(AU11=0,0,(AU11*((LOG(AU11))/LOG(2))))","v":0}]
[11,802,22,813,14,872,null,null,null,null,0,121,null,212,{"$f":"COUNTIF($L$7:$L$500,N12)","v":2},{"$f":"O12/$Q$4","v":3.0769230769230771E-2},{"$f":"IF(P12=0,0,(P12*((LOG(P12))/LOG(2))))","v":-0.15453439424702936},null,null,{"$f":"N12","v":212},{"$f":"COUNTIF(L7:L17,T12)","v":1},{"$f":"U12/(W4-U10)","v":0.14285714285714285},{"$f":"IF(V12=0,0,(V12*((LOG(V12))/LOG(2))))","v":-0.40105070315108626},null,{"$f":"N12","v":212},{"$f":"COUNTIF(L18:L28,Y12)","v":0},{"$f":"Z12/(AB4-Z10)","v":0},{"$f":"IF(AA12=0,0,(AA12*((LOG(AA12))/LOG(2))))","v":0},null,{"$f":"N12","v":212},{"$f":"COUNTIF(L29:L38,AD12)","v":0},{"$f":"AE12/(AG4-AE10)","v":0},{"$f":"IF(AF12=0,0,(AF12*((LOG(AF12))/LOG(2))))","v":0},null,{"$f":"N12","v":212},{"$f":"COUNTIF(L39:L49,AI12)","v":0},{"$f":"AJ12/(AL4-AJ10)","v":0},{"$f":"IF(AK12=0,0,(AK12*((LOG(AK12))/LOG(2))))","v":0},null,{"$f":"N12","v":212},{"$f":"COUNTIF(L50:L60,AN12)","v":0},{"$f":"AO12/(AQ4-AO10)","v":0},{"$f":"IF(AP12=0,0,(AP12*((LOG(AP12))/LOG(2))))","v":0},null,{"$f":"N12","v":212},{"$f":"COUNTIF(L61:L71,AS12)","v":1},{"$f":"AT12/(AV4-AT10)","v":9.0909090909090912E-2},{"$f":"IF(AU12=0,0,(AU12*((LOG(AU12))/LOG(2))))","v":-0.31449378351248153}]
[11,971,22,983,14,1047,null,null,null,null,0,121,null,221,{"$f":"COUNTIF($L$7:$L$500,N13)","v":0},{"$f":"O13/$Q$4","v":0},{"$f":"IF(P13=0,0,(P13*((LOG(P13))/LOG(2))))","v":0},null,null,{"$f":"N13","v":221},{"$f":"COUNTIF(L7:L17,T13)","v":0},{"$f":"U13/(W4-U10)","v":0},{"$f":"IF(V13=0,0,(V13*((LOG(V13))/LOG(2))))","v":0},null,{"$f":"N13","v":221},{"$f":"COUNTIF(L18:L28,Y13)","v":0},{"$f":"Z13/(AB4-Z10)","v":0},{"$f":"IF(AA13=0,0,(AA13*((LOG(AA13))/LOG(2))))","v":0},null,{"$f":"N13","v":221},{"$f":"COUNTIF(L29:L38,AD13)","v":0},{"$f":"AE13/(AG4-AE10)","v":0},{"$f":"IF(AF13=0,0,(AF13*((LOG(AF13))/LOG(2))))","v":0},null,{"$f":"N13","v":221},{"$f":"COUNTIF(L39:L49,AI13)","v":0},{"$f":"AJ13/(AL4-AJ10)","v":0},{"$f":"IF(AK13=0,0,(AK13*((LOG(AK13))/LOG(2))))","v":0},null,{"$f":"N13","v":221},{"$f":"COUNTIF(L50:L60,AN13)","v":0},{"$f":"AO13/(AQ4-AO10)","v":0},{"$f":"IF(AP13=0,0,(AP13*((LOG(AP13))/LOG(2))))","v":0},null,{"$f":"N13","v":221},{"$f":"COUNTIF(L61:L71,AS13)","v":0},{"$f":"AT13/(AV4-AT10)","v":0},{"$f":"IF(AU13=0,0,(AU13*((LOG(AU13))/LOG(2))))","v":0}]
[11,1143,11,1150,21,1162,null,null,null,null,0,112,null,222,{"$f":"COUNTIF($L$7:$L$500,N14)","v":0},{"$f":"O14/$Q$4","v":0},{"$f":"IF(P14=0,0,(P14*((LOG(P14))/LOG(2))))","v":0},null,null,{"$f":"N14","v":222},{"$f":"COUNTIF(L7:L17,T14)","v":0},{"$f":"U14/(W4-U10)","v":0},{"$f":"IF(V14=0,0,(V14*((LOG(V14))/LOG(2))))","v":0},null,{"$f":"N14","v":222},{"$f":"COUNTIF(L18:L28,Y14)","v":0},{"$f":"Z14/(AB4-Z10)","v":0},{"$f":"IF(AA14=0,0,(AA14*((LOG(AA14))/LOG(2))))","v":0},null,{"$f":"N14","v":222},{"$f":"COUNTIF(L29:L38,AD14)","v":0},{"$f":"AE14/(AG4-AE10)","v":0},{"$f":"IF(AF14=0,0,(AF14*((LOG(AF14))/LOG(2))))","v":0},null,{"$f":"N14","v":222},{"$f":"COUNTIF(L39:L49,AI14)","v":0},{"$f":"AJ14/(AL4-AJ10)","v":0},{"$f":"IF(AK14=0,0,(AK14*((LOG(AK14))/LOG(2))))","v":0},null,{"$f":"N14","v":222},{"$f":"COUNTIF(L50:L60,AN14)","v":0},{"$f":"AO14/(AQ4-AO10)","v":0},{"$f":"IF(AP14=0,0,(AP14*((LOG(AP14))/LOG(2))))","v":0},null,{"$f":"N14","v":222},{"$f":"COUNTIF(L61:L71,AS14)","v":0},{"$f":"AT14/(AV4-AT10)","v":0},{"$f":"IF(AU14=0,0,(AU14*((LOG(AU14))/LOG(2))))","v":0}]
[11,1252,22,1263,23,1332,null,null,null,null,0,122,null,null,null,{"$f":"SUM(P7:P14)","v":1},{"$f":"-SUM(Q7:Q14)","v":1.6501832510385346},null,null,null,null,{"$f":"SUM(V7:V14)","v":1},{"$f":"-SUM(W7:W14)","v":1.3787834934861753},null,null,null,{"$f":"SUM(AA7:AA14)","v":1},{"$f":"-SUM(AB7:AB14)","v":0.43949698692151329},null,null,null,{"$f":"SUM(AF7:AF14)","v":1},{"$f":"-SUM(AG7:AG14)","v":0.50325833477564574},null,null,null,{"$f":"SUM(AK7:AK14)","v":1},{"$f":"-SUM(AL7:AL14)","v":0.43949698692151329},null,null,null,{"$f":"SUM(AP7:AP14)","v":1},{"$f":"-SUM(AQ7:AQ14)","v":1.5726236638951634},null,null,null,{"$f":"SUM(AU7:AU14)","v":1},{"$f":"-SUM(AV7:AV14)","v":1.6171895725927148}]
[11,1427,22,1438,23,1533,null,null,null,null,0,122,null,null,null,"U=",{"$f":"Q15/(LOG(Q4)/LOG(2))","v":0.27400904465991271},null,null,null,null,"U1=",{"$f":"W15/(LOG(W4)/LOG(2))","v":0.3985578110745519},null,null,null,"U2=",{"$f":"AB15/(LOG(AB4)/LOG(2))","v":0.12704312019170225},null,null,null,"U3=",{"$f":"AG15/(LOG(AG4)/LOG(2))","v":0.15149585433537505},null,null,null,"U4=",{"$f":"AL15/(LOG(AL4)/LOG(2))","v":0.12704312019170225},null,null,null,"U5=",{"$f":"AQ15/(LOG(AQ4)/LOG(2))","v":0.45459018626725578},null,null,null,"U6=",{"$f":"AV15/(LOG(AV4)/LOG(2))","v":0.46747262292461234}]
[22,1629,13,1637,23,1648,null,null,null,null,0,212]
[11,1745,11,1752,21,1763,null,null,null,null,0,112]
[11,1853,11,1859,21,1868,null,null,null,null,0,112,null,"Total Target Seq"]
[11,1956,11,1961,21,1972,null,null,null,null,0,112,null,{"$f":"COUNTIF(L7:L71,G3)","v":5},null,11,11,10,11,11,11]
[11,2060,11,2067,21,2077,null,null,null,null,0,112,null,null,null,"% of reinforcement given in 6 equal intervals based on number of trials "]
[11,2167,11,2174,21,2185,null,null,null,null,0,112,null,null,null,"%_1","%_2","%_3","%_4","%_5","%_6"]
[11,2271,22,2288,14,2362,null,null,null,null,0,121,null,null,"target sequence",{"$f":"$G$3","v":122},{"$f":"$G$3","v":122},{"$f":"$G$3","v":122},{"$f":"$G$3","v":122},{"$f":"$G$3","v":122},{"$f":"$G$3","v":122}]
[11,2458,11,2464,21,2474,null,null,null,null,0,112,null,null,"total reinforcement",{"$f":"U10","v":4},{"$f":"Z10","v":0},{"$f":"AE10","v":1},{"$f":"AJ10","v":0},{"$f":"AO10","v":0},{"$f":"AT10","v":0}]
[11,2564,11,2568,21,2577,null,null,null,null,0,112,null,null,"% target"]
[11,2663,11,2667,21,2675,null,null,null,null,0,112,null,null,"CCRF"]
[11,2762,11,2769,21,2780,null,null,null,null,0,112,null,null,"% CCRf"]
[11,2868,11,2874,21,2882,null,null,null,null,0,112,null,null,"average response rate",{"$f":"F17/P20","v":149.81818181818181},{"$f":"(F28-F17)/Q20","v":112.18181818181819},{"$f":"(F38-F28)/R20","v":114.3},{"$f":"(F49-F38)/S20","v":109.63636363636364},{"$f":"(F60-F49)/T20","v":150.63636363636363},{"$f":"(F71-F60)/U20","v":126.72727272727273}]
[11,2970,22,2981,23,3013,null,null,null,null,0,122]
[11,3111,11,3117,21,3125,null,null,null,null,0,112]
[11,3212,11,3215,21,3224,null,null,null,null,0,112]
[11,3312,11,3319,21,3328,null,null,null,null,0,112]
[11,3416,11,3421,21,3430,null,null,null,null,0,112]
[11,3517,11,3521,21,3530,null,null,null,null,0,112]
[11,3620,11,3624,21,3633,null,null,null,null,0,112]
[11,3723,11,3729,21,3739,null,null,null,null,0,112]
[11,3825,22,3835,14,3916,null,null,null,null,0,121]
[11,4012,11,4016,21,4025,null,null,null,null,0,112]
[11,4111,11,4115,12,4203,null,null,null,null,0,111]
[11,4301,11,4305,21,4314,null,null,null,null,0,112]
[11,4400,11,4410,21,4422,null,null,null,null,0,112]
[11,4510,11,4514,21,4522,null,null,null,null,0,112]
[11,4616,11,4620,21,4629,null,null,null,null,0,112]
[11,4716,11,4720,21,4728,null,null,null,null,0,112]
[11,4815,11,4819,21,4827,null,null,null,null,0,112]
[11,4917,11,4926,21,4935,null,null,null,null,0,112]
[11,5021,11,5025,21,5033,null,null,null,null,0,112]
[11,5119,11,5122,21,5131,null,null,null,null,0,112]
[11,5218,11,5223,21,5231,null,null,null,null,0,112]
[11,5317,11,5322,21,5330,null,null,null,null,0,112]
[11,5418,11,5430,21,5438,null,null,null,null,0,112]
[11,5526,22,5537,14,5621,null,null,null,null,0,121]
[11,5726,22,5734,14,5853,null,null,null,null,0,121]
[11,5954,11,5965,12,5972,null,null,null,null,0,111]
[11,6070,22,6082,14,6211,null,null,null,null,0,121]
[11,6309,11,6316,21,6327,null,null,null,null,0,112]
[11,6418,11,6425,21,6436,null,null,null,null,0,112]
[11,6525,11,6529,12,6539,null,null,null,null,0,111]
[11,6652,22,6664,14,6785,null,null,null,null,0,121]
[11,6879,11,6883,12,6888,null,null,null,null,0,111]
[11,6985,11,6988,12,6996,null,null,null,null,0,111]
[11,7095,11,7101,21,7112,null,null,null,null,0,112]
[22,7257,13,7276,23,7285,null,null,null,null,0,212]
[11,7386,11,7397,21,7408,null,null,null,null,0,112]
[11,7500,11,7506,21,7517,null,null,null,null,0,112]
[11,7604,11,7608,12,7613,null,null,null,null,0,111]
[11,7710,22,7727,14,7847,null,null,null,null,0,121]
[11,7946,11,7953,21,7962,null,null,null,null,0,112]
[11,8053,11,8059,12,8066,null,null,null,null,0,111]
[11,8163,11,8170,21,8182,null,null,null,null,0,112]
[11,8269,11,8273,21,8282,null,null,null,null,1,112]

{"sheet":"!2011-05-25_08h23m.Subject 52","index":23,"n_rows":95,"n_cols":48,"rows_kept":95,"cut":false,"hidden":false,"merged":[[4,39,4,42],[5,39,5,40],[4,44,4,47],[5,44,5,45],[4,24,4,27],[5,24,5,25],[4,29,4,32],[5,29,5,30],[4,34,4,37],[5,34,5,35],[1,1,1,2],[5,13,5,14],[18,13,18,14],[19,13,19,14],[4,19,4,22],[5,19,5,20]]}
["Report for:!2011-05-25_08h23m.Subject 52"]
["Date","2011-05-25",null,null,null,"Group",0]
["Hen",52,null,null,null,"Correct Sequence",{"$f":"Start!J2","v":122},null,null,null,null,null,null,null,null,"Total Sequences in Data",{"$f":"4994-COUNTBLANK(L7:L5000)","v":89},null,null,null,null,"Total Sequences in Block Data",{"$f":"COUNTA(L7:L21)","v":15},null,null,null,"Total Sequences in Block Data",{"$f":"COUNTA(L22:L36)","v":15},null,null,null,"Total Sequences in Block Data",{"$f":"COUNTA(L37:L50)","v":14},null,null,null,"Total Sequences in Block Data",{"$f":"COUNTA(L51:L65)","v":15},null,null,null,"Total Sequences in Block Data",{"$f":"COUNTA(L66:L80)","v":15},null,null,null,"Total Sequences in Block Data",{"$f":"COUNTA(L81:L95)","v":15}]
["Program",0,null,null,null,null,null,null,null,null,null,null,null,null,null,"Total Sequences in Summary",{"$f":"SUM(O7:O14)","v":89},null,null,null,null,"Total Sequences in Block Summary",{"$f":"SUM(U7:U14)","v":15},null,null,null,"Total Sequences in Block Summary",{"$f":"SUM(Z7:Z14)","v":15},null,null,null,"Total Sequences in Block Summary",{"$f":"SUM(AE7:AE14)","v":14},null,null,null,"Total Sequences in Block Summary",{"$f":"SUM(AJ7:AJ14)","v":15},null,null,null,"Total Sequences in Block Summary",{"$f":"SUM(AO7:AO14)","v":15},null,null,null,"Total Sequences in Block Summary",{"$f":"SUM(AT7:AT14)","v":15}]
[null,null,null,null,null,null,null,null,null,null,null,null,null,null,null,null,null,null,null,"Block 1",null,null,null,null,"Block 2",null,null,null,null,"Block 3",null,null,null,null,"Block 4",null,null,null,null,"Block 5",null,null,null,null,"Block 6"]
["Sequence\nComponent\n1","Time\n1","Sequence\nComponent\n2","Time\n2","Sequence\nComponent\n3","Time\n3","Sequence\nComponent\n4","Time\n4","Sequence\nComponent\n5","Time\n5","Correct?\n0=No 1=Yes","Sequence",null,"Frequency",null,"Relative Frequency","Variability",null,null,"Frequency",null,"Relative Frequency","Variability",null,"Frequency",null,"Relative Frequency","Variability",null,"Frequency",null,"Relative Frequency","Variability",null,"Frequency",null,"Relative Frequency","Variability",null,"Frequency",null,"Relative Frequency","Variability",null,"Frequency",null,"Relative Frequency","Variability"]
[11,8,11,19,21,27,null,null,null,null,0,112,null,111,{"$f":"COUNTIF($L$7:$L$500,N7)","v":17},{"$f":"O7/$Q$4","v":0.19101123595505617},{"$f":"IF(P7=0,0,(P7*((LOG(P7))/LOG(2))))","v":-0.45618651713677522},null,null,{"$f":"N7","v":111},{"$f":"COUNTIF(L7:L21,T7)","v":1},{"$f":"U7/(W4-U10)","v":6.6666666666666666E-2},{"$f":"IF(V7=0,0,(V7*((LOG(V7))/LOG(2))))","v":-0.26045937304056793},null,{"$f":"N7","v":111},{"$f":"COUNTIF(L22:L36,Y7)","v":3},{"$f":"Z7/(AB4-Z10)","v":0.2},{"$f":"IF(AA7=0,0,(AA7*((LOG(AA7))/LOG(2))))","v":-0.46438561897747244},null,{"$f":"N7","v":111},{"$f":"COUNTIF(L37:L50,AD7)","v":7},{"$f":"AE7/(AG4-AE10)","v":0.5},{"$f":"IF(AF7=0,0,(AF7*((LOG(AF7))/LOG(2))))","v":-0.5},null,{"$f":"N7","v":111},{"$f":"COUNTIF(L51:L65,AI7)","v":2},{"$f":"AJ7/(AL4-AJ10)","v":0.18181818181818182},{"$f":"IF(AK7=0,0,(AK7*((LOG(AK7))/LOG(2))))","v":-0.44716938520678134},null,{"$f":"N7","v":111},{"$f":"COUNTIF(L66:L80,AN7)","v":1},{"$f":"AO7/(AQ4-AO10)","v":7.6923076923076927E-2},{"$f":"IF(AP7=0,0,(AP7*((LOG(AP7))/LOG(2))))","v":-0.28464920908777636},null,{"$f":"N7","v":111},{"$f":"COUNTIF(L81:L95,AS7)","v":3},{"$f":"AT7/(AV4-AT10)","v":0.21428571428571427},{"$f":"IF(AU7=0,0,(AU7*((LOG(AU7))/LOG(2))))","v":-0.47622694742923877}]
[11,121,22,129,14,217,null,null,null,null,0,121,null,112,{"$f":"COUNTIF($L$7:$L$500,N8)","v":40},{"$f":"O8/$Q$4","v":0.449438202247191},{"$f":"IF(P8=0,0,(P8*((LOG(P8))/LOG(2))))","v":-0.51856419599057768},null,null,{"$f":"N8","v":112},{"$f":"COUNTIF(L7:L21,T8)","v":11},{"$f":"U8/(W4-U10)","v":0.73333333333333328},{"$f":"IF(V8=0,0,(V8*((LOG(V8))/LOG(2))))","v":-0.32813658311222899},null,{"$f":"N8","v":112},{"$f":"COUNTIF(L22:L36,Y8)","v":10},{"$f":"Z8/(AB4-Z10)","v":0.66666666666666663},{"$f":"IF(AA8=0,0,(AA8*((LOG(AA8))/LOG(2))))","v":-0.38997500048077083},null,{"$f":"N8","v":112},{"$f":"COUNTIF(L37:L50,AD8)","v":4},{"$f":"AE8/(AG4-AE10)","v":0.2857142857142857},{"$f":"IF(AF8=0,0,(AF8*((LOG(AF8))/LOG(2))))","v":-0.51638712058788683},null,{"$f":"N8","v":112},{"$f":"COUNTIF(L51:L65,AI8)","v":3},{"$f":"AJ8/(AL4-AJ10)","v":0.27272727272727271},{"$f":"IF(AK8=0,0,(AK8*((LOG(AK8))/LOG(2))))","v":-0.51121885034076575},null,{"$f":"N8","v":112},{"$f":"COUNTIF(L66:L80,AN8)","v":7},{"$f":"AO8/(AQ4-AO10)","v":0.53846153846153844},{"$f":"IF(AP8=0,0,(AP8*((LOG(AP8))/LOG(2))))","v":-0.48089181327572433},null,{"$f":"N8","v":112},{"$f":"COUNTIF(L81:L95,AS8)","v":5},{"$f":"AT8/(AV4-AT10)","v":0.35714285714285715},{"$f":"IF(AU8=0,0,(AU8*((LOG(AU8))/LOG(2))))","v":-0.53050958113222924}]
[11,315,11,322,21,330,null,null,null,null,0,112,null,121,{"$f":"COUNTIF($L$7:$L$500,N9)","v":10},{"$f":"O9/$Q$4","v":0.11235955056179775},{"$f":"IF(P9=0,0,(P9*((LOG(P9))/LOG(2))))","v":-0.35436015012123995},null,null,{"$f":"N9","v":121},{"$f":"COUNTIF(L7:L21,T9)","v":3},{"$f":"U9/(W4-U10)","v":0.2},{"$f":"IF(V9=0,0,(V9*((LOG(V9))/LOG(2))))","v":-0.46438561897747244},null,{"$f":"N9","v":121},{"$f":"COUNTIF(L22:L36,Y9)","v":1},{"$f":"Z9/(AB4-Z10)","v":6.6666666666666666E-2},{"$f":"IF(AA9=0,0,(AA9*((LOG(AA9))/LOG(2))))","v":-0.26045937304056793},null,{"$f":"N9","v":121},{"$f":"COUNTIF(L37:L50,AD9)","v":2},{"$f":"AE9/(AG4-AE10)","v":0.14285714285714285},{"$f":"IF(AF9=0,0,(AF9*((LOG(AF9))/LOG(2))))","v":-0.40105070315108626},null,{"$f":"N9","v":121},{"$f":"COUNTIF(L51:L65,AI9)","v":1},{"$f":"AJ9/(AL4-AJ10)","v":9.0909090909090912E-2},{"$f":"IF(AK9=0,0,(AK9*((LOG(AK9))/LOG(2))))","v":-0.31449378351248153},null,{"$f":"N9","v":121},{"$f":"COUNTIF(L66:L80,AN9)","v":3},{"$f":"AO9/(AQ4-AO10)","v":0.23076923076923078},{"$f":"IF(AP9=0,0,(AP9*((LOG(AP9))/LOG(2))))","v":-0.48818705017383146},null,{"$f":"N9","v":121},{"$f":"COUNTIF(L81:L95,AS9)","v":0},{"$f":"AT9/(AV4-AT10)","v":0},{"$f":"IF(AU9=0,0,(AU9*((LOG(AU9))/LOG(2))))","v":0}]
[11,421,22,432,14,501,null,null,null,null,0,121,null,122,{"$f":"COUNTIF($L$7:$L$500,N10)","v":7},{"$f":"O10/$Q$4","v":7.8651685393258425E-2},{"$f":"IF(P10=0,0,(P10*((LOG(P10))/LOG(2))))","v":-0.28852415238608486},null,null,{"$f":"N10","v":122},{"$f":"COUNTIF(L7:L21,T10)","v":0},null,null,null,{"$f":"N10","v":122},{"$f":"COUNTIF(L22:L36,Y10)","v":0},null,null,null,{"$f":"N10","v":122},{"$f":"COUNTIF(L37:L50,AD10)","v":0},null,null,null,{"$f":"N10","v":122},{"$f":"COUNTIF(L51:L65,AI10)","v":4},null,null,null,{"$f":"N10","v":122},{"$f":"COUNTIF(L66:L80,AN10)","v":2},null,null,null,{"$f":"N10","v":122},{"$f":"COUNTIF(L81:L95,AS10)","v":1}]
[11,599,11,605,12,614,null,null,null,null,0,111,null,211,{"$f":"COUNTIF($L$7:$L$500,N11)","v":1},{"$f":"O11/$Q$4","v":1.1235955056179775E-2},{"$f":"IF(P11=0,0,(P11*((LOG(P11))/LOG(2))))","v":-7.2761049786139301E-2},null,null,{"$f":"N11","v":211},{"$f":"COUNTIF(L7:L21,T11)","v":0},{"$f":"U11/(W4-U10)","v":0},{"$f":"IF(V11=0,0,(V11*((LOG(V11))/LOG(2))))","v":0},null,{"$f":"N11","v":211},{"$f":"COUNTIF(L22:L36,Y11)","v":0},{"$f":"Z11/(AB4-Z10)","v":0},{"$f":"IF(AA11=0,0,(AA11*((LOG(AA11))/LOG(2))))","v":0},null,{"$f":"N11","v":211},{"$f":"COUNTIF(L37:L50,AD11)","v":1},{"$f":"AE11/(AG4-AE10)","v":7.1428571428571425E-2},{"$f":"IF(AF11=0,0,(AF11*((LOG(AF11))/LOG(2))))","v":-0.27195392300411453},null,{"$f":"N11","v":211},{"$f":"COUNTIF(L51:L65,AI11)","v":0},{"$f":"AJ11/(AL4-AJ10)","v":0},{"$f":"IF(AK11=0,0,(AK11*((LOG(AK11))/LOG(2))))","v":0},null,{"$f":"N11","v":211},{"$f":"COUNTIF(L66:L80,AN11)","v":0},{"$f":"AO11/(AQ4-AO10)","v":0},{"$f":"IF(AP11=0,0,(AP11*((LOG(AP11))/LOG(2))))","v":0},null,{"$f":"N11","v":211},{"$f":"COUNTIF(L81:L95,AS11)","v":0},{"$f":"AT11/(AV4-AT10)","v":0},{"$f":"IF(AU11=0,0,(AU11*((LOG(AU11))/LOG(2))))","v":0}]
[11,713,11,720,21,729,null,null,null,null,0,112,null,212,{"$f":"COUNTIF($L$7:$L$500,N12)","v":11},{"$f":"O12/$Q$4","v":0.12359550561797752},{"$f":"IF(P12=0,0,(P12*((LOG(P12))/LOG(2))))","v":-0.37280134759123718},null,null,{"$f":"N12","v":212},{"$f":"COUNTIF(L7:L21,T12)","v":0},{"$f":"U12/(W4-U10)","v":0},{"$f":"IF(V12=0,0,(V12*((LOG(V12))/LOG(2))))","v":0},null,{"$f":"N12","v":212},{"$f":"COUNTIF(L22:L36,Y12)","v":1},{"$f":"Z12/(AB4-Z10)","v":6.6666666666666666E-2},{"$f":"IF(AA12=0,0,(AA12*((LOG(AA12))/LOG(2))))","v":-0.26045937304056793},null,{"$f":"N12","v":212},{"$f":"COUNTIF(L37:L50,AD12)","v":0},{"$f":"AE12/(AG4-AE10)","v":0},{"$f":"IF(AF12=0,0,(AF12*((LOG(AF12))/LOG(2))))","v":0},null,{"$f":"N12","v":212},{"$f":"COUNTIF(L51:L65,AI12)","v":2},{"$f":"AJ12/(AL4-AJ10)","v":0.18181818181818182},{"$f":"IF(AK12=0,0,(AK12*((LOG(AK12))/LOG(2))))","v":-0.44716938520678134},null,{"$f":"N12","v":212},{"$f":"COUNTIF(L66:L80,AN12)","v":2},{"$f":"AO12/(AQ4-AO10)","v":0.15384615384615385},{"$f":"IF(AP12=0,0,(AP12*((LOG(AP12))/LOG(2))))","v":-0.4154522643293988},null,{"$f":"N12","v":212},{"$f":"COUNTIF(L81:L95,AS12)","v":6},{"$f":"AT12/(AV4-AT10)","v":0.42857142857142855},{"$f":"IF(AU12=0,0,(AU12*((LOG(AU12))/LOG(2))))","v":-0.52388246628704915}]
[11,822,11,826,21,837,null,null,null,null,0,112,null,221,{"$f":"COUNTIF($L$7:$L$500,N13)","v":1},{"$f":"O13/$Q$4","v":1.1235955056179775E-2},{"$f":"IF(P13=0,0,(P13*((LOG(P13))/LOG(2))))","v":-7.2761049786139301E-2},null,null,{"$f":"N13","v":221},{"$f":"COUNTIF(L7:L21,T13)","v":0},{"$f":"U13/(W4-U10)","v":0},{"$f":"IF(V13=0,0,(V13*((LOG(V13))/LOG(2))))","v":0},null,{"$f":"N13","v":221},{"$f":"COUNTIF(L22:L36,Y13)","v":0},{"$f":"Z13/(AB4-Z10)","v":0},{"$f":"IF(AA13=0,0,(AA13*((LOG(AA13))/LOG(2))))","v":0},null,{"$f":"N13","v":221},{"$f":"COUNTIF(L37:L50,AD13)","v":0},{"$f":"AE13/(AG4-AE10)","v":0},{"$f":"IF(AF13=0,0,(AF13*((LOG(AF13))/LOG(2))))","v":0},null,{"$f":"N13","v":221},{"$f":"COUNTIF(L51:L65,AI13)","v":1},{"$f":"AJ13/(AL4-AJ10)","v":9.0909090909090912E-2},{"$f":"IF(AK13=0,0,(AK13*((LOG(AK13))/LOG(2))))","v":-0.31449378351248153},null,{"$f":"N13","v":221},{"$f":"COUNTIF(L66:L80,AN13)","v":0},{"$f":"AO13/(AQ4-AO10)","v":0},{"$f":"IF(AP13=0,0,(AP13*((LOG(AP13))/LOG(2))))","v":0},null,{"$f":"N13","v":221},{"$f":"COUNTIF(L81:L95,AS13)","v":0},{"$f":"AT13/(AV4-AT10)","v":0},{"$f":"IF(AU13=0,0,(AU13*((LOG(AU13))/LOG(2))))","v":0}]
[11,927,11,945,21,953,null,null,null,null,0,112,null,222,{"$f":"COUNTIF($L$7:$L$500,N14)","v":2},{"$f":"O14/$Q$4","v":2.247191011235955E-2},{"$f":"IF(P14=0,0,(P14*((LOG(P14))/LOG(2))))","v":-0.12305018945991905},null,null,{"$f":"N14","v":222},{"$f":"COUNTIF(L7:L21,T14)","v":0},{"$f":"U14/(W4-U10)","v":0},{"$f":"IF(V14=0,0,(V14*((LOG(V14))/LOG(2))))","v":0},null,{"$f":"N14","v":222},{"$f":"COUNTIF(L22:L36,Y14)","v":0},{"$f":"Z14/(AB4-Z10)","v":0},{"$f":"IF(AA14=0,0,(AA14*((LOG(AA14))/LOG(2))))","v":0},null,{"$f":"N14","v":222},{"$f":"COUNTIF(L37:L50,AD14)","v":0},{"$f":"AE14/(AG4-AE10)","v":0},{"$f":"IF(AF14=0,0,(AF14*((LOG(AF14))/LOG(2))))","v":0},null,{"$f":"N14","v":222},{"$f":"COUNTIF(L51:L65,AI14)","v":2},{"$f":"AJ14/(AL4-AJ10)","v":0.18181818181818182},{"$f":"IF(AK14=0,0,(AK14*((LOG(AK14))/LOG(2))))","v":-0.44716938520678134},null,{"$f":"N14","v":222},{"$f":"COUNTIF(L66:L80,AN14)","v":0},{"$f":"AO14/(AQ4-AO10)","v":0},{"$f":"IF(AP14=0,0,(AP14*((LOG(AP14))/LOG(2))))","v":0},null,{"$f":"N14","v":222},{"$f":"COUNTIF(L81:L95,AS14)","v":0},{"$f":"AT14/(AV4-AT10)","v":0},{"$f":"IF(AU14=0,0,(AU14*((LOG(AU14))/LOG(2))))","v":0}]
[11,1043,22,1054,14,1209,null,null,null,null,0,121,null,null,null,{"$f":"SUM(P7:P14)","v":1},{"$f":"-SUM(Q7:Q14)","v":2.2590086522581125},null,null,null,null,{"$f":"SUM(V7:V14)","v":1},{"$f":"-SUM(W7:W14)","v":1.0529815751302694},null,null,null,{"$f":"SUM(AA7:AA14)","v":1},{"$f":"-SUM(AB7:AB14)","v":1.3752793655393791},null,null,null,{"$f":"SUM(AF7:AF14)","v":1},{"$f":"-SUM(AG7:AG14)","v":1.6893917467430877},null,null,null,{"$f":"SUM(AK7:AK14)","v":1},{"$f":"-SUM(AL7:AL14)","v":2.4817145729860726},null,null,null,{"$f":"SUM(AP7:AP14)","v":1},{"$f":"-SUM(AQ7:AQ14)","v":1.6691803368667308},null,null,null,{"$f":"SUM(AU7:AU14)","v":1},{"$f":"-SUM(AV7:AV14)","v":1.5306189948485172}]
[11,1305,11,1309,21,1320,null,null,null,null,0,112,null,null,null,"U=",{"$f":"Q15/(LOG(Q4)/LOG(2))","v":0.34884213137244474},null,null,null,null,"U1=",{"$f":"W15/(LOG(W4)/LOG(2))","v":0.26951908413147208},null,null,null,"U2=",{"$f":"AB15/(LOG(AB4)/LOG(2))","v":0.3520137899651557},null,null,null,"U3=",{"$f":"AG15/(LOG(AG4)/LOG(2))","v":0.44371795677774428},null,null,null,"U4=",{"$f":"AL15/(LOG(AL4)/LOG(2))","v":0.63521476024324974},null,null,null,"U5=",{"$f":"AQ15/(LOG(AQ4)/LOG(2))","v":0.42724010207579083},null,null,null,"U6=",{"$f":"AV15/(LOG(AV4)/LOG(2))","v":0.39177421465781159}]
[11,1408,11,1419,21,1429,null,null,null,null,0,112]
[11,1515,11,1519,21,1530,null,null,null,null,0,112]
[11,1617,11,1629,21,1638,null,null,null,null,0,112,null,"Total Target Seq"]
[11,1726,11,1731,21,1741,null,null,null,null,0,112,null,{"$f":"COUNTIF(L7:L95,G3)","v":7},null,15,15,14,15,15,15]
[11,1829,11,1836,21,1846,null,null,null,null,0,112,null,null,null,"% of reinforcement given in 6 equal intervals based on number of trials "]
[11,1931,11,1935,12,1942,null,null,null,null,0,111,null,null,null,"%_1","%_2","%_3","%_4","%_5","%_6"]
[11,2040,11,2048,21,2059,null,null,null,null,0,112,null,null,"target sequence",{"$f":"$G$3","v":122},{"$f":"$G$3","v":122},{"$f":"$G$3","v":122},{"$f":"$G$3","v":122},{"$f":"$G$3","v":122},{"$f":"$G$3","v":122}]
[11,2146,11,2150,12,2157,null,null,null,null,0,111,null,null,"total reinforcement",{"$f":"U10","v":0},{"$f":"Z10","v":0},{"$f":"AE10","v":0},{"$f":"AJ10","v":4},{"$f":"AO10","v":2},{"$f":"AT10","v":1}]
[11,2258,11,2265,21,2273,null,null,null,null,0,112,null,null,"% target"]
[11,2362,11,2366,21,2375,null,null,null,null,0,112,null,null,"CCRF"]
[11,2469,11,2476,21,2487,null,null,null,null,0,112,null,null,"% CCRf"]
[11,2573,11,2577,21,2586,null,null,null,null,0,112,null,null,"average response rate",{"$f":"F21/P20","v":123.06666666666666},{"$f":"(F36-F21)/Q20","v":125},{"$f":"(F50-F36)/R20","v":133.71428571428572},{"$f":"(F65-F50)/S20","v":148.26666666666668},{"$f":"(F80-F65)/T20","v":129.06666666666666},{"$f":"(F95-F80)/U20","v":114.66666666666667}]
[11,2671,11,2675,21,2684,null,null,null,null,0,112]
[11,2862,11,2895,12,2924,null,null,null,null,0,111]
[11,3021,11,3026,21,3036,null,null,null,null,0,112]
[11,3126,11,3130,21,3141,null,null,null,null,0,112]
[11,3230,11,3235,21,3243,null,null,null,null,0,112]
[11,3330,11,3335,21,3343,null,null,null,null,0,112]
[11,3431,22,3446,14,3605,null,null,null,null,0,121]
[22,3702,13,3710,23,3721,null,null,null,null,0,212]
[11,3819,22,3831,14,3954,null,null,null,null,0,121]
[11,4050,11,4055,21,4063,null,null,null,null,0,112]
[11,4152,11,4166,21,4177,null,null,null,null,0,112]
[11,4266,11,4272,21,4281,null,null,null,null,0,112]
[11,4369,11,4383,21,4394,null,null,null,null,0,112]
[11,4483,22,4495,14,4716,null,null,null,null,0,121]
[11,4813,11,4818,12,4824,null,null,null,null,0,111]
[11,4917,11,4921,12,4926,null,null,null,null,0,111]
[11,5023,11,5027,12,5034,null,null,null,null,0,111]
[11,5126,11,5133,12,5137,null,null,null,null,0,111]
[11,5240,11,5248,12,5253,null,null,null,null,0,111]
[11,5351,11,5358,12,5366,null,null,null,null,0,111]
[11,5467,11,5471,12,5479,null,null,null,null,0,111]
[22,5575,13,5587,14,5593,null,null,null,null,0,211]
[11,5691,11,5696,21,5708,null,null,null,null,0,112]
[11,5810,22,5820,23,5844,null,null,null,null,0,122]
[11,5941,11,5945,21,5956,null,null,null,null,0,112]
[11,6051,22,6059,23,6206,null,null,null,null,0,122]
[22,6303,13,6315,23,6326,null,null,null,null,0,212]
[11,6423,11,6427,12,6432,null,null,null,null,0,111]
[11,6534,22,6546,14,6614,null,null,null,null,0,121]
[11,6713,11,6718,21,6730,null,null,null,null,0,112]
[11,6820,22,6832,23,6876,null,null,null,null,0,122]
[22,6990,24,7055,23,7088,null,null,null,null,0,222]
[22,7187,13,7198,23,7207,null,null,null,null,0,212]
[22,7300,24,7320,23,7344,null,null,null,null,0,222]
[22,7454,24,7491,14,7562,null,null,null,null,0,221]
[11,7661,22,7673,23,7708,null,null,null,null,0,122]
[11,7804,11,7808,12,7817,null,null,null,null,0,111]
[22,7918,13,7927,23,7938,null,null,null,null,0,212]
[11,8031,11,8044,21,8056,null,null,null,null,0,112]
[11,8154,11,8162,21,8174,null,null,null,null,0,112]
[11,8260,11,8264,21,8276,null,null,null,null,0,112]
[11,8363,11,8367,21,8376,null,null,null,null,0,112]
[11,8465,11,8470,21,8480,null,null,null,null,0,112]
[11,8567,11,8571,21,8583,null,null,null,null,0,112]
[11,8670,22,8682,14,8763,null,null,null,null,0,121]
[11,8860,11,8866,21,8875,null,null,null,null,0,112]
[11,8966,22,8977,23,9006,null,null,null,null,0,122]
[11,9106,22,9118,14,9207,null,null,null,null,0,121]
[11,9309,22,9318,23,9372,null,null,null,null,0,122]
[22,9471,13,9479,23,9488,null,null,null,null,0,212]
[11,9585,22,9597,14,9647,null,null,null,null,0,121]
[11,9742,11,9746,12,9753,null,null,null,null,0,111]
[22,9851,13,9860,23,9869,null,null,null,null,0,212]
[22,9965,13,9973,23,9984,null,null,null,null,0,212]
[11,10082,11,10095,21,10105,null,null,null,null,0,112]
[11,10201,11,10206,21,10217,null,null,null,null,0,112]
[11,10306,22,10318,23,10347,null,null,null,null,0,122]
[11,10439,11,10444,12,10452,null,null,null,null,0,111]
[22,10547,13,10559,23,10568,null,null,null,null,0,212]
[11,10665,11,10669,21,10678,null,null,null,null,0,112]
[11,10771,11,10775,12,10785,null,null,null,null,0,111]
[22,10881,13,10889,23,10899,null,null,null,null,0,212]
[11,10991,11,10995,12,11000,null,null,null,null,0,111]
[22,11111,13,11129,23,11140,null,null,null,null,0,212]
[22,11236,13,11245,23,11254,null,null,null,null,0,212]
[11,11349,11,11353,21,11362,null,null,null,null,0,112]
[11,11450,11,11460,21,11473,null,null,null,null,1,112]

{"sheet":"!2011-05-27_08h39m.Subject 52","index":24,"n_rows":73,"n_cols":48,"rows_kept":73,"cut":false,"hidden":false,"merged":[[4,39,4,42],[5,39,5,40],[4,44,4,47],[5,44,5,45],[4,24,4,27],[5,24,5,25],[4,29,4,32],[5,29,5,30],[4,34,4,37],[5,34,5,35],[1,1,1,2],[5,13,5,14],[18,13,18,14],[19,13,19,14],[4,19,4,22],[5,19,5,20]]}
["Report for:!2011-05-27_08h39m.Subject 52"]
["Date","2011-05-27",null,null,null,"Group",0]
["Hen",52,null,null,null,"Correct Sequence",{"$f":"Start!J2","v":122},null,null,null,null,null,null,null,null,"Total Sequences in Data",{"$f":"4994-COUNTBLANK(L7:L5000)","v":67},null,null,null,null,"Total Sequences in Block Data",{"$f":"COUNTA(L7:L17)","v":11},null,null,null,"Total Sequences in Block Data",{"$f":"COUNTA(L18:L28)","v":11},null,null,null,"Total Sequences in Block Data",{"$f":"COUNTA(L29:L40)","v":12},null,null,null,"Total Sequences in Block Data",{"$f":"COUNTA(L41:L51)","v":11},null,null,null,"Total Sequences in Block Data",{"$f":"COUNTA(L52:L62)","v":11},null,null,null,"Total Sequences in Block Data",{"$f":"COUNTA(L63:L73)","v":11}]
["Program",0,null,null,null,null,null,null,null,null,null,null,null,null,null,"Total Sequences in Summary",{"$f":"SUM(O7:O14)","v":67},null,null,null,null,"Total Sequences in Block Summary",{"$f":"SUM(U7:U14)","v":11},null,null,null,"Total Sequences in Block Summary",{"$f":"SUM(Z7:Z14)","v":11},null,null,null,"Total Sequences in Block Summary",{"$f":"SUM(AE7:AE14)","v":12},null,null,null,"Total Sequences in Block Summary",{"$f":"SUM(AJ7:AJ14)","v":11},null,null,null,"Total Sequences in Block Summary",{"$f":"SUM(AO7:AO14)","v":11},null,null,null,"Total Sequences in Block Summary",{"$f":"SUM(AT7:AT14)","v":11}]
[null,null,null,null,null,null,null,null,null,null,null,null,null,null,null,null,null,null,null,"Block 1",null,null,null,null,"Block 2",null,null,null,null,"Block 3",null,null,null,null,"Block 4",null,null,null,null,"Block 5",null,null,null,null,"Block 6"]
["Sequence\nComponent\n1","Time\n1","Sequence\nComponent\n2","Time\n2","Sequence\nComponent\n3","Time\n3","Sequence\nComponent\n4","Time\n4","Sequence\nComponent\n5","Time\n5","Correct?\n0=No 1=Yes","Sequence",null,"Frequency",null,"Relative Frequency","Variability",null,null,"Frequency",null,"Relative Frequency","Variability",null,"Frequency",null,"Relative Frequency","Variability",null,"Frequency",null,"Relative Frequency","Variability",null,"Frequency",null,"Relative Frequency","Variability",null,"Frequency",null,"Relative Frequency","Variability",null,"Frequency",null,"Relative Frequency","Variability"]
[11,11,11,19,21,28,null,null,null,null,0,112,null,111,{"$f":"COUNTIF($L$7:$L$500,N7)","v":8},{"$f":"O7/$Q$4","v":0.11940298507462686},{"$f":"IF(P7=0,0,(P7*((LOG(P7))/LOG(2))))","v":-0.36610020184570419},null,null,{"$f":"N7","v":111},{"$f":"COUNTIF(L7:L17,T7)","v":0},{"$f":"U7/(W4-U10)","v":0},{"$f":"IF(V7=0,0,(V7*((LOG(V7))/LOG(2))))","v":0},null,{"$f":"N7","v":111},{"$f":"COUNTIF(L18:L28,Y7)","v":1},{"$f":"Z7/(AB4-Z10)","v":9.0909090909090912E-2},{"$f":"IF(AA7=0,0,(AA7*((LOG(AA7))/LOG(2))))","v":-0.31449378351248153},null,{"$f":"N7","v":111},{"$f":"COUNTIF(L29:L40,AD7)","v":3},{"$f":"AE7/(AG4-AE10)","v":0.25},{"$f":"IF(AF7=0,0,(AF7*((LOG(AF7))/LOG(2))))","v":-0.5},null,{"$f":"N7","v":111},{"$f":"COUNTIF(L41:L51,AI7)","v":3},{"$f":"AJ7/(AL4-AJ10)","v":0.3},{"$f":"IF(AK7=0,0,(AK7*((LOG(AK7))/LOG(2))))","v":-0.52108967824986185},null,{"$f":"N7","v":111},{"$f":"COUNTIF(L52:L62,AN7)","v":1},{"$f":"AO7/(AQ4-AO10)","v":0.1111111111111111},{"$f":"IF(AP7=0,0,(AP7*((LOG(AP7))/LOG(2))))","v":-0.3522138890491458},null,{"$f":"N7","v":111},{"$f":"COUNTIF(L63:L73,AS7)","v":0},{"$f":"AT7/(AV4-AT10)","v":0},{"$f":"IF(AU7=0,0,(AU7*((LOG(AU7))/LOG(2))))","v":0}]
[11,117,22,125,14,200,null,null,null,null,0,121,null,112,{"$f":"COUNTIF($L$7:$L$500,N8)","v":40},{"$f":"O8/$Q$4","v":0.59701492537313428},{"$f":"IF(P8=0,0,(P8*((LOG(P8))/LOG(2))))","v":-0.4442752809375583},null,null,{"$f":"N8","v":112},{"$f":"COUNTIF(L7:L17,T8)","v":10},{"$f":"U8/(W4-U10)","v":0.90909090909090906},{"$f":"IF(V8=0,0,(V8*((LOG(V8))/LOG(2))))","v":-0.12500320340903179},null,{"$f":"N8","v":112},{"$f":"COUNTIF(L18:L28,Y8)","v":9},{"$f":"Z8/(AB4-Z10)","v":0.81818181818181823},{"$f":"IF(AA8=0,0,(AA8*((LOG(AA8))/LOG(2))))","v":-0.23686905043226034},null,{"$f":"N8","v":112},{"$f":"COUNTIF(L29:L40,AD8)","v":8},{"$f":"AE8/(AG4-AE10)","v":0.66666666666666663},{"$f":"IF(AF8=0,0,(AF8*((LOG(AF8))/LOG(2))))","v":-0.38997500048077083},null,{"$f":"N8","v":112},{"$f":"COUNTIF(L41:L51,AI8)","v":4},{"$f":"AJ8/(AL4-AJ10)","v":0.4},{"$f":"IF(AK8=0,0,(AK8*((LOG(AK8))/LOG(2))))","v":-0.52877123795494496},null,{"$f":"N8","v":112},{"$f":"COUNTIF(L52:L62,AN8)","v":6},{"$f":"AO8/(AQ4-AO10)","v":0.66666666666666663},{"$f":"IF(AP8=0,0,(AP8*((LOG(AP8))/LOG(2))))","v":-0.38997500048077083},null,{"$f":"N8","v":112},{"$f":"COUNTIF(L63:L73,AS8)","v":3},{"$f":"AT8/(AV4-AT10)","v":0.375},{"$f":"IF(AU8=0,0,(AU8*((LOG(AU8))/LOG(2))))","v":-0.53063906222956647}]
[11,295,11,299,21,308,null,null,null,null,0,112,null,121,{"$f":"COUNTIF($L$7:$L$500,N9)","v":7},{"$f":"O9/$Q$4","v":0.1044776119402985},{"$f":"IF(P9=0,0,(P9*((LOG(P9))/LOG(2))))","v":-0.34046477431046535},null,null,{"$f":"N9","v":121},{"$f":"COUNTIF(L7:L17,T9)","v":1},{"$f":"U9/(W4-U10)","v":9.0909090909090912E-2},{"$f":"IF(V9=0,0,(V9*((LOG(V9))/LOG(2))))","v":-0.31449378351248153},null,{"$f":"N9","v":121},{"$f":"COUNTIF(L18:L28,Y9)","v":0},{"$f":"Z9/(AB4-Z10)","v":0},{"$f":"IF(AA9=0,0,(AA9*((LOG(AA9))/LOG(2))))","v":0},null,{"$f":"N9","v":121},{"$f":"COUNTIF(L29:L40,AD9)","v":1},{"$f":"AE9/(AG4-AE10)","v":8.3333333333333329E-2},{"$f":"IF(AF9=0,0,(AF9*((LOG(AF9))/LOG(2))))","v":-0.29874687506009634},null,{"$f":"N9","v":121},{"$f":"COUNTIF(L41:L51,AI9)","v":1},{"$f":"AJ9/(AL4-AJ10)","v":0.1},{"$f":"IF(AK9=0,0,(AK9*((LOG(AK9))/LOG(2))))","v":-0.33219280948873625},null,{"$f":"N9","v":121},{"$f":"COUNTIF(L52:L62,AN9)","v":2},{"$f":"AO9/(AQ4-AO10)","v":0.22222222222222221},{"$f":"IF(AP9=0,0,(AP9*((LOG(AP9))/LOG(2))))","v":-0.48220555587606945},null,{"$f":"N9","v":121},{"$f":"COUNTIF(L63:L73,AS9)","v":2},{"$f":"AT9/(AV4-AT10)","v":0.25},{"$f":"IF(AU9=0,0,(AU9*((LOG(AU9))/LOG(2))))","v":-0.5}]
[11,398,11,403,21,411,null,null,null,null,0,112,null,122,{"$f":"COUNTIF($L$7:$L$500,N10)","v":6},{"$f":"O10/$Q$4","v":8.9552238805970144E-2},{"$f":"IF(P10=0,0,(P10*((LOG(P10))/LOG(2))))","v":-0.31174268863312982},null,null,{"$f":"N10","v":122},{"$f":"COUNTIF(L7:L17,T10)","v":0},null,null,null,{"$f":"N10","v":122},{"$f":"COUNTIF(L18:L28,Y10)","v":0},null,null,null,{"$f":"N10","v":122},{"$f":"COUNTIF(L29:L40,AD10)","v":0},null,null,null,{"$f":"N10","v":122},{"$f":"COUNTIF(L41:L51,AI10)","v":1},null,null,null,{"$f":"N10","v":122},{"$f":"COUNTIF(L52:L62,AN10)","v":2},null,null,null,{"$f":"N10","v":122},{"$f":"COUNTIF(L63:L73,AS10)","v":3}]
[11,498,11,502,21,512,null,null,null,null,0,112,null,211,{"$f":"COUNTIF($L$7:$L$500,N11)","v":1},{"$f":"O11/$Q$4","v":1.4925373134328358E-2},{"$f":"IF(P11=0,0,(P11*((LOG(P11))/LOG(2))))","v":-9.0538644633698095E-2},null,null,{"$f":"N11","v":211},{"$f":"COUNTIF(L7:L17,T11)","v":0},{"$f":"U11/(W4-U10)","v":0},{"$f":"IF(V11=0,0,(V11*((LOG(V11))/LOG(2))))","v":0},null,{"$f":"N11","v":211},{"$f":"COUNTIF(L18:L28,Y11)","v":0},{"$f":"Z11/(AB4-Z10)","v":0},{"$f":"IF(AA11=0,0,(AA11*((LOG(AA11))/LOG(2))))","v":0},null,{"$f":"N11","v":211},{"$f":"COUNTIF(L29:L40,AD11)","v":0},{"$f":"AE11/(AG4-AE10)","v":0},{"$f":"IF(AF11=0,0,(AF11*((LOG(AF11))/LOG(2))))","v":0},null,{"$f":"N11","v":211},{"$f":"COUNTIF(L41:L51,AI11)","v":1},{"$f":"AJ11/(AL4-AJ10)","v":0.1},{"$f":"IF(AK11=0,0,(AK11*((LOG(AK11))/LOG(2))))","v":-0.33219280948873625},null,{"$f":"N11","v":211},{"$f":"COUNTIF(L52:L62,AN11)","v":0},{"$f":"AO11/(AQ4-AO10)","v":0},{"$f":"IF(AP11=0,0,(AP11*((LOG(AP11))/LOG(2))))","v":0},null,{"$f":"N11","v":211},{"$f":"COUNTIF(L63:L73,AS11)","v":0},{"$f":"AT11/(AV4-AT10)","v":0},{"$f":"IF(AU11=0,0,(AU11*((LOG(AU11))/LOG(2))))","v":0}]
[11,600,11,606,21,615,null,null,null,null,0,112,null,212,{"$f":"COUNTIF($L$7:$L$500,N12)","v":4},{"$f":"O12/$Q$4","v":5.9701492537313432E-2},{"$f":"IF(P12=0,0,(P12*((LOG(P12))/LOG(2))))","v":-0.2427515934601655},null,null,{"$f":"N12","v":212},{"$f":"COUNTIF(L7:L17,T12)","v":0},{"$f":"U12/(W4-U10)","v":0},{"$f":"IF(V12=0,0,(V12*((LOG(V12))/LOG(2))))","v":0},null,{"$f":"N12","v":212},{"$f":"COUNTIF(L18:L28,Y12)","v":1},{"$f":"Z12/(AB4-Z10)","v":9.0909090909090912E-2},{"$f":"IF(AA12=0,0,(AA12*((LOG(AA12))/LOG(2))))","v":-0.31449378351248153},null,{"$f":"N12","v":212},{"$f":"COUNTIF(L29:L40,AD12)","v":0},{"$f":"AE12/(AG4-AE10)","v":0},{"$f":"IF(AF12=0,0,(AF12*((LOG(AF12))/LOG(2))))","v":0},null,{"$f":"N12","v":212},{"$f":"COUNTIF(L41:L51,AI12)","v":1},{"$f":"AJ12/(AL4-AJ10)","v":0.1},{"$f":"IF(AK12=0,0,(AK12*((LOG(AK12))/LOG(2))))","v":-0.33219280948873625},null,{"$f":"N12","v":212},{"$f":"COUNTIF(L52:L62,AN12)","v":0},{"$f":"AO12/(AQ4-AO10)","v":0},{"$f":"IF(AP12=0,0,(AP12*((LOG(AP12))/LOG(2))))","v":0},null,{"$f":"N12","v":212},{"$f":"COUNTIF(L63:L73,AS12)","v":2},{"$f":"AT12/(AV4-AT10)","v":0.25},{"$f":"IF(AU12=0,0,(AU12*((LOG(AU12))/LOG(2))))","v":-0.5}]
[11,702,11,707,21,714,null,null,null,null,0,112,null,221,{"$f":"COUNTIF($L$7:$L$500,N13)","v":0},{"$f":"O13/$Q$4","v":0},{"$f":"IF(P13=0,0,(P13*((LOG(P13))/LOG(2))))","v":0},null,null,{"$f":"N13","v":221},{"$f":"COUNTIF(L7:L17,T13)","v":0},{"$f":"U13/(W4-U10)","v":0},{"$f":"IF(V13=0,0,(V13*((LOG(V13))/LOG(2))))","v":0},null,{"$f":"N13","v":221},{"$f":"COUNTIF(L18:L28,Y13)","v":0},{"$f":"Z13/(AB4-Z10)","v":0},{"$f":"IF(AA13=0,0,(AA13*((LOG(AA13))/LOG(2))))","v":0},null,{"$f":"N13","v":221},{"$f":"COUNTIF(L29:L40,AD13)","v":0},{"$f":"AE13/(AG4-AE10)","v":0},{"$f":"IF(AF13=0,0,(AF13*((LOG(AF13))/LOG(2))))","v":0},null,{"$f":"N13","v":221},{"$f":"COUNTIF(L41:L51,AI13)","v":0},{"$f":"AJ13/(AL4-AJ10)","v":0},{"$f":"IF(AK13=0,0,(AK13*((LOG(AK13))/LOG(2))))","v":0},null,{"$f":"N13","v":221},{"$f":"COUNTIF(L52:L62,AN13)","v":0},{"$f":"AO13/(AQ4-AO10)","v":0},{"$f":"IF(AP13=0,0,(AP13*((LOG(AP13))/LOG(2))))","v":0},null,{"$f":"N13","v":221},{"$f":"COUNTIF(L63:L73,AS13)","v":0},{"$f":"AT13/(AV4-AT10)","v":0},{"$f":"IF(AU13=0,0,(AU13*((LOG(AU13))/LOG(2))))","v":0}]
[11,802,11,809,21,818,null,null,null,null,0,112,null,222,{"$f":"COUNTIF($L$7:$L$500,N14)","v":1},{"$f":"O14/$Q$4","v":1.4925373134328358E-2},{"$f":"IF(P14=0,0,(P14*((LOG(P14))/LOG(2))))","v":-9.0538644633698095E-2},null,null,{"$f":"N14","v":222},{"$f":"COUNTIF(L7:L17,T14)","v":0},{"$f":"U14/(W4-U10)","v":0},{"$f":"IF(V14=0,0,(V14*((LOG(V14))/LOG(2))))","v":0},null,{"$f":"N14","v":222},{"$f":"COUNTIF(L18:L28,Y14)","v":0},{"$f":"Z14/(AB4-Z10)","v":0},{"$f":"IF(AA14=0,0,(AA14*((LOG(AA14))/LOG(2))))","v":0},null,{"$f":"N14","v":222},{"$f":"COUNTIF(L29:L40,AD14)","v":0},{"$f":"AE14/(AG4-AE10)","v":0},{"$f":"IF(AF14=0,0,(AF14*((LOG(AF14))/LOG(2))))","v":0},null,{"$f":"N14","v":222},{"$f":"COUNTIF(L41:L51,AI14)","v":0},{"$f":"AJ14/(AL4-AJ10)","v":0},{"$f":"IF(AK14=0,0,(AK14*((LOG(AK14))/LOG(2))))","v":0},null,{"$f":"N14","v":222},{"$f":"COUNTIF(L52:L62,AN14)","v":0},{"$f":"AO14/(AQ4-AO10)","v":0},{"$f":"IF(AP14=0,0,(AP14*((LOG(AP14))/LOG(2))))","v":0},null,{"$f":"N14","v":222},{"$f":"COUNTIF(L63:L73,AS14)","v":1},{"$f":"AT14/(AV4-AT10)","v":0.125},{"$f":"IF(AU14=0,0,(AU14*((LOG(AU14))/LOG(2))))","v":-0.375}]
[11,906,11,910,21,919,null,null,null,null,0,112,null,null,null,{"$f":"SUM(P7:P14)","v":1},{"$f":"-SUM(Q7:Q14)","v":1.8864118284544196},null,null,null,null,{"$f":"SUM(V7:V14)","v":1},{"$f":"-SUM(W7:W14)","v":0.43949698692151329},null,null,null,{"$f":"SUM(AA7:AA14)","v":1},{"$f":"-SUM(AB7:AB14)","v":0.86585661745722331},null,null,null,{"$f":"SUM(AF7:AF14)","v":1},{"$f":"-SUM(AG7:AG14)","v":1.1887218755408671},null,null,null,{"$f":"SUM(AK7:AK14)","v":0.99999999999999989},{"$f":"-SUM(AL7:AL14)","v":2.0464393446710156},null,null,null,{"$f":"SUM(AP7:AP14)","v":0.99999999999999989},{"$f":"-SUM(AQ7:AQ14)","v":1.2243944454059861},null,null,null,{"$f":"SUM(AU7:AU14)","v":1},{"$f":"-SUM(AV7:AV14)","v":1.9056390622295665}]
[11,1005,11,1009,21,1017,null,null,null,null,0,112,null,null,null,"U=",{"$f":"Q15/(LOG(Q4)/LOG(2))","v":0.3109766060515281},null,null,null,null,"U1=",{"$f":"W15/(LOG(W4)/LOG(2))","v":0.12704312019170225},null,null,null,"U2=",{"$f":"AB15/(LOG(AB4)/LOG(2))","v":0.25028869274146609},null,null,null,"U3=",{"$f":"AG15/(LOG(AG4)/LOG(2))","v":0.3315855815233052},null,null,null,"U4=",{"$f":"AL15/(LOG(AL4)/LOG(2))","v":0.59155363373741932},null,null,null,"U5=",{"$f":"AQ15/(LOG(AQ4)/LOG(2))","v":0.35392936770586797},null,null,null,"U6=",{"$f":"AV15/(LOG(AV4)/LOG(2))","v":0.55085322454797225}]
[11,1124,11,1129,21,1140,null,null,null,null,0,112]
[11,1229,11,1233,21,1241,null,null,null,null,0,112]
[11,1331,11,1336,21,1344,null,null,null,null,0,112,null,"Total Target Seq"]
[11,1428,11,1432,21,1443,null,null,null,null,0,112,null,{"$f":"COUNTIF(L7:L73,G3)","v":6},null,11,11,12,11,11,11]
[22,1530,13,1538,23,1546,null,null,null,null,0,212,null,null,null,"% of reinforcement given in 6 equal intervals based on number of trials "]
[11,1646,11,1650,21,1658,null,null,null,null,0,112,null,null,null,"%_1","%_2","%_3","%_4","%_5","%_6"]
[11,1747,11,1751,21,1759,null,null,null,null,0,112,null,null,"target sequence",{"$f":"$G$3","v":122},{"$f":"$G$3","v":122},{"$f":"$G$3","v":122},{"$f":"$G$3","v":122},{"$f":"$G$3","v":122},{"$f":"$G$3","v":122}]
[11,1850,11,1858,21,1866,null,null,null,null,0,112,null,null,"total reinforcement",{"$f":"U10","v":0},{"$f":"Z10","v":0},{"$f":"AE10","v":0},{"$f":"AJ10","v":1},{"$f":"AO10","v":2},{"$f":"AT10","v":3}]
[11,1957,11,1961,21,1970,null,null,null,null,0,112,null,null,"% target"]
[11,2059,11,2064,21,2072,null,null,null,null,0,112,null,null,"CCRF"]
[11,2163,11,2168,21,2177,null,null,null,null,0,112,null,null,"% CCRf"]
[11,2267,11,2272,12,2276,null,null,null,null,0,111,null,null,"average response rate",{"$f":"F17/P20","v":103.63636363636364},{"$f":"(F28-F17)/Q20","v":103.27272727272727},{"$f":"(F40-F28)/R20","v":124.25},{"$f":"(F51-F40)/S20","v":124.36363636363636},{"$f":"(F62-F51)/T20","v":117},{"$f":"(F73-F62)/U20","v":124.63636363636364}]
[11,2372,11,2376,21,2384,null,null,null,null,0,112]
[11,2473,11,2477,12,2485,null,null,null,null,0,111]
[11,2580,11,2584,21,2592,null,null,null,null,0,112]
[11,2680,11,2685,21,2693,null,null,null,null,0,112]
[11,2787,22,2796,14,2871,null,null,null,null,0,121]
[11,2969,11,2973,12,2981,null,null,null,null,0,111]
[11,3088,11,3103,21,3108,null,null,null,null,0,112]
[11,3322,11,3336,12,3340,null,null,null,null,0,111]
[11,3438,11,3442,21,3450,null,null,null,null,0,112]
[11,3542,11,3546,21,3554,null,null,null,null,0,112]
[11,3640,11,3644,21,3653,null,null,null,null,0,112]
[11,3749,11,3756,21,3767,null,null,null,null,0,112]
[11,3861,22,3869,14,3971,null,null,null,null,0,121]
[11,4066,11,4071,21,4081,null,null,null,null,0,112]
[11,4169,11,4173,12,4181,null,null,null,null,0,111]
[11,4275,11,4279,21,4288,null,null,null,null,0,112]
[11,4374,11,4378,21,4387,null,null,null,null,0,112]
[22,4473,13,4482,23,4491,null,null,null,null,0,212]
[22,4583,13,4592,14,4596,null,null,null,null,0,211]
[11,4724,11,4749,12,4754,null,null,null,null,0,111]
[11,4848,11,4852,12,4859,null,null,null,null,0,111]
[11,4955,11,4959,21,4968,null,null,null,null,0,112]
[11,5057,22,5068,23,5135,null,null,null,null,0,122]
[11,5232,11,5237,21,5246,null,null,null,null,0,112]
[11,5337,11,5341,21,5352,null,null,null,null,0,112]
[11,5443,22,5451,14,5462,null,null,null,null,0,121]
[11,5561,22,5573,14,5593,null,null,null,null,0,121]
[11,5691,11,5695,12,5703,null,null,null,null,0,111]
[11,5799,22,5810,23,5849,null,null,null,null,0,122]
[11,5948,11,5952,21,5961,null,null,null,null,0,112]
[11,6050,11,6054,21,6063,null,null,null,null,0,112]
[11,6155,11,6165,21,6175,null,null,null,null,0,112]
[11,6268,22,6282,23,6312,null,null,null,null,0,122]
[11,6407,11,6410,21,6422,null,null,null,null,0,112]
[11,6511,22,6522,14,6575,null,null,null,null,0,121]
[22,6669,13,6681,23,6689,null,null,null,null,0,212]
[11,6788,22,6799,23,6827,null,null,null,null,0,122]
[22,6923,13,6931,23,6939,null,null,null,null,0,212]
[22,7031,24,7041,23,7057,null,null,null,null,0,222]
[11,7153,22,7163,14,7172,null,null,null,null,0,121]
[11,7278,22,7286,23,7333,null,null,null,null,0,122]
[11,7432,22,7443,23,7471,null,null,null,null,0,122]
[11,7569,11,7576,21,7585,null,null,null,null,0,112]
[11,7675,11,7680,21,7688,null,null,null,null,0,112]
[11,7779,11,7783,21,7793,null,null,null,null,1,112]

{"sheet":"!2011-05-28_13h32m.Subject 52","index":25,"n_rows":60,"n_cols":48,"rows_kept":60,"cut":false,"hidden":false,"merged":[[4,39,4,42],[5,39,5,40],[4,44,4,47],[5,44,5,45],[4,24,4,27],[5,24,5,25],[4,29,4,32],[5,29,5,30],[4,34,4,37],[5,34,5,35],[1,1,1,2],[5,13,5,14],[18,13,18,14],[19,13,19,14],[4,19,4,22],[5,19,5,20]]}
["Report for:!2011-05-28_13h32m.Subject 52"]
["Date","2011-05-28",null,null,null,"Group",0]
["Hen",52,null,null,null,"Correct Sequence",{"$f":"Start!J2","v":122},null,null,null,null,null,null,null,null,"Total Sequences in Data",{"$f":"4994-COUNTBLANK(L7:L5000)","v":54},null,null,null,null,"Total Sequences in Block Data",{"$f":"COUNTA(L7:L15)","v":9},null,null,null,"Total Sequences in Block Data",{"$f":"COUNTA(L16:L24)","v":9},null,null,null,"Total Sequences in Block Data",{"$f":"COUNTA(L25:L33)","v":9},null,null,null,"Total Sequences in Block Data",{"$f":"COUNTA(L34:L42)","v":9},null,null,null,"Total Sequences in Block Data",{"$f":"COUNTA(L43:L51)","v":9},null,null,null,"Total Sequences in Block Data",{"$f":"COUNTA(L52:L60)","v":9}]
["Program",0,null,null,null,null,null,null,null,null,null,null,null,null,null,"Total Sequences in Summary",{"$f":"SUM(O7:O14)","v":54},null,null,null,null,"Total Sequences in Block Summary",{"$f":"SUM(U7:U14)","v":9},null,null,null,"Total Sequences in Block Summary",{"$f":"SUM(Z7:Z14)","v":9},null,null,null,"Total Sequences in Block Summary",{"$f":"SUM(AE7:AE14)","v":9},null,null,null,"Total Sequences in Block Summary",{"$f":"SUM(AJ7:AJ14)","v":9},null,null,null,"Total Sequences in Block Summary",{"$f":"SUM(AO7:AO14)","v":9},null,null,null,"Total Sequences in Block Summary",{"$f":"SUM(AT7:AT14)","v":9}]
[null,null,null,null,null,null,null,null,null,null,null,null,null,null,null,null,null,null,null,"Block 1",null,null,null,null,"Block 2",null,null,null,null,"Block 3",null,null,null,null,"Block 4",null,null,null,null,"Block 5",null,null,null,null,"Block 6"]
["Sequence\nComponent\n1","Time\n1","Sequence\nComponent\n2","Time\n2","Sequence\nComponent\n3","Time\n3","Sequence\nComponent\n4","Time\n4","Sequence\nComponent\n5","Time\n5","Correct?\n0=No 1=Yes","Sequence",null,"Frequency",null,"Relative Frequency","Variability",null,null,"Frequency",null,"Relative Frequency","Variability",null,"Frequency",null,"Relative Frequency","Variability",null,"Frequency",null,"Relative Frequency","Variability",null,"Frequency",null,"Relative Frequency","Variability",null,"Frequency",null,"Relative Frequency","Variability",null,"Frequency",null,"Relative Frequency","Variability"]
[11,7,11,19,21,31,null,null,null,null,0,112,null,111,{"$f":"COUNTIF($L$7:$L$500,N7)","v":1},{"$f":"O7/$Q$4","v":1.8518518518518517E-2},{"$f":"IF(P7=0,0,(P7*((LOG(P7))/LOG(2))))","v":-0.10657199078080498},null,null,{"$f":"N7","v":111},{"$f":"COUNTIF(L7:L15,T7)","v":0},{"$f":"U7/(W4-U10)","v":0},{"$f":"IF(V7=0,0,(V7*((LOG(V7))/LOG(2))))","v":0},null,{"$f":"N7","v":111},{"$f":"COUNTIF(L16:L24,Y7)","v":0},{"$f":"Z7/(AB4-Z10)","v":0},{"$f":"IF(AA7=0,0,(AA7*((LOG(AA7))/LOG(2))))","v":0},null,{"$f":"N7","v":111},{"$f":"COUNTIF(L25:L33,AD7)","v":0},{"$f":"AE7/(AG4-AE10)","v":0},{"$f":"IF(AF7=0,0,(AF7*((LOG(AF7))/LOG(2))))","v":0},null,{"$f":"N7","v":111},{"$f":"COUNTIF(L34:L42,AI7)","v":0},{"$f":"AJ7/(AL4-AJ10)","v":0},{"$f":"IF(AK7=0,0,(AK7*((LOG(AK7))/LOG(2))))","v":0},null,{"$f":"N7","v":111},{"$f":"COUNTIF(L43:L51,AN7)","v":1},{"$f":"AO7/(AQ4-AO10)","v":0.125},{"$f":"IF(AP7=0,0,(AP7*((LOG(AP7))/LOG(2))))","v":-0.375},null,{"$f":"N7","v":111},{"$f":"COUNTIF(L52:L60,AS7)","v":0},{"$f":"AT7/(AV4-AT10)","v":0},{"$f":"IF(AU7=0,0,(AU7*((LOG(AU7))/LOG(2))))","v":0}]
[11,120,11,131,21,138,null,null,null,null,0,112,null,112,{"$f":"COUNTIF($L$7:$L$500,N8)","v":40},{"$f":"O8/$Q$4","v":0.7407407407407407},{"$f":"IF(P8=0,0,(P8*((LOG(P8))/LOG(2))))","v":-0.32071067205637499},null,null,{"$f":"N8","v":112},{"$f":"COUNTIF(L7:L15,T8)","v":5},{"$f":"U8/(W4-U10)","v":0.625},{"$f":"IF(V8=0,0,(V8*((LOG(V8))/LOG(2))))","v":-0.42379494069539858},null,{"$f":"N8","v":112},{"$f":"COUNTIF(L16:L24,Y8)","v":5},{"$f":"Z8/(AB4-Z10)","v":0.7142857142857143},{"$f":"IF(AA8=0,0,(AA8*((LOG(AA8))/LOG(2))))","v":-0.34673344797874411},null,{"$f":"N8","v":112},{"$f":"COUNTIF(L25:L33,AD8)","v":7},{"$f":"AE8/(AG4-AE10)","v":1},{"$f":"IF(AF8=0,0,(AF8*((LOG(AF8))/LOG(2))))","v":0},null,{"$f":"N8","v":112},{"$f":"COUNTIF(L34:L42,AI8)","v":8},{"$f":"AJ8/(AL4-AJ10)","v":0.88888888888888884},{"$f":"IF(AK8=0,0,(AK8*((LOG(AK8))/LOG(2))))","v":-0.15104444572649992},null,{"$f":"N8","v":112},{"$f":"COUNTIF(L43:L51,AN8)","v":7},{"$f":"AO8/(AQ4-AO10)","v":0.875},{"$f":"IF(AP8=0,0,(AP8*((LOG(AP8))/LOG(2))))","v":-0.1685644431995964},null,{"$f":"N8","v":112},{"$f":"COUNTIF(L52:L60,AS8)","v":8},{"$f":"AT8/(AV4-AT10)","v":1},{"$f":"IF(AU8=0,0,(AU8*((LOG(AU8))/LOG(2))))","v":0}]
[22,228,13,236,23,245,null,null,null,null,0,212,null,121,{"$f":"COUNTIF($L$7:$L$500,N9)","v":4},{"$f":"O9/$Q$4","v":7.407407407407407E-2},{"$f":"IF(P9=0,0,(P9*((LOG(P9))/LOG(2))))","v":-0.27813981497507173},null,null,{"$f":"N9","v":121},{"$f":"COUNTIF(L7:L15,T9)","v":2},{"$f":"U9/(W4-U10)","v":0.25},{"$f":"IF(V9=0,0,(V9*((LOG(V9))/LOG(2))))","v":-0.5},null,{"$f":"N9","v":121},{"$f":"COUNTIF(L16:L24,Y9)","v":1},{"$f":"Z9/(AB4-Z10)","v":0.14285714285714285},{"$f":"IF(AA9=0,0,(AA9*((LOG(AA9))/LOG(2))))","v":-0.40105070315108626},null,{"$f":"N9","v":121},{"$f":"COUNTIF(L25:L33,AD9)","v":0},{"$f":"AE9/(AG4-AE10)","v":0},{"$f":"IF(AF9=0,0,(AF9*((LOG(AF9))/LOG(2))))","v":0},null,{"$f":"N9","v":121},{"$f":"COUNTIF(L34:L42,AI9)","v":1},{"$f":"AJ9/(AL4-AJ10)","v":0.1111111111111111},{"$f":"IF(AK9=0,0,(AK9*((LOG(AK9))/LOG(2))))","v":-0.3522138890491458},null,{"$f":"N9","v":121},{"$f":"COUNTIF(L43:L51,AN9)","v":0},{"$f":"AO9/(AQ4-AO10)","v":0},{"$f":"IF(AP9=0,0,(AP9*((LOG(AP9))/LOG(2))))","v":0},null,{"$f":"N9","v":121},{"$f":"COUNTIF(L52:L60,AS9)","v":0},{"$f":"AT9/(AV4-AT10)","v":0},{"$f":"IF(AU9=0,0,(AU9*((LOG(AU9))/LOG(2))))","v":0}]
[11,343,11,354,21,362,null,null,null,null,0,112,null,122,{"$f":"COUNTIF($L$7:$L$500,N10)","v":7},{"$f":"O10/$Q$4","v":0.12962962962962962},{"$f":"IF(P10=0,0,(P10*((LOG(P10))/LOG(2))))","v":-0.38208755668038979},null,null,{"$f":"N10","v":122},{"$f":"COUNTIF(L7:L15,T10)","v":1},null,null,null,{"$f":"N10","v":122},{"$f":"COUNTIF(L16:L24,Y10)","v":2},null,null,null,{"$f":"N10","v":122},{"$f":"COUNTIF(L25:L33,AD10)","v":2},null,null,null,{"$f":"N10","v":122},{"$f":"COUNTIF(L34:L42,AI10)","v":0},null,null,null,{"$f":"N10","v":122},{"$f":"COUNTIF(L43:L51,AN10)","v":1},null,null,null,{"$f":"N10","v":122},{"$f":"COUNTIF(L52:L60,AS10)","v":1}]
[11,449,11,453,21,465,null,null,null,null,0,112,null,211,{"$f":"COUNTIF($L$7:$L$500,N11)","v":0},{"$f":"O11/$Q$4","v":0},{"$f":"IF(P11=0,0,(P11*((LOG(P11))/LOG(2))))","v":0},null,null,{"$f":"N11","v":211},{"$f":"COUNTIF(L7:L15,T11)","v":0},{"$f":"U11/(W4-U10)","v":0},{"$f":"IF(V11=0,0,(V11*((LOG(V11))/LOG(2))))","v":0},null,{"$f":"N11","v":211},{"$f":"COUNTIF(L16:L24,Y11)","v":0},{"$f":"Z11/(AB4-Z10)","v":0},{"$f":"IF(AA11=0,0,(AA11*((LOG(AA11))/LOG(2))))","v":0},null,{"$f":"N11","v":211},{"$f":"COUNTIF(L25:L33,AD11)","v":0},{"$f":"AE11/(AG4-AE10)","v":0},{"$f":"IF(AF11=0,0,(AF11*((LOG(AF11))/LOG(2))))","v":0},null,{"$f":"N11","v":211},{"$f":"COUNTIF(L34:L42,AI11)","v":0},{"$f":"AJ11/(AL4-AJ10)","v":0},{"$f":"IF(AK11=0,0,(AK11*((LOG(AK11))/LOG(2))))","v":0},null,{"$f":"N11","v":211},{"$f":"COUNTIF(L43:L51,AN11)","v":0},{"$f":"AO11/(AQ4-AO10)","v":0},{"$f":"IF(AP11=0,0,(AP11*((LOG(AP11))/LOG(2))))","v":0},null,{"$f":"N11","v":211},{"$f":"COUNTIF(L52:L60,AS11)","v":0},{"$f":"AT11/(AV4-AT10)","v":0},{"$f":"IF(AU11=0,0,(AU11*((LOG(AU11))/LOG(2))))","v":0}]
[11,550,11,555,21,565,null,null,null,null,0,112,null,212,{"$f":"COUNTIF($L$7:$L$500,N12)","v":2},{"$f":"O12/$Q$4","v":3.7037037037037035E-2},{"$f":"IF(P12=0,0,(P12*((LOG(P12))/LOG(2))))","v":-0.1761069445245729},null,null,{"$f":"N12","v":212},{"$f":"COUNTIF(L7:L15,T12)","v":1},{"$f":"U12/(W4-U10)","v":0.125},{"$f":"IF(V12=0,0,(V12*((LOG(V12))/LOG(2))))","v":-0.375},null,{"$f":"N12","v":212},{"$f":"COUNTIF(L16:L24,Y12)","v":1},{"$f":"Z12/(AB4-Z10)","v":0.14285714285714285},{"$f":"IF(AA12=0,0,(AA12*((LOG(AA12))/LOG(2))))","v":-0.40105070315108626},null,{"$f":"N12","v":212},{"$f":"COUNTIF(L25:L33,AD12)","v":0},{"$f":"AE12/(AG4-AE10)","v":0},{"$f":"IF(AF12=0,0,(AF12*((LOG(AF12))/LOG(2))))","v":0},null,{"$f":"N12","v":212},{"$f":"COUNTIF(L34:L42,AI12)","v":0},{"$f":"AJ12/(AL4-AJ10)","v":0},{"$f":"IF(AK12=0,0,(AK12*((LOG(AK12))/LOG(2))))","v":0},null,{"$f":"N12","v":212},{"$f":"COUNTIF(L43:L51,AN12)","v":0},{"$f":"AO12/(AQ4-AO10)","v":0},{"$f":"IF(AP12=0,0,(AP12*((LOG(AP12))/LOG(2))))","v":0},null,{"$f":"N12","v":212},{"$f":"COUNTIF(L52:L60,AS12)","v":0},{"$f":"AT12/(AV4-AT10)","v":0},{"$f":"IF(AU12=0,0,(AU12*((LOG(AU12))/LOG(2))))","v":0}]
[11,652,22,663,14,705,null,null,null,null,0,121,null,221,{"$f":"COUNTIF($L$7:$L$500,N13)","v":0},{"$f":"O13/$Q$4","v":0},{"$f":"IF(P13=0,0,(P13*((LOG(P13))/LOG(2))))","v":0},null,null,{"$f":"N13","v":221},{"$f":"COUNTIF(L7:L15,T13)","v":0},{"$f":"U13/(W4-U10)","v":0},{"$f":"IF(V13=0,0,(V13*((LOG(V13))/LOG(2))))","v":0},null,{"$f":"N13","v":221},{"$f":"COUNTIF(L16:L24,Y13)","v":0},{"$f":"Z13/(AB4-Z10)","v":0},{"$f":"IF(AA13=0,0,(AA13*((LOG(AA13))/LOG(2))))","v":0},null,{"$f":"N13","v":221},{"$f":"COUNTIF(L25:L33,AD13)","v":0},{"$f":"AE13/(AG4-AE10)","v":0},{"$f":"IF(AF13=0,0,(AF13*((LOG(AF13))/LOG(2))))","v":0},null,{"$f":"N13","v":221},{"$f":"COUNTIF(L34:L42,AI13)","v":0},{"$f":"AJ13/(AL4-AJ10)","v":0},{"$f":"IF(AK13=0,0,(AK13*((LOG(AK13))/LOG(2))))","v":0},null,{"$f":"N13","v":221},{"$f":"COUNTIF(L43:L51,AN13)","v":0},{"$f":"AO13/(AQ4-AO10)","v":0},{"$f":"IF(AP13=0,0,(AP13*((LOG(AP13))/LOG(2))))","v":0},null,{"$f":"N13","v":221},{"$f":"COUNTIF(L52:L60,AS13)","v":0},{"$f":"AT13/(AV4-AT10)","v":0},{"$f":"IF(AU13=0,0,(AU13*((LOG(AU13))/LOG(2))))","v":0}]
[11,803,22,818,14,862,null,null,null,null,0,121,null,222,{"$f":"COUNTIF($L$7:$L$500,N14)","v":0},{"$f":"O14/$Q$4","v":0},{"$f":"IF(P14=0,0,(P14*((LOG(P14))/LOG(2))))","v":0},null,null,{"$f":"N14","v":222},{"$f":"COUNTIF(L7:L15,T14)","v":0},{"$f":"U14/(W4-U10)","v":0},{"$f":"IF(V14=0,0,(V14*((LOG(V14))/LOG(2))))","v":0},null,{"$f":"N14","v":222},{"$f":"COUNTIF(L16:L24,Y14)","v":0},{"$f":"Z14/(AB4-Z10)","v":0},{"$f":"IF(AA14=0,0,(AA14*((LOG(AA14))/LOG(2))))","v":0},null,{"$f":"N14","v":222},{"$f":"COUNTIF(L25:L33,AD14)","v":0},{"$f":"AE14/(AG4-AE10)","v":0},{"$f":"IF(AF14=0,0,(AF14*((LOG(AF14))/LOG(2))))","v":0},null,{"$f":"N14","v":222},{"$f":"COUNTIF(L34:L42,AI14)","v":0},{"$f":"AJ14/(AL4-AJ10)","v":0},{"$f":"IF(AK14=0,0,(AK14*((LOG(AK14))/LOG(2))))","v":0},null,{"$f":"N14","v":222},{"$f":"COUNTIF(L43:L51,AN14)","v":0},{"$f":"AO14/(AQ4-AO10)","v":0},{"$f":"IF(AP14=0,0,(AP14*((LOG(AP14))/LOG(2))))","v":0},null,{"$f":"N14","v":222},{"$f":"COUNTIF(L52:L60,AS14)","v":0},{"$f":"AT14/(AV4-AT10)","v":0},{"$f":"IF(AU14=0,0,(AU14*((LOG(AU14))/LOG(2))))","v":0}]
[11,967,22,975,23,1058,null,null,null,null,0,122,null,null,null,{"$f":"SUM(P7:P14)","v":1},{"$f":"-SUM(Q7:Q14)","v":1.2636169790172145},null,null,null,null,{"$f":"SUM(V7:V14)","v":1},{"$f":"-SUM(W7:W14)","v":1.2987949406953985},null,null,null,{"$f":"SUM(AA7:AA14)","v":1},{"$f":"-SUM(AB7:AB14)","v":1.1488348542809166},null,null,null,{"$f":"SUM(AF7:AF14)","v":1},{"$f":"-SUM(AG7:AG14)","v":0},null,null,null,{"$f":"SUM(AK7:AK14)","v":1},{"$f":"-SUM(AL7:AL14)","v":0.50325833477564574},null,null,null,{"$f":"SUM(AP7:AP14)","v":1},{"$f":"-SUM(AQ7:AQ14)","v":0.5435644431995964},null,null,null,{"$f":"SUM(AU7:AU14)","v":1},{"$f":"-SUM(AV7:AV14)","v":0}]
[22,1163,13,1231,23,1242,null,null,null,null,0,212,null,null,null,"U=",{"$f":"Q15/(LOG(Q4)/LOG(2))","v":0.21957283761709945},null,null,null,null,"U1=",{"$f":"W15/(LOG(W4)/LOG(2))","v":0.40972418593640175},null,null,null,"U2=",{"$f":"AB15/(LOG(AB4)/LOG(2))","v":0.36241704575287997},null,null,null,"U3=",{"$f":"AG15/(LOG(AG4)/LOG(2))","v":0},null,null,null,"U4=",{"$f":"AL15/(LOG(AL4)/LOG(2))","v":0.15876032857139011},null,null,null,"U5=",{"$f":"AQ15/(LOG(AQ4)/LOG(2))","v":0.17147549009906393},null,null,null,"U6=",{"$f":"AV15/(LOG(AV4)/LOG(2))","v":0}]
[11,1339,11,1349,21,1358,null,null,null,null,0,112]
[11,1446,11,1457,21,1468,null,null,null,null,0,112]
[11,1559,11,1572,21,1580,null,null,null,null,0,112,null,"Total Target Seq"]
[11,1666,11,1670,21,1679,null,null,null,null,0,112,null,{"$f":"COUNTIF(L7:L60,G3)","v":7},null,9,9,9,9,9,9]
[11,1769,22,1778,23,1801,null,null,null,null,0,122,null,null,null,"% of reinforcement given in 6 equal intervals based on number of trials "]
[11,1899,22,1910,23,1976,null,null,null,null,0,122,null,null,null,"%_1","%_2","%_3","%_4","%_5","%_6"]
[11,2074,11,2078,21,2087,null,null,null,null,0,112,null,null,"target sequence",{"$f":"$G$3","v":122},{"$f":"$G$3","v":122},{"$f":"$G$3","v":122},{"$f":"$G$3","v":122},{"$f":"$G$3","v":122},{"$f":"$G$3","v":122}]
[11,2180,22,2189,14,2208,null,null,null,null,0,121,null,null,"total reinforcement",{"$f":"U10","v":1},{"$f":"Z10","v":2},{"$f":"AE10","v":2},{"$f":"AJ10","v":0},{"$f":"AO10","v":1},{"$f":"AT10","v":1}]
[11,2306,11,2312,21,2320,null,null,null,null,0,112,null,null,"% target"]
[11,2410,22,2419,23,2444,null,null,null,null,0,122,null,null,"CCRF"]
[11,2545,11,2550,21,2561,null,null,null,null,0,112,null,null,"% CCRf"]
[11,2649,11,2653,21,2662,null,null,null,null,0,112,null,null,"average response rate",{"$f":"F15/P20","v":117.55555555555556},{"$f":"(F24-F15)/Q20","v":127.77777777777777},{"$f":"(F33-F24)/R20","v":110},{"$f":"(F42-F33)/S20","v":108.44444444444444},{"$f":"(F51-F42)/T20","v":108.66666666666667},{"$f":"(F60-F51)/U20","v":104.11111111111111}]
[11,2750,11,2754,21,2763,null,null,null,null,0,112]
[11,2850,11,2854,21,2863,null,null,null,null,0,112]
[11,2950,11,2960,21,2971,null,null,null,null,0,112]
[11,3058,11,3062,21,3070,null,null,null,null,0,112]
[11,3156,22,3168,23,3198,null,null,null,null,0,122]
[11,3295,11,3301,21,3309,null,null,null,null,0,112]
[11,3397,11,3404,21,3416,null,null,null,null,0,112]
[11,3503,11,3512,21,3520,null,null,null,null,0,112]
[11,3609,11,3615,21,3624,null,null,null,null,0,112]
[11,3716,22,3724,14,3761,null,null,null,null,0,121]
[11,3859,11,3862,21,3871,null,null,null,null,0,112]
[11,3960,11,3964,21,3972,null,null,null,null,0,112]
[11,4060,11,4064,21,4072,null,null,null,null,0,112]
[11,4162,11,4166,21,4174,null,null,null,null,0,112]
[11,4259,11,4264,21,4272,null,null,null,null,0,112]
[11,4360,11,4367,21,4375,null,null,null,null,0,112]
[11,4465,11,4469,21,4477,null,null,null,null,0,112]
[11,4566,11,4576,21,4586,null,null,null,null,0,112]
[11,4672,11,4676,21,4685,null,null,null,null,0,112]
[11,4773,22,4781,23,4835,null,null,null,null,0,122]
[11,4930,11,4934,12,4938,null,null,null,null,0,111]
[11,5036,11,5039,21,5047,null,null,null,null,0,112]
[11,5140,11,5144,21,5152,null,null,null,null,0,112]
[11,5239,11,5243,21,5251,null,null,null,null,0,112]
[11,5337,11,5341,21,5350,null,null,null,null,0,112]
[11,5443,11,5450,21,5458,null,null,null,null,0,112]
[11,5545,22,5554,23,5573,null,null,null,null,0,122]
[11,5675,11,5679,21,5686,null,null,null,null,0,112]
[11,5774,11,5778,21,5786,null,null,null,null,0,112]
[11,5872,11,5875,21,5884,null,null,null,null,0,112]
[11,5969,11,5973,21,5981,null,null,null,null,0,112]
[11,6069,11,6081,21,6089,null,null,null,null,1,112]

{"sheet":"!2011-05-29_08h02m.Subject 52","index":26,"n_rows":98,"n_cols":48,"rows_kept":98,"cut":false,"hidden":false,"merged":[[4,39,4,42],[5,39,5,40],[4,44,4,47],[5,44,5,45],[4,24,4,27],[5,24,5,25],[4,29,4,32],[5,29,5,30],[4,34,4,37],[5,34,5,35],[1,1,1,2],[5,13,5,14],[18,13,18,14],[19,13,19,14],[4,19,4,22],[5,19,5,20]]}
["Report for:!2011-05-29_08h02m.Subject 52"]
["Date","2011-05-29",null,null,null,"Group",0]
["Hen",52,null,null,null,"Correct Sequence",{"$f":"Start!J2","v":122},null,null,null,null,null,null,null,null,"Total Sequences in Data",{"$f":"4994-COUNTBLANK(L7:L5000)","v":92},null,null,null,null,"Total Sequences in Block Data",{"$f":"COUNTA(L7:L21)","v":15},null,null,null,"Total Sequences in Block Data",{"$f":"COUNTA(L22:L37)","v":16},null,null,null,"Total Sequences in Block Data",{"$f":"COUNTA(L38:L52)","v":15},null,null,null,"Total Sequences in Block Data",{"$f":"COUNTA(L53:L67)","v":15},null,null,null,"Total Sequences in Block Data",{"$f":"COUNTA(L68:L83)","v":16},null,null,null,"Total Sequences in Block Data",{"$f":"COUNTA(L84:L98)","v":15}]
["Program",0,null,null,null,null,null,null,null,null,null,null,null,null,null,"Total Sequences in Summary",{"$f":"SUM(O7:O14)","v":92},null,null,null,null,"Total Sequences in Block Summary",{"$f":"SUM(U7:U14)","v":15},null,null,null,"Total Sequences in Block Summary",{"$f":"SUM(Z7:Z14)","v":16},null,null,null,"Total Sequences in Block Summary",{"$f":"SUM(AE7:AE14)","v":15},null,null,null,"Total Sequences in Block Summary",{"$f":"SUM(AJ7:AJ14)","v":15},null,null,null,"Total Sequences in Block Summary",{"$f":"SUM(AO7:AO14)","v":16},null,null,null,"Total Sequences in Block Summary",{"$f":"SUM(AT7:AT14)","v":15}]
[null,null,null,null,null,null,null,null,null,null,null,null,null,null,null,null,null,null,null,"Block 1",null,null,null,null,"Block 2",null,null,null,null,"Block 3",null,null,null,null,"Block 4",null,null,null,null,"Block 5",null,null,null,null,"Block 6"]
["Sequence\nComponent\n1","Time\n1","Sequence\nComponent\n2","Time\n2","Sequence\nComponent\n3","Time\n3","Sequence\nComponent\n4","Time\n4","Sequence\nComponent\n5","Time\n5","Correct?\n0=No 1=Yes","Sequence",null,"Frequency",null,"Relative Frequency","Variability",null,null,"Frequency",null,"Relative Frequency","Variability",null,"Frequency",null,"Relative Frequency","Variability",null,"Frequency",null,"Relative Frequency","Variability",null,"Frequency",null,"Relative Frequency","Variability",null,"Frequency",null,"Relative Frequency","Variability",null,"Frequency",null,"Relative Frequency","Variability"]
[11,9,22,17,14,29,null,null,null,null,0,121,null,111,{"$f":"COUNTIF($L$7:$L$500,N7)","v":14},{"$f":"O7/$Q$4","v":0.15217391304347827},{"$f":"IF(P7=0,0,(P7*((LOG(P7))/LOG(2))))","v":-0.41333585299990999},null,null,{"$f":"N7","v":111},{"$f":"COUNTIF(L7:L21,T7)","v":5},{"$f":"U7/(W4-U10)","v":0.33333333333333331},{"$f":"IF(V7=0,0,(V7*((LOG(V7))/LOG(2))))","v":-0.52832083357371862},null,{"$f":"N7","v":111},{"$f":"COUNTIF(L22:L37,Y7)","v":5},{"$f":"Z7/(AB4-Z10)","v":0.33333333333333331},{"$f":"IF(AA7=0,0,(AA7*((LOG(AA7))/LOG(2))))","v":-0.52832083357371862},null,{"$f":"N7","v":111},{"$f":"COUNTIF(L38:L52,AD7)","v":1},{"$f":"AE7/(AG4-AE10)","v":6.6666666666666666E-2},{"$f":"IF(AF7=0,0,(AF7*((LOG(AF7))/LOG(2))))","v":-0.26045937304056793},null,{"$f":"N7","v":111},{"$f":"COUNTIF(L53:L67,AI7)","v":1},{"$f":"AJ7/(AL4-AJ10)","v":7.6923076923076927E-2},{"$f":"IF(AK7=0,0,(AK7*((LOG(AK7))/LOG(2))))","v":-0.28464920908777636},null,{"$f":"N7","v":111},{"$f":"COUNTIF(L68:L83,AN7)","v":0},{"$f":"AO7/(AQ4-AO10)","v":0},{"$f":"IF(AP7=0,0,(AP7*((LOG(AP7))/LOG(2))))","v":0},null,{"$f":"N7","v":111},{"$f":"COUNTIF(L84:L98,AS7)","v":2},{"$f":"AT7/(AV4-AT10)","v":0.15384615384615385},{"$f":"IF(AU7=0,0,(AU7*((LOG(AU7))/LOG(2))))","v":-0.4154522643293988}]
[11,127,11,134,21,142,null,null,null,null,0,112,null,112,{"$f":"COUNTIF($L$7:$L$500,N8)","v":40},{"$f":"O8/$Q$4","v":0.43478260869565216},{"$f":"IF(P8=0,0,(P8*((LOG(P8))/LOG(2))))","v":-0.52244950485636987},null,null,{"$f":"N8","v":112},{"$f":"COUNTIF(L7:L21,T8)","v":7},{"$f":"U8/(W4-U10)","v":0.46666666666666667},{"$f":"IF(V8=0,0,(V8*((LOG(V8))/LOG(2))))","v":-0.51311664765709342},null,{"$f":"N8","v":112},{"$f":"COUNTIF(L22:L37,Y8)","v":7},{"$f":"Z8/(AB4-Z10)","v":0.46666666666666667},{"$f":"IF(AA8=0,0,(AA8*((LOG(AA8))/LOG(2))))","v":-0.51311664765709342},null,{"$f":"N8","v":112},{"$f":"COUNTIF(L38:L52,AD8)","v":6},{"$f":"AE8/(AG4-AE10)","v":0.4},{"$f":"IF(AF8=0,0,(AF8*((LOG(AF8))/LOG(2))))","v":-0.52877123795494496},null,{"$f":"N8","v":112},{"$f":"COUNTIF(L53:L67,AI8)","v":9},{"$f":"AJ8/(AL4-AJ10)","v":0.69230769230769229},{"$f":"IF(AK8=0,0,(AK8*((LOG(AK8))/LOG(2))))","v":-0.36727941925300139},null,{"$f":"N8","v":112},{"$f":"COUNTIF(L68:L83,AN8)","v":6},{"$f":"AO8/(AQ4-AO10)","v":0.375},{"$f":"IF(AP8=0,0,(AP8*((LOG(AP8))/LOG(2))))","v":-0.53063906222956647},null,{"$f":"N8","v":112},{"$f":"COUNTIF(L84:L98,AS8)","v":5},{"$f":"AT8/(AV4-AT10)","v":0.38461538461538464},{"$f":"IF(AU8=0,0,(AU8*((LOG(AU8))/LOG(2))))","v":-0.53019677817451139}]
[11,230,22,238,14,252,null,null,null,null,0,121,null,121,{"$f":"COUNTIF($L$7:$L$500,N9)","v":18},{"$f":"O9/$Q$4","v":0.19565217391304349},{"$f":"IF(P9=0,0,(P9*((LOG(P9))/LOG(2))))","v":-0.46049418677244142},null,null,{"$f":"N9","v":121},{"$f":"COUNTIF(L7:L21,T9)","v":2},{"$f":"U9/(W4-U10)","v":0.13333333333333333},{"$f":"IF(V9=0,0,(V9*((LOG(V9))/LOG(2))))","v":-0.3875854127478025},null,{"$f":"N9","v":121},{"$f":"COUNTIF(L22:L37,Y9)","v":2},{"$f":"Z9/(AB4-Z10)","v":0.13333333333333333},{"$f":"IF(AA9=0,0,(AA9*((LOG(AA9))/LOG(2))))","v":-0.3875854127478025},null,{"$f":"N9","v":121},{"$f":"COUNTIF(L38:L52,AD9)","v":1},{"$f":"AE9/(AG4-AE10)","v":6.6666666666666666E-2},{"$f":"IF(AF9=0,0,(AF9*((LOG(AF9))/LOG(2))))","v":-0.26045937304056793},null,{"$f":"N9","v":121},{"$f":"COUNTIF(L53:L67,AI9)","v":2},{"$f":"AJ9/(AL4-AJ10)","v":0.15384615384615385},{"$f":"IF(AK9=0,0,(AK9*((LOG(AK9))/LOG(2))))","v":-0.4154522643293988},null,{"$f":"N9","v":121},{"$f":"COUNTIF(L68:L83,AN9)","v":7},{"$f":"AO9/(AQ4-AO10)","v":0.4375},{"$f":"IF(AP9=0,0,(AP9*((LOG(AP9))/LOG(2))))","v":-0.52178222159979815},null,{"$f":"N9","v":121},{"$f":"COUNTIF(L84:L98,AS9)","v":4},{"$f":"AT9/(AV4-AT10)","v":0.30769230769230771},{"$f":"IF(AU9=0,0,(AU9*((LOG(AU9))/LOG(2))))","v":-0.52321222096648989}]
[11,349,11,354,21,362,null,null,null,null,0,112,null,122,{"$f":"COUNTIF($L$7:$L$500,N10)","v":5},{"$f":"O10/$Q$4","v":5.434782608695652E-2},{"$f":"IF(P10=0,0,(P10*((LOG(P10))/LOG(2))))","v":-0.22834966636791579},null,null,{"$f":"N10","v":122},{"$f":"COUNTIF(L7:L21,T10)","v":0},null,null,null,{"$f":"N10","v":122},{"$f":"COUNTIF(L22:L37,Y10)","v":1},null,null,null,{"$f":"N10","v":122},{"$f":"COUNTIF(L38:L52,AD10)","v":0},null,null,null,{"$f":"N10","v":122},{"$f":"COUNTIF(L53:L67,AI10)","v":2},null,null,null,{"$f":"N10","v":122},{"$f":"COUNTIF(L68:L83,AN10)","v":0},null,null,null,{"$f":"N10","v":122},{"$f":"COUNTIF(L84:L98,AS10)","v":2}]
[11,450,11,457,21,467,null,null,null,null,0,112,null,211,{"$f":"COUNTIF($L$7:$L$500,N11)","v":3},{"$f":"O11/$Q$4","v":3.2608695652173912E-2},{"$f":"IF(P11=0,0,(P11*((LOG(P11))/LOG(2))))","v":-0.16104128658703878},null,null,{"$f":"N11","v":211},{"$f":"COUNTIF(L7:L21,T11)","v":1},{"$f":"U11/(W4-U10)","v":6.6666666666666666E-2},{"$f":"IF(V11=0,0,(V11*((LOG(V11))/LOG(2))))","v":-0.26045937304056793},null,{"$f":"N11","v":211},{"$f":"COUNTIF(L22:L37,Y11)","v":0},{"$f":"Z11/(AB4-Z10)","v":0},{"$f":"IF(AA11=0,0,(AA11*((LOG(AA11))/LOG(2))))","v":0},null,{"$f":"N11","v":211},{"$f":"COUNTIF(L38:L52,AD11)","v":1},{"$f":"AE11/(AG4-AE10)","v":6.6666666666666666E-2},{"$f":"IF(AF11=0,0,(AF11*((LOG(AF11))/LOG(2))))","v":-0.26045937304056793},null,{"$f":"N11","v":211},{"$f":"COUNTIF(L53:L67,AI11)","v":0},{"$f":"AJ11/(AL4-AJ10)","v":0},{"$f":"IF(AK11=0,0,(AK11*((LOG(AK11))/LOG(2))))","v":0},null,{"$f":"N11","v":211},{"$f":"COUNTIF(L68:L83,AN11)","v":0},{"$f":"AO11/(AQ4-AO10)","v":0},{"$f":"IF(AP11=0,0,(AP11*((LOG(AP11))/LOG(2))))","v":0},null,{"$f":"N11","v":211},{"$f":"COUNTIF(L84:L98,AS11)","v":1},{"$f":"AT11/(AV4-AT10)","v":7.6923076923076927E-2},{"$f":"IF(AU11=0,0,(AU11*((LOG(AU11))/LOG(2))))","v":-0.28464920908777636}]
[11,555,11,559,12,564,null,null,null,null,0,111,null,212,{"$f":"COUNTIF($L$7:$L$500,N12)","v":10},{"$f":"O12/$Q$4","v":0.10869565217391304},{"$f":"IF(P12=0,0,(P12*((LOG(P12))/LOG(2))))","v":-0.34800368056191849},null,null,{"$f":"N12","v":212},{"$f":"COUNTIF(L7:L21,T12)","v":0},{"$f":"U12/(W4-U10)","v":0},{"$f":"IF(V12=0,0,(V12*((LOG(V12))/LOG(2))))","v":0},null,{"$f":"N12","v":212},{"$f":"COUNTIF(L22:L37,Y12)","v":1},{"$f":"Z12/(AB4-Z10)","v":6.6666666666666666E-2},{"$f":"IF(AA12=0,0,(AA12*((LOG(AA12))/LOG(2))))","v":-0.26045937304056793},null,{"$f":"N12","v":212},{"$f":"COUNTIF(L38:L52,AD12)","v":5},{"$f":"AE12/(AG4-AE10)","v":0.33333333333333331},{"$f":"IF(AF12=0,0,(AF12*((LOG(AF12))/LOG(2))))","v":-0.52832083357371862},null,{"$f":"N12","v":212},{"$f":"COUNTIF(L53:L67,AI12)","v":1},{"$f":"AJ12/(AL4-AJ10)","v":7.6923076923076927E-2},{"$f":"IF(AK12=0,0,(AK12*((LOG(AK12))/LOG(2))))","v":-0.28464920908777636},null,{"$f":"N12","v":212},{"$f":"COUNTIF(L68:L83,AN12)","v":2},{"$f":"AO12/(AQ4-AO10)","v":0.125},{"$f":"IF(AP12=0,0,(AP12*((LOG(AP12))/LOG(2))))","v":-0.375},null,{"$f":"N12","v":212},{"$f":"COUNTIF(L84:L98,AS12)","v":1},{"$f":"AT12/(AV4-AT10)","v":7.6923076923076927E-2},{"$f":"IF(AU12=0,0,(AU12*((LOG(AU12))/LOG(2))))","v":-0.28464920908777636}]
[11,663,11,668,21,676,null,null,null,null,0,112,null,221,{"$f":"COUNTIF($L$7:$L$500,N13)","v":2},{"$f":"O13/$Q$4","v":2.1739130434782608E-2},{"$f":"IF(P13=0,0,(P13*((LOG(P13))/LOG(2))))","v":-0.12007743382732637},null,null,{"$f":"N13","v":221},{"$f":"COUNTIF(L7:L21,T13)","v":0},{"$f":"U13/(W4-U10)","v":0},{"$f":"IF(V13=0,0,(V13*((LOG(V13))/LOG(2))))","v":0},null,{"$f":"N13","v":221},{"$f":"COUNTIF(L22:L37,Y13)","v":0},{"$f":"Z13/(AB4-Z10)","v":0},{"$f":"IF(AA13=0,0,(AA13*((LOG(AA13))/LOG(2))))","v":0},null,{"$f":"N13","v":221},{"$f":"COUNTIF(L38:L52,AD13)","v":1},{"$f":"AE13/(AG4-AE10)","v":6.6666666666666666E-2},{"$f":"IF(AF13=0,0,(AF13*((LOG(AF13))/LOG(2))))","v":-0.26045937304056793},null,{"$f":"N13","v":221},{"$f":"COUNTIF(L53:L67,AI13)","v":0},{"$f":"AJ13/(AL4-AJ10)","v":0},{"$f":"IF(AK13=0,0,(AK13*((LOG(AK13))/LOG(2))))","v":0},null,{"$f":"N13","v":221},{"$f":"COUNTIF(L68:L83,AN13)","v":1},{"$f":"AO13/(AQ4-AO10)","v":6.25E-2},{"$f":"IF(AP13=0,0,(AP13*((LOG(AP13))/LOG(2))))","v":-0.25},null,{"$f":"N13","v":221},{"$f":"COUNTIF(L84:L98,AS13)","v":0},{"$f":"AT13/(AV4-AT10)","v":0},{"$f":"IF(AU13=0,0,(AU13*((LOG(AU13))/LOG(2))))","v":0}]
[11,762,11,766,21,775,null,null,null,null,0,112,null,222,{"$f":"COUNTIF($L$7:$L$500,N14)","v":0},{"$f":"O14/$Q$4","v":0},{"$f":"IF(P14=0,0,(P14*((LOG(P14))/LOG(2))))","v":0},null,null,{"$f":"N14","v":222},{"$f":"COUNTIF(L7:L21,T14)","v":0},{"$f":"U14/(W4-U10)","v":0},{"$f":"IF(V14=0,0,(V14*((LOG(V14))/LOG(2))))","v":0},null,{"$f":"N14","v":222},{"$f":"COUNTIF(L22:L37,Y14)","v":0},{"$f":"Z14/(AB4-Z10)","v":0},{"$f":"IF(AA14=0,0,(AA14*((LOG(AA14))/LOG(2))))","v":0},null,{"$f":"N14","v":222},{"$f":"COUNTIF(L38:L52,AD14)","v":0},{"$f":"AE14/(AG4-AE10)","v":0},{"$f":"IF(AF14=0,0,(AF14*((LOG(AF14))/LOG(2))))","v":0},null,{"$f":"N14","v":222},{"$f":"COUNTIF(L53:L67,AI14)","v":0},{"$f":"AJ14/(AL4-AJ10)","v":0},{"$f":"IF(AK14=0,0,(AK14*((LOG(AK14))/LOG(2))))","v":0},null,{"$f":"N14","v":222},{"$f":"COUNTIF(L68:L83,AN14)","v":0},{"$f":"AO14/(AQ4-AO10)","v":0},{"$f":"IF(AP14=0,0,(AP14*((LOG(AP14))/LOG(2))))","v":0},null,{"$f":"N14","v":222},{"$f":"COUNTIF(L84:L98,AS14)","v":0},{"$f":"AT14/(AV4-AT10)","v":0},{"$f":"IF(AU14=0,0,(AU14*((LOG(AU14))/LOG(2))))","v":0}]
[11,860,11,864,12,871,null,null,null,null,0,111,null,null,null,{"$f":"SUM(P7:P14)","v":1},{"$f":"-SUM(Q7:Q14)","v":2.2537516119729206},null,null,null,null,{"$f":"SUM(V7:V14)","v":1},{"$f":"-SUM(W7:W14)","v":1.6894822670191825},null,null,null,{"$f":"SUM(AA7:AA14)","v":1},{"$f":"-SUM(AB7:AB14)","v":1.6894822670191825},null,null,null,{"$f":"SUM(AF7:AF14)","v":1},{"$f":"-SUM(AG7:AG14)","v":2.0989295636909353},null,null,null,{"$f":"SUM(AK7:AK14)","v":1},{"$f":"-SUM(AL7:AL14)","v":1.3520301017579528},null,null,null,{"$f":"SUM(AP7:AP14)","v":1},{"$f":"-SUM(AQ7:AQ14)","v":1.6774212838293647},null,null,null,{"$f":"SUM(AU7:AU14)","v":1},{"$f":"-SUM(AV7:AV14)","v":2.0381596816459528}]
[11,969,11,974,12,981,null,null,null,null,0,111,null,null,null,"U=",{"$f":"Q15/(LOG(Q4)/LOG(2))","v":0.34547868590108993},null,null,null,null,"U1=",{"$f":"W15/(LOG(W4)/LOG(2))","v":0.4324365440174392},null,null,null,"U2=",{"$f":"AB15/(LOG(AB4)/LOG(2))","v":0.42237056675479562},null,null,null,"U3=",{"$f":"AG15/(LOG(AG4)/LOG(2))","v":0.53723786533725959},null,null,null,"U4=",{"$f":"AL15/(LOG(AL4)/LOG(2))","v":0.34606295432937945},null,null,null,"U5=",{"$f":"AQ15/(LOG(AQ4)/LOG(2))","v":0.41935532095734118},null,null,null,"U6=",{"$f":"AV15/(LOG(AV4)/LOG(2))","v":0.52168332636110037}]
[11,1078,11,1081,12,1085,null,null,null,null,0,111]
[11,1182,11,1186,21,1195,null,null,null,null,0,112]
[11,1284,11,1288,21,1296,null,null,null,null,0,112,null,"Total Target Seq"]
[11,1381,11,1385,12,1391,null,null,null,null,0,111,null,{"$f":"COUNTIF(L7:L98,G3)","v":5},null,15,16,15,15,16,15]
[22,1488,13,1494,14,1502,null,null,null,null,0,211,null,null,null,"% of reinforcement given in 6 equal intervals based on number of trials "]
[11,1609,22,1619,14,1646,null,null,null,null,0,121,null,null,null,"%_1","%_2","%_3","%_4","%_5","%_6"]
[11,1747,11,1751,21,1762,null,null,null,null,0,112,null,null,"target sequence",{"$f":"$G$3","v":122},{"$f":"$G$3","v":122},{"$f":"$G$3","v":122},{"$f":"$G$3","v":122},{"$f":"$G$3","v":122},{"$f":"$G$3","v":122}]
[11,1850,22,1869,23,1991,null,null,null,null,0,122,null,null,"total reinforcement",{"$f":"U10","v":0},{"$f":"Z10","v":1},{"$f":"AE10","v":0},{"$f":"AJ10","v":2},{"$f":"AO10","v":0},{"$f":"AT10","v":2}]
[11,2089,11,2093,21,2102,null,null,null,null,0,112,null,null,"% target"]
[11,2188,11,2192,12,2196,null,null,null,null,0,111,null,null,"CCRF"]
[11,2295,22,2304,14,2403,null,null,null,null,0,121,null,null,"% CCRf"]
[11,2500,11,2504,12,2508,null,null,null,null,0,111,null,null,"average response rate",{"$f":"F21/P20","v":100.13333333333334},{"$f":"(F37-F21)/Q20","v":122.75},{"$f":"(F52-F37)/R20","v":118.6},{"$f":"(F67-F52)/S20","v":115.2},{"$f":"(F83-F67)/T20","v":125.25},{"$f":"(F98-F83)/U20","v":129.86666666666667}]
[11,2605,11,2610,21,2618,null,null,null,null,0,112]
[11,2704,11,2712,21,2724,null,null,null,null,0,112]
[11,2814,11,2821,21,2833,null,null,null,null,0,112]
[11,2922,11,2926,21,2935,null,null,null,null,0,112]
[11,3021,11,3025,12,3029,null,null,null,null,0,111]
[22,3127,13,3136,23,3147,null,null,null,null,0,212]
[11,3244,11,3247,21,3258,null,null,null,null,0,112]
[11,3348,11,3352,12,3362,null,null,null,null,0,111]
[11,3457,11,3461,12,3466,null,null,null,null,0,111]
[11,3563,11,3567,12,3574,null,null,null,null,0,111]
[11,3669,11,3673,21,3684,null,null,null,null,0,112]
[11,3773,11,3777,21,3793,null,null,null,null,0,112]
[22,3888,13,3898,14,3903,null,null,null,null,0,211]
[11,4002,11,4012,21,4024,null,null,null,null,0,112]
[11,4116,11,4120,21,4130,null,null,null,null,0,112]
[11,4217,11,4221,21,4233,null,null,null,null,0,112]
[11,4328,22,4341,14,4403,null,null,null,null,0,121]
[22,4494,13,4503,23,4516,null,null,null,null,0,212]
[22,4630,13,4644,23,4656,null,null,null,null,0,212]
[22,4755,13,4762,23,4776,null,null,null,null,0,212]
[22,4876,13,4887,23,4898,null,null,null,null,0,212]
[22,4995,24,5011,14,5020,null,null,null,null,0,221]
[22,5118,13,5126,23,5137,null,null,null,null,0,212]
[11,5232,11,5236,21,5245,null,null,null,null,0,112]
[11,5340,11,5347,21,5356,null,null,null,null,0,112]
[11,5445,22,5455,14,5510,null,null,null,null,0,121]
[11,5612,11,5616,21,5625,null,null,null,null,0,112]
[11,5713,11,5718,21,5726,null,null,null,null,0,112]
[11,5813,11,5817,21,5826,null,null,null,null,0,112]
[11,5916,11,5920,21,5931,null,null,null,null,0,112]
[11,6019,11,6024,21,6032,null,null,null,null,0,112]
[11,6114,11,6118,12,6123,null,null,null,null,0,111]
[22,6218,13,6227,23,6240,null,null,null,null,0,212]
[11,6337,11,6341,21,6351,null,null,null,null,0,112]
[11,6435,11,6439,21,6448,null,null,null,null,0,112]
[11,6536,11,6541,21,6549,null,null,null,null,0,112]
[11,6638,22,6653,23,6704,null,null,null,null,0,122]
[11,6801,22,6816,14,6836,null,null,null,null,0,121]
[11,6933,22,6946,23,6973,null,null,null,null,0,122]
[11,7069,11,7073,21,7082,null,null,null,null,0,112]
[11,7171,22,7184,14,7205,null,null,null,null,0,121]
[22,7301,24,7320,14,7333,null,null,null,null,0,221]
[22,7430,13,7437,23,7446,null,null,null,null,0,212]
[11,7540,11,7544,21,7553,null,null,null,null,0,112]
[11,7641,22,7656,14,7671,null,null,null,null,0,121]
[11,7769,22,7780,14,7796,null,null,null,null,0,121]
[11,7898,11,7905,21,7916,null,null,null,null,0,112]
[11,8006,11,8010,21,8018,null,null,null,null,0,112]
[11,8104,22,8116,14,8199,null,null,null,null,0,121]
[11,8297,22,8310,14,8326,null,null,null,null,0,121]
[11,8421,11,8425,21,8434,null,null,null,null,0,112]
[11,8523,22,8535,14,8624,null,null,null,null,0,121]
[22,8720,13,8727,23,8736,null,null,null,null,0,212]
[11,8835,22,8848,14,8862,null,null,null,null,0,121]
[11,8959,11,8968,21,8977,null,null,null,null,0,112]
[11,9086,22,9097,14,9118,null,null,null,null,0,121]
[11,9219,22,9231,23,9257,null,null,null,null,0,122]
[11,9357,11,9361,21,9370,null,null,null,null,0,112]
[11,9462,22,9472,14,9551,null,null,null,null,0,121]
[11,9646,11,9658,21,9668,null,null,null,null,0,112]
[11,9756,11,9764,21,9773,null,null,null,null,0,112]
[11,9862,22,9884,14,9975,null,null,null,null,0,121]
[11,10079,22,10091,23,10119,null,null,null,null,0,122]
[11,10213,22,10226,14,10238,null,null,null,null,0,121]
[11,10343,11,10352,21,10364,null,null,null,null,0,112]
[11,10452,11,10460,12,10465,null,null,null,null,0,111]
[22,10563,13,10571,23,10582,null,null,null,null,0,212]
[11,10679,11,10683,12,10690,null,null,null,null,0,111]
[22,10791,13,10798,14,10804,null,null,null,null,0,211]
[11,10902,11,10913,21,10925,null,null,null,null,1,112]

{"sheet":"!2011-05-30_08h46m.Subject 52","index":27,"n_rows":62,"n_cols":48,"rows_kept":62,"cut":false,"hidden":false,"merged":[[4,39,4,42],[5,39,5,40],[4,44,4,47],[5,44,5,45],[4,24,4,27],[5,24,5,25],[4,29,4,32],[5,29,5,30],[4,34,4,37],[5,34,5,35],[1,1,1,2],[5,13,5,14],[18,13,18,14],[19,13,19,14],[4,19,4,22],[5,19,5,20]]}
["Report for:!2011-05-30_08h46m.Subject 52"]
["Date","2011-05-30",null,null,null,"Group",0]
["Hen",52,null,null,null,"Correct Sequence",{"$f":"Start!J2","v":122},null,null,null,null,null,null,null,null,"Total Sequences in Data",{"$f":"4994-COUNTBLANK(L7:L5000)","v":56},null,null,null,null,"Total Sequences in Block Data",{"$f":"COUNTA(L7:L15)","v":9},null,null,null,"Total Sequences in Block Data",{"$f":"COUNTA(L16:L25)","v":10},null,null,null,"Total Sequences in Block Data",{"$f":"COUNTA(L26:L34)","v":9},null,null,null,"Total Sequences in Block Data",{"$f":"COUNTA(L35:L43)","v":9},null,null,null,"Total Sequences in Block Data",{"$f":"COUNTA(L44:L53)","v":10},null,null,null,"Total Sequences in Block Data",{"$f":"COUNTA(L54:L62)","v":9}]
["Program",0,null,null,null,null,null,null,null,null,null,null,null,null,null,"Total Sequences in Summary",{"$f":"SUM(O7:O14)","v":56},null,null,null,null,"Total Sequences in Block Summary",{"$f":"SUM(U7:U14)","v":9},null,null,null,"Total Sequences in Block Summary",{"$f":"SUM(Z7:Z14)","v":10},null,null,null,"Total Sequences in Block Summary",{"$f":"SUM(AE7:AE14)","v":9},null,null,null,"Total Sequences in Block Summary",{"$f":"SUM(AJ7:AJ14)","v":9},null,null,null,"Total Sequences in Block Summary",{"$f":"SUM(AO7:AO14)","v":10},null,null,null,"Total Sequences in Block Summary",{"$f":"SUM(AT7:AT14)","v":9}]
[null,null,null,null,null,null,null,null,null,null,null,null,null,null,null,null,null,null,null,"Block 1",null,null,null,null,"Block 2",null,null,null,null,"Block 3",null,null,null,null,"Block 4",null,null,null,null,"Block 5",null,null,null,null,"Block 6"]
["Sequence\nComponent\n1","Time\n1","Sequence\nComponent\n2","Time\n2","Sequence\nComponent\n3","Time\n3","Sequence\nComponent\n4","Time\n4","Sequence\nComponent\n5","Time\n5","Correct?\n0=No 1=Yes","Sequence",null,"Frequency",null,"Relative Frequency","Variability",null,null,"Frequency",null,"Relative Frequency","Variability",null,"Frequency",null,"Relative Frequency","Variability",null,"Frequency",null,"Relative Frequency","Variability",null,"Frequency",null,"Relative Frequency","Variability",null,"Frequency",null,"Relative Frequency","Variability",null,"Frequency",null,"Relative Frequency","Variability"]
[11,6,11,10,21,20,null,null,null,null,0,112,null,111,{"$f":"COUNTIF($L$7:$L$500,N7)","v":5},{"$f":"O7/$Q$4","v":8.9285714285714288E-2},{"$f":"IF(P7=0,0,(P7*((LOG(P7))/LOG(2))))","v":-0.31119882385448588},null,null,{"$f":"N7","v":111},{"$f":"COUNTIF(L7:L15,T7)","v":4},{"$f":"U7/(W4-U10)","v":0.44444444444444442},{"$f":"IF(V7=0,0,(V7*((LOG(V7))/LOG(2))))","v":-0.51996666730769447},null,{"$f":"N7","v":111},{"$f":"COUNTIF(L16:L25,Y7)","v":0},{"$f":"Z7/(AB4-Z10)","v":0},{"$f":"IF(AA7=0,0,(AA7*((LOG(AA7))/LOG(2))))","v":0},null,{"$f":"N7","v":111},{"$f":"COUNTIF(L26:L34,AD7)","v":0},{"$f":"AE7/(AG4-AE10)","v":0},{"$f":"IF(AF7=0,0,(AF7*((LOG(AF7))/LOG(2))))","v":0},null,{"$f":"N7","v":111},{"$f":"COUNTIF(L35:L43,AI7)","v":0},{"$f":"AJ7/(AL4-AJ10)","v":0},{"$f":"IF(AK7=0,0,(AK7*((LOG(AK7))/LOG(2))))","v":0},null,{"$f":"N7","v":111},{"$f":"COUNTIF(L44:L53,AN7)","v":1},{"$f":"AO7/(AQ4-AO10)","v":0.1},{"$f":"IF(AP7=0,0,(AP7*((LOG(AP7))/LOG(2))))","v":-0.33219280948873625},null,{"$f":"N7","v":111},{"$f":"COUNTIF(L54:L62,AS7)","v":0},{"$f":"AT7/(AV4-AT10)","v":0},{"$f":"IF(AU7=0,0,(AU7*((LOG(AU7))/LOG(2))))","v":0}]
[11,106,11,109,12,114,null,null,null,null,0,111,null,112,{"$f":"COUNTIF($L$7:$L$500,N8)","v":40},{"$f":"O8/$Q$4","v":0.7142857142857143},{"$f":"IF(P8=0,0,(P8*((LOG(P8))/LOG(2))))","v":-0.34673344797874411},null,null,{"$f":"N8","v":112},{"$f":"COUNTIF(L7:L15,T8)","v":5},{"$f":"U8/(W4-U10)","v":0.55555555555555558},{"$f":"IF(V8=0,0,(V8*((LOG(V8))/LOG(2))))","v":-0.4711093925305278},null,{"$f":"N8","v":112},{"$f":"COUNTIF(L16:L25,Y8)","v":6},{"$f":"Z8/(AB4-Z10)","v":0.66666666666666663},{"$f":"IF(AA8=0,0,(AA8*((LOG(AA8))/LOG(2))))","v":-0.38997500048077083},null,{"$f":"N8","v":112},{"$f":"COUNTIF(L26:L34,AD8)","v":6},{"$f":"AE8/(AG4-AE10)","v":0.75},{"$f":"IF(AF8=0,0,(AF8*((LOG(AF8))/LOG(2))))","v":-0.31127812445913283},null,{"$f":"N8","v":112},{"$f":"COUNTIF(L35:L43,AI8)","v":8},{"$f":"AJ8/(AL4-AJ10)","v":1},{"$f":"IF(AK8=0,0,(AK8*((LOG(AK8))/LOG(2))))","v":0},null,{"$f":"N8","v":112},{"$f":"COUNTIF(L44:L53,AN8)","v":9},{"$f":"AO8/(AQ4-AO10)","v":0.9},{"$f":"IF(AP8=0,0,(AP8*((LOG(AP8))/LOG(2))))","v":-0.13680278410054494},null,{"$f":"N8","v":112},{"$f":"COUNTIF(L54:L62,AS8)","v":6},{"$f":"AT8/(AV4-AT10)","v":0.75},{"$f":"IF(AU8=0,0,(AU8*((LOG(AU8))/LOG(2))))","v":-0.31127812445913283}]
[11,212,11,218,21,229,null,null,null,null,0,112,null,121,{"$f":"COUNTIF($L$7:$L$500,N9)","v":6},{"$f":"O9/$Q$4","v":0.10714285714285714},{"$f":"IF(P9=0,0,(P9*((LOG(P9))/LOG(2))))","v":-0.34525633085747659},null,null,{"$f":"N9","v":121},{"$f":"COUNTIF(L7:L15,T9)","v":0},{"$f":"U9/(W4-U10)","v":0},{"$f":"IF(V9=0,0,(V9*((LOG(V9))/LOG(2))))","v":0},null,{"$f":"N9","v":121},{"$f":"COUNTIF(L16:L25,Y9)","v":3},{"$f":"Z9/(AB4-Z10)","v":0.33333333333333331},{"$f":"IF(AA9=0,0,(AA9*((LOG(AA9))/LOG(2))))","v":-0.52832083357371862},null,{"$f":"N9","v":121},{"$f":"COUNTIF(L26:L34,AD9)","v":1},{"$f":"AE9/(AG4-AE10)","v":0.125},{"$f":"IF(AF9=0,0,(AF9*((LOG(AF9))/LOG(2))))","v":-0.375},null,{"$f":"N9","v":121},{"$f":"COUNTIF(L35:L43,AI9)","v":0},{"$f":"AJ9/(AL4-AJ10)","v":0},{"$f":"IF(AK9=0,0,(AK9*((LOG(AK9))/LOG(2))))","v":0},null,{"$f":"N9","v":121},{"$f":"COUNTIF(L44:L53,AN9)","v":0},{"$f":"AO9/(AQ4-AO10)","v":0},{"$f":"IF(AP9=0,0,(AP9*((LOG(AP9))/LOG(2))))","v":0},null,{"$f":"N9","v":121},{"$f":"COUNTIF(L54:L62,AS9)","v":2},{"$f":"AT9/(AV4-AT10)","v":0.25},{"$f":"IF(AU9=0,0,(AU9*((LOG(AU9))/LOG(2))))","v":-0.5}]
[11,316,11,320,21,330,null,null,null,null,0,112,null,122,{"$f":"COUNTIF($L$7:$L$500,N10)","v":4},{"$f":"O10/$Q$4","v":7.1428571428571425E-2},{"$f":"IF(P10=0,0,(P10*((LOG(P10))/LOG(2))))","v":-0.27195392300411453},null,null,{"$f":"N10","v":122},{"$f":"COUNTIF(L7:L15,T10)","v":0},null,null,null,{"$f":"N10","v":122},{"$f":"COUNTIF(L16:L25,Y10)","v":1},null,null,null,{"$f":"N10","v":122},{"$f":"COUNTIF(L26:L34,AD10)","v":1},null,null,null,{"$f":"N10","v":122},{"$f":"COUNTIF(L35:L43,AI10)","v":1},null,null,null,{"$f":"N10","v":122},{"$f":"COUNTIF(L44:L53,AN10)","v":0},null,null,null,{"$f":"N10","v":122},{"$f":"COUNTIF(L54:L62,AS10)","v":1}]
[11,415,11,419,12,427,null,null,null,null,0,111,null,211,{"$f":"COUNTIF($L$7:$L$500,N11)","v":0},{"$f":"O11/$Q$4","v":0},{"$f":"IF(P11=0,0,(P11*((LOG(P11))/LOG(2))))","v":0},null,null,{"$f":"N11","v":211},{"$f":"COUNTIF(L7:L15,T11)","v":0},{"$f":"U11/(W4-U10)","v":0},{"$f":"IF(V11=0,0,(V11*((LOG(V11))/LOG(2))))","v":0},null,{"$f":"N11","v":211},{"$f":"COUNTIF(L16:L25,Y11)","v":0},{"$f":"Z11/(AB4-Z10)","v":0},{"$f":"IF(AA11=0,0,(AA11*((LOG(AA11))/LOG(2))))","v":0},null,{"$f":"N11","v":211},{"$f":"COUNTIF(L26:L34,AD11)","v":0},{"$f":"AE11/(AG4-AE10)","v":0},{"$f":"IF(AF11=0,0,(AF11*((LOG(AF11))/LOG(2))))","v":0},null,{"$f":"N11","v":211},{"$f":"COUNTIF(L35:L43,AI11)","v":0},{"$f":"AJ11/(AL4-AJ10)","v":0},{"$f":"IF(AK11=0,0,(AK11*((LOG(AK11))/LOG(2))))","v":0},null,{"$f":"N11","v":211},{"$f":"COUNTIF(L44:L53,AN11)","v":0},{"$f":"AO11/(AQ4-AO10)","v":0},{"$f":"IF(AP11=0,0,(AP11*((LOG(AP11))/LOG(2))))","v":0},null,{"$f":"N11","v":211},{"$f":"COUNTIF(L54:L62,AS11)","v":0},{"$f":"AT11/(AV4-AT10)","v":0},{"$f":"IF(AU11=0,0,(AU11*((LOG(AU11))/LOG(2))))","v":0}]
[11,522,11,525,12,529,null,null,null,null,0,111,null,212,{"$f":"COUNTIF($L$7:$L$500,N12)","v":1},{"$f":"O12/$Q$4","v":1.7857142857142856E-2},{"$f":"IF(P12=0,0,(P12*((LOG(P12))/LOG(2))))","v":-0.10370276646531436},null,null,{"$f":"N12","v":212},{"$f":"COUNTIF(L7:L15,T12)","v":0},{"$f":"U12/(W4-U10)","v":0},{"$f":"IF(V12=0,0,(V12*((LOG(V12))/LOG(2))))","v":0},null,{"$f":"N12","v":212},{"$f":"COUNTIF(L16:L25,Y12)","v":0},{"$f":"Z12/(AB4-Z10)","v":0},{"$f":"IF(AA12=0,0,(AA12*((LOG(AA12))/LOG(2))))","v":0},null,{"$f":"N12","v":212},{"$f":"COUNTIF(L26:L34,AD12)","v":1},{"$f":"AE12/(AG4-AE10)","v":0.125},{"$f":"IF(AF12=0,0,(AF12*((LOG(AF12))/LOG(2))))","v":-0.375},null,{"$f":"N12","v":212},{"$f":"COUNTIF(L35:L43,AI12)","v":0},{"$f":"AJ12/(AL4-AJ10)","v":0},{"$f":"IF(AK12=0,0,(AK12*((LOG(AK12))/LOG(2))))","v":0},null,{"$f":"N12","v":212},{"$f":"COUNTIF(L44:L53,AN12)","v":0},{"$f":"AO12/(AQ4-AO10)","v":0},{"$f":"IF(AP12=0,0,(AP12*((LOG(AP12))/LOG(2))))","v":0},null,{"$f":"N12","v":212},{"$f":"COUNTIF(L54:L62,AS12)","v":0},{"$f":"AT12/(AV4-AT10)","v":0},{"$f":"IF(AU12=0,0,(AU12*((LOG(AU12))/LOG(2))))","v":0}]
[11,626,11,629,21,641,null,null,null,null,0,112,null,221,{"$f":"COUNTIF($L$7:$L$500,N13)","v":0},{"$f":"O13/$Q$4","v":0},{"$f":"IF(P13=0,0,(P13*((LOG(P13))/LOG(2))))","v":0},null,null,{"$f":"N13","v":221},{"$f":"COUNTIF(L7:L15,T13)","v":0},{"$f":"U13/(W4-U10)","v":0},{"$f":"IF(V13=0,0,(V13*((LOG(V13))/LOG(2))))","v":0},null,{"$f":"N13","v":221},{"$f":"COUNTIF(L16:L25,Y13)","v":0},{"$f":"Z13/(AB4-Z10)","v":0},{"$f":"IF(AA13=0,0,(AA13*((LOG(AA13))/LOG(2))))","v":0},null,{"$f":"N13","v":221},{"$f":"COUNTIF(L26:L34,AD13)","v":0},{"$f":"AE13/(AG4-AE10)","v":0},{"$f":"IF(AF13=0,0,(AF13*((LOG(AF13))/LOG(2))))","v":0},null,{"$f":"N13","v":221},{"$f":"COUNTIF(L35:L43,AI13)","v":0},{"$f":"AJ13/(AL4-AJ10)","v":0},{"$f":"IF(AK13=0,0,(AK13*((LOG(AK13))/LOG(2))))","v":0},null,{"$f":"N13","v":221},{"$f":"COUNTIF(L44:L53,AN13)","v":0},{"$f":"AO13/(AQ4-AO10)","v":0},{"$f":"IF(AP13=0,0,(AP13*((LOG(AP13))/LOG(2))))","v":0},null,{"$f":"N13","v":221},{"$f":"COUNTIF(L54:L62,AS13)","v":0},{"$f":"AT13/(AV4-AT10)","v":0},{"$f":"IF(AU13=0,0,(AU13*((LOG(AU13))/LOG(2))))","v":0}]
[11,729,11,733,12,737,null,null,null,null,0,111,null,222,{"$f":"COUNTIF($L$7:$L$500,N14)","v":0},{"$f":"O14/$Q$4","v":0},{"$f":"IF(P14=0,0,(P14*((LOG(P14))/LOG(2))))","v":0},null,null,{"$f":"N14","v":222},{"$f":"COUNTIF(L7:L15,T14)","v":0},{"$f":"U14/(W4-U10)","v":0},{"$f":"IF(V14=0,0,(V14*((LOG(V14))/LOG(2))))","v":0},null,{"$f":"N14","v":222},{"$f":"COUNTIF(L16:L25,Y14)","v":0},{"$f":"Z14/(AB4-Z10)","v":0},{"$f":"IF(AA14=0,0,(AA14*((LOG(AA14))/LOG(2))))","v":0},null,{"$f":"N14","v":222},{"$f":"COUNTIF(L26:L34,AD14)","v":0},{"$f":"AE14/(AG4-AE10)","v":0},{"$f":"IF(AF14=0,0,(AF14*((LOG(AF14))/LOG(2))))","v":0},null,{"$f":"N14","v":222},{"$f":"COUNTIF(L35:L43,AI14)","v":0},{"$f":"AJ14/(AL4-AJ10)","v":0},{"$f":"IF(AK14=0,0,(AK14*((LOG(AK14))/LOG(2))))","v":0},null,{"$f":"N14","v":222},{"$f":"COUNTIF(L44:L53,AN14)","v":0},{"$f":"AO14/(AQ4-AO10)","v":0},{"$f":"IF(AP14=0,0,(AP14*((LOG(AP14))/LOG(2))))","v":0},null,{"$f":"N14","v":222},{"$f":"COUNTIF(L54:L62,AS14)","v":0},{"$f":"AT14/(AV4-AT10)","v":0},{"$f":"IF(AU14=0,0,(AU14*((LOG(AU14))/LOG(2))))","v":0}]
[11,833,11,837,21,847,null,null,null,null,0,112,null,null,null,{"$f":"SUM(P7:P14)","v":1},{"$f":"-SUM(Q7:Q14)","v":1.3788452921601355},null,null,null,null,{"$f":"SUM(V7:V14)","v":1},{"$f":"-SUM(W7:W14)","v":0.99107605983822222},null,null,null,{"$f":"SUM(AA7:AA14)","v":1},{"$f":"-SUM(AB7:AB14)","v":0.91829583405448945},null,null,null,{"$f":"SUM(AF7:AF14)","v":1},{"$f":"-SUM(AG7:AG14)","v":1.0612781244591329},null,null,null,{"$f":"SUM(AK7:AK14)","v":1},{"$f":"-SUM(AL7:AL14)","v":0},null,null,null,{"$f":"SUM(AP7:AP14)","v":1},{"$f":"-SUM(AQ7:AQ14)","v":0.46899559358928122},null,null,null,{"$f":"SUM(AU7:AU14)","v":1},{"$f":"-SUM(AV7:AV14)","v":0.81127812445913283}]
[11,932,11,935,21,947,null,null,null,null,0,112,null,null,null,"U=",{"$f":"Q15/(LOG(Q4)/LOG(2))","v":0.23743086321846446},null,null,null,null,"U1=",{"$f":"W15/(LOG(W4)/LOG(2))","v":0.3126496871021503},null,null,null,"U2=",{"$f":"AB15/(LOG(AB4)/LOG(2))","v":0.27643459094367495},null,null,null,"U3=",{"$f":"AG15/(LOG(AG4)/LOG(2))","v":0.33479597276788964},null,null,null,"U4=",{"$f":"AL15/(LOG(AL4)/LOG(2))","v":0},null,null,null,"U5=",{"$f":"AQ15/(LOG(AQ4)/LOG(2))","v":0.14118174150460763},null,null,null,"U6=",{"$f":"AV15/(LOG(AV4)/LOG(2))","v":0.25592975357145742}]
[11,1034,11,1038,21,1049,null,null,null,null,0,112]
[11,1138,22,1145,14,1202,null,null,null,null,0,121]
[11,1300,11,1304,21,1315,null,null,null,null,0,112,null,"Total Target Seq"]
[11,1401,11,1409,21,1420,null,null,null,null,0,112,null,{"$f":"COUNTIF(L7:L62,G3)","v":4},null,9,10,9,9,10,9]
[11,1508,22,1516,14,1568,null,null,null,null,0,121,null,null,null,"% of reinforcement given in 6 equal intervals based on number of trials "]
[11,1666,22,1675,14,1737,null,null,null,null,0,121,null,null,null,"%_1","%_2","%_3","%_4","%_5","%_6"]
[11,1834,11,1838,21,1848,null,null,null,null,0,112,null,null,"target sequence",{"$f":"$G$3","v":122},{"$f":"$G$3","v":122},{"$f":"$G$3","v":122},{"$f":"$G$3","v":122},{"$f":"$G$3","v":122},{"$f":"$G$3","v":122}]
[11,1938,22,1946,23,2069,null,null,null,null,0,122,null,null,"total reinforcement",{"$f":"U10","v":0},{"$f":"Z10","v":1},{"$f":"AE10","v":1},{"$f":"AJ10","v":1},{"$f":"AO10","v":0},{"$f":"AT10","v":1}]
[11,2166,11,2170,21,2178,null,null,null,null,0,112,null,null,"% target"]
[11,2269,22,2278,14,2334,null,null,null,null,0,121,null,null,"CCRF"]
[22,2426,13,2434,23,2444,null,null,null,null,0,212,null,null,"% CCRf"]
[11,2539,11,2543,21,2552,null,null,null,null,0,112,null,null,"average response rate",{"$f":"F15/P20","v":94.111111111111114},{"$f":"(F25-F15)/Q20","v":133.1},{"$f":"(F34-F25)/R20","v":118.88888888888889},{"$f":"(F43-F34)/S20","v":112.44444444444444},{"$f":"(F53-F43)/T20","v":100},{"$f":"(F62-F53)/U20","v":119.33333333333333}]
[11,2640,11,2644,21,2652,null,null,null,null,0,112]
[11,2741,11,2747,21,2755,null,null,null,null,0,112]
[11,2844,22,2852,23,2931,null,null,null,null,0,122]
[11,3029,11,3033,21,3041,null,null,null,null,0,112]
[11,3131,11,3137,21,3150,null,null,null,null,0,112]
[11,3237,11,3241,21,3248,null,null,null,null,0,112]
[11,3334,11,3338,21,3346,null,null,null,null,0,112]
[11,3434,11,3439,21,3447,null,null,null,null,0,112]
[11,3534,22,3546,23,3648,null,null,null,null,0,122]
[11,3746,11,3749,21,3757,null,null,null,null,0,112]
[11,3843,11,3851,21,3860,null,null,null,null,0,112]
[11,3949,11,3953,21,3962,null,null,null,null,0,112]
[11,4050,11,4054,21,4062,null,null,null,null,0,112]
[11,4148,11,4152,21,4160,null,null,null,null,0,112]
[11,4245,11,4249,21,4260,null,null,null,null,0,112]
[11,4349,11,4353,21,4361,null,null,null,null,0,112]
[11,4447,11,4450,21,4459,null,null,null,null,0,112]
[11,4546,11,4551,21,4560,null,null,null,null,0,112]
[11,4648,11,4655,21,4663,null,null,null,null,0,112]
[11,4749,11,4757,21,4765,null,null,null,null,0,112]
[11,4849,11,4854,21,4862,null,null,null,null,0,112]
[11,4950,11,4954,21,4963,null,null,null,null,0,112]
[11,5052,11,5060,21,5069,null,null,null,null,0,112]
[11,5156,11,5160,21,5168,null,null,null,null,0,112]
[11,5252,11,5255,12,5260,null,null,null,null,0,111]
[11,5355,11,5359,21,5367,null,null,null,null,0,112]
[11,5457,11,5460,21,5469,null,null,null,null,0,112]
[11,5555,22,5567,23,5590,null,null,null,null,0,122]
[11,5686,22,5699,14,5750,null,null,null,null,0,121]
[11,5847,11,5851,21,5859,null,null,null,null,0,112]
[11,5945,11,5949,21,5958,null,null,null,null,0,112]
[11,6049,22,6057,14,6115,null,null,null,null,0,121]
[11,6213,11,6218,21,6226,null,null,null,null,0,112]
[11,6313,11,6321,21,6334,null,null,null,null,1,112]

{"sheet":"!2011-05-31_09h38m.Subject 52","index":28,"n_rows":54,"n_cols":48,"rows_kept":54,"cut":false,"hidden":false,"merged":[[4,39,4,42],[5,39,5,40],[4,44,4,47],[5,44,5,45],[4,24,4,27],[5,24,5,25],[4,29,4,32],[5,29,5,30],[4,34,4,37],[5,34,5,35],[1,1,1,2],[5,13,5,14],[18,13,18,14],[19,13,19,14],[4,19,4,22],[5,19,5,20]]}
["Report for:!2011-05-31_09h38m.Subject 52"]
["Date","2011-05-31",null,null,null,"Group",0]
["Hen",52,null,null,null,"Correct Sequence",{"$f":"Start!J2","v":122},null,null,null,null,null,null,null,null,"Total Sequences in Data",{"$f":"4994-COUNTBLANK(L7:L5000)","v":48},null,null,null,null,"Total Sequences in Block Data",{"$f":"COUNTA(L7:L14)","v":8},null,null,null,"Total Sequences in Block Data",{"$f":"COUNTA(L15:L22)","v":8},null,null,null,"Total Sequences in Block Data",{"$f":"COUNTA(L23:L30)","v":8},null,null,null,"Total Sequences in Block Data",{"$f":"COUNTA(L31:L38)","v":8},null,null,null,"Total Sequences in Block Data",{"$f":"COUNTA(L39:L46)","v":8},null,null,null,"Total Sequences in Block Data",{"$f":"COUNTA(L47:L54)","v":8}]
["Program",0,null,null,null,null,null,null,null,null,null,null,null,null,null,"Total Sequences in Summary",{"$f":"SUM(O7:O14)","v":48},null,null,null,null,"Total Sequences in Block Summary",{"$f":"SUM(U7:U14)","v":8},null,null,null,"Total Sequences in Block Summary",{"$f":"SUM(Z7:Z14)","v":8},null,null,null,"Total Sequences in Block Summary",{"$f":"SUM(AE7:AE14)","v":8},null,null,null,"Total Sequences in Block Summary",{"$f":"SUM(AJ7:AJ14)","v":8},null,null,null,"Total Sequences in Block Summary",{"$f":"SUM(AO7:AO14)","v":8},null,null,null,"Total Sequences in Block Summary",{"$f":"SUM(AT7:AT14)","v":8}]
[null,null,null,null,null,null,null,null,null,null,null,null,null,null,null,null,null,null,null,"Block 1",null,null,null,null,"Block 2",null,null,null,null,"Block 3",null,null,null,null,"Block 4",null,null,null,null,"Block 5",null,null,null,null,"Block 6"]
["Sequence\nComponent\n1","Time\n1","Sequence\nComponent\n2","Time\n2","Sequence\nComponent\n3","Time\n3","Sequence\nComponent\n4","Time\n4","Sequence\nComponent\n5","Time\n5","Correct?\n0=No 1=Yes","Sequence",null,"Frequency",null,"Relative Frequency","Variability",null,null,"Frequency",null,"Relative Frequency","Variability",null,"Frequency",null,"Relative Frequency","Variability",null,"Frequency",null,"Relative Frequency","Variability",null,"Frequency",null,"Relative Frequency","Variability",null,"Frequency",null,"Relative Frequency","Variability",null,"Frequency",null,"Relative Frequency","Variability"]
[11,7,11,12,21,20,null,null,null,null,0,112,null,111,{"$f":"COUNTIF($L$7:$L$500,N7)","v":1},{"$f":"O7/$Q$4","v":2.0833333333333332E-2},{"$f":"IF(P7=0,0,(P7*((LOG(P7))/LOG(2))))","v":-0.11635338543169074},null,null,{"$f":"N7","v":111},{"$f":"COUNTIF(L7:L14,T7)","v":0},{"$f":"U7/(W4-U10)","v":0},{"$f":"IF(V7=0,0,(V7*((LOG(V7))/LOG(2))))","v":0},null,{"$f":"N7","v":111},{"$f":"COUNTIF(L15:L22,Y7)","v":0},{"$f":"Z7/(AB4-Z10)","v":0},{"$f":"IF(AA7=0,0,(AA7*((LOG(AA7))/LOG(2))))","v":0},null,{"$f":"N7","v":111},{"$f":"COUNTIF(L23:L30,AD7)","v":0},{"$f":"AE7/(AG4-AE10)","v":0},{"$f":"IF(AF7=0,0,(AF7*((LOG(AF7))/LOG(2))))","v":0},null,{"$f":"N7","v":111},{"$f":"COUNTIF(L31:L38,AI7)","v":0},{"$f":"AJ7/(AL4-AJ10)","v":0},{"$f":"IF(AK7=0,0,(AK7*((LOG(AK7))/LOG(2))))","v":0},null,{"$f":"N7","v":111},{"$f":"COUNTIF(L39:L46,AN7)","v":1},{"$f":"AO7/(AQ4-AO10)","v":0.14285714285714285},{"$f":"IF(AP7=0,0,(AP7*((LOG(AP7))/LOG(2))))","v":-0.40105070315108626},null,{"$f":"N7","v":111},{"$f":"COUNTIF(L47:L54,AS7)","v":0},{"$f":"AT7/(AV4-AT10)","v":0},{"$f":"IF(AU7=0,0,(AU7*((LOG(AU7))/LOG(2))))","v":0}]
[22,106,13,120,23,129,null,null,null,null,0,212,null,112,{"$f":"COUNTIF($L$7:$L$500,N8)","v":40},{"$f":"O8/$Q$4","v":0.83333333333333337},{"$f":"IF(P8=0,0,(P8*((LOG(P8))/LOG(2))))","v":-0.21919533819482812},null,null,{"$f":"N8","v":112},{"$f":"COUNTIF(L7:L14,T8)","v":7},{"$f":"U8/(W4-U10)","v":0.875},{"$f":"IF(V8=0,0,(V8*((LOG(V8))/LOG(2))))","v":-0.1685644431995964},null,{"$f":"N8","v":112},{"$f":"COUNTIF(L15:L22,Y8)","v":6},{"$f":"Z8/(AB4-Z10)","v":0.8571428571428571},{"$f":"IF(AA8=0,0,(AA8*((LOG(AA8))/LOG(2))))","v":-0.19062207543124113},null,{"$f":"N8","v":112},{"$f":"COUNTIF(L23:L30,AD8)","v":7},{"$f":"AE8/(AG4-AE10)","v":1},{"$f":"IF(AF8=0,0,(AF8*((LOG(AF8))/LOG(2))))","v":0},null,{"$f":"N8","v":112},{"$f":"COUNTIF(L31:L38,AI8)","v":7},{"$f":"AJ8/(AL4-AJ10)","v":1},{"$f":"IF(AK8=0,0,(AK8*((LOG(AK8))/LOG(2))))","v":0},null,{"$f":"N8","v":112},{"$f":"COUNTIF(L39:L46,AN8)","v":5},{"$f":"AO8/(AQ4-AO10)","v":0.7142857142857143},{"$f":"IF(AP8=0,0,(AP8*((LOG(AP8))/LOG(2))))","v":-0.34673344797874411},null,{"$f":"N8","v":112},{"$f":"COUNTIF(L47:L54,AS8)","v":8},{"$f":"AT8/(AV4-AT10)","v":1},{"$f":"IF(AU8=0,0,(AU8*((LOG(AU8))/LOG(2))))","v":0}]
[11,227,11,235,21,246,null,null,null,null,0,112,null,121,{"$f":"COUNTIF($L$7:$L$500,N9)","v":2},{"$f":"O9/$Q$4","v":4.1666666666666664E-2},{"$f":"IF(P9=0,0,(P9*((LOG(P9))/LOG(2))))","v":-0.19104010419671485},null,null,{"$f":"N9","v":121},{"$f":"COUNTIF(L7:L14,T9)","v":0},{"$f":"U9/(W4-U10)","v":0},{"$f":"IF(V9=0,0,(V9*((LOG(V9))/LOG(2))))","v":0},null,{"$f":"N9","v":121},{"$f":"COUNTIF(L15:L22,Y9)","v":1},{"$f":"Z9/(AB4-Z10)","v":0.14285714285714285},{"$f":"IF(AA9=0,0,(AA9*((LOG(AA9))/LOG(2))))","v":-0.40105070315108626},null,{"$f":"N9","v":121},{"$f":"COUNTIF(L23:L30,AD9)","v":0},{"$f":"AE9/(AG4-AE10)","v":0},{"$f":"IF(AF9=0,0,(AF9*((LOG(AF9))/LOG(2))))","v":0},null,{"$f":"N9","v":121},{"$f":"COUNTIF(L31:L38,AI9)","v":0},{"$f":"AJ9/(AL4-AJ10)","v":0},{"$f":"IF(AK9=0,0,(AK9*((LOG(AK9))/LOG(2))))","v":0},null,{"$f":"N9","v":121},{"$f":"COUNTIF(L39:L46,AN9)","v":1},{"$f":"AO9/(AQ4-AO10)","v":0.14285714285714285},{"$f":"IF(AP9=0,0,(AP9*((LOG(AP9))/LOG(2))))","v":-0.40105070315108626},null,{"$f":"N9","v":121},{"$f":"COUNTIF(L47:L54,AS9)","v":0},{"$f":"AT9/(AV4-AT10)","v":0},{"$f":"IF(AU9=0,0,(AU9*((LOG(AU9))/LOG(2))))","v":0}]
[11,333,11,341,21,350,null,null,null,null,0,112,null,122,{"$f":"COUNTIF($L$7:$L$500,N10)","v":4},{"$f":"O10/$Q$4","v":8.3333333333333329E-2},{"$f":"IF(P10=0,0,(P10*((LOG(P10))/LOG(2))))","v":-0.29874687506009634},null,null,{"$f":"N10","v":122},{"$f":"COUNTIF(L7:L14,T10)","v":0},null,null,null,{"$f":"N10","v":122},{"$f":"COUNTIF(L15:L22,Y10)","v":1},null,null,null,{"$f":"N10","v":122},{"$f":"COUNTIF(L23:L30,AD10)","v":1},null,null,null,{"$f":"N10","v":122},{"$f":"COUNTIF(L31:L38,AI10)","v":1},null,null,null,{"$f":"N10","v":122},{"$f":"COUNTIF(L39:L46,AN10)","v":1},null,null,null,{"$f":"N10","v":122},{"$f":"COUNTIF(L47:L54,AS10)","v":0}]
[11,437,11,443,21,452,null,null,null,null,0,112,null,211,{"$f":"COUNTIF($L$7:$L$500,N11)","v":0},{"$f":"O11/$Q$4","v":0},{"$f":"IF(P11=0,0,(P11*((LOG(P11))/LOG(2))))","v":0},null,null,{"$f":"N11","v":211},{"$f":"COUNTIF(L7:L14,T11)","v":0},{"$f":"U11/(W4-U10)","v":0},{"$f":"IF(V11=0,0,(V11*((LOG(V11))/LOG(2))))","v":0},null,{"$f":"N11","v":211},{"$f":"COUNTIF(L15:L22,Y11)","v":0},{"$f":"Z11/(AB4-Z10)","v":0},{"$f":"IF(AA11=0,0,(AA11*((LOG(AA11))/LOG(2))))","v":0},null,{"$f":"N11","v":211},{"$f":"COUNTIF(L23:L30,AD11)","v":0},{"$f":"AE11/(AG4-AE10)","v":0},{"$f":"IF(AF11=0,0,(AF11*((LOG(AF11))/LOG(2))))","v":0},null,{"$f":"N11","v":211},{"$f":"COUNTIF(L31:L38,AI11)","v":0},{"$f":"AJ11/(AL4-AJ10)","v":0},{"$f":"IF(AK11=0,0,(AK11*((LOG(AK11))/LOG(2))))","v":0},null,{"$f":"N11","v":211},{"$f":"COUNTIF(L39:L46,AN11)","v":0},{"$f":"AO11/(AQ4-AO10)","v":0},{"$f":"IF(AP11=0,0,(AP11*((LOG(AP11))/LOG(2))))","v":0},null,{"$f":"N11","v":211},{"$f":"COUNTIF(L47:L54,AS11)","v":0},{"$f":"AT11/(AV4-AT10)","v":0},{"$f":"IF(AU11=0,0,(AU11*((LOG(AU11))/LOG(2))))","v":0}]
[11,539,11,543,21,551,null,null,null,null,0,112,null,212,{"$f":"COUNTIF($L$7:$L$500,N12)","v":1},{"$f":"O12/$Q$4","v":2.0833333333333332E-2},{"$f":"IF(P12=0,0,(P12*((LOG(P12))/LOG(2))))","v":-0.11635338543169074},null,null,{"$f":"N12","v":212},{"$f":"COUNTIF(L7:L14,T12)","v":1},{"$f":"U12/(W4-U10)","v":0.125},{"$f":"IF(V12=0,0,(V12*((LOG(V12))/LOG(2))))","v":-0.375},null,{"$f":"N12","v":212},{"$f":"COUNTIF(L15:L22,Y12)","v":0},{"$f":"Z12/(AB4-Z10)","v":0},{"$f":"IF(AA12=0,0,(AA12*((LOG(AA12))/LOG(2))))","v":0},null,{"$f":"N12","v":212},{"$f":"COUNTIF(L23:L30,AD12)","v":0},{"$f":"AE12/(AG4-AE10)","v":0},{"$f":"IF(AF12=0,0,(AF12*((LOG(AF12))/LOG(2))))","v":0},null,{"$f":"N12","v":212},{"$f":"COUNTIF(L31:L38,AI12)","v":0},{"$f":"AJ12/(AL4-AJ10)","v":0},{"$f":"IF(AK12=0,0,(AK12*((LOG(AK12))/LOG(2))))","v":0},null,{"$f":"N12","v":212},{"$f":"COUNTIF(L39:L46,AN12)","v":0},{"$f":"AO12/(AQ4-AO10)","v":0},{"$f":"IF(AP12=0,0,(AP12*((LOG(AP12))/LOG(2))))","v":0},null,{"$f":"N12","v":212},{"$f":"COUNTIF(L47:L54,AS12)","v":0},{"$f":"AT12/(AV4-AT10)","v":0},{"$f":"IF(AU12=0,0,(AU12*((LOG(AU12))/LOG(2))))","v":0}]
[11,636,11,642,21,652,null,null,null,null,0,112,null,221,{"$f":"COUNTIF($L$7:$L$500,N13)","v":0},{"$f":"O13/$Q$4","v":0},{"$f":"IF(P13=0,0,(P13*((LOG(P13))/LOG(2))))","v":0},null,null,{"$f":"N13","v":221},{"$f":"COUNTIF(L7:L14,T13)","v":0},{"$f":"U13/(W4-U10)","v":0},{"$f":"IF(V13=0,0,(V13*((LOG(V13))/LOG(2))))","v":0},null,{"$f":"N13","v":221},{"$f":"COUNTIF(L15:L22,Y13)","v":0},{"$f":"Z13/(AB4-Z10)","v":0},{"$f":"IF(AA13=0,0,(AA13*((LOG(AA13))/LOG(2))))","v":0},null,{"$f":"N13","v":221},{"$f":"COUNTIF(L23:L30,AD13)","v":0},{"$f":"AE13/(AG4-AE10)","v":0},{"$f":"IF(AF13=0,0,(AF13*((LOG(AF13))/LOG(2))))","v":0},null,{"$f":"N13","v":221},{"$f":"COUNTIF(L31:L38,AI13)","v":0},{"$f":"AJ13/(AL4-AJ10)","v":0},{"$f":"IF(AK13=0,0,(AK13*((LOG(AK13))/LOG(2))))","v":0},null,{"$f":"N13","v":221},{"$f":"COUNTIF(L39:L46,AN13)","v":0},{"$f":"AO13/(AQ4-AO10)","v":0},{"$f":"IF(AP13=0,0,(AP13*((LOG(AP13))/LOG(2))))","v":0},null,{"$f":"N13","v":221},{"$f":"COUNTIF(L47:L54,AS13)","v":0},{"$f":"AT13/(AV4-AT10)","v":0},{"$f":"IF(AU13=0,0,(AU13*((LOG(AU13))/LOG(2))))","v":0}]
[11,736,11,741,21,749,null,null,null,null,0,112,null,222,{"$f":"COUNTIF($L$7:$L$500,N14)","v":0},{"$f":"O14/$Q$4","v":0},{"$f":"IF(P14=0,0,(P14*((LOG(P14))/LOG(2))))","v":0},null,null,{"$f":"N14","v":222},{"$f":"COUNTIF(L7:L14,T14)","v":0},{"$f":"U14/(W4-U10)","v":0},{"$f":"IF(V14=0,0,(V14*((LOG(V14))/LOG(2))))","v":0},null,{"$f":"N14","v":222},{"$f":"COUNTIF(L15:L22,Y14)","v":0},{"$f":"Z14/(AB4-Z10)","v":0},{"$f":"IF(AA14=0,0,(AA14*((LOG(AA14))/LOG(2))))","v":0},null,{"$f":"N14","v":222},{"$f":"COUNTIF(L23:L30,AD14)","v":0},{"$f":"AE14/(AG4-AE10)","v":0},{"$f":"IF(AF14=0,0,(AF14*((LOG(AF14))/LOG(2))))","v":0},null,{"$f":"N14","v":222},{"$f":"COUNTIF(L31:L38,AI14)","v":0},{"$f":"AJ14/(AL4-AJ10)","v":0},{"$f":"IF(AK14=0,0,(AK14*((LOG(AK14))/LOG(2))))","v":0},null,{"$f":"N14","v":222},{"$f":"COUNTIF(L39:L46,AN14)","v":0},{"$f":"AO14/(AQ4-AO10)","v":0},{"$f":"IF(AP14=0,0,(AP14*((LOG(AP14))/LOG(2))))","v":0},null,{"$f":"N14","v":222},{"$f":"COUNTIF(L47:L54,AS14)","v":0},{"$f":"AT14/(AV4-AT10)","v":0},{"$f":"IF(AU14=0,0,(AU14*((LOG(AU14))/LOG(2))))","v":0}]
[11,838,22,855,23,928,null,null,null,null,0,122,null,null,null,{"$f":"SUM(P7:P14)","v":1},{"$f":"-SUM(Q7:Q14)","v":0.94168908831502085},null,null,null,null,{"$f":"SUM(V7:V14)","v":1},{"$f":"-SUM(W7:W14)","v":0.5435644431995964},null,null,null,{"$f":"SUM(AA7:AA14)","v":1},{"$f":"-SUM(AB7:AB14)","v":0.59167277858232736},null,null,null,{"$f":"SUM(AF7:AF14)","v":1},{"$f":"-SUM(AG7:AG14)","v":0},null,null,null,{"$f":"SUM(AK7:AK14)","v":1},{"$f":"-SUM(AL7:AL14)","v":0},null,null,null,{"$f":"SUM(AP7:AP14)","v":1},{"$f":"-SUM(AQ7:AQ14)","v":1.1488348542809166},null,null,null,{"$f":"SUM(AU7:AU14)","v":1},{"$f":"-SUM(AV7:AV14)","v":0}]
[11,1025,11,1029,21,1038,null,null,null,null,0,112,null,null,null,"U=",{"$f":"Q15/(LOG(Q4)/LOG(2))","v":0.16861153287840797},null,null,null,null,"U1=",{"$f":"W15/(LOG(W4)/LOG(2))","v":0.1811881477331988},null,null,null,"U2=",{"$f":"AB15/(LOG(AB4)/LOG(2))","v":0.19722425952744246},null,null,null,"U3=",{"$f":"AG15/(LOG(AG4)/LOG(2))","v":0},null,null,null,"U4=",{"$f":"AL15/(LOG(AL4)/LOG(2))","v":0},null,null,null,"U5=",{"$f":"AQ15/(LOG(AQ4)/LOG(2))","v":0.38294495142697221},null,null,null,"U6=",{"$f":"AV15/(LOG(AV4)/LOG(2))","v":0}]
[11,1127,11,1132,21,1140,null,null,null,null,0,112]
[11,1225,11,1230,21,1239,null,null,null,null,0,112]
[11,1326,11,1330,21,1339,null,null,null,null,0,112,null,"Total Target Seq"]
[11,1425,11,1428,21,1437,null,null,null,null,0,112,null,{"$f":"COUNTIF(L7:L54,G3)","v":4},null,8,8,8,8,8,8]
[11,1527,22,1539,14,1737,null,null,null,null,0,121,null,null,null,"% of reinforcement given in 6 equal intervals based on number of trials "]
[11,1832,11,1836,21,1848,null,null,null,null,0,112,null,null,null,"%_1","%_2","%_3","%_4","%_5","%_6"]
[11,1940,11,1946,21,1957,null,null,null,null,0,112,null,null,"target sequence",{"$f":"$G$3","v":122},{"$f":"$G$3","v":122},{"$f":"$G$3","v":122},{"$f":"$G$3","v":122},{"$f":"$G$3","v":122},{"$f":"$G$3","v":122}]
[11,2044,11,2048,21,2056,null,null,null,null,0,112,null,null,"total reinforcement",{"$f":"U10","v":0},{"$f":"Z10","v":1},{"$f":"AE10","v":1},{"$f":"AJ10","v":1},{"$f":"AO10","v":1},{"$f":"AT10","v":0}]
[11,2143,11,2146,21,2155,null,null,null,null,0,112,null,null,"% target"]
[11,2241,11,2249,21,2257,null,null,null,null,0,112,null,null,"CCRF"]
[11,2348,11,2355,21,2365,null,null,null,null,0,112,null,null,"% CCRf"]
[11,2452,11,2457,21,2466,null,null,null,null,0,112,null,null,"average response rate",{"$f":"F14/P20","v":93.625},{"$f":"(F22-F14)/Q20","v":137.375},{"$f":"(F30-F22)/R20","v":109.125},{"$f":"(F38-F30)/S20","v":106.5},{"$f":"(F46-F38)/T20","v":116.125},{"$f":"(F54-F46)/U20","v":104.25}]
[11,2552,22,2564,23,2615,null,null,null,null,0,122]
[11,2709,11,2713,21,2721,null,null,null,null,0,112]
[11,2811,11,2816,21,2824,null,null,null,null,0,112]
[11,2909,11,2913,21,2922,null,null,null,null,0,112]
[11,3008,11,3012,21,3020,null,null,null,null,0,112]
[11,3108,11,3112,21,3120,null,null,null,null,0,112]
[11,3206,22,3215,23,3259,null,null,null,null,0,122]
[11,3360,11,3365,21,3372,null,null,null,null,0,112]
[11,3459,11,3463,21,3472,null,null,null,null,0,112]
[11,3560,11,3565,21,3573,null,null,null,null,0,112]
[11,3659,11,3663,21,3672,null,null,null,null,0,112]
[11,3758,11,3762,21,3771,null,null,null,null,0,112]
[11,3859,11,3868,21,3878,null,null,null,null,0,112]
[11,3967,11,3971,21,3979,null,null,null,null,0,112]
[11,4072,22,4081,14,4168,null,null,null,null,0,121]
[11,4265,11,4269,21,4277,null,null,null,null,0,112]
[11,4377,22,4388,23,4396,null,null,null,null,0,122]
[11,4490,11,4495,12,4502,null,null,null,null,0,111]
[11,4604,11,4612,21,4620,null,null,null,null,0,112]
[11,4711,11,4716,21,4725,null,null,null,null,0,112]
[11,4816,11,4823,21,4832,null,null,null,null,0,112]
[11,4922,11,4930,21,4939,null,null,null,null,0,112]
[11,5027,11,5031,21,5039,null,null,null,null,0,112]
[11,5126,11,5130,21,5138,null,null,null,null,0,112]
[11,5224,11,5229,21,5238,null,null,null,null,0,112]
[11,5324,11,5328,21,5336,null,null,null,null,1,112]

{"sheet":"!2011-06-02_10h06m.Subject 52","index":29,"n_rows":59,"n_cols":48,"rows_kept":59,"cut":false,"hidden":false,"merged":[[4,39,4,42],[5,39,5,40],[4,44,4,47],[5,44,5,45],[4,24,4,27],[5,24,5,25],[4,29,4,32],[5,29,5,30],[4,34,4,37],[5,34,5,35],[1,1,1,2],[5,13,5,14],[18,13,18,14],[19,13,19,14],[4,19,4,22],[5,19,5,20]]}
["Report for:!2011-06-02_10h06m.Subject 52"]
["Date","2011-06-02",null,null,null,"Group",0]
["Hen",52,null,null,null,"Correct Sequence",{"$f":"Start!J2","v":122},null,null,null,null,null,null,null,null,"Total Sequences in Data",{"$f":"4994-COUNTBLANK(L7:L5000)","v":53},null,null,null,null,"Total Sequences in Block Data",{"$f":"COUNTA(L7:L15)","v":9},null,null,null,"Total Sequences in Block Data",{"$f":"COUNTA(L16:L24)","v":9},null,null,null,"Total Sequences in Block Data",{"$f":"COUNTA(L25:L32)","v":8},null,null,null,"Total Sequences in Block Data",{"$f":"COUNTA(L33:L41)","v":9},null,null,null,"Total Sequences in Block Data",{"$f":"COUNTA(L42:L50)","v":9},null,null,null,"Total Sequences in Block Data",{"$f":"COUNTA(L51:L59)","v":9}]
["Program",0,null,null,null,null,null,null,null,null,null,null,null,null,null,"Total Sequences in Summary",{"$f":"SUM(O7:O14)","v":53},null,null,null,null,"Total Sequences in Block Summary",{"$f":"SUM(U7:U14)","v":9},null,null,null,"Total Sequences in Block Summary",{"$f":"SUM(Z7:Z14)","v":9},null,null,null,"Total Sequences in Block Summary",{"$f":"SUM(AE7:AE14)","v":8},null,null,null,"Total Sequences in Block Summary",{"$f":"SUM(AJ7:AJ14)","v":9},null,null,null,"Total Sequences in Block Summary",{"$f":"SUM(AO7:AO14)","v":9},null,null,null,"Total Sequences in Block Summary",{"$f":"SUM(AT7:AT14)","v":9}]
[null,null,null,null,null,null,null,null,null,null,null,null,null,null,null,null,null,null,null,"Block 1",null,null,null,null,"Block 2",null,null,null,null,"Block 3",null,null,null,null,"Block 4",null,null,null,null,"Block 5",null,null,null,null,"Block 6"]
["Sequence\nComponent\n1","Time\n1","Sequence\nComponent\n2","Time\n2","Sequence\nComponent\n3","Time\n3","Sequence\nComponent\n4","Time\n4","Sequence\nComponent\n5","Time\n5","Correct?\n0=No 1=Yes","Sequence",null,"Frequency",null,"Relative Frequency","Variability",null,null,"Frequency",null,"Relative Frequency","Variability",null,"Frequency",null,"Relative Frequency","Variability",null,"Frequency",null,"Relative Frequency","Variability",null,"Frequency",null,"Relative Frequency","Variability",null,"Frequency",null,"Relative Frequency","Variability",null,"Frequency",null,"Relative Frequency","Variability"]
[11,4,11,9,12,17,null,null,null,null,0,111,null,111,{"$f":"COUNTIF($L$7:$L$500,N7)","v":7},{"$f":"O7/$Q$4","v":0.13207547169811321},{"$f":"IF(P7=0,0,(P7*((LOG(P7))/LOG(2))))","v":-0.38573507033092763},null,null,{"$f":"N7","v":111},{"$f":"COUNTIF(L7:L15,T7)","v":2},{"$f":"U7/(W4-U10)","v":0.25},{"$f":"IF(V7=0,0,(V7*((LOG(V7))/LOG(2))))","v":-0.5},null,{"$f":"N7","v":111},{"$f":"COUNTIF(L16:L24,Y7)","v":1},{"$f":"Z7/(AB4-Z10)","v":0.1111111111111111},{"$f":"IF(AA7=0,0,(AA7*((LOG(AA7))/LOG(2))))","v":-0.3522138890491458},null,{"$f":"N7","v":111},{"$f":"COUNTIF(L25:L32,AD7)","v":1},{"$f":"AE7/(AG4-AE10)","v":0.125},{"$f":"IF(AF7=0,0,(AF7*((LOG(AF7))/LOG(2))))","v":-0.375},null,{"$f":"N7","v":111},{"$f":"COUNTIF(L33:L41,AI7)","v":1},{"$f":"AJ7/(AL4-AJ10)","v":0.1111111111111111},{"$f":"IF(AK7=0,0,(AK7*((LOG(AK7))/LOG(2))))","v":-0.3522138890491458},null,{"$f":"N7","v":111},{"$f":"COUNTIF(L42:L50,AN7)","v":2},{"$f":"AO7/(AQ4-AO10)","v":0.25},{"$f":"IF(AP7=0,0,(AP7*((LOG(AP7))/LOG(2))))","v":-0.5},null,{"$f":"N7","v":111},{"$f":"COUNTIF(L51:L59,AS7)","v":0},{"$f":"AT7/(AV4-AT10)","v":0},{"$f":"IF(AU7=0,0,(AU7*((LOG(AU7))/LOG(2))))","v":0}]
[11,112,22,124,23,151,null,null,null,null,0,122,null,112,{"$f":"COUNTIF($L$7:$L$500,N8)","v":40},{"$f":"O8/$Q$4","v":0.75471698113207553},{"$f":"IF(P8=0,0,(P8*((LOG(P8))/LOG(2))))","v":-0.30640932805723531},null,null,{"$f":"N8","v":112},{"$f":"COUNTIF(L7:L15,T8)","v":4},{"$f":"U8/(W4-U10)","v":0.5},{"$f":"IF(V8=0,0,(V8*((LOG(V8))/LOG(2))))","v":-0.5},null,{"$f":"N8","v":112},{"$f":"COUNTIF(L16:L24,Y8)","v":7},{"$f":"Z8/(AB4-Z10)","v":0.77777777777777779},{"$f":"IF(AA8=0,0,(AA8*((LOG(AA8))/LOG(2))))","v":-0.28199895063255082},null,{"$f":"N8","v":112},{"$f":"COUNTIF(L25:L32,AD8)","v":7},{"$f":"AE8/(AG4-AE10)","v":0.875},{"$f":"IF(AF8=0,0,(AF8*((LOG(AF8))/LOG(2))))","v":-0.1685644431995964},null,{"$f":"N8","v":112},{"$f":"COUNTIF(L33:L41,AI8)","v":8},{"$f":"AJ8/(AL4-AJ10)","v":0.88888888888888884},{"$f":"IF(AK8=0,0,(AK8*((LOG(AK8))/LOG(2))))","v":-0.15104444572649992},null,{"$f":"N8","v":112},{"$f":"COUNTIF(L42:L50,AN8)","v":6},{"$f":"AO8/(AQ4-AO10)","v":0.75},{"$f":"IF(AP8=0,0,(AP8*((LOG(AP8))/LOG(2))))","v":-0.31127812445913283},null,{"$f":"N8","v":112},{"$f":"COUNTIF(L51:L59,AS8)","v":8},{"$f":"AT8/(AV4-AT10)","v":0.88888888888888884},{"$f":"IF(AU8=0,0,(AU8*((LOG(AU8))/LOG(2))))","v":-0.15104444572649992}]
[22,251,13,260,14,264,null,null,null,null,0,211,null,121,{"$f":"COUNTIF($L$7:$L$500,N9)","v":2},{"$f":"O9/$Q$4","v":3.7735849056603772E-2},{"$f":"IF(P9=0,0,(P9*((LOG(P9))/LOG(2))))","v":-0.17841209262502639},null,null,{"$f":"N9","v":121},{"$f":"COUNTIF(L7:L15,T9)","v":0},{"$f":"U9/(W4-U10)","v":0},{"$f":"IF(V9=0,0,(V9*((LOG(V9))/LOG(2))))","v":0},null,{"$f":"N9","v":121},{"$f":"COUNTIF(L16:L24,Y9)","v":1},{"$f":"Z9/(AB4-Z10)","v":0.1111111111111111},{"$f":"IF(AA9=0,0,(AA9*((LOG(AA9))/LOG(2))))","v":-0.3522138890491458},null,{"$f":"N9","v":121},{"$f":"COUNTIF(L25:L32,AD9)","v":0},{"$f":"AE9/(AG4-AE10)","v":0},{"$f":"IF(AF9=0,0,(AF9*((LOG(AF9))/LOG(2))))","v":0},null,{"$f":"N9","v":121},{"$f":"COUNTIF(L33:L41,AI9)","v":0},{"$f":"AJ9/(AL4-AJ10)","v":0},{"$f":"IF(AK9=0,0,(AK9*((LOG(AK9))/LOG(2))))","v":0},null,{"$f":"N9","v":121},{"$f":"COUNTIF(L42:L50,AN9)","v":0},{"$f":"AO9/(AQ4-AO10)","v":0},{"$f":"IF(AP9=0,0,(AP9*((LOG(AP9))/LOG(2))))","v":0},null,{"$f":"N9","v":121},{"$f":"COUNTIF(L51:L59,AS9)","v":1},{"$f":"AT9/(AV4-AT10)","v":0.1111111111111111},{"$f":"IF(AU9=0,0,(AU9*((LOG(AU9))/LOG(2))))","v":-0.3522138890491458}]
[22,359,13,367,14,372,null,null,null,null,0,211,null,122,{"$f":"COUNTIF($L$7:$L$500,N10)","v":2},{"$f":"O10/$Q$4","v":3.7735849056603772E-2},{"$f":"IF(P10=0,0,(P10*((LOG(P10))/LOG(2))))","v":-0.17841209262502639},null,null,{"$f":"N10","v":122},{"$f":"COUNTIF(L7:L15,T10)","v":1},null,null,null,{"$f":"N10","v":122},{"$f":"COUNTIF(L16:L24,Y10)","v":0},null,null,null,{"$f":"N10","v":122},{"$f":"COUNTIF(L25:L32,AD10)","v":0},null,null,null,{"$f":"N10","v":122},{"$f":"COUNTIF(L33:L41,AI10)","v":0},null,null,null,{"$f":"N10","v":122},{"$f":"COUNTIF(L42:L50,AN10)","v":1},null,null,null,{"$f":"N10","v":122},{"$f":"COUNTIF(L51:L59,AS10)","v":0}]
[11,467,11,472,12,479,null,null,null,null,0,111,null,211,{"$f":"COUNTIF($L$7:$L$500,N11)","v":2},{"$f":"O11/$Q$4","v":3.7735849056603772E-2},{"$f":"IF(P11=0,0,(P11*((LOG(P11))/LOG(2))))","v":-0.17841209262502639},null,null,{"$f":"N11","v":211},{"$f":"COUNTIF(L7:L15,T11)","v":2},{"$f":"U11/(W4-U10)","v":0.25},{"$f":"IF(V11=0,0,(V11*((LOG(V11))/LOG(2))))","v":-0.5},null,{"$f":"N11","v":211},{"$f":"COUNTIF(L16:L24,Y11)","v":0},{"$f":"Z11/(AB4-Z10)","v":0},{"$f":"IF(AA11=0,0,(AA11*((LOG(AA11))/LOG(2))))","v":0},null,{"$f":"N11","v":211},{"$f":"COUNTIF(L25:L32,AD11)","v":0},{"$f":"AE11/(AG4-AE10)","v":0},{"$f":"IF(AF11=0,0,(AF11*((LOG(AF11))/LOG(2))))","v":0},null,{"$f":"N11","v":211},{"$f":"COUNTIF(L33:L41,AI11)","v":0},{"$f":"AJ11/(AL4-AJ10)","v":0},{"$f":"IF(AK11=0,0,(AK11*((LOG(AK11))/LOG(2))))","v":0},null,{"$f":"N11","v":211},{"$f":"COUNTIF(L42:L50,AN11)","v":0},{"$f":"AO11/(AQ4-AO10)","v":0},{"$f":"IF(AP11=0,0,(AP11*((LOG(AP11))/LOG(2))))","v":0},null,{"$f":"N11","v":211},{"$f":"COUNTIF(L51:L59,AS11)","v":0},{"$f":"AT11/(AV4-AT10)","v":0},{"$f":"IF(AU11=0,0,(AU11*((LOG(AU11))/LOG(2))))","v":0}]
[11,575,11,579,21,590,null,null,null,null,0,112,null,212,{"$f":"COUNTIF($L$7:$L$500,N12)","v":0},{"$f":"O12/$Q$4","v":0},{"$f":"IF(P12=0,0,(P12*((LOG(P12))/LOG(2))))","v":0},null,null,{"$f":"N12","v":212},{"$f":"COUNTIF(L7:L15,T12)","v":0},{"$f":"U12/(W4-U10)","v":0},{"$f":"IF(V12=0,0,(V12*((LOG(V12))/LOG(2))))","v":0},null,{"$f":"N12","v":212},{"$f":"COUNTIF(L16:L24,Y12)","v":0},{"$f":"Z12/(AB4-Z10)","v":0},{"$f":"IF(AA12=0,0,(AA12*((LOG(AA12))/LOG(2))))","v":0},null,{"$f":"N12","v":212},{"$f":"COUNTIF(L25:L32,AD12)","v":0},{"$f":"AE12/(AG4-AE10)","v":0},{"$f":"IF(AF12=0,0,(AF12*((LOG(AF12))/LOG(2))))","v":0},null,{"$f":"N12","v":212},{"$f":"COUNTIF(L33:L41,AI12)","v":0},{"$f":"AJ12/(AL4-AJ10)","v":0},{"$f":"IF(AK12=0,0,(AK12*((LOG(AK12))/LOG(2))))","v":0},null,{"$f":"N12","v":212},{"$f":"COUNTIF(L42:L50,AN12)","v":0},{"$f":"AO12/(AQ4-AO10)","v":0},{"$f":"IF(AP12=0,0,(AP12*((LOG(AP12))/LOG(2))))","v":0},null,{"$f":"N12","v":212},{"$f":"COUNTIF(L51:L59,AS12)","v":0},{"$f":"AT12/(AV4-AT10)","v":0},{"$f":"IF(AU12=0,0,(AU12*((LOG(AU12))/LOG(2))))","v":0}]
[11,683,11,687,21,698,null,null,null,null,0,112,null,221,{"$f":"COUNTIF($L$7:$L$500,N13)","v":0},{"$f":"O13/$Q$4","v":0},{"$f":"IF(P13=0,0,(P13*((LOG(P13))/LOG(2))))","v":0},null,null,{"$f":"N13","v":221},{"$f":"COUNTIF(L7:L15,T13)","v":0},{"$f":"U13/(W4-U10)","v":0},{"$f":"IF(V13=0,0,(V13*((LOG(V13))/LOG(2))))","v":0},null,{"$f":"N13","v":221},{"$f":"COUNTIF(L16:L24,Y13)","v":0},{"$f":"Z13/(AB4-Z10)","v":0},{"$f":"IF(AA13=0,0,(AA13*((LOG(AA13))/LOG(2))))","v":0},null,{"$f":"N13","v":221},{"$f":"COUNTIF(L25:L32,AD13)","v":0},{"$f":"AE13/(AG4-AE10)","v":0},{"$f":"IF(AF13=0,0,(AF13*((LOG(AF13))/LOG(2))))","v":0},null,{"$f":"N13","v":221},{"$f":"COUNTIF(L33:L41,AI13)","v":0},{"$f":"AJ13/(AL4-AJ10)","v":0},{"$f":"IF(AK13=0,0,(AK13*((LOG(AK13))/LOG(2))))","v":0},null,{"$f":"N13","v":221},{"$f":"COUNTIF(L42:L50,AN13)","v":0},{"$f":"AO13/(AQ4-AO10)","v":0},{"$f":"IF(AP13=0,0,(AP13*((LOG(AP13))/LOG(2))))","v":0},null,{"$f":"N13","v":221},{"$f":"COUNTIF(L51:L59,AS13)","v":0},{"$f":"AT13/(AV4-AT10)","v":0},{"$f":"IF(AU13=0,0,(AU13*((LOG(AU13))/LOG(2))))","v":0}]
[11,784,11,792,21,800,null,null,null,null,0,112,null,222,{"$f":"COUNTIF($L$7:$L$500,N14)","v":0},{"$f":"O14/$Q$4","v":0},{"$f":"IF(P14=0,0,(P14*((LOG(P14))/LOG(2))))","v":0},null,null,{"$f":"N14","v":222},{"$f":"COUNTIF(L7:L15,T14)","v":0},{"$f":"U14/(W4-U10)","v":0},{"$f":"IF(V14=0,0,(V14*((LOG(V14))/LOG(2))))","v":0},null,{"$f":"N14","v":222},{"$f":"COUNTIF(L16:L24,Y14)","v":0},{"$f":"Z14/(AB4-Z10)","v":0},{"$f":"IF(AA14=0,0,(AA14*((LOG(AA14))/LOG(2))))","v":0},null,{"$f":"N14","v":222},{"$f":"COUNTIF(L25:L32,AD14)","v":0},{"$f":"AE14/(AG4-AE10)","v":0},{"$f":"IF(AF14=0,0,(AF14*((LOG(AF14))/LOG(2))))","v":0},null,{"$f":"N14","v":222},{"$f":"COUNTIF(L33:L41,AI14)","v":0},{"$f":"AJ14/(AL4-AJ10)","v":0},{"$f":"IF(AK14=0,0,(AK14*((LOG(AK14))/LOG(2))))","v":0},null,{"$f":"N14","v":222},{"$f":"COUNTIF(L42:L50,AN14)","v":0},{"$f":"AO14/(AQ4-AO10)","v":0},{"$f":"IF(AP14=0,0,(AP14*((LOG(AP14))/LOG(2))))","v":0},null,{"$f":"N14","v":222},{"$f":"COUNTIF(L51:L59,AS14)","v":0},{"$f":"AT14/(AV4-AT10)","v":0},{"$f":"IF(AU14=0,0,(AU14*((LOG(AU14))/LOG(2))))","v":0}]
[11,893,11,900,21,909,null,null,null,null,0,112,null,null,null,{"$f":"SUM(P7:P14)","v":1},{"$f":"-SUM(Q7:Q14)","v":1.227380676263242},null,null,null,null,{"$f":"SUM(V7:V14)","v":1},{"$f":"-SUM(W7:W14)","v":1.5},null,null,null,{"$f":"SUM(AA7:AA14)","v":1},{"$f":"-SUM(AB7:AB14)","v":0.98642672873084236},null,null,null,{"$f":"SUM(AF7:AF14)","v":1},{"$f":"-SUM(AG7:AG14)","v":0.5435644431995964},null,null,null,{"$f":"SUM(AK7:AK14)","v":1},{"$f":"-SUM(AL7:AL14)","v":0.50325833477564574},null,null,null,{"$f":"SUM(AP7:AP14)","v":1},{"$f":"-SUM(AQ7:AQ14)","v":0.81127812445913283},null,null,null,{"$f":"SUM(AU7:AU14)","v":1},{"$f":"-SUM(AV7:AV14)","v":0.50325833477564574}]
[11,995,11,1000,21,1008,null,null,null,null,0,112,null,null,null,"U=",{"$f":"Q15/(LOG(Q4)/LOG(2))","v":0.21428032843672581},null,null,null,null,"U1=",{"$f":"W15/(LOG(W4)/LOG(2))","v":0.47319731517859309},null,null,null,"U2=",{"$f":"AB15/(LOG(AB4)/LOG(2))","v":0.31118298643722464},null,null,null,"U3=",{"$f":"AG15/(LOG(AG4)/LOG(2))","v":0.1811881477331988},null,null,null,"U4=",{"$f":"AL15/(LOG(AL4)/LOG(2))","v":0.15876032857139011},null,null,null,"U5=",{"$f":"AQ15/(LOG(AQ4)/LOG(2))","v":0.25592975357145742},null,null,null,"U6=",{"$f":"AV15/(LOG(AV4)/LOG(2))","v":0.15876032857139011}]
[11,1097,11,1103,21,1111,null,null,null,null,0,112]
[11,1196,11,1200,21,1209,null,null,null,null,0,112]
[11,1301,22,1309,14,1377,null,null,null,null,0,121,null,"Total Target Seq"]
[11,1472,11,1476,12,1480,null,null,null,null,0,111,null,{"$f":"COUNTIF(L7:L59,G3)","v":2},null,9,9,8,9,9,9]
[11,1577,11,1582,21,1589,null,null,null,null,0,112,null,null,null,"% of reinforcement given in 6 equal intervals based on number of trials "]
[11,1679,11,1684,21,1692,null,null,null,null,0,112,null,null,null,"%_1","%_2","%_3","%_4","%_5","%_6"]
[11,1781,11,1785,21,1793,null,null,null,null,0,112,null,null,"target sequence",{"$f":"$G$3","v":122},{"$f":"$G$3","v":122},{"$f":"$G$3","v":122},{"$f":"$G$3","v":122},{"$f":"$G$3","v":122},{"$f":"$G$3","v":122}]
[11,1893,11,1899,21,1907,null,null,null,null,0,112,null,null,"total reinforcement",{"$f":"U10","v":1},{"$f":"Z10","v":0},{"$f":"AE10","v":0},{"$f":"AJ10","v":0},{"$f":"AO10","v":1},{"$f":"AT10","v":0}]
[11,1995,11,1999,21,2007,null,null,null,null,0,112,null,null,"% target"]
[11,2094,11,2098,21,2105,null,null,null,null,0,112,null,null,"CCRF"]
[11,2193,11,2197,21,2205,null,null,null,null,0,112,null,null,"% CCRf"]
[11,2294,11,2302,12,2307,null,null,null,null,0,111,null,null,"average response rate",{"$f":"F15/P20","v":101},{"$f":"(F24-F15)/Q20","v":110.88888888888889},{"$f":"(F32-F24)/R20","v":102.375},{"$f":"(F41-F32)/S20","v":99.777777777777771},{"$f":"(F50-F41)/T20","v":116.88888888888889},{"$f":"(F59-F50)/U20","v":108.44444444444444}]
[11,2406,11,2410,21,2418,null,null,null,null,0,112]
[11,2506,11,2511,21,2520,null,null,null,null,0,112]
[11,2608,11,2612,21,2620,null,null,null,null,0,112]
[11,2711,11,2717,21,2726,null,null,null,null,0,112]
[11,2812,11,2816,12,2820,null,null,null,null,0,111]
[11,2916,11,2921,21,2929,null,null,null,null,0,112]
[11,3015,11,3019,21,3030,null,null,null,null,0,112]
[11,3117,11,3121,21,3130,null,null,null,null,0,112]
[11,3216,11,3219,21,3228,null,null,null,null,0,112]
[11,3313,11,3317,21,3325,null,null,null,null,0,112]
[11,3411,11,3415,21,3428,null,null,null,null,0,112]
[11,3514,11,3518,21,3527,null,null,null,null,0,112]
[11,3611,11,3615,21,3624,null,null,null,null,0,112]
[11,3708,11,3712,21,3720,null,null,null,null,0,112]
[11,3825,11,3829,21,3837,null,null,null,null,0,112]
[11,3924,11,3929,21,3937,null,null,null,null,0,112]
[11,4024,11,4027,21,4036,null,null,null,null,0,112]
[11,4123,22,4132,23,4257,null,null,null,null,0,122]
[11,4349,11,4354,12,4358,null,null,null,null,0,111]
[11,4455,11,4459,12,4464,null,null,null,null,0,111]
[11,4564,11,4568,21,4577,null,null,null,null,0,112]
[11,4664,11,4668,21,4676,null,null,null,null,0,112]
[11,4762,11,4766,21,4774,null,null,null,null,0,112]
[11,4860,11,4864,21,4872,null,null,null,null,0,112]
[11,4960,22,4968,14,5044,null,null,null,null,0,121]
[11,5141,11,5145,21,5153,null,null,null,null,0,112]
[11,5245,11,5252,21,5260,null,null,null,null,0,112]
[11,5345,11,5350,21,5358,null,null,null,null,0,112]
[11,5444,11,5448,21,5457,null,null,null,null,0,112]
[11,5543,11,5547,21,5554,null,null,null,null,0,112]
[11,5639,11,5643,21,5652,null,null,null,null,1,112]

{"sheet":"!2011-06-03_09h32m.Subject 52","index":30,"n_rows":68,"n_cols":48,"rows_kept":68,"cut":false,"hidden":false,"merged":[[4,39,4,42],[5,39,5,40],[4,44,4,47],[5,44,5,45],[4,24,4,27],[5,24,5,25],[4,29,4,32],[5,29,5,30],[4,34,4,37],[5,34,5,35],[1,1,1,2],[5,13,5,14],[18,13,18,14],[19,13,19,14],[4,19,4,22],[5,19,5,20]]}
["Report for:!2011-06-03_09h32m.Subject 52"]
["Date","2011-06-03",null,null,null,"Group",0]
["Hen",52,null,null,null,"Correct Sequence",{"$f":"Start!J2","v":122},null,null,null,null,null,null,null,null,"Total Sequences in Data",{"$f":"4994-COUNTBLANK(L7:L5000)","v":62},null,null,null,null,"Total Sequences in Block Data",{"$f":"COUNTA(L7:L16)","v":10},null,null,null,"Total Sequences in Block Data",{"$f":"COUNTA(L17:L27)","v":11},null,null,null,"Total Sequences in Block Data",{"$f":"COUNTA(L28:L37)","v":10},null,null,null,"Total Sequences in Block Data",{"$f":"COUNTA(L38:L47)","v":10},null,null,null,"Total Sequences in Block Data",{"$f":"COUNTA(L48:L58)","v":11},null,null,null,"Total Sequences in Block Data",{"$f":"COUNTA(L59:L68)","v":10}]
["Program",0,null,null,null,null,null,null,null,null,null,null,null,null,null,"Total Sequences in Summary",{"$f":"SUM(O7:O14)","v":62},null,null,null,null,"Total Sequences in Block Summary",{"$f":"SUM(U7:U14)","v":10},null,null,null,"Total Sequences in Block Summary",{"$f":"SUM(Z7:Z14)","v":11},null,null,null,"Total Sequences in Block Summary",{"$f":"SUM(AE7:AE14)","v":10},null,null,null,"Total Sequences in Block Summary",{"$f":"SUM(AJ7:AJ14)","v":10},null,null,null,"Total Sequences in Block Summary",{"$f":"SUM(AO7:AO14)","v":11},null,null,null,"Total Sequences in Block Summary",{"$f":"SUM(AT7:AT14)","v":10}]
[null,null,null,null,null,null,null,null,null,null,null,null,null,null,null,null,null,null,null,"Block 1",null,null,null,null,"Block 2",null,null,null,null,"Block 3",null,null,null,null,"Block 4",null,null,null,null,"Block 5",null,null,null,null,"Block 6"]
["Sequence\nComponent\n1","Time\n1","Sequence\nComponent\n2","Time\n2","Sequence\nComponent\n3","Time\n3","Sequence\nComponent\n4","Time\n4","Sequence\nComponent\n5","Time\n5","Correct?\n0=No 1=Yes","Sequence",null,"Frequency",null,"Relative Frequency","Variability",null,null,"Frequency",null,"Relative Frequency","Variability",null,"Frequency",null,"Relative Frequency","Variability",null,"Frequency",null,"Relative Frequency","Variability",null,"Frequency",null,"Relative Frequency","Variability",null,"Frequency",null,"Relative Frequency","Variability",null,"Frequency",null,"Relative Frequency","Variability"]
[11,7,11,11,21,18,null,null,null,null,0,112,null,111,{"$f":"COUNTIF($L$7:$L$500,N7)","v":3},{"$f":"O7/$Q$4","v":4.8387096774193547E-2},{"$f":"IF(P7=0,0,(P7*((LOG(P7))/LOG(2))))","v":-0.21141453917737349},null,null,{"$f":"N7","v":111},{"$f":"COUNTIF(L7:L16,T7)","v":1},{"$f":"U7/(W4-U10)","v":0.1111111111111111},{"$f":"IF(V7=0,0,(V7*((LOG(V7))/LOG(2))))","v":-0.3522138890491458},null,{"$f":"N7","v":111},{"$f":"COUNTIF(L17:L27,Y7)","v":0},{"$f":"Z7/(AB4-Z10)","v":0},{"$f":"IF(AA7=0,0,(AA7*((LOG(AA7))/LOG(2))))","v":0},null,{"$f":"N7","v":111},{"$f":"COUNTIF(L28:L37,AD7)","v":1},{"$f":"AE7/(AG4-AE10)","v":0.125},{"$f":"IF(AF7=0,0,(AF7*((LOG(AF7))/LOG(2))))","v":-0.375},null,{"$f":"N7","v":111},{"$f":"COUNTIF(L38:L47,AI7)","v":0},{"$f":"AJ7/(AL4-AJ10)","v":0},{"$f":"IF(AK7=0,0,(AK7*((LOG(AK7))/LOG(2))))","v":0},null,{"$f":"N7","v":111},{"$f":"COUNTIF(L48:L58,AN7)","v":1},{"$f":"AO7/(AQ4-AO10)","v":9.0909090909090912E-2},{"$f":"IF(AP7=0,0,(AP7*((LOG(AP7))/LOG(2))))","v":-0.31449378351248153},null,{"$f":"N7","v":111},{"$f":"COUNTIF(L59:L68,AS7)","v":0},{"$f":"AT7/(AV4-AT10)","v":0},{"$f":"IF(AU7=0,0,(AU7*((LOG(AU7))/LOG(2))))","v":0}]
[11,99,11,104,12,111,null,null,null,null,0,111,null,112,{"$f":"COUNTIF($L$7:$L$500,N8)","v":40},{"$f":"O8/$Q$4","v":0.64516129032258063},{"$f":"IF(P8=0,0,(P8*((LOG(P8))/LOG(2))))","v":-0.40791497774162117},null,null,{"$f":"N8","v":112},{"$f":"COUNTIF(L7:L16,T8)","v":8},{"$f":"U8/(W4-U10)","v":0.88888888888888884},{"$f":"IF(V8=0,0,(V8*((LOG(V8))/LOG(2))))","v":-0.15104444572649992},null,{"$f":"N8","v":112},{"$f":"COUNTIF(L17:L27,Y8)","v":11},{"$f":"Z8/(AB4-Z10)","v":1},{"$f":"IF(AA8=0,0,(AA8*((LOG(AA8))/LOG(2))))","v":0},null,{"$f":"N8","v":112},{"$f":"COUNTIF(L28:L37,AD8)","v":3},{"$f":"AE8/(AG4-AE10)","v":0.375},{"$f":"IF(AF8=0,0,(AF8*((LOG(AF8))/LOG(2))))","v":-0.53063906222956647},null,{"$f":"N8","v":112},{"$f":"COUNTIF(L38:L47,AI8)","v":3},{"$f":"AJ8/(AL4-AJ10)","v":0.42857142857142855},{"$f":"IF(AK8=0,0,(AK8*((LOG(AK8))/LOG(2))))","v":-0.52388246628704915},null,{"$f":"N8","v":112},{"$f":"COUNTIF(L48:L58,AN8)","v":9},{"$f":"AO8/(AQ4-AO10)","v":0.81818181818181823},{"$f":"IF(AP8=0,0,(AP8*((LOG(AP8))/LOG(2))))","v":-0.23686905043226034},null,{"$f":"N8","v":112},{"$f":"COUNTIF(L59:L68,AS8)","v":6},{"$f":"AT8/(AV4-AT10)","v":0.8571428571428571},{"$f":"IF(AU8=0,0,(AU8*((LOG(AU8))/LOG(2))))","v":-0.19062207543124113}]
[11,205,11,209,21,217,null,null,null,null,0,112,null,121,{"$f":"COUNTIF($L$7:$L$500,N9)","v":5},{"$f":"O9/$Q$4","v":8.0645161290322578E-2},{"$f":"IF(P9=0,0,(P9*((LOG(P9))/LOG(2))))","v":-0.29292485608867042},null,null,{"$f":"N9","v":121},{"$f":"COUNTIF(L7:L16,T9)","v":0},{"$f":"U9/(W4-U10)","v":0},{"$f":"IF(V9=0,0,(V9*((LOG(V9))/LOG(2))))","v":0},null,{"$f":"N9","v":121},{"$f":"COUNTIF(L17:L27,Y9)","v":0},{"$f":"Z9/(AB4-Z10)","v":0},{"$f":"IF(AA9=0,0,(AA9*((LOG(AA9))/LOG(2))))","v":0},null,{"$f":"N9","v":121},{"$f":"COUNTIF(L28:L37,AD9)","v":2},{"$f":"AE9/(AG4-AE10)","v":0.25},{"$f":"IF(AF9=0,0,(AF9*((LOG(AF9))/LOG(2))))","v":-0.5},null,{"$f":"N9","v":121},{"$f":"COUNTIF(L38:L47,AI9)","v":2},{"$f":"AJ9/(AL4-AJ10)","v":0.2857142857142857},{"$f":"IF(AK9=0,0,(AK9*((LOG(AK9))/LOG(2))))","v":-0.51638712058788683},null,{"$f":"N9","v":121},{"$f":"COUNTIF(L48:L58,AN9)","v":1},{"$f":"AO9/(AQ4-AO10)","v":9.0909090909090912E-2},{"$f":"IF(AP9=0,0,(AP9*((LOG(AP9))/LOG(2))))","v":-0.31449378351248153},null,{"$f":"N9","v":121},{"$f":"COUNTIF(L59:L68,AS9)","v":0},{"$f":"AT9/(AV4-AT10)","v":0},{"$f":"IF(AU9=0,0,(AU9*((LOG(AU9))/LOG(2))))","v":0}]
[11,303,11,306,21,315,null,null,null,null,0,112,null,122,{"$f":"COUNTIF($L$7:$L$500,N10)","v":9},{"$f":"O10/$Q$4","v":0.14516129032258066},{"$f":"IF(P10=0,0,(P10*((LOG(P10))/LOG(2))))","v":-0.40416841581453333},null,null,{"$f":"N10","v":122},{"$f":"COUNTIF(L7:L16,T10)","v":1},null,null,null,{"$f":"N10","v":122},{"$f":"COUNTIF(L17:L27,Y10)","v":0},null,null,null,{"$f":"N10","v":122},{"$f":"COUNTIF(L28:L37,AD10)","v":2},null,null,null,{"$f":"N10","v":122},{"$f":"COUNTIF(L38:L47,AI10)","v":3},null,null,null,{"$f":"N10","v":122},{"$f":"COUNTIF(L48:L58,AN10)","v":0},null,null,null,{"$f":"N10","v":122},{"$f":"COUNTIF(L59:L68,AS10)","v":3}]
[11,404,11,408,21,416,null,null,null,null,0,112,null,211,{"$f":"COUNTIF($L$7:$L$500,N11)","v":0},{"$f":"O11/$Q$4","v":0},{"$f":"IF(P11=0,0,(P11*((LOG(P11))/LOG(2))))","v":0},null,null,{"$f":"N11","v":211},{"$f":"COUNTIF(L7:L16,T11)","v":0},{"$f":"U11/(W4-U10)","v":0},{"$f":"IF(V11=0,0,(V11*((LOG(V11))/LOG(2))))","v":0},null,{"$f":"N11","v":211},{"$f":"COUNTIF(L17:L27,Y11)","v":0},{"$f":"Z11/(AB4-Z10)","v":0},{"$f":"IF(AA11=0,0,(AA11*((LOG(AA11))/LOG(2))))","v":0},null,{"$f":"N11","v":211},{"$f":"COUNTIF(L28:L37,AD11)","v":0},{"$f":"AE11/(AG4-AE10)","v":0},{"$f":"IF(AF11=0,0,(AF11*((LOG(AF11))/LOG(2))))","v":0},null,{"$f":"N11","v":211},{"$f":"COUNTIF(L38:L47,AI11)","v":0},{"$f":"AJ11/(AL4-AJ10)","v":0},{"$f":"IF(AK11=0,0,(AK11*((LOG(AK11))/LOG(2))))","v":0},null,{"$f":"N11","v":211},{"$f":"COUNTIF(L48:L58,AN11)","v":0},{"$f":"AO11/(AQ4-AO10)","v":0},{"$f":"IF(AP11=0,0,(AP11*((LOG(AP11))/LOG(2))))","v":0},null,{"$f":"N11","v":211},{"$f":"COUNTIF(L59:L68,AS11)","v":0},{"$f":"AT11/(AV4-AT10)","v":0},{"$f":"IF(AU11=0,0,(AU11*((LOG(AU11))/LOG(2))))","v":0}]
[11,506,11,511,21,519,null,null,null,null,0,112,null,212,{"$f":"COUNTIF($L$7:$L$500,N12)","v":5},{"$f":"O12/$Q$4","v":8.0645161290322578E-2},{"$f":"IF(P12=0,0,(P12*((LOG(P12))/LOG(2))))","v":-0.29292485608867042},null,null,{"$f":"N12","v":212},{"$f":"COUNTIF(L7:L16,T12)","v":0},{"$f":"U12/(W4-U10)","v":0},{"$f":"IF(V12=0,0,(V12*((LOG(V12))/LOG(2))))","v":0},null,{"$f":"N12","v":212},{"$f":"COUNTIF(L17:L27,Y12)","v":0},{"$f":"Z12/(AB4-Z10)","v":0},{"$f":"IF(AA12=0,0,(AA12*((LOG(AA12))/LOG(2))))","v":0},null,{"$f":"N12","v":212},{"$f":"COUNTIF(L28:L37,AD12)","v":2},{"$f":"AE12/(AG4-AE10)","v":0.25},{"$f":"IF(AF12=0,0,(AF12*((LOG(AF12))/LOG(2))))","v":-0.5},null,{"$f":"N12","v":212},{"$f":"COUNTIF(L38:L47,AI12)","v":2},{"$f":"AJ12/(AL4-AJ10)","v":0.2857142857142857},{"$f":"IF(AK12=0,0,(AK12*((LOG(AK12))/LOG(2))))","v":-0.51638712058788683},null,{"$f":"N12","v":212},{"$f":"COUNTIF(L48:L58,AN12)","v":0},{"$f":"AO12/(AQ4-AO10)","v":0},{"$f":"IF(AP12=0,0,(AP12*((LOG(AP12))/LOG(2))))","v":0},null,{"$f":"N12","v":212},{"$f":"COUNTIF(L59:L68,AS12)","v":1},{"$f":"AT12/(AV4-AT10)","v":0.14285714285714285},{"$f":"IF(AU12=0,0,(AU12*((LOG(AU12))/LOG(2))))","v":-0.40105070315108626}]
[11,605,11,609,21,616,null,null,null,null,0,112,null,221,{"$f":"COUNTIF($L$7:$L$500,N13)","v":0},{"$f":"O13/$Q$4","v":0},{"$f":"IF(P13=0,0,(P13*((LOG(P13))/LOG(2))))","v":0},null,null,{"$f":"N13","v":221},{"$f":"COUNTIF(L7:L16,T13)","v":0},{"$f":"U13/(W4-U10)","v":0},{"$f":"IF(V13=0,0,(V13*((LOG(V13))/LOG(2))))","v":0},null,{"$f":"N13","v":221},{"$f":"COUNTIF(L17:L27,Y13)","v":0},{"$f":"Z13/(AB4-Z10)","v":0},{"$f":"IF(AA13=0,0,(AA13*((LOG(AA13))/LOG(2))))","v":0},null,{"$f":"N13","v":221},{"$f":"COUNTIF(L28:L37,AD13)","v":0},{"$f":"AE13/(AG4-AE10)","v":0},{"$f":"IF(AF13=0,0,(AF13*((LOG(AF13))/LOG(2))))","v":0},null,{"$f":"N13","v":221},{"$f":"COUNTIF(L38:L47,AI13)","v":0},{"$f":"AJ13/(AL4-AJ10)","v":0},{"$f":"IF(AK13=0,0,(AK13*((LOG(AK13))/LOG(2))))","v":0},null,{"$f":"N13","v":221},{"$f":"COUNTIF(L48:L58,AN13)","v":0},{"$f":"AO13/(AQ4-AO10)","v":0},{"$f":"IF(AP13=0,0,(AP13*((LOG(AP13))/LOG(2))))","v":0},null,{"$f":"N13","v":221},{"$f":"COUNTIF(L59:L68,AS13)","v":0},{"$f":"AT13/(AV4-AT10)","v":0},{"$f":"IF(AU13=0,0,(AU13*((LOG(AU13))/LOG(2))))","v":0}]
[11,703,22,711,23,735,null,null,null,null,0,122,null,222,{"$f":"COUNTIF($L$7:$L$500,N14)","v":0},{"$f":"O14/$Q$4","v":0},{"$f":"IF(P14=0,0,(P14*((LOG(P14))/LOG(2))))","v":0},null,null,{"$f":"N14","v":222},{"$f":"COUNTIF(L7:L16,T14)","v":0},{"$f":"U14/(W4-U10)","v":0},{"$f":"IF(V14=0,0,(V14*((LOG(V14))/LOG(2))))","v":0},null,{"$f":"N14","v":222},{"$f":"COUNTIF(L17:L27,Y14)","v":0},{"$f":"Z14/(AB4-Z10)","v":0},{"$f":"IF(AA14=0,0,(AA14*((LOG(AA14))/LOG(2))))","v":0},null,{"$f":"N14","v":222},{"$f":"COUNTIF(L28:L37,AD14)","v":0},{"$f":"AE14/(AG4-AE10)","v":0},{"$f":"IF(AF14=0,0,(AF14*((LOG(AF14))/LOG(2))))","v":0},null,{"$f":"N14","v":222},{"$f":"COUNTIF(L38:L47,AI14)","v":0},{"$f":"AJ14/(AL4-AJ10)","v":0},{"$f":"IF(AK14=0,0,(AK14*((LOG(AK14))/LOG(2))))","v":0},null,{"$f":"N14","v":222},{"$f":"COUNTIF(L48:L58,AN14)","v":0},{"$f":"AO14/(AQ4-AO10)","v":0},{"$f":"IF(AP14=0,0,(AP14*((LOG(AP14))/LOG(2))))","v":0},null,{"$f":"N14","v":222},{"$f":"COUNTIF(L59:L68,AS14)","v":0},{"$f":"AT14/(AV4-AT10)","v":0},{"$f":"IF(AU14=0,0,(AU14*((LOG(AU14))/LOG(2))))","v":0}]
[11,834,11,838,21,847,null,null,null,null,0,112,null,null,null,{"$f":"SUM(P7:P14)","v":1},{"$f":"-SUM(Q7:Q14)","v":1.6093476449108688},null,null,null,null,{"$f":"SUM(V7:V14)","v":1},{"$f":"-SUM(W7:W14)","v":0.50325833477564574},null,null,null,{"$f":"SUM(AA7:AA14)","v":1},{"$f":"-SUM(AB7:AB14)","v":0},null,null,null,{"$f":"SUM(AF7:AF14)","v":1},{"$f":"-SUM(AG7:AG14)","v":1.9056390622295665},null,null,null,{"$f":"SUM(AK7:AK14)","v":0.99999999999999989},{"$f":"-SUM(AL7:AL14)","v":1.5566567074628228},null,null,null,{"$f":"SUM(AP7:AP14)","v":1},{"$f":"-SUM(AQ7:AQ14)","v":0.86585661745722331},null,null,null,{"$f":"SUM(AU7:AU14)","v":1},{"$f":"-SUM(AV7:AV14)","v":0.59167277858232736}]
[11,933,11,937,21,942,null,null,null,null,0,112,null,null,null,"U=",{"$f":"Q15/(LOG(Q4)/LOG(2))","v":0.27028797188017156},null,null,null,null,"U1=",{"$f":"W15/(LOG(W4)/LOG(2))","v":0.15149585433537505},null,null,null,"U2=",{"$f":"AB15/(LOG(AB4)/LOG(2))","v":0},null,null,null,"U3=",{"$f":"AG15/(LOG(AG4)/LOG(2))","v":0.57365451864007966},null,null,null,"U4=",{"$f":"AL15/(LOG(AL4)/LOG(2))","v":0.46860036189784082},null,null,null,"U5=",{"$f":"AQ15/(LOG(AQ4)/LOG(2))","v":0.25028869274146609},null,null,null,"U6=",{"$f":"AV15/(LOG(AV4)/LOG(2))","v":0.17811125397113373}]
[11,1028,11,1035,21,1043,null,null,null,null,0,112]
[11,1128,11,1132,21,1140,null,null,null,null,0,112]
[11,1229,11,1240,21,1247,null,null,null,null,0,112,null,"Total Target Seq"]
[11,1334,11,1338,21,1346,null,null,null,null,0,112,null,{"$f":"COUNTIF(L7:L68,G3)","v":9},null,10,11,10,10,11,10]
[11,1432,11,1436,21,1443,null,null,null,null,0,112,null,null,null,"% of reinforcement given in 6 equal intervals based on number of trials "]
[11,1530,11,1534,21,1542,null,null,null,null,0,112,null,null,null,"%_1","%_2","%_3","%_4","%_5","%_6"]
[11,1628,11,1631,21,1637,null,null,null,null,0,112,null,null,"target sequence",{"$f":"$G$3","v":122},{"$f":"$G$3","v":122},{"$f":"$G$3","v":122},{"$f":"$G$3","v":122},{"$f":"$G$3","v":122},{"$f":"$G$3","v":122}]
[11,1730,11,1735,21,1743,null,null,null,null,0,112,null,null,"total reinforcement",{"$f":"U10","v":1},{"$f":"Z10","v":0},{"$f":"AE10","v":2},{"$f":"AJ10","v":3},{"$f":"AO10","v":0},{"$f":"AT10","v":3}]
[11,1829,11,1833,21,1841,null,null,null,null,0,112,null,null,"% target"]
[11,1926,11,1930,21,1938,null,null,null,null,0,112,null,null,"CCRF"]
[11,2026,11,2029,21,2037,null,null,null,null,0,112,null,null,"% CCRf"]
[11,2125,11,2129,21,2137,null,null,null,null,0,112,null,null,"average response rate",{"$f":"F16/P20","v":94.2},{"$f":"(F27-F16)/Q20","v":99.545454545454547},{"$f":"(F37-F27)/R20","v":125.9},{"$f":"(F47-F37)/S20","v":117.5},{"$f":"(F58-F47)/T20","v":102.54545454545455},{"$f":"(F68-F58)/U20","v":112.2}]
[11,2224,22,2233,14,2272,null,null,null,null,0,121]
[11,2374,22,2382,14,2499,null,null,null,null,0,121]
[22,2594,13,2602,23,2610,null,null,null,null,0,212]
[11,2712,22,2720,23,2743,null,null,null,null,0,122]
[11,2839,11,2844,21,2852,null,null,null,null,0,112]
[11,2939,11,2943,12,2950,null,null,null,null,0,111]
[22,3045,13,3052,23,3060,null,null,null,null,0,212]
[11,3156,11,3160,21,3168,null,null,null,null,0,112]
[11,3254,22,3268,23,3296,null,null,null,null,0,122]
[22,3391,13,3399,23,3407,null,null,null,null,0,212]
[11,3503,22,3515,23,3534,null,null,null,null,0,122]
[11,3630,22,3639,14,3696,null,null,null,null,0,121]
[11,3790,11,3794,21,3802,null,null,null,null,0,112]
[11,3888,11,3892,21,3900,null,null,null,null,0,112]
[11,3986,11,3990,21,3997,null,null,null,null,0,112]
[11,4082,22,4091,23,4121,null,null,null,null,0,122]
[11,4219,22,4227,23,4247,null,null,null,null,0,122]
[22,4339,13,4346,23,4354,null,null,null,null,0,212]
[11,4450,22,4459,14,4471,null,null,null,null,0,121]
[11,4571,22,4579,14,4589,null,null,null,null,0,121]
[11,4686,11,4690,21,4698,null,null,null,null,0,112]
[11,4784,11,4788,21,4796,null,null,null,null,0,112]
[11,4884,11,4890,21,4898,null,null,null,null,0,112]
[11,4985,11,4989,21,4997,null,null,null,null,0,112]
[11,5085,11,5089,21,5098,null,null,null,null,0,112]
[11,5186,11,5190,21,5197,null,null,null,null,0,112]
[11,5284,11,5288,21,5296,null,null,null,null,0,112]
[11,5380,11,5388,21,5396,null,null,null,null,0,112]
[11,5481,11,5485,12,5489,null,null,null,null,0,111]
[11,5587,11,5591,21,5599,null,null,null,null,0,112]
[11,5692,22,5700,23,5719,null,null,null,null,0,122]
[11,5815,11,5825,21,5834,null,null,null,null,0,112]
[11,5920,11,5924,21,5933,null,null,null,null,0,112]
[11,6025,11,6029,21,6037,null,null,null,null,0,112]
[11,6127,22,6139,23,6159,null,null,null,null,0,122]
[11,6262,22,6271,23,6295,null,null,null,null,0,122]
[22,6393,13,6403,23,6411,null,null,null,null,0,212]
[11,6505,11,6513,21,6523,null,null,null,null,0,112]
[11,6612,11,6615,21,6624,null,null,null,null,0,112]
[11,6709,11,6712,21,6721,null,null,null,null,1,112]

{"sheet":"!2011-06-04_10h40m.Subject 52","index":31,"n_rows":61,"n_cols":48,"rows_kept":61,"cut":false,"hidden":false,"merged":[[4,39,4,42],[5,39,5,40],[4,44,4,47],[5,44,5,45],[4,24,4,27],[5,24,5,25],[4,29,4,32],[5,29,5,30],[4,34,4,37],[5,34,5,35],[1,1,1,2],[5,13,5,14],[18,13,18,14],[19,13,19,14],[4,19,4,22],[5,19,5,20]]}
["Report for:!2011-06-04_10h40m.Subject 52"]
["Date","2011-06-04",null,null,null,"Group",0]
["Hen",52,null,null,null,"Correct Sequence",{"$f":"Start!J2","v":122},null,null,null,null,null,null,null,null,"Total Sequences in Data",{"$f":"4994-COUNTBLANK(L7:L5000)","v":55},null,null,null,null,"Total Sequences in Block Data",{"$f":"COUNTA(L7:L15)","v":9},null,null,null,"Total Sequences in Block Data",{"$f":"COUNTA(L16:L24)","v":9},null,null,null,"Total Sequences in Block Data",{"$f":"COUNTA(L25:L34)","v":10},null,null,null,"Total Sequences in Block Data",{"$f":"COUNTA(L35:L43)","v":9},null,null,null,"Total Sequences in Block Data",{"$f":"COUNTA(L44:L52)","v":9},null,null,null,"Total Sequences in Block Data",{"$f":"COUNTA(L53:L61)","v":9}]
["Program",0,null,null,null,null,null,null,null,null,null,null,null,null,null,"Total Sequences in Summary",{"$f":"SUM(O7:O14)","v":55},null,null,null,null,"Total Sequences in Block Summary",{"$f":"SUM(U7:U14)","v":9},null,null,null,"Total Sequences in Block Summary",{"$f":"SUM(Z7:Z14)","v":9},null,null,null,"Total Sequences in Block Summary",{"$f":"SUM(AE7:AE14)","v":10},null,null,null,"Total Sequences in Block Summary",{"$f":"SUM(AJ7:AJ14)","v":9},null,null,null,"Total Sequences in Block Summary",{"$f":"SUM(AO7:AO14)","v":9},null,null,null,"Total Sequences in Block Summary",{"$f":"SUM(AT7:AT14)","v":9}]
[null,null,null,null,null,null,null,null,null,null,null,null,null,null,null,null,null,null,null,"Block 1",null,null,null,null,"Block 2",null,null,null,null,"Block 3",null,null,null,null,"Block 4",null,null,null,null,"Block 5",null,null,null,null,"Block 6"]
["Sequence\nComponent\n1","Time\n1","Sequence\nComponent\n2","Time\n2","Sequence\nComponent\n3","Time\n3","Sequence\nComponent\n4","Time\n4","Sequence\nComponent\n5","Time\n5","Correct?\n0=No 1=Yes","Sequence",null,"Frequency",null,"Relative Frequency","Variability",null,null,"Frequency",null,"Relative Frequency","Variability",null,"Frequency",null,"Relative Frequency","Variability",null,"Frequency",null,"Relative Frequency","Variability",null,"Frequency",null,"Relative Frequency","Variability",null,"Frequency",null,"Relative Frequency","Variability",null,"Frequency",null,"Relative Frequency","Variability"]
[11,8,11,12,21,19,null,null,null,null,0,112,null,111,{"$f":"COUNTIF($L$7:$L$500,N7)","v":2},{"$f":"O7/$Q$4","v":3.6363636363636362E-2},{"$f":"IF(P7=0,0,(P7*((LOG(P7))/LOG(2))))","v":-0.17386762594635127},null,null,{"$f":"N7","v":111},{"$f":"COUNTIF(L7:L15,T7)","v":0},{"$f":"U7/(W4-U10)","v":0},{"$f":"IF(V7=0,0,(V7*((LOG(V7))/LOG(2))))","v":0},null,{"$f":"N7","v":111},{"$f":"COUNTIF(L16:L24,Y7)","v":0},{"$f":"Z7/(AB4-Z10)","v":0},{"$f":"IF(AA7=0,0,(AA7*((LOG(AA7))/LOG(2))))","v":0},null,{"$f":"N7","v":111},{"$f":"COUNTIF(L25:L34,AD7)","v":1},{"$f":"AE7/(AG4-AE10)","v":0.1},{"$f":"IF(AF7=0,0,(AF7*((LOG(AF7))/LOG(2))))","v":-0.33219280948873625},null,{"$f":"N7","v":111},{"$f":"COUNTIF(L35:L43,AI7)","v":0},{"$f":"AJ7/(AL4-AJ10)","v":0},{"$f":"IF(AK7=0,0,(AK7*((LOG(AK7))/LOG(2))))","v":0},null,{"$f":"N7","v":111},{"$f":"COUNTIF(L44:L52,AN7)","v":1},{"$f":"AO7/(AQ4-AO10)","v":0.1111111111111111},{"$f":"IF(AP7=0,0,(AP7*((LOG(AP7))/LOG(2))))","v":-0.3522138890491458},null,{"$f":"N7","v":111},{"$f":"COUNTIF(L53:L61,AS7)","v":0},{"$f":"AT7/(AV4-AT10)","v":0},{"$f":"IF(AU7=0,0,(AU7*((LOG(AU7))/LOG(2))))","v":0}]
[11,104,11,108,21,115,null,null,null,null,0,112,null,112,{"$f":"COUNTIF($L$7:$L$500,N8)","v":40},{"$f":"O8/$Q$4","v":0.72727272727272729},{"$f":"IF(P8=0,0,(P8*((LOG(P8))/LOG(2))))","v":-0.33413208628167068},null,null,{"$f":"N8","v":112},{"$f":"COUNTIF(L7:L15,T8)","v":5},{"$f":"U8/(W4-U10)","v":0.55555555555555558},{"$f":"IF(V8=0,0,(V8*((LOG(V8))/LOG(2))))","v":-0.4711093925305278},null,{"$f":"N8","v":112},{"$f":"COUNTIF(L16:L24,Y8)","v":7},{"$f":"Z8/(AB4-Z10)","v":0.875},{"$f":"IF(AA8=0,0,(AA8*((LOG(AA8))/LOG(2))))","v":-0.1685644431995964},null,{"$f":"N8","v":112},{"$f":"COUNTIF(L25:L34,AD8)","v":7},{"$f":"AE8/(AG4-AE10)","v":0.7},{"$f":"IF(AF8=0,0,(AF8*((LOG(AF8))/LOG(2))))","v":-0.36020122098083079},null,{"$f":"N8","v":112},{"$f":"COUNTIF(L35:L43,AI8)","v":5},{"$f":"AJ8/(AL4-AJ10)","v":0.55555555555555558},{"$f":"IF(AK8=0,0,(AK8*((LOG(AK8))/LOG(2))))","v":-0.4711093925305278},null,{"$f":"N8","v":112},{"$f":"COUNTIF(L44:L52,AN8)","v":8},{"$f":"AO8/(AQ4-AO10)","v":0.88888888888888884},{"$f":"IF(AP8=0,0,(AP8*((LOG(AP8))/LOG(2))))","v":-0.15104444572649992},null,{"$f":"N8","v":112},{"$f":"COUNTIF(L53:L61,AS8)","v":8},{"$f":"AT8/(AV4-AT10)","v":0.88888888888888884},{"$f":"IF(AU8=0,0,(AU8*((LOG(AU8))/LOG(2))))","v":-0.15104444572649992}]
[11,202,11,206,21,217,null,null,null,null,0,112,null,121,{"$f":"COUNTIF($L$7:$L$500,N9)","v":4},{"$f":"O9/$Q$4","v":7.2727272727272724E-2},{"$f":"IF(P9=0,0,(P9*((LOG(P9))/LOG(2))))","v":-0.27500797916542979},null,null,{"$f":"N9","v":121},{"$f":"COUNTIF(L7:L15,T9)","v":1},{"$f":"U9/(W4-U10)","v":0.1111111111111111},{"$f":"IF(V9=0,0,(V9*((LOG(V9))/LOG(2))))","v":-0.3522138890491458},null,{"$f":"N9","v":121},{"$f":"COUNTIF(L16:L24,Y9)","v":0},{"$f":"Z9/(AB4-Z10)","v":0},{"$f":"IF(AA9=0,0,(AA9*((LOG(AA9))/LOG(2))))","v":0},null,{"$f":"N9","v":121},{"$f":"COUNTIF(L25:L34,AD9)","v":1},{"$f":"AE9/(AG4-AE10)","v":0.1},{"$f":"IF(AF9=0,0,(AF9*((LOG(AF9))/LOG(2))))","v":-0.33219280948873625},null,{"$f":"N9","v":121},{"$f":"COUNTIF(L35:L43,AI9)","v":2},{"$f":"AJ9/(AL4-AJ10)","v":0.22222222222222221},{"$f":"IF(AK9=0,0,(AK9*((LOG(AK9))/LOG(2))))","v":-0.48220555587606945},null,{"$f":"N9","v":121},{"$f":"COUNTIF(L44:L52,AN9)","v":0},{"$f":"AO9/(AQ4-AO10)","v":0},{"$f":"IF(AP9=0,0,(AP9*((LOG(AP9))/LOG(2))))","v":0},null,{"$f":"N9","v":121},{"$f":"COUNTIF(L53:L61,AS9)","v":0},{"$f":"AT9/(AV4-AT10)","v":0},{"$f":"IF(AU9=0,0,(AU9*((LOG(AU9))/LOG(2))))","v":0}]
[11,305,11,308,21,318,null,null,null,null,0,112,null,122,{"$f":"COUNTIF($L$7:$L$500,N10)","v":1},{"$f":"O10/$Q$4","v":1.8181818181818181E-2},{"$f":"IF(P10=0,0,(P10*((LOG(P10))/LOG(2))))","v":-0.10511563115499381},null,null,{"$f":"N10","v":122},{"$f":"COUNTIF(L7:L15,T10)","v":0},null,null,null,{"$f":"N10","v":122},{"$f":"COUNTIF(L16:L24,Y10)","v":1},null,null,null,{"$f":"N10","v":122},{"$f":"COUNTIF(L25:L34,AD10)","v":0},null,null,null,{"$f":"N10","v":122},{"$f":"COUNTIF(L35:L43,AI10)","v":0},null,null,null,{"$f":"N10","v":122},{"$f":"COUNTIF(L44:L52,AN10)","v":0},null,null,null,{"$f":"N10","v":122},{"$f":"COUNTIF(L53:L61,AS10)","v":0}]
[22,407,24,414,23,432,null,null,null,null,0,222,null,211,{"$f":"COUNTIF($L$7:$L$500,N11)","v":4},{"$f":"O11/$Q$4","v":7.2727272727272724E-2},{"$f":"IF(P11=0,0,(P11*((LOG(P11))/LOG(2))))","v":-0.27500797916542979},null,null,{"$f":"N11","v":211},{"$f":"COUNTIF(L7:L15,T11)","v":0},{"$f":"U11/(W4-U10)","v":0},{"$f":"IF(V11=0,0,(V11*((LOG(V11))/LOG(2))))","v":0},null,{"$f":"N11","v":211},{"$f":"COUNTIF(L16:L24,Y11)","v":0},{"$f":"Z11/(AB4-Z10)","v":0},{"$f":"IF(AA11=0,0,(AA11*((LOG(AA11))/LOG(2))))","v":0},null,{"$f":"N11","v":211},{"$f":"COUNTIF(L25:L34,AD11)","v":1},{"$f":"AE11/(AG4-AE10)","v":0.1},{"$f":"IF(AF11=0,0,(AF11*((LOG(AF11))/LOG(2))))","v":-0.33219280948873625},null,{"$f":"N11","v":211},{"$f":"COUNTIF(L35:L43,AI11)","v":2},{"$f":"AJ11/(AL4-AJ10)","v":0.22222222222222221},{"$f":"IF(AK11=0,0,(AK11*((LOG(AK11))/LOG(2))))","v":-0.48220555587606945},null,{"$f":"N11","v":211},{"$f":"COUNTIF(L44:L52,AN11)","v":0},{"$f":"AO11/(AQ4-AO10)","v":0},{"$f":"IF(AP11=0,0,(AP11*((LOG(AP11))/LOG(2))))","v":0},null,{"$f":"N11","v":211},{"$f":"COUNTIF(L53:L61,AS11)","v":1},{"$f":"AT11/(AV4-AT10)","v":0.1111111111111111},{"$f":"IF(AU11=0,0,(AU11*((LOG(AU11))/LOG(2))))","v":-0.3522138890491458}]
[22,527,24,534,23,549,null,null,null,null,0,222,null,212,{"$f":"COUNTIF($L$7:$L$500,N12)","v":1},{"$f":"O12/$Q$4","v":1.8181818181818181E-2},{"$f":"IF(P12=0,0,(P12*((LOG(P12))/LOG(2))))","v":-0.10511563115499381},null,null,{"$f":"N12","v":212},{"$f":"COUNTIF(L7:L15,T12)","v":1},{"$f":"U12/(W4-U10)","v":0.1111111111111111},{"$f":"IF(V12=0,0,(V12*((LOG(V12))/LOG(2))))","v":-0.3522138890491458},null,{"$f":"N12","v":212},{"$f":"COUNTIF(L16:L24,Y12)","v":0},{"$f":"Z12/(AB4-Z10)","v":0},{"$f":"IF(AA12=0,0,(AA12*((LOG(AA12))/LOG(2))))","v":0},null,{"$f":"N12","v":212},{"$f":"COUNTIF(L25:L34,AD12)","v":0},{"$f":"AE12/(AG4-AE10)","v":0},{"$f":"IF(AF12=0,0,(AF12*((LOG(AF12))/LOG(2))))","v":0},null,{"$f":"N12","v":212},{"$f":"COUNTIF(L35:L43,AI12)","v":0},{"$f":"AJ12/(AL4-AJ10)","v":0},{"$f":"IF(AK12=0,0,(AK12*((LOG(AK12))/LOG(2))))","v":0},null,{"$f":"N12","v":212},{"$f":"COUNTIF(L44:L52,AN12)","v":0},{"$f":"AO12/(AQ4-AO10)","v":0},{"$f":"IF(AP12=0,0,(AP12*((LOG(AP12))/LOG(2))))","v":0},null,{"$f":"N12","v":212},{"$f":"COUNTIF(L53:L61,AS12)","v":0},{"$f":"AT12/(AV4-AT10)","v":0},{"$f":"IF(AU12=0,0,(AU12*((LOG(AU12))/LOG(2))))","v":0}]
[22,645,13,652,23,663,null,null,null,null,0,212,null,221,{"$f":"COUNTIF($L$7:$L$500,N13)","v":1},{"$f":"O13/$Q$4","v":1.8181818181818181E-2},{"$f":"IF(P13=0,0,(P13*((LOG(P13))/LOG(2))))","v":-0.10511563115499381},null,null,{"$f":"N13","v":221},{"$f":"COUNTIF(L7:L15,T13)","v":0},{"$f":"U13/(W4-U10)","v":0},{"$f":"IF(V13=0,0,(V13*((LOG(V13))/LOG(2))))","v":0},null,{"$f":"N13","v":221},{"$f":"COUNTIF(L16:L24,Y13)","v":1},{"$f":"Z13/(AB4-Z10)","v":0.125},{"$f":"IF(AA13=0,0,(AA13*((LOG(AA13))/LOG(2))))","v":-0.375},null,{"$f":"N13","v":221},{"$f":"COUNTIF(L25:L34,AD13)","v":0},{"$f":"AE13/(AG4-AE10)","v":0},{"$f":"IF(AF13=0,0,(AF13*((LOG(AF13))/LOG(2))))","v":0},null,{"$f":"N13","v":221},{"$f":"COUNTIF(L35:L43,AI13)","v":0},{"$f":"AJ13/(AL4-AJ10)","v":0},{"$f":"IF(AK13=0,0,(AK13*((LOG(AK13))/LOG(2))))","v":0},null,{"$f":"N13","v":221},{"$f":"COUNTIF(L44:L52,AN13)","v":0},{"$f":"AO13/(AQ4-AO10)","v":0},{"$f":"IF(AP13=0,0,(AP13*((LOG(AP13))/LOG(2))))","v":0},null,{"$f":"N13","v":221},{"$f":"COUNTIF(L53:L61,AS13)","v":0},{"$f":"AT13/(AV4-AT10)","v":0},{"$f":"IF(AU13=0,0,(AU13*((LOG(AU13))/LOG(2))))","v":0}]
[11,758,11,762,21,770,null,null,null,null,0,112,null,222,{"$f":"COUNTIF($L$7:$L$500,N14)","v":2},{"$f":"O14/$Q$4","v":3.6363636363636362E-2},{"$f":"IF(P14=0,0,(P14*((LOG(P14))/LOG(2))))","v":-0.17386762594635127},null,null,{"$f":"N14","v":222},{"$f":"COUNTIF(L7:L15,T14)","v":2},{"$f":"U14/(W4-U10)","v":0.22222222222222221},{"$f":"IF(V14=0,0,(V14*((LOG(V14))/LOG(2))))","v":-0.48220555587606945},null,{"$f":"N14","v":222},{"$f":"COUNTIF(L16:L24,Y14)","v":0},{"$f":"Z14/(AB4-Z10)","v":0},{"$f":"IF(AA14=0,0,(AA14*((LOG(AA14))/LOG(2))))","v":0},null,{"$f":"N14","v":222},{"$f":"COUNTIF(L25:L34,AD14)","v":0},{"$f":"AE14/(AG4-AE10)","v":0},{"$f":"IF(AF14=0,0,(AF14*((LOG(AF14))/LOG(2))))","v":0},null,{"$f":"N14","v":222},{"$f":"COUNTIF(L35:L43,AI14)","v":0},{"$f":"AJ14/(AL4-AJ10)","v":0},{"$f":"IF(AK14=0,0,(AK14*((LOG(AK14))/LOG(2))))","v":0},null,{"$f":"N14","v":222},{"$f":"COUNTIF(L44:L52,AN14)","v":0},{"$f":"AO14/(AQ4-AO10)","v":0},{"$f":"IF(AP14=0,0,(AP14*((LOG(AP14))/LOG(2))))","v":0},null,{"$f":"N14","v":222},{"$f":"COUNTIF(L53:L61,AS14)","v":0},{"$f":"AT14/(AV4-AT10)","v":0},{"$f":"IF(AU14=0,0,(AU14*((LOG(AU14))/LOG(2))))","v":0}]
[11,857,22,867,14,891,null,null,null,null,0,121,null,null,null,{"$f":"SUM(P7:P14)","v":1},{"$f":"-SUM(Q7:Q14)","v":1.5472301899702143},null,null,null,null,{"$f":"SUM(V7:V14)","v":1},{"$f":"-SUM(W7:W14)","v":1.6577427265048887},null,null,null,{"$f":"SUM(AA7:AA14)","v":1},{"$f":"-SUM(AB7:AB14)","v":0.5435644431995964},null,null,null,{"$f":"SUM(AF7:AF14)","v":0.99999999999999989},{"$f":"-SUM(AG7:AG14)","v":1.3567796494470397},null,null,null,{"$f":"SUM(AK7:AK14)","v":1},{"$f":"-SUM(AL7:AL14)","v":1.4355205042826666},null,null,null,{"$f":"SUM(AP7:AP14)","v":1},{"$f":"-SUM(AQ7:AQ14)","v":0.50325833477564574},null,null,null,{"$f":"SUM(AU7:AU14)","v":1},{"$f":"-SUM(AV7:AV14)","v":0.50325833477564574}]
[22,988,24,1037,14,1140,null,null,null,null,0,221,null,null,null,"U=",{"$f":"Q15/(LOG(Q4)/LOG(2))","v":0.26762392700642579},null,null,null,null,"U1=",{"$f":"W15/(LOG(W4)/LOG(2))","v":0.52295960495930272},null,null,null,"U2=",{"$f":"AB15/(LOG(AB4)/LOG(2))","v":0.17147549009906393},null,null,null,"U3=",{"$f":"AG15/(LOG(AG4)/LOG(2))","v":0.40843137199002028},null,null,null,"U4=",{"$f":"AL15/(LOG(AL4)/LOG(2))","v":0.45285629900691859},null,null,null,"U5=",{"$f":"AQ15/(LOG(AQ4)/LOG(2))","v":0.15876032857139011},null,null,null,"U6=",{"$f":"AV15/(LOG(AV4)/LOG(2))","v":0.15876032857139011}]
[11,1234,11,1238,21,1245,null,null,null,null,0,112]
[11,1333,11,1337,21,1345,null,null,null,null,0,112]
[11,1430,11,1434,21,1442,null,null,null,null,0,112,null,"Total Target Seq"]
[11,1531,22,1541,23,1623,null,null,null,null,0,122,null,{"$f":"COUNTIF(L7:L61,G3)","v":1},null,9,9,10,9,9,9]
[11,1722,11,1726,21,1733,null,null,null,null,0,112,null,null,null,"% of reinforcement given in 6 equal intervals based on number of trials "]
[11,1819,11,1825,21,1834,null,null,null,null,0,112,null,null,null,"%_1","%_2","%_3","%_4","%_5","%_6"]
[11,1921,11,1925,21,1932,null,null,null,null,0,112,null,null,"target sequence",{"$f":"$G$3","v":122},{"$f":"$G$3","v":122},{"$f":"$G$3","v":122},{"$f":"$G$3","v":122},{"$f":"$G$3","v":122},{"$f":"$G$3","v":122}]
[11,2020,11,2023,21,2031,null,null,null,null,0,112,null,null,"total reinforcement",{"$f":"U10","v":0},{"$f":"Z10","v":1},{"$f":"AE10","v":0},{"$f":"AJ10","v":0},{"$f":"AO10","v":0},{"$f":"AT10","v":0}]
[11,2117,11,2121,21,2128,null,null,null,null,0,112,null,null,"% target"]
[11,2215,11,2219,21,2227,null,null,null,null,0,112,null,null,"CCRF"]
[11,2311,11,2315,21,2323,null,null,null,null,0,112,null,null,"% CCRf"]
[11,2411,22,2420,14,2491,null,null,null,null,0,121,null,null,"average response rate",{"$f":"F15/P20","v":99},{"$f":"(F24-F15)/Q20","v":126.66666666666667},{"$f":"(F34-F24)/R20","v":108.2},{"$f":"(F43-F34)/S20","v":123.11111111111111},{"$f":"(F52-F43)/T20","v":98.222222222222229},{"$f":"(F61-F52)/U20","v":100}]
[11,2589,11,2593,21,2598,null,null,null,null,0,112]
[11,2684,11,2688,12,2692,null,null,null,null,0,111]
[22,2791,13,2799,14,2802,null,null,null,null,0,211]
[11,2901,11,2905,21,2913,null,null,null,null,0,112]
[11,3002,11,3006,21,3014,null,null,null,null,0,112]
[11,3098,11,3105,21,3113,null,null,null,null,0,112]
[11,3199,22,3208,14,3305,null,null,null,null,0,121]
[22,3400,13,3408,14,3412,null,null,null,null,0,211]
[11,3513,22,3524,14,3607,null,null,null,null,0,121]
[22,3703,13,3711,14,3714,null,null,null,null,0,211]
[11,3809,11,3813,21,3822,null,null,null,null,0,112]
[11,3908,11,3912,21,3920,null,null,null,null,0,112]
[11,4007,11,4018,21,4026,null,null,null,null,0,112]
[11,4112,11,4116,21,4124,null,null,null,null,0,112]
[11,4210,11,4214,21,4221,null,null,null,null,0,112]
[11,4308,11,4312,21,4319,null,null,null,null,0,112]
[11,4405,11,4409,21,4417,null,null,null,null,0,112]
[11,4503,11,4507,21,4515,null,null,null,null,0,112]
[11,4603,11,4609,21,4617,null,null,null,null,0,112]
[11,4703,11,4707,21,4715,null,null,null,null,0,112]
[11,4804,11,4808,21,4815,null,null,null,null,0,112]
[11,4900,11,4905,21,4912,null,null,null,null,0,112]
[11,4997,11,5001,21,5009,null,null,null,null,0,112]
[11,5096,11,5100,12,5105,null,null,null,null,0,111]
[22,5201,13,5209,14,5212,null,null,null,null,0,211]
[11,5310,11,5314,21,5322,null,null,null,null,0,112]
[11,5409,11,5413,21,5420,null,null,null,null,0,112]
[11,5506,11,5510,21,5518,null,null,null,null,0,112]
[11,5605,11,5609,21,5617,null,null,null,null,0,112]
[11,5702,11,5706,21,5714,null,null,null,null,0,112]
[11,5799,11,5802,21,5811,null,null,null,null,0,112]
[11,5894,11,5898,21,5907,null,null,null,null,0,112]
[11,5993,11,5997,21,6005,null,null,null,null,1,112]

{"sheet":"!2011-06-05_09h58m.Subject 52","index":32,"n_rows":73,"n_cols":48,"rows_kept":73,"cut":false,"hidden":false,"merged":[[4,39,4,42],[5,39,5,40],[4,44,4,47],[5,44,5,45],[4,24,4,27],[5,24,5,25],[4,29,4,32],[5,29,5,30],[4,34,4,37],[5,34,5,35],[1,1,1,2],[5,13,5,14],[18,13,18,14],[19,13,19,14],[4,19,4,22],[5,19,5,20]]}
["Report for:!2011-06-05_09h58m.Subject 52"]
["Date","2011-06-05",null,null,null,"Group",0]
["Hen",52,null,null,null,"Correct Sequence",{"$f":"Start!J2","v":122},null,null,null,null,null,null,null,null,"Total Sequences in Data",{"$f":"4994-COUNTBLANK(L7:L5000)","v":67},null,null,null,null,"Total Sequences in Block Data",{"$f":"COUNTA(L7:L17)","v":11},null,null,null,"Total Sequences in Block Data",{"$f":"COUNTA(L18:L28)","v":11},null,null,null,"Total Sequences in Block Data",{"$f":"COUNTA(L29:L40)","v":12},null,null,null,"Total Sequences in Block Data",{"$f":"COUNTA(L41:L51)","v":11},null,null,null,"Total Sequences in Block Data",{"$f":"COUNTA(L52:L62)","v":11},null,null,null,"Total Sequences in Block Data",{"$f":"COUNTA(L63:L73)","v":11}]
["Program",0,null,null,null,null,null,null,null,null,null,null,null,null,null,"Total Sequences in Summary",{"$f":"SUM(O7:O14)","v":67},null,null,null,null,"Total Sequences in Block Summary",{"$f":"SUM(U7:U14)","v":11},null,null,null,"Total Sequences in Block Summary",{"$f":"SUM(Z7:Z14)","v":11},null,null,null,"Total Sequences in Block Summary",{"$f":"SUM(AE7:AE14)","v":12},null,null,null,"Total Sequences in Block Summary",{"$f":"SUM(AJ7:AJ14)","v":11},null,null,null,"Total Sequences in Block Summary",{"$f":"SUM(AO7:AO14)","v":11},null,null,null,"Total Sequences in Block Summary",{"$f":"SUM(AT7:AT14)","v":11}]
[null,null,null,null,null,null,null,null,null,null,null,null,null,null,null,null,null,null,null,"Block 1",null,null,null,null,"Block 2",null,null,null,null,"Block 3",null,null,null,null,"Block 4",null,null,null,null,"Block 5",null,null,null,null,"Block 6"]
["Sequence\nComponent\n1","Time\n1","Sequence\nComponent\n2","Time\n2","Sequence\nComponent\n3","Time\n3","Sequence\nComponent\n4","Time\n4","Sequence\nComponent\n5","Time\n5","Correct?\n0=No 1=Yes","Sequence",null,"Frequency",null,"Relative Frequency","Variability",null,null,"Frequency",null,"Relative Frequency","Variability",null,"Frequency",null,"Relative Frequency","Variability",null,"Frequency",null,"Relative Frequency","Variability",null,"Frequency",null,"Relative Frequency","Variability",null,"Frequency",null,"Relative Frequency","Variability",null,"Frequency",null,"Relative Frequency","Variability"]
[11,7,11,11,21,19,null,null,null,null,0,112,null,111,{"$f":"COUNTIF($L$7:$L$500,N7)","v":11},{"$f":"O7/$Q$4","v":0.16417910447761194},{"$f":"IF(P7=0,0,(P7*((LOG(P7))/LOG(2))))","v":-0.42795870582127205},null,null,{"$f":"N7","v":111},{"$f":"COUNTIF(L7:L17,T7)","v":2},{"$f":"U7/(W4-U10)","v":0.22222222222222221},{"$f":"IF(V7=0,0,(V7*((LOG(V7))/LOG(2))))","v":-0.48220555587606945},null,{"$f":"N7","v":111},{"$f":"COUNTIF(L18:L28,Y7)","v":3},{"$f":"Z7/(AB4-Z10)","v":0.3},{"$f":"IF(AA7=0,0,(AA7*((LOG(AA7))/LOG(2))))","v":-0.52108967824986185},null,{"$f":"N7","v":111},{"$f":"COUNTIF(L29:L40,AD7)","v":3},{"$f":"AE7/(AG4-AE10)","v":0.25},{"$f":"IF(AF7=0,0,(AF7*((LOG(AF7))/LOG(2))))","v":-0.5},null,{"$f":"N7","v":111},{"$f":"COUNTIF(L41:L51,AI7)","v":2},{"$f":"AJ7/(AL4-AJ10)","v":0.2},{"$f":"IF(AK7=0,0,(AK7*((LOG(AK7))/LOG(2))))","v":-0.46438561897747244},null,{"$f":"N7","v":111},{"$f":"COUNTIF(L52:L62,AN7)","v":0},{"$f":"AO7/(AQ4-AO10)","v":0},{"$f":"IF(AP7=0,0,(AP7*((LOG(AP7))/LOG(2))))","v":0},null,{"$f":"N7","v":111},{"$f":"COUNTIF(L63:L73,AS7)","v":1},{"$f":"AT7/(AV4-AT10)","v":9.0909090909090912E-2},{"$f":"IF(AU7=0,0,(AU7*((LOG(AU7))/LOG(2))))","v":-0.31449378351248153}]
[11,105,22,114,23,134,null,null,null,null,0,122,null,112,{"$f":"COUNTIF($L$7:$L$500,N8)","v":40},{"$f":"O8/$Q$4","v":0.59701492537313428},{"$f":"IF(P8=0,0,(P8*((LOG(P8))/LOG(2))))","v":-0.4442752809375583},null,null,{"$f":"N8","v":112},{"$f":"COUNTIF(L7:L17,T8)","v":7},{"$f":"U8/(W4-U10)","v":0.77777777777777779},{"$f":"IF(V8=0,0,(V8*((LOG(V8))/LOG(2))))","v":-0.28199895063255082},null,{"$f":"N8","v":112},{"$f":"COUNTIF(L18:L28,Y8)","v":7},{"$f":"Z8/(AB4-Z10)","v":0.7},{"$f":"IF(AA8=0,0,(AA8*((LOG(AA8))/LOG(2))))","v":-0.36020122098083079},null,{"$f":"N8","v":112},{"$f":"COUNTIF(L29:L40,AD8)","v":8},{"$f":"AE8/(AG4-AE10)","v":0.66666666666666663},{"$f":"IF(AF8=0,0,(AF8*((LOG(AF8))/LOG(2))))","v":-0.38997500048077083},null,{"$f":"N8","v":112},{"$f":"COUNTIF(L41:L51,AI8)","v":8},{"$f":"AJ8/(AL4-AJ10)","v":0.8},{"$f":"IF(AK8=0,0,(AK8*((LOG(AK8))/LOG(2))))","v":-0.25754247590988982},null,{"$f":"N8","v":112},{"$f":"COUNTIF(L52:L62,AN8)","v":6},{"$f":"AO8/(AQ4-AO10)","v":0.75},{"$f":"IF(AP8=0,0,(AP8*((LOG(AP8))/LOG(2))))","v":-0.31127812445913283},null,{"$f":"N8","v":112},{"$f":"COUNTIF(L63:L73,AS8)","v":4},{"$f":"AT8/(AV4-AT10)","v":0.36363636363636365},{"$f":"IF(AU8=0,0,(AU8*((LOG(AU8))/LOG(2))))","v":-0.53070240677719893}]
[11,233,11,237,21,244,null,null,null,null,0,112,null,121,{"$f":"COUNTIF($L$7:$L$500,N9)","v":4},{"$f":"O9/$Q$4","v":5.9701492537313432E-2},{"$f":"IF(P9=0,0,(P9*((LOG(P9))/LOG(2))))","v":-0.2427515934601655},null,null,{"$f":"N9","v":121},{"$f":"COUNTIF(L7:L17,T9)","v":0},{"$f":"U9/(W4-U10)","v":0},{"$f":"IF(V9=0,0,(V9*((LOG(V9))/LOG(2))))","v":0},null,{"$f":"N9","v":121},{"$f":"COUNTIF(L18:L28,Y9)","v":0},{"$f":"Z9/(AB4-Z10)","v":0},{"$f":"IF(AA9=0,0,(AA9*((LOG(AA9))/LOG(2))))","v":0},null,{"$f":"N9","v":121},{"$f":"COUNTIF(L29:L40,AD9)","v":1},{"$f":"AE9/(AG4-AE10)","v":8.3333333333333329E-2},{"$f":"IF(AF9=0,0,(AF9*((LOG(AF9))/LOG(2))))","v":-0.29874687506009634},null,{"$f":"N9","v":121},{"$f":"COUNTIF(L41:L51,AI9)","v":0},{"$f":"AJ9/(AL4-AJ10)","v":0},{"$f":"IF(AK9=0,0,(AK9*((LOG(AK9))/LOG(2))))","v":0},null,{"$f":"N9","v":121},{"$f":"COUNTIF(L52:L62,AN9)","v":0},{"$f":"AO9/(AQ4-AO10)","v":0},{"$f":"IF(AP9=0,0,(AP9*((LOG(AP9))/LOG(2))))","v":0},null,{"$f":"N9","v":121},{"$f":"COUNTIF(L63:L73,AS9)","v":3},{"$f":"AT9/(AV4-AT10)","v":0.27272727272727271},{"$f":"IF(AU9=0,0,(AU9*((LOG(AU9))/LOG(2))))","v":-0.51121885034076575}]
[11,333,11,340,21,349,null,null,null,null,0,112,null,122,{"$f":"COUNTIF($L$7:$L$500,N10)","v":7},{"$f":"O10/$Q$4","v":0.1044776119402985},{"$f":"IF(P10=0,0,(P10*((LOG(P10))/LOG(2))))","v":-0.34046477431046535},null,null,{"$f":"N10","v":122},{"$f":"COUNTIF(L7:L17,T10)","v":2},null,null,null,{"$f":"N10","v":122},{"$f":"COUNTIF(L18:L28,Y10)","v":1},null,null,null,{"$f":"N10","v":122},{"$f":"COUNTIF(L29:L40,AD10)","v":0},null,null,null,{"$f":"N10","v":122},{"$f":"COUNTIF(L41:L51,AI10)","v":1},null,null,null,{"$f":"N10","v":122},{"$f":"COUNTIF(L52:L62,AN10)","v":3},null,null,null,{"$f":"N10","v":122},{"$f":"COUNTIF(L63:L73,AS10)","v":0}]
[11,438,11,442,12,452,null,null,null,null,0,111,null,211,{"$f":"COUNTIF($L$7:$L$500,N11)","v":2},{"$f":"O11/$Q$4","v":2.9850746268656716E-2},{"$f":"IF(P11=0,0,(P11*((LOG(P11))/LOG(2))))","v":-0.15122654299873947},null,null,{"$f":"N11","v":211},{"$f":"COUNTIF(L7:L17,T11)","v":0},{"$f":"U11/(W4-U10)","v":0},{"$f":"IF(V11=0,0,(V11*((LOG(V11))/LOG(2))))","v":0},null,{"$f":"N11","v":211},{"$f":"COUNTIF(L18:L28,Y11)","v":0},{"$f":"Z11/(AB4-Z10)","v":0},{"$f":"IF(AA11=0,0,(AA11*((LOG(AA11))/LOG(2))))","v":0},null,{"$f":"N11","v":211},{"$f":"COUNTIF(L29:L40,AD11)","v":0},{"$f":"AE11/(AG4-AE10)","v":0},{"$f":"IF(AF11=0,0,(AF11*((LOG(AF11))/LOG(2))))","v":0},null,{"$f":"N11","v":211},{"$f":"COUNTIF(L41:L51,AI11)","v":0},{"$f":"AJ11/(AL4-AJ10)","v":0},{"$f":"IF(AK11=0,0,(AK11*((LOG(AK11))/LOG(2))))","v":0},null,{"$f":"N11","v":211},{"$f":"COUNTIF(L52:L62,AN11)","v":1},{"$f":"AO11/(AQ4-AO10)","v":0.125},{"$f":"IF(AP11=0,0,(AP11*((LOG(AP11))/LOG(2))))","v":-0.375},null,{"$f":"N11","v":211},{"$f":"COUNTIF(L63:L73,AS11)","v":1},{"$f":"AT11/(AV4-AT10)","v":9.0909090909090912E-2},{"$f":"IF(AU11=0,0,(AU11*((LOG(AU11))/LOG(2))))","v":-0.31449378351248153}]
[11,550,22,562,23,699,null,null,null,null,0,122,null,212,{"$f":"COUNTIF($L$7:$L$500,N12)","v":1},{"$f":"O12/$Q$4","v":1.4925373134328358E-2},{"$f":"IF(P12=0,0,(P12*((LOG(P12))/LOG(2))))","v":-9.0538644633698095E-2},null,null,{"$f":"N12","v":212},{"$f":"COUNTIF(L7:L17,T12)","v":0},{"$f":"U12/(W4-U10)","v":0},{"$f":"IF(V12=0,0,(V12*((LOG(V12))/LOG(2))))","v":0},null,{"$f":"N12","v":212},{"$f":"COUNTIF(L18:L28,Y12)","v":0},{"$f":"Z12/(AB4-Z10)","v":0},{"$f":"IF(AA12=0,0,(AA12*((LOG(AA12))/LOG(2))))","v":0},null,{"$f":"N12","v":212},{"$f":"COUNTIF(L29:L40,AD12)","v":0},{"$f":"AE12/(AG4-AE10)","v":0},{"$f":"IF(AF12=0,0,(AF12*((LOG(AF12))/LOG(2))))","v":0},null,{"$f":"N12","v":212},{"$f":"COUNTIF(L41:L51,AI12)","v":0},{"$f":"AJ12/(AL4-AJ10)","v":0},{"$f":"IF(AK12=0,0,(AK12*((LOG(AK12))/LOG(2))))","v":0},null,{"$f":"N12","v":212},{"$f":"COUNTIF(L52:L62,AN12)","v":0},{"$f":"AO12/(AQ4-AO10)","v":0},{"$f":"IF(AP12=0,0,(AP12*((LOG(AP12))/LOG(2))))","v":0},null,{"$f":"N12","v":212},{"$f":"COUNTIF(L63:L73,AS12)","v":1},{"$f":"AT12/(AV4-AT10)","v":9.0909090909090912E-2},{"$f":"IF(AU12=0,0,(AU12*((LOG(AU12))/LOG(2))))","v":-0.31449378351248153}]
[11,800,11,813,21,822,null,null,null,null,0,112,null,221,{"$f":"COUNTIF($L$7:$L$500,N13)","v":1},{"$f":"O13/$Q$4","v":1.4925373134328358E-2},{"$f":"IF(P13=0,0,(P13*((LOG(P13))/LOG(2))))","v":-9.0538644633698095E-2},null,null,{"$f":"N13","v":221},{"$f":"COUNTIF(L7:L17,T13)","v":0},{"$f":"U13/(W4-U10)","v":0},{"$f":"IF(V13=0,0,(V13*((LOG(V13))/LOG(2))))","v":0},null,{"$f":"N13","v":221},{"$f":"COUNTIF(L18:L28,Y13)","v":0},{"$f":"Z13/(AB4-Z10)","v":0},{"$f":"IF(AA13=0,0,(AA13*((LOG(AA13))/LOG(2))))","v":0},null,{"$f":"N13","v":221},{"$f":"COUNTIF(L29:L40,AD13)","v":0},{"$f":"AE13/(AG4-AE10)","v":0},{"$f":"IF(AF13=0,0,(AF13*((LOG(AF13))/LOG(2))))","v":0},null,{"$f":"N13","v":221},{"$f":"COUNTIF(L41:L51,AI13)","v":0},{"$f":"AJ13/(AL4-AJ10)","v":0},{"$f":"IF(AK13=0,0,(AK13*((LOG(AK13))/LOG(2))))","v":0},null,{"$f":"N13","v":221},{"$f":"COUNTIF(L52:L62,AN13)","v":1},{"$f":"AO13/(AQ4-AO10)","v":0.125},{"$f":"IF(AP13=0,0,(AP13*((LOG(AP13))/LOG(2))))","v":-0.375},null,{"$f":"N13","v":221},{"$f":"COUNTIF(L63:L73,AS13)","v":0},{"$f":"AT13/(AV4-AT10)","v":0},{"$f":"IF(AU13=0,0,(AU13*((LOG(AU13))/LOG(2))))","v":0}]
[11,914,11,918,21,926,null,null,null,null,0,112,null,222,{"$f":"COUNTIF($L$7:$L$500,N14)","v":1},{"$f":"O14/$Q$4","v":1.4925373134328358E-2},{"$f":"IF(P14=0,0,(P14*((LOG(P14))/LOG(2))))","v":-9.0538644633698095E-2},null,null,{"$f":"N14","v":222},{"$f":"COUNTIF(L7:L17,T14)","v":0},{"$f":"U14/(W4-U10)","v":0},{"$f":"IF(V14=0,0,(V14*((LOG(V14))/LOG(2))))","v":0},null,{"$f":"N14","v":222},{"$f":"COUNTIF(L18:L28,Y14)","v":0},{"$f":"Z14/(AB4-Z10)","v":0},{"$f":"IF(AA14=0,0,(AA14*((LOG(AA14))/LOG(2))))","v":0},null,{"$f":"N14","v":222},{"$f":"COUNTIF(L29:L40,AD14)","v":0},{"$f":"AE14/(AG4-AE10)","v":0},{"$f":"IF(AF14=0,0,(AF14*((LOG(AF14))/LOG(2))))","v":0},null,{"$f":"N14","v":222},{"$f":"COUNTIF(L41:L51,AI14)","v":0},{"$f":"AJ14/(AL4-AJ10)","v":0},{"$f":"IF(AK14=0,0,(AK14*((LOG(AK14))/LOG(2))))","v":0},null,{"$f":"N14","v":222},{"$f":"COUNTIF(L52:L62,AN14)","v":0},{"$f":"AO14/(AQ4-AO10)","v":0},{"$f":"IF(AP14=0,0,(AP14*((LOG(AP14))/LOG(2))))","v":0},null,{"$f":"N14","v":222},{"$f":"COUNTIF(L63:L73,AS14)","v":1},{"$f":"AT14/(AV4-AT10)","v":9.0909090909090912E-2},{"$f":"IF(AU14=0,0,(AU14*((LOG(AU14))/LOG(2))))","v":-0.31449378351248153}]
[11,1018,11,1022,21,1031,null,null,null,null,0,112,null,null,null,{"$f":"SUM(P7:P14)","v":1},{"$f":"-SUM(Q7:Q14)","v":1.8782928314292948},null,null,null,null,{"$f":"SUM(V7:V14)","v":1},{"$f":"-SUM(W7:W14)","v":0.76420450650862026},null,null,null,{"$f":"SUM(AA7:AA14)","v":1},{"$f":"-SUM(AB7:AB14)","v":0.8812908992306927},null,null,null,{"$f":"SUM(AF7:AF14)","v":1},{"$f":"-SUM(AG7:AG14)","v":1.1887218755408671},null,null,null,{"$f":"SUM(AK7:AK14)","v":1},{"$f":"-SUM(AL7:AL14)","v":0.72192809488736231},null,null,null,{"$f":"SUM(AP7:AP14)","v":1},{"$f":"-SUM(AQ7:AQ14)","v":1.0612781244591329},null,null,null,{"$f":"SUM(AU7:AU14)","v":1},{"$f":"-SUM(AV7:AV14)","v":2.2998963911678909}]
[11,1122,11,1126,21,1137,null,null,null,null,0,112,null,null,null,"U=",{"$f":"Q15/(LOG(Q4)/LOG(2))","v":0.30963818243621161},null,null,null,null,"U1=",{"$f":"W15/(LOG(W4)/LOG(2))","v":0.22090464294526149},null,null,null,"U2=",{"$f":"AB15/(LOG(AB4)/LOG(2))","v":0.25475020072165538},null,null,null,"U3=",{"$f":"AG15/(LOG(AG4)/LOG(2))","v":0.3315855815233052},null,null,null,"U4=",{"$f":"AL15/(LOG(AL4)/LOG(2))","v":0.20868401936261902},null,null,null,"U5=",{"$f":"AQ15/(LOG(AQ4)/LOG(2))","v":0.306778176721753},null,null,null,"U6=",{"$f":"AV15/(LOG(AV4)/LOG(2))","v":0.66481915086208332}]
[11,1225,11,1229,12,1235,null,null,null,null,0,111]
[11,1332,11,1343,12,1423,null,null,null,null,0,111]
[11,1520,11,1524,21,1536,null,null,null,null,0,112,null,"Total Target Seq"]
[11,1629,11,1633,21,1642,null,null,null,null,0,112,null,{"$f":"COUNTIF(L7:L73,G3)","v":7},null,11,11,12,11,11,11]
[11,1732,11,1736,21,1744,null,null,null,null,0,112,null,null,null,"% of reinforcement given in 6 equal intervals based on number of trials "]
[11,1830,11,1834,12,1842,null,null,null,null,0,111,null,null,null,"%_1","%_2","%_3","%_4","%_5","%_6"]
[11,1939,11,1950,21,1961,null,null,null,null,0,112,null,null,"target sequence",{"$f":"$G$3","v":122},{"$f":"$G$3","v":122},{"$f":"$G$3","v":122},{"$f":"$G$3","v":122},{"$f":"$G$3","v":122},{"$f":"$G$3","v":122}]
[11,2053,11,2056,12,2063,null,null,null,null,0,111,null,null,"total reinforcement",{"$f":"U10","v":2},{"$f":"Z10","v":1},{"$f":"AE10","v":0},{"$f":"AJ10","v":1},{"$f":"AO10","v":3},{"$f":"AT10","v":0}]
[11,2161,11,2173,21,2184,null,null,null,null,0,112,null,null,"% target"]
[11,2271,11,2276,21,2286,null,null,null,null,0,112,null,null,"CCRF"]
[11,2381,22,2389,23,2411,null,null,null,null,0,122,null,null,"% CCRf"]
[11,2508,11,2512,21,2521,null,null,null,null,0,112,null,null,"average response rate",{"$f":"F17/P20","v":112.27272727272727},{"$f":"(F28-F17)/Q20","v":116.90909090909091},{"$f":"(F40-F28)/R20","v":113.41666666666667},{"$f":"(F51-F40)/S20","v":106.09090909090909},{"$f":"(F62-F51)/T20","v":125.54545454545455},{"$f":"(F73-F62)/U20","v":131.54545454545453}]
[11,2611,11,2615,12,2625,null,null,null,null,0,111]
[11,2717,11,2721,12,2725,null,null,null,null,0,111]
[11,2824,11,2828,21,2836,null,null,null,null,0,112]
[11,2928,22,2936,14,3065,null,null,null,null,0,121]
[11,3160,11,3164,21,3173,null,null,null,null,0,112]
[11,3257,11,3261,21,3271,null,null,null,null,0,112]
[11,3359,11,3363,21,3371,null,null,null,null,0,112]
[11,3460,11,3468,21,3477,null,null,null,null,0,112]
[11,3567,11,3571,21,3580,null,null,null,null,0,112]
[11,3673,11,3677,21,3685,null,null,null,null,0,112]
[11,3774,11,3778,21,3786,null,null,null,null,0,112]
[11,3868,11,3873,12,3882,null,null,null,null,0,111]
[11,3980,11,3984,21,3992,null,null,null,null,0,112]
[11,4081,11,4085,21,4095,null,null,null,null,0,112]
[11,4184,22,4193,23,4217,null,null,null,null,0,122]
[11,4317,11,4321,21,4330,null,null,null,null,0,112]
[11,4420,11,4424,21,4433,null,null,null,null,0,112]
[11,4523,11,4527,21,4535,null,null,null,null,0,112]
[11,4624,11,4628,21,4637,null,null,null,null,0,112]
[11,4725,11,4729,12,4738,null,null,null,null,0,111]
[11,4833,11,4837,21,4846,null,null,null,null,0,112]
[11,4937,11,4941,21,4950,null,null,null,null,0,112]
[11,5036,11,5040,12,5049,null,null,null,null,0,111]
[11,5151,11,5155,21,5163,null,null,null,null,0,112]
[11,5253,11,5257,21,5265,null,null,null,null,0,112]
[11,5355,11,5359,21,5368,null,null,null,null,0,112]
[11,5463,11,5468,21,5476,null,null,null,null,0,112]
[11,5564,22,5577,23,5718,null,null,null,null,0,122]
[11,5816,22,5825,23,5877,null,null,null,null,0,122]
[11,5972,22,5985,23,6003,null,null,null,null,0,122]
[22,6095,13,6103,14,6112,null,null,null,null,0,211]
[22,6204,24,6209,14,6216,null,null,null,null,0,221]
[11,6315,11,6319,21,6327,null,null,null,null,0,112]
[11,6416,11,6420,21,6430,null,null,null,null,0,112]
[11,6522,22,6532,14,6555,null,null,null,null,0,121]
[22,6653,13,6660,23,6669,null,null,null,null,0,212]
[11,6772,22,6781,14,6920,null,null,null,null,0,121]
[22,7015,13,7023,14,7030,null,null,null,null,0,211]
[11,7124,11,7128,21,7137,null,null,null,null,0,112]
[11,7230,11,7240,12,7248,null,null,null,null,0,111]
[22,7342,24,7355,23,7363,null,null,null,null,0,222]
[11,7460,22,7475,14,7565,null,null,null,null,0,121]
[11,7660,11,7664,21,7672,null,null,null,null,0,112]
[11,7764,11,7768,21,7777,null,null,null,null,0,112]
[11,7865,11,7869,21,7877,null,null,null,null,1,112]