{"text_format":"1","workbook":"xlsx","n_sheets":63,"sheets":["Sample Report","Summary","Start","!MB29B40.105","!MB30C20.105","!MC01B50.105","!MC02B50.105","!MC03950.105","!MC04B40.105","!MC05A10.105","!MC06B10.105","!MC07B30.105","!MC08B20.105","!MC09B20.105","!MC10C10.105","!MC11B10.105","!MC12A10.105","!MC13B30.105","!MC14B00.105","!MC15C20.105","!MC16A20.105","!MC17950.105","!MC18B40.105","!MC19B20.105","!MC20B00.105","!MC21B50.105","!MC22A30.105","!MC23A50.105","!MC24A40.105","!MC27A50.105","!MC28A20.105","!MC29A00.105","!MC30A00.105","!MC31A00.105","!N102A20.105","!N103A10.105","!N103A30.105","!N104B30.105","!N105A10.105","!N106840.105","!N107910.105","!N108A10.105","!N109900.105","!N110A10.105","!N111C00.105","!N112850.105","!N113A30.105","!N114920.105","!N115940.105","!N116920.105","!N117B40.105","!N118B10.105","!N119930.105","!N120A40.105","!N121B10.105","!N122930.105","!N123B00.105","!N124950.105","!N125A20.105","!N127A30.105","!N128900.105","!N129A40.105","!N130A40.105"],"not_rendered":{"charts":0,"images":0,"macros":1,"external_links":0,"defined_names":0,"comments":0,"pivot_tables":0},"unopened":[],"bounds":{"document_bytes":16777216,"sheet_cells":100000,"rows_first":2000,"rows_last":500,"rows_between":2000,"halvings":0,"cell_chars":16384,"cell_head_chars":4096},"cells_cut":0,"cells_raw":0,"read":"whole","date_system":"1900"}

{"sheet":"Sample Report","index":0,"n_rows":12,"n_cols":11,"rows_kept":12,"cut":false,"hidden":true,"merged":[[7,0,7,6]]}
[]
["Date"]
["Hen"]
["Program"]
["Start at 999999"]
["Sequence component 1","Time 1","Seqeunce Component 2","Time 2","Seqeunce Component 3","Time 3","Correct   0 = No 1=Yes",null,null,"Seqeunce","Time"]
[12,7,12,42,13,18,"if 77 new line,                                  if 31 or 41 = yes new line on 77, ",null,null,"=string of Seqeunce compponent 1, 2 & 3","=time 3"]
["This continues until ther is a 1 on its own to indicate start of summary data"]
[null,null,null,null,null,null,null,null,null,"10-19 =1"]
["Summary Data ",null,null,null,null,null,null,null,null,"20-29 =2"]
["Correct","Incorrect","Rft","total","Av Correct","Av Incorrect","Percent correct","Time",null,"in this example the seqeunce would be 111"]
[40,33,40,73,23.95,15,54,806]

{"sheet":"Summary","index":1,"n_rows":62,"n_cols":24,"rows_kept":62,"cut":false,"hidden":false,"merged":[]}
[]
["Day","Date","Average Response Rate","Target %","RF for non correct sequence","U Value",null,null,null,null,"Block 1","Block 2","Block 3","Block 4","Block 5","Block 6"]
[1,{"$f":"'!MB29B40.105'!B2:C2","v":"<date>"},{"$f":"('!MB29B40.105'!D7/60)/'!MB29B40.105'!Q3","v":8.9126559714795004E-4},{"$f":"'!MB29B40.105'!N20/'!MB29B40.105'!Q3","v":8.5561497326203204E-2},{"$f":"SUM('!MB29B40.105'!L20:Q20)/'!MB29B40.105'!Q3","v":0.53475935828877008},{"$f":"'!MB29B40.105'!Q16","v":0.20173162190341107},null,null,null,"Average Response Rate",{"$f":"AVERAGE(C3:C7)","v":3.4015406056036738E-3},{"$f":"AVERAGE(C8:C12)","v":5.4904068265892352E-3},{"$f":"AVERAGE(C13:C17)","v":1.0444500374649732E-2},{"$f":"AVERAGE(C18:C22)","v":1.1416720584517946E-2},{"$f":"AVERAGE(C23:C27)","v":1.2960847052918664E-2},{"$f":"AVERAGE(C28:C32)","v":1.5828061355307139E-2}]
[2,{"$f":"'!MB30C20.105'!B2:C2","v":"<date>"},{"$f":"('!MB30C20.105'!D7/60)/'!MB30C20.105'!Q3","v":2.4324324324324323E-3},{"$f":"'!MB30C20.105'!N20/'!MB30C20.105'!Q3","v":0.12972972972972974},{"$f":"SUM('!MB30C20.105'!L20:Q20)/'!MB30C20.105'!Q3","v":0.57837837837837835},{"$f":"'!MB30C20.105'!Q16","v":0.20756895173063039},null,null,null,"Target %",{"$f":"AVERAGE(D3:D7)","v":0.26085698018157089},{"$f":"AVERAGE(D8:D12)","v":0.59377781683530473},{"$f":"AVERAGE(D13:D17)","v":0.68029761244676001},{"$f":"AVERAGE(D18:D22)","v":0.87897213651876793},{"$f":"AVERAGE(D23:D27)","v":0.85960407878566447},{"$f":"AVERAGE(D28:D32)","v":0.82225740072867293}]
[3,{"$f":"'!MC01B50.105'!B2:C2","v":"<date>"},{"$f":"('!MC01B50.105'!D7/60)/'!MC01B50.105'!Q3","v":2.5000000000000001E-3},{"$f":"'!MC01B50.105'!N20/'!MC01B50.105'!Q3","v":0.24374999999999999},{"$f":"SUM('!MC01B50.105'!L20:Q20)/'!MC01B50.105'!Q3","v":0.70625000000000004},{"$f":"'!MC01B50.105'!Q16","v":0.23093214614254925},null,null,null,"CCRF",{"$f":"AVERAGE(E3:E7)","v":0.75811372352836881},{"$f":"AVERAGE(E8:E12)","v":1.1780096050482098},{"$f":"AVERAGE(E13:E17)","v":1.2171805496577148},{"$f":"AVERAGE(E18:E22)","v":1.5178312142612083},{"$f":"AVERAGE(E23:E27)","v":1.4546489742141915},{"$f":"AVERAGE(E28:E32)","v":1.4074181739879414}]
[4,{"$f":"'!MC02B50.105'!B2:C2","v":"<date>"},{"$f":"('!MC02B50.105'!D7/60)/'!MC02B50.105'!Q3","v":3.6082474226804121E-3},{"$f":"'!MC02B50.105'!N20/'!MC02B50.105'!Q3","v":0.40206185567010311},{"$f":"SUM('!MC02B50.105'!L20:Q20)/'!MC02B50.105'!Q3","v":0.94845360824742264},{"$f":"'!MC02B50.105'!Q16","v":0.26635574723087774},null,null,null,"U Value",{"$f":"AVERAGE(F3:F7)","v":0.22960189207884377},{"$f":"AVERAGE(F8:F12)","v":0.24143183699671728},{"$f":"AVERAGE(F13:F17)","v":0.21941484048713028},{"$f":"AVERAGE(F18:F22)","v":0.11081706176104911},{"$f":"AVERAGE(F23:F27)","v":0.11479420303273916},{"$f":"AVERAGE(F28:F32)","v":0.13223544722324779}]
[5,{"$f":"'!MC03950.105'!B2:C2","v":"<date>"},{"$f":"('!MC03950.105'!D7/60)/'!MC03950.105'!Q3","v":7.5757575757575751E-3},{"$f":"'!MC03950.105'!N20/'!MC03950.105'!Q3","v":0.44318181818181818},{"$f":"SUM('!MC03950.105'!L20:Q20)/'!MC03950.105'!Q3","v":1.0227272727272727},{"$f":"'!MC03950.105'!Q16","v":0.24142099338675041}]
[6,{"$f":"'!MC04B40.105'!B2:C2","v":"<date>"},{"$f":"('!MC04B40.105'!D7/60)/'!MC04B40.105'!Q3","v":3.5460992907801418E-3},{"$f":"'!MC04B40.105'!N20/'!MC04B40.105'!Q3","v":0.41489361702127658},{"$f":"SUM('!MC04B40.105'!L20:Q20)/'!MC04B40.105'!Q3","v":0.96808510638297873},{"$f":"'!MC04B40.105'!Q16","v":0.26623738182355611}]
[7,{"$f":"'!MC05A10.105'!B2:C2","v":"<date>"},{"$f":"('!MC05A10.105'!D7/60)/'!MC05A10.105'!Q3","v":7.3839662447257393E-3},{"$f":"'!MC05A10.105'!N20/'!MC05A10.105'!Q3","v":0.49367088607594939},{"$f":"SUM('!MC05A10.105'!L20:Q20)/'!MC05A10.105'!Q3","v":1.0886075949367089},{"$f":"'!MC05A10.105'!Q16","v":0.26837035657523656},{"$f":"K3","v":3.4015406056036738E-3},5.4904068265892352E-3,1.0444500374649732E-2,1.1416720584517946E-2,1.2960847052918664E-2,1.5828061355307139E-2,{"$f":"K4","v":0.26085698018157089},0.59377781683530473,0.68029761244676001,0.87897213651876793,0.85960407878566447,0.82225740072867293,{"$f":"K6","v":0.22960189207884377},0.24143183699671728,0.21941484048713028,0.11081706176104911,0.11479420303273916,0.13223544722324779]
[8,{"$f":"'!MC06B10.105'!B2:C2","v":"<date>"},{"$f":"('!MC06B10.105'!D7/60)/'!MC06B10.105'!Q3","v":3.8461538461538464E-3},{"$f":"'!MC06B10.105'!N20/'!MC06B10.105'!Q3","v":0.61538461538461542},{"$f":"SUM('!MC06B10.105'!L20:Q20)/'!MC06B10.105'!Q3","v":1.2769230769230768},{"$f":"'!MC06B10.105'!Q16","v":0.25882588231770309}]
[9,{"$f":"'!MC07B30.105'!B2:C2","v":"<date>"},{"$f":"('!MC07B30.105'!D7/60)/'!MC07B30.105'!Q3","v":6.9182389937106912E-3},{"$f":"'!MC07B30.105'!N20/'!MC07B30.105'!Q3","v":0.73584905660377353},{"$f":"SUM('!MC07B30.105'!L20:Q20)/'!MC07B30.105'!Q3","v":1.3018867924528301},{"$f":"'!MC07B30.105'!Q16","v":0.21223266806222688}]
[10,{"$f":"'!MC08B20.105'!B2:C2","v":"<date>"},{"$f":"('!MC08B20.105'!D7/60)/'!MC08B20.105'!Q3","v":5.7575757575757574E-3},{"$f":"'!MC08B20.105'!N20/'!MC08B20.105'!Q3","v":0.70909090909090911},{"$f":"SUM('!MC08B20.105'!L20:Q20)/'!MC08B20.105'!Q3","v":1.2545454545454546},{"$f":"'!MC08B20.105'!Q16","v":0.20149289620486363}]
[11,{"$f":"'!MC09B20.105'!B2:C2","v":"<date>"},{"$f":"('!MC09B20.105'!D7/60)/'!MC09B20.105'!Q3","v":7.3099415204678367E-3},{"$f":"'!MC09B20.105'!N20/'!MC09B20.105'!Q3","v":0.68421052631578949},{"$f":"SUM('!MC09B20.105'!L20:Q20)/'!MC09B20.105'!Q3","v":1.2105263157894737},{"$f":"'!MC09B20.105'!Q16","v":0.23522112069819476}]
[12,{"$f":"'!MC10C10.105'!B2:C2","v":"<date>"},{"$f":"('!MC10C10.105'!D7/60)/'!MC10C10.105'!Q3","v":8.7431693989071038E-3},{"$f":"'!MC10C10.105'!N20/'!MC10C10.105'!Q3","v":0.63934426229508201},{"$f":"SUM('!MC10C10.105'!L20:Q20)/'!MC10C10.105'!Q3","v":1.1639344262295082},{"$f":"'!MC10C10.105'!Q16","v":0.25524518793892764}]
[13,{"$f":"'!MC11B10.105'!B2:C2","v":"<date>"},{"$f":"('!MC11B10.105'!D7/60)/'!MC11B10.105'!Q3","v":9.3939393939393954E-3},{"$f":"'!MC11B10.105'!N20/'!MC11B10.105'!Q3","v":0.70909090909090911},{"$f":"SUM('!MC11B10.105'!L20:Q20)/'!MC11B10.105'!Q3","v":1.2545454545454546},{"$f":"'!MC11B10.105'!Q16","v":0.19416124935569404}]
[14,{"$f":"'!MC12A10.105'!B2:C2","v":"<date>"},{"$f":"('!MC12A10.105'!D7/60)/'!MC12A10.105'!Q3","v":9.821428571428573E-3},{"$f":"'!MC12A10.105'!N20/'!MC12A10.105'!Q3","v":0.6964285714285714},{"$f":"SUM('!MC12A10.105'!L20:Q20)/'!MC12A10.105'!Q3","v":1.25},{"$f":"'!MC12A10.105'!Q16","v":0.20359165410855495}]
[15,{"$f":"'!MC13B30.105'!B2:C2","v":"<date>"},{"$f":"('!MC13B30.105'!D7/60)/'!MC13B30.105'!Q3","v":1.6954022988505745E-2},{"$f":"'!MC13B30.105'!N20/'!MC13B30.105'!Q3","v":0.67241379310344829},{"$f":"SUM('!MC13B30.105'!L20:Q20)/'!MC13B30.105'!Q3","v":1.2068965517241379},{"$f":"'!MC13B30.105'!Q16","v":0.20885499033428004}]
[16,{"$f":"'!MC14B00.105'!B2:C2","v":"<date>"},{"$f":"('!MC14B00.105'!D7/60)/'!MC14B00.105'!Q3","v":1.0544217687074831E-2},{"$f":"'!MC14B00.105'!N20/'!MC14B00.105'!Q3","v":0.77551020408163263},{"$f":"SUM('!MC14B00.105'!L20:Q20)/'!MC14B00.105'!Q3","v":1.5306122448979591},{"$f":"'!MC14B00.105'!Q16","v":0.17657743248260621}]
[17,{"$f":"'!MC15C20.105'!B2:C2","v":"<date>"},{"$f":"('!MC15C20.105'!D7/60)/'!MC15C20.105'!Q3","v":8.9147286821705425E-3},{"$f":"'!MC15C20.105'!N20/'!MC15C20.105'!Q3","v":0.90697674418604646},{"$f":"SUM('!MC15C20.105'!L20:Q20)/'!MC15C20.105'!Q3","v":1.5116279069767442},{"$f":"'!MC15C20.105'!Q16","v":9.6189386806520519E-2}]
[18,{"$f":"'!MC16A20.105'!B2:C2","v":"<date>"},{"$f":"('!MC16A20.105'!D7/60)/'!MC16A20.105'!Q3","v":1.0077519379844961E-2},{"$f":"'!MC16A20.105'!N20/'!MC16A20.105'!Q3","v":0.90697674418604646},{"$f":"SUM('!MC16A20.105'!L20:Q20)/'!MC16A20.105'!Q3","v":1.5116279069767442},{"$f":"'!MC16A20.105'!Q16","v":9.9424673711921624E-2}]
[19,{"$f":"'!MC17950.105'!B2:C2","v":"<date>"},{"$f":"('!MC17950.105'!D7/60)/'!MC17950.105'!Q3","v":1.4539007092198582E-2},{"$f":"'!MC17950.105'!N20/'!MC17950.105'!Q3","v":0.82978723404255317},{"$f":"SUM('!MC17950.105'!L20:Q20)/'!MC17950.105'!Q3","v":1.425531914893617},{"$f":"'!MC17950.105'!Q16","v":0.15101646102468741}]
[20,{"$f":"'!MC18B40.105'!B2:C2","v":"<date>"},{"$f":"('!MC18B40.105'!D7/60)/'!MC18B40.105'!Q3","v":1.3008130081300813E-2},{"$f":"'!MC18B40.105'!N20/'!MC18B40.105'!Q3","v":0.97560975609756095},{"$f":"SUM('!MC18B40.105'!L20:Q20)/'!MC18B40.105'!Q3","v":1.6097560975609757},{"$f":"'!MC18B40.105'!Q16","v":3.0877354779509855E-2}]
[21,{"$f":"'!MC19B20.105'!B2:C2","v":"<date>"},{"$f":"('!MC19B20.105'!D7/60)/'!MC19B20.105'!Q3","v":1.0144927536231885E-2},{"$f":"'!MC19B20.105'!N20/'!MC19B20.105'!Q3","v":0.84782608695652173},{"$f":"SUM('!MC19B20.105'!L20:Q20)/'!MC19B20.105'!Q3","v":1.4347826086956521},{"$f":"'!MC19B20.105'!Q16","v":0.13853015822844644}]
[22,{"$f":"'!MC20B00.105'!B2:C2","v":"<date>"},{"$f":"('!MC20B00.105'!D7/60)/'!MC20B00.105'!Q3","v":1.5079365079365078E-2},{"$f":"'!MC20B00.105'!N20/'!MC20B00.105'!Q3","v":0.9285714285714286},{"$f":"SUM('!MC20B00.105'!L20:Q20)/'!MC20B00.105'!Q3","v":1.5476190476190477},{"$f":"'!MC20B00.105'!Q16","v":8.1008748552323234E-2}]
[23,{"$f":"'!MC21B50.105'!B2:C2","v":"<date>"},{"$f":"('!MC21B50.105'!D7/60)/'!MC21B50.105'!Q3","v":1.8181818181818184E-2},{"$f":"'!MC21B50.105'!N20/'!MC21B50.105'!Q3","v":0.90909090909090906},{"$f":"SUM('!MC21B50.105'!L20:Q20)/'!MC21B50.105'!Q3","v":1.5227272727272727},{"$f":"'!MC21B50.105'!Q16","v":8.0502333873212623E-2}]
[24,{"$f":"'!MC22A30.105'!B2:C2","v":"<date>"},{"$f":"('!MC22A30.105'!D7/60)/'!MC22A30.105'!Q3","v":9.8039215686274508E-3},{"$f":"'!MC22A30.105'!N20/'!MC22A30.105'!Q3","v":0.76470588235294112},{"$f":"SUM('!MC22A30.105'!L20:Q20)/'!MC22A30.105'!Q3","v":1.3333333333333333},{"$f":"'!MC22A30.105'!Q16","v":0.13876367492704575}]
[25,{"$f":"'!MC23A50.105'!B2:C2","v":"<date>"},{"$f":"('!MC23A50.105'!D7/60)/'!MC23A50.105'!Q3","v":1.1594202898550725E-2},{"$f":"'!MC23A50.105'!N20/'!MC23A50.105'!Q3","v":0.84782608695652173},{"$f":"SUM('!MC23A50.105'!L20:Q20)/'!MC23A50.105'!Q3","v":1.4347826086956521},{"$f":"'!MC23A50.105'!Q16","v":0.13516609958266765}]
[26,{"$f":"'!MC24A40.105'!B2:C2","v":"<date>"},{"$f":"('!MC24A40.105'!D7/60)/'!MC24A40.105'!Q3","v":1.4772727272727272E-2},{"$f":"'!MC24A40.105'!N20/'!MC24A40.105'!Q3","v":0.88636363636363635},{"$f":"SUM('!MC24A40.105'!L20:Q20)/'!MC24A40.105'!Q3","v":1.5},{"$f":"'!MC24A40.105'!Q16","v":9.3560622906292315E-2}]
[27,{"$f":"'!MC27A50.105'!B2:C2","v":"<date>"},{"$f":"('!MC27A50.105'!D7/60)/'!MC27A50.105'!Q3","v":1.1805555555555555E-2},{"$f":"'!MC27A50.105'!N20/'!MC27A50.105'!Q3","v":0.8125},{"$f":"SUM('!MC27A50.105'!L20:Q20)/'!MC27A50.105'!Q3","v":1.3958333333333333},{"$f":"'!MC27A50.105'!Q16","v":0.1503144568987011}]
[28,{"$f":"'!MC28A20.105'!B2:C2","v":"<date>"},{"$f":"('!MC28A20.105'!D7/60)/'!MC28A20.105'!Q3","v":1.124031007751938E-2},{"$f":"'!MC28A20.105'!N20/'!MC28A20.105'!Q3","v":0.90697674418604646},{"$f":"SUM('!MC28A20.105'!L20:Q20)/'!MC28A20.105'!Q3","v":1.5116279069767442},{"$f":"'!MC28A20.105'!Q16","v":9.6189386806520519E-2}]
[29,{"$f":"'!MC29A00.105'!B2:C2","v":"<date>"},{"$f":"('!MC29A00.105'!D7/60)/'!MC29A00.105'!Q3","v":2.1568627450980395E-2},{"$f":"'!MC29A00.105'!N20/'!MC29A00.105'!Q3","v":0.76470588235294112},{"$f":"SUM('!MC29A00.105'!L20:Q20)/'!MC29A00.105'!Q3","v":1.3333333333333333},{"$f":"'!MC29A00.105'!Q16","v":0.13876367492704575}]
[30,{"$f":"'!MC30A00.105'!B2:C2","v":"<date>"},{"$f":"('!MC30A00.105'!D7/60)/'!MC30A00.105'!Q3","v":1.9753086419753086E-2},{"$f":"'!MC30A00.105'!N20/'!MC30A00.105'!Q3","v":0.7407407407407407},{"$f":"SUM('!MC30A00.105'!L20:Q20)/'!MC30A00.105'!Q3","v":1.2962962962962963},{"$f":"'!MC30A00.105'!Q16","v":0.18234909457767925}]
[null,{"$f":"'!MC31A00.105'!B2:C2","v":"<date>"},{"$f":"('!MC31A00.105'!D98/60)/'!MC31A00.105'!Q3","v":4.0434782608695654},{"$f":"'!MC31A00.105'!N20/'!MC31A00.105'!Q3","v":0.40217391304347827},{"$f":"SUM('!MC31A00.105'!L20:Q20)/'!MC31A00.105'!Q3","v":0.86956521739130432},{"$f":"'!MC31A00.105'!Q16","v":0.27107118598530588}]
[null,{"$f":"'!N102A20.105'!B2:C2","v":"<date>"},{"$f":"('!N102A20.105'!D63/60)/'!N102A20.105'!Q3","v":6.450287356321839},{"$f":"'!N102A20.105'!N20/'!N102A20.105'!Q3","v":0.31034482758620691},{"$f":"SUM('!N102A20.105'!L20:Q20)/'!N102A20.105'!Q3","v":0.82758620689655171},{"$f":"'!N102A20.105'!Q16","v":0.32496730734828311}]
[null,{"$f":"'!N103A10.105'!B2:C2","v":"<date>"},{"$f":"('!N103A10.105'!D7/60)/'!N103A10.105'!Q3","v":0.4},{"$f":"'!N103A10.105'!N20/'!N103A10.105'!Q3","v":1},{"$f":"SUM('!N103A10.105'!L20:Q20)/'!N103A10.105'!Q3","v":1},{"$f":"'!N103A10.105'!Q16","v":{"$error":"#DIV/0!"}}]
[null,{"$f":"'!N103A30.105'!B2:C2","v":"<date>"},{"$f":"('!N103A30.105'!D87/60)/'!N103A30.105'!Q3","v":4.8777777777777782},{"$f":"'!N103A30.105'!N20/'!N103A30.105'!Q3","v":0.24691358024691357},{"$f":"SUM('!N103A30.105'!L20:Q20)/'!N103A30.105'!Q3","v":0.71604938271604934},{"$f":"'!N103A30.105'!Q16","v":0.27041055427502586}]
[null,{"$f":"'!N104B30.105'!B2:C2","v":"<date>"},{"$f":"('!N104B30.105'!D64/60)/'!N104B30.105'!Q3","v":6.0073446327683619},{"$f":"'!N104B30.105'!N20/'!N104B30.105'!Q3","v":0.3559322033898305},{"$f":"SUM('!N104B30.105'!L20:Q20)/'!N104B30.105'!Q3","v":0.88135593220338981},{"$f":"'!N104B30.105'!Q16","v":0.29843293975944096}]
[null,{"$f":"'!N105A10.105'!B2:C2","v":"<date>"},{"$f":"('!N105A10.105'!D26/60)/'!N105A10.105'!Q3","v":19.134166666666665},{"$f":"'!N105A10.105'!N20/'!N105A10.105'!Q3","v":0.5},{"$f":"SUM('!N105A10.105'!L20:Q20)/'!N105A10.105'!Q3","v":1.95},{"$f":"'!N105A10.105'!Q16","v":0.40323152314247057}]
[null,{"$f":"'!N106840.105'!B2:C2","v":"<date>"},{"$f":"('!N106840.105'!D17/60)/'!N106840.105'!Q3","v":31.953030303030303},{"$f":"'!N106840.105'!N20/'!N106840.105'!Q3","v":0.45454545454545453},{"$f":"SUM('!N106840.105'!L20:Q20)/'!N106840.105'!Q3","v":0.81818181818181823},{"$f":"'!N106840.105'!Q16","v":0.51740553727582239}]
[null,{"$f":"'!N107910.105'!B2:C2","v":"<date>"},{"$f":"('!N107910.105'!D38/60)/'!N107910.105'!Q3","v":11.732291666666667},{"$f":"'!N107910.105'!N20/'!N107910.105'!Q3","v":0.3125},{"$f":"SUM('!N107910.105'!L20:Q20)/'!N107910.105'!Q3","v":1},{"$f":"'!N107910.105'!Q16","v":0.37673265991942795}]
[null,{"$f":"'!N108A10.105'!B2:C2","v":"<date>"},{"$f":"('!N108A10.105'!D46/60)/'!N108A10.105'!Q3","v":8.4708333333333332},{"$f":"'!N108A10.105'!N20/'!N108A10.105'!Q3","v":0.375},{"$f":"SUM('!N108A10.105'!L20:Q20)/'!N108A10.105'!Q3","v":1.2250000000000001},{"$f":"'!N108A10.105'!Q16","v":0.35231937922805689}]
[null,{"$f":"'!N109900.105'!B2:C2","v":"<date>"},{"$f":"('!N109900.105'!D33/60)/'!N109900.105'!Q3","v":12.619135802469135},{"$f":"'!N109900.105'!N20/'!N109900.105'!Q3","v":0.44444444444444442},{"$f":"SUM('!N109900.105'!L20:Q20)/'!N109900.105'!Q3","v":1.2222222222222223},{"$f":"'!N109900.105'!Q16","v":0.32187786904760834}]
[null,{"$f":"'!N110A10.105'!B2:C2","v":"<date>"},{"$f":"('!N110A10.105'!D32/60)/'!N110A10.105'!Q3","v":15.171153846153846},{"$f":"'!N110A10.105'!N20/'!N110A10.105'!Q3","v":0.5},{"$f":"SUM('!N110A10.105'!L20:Q20)/'!N110A10.105'!Q3","v":1.3076923076923077},{"$f":"'!N110A10.105'!Q16","v":0.37509628049692995}]
[null,{"$f":"'!N111C00.105'!B2:C2","v":"<date>"},{"$f":"('!N111C00.105'!D17/60)/'!N111C00.105'!Q3","v":14.426388888888889},{"$f":"'!N111C00.105'!N20/'!N111C00.105'!Q3","v":0.25},{"$f":"SUM('!N111C00.105'!L20:Q20)/'!N111C00.105'!Q3","v":0.58333333333333337},{"$f":"'!N111C00.105'!Q16","v":0.4326678928148463}]
[null,{"$f":"'!N112850.105'!B2:C2","v":"<date>"},{"$f":"('!N112850.105'!D12/60)/'!N112850.105'!Q3","v":38.25277777777778},{"$f":"'!N112850.105'!N20/'!N112850.105'!Q3","v":0},{"$f":"SUM('!N112850.105'!L20:Q20)/'!N112850.105'!Q3","v":0.33333333333333331},{"$f":"'!N112850.105'!Q16","v":0}]
[null,{"$f":"'!N113A30.105'!B2:C2","v":"<date>"},{"$f":"('!N113A30.105'!D14/60)/'!N113A30.105'!Q3","v":38.377083333333331},{"$f":"'!N113A30.105'!N20/'!N113A30.105'!Q3","v":0.5},{"$f":"SUM('!N113A30.105'!L20:Q20)/'!N113A30.105'!Q3","v":0.875},{"$f":"'!N113A30.105'!Q16","v":0.46854635407652218}]
[null,{"$f":"'!N114920.105'!B2:C2","v":"<date>"},{"$f":"('!N114920.105'!D9/60)/'!N114920.105'!Q3","v":4.3611111111111116},{"$f":"'!N114920.105'!N20/'!N114920.105'!Q3","v":0},{"$f":"SUM('!N114920.105'!L20:Q20)/'!N114920.105'!Q3","v":0.33333333333333331},{"$f":"'!N114920.105'!Q16","v":0}]
[null,{"$f":"'!N115940.105'!B2:C2","v":"<date>"},{"$f":"('!N115940.105'!D12/60)/'!N115940.105'!Q3","v":60.594444444444441},{"$f":"'!N115940.105'!N20/'!N115940.105'!Q3","v":0.33333333333333331},{"$f":"SUM('!N115940.105'!L20:Q20)/'!N115940.105'!Q3","v":0.66666666666666663},{"$f":"'!N115940.105'!Q16","v":0.74209812851030543}]
[null,{"$f":"'!N116920.105'!B2:C2","v":"<date>"},{"$f":"('!N116920.105'!D26/60)/'!N116920.105'!Q3","v":16.771666666666668},{"$f":"'!N116920.105'!N20/'!N116920.105'!Q3","v":0.2},{"$f":"SUM('!N116920.105'!L20:Q20)/'!N116920.105'!Q3","v":1.1000000000000001},{"$f":"'!N116920.105'!Q16","v":0.42722583627785621}]
[null,{"$f":"'!N117B40.105'!B2:C2","v":"<date>"},{"$f":"('!N117B40.105'!D13/60)/'!N117B40.105'!Q3","v":51.619047619047613},{"$f":"'!N117B40.105'!N20/'!N117B40.105'!Q3","v":0.2857142857142857},{"$f":"SUM('!N117B40.105'!L20:Q20)/'!N117B40.105'!Q3","v":0.5714285714285714},{"$f":"'!N117B40.105'!Q16","v":0.55449230705816743}]
[null,{"$f":"'!N118B10.105'!B2:C2","v":"<date>"},{"$f":"('!N118B10.105'!D18/60)/'!N118B10.105'!Q3","v":22.56527777777778},{"$f":"'!N118B10.105'!N20/'!N118B10.105'!Q3","v":0.16666666666666666},{"$f":"SUM('!N118B10.105'!L20:Q20)/'!N118B10.105'!Q3","v":0.5},{"$f":"'!N118B10.105'!Q16","v":0.49767860263322633}]
[null,{"$f":"'!N119930.105'!B2:C2","v":"<date>"},{"$f":"('!N119930.105'!D11/60)/'!N119930.105'!Q3","v":71.673333333333332},{"$f":"'!N119930.105'!N20/'!N119930.105'!Q3","v":0.2},{"$f":"SUM('!N119930.105'!L20:Q20)/'!N119930.105'!Q3","v":0.6},{"$f":"'!N119930.105'!Q16","v":0.65545875354128547}]
[null,{"$f":"'!N120A40.105'!B2:C2","v":"<date>"},{"$f":"('!N120A40.105'!D10/60)/'!N120A40.105'!Q3","v":18.683333333333334},{"$f":"'!N120A40.105'!N20/'!N120A40.105'!Q3","v":0.25},{"$f":"SUM('!N120A40.105'!L20:Q20)/'!N120A40.105'!Q3","v":0.5},{"$f":"'!N120A40.105'!Q16","v":0.75}]
[null,{"$f":"'!N121B10.105'!B2:C2","v":"<date>"},{"$f":"('!N121B10.105'!D34/60)/'!N121B10.105'!Q3","v":13.128735632183908},{"$f":"'!N121B10.105'!N20/'!N121B10.105'!Q3","v":0.13793103448275862},{"$f":"SUM('!N121B10.105'!L20:Q20)/'!N121B10.105'!Q3","v":1.2068965517241379},{"$f":"'!N121B10.105'!Q16","v":0.37236318121447243}]
[null,{"$f":"'!N122930.105'!B2:C2","v":"<date>"},{"$f":"('!N122930.105'!D11/60)/'!N122930.105'!Q3","v":47.288888888888891},{"$f":"'!N122930.105'!N20/'!N122930.105'!Q3","v":0.16666666666666666},{"$f":"SUM('!N122930.105'!L20:Q20)/'!N122930.105'!Q3","v":0.5},{"$f":"'!N122930.105'!Q16","v":0.56447546787242353}]
[null,{"$f":"'!N123B00.105'!B2:C2","v":"<date>"},{"$f":"('!N123B00.105'!D20/60)/'!N123B00.105'!Q3","v":14.696428571428571},{"$f":"'!N123B00.105'!N20/'!N123B00.105'!Q3","v":0.14285714285714285},{"$f":"SUM('!N123B00.105'!L20:Q20)/'!N123B00.105'!Q3","v":1.2857142857142858},{"$f":"'!N123B00.105'!Q16","v":0.36213684348110137}]
[null,{"$f":"'!N124950.105'!B2:C2","v":"<date>"},{"$f":"('!N124950.105'!D12/60)/'!N124950.105'!Q3","v":41.533333333333331},{"$f":"'!N124950.105'!N20/'!N124950.105'!Q3","v":0.16666666666666666},{"$f":"SUM('!N124950.105'!L20:Q20)/'!N124950.105'!Q3","v":0.5},{"$f":"'!N124950.105'!Q16","v":0.56447546787242353}]
[null,{"$f":"'!N125A20.105'!B2:C2","v":"<date>"},{"$f":"('!N125A20.105'!D24/60)/'!N125A20.105'!Q3","v":19.512962962962963},{"$f":"'!N125A20.105'!N20/'!N125A20.105'!Q3","v":0.3888888888888889},{"$f":"SUM('!N125A20.105'!L20:Q20)/'!N125A20.105'!Q3","v":1.3888888888888888},{"$f":"'!N125A20.105'!Q16","v":0.42496621716749028}]
[null,{"$f":"'!N127A30.105'!B2:C2","v":"<date>"},{"$f":"('!N127A30.105'!D15/60)/'!N127A30.105'!Q3","v":12.431481481481482},{"$f":"'!N127A30.105'!N20/'!N127A30.105'!Q3","v":0.22222222222222221},{"$f":"SUM('!N127A30.105'!L20:Q20)/'!N127A30.105'!Q3","v":0.55555555555555558},{"$f":"'!N127A30.105'!Q16","v":0.5965633607142824}]
[null,{"$f":"'!N128900.105'!B2:C2","v":"<date>"},{"$f":"('!N128900.105'!D10/60)/'!N128900.105'!Q3","v":2.4916666666666667},{"$f":"'!N128900.105'!N20/'!N128900.105'!Q3","v":1},{"$f":"SUM('!N128900.105'!L20:Q20)/'!N128900.105'!Q3","v":1.25},{"$f":"'!N128900.105'!Q16","v":0}]
[null,{"$f":"'!N129A40.105'!B2:C2","v":"<date>"},{"$f":"('!N129A40.105'!D36/60)/'!N129A40.105'!Q3","v":11.06989247311828},{"$f":"'!N129A40.105'!N20/'!N129A40.105'!Q3","v":0.54838709677419351},{"$f":"SUM('!N129A40.105'!L20:Q20)/'!N129A40.105'!Q3","v":1.2580645161290323},{"$f":"'!N129A40.105'!Q16","v":0.30970091021322665}]
[null,{"$f":"'!N130A40.105'!B2:C2","v":"<date>"},{"$f":"('!N130A40.105'!D23/60)/'!N130A40.105'!Q3","v":19.380555555555556},{"$f":"'!N130A40.105'!N20/'!N130A40.105'!Q3","v":0.27777777777777779},{"$f":"SUM('!N130A40.105'!L20:Q20)/'!N130A40.105'!Q3","v":1.2222222222222223},{"$f":"'!N130A40.105'!Q16","v":0.3935693676001214}]

{"sheet":"Start","index":2,"n_rows":66,"n_cols":10,"rows_kept":66,"cut":false,"hidden":false,"merged":[]}
[null,null,null,null,null,"Use Folder 51",null,"Auto Clean Up",null,"Correct sequence"]
[null,null,null,null,null,false,null,true,null,12]
[]
["Working with Folder",null,null,null,null,null,"Process All/Or Pick A number: ALL or an integer"]
["E:\\Hen Data\\Raw Data\\105_185\\phase 4 var\\",null,null,null,null,null,"ALL"]
["Filenames:"]
["!MC11B10.105",null,null,null,null,null,"Paint Cells"]
["!MC12A10.105",null,null,null,null,null,false]
["!MC13B30.105"]
["!MC14B00.105"]
["!MC15C20.105"]
["!MC16A20.105"]
["!MC17950.105"]
["!MC18B40.105"]
["!MC19B20.105"]
["!MC20B00.105"]
["!MC21B50.105"]
["!MC22A30.105"]
["!MC23A50.105"]
["!MC24A40.105"]
["!MC27A50.105"]
["!MC28A20.105"]
["!MC29A00.105"]
["!MC30A00.105"]
["!MC31A00.105"]
["!N102A20.105"]
["!N103A10.105"]
["!N103A30.105"]
["!N104B30.105"]
["!N105A10.105"]
["!N106840.105"]
["!N107910.105"]
["!N108A10.105"]
["!N109900.105"]
["!N110A10.105"]
["!N111C00.105"]
["!N112850.105"]
["!N113A30.105"]
["!N114920.105"]
["!N115940.105"]
["!N116920.105"]
["!N117B40.105"]
["!N118B10.105"]
["!N119930.105"]
["!N120A40.105"]
["!N121B10.105"]
["!N122930.105"]
["!N123B00.105"]
["!N124950.105"]
["!N125A20.105"]
["!N127A30.105"]
["!N128900.105"]
["!N129A40.105"]
["!N130A40.105"]
["!MB29B40.105"]
["!MB30C20.105"]
["!MC01B50.105"]
["!MC02B50.105"]
["!MC03950.105"]
["!MC04B40.105"]
["!MC05A10.105"]
["!MC06B10.105"]
["!MC07B30.105"]
["!MC08B20.105"]
["!MC09B20.105"]
["!MC10C10.105"]

{"sheet":"!MB29B40.105","index":3,"n_rows":193,"n_cols":48,"rows_kept":193,"cut":false,"hidden":false,"merged":[[4,39,4,42],[5,39,5,40],[4,44,4,47],[5,44,5,45],[4,24,4,27],[5,24,5,25],[4,29,4,32],[5,29,5,30],[4,34,4,37],[5,34,5,35],[1,1,1,2],[5,13,5,14],[18,13,18,14],[19,13,19,14],[4,19,4,22],[5,19,5,20]]}
["Report for:!MB29B40.105"]
["Date:","<date>"]
["Hen:","<hen>",null,null,null,"Correct Sequence",{"$f":"Start!J2","v":12},null,null,null,null,null,null,null,null,"Total Sequences in Data",{"$f":"4994-COUNTBLANK(L7:L5000)","v":187},null,null,null,null,"Total Sequences in Block Data",{"$f":"COUNTA(L7:L37)","v":31},null,null,null,"Total Sequences in Block Data",{"$f":"COUNTA(L38:L68)","v":31},null,null,null,"Total Sequences in Block Data",{"$f":"COUNTA(L69:L100)","v":32},null,null,null,"Total Sequences in Block Data",{"$f":"COUNTA(L101:L131)","v":31},null,null,null,"Total Sequences in Block Data",{"$f":"COUNTA(L132:L162)","v":31},null,null,null,"Total Sequences in Block Data",{"$f":"COUNTA(L163:L193)","v":31}]
[null,null,null,null,null,null,null,null,null,null,null,null,null,null,null,"Total Sequences in Summary",{"$f":"SUM(O7:O14)","v":187},null,null,null,null,"Total Sequences in Block Summary",{"$f":"SUM(U7:U14)","v":31},null,null,null,"Total Sequences in Block Summary",{"$f":"SUM(Z7:Z14)","v":31},null,null,null,"Total Sequences in Block Summary",{"$f":"SUM(AE7:AE14)","v":32},null,null,null,"Total Sequences in Block Summary",{"$f":"SUM(AJ7:AJ14)","v":31},null,null,null,"Total Sequences in Block Summary",{"$f":"SUM(AO7:AO14)","v":31},null,null,null,"Total Sequences in Block Summary",{"$f":"SUM(AT7:AT14)","v":31}]
[null,null,null,null,null,null,null,null,null,null,null,null,null,null,null,null,null,null,null,"Block 1",null,null,null,null,"Block 2",null,null,null,null,"Block 3",null,null,null,null,"Block 4",null,null,null,null,"Block 5",null,null,null,null,"Block 6"]
["Sequence\nComponent\n1","Time\n1","Sequence\nComponent\n2","Time\n2","Sequence\nComponent\n3","Time\n3","Sequence\nComponent\n4","Time\n4","Sequence\nComponent\n5","Time\n5","Correct?\n0=No 1=Yes","Sequence",null,"Frequency",null,"Relative Frequency","Variability",null,null,"Frequency",null,"Relative Frequency","Variability",null,"Frequency",null,"Relative Frequency","Variability",null,"Frequency",null,"Relative Frequency","Variability",null,"Frequency",null,"Relative Frequency","Variability",null,"Frequency",null,"Relative Frequency","Variability",null,"Frequency",null,"Relative Frequency","Variability"]
[22,1,23,10,null,null,null,null,null,null,0,22,null,11,{"$f":"COUNTIF($L$7:$L$500,N7)","v":7},{"$f":"O7/$Q$4","v":3.7433155080213901E-2},{"$f":"IF(P7=0,0,(P7*((LOG(P7))/LOG(2))))","v":-0.17741591852839694},null,null,{"$f":"N7","v":11},{"$f":"COUNTIF(L7:L37,T7)","v":0},{"$f":"U7/(W4-U8)","v":0},{"$f":"IF(V7=0,0,(V7*((LOG(V7))/LOG(2))))","v":0},null,{"$f":"N7","v":11},{"$f":"COUNTIF(L38:L68,Y7)","v":0},{"$f":"Z7/(AB4-Z8)","v":0},{"$f":"IF(AA7=0,0,(AA7*((LOG(AA7))/LOG(2))))","v":0},null,{"$f":"N7","v":11},{"$f":"COUNTIF(L69:L100,AD7)","v":0},{"$f":"AE7/(AG4-AE8)","v":0},{"$f":"IF(AF7=0,0,(AF7*((LOG(AF7))/LOG(2))))","v":0},null,{"$f":"N7","v":11},{"$f":"COUNTIF(L101:L131,AI7)","v":3},{"$f":"AJ7/(AL4-AJ8)","v":0.10714285714285714},{"$f":"IF(AK7=0,0,(AK7*((LOG(AK7))/LOG(2))))","v":-0.34525633085747659},null,{"$f":"N7","v":11},{"$f":"COUNTIF(L132:L162,AN7)","v":3},{"$f":"AO7/(AQ4-AO8)","v":0.1111111111111111},{"$f":"IF(AP7=0,0,(AP7*((LOG(AP7))/LOG(2))))","v":-0.3522138890491458},null,{"$f":"N7","v":11},{"$f":"COUNTIF(L163:L193,AS7)","v":1},{"$f":"AT7/(AV4-AT8)","v":3.3333333333333333E-2},{"$f":"IF(AU7=0,0,(AU7*((LOG(AU7))/LOG(2))))","v":-0.16356301985361729}]
[22,116,14,136,null,null,null,null,null,null,0,21,null,12,{"$f":"COUNTIF($L$7:$L$500,N8)","v":16},{"$f":"O8/$Q$4","v":8.5561497326203204E-2},{"$f":"IF(P8=0,0,(P8*((LOG(P8))/LOG(2))))","v":-0.30347760084600101},null,null,{"$f":"N8","v":12},{"$f":"COUNTIF(L7:L37,T8)","v":1},null,null,null,{"$f":"N8","v":12},{"$f":"COUNTIF(L38:L68,Y8)","v":3},null,null,null,{"$f":"N8","v":12},{"$f":"COUNTIF(L69:L100,AD8)","v":4},null,null,null,{"$f":"N8","v":12},{"$f":"COUNTIF(L101:L131,AI8)","v":3},null,null,null,{"$f":"N8","v":12},{"$f":"COUNTIF(L132:L162,AN8)","v":4},null,null,null,{"$f":"N8","v":12},{"$f":"COUNTIF(L163:L193,AS8)","v":1}]
[22,246,23,275,null,null,null,null,null,null,0,22,null,21,{"$f":"COUNTIF($L$7:$L$500,N9)","v":78},{"$f":"O9/$Q$4","v":0.41711229946524064},{"$f":"IF(P9=0,0,(P9*((LOG(P9))/LOG(2))))","v":-0.52618392941165937},null,null,{"$f":"N9","v":21},{"$f":"COUNTIF(L7:L37,T9)","v":13},{"$f":"U9/(W4-U8)","v":0.43333333333333335},{"$f":"IF(V9=0,0,(V9*((LOG(V9))/LOG(2))))","v":-0.52279538023588479},null,{"$f":"N9","v":21},{"$f":"COUNTIF(L38:L68,Y9)","v":10},{"$f":"Z9/(AB4-Z8)","v":0.35714285714285715},{"$f":"IF(AA9=0,0,(AA9*((LOG(AA9))/LOG(2))))","v":-0.53050958113222924},null,{"$f":"N9","v":21},{"$f":"COUNTIF(L69:L100,AD9)","v":15},{"$f":"AE9/(AG4-AE8)","v":0.5357142857142857},{"$f":"IF(AF9=0,0,(AF9*((LOG(AF9))/LOG(2))))","v":-0.48239160345486726},null,{"$f":"N9","v":21},{"$f":"COUNTIF(L101:L131,AI9)","v":11},{"$f":"AJ9/(AL4-AJ8)","v":0.39285714285714285},{"$f":"IF(AK9=0,0,(AK9*((LOG(AK9))/LOG(2))))","v":-0.52954129777226344},null,{"$f":"N9","v":21},{"$f":"COUNTIF(L132:L162,AN9)","v":17},{"$f":"AO9/(AQ4-AO8)","v":0.62962962962962965},{"$f":"IF(AP9=0,0,(AP9*((LOG(AP9))/LOG(2))))","v":-0.42023034205641457},null,{"$f":"N9","v":21},{"$f":"COUNTIF(L163:L193,AS9)","v":12},{"$f":"AT9/(AV4-AT8)","v":0.4},{"$f":"IF(AU9=0,0,(AU9*((LOG(AU9))/LOG(2))))","v":-0.52877123795494496}]
[22,390,23,413,null,null,null,null,null,null,0,22,null,22,{"$f":"COUNTIF($L$7:$L$500,N10)","v":86},{"$f":"O10/$Q$4","v":0.45989304812834225},{"$f":"IF(P10=0,0,(P10*((LOG(P10))/LOG(2))))","v":-0.51536981094094292},null,null,{"$f":"N10","v":22},{"$f":"COUNTIF(L7:L37,T10)","v":17},{"$f":"U10/(W4-U8)","v":0.56666666666666665},{"$f":"IF(V10=0,0,(V10*((LOG(V10))/LOG(2))))","v":-0.46434239413630152},null,{"$f":"N10","v":22},{"$f":"COUNTIF(L38:L68,Y10)","v":18},{"$f":"Z10/(AB4-Z8)","v":0.6428571428571429},{"$f":"IF(AA10=0,0,(AA10*((LOG(AA10))/LOG(2))))","v":-0.40977637753840174},null,{"$f":"N10","v":22},{"$f":"COUNTIF(L69:L100,AD10)","v":13},{"$f":"AE10/(AG4-AE8)","v":0.4642857142857143},{"$f":"IF(AF10=0,0,(AF10*((LOG(AF10))/LOG(2))))","v":-0.51392491610409474},null,{"$f":"N10","v":22},{"$f":"COUNTIF(L101:L131,AI10)","v":14},{"$f":"AJ10/(AL4-AJ8)","v":0.5},{"$f":"IF(AK10=0,0,(AK10*((LOG(AK10))/LOG(2))))","v":-0.5},null,{"$f":"N10","v":22},{"$f":"COUNTIF(L132:L162,AN10)","v":7},{"$f":"AO10/(AQ4-AO8)","v":0.25925925925925924},{"$f":"IF(AP10=0,0,(AP10*((LOG(AP10))/LOG(2))))","v":-0.5049158541015204},null,{"$f":"N10","v":22},{"$f":"COUNTIF(L163:L193,AS10)","v":17},{"$f":"AT10/(AV4-AT8)","v":0.56666666666666665},{"$f":"IF(AU10=0,0,(AU10*((LOG(AU10))/LOG(2))))","v":-0.46434239413630152}]
[22,525,23,529,null,null,null,null,null,null,0,22,null,null,null,null,null,null,null,{"$f":"N11","v":0},{"$f":"COUNTIF(L7:L37,T11)","v":0},{"$f":"U11/(W4-U8)","v":0},{"$f":"IF(V11=0,0,(V11*((LOG(V11))/LOG(2))))","v":0},null,{"$f":"N11","v":0},{"$f":"COUNTIF(L38:L68,Y11)","v":0},{"$f":"Z11/(AB4-Z8)","v":0},{"$f":"IF(AA11=0,0,(AA11*((LOG(AA11))/LOG(2))))","v":0},null,{"$f":"N11","v":0},{"$f":"COUNTIF(L69:L100,AD11)","v":0},{"$f":"AE11/(AG4-AE8)","v":0},{"$f":"IF(AF11=0,0,(AF11*((LOG(AF11))/LOG(2))))","v":0},null,{"$f":"N11","v":0},{"$f":"COUNTIF(L101:L131,AI11)","v":0},{"$f":"AJ11/(AL4-AJ8)","v":0},{"$f":"IF(AK11=0,0,(AK11*((LOG(AK11))/LOG(2))))","v":0},null,{"$f":"N11","v":0},{"$f":"COUNTIF(L132:L162,AN11)","v":0},{"$f":"AO11/(AQ4-AO8)","v":0},{"$f":"IF(AP11=0,0,(AP11*((LOG(AP11))/LOG(2))))","v":0},null,{"$f":"N11","v":0},{"$f":"COUNTIF(L163:L193,AS11)","v":0},{"$f":"AT11/(AV4-AT8)","v":0},{"$f":"IF(AU11=0,0,(AU11*((LOG(AU11))/LOG(2))))","v":0}]
[22,646,23,670,null,null,null,null,null,null,0,22,null,null,null,null,null,null,null,{"$f":"N12","v":0},{"$f":"COUNTIF(L7:L37,T12)","v":0},{"$f":"U12/(W4-U8)","v":0},{"$f":"IF(V12=0,0,(V12*((LOG(V12))/LOG(2))))","v":0},null,{"$f":"N12","v":0},{"$f":"COUNTIF(L38:L68,Y12)","v":0},{"$f":"Z12/(AB4-Z8)","v":0},{"$f":"IF(AA12=0,0,(AA12*((LOG(AA12))/LOG(2))))","v":0},null,{"$f":"N12","v":0},{"$f":"COUNTIF(L69:L100,AD12)","v":0},{"$f":"AE12/(AG4-AE8)","v":0},{"$f":"IF(AF12=0,0,(AF12*((LOG(AF12))/LOG(2))))","v":0},null,{"$f":"N12","v":0},{"$f":"COUNTIF(L101:L131,AI12)","v":0},{"$f":"AJ12/(AL4-AJ8)","v":0},{"$f":"IF(AK12=0,0,(AK12*((LOG(AK12))/LOG(2))))","v":0},null,{"$f":"N12","v":0},{"$f":"COUNTIF(L132:L162,AN12)","v":0},{"$f":"AO12/(AQ4-AO8)","v":0},{"$f":"IF(AP12=0,0,(AP12*((LOG(AP12))/LOG(2))))","v":0},null,{"$f":"N12","v":0},{"$f":"COUNTIF(L163:L193,AS12)","v":0},{"$f":"AT12/(AV4-AT8)","v":0},{"$f":"IF(AU12=0,0,(AU12*((LOG(AU12))/LOG(2))))","v":0}]
[22,782,14,792,null,null,null,null,null,null,0,21,null,null,null,null,null,null,null,{"$f":"N13","v":0},{"$f":"COUNTIF(L7:L37,T13)","v":0},{"$f":"U13/(W4-U8)","v":0},{"$f":"IF(V13=0,0,(V13*((LOG(V13))/LOG(2))))","v":0},null,{"$f":"N13","v":0},{"$f":"COUNTIF(L38:L68,Y13)","v":0},{"$f":"Z13/(AB4-Z8)","v":0},{"$f":"IF(AA13=0,0,(AA13*((LOG(AA13))/LOG(2))))","v":0},null,{"$f":"N13","v":0},{"$f":"COUNTIF(L69:L100,AD13)","v":0},{"$f":"AE13/(AG4-AE8)","v":0},{"$f":"IF(AF13=0,0,(AF13*((LOG(AF13))/LOG(2))))","v":0},null,{"$f":"N13","v":0},{"$f":"COUNTIF(L101:L131,AI13)","v":0},{"$f":"AJ13/(AL4-AJ8)","v":0},{"$f":"IF(AK13=0,0,(AK13*((LOG(AK13))/LOG(2))))","v":0},null,{"$f":"N13","v":0},{"$f":"COUNTIF(L132:L162,AN13)","v":0},{"$f":"AO13/(AQ4-AO8)","v":0},{"$f":"IF(AP13=0,0,(AP13*((LOG(AP13))/LOG(2))))","v":0},null,{"$f":"N13","v":0},{"$f":"COUNTIF(L163:L193,AS13)","v":0},{"$f":"AT13/(AV4-AT8)","v":0},{"$f":"IF(AU13=0,0,(AU13*((LOG(AU13))/LOG(2))))","v":0}]
[22,902,14,922,null,null,null,null,null,null,0,21,null,null,null,null,null,null,null,{"$f":"N14","v":0},{"$f":"COUNTIF(L7:L37,T14)","v":0},{"$f":"U14/(W4-U8)","v":0},{"$f":"IF(V14=0,0,(V14*((LOG(V14))/LOG(2))))","v":0},null,{"$f":"N14","v":0},{"$f":"COUNTIF(L38:L68,Y14)","v":0},{"$f":"Z14/(AB4-Z8)","v":0},{"$f":"IF(AA14=0,0,(AA14*((LOG(AA14))/LOG(2))))","v":0},null,{"$f":"N14","v":0},{"$f":"COUNTIF(L69:L100,AD14)","v":0},{"$f":"AE14/(AG4-AE8)","v":0},{"$f":"IF(AF14=0,0,(AF14*((LOG(AF14))/LOG(2))))","v":0},null,{"$f":"N14","v":0},{"$f":"COUNTIF(L101:L131,AI14)","v":0},{"$f":"AJ14/(AL4-AJ8)","v":0},{"$f":"IF(AK14=0,0,(AK14*((LOG(AK14))/LOG(2))))","v":0},null,{"$f":"N14","v":0},{"$f":"COUNTIF(L132:L162,AN14)","v":0},{"$f":"AO14/(AQ4-AO8)","v":0},{"$f":"IF(AP14=0,0,(AP14*((LOG(AP14))/LOG(2))))","v":0},null,{"$f":"N14","v":0},{"$f":"COUNTIF(L163:L193,AS14)","v":0},{"$f":"AT14/(AV4-AT8)","v":0},{"$f":"IF(AU14=0,0,(AU14*((LOG(AU14))/LOG(2))))","v":0}]
[22,1031,14,1050,null,null,null,null,null,null,0,21,null,null,null,{"$f":"SUM(P7:P14)","v":1},{"$f":"-SUM(Q7:Q14)","v":1.5224472597270005},null,null,null,null,{"$f":"SUM(V7:V14)","v":1},{"$f":"-SUM(W7:W14)","v":0.98713777437218631},null,null,null,{"$f":"SUM(AA7:AA14)","v":1},{"$f":"-SUM(AB7:AB14)","v":0.94028595867063092},null,null,null,{"$f":"SUM(AF7:AF14)","v":1},{"$f":"-SUM(AG7:AG14)","v":0.99631651955896205},null,null,null,{"$f":"SUM(AK7:AK14)","v":1},{"$f":"-SUM(AL7:AL14)","v":1.3747976286297401},null,null,null,{"$f":"SUM(AP7:AP14)","v":1},{"$f":"-SUM(AQ7:AQ14)","v":1.2773600852070808},null,null,null,{"$f":"SUM(AU7:AU14)","v":1},{"$f":"-SUM(AV7:AV14)","v":1.1566766519448639}]
[22,1162,23,1197,null,null,null,null,null,null,0,22,null,null,null,"U=",{"$f":"Q15/(LOG(Q4)/LOG(2))","v":0.20173162190341107},null,null,null,null,"U1=",{"$f":"W15/(LOG(W4)/LOG(2))","v":0.19925285808771279},null,null,null,"U2=",{"$f":"AB15/(LOG(AB4)/LOG(2))","v":0.18979586188364095},null,null,null,"U3=",{"$f":"AG15/(LOG(AG4)/LOG(2))","v":0.19926330391179242},null,null,null,"U4=",{"$f":"AL15/(LOG(AL4)/LOG(2))","v":0.27750164557414997},null,null,null,"U5=",{"$f":"AQ15/(LOG(AQ4)/LOG(2))","v":0.25783396643548251},null,null,null,"U6=",{"$f":"AV15/(LOG(AV4)/LOG(2))","v":0.23347412566591222}]
[22,1316,14,1332,null,null,null,null,null,null,0,21]
[22,1436,23,1440,null,null,null,null,null,null,0,22]
[22,1548,14,1557,null,null,null,null,null,null,0,21,null,"Total Target Seq"]
[22,1664,23,1668,null,null,null,null,null,null,0,22,null,{"$f":"COUNTIF(L7:L193,G3)","v":16},null,31,31,32,31,31,31]
[22,1782,14,1800,null,null,null,null,null,null,0,21,null,null,null,"% of reinforcement given in 6 equal intervals based on number of trials "]
[22,1905,14,1920,null,null,null,null,null,null,0,21,null,null,null,"%_1","%_2","%_3","%_4","%_5","%_6"]
[22,2029,14,2054,null,null,null,null,null,null,0,21,null,null,"target sequence",{"$f":"$G$3","v":12},{"$f":"$G$3","v":12},{"$f":"$G$3","v":12},{"$f":"$G$3","v":12},{"$f":"$G$3","v":12},{"$f":"$G$3","v":12}]
[22,2162,14,2176,null,null,null,null,null,null,0,21,null,null,"total reinforcement",{"$f":"U8","v":1},{"$f":"Z8","v":3},{"$f":"AE8","v":4},{"$f":"AJ8","v":3},{"$f":"AO8","v":4},{"$f":"AT8","v":1}]
[22,2279,23,2284,null,null,null,null,null,null,0,22,null,null,"% target"]
[22,2392,23,2400,null,null,null,null,null,null,0,22,null,null,"CCRF"]
[11,2508,21,2573,null,null,null,null,null,null,0,12,null,null,"% CCRf"]
[22,2683,23,2726,null,null,null,null,null,null,0,22,null,null,"average response rate",{"$f":"D37/P20","v":123.38709677419355},{"$f":"(D68-D37)/Q20","v":123.61290322580645},{"$f":"(D100-D68)/R20","v":132.03125},{"$f":"(D131-D100)/S20","v":131.2258064516129},{"$f":"(D162-D131)/T20","v":130.80645161290323},{"$f":"(D193-D162)/U20","v":128.16129032258064}]
[22,2831,23,2835,null,null,null,null,null,null,0,22]
[22,2945,23,2980,null,null,null,null,null,null,0,22]
[22,3092,14,3113,null,null,null,null,null,null,0,21]
[22,3214,23,3219,null,null,null,null,null,null,0,22]
[22,3322,23,3331,null,null,null,null,null,null,0,22]
[22,3441,23,3445,null,null,null,null,null,null,0,22]
[22,3553,14,3583,null,null,null,null,null,null,0,21]
[22,3696,14,3717,null,null,null,null,null,null,0,21]
[22,3821,23,3825,null,null,null,null,null,null,0,22]
[22,3934,23,3938,null,null,null,null,null,null,0,22]
[22,4050,23,4058,null,null,null,null,null,null,0,22]
[22,4168,14,4189,null,null,null,null,null,null,0,21]
[22,4294,23,4301,null,null,null,null,null,null,0,22]
[22,4416,23,4429,null,null,null,null,null,null,0,22]
[11,4561,21,4573,null,null,null,null,null,null,0,12]
[22,4676,14,4697,null,null,null,null,null,null,0,21]
[22,4805,23,4823,null,null,null,null,null,null,0,22]
[22,4937,14,4948,null,null,null,null,null,null,0,21]
[22,5061,14,5074,null,null,null,null,null,null,0,21]
[11,5222,21,5234,null,null,null,null,null,null,0,12]
[22,5336,23,5345,null,null,null,null,null,null,0,22]
[22,5454,23,5460,null,null,null,null,null,null,0,22]
[22,5564,23,5569,null,null,null,null,null,null,0,22]
[22,5682,23,5687,null,null,null,null,null,null,0,22]
[22,5795,14,5817,null,null,null,null,null,null,0,21]
[22,5929,23,5940,null,null,null,null,null,null,0,22]
[22,6049,23,6061,null,null,null,null,null,null,0,22]
[22,6177,14,6190,null,null,null,null,null,null,0,21]
[22,6301,23,6308,null,null,null,null,null,null,0,22]
[22,6415,23,6419,null,null,null,null,null,null,0,22]
[22,6529,23,6534,null,null,null,null,null,null,0,22]
[22,6643,14,6660,null,null,null,null,null,null,0,21]
[22,6767,23,6772,null,null,null,null,null,null,0,22]
[22,6882,14,6905,null,null,null,null,null,null,0,21]
[22,7014,23,7019,null,null,null,null,null,null,0,22]
[22,7128,23,7133,null,null,null,null,null,null,0,22]
[22,7245,14,7259,null,null,null,null,null,null,0,21]
[22,7365,23,7369,null,null,null,null,null,null,0,22]
[22,7484,14,7498,null,null,null,null,null,null,0,21]
[11,7640,21,7657,null,null,null,null,null,null,0,12]
[11,7786,21,7797,null,null,null,null,null,null,0,12]
[22,7901,23,7912,null,null,null,null,null,null,0,22]
[22,8025,14,8039,null,null,null,null,null,null,0,21]
[22,8149,23,8158,null,null,null,null,null,null,0,22]
[22,8264,23,8269,null,null,null,null,null,null,0,22]
[22,8377,23,8382,null,null,null,null,null,null,0,22]
[22,8500,23,8544,null,null,null,null,null,null,0,22]
[22,8659,23,8673,null,null,null,null,null,null,0,22]
[22,8817,14,8850,null,null,null,null,null,null,0,21]
[22,8960,14,8973,null,null,null,null,null,null,0,21]
[22,9084,23,9100,null,null,null,null,null,null,0,22]
[22,9207,23,9218,null,null,null,null,null,null,0,22]
[22,9329,23,9339,null,null,null,null,null,null,0,22]
[22,9450,23,9459,null,null,null,null,null,null,0,22]
[22,9570,14,9594,null,null,null,null,null,null,0,21]
[22,9704,14,9723,null,null,null,null,null,null,0,21]
[22,9837,14,9850,null,null,null,null,null,null,0,21]
[11,9980,21,9995,null,null,null,null,null,null,0,12]
[11,10115,21,10129,null,null,null,null,null,null,0,12]
[22,10227,14,10252,null,null,null,null,null,null,0,21]
[22,10357,23,10376,null,null,null,null,null,null,0,22]
[22,10493,14,10507,null,null,null,null,null,null,0,21]
[22,10620,14,10631,null,null,null,null,null,null,0,21]
[22,10736,23,10740,null,null,null,null,null,null,0,22]
[22,10848,14,10865,null,null,null,null,null,null,0,21]
[22,10973,23,11018,null,null,null,null,null,null,0,22]
[22,11133,14,11199,null,null,null,null,null,null,0,21]
[22,11315,14,11328,null,null,null,null,null,null,0,21]
[22,11453,14,11469,null,null,null,null,null,null,0,21]
[22,11583,14,11614,null,null,null,null,null,null,0,21]
[11,11744,21,11766,null,null,null,null,null,null,0,12]
[22,11860,14,11882,null,null,null,null,null,null,0,21]
[22,11991,14,12013,null,null,null,null,null,null,0,21]
[22,12117,23,12163,null,null,null,null,null,null,0,22]
[22,12274,23,12311,null,null,null,null,null,null,0,22]
[11,12448,21,12468,null,null,null,null,null,null,0,12]
[22,12570,23,12613,null,null,null,null,null,null,0,22]
[22,12720,23,12730,null,null,null,null,null,null,0,22]
[22,12843,23,12852,null,null,null,null,null,null,0,22]
[22,12962,23,12978,null,null,null,null,null,null,0,22]
[22,13085,23,13090,null,null,null,null,null,null,0,22]
[22,13203,14,13216,null,null,null,null,null,null,0,21]
[22,13324,14,13340,null,null,null,null,null,null,0,21]
[22,13452,14,13473,null,null,null,null,null,null,0,21]
[22,13583,14,13597,null,null,null,null,null,null,0,21]
[22,13712,14,13730,null,null,null,null,null,null,0,21]
[22,13849,14,13862,null,null,null,null,null,null,0,21]
[22,13979,14,13989,null,null,null,null,null,null,0,21]
[22,14101,14,14115,null,null,null,null,null,null,0,21]
[11,14245,12,14307,null,null,null,null,null,null,0,11]
[11,14431,21,14445,null,null,null,null,null,null,0,12]
[22,14545,23,14573,null,null,null,null,null,null,0,22]
[22,14678,23,14687,null,null,null,null,null,null,0,22]
[11,14811,12,14826,null,null,null,null,null,null,0,11]
[11,14949,21,14974,null,null,null,null,null,null,0,12]
[22,15080,14,15110,null,null,null,null,null,null,0,21]
[22,15221,23,15225,null,null,null,null,null,null,0,22]
[22,15333,23,15349,null,null,null,null,null,null,0,22]
[22,15462,23,15474,null,null,null,null,null,null,0,22]
[22,15584,23,15595,null,null,null,null,null,null,0,22]
[22,15700,14,15713,null,null,null,null,null,null,0,21]
[22,15824,23,15835,null,null,null,null,null,null,0,22]
[11,15942,12,15950,null,null,null,null,null,null,0,11]
[22,16059,14,16079,null,null,null,null,null,null,0,21]
[22,16185,14,16208,null,null,null,null,null,null,0,21]
[22,16319,14,16343,null,null,null,null,null,null,0,21]
[22,16455,14,16466,null,null,null,null,null,null,0,21]
[22,16572,23,16577,null,null,null,null,null,null,0,22]
[11,16722,12,16738,null,null,null,null,null,null,0,11]
[22,16846,14,16872,null,null,null,null,null,null,0,21]
[11,17001,21,17012,null,null,null,null,null,null,0,12]
[11,17130,12,17151,null,null,null,null,null,null,0,11]
[22,17256,14,17276,null,null,null,null,null,null,0,21]
[22,17397,23,17411,null,null,null,null,null,null,0,22]
[22,17525,14,17535,null,null,null,null,null,null,0,21]
[22,17648,14,17663,null,null,null,null,null,null,0,21]
[22,17771,23,17781,null,null,null,null,null,null,0,22]
[22,17890,14,17929,null,null,null,null,null,null,0,21]
[22,18042,23,18049,null,null,null,null,null,null,0,22]
[22,18159,14,18184,null,null,null,null,null,null,0,21]
[22,18293,23,18304,null,null,null,null,null,null,0,22]
[22,18420,14,18435,null,null,null,null,null,null,0,21]
[22,18543,23,18554,null,null,null,null,null,null,0,22]
[22,18664,14,18690,null,null,null,null,null,null,0,21]
[22,18801,14,18824,null,null,null,null,null,null,0,21]
[22,18929,14,18951,null,null,null,null,null,null,0,21]
[11,19070,12,19102,null,null,null,null,null,null,0,11]
[11,19242,21,19254,null,null,null,null,null,null,0,12]
[22,19356,14,19367,null,null,null,null,null,null,0,21]
[22,19480,14,19491,null,null,null,null,null,null,0,21]
[11,19624,21,19651,null,null,null,null,null,null,0,12]
[11,19765,21,19784,null,null,null,null,null,null,0,12]
[22,19880,14,19894,null,null,null,null,null,null,0,21]
[22,20001,23,20005,null,null,null,null,null,null,0,22]
[22,20112,14,20127,null,null,null,null,null,null,0,21]
[22,20245,23,20264,null,null,null,null,null,null,0,22]
[22,20374,23,20384,null,null,null,null,null,null,0,22]
[22,20497,14,20507,null,null,null,null,null,null,0,21]
[22,20615,23,20625,null,null,null,null,null,null,0,22]
[22,20736,14,20751,null,null,null,null,null,null,0,21]
[11,20874,12,20893,null,null,null,null,null,null,0,11]
[22,21002,23,21015,null,null,null,null,null,null,0,22]
[22,21128,14,21144,null,null,null,null,null,null,0,21]
[22,21253,14,21268,null,null,null,null,null,null,0,21]
[22,21379,23,21387,null,null,null,null,null,null,0,22]
[22,21497,23,21507,null,null,null,null,null,null,0,22]
[22,21614,14,21628,null,null,null,null,null,null,0,21]
[22,21736,23,21752,null,null,null,null,null,null,0,22]
[22,21858,14,21868,null,null,null,null,null,null,0,21]
[22,21990,23,22001,null,null,null,null,null,null,0,22]
[22,22113,14,22123,null,null,null,null,null,null,0,21]
[22,22229,14,22255,null,null,null,null,null,null,0,21]
[22,22367,23,22384,null,null,null,null,null,null,0,22]
[22,22492,23,22504,null,null,null,null,null,null,0,22]
[22,22610,23,22626,null,null,null,null,null,null,0,22]
[22,22735,14,22763,null,null,null,null,null,null,0,21]
[22,22875,23,22890,null,null,null,null,null,null,0,22]
[11,23011,21,23046,null,null,null,null,null,null,0,12]
[22,23148,23,23160,null,null,null,null,null,null,0,22]
[22,23276,14,23291,null,null,null,null,null,null,0,21]
[22,23437,23,23475,null,null,null,null,null,null,0,22]
[22,23593,14,23609,null,null,null,null,null,null,0,21]
[22,23723,23,23737,null,null,null,null,null,null,0,22]
[22,23846,23,23856,null,null,null,null,null,null,0,22]
[22,23965,23,23978,null,null,null,null,null,null,null,22]

{"sheet":"!MB30C20.105","index":4,"n_rows":191,"n_cols":48,"rows_kept":191,"cut":false,"hidden":false,"merged":[[4,39,4,42],[5,39,5,40],[4,44,4,47],[5,44,5,45],[4,24,4,27],[5,24,5,25],[4,29,4,32],[5,29,5,30],[4,34,4,37],[5,34,5,35],[1,1,1,2],[5,13,5,14],[18,13,18,14],[19,13,19,14],[4,19,4,22],[5,19,5,20]]}
["Report for:!MB30C20.105"]
["Date:","<date>"]
["Hen:","<hen>",null,null,null,"Correct Sequence",{"$f":"Start!J2","v":12},null,null,null,null,null,null,null,null,"Total Sequences in Data",{"$f":"4994-COUNTBLANK(L7:L5000)","v":185},null,null,null,null,"Total Sequences in Block Data",{"$f":"COUNTA(L7:L37)","v":31},null,null,null,"Total Sequences in Block Data",{"$f":"COUNTA(L38:L68)","v":31},null,null,null,"Total Sequences in Block Data",{"$f":"COUNTA(L69:L98)","v":30},null,null,null,"Total Sequences in Block Data",{"$f":"COUNTA(L99:L129)","v":31},null,null,null,"Total Sequences in Block Data",{"$f":"COUNTA(L130:L160)","v":31},null,null,null,"Total Sequences in Block Data",{"$f":"COUNTA(L161:L191)","v":31}]
[null,null,null,null,null,null,null,null,null,null,null,null,null,null,null,"Total Sequences in Summary",{"$f":"SUM(O7:O14)","v":185},null,null,null,null,"Total Sequences in Block Summary",{"$f":"SUM(U7:U14)","v":31},null,null,null,"Total Sequences in Block Summary",{"$f":"SUM(Z7:Z14)","v":31},null,null,null,"Total Sequences in Block Summary",{"$f":"SUM(AE7:AE14)","v":30},null,null,null,"Total Sequences in Block Summary",{"$f":"SUM(AJ7:AJ14)","v":31},null,null,null,"Total Sequences in Block Summary",{"$f":"SUM(AO7:AO14)","v":31},null,null,null,"Total Sequences in Block Summary",{"$f":"SUM(AT7:AT14)","v":31}]
[null,null,null,null,null,null,null,null,null,null,null,null,null,null,null,null,null,null,null,"Block 1",null,null,null,null,"Block 2",null,null,null,null,"Block 3",null,null,null,null,"Block 4",null,null,null,null,"Block 5",null,null,null,null,"Block 6"]
["Sequence\nComponent\n1","Time\n1","Sequence\nComponent\n2","Time\n2","Sequence\nComponent\n3","Time\n3","Sequence\nComponent\n4","Time\n4","Sequence\nComponent\n5","Time\n5","Correct?\n0=No 1=Yes","Sequence",null,"Frequency",null,"Relative Frequency","Variability",null,null,"Frequency",null,"Relative Frequency","Variability",null,"Frequency",null,"Relative Frequency","Variability",null,"Frequency",null,"Relative Frequency","Variability",null,"Frequency",null,"Relative Frequency","Variability",null,"Frequency",null,"Relative Frequency","Variability",null,"Frequency",null,"Relative Frequency","Variability"]
[11,13,21,27,null,null,null,null,null,null,0,12,null,11,{"$f":"COUNTIF($L$7:$L$500,N7)","v":6},{"$f":"O7/$Q$4","v":3.2432432432432434E-2},{"$f":"IF(P7=0,0,(P7*((LOG(P7))/LOG(2))))","v":-0.16042439869605912},null,null,{"$f":"N7","v":11},{"$f":"COUNTIF(L7:L37,T7)","v":0},{"$f":"U7/(W4-U8)","v":0},{"$f":"IF(V7=0,0,(V7*((LOG(V7))/LOG(2))))","v":0},null,{"$f":"N7","v":11},{"$f":"COUNTIF(L38:L68,Y7)","v":1},{"$f":"Z7/(AB4-Z8)","v":3.5714285714285712E-2},{"$f":"IF(AA7=0,0,(AA7*((LOG(AA7))/LOG(2))))","v":-0.17169124721634299},null,{"$f":"N7","v":11},{"$f":"COUNTIF(L69:L98,AD7)","v":0},{"$f":"AE7/(AG4-AE8)","v":0},{"$f":"IF(AF7=0,0,(AF7*((LOG(AF7))/LOG(2))))","v":0},null,{"$f":"N7","v":11},{"$f":"COUNTIF(L99:L129,AI7)","v":0},{"$f":"AJ7/(AL4-AJ8)","v":0},{"$f":"IF(AK7=0,0,(AK7*((LOG(AK7))/LOG(2))))","v":0},null,{"$f":"N7","v":11},{"$f":"COUNTIF(L130:L160,AN7)","v":2},{"$f":"AO7/(AQ4-AO8)","v":7.407407407407407E-2},{"$f":"IF(AP7=0,0,(AP7*((LOG(AP7))/LOG(2))))","v":-0.27813981497507173},null,{"$f":"N7","v":11},{"$f":"COUNTIF(L161:L191,AS7)","v":3},{"$f":"AT7/(AV4-AT8)","v":0.12},{"$f":"IF(AU7=0,0,(AU7*((LOG(AU7))/LOG(2))))","v":-0.36706724268642821}]
[22,126,23,138,null,null,null,null,null,null,0,22,null,12,{"$f":"COUNTIF($L$7:$L$500,N8)","v":24},{"$f":"O8/$Q$4","v":0.12972972972972974},{"$f":"IF(P8=0,0,(P8*((LOG(P8))/LOG(2))))","v":-0.38223813532477696},null,null,{"$f":"N8","v":12},{"$f":"COUNTIF(L7:L37,T8)","v":2},null,null,null,{"$f":"N8","v":12},{"$f":"COUNTIF(L38:L68,Y8)","v":3},null,null,null,{"$f":"N8","v":12},{"$f":"COUNTIF(L69:L98,AD8)","v":5},null,null,null,{"$f":"N8","v":12},{"$f":"COUNTIF(L99:L129,AI8)","v":4},null,null,null,{"$f":"N8","v":12},{"$f":"COUNTIF(L130:L160,AN8)","v":4},null,null,null,{"$f":"N8","v":12},{"$f":"COUNTIF(L161:L191,AS8)","v":6}]
[11,235,21,247,null,null,null,null,null,null,0,12,null,21,{"$f":"COUNTIF($L$7:$L$500,N9)","v":95},{"$f":"O9/$Q$4","v":0.51351351351351349},{"$f":"IF(P9=0,0,(P9*((LOG(P9))/LOG(2))))","v":-0.49375651868978165},null,null,{"$f":"N9","v":21},{"$f":"COUNTIF(L7:L37,T9)","v":12},{"$f":"U9/(W4-U8)","v":0.41379310344827586},{"$f":"IF(V9=0,0,(V9*((LOG(V9))/LOG(2))))","v":-0.5267662735474824},null,{"$f":"N9","v":21},{"$f":"COUNTIF(L38:L68,Y9)","v":13},{"$f":"Z9/(AB4-Z8)","v":0.4642857142857143},{"$f":"IF(AA9=0,0,(AA9*((LOG(AA9))/LOG(2))))","v":-0.51392491610409474},null,{"$f":"N9","v":21},{"$f":"COUNTIF(L69:L98,AD9)","v":14},{"$f":"AE9/(AG4-AE8)","v":0.56000000000000005},{"$f":"IF(AF9=0,0,(AF9*((LOG(AF9))/LOG(2))))","v":-0.46844070992158748},null,{"$f":"N9","v":21},{"$f":"COUNTIF(L99:L129,AI9)","v":17},{"$f":"AJ9/(AL4-AJ8)","v":0.62962962962962965},{"$f":"IF(AK9=0,0,(AK9*((LOG(AK9))/LOG(2))))","v":-0.42023034205641457},null,{"$f":"N9","v":21},{"$f":"COUNTIF(L130:L160,AN9)","v":23},{"$f":"AO9/(AQ4-AO8)","v":0.85185185185185186},{"$f":"IF(AP9=0,0,(AP9*((LOG(AP9))/LOG(2))))","v":-0.19705509483142519},null,{"$f":"N9","v":21},{"$f":"COUNTIF(L161:L191,AS9)","v":16},{"$f":"AT9/(AV4-AT8)","v":0.64},{"$f":"IF(AU9=0,0,(AU9*((LOG(AU9))/LOG(2))))","v":-0.41206796145582375}]
[22,350,23,373,null,null,null,null,null,null,0,22,null,22,{"$f":"COUNTIF($L$7:$L$500,N10)","v":60},{"$f":"O10/$Q$4","v":0.32432432432432434},{"$f":"IF(P10=0,0,(P10*((LOG(P10))/LOG(2))))","v":-0.52686190213225736},null,null,{"$f":"N10","v":22},{"$f":"COUNTIF(L7:L37,T10)","v":17},{"$f":"U10/(W4-U8)","v":0.58620689655172409},{"$f":"IF(V10=0,0,(V10*((LOG(V10))/LOG(2))))","v":-0.45168305572113648},null,{"$f":"N10","v":22},{"$f":"COUNTIF(L38:L68,Y10)","v":14},{"$f":"Z10/(AB4-Z8)","v":0.5},{"$f":"IF(AA10=0,0,(AA10*((LOG(AA10))/LOG(2))))","v":-0.5},null,{"$f":"N10","v":22},{"$f":"COUNTIF(L69:L98,AD10)","v":11},{"$f":"AE10/(AG4-AE8)","v":0.44},{"$f":"IF(AF10=0,0,(AF10*((LOG(AF10))/LOG(2))))","v":-0.52114681130046814},null,{"$f":"N10","v":22},{"$f":"COUNTIF(L99:L129,AI10)","v":10},{"$f":"AJ10/(AL4-AJ8)","v":0.37037037037037035},{"$f":"IF(AK10=0,0,(AK10*((LOG(AK10))/LOG(2))))","v":-0.53072570639855787},null,{"$f":"N10","v":22},{"$f":"COUNTIF(L130:L160,AN10)","v":2},{"$f":"AO10/(AQ4-AO8)","v":7.407407407407407E-2},{"$f":"IF(AP10=0,0,(AP10*((LOG(AP10))/LOG(2))))","v":-0.27813981497507173},null,{"$f":"N10","v":22},{"$f":"COUNTIF(L161:L191,AS10)","v":6},{"$f":"AT10/(AV4-AT8)","v":0.24},{"$f":"IF(AU10=0,0,(AU10*((LOG(AU10))/LOG(2))))","v":-0.49413448537285637}]
[22,478,23,486,null,null,null,null,null,null,0,22,null,null,null,null,null,null,null,{"$f":"N11","v":0},{"$f":"COUNTIF(L7:L37,T11)","v":0},{"$f":"U11/(W4-U8)","v":0},{"$f":"IF(V11=0,0,(V11*((LOG(V11))/LOG(2))))","v":0},null,{"$f":"N11","v":0},{"$f":"COUNTIF(L38:L68,Y11)","v":0},{"$f":"Z11/(AB4-Z8)","v":0},{"$f":"IF(AA11=0,0,(AA11*((LOG(AA11))/LOG(2))))","v":0},null,{"$f":"N11","v":0},{"$f":"COUNTIF(L69:L98,AD11)","v":0},{"$f":"AE11/(AG4-AE8)","v":0},{"$f":"IF(AF11=0,0,(AF11*((LOG(AF11))/LOG(2))))","v":0},null,{"$f":"N11","v":0},{"$f":"COUNTIF(L99:L129,AI11)","v":0},{"$f":"AJ11/(AL4-AJ8)","v":0},{"$f":"IF(AK11=0,0,(AK11*((LOG(AK11))/LOG(2))))","v":0},null,{"$f":"N11","v":0},{"$f":"COUNTIF(L130:L160,AN11)","v":0},{"$f":"AO11/(AQ4-AO8)","v":0},{"$f":"IF(AP11=0,0,(AP11*((LOG(AP11))/LOG(2))))","v":0},null,{"$f":"N11","v":0},{"$f":"COUNTIF(L161:L191,AS11)","v":0},{"$f":"AT11/(AV4-AT8)","v":0},{"$f":"IF(AU11=0,0,(AU11*((LOG(AU11))/LOG(2))))","v":0}]
[22,609,23,622,null,null,null,null,null,null,0,22,null,null,null,null,null,null,null,{"$f":"N12","v":0},{"$f":"COUNTIF(L7:L37,T12)","v":0},{"$f":"U12/(W4-U8)","v":0},{"$f":"IF(V12=0,0,(V12*((LOG(V12))/LOG(2))))","v":0},null,{"$f":"N12","v":0},{"$f":"COUNTIF(L38:L68,Y12)","v":0},{"$f":"Z12/(AB4-Z8)","v":0},{"$f":"IF(AA12=0,0,(AA12*((LOG(AA12))/LOG(2))))","v":0},null,{"$f":"N12","v":0},{"$f":"COUNTIF(L69:L98,AD12)","v":0},{"$f":"AE12/(AG4-AE8)","v":0},{"$f":"IF(AF12=0,0,(AF12*((LOG(AF12))/LOG(2))))","v":0},null,{"$f":"N12","v":0},{"$f":"COUNTIF(L99:L129,AI12)","v":0},{"$f":"AJ12/(AL4-AJ8)","v":0},{"$f":"IF(AK12=0,0,(AK12*((LOG(AK12))/LOG(2))))","v":0},null,{"$f":"N12","v":0},{"$f":"COUNTIF(L130:L160,AN12)","v":0},{"$f":"AO12/(AQ4-AO8)","v":0},{"$f":"IF(AP12=0,0,(AP12*((LOG(AP12))/LOG(2))))","v":0},null,{"$f":"N12","v":0},{"$f":"COUNTIF(L161:L191,AS12)","v":0},{"$f":"AT12/(AV4-AT8)","v":0},{"$f":"IF(AU12=0,0,(AU12*((LOG(AU12))/LOG(2))))","v":0}]
[22,726,23,734,null,null,null,null,null,null,0,22,null,null,null,null,null,null,null,{"$f":"N13","v":0},{"$f":"COUNTIF(L7:L37,T13)","v":0},{"$f":"U13/(W4-U8)","v":0},{"$f":"IF(V13=0,0,(V13*((LOG(V13))/LOG(2))))","v":0},null,{"$f":"N13","v":0},{"$f":"COUNTIF(L38:L68,Y13)","v":0},{"$f":"Z13/(AB4-Z8)","v":0},{"$f":"IF(AA13=0,0,(AA13*((LOG(AA13))/LOG(2))))","v":0},null,{"$f":"N13","v":0},{"$f":"COUNTIF(L69:L98,AD13)","v":0},{"$f":"AE13/(AG4-AE8)","v":0},{"$f":"IF(AF13=0,0,(AF13*((LOG(AF13))/LOG(2))))","v":0},null,{"$f":"N13","v":0},{"$f":"COUNTIF(L99:L129,AI13)","v":0},{"$f":"AJ13/(AL4-AJ8)","v":0},{"$f":"IF(AK13=0,0,(AK13*((LOG(AK13))/LOG(2))))","v":0},null,{"$f":"N13","v":0},{"$f":"COUNTIF(L130:L160,AN13)","v":0},{"$f":"AO13/(AQ4-AO8)","v":0},{"$f":"IF(AP13=0,0,(AP13*((LOG(AP13))/LOG(2))))","v":0},null,{"$f":"N13","v":0},{"$f":"COUNTIF(L161:L191,AS13)","v":0},{"$f":"AT13/(AV4-AT8)","v":0},{"$f":"IF(AU13=0,0,(AU13*((LOG(AU13))/LOG(2))))","v":0}]
[22,843,23,867,null,null,null,null,null,null,0,22,null,null,null,null,null,null,null,{"$f":"N14","v":0},{"$f":"COUNTIF(L7:L37,T14)","v":0},{"$f":"U14/(W4-U8)","v":0},{"$f":"IF(V14=0,0,(V14*((LOG(V14))/LOG(2))))","v":0},null,{"$f":"N14","v":0},{"$f":"COUNTIF(L38:L68,Y14)","v":0},{"$f":"Z14/(AB4-Z8)","v":0},{"$f":"IF(AA14=0,0,(AA14*((LOG(AA14))/LOG(2))))","v":0},null,{"$f":"N14","v":0},{"$f":"COUNTIF(L69:L98,AD14)","v":0},{"$f":"AE14/(AG4-AE8)","v":0},{"$f":"IF(AF14=0,0,(AF14*((LOG(AF14))/LOG(2))))","v":0},null,{"$f":"N14","v":0},{"$f":"COUNTIF(L99:L129,AI14)","v":0},{"$f":"AJ14/(AL4-AJ8)","v":0},{"$f":"IF(AK14=0,0,(AK14*((LOG(AK14))/LOG(2))))","v":0},null,{"$f":"N14","v":0},{"$f":"COUNTIF(L130:L160,AN14)","v":0},{"$f":"AO14/(AQ4-AO8)","v":0},{"$f":"IF(AP14=0,0,(AP14*((LOG(AP14))/LOG(2))))","v":0},null,{"$f":"N14","v":0},{"$f":"COUNTIF(L161:L191,AS14)","v":0},{"$f":"AT14/(AV4-AT8)","v":0},{"$f":"IF(AU14=0,0,(AU14*((LOG(AU14))/LOG(2))))","v":0}]
[22,975,23,999,null,null,null,null,null,null,0,22,null,null,null,{"$f":"SUM(P7:P14)","v":1},{"$f":"-SUM(Q7:Q14)","v":1.563280954842875},null,null,null,null,{"$f":"SUM(V7:V14)","v":1},{"$f":"-SUM(W7:W14)","v":0.97844932926861894},null,null,null,{"$f":"SUM(AA7:AA14)","v":1},{"$f":"-SUM(AB7:AB14)","v":1.1856161633204376},null,null,null,{"$f":"SUM(AF7:AF14)","v":1},{"$f":"-SUM(AG7:AG14)","v":0.98958752122205562},null,null,null,{"$f":"SUM(AK7:AK14)","v":1},{"$f":"-SUM(AL7:AL14)","v":0.95095604845497239},null,null,null,{"$f":"SUM(AP7:AP14)","v":1},{"$f":"-SUM(AQ7:AQ14)","v":0.75333472478156871},null,null,null,{"$f":"SUM(AU7:AU14)","v":1},{"$f":"-SUM(AV7:AV14)","v":1.2732696895151083}]
[22,1107,14,1116,null,null,null,null,null,null,0,21,null,null,null,"U=",{"$f":"Q15/(LOG(Q4)/LOG(2))","v":0.20756895173063039},null,null,null,null,"U1=",{"$f":"W15/(LOG(W4)/LOG(2))","v":0.197499103379739},null,null,null,"U2=",{"$f":"AB15/(LOG(AB4)/LOG(2))","v":0.23931553960320406},null,null,null,"U3=",{"$f":"AG15/(LOG(AG4)/LOG(2))","v":0.20167303548762611},null,null,null,"U4=",{"$f":"AL15/(LOG(AL4)/LOG(2))","v":0.19194960976035927},null,null,null,"U5=",{"$f":"AQ15/(LOG(AQ4)/LOG(2))","v":0.15205992608773725},null,null,null,"U6=",{"$f":"AV15/(LOG(AV4)/LOG(2))","v":0.25700832380129851}]
[22,1222,14,1233,null,null,null,null,null,null,0,21]
[22,1339,23,1350,null,null,null,null,null,null,0,22]
[22,1456,23,1464,null,null,null,null,null,null,0,22,null,"Total Target Seq"]
[22,1567,14,1593,null,null,null,null,null,null,0,21,null,{"$f":"COUNTIF(L7:L191,G3)","v":24},null,31,31,30,31,31,31]
[22,1701,23,1718,null,null,null,null,null,null,0,22,null,null,null,"% of reinforcement given in 6 equal intervals based on number of trials "]
[22,1830,14,1849,null,null,null,null,null,null,0,21,null,null,null,"%_1","%_2","%_3","%_4","%_5","%_6"]
[22,1962,14,1974,null,null,null,null,null,null,0,21,null,null,"target sequence",{"$f":"$G$3","v":12},{"$f":"$G$3","v":12},{"$f":"$G$3","v":12},{"$f":"$G$3","v":12},{"$f":"$G$3","v":12},{"$f":"$G$3","v":12}]
[22,2082,23,2112,null,null,null,null,null,null,0,22,null,null,"total reinforcement",{"$f":"U8","v":2},{"$f":"Z8","v":3},{"$f":"AE8","v":5},{"$f":"AJ8","v":4},{"$f":"AO8","v":4},{"$f":"AT8","v":6}]
[22,2225,14,2235,null,null,null,null,null,null,0,21,null,null,"% target"]
[22,2347,14,2362,null,null,null,null,null,null,0,21,null,null,"CCRF"]
[22,2470,14,2479,null,null,null,null,null,null,0,21,null,null,"% CCRf"]
[22,2586,14,2604,null,null,null,null,null,null,0,21,null,null,"average response rate",{"$f":"D37/P20","v":118.51612903225806},{"$f":"(D68-D37)/Q20","v":131.25806451612902},{"$f":"(D98-D68)/R20","v":132.4},{"$f":"(D129-D98)/S20","v":129.67741935483872},{"$f":"(D160-D129)/T20","v":130.54838709677421},{"$f":"(D191-D160)/U20","v":132.74193548387098}]
[22,2710,23,2718,null,null,null,null,null,null,0,22]
[22,2823,23,2838,null,null,null,null,null,null,0,22]
[22,2952,14,2963,null,null,null,null,null,null,0,21]
[22,3071,14,3092,null,null,null,null,null,null,0,21]
[22,3200,23,3210,null,null,null,null,null,null,0,22]
[22,3317,23,3328,null,null,null,null,null,null,0,22]
[22,3437,23,3444,null,null,null,null,null,null,0,22]
[22,3550,23,3554,null,null,null,null,null,null,0,22]
[22,3665,14,3674,null,null,null,null,null,null,0,21]
[22,3781,23,3786,null,null,null,null,null,null,0,22]
[22,3897,23,3911,null,null,null,null,null,null,0,22]
[22,4020,23,4027,null,null,null,null,null,null,0,22]
[22,4143,14,4158,null,null,null,null,null,null,0,21]
[22,4274,14,4287,null,null,null,null,null,null,0,21]
[22,4393,23,4403,null,null,null,null,null,null,0,22]
[22,4510,23,4522,null,null,null,null,null,null,0,22]
[22,4632,14,4658,null,null,null,null,null,null,0,21]
[22,4773,14,4783,null,null,null,null,null,null,0,21]
[22,4894,23,4899,null,null,null,null,null,null,0,22]
[22,5010,14,5025,null,null,null,null,null,null,0,21]
[11,5150,12,5180,null,null,null,null,null,null,0,11]
[11,5297,21,5312,null,null,null,null,null,null,0,12]
[22,5412,14,5422,null,null,null,null,null,null,0,21]
[22,5546,23,5582,null,null,null,null,null,null,0,22]
[22,5705,23,5733,null,null,null,null,null,null,0,22]
[22,5843,23,5848,null,null,null,null,null,null,0,22]
[22,5958,23,5968,null,null,null,null,null,null,0,22]
[11,6091,21,6105,null,null,null,null,null,null,0,12]
[22,6243,23,6272,null,null,null,null,null,null,0,22]
[22,6383,23,6392,null,null,null,null,null,null,0,22]
[22,6506,14,6516,null,null,null,null,null,null,0,21]
[22,6627,23,6687,null,null,null,null,null,null,0,22]
[22,6803,14,6813,null,null,null,null,null,null,0,21]
[22,6949,14,6992,null,null,null,null,null,null,0,21]
[11,7114,21,7128,null,null,null,null,null,null,0,12]
[22,7232,14,7242,null,null,null,null,null,null,0,21]
[22,7352,14,7362,null,null,null,null,null,null,0,21]
[22,7473,14,7485,null,null,null,null,null,null,0,21]
[22,7593,23,7620,null,null,null,null,null,null,0,22]
[22,7734,14,7743,null,null,null,null,null,null,0,21]
[11,7864,21,7889,null,null,null,null,null,null,0,12]
[22,8018,23,8038,null,null,null,null,null,null,0,22]
[22,8173,23,8227,null,null,null,null,null,null,0,22]
[22,8337,14,8347,null,null,null,null,null,null,0,21]
[22,8458,14,8473,null,null,null,null,null,null,0,21]
[22,8583,14,8593,null,null,null,null,null,null,0,21]
[22,8705,14,8716,null,null,null,null,null,null,0,21]
[22,8826,14,8836,null,null,null,null,null,null,0,21]
[22,8947,23,8951,null,null,null,null,null,null,0,22]
[22,9070,14,9083,null,null,null,null,null,null,0,21]
[22,9193,14,9203,null,null,null,null,null,null,0,21]
[22,9316,14,9327,null,null,null,null,null,null,0,21]
[22,9438,14,9449,null,null,null,null,null,null,0,21]
[22,9559,14,9570,null,null,null,null,null,null,0,21]
[11,9692,21,9705,null,null,null,null,null,null,0,12]
[11,9821,21,9835,null,null,null,null,null,null,0,12]
[22,9970,23,10029,null,null,null,null,null,null,0,22]
[22,10140,23,10150,null,null,null,null,null,null,0,22]
[22,10267,23,10293,null,null,null,null,null,null,0,22]
[22,10411,23,10438,null,null,null,null,null,null,0,22]
[22,10549,14,10560,null,null,null,null,null,null,0,21]
[22,10671,23,10679,null,null,null,null,null,null,0,22]
[22,10786,23,10791,null,null,null,null,null,null,0,22]
[22,10902,14,10915,null,null,null,null,null,null,0,21]
[11,11046,21,11061,null,null,null,null,null,null,0,12]
[22,11161,23,11192,null,null,null,null,null,null,0,22]
[22,11300,23,11308,null,null,null,null,null,null,0,22]
[22,11425,14,11449,null,null,null,null,null,null,0,21]
[11,11576,21,11600,null,null,null,null,null,null,0,12]
[22,11703,14,11715,null,null,null,null,null,null,0,21]
[22,11820,14,11835,null,null,null,null,null,null,0,21]
[22,11945,14,11956,null,null,null,null,null,null,0,21]
[22,12063,14,12074,null,null,null,null,null,null,0,21]
[22,12183,14,12198,null,null,null,null,null,null,0,21]
[22,12307,23,12314,null,null,null,null,null,null,0,22]
[22,12435,14,12450,null,null,null,null,null,null,0,21]
[22,12560,14,12584,null,null,null,null,null,null,0,21]
[22,12694,14,12705,null,null,null,null,null,null,0,21]
[22,12813,14,12823,null,null,null,null,null,null,0,21]
[11,12943,21,12953,null,null,null,null,null,null,0,12]
[22,13055,14,13065,null,null,null,null,null,null,0,21]
[22,13175,14,13186,null,null,null,null,null,null,0,21]
[22,13294,14,13304,null,null,null,null,null,null,0,21]
[22,13412,14,13423,null,null,null,null,null,null,0,21]
[22,13534,14,13547,null,null,null,null,null,null,0,21]
[22,13657,14,13673,null,null,null,null,null,null,0,21]
[22,13785,23,13813,null,null,null,null,null,null,0,22]
[22,13922,14,13947,null,null,null,null,null,null,0,21]
[11,14065,21,14079,null,null,null,null,null,null,0,12]
[22,14216,23,14245,null,null,null,null,null,null,0,22]
[22,14361,14,14372,null,null,null,null,null,null,0,21]
[11,14496,21,14538,null,null,null,null,null,null,0,12]
[22,14649,23,14680,null,null,null,null,null,null,0,22]
[22,14793,23,14814,null,null,null,null,null,null,0,22]
[22,14924,23,14951,null,null,null,null,null,null,0,22]
[22,15065,14,15076,null,null,null,null,null,null,0,21]
[22,15183,23,15193,null,null,null,null,null,null,0,22]
[11,15318,21,15334,null,null,null,null,null,null,0,12]
[22,15433,23,15445,null,null,null,null,null,null,0,22]
[22,15571,23,15596,null,null,null,null,null,null,0,22]
[22,15708,23,15735,null,null,null,null,null,null,0,22]
[22,15850,23,15876,null,null,null,null,null,null,0,22]
[22,15987,14,16000,null,null,null,null,null,null,0,21]
[22,16110,14,16123,null,null,null,null,null,null,0,21]
[22,16248,23,16278,null,null,null,null,null,null,0,22]
[11,16406,21,16419,null,null,null,null,null,null,0,12]
[22,16523,14,16536,null,null,null,null,null,null,0,21]
[22,16649,14,16661,null,null,null,null,null,null,0,21]
[11,16784,21,16805,null,null,null,null,null,null,0,12]
[11,16919,21,16937,null,null,null,null,null,null,0,12]
[22,17051,14,17065,null,null,null,null,null,null,0,21]
[22,17186,14,17206,null,null,null,null,null,null,0,21]
[22,17336,14,17352,null,null,null,null,null,null,0,21]
[22,17471,14,17486,null,null,null,null,null,null,0,21]
[22,17596,14,17606,null,null,null,null,null,null,0,21]
[22,17715,14,17730,null,null,null,null,null,null,0,21]
[11,17861,12,17878,null,null,null,null,null,null,0,11]
[22,17988,14,17999,null,null,null,null,null,null,0,21]
[22,18107,14,18126,null,null,null,null,null,null,0,21]
[22,18236,14,18247,null,null,null,null,null,null,0,21]
[22,18367,14,18382,null,null,null,null,null,null,0,21]
[22,18497,14,18508,null,null,null,null,null,null,0,21]
[22,18615,14,18629,null,null,null,null,null,null,0,21]
[11,18761,21,18778,null,null,null,null,null,null,0,12]
[22,18879,14,18892,null,null,null,null,null,null,0,21]
[22,19002,14,19013,null,null,null,null,null,null,0,21]
[22,19120,14,19132,null,null,null,null,null,null,0,21]
[11,19266,12,19286,null,null,null,null,null,null,0,11]
[22,19395,14,19406,null,null,null,null,null,null,0,21]
[22,19517,14,19538,null,null,null,null,null,null,0,21]
[22,19647,14,19660,null,null,null,null,null,null,0,21]
[22,19768,14,19782,null,null,null,null,null,null,0,21]
[11,19906,21,19922,null,null,null,null,null,null,0,12]
[22,20021,14,20031,null,null,null,null,null,null,0,21]
[11,20161,12,20176,null,null,null,null,null,null,0,11]
[22,20287,14,20301,null,null,null,null,null,null,0,21]
[22,20409,14,20420,null,null,null,null,null,null,0,21]
[11,20541,21,20560,null,null,null,null,null,null,0,12]
[22,20664,14,20675,null,null,null,null,null,null,0,21]
[11,20810,12,20828,null,null,null,null,null,null,0,11]
[22,20936,14,20962,null,null,null,null,null,null,0,21]
[11,21085,21,21102,null,null,null,null,null,null,0,12]
[22,21201,14,21212,null,null,null,null,null,null,0,21]
[22,21327,14,21342,null,null,null,null,null,null,0,21]
[11,21465,21,21493,null,null,null,null,null,null,0,12]
[22,21591,23,21605,null,null,null,null,null,null,0,22]
[22,21713,14,21734,null,null,null,null,null,null,0,21]
[22,21845,14,21862,null,null,null,null,null,null,0,21]
[22,21971,23,21985,null,null,null,null,null,null,0,22]
[22,22098,14,22113,null,null,null,null,null,null,0,21]
[22,22237,14,22272,null,null,null,null,null,null,0,21]
[22,22378,14,22408,null,null,null,null,null,null,0,21]
[22,22542,14,22559,null,null,null,null,null,null,0,21]
[11,22687,21,22700,null,null,null,null,null,null,0,12]
[11,22812,12,22845,null,null,null,null,null,null,0,11]
[22,22978,14,22998,null,null,null,null,null,null,0,21]
[22,23107,14,23147,null,null,null,null,null,null,0,21]
[22,23251,23,23262,null,null,null,null,null,null,0,22]
[22,23369,23,23382,null,null,null,null,null,null,0,22]
[11,23508,21,23521,null,null,null,null,null,null,0,12]
[22,23621,23,23639,null,null,null,null,null,null,0,22]
[22,23753,14,23772,null,null,null,null,null,null,0,21]
[22,23882,23,23897,null,null,null,null,null,null,0,22]

{"sheet":"!MC01B50.105","index":5,"n_rows":166,"n_cols":48,"rows_kept":166,"cut":false,"hidden":false,"merged":[[4,39,4,42],[5,39,5,40],[4,44,4,47],[5,44,5,45],[4,24,4,27],[5,24,5,25],[4,29,4,32],[5,29,5,30],[4,34,4,37],[5,34,5,35],[1,1,1,2],[5,13,5,14],[18,13,18,14],[19,13,19,14],[4,19,4,22],[5,19,5,20]]}
["Report for:!MC01B50.105"]
["Date:","<date>"]
["Hen:","<hen>",null,null,null,"Correct Sequence",{"$f":"Start!J2","v":12},null,null,null,null,null,null,null,null,"Total Sequences in Data",{"$f":"4994-COUNTBLANK(L7:L5000)","v":160},null,null,null,null,"Total Sequences in Block Data",{"$f":"COUNTA(L7:L33)","v":27},null,null,null,"Total Sequences in Block Data",{"$f":"COUNTA(L34:L59)","v":26},null,null,null,"Total Sequences in Block Data",{"$f":"COUNTA(L60:L86)","v":27},null,null,null,"Total Sequences in Block Data",{"$f":"COUNTA(L87:L113)","v":27},null,null,null,"Total Sequences in Block Data",{"$f":"COUNTA(L114:L139)","v":26},null,null,null,"Total Sequences in Block Data",{"$f":"COUNTA(L140:L166)","v":27}]
[null,null,null,null,null,null,null,null,null,null,null,null,null,null,null,"Total Sequences in Summary",{"$f":"SUM(O7:O14)","v":160},null,null,null,null,"Total Sequences in Block Summary",{"$f":"SUM(U7:U14)","v":27},null,null,null,"Total Sequences in Block Summary",{"$f":"SUM(Z7:Z14)","v":26},null,null,null,"Total Sequences in Block Summary",{"$f":"SUM(AE7:AE14)","v":27},null,null,null,"Total Sequences in Block Summary",{"$f":"SUM(AJ7:AJ14)","v":27},null,null,null,"Total Sequences in Block Summary",{"$f":"SUM(AO7:AO14)","v":26},null,null,null,"Total Sequences in Block Summary",{"$f":"SUM(AT7:AT14)","v":27}]
[null,null,null,null,null,null,null,null,null,null,null,null,null,null,null,null,null,null,null,"Block 1",null,null,null,null,"Block 2",null,null,null,null,"Block 3",null,null,null,null,"Block 4",null,null,null,null,"Block 5",null,null,null,null,"Block 6"]
["Sequence\nComponent\n1","Time\n1","Sequence\nComponent\n2","Time\n2","Sequence\nComponent\n3","Time\n3","Sequence\nComponent\n4","Time\n4","Sequence\nComponent\n5","Time\n5","Correct?\n0=No 1=Yes","Sequence",null,"Frequency",null,"Relative Frequency","Variability",null,null,"Frequency",null,"Relative Frequency","Variability",null,"Frequency",null,"Relative Frequency","Variability",null,"Frequency",null,"Relative Frequency","Variability",null,"Frequency",null,"Relative Frequency","Variability",null,"Frequency",null,"Relative Frequency","Variability",null,"Frequency",null,"Relative Frequency","Variability"]
[22,14,14,24,null,null,null,null,null,null,0,21,null,11,{"$f":"COUNTIF($L$7:$L$500,N7)","v":4},{"$f":"O7/$Q$4","v":2.5000000000000001E-2},{"$f":"IF(P7=0,0,(P7*((LOG(P7))/LOG(2))))","v":-0.13304820237218404},null,null,{"$f":"N7","v":11},{"$f":"COUNTIF(L7:L33,T7)","v":0},{"$f":"U7/(W4-U8)","v":0},{"$f":"IF(V7=0,0,(V7*((LOG(V7))/LOG(2))))","v":0},null,{"$f":"N7","v":11},{"$f":"COUNTIF(L34:L59,Y7)","v":0},{"$f":"Z7/(AB4-Z8)","v":0},{"$f":"IF(AA7=0,0,(AA7*((LOG(AA7))/LOG(2))))","v":0},null,{"$f":"N7","v":11},{"$f":"COUNTIF(L60:L86,AD7)","v":0},{"$f":"AE7/(AG4-AE8)","v":0},{"$f":"IF(AF7=0,0,(AF7*((LOG(AF7))/LOG(2))))","v":0},null,{"$f":"N7","v":11},{"$f":"COUNTIF(L87:L113,AI7)","v":2},{"$f":"AJ7/(AL4-AJ8)","v":9.5238095238095233E-2},{"$f":"IF(AK7=0,0,(AK7*((LOG(AK7))/LOG(2))))","v":-0.32307784978845333},null,{"$f":"N7","v":11},{"$f":"COUNTIF(L114:L139,AN7)","v":0},{"$f":"AO7/(AQ4-AO8)","v":0},{"$f":"IF(AP7=0,0,(AP7*((LOG(AP7))/LOG(2))))","v":0},null,{"$f":"N7","v":11},{"$f":"COUNTIF(L140:L166,AS7)","v":2},{"$f":"AT7/(AV4-AT8)","v":0.13333333333333333},{"$f":"IF(AU7=0,0,(AU7*((LOG(AU7))/LOG(2))))","v":-0.3875854127478025}]
[22,164,23,170,null,null,null,null,null,null,0,22,null,12,{"$f":"COUNTIF($L$7:$L$500,N8)","v":39},{"$f":"O8/$Q$4","v":0.24374999999999999},{"$f":"IF(P8=0,0,(P8*((LOG(P8))/LOG(2))))","v":-0.49640318228112151},null,null,{"$f":"N8","v":12},{"$f":"COUNTIF(L7:L33,T8)","v":2},null,null,null,{"$f":"N8","v":12},{"$f":"COUNTIF(L34:L59,Y8)","v":6},null,null,null,{"$f":"N8","v":12},{"$f":"COUNTIF(L60:L86,AD8)","v":3},null,null,null,{"$f":"N8","v":12},{"$f":"COUNTIF(L87:L113,AI8)","v":6},null,null,null,{"$f":"N8","v":12},{"$f":"COUNTIF(L114:L139,AN8)","v":10},null,null,null,{"$f":"N8","v":12},{"$f":"COUNTIF(L140:L166,AS8)","v":12}]
[22,281,23,294,null,null,null,null,null,null,0,22,null,21,{"$f":"COUNTIF($L$7:$L$500,N9)","v":58},{"$f":"O9/$Q$4","v":0.36249999999999999},{"$f":"IF(P9=0,0,(P9*((LOG(P9))/LOG(2))))","v":-0.53068082366292402},null,null,{"$f":"N9","v":21},{"$f":"COUNTIF(L7:L33,T9)","v":7},{"$f":"U9/(W4-U8)","v":0.28000000000000003},{"$f":"IF(V9=0,0,(V9*((LOG(V9))/LOG(2))))","v":-0.51422035496079388},null,{"$f":"N9","v":21},{"$f":"COUNTIF(L34:L59,Y9)","v":10},{"$f":"Z9/(AB4-Z8)","v":0.5},{"$f":"IF(AA9=0,0,(AA9*((LOG(AA9))/LOG(2))))","v":-0.5},null,{"$f":"N9","v":21},{"$f":"COUNTIF(L60:L86,AD9)","v":12},{"$f":"AE9/(AG4-AE8)","v":0.5},{"$f":"IF(AF9=0,0,(AF9*((LOG(AF9))/LOG(2))))","v":-0.5},null,{"$f":"N9","v":21},{"$f":"COUNTIF(L87:L113,AI9)","v":12},{"$f":"AJ9/(AL4-AJ8)","v":0.5714285714285714},{"$f":"IF(AK9=0,0,(AK9*((LOG(AK9))/LOG(2))))","v":-0.46134566974720237},null,{"$f":"N9","v":21},{"$f":"COUNTIF(L114:L139,AN9)","v":8},{"$f":"AO9/(AQ4-AO8)","v":0.5},{"$f":"IF(AP9=0,0,(AP9*((LOG(AP9))/LOG(2))))","v":-0.5},null,{"$f":"N9","v":21},{"$f":"COUNTIF(L140:L166,AS9)","v":9},{"$f":"AT9/(AV4-AT8)","v":0.6},{"$f":"IF(AU9=0,0,(AU9*((LOG(AU9))/LOG(2))))","v":-0.44217935649972373}]
[22,405,23,428,null,null,null,null,null,null,0,22,null,22,{"$f":"COUNTIF($L$7:$L$500,N10)","v":59},{"$f":"O10/$Q$4","v":0.36875000000000002},{"$f":"IF(P10=0,0,(P10*((LOG(P10))/LOG(2))))","v":-0.53073636053753592},null,null,{"$f":"N10","v":22},{"$f":"COUNTIF(L7:L33,T10)","v":18},{"$f":"U10/(W4-U8)","v":0.72},{"$f":"IF(V10=0,0,(V10*((LOG(V10))/LOG(2))))","v":-0.3412304555993369},null,{"$f":"N10","v":22},{"$f":"COUNTIF(L34:L59,Y10)","v":10},{"$f":"Z10/(AB4-Z8)","v":0.5},{"$f":"IF(AA10=0,0,(AA10*((LOG(AA10))/LOG(2))))","v":-0.5},null,{"$f":"N10","v":22},{"$f":"COUNTIF(L60:L86,AD10)","v":12},{"$f":"AE10/(AG4-AE8)","v":0.5},{"$f":"IF(AF10=0,0,(AF10*((LOG(AF10))/LOG(2))))","v":-0.5},null,{"$f":"N10","v":22},{"$f":"COUNTIF(L87:L113,AI10)","v":7},{"$f":"AJ10/(AL4-AJ8)","v":0.33333333333333331},{"$f":"IF(AK10=0,0,(AK10*((LOG(AK10))/LOG(2))))","v":-0.52832083357371862},null,{"$f":"N10","v":22},{"$f":"COUNTIF(L114:L139,AN10)","v":8},{"$f":"AO10/(AQ4-AO8)","v":0.5},{"$f":"IF(AP10=0,0,(AP10*((LOG(AP10))/LOG(2))))","v":-0.5},null,{"$f":"N10","v":22},{"$f":"COUNTIF(L140:L166,AS10)","v":4},{"$f":"AT10/(AV4-AT8)","v":0.26666666666666666},{"$f":"IF(AU10=0,0,(AU10*((LOG(AU10))/LOG(2))))","v":-0.50850415882893829}]
[22,546,23,569,null,null,null,null,null,null,0,22,null,null,null,null,null,null,null,{"$f":"N11","v":0},{"$f":"COUNTIF(L7:L33,T11)","v":0},{"$f":"U11/(W4-U8)","v":0},{"$f":"IF(V11=0,0,(V11*((LOG(V11))/LOG(2))))","v":0},null,{"$f":"N11","v":0},{"$f":"COUNTIF(L34:L59,Y11)","v":0},{"$f":"Z11/(AB4-Z8)","v":0},{"$f":"IF(AA11=0,0,(AA11*((LOG(AA11))/LOG(2))))","v":0},null,{"$f":"N11","v":0},{"$f":"COUNTIF(L60:L86,AD11)","v":0},{"$f":"AE11/(AG4-AE8)","v":0},{"$f":"IF(AF11=0,0,(AF11*((LOG(AF11))/LOG(2))))","v":0},null,{"$f":"N11","v":0},{"$f":"COUNTIF(L87:L113,AI11)","v":0},{"$f":"AJ11/(AL4-AJ8)","v":0},{"$f":"IF(AK11=0,0,(AK11*((LOG(AK11))/LOG(2))))","v":0},null,{"$f":"N11","v":0},{"$f":"COUNTIF(L114:L139,AN11)","v":0},{"$f":"AO11/(AQ4-AO8)","v":0},{"$f":"IF(AP11=0,0,(AP11*((LOG(AP11))/LOG(2))))","v":0},null,{"$f":"N11","v":0},{"$f":"COUNTIF(L140:L166,AS11)","v":0},{"$f":"AT11/(AV4-AT8)","v":0},{"$f":"IF(AU11=0,0,(AU11*((LOG(AU11))/LOG(2))))","v":0}]
[22,678,23,707,null,null,null,null,null,null,0,22,null,null,null,null,null,null,null,{"$f":"N12","v":0},{"$f":"COUNTIF(L7:L33,T12)","v":0},{"$f":"U12/(W4-U8)","v":0},{"$f":"IF(V12=0,0,(V12*((LOG(V12))/LOG(2))))","v":0},null,{"$f":"N12","v":0},{"$f":"COUNTIF(L34:L59,Y12)","v":0},{"$f":"Z12/(AB4-Z8)","v":0},{"$f":"IF(AA12=0,0,(AA12*((LOG(AA12))/LOG(2))))","v":0},null,{"$f":"N12","v":0},{"$f":"COUNTIF(L60:L86,AD12)","v":0},{"$f":"AE12/(AG4-AE8)","v":0},{"$f":"IF(AF12=0,0,(AF12*((LOG(AF12))/LOG(2))))","v":0},null,{"$f":"N12","v":0},{"$f":"COUNTIF(L87:L113,AI12)","v":0},{"$f":"AJ12/(AL4-AJ8)","v":0},{"$f":"IF(AK12=0,0,(AK12*((LOG(AK12))/LOG(2))))","v":0},null,{"$f":"N12","v":0},{"$f":"COUNTIF(L114:L139,AN12)","v":0},{"$f":"AO12/(AQ4-AO8)","v":0},{"$f":"IF(AP12=0,0,(AP12*((LOG(AP12))/LOG(2))))","v":0},null,{"$f":"N12","v":0},{"$f":"COUNTIF(L140:L166,AS12)","v":0},{"$f":"AT12/(AV4-AT8)","v":0},{"$f":"IF(AU12=0,0,(AU12*((LOG(AU12))/LOG(2))))","v":0}]
[22,817,23,831,null,null,null,null,null,null,0,22,null,null,null,null,null,null,null,{"$f":"N13","v":0},{"$f":"COUNTIF(L7:L33,T13)","v":0},{"$f":"U13/(W4-U8)","v":0},{"$f":"IF(V13=0,0,(V13*((LOG(V13))/LOG(2))))","v":0},null,{"$f":"N13","v":0},{"$f":"COUNTIF(L34:L59,Y13)","v":0},{"$f":"Z13/(AB4-Z8)","v":0},{"$f":"IF(AA13=0,0,(AA13*((LOG(AA13))/LOG(2))))","v":0},null,{"$f":"N13","v":0},{"$f":"COUNTIF(L60:L86,AD13)","v":0},{"$f":"AE13/(AG4-AE8)","v":0},{"$f":"IF(AF13=0,0,(AF13*((LOG(AF13))/LOG(2))))","v":0},null,{"$f":"N13","v":0},{"$f":"COUNTIF(L87:L113,AI13)","v":0},{"$f":"AJ13/(AL4-AJ8)","v":0},{"$f":"IF(AK13=0,0,(AK13*((LOG(AK13))/LOG(2))))","v":0},null,{"$f":"N13","v":0},{"$f":"COUNTIF(L114:L139,AN13)","v":0},{"$f":"AO13/(AQ4-AO8)","v":0},{"$f":"IF(AP13=0,0,(AP13*((LOG(AP13))/LOG(2))))","v":0},null,{"$f":"N13","v":0},{"$f":"COUNTIF(L140:L166,AS13)","v":0},{"$f":"AT13/(AV4-AT8)","v":0},{"$f":"IF(AU13=0,0,(AU13*((LOG(AU13))/LOG(2))))","v":0}]
[22,944,23,956,null,null,null,null,null,null,0,22,null,null,null,null,null,null,null,{"$f":"N14","v":0},{"$f":"COUNTIF(L7:L33,T14)","v":0},{"$f":"U14/(W4-U8)","v":0},{"$f":"IF(V14=0,0,(V14*((LOG(V14))/LOG(2))))","v":0},null,{"$f":"N14","v":0},{"$f":"COUNTIF(L34:L59,Y14)","v":0},{"$f":"Z14/(AB4-Z8)","v":0},{"$f":"IF(AA14=0,0,(AA14*((LOG(AA14))/LOG(2))))","v":0},null,{"$f":"N14","v":0},{"$f":"COUNTIF(L60:L86,AD14)","v":0},{"$f":"AE14/(AG4-AE8)","v":0},{"$f":"IF(AF14=0,0,(AF14*((LOG(AF14))/LOG(2))))","v":0},null,{"$f":"N14","v":0},{"$f":"COUNTIF(L87:L113,AI14)","v":0},{"$f":"AJ14/(AL4-AJ8)","v":0},{"$f":"IF(AK14=0,0,(AK14*((LOG(AK14))/LOG(2))))","v":0},null,{"$f":"N14","v":0},{"$f":"COUNTIF(L114:L139,AN14)","v":0},{"$f":"AO14/(AQ4-AO8)","v":0},{"$f":"IF(AP14=0,0,(AP14*((LOG(AP14))/LOG(2))))","v":0},null,{"$f":"N14","v":0},{"$f":"COUNTIF(L140:L166,AS14)","v":0},{"$f":"AT14/(AV4-AT8)","v":0},{"$f":"IF(AU14=0,0,(AU14*((LOG(AU14))/LOG(2))))","v":0}]
[22,1075,14,1091,null,null,null,null,null,null,0,21,null,null,null,{"$f":"SUM(P7:P14)","v":1},{"$f":"-SUM(Q7:Q14)","v":1.6908685688537655},null,null,null,null,{"$f":"SUM(V7:V14)","v":1},{"$f":"-SUM(W7:W14)","v":0.85545081056013084},null,null,null,{"$f":"SUM(AA7:AA14)","v":1},{"$f":"-SUM(AB7:AB14)","v":1},null,null,null,{"$f":"SUM(AF7:AF14)","v":1},{"$f":"-SUM(AG7:AG14)","v":1},null,null,null,{"$f":"SUM(AK7:AK14)","v":1},{"$f":"-SUM(AL7:AL14)","v":1.3127443531093743},null,null,null,{"$f":"SUM(AP7:AP14)","v":1},{"$f":"-SUM(AQ7:AQ14)","v":1},null,null,null,{"$f":"SUM(AU7:AU14)","v":1},{"$f":"-SUM(AV7:AV14)","v":1.3382689280764646}]
[22,1199,23,1206,null,null,null,null,null,null,0,22,null,null,null,"U=",{"$f":"Q15/(LOG(Q4)/LOG(2))","v":0.23093214614254925},null,null,null,null,"U1=",{"$f":"W15/(LOG(W4)/LOG(2))","v":0.17990978969973564},null,null,null,"U2=",{"$f":"AB15/(LOG(AB4)/LOG(2))","v":0.21274605355336318},null,null,null,"U3=",{"$f":"AG15/(LOG(AG4)/LOG(2))","v":0.2103099178571525},null,null,null,"U4=",{"$f":"AL15/(LOG(AL4)/LOG(2))","v":0.2760831570698733},null,null,null,"U5=",{"$f":"AQ15/(LOG(AQ4)/LOG(2))","v":0.21274605355336318},null,null,null,"U6=",{"$f":"AV15/(LOG(AV4)/LOG(2))","v":0.28145122833454078}]
[22,1317,23,1351,null,null,null,null,null,null,0,22]
[22,1461,23,1470,null,null,null,null,null,null,0,22]
[22,1578,23,1590,null,null,null,null,null,null,0,22,null,"Total Target Seq"]
[22,1702,14,1721,null,null,null,null,null,null,0,21,null,{"$f":"COUNTIF(L7:L166,G3)","v":39},null,27,26,27,27,26,27]
[22,1829,23,1860,null,null,null,null,null,null,0,22,null,null,null,"% of reinforcement given in 6 equal intervals based on number of trials "]
[22,1971,23,1984,null,null,null,null,null,null,0,22,null,null,null,"%_1","%_2","%_3","%_4","%_5","%_6"]
[22,2097,23,2126,null,null,null,null,null,null,0,22,null,null,"target sequence",{"$f":"$G$3","v":12},{"$f":"$G$3","v":12},{"$f":"$G$3","v":12},{"$f":"$G$3","v":12},{"$f":"$G$3","v":12},{"$f":"$G$3","v":12}]
[22,2235,23,2245,null,null,null,null,null,null,0,22,null,null,"total reinforcement",{"$f":"U8","v":2},{"$f":"Z8","v":6},{"$f":"AE8","v":3},{"$f":"AJ8","v":6},{"$f":"AO8","v":10},{"$f":"AT8","v":12}]
[22,2351,23,2358,null,null,null,null,null,null,0,22,null,null,"% target"]
[22,2504,23,2555,null,null,null,null,null,null,0,22,null,null,"CCRF"]
[22,2701,14,2726,null,null,null,null,null,null,0,21,null,null,"% CCRf"]
[22,2839,14,2849,null,null,null,null,null,null,0,21,null,null,"average response rate",{"$f":"D33/P20","v":129.66666666666666},{"$f":"(D59-D33)/Q20","v":133.5},{"$f":"(D86-D59)/R20","v":136.96296296296296},{"$f":"(D113-D86)/S20","v":135.44444444444446},{"$f":"(D139-D113)/T20","v":142.5},{"$f":"(D166-D139)/U20","v":146.44444444444446}]
[22,2963,14,2975,null,null,null,null,null,null,0,21]
[22,3086,23,3117,null,null,null,null,null,null,0,22]
[11,3239,21,3257,null,null,null,null,null,null,0,12]
[11,3373,21,3391,null,null,null,null,null,null,0,12]
[22,3487,14,3501,null,null,null,null,null,null,0,21]
[22,3629,23,3660,null,null,null,null,null,null,0,22]
[11,3780,21,3797,null,null,null,null,null,null,0,12]
[22,3900,23,3960,null,null,null,null,null,null,0,22]
[22,4073,14,4118,null,null,null,null,null,null,0,21]
[22,4231,23,4259,null,null,null,null,null,null,0,22]
[11,4380,21,4397,null,null,null,null,null,null,0,12]
[22,4496,23,4503,null,null,null,null,null,null,0,22]
[22,4609,23,4617,null,null,null,null,null,null,0,22]
[22,4727,14,4740,null,null,null,null,null,null,0,21]
[22,4848,23,4856,null,null,null,null,null,null,0,22]
[22,4966,23,4998,null,null,null,null,null,null,0,22]
[11,5119,21,5149,null,null,null,null,null,null,0,12]
[11,5265,21,5282,null,null,null,null,null,null,0,12]
[22,5384,23,5414,null,null,null,null,null,null,0,22]
[22,5525,23,5535,null,null,null,null,null,null,0,22]
[22,5644,14,5666,null,null,null,null,null,null,0,21]
[22,5778,14,5789,null,null,null,null,null,null,0,21]
[22,5904,14,5914,null,null,null,null,null,null,0,21]
[11,6036,21,6052,null,null,null,null,null,null,0,12]
[22,6158,14,6170,null,null,null,null,null,null,0,21]
[22,6278,23,6331,null,null,null,null,null,null,0,22]
[22,6444,14,6455,null,null,null,null,null,null,0,21]
[22,6567,14,6577,null,null,null,null,null,null,0,21]
[22,6689,14,6704,null,null,null,null,null,null,0,21]
[22,6817,14,6830,null,null,null,null,null,null,0,21]
[11,6956,21,6972,null,null,null,null,null,null,0,12]
[22,7082,14,7092,null,null,null,null,null,null,0,21]
[22,7281,14,7313,null,null,null,null,null,null,0,21]
[22,7424,14,7435,null,null,null,null,null,null,0,21]
[22,7550,23,7591,null,null,null,null,null,null,0,22]
[22,7701,14,7713,null,null,null,null,null,null,0,21]
[22,7826,23,7849,null,null,null,null,null,null,0,22]
[22,7968,23,8000,null,null,null,null,null,null,0,22]
[22,8203,14,8221,null,null,null,null,null,null,0,21]
[22,8334,23,8358,null,null,null,null,null,null,0,22]
[22,8463,23,8473,null,null,null,null,null,null,0,22]
[22,8582,14,8596,null,null,null,null,null,null,0,21]
[11,8721,21,8733,null,null,null,null,null,null,0,12]
[22,8841,14,8869,null,null,null,null,null,null,0,21]
[22,8978,23,8987,null,null,null,null,null,null,0,22]
[22,9094,23,9098,null,null,null,null,null,null,0,22]
[22,9207,14,9221,null,null,null,null,null,null,0,21]
[22,9328,23,9339,null,null,null,null,null,null,0,22]
[22,9462,14,9476,null,null,null,null,null,null,0,21]
[11,9598,21,9615,null,null,null,null,null,null,0,12]
[22,9717,23,9729,null,null,null,null,null,null,0,22]
[22,9837,14,9863,null,null,null,null,null,null,0,21]
[22,9981,14,9995,null,null,null,null,null,null,0,21]
[11,10129,21,10151,null,null,null,null,null,null,0,12]
[22,10256,23,10269,null,null,null,null,null,null,0,22]
[22,10375,23,10384,null,null,null,null,null,null,0,22]
[22,10505,14,10518,null,null,null,null,null,null,0,21]
[22,10636,23,10670,null,null,null,null,null,null,0,22]
[22,10788,14,10804,null,null,null,null,null,null,0,21]
[22,10919,14,10936,null,null,null,null,null,null,0,21]
[22,11045,14,11057,null,null,null,null,null,null,0,21]
[22,11166,23,11172,null,null,null,null,null,null,0,22]
[22,11279,23,11307,null,null,null,null,null,null,0,22]
[11,11435,21,11455,null,null,null,null,null,null,0,12]
[11,11580,12,11605,null,null,null,null,null,null,0,11]
[22,11705,14,11725,null,null,null,null,null,null,0,21]
[22,11838,23,11854,null,null,null,null,null,null,0,22]
[22,11968,14,11983,null,null,null,null,null,null,0,21]
[22,12104,23,12132,null,null,null,null,null,null,0,22]
[22,12247,23,12262,null,null,null,null,null,null,0,22]
[22,12369,14,12378,null,null,null,null,null,null,0,21]
[22,12491,14,12513,null,null,null,null,null,null,0,21]
[22,12624,14,12638,null,null,null,null,null,null,0,21]
[22,12748,23,12763,null,null,null,null,null,null,0,22]
[11,12890,21,12906,null,null,null,null,null,null,0,12]
[22,13006,14,13019,null,null,null,null,null,null,0,21]
[11,13144,21,13158,null,null,null,null,null,null,0,12]
[22,13267,14,13287,null,null,null,null,null,null,0,21]
[22,13394,14,13426,null,null,null,null,null,null,0,21]
[11,13563,21,13642,null,null,null,null,null,null,0,12]
[11,13756,12,13802,null,null,null,null,null,null,0,11]
[11,13927,21,13944,null,null,null,null,null,null,0,12]
[11,14059,21,14085,null,null,null,null,null,null,0,12]
[22,14195,14,14211,null,null,null,null,null,null,0,21]
[22,14320,23,14327,null,null,null,null,null,null,0,22]
[22,14442,14,14464,null,null,null,null,null,null,0,21]
[11,14598,21,14622,null,null,null,null,null,null,0,12]
[22,14721,23,14731,null,null,null,null,null,null,0,22]
[22,14835,23,14878,null,null,null,null,null,null,0,22]
[22,15025,14,15045,null,null,null,null,null,null,0,21]
[11,15166,21,15181,null,null,null,null,null,null,0,12]
[22,15280,14,15306,null,null,null,null,null,null,0,21]
[22,15415,14,15434,null,null,null,null,null,null,0,21]
[22,15545,23,15561,null,null,null,null,null,null,0,22]
[22,15666,14,15680,null,null,null,null,null,null,0,21]
[22,15790,23,15801,null,null,null,null,null,null,0,22]
[22,15908,14,15922,null,null,null,null,null,null,0,21]
[11,16044,21,16059,null,null,null,null,null,null,0,12]
[11,16184,21,16201,null,null,null,null,null,null,0,12]
[22,16303,23,16329,null,null,null,null,null,null,0,22]
[22,16436,23,16480,null,null,null,null,null,null,0,22]
[11,16607,21,16624,null,null,null,null,null,null,0,12]
[22,16761,14,16799,null,null,null,null,null,null,0,21]
[22,16938,23,16958,null,null,null,null,null,null,0,22]
[11,17116,21,17156,null,null,null,null,null,null,0,12]
[22,17253,23,17313,null,null,null,null,null,null,0,22]
[11,17432,21,17451,null,null,null,null,null,null,0,12]
[11,17567,21,17587,null,null,null,null,null,null,0,12]
[22,17747,14,17762,null,null,null,null,null,null,0,21]
[11,17882,21,17898,null,null,null,null,null,null,0,12]
[11,18016,21,18032,null,null,null,null,null,null,0,12]
[22,18156,14,18178,null,null,null,null,null,null,0,21]
[11,18307,21,18323,null,null,null,null,null,null,0,12]
[22,18467,14,18487,null,null,null,null,null,null,0,21]
[11,18606,12,18616,null,null,null,null,null,null,0,11]
[22,18725,14,18739,null,null,null,null,null,null,0,21]
[22,18892,23,18916,null,null,null,null,null,null,0,22]
[11,19038,21,19058,null,null,null,null,null,null,0,12]
[22,19189,14,19224,null,null,null,null,null,null,0,21]
[11,19339,21,19358,null,null,null,null,null,null,0,12]
[11,19466,21,19482,null,null,null,null,null,null,0,12]
[11,19607,12,19634,null,null,null,null,null,null,0,11]
[11,19752,21,19768,null,null,null,null,null,null,0,12]
[22,19902,14,19932,null,null,null,null,null,null,0,21]
[11,20079,21,20089,null,null,null,null,null,null,0,12]
[22,20198,14,20211,null,null,null,null,null,null,0,21]
[22,20334,23,20361,null,null,null,null,null,null,0,22]
[11,20515,21,20533,null,null,null,null,null,null,0,12]
[22,20633,14,20643,null,null,null,null,null,null,0,21]
[11,20763,21,20779,null,null,null,null,null,null,0,12]
[22,20889,14,20908,null,null,null,null,null,null,0,21]
[11,21032,21,21053,null,null,null,null,null,null,0,12]
[22,21165,23,21198,null,null,null,null,null,null,0,22]
[11,21371,21,21405,null,null,null,null,null,null,0,12]
[22,21541,23,21594,null,null,null,null,null,null,0,22]
[22,21723,14,21740,null,null,null,null,null,null,0,21]
[11,21858,21,21867,null,null,null,null,null,null,0,12]
[11,21973,21,21986,null,null,null,null,null,null,1,12]

{"sheet":"!MC02B50.105","index":6,"n_rows":103,"n_cols":48,"rows_kept":103,"cut":false,"hidden":false,"merged":[[4,39,4,42],[5,39,5,40],[4,44,4,47],[5,44,5,45],[4,24,4,27],[5,24,5,25],[4,29,4,32],[5,29,5,30],[4,34,4,37],[5,34,5,35],[1,1,1,2],[5,13,5,14],[18,13,18,14],[19,13,19,14],[4,19,4,22],[5,19,5,20]]}
["Report for:!MC02B50.105"]
["Date:","<date>"]
["Hen:","<hen>",null,null,null,"Correct Sequence",{"$f":"Start!J2","v":12},null,null,null,null,null,null,null,null,"Total Sequences in Data",{"$f":"4994-COUNTBLANK(L7:L5000)","v":97},null,null,null,null,"Total Sequences in Block Data",{"$f":"COUNTA(L7:L22)","v":16},null,null,null,"Total Sequences in Block Data",{"$f":"COUNTA(L23:L38)","v":16},null,null,null,"Total Sequences in Block Data",{"$f":"COUNTA(L39:L55)","v":17},null,null,null,"Total Sequences in Block Data",{"$f":"COUNTA(L56:L71)","v":16},null,null,null,"Total Sequences in Block Data",{"$f":"COUNTA(L72:L87)","v":16},null,null,null,"Total Sequences in Block Data",{"$f":"COUNTA(L88:L103)","v":16}]
[null,null,null,null,null,null,null,null,null,null,null,null,null,null,null,"Total Sequences in Summary",{"$f":"SUM(O7:O14)","v":97},null,null,null,null,"Total Sequences in Block Summary",{"$f":"SUM(U7:U14)","v":16},null,null,null,"Total Sequences in Block Summary",{"$f":"SUM(Z7:Z14)","v":16},null,null,null,"Total Sequences in Block Summary",{"$f":"SUM(AE7:AE14)","v":17},null,null,null,"Total Sequences in Block Summary",{"$f":"SUM(AJ7:AJ14)","v":16},null,null,null,"Total Sequences in Block Summary",{"$f":"SUM(AO7:AO14)","v":16},null,null,null,"Total Sequences in Block Summary",{"$f":"SUM(AT7:AT14)","v":16}]
[null,null,null,null,null,null,null,null,null,null,null,null,null,null,null,null,null,null,null,"Block 1",null,null,null,null,"Block 2",null,null,null,null,"Block 3",null,null,null,null,"Block 4",null,null,null,null,"Block 5",null,null,null,null,"Block 6"]
["Sequence\nComponent\n1","Time\n1","Sequence\nComponent\n2","Time\n2","Sequence\nComponent\n3","Time\n3","Sequence\nComponent\n4","Time\n4","Sequence\nComponent\n5","Time\n5","Correct?\n0=No 1=Yes","Sequence",null,"Frequency",null,"Relative Frequency","Variability",null,null,"Frequency",null,"Relative Frequency","Variability",null,"Frequency",null,"Relative Frequency","Variability",null,"Frequency",null,"Relative Frequency","Variability",null,"Frequency",null,"Relative Frequency","Variability",null,"Frequency",null,"Relative Frequency","Variability",null,"Frequency",null,"Relative Frequency","Variability"]
[11,8,21,21,null,null,null,null,null,null,0,12,null,11,{"$f":"COUNTIF($L$7:$L$500,N7)","v":6},{"$f":"O7/$Q$4","v":6.1855670103092786E-2},{"$f":"IF(P7=0,0,(P7*((LOG(P7))/LOG(2))))","v":-0.24834744380201881},null,null,{"$f":"N7","v":11},{"$f":"COUNTIF(L7:L22,T7)","v":1},{"$f":"U7/(W4-U8)","v":9.0909090909090912E-2},{"$f":"IF(V7=0,0,(V7*((LOG(V7))/LOG(2))))","v":-0.31449378351248153},null,{"$f":"N7","v":11},{"$f":"COUNTIF(L23:L38,Y7)","v":1},{"$f":"Z7/(AB4-Z8)","v":9.0909090909090912E-2},{"$f":"IF(AA7=0,0,(AA7*((LOG(AA7))/LOG(2))))","v":-0.31449378351248153},null,{"$f":"N7","v":11},{"$f":"COUNTIF(L39:L55,AD7)","v":1},{"$f":"AE7/(AG4-AE8)","v":8.3333333333333329E-2},{"$f":"IF(AF7=0,0,(AF7*((LOG(AF7))/LOG(2))))","v":-0.29874687506009634},null,{"$f":"N7","v":11},{"$f":"COUNTIF(L56:L71,AI7)","v":1},{"$f":"AJ7/(AL4-AJ8)","v":0.1111111111111111},{"$f":"IF(AK7=0,0,(AK7*((LOG(AK7))/LOG(2))))","v":-0.3522138890491458},null,{"$f":"N7","v":11},{"$f":"COUNTIF(L72:L87,AN7)","v":1},{"$f":"AO7/(AQ4-AO8)","v":0.14285714285714285},{"$f":"IF(AP7=0,0,(AP7*((LOG(AP7))/LOG(2))))","v":-0.40105070315108626},null,{"$f":"N7","v":11},{"$f":"COUNTIF(L88:L103,AS7)","v":1},{"$f":"AT7/(AV4-AT8)","v":0.125},{"$f":"IF(AU7=0,0,(AU7*((LOG(AU7))/LOG(2))))","v":-0.375}]
[11,107,12,116,null,null,null,null,null,null,0,11,null,12,{"$f":"COUNTIF($L$7:$L$500,N8)","v":39},{"$f":"O8/$Q$4","v":0.40206185567010311},{"$f":"IF(P8=0,0,(P8*((LOG(P8))/LOG(2))))","v":-0.52851458051206479},null,null,{"$f":"N8","v":12},{"$f":"COUNTIF(L7:L22,T8)","v":5},null,null,null,{"$f":"N8","v":12},{"$f":"COUNTIF(L23:L38,Y8)","v":5},null,null,null,{"$f":"N8","v":12},{"$f":"COUNTIF(L39:L55,AD8)","v":5},null,null,null,{"$f":"N8","v":12},{"$f":"COUNTIF(L56:L71,AI8)","v":7},null,null,null,{"$f":"N8","v":12},{"$f":"COUNTIF(L72:L87,AN8)","v":9},null,null,null,{"$f":"N8","v":12},{"$f":"COUNTIF(L88:L103,AS8)","v":8}]
[11,235,21,249,null,null,null,null,null,null,0,12,null,21,{"$f":"COUNTIF($L$7:$L$500,N9)","v":34},{"$f":"O9/$Q$4","v":0.35051546391752575},{"$f":"IF(P9=0,0,(P9*((LOG(P9))/LOG(2))))","v":-0.53013711373042061},null,null,{"$f":"N9","v":21},{"$f":"COUNTIF(L7:L22,T9)","v":5},{"$f":"U9/(W4-U8)","v":0.45454545454545453},{"$f":"IF(V9=0,0,(V9*((LOG(V9))/LOG(2))))","v":-0.51704705624997038},null,{"$f":"N9","v":21},{"$f":"COUNTIF(L23:L38,Y9)","v":8},{"$f":"Z9/(AB4-Z8)","v":0.72727272727272729},{"$f":"IF(AA9=0,0,(AA9*((LOG(AA9))/LOG(2))))","v":-0.33413208628167068},null,{"$f":"N9","v":21},{"$f":"COUNTIF(L39:L55,AD9)","v":9},{"$f":"AE9/(AG4-AE8)","v":0.75},{"$f":"IF(AF9=0,0,(AF9*((LOG(AF9))/LOG(2))))","v":-0.31127812445913283},null,{"$f":"N9","v":21},{"$f":"COUNTIF(L56:L71,AI9)","v":6},{"$f":"AJ9/(AL4-AJ8)","v":0.66666666666666663},{"$f":"IF(AK9=0,0,(AK9*((LOG(AK9))/LOG(2))))","v":-0.38997500048077083},null,{"$f":"N9","v":21},{"$f":"COUNTIF(L72:L87,AN9)","v":4},{"$f":"AO9/(AQ4-AO8)","v":0.5714285714285714},{"$f":"IF(AP9=0,0,(AP9*((LOG(AP9))/LOG(2))))","v":-0.46134566974720237},null,{"$f":"N9","v":21},{"$f":"COUNTIF(L88:L103,AS9)","v":2},{"$f":"AT9/(AV4-AT8)","v":0.25},{"$f":"IF(AU9=0,0,(AU9*((LOG(AU9))/LOG(2))))","v":-0.5}]
[22,348,23,402,null,null,null,null,null,null,0,22,null,22,{"$f":"COUNTIF($L$7:$L$500,N10)","v":18},{"$f":"O10/$Q$4","v":0.18556701030927836},{"$f":"IF(P10=0,0,(P10*((LOG(P10))/LOG(2))))","v":-0.45092557869491418},null,null,{"$f":"N10","v":22},{"$f":"COUNTIF(L7:L22,T10)","v":5},{"$f":"U10/(W4-U8)","v":0.45454545454545453},{"$f":"IF(V10=0,0,(V10*((LOG(V10))/LOG(2))))","v":-0.51704705624997038},null,{"$f":"N10","v":22},{"$f":"COUNTIF(L23:L38,Y10)","v":2},{"$f":"Z10/(AB4-Z8)","v":0.18181818181818182},{"$f":"IF(AA10=0,0,(AA10*((LOG(AA10))/LOG(2))))","v":-0.44716938520678134},null,{"$f":"N10","v":22},{"$f":"COUNTIF(L39:L55,AD10)","v":2},{"$f":"AE10/(AG4-AE8)","v":0.16666666666666666},{"$f":"IF(AF10=0,0,(AF10*((LOG(AF10))/LOG(2))))","v":-0.43082708345352599},null,{"$f":"N10","v":22},{"$f":"COUNTIF(L56:L71,AI10)","v":2},{"$f":"AJ10/(AL4-AJ8)","v":0.22222222222222221},{"$f":"IF(AK10=0,0,(AK10*((LOG(AK10))/LOG(2))))","v":-0.48220555587606945},null,{"$f":"N10","v":22},{"$f":"COUNTIF(L72:L87,AN10)","v":2},{"$f":"AO10/(AQ4-AO8)","v":0.2857142857142857},{"$f":"IF(AP10=0,0,(AP10*((LOG(AP10))/LOG(2))))","v":-0.51638712058788683},null,{"$f":"N10","v":22},{"$f":"COUNTIF(L88:L103,AS10)","v":5},{"$f":"AT10/(AV4-AT8)","v":0.625},{"$f":"IF(AU10=0,0,(AU10*((LOG(AU10))/LOG(2))))","v":-0.42379494069539858}]
[22,539,23,576,null,null,null,null,null,null,0,22,null,null,null,null,null,null,null,{"$f":"N11","v":0},{"$f":"COUNTIF(L7:L22,T11)","v":0},{"$f":"U11/(W4-U8)","v":0},{"$f":"IF(V11=0,0,(V11*((LOG(V11))/LOG(2))))","v":0},null,{"$f":"N11","v":0},{"$f":"COUNTIF(L23:L38,Y11)","v":0},{"$f":"Z11/(AB4-Z8)","v":0},{"$f":"IF(AA11=0,0,(AA11*((LOG(AA11))/LOG(2))))","v":0},null,{"$f":"N11","v":0},{"$f":"COUNTIF(L39:L55,AD11)","v":0},{"$f":"AE11/(AG4-AE8)","v":0},{"$f":"IF(AF11=0,0,(AF11*((LOG(AF11))/LOG(2))))","v":0},null,{"$f":"N11","v":0},{"$f":"COUNTIF(L56:L71,AI11)","v":0},{"$f":"AJ11/(AL4-AJ8)","v":0},{"$f":"IF(AK11=0,0,(AK11*((LOG(AK11))/LOG(2))))","v":0},null,{"$f":"N11","v":0},{"$f":"COUNTIF(L72:L87,AN11)","v":0},{"$f":"AO11/(AQ4-AO8)","v":0},{"$f":"IF(AP11=0,0,(AP11*((LOG(AP11))/LOG(2))))","v":0},null,{"$f":"N11","v":0},{"$f":"COUNTIF(L88:L103,AS11)","v":0},{"$f":"AT11/(AV4-AT8)","v":0},{"$f":"IF(AU11=0,0,(AU11*((LOG(AU11))/LOG(2))))","v":0}]
[22,713,14,728,null,null,null,null,null,null,0,21,null,null,null,null,null,null,null,{"$f":"N12","v":0},{"$f":"COUNTIF(L7:L22,T12)","v":0},{"$f":"U12/(W4-U8)","v":0},{"$f":"IF(V12=0,0,(V12*((LOG(V12))/LOG(2))))","v":0},null,{"$f":"N12","v":0},{"$f":"COUNTIF(L23:L38,Y12)","v":0},{"$f":"Z12/(AB4-Z8)","v":0},{"$f":"IF(AA12=0,0,(AA12*((LOG(AA12))/LOG(2))))","v":0},null,{"$f":"N12","v":0},{"$f":"COUNTIF(L39:L55,AD12)","v":0},{"$f":"AE12/(AG4-AE8)","v":0},{"$f":"IF(AF12=0,0,(AF12*((LOG(AF12))/LOG(2))))","v":0},null,{"$f":"N12","v":0},{"$f":"COUNTIF(L56:L71,AI12)","v":0},{"$f":"AJ12/(AL4-AJ8)","v":0},{"$f":"IF(AK12=0,0,(AK12*((LOG(AK12))/LOG(2))))","v":0},null,{"$f":"N12","v":0},{"$f":"COUNTIF(L72:L87,AN12)","v":0},{"$f":"AO12/(AQ4-AO8)","v":0},{"$f":"IF(AP12=0,0,(AP12*((LOG(AP12))/LOG(2))))","v":0},null,{"$f":"N12","v":0},{"$f":"COUNTIF(L88:L103,AS12)","v":0},{"$f":"AT12/(AV4-AT8)","v":0},{"$f":"IF(AU12=0,0,(AU12*((LOG(AU12))/LOG(2))))","v":0}]
[22,829,14,839,null,null,null,null,null,null,0,21,null,null,null,null,null,null,null,{"$f":"N13","v":0},{"$f":"COUNTIF(L7:L22,T13)","v":0},{"$f":"U13/(W4-U8)","v":0},{"$f":"IF(V13=0,0,(V13*((LOG(V13))/LOG(2))))","v":0},null,{"$f":"N13","v":0},{"$f":"COUNTIF(L23:L38,Y13)","v":0},{"$f":"Z13/(AB4-Z8)","v":0},{"$f":"IF(AA13=0,0,(AA13*((LOG(AA13))/LOG(2))))","v":0},null,{"$f":"N13","v":0},{"$f":"COUNTIF(L39:L55,AD13)","v":0},{"$f":"AE13/(AG4-AE8)","v":0},{"$f":"IF(AF13=0,0,(AF13*((LOG(AF13))/LOG(2))))","v":0},null,{"$f":"N13","v":0},{"$f":"COUNTIF(L56:L71,AI13)","v":0},{"$f":"AJ13/(AL4-AJ8)","v":0},{"$f":"IF(AK13=0,0,(AK13*((LOG(AK13))/LOG(2))))","v":0},null,{"$f":"N13","v":0},{"$f":"COUNTIF(L72:L87,AN13)","v":0},{"$f":"AO13/(AQ4-AO8)","v":0},{"$f":"IF(AP13=0,0,(AP13*((LOG(AP13))/LOG(2))))","v":0},null,{"$f":"N13","v":0},{"$f":"COUNTIF(L88:L103,AS13)","v":0},{"$f":"AT13/(AV4-AT8)","v":0},{"$f":"IF(AU13=0,0,(AU13*((LOG(AU13))/LOG(2))))","v":0}]
[11,953,21,967,null,null,null,null,null,null,0,12,null,null,null,null,null,null,null,{"$f":"N14","v":0},{"$f":"COUNTIF(L7:L22,T14)","v":0},{"$f":"U14/(W4-U8)","v":0},{"$f":"IF(V14=0,0,(V14*((LOG(V14))/LOG(2))))","v":0},null,{"$f":"N14","v":0},{"$f":"COUNTIF(L23:L38,Y14)","v":0},{"$f":"Z14/(AB4-Z8)","v":0},{"$f":"IF(AA14=0,0,(AA14*((LOG(AA14))/LOG(2))))","v":0},null,{"$f":"N14","v":0},{"$f":"COUNTIF(L39:L55,AD14)","v":0},{"$f":"AE14/(AG4-AE8)","v":0},{"$f":"IF(AF14=0,0,(AF14*((LOG(AF14))/LOG(2))))","v":0},null,{"$f":"N14","v":0},{"$f":"COUNTIF(L56:L71,AI14)","v":0},{"$f":"AJ14/(AL4-AJ8)","v":0},{"$f":"IF(AK14=0,0,(AK14*((LOG(AK14))/LOG(2))))","v":0},null,{"$f":"N14","v":0},{"$f":"COUNTIF(L72:L87,AN14)","v":0},{"$f":"AO14/(AQ4-AO8)","v":0},{"$f":"IF(AP14=0,0,(AP14*((LOG(AP14))/LOG(2))))","v":0},null,{"$f":"N14","v":0},{"$f":"COUNTIF(L88:L103,AS14)","v":0},{"$f":"AT14/(AV4-AT8)","v":0},{"$f":"IF(AU14=0,0,(AU14*((LOG(AU14))/LOG(2))))","v":0}]
[22,1069,23,1096,null,null,null,null,null,null,0,22,null,null,null,{"$f":"SUM(P7:P14)","v":1},{"$f":"-SUM(Q7:Q14)","v":1.7579247167394183},null,null,null,null,{"$f":"SUM(V7:V14)","v":1},{"$f":"-SUM(W7:W14)","v":1.3485878960124222},null,null,null,{"$f":"SUM(AA7:AA14)","v":1},{"$f":"-SUM(AB7:AB14)","v":1.0957952550009336},null,null,null,{"$f":"SUM(AF7:AF14)","v":1},{"$f":"-SUM(AG7:AG14)","v":1.0408520829727552},null,null,null,{"$f":"SUM(AK7:AK14)","v":0.99999999999999989},{"$f":"-SUM(AL7:AL14)","v":1.2243944454059861},null,null,null,{"$f":"SUM(AP7:AP14)","v":0.99999999999999989},{"$f":"-SUM(AQ7:AQ14)","v":1.3787834934861753},null,null,null,{"$f":"SUM(AU7:AU14)","v":1},{"$f":"-SUM(AV7:AV14)","v":1.2987949406953985}]
[22,1219,14,1234,null,null,null,null,null,null,0,21,null,null,null,"U=",{"$f":"Q15/(LOG(Q4)/LOG(2))","v":0.26635574723087774},null,null,null,null,"U1=",{"$f":"W15/(LOG(W4)/LOG(2))","v":0.33714697400310556},null,null,null,"U2=",{"$f":"AB15/(LOG(AB4)/LOG(2))","v":0.27394881375023339},null,null,null,"U3=",{"$f":"AG15/(LOG(AG4)/LOG(2))","v":0.25464502636416936},null,null,null,"U4=",{"$f":"AL15/(LOG(AL4)/LOG(2))","v":0.30609861135149652},null,null,null,"U5=",{"$f":"AQ15/(LOG(AQ4)/LOG(2))","v":0.34469587337154384},null,null,null,"U6=",{"$f":"AV15/(LOG(AV4)/LOG(2))","v":0.32469873517384962}]
[11,1354,21,1367,null,null,null,null,null,null,0,12]
[22,1481,23,1515,null,null,null,null,null,null,0,22]
[11,1640,21,1656,null,null,null,null,null,null,0,12,null,"Total Target Seq"]
[22,1753,14,1763,null,null,null,null,null,null,0,21,null,{"$f":"COUNTIF(L7:L103,G3)","v":39},null,16,16,17,16,16,16]
[22,1893,23,1933,null,null,null,null,null,null,0,22,null,null,null,"% of reinforcement given in 6 equal intervals based on number of trials "]
[22,2063,14,2078,null,null,null,null,null,null,0,21,null,null,null,"%_1","%_2","%_3","%_4","%_5","%_6"]
[11,2192,21,2209,null,null,null,null,null,null,0,12,null,null,"target sequence",{"$f":"$G$3","v":12},{"$f":"$G$3","v":12},{"$f":"$G$3","v":12},{"$f":"$G$3","v":12},{"$f":"$G$3","v":12},{"$f":"$G$3","v":12}]
[22,2332,14,2348,null,null,null,null,null,null,0,21,null,null,"total reinforcement",{"$f":"U8","v":5},{"$f":"Z8","v":5},{"$f":"AE8","v":5},{"$f":"AJ8","v":7},{"$f":"AO8","v":9},{"$f":"AT8","v":8}]
[22,2491,14,2518,null,null,null,null,null,null,0,21,null,null,"% target"]
[11,2630,21,2643,null,null,null,null,null,null,0,12,null,null,"CCRF"]
[22,2741,14,2751,null,null,null,null,null,null,0,21,null,null,"% CCRf"]
[22,2897,14,2926,null,null,null,null,null,null,0,21,null,null,"average response rate",{"$f":"D22/P20","v":129.875},{"$f":"(D38-D22)/Q20","v":140.0625},{"$f":"(D55-D38)/R20","v":152.88235294117646},{"$f":"(D71-D55)/S20","v":146.75},{"$f":"(D87-D71)/T20","v":140.25},{"$f":"(D103-D87)/U20","v":148.875}]
[11,3048,21,3057,null,null,null,null,null,null,0,12]
[22,3155,14,3165,null,null,null,null,null,null,0,21]
[11,3282,12,3310,null,null,null,null,null,null,0,11]
[11,3423,21,3441,null,null,null,null,null,null,0,12]
[22,3539,23,3564,null,null,null,null,null,null,0,22]
[22,3699,14,3729,null,null,null,null,null,null,0,21]
[22,3862,14,3876,null,null,null,null,null,null,0,21]
[22,4004,23,4027,null,null,null,null,null,null,0,22]
[22,4172,14,4187,null,null,null,null,null,null,0,21]
[11,4304,21,4319,null,null,null,null,null,null,0,12]
[22,4468,14,4497,null,null,null,null,null,null,0,21]
[22,4644,14,4676,null,null,null,null,null,null,0,21]
[11,4797,21,4812,null,null,null,null,null,null,0,12]
[22,4938,14,4964,null,null,null,null,null,null,0,21]
[11,5083,21,5093,null,null,null,null,null,null,0,12]
[11,5203,21,5215,null,null,null,null,null,null,0,12]
[22,5315,23,5353,null,null,null,null,null,null,0,22]
[11,5468,21,5483,null,null,null,null,null,null,0,12]
[11,5625,12,5653,null,null,null,null,null,null,0,11]
[22,5813,14,5829,null,null,null,null,null,null,0,21]
[22,5969,14,5984,null,null,null,null,null,null,0,21]
[11,6103,21,6114,null,null,null,null,null,null,0,12]
[22,6245,14,6261,null,null,null,null,null,null,0,21]
[22,6366,14,6389,null,null,null,null,null,null,0,21]
[22,6521,14,6545,null,null,null,null,null,null,0,21]
[22,6701,23,6757,null,null,null,null,null,null,0,22]
[22,6902,14,6918,null,null,null,null,null,null,0,21]
[22,7047,14,7065,null,null,null,null,null,null,0,21]
[11,7181,21,7198,null,null,null,null,null,null,0,12]
[22,7337,23,7369,null,null,null,null,null,null,0,22]
[11,7488,21,7558,null,null,null,null,null,null,0,12]
[22,7656,14,7675,null,null,null,null,null,null,0,21]
[22,7808,14,7824,null,null,null,null,null,null,0,21]
[11,7938,21,7954,null,null,null,null,null,null,0,12]
[11,8064,12,8096,null,null,null,null,null,null,0,11]
[11,8221,21,8236,null,null,null,null,null,null,0,12]
[11,8340,21,8358,null,null,null,null,null,null,0,12]
[22,8489,14,8521,null,null,null,null,null,null,0,21]
[11,8637,21,8649,null,null,null,null,null,null,0,12]
[11,8755,21,8773,null,null,null,null,null,null,0,12]
[22,8898,14,8918,null,null,null,null,null,null,0,21]
[22,9022,23,9058,null,null,null,null,null,null,0,22]
[22,9245,14,9266,null,null,null,null,null,null,0,21]
[11,9382,21,9397,null,null,null,null,null,null,0,12]
[22,9515,23,9539,null,null,null,null,null,null,0,22]
[22,9668,14,9682,null,null,null,null,null,null,0,21]
[22,9788,23,9800,null,null,null,null,null,null,0,22]
[11,9926,21,9942,null,null,null,null,null,null,0,12]
[11,10057,21,10082,null,null,null,null,null,null,0,12]
[22,10204,14,10218,null,null,null,null,null,null,0,21]
[11,10378,21,10392,null,null,null,null,null,null,0,12]
[11,10539,12,10585,null,null,null,null,null,null,0,11]
[11,10712,21,10732,null,null,null,null,null,null,0,12]
[11,10844,21,10860,null,null,null,null,null,null,0,12]
[22,10980,14,10994,null,null,null,null,null,null,0,21]
[11,11110,21,11123,null,null,null,null,null,null,0,12]
[22,11238,14,11253,null,null,null,null,null,null,0,21]
[11,11364,21,11379,null,null,null,null,null,null,0,12]
[11,11491,21,11510,null,null,null,null,null,null,0,12]
[11,11621,21,11686,null,null,null,null,null,null,0,12]
[22,11805,23,11862,null,null,null,null,null,null,0,22]
[22,12034,23,12072,null,null,null,null,null,null,0,22]
[22,12200,23,12225,null,null,null,null,null,null,0,22]
[22,12353,23,12385,null,null,null,null,null,null,0,22]
[22,12524,14,12540,null,null,null,null,null,null,0,21]
[11,12653,21,12668,null,null,null,null,null,null,0,12]
[11,12784,21,12800,null,null,null,null,null,null,0,12]
[22,12910,14,12950,null,null,null,null,null,null,0,21]
[11,13064,21,13077,null,null,null,null,null,null,0,12]
[11,13189,12,13224,null,null,null,null,null,null,0,11]
[11,13343,21,13360,null,null,null,null,null,null,0,12]
[22,13483,23,13509,null,null,null,null,null,null,0,22]
[11,13628,21,13641,null,null,null,null,null,null,0,12]
[11,13745,21,13761,null,null,null,null,null,null,0,12]
[11,13875,21,13892,null,null,null,null,null,null,1,12]

{"sheet":"!MC03950.105","index":7,"n_rows":94,"n_cols":48,"rows_kept":94,"cut":false,"hidden":false,"merged":[[4,39,4,42],[5,39,5,40],[4,44,4,47],[5,44,5,45],[4,24,4,27],[5,24,5,25],[4,29,4,32],[5,29,5,30],[4,34,4,37],[5,34,5,35],[1,1,1,2],[5,13,5,14],[18,13,18,14],[19,13,19,14],[4,19,4,22],[5,19,5,20]]}
["Report for:!MC03950.105"]
["Date:","<date>"]
["Hen:","<hen>",null,null,null,"Correct Sequence",{"$f":"Start!J2","v":12},null,null,null,null,null,null,null,null,"Total Sequences in Data",{"$f":"4994-COUNTBLANK(L7:L5000)","v":88},null,null,null,null,"Total Sequences in Block Data",{"$f":"COUNTA(L7:L21)","v":15},null,null,null,"Total Sequences in Block Data",{"$f":"COUNTA(L22:L35)","v":14},null,null,null,"Total Sequences in Block Data",{"$f":"COUNTA(L36:L50)","v":15},null,null,null,"Total Sequences in Block Data",{"$f":"COUNTA(L51:L65)","v":15},null,null,null,"Total Sequences in Block Data",{"$f":"COUNTA(L66:L79)","v":14},null,null,null,"Total Sequences in Block Data",{"$f":"COUNTA(L80:L94)","v":15}]
[null,null,null,null,null,null,null,null,null,null,null,null,null,null,null,"Total Sequences in Summary",{"$f":"SUM(O7:O14)","v":88},null,null,null,null,"Total Sequences in Block Summary",{"$f":"SUM(U7:U14)","v":15},null,null,null,"Total Sequences in Block Summary",{"$f":"SUM(Z7:Z14)","v":14},null,null,null,"Total Sequences in Block Summary",{"$f":"SUM(AE7:AE14)","v":15},null,null,null,"Total Sequences in Block Summary",{"$f":"SUM(AJ7:AJ14)","v":15},null,null,null,"Total Sequences in Block Summary",{"$f":"SUM(AO7:AO14)","v":14},null,null,null,"Total Sequences in Block Summary",{"$f":"SUM(AT7:AT14)","v":15}]
[null,null,null,null,null,null,null,null,null,null,null,null,null,null,null,null,null,null,null,"Block 1",null,null,null,null,"Block 2",null,null,null,null,"Block 3",null,null,null,null,"Block 4",null,null,null,null,"Block 5",null,null,null,null,"Block 6"]
["Sequence\nComponent\n1","Time\n1","Sequence\nComponent\n2","Time\n2","Sequence\nComponent\n3","Time\n3","Sequence\nComponent\n4","Time\n4","Sequence\nComponent\n5","Time\n5","Correct?\n0=No 1=Yes","Sequence",null,"Frequency",null,"Relative Frequency","Variability",null,null,"Frequency",null,"Relative Frequency","Variability",null,"Frequency",null,"Relative Frequency","Variability",null,"Frequency",null,"Relative Frequency","Variability",null,"Frequency",null,"Relative Frequency","Variability",null,"Frequency",null,"Relative Frequency","Variability",null,"Frequency",null,"Relative Frequency","Variability"]
[22,19,14,40,null,null,null,null,null,null,0,21,null,11,{"$f":"COUNTIF($L$7:$L$500,N7)","v":1},{"$f":"O7/$Q$4","v":1.1363636363636364E-2},{"$f":"IF(P7=0,0,(P7*((LOG(P7))/LOG(2))))","v":-7.3402632029969286E-2},null,null,{"$f":"N7","v":11},{"$f":"COUNTIF(L7:L21,T7)","v":0},{"$f":"U7/(W4-U8)","v":0},{"$f":"IF(V7=0,0,(V7*((LOG(V7))/LOG(2))))","v":0},null,{"$f":"N7","v":11},{"$f":"COUNTIF(L22:L35,Y7)","v":0},{"$f":"Z7/(AB4-Z8)","v":0},{"$f":"IF(AA7=0,0,(AA7*((LOG(AA7))/LOG(2))))","v":0},null,{"$f":"N7","v":11},{"$f":"COUNTIF(L36:L50,AD7)","v":0},{"$f":"AE7/(AG4-AE8)","v":0},{"$f":"IF(AF7=0,0,(AF7*((LOG(AF7))/LOG(2))))","v":0},null,{"$f":"N7","v":11},{"$f":"COUNTIF(L51:L65,AI7)","v":0},{"$f":"AJ7/(AL4-AJ8)","v":0},{"$f":"IF(AK7=0,0,(AK7*((LOG(AK7))/LOG(2))))","v":0},null,{"$f":"N7","v":11},{"$f":"COUNTIF(L66:L79,AN7)","v":1},{"$f":"AO7/(AQ4-AO8)","v":0.125},{"$f":"IF(AP7=0,0,(AP7*((LOG(AP7))/LOG(2))))","v":-0.375},null,{"$f":"N7","v":11},{"$f":"COUNTIF(L80:L94,AS7)","v":0},{"$f":"AT7/(AV4-AT8)","v":0},{"$f":"IF(AU7=0,0,(AU7*((LOG(AU7))/LOG(2))))","v":0}]
[22,151,14,165,null,null,null,null,null,null,0,21,null,12,{"$f":"COUNTIF($L$7:$L$500,N8)","v":39},{"$f":"O8/$Q$4","v":0.44318181818181818},{"$f":"IF(P8=0,0,(P8*((LOG(P8))/LOG(2))))","v":-0.52030848399121477},null,null,{"$f":"N8","v":12},{"$f":"COUNTIF(L7:L21,T8)","v":4},null,null,null,{"$f":"N8","v":12},{"$f":"COUNTIF(L22:L35,Y8)","v":8},null,null,null,{"$f":"N8","v":12},{"$f":"COUNTIF(L36:L50,AD8)","v":8},null,null,null,{"$f":"N8","v":12},{"$f":"COUNTIF(L51:L65,AI8)","v":6},null,null,null,{"$f":"N8","v":12},{"$f":"COUNTIF(L66:L79,AN8)","v":6},null,null,null,{"$f":"N8","v":12},{"$f":"COUNTIF(L80:L94,AS8)","v":7}]
[22,286,14,300,null,null,null,null,null,null,0,21,null,21,{"$f":"COUNTIF($L$7:$L$500,N9)","v":33},{"$f":"O9/$Q$4","v":0.375},{"$f":"IF(P9=0,0,(P9*((LOG(P9))/LOG(2))))","v":-0.53063906222956647},null,null,{"$f":"N9","v":21},{"$f":"COUNTIF(L7:L21,T9)","v":5},{"$f":"U9/(W4-U8)","v":0.45454545454545453},{"$f":"IF(V9=0,0,(V9*((LOG(V9))/LOG(2))))","v":-0.51704705624997038},null,{"$f":"N9","v":21},{"$f":"COUNTIF(L22:L35,Y9)","v":5},{"$f":"Z9/(AB4-Z8)","v":0.83333333333333337},{"$f":"IF(AA9=0,0,(AA9*((LOG(AA9))/LOG(2))))","v":-0.21919533819482812},null,{"$f":"N9","v":21},{"$f":"COUNTIF(L36:L50,AD9)","v":4},{"$f":"AE9/(AG4-AE8)","v":0.5714285714285714},{"$f":"IF(AF9=0,0,(AF9*((LOG(AF9))/LOG(2))))","v":-0.46134566974720237},null,{"$f":"N9","v":21},{"$f":"COUNTIF(L51:L65,AI9)","v":7},{"$f":"AJ9/(AL4-AJ8)","v":0.77777777777777779},{"$f":"IF(AK9=0,0,(AK9*((LOG(AK9))/LOG(2))))","v":-0.28199895063255082},null,{"$f":"N9","v":21},{"$f":"COUNTIF(L66:L79,AN9)","v":6},{"$f":"AO9/(AQ4-AO8)","v":0.75},{"$f":"IF(AP9=0,0,(AP9*((LOG(AP9))/LOG(2))))","v":-0.31127812445913283},null,{"$f":"N9","v":21},{"$f":"COUNTIF(L80:L94,AS9)","v":6},{"$f":"AT9/(AV4-AT8)","v":0.75},{"$f":"IF(AU9=0,0,(AU9*((LOG(AU9))/LOG(2))))","v":-0.31127812445913283}]
[22,427,23,453,null,null,null,null,null,null,0,22,null,22,{"$f":"COUNTIF($L$7:$L$500,N10)","v":15},{"$f":"O10/$Q$4","v":0.17045454545454544},{"$f":"IF(P10=0,0,(P10*((LOG(P10))/LOG(2))))","v":-0.43509221983445096},null,null,{"$f":"N10","v":22},{"$f":"COUNTIF(L7:L21,T10)","v":6},{"$f":"U10/(W4-U8)","v":0.54545454545454541},{"$f":"IF(V10=0,0,(V10*((LOG(V10))/LOG(2))))","v":-0.47698315522698609},null,{"$f":"N10","v":22},{"$f":"COUNTIF(L22:L35,Y10)","v":1},{"$f":"Z10/(AB4-Z8)","v":0.16666666666666666},{"$f":"IF(AA10=0,0,(AA10*((LOG(AA10))/LOG(2))))","v":-0.43082708345352599},null,{"$f":"N10","v":22},{"$f":"COUNTIF(L36:L50,AD10)","v":3},{"$f":"AE10/(AG4-AE8)","v":0.42857142857142855},{"$f":"IF(AF10=0,0,(AF10*((LOG(AF10))/LOG(2))))","v":-0.52388246628704915},null,{"$f":"N10","v":22},{"$f":"COUNTIF(L51:L65,AI10)","v":2},{"$f":"AJ10/(AL4-AJ8)","v":0.22222222222222221},{"$f":"IF(AK10=0,0,(AK10*((LOG(AK10))/LOG(2))))","v":-0.48220555587606945},null,{"$f":"N10","v":22},{"$f":"COUNTIF(L66:L79,AN10)","v":1},{"$f":"AO10/(AQ4-AO8)","v":0.125},{"$f":"IF(AP10=0,0,(AP10*((LOG(AP10))/LOG(2))))","v":-0.375},null,{"$f":"N10","v":22},{"$f":"COUNTIF(L80:L94,AS10)","v":2},{"$f":"AT10/(AV4-AT8)","v":0.25},{"$f":"IF(AU10=0,0,(AU10*((LOG(AU10))/LOG(2))))","v":-0.5}]
[22,545,23,562,null,null,null,null,null,null,0,22,null,null,null,null,null,null,null,{"$f":"N11","v":0},{"$f":"COUNTIF(L7:L21,T11)","v":0},{"$f":"U11/(W4-U8)","v":0},{"$f":"IF(V11=0,0,(V11*((LOG(V11))/LOG(2))))","v":0},null,{"$f":"N11","v":0},{"$f":"COUNTIF(L22:L35,Y11)","v":0},{"$f":"Z11/(AB4-Z8)","v":0},{"$f":"IF(AA11=0,0,(AA11*((LOG(AA11))/LOG(2))))","v":0},null,{"$f":"N11","v":0},{"$f":"COUNTIF(L36:L50,AD11)","v":0},{"$f":"AE11/(AG4-AE8)","v":0},{"$f":"IF(AF11=0,0,(AF11*((LOG(AF11))/LOG(2))))","v":0},null,{"$f":"N11","v":0},{"$f":"COUNTIF(L51:L65,AI11)","v":0},{"$f":"AJ11/(AL4-AJ8)","v":0},{"$f":"IF(AK11=0,0,(AK11*((LOG(AK11))/LOG(2))))","v":0},null,{"$f":"N11","v":0},{"$f":"COUNTIF(L66:L79,AN11)","v":0},{"$f":"AO11/(AQ4-AO8)","v":0},{"$f":"IF(AP11=0,0,(AP11*((LOG(AP11))/LOG(2))))","v":0},null,{"$f":"N11","v":0},{"$f":"COUNTIF(L80:L94,AS11)","v":0},{"$f":"AT11/(AV4-AT8)","v":0},{"$f":"IF(AU11=0,0,(AU11*((LOG(AU11))/LOG(2))))","v":0}]
[11,685,21,699,null,null,null,null,null,null,0,12,null,null,null,null,null,null,null,{"$f":"N12","v":0},{"$f":"COUNTIF(L7:L21,T12)","v":0},{"$f":"U12/(W4-U8)","v":0},{"$f":"IF(V12=0,0,(V12*((LOG(V12))/LOG(2))))","v":0},null,{"$f":"N12","v":0},{"$f":"COUNTIF(L22:L35,Y12)","v":0},{"$f":"Z12/(AB4-Z8)","v":0},{"$f":"IF(AA12=0,0,(AA12*((LOG(AA12))/LOG(2))))","v":0},null,{"$f":"N12","v":0},{"$f":"COUNTIF(L36:L50,AD12)","v":0},{"$f":"AE12/(AG4-AE8)","v":0},{"$f":"IF(AF12=0,0,(AF12*((LOG(AF12))/LOG(2))))","v":0},null,{"$f":"N12","v":0},{"$f":"COUNTIF(L51:L65,AI12)","v":0},{"$f":"AJ12/(AL4-AJ8)","v":0},{"$f":"IF(AK12=0,0,(AK12*((LOG(AK12))/LOG(2))))","v":0},null,{"$f":"N12","v":0},{"$f":"COUNTIF(L66:L79,AN12)","v":0},{"$f":"AO12/(AQ4-AO8)","v":0},{"$f":"IF(AP12=0,0,(AP12*((LOG(AP12))/LOG(2))))","v":0},null,{"$f":"N12","v":0},{"$f":"COUNTIF(L80:L94,AS12)","v":0},{"$f":"AT12/(AV4-AT8)","v":0},{"$f":"IF(AU12=0,0,(AU12*((LOG(AU12))/LOG(2))))","v":0}]
[11,810,21,825,null,null,null,null,null,null,0,12,null,null,null,null,null,null,null,{"$f":"N13","v":0},{"$f":"COUNTIF(L7:L21,T13)","v":0},{"$f":"U13/(W4-U8)","v":0},{"$f":"IF(V13=0,0,(V13*((LOG(V13))/LOG(2))))","v":0},null,{"$f":"N13","v":0},{"$f":"COUNTIF(L22:L35,Y13)","v":0},{"$f":"Z13/(AB4-Z8)","v":0},{"$f":"IF(AA13=0,0,(AA13*((LOG(AA13))/LOG(2))))","v":0},null,{"$f":"N13","v":0},{"$f":"COUNTIF(L36:L50,AD13)","v":0},{"$f":"AE13/(AG4-AE8)","v":0},{"$f":"IF(AF13=0,0,(AF13*((LOG(AF13))/LOG(2))))","v":0},null,{"$f":"N13","v":0},{"$f":"COUNTIF(L51:L65,AI13)","v":0},{"$f":"AJ13/(AL4-AJ8)","v":0},{"$f":"IF(AK13=0,0,(AK13*((LOG(AK13))/LOG(2))))","v":0},null,{"$f":"N13","v":0},{"$f":"COUNTIF(L66:L79,AN13)","v":0},{"$f":"AO13/(AQ4-AO8)","v":0},{"$f":"IF(AP13=0,0,(AP13*((LOG(AP13))/LOG(2))))","v":0},null,{"$f":"N13","v":0},{"$f":"COUNTIF(L80:L94,AS13)","v":0},{"$f":"AT13/(AV4-AT8)","v":0},{"$f":"IF(AU13=0,0,(AU13*((LOG(AU13))/LOG(2))))","v":0}]
[22,919,23,933,null,null,null,null,null,null,0,22,null,null,null,null,null,null,null,{"$f":"N14","v":0},{"$f":"COUNTIF(L7:L21,T14)","v":0},{"$f":"U14/(W4-U8)","v":0},{"$f":"IF(V14=0,0,(V14*((LOG(V14))/LOG(2))))","v":0},null,{"$f":"N14","v":0},{"$f":"COUNTIF(L22:L35,Y14)","v":0},{"$f":"Z14/(AB4-Z8)","v":0},{"$f":"IF(AA14=0,0,(AA14*((LOG(AA14))/LOG(2))))","v":0},null,{"$f":"N14","v":0},{"$f":"COUNTIF(L36:L50,AD14)","v":0},{"$f":"AE14/(AG4-AE8)","v":0},{"$f":"IF(AF14=0,0,(AF14*((LOG(AF14))/LOG(2))))","v":0},null,{"$f":"N14","v":0},{"$f":"COUNTIF(L51:L65,AI14)","v":0},{"$f":"AJ14/(AL4-AJ8)","v":0},{"$f":"IF(AK14=0,0,(AK14*((LOG(AK14))/LOG(2))))","v":0},null,{"$f":"N14","v":0},{"$f":"COUNTIF(L66:L79,AN14)","v":0},{"$f":"AO14/(AQ4-AO8)","v":0},{"$f":"IF(AP14=0,0,(AP14*((LOG(AP14))/LOG(2))))","v":0},null,{"$f":"N14","v":0},{"$f":"COUNTIF(L80:L94,AS14)","v":0},{"$f":"AT14/(AV4-AT8)","v":0},{"$f":"IF(AU14=0,0,(AU14*((LOG(AU14))/LOG(2))))","v":0}]
[22,1053,14,1069,null,null,null,null,null,null,0,21,null,null,null,{"$f":"SUM(P7:P14)","v":1},{"$f":"-SUM(Q7:Q14)","v":1.5594423980852015},null,null,null,null,{"$f":"SUM(V7:V14)","v":1},{"$f":"-SUM(W7:W14)","v":0.99403021147695647},null,null,null,{"$f":"SUM(AA7:AA14)","v":1},{"$f":"-SUM(AB7:AB14)","v":0.65002242164835411},null,null,null,{"$f":"SUM(AF7:AF14)","v":1},{"$f":"-SUM(AG7:AG14)","v":0.98522813603425152},null,null,null,{"$f":"SUM(AK7:AK14)","v":1},{"$f":"-SUM(AL7:AL14)","v":0.76420450650862026},null,null,null,{"$f":"SUM(AP7:AP14)","v":1},{"$f":"-SUM(AQ7:AQ14)","v":1.0612781244591329},null,null,null,{"$f":"SUM(AU7:AU14)","v":1},{"$f":"-SUM(AV7:AV14)","v":0.81127812445913283}]
[22,1256,23,1297,null,null,null,null,null,null,0,22,null,null,null,"U=",{"$f":"Q15/(LOG(Q4)/LOG(2))","v":0.24142099338675041},null,null,null,null,"U1=",{"$f":"W15/(LOG(W4)/LOG(2))","v":0.25443000953092493},null,null,null,"U2=",{"$f":"AB15/(LOG(AB4)/LOG(2))","v":0.17072808680969079},null,null,null,"U3=",{"$f":"AG15/(LOG(AG4)/LOG(2))","v":0.25217704768638322},null,null,null,"U4=",{"$f":"AL15/(LOG(AL4)/LOG(2))","v":0.19560427603670621},null,null,null,"U5=",{"$f":"AQ15/(LOG(AQ4)/LOG(2))","v":0.27874420593433613},null,null,null,"U6=",{"$f":"AV15/(LOG(AV4)/LOG(2))","v":0.2076531463079713}]
[22,1436,23,1465,null,null,null,null,null,null,0,22]
[22,1575,14,1588,null,null,null,null,null,null,0,21]
[11,1707,21,1719,null,null,null,null,null,null,0,12,null,"Total Target Seq"]
[22,1858,23,1897,null,null,null,null,null,null,0,22,null,{"$f":"COUNTIF(L7:L94,G3)","v":39},null,15,14,15,15,14,15]
[11,2022,21,2035,null,null,null,null,null,null,0,12,null,null,null,"% of reinforcement given in 6 equal intervals based on number of trials "]
[11,2136,21,2150,null,null,null,null,null,null,0,12,null,null,null,"%_1","%_2","%_3","%_4","%_5","%_6"]
[22,2286,14,2315,null,null,null,null,null,null,0,21,null,null,"target sequence",{"$f":"$G$3","v":12},{"$f":"$G$3","v":12},{"$f":"$G$3","v":12},{"$f":"$G$3","v":12},{"$f":"$G$3","v":12},{"$f":"$G$3","v":12}]
[22,2449,14,2464,null,null,null,null,null,null,0,21,null,null,"total reinforcement",{"$f":"U8","v":4},{"$f":"Z8","v":8},{"$f":"AE8","v":8},{"$f":"AJ8","v":6},{"$f":"AO8","v":6},{"$f":"AT8","v":7}]
[11,2581,21,2594,null,null,null,null,null,null,0,12,null,null,"% target"]
[11,2735,21,2749,null,null,null,null,null,null,0,12,null,null,"CCRF"]
[11,2855,21,2869,null,null,null,null,null,null,0,12,null,null,"% CCRf"]
[22,2963,23,2996,null,null,null,null,null,null,0,22,null,null,"average response rate",{"$f":"D21/P20","v":135.66666666666666},{"$f":"(D35-D21)/Q20","v":137.64285714285714},{"$f":"(D50-D35)/R20","v":144.86666666666667},{"$f":"(D65-D50)/S20","v":150.86666666666667},{"$f":"(D79-D65)/T20","v":145},{"$f":"(D94-D79)/U20","v":142.33333333333334}]
[22,3124,14,3140,null,null,null,null,null,null,0,21]
[11,3264,21,3277,null,null,null,null,null,null,0,12]
[11,3389,21,3403,null,null,null,null,null,null,0,12]
[22,3535,14,3561,null,null,null,null,null,null,0,21]
[11,3676,21,3688,null,null,null,null,null,null,0,12]
[11,3796,21,3810,null,null,null,null,null,null,0,12]
[22,3933,14,3962,null,null,null,null,null,null,0,21]
[11,4072,21,4085,null,null,null,null,null,null,0,12]
[22,4217,14,4241,null,null,null,null,null,null,0,21]
[11,4355,21,4369,null,null,null,null,null,null,0,12]
[22,4488,23,4523,null,null,null,null,null,null,0,22]
[11,4636,21,4650,null,null,null,null,null,null,0,12]
[22,4778,23,4807,null,null,null,null,null,null,0,22]
[11,4927,21,4940,null,null,null,null,null,null,0,12]
[11,5044,21,5090,null,null,null,null,null,null,0,12]
[22,5217,14,5234,null,null,null,null,null,null,0,21]
[11,5349,21,5362,null,null,null,null,null,null,0,12]
[22,5497,14,5516,null,null,null,null,null,null,0,21]
[11,5638,21,5657,null,null,null,null,null,null,0,12]
[22,5786,23,5819,null,null,null,null,null,null,0,22]
[22,5975,14,6001,null,null,null,null,null,null,0,21]
[11,6123,21,6135,null,null,null,null,null,null,0,12]
[22,6262,14,6290,null,null,null,null,null,null,0,21]
[11,6414,21,6429,null,null,null,null,null,null,0,12]
[11,6542,21,6556,null,null,null,null,null,null,0,12]
[11,6675,21,6689,null,null,null,null,null,null,0,12]
[22,6783,14,6795,null,null,null,null,null,null,0,21]
[11,6916,21,6930,null,null,null,null,null,null,0,12]
[22,7066,14,7124,null,null,null,null,null,null,0,21]
[22,7249,14,7266,null,null,null,null,null,null,0,21]
[11,7383,21,7398,null,null,null,null,null,null,0,12]
[22,7522,14,7571,null,null,null,null,null,null,0,21]
[22,7709,14,7724,null,null,null,null,null,null,0,21]
[22,7853,23,7895,null,null,null,null,null,null,0,22]
[22,8023,23,8075,null,null,null,null,null,null,0,22]
[22,8229,14,8259,null,null,null,null,null,null,0,21]
[11,8378,21,8398,null,null,null,null,null,null,0,12]
[11,8510,21,8523,null,null,null,null,null,null,0,12]
[22,8649,23,8685,null,null,null,null,null,null,0,22]
[22,8822,14,8839,null,null,null,null,null,null,0,21]
[11,8960,21,8974,null,null,null,null,null,null,0,12]
[22,9132,14,9156,null,null,null,null,null,null,0,21]
[11,9277,12,9307,null,null,null,null,null,null,0,11]
[22,9425,14,9440,null,null,null,null,null,null,0,21]
[11,9561,21,9579,null,null,null,null,null,null,0,12]
[22,9700,14,9720,null,null,null,null,null,null,0,21]
[11,9837,21,9849,null,null,null,null,null,null,0,12]
[22,9973,14,10008,null,null,null,null,null,null,0,21]
[22,10143,14,10173,null,null,null,null,null,null,0,21]
[11,10288,21,10298,null,null,null,null,null,null,0,12]
[11,10412,21,10428,null,null,null,null,null,null,0,12]
[22,10557,14,10587,null,null,null,null,null,null,0,21]
[22,10720,14,10737,null,null,null,null,null,null,0,21]
[22,10863,14,10880,null,null,null,null,null,null,0,21]
[22,11015,14,11033,null,null,null,null,null,null,0,21]
[11,11147,21,11180,null,null,null,null,null,null,0,12]
[22,11275,14,11285,null,null,null,null,null,null,0,21]
[11,11398,21,11414,null,null,null,null,null,null,0,12]
[22,11538,14,11559,null,null,null,null,null,null,0,21]
[11,11680,21,11692,null,null,null,null,null,null,0,12]
[22,11815,23,11849,null,null,null,null,null,null,0,22]
[11,11997,21,12008,null,null,null,null,null,null,0,12]
[11,12111,21,12121,null,null,null,null,null,null,0,12]
[11,12224,21,12233,null,null,null,null,null,null,0,12]
[22,12360,23,12399,null,null,null,null,null,null,0,22]
[11,12515,21,12563,null,null,null,null,null,null,1,12]

{"sheet":"!MC04B40.105","index":8,"n_rows":100,"n_cols":48,"rows_kept":100,"cut":false,"hidden":false,"merged":[[4,39,4,42],[5,39,5,40],[4,44,4,47],[5,44,5,45],[4,24,4,27],[5,24,5,25],[4,29,4,32],[5,29,5,30],[4,34,4,37],[5,34,5,35],[1,1,1,2],[5,13,5,14],[18,13,18,14],[19,13,19,14],[4,19,4,22],[5,19,5,20]]}
["Report for:!MC04B40.105"]
["Date:","<date>"]
["Hen:","<hen>",null,null,null,"Correct Sequence",{"$f":"Start!J2","v":12},null,null,null,null,null,null,null,null,"Total Sequences in Data",{"$f":"4994-COUNTBLANK(L7:L5000)","v":94},null,null,null,null,"Total Sequences in Block Data",{"$f":"COUNTA(L7:L22)","v":16},null,null,null,"Total Sequences in Block Data",{"$f":"COUNTA(L23:L37)","v":15},null,null,null,"Total Sequences in Block Data",{"$f":"COUNTA(L38:L53)","v":16},null,null,null,"Total Sequences in Block Data",{"$f":"COUNTA(L54:L69)","v":16},null,null,null,"Total Sequences in Block Data",{"$f":"COUNTA(L70:L84)","v":15},null,null,null,"Total Sequences in Block Data",{"$f":"COUNTA(L85:L100)","v":16}]
[null,null,null,null,null,null,null,null,null,null,null,null,null,null,null,"Total Sequences in Summary",{"$f":"SUM(O7:O14)","v":94},null,null,null,null,"Total Sequences in Block Summary",{"$f":"SUM(U7:U14)","v":16},null,null,null,"Total Sequences in Block Summary",{"$f":"SUM(Z7:Z14)","v":15},null,null,null,"Total Sequences in Block Summary",{"$f":"SUM(AE7:AE14)","v":16},null,null,null,"Total Sequences in Block Summary",{"$f":"SUM(AJ7:AJ14)","v":16},null,null,null,"Total Sequences in Block Summary",{"$f":"SUM(AO7:AO14)","v":15},null,null,null,"Total Sequences in Block Summary",{"$f":"SUM(AT7:AT14)","v":16}]
[null,null,null,null,null,null,null,null,null,null,null,null,null,null,null,null,null,null,null,"Block 1",null,null,null,null,"Block 2",null,null,null,null,"Block 3",null,null,null,null,"Block 4",null,null,null,null,"Block 5",null,null,null,null,"Block 6"]
["Sequence\nComponent\n1","Time\n1","Sequence\nComponent\n2","Time\n2","Sequence\nComponent\n3","Time\n3","Sequence\nComponent\n4","Time\n4","Sequence\nComponent\n5","Time\n5","Correct?\n0=No 1=Yes","Sequence",null,"Frequency",null,"Relative Frequency","Variability",null,null,"Frequency",null,"Relative Frequency","Variability",null,"Frequency",null,"Relative Frequency","Variability",null,"Frequency",null,"Relative Frequency","Variability",null,"Frequency",null,"Relative Frequency","Variability",null,"Frequency",null,"Relative Frequency","Variability",null,"Frequency",null,"Relative Frequency","Variability"]
[22,10,14,20,null,null,null,null,null,null,0,21,null,11,{"$f":"COUNTIF($L$7:$L$500,N7)","v":10},{"$f":"O7/$Q$4","v":0.10638297872340426},{"$f":"IF(P7=0,0,(P7*((LOG(P7))/LOG(2))))","v":-0.34390008050960374},null,null,{"$f":"N7","v":11},{"$f":"COUNTIF(L7:L22,T7)","v":0},{"$f":"U7/(W4-U8)","v":0},{"$f":"IF(V7=0,0,(V7*((LOG(V7))/LOG(2))))","v":0},null,{"$f":"N7","v":11},{"$f":"COUNTIF(L23:L37,Y7)","v":0},{"$f":"Z7/(AB4-Z8)","v":0},{"$f":"IF(AA7=0,0,(AA7*((LOG(AA7))/LOG(2))))","v":0},null,{"$f":"N7","v":11},{"$f":"COUNTIF(L38:L53,AD7)","v":3},{"$f":"AE7/(AG4-AE8)","v":0.375},{"$f":"IF(AF7=0,0,(AF7*((LOG(AF7))/LOG(2))))","v":-0.53063906222956647},null,{"$f":"N7","v":11},{"$f":"COUNTIF(L54:L69,AI7)","v":0},{"$f":"AJ7/(AL4-AJ8)","v":0},{"$f":"IF(AK7=0,0,(AK7*((LOG(AK7))/LOG(2))))","v":0},null,{"$f":"N7","v":11},{"$f":"COUNTIF(L70:L84,AN7)","v":4},{"$f":"AO7/(AQ4-AO8)","v":0.44444444444444442},{"$f":"IF(AP7=0,0,(AP7*((LOG(AP7))/LOG(2))))","v":-0.51996666730769447},null,{"$f":"N7","v":11},{"$f":"COUNTIF(L85:L100,AS7)","v":3},{"$f":"AT7/(AV4-AT8)","v":0.42857142857142855},{"$f":"IF(AU7=0,0,(AU7*((LOG(AU7))/LOG(2))))","v":-0.52388246628704915}]
[22,151,14,166,null,null,null,null,null,null,0,21,null,12,{"$f":"COUNTIF($L$7:$L$500,N8)","v":39},{"$f":"O8/$Q$4","v":0.41489361702127658},{"$f":"IF(P8=0,0,(P8*((LOG(P8))/LOG(2))))","v":-0.52657743276383162},null,null,{"$f":"N8","v":12},{"$f":"COUNTIF(L7:L22,T8)","v":2},null,null,null,{"$f":"N8","v":12},{"$f":"COUNTIF(L23:L37,Y8)","v":4},null,null,null,{"$f":"N8","v":12},{"$f":"COUNTIF(L38:L53,AD8)","v":8},null,null,null,{"$f":"N8","v":12},{"$f":"COUNTIF(L54:L69,AI8)","v":10},null,null,null,{"$f":"N8","v":12},{"$f":"COUNTIF(L70:L84,AN8)","v":6},null,null,null,{"$f":"N8","v":12},{"$f":"COUNTIF(L85:L100,AS8)","v":9}]
[22,296,14,311,null,null,null,null,null,null,0,21,null,21,{"$f":"COUNTIF($L$7:$L$500,N9)","v":35},{"$f":"O9/$Q$4","v":0.37234042553191488},{"$f":"IF(P9=0,0,(P9*((LOG(P9))/LOG(2))))","v":-0.53069898101748392},null,null,{"$f":"N9","v":21},{"$f":"COUNTIF(L7:L22,T9)","v":10},{"$f":"U9/(W4-U8)","v":0.7142857142857143},{"$f":"IF(V9=0,0,(V9*((LOG(V9))/LOG(2))))","v":-0.34673344797874411},null,{"$f":"N9","v":21},{"$f":"COUNTIF(L23:L37,Y9)","v":10},{"$f":"Z9/(AB4-Z8)","v":0.90909090909090906},{"$f":"IF(AA9=0,0,(AA9*((LOG(AA9))/LOG(2))))","v":-0.12500320340903179},null,{"$f":"N9","v":21},{"$f":"COUNTIF(L38:L53,AD9)","v":4},{"$f":"AE9/(AG4-AE8)","v":0.5},{"$f":"IF(AF9=0,0,(AF9*((LOG(AF9))/LOG(2))))","v":-0.5},null,{"$f":"N9","v":21},{"$f":"COUNTIF(L54:L69,AI9)","v":6},{"$f":"AJ9/(AL4-AJ8)","v":1},{"$f":"IF(AK9=0,0,(AK9*((LOG(AK9))/LOG(2))))","v":0},null,{"$f":"N9","v":21},{"$f":"COUNTIF(L70:L84,AN9)","v":4},{"$f":"AO9/(AQ4-AO8)","v":0.44444444444444442},{"$f":"IF(AP9=0,0,(AP9*((LOG(AP9))/LOG(2))))","v":-0.51996666730769447},null,{"$f":"N9","v":21},{"$f":"COUNTIF(L85:L100,AS9)","v":1},{"$f":"AT9/(AV4-AT8)","v":0.14285714285714285},{"$f":"IF(AU9=0,0,(AU9*((LOG(AU9))/LOG(2))))","v":-0.40105070315108626}]
[22,455,23,493,null,null,null,null,null,null,0,22,null,22,{"$f":"COUNTIF($L$7:$L$500,N10)","v":10},{"$f":"O10/$Q$4","v":0.10638297872340426},{"$f":"IF(P10=0,0,(P10*((LOG(P10))/LOG(2))))","v":-0.34390008050960374},null,null,{"$f":"N10","v":22},{"$f":"COUNTIF(L7:L22,T10)","v":4},{"$f":"U10/(W4-U8)","v":0.2857142857142857},{"$f":"IF(V10=0,0,(V10*((LOG(V10))/LOG(2))))","v":-0.51638712058788683},null,{"$f":"N10","v":22},{"$f":"COUNTIF(L23:L37,Y10)","v":1},{"$f":"Z10/(AB4-Z8)","v":9.0909090909090912E-2},{"$f":"IF(AA10=0,0,(AA10*((LOG(AA10))/LOG(2))))","v":-0.31449378351248153},null,{"$f":"N10","v":22},{"$f":"COUNTIF(L38:L53,AD10)","v":1},{"$f":"AE10/(AG4-AE8)","v":0.125},{"$f":"IF(AF10=0,0,(AF10*((LOG(AF10))/LOG(2))))","v":-0.375},null,{"$f":"N10","v":22},{"$f":"COUNTIF(L54:L69,AI10)","v":0},{"$f":"AJ10/(AL4-AJ8)","v":0},{"$f":"IF(AK10=0,0,(AK10*((LOG(AK10))/LOG(2))))","v":0},null,{"$f":"N10","v":22},{"$f":"COUNTIF(L70:L84,AN10)","v":1},{"$f":"AO10/(AQ4-AO8)","v":0.1111111111111111},{"$f":"IF(AP10=0,0,(AP10*((LOG(AP10))/LOG(2))))","v":-0.3522138890491458},null,{"$f":"N10","v":22},{"$f":"COUNTIF(L85:L100,AS10)","v":3},{"$f":"AT10/(AV4-AT8)","v":0.42857142857142855},{"$f":"IF(AU10=0,0,(AU10*((LOG(AU10))/LOG(2))))","v":-0.52388246628704915}]
[22,653,23,683,null,null,null,null,null,null,0,22,null,null,null,null,null,null,null,{"$f":"N11","v":0},{"$f":"COUNTIF(L7:L22,T11)","v":0},{"$f":"U11/(W4-U8)","v":0},{"$f":"IF(V11=0,0,(V11*((LOG(V11))/LOG(2))))","v":0},null,{"$f":"N11","v":0},{"$f":"COUNTIF(L23:L37,Y11)","v":0},{"$f":"Z11/(AB4-Z8)","v":0},{"$f":"IF(AA11=0,0,(AA11*((LOG(AA11))/LOG(2))))","v":0},null,{"$f":"N11","v":0},{"$f":"COUNTIF(L38:L53,AD11)","v":0},{"$f":"AE11/(AG4-AE8)","v":0},{"$f":"IF(AF11=0,0,(AF11*((LOG(AF11))/LOG(2))))","v":0},null,{"$f":"N11","v":0},{"$f":"COUNTIF(L54:L69,AI11)","v":0},{"$f":"AJ11/(AL4-AJ8)","v":0},{"$f":"IF(AK11=0,0,(AK11*((LOG(AK11))/LOG(2))))","v":0},null,{"$f":"N11","v":0},{"$f":"COUNTIF(L70:L84,AN11)","v":0},{"$f":"AO11/(AQ4-AO8)","v":0},{"$f":"IF(AP11=0,0,(AP11*((LOG(AP11))/LOG(2))))","v":0},null,{"$f":"N11","v":0},{"$f":"COUNTIF(L85:L100,AS11)","v":0},{"$f":"AT11/(AV4-AT8)","v":0},{"$f":"IF(AU11=0,0,(AU11*((LOG(AU11))/LOG(2))))","v":0}]
[22,830,23,858,null,null,null,null,null,null,0,22,null,null,null,null,null,null,null,{"$f":"N12","v":0},{"$f":"COUNTIF(L7:L22,T12)","v":0},{"$f":"U12/(W4-U8)","v":0},{"$f":"IF(V12=0,0,(V12*((LOG(V12))/LOG(2))))","v":0},null,{"$f":"N12","v":0},{"$f":"COUNTIF(L23:L37,Y12)","v":0},{"$f":"Z12/(AB4-Z8)","v":0},{"$f":"IF(AA12=0,0,(AA12*((LOG(AA12))/LOG(2))))","v":0},null,{"$f":"N12","v":0},{"$f":"COUNTIF(L38:L53,AD12)","v":0},{"$f":"AE12/(AG4-AE8)","v":0},{"$f":"IF(AF12=0,0,(AF12*((LOG(AF12))/LOG(2))))","v":0},null,{"$f":"N12","v":0},{"$f":"COUNTIF(L54:L69,AI12)","v":0},{"$f":"AJ12/(AL4-AJ8)","v":0},{"$f":"IF(AK12=0,0,(AK12*((LOG(AK12))/LOG(2))))","v":0},null,{"$f":"N12","v":0},{"$f":"COUNTIF(L70:L84,AN12)","v":0},{"$f":"AO12/(AQ4-AO8)","v":0},{"$f":"IF(AP12=0,0,(AP12*((LOG(AP12))/LOG(2))))","v":0},null,{"$f":"N12","v":0},{"$f":"COUNTIF(L85:L100,AS12)","v":0},{"$f":"AT12/(AV4-AT8)","v":0},{"$f":"IF(AU12=0,0,(AU12*((LOG(AU12))/LOG(2))))","v":0}]
[22,1019,23,1048,null,null,null,null,null,null,0,22,null,null,null,null,null,null,null,{"$f":"N13","v":0},{"$f":"COUNTIF(L7:L22,T13)","v":0},{"$f":"U13/(W4-U8)","v":0},{"$f":"IF(V13=0,0,(V13*((LOG(V13))/LOG(2))))","v":0},null,{"$f":"N13","v":0},{"$f":"COUNTIF(L23:L37,Y13)","v":0},{"$f":"Z13/(AB4-Z8)","v":0},{"$f":"IF(AA13=0,0,(AA13*((LOG(AA13))/LOG(2))))","v":0},null,{"$f":"N13","v":0},{"$f":"COUNTIF(L38:L53,AD13)","v":0},{"$f":"AE13/(AG4-AE8)","v":0},{"$f":"IF(AF13=0,0,(AF13*((LOG(AF13))/LOG(2))))","v":0},null,{"$f":"N13","v":0},{"$f":"COUNTIF(L54:L69,AI13)","v":0},{"$f":"AJ13/(AL4-AJ8)","v":0},{"$f":"IF(AK13=0,0,(AK13*((LOG(AK13))/LOG(2))))","v":0},null,{"$f":"N13","v":0},{"$f":"COUNTIF(L70:L84,AN13)","v":0},{"$f":"AO13/(AQ4-AO8)","v":0},{"$f":"IF(AP13=0,0,(AP13*((LOG(AP13))/LOG(2))))","v":0},null,{"$f":"N13","v":0},{"$f":"COUNTIF(L85:L100,AS13)","v":0},{"$f":"AT13/(AV4-AT8)","v":0},{"$f":"IF(AU13=0,0,(AU13*((LOG(AU13))/LOG(2))))","v":0}]
[22,1181,14,1197,null,null,null,null,null,null,0,21,null,null,null,null,null,null,null,{"$f":"N14","v":0},{"$f":"COUNTIF(L7:L22,T14)","v":0},{"$f":"U14/(W4-U8)","v":0},{"$f":"IF(V14=0,0,(V14*((LOG(V14))/LOG(2))))","v":0},null,{"$f":"N14","v":0},{"$f":"COUNTIF(L23:L37,Y14)","v":0},{"$f":"Z14/(AB4-Z8)","v":0},{"$f":"IF(AA14=0,0,(AA14*((LOG(AA14))/LOG(2))))","v":0},null,{"$f":"N14","v":0},{"$f":"COUNTIF(L38:L53,AD14)","v":0},{"$f":"AE14/(AG4-AE8)","v":0},{"$f":"IF(AF14=0,0,(AF14*((LOG(AF14))/LOG(2))))","v":0},null,{"$f":"N14","v":0},{"$f":"COUNTIF(L54:L69,AI14)","v":0},{"$f":"AJ14/(AL4-AJ8)","v":0},{"$f":"IF(AK14=0,0,(AK14*((LOG(AK14))/LOG(2))))","v":0},null,{"$f":"N14","v":0},{"$f":"COUNTIF(L70:L84,AN14)","v":0},{"$f":"AO14/(AQ4-AO8)","v":0},{"$f":"IF(AP14=0,0,(AP14*((LOG(AP14))/LOG(2))))","v":0},null,{"$f":"N14","v":0},{"$f":"COUNTIF(L85:L100,AS14)","v":0},{"$f":"AT14/(AV4-AT8)","v":0},{"$f":"IF(AU14=0,0,(AU14*((LOG(AU14))/LOG(2))))","v":0}]
[22,1378,14,1399,null,null,null,null,null,null,0,21,null,null,null,{"$f":"SUM(P7:P14)","v":1},{"$f":"-SUM(Q7:Q14)","v":1.745076574800523},null,null,null,null,{"$f":"SUM(V7:V14)","v":1},{"$f":"-SUM(W7:W14)","v":0.863120568566631},null,null,null,{"$f":"SUM(AA7:AA14)","v":1},{"$f":"-SUM(AB7:AB14)","v":0.43949698692151329},null,null,null,{"$f":"SUM(AF7:AF14)","v":1},{"$f":"-SUM(AG7:AG14)","v":1.4056390622295665},null,null,null,{"$f":"SUM(AK7:AK14)","v":1},{"$f":"-SUM(AL7:AL14)","v":0},null,null,null,{"$f":"SUM(AP7:AP14)","v":1},{"$f":"-SUM(AQ7:AQ14)","v":1.3921472236645347},null,null,null,{"$f":"SUM(AU7:AU14)","v":1},{"$f":"-SUM(AV7:AV14)","v":1.4488156357251847}]
[22,1535,14,1548,null,null,null,null,null,null,0,21,null,null,null,"U=",{"$f":"Q15/(LOG(Q4)/LOG(2))","v":0.26623738182355611},null,null,null,null,"U1=",{"$f":"W15/(LOG(W4)/LOG(2))","v":0.21578014214165775},null,null,null,"U2=",{"$f":"AB15/(LOG(AB4)/LOG(2))","v":0.11249278068229585},null,null,null,"U3=",{"$f":"AG15/(LOG(AG4)/LOG(2))","v":0.35140976555739162},null,null,null,"U4=",{"$f":"AL15/(LOG(AL4)/LOG(2))","v":0},null,null,null,"U5=",{"$f":"AQ15/(LOG(AQ4)/LOG(2))","v":0.35633125361364271},null,null,null,"U6=",{"$f":"AV15/(LOG(AV4)/LOG(2))","v":0.36220390893129617}]
[11,1675,21,1688,null,null,null,null,null,null,0,12]
[11,1798,21,1815,null,null,null,null,null,null,0,12]
[22,1936,14,1951,null,null,null,null,null,null,0,21,null,"Total Target Seq"]
[22,2078,14,2093,null,null,null,null,null,null,0,21,null,{"$f":"COUNTIF(L7:L100,G3)","v":39},null,16,15,16,16,15,16]
[22,2223,14,2239,null,null,null,null,null,null,0,21,null,null,null,"% of reinforcement given in 6 equal intervals based on number of trials "]
[22,2369,14,2385,null,null,null,null,null,null,0,21,null,null,null,"%_1","%_2","%_3","%_4","%_5","%_6"]
[11,2507,21,2523,null,null,null,null,null,null,0,12,null,null,"target sequence",{"$f":"$G$3","v":12},{"$f":"$G$3","v":12},{"$f":"$G$3","v":12},{"$f":"$G$3","v":12},{"$f":"$G$3","v":12},{"$f":"$G$3","v":12}]
[22,2644,14,2672,null,null,null,null,null,null,0,21,null,null,"total reinforcement",{"$f":"U8","v":2},{"$f":"Z8","v":4},{"$f":"AE8","v":8},{"$f":"AJ8","v":10},{"$f":"AO8","v":6},{"$f":"AT8","v":9}]
[22,2801,14,2824,null,null,null,null,null,null,0,21,null,null,"% target"]
[22,2959,14,2974,null,null,null,null,null,null,0,21,null,null,"CCRF"]
[22,3108,14,3127,null,null,null,null,null,null,0,21,null,null,"% CCRf"]
[11,3245,21,3259,null,null,null,null,null,null,0,12,null,null,"average response rate",{"$f":"D22/P20","v":149.0625},{"$f":"(D37-D22)/Q20","v":145.80000000000001},{"$f":"(D53-D37)/R20","v":138.6875},{"$f":"(D69-D53)/S20","v":138.4375},{"$f":"(D84-D69)/T20","v":152.53333333333333},{"$f":"(D100-D84)/U20","v":142.875}]
[22,3385,23,3412,null,null,null,null,null,null,0,22]
[22,3540,14,3553,null,null,null,null,null,null,0,21]
[11,3669,21,3683,null,null,null,null,null,null,0,12]
[22,3801,14,3827,null,null,null,null,null,null,0,21]
[11,3943,21,3996,null,null,null,null,null,null,0,12]
[22,4113,14,4130,null,null,null,null,null,null,0,21]
[22,4259,14,4275,null,null,null,null,null,null,0,21]
[22,4405,14,4425,null,null,null,null,null,null,0,21]
[22,4556,14,4572,null,null,null,null,null,null,0,21]
[22,4699,14,4716,null,null,null,null,null,null,0,21]
[11,4836,21,4850,null,null,null,null,null,null,0,12]
[11,4957,12,4984,null,null,null,null,null,null,0,11]
[11,5090,21,5123,null,null,null,null,null,null,0,12]
[11,5226,21,5241,null,null,null,null,null,null,0,12]
[22,5358,14,5390,null,null,null,null,null,null,0,21]
[11,5506,21,5520,null,null,null,null,null,null,0,12]
[22,5641,23,5671,null,null,null,null,null,null,0,22]
[11,5787,21,5800,null,null,null,null,null,null,0,12]
[11,5908,21,5922,null,null,null,null,null,null,0,12]
[22,6071,14,6143,null,null,null,null,null,null,0,21]
[22,6268,14,6286,null,null,null,null,null,null,0,21]
[11,6399,12,6420,null,null,null,null,null,null,0,11]
[11,6532,12,6542,null,null,null,null,null,null,0,11]
[11,6659,21,6672,null,null,null,null,null,null,0,12]
[11,6776,21,6791,null,null,null,null,null,null,0,12]
[22,6925,14,6967,null,null,null,null,null,null,0,21]
[22,7095,14,7127,null,null,null,null,null,null,0,21]
[22,7255,14,7276,null,null,null,null,null,null,0,21]
[11,7393,21,7403,null,null,null,null,null,null,0,12]
[11,7513,21,7526,null,null,null,null,null,null,0,12]
[11,7637,21,7651,null,null,null,null,null,null,0,12]
[11,7758,21,7774,null,null,null,null,null,null,0,12]
[22,7892,14,7906,null,null,null,null,null,null,0,21]
[11,8018,21,8032,null,null,null,null,null,null,0,12]
[22,8149,14,8190,null,null,null,null,null,null,0,21]
[11,8300,21,8309,null,null,null,null,null,null,0,12]
[11,8417,21,8436,null,null,null,null,null,null,0,12]
[11,8538,21,8551,null,null,null,null,null,null,0,12]
[11,8655,21,8671,null,null,null,null,null,null,0,12]
[11,8773,21,8782,null,null,null,null,null,null,0,12]
[22,8968,14,9006,null,null,null,null,null,null,0,21]
[11,9116,21,9156,null,null,null,null,null,null,0,12]
[22,9298,14,9325,null,null,null,null,null,null,0,21]
[22,9454,14,9516,null,null,null,null,null,null,0,21]
[11,9633,12,9696,null,null,null,null,null,null,0,11]
[22,9852,14,9877,null,null,null,null,null,null,0,21]
[22,10010,14,10024,null,null,null,null,null,null,0,21]
[11,10139,12,10169,null,null,null,null,null,null,0,11]
[11,10286,21,10303,null,null,null,null,null,null,0,12]
[11,10403,21,10420,null,null,null,null,null,null,0,12]
[22,10541,23,10567,null,null,null,null,null,null,0,22]
[11,10682,21,10699,null,null,null,null,null,null,0,12]
[11,10799,12,10840,null,null,null,null,null,null,0,11]
[11,10953,21,11003,null,null,null,null,null,null,0,12]
[11,11107,12,11167,null,null,null,null,null,null,0,11]
[11,11277,21,11294,null,null,null,null,null,null,0,12]
[11,11396,21,11411,null,null,null,null,null,null,0,12]
[22,11535,14,11551,null,null,null,null,null,null,0,21]
[11,11662,12,11718,null,null,null,null,null,null,0,11]
[11,11827,21,11919,null,null,null,null,null,null,0,12]
[11,12030,12,12051,null,null,null,null,null,null,0,11]
[11,12160,12,12181,null,null,null,null,null,null,0,11]
[11,12294,21,12312,null,null,null,null,null,null,0,12]
[22,12432,23,12465,null,null,null,null,null,null,0,22]
[11,12576,21,12614,null,null,null,null,null,null,0,12]
[11,12742,21,12758,null,null,null,null,null,null,0,12]
[11,12875,21,12886,null,null,null,null,null,null,0,12]
[11,12986,21,13021,null,null,null,null,null,null,0,12]
[11,13128,21,13138,null,null,null,null,null,null,0,12]
[22,13261,23,13296,null,null,null,null,null,null,0,22]
[22,13428,23,13455,null,null,null,null,null,null,0,22]
[11,13566,21,13580,null,null,null,null,null,null,1,12]

{"sheet":"!MC05A10.105","index":9,"n_rows":85,"n_cols":48,"rows_kept":85,"cut":false,"hidden":false,"merged":[[4,39,4,42],[5,39,5,40],[4,44,4,47],[5,44,5,45],[4,24,4,27],[5,24,5,25],[4,29,4,32],[5,29,5,30],[4,34,4,37],[5,34,5,35],[1,1,1,2],[5,13,5,14],[18,13,18,14],[19,13,19,14],[4,19,4,22],[5,19,5,20]]}
["Report for:!MC05A10.105"]
["Date:","<date>"]
["Hen:","<hen>",null,null,null,"Correct Sequence",{"$f":"Start!J2","v":12},null,null,null,null,null,null,null,null,"Total Sequences in Data",{"$f":"4994-COUNTBLANK(L7:L5000)","v":79},null,null,null,null,"Total Sequences in Block Data",{"$f":"COUNTA(L7:L19)","v":13},null,null,null,"Total Sequences in Block Data",{"$f":"COUNTA(L20:L32)","v":13},null,null,null,"Total Sequences in Block Data",{"$f":"COUNTA(L33:L46)","v":14},null,null,null,"Total Sequences in Block Data",{"$f":"COUNTA(L47:L59)","v":13},null,null,null,"Total Sequences in Block Data",{"$f":"COUNTA(L60:L72)","v":13},null,null,null,"Total Sequences in Block Data",{"$f":"COUNTA(L73:L85)","v":13}]
[null,null,null,null,null,null,null,null,null,null,null,null,null,null,null,"Total Sequences in Summary",{"$f":"SUM(O7:O14)","v":79},null,null,null,null,"Total Sequences in Block Summary",{"$f":"SUM(U7:U14)","v":13},null,null,null,"Total Sequences in Block Summary",{"$f":"SUM(Z7:Z14)","v":13},null,null,null,"Total Sequences in Block Summary",{"$f":"SUM(AE7:AE14)","v":14},null,null,null,"Total Sequences in Block Summary",{"$f":"SUM(AJ7:AJ14)","v":13},null,null,null,"Total Sequences in Block Summary",{"$f":"SUM(AO7:AO14)","v":13},null,null,null,"Total Sequences in Block Summary",{"$f":"SUM(AT7:AT14)","v":13}]
[null,null,null,null,null,null,null,null,null,null,null,null,null,null,null,null,null,null,null,"Block 1",null,null,null,null,"Block 2",null,null,null,null,"Block 3",null,null,null,null,"Block 4",null,null,null,null,"Block 5",null,null,null,null,"Block 6"]
["Sequence\nComponent\n1","Time\n1","Sequence\nComponent\n2","Time\n2","Sequence\nComponent\n3","Time\n3","Sequence\nComponent\n4","Time\n4","Sequence\nComponent\n5","Time\n5","Correct?\n0=No 1=Yes","Sequence",null,"Frequency",null,"Relative Frequency","Variability",null,null,"Frequency",null,"Relative Frequency","Variability",null,"Frequency",null,"Relative Frequency","Variability",null,"Frequency",null,"Relative Frequency","Variability",null,"Frequency",null,"Relative Frequency","Variability",null,"Frequency",null,"Relative Frequency","Variability",null,"Frequency",null,"Relative Frequency","Variability"]
[11,21,21,35,null,null,null,null,null,null,0,12,null,11,{"$f":"COUNTIF($L$7:$L$500,N7)","v":7},{"$f":"O7/$Q$4","v":8.8607594936708861E-2},{"$f":"IF(P7=0,0,(P7*((LOG(P7))/LOG(2))))","v":-0.30980988332704423},null,null,{"$f":"N7","v":11},{"$f":"COUNTIF(L7:L19,T7)","v":0},{"$f":"U7/(W4-U8)","v":0},{"$f":"IF(V7=0,0,(V7*((LOG(V7))/LOG(2))))","v":0},null,{"$f":"N7","v":11},{"$f":"COUNTIF(L20:L32,Y7)","v":0},{"$f":"Z7/(AB4-Z8)","v":0},{"$f":"IF(AA7=0,0,(AA7*((LOG(AA7))/LOG(2))))","v":0},null,{"$f":"N7","v":11},{"$f":"COUNTIF(L33:L46,AD7)","v":0},{"$f":"AE7/(AG4-AE8)","v":0},{"$f":"IF(AF7=0,0,(AF7*((LOG(AF7))/LOG(2))))","v":0},null,{"$f":"N7","v":11},{"$f":"COUNTIF(L47:L59,AI7)","v":3},{"$f":"AJ7/(AL4-AJ8)","v":0.375},{"$f":"IF(AK7=0,0,(AK7*((LOG(AK7))/LOG(2))))","v":-0.53063906222956647},null,{"$f":"N7","v":11},{"$f":"COUNTIF(L60:L72,AN7)","v":2},{"$f":"AO7/(AQ4-AO8)","v":0.4},{"$f":"IF(AP7=0,0,(AP7*((LOG(AP7))/LOG(2))))","v":-0.52877123795494496},null,{"$f":"N7","v":11},{"$f":"COUNTIF(L73:L85,AS7)","v":2},{"$f":"AT7/(AV4-AT8)","v":0.4},{"$f":"IF(AU7=0,0,(AU7*((LOG(AU7))/LOG(2))))","v":-0.52877123795494496}]
[22,179,23,204,null,null,null,null,null,null,0,22,null,12,{"$f":"COUNTIF($L$7:$L$500,N8)","v":39},{"$f":"O8/$Q$4","v":0.49367088607594939},{"$f":"IF(P8=0,0,(P8*((LOG(P8))/LOG(2))))","v":-0.50274383092758645},null,null,{"$f":"N8","v":12},{"$f":"COUNTIF(L7:L19,T8)","v":5},null,null,null,{"$f":"N8","v":12},{"$f":"COUNTIF(L20:L32,Y8)","v":5},null,null,null,{"$f":"N8","v":12},{"$f":"COUNTIF(L33:L46,AD8)","v":8},null,null,null,{"$f":"N8","v":12},{"$f":"COUNTIF(L47:L59,AI8)","v":5},null,null,null,{"$f":"N8","v":12},{"$f":"COUNTIF(L60:L72,AN8)","v":8},null,null,null,{"$f":"N8","v":12},{"$f":"COUNTIF(L73:L85,AS8)","v":8}]
[22,341,23,371,null,null,null,null,null,null,0,22,null,21,{"$f":"COUNTIF($L$7:$L$500,N9)","v":24},{"$f":"O9/$Q$4","v":0.30379746835443039},{"$f":"IF(P9=0,0,(P9*((LOG(P9))/LOG(2))))","v":-0.52217263213851539},null,null,{"$f":"N9","v":21},{"$f":"COUNTIF(L7:L19,T9)","v":4},{"$f":"U9/(W4-U8)","v":0.5},{"$f":"IF(V9=0,0,(V9*((LOG(V9))/LOG(2))))","v":-0.5},null,{"$f":"N9","v":21},{"$f":"COUNTIF(L20:L32,Y9)","v":6},{"$f":"Z9/(AB4-Z8)","v":0.75},{"$f":"IF(AA9=0,0,(AA9*((LOG(AA9))/LOG(2))))","v":-0.31127812445913283},null,{"$f":"N9","v":21},{"$f":"COUNTIF(L33:L46,AD9)","v":3},{"$f":"AE9/(AG4-AE8)","v":0.5},{"$f":"IF(AF9=0,0,(AF9*((LOG(AF9))/LOG(2))))","v":-0.5},null,{"$f":"N9","v":21},{"$f":"COUNTIF(L47:L59,AI9)","v":5},{"$f":"AJ9/(AL4-AJ8)","v":0.625},{"$f":"IF(AK9=0,0,(AK9*((LOG(AK9))/LOG(2))))","v":-0.42379494069539858},null,{"$f":"N9","v":21},{"$f":"COUNTIF(L60:L72,AN9)","v":3},{"$f":"AO9/(AQ4-AO8)","v":0.6},{"$f":"IF(AP9=0,0,(AP9*((LOG(AP9))/LOG(2))))","v":-0.44217935649972373},null,{"$f":"N9","v":21},{"$f":"COUNTIF(L73:L85,AS9)","v":3},{"$f":"AT9/(AV4-AT8)","v":0.6},{"$f":"IF(AU9=0,0,(AU9*((LOG(AU9))/LOG(2))))","v":-0.44217935649972373}]
[22,502,23,528,null,null,null,null,null,null,0,22,null,22,{"$f":"COUNTIF($L$7:$L$500,N10)","v":9},{"$f":"O10/$Q$4","v":0.11392405063291139},{"$f":"IF(P10=0,0,(P10*((LOG(P10))/LOG(2))))","v":-0.35702154076725467},null,null,{"$f":"N10","v":22},{"$f":"COUNTIF(L7:L19,T10)","v":4},{"$f":"U10/(W4-U8)","v":0.5},{"$f":"IF(V10=0,0,(V10*((LOG(V10))/LOG(2))))","v":-0.5},null,{"$f":"N10","v":22},{"$f":"COUNTIF(L20:L32,Y10)","v":2},{"$f":"Z10/(AB4-Z8)","v":0.25},{"$f":"IF(AA10=0,0,(AA10*((LOG(AA10))/LOG(2))))","v":-0.5},null,{"$f":"N10","v":22},{"$f":"COUNTIF(L33:L46,AD10)","v":3},{"$f":"AE10/(AG4-AE8)","v":0.5},{"$f":"IF(AF10=0,0,(AF10*((LOG(AF10))/LOG(2))))","v":-0.5},null,{"$f":"N10","v":22},{"$f":"COUNTIF(L47:L59,AI10)","v":0},{"$f":"AJ10/(AL4-AJ8)","v":0},{"$f":"IF(AK10=0,0,(AK10*((LOG(AK10))/LOG(2))))","v":0},null,{"$f":"N10","v":22},{"$f":"COUNTIF(L60:L72,AN10)","v":0},{"$f":"AO10/(AQ4-AO8)","v":0},{"$f":"IF(AP10=0,0,(AP10*((LOG(AP10))/LOG(2))))","v":0},null,{"$f":"N10","v":22},{"$f":"COUNTIF(L73:L85,AS10)","v":0},{"$f":"AT10/(AV4-AT8)","v":0},{"$f":"IF(AU10=0,0,(AU10*((LOG(AU10))/LOG(2))))","v":0}]
[22,647,23,673,null,null,null,null,null,null,0,22,null,null,null,null,null,null,null,{"$f":"N11","v":0},{"$f":"COUNTIF(L7:L19,T11)","v":0},{"$f":"U11/(W4-U8)","v":0},{"$f":"IF(V11=0,0,(V11*((LOG(V11))/LOG(2))))","v":0},null,{"$f":"N11","v":0},{"$f":"COUNTIF(L20:L32,Y11)","v":0},{"$f":"Z11/(AB4-Z8)","v":0},{"$f":"IF(AA11=0,0,(AA11*((LOG(AA11))/LOG(2))))","v":0},null,{"$f":"N11","v":0},{"$f":"COUNTIF(L33:L46,AD11)","v":0},{"$f":"AE11/(AG4-AE8)","v":0},{"$f":"IF(AF11=0,0,(AF11*((LOG(AF11))/LOG(2))))","v":0},null,{"$f":"N11","v":0},{"$f":"COUNTIF(L47:L59,AI11)","v":0},{"$f":"AJ11/(AL4-AJ8)","v":0},{"$f":"IF(AK11=0,0,(AK11*((LOG(AK11))/LOG(2))))","v":0},null,{"$f":"N11","v":0},{"$f":"COUNTIF(L60:L72,AN11)","v":0},{"$f":"AO11/(AQ4-AO8)","v":0},{"$f":"IF(AP11=0,0,(AP11*((LOG(AP11))/LOG(2))))","v":0},null,{"$f":"N11","v":0},{"$f":"COUNTIF(L73:L85,AS11)","v":0},{"$f":"AT11/(AV4-AT8)","v":0},{"$f":"IF(AU11=0,0,(AU11*((LOG(AU11))/LOG(2))))","v":0}]
[22,826,14,840,null,null,null,null,null,null,0,21,null,null,null,null,null,null,null,{"$f":"N12","v":0},{"$f":"COUNTIF(L7:L19,T12)","v":0},{"$f":"U12/(W4-U8)","v":0},{"$f":"IF(V12=0,0,(V12*((LOG(V12))/LOG(2))))","v":0},null,{"$f":"N12","v":0},{"$f":"COUNTIF(L20:L32,Y12)","v":0},{"$f":"Z12/(AB4-Z8)","v":0},{"$f":"IF(AA12=0,0,(AA12*((LOG(AA12))/LOG(2))))","v":0},null,{"$f":"N12","v":0},{"$f":"COUNTIF(L33:L46,AD12)","v":0},{"$f":"AE12/(AG4-AE8)","v":0},{"$f":"IF(AF12=0,0,(AF12*((LOG(AF12))/LOG(2))))","v":0},null,{"$f":"N12","v":0},{"$f":"COUNTIF(L47:L59,AI12)","v":0},{"$f":"AJ12/(AL4-AJ8)","v":0},{"$f":"IF(AK12=0,0,(AK12*((LOG(AK12))/LOG(2))))","v":0},null,{"$f":"N12","v":0},{"$f":"COUNTIF(L60:L72,AN12)","v":0},{"$f":"AO12/(AQ4-AO8)","v":0},{"$f":"IF(AP12=0,0,(AP12*((LOG(AP12))/LOG(2))))","v":0},null,{"$f":"N12","v":0},{"$f":"COUNTIF(L73:L85,AS12)","v":0},{"$f":"AT12/(AV4-AT8)","v":0},{"$f":"IF(AU12=0,0,(AU12*((LOG(AU12))/LOG(2))))","v":0}]
[11,952,21,967,null,null,null,null,null,null,0,12,null,null,null,null,null,null,null,{"$f":"N13","v":0},{"$f":"COUNTIF(L7:L19,T13)","v":0},{"$f":"U13/(W4-U8)","v":0},{"$f":"IF(V13=0,0,(V13*((LOG(V13))/LOG(2))))","v":0},null,{"$f":"N13","v":0},{"$f":"COUNTIF(L20:L32,Y13)","v":0},{"$f":"Z13/(AB4-Z8)","v":0},{"$f":"IF(AA13=0,0,(AA13*((LOG(AA13))/LOG(2))))","v":0},null,{"$f":"N13","v":0},{"$f":"COUNTIF(L33:L46,AD13)","v":0},{"$f":"AE13/(AG4-AE8)","v":0},{"$f":"IF(AF13=0,0,(AF13*((LOG(AF13))/LOG(2))))","v":0},null,{"$f":"N13","v":0},{"$f":"COUNTIF(L47:L59,AI13)","v":0},{"$f":"AJ13/(AL4-AJ8)","v":0},{"$f":"IF(AK13=0,0,(AK13*((LOG(AK13))/LOG(2))))","v":0},null,{"$f":"N13","v":0},{"$f":"COUNTIF(L60:L72,AN13)","v":0},{"$f":"AO13/(AQ4-AO8)","v":0},{"$f":"IF(AP13=0,0,(AP13*((LOG(AP13))/LOG(2))))","v":0},null,{"$f":"N13","v":0},{"$f":"COUNTIF(L73:L85,AS13)","v":0},{"$f":"AT13/(AV4-AT8)","v":0},{"$f":"IF(AU13=0,0,(AU13*((LOG(AU13))/LOG(2))))","v":0}]
[11,1073,21,1110,null,null,null,null,null,null,0,12,null,null,null,null,null,null,null,{"$f":"N14","v":0},{"$f":"COUNTIF(L7:L19,T14)","v":0},{"$f":"U14/(W4-U8)","v":0},{"$f":"IF(V14=0,0,(V14*((LOG(V14))/LOG(2))))","v":0},null,{"$f":"N14","v":0},{"$f":"COUNTIF(L20:L32,Y14)","v":0},{"$f":"Z14/(AB4-Z8)","v":0},{"$f":"IF(AA14=0,0,(AA14*((LOG(AA14))/LOG(2))))","v":0},null,{"$f":"N14","v":0},{"$f":"COUNTIF(L33:L46,AD14)","v":0},{"$f":"AE14/(AG4-AE8)","v":0},{"$f":"IF(AF14=0,0,(AF14*((LOG(AF14))/LOG(2))))","v":0},null,{"$f":"N14","v":0},{"$f":"COUNTIF(L47:L59,AI14)","v":0},{"$f":"AJ14/(AL4-AJ8)","v":0},{"$f":"IF(AK14=0,0,(AK14*((LOG(AK14))/LOG(2))))","v":0},null,{"$f":"N14","v":0},{"$f":"COUNTIF(L60:L72,AN14)","v":0},{"$f":"AO14/(AQ4-AO8)","v":0},{"$f":"IF(AP14=0,0,(AP14*((LOG(AP14))/LOG(2))))","v":0},null,{"$f":"N14","v":0},{"$f":"COUNTIF(L73:L85,AS14)","v":0},{"$f":"AT14/(AV4-AT8)","v":0},{"$f":"IF(AU14=0,0,(AU14*((LOG(AU14))/LOG(2))))","v":0}]
[11,1256,21,1269,null,null,null,null,null,null,0,12,null,null,null,{"$f":"SUM(P7:P14)","v":1},{"$f":"-SUM(Q7:Q14)","v":1.6917478871604006},null,null,null,null,{"$f":"SUM(V7:V14)","v":1},{"$f":"-SUM(W7:W14)","v":1},null,null,null,{"$f":"SUM(AA7:AA14)","v":1},{"$f":"-SUM(AB7:AB14)","v":0.81127812445913283},null,null,null,{"$f":"SUM(AF7:AF14)","v":1},{"$f":"-SUM(AG7:AG14)","v":1},null,null,null,{"$f":"SUM(AK7:AK14)","v":1},{"$f":"-SUM(AL7:AL14)","v":0.95443400292496505},null,null,null,{"$f":"SUM(AP7:AP14)","v":1},{"$f":"-SUM(AQ7:AQ14)","v":0.97095059445466869},null,null,null,{"$f":"SUM(AU7:AU14)","v":1},{"$f":"-SUM(AV7:AV14)","v":0.97095059445466869}]
[22,1415,14,1453,null,null,null,null,null,null,0,21,null,null,null,"U=",{"$f":"Q15/(LOG(Q4)/LOG(2))","v":0.26837035657523656},null,null,null,null,"U1=",{"$f":"W15/(LOG(W4)/LOG(2))","v":0.27023815442731974},null,null,null,"U2=",{"$f":"AB15/(LOG(AB4)/LOG(2))","v":0.21923830308109346},null,null,null,"U3=",{"$f":"AG15/(LOG(AG4)/LOG(2))","v":0.26264953503719357},null,null,null,"U4=",{"$f":"AL15/(LOG(AL4)/LOG(2))","v":0.25792448347312164},null,null,null,"U5=",{"$f":"AQ15/(LOG(AQ4)/LOG(2))","v":0.26238789668553864},null,null,null,"U6=",{"$f":"AV15/(LOG(AV4)/LOG(2))","v":0.26238789668553864}]
[11,1566,21,1581,null,null,null,null,null,null,0,12]
[22,1731,14,1754,null,null,null,null,null,null,0,21]
[22,1878,14,1917,null,null,null,null,null,null,0,21,null,"Total Target Seq"]
[22,2045,14,2063,null,null,null,null,null,null,0,21,null,{"$f":"COUNTIF(L7:L85,G3)","v":39},null,13,13,14,13,13,13]
[22,2189,14,2225,null,null,null,null,null,null,0,21,null,null,null,"% of reinforcement given in 6 equal intervals based on number of trials "]
[22,2374,14,2409,null,null,null,null,null,null,0,21,null,null,null,"%_1","%_2","%_3","%_4","%_5","%_6"]
[11,2517,21,2527,null,null,null,null,null,null,0,12,null,null,"target sequence",{"$f":"$G$3","v":12},{"$f":"$G$3","v":12},{"$f":"$G$3","v":12},{"$f":"$G$3","v":12},{"$f":"$G$3","v":12},{"$f":"$G$3","v":12}]
[22,2643,14,2658,null,null,null,null,null,null,0,21,null,null,"total reinforcement",{"$f":"U8","v":5},{"$f":"Z8","v":5},{"$f":"AE8","v":8},{"$f":"AJ8","v":5},{"$f":"AO8","v":8},{"$f":"AT8","v":8}]
[22,2783,23,2815,null,null,null,null,null,null,0,22,null,null,"% target"]
[22,2945,23,2977,null,null,null,null,null,null,0,22,null,null,"CCRF"]
[11,3090,21,3108,null,null,null,null,null,null,0,12,null,null,"% CCRf"]
[11,3208,21,3223,null,null,null,null,null,null,0,12,null,null,"average response rate",{"$f":"D19/P20","v":147.46153846153845},{"$f":"(D32-D19)/Q20","v":148.15384615384616},{"$f":"(D46-D32)/R20","v":152.78571428571428},{"$f":"(D59-D46)/S20","v":135.07692307692307},{"$f":"(D72-D59)/T20","v":135.30769230769232},{"$f":"(D85-D72)/U20","v":131.38461538461539}]
[11,3321,21,3334,null,null,null,null,null,null,0,12]
[22,3463,14,3536,null,null,null,null,null,null,0,21]
[11,3648,21,3661,null,null,null,null,null,null,0,12]
[22,3803,14,3843,null,null,null,null,null,null,0,21]
[11,3952,21,3988,null,null,null,null,null,null,0,12]
[22,4126,14,4187,null,null,null,null,null,null,0,21]
[11,4298,21,4310,null,null,null,null,null,null,0,12]
[22,4423,14,4445,null,null,null,null,null,null,0,21]
[11,4556,21,4569,null,null,null,null,null,null,0,12]
[11,4671,21,4692,null,null,null,null,null,null,0,12]
[11,4793,21,4806,null,null,null,null,null,null,0,12]
[22,4951,14,4975,null,null,null,null,null,null,0,21]
[11,5086,21,5101,null,null,null,null,null,null,0,12]
[22,5276,23,5284,null,null,null,null,null,null,0,22]
[11,5394,21,5408,null,null,null,null,null,null,0,12]
[11,5504,21,5513,null,null,null,null,null,null,0,12]
[22,5676,23,5779,null,null,null,null,null,null,0,22]
[22,5912,23,5982,null,null,null,null,null,null,0,22]
[11,6102,21,6110,null,null,null,null,null,null,0,12]
[22,6227,14,6270,null,null,null,null,null,null,0,21]
[22,6388,14,6415,null,null,null,null,null,null,0,21]
[11,6522,12,6549,null,null,null,null,null,null,0,11]
[22,6663,14,6681,null,null,null,null,null,null,0,21]
[11,6791,21,6805,null,null,null,null,null,null,0,12]
[11,6905,12,6933,null,null,null,null,null,null,0,11]
[22,7056,14,7084,null,null,null,null,null,null,0,21]
[11,7194,21,7230,null,null,null,null,null,null,0,12]
[22,7349,14,7369,null,null,null,null,null,null,0,21]
[11,7476,12,7496,null,null,null,null,null,null,0,11]
[11,7617,21,7628,null,null,null,null,null,null,0,12]
[11,7727,21,7738,null,null,null,null,null,null,0,12]
[22,7859,14,7942,null,null,null,null,null,null,0,21]
[11,8054,21,8070,null,null,null,null,null,null,0,12]
[11,8174,21,8186,null,null,null,null,null,null,0,12]
[11,8290,21,8298,null,null,null,null,null,null,0,12]
[11,8402,21,8415,null,null,null,null,null,null,0,12]
[11,8514,21,8525,null,null,null,null,null,null,0,12]
[11,8638,21,8648,null,null,null,null,null,null,0,12]
[11,8748,21,8767,null,null,null,null,null,null,0,12]
[22,8884,14,8933,null,null,null,null,null,null,0,21]
[11,9041,12,9068,null,null,null,null,null,null,0,11]
[11,9180,12,9209,null,null,null,null,null,null,0,11]
[11,9317,21,9350,null,null,null,null,null,null,0,12]
[22,9479,14,9497,null,null,null,null,null,null,0,21]
[11,9613,21,9625,null,null,null,null,null,null,0,12]
[11,9726,21,9735,null,null,null,null,null,null,0,12]
[22,9853,14,9887,null,null,null,null,null,null,0,21]
[11,10000,21,10013,null,null,null,null,null,null,0,12]
[11,10117,12,10148,null,null,null,null,null,null,0,11]
[11,10259,12,10277,null,null,null,null,null,null,0,11]
[11,10387,21,10397,null,null,null,null,null,null,0,12]
[11,10498,21,10508,null,null,null,null,null,null,0,12]
[11,10606,21,10632,null,null,null,null,null,null,0,12]
[22,10768,14,10789,null,null,null,null,null,null,0,21]
[11,10898,21,10907,null,null,null,null,null,null,0,12]
[22,11034,14,11078,null,null,null,null,null,null,0,21]
[11,11187,21,11205,null,null,null,null,null,null,1,12]

{"sheet":"!MC06B10.105","index":10,"n_rows":71,"n_cols":48,"rows_kept":71,"cut":false,"hidden":false,"merged":[[4,39,4,42],[5,39,5,40],[4,44,4,47],[5,44,5,45],[4,24,4,27],[5,24,5,25],[4,29,4,32],[5,29,5,30],[4,34,4,37],[5,34,5,35],[1,1,1,2],[5,13,5,14],[18,13,18,14],[19,13,19,14],[4,19,4,22],[5,19,5,20]]}
["Report for:!MC06B10.105"]
["Date:","<date>"]
["Hen:","<hen>",null,null,null,"Correct Sequence",{"$f":"Start!J2","v":12},null,null,null,null,null,null,null,null,"Total Sequences in Data",{"$f":"4994-COUNTBLANK(L7:L5000)","v":65},null,null,null,null,"Total Sequences in Block Data",{"$f":"COUNTA(L7:L17)","v":11},null,null,null,"Total Sequences in Block Data",{"$f":"COUNTA(L18:L28)","v":11},null,null,null,"Total Sequences in Block Data",{"$f":"COUNTA(L29:L38)","v":10},null,null,null,"Total Sequences in Block Data",{"$f":"COUNTA(L39:L49)","v":11},null,null,null,"Total Sequences in Block Data",{"$f":"COUNTA(L50:L60)","v":11},null,null,null,"Total Sequences in Block Data",{"$f":"COUNTA(L61:L71)","v":11}]
[null,null,null,null,null,null,null,null,null,null,null,null,null,null,null,"Total Sequences in Summary",{"$f":"SUM(O7:O14)","v":65},null,null,null,null,"Total Sequences in Block Summary",{"$f":"SUM(U7:U14)","v":11},null,null,null,"Total Sequences in Block Summary",{"$f":"SUM(Z7:Z14)","v":11},null,null,null,"Total Sequences in Block Summary",{"$f":"SUM(AE7:AE14)","v":10},null,null,null,"Total Sequences in Block Summary",{"$f":"SUM(AJ7:AJ14)","v":11},null,null,null,"Total Sequences in Block Summary",{"$f":"SUM(AO7:AO14)","v":11},null,null,null,"Total Sequences in Block Summary",{"$f":"SUM(AT7:AT14)","v":11}]
[null,null,null,null,null,null,null,null,null,null,null,null,null,null,null,null,null,null,null,"Block 1",null,null,null,null,"Block 2",null,null,null,null,"Block 3",null,null,null,null,"Block 4",null,null,null,null,"Block 5",null,null,null,null,"Block 6"]
["Sequence\nComponent\n1","Time\n1","Sequence\nComponent\n2","Time\n2","Sequence\nComponent\n3","Time\n3","Sequence\nComponent\n4","Time\n4","Sequence\nComponent\n5","Time\n5","Correct?\n0=No 1=Yes","Sequence",null,"Frequency",null,"Relative Frequency","Variability",null,null,"Frequency",null,"Relative Frequency","Variability",null,"Frequency",null,"Relative Frequency","Variability",null,"Frequency",null,"Relative Frequency","Variability",null,"Frequency",null,"Relative Frequency","Variability",null,"Frequency",null,"Relative Frequency","Variability",null,"Frequency",null,"Relative Frequency","Variability"]
[11,5,12,15,null,null,null,null,null,null,0,11,null,11,{"$f":"COUNTIF($L$7:$L$500,N7)","v":9},{"$f":"O7/$Q$4","v":0.13846153846153847},{"$f":"IF(P7=0,0,(P7*((LOG(P7))/LOG(2))))","v":-0.39495362006577356},null,null,{"$f":"N7","v":11},{"$f":"COUNTIF(L7:L17,T7)","v":2},{"$f":"U7/(W4-U8)","v":0.4},{"$f":"IF(V7=0,0,(V7*((LOG(V7))/LOG(2))))","v":-0.52877123795494496},null,{"$f":"N7","v":11},{"$f":"COUNTIF(L18:L28,Y7)","v":0},{"$f":"Z7/(AB4-Z8)","v":0},{"$f":"IF(AA7=0,0,(AA7*((LOG(AA7))/LOG(2))))","v":0},null,{"$f":"N7","v":11},{"$f":"COUNTIF(L29:L38,AD7)","v":1},{"$f":"AE7/(AG4-AE8)","v":0.2},{"$f":"IF(AF7=0,0,(AF7*((LOG(AF7))/LOG(2))))","v":-0.46438561897747244},null,{"$f":"N7","v":11},{"$f":"COUNTIF(L39:L49,AI7)","v":1},{"$f":"AJ7/(AL4-AJ8)","v":0.5},{"$f":"IF(AK7=0,0,(AK7*((LOG(AK7))/LOG(2))))","v":-0.5},null,{"$f":"N7","v":11},{"$f":"COUNTIF(L50:L60,AN7)","v":2},{"$f":"AO7/(AQ4-AO8)","v":0.5},{"$f":"IF(AP7=0,0,(AP7*((LOG(AP7))/LOG(2))))","v":-0.5},null,{"$f":"N7","v":11},{"$f":"COUNTIF(L61:L71,AS7)","v":3},{"$f":"AT7/(AV4-AT8)","v":1},{"$f":"IF(AU7=0,0,(AU7*((LOG(AU7))/LOG(2))))","v":0}]
[11,122,21,131,null,null,null,null,null,null,0,12,null,12,{"$f":"COUNTIF($L$7:$L$500,N8)","v":40},{"$f":"O8/$Q$4","v":0.61538461538461542},{"$f":"IF(P8=0,0,(P8*((LOG(P8))/LOG(2))))","v":-0.43103982654836437},null,null,{"$f":"N8","v":12},{"$f":"COUNTIF(L7:L17,T8)","v":6},null,null,null,{"$f":"N8","v":12},{"$f":"COUNTIF(L18:L28,Y8)","v":5},null,null,null,{"$f":"N8","v":12},{"$f":"COUNTIF(L29:L38,AD8)","v":5},null,null,null,{"$f":"N8","v":12},{"$f":"COUNTIF(L39:L49,AI8)","v":9},null,null,null,{"$f":"N8","v":12},{"$f":"COUNTIF(L50:L60,AN8)","v":7},null,null,null,{"$f":"N8","v":12},{"$f":"COUNTIF(L61:L71,AS8)","v":8}]
[11,240,21,251,null,null,null,null,null,null,0,12,null,21,{"$f":"COUNTIF($L$7:$L$500,N9)","v":6},{"$f":"O9/$Q$4","v":9.2307692307692313E-2},{"$f":"IF(P9=0,0,(P9*((LOG(P9))/LOG(2))))","v":-0.31729895190528906},null,null,{"$f":"N9","v":21},{"$f":"COUNTIF(L7:L17,T9)","v":2},{"$f":"U9/(W4-U8)","v":0.4},{"$f":"IF(V9=0,0,(V9*((LOG(V9))/LOG(2))))","v":-0.52877123795494496},null,{"$f":"N9","v":21},{"$f":"COUNTIF(L18:L28,Y9)","v":2},{"$f":"Z9/(AB4-Z8)","v":0.33333333333333331},{"$f":"IF(AA9=0,0,(AA9*((LOG(AA9))/LOG(2))))","v":-0.52832083357371862},null,{"$f":"N9","v":21},{"$f":"COUNTIF(L29:L38,AD9)","v":1},{"$f":"AE9/(AG4-AE8)","v":0.2},{"$f":"IF(AF9=0,0,(AF9*((LOG(AF9))/LOG(2))))","v":-0.46438561897747244},null,{"$f":"N9","v":21},{"$f":"COUNTIF(L39:L49,AI9)","v":0},{"$f":"AJ9/(AL4-AJ8)","v":0},{"$f":"IF(AK9=0,0,(AK9*((LOG(AK9))/LOG(2))))","v":0},null,{"$f":"N9","v":21},{"$f":"COUNTIF(L50:L60,AN9)","v":1},{"$f":"AO9/(AQ4-AO8)","v":0.25},{"$f":"IF(AP9=0,0,(AP9*((LOG(AP9))/LOG(2))))","v":-0.5},null,{"$f":"N9","v":21},{"$f":"COUNTIF(L61:L71,AS9)","v":0},{"$f":"AT9/(AV4-AT8)","v":0},{"$f":"IF(AU9=0,0,(AU9*((LOG(AU9))/LOG(2))))","v":0}]
[22,362,14,382,null,null,null,null,null,null,0,21,null,22,{"$f":"COUNTIF($L$7:$L$500,N10)","v":10},{"$f":"O10/$Q$4","v":0.15384615384615385},{"$f":"IF(P10=0,0,(P10*((LOG(P10))/LOG(2))))","v":-0.4154522643293988},null,null,{"$f":"N10","v":22},{"$f":"COUNTIF(L7:L17,T10)","v":1},{"$f":"U10/(W4-U8)","v":0.2},{"$f":"IF(V10=0,0,(V10*((LOG(V10))/LOG(2))))","v":-0.46438561897747244},null,{"$f":"N10","v":22},{"$f":"COUNTIF(L18:L28,Y10)","v":4},{"$f":"Z10/(AB4-Z8)","v":0.66666666666666663},{"$f":"IF(AA10=0,0,(AA10*((LOG(AA10))/LOG(2))))","v":-0.38997500048077083},null,{"$f":"N10","v":22},{"$f":"COUNTIF(L29:L38,AD10)","v":3},{"$f":"AE10/(AG4-AE8)","v":0.6},{"$f":"IF(AF10=0,0,(AF10*((LOG(AF10))/LOG(2))))","v":-0.44217935649972373},null,{"$f":"N10","v":22},{"$f":"COUNTIF(L39:L49,AI10)","v":1},{"$f":"AJ10/(AL4-AJ8)","v":0.5},{"$f":"IF(AK10=0,0,(AK10*((LOG(AK10))/LOG(2))))","v":-0.5},null,{"$f":"N10","v":22},{"$f":"COUNTIF(L50:L60,AN10)","v":1},{"$f":"AO10/(AQ4-AO8)","v":0.25},{"$f":"IF(AP10=0,0,(AP10*((LOG(AP10))/LOG(2))))","v":-0.5},null,{"$f":"N10","v":22},{"$f":"COUNTIF(L61:L71,AS10)","v":0},{"$f":"AT10/(AV4-AT8)","v":0},{"$f":"IF(AU10=0,0,(AU10*((LOG(AU10))/LOG(2))))","v":0}]
[11,493,21,506,null,null,null,null,null,null,0,12,null,null,null,null,null,null,null,{"$f":"N11","v":0},{"$f":"COUNTIF(L7:L17,T11)","v":0},{"$f":"U11/(W4-U8)","v":0},{"$f":"IF(V11=0,0,(V11*((LOG(V11))/LOG(2))))","v":0},null,{"$f":"N11","v":0},{"$f":"COUNTIF(L18:L28,Y11)","v":0},{"$f":"Z11/(AB4-Z8)","v":0},{"$f":"IF(AA11=0,0,(AA11*((LOG(AA11))/LOG(2))))","v":0},null,{"$f":"N11","v":0},{"$f":"COUNTIF(L29:L38,AD11)","v":0},{"$f":"AE11/(AG4-AE8)","v":0},{"$f":"IF(AF11=0,0,(AF11*((LOG(AF11))/LOG(2))))","v":0},null,{"$f":"N11","v":0},{"$f":"COUNTIF(L39:L49,AI11)","v":0},{"$f":"AJ11/(AL4-AJ8)","v":0},{"$f":"IF(AK11=0,0,(AK11*((LOG(AK11))/LOG(2))))","v":0},null,{"$f":"N11","v":0},{"$f":"COUNTIF(L50:L60,AN11)","v":0},{"$f":"AO11/(AQ4-AO8)","v":0},{"$f":"IF(AP11=0,0,(AP11*((LOG(AP11))/LOG(2))))","v":0},null,{"$f":"N11","v":0},{"$f":"COUNTIF(L61:L71,AS11)","v":0},{"$f":"AT11/(AV4-AT8)","v":0},{"$f":"IF(AU11=0,0,(AU11*((LOG(AU11))/LOG(2))))","v":0}]
[11,619,12,642,null,null,null,null,null,null,0,11,null,null,null,null,null,null,null,{"$f":"N12","v":0},{"$f":"COUNTIF(L7:L17,T12)","v":0},{"$f":"U12/(W4-U8)","v":0},{"$f":"IF(V12=0,0,(V12*((LOG(V12))/LOG(2))))","v":0},null,{"$f":"N12","v":0},{"$f":"COUNTIF(L18:L28,Y12)","v":0},{"$f":"Z12/(AB4-Z8)","v":0},{"$f":"IF(AA12=0,0,(AA12*((LOG(AA12))/LOG(2))))","v":0},null,{"$f":"N12","v":0},{"$f":"COUNTIF(L29:L38,AD12)","v":0},{"$f":"AE12/(AG4-AE8)","v":0},{"$f":"IF(AF12=0,0,(AF12*((LOG(AF12))/LOG(2))))","v":0},null,{"$f":"N12","v":0},{"$f":"COUNTIF(L39:L49,AI12)","v":0},{"$f":"AJ12/(AL4-AJ8)","v":0},{"$f":"IF(AK12=0,0,(AK12*((LOG(AK12))/LOG(2))))","v":0},null,{"$f":"N12","v":0},{"$f":"COUNTIF(L50:L60,AN12)","v":0},{"$f":"AO12/(AQ4-AO8)","v":0},{"$f":"IF(AP12=0,0,(AP12*((LOG(AP12))/LOG(2))))","v":0},null,{"$f":"N12","v":0},{"$f":"COUNTIF(L61:L71,AS12)","v":0},{"$f":"AT12/(AV4-AT8)","v":0},{"$f":"IF(AU12=0,0,(AU12*((LOG(AU12))/LOG(2))))","v":0}]
[11,753,21,763,null,null,null,null,null,null,0,12,null,null,null,null,null,null,null,{"$f":"N13","v":0},{"$f":"COUNTIF(L7:L17,T13)","v":0},{"$f":"U13/(W4-U8)","v":0},{"$f":"IF(V13=0,0,(V13*((LOG(V13))/LOG(2))))","v":0},null,{"$f":"N13","v":0},{"$f":"COUNTIF(L18:L28,Y13)","v":0},{"$f":"Z13/(AB4-Z8)","v":0},{"$f":"IF(AA13=0,0,(AA13*((LOG(AA13))/LOG(2))))","v":0},null,{"$f":"N13","v":0},{"$f":"COUNTIF(L29:L38,AD13)","v":0},{"$f":"AE13/(AG4-AE8)","v":0},{"$f":"IF(AF13=0,0,(AF13*((LOG(AF13))/LOG(2))))","v":0},null,{"$f":"N13","v":0},{"$f":"COUNTIF(L39:L49,AI13)","v":0},{"$f":"AJ13/(AL4-AJ8)","v":0},{"$f":"IF(AK13=0,0,(AK13*((LOG(AK13))/LOG(2))))","v":0},null,{"$f":"N13","v":0},{"$f":"COUNTIF(L50:L60,AN13)","v":0},{"$f":"AO13/(AQ4-AO8)","v":0},{"$f":"IF(AP13=0,0,(AP13*((LOG(AP13))/LOG(2))))","v":0},null,{"$f":"N13","v":0},{"$f":"COUNTIF(L61:L71,AS13)","v":0},{"$f":"AT13/(AV4-AT8)","v":0},{"$f":"IF(AU13=0,0,(AU13*((LOG(AU13))/LOG(2))))","v":0}]
[11,872,21,885,null,null,null,null,null,null,0,12,null,null,null,null,null,null,null,{"$f":"N14","v":0},{"$f":"COUNTIF(L7:L17,T14)","v":0},{"$f":"U14/(W4-U8)","v":0},{"$f":"IF(V14=0,0,(V14*((LOG(V14))/LOG(2))))","v":0},null,{"$f":"N14","v":0},{"$f":"COUNTIF(L18:L28,Y14)","v":0},{"$f":"Z14/(AB4-Z8)","v":0},{"$f":"IF(AA14=0,0,(AA14*((LOG(AA14))/LOG(2))))","v":0},null,{"$f":"N14","v":0},{"$f":"COUNTIF(L29:L38,AD14)","v":0},{"$f":"AE14/(AG4-AE8)","v":0},{"$f":"IF(AF14=0,0,(AF14*((LOG(AF14))/LOG(2))))","v":0},null,{"$f":"N14","v":0},{"$f":"COUNTIF(L39:L49,AI14)","v":0},{"$f":"AJ14/(AL4-AJ8)","v":0},{"$f":"IF(AK14=0,0,(AK14*((LOG(AK14))/LOG(2))))","v":0},null,{"$f":"N14","v":0},{"$f":"COUNTIF(L50:L60,AN14)","v":0},{"$f":"AO14/(AQ4-AO8)","v":0},{"$f":"IF(AP14=0,0,(AP14*((LOG(AP14))/LOG(2))))","v":0},null,{"$f":"N14","v":0},{"$f":"COUNTIF(L61:L71,AS14)","v":0},{"$f":"AT14/(AV4-AT8)","v":0},{"$f":"IF(AU14=0,0,(AU14*((LOG(AU14))/LOG(2))))","v":0}]
[22,992,14,1052,null,null,null,null,null,null,0,21,null,null,null,{"$f":"SUM(P7:P14)","v":1},{"$f":"-SUM(Q7:Q14)","v":1.5587446628488257},null,null,null,null,{"$f":"SUM(V7:V14)","v":1},{"$f":"-SUM(W7:W14)","v":1.5219280948873624},null,null,null,{"$f":"SUM(AA7:AA14)","v":1},{"$f":"-SUM(AB7:AB14)","v":0.91829583405448945},null,null,null,{"$f":"SUM(AF7:AF14)","v":1},{"$f":"-SUM(AG7:AG14)","v":1.3709505944546687},null,null,null,{"$f":"SUM(AK7:AK14)","v":1},{"$f":"-SUM(AL7:AL14)","v":1},null,null,null,{"$f":"SUM(AP7:AP14)","v":1},{"$f":"-SUM(AQ7:AQ14)","v":1.5},null,null,null,{"$f":"SUM(AU7:AU14)","v":1},{"$f":"-SUM(AV7:AV14)","v":0}]
[22,1172,23,1232,null,null,null,null,null,null,0,22,null,null,null,"U=",{"$f":"Q15/(LOG(Q4)/LOG(2))","v":0.25882588231770309},null,null,null,null,"U1=",{"$f":"W15/(LOG(W4)/LOG(2))","v":0.43993588041692927},null,null,null,"U2=",{"$f":"AB15/(LOG(AB4)/LOG(2))","v":0.26544702577940094},null,null,null,"U3=",{"$f":"AG15/(LOG(AG4)/LOG(2))","v":0.41269725150422137},null,null,null,"U4=",{"$f":"AL15/(LOG(AL4)/LOG(2))","v":0.28906482631788782},null,null,null,"U5=",{"$f":"AQ15/(LOG(AQ4)/LOG(2))","v":0.43359723947683171},null,null,null,"U6=",{"$f":"AV15/(LOG(AV4)/LOG(2))","v":0}]
[11,1348,21,1362,null,null,null,null,null,null,0,12]
[22,1477,23,1538,null,null,null,null,null,null,0,22]
[11,1650,21,1663,null,null,null,null,null,null,0,12,null,"Total Target Seq"]
[22,1801,14,1826,null,null,null,null,null,null,0,21,null,{"$f":"COUNTIF(L7:L71,G3)","v":40},null,11,11,10,11,11,11]
[11,1931,21,2032,null,null,null,null,null,null,0,12,null,null,null,"% of reinforcement given in 6 equal intervals based on number of trials "]
[11,2136,21,2152,null,null,null,null,null,null,0,12,null,null,null,"%_1","%_2","%_3","%_4","%_5","%_6"]
[22,2261,23,2360,null,null,null,null,null,null,0,22,null,null,"target sequence",{"$f":"$G$3","v":12},{"$f":"$G$3","v":12},{"$f":"$G$3","v":12},{"$f":"$G$3","v":12},{"$f":"$G$3","v":12},{"$f":"$G$3","v":12}]
[11,2471,21,2494,null,null,null,null,null,null,0,12,null,null,"total reinforcement",{"$f":"U8","v":6},{"$f":"Z8","v":5},{"$f":"AE8","v":5},{"$f":"AJ8","v":9},{"$f":"AO8","v":7},{"$f":"AT8","v":8}]
[22,2630,23,2674,null,null,null,null,null,null,0,22,null,null,"% target"]
[11,2785,21,2801,null,null,null,null,null,null,0,12,null,null,"CCRF"]
[22,2911,14,2935,null,null,null,null,null,null,0,21,null,null,"% CCRf"]
[22,3053,23,3088,null,null,null,null,null,null,0,22,null,null,"average response rate",{"$f":"D17/P20","v":123.81818181818181},{"$f":"(D28-D17)/Q20","v":156.90909090909091},{"$f":"(D38-D28)/R20","v":137.80000000000001},{"$f":"(D49-D38)/S20","v":122},{"$f":"(D60-D49)/T20","v":134.09090909090909},{"$f":"(D71-D60)/U20","v":116.72727272727273}]
[22,3221,14,3244,null,null,null,null,null,null,0,21]
[11,3351,12,3385,null,null,null,null,null,null,0,11]
[11,3495,21,3508,null,null,null,null,null,null,0,12]
[11,3630,21,3652,null,null,null,null,null,null,0,12]
[11,3748,21,3768,null,null,null,null,null,null,0,12]
[11,3868,21,3881,null,null,null,null,null,null,0,12]
[22,4002,23,4028,null,null,null,null,null,null,0,22]
[22,4158,23,4194,null,null,null,null,null,null,0,22]
[11,4300,21,4313,null,null,null,null,null,null,0,12]
[22,4436,23,4466,null,null,null,null,null,null,0,22]
[22,4592,23,4617,null,null,null,null,null,null,0,22]
[11,4724,21,4729,null,null,null,null,null,null,0,12]
[11,4835,21,4849,null,null,null,null,null,null,0,12]
[11,4945,21,4958,null,null,null,null,null,null,0,12]
[11,5062,21,5072,null,null,null,null,null,null,0,12]
[11,5171,21,5183,null,null,null,null,null,null,0,12]
[11,5288,21,5300,null,null,null,null,null,null,0,12]
[11,5397,12,5450,null,null,null,null,null,null,0,11]
[11,5577,21,5589,null,null,null,null,null,null,0,12]
[11,5689,21,5695,null,null,null,null,null,null,0,12]
[11,5792,21,5808,null,null,null,null,null,null,0,12]
[11,5901,21,5925,null,null,null,null,null,null,0,12]
[11,6023,21,6048,null,null,null,null,null,null,0,12]
[11,6144,12,6183,null,null,null,null,null,null,0,11]
[11,6291,21,6306,null,null,null,null,null,null,0,12]
[11,6404,12,6425,null,null,null,null,null,null,0,11]
[11,6533,21,6551,null,null,null,null,null,null,0,12]
[22,6664,23,6706,null,null,null,null,null,null,0,22]
[11,6818,21,6911,null,null,null,null,null,null,0,12]
[11,7013,21,7022,null,null,null,null,null,null,0,12]
[11,7120,21,7129,null,null,null,null,null,null,0,12]
[22,7266,14,7283,null,null,null,null,null,null,0,21]
[11,7389,21,7402,null,null,null,null,null,null,0,12]
[11,7504,12,7528,null,null,null,null,null,null,0,11]
[11,7645,21,7655,null,null,null,null,null,null,0,12]
[11,7758,21,7769,null,null,null,null,null,null,0,12]
[11,7863,12,7882,null,null,null,null,null,null,0,11]
[11,7986,21,7999,null,null,null,null,null,null,0,12]
[11,8096,21,8105,null,null,null,null,null,null,0,12]
[11,8200,21,8214,null,null,null,null,null,null,0,12]
[11,8314,12,8336,null,null,null,null,null,null,0,11]
[11,8445,21,8459,null,null,null,null,null,null,0,12]
[11,8558,21,8567,null,null,null,null,null,null,1,12]

{"sheet":"!MC07B30.105","index":11,"n_rows":59,"n_cols":48,"rows_kept":59,"cut":false,"hidden":false,"merged":[[4,39,4,42],[5,39,5,40],[4,44,4,47],[5,44,5,45],[4,24,4,27],[5,24,5,25],[4,29,4,32],[5,29,5,30],[4,34,4,37],[5,34,5,35],[1,1,1,2],[5,13,5,14],[18,13,18,14],[19,13,19,14],[4,19,4,22],[5,19,5,20]]}
["Report for:!MC07B30.105"]
["Date:","<date>"]
["Hen:","<hen>",null,null,null,"Correct Sequence",{"$f":"Start!J2","v":12},null,null,null,null,null,null,null,null,"Total Sequences in Data",{"$f":"4994-COUNTBLANK(L7:L5000)","v":53},null,null,null,null,"Total Sequences in Block Data",{"$f":"COUNTA(L7:L15)","v":9},null,null,null,"Total Sequences in Block Data",{"$f":"COUNTA(L16:L24)","v":9},null,null,null,"Total Sequences in Block Data",{"$f":"COUNTA(L25:L32)","v":8},null,null,null,"Total Sequences in Block Data",{"$f":"COUNTA(L33:L41)","v":9},null,null,null,"Total Sequences in Block Data",{"$f":"COUNTA(L42:L50)","v":9},null,null,null,"Total Sequences in Block Data",{"$f":"COUNTA(L51:L59)","v":9}]
[null,null,null,null,null,null,null,null,null,null,null,null,null,null,null,"Total Sequences in Summary",{"$f":"SUM(O7:O14)","v":53},null,null,null,null,"Total Sequences in Block Summary",{"$f":"SUM(U7:U14)","v":9},null,null,null,"Total Sequences in Block Summary",{"$f":"SUM(Z7:Z14)","v":9},null,null,null,"Total Sequences in Block Summary",{"$f":"SUM(AE7:AE14)","v":8},null,null,null,"Total Sequences in Block Summary",{"$f":"SUM(AJ7:AJ14)","v":9},null,null,null,"Total Sequences in Block Summary",{"$f":"SUM(AO7:AO14)","v":9},null,null,null,"Total Sequences in Block Summary",{"$f":"SUM(AT7:AT14)","v":9}]
[null,null,null,null,null,null,null,null,null,null,null,null,null,null,null,null,null,null,null,"Block 1",null,null,null,null,"Block 2",null,null,null,null,"Block 3",null,null,null,null,"Block 4",null,null,null,null,"Block 5",null,null,null,null,"Block 6"]
["Sequence\nComponent\n1","Time\n1","Sequence\nComponent\n2","Time\n2","Sequence\nComponent\n3","Time\n3","Sequence\nComponent\n4","Time\n4","Sequence\nComponent\n5","Time\n5","Correct?\n0=No 1=Yes","Sequence",null,"Frequency",null,"Relative Frequency","Variability",null,null,"Frequency",null,"Relative Frequency","Variability",null,"Frequency",null,"Relative Frequency","Variability",null,"Frequency",null,"Relative Frequency","Variability",null,"Frequency",null,"Relative Frequency","Variability",null,"Frequency",null,"Relative Frequency","Variability",null,"Frequency",null,"Relative Frequency","Variability"]
[11,5,21,22,null,null,null,null,null,null,0,12,null,11,{"$f":"COUNTIF($L$7:$L$500,N7)","v":6},{"$f":"O7/$Q$4","v":0.11320754716981132},{"$f":"IF(P7=0,0,(P7*((LOG(P7))/LOG(2))))","v":-0.35580656081230677},null,null,{"$f":"N7","v":11},{"$f":"COUNTIF(L7:L15,T7)","v":0},{"$f":"U7/(W4-U8)","v":0},{"$f":"IF(V7=0,0,(V7*((LOG(V7))/LOG(2))))","v":0},null,{"$f":"N7","v":11},{"$f":"COUNTIF(L16:L24,Y7)","v":1},{"$f":"Z7/(AB4-Z8)","v":0.33333333333333331},{"$f":"IF(AA7=0,0,(AA7*((LOG(AA7))/LOG(2))))","v":-0.52832083357371862},null,{"$f":"N7","v":11},{"$f":"COUNTIF(L25:L32,AD7)","v":2},{"$f":"AE7/(AG4-AE8)","v":0.66666666666666663},{"$f":"IF(AF7=0,0,(AF7*((LOG(AF7))/LOG(2))))","v":-0.38997500048077083},null,{"$f":"N7","v":11},{"$f":"COUNTIF(L33:L41,AI7)","v":0},{"$f":"AJ7/(AL4-AJ8)","v":{"$error":"#DIV/0!"}},{"$f":"IF(AK7=0,0,(AK7*((LOG(AK7))/LOG(2))))","v":{"$error":"#DIV/0!"}},null,{"$f":"N7","v":11},{"$f":"COUNTIF(L42:L50,AN7)","v":1},{"$f":"AO7/(AQ4-AO8)","v":0.5},{"$f":"IF(AP7=0,0,(AP7*((LOG(AP7))/LOG(2))))","v":-0.5},null,{"$f":"N7","v":11},{"$f":"COUNTIF(L51:L59,AS7)","v":2},{"$f":"AT7/(AV4-AT8)","v":0.66666666666666663},{"$f":"IF(AU7=0,0,(AU7*((LOG(AU7))/LOG(2))))","v":-0.38997500048077083}]
[11,125,21,138,null,null,null,null,null,null,0,12,null,12,{"$f":"COUNTIF($L$7:$L$500,N8)","v":39},{"$f":"O8/$Q$4","v":0.73584905660377353},{"$f":"IF(P8=0,0,(P8*((LOG(P8))/LOG(2))))","v":-0.32562662627051103},null,null,{"$f":"N8","v":12},{"$f":"COUNTIF(L7:L15,T8)","v":6},null,null,null,{"$f":"N8","v":12},{"$f":"COUNTIF(L16:L24,Y8)","v":6},null,null,null,{"$f":"N8","v":12},{"$f":"COUNTIF(L25:L32,AD8)","v":5},null,null,null,{"$f":"N8","v":12},{"$f":"COUNTIF(L33:L41,AI8)","v":9},null,null,null,{"$f":"N8","v":12},{"$f":"COUNTIF(L42:L50,AN8)","v":7},null,null,null,{"$f":"N8","v":12},{"$f":"COUNTIF(L51:L59,AS8)","v":6}]
[22,253,14,272,null,null,null,null,null,null,0,21,null,21,{"$f":"COUNTIF($L$7:$L$500,N9)","v":2},{"$f":"O9/$Q$4","v":3.7735849056603772E-2},{"$f":"IF(P9=0,0,(P9*((LOG(P9))/LOG(2))))","v":-0.17841209262502639},null,null,{"$f":"N9","v":21},{"$f":"COUNTIF(L7:L15,T9)","v":1},{"$f":"U9/(W4-U8)","v":0.33333333333333331},{"$f":"IF(V9=0,0,(V9*((LOG(V9))/LOG(2))))","v":-0.52832083357371862},null,{"$f":"N9","v":21},{"$f":"COUNTIF(L16:L24,Y9)","v":0},{"$f":"Z9/(AB4-Z8)","v":0},{"$f":"IF(AA9=0,0,(AA9*((LOG(AA9))/LOG(2))))","v":0},null,{"$f":"N9","v":21},{"$f":"COUNTIF(L25:L32,AD9)","v":0},{"$f":"AE9/(AG4-AE8)","v":0},{"$f":"IF(AF9=0,0,(AF9*((LOG(AF9))/LOG(2))))","v":0},null,{"$f":"N9","v":21},{"$f":"COUNTIF(L33:L41,AI9)","v":0},{"$f":"AJ9/(AL4-AJ8)","v":{"$error":"#DIV/0!"}},{"$f":"IF(AK9=0,0,(AK9*((LOG(AK9))/LOG(2))))","v":{"$error":"#DIV/0!"}},null,{"$f":"N9","v":21},{"$f":"COUNTIF(L42:L50,AN9)","v":0},{"$f":"AO9/(AQ4-AO8)","v":0},{"$f":"IF(AP9=0,0,(AP9*((LOG(AP9))/LOG(2))))","v":0},null,{"$f":"N9","v":21},{"$f":"COUNTIF(L51:L59,AS9)","v":1},{"$f":"AT9/(AV4-AT8)","v":0.33333333333333331},{"$f":"IF(AU9=0,0,(AU9*((LOG(AU9))/LOG(2))))","v":-0.52832083357371862}]
[11,384,21,396,null,null,null,null,null,null,0,12,null,22,{"$f":"COUNTIF($L$7:$L$500,N10)","v":6},{"$f":"O10/$Q$4","v":0.11320754716981132},{"$f":"IF(P10=0,0,(P10*((LOG(P10))/LOG(2))))","v":-0.35580656081230677},null,null,{"$f":"N10","v":22},{"$f":"COUNTIF(L7:L15,T10)","v":2},{"$f":"U10/(W4-U8)","v":0.66666666666666663},{"$f":"IF(V10=0,0,(V10*((LOG(V10))/LOG(2))))","v":-0.38997500048077083},null,{"$f":"N10","v":22},{"$f":"COUNTIF(L16:L24,Y10)","v":2},{"$f":"Z10/(AB4-Z8)","v":0.66666666666666663},{"$f":"IF(AA10=0,0,(AA10*((LOG(AA10))/LOG(2))))","v":-0.38997500048077083},null,{"$f":"N10","v":22},{"$f":"COUNTIF(L25:L32,AD10)","v":1},{"$f":"AE10/(AG4-AE8)","v":0.33333333333333331},{"$f":"IF(AF10=0,0,(AF10*((LOG(AF10))/LOG(2))))","v":-0.52832083357371862},null,{"$f":"N10","v":22},{"$f":"COUNTIF(L33:L41,AI10)","v":0},{"$f":"AJ10/(AL4-AJ8)","v":{"$error":"#DIV/0!"}},{"$f":"IF(AK10=0,0,(AK10*((LOG(AK10))/LOG(2))))","v":{"$error":"#DIV/0!"}},null,{"$f":"N10","v":22},{"$f":"COUNTIF(L42:L50,AN10)","v":1},{"$f":"AO10/(AQ4-AO8)","v":0.5},{"$f":"IF(AP10=0,0,(AP10*((LOG(AP10))/LOG(2))))","v":-0.5},null,{"$f":"N10","v":22},{"$f":"COUNTIF(L51:L59,AS10)","v":0},{"$f":"AT10/(AV4-AT8)","v":0},{"$f":"IF(AU10=0,0,(AU10*((LOG(AU10))/LOG(2))))","v":0}]
[11,500,21,515,null,null,null,null,null,null,0,12,null,null,null,null,null,null,null,{"$f":"N11","v":0},{"$f":"COUNTIF(L7:L15,T11)","v":0},{"$f":"U11/(W4-U8)","v":0},{"$f":"IF(V11=0,0,(V11*((LOG(V11))/LOG(2))))","v":0},null,{"$f":"N11","v":0},{"$f":"COUNTIF(L16:L24,Y11)","v":0},{"$f":"Z11/(AB4-Z8)","v":0},{"$f":"IF(AA11=0,0,(AA11*((LOG(AA11))/LOG(2))))","v":0},null,{"$f":"N11","v":0},{"$f":"COUNTIF(L25:L32,AD11)","v":0},{"$f":"AE11/(AG4-AE8)","v":0},{"$f":"IF(AF11=0,0,(AF11*((LOG(AF11))/LOG(2))))","v":0},null,{"$f":"N11","v":0},{"$f":"COUNTIF(L33:L41,AI11)","v":0},{"$f":"AJ11/(AL4-AJ8)","v":{"$error":"#DIV/0!"}},{"$f":"IF(AK11=0,0,(AK11*((LOG(AK11))/LOG(2))))","v":{"$error":"#DIV/0!"}},null,{"$f":"N11","v":0},{"$f":"COUNTIF(L42:L50,AN11)","v":0},{"$f":"AO11/(AQ4-AO8)","v":0},{"$f":"IF(AP11=0,0,(AP11*((LOG(AP11))/LOG(2))))","v":0},null,{"$f":"N11","v":0},{"$f":"COUNTIF(L51:L59,AS11)","v":0},{"$f":"AT11/(AV4-AT8)","v":0},{"$f":"IF(AU11=0,0,(AU11*((LOG(AU11))/LOG(2))))","v":0}]
[22,626,23,649,null,null,null,null,null,null,0,22,null,null,null,null,null,null,null,{"$f":"N12","v":0},{"$f":"COUNTIF(L7:L15,T12)","v":0},{"$f":"U12/(W4-U8)","v":0},{"$f":"IF(V12=0,0,(V12*((LOG(V12))/LOG(2))))","v":0},null,{"$f":"N12","v":0},{"$f":"COUNTIF(L16:L24,Y12)","v":0},{"$f":"Z12/(AB4-Z8)","v":0},{"$f":"IF(AA12=0,0,(AA12*((LOG(AA12))/LOG(2))))","v":0},null,{"$f":"N12","v":0},{"$f":"COUNTIF(L25:L32,AD12)","v":0},{"$f":"AE12/(AG4-AE8)","v":0},{"$f":"IF(AF12=0,0,(AF12*((LOG(AF12))/LOG(2))))","v":0},null,{"$f":"N12","v":0},{"$f":"COUNTIF(L33:L41,AI12)","v":0},{"$f":"AJ12/(AL4-AJ8)","v":{"$error":"#DIV/0!"}},{"$f":"IF(AK12=0,0,(AK12*((LOG(AK12))/LOG(2))))","v":{"$error":"#DIV/0!"}},null,{"$f":"N12","v":0},{"$f":"COUNTIF(L42:L50,AN12)","v":0},{"$f":"AO12/(AQ4-AO8)","v":0},{"$f":"IF(AP12=0,0,(AP12*((LOG(AP12))/LOG(2))))","v":0},null,{"$f":"N12","v":0},{"$f":"COUNTIF(L51:L59,AS12)","v":0},{"$f":"AT12/(AV4-AT8)","v":0},{"$f":"IF(AU12=0,0,(AU12*((LOG(AU12))/LOG(2))))","v":0}]
[11,750,21,759,null,null,null,null,null,null,0,12,null,null,null,null,null,null,null,{"$f":"N13","v":0},{"$f":"COUNTIF(L7:L15,T13)","v":0},{"$f":"U13/(W4-U8)","v":0},{"$f":"IF(V13=0,0,(V13*((LOG(V13))/LOG(2))))","v":0},null,{"$f":"N13","v":0},{"$f":"COUNTIF(L16:L24,Y13)","v":0},{"$f":"Z13/(AB4-Z8)","v":0},{"$f":"IF(AA13=0,0,(AA13*((LOG(AA13))/LOG(2))))","v":0},null,{"$f":"N13","v":0},{"$f":"COUNTIF(L25:L32,AD13)","v":0},{"$f":"AE13/(AG4-AE8)","v":0},{"$f":"IF(AF13=0,0,(AF13*((LOG(AF13))/LOG(2))))","v":0},null,{"$f":"N13","v":0},{"$f":"COUNTIF(L33:L41,AI13)","v":0},{"$f":"AJ13/(AL4-AJ8)","v":{"$error":"#DIV/0!"}},{"$f":"IF(AK13=0,0,(AK13*((LOG(AK13))/LOG(2))))","v":{"$error":"#DIV/0!"}},null,{"$f":"N13","v":0},{"$f":"COUNTIF(L42:L50,AN13)","v":0},{"$f":"AO13/(AQ4-AO8)","v":0},{"$f":"IF(AP13=0,0,(AP13*((LOG(AP13))/LOG(2))))","v":0},null,{"$f":"N13","v":0},{"$f":"COUNTIF(L51:L59,AS13)","v":0},{"$f":"AT13/(AV4-AT8)","v":0},{"$f":"IF(AU13=0,0,(AU13*((LOG(AU13))/LOG(2))))","v":0}]
[22,868,23,896,null,null,null,null,null,null,0,22,null,null,null,null,null,null,null,{"$f":"N14","v":0},{"$f":"COUNTIF(L7:L15,T14)","v":0},{"$f":"U14/(W4-U8)","v":0},{"$f":"IF(V14=0,0,(V14*((LOG(V14))/LOG(2))))","v":0},null,{"$f":"N14","v":0},{"$f":"COUNTIF(L16:L24,Y14)","v":0},{"$f":"Z14/(AB4-Z8)","v":0},{"$f":"IF(AA14=0,0,(AA14*((LOG(AA14))/LOG(2))))","v":0},null,{"$f":"N14","v":0},{"$f":"COUNTIF(L25:L32,AD14)","v":0},{"$f":"AE14/(AG4-AE8)","v":0},{"$f":"IF(AF14=0,0,(AF14*((LOG(AF14))/LOG(2))))","v":0},null,{"$f":"N14","v":0},{"$f":"COUNTIF(L33:L41,AI14)","v":0},{"$f":"AJ14/(AL4-AJ8)","v":{"$error":"#DIV/0!"}},{"$f":"IF(AK14=0,0,(AK14*((LOG(AK14))/LOG(2))))","v":{"$error":"#DIV/0!"}},null,{"$f":"N14","v":0},{"$f":"COUNTIF(L42:L50,AN14)","v":0},{"$f":"AO14/(AQ4-AO8)","v":0},{"$f":"IF(AP14=0,0,(AP14*((LOG(AP14))/LOG(2))))","v":0},null,{"$f":"N14","v":0},{"$f":"COUNTIF(L51:L59,AS14)","v":0},{"$f":"AT14/(AV4-AT8)","v":0},{"$f":"IF(AU14=0,0,(AU14*((LOG(AU14))/LOG(2))))","v":0}]
[11,1004,21,1012,null,null,null,null,null,null,0,12,null,null,null,{"$f":"SUM(P7:P14)","v":0.99999999999999989},{"$f":"-SUM(Q7:Q14)","v":1.2156518405201511},null,null,null,null,{"$f":"SUM(V7:V14)","v":1},{"$f":"-SUM(W7:W14)","v":0.91829583405448945},null,null,null,{"$f":"SUM(AA7:AA14)","v":1},{"$f":"-SUM(AB7:AB14)","v":0.91829583405448945},null,null,null,{"$f":"SUM(AF7:AF14)","v":1},{"$f":"-SUM(AG7:AG14)","v":0.91829583405448945},null,null,null,{"$f":"SUM(AK7:AK14)","v":{"$error":"#DIV/0!"}},{"$f":"-SUM(AL7:AL14)","v":{"$error":"#DIV/0!"}},null,null,null,{"$f":"SUM(AP7:AP14)","v":1},{"$f":"-SUM(AQ7:AQ14)","v":1},null,null,null,{"$f":"SUM(AU7:AU14)","v":1},{"$f":"-SUM(AV7:AV14)","v":0.91829583405448945}]
[11,1114,21,1123,null,null,null,null,null,null,0,12,null,null,null,"U=",{"$f":"Q15/(LOG(Q4)/LOG(2))","v":0.21223266806222688},null,null,null,null,"U1=",{"$f":"W15/(LOG(W4)/LOG(2))","v":0.28969008214284753},null,null,null,"U2=",{"$f":"AB15/(LOG(AB4)/LOG(2))","v":0.28969008214284753},null,null,null,"U3=",{"$f":"AG15/(LOG(AG4)/LOG(2))","v":0.30609861135149646},null,null,null,"U4=",{"$f":"AL15/(LOG(AL4)/LOG(2))","v":{"$error":"#DIV/0!"}},null,null,null,"U5=",{"$f":"AQ15/(LOG(AQ4)/LOG(2))","v":0.31546487678572877},null,null,null,"U6=",{"$f":"AV15/(LOG(AV4)/LOG(2))","v":0.28969008214284753}]
[22,1229,23,1256,null,null,null,null,null,null,0,22]
[11,1363,21,1395,null,null,null,null,null,null,0,12]
[22,1506,23,1534,null,null,null,null,null,null,0,22,null,"Total Target Seq"]
[11,1646,21,1657,null,null,null,null,null,null,0,12,null,{"$f":"COUNTIF(L7:L59,G3)","v":39},null,9,9,8,9,9,9]
[11,1763,21,1801,null,null,null,null,null,null,0,12,null,null,null,"% of reinforcement given in 6 equal intervals based on number of trials "]
[11,1901,21,1909,null,null,null,null,null,null,0,12,null,null,null,"%_1","%_2","%_3","%_4","%_5","%_6"]
[11,2008,12,2032,null,null,null,null,null,null,0,11,null,null,"target sequence",{"$f":"$G$3","v":12},{"$f":"$G$3","v":12},{"$f":"$G$3","v":12},{"$f":"$G$3","v":12},{"$f":"$G$3","v":12},{"$f":"$G$3","v":12}]
[11,2143,21,2159,null,null,null,null,null,null,0,12,null,null,"total reinforcement",{"$f":"U8","v":6},{"$f":"Z8","v":6},{"$f":"AE8","v":5},{"$f":"AJ8","v":9},{"$f":"AO8","v":7},{"$f":"AT8","v":6}]
[11,2263,21,2275,null,null,null,null,null,null,0,12,null,null,"% target"]
[11,2376,21,2390,null,null,null,null,null,null,0,12,null,null,"CCRF"]
[22,2503,23,2530,null,null,null,null,null,null,0,22,null,null,"% CCRf"]
[11,2640,12,2665,null,null,null,null,null,null,0,11,null,null,"average response rate",{"$f":"D15/P20","v":112.44444444444444},{"$f":"(D24-D15)/Q20","v":127.44444444444444},{"$f":"(D32-D24)/R20","v":119},{"$f":"(D41-D32)/S20","v":116.77777777777777},{"$f":"(D50-D41)/T20","v":117},{"$f":"(D59-D50)/U20","v":116.88888888888889}]
[11,2770,12,2774,null,null,null,null,null,null,0,11]
[11,2884,21,2896,null,null,null,null,null,null,0,12]
[11,2996,21,3004,null,null,null,null,null,null,0,12]
[11,3097,21,3111,null,null,null,null,null,null,0,12]
[11,3208,21,3214,null,null,null,null,null,null,0,12]
[11,3315,21,3348,null,null,null,null,null,null,0,12]
[11,3443,21,3488,null,null,null,null,null,null,0,12]
[11,3593,21,3602,null,null,null,null,null,null,0,12]
[11,3699,21,3708,null,null,null,null,null,null,0,12]
[11,3804,21,3814,null,null,null,null,null,null,0,12]
[11,3910,21,3920,null,null,null,null,null,null,0,12]
[11,4018,21,4050,null,null,null,null,null,null,0,12]
[11,4152,21,4162,null,null,null,null,null,null,0,12]
[11,4268,21,4280,null,null,null,null,null,null,0,12]
[11,4377,21,4391,null,null,null,null,null,null,0,12]
[11,4486,21,4498,null,null,null,null,null,null,0,12]
[22,4606,23,4631,null,null,null,null,null,null,0,22]
[11,4741,21,4752,null,null,null,null,null,null,0,12]
[11,4851,21,4860,null,null,null,null,null,null,0,12]
[11,4960,12,4981,null,null,null,null,null,null,0,11]
[11,5093,21,5102,null,null,null,null,null,null,0,12]
[11,5201,21,5215,null,null,null,null,null,null,0,12]
[11,5319,21,5331,null,null,null,null,null,null,0,12]
[22,5435,14,5450,null,null,null,null,null,null,0,21]
[11,5556,12,5585,null,null,null,null,null,null,0,11]
[11,5691,12,5708,null,null,null,null,null,null,0,11]
[11,5817,21,5829,null,null,null,null,null,null,0,12]
[11,5929,21,5938,null,null,null,null,null,null,0,12]
[11,6038,21,6050,null,null,null,null,null,null,0,12]
[11,6154,21,6164,null,null,null,null,null,null,0,12]
[11,6258,21,6267,null,null,null,null,null,null,1,12]

{"sheet":"!MC08B20.105","index":12,"n_rows":61,"n_cols":48,"rows_kept":61,"cut":false,"hidden":false,"merged":[[4,39,4,42],[5,39,5,40],[4,44,4,47],[5,44,5,45],[4,24,4,27],[5,24,5,25],[4,29,4,32],[5,29,5,30],[4,34,4,37],[5,34,5,35],[1,1,1,2],[5,13,5,14],[18,13,18,14],[19,13,19,14],[4,19,4,22],[5,19,5,20]]}
["Report for:!MC08B20.105"]
["Date:","<date>"]
["Hen:","<hen>",null,null,null,"Correct Sequence",{"$f":"Start!J2","v":12},null,null,null,null,null,null,null,null,"Total Sequences in Data",{"$f":"4994-COUNTBLANK(L7:L5000)","v":55},null,null,null,null,"Total Sequences in Block Data",{"$f":"COUNTA(L7:L15)","v":9},null,null,null,"Total Sequences in Block Data",{"$f":"COUNTA(L16:L24)","v":9},null,null,null,"Total Sequences in Block Data",{"$f":"COUNTA(L25:L34)","v":10},null,null,null,"Total Sequences in Block Data",{"$f":"COUNTA(L35:L43)","v":9},null,null,null,"Total Sequences in Block Data",{"$f":"COUNTA(L44:L52)","v":9},null,null,null,"Total Sequences in Block Data",{"$f":"COUNTA(L53:L61)","v":9}]
[null,null,null,null,null,null,null,null,null,null,null,null,null,null,null,"Total Sequences in Summary",{"$f":"SUM(O7:O14)","v":55},null,null,null,null,"Total Sequences in Block Summary",{"$f":"SUM(U7:U14)","v":9},null,null,null,"Total Sequences in Block Summary",{"$f":"SUM(Z7:Z14)","v":9},null,null,null,"Total Sequences in Block Summary",{"$f":"SUM(AE7:AE14)","v":10},null,null,null,"Total Sequences in Block Summary",{"$f":"SUM(AJ7:AJ14)","v":9},null,null,null,"Total Sequences in Block Summary",{"$f":"SUM(AO7:AO14)","v":9},null,null,null,"Total Sequences in Block Summary",{"$f":"SUM(AT7:AT14)","v":9}]
[null,null,null,null,null,null,null,null,null,null,null,null,null,null,null,null,null,null,null,"Block 1",null,null,null,null,"Block 2",null,null,null,null,"Block 3",null,null,null,null,"Block 4",null,null,null,null,"Block 5",null,null,null,null,"Block 6"]
["Sequence\nComponent\n1","Time\n1","Sequence\nComponent\n2","Time\n2","Sequence\nComponent\n3","Time\n3","Sequence\nComponent\n4","Time\n4","Sequence\nComponent\n5","Time\n5","Correct?\n0=No 1=Yes","Sequence",null,"Frequency",null,"Relative Frequency","Variability",null,null,"Frequency",null,"Relative Frequency","Variability",null,"Frequency",null,"Relative Frequency","Variability",null,"Frequency",null,"Relative Frequency","Variability",null,"Frequency",null,"Relative Frequency","Variability",null,"Frequency",null,"Relative Frequency","Variability",null,"Frequency",null,"Relative Frequency","Variability"]
[11,6,21,19,null,null,null,null,null,null,0,12,null,11,{"$f":"COUNTIF($L$7:$L$500,N7)","v":12},{"$f":"O7/$Q$4","v":0.21818181818181817},{"$f":"IF(P7=0,0,(P7*((LOG(P7))/LOG(2))))","v":-0.47921393733894618},null,null,{"$f":"N7","v":11},{"$f":"COUNTIF(L7:L15,T7)","v":3},{"$f":"U7/(W4-U8)","v":0.75},{"$f":"IF(V7=0,0,(V7*((LOG(V7))/LOG(2))))","v":-0.31127812445913283},null,{"$f":"N7","v":11},{"$f":"COUNTIF(L16:L24,Y7)","v":2},{"$f":"Z7/(AB4-Z8)","v":1},{"$f":"IF(AA7=0,0,(AA7*((LOG(AA7))/LOG(2))))","v":0},null,{"$f":"N7","v":11},{"$f":"COUNTIF(L25:L34,AD7)","v":2},{"$f":"AE7/(AG4-AE8)","v":0.66666666666666663},{"$f":"IF(AF7=0,0,(AF7*((LOG(AF7))/LOG(2))))","v":-0.38997500048077083},null,{"$f":"N7","v":11},{"$f":"COUNTIF(L35:L43,AI7)","v":3},{"$f":"AJ7/(AL4-AJ8)","v":1},{"$f":"IF(AK7=0,0,(AK7*((LOG(AK7))/LOG(2))))","v":0},null,{"$f":"N7","v":11},{"$f":"COUNTIF(L44:L52,AN7)","v":2},{"$f":"AO7/(AQ4-AO8)","v":0.66666666666666663},{"$f":"IF(AP7=0,0,(AP7*((LOG(AP7))/LOG(2))))","v":-0.38997500048077083},null,{"$f":"N7","v":11},{"$f":"COUNTIF(L53:L61,AS7)","v":0},{"$f":"AT7/(AV4-AT8)","v":0},{"$f":"IF(AU7=0,0,(AU7*((LOG(AU7))/LOG(2))))","v":0}]
[11,118,21,124,null,null,null,null,null,null,0,12,null,12,{"$f":"COUNTIF($L$7:$L$500,N8)","v":39},{"$f":"O8/$Q$4","v":0.70909090909090911},{"$f":"IF(P8=0,0,(P8*((LOG(P8))/LOG(2))))","v":-0.35167895076061884},null,null,{"$f":"N8","v":12},{"$f":"COUNTIF(L7:L15,T8)","v":5},null,null,null,{"$f":"N8","v":12},{"$f":"COUNTIF(L16:L24,Y8)","v":7},null,null,null,{"$f":"N8","v":12},{"$f":"COUNTIF(L25:L34,AD8)","v":7},null,null,null,{"$f":"N8","v":12},{"$f":"COUNTIF(L35:L43,AI8)","v":6},null,null,null,{"$f":"N8","v":12},{"$f":"COUNTIF(L44:L52,AN8)","v":6},null,null,null,{"$f":"N8","v":12},{"$f":"COUNTIF(L53:L61,AS8)","v":8}]
[22,217,23,230,null,null,null,null,null,null,0,22,null,21,{"$f":"COUNTIF($L$7:$L$500,N9)","v":1},{"$f":"O9/$Q$4","v":1.8181818181818181E-2},{"$f":"IF(P9=0,0,(P9*((LOG(P9))/LOG(2))))","v":-0.10511563115499381},null,null,{"$f":"N9","v":21},{"$f":"COUNTIF(L7:L15,T9)","v":0},{"$f":"U9/(W4-U8)","v":0},{"$f":"IF(V9=0,0,(V9*((LOG(V9))/LOG(2))))","v":0},null,{"$f":"N9","v":21},{"$f":"COUNTIF(L16:L24,Y9)","v":0},{"$f":"Z9/(AB4-Z8)","v":0},{"$f":"IF(AA9=0,0,(AA9*((LOG(AA9))/LOG(2))))","v":0},null,{"$f":"N9","v":21},{"$f":"COUNTIF(L25:L34,AD9)","v":0},{"$f":"AE9/(AG4-AE8)","v":0},{"$f":"IF(AF9=0,0,(AF9*((LOG(AF9))/LOG(2))))","v":0},null,{"$f":"N9","v":21},{"$f":"COUNTIF(L35:L43,AI9)","v":0},{"$f":"AJ9/(AL4-AJ8)","v":0},{"$f":"IF(AK9=0,0,(AK9*((LOG(AK9))/LOG(2))))","v":0},null,{"$f":"N9","v":21},{"$f":"COUNTIF(L44:L52,AN9)","v":1},{"$f":"AO9/(AQ4-AO8)","v":0.33333333333333331},{"$f":"IF(AP9=0,0,(AP9*((LOG(AP9))/LOG(2))))","v":-0.52832083357371862},null,{"$f":"N9","v":21},{"$f":"COUNTIF(L53:L61,AS9)","v":0},{"$f":"AT9/(AV4-AT8)","v":0},{"$f":"IF(AU9=0,0,(AU9*((LOG(AU9))/LOG(2))))","v":0}]
[11,334,21,344,null,null,null,null,null,null,0,12,null,22,{"$f":"COUNTIF($L$7:$L$500,N10)","v":3},{"$f":"O10/$Q$4","v":5.4545454545454543E-2},{"$f":"IF(P10=0,0,(P10*((LOG(P10))/LOG(2))))","v":-0.22889439342564566},null,null,{"$f":"N10","v":22},{"$f":"COUNTIF(L7:L15,T10)","v":1},{"$f":"U10/(W4-U8)","v":0.25},{"$f":"IF(V10=0,0,(V10*((LOG(V10))/LOG(2))))","v":-0.5},null,{"$f":"N10","v":22},{"$f":"COUNTIF(L16:L24,Y10)","v":0},{"$f":"Z10/(AB4-Z8)","v":0},{"$f":"IF(AA10=0,0,(AA10*((LOG(AA10))/LOG(2))))","v":0},null,{"$f":"N10","v":22},{"$f":"COUNTIF(L25:L34,AD10)","v":1},{"$f":"AE10/(AG4-AE8)","v":0.33333333333333331},{"$f":"IF(AF10=0,0,(AF10*((LOG(AF10))/LOG(2))))","v":-0.52832083357371862},null,{"$f":"N10","v":22},{"$f":"COUNTIF(L35:L43,AI10)","v":0},{"$f":"AJ10/(AL4-AJ8)","v":0},{"$f":"IF(AK10=0,0,(AK10*((LOG(AK10))/LOG(2))))","v":0},null,{"$f":"N10","v":22},{"$f":"COUNTIF(L44:L52,AN10)","v":0},{"$f":"AO10/(AQ4-AO8)","v":0},{"$f":"IF(AP10=0,0,(AP10*((LOG(AP10))/LOG(2))))","v":0},null,{"$f":"N10","v":22},{"$f":"COUNTIF(L53:L61,AS10)","v":1},{"$f":"AT10/(AV4-AT8)","v":1},{"$f":"IF(AU10=0,0,(AU10*((LOG(AU10))/LOG(2))))","v":0}]
[11,445,21,458,null,null,null,null,null,null,0,12,null,null,null,null,null,null,null,{"$f":"N11","v":0},{"$f":"COUNTIF(L7:L15,T11)","v":0},{"$f":"U11/(W4-U8)","v":0},{"$f":"IF(V11=0,0,(V11*((LOG(V11))/LOG(2))))","v":0},null,{"$f":"N11","v":0},{"$f":"COUNTIF(L16:L24,Y11)","v":0},{"$f":"Z11/(AB4-Z8)","v":0},{"$f":"IF(AA11=0,0,(AA11*((LOG(AA11))/LOG(2))))","v":0},null,{"$f":"N11","v":0},{"$f":"COUNTIF(L25:L34,AD11)","v":0},{"$f":"AE11/(AG4-AE8)","v":0},{"$f":"IF(AF11=0,0,(AF11*((LOG(AF11))/LOG(2))))","v":0},null,{"$f":"N11","v":0},{"$f":"COUNTIF(L35:L43,AI11)","v":0},{"$f":"AJ11/(AL4-AJ8)","v":0},{"$f":"IF(AK11=0,0,(AK11*((LOG(AK11))/LOG(2))))","v":0},null,{"$f":"N11","v":0},{"$f":"COUNTIF(L44:L52,AN11)","v":0},{"$f":"AO11/(AQ4-AO8)","v":0},{"$f":"IF(AP11=0,0,(AP11*((LOG(AP11))/LOG(2))))","v":0},null,{"$f":"N11","v":0},{"$f":"COUNTIF(L53:L61,AS11)","v":0},{"$f":"AT11/(AV4-AT8)","v":0},{"$f":"IF(AU11=0,0,(AU11*((LOG(AU11))/LOG(2))))","v":0}]
[11,557,12,578,null,null,null,null,null,null,0,11,null,null,null,null,null,null,null,{"$f":"N12","v":0},{"$f":"COUNTIF(L7:L15,T12)","v":0},{"$f":"U12/(W4-U8)","v":0},{"$f":"IF(V12=0,0,(V12*((LOG(V12))/LOG(2))))","v":0},null,{"$f":"N12","v":0},{"$f":"COUNTIF(L16:L24,Y12)","v":0},{"$f":"Z12/(AB4-Z8)","v":0},{"$f":"IF(AA12=0,0,(AA12*((LOG(AA12))/LOG(2))))","v":0},null,{"$f":"N12","v":0},{"$f":"COUNTIF(L25:L34,AD12)","v":0},{"$f":"AE12/(AG4-AE8)","v":0},{"$f":"IF(AF12=0,0,(AF12*((LOG(AF12))/LOG(2))))","v":0},null,{"$f":"N12","v":0},{"$f":"COUNTIF(L35:L43,AI12)","v":0},{"$f":"AJ12/(AL4-AJ8)","v":0},{"$f":"IF(AK12=0,0,(AK12*((LOG(AK12))/LOG(2))))","v":0},null,{"$f":"N12","v":0},{"$f":"COUNTIF(L44:L52,AN12)","v":0},{"$f":"AO12/(AQ4-AO8)","v":0},{"$f":"IF(AP12=0,0,(AP12*((LOG(AP12))/LOG(2))))","v":0},null,{"$f":"N12","v":0},{"$f":"COUNTIF(L53:L61,AS12)","v":0},{"$f":"AT12/(AV4-AT8)","v":0},{"$f":"IF(AU12=0,0,(AU12*((LOG(AU12))/LOG(2))))","v":0}]
[11,685,12,704,null,null,null,null,null,null,0,11,null,null,null,null,null,null,null,{"$f":"N13","v":0},{"$f":"COUNTIF(L7:L15,T13)","v":0},{"$f":"U13/(W4-U8)","v":0},{"$f":"IF(V13=0,0,(V13*((LOG(V13))/LOG(2))))","v":0},null,{"$f":"N13","v":0},{"$f":"COUNTIF(L16:L24,Y13)","v":0},{"$f":"Z13/(AB4-Z8)","v":0},{"$f":"IF(AA13=0,0,(AA13*((LOG(AA13))/LOG(2))))","v":0},null,{"$f":"N13","v":0},{"$f":"COUNTIF(L25:L34,AD13)","v":0},{"$f":"AE13/(AG4-AE8)","v":0},{"$f":"IF(AF13=0,0,(AF13*((LOG(AF13))/LOG(2))))","v":0},null,{"$f":"N13","v":0},{"$f":"COUNTIF(L35:L43,AI13)","v":0},{"$f":"AJ13/(AL4-AJ8)","v":0},{"$f":"IF(AK13=0,0,(AK13*((LOG(AK13))/LOG(2))))","v":0},null,{"$f":"N13","v":0},{"$f":"COUNTIF(L44:L52,AN13)","v":0},{"$f":"AO13/(AQ4-AO8)","v":0},{"$f":"IF(AP13=0,0,(AP13*((LOG(AP13))/LOG(2))))","v":0},null,{"$f":"N13","v":0},{"$f":"COUNTIF(L53:L61,AS13)","v":0},{"$f":"AT13/(AV4-AT8)","v":0},{"$f":"IF(AU13=0,0,(AU13*((LOG(AU13))/LOG(2))))","v":0}]
[11,816,21,829,null,null,null,null,null,null,0,12,null,null,null,null,null,null,null,{"$f":"N14","v":0},{"$f":"COUNTIF(L7:L15,T14)","v":0},{"$f":"U14/(W4-U8)","v":0},{"$f":"IF(V14=0,0,(V14*((LOG(V14))/LOG(2))))","v":0},null,{"$f":"N14","v":0},{"$f":"COUNTIF(L16:L24,Y14)","v":0},{"$f":"Z14/(AB4-Z8)","v":0},{"$f":"IF(AA14=0,0,(AA14*((LOG(AA14))/LOG(2))))","v":0},null,{"$f":"N14","v":0},{"$f":"COUNTIF(L25:L34,AD14)","v":0},{"$f":"AE14/(AG4-AE8)","v":0},{"$f":"IF(AF14=0,0,(AF14*((LOG(AF14))/LOG(2))))","v":0},null,{"$f":"N14","v":0},{"$f":"COUNTIF(L35:L43,AI14)","v":0},{"$f":"AJ14/(AL4-AJ8)","v":0},{"$f":"IF(AK14=0,0,(AK14*((LOG(AK14))/LOG(2))))","v":0},null,{"$f":"N14","v":0},{"$f":"COUNTIF(L44:L52,AN14)","v":0},{"$f":"AO14/(AQ4-AO8)","v":0},{"$f":"IF(AP14=0,0,(AP14*((LOG(AP14))/LOG(2))))","v":0},null,{"$f":"N14","v":0},{"$f":"COUNTIF(L53:L61,AS14)","v":0},{"$f":"AT14/(AV4-AT8)","v":0},{"$f":"IF(AU14=0,0,(AU14*((LOG(AU14))/LOG(2))))","v":0}]
[11,926,12,941,null,null,null,null,null,null,0,11,null,null,null,{"$f":"SUM(P7:P14)","v":1},{"$f":"-SUM(Q7:Q14)","v":1.1649029126802044},null,null,null,null,{"$f":"SUM(V7:V14)","v":1},{"$f":"-SUM(W7:W14)","v":0.81127812445913283},null,null,null,{"$f":"SUM(AA7:AA14)","v":1},{"$f":"-SUM(AB7:AB14)","v":0},null,null,null,{"$f":"SUM(AF7:AF14)","v":1},{"$f":"-SUM(AG7:AG14)","v":0.91829583405448945},null,null,null,{"$f":"SUM(AK7:AK14)","v":1},{"$f":"-SUM(AL7:AL14)","v":0},null,null,null,{"$f":"SUM(AP7:AP14)","v":1},{"$f":"-SUM(AQ7:AQ14)","v":0.91829583405448945},null,null,null,{"$f":"SUM(AU7:AU14)","v":1},{"$f":"-SUM(AV7:AV14)","v":0}]
[11,1049,21,1062,null,null,null,null,null,null,0,12,null,null,null,"U=",{"$f":"Q15/(LOG(Q4)/LOG(2))","v":0.20149289620486363},null,null,null,null,"U1=",{"$f":"W15/(LOG(W4)/LOG(2))","v":0.25592975357145742},null,null,null,"U2=",{"$f":"AB15/(LOG(AB4)/LOG(2))","v":0},null,null,null,"U3=",{"$f":"AG15/(LOG(AG4)/LOG(2))","v":0.27643459094367495},null,null,null,"U4=",{"$f":"AL15/(LOG(AL4)/LOG(2))","v":0},null,null,null,"U5=",{"$f":"AQ15/(LOG(AQ4)/LOG(2))","v":0.28969008214284753},null,null,null,"U6=",{"$f":"AV15/(LOG(AV4)/LOG(2))","v":0}]
[11,1164,21,1174,null,null,null,null,null,null,0,12]
[11,1275,21,1284,null,null,null,null,null,null,0,12]
[11,1377,21,1391,null,null,null,null,null,null,0,12,null,"Total Target Seq"]
[11,1490,21,1500,null,null,null,null,null,null,0,12,null,{"$f":"COUNTIF(L7:L61,G3)","v":39},null,9,9,10,9,9,9]
[11,1600,12,1622,null,null,null,null,null,null,0,11,null,null,null,"% of reinforcement given in 6 equal intervals based on number of trials "]
[11,1729,21,1742,null,null,null,null,null,null,0,12,null,null,null,"%_1","%_2","%_3","%_4","%_5","%_6"]
[11,1844,21,1853,null,null,null,null,null,null,0,12,null,null,"target sequence",{"$f":"$G$3","v":12},{"$f":"$G$3","v":12},{"$f":"$G$3","v":12},{"$f":"$G$3","v":12},{"$f":"$G$3","v":12},{"$f":"$G$3","v":12}]
[11,1951,12,1976,null,null,null,null,null,null,0,11,null,null,"total reinforcement",{"$f":"U8","v":5},{"$f":"Z8","v":7},{"$f":"AE8","v":7},{"$f":"AJ8","v":6},{"$f":"AO8","v":6},{"$f":"AT8","v":8}]
[11,2086,21,2100,null,null,null,null,null,null,0,12,null,null,"% target"]
[11,2203,12,2226,null,null,null,null,null,null,0,11,null,null,"CCRF"]
[11,2337,21,2346,null,null,null,null,null,null,0,12,null,null,"% CCRf"]
[11,2443,21,2457,null,null,null,null,null,null,0,12,null,null,"average response rate",{"$f":"D15/P20","v":104.55555555555556},{"$f":"(D24-D15)/Q20","v":115},{"$f":"(D34-D24)/R20","v":118.8},{"$f":"(D43-D34)/S20","v":118.33333333333333},{"$f":"(D52-D43)/T20","v":120.77777777777777},{"$f":"(D61-D52)/U20","v":120.88888888888889}]
[11,2555,21,2561,null,null,null,null,null,null,0,12]
[11,2662,21,2672,null,null,null,null,null,null,0,12]
[22,2783,23,2819,null,null,null,null,null,null,0,22]
[11,2924,12,2934,null,null,null,null,null,null,0,11]
[11,3043,21,3052,null,null,null,null,null,null,0,12]
[11,3152,21,3164,null,null,null,null,null,null,0,12]
[11,3264,21,3276,null,null,null,null,null,null,0,12]
[11,3372,21,3382,null,null,null,null,null,null,0,12]
[11,3477,21,3490,null,null,null,null,null,null,0,12]
[11,3587,12,3608,null,null,null,null,null,null,0,11]
[11,3721,21,3734,null,null,null,null,null,null,0,12]
[11,3838,12,3866,null,null,null,null,null,null,0,11]
[11,3973,12,3997,null,null,null,null,null,null,0,11]
[11,4107,21,4121,null,null,null,null,null,null,0,12]
[11,4217,21,4229,null,null,null,null,null,null,0,12]
[11,4328,21,4341,null,null,null,null,null,null,0,12]
[11,4438,21,4450,null,null,null,null,null,null,0,12]
[11,4545,21,4565,null,null,null,null,null,null,0,12]
[11,4660,12,4688,null,null,null,null,null,null,0,11]
[11,4793,21,4807,null,null,null,null,null,null,0,12]
[11,4908,21,4935,null,null,null,null,null,null,0,12]
[11,5037,12,5062,null,null,null,null,null,null,0,11]
[11,5172,21,5178,null,null,null,null,null,null,0,12]
[22,5285,14,5316,null,null,null,null,null,null,0,21]
[11,5419,21,5433,null,null,null,null,null,null,0,12]
[11,5535,21,5557,null,null,null,null,null,null,0,12]
[22,5670,23,5711,null,null,null,null,null,null,0,22]
[11,5818,21,5831,null,null,null,null,null,null,0,12]
[11,5927,21,5937,null,null,null,null,null,null,0,12]
[11,6044,21,6053,null,null,null,null,null,null,0,12]
[11,6172,21,6183,null,null,null,null,null,null,0,12]
[11,6281,21,6295,null,null,null,null,null,null,0,12]
[11,6394,21,6404,null,null,null,null,null,null,1,12]

{"sheet":"!MC09B20.105","index":13,"n_rows":63,"n_cols":48,"rows_kept":63,"cut":false,"hidden":false,"merged":[[4,39,4,42],[5,39,5,40],[4,44,4,47],[5,44,5,45],[4,24,4,27],[5,24,5,25],[4,29,4,32],[5,29,5,30],[4,34,4,37],[5,34,5,35],[1,1,1,2],[5,13,5,14],[18,13,18,14],[19,13,19,14],[4,19,4,22],[5,19,5,20]]}
["Report for:!MC09B20.105"]
["Date:","<date>"]
["Hen:","<hen>",null,null,null,"Correct Sequence",{"$f":"Start!J2","v":12},null,null,null,null,null,null,null,null,"Total Sequences in Data",{"$f":"4994-COUNTBLANK(L7:L5000)","v":57},null,null,null,null,"Total Sequences in Block Data",{"$f":"COUNTA(L7:L16)","v":10},null,null,null,"Total Sequences in Block Data",{"$f":"COUNTA(L17:L25)","v":9},null,null,null,"Total Sequences in Block Data",{"$f":"COUNTA(L26:L35)","v":10},null,null,null,"Total Sequences in Block Data",{"$f":"COUNTA(L36:L44)","v":9},null,null,null,"Total Sequences in Block Data",{"$f":"COUNTA(L45:L54)","v":10},null,null,null,"Total Sequences in Block Data",{"$f":"COUNTA(L55:L63)","v":9}]
[null,null,null,null,null,null,null,null,null,null,null,null,null,null,null,"Total Sequences in Summary",{"$f":"SUM(O7:O14)","v":57},null,null,null,null,"Total Sequences in Block Summary",{"$f":"SUM(U7:U14)","v":10},null,null,null,"Total Sequences in Block Summary",{"$f":"SUM(Z7:Z14)","v":9},null,null,null,"Total Sequences in Block Summary",{"$f":"SUM(AE7:AE14)","v":10},null,null,null,"Total Sequences in Block Summary",{"$f":"SUM(AJ7:AJ14)","v":9},null,null,null,"Total Sequences in Block Summary",{"$f":"SUM(AO7:AO14)","v":10},null,null,null,"Total Sequences in Block Summary",{"$f":"SUM(AT7:AT14)","v":9}]
[null,null,null,null,null,null,null,null,null,null,null,null,null,null,null,null,null,null,null,"Block 1",null,null,null,null,"Block 2",null,null,null,null,"Block 3",null,null,null,null,"Block 4",null,null,null,null,"Block 5",null,null,null,null,"Block 6"]
["Sequence\nComponent\n1","Time\n1","Sequence\nComponent\n2","Time\n2","Sequence\nComponent\n3","Time\n3","Sequence\nComponent\n4","Time\n4","Sequence\nComponent\n5","Time\n5","Correct?\n0=No 1=Yes","Sequence",null,"Frequency",null,"Relative Frequency","Variability",null,null,"Frequency",null,"Relative Frequency","Variability",null,"Frequency",null,"Relative Frequency","Variability",null,"Frequency",null,"Relative Frequency","Variability",null,"Frequency",null,"Relative Frequency","Variability",null,"Frequency",null,"Relative Frequency","Variability",null,"Frequency",null,"Relative Frequency","Variability"]
[11,1,12,25,null,null,null,null,null,null,0,11,null,11,{"$f":"COUNTIF($L$7:$L$500,N7)","v":9},{"$f":"O7/$Q$4","v":0.15789473684210525},{"$f":"IF(P7=0,0,(P7*((LOG(P7))/LOG(2))))","v":-0.42046815990354147},null,null,{"$f":"N7","v":11},{"$f":"COUNTIF(L7:L16,T7)","v":5},{"$f":"U7/(W4-U8)","v":0.7142857142857143},{"$f":"IF(V7=0,0,(V7*((LOG(V7))/LOG(2))))","v":-0.34673344797874411},null,{"$f":"N7","v":11},{"$f":"COUNTIF(L17:L25,Y7)","v":1},{"$f":"Z7/(AB4-Z8)","v":1},{"$f":"IF(AA7=0,0,(AA7*((LOG(AA7))/LOG(2))))","v":0},null,{"$f":"N7","v":11},{"$f":"COUNTIF(L26:L35,AD7)","v":0},{"$f":"AE7/(AG4-AE8)","v":0},{"$f":"IF(AF7=0,0,(AF7*((LOG(AF7))/LOG(2))))","v":0},null,{"$f":"N7","v":11},{"$f":"COUNTIF(L36:L44,AI7)","v":1},{"$f":"AJ7/(AL4-AJ8)","v":0.5},{"$f":"IF(AK7=0,0,(AK7*((LOG(AK7))/LOG(2))))","v":-0.5},null,{"$f":"N7","v":11},{"$f":"COUNTIF(L45:L54,AN7)","v":1},{"$f":"AO7/(AQ4-AO8)","v":0.2},{"$f":"IF(AP7=0,0,(AP7*((LOG(AP7))/LOG(2))))","v":-0.46438561897747244},null,{"$f":"N7","v":11},{"$f":"COUNTIF(L55:L63,AS7)","v":1},{"$f":"AT7/(AV4-AT8)","v":0.5},{"$f":"IF(AU7=0,0,(AU7*((LOG(AU7))/LOG(2))))","v":-0.5}]
[11,166,12,175,null,null,null,null,null,null,0,11,null,12,{"$f":"COUNTIF($L$7:$L$500,N8)","v":39},{"$f":"O8/$Q$4","v":0.68421052631578949},{"$f":"IF(P8=0,0,(P8*((LOG(P8))/LOG(2))))","v":-0.37459691257539013},null,null,{"$f":"N8","v":12},{"$f":"COUNTIF(L7:L16,T8)","v":3},null,null,null,{"$f":"N8","v":12},{"$f":"COUNTIF(L17:L25,Y8)","v":8},null,null,null,{"$f":"N8","v":12},{"$f":"COUNTIF(L26:L35,AD8)","v":9},null,null,null,{"$f":"N8","v":12},{"$f":"COUNTIF(L36:L44,AI8)","v":7},null,null,null,{"$f":"N8","v":12},{"$f":"COUNTIF(L45:L54,AN8)","v":5},null,null,null,{"$f":"N8","v":12},{"$f":"COUNTIF(L55:L63,AS8)","v":7}]
[22,322,14,337,null,null,null,null,null,null,0,21,null,21,{"$f":"COUNTIF($L$7:$L$500,N9)","v":5},{"$f":"O9/$Q$4","v":8.771929824561403E-2},{"$f":"IF(P9=0,0,(P9*((LOG(P9))/LOG(2))))","v":-0.30797911572608588},null,null,{"$f":"N9","v":21},{"$f":"COUNTIF(L7:L16,T9)","v":2},{"$f":"U9/(W4-U8)","v":0.2857142857142857},{"$f":"IF(V9=0,0,(V9*((LOG(V9))/LOG(2))))","v":-0.51638712058788683},null,{"$f":"N9","v":21},{"$f":"COUNTIF(L17:L25,Y9)","v":0},{"$f":"Z9/(AB4-Z8)","v":0},{"$f":"IF(AA9=0,0,(AA9*((LOG(AA9))/LOG(2))))","v":0},null,{"$f":"N9","v":21},{"$f":"COUNTIF(L26:L35,AD9)","v":0},{"$f":"AE9/(AG4-AE8)","v":0},{"$f":"IF(AF9=0,0,(AF9*((LOG(AF9))/LOG(2))))","v":0},null,{"$f":"N9","v":21},{"$f":"COUNTIF(L36:L44,AI9)","v":0},{"$f":"AJ9/(AL4-AJ8)","v":0},{"$f":"IF(AK9=0,0,(AK9*((LOG(AK9))/LOG(2))))","v":0},null,{"$f":"N9","v":21},{"$f":"COUNTIF(L45:L54,AN9)","v":2},{"$f":"AO9/(AQ4-AO8)","v":0.4},{"$f":"IF(AP9=0,0,(AP9*((LOG(AP9))/LOG(2))))","v":-0.52877123795494496},null,{"$f":"N9","v":21},{"$f":"COUNTIF(L55:L63,AS9)","v":1},{"$f":"AT9/(AV4-AT8)","v":0.5},{"$f":"IF(AU9=0,0,(AU9*((LOG(AU9))/LOG(2))))","v":-0.5}]
[11,449,21,476,null,null,null,null,null,null,0,12,null,22,{"$f":"COUNTIF($L$7:$L$500,N10)","v":4},{"$f":"O10/$Q$4","v":7.0175438596491224E-2},{"$f":"IF(P10=0,0,(P10*((LOG(P10))/LOG(2))))","v":-0.26897473783612219},null,null,{"$f":"N10","v":22},{"$f":"COUNTIF(L7:L16,T10)","v":0},{"$f":"U10/(W4-U8)","v":0},{"$f":"IF(V10=0,0,(V10*((LOG(V10))/LOG(2))))","v":0},null,{"$f":"N10","v":22},{"$f":"COUNTIF(L17:L25,Y10)","v":0},{"$f":"Z10/(AB4-Z8)","v":0},{"$f":"IF(AA10=0,0,(AA10*((LOG(AA10))/LOG(2))))","v":0},null,{"$f":"N10","v":22},{"$f":"COUNTIF(L26:L35,AD10)","v":1},{"$f":"AE10/(AG4-AE8)","v":1},{"$f":"IF(AF10=0,0,(AF10*((LOG(AF10))/LOG(2))))","v":0},null,{"$f":"N10","v":22},{"$f":"COUNTIF(L36:L44,AI10)","v":1},{"$f":"AJ10/(AL4-AJ8)","v":0.5},{"$f":"IF(AK10=0,0,(AK10*((LOG(AK10))/LOG(2))))","v":-0.5},null,{"$f":"N10","v":22},{"$f":"COUNTIF(L45:L54,AN10)","v":2},{"$f":"AO10/(AQ4-AO8)","v":0.4},{"$f":"IF(AP10=0,0,(AP10*((LOG(AP10))/LOG(2))))","v":-0.52877123795494496},null,{"$f":"N10","v":22},{"$f":"COUNTIF(L55:L63,AS10)","v":0},{"$f":"AT10/(AV4-AT8)","v":0},{"$f":"IF(AU10=0,0,(AU10*((LOG(AU10))/LOG(2))))","v":0}]
[11,581,12,590,null,null,null,null,null,null,0,11,null,null,null,null,null,null,null,{"$f":"N11","v":0},{"$f":"COUNTIF(L7:L16,T11)","v":0},{"$f":"U11/(W4-U8)","v":0},{"$f":"IF(V11=0,0,(V11*((LOG(V11))/LOG(2))))","v":0},null,{"$f":"N11","v":0},{"$f":"COUNTIF(L17:L25,Y11)","v":0},{"$f":"Z11/(AB4-Z8)","v":0},{"$f":"IF(AA11=0,0,(AA11*((LOG(AA11))/LOG(2))))","v":0},null,{"$f":"N11","v":0},{"$f":"COUNTIF(L26:L35,AD11)","v":0},{"$f":"AE11/(AG4-AE8)","v":0},{"$f":"IF(AF11=0,0,(AF11*((LOG(AF11))/LOG(2))))","v":0},null,{"$f":"N11","v":0},{"$f":"COUNTIF(L36:L44,AI11)","v":0},{"$f":"AJ11/(AL4-AJ8)","v":0},{"$f":"IF(AK11=0,0,(AK11*((LOG(AK11))/LOG(2))))","v":0},null,{"$f":"N11","v":0},{"$f":"COUNTIF(L45:L54,AN11)","v":0},{"$f":"AO11/(AQ4-AO8)","v":0},{"$f":"IF(AP11=0,0,(AP11*((LOG(AP11))/LOG(2))))","v":0},null,{"$f":"N11","v":0},{"$f":"COUNTIF(L55:L63,AS11)","v":0},{"$f":"AT11/(AV4-AT8)","v":0},{"$f":"IF(AU11=0,0,(AU11*((LOG(AU11))/LOG(2))))","v":0}]
[11,699,12,715,null,null,null,null,null,null,0,11,null,null,null,null,null,null,null,{"$f":"N12","v":0},{"$f":"COUNTIF(L7:L16,T12)","v":0},{"$f":"U12/(W4-U8)","v":0},{"$f":"IF(V12=0,0,(V12*((LOG(V12))/LOG(2))))","v":0},null,{"$f":"N12","v":0},{"$f":"COUNTIF(L17:L25,Y12)","v":0},{"$f":"Z12/(AB4-Z8)","v":0},{"$f":"IF(AA12=0,0,(AA12*((LOG(AA12))/LOG(2))))","v":0},null,{"$f":"N12","v":0},{"$f":"COUNTIF(L26:L35,AD12)","v":0},{"$f":"AE12/(AG4-AE8)","v":0},{"$f":"IF(AF12=0,0,(AF12*((LOG(AF12))/LOG(2))))","v":0},null,{"$f":"N12","v":0},{"$f":"COUNTIF(L36:L44,AI12)","v":0},{"$f":"AJ12/(AL4-AJ8)","v":0},{"$f":"IF(AK12=0,0,(AK12*((LOG(AK12))/LOG(2))))","v":0},null,{"$f":"N12","v":0},{"$f":"COUNTIF(L45:L54,AN12)","v":0},{"$f":"AO12/(AQ4-AO8)","v":0},{"$f":"IF(AP12=0,0,(AP12*((LOG(AP12))/LOG(2))))","v":0},null,{"$f":"N12","v":0},{"$f":"COUNTIF(L55:L63,AS12)","v":0},{"$f":"AT12/(AV4-AT8)","v":0},{"$f":"IF(AU12=0,0,(AU12*((LOG(AU12))/LOG(2))))","v":0}]
[11,852,12,867,null,null,null,null,null,null,0,11,null,null,null,null,null,null,null,{"$f":"N13","v":0},{"$f":"COUNTIF(L7:L16,T13)","v":0},{"$f":"U13/(W4-U8)","v":0},{"$f":"IF(V13=0,0,(V13*((LOG(V13))/LOG(2))))","v":0},null,{"$f":"N13","v":0},{"$f":"COUNTIF(L17:L25,Y13)","v":0},{"$f":"Z13/(AB4-Z8)","v":0},{"$f":"IF(AA13=0,0,(AA13*((LOG(AA13))/LOG(2))))","v":0},null,{"$f":"N13","v":0},{"$f":"COUNTIF(L26:L35,AD13)","v":0},{"$f":"AE13/(AG4-AE8)","v":0},{"$f":"IF(AF13=0,0,(AF13*((LOG(AF13))/LOG(2))))","v":0},null,{"$f":"N13","v":0},{"$f":"COUNTIF(L36:L44,AI13)","v":0},{"$f":"AJ13/(AL4-AJ8)","v":0},{"$f":"IF(AK13=0,0,(AK13*((LOG(AK13))/LOG(2))))","v":0},null,{"$f":"N13","v":0},{"$f":"COUNTIF(L45:L54,AN13)","v":0},{"$f":"AO13/(AQ4-AO8)","v":0},{"$f":"IF(AP13=0,0,(AP13*((LOG(AP13))/LOG(2))))","v":0},null,{"$f":"N13","v":0},{"$f":"COUNTIF(L55:L63,AS13)","v":0},{"$f":"AT13/(AV4-AT8)","v":0},{"$f":"IF(AU13=0,0,(AU13*((LOG(AU13))/LOG(2))))","v":0}]
[11,983,21,997,null,null,null,null,null,null,0,12,null,null,null,null,null,null,null,{"$f":"N14","v":0},{"$f":"COUNTIF(L7:L16,T14)","v":0},{"$f":"U14/(W4-U8)","v":0},{"$f":"IF(V14=0,0,(V14*((LOG(V14))/LOG(2))))","v":0},null,{"$f":"N14","v":0},{"$f":"COUNTIF(L17:L25,Y14)","v":0},{"$f":"Z14/(AB4-Z8)","v":0},{"$f":"IF(AA14=0,0,(AA14*((LOG(AA14))/LOG(2))))","v":0},null,{"$f":"N14","v":0},{"$f":"COUNTIF(L26:L35,AD14)","v":0},{"$f":"AE14/(AG4-AE8)","v":0},{"$f":"IF(AF14=0,0,(AF14*((LOG(AF14))/LOG(2))))","v":0},null,{"$f":"N14","v":0},{"$f":"COUNTIF(L36:L44,AI14)","v":0},{"$f":"AJ14/(AL4-AJ8)","v":0},{"$f":"IF(AK14=0,0,(AK14*((LOG(AK14))/LOG(2))))","v":0},null,{"$f":"N14","v":0},{"$f":"COUNTIF(L45:L54,AN14)","v":0},{"$f":"AO14/(AQ4-AO8)","v":0},{"$f":"IF(AP14=0,0,(AP14*((LOG(AP14))/LOG(2))))","v":0},null,{"$f":"N14","v":0},{"$f":"COUNTIF(L55:L63,AS14)","v":0},{"$f":"AT14/(AV4-AT8)","v":0},{"$f":"IF(AU14=0,0,(AU14*((LOG(AU14))/LOG(2))))","v":0}]
[11,1098,21,1139,null,null,null,null,null,null,0,12,null,null,null,{"$f":"SUM(P7:P14)","v":1},{"$f":"-SUM(Q7:Q14)","v":1.3720189260411397},null,null,null,null,{"$f":"SUM(V7:V14)","v":1},{"$f":"-SUM(W7:W14)","v":0.863120568566631},null,null,null,{"$f":"SUM(AA7:AA14)","v":1},{"$f":"-SUM(AB7:AB14)","v":0},null,null,null,{"$f":"SUM(AF7:AF14)","v":1},{"$f":"-SUM(AG7:AG14)","v":0},null,null,null,{"$f":"SUM(AK7:AK14)","v":1},{"$f":"-SUM(AL7:AL14)","v":1},null,null,null,{"$f":"SUM(AP7:AP14)","v":1},{"$f":"-SUM(AQ7:AQ14)","v":1.5219280948873624},null,null,null,{"$f":"SUM(AU7:AU14)","v":1},{"$f":"-SUM(AV7:AV14)","v":1}]
[22,1257,14,1275,null,null,null,null,null,null,0,21,null,null,null,"U=",{"$f":"Q15/(LOG(Q4)/LOG(2))","v":0.23522112069819476},null,null,null,null,"U1=",{"$f":"W15/(LOG(W4)/LOG(2))","v":0.25982518101310592},null,null,null,"U2=",{"$f":"AB15/(LOG(AB4)/LOG(2))","v":0},null,null,null,"U3=",{"$f":"AG15/(LOG(AG4)/LOG(2))","v":0},null,null,null,"U4=",{"$f":"AL15/(LOG(AL4)/LOG(2))","v":0.31546487678572877},null,null,null,"U5=",{"$f":"AQ15/(LOG(AQ4)/LOG(2))","v":0.45814600780483389},null,null,null,"U6=",{"$f":"AV15/(LOG(AV4)/LOG(2))","v":0.31546487678572877}]
[11,1385,21,1417,null,null,null,null,null,null,0,12]
[11,1525,21,1554,null,null,null,null,null,null,0,12]
[11,1661,21,1670,null,null,null,null,null,null,0,12,null,"Total Target Seq"]
[11,1774,12,1802,null,null,null,null,null,null,0,11,null,{"$f":"COUNTIF(L7:L63,G3)","v":39},null,10,9,10,9,10,9]
[11,1921,21,1934,null,null,null,null,null,null,0,12,null,null,null,"% of reinforcement given in 6 equal intervals based on number of trials "]
[11,2039,21,2063,null,null,null,null,null,null,0,12,null,null,null,"%_1","%_2","%_3","%_4","%_5","%_6"]
[11,2167,21,2177,null,null,null,null,null,null,0,12,null,null,"target sequence",{"$f":"$G$3","v":12},{"$f":"$G$3","v":12},{"$f":"$G$3","v":12},{"$f":"$G$3","v":12},{"$f":"$G$3","v":12},{"$f":"$G$3","v":12}]
[11,2273,21,2299,null,null,null,null,null,null,0,12,null,null,"total reinforcement",{"$f":"U8","v":3},{"$f":"Z8","v":8},{"$f":"AE8","v":9},{"$f":"AJ8","v":7},{"$f":"AO8","v":5},{"$f":"AT8","v":7}]
[11,2399,21,2435,null,null,null,null,null,null,0,12,null,null,"% target"]
[11,2531,21,2590,null,null,null,null,null,null,0,12,null,null,"CCRF"]
[11,2689,21,2700,null,null,null,null,null,null,0,12,null,null,"% CCRf"]
[11,2797,21,2816,null,null,null,null,null,null,0,12,null,null,"average response rate",{"$f":"D16/P20","v":127.5},{"$f":"(D25-D16)/Q20","v":128.88888888888889},{"$f":"(D35-D25)/R20","v":133.6},{"$f":"(D44-D35)/S20","v":129.55555555555554},{"$f":"(D54-D44)/T20","v":134.6},{"$f":"(D63-D54)/U20","v":127.66666666666667}]
[11,2921,21,2934,null,null,null,null,null,null,0,12]
[11,3063,21,3075,null,null,null,null,null,null,0,12]
[11,3172,21,3185,null,null,null,null,null,null,0,12]
[11,3286,21,3301,null,null,null,null,null,null,0,12]
[22,3415,23,3470,null,null,null,null,null,null,0,22]
[11,3566,21,3626,null,null,null,null,null,null,0,12]
[11,3757,21,3771,null,null,null,null,null,null,0,12]
[11,3879,12,3908,null,null,null,null,null,null,0,11]
[11,4020,21,4030,null,null,null,null,null,null,0,12]
[11,4131,21,4150,null,null,null,null,null,null,0,12]
[11,4250,21,4272,null,null,null,null,null,null,0,12]
[11,4364,21,4374,null,null,null,null,null,null,0,12]
[22,4509,23,4547,null,null,null,null,null,null,0,22]
[11,4665,21,4694,null,null,null,null,null,null,0,12]
[11,4801,21,4811,null,null,null,null,null,null,0,12]
[11,4918,21,4937,null,null,null,null,null,null,0,12]
[22,5048,23,5093,null,null,null,null,null,null,0,22]
[22,5213,23,5241,null,null,null,null,null,null,0,22]
[22,5388,14,5413,null,null,null,null,null,null,0,21]
[11,5519,21,5562,null,null,null,null,null,null,0,12]
[22,5676,14,5704,null,null,null,null,null,null,0,21]
[11,5816,21,5825,null,null,null,null,null,null,0,12]
[11,5925,21,5937,null,null,null,null,null,null,0,12]
[11,6045,21,6058,null,null,null,null,null,null,0,12]
[11,6160,21,6172,null,null,null,null,null,null,0,12]
[11,6273,12,6283,null,null,null,null,null,null,0,11]
[11,6395,21,6405,null,null,null,null,null,null,0,12]
[22,6515,14,6541,null,null,null,null,null,null,0,21]
[11,6652,21,6664,null,null,null,null,null,null,0,12]
[11,6771,12,6803,null,null,null,null,null,null,0,11]
[11,6916,21,6928,null,null,null,null,null,null,0,12]
[11,7032,21,7038,null,null,null,null,null,null,0,12]
[11,7136,21,7175,null,null,null,null,null,null,0,12]
[11,7271,21,7284,null,null,null,null,null,null,0,12]
[11,7418,21,7432,null,null,null,null,null,null,1,12]

{"sheet":"!MC10C10.105","index":14,"n_rows":67,"n_cols":48,"rows_kept":67,"cut":false,"hidden":false,"merged":[[4,39,4,42],[5,39,5,40],[4,44,4,47],[5,44,5,45],[4,24,4,27],[5,24,5,25],[4,29,4,32],[5,29,5,30],[4,34,4,37],[5,34,5,35],[1,1,1,2],[5,13,5,14],[18,13,18,14],[19,13,19,14],[4,19,4,22],[5,19,5,20]]}
["Report for:!MC10C10.105"]
["Date:","<date>"]
["Hen:","<hen>",null,null,null,"Correct Sequence",{"$f":"Start!J2","v":12},null,null,null,null,null,null,null,null,"Total Sequences in Data",{"$f":"4994-COUNTBLANK(L7:L5000)","v":61},null,null,null,null,"Total Sequences in Block Data",{"$f":"COUNTA(L7:L16)","v":10},null,null,null,"Total Sequences in Block Data",{"$f":"COUNTA(L17:L26)","v":10},null,null,null,"Total Sequences in Block Data",{"$f":"COUNTA(L27:L37)","v":11},null,null,null,"Total Sequences in Block Data",{"$f":"COUNTA(L38:L47)","v":10},null,null,null,"Total Sequences in Block Data",{"$f":"COUNTA(L48:L57)","v":10},null,null,null,"Total Sequences in Block Data",{"$f":"COUNTA(L58:L67)","v":10}]
[null,null,null,null,null,null,null,null,null,null,null,null,null,null,null,"Total Sequences in Summary",{"$f":"SUM(O7:O14)","v":61},null,null,null,null,"Total Sequences in Block Summary",{"$f":"SUM(U7:U14)","v":10},null,null,null,"Total Sequences in Block Summary",{"$f":"SUM(Z7:Z14)","v":10},null,null,null,"Total Sequences in Block Summary",{"$f":"SUM(AE7:AE14)","v":11},null,null,null,"Total Sequences in Block Summary",{"$f":"SUM(AJ7:AJ14)","v":10},null,null,null,"Total Sequences in Block Summary",{"$f":"SUM(AO7:AO14)","v":10},null,null,null,"Total Sequences in Block Summary",{"$f":"SUM(AT7:AT14)","v":10}]
[null,null,null,null,null,null,null,null,null,null,null,null,null,null,null,null,null,null,null,"Block 1",null,null,null,null,"Block 2",null,null,null,null,"Block 3",null,null,null,null,"Block 4",null,null,null,null,"Block 5",null,null,null,null,"Block 6"]
["Sequence\nComponent\n1","Time\n1","Sequence\nComponent\n2","Time\n2","Sequence\nComponent\n3","Time\n3","Sequence\nComponent\n4","Time\n4","Sequence\nComponent\n5","Time\n5","Correct?\n0=No 1=Yes","Sequence",null,"Frequency",null,"Relative Frequency","Variability",null,null,"Frequency",null,"Relative Frequency","Variability",null,"Frequency",null,"Relative Frequency","Variability",null,"Frequency",null,"Relative Frequency","Variability",null,"Frequency",null,"Relative Frequency","Variability",null,"Frequency",null,"Relative Frequency","Variability",null,"Frequency",null,"Relative Frequency","Variability"]
[11,19,21,32,null,null,null,null,null,null,0,12,null,11,{"$f":"COUNTIF($L$7:$L$500,N7)","v":7},{"$f":"O7/$Q$4","v":0.11475409836065574},{"$f":"IF(P7=0,0,(P7*((LOG(P7))/LOG(2))))","v":-0.35842093292683563},null,null,{"$f":"N7","v":11},{"$f":"COUNTIF(L7:L16,T7)","v":1},{"$f":"U7/(W4-U8)","v":0.33333333333333331},{"$f":"IF(V7=0,0,(V7*((LOG(V7))/LOG(2))))","v":-0.52832083357371862},null,{"$f":"N7","v":11},{"$f":"COUNTIF(L17:L26,Y7)","v":0},{"$f":"Z7/(AB4-Z8)","v":0},{"$f":"IF(AA7=0,0,(AA7*((LOG(AA7))/LOG(2))))","v":0},null,{"$f":"N7","v":11},{"$f":"COUNTIF(L27:L37,AD7)","v":0},{"$f":"AE7/(AG4-AE8)","v":0},{"$f":"IF(AF7=0,0,(AF7*((LOG(AF7))/LOG(2))))","v":0},null,{"$f":"N7","v":11},{"$f":"COUNTIF(L38:L47,AI7)","v":2},{"$f":"AJ7/(AL4-AJ8)","v":0.66666666666666663},{"$f":"IF(AK7=0,0,(AK7*((LOG(AK7))/LOG(2))))","v":-0.38997500048077083},null,{"$f":"N7","v":11},{"$f":"COUNTIF(L48:L57,AN7)","v":1},{"$f":"AO7/(AQ4-AO8)","v":0.2},{"$f":"IF(AP7=0,0,(AP7*((LOG(AP7))/LOG(2))))","v":-0.46438561897747244},null,{"$f":"N7","v":11},{"$f":"COUNTIF(L58:L67,AS7)","v":3},{"$f":"AT7/(AV4-AT8)","v":0.6},{"$f":"IF(AU7=0,0,(AU7*((LOG(AU7))/LOG(2))))","v":-0.44217935649972373}]
[22,138,14,163,null,null,null,null,null,null,0,21,null,12,{"$f":"COUNTIF($L$7:$L$500,N8)","v":39},{"$f":"O8/$Q$4","v":0.63934426229508201},{"$f":"IF(P8=0,0,(P8*((LOG(P8))/LOG(2))))","v":-0.41259130539876843},null,null,{"$f":"N8","v":12},{"$f":"COUNTIF(L7:L16,T8)","v":7},null,null,null,{"$f":"N8","v":12},{"$f":"COUNTIF(L17:L26,Y8)","v":8},null,null,null,{"$f":"N8","v":12},{"$f":"COUNTIF(L27:L37,AD8)","v":7},null,null,null,{"$f":"N8","v":12},{"$f":"COUNTIF(L38:L47,AI8)","v":7},null,null,null,{"$f":"N8","v":12},{"$f":"COUNTIF(L48:L57,AN8)","v":5},null,null,null,{"$f":"N8","v":12},{"$f":"COUNTIF(L58:L67,AS8)","v":5}]
[11,272,12,300,null,null,null,null,null,null,0,11,null,21,{"$f":"COUNTIF($L$7:$L$500,N9)","v":8},{"$f":"O9/$Q$4","v":0.13114754098360656},{"$f":"IF(P9=0,0,(P9*((LOG(P9))/LOG(2))))","v":-0.38435899509021459},null,null,{"$f":"N9","v":21},{"$f":"COUNTIF(L7:L16,T9)","v":1},{"$f":"U9/(W4-U8)","v":0.33333333333333331},{"$f":"IF(V9=0,0,(V9*((LOG(V9))/LOG(2))))","v":-0.52832083357371862},null,{"$f":"N9","v":21},{"$f":"COUNTIF(L17:L26,Y9)","v":1},{"$f":"Z9/(AB4-Z8)","v":0.5},{"$f":"IF(AA9=0,0,(AA9*((LOG(AA9))/LOG(2))))","v":-0.5},null,{"$f":"N9","v":21},{"$f":"COUNTIF(L27:L37,AD9)","v":1},{"$f":"AE9/(AG4-AE8)","v":0.25},{"$f":"IF(AF9=0,0,(AF9*((LOG(AF9))/LOG(2))))","v":-0.5},null,{"$f":"N9","v":21},{"$f":"COUNTIF(L38:L47,AI9)","v":1},{"$f":"AJ9/(AL4-AJ8)","v":0.33333333333333331},{"$f":"IF(AK9=0,0,(AK9*((LOG(AK9))/LOG(2))))","v":-0.52832083357371862},null,{"$f":"N9","v":21},{"$f":"COUNTIF(L48:L57,AN9)","v":3},{"$f":"AO9/(AQ4-AO8)","v":0.6},{"$f":"IF(AP9=0,0,(AP9*((LOG(AP9))/LOG(2))))","v":-0.44217935649972373},null,{"$f":"N9","v":21},{"$f":"COUNTIF(L58:L67,AS9)","v":1},{"$f":"AT9/(AV4-AT8)","v":0.2},{"$f":"IF(AU9=0,0,(AU9*((LOG(AU9))/LOG(2))))","v":-0.46438561897747244}]
[11,412,21,425,null,null,null,null,null,null,0,12,null,22,{"$f":"COUNTIF($L$7:$L$500,N10)","v":7},{"$f":"O10/$Q$4","v":0.11475409836065574},{"$f":"IF(P10=0,0,(P10*((LOG(P10))/LOG(2))))","v":-0.35842093292683563},null,null,{"$f":"N10","v":22},{"$f":"COUNTIF(L7:L16,T10)","v":1},{"$f":"U10/(W4-U8)","v":0.33333333333333331},{"$f":"IF(V10=0,0,(V10*((LOG(V10))/LOG(2))))","v":-0.52832083357371862},null,{"$f":"N10","v":22},{"$f":"COUNTIF(L17:L26,Y10)","v":1},{"$f":"Z10/(AB4-Z8)","v":0.5},{"$f":"IF(AA10=0,0,(AA10*((LOG(AA10))/LOG(2))))","v":-0.5},null,{"$f":"N10","v":22},{"$f":"COUNTIF(L27:L37,AD10)","v":3},{"$f":"AE10/(AG4-AE8)","v":0.75},{"$f":"IF(AF10=0,0,(AF10*((LOG(AF10))/LOG(2))))","v":-0.31127812445913283},null,{"$f":"N10","v":22},{"$f":"COUNTIF(L38:L47,AI10)","v":0},{"$f":"AJ10/(AL4-AJ8)","v":0},{"$f":"IF(AK10=0,0,(AK10*((LOG(AK10))/LOG(2))))","v":0},null,{"$f":"N10","v":22},{"$f":"COUNTIF(L48:L57,AN10)","v":1},{"$f":"AO10/(AQ4-AO8)","v":0.2},{"$f":"IF(AP10=0,0,(AP10*((LOG(AP10))/LOG(2))))","v":-0.46438561897747244},null,{"$f":"N10","v":22},{"$f":"COUNTIF(L58:L67,AS10)","v":1},{"$f":"AT10/(AV4-AT8)","v":0.2},{"$f":"IF(AU10=0,0,(AU10*((LOG(AU10))/LOG(2))))","v":-0.46438561897747244}]
[11,523,21,535,null,null,null,null,null,null,0,12,null,null,null,null,null,null,null,{"$f":"N11","v":0},{"$f":"COUNTIF(L7:L16,T11)","v":0},{"$f":"U11/(W4-U8)","v":0},{"$f":"IF(V11=0,0,(V11*((LOG(V11))/LOG(2))))","v":0},null,{"$f":"N11","v":0},{"$f":"COUNTIF(L17:L26,Y11)","v":0},{"$f":"Z11/(AB4-Z8)","v":0},{"$f":"IF(AA11=0,0,(AA11*((LOG(AA11))/LOG(2))))","v":0},null,{"$f":"N11","v":0},{"$f":"COUNTIF(L27:L37,AD11)","v":0},{"$f":"AE11/(AG4-AE8)","v":0},{"$f":"IF(AF11=0,0,(AF11*((LOG(AF11))/LOG(2))))","v":0},null,{"$f":"N11","v":0},{"$f":"COUNTIF(L38:L47,AI11)","v":0},{"$f":"AJ11/(AL4-AJ8)","v":0},{"$f":"IF(AK11=0,0,(AK11*((LOG(AK11))/LOG(2))))","v":0},null,{"$f":"N11","v":0},{"$f":"COUNTIF(L48:L57,AN11)","v":0},{"$f":"AO11/(AQ4-AO8)","v":0},{"$f":"IF(AP11=0,0,(AP11*((LOG(AP11))/LOG(2))))","v":0},null,{"$f":"N11","v":0},{"$f":"COUNTIF(L58:L67,AS11)","v":0},{"$f":"AT11/(AV4-AT8)","v":0},{"$f":"IF(AU11=0,0,(AU11*((LOG(AU11))/LOG(2))))","v":0}]
[11,640,21,651,null,null,null,null,null,null,0,12,null,null,null,null,null,null,null,{"$f":"N12","v":0},{"$f":"COUNTIF(L7:L16,T12)","v":0},{"$f":"U12/(W4-U8)","v":0},{"$f":"IF(V12=0,0,(V12*((LOG(V12))/LOG(2))))","v":0},null,{"$f":"N12","v":0},{"$f":"COUNTIF(L17:L26,Y12)","v":0},{"$f":"Z12/(AB4-Z8)","v":0},{"$f":"IF(AA12=0,0,(AA12*((LOG(AA12))/LOG(2))))","v":0},null,{"$f":"N12","v":0},{"$f":"COUNTIF(L27:L37,AD12)","v":0},{"$f":"AE12/(AG4-AE8)","v":0},{"$f":"IF(AF12=0,0,(AF12*((LOG(AF12))/LOG(2))))","v":0},null,{"$f":"N12","v":0},{"$f":"COUNTIF(L38:L47,AI12)","v":0},{"$f":"AJ12/(AL4-AJ8)","v":0},{"$f":"IF(AK12=0,0,(AK12*((LOG(AK12))/LOG(2))))","v":0},null,{"$f":"N12","v":0},{"$f":"COUNTIF(L48:L57,AN12)","v":0},{"$f":"AO12/(AQ4-AO8)","v":0},{"$f":"IF(AP12=0,0,(AP12*((LOG(AP12))/LOG(2))))","v":0},null,{"$f":"N12","v":0},{"$f":"COUNTIF(L58:L67,AS12)","v":0},{"$f":"AT12/(AV4-AT8)","v":0},{"$f":"IF(AU12=0,0,(AU12*((LOG(AU12))/LOG(2))))","v":0}]
[11,748,21,758,null,null,null,null,null,null,0,12,null,null,null,null,null,null,null,{"$f":"N13","v":0},{"$f":"COUNTIF(L7:L16,T13)","v":0},{"$f":"U13/(W4-U8)","v":0},{"$f":"IF(V13=0,0,(V13*((LOG(V13))/LOG(2))))","v":0},null,{"$f":"N13","v":0},{"$f":"COUNTIF(L17:L26,Y13)","v":0},{"$f":"Z13/(AB4-Z8)","v":0},{"$f":"IF(AA13=0,0,(AA13*((LOG(AA13))/LOG(2))))","v":0},null,{"$f":"N13","v":0},{"$f":"COUNTIF(L27:L37,AD13)","v":0},{"$f":"AE13/(AG4-AE8)","v":0},{"$f":"IF(AF13=0,0,(AF13*((LOG(AF13))/LOG(2))))","v":0},null,{"$f":"N13","v":0},{"$f":"COUNTIF(L38:L47,AI13)","v":0},{"$f":"AJ13/(AL4-AJ8)","v":0},{"$f":"IF(AK13=0,0,(AK13*((LOG(AK13))/LOG(2))))","v":0},null,{"$f":"N13","v":0},{"$f":"COUNTIF(L48:L57,AN13)","v":0},{"$f":"AO13/(AQ4-AO8)","v":0},{"$f":"IF(AP13=0,0,(AP13*((LOG(AP13))/LOG(2))))","v":0},null,{"$f":"N13","v":0},{"$f":"COUNTIF(L58:L67,AS13)","v":0},{"$f":"AT13/(AV4-AT8)","v":0},{"$f":"IF(AU13=0,0,(AU13*((LOG(AU13))/LOG(2))))","v":0}]
[11,861,21,872,null,null,null,null,null,null,0,12,null,null,null,null,null,null,null,{"$f":"N14","v":0},{"$f":"COUNTIF(L7:L16,T14)","v":0},{"$f":"U14/(W4-U8)","v":0},{"$f":"IF(V14=0,0,(V14*((LOG(V14))/LOG(2))))","v":0},null,{"$f":"N14","v":0},{"$f":"COUNTIF(L17:L26,Y14)","v":0},{"$f":"Z14/(AB4-Z8)","v":0},{"$f":"IF(AA14=0,0,(AA14*((LOG(AA14))/LOG(2))))","v":0},null,{"$f":"N14","v":0},{"$f":"COUNTIF(L27:L37,AD14)","v":0},{"$f":"AE14/(AG4-AE8)","v":0},{"$f":"IF(AF14=0,0,(AF14*((LOG(AF14))/LOG(2))))","v":0},null,{"$f":"N14","v":0},{"$f":"COUNTIF(L38:L47,AI14)","v":0},{"$f":"AJ14/(AL4-AJ8)","v":0},{"$f":"IF(AK14=0,0,(AK14*((LOG(AK14))/LOG(2))))","v":0},null,{"$f":"N14","v":0},{"$f":"COUNTIF(L48:L57,AN14)","v":0},{"$f":"AO14/(AQ4-AO8)","v":0},{"$f":"IF(AP14=0,0,(AP14*((LOG(AP14))/LOG(2))))","v":0},null,{"$f":"N14","v":0},{"$f":"COUNTIF(L58:L67,AS14)","v":0},{"$f":"AT14/(AV4-AT8)","v":0},{"$f":"IF(AU14=0,0,(AU14*((LOG(AU14))/LOG(2))))","v":0}]
[11,972,21,1018,null,null,null,null,null,null,0,12,null,null,null,{"$f":"SUM(P7:P14)","v":1},{"$f":"-SUM(Q7:Q14)","v":1.5137921663426543},null,null,null,null,{"$f":"SUM(V7:V14)","v":1},{"$f":"-SUM(W7:W14)","v":1.5849625007211559},null,null,null,{"$f":"SUM(AA7:AA14)","v":1},{"$f":"-SUM(AB7:AB14)","v":1},null,null,null,{"$f":"SUM(AF7:AF14)","v":1},{"$f":"-SUM(AG7:AG14)","v":0.81127812445913283},null,null,null,{"$f":"SUM(AK7:AK14)","v":1},{"$f":"-SUM(AL7:AL14)","v":0.91829583405448945},null,null,null,{"$f":"SUM(AP7:AP14)","v":1},{"$f":"-SUM(AQ7:AQ14)","v":1.3709505944546687},null,null,null,{"$f":"SUM(AU7:AU14)","v":1},{"$f":"-SUM(AV7:AV14)","v":1.3709505944546687}]
[22,1129,23,1158,null,null,null,null,null,null,0,22,null,null,null,"U=",{"$f":"Q15/(LOG(Q4)/LOG(2))","v":0.25524518793892764},null,null,null,null,"U1=",{"$f":"W15/(LOG(W4)/LOG(2))","v":0.47712125471966238},null,null,null,"U2=",{"$f":"AB15/(LOG(AB4)/LOG(2))","v":0.3010299956639812},null,null,null,"U3=",{"$f":"AG15/(LOG(AG4)/LOG(2))","v":0.23451197014228101},null,null,null,"U4=",{"$f":"AL15/(LOG(AL4)/LOG(2))","v":0.27643459094367495},null,null,null,"U5=",{"$f":"AQ15/(LOG(AQ4)/LOG(2))","v":0.41269725150422137},null,null,null,"U6=",{"$f":"AV15/(LOG(AV4)/LOG(2))","v":0.41269725150422137}]
[11,1253,21,1265,null,null,null,null,null,null,0,12]
[22,1375,23,1415,null,null,null,null,null,null,0,22]
[11,1538,21,1558,null,null,null,null,null,null,0,12,null,"Total Target Seq"]
[11,1657,21,1668,null,null,null,null,null,null,0,12,null,{"$f":"COUNTIF(L7:L67,G3)","v":39},null,10,10,11,10,10,10]
[11,1765,21,1776,null,null,null,null,null,null,0,12,null,null,null,"% of reinforcement given in 6 equal intervals based on number of trials "]
[22,1889,14,1911,null,null,null,null,null,null,0,21,null,null,null,"%_1","%_2","%_3","%_4","%_5","%_6"]
[11,2033,21,2075,null,null,null,null,null,null,0,12,null,null,"target sequence",{"$f":"$G$3","v":12},{"$f":"$G$3","v":12},{"$f":"$G$3","v":12},{"$f":"$G$3","v":12},{"$f":"$G$3","v":12},{"$f":"$G$3","v":12}]
[11,2175,21,2187,null,null,null,null,null,null,0,12,null,null,"total reinforcement",{"$f":"U8","v":7},{"$f":"Z8","v":8},{"$f":"AE8","v":7},{"$f":"AJ8","v":7},{"$f":"AO8","v":5},{"$f":"AT8","v":5}]
[11,2283,21,2300,null,null,null,null,null,null,0,12,null,null,"% target"]
[11,2400,21,2415,null,null,null,null,null,null,0,12,null,null,"CCRF"]
[11,2516,21,2528,null,null,null,null,null,null,0,12,null,null,"% CCRf"]
[11,2625,21,2639,null,null,null,null,null,null,0,12,null,null,"average response rate",{"$f":"D16/P20","v":115.8},{"$f":"(D26-D16)/Q20","v":125.7},{"$f":"(D37-D26)/R20","v":130.63636363636363},{"$f":"(D47-D37)/S20","v":129.80000000000001},{"$f":"(D57-D47)/T20","v":128},{"$f":"(D67-D57)/U20","v":131.30000000000001}]
[22,2751,23,2784,null,null,null,null,null,null,0,22]
[22,2905,23,2931,null,null,null,null,null,null,0,22]
[22,3076,14,3097,null,null,null,null,null,null,0,21]
[11,3204,21,3241,null,null,null,null,null,null,0,12]
[11,3338,21,3349,null,null,null,null,null,null,0,12]
[11,3444,21,3459,null,null,null,null,null,null,0,12]
[11,3559,21,3572,null,null,null,null,null,null,0,12]
[11,3668,21,3680,null,null,null,null,null,null,0,12]
[22,3812,23,3852,null,null,null,null,null,null,0,22]
[11,3961,21,3973,null,null,null,null,null,null,0,12]
[11,4075,21,4088,null,null,null,null,null,null,0,12]
[11,4184,21,4194,null,null,null,null,null,null,0,12]
[11,4294,21,4309,null,null,null,null,null,null,0,12]
[22,4438,14,4516,null,null,null,null,null,null,0,21]
[11,4624,12,4643,null,null,null,null,null,null,0,11]
[11,4754,12,4808,null,null,null,null,null,null,0,11]
[11,4915,21,4926,null,null,null,null,null,null,0,12]
[11,5025,21,5038,null,null,null,null,null,null,0,12]
[11,5137,21,5150,null,null,null,null,null,null,0,12]
[11,5251,21,5261,null,null,null,null,null,null,0,12]
[22,5370,23,5405,null,null,null,null,null,null,0,22]
[11,5510,12,5536,null,null,null,null,null,null,0,11]
[11,5645,21,5657,null,null,null,null,null,null,0,12]
[11,5749,21,5761,null,null,null,null,null,null,0,12]
[22,5867,14,5890,null,null,null,null,null,null,0,21]
[11,5997,21,6010,null,null,null,null,null,null,0,12]
[22,6122,14,6169,null,null,null,null,null,null,0,21]
[11,6278,21,6296,null,null,null,null,null,null,0,12]
[22,6415,14,6430,null,null,null,null,null,null,0,21]
[11,6542,12,6571,null,null,null,null,null,null,0,11]
[11,6697,12,6725,null,null,null,null,null,null,0,11]
[11,6835,12,6862,null,null,null,null,null,null,0,11]
[11,6969,21,6986,null,null,null,null,null,null,0,12]
[11,7082,21,7099,null,null,null,null,null,null,0,12]
[22,7205,14,7218,null,null,null,null,null,null,0,21]
[22,7353,23,7396,null,null,null,null,null,null,0,22]
[11,7506,21,7518,null,null,null,null,null,null,0,12]
[11,7623,21,7634,null,null,null,null,null,null,0,12]
[11,7730,21,7743,null,null,null,null,null,null,1,12]

{"sheet":"!MC11B10.105","index":15,"n_rows":61,"n_cols":48,"rows_kept":61,"cut":false,"hidden":false,"merged":[[4,39,4,42],[5,39,5,40],[4,44,4,47],[5,44,5,45],[4,24,4,27],[5,24,5,25],[4,29,4,32],[5,29,5,30],[4,34,4,37],[5,34,5,35],[1,1,1,2],[5,13,5,14],[18,13,18,14],[19,13,19,14],[4,19,4,22],[5,19,5,20]]}
["Report for:!MC11B10.105"]
["Date:","<date>"]
["Hen:","<hen>",null,null,null,"Correct Sequence",{"$f":"Start!J2","v":12},null,null,null,null,null,null,null,null,"Total Sequences in Data",{"$f":"4994-COUNTBLANK(L7:L5000)","v":55},null,null,null,null,"Total Sequences in Block Data",{"$f":"COUNTA(L7:L15)","v":9},null,null,null,"Total Sequences in Block Data",{"$f":"COUNTA(L16:L24)","v":9},null,null,null,"Total Sequences in Block Data",{"$f":"COUNTA(L25:L34)","v":10},null,null,null,"Total Sequences in Block Data",{"$f":"COUNTA(L35:L43)","v":9},null,null,null,"Total Sequences in Block Data",{"$f":"COUNTA(L44:L52)","v":9},null,null,null,"Total Sequences in Block Data",{"$f":"COUNTA(L53:L61)","v":9}]
[null,null,null,null,null,null,null,null,null,null,null,null,null,null,null,"Total Sequences in Summary",{"$f":"SUM(O7:O14)","v":55},null,null,null,null,"Total Sequences in Block Summary",{"$f":"SUM(U7:U14)","v":9},null,null,null,"Total Sequences in Block Summary",{"$f":"SUM(Z7:Z14)","v":9},null,null,null,"Total Sequences in Block Summary",{"$f":"SUM(AE7:AE14)","v":10},null,null,null,"Total Sequences in Block Summary",{"$f":"SUM(AJ7:AJ14)","v":9},null,null,null,"Total Sequences in Block Summary",{"$f":"SUM(AO7:AO14)","v":9},null,null,null,"Total Sequences in Block Summary",{"$f":"SUM(AT7:AT14)","v":9}]
[null,null,null,null,null,null,null,null,null,null,null,null,null,null,null,null,null,null,null,"Block 1",null,null,null,null,"Block 2",null,null,null,null,"Block 3",null,null,null,null,"Block 4",null,null,null,null,"Block 5",null,null,null,null,"Block 6"]
["Sequence\nComponent\n1","Time\n1","Sequence\nComponent\n2","Time\n2","Sequence\nComponent\n3","Time\n3","Sequence\nComponent\n4","Time\n4","Sequence\nComponent\n5","Time\n5","Correct?\n0=No 1=Yes","Sequence",null,"Frequency",null,"Relative Frequency","Variability",null,null,"Frequency",null,"Relative Frequency","Variability",null,"Frequency",null,"Relative Frequency","Variability",null,"Frequency",null,"Relative Frequency","Variability",null,"Frequency",null,"Relative Frequency","Variability",null,"Frequency",null,"Relative Frequency","Variability",null,"Frequency",null,"Relative Frequency","Variability"]
[11,20,12,31,null,null,null,null,null,null,0,11,null,11,{"$f":"COUNTIF($L$7:$L$500,N7)","v":1},{"$f":"O7/$Q$4","v":1.8181818181818181E-2},{"$f":"IF(P7=0,0,(P7*((LOG(P7))/LOG(2))))","v":-0.10511563115499381},null,null,{"$f":"N7","v":11},{"$f":"COUNTIF(L7:L15,T7)","v":1},{"$f":"U7/(W4-U8)","v":0.16666666666666666},{"$f":"IF(V7=0,0,(V7*((LOG(V7))/LOG(2))))","v":-0.43082708345352599},null,{"$f":"N7","v":11},{"$f":"COUNTIF(L16:L24,Y7)","v":0},{"$f":"Z7/(AB4-Z8)","v":{"$error":"#DIV/0!"}},{"$f":"IF(AA7=0,0,(AA7*((LOG(AA7))/LOG(2))))","v":{"$error":"#DIV/0!"}},null,{"$f":"N7","v":11},{"$f":"COUNTIF(L25:L34,AD7)","v":0},{"$f":"AE7/(AG4-AE8)","v":0},{"$f":"IF(AF7=0,0,(AF7*((LOG(AF7))/LOG(2))))","v":0},null,{"$f":"N7","v":11},{"$f":"COUNTIF(L35:L43,AI7)","v":0},{"$f":"AJ7/(AL4-AJ8)","v":0},{"$f":"IF(AK7=0,0,(AK7*((LOG(AK7))/LOG(2))))","v":0},null,{"$f":"N7","v":11},{"$f":"COUNTIF(L44:L52,AN7)","v":0},{"$f":"AO7/(AQ4-AO8)","v":0},{"$f":"IF(AP7=0,0,(AP7*((LOG(AP7))/LOG(2))))","v":0},null,{"$f":"N7","v":11},{"$f":"COUNTIF(L53:L61,AS7)","v":0},{"$f":"AT7/(AV4-AT8)","v":0},{"$f":"IF(AU7=0,0,(AU7*((LOG(AU7))/LOG(2))))","v":0}]
[11,136,21,156,null,null,null,null,null,null,0,12,null,12,{"$f":"COUNTIF($L$7:$L$500,N8)","v":39},{"$f":"O8/$Q$4","v":0.70909090909090911},{"$f":"IF(P8=0,0,(P8*((LOG(P8))/LOG(2))))","v":-0.35167895076061884},null,null,{"$f":"N8","v":12},{"$f":"COUNTIF(L7:L15,T8)","v":3},null,null,null,{"$f":"N8","v":12},{"$f":"COUNTIF(L16:L24,Y8)","v":9},null,null,null,{"$f":"N8","v":12},{"$f":"COUNTIF(L25:L34,AD8)","v":6},null,null,null,{"$f":"N8","v":12},{"$f":"COUNTIF(L35:L43,AI8)","v":7},null,null,null,{"$f":"N8","v":12},{"$f":"COUNTIF(L44:L52,AN8)","v":8},null,null,null,{"$f":"N8","v":12},{"$f":"COUNTIF(L53:L61,AS8)","v":6}]
[11,251,21,286,null,null,null,null,null,null,0,12,null,21,{"$f":"COUNTIF($L$7:$L$500,N9)","v":2},{"$f":"O9/$Q$4","v":3.6363636363636362E-2},{"$f":"IF(P9=0,0,(P9*((LOG(P9))/LOG(2))))","v":-0.17386762594635127},null,null,{"$f":"N9","v":21},{"$f":"COUNTIF(L7:L15,T9)","v":0},{"$f":"U9/(W4-U8)","v":0},{"$f":"IF(V9=0,0,(V9*((LOG(V9))/LOG(2))))","v":0},null,{"$f":"N9","v":21},{"$f":"COUNTIF(L16:L24,Y9)","v":0},{"$f":"Z9/(AB4-Z8)","v":{"$error":"#DIV/0!"}},{"$f":"IF(AA9=0,0,(AA9*((LOG(AA9))/LOG(2))))","v":{"$error":"#DIV/0!"}},null,{"$f":"N9","v":21},{"$f":"COUNTIF(L25:L34,AD9)","v":0},{"$f":"AE9/(AG4-AE8)","v":0},{"$f":"IF(AF9=0,0,(AF9*((LOG(AF9))/LOG(2))))","v":0},null,{"$f":"N9","v":21},{"$f":"COUNTIF(L35:L43,AI9)","v":0},{"$f":"AJ9/(AL4-AJ8)","v":0},{"$f":"IF(AK9=0,0,(AK9*((LOG(AK9))/LOG(2))))","v":0},null,{"$f":"N9","v":21},{"$f":"COUNTIF(L44:L52,AN9)","v":1},{"$f":"AO9/(AQ4-AO8)","v":1},{"$f":"IF(AP9=0,0,(AP9*((LOG(AP9))/LOG(2))))","v":0},null,{"$f":"N9","v":21},{"$f":"COUNTIF(L53:L61,AS9)","v":1},{"$f":"AT9/(AV4-AT8)","v":0.33333333333333331},{"$f":"IF(AU9=0,0,(AU9*((LOG(AU9))/LOG(2))))","v":-0.52832083357371862}]
[22,389,23,411,null,null,null,null,null,null,0,22,null,22,{"$f":"COUNTIF($L$7:$L$500,N10)","v":13},{"$f":"O10/$Q$4","v":0.23636363636363636},{"$f":"IF(P10=0,0,(P10*((LOG(P10))/LOG(2))))","v":-0.49185381709066134},null,null,{"$f":"N10","v":22},{"$f":"COUNTIF(L7:L15,T10)","v":5},{"$f":"U10/(W4-U8)","v":0.83333333333333337},{"$f":"IF(V10=0,0,(V10*((LOG(V10))/LOG(2))))","v":-0.21919533819482812},null,{"$f":"N10","v":22},{"$f":"COUNTIF(L16:L24,Y10)","v":0},{"$f":"Z10/(AB4-Z8)","v":{"$error":"#DIV/0!"}},{"$f":"IF(AA10=0,0,(AA10*((LOG(AA10))/LOG(2))))","v":{"$error":"#DIV/0!"}},null,{"$f":"N10","v":22},{"$f":"COUNTIF(L25:L34,AD10)","v":4},{"$f":"AE10/(AG4-AE8)","v":1},{"$f":"IF(AF10=0,0,(AF10*((LOG(AF10))/LOG(2))))","v":0},null,{"$f":"N10","v":22},{"$f":"COUNTIF(L35:L43,AI10)","v":2},{"$f":"AJ10/(AL4-AJ8)","v":1},{"$f":"IF(AK10=0,0,(AK10*((LOG(AK10))/LOG(2))))","v":0},null,{"$f":"N10","v":22},{"$f":"COUNTIF(L44:L52,AN10)","v":0},{"$f":"AO10/(AQ4-AO8)","v":0},{"$f":"IF(AP10=0,0,(AP10*((LOG(AP10))/LOG(2))))","v":0},null,{"$f":"N10","v":22},{"$f":"COUNTIF(L53:L61,AS10)","v":2},{"$f":"AT10/(AV4-AT8)","v":0.66666666666666663},{"$f":"IF(AU10=0,0,(AU10*((LOG(AU10))/LOG(2))))","v":-0.38997500048077083}]
[22,526,23,552,null,null,null,null,null,null,0,22,null,null,null,null,null,null,null,{"$f":"N11","v":0},{"$f":"COUNTIF(L7:L15,T11)","v":0},{"$f":"U11/(W4-U8)","v":0},{"$f":"IF(V11=0,0,(V11*((LOG(V11))/LOG(2))))","v":0},null,{"$f":"N11","v":0},{"$f":"COUNTIF(L16:L24,Y11)","v":0},{"$f":"Z11/(AB4-Z8)","v":{"$error":"#DIV/0!"}},{"$f":"IF(AA11=0,0,(AA11*((LOG(AA11))/LOG(2))))","v":{"$error":"#DIV/0!"}},null,{"$f":"N11","v":0},{"$f":"COUNTIF(L25:L34,AD11)","v":0},{"$f":"AE11/(AG4-AE8)","v":0},{"$f":"IF(AF11=0,0,(AF11*((LOG(AF11))/LOG(2))))","v":0},null,{"$f":"N11","v":0},{"$f":"COUNTIF(L35:L43,AI11)","v":0},{"$f":"AJ11/(AL4-AJ8)","v":0},{"$f":"IF(AK11=0,0,(AK11*((LOG(AK11))/LOG(2))))","v":0},null,{"$f":"N11","v":0},{"$f":"COUNTIF(L44:L52,AN11)","v":0},{"$f":"AO11/(AQ4-AO8)","v":0},{"$f":"IF(AP11=0,0,(AP11*((LOG(AP11))/LOG(2))))","v":0},null,{"$f":"N11","v":0},{"$f":"COUNTIF(L53:L61,AS11)","v":0},{"$f":"AT11/(AV4-AT8)","v":0},{"$f":"IF(AU11=0,0,(AU11*((LOG(AU11))/LOG(2))))","v":0}]
[22,667,23,696,null,null,null,null,null,null,0,22,null,null,null,null,null,null,null,{"$f":"N12","v":0},{"$f":"COUNTIF(L7:L15,T12)","v":0},{"$f":"U12/(W4-U8)","v":0},{"$f":"IF(V12=0,0,(V12*((LOG(V12))/LOG(2))))","v":0},null,{"$f":"N12","v":0},{"$f":"COUNTIF(L16:L24,Y12)","v":0},{"$f":"Z12/(AB4-Z8)","v":{"$error":"#DIV/0!"}},{"$f":"IF(AA12=0,0,(AA12*((LOG(AA12))/LOG(2))))","v":{"$error":"#DIV/0!"}},null,{"$f":"N12","v":0},{"$f":"COUNTIF(L25:L34,AD12)","v":0},{"$f":"AE12/(AG4-AE8)","v":0},{"$f":"IF(AF12=0,0,(AF12*((LOG(AF12))/LOG(2))))","v":0},null,{"$f":"N12","v":0},{"$f":"COUNTIF(L35:L43,AI12)","v":0},{"$f":"AJ12/(AL4-AJ8)","v":0},{"$f":"IF(AK12=0,0,(AK12*((LOG(AK12))/LOG(2))))","v":0},null,{"$f":"N12","v":0},{"$f":"COUNTIF(L44:L52,AN12)","v":0},{"$f":"AO12/(AQ4-AO8)","v":0},{"$f":"IF(AP12=0,0,(AP12*((LOG(AP12))/LOG(2))))","v":0},null,{"$f":"N12","v":0},{"$f":"COUNTIF(L53:L61,AS12)","v":0},{"$f":"AT12/(AV4-AT8)","v":0},{"$f":"IF(AU12=0,0,(AU12*((LOG(AU12))/LOG(2))))","v":0}]
[11,802,21,811,null,null,null,null,null,null,0,12,null,null,null,null,null,null,null,{"$f":"N13","v":0},{"$f":"COUNTIF(L7:L15,T13)","v":0},{"$f":"U13/(W4-U8)","v":0},{"$f":"IF(V13=0,0,(V13*((LOG(V13))/LOG(2))))","v":0},null,{"$f":"N13","v":0},{"$f":"COUNTIF(L16:L24,Y13)","v":0},{"$f":"Z13/(AB4-Z8)","v":{"$error":"#DIV/0!"}},{"$f":"IF(AA13=0,0,(AA13*((LOG(AA13))/LOG(2))))","v":{"$error":"#DIV/0!"}},null,{"$f":"N13","v":0},{"$f":"COUNTIF(L25:L34,AD13)","v":0},{"$f":"AE13/(AG4-AE8)","v":0},{"$f":"IF(AF13=0,0,(AF13*((LOG(AF13))/LOG(2))))","v":0},null,{"$f":"N13","v":0},{"$f":"COUNTIF(L35:L43,AI13)","v":0},{"$f":"AJ13/(AL4-AJ8)","v":0},{"$f":"IF(AK13=0,0,(AK13*((LOG(AK13))/LOG(2))))","v":0},null,{"$f":"N13","v":0},{"$f":"COUNTIF(L44:L52,AN13)","v":0},{"$f":"AO13/(AQ4-AO8)","v":0},{"$f":"IF(AP13=0,0,(AP13*((LOG(AP13))/LOG(2))))","v":0},null,{"$f":"N13","v":0},{"$f":"COUNTIF(L53:L61,AS13)","v":0},{"$f":"AT13/(AV4-AT8)","v":0},{"$f":"IF(AU13=0,0,(AU13*((LOG(AU13))/LOG(2))))","v":0}]
[22,923,23,953,null,null,null,null,null,null,0,22,null,null,null,null,null,null,null,{"$f":"N14","v":0},{"$f":"COUNTIF(L7:L15,T14)","v":0},{"$f":"U14/(W4-U8)","v":0},{"$f":"IF(V14=0,0,(V14*((LOG(V14))/LOG(2))))","v":0},null,{"$f":"N14","v":0},{"$f":"COUNTIF(L16:L24,Y14)","v":0},{"$f":"Z14/(AB4-Z8)","v":{"$error":"#DIV/0!"}},{"$f":"IF(AA14=0,0,(AA14*((LOG(AA14))/LOG(2))))","v":{"$error":"#DIV/0!"}},null,{"$f":"N14","v":0},{"$f":"COUNTIF(L25:L34,AD14)","v":0},{"$f":"AE14/(AG4-AE8)","v":0},{"$f":"IF(AF14=0,0,(AF14*((LOG(AF14))/LOG(2))))","v":0},null,{"$f":"N14","v":0},{"$f":"COUNTIF(L35:L43,AI14)","v":0},{"$f":"AJ14/(AL4-AJ8)","v":0},{"$f":"IF(AK14=0,0,(AK14*((LOG(AK14))/LOG(2))))","v":0},null,{"$f":"N14","v":0},{"$f":"COUNTIF(L44:L52,AN14)","v":0},{"$f":"AO14/(AQ4-AO8)","v":0},{"$f":"IF(AP14=0,0,(AP14*((LOG(AP14))/LOG(2))))","v":0},null,{"$f":"N14","v":0},{"$f":"COUNTIF(L53:L61,AS14)","v":0},{"$f":"AT14/(AV4-AT8)","v":0},{"$f":"IF(AU14=0,0,(AU14*((LOG(AU14))/LOG(2))))","v":0}]
[22,1069,23,1096,null,null,null,null,null,null,0,22,null,null,null,{"$f":"SUM(P7:P14)","v":1},{"$f":"-SUM(Q7:Q14)","v":1.1225160249526254},null,null,null,null,{"$f":"SUM(V7:V14)","v":1},{"$f":"-SUM(W7:W14)","v":0.65002242164835411},null,null,null,{"$f":"SUM(AA7:AA14)","v":{"$error":"#DIV/0!"}},{"$f":"-SUM(AB7:AB14)","v":{"$error":"#DIV/0!"}},null,null,null,{"$f":"SUM(AF7:AF14)","v":1},{"$f":"-SUM(AG7:AG14)","v":0},null,null,null,{"$f":"SUM(AK7:AK14)","v":1},{"$f":"-SUM(AL7:AL14)","v":0},null,null,null,{"$f":"SUM(AP7:AP14)","v":1},{"$f":"-SUM(AQ7:AQ14)","v":0},null,null,null,{"$f":"SUM(AU7:AU14)","v":1},{"$f":"-SUM(AV7:AV14)","v":0.91829583405448945}]
[11,1209,21,1219,null,null,null,null,null,null,0,12,null,null,null,"U=",{"$f":"Q15/(LOG(Q4)/LOG(2))","v":0.19416124935569404},null,null,null,null,"U1=",{"$f":"W15/(LOG(W4)/LOG(2))","v":0.20505924315325905},null,null,null,"U2=",{"$f":"AB15/(LOG(AB4)/LOG(2))","v":{"$error":"#DIV/0!"}},null,null,null,"U3=",{"$f":"AG15/(LOG(AG4)/LOG(2))","v":0},null,null,null,"U4=",{"$f":"AL15/(LOG(AL4)/LOG(2))","v":0},null,null,null,"U5=",{"$f":"AQ15/(LOG(AQ4)/LOG(2))","v":0},null,null,null,"U6=",{"$f":"AV15/(LOG(AV4)/LOG(2))","v":0.28969008214284753}]
[11,1331,21,1346,null,null,null,null,null,null,0,12]
[11,1447,21,1460,null,null,null,null,null,null,0,12]
[11,1565,21,1581,null,null,null,null,null,null,0,12,null,"Total Target Seq"]
[11,1690,21,1701,null,null,null,null,null,null,0,12,null,{"$f":"COUNTIF(L7:L61,G3)","v":39},null,9,9,10,9,9,9]
[11,1804,21,1838,null,null,null,null,null,null,0,12,null,null,null,"% of reinforcement given in 6 equal intervals based on number of trials "]
[11,1941,21,1952,null,null,null,null,null,null,0,12,null,null,null,"%_1","%_2","%_3","%_4","%_5","%_6"]
[11,2050,21,2060,null,null,null,null,null,null,0,12,null,null,"target sequence",{"$f":"$G$3","v":12},{"$f":"$G$3","v":12},{"$f":"$G$3","v":12},{"$f":"$G$3","v":12},{"$f":"$G$3","v":12},{"$f":"$G$3","v":12}]
[11,2152,21,2164,null,null,null,null,null,null,0,12,null,null,"total reinforcement",{"$f":"U8","v":3},{"$f":"Z8","v":9},{"$f":"AE8","v":6},{"$f":"AJ8","v":7},{"$f":"AO8","v":8},{"$f":"AT8","v":6}]
[22,2272,23,2300,null,null,null,null,null,null,0,22,null,null,"% target"]
[22,2414,23,2461,null,null,null,null,null,null,0,22,null,null,"CCRF"]
[11,2566,21,2579,null,null,null,null,null,null,0,12,null,null,"% CCRf"]
[11,2680,21,2695,null,null,null,null,null,null,0,12,null,null,"average response rate",{"$f":"D15/P20","v":121.77777777777777},{"$f":"(D24-D15)/Q20","v":118.66666666666667},{"$f":"(D34-D24)/R20","v":128.80000000000001},{"$f":"(D43-D34)/S20","v":127.66666666666667},{"$f":"(D52-D43)/T20","v":121.22222222222223},{"$f":"(D61-D52)/U20","v":124.88888888888889}]
[11,2792,21,2806,null,null,null,null,null,null,0,12]
[11,2903,21,2915,null,null,null,null,null,null,0,12]
[22,3022,23,3059,null,null,null,null,null,null,0,22]
[22,3176,23,3221,null,null,null,null,null,null,0,22]
[11,3329,21,3341,null,null,null,null,null,null,0,12]
[11,3440,21,3452,null,null,null,null,null,null,0,12]
[11,3550,21,3563,null,null,null,null,null,null,0,12]
[11,3661,21,3704,null,null,null,null,null,null,0,12]
[11,3800,21,3840,null,null,null,null,null,null,0,12]
[11,3937,21,3946,null,null,null,null,null,null,0,12]
[11,4045,21,4070,null,null,null,null,null,null,0,12]
[22,4181,23,4203,null,null,null,null,null,null,0,22]
[11,4310,21,4324,null,null,null,null,null,null,0,12]
[11,4421,21,4433,null,null,null,null,null,null,0,12]
[22,4558,23,4601,null,null,null,null,null,null,0,22]
[11,4708,21,4735,null,null,null,null,null,null,0,12]
[11,4835,21,4851,null,null,null,null,null,null,0,12]
[11,4949,21,4962,null,null,null,null,null,null,0,12]
[11,5061,21,5075,null,null,null,null,null,null,0,12]
[22,5186,14,5215,null,null,null,null,null,null,0,21]
[11,5315,21,5356,null,null,null,null,null,null,0,12]
[11,5455,21,5467,null,null,null,null,null,null,0,12]
[11,5565,21,5583,null,null,null,null,null,null,0,12]
[11,5679,21,5692,null,null,null,null,null,null,0,12]
[11,5793,21,5803,null,null,null,null,null,null,0,12]
[22,5912,23,5953,null,null,null,null,null,null,0,22]
[22,6084,23,6111,null,null,null,null,null,null,0,22]
[11,6214,21,6227,null,null,null,null,null,null,0,12]
[22,6339,14,6364,null,null,null,null,null,null,0,21]
[11,6470,21,6481,null,null,null,null,null,null,0,12]
[11,6583,21,6597,null,null,null,null,null,null,0,12]
[11,6695,21,6704,null,null,null,null,null,null,0,12]
[11,6805,21,6816,null,null,null,null,null,null,1,12]

{"sheet":"!MC12A10.105","index":16,"n_rows":62,"n_cols":48,"rows_kept":62,"cut":false,"hidden":false,"merged":[[4,39,4,42],[5,39,5,40],[4,44,4,47],[5,44,5,45],[4,24,4,27],[5,24,5,25],[4,29,4,32],[5,29,5,30],[4,34,4,37],[5,34,5,35],[1,1,1,2],[5,13,5,14],[18,13,18,14],[19,13,19,14],[4,19,4,22],[5,19,5,20]]}
["Report for:!MC12A10.105"]
["Date:","<date>"]
["Hen:","<hen>",null,null,null,"Correct Sequence",{"$f":"Start!J2","v":12},null,null,null,null,null,null,null,null,"Total Sequences in Data",{"$f":"4994-COUNTBLANK(L7:L5000)","v":56},null,null,null,null,"Total Sequences in Block Data",{"$f":"COUNTA(L7:L15)","v":9},null,null,null,"Total Sequences in Block Data",{"$f":"COUNTA(L16:L25)","v":10},null,null,null,"Total Sequences in Block Data",{"$f":"COUNTA(L26:L34)","v":9},null,null,null,"Total Sequences in Block Data",{"$f":"COUNTA(L35:L43)","v":9},null,null,null,"Total Sequences in Block Data",{"$f":"COUNTA(L44:L53)","v":10},null,null,null,"Total Sequences in Block Data",{"$f":"COUNTA(L54:L62)","v":9}]
[null,null,null,null,null,null,null,null,null,null,null,null,null,null,null,"Total Sequences in Summary",{"$f":"SUM(O7:O14)","v":56},null,null,null,null,"Total Sequences in Block Summary",{"$f":"SUM(U7:U14)","v":9},null,null,null,"Total Sequences in Block Summary",{"$f":"SUM(Z7:Z14)","v":10},null,null,null,"Total Sequences in Block Summary",{"$f":"SUM(AE7:AE14)","v":9},null,null,null,"Total Sequences in Block Summary",{"$f":"SUM(AJ7:AJ14)","v":9},null,null,null,"Total Sequences in Block Summary",{"$f":"SUM(AO7:AO14)","v":10},null,null,null,"Total Sequences in Block Summary",{"$f":"SUM(AT7:AT14)","v":9}]
[null,null,null,null,null,null,null,null,null,null,null,null,null,null,null,null,null,null,null,"Block 1",null,null,null,null,"Block 2",null,null,null,null,"Block 3",null,null,null,null,"Block 4",null,null,null,null,"Block 5",null,null,null,null,"Block 6"]
["Sequence\nComponent\n1","Time\n1","Sequence\nComponent\n2","Time\n2","Sequence\nComponent\n3","Time\n3","Sequence\nComponent\n4","Time\n4","Sequence\nComponent\n5","Time\n5","Correct?\n0=No 1=Yes","Sequence",null,"Frequency",null,"Relative Frequency","Variability",null,null,"Frequency",null,"Relative Frequency","Variability",null,"Frequency",null,"Relative Frequency","Variability",null,"Frequency",null,"Relative Frequency","Variability",null,"Frequency",null,"Relative Frequency","Variability",null,"Frequency",null,"Relative Frequency","Variability",null,"Frequency",null,"Relative Frequency","Variability"]
[22,14,14,33,null,null,null,null,null,null,0,21,null,11,{"$f":"COUNTIF($L$7:$L$500,N7)","v":0},{"$f":"O7/$Q$4","v":0},{"$f":"IF(P7=0,0,(P7*((LOG(P7))/LOG(2))))","v":0},null,null,{"$f":"N7","v":11},{"$f":"COUNTIF(L7:L15,T7)","v":0},{"$f":"U7/(W4-U8)","v":0},{"$f":"IF(V7=0,0,(V7*((LOG(V7))/LOG(2))))","v":0},null,{"$f":"N7","v":11},{"$f":"COUNTIF(L16:L25,Y7)","v":0},{"$f":"Z7/(AB4-Z8)","v":0},{"$f":"IF(AA7=0,0,(AA7*((LOG(AA7))/LOG(2))))","v":0},null,{"$f":"N7","v":11},{"$f":"COUNTIF(L26:L34,AD7)","v":0},{"$f":"AE7/(AG4-AE8)","v":0},{"$f":"IF(AF7=0,0,(AF7*((LOG(AF7))/LOG(2))))","v":0},null,{"$f":"N7","v":11},{"$f":"COUNTIF(L35:L43,AI7)","v":0},{"$f":"AJ7/(AL4-AJ8)","v":0},{"$f":"IF(AK7=0,0,(AK7*((LOG(AK7))/LOG(2))))","v":0},null,{"$f":"N7","v":11},{"$f":"COUNTIF(L44:L53,AN7)","v":0},{"$f":"AO7/(AQ4-AO8)","v":0},{"$f":"IF(AP7=0,0,(AP7*((LOG(AP7))/LOG(2))))","v":0},null,{"$f":"N7","v":11},{"$f":"COUNTIF(L54:L62,AS7)","v":0},{"$f":"AT7/(AV4-AT8)","v":0},{"$f":"IF(AU7=0,0,(AU7*((LOG(AU7))/LOG(2))))","v":0}]
[11,138,21,149,null,null,null,null,null,null,0,12,null,12,{"$f":"COUNTIF($L$7:$L$500,N8)","v":39},{"$f":"O8/$Q$4","v":0.6964285714285714},{"$f":"IF(P8=0,0,(P8*((LOG(P8))/LOG(2))))","v":-0.36350277543962278},null,null,{"$f":"N8","v":12},{"$f":"COUNTIF(L7:L15,T8)","v":6},null,null,null,{"$f":"N8","v":12},{"$f":"COUNTIF(L16:L25,Y8)","v":6},null,null,null,{"$f":"N8","v":12},{"$f":"COUNTIF(L26:L34,AD8)","v":8},null,null,null,{"$f":"N8","v":12},{"$f":"COUNTIF(L35:L43,AI8)","v":6},null,null,null,{"$f":"N8","v":12},{"$f":"COUNTIF(L44:L53,AN8)","v":6},null,null,null,{"$f":"N8","v":12},{"$f":"COUNTIF(L54:L62,AS8)","v":7}]
[22,248,14,282,null,null,null,null,null,null,0,21,null,21,{"$f":"COUNTIF($L$7:$L$500,N9)","v":7},{"$f":"O9/$Q$4","v":0.125},{"$f":"IF(P9=0,0,(P9*((LOG(P9))/LOG(2))))","v":-0.375},null,null,{"$f":"N9","v":21},{"$f":"COUNTIF(L7:L15,T9)","v":2},{"$f":"U9/(W4-U8)","v":0.66666666666666663},{"$f":"IF(V9=0,0,(V9*((LOG(V9))/LOG(2))))","v":-0.38997500048077083},null,{"$f":"N9","v":21},{"$f":"COUNTIF(L16:L25,Y9)","v":2},{"$f":"Z9/(AB4-Z8)","v":0.5},{"$f":"IF(AA9=0,0,(AA9*((LOG(AA9))/LOG(2))))","v":-0.5},null,{"$f":"N9","v":21},{"$f":"COUNTIF(L26:L34,AD9)","v":0},{"$f":"AE9/(AG4-AE8)","v":0},{"$f":"IF(AF9=0,0,(AF9*((LOG(AF9))/LOG(2))))","v":0},null,{"$f":"N9","v":21},{"$f":"COUNTIF(L35:L43,AI9)","v":0},{"$f":"AJ9/(AL4-AJ8)","v":0},{"$f":"IF(AK9=0,0,(AK9*((LOG(AK9))/LOG(2))))","v":0},null,{"$f":"N9","v":21},{"$f":"COUNTIF(L44:L53,AN9)","v":2},{"$f":"AO9/(AQ4-AO8)","v":0.5},{"$f":"IF(AP9=0,0,(AP9*((LOG(AP9))/LOG(2))))","v":-0.5},null,{"$f":"N9","v":21},{"$f":"COUNTIF(L54:L62,AS9)","v":1},{"$f":"AT9/(AV4-AT8)","v":0.5},{"$f":"IF(AU9=0,0,(AU9*((LOG(AU9))/LOG(2))))","v":-0.5}]
[11,388,21,402,null,null,null,null,null,null,0,12,null,22,{"$f":"COUNTIF($L$7:$L$500,N10)","v":10},{"$f":"O10/$Q$4","v":0.17857142857142858},{"$f":"IF(P10=0,0,(P10*((LOG(P10))/LOG(2))))","v":-0.44382621913754317},null,null,{"$f":"N10","v":22},{"$f":"COUNTIF(L7:L15,T10)","v":1},{"$f":"U10/(W4-U8)","v":0.33333333333333331},{"$f":"IF(V10=0,0,(V10*((LOG(V10))/LOG(2))))","v":-0.52832083357371862},null,{"$f":"N10","v":22},{"$f":"COUNTIF(L16:L25,Y10)","v":2},{"$f":"Z10/(AB4-Z8)","v":0.5},{"$f":"IF(AA10=0,0,(AA10*((LOG(AA10))/LOG(2))))","v":-0.5},null,{"$f":"N10","v":22},{"$f":"COUNTIF(L26:L34,AD10)","v":1},{"$f":"AE10/(AG4-AE8)","v":1},{"$f":"IF(AF10=0,0,(AF10*((LOG(AF10))/LOG(2))))","v":0},null,{"$f":"N10","v":22},{"$f":"COUNTIF(L35:L43,AI10)","v":3},{"$f":"AJ10/(AL4-AJ8)","v":1},{"$f":"IF(AK10=0,0,(AK10*((LOG(AK10))/LOG(2))))","v":0},null,{"$f":"N10","v":22},{"$f":"COUNTIF(L44:L53,AN10)","v":2},{"$f":"AO10/(AQ4-AO8)","v":0.5},{"$f":"IF(AP10=0,0,(AP10*((LOG(AP10))/LOG(2))))","v":-0.5},null,{"$f":"N10","v":22},{"$f":"COUNTIF(L54:L62,AS10)","v":1},{"$f":"AT10/(AV4-AT8)","v":0.5},{"$f":"IF(AU10=0,0,(AU10*((LOG(AU10))/LOG(2))))","v":-0.5}]
[11,494,21,508,null,null,null,null,null,null,0,12,null,null,null,null,null,null,null,{"$f":"N11","v":0},{"$f":"COUNTIF(L7:L15,T11)","v":0},{"$f":"U11/(W4-U8)","v":0},{"$f":"IF(V11=0,0,(V11*((LOG(V11))/LOG(2))))","v":0},null,{"$f":"N11","v":0},{"$f":"COUNTIF(L16:L25,Y11)","v":0},{"$f":"Z11/(AB4-Z8)","v":0},{"$f":"IF(AA11=0,0,(AA11*((LOG(AA11))/LOG(2))))","v":0},null,{"$f":"N11","v":0},{"$f":"COUNTIF(L26:L34,AD11)","v":0},{"$f":"AE11/(AG4-AE8)","v":0},{"$f":"IF(AF11=0,0,(AF11*((LOG(AF11))/LOG(2))))","v":0},null,{"$f":"N11","v":0},{"$f":"COUNTIF(L35:L43,AI11)","v":0},{"$f":"AJ11/(AL4-AJ8)","v":0},{"$f":"IF(AK11=0,0,(AK11*((LOG(AK11))/LOG(2))))","v":0},null,{"$f":"N11","v":0},{"$f":"COUNTIF(L44:L53,AN11)","v":0},{"$f":"AO11/(AQ4-AO8)","v":0},{"$f":"IF(AP11=0,0,(AP11*((LOG(AP11))/LOG(2))))","v":0},null,{"$f":"N11","v":0},{"$f":"COUNTIF(L54:L62,AS11)","v":0},{"$f":"AT11/(AV4-AT8)","v":0},{"$f":"IF(AU11=0,0,(AU11*((LOG(AU11))/LOG(2))))","v":0}]
[22,613,23,639,null,null,null,null,null,null,0,22,null,null,null,null,null,null,null,{"$f":"N12","v":0},{"$f":"COUNTIF(L7:L15,T12)","v":0},{"$f":"U12/(W4-U8)","v":0},{"$f":"IF(V12=0,0,(V12*((LOG(V12))/LOG(2))))","v":0},null,{"$f":"N12","v":0},{"$f":"COUNTIF(L16:L25,Y12)","v":0},{"$f":"Z12/(AB4-Z8)","v":0},{"$f":"IF(AA12=0,0,(AA12*((LOG(AA12))/LOG(2))))","v":0},null,{"$f":"N12","v":0},{"$f":"COUNTIF(L26:L34,AD12)","v":0},{"$f":"AE12/(AG4-AE8)","v":0},{"$f":"IF(AF12=0,0,(AF12*((LOG(AF12))/LOG(2))))","v":0},null,{"$f":"N12","v":0},{"$f":"COUNTIF(L35:L43,AI12)","v":0},{"$f":"AJ12/(AL4-AJ8)","v":0},{"$f":"IF(AK12=0,0,(AK12*((LOG(AK12))/LOG(2))))","v":0},null,{"$f":"N12","v":0},{"$f":"COUNTIF(L44:L53,AN12)","v":0},{"$f":"AO12/(AQ4-AO8)","v":0},{"$f":"IF(AP12=0,0,(AP12*((LOG(AP12))/LOG(2))))","v":0},null,{"$f":"N12","v":0},{"$f":"COUNTIF(L54:L62,AS12)","v":0},{"$f":"AT12/(AV4-AT8)","v":0},{"$f":"IF(AU12=0,0,(AU12*((LOG(AU12))/LOG(2))))","v":0}]
[11,743,21,753,null,null,null,null,null,null,0,12,null,null,null,null,null,null,null,{"$f":"N13","v":0},{"$f":"COUNTIF(L7:L15,T13)","v":0},{"$f":"U13/(W4-U8)","v":0},{"$f":"IF(V13=0,0,(V13*((LOG(V13))/LOG(2))))","v":0},null,{"$f":"N13","v":0},{"$f":"COUNTIF(L16:L25,Y13)","v":0},{"$f":"Z13/(AB4-Z8)","v":0},{"$f":"IF(AA13=0,0,(AA13*((LOG(AA13))/LOG(2))))","v":0},null,{"$f":"N13","v":0},{"$f":"COUNTIF(L26:L34,AD13)","v":0},{"$f":"AE13/(AG4-AE8)","v":0},{"$f":"IF(AF13=0,0,(AF13*((LOG(AF13))/LOG(2))))","v":0},null,{"$f":"N13","v":0},{"$f":"COUNTIF(L35:L43,AI13)","v":0},{"$f":"AJ13/(AL4-AJ8)","v":0},{"$f":"IF(AK13=0,0,(AK13*((LOG(AK13))/LOG(2))))","v":0},null,{"$f":"N13","v":0},{"$f":"COUNTIF(L44:L53,AN13)","v":0},{"$f":"AO13/(AQ4-AO8)","v":0},{"$f":"IF(AP13=0,0,(AP13*((LOG(AP13))/LOG(2))))","v":0},null,{"$f":"N13","v":0},{"$f":"COUNTIF(L54:L62,AS13)","v":0},{"$f":"AT13/(AV4-AT8)","v":0},{"$f":"IF(AU13=0,0,(AU13*((LOG(AU13))/LOG(2))))","v":0}]
[11,853,21,866,null,null,null,null,null,null,0,12,null,null,null,null,null,null,null,{"$f":"N14","v":0},{"$f":"COUNTIF(L7:L15,T14)","v":0},{"$f":"U14/(W4-U8)","v":0},{"$f":"IF(V14=0,0,(V14*((LOG(V14))/LOG(2))))","v":0},null,{"$f":"N14","v":0},{"$f":"COUNTIF(L16:L25,Y14)","v":0},{"$f":"Z14/(AB4-Z8)","v":0},{"$f":"IF(AA14=0,0,(AA14*((LOG(AA14))/LOG(2))))","v":0},null,{"$f":"N14","v":0},{"$f":"COUNTIF(L26:L34,AD14)","v":0},{"$f":"AE14/(AG4-AE8)","v":0},{"$f":"IF(AF14=0,0,(AF14*((LOG(AF14))/LOG(2))))","v":0},null,{"$f":"N14","v":0},{"$f":"COUNTIF(L35:L43,AI14)","v":0},{"$f":"AJ14/(AL4-AJ8)","v":0},{"$f":"IF(AK14=0,0,(AK14*((LOG(AK14))/LOG(2))))","v":0},null,{"$f":"N14","v":0},{"$f":"COUNTIF(L44:L53,AN14)","v":0},{"$f":"AO14/(AQ4-AO8)","v":0},{"$f":"IF(AP14=0,0,(AP14*((LOG(AP14))/LOG(2))))","v":0},null,{"$f":"N14","v":0},{"$f":"COUNTIF(L54:L62,AS14)","v":0},{"$f":"AT14/(AV4-AT8)","v":0},{"$f":"IF(AU14=0,0,(AU14*((LOG(AU14))/LOG(2))))","v":0}]
[11,963,21,975,null,null,null,null,null,null,0,12,null,null,null,{"$f":"SUM(P7:P14)","v":1},{"$f":"-SUM(Q7:Q14)","v":1.182328994577166},null,null,null,null,{"$f":"SUM(V7:V14)","v":1},{"$f":"-SUM(W7:W14)","v":0.91829583405448945},null,null,null,{"$f":"SUM(AA7:AA14)","v":1},{"$f":"-SUM(AB7:AB14)","v":1},null,null,null,{"$f":"SUM(AF7:AF14)","v":1},{"$f":"-SUM(AG7:AG14)","v":0},null,null,null,{"$f":"SUM(AK7:AK14)","v":1},{"$f":"-SUM(AL7:AL14)","v":0},null,null,null,{"$f":"SUM(AP7:AP14)","v":1},{"$f":"-SUM(AQ7:AQ14)","v":1},null,null,null,{"$f":"SUM(AU7:AU14)","v":1},{"$f":"-SUM(AV7:AV14)","v":1}]
[22,1085,23,1110,null,null,null,null,null,null,0,22,null,null,null,"U=",{"$f":"Q15/(LOG(Q4)/LOG(2))","v":0.20359165410855495},null,null,null,null,"U1=",{"$f":"W15/(LOG(W4)/LOG(2))","v":0.28969008214284753},null,null,null,"U2=",{"$f":"AB15/(LOG(AB4)/LOG(2))","v":0.3010299956639812},null,null,null,"U3=",{"$f":"AG15/(LOG(AG4)/LOG(2))","v":0},null,null,null,"U4=",{"$f":"AL15/(LOG(AL4)/LOG(2))","v":0},null,null,null,"U5=",{"$f":"AQ15/(LOG(AQ4)/LOG(2))","v":0.3010299956639812},null,null,null,"U6=",{"$f":"AV15/(LOG(AV4)/LOG(2))","v":0.31546487678572877}]
[22,1228,14,1249,null,null,null,null,null,null,0,21]
[11,1355,21,1376,null,null,null,null,null,null,0,12]
[11,1475,21,1486,null,null,null,null,null,null,0,12,null,"Total Target Seq"]
[11,1579,21,1593,null,null,null,null,null,null,0,12,null,{"$f":"COUNTIF(L7:L62,G3)","v":39},null,9,10,9,9,10,9]
[11,1690,21,1703,null,null,null,null,null,null,0,12,null,null,null,"% of reinforcement given in 6 equal intervals based on number of trials "]
[22,1812,23,1840,null,null,null,null,null,null,0,22,null,null,null,"%_1","%_2","%_3","%_4","%_5","%_6"]
[11,1949,21,1962,null,null,null,null,null,null,0,12,null,null,"target sequence",{"$f":"$G$3","v":12},{"$f":"$G$3","v":12},{"$f":"$G$3","v":12},{"$f":"$G$3","v":12},{"$f":"$G$3","v":12},{"$f":"$G$3","v":12}]
[11,2062,21,2075,null,null,null,null,null,null,0,12,null,null,"total reinforcement",{"$f":"U8","v":6},{"$f":"Z8","v":6},{"$f":"AE8","v":8},{"$f":"AJ8","v":6},{"$f":"AO8","v":6},{"$f":"AT8","v":7}]
[22,2185,14,2206,null,null,null,null,null,null,0,21,null,null,"% target"]
[11,2310,21,2325,null,null,null,null,null,null,0,12,null,null,"CCRF"]
[11,2421,21,2434,null,null,null,null,null,null,0,12,null,null,"% CCRf"]
[11,2530,21,2540,null,null,null,null,null,null,0,12,null,null,"average response rate",{"$f":"D15/P20","v":108.33333333333333},{"$f":"(D25-D15)/Q20","v":123.1},{"$f":"(D34-D25)/R20","v":112.88888888888889},{"$f":"(D43-D34)/S20","v":119.11111111111111},{"$f":"(D53-D43)/T20","v":120.6},{"$f":"(D62-D53)/U20","v":119.33333333333333}]
[11,2639,21,2653,null,null,null,null,null,null,0,12]
[11,2749,21,2759,null,null,null,null,null,null,0,12]
[11,2850,21,2862,null,null,null,null,null,null,0,12]
[11,2961,21,2970,null,null,null,null,null,null,0,12]
[22,3078,23,3106,null,null,null,null,null,null,0,22]
[11,3210,21,3222,null,null,null,null,null,null,0,12]
[11,3318,21,3327,null,null,null,null,null,null,0,12]
[11,3422,21,3434,null,null,null,null,null,null,0,12]
[22,3544,23,3579,null,null,null,null,null,null,0,22]
[11,3685,21,3697,null,null,null,null,null,null,0,12]
[11,3791,21,3801,null,null,null,null,null,null,0,12]
[22,3907,23,3942,null,null,null,null,null,null,0,22]
[11,4047,21,4056,null,null,null,null,null,null,0,12]
[11,4151,21,4161,null,null,null,null,null,null,0,12]
[22,4270,23,4294,null,null,null,null,null,null,0,22]
[11,4401,21,4410,null,null,null,null,null,null,0,12]
[22,4514,23,4541,null,null,null,null,null,null,0,22]
[22,4656,23,4686,null,null,null,null,null,null,0,22]
[11,4792,21,4805,null,null,null,null,null,null,0,12]
[22,4915,14,4932,null,null,null,null,null,null,0,21]
[22,5045,14,5060,null,null,null,null,null,null,0,21]
[11,5165,21,5179,null,null,null,null,null,null,0,12]
[11,5271,21,5285,null,null,null,null,null,null,0,12]
[11,5384,21,5394,null,null,null,null,null,null,0,12]
[11,5490,21,5500,null,null,null,null,null,null,0,12]
[11,5592,21,5605,null,null,null,null,null,null,0,12]
[22,5717,23,5745,null,null,null,null,null,null,0,22]
[11,5853,21,5864,null,null,null,null,null,null,0,12]
[22,5970,14,5990,null,null,null,null,null,null,0,21]
[11,6097,21,6111,null,null,null,null,null,null,0,12]
[11,6216,21,6226,null,null,null,null,null,null,0,12]
[11,6319,21,6332,null,null,null,null,null,null,0,12]
[11,6431,21,6441,null,null,null,null,null,null,0,12]
[11,6541,21,6574,null,null,null,null,null,null,1,12]

{"sheet":"!MC13B30.105","index":17,"n_rows":64,"n_cols":48,"rows_kept":64,"cut":false,"hidden":false,"merged":[[4,39,4,42],[5,39,5,40],[4,44,4,47],[5,44,5,45],[4,24,4,27],[5,24,5,25],[4,29,4,32],[5,29,5,30],[4,34,4,37],[5,34,5,35],[1,1,1,2],[5,13,5,14],[18,13,18,14],[19,13,19,14],[4,19,4,22],[5,19,5,20]]}
["Report for:!MC13B30.105"]
["Date:","<date>"]
["Hen:","<hen>",null,null,null,"Correct Sequence",{"$f":"Start!J2","v":12},null,null,null,null,null,null,null,null,"Total Sequences in Data",{"$f":"4994-COUNTBLANK(L7:L5000)","v":58},null,null,null,null,"Total Sequences in Block Data",{"$f":"COUNTA(L7:L16)","v":10},null,null,null,"Total Sequences in Block Data",{"$f":"COUNTA(L17:L25)","v":9},null,null,null,"Total Sequences in Block Data",{"$f":"COUNTA(L26:L35)","v":10},null,null,null,"Total Sequences in Block Data",{"$f":"COUNTA(L36:L45)","v":10},null,null,null,"Total Sequences in Block Data",{"$f":"COUNTA(L46:L54)","v":9},null,null,null,"Total Sequences in Block Data",{"$f":"COUNTA(L55:L64)","v":10}]
[null,null,null,null,null,null,null,null,null,null,null,null,null,null,null,"Total Sequences in Summary",{"$f":"SUM(O7:O14)","v":58},null,null,null,null,"Total Sequences in Block Summary",{"$f":"SUM(U7:U14)","v":10},null,null,null,"Total Sequences in Block Summary",{"$f":"SUM(Z7:Z14)","v":9},null,null,null,"Total Sequences in Block Summary",{"$f":"SUM(AE7:AE14)","v":10},null,null,null,"Total Sequences in Block Summary",{"$f":"SUM(AJ7:AJ14)","v":10},null,null,null,"Total Sequences in Block Summary",{"$f":"SUM(AO7:AO14)","v":9},null,null,null,"Total Sequences in Block Summary",{"$f":"SUM(AT7:AT14)","v":10}]
[null,null,null,null,null,null,null,null,null,null,null,null,null,null,null,null,null,null,null,"Block 1",null,null,null,null,"Block 2",null,null,null,null,"Block 3",null,null,null,null,"Block 4",null,null,null,null,"Block 5",null,null,null,null,"Block 6"]
["Sequence\nComponent\n1","Time\n1","Sequence\nComponent\n2","Time\n2","Sequence\nComponent\n3","Time\n3","Sequence\nComponent\n4","Time\n4","Sequence\nComponent\n5","Time\n5","Correct?\n0=No 1=Yes","Sequence",null,"Frequency",null,"Relative Frequency","Variability",null,null,"Frequency",null,"Relative Frequency","Variability",null,"Frequency",null,"Relative Frequency","Variability",null,"Frequency",null,"Relative Frequency","Variability",null,"Frequency",null,"Relative Frequency","Variability",null,"Frequency",null,"Relative Frequency","Variability",null,"Frequency",null,"Relative Frequency","Variability"]
[22,31,23,59,null,null,null,null,null,null,0,22,null,11,{"$f":"COUNTIF($L$7:$L$500,N7)","v":0},{"$f":"O7/$Q$4","v":0},{"$f":"IF(P7=0,0,(P7*((LOG(P7))/LOG(2))))","v":0},null,null,{"$f":"N7","v":11},{"$f":"COUNTIF(L7:L16,T7)","v":0},{"$f":"U7/(W4-U8)","v":0},{"$f":"IF(V7=0,0,(V7*((LOG(V7))/LOG(2))))","v":0},null,{"$f":"N7","v":11},{"$f":"COUNTIF(L17:L25,Y7)","v":0},{"$f":"Z7/(AB4-Z8)","v":0},{"$f":"IF(AA7=0,0,(AA7*((LOG(AA7))/LOG(2))))","v":0},null,{"$f":"N7","v":11},{"$f":"COUNTIF(L26:L35,AD7)","v":0},{"$f":"AE7/(AG4-AE8)","v":0},{"$f":"IF(AF7=0,0,(AF7*((LOG(AF7))/LOG(2))))","v":0},null,{"$f":"N7","v":11},{"$f":"COUNTIF(L36:L45,AI7)","v":0},{"$f":"AJ7/(AL4-AJ8)","v":0},{"$f":"IF(AK7=0,0,(AK7*((LOG(AK7))/LOG(2))))","v":0},null,{"$f":"N7","v":11},{"$f":"COUNTIF(L46:L54,AN7)","v":0},{"$f":"AO7/(AQ4-AO8)","v":0},{"$f":"IF(AP7=0,0,(AP7*((LOG(AP7))/LOG(2))))","v":0},null,{"$f":"N7","v":11},{"$f":"COUNTIF(L55:L64,AS7)","v":0},{"$f":"AT7/(AV4-AT8)","v":0},{"$f":"IF(AU7=0,0,(AU7*((LOG(AU7))/LOG(2))))","v":0}]
[11,168,21,178,null,null,null,null,null,null,0,12,null,12,{"$f":"COUNTIF($L$7:$L$500,N8)","v":39},{"$f":"O8/$Q$4","v":0.67241379310344829},{"$f":"IF(P8=0,0,(P8*((LOG(P8))/LOG(2))))","v":-0.38500986679909699},null,null,{"$f":"N8","v":12},{"$f":"COUNTIF(L7:L16,T8)","v":4},null,null,null,{"$f":"N8","v":12},{"$f":"COUNTIF(L17:L25,Y8)","v":6},null,null,null,{"$f":"N8","v":12},{"$f":"COUNTIF(L26:L35,AD8)","v":8},null,null,null,{"$f":"N8","v":12},{"$f":"COUNTIF(L36:L45,AI8)","v":6},null,null,null,{"$f":"N8","v":12},{"$f":"COUNTIF(L46:L54,AN8)","v":7},null,null,null,{"$f":"N8","v":12},{"$f":"COUNTIF(L55:L64,AS8)","v":8}]
[11,276,21,289,null,null,null,null,null,null,0,12,null,21,{"$f":"COUNTIF($L$7:$L$500,N9)","v":7},{"$f":"O9/$Q$4","v":0.1206896551724138},{"$f":"IF(P9=0,0,(P9*((LOG(P9))/LOG(2))))","v":-0.36817900881878923},null,null,{"$f":"N9","v":21},{"$f":"COUNTIF(L7:L16,T9)","v":0},{"$f":"U9/(W4-U8)","v":0},{"$f":"IF(V9=0,0,(V9*((LOG(V9))/LOG(2))))","v":0},null,{"$f":"N9","v":21},{"$f":"COUNTIF(L17:L25,Y9)","v":1},{"$f":"Z9/(AB4-Z8)","v":0.33333333333333331},{"$f":"IF(AA9=0,0,(AA9*((LOG(AA9))/LOG(2))))","v":-0.52832083357371862},null,{"$f":"N9","v":21},{"$f":"COUNTIF(L26:L35,AD9)","v":0},{"$f":"AE9/(AG4-AE8)","v":0},{"$f":"IF(AF9=0,0,(AF9*((LOG(AF9))/LOG(2))))","v":0},null,{"$f":"N9","v":21},{"$f":"COUNTIF(L36:L45,AI9)","v":3},{"$f":"AJ9/(AL4-AJ8)","v":0.75},{"$f":"IF(AK9=0,0,(AK9*((LOG(AK9))/LOG(2))))","v":-0.31127812445913283},null,{"$f":"N9","v":21},{"$f":"COUNTIF(L46:L54,AN9)","v":2},{"$f":"AO9/(AQ4-AO8)","v":1},{"$f":"IF(AP9=0,0,(AP9*((LOG(AP9))/LOG(2))))","v":0},null,{"$f":"N9","v":21},{"$f":"COUNTIF(L55:L64,AS9)","v":1},{"$f":"AT9/(AV4-AT8)","v":0.5},{"$f":"IF(AU9=0,0,(AU9*((LOG(AU9))/LOG(2))))","v":-0.5}]
[11,382,21,397,null,null,null,null,null,null,0,12,null,22,{"$f":"COUNTIF($L$7:$L$500,N10)","v":12},{"$f":"O10/$Q$4","v":0.20689655172413793},{"$f":"IF(P10=0,0,(P10*((LOG(P10))/LOG(2))))","v":-0.4702796884978791},null,null,{"$f":"N10","v":22},{"$f":"COUNTIF(L7:L16,T10)","v":6},{"$f":"U10/(W4-U8)","v":1},{"$f":"IF(V10=0,0,(V10*((LOG(V10))/LOG(2))))","v":0},null,{"$f":"N10","v":22},{"$f":"COUNTIF(L17:L25,Y10)","v":2},{"$f":"Z10/(AB4-Z8)","v":0.66666666666666663},{"$f":"IF(AA10=0,0,(AA10*((LOG(AA10))/LOG(2))))","v":-0.38997500048077083},null,{"$f":"N10","v":22},{"$f":"COUNTIF(L26:L35,AD10)","v":2},{"$f":"AE10/(AG4-AE8)","v":1},{"$f":"IF(AF10=0,0,(AF10*((LOG(AF10))/LOG(2))))","v":0},null,{"$f":"N10","v":22},{"$f":"COUNTIF(L36:L45,AI10)","v":1},{"$f":"AJ10/(AL4-AJ8)","v":0.25},{"$f":"IF(AK10=0,0,(AK10*((LOG(AK10))/LOG(2))))","v":-0.5},null,{"$f":"N10","v":22},{"$f":"COUNTIF(L46:L54,AN10)","v":0},{"$f":"AO10/(AQ4-AO8)","v":0},{"$f":"IF(AP10=0,0,(AP10*((LOG(AP10))/LOG(2))))","v":0},null,{"$f":"N10","v":22},{"$f":"COUNTIF(L55:L64,AS10)","v":1},{"$f":"AT10/(AV4-AT8)","v":0.5},{"$f":"IF(AU10=0,0,(AU10*((LOG(AU10))/LOG(2))))","v":-0.5}]
[22,507,23,537,null,null,null,null,null,null,0,22,null,null,null,null,null,null,null,{"$f":"N11","v":0},{"$f":"COUNTIF(L7:L16,T11)","v":0},{"$f":"U11/(W4-U8)","v":0},{"$f":"IF(V11=0,0,(V11*((LOG(V11))/LOG(2))))","v":0},null,{"$f":"N11","v":0},{"$f":"COUNTIF(L17:L25,Y11)","v":0},{"$f":"Z11/(AB4-Z8)","v":0},{"$f":"IF(AA11=0,0,(AA11*((LOG(AA11))/LOG(2))))","v":0},null,{"$f":"N11","v":0},{"$f":"COUNTIF(L26:L35,AD11)","v":0},{"$f":"AE11/(AG4-AE8)","v":0},{"$f":"IF(AF11=0,0,(AF11*((LOG(AF11))/LOG(2))))","v":0},null,{"$f":"N11","v":0},{"$f":"COUNTIF(L36:L45,AI11)","v":0},{"$f":"AJ11/(AL4-AJ8)","v":0},{"$f":"IF(AK11=0,0,(AK11*((LOG(AK11))/LOG(2))))","v":0},null,{"$f":"N11","v":0},{"$f":"COUNTIF(L46:L54,AN11)","v":0},{"$f":"AO11/(AQ4-AO8)","v":0},{"$f":"IF(AP11=0,0,(AP11*((LOG(AP11))/LOG(2))))","v":0},null,{"$f":"N11","v":0},{"$f":"COUNTIF(L55:L64,AS11)","v":0},{"$f":"AT11/(AV4-AT8)","v":0},{"$f":"IF(AU11=0,0,(AU11*((LOG(AU11))/LOG(2))))","v":0}]
[22,645,23,671,null,null,null,null,null,null,0,22,null,null,null,null,null,null,null,{"$f":"N12","v":0},{"$f":"COUNTIF(L7:L16,T12)","v":0},{"$f":"U12/(W4-U8)","v":0},{"$f":"IF(V12=0,0,(V12*((LOG(V12))/LOG(2))))","v":0},null,{"$f":"N12","v":0},{"$f":"COUNTIF(L17:L25,Y12)","v":0},{"$f":"Z12/(AB4-Z8)","v":0},{"$f":"IF(AA12=0,0,(AA12*((LOG(AA12))/LOG(2))))","v":0},null,{"$f":"N12","v":0},{"$f":"COUNTIF(L26:L35,AD12)","v":0},{"$f":"AE12/(AG4-AE8)","v":0},{"$f":"IF(AF12=0,0,(AF12*((LOG(AF12))/LOG(2))))","v":0},null,{"$f":"N12","v":0},{"$f":"COUNTIF(L36:L45,AI12)","v":0},{"$f":"AJ12/(AL4-AJ8)","v":0},{"$f":"IF(AK12=0,0,(AK12*((LOG(AK12))/LOG(2))))","v":0},null,{"$f":"N12","v":0},{"$f":"COUNTIF(L46:L54,AN12)","v":0},{"$f":"AO12/(AQ4-AO8)","v":0},{"$f":"IF(AP12=0,0,(AP12*((LOG(AP12))/LOG(2))))","v":0},null,{"$f":"N12","v":0},{"$f":"COUNTIF(L55:L64,AS12)","v":0},{"$f":"AT12/(AV4-AT8)","v":0},{"$f":"IF(AU12=0,0,(AU12*((LOG(AU12))/LOG(2))))","v":0}]
[11,781,21,794,null,null,null,null,null,null,0,12,null,null,null,null,null,null,null,{"$f":"N13","v":0},{"$f":"COUNTIF(L7:L16,T13)","v":0},{"$f":"U13/(W4-U8)","v":0},{"$f":"IF(V13=0,0,(V13*((LOG(V13))/LOG(2))))","v":0},null,{"$f":"N13","v":0},{"$f":"COUNTIF(L17:L25,Y13)","v":0},{"$f":"Z13/(AB4-Z8)","v":0},{"$f":"IF(AA13=0,0,(AA13*((LOG(AA13))/LOG(2))))","v":0},null,{"$f":"N13","v":0},{"$f":"COUNTIF(L26:L35,AD13)","v":0},{"$f":"AE13/(AG4-AE8)","v":0},{"$f":"IF(AF13=0,0,(AF13*((LOG(AF13))/LOG(2))))","v":0},null,{"$f":"N13","v":0},{"$f":"COUNTIF(L36:L45,AI13)","v":0},{"$f":"AJ13/(AL4-AJ8)","v":0},{"$f":"IF(AK13=0,0,(AK13*((LOG(AK13))/LOG(2))))","v":0},null,{"$f":"N13","v":0},{"$f":"COUNTIF(L46:L54,AN13)","v":0},{"$f":"AO13/(AQ4-AO8)","v":0},{"$f":"IF(AP13=0,0,(AP13*((LOG(AP13))/LOG(2))))","v":0},null,{"$f":"N13","v":0},{"$f":"COUNTIF(L55:L64,AS13)","v":0},{"$f":"AT13/(AV4-AT8)","v":0},{"$f":"IF(AU13=0,0,(AU13*((LOG(AU13))/LOG(2))))","v":0}]
[22,916,23,938,null,null,null,null,null,null,0,22,null,null,null,null,null,null,null,{"$f":"N14","v":0},{"$f":"COUNTIF(L7:L16,T14)","v":0},{"$f":"U14/(W4-U8)","v":0},{"$f":"IF(V14=0,0,(V14*((LOG(V14))/LOG(2))))","v":0},null,{"$f":"N14","v":0},{"$f":"COUNTIF(L17:L25,Y14)","v":0},{"$f":"Z14/(AB4-Z8)","v":0},{"$f":"IF(AA14=0,0,(AA14*((LOG(AA14))/LOG(2))))","v":0},null,{"$f":"N14","v":0},{"$f":"COUNTIF(L26:L35,AD14)","v":0},{"$f":"AE14/(AG4-AE8)","v":0},{"$f":"IF(AF14=0,0,(AF14*((LOG(AF14))/LOG(2))))","v":0},null,{"$f":"N14","v":0},{"$f":"COUNTIF(L36:L45,AI14)","v":0},{"$f":"AJ14/(AL4-AJ8)","v":0},{"$f":"IF(AK14=0,0,(AK14*((LOG(AK14))/LOG(2))))","v":0},null,{"$f":"N14","v":0},{"$f":"COUNTIF(L46:L54,AN14)","v":0},{"$f":"AO14/(AQ4-AO8)","v":0},{"$f":"IF(AP14=0,0,(AP14*((LOG(AP14))/LOG(2))))","v":0},null,{"$f":"N14","v":0},{"$f":"COUNTIF(L55:L64,AS14)","v":0},{"$f":"AT14/(AV4-AT8)","v":0},{"$f":"IF(AU14=0,0,(AU14*((LOG(AU14))/LOG(2))))","v":0}]
[22,1051,23,1085,null,null,null,null,null,null,0,22,null,null,null,{"$f":"SUM(P7:P14)","v":1},{"$f":"-SUM(Q7:Q14)","v":1.2234685641157652},null,null,null,null,{"$f":"SUM(V7:V14)","v":1},{"$f":"-SUM(W7:W14)","v":0},null,null,null,{"$f":"SUM(AA7:AA14)","v":1},{"$f":"-SUM(AB7:AB14)","v":0.91829583405448945},null,null,null,{"$f":"SUM(AF7:AF14)","v":1},{"$f":"-SUM(AG7:AG14)","v":0},null,null,null,{"$f":"SUM(AK7:AK14)","v":1},{"$f":"-SUM(AL7:AL14)","v":0.81127812445913283},null,null,null,{"$f":"SUM(AP7:AP14)","v":1},{"$f":"-SUM(AQ7:AQ14)","v":0},null,null,null,{"$f":"SUM(AU7:AU14)","v":1},{"$f":"-SUM(AV7:AV14)","v":1}]
[22,1188,23,1215,null,null,null,null,null,null,0,22,null,null,null,"U=",{"$f":"Q15/(LOG(Q4)/LOG(2))","v":0.20885499033428004},null,null,null,null,"U1=",{"$f":"W15/(LOG(W4)/LOG(2))","v":0},null,null,null,"U2=",{"$f":"AB15/(LOG(AB4)/LOG(2))","v":0.28969008214284753},null,null,null,"U3=",{"$f":"AG15/(LOG(AG4)/LOG(2))","v":0},null,null,null,"U4=",{"$f":"AL15/(LOG(AL4)/LOG(2))","v":0.24421905028821556},null,null,null,"U5=",{"$f":"AQ15/(LOG(AQ4)/LOG(2))","v":0},null,null,null,"U6=",{"$f":"AV15/(LOG(AV4)/LOG(2))","v":0.3010299956639812}]
[11,1320,21,1333,null,null,null,null,null,null,0,12]
[11,1434,21,1443,null,null,null,null,null,null,0,12]
[22,1552,23,1586,null,null,null,null,null,null,0,22,null,"Total Target Seq"]
[11,1691,21,1703,null,null,null,null,null,null,0,12,null,{"$f":"COUNTIF(L7:L64,G3)","v":39},null,10,9,10,10,9,10]
[22,1810,14,1839,null,null,null,null,null,null,0,21,null,null,null,"% of reinforcement given in 6 equal intervals based on number of trials "]
[22,1949,23,1990,null,null,null,null,null,null,0,22,null,null,null,"%_1","%_2","%_3","%_4","%_5","%_6"]
[11,2097,21,2106,null,null,null,null,null,null,0,12,null,null,"target sequence",{"$f":"$G$3","v":12},{"$f":"$G$3","v":12},{"$f":"$G$3","v":12},{"$f":"$G$3","v":12},{"$f":"$G$3","v":12},{"$f":"$G$3","v":12}]
[11,2204,21,2218,null,null,null,null,null,null,0,12,null,null,"total reinforcement",{"$f":"U8","v":4},{"$f":"Z8","v":6},{"$f":"AE8","v":8},{"$f":"AJ8","v":6},{"$f":"AO8","v":7},{"$f":"AT8","v":8}]
[11,2315,21,2329,null,null,null,null,null,null,0,12,null,null,"% target"]
[22,2443,23,2474,null,null,null,null,null,null,0,22,null,null,"CCRF"]
[11,2579,21,2588,null,null,null,null,null,null,0,12,null,null,"% CCRf"]
[11,2686,21,2704,null,null,null,null,null,null,0,12,null,null,"average response rate",{"$f":"D16/P20","v":121.5},{"$f":"(D25-D16)/Q20","v":123.77777777777777},{"$f":"(D35-D25)/R20","v":119.6},{"$f":"(D45-D35)/S20","v":118.4},{"$f":"(D54-D45)/T20","v":119.11111111111111},{"$f":"(D64-D54)/U20","v":117.2}]
[11,2800,21,2813,null,null,null,null,null,null,0,12]
[22,2946,23,2974,null,null,null,null,null,null,0,22]
[11,3084,21,3094,null,null,null,null,null,null,0,12]
[11,3193,21,3206,null,null,null,null,null,null,0,12]
[11,3301,21,3312,null,null,null,null,null,null,0,12]
[11,3407,21,3421,null,null,null,null,null,null,0,12]
[11,3519,21,3525,null,null,null,null,null,null,0,12]
[11,3622,21,3634,null,null,null,null,null,null,0,12]
[11,3727,21,3736,null,null,null,null,null,null,0,12]
[22,3837,14,3853,null,null,null,null,null,null,0,21]
[11,3959,21,3981,null,null,null,null,null,null,0,12]
[11,4079,21,4090,null,null,null,null,null,null,0,12]
[11,4182,21,4195,null,null,null,null,null,null,0,12]
[11,4289,21,4302,null,null,null,null,null,null,0,12]
[22,4405,14,4427,null,null,null,null,null,null,0,21]
[22,4550,23,4574,null,null,null,null,null,null,0,22]
[22,4689,14,4709,null,null,null,null,null,null,0,21]
[22,4823,14,4843,null,null,null,null,null,null,0,21]
[11,4948,21,4960,null,null,null,null,null,null,0,12]
[11,5055,21,5071,null,null,null,null,null,null,0,12]
[11,5196,21,5208,null,null,null,null,null,null,0,12]
[11,5309,21,5320,null,null,null,null,null,null,0,12]
[11,5418,21,5432,null,null,null,null,null,null,0,12]
[11,5526,21,5540,null,null,null,null,null,null,0,12]
[22,5643,14,5667,null,null,null,null,null,null,0,21]
[11,5769,21,5781,null,null,null,null,null,null,0,12]
[11,5878,21,5889,null,null,null,null,null,null,0,12]
[11,5981,21,6000,null,null,null,null,null,null,0,12]
[11,6094,21,6132,null,null,null,null,null,null,0,12]
[11,6228,21,6241,null,null,null,null,null,null,0,12]
[11,6333,21,6347,null,null,null,null,null,null,0,12]
[11,6440,21,6452,null,null,null,null,null,null,0,12]
[22,6560,23,6586,null,null,null,null,null,null,0,22]
[22,6704,14,6723,null,null,null,null,null,null,0,21]
[11,6830,21,6843,null,null,null,null,null,null,0,12]
[11,6937,21,6953,null,null,null,null,null,null,1,12]

{"sheet":"!MC14B00.105","index":18,"n_rows":55,"n_cols":48,"rows_kept":55,"cut":false,"hidden":false,"merged":[[4,39,4,42],[5,39,5,40],[4,44,4,47],[5,44,5,45],[4,24,4,27],[5,24,5,25],[4,29,4,32],[5,29,5,30],[4,34,4,37],[5,34,5,35],[1,1,1,2],[5,13,5,14],[18,13,18,14],[19,13,19,14],[4,19,4,22],[5,19,5,20]]}
["Report for:!MC14B00.105"]
["Date:","<date>"]
["Hen:","<hen>",null,null,null,"Correct Sequence",{"$f":"Start!J2","v":12},null,null,null,null,null,null,null,null,"Total Sequences in Data",{"$f":"4994-COUNTBLANK(L7:L5000)","v":49},null,null,null,null,"Total Sequences in Block Data",{"$f":"COUNTA(L7:L14)","v":8},null,null,null,"Total Sequences in Block Data",{"$f":"COUNTA(L15:L22)","v":8},null,null,null,"Total Sequences in Block Data",{"$f":"COUNTA(L23:L31)","v":9},null,null,null,"Total Sequences in Block Data",{"$f":"COUNTA(L32:L39)","v":8},null,null,null,"Total Sequences in Block Data",{"$f":"COUNTA(L40:L47)","v":8},null,null,null,"Total Sequences in Block Data",{"$f":"COUNTA(L48:L55)","v":8}]
[null,null,null,null,null,null,null,null,null,null,null,null,null,null,null,"Total Sequences in Summary",{"$f":"SUM(O7:O14)","v":49},null,null,null,null,"Total Sequences in Block Summary",{"$f":"SUM(U7:U14)","v":8},null,null,null,"Total Sequences in Block Summary",{"$f":"SUM(Z7:Z14)","v":8},null,null,null,"Total Sequences in Block Summary",{"$f":"SUM(AE7:AE14)","v":9},null,null,null,"Total Sequences in Block Summary",{"$f":"SUM(AJ7:AJ14)","v":8},null,null,null,"Total Sequences in Block Summary",{"$f":"SUM(AO7:AO14)","v":8},null,null,null,"Total Sequences in Block Summary",{"$f":"SUM(AT7:AT14)","v":8}]
[null,null,null,null,null,null,null,null,null,null,null,null,null,null,null,null,null,null,null,"Block 1",null,null,null,null,"Block 2",null,null,null,null,"Block 3",null,null,null,null,"Block 4",null,null,null,null,"Block 5",null,null,null,null,"Block 6"]
["Sequence\nComponent\n1","Time\n1","Sequence\nComponent\n2","Time\n2","Sequence\nComponent\n3","Time\n3","Sequence\nComponent\n4","Time\n4","Sequence\nComponent\n5","Time\n5","Correct?\n0=No 1=Yes","Sequence",null,"Frequency",null,"Relative Frequency","Variability",null,null,"Frequency",null,"Relative Frequency","Variability",null,"Frequency",null,"Relative Frequency","Variability",null,"Frequency",null,"Relative Frequency","Variability",null,"Frequency",null,"Relative Frequency","Variability",null,"Frequency",null,"Relative Frequency","Variability",null,"Frequency",null,"Relative Frequency","Variability"]
[11,24,21,31,null,null,null,null,null,null,0,12,null,11,{"$f":"COUNTIF($L$7:$L$500,N7)","v":6},{"$f":"O7/$Q$4","v":0.12244897959183673},{"$f":"IF(P7=0,0,(P7*((LOG(P7))/LOG(2))))","v":-0.3709894706196798},null,null,{"$f":"N7","v":11},{"$f":"COUNTIF(L7:L14,T7)","v":0},{"$f":"U7/(W4-U8)","v":0},{"$f":"IF(V7=0,0,(V7*((LOG(V7))/LOG(2))))","v":0},null,{"$f":"N7","v":11},{"$f":"COUNTIF(L15:L22,Y7)","v":0},{"$f":"Z7/(AB4-Z8)","v":0},{"$f":"IF(AA7=0,0,(AA7*((LOG(AA7))/LOG(2))))","v":0},null,{"$f":"N7","v":11},{"$f":"COUNTIF(L23:L31,AD7)","v":0},{"$f":"AE7/(AG4-AE8)","v":{"$error":"#DIV/0!"}},{"$f":"IF(AF7=0,0,(AF7*((LOG(AF7))/LOG(2))))","v":{"$error":"#DIV/0!"}},null,{"$f":"N7","v":11},{"$f":"COUNTIF(L32:L39,AI7)","v":3},{"$f":"AJ7/(AL4-AJ8)","v":1},{"$f":"IF(AK7=0,0,(AK7*((LOG(AK7))/LOG(2))))","v":0},null,{"$f":"N7","v":11},{"$f":"COUNTIF(L40:L47,AN7)","v":3},{"$f":"AO7/(AQ4-AO8)","v":1},{"$f":"IF(AP7=0,0,(AP7*((LOG(AP7))/LOG(2))))","v":0},null,{"$f":"N7","v":11},{"$f":"COUNTIF(L48:L55,AS7)","v":0},{"$f":"AT7/(AV4-AT8)","v":{"$error":"#DIV/0!"}},{"$f":"IF(AU7=0,0,(AU7*((LOG(AU7))/LOG(2))))","v":{"$error":"#DIV/0!"}}]
[11,129,21,142,null,null,null,null,null,null,0,12,null,12,{"$f":"COUNTIF($L$7:$L$500,N8)","v":38},{"$f":"O8/$Q$4","v":0.77551020408163263},{"$f":"IF(P8=0,0,(P8*((LOG(P8))/LOG(2))))","v":-0.28444344011268707},null,null,{"$f":"N8","v":12},{"$f":"COUNTIF(L7:L14,T8)","v":5},null,null,null,{"$f":"N8","v":12},{"$f":"COUNTIF(L15:L22,Y8)","v":6},null,null,null,{"$f":"N8","v":12},{"$f":"COUNTIF(L23:L31,AD8)","v":9},null,null,null,{"$f":"N8","v":12},{"$f":"COUNTIF(L32:L39,AI8)","v":5},null,null,null,{"$f":"N8","v":12},{"$f":"COUNTIF(L40:L47,AN8)","v":5},null,null,null,{"$f":"N8","v":12},{"$f":"COUNTIF(L48:L55,AS8)","v":8}]
[11,238,21,248,null,null,null,null,null,null,0,12,null,21,{"$f":"COUNTIF($L$7:$L$500,N9)","v":5},{"$f":"O9/$Q$4","v":0.10204081632653061},{"$f":"IF(P9=0,0,(P9*((LOG(P9))/LOG(2))))","v":-0.33599813767631082},null,null,{"$f":"N9","v":21},{"$f":"COUNTIF(L7:L14,T9)","v":3},{"$f":"U9/(W4-U8)","v":1},{"$f":"IF(V9=0,0,(V9*((LOG(V9))/LOG(2))))","v":0},null,{"$f":"N9","v":21},{"$f":"COUNTIF(L15:L22,Y9)","v":2},{"$f":"Z9/(AB4-Z8)","v":1},{"$f":"IF(AA9=0,0,(AA9*((LOG(AA9))/LOG(2))))","v":0},null,{"$f":"N9","v":21},{"$f":"COUNTIF(L23:L31,AD9)","v":0},{"$f":"AE9/(AG4-AE8)","v":{"$error":"#DIV/0!"}},{"$f":"IF(AF9=0,0,(AF9*((LOG(AF9))/LOG(2))))","v":{"$error":"#DIV/0!"}},null,{"$f":"N9","v":21},{"$f":"COUNTIF(L32:L39,AI9)","v":0},{"$f":"AJ9/(AL4-AJ8)","v":0},{"$f":"IF(AK9=0,0,(AK9*((LOG(AK9))/LOG(2))))","v":0},null,{"$f":"N9","v":21},{"$f":"COUNTIF(L40:L47,AN9)","v":0},{"$f":"AO9/(AQ4-AO8)","v":0},{"$f":"IF(AP9=0,0,(AP9*((LOG(AP9))/LOG(2))))","v":0},null,{"$f":"N9","v":21},{"$f":"COUNTIF(L48:L55,AS9)","v":0},{"$f":"AT9/(AV4-AT8)","v":{"$error":"#DIV/0!"}},{"$f":"IF(AU9=0,0,(AU9*((LOG(AU9))/LOG(2))))","v":{"$error":"#DIV/0!"}}]
[22,354,14,374,null,null,null,null,null,null,0,21,null,22,{"$f":"COUNTIF($L$7:$L$500,N10)","v":0},{"$f":"O10/$Q$4","v":0},{"$f":"IF(P10=0,0,(P10*((LOG(P10))/LOG(2))))","v":0},null,null,{"$f":"N10","v":22},{"$f":"COUNTIF(L7:L14,T10)","v":0},{"$f":"U10/(W4-U8)","v":0},{"$f":"IF(V10=0,0,(V10*((LOG(V10))/LOG(2))))","v":0},null,{"$f":"N10","v":22},{"$f":"COUNTIF(L15:L22,Y10)","v":0},{"$f":"Z10/(AB4-Z8)","v":0},{"$f":"IF(AA10=0,0,(AA10*((LOG(AA10))/LOG(2))))","v":0},null,{"$f":"N10","v":22},{"$f":"COUNTIF(L23:L31,AD10)","v":0},{"$f":"AE10/(AG4-AE8)","v":{"$error":"#DIV/0!"}},{"$f":"IF(AF10=0,0,(AF10*((LOG(AF10))/LOG(2))))","v":{"$error":"#DIV/0!"}},null,{"$f":"N10","v":22},{"$f":"COUNTIF(L32:L39,AI10)","v":0},{"$f":"AJ10/(AL4-AJ8)","v":0},{"$f":"IF(AK10=0,0,(AK10*((LOG(AK10))/LOG(2))))","v":0},null,{"$f":"N10","v":22},{"$f":"COUNTIF(L40:L47,AN10)","v":0},{"$f":"AO10/(AQ4-AO8)","v":0},{"$f":"IF(AP10=0,0,(AP10*((LOG(AP10))/LOG(2))))","v":0},null,{"$f":"N10","v":22},{"$f":"COUNTIF(L48:L55,AS10)","v":0},{"$f":"AT10/(AV4-AT8)","v":{"$error":"#DIV/0!"}},{"$f":"IF(AU10=0,0,(AU10*((LOG(AU10))/LOG(2))))","v":{"$error":"#DIV/0!"}}]
[11,471,21,485,null,null,null,null,null,null,0,12,null,null,null,null,null,null,null,{"$f":"N11","v":0},{"$f":"COUNTIF(L7:L14,T11)","v":0},{"$f":"U11/(W4-U8)","v":0},{"$f":"IF(V11=0,0,(V11*((LOG(V11))/LOG(2))))","v":0},null,{"$f":"N11","v":0},{"$f":"COUNTIF(L15:L22,Y11)","v":0},{"$f":"Z11/(AB4-Z8)","v":0},{"$f":"IF(AA11=0,0,(AA11*((LOG(AA11))/LOG(2))))","v":0},null,{"$f":"N11","v":0},{"$f":"COUNTIF(L23:L31,AD11)","v":0},{"$f":"AE11/(AG4-AE8)","v":{"$error":"#DIV/0!"}},{"$f":"IF(AF11=0,0,(AF11*((LOG(AF11))/LOG(2))))","v":{"$error":"#DIV/0!"}},null,{"$f":"N11","v":0},{"$f":"COUNTIF(L32:L39,AI11)","v":0},{"$f":"AJ11/(AL4-AJ8)","v":0},{"$f":"IF(AK11=0,0,(AK11*((LOG(AK11))/LOG(2))))","v":0},null,{"$f":"N11","v":0},{"$f":"COUNTIF(L40:L47,AN11)","v":0},{"$f":"AO11/(AQ4-AO8)","v":0},{"$f":"IF(AP11=0,0,(AP11*((LOG(AP11))/LOG(2))))","v":0},null,{"$f":"N11","v":0},{"$f":"COUNTIF(L48:L55,AS11)","v":0},{"$f":"AT11/(AV4-AT8)","v":{"$error":"#DIV/0!"}},{"$f":"IF(AU11=0,0,(AU11*((LOG(AU11))/LOG(2))))","v":{"$error":"#DIV/0!"}}]
[22,591,14,611,null,null,null,null,null,null,0,21,null,null,null,null,null,null,null,{"$f":"N12","v":0},{"$f":"COUNTIF(L7:L14,T12)","v":0},{"$f":"U12/(W4-U8)","v":0},{"$f":"IF(V12=0,0,(V12*((LOG(V12))/LOG(2))))","v":0},null,{"$f":"N12","v":0},{"$f":"COUNTIF(L15:L22,Y12)","v":0},{"$f":"Z12/(AB4-Z8)","v":0},{"$f":"IF(AA12=0,0,(AA12*((LOG(AA12))/LOG(2))))","v":0},null,{"$f":"N12","v":0},{"$f":"COUNTIF(L23:L31,AD12)","v":0},{"$f":"AE12/(AG4-AE8)","v":{"$error":"#DIV/0!"}},{"$f":"IF(AF12=0,0,(AF12*((LOG(AF12))/LOG(2))))","v":{"$error":"#DIV/0!"}},null,{"$f":"N12","v":0},{"$f":"COUNTIF(L32:L39,AI12)","v":0},{"$f":"AJ12/(AL4-AJ8)","v":0},{"$f":"IF(AK12=0,0,(AK12*((LOG(AK12))/LOG(2))))","v":0},null,{"$f":"N12","v":0},{"$f":"COUNTIF(L40:L47,AN12)","v":0},{"$f":"AO12/(AQ4-AO8)","v":0},{"$f":"IF(AP12=0,0,(AP12*((LOG(AP12))/LOG(2))))","v":0},null,{"$f":"N12","v":0},{"$f":"COUNTIF(L48:L55,AS12)","v":0},{"$f":"AT12/(AV4-AT8)","v":{"$error":"#DIV/0!"}},{"$f":"IF(AU12=0,0,(AU12*((LOG(AU12))/LOG(2))))","v":{"$error":"#DIV/0!"}}]
[22,730,14,747,null,null,null,null,null,null,0,21,null,null,null,null,null,null,null,{"$f":"N13","v":0},{"$f":"COUNTIF(L7:L14,T13)","v":0},{"$f":"U13/(W4-U8)","v":0},{"$f":"IF(V13=0,0,(V13*((LOG(V13))/LOG(2))))","v":0},null,{"$f":"N13","v":0},{"$f":"COUNTIF(L15:L22,Y13)","v":0},{"$f":"Z13/(AB4-Z8)","v":0},{"$f":"IF(AA13=0,0,(AA13*((LOG(AA13))/LOG(2))))","v":0},null,{"$f":"N13","v":0},{"$f":"COUNTIF(L23:L31,AD13)","v":0},{"$f":"AE13/(AG4-AE8)","v":{"$error":"#DIV/0!"}},{"$f":"IF(AF13=0,0,(AF13*((LOG(AF13))/LOG(2))))","v":{"$error":"#DIV/0!"}},null,{"$f":"N13","v":0},{"$f":"COUNTIF(L32:L39,AI13)","v":0},{"$f":"AJ13/(AL4-AJ8)","v":0},{"$f":"IF(AK13=0,0,(AK13*((LOG(AK13))/LOG(2))))","v":0},null,{"$f":"N13","v":0},{"$f":"COUNTIF(L40:L47,AN13)","v":0},{"$f":"AO13/(AQ4-AO8)","v":0},{"$f":"IF(AP13=0,0,(AP13*((LOG(AP13))/LOG(2))))","v":0},null,{"$f":"N13","v":0},{"$f":"COUNTIF(L48:L55,AS13)","v":0},{"$f":"AT13/(AV4-AT8)","v":{"$error":"#DIV/0!"}},{"$f":"IF(AU13=0,0,(AU13*((LOG(AU13))/LOG(2))))","v":{"$error":"#DIV/0!"}}]
[11,854,21,866,null,null,null,null,null,null,0,12,null,null,null,null,null,null,null,{"$f":"N14","v":0},{"$f":"COUNTIF(L7:L14,T14)","v":0},{"$f":"U14/(W4-U8)","v":0},{"$f":"IF(V14=0,0,(V14*((LOG(V14))/LOG(2))))","v":0},null,{"$f":"N14","v":0},{"$f":"COUNTIF(L15:L22,Y14)","v":0},{"$f":"Z14/(AB4-Z8)","v":0},{"$f":"IF(AA14=0,0,(AA14*((LOG(AA14))/LOG(2))))","v":0},null,{"$f":"N14","v":0},{"$f":"COUNTIF(L23:L31,AD14)","v":0},{"$f":"AE14/(AG4-AE8)","v":{"$error":"#DIV/0!"}},{"$f":"IF(AF14=0,0,(AF14*((LOG(AF14))/LOG(2))))","v":{"$error":"#DIV/0!"}},null,{"$f":"N14","v":0},{"$f":"COUNTIF(L32:L39,AI14)","v":0},{"$f":"AJ14/(AL4-AJ8)","v":0},{"$f":"IF(AK14=0,0,(AK14*((LOG(AK14))/LOG(2))))","v":0},null,{"$f":"N14","v":0},{"$f":"COUNTIF(L40:L47,AN14)","v":0},{"$f":"AO14/(AQ4-AO8)","v":0},{"$f":"IF(AP14=0,0,(AP14*((LOG(AP14))/LOG(2))))","v":0},null,{"$f":"N14","v":0},{"$f":"COUNTIF(L48:L55,AS14)","v":0},{"$f":"AT14/(AV4-AT8)","v":{"$error":"#DIV/0!"}},{"$f":"IF(AU14=0,0,(AU14*((LOG(AU14))/LOG(2))))","v":{"$error":"#DIV/0!"}}]
[11,969,21,976,null,null,null,null,null,null,0,12,null,null,null,{"$f":"SUM(P7:P14)","v":1},{"$f":"-SUM(Q7:Q14)","v":0.99143104840867768},null,null,null,null,{"$f":"SUM(V7:V14)","v":1},{"$f":"-SUM(W7:W14)","v":0},null,null,null,{"$f":"SUM(AA7:AA14)","v":1},{"$f":"-SUM(AB7:AB14)","v":0},null,null,null,{"$f":"SUM(AF7:AF14)","v":{"$error":"#DIV/0!"}},{"$f":"-SUM(AG7:AG14)","v":{"$error":"#DIV/0!"}},null,null,null,{"$f":"SUM(AK7:AK14)","v":1},{"$f":"-SUM(AL7:AL14)","v":0},null,null,null,{"$f":"SUM(AP7:AP14)","v":1},{"$f":"-SUM(AQ7:AQ14)","v":0},null,null,null,{"$f":"SUM(AU7:AU14)","v":{"$error":"#DIV/0!"}},{"$f":"-SUM(AV7:AV14)","v":{"$error":"#DIV/0!"}}]
[11,1075,21,1087,null,null,null,null,null,null,0,12,null,null,null,"U=",{"$f":"Q15/(LOG(Q4)/LOG(2))","v":0.17657743248260621},null,null,null,null,"U1=",{"$f":"W15/(LOG(W4)/LOG(2))","v":0},null,null,null,"U2=",{"$f":"AB15/(LOG(AB4)/LOG(2))","v":0},null,null,null,"U3=",{"$f":"AG15/(LOG(AG4)/LOG(2))","v":{"$error":"#DIV/0!"}},null,null,null,"U4=",{"$f":"AL15/(LOG(AL4)/LOG(2))","v":0},null,null,null,"U5=",{"$f":"AQ15/(LOG(AQ4)/LOG(2))","v":0},null,null,null,"U6=",{"$f":"AV15/(LOG(AV4)/LOG(2))","v":{"$error":"#DIV/0!"}}]
[11,1182,21,1195,null,null,null,null,null,null,0,12]
[11,1287,21,1301,null,null,null,null,null,null,0,12]
[22,1404,14,1433,null,null,null,null,null,null,0,21,null,"Total Target Seq"]
[22,1548,14,1576,null,null,null,null,null,null,0,21,null,{"$f":"COUNTIF(L7:L55,G3)","v":38},null,8,8,9,8,8,8]
[11,1677,21,1694,null,null,null,null,null,null,0,12,null,null,null,"% of reinforcement given in 6 equal intervals based on number of trials "]
[11,1790,21,1799,null,null,null,null,null,null,0,12,null,null,null,"%_1","%_2","%_3","%_4","%_5","%_6"]
[11,1895,21,1906,null,null,null,null,null,null,0,12,null,null,"target sequence",{"$f":"$G$3","v":12},{"$f":"$G$3","v":12},{"$f":"$G$3","v":12},{"$f":"$G$3","v":12},{"$f":"$G$3","v":12},{"$f":"$G$3","v":12}]
[11,2004,21,2018,null,null,null,null,null,null,0,12,null,null,"total reinforcement",{"$f":"U8","v":5},{"$f":"Z8","v":6},{"$f":"AE8","v":9},{"$f":"AJ8","v":5},{"$f":"AO8","v":5},{"$f":"AT8","v":8}]
[11,2114,21,2125,null,null,null,null,null,null,0,12,null,null,"% target"]
[11,2224,21,2246,null,null,null,null,null,null,0,12,null,null,"CCRF"]
[11,2341,21,2351,null,null,null,null,null,null,0,12,null,null,"% CCRf"]
[11,2444,21,2457,null,null,null,null,null,null,0,12,null,null,"average response rate",{"$f":"D14/P20","v":108.25},{"$f":"(D22-D14)/Q20","v":116.625},{"$f":"(D31-D22)/R20","v":111.11111111111111},{"$f":"(D39-D31)/S20","v":115.375},{"$f":"(D47-D39)/T20","v":117.75},{"$f":"(D55-D47)/U20","v":106.125}]
[11,2551,21,2557,null,null,null,null,null,null,0,12]
[11,2654,21,2664,null,null,null,null,null,null,0,12]
[11,2759,21,2799,null,null,null,null,null,null,0,12]
[11,2898,21,2907,null,null,null,null,null,null,0,12]
[11,3002,21,3019,null,null,null,null,null,null,0,12]
[11,3112,21,3120,null,null,null,null,null,null,0,12]
[11,3216,21,3222,null,null,null,null,null,null,0,12]
[11,3318,12,3343,null,null,null,null,null,null,0,11]
[11,3439,12,3467,null,null,null,null,null,null,0,11]
[11,3573,12,3596,null,null,null,null,null,null,0,11]
[11,3704,21,3722,null,null,null,null,null,null,0,12]
[11,3815,21,3828,null,null,null,null,null,null,0,12]
[11,3922,21,3933,null,null,null,null,null,null,0,12]
[11,4027,21,4040,null,null,null,null,null,null,0,12]
[11,4137,12,4161,null,null,null,null,null,null,0,11]
[11,4265,21,4275,null,null,null,null,null,null,0,12]
[11,4370,12,4410,null,null,null,null,null,null,0,11]
[11,4518,12,4546,null,null,null,null,null,null,0,11]
[11,4651,21,4664,null,null,null,null,null,null,0,12]
[11,4760,21,4769,null,null,null,null,null,null,0,12]
[11,4863,21,4872,null,null,null,null,null,null,0,12]
[11,4966,21,4998,null,null,null,null,null,null,0,12]
[11,5091,21,5097,null,null,null,null,null,null,0,12]
[11,5194,21,5203,null,null,null,null,null,null,0,12]
[11,5297,21,5306,null,null,null,null,null,null,0,12]
[11,5398,21,5409,null,null,null,null,null,null,0,12]
[11,5502,21,5513,null,null,null,null,null,null,1,12]

{"sheet":"!MC15C20.105","index":19,"n_rows":49,"n_cols":48,"rows_kept":49,"cut":false,"hidden":false,"merged":[[4,39,4,42],[5,39,5,40],[4,44,4,47],[5,44,5,45],[4,24,4,27],[5,24,5,25],[4,29,4,32],[5,29,5,30],[4,34,4,37],[5,34,5,35],[1,1,1,2],[5,13,5,14],[18,13,18,14],[19,13,19,14],[4,19,4,22],[5,19,5,20]]}
["Report for:!MC15C20.105"]
["Date:","<date>"]
["Hen:","<hen>",null,null,null,"Correct Sequence",{"$f":"Start!J2","v":12},null,null,null,null,null,null,null,null,"Total Sequences in Data",{"$f":"4994-COUNTBLANK(L7:L5000)","v":43},null,null,null,null,"Total Sequences in Block Data",{"$f":"COUNTA(L7:L13)","v":7},null,null,null,"Total Sequences in Block Data",{"$f":"COUNTA(L14:L20)","v":7},null,null,null,"Total Sequences in Block Data",{"$f":"COUNTA(L21:L28)","v":8},null,null,null,"Total Sequences in Block Data",{"$f":"COUNTA(L29:L35)","v":7},null,null,null,"Total Sequences in Block Data",{"$f":"COUNTA(L36:L42)","v":7},null,null,null,"Total Sequences in Block Data",{"$f":"COUNTA(L43:L49)","v":7}]
[null,null,null,null,null,null,null,null,null,null,null,null,null,null,null,"Total Sequences in Summary",{"$f":"SUM(O7:O14)","v":43},null,null,null,null,"Total Sequences in Block Summary",{"$f":"SUM(U7:U14)","v":7},null,null,null,"Total Sequences in Block Summary",{"$f":"SUM(Z7:Z14)","v":7},null,null,null,"Total Sequences in Block Summary",{"$f":"SUM(AE7:AE14)","v":8},null,null,null,"Total Sequences in Block Summary",{"$f":"SUM(AJ7:AJ14)","v":7},null,null,null,"Total Sequences in Block Summary",{"$f":"SUM(AO7:AO14)","v":7},null,null,null,"Total Sequences in Block Summary",{"$f":"SUM(AT7:AT14)","v":7}]
[null,null,null,null,null,null,null,null,null,null,null,null,null,null,null,null,null,null,null,"Block 1",null,null,null,null,"Block 2",null,null,null,null,"Block 3",null,null,null,null,"Block 4",null,null,null,null,"Block 5",null,null,null,null,"Block 6"]
["Sequence\nComponent\n1","Time\n1","Sequence\nComponent\n2","Time\n2","Sequence\nComponent\n3","Time\n3","Sequence\nComponent\n4","Time\n4","Sequence\nComponent\n5","Time\n5","Correct?\n0=No 1=Yes","Sequence",null,"Frequency",null,"Relative Frequency","Variability",null,null,"Frequency",null,"Relative Frequency","Variability",null,"Frequency",null,"Relative Frequency","Variability",null,"Frequency",null,"Relative Frequency","Variability",null,"Frequency",null,"Relative Frequency","Variability",null,"Frequency",null,"Relative Frequency","Variability",null,"Frequency",null,"Relative Frequency","Variability"]
[11,17,21,23,null,null,null,null,null,null,0,12,null,11,{"$f":"COUNTIF($L$7:$L$500,N7)","v":1},{"$f":"O7/$Q$4","v":2.3255813953488372E-2},{"$f":"IF(P7=0,0,(P7*((LOG(P7))/LOG(2))))","v":-0.12619220359772321},null,null,{"$f":"N7","v":11},{"$f":"COUNTIF(L7:L13,T7)","v":0},{"$f":"U7/(W4-U8)","v":0},{"$f":"IF(V7=0,0,(V7*((LOG(V7))/LOG(2))))","v":0},null,{"$f":"N7","v":11},{"$f":"COUNTIF(L14:L20,Y7)","v":0},{"$f":"Z7/(AB4-Z8)","v":{"$error":"#DIV/0!"}},{"$f":"IF(AA7=0,0,(AA7*((LOG(AA7))/LOG(2))))","v":{"$error":"#DIV/0!"}},null,{"$f":"N7","v":11},{"$f":"COUNTIF(L21:L28,AD7)","v":0},{"$f":"AE7/(AG4-AE8)","v":{"$error":"#DIV/0!"}},{"$f":"IF(AF7=0,0,(AF7*((LOG(AF7))/LOG(2))))","v":{"$error":"#DIV/0!"}},null,{"$f":"N7","v":11},{"$f":"COUNTIF(L29:L35,AI7)","v":1},{"$f":"AJ7/(AL4-AJ8)","v":1},{"$f":"IF(AK7=0,0,(AK7*((LOG(AK7))/LOG(2))))","v":0},null,{"$f":"N7","v":11},{"$f":"COUNTIF(L36:L42,AN7)","v":0},{"$f":"AO7/(AQ4-AO8)","v":{"$error":"#DIV/0!"}},{"$f":"IF(AP7=0,0,(AP7*((LOG(AP7))/LOG(2))))","v":{"$error":"#DIV/0!"}},null,{"$f":"N7","v":11},{"$f":"COUNTIF(L43:L49,AS7)","v":0},{"$f":"AT7/(AV4-AT8)","v":{"$error":"#DIV/0!"}},{"$f":"IF(AU7=0,0,(AU7*((LOG(AU7))/LOG(2))))","v":{"$error":"#DIV/0!"}}]
[11,118,21,132,null,null,null,null,null,null,0,12,null,12,{"$f":"COUNTIF($L$7:$L$500,N8)","v":39},{"$f":"O8/$Q$4","v":0.90697674418604646},{"$f":"IF(P8=0,0,(P8*((LOG(P8))/LOG(2))))","v":-0.12775904413381717},null,null,{"$f":"N8","v":12},{"$f":"COUNTIF(L7:L13,T8)","v":4},null,null,null,{"$f":"N8","v":12},{"$f":"COUNTIF(L14:L20,Y8)","v":7},null,null,null,{"$f":"N8","v":12},{"$f":"COUNTIF(L21:L28,AD8)","v":8},null,null,null,{"$f":"N8","v":12},{"$f":"COUNTIF(L29:L35,AI8)","v":6},null,null,null,{"$f":"N8","v":12},{"$f":"COUNTIF(L36:L42,AN8)","v":7},null,null,null,{"$f":"N8","v":12},{"$f":"COUNTIF(L43:L49,AS8)","v":7}]
[11,230,21,241,null,null,null,null,null,null,0,12,null,21,{"$f":"COUNTIF($L$7:$L$500,N9)","v":3},{"$f":"O9/$Q$4","v":6.9767441860465115E-2},{"$f":"IF(P9=0,0,(P9*((LOG(P9))/LOG(2))))","v":-0.26799783167308894},null,null,{"$f":"N9","v":21},{"$f":"COUNTIF(L7:L13,T9)","v":3},{"$f":"U9/(W4-U8)","v":1},{"$f":"IF(V9=0,0,(V9*((LOG(V9))/LOG(2))))","v":0},null,{"$f":"N9","v":21},{"$f":"COUNTIF(L14:L20,Y9)","v":0},{"$f":"Z9/(AB4-Z8)","v":{"$error":"#DIV/0!"}},{"$f":"IF(AA9=0,0,(AA9*((LOG(AA9))/LOG(2))))","v":{"$error":"#DIV/0!"}},null,{"$f":"N9","v":21},{"$f":"COUNTIF(L21:L28,AD9)","v":0},{"$f":"AE9/(AG4-AE8)","v":{"$error":"#DIV/0!"}},{"$f":"IF(AF9=0,0,(AF9*((LOG(AF9))/LOG(2))))","v":{"$error":"#DIV/0!"}},null,{"$f":"N9","v":21},{"$f":"COUNTIF(L29:L35,AI9)","v":0},{"$f":"AJ9/(AL4-AJ8)","v":0},{"$f":"IF(AK9=0,0,(AK9*((LOG(AK9))/LOG(2))))","v":0},null,{"$f":"N9","v":21},{"$f":"COUNTIF(L36:L42,AN9)","v":0},{"$f":"AO9/(AQ4-AO8)","v":{"$error":"#DIV/0!"}},{"$f":"IF(AP9=0,0,(AP9*((LOG(AP9))/LOG(2))))","v":{"$error":"#DIV/0!"}},null,{"$f":"N9","v":21},{"$f":"COUNTIF(L43:L49,AS9)","v":0},{"$f":"AT9/(AV4-AT8)","v":{"$error":"#DIV/0!"}},{"$f":"IF(AU9=0,0,(AU9*((LOG(AU9))/LOG(2))))","v":{"$error":"#DIV/0!"}}]
[22,346,14,370,null,null,null,null,null,null,0,21,null,22,{"$f":"COUNTIF($L$7:$L$500,N10)","v":0},{"$f":"O10/$Q$4","v":0},{"$f":"IF(P10=0,0,(P10*((LOG(P10))/LOG(2))))","v":0},null,null,{"$f":"N10","v":22},{"$f":"COUNTIF(L7:L13,T10)","v":0},{"$f":"U10/(W4-U8)","v":0},{"$f":"IF(V10=0,0,(V10*((LOG(V10))/LOG(2))))","v":0},null,{"$f":"N10","v":22},{"$f":"COUNTIF(L14:L20,Y10)","v":0},{"$f":"Z10/(AB4-Z8)","v":{"$error":"#DIV/0!"}},{"$f":"IF(AA10=0,0,(AA10*((LOG(AA10))/LOG(2))))","v":{"$error":"#DIV/0!"}},null,{"$f":"N10","v":22},{"$f":"COUNTIF(L21:L28,AD10)","v":0},{"$f":"AE10/(AG4-AE8)","v":{"$error":"#DIV/0!"}},{"$f":"IF(AF10=0,0,(AF10*((LOG(AF10))/LOG(2))))","v":{"$error":"#DIV/0!"}},null,{"$f":"N10","v":22},{"$f":"COUNTIF(L29:L35,AI10)","v":0},{"$f":"AJ10/(AL4-AJ8)","v":0},{"$f":"IF(AK10=0,0,(AK10*((LOG(AK10))/LOG(2))))","v":0},null,{"$f":"N10","v":22},{"$f":"COUNTIF(L36:L42,AN10)","v":0},{"$f":"AO10/(AQ4-AO8)","v":{"$error":"#DIV/0!"}},{"$f":"IF(AP10=0,0,(AP10*((LOG(AP10))/LOG(2))))","v":{"$error":"#DIV/0!"}},null,{"$f":"N10","v":22},{"$f":"COUNTIF(L43:L49,AS10)","v":0},{"$f":"AT10/(AV4-AT8)","v":{"$error":"#DIV/0!"}},{"$f":"IF(AU10=0,0,(AU10*((LOG(AU10))/LOG(2))))","v":{"$error":"#DIV/0!"}}]
[22,477,14,493,null,null,null,null,null,null,0,21,null,null,null,null,null,null,null,{"$f":"N11","v":0},{"$f":"COUNTIF(L7:L13,T11)","v":0},{"$f":"U11/(W4-U8)","v":0},{"$f":"IF(V11=0,0,(V11*((LOG(V11))/LOG(2))))","v":0},null,{"$f":"N11","v":0},{"$f":"COUNTIF(L14:L20,Y11)","v":0},{"$f":"Z11/(AB4-Z8)","v":{"$error":"#DIV/0!"}},{"$f":"IF(AA11=0,0,(AA11*((LOG(AA11))/LOG(2))))","v":{"$error":"#DIV/0!"}},null,{"$f":"N11","v":0},{"$f":"COUNTIF(L21:L28,AD11)","v":0},{"$f":"AE11/(AG4-AE8)","v":{"$error":"#DIV/0!"}},{"$f":"IF(AF11=0,0,(AF11*((LOG(AF11))/LOG(2))))","v":{"$error":"#DIV/0!"}},null,{"$f":"N11","v":0},{"$f":"COUNTIF(L29:L35,AI11)","v":0},{"$f":"AJ11/(AL4-AJ8)","v":0},{"$f":"IF(AK11=0,0,(AK11*((LOG(AK11))/LOG(2))))","v":0},null,{"$f":"N11","v":0},{"$f":"COUNTIF(L36:L42,AN11)","v":0},{"$f":"AO11/(AQ4-AO8)","v":{"$error":"#DIV/0!"}},{"$f":"IF(AP11=0,0,(AP11*((LOG(AP11))/LOG(2))))","v":{"$error":"#DIV/0!"}},null,{"$f":"N11","v":0},{"$f":"COUNTIF(L43:L49,AS11)","v":0},{"$f":"AT11/(AV4-AT8)","v":{"$error":"#DIV/0!"}},{"$f":"IF(AU11=0,0,(AU11*((LOG(AU11))/LOG(2))))","v":{"$error":"#DIV/0!"}}]
[22,616,14,637,null,null,null,null,null,null,0,21,null,null,null,null,null,null,null,{"$f":"N12","v":0},{"$f":"COUNTIF(L7:L13,T12)","v":0},{"$f":"U12/(W4-U8)","v":0},{"$f":"IF(V12=0,0,(V12*((LOG(V12))/LOG(2))))","v":0},null,{"$f":"N12","v":0},{"$f":"COUNTIF(L14:L20,Y12)","v":0},{"$f":"Z12/(AB4-Z8)","v":{"$error":"#DIV/0!"}},{"$f":"IF(AA12=0,0,(AA12*((LOG(AA12))/LOG(2))))","v":{"$error":"#DIV/0!"}},null,{"$f":"N12","v":0},{"$f":"COUNTIF(L21:L28,AD12)","v":0},{"$f":"AE12/(AG4-AE8)","v":{"$error":"#DIV/0!"}},{"$f":"IF(AF12=0,0,(AF12*((LOG(AF12))/LOG(2))))","v":{"$error":"#DIV/0!"}},null,{"$f":"N12","v":0},{"$f":"COUNTIF(L29:L35,AI12)","v":0},{"$f":"AJ12/(AL4-AJ8)","v":0},{"$f":"IF(AK12=0,0,(AK12*((LOG(AK12))/LOG(2))))","v":0},null,{"$f":"N12","v":0},{"$f":"COUNTIF(L36:L42,AN12)","v":0},{"$f":"AO12/(AQ4-AO8)","v":{"$error":"#DIV/0!"}},{"$f":"IF(AP12=0,0,(AP12*((LOG(AP12))/LOG(2))))","v":{"$error":"#DIV/0!"}},null,{"$f":"N12","v":0},{"$f":"COUNTIF(L43:L49,AS12)","v":0},{"$f":"AT12/(AV4-AT8)","v":{"$error":"#DIV/0!"}},{"$f":"IF(AU12=0,0,(AU12*((LOG(AU12))/LOG(2))))","v":{"$error":"#DIV/0!"}}]
[11,741,21,757,null,null,null,null,null,null,0,12,null,null,null,null,null,null,null,{"$f":"N13","v":0},{"$f":"COUNTIF(L7:L13,T13)","v":0},{"$f":"U13/(W4-U8)","v":0},{"$f":"IF(V13=0,0,(V13*((LOG(V13))/LOG(2))))","v":0},null,{"$f":"N13","v":0},{"$f":"COUNTIF(L14:L20,Y13)","v":0},{"$f":"Z13/(AB4-Z8)","v":{"$error":"#DIV/0!"}},{"$f":"IF(AA13=0,0,(AA13*((LOG(AA13))/LOG(2))))","v":{"$error":"#DIV/0!"}},null,{"$f":"N13","v":0},{"$f":"COUNTIF(L21:L28,AD13)","v":0},{"$f":"AE13/(AG4-AE8)","v":{"$error":"#DIV/0!"}},{"$f":"IF(AF13=0,0,(AF13*((LOG(AF13))/LOG(2))))","v":{"$error":"#DIV/0!"}},null,{"$f":"N13","v":0},{"$f":"COUNTIF(L29:L35,AI13)","v":0},{"$f":"AJ13/(AL4-AJ8)","v":0},{"$f":"IF(AK13=0,0,(AK13*((LOG(AK13))/LOG(2))))","v":0},null,{"$f":"N13","v":0},{"$f":"COUNTIF(L36:L42,AN13)","v":0},{"$f":"AO13/(AQ4-AO8)","v":{"$error":"#DIV/0!"}},{"$f":"IF(AP13=0,0,(AP13*((LOG(AP13))/LOG(2))))","v":{"$error":"#DIV/0!"}},null,{"$f":"N13","v":0},{"$f":"COUNTIF(L43:L49,AS13)","v":0},{"$f":"AT13/(AV4-AT8)","v":{"$error":"#DIV/0!"}},{"$f":"IF(AU13=0,0,(AU13*((LOG(AU13))/LOG(2))))","v":{"$error":"#DIV/0!"}}]
[11,857,21,869,null,null,null,null,null,null,0,12,null,null,null,null,null,null,null,{"$f":"N14","v":0},{"$f":"COUNTIF(L7:L13,T14)","v":0},{"$f":"U14/(W4-U8)","v":0},{"$f":"IF(V14=0,0,(V14*((LOG(V14))/LOG(2))))","v":0},null,{"$f":"N14","v":0},{"$f":"COUNTIF(L14:L20,Y14)","v":0},{"$f":"Z14/(AB4-Z8)","v":{"$error":"#DIV/0!"}},{"$f":"IF(AA14=0,0,(AA14*((LOG(AA14))/LOG(2))))","v":{"$error":"#DIV/0!"}},null,{"$f":"N14","v":0},{"$f":"COUNTIF(L21:L28,AD14)","v":0},{"$f":"AE14/(AG4-AE8)","v":{"$error":"#DIV/0!"}},{"$f":"IF(AF14=0,0,(AF14*((LOG(AF14))/LOG(2))))","v":{"$error":"#DIV/0!"}},null,{"$f":"N14","v":0},{"$f":"COUNTIF(L29:L35,AI14)","v":0},{"$f":"AJ14/(AL4-AJ8)","v":0},{"$f":"IF(AK14=0,0,(AK14*((LOG(AK14))/LOG(2))))","v":0},null,{"$f":"N14","v":0},{"$f":"COUNTIF(L36:L42,AN14)","v":0},{"$f":"AO14/(AQ4-AO8)","v":{"$error":"#DIV/0!"}},{"$f":"IF(AP14=0,0,(AP14*((LOG(AP14))/LOG(2))))","v":{"$error":"#DIV/0!"}},null,{"$f":"N14","v":0},{"$f":"COUNTIF(L43:L49,AS14)","v":0},{"$f":"AT14/(AV4-AT8)","v":{"$error":"#DIV/0!"}},{"$f":"IF(AU14=0,0,(AU14*((LOG(AU14))/LOG(2))))","v":{"$error":"#DIV/0!"}}]
[11,967,21,981,null,null,null,null,null,null,0,12,null,null,null,{"$f":"SUM(P7:P14)","v":1},{"$f":"-SUM(Q7:Q14)","v":0.52194907940462931},null,null,null,null,{"$f":"SUM(V7:V14)","v":1},{"$f":"-SUM(W7:W14)","v":0},null,null,null,{"$f":"SUM(AA7:AA14)","v":{"$error":"#DIV/0!"}},{"$f":"-SUM(AB7:AB14)","v":{"$error":"#DIV/0!"}},null,null,null,{"$f":"SUM(AF7:AF14)","v":{"$error":"#DIV/0!"}},{"$f":"-SUM(AG7:AG14)","v":{"$error":"#DIV/0!"}},null,null,null,{"$f":"SUM(AK7:AK14)","v":1},{"$f":"-SUM(AL7:AL14)","v":0},null,null,null,{"$f":"SUM(AP7:AP14)","v":{"$error":"#DIV/0!"}},{"$f":"-SUM(AQ7:AQ14)","v":{"$error":"#DIV/0!"}},null,null,null,{"$f":"SUM(AU7:AU14)","v":{"$error":"#DIV/0!"}},{"$f":"-SUM(AV7:AV14)","v":{"$error":"#DIV/0!"}}]
[11,1078,21,1091,null,null,null,null,null,null,0,12,null,null,null,"U=",{"$f":"Q15/(LOG(Q4)/LOG(2))","v":9.6189386806520519E-2},null,null,null,null,"U1=",{"$f":"W15/(LOG(W4)/LOG(2))","v":0},null,null,null,"U2=",{"$f":"AB15/(LOG(AB4)/LOG(2))","v":{"$error":"#DIV/0!"}},null,null,null,"U3=",{"$f":"AG15/(LOG(AG4)/LOG(2))","v":{"$error":"#DIV/0!"}},null,null,null,"U4=",{"$f":"AL15/(LOG(AL4)/LOG(2))","v":0},null,null,null,"U5=",{"$f":"AQ15/(LOG(AQ4)/LOG(2))","v":{"$error":"#DIV/0!"}},null,null,null,"U6=",{"$f":"AV15/(LOG(AV4)/LOG(2))","v":{"$error":"#DIV/0!"}}]
[11,1188,21,1200,null,null,null,null,null,null,0,12]
[11,1291,21,1304,null,null,null,null,null,null,0,12]
[11,1402,21,1414,null,null,null,null,null,null,0,12,null,"Total Target Seq"]
[11,1509,21,1520,null,null,null,null,null,null,0,12,null,{"$f":"COUNTIF(L7:L49,G3)","v":39},null,7,7,8,7,7,7]
[11,1616,21,1631,null,null,null,null,null,null,0,12,null,null,null,"% of reinforcement given in 6 equal intervals based on number of trials "]
[11,1730,21,1739,null,null,null,null,null,null,0,12,null,null,null,"%_1","%_2","%_3","%_4","%_5","%_6"]
[11,1834,21,1864,null,null,null,null,null,null,0,12,null,null,"target sequence",{"$f":"$G$3","v":12},{"$f":"$G$3","v":12},{"$f":"$G$3","v":12},{"$f":"$G$3","v":12},{"$f":"$G$3","v":12},{"$f":"$G$3","v":12}]
[11,1960,21,2001,null,null,null,null,null,null,0,12,null,null,"total reinforcement",{"$f":"U8","v":4},{"$f":"Z8","v":7},{"$f":"AE8","v":8},{"$f":"AJ8","v":6},{"$f":"AO8","v":7},{"$f":"AT8","v":7}]
[11,2095,21,2106,null,null,null,null,null,null,0,12,null,null,"% target"]
[11,2200,21,2212,null,null,null,null,null,null,0,12,null,null,"CCRF"]
[11,2306,21,2320,null,null,null,null,null,null,0,12,null,null,"% CCRf"]
[11,2417,21,2427,null,null,null,null,null,null,0,12,null,null,"average response rate",{"$f":"D13/P20","v":108.14285714285714},{"$f":"(D20-D13)/Q20","v":109},{"$f":"(D28-D20)/R20","v":113.375},{"$f":"(D35-D28)/S20","v":113.85714285714286},{"$f":"(D42-D35)/T20","v":113.42857142857143},{"$f":"(D49-D42)/U20","v":112.28571428571429}]
[11,2521,12,2571,null,null,null,null,null,null,0,11]
[11,2677,21,2690,null,null,null,null,null,null,0,12]
[11,2785,21,2794,null,null,null,null,null,null,0,12]
[11,2892,21,2906,null,null,null,null,null,null,0,12]
[11,3000,21,3015,null,null,null,null,null,null,0,12]
[11,3109,21,3119,null,null,null,null,null,null,0,12]
[11,3213,21,3224,null,null,null,null,null,null,0,12]
[11,3317,21,3330,null,null,null,null,null,null,0,12]
[11,3425,21,3435,null,null,null,null,null,null,0,12]
[11,3529,21,3563,null,null,null,null,null,null,0,12]
[11,3659,21,3666,null,null,null,null,null,null,0,12]
[11,3760,21,3771,null,null,null,null,null,null,0,12]
[11,3865,21,3908,null,null,null,null,null,null,0,12]
[11,4005,21,4018,null,null,null,null,null,null,0,12]
[11,4113,21,4123,null,null,null,null,null,null,0,12]
[11,4218,21,4231,null,null,null,null,null,null,0,12]
[11,4325,21,4339,null,null,null,null,null,null,0,12]
[11,4432,21,4444,null,null,null,null,null,null,0,12]
[11,4539,21,4553,null,null,null,null,null,null,0,12]
[11,4647,21,4699,null,null,null,null,null,null,0,12]
[11,4792,21,4804,null,null,null,null,null,null,1,12]

{"sheet":"!MC16A20.105","index":20,"n_rows":49,"n_cols":48,"rows_kept":49,"cut":false,"hidden":false,"merged":[[4,39,4,42],[5,39,5,40],[4,44,4,47],[5,44,5,45],[4,24,4,27],[5,24,5,25],[4,29,4,32],[5,29,5,30],[4,34,4,37],[5,34,5,35],[1,1,1,2],[5,13,5,14],[18,13,18,14],[19,13,19,14],[4,19,4,22],[5,19,5,20]]}
["Report for:!MC16A20.105"]
["Date:","<date>"]
["Hen:","<hen>",null,null,null,"Correct Sequence",{"$f":"Start!J2","v":12},null,null,null,null,null,null,null,null,"Total Sequences in Data",{"$f":"4994-COUNTBLANK(L7:L5000)","v":43},null,null,null,null,"Total Sequences in Block Data",{"$f":"COUNTA(L7:L13)","v":7},null,null,null,"Total Sequences in Block Data",{"$f":"COUNTA(L14:L20)","v":7},null,null,null,"Total Sequences in Block Data",{"$f":"COUNTA(L21:L28)","v":8},null,null,null,"Total Sequences in Block Data",{"$f":"COUNTA(L29:L35)","v":7},null,null,null,"Total Sequences in Block Data",{"$f":"COUNTA(L36:L42)","v":7},null,null,null,"Total Sequences in Block Data",{"$f":"COUNTA(L43:L49)","v":7}]
[null,null,null,null,null,null,null,null,null,null,null,null,null,null,null,"Total Sequences in Summary",{"$f":"SUM(O7:O14)","v":43},null,null,null,null,"Total Sequences in Block Summary",{"$f":"SUM(U7:U14)","v":7},null,null,null,"Total Sequences in Block Summary",{"$f":"SUM(Z7:Z14)","v":7},null,null,null,"Total Sequences in Block Summary",{"$f":"SUM(AE7:AE14)","v":8},null,null,null,"Total Sequences in Block Summary",{"$f":"SUM(AJ7:AJ14)","v":7},null,null,null,"Total Sequences in Block Summary",{"$f":"SUM(AO7:AO14)","v":7},null,null,null,"Total Sequences in Block Summary",{"$f":"SUM(AT7:AT14)","v":7}]
[null,null,null,null,null,null,null,null,null,null,null,null,null,null,null,null,null,null,null,"Block 1",null,null,null,null,"Block 2",null,null,null,null,"Block 3",null,null,null,null,"Block 4",null,null,null,null,"Block 5",null,null,null,null,"Block 6"]
["Sequence\nComponent\n1","Time\n1","Sequence\nComponent\n2","Time\n2","Sequence\nComponent\n3","Time\n3","Sequence\nComponent\n4","Time\n4","Sequence\nComponent\n5","Time\n5","Correct?\n0=No 1=Yes","Sequence",null,"Frequency",null,"Relative Frequency","Variability",null,null,"Frequency",null,"Relative Frequency","Variability",null,"Frequency",null,"Relative Frequency","Variability",null,"Frequency",null,"Relative Frequency","Variability",null,"Frequency",null,"Relative Frequency","Variability",null,"Frequency",null,"Relative Frequency","Variability",null,"Frequency",null,"Relative Frequency","Variability"]
[11,14,21,26,null,null,null,null,null,null,0,12,null,11,{"$f":"COUNTIF($L$7:$L$500,N7)","v":2},{"$f":"O7/$Q$4","v":4.6511627906976744E-2},{"$f":"IF(P7=0,0,(P7*((LOG(P7))/LOG(2))))","v":-0.20587277928846967},null,null,{"$f":"N7","v":11},{"$f":"COUNTIF(L7:L13,T7)","v":0},{"$f":"U7/(W4-U8)","v":{"$error":"#DIV/0!"}},{"$f":"IF(V7=0,0,(V7*((LOG(V7))/LOG(2))))","v":{"$error":"#DIV/0!"}},null,{"$f":"N7","v":11},{"$f":"COUNTIF(L14:L20,Y7)","v":1},{"$f":"Z7/(AB4-Z8)","v":1},{"$f":"IF(AA7=0,0,(AA7*((LOG(AA7))/LOG(2))))","v":0},null,{"$f":"N7","v":11},{"$f":"COUNTIF(L21:L28,AD7)","v":0},{"$f":"AE7/(AG4-AE8)","v":0},{"$f":"IF(AF7=0,0,(AF7*((LOG(AF7))/LOG(2))))","v":0},null,{"$f":"N7","v":11},{"$f":"COUNTIF(L29:L35,AI7)","v":1},{"$f":"AJ7/(AL4-AJ8)","v":1},{"$f":"IF(AK7=0,0,(AK7*((LOG(AK7))/LOG(2))))","v":0},null,{"$f":"N7","v":11},{"$f":"COUNTIF(L36:L42,AN7)","v":0},{"$f":"AO7/(AQ4-AO8)","v":0},{"$f":"IF(AP7=0,0,(AP7*((LOG(AP7))/LOG(2))))","v":0},null,{"$f":"N7","v":11},{"$f":"COUNTIF(L43:L49,AS7)","v":0},{"$f":"AT7/(AV4-AT8)","v":{"$error":"#DIV/0!"}},{"$f":"IF(AU7=0,0,(AU7*((LOG(AU7))/LOG(2))))","v":{"$error":"#DIV/0!"}}]
[11,133,21,145,null,null,null,null,null,null,0,12,null,12,{"$f":"COUNTIF($L$7:$L$500,N8)","v":39},{"$f":"O8/$Q$4","v":0.90697674418604646},{"$f":"IF(P8=0,0,(P8*((LOG(P8))/LOG(2))))","v":-0.12775904413381717},null,null,{"$f":"N8","v":12},{"$f":"COUNTIF(L7:L13,T8)","v":7},null,null,null,{"$f":"N8","v":12},{"$f":"COUNTIF(L14:L20,Y8)","v":6},null,null,null,{"$f":"N8","v":12},{"$f":"COUNTIF(L21:L28,AD8)","v":7},null,null,null,{"$f":"N8","v":12},{"$f":"COUNTIF(L29:L35,AI8)","v":6},null,null,null,{"$f":"N8","v":12},{"$f":"COUNTIF(L36:L42,AN8)","v":6},null,null,null,{"$f":"N8","v":12},{"$f":"COUNTIF(L43:L49,AS8)","v":7}]
[11,242,21,253,null,null,null,null,null,null,0,12,null,21,{"$f":"COUNTIF($L$7:$L$500,N9)","v":0},{"$f":"O9/$Q$4","v":0},{"$f":"IF(P9=0,0,(P9*((LOG(P9))/LOG(2))))","v":0},null,null,{"$f":"N9","v":21},{"$f":"COUNTIF(L7:L13,T9)","v":0},{"$f":"U9/(W4-U8)","v":{"$error":"#DIV/0!"}},{"$f":"IF(V9=0,0,(V9*((LOG(V9))/LOG(2))))","v":{"$error":"#DIV/0!"}},null,{"$f":"N9","v":21},{"$f":"COUNTIF(L14:L20,Y9)","v":0},{"$f":"Z9/(AB4-Z8)","v":0},{"$f":"IF(AA9=0,0,(AA9*((LOG(AA9))/LOG(2))))","v":0},null,{"$f":"N9","v":21},{"$f":"COUNTIF(L21:L28,AD9)","v":0},{"$f":"AE9/(AG4-AE8)","v":0},{"$f":"IF(AF9=0,0,(AF9*((LOG(AF9))/LOG(2))))","v":0},null,{"$f":"N9","v":21},{"$f":"COUNTIF(L29:L35,AI9)","v":0},{"$f":"AJ9/(AL4-AJ8)","v":0},{"$f":"IF(AK9=0,0,(AK9*((LOG(AK9))/LOG(2))))","v":0},null,{"$f":"N9","v":21},{"$f":"COUNTIF(L36:L42,AN9)","v":0},{"$f":"AO9/(AQ4-AO8)","v":0},{"$f":"IF(AP9=0,0,(AP9*((LOG(AP9))/LOG(2))))","v":0},null,{"$f":"N9","v":21},{"$f":"COUNTIF(L43:L49,AS9)","v":0},{"$f":"AT9/(AV4-AT8)","v":{"$error":"#DIV/0!"}},{"$f":"IF(AU9=0,0,(AU9*((LOG(AU9))/LOG(2))))","v":{"$error":"#DIV/0!"}}]
[11,353,21,366,null,null,null,null,null,null,0,12,null,22,{"$f":"COUNTIF($L$7:$L$500,N10)","v":2},{"$f":"O10/$Q$4","v":4.6511627906976744E-2},{"$f":"IF(P10=0,0,(P10*((LOG(P10))/LOG(2))))","v":-0.20587277928846967},null,null,{"$f":"N10","v":22},{"$f":"COUNTIF(L7:L13,T10)","v":0},{"$f":"U10/(W4-U8)","v":{"$error":"#DIV/0!"}},{"$f":"IF(V10=0,0,(V10*((LOG(V10))/LOG(2))))","v":{"$error":"#DIV/0!"}},null,{"$f":"N10","v":22},{"$f":"COUNTIF(L14:L20,Y10)","v":0},{"$f":"Z10/(AB4-Z8)","v":0},{"$f":"IF(AA10=0,0,(AA10*((LOG(AA10))/LOG(2))))","v":0},null,{"$f":"N10","v":22},{"$f":"COUNTIF(L21:L28,AD10)","v":1},{"$f":"AE10/(AG4-AE8)","v":1},{"$f":"IF(AF10=0,0,(AF10*((LOG(AF10))/LOG(2))))","v":0},null,{"$f":"N10","v":22},{"$f":"COUNTIF(L29:L35,AI10)","v":0},{"$f":"AJ10/(AL4-AJ8)","v":0},{"$f":"IF(AK10=0,0,(AK10*((LOG(AK10))/LOG(2))))","v":0},null,{"$f":"N10","v":22},{"$f":"COUNTIF(L36:L42,AN10)","v":1},{"$f":"AO10/(AQ4-AO8)","v":1},{"$f":"IF(AP10=0,0,(AP10*((LOG(AP10))/LOG(2))))","v":0},null,{"$f":"N10","v":22},{"$f":"COUNTIF(L43:L49,AS10)","v":0},{"$f":"AT10/(AV4-AT8)","v":{"$error":"#DIV/0!"}},{"$f":"IF(AU10=0,0,(AU10*((LOG(AU10))/LOG(2))))","v":{"$error":"#DIV/0!"}}]
[11,465,21,479,null,null,null,null,null,null,0,12,null,null,null,null,null,null,null,{"$f":"N11","v":0},{"$f":"COUNTIF(L7:L13,T11)","v":0},{"$f":"U11/(W4-U8)","v":{"$error":"#DIV/0!"}},{"$f":"IF(V11=0,0,(V11*((LOG(V11))/LOG(2))))","v":{"$error":"#DIV/0!"}},null,{"$f":"N11","v":0},{"$f":"COUNTIF(L14:L20,Y11)","v":0},{"$f":"Z11/(AB4-Z8)","v":0},{"$f":"IF(AA11=0,0,(AA11*((LOG(AA11))/LOG(2))))","v":0},null,{"$f":"N11","v":0},{"$f":"COUNTIF(L21:L28,AD11)","v":0},{"$f":"AE11/(AG4-AE8)","v":0},{"$f":"IF(AF11=0,0,(AF11*((LOG(AF11))/LOG(2))))","v":0},null,{"$f":"N11","v":0},{"$f":"COUNTIF(L29:L35,AI11)","v":0},{"$f":"AJ11/(AL4-AJ8)","v":0},{"$f":"IF(AK11=0,0,(AK11*((LOG(AK11))/LOG(2))))","v":0},null,{"$f":"N11","v":0},{"$f":"COUNTIF(L36:L42,AN11)","v":0},{"$f":"AO11/(AQ4-AO8)","v":0},{"$f":"IF(AP11=0,0,(AP11*((LOG(AP11))/LOG(2))))","v":0},null,{"$f":"N11","v":0},{"$f":"COUNTIF(L43:L49,AS11)","v":0},{"$f":"AT11/(AV4-AT8)","v":{"$error":"#DIV/0!"}},{"$f":"IF(AU11=0,0,(AU11*((LOG(AU11))/LOG(2))))","v":{"$error":"#DIV/0!"}}]
[11,575,21,592,null,null,null,null,null,null,0,12,null,null,null,null,null,null,null,{"$f":"N12","v":0},{"$f":"COUNTIF(L7:L13,T12)","v":0},{"$f":"U12/(W4-U8)","v":{"$error":"#DIV/0!"}},{"$f":"IF(V12=0,0,(V12*((LOG(V12))/LOG(2))))","v":{"$error":"#DIV/0!"}},null,{"$f":"N12","v":0},{"$f":"COUNTIF(L14:L20,Y12)","v":0},{"$f":"Z12/(AB4-Z8)","v":0},{"$f":"IF(AA12=0,0,(AA12*((LOG(AA12))/LOG(2))))","v":0},null,{"$f":"N12","v":0},{"$f":"COUNTIF(L21:L28,AD12)","v":0},{"$f":"AE12/(AG4-AE8)","v":0},{"$f":"IF(AF12=0,0,(AF12*((LOG(AF12))/LOG(2))))","v":0},null,{"$f":"N12","v":0},{"$f":"COUNTIF(L29:L35,AI12)","v":0},{"$f":"AJ12/(AL4-AJ8)","v":0},{"$f":"IF(AK12=0,0,(AK12*((LOG(AK12))/LOG(2))))","v":0},null,{"$f":"N12","v":0},{"$f":"COUNTIF(L36:L42,AN12)","v":0},{"$f":"AO12/(AQ4-AO8)","v":0},{"$f":"IF(AP12=0,0,(AP12*((LOG(AP12))/LOG(2))))","v":0},null,{"$f":"N12","v":0},{"$f":"COUNTIF(L43:L49,AS12)","v":0},{"$f":"AT12/(AV4-AT8)","v":{"$error":"#DIV/0!"}},{"$f":"IF(AU12=0,0,(AU12*((LOG(AU12))/LOG(2))))","v":{"$error":"#DIV/0!"}}]
[11,686,21,703,null,null,null,null,null,null,0,12,null,null,null,null,null,null,null,{"$f":"N13","v":0},{"$f":"COUNTIF(L7:L13,T13)","v":0},{"$f":"U13/(W4-U8)","v":{"$error":"#DIV/0!"}},{"$f":"IF(V13=0,0,(V13*((LOG(V13))/LOG(2))))","v":{"$error":"#DIV/0!"}},null,{"$f":"N13","v":0},{"$f":"COUNTIF(L14:L20,Y13)","v":0},{"$f":"Z13/(AB4-Z8)","v":0},{"$f":"IF(AA13=0,0,(AA13*((LOG(AA13))/LOG(2))))","v":0},null,{"$f":"N13","v":0},{"$f":"COUNTIF(L21:L28,AD13)","v":0},{"$f":"AE13/(AG4-AE8)","v":0},{"$f":"IF(AF13=0,0,(AF13*((LOG(AF13))/LOG(2))))","v":0},null,{"$f":"N13","v":0},{"$f":"COUNTIF(L29:L35,AI13)","v":0},{"$f":"AJ13/(AL4-AJ8)","v":0},{"$f":"IF(AK13=0,0,(AK13*((LOG(AK13))/LOG(2))))","v":0},null,{"$f":"N13","v":0},{"$f":"COUNTIF(L36:L42,AN13)","v":0},{"$f":"AO13/(AQ4-AO8)","v":0},{"$f":"IF(AP13=0,0,(AP13*((LOG(AP13))/LOG(2))))","v":0},null,{"$f":"N13","v":0},{"$f":"COUNTIF(L43:L49,AS13)","v":0},{"$f":"AT13/(AV4-AT8)","v":{"$error":"#DIV/0!"}},{"$f":"IF(AU13=0,0,(AU13*((LOG(AU13))/LOG(2))))","v":{"$error":"#DIV/0!"}}]
[11,799,12,810,null,null,null,null,null,null,0,11,null,null,null,null,null,null,null,{"$f":"N14","v":0},{"$f":"COUNTIF(L7:L13,T14)","v":0},{"$f":"U14/(W4-U8)","v":{"$error":"#DIV/0!"}},{"$f":"IF(V14=0,0,(V14*((LOG(V14))/LOG(2))))","v":{"$error":"#DIV/0!"}},null,{"$f":"N14","v":0},{"$f":"COUNTIF(L14:L20,Y14)","v":0},{"$f":"Z14/(AB4-Z8)","v":0},{"$f":"IF(AA14=0,0,(AA14*((LOG(AA14))/LOG(2))))","v":0},null,{"$f":"N14","v":0},{"$f":"COUNTIF(L21:L28,AD14)","v":0},{"$f":"AE14/(AG4-AE8)","v":0},{"$f":"IF(AF14=0,0,(AF14*((LOG(AF14))/LOG(2))))","v":0},null,{"$f":"N14","v":0},{"$f":"COUNTIF(L29:L35,AI14)","v":0},{"$f":"AJ14/(AL4-AJ8)","v":0},{"$f":"IF(AK14=0,0,(AK14*((LOG(AK14))/LOG(2))))","v":0},null,{"$f":"N14","v":0},{"$f":"COUNTIF(L36:L42,AN14)","v":0},{"$f":"AO14/(AQ4-AO8)","v":0},{"$f":"IF(AP14=0,0,(AP14*((LOG(AP14))/LOG(2))))","v":0},null,{"$f":"N14","v":0},{"$f":"COUNTIF(L43:L49,AS14)","v":0},{"$f":"AT14/(AV4-AT8)","v":{"$error":"#DIV/0!"}},{"$f":"IF(AU14=0,0,(AU14*((LOG(AU14))/LOG(2))))","v":{"$error":"#DIV/0!"}}]
[11,914,21,933,null,null,null,null,null,null,0,12,null,null,null,{"$f":"SUM(P7:P14)","v":0.99999999999999989},{"$f":"-SUM(Q7:Q14)","v":0.53950460271075651},null,null,null,null,{"$f":"SUM(V7:V14)","v":{"$error":"#DIV/0!"}},{"$f":"-SUM(W7:W14)","v":{"$error":"#DIV/0!"}},null,null,null,{"$f":"SUM(AA7:AA14)","v":1},{"$f":"-SUM(AB7:AB14)","v":0},null,null,null,{"$f":"SUM(AF7:AF14)","v":1},{"$f":"-SUM(AG7:AG14)","v":0},null,null,null,{"$f":"SUM(AK7:AK14)","v":1},{"$f":"-SUM(AL7:AL14)","v":0},null,null,null,{"$f":"SUM(AP7:AP14)","v":1},{"$f":"-SUM(AQ7:AQ14)","v":0},null,null,null,{"$f":"SUM(AU7:AU14)","v":{"$error":"#DIV/0!"}},{"$f":"-SUM(AV7:AV14)","v":{"$error":"#DIV/0!"}}]
[11,1031,21,1044,null,null,null,null,null,null,0,12,null,null,null,"U=",{"$f":"Q15/(LOG(Q4)/LOG(2))","v":9.9424673711921624E-2},null,null,null,null,"U1=",{"$f":"W15/(LOG(W4)/LOG(2))","v":{"$error":"#DIV/0!"}},null,null,null,"U2=",{"$f":"AB15/(LOG(AB4)/LOG(2))","v":0},null,null,null,"U3=",{"$f":"AG15/(LOG(AG4)/LOG(2))","v":0},null,null,null,"U4=",{"$f":"AL15/(LOG(AL4)/LOG(2))","v":0},null,null,null,"U5=",{"$f":"AQ15/(LOG(AQ4)/LOG(2))","v":0},null,null,null,"U6=",{"$f":"AV15/(LOG(AV4)/LOG(2))","v":{"$error":"#DIV/0!"}}]
[11,1140,21,1154,null,null,null,null,null,null,0,12]
[11,1248,21,1266,null,null,null,null,null,null,0,12]
[11,1362,21,1376,null,null,null,null,null,null,0,12,null,"Total Target Seq"]
[11,1469,21,1484,null,null,null,null,null,null,0,12,null,{"$f":"COUNTIF(L7:L49,G3)","v":39},null,7,7,8,7,7,7]
[11,1579,21,1594,null,null,null,null,null,null,0,12,null,null,null,"% of reinforcement given in 6 equal intervals based on number of trials "]
[11,1691,21,1731,null,null,null,null,null,null,0,12,null,null,null,"%_1","%_2","%_3","%_4","%_5","%_6"]
[11,1828,21,1845,null,null,null,null,null,null,0,12,null,null,"target sequence",{"$f":"$G$3","v":12},{"$f":"$G$3","v":12},{"$f":"$G$3","v":12},{"$f":"$G$3","v":12},{"$f":"$G$3","v":12},{"$f":"$G$3","v":12}]
[11,1943,21,1957,null,null,null,null,null,null,0,12,null,null,"total reinforcement",{"$f":"U8","v":7},{"$f":"Z8","v":6},{"$f":"AE8","v":7},{"$f":"AJ8","v":6},{"$f":"AO8","v":6},{"$f":"AT8","v":7}]
[11,2052,21,2066,null,null,null,null,null,null,0,12,null,null,"% target"]
[11,2164,21,2175,null,null,null,null,null,null,0,12,null,null,"CCRF"]
[11,2270,21,2279,null,null,null,null,null,null,0,12,null,null,"% CCRf"]
[22,2426,23,2461,null,null,null,null,null,null,0,22,null,null,"average response rate",{"$f":"D13/P20","v":100.42857142857143},{"$f":"(D20-D13)/Q20","v":111.57142857142857},{"$f":"(D28-D20)/R20","v":122.125},{"$f":"(D35-D28)/S20","v":116},{"$f":"(D42-D35)/T20","v":122.28571428571429},{"$f":"(D49-D42)/U20","v":116.14285714285714}]
[11,2571,21,2584,null,null,null,null,null,null,0,12]
[11,2681,21,2690,null,null,null,null,null,null,0,12]
[11,2788,12,2818,null,null,null,null,null,null,0,11]
[11,2923,21,2937,null,null,null,null,null,null,0,12]
[11,3033,21,3046,null,null,null,null,null,null,0,12]
[11,3144,21,3159,null,null,null,null,null,null,0,12]
[11,3260,21,3273,null,null,null,null,null,null,0,12]
[11,3367,21,3380,null,null,null,null,null,null,0,12]
[11,3474,21,3515,null,null,null,null,null,null,0,12]
[11,3613,21,3627,null,null,null,null,null,null,0,12]
[11,3724,21,3735,null,null,null,null,null,null,0,12]
[11,3832,21,3866,null,null,null,null,null,null,0,12]
[22,3996,23,4012,null,null,null,null,null,null,0,22]
[11,4116,21,4129,null,null,null,null,null,null,0,12]
[11,4227,21,4240,null,null,null,null,null,null,0,12]
[11,4335,21,4379,null,null,null,null,null,null,0,12]
[11,4476,21,4489,null,null,null,null,null,null,0,12]
[11,4585,21,4615,null,null,null,null,null,null,0,12]
[11,4723,21,4732,null,null,null,null,null,null,0,12]
[11,4826,21,4837,null,null,null,null,null,null,0,12]
[11,4931,21,4942,null,null,null,null,null,null,1,12]

{"sheet":"!MC17950.105","index":21,"n_rows":53,"n_cols":48,"rows_kept":53,"cut":false,"hidden":false,"merged":[[4,39,4,42],[5,39,5,40],[4,44,4,47],[5,44,5,45],[4,24,4,27],[5,24,5,25],[4,29,4,32],[5,29,5,30],[4,34,4,37],[5,34,5,35],[1,1,1,2],[5,13,5,14],[18,13,18,14],[19,13,19,14],[4,19,4,22],[5,19,5,20]]}
["Report for:!MC17950.105"]
["Date:","<date>"]
["Hen:","<hen>",null,null,null,"Correct Sequence",{"$f":"Start!J2","v":12},null,null,null,null,null,null,null,null,"Total Sequences in Data",{"$f":"4994-COUNTBLANK(L7:L5000)","v":47},null,null,null,null,"Total Sequences in Block Data",{"$f":"COUNTA(L7:L14)","v":8},null,null,null,"Total Sequences in Block Data",{"$f":"COUNTA(L15:L22)","v":8},null,null,null,"Total Sequences in Block Data",{"$f":"COUNTA(L23:L29)","v":7},null,null,null,"Total Sequences in Block Data",{"$f":"COUNTA(L30:L37)","v":8},null,null,null,"Total Sequences in Block Data",{"$f":"COUNTA(L38:L45)","v":8},null,null,null,"Total Sequences in Block Data",{"$f":"COUNTA(L46:L53)","v":8}]
[null,null,null,null,null,null,null,null,null,null,null,null,null,null,null,"Total Sequences in Summary",{"$f":"SUM(O7:O14)","v":47},null,null,null,null,"Total Sequences in Block Summary",{"$f":"SUM(U7:U14)","v":8},null,null,null,"Total Sequences in Block Summary",{"$f":"SUM(Z7:Z14)","v":8},null,null,null,"Total Sequences in Block Summary",{"$f":"SUM(AE7:AE14)","v":7},null,null,null,"Total Sequences in Block Summary",{"$f":"SUM(AJ7:AJ14)","v":8},null,null,null,"Total Sequences in Block Summary",{"$f":"SUM(AO7:AO14)","v":8},null,null,null,"Total Sequences in Block Summary",{"$f":"SUM(AT7:AT14)","v":8}]
[null,null,null,null,null,null,null,null,null,null,null,null,null,null,null,null,null,null,null,"Block 1",null,null,null,null,"Block 2",null,null,null,null,"Block 3",null,null,null,null,"Block 4",null,null,null,null,"Block 5",null,null,null,null,"Block 6"]
["Sequence\nComponent\n1","Time\n1","Sequence\nComponent\n2","Time\n2","Sequence\nComponent\n3","Time\n3","Sequence\nComponent\n4","Time\n4","Sequence\nComponent\n5","Time\n5","Correct?\n0=No 1=Yes","Sequence",null,"Frequency",null,"Relative Frequency","Variability",null,null,"Frequency",null,"Relative Frequency","Variability",null,"Frequency",null,"Relative Frequency","Variability",null,"Frequency",null,"Relative Frequency","Variability",null,"Frequency",null,"Relative Frequency","Variability",null,"Frequency",null,"Relative Frequency","Variability",null,"Frequency",null,"Relative Frequency","Variability"]
[11,20,21,41,null,null,null,null,null,null,0,12,null,11,{"$f":"COUNTIF($L$7:$L$500,N7)","v":1},{"$f":"O7/$Q$4","v":2.1276595744680851E-2},{"$f":"IF(P7=0,0,(P7*((LOG(P7))/LOG(2))))","v":-0.11818274152505612},null,null,{"$f":"N7","v":11},{"$f":"COUNTIF(L7:L14,T7)","v":1},{"$f":"U7/(W4-U8)","v":0.33333333333333331},{"$f":"IF(V7=0,0,(V7*((LOG(V7))/LOG(2))))","v":-0.52832083357371862},null,{"$f":"N7","v":11},{"$f":"COUNTIF(L15:L22,Y7)","v":0},{"$f":"Z7/(AB4-Z8)","v":{"$error":"#DIV/0!"}},{"$f":"IF(AA7=0,0,(AA7*((LOG(AA7))/LOG(2))))","v":{"$error":"#DIV/0!"}},null,{"$f":"N7","v":11},{"$f":"COUNTIF(L23:L29,AD7)","v":0},{"$f":"AE7/(AG4-AE8)","v":{"$error":"#DIV/0!"}},{"$f":"IF(AF7=0,0,(AF7*((LOG(AF7))/LOG(2))))","v":{"$error":"#DIV/0!"}},null,{"$f":"N7","v":11},{"$f":"COUNTIF(L30:L37,AI7)","v":0},{"$f":"AJ7/(AL4-AJ8)","v":{"$error":"#DIV/0!"}},{"$f":"IF(AK7=0,0,(AK7*((LOG(AK7))/LOG(2))))","v":{"$error":"#DIV/0!"}},null,{"$f":"N7","v":11},{"$f":"COUNTIF(L38:L45,AN7)","v":0},{"$f":"AO7/(AQ4-AO8)","v":0},{"$f":"IF(AP7=0,0,(AP7*((LOG(AP7))/LOG(2))))","v":0},null,{"$f":"N7","v":11},{"$f":"COUNTIF(L46:L53,AS7)","v":0},{"$f":"AT7/(AV4-AT8)","v":0},{"$f":"IF(AU7=0,0,(AU7*((LOG(AU7))/LOG(2))))","v":0}]
[11,134,21,148,null,null,null,null,null,null,0,12,null,12,{"$f":"COUNTIF($L$7:$L$500,N8)","v":39},{"$f":"O8/$Q$4","v":0.82978723404255317},{"$f":"IF(P8=0,0,(P8*((LOG(P8))/LOG(2))))","v":-0.22336763148511007},null,null,{"$f":"N8","v":12},{"$f":"COUNTIF(L7:L14,T8)","v":5},null,null,null,{"$f":"N8","v":12},{"$f":"COUNTIF(L15:L22,Y8)","v":8},null,null,null,{"$f":"N8","v":12},{"$f":"COUNTIF(L23:L29,AD8)","v":7},null,null,null,{"$f":"N8","v":12},{"$f":"COUNTIF(L30:L37,AI8)","v":8},null,null,null,{"$f":"N8","v":12},{"$f":"COUNTIF(L38:L45,AN8)","v":5},null,null,null,{"$f":"N8","v":12},{"$f":"COUNTIF(L46:L53,AS8)","v":6}]
[11,250,21,276,null,null,null,null,null,null,0,12,null,21,{"$f":"COUNTIF($L$7:$L$500,N9)","v":1},{"$f":"O9/$Q$4","v":2.1276595744680851E-2},{"$f":"IF(P9=0,0,(P9*((LOG(P9))/LOG(2))))","v":-0.11818274152505612},null,null,{"$f":"N9","v":21},{"$f":"COUNTIF(L7:L14,T9)","v":1},{"$f":"U9/(W4-U8)","v":0.33333333333333331},{"$f":"IF(V9=0,0,(V9*((LOG(V9))/LOG(2))))","v":-0.52832083357371862},null,{"$f":"N9","v":21},{"$f":"COUNTIF(L15:L22,Y9)","v":0},{"$f":"Z9/(AB4-Z8)","v":{"$error":"#DIV/0!"}},{"$f":"IF(AA9=0,0,(AA9*((LOG(AA9))/LOG(2))))","v":{"$error":"#DIV/0!"}},null,{"$f":"N9","v":21},{"$f":"COUNTIF(L23:L29,AD9)","v":0},{"$f":"AE9/(AG4-AE8)","v":{"$error":"#DIV/0!"}},{"$f":"IF(AF9=0,0,(AF9*((LOG(AF9))/LOG(2))))","v":{"$error":"#DIV/0!"}},null,{"$f":"N9","v":21},{"$f":"COUNTIF(L30:L37,AI9)","v":0},{"$f":"AJ9/(AL4-AJ8)","v":{"$error":"#DIV/0!"}},{"$f":"IF(AK9=0,0,(AK9*((LOG(AK9))/LOG(2))))","v":{"$error":"#DIV/0!"}},null,{"$f":"N9","v":21},{"$f":"COUNTIF(L38:L45,AN9)","v":0},{"$f":"AO9/(AQ4-AO8)","v":0},{"$f":"IF(AP9=0,0,(AP9*((LOG(AP9))/LOG(2))))","v":0},null,{"$f":"N9","v":21},{"$f":"COUNTIF(L46:L53,AS9)","v":0},{"$f":"AT9/(AV4-AT8)","v":0},{"$f":"IF(AU9=0,0,(AU9*((LOG(AU9))/LOG(2))))","v":0}]
[22,400,23,421,null,null,null,null,null,null,0,22,null,22,{"$f":"COUNTIF($L$7:$L$500,N10)","v":6},{"$f":"O10/$Q$4","v":0.1276595744680851},{"$f":"IF(P10=0,0,(P10*((LOG(P10))/LOG(2))))","v":-0.37910123629231673},null,null,{"$f":"N10","v":22},{"$f":"COUNTIF(L7:L14,T10)","v":1},{"$f":"U10/(W4-U8)","v":0.33333333333333331},{"$f":"IF(V10=0,0,(V10*((LOG(V10))/LOG(2))))","v":-0.52832083357371862},null,{"$f":"N10","v":22},{"$f":"COUNTIF(L15:L22,Y10)","v":0},{"$f":"Z10/(AB4-Z8)","v":{"$error":"#DIV/0!"}},{"$f":"IF(AA10=0,0,(AA10*((LOG(AA10))/LOG(2))))","v":{"$error":"#DIV/0!"}},null,{"$f":"N10","v":22},{"$f":"COUNTIF(L23:L29,AD10)","v":0},{"$f":"AE10/(AG4-AE8)","v":{"$error":"#DIV/0!"}},{"$f":"IF(AF10=0,0,(AF10*((LOG(AF10))/LOG(2))))","v":{"$error":"#DIV/0!"}},null,{"$f":"N10","v":22},{"$f":"COUNTIF(L30:L37,AI10)","v":0},{"$f":"AJ10/(AL4-AJ8)","v":{"$error":"#DIV/0!"}},{"$f":"IF(AK10=0,0,(AK10*((LOG(AK10))/LOG(2))))","v":{"$error":"#DIV/0!"}},null,{"$f":"N10","v":22},{"$f":"COUNTIF(L38:L45,AN10)","v":3},{"$f":"AO10/(AQ4-AO8)","v":1},{"$f":"IF(AP10=0,0,(AP10*((LOG(AP10))/LOG(2))))","v":0},null,{"$f":"N10","v":22},{"$f":"COUNTIF(L46:L53,AS10)","v":2},{"$f":"AT10/(AV4-AT8)","v":1},{"$f":"IF(AU10=0,0,(AU10*((LOG(AU10))/LOG(2))))","v":0}]
[11,529,21,568,null,null,null,null,null,null,0,12,null,null,null,null,null,null,null,{"$f":"N11","v":0},{"$f":"COUNTIF(L7:L14,T11)","v":0},{"$f":"U11/(W4-U8)","v":0},{"$f":"IF(V11=0,0,(V11*((LOG(V11))/LOG(2))))","v":0},null,{"$f":"N11","v":0},{"$f":"COUNTIF(L15:L22,Y11)","v":0},{"$f":"Z11/(AB4-Z8)","v":{"$error":"#DIV/0!"}},{"$f":"IF(AA11=0,0,(AA11*((LOG(AA11))/LOG(2))))","v":{"$error":"#DIV/0!"}},null,{"$f":"N11","v":0},{"$f":"COUNTIF(L23:L29,AD11)","v":0},{"$f":"AE11/(AG4-AE8)","v":{"$error":"#DIV/0!"}},{"$f":"IF(AF11=0,0,(AF11*((LOG(AF11))/LOG(2))))","v":{"$error":"#DIV/0!"}},null,{"$f":"N11","v":0},{"$f":"COUNTIF(L30:L37,AI11)","v":0},{"$f":"AJ11/(AL4-AJ8)","v":{"$error":"#DIV/0!"}},{"$f":"IF(AK11=0,0,(AK11*((LOG(AK11))/LOG(2))))","v":{"$error":"#DIV/0!"}},null,{"$f":"N11","v":0},{"$f":"COUNTIF(L38:L45,AN11)","v":0},{"$f":"AO11/(AQ4-AO8)","v":0},{"$f":"IF(AP11=0,0,(AP11*((LOG(AP11))/LOG(2))))","v":0},null,{"$f":"N11","v":0},{"$f":"COUNTIF(L46:L53,AS11)","v":0},{"$f":"AT11/(AV4-AT8)","v":0},{"$f":"IF(AU11=0,0,(AU11*((LOG(AU11))/LOG(2))))","v":0}]
[22,680,14,699,null,null,null,null,null,null,0,21,null,null,null,null,null,null,null,{"$f":"N12","v":0},{"$f":"COUNTIF(L7:L14,T12)","v":0},{"$f":"U12/(W4-U8)","v":0},{"$f":"IF(V12=0,0,(V12*((LOG(V12))/LOG(2))))","v":0},null,{"$f":"N12","v":0},{"$f":"COUNTIF(L15:L22,Y12)","v":0},{"$f":"Z12/(AB4-Z8)","v":{"$error":"#DIV/0!"}},{"$f":"IF(AA12=0,0,(AA12*((LOG(AA12))/LOG(2))))","v":{"$error":"#DIV/0!"}},null,{"$f":"N12","v":0},{"$f":"COUNTIF(L23:L29,AD12)","v":0},{"$f":"AE12/(AG4-AE8)","v":{"$error":"#DIV/0!"}},{"$f":"IF(AF12=0,0,(AF12*((LOG(AF12))/LOG(2))))","v":{"$error":"#DIV/0!"}},null,{"$f":"N12","v":0},{"$f":"COUNTIF(L30:L37,AI12)","v":0},{"$f":"AJ12/(AL4-AJ8)","v":{"$error":"#DIV/0!"}},{"$f":"IF(AK12=0,0,(AK12*((LOG(AK12))/LOG(2))))","v":{"$error":"#DIV/0!"}},null,{"$f":"N12","v":0},{"$f":"COUNTIF(L38:L45,AN12)","v":0},{"$f":"AO12/(AQ4-AO8)","v":0},{"$f":"IF(AP12=0,0,(AP12*((LOG(AP12))/LOG(2))))","v":0},null,{"$f":"N12","v":0},{"$f":"COUNTIF(L46:L53,AS12)","v":0},{"$f":"AT12/(AV4-AT8)","v":0},{"$f":"IF(AU12=0,0,(AU12*((LOG(AU12))/LOG(2))))","v":0}]
[11,801,21,816,null,null,null,null,null,null,0,12,null,null,null,null,null,null,null,{"$f":"N13","v":0},{"$f":"COUNTIF(L7:L14,T13)","v":0},{"$f":"U13/(W4-U8)","v":0},{"$f":"IF(V13=0,0,(V13*((LOG(V13))/LOG(2))))","v":0},null,{"$f":"N13","v":0},{"$f":"COUNTIF(L15:L22,Y13)","v":0},{"$f":"Z13/(AB4-Z8)","v":{"$error":"#DIV/0!"}},{"$f":"IF(AA13=0,0,(AA13*((LOG(AA13))/LOG(2))))","v":{"$error":"#DIV/0!"}},null,{"$f":"N13","v":0},{"$f":"COUNTIF(L23:L29,AD13)","v":0},{"$f":"AE13/(AG4-AE8)","v":{"$error":"#DIV/0!"}},{"$f":"IF(AF13=0,0,(AF13*((LOG(AF13))/LOG(2))))","v":{"$error":"#DIV/0!"}},null,{"$f":"N13","v":0},{"$f":"COUNTIF(L30:L37,AI13)","v":0},{"$f":"AJ13/(AL4-AJ8)","v":{"$error":"#DIV/0!"}},{"$f":"IF(AK13=0,0,(AK13*((LOG(AK13))/LOG(2))))","v":{"$error":"#DIV/0!"}},null,{"$f":"N13","v":0},{"$f":"COUNTIF(L38:L45,AN13)","v":0},{"$f":"AO13/(AQ4-AO8)","v":0},{"$f":"IF(AP13=0,0,(AP13*((LOG(AP13))/LOG(2))))","v":0},null,{"$f":"N13","v":0},{"$f":"COUNTIF(L46:L53,AS13)","v":0},{"$f":"AT13/(AV4-AT8)","v":0},{"$f":"IF(AU13=0,0,(AU13*((LOG(AU13))/LOG(2))))","v":0}]
[11,914,12,925,null,null,null,null,null,null,0,11,null,null,null,null,null,null,null,{"$f":"N14","v":0},{"$f":"COUNTIF(L7:L14,T14)","v":0},{"$f":"U14/(W4-U8)","v":0},{"$f":"IF(V14=0,0,(V14*((LOG(V14))/LOG(2))))","v":0},null,{"$f":"N14","v":0},{"$f":"COUNTIF(L15:L22,Y14)","v":0},{"$f":"Z14/(AB4-Z8)","v":{"$error":"#DIV/0!"}},{"$f":"IF(AA14=0,0,(AA14*((LOG(AA14))/LOG(2))))","v":{"$error":"#DIV/0!"}},null,{"$f":"N14","v":0},{"$f":"COUNTIF(L23:L29,AD14)","v":0},{"$f":"AE14/(AG4-AE8)","v":{"$error":"#DIV/0!"}},{"$f":"IF(AF14=0,0,(AF14*((LOG(AF14))/LOG(2))))","v":{"$error":"#DIV/0!"}},null,{"$f":"N14","v":0},{"$f":"COUNTIF(L30:L37,AI14)","v":0},{"$f":"AJ14/(AL4-AJ8)","v":{"$error":"#DIV/0!"}},{"$f":"IF(AK14=0,0,(AK14*((LOG(AK14))/LOG(2))))","v":{"$error":"#DIV/0!"}},null,{"$f":"N14","v":0},{"$f":"COUNTIF(L38:L45,AN14)","v":0},{"$f":"AO14/(AQ4-AO8)","v":0},{"$f":"IF(AP14=0,0,(AP14*((LOG(AP14))/LOG(2))))","v":0},null,{"$f":"N14","v":0},{"$f":"COUNTIF(L46:L53,AS14)","v":0},{"$f":"AT14/(AV4-AT8)","v":0},{"$f":"IF(AU14=0,0,(AU14*((LOG(AU14))/LOG(2))))","v":0}]
[11,1034,21,1079,null,null,null,null,null,null,0,12,null,null,null,{"$f":"SUM(P7:P14)","v":1},{"$f":"-SUM(Q7:Q14)","v":0.8388343508275391},null,null,null,null,{"$f":"SUM(V7:V14)","v":1},{"$f":"-SUM(W7:W14)","v":1.5849625007211559},null,null,null,{"$f":"SUM(AA7:AA14)","v":{"$error":"#DIV/0!"}},{"$f":"-SUM(AB7:AB14)","v":{"$error":"#DIV/0!"}},null,null,null,{"$f":"SUM(AF7:AF14)","v":{"$error":"#DIV/0!"}},{"$f":"-SUM(AG7:AG14)","v":{"$error":"#DIV/0!"}},null,null,null,{"$f":"SUM(AK7:AK14)","v":{"$error":"#DIV/0!"}},{"$f":"-SUM(AL7:AL14)","v":{"$error":"#DIV/0!"}},null,null,null,{"$f":"SUM(AP7:AP14)","v":1},{"$f":"-SUM(AQ7:AQ14)","v":0},null,null,null,{"$f":"SUM(AU7:AU14)","v":1},{"$f":"-SUM(AV7:AV14)","v":0}]
[11,1175,21,1189,null,null,null,null,null,null,0,12,null,null,null,"U=",{"$f":"Q15/(LOG(Q4)/LOG(2))","v":0.15101646102468741},null,null,null,null,"U1=",{"$f":"W15/(LOG(W4)/LOG(2))","v":0.52832083357371862},null,null,null,"U2=",{"$f":"AB15/(LOG(AB4)/LOG(2))","v":{"$error":"#DIV/0!"}},null,null,null,"U3=",{"$f":"AG15/(LOG(AG4)/LOG(2))","v":{"$error":"#DIV/0!"}},null,null,null,"U4=",{"$f":"AL15/(LOG(AL4)/LOG(2))","v":{"$error":"#DIV/0!"}},null,null,null,"U5=",{"$f":"AQ15/(LOG(AQ4)/LOG(2))","v":0},null,null,null,"U6=",{"$f":"AV15/(LOG(AV4)/LOG(2))","v":0}]
[11,1281,21,1293,null,null,null,null,null,null,0,12]
[11,1392,21,1428,null,null,null,null,null,null,0,12]
[11,1527,21,1566,null,null,null,null,null,null,0,12,null,"Total Target Seq"]
[11,1662,21,1675,null,null,null,null,null,null,0,12,null,{"$f":"COUNTIF(L7:L53,G3)","v":39},null,8,8,7,8,8,8]
[11,1771,21,1812,null,null,null,null,null,null,0,12,null,null,null,"% of reinforcement given in 6 equal intervals based on number of trials "]
[11,1909,21,1921,null,null,null,null,null,null,0,12,null,null,null,"%_1","%_2","%_3","%_4","%_5","%_6"]
[11,2017,21,2030,null,null,null,null,null,null,0,12,null,null,"target sequence",{"$f":"$G$3","v":12},{"$f":"$G$3","v":12},{"$f":"$G$3","v":12},{"$f":"$G$3","v":12},{"$f":"$G$3","v":12},{"$f":"$G$3","v":12}]
[11,2125,21,2139,null,null,null,null,null,null,0,12,null,null,"total reinforcement",{"$f":"U8","v":5},{"$f":"Z8","v":8},{"$f":"AE8","v":7},{"$f":"AJ8","v":8},{"$f":"AO8","v":5},{"$f":"AT8","v":6}]
[11,2230,21,2247,null,null,null,null,null,null,0,12,null,null,"% target"]
[11,2338,21,2361,null,null,null,null,null,null,0,12,null,null,"CCRF"]
[11,2456,21,2466,null,null,null,null,null,null,0,12,null,null,"% CCRf"]
[11,2561,21,2574,null,null,null,null,null,null,0,12,null,null,"average response rate",{"$f":"D14/P20","v":115.625},{"$f":"(D22-D14)/Q20","v":124.5},{"$f":"(D29-D22)/R20","v":110},{"$f":"(D37-D29)/S20","v":113},{"$f":"(D45-D37)/T20","v":123.25},{"$f":"(D53-D45)/U20","v":123.25}]
[11,2671,21,2691,null,null,null,null,null,null,0,12]
[11,2789,21,2803,null,null,null,null,null,null,0,12]
[11,2897,21,2907,null,null,null,null,null,null,0,12]
[11,3002,21,3020,null,null,null,null,null,null,0,12]
[11,3115,21,3144,null,null,null,null,null,null,0,12]
[11,3238,21,3269,null,null,null,null,null,null,0,12]
[11,3365,21,3378,null,null,null,null,null,null,0,12]
[11,3473,21,3491,null,null,null,null,null,null,0,12]
[11,3583,21,3595,null,null,null,null,null,null,0,12]
[11,3689,21,3703,null,null,null,null,null,null,0,12]
[22,3803,23,3824,null,null,null,null,null,null,0,22]
[11,3930,21,3939,null,null,null,null,null,null,0,12]
[11,4045,21,4072,null,null,null,null,null,null,0,12]
[22,4180,23,4214,null,null,null,null,null,null,0,22]
[11,4316,21,4327,null,null,null,null,null,null,0,12]
[22,4434,23,4451,null,null,null,null,null,null,0,22]
[11,4565,21,4581,null,null,null,null,null,null,0,12]
[22,4689,23,4727,null,null,null,null,null,null,0,22]
[11,4832,21,4853,null,null,null,null,null,null,0,12]
[11,4950,21,4962,null,null,null,null,null,null,0,12]
[22,5069,23,5110,null,null,null,null,null,null,0,22]
[11,5225,21,5236,null,null,null,null,null,null,0,12]
[11,5332,21,5344,null,null,null,null,null,null,0,12]
[11,5439,21,5461,null,null,null,null,null,null,0,12]
[11,5556,21,5567,null,null,null,null,null,null,1,12]

{"sheet":"!MC18B40.105","index":22,"n_rows":47,"n_cols":48,"rows_kept":47,"cut":false,"hidden":false,"merged":[[4,39,4,42],[5,39,5,40],[4,44,4,47],[5,44,5,45],[4,24,4,27],[5,24,5,25],[4,29,4,32],[5,29,5,30],[4,34,4,37],[5,34,5,35],[1,1,1,2],[5,13,5,14],[18,13,18,14],[19,13,19,14],[4,19,4,22],[5,19,5,20]]}
["Report for:!MC18B40.105"]
["Date:","<date>"]
["Hen:","<hen>",null,null,null,"Correct Sequence",{"$f":"Start!J2","v":12},null,null,null,null,null,null,null,null,"Total Sequences in Data",{"$f":"4994-COUNTBLANK(L7:L5000)","v":41},null,null,null,null,"Total Sequences in Block Data",{"$f":"COUNTA(L7:L13)","v":7},null,null,null,"Total Sequences in Block Data",{"$f":"COUNTA(L14:L20)","v":7},null,null,null,"Total Sequences in Block Data",{"$f":"COUNTA(L21:L26)","v":6},null,null,null,"Total Sequences in Block Data",{"$f":"COUNTA(L27:L33)","v":7},null,null,null,"Total Sequences in Block Data",{"$f":"COUNTA(L34:L40)","v":7},null,null,null,"Total Sequences in Block Data",{"$f":"COUNTA(L41:L47)","v":7}]
[null,null,null,null,null,null,null,null,null,null,null,null,null,null,null,"Total Sequences in Summary",{"$f":"SUM(O7:O14)","v":41},null,null,null,null,"Total Sequences in Block Summary",{"$f":"SUM(U7:U14)","v":7},null,null,null,"Total Sequences in Block Summary",{"$f":"SUM(Z7:Z14)","v":7},null,null,null,"Total Sequences in Block Summary",{"$f":"SUM(AE7:AE14)","v":6},null,null,null,"Total Sequences in Block Summary",{"$f":"SUM(AJ7:AJ14)","v":7},null,null,null,"Total Sequences in Block Summary",{"$f":"SUM(AO7:AO14)","v":7},null,null,null,"Total Sequences in Block Summary",{"$f":"SUM(AT7:AT14)","v":7}]
[null,null,null,null,null,null,null,null,null,null,null,null,null,null,null,null,null,null,null,"Block 1",null,null,null,null,"Block 2",null,null,null,null,"Block 3",null,null,null,null,"Block 4",null,null,null,null,"Block 5",null,null,null,null,"Block 6"]
["Sequence\nComponent\n1","Time\n1","Sequence\nComponent\n2","Time\n2","Sequence\nComponent\n3","Time\n3","Sequence\nComponent\n4","Time\n4","Sequence\nComponent\n5","Time\n5","Correct?\n0=No 1=Yes","Sequence",null,"Frequency",null,"Relative Frequency","Variability",null,null,"Frequency",null,"Relative Frequency","Variability",null,"Frequency",null,"Relative Frequency","Variability",null,"Frequency",null,"Relative Frequency","Variability",null,"Frequency",null,"Relative Frequency","Variability",null,"Frequency",null,"Relative Frequency","Variability",null,"Frequency",null,"Relative Frequency","Variability"]
[11,21,21,32,null,null,null,null,null,null,0,12,null,11,{"$f":"COUNTIF($L$7:$L$500,N7)","v":1},{"$f":"O7/$Q$4","v":2.4390243902439025E-2},{"$f":"IF(P7=0,0,(P7*((LOG(P7))/LOG(2))))","v":-0.13067200011263619},null,null,{"$f":"N7","v":11},{"$f":"COUNTIF(L7:L13,T7)","v":1},{"$f":"U7/(W4-U8)","v":1},{"$f":"IF(V7=0,0,(V7*((LOG(V7))/LOG(2))))","v":0},null,{"$f":"N7","v":11},{"$f":"COUNTIF(L14:L20,Y7)","v":0},{"$f":"Z7/(AB4-Z8)","v":{"$error":"#DIV/0!"}},{"$f":"IF(AA7=0,0,(AA7*((LOG(AA7))/LOG(2))))","v":{"$error":"#DIV/0!"}},null,{"$f":"N7","v":11},{"$f":"COUNTIF(L21:L26,AD7)","v":0},{"$f":"AE7/(AG4-AE8)","v":{"$error":"#DIV/0!"}},{"$f":"IF(AF7=0,0,(AF7*((LOG(AF7))/LOG(2))))","v":{"$error":"#DIV/0!"}},null,{"$f":"N7","v":11},{"$f":"COUNTIF(L27:L33,AI7)","v":0},{"$f":"AJ7/(AL4-AJ8)","v":{"$error":"#DIV/0!"}},{"$f":"IF(AK7=0,0,(AK7*((LOG(AK7))/LOG(2))))","v":{"$error":"#DIV/0!"}},null,{"$f":"N7","v":11},{"$f":"COUNTIF(L34:L40,AN7)","v":0},{"$f":"AO7/(AQ4-AO8)","v":{"$error":"#DIV/0!"}},{"$f":"IF(AP7=0,0,(AP7*((LOG(AP7))/LOG(2))))","v":{"$error":"#DIV/0!"}},null,{"$f":"N7","v":11},{"$f":"COUNTIF(L41:L47,AS7)","v":0},{"$f":"AT7/(AV4-AT8)","v":{"$error":"#DIV/0!"}},{"$f":"IF(AU7=0,0,(AU7*((LOG(AU7))/LOG(2))))","v":{"$error":"#DIV/0!"}}]
[11,135,21,150,null,null,null,null,null,null,0,12,null,12,{"$f":"COUNTIF($L$7:$L$500,N8)","v":40},{"$f":"O8/$Q$4","v":0.97560975609756095},{"$f":"IF(P8=0,0,(P8*((LOG(P8))/LOG(2))))","v":-3.4755033883630611E-2},null,null,{"$f":"N8","v":12},{"$f":"COUNTIF(L7:L13,T8)","v":6},null,null,null,{"$f":"N8","v":12},{"$f":"COUNTIF(L14:L20,Y8)","v":7},null,null,null,{"$f":"N8","v":12},{"$f":"COUNTIF(L21:L26,AD8)","v":6},null,null,null,{"$f":"N8","v":12},{"$f":"COUNTIF(L27:L33,AI8)","v":7},null,null,null,{"$f":"N8","v":12},{"$f":"COUNTIF(L34:L40,AN8)","v":7},null,null,null,{"$f":"N8","v":12},{"$f":"COUNTIF(L41:L47,AS8)","v":7}]
[11,248,21,259,null,null,null,null,null,null,0,12,null,21,{"$f":"COUNTIF($L$7:$L$500,N9)","v":0},{"$f":"O9/$Q$4","v":0},{"$f":"IF(P9=0,0,(P9*((LOG(P9))/LOG(2))))","v":0},null,null,{"$f":"N9","v":21},{"$f":"COUNTIF(L7:L13,T9)","v":0},{"$f":"U9/(W4-U8)","v":0},{"$f":"IF(V9=0,0,(V9*((LOG(V9))/LOG(2))))","v":0},null,{"$f":"N9","v":21},{"$f":"COUNTIF(L14:L20,Y9)","v":0},{"$f":"Z9/(AB4-Z8)","v":{"$error":"#DIV/0!"}},{"$f":"IF(AA9=0,0,(AA9*((LOG(AA9))/LOG(2))))","v":{"$error":"#DIV/0!"}},null,{"$f":"N9","v":21},{"$f":"COUNTIF(L21:L26,AD9)","v":0},{"$f":"AE9/(AG4-AE8)","v":{"$error":"#DIV/0!"}},{"$f":"IF(AF9=0,0,(AF9*((LOG(AF9))/LOG(2))))","v":{"$error":"#DIV/0!"}},null,{"$f":"N9","v":21},{"$f":"COUNTIF(L27:L33,AI9)","v":0},{"$f":"AJ9/(AL4-AJ8)","v":{"$error":"#DIV/0!"}},{"$f":"IF(AK9=0,0,(AK9*((LOG(AK9))/LOG(2))))","v":{"$error":"#DIV/0!"}},null,{"$f":"N9","v":21},{"$f":"COUNTIF(L34:L40,AN9)","v":0},{"$f":"AO9/(AQ4-AO8)","v":{"$error":"#DIV/0!"}},{"$f":"IF(AP9=0,0,(AP9*((LOG(AP9))/LOG(2))))","v":{"$error":"#DIV/0!"}},null,{"$f":"N9","v":21},{"$f":"COUNTIF(L41:L47,AS9)","v":0},{"$f":"AT9/(AV4-AT8)","v":{"$error":"#DIV/0!"}},{"$f":"IF(AU9=0,0,(AU9*((LOG(AU9))/LOG(2))))","v":{"$error":"#DIV/0!"}}]
[11,364,21,377,null,null,null,null,null,null,0,12,null,22,{"$f":"COUNTIF($L$7:$L$500,N10)","v":0},{"$f":"O10/$Q$4","v":0},{"$f":"IF(P10=0,0,(P10*((LOG(P10))/LOG(2))))","v":0},null,null,{"$f":"N10","v":22},{"$f":"COUNTIF(L7:L13,T10)","v":0},{"$f":"U10/(W4-U8)","v":0},{"$f":"IF(V10=0,0,(V10*((LOG(V10))/LOG(2))))","v":0},null,{"$f":"N10","v":22},{"$f":"COUNTIF(L14:L20,Y10)","v":0},{"$f":"Z10/(AB4-Z8)","v":{"$error":"#DIV/0!"}},{"$f":"IF(AA10=0,0,(AA10*((LOG(AA10))/LOG(2))))","v":{"$error":"#DIV/0!"}},null,{"$f":"N10","v":22},{"$f":"COUNTIF(L21:L26,AD10)","v":0},{"$f":"AE10/(AG4-AE8)","v":{"$error":"#DIV/0!"}},{"$f":"IF(AF10=0,0,(AF10*((LOG(AF10))/LOG(2))))","v":{"$error":"#DIV/0!"}},null,{"$f":"N10","v":22},{"$f":"COUNTIF(L27:L33,AI10)","v":0},{"$f":"AJ10/(AL4-AJ8)","v":{"$error":"#DIV/0!"}},{"$f":"IF(AK10=0,0,(AK10*((LOG(AK10))/LOG(2))))","v":{"$error":"#DIV/0!"}},null,{"$f":"N10","v":22},{"$f":"COUNTIF(L34:L40,AN10)","v":0},{"$f":"AO10/(AQ4-AO8)","v":{"$error":"#DIV/0!"}},{"$f":"IF(AP10=0,0,(AP10*((LOG(AP10))/LOG(2))))","v":{"$error":"#DIV/0!"}},null,{"$f":"N10","v":22},{"$f":"COUNTIF(L41:L47,AS10)","v":0},{"$f":"AT10/(AV4-AT8)","v":{"$error":"#DIV/0!"}},{"$f":"IF(AU10=0,0,(AU10*((LOG(AU10))/LOG(2))))","v":{"$error":"#DIV/0!"}}]
[11,474,12,499,null,null,null,null,null,null,0,11,null,null,null,null,null,null,null,{"$f":"N11","v":0},{"$f":"COUNTIF(L7:L13,T11)","v":0},{"$f":"U11/(W4-U8)","v":0},{"$f":"IF(V11=0,0,(V11*((LOG(V11))/LOG(2))))","v":0},null,{"$f":"N11","v":0},{"$f":"COUNTIF(L14:L20,Y11)","v":0},{"$f":"Z11/(AB4-Z8)","v":{"$error":"#DIV/0!"}},{"$f":"IF(AA11=0,0,(AA11*((LOG(AA11))/LOG(2))))","v":{"$error":"#DIV/0!"}},null,{"$f":"N11","v":0},{"$f":"COUNTIF(L21:L26,AD11)","v":0},{"$f":"AE11/(AG4-AE8)","v":{"$error":"#DIV/0!"}},{"$f":"IF(AF11=0,0,(AF11*((LOG(AF11))/LOG(2))))","v":{"$error":"#DIV/0!"}},null,{"$f":"N11","v":0},{"$f":"COUNTIF(L27:L33,AI11)","v":0},{"$f":"AJ11/(AL4-AJ8)","v":{"$error":"#DIV/0!"}},{"$f":"IF(AK11=0,0,(AK11*((LOG(AK11))/LOG(2))))","v":{"$error":"#DIV/0!"}},null,{"$f":"N11","v":0},{"$f":"COUNTIF(L34:L40,AN11)","v":0},{"$f":"AO11/(AQ4-AO8)","v":{"$error":"#DIV/0!"}},{"$f":"IF(AP11=0,0,(AP11*((LOG(AP11))/LOG(2))))","v":{"$error":"#DIV/0!"}},null,{"$f":"N11","v":0},{"$f":"COUNTIF(L41:L47,AS11)","v":0},{"$f":"AT11/(AV4-AT8)","v":{"$error":"#DIV/0!"}},{"$f":"IF(AU11=0,0,(AU11*((LOG(AU11))/LOG(2))))","v":{"$error":"#DIV/0!"}}]
[11,606,21,619,null,null,null,null,null,null,0,12,null,null,null,null,null,null,null,{"$f":"N12","v":0},{"$f":"COUNTIF(L7:L13,T12)","v":0},{"$f":"U12/(W4-U8)","v":0},{"$f":"IF(V12=0,0,(V12*((LOG(V12))/LOG(2))))","v":0},null,{"$f":"N12","v":0},{"$f":"COUNTIF(L14:L20,Y12)","v":0},{"$f":"Z12/(AB4-Z8)","v":{"$error":"#DIV/0!"}},{"$f":"IF(AA12=0,0,(AA12*((LOG(AA12))/LOG(2))))","v":{"$error":"#DIV/0!"}},null,{"$f":"N12","v":0},{"$f":"COUNTIF(L21:L26,AD12)","v":0},{"$f":"AE12/(AG4-AE8)","v":{"$error":"#DIV/0!"}},{"$f":"IF(AF12=0,0,(AF12*((LOG(AF12))/LOG(2))))","v":{"$error":"#DIV/0!"}},null,{"$f":"N12","v":0},{"$f":"COUNTIF(L27:L33,AI12)","v":0},{"$f":"AJ12/(AL4-AJ8)","v":{"$error":"#DIV/0!"}},{"$f":"IF(AK12=0,0,(AK12*((LOG(AK12))/LOG(2))))","v":{"$error":"#DIV/0!"}},null,{"$f":"N12","v":0},{"$f":"COUNTIF(L34:L40,AN12)","v":0},{"$f":"AO12/(AQ4-AO8)","v":{"$error":"#DIV/0!"}},{"$f":"IF(AP12=0,0,(AP12*((LOG(AP12))/LOG(2))))","v":{"$error":"#DIV/0!"}},null,{"$f":"N12","v":0},{"$f":"COUNTIF(L41:L47,AS12)","v":0},{"$f":"AT12/(AV4-AT8)","v":{"$error":"#DIV/0!"}},{"$f":"IF(AU12=0,0,(AU12*((LOG(AU12))/LOG(2))))","v":{"$error":"#DIV/0!"}}]
[11,720,21,729,null,null,null,null,null,null,0,12,null,null,null,null,null,null,null,{"$f":"N13","v":0},{"$f":"COUNTIF(L7:L13,T13)","v":0},{"$f":"U13/(W4-U8)","v":0},{"$f":"IF(V13=0,0,(V13*((LOG(V13))/LOG(2))))","v":0},null,{"$f":"N13","v":0},{"$f":"COUNTIF(L14:L20,Y13)","v":0},{"$f":"Z13/(AB4-Z8)","v":{"$error":"#DIV/0!"}},{"$f":"IF(AA13=0,0,(AA13*((LOG(AA13))/LOG(2))))","v":{"$error":"#DIV/0!"}},null,{"$f":"N13","v":0},{"$f":"COUNTIF(L21:L26,AD13)","v":0},{"$f":"AE13/(AG4-AE8)","v":{"$error":"#DIV/0!"}},{"$f":"IF(AF13=0,0,(AF13*((LOG(AF13))/LOG(2))))","v":{"$error":"#DIV/0!"}},null,{"$f":"N13","v":0},{"$f":"COUNTIF(L27:L33,AI13)","v":0},{"$f":"AJ13/(AL4-AJ8)","v":{"$error":"#DIV/0!"}},{"$f":"IF(AK13=0,0,(AK13*((LOG(AK13))/LOG(2))))","v":{"$error":"#DIV/0!"}},null,{"$f":"N13","v":0},{"$f":"COUNTIF(L34:L40,AN13)","v":0},{"$f":"AO13/(AQ4-AO8)","v":{"$error":"#DIV/0!"}},{"$f":"IF(AP13=0,0,(AP13*((LOG(AP13))/LOG(2))))","v":{"$error":"#DIV/0!"}},null,{"$f":"N13","v":0},{"$f":"COUNTIF(L41:L47,AS13)","v":0},{"$f":"AT13/(AV4-AT8)","v":{"$error":"#DIV/0!"}},{"$f":"IF(AU13=0,0,(AU13*((LOG(AU13))/LOG(2))))","v":{"$error":"#DIV/0!"}}]
[11,823,21,836,null,null,null,null,null,null,0,12,null,null,null,null,null,null,null,{"$f":"N14","v":0},{"$f":"COUNTIF(L7:L13,T14)","v":0},{"$f":"U14/(W4-U8)","v":0},{"$f":"IF(V14=0,0,(V14*((LOG(V14))/LOG(2))))","v":0},null,{"$f":"N14","v":0},{"$f":"COUNTIF(L14:L20,Y14)","v":0},{"$f":"Z14/(AB4-Z8)","v":{"$error":"#DIV/0!"}},{"$f":"IF(AA14=0,0,(AA14*((LOG(AA14))/LOG(2))))","v":{"$error":"#DIV/0!"}},null,{"$f":"N14","v":0},{"$f":"COUNTIF(L21:L26,AD14)","v":0},{"$f":"AE14/(AG4-AE8)","v":{"$error":"#DIV/0!"}},{"$f":"IF(AF14=0,0,(AF14*((LOG(AF14))/LOG(2))))","v":{"$error":"#DIV/0!"}},null,{"$f":"N14","v":0},{"$f":"COUNTIF(L27:L33,AI14)","v":0},{"$f":"AJ14/(AL4-AJ8)","v":{"$error":"#DIV/0!"}},{"$f":"IF(AK14=0,0,(AK14*((LOG(AK14))/LOG(2))))","v":{"$error":"#DIV/0!"}},null,{"$f":"N14","v":0},{"$f":"COUNTIF(L34:L40,AN14)","v":0},{"$f":"AO14/(AQ4-AO8)","v":{"$error":"#DIV/0!"}},{"$f":"IF(AP14=0,0,(AP14*((LOG(AP14))/LOG(2))))","v":{"$error":"#DIV/0!"}},null,{"$f":"N14","v":0},{"$f":"COUNTIF(L41:L47,AS14)","v":0},{"$f":"AT14/(AV4-AT8)","v":{"$error":"#DIV/0!"}},{"$f":"IF(AU14=0,0,(AU14*((LOG(AU14))/LOG(2))))","v":{"$error":"#DIV/0!"}}]
[11,927,21,939,null,null,null,null,null,null,0,12,null,null,null,{"$f":"SUM(P7:P14)","v":1},{"$f":"-SUM(Q7:Q14)","v":0.16542703399626679},null,null,null,null,{"$f":"SUM(V7:V14)","v":1},{"$f":"-SUM(W7:W14)","v":0},null,null,null,{"$f":"SUM(AA7:AA14)","v":{"$error":"#DIV/0!"}},{"$f":"-SUM(AB7:AB14)","v":{"$error":"#DIV/0!"}},null,null,null,{"$f":"SUM(AF7:AF14)","v":{"$error":"#DIV/0!"}},{"$f":"-SUM(AG7:AG14)","v":{"$error":"#DIV/0!"}},null,null,null,{"$f":"SUM(AK7:AK14)","v":{"$error":"#DIV/0!"}},{"$f":"-SUM(AL7:AL14)","v":{"$error":"#DIV/0!"}},null,null,null,{"$f":"SUM(AP7:AP14)","v":{"$error":"#DIV/0!"}},{"$f":"-SUM(AQ7:AQ14)","v":{"$error":"#DIV/0!"}},null,null,null,{"$f":"SUM(AU7:AU14)","v":{"$error":"#DIV/0!"}},{"$f":"-SUM(AV7:AV14)","v":{"$error":"#DIV/0!"}}]
[11,1032,21,1045,null,null,null,null,null,null,0,12,null,null,null,"U=",{"$f":"Q15/(LOG(Q4)/LOG(2))","v":3.0877354779509855E-2},null,null,null,null,"U1=",{"$f":"W15/(LOG(W4)/LOG(2))","v":0},null,null,null,"U2=",{"$f":"AB15/(LOG(AB4)/LOG(2))","v":{"$error":"#DIV/0!"}},null,null,null,"U3=",{"$f":"AG15/(LOG(AG4)/LOG(2))","v":{"$error":"#DIV/0!"}},null,null,null,"U4=",{"$f":"AL15/(LOG(AL4)/LOG(2))","v":{"$error":"#DIV/0!"}},null,null,null,"U5=",{"$f":"AQ15/(LOG(AQ4)/LOG(2))","v":{"$error":"#DIV/0!"}},null,null,null,"U6=",{"$f":"AV15/(LOG(AV4)/LOG(2))","v":{"$error":"#DIV/0!"}}]
[11,1141,21,1154,null,null,null,null,null,null,0,12]
[11,1250,21,1264,null,null,null,null,null,null,0,12]
[11,1361,21,1376,null,null,null,null,null,null,0,12,null,"Total Target Seq"]
[11,1472,21,1485,null,null,null,null,null,null,0,12,null,{"$f":"COUNTIF(L7:L47,G3)","v":40},null,7,7,6,7,7,7]
[11,1579,21,1591,null,null,null,null,null,null,0,12,null,null,null,"% of reinforcement given in 6 equal intervals based on number of trials "]
[11,1687,21,1700,null,null,null,null,null,null,0,12,null,null,null,"%_1","%_2","%_3","%_4","%_5","%_6"]
[11,1800,21,1812,null,null,null,null,null,null,0,12,null,null,"target sequence",{"$f":"$G$3","v":12},{"$f":"$G$3","v":12},{"$f":"$G$3","v":12},{"$f":"$G$3","v":12},{"$f":"$G$3","v":12},{"$f":"$G$3","v":12}]
[11,1906,21,1919,null,null,null,null,null,null,0,12,null,null,"total reinforcement",{"$f":"U8","v":6},{"$f":"Z8","v":7},{"$f":"AE8","v":6},{"$f":"AJ8","v":7},{"$f":"AO8","v":7},{"$f":"AT8","v":7}]
[11,2013,21,2024,null,null,null,null,null,null,0,12,null,null,"% target"]
[11,2119,21,2133,null,null,null,null,null,null,0,12,null,null,"CCRF"]
[11,2230,21,2243,null,null,null,null,null,null,0,12,null,null,"% CCRf"]
[11,2338,21,2352,null,null,null,null,null,null,0,12,null,null,"average response rate",{"$f":"D13/P20","v":104.14285714285714},{"$f":"(D20-D13)/Q20","v":108},{"$f":"(D26-D20)/R20","v":108},{"$f":"(D33-D26)/S20","v":109.28571428571429},{"$f":"(D40-D33)/T20","v":105.85714285714286},{"$f":"(D47-D40)/U20","v":111.71428571428571}]
[11,2448,21,2461,null,null,null,null,null,null,0,12]
[11,2559,21,2573,null,null,null,null,null,null,0,12]
[11,2670,21,2681,null,null,null,null,null,null,0,12]
[11,2776,21,2793,null,null,null,null,null,null,0,12]
[11,2884,21,2898,null,null,null,null,null,null,0,12]
[11,2992,21,3004,null,null,null,null,null,null,0,12]
[11,3100,21,3113,null,null,null,null,null,null,0,12]
[11,3208,21,3218,null,null,null,null,null,null,0,12]
[11,3313,21,3326,null,null,null,null,null,null,0,12]
[11,3420,21,3431,null,null,null,null,null,null,0,12]
[11,3525,21,3537,null,null,null,null,null,null,0,12]
[11,3627,21,3639,null,null,null,null,null,null,0,12]
[11,3733,21,3743,null,null,null,null,null,null,0,12]
[11,3837,21,3849,null,null,null,null,null,null,0,12]
[11,3944,21,3955,null,null,null,null,null,null,0,12]
[11,4049,21,4062,null,null,null,null,null,null,0,12]
[11,4155,21,4166,null,null,null,null,null,null,0,12]
[11,4256,21,4274,null,null,null,null,null,null,0,12]
[11,4374,21,4421,null,null,null,null,null,null,1,12]

{"sheet":"!MC19B20.105","index":23,"n_rows":52,"n_cols":48,"rows_kept":52,"cut":false,"hidden":false,"merged":[[4,39,4,42],[5,39,5,40],[4,44,4,47],[5,44,5,45],[4,24,4,27],[5,24,5,25],[4,29,4,32],[5,29,5,30],[4,34,4,37],[5,34,5,35],[1,1,1,2],[5,13,5,14],[18,13,18,14],[19,13,19,14],[4,19,4,22],[5,19,5,20]]}
["Report for:!MC19B20.105"]
["Date:","<date>"]
["Hen:","<hen>",null,null,null,"Correct Sequence",{"$f":"Start!J2","v":12},null,null,null,null,null,null,null,null,"Total Sequences in Data",{"$f":"4994-COUNTBLANK(L7:L5000)","v":46},null,null,null,null,"Total Sequences in Block Data",{"$f":"COUNTA(L7:L14)","v":8},null,null,null,"Total Sequences in Block Data",{"$f":"COUNTA(L15:L21)","v":7},null,null,null,"Total Sequences in Block Data",{"$f":"COUNTA(L22:L29)","v":8},null,null,null,"Total Sequences in Block Data",{"$f":"COUNTA(L30:L37)","v":8},null,null,null,"Total Sequences in Block Data",{"$f":"COUNTA(L38:L44)","v":7},null,null,null,"Total Sequences in Block Data",{"$f":"COUNTA(L45:L52)","v":8}]
[null,null,null,null,null,null,null,null,null,null,null,null,null,null,null,"Total Sequences in Summary",{"$f":"SUM(O7:O14)","v":46},null,null,null,null,"Total Sequences in Block Summary",{"$f":"SUM(U7:U14)","v":8},null,null,null,"Total Sequences in Block Summary",{"$f":"SUM(Z7:Z14)","v":7},null,null,null,"Total Sequences in Block Summary",{"$f":"SUM(AE7:AE14)","v":8},null,null,null,"Total Sequences in Block Summary",{"$f":"SUM(AJ7:AJ14)","v":8},null,null,null,"Total Sequences in Block Summary",{"$f":"SUM(AO7:AO14)","v":7},null,null,null,"Total Sequences in Block Summary",{"$f":"SUM(AT7:AT14)","v":8}]
[null,null,null,null,null,null,null,null,null,null,null,null,null,null,null,null,null,null,null,"Block 1",null,null,null,null,"Block 2",null,null,null,null,"Block 3",null,null,null,null,"Block 4",null,null,null,null,"Block 5",null,null,null,null,"Block 6"]
["Sequence\nComponent\n1","Time\n1","Sequence\nComponent\n2","Time\n2","Sequence\nComponent\n3","Time\n3","Sequence\nComponent\n4","Time\n4","Sequence\nComponent\n5","Time\n5","Correct?\n0=No 1=Yes","Sequence",null,"Frequency",null,"Relative Frequency","Variability",null,null,"Frequency",null,"Relative Frequency","Variability",null,"Frequency",null,"Relative Frequency","Variability",null,"Frequency",null,"Relative Frequency","Variability",null,"Frequency",null,"Relative Frequency","Variability",null,"Frequency",null,"Relative Frequency","Variability",null,"Frequency",null,"Relative Frequency","Variability"]
[11,18,21,28,null,null,null,null,null,null,0,12,null,11,{"$f":"COUNTIF($L$7:$L$500,N7)","v":3},{"$f":"O7/$Q$4","v":6.5217391304347824E-2},{"$f":"IF(P7=0,0,(P7*((LOG(P7))/LOG(2))))","v":-0.25686518186972979},null,null,{"$f":"N7","v":11},{"$f":"COUNTIF(L7:L14,T7)","v":1},{"$f":"U7/(W4-U8)","v":1},{"$f":"IF(V7=0,0,(V7*((LOG(V7))/LOG(2))))","v":0},null,{"$f":"N7","v":11},{"$f":"COUNTIF(L15:L21,Y7)","v":0},{"$f":"Z7/(AB4-Z8)","v":{"$error":"#DIV/0!"}},{"$f":"IF(AA7=0,0,(AA7*((LOG(AA7))/LOG(2))))","v":{"$error":"#DIV/0!"}},null,{"$f":"N7","v":11},{"$f":"COUNTIF(L22:L29,AD7)","v":2},{"$f":"AE7/(AG4-AE8)","v":0.66666666666666663},{"$f":"IF(AF7=0,0,(AF7*((LOG(AF7))/LOG(2))))","v":-0.38997500048077083},null,{"$f":"N7","v":11},{"$f":"COUNTIF(L30:L37,AI7)","v":0},{"$f":"AJ7/(AL4-AJ8)","v":0},{"$f":"IF(AK7=0,0,(AK7*((LOG(AK7))/LOG(2))))","v":0},null,{"$f":"N7","v":11},{"$f":"COUNTIF(L38:L44,AN7)","v":0},{"$f":"AO7/(AQ4-AO8)","v":0},{"$f":"IF(AP7=0,0,(AP7*((LOG(AP7))/LOG(2))))","v":0},null,{"$f":"N7","v":11},{"$f":"COUNTIF(L45:L52,AS7)","v":0},{"$f":"AT7/(AV4-AT8)","v":0},{"$f":"IF(AU7=0,0,(AU7*((LOG(AU7))/LOG(2))))","v":0}]
[11,122,21,133,null,null,null,null,null,null,0,12,null,12,{"$f":"COUNTIF($L$7:$L$500,N8)","v":39},{"$f":"O8/$Q$4","v":0.84782608695652173},{"$f":"IF(P8=0,0,(P8*((LOG(P8))/LOG(2))))","v":-0.2019180380564308},null,null,{"$f":"N8","v":12},{"$f":"COUNTIF(L7:L14,T8)","v":7},null,null,null,{"$f":"N8","v":12},{"$f":"COUNTIF(L15:L21,Y8)","v":7},null,null,null,{"$f":"N8","v":12},{"$f":"COUNTIF(L22:L29,AD8)","v":5},null,null,null,{"$f":"N8","v":12},{"$f":"COUNTIF(L30:L37,AI8)","v":7},null,null,null,{"$f":"N8","v":12},{"$f":"COUNTIF(L38:L44,AN8)","v":6},null,null,null,{"$f":"N8","v":12},{"$f":"COUNTIF(L45:L52,AS8)","v":7}]
[11,228,21,240,null,null,null,null,null,null,0,12,null,21,{"$f":"COUNTIF($L$7:$L$500,N9)","v":0},{"$f":"O9/$Q$4","v":0},{"$f":"IF(P9=0,0,(P9*((LOG(P9))/LOG(2))))","v":0},null,null,{"$f":"N9","v":21},{"$f":"COUNTIF(L7:L14,T9)","v":0},{"$f":"U9/(W4-U8)","v":0},{"$f":"IF(V9=0,0,(V9*((LOG(V9))/LOG(2))))","v":0},null,{"$f":"N9","v":21},{"$f":"COUNTIF(L15:L21,Y9)","v":0},{"$f":"Z9/(AB4-Z8)","v":{"$error":"#DIV/0!"}},{"$f":"IF(AA9=0,0,(AA9*((LOG(AA9))/LOG(2))))","v":{"$error":"#DIV/0!"}},null,{"$f":"N9","v":21},{"$f":"COUNTIF(L22:L29,AD9)","v":0},{"$f":"AE9/(AG4-AE8)","v":0},{"$f":"IF(AF9=0,0,(AF9*((LOG(AF9))/LOG(2))))","v":0},null,{"$f":"N9","v":21},{"$f":"COUNTIF(L30:L37,AI9)","v":0},{"$f":"AJ9/(AL4-AJ8)","v":0},{"$f":"IF(AK9=0,0,(AK9*((LOG(AK9))/LOG(2))))","v":0},null,{"$f":"N9","v":21},{"$f":"COUNTIF(L38:L44,AN9)","v":0},{"$f":"AO9/(AQ4-AO8)","v":0},{"$f":"IF(AP9=0,0,(AP9*((LOG(AP9))/LOG(2))))","v":0},null,{"$f":"N9","v":21},{"$f":"COUNTIF(L45:L52,AS9)","v":0},{"$f":"AT9/(AV4-AT8)","v":0},{"$f":"IF(AU9=0,0,(AU9*((LOG(AU9))/LOG(2))))","v":0}]
[11,334,21,346,null,null,null,null,null,null,0,12,null,22,{"$f":"COUNTIF($L$7:$L$500,N10)","v":4},{"$f":"O10/$Q$4","v":8.6956521739130432E-2},{"$f":"IF(P10=0,0,(P10*((LOG(P10))/LOG(2))))","v":-0.30639669183104457},null,null,{"$f":"N10","v":22},{"$f":"COUNTIF(L7:L14,T10)","v":0},{"$f":"U10/(W4-U8)","v":0},{"$f":"IF(V10=0,0,(V10*((LOG(V10))/LOG(2))))","v":0},null,{"$f":"N10","v":22},{"$f":"COUNTIF(L15:L21,Y10)","v":0},{"$f":"Z10/(AB4-Z8)","v":{"$error":"#DIV/0!"}},{"$f":"IF(AA10=0,0,(AA10*((LOG(AA10))/LOG(2))))","v":{"$error":"#DIV/0!"}},null,{"$f":"N10","v":22},{"$f":"COUNTIF(L22:L29,AD10)","v":1},{"$f":"AE10/(AG4-AE8)","v":0.33333333333333331},{"$f":"IF(AF10=0,0,(AF10*((LOG(AF10))/LOG(2))))","v":-0.52832083357371862},null,{"$f":"N10","v":22},{"$f":"COUNTIF(L30:L37,AI10)","v":1},{"$f":"AJ10/(AL4-AJ8)","v":1},{"$f":"IF(AK10=0,0,(AK10*((LOG(AK10))/LOG(2))))","v":0},null,{"$f":"N10","v":22},{"$f":"COUNTIF(L38:L44,AN10)","v":1},{"$f":"AO10/(AQ4-AO8)","v":1},{"$f":"IF(AP10=0,0,(AP10*((LOG(AP10))/LOG(2))))","v":0},null,{"$f":"N10","v":22},{"$f":"COUNTIF(L45:L52,AS10)","v":1},{"$f":"AT10/(AV4-AT8)","v":1},{"$f":"IF(AU10=0,0,(AU10*((LOG(AU10))/LOG(2))))","v":0}]
[11,442,21,453,null,null,null,null,null,null,0,12,null,null,null,null,null,null,null,{"$f":"N11","v":0},{"$f":"COUNTIF(L7:L14,T11)","v":0},{"$f":"U11/(W4-U8)","v":0},{"$f":"IF(V11=0,0,(V11*((LOG(V11))/LOG(2))))","v":0},null,{"$f":"N11","v":0},{"$f":"COUNTIF(L15:L21,Y11)","v":0},{"$f":"Z11/(AB4-Z8)","v":{"$error":"#DIV/0!"}},{"$f":"IF(AA11=0,0,(AA11*((LOG(AA11))/LOG(2))))","v":{"$error":"#DIV/0!"}},null,{"$f":"N11","v":0},{"$f":"COUNTIF(L22:L29,AD11)","v":0},{"$f":"AE11/(AG4-AE8)","v":0},{"$f":"IF(AF11=0,0,(AF11*((LOG(AF11))/LOG(2))))","v":0},null,{"$f":"N11","v":0},{"$f":"COUNTIF(L30:L37,AI11)","v":0},{"$f":"AJ11/(AL4-AJ8)","v":0},{"$f":"IF(AK11=0,0,(AK11*((LOG(AK11))/LOG(2))))","v":0},null,{"$f":"N11","v":0},{"$f":"COUNTIF(L38:L44,AN11)","v":0},{"$f":"AO11/(AQ4-AO8)","v":0},{"$f":"IF(AP11=0,0,(AP11*((LOG(AP11))/LOG(2))))","v":0},null,{"$f":"N11","v":0},{"$f":"COUNTIF(L45:L52,AS11)","v":0},{"$f":"AT11/(AV4-AT8)","v":0},{"$f":"IF(AU11=0,0,(AU11*((LOG(AU11))/LOG(2))))","v":0}]
[11,550,21,563,null,null,null,null,null,null,0,12,null,null,null,null,null,null,null,{"$f":"N12","v":0},{"$f":"COUNTIF(L7:L14,T12)","v":0},{"$f":"U12/(W4-U8)","v":0},{"$f":"IF(V12=0,0,(V12*((LOG(V12))/LOG(2))))","v":0},null,{"$f":"N12","v":0},{"$f":"COUNTIF(L15:L21,Y12)","v":0},{"$f":"Z12/(AB4-Z8)","v":{"$error":"#DIV/0!"}},{"$f":"IF(AA12=0,0,(AA12*((LOG(AA12))/LOG(2))))","v":{"$error":"#DIV/0!"}},null,{"$f":"N12","v":0},{"$f":"COUNTIF(L22:L29,AD12)","v":0},{"$f":"AE12/(AG4-AE8)","v":0},{"$f":"IF(AF12=0,0,(AF12*((LOG(AF12))/LOG(2))))","v":0},null,{"$f":"N12","v":0},{"$f":"COUNTIF(L30:L37,AI12)","v":0},{"$f":"AJ12/(AL4-AJ8)","v":0},{"$f":"IF(AK12=0,0,(AK12*((LOG(AK12))/LOG(2))))","v":0},null,{"$f":"N12","v":0},{"$f":"COUNTIF(L38:L44,AN12)","v":0},{"$f":"AO12/(AQ4-AO8)","v":0},{"$f":"IF(AP12=0,0,(AP12*((LOG(AP12))/LOG(2))))","v":0},null,{"$f":"N12","v":0},{"$f":"COUNTIF(L45:L52,AS12)","v":0},{"$f":"AT12/(AV4-AT8)","v":0},{"$f":"IF(AU12=0,0,(AU12*((LOG(AU12))/LOG(2))))","v":0}]
[11,658,12,672,null,null,null,null,null,null,0,11,null,null,null,null,null,null,null,{"$f":"N13","v":0},{"$f":"COUNTIF(L7:L14,T13)","v":0},{"$f":"U13/(W4-U8)","v":0},{"$f":"IF(V13=0,0,(V13*((LOG(V13))/LOG(2))))","v":0},null,{"$f":"N13","v":0},{"$f":"COUNTIF(L15:L21,Y13)","v":0},{"$f":"Z13/(AB4-Z8)","v":{"$error":"#DIV/0!"}},{"$f":"IF(AA13=0,0,(AA13*((LOG(AA13))/LOG(2))))","v":{"$error":"#DIV/0!"}},null,{"$f":"N13","v":0},{"$f":"COUNTIF(L22:L29,AD13)","v":0},{"$f":"AE13/(AG4-AE8)","v":0},{"$f":"IF(AF13=0,0,(AF13*((LOG(AF13))/LOG(2))))","v":0},null,{"$f":"N13","v":0},{"$f":"COUNTIF(L30:L37,AI13)","v":0},{"$f":"AJ13/(AL4-AJ8)","v":0},{"$f":"IF(AK13=0,0,(AK13*((LOG(AK13))/LOG(2))))","v":0},null,{"$f":"N13","v":0},{"$f":"COUNTIF(L38:L44,AN13)","v":0},{"$f":"AO13/(AQ4-AO8)","v":0},{"$f":"IF(AP13=0,0,(AP13*((LOG(AP13))/LOG(2))))","v":0},null,{"$f":"N13","v":0},{"$f":"COUNTIF(L45:L52,AS13)","v":0},{"$f":"AT13/(AV4-AT8)","v":0},{"$f":"IF(AU13=0,0,(AU13*((LOG(AU13))/LOG(2))))","v":0}]
[11,777,21,790,null,null,null,null,null,null,0,12,null,null,null,null,null,null,null,{"$f":"N14","v":0},{"$f":"COUNTIF(L7:L14,T14)","v":0},{"$f":"U14/(W4-U8)","v":0},{"$f":"IF(V14=0,0,(V14*((LOG(V14))/LOG(2))))","v":0},null,{"$f":"N14","v":0},{"$f":"COUNTIF(L15:L21,Y14)","v":0},{"$f":"Z14/(AB4-Z8)","v":{"$error":"#DIV/0!"}},{"$f":"IF(AA14=0,0,(AA14*((LOG(AA14))/LOG(2))))","v":{"$error":"#DIV/0!"}},null,{"$f":"N14","v":0},{"$f":"COUNTIF(L22:L29,AD14)","v":0},{"$f":"AE14/(AG4-AE8)","v":0},{"$f":"IF(AF14=0,0,(AF14*((LOG(AF14))/LOG(2))))","v":0},null,{"$f":"N14","v":0},{"$f":"COUNTIF(L30:L37,AI14)","v":0},{"$f":"AJ14/(AL4-AJ8)","v":0},{"$f":"IF(AK14=0,0,(AK14*((LOG(AK14))/LOG(2))))","v":0},null,{"$f":"N14","v":0},{"$f":"COUNTIF(L38:L44,AN14)","v":0},{"$f":"AO14/(AQ4-AO8)","v":0},{"$f":"IF(AP14=0,0,(AP14*((LOG(AP14))/LOG(2))))","v":0},null,{"$f":"N14","v":0},{"$f":"COUNTIF(L45:L52,AS14)","v":0},{"$f":"AT14/(AV4-AT8)","v":0},{"$f":"IF(AU14=0,0,(AU14*((LOG(AU14))/LOG(2))))","v":0}]
[11,886,21,895,null,null,null,null,null,null,0,12,null,null,null,{"$f":"SUM(P7:P14)","v":1},{"$f":"-SUM(Q7:Q14)","v":0.76517991175720512},null,null,null,null,{"$f":"SUM(V7:V14)","v":1},{"$f":"-SUM(W7:W14)","v":0},null,null,null,{"$f":"SUM(AA7:AA14)","v":{"$error":"#DIV/0!"}},{"$f":"-SUM(AB7:AB14)","v":{"$error":"#DIV/0!"}},null,null,null,{"$f":"SUM(AF7:AF14)","v":1},{"$f":"-SUM(AG7:AG14)","v":0.91829583405448945},null,null,null,{"$f":"SUM(AK7:AK14)","v":1},{"$f":"-SUM(AL7:AL14)","v":0},null,null,null,{"$f":"SUM(AP7:AP14)","v":1},{"$f":"-SUM(AQ7:AQ14)","v":0},null,null,null,{"$f":"SUM(AU7:AU14)","v":1},{"$f":"-SUM(AV7:AV14)","v":0}]
[11,991,21,1003,null,null,null,null,null,null,0,12,null,null,null,"U=",{"$f":"Q15/(LOG(Q4)/LOG(2))","v":0.13853015822844644},null,null,null,null,"U1=",{"$f":"W15/(LOG(W4)/LOG(2))","v":0},null,null,null,"U2=",{"$f":"AB15/(LOG(AB4)/LOG(2))","v":{"$error":"#DIV/0!"}},null,null,null,"U3=",{"$f":"AG15/(LOG(AG4)/LOG(2))","v":0.30609861135149646},null,null,null,"U4=",{"$f":"AL15/(LOG(AL4)/LOG(2))","v":0},null,null,null,"U5=",{"$f":"AQ15/(LOG(AQ4)/LOG(2))","v":0},null,null,null,"U6=",{"$f":"AV15/(LOG(AV4)/LOG(2))","v":0}]
[11,1101,21,1114,null,null,null,null,null,null,0,12]
[11,1207,21,1218,null,null,null,null,null,null,0,12]
[11,1312,21,1326,null,null,null,null,null,null,0,12,null,"Total Target Seq"]
[11,1420,21,1433,null,null,null,null,null,null,0,12,null,{"$f":"COUNTIF(L7:L52,G3)","v":39},null,8,7,8,8,7,8]
[11,1528,21,1560,null,null,null,null,null,null,0,12,null,null,null,"% of reinforcement given in 6 equal intervals based on number of trials "]
[11,1655,21,1671,null,null,null,null,null,null,0,12,null,null,null,"%_1","%_2","%_3","%_4","%_5","%_6"]
[11,1778,21,1792,null,null,null,null,null,null,0,12,null,null,"target sequence",{"$f":"$G$3","v":12},{"$f":"$G$3","v":12},{"$f":"$G$3","v":12},{"$f":"$G$3","v":12},{"$f":"$G$3","v":12},{"$f":"$G$3","v":12}]
[22,1919,23,1957,null,null,null,null,null,null,0,22,null,null,"total reinforcement",{"$f":"U8","v":7},{"$f":"Z8","v":7},{"$f":"AE8","v":5},{"$f":"AJ8","v":7},{"$f":"AO8","v":6},{"$f":"AT8","v":7}]
[11,2053,12,2063,null,null,null,null,null,null,0,11,null,null,"% target"]
[11,2175,12,2189,null,null,null,null,null,null,0,11,null,null,"CCRF"]
[11,2292,21,2308,null,null,null,null,null,null,0,12,null,null,"% CCRf"]
[11,2410,21,2422,null,null,null,null,null,null,0,12,null,null,"average response rate",{"$f":"D14/P20","v":98.75},{"$f":"(D21-D14)/Q20","v":110},{"$f":"(D29-D21)/R20","v":121},{"$f":"(D37-D29)/S20","v":122.625},{"$f":"(D44-D37)/T20","v":119.71428571428571},{"$f":"(D52-D44)/U20","v":118.125}]
[11,2516,21,2528,null,null,null,null,null,null,0,12]
[11,2623,21,2636,null,null,null,null,null,null,0,12]
[11,2731,21,2745,null,null,null,null,null,null,0,12]
[11,2844,21,2866,null,null,null,null,null,null,0,12]
[11,2959,21,2970,null,null,null,null,null,null,0,12]
[22,3080,23,3113,null,null,null,null,null,null,0,22]
[11,3218,21,3296,null,null,null,null,null,null,0,12]
[11,3392,21,3405,null,null,null,null,null,null,0,12]
[11,3499,21,3509,null,null,null,null,null,null,0,12]
[11,3604,21,3615,null,null,null,null,null,null,0,12]
[11,3710,21,3720,null,null,null,null,null,null,0,12]
[11,3814,21,3826,null,null,null,null,null,null,0,12]
[22,3928,23,3955,null,null,null,null,null,null,0,22]
[11,4059,21,4095,null,null,null,null,null,null,0,12]
[11,4191,21,4244,null,null,null,null,null,null,0,12]
[11,4336,21,4347,null,null,null,null,null,null,0,12]
[11,4439,21,4457,null,null,null,null,null,null,0,12]
[11,4554,21,4579,null,null,null,null,null,null,0,12]
[22,4697,23,4715,null,null,null,null,null,null,0,22]
[11,4820,21,4833,null,null,null,null,null,null,0,12]
[11,4930,21,4940,null,null,null,null,null,null,0,12]
[11,5036,21,5048,null,null,null,null,null,null,0,12]
[11,5140,21,5191,null,null,null,null,null,null,0,12]
[11,5283,21,5292,null,null,null,null,null,null,1,12]

{"sheet":"!MC20B00.105","index":24,"n_rows":48,"n_cols":48,"rows_kept":48,"cut":false,"hidden":false,"merged":[[4,39,4,42],[5,39,5,40],[4,44,4,47],[5,44,5,45],[4,24,4,27],[5,24,5,25],[4,29,4,32],[5,29,5,30],[4,34,4,37],[5,34,5,35],[1,1,1,2],[5,13,5,14],[18,13,18,14],[19,13,19,14],[4,19,4,22],[5,19,5,20]]}
["Report for:!MC20B00.105"]
["Date:","<date>"]
["Hen:","<hen>",null,null,null,"Correct Sequence",{"$f":"Start!J2","v":12},null,null,null,null,null,null,null,null,"Total Sequences in Data",{"$f":"4994-COUNTBLANK(L7:L5000)","v":42},null,null,null,null,"Total Sequences in Block Data",{"$f":"COUNTA(L7:L13)","v":7},null,null,null,"Total Sequences in Block Data",{"$f":"COUNTA(L14:L20)","v":7},null,null,null,"Total Sequences in Block Data",{"$f":"COUNTA(L21:L27)","v":7},null,null,null,"Total Sequences in Block Data",{"$f":"COUNTA(L28:L34)","v":7},null,null,null,"Total Sequences in Block Data",{"$f":"COUNTA(L35:L41)","v":7},null,null,null,"Total Sequences in Block Data",{"$f":"COUNTA(L42:L48)","v":7}]
[null,null,null,null,null,null,null,null,null,null,null,null,null,null,null,"Total Sequences in Summary",{"$f":"SUM(O7:O14)","v":42},null,null,null,null,"Total Sequences in Block Summary",{"$f":"SUM(U7:U14)","v":7},null,null,null,"Total Sequences in Block Summary",{"$f":"SUM(Z7:Z14)","v":7},null,null,null,"Total Sequences in Block Summary",{"$f":"SUM(AE7:AE14)","v":7},null,null,null,"Total Sequences in Block Summary",{"$f":"SUM(AJ7:AJ14)","v":7},null,null,null,"Total Sequences in Block Summary",{"$f":"SUM(AO7:AO14)","v":7},null,null,null,"Total Sequences in Block Summary",{"$f":"SUM(AT7:AT14)","v":7}]
[null,null,null,null,null,null,null,null,null,null,null,null,null,null,null,null,null,null,null,"Block 1",null,null,null,null,"Block 2",null,null,null,null,"Block 3",null,null,null,null,"Block 4",null,null,null,null,"Block 5",null,null,null,null,"Block 6"]
["Sequence\nComponent\n1","Time\n1","Sequence\nComponent\n2","Time\n2","Sequence\nComponent\n3","Time\n3","Sequence\nComponent\n4","Time\n4","Sequence\nComponent\n5","Time\n5","Correct?\n0=No 1=Yes","Sequence",null,"Frequency",null,"Relative Frequency","Variability",null,null,"Frequency",null,"Relative Frequency","Variability",null,"Frequency",null,"Relative Frequency","Variability",null,"Frequency",null,"Relative Frequency","Variability",null,"Frequency",null,"Relative Frequency","Variability",null,"Frequency",null,"Relative Frequency","Variability",null,"Frequency",null,"Relative Frequency","Variability"]
[11,27,21,38,null,null,null,null,null,null,0,12,null,11,{"$f":"COUNTIF($L$7:$L$500,N7)","v":2},{"$f":"O7/$Q$4","v":4.7619047619047616E-2},{"$f":"IF(P7=0,0,(P7*((LOG(P7))/LOG(2))))","v":-0.20915797251327431},null,null,{"$f":"N7","v":11},{"$f":"COUNTIF(L7:L13,T7)","v":1},{"$f":"U7/(W4-U8)","v":1},{"$f":"IF(V7=0,0,(V7*((LOG(V7))/LOG(2))))","v":0},null,{"$f":"N7","v":11},{"$f":"COUNTIF(L14:L20,Y7)","v":0},{"$f":"Z7/(AB4-Z8)","v":{"$error":"#DIV/0!"}},{"$f":"IF(AA7=0,0,(AA7*((LOG(AA7))/LOG(2))))","v":{"$error":"#DIV/0!"}},null,{"$f":"N7","v":11},{"$f":"COUNTIF(L21:L27,AD7)","v":0},{"$f":"AE7/(AG4-AE8)","v":{"$error":"#DIV/0!"}},{"$f":"IF(AF7=0,0,(AF7*((LOG(AF7))/LOG(2))))","v":{"$error":"#DIV/0!"}},null,{"$f":"N7","v":11},{"$f":"COUNTIF(L28:L34,AI7)","v":1},{"$f":"AJ7/(AL4-AJ8)","v":0.5},{"$f":"IF(AK7=0,0,(AK7*((LOG(AK7))/LOG(2))))","v":-0.5},null,{"$f":"N7","v":11},{"$f":"COUNTIF(L35:L41,AN7)","v":0},{"$f":"AO7/(AQ4-AO8)","v":{"$error":"#DIV/0!"}},{"$f":"IF(AP7=0,0,(AP7*((LOG(AP7))/LOG(2))))","v":{"$error":"#DIV/0!"}},null,{"$f":"N7","v":11},{"$f":"COUNTIF(L42:L48,AS7)","v":0},{"$f":"AT7/(AV4-AT8)","v":{"$error":"#DIV/0!"}},{"$f":"IF(AU7=0,0,(AU7*((LOG(AU7))/LOG(2))))","v":{"$error":"#DIV/0!"}}]
[11,132,21,144,null,null,null,null,null,null,0,12,null,12,{"$f":"COUNTIF($L$7:$L$500,N8)","v":39},{"$f":"O8/$Q$4","v":0.9285714285714286},{"$f":"IF(P8=0,0,(P8*((LOG(P8))/LOG(2))))","v":-9.9278403636761048E-2},null,null,{"$f":"N8","v":12},{"$f":"COUNTIF(L7:L13,T8)","v":6},null,null,null,{"$f":"N8","v":12},{"$f":"COUNTIF(L14:L20,Y8)","v":7},null,null,null,{"$f":"N8","v":12},{"$f":"COUNTIF(L21:L27,AD8)","v":7},null,null,null,{"$f":"N8","v":12},{"$f":"COUNTIF(L28:L34,AI8)","v":5},null,null,null,{"$f":"N8","v":12},{"$f":"COUNTIF(L35:L41,AN8)","v":7},null,null,null,{"$f":"N8","v":12},{"$f":"COUNTIF(L42:L48,AS8)","v":7}]
[11,258,21,268,null,null,null,null,null,null,0,12,null,21,{"$f":"COUNTIF($L$7:$L$500,N9)","v":0},{"$f":"O9/$Q$4","v":0},{"$f":"IF(P9=0,0,(P9*((LOG(P9))/LOG(2))))","v":0},null,null,{"$f":"N9","v":21},{"$f":"COUNTIF(L7:L13,T9)","v":0},{"$f":"U9/(W4-U8)","v":0},{"$f":"IF(V9=0,0,(V9*((LOG(V9))/LOG(2))))","v":0},null,{"$f":"N9","v":21},{"$f":"COUNTIF(L14:L20,Y9)","v":0},{"$f":"Z9/(AB4-Z8)","v":{"$error":"#DIV/0!"}},{"$f":"IF(AA9=0,0,(AA9*((LOG(AA9))/LOG(2))))","v":{"$error":"#DIV/0!"}},null,{"$f":"N9","v":21},{"$f":"COUNTIF(L21:L27,AD9)","v":0},{"$f":"AE9/(AG4-AE8)","v":{"$error":"#DIV/0!"}},{"$f":"IF(AF9=0,0,(AF9*((LOG(AF9))/LOG(2))))","v":{"$error":"#DIV/0!"}},null,{"$f":"N9","v":21},{"$f":"COUNTIF(L28:L34,AI9)","v":0},{"$f":"AJ9/(AL4-AJ8)","v":0},{"$f":"IF(AK9=0,0,(AK9*((LOG(AK9))/LOG(2))))","v":0},null,{"$f":"N9","v":21},{"$f":"COUNTIF(L35:L41,AN9)","v":0},{"$f":"AO9/(AQ4-AO8)","v":{"$error":"#DIV/0!"}},{"$f":"IF(AP9=0,0,(AP9*((LOG(AP9))/LOG(2))))","v":{"$error":"#DIV/0!"}},null,{"$f":"N9","v":21},{"$f":"COUNTIF(L42:L48,AS9)","v":0},{"$f":"AT9/(AV4-AT8)","v":{"$error":"#DIV/0!"}},{"$f":"IF(AU9=0,0,(AU9*((LOG(AU9))/LOG(2))))","v":{"$error":"#DIV/0!"}}]
[11,368,21,378,null,null,null,null,null,null,0,12,null,22,{"$f":"COUNTIF($L$7:$L$500,N10)","v":1},{"$f":"O10/$Q$4","v":2.3809523809523808E-2},{"$f":"IF(P10=0,0,(P10*((LOG(P10))/LOG(2))))","v":-0.12838851006616095},null,null,{"$f":"N10","v":22},{"$f":"COUNTIF(L7:L13,T10)","v":0},{"$f":"U10/(W4-U8)","v":0},{"$f":"IF(V10=0,0,(V10*((LOG(V10))/LOG(2))))","v":0},null,{"$f":"N10","v":22},{"$f":"COUNTIF(L14:L20,Y10)","v":0},{"$f":"Z10/(AB4-Z8)","v":{"$error":"#DIV/0!"}},{"$f":"IF(AA10=0,0,(AA10*((LOG(AA10))/LOG(2))))","v":{"$error":"#DIV/0!"}},null,{"$f":"N10","v":22},{"$f":"COUNTIF(L21:L27,AD10)","v":0},{"$f":"AE10/(AG4-AE8)","v":{"$error":"#DIV/0!"}},{"$f":"IF(AF10=0,0,(AF10*((LOG(AF10))/LOG(2))))","v":{"$error":"#DIV/0!"}},null,{"$f":"N10","v":22},{"$f":"COUNTIF(L28:L34,AI10)","v":1},{"$f":"AJ10/(AL4-AJ8)","v":0.5},{"$f":"IF(AK10=0,0,(AK10*((LOG(AK10))/LOG(2))))","v":-0.5},null,{"$f":"N10","v":22},{"$f":"COUNTIF(L35:L41,AN10)","v":0},{"$f":"AO10/(AQ4-AO8)","v":{"$error":"#DIV/0!"}},{"$f":"IF(AP10=0,0,(AP10*((LOG(AP10))/LOG(2))))","v":{"$error":"#DIV/0!"}},null,{"$f":"N10","v":22},{"$f":"COUNTIF(L42:L48,AS10)","v":0},{"$f":"AT10/(AV4-AT8)","v":{"$error":"#DIV/0!"}},{"$f":"IF(AU10=0,0,(AU10*((LOG(AU10))/LOG(2))))","v":{"$error":"#DIV/0!"}}]
[11,484,21,494,null,null,null,null,null,null,0,12,null,null,null,null,null,null,null,{"$f":"N11","v":0},{"$f":"COUNTIF(L7:L13,T11)","v":0},{"$f":"U11/(W4-U8)","v":0},{"$f":"IF(V11=0,0,(V11*((LOG(V11))/LOG(2))))","v":0},null,{"$f":"N11","v":0},{"$f":"COUNTIF(L14:L20,Y11)","v":0},{"$f":"Z11/(AB4-Z8)","v":{"$error":"#DIV/0!"}},{"$f":"IF(AA11=0,0,(AA11*((LOG(AA11))/LOG(2))))","v":{"$error":"#DIV/0!"}},null,{"$f":"N11","v":0},{"$f":"COUNTIF(L21:L27,AD11)","v":0},{"$f":"AE11/(AG4-AE8)","v":{"$error":"#DIV/0!"}},{"$f":"IF(AF11=0,0,(AF11*((LOG(AF11))/LOG(2))))","v":{"$error":"#DIV/0!"}},null,{"$f":"N11","v":0},{"$f":"COUNTIF(L28:L34,AI11)","v":0},{"$f":"AJ11/(AL4-AJ8)","v":0},{"$f":"IF(AK11=0,0,(AK11*((LOG(AK11))/LOG(2))))","v":0},null,{"$f":"N11","v":0},{"$f":"COUNTIF(L35:L41,AN11)","v":0},{"$f":"AO11/(AQ4-AO8)","v":{"$error":"#DIV/0!"}},{"$f":"IF(AP11=0,0,(AP11*((LOG(AP11))/LOG(2))))","v":{"$error":"#DIV/0!"}},null,{"$f":"N11","v":0},{"$f":"COUNTIF(L42:L48,AS11)","v":0},{"$f":"AT11/(AV4-AT8)","v":{"$error":"#DIV/0!"}},{"$f":"IF(AU11=0,0,(AU11*((LOG(AU11))/LOG(2))))","v":{"$error":"#DIV/0!"}}]
[11,589,21,620,null,null,null,null,null,null,0,12,null,null,null,null,null,null,null,{"$f":"N12","v":0},{"$f":"COUNTIF(L7:L13,T12)","v":0},{"$f":"U12/(W4-U8)","v":0},{"$f":"IF(V12=0,0,(V12*((LOG(V12))/LOG(2))))","v":0},null,{"$f":"N12","v":0},{"$f":"COUNTIF(L14:L20,Y12)","v":0},{"$f":"Z12/(AB4-Z8)","v":{"$error":"#DIV/0!"}},{"$f":"IF(AA12=0,0,(AA12*((LOG(AA12))/LOG(2))))","v":{"$error":"#DIV/0!"}},null,{"$f":"N12","v":0},{"$f":"COUNTIF(L21:L27,AD12)","v":0},{"$f":"AE12/(AG4-AE8)","v":{"$error":"#DIV/0!"}},{"$f":"IF(AF12=0,0,(AF12*((LOG(AF12))/LOG(2))))","v":{"$error":"#DIV/0!"}},null,{"$f":"N12","v":0},{"$f":"COUNTIF(L28:L34,AI12)","v":0},{"$f":"AJ12/(AL4-AJ8)","v":0},{"$f":"IF(AK12=0,0,(AK12*((LOG(AK12))/LOG(2))))","v":0},null,{"$f":"N12","v":0},{"$f":"COUNTIF(L35:L41,AN12)","v":0},{"$f":"AO12/(AQ4-AO8)","v":{"$error":"#DIV/0!"}},{"$f":"IF(AP12=0,0,(AP12*((LOG(AP12))/LOG(2))))","v":{"$error":"#DIV/0!"}},null,{"$f":"N12","v":0},{"$f":"COUNTIF(L42:L48,AS12)","v":0},{"$f":"AT12/(AV4-AT8)","v":{"$error":"#DIV/0!"}},{"$f":"IF(AU12=0,0,(AU12*((LOG(AU12))/LOG(2))))","v":{"$error":"#DIV/0!"}}]
[11,718,12,727,null,null,null,null,null,null,0,11,null,null,null,null,null,null,null,{"$f":"N13","v":0},{"$f":"COUNTIF(L7:L13,T13)","v":0},{"$f":"U13/(W4-U8)","v":0},{"$f":"IF(V13=0,0,(V13*((LOG(V13))/LOG(2))))","v":0},null,{"$f":"N13","v":0},{"$f":"COUNTIF(L14:L20,Y13)","v":0},{"$f":"Z13/(AB4-Z8)","v":{"$error":"#DIV/0!"}},{"$f":"IF(AA13=0,0,(AA13*((LOG(AA13))/LOG(2))))","v":{"$error":"#DIV/0!"}},null,{"$f":"N13","v":0},{"$f":"COUNTIF(L21:L27,AD13)","v":0},{"$f":"AE13/(AG4-AE8)","v":{"$error":"#DIV/0!"}},{"$f":"IF(AF13=0,0,(AF13*((LOG(AF13))/LOG(2))))","v":{"$error":"#DIV/0!"}},null,{"$f":"N13","v":0},{"$f":"COUNTIF(L28:L34,AI13)","v":0},{"$f":"AJ13/(AL4-AJ8)","v":0},{"$f":"IF(AK13=0,0,(AK13*((LOG(AK13))/LOG(2))))","v":0},null,{"$f":"N13","v":0},{"$f":"COUNTIF(L35:L41,AN13)","v":0},{"$f":"AO13/(AQ4-AO8)","v":{"$error":"#DIV/0!"}},{"$f":"IF(AP13=0,0,(AP13*((LOG(AP13))/LOG(2))))","v":{"$error":"#DIV/0!"}},null,{"$f":"N13","v":0},{"$f":"COUNTIF(L42:L48,AS13)","v":0},{"$f":"AT13/(AV4-AT8)","v":{"$error":"#DIV/0!"}},{"$f":"IF(AU13=0,0,(AU13*((LOG(AU13))/LOG(2))))","v":{"$error":"#DIV/0!"}}]
[11,835,21,847,null,null,null,null,null,null,0,12,null,null,null,null,null,null,null,{"$f":"N14","v":0},{"$f":"COUNTIF(L7:L13,T14)","v":0},{"$f":"U14/(W4-U8)","v":0},{"$f":"IF(V14=0,0,(V14*((LOG(V14))/LOG(2))))","v":0},null,{"$f":"N14","v":0},{"$f":"COUNTIF(L14:L20,Y14)","v":0},{"$f":"Z14/(AB4-Z8)","v":{"$error":"#DIV/0!"}},{"$f":"IF(AA14=0,0,(AA14*((LOG(AA14))/LOG(2))))","v":{"$error":"#DIV/0!"}},null,{"$f":"N14","v":0},{"$f":"COUNTIF(L21:L27,AD14)","v":0},{"$f":"AE14/(AG4-AE8)","v":{"$error":"#DIV/0!"}},{"$f":"IF(AF14=0,0,(AF14*((LOG(AF14))/LOG(2))))","v":{"$error":"#DIV/0!"}},null,{"$f":"N14","v":0},{"$f":"COUNTIF(L28:L34,AI14)","v":0},{"$f":"AJ14/(AL4-AJ8)","v":0},{"$f":"IF(AK14=0,0,(AK14*((LOG(AK14))/LOG(2))))","v":0},null,{"$f":"N14","v":0},{"$f":"COUNTIF(L35:L41,AN14)","v":0},{"$f":"AO14/(AQ4-AO8)","v":{"$error":"#DIV/0!"}},{"$f":"IF(AP14=0,0,(AP14*((LOG(AP14))/LOG(2))))","v":{"$error":"#DIV/0!"}},null,{"$f":"N14","v":0},{"$f":"COUNTIF(L42:L48,AS14)","v":0},{"$f":"AT14/(AV4-AT8)","v":{"$error":"#DIV/0!"}},{"$f":"IF(AU14=0,0,(AU14*((LOG(AU14))/LOG(2))))","v":{"$error":"#DIV/0!"}}]
[11,944,21,954,null,null,null,null,null,null,0,12,null,null,null,{"$f":"SUM(P7:P14)","v":1},{"$f":"-SUM(Q7:Q14)","v":0.43682488621619631},null,null,null,null,{"$f":"SUM(V7:V14)","v":1},{"$f":"-SUM(W7:W14)","v":0},null,null,null,{"$f":"SUM(AA7:AA14)","v":{"$error":"#DIV/0!"}},{"$f":"-SUM(AB7:AB14)","v":{"$error":"#DIV/0!"}},null,null,null,{"$f":"SUM(AF7:AF14)","v":{"$error":"#DIV/0!"}},{"$f":"-SUM(AG7:AG14)","v":{"$error":"#DIV/0!"}},null,null,null,{"$f":"SUM(AK7:AK14)","v":1},{"$f":"-SUM(AL7:AL14)","v":1},null,null,null,{"$f":"SUM(AP7:AP14)","v":{"$error":"#DIV/0!"}},{"$f":"-SUM(AQ7:AQ14)","v":{"$error":"#DIV/0!"}},null,null,null,{"$f":"SUM(AU7:AU14)","v":{"$error":"#DIV/0!"}},{"$f":"-SUM(AV7:AV14)","v":{"$error":"#DIV/0!"}}]
[11,1049,21,1063,null,null,null,null,null,null,0,12,null,null,null,"U=",{"$f":"Q15/(LOG(Q4)/LOG(2))","v":8.1008748552323234E-2},null,null,null,null,"U1=",{"$f":"W15/(LOG(W4)/LOG(2))","v":0},null,null,null,"U2=",{"$f":"AB15/(LOG(AB4)/LOG(2))","v":{"$error":"#DIV/0!"}},null,null,null,"U3=",{"$f":"AG15/(LOG(AG4)/LOG(2))","v":{"$error":"#DIV/0!"}},null,null,null,"U4=",{"$f":"AL15/(LOG(AL4)/LOG(2))","v":0.35620718710802218},null,null,null,"U5=",{"$f":"AQ15/(LOG(AQ4)/LOG(2))","v":{"$error":"#DIV/0!"}},null,null,null,"U6=",{"$f":"AV15/(LOG(AV4)/LOG(2))","v":{"$error":"#DIV/0!"}}]
[11,1160,21,1169,null,null,null,null,null,null,0,12]
[11,1264,21,1278,null,null,null,null,null,null,0,12]
[11,1376,21,1389,null,null,null,null,null,null,0,12,null,"Total Target Seq"]
[11,1483,21,1495,null,null,null,null,null,null,0,12,null,{"$f":"COUNTIF(L7:L48,G3)","v":39},null,7,7,7,7,7,7]
[11,1590,21,1600,null,null,null,null,null,null,0,12,null,null,null,"% of reinforcement given in 6 equal intervals based on number of trials "]
[11,1694,21,1703,null,null,null,null,null,null,0,12,null,null,null,"%_1","%_2","%_3","%_4","%_5","%_6"]
[11,1797,21,1807,null,null,null,null,null,null,0,12,null,null,"target sequence",{"$f":"$G$3","v":12},{"$f":"$G$3","v":12},{"$f":"$G$3","v":12},{"$f":"$G$3","v":12},{"$f":"$G$3","v":12},{"$f":"$G$3","v":12}]
[11,1903,21,1913,null,null,null,null,null,null,0,12,null,null,"total reinforcement",{"$f":"U8","v":6},{"$f":"Z8","v":7},{"$f":"AE8","v":7},{"$f":"AJ8","v":5},{"$f":"AO8","v":7},{"$f":"AT8","v":7}]
[11,2009,21,2018,null,null,null,null,null,null,0,12,null,null,"% target"]
[11,2108,21,2121,null,null,null,null,null,null,0,12,null,null,"CCRF"]
[11,2222,21,2234,null,null,null,null,null,null,0,12,null,null,"% CCRf"]
[11,2329,21,2341,null,null,null,null,null,null,0,12,null,null,"average response rate",{"$f":"D13/P20","v":103.85714285714286},{"$f":"(D20-D13)/Q20","v":109.71428571428571},{"$f":"(D27-D20)/R20","v":105.57142857142857},{"$f":"(D34-D27)/S20","v":114.28571428571429},{"$f":"(D41-D34)/T20","v":110.85714285714286},{"$f":"(D48-D41)/U20","v":106}]
[11,2436,21,2445,null,null,null,null,null,null,0,12]
[11,2542,21,2571,null,null,null,null,null,null,0,12]
[22,2677,23,2710,null,null,null,null,null,null,0,22]
[11,2806,21,2816,null,null,null,null,null,null,0,12]
[11,2912,21,2922,null,null,null,null,null,null,0,12]
[11,3018,12,3034,null,null,null,null,null,null,0,11]
[11,3138,21,3151,null,null,null,null,null,null,0,12]
[11,3245,21,3258,null,null,null,null,null,null,0,12]
[11,3356,21,3366,null,null,null,null,null,null,0,12]
[11,3460,21,3473,null,null,null,null,null,null,0,12]
[11,3567,21,3596,null,null,null,null,null,null,0,12]
[11,3693,21,3703,null,null,null,null,null,null,0,12]
[11,3798,21,3810,null,null,null,null,null,null,0,12]
[11,3901,21,3915,null,null,null,null,null,null,0,12]
[11,4008,21,4022,null,null,null,null,null,null,0,12]
[11,4120,21,4129,null,null,null,null,null,null,0,12]
[11,4225,21,4235,null,null,null,null,null,null,0,12]
[11,4330,21,4341,null,null,null,null,null,null,0,12]
[11,4435,21,4445,null,null,null,null,null,null,0,12]
[11,4537,21,4552,null,null,null,null,null,null,1,12]

{"sheet":"!MC21B50.105","index":25,"n_rows":50,"n_cols":48,"rows_kept":50,"cut":false,"hidden":false,"merged":[[4,39,4,42],[5,39,5,40],[4,44,4,47],[5,44,5,45],[4,24,4,27],[5,24,5,25],[4,29,4,32],[5,29,5,30],[4,34,4,37],[5,34,5,35],[1,1,1,2],[5,13,5,14],[18,13,18,14],[19,13,19,14],[4,19,4,22],[5,19,5,20]]}
["Report for:!MC21B50.105"]
["Date:","<date>"]
["Hen:","<hen>",null,null,null,"Correct Sequence",{"$f":"Start!J2","v":12},null,null,null,null,null,null,null,null,"Total Sequences in Data",{"$f":"4994-COUNTBLANK(L7:L5000)","v":44},null,null,null,null,"Total Sequences in Block Data",{"$f":"COUNTA(L7:L13)","v":7},null,null,null,"Total Sequences in Block Data",{"$f":"COUNTA(L14:L21)","v":8},null,null,null,"Total Sequences in Block Data",{"$f":"COUNTA(L22:L28)","v":7},null,null,null,"Total Sequences in Block Data",{"$f":"COUNTA(L29:L35)","v":7},null,null,null,"Total Sequences in Block Data",{"$f":"COUNTA(L36:L43)","v":8},null,null,null,"Total Sequences in Block Data",{"$f":"COUNTA(L44:L50)","v":7}]
[null,null,null,null,null,null,null,null,null,null,null,null,null,null,null,"Total Sequences in Summary",{"$f":"SUM(O7:O14)","v":44},null,null,null,null,"Total Sequences in Block Summary",{"$f":"SUM(U7:U14)","v":7},null,null,null,"Total Sequences in Block Summary",{"$f":"SUM(Z7:Z14)","v":8},null,null,null,"Total Sequences in Block Summary",{"$f":"SUM(AE7:AE14)","v":7},null,null,null,"Total Sequences in Block Summary",{"$f":"SUM(AJ7:AJ14)","v":7},null,null,null,"Total Sequences in Block Summary",{"$f":"SUM(AO7:AO14)","v":8},null,null,null,"Total Sequences in Block Summary",{"$f":"SUM(AT7:AT14)","v":7}]
[null,null,null,null,null,null,null,null,null,null,null,null,null,null,null,null,null,null,null,"Block 1",null,null,null,null,"Block 2",null,null,null,null,"Block 3",null,null,null,null,"Block 4",null,null,null,null,"Block 5",null,null,null,null,"Block 6"]
["Sequence\nComponent\n1","Time\n1","Sequence\nComponent\n2","Time\n2","Sequence\nComponent\n3","Time\n3","Sequence\nComponent\n4","Time\n4","Sequence\nComponent\n5","Time\n5","Correct?\n0=No 1=Yes","Sequence",null,"Frequency",null,"Relative Frequency","Variability",null,null,"Frequency",null,"Relative Frequency","Variability",null,"Frequency",null,"Relative Frequency","Variability",null,"Frequency",null,"Relative Frequency","Variability",null,"Frequency",null,"Relative Frequency","Variability",null,"Frequency",null,"Relative Frequency","Variability",null,"Frequency",null,"Relative Frequency","Variability"]
[11,37,21,48,null,null,null,null,null,null,0,12,null,11,{"$f":"COUNTIF($L$7:$L$500,N7)","v":0},{"$f":"O7/$Q$4","v":0},{"$f":"IF(P7=0,0,(P7*((LOG(P7))/LOG(2))))","v":0},null,null,{"$f":"N7","v":11},{"$f":"COUNTIF(L7:L13,T7)","v":0},{"$f":"U7/(W4-U8)","v":0},{"$f":"IF(V7=0,0,(V7*((LOG(V7))/LOG(2))))","v":0},null,{"$f":"N7","v":11},{"$f":"COUNTIF(L14:L21,Y7)","v":0},{"$f":"Z7/(AB4-Z8)","v":{"$error":"#DIV/0!"}},{"$f":"IF(AA7=0,0,(AA7*((LOG(AA7))/LOG(2))))","v":{"$error":"#DIV/0!"}},null,{"$f":"N7","v":11},{"$f":"COUNTIF(L22:L28,AD7)","v":0},{"$f":"AE7/(AG4-AE8)","v":0},{"$f":"IF(AF7=0,0,(AF7*((LOG(AF7))/LOG(2))))","v":0},null,{"$f":"N7","v":11},{"$f":"COUNTIF(L29:L35,AI7)","v":0},{"$f":"AJ7/(AL4-AJ8)","v":0},{"$f":"IF(AK7=0,0,(AK7*((LOG(AK7))/LOG(2))))","v":0},null,{"$f":"N7","v":11},{"$f":"COUNTIF(L36:L43,AN7)","v":0},{"$f":"AO7/(AQ4-AO8)","v":{"$error":"#DIV/0!"}},{"$f":"IF(AP7=0,0,(AP7*((LOG(AP7))/LOG(2))))","v":{"$error":"#DIV/0!"}},null,{"$f":"N7","v":11},{"$f":"COUNTIF(L44:L50,AS7)","v":0},{"$f":"AT7/(AV4-AT8)","v":{"$error":"#DIV/0!"}},{"$f":"IF(AU7=0,0,(AU7*((LOG(AU7))/LOG(2))))","v":{"$error":"#DIV/0!"}}]
[22,160,23,189,null,null,null,null,null,null,0,22,null,12,{"$f":"COUNTIF($L$7:$L$500,N8)","v":40},{"$f":"O8/$Q$4","v":0.90909090909090906},{"$f":"IF(P8=0,0,(P8*((LOG(P8))/LOG(2))))","v":-0.12500320340903179},null,null,{"$f":"N8","v":12},{"$f":"COUNTIF(L7:L13,T8)","v":5},null,null,null,{"$f":"N8","v":12},{"$f":"COUNTIF(L14:L21,Y8)","v":8},null,null,null,{"$f":"N8","v":12},{"$f":"COUNTIF(L22:L28,AD8)","v":6},null,null,null,{"$f":"N8","v":12},{"$f":"COUNTIF(L29:L35,AI8)","v":6},null,null,null,{"$f":"N8","v":12},{"$f":"COUNTIF(L36:L43,AN8)","v":8},null,null,null,{"$f":"N8","v":12},{"$f":"COUNTIF(L44:L50,AS8)","v":7}]
[11,299,21,308,null,null,null,null,null,null,0,12,null,21,{"$f":"COUNTIF($L$7:$L$500,N9)","v":0},{"$f":"O9/$Q$4","v":0},{"$f":"IF(P9=0,0,(P9*((LOG(P9))/LOG(2))))","v":0},null,null,{"$f":"N9","v":21},{"$f":"COUNTIF(L7:L13,T9)","v":0},{"$f":"U9/(W4-U8)","v":0},{"$f":"IF(V9=0,0,(V9*((LOG(V9))/LOG(2))))","v":0},null,{"$f":"N9","v":21},{"$f":"COUNTIF(L14:L21,Y9)","v":0},{"$f":"Z9/(AB4-Z8)","v":{"$error":"#DIV/0!"}},{"$f":"IF(AA9=0,0,(AA9*((LOG(AA9))/LOG(2))))","v":{"$error":"#DIV/0!"}},null,{"$f":"N9","v":21},{"$f":"COUNTIF(L22:L28,AD9)","v":0},{"$f":"AE9/(AG4-AE8)","v":0},{"$f":"IF(AF9=0,0,(AF9*((LOG(AF9))/LOG(2))))","v":0},null,{"$f":"N9","v":21},{"$f":"COUNTIF(L29:L35,AI9)","v":0},{"$f":"AJ9/(AL4-AJ8)","v":0},{"$f":"IF(AK9=0,0,(AK9*((LOG(AK9))/LOG(2))))","v":0},null,{"$f":"N9","v":21},{"$f":"COUNTIF(L36:L43,AN9)","v":0},{"$f":"AO9/(AQ4-AO8)","v":{"$error":"#DIV/0!"}},{"$f":"IF(AP9=0,0,(AP9*((LOG(AP9))/LOG(2))))","v":{"$error":"#DIV/0!"}},null,{"$f":"N9","v":21},{"$f":"COUNTIF(L44:L50,AS9)","v":0},{"$f":"AT9/(AV4-AT8)","v":{"$error":"#DIV/0!"}},{"$f":"IF(AU9=0,0,(AU9*((LOG(AU9))/LOG(2))))","v":{"$error":"#DIV/0!"}}]
[11,405,21,415,null,null,null,null,null,null,0,12,null,22,{"$f":"COUNTIF($L$7:$L$500,N10)","v":4},{"$f":"O10/$Q$4","v":9.0909090909090912E-2},{"$f":"IF(P10=0,0,(P10*((LOG(P10))/LOG(2))))","v":-0.31449378351248153},null,null,{"$f":"N10","v":22},{"$f":"COUNTIF(L7:L13,T10)","v":2},{"$f":"U10/(W4-U8)","v":1},{"$f":"IF(V10=0,0,(V10*((LOG(V10))/LOG(2))))","v":0},null,{"$f":"N10","v":22},{"$f":"COUNTIF(L14:L21,Y10)","v":0},{"$f":"Z10/(AB4-Z8)","v":{"$error":"#DIV/0!"}},{"$f":"IF(AA10=0,0,(AA10*((LOG(AA10))/LOG(2))))","v":{"$error":"#DIV/0!"}},null,{"$f":"N10","v":22},{"$f":"COUNTIF(L22:L28,AD10)","v":1},{"$f":"AE10/(AG4-AE8)","v":1},{"$f":"IF(AF10=0,0,(AF10*((LOG(AF10))/LOG(2))))","v":0},null,{"$f":"N10","v":22},{"$f":"COUNTIF(L29:L35,AI10)","v":1},{"$f":"AJ10/(AL4-AJ8)","v":1},{"$f":"IF(AK10=0,0,(AK10*((LOG(AK10))/LOG(2))))","v":0},null,{"$f":"N10","v":22},{"$f":"COUNTIF(L36:L43,AN10)","v":0},{"$f":"AO10/(AQ4-AO8)","v":{"$error":"#DIV/0!"}},{"$f":"IF(AP10=0,0,(AP10*((LOG(AP10))/LOG(2))))","v":{"$error":"#DIV/0!"}},null,{"$f":"N10","v":22},{"$f":"COUNTIF(L44:L50,AS10)","v":0},{"$f":"AT10/(AV4-AT8)","v":{"$error":"#DIV/0!"}},{"$f":"IF(AU10=0,0,(AU10*((LOG(AU10))/LOG(2))))","v":{"$error":"#DIV/0!"}}]
[22,519,23,537,null,null,null,null,null,null,0,22,null,null,null,null,null,null,null,{"$f":"N11","v":0},{"$f":"COUNTIF(L7:L13,T11)","v":0},{"$f":"U11/(W4-U8)","v":0},{"$f":"IF(V11=0,0,(V11*((LOG(V11))/LOG(2))))","v":0},null,{"$f":"N11","v":0},{"$f":"COUNTIF(L14:L21,Y11)","v":0},{"$f":"Z11/(AB4-Z8)","v":{"$error":"#DIV/0!"}},{"$f":"IF(AA11=0,0,(AA11*((LOG(AA11))/LOG(2))))","v":{"$error":"#DIV/0!"}},null,{"$f":"N11","v":0},{"$f":"COUNTIF(L22:L28,AD11)","v":0},{"$f":"AE11/(AG4-AE8)","v":0},{"$f":"IF(AF11=0,0,(AF11*((LOG(AF11))/LOG(2))))","v":0},null,{"$f":"N11","v":0},{"$f":"COUNTIF(L29:L35,AI11)","v":0},{"$f":"AJ11/(AL4-AJ8)","v":0},{"$f":"IF(AK11=0,0,(AK11*((LOG(AK11))/LOG(2))))","v":0},null,{"$f":"N11","v":0},{"$f":"COUNTIF(L36:L43,AN11)","v":0},{"$f":"AO11/(AQ4-AO8)","v":{"$error":"#DIV/0!"}},{"$f":"IF(AP11=0,0,(AP11*((LOG(AP11))/LOG(2))))","v":{"$error":"#DIV/0!"}},null,{"$f":"N11","v":0},{"$f":"COUNTIF(L44:L50,AS11)","v":0},{"$f":"AT11/(AV4-AT8)","v":{"$error":"#DIV/0!"}},{"$f":"IF(AU11=0,0,(AU11*((LOG(AU11))/LOG(2))))","v":{"$error":"#DIV/0!"}}]
[11,643,21,656,null,null,null,null,null,null,0,12,null,null,null,null,null,null,null,{"$f":"N12","v":0},{"$f":"COUNTIF(L7:L13,T12)","v":0},{"$f":"U12/(W4-U8)","v":0},{"$f":"IF(V12=0,0,(V12*((LOG(V12))/LOG(2))))","v":0},null,{"$f":"N12","v":0},{"$f":"COUNTIF(L14:L21,Y12)","v":0},{"$f":"Z12/(AB4-Z8)","v":{"$error":"#DIV/0!"}},{"$f":"IF(AA12=0,0,(AA12*((LOG(AA12))/LOG(2))))","v":{"$error":"#DIV/0!"}},null,{"$f":"N12","v":0},{"$f":"COUNTIF(L22:L28,AD12)","v":0},{"$f":"AE12/(AG4-AE8)","v":0},{"$f":"IF(AF12=0,0,(AF12*((LOG(AF12))/LOG(2))))","v":0},null,{"$f":"N12","v":0},{"$f":"COUNTIF(L29:L35,AI12)","v":0},{"$f":"AJ12/(AL4-AJ8)","v":0},{"$f":"IF(AK12=0,0,(AK12*((LOG(AK12))/LOG(2))))","v":0},null,{"$f":"N12","v":0},{"$f":"COUNTIF(L36:L43,AN12)","v":0},{"$f":"AO12/(AQ4-AO8)","v":{"$error":"#DIV/0!"}},{"$f":"IF(AP12=0,0,(AP12*((LOG(AP12))/LOG(2))))","v":{"$error":"#DIV/0!"}},null,{"$f":"N12","v":0},{"$f":"COUNTIF(L44:L50,AS12)","v":0},{"$f":"AT12/(AV4-AT8)","v":{"$error":"#DIV/0!"}},{"$f":"IF(AU12=0,0,(AU12*((LOG(AU12))/LOG(2))))","v":{"$error":"#DIV/0!"}}]
[11,753,21,766,null,null,null,null,null,null,0,12,null,null,null,null,null,null,null,{"$f":"N13","v":0},{"$f":"COUNTIF(L7:L13,T13)","v":0},{"$f":"U13/(W4-U8)","v":0},{"$f":"IF(V13=0,0,(V13*((LOG(V13))/LOG(2))))","v":0},null,{"$f":"N13","v":0},{"$f":"COUNTIF(L14:L21,Y13)","v":0},{"$f":"Z13/(AB4-Z8)","v":{"$error":"#DIV/0!"}},{"$f":"IF(AA13=0,0,(AA13*((LOG(AA13))/LOG(2))))","v":{"$error":"#DIV/0!"}},null,{"$f":"N13","v":0},{"$f":"COUNTIF(L22:L28,AD13)","v":0},{"$f":"AE13/(AG4-AE8)","v":0},{"$f":"IF(AF13=0,0,(AF13*((LOG(AF13))/LOG(2))))","v":0},null,{"$f":"N13","v":0},{"$f":"COUNTIF(L29:L35,AI13)","v":0},{"$f":"AJ13/(AL4-AJ8)","v":0},{"$f":"IF(AK13=0,0,(AK13*((LOG(AK13))/LOG(2))))","v":0},null,{"$f":"N13","v":0},{"$f":"COUNTIF(L36:L43,AN13)","v":0},{"$f":"AO13/(AQ4-AO8)","v":{"$error":"#DIV/0!"}},{"$f":"IF(AP13=0,0,(AP13*((LOG(AP13))/LOG(2))))","v":{"$error":"#DIV/0!"}},null,{"$f":"N13","v":0},{"$f":"COUNTIF(L44:L50,AS13)","v":0},{"$f":"AT13/(AV4-AT8)","v":{"$error":"#DIV/0!"}},{"$f":"IF(AU13=0,0,(AU13*((LOG(AU13))/LOG(2))))","v":{"$error":"#DIV/0!"}}]
[11,862,21,871,null,null,null,null,null,null,0,12,null,null,null,null,null,null,null,{"$f":"N14","v":0},{"$f":"COUNTIF(L7:L13,T14)","v":0},{"$f":"U14/(W4-U8)","v":0},{"$f":"IF(V14=0,0,(V14*((LOG(V14))/LOG(2))))","v":0},null,{"$f":"N14","v":0},{"$f":"COUNTIF(L14:L21,Y14)","v":0},{"$f":"Z14/(AB4-Z8)","v":{"$error":"#DIV/0!"}},{"$f":"IF(AA14=0,0,(AA14*((LOG(AA14))/LOG(2))))","v":{"$error":"#DIV/0!"}},null,{"$f":"N14","v":0},{"$f":"COUNTIF(L22:L28,AD14)","v":0},{"$f":"AE14/(AG4-AE8)","v":0},{"$f":"IF(AF14=0,0,(AF14*((LOG(AF14))/LOG(2))))","v":0},null,{"$f":"N14","v":0},{"$f":"COUNTIF(L29:L35,AI14)","v":0},{"$f":"AJ14/(AL4-AJ8)","v":0},{"$f":"IF(AK14=0,0,(AK14*((LOG(AK14))/LOG(2))))","v":0},null,{"$f":"N14","v":0},{"$f":"COUNTIF(L36:L43,AN14)","v":0},{"$f":"AO14/(AQ4-AO8)","v":{"$error":"#DIV/0!"}},{"$f":"IF(AP14=0,0,(AP14*((LOG(AP14))/LOG(2))))","v":{"$error":"#DIV/0!"}},null,{"$f":"N14","v":0},{"$f":"COUNTIF(L44:L50,AS14)","v":0},{"$f":"AT14/(AV4-AT8)","v":{"$error":"#DIV/0!"}},{"$f":"IF(AU14=0,0,(AU14*((LOG(AU14))/LOG(2))))","v":{"$error":"#DIV/0!"}}]
[11,969,21,979,null,null,null,null,null,null,0,12,null,null,null,{"$f":"SUM(P7:P14)","v":1},{"$f":"-SUM(Q7:Q14)","v":0.43949698692151329},null,null,null,null,{"$f":"SUM(V7:V14)","v":1},{"$f":"-SUM(W7:W14)","v":0},null,null,null,{"$f":"SUM(AA7:AA14)","v":{"$error":"#DIV/0!"}},{"$f":"-SUM(AB7:AB14)","v":{"$error":"#DIV/0!"}},null,null,null,{"$f":"SUM(AF7:AF14)","v":1},{"$f":"-SUM(AG7:AG14)","v":0},null,null,null,{"$f":"SUM(AK7:AK14)","v":1},{"$f":"-SUM(AL7:AL14)","v":0},null,null,null,{"$f":"SUM(AP7:AP14)","v":{"$error":"#DIV/0!"}},{"$f":"-SUM(AQ7:AQ14)","v":{"$error":"#DIV/0!"}},null,null,null,{"$f":"SUM(AU7:AU14)","v":{"$error":"#DIV/0!"}},{"$f":"-SUM(AV7:AV14)","v":{"$error":"#DIV/0!"}}]
[11,1073,21,1083,null,null,null,null,null,null,0,12,null,null,null,"U=",{"$f":"Q15/(LOG(Q4)/LOG(2))","v":8.0502333873212623E-2},null,null,null,null,"U1=",{"$f":"W15/(LOG(W4)/LOG(2))","v":0},null,null,null,"U2=",{"$f":"AB15/(LOG(AB4)/LOG(2))","v":{"$error":"#DIV/0!"}},null,null,null,"U3=",{"$f":"AG15/(LOG(AG4)/LOG(2))","v":0},null,null,null,"U4=",{"$f":"AL15/(LOG(AL4)/LOG(2))","v":0},null,null,null,"U5=",{"$f":"AQ15/(LOG(AQ4)/LOG(2))","v":{"$error":"#DIV/0!"}},null,null,null,"U6=",{"$f":"AV15/(LOG(AV4)/LOG(2))","v":{"$error":"#DIV/0!"}}]
[11,1177,21,1189,null,null,null,null,null,null,0,12]
[11,1283,21,1292,null,null,null,null,null,null,0,12]
[11,1394,21,1404,null,null,null,null,null,null,0,12,null,"Total Target Seq"]
[11,1497,21,1509,null,null,null,null,null,null,0,12,null,{"$f":"COUNTIF(L7:L50,G3)","v":40},null,7,8,7,7,8,7]
[11,1603,21,1612,null,null,null,null,null,null,0,12,null,null,null,"% of reinforcement given in 6 equal intervals based on number of trials "]
[11,1709,21,1746,null,null,null,null,null,null,0,12,null,null,null,"%_1","%_2","%_3","%_4","%_5","%_6"]
[11,1844,21,1860,null,null,null,null,null,null,0,12,null,null,"target sequence",{"$f":"$G$3","v":12},{"$f":"$G$3","v":12},{"$f":"$G$3","v":12},{"$f":"$G$3","v":12},{"$f":"$G$3","v":12},{"$f":"$G$3","v":12}]
[11,1953,21,1963,null,null,null,null,null,null,0,12,null,null,"total reinforcement",{"$f":"U8","v":5},{"$f":"Z8","v":8},{"$f":"AE8","v":6},{"$f":"AJ8","v":6},{"$f":"AO8","v":8},{"$f":"AT8","v":7}]
[11,2061,21,2074,null,null,null,null,null,null,0,12,null,null,"% target"]
[22,2203,23,2235,null,null,null,null,null,null,0,22,null,null,"CCRF"]
[11,2339,21,2352,null,null,null,null,null,null,0,12,null,null,"% CCRf"]
[11,2446,21,2455,null,null,null,null,null,null,0,12,null,null,"average response rate",{"$f":"D13/P20","v":109.42857142857143},{"$f":"(D21-D13)/Q20","v":105.75},{"$f":"(D28-D21)/R20","v":120.42857142857143},{"$f":"(D35-D28)/S20","v":119.28571428571429},{"$f":"(D43-D35)/T20","v":114.25},{"$f":"(D50-D43)/U20","v":109.14285714285714}]
[11,2549,21,2576,null,null,null,null,null,null,0,12]
[22,2703,23,2732,null,null,null,null,null,null,0,22]
[11,2837,21,2861,null,null,null,null,null,null,0,12]
[11,2955,21,2964,null,null,null,null,null,null,0,12]
[11,3059,21,3072,null,null,null,null,null,null,0,12]
[11,3172,21,3183,null,null,null,null,null,null,0,12]
[11,3278,21,3290,null,null,null,null,null,null,0,12]
[11,3387,21,3396,null,null,null,null,null,null,0,12]
[11,3490,21,3501,null,null,null,null,null,null,0,12]
[11,3594,21,3607,null,null,null,null,null,null,0,12]
[11,3703,21,3714,null,null,null,null,null,null,0,12]
[11,3807,21,3856,null,null,null,null,null,null,0,12]
[11,3954,21,3984,null,null,null,null,null,null,0,12]
[11,4080,21,4090,null,null,null,null,null,null,0,12]
[11,4190,21,4204,null,null,null,null,null,null,0,12]
[11,4300,21,4312,null,null,null,null,null,null,0,12]
[11,4417,21,4428,null,null,null,null,null,null,0,12]
[11,4523,21,4535,null,null,null,null,null,null,0,12]
[11,4633,21,4644,null,null,null,null,null,null,0,12]
[11,4737,21,4747,null,null,null,null,null,null,0,12]
[11,4842,21,4859,null,null,null,null,null,null,0,12]
[11,4954,21,4968,null,null,null,null,null,null,1,12]

{"sheet":"!MC22A30.105","index":26,"n_rows":57,"n_cols":48,"rows_kept":57,"cut":false,"hidden":false,"merged":[[4,39,4,42],[5,39,5,40],[4,44,4,47],[5,44,5,45],[4,24,4,27],[5,24,5,25],[4,29,4,32],[5,29,5,30],[4,34,4,37],[5,34,5,35],[1,1,1,2],[5,13,5,14],[18,13,18,14],[19,13,19,14],[4,19,4,22],[5,19,5,20]]}
["Report for:!MC22A30.105"]
["Date:","<date>"]
["Hen:","<hen>",null,null,null,"Correct Sequence",{"$f":"Start!J2","v":12},null,null,null,null,null,null,null,null,"Total Sequences in Data",{"$f":"4994-COUNTBLANK(L7:L5000)","v":51},null,null,null,null,"Total Sequences in Block Data",{"$f":"COUNTA(L7:L15)","v":9},null,null,null,"Total Sequences in Block Data",{"$f":"COUNTA(L16:L23)","v":8},null,null,null,"Total Sequences in Block Data",{"$f":"COUNTA(L24:L32)","v":9},null,null,null,"Total Sequences in Block Data",{"$f":"COUNTA(L33:L40)","v":8},null,null,null,"Total Sequences in Block Data",{"$f":"COUNTA(L41:L49)","v":9},null,null,null,"Total Sequences in Block Data",{"$f":"COUNTA(L50:L57)","v":8}]
[null,null,null,null,null,null,null,null,null,null,null,null,null,null,null,"Total Sequences in Summary",{"$f":"SUM(O7:O14)","v":51},null,null,null,null,"Total Sequences in Block Summary",{"$f":"SUM(U7:U14)","v":9},null,null,null,"Total Sequences in Block Summary",{"$f":"SUM(Z7:Z14)","v":8},null,null,null,"Total Sequences in Block Summary",{"$f":"SUM(AE7:AE14)","v":9},null,null,null,"Total Sequences in Block Summary",{"$f":"SUM(AJ7:AJ14)","v":8},null,null,null,"Total Sequences in Block Summary",{"$f":"SUM(AO7:AO14)","v":9},null,null,null,"Total Sequences in Block Summary",{"$f":"SUM(AT7:AT14)","v":8}]
[null,null,null,null,null,null,null,null,null,null,null,null,null,null,null,null,null,null,null,"Block 1",null,null,null,null,"Block 2",null,null,null,null,"Block 3",null,null,null,null,"Block 4",null,null,null,null,"Block 5",null,null,null,null,"Block 6"]
["Sequence\nComponent\n1","Time\n1","Sequence\nComponent\n2","Time\n2","Sequence\nComponent\n3","Time\n3","Sequence\nComponent\n4","Time\n4","Sequence\nComponent\n5","Time\n5","Correct?\n0=No 1=Yes","Sequence",null,"Frequency",null,"Relative Frequency","Variability",null,null,"Frequency",null,"Relative Frequency","Variability",null,"Frequency",null,"Relative Frequency","Variability",null,"Frequency",null,"Relative Frequency","Variability",null,"Frequency",null,"Relative Frequency","Variability",null,"Frequency",null,"Relative Frequency","Variability",null,"Frequency",null,"Relative Frequency","Variability"]
[11,19,21,30,null,null,null,null,null,null,0,12,null,11,{"$f":"COUNTIF($L$7:$L$500,N7)","v":0},{"$f":"O7/$Q$4","v":0},{"$f":"IF(P7=0,0,(P7*((LOG(P7))/LOG(2))))","v":0},null,null,{"$f":"N7","v":11},{"$f":"COUNTIF(L7:L15,T7)","v":0},{"$f":"U7/(W4-U8)","v":0},{"$f":"IF(V7=0,0,(V7*((LOG(V7))/LOG(2))))","v":0},null,{"$f":"N7","v":11},{"$f":"COUNTIF(L16:L23,Y7)","v":0},{"$f":"Z7/(AB4-Z8)","v":0},{"$f":"IF(AA7=0,0,(AA7*((LOG(AA7))/LOG(2))))","v":0},null,{"$f":"N7","v":11},{"$f":"COUNTIF(L24:L32,AD7)","v":0},{"$f":"AE7/(AG4-AE8)","v":0},{"$f":"IF(AF7=0,0,(AF7*((LOG(AF7))/LOG(2))))","v":0},null,{"$f":"N7","v":11},{"$f":"COUNTIF(L33:L40,AI7)","v":0},{"$f":"AJ7/(AL4-AJ8)","v":0},{"$f":"IF(AK7=0,0,(AK7*((LOG(AK7))/LOG(2))))","v":0},null,{"$f":"N7","v":11},{"$f":"COUNTIF(L41:L49,AN7)","v":0},{"$f":"AO7/(AQ4-AO8)","v":0},{"$f":"IF(AP7=0,0,(AP7*((LOG(AP7))/LOG(2))))","v":0},null,{"$f":"N7","v":11},{"$f":"COUNTIF(L50:L57,AS7)","v":0},{"$f":"AT7/(AV4-AT8)","v":{"$error":"#DIV/0!"}},{"$f":"IF(AU7=0,0,(AU7*((LOG(AU7))/LOG(2))))","v":{"$error":"#DIV/0!"}}]
[11,129,21,140,null,null,null,null,null,null,0,12,null,12,{"$f":"COUNTIF($L$7:$L$500,N8)","v":39},{"$f":"O8/$Q$4","v":0.76470588235294112},{"$f":"IF(P8=0,0,(P8*((LOG(P8))/LOG(2))))","v":-0.29595885884824796},null,null,{"$f":"N8","v":12},{"$f":"COUNTIF(L7:L15,T8)","v":8},null,null,null,{"$f":"N8","v":12},{"$f":"COUNTIF(L16:L23,Y8)","v":4},null,null,null,{"$f":"N8","v":12},{"$f":"COUNTIF(L24:L32,AD8)","v":7},null,null,null,{"$f":"N8","v":12},{"$f":"COUNTIF(L33:L40,AI8)","v":6},null,null,null,{"$f":"N8","v":12},{"$f":"COUNTIF(L41:L49,AN8)","v":6},null,null,null,{"$f":"N8","v":12},{"$f":"COUNTIF(L50:L57,AS8)","v":8}]
[11,237,21,259,null,null,null,null,null,null,0,12,null,21,{"$f":"COUNTIF($L$7:$L$500,N9)","v":0},{"$f":"O9/$Q$4","v":0},{"$f":"IF(P9=0,0,(P9*((LOG(P9))/LOG(2))))","v":0},null,null,{"$f":"N9","v":21},{"$f":"COUNTIF(L7:L15,T9)","v":0},{"$f":"U9/(W4-U8)","v":0},{"$f":"IF(V9=0,0,(V9*((LOG(V9))/LOG(2))))","v":0},null,{"$f":"N9","v":21},{"$f":"COUNTIF(L16:L23,Y9)","v":0},{"$f":"Z9/(AB4-Z8)","v":0},{"$f":"IF(AA9=0,0,(AA9*((LOG(AA9))/LOG(2))))","v":0},null,{"$f":"N9","v":21},{"$f":"COUNTIF(L24:L32,AD9)","v":0},{"$f":"AE9/(AG4-AE8)","v":0},{"$f":"IF(AF9=0,0,(AF9*((LOG(AF9))/LOG(2))))","v":0},null,{"$f":"N9","v":21},{"$f":"COUNTIF(L33:L40,AI9)","v":0},{"$f":"AJ9/(AL4-AJ8)","v":0},{"$f":"IF(AK9=0,0,(AK9*((LOG(AK9))/LOG(2))))","v":0},null,{"$f":"N9","v":21},{"$f":"COUNTIF(L41:L49,AN9)","v":0},{"$f":"AO9/(AQ4-AO8)","v":0},{"$f":"IF(AP9=0,0,(AP9*((LOG(AP9))/LOG(2))))","v":0},null,{"$f":"N9","v":21},{"$f":"COUNTIF(L50:L57,AS9)","v":0},{"$f":"AT9/(AV4-AT8)","v":{"$error":"#DIV/0!"}},{"$f":"IF(AU9=0,0,(AU9*((LOG(AU9))/LOG(2))))","v":{"$error":"#DIV/0!"}}]
[11,356,21,376,null,null,null,null,null,null,0,12,null,22,{"$f":"COUNTIF($L$7:$L$500,N10)","v":12},{"$f":"O10/$Q$4","v":0.23529411764705882},{"$f":"IF(P10=0,0,(P10*((LOG(P10))/LOG(2))))","v":-0.49116772735302094},null,null,{"$f":"N10","v":22},{"$f":"COUNTIF(L7:L15,T10)","v":1},{"$f":"U10/(W4-U8)","v":1},{"$f":"IF(V10=0,0,(V10*((LOG(V10))/LOG(2))))","v":0},null,{"$f":"N10","v":22},{"$f":"COUNTIF(L16:L23,Y10)","v":4},{"$f":"Z10/(AB4-Z8)","v":1},{"$f":"IF(AA10=0,0,(AA10*((LOG(AA10))/LOG(2))))","v":0},null,{"$f":"N10","v":22},{"$f":"COUNTIF(L24:L32,AD10)","v":2},{"$f":"AE10/(AG4-AE8)","v":1},{"$f":"IF(AF10=0,0,(AF10*((LOG(AF10))/LOG(2))))","v":0},null,{"$f":"N10","v":22},{"$f":"COUNTIF(L33:L40,AI10)","v":2},{"$f":"AJ10/(AL4-AJ8)","v":1},{"$f":"IF(AK10=0,0,(AK10*((LOG(AK10))/LOG(2))))","v":0},null,{"$f":"N10","v":22},{"$f":"COUNTIF(L41:L49,AN10)","v":3},{"$f":"AO10/(AQ4-AO8)","v":1},{"$f":"IF(AP10=0,0,(AP10*((LOG(AP10))/LOG(2))))","v":0},null,{"$f":"N10","v":22},{"$f":"COUNTIF(L50:L57,AS10)","v":0},{"$f":"AT10/(AV4-AT8)","v":{"$error":"#DIV/0!"}},{"$f":"IF(AU10=0,0,(AU10*((LOG(AU10))/LOG(2))))","v":{"$error":"#DIV/0!"}}]
[11,480,21,495,null,null,null,null,null,null,0,12,null,null,null,null,null,null,null,{"$f":"N11","v":0},{"$f":"COUNTIF(L7:L15,T11)","v":0},{"$f":"U11/(W4-U8)","v":0},{"$f":"IF(V11=0,0,(V11*((LOG(V11))/LOG(2))))","v":0},null,{"$f":"N11","v":0},{"$f":"COUNTIF(L16:L23,Y11)","v":0},{"$f":"Z11/(AB4-Z8)","v":0},{"$f":"IF(AA11=0,0,(AA11*((LOG(AA11))/LOG(2))))","v":0},null,{"$f":"N11","v":0},{"$f":"COUNTIF(L24:L32,AD11)","v":0},{"$f":"AE11/(AG4-AE8)","v":0},{"$f":"IF(AF11=0,0,(AF11*((LOG(AF11))/LOG(2))))","v":0},null,{"$f":"N11","v":0},{"$f":"COUNTIF(L33:L40,AI11)","v":0},{"$f":"AJ11/(AL4-AJ8)","v":0},{"$f":"IF(AK11=0,0,(AK11*((LOG(AK11))/LOG(2))))","v":0},null,{"$f":"N11","v":0},{"$f":"COUNTIF(L41:L49,AN11)","v":0},{"$f":"AO11/(AQ4-AO8)","v":0},{"$f":"IF(AP11=0,0,(AP11*((LOG(AP11))/LOG(2))))","v":0},null,{"$f":"N11","v":0},{"$f":"COUNTIF(L50:L57,AS11)","v":0},{"$f":"AT11/(AV4-AT8)","v":{"$error":"#DIV/0!"}},{"$f":"IF(AU11=0,0,(AU11*((LOG(AU11))/LOG(2))))","v":{"$error":"#DIV/0!"}}]
[11,595,21,609,null,null,null,null,null,null,0,12,null,null,null,null,null,null,null,{"$f":"N12","v":0},{"$f":"COUNTIF(L7:L15,T12)","v":0},{"$f":"U12/(W4-U8)","v":0},{"$f":"IF(V12=0,0,(V12*((LOG(V12))/LOG(2))))","v":0},null,{"$f":"N12","v":0},{"$f":"COUNTIF(L16:L23,Y12)","v":0},{"$f":"Z12/(AB4-Z8)","v":0},{"$f":"IF(AA12=0,0,(AA12*((LOG(AA12))/LOG(2))))","v":0},null,{"$f":"N12","v":0},{"$f":"COUNTIF(L24:L32,AD12)","v":0},{"$f":"AE12/(AG4-AE8)","v":0},{"$f":"IF(AF12=0,0,(AF12*((LOG(AF12))/LOG(2))))","v":0},null,{"$f":"N12","v":0},{"$f":"COUNTIF(L33:L40,AI12)","v":0},{"$f":"AJ12/(AL4-AJ8)","v":0},{"$f":"IF(AK12=0,0,(AK12*((LOG(AK12))/LOG(2))))","v":0},null,{"$f":"N12","v":0},{"$f":"COUNTIF(L41:L49,AN12)","v":0},{"$f":"AO12/(AQ4-AO8)","v":0},{"$f":"IF(AP12=0,0,(AP12*((LOG(AP12))/LOG(2))))","v":0},null,{"$f":"N12","v":0},{"$f":"COUNTIF(L50:L57,AS12)","v":0},{"$f":"AT12/(AV4-AT8)","v":{"$error":"#DIV/0!"}},{"$f":"IF(AU12=0,0,(AU12*((LOG(AU12))/LOG(2))))","v":{"$error":"#DIV/0!"}}]
[11,710,21,728,null,null,null,null,null,null,0,12,null,null,null,null,null,null,null,{"$f":"N13","v":0},{"$f":"COUNTIF(L7:L15,T13)","v":0},{"$f":"U13/(W4-U8)","v":0},{"$f":"IF(V13=0,0,(V13*((LOG(V13))/LOG(2))))","v":0},null,{"$f":"N13","v":0},{"$f":"COUNTIF(L16:L23,Y13)","v":0},{"$f":"Z13/(AB4-Z8)","v":0},{"$f":"IF(AA13=0,0,(AA13*((LOG(AA13))/LOG(2))))","v":0},null,{"$f":"N13","v":0},{"$f":"COUNTIF(L24:L32,AD13)","v":0},{"$f":"AE13/(AG4-AE8)","v":0},{"$f":"IF(AF13=0,0,(AF13*((LOG(AF13))/LOG(2))))","v":0},null,{"$f":"N13","v":0},{"$f":"COUNTIF(L33:L40,AI13)","v":0},{"$f":"AJ13/(AL4-AJ8)","v":0},{"$f":"IF(AK13=0,0,(AK13*((LOG(AK13))/LOG(2))))","v":0},null,{"$f":"N13","v":0},{"$f":"COUNTIF(L41:L49,AN13)","v":0},{"$f":"AO13/(AQ4-AO8)","v":0},{"$f":"IF(AP13=0,0,(AP13*((LOG(AP13))/LOG(2))))","v":0},null,{"$f":"N13","v":0},{"$f":"COUNTIF(L50:L57,AS13)","v":0},{"$f":"AT13/(AV4-AT8)","v":{"$error":"#DIV/0!"}},{"$f":"IF(AU13=0,0,(AU13*((LOG(AU13))/LOG(2))))","v":{"$error":"#DIV/0!"}}]
[22,845,23,878,null,null,null,null,null,null,0,22,null,null,null,null,null,null,null,{"$f":"N14","v":0},{"$f":"COUNTIF(L7:L15,T14)","v":0},{"$f":"U14/(W4-U8)","v":0},{"$f":"IF(V14=0,0,(V14*((LOG(V14))/LOG(2))))","v":0},null,{"$f":"N14","v":0},{"$f":"COUNTIF(L16:L23,Y14)","v":0},{"$f":"Z14/(AB4-Z8)","v":0},{"$f":"IF(AA14=0,0,(AA14*((LOG(AA14))/LOG(2))))","v":0},null,{"$f":"N14","v":0},{"$f":"COUNTIF(L24:L32,AD14)","v":0},{"$f":"AE14/(AG4-AE8)","v":0},{"$f":"IF(AF14=0,0,(AF14*((LOG(AF14))/LOG(2))))","v":0},null,{"$f":"N14","v":0},{"$f":"COUNTIF(L33:L40,AI14)","v":0},{"$f":"AJ14/(AL4-AJ8)","v":0},{"$f":"IF(AK14=0,0,(AK14*((LOG(AK14))/LOG(2))))","v":0},null,{"$f":"N14","v":0},{"$f":"COUNTIF(L41:L49,AN14)","v":0},{"$f":"AO14/(AQ4-AO8)","v":0},{"$f":"IF(AP14=0,0,(AP14*((LOG(AP14))/LOG(2))))","v":0},null,{"$f":"N14","v":0},{"$f":"COUNTIF(L50:L57,AS14)","v":0},{"$f":"AT14/(AV4-AT8)","v":{"$error":"#DIV/0!"}},{"$f":"IF(AU14=0,0,(AU14*((LOG(AU14))/LOG(2))))","v":{"$error":"#DIV/0!"}}]
[11,976,21,1002,null,null,null,null,null,null,0,12,null,null,null,{"$f":"SUM(P7:P14)","v":1},{"$f":"-SUM(Q7:Q14)","v":0.78712658620126885},null,null,null,null,{"$f":"SUM(V7:V14)","v":1},{"$f":"-SUM(W7:W14)","v":0},null,null,null,{"$f":"SUM(AA7:AA14)","v":1},{"$f":"-SUM(AB7:AB14)","v":0},null,null,null,{"$f":"SUM(AF7:AF14)","v":1},{"$f":"-SUM(AG7:AG14)","v":0},null,null,null,{"$f":"SUM(AK7:AK14)","v":1},{"$f":"-SUM(AL7:AL14)","v":0},null,null,null,{"$f":"SUM(AP7:AP14)","v":1},{"$f":"-SUM(AQ7:AQ14)","v":0},null,null,null,{"$f":"SUM(AU7:AU14)","v":{"$error":"#DIV/0!"}},{"$f":"-SUM(AV7:AV14)","v":{"$error":"#DIV/0!"}}]
[22,1110,23,1143,null,null,null,null,null,null,0,22,null,null,null,"U=",{"$f":"Q15/(LOG(Q4)/LOG(2))","v":0.13876367492704575},null,null,null,null,"U1=",{"$f":"W15/(LOG(W4)/LOG(2))","v":0},null,null,null,"U2=",{"$f":"AB15/(LOG(AB4)/LOG(2))","v":0},null,null,null,"U3=",{"$f":"AG15/(LOG(AG4)/LOG(2))","v":0},null,null,null,"U4=",{"$f":"AL15/(LOG(AL4)/LOG(2))","v":0},null,null,null,"U5=",{"$f":"AQ15/(LOG(AQ4)/LOG(2))","v":0},null,null,null,"U6=",{"$f":"AV15/(LOG(AV4)/LOG(2))","v":{"$error":"#DIV/0!"}}]
[11,1246,21,1259,null,null,null,null,null,null,0,12]
[22,1369,23,1408,null,null,null,null,null,null,0,22]
[22,1525,23,1565,null,null,null,null,null,null,0,22,null,"Total Target Seq"]
[11,1673,21,1697,null,null,null,null,null,null,0,12,null,{"$f":"COUNTIF(L7:L57,G3)","v":39},null,9,8,9,8,9,8]
[22,1816,23,1851,null,null,null,null,null,null,0,22,null,null,null,"% of reinforcement given in 6 equal intervals based on number of trials "]
[11,1957,21,1972,null,null,null,null,null,null,0,12,null,null,null,"%_1","%_2","%_3","%_4","%_5","%_6"]
[11,2073,21,2092,null,null,null,null,null,null,0,12,null,null,"target sequence",{"$f":"$G$3","v":12},{"$f":"$G$3","v":12},{"$f":"$G$3","v":12},{"$f":"$G$3","v":12},{"$f":"$G$3","v":12},{"$f":"$G$3","v":12}]
[11,2187,21,2201,null,null,null,null,null,null,0,12,null,null,"total reinforcement",{"$f":"U8","v":8},{"$f":"Z8","v":4},{"$f":"AE8","v":7},{"$f":"AJ8","v":6},{"$f":"AO8","v":6},{"$f":"AT8","v":8}]
[11,2296,21,2308,null,null,null,null,null,null,0,12,null,null,"% target"]
[22,2417,23,2444,null,null,null,null,null,null,0,22,null,null,"CCRF"]
[11,2555,21,2569,null,null,null,null,null,null,0,12,null,null,"% CCRf"]
[11,2664,21,2674,null,null,null,null,null,null,0,12,null,null,"average response rate",{"$f":"D15/P20","v":111.33333333333333},{"$f":"(D23-D15)/Q20","v":136.25},{"$f":"(D32-D23)/R20","v":118.22222222222223},{"$f":"(D40-D32)/S20","v":132.875},{"$f":"(D49-D40)/T20","v":127.66666666666667},{"$f":"(D57-D49)/U20","v":121.625}]
[11,2771,21,2786,null,null,null,null,null,null,0,12]
[11,2883,21,2898,null,null,null,null,null,null,0,12]
[11,2996,21,3020,null,null,null,null,null,null,0,12]
[22,3133,23,3156,null,null,null,null,null,null,0,22]
[11,3265,21,3306,null,null,null,null,null,null,0,12]
[11,3405,21,3422,null,null,null,null,null,null,0,12]
[22,3565,23,3601,null,null,null,null,null,null,0,22]
[22,3718,23,3735,null,null,null,null,null,null,0,22]
[11,3852,21,3866,null,null,null,null,null,null,0,12]
[11,3971,21,3984,null,null,null,null,null,null,0,12]
[11,4085,21,4098,null,null,null,null,null,null,0,12]
[11,4197,21,4219,null,null,null,null,null,null,0,12]
[11,4322,21,4336,null,null,null,null,null,null,0,12]
[11,4430,21,4437,null,null,null,null,null,null,0,12]
[22,4587,23,4602,null,null,null,null,null,null,0,22]
[11,4707,21,4719,null,null,null,null,null,null,0,12]
[11,4822,21,4851,null,null,null,null,null,null,0,12]
[22,4961,23,4991,null,null,null,null,null,null,0,22]
[11,5098,21,5110,null,null,null,null,null,null,0,12]
[22,5214,23,5236,null,null,null,null,null,null,0,22]
[11,5340,21,5368,null,null,null,null,null,null,0,12]
[11,5477,21,5498,null,null,null,null,null,null,0,12]
[11,5600,21,5621,null,null,null,null,null,null,0,12]
[11,5718,21,5736,null,null,null,null,null,null,0,12]
[11,5833,21,5854,null,null,null,null,null,null,0,12]
[11,5950,21,5964,null,null,null,null,null,null,0,12]
[11,6067,21,6116,null,null,null,null,null,null,0,12]
[11,6214,21,6223,null,null,null,null,null,null,0,12]
[11,6326,21,6341,null,null,null,null,null,null,1,12]

{"sheet":"!MC23A50.105","index":27,"n_rows":52,"n_cols":48,"rows_kept":52,"cut":false,"hidden":false,"merged":[[4,39,4,42],[5,39,5,40],[4,44,4,47],[5,44,5,45],[4,24,4,27],[5,24,5,25],[4,29,4,32],[5,29,5,30],[4,34,4,37],[5,34,5,35],[1,1,1,2],[5,13,5,14],[18,13,18,14],[19,13,19,14],[4,19,4,22],[5,19,5,20]]}
["Report for:!MC23A50.105"]
["Date:","<date>"]
["Hen:","<hen>",null,null,null,"Correct Sequence",{"$f":"Start!J2","v":12},null,null,null,null,null,null,null,null,"Total Sequences in Data",{"$f":"4994-COUNTBLANK(L7:L5000)","v":46},null,null,null,null,"Total Sequences in Block Data",{"$f":"COUNTA(L7:L14)","v":8},null,null,null,"Total Sequences in Block Data",{"$f":"COUNTA(L15:L21)","v":7},null,null,null,"Total Sequences in Block Data",{"$f":"COUNTA(L22:L29)","v":8},null,null,null,"Total Sequences in Block Data",{"$f":"COUNTA(L30:L37)","v":8},null,null,null,"Total Sequences in Block Data",{"$f":"COUNTA(L38:L44)","v":7},null,null,null,"Total Sequences in Block Data",{"$f":"COUNTA(L45:L52)","v":8}]
[null,null,null,null,null,null,null,null,null,null,null,null,null,null,null,"Total Sequences in Summary",{"$f":"SUM(O7:O14)","v":46},null,null,null,null,"Total Sequences in Block Summary",{"$f":"SUM(U7:U14)","v":8},null,null,null,"Total Sequences in Block Summary",{"$f":"SUM(Z7:Z14)","v":7},null,null,null,"Total Sequences in Block Summary",{"$f":"SUM(AE7:AE14)","v":8},null,null,null,"Total Sequences in Block Summary",{"$f":"SUM(AJ7:AJ14)","v":8},null,null,null,"Total Sequences in Block Summary",{"$f":"SUM(AO7:AO14)","v":7},null,null,null,"Total Sequences in Block Summary",{"$f":"SUM(AT7:AT14)","v":8}]
[null,null,null,null,null,null,null,null,null,null,null,null,null,null,null,null,null,null,null,"Block 1",null,null,null,null,"Block 2",null,null,null,null,"Block 3",null,null,null,null,"Block 4",null,null,null,null,"Block 5",null,null,null,null,"Block 6"]
["Sequence\nComponent\n1","Time\n1","Sequence\nComponent\n2","Time\n2","Sequence\nComponent\n3","Time\n3","Sequence\nComponent\n4","Time\n4","Sequence\nComponent\n5","Time\n5","Correct?\n0=No 1=Yes","Sequence",null,"Frequency",null,"Relative Frequency","Variability",null,null,"Frequency",null,"Relative Frequency","Variability",null,"Frequency",null,"Relative Frequency","Variability",null,"Frequency",null,"Relative Frequency","Variability",null,"Frequency",null,"Relative Frequency","Variability",null,"Frequency",null,"Relative Frequency","Variability",null,"Frequency",null,"Relative Frequency","Variability"]
[11,20,21,32,null,null,null,null,null,null,0,12,null,11,{"$f":"COUNTIF($L$7:$L$500,N7)","v":0},{"$f":"O7/$Q$4","v":0},{"$f":"IF(P7=0,0,(P7*((LOG(P7))/LOG(2))))","v":0},null,null,{"$f":"N7","v":11},{"$f":"COUNTIF(L7:L14,T7)","v":0},{"$f":"U7/(W4-U8)","v":0},{"$f":"IF(V7=0,0,(V7*((LOG(V7))/LOG(2))))","v":0},null,{"$f":"N7","v":11},{"$f":"COUNTIF(L15:L21,Y7)","v":0},{"$f":"Z7/(AB4-Z8)","v":0},{"$f":"IF(AA7=0,0,(AA7*((LOG(AA7))/LOG(2))))","v":0},null,{"$f":"N7","v":11},{"$f":"COUNTIF(L22:L29,AD7)","v":0},{"$f":"AE7/(AG4-AE8)","v":0},{"$f":"IF(AF7=0,0,(AF7*((LOG(AF7))/LOG(2))))","v":0},null,{"$f":"N7","v":11},{"$f":"COUNTIF(L30:L37,AI7)","v":0},{"$f":"AJ7/(AL4-AJ8)","v":0},{"$f":"IF(AK7=0,0,(AK7*((LOG(AK7))/LOG(2))))","v":0},null,{"$f":"N7","v":11},{"$f":"COUNTIF(L38:L44,AN7)","v":0},{"$f":"AO7/(AQ4-AO8)","v":{"$error":"#DIV/0!"}},{"$f":"IF(AP7=0,0,(AP7*((LOG(AP7))/LOG(2))))","v":{"$error":"#DIV/0!"}},null,{"$f":"N7","v":11},{"$f":"COUNTIF(L45:L52,AS7)","v":0},{"$f":"AT7/(AV4-AT8)","v":0},{"$f":"IF(AU7=0,0,(AU7*((LOG(AU7))/LOG(2))))","v":0}]
[11,131,21,146,null,null,null,null,null,null,0,12,null,12,{"$f":"COUNTIF($L$7:$L$500,N8)","v":39},{"$f":"O8/$Q$4","v":0.84782608695652173},{"$f":"IF(P8=0,0,(P8*((LOG(P8))/LOG(2))))","v":-0.2019180380564308},null,null,{"$f":"N8","v":12},{"$f":"COUNTIF(L7:L14,T8)","v":6},null,null,null,{"$f":"N8","v":12},{"$f":"COUNTIF(L15:L21,Y8)","v":6},null,null,null,{"$f":"N8","v":12},{"$f":"COUNTIF(L22:L29,AD8)","v":6},null,null,null,{"$f":"N8","v":12},{"$f":"COUNTIF(L30:L37,AI8)","v":7},null,null,null,{"$f":"N8","v":12},{"$f":"COUNTIF(L38:L44,AN8)","v":7},null,null,null,{"$f":"N8","v":12},{"$f":"COUNTIF(L45:L52,AS8)","v":7}]
[11,248,21,259,null,null,null,null,null,null,0,12,null,21,{"$f":"COUNTIF($L$7:$L$500,N9)","v":2},{"$f":"O9/$Q$4","v":4.3478260869565216E-2},{"$f":"IF(P9=0,0,(P9*((LOG(P9))/LOG(2))))","v":-0.19667660678508753},null,null,{"$f":"N9","v":21},{"$f":"COUNTIF(L7:L14,T9)","v":0},{"$f":"U9/(W4-U8)","v":0},{"$f":"IF(V9=0,0,(V9*((LOG(V9))/LOG(2))))","v":0},null,{"$f":"N9","v":21},{"$f":"COUNTIF(L15:L21,Y9)","v":0},{"$f":"Z9/(AB4-Z8)","v":0},{"$f":"IF(AA9=0,0,(AA9*((LOG(AA9))/LOG(2))))","v":0},null,{"$f":"N9","v":21},{"$f":"COUNTIF(L22:L29,AD9)","v":1},{"$f":"AE9/(AG4-AE8)","v":0.5},{"$f":"IF(AF9=0,0,(AF9*((LOG(AF9))/LOG(2))))","v":-0.5},null,{"$f":"N9","v":21},{"$f":"COUNTIF(L30:L37,AI9)","v":0},{"$f":"AJ9/(AL4-AJ8)","v":0},{"$f":"IF(AK9=0,0,(AK9*((LOG(AK9))/LOG(2))))","v":0},null,{"$f":"N9","v":21},{"$f":"COUNTIF(L38:L44,AN9)","v":0},{"$f":"AO9/(AQ4-AO8)","v":{"$error":"#DIV/0!"}},{"$f":"IF(AP9=0,0,(AP9*((LOG(AP9))/LOG(2))))","v":{"$error":"#DIV/0!"}},null,{"$f":"N9","v":21},{"$f":"COUNTIF(L45:L52,AS9)","v":1},{"$f":"AT9/(AV4-AT8)","v":1},{"$f":"IF(AU9=0,0,(AU9*((LOG(AU9))/LOG(2))))","v":0}]
[22,367,23,388,null,null,null,null,null,null,0,22,null,22,{"$f":"COUNTIF($L$7:$L$500,N10)","v":5},{"$f":"O10/$Q$4","v":0.10869565217391304},{"$f":"IF(P10=0,0,(P10*((LOG(P10))/LOG(2))))","v":-0.34800368056191849},null,null,{"$f":"N10","v":22},{"$f":"COUNTIF(L7:L14,T10)","v":2},{"$f":"U10/(W4-U8)","v":1},{"$f":"IF(V10=0,0,(V10*((LOG(V10))/LOG(2))))","v":0},null,{"$f":"N10","v":22},{"$f":"COUNTIF(L15:L21,Y10)","v":1},{"$f":"Z10/(AB4-Z8)","v":1},{"$f":"IF(AA10=0,0,(AA10*((LOG(AA10))/LOG(2))))","v":0},null,{"$f":"N10","v":22},{"$f":"COUNTIF(L22:L29,AD10)","v":1},{"$f":"AE10/(AG4-AE8)","v":0.5},{"$f":"IF(AF10=0,0,(AF10*((LOG(AF10))/LOG(2))))","v":-0.5},null,{"$f":"N10","v":22},{"$f":"COUNTIF(L30:L37,AI10)","v":1},{"$f":"AJ10/(AL4-AJ8)","v":1},{"$f":"IF(AK10=0,0,(AK10*((LOG(AK10))/LOG(2))))","v":0},null,{"$f":"N10","v":22},{"$f":"COUNTIF(L38:L44,AN10)","v":0},{"$f":"AO10/(AQ4-AO8)","v":{"$error":"#DIV/0!"}},{"$f":"IF(AP10=0,0,(AP10*((LOG(AP10))/LOG(2))))","v":{"$error":"#DIV/0!"}},null,{"$f":"N10","v":22},{"$f":"COUNTIF(L45:L52,AS10)","v":0},{"$f":"AT10/(AV4-AT8)","v":0},{"$f":"IF(AU10=0,0,(AU10*((LOG(AU10))/LOG(2))))","v":0}]
[11,490,21,499,null,null,null,null,null,null,0,12,null,null,null,null,null,null,null,{"$f":"N11","v":0},{"$f":"COUNTIF(L7:L14,T11)","v":0},{"$f":"U11/(W4-U8)","v":0},{"$f":"IF(V11=0,0,(V11*((LOG(V11))/LOG(2))))","v":0},null,{"$f":"N11","v":0},{"$f":"COUNTIF(L15:L21,Y11)","v":0},{"$f":"Z11/(AB4-Z8)","v":0},{"$f":"IF(AA11=0,0,(AA11*((LOG(AA11))/LOG(2))))","v":0},null,{"$f":"N11","v":0},{"$f":"COUNTIF(L22:L29,AD11)","v":0},{"$f":"AE11/(AG4-AE8)","v":0},{"$f":"IF(AF11=0,0,(AF11*((LOG(AF11))/LOG(2))))","v":0},null,{"$f":"N11","v":0},{"$f":"COUNTIF(L30:L37,AI11)","v":0},{"$f":"AJ11/(AL4-AJ8)","v":0},{"$f":"IF(AK11=0,0,(AK11*((LOG(AK11))/LOG(2))))","v":0},null,{"$f":"N11","v":0},{"$f":"COUNTIF(L38:L44,AN11)","v":0},{"$f":"AO11/(AQ4-AO8)","v":{"$error":"#DIV/0!"}},{"$f":"IF(AP11=0,0,(AP11*((LOG(AP11))/LOG(2))))","v":{"$error":"#DIV/0!"}},null,{"$f":"N11","v":0},{"$f":"COUNTIF(L45:L52,AS11)","v":0},{"$f":"AT11/(AV4-AT8)","v":0},{"$f":"IF(AU11=0,0,(AU11*((LOG(AU11))/LOG(2))))","v":0}]
[22,613,23,632,null,null,null,null,null,null,0,22,null,null,null,null,null,null,null,{"$f":"N12","v":0},{"$f":"COUNTIF(L7:L14,T12)","v":0},{"$f":"U12/(W4-U8)","v":0},{"$f":"IF(V12=0,0,(V12*((LOG(V12))/LOG(2))))","v":0},null,{"$f":"N12","v":0},{"$f":"COUNTIF(L15:L21,Y12)","v":0},{"$f":"Z12/(AB4-Z8)","v":0},{"$f":"IF(AA12=0,0,(AA12*((LOG(AA12))/LOG(2))))","v":0},null,{"$f":"N12","v":0},{"$f":"COUNTIF(L22:L29,AD12)","v":0},{"$f":"AE12/(AG4-AE8)","v":0},{"$f":"IF(AF12=0,0,(AF12*((LOG(AF12))/LOG(2))))","v":0},null,{"$f":"N12","v":0},{"$f":"COUNTIF(L30:L37,AI12)","v":0},{"$f":"AJ12/(AL4-AJ8)","v":0},{"$f":"IF(AK12=0,0,(AK12*((LOG(AK12))/LOG(2))))","v":0},null,{"$f":"N12","v":0},{"$f":"COUNTIF(L38:L44,AN12)","v":0},{"$f":"AO12/(AQ4-AO8)","v":{"$error":"#DIV/0!"}},{"$f":"IF(AP12=0,0,(AP12*((LOG(AP12))/LOG(2))))","v":{"$error":"#DIV/0!"}},null,{"$f":"N12","v":0},{"$f":"COUNTIF(L45:L52,AS12)","v":0},{"$f":"AT12/(AV4-AT8)","v":0},{"$f":"IF(AU12=0,0,(AU12*((LOG(AU12))/LOG(2))))","v":0}]
[11,741,21,755,null,null,null,null,null,null,0,12,null,null,null,null,null,null,null,{"$f":"N13","v":0},{"$f":"COUNTIF(L7:L14,T13)","v":0},{"$f":"U13/(W4-U8)","v":0},{"$f":"IF(V13=0,0,(V13*((LOG(V13))/LOG(2))))","v":0},null,{"$f":"N13","v":0},{"$f":"COUNTIF(L15:L21,Y13)","v":0},{"$f":"Z13/(AB4-Z8)","v":0},{"$f":"IF(AA13=0,0,(AA13*((LOG(AA13))/LOG(2))))","v":0},null,{"$f":"N13","v":0},{"$f":"COUNTIF(L22:L29,AD13)","v":0},{"$f":"AE13/(AG4-AE8)","v":0},{"$f":"IF(AF13=0,0,(AF13*((LOG(AF13))/LOG(2))))","v":0},null,{"$f":"N13","v":0},{"$f":"COUNTIF(L30:L37,AI13)","v":0},{"$f":"AJ13/(AL4-AJ8)","v":0},{"$f":"IF(AK13=0,0,(AK13*((LOG(AK13))/LOG(2))))","v":0},null,{"$f":"N13","v":0},{"$f":"COUNTIF(L38:L44,AN13)","v":0},{"$f":"AO13/(AQ4-AO8)","v":{"$error":"#DIV/0!"}},{"$f":"IF(AP13=0,0,(AP13*((LOG(AP13))/LOG(2))))","v":{"$error":"#DIV/0!"}},null,{"$f":"N13","v":0},{"$f":"COUNTIF(L45:L52,AS13)","v":0},{"$f":"AT13/(AV4-AT8)","v":0},{"$f":"IF(AU13=0,0,(AU13*((LOG(AU13))/LOG(2))))","v":0}]
[11,853,21,864,null,null,null,null,null,null,0,12,null,null,null,null,null,null,null,{"$f":"N14","v":0},{"$f":"COUNTIF(L7:L14,T14)","v":0},{"$f":"U14/(W4-U8)","v":0},{"$f":"IF(V14=0,0,(V14*((LOG(V14))/LOG(2))))","v":0},null,{"$f":"N14","v":0},{"$f":"COUNTIF(L15:L21,Y14)","v":0},{"$f":"Z14/(AB4-Z8)","v":0},{"$f":"IF(AA14=0,0,(AA14*((LOG(AA14))/LOG(2))))","v":0},null,{"$f":"N14","v":0},{"$f":"COUNTIF(L22:L29,AD14)","v":0},{"$f":"AE14/(AG4-AE8)","v":0},{"$f":"IF(AF14=0,0,(AF14*((LOG(AF14))/LOG(2))))","v":0},null,{"$f":"N14","v":0},{"$f":"COUNTIF(L30:L37,AI14)","v":0},{"$f":"AJ14/(AL4-AJ8)","v":0},{"$f":"IF(AK14=0,0,(AK14*((LOG(AK14))/LOG(2))))","v":0},null,{"$f":"N14","v":0},{"$f":"COUNTIF(L38:L44,AN14)","v":0},{"$f":"AO14/(AQ4-AO8)","v":{"$error":"#DIV/0!"}},{"$f":"IF(AP14=0,0,(AP14*((LOG(AP14))/LOG(2))))","v":{"$error":"#DIV/0!"}},null,{"$f":"N14","v":0},{"$f":"COUNTIF(L45:L52,AS14)","v":0},{"$f":"AT14/(AV4-AT8)","v":0},{"$f":"IF(AU14=0,0,(AU14*((LOG(AU14))/LOG(2))))","v":0}]
[11,968,21,983,null,null,null,null,null,null,0,12,null,null,null,{"$f":"SUM(P7:P14)","v":1},{"$f":"-SUM(Q7:Q14)","v":0.74659832540343674},null,null,null,null,{"$f":"SUM(V7:V14)","v":1},{"$f":"-SUM(W7:W14)","v":0},null,null,null,{"$f":"SUM(AA7:AA14)","v":1},{"$f":"-SUM(AB7:AB14)","v":0},null,null,null,{"$f":"SUM(AF7:AF14)","v":1},{"$f":"-SUM(AG7:AG14)","v":1},null,null,null,{"$f":"SUM(AK7:AK14)","v":1},{"$f":"-SUM(AL7:AL14)","v":0},null,null,null,{"$f":"SUM(AP7:AP14)","v":{"$error":"#DIV/0!"}},{"$f":"-SUM(AQ7:AQ14)","v":{"$error":"#DIV/0!"}},null,null,null,{"$f":"SUM(AU7:AU14)","v":1},{"$f":"-SUM(AV7:AV14)","v":0}]
[11,1077,21,1092,null,null,null,null,null,null,0,12,null,null,null,"U=",{"$f":"Q15/(LOG(Q4)/LOG(2))","v":0.13516609958266765},null,null,null,null,"U1=",{"$f":"W15/(LOG(W4)/LOG(2))","v":0},null,null,null,"U2=",{"$f":"AB15/(LOG(AB4)/LOG(2))","v":0},null,null,null,"U3=",{"$f":"AG15/(LOG(AG4)/LOG(2))","v":0.33333333333333331},null,null,null,"U4=",{"$f":"AL15/(LOG(AL4)/LOG(2))","v":0},null,null,null,"U5=",{"$f":"AQ15/(LOG(AQ4)/LOG(2))","v":{"$error":"#DIV/0!"}},null,null,null,"U6=",{"$f":"AV15/(LOG(AV4)/LOG(2))","v":0}]
[11,1198,21,1212,null,null,null,null,null,null,0,12]
[11,1307,21,1318,null,null,null,null,null,null,0,12]
[11,1413,21,1427,null,null,null,null,null,null,0,12,null,"Total Target Seq"]
[11,1522,21,1536,null,null,null,null,null,null,0,12,null,{"$f":"COUNTIF(L7:L52,G3)","v":39},null,8,7,8,8,7,8]
[22,1646,23,1675,null,null,null,null,null,null,0,22,null,null,null,"% of reinforcement given in 6 equal intervals based on number of trials "]
[11,1781,21,1793,null,null,null,null,null,null,0,12,null,null,null,"%_1","%_2","%_3","%_4","%_5","%_6"]
[22,1906,23,1933,null,null,null,null,null,null,0,22,null,null,"target sequence",{"$f":"$G$3","v":12},{"$f":"$G$3","v":12},{"$f":"$G$3","v":12},{"$f":"$G$3","v":12},{"$f":"$G$3","v":12},{"$f":"$G$3","v":12}]
[11,2038,21,2049,null,null,null,null,null,null,0,12,null,null,"total reinforcement",{"$f":"U8","v":6},{"$f":"Z8","v":6},{"$f":"AE8","v":6},{"$f":"AJ8","v":7},{"$f":"AO8","v":7},{"$f":"AT8","v":7}]
[22,2177,14,2211,null,null,null,null,null,null,0,21,null,null,"% target"]
[11,2318,21,2331,null,null,null,null,null,null,0,12,null,null,"CCRF"]
[11,2424,21,2439,null,null,null,null,null,null,0,12,null,null,"% CCRf"]
[11,2540,21,2550,null,null,null,null,null,null,0,12,null,null,"average response rate",{"$f":"D14/P20","v":108},{"$f":"(D21-D14)/Q20","v":115.85714285714286},{"$f":"(D29-D21)/R20","v":124.75},{"$f":"(D37-D29)/S20","v":118.25},{"$f":"(D44-D37)/T20","v":118.57142857142857},{"$f":"(D52-D44)/U20","v":117.125}]
[11,2649,21,2673,null,null,null,null,null,null,0,12]
[11,2771,21,2796,null,null,null,null,null,null,0,12]
[11,2891,21,2908,null,null,null,null,null,null,0,12]
[11,3002,21,3020,null,null,null,null,null,null,0,12]
[11,3114,21,3128,null,null,null,null,null,null,0,12]
[11,3224,21,3242,null,null,null,null,null,null,0,12]
[11,3336,21,3350,null,null,null,null,null,null,0,12]
[11,3444,21,3473,null,null,null,null,null,null,0,12]
[22,3585,23,3619,null,null,null,null,null,null,0,22]
[11,3728,21,3741,null,null,null,null,null,null,0,12]
[11,3839,21,3851,null,null,null,null,null,null,0,12]
[11,3949,21,3964,null,null,null,null,null,null,0,12]
[11,4060,21,4073,null,null,null,null,null,null,0,12]
[11,4169,21,4187,null,null,null,null,null,null,0,12]
[11,4283,21,4295,null,null,null,null,null,null,0,12]
[11,4389,21,4449,null,null,null,null,null,null,0,12]
[11,4553,21,4564,null,null,null,null,null,null,0,12]
[11,4662,21,4703,null,null,null,null,null,null,0,12]
[11,4798,21,4807,null,null,null,null,null,null,0,12]
[11,4902,21,4915,null,null,null,null,null,null,0,12]
[11,5008,21,5019,null,null,null,null,null,null,0,12]
[22,5131,14,5162,null,null,null,null,null,null,0,21]
[11,5266,21,5276,null,null,null,null,null,null,0,12]
[11,5371,21,5386,null,null,null,null,null,null,1,12]

{"sheet":"!MC24A40.105","index":28,"n_rows":50,"n_cols":48,"rows_kept":50,"cut":false,"hidden":false,"merged":[[4,39,4,42],[5,39,5,40],[4,44,4,47],[5,44,5,45],[4,24,4,27],[5,24,5,25],[4,29,4,32],[5,29,5,30],[4,34,4,37],[5,34,5,35],[1,1,1,2],[5,13,5,14],[18,13,18,14],[19,13,19,14],[4,19,4,22],[5,19,5,20]]}
["Report for:!MC24A40.105"]
["Date:","<date>"]
["Hen:","<hen>",null,null,null,"Correct Sequence",{"$f":"Start!J2","v":12},null,null,null,null,null,null,null,null,"Total Sequences in Data",{"$f":"4994-COUNTBLANK(L7:L5000)","v":44},null,null,null,null,"Total Sequences in Block Data",{"$f":"COUNTA(L7:L13)","v":7},null,null,null,"Total Sequences in Block Data",{"$f":"COUNTA(L14:L21)","v":8},null,null,null,"Total Sequences in Block Data",{"$f":"COUNTA(L22:L28)","v":7},null,null,null,"Total Sequences in Block Data",{"$f":"COUNTA(L29:L35)","v":7},null,null,null,"Total Sequences in Block Data",{"$f":"COUNTA(L36:L43)","v":8},null,null,null,"Total Sequences in Block Data",{"$f":"COUNTA(L44:L50)","v":7}]
[null,null,null,null,null,null,null,null,null,null,null,null,null,null,null,"Total Sequences in Summary",{"$f":"SUM(O7:O14)","v":44},null,null,null,null,"Total Sequences in Block Summary",{"$f":"SUM(U7:U14)","v":7},null,null,null,"Total Sequences in Block Summary",{"$f":"SUM(Z7:Z14)","v":8},null,null,null,"Total Sequences in Block Summary",{"$f":"SUM(AE7:AE14)","v":7},null,null,null,"Total Sequences in Block Summary",{"$f":"SUM(AJ7:AJ14)","v":7},null,null,null,"Total Sequences in Block Summary",{"$f":"SUM(AO7:AO14)","v":8},null,null,null,"Total Sequences in Block Summary",{"$f":"SUM(AT7:AT14)","v":7}]
[null,null,null,null,null,null,null,null,null,null,null,null,null,null,null,null,null,null,null,"Block 1",null,null,null,null,"Block 2",null,null,null,null,"Block 3",null,null,null,null,"Block 4",null,null,null,null,"Block 5",null,null,null,null,"Block 6"]
["Sequence\nComponent\n1","Time\n1","Sequence\nComponent\n2","Time\n2","Sequence\nComponent\n3","Time\n3","Sequence\nComponent\n4","Time\n4","Sequence\nComponent\n5","Time\n5","Correct?\n0=No 1=Yes","Sequence",null,"Frequency",null,"Relative Frequency","Variability",null,null,"Frequency",null,"Relative Frequency","Variability",null,"Frequency",null,"Relative Frequency","Variability",null,"Frequency",null,"Relative Frequency","Variability",null,"Frequency",null,"Relative Frequency","Variability",null,"Frequency",null,"Relative Frequency","Variability",null,"Frequency",null,"Relative Frequency","Variability"]
[11,19,21,39,null,null,null,null,null,null,0,12,null,11,{"$f":"COUNTIF($L$7:$L$500,N7)","v":0},{"$f":"O7/$Q$4","v":0},{"$f":"IF(P7=0,0,(P7*((LOG(P7))/LOG(2))))","v":0},null,null,{"$f":"N7","v":11},{"$f":"COUNTIF(L7:L13,T7)","v":0},{"$f":"U7/(W4-U8)","v":{"$error":"#DIV/0!"}},{"$f":"IF(V7=0,0,(V7*((LOG(V7))/LOG(2))))","v":{"$error":"#DIV/0!"}},null,{"$f":"N7","v":11},{"$f":"COUNTIF(L14:L21,Y7)","v":0},{"$f":"Z7/(AB4-Z8)","v":{"$error":"#DIV/0!"}},{"$f":"IF(AA7=0,0,(AA7*((LOG(AA7))/LOG(2))))","v":{"$error":"#DIV/0!"}},null,{"$f":"N7","v":11},{"$f":"COUNTIF(L22:L28,AD7)","v":0},{"$f":"AE7/(AG4-AE8)","v":0},{"$f":"IF(AF7=0,0,(AF7*((LOG(AF7))/LOG(2))))","v":0},null,{"$f":"N7","v":11},{"$f":"COUNTIF(L29:L35,AI7)","v":0},{"$f":"AJ7/(AL4-AJ8)","v":0},{"$f":"IF(AK7=0,0,(AK7*((LOG(AK7))/LOG(2))))","v":0},null,{"$f":"N7","v":11},{"$f":"COUNTIF(L36:L43,AN7)","v":0},{"$f":"AO7/(AQ4-AO8)","v":0},{"$f":"IF(AP7=0,0,(AP7*((LOG(AP7))/LOG(2))))","v":0},null,{"$f":"N7","v":11},{"$f":"COUNTIF(L44:L50,AS7)","v":0},{"$f":"AT7/(AV4-AT8)","v":0},{"$f":"IF(AU7=0,0,(AU7*((LOG(AU7))/LOG(2))))","v":0}]
[11,138,21,157,null,null,null,null,null,null,0,12,null,12,{"$f":"COUNTIF($L$7:$L$500,N8)","v":39},{"$f":"O8/$Q$4","v":0.88636363636363635},{"$f":"IF(P8=0,0,(P8*((LOG(P8))/LOG(2))))","v":-0.15425333161879334},null,null,{"$f":"N8","v":12},{"$f":"COUNTIF(L7:L13,T8)","v":7},null,null,null,{"$f":"N8","v":12},{"$f":"COUNTIF(L14:L21,Y8)","v":8},null,null,null,{"$f":"N8","v":12},{"$f":"COUNTIF(L22:L28,AD8)","v":6},null,null,null,{"$f":"N8","v":12},{"$f":"COUNTIF(L29:L35,AI8)","v":5},null,null,null,{"$f":"N8","v":12},{"$f":"COUNTIF(L36:L43,AN8)","v":7},null,null,null,{"$f":"N8","v":12},{"$f":"COUNTIF(L44:L50,AS8)","v":6}]
[11,253,21,272,null,null,null,null,null,null,0,12,null,21,{"$f":"COUNTIF($L$7:$L$500,N9)","v":0},{"$f":"O9/$Q$4","v":0},{"$f":"IF(P9=0,0,(P9*((LOG(P9))/LOG(2))))","v":0},null,null,{"$f":"N9","v":21},{"$f":"COUNTIF(L7:L13,T9)","v":0},{"$f":"U9/(W4-U8)","v":{"$error":"#DIV/0!"}},{"$f":"IF(V9=0,0,(V9*((LOG(V9))/LOG(2))))","v":{"$error":"#DIV/0!"}},null,{"$f":"N9","v":21},{"$f":"COUNTIF(L14:L21,Y9)","v":0},{"$f":"Z9/(AB4-Z8)","v":{"$error":"#DIV/0!"}},{"$f":"IF(AA9=0,0,(AA9*((LOG(AA9))/LOG(2))))","v":{"$error":"#DIV/0!"}},null,{"$f":"N9","v":21},{"$f":"COUNTIF(L22:L28,AD9)","v":0},{"$f":"AE9/(AG4-AE8)","v":0},{"$f":"IF(AF9=0,0,(AF9*((LOG(AF9))/LOG(2))))","v":0},null,{"$f":"N9","v":21},{"$f":"COUNTIF(L29:L35,AI9)","v":0},{"$f":"AJ9/(AL4-AJ8)","v":0},{"$f":"IF(AK9=0,0,(AK9*((LOG(AK9))/LOG(2))))","v":0},null,{"$f":"N9","v":21},{"$f":"COUNTIF(L36:L43,AN9)","v":0},{"$f":"AO9/(AQ4-AO8)","v":0},{"$f":"IF(AP9=0,0,(AP9*((LOG(AP9))/LOG(2))))","v":0},null,{"$f":"N9","v":21},{"$f":"COUNTIF(L44:L50,AS9)","v":0},{"$f":"AT9/(AV4-AT8)","v":0},{"$f":"IF(AU9=0,0,(AU9*((LOG(AU9))/LOG(2))))","v":0}]
[11,369,21,385,null,null,null,null,null,null,0,12,null,22,{"$f":"COUNTIF($L$7:$L$500,N10)","v":5},{"$f":"O10/$Q$4","v":0.11363636363636363},{"$f":"IF(P10=0,0,(P10*((LOG(P10))/LOG(2))))","v":-0.35653449133521992},null,null,{"$f":"N10","v":22},{"$f":"COUNTIF(L7:L13,T10)","v":0},{"$f":"U10/(W4-U8)","v":{"$error":"#DIV/0!"}},{"$f":"IF(V10=0,0,(V10*((LOG(V10))/LOG(2))))","v":{"$error":"#DIV/0!"}},null,{"$f":"N10","v":22},{"$f":"COUNTIF(L14:L21,Y10)","v":0},{"$f":"Z10/(AB4-Z8)","v":{"$error":"#DIV/0!"}},{"$f":"IF(AA10=0,0,(AA10*((LOG(AA10))/LOG(2))))","v":{"$error":"#DIV/0!"}},null,{"$f":"N10","v":22},{"$f":"COUNTIF(L22:L28,AD10)","v":1},{"$f":"AE10/(AG4-AE8)","v":1},{"$f":"IF(AF10=0,0,(AF10*((LOG(AF10))/LOG(2))))","v":0},null,{"$f":"N10","v":22},{"$f":"COUNTIF(L29:L35,AI10)","v":2},{"$f":"AJ10/(AL4-AJ8)","v":1},{"$f":"IF(AK10=0,0,(AK10*((LOG(AK10))/LOG(2))))","v":0},null,{"$f":"N10","v":22},{"$f":"COUNTIF(L36:L43,AN10)","v":1},{"$f":"AO10/(AQ4-AO8)","v":1},{"$f":"IF(AP10=0,0,(AP10*((LOG(AP10))/LOG(2))))","v":0},null,{"$f":"N10","v":22},{"$f":"COUNTIF(L44:L50,AS10)","v":1},{"$f":"AT10/(AV4-AT8)","v":1},{"$f":"IF(AU10=0,0,(AU10*((LOG(AU10))/LOG(2))))","v":0}]
[11,482,21,497,null,null,null,null,null,null,0,12,null,null,null,null,null,null,null,{"$f":"N11","v":0},{"$f":"COUNTIF(L7:L13,T11)","v":0},{"$f":"U11/(W4-U8)","v":{"$error":"#DIV/0!"}},{"$f":"IF(V11=0,0,(V11*((LOG(V11))/LOG(2))))","v":{"$error":"#DIV/0!"}},null,{"$f":"N11","v":0},{"$f":"COUNTIF(L14:L21,Y11)","v":0},{"$f":"Z11/(AB4-Z8)","v":{"$error":"#DIV/0!"}},{"$f":"IF(AA11=0,0,(AA11*((LOG(AA11))/LOG(2))))","v":{"$error":"#DIV/0!"}},null,{"$f":"N11","v":0},{"$f":"COUNTIF(L22:L28,AD11)","v":0},{"$f":"AE11/(AG4-AE8)","v":0},{"$f":"IF(AF11=0,0,(AF11*((LOG(AF11))/LOG(2))))","v":0},null,{"$f":"N11","v":0},{"$f":"COUNTIF(L29:L35,AI11)","v":0},{"$f":"AJ11/(AL4-AJ8)","v":0},{"$f":"IF(AK11=0,0,(AK11*((LOG(AK11))/LOG(2))))","v":0},null,{"$f":"N11","v":0},{"$f":"COUNTIF(L36:L43,AN11)","v":0},{"$f":"AO11/(AQ4-AO8)","v":0},{"$f":"IF(AP11=0,0,(AP11*((LOG(AP11))/LOG(2))))","v":0},null,{"$f":"N11","v":0},{"$f":"COUNTIF(L44:L50,AS11)","v":0},{"$f":"AT11/(AV4-AT8)","v":0},{"$f":"IF(AU11=0,0,(AU11*((LOG(AU11))/LOG(2))))","v":0}]
[11,597,21,634,null,null,null,null,null,null,0,12,null,null,null,null,null,null,null,{"$f":"N12","v":0},{"$f":"COUNTIF(L7:L13,T12)","v":0},{"$f":"U12/(W4-U8)","v":{"$error":"#DIV/0!"}},{"$f":"IF(V12=0,0,(V12*((LOG(V12))/LOG(2))))","v":{"$error":"#DIV/0!"}},null,{"$f":"N12","v":0},{"$f":"COUNTIF(L14:L21,Y12)","v":0},{"$f":"Z12/(AB4-Z8)","v":{"$error":"#DIV/0!"}},{"$f":"IF(AA12=0,0,(AA12*((LOG(AA12))/LOG(2))))","v":{"$error":"#DIV/0!"}},null,{"$f":"N12","v":0},{"$f":"COUNTIF(L22:L28,AD12)","v":0},{"$f":"AE12/(AG4-AE8)","v":0},{"$f":"IF(AF12=0,0,(AF12*((LOG(AF12))/LOG(2))))","v":0},null,{"$f":"N12","v":0},{"$f":"COUNTIF(L29:L35,AI12)","v":0},{"$f":"AJ12/(AL4-AJ8)","v":0},{"$f":"IF(AK12=0,0,(AK12*((LOG(AK12))/LOG(2))))","v":0},null,{"$f":"N12","v":0},{"$f":"COUNTIF(L36:L43,AN12)","v":0},{"$f":"AO12/(AQ4-AO8)","v":0},{"$f":"IF(AP12=0,0,(AP12*((LOG(AP12))/LOG(2))))","v":0},null,{"$f":"N12","v":0},{"$f":"COUNTIF(L44:L50,AS12)","v":0},{"$f":"AT12/(AV4-AT8)","v":0},{"$f":"IF(AU12=0,0,(AU12*((LOG(AU12))/LOG(2))))","v":0}]
[11,731,21,742,null,null,null,null,null,null,0,12,null,null,null,null,null,null,null,{"$f":"N13","v":0},{"$f":"COUNTIF(L7:L13,T13)","v":0},{"$f":"U13/(W4-U8)","v":{"$error":"#DIV/0!"}},{"$f":"IF(V13=0,0,(V13*((LOG(V13))/LOG(2))))","v":{"$error":"#DIV/0!"}},null,{"$f":"N13","v":0},{"$f":"COUNTIF(L14:L21,Y13)","v":0},{"$f":"Z13/(AB4-Z8)","v":{"$error":"#DIV/0!"}},{"$f":"IF(AA13=0,0,(AA13*((LOG(AA13))/LOG(2))))","v":{"$error":"#DIV/0!"}},null,{"$f":"N13","v":0},{"$f":"COUNTIF(L22:L28,AD13)","v":0},{"$f":"AE13/(AG4-AE8)","v":0},{"$f":"IF(AF13=0,0,(AF13*((LOG(AF13))/LOG(2))))","v":0},null,{"$f":"N13","v":0},{"$f":"COUNTIF(L29:L35,AI13)","v":0},{"$f":"AJ13/(AL4-AJ8)","v":0},{"$f":"IF(AK13=0,0,(AK13*((LOG(AK13))/LOG(2))))","v":0},null,{"$f":"N13","v":0},{"$f":"COUNTIF(L36:L43,AN13)","v":0},{"$f":"AO13/(AQ4-AO8)","v":0},{"$f":"IF(AP13=0,0,(AP13*((LOG(AP13))/LOG(2))))","v":0},null,{"$f":"N13","v":0},{"$f":"COUNTIF(L44:L50,AS13)","v":0},{"$f":"AT13/(AV4-AT8)","v":0},{"$f":"IF(AU13=0,0,(AU13*((LOG(AU13))/LOG(2))))","v":0}]
[11,841,21,855,null,null,null,null,null,null,0,12,null,null,null,null,null,null,null,{"$f":"N14","v":0},{"$f":"COUNTIF(L7:L13,T14)","v":0},{"$f":"U14/(W4-U8)","v":{"$error":"#DIV/0!"}},{"$f":"IF(V14=0,0,(V14*((LOG(V14))/LOG(2))))","v":{"$error":"#DIV/0!"}},null,{"$f":"N14","v":0},{"$f":"COUNTIF(L14:L21,Y14)","v":0},{"$f":"Z14/(AB4-Z8)","v":{"$error":"#DIV/0!"}},{"$f":"IF(AA14=0,0,(AA14*((LOG(AA14))/LOG(2))))","v":{"$error":"#DIV/0!"}},null,{"$f":"N14","v":0},{"$f":"COUNTIF(L22:L28,AD14)","v":0},{"$f":"AE14/(AG4-AE8)","v":0},{"$f":"IF(AF14=0,0,(AF14*((LOG(AF14))/LOG(2))))","v":0},null,{"$f":"N14","v":0},{"$f":"COUNTIF(L29:L35,AI14)","v":0},{"$f":"AJ14/(AL4-AJ8)","v":0},{"$f":"IF(AK14=0,0,(AK14*((LOG(AK14))/LOG(2))))","v":0},null,{"$f":"N14","v":0},{"$f":"COUNTIF(L36:L43,AN14)","v":0},{"$f":"AO14/(AQ4-AO8)","v":0},{"$f":"IF(AP14=0,0,(AP14*((LOG(AP14))/LOG(2))))","v":0},null,{"$f":"N14","v":0},{"$f":"COUNTIF(L44:L50,AS14)","v":0},{"$f":"AT14/(AV4-AT8)","v":0},{"$f":"IF(AU14=0,0,(AU14*((LOG(AU14))/LOG(2))))","v":0}]
[11,957,21,967,null,null,null,null,null,null,0,12,null,null,null,{"$f":"SUM(P7:P14)","v":1},{"$f":"-SUM(Q7:Q14)","v":0.51078782295401326},null,null,null,null,{"$f":"SUM(V7:V14)","v":{"$error":"#DIV/0!"}},{"$f":"-SUM(W7:W14)","v":{"$error":"#DIV/0!"}},null,null,null,{"$f":"SUM(AA7:AA14)","v":{"$error":"#DIV/0!"}},{"$f":"-SUM(AB7:AB14)","v":{"$error":"#DIV/0!"}},null,null,null,{"$f":"SUM(AF7:AF14)","v":1},{"$f":"-SUM(AG7:AG14)","v":0},null,null,null,{"$f":"SUM(AK7:AK14)","v":1},{"$f":"-SUM(AL7:AL14)","v":0},null,null,null,{"$f":"SUM(AP7:AP14)","v":1},{"$f":"-SUM(AQ7:AQ14)","v":0},null,null,null,{"$f":"SUM(AU7:AU14)","v":1},{"$f":"-SUM(AV7:AV14)","v":0}]
[11,1062,21,1078,null,null,null,null,null,null,0,12,null,null,null,"U=",{"$f":"Q15/(LOG(Q4)/LOG(2))","v":9.3560622906292315E-2},null,null,null,null,"U1=",{"$f":"W15/(LOG(W4)/LOG(2))","v":{"$error":"#DIV/0!"}},null,null,null,"U2=",{"$f":"AB15/(LOG(AB4)/LOG(2))","v":{"$error":"#DIV/0!"}},null,null,null,"U3=",{"$f":"AG15/(LOG(AG4)/LOG(2))","v":0},null,null,null,"U4=",{"$f":"AL15/(LOG(AL4)/LOG(2))","v":0},null,null,null,"U5=",{"$f":"AQ15/(LOG(AQ4)/LOG(2))","v":0},null,null,null,"U6=",{"$f":"AV15/(LOG(AV4)/LOG(2))","v":0}]
[11,1187,21,1227,null,null,null,null,null,null,0,12]
[11,1325,21,1338,null,null,null,null,null,null,0,12]
[11,1446,21,1457,null,null,null,null,null,null,0,12,null,"Total Target Seq"]
[11,1556,21,1565,null,null,null,null,null,null,0,12,null,{"$f":"COUNTIF(L7:L50,G3)","v":39},null,7,8,7,7,8,7]
[11,1662,21,1672,null,null,null,null,null,null,0,12,null,null,null,"% of reinforcement given in 6 equal intervals based on number of trials "]
[11,1767,21,1778,null,null,null,null,null,null,0,12,null,null,null,"%_1","%_2","%_3","%_4","%_5","%_6"]
[11,1871,21,1886,null,null,null,null,null,null,0,12,null,null,"target sequence",{"$f":"$G$3","v":12},{"$f":"$G$3","v":12},{"$f":"$G$3","v":12},{"$f":"$G$3","v":12},{"$f":"$G$3","v":12},{"$f":"$G$3","v":12}]
[22,2017,23,2046,null,null,null,null,null,null,0,22,null,null,"total reinforcement",{"$f":"U8","v":7},{"$f":"Z8","v":8},{"$f":"AE8","v":6},{"$f":"AJ8","v":5},{"$f":"AO8","v":7},{"$f":"AT8","v":6}]
[11,2143,21,2171,null,null,null,null,null,null,0,12,null,null,"% target"]
[11,2268,21,2279,null,null,null,null,null,null,0,12,null,null,"CCRF"]
[11,2375,21,2385,null,null,null,null,null,null,0,12,null,null,"% CCRf"]
[11,2484,21,2498,null,null,null,null,null,null,0,12,null,null,"average response rate",{"$f":"D13/P20","v":106},{"$f":"(D21-D13)/Q20","v":116.25},{"$f":"(D28-D21)/R20","v":118},{"$f":"(D35-D28)/S20","v":124},{"$f":"(D43-D35)/T20","v":116.25},{"$f":"(D50-D43)/U20","v":118.71428571428571}]
[22,2613,23,2638,null,null,null,null,null,null,0,22]
[11,2742,21,2751,null,null,null,null,null,null,0,12]
[11,2846,21,2877,null,null,null,null,null,null,0,12]
[22,2997,23,3021,null,null,null,null,null,null,0,22]
[11,3125,21,3144,null,null,null,null,null,null,0,12]
[11,3244,21,3258,null,null,null,null,null,null,0,12]
[11,3352,21,3366,null,null,null,null,null,null,0,12]
[11,3461,21,3477,null,null,null,null,null,null,0,12]
[11,3574,21,3585,null,null,null,null,null,null,0,12]
[11,3693,21,3707,null,null,null,null,null,null,0,12]
[22,3813,23,3840,null,null,null,null,null,null,0,22]
[11,3950,21,3964,null,null,null,null,null,null,0,12]
[11,4060,21,4077,null,null,null,null,null,null,0,12]
[11,4172,21,4187,null,null,null,null,null,null,0,12]
[11,4283,21,4296,null,null,null,null,null,null,0,12]
[22,4408,23,4431,null,null,null,null,null,null,0,22]
[11,4535,21,4546,null,null,null,null,null,null,0,12]
[11,4651,21,4666,null,null,null,null,null,null,0,12]
[11,4760,21,4775,null,null,null,null,null,null,0,12]
[11,4872,21,4883,null,null,null,null,null,null,0,12]
[11,4980,21,5016,null,null,null,null,null,null,0,12]
[11,5113,21,5127,null,null,null,null,null,null,1,12]

{"sheet":"!MC27A50.105","index":29,"n_rows":54,"n_cols":48,"rows_kept":54,"cut":false,"hidden":false,"merged":[[4,39,4,42],[5,39,5,40],[4,44,4,47],[5,44,5,45],[4,24,4,27],[5,24,5,25],[4,29,4,32],[5,29,5,30],[4,34,4,37],[5,34,5,35],[1,1,1,2],[5,13,5,14],[18,13,18,14],[19,13,19,14],[4,19,4,22],[5,19,5,20]]}
["Report for:!MC27A50.105"]
["Date:","<date>"]
["Hen:","<hen>",null,null,null,"Correct Sequence",{"$f":"Start!J2","v":12},null,null,null,null,null,null,null,null,"Total Sequences in Data",{"$f":"4994-COUNTBLANK(L7:L5000)","v":48},null,null,null,null,"Total Sequences in Block Data",{"$f":"COUNTA(L7:L14)","v":8},null,null,null,"Total Sequences in Block Data",{"$f":"COUNTA(L15:L22)","v":8},null,null,null,"Total Sequences in Block Data",{"$f":"COUNTA(L23:L30)","v":8},null,null,null,"Total Sequences in Block Data",{"$f":"COUNTA(L31:L38)","v":8},null,null,null,"Total Sequences in Block Data",{"$f":"COUNTA(L39:L46)","v":8},null,null,null,"Total Sequences in Block Data",{"$f":"COUNTA(L47:L54)","v":8}]
[null,null,null,null,null,null,null,null,null,null,null,null,null,null,null,"Total Sequences in Summary",{"$f":"SUM(O7:O14)","v":48},null,null,null,null,"Total Sequences in Block Summary",{"$f":"SUM(U7:U14)","v":8},null,null,null,"Total Sequences in Block Summary",{"$f":"SUM(Z7:Z14)","v":8},null,null,null,"Total Sequences in Block Summary",{"$f":"SUM(AE7:AE14)","v":8},null,null,null,"Total Sequences in Block Summary",{"$f":"SUM(AJ7:AJ14)","v":8},null,null,null,"Total Sequences in Block Summary",{"$f":"SUM(AO7:AO14)","v":8},null,null,null,"Total Sequences in Block Summary",{"$f":"SUM(AT7:AT14)","v":8}]
[null,null,null,null,null,null,null,null,null,null,null,null,null,null,null,null,null,null,null,"Block 1",null,null,null,null,"Block 2",null,null,null,null,"Block 3",null,null,null,null,"Block 4",null,null,null,null,"Block 5",null,null,null,null,"Block 6"]
["Sequence\nComponent\n1","Time\n1","Sequence\nComponent\n2","Time\n2","Sequence\nComponent\n3","Time\n3","Sequence\nComponent\n4","Time\n4","Sequence\nComponent\n5","Time\n5","Correct?\n0=No 1=Yes","Sequence",null,"Frequency",null,"Relative Frequency","Variability",null,null,"Frequency",null,"Relative Frequency","Variability",null,"Frequency",null,"Relative Frequency","Variability",null,"Frequency",null,"Relative Frequency","Variability",null,"Frequency",null,"Relative Frequency","Variability",null,"Frequency",null,"Relative Frequency","Variability",null,"Frequency",null,"Relative Frequency","Variability"]
[11,20,21,34,null,null,null,null,null,null,0,12,null,11,{"$f":"COUNTIF($L$7:$L$500,N7)","v":0},{"$f":"O7/$Q$4","v":0},{"$f":"IF(P7=0,0,(P7*((LOG(P7))/LOG(2))))","v":0},null,null,{"$f":"N7","v":11},{"$f":"COUNTIF(L7:L14,T7)","v":0},{"$f":"U7/(W4-U8)","v":0},{"$f":"IF(V7=0,0,(V7*((LOG(V7))/LOG(2))))","v":0},null,{"$f":"N7","v":11},{"$f":"COUNTIF(L15:L22,Y7)","v":0},{"$f":"Z7/(AB4-Z8)","v":0},{"$f":"IF(AA7=0,0,(AA7*((LOG(AA7))/LOG(2))))","v":0},null,{"$f":"N7","v":11},{"$f":"COUNTIF(L23:L30,AD7)","v":0},{"$f":"AE7/(AG4-AE8)","v":0},{"$f":"IF(AF7=0,0,(AF7*((LOG(AF7))/LOG(2))))","v":0},null,{"$f":"N7","v":11},{"$f":"COUNTIF(L31:L38,AI7)","v":0},{"$f":"AJ7/(AL4-AJ8)","v":0},{"$f":"IF(AK7=0,0,(AK7*((LOG(AK7))/LOG(2))))","v":0},null,{"$f":"N7","v":11},{"$f":"COUNTIF(L39:L46,AN7)","v":0},{"$f":"AO7/(AQ4-AO8)","v":0},{"$f":"IF(AP7=0,0,(AP7*((LOG(AP7))/LOG(2))))","v":0},null,{"$f":"N7","v":11},{"$f":"COUNTIF(L47:L54,AS7)","v":0},{"$f":"AT7/(AV4-AT8)","v":0},{"$f":"IF(AU7=0,0,(AU7*((LOG(AU7))/LOG(2))))","v":0}]
[11,133,21,147,null,null,null,null,null,null,0,12,null,12,{"$f":"COUNTIF($L$7:$L$500,N8)","v":39},{"$f":"O8/$Q$4","v":0.8125},{"$f":"IF(P8=0,0,(P8*((LOG(P8))/LOG(2))))","v":-0.24339272901036266},null,null,{"$f":"N8","v":12},{"$f":"COUNTIF(L7:L14,T8)","v":7},null,null,null,{"$f":"N8","v":12},{"$f":"COUNTIF(L15:L22,Y8)","v":7},null,null,null,{"$f":"N8","v":12},{"$f":"COUNTIF(L23:L30,AD8)","v":6},null,null,null,{"$f":"N8","v":12},{"$f":"COUNTIF(L31:L38,AI8)","v":6},null,null,null,{"$f":"N8","v":12},{"$f":"COUNTIF(L39:L46,AN8)","v":6},null,null,null,{"$f":"N8","v":12},{"$f":"COUNTIF(L47:L54,AS8)","v":7}]
[11,245,21,271,null,null,null,null,null,null,0,12,null,21,{"$f":"COUNTIF($L$7:$L$500,N9)","v":2},{"$f":"O9/$Q$4","v":4.1666666666666664E-2},{"$f":"IF(P9=0,0,(P9*((LOG(P9))/LOG(2))))","v":-0.19104010419671485},null,null,{"$f":"N9","v":21},{"$f":"COUNTIF(L7:L14,T9)","v":1},{"$f":"U9/(W4-U8)","v":1},{"$f":"IF(V9=0,0,(V9*((LOG(V9))/LOG(2))))","v":0},null,{"$f":"N9","v":21},{"$f":"COUNTIF(L15:L22,Y9)","v":0},{"$f":"Z9/(AB4-Z8)","v":0},{"$f":"IF(AA9=0,0,(AA9*((LOG(AA9))/LOG(2))))","v":0},null,{"$f":"N9","v":21},{"$f":"COUNTIF(L23:L30,AD9)","v":0},{"$f":"AE9/(AG4-AE8)","v":0},{"$f":"IF(AF9=0,0,(AF9*((LOG(AF9))/LOG(2))))","v":0},null,{"$f":"N9","v":21},{"$f":"COUNTIF(L31:L38,AI9)","v":1},{"$f":"AJ9/(AL4-AJ8)","v":0.5},{"$f":"IF(AK9=0,0,(AK9*((LOG(AK9))/LOG(2))))","v":-0.5},null,{"$f":"N9","v":21},{"$f":"COUNTIF(L39:L46,AN9)","v":0},{"$f":"AO9/(AQ4-AO8)","v":0},{"$f":"IF(AP9=0,0,(AP9*((LOG(AP9))/LOG(2))))","v":0},null,{"$f":"N9","v":21},{"$f":"COUNTIF(L47:L54,AS9)","v":0},{"$f":"AT9/(AV4-AT8)","v":0},{"$f":"IF(AU9=0,0,(AU9*((LOG(AU9))/LOG(2))))","v":0}]
[11,373,21,385,null,null,null,null,null,null,0,12,null,22,{"$f":"COUNTIF($L$7:$L$500,N10)","v":7},{"$f":"O10/$Q$4","v":0.14583333333333334},{"$f":"IF(P10=0,0,(P10*((LOG(P10))/LOG(2))))","v":-0.40506777188843468},null,null,{"$f":"N10","v":22},{"$f":"COUNTIF(L7:L14,T10)","v":0},{"$f":"U10/(W4-U8)","v":0},{"$f":"IF(V10=0,0,(V10*((LOG(V10))/LOG(2))))","v":0},null,{"$f":"N10","v":22},{"$f":"COUNTIF(L15:L22,Y10)","v":1},{"$f":"Z10/(AB4-Z8)","v":1},{"$f":"IF(AA10=0,0,(AA10*((LOG(AA10))/LOG(2))))","v":0},null,{"$f":"N10","v":22},{"$f":"COUNTIF(L23:L30,AD10)","v":2},{"$f":"AE10/(AG4-AE8)","v":1},{"$f":"IF(AF10=0,0,(AF10*((LOG(AF10))/LOG(2))))","v":0},null,{"$f":"N10","v":22},{"$f":"COUNTIF(L31:L38,AI10)","v":1},{"$f":"AJ10/(AL4-AJ8)","v":0.5},{"$f":"IF(AK10=0,0,(AK10*((LOG(AK10))/LOG(2))))","v":-0.5},null,{"$f":"N10","v":22},{"$f":"COUNTIF(L39:L46,AN10)","v":2},{"$f":"AO10/(AQ4-AO8)","v":1},{"$f":"IF(AP10=0,0,(AP10*((LOG(AP10))/LOG(2))))","v":0},null,{"$f":"N10","v":22},{"$f":"COUNTIF(L47:L54,AS10)","v":1},{"$f":"AT10/(AV4-AT8)","v":1},{"$f":"IF(AU10=0,0,(AU10*((LOG(AU10))/LOG(2))))","v":0}]
[22,499,14,535,null,null,null,null,null,null,0,21,null,null,null,null,null,null,null,{"$f":"N11","v":0},{"$f":"COUNTIF(L7:L14,T11)","v":0},{"$f":"U11/(W4-U8)","v":0},{"$f":"IF(V11=0,0,(V11*((LOG(V11))/LOG(2))))","v":0},null,{"$f":"N11","v":0},{"$f":"COUNTIF(L15:L22,Y11)","v":0},{"$f":"Z11/(AB4-Z8)","v":0},{"$f":"IF(AA11=0,0,(AA11*((LOG(AA11))/LOG(2))))","v":0},null,{"$f":"N11","v":0},{"$f":"COUNTIF(L23:L30,AD11)","v":0},{"$f":"AE11/(AG4-AE8)","v":0},{"$f":"IF(AF11=0,0,(AF11*((LOG(AF11))/LOG(2))))","v":0},null,{"$f":"N11","v":0},{"$f":"COUNTIF(L31:L38,AI11)","v":0},{"$f":"AJ11/(AL4-AJ8)","v":0},{"$f":"IF(AK11=0,0,(AK11*((LOG(AK11))/LOG(2))))","v":0},null,{"$f":"N11","v":0},{"$f":"COUNTIF(L39:L46,AN11)","v":0},{"$f":"AO11/(AQ4-AO8)","v":0},{"$f":"IF(AP11=0,0,(AP11*((LOG(AP11))/LOG(2))))","v":0},null,{"$f":"N11","v":0},{"$f":"COUNTIF(L47:L54,AS11)","v":0},{"$f":"AT11/(AV4-AT8)","v":0},{"$f":"IF(AU11=0,0,(AU11*((LOG(AU11))/LOG(2))))","v":0}]
[11,636,21,645,null,null,null,null,null,null,0,12,null,null,null,null,null,null,null,{"$f":"N12","v":0},{"$f":"COUNTIF(L7:L14,T12)","v":0},{"$f":"U12/(W4-U8)","v":0},{"$f":"IF(V12=0,0,(V12*((LOG(V12))/LOG(2))))","v":0},null,{"$f":"N12","v":0},{"$f":"COUNTIF(L15:L22,Y12)","v":0},{"$f":"Z12/(AB4-Z8)","v":0},{"$f":"IF(AA12=0,0,(AA12*((LOG(AA12))/LOG(2))))","v":0},null,{"$f":"N12","v":0},{"$f":"COUNTIF(L23:L30,AD12)","v":0},{"$f":"AE12/(AG4-AE8)","v":0},{"$f":"IF(AF12=0,0,(AF12*((LOG(AF12))/LOG(2))))","v":0},null,{"$f":"N12","v":0},{"$f":"COUNTIF(L31:L38,AI12)","v":0},{"$f":"AJ12/(AL4-AJ8)","v":0},{"$f":"IF(AK12=0,0,(AK12*((LOG(AK12))/LOG(2))))","v":0},null,{"$f":"N12","v":0},{"$f":"COUNTIF(L39:L46,AN12)","v":0},{"$f":"AO12/(AQ4-AO8)","v":0},{"$f":"IF(AP12=0,0,(AP12*((LOG(AP12))/LOG(2))))","v":0},null,{"$f":"N12","v":0},{"$f":"COUNTIF(L47:L54,AS12)","v":0},{"$f":"AT12/(AV4-AT8)","v":0},{"$f":"IF(AU12=0,0,(AU12*((LOG(AU12))/LOG(2))))","v":0}]
[11,750,21,768,null,null,null,null,null,null,0,12,null,null,null,null,null,null,null,{"$f":"N13","v":0},{"$f":"COUNTIF(L7:L14,T13)","v":0},{"$f":"U13/(W4-U8)","v":0},{"$f":"IF(V13=0,0,(V13*((LOG(V13))/LOG(2))))","v":0},null,{"$f":"N13","v":0},{"$f":"COUNTIF(L15:L22,Y13)","v":0},{"$f":"Z13/(AB4-Z8)","v":0},{"$f":"IF(AA13=0,0,(AA13*((LOG(AA13))/LOG(2))))","v":0},null,{"$f":"N13","v":0},{"$f":"COUNTIF(L23:L30,AD13)","v":0},{"$f":"AE13/(AG4-AE8)","v":0},{"$f":"IF(AF13=0,0,(AF13*((LOG(AF13))/LOG(2))))","v":0},null,{"$f":"N13","v":0},{"$f":"COUNTIF(L31:L38,AI13)","v":0},{"$f":"AJ13/(AL4-AJ8)","v":0},{"$f":"IF(AK13=0,0,(AK13*((LOG(AK13))/LOG(2))))","v":0},null,{"$f":"N13","v":0},{"$f":"COUNTIF(L39:L46,AN13)","v":0},{"$f":"AO13/(AQ4-AO8)","v":0},{"$f":"IF(AP13=0,0,(AP13*((LOG(AP13))/LOG(2))))","v":0},null,{"$f":"N13","v":0},{"$f":"COUNTIF(L47:L54,AS13)","v":0},{"$f":"AT13/(AV4-AT8)","v":0},{"$f":"IF(AU13=0,0,(AU13*((LOG(AU13))/LOG(2))))","v":0}]
[11,860,21,870,null,null,null,null,null,null,0,12,null,null,null,null,null,null,null,{"$f":"N14","v":0},{"$f":"COUNTIF(L7:L14,T14)","v":0},{"$f":"U14/(W4-U8)","v":0},{"$f":"IF(V14=0,0,(V14*((LOG(V14))/LOG(2))))","v":0},null,{"$f":"N14","v":0},{"$f":"COUNTIF(L15:L22,Y14)","v":0},{"$f":"Z14/(AB4-Z8)","v":0},{"$f":"IF(AA14=0,0,(AA14*((LOG(AA14))/LOG(2))))","v":0},null,{"$f":"N14","v":0},{"$f":"COUNTIF(L23:L30,AD14)","v":0},{"$f":"AE14/(AG4-AE8)","v":0},{"$f":"IF(AF14=0,0,(AF14*((LOG(AF14))/LOG(2))))","v":0},null,{"$f":"N14","v":0},{"$f":"COUNTIF(L31:L38,AI14)","v":0},{"$f":"AJ14/(AL4-AJ8)","v":0},{"$f":"IF(AK14=0,0,(AK14*((LOG(AK14))/LOG(2))))","v":0},null,{"$f":"N14","v":0},{"$f":"COUNTIF(L39:L46,AN14)","v":0},{"$f":"AO14/(AQ4-AO8)","v":0},{"$f":"IF(AP14=0,0,(AP14*((LOG(AP14))/LOG(2))))","v":0},null,{"$f":"N14","v":0},{"$f":"COUNTIF(L47:L54,AS14)","v":0},{"$f":"AT14/(AV4-AT8)","v":0},{"$f":"IF(AU14=0,0,(AU14*((LOG(AU14))/LOG(2))))","v":0}]
[11,966,21,979,null,null,null,null,null,null,0,12,null,null,null,{"$f":"SUM(P7:P14)","v":1},{"$f":"-SUM(Q7:Q14)","v":0.83950060509551216},null,null,null,null,{"$f":"SUM(V7:V14)","v":1},{"$f":"-SUM(W7:W14)","v":0},null,null,null,{"$f":"SUM(AA7:AA14)","v":1},{"$f":"-SUM(AB7:AB14)","v":0},null,null,null,{"$f":"SUM(AF7:AF14)","v":1},{"$f":"-SUM(AG7:AG14)","v":0},null,null,null,{"$f":"SUM(AK7:AK14)","v":1},{"$f":"-SUM(AL7:AL14)","v":1},null,null,null,{"$f":"SUM(AP7:AP14)","v":1},{"$f":"-SUM(AQ7:AQ14)","v":0},null,null,null,{"$f":"SUM(AU7:AU14)","v":1},{"$f":"-SUM(AV7:AV14)","v":0}]
[11,1073,21,1085,null,null,null,null,null,null,0,12,null,null,null,"U=",{"$f":"Q15/(LOG(Q4)/LOG(2))","v":0.1503144568987011},null,null,null,null,"U1=",{"$f":"W15/(LOG(W4)/LOG(2))","v":0},null,null,null,"U2=",{"$f":"AB15/(LOG(AB4)/LOG(2))","v":0},null,null,null,"U3=",{"$f":"AG15/(LOG(AG4)/LOG(2))","v":0},null,null,null,"U4=",{"$f":"AL15/(LOG(AL4)/LOG(2))","v":0.33333333333333331},null,null,null,"U5=",{"$f":"AQ15/(LOG(AQ4)/LOG(2))","v":0},null,null,null,"U6=",{"$f":"AV15/(LOG(AV4)/LOG(2))","v":0}]
[11,1178,21,1198,null,null,null,null,null,null,0,12]
[11,1296,21,1309,null,null,null,null,null,null,0,12]
[11,1404,21,1418,null,null,null,null,null,null,0,12,null,"Total Target Seq"]
[11,1513,21,1537,null,null,null,null,null,null,0,12,null,{"$f":"COUNTIF(L7:L54,G3)","v":39},null,8,8,8,8,8,8]
[11,1632,21,1641,null,null,null,null,null,null,0,12,null,null,null,"% of reinforcement given in 6 equal intervals based on number of trials "]
[22,1749,23,1775,null,null,null,null,null,null,0,22,null,null,null,"%_1","%_2","%_3","%_4","%_5","%_6"]
[11,1880,21,1892,null,null,null,null,null,null,0,12,null,null,"target sequence",{"$f":"$G$3","v":12},{"$f":"$G$3","v":12},{"$f":"$G$3","v":12},{"$f":"$G$3","v":12},{"$f":"$G$3","v":12},{"$f":"$G$3","v":12}]
[22,1997,23,2032,null,null,null,null,null,null,0,22,null,null,"total reinforcement",{"$f":"U8","v":7},{"$f":"Z8","v":7},{"$f":"AE8","v":6},{"$f":"AJ8","v":6},{"$f":"AO8","v":6},{"$f":"AT8","v":7}]
[11,2135,21,2148,null,null,null,null,null,null,0,12,null,null,"% target"]
[22,2258,23,2304,null,null,null,null,null,null,0,22,null,null,"CCRF"]
[11,2407,21,2416,null,null,null,null,null,null,0,12,null,null,"% CCRf"]
[11,2515,21,2525,null,null,null,null,null,null,0,12,null,null,"average response rate",{"$f":"D14/P20","v":108.75},{"$f":"(D22-D14)/Q20","v":113.125},{"$f":"(D30-D22)/R20","v":120.75},{"$f":"(D38-D30)/S20","v":120.375},{"$f":"(D46-D38)/T20","v":126.875},{"$f":"(D54-D46)/U20","v":121}]
[11,2618,21,2630,null,null,null,null,null,null,0,12]
[11,2731,21,2741,null,null,null,null,null,null,0,12]
[11,2836,21,2850,null,null,null,null,null,null,0,12]
[22,2959,14,2979,null,null,null,null,null,null,0,21]
[22,3095,23,3135,null,null,null,null,null,null,0,22]
[11,3240,21,3252,null,null,null,null,null,null,0,12]
[11,3346,21,3355,null,null,null,null,null,null,0,12]
[11,3451,21,3473,null,null,null,null,null,null,0,12]
[11,3570,21,3586,null,null,null,null,null,null,0,12]
[11,3687,21,3704,null,null,null,null,null,null,0,12]
[11,3798,21,3808,null,null,null,null,null,null,0,12]
[11,3905,21,3919,null,null,null,null,null,null,0,12]
[11,4013,21,4025,null,null,null,null,null,null,0,12]
[11,4119,21,4129,null,null,null,null,null,null,0,12]
[22,4236,23,4289,null,null,null,null,null,null,0,22]
[11,4394,21,4407,null,null,null,null,null,null,0,12]
[22,4518,23,4602,null,null,null,null,null,null,0,22]
[11,4707,21,4719,null,null,null,null,null,null,0,12]
[11,4817,21,4836,null,null,null,null,null,null,0,12]
[11,4930,21,4941,null,null,null,null,null,null,0,12]
[22,5052,23,5086,null,null,null,null,null,null,0,22]
[11,5190,21,5205,null,null,null,null,null,null,0,12]
[11,5312,21,5326,null,null,null,null,null,null,0,12]
[11,5429,21,5439,null,null,null,null,null,null,0,12]
[11,5536,21,5546,null,null,null,null,null,null,0,12]
[11,5643,21,5687,null,null,null,null,null,null,1,12]

{"sheet":"!MC28A20.105","index":30,"n_rows":49,"n_cols":48,"rows_kept":49,"cut":false,"hidden":false,"merged":[[4,39,4,42],[5,39,5,40],[4,44,4,47],[5,44,5,45],[4,24,4,27],[5,24,5,25],[4,29,4,32],[5,29,5,30],[4,34,4,37],[5,34,5,35],[1,1,1,2],[5,13,5,14],[18,13,18,14],[19,13,19,14],[4,19,4,22],[5,19,5,20]]}
["Report for:!MC28A20.105"]
["Date:","<date>"]
["Hen:","<hen>",null,null,null,"Correct Sequence",{"$f":"Start!J2","v":12},null,null,null,null,null,null,null,null,"Total Sequences in Data",{"$f":"4994-COUNTBLANK(L7:L5000)","v":43},null,null,null,null,"Total Sequences in Block Data",{"$f":"COUNTA(L7:L13)","v":7},null,null,null,"Total Sequences in Block Data",{"$f":"COUNTA(L14:L20)","v":7},null,null,null,"Total Sequences in Block Data",{"$f":"COUNTA(L21:L28)","v":8},null,null,null,"Total Sequences in Block Data",{"$f":"COUNTA(L29:L35)","v":7},null,null,null,"Total Sequences in Block Data",{"$f":"COUNTA(L36:L42)","v":7},null,null,null,"Total Sequences in Block Data",{"$f":"COUNTA(L43:L49)","v":7}]
[null,null,null,null,null,null,null,null,null,null,null,null,null,null,null,"Total Sequences in Summary",{"$f":"SUM(O7:O14)","v":43},null,null,null,null,"Total Sequences in Block Summary",{"$f":"SUM(U7:U14)","v":7},null,null,null,"Total Sequences in Block Summary",{"$f":"SUM(Z7:Z14)","v":7},null,null,null,"Total Sequences in Block Summary",{"$f":"SUM(AE7:AE14)","v":8},null,null,null,"Total Sequences in Block Summary",{"$f":"SUM(AJ7:AJ14)","v":7},null,null,null,"Total Sequences in Block Summary",{"$f":"SUM(AO7:AO14)","v":7},null,null,null,"Total Sequences in Block Summary",{"$f":"SUM(AT7:AT14)","v":7}]
[null,null,null,null,null,null,null,null,null,null,null,null,null,null,null,null,null,null,null,"Block 1",null,null,null,null,"Block 2",null,null,null,null,"Block 3",null,null,null,null,"Block 4",null,null,null,null,"Block 5",null,null,null,null,"Block 6"]
["Sequence\nComponent\n1","Time\n1","Sequence\nComponent\n2","Time\n2","Sequence\nComponent\n3","Time\n3","Sequence\nComponent\n4","Time\n4","Sequence\nComponent\n5","Time\n5","Correct?\n0=No 1=Yes","Sequence",null,"Frequency",null,"Relative Frequency","Variability",null,null,"Frequency",null,"Relative Frequency","Variability",null,"Frequency",null,"Relative Frequency","Variability",null,"Frequency",null,"Relative Frequency","Variability",null,"Frequency",null,"Relative Frequency","Variability",null,"Frequency",null,"Relative Frequency","Variability",null,"Frequency",null,"Relative Frequency","Variability"]
[11,15,21,29,null,null,null,null,null,null,0,12,null,11,{"$f":"COUNTIF($L$7:$L$500,N7)","v":0},{"$f":"O7/$Q$4","v":0},{"$f":"IF(P7=0,0,(P7*((LOG(P7))/LOG(2))))","v":0},null,null,{"$f":"N7","v":11},{"$f":"COUNTIF(L7:L13,T7)","v":0},{"$f":"U7/(W4-U8)","v":{"$error":"#DIV/0!"}},{"$f":"IF(V7=0,0,(V7*((LOG(V7))/LOG(2))))","v":{"$error":"#DIV/0!"}},null,{"$f":"N7","v":11},{"$f":"COUNTIF(L14:L20,Y7)","v":0},{"$f":"Z7/(AB4-Z8)","v":0},{"$f":"IF(AA7=0,0,(AA7*((LOG(AA7))/LOG(2))))","v":0},null,{"$f":"N7","v":11},{"$f":"COUNTIF(L21:L28,AD7)","v":0},{"$f":"AE7/(AG4-AE8)","v":{"$error":"#DIV/0!"}},{"$f":"IF(AF7=0,0,(AF7*((LOG(AF7))/LOG(2))))","v":{"$error":"#DIV/0!"}},null,{"$f":"N7","v":11},{"$f":"COUNTIF(L29:L35,AI7)","v":0},{"$f":"AJ7/(AL4-AJ8)","v":0},{"$f":"IF(AK7=0,0,(AK7*((LOG(AK7))/LOG(2))))","v":0},null,{"$f":"N7","v":11},{"$f":"COUNTIF(L36:L42,AN7)","v":0},{"$f":"AO7/(AQ4-AO8)","v":{"$error":"#DIV/0!"}},{"$f":"IF(AP7=0,0,(AP7*((LOG(AP7))/LOG(2))))","v":{"$error":"#DIV/0!"}},null,{"$f":"N7","v":11},{"$f":"COUNTIF(L43:L49,AS7)","v":0},{"$f":"AT7/(AV4-AT8)","v":0},{"$f":"IF(AU7=0,0,(AU7*((LOG(AU7))/LOG(2))))","v":0}]
[11,128,21,139,null,null,null,null,null,null,0,12,null,12,{"$f":"COUNTIF($L$7:$L$500,N8)","v":39},{"$f":"O8/$Q$4","v":0.90697674418604646},{"$f":"IF(P8=0,0,(P8*((LOG(P8))/LOG(2))))","v":-0.12775904413381717},null,null,{"$f":"N8","v":12},{"$f":"COUNTIF(L7:L13,T8)","v":7},null,null,null,{"$f":"N8","v":12},{"$f":"COUNTIF(L14:L20,Y8)","v":6},null,null,null,{"$f":"N8","v":12},{"$f":"COUNTIF(L21:L28,AD8)","v":8},null,null,null,{"$f":"N8","v":12},{"$f":"COUNTIF(L29:L35,AI8)","v":5},null,null,null,{"$f":"N8","v":12},{"$f":"COUNTIF(L36:L42,AN8)","v":7},null,null,null,{"$f":"N8","v":12},{"$f":"COUNTIF(L43:L49,AS8)","v":6}]
[11,239,21,250,null,null,null,null,null,null,0,12,null,21,{"$f":"COUNTIF($L$7:$L$500,N9)","v":1},{"$f":"O9/$Q$4","v":2.3255813953488372E-2},{"$f":"IF(P9=0,0,(P9*((LOG(P9))/LOG(2))))","v":-0.12619220359772321},null,null,{"$f":"N9","v":21},{"$f":"COUNTIF(L7:L13,T9)","v":0},{"$f":"U9/(W4-U8)","v":{"$error":"#DIV/0!"}},{"$f":"IF(V9=0,0,(V9*((LOG(V9))/LOG(2))))","v":{"$error":"#DIV/0!"}},null,{"$f":"N9","v":21},{"$f":"COUNTIF(L14:L20,Y9)","v":0},{"$f":"Z9/(AB4-Z8)","v":0},{"$f":"IF(AA9=0,0,(AA9*((LOG(AA9))/LOG(2))))","v":0},null,{"$f":"N9","v":21},{"$f":"COUNTIF(L21:L28,AD9)","v":0},{"$f":"AE9/(AG4-AE8)","v":{"$error":"#DIV/0!"}},{"$f":"IF(AF9=0,0,(AF9*((LOG(AF9))/LOG(2))))","v":{"$error":"#DIV/0!"}},null,{"$f":"N9","v":21},{"$f":"COUNTIF(L29:L35,AI9)","v":1},{"$f":"AJ9/(AL4-AJ8)","v":0.5},{"$f":"IF(AK9=0,0,(AK9*((LOG(AK9))/LOG(2))))","v":-0.5},null,{"$f":"N9","v":21},{"$f":"COUNTIF(L36:L42,AN9)","v":0},{"$f":"AO9/(AQ4-AO8)","v":{"$error":"#DIV/0!"}},{"$f":"IF(AP9=0,0,(AP9*((LOG(AP9))/LOG(2))))","v":{"$error":"#DIV/0!"}},null,{"$f":"N9","v":21},{"$f":"COUNTIF(L43:L49,AS9)","v":0},{"$f":"AT9/(AV4-AT8)","v":0},{"$f":"IF(AU9=0,0,(AU9*((LOG(AU9))/LOG(2))))","v":0}]
[11,346,21,362,null,null,null,null,null,null,0,12,null,22,{"$f":"COUNTIF($L$7:$L$500,N10)","v":3},{"$f":"O10/$Q$4","v":6.9767441860465115E-2},{"$f":"IF(P10=0,0,(P10*((LOG(P10))/LOG(2))))","v":-0.26799783167308894},null,null,{"$f":"N10","v":22},{"$f":"COUNTIF(L7:L13,T10)","v":0},{"$f":"U10/(W4-U8)","v":{"$error":"#DIV/0!"}},{"$f":"IF(V10=0,0,(V10*((LOG(V10))/LOG(2))))","v":{"$error":"#DIV/0!"}},null,{"$f":"N10","v":22},{"$f":"COUNTIF(L14:L20,Y10)","v":1},{"$f":"Z10/(AB4-Z8)","v":1},{"$f":"IF(AA10=0,0,(AA10*((LOG(AA10))/LOG(2))))","v":0},null,{"$f":"N10","v":22},{"$f":"COUNTIF(L21:L28,AD10)","v":0},{"$f":"AE10/(AG4-AE8)","v":{"$error":"#DIV/0!"}},{"$f":"IF(AF10=0,0,(AF10*((LOG(AF10))/LOG(2))))","v":{"$error":"#DIV/0!"}},null,{"$f":"N10","v":22},{"$f":"COUNTIF(L29:L35,AI10)","v":1},{"$f":"AJ10/(AL4-AJ8)","v":0.5},{"$f":"IF(AK10=0,0,(AK10*((LOG(AK10))/LOG(2))))","v":-0.5},null,{"$f":"N10","v":22},{"$f":"COUNTIF(L36:L42,AN10)","v":0},{"$f":"AO10/(AQ4-AO8)","v":{"$error":"#DIV/0!"}},{"$f":"IF(AP10=0,0,(AP10*((LOG(AP10))/LOG(2))))","v":{"$error":"#DIV/0!"}},null,{"$f":"N10","v":22},{"$f":"COUNTIF(L43:L49,AS10)","v":1},{"$f":"AT10/(AV4-AT8)","v":1},{"$f":"IF(AU10=0,0,(AU10*((LOG(AU10))/LOG(2))))","v":0}]
[11,466,21,477,null,null,null,null,null,null,0,12,null,null,null,null,null,null,null,{"$f":"N11","v":0},{"$f":"COUNTIF(L7:L13,T11)","v":0},{"$f":"U11/(W4-U8)","v":{"$error":"#DIV/0!"}},{"$f":"IF(V11=0,0,(V11*((LOG(V11))/LOG(2))))","v":{"$error":"#DIV/0!"}},null,{"$f":"N11","v":0},{"$f":"COUNTIF(L14:L20,Y11)","v":0},{"$f":"Z11/(AB4-Z8)","v":0},{"$f":"IF(AA11=0,0,(AA11*((LOG(AA11))/LOG(2))))","v":0},null,{"$f":"N11","v":0},{"$f":"COUNTIF(L21:L28,AD11)","v":0},{"$f":"AE11/(AG4-AE8)","v":{"$error":"#DIV/0!"}},{"$f":"IF(AF11=0,0,(AF11*((LOG(AF11))/LOG(2))))","v":{"$error":"#DIV/0!"}},null,{"$f":"N11","v":0},{"$f":"COUNTIF(L29:L35,AI11)","v":0},{"$f":"AJ11/(AL4-AJ8)","v":0},{"$f":"IF(AK11=0,0,(AK11*((LOG(AK11))/LOG(2))))","v":0},null,{"$f":"N11","v":0},{"$f":"COUNTIF(L36:L42,AN11)","v":0},{"$f":"AO11/(AQ4-AO8)","v":{"$error":"#DIV/0!"}},{"$f":"IF(AP11=0,0,(AP11*((LOG(AP11))/LOG(2))))","v":{"$error":"#DIV/0!"}},null,{"$f":"N11","v":0},{"$f":"COUNTIF(L43:L49,AS11)","v":0},{"$f":"AT11/(AV4-AT8)","v":0},{"$f":"IF(AU11=0,0,(AU11*((LOG(AU11))/LOG(2))))","v":0}]
[11,573,21,583,null,null,null,null,null,null,0,12,null,null,null,null,null,null,null,{"$f":"N12","v":0},{"$f":"COUNTIF(L7:L13,T12)","v":0},{"$f":"U12/(W4-U8)","v":{"$error":"#DIV/0!"}},{"$f":"IF(V12=0,0,(V12*((LOG(V12))/LOG(2))))","v":{"$error":"#DIV/0!"}},null,{"$f":"N12","v":0},{"$f":"COUNTIF(L14:L20,Y12)","v":0},{"$f":"Z12/(AB4-Z8)","v":0},{"$f":"IF(AA12=0,0,(AA12*((LOG(AA12))/LOG(2))))","v":0},null,{"$f":"N12","v":0},{"$f":"COUNTIF(L21:L28,AD12)","v":0},{"$f":"AE12/(AG4-AE8)","v":{"$error":"#DIV/0!"}},{"$f":"IF(AF12=0,0,(AF12*((LOG(AF12))/LOG(2))))","v":{"$error":"#DIV/0!"}},null,{"$f":"N12","v":0},{"$f":"COUNTIF(L29:L35,AI12)","v":0},{"$f":"AJ12/(AL4-AJ8)","v":0},{"$f":"IF(AK12=0,0,(AK12*((LOG(AK12))/LOG(2))))","v":0},null,{"$f":"N12","v":0},{"$f":"COUNTIF(L36:L42,AN12)","v":0},{"$f":"AO12/(AQ4-AO8)","v":{"$error":"#DIV/0!"}},{"$f":"IF(AP12=0,0,(AP12*((LOG(AP12))/LOG(2))))","v":{"$error":"#DIV/0!"}},null,{"$f":"N12","v":0},{"$f":"COUNTIF(L43:L49,AS12)","v":0},{"$f":"AT12/(AV4-AT8)","v":0},{"$f":"IF(AU12=0,0,(AU12*((LOG(AU12))/LOG(2))))","v":0}]
[11,678,21,690,null,null,null,null,null,null,0,12,null,null,null,null,null,null,null,{"$f":"N13","v":0},{"$f":"COUNTIF(L7:L13,T13)","v":0},{"$f":"U13/(W4-U8)","v":{"$error":"#DIV/0!"}},{"$f":"IF(V13=0,0,(V13*((LOG(V13))/LOG(2))))","v":{"$error":"#DIV/0!"}},null,{"$f":"N13","v":0},{"$f":"COUNTIF(L14:L20,Y13)","v":0},{"$f":"Z13/(AB4-Z8)","v":0},{"$f":"IF(AA13=0,0,(AA13*((LOG(AA13))/LOG(2))))","v":0},null,{"$f":"N13","v":0},{"$f":"COUNTIF(L21:L28,AD13)","v":0},{"$f":"AE13/(AG4-AE8)","v":{"$error":"#DIV/0!"}},{"$f":"IF(AF13=0,0,(AF13*((LOG(AF13))/LOG(2))))","v":{"$error":"#DIV/0!"}},null,{"$f":"N13","v":0},{"$f":"COUNTIF(L29:L35,AI13)","v":0},{"$f":"AJ13/(AL4-AJ8)","v":0},{"$f":"IF(AK13=0,0,(AK13*((LOG(AK13))/LOG(2))))","v":0},null,{"$f":"N13","v":0},{"$f":"COUNTIF(L36:L42,AN13)","v":0},{"$f":"AO13/(AQ4-AO8)","v":{"$error":"#DIV/0!"}},{"$f":"IF(AP13=0,0,(AP13*((LOG(AP13))/LOG(2))))","v":{"$error":"#DIV/0!"}},null,{"$f":"N13","v":0},{"$f":"COUNTIF(L43:L49,AS13)","v":0},{"$f":"AT13/(AV4-AT8)","v":0},{"$f":"IF(AU13=0,0,(AU13*((LOG(AU13))/LOG(2))))","v":0}]
[11,785,21,800,null,null,null,null,null,null,0,12,null,null,null,null,null,null,null,{"$f":"N14","v":0},{"$f":"COUNTIF(L7:L13,T14)","v":0},{"$f":"U14/(W4-U8)","v":{"$error":"#DIV/0!"}},{"$f":"IF(V14=0,0,(V14*((LOG(V14))/LOG(2))))","v":{"$error":"#DIV/0!"}},null,{"$f":"N14","v":0},{"$f":"COUNTIF(L14:L20,Y14)","v":0},{"$f":"Z14/(AB4-Z8)","v":0},{"$f":"IF(AA14=0,0,(AA14*((LOG(AA14))/LOG(2))))","v":0},null,{"$f":"N14","v":0},{"$f":"COUNTIF(L21:L28,AD14)","v":0},{"$f":"AE14/(AG4-AE8)","v":{"$error":"#DIV/0!"}},{"$f":"IF(AF14=0,0,(AF14*((LOG(AF14))/LOG(2))))","v":{"$error":"#DIV/0!"}},null,{"$f":"N14","v":0},{"$f":"COUNTIF(L29:L35,AI14)","v":0},{"$f":"AJ14/(AL4-AJ8)","v":0},{"$f":"IF(AK14=0,0,(AK14*((LOG(AK14))/LOG(2))))","v":0},null,{"$f":"N14","v":0},{"$f":"COUNTIF(L36:L42,AN14)","v":0},{"$f":"AO14/(AQ4-AO8)","v":{"$error":"#DIV/0!"}},{"$f":"IF(AP14=0,0,(AP14*((LOG(AP14))/LOG(2))))","v":{"$error":"#DIV/0!"}},null,{"$f":"N14","v":0},{"$f":"COUNTIF(L43:L49,AS14)","v":0},{"$f":"AT14/(AV4-AT8)","v":0},{"$f":"IF(AU14=0,0,(AU14*((LOG(AU14))/LOG(2))))","v":0}]
[11,894,21,905,null,null,null,null,null,null,0,12,null,null,null,{"$f":"SUM(P7:P14)","v":1},{"$f":"-SUM(Q7:Q14)","v":0.52194907940462931},null,null,null,null,{"$f":"SUM(V7:V14)","v":{"$error":"#DIV/0!"}},{"$f":"-SUM(W7:W14)","v":{"$error":"#DIV/0!"}},null,null,null,{"$f":"SUM(AA7:AA14)","v":1},{"$f":"-SUM(AB7:AB14)","v":0},null,null,null,{"$f":"SUM(AF7:AF14)","v":{"$error":"#DIV/0!"}},{"$f":"-SUM(AG7:AG14)","v":{"$error":"#DIV/0!"}},null,null,null,{"$f":"SUM(AK7:AK14)","v":1},{"$f":"-SUM(AL7:AL14)","v":1},null,null,null,{"$f":"SUM(AP7:AP14)","v":{"$error":"#DIV/0!"}},{"$f":"-SUM(AQ7:AQ14)","v":{"$error":"#DIV/0!"}},null,null,null,{"$f":"SUM(AU7:AU14)","v":1},{"$f":"-SUM(AV7:AV14)","v":0}]
[22,1029,23,1084,null,null,null,null,null,null,0,22,null,null,null,"U=",{"$f":"Q15/(LOG(Q4)/LOG(2))","v":9.6189386806520519E-2},null,null,null,null,"U1=",{"$f":"W15/(LOG(W4)/LOG(2))","v":{"$error":"#DIV/0!"}},null,null,null,"U2=",{"$f":"AB15/(LOG(AB4)/LOG(2))","v":0},null,null,null,"U3=",{"$f":"AG15/(LOG(AG4)/LOG(2))","v":{"$error":"#DIV/0!"}},null,null,null,"U4=",{"$f":"AL15/(LOG(AL4)/LOG(2))","v":0.35620718710802218},null,null,null,"U5=",{"$f":"AQ15/(LOG(AQ4)/LOG(2))","v":{"$error":"#DIV/0!"}},null,null,null,"U6=",{"$f":"AV15/(LOG(AV4)/LOG(2))","v":0}]
[11,1180,21,1192,null,null,null,null,null,null,0,12]
[11,1288,21,1298,null,null,null,null,null,null,0,12]
[11,1394,21,1409,null,null,null,null,null,null,0,12,null,"Total Target Seq"]
[11,1505,21,1516,null,null,null,null,null,null,0,12,null,{"$f":"COUNTIF(L7:L49,G3)","v":39},null,7,7,8,7,7,7]
[11,1609,21,1620,null,null,null,null,null,null,0,12,null,null,null,"% of reinforcement given in 6 equal intervals based on number of trials "]
[11,1718,21,1729,null,null,null,null,null,null,0,12,null,null,null,"%_1","%_2","%_3","%_4","%_5","%_6"]
[11,1828,21,1859,null,null,null,null,null,null,0,12,null,null,"target sequence",{"$f":"$G$3","v":12},{"$f":"$G$3","v":12},{"$f":"$G$3","v":12},{"$f":"$G$3","v":12},{"$f":"$G$3","v":12},{"$f":"$G$3","v":12}]
[11,1955,21,1964,null,null,null,null,null,null,0,12,null,null,"total reinforcement",{"$f":"U8","v":7},{"$f":"Z8","v":6},{"$f":"AE8","v":8},{"$f":"AJ8","v":5},{"$f":"AO8","v":7},{"$f":"AT8","v":6}]
[11,2060,21,2073,null,null,null,null,null,null,0,12,null,null,"% target"]
[11,2167,21,2188,null,null,null,null,null,null,0,12,null,null,"CCRF"]
[11,2281,21,2291,null,null,null,null,null,null,0,12,null,null,"% CCRf"]
[11,2385,21,2399,null,null,null,null,null,null,0,12,null,null,"average response rate",{"$f":"D13/P20","v":98.571428571428569},{"$f":"(D20-D13)/Q20","v":118},{"$f":"(D28-D20)/R20","v":110.375},{"$f":"(D35-D28)/S20","v":125.71428571428571},{"$f":"(D42-D35)/T20","v":109.14285714285714},{"$f":"(D49-D42)/U20","v":114.14285714285714}]
[11,2495,21,2505,null,null,null,null,null,null,0,12]
[22,2615,14,2668,null,null,null,null,null,null,0,21]
[22,2788,23,2838,null,null,null,null,null,null,0,22]
[11,2946,21,2956,null,null,null,null,null,null,0,12]
[11,3055,21,3066,null,null,null,null,null,null,0,12]
[11,3160,21,3170,null,null,null,null,null,null,0,12]
[11,3265,21,3279,null,null,null,null,null,null,0,12]
[11,3372,21,3385,null,null,null,null,null,null,0,12]
[11,3482,21,3491,null,null,null,null,null,null,0,12]
[11,3584,21,3595,null,null,null,null,null,null,0,12]
[11,3692,21,3705,null,null,null,null,null,null,0,12]
[11,3799,21,3827,null,null,null,null,null,null,0,12]
[11,3920,21,3932,null,null,null,null,null,null,0,12]
[11,4026,21,4043,null,null,null,null,null,null,0,12]
[22,4158,23,4191,null,null,null,null,null,null,0,22]
[11,4299,21,4309,null,null,null,null,null,null,0,12]
[11,4406,21,4419,null,null,null,null,null,null,0,12]
[11,4516,21,4526,null,null,null,null,null,null,0,12]
[11,4620,21,4630,null,null,null,null,null,null,0,12]
[11,4723,21,4737,null,null,null,null,null,null,0,12]
[11,4832,21,4842,null,null,null,null,null,null,1,12]

{"sheet":"!MC29A00.105","index":31,"n_rows":57,"n_cols":48,"rows_kept":57,"cut":false,"hidden":false,"merged":[[4,39,4,42],[5,39,5,40],[4,44,4,47],[5,44,5,45],[4,24,4,27],[5,24,5,25],[4,29,4,32],[5,29,5,30],[4,34,4,37],[5,34,5,35],[1,1,1,2],[5,13,5,14],[18,13,18,14],[19,13,19,14],[4,19,4,22],[5,19,5,20]]}
["Report for:!MC29A00.105"]
["Date:","<date>"]
["Hen:","<hen>",null,null,null,"Correct Sequence",{"$f":"Start!J2","v":12},null,null,null,null,null,null,null,null,"Total Sequences in Data",{"$f":"4994-COUNTBLANK(L7:L5000)","v":51},null,null,null,null,"Total Sequences in Block Data",{"$f":"COUNTA(L7:L15)","v":9},null,null,null,"Total Sequences in Block Data",{"$f":"COUNTA(L16:L23)","v":8},null,null,null,"Total Sequences in Block Data",{"$f":"COUNTA(L24:L32)","v":9},null,null,null,"Total Sequences in Block Data",{"$f":"COUNTA(L33:L40)","v":8},null,null,null,"Total Sequences in Block Data",{"$f":"COUNTA(L41:L49)","v":9},null,null,null,"Total Sequences in Block Data",{"$f":"COUNTA(L50:L57)","v":8}]
[null,null,null,null,null,null,null,null,null,null,null,null,null,null,null,"Total Sequences in Summary",{"$f":"SUM(O7:O14)","v":51},null,null,null,null,"Total Sequences in Block Summary",{"$f":"SUM(U7:U14)","v":9},null,null,null,"Total Sequences in Block Summary",{"$f":"SUM(Z7:Z14)","v":8},null,null,null,"Total Sequences in Block Summary",{"$f":"SUM(AE7:AE14)","v":9},null,null,null,"Total Sequences in Block Summary",{"$f":"SUM(AJ7:AJ14)","v":8},null,null,null,"Total Sequences in Block Summary",{"$f":"SUM(AO7:AO14)","v":9},null,null,null,"Total Sequences in Block Summary",{"$f":"SUM(AT7:AT14)","v":8}]
[null,null,null,null,null,null,null,null,null,null,null,null,null,null,null,null,null,null,null,"Block 1",null,null,null,null,"Block 2",null,null,null,null,"Block 3",null,null,null,null,"Block 4",null,null,null,null,"Block 5",null,null,null,null,"Block 6"]
["Sequence\nComponent\n1","Time\n1","Sequence\nComponent\n2","Time\n2","Sequence\nComponent\n3","Time\n3","Sequence\nComponent\n4","Time\n4","Sequence\nComponent\n5","Time\n5","Correct?\n0=No 1=Yes","Sequence",null,"Frequency",null,"Relative Frequency","Variability",null,null,"Frequency",null,"Relative Frequency","Variability",null,"Frequency",null,"Relative Frequency","Variability",null,"Frequency",null,"Relative Frequency","Variability",null,"Frequency",null,"Relative Frequency","Variability",null,"Frequency",null,"Relative Frequency","Variability",null,"Frequency",null,"Relative Frequency","Variability"]
[22,28,23,66,null,null,null,null,null,null,0,22,null,11,{"$f":"COUNTIF($L$7:$L$500,N7)","v":0},{"$f":"O7/$Q$4","v":0},{"$f":"IF(P7=0,0,(P7*((LOG(P7))/LOG(2))))","v":0},null,null,{"$f":"N7","v":11},{"$f":"COUNTIF(L7:L15,T7)","v":0},{"$f":"U7/(W4-U8)","v":0},{"$f":"IF(V7=0,0,(V7*((LOG(V7))/LOG(2))))","v":0},null,{"$f":"N7","v":11},{"$f":"COUNTIF(L16:L23,Y7)","v":0},{"$f":"Z7/(AB4-Z8)","v":0},{"$f":"IF(AA7=0,0,(AA7*((LOG(AA7))/LOG(2))))","v":0},null,{"$f":"N7","v":11},{"$f":"COUNTIF(L24:L32,AD7)","v":0},{"$f":"AE7/(AG4-AE8)","v":0},{"$f":"IF(AF7=0,0,(AF7*((LOG(AF7))/LOG(2))))","v":0},null,{"$f":"N7","v":11},{"$f":"COUNTIF(L33:L40,AI7)","v":0},{"$f":"AJ7/(AL4-AJ8)","v":0},{"$f":"IF(AK7=0,0,(AK7*((LOG(AK7))/LOG(2))))","v":0},null,{"$f":"N7","v":11},{"$f":"COUNTIF(L41:L49,AN7)","v":0},{"$f":"AO7/(AQ4-AO8)","v":0},{"$f":"IF(AP7=0,0,(AP7*((LOG(AP7))/LOG(2))))","v":0},null,{"$f":"N7","v":11},{"$f":"COUNTIF(L50:L57,AS7)","v":0},{"$f":"AT7/(AV4-AT8)","v":0},{"$f":"IF(AU7=0,0,(AU7*((LOG(AU7))/LOG(2))))","v":0}]
[11,164,21,175,null,null,null,null,null,null,0,12,null,12,{"$f":"COUNTIF($L$7:$L$500,N8)","v":39},{"$f":"O8/$Q$4","v":0.76470588235294112},{"$f":"IF(P8=0,0,(P8*((LOG(P8))/LOG(2))))","v":-0.29595885884824796},null,null,{"$f":"N8","v":12},{"$f":"COUNTIF(L7:L15,T8)","v":7},null,null,null,{"$f":"N8","v":12},{"$f":"COUNTIF(L16:L23,Y8)","v":5},null,null,null,{"$f":"N8","v":12},{"$f":"COUNTIF(L24:L32,AD8)","v":7},null,null,null,{"$f":"N8","v":12},{"$f":"COUNTIF(L33:L40,AI8)","v":6},null,null,null,{"$f":"N8","v":12},{"$f":"COUNTIF(L41:L49,AN8)","v":7},null,null,null,{"$f":"N8","v":12},{"$f":"COUNTIF(L50:L57,AS8)","v":7}]
[11,272,21,282,null,null,null,null,null,null,0,12,null,21,{"$f":"COUNTIF($L$7:$L$500,N9)","v":0},{"$f":"O9/$Q$4","v":0},{"$f":"IF(P9=0,0,(P9*((LOG(P9))/LOG(2))))","v":0},null,null,{"$f":"N9","v":21},{"$f":"COUNTIF(L7:L15,T9)","v":0},{"$f":"U9/(W4-U8)","v":0},{"$f":"IF(V9=0,0,(V9*((LOG(V9))/LOG(2))))","v":0},null,{"$f":"N9","v":21},{"$f":"COUNTIF(L16:L23,Y9)","v":0},{"$f":"Z9/(AB4-Z8)","v":0},{"$f":"IF(AA9=0,0,(AA9*((LOG(AA9))/LOG(2))))","v":0},null,{"$f":"N9","v":21},{"$f":"COUNTIF(L24:L32,AD9)","v":0},{"$f":"AE9/(AG4-AE8)","v":0},{"$f":"IF(AF9=0,0,(AF9*((LOG(AF9))/LOG(2))))","v":0},null,{"$f":"N9","v":21},{"$f":"COUNTIF(L33:L40,AI9)","v":0},{"$f":"AJ9/(AL4-AJ8)","v":0},{"$f":"IF(AK9=0,0,(AK9*((LOG(AK9))/LOG(2))))","v":0},null,{"$f":"N9","v":21},{"$f":"COUNTIF(L41:L49,AN9)","v":0},{"$f":"AO9/(AQ4-AO8)","v":0},{"$f":"IF(AP9=0,0,(AP9*((LOG(AP9))/LOG(2))))","v":0},null,{"$f":"N9","v":21},{"$f":"COUNTIF(L50:L57,AS9)","v":0},{"$f":"AT9/(AV4-AT8)","v":0},{"$f":"IF(AU9=0,0,(AU9*((LOG(AU9))/LOG(2))))","v":0}]
[11,389,21,400,null,null,null,null,null,null,0,12,null,22,{"$f":"COUNTIF($L$7:$L$500,N10)","v":12},{"$f":"O10/$Q$4","v":0.23529411764705882},{"$f":"IF(P10=0,0,(P10*((LOG(P10))/LOG(2))))","v":-0.49116772735302094},null,null,{"$f":"N10","v":22},{"$f":"COUNTIF(L7:L15,T10)","v":2},{"$f":"U10/(W4-U8)","v":1},{"$f":"IF(V10=0,0,(V10*((LOG(V10))/LOG(2))))","v":0},null,{"$f":"N10","v":22},{"$f":"COUNTIF(L16:L23,Y10)","v":3},{"$f":"Z10/(AB4-Z8)","v":1},{"$f":"IF(AA10=0,0,(AA10*((LOG(AA10))/LOG(2))))","v":0},null,{"$f":"N10","v":22},{"$f":"COUNTIF(L24:L32,AD10)","v":2},{"$f":"AE10/(AG4-AE8)","v":1},{"$f":"IF(AF10=0,0,(AF10*((LOG(AF10))/LOG(2))))","v":0},null,{"$f":"N10","v":22},{"$f":"COUNTIF(L33:L40,AI10)","v":2},{"$f":"AJ10/(AL4-AJ8)","v":1},{"$f":"IF(AK10=0,0,(AK10*((LOG(AK10))/LOG(2))))","v":0},null,{"$f":"N10","v":22},{"$f":"COUNTIF(L41:L49,AN10)","v":2},{"$f":"AO10/(AQ4-AO8)","v":1},{"$f":"IF(AP10=0,0,(AP10*((LOG(AP10))/LOG(2))))","v":0},null,{"$f":"N10","v":22},{"$f":"COUNTIF(L50:L57,AS10)","v":1},{"$f":"AT10/(AV4-AT8)","v":1},{"$f":"IF(AU10=0,0,(AU10*((LOG(AU10))/LOG(2))))","v":0}]
[22,519,23,550,null,null,null,null,null,null,0,22,null,null,null,null,null,null,null,{"$f":"N11","v":0},{"$f":"COUNTIF(L7:L15,T11)","v":0},{"$f":"U11/(W4-U8)","v":0},{"$f":"IF(V11=0,0,(V11*((LOG(V11))/LOG(2))))","v":0},null,{"$f":"N11","v":0},{"$f":"COUNTIF(L16:L23,Y11)","v":0},{"$f":"Z11/(AB4-Z8)","v":0},{"$f":"IF(AA11=0,0,(AA11*((LOG(AA11))/LOG(2))))","v":0},null,{"$f":"N11","v":0},{"$f":"COUNTIF(L24:L32,AD11)","v":0},{"$f":"AE11/(AG4-AE8)","v":0},{"$f":"IF(AF11=0,0,(AF11*((LOG(AF11))/LOG(2))))","v":0},null,{"$f":"N11","v":0},{"$f":"COUNTIF(L33:L40,AI11)","v":0},{"$f":"AJ11/(AL4-AJ8)","v":0},{"$f":"IF(AK11=0,0,(AK11*((LOG(AK11))/LOG(2))))","v":0},null,{"$f":"N11","v":0},{"$f":"COUNTIF(L41:L49,AN11)","v":0},{"$f":"AO11/(AQ4-AO8)","v":0},{"$f":"IF(AP11=0,0,(AP11*((LOG(AP11))/LOG(2))))","v":0},null,{"$f":"N11","v":0},{"$f":"COUNTIF(L50:L57,AS11)","v":0},{"$f":"AT11/(AV4-AT8)","v":0},{"$f":"IF(AU11=0,0,(AU11*((LOG(AU11))/LOG(2))))","v":0}]
[11,657,21,672,null,null,null,null,null,null,0,12,null,null,null,null,null,null,null,{"$f":"N12","v":0},{"$f":"COUNTIF(L7:L15,T12)","v":0},{"$f":"U12/(W4-U8)","v":0},{"$f":"IF(V12=0,0,(V12*((LOG(V12))/LOG(2))))","v":0},null,{"$f":"N12","v":0},{"$f":"COUNTIF(L16:L23,Y12)","v":0},{"$f":"Z12/(AB4-Z8)","v":0},{"$f":"IF(AA12=0,0,(AA12*((LOG(AA12))/LOG(2))))","v":0},null,{"$f":"N12","v":0},{"$f":"COUNTIF(L24:L32,AD12)","v":0},{"$f":"AE12/(AG4-AE8)","v":0},{"$f":"IF(AF12=0,0,(AF12*((LOG(AF12))/LOG(2))))","v":0},null,{"$f":"N12","v":0},{"$f":"COUNTIF(L33:L40,AI12)","v":0},{"$f":"AJ12/(AL4-AJ8)","v":0},{"$f":"IF(AK12=0,0,(AK12*((LOG(AK12))/LOG(2))))","v":0},null,{"$f":"N12","v":0},{"$f":"COUNTIF(L41:L49,AN12)","v":0},{"$f":"AO12/(AQ4-AO8)","v":0},{"$f":"IF(AP12=0,0,(AP12*((LOG(AP12))/LOG(2))))","v":0},null,{"$f":"N12","v":0},{"$f":"COUNTIF(L50:L57,AS12)","v":0},{"$f":"AT12/(AV4-AT8)","v":0},{"$f":"IF(AU12=0,0,(AU12*((LOG(AU12))/LOG(2))))","v":0}]
[11,768,21,782,null,null,null,null,null,null,0,12,null,null,null,null,null,null,null,{"$f":"N13","v":0},{"$f":"COUNTIF(L7:L15,T13)","v":0},{"$f":"U13/(W4-U8)","v":0},{"$f":"IF(V13=0,0,(V13*((LOG(V13))/LOG(2))))","v":0},null,{"$f":"N13","v":0},{"$f":"COUNTIF(L16:L23,Y13)","v":0},{"$f":"Z13/(AB4-Z8)","v":0},{"$f":"IF(AA13=0,0,(AA13*((LOG(AA13))/LOG(2))))","v":0},null,{"$f":"N13","v":0},{"$f":"COUNTIF(L24:L32,AD13)","v":0},{"$f":"AE13/(AG4-AE8)","v":0},{"$f":"IF(AF13=0,0,(AF13*((LOG(AF13))/LOG(2))))","v":0},null,{"$f":"N13","v":0},{"$f":"COUNTIF(L33:L40,AI13)","v":0},{"$f":"AJ13/(AL4-AJ8)","v":0},{"$f":"IF(AK13=0,0,(AK13*((LOG(AK13))/LOG(2))))","v":0},null,{"$f":"N13","v":0},{"$f":"COUNTIF(L41:L49,AN13)","v":0},{"$f":"AO13/(AQ4-AO8)","v":0},{"$f":"IF(AP13=0,0,(AP13*((LOG(AP13))/LOG(2))))","v":0},null,{"$f":"N13","v":0},{"$f":"COUNTIF(L50:L57,AS13)","v":0},{"$f":"AT13/(AV4-AT8)","v":0},{"$f":"IF(AU13=0,0,(AU13*((LOG(AU13))/LOG(2))))","v":0}]
[11,877,21,890,null,null,null,null,null,null,0,12,null,null,null,null,null,null,null,{"$f":"N14","v":0},{"$f":"COUNTIF(L7:L15,T14)","v":0},{"$f":"U14/(W4-U8)","v":0},{"$f":"IF(V14=0,0,(V14*((LOG(V14))/LOG(2))))","v":0},null,{"$f":"N14","v":0},{"$f":"COUNTIF(L16:L23,Y14)","v":0},{"$f":"Z14/(AB4-Z8)","v":0},{"$f":"IF(AA14=0,0,(AA14*((LOG(AA14))/LOG(2))))","v":0},null,{"$f":"N14","v":0},{"$f":"COUNTIF(L24:L32,AD14)","v":0},{"$f":"AE14/(AG4-AE8)","v":0},{"$f":"IF(AF14=0,0,(AF14*((LOG(AF14))/LOG(2))))","v":0},null,{"$f":"N14","v":0},{"$f":"COUNTIF(L33:L40,AI14)","v":0},{"$f":"AJ14/(AL4-AJ8)","v":0},{"$f":"IF(AK14=0,0,(AK14*((LOG(AK14))/LOG(2))))","v":0},null,{"$f":"N14","v":0},{"$f":"COUNTIF(L41:L49,AN14)","v":0},{"$f":"AO14/(AQ4-AO8)","v":0},{"$f":"IF(AP14=0,0,(AP14*((LOG(AP14))/LOG(2))))","v":0},null,{"$f":"N14","v":0},{"$f":"COUNTIF(L50:L57,AS14)","v":0},{"$f":"AT14/(AV4-AT8)","v":0},{"$f":"IF(AU14=0,0,(AU14*((LOG(AU14))/LOG(2))))","v":0}]
[11,986,21,1000,null,null,null,null,null,null,0,12,null,null,null,{"$f":"SUM(P7:P14)","v":1},{"$f":"-SUM(Q7:Q14)","v":0.78712658620126885},null,null,null,null,{"$f":"SUM(V7:V14)","v":1},{"$f":"-SUM(W7:W14)","v":0},null,null,null,{"$f":"SUM(AA7:AA14)","v":1},{"$f":"-SUM(AB7:AB14)","v":0},null,null,null,{"$f":"SUM(AF7:AF14)","v":1},{"$f":"-SUM(AG7:AG14)","v":0},null,null,null,{"$f":"SUM(AK7:AK14)","v":1},{"$f":"-SUM(AL7:AL14)","v":0},null,null,null,{"$f":"SUM(AP7:AP14)","v":1},{"$f":"-SUM(AQ7:AQ14)","v":0},null,null,null,{"$f":"SUM(AU7:AU14)","v":1},{"$f":"-SUM(AV7:AV14)","v":0}]
[11,1097,21,1111,null,null,null,null,null,null,0,12,null,null,null,"U=",{"$f":"Q15/(LOG(Q4)/LOG(2))","v":0.13876367492704575},null,null,null,null,"U1=",{"$f":"W15/(LOG(W4)/LOG(2))","v":0},null,null,null,"U2=",{"$f":"AB15/(LOG(AB4)/LOG(2))","v":0},null,null,null,"U3=",{"$f":"AG15/(LOG(AG4)/LOG(2))","v":0},null,null,null,"U4=",{"$f":"AL15/(LOG(AL4)/LOG(2))","v":0},null,null,null,"U5=",{"$f":"AQ15/(LOG(AQ4)/LOG(2))","v":0},null,null,null,"U6=",{"$f":"AV15/(LOG(AV4)/LOG(2))","v":0}]
[11,1206,21,1219,null,null,null,null,null,null,0,12]
[11,1313,21,1340,null,null,null,null,null,null,0,12]
[22,1451,23,1466,null,null,null,null,null,null,0,22,null,"Total Target Seq"]
[11,1570,21,1586,null,null,null,null,null,null,0,12,null,{"$f":"COUNTIF(L7:L57,G3)","v":39},null,9,8,9,8,9,8]
[22,1704,23,1736,null,null,null,null,null,null,0,22,null,null,null,"% of reinforcement given in 6 equal intervals based on number of trials "]
[11,1842,21,1859,null,null,null,null,null,null,0,12,null,null,null,"%_1","%_2","%_3","%_4","%_5","%_6"]
[22,1967,23,1998,null,null,null,null,null,null,0,22,null,null,"target sequence",{"$f":"$G$3","v":12},{"$f":"$G$3","v":12},{"$f":"$G$3","v":12},{"$f":"$G$3","v":12},{"$f":"$G$3","v":12},{"$f":"$G$3","v":12}]
[11,2104,21,2115,null,null,null,null,null,null,0,12,null,null,"total reinforcement",{"$f":"U8","v":7},{"$f":"Z8","v":5},{"$f":"AE8","v":7},{"$f":"AJ8","v":6},{"$f":"AO8","v":7},{"$f":"AT8","v":7}]
[22,2230,23,2259,null,null,null,null,null,null,0,22,null,null,"% target"]
[11,2363,21,2386,null,null,null,null,null,null,0,12,null,null,"CCRF"]
[11,2481,21,2498,null,null,null,null,null,null,0,12,null,null,"% CCRf"]
[11,2597,21,2642,null,null,null,null,null,null,0,12,null,null,"average response rate",{"$f":"D15/P20","v":111.11111111111111},{"$f":"(D23-D15)/Q20","v":124.75},{"$f":"(D32-D23)/R20","v":124.77777777777777},{"$f":"(D40-D32)/S20","v":119.125},{"$f":"(D49-D40)/T20","v":120.77777777777777},{"$f":"(D57-D49)/U20","v":116.25}]
[11,2737,21,2750,null,null,null,null,null,null,0,12]
[22,2863,23,2897,null,null,null,null,null,null,0,22]
[11,3001,21,3012,null,null,null,null,null,null,0,12]
[11,3108,21,3121,null,null,null,null,null,null,0,12]
[11,3215,21,3229,null,null,null,null,null,null,0,12]
[11,3323,21,3337,null,null,null,null,null,null,0,12]
[22,3498,23,3511,null,null,null,null,null,null,0,22]
[11,3616,21,3629,null,null,null,null,null,null,0,12]
[11,3726,21,3738,null,null,null,null,null,null,0,12]
[11,3832,21,3847,null,null,null,null,null,null,0,12]
[22,3946,23,3959,null,null,null,null,null,null,0,22]
[11,4063,21,4074,null,null,null,null,null,null,0,12]
[22,4190,23,4214,null,null,null,null,null,null,0,22]
[11,4317,21,4329,null,null,null,null,null,null,0,12]
[11,4424,21,4438,null,null,null,null,null,null,0,12]
[11,4532,21,4546,null,null,null,null,null,null,0,12]
[11,4639,21,4652,null,null,null,null,null,null,0,12]
[22,4758,23,4775,null,null,null,null,null,null,0,22]
[11,4881,21,4943,null,null,null,null,null,null,0,12]
[11,5043,21,5053,null,null,null,null,null,null,0,12]
[11,5152,21,5161,null,null,null,null,null,null,0,12]
[11,5257,21,5270,null,null,null,null,null,null,0,12]
[11,5369,21,5375,null,null,null,null,null,null,0,12]
[11,5472,21,5493,null,null,null,null,null,null,0,12]
[11,5588,21,5601,null,null,null,null,null,null,0,12]
[22,5750,23,5763,null,null,null,null,null,null,0,22]
[11,5866,21,5877,null,null,null,null,null,null,0,12]
[11,5971,21,5985,null,null,null,null,null,null,0,12]
[11,6082,21,6091,null,null,null,null,null,null,1,12]

{"sheet":"!MC30A00.105","index":32,"n_rows":60,"n_cols":48,"rows_kept":60,"cut":false,"hidden":false,"merged":[[4,39,4,42],[5,39,5,40],[4,44,4,47],[5,44,5,45],[4,24,4,27],[5,24,5,25],[4,29,4,32],[5,29,5,30],[4,34,4,37],[5,34,5,35],[1,1,1,2],[5,13,5,14],[18,13,18,14],[19,13,19,14],[4,19,4,22],[5,19,5,20]]}
["Report for:!MC30A00.105"]
["Date:","<date>"]
["Hen:","<hen>",null,null,null,"Correct Sequence",{"$f":"Start!J2","v":12},null,null,null,null,null,null,null,null,"Total Sequences in Data",{"$f":"4994-COUNTBLANK(L7:L5000)","v":54},null,null,null,null,"Total Sequences in Block Data",{"$f":"COUNTA(L7:L15)","v":9},null,null,null,"Total Sequences in Block Data",{"$f":"COUNTA(L16:L24)","v":9},null,null,null,"Total Sequences in Block Data",{"$f":"COUNTA(L25:L33)","v":9},null,null,null,"Total Sequences in Block Data",{"$f":"COUNTA(L34:L42)","v":9},null,null,null,"Total Sequences in Block Data",{"$f":"COUNTA(L43:L51)","v":9},null,null,null,"Total Sequences in Block Data",{"$f":"COUNTA(L52:L60)","v":9}]
[null,null,null,null,null,null,null,null,null,null,null,null,null,null,null,"Total Sequences in Summary",{"$f":"SUM(O7:O14)","v":54},null,null,null,null,"Total Sequences in Block Summary",{"$f":"SUM(U7:U14)","v":9},null,null,null,"Total Sequences in Block Summary",{"$f":"SUM(Z7:Z14)","v":9},null,null,null,"Total Sequences in Block Summary",{"$f":"SUM(AE7:AE14)","v":9},null,null,null,"Total Sequences in Block Summary",{"$f":"SUM(AJ7:AJ14)","v":9},null,null,null,"Total Sequences in Block Summary",{"$f":"SUM(AO7:AO14)","v":9},null,null,null,"Total Sequences in Block Summary",{"$f":"SUM(AT7:AT14)","v":9}]
[null,null,null,null,null,null,null,null,null,null,null,null,null,null,null,null,null,null,null,"Block 1",null,null,null,null,"Block 2",null,null,null,null,"Block 3",null,null,null,null,"Block 4",null,null,null,null,"Block 5",null,null,null,null,"Block 6"]
["Sequence\nComponent\n1","Time\n1","Sequence\nComponent\n2","Time\n2","Sequence\nComponent\n3","Time\n3","Sequence\nComponent\n4","Time\n4","Sequence\nComponent\n5","Time\n5","Correct?\n0=No 1=Yes","Sequence",null,"Frequency",null,"Relative Frequency","Variability",null,null,"Frequency",null,"Relative Frequency","Variability",null,"Frequency",null,"Relative Frequency","Variability",null,"Frequency",null,"Relative Frequency","Variability",null,"Frequency",null,"Relative Frequency","Variability",null,"Frequency",null,"Relative Frequency","Variability",null,"Frequency",null,"Relative Frequency","Variability"]
[22,29,23,64,null,null,null,null,null,null,0,22,null,11,{"$f":"COUNTIF($L$7:$L$500,N7)","v":0},{"$f":"O7/$Q$4","v":0},{"$f":"IF(P7=0,0,(P7*((LOG(P7))/LOG(2))))","v":0},null,null,{"$f":"N7","v":11},{"$f":"COUNTIF(L7:L15,T7)","v":0},{"$f":"U7/(W4-U8)","v":0},{"$f":"IF(V7=0,0,(V7*((LOG(V7))/LOG(2))))","v":0},null,{"$f":"N7","v":11},{"$f":"COUNTIF(L16:L24,Y7)","v":0},{"$f":"Z7/(AB4-Z8)","v":0},{"$f":"IF(AA7=0,0,(AA7*((LOG(AA7))/LOG(2))))","v":0},null,{"$f":"N7","v":11},{"$f":"COUNTIF(L25:L33,AD7)","v":0},{"$f":"AE7/(AG4-AE8)","v":0},{"$f":"IF(AF7=0,0,(AF7*((LOG(AF7))/LOG(2))))","v":0},null,{"$f":"N7","v":11},{"$f":"COUNTIF(L34:L42,AI7)","v":0},{"$f":"AJ7/(AL4-AJ8)","v":0},{"$f":"IF(AK7=0,0,(AK7*((LOG(AK7))/LOG(2))))","v":0},null,{"$f":"N7","v":11},{"$f":"COUNTIF(L43:L51,AN7)","v":0},{"$f":"AO7/(AQ4-AO8)","v":0},{"$f":"IF(AP7=0,0,(AP7*((LOG(AP7))/LOG(2))))","v":0},null,{"$f":"N7","v":11},{"$f":"COUNTIF(L52:L60,AS7)","v":0},{"$f":"AT7/(AV4-AT8)","v":0},{"$f":"IF(AU7=0,0,(AU7*((LOG(AU7))/LOG(2))))","v":0}]
[11,178,21,193,null,null,null,null,null,null,0,12,null,12,{"$f":"COUNTIF($L$7:$L$500,N8)","v":40},{"$f":"O8/$Q$4","v":0.7407407407407407},{"$f":"IF(P8=0,0,(P8*((LOG(P8))/LOG(2))))","v":-0.32071067205637499},null,null,{"$f":"N8","v":12},{"$f":"COUNTIF(L7:L15,T8)","v":5},null,null,null,{"$f":"N8","v":12},{"$f":"COUNTIF(L16:L24,Y8)","v":8},null,null,null,{"$f":"N8","v":12},{"$f":"COUNTIF(L25:L33,AD8)","v":7},null,null,null,{"$f":"N8","v":12},{"$f":"COUNTIF(L34:L42,AI8)","v":8},null,null,null,{"$f":"N8","v":12},{"$f":"COUNTIF(L43:L51,AN8)","v":6},null,null,null,{"$f":"N8","v":12},{"$f":"COUNTIF(L52:L60,AS8)","v":6}]
[11,290,21,305,null,null,null,null,null,null,0,12,null,21,{"$f":"COUNTIF($L$7:$L$500,N9)","v":4},{"$f":"O9/$Q$4","v":7.407407407407407E-2},{"$f":"IF(P9=0,0,(P9*((LOG(P9))/LOG(2))))","v":-0.27813981497507173},null,null,{"$f":"N9","v":21},{"$f":"COUNTIF(L7:L15,T9)","v":2},{"$f":"U9/(W4-U8)","v":0.5},{"$f":"IF(V9=0,0,(V9*((LOG(V9))/LOG(2))))","v":-0.5},null,{"$f":"N9","v":21},{"$f":"COUNTIF(L16:L24,Y9)","v":0},{"$f":"Z9/(AB4-Z8)","v":0},{"$f":"IF(AA9=0,0,(AA9*((LOG(AA9))/LOG(2))))","v":0},null,{"$f":"N9","v":21},{"$f":"COUNTIF(L25:L33,AD9)","v":0},{"$f":"AE9/(AG4-AE8)","v":0},{"$f":"IF(AF9=0,0,(AF9*((LOG(AF9))/LOG(2))))","v":0},null,{"$f":"N9","v":21},{"$f":"COUNTIF(L34:L42,AI9)","v":0},{"$f":"AJ9/(AL4-AJ8)","v":0},{"$f":"IF(AK9=0,0,(AK9*((LOG(AK9))/LOG(2))))","v":0},null,{"$f":"N9","v":21},{"$f":"COUNTIF(L43:L51,AN9)","v":0},{"$f":"AO9/(AQ4-AO8)","v":0},{"$f":"IF(AP9=0,0,(AP9*((LOG(AP9))/LOG(2))))","v":0},null,{"$f":"N9","v":21},{"$f":"COUNTIF(L52:L60,AS9)","v":2},{"$f":"AT9/(AV4-AT8)","v":0.66666666666666663},{"$f":"IF(AU9=0,0,(AU9*((LOG(AU9))/LOG(2))))","v":-0.38997500048077083}]
[22,415,14,456,null,null,null,null,null,null,0,21,null,22,{"$f":"COUNTIF($L$7:$L$500,N10)","v":10},{"$f":"O10/$Q$4","v":0.18518518518518517},{"$f":"IF(P10=0,0,(P10*((LOG(P10))/LOG(2))))","v":-0.45054803838446406},null,null,{"$f":"N10","v":22},{"$f":"COUNTIF(L7:L15,T10)","v":2},{"$f":"U10/(W4-U8)","v":0.5},{"$f":"IF(V10=0,0,(V10*((LOG(V10))/LOG(2))))","v":-0.5},null,{"$f":"N10","v":22},{"$f":"COUNTIF(L16:L24,Y10)","v":1},{"$f":"Z10/(AB4-Z8)","v":1},{"$f":"IF(AA10=0,0,(AA10*((LOG(AA10))/LOG(2))))","v":0},null,{"$f":"N10","v":22},{"$f":"COUNTIF(L25:L33,AD10)","v":2},{"$f":"AE10/(AG4-AE8)","v":1},{"$f":"IF(AF10=0,0,(AF10*((LOG(AF10))/LOG(2))))","v":0},null,{"$f":"N10","v":22},{"$f":"COUNTIF(L34:L42,AI10)","v":1},{"$f":"AJ10/(AL4-AJ8)","v":1},{"$f":"IF(AK10=0,0,(AK10*((LOG(AK10))/LOG(2))))","v":0},null,{"$f":"N10","v":22},{"$f":"COUNTIF(L43:L51,AN10)","v":3},{"$f":"AO10/(AQ4-AO8)","v":1},{"$f":"IF(AP10=0,0,(AP10*((LOG(AP10))/LOG(2))))","v":0},null,{"$f":"N10","v":22},{"$f":"COUNTIF(L52:L60,AS10)","v":1},{"$f":"AT10/(AV4-AT8)","v":0.33333333333333331},{"$f":"IF(AU10=0,0,(AU10*((LOG(AU10))/LOG(2))))","v":-0.52832083357371862}]
[11,569,21,585,null,null,null,null,null,null,0,12,null,null,null,null,null,null,null,{"$f":"N11","v":0},{"$f":"COUNTIF(L7:L15,T11)","v":0},{"$f":"U11/(W4-U8)","v":0},{"$f":"IF(V11=0,0,(V11*((LOG(V11))/LOG(2))))","v":0},null,{"$f":"N11","v":0},{"$f":"COUNTIF(L16:L24,Y11)","v":0},{"$f":"Z11/(AB4-Z8)","v":0},{"$f":"IF(AA11=0,0,(AA11*((LOG(AA11))/LOG(2))))","v":0},null,{"$f":"N11","v":0},{"$f":"COUNTIF(L25:L33,AD11)","v":0},{"$f":"AE11/(AG4-AE8)","v":0},{"$f":"IF(AF11=0,0,(AF11*((LOG(AF11))/LOG(2))))","v":0},null,{"$f":"N11","v":0},{"$f":"COUNTIF(L34:L42,AI11)","v":0},{"$f":"AJ11/(AL4-AJ8)","v":0},{"$f":"IF(AK11=0,0,(AK11*((LOG(AK11))/LOG(2))))","v":0},null,{"$f":"N11","v":0},{"$f":"COUNTIF(L43:L51,AN11)","v":0},{"$f":"AO11/(AQ4-AO8)","v":0},{"$f":"IF(AP11=0,0,(AP11*((LOG(AP11))/LOG(2))))","v":0},null,{"$f":"N11","v":0},{"$f":"COUNTIF(L52:L60,AS11)","v":0},{"$f":"AT11/(AV4-AT8)","v":0},{"$f":"IF(AU11=0,0,(AU11*((LOG(AU11))/LOG(2))))","v":0}]
[22,694,14,726,null,null,null,null,null,null,0,21,null,null,null,null,null,null,null,{"$f":"N12","v":0},{"$f":"COUNTIF(L7:L15,T12)","v":0},{"$f":"U12/(W4-U8)","v":0},{"$f":"IF(V12=0,0,(V12*((LOG(V12))/LOG(2))))","v":0},null,{"$f":"N12","v":0},{"$f":"COUNTIF(L16:L24,Y12)","v":0},{"$f":"Z12/(AB4-Z8)","v":0},{"$f":"IF(AA12=0,0,(AA12*((LOG(AA12))/LOG(2))))","v":0},null,{"$f":"N12","v":0},{"$f":"COUNTIF(L25:L33,AD12)","v":0},{"$f":"AE12/(AG4-AE8)","v":0},{"$f":"IF(AF12=0,0,(AF12*((LOG(AF12))/LOG(2))))","v":0},null,{"$f":"N12","v":0},{"$f":"COUNTIF(L34:L42,AI12)","v":0},{"$f":"AJ12/(AL4-AJ8)","v":0},{"$f":"IF(AK12=0,0,(AK12*((LOG(AK12))/LOG(2))))","v":0},null,{"$f":"N12","v":0},{"$f":"COUNTIF(L43:L51,AN12)","v":0},{"$f":"AO12/(AQ4-AO8)","v":0},{"$f":"IF(AP12=0,0,(AP12*((LOG(AP12))/LOG(2))))","v":0},null,{"$f":"N12","v":0},{"$f":"COUNTIF(L52:L60,AS12)","v":0},{"$f":"AT12/(AV4-AT8)","v":0},{"$f":"IF(AU12=0,0,(AU12*((LOG(AU12))/LOG(2))))","v":0}]
[11,832,21,842,null,null,null,null,null,null,0,12,null,null,null,null,null,null,null,{"$f":"N13","v":0},{"$f":"COUNTIF(L7:L15,T13)","v":0},{"$f":"U13/(W4-U8)","v":0},{"$f":"IF(V13=0,0,(V13*((LOG(V13))/LOG(2))))","v":0},null,{"$f":"N13","v":0},{"$f":"COUNTIF(L16:L24,Y13)","v":0},{"$f":"Z13/(AB4-Z8)","v":0},{"$f":"IF(AA13=0,0,(AA13*((LOG(AA13))/LOG(2))))","v":0},null,{"$f":"N13","v":0},{"$f":"COUNTIF(L25:L33,AD13)","v":0},{"$f":"AE13/(AG4-AE8)","v":0},{"$f":"IF(AF13=0,0,(AF13*((LOG(AF13))/LOG(2))))","v":0},null,{"$f":"N13","v":0},{"$f":"COUNTIF(L34:L42,AI13)","v":0},{"$f":"AJ13/(AL4-AJ8)","v":0},{"$f":"IF(AK13=0,0,(AK13*((LOG(AK13))/LOG(2))))","v":0},null,{"$f":"N13","v":0},{"$f":"COUNTIF(L43:L51,AN13)","v":0},{"$f":"AO13/(AQ4-AO8)","v":0},{"$f":"IF(AP13=0,0,(AP13*((LOG(AP13))/LOG(2))))","v":0},null,{"$f":"N13","v":0},{"$f":"COUNTIF(L52:L60,AS13)","v":0},{"$f":"AT13/(AV4-AT8)","v":0},{"$f":"IF(AU13=0,0,(AU13*((LOG(AU13))/LOG(2))))","v":0}]
[22,956,23,1038,null,null,null,null,null,null,0,22,null,null,null,null,null,null,null,{"$f":"N14","v":0},{"$f":"COUNTIF(L7:L15,T14)","v":0},{"$f":"U14/(W4-U8)","v":0},{"$f":"IF(V14=0,0,(V14*((LOG(V14))/LOG(2))))","v":0},null,{"$f":"N14","v":0},{"$f":"COUNTIF(L16:L24,Y14)","v":0},{"$f":"Z14/(AB4-Z8)","v":0},{"$f":"IF(AA14=0,0,(AA14*((LOG(AA14))/LOG(2))))","v":0},null,{"$f":"N14","v":0},{"$f":"COUNTIF(L25:L33,AD14)","v":0},{"$f":"AE14/(AG4-AE8)","v":0},{"$f":"IF(AF14=0,0,(AF14*((LOG(AF14))/LOG(2))))","v":0},null,{"$f":"N14","v":0},{"$f":"COUNTIF(L34:L42,AI14)","v":0},{"$f":"AJ14/(AL4-AJ8)","v":0},{"$f":"IF(AK14=0,0,(AK14*((LOG(AK14))/LOG(2))))","v":0},null,{"$f":"N14","v":0},{"$f":"COUNTIF(L43:L51,AN14)","v":0},{"$f":"AO14/(AQ4-AO8)","v":0},{"$f":"IF(AP14=0,0,(AP14*((LOG(AP14))/LOG(2))))","v":0},null,{"$f":"N14","v":0},{"$f":"COUNTIF(L52:L60,AS14)","v":0},{"$f":"AT14/(AV4-AT8)","v":0},{"$f":"IF(AU14=0,0,(AU14*((LOG(AU14))/LOG(2))))","v":0}]
[11,1145,21,1158,null,null,null,null,null,null,0,12,null,null,null,{"$f":"SUM(P7:P14)","v":1},{"$f":"-SUM(Q7:Q14)","v":1.0493985254159108},null,null,null,null,{"$f":"SUM(V7:V14)","v":1},{"$f":"-SUM(W7:W14)","v":1},null,null,null,{"$f":"SUM(AA7:AA14)","v":1},{"$f":"-SUM(AB7:AB14)","v":0},null,null,null,{"$f":"SUM(AF7:AF14)","v":1},{"$f":"-SUM(AG7:AG14)","v":0},null,null,null,{"$f":"SUM(AK7:AK14)","v":1},{"$f":"-SUM(AL7:AL14)","v":0},null,null,null,{"$f":"SUM(AP7:AP14)","v":1},{"$f":"-SUM(AQ7:AQ14)","v":0},null,null,null,{"$f":"SUM(AU7:AU14)","v":1},{"$f":"-SUM(AV7:AV14)","v":0.91829583405448945}]
[11,1255,21,1264,null,null,null,null,null,null,0,12,null,null,null,"U=",{"$f":"Q15/(LOG(Q4)/LOG(2))","v":0.18234909457767925},null,null,null,null,"U1=",{"$f":"W15/(LOG(W4)/LOG(2))","v":0.31546487678572877},null,null,null,"U2=",{"$f":"AB15/(LOG(AB4)/LOG(2))","v":0},null,null,null,"U3=",{"$f":"AG15/(LOG(AG4)/LOG(2))","v":0},null,null,null,"U4=",{"$f":"AL15/(LOG(AL4)/LOG(2))","v":0},null,null,null,"U5=",{"$f":"AQ15/(LOG(AQ4)/LOG(2))","v":0},null,null,null,"U6=",{"$f":"AV15/(LOG(AV4)/LOG(2))","v":0.28969008214284753}]
[11,1364,21,1374,null,null,null,null,null,null,0,12]
[11,1470,21,1484,null,null,null,null,null,null,0,12]
[22,1590,23,1620,null,null,null,null,null,null,0,22,null,"Total Target Seq"]
[11,1722,21,1738,null,null,null,null,null,null,0,12,null,{"$f":"COUNTIF(L7:L60,G3)","v":40},null,9,9,9,9,9,9]
[11,1835,21,1850,null,null,null,null,null,null,0,12,null,null,null,"% of reinforcement given in 6 equal intervals based on number of trials "]
[11,1945,21,1960,null,null,null,null,null,null,0,12,null,null,null,"%_1","%_2","%_3","%_4","%_5","%_6"]
[11,2055,21,2067,null,null,null,null,null,null,0,12,null,null,"target sequence",{"$f":"$G$3","v":12},{"$f":"$G$3","v":12},{"$f":"$G$3","v":12},{"$f":"$G$3","v":12},{"$f":"$G$3","v":12},{"$f":"$G$3","v":12}]
[11,2164,21,2179,null,null,null,null,null,null,0,12,null,null,"total reinforcement",{"$f":"U8","v":5},{"$f":"Z8","v":8},{"$f":"AE8","v":7},{"$f":"AJ8","v":8},{"$f":"AO8","v":6},{"$f":"AT8","v":6}]
[22,2287,23,2332,null,null,null,null,null,null,0,22,null,null,"% target"]
[11,2436,21,2447,null,null,null,null,null,null,0,12,null,null,"CCRF"]
[11,2543,21,2564,null,null,null,null,null,null,0,12,null,null,"% CCRf"]
[11,2661,21,2671,null,null,null,null,null,null,0,12,null,null,"average response rate",{"$f":"D15/P20","v":128.66666666666666},{"$f":"(D24-D15)/Q20","v":113.44444444444444},{"$f":"(D33-D24)/R20","v":125.44444444444444},{"$f":"(D42-D33)/S20","v":120.77777777777777},{"$f":"(D51-D42)/T20","v":128.33333333333334},{"$f":"(D60-D51)/U20","v":132.88888888888889}]
[11,2765,21,2776,null,null,null,null,null,null,0,12]
[11,2872,21,2878,null,null,null,null,null,null,0,12]
[22,2992,23,3078,null,null,null,null,null,null,0,22]
[11,3182,21,3195,null,null,null,null,null,null,0,12]
[11,3293,21,3308,null,null,null,null,null,null,0,12]
[11,3403,21,3418,null,null,null,null,null,null,0,12]
[11,3517,21,3541,null,null,null,null,null,null,0,12]
[22,3645,23,3722,null,null,null,null,null,null,0,22]
[11,3825,21,3835,null,null,null,null,null,null,0,12]
[11,3930,21,3971,null,null,null,null,null,null,0,12]
[11,4069,21,4080,null,null,null,null,null,null,0,12]
[11,4173,21,4184,null,null,null,null,null,null,0,12]
[11,4278,21,4289,null,null,null,null,null,null,0,12]
[11,4384,21,4395,null,null,null,null,null,null,0,12]
[22,4512,23,4551,null,null,null,null,null,null,0,22]
[11,4654,21,4679,null,null,null,null,null,null,0,12]
[22,4790,23,4831,null,null,null,null,null,null,0,22]
[11,4935,21,4948,null,null,null,null,null,null,0,12]
[22,5078,23,5111,null,null,null,null,null,null,0,22]
[11,5216,21,5234,null,null,null,null,null,null,0,12]
[11,5331,21,5341,null,null,null,null,null,null,0,12]
[11,5436,21,5445,null,null,null,null,null,null,0,12]
[11,5541,21,5550,null,null,null,null,null,null,0,12]
[11,5646,21,5652,null,null,null,null,null,null,0,12]
[11,5755,21,5767,null,null,null,null,null,null,0,12]
[11,5872,21,5887,null,null,null,null,null,null,0,12]
[11,5981,21,5992,null,null,null,null,null,null,0,12]
[22,6096,14,6182,null,null,null,null,null,null,0,21]
[11,6288,21,6301,null,null,null,null,null,null,0,12]
[22,6414,14,6485,null,null,null,null,null,null,0,21]
[22,6601,23,6629,null,null,null,null,null,null,0,22]
[11,6734,21,6746,null,null,null,null,null,null,1,12]

{"sheet":"!MC31A00.105","index":33,"n_rows":98,"n_cols":48,"rows_kept":98,"cut":false,"hidden":false,"merged":[[4,39,4,42],[5,39,5,40],[4,44,4,47],[5,44,5,45],[4,24,4,27],[5,24,5,25],[4,29,4,32],[5,29,5,30],[4,34,4,37],[5,34,5,35],[1,1,1,2],[5,13,5,14],[18,13,18,14],[19,13,19,14],[4,19,4,22],[5,19,5,20]]}
["Report for:!MC31A00.105"]
["Date:","<date>"]
["Hen:","<hen>",null,null,null,"Correct Sequence",{"$f":"Start!J2","v":12},null,null,null,null,null,null,null,null,"Total Sequences in Data",{"$f":"4994-COUNTBLANK(L7:L5000)","v":92},null,null,null,null,"Total Sequences in Block Data",{"$f":"COUNTA(L7:L21)","v":15},null,null,null,"Total Sequences in Block Data",{"$f":"COUNTA(L22:L37)","v":16},null,null,null,"Total Sequences in Block Data",{"$f":"COUNTA(L38:L52)","v":15},null,null,null,"Total Sequences in Block Data",{"$f":"COUNTA(L53:L67)","v":15},null,null,null,"Total Sequences in Block Data",{"$f":"COUNTA(L68:L83)","v":16},null,null,null,"Total Sequences in Block Data",{"$f":"COUNTA(L84:L98)","v":15}]
[null,null,null,null,null,null,null,null,null,null,null,null,null,null,null,"Total Sequences in Summary",{"$f":"SUM(O7:O14)","v":92},null,null,null,null,"Total Sequences in Block Summary",{"$f":"SUM(U7:U14)","v":15},null,null,null,"Total Sequences in Block Summary",{"$f":"SUM(Z7:Z14)","v":16},null,null,null,"Total Sequences in Block Summary",{"$f":"SUM(AE7:AE14)","v":15},null,null,null,"Total Sequences in Block Summary",{"$f":"SUM(AJ7:AJ14)","v":15},null,null,null,"Total Sequences in Block Summary",{"$f":"SUM(AO7:AO14)","v":16},null,null,null,"Total Sequences in Block Summary",{"$f":"SUM(AT7:AT14)","v":15}]
[null,null,null,null,null,null,null,null,null,null,null,null,null,null,null,null,null,null,null,"Block 1",null,null,null,null,"Block 2",null,null,null,null,"Block 3",null,null,null,null,"Block 4",null,null,null,null,"Block 5",null,null,null,null,"Block 6"]
["Sequence\nComponent\n1","Time\n1","Sequence\nComponent\n2","Time\n2","Sequence\nComponent\n3","Time\n3","Sequence\nComponent\n4","Time\n4","Sequence\nComponent\n5","Time\n5","Correct?\n0=No 1=Yes","Sequence",null,"Frequency",null,"Relative Frequency","Variability",null,null,"Frequency",null,"Relative Frequency","Variability",null,"Frequency",null,"Relative Frequency","Variability",null,"Frequency",null,"Relative Frequency","Variability",null,"Frequency",null,"Relative Frequency","Variability",null,"Frequency",null,"Relative Frequency","Variability",null,"Frequency",null,"Relative Frequency","Variability"]
[12,19,24,29,24,59,23,88,24,131,0,12,null,11,{"$f":"COUNTIF($L$7:$L$500,N7)","v":29},{"$f":"O7/$Q$4","v":0.31521739130434784},{"$f":"IF(P7=0,0,(P7*((LOG(P7))/LOG(2))))","v":-0.52502008551036716},null,null,{"$f":"N7","v":11},{"$f":"COUNTIF(L7:L21,T7)","v":3},{"$f":"U7/(W4-U8)","v":0.6},{"$f":"IF(V7=0,0,(V7*((LOG(V7))/LOG(2))))","v":-0.44217935649972373},null,{"$f":"N7","v":11},{"$f":"COUNTIF(L22:L37,Y7)","v":0},{"$f":"Z7/(AB4-Z8)","v":0},{"$f":"IF(AA7=0,0,(AA7*((LOG(AA7))/LOG(2))))","v":0},null,{"$f":"N7","v":11},{"$f":"COUNTIF(L38:L52,AD7)","v":2},{"$f":"AE7/(AG4-AE8)","v":0.2},{"$f":"IF(AF7=0,0,(AF7*((LOG(AF7))/LOG(2))))","v":-0.46438561897747244},null,{"$f":"N7","v":11},{"$f":"COUNTIF(L53:L67,AI7)","v":6},{"$f":"AJ7/(AL4-AJ8)","v":0.6},{"$f":"IF(AK7=0,0,(AK7*((LOG(AK7))/LOG(2))))","v":-0.44217935649972373},null,{"$f":"N7","v":11},{"$f":"COUNTIF(L68:L83,AN7)","v":12},{"$f":"AO7/(AQ4-AO8)","v":0.8571428571428571},{"$f":"IF(AP7=0,0,(AP7*((LOG(AP7))/LOG(2))))","v":-0.19062207543124113},null,{"$f":"N7","v":11},{"$f":"COUNTIF(L84:L98,AS7)","v":6},{"$f":"AT7/(AV4-AT8)","v":0.6},{"$f":"IF(AU7=0,0,(AU7*((LOG(AU7))/LOG(2))))","v":-0.44217935649972373}]
[12,240,24,251,13,316,23,329,24,344,0,12,null,12,{"$f":"COUNTIF($L$7:$L$500,N8)","v":37},{"$f":"O8/$Q$4","v":0.40217391304347827},{"$f":"IF(P8=0,0,(P8*((LOG(P8))/LOG(2))))","v":-0.52850019397650361},null,null,{"$f":"N8","v":12},{"$f":"COUNTIF(L7:L21,T8)","v":10},null,null,null,{"$f":"N8","v":12},{"$f":"COUNTIF(L22:L37,Y8)","v":10},null,null,null,{"$f":"N8","v":12},{"$f":"COUNTIF(L38:L52,AD8)","v":5},null,null,null,{"$f":"N8","v":12},{"$f":"COUNTIF(L53:L67,AI8)","v":5},null,null,null,{"$f":"N8","v":12},{"$f":"COUNTIF(L68:L83,AN8)","v":2},null,null,null,{"$f":"N8","v":12},{"$f":"COUNTIF(L84:L98,AS8)","v":5}]
[21,468,22,522,13,547,23,559,24,573,0,22,null,21,{"$f":"COUNTIF($L$7:$L$500,N9)","v":5},{"$f":"O9/$Q$4","v":5.434782608695652E-2},{"$f":"IF(P9=0,0,(P9*((LOG(P9))/LOG(2))))","v":-0.22834966636791579},null,null,{"$f":"N9","v":21},{"$f":"COUNTIF(L7:L21,T9)","v":1},{"$f":"U9/(W4-U8)","v":0.2},{"$f":"IF(V9=0,0,(V9*((LOG(V9))/LOG(2))))","v":-0.46438561897747244},null,{"$f":"N9","v":21},{"$f":"COUNTIF(L22:L37,Y9)","v":2},{"$f":"Z9/(AB4-Z8)","v":0.33333333333333331},{"$f":"IF(AA9=0,0,(AA9*((LOG(AA9))/LOG(2))))","v":-0.52832083357371862},null,{"$f":"N9","v":21},{"$f":"COUNTIF(L38:L52,AD9)","v":1},{"$f":"AE9/(AG4-AE8)","v":0.1},{"$f":"IF(AF9=0,0,(AF9*((LOG(AF9))/LOG(2))))","v":-0.33219280948873625},null,{"$f":"N9","v":21},{"$f":"COUNTIF(L53:L67,AI9)","v":0},{"$f":"AJ9/(AL4-AJ8)","v":0},{"$f":"IF(AK9=0,0,(AK9*((LOG(AK9))/LOG(2))))","v":0},null,{"$f":"N9","v":21},{"$f":"COUNTIF(L68:L83,AN9)","v":0},{"$f":"AO9/(AQ4-AO8)","v":0},{"$f":"IF(AP9=0,0,(AP9*((LOG(AP9))/LOG(2))))","v":0},null,{"$f":"N9","v":21},{"$f":"COUNTIF(L84:L98,AS9)","v":1},{"$f":"AT9/(AV4-AT8)","v":0.1},{"$f":"IF(AU9=0,0,(AU9*((LOG(AU9))/LOG(2))))","v":-0.33219280948873625}]
[12,683,24,695,24,722,14,745,24,758,0,12,null,22,{"$f":"COUNTIF($L$7:$L$500,N10)","v":21},{"$f":"O10/$Q$4","v":0.22826086956521738},{"$f":"IF(P10=0,0,(P10*((LOG(P10))/LOG(2))))","v":-0.48647973042220988},null,null,{"$f":"N10","v":22},{"$f":"COUNTIF(L7:L21,T10)","v":1},{"$f":"U10/(W4-U8)","v":0.2},{"$f":"IF(V10=0,0,(V10*((LOG(V10))/LOG(2))))","v":-0.46438561897747244},null,{"$f":"N10","v":22},{"$f":"COUNTIF(L22:L37,Y10)","v":4},{"$f":"Z10/(AB4-Z8)","v":0.66666666666666663},{"$f":"IF(AA10=0,0,(AA10*((LOG(AA10))/LOG(2))))","v":-0.38997500048077083},null,{"$f":"N10","v":22},{"$f":"COUNTIF(L38:L52,AD10)","v":7},{"$f":"AE10/(AG4-AE8)","v":0.7},{"$f":"IF(AF10=0,0,(AF10*((LOG(AF10))/LOG(2))))","v":-0.36020122098083079},null,{"$f":"N10","v":22},{"$f":"COUNTIF(L53:L67,AI10)","v":4},{"$f":"AJ10/(AL4-AJ8)","v":0.4},{"$f":"IF(AK10=0,0,(AK10*((LOG(AK10))/LOG(2))))","v":-0.52877123795494496},null,{"$f":"N10","v":22},{"$f":"COUNTIF(L68:L83,AN10)","v":2},{"$f":"AO10/(AQ4-AO8)","v":0.14285714285714285},{"$f":"IF(AP10=0,0,(AP10*((LOG(AP10))/LOG(2))))","v":-0.40105070315108626},null,{"$f":"N10","v":22},{"$f":"COUNTIF(L84:L98,AS10)","v":3},{"$f":"AT10/(AV4-AT8)","v":0.3},{"$f":"IF(AU10=0,0,(AU10*((LOG(AU10))/LOG(2))))","v":-0.52108967824986185}]
[12,865,24,875,24,901,23,925,13,948,0,12,null,null,null,null,null,null,null,{"$f":"N11","v":0},{"$f":"COUNTIF(L7:L21,T11)","v":0},{"$f":"U11/(W4-U8)","v":0},{"$f":"IF(V11=0,0,(V11*((LOG(V11))/LOG(2))))","v":0},null,{"$f":"N11","v":0},{"$f":"COUNTIF(L22:L37,Y11)","v":0},{"$f":"Z11/(AB4-Z8)","v":0},{"$f":"IF(AA11=0,0,(AA11*((LOG(AA11))/LOG(2))))","v":0},null,{"$f":"N11","v":0},{"$f":"COUNTIF(L38:L52,AD11)","v":0},{"$f":"AE11/(AG4-AE8)","v":0},{"$f":"IF(AF11=0,0,(AF11*((LOG(AF11))/LOG(2))))","v":0},null,{"$f":"N11","v":0},{"$f":"COUNTIF(L53:L67,AI11)","v":0},{"$f":"AJ11/(AL4-AJ8)","v":0},{"$f":"IF(AK11=0,0,(AK11*((LOG(AK11))/LOG(2))))","v":0},null,{"$f":"N11","v":0},{"$f":"COUNTIF(L68:L83,AN11)","v":0},{"$f":"AO11/(AQ4-AO8)","v":0},{"$f":"IF(AP11=0,0,(AP11*((LOG(AP11))/LOG(2))))","v":0},null,{"$f":"N11","v":0},{"$f":"COUNTIF(L84:L98,AS11)","v":0},{"$f":"AT11/(AV4-AT8)","v":0},{"$f":"IF(AU11=0,0,(AU11*((LOG(AU11))/LOG(2))))","v":0}]
[12,1056,24,1092,13,1111,23,1121,24,1131,0,12,null,null,null,null,null,null,null,{"$f":"N12","v":0},{"$f":"COUNTIF(L7:L21,T12)","v":0},{"$f":"U12/(W4-U8)","v":0},{"$f":"IF(V12=0,0,(V12*((LOG(V12))/LOG(2))))","v":0},null,{"$f":"N12","v":0},{"$f":"COUNTIF(L22:L37,Y12)","v":0},{"$f":"Z12/(AB4-Z8)","v":0},{"$f":"IF(AA12=0,0,(AA12*((LOG(AA12))/LOG(2))))","v":0},null,{"$f":"N12","v":0},{"$f":"COUNTIF(L38:L52,AD12)","v":0},{"$f":"AE12/(AG4-AE8)","v":0},{"$f":"IF(AF12=0,0,(AF12*((LOG(AF12))/LOG(2))))","v":0},null,{"$f":"N12","v":0},{"$f":"COUNTIF(L53:L67,AI12)","v":0},{"$f":"AJ12/(AL4-AJ8)","v":0},{"$f":"IF(AK12=0,0,(AK12*((LOG(AK12))/LOG(2))))","v":0},null,{"$f":"N12","v":0},{"$f":"COUNTIF(L68:L83,AN12)","v":0},{"$f":"AO12/(AQ4-AO8)","v":0},{"$f":"IF(AP12=0,0,(AP12*((LOG(AP12))/LOG(2))))","v":0},null,{"$f":"N12","v":0},{"$f":"COUNTIF(L84:L98,AS12)","v":0},{"$f":"AT12/(AV4-AT8)","v":0},{"$f":"IF(AU12=0,0,(AU12*((LOG(AU12))/LOG(2))))","v":0}]
[12,1253,13,1262,24,1272,23,1301,13,1313,0,11,null,null,null,null,null,null,null,{"$f":"N13","v":0},{"$f":"COUNTIF(L7:L21,T13)","v":0},{"$f":"U13/(W4-U8)","v":0},{"$f":"IF(V13=0,0,(V13*((LOG(V13))/LOG(2))))","v":0},null,{"$f":"N13","v":0},{"$f":"COUNTIF(L22:L37,Y13)","v":0},{"$f":"Z13/(AB4-Z8)","v":0},{"$f":"IF(AA13=0,0,(AA13*((LOG(AA13))/LOG(2))))","v":0},null,{"$f":"N13","v":0},{"$f":"COUNTIF(L38:L52,AD13)","v":0},{"$f":"AE13/(AG4-AE8)","v":0},{"$f":"IF(AF13=0,0,(AF13*((LOG(AF13))/LOG(2))))","v":0},null,{"$f":"N13","v":0},{"$f":"COUNTIF(L53:L67,AI13)","v":0},{"$f":"AJ13/(AL4-AJ8)","v":0},{"$f":"IF(AK13=0,0,(AK13*((LOG(AK13))/LOG(2))))","v":0},null,{"$f":"N13","v":0},{"$f":"COUNTIF(L68:L83,AN13)","v":0},{"$f":"AO13/(AQ4-AO8)","v":0},{"$f":"IF(AP13=0,0,(AP13*((LOG(AP13))/LOG(2))))","v":0},null,{"$f":"N13","v":0},{"$f":"COUNTIF(L84:L98,AS13)","v":0},{"$f":"AT13/(AV4-AT8)","v":0},{"$f":"IF(AU13=0,0,(AU13*((LOG(AU13))/LOG(2))))","v":0}]
[12,1419,24,1432,24,1460,23,1491,13,1507,0,12,null,null,null,null,null,null,null,{"$f":"N14","v":0},{"$f":"COUNTIF(L7:L21,T14)","v":0},{"$f":"U14/(W4-U8)","v":0},{"$f":"IF(V14=0,0,(V14*((LOG(V14))/LOG(2))))","v":0},null,{"$f":"N14","v":0},{"$f":"COUNTIF(L22:L37,Y14)","v":0},{"$f":"Z14/(AB4-Z8)","v":0},{"$f":"IF(AA14=0,0,(AA14*((LOG(AA14))/LOG(2))))","v":0},null,{"$f":"N14","v":0},{"$f":"COUNTIF(L38:L52,AD14)","v":0},{"$f":"AE14/(AG4-AE8)","v":0},{"$f":"IF(AF14=0,0,(AF14*((LOG(AF14))/LOG(2))))","v":0},null,{"$f":"N14","v":0},{"$f":"COUNTIF(L53:L67,AI14)","v":0},{"$f":"AJ14/(AL4-AJ8)","v":0},{"$f":"IF(AK14=0,0,(AK14*((LOG(AK14))/LOG(2))))","v":0},null,{"$f":"N14","v":0},{"$f":"COUNTIF(L68:L83,AN14)","v":0},{"$f":"AO14/(AQ4-AO8)","v":0},{"$f":"IF(AP14=0,0,(AP14*((LOG(AP14))/LOG(2))))","v":0},null,{"$f":"N14","v":0},{"$f":"COUNTIF(L84:L98,AS14)","v":0},{"$f":"AT14/(AV4-AT8)","v":0},{"$f":"IF(AU14=0,0,(AU14*((LOG(AU14))/LOG(2))))","v":0}]
[12,1618,24,1630,13,1643,23,1656,13,1675,0,12,null,null,null,{"$f":"SUM(P7:P14)","v":1},{"$f":"-SUM(Q7:Q14)","v":1.7683496762769966},null,null,null,null,{"$f":"SUM(V7:V14)","v":1},{"$f":"-SUM(W7:W14)","v":1.3709505944546687},null,null,null,{"$f":"SUM(AA7:AA14)","v":1},{"$f":"-SUM(AB7:AB14)","v":0.91829583405448945},null,null,null,{"$f":"SUM(AF7:AF14)","v":1},{"$f":"-SUM(AG7:AG14)","v":1.1567796494470395},null,null,null,{"$f":"SUM(AK7:AK14)","v":1},{"$f":"-SUM(AL7:AL14)","v":0.97095059445466869},null,null,null,{"$f":"SUM(AP7:AP14)","v":1},{"$f":"-SUM(AQ7:AQ14)","v":0.59167277858232736},null,null,null,{"$f":"SUM(AU7:AU14)","v":1},{"$f":"-SUM(AV7:AV14)","v":1.2954618442383219}]
[12,1785,24,1795,24,1805,23,1826,24,1852,0,12,null,null,null,"U=",{"$f":"Q15/(LOG(Q4)/LOG(2))","v":0.27107118598530588},null,null,null,null,"U1=",{"$f":"W15/(LOG(W4)/LOG(2))","v":0.35090580626845935},null,null,null,"U2=",{"$f":"AB15/(LOG(AB4)/LOG(2))","v":0.22957395851362236},null,null,null,"U3=",{"$f":"AG15/(LOG(AG4)/LOG(2))","v":0.29608703421265498},null,null,null,"U4=",{"$f":"AL15/(LOG(AL4)/LOG(2))","v":0.24852259634453316},null,null,null,"U5=",{"$f":"AQ15/(LOG(AQ4)/LOG(2))","v":0.14791819464558184},null,null,null,"U6=",{"$f":"AV15/(LOG(AV4)/LOG(2))","v":0.33158385486772168}]
[12,1958,13,1968,24,1978,14,1997,24,2013,0,11]
[21,2131,11,2144,22,2157,14,2175,24,2184,0,21]
[12,2298,13,2317,24,2330,23,2360,24,2372,0,11,null,"Total Target Seq"]
[12,2480,24,2489,13,2499,23,2508,24,2532,0,12,null,{"$f":"COUNTIF(L7:L98,G3)","v":37},null,15,16,15,15,16,15]
[12,2646,24,2658,13,2668,23,2679,24,2705,0,12,null,null,null,"% of reinforcement given in 6 equal intervals based on number of trials "]
[12,2815,24,2839,24,2849,23,2858,24,2883,0,12,null,null,null,"%_1","%_2","%_3","%_4","%_5","%_6"]
[12,2991,24,2999,24,3018,23,3028,13,3042,0,12,null,null,"target sequence",{"$f":"$G$3","v":12},{"$f":"$G$3","v":12},{"$f":"$G$3","v":12},{"$f":"$G$3","v":12},{"$f":"$G$3","v":12},{"$f":"$G$3","v":12}]
[12,3149,24,3161,24,3176,14,3187,24,3201,0,12,null,null,"total reinforcement",{"$f":"U8","v":10},{"$f":"Z8","v":10},{"$f":"AE8","v":5},{"$f":"AJ8","v":5},{"$f":"AO8","v":2},{"$f":"AT8","v":5}]
[12,3307,24,3335,24,3345,14,3358,24,3372,0,12,null,null,"% target"]
[12,3477,24,3506,24,3529,23,3540,24,3548,0,12,null,null,"CCRF"]
[12,3655,24,3680,13,3693,23,3714,24,3723,0,12,null,null,"% CCRf"]
[12,3830,24,3871,24,3894,23,3917,24,3923,0,12,null,null,"average response rate",{"$f":"D21/P20","v":177.2},{"$f":"(D37-D21)/Q20","v":195.375},{"$f":"(D52-D37)/R20","v":248.66666666666666},{"$f":"(D67-D52)/S20","v":218.8},{"$f":"(D83-D67)/T20","v":233.1875},{"$f":"(D98-D83)/U20","v":386.2}]
[12,4036,24,4062,24,4084,23,4114,13,4124,0,12]
[12,4231,24,4283,24,4304,14,4314,24,4327,0,12]
[21,4499,11,4513,22,4525,23,4539,24,4549,0,21]
[21,4663,22,4689,13,4703,23,4713,24,4724,0,22]
[21,4865,22,4884,13,4897,23,4907,13,4921,0,22]
[12,5044,24,5075,13,5094,23,5116,24,5133,0,12]
[21,5283,22,5304,24,5324,23,5341,24,5351,0,22]
[21,5502,11,5518,22,5527,14,5537,24,5547,0,21]
[21,5744,22,5784,24,5793,14,5809,24,5827,0,22]
[21,5989,22,6010,24,6017,23,6024,24,6041,0,22]
[21,6205,22,6223,24,6263,23,6285,24,6292,0,22]
[21,6431,22,6462,13,6488,23,6498,24,6505,0,22]
[12,6625,24,6634,24,6644,23,6651,13,6665,0,12]
[12,6770,13,6790,24,6809,14,6819,24,6831,0,11]
[12,6950,24,6976,13,7000,23,7011,13,7025,0,12]
[12,7161,24,7176,13,7190,23,7200,24,7221,0,12]
[21,7374,11,7384,22,7395,23,7404,13,7421,0,21]
[21,7524,22,7624,24,7647,14,7672,13,7705,0,22]
[21,8119,22,8190,24,8202,23,8214,24,8246,0,22]
[21,8537,22,8565,24,8578,23,8589,24,8620,0,22]
[21,8763,22,8782,24,8791,23,8818,24,8834,0,22]
[12,8959,13,8973,24,8996,23,9011,24,9030,0,11]
[12,9308,24,9321,24,9342,23,9360,24,9373,0,12]
[12,9498,24,9514,24,9533,23,9561,13,9581,0,12]
[21,9745,22,9766,24,9777,23,9803,24,9815,0,22]
[21,9964,22,9974,24,9985,23,10012,13,10028,0,22]
[12,10145,13,10174,24,10184,14,10198,24,10216,0,11]
[12,10361,24,10373,24,10397,23,10407,24,10421,0,12]
[12,10567,24,10581,24,10607,14,10624,24,10634,0,12]
[12,10747,13,10780,24,10793,23,10813,24,10837,0,11]
[21,10999,22,11026,24,11048,23,11058,24,11081,0,22]
[21,11223,22,11256,13,11269,23,11280,24,11291,0,22]
[12,11426,24,11440,13,11454,23,11464,24,11476,0,12]
[12,11595,13,11628,24,11640,23,11663,24,11690,0,11]
[12,11895,24,11983,13,11993,23,12003,13,12018,0,12]
[12,12154,13,12168,13,12182,23,12192,13,12207,0,11]
[12,12321,13,12363,24,12373,23,12400,24,12424,0,11]
[12,12571,24,12583,24,12608,14,12621,24,12639,0,12]
[12,12779,13,12796,24,12805,14,12832,24,12842,0,11]
[12,12969,13,12983,13,13000,23,13010,24,13023,0,11]
[12,13159,13,13175,13,13198,23,13217,24,13227,0,11]
[12,13345,13,13356,13,13373,23,13382,24,13397,0,11]
[12,13517,13,13530,13,13556,23,13566,13,13576,0,11]
[12,13776,13,13816,24,13825,23,13863,24,13887,0,11]
[12,14064,24,14073,13,14086,23,14095,24,14123,0,12]
[12,14382,13,14401,24,14414,14,14432,24,14441,0,11]
[12,14639,13,14657,24,14686,23,14707,24,14730,0,11]
[12,14856,13,14868,24,14896,14,14907,24,14917,0,11]
[12,15034,13,15062,24,15090,23,15113,24,15153,0,11]
[12,15332,13,15358,24,15371,23,15399,24,15419,0,11]
[12,15583,24,15616,24,15636,23,15656,24,15679,0,12]
[21,15848,22,15868,24,15890,14,15908,24,15918,0,22]
[12,16046,13,16091,24,16101,23,16139,24,16177,0,11]
[21,16293,22,16353,24,16365,14,16380,24,16392,0,22]
[12,16511,13,16527,24,16558,23,16578,24,16588,0,11]
[21,16742,22,16781,24,16806,23,16830,24,16861,0,22]
[12,16998,13,17017,13,17034,14,17047,24,17088,0,11]
[12,17467,13,17476,13,17601,23,17619,13,17628,0,11]
[12,17979,24,18011,24,18031,23,18057,13,18070,0,12]
[12,18359,13,18384,24,18414,23,18434,13,18451,0,11]
[12,18755,24,18765,24,18785,23,18817,24,18840,0,12]
[12,19355,24,19366,13,19397,23,19409,13,19423,0,12]
[21,19549,22,19571,24,19584,14,19594,24,19603,0,22]
[12,19746,24,19853,24,19920,14,19931,24,19941,0,12]
[12,20380,13,20404,24,20419,23,20442,24,20466,0,11]
[12,20601,24,20635,13,20650,23,20660,24,20672,0,12]
[12,21152,13,21206,24,21217,14,21240,24,21250,0,11]
[12,21494,13,21520,13,21538,14,21554,24,21567,0,11]
[21,21812,22,21834,24,21858,14,21879,13,21895,0,22]
[21,22300,11,22320,22,22330,23,22387,24,22411,0,21]

{"sheet":"!N102A20.105","index":34,"n_rows":64,"n_cols":48,"rows_kept":64,"cut":false,"hidden":false,"merged":[[4,39,4,42],[5,39,5,40],[4,44,4,47],[5,44,5,45],[4,24,4,27],[5,24,5,25],[4,29,4,32],[5,29,5,30],[4,34,4,37],[5,34,5,35],[1,1,1,2],[5,13,5,14],[18,13,18,14],[19,13,19,14],[4,19,4,22],[5,19,5,20]]}
["Report for:!N102A20.105"]
["Date:","<date>"]
["Hen:","<hen>",null,null,null,"Correct Sequence",{"$f":"Start!J2","v":12},null,null,null,null,null,null,null,null,"Total Sequences in Data",{"$f":"4994-COUNTBLANK(L7:L5000)","v":58},null,null,null,null,"Total Sequences in Block Data",{"$f":"COUNTA(L7:L16)","v":10},null,null,null,"Total Sequences in Block Data",{"$f":"COUNTA(L17:L25)","v":9},null,null,null,"Total Sequences in Block Data",{"$f":"COUNTA(L26:L35)","v":10},null,null,null,"Total Sequences in Block Data",{"$f":"COUNTA(L36:L45)","v":10},null,null,null,"Total Sequences in Block Data",{"$f":"COUNTA(L46:L54)","v":9},null,null,null,"Total Sequences in Block Data",{"$f":"COUNTA(L55:L64)","v":10}]
[null,null,null,null,null,null,null,null,null,null,null,null,null,null,null,"Total Sequences in Summary",{"$f":"SUM(O7:O14)","v":58},null,null,null,null,"Total Sequences in Block Summary",{"$f":"SUM(U7:U14)","v":10},null,null,null,"Total Sequences in Block Summary",{"$f":"SUM(Z7:Z14)","v":9},null,null,null,"Total Sequences in Block Summary",{"$f":"SUM(AE7:AE14)","v":10},null,null,null,"Total Sequences in Block Summary",{"$f":"SUM(AJ7:AJ14)","v":10},null,null,null,"Total Sequences in Block Summary",{"$f":"SUM(AO7:AO14)","v":9},null,null,null,"Total Sequences in Block Summary",{"$f":"SUM(AT7:AT14)","v":10}]
[null,null,null,null,null,null,null,null,null,null,null,null,null,null,null,null,null,null,null,"Block 1",null,null,null,null,"Block 2",null,null,null,null,"Block 3",null,null,null,null,"Block 4",null,null,null,null,"Block 5",null,null,null,null,"Block 6"]
["Sequence\nComponent\n1","Time\n1","Sequence\nComponent\n2","Time\n2","Sequence\nComponent\n3","Time\n3","Sequence\nComponent\n4","Time\n4","Sequence\nComponent\n5","Time\n5","Correct?\n0=No 1=Yes","Sequence",null,"Frequency",null,"Relative Frequency","Variability",null,null,"Frequency",null,"Relative Frequency","Variability",null,"Frequency",null,"Relative Frequency","Variability",null,"Frequency",null,"Relative Frequency","Variability",null,"Frequency",null,"Relative Frequency","Variability",null,"Frequency",null,"Relative Frequency","Variability",null,"Frequency",null,"Relative Frequency","Variability"]
[12,14,24,31,24,46,23,64,24,72,0,12,null,11,{"$f":"COUNTIF($L$7:$L$500,N7)","v":21},{"$f":"O7/$Q$4","v":0.36206896551724138},{"$f":"IF(P7=0,0,(P7*((LOG(P7))/LOG(2))))","v":-0.53067129343663877},null,null,{"$f":"N7","v":11},{"$f":"COUNTIF(L7:L16,T7)","v":4},{"$f":"U7/(W4-U8)","v":0.66666666666666663},{"$f":"IF(V7=0,0,(V7*((LOG(V7))/LOG(2))))","v":-0.38997500048077083},null,{"$f":"N7","v":11},{"$f":"COUNTIF(L17:L25,Y7)","v":5},{"$f":"Z7/(AB4-Z8)","v":1},{"$f":"IF(AA7=0,0,(AA7*((LOG(AA7))/LOG(2))))","v":0},null,{"$f":"N7","v":11},{"$f":"COUNTIF(L26:L35,AD7)","v":4},{"$f":"AE7/(AG4-AE8)","v":0.5},{"$f":"IF(AF7=0,0,(AF7*((LOG(AF7))/LOG(2))))","v":-0.5},null,{"$f":"N7","v":11},{"$f":"COUNTIF(L36:L45,AI7)","v":1},{"$f":"AJ7/(AL4-AJ8)","v":0.16666666666666666},{"$f":"IF(AK7=0,0,(AK7*((LOG(AK7))/LOG(2))))","v":-0.43082708345352599},null,{"$f":"N7","v":11},{"$f":"COUNTIF(L46:L54,AN7)","v":4},{"$f":"AO7/(AQ4-AO8)","v":0.5714285714285714},{"$f":"IF(AP7=0,0,(AP7*((LOG(AP7))/LOG(2))))","v":-0.46134566974720237},null,{"$f":"N7","v":11},{"$f":"COUNTIF(L55:L64,AS7)","v":3},{"$f":"AT7/(AV4-AT8)","v":0.375},{"$f":"IF(AU7=0,0,(AU7*((LOG(AU7))/LOG(2))))","v":-0.53063906222956647}]
[21,194,22,207,24,235,23,244,24,268,0,22,null,12,{"$f":"COUNTIF($L$7:$L$500,N8)","v":18},{"$f":"O8/$Q$4","v":0.31034482758620691},{"$f":"IF(P8=0,0,(P8*((LOG(P8))/LOG(2))))","v":-0.52387944631611505},null,null,{"$f":"N8","v":12},{"$f":"COUNTIF(L7:L16,T8)","v":4},null,null,null,{"$f":"N8","v":12},{"$f":"COUNTIF(L17:L25,Y8)","v":4},null,null,null,{"$f":"N8","v":12},{"$f":"COUNTIF(L26:L35,AD8)","v":2},null,null,null,{"$f":"N8","v":12},{"$f":"COUNTIF(L36:L45,AI8)","v":4},null,null,null,{"$f":"N8","v":12},{"$f":"COUNTIF(L46:L54,AN8)","v":2},null,null,null,{"$f":"N8","v":12},{"$f":"COUNTIF(L55:L64,AS8)","v":2}]
[12,377,24,404,13,418,23,427,13,437,0,12,null,21,{"$f":"COUNTIF($L$7:$L$500,N9)","v":11},{"$f":"O9/$Q$4","v":0.18965517241379309},{"$f":"IF(P9=0,0,(P9*((LOG(P9))/LOG(2))))","v":-0.45489729554125902},null,null,{"$f":"N9","v":21},{"$f":"COUNTIF(L7:L16,T9)","v":1},{"$f":"U9/(W4-U8)","v":0.16666666666666666},{"$f":"IF(V9=0,0,(V9*((LOG(V9))/LOG(2))))","v":-0.43082708345352599},null,{"$f":"N9","v":21},{"$f":"COUNTIF(L17:L25,Y9)","v":0},{"$f":"Z9/(AB4-Z8)","v":0},{"$f":"IF(AA9=0,0,(AA9*((LOG(AA9))/LOG(2))))","v":0},null,{"$f":"N9","v":21},{"$f":"COUNTIF(L26:L35,AD9)","v":2},{"$f":"AE9/(AG4-AE8)","v":0.25},{"$f":"IF(AF9=0,0,(AF9*((LOG(AF9))/LOG(2))))","v":-0.5},null,{"$f":"N9","v":21},{"$f":"COUNTIF(L36:L45,AI9)","v":1},{"$f":"AJ9/(AL4-AJ8)","v":0.16666666666666666},{"$f":"IF(AK9=0,0,(AK9*((LOG(AK9))/LOG(2))))","v":-0.43082708345352599},null,{"$f":"N9","v":21},{"$f":"COUNTIF(L46:L54,AN9)","v":3},{"$f":"AO9/(AQ4-AO8)","v":0.42857142857142855},{"$f":"IF(AP9=0,0,(AP9*((LOG(AP9))/LOG(2))))","v":-0.52388246628704915},null,{"$f":"N9","v":21},{"$f":"COUNTIF(L55:L64,AS9)","v":4},{"$f":"AT9/(AV4-AT8)","v":0.5},{"$f":"IF(AU9=0,0,(AU9*((LOG(AU9))/LOG(2))))","v":-0.5}]
[12,547,13,561,24,568,14,582,24,591,0,11,null,22,{"$f":"COUNTIF($L$7:$L$500,N10)","v":8},{"$f":"O10/$Q$4","v":0.13793103448275862},{"$f":"IF(P10=0,0,(P10*((LOG(P10))/LOG(2))))","v":-0.39420427519000989},null,null,{"$f":"N10","v":22},{"$f":"COUNTIF(L7:L16,T10)","v":1},{"$f":"U10/(W4-U8)","v":0.16666666666666666},{"$f":"IF(V10=0,0,(V10*((LOG(V10))/LOG(2))))","v":-0.43082708345352599},null,{"$f":"N10","v":22},{"$f":"COUNTIF(L17:L25,Y10)","v":0},{"$f":"Z10/(AB4-Z8)","v":0},{"$f":"IF(AA10=0,0,(AA10*((LOG(AA10))/LOG(2))))","v":0},null,{"$f":"N10","v":22},{"$f":"COUNTIF(L26:L35,AD10)","v":2},{"$f":"AE10/(AG4-AE8)","v":0.25},{"$f":"IF(AF10=0,0,(AF10*((LOG(AF10))/LOG(2))))","v":-0.5},null,{"$f":"N10","v":22},{"$f":"COUNTIF(L36:L45,AI10)","v":4},{"$f":"AJ10/(AL4-AJ8)","v":0.66666666666666663},{"$f":"IF(AK10=0,0,(AK10*((LOG(AK10))/LOG(2))))","v":-0.38997500048077083},null,{"$f":"N10","v":22},{"$f":"COUNTIF(L46:L54,AN10)","v":0},{"$f":"AO10/(AQ4-AO8)","v":0},{"$f":"IF(AP10=0,0,(AP10*((LOG(AP10))/LOG(2))))","v":0},null,{"$f":"N10","v":22},{"$f":"COUNTIF(L55:L64,AS10)","v":1},{"$f":"AT10/(AV4-AT8)","v":0.125},{"$f":"IF(AU10=0,0,(AU10*((LOG(AU10))/LOG(2))))","v":-0.375}]
[12,697,13,708,13,732,23,741,13,756,0,11,null,null,null,null,null,null,null,{"$f":"N11","v":0},{"$f":"COUNTIF(L7:L16,T11)","v":0},{"$f":"U11/(W4-U8)","v":0},{"$f":"IF(V11=0,0,(V11*((LOG(V11))/LOG(2))))","v":0},null,{"$f":"N11","v":0},{"$f":"COUNTIF(L17:L25,Y11)","v":0},{"$f":"Z11/(AB4-Z8)","v":0},{"$f":"IF(AA11=0,0,(AA11*((LOG(AA11))/LOG(2))))","v":0},null,{"$f":"N11","v":0},{"$f":"COUNTIF(L26:L35,AD11)","v":0},{"$f":"AE11/(AG4-AE8)","v":0},{"$f":"IF(AF11=0,0,(AF11*((LOG(AF11))/LOG(2))))","v":0},null,{"$f":"N11","v":0},{"$f":"COUNTIF(L36:L45,AI11)","v":0},{"$f":"AJ11/(AL4-AJ8)","v":0},{"$f":"IF(AK11=0,0,(AK11*((LOG(AK11))/LOG(2))))","v":0},null,{"$f":"N11","v":0},{"$f":"COUNTIF(L46:L54,AN11)","v":0},{"$f":"AO11/(AQ4-AO8)","v":0},{"$f":"IF(AP11=0,0,(AP11*((LOG(AP11))/LOG(2))))","v":0},null,{"$f":"N11","v":0},{"$f":"COUNTIF(L55:L64,AS11)","v":0},{"$f":"AT11/(AV4-AT8)","v":0},{"$f":"IF(AU11=0,0,(AU11*((LOG(AU11))/LOG(2))))","v":0}]
[12,874,13,892,13,903,14,930,13,945,0,11,null,null,null,null,null,null,null,{"$f":"N12","v":0},{"$f":"COUNTIF(L7:L16,T12)","v":0},{"$f":"U12/(W4-U8)","v":0},{"$f":"IF(V12=0,0,(V12*((LOG(V12))/LOG(2))))","v":0},null,{"$f":"N12","v":0},{"$f":"COUNTIF(L17:L25,Y12)","v":0},{"$f":"Z12/(AB4-Z8)","v":0},{"$f":"IF(AA12=0,0,(AA12*((LOG(AA12))/LOG(2))))","v":0},null,{"$f":"N12","v":0},{"$f":"COUNTIF(L26:L35,AD12)","v":0},{"$f":"AE12/(AG4-AE8)","v":0},{"$f":"IF(AF12=0,0,(AF12*((LOG(AF12))/LOG(2))))","v":0},null,{"$f":"N12","v":0},{"$f":"COUNTIF(L36:L45,AI12)","v":0},{"$f":"AJ12/(AL4-AJ8)","v":0},{"$f":"IF(AK12=0,0,(AK12*((LOG(AK12))/LOG(2))))","v":0},null,{"$f":"N12","v":0},{"$f":"COUNTIF(L46:L54,AN12)","v":0},{"$f":"AO12/(AQ4-AO8)","v":0},{"$f":"IF(AP12=0,0,(AP12*((LOG(AP12))/LOG(2))))","v":0},null,{"$f":"N12","v":0},{"$f":"COUNTIF(L55:L64,AS12)","v":0},{"$f":"AT12/(AV4-AT8)","v":0},{"$f":"IF(AU12=0,0,(AU12*((LOG(AU12))/LOG(2))))","v":0}]
[12,1060,13,1074,13,1089,23,1099,13,1110,0,11,null,null,null,null,null,null,null,{"$f":"N13","v":0},{"$f":"COUNTIF(L7:L16,T13)","v":0},{"$f":"U13/(W4-U8)","v":0},{"$f":"IF(V13=0,0,(V13*((LOG(V13))/LOG(2))))","v":0},null,{"$f":"N13","v":0},{"$f":"COUNTIF(L17:L25,Y13)","v":0},{"$f":"Z13/(AB4-Z8)","v":0},{"$f":"IF(AA13=0,0,(AA13*((LOG(AA13))/LOG(2))))","v":0},null,{"$f":"N13","v":0},{"$f":"COUNTIF(L26:L35,AD13)","v":0},{"$f":"AE13/(AG4-AE8)","v":0},{"$f":"IF(AF13=0,0,(AF13*((LOG(AF13))/LOG(2))))","v":0},null,{"$f":"N13","v":0},{"$f":"COUNTIF(L36:L45,AI13)","v":0},{"$f":"AJ13/(AL4-AJ8)","v":0},{"$f":"IF(AK13=0,0,(AK13*((LOG(AK13))/LOG(2))))","v":0},null,{"$f":"N13","v":0},{"$f":"COUNTIF(L46:L54,AN13)","v":0},{"$f":"AO13/(AQ4-AO8)","v":0},{"$f":"IF(AP13=0,0,(AP13*((LOG(AP13))/LOG(2))))","v":0},null,{"$f":"N13","v":0},{"$f":"COUNTIF(L55:L64,AS13)","v":0},{"$f":"AT13/(AV4-AT8)","v":0},{"$f":"IF(AU13=0,0,(AU13*((LOG(AU13))/LOG(2))))","v":0}]
[12,1232,24,1243,13,1259,23,1271,13,1286,0,12,null,null,null,null,null,null,null,{"$f":"N14","v":0},{"$f":"COUNTIF(L7:L16,T14)","v":0},{"$f":"U14/(W4-U8)","v":0},{"$f":"IF(V14=0,0,(V14*((LOG(V14))/LOG(2))))","v":0},null,{"$f":"N14","v":0},{"$f":"COUNTIF(L17:L25,Y14)","v":0},{"$f":"Z14/(AB4-Z8)","v":0},{"$f":"IF(AA14=0,0,(AA14*((LOG(AA14))/LOG(2))))","v":0},null,{"$f":"N14","v":0},{"$f":"COUNTIF(L26:L35,AD14)","v":0},{"$f":"AE14/(AG4-AE8)","v":0},{"$f":"IF(AF14=0,0,(AF14*((LOG(AF14))/LOG(2))))","v":0},null,{"$f":"N14","v":0},{"$f":"COUNTIF(L36:L45,AI14)","v":0},{"$f":"AJ14/(AL4-AJ8)","v":0},{"$f":"IF(AK14=0,0,(AK14*((LOG(AK14))/LOG(2))))","v":0},null,{"$f":"N14","v":0},{"$f":"COUNTIF(L46:L54,AN14)","v":0},{"$f":"AO14/(AQ4-AO8)","v":0},{"$f":"IF(AP14=0,0,(AP14*((LOG(AP14))/LOG(2))))","v":0},null,{"$f":"N14","v":0},{"$f":"COUNTIF(L55:L64,AS14)","v":0},{"$f":"AT14/(AV4-AT8)","v":0},{"$f":"IF(AU14=0,0,(AU14*((LOG(AU14))/LOG(2))))","v":0}]
[21,1402,11,1435,22,1446,14,1461,13,1486,0,21,null,null,null,{"$f":"SUM(P7:P14)","v":1},{"$f":"-SUM(Q7:Q14)","v":1.9036523104840228},null,null,null,null,{"$f":"SUM(V7:V14)","v":0.99999999999999989},{"$f":"-SUM(W7:W14)","v":1.2516291673878228},null,null,null,{"$f":"SUM(AA7:AA14)","v":1},{"$f":"-SUM(AB7:AB14)","v":0},null,null,null,{"$f":"SUM(AF7:AF14)","v":1},{"$f":"-SUM(AG7:AG14)","v":1.5},null,null,null,{"$f":"SUM(AK7:AK14)","v":1},{"$f":"-SUM(AL7:AL14)","v":1.2516291673878228},null,null,null,{"$f":"SUM(AP7:AP14)","v":1},{"$f":"-SUM(AQ7:AQ14)","v":0.98522813603425152},null,null,null,{"$f":"SUM(AU7:AU14)","v":1},{"$f":"-SUM(AV7:AV14)","v":1.4056390622295665}]
[12,1620,24,1631,24,1653,14,1666,24,1676,0,12,null,null,null,"U=",{"$f":"Q15/(LOG(Q4)/LOG(2))","v":0.32496730734828311},null,null,null,null,"U1=",{"$f":"W15/(LOG(W4)/LOG(2))","v":0.37677792283166872},null,null,null,"U2=",{"$f":"AB15/(LOG(AB4)/LOG(2))","v":0},null,null,null,"U3=",{"$f":"AG15/(LOG(AG4)/LOG(2))","v":0.45154499349597182},null,null,null,"U4=",{"$f":"AL15/(LOG(AL4)/LOG(2))","v":0.37677792283166872},null,null,null,"U5=",{"$f":"AQ15/(LOG(AQ4)/LOG(2))","v":0.31080487253987837},null,null,null,"U6=",{"$f":"AV15/(LOG(AV4)/LOG(2))","v":0.42313952080808903}]
[12,1786,13,1830,24,1840,14,1856,24,1869,0,11]
[12,2010,24,2021,13,2036,23,2046,13,2062,0,12]
[12,2172,24,2198,13,2213,23,2222,13,2235,0,12,null,"Total Target Seq"]
[12,2360,13,2371,24,2380,14,2394,24,2403,0,11,null,{"$f":"COUNTIF(L7:L64,G3)","v":18},null,10,9,10,10,9,10]
[12,2542,24,2553,24,2578,14,2596,24,2607,0,12,null,null,null,"% of reinforcement given in 6 equal intervals based on number of trials "]
[12,2728,13,2742,24,2769,14,2788,24,2801,0,11,null,null,null,"%_1","%_2","%_3","%_4","%_5","%_6"]
[12,2907,13,2925,13,2936,23,2945,13,2955,0,11,null,null,"target sequence",{"$f":"$G$3","v":12},{"$f":"$G$3","v":12},{"$f":"$G$3","v":12},{"$f":"$G$3","v":12},{"$f":"$G$3","v":12},{"$f":"$G$3","v":12}]
[12,3069,13,3090,24,3097,23,3123,24,3137,0,11,null,null,"total reinforcement",{"$f":"U8","v":4},{"$f":"Z8","v":4},{"$f":"AE8","v":2},{"$f":"AJ8","v":4},{"$f":"AO8","v":2},{"$f":"AT8","v":2}]
[12,3313,24,3323,13,3336,23,3346,13,3361,0,12,null,null,"% target"]
[21,3575,11,3590,22,3600,14,3619,24,3633,0,21,null,null,"CCRF"]
[12,3759,13,3779,13,3795,14,3805,13,3815,0,11,null,null,"% CCRf"]
[12,3941,13,3971,24,3991,23,4012,13,4026,0,11,null,null,"average response rate",{"$f":"D16/P20","v":163.1},{"$f":"(D25-D16)/Q20","v":188},{"$f":"(D35-D25)/R20","v":279.10000000000002},{"$f":"(D45-D35)/S20","v":245.3},{"$f":"(D54-D45)/T20","v":586.22222222222217},{"$f":"(D64-D54)/U20","v":1000.7}]
[12,4159,13,4175,13,4189,23,4200,13,4209,0,11]
[21,4471,11,4483,22,4493,14,4506,24,4533,0,21]
[12,4877,24,4887,13,4900,23,4907,13,4921,0,12]
[12,5263,24,5274,13,5289,23,5299,13,5314,0,12]
[12,5503,13,5532,24,5558,14,5607,13,5626,0,11]
[21,5816,22,5833,24,5868,14,5878,24,5884,0,22]
[21,6097,22,6114,24,6130,23,6149,24,6159,0,22]
[21,6321,22,6330,13,6392,23,6402,24,6412,0,22]
[12,6555,24,6582,24,6604,23,6624,13,6635,0,12]
[21,6772,22,6783,24,6802,14,6815,24,6826,0,22]
[21,6957,11,6972,22,6983,23,6993,13,7004,0,21]
[12,7164,24,7178,13,7197,23,7206,13,7220,0,12]
[12,7426,24,7438,13,7451,23,7461,13,7476,0,12]
[21,7663,22,7721,13,7732,23,7742,24,7751,0,22]
[12,7940,13,7955,13,7994,23,8004,13,8028,0,11]
[12,8263,24,8271,13,8286,23,8296,13,8308,0,12]
[21,8544,22,8567,13,8577,23,8587,13,8600,0,22]
[21,8806,11,8820,22,8847,14,8862,24,8874,0,21]
[21,10008,11,10042,22,10053,14,10078,13,10090,0,21]
[12,11680,24,11691,24,11702,14,11716,24,11727,0,12]
[12,11995,13,12015,24,12028,14,12048,24,12058,0,11]
[12,12600,24,12610,13,12643,14,12666,24,12678,0,12]
[12,13011,13,13041,24,13051,14,13065,24,13077,0,11]
[21,13294,11,13321,22,13334,14,13349,24,13362,0,21]
[12,13489,13,13503,13,13533,23,13543,13,13556,0,11]
[12,13828,13,13843,24,13862,14,13872,24,13882,0,11]
[12,14098,24,14108,13,17485,23,17521,24,17552,0,12]
[12,17815,13,17842,13,17879,14,17889,13,17902,0,11]
[21,19249,11,19290,22,19326,14,19599,24,19624,0,21]
[12,20147,13,20178,24,20344,14,20365,24,20376,0,11]
[21,20830,11,20893,22,20905,14,20930,24,20966,0,21]
[12,21080,24,21093,13,21104,23,21115,13,21129,0,12]
[21,21318,11,21334,22,21345,14,21392,24,21416,0,21]
[21,21592,11,21605,11,21615,21,21626,22,21652,0,21]
[12,22429,13,22447,13,22457,14,22466,13,22491,0,11]
[21,23820,22,23850,null,null,null,null,null,null,null,22]

{"sheet":"!N103A10.105","index":35,"n_rows":28,"n_cols":48,"rows_kept":28,"cut":false,"hidden":false,"merged":[[4,39,4,42],[5,39,5,40],[4,44,4,47],[5,44,5,45],[4,24,4,27],[5,24,5,25],[4,29,4,32],[5,29,5,30],[4,34,4,37],[5,34,5,35],[1,1,1,2],[5,13,5,14],[18,13,18,14],[19,13,19,14],[4,19,4,22],[5,19,5,20]]}
["Report for:!N103A10.105"]
["Date:","<date>"]
["Hen:","<hen>",null,null,null,"Correct Sequence",{"$f":"Start!J2","v":12},null,null,null,null,null,null,null,null,"Total Sequences in Data",{"$f":"4994-COUNTBLANK(L7:L5000)","v":1},null,null,null,null,"Total Sequences in Block Data",{"$f":"COUNTA(L6:L7)","v":2},null,null,null,"Total Sequences in Block Data",{"$f":"COUNTA(L6:L7)","v":2},null,null,null,"Total Sequences in Block Data",{"$f":"COUNTA(L7:L7)","v":1},null,null,null,"Total Sequences in Block Data",{"$f":"COUNTA(L7:L8)","v":1},null,null,null,"Total Sequences in Block Data",{"$f":"COUNTA(L7:L8)","v":1},null,null,null,"Total Sequences in Block Data",{"$f":"COUNTA(L7:L8)","v":1}]
[null,null,null,null,null,null,null,null,null,null,null,null,null,null,null,"Total Sequences in Summary",{"$f":"SUM(O7:O14)","v":1},null,null,null,null,"Total Sequences in Block Summary",{"$f":"SUM(U7:U14)","v":1},null,null,null,"Total Sequences in Block Summary",{"$f":"SUM(Z7:Z14)","v":1},null,null,null,"Total Sequences in Block Summary",{"$f":"SUM(AE7:AE14)","v":1},null,null,null,"Total Sequences in Block Summary",{"$f":"SUM(AJ7:AJ14)","v":1},null,null,null,"Total Sequences in Block Summary",{"$f":"SUM(AO7:AO14)","v":1},null,null,null,"Total Sequences in Block Summary",{"$f":"SUM(AT7:AT14)","v":1}]
[null,null,null,null,null,null,null,null,null,null,null,null,null,null,null,null,null,null,null,"Block 1",null,null,null,null,"Block 2",null,null,null,null,"Block 3",null,null,null,null,"Block 4",null,null,null,null,"Block 5",null,null,null,null,"Block 6"]
["Sequence\nComponent\n1","Time\n1","Sequence\nComponent\n2","Time\n2","Sequence\nComponent\n3","Time\n3","Sequence\nComponent\n4","Time\n4","Sequence\nComponent\n5","Time\n5","Correct?\n0=No 1=Yes","Sequence",null,"Frequency",null,"Relative Frequency","Variability",null,null,"Frequency",null,"Relative Frequency","Variability",null,"Frequency",null,"Relative Frequency","Variability",null,"Frequency",null,"Relative Frequency","Variability",null,"Frequency",null,"Relative Frequency","Variability",null,"Frequency",null,"Relative Frequency","Variability",null,"Frequency",null,"Relative Frequency","Variability"]
[12,10,24,24,13,32,null,null,null,null,null,12,null,11,{"$f":"COUNTIF($L$7:$L$500,N7)","v":0},{"$f":"O7/$Q$4","v":0},{"$f":"IF(P7=0,0,(P7*((LOG(P7))/LOG(2))))","v":0},null,null,{"$f":"N7","v":11},{"$f":"COUNTIF(L6:L7,T7)","v":0},{"$f":"U7/(W4-U8)","v":{"$error":"#DIV/0!"}},{"$f":"IF(V7=0,0,(V7*((LOG(V7))/LOG(2))))","v":{"$error":"#DIV/0!"}},null,{"$f":"N7","v":11},{"$f":"COUNTIF(L6:L7,Y7)","v":0},{"$f":"Z7/(AB4-Z8)","v":{"$error":"#DIV/0!"}},{"$f":"IF(AA7=0,0,(AA7*((LOG(AA7))/LOG(2))))","v":{"$error":"#DIV/0!"}},null,{"$f":"N7","v":11},{"$f":"COUNTIF(L7:L7,AD7)","v":0},{"$f":"AE7/(AG4-AE8)","v":{"$error":"#DIV/0!"}},{"$f":"IF(AF7=0,0,(AF7*((LOG(AF7))/LOG(2))))","v":{"$error":"#DIV/0!"}},null,{"$f":"N7","v":11},{"$f":"COUNTIF(L7:L8,AI7)","v":0},{"$f":"AJ7/(AL4-AJ8)","v":{"$error":"#DIV/0!"}},{"$f":"IF(AK7=0,0,(AK7*((LOG(AK7))/LOG(2))))","v":{"$error":"#DIV/0!"}},null,{"$f":"N7","v":11},{"$f":"COUNTIF(L7:L8,AN7)","v":0},{"$f":"AO7/(AQ4-AO8)","v":{"$error":"#DIV/0!"}},{"$f":"IF(AP7=0,0,(AP7*((LOG(AP7))/LOG(2))))","v":{"$error":"#DIV/0!"}},null,{"$f":"N7","v":11},{"$f":"COUNTIF(L7:L8,AS7)","v":0},{"$f":"AT7/(AV4-AT8)","v":{"$error":"#DIV/0!"}},{"$f":"IF(AU7=0,0,(AU7*((LOG(AU7))/LOG(2))))","v":{"$error":"#DIV/0!"}}]
[null,null,null,null,null,null,null,null,null,null,null,null,null,12,{"$f":"COUNTIF($L$7:$L$500,N8)","v":1},{"$f":"O8/$Q$4","v":1},{"$f":"IF(P8=0,0,(P8*((LOG(P8))/LOG(2))))","v":0},null,null,{"$f":"N8","v":12},{"$f":"COUNTIF(L6:L7,T8)","v":1},null,null,null,{"$f":"N8","v":12},{"$f":"COUNTIF(L6:L7,Y8)","v":1},null,null,null,{"$f":"N8","v":12},{"$f":"COUNTIF(L7:L7,AD8)","v":1},null,null,null,{"$f":"N8","v":12},{"$f":"COUNTIF(L7:L8,AI8)","v":1},null,null,null,{"$f":"N8","v":12},{"$f":"COUNTIF(L7:L8,AN8)","v":1},null,null,null,{"$f":"N8","v":12},{"$f":"COUNTIF(L7:L8,AS8)","v":1}]
[null,null,null,null,null,null,null,null,null,null,null,null,null,21,{"$f":"COUNTIF($L$7:$L$500,N9)","v":0},{"$f":"O9/$Q$4","v":0},{"$f":"IF(P9=0,0,(P9*((LOG(P9))/LOG(2))))","v":0},null,null,{"$f":"N9","v":21},{"$f":"COUNTIF(L6:L7,T9)","v":0},{"$f":"U9/(W4-U8)","v":{"$error":"#DIV/0!"}},{"$f":"IF(V9=0,0,(V9*((LOG(V9))/LOG(2))))","v":{"$error":"#DIV/0!"}},null,{"$f":"N9","v":21},{"$f":"COUNTIF(L6:L7,Y9)","v":0},{"$f":"Z9/(AB4-Z8)","v":{"$error":"#DIV/0!"}},{"$f":"IF(AA9=0,0,(AA9*((LOG(AA9))/LOG(2))))","v":{"$error":"#DIV/0!"}},null,{"$f":"N9","v":21},{"$f":"COUNTIF(L7:L7,AD9)","v":0},{"$f":"AE9/(AG4-AE8)","v":{"$error":"#DIV/0!"}},{"$f":"IF(AF9=0,0,(AF9*((LOG(AF9))/LOG(2))))","v":{"$error":"#DIV/0!"}},null,{"$f":"N9","v":21},{"$f":"COUNTIF(L7:L8,AI9)","v":0},{"$f":"AJ9/(AL4-AJ8)","v":{"$error":"#DIV/0!"}},{"$f":"IF(AK9=0,0,(AK9*((LOG(AK9))/LOG(2))))","v":{"$error":"#DIV/0!"}},null,{"$f":"N9","v":21},{"$f":"COUNTIF(L7:L8,AN9)","v":0},{"$f":"AO9/(AQ4-AO8)","v":{"$error":"#DIV/0!"}},{"$f":"IF(AP9=0,0,(AP9*((LOG(AP9))/LOG(2))))","v":{"$error":"#DIV/0!"}},null,{"$f":"N9","v":21},{"$f":"COUNTIF(L7:L8,AS9)","v":0},{"$f":"AT9/(AV4-AT8)","v":{"$error":"#DIV/0!"}},{"$f":"IF(AU9=0,0,(AU9*((LOG(AU9))/LOG(2))))","v":{"$error":"#DIV/0!"}}]
[null,null,null,null,null,null,null,null,null,null,null,null,null,22,{"$f":"COUNTIF($L$7:$L$500,N10)","v":0},{"$f":"O10/$Q$4","v":0},{"$f":"IF(P10=0,0,(P10*((LOG(P10))/LOG(2))))","v":0},null,null,{"$f":"N10","v":22},{"$f":"COUNTIF(L6:L7,T10)","v":0},{"$f":"U10/(W4-U8)","v":{"$error":"#DIV/0!"}},{"$f":"IF(V10=0,0,(V10*((LOG(V10))/LOG(2))))","v":{"$error":"#DIV/0!"}},null,{"$f":"N10","v":22},{"$f":"COUNTIF(L6:L7,Y10)","v":0},{"$f":"Z10/(AB4-Z8)","v":{"$error":"#DIV/0!"}},{"$f":"IF(AA10=0,0,(AA10*((LOG(AA10))/LOG(2))))","v":{"$error":"#DIV/0!"}},null,{"$f":"N10","v":22},{"$f":"COUNTIF(L7:L7,AD10)","v":0},{"$f":"AE10/(AG4-AE8)","v":{"$error":"#DIV/0!"}},{"$f":"IF(AF10=0,0,(AF10*((LOG(AF10))/LOG(2))))","v":{"$error":"#DIV/0!"}},null,{"$f":"N10","v":22},{"$f":"COUNTIF(L7:L8,AI10)","v":0},{"$f":"AJ10/(AL4-AJ8)","v":{"$error":"#DIV/0!"}},{"$f":"IF(AK10=0,0,(AK10*((LOG(AK10))/LOG(2))))","v":{"$error":"#DIV/0!"}},null,{"$f":"N10","v":22},{"$f":"COUNTIF(L7:L8,AN10)","v":0},{"$f":"AO10/(AQ4-AO8)","v":{"$error":"#DIV/0!"}},{"$f":"IF(AP10=0,0,(AP10*((LOG(AP10))/LOG(2))))","v":{"$error":"#DIV/0!"}},null,{"$f":"N10","v":22},{"$f":"COUNTIF(L7:L8,AS10)","v":0},{"$f":"AT10/(AV4-AT8)","v":{"$error":"#DIV/0!"}},{"$f":"IF(AU10=0,0,(AU10*((LOG(AU10))/LOG(2))))","v":{"$error":"#DIV/0!"}}]
[null,null,null,null,null,null,null,null,null,null,null,null,null,null,null,null,null,null,null,{"$f":"N11","v":0},{"$f":"COUNTIF(L6:L7,T11)","v":0},{"$f":"U11/(W4-U8)","v":{"$error":"#DIV/0!"}},{"$f":"IF(V11=0,0,(V11*((LOG(V11))/LOG(2))))","v":{"$error":"#DIV/0!"}},null,{"$f":"N11","v":0},{"$f":"COUNTIF(L6:L7,Y11)","v":0},{"$f":"Z11/(AB4-Z8)","v":{"$error":"#DIV/0!"}},{"$f":"IF(AA11=0,0,(AA11*((LOG(AA11))/LOG(2))))","v":{"$error":"#DIV/0!"}},null,{"$f":"N11","v":0},{"$f":"COUNTIF(L7:L7,AD11)","v":0},{"$f":"AE11/(AG4-AE8)","v":{"$error":"#DIV/0!"}},{"$f":"IF(AF11=0,0,(AF11*((LOG(AF11))/LOG(2))))","v":{"$error":"#DIV/0!"}},null,{"$f":"N11","v":0},{"$f":"COUNTIF(L7:L8,AI11)","v":0},{"$f":"AJ11/(AL4-AJ8)","v":{"$error":"#DIV/0!"}},{"$f":"IF(AK11=0,0,(AK11*((LOG(AK11))/LOG(2))))","v":{"$error":"#DIV/0!"}},null,{"$f":"N11","v":0},{"$f":"COUNTIF(L7:L8,AN11)","v":0},{"$f":"AO11/(AQ4-AO8)","v":{"$error":"#DIV/0!"}},{"$f":"IF(AP11=0,0,(AP11*((LOG(AP11))/LOG(2))))","v":{"$error":"#DIV/0!"}},null,{"$f":"N11","v":0},{"$f":"COUNTIF(L7:L8,AS11)","v":0},{"$f":"AT11/(AV4-AT8)","v":{"$error":"#DIV/0!"}},{"$f":"IF(AU11=0,0,(AU11*((LOG(AU11))/LOG(2))))","v":{"$error":"#DIV/0!"}}]
[null,null,null,null,null,null,null,null,null,null,null,null,null,null,null,null,null,null,null,{"$f":"N12","v":0},{"$f":"COUNTIF(L6:L7,T12)","v":0},{"$f":"U12/(W4-U8)","v":{"$error":"#DIV/0!"}},{"$f":"IF(V12=0,0,(V12*((LOG(V12))/LOG(2))))","v":{"$error":"#DIV/0!"}},null,{"$f":"N12","v":0},{"$f":"COUNTIF(L6:L7,Y12)","v":0},{"$f":"Z12/(AB4-Z8)","v":{"$error":"#DIV/0!"}},{"$f":"IF(AA12=0,0,(AA12*((LOG(AA12))/LOG(2))))","v":{"$error":"#DIV/0!"}},null,{"$f":"N12","v":0},{"$f":"COUNTIF(L7:L7,AD12)","v":0},{"$f":"AE12/(AG4-AE8)","v":{"$error":"#DIV/0!"}},{"$f":"IF(AF12=0,0,(AF12*((LOG(AF12))/LOG(2))))","v":{"$error":"#DIV/0!"}},null,{"$f":"N12","v":0},{"$f":"COUNTIF(L7:L8,AI12)","v":0},{"$f":"AJ12/(AL4-AJ8)","v":{"$error":"#DIV/0!"}},{"$f":"IF(AK12=0,0,(AK12*((LOG(AK12))/LOG(2))))","v":{"$error":"#DIV/0!"}},null,{"$f":"N12","v":0},{"$f":"COUNTIF(L7:L8,AN12)","v":0},{"$f":"AO12/(AQ4-AO8)","v":{"$error":"#DIV/0!"}},{"$f":"IF(AP12=0,0,(AP12*((LOG(AP12))/LOG(2))))","v":{"$error":"#DIV/0!"}},null,{"$f":"N12","v":0},{"$f":"COUNTIF(L7:L8,AS12)","v":0},{"$f":"AT12/(AV4-AT8)","v":{"$error":"#DIV/0!"}},{"$f":"IF(AU12=0,0,(AU12*((LOG(AU12))/LOG(2))))","v":{"$error":"#DIV/0!"}}]
[null,null,null,null,null,null,null,null,null,null,null,null,null,null,null,null,null,null,null,{"$f":"N13","v":0},{"$f":"COUNTIF(L6:L7,T13)","v":0},{"$f":"U13/(W4-U8)","v":{"$error":"#DIV/0!"}},{"$f":"IF(V13=0,0,(V13*((LOG(V13))/LOG(2))))","v":{"$error":"#DIV/0!"}},null,{"$f":"N13","v":0},{"$f":"COUNTIF(L6:L7,Y13)","v":0},{"$f":"Z13/(AB4-Z8)","v":{"$error":"#DIV/0!"}},{"$f":"IF(AA13=0,0,(AA13*((LOG(AA13))/LOG(2))))","v":{"$error":"#DIV/0!"}},null,{"$f":"N13","v":0},{"$f":"COUNTIF(L7:L7,AD13)","v":0},{"$f":"AE13/(AG4-AE8)","v":{"$error":"#DIV/0!"}},{"$f":"IF(AF13=0,0,(AF13*((LOG(AF13))/LOG(2))))","v":{"$error":"#DIV/0!"}},null,{"$f":"N13","v":0},{"$f":"COUNTIF(L7:L8,AI13)","v":0},{"$f":"AJ13/(AL4-AJ8)","v":{"$error":"#DIV/0!"}},{"$f":"IF(AK13=0,0,(AK13*((LOG(AK13))/LOG(2))))","v":{"$error":"#DIV/0!"}},null,{"$f":"N13","v":0},{"$f":"COUNTIF(L7:L8,AN13)","v":0},{"$f":"AO13/(AQ4-AO8)","v":{"$error":"#DIV/0!"}},{"$f":"IF(AP13=0,0,(AP13*((LOG(AP13))/LOG(2))))","v":{"$error":"#DIV/0!"}},null,{"$f":"N13","v":0},{"$f":"COUNTIF(L7:L8,AS13)","v":0},{"$f":"AT13/(AV4-AT8)","v":{"$error":"#DIV/0!"}},{"$f":"IF(AU13=0,0,(AU13*((LOG(AU13))/LOG(2))))","v":{"$error":"#DIV/0!"}}]
[null,null,null,null,null,null,null,null,null,null,null,null,null,null,null,null,null,null,null,{"$f":"N14","v":0},{"$f":"COUNTIF(L6:L7,T14)","v":0},{"$f":"U14/(W4-U8)","v":{"$error":"#DIV/0!"}},{"$f":"IF(V14=0,0,(V14*((LOG(V14))/LOG(2))))","v":{"$error":"#DIV/0!"}},null,{"$f":"N14","v":0},{"$f":"COUNTIF(L6:L7,Y14)","v":0},{"$f":"Z14/(AB4-Z8)","v":{"$error":"#DIV/0!"}},{"$f":"IF(AA14=0,0,(AA14*((LOG(AA14))/LOG(2))))","v":{"$error":"#DIV/0!"}},null,{"$f":"N14","v":0},{"$f":"COUNTIF(L7:L7,AD14)","v":0},{"$f":"AE14/(AG4-AE8)","v":{"$error":"#DIV/0!"}},{"$f":"IF(AF14=0,0,(AF14*((LOG(AF14))/LOG(2))))","v":{"$error":"#DIV/0!"}},null,{"$f":"N14","v":0},{"$f":"COUNTIF(L7:L8,AI14)","v":0},{"$f":"AJ14/(AL4-AJ8)","v":{"$error":"#DIV/0!"}},{"$f":"IF(AK14=0,0,(AK14*((LOG(AK14))/LOG(2))))","v":{"$error":"#DIV/0!"}},null,{"$f":"N14","v":0},{"$f":"COUNTIF(L7:L8,AN14)","v":0},{"$f":"AO14/(AQ4-AO8)","v":{"$error":"#DIV/0!"}},{"$f":"IF(AP14=0,0,(AP14*((LOG(AP14))/LOG(2))))","v":{"$error":"#DIV/0!"}},null,{"$f":"N14","v":0},{"$f":"COUNTIF(L7:L8,AS14)","v":0},{"$f":"AT14/(AV4-AT8)","v":{"$error":"#DIV/0!"}},{"$f":"IF(AU14=0,0,(AU14*((LOG(AU14))/LOG(2))))","v":{"$error":"#DIV/0!"}}]
[null,null,null,null,null,null,null,null,null,null,null,null,null,null,null,{"$f":"SUM(P7:P14)","v":1},{"$f":"-SUM(Q7:Q14)","v":0},null,null,null,null,{"$f":"SUM(V7:V14)","v":{"$error":"#DIV/0!"}},{"$f":"-SUM(W7:W14)","v":{"$error":"#DIV/0!"}},null,null,null,{"$f":"SUM(AA7:AA14)","v":{"$error":"#DIV/0!"}},{"$f":"-SUM(AB7:AB14)","v":{"$error":"#DIV/0!"}},null,null,null,{"$f":"SUM(AF7:AF14)","v":{"$error":"#DIV/0!"}},{"$f":"-SUM(AG7:AG14)","v":{"$error":"#DIV/0!"}},null,null,null,{"$f":"SUM(AK7:AK14)","v":{"$error":"#DIV/0!"}},{"$f":"-SUM(AL7:AL14)","v":{"$error":"#DIV/0!"}},null,null,null,{"$f":"SUM(AP7:AP14)","v":{"$error":"#DIV/0!"}},{"$f":"-SUM(AQ7:AQ14)","v":{"$error":"#DIV/0!"}},null,null,null,{"$f":"SUM(AU7:AU14)","v":{"$error":"#DIV/0!"}},{"$f":"-SUM(AV7:AV14)","v":{"$error":"#DIV/0!"}}]
[null,null,null,null,null,null,null,null,null,null,null,null,null,null,null,"U=",{"$f":"Q15/(LOG(Q4)/LOG(2))","v":{"$error":"#DIV/0!"}},null,null,null,null,"U1=",{"$f":"W15/(LOG(W4)/LOG(2))","v":{"$error":"#DIV/0!"}},null,null,null,"U2=",{"$f":"AB15/(LOG(AB4)/LOG(2))","v":{"$error":"#DIV/0!"}},null,null,null,"U3=",{"$f":"AG15/(LOG(AG4)/LOG(2))","v":{"$error":"#DIV/0!"}},null,null,null,"U4=",{"$f":"AL15/(LOG(AL4)/LOG(2))","v":{"$error":"#DIV/0!"}},null,null,null,"U5=",{"$f":"AQ15/(LOG(AQ4)/LOG(2))","v":{"$error":"#DIV/0!"}},null,null,null,"U6=",{"$f":"AV15/(LOG(AV4)/LOG(2))","v":{"$error":"#DIV/0!"}}]
[]
[]
[null,null,null,null,null,null,null,null,null,null,null,null,null,"Total Target Seq"]
[null,null,null,null,null,null,null,null,null,null,null,null,null,{"$f":"COUNTIF(L7:L7,G3)","v":1},null,0,0,1,0,0,0]
[null,null,null,null,null,null,null,null,null,null,null,null,null,null,null,"% of reinforcement given in 6 equal intervals based on number of trials "]
[null,null,null,null,null,null,null,null,null,null,null,null,null,null,null,"%_1","%_2","%_3","%_4","%_5","%_6"]
[null,null,null,null,null,null,null,null,null,null,null,null,null,null,"target sequence",{"$f":"$G$3","v":12},{"$f":"$G$3","v":12},{"$f":"$G$3","v":12},{"$f":"$G$3","v":12},{"$f":"$G$3","v":12},{"$f":"$G$3","v":12}]
[null,null,null,null,null,null,null,null,null,null,null,null,null,null,"total reinforcement",{"$f":"U8","v":1},{"$f":"Z8","v":1},{"$f":"AE8","v":1},{"$f":"AJ8","v":1},{"$f":"AO8","v":1},{"$f":"AT8","v":1}]
[null,null,null,null,null,null,null,null,null,null,null,null,null,null,"% target"]
[null,null,null,null,null,null,null,null,null,null,null,null,null,null,"CCRF"]
[null,null,null,null,null,null,null,null,null,null,null,null,null,null,"% CCRf"]
[null,null,null,null,null,null,null,null,null,null,null,null,null,null,"average response rate",{"$f":"D6/P20","v":{"$error":"#VALUE!"}},{"$f":"(D6-D6)/Q20","v":{"$error":"#VALUE!"}},{"$f":"(D7-D6)/R20","v":{"$error":"#VALUE!"}},{"$f":"(D7-D7)/S20","v":{"$error":"#DIV/0!"}},{"$f":"(D7-D7)/T20","v":{"$error":"#DIV/0!"}},{"$f":"(D7-D7)/U20","v":{"$error":"#DIV/0!"}}]

{"sheet":"!N103A30.105","index":36,"n_rows":87,"n_cols":48,"rows_kept":87,"cut":false,"hidden":false,"merged":[[4,39,4,42],[5,39,5,40],[4,44,4,47],[5,44,5,45],[4,24,4,27],[5,24,5,25],[4,29,4,32],[5,29,5,30],[4,34,4,37],[5,34,5,35],[1,1,1,2],[5,13,5,14],[18,13,18,14],[19,13,19,14],[4,19,4,22],[5,19,5,20]]}
["Report for:!N103A30.105"]
["Date:","<date>"]
["Hen:","<hen>",null,null,null,"Correct Sequence",{"$f":"Start!J2","v":12},null,null,null,null,null,null,null,null,"Total Sequences in Data",{"$f":"4994-COUNTBLANK(L7:L5000)","v":81},null,null,null,null,"Total Sequences in Block Data",{"$f":"COUNTA(L7:L20)","v":14},null,null,null,"Total Sequences in Block Data",{"$f":"COUNTA(L21:L33)","v":13},null,null,null,"Total Sequences in Block Data",{"$f":"COUNTA(L34:L47)","v":14},null,null,null,"Total Sequences in Block Data",{"$f":"COUNTA(L48:L60)","v":13},null,null,null,"Total Sequences in Block Data",{"$f":"COUNTA(L61:L74)","v":14},null,null,null,"Total Sequences in Block Data",{"$f":"COUNTA(L75:L87)","v":13}]
[null,null,null,null,null,null,null,null,null,null,null,null,null,null,null,"Total Sequences in Summary",{"$f":"SUM(O7:O14)","v":81},null,null,null,null,"Total Sequences in Block Summary",{"$f":"SUM(U7:U14)","v":14},null,null,null,"Total Sequences in Block Summary",{"$f":"SUM(Z7:Z14)","v":13},null,null,null,"Total Sequences in Block Summary",{"$f":"SUM(AE7:AE14)","v":14},null,null,null,"Total Sequences in Block Summary",{"$f":"SUM(AJ7:AJ14)","v":13},null,null,null,"Total Sequences in Block Summary",{"$f":"SUM(AO7:AO14)","v":14},null,null,null,"Total Sequences in Block Summary",{"$f":"SUM(AT7:AT14)","v":13}]
[null,null,null,null,null,null,null,null,null,null,null,null,null,null,null,null,null,null,null,"Block 1",null,null,null,null,"Block 2",null,null,null,null,"Block 3",null,null,null,null,"Block 4",null,null,null,null,"Block 5",null,null,null,null,"Block 6"]
["Sequence\nComponent\n1","Time\n1","Sequence\nComponent\n2","Time\n2","Sequence\nComponent\n3","Time\n3","Sequence\nComponent\n4","Time\n4","Sequence\nComponent\n5","Time\n5","Correct?\n0=No 1=Yes","Sequence",null,"Frequency",null,"Relative Frequency","Variability",null,null,"Frequency",null,"Relative Frequency","Variability",null,"Frequency",null,"Relative Frequency","Variability",null,"Frequency",null,"Relative Frequency","Variability",null,"Frequency",null,"Relative Frequency","Variability",null,"Frequency",null,"Relative Frequency","Variability",null,"Frequency",null,"Relative Frequency","Variability"]
[21,29,11,44,22,61,14,73,24,80,0,21,null,11,{"$f":"COUNTIF($L$7:$L$500,N7)","v":42},{"$f":"O7/$Q$4","v":0.51851851851851849},{"$f":"IF(P7=0,0,(P7*((LOG(P7))/LOG(2))))","v":-0.49131318968452231},null,null,{"$f":"N7","v":11},{"$f":"COUNTIF(L7:L20,T7)","v":8},{"$f":"U7/(W4-U8)","v":0.88888888888888884},{"$f":"IF(V7=0,0,(V7*((LOG(V7))/LOG(2))))","v":-0.15104444572649992},null,{"$f":"N7","v":11},{"$f":"COUNTIF(L21:L33,Y7)","v":7},{"$f":"Z7/(AB4-Z8)","v":0.875},{"$f":"IF(AA7=0,0,(AA7*((LOG(AA7))/LOG(2))))","v":-0.1685644431995964},null,{"$f":"N7","v":11},{"$f":"COUNTIF(L34:L47,AD7)","v":10},{"$f":"AE7/(AG4-AE8)","v":0.76923076923076927},{"$f":"IF(AF7=0,0,(AF7*((LOG(AF7))/LOG(2))))","v":-0.29116278711825366},null,{"$f":"N7","v":11},{"$f":"COUNTIF(L48:L60,AI7)","v":8},{"$f":"AJ7/(AL4-AJ8)","v":0.72727272727272729},{"$f":"IF(AK7=0,0,(AK7*((LOG(AK7))/LOG(2))))","v":-0.33413208628167068},null,{"$f":"N7","v":11},{"$f":"COUNTIF(L61:L74,AN7)","v":3},{"$f":"AO7/(AQ4-AO8)","v":0.3},{"$f":"IF(AP7=0,0,(AP7*((LOG(AP7))/LOG(2))))","v":-0.52108967824986185},null,{"$f":"N7","v":11},{"$f":"COUNTIF(L75:L87,AS7)","v":6},{"$f":"AT7/(AV4-AT8)","v":0.6},{"$f":"IF(AU7=0,0,(AU7*((LOG(AU7))/LOG(2))))","v":-0.44217935649972373}]
[12,212,24,218,13,233,14,277,13,287,0,12,null,12,{"$f":"COUNTIF($L$7:$L$500,N8)","v":20},{"$f":"O8/$Q$4","v":0.24691358024691357},{"$f":"IF(P8=0,0,(P8*((LOG(P8))/LOG(2))))","v":-0.49825232296228705},null,null,{"$f":"N8","v":12},{"$f":"COUNTIF(L7:L20,T8)","v":5},null,null,null,{"$f":"N8","v":12},{"$f":"COUNTIF(L21:L33,Y8)","v":5},null,null,null,{"$f":"N8","v":12},{"$f":"COUNTIF(L34:L47,AD8)","v":1},null,null,null,{"$f":"N8","v":12},{"$f":"COUNTIF(L48:L60,AI8)","v":2},null,null,null,{"$f":"N8","v":12},{"$f":"COUNTIF(L61:L74,AN8)","v":4},null,null,null,{"$f":"N8","v":12},{"$f":"COUNTIF(L75:L87,AS8)","v":3}]
[12,395,13,411,13,421,23,431,24,461,0,11,null,21,{"$f":"COUNTIF($L$7:$L$500,N9)","v":10},{"$f":"O9/$Q$4","v":0.12345679012345678},{"$f":"IF(P9=0,0,(P9*((LOG(P9))/LOG(2))))","v":-0.37258295160460025},null,null,{"$f":"N9","v":21},{"$f":"COUNTIF(L7:L20,T9)","v":1},{"$f":"U9/(W4-U8)","v":0.1111111111111111},{"$f":"IF(V9=0,0,(V9*((LOG(V9))/LOG(2))))","v":-0.3522138890491458},null,{"$f":"N9","v":21},{"$f":"COUNTIF(L21:L33,Y9)","v":1},{"$f":"Z9/(AB4-Z8)","v":0.125},{"$f":"IF(AA9=0,0,(AA9*((LOG(AA9))/LOG(2))))","v":-0.375},null,{"$f":"N9","v":21},{"$f":"COUNTIF(L34:L47,AD9)","v":1},{"$f":"AE9/(AG4-AE8)","v":7.6923076923076927E-2},{"$f":"IF(AF9=0,0,(AF9*((LOG(AF9))/LOG(2))))","v":-0.28464920908777636},null,{"$f":"N9","v":21},{"$f":"COUNTIF(L48:L60,AI9)","v":3},{"$f":"AJ9/(AL4-AJ8)","v":0.27272727272727271},{"$f":"IF(AK9=0,0,(AK9*((LOG(AK9))/LOG(2))))","v":-0.51121885034076575},null,{"$f":"N9","v":21},{"$f":"COUNTIF(L61:L74,AN9)","v":2},{"$f":"AO9/(AQ4-AO8)","v":0.2},{"$f":"IF(AP9=0,0,(AP9*((LOG(AP9))/LOG(2))))","v":-0.46438561897747244},null,{"$f":"N9","v":21},{"$f":"COUNTIF(L75:L87,AS9)","v":2},{"$f":"AT9/(AV4-AT8)","v":0.2},{"$f":"IF(AU9=0,0,(AU9*((LOG(AU9))/LOG(2))))","v":-0.46438561897747244}]
[12,586,13,601,24,655,14,668,13,677,0,11,null,22,{"$f":"COUNTIF($L$7:$L$500,N10)","v":9},{"$f":"O10/$Q$4","v":0.1111111111111111},{"$f":"IF(P10=0,0,(P10*((LOG(P10))/LOG(2))))","v":-0.3522138890491458},null,null,{"$f":"N10","v":22},{"$f":"COUNTIF(L7:L20,T10)","v":0},{"$f":"U10/(W4-U8)","v":0},{"$f":"IF(V10=0,0,(V10*((LOG(V10))/LOG(2))))","v":0},null,{"$f":"N10","v":22},{"$f":"COUNTIF(L21:L33,Y10)","v":0},{"$f":"Z10/(AB4-Z8)","v":0},{"$f":"IF(AA10=0,0,(AA10*((LOG(AA10))/LOG(2))))","v":0},null,{"$f":"N10","v":22},{"$f":"COUNTIF(L34:L47,AD10)","v":2},{"$f":"AE10/(AG4-AE8)","v":0.15384615384615385},{"$f":"IF(AF10=0,0,(AF10*((LOG(AF10))/LOG(2))))","v":-0.4154522643293988},null,{"$f":"N10","v":22},{"$f":"COUNTIF(L48:L60,AI10)","v":0},{"$f":"AJ10/(AL4-AJ8)","v":0},{"$f":"IF(AK10=0,0,(AK10*((LOG(AK10))/LOG(2))))","v":0},null,{"$f":"N10","v":22},{"$f":"COUNTIF(L61:L74,AN10)","v":5},{"$f":"AO10/(AQ4-AO8)","v":0.5},{"$f":"IF(AP10=0,0,(AP10*((LOG(AP10))/LOG(2))))","v":-0.5},null,{"$f":"N10","v":22},{"$f":"COUNTIF(L75:L87,AS10)","v":2},{"$f":"AT10/(AV4-AT8)","v":0.2},{"$f":"IF(AU10=0,0,(AU10*((LOG(AU10))/LOG(2))))","v":-0.46438561897747244}]
[12,826,13,846,13,856,14,865,13,882,0,11,null,null,null,null,null,null,null,{"$f":"N11","v":0},{"$f":"COUNTIF(L7:L20,T11)","v":0},{"$f":"U11/(W4-U8)","v":0},{"$f":"IF(V11=0,0,(V11*((LOG(V11))/LOG(2))))","v":0},null,{"$f":"N11","v":0},{"$f":"COUNTIF(L21:L33,Y11)","v":0},{"$f":"Z11/(AB4-Z8)","v":0},{"$f":"IF(AA11=0,0,(AA11*((LOG(AA11))/LOG(2))))","v":0},null,{"$f":"N11","v":0},{"$f":"COUNTIF(L34:L47,AD11)","v":0},{"$f":"AE11/(AG4-AE8)","v":0},{"$f":"IF(AF11=0,0,(AF11*((LOG(AF11))/LOG(2))))","v":0},null,{"$f":"N11","v":0},{"$f":"COUNTIF(L48:L60,AI11)","v":0},{"$f":"AJ11/(AL4-AJ8)","v":0},{"$f":"IF(AK11=0,0,(AK11*((LOG(AK11))/LOG(2))))","v":0},null,{"$f":"N11","v":0},{"$f":"COUNTIF(L61:L74,AN11)","v":0},{"$f":"AO11/(AQ4-AO8)","v":0},{"$f":"IF(AP11=0,0,(AP11*((LOG(AP11))/LOG(2))))","v":0},null,{"$f":"N11","v":0},{"$f":"COUNTIF(L75:L87,AS11)","v":0},{"$f":"AT11/(AV4-AT8)","v":0},{"$f":"IF(AU11=0,0,(AU11*((LOG(AU11))/LOG(2))))","v":0}]
[12,1002,24,1014,13,1027,14,1037,24,1052,0,12,null,null,null,null,null,null,null,{"$f":"N12","v":0},{"$f":"COUNTIF(L7:L20,T12)","v":0},{"$f":"U12/(W4-U8)","v":0},{"$f":"IF(V12=0,0,(V12*((LOG(V12))/LOG(2))))","v":0},null,{"$f":"N12","v":0},{"$f":"COUNTIF(L21:L33,Y12)","v":0},{"$f":"Z12/(AB4-Z8)","v":0},{"$f":"IF(AA12=0,0,(AA12*((LOG(AA12))/LOG(2))))","v":0},null,{"$f":"N12","v":0},{"$f":"COUNTIF(L34:L47,AD12)","v":0},{"$f":"AE12/(AG4-AE8)","v":0},{"$f":"IF(AF12=0,0,(AF12*((LOG(AF12))/LOG(2))))","v":0},null,{"$f":"N12","v":0},{"$f":"COUNTIF(L48:L60,AI12)","v":0},{"$f":"AJ12/(AL4-AJ8)","v":0},{"$f":"IF(AK12=0,0,(AK12*((LOG(AK12))/LOG(2))))","v":0},null,{"$f":"N12","v":0},{"$f":"COUNTIF(L61:L74,AN12)","v":0},{"$f":"AO12/(AQ4-AO8)","v":0},{"$f":"IF(AP12=0,0,(AP12*((LOG(AP12))/LOG(2))))","v":0},null,{"$f":"N12","v":0},{"$f":"COUNTIF(L75:L87,AS12)","v":0},{"$f":"AT12/(AV4-AT8)","v":0},{"$f":"IF(AU12=0,0,(AU12*((LOG(AU12))/LOG(2))))","v":0}]
[12,1185,24,1195,13,1210,14,1221,13,1231,0,12,null,null,null,null,null,null,null,{"$f":"N13","v":0},{"$f":"COUNTIF(L7:L20,T13)","v":0},{"$f":"U13/(W4-U8)","v":0},{"$f":"IF(V13=0,0,(V13*((LOG(V13))/LOG(2))))","v":0},null,{"$f":"N13","v":0},{"$f":"COUNTIF(L21:L33,Y13)","v":0},{"$f":"Z13/(AB4-Z8)","v":0},{"$f":"IF(AA13=0,0,(AA13*((LOG(AA13))/LOG(2))))","v":0},null,{"$f":"N13","v":0},{"$f":"COUNTIF(L34:L47,AD13)","v":0},{"$f":"AE13/(AG4-AE8)","v":0},{"$f":"IF(AF13=0,0,(AF13*((LOG(AF13))/LOG(2))))","v":0},null,{"$f":"N13","v":0},{"$f":"COUNTIF(L48:L60,AI13)","v":0},{"$f":"AJ13/(AL4-AJ8)","v":0},{"$f":"IF(AK13=0,0,(AK13*((LOG(AK13))/LOG(2))))","v":0},null,{"$f":"N13","v":0},{"$f":"COUNTIF(L61:L74,AN13)","v":0},{"$f":"AO13/(AQ4-AO8)","v":0},{"$f":"IF(AP13=0,0,(AP13*((LOG(AP13))/LOG(2))))","v":0},null,{"$f":"N13","v":0},{"$f":"COUNTIF(L75:L87,AS13)","v":0},{"$f":"AT13/(AV4-AT8)","v":0},{"$f":"IF(AU13=0,0,(AU13*((LOG(AU13))/LOG(2))))","v":0}]
[12,1340,13,1357,24,1375,23,1385,24,1395,0,11,null,null,null,null,null,null,null,{"$f":"N14","v":0},{"$f":"COUNTIF(L7:L20,T14)","v":0},{"$f":"U14/(W4-U8)","v":0},{"$f":"IF(V14=0,0,(V14*((LOG(V14))/LOG(2))))","v":0},null,{"$f":"N14","v":0},{"$f":"COUNTIF(L21:L33,Y14)","v":0},{"$f":"Z14/(AB4-Z8)","v":0},{"$f":"IF(AA14=0,0,(AA14*((LOG(AA14))/LOG(2))))","v":0},null,{"$f":"N14","v":0},{"$f":"COUNTIF(L34:L47,AD14)","v":0},{"$f":"AE14/(AG4-AE8)","v":0},{"$f":"IF(AF14=0,0,(AF14*((LOG(AF14))/LOG(2))))","v":0},null,{"$f":"N14","v":0},{"$f":"COUNTIF(L48:L60,AI14)","v":0},{"$f":"AJ14/(AL4-AJ8)","v":0},{"$f":"IF(AK14=0,0,(AK14*((LOG(AK14))/LOG(2))))","v":0},null,{"$f":"N14","v":0},{"$f":"COUNTIF(L61:L74,AN14)","v":0},{"$f":"AO14/(AQ4-AO8)","v":0},{"$f":"IF(AP14=0,0,(AP14*((LOG(AP14))/LOG(2))))","v":0},null,{"$f":"N14","v":0},{"$f":"COUNTIF(L75:L87,AS14)","v":0},{"$f":"AT14/(AV4-AT8)","v":0},{"$f":"IF(AU14=0,0,(AU14*((LOG(AU14))/LOG(2))))","v":0}]
[12,1512,24,1525,13,1540,23,1553,13,1564,0,12,null,null,null,{"$f":"SUM(P7:P14)","v":1},{"$f":"-SUM(Q7:Q14)","v":1.7143623533005554},null,null,null,null,{"$f":"SUM(V7:V14)","v":1},{"$f":"-SUM(W7:W14)","v":0.50325833477564574},null,null,null,{"$f":"SUM(AA7:AA14)","v":1},{"$f":"-SUM(AB7:AB14)","v":0.5435644431995964},null,null,null,{"$f":"SUM(AF7:AF14)","v":1},{"$f":"-SUM(AG7:AG14)","v":0.99126426053542871},null,null,null,{"$f":"SUM(AK7:AK14)","v":1},{"$f":"-SUM(AL7:AL14)","v":0.84535093662243643},null,null,null,{"$f":"SUM(AP7:AP14)","v":1},{"$f":"-SUM(AQ7:AQ14)","v":1.4854752972273344},null,null,null,{"$f":"SUM(AU7:AU14)","v":1},{"$f":"-SUM(AV7:AV14)","v":1.3709505944546687}]
[12,1673,24,1686,13,1696,14,1719,24,1729,0,12,null,null,null,"U=",{"$f":"Q15/(LOG(Q4)/LOG(2))","v":0.27041055427502586},null,null,null,null,"U1=",{"$f":"W15/(LOG(W4)/LOG(2))","v":0.13218056763241565},null,null,null,"U2=",{"$f":"AB15/(LOG(AB4)/LOG(2))","v":0.14689185194257259},null,null,null,"U3=",{"$f":"AG15/(LOG(AG4)/LOG(2))","v":0.26035509712861787},null,null,null,"U4=",{"$f":"AL15/(LOG(AL4)/LOG(2))","v":0.22844607695625335},null,null,null,"U5=",{"$f":"AQ15/(LOG(AQ4)/LOG(2))","v":0.39015939612599632},null,null,null,"U6=",{"$f":"AV15/(LOG(AV4)/LOG(2))","v":0.37048315845646657}]
[12,1834,13,1845,13,1854,23,1863,13,1873,0,11]
[12,1998,13,2017,24,2030,23,2062,24,2085,0,11]
[12,2188,13,2206,13,2221,14,2241,13,2250,0,11,null,"Total Target Seq"]
[12,2373,13,2383,24,2395,14,2405,24,2418,0,11,null,{"$f":"COUNTIF(L7:L87,G3)","v":20},null,14,13,14,13,14,13]
[12,2536,24,2542,13,2552,23,2557,13,2572,0,12,null,null,null,"% of reinforcement given in 6 equal intervals based on number of trials "]
[12,2684,13,2700,24,2715,14,2723,13,2744,0,11,null,null,null,"%_1","%_2","%_3","%_4","%_5","%_6"]
[12,2861,13,2875,24,2884,14,2894,24,2903,0,11,null,null,"target sequence",{"$f":"$G$3","v":12},{"$f":"$G$3","v":12},{"$f":"$G$3","v":12},{"$f":"$G$3","v":12},{"$f":"$G$3","v":12},{"$f":"$G$3","v":12}]
[12,3073,24,3078,13,3087,23,3100,24,3120,0,12,null,null,"total reinforcement",{"$f":"U8","v":5},{"$f":"Z8","v":5},{"$f":"AE8","v":1},{"$f":"AJ8","v":2},{"$f":"AO8","v":4},{"$f":"AT8","v":3}]
[12,3275,24,3286,24,3306,23,3326,24,3347,0,12,null,null,"% target"]
[12,3496,13,3506,13,3524,23,3534,13,3543,0,11,null,null,"CCRF"]
[12,3792,13,3808,13,3818,23,3828,24,3848,0,11,null,null,"% CCRf"]
[12,4131,24,4142,13,4158,23,4170,24,4193,0,12,null,null,"average response rate",{"$f":"D20/P20","v":170.21428571428572},{"$f":"(D33-D20)/Q20","v":358.92307692307691},{"$f":"(D47-D33)/R20","v":203.07142857142858},{"$f":"(D60-D47)/S20","v":197.07692307692307},{"$f":"(D74-D60)/T20","v":299.85714285714283},{"$f":"(D87-D74)/U20","v":542.61538461538464}]
[21,4485,11,4495,22,4524,14,4541,24,4549,0,21]
[12,4696,13,4714,24,4723,23,4741,24,4789,0,11]
[12,5361,13,5374,24,5395,14,5409,24,5423,0,11]
[12,6538,13,6549,13,6558,14,6568,13,6578,0,11]
[12,6995,24,7049,24,7079,23,7104,13,7130,0,12]
[21,7267,11,7277,11,7300,21,7307,11,7319,1,21]
[21,7512,22,7536,24,7566,23,7587,24,7622,0,22]
[12,7748,13,7763,24,7773,23,7793,13,7803,0,11]
[21,7966,22,7985,24,8011,23,8021,24,8042,0,22]
[12,8164,13,8172,13,8189,23,8198,13,8212,0,11]
[12,8329,13,8356,13,8371,23,8382,13,8392,0,11]
[12,8499,13,8537,13,8552,14,8567,24,8577,0,11]
[12,8699,13,8708,13,8722,14,8741,24,8752,0,11]
[12,8864,13,8874,13,8884,14,8892,13,8907,0,11]
[12,9082,24,9092,13,9103,23,9171,13,9182,0,12]
[12,9289,13,9298,13,9311,14,9332,24,9404,0,11]
[12,9520,13,9530,13,9540,14,9552,13,9561,0,11]
[12,9694,13,9710,24,9720,14,9730,24,9740,0,11]
[12,9883,13,9892,13,9901,14,9911,24,9924,0,11]
[12,10032,13,10042,13,10051,14,10060,13,10078,0,11]
[12,10198,24,10216,13,10225,23,10234,13,10244,0,12]
[21,10366,11,10382,22,10408,14,10426,24,10436,0,21]
[12,10559,13,10575,13,10584,14,10604,13,10616,0,11]
[12,10746,13,10756,13,10765,23,10795,13,10831,0,11]
[12,10962,13,10979,13,10998,23,11009,13,11033,0,11]
[12,11160,13,11181,13,11190,14,11207,24,11217,0,11]
[12,11375,24,11385,13,11399,23,11410,24,11433,0,12]
[12,11589,13,11601,13,11610,23,11620,13,11634,0,11]
[12,11788,13,11804,24,11822,14,11871,24,11881,0,11]
[12,12013,13,12023,24,12033,14,12043,24,12054,0,11]
[21,12181,11,12191,11,12228,12,12237,24,12249,0,21]
[21,12444,11,12454,22,12460,14,12470,13,12485,0,21]
[12,12655,24,12665,13,12674,23,12684,13,12696,0,12]
[21,12833,22,12851,13,12861,14,12876,24,12896,0,22]
[21,13050,11,13060,22,13073,14,13082,24,13093,0,21]
[12,13245,24,13254,13,13263,23,13273,24,13293,0,12]
[21,13430,22,13460,24,13471,14,13481,24,13490,0,22]
[12,13710,13,13718,13,13730,14,13739,24,13763,0,11]
[21,13991,11,14004,22,14013,23,14036,13,14046,0,21]
[12,14208,24,14217,13,14227,23,14237,13,14250,0,12]
[12,14574,13,14588,24,14598,23,14614,24,14635,0,11]
[21,15061,22,15080,13,15091,23,15100,13,15112,0,22]
[12,15320,24,15331,13,15340,23,15348,13,15358,0,12]
[12,15512,13,15528,24,15540,14,15550,13,15569,0,11]
[21,15980,22,15990,24,16015,23,16024,13,16038,0,22]
[21,16643,22,16652,13,16666,23,16689,24,16715,0,22]
[12,17000,13,17051,24,17060,14,17081,13,17089,0,11]
[12,17465,13,17477,24,17487,14,17500,24,17512,0,11]
[12,18044,24,18056,24,18066,23,18091,24,18100,0,12]
[21,18395,22,18413,24,18424,14,18437,24,18447,0,22]
[12,19390,13,19399,13,19408,14,19417,24,19455,0,11]
[21,19753,22,19776,24,19791,23,19812,24,19841,0,22]
[21,20163,11,20177,22,20187,14,20200,24,20211,0,21]
[12,20526,24,20536,13,20555,23,20564,24,20587,0,12]
[21,20747,11,20757,22,20766,14,20790,24,20799,0,21]
[12,20953,13,20966,24,20986,14,20998,24,21008,0,11]
[12,22280,24,22301,13,22316,23,22337,13,22349,0,12]
[12,22585,13,22595,24,22608,14,22620,24,22630,0,11]
[12,23693,13,23706,24,23717,14,23731,24,23741,0,11]

{"sheet":"!N104B30.105","index":37,"n_rows":65,"n_cols":48,"rows_kept":65,"cut":false,"hidden":false,"merged":[[4,39,4,42],[5,39,5,40],[4,44,4,47],[5,44,5,45],[4,24,4,27],[5,24,5,25],[4,29,4,32],[5,29,5,30],[4,34,4,37],[5,34,5,35],[1,1,1,2],[5,13,5,14],[18,13,18,14],[19,13,19,14],[4,19,4,22],[5,19,5,20]]}
["Report for:!N104B30.105"]
["Date:","<date>"]
["Hen:","<hen>",null,null,null,"Correct Sequence",{"$f":"Start!J2","v":12},null,null,null,null,null,null,null,null,"Total Sequences in Data",{"$f":"4994-COUNTBLANK(L7:L5000)","v":59},null,null,null,null,"Total Sequences in Block Data",{"$f":"COUNTA(L7:L16)","v":10},null,null,null,"Total Sequences in Block Data",{"$f":"COUNTA(L17:L26)","v":10},null,null,null,"Total Sequences in Block Data",{"$f":"COUNTA(L27:L35)","v":9},null,null,null,"Total Sequences in Block Data",{"$f":"COUNTA(L36:L45)","v":10},null,null,null,"Total Sequences in Block Data",{"$f":"COUNTA(L46:L55)","v":10},null,null,null,"Total Sequences in Block Data",{"$f":"COUNTA(L56:L65)","v":10}]
[null,null,null,null,null,null,null,null,null,null,null,null,null,null,null,"Total Sequences in Summary",{"$f":"SUM(O7:O14)","v":59},null,null,null,null,"Total Sequences in Block Summary",{"$f":"SUM(U7:U14)","v":10},null,null,null,"Total Sequences in Block Summary",{"$f":"SUM(Z7:Z14)","v":10},null,null,null,"Total Sequences in Block Summary",{"$f":"SUM(AE7:AE14)","v":9},null,null,null,"Total Sequences in Block Summary",{"$f":"SUM(AJ7:AJ14)","v":10},null,null,null,"Total Sequences in Block Summary",{"$f":"SUM(AO7:AO14)","v":10},null,null,null,"Total Sequences in Block Summary",{"$f":"SUM(AT7:AT14)","v":10}]
[null,null,null,null,null,null,null,null,null,null,null,null,null,null,null,null,null,null,null,"Block 1",null,null,null,null,"Block 2",null,null,null,null,"Block 3",null,null,null,null,"Block 4",null,null,null,null,"Block 5",null,null,null,null,"Block 6"]
["Sequence\nComponent\n1","Time\n1","Sequence\nComponent\n2","Time\n2","Sequence\nComponent\n3","Time\n3","Sequence\nComponent\n4","Time\n4","Sequence\nComponent\n5","Time\n5","Correct?\n0=No 1=Yes","Sequence",null,"Frequency",null,"Relative Frequency","Variability",null,null,"Frequency",null,"Relative Frequency","Variability",null,"Frequency",null,"Relative Frequency","Variability",null,"Frequency",null,"Relative Frequency","Variability",null,"Frequency",null,"Relative Frequency","Variability",null,"Frequency",null,"Relative Frequency","Variability",null,"Frequency",null,"Relative Frequency","Variability"]
[21,24,11,38,22,47,14,63,24,72,0,21,null,11,{"$f":"COUNTIF($L$7:$L$500,N7)","v":24},{"$f":"O7/$Q$4","v":0.40677966101694918},{"$f":"IF(P7=0,0,(P7*((LOG(P7))/LOG(2))))","v":-0.52787005368434647},null,null,{"$f":"N7","v":11},{"$f":"COUNTIF(L7:L16,T7)","v":3},{"$f":"U7/(W4-U8)","v":0.5},{"$f":"IF(V7=0,0,(V7*((LOG(V7))/LOG(2))))","v":-0.5},null,{"$f":"N7","v":11},{"$f":"COUNTIF(L17:L26,Y7)","v":7},{"$f":"Z7/(AB4-Z8)","v":0.875},{"$f":"IF(AA7=0,0,(AA7*((LOG(AA7))/LOG(2))))","v":-0.1685644431995964},null,{"$f":"N7","v":11},{"$f":"COUNTIF(L27:L35,AD7)","v":2},{"$f":"AE7/(AG4-AE8)","v":0.5},{"$f":"IF(AF7=0,0,(AF7*((LOG(AF7))/LOG(2))))","v":-0.5},null,{"$f":"N7","v":11},{"$f":"COUNTIF(L36:L45,AI7)","v":5},{"$f":"AJ7/(AL4-AJ8)","v":0.625},{"$f":"IF(AK7=0,0,(AK7*((LOG(AK7))/LOG(2))))","v":-0.42379494069539858},null,{"$f":"N7","v":11},{"$f":"COUNTIF(L46:L55,AN7)","v":4},{"$f":"AO7/(AQ4-AO8)","v":0.66666666666666663},{"$f":"IF(AP7=0,0,(AP7*((LOG(AP7))/LOG(2))))","v":-0.38997500048077083},null,{"$f":"N7","v":11},{"$f":"COUNTIF(L56:L65,AS7)","v":3},{"$f":"AT7/(AV4-AT8)","v":0.5},{"$f":"IF(AU7=0,0,(AU7*((LOG(AU7))/LOG(2))))","v":-0.5}]
[12,183,24,193,13,207,23,216,13,251,0,12,null,12,{"$f":"COUNTIF($L$7:$L$500,N8)","v":21},{"$f":"O8/$Q$4","v":0.3559322033898305},{"$f":"IF(P8=0,0,(P8*((LOG(P8))/LOG(2))))","v":-0.53045488403804575},null,null,{"$f":"N8","v":12},{"$f":"COUNTIF(L7:L16,T8)","v":4},null,null,null,{"$f":"N8","v":12},{"$f":"COUNTIF(L17:L26,Y8)","v":2},null,null,null,{"$f":"N8","v":12},{"$f":"COUNTIF(L27:L35,AD8)","v":5},null,null,null,{"$f":"N8","v":12},{"$f":"COUNTIF(L36:L45,AI8)","v":2},null,null,null,{"$f":"N8","v":12},{"$f":"COUNTIF(L46:L55,AN8)","v":4},null,null,null,{"$f":"N8","v":12},{"$f":"COUNTIF(L56:L65,AS8)","v":4}]
[12,363,13,378,24,388,14,398,24,426,0,11,null,21,{"$f":"COUNTIF($L$7:$L$500,N9)","v":10},{"$f":"O9/$Q$4","v":0.16949152542372881},{"$f":"IF(P9=0,0,(P9*((LOG(P9))/LOG(2))))","v":-0.43401948380923372},null,null,{"$f":"N9","v":21},{"$f":"COUNTIF(L7:L16,T9)","v":2},{"$f":"U9/(W4-U8)","v":0.33333333333333331},{"$f":"IF(V9=0,0,(V9*((LOG(V9))/LOG(2))))","v":-0.52832083357371862},null,{"$f":"N9","v":21},{"$f":"COUNTIF(L17:L26,Y9)","v":0},{"$f":"Z9/(AB4-Z8)","v":0},{"$f":"IF(AA9=0,0,(AA9*((LOG(AA9))/LOG(2))))","v":0},null,{"$f":"N9","v":21},{"$f":"COUNTIF(L27:L35,AD9)","v":2},{"$f":"AE9/(AG4-AE8)","v":0.5},{"$f":"IF(AF9=0,0,(AF9*((LOG(AF9))/LOG(2))))","v":-0.5},null,{"$f":"N9","v":21},{"$f":"COUNTIF(L36:L45,AI9)","v":3},{"$f":"AJ9/(AL4-AJ8)","v":0.375},{"$f":"IF(AK9=0,0,(AK9*((LOG(AK9))/LOG(2))))","v":-0.53063906222956647},null,{"$f":"N9","v":21},{"$f":"COUNTIF(L46:L55,AN9)","v":1},{"$f":"AO9/(AQ4-AO8)","v":0.16666666666666666},{"$f":"IF(AP9=0,0,(AP9*((LOG(AP9))/LOG(2))))","v":-0.43082708345352599},null,{"$f":"N9","v":21},{"$f":"COUNTIF(L56:L65,AS9)","v":2},{"$f":"AT9/(AV4-AT8)","v":0.33333333333333331},{"$f":"IF(AU9=0,0,(AU9*((LOG(AU9))/LOG(2))))","v":-0.52832083357371862}]
[12,547,24,580,13,590,23,599,13,610,0,12,null,22,{"$f":"COUNTIF($L$7:$L$500,N10)","v":4},{"$f":"O10/$Q$4","v":6.7796610169491525E-2},{"$f":"IF(P10=0,0,(P10*((LOG(P10))/LOG(2))))","v":-0.2632300372448706},null,null,{"$f":"N10","v":22},{"$f":"COUNTIF(L7:L16,T10)","v":1},{"$f":"U10/(W4-U8)","v":0.16666666666666666},{"$f":"IF(V10=0,0,(V10*((LOG(V10))/LOG(2))))","v":-0.43082708345352599},null,{"$f":"N10","v":22},{"$f":"COUNTIF(L17:L26,Y10)","v":1},{"$f":"Z10/(AB4-Z8)","v":0.125},{"$f":"IF(AA10=0,0,(AA10*((LOG(AA10))/LOG(2))))","v":-0.375},null,{"$f":"N10","v":22},{"$f":"COUNTIF(L27:L35,AD10)","v":0},{"$f":"AE10/(AG4-AE8)","v":0},{"$f":"IF(AF10=0,0,(AF10*((LOG(AF10))/LOG(2))))","v":0},null,{"$f":"N10","v":22},{"$f":"COUNTIF(L36:L45,AI10)","v":0},{"$f":"AJ10/(AL4-AJ8)","v":0},{"$f":"IF(AK10=0,0,(AK10*((LOG(AK10))/LOG(2))))","v":0},null,{"$f":"N10","v":22},{"$f":"COUNTIF(L46:L55,AN10)","v":1},{"$f":"AO10/(AQ4-AO8)","v":0.16666666666666666},{"$f":"IF(AP10=0,0,(AP10*((LOG(AP10))/LOG(2))))","v":-0.43082708345352599},null,{"$f":"N10","v":22},{"$f":"COUNTIF(L56:L65,AS10)","v":1},{"$f":"AT10/(AV4-AT8)","v":0.16666666666666666},{"$f":"IF(AU10=0,0,(AU10*((LOG(AU10))/LOG(2))))","v":-0.43082708345352599}]
[12,740,13,750,24,759,14,769,24,778,0,11,null,null,null,null,null,null,null,{"$f":"N11","v":0},{"$f":"COUNTIF(L7:L16,T11)","v":0},{"$f":"U11/(W4-U8)","v":0},{"$f":"IF(V11=0,0,(V11*((LOG(V11))/LOG(2))))","v":0},null,{"$f":"N11","v":0},{"$f":"COUNTIF(L17:L26,Y11)","v":0},{"$f":"Z11/(AB4-Z8)","v":0},{"$f":"IF(AA11=0,0,(AA11*((LOG(AA11))/LOG(2))))","v":0},null,{"$f":"N11","v":0},{"$f":"COUNTIF(L27:L35,AD11)","v":0},{"$f":"AE11/(AG4-AE8)","v":0},{"$f":"IF(AF11=0,0,(AF11*((LOG(AF11))/LOG(2))))","v":0},null,{"$f":"N11","v":0},{"$f":"COUNTIF(L36:L45,AI11)","v":0},{"$f":"AJ11/(AL4-AJ8)","v":0},{"$f":"IF(AK11=0,0,(AK11*((LOG(AK11))/LOG(2))))","v":0},null,{"$f":"N11","v":0},{"$f":"COUNTIF(L46:L55,AN11)","v":0},{"$f":"AO11/(AQ4-AO8)","v":0},{"$f":"IF(AP11=0,0,(AP11*((LOG(AP11))/LOG(2))))","v":0},null,{"$f":"N11","v":0},{"$f":"COUNTIF(L56:L65,AS11)","v":0},{"$f":"AT11/(AV4-AT8)","v":0},{"$f":"IF(AU11=0,0,(AU11*((LOG(AU11))/LOG(2))))","v":0}]
[21,909,22,925,13,938,23,947,13,956,0,22,null,null,null,null,null,null,null,{"$f":"N12","v":0},{"$f":"COUNTIF(L7:L16,T12)","v":0},{"$f":"U12/(W4-U8)","v":0},{"$f":"IF(V12=0,0,(V12*((LOG(V12))/LOG(2))))","v":0},null,{"$f":"N12","v":0},{"$f":"COUNTIF(L17:L26,Y12)","v":0},{"$f":"Z12/(AB4-Z8)","v":0},{"$f":"IF(AA12=0,0,(AA12*((LOG(AA12))/LOG(2))))","v":0},null,{"$f":"N12","v":0},{"$f":"COUNTIF(L27:L35,AD12)","v":0},{"$f":"AE12/(AG4-AE8)","v":0},{"$f":"IF(AF12=0,0,(AF12*((LOG(AF12))/LOG(2))))","v":0},null,{"$f":"N12","v":0},{"$f":"COUNTIF(L36:L45,AI12)","v":0},{"$f":"AJ12/(AL4-AJ8)","v":0},{"$f":"IF(AK12=0,0,(AK12*((LOG(AK12))/LOG(2))))","v":0},null,{"$f":"N12","v":0},{"$f":"COUNTIF(L46:L55,AN12)","v":0},{"$f":"AO12/(AQ4-AO8)","v":0},{"$f":"IF(AP12=0,0,(AP12*((LOG(AP12))/LOG(2))))","v":0},null,{"$f":"N12","v":0},{"$f":"COUNTIF(L56:L65,AS12)","v":0},{"$f":"AT12/(AV4-AT8)","v":0},{"$f":"IF(AU12=0,0,(AU12*((LOG(AU12))/LOG(2))))","v":0}]
[12,1077,13,1097,24,1107,14,1117,24,1126,0,11,null,null,null,null,null,null,null,{"$f":"N13","v":0},{"$f":"COUNTIF(L7:L16,T13)","v":0},{"$f":"U13/(W4-U8)","v":0},{"$f":"IF(V13=0,0,(V13*((LOG(V13))/LOG(2))))","v":0},null,{"$f":"N13","v":0},{"$f":"COUNTIF(L17:L26,Y13)","v":0},{"$f":"Z13/(AB4-Z8)","v":0},{"$f":"IF(AA13=0,0,(AA13*((LOG(AA13))/LOG(2))))","v":0},null,{"$f":"N13","v":0},{"$f":"COUNTIF(L27:L35,AD13)","v":0},{"$f":"AE13/(AG4-AE8)","v":0},{"$f":"IF(AF13=0,0,(AF13*((LOG(AF13))/LOG(2))))","v":0},null,{"$f":"N13","v":0},{"$f":"COUNTIF(L36:L45,AI13)","v":0},{"$f":"AJ13/(AL4-AJ8)","v":0},{"$f":"IF(AK13=0,0,(AK13*((LOG(AK13))/LOG(2))))","v":0},null,{"$f":"N13","v":0},{"$f":"COUNTIF(L46:L55,AN13)","v":0},{"$f":"AO13/(AQ4-AO8)","v":0},{"$f":"IF(AP13=0,0,(AP13*((LOG(AP13))/LOG(2))))","v":0},null,{"$f":"N13","v":0},{"$f":"COUNTIF(L56:L65,AS13)","v":0},{"$f":"AT13/(AV4-AT8)","v":0},{"$f":"IF(AU13=0,0,(AU13*((LOG(AU13))/LOG(2))))","v":0}]
[21,1239,11,1246,11,1265,21,1275,11,1285,1,21,null,null,null,null,null,null,null,{"$f":"N14","v":0},{"$f":"COUNTIF(L7:L16,T14)","v":0},{"$f":"U14/(W4-U8)","v":0},{"$f":"IF(V14=0,0,(V14*((LOG(V14))/LOG(2))))","v":0},null,{"$f":"N14","v":0},{"$f":"COUNTIF(L17:L26,Y14)","v":0},{"$f":"Z14/(AB4-Z8)","v":0},{"$f":"IF(AA14=0,0,(AA14*((LOG(AA14))/LOG(2))))","v":0},null,{"$f":"N14","v":0},{"$f":"COUNTIF(L27:L35,AD14)","v":0},{"$f":"AE14/(AG4-AE8)","v":0},{"$f":"IF(AF14=0,0,(AF14*((LOG(AF14))/LOG(2))))","v":0},null,{"$f":"N14","v":0},{"$f":"COUNTIF(L36:L45,AI14)","v":0},{"$f":"AJ14/(AL4-AJ8)","v":0},{"$f":"IF(AK14=0,0,(AK14*((LOG(AK14))/LOG(2))))","v":0},null,{"$f":"N14","v":0},{"$f":"COUNTIF(L46:L55,AN14)","v":0},{"$f":"AO14/(AQ4-AO8)","v":0},{"$f":"IF(AP14=0,0,(AP14*((LOG(AP14))/LOG(2))))","v":0},null,{"$f":"N14","v":0},{"$f":"COUNTIF(L56:L65,AS14)","v":0},{"$f":"AT14/(AV4-AT8)","v":0},{"$f":"IF(AU14=0,0,(AU14*((LOG(AU14))/LOG(2))))","v":0}]
[12,1409,24,1423,24,1447,14,1462,24,1472,0,12,null,null,null,{"$f":"SUM(P7:P14)","v":1},{"$f":"-SUM(Q7:Q14)","v":1.7555744587764965},null,null,null,null,{"$f":"SUM(V7:V14)","v":0.99999999999999989},{"$f":"-SUM(W7:W14)","v":1.4591479170272446},null,null,null,{"$f":"SUM(AA7:AA14)","v":1},{"$f":"-SUM(AB7:AB14)","v":0.5435644431995964},null,null,null,{"$f":"SUM(AF7:AF14)","v":1},{"$f":"-SUM(AG7:AG14)","v":1},null,null,null,{"$f":"SUM(AK7:AK14)","v":1},{"$f":"-SUM(AL7:AL14)","v":0.95443400292496505},null,null,null,{"$f":"SUM(AP7:AP14)","v":0.99999999999999989},{"$f":"-SUM(AQ7:AQ14)","v":1.2516291673878228},null,null,null,{"$f":"SUM(AU7:AU14)","v":0.99999999999999989},{"$f":"-SUM(AV7:AV14)","v":1.4591479170272446}]
[12,1578,24,1591,24,1615,14,1629,24,1640,0,12,null,null,null,"U=",{"$f":"Q15/(LOG(Q4)/LOG(2))","v":0.29843293975944096},null,null,null,null,"U1=",{"$f":"W15/(LOG(W4)/LOG(2))","v":0.43924729113581862},null,null,null,"U2=",{"$f":"AB15/(LOG(AB4)/LOG(2))","v":0.16362920197946887},null,null,null,"U3=",{"$f":"AG15/(LOG(AG4)/LOG(2))","v":0.31546487678572877},null,null,null,"U4=",{"$f":"AL15/(LOG(AL4)/LOG(2))","v":0.28731326376205846},null,null,null,"U5=",{"$f":"AQ15/(LOG(AQ4)/LOG(2))","v":0.37677792283166872},null,null,null,"U6=",{"$f":"AV15/(LOG(AV4)/LOG(2))","v":0.43924729113581862}]
[12,1746,13,1759,13,1778,23,1786,24,1811,0,11]
[12,1919,24,1926,24,1943,23,1965,13,1978,0,12]
[12,2081,13,2090,24,2097,23,2116,13,2131,0,11,null,"Total Target Seq"]
[12,2233,13,2242,13,2256,23,2265,13,2275,0,11,null,{"$f":"COUNTIF(L7:L65,G3)","v":21},null,10,10,9,10,10,10]
[12,2379,13,2398,24,2406,14,2418,24,2430,0,11,null,null,null,"% of reinforcement given in 6 equal intervals based on number of trials "]
[12,2532,13,2542,13,2558,23,2568,13,2582,0,11,null,null,null,"%_1","%_2","%_3","%_4","%_5","%_6"]
[12,2695,13,2715,13,2723,23,2733,13,2748,0,11,null,null,"target sequence",{"$f":"$G$3","v":12},{"$f":"$G$3","v":12},{"$f":"$G$3","v":12},{"$f":"$G$3","v":12},{"$f":"$G$3","v":12},{"$f":"$G$3","v":12}]
[12,2886,24,2902,13,2911,23,2921,13,2932,0,12,null,null,"total reinforcement",{"$f":"U8","v":4},{"$f":"Z8","v":2},{"$f":"AE8","v":5},{"$f":"AJ8","v":2},{"$f":"AO8","v":4},{"$f":"AT8","v":4}]
[21,3058,22,3078,13,3088,23,3099,24,3119,0,22,null,null,"% target"]
[12,3229,13,3247,24,3254,14,3263,24,3272,0,11,null,null,"CCRF"]
[12,3385,13,3393,24,3402,14,3413,13,3452,0,11,null,null,"% CCRf"]
[21,3841,11,3850,22,3859,14,3868,24,3878,0,21,null,null,"average response rate",{"$f":"D16/P20","v":159.1},{"$f":"(D26-D16)/Q20","v":165.6},{"$f":"(D35-D26)/R20","v":219.55555555555554},{"$f":"(D45-D35)/S20","v":208.2},{"$f":"(D55-D45)/T20","v":392},{"$f":"(D65-D55)/U20","v":1059.5999999999999}]
[12,4006,24,4012,24,4029,14,4039,24,4049,0,12]
[12,4171,13,4180,13,4194,23,4205,13,4215,0,11]
[12,4327,24,4340,13,4349,23,4358,13,4371,0,12]
[12,4501,24,4509,13,4518,23,4528,24,4547,0,12]
[12,4705,24,4714,13,4723,23,4732,13,4742,0,12]
[21,5036,11,5046,22,5055,14,5069,24,5082,0,21]
[12,5214,24,5223,13,5233,23,5244,13,5259,0,12]
[12,5363,24,5375,13,5383,23,5390,13,5401,0,12]
[21,5573,11,5582,22,5592,14,5607,24,5617,0,21]
[12,5729,13,5751,24,5761,14,5773,24,5783,0,11]
[21,5930,11,5941,22,5950,14,5959,24,5969,0,21]
[12,6292,13,6303,24,6313,14,6328,24,6339,0,11]
[12,6452,13,6461,13,6475,14,6490,24,6499,0,11]
[21,6682,11,6695,22,6708,14,6719,24,6730,0,21]
[12,6857,24,6869,24,6887,14,6900,24,6919,0,12]
[12,7087,13,7107,24,7116,14,7131,24,7144,0,11]
[12,7296,13,7305,13,7317,14,7328,13,7344,0,11]
[21,7491,11,7500,22,7509,14,7523,24,7534,0,21]
[12,7845,24,7851,24,7868,14,7879,24,7889,0,12]
[12,8037,24,8060,13,8071,23,8081,24,8100,0,12]
[12,8326,13,8336,13,8348,23,8358,13,8368,0,11]
[12,8554,24,8563,13,8633,23,8643,24,8666,0,12]
[12,8809,13,8827,13,8847,23,8857,13,8870,0,11]
[12,9052,13,9071,24,9108,14,9122,24,9131,0,11]
[21,9463,22,9485,24,9516,14,9532,24,9542,0,22]
[12,10638,13,10647,24,10662,23,10704,13,10716,0,11]
[12,10981,24,11225,24,11254,14,11292,24,11303,0,12]
[21,11440,11,11685,22,11695,14,11724,24,11734,0,21]
[12,11924,24,11950,24,11966,23,11976,13,11987,0,12]
[12,12186,24,12197,24,12247,14,12263,24,12273,0,12]
[12,12545,13,12553,24,12564,14,12580,24,12589,0,11]
[21,13791,22,13805,24,13818,14,13871,24,13882,0,22]
[12,16481,13,19468,13,19477,14,19498,13,19508,0,11]
[12,20046,24,20059,13,20072,23,20085,24,20114,0,12]
[21,20245,11,20271,22,20305,14,20321,24,20331,0,21]
[12,21253,24,21266,24,21282,23,21307,13,21328,0,12]
[12,21810,13,21821,null,null,null,null,null,null,null,11]

{"sheet":"!N105A10.105","index":38,"n_rows":28,"n_cols":48,"rows_kept":28,"cut":false,"hidden":false,"merged":[[4,39,4,42],[5,39,5,40],[4,44,4,47],[5,44,5,45],[4,24,4,27],[5,24,5,25],[4,29,4,32],[5,29,5,30],[4,34,4,37],[5,34,5,35],[1,1,1,2],[5,13,5,14],[18,13,18,14],[19,13,19,14],[4,19,4,22],[5,19,5,20]]}
["Report for:!N105A10.105"]
["Date:","<date>"]
["Hen:","<hen>",null,null,null,"Correct Sequence",{"$f":"Start!J2","v":12},null,null,null,null,null,null,null,null,"Total Sequences in Data",{"$f":"4994-COUNTBLANK(L7:L5000)","v":20},null,null,null,null,"Total Sequences in Block Data",{"$f":"COUNTA(L7:L9)","v":3},null,null,null,"Total Sequences in Block Data",{"$f":"COUNTA(L10:L13)","v":4},null,null,null,"Total Sequences in Block Data",{"$f":"COUNTA(L14:L16)","v":3},null,null,null,"Total Sequences in Block Data",{"$f":"COUNTA(L17:L19)","v":3},null,null,null,"Total Sequences in Block Data",{"$f":"COUNTA(L20:L23)","v":4},null,null,null,"Total Sequences in Block Data",{"$f":"COUNTA(L24:L26)","v":3}]
[null,null,null,null,null,null,null,null,null,null,null,null,null,null,null,"Total Sequences in Summary",{"$f":"SUM(O7:O14)","v":20},null,null,null,null,"Total Sequences in Block Summary",{"$f":"SUM(U7:U14)","v":3},null,null,null,"Total Sequences in Block Summary",{"$f":"SUM(Z7:Z14)","v":4},null,null,null,"Total Sequences in Block Summary",{"$f":"SUM(AE7:AE14)","v":3},null,null,null,"Total Sequences in Block Summary",{"$f":"SUM(AJ7:AJ14)","v":3},null,null,null,"Total Sequences in Block Summary",{"$f":"SUM(AO7:AO14)","v":4},null,null,null,"Total Sequences in Block Summary",{"$f":"SUM(AT7:AT14)","v":3}]
[null,null,null,null,null,null,null,null,null,null,null,null,null,null,null,null,null,null,null,"Block 1",null,null,null,null,"Block 2",null,null,null,null,"Block 3",null,null,null,null,"Block 4",null,null,null,null,"Block 5",null,null,null,null,"Block 6"]
["Sequence\nComponent\n1","Time\n1","Sequence\nComponent\n2","Time\n2","Sequence\nComponent\n3","Time\n3","Sequence\nComponent\n4","Time\n4","Sequence\nComponent\n5","Time\n5","Correct?\n0=No 1=Yes","Sequence",null,"Frequency",null,"Relative Frequency","Variability",null,null,"Frequency",null,"Relative Frequency","Variability",null,"Frequency",null,"Relative Frequency","Variability",null,"Frequency",null,"Relative Frequency","Variability",null,"Frequency",null,"Relative Frequency","Variability",null,"Frequency",null,"Relative Frequency","Variability",null,"Frequency",null,"Relative Frequency","Variability"]
[21,31,22,52,24,76,23,84,24,114,0,22,null,11,{"$f":"COUNTIF($L$7:$L$500,N7)","v":2},{"$f":"O7/$Q$4","v":0.1},{"$f":"IF(P7=0,0,(P7*((LOG(P7))/LOG(2))))","v":-0.33219280948873625},null,null,{"$f":"N7","v":11},{"$f":"COUNTIF(L7:L9,T7)","v":0},{"$f":"U7/(W4-U8)","v":0},{"$f":"IF(V7=0,0,(V7*((LOG(V7))/LOG(2))))","v":0},null,{"$f":"N7","v":11},{"$f":"COUNTIF(L10:L13,Y7)","v":1},{"$f":"Z7/(AB4-Z8)","v":0.25},{"$f":"IF(AA7=0,0,(AA7*((LOG(AA7))/LOG(2))))","v":-0.5},null,{"$f":"N7","v":11},{"$f":"COUNTIF(L14:L16,AD7)","v":0},{"$f":"AE7/(AG4-AE8)","v":0},{"$f":"IF(AF7=0,0,(AF7*((LOG(AF7))/LOG(2))))","v":0},null,{"$f":"N7","v":11},{"$f":"COUNTIF(L17:L19,AI7)","v":0},{"$f":"AJ7/(AL4-AJ8)","v":{"$error":"#DIV/0!"}},{"$f":"IF(AK7=0,0,(AK7*((LOG(AK7))/LOG(2))))","v":{"$error":"#DIV/0!"}},null,{"$f":"N7","v":11},{"$f":"COUNTIF(L20:L23,AN7)","v":1},{"$f":"AO7/(AQ4-AO8)","v":0.5},{"$f":"IF(AP7=0,0,(AP7*((LOG(AP7))/LOG(2))))","v":-0.5},null,{"$f":"N7","v":11},{"$f":"COUNTIF(L24:L26,AS7)","v":0},{"$f":"AT7/(AV4-AT8)","v":0},{"$f":"IF(AU7=0,0,(AU7*((LOG(AU7))/LOG(2))))","v":0}]
[12,231,24,240,24,258,14,280,24,290,0,12,null,12,{"$f":"COUNTIF($L$7:$L$500,N8)","v":10},{"$f":"O8/$Q$4","v":0.5},{"$f":"IF(P8=0,0,(P8*((LOG(P8))/LOG(2))))","v":-0.5},null,null,{"$f":"N8","v":12},{"$f":"COUNTIF(L7:L9,T8)","v":2},null,null,null,{"$f":"N8","v":12},{"$f":"COUNTIF(L10:L13,Y8)","v":0},null,null,null,{"$f":"N8","v":12},{"$f":"COUNTIF(L14:L16,AD8)","v":2},null,null,null,{"$f":"N8","v":12},{"$f":"COUNTIF(L17:L19,AI8)","v":3},null,null,null,{"$f":"N8","v":12},{"$f":"COUNTIF(L20:L23,AN8)","v":2},null,null,null,{"$f":"N8","v":12},{"$f":"COUNTIF(L24:L26,AS8)","v":1}]
[12,393,24,455,13,470,14,480,13,543,0,12,null,21,{"$f":"COUNTIF($L$7:$L$500,N9)","v":3},{"$f":"O9/$Q$4","v":0.15},{"$f":"IF(P9=0,0,(P9*((LOG(P9))/LOG(2))))","v":-0.41054483912493089},null,null,{"$f":"N9","v":21},{"$f":"COUNTIF(L7:L9,T9)","v":0},{"$f":"U9/(W4-U8)","v":0},{"$f":"IF(V9=0,0,(V9*((LOG(V9))/LOG(2))))","v":0},null,{"$f":"N9","v":21},{"$f":"COUNTIF(L10:L13,Y9)","v":2},{"$f":"Z9/(AB4-Z8)","v":0.5},{"$f":"IF(AA9=0,0,(AA9*((LOG(AA9))/LOG(2))))","v":-0.5},null,{"$f":"N9","v":21},{"$f":"COUNTIF(L14:L16,AD9)","v":0},{"$f":"AE9/(AG4-AE8)","v":0},{"$f":"IF(AF9=0,0,(AF9*((LOG(AF9))/LOG(2))))","v":0},null,{"$f":"N9","v":21},{"$f":"COUNTIF(L17:L19,AI9)","v":0},{"$f":"AJ9/(AL4-AJ8)","v":{"$error":"#DIV/0!"}},{"$f":"IF(AK9=0,0,(AK9*((LOG(AK9))/LOG(2))))","v":{"$error":"#DIV/0!"}},null,{"$f":"N9","v":21},{"$f":"COUNTIF(L20:L23,AN9)","v":0},{"$f":"AO9/(AQ4-AO8)","v":0},{"$f":"IF(AP9=0,0,(AP9*((LOG(AP9))/LOG(2))))","v":0},null,{"$f":"N9","v":21},{"$f":"COUNTIF(L24:L26,AS9)","v":1},{"$f":"AT9/(AV4-AT8)","v":0.5},{"$f":"IF(AU9=0,0,(AU9*((LOG(AU9))/LOG(2))))","v":-0.5}]
[12,651,13,666,13,677,14,726,13,757,0,11,null,22,{"$f":"COUNTIF($L$7:$L$500,N10)","v":5},{"$f":"O10/$Q$4","v":0.25},{"$f":"IF(P10=0,0,(P10*((LOG(P10))/LOG(2))))","v":-0.5},null,null,{"$f":"N10","v":22},{"$f":"COUNTIF(L7:L9,T10)","v":1},{"$f":"U10/(W4-U8)","v":1},{"$f":"IF(V10=0,0,(V10*((LOG(V10))/LOG(2))))","v":0},null,{"$f":"N10","v":22},{"$f":"COUNTIF(L10:L13,Y10)","v":1},{"$f":"Z10/(AB4-Z8)","v":0.25},{"$f":"IF(AA10=0,0,(AA10*((LOG(AA10))/LOG(2))))","v":-0.5},null,{"$f":"N10","v":22},{"$f":"COUNTIF(L14:L16,AD10)","v":1},{"$f":"AE10/(AG4-AE8)","v":1},{"$f":"IF(AF10=0,0,(AF10*((LOG(AF10))/LOG(2))))","v":0},null,{"$f":"N10","v":22},{"$f":"COUNTIF(L17:L19,AI10)","v":0},{"$f":"AJ10/(AL4-AJ8)","v":{"$error":"#DIV/0!"}},{"$f":"IF(AK10=0,0,(AK10*((LOG(AK10))/LOG(2))))","v":{"$error":"#DIV/0!"}},null,{"$f":"N10","v":22},{"$f":"COUNTIF(L20:L23,AN10)","v":1},{"$f":"AO10/(AQ4-AO8)","v":0.5},{"$f":"IF(AP10=0,0,(AP10*((LOG(AP10))/LOG(2))))","v":-0.5},null,{"$f":"N10","v":22},{"$f":"COUNTIF(L24:L26,AS10)","v":1},{"$f":"AT10/(AV4-AT8)","v":0.5},{"$f":"IF(AU10=0,0,(AU10*((LOG(AU10))/LOG(2))))","v":-0.5}]
[21,962,11,973,22,982,23,995,24,1014,0,21,null,null,null,null,null,null,null,{"$f":"N11","v":0},{"$f":"COUNTIF(L7:L9,T11)","v":0},{"$f":"U11/(W4-U8)","v":0},{"$f":"IF(V11=0,0,(V11*((LOG(V11))/LOG(2))))","v":0},null,{"$f":"N11","v":0},{"$f":"COUNTIF(L10:L13,Y11)","v":0},{"$f":"Z11/(AB4-Z8)","v":0},{"$f":"IF(AA11=0,0,(AA11*((LOG(AA11))/LOG(2))))","v":0},null,{"$f":"N11","v":0},{"$f":"COUNTIF(L14:L16,AD11)","v":0},{"$f":"AE11/(AG4-AE8)","v":0},{"$f":"IF(AF11=0,0,(AF11*((LOG(AF11))/LOG(2))))","v":0},null,{"$f":"N11","v":0},{"$f":"COUNTIF(L17:L19,AI11)","v":0},{"$f":"AJ11/(AL4-AJ8)","v":{"$error":"#DIV/0!"}},{"$f":"IF(AK11=0,0,(AK11*((LOG(AK11))/LOG(2))))","v":{"$error":"#DIV/0!"}},null,{"$f":"N11","v":0},{"$f":"COUNTIF(L20:L23,AN11)","v":0},{"$f":"AO11/(AQ4-AO8)","v":0},{"$f":"IF(AP11=0,0,(AP11*((LOG(AP11))/LOG(2))))","v":0},null,{"$f":"N11","v":0},{"$f":"COUNTIF(L24:L26,AS11)","v":0},{"$f":"AT11/(AV4-AT8)","v":0},{"$f":"IF(AU11=0,0,(AU11*((LOG(AU11))/LOG(2))))","v":0}]
[21,1160,11,1170,22,1176,23,1196,24,1206,0,21,null,null,null,null,null,null,null,{"$f":"N12","v":0},{"$f":"COUNTIF(L7:L9,T12)","v":0},{"$f":"U12/(W4-U8)","v":0},{"$f":"IF(V12=0,0,(V12*((LOG(V12))/LOG(2))))","v":0},null,{"$f":"N12","v":0},{"$f":"COUNTIF(L10:L13,Y12)","v":0},{"$f":"Z12/(AB4-Z8)","v":0},{"$f":"IF(AA12=0,0,(AA12*((LOG(AA12))/LOG(2))))","v":0},null,{"$f":"N12","v":0},{"$f":"COUNTIF(L14:L16,AD12)","v":0},{"$f":"AE12/(AG4-AE8)","v":0},{"$f":"IF(AF12=0,0,(AF12*((LOG(AF12))/LOG(2))))","v":0},null,{"$f":"N12","v":0},{"$f":"COUNTIF(L17:L19,AI12)","v":0},{"$f":"AJ12/(AL4-AJ8)","v":{"$error":"#DIV/0!"}},{"$f":"IF(AK12=0,0,(AK12*((LOG(AK12))/LOG(2))))","v":{"$error":"#DIV/0!"}},null,{"$f":"N12","v":0},{"$f":"COUNTIF(L20:L23,AN12)","v":0},{"$f":"AO12/(AQ4-AO8)","v":0},{"$f":"IF(AP12=0,0,(AP12*((LOG(AP12))/LOG(2))))","v":0},null,{"$f":"N12","v":0},{"$f":"COUNTIF(L24:L26,AS12)","v":0},{"$f":"AT12/(AV4-AT8)","v":0},{"$f":"IF(AU12=0,0,(AU12*((LOG(AU12))/LOG(2))))","v":0}]
[21,1359,22,1407,13,1426,23,1437,24,1448,0,22,null,null,null,null,null,null,null,{"$f":"N13","v":0},{"$f":"COUNTIF(L7:L9,T13)","v":0},{"$f":"U13/(W4-U8)","v":0},{"$f":"IF(V13=0,0,(V13*((LOG(V13))/LOG(2))))","v":0},null,{"$f":"N13","v":0},{"$f":"COUNTIF(L10:L13,Y13)","v":0},{"$f":"Z13/(AB4-Z8)","v":0},{"$f":"IF(AA13=0,0,(AA13*((LOG(AA13))/LOG(2))))","v":0},null,{"$f":"N13","v":0},{"$f":"COUNTIF(L14:L16,AD13)","v":0},{"$f":"AE13/(AG4-AE8)","v":0},{"$f":"IF(AF13=0,0,(AF13*((LOG(AF13))/LOG(2))))","v":0},null,{"$f":"N13","v":0},{"$f":"COUNTIF(L17:L19,AI13)","v":0},{"$f":"AJ13/(AL4-AJ8)","v":{"$error":"#DIV/0!"}},{"$f":"IF(AK13=0,0,(AK13*((LOG(AK13))/LOG(2))))","v":{"$error":"#DIV/0!"}},null,{"$f":"N13","v":0},{"$f":"COUNTIF(L20:L23,AN13)","v":0},{"$f":"AO13/(AQ4-AO8)","v":0},{"$f":"IF(AP13=0,0,(AP13*((LOG(AP13))/LOG(2))))","v":0},null,{"$f":"N13","v":0},{"$f":"COUNTIF(L24:L26,AS13)","v":0},{"$f":"AT13/(AV4-AT8)","v":0},{"$f":"IF(AU13=0,0,(AU13*((LOG(AU13))/LOG(2))))","v":0}]
[12,1579,24,1585,13,1595,23,1605,13,1619,0,12,null,null,null,null,null,null,null,{"$f":"N14","v":0},{"$f":"COUNTIF(L7:L9,T14)","v":0},{"$f":"U14/(W4-U8)","v":0},{"$f":"IF(V14=0,0,(V14*((LOG(V14))/LOG(2))))","v":0},null,{"$f":"N14","v":0},{"$f":"COUNTIF(L10:L13,Y14)","v":0},{"$f":"Z14/(AB4-Z8)","v":0},{"$f":"IF(AA14=0,0,(AA14*((LOG(AA14))/LOG(2))))","v":0},null,{"$f":"N14","v":0},{"$f":"COUNTIF(L14:L16,AD14)","v":0},{"$f":"AE14/(AG4-AE8)","v":0},{"$f":"IF(AF14=0,0,(AF14*((LOG(AF14))/LOG(2))))","v":0},null,{"$f":"N14","v":0},{"$f":"COUNTIF(L17:L19,AI14)","v":0},{"$f":"AJ14/(AL4-AJ8)","v":{"$error":"#DIV/0!"}},{"$f":"IF(AK14=0,0,(AK14*((LOG(AK14))/LOG(2))))","v":{"$error":"#DIV/0!"}},null,{"$f":"N14","v":0},{"$f":"COUNTIF(L20:L23,AN14)","v":0},{"$f":"AO14/(AQ4-AO8)","v":0},{"$f":"IF(AP14=0,0,(AP14*((LOG(AP14))/LOG(2))))","v":0},null,{"$f":"N14","v":0},{"$f":"COUNTIF(L24:L26,AS14)","v":0},{"$f":"AT14/(AV4-AT8)","v":0},{"$f":"IF(AU14=0,0,(AU14*((LOG(AU14))/LOG(2))))","v":0}]
[12,1756,24,1778,13,1793,23,1803,24,1817,0,12,null,null,null,{"$f":"SUM(P7:P14)","v":1},{"$f":"-SUM(Q7:Q14)","v":1.7427376486136672},null,null,null,null,{"$f":"SUM(V7:V14)","v":1},{"$f":"-SUM(W7:W14)","v":0},null,null,null,{"$f":"SUM(AA7:AA14)","v":1},{"$f":"-SUM(AB7:AB14)","v":1.5},null,null,null,{"$f":"SUM(AF7:AF14)","v":1},{"$f":"-SUM(AG7:AG14)","v":0},null,null,null,{"$f":"SUM(AK7:AK14)","v":{"$error":"#DIV/0!"}},{"$f":"-SUM(AL7:AL14)","v":{"$error":"#DIV/0!"}},null,null,null,{"$f":"SUM(AP7:AP14)","v":1},{"$f":"-SUM(AQ7:AQ14)","v":1},null,null,null,{"$f":"SUM(AU7:AU14)","v":1},{"$f":"-SUM(AV7:AV14)","v":1}]
[21,1928,22,1960,13,1981,23,1990,13,2003,0,22,null,null,null,"U=",{"$f":"Q15/(LOG(Q4)/LOG(2))","v":0.40323152314247057},null,null,null,null,"U1=",{"$f":"W15/(LOG(W4)/LOG(2))","v":0},null,null,null,"U2=",{"$f":"AB15/(LOG(AB4)/LOG(2))","v":0.75},null,null,null,"U3=",{"$f":"AG15/(LOG(AG4)/LOG(2))","v":0},null,null,null,"U4=",{"$f":"AL15/(LOG(AL4)/LOG(2))","v":{"$error":"#DIV/0!"}},null,null,null,"U5=",{"$f":"AQ15/(LOG(AQ4)/LOG(2))","v":0.5},null,null,null,"U6=",{"$f":"AV15/(LOG(AV4)/LOG(2))","v":0.63092975357145753}]
[12,2172,24,2199,13,2215,14,2240,24,2272,0,12]
[12,2396,24,2406,24,2427,23,2448,24,2460,0,12]
[12,2614,24,2625,24,2637,23,2897,24,4136,0,12,null,"Total Target Seq"]
[21,4289,22,4531,13,4556,23,4635,13,4690,0,22,null,{"$f":"COUNTIF(L7:L26,G3)","v":10},null,3,4,3,3,4,3]
[12,4887,24,4918,13,4932,23,4971,13,5456,0,12,null,null,null,"% of reinforcement given in 6 equal intervals based on number of trials "]
[12,5690,24,5700,24,12858,23,12869,13,12885,0,12,null,null,null,"%_1","%_2","%_3","%_4","%_5","%_6"]
[12,14427,13,14449,13,14486,23,14495,24,14520,0,11,null,null,"target sequence",{"$f":"$G$3","v":12},{"$f":"$G$3","v":12},{"$f":"$G$3","v":12},{"$f":"$G$3","v":12},{"$f":"$G$3","v":12},{"$f":"$G$3","v":12}]
[21,14737,11,14752,22,14762,23,14805,13,17373,0,21,null,null,"total reinforcement",{"$f":"U8","v":2},{"$f":"Z8","v":0},{"$f":"AE8","v":2},{"$f":"AJ8","v":3},{"$f":"AO8","v":2},{"$f":"AT8","v":1}]
[12,17787,24,17797,13,17813,14,21082,13,21111,0,12,null,null,"% target"]
[21,21831,22,22961,24,22972,null,null,null,null,null,22,null,null,"CCRF"]
[null,null,null,null,null,null,null,null,null,null,null,null,null,null,"% CCRf"]
[null,null,null,null,null,null,null,null,null,null,null,null,null,null,"average response rate",{"$f":"D9/P20","v":151.66666666666666},{"$f":"(D13-D9)/Q20","v":238},{"$f":"(D16-D13)/R20","v":184.33333333333334},{"$f":"(D19-D16)/S20","v":221.66666666666666},{"$f":"(D23-D19)/T20","v":2956},{"$f":"(D26-D23)/U20","v":2837.3333333333335}]

{"sheet":"!N106840.105","index":39,"n_rows":28,"n_cols":48,"rows_kept":28,"cut":false,"hidden":false,"merged":[[4,39,4,42],[5,39,5,40],[4,44,4,47],[5,44,5,45],[4,24,4,27],[5,24,5,25],[4,29,4,32],[5,29,5,30],[4,34,4,37],[5,34,5,35],[1,1,1,2],[5,13,5,14],[18,13,18,14],[19,13,19,14],[4,19,4,22],[5,19,5,20]]}
["Report for:!N106840.105"]
["Date:","<date>"]
["Hen:","<hen>",null,null,null,"Correct Sequence",{"$f":"Start!J2","v":12},null,null,null,null,null,null,null,null,"Total Sequences in Data",{"$f":"4994-COUNTBLANK(L7:L5000)","v":11},null,null,null,null,"Total Sequences in Block Data",{"$f":"COUNTA(L7:L8)","v":2},null,null,null,"Total Sequences in Block Data",{"$f":"COUNTA(L9:L10)","v":2},null,null,null,"Total Sequences in Block Data",{"$f":"COUNTA(L11:L11)","v":1},null,null,null,"Total Sequences in Block Data",{"$f":"COUNTA(L12:L13)","v":2},null,null,null,"Total Sequences in Block Data",{"$f":"COUNTA(L14:L15)","v":2},null,null,null,"Total Sequences in Block Data",{"$f":"COUNTA(L16:L17)","v":2}]
[null,null,null,null,null,null,null,null,null,null,null,null,null,null,null,"Total Sequences in Summary",{"$f":"SUM(O7:O14)","v":11},null,null,null,null,"Total Sequences in Block Summary",{"$f":"SUM(U7:U14)","v":2},null,null,null,"Total Sequences in Block Summary",{"$f":"SUM(Z7:Z14)","v":2},null,null,null,"Total Sequences in Block Summary",{"$f":"SUM(AE7:AE14)","v":1},null,null,null,"Total Sequences in Block Summary",{"$f":"SUM(AJ7:AJ14)","v":2},null,null,null,"Total Sequences in Block Summary",{"$f":"SUM(AO7:AO14)","v":2},null,null,null,"Total Sequences in Block Summary",{"$f":"SUM(AT7:AT14)","v":2}]
[null,null,null,null,null,null,null,null,null,null,null,null,null,null,null,null,null,null,null,"Block 1",null,null,null,null,"Block 2",null,null,null,null,"Block 3",null,null,null,null,"Block 4",null,null,null,null,"Block 5",null,null,null,null,"Block 6"]
["Sequence\nComponent\n1","Time\n1","Sequence\nComponent\n2","Time\n2","Sequence\nComponent\n3","Time\n3","Sequence\nComponent\n4","Time\n4","Sequence\nComponent\n5","Time\n5","Correct?\n0=No 1=Yes","Sequence",null,"Frequency",null,"Relative Frequency","Variability",null,null,"Frequency",null,"Relative Frequency","Variability",null,"Frequency",null,"Relative Frequency","Variability",null,"Frequency",null,"Relative Frequency","Variability",null,"Frequency",null,"Relative Frequency","Variability",null,"Frequency",null,"Relative Frequency","Variability",null,"Frequency",null,"Relative Frequency","Variability"]
[21,32,22,44,24,71,14,100,24,110,0,22,null,11,{"$f":"COUNTIF($L$7:$L$500,N7)","v":2},{"$f":"O7/$Q$4","v":0.18181818181818182},{"$f":"IF(P7=0,0,(P7*((LOG(P7))/LOG(2))))","v":-0.44716938520678134},null,null,{"$f":"N7","v":11},{"$f":"COUNTIF(L7:L8,T7)","v":1},{"$f":"U7/(W4-U8)","v":0.5},{"$f":"IF(V7=0,0,(V7*((LOG(V7))/LOG(2))))","v":-0.5},null,{"$f":"N7","v":11},{"$f":"COUNTIF(L9:L10,Y7)","v":0},{"$f":"Z7/(AB4-Z8)","v":{"$error":"#DIV/0!"}},{"$f":"IF(AA7=0,0,(AA7*((LOG(AA7))/LOG(2))))","v":{"$error":"#DIV/0!"}},null,{"$f":"N7","v":11},{"$f":"COUNTIF(L11:L11,AD7)","v":0},{"$f":"AE7/(AG4-AE8)","v":{"$error":"#DIV/0!"}},{"$f":"IF(AF7=0,0,(AF7*((LOG(AF7))/LOG(2))))","v":{"$error":"#DIV/0!"}},null,{"$f":"N7","v":11},{"$f":"COUNTIF(L12:L13,AI7)","v":0},{"$f":"AJ7/(AL4-AJ8)","v":0},{"$f":"IF(AK7=0,0,(AK7*((LOG(AK7))/LOG(2))))","v":0},null,{"$f":"N7","v":11},{"$f":"COUNTIF(L14:L15,AN7)","v":0},{"$f":"AO7/(AQ4-AO8)","v":0},{"$f":"IF(AP7=0,0,(AP7*((LOG(AP7))/LOG(2))))","v":0},null,{"$f":"N7","v":11},{"$f":"COUNTIF(L16:L17,AS7)","v":1},{"$f":"AT7/(AV4-AT8)","v":1},{"$f":"IF(AU7=0,0,(AU7*((LOG(AU7))/LOG(2))))","v":0}]
[12,273,13,440,24,449,23,459,13,505,0,11,null,12,{"$f":"COUNTIF($L$7:$L$500,N8)","v":5},{"$f":"O8/$Q$4","v":0.45454545454545453},{"$f":"IF(P8=0,0,(P8*((LOG(P8))/LOG(2))))","v":-0.51704705624997038},null,null,{"$f":"N8","v":12},{"$f":"COUNTIF(L7:L8,T8)","v":0},null,null,null,{"$f":"N8","v":12},{"$f":"COUNTIF(L9:L10,Y8)","v":2},null,null,null,{"$f":"N8","v":12},{"$f":"COUNTIF(L11:L11,AD8)","v":1},null,null,null,{"$f":"N8","v":12},{"$f":"COUNTIF(L12:L13,AI8)","v":1},null,null,null,{"$f":"N8","v":12},{"$f":"COUNTIF(L14:L15,AN8)","v":0},null,null,null,{"$f":"N8","v":12},{"$f":"COUNTIF(L16:L17,AS8)","v":1}]
[12,687,24,699,24,710,14,796,24,1443,0,12,null,21,{"$f":"COUNTIF($L$7:$L$500,N9)","v":1},{"$f":"O9/$Q$4","v":9.0909090909090912E-2},{"$f":"IF(P9=0,0,(P9*((LOG(P9))/LOG(2))))","v":-0.31449378351248153},null,null,{"$f":"N9","v":21},{"$f":"COUNTIF(L7:L8,T9)","v":0},{"$f":"U9/(W4-U8)","v":0},{"$f":"IF(V9=0,0,(V9*((LOG(V9))/LOG(2))))","v":0},null,{"$f":"N9","v":21},{"$f":"COUNTIF(L9:L10,Y9)","v":0},{"$f":"Z9/(AB4-Z8)","v":{"$error":"#DIV/0!"}},{"$f":"IF(AA9=0,0,(AA9*((LOG(AA9))/LOG(2))))","v":{"$error":"#DIV/0!"}},null,{"$f":"N9","v":21},{"$f":"COUNTIF(L11:L11,AD9)","v":0},{"$f":"AE9/(AG4-AE8)","v":{"$error":"#DIV/0!"}},{"$f":"IF(AF9=0,0,(AF9*((LOG(AF9))/LOG(2))))","v":{"$error":"#DIV/0!"}},null,{"$f":"N9","v":21},{"$f":"COUNTIF(L12:L13,AI9)","v":0},{"$f":"AJ9/(AL4-AJ8)","v":0},{"$f":"IF(AK9=0,0,(AK9*((LOG(AK9))/LOG(2))))","v":0},null,{"$f":"N9","v":21},{"$f":"COUNTIF(L14:L15,AN9)","v":1},{"$f":"AO9/(AQ4-AO8)","v":0.5},{"$f":"IF(AP9=0,0,(AP9*((LOG(AP9))/LOG(2))))","v":-0.5},null,{"$f":"N9","v":21},{"$f":"COUNTIF(L16:L17,AS9)","v":0},{"$f":"AT9/(AV4-AT8)","v":0},{"$f":"IF(AU9=0,0,(AU9*((LOG(AU9))/LOG(2))))","v":0}]
[12,1621,24,1633,13,1648,23,1658,13,1672,0,12,null,22,{"$f":"COUNTIF($L$7:$L$500,N10)","v":3},{"$f":"O10/$Q$4","v":0.27272727272727271},{"$f":"IF(P10=0,0,(P10*((LOG(P10))/LOG(2))))","v":-0.51121885034076575},null,null,{"$f":"N10","v":22},{"$f":"COUNTIF(L7:L8,T10)","v":1},{"$f":"U10/(W4-U8)","v":0.5},{"$f":"IF(V10=0,0,(V10*((LOG(V10))/LOG(2))))","v":-0.5},null,{"$f":"N10","v":22},{"$f":"COUNTIF(L9:L10,Y10)","v":0},{"$f":"Z10/(AB4-Z8)","v":{"$error":"#DIV/0!"}},{"$f":"IF(AA10=0,0,(AA10*((LOG(AA10))/LOG(2))))","v":{"$error":"#DIV/0!"}},null,{"$f":"N10","v":22},{"$f":"COUNTIF(L11:L11,AD10)","v":0},{"$f":"AE10/(AG4-AE8)","v":{"$error":"#DIV/0!"}},{"$f":"IF(AF10=0,0,(AF10*((LOG(AF10))/LOG(2))))","v":{"$error":"#DIV/0!"}},null,{"$f":"N10","v":22},{"$f":"COUNTIF(L12:L13,AI10)","v":1},{"$f":"AJ10/(AL4-AJ8)","v":1},{"$f":"IF(AK10=0,0,(AK10*((LOG(AK10))/LOG(2))))","v":0},null,{"$f":"N10","v":22},{"$f":"COUNTIF(L14:L15,AN10)","v":1},{"$f":"AO10/(AQ4-AO8)","v":0.5},{"$f":"IF(AP10=0,0,(AP10*((LOG(AP10))/LOG(2))))","v":-0.5},null,{"$f":"N10","v":22},{"$f":"COUNTIF(L16:L17,AS10)","v":0},{"$f":"AT10/(AV4-AT8)","v":0},{"$f":"IF(AU10=0,0,(AU10*((LOG(AU10))/LOG(2))))","v":0}]
[12,1801,24,1810,13,1824,23,1834,24,1867,0,12,null,null,null,null,null,null,null,{"$f":"N11","v":0},{"$f":"COUNTIF(L7:L8,T11)","v":0},{"$f":"U11/(W4-U8)","v":0},{"$f":"IF(V11=0,0,(V11*((LOG(V11))/LOG(2))))","v":0},null,{"$f":"N11","v":0},{"$f":"COUNTIF(L9:L10,Y11)","v":0},{"$f":"Z11/(AB4-Z8)","v":{"$error":"#DIV/0!"}},{"$f":"IF(AA11=0,0,(AA11*((LOG(AA11))/LOG(2))))","v":{"$error":"#DIV/0!"}},null,{"$f":"N11","v":0},{"$f":"COUNTIF(L11:L11,AD11)","v":0},{"$f":"AE11/(AG4-AE8)","v":{"$error":"#DIV/0!"}},{"$f":"IF(AF11=0,0,(AF11*((LOG(AF11))/LOG(2))))","v":{"$error":"#DIV/0!"}},null,{"$f":"N11","v":0},{"$f":"COUNTIF(L12:L13,AI11)","v":0},{"$f":"AJ11/(AL4-AJ8)","v":0},{"$f":"IF(AK11=0,0,(AK11*((LOG(AK11))/LOG(2))))","v":0},null,{"$f":"N11","v":0},{"$f":"COUNTIF(L14:L15,AN11)","v":0},{"$f":"AO11/(AQ4-AO8)","v":0},{"$f":"IF(AP11=0,0,(AP11*((LOG(AP11))/LOG(2))))","v":0},null,{"$f":"N11","v":0},{"$f":"COUNTIF(L16:L17,AS11)","v":0},{"$f":"AT11/(AV4-AT8)","v":0},{"$f":"IF(AU11=0,0,(AU11*((LOG(AU11))/LOG(2))))","v":0}]
[21,2512,22,2533,13,2561,23,2572,13,2587,0,22,null,null,null,null,null,null,null,{"$f":"N12","v":0},{"$f":"COUNTIF(L7:L8,T12)","v":0},{"$f":"U12/(W4-U8)","v":0},{"$f":"IF(V12=0,0,(V12*((LOG(V12))/LOG(2))))","v":0},null,{"$f":"N12","v":0},{"$f":"COUNTIF(L9:L10,Y12)","v":0},{"$f":"Z12/(AB4-Z8)","v":{"$error":"#DIV/0!"}},{"$f":"IF(AA12=0,0,(AA12*((LOG(AA12))/LOG(2))))","v":{"$error":"#DIV/0!"}},null,{"$f":"N12","v":0},{"$f":"COUNTIF(L11:L11,AD12)","v":0},{"$f":"AE12/(AG4-AE8)","v":{"$error":"#DIV/0!"}},{"$f":"IF(AF12=0,0,(AF12*((LOG(AF12))/LOG(2))))","v":{"$error":"#DIV/0!"}},null,{"$f":"N12","v":0},{"$f":"COUNTIF(L12:L13,AI12)","v":0},{"$f":"AJ12/(AL4-AJ8)","v":0},{"$f":"IF(AK12=0,0,(AK12*((LOG(AK12))/LOG(2))))","v":0},null,{"$f":"N12","v":0},{"$f":"COUNTIF(L14:L15,AN12)","v":0},{"$f":"AO12/(AQ4-AO8)","v":0},{"$f":"IF(AP12=0,0,(AP12*((LOG(AP12))/LOG(2))))","v":0},null,{"$f":"N12","v":0},{"$f":"COUNTIF(L16:L17,AS12)","v":0},{"$f":"AT12/(AV4-AT8)","v":0},{"$f":"IF(AU12=0,0,(AU12*((LOG(AU12))/LOG(2))))","v":0}]
[12,3564,24,3575,24,3590,14,3605,24,3615,0,12,null,null,null,null,null,null,null,{"$f":"N13","v":0},{"$f":"COUNTIF(L7:L8,T13)","v":0},{"$f":"U13/(W4-U8)","v":0},{"$f":"IF(V13=0,0,(V13*((LOG(V13))/LOG(2))))","v":0},null,{"$f":"N13","v":0},{"$f":"COUNTIF(L9:L10,Y13)","v":0},{"$f":"Z13/(AB4-Z8)","v":{"$error":"#DIV/0!"}},{"$f":"IF(AA13=0,0,(AA13*((LOG(AA13))/LOG(2))))","v":{"$error":"#DIV/0!"}},null,{"$f":"N13","v":0},{"$f":"COUNTIF(L11:L11,AD13)","v":0},{"$f":"AE13/(AG4-AE8)","v":{"$error":"#DIV/0!"}},{"$f":"IF(AF13=0,0,(AF13*((LOG(AF13))/LOG(2))))","v":{"$error":"#DIV/0!"}},null,{"$f":"N13","v":0},{"$f":"COUNTIF(L12:L13,AI13)","v":0},{"$f":"AJ13/(AL4-AJ8)","v":0},{"$f":"IF(AK13=0,0,(AK13*((LOG(AK13))/LOG(2))))","v":0},null,{"$f":"N13","v":0},{"$f":"COUNTIF(L14:L15,AN13)","v":0},{"$f":"AO13/(AQ4-AO8)","v":0},{"$f":"IF(AP13=0,0,(AP13*((LOG(AP13))/LOG(2))))","v":0},null,{"$f":"N13","v":0},{"$f":"COUNTIF(L16:L17,AS13)","v":0},{"$f":"AT13/(AV4-AT8)","v":0},{"$f":"IF(AU13=0,0,(AU13*((LOG(AU13))/LOG(2))))","v":0}]
[21,4269,22,4284,13,4316,23,4328,13,4343,0,22,null,null,null,null,null,null,null,{"$f":"N14","v":0},{"$f":"COUNTIF(L7:L8,T14)","v":0},{"$f":"U14/(W4-U8)","v":0},{"$f":"IF(V14=0,0,(V14*((LOG(V14))/LOG(2))))","v":0},null,{"$f":"N14","v":0},{"$f":"COUNTIF(L9:L10,Y14)","v":0},{"$f":"Z14/(AB4-Z8)","v":{"$error":"#DIV/0!"}},{"$f":"IF(AA14=0,0,(AA14*((LOG(AA14))/LOG(2))))","v":{"$error":"#DIV/0!"}},null,{"$f":"N14","v":0},{"$f":"COUNTIF(L11:L11,AD14)","v":0},{"$f":"AE14/(AG4-AE8)","v":{"$error":"#DIV/0!"}},{"$f":"IF(AF14=0,0,(AF14*((LOG(AF14))/LOG(2))))","v":{"$error":"#DIV/0!"}},null,{"$f":"N14","v":0},{"$f":"COUNTIF(L12:L13,AI14)","v":0},{"$f":"AJ14/(AL4-AJ8)","v":0},{"$f":"IF(AK14=0,0,(AK14*((LOG(AK14))/LOG(2))))","v":0},null,{"$f":"N14","v":0},{"$f":"COUNTIF(L14:L15,AN14)","v":0},{"$f":"AO14/(AQ4-AO8)","v":0},{"$f":"IF(AP14=0,0,(AP14*((LOG(AP14))/LOG(2))))","v":0},null,{"$f":"N14","v":0},{"$f":"COUNTIF(L16:L17,AS14)","v":0},{"$f":"AT14/(AV4-AT8)","v":0},{"$f":"IF(AU14=0,0,(AU14*((LOG(AU14))/LOG(2))))","v":0}]
[21,4526,11,4590,22,4601,14,4638,24,4649,0,21,null,null,null,{"$f":"SUM(P7:P14)","v":1},{"$f":"-SUM(Q7:Q14)","v":1.789929075309999},null,null,null,null,{"$f":"SUM(V7:V14)","v":1},{"$f":"-SUM(W7:W14)","v":1},null,null,null,{"$f":"SUM(AA7:AA14)","v":{"$error":"#DIV/0!"}},{"$f":"-SUM(AB7:AB14)","v":{"$error":"#DIV/0!"}},null,null,null,{"$f":"SUM(AF7:AF14)","v":{"$error":"#DIV/0!"}},{"$f":"-SUM(AG7:AG14)","v":{"$error":"#DIV/0!"}},null,null,null,{"$f":"SUM(AK7:AK14)","v":1},{"$f":"-SUM(AL7:AL14)","v":0},null,null,null,{"$f":"SUM(AP7:AP14)","v":1},{"$f":"-SUM(AQ7:AQ14)","v":1},null,null,null,{"$f":"SUM(AU7:AU14)","v":1},{"$f":"-SUM(AV7:AV14)","v":0}]
[12,10703,13,10727,24,20527,14,20641,24,20656,0,11,null,null,null,"U=",{"$f":"Q15/(LOG(Q4)/LOG(2))","v":0.51740553727582239},null,null,null,null,"U1=",{"$f":"W15/(LOG(W4)/LOG(2))","v":1},null,null,null,"U2=",{"$f":"AB15/(LOG(AB4)/LOG(2))","v":{"$error":"#DIV/0!"}},null,null,null,"U3=",{"$f":"AG15/(LOG(AG4)/LOG(2))","v":{"$error":"#DIV/0!"}},null,null,null,"U4=",{"$f":"AL15/(LOG(AL4)/LOG(2))","v":0},null,null,null,"U5=",{"$f":"AQ15/(LOG(AQ4)/LOG(2))","v":1},null,null,null,"U6=",{"$f":"AV15/(LOG(AV4)/LOG(2))","v":0}]
[12,21077,24,21089,24,21128,14,23930,13,23955,null,12]
[]
[null,null,null,null,null,null,null,null,null,null,null,null,null,"Total Target Seq"]
[null,null,null,null,null,null,null,null,null,null,null,null,null,{"$f":"COUNTIF(L7:L17,G3)","v":5},null,2,2,1,2,2,2]
[null,null,null,null,null,null,null,null,null,null,null,null,null,null,null,"% of reinforcement given in 6 equal intervals based on number of trials "]
[null,null,null,null,null,null,null,null,null,null,null,null,null,null,null,"%_1","%_2","%_3","%_4","%_5","%_6"]
[null,null,null,null,null,null,null,null,null,null,null,null,null,null,"target sequence",{"$f":"$G$3","v":12},{"$f":"$G$3","v":12},{"$f":"$G$3","v":12},{"$f":"$G$3","v":12},{"$f":"$G$3","v":12},{"$f":"$G$3","v":12}]
[null,null,null,null,null,null,null,null,null,null,null,null,null,null,"total reinforcement",{"$f":"U8","v":0},{"$f":"Z8","v":2},{"$f":"AE8","v":1},{"$f":"AJ8","v":1},{"$f":"AO8","v":0},{"$f":"AT8","v":1}]
[null,null,null,null,null,null,null,null,null,null,null,null,null,null,"% target"]
[null,null,null,null,null,null,null,null,null,null,null,null,null,null,"CCRF"]
[null,null,null,null,null,null,null,null,null,null,null,null,null,null,"% CCRf"]
[null,null,null,null,null,null,null,null,null,null,null,null,null,null,"average response rate",{"$f":"D8/P20","v":220},{"$f":"(D10-D8)/Q20","v":596.5},{"$f":"(D11-D10)/R20","v":177},{"$f":"(D13-D11)/S20","v":882.5},{"$f":"(D15-D13)/T20","v":507.5},{"$f":"(D17-D15)/U20","v":8249.5}]

{"sheet":"!N107910.105","index":40,"n_rows":38,"n_cols":48,"rows_kept":38,"cut":false,"hidden":false,"merged":[[4,39,4,42],[5,39,5,40],[4,44,4,47],[5,44,5,45],[4,24,4,27],[5,24,5,25],[4,29,4,32],[5,29,5,30],[4,34,4,37],[5,34,5,35],[1,1,1,2],[5,13,5,14],[18,13,18,14],[19,13,19,14],[4,19,4,22],[5,19,5,20]]}
["Report for:!N107910.105"]
["Date:","<date>"]
["Hen:","<hen>",null,null,null,"Correct Sequence",{"$f":"Start!J2","v":12},null,null,null,null,null,null,null,null,"Total Sequences in Data",{"$f":"4994-COUNTBLANK(L7:L5000)","v":32},null,null,null,null,"Total Sequences in Block Data",{"$f":"COUNTA(L7:L11)","v":5},null,null,null,"Total Sequences in Block Data",{"$f":"COUNTA(L12:L17)","v":6},null,null,null,"Total Sequences in Block Data",{"$f":"COUNTA(L18:L22)","v":5},null,null,null,"Total Sequences in Block Data",{"$f":"COUNTA(L23:L27)","v":5},null,null,null,"Total Sequences in Block Data",{"$f":"COUNTA(L28:L33)","v":6},null,null,null,"Total Sequences in Block Data",{"$f":"COUNTA(L34:L38)","v":5}]
[null,null,null,null,null,null,null,null,null,null,null,null,null,null,null,"Total Sequences in Summary",{"$f":"SUM(O7:O14)","v":32},null,null,null,null,"Total Sequences in Block Summary",{"$f":"SUM(U7:U14)","v":5},null,null,null,"Total Sequences in Block Summary",{"$f":"SUM(Z7:Z14)","v":6},null,null,null,"Total Sequences in Block Summary",{"$f":"SUM(AE7:AE14)","v":5},null,null,null,"Total Sequences in Block Summary",{"$f":"SUM(AJ7:AJ14)","v":5},null,null,null,"Total Sequences in Block Summary",{"$f":"SUM(AO7:AO14)","v":6},null,null,null,"Total Sequences in Block Summary",{"$f":"SUM(AT7:AT14)","v":5}]
[null,null,null,null,null,null,null,null,null,null,null,null,null,null,null,null,null,null,null,"Block 1",null,null,null,null,"Block 2",null,null,null,null,"Block 3",null,null,null,null,"Block 4",null,null,null,null,"Block 5",null,null,null,null,"Block 6"]
["Sequence\nComponent\n1","Time\n1","Sequence\nComponent\n2","Time\n2","Sequence\nComponent\n3","Time\n3","Sequence\nComponent\n4","Time\n4","Sequence\nComponent\n5","Time\n5","Correct?\n0=No 1=Yes","Sequence",null,"Frequency",null,"Relative Frequency","Variability",null,null,"Frequency",null,"Relative Frequency","Variability",null,"Frequency",null,"Relative Frequency","Variability",null,"Frequency",null,"Relative Frequency","Variability",null,"Frequency",null,"Relative Frequency","Variability",null,"Frequency",null,"Relative Frequency","Variability",null,"Frequency",null,"Relative Frequency","Variability"]
[12,17,13,38,24,51,23,62,24,84,0,11,null,11,{"$f":"COUNTIF($L$7:$L$500,N7)","v":10},{"$f":"O7/$Q$4","v":0.3125},{"$f":"IF(P7=0,0,(P7*((LOG(P7))/LOG(2))))","v":-0.52439747034769923},null,null,{"$f":"N7","v":11},{"$f":"COUNTIF(L7:L11,T7)","v":1},{"$f":"U7/(W4-U8)","v":0.33333333333333331},{"$f":"IF(V7=0,0,(V7*((LOG(V7))/LOG(2))))","v":-0.52832083357371862},null,{"$f":"N7","v":11},{"$f":"COUNTIF(L12:L17,Y7)","v":0},{"$f":"Z7/(AB4-Z8)","v":0},{"$f":"IF(AA7=0,0,(AA7*((LOG(AA7))/LOG(2))))","v":0},null,{"$f":"N7","v":11},{"$f":"COUNTIF(L18:L22,AD7)","v":2},{"$f":"AE7/(AG4-AE8)","v":0.66666666666666663},{"$f":"IF(AF7=0,0,(AF7*((LOG(AF7))/LOG(2))))","v":-0.38997500048077083},null,{"$f":"N7","v":11},{"$f":"COUNTIF(L23:L27,AI7)","v":1},{"$f":"AJ7/(AL4-AJ8)","v":0.25},{"$f":"IF(AK7=0,0,(AK7*((LOG(AK7))/LOG(2))))","v":-0.5},null,{"$f":"N7","v":11},{"$f":"COUNTIF(L28:L33,AN7)","v":3},{"$f":"AO7/(AQ4-AO8)","v":0.6},{"$f":"IF(AP7=0,0,(AP7*((LOG(AP7))/LOG(2))))","v":-0.44217935649972373},null,{"$f":"N7","v":11},{"$f":"COUNTIF(L34:L38,AS7)","v":3},{"$f":"AT7/(AV4-AT8)","v":0.6},{"$f":"IF(AU7=0,0,(AU7*((LOG(AU7))/LOG(2))))","v":-0.44217935649972373}]
[21,189,11,199,22,206,14,220,24,226,0,21,null,12,{"$f":"COUNTIF($L$7:$L$500,N8)","v":10},{"$f":"O8/$Q$4","v":0.3125},{"$f":"IF(P8=0,0,(P8*((LOG(P8))/LOG(2))))","v":-0.52439747034769923},null,null,{"$f":"N8","v":12},{"$f":"COUNTIF(L7:L11,T8)","v":2},null,null,null,{"$f":"N8","v":12},{"$f":"COUNTIF(L12:L17,Y8)","v":4},null,null,null,{"$f":"N8","v":12},{"$f":"COUNTIF(L18:L22,AD8)","v":2},null,null,null,{"$f":"N8","v":12},{"$f":"COUNTIF(L23:L27,AI8)","v":1},null,null,null,{"$f":"N8","v":12},{"$f":"COUNTIF(L28:L33,AN8)","v":1},null,null,null,{"$f":"N8","v":12},{"$f":"COUNTIF(L34:L38,AS8)","v":0}]
[12,326,24,334,13,344,23,351,13,364,0,12,null,21,{"$f":"COUNTIF($L$7:$L$500,N9)","v":9},{"$f":"O9/$Q$4","v":0.28125},{"$f":"IF(P9=0,0,(P9*((LOG(P9))/LOG(2))))","v":-0.5147085933443496},null,null,{"$f":"N9","v":21},{"$f":"COUNTIF(L7:L11,T9)","v":2},{"$f":"U9/(W4-U8)","v":0.66666666666666663},{"$f":"IF(V9=0,0,(V9*((LOG(V9))/LOG(2))))","v":-0.38997500048077083},null,{"$f":"N9","v":21},{"$f":"COUNTIF(L12:L17,Y9)","v":2},{"$f":"Z9/(AB4-Z8)","v":1},{"$f":"IF(AA9=0,0,(AA9*((LOG(AA9))/LOG(2))))","v":0},null,{"$f":"N9","v":21},{"$f":"COUNTIF(L18:L22,AD9)","v":0},{"$f":"AE9/(AG4-AE8)","v":0},{"$f":"IF(AF9=0,0,(AF9*((LOG(AF9))/LOG(2))))","v":0},null,{"$f":"N9","v":21},{"$f":"COUNTIF(L23:L27,AI9)","v":2},{"$f":"AJ9/(AL4-AJ8)","v":0.5},{"$f":"IF(AK9=0,0,(AK9*((LOG(AK9))/LOG(2))))","v":-0.5},null,{"$f":"N9","v":21},{"$f":"COUNTIF(L28:L33,AN9)","v":1},{"$f":"AO9/(AQ4-AO8)","v":0.2},{"$f":"IF(AP9=0,0,(AP9*((LOG(AP9))/LOG(2))))","v":-0.46438561897747244},null,{"$f":"N9","v":21},{"$f":"COUNTIF(L34:L38,AS9)","v":2},{"$f":"AT9/(AV4-AT8)","v":0.4},{"$f":"IF(AU9=0,0,(AU9*((LOG(AU9))/LOG(2))))","v":-0.52877123795494496}]
[12,501,24,537,13,634,23,644,13,659,0,12,null,22,{"$f":"COUNTIF($L$7:$L$500,N10)","v":3},{"$f":"O10/$Q$4","v":9.375E-2},{"$f":"IF(P10=0,0,(P10*((LOG(P10))/LOG(2))))","v":-0.32015976555739156},null,null,{"$f":"N10","v":22},{"$f":"COUNTIF(L7:L11,T10)","v":0},{"$f":"U10/(W4-U8)","v":0},{"$f":"IF(V10=0,0,(V10*((LOG(V10))/LOG(2))))","v":0},null,{"$f":"N10","v":22},{"$f":"COUNTIF(L12:L17,Y10)","v":0},{"$f":"Z10/(AB4-Z8)","v":0},{"$f":"IF(AA10=0,0,(AA10*((LOG(AA10))/LOG(2))))","v":0},null,{"$f":"N10","v":22},{"$f":"COUNTIF(L18:L22,AD10)","v":1},{"$f":"AE10/(AG4-AE8)","v":0.33333333333333331},{"$f":"IF(AF10=0,0,(AF10*((LOG(AF10))/LOG(2))))","v":-0.52832083357371862},null,{"$f":"N10","v":22},{"$f":"COUNTIF(L23:L27,AI10)","v":1},{"$f":"AJ10/(AL4-AJ8)","v":0.25},{"$f":"IF(AK10=0,0,(AK10*((LOG(AK10))/LOG(2))))","v":-0.5},null,{"$f":"N10","v":22},{"$f":"COUNTIF(L28:L33,AN10)","v":1},{"$f":"AO10/(AQ4-AO8)","v":0.2},{"$f":"IF(AP10=0,0,(AP10*((LOG(AP10))/LOG(2))))","v":-0.46438561897747244},null,{"$f":"N10","v":22},{"$f":"COUNTIF(L34:L38,AS10)","v":0},{"$f":"AT10/(AV4-AT8)","v":0},{"$f":"IF(AU10=0,0,(AU10*((LOG(AU10))/LOG(2))))","v":0}]
[21,769,11,779,22,788,14,803,24,813,0,21,null,null,null,null,null,null,null,{"$f":"N11","v":0},{"$f":"COUNTIF(L7:L11,T11)","v":0},{"$f":"U11/(W4-U8)","v":0},{"$f":"IF(V11=0,0,(V11*((LOG(V11))/LOG(2))))","v":0},null,{"$f":"N11","v":0},{"$f":"COUNTIF(L12:L17,Y11)","v":0},{"$f":"Z11/(AB4-Z8)","v":0},{"$f":"IF(AA11=0,0,(AA11*((LOG(AA11))/LOG(2))))","v":0},null,{"$f":"N11","v":0},{"$f":"COUNTIF(L18:L22,AD11)","v":0},{"$f":"AE11/(AG4-AE8)","v":0},{"$f":"IF(AF11=0,0,(AF11*((LOG(AF11))/LOG(2))))","v":0},null,{"$f":"N11","v":0},{"$f":"COUNTIF(L23:L27,AI11)","v":0},{"$f":"AJ11/(AL4-AJ8)","v":0},{"$f":"IF(AK11=0,0,(AK11*((LOG(AK11))/LOG(2))))","v":0},null,{"$f":"N11","v":0},{"$f":"COUNTIF(L28:L33,AN11)","v":0},{"$f":"AO11/(AQ4-AO8)","v":0},{"$f":"IF(AP11=0,0,(AP11*((LOG(AP11))/LOG(2))))","v":0},null,{"$f":"N11","v":0},{"$f":"COUNTIF(L34:L38,AS11)","v":0},{"$f":"AT11/(AV4-AT8)","v":0},{"$f":"IF(AU11=0,0,(AU11*((LOG(AU11))/LOG(2))))","v":0}]
[21,965,11,977,11,1006,21,1016,11,1031,1,21,null,null,null,null,null,null,null,{"$f":"N12","v":0},{"$f":"COUNTIF(L7:L11,T12)","v":0},{"$f":"U12/(W4-U8)","v":0},{"$f":"IF(V12=0,0,(V12*((LOG(V12))/LOG(2))))","v":0},null,{"$f":"N12","v":0},{"$f":"COUNTIF(L12:L17,Y12)","v":0},{"$f":"Z12/(AB4-Z8)","v":0},{"$f":"IF(AA12=0,0,(AA12*((LOG(AA12))/LOG(2))))","v":0},null,{"$f":"N12","v":0},{"$f":"COUNTIF(L18:L22,AD12)","v":0},{"$f":"AE12/(AG4-AE8)","v":0},{"$f":"IF(AF12=0,0,(AF12*((LOG(AF12))/LOG(2))))","v":0},null,{"$f":"N12","v":0},{"$f":"COUNTIF(L23:L27,AI12)","v":0},{"$f":"AJ12/(AL4-AJ8)","v":0},{"$f":"IF(AK12=0,0,(AK12*((LOG(AK12))/LOG(2))))","v":0},null,{"$f":"N12","v":0},{"$f":"COUNTIF(L28:L33,AN12)","v":0},{"$f":"AO12/(AQ4-AO8)","v":0},{"$f":"IF(AP12=0,0,(AP12*((LOG(AP12))/LOG(2))))","v":0},null,{"$f":"N12","v":0},{"$f":"COUNTIF(L34:L38,AS12)","v":0},{"$f":"AT12/(AV4-AT8)","v":0},{"$f":"IF(AU12=0,0,(AU12*((LOG(AU12))/LOG(2))))","v":0}]
[12,1139,24,1147,13,1162,23,1171,13,1185,0,12,null,null,null,null,null,null,null,{"$f":"N13","v":0},{"$f":"COUNTIF(L7:L11,T13)","v":0},{"$f":"U13/(W4-U8)","v":0},{"$f":"IF(V13=0,0,(V13*((LOG(V13))/LOG(2))))","v":0},null,{"$f":"N13","v":0},{"$f":"COUNTIF(L12:L17,Y13)","v":0},{"$f":"Z13/(AB4-Z8)","v":0},{"$f":"IF(AA13=0,0,(AA13*((LOG(AA13))/LOG(2))))","v":0},null,{"$f":"N13","v":0},{"$f":"COUNTIF(L18:L22,AD13)","v":0},{"$f":"AE13/(AG4-AE8)","v":0},{"$f":"IF(AF13=0,0,(AF13*((LOG(AF13))/LOG(2))))","v":0},null,{"$f":"N13","v":0},{"$f":"COUNTIF(L23:L27,AI13)","v":0},{"$f":"AJ13/(AL4-AJ8)","v":0},{"$f":"IF(AK13=0,0,(AK13*((LOG(AK13))/LOG(2))))","v":0},null,{"$f":"N13","v":0},{"$f":"COUNTIF(L28:L33,AN13)","v":0},{"$f":"AO13/(AQ4-AO8)","v":0},{"$f":"IF(AP13=0,0,(AP13*((LOG(AP13))/LOG(2))))","v":0},null,{"$f":"N13","v":0},{"$f":"COUNTIF(L34:L38,AS13)","v":0},{"$f":"AT13/(AV4-AT8)","v":0},{"$f":"IF(AU13=0,0,(AU13*((LOG(AU13))/LOG(2))))","v":0}]
[12,1296,24,1307,13,1316,23,1324,13,1339,0,12,null,null,null,null,null,null,null,{"$f":"N14","v":0},{"$f":"COUNTIF(L7:L11,T14)","v":0},{"$f":"U14/(W4-U8)","v":0},{"$f":"IF(V14=0,0,(V14*((LOG(V14))/LOG(2))))","v":0},null,{"$f":"N14","v":0},{"$f":"COUNTIF(L12:L17,Y14)","v":0},{"$f":"Z14/(AB4-Z8)","v":0},{"$f":"IF(AA14=0,0,(AA14*((LOG(AA14))/LOG(2))))","v":0},null,{"$f":"N14","v":0},{"$f":"COUNTIF(L18:L22,AD14)","v":0},{"$f":"AE14/(AG4-AE8)","v":0},{"$f":"IF(AF14=0,0,(AF14*((LOG(AF14))/LOG(2))))","v":0},null,{"$f":"N14","v":0},{"$f":"COUNTIF(L23:L27,AI14)","v":0},{"$f":"AJ14/(AL4-AJ8)","v":0},{"$f":"IF(AK14=0,0,(AK14*((LOG(AK14))/LOG(2))))","v":0},null,{"$f":"N14","v":0},{"$f":"COUNTIF(L28:L33,AN14)","v":0},{"$f":"AO14/(AQ4-AO8)","v":0},{"$f":"IF(AP14=0,0,(AP14*((LOG(AP14))/LOG(2))))","v":0},null,{"$f":"N14","v":0},{"$f":"COUNTIF(L34:L38,AS14)","v":0},{"$f":"AT14/(AV4-AT8)","v":0},{"$f":"IF(AU14=0,0,(AU14*((LOG(AU14))/LOG(2))))","v":0}]
[12,1454,24,1464,13,1478,23,1487,13,1502,0,12,null,null,null,{"$f":"SUM(P7:P14)","v":1},{"$f":"-SUM(Q7:Q14)","v":1.8836632995971396},null,null,null,null,{"$f":"SUM(V7:V14)","v":1},{"$f":"-SUM(W7:W14)","v":0.91829583405448945},null,null,null,{"$f":"SUM(AA7:AA14)","v":1},{"$f":"-SUM(AB7:AB14)","v":0},null,null,null,{"$f":"SUM(AF7:AF14)","v":1},{"$f":"-SUM(AG7:AG14)","v":0.91829583405448945},null,null,null,{"$f":"SUM(AK7:AK14)","v":1},{"$f":"-SUM(AL7:AL14)","v":1.5},null,null,null,{"$f":"SUM(AP7:AP14)","v":1},{"$f":"-SUM(AQ7:AQ14)","v":1.3709505944546687},null,null,null,{"$f":"SUM(AU7:AU14)","v":1},{"$f":"-SUM(AV7:AV14)","v":0.97095059445466869}]
[12,1641,24,1652,24,1674,14,1684,24,1694,0,12,null,null,null,"U=",{"$f":"Q15/(LOG(Q4)/LOG(2))","v":0.37673265991942795},null,null,null,null,"U1=",{"$f":"W15/(LOG(W4)/LOG(2))","v":0.3954884891037232},null,null,null,"U2=",{"$f":"AB15/(LOG(AB4)/LOG(2))","v":0},null,null,null,"U3=",{"$f":"AG15/(LOG(AG4)/LOG(2))","v":0.3954884891037232},null,null,null,"U4=",{"$f":"AL15/(LOG(AL4)/LOG(2))","v":0.64601483711008945},null,null,null,"U5=",{"$f":"AQ15/(LOG(AQ4)/LOG(2))","v":0.53035608604465223},null,null,null,"U6=",{"$f":"AV15/(LOG(AV4)/LOG(2))","v":0.41816566007905159}]
[21,1810,11,1819,22,1828,14,1842,24,1853,0,21]
[21,1993,22,2104,13,2123,23,2134,13,2144,0,22]
[12,2311,24,2318,13,2331,23,2341,13,2370,0,12,null,"Total Target Seq"]
[12,2527,13,2550,24,2560,23,2569,24,2609,0,11,null,{"$f":"COUNTIF(L7:L38,G3)","v":10},null,5,6,5,5,6,5]
[12,2754,24,2764,24,2777,14,2790,24,2802,0,12,null,null,null,"% of reinforcement given in 6 equal intervals based on number of trials "]
[12,2929,13,2976,13,3433,23,3442,24,3463,0,11,null,null,null,"%_1","%_2","%_3","%_4","%_5","%_6"]
[12,3643,24,3652,13,3666,23,3676,24,3719,0,12,null,null,"target sequence",{"$f":"$G$3","v":12},{"$f":"$G$3","v":12},{"$f":"$G$3","v":12},{"$f":"$G$3","v":12},{"$f":"$G$3","v":12},{"$f":"$G$3","v":12}]
[12,4443,13,4453,24,4463,23,4479,24,4502,0,11,null,null,"total reinforcement",{"$f":"U8","v":2},{"$f":"Z8","v":4},{"$f":"AE8","v":2},{"$f":"AJ8","v":1},{"$f":"AO8","v":1},{"$f":"AT8","v":0}]
[21,5593,11,5614,22,5621,23,5644,13,5655,0,21,null,null,"% target"]
[21,6154,11,6165,22,6175,14,6190,24,6200,0,21,null,null,"CCRF"]
[21,7065,22,7075,24,7101,14,7136,24,7148,0,22,null,null,"% CCRf"]
[12,7537,13,7558,24,7657,14,7666,13,7685,0,11,null,null,"average response rate",{"$f":"D11/P20","v":155.80000000000001},{"$f":"(D17-D11)/Q20","v":173.33333333333334},{"$f":"(D22-D17)/R20","v":231.4},{"$f":"(D27-D22)/S20","v":819.8},{"$f":"(D33-D27)/T20","v":2343.8333333333335},{"$f":"(D38-D33)/U20","v":277.60000000000002}]
[12,7998,13,8008,24,8020,14,8034,24,8043,0,11]
[21,8499,22,8512,13,8522,23,8532,13,8558,0,22]
[12,8974,13,8985,13,9821,23,9831,24,9850,0,11]
[12,12291,24,12310,13,12328,14,12338,13,12403,0,12]
[21,16738,11,21138,11,21153,21,21164,11,21182,1,21]
[12,21381,13,21395,24,21407,23,21424,24,21440,0,11]
[12,21557,13,21569,24,21579,14,21588,13,21602,0,11]
[21,21742,11,21752,11,21766,12,21778,24,21789,0,21]
[12,21936,13,21957,24,21967,14,21986,24,21998,0,11]
[21,22499,11,22526,22,22537,14,22553,24,22564,0,21]

{"sheet":"!N108A10.105","index":41,"n_rows":46,"n_cols":48,"rows_kept":46,"cut":false,"hidden":false,"merged":[[4,39,4,42],[5,39,5,40],[4,44,4,47],[5,44,5,45],[4,24,4,27],[5,24,5,25],[4,29,4,32],[5,29,5,30],[4,34,4,37],[5,34,5,35],[1,1,1,2],[5,13,5,14],[18,13,18,14],[19,13,19,14],[4,19,4,22],[5,19,5,20]]}
["Report for:!N108A10.105"]
["Date:","<date>"]
["Hen:","<hen>",null,null,null,"Correct Sequence",{"$f":"Start!J2","v":12},null,null,null,null,null,null,null,null,"Total Sequences in Data",{"$f":"4994-COUNTBLANK(L7:L5000)","v":40},null,null,null,null,"Total Sequences in Block Data",{"$f":"COUNTA(L7:L13)","v":7},null,null,null,"Total Sequences in Block Data",{"$f":"COUNTA(L14:L19)","v":6},null,null,null,"Total Sequences in Block Data",{"$f":"COUNTA(L20:L26)","v":7},null,null,null,"Total Sequences in Block Data",{"$f":"COUNTA(L27:L33)","v":7},null,null,null,"Total Sequences in Block Data",{"$f":"COUNTA(L34:L39)","v":6},null,null,null,"Total Sequences in Block Data",{"$f":"COUNTA(L40:L46)","v":7}]
[null,null,null,null,null,null,null,null,null,null,null,null,null,null,null,"Total Sequences in Summary",{"$f":"SUM(O7:O14)","v":40},null,null,null,null,"Total Sequences in Block Summary",{"$f":"SUM(U7:U14)","v":7},null,null,null,"Total Sequences in Block Summary",{"$f":"SUM(Z7:Z14)","v":6},null,null,null,"Total Sequences in Block Summary",{"$f":"SUM(AE7:AE14)","v":7},null,null,null,"Total Sequences in Block Summary",{"$f":"SUM(AJ7:AJ14)","v":7},null,null,null,"Total Sequences in Block Summary",{"$f":"SUM(AO7:AO14)","v":6},null,null,null,"Total Sequences in Block Summary",{"$f":"SUM(AT7:AT14)","v":7}]
[null,null,null,null,null,null,null,null,null,null,null,null,null,null,null,null,null,null,null,"Block 1",null,null,null,null,"Block 2",null,null,null,null,"Block 3",null,null,null,null,"Block 4",null,null,null,null,"Block 5",null,null,null,null,"Block 6"]
["Sequence\nComponent\n1","Time\n1","Sequence\nComponent\n2","Time\n2","Sequence\nComponent\n3","Time\n3","Sequence\nComponent\n4","Time\n4","Sequence\nComponent\n5","Time\n5","Correct?\n0=No 1=Yes","Sequence",null,"Frequency",null,"Relative Frequency","Variability",null,null,"Frequency",null,"Relative Frequency","Variability",null,"Frequency",null,"Relative Frequency","Variability",null,"Frequency",null,"Relative Frequency","Variability",null,"Frequency",null,"Relative Frequency","Variability",null,"Frequency",null,"Relative Frequency","Variability",null,"Frequency",null,"Relative Frequency","Variability"]
[21,46,11,59,22,66,14,78,24,89,0,21,null,11,{"$f":"COUNTIF($L$7:$L$500,N7)","v":4},{"$f":"O7/$Q$4","v":0.1},{"$f":"IF(P7=0,0,(P7*((LOG(P7))/LOG(2))))","v":-0.33219280948873625},null,null,{"$f":"N7","v":11},{"$f":"COUNTIF(L7:L13,T7)","v":1},{"$f":"U7/(W4-U8)","v":0.16666666666666666},{"$f":"IF(V7=0,0,(V7*((LOG(V7))/LOG(2))))","v":-0.43082708345352599},null,{"$f":"N7","v":11},{"$f":"COUNTIF(L14:L19,Y7)","v":0},{"$f":"Z7/(AB4-Z8)","v":0},{"$f":"IF(AA7=0,0,(AA7*((LOG(AA7))/LOG(2))))","v":0},null,{"$f":"N7","v":11},{"$f":"COUNTIF(L20:L26,AD7)","v":0},{"$f":"AE7/(AG4-AE8)","v":0},{"$f":"IF(AF7=0,0,(AF7*((LOG(AF7))/LOG(2))))","v":0},null,{"$f":"N7","v":11},{"$f":"COUNTIF(L27:L33,AI7)","v":0},{"$f":"AJ7/(AL4-AJ8)","v":0},{"$f":"IF(AK7=0,0,(AK7*((LOG(AK7))/LOG(2))))","v":0},null,{"$f":"N7","v":11},{"$f":"COUNTIF(L34:L39,AN7)","v":2},{"$f":"AO7/(AQ4-AO8)","v":0.66666666666666663},{"$f":"IF(AP7=0,0,(AP7*((LOG(AP7))/LOG(2))))","v":-0.38997500048077083},null,{"$f":"N7","v":11},{"$f":"COUNTIF(L40:L46,AS7)","v":1},{"$f":"AT7/(AV4-AT8)","v":0.25},{"$f":"IF(AU7=0,0,(AU7*((LOG(AU7))/LOG(2))))","v":-0.5}]
[12,209,24,221,24,239,23,260,13,283,0,12,null,12,{"$f":"COUNTIF($L$7:$L$500,N8)","v":15},{"$f":"O8/$Q$4","v":0.375},{"$f":"IF(P8=0,0,(P8*((LOG(P8))/LOG(2))))","v":-0.53063906222956647},null,null,{"$f":"N8","v":12},{"$f":"COUNTIF(L7:L13,T8)","v":1},null,null,null,{"$f":"N8","v":12},{"$f":"COUNTIF(L14:L19,Y8)","v":1},null,null,null,{"$f":"N8","v":12},{"$f":"COUNTIF(L20:L26,AD8)","v":3},null,null,null,{"$f":"N8","v":12},{"$f":"COUNTIF(L27:L33,AI8)","v":4},null,null,null,{"$f":"N8","v":12},{"$f":"COUNTIF(L34:L39,AN8)","v":3},null,null,null,{"$f":"N8","v":12},{"$f":"COUNTIF(L40:L46,AS8)","v":3}]
[12,402,13,412,13,446,23,455,24,483,0,11,null,21,{"$f":"COUNTIF($L$7:$L$500,N9)","v":11},{"$f":"O9/$Q$4","v":0.27500000000000002},{"$f":"IF(P9=0,0,(P9*((LOG(P9))/LOG(2))))","v":-0.51218653096876798},null,null,{"$f":"N9","v":21},{"$f":"COUNTIF(L7:L13,T9)","v":2},{"$f":"U9/(W4-U8)","v":0.33333333333333331},{"$f":"IF(V9=0,0,(V9*((LOG(V9))/LOG(2))))","v":-0.52832083357371862},null,{"$f":"N9","v":21},{"$f":"COUNTIF(L14:L19,Y9)","v":2},{"$f":"Z9/(AB4-Z8)","v":0.4},{"$f":"IF(AA9=0,0,(AA9*((LOG(AA9))/LOG(2))))","v":-0.52877123795494496},null,{"$f":"N9","v":21},{"$f":"COUNTIF(L20:L26,AD9)","v":2},{"$f":"AE9/(AG4-AE8)","v":0.5},{"$f":"IF(AF9=0,0,(AF9*((LOG(AF9))/LOG(2))))","v":-0.5},null,{"$f":"N9","v":21},{"$f":"COUNTIF(L27:L33,AI9)","v":2},{"$f":"AJ9/(AL4-AJ8)","v":0.66666666666666663},{"$f":"IF(AK9=0,0,(AK9*((LOG(AK9))/LOG(2))))","v":-0.38997500048077083},null,{"$f":"N9","v":21},{"$f":"COUNTIF(L34:L39,AN9)","v":0},{"$f":"AO9/(AQ4-AO8)","v":0},{"$f":"IF(AP9=0,0,(AP9*((LOG(AP9))/LOG(2))))","v":0},null,{"$f":"N9","v":21},{"$f":"COUNTIF(L40:L46,AS9)","v":3},{"$f":"AT9/(AV4-AT8)","v":0.75},{"$f":"IF(AU9=0,0,(AU9*((LOG(AU9))/LOG(2))))","v":-0.31127812445913283}]
[21,638,22,653,13,664,23,671,13,687,0,22,null,22,{"$f":"COUNTIF($L$7:$L$500,N10)","v":10},{"$f":"O10/$Q$4","v":0.25},{"$f":"IF(P10=0,0,(P10*((LOG(P10))/LOG(2))))","v":-0.5},null,null,{"$f":"N10","v":22},{"$f":"COUNTIF(L7:L13,T10)","v":3},{"$f":"U10/(W4-U8)","v":0.5},{"$f":"IF(V10=0,0,(V10*((LOG(V10))/LOG(2))))","v":-0.5},null,{"$f":"N10","v":22},{"$f":"COUNTIF(L14:L19,Y10)","v":3},{"$f":"Z10/(AB4-Z8)","v":0.6},{"$f":"IF(AA10=0,0,(AA10*((LOG(AA10))/LOG(2))))","v":-0.44217935649972373},null,{"$f":"N10","v":22},{"$f":"COUNTIF(L20:L26,AD10)","v":2},{"$f":"AE10/(AG4-AE8)","v":0.5},{"$f":"IF(AF10=0,0,(AF10*((LOG(AF10))/LOG(2))))","v":-0.5},null,{"$f":"N10","v":22},{"$f":"COUNTIF(L27:L33,AI10)","v":1},{"$f":"AJ10/(AL4-AJ8)","v":0.33333333333333331},{"$f":"IF(AK10=0,0,(AK10*((LOG(AK10))/LOG(2))))","v":-0.52832083357371862},null,{"$f":"N10","v":22},{"$f":"COUNTIF(L34:L39,AN10)","v":1},{"$f":"AO10/(AQ4-AO8)","v":0.33333333333333331},{"$f":"IF(AP10=0,0,(AP10*((LOG(AP10))/LOG(2))))","v":-0.52832083357371862},null,{"$f":"N10","v":22},{"$f":"COUNTIF(L40:L46,AS10)","v":0},{"$f":"AT10/(AV4-AT8)","v":0},{"$f":"IF(AU10=0,0,(AU10*((LOG(AU10))/LOG(2))))","v":0}]
[21,810,22,824,13,835,23,845,24,866,0,22,null,null,null,null,null,null,null,{"$f":"N11","v":0},{"$f":"COUNTIF(L7:L13,T11)","v":0},{"$f":"U11/(W4-U8)","v":0},{"$f":"IF(V11=0,0,(V11*((LOG(V11))/LOG(2))))","v":0},null,{"$f":"N11","v":0},{"$f":"COUNTIF(L14:L19,Y11)","v":0},{"$f":"Z11/(AB4-Z8)","v":0},{"$f":"IF(AA11=0,0,(AA11*((LOG(AA11))/LOG(2))))","v":0},null,{"$f":"N11","v":0},{"$f":"COUNTIF(L20:L26,AD11)","v":0},{"$f":"AE11/(AG4-AE8)","v":0},{"$f":"IF(AF11=0,0,(AF11*((LOG(AF11))/LOG(2))))","v":0},null,{"$f":"N11","v":0},{"$f":"COUNTIF(L27:L33,AI11)","v":0},{"$f":"AJ11/(AL4-AJ8)","v":0},{"$f":"IF(AK11=0,0,(AK11*((LOG(AK11))/LOG(2))))","v":0},null,{"$f":"N11","v":0},{"$f":"COUNTIF(L34:L39,AN11)","v":0},{"$f":"AO11/(AQ4-AO8)","v":0},{"$f":"IF(AP11=0,0,(AP11*((LOG(AP11))/LOG(2))))","v":0},null,{"$f":"N11","v":0},{"$f":"COUNTIF(L40:L46,AS11)","v":0},{"$f":"AT11/(AV4-AT8)","v":0},{"$f":"IF(AU11=0,0,(AU11*((LOG(AU11))/LOG(2))))","v":0}]
[21,1040,11,1052,22,1060,23,1082,13,1096,0,21,null,null,null,null,null,null,null,{"$f":"N12","v":0},{"$f":"COUNTIF(L7:L13,T12)","v":0},{"$f":"U12/(W4-U8)","v":0},{"$f":"IF(V12=0,0,(V12*((LOG(V12))/LOG(2))))","v":0},null,{"$f":"N12","v":0},{"$f":"COUNTIF(L14:L19,Y12)","v":0},{"$f":"Z12/(AB4-Z8)","v":0},{"$f":"IF(AA12=0,0,(AA12*((LOG(AA12))/LOG(2))))","v":0},null,{"$f":"N12","v":0},{"$f":"COUNTIF(L20:L26,AD12)","v":0},{"$f":"AE12/(AG4-AE8)","v":0},{"$f":"IF(AF12=0,0,(AF12*((LOG(AF12))/LOG(2))))","v":0},null,{"$f":"N12","v":0},{"$f":"COUNTIF(L27:L33,AI12)","v":0},{"$f":"AJ12/(AL4-AJ8)","v":0},{"$f":"IF(AK12=0,0,(AK12*((LOG(AK12))/LOG(2))))","v":0},null,{"$f":"N12","v":0},{"$f":"COUNTIF(L34:L39,AN12)","v":0},{"$f":"AO12/(AQ4-AO8)","v":0},{"$f":"IF(AP12=0,0,(AP12*((LOG(AP12))/LOG(2))))","v":0},null,{"$f":"N12","v":0},{"$f":"COUNTIF(L40:L46,AS12)","v":0},{"$f":"AT12/(AV4-AT8)","v":0},{"$f":"IF(AU12=0,0,(AU12*((LOG(AU12))/LOG(2))))","v":0}]
[21,1317,22,1343,24,1373,14,1389,24,1402,0,22,null,null,null,null,null,null,null,{"$f":"N13","v":0},{"$f":"COUNTIF(L7:L13,T13)","v":0},{"$f":"U13/(W4-U8)","v":0},{"$f":"IF(V13=0,0,(V13*((LOG(V13))/LOG(2))))","v":0},null,{"$f":"N13","v":0},{"$f":"COUNTIF(L14:L19,Y13)","v":0},{"$f":"Z13/(AB4-Z8)","v":0},{"$f":"IF(AA13=0,0,(AA13*((LOG(AA13))/LOG(2))))","v":0},null,{"$f":"N13","v":0},{"$f":"COUNTIF(L20:L26,AD13)","v":0},{"$f":"AE13/(AG4-AE8)","v":0},{"$f":"IF(AF13=0,0,(AF13*((LOG(AF13))/LOG(2))))","v":0},null,{"$f":"N13","v":0},{"$f":"COUNTIF(L27:L33,AI13)","v":0},{"$f":"AJ13/(AL4-AJ8)","v":0},{"$f":"IF(AK13=0,0,(AK13*((LOG(AK13))/LOG(2))))","v":0},null,{"$f":"N13","v":0},{"$f":"COUNTIF(L34:L39,AN13)","v":0},{"$f":"AO13/(AQ4-AO8)","v":0},{"$f":"IF(AP13=0,0,(AP13*((LOG(AP13))/LOG(2))))","v":0},null,{"$f":"N13","v":0},{"$f":"COUNTIF(L40:L46,AS13)","v":0},{"$f":"AT13/(AV4-AT8)","v":0},{"$f":"IF(AU13=0,0,(AU13*((LOG(AU13))/LOG(2))))","v":0}]
[21,1551,22,1579,24,1605,23,1657,13,1671,0,22,null,null,null,null,null,null,null,{"$f":"N14","v":0},{"$f":"COUNTIF(L7:L13,T14)","v":0},{"$f":"U14/(W4-U8)","v":0},{"$f":"IF(V14=0,0,(V14*((LOG(V14))/LOG(2))))","v":0},null,{"$f":"N14","v":0},{"$f":"COUNTIF(L14:L19,Y14)","v":0},{"$f":"Z14/(AB4-Z8)","v":0},{"$f":"IF(AA14=0,0,(AA14*((LOG(AA14))/LOG(2))))","v":0},null,{"$f":"N14","v":0},{"$f":"COUNTIF(L20:L26,AD14)","v":0},{"$f":"AE14/(AG4-AE8)","v":0},{"$f":"IF(AF14=0,0,(AF14*((LOG(AF14))/LOG(2))))","v":0},null,{"$f":"N14","v":0},{"$f":"COUNTIF(L27:L33,AI14)","v":0},{"$f":"AJ14/(AL4-AJ8)","v":0},{"$f":"IF(AK14=0,0,(AK14*((LOG(AK14))/LOG(2))))","v":0},null,{"$f":"N14","v":0},{"$f":"COUNTIF(L34:L39,AN14)","v":0},{"$f":"AO14/(AQ4-AO8)","v":0},{"$f":"IF(AP14=0,0,(AP14*((LOG(AP14))/LOG(2))))","v":0},null,{"$f":"N14","v":0},{"$f":"COUNTIF(L40:L46,AS14)","v":0},{"$f":"AT14/(AV4-AT8)","v":0},{"$f":"IF(AU14=0,0,(AU14*((LOG(AU14))/LOG(2))))","v":0}]
[21,1789,22,1802,24,1818,14,1828,24,1839,0,22,null,null,null,{"$f":"SUM(P7:P14)","v":1},{"$f":"-SUM(Q7:Q14)","v":1.8750184026870707},null,null,null,null,{"$f":"SUM(V7:V14)","v":1},{"$f":"-SUM(W7:W14)","v":1.4591479170272446},null,null,null,{"$f":"SUM(AA7:AA14)","v":1},{"$f":"-SUM(AB7:AB14)","v":0.97095059445466869},null,null,null,{"$f":"SUM(AF7:AF14)","v":1},{"$f":"-SUM(AG7:AG14)","v":1},null,null,null,{"$f":"SUM(AK7:AK14)","v":1},{"$f":"-SUM(AL7:AL14)","v":0.91829583405448945},null,null,null,{"$f":"SUM(AP7:AP14)","v":1},{"$f":"-SUM(AQ7:AQ14)","v":0.91829583405448945},null,null,null,{"$f":"SUM(AU7:AU14)","v":1},{"$f":"-SUM(AV7:AV14)","v":0.81127812445913283}]
[12,1973,24,1985,24,2010,14,2021,24,2032,0,12,null,null,null,"U=",{"$f":"Q15/(LOG(Q4)/LOG(2))","v":0.35231937922805689},null,null,null,null,"U1=",{"$f":"W15/(LOG(W4)/LOG(2))","v":0.51975897509880453},null,null,null,"U2=",{"$f":"AB15/(LOG(AB4)/LOG(2))","v":0.37561496315083553},null,null,null,"U3=",{"$f":"AG15/(LOG(AG4)/LOG(2))","v":0.35620718710802218},null,null,null,"U4=",{"$f":"AL15/(LOG(AL4)/LOG(2))","v":0.32710357598156481},null,null,null,"U5=",{"$f":"AQ15/(LOG(AQ4)/LOG(2))","v":0.35524532127576403},null,null,null,"U6=",{"$f":"AV15/(LOG(AV4)/LOG(2))","v":0.28898309867585964}]
[21,2294,11,2306,22,2317,14,2354,24,2378,0,21]
[21,3374,22,3389,13,3402,14,3416,24,3429,0,22]
[21,3575,11,3586,22,3596,14,3613,24,3641,0,21,null,"Total Target Seq"]
[21,3820,11,3830,22,3839,14,3857,24,3866,0,21,null,{"$f":"COUNTIF(L7:L46,G3)","v":15},null,7,6,7,7,6,7]
[12,4276,24,4299,13,4310,23,4319,13,4331,0,12,null,null,null,"% of reinforcement given in 6 equal intervals based on number of trials "]
[21,4736,11,4751,22,4762,14,4777,24,4787,0,21,null,null,null,"%_1","%_2","%_3","%_4","%_5","%_6"]
[12,4894,24,4905,13,4916,23,4956,13,4970,0,12,null,null,"target sequence",{"$f":"$G$3","v":12},{"$f":"$G$3","v":12},{"$f":"$G$3","v":12},{"$f":"$G$3","v":12},{"$f":"$G$3","v":12},{"$f":"$G$3","v":12}]
[12,5116,24,5125,24,5142,14,5158,24,5167,0,12,null,null,"total reinforcement",{"$f":"U8","v":1},{"$f":"Z8","v":1},{"$f":"AE8","v":3},{"$f":"AJ8","v":4},{"$f":"AO8","v":3},{"$f":"AT8","v":3}]
[21,5333,22,5347,13,5363,23,5373,13,5384,0,22,null,null,"% target"]
[21,5707,22,5722,13,5732,23,5742,13,5763,0,22,null,null,"CCRF"]
[21,5989,11,6000,22,6009,23,6021,24,6037,0,21,null,null,"% CCRf"]
[12,6284,24,6308,13,6318,23,6329,24,6358,0,12,null,null,"average response rate",{"$f":"D13/P20","v":191.85714285714286},{"$f":"(D19-D13)/Q20","v":373.83333333333331},{"$f":"(D26-D19)/R20","v":305.14285714285717},{"$f":"(D33-D26)/S20","v":650.14285714285711},{"$f":"(D39-D33)/T20","v":675.83333333333337},{"$f":"(D46-D39)/U20","v":857.42857142857144}]
[12,7263,24,7277,24,7303,14,7314,24,7324,0,12]
[21,7642,11,7656,22,7666,14,7677,24,7705,0,21]
[12,7818,24,7829,13,7842,23,7851,13,7866,0,12]
[21,9436,22,9449,24,9460,14,9475,24,9484,0,22]
[12,9644,24,10273,13,10291,23,10304,13,10320,0,12]
[12,10433,24,10459,13,10470,23,10480,13,10499,0,12]
[12,11920,13,11932,13,11943,14,11954,13,11965,0,11]
[21,12657,22,12684,24,12706,14,12719,24,12735,0,22]
[12,12890,13,12907,13,12916,23,12926,13,12939,0,11]
[12,13298,24,13314,24,13338,23,13357,24,13378,0,12]
[12,14316,24,14328,24,14353,14,14369,24,14379,0,12]
[12,14557,24,14567,13,14578,23,14587,13,14601,0,12]
[12,15924,24,15934,24,15948,14,15958,24,15968,0,12]
[21,16255,11,16267,22,16282,14,16293,24,16304,0,21]
[12,17101,24,17112,13,17130,23,17139,13,17154,0,12]
[12,18527,13,18546,24,18575,14,18597,24,18607,0,11]
[21,18963,11,18993,22,19004,14,19019,24,19030,0,21]
[21,20226,11,20330,11,20649,12,20664,13,20687,0,21]

{"sheet":"!N109900.105","index":42,"n_rows":33,"n_cols":48,"rows_kept":33,"cut":false,"hidden":false,"merged":[[4,39,4,42],[5,39,5,40],[4,44,4,47],[5,44,5,45],[4,24,4,27],[5,24,5,25],[4,29,4,32],[5,29,5,30],[4,34,4,37],[5,34,5,35],[1,1,1,2],[5,13,5,14],[18,13,18,14],[19,13,19,14],[4,19,4,22],[5,19,5,20]]}
["Report for:!N109900.105"]
["Date:","<date>"]
["Hen:","<hen>",null,null,null,"Correct Sequence",{"$f":"Start!J2","v":12},null,null,null,null,null,null,null,null,"Total Sequences in Data",{"$f":"4994-COUNTBLANK(L7:L5000)","v":27},null,null,null,null,"Total Sequences in Block Data",{"$f":"COUNTA(L7:L11)","v":5},null,null,null,"Total Sequences in Block Data",{"$f":"COUNTA(L12:L15)","v":4},null,null,null,"Total Sequences in Block Data",{"$f":"COUNTA(L16:L20)","v":5},null,null,null,"Total Sequences in Block Data",{"$f":"COUNTA(L21:L24)","v":4},null,null,null,"Total Sequences in Block Data",{"$f":"COUNTA(L25:L29)","v":5},null,null,null,"Total Sequences in Block Data",{"$f":"COUNTA(L30:L33)","v":4}]
[null,null,null,null,null,null,null,null,null,null,null,null,null,null,null,"Total Sequences in Summary",{"$f":"SUM(O7:O14)","v":27},null,null,null,null,"Total Sequences in Block Summary",{"$f":"SUM(U7:U14)","v":5},null,null,null,"Total Sequences in Block Summary",{"$f":"SUM(Z7:Z14)","v":4},null,null,null,"Total Sequences in Block Summary",{"$f":"SUM(AE7:AE14)","v":5},null,null,null,"Total Sequences in Block Summary",{"$f":"SUM(AJ7:AJ14)","v":4},null,null,null,"Total Sequences in Block Summary",{"$f":"SUM(AO7:AO14)","v":5},null,null,null,"Total Sequences in Block Summary",{"$f":"SUM(AT7:AT14)","v":4}]
[null,null,null,null,null,null,null,null,null,null,null,null,null,null,null,null,null,null,null,"Block 1",null,null,null,null,"Block 2",null,null,null,null,"Block 3",null,null,null,null,"Block 4",null,null,null,null,"Block 5",null,null,null,null,"Block 6"]
["Sequence\nComponent\n1","Time\n1","Sequence\nComponent\n2","Time\n2","Sequence\nComponent\n3","Time\n3","Sequence\nComponent\n4","Time\n4","Sequence\nComponent\n5","Time\n5","Correct?\n0=No 1=Yes","Sequence",null,"Frequency",null,"Relative Frequency","Variability",null,null,"Frequency",null,"Relative Frequency","Variability",null,"Frequency",null,"Relative Frequency","Variability",null,"Frequency",null,"Relative Frequency","Variability",null,"Frequency",null,"Relative Frequency","Variability",null,"Frequency",null,"Relative Frequency","Variability",null,"Frequency",null,"Relative Frequency","Variability"]
[21,54,22,84,24,91,14,103,24,115,1,22,null,11,{"$f":"COUNTIF($L$7:$L$500,N7)","v":0},{"$f":"O7/$Q$4","v":0},{"$f":"IF(P7=0,0,(P7*((LOG(P7))/LOG(2))))","v":0},null,null,{"$f":"N7","v":11},{"$f":"COUNTIF(L7:L11,T7)","v":0},{"$f":"U7/(W4-U8)","v":0},{"$f":"IF(V7=0,0,(V7*((LOG(V7))/LOG(2))))","v":0},null,{"$f":"N7","v":11},{"$f":"COUNTIF(L12:L15,Y7)","v":0},{"$f":"Z7/(AB4-Z8)","v":0},{"$f":"IF(AA7=0,0,(AA7*((LOG(AA7))/LOG(2))))","v":0},null,{"$f":"N7","v":11},{"$f":"COUNTIF(L16:L20,AD7)","v":0},{"$f":"AE7/(AG4-AE8)","v":{"$error":"#DIV/0!"}},{"$f":"IF(AF7=0,0,(AF7*((LOG(AF7))/LOG(2))))","v":{"$error":"#DIV/0!"}},null,{"$f":"N7","v":11},{"$f":"COUNTIF(L21:L24,AI7)","v":0},{"$f":"AJ7/(AL4-AJ8)","v":0},{"$f":"IF(AK7=0,0,(AK7*((LOG(AK7))/LOG(2))))","v":0},null,{"$f":"N7","v":11},{"$f":"COUNTIF(L25:L29,AN7)","v":0},{"$f":"AO7/(AQ4-AO8)","v":0},{"$f":"IF(AP7=0,0,(AP7*((LOG(AP7))/LOG(2))))","v":0},null,{"$f":"N7","v":11},{"$f":"COUNTIF(L30:L33,AS7)","v":0},{"$f":"AT7/(AV4-AT8)","v":0},{"$f":"IF(AU7=0,0,(AU7*((LOG(AU7))/LOG(2))))","v":0}]
[21,231,22,255,24,270,14,282,24,292,0,22,null,12,{"$f":"COUNTIF($L$7:$L$500,N8)","v":12},{"$f":"O8/$Q$4","v":0.44444444444444442},{"$f":"IF(P8=0,0,(P8*((LOG(P8))/LOG(2))))","v":-0.51996666730769447},null,null,{"$f":"N8","v":12},{"$f":"COUNTIF(L7:L11,T8)","v":0},null,null,null,{"$f":"N8","v":12},{"$f":"COUNTIF(L12:L15,Y8)","v":2},null,null,null,{"$f":"N8","v":12},{"$f":"COUNTIF(L16:L20,AD8)","v":5},null,null,null,{"$f":"N8","v":12},{"$f":"COUNTIF(L21:L24,AI8)","v":1},null,null,null,{"$f":"N8","v":12},{"$f":"COUNTIF(L25:L29,AN8)","v":4},null,null,null,{"$f":"N8","v":12},{"$f":"COUNTIF(L30:L33,AS8)","v":0}]
[21,413,22,427,24,444,23,452,13,465,0,22,null,21,{"$f":"COUNTIF($L$7:$L$500,N9)","v":9},{"$f":"O9/$Q$4","v":0.33333333333333331},{"$f":"IF(P9=0,0,(P9*((LOG(P9))/LOG(2))))","v":-0.52832083357371862},null,null,{"$f":"N9","v":21},{"$f":"COUNTIF(L7:L11,T9)","v":2},{"$f":"U9/(W4-U8)","v":0.4},{"$f":"IF(V9=0,0,(V9*((LOG(V9))/LOG(2))))","v":-0.52877123795494496},null,{"$f":"N9","v":21},{"$f":"COUNTIF(L12:L15,Y9)","v":2},{"$f":"Z9/(AB4-Z8)","v":1},{"$f":"IF(AA9=0,0,(AA9*((LOG(AA9))/LOG(2))))","v":0},null,{"$f":"N9","v":21},{"$f":"COUNTIF(L16:L20,AD9)","v":0},{"$f":"AE9/(AG4-AE8)","v":{"$error":"#DIV/0!"}},{"$f":"IF(AF9=0,0,(AF9*((LOG(AF9))/LOG(2))))","v":{"$error":"#DIV/0!"}},null,{"$f":"N9","v":21},{"$f":"COUNTIF(L21:L24,AI9)","v":2},{"$f":"AJ9/(AL4-AJ8)","v":0.66666666666666663},{"$f":"IF(AK9=0,0,(AK9*((LOG(AK9))/LOG(2))))","v":-0.38997500048077083},null,{"$f":"N9","v":21},{"$f":"COUNTIF(L25:L29,AN9)","v":0},{"$f":"AO9/(AQ4-AO8)","v":0},{"$f":"IF(AP9=0,0,(AP9*((LOG(AP9))/LOG(2))))","v":0},null,{"$f":"N9","v":21},{"$f":"COUNTIF(L30:L33,AS9)","v":3},{"$f":"AT9/(AV4-AT8)","v":0.75},{"$f":"IF(AU9=0,0,(AU9*((LOG(AU9))/LOG(2))))","v":-0.31127812445913283}]
[21,604,11,614,22,624,14,638,24,648,0,21,null,22,{"$f":"COUNTIF($L$7:$L$500,N10)","v":6},{"$f":"O10/$Q$4","v":0.22222222222222221},{"$f":"IF(P10=0,0,(P10*((LOG(P10))/LOG(2))))","v":-0.48220555587606945},null,null,{"$f":"N10","v":22},{"$f":"COUNTIF(L7:L11,T10)","v":3},{"$f":"U10/(W4-U8)","v":0.6},{"$f":"IF(V10=0,0,(V10*((LOG(V10))/LOG(2))))","v":-0.44217935649972373},null,{"$f":"N10","v":22},{"$f":"COUNTIF(L12:L15,Y10)","v":0},{"$f":"Z10/(AB4-Z8)","v":0},{"$f":"IF(AA10=0,0,(AA10*((LOG(AA10))/LOG(2))))","v":0},null,{"$f":"N10","v":22},{"$f":"COUNTIF(L16:L20,AD10)","v":0},{"$f":"AE10/(AG4-AE8)","v":{"$error":"#DIV/0!"}},{"$f":"IF(AF10=0,0,(AF10*((LOG(AF10))/LOG(2))))","v":{"$error":"#DIV/0!"}},null,{"$f":"N10","v":22},{"$f":"COUNTIF(L21:L24,AI10)","v":1},{"$f":"AJ10/(AL4-AJ8)","v":0.33333333333333331},{"$f":"IF(AK10=0,0,(AK10*((LOG(AK10))/LOG(2))))","v":-0.52832083357371862},null,{"$f":"N10","v":22},{"$f":"COUNTIF(L25:L29,AN10)","v":1},{"$f":"AO10/(AQ4-AO8)","v":1},{"$f":"IF(AP10=0,0,(AP10*((LOG(AP10))/LOG(2))))","v":0},null,{"$f":"N10","v":22},{"$f":"COUNTIF(L30:L33,AS10)","v":1},{"$f":"AT10/(AV4-AT8)","v":0.25},{"$f":"IF(AU10=0,0,(AU10*((LOG(AU10))/LOG(2))))","v":-0.5}]
[21,771,11,782,22,792,23,825,13,835,0,21,null,null,null,null,null,null,null,{"$f":"N11","v":0},{"$f":"COUNTIF(L7:L11,T11)","v":0},{"$f":"U11/(W4-U8)","v":0},{"$f":"IF(V11=0,0,(V11*((LOG(V11))/LOG(2))))","v":0},null,{"$f":"N11","v":0},{"$f":"COUNTIF(L12:L15,Y11)","v":0},{"$f":"Z11/(AB4-Z8)","v":0},{"$f":"IF(AA11=0,0,(AA11*((LOG(AA11))/LOG(2))))","v":0},null,{"$f":"N11","v":0},{"$f":"COUNTIF(L16:L20,AD11)","v":0},{"$f":"AE11/(AG4-AE8)","v":{"$error":"#DIV/0!"}},{"$f":"IF(AF11=0,0,(AF11*((LOG(AF11))/LOG(2))))","v":{"$error":"#DIV/0!"}},null,{"$f":"N11","v":0},{"$f":"COUNTIF(L21:L24,AI11)","v":0},{"$f":"AJ11/(AL4-AJ8)","v":0},{"$f":"IF(AK11=0,0,(AK11*((LOG(AK11))/LOG(2))))","v":0},null,{"$f":"N11","v":0},{"$f":"COUNTIF(L25:L29,AN11)","v":0},{"$f":"AO11/(AQ4-AO8)","v":0},{"$f":"IF(AP11=0,0,(AP11*((LOG(AP11))/LOG(2))))","v":0},null,{"$f":"N11","v":0},{"$f":"COUNTIF(L30:L33,AS11)","v":0},{"$f":"AT11/(AV4-AT8)","v":0},{"$f":"IF(AU11=0,0,(AU11*((LOG(AU11))/LOG(2))))","v":0}]
[12,962,24,973,24,1001,14,1018,24,1029,0,12,null,null,null,null,null,null,null,{"$f":"N12","v":0},{"$f":"COUNTIF(L7:L11,T12)","v":0},{"$f":"U12/(W4-U8)","v":0},{"$f":"IF(V12=0,0,(V12*((LOG(V12))/LOG(2))))","v":0},null,{"$f":"N12","v":0},{"$f":"COUNTIF(L12:L15,Y12)","v":0},{"$f":"Z12/(AB4-Z8)","v":0},{"$f":"IF(AA12=0,0,(AA12*((LOG(AA12))/LOG(2))))","v":0},null,{"$f":"N12","v":0},{"$f":"COUNTIF(L16:L20,AD12)","v":0},{"$f":"AE12/(AG4-AE8)","v":{"$error":"#DIV/0!"}},{"$f":"IF(AF12=0,0,(AF12*((LOG(AF12))/LOG(2))))","v":{"$error":"#DIV/0!"}},null,{"$f":"N12","v":0},{"$f":"COUNTIF(L21:L24,AI12)","v":0},{"$f":"AJ12/(AL4-AJ8)","v":0},{"$f":"IF(AK12=0,0,(AK12*((LOG(AK12))/LOG(2))))","v":0},null,{"$f":"N12","v":0},{"$f":"COUNTIF(L25:L29,AN12)","v":0},{"$f":"AO12/(AQ4-AO8)","v":0},{"$f":"IF(AP12=0,0,(AP12*((LOG(AP12))/LOG(2))))","v":0},null,{"$f":"N12","v":0},{"$f":"COUNTIF(L30:L33,AS12)","v":0},{"$f":"AT12/(AV4-AT8)","v":0},{"$f":"IF(AU12=0,0,(AU12*((LOG(AU12))/LOG(2))))","v":0}]
[12,1148,24,1160,13,1172,23,1182,24,1190,0,12,null,null,null,null,null,null,null,{"$f":"N13","v":0},{"$f":"COUNTIF(L7:L11,T13)","v":0},{"$f":"U13/(W4-U8)","v":0},{"$f":"IF(V13=0,0,(V13*((LOG(V13))/LOG(2))))","v":0},null,{"$f":"N13","v":0},{"$f":"COUNTIF(L12:L15,Y13)","v":0},{"$f":"Z13/(AB4-Z8)","v":0},{"$f":"IF(AA13=0,0,(AA13*((LOG(AA13))/LOG(2))))","v":0},null,{"$f":"N13","v":0},{"$f":"COUNTIF(L16:L20,AD13)","v":0},{"$f":"AE13/(AG4-AE8)","v":{"$error":"#DIV/0!"}},{"$f":"IF(AF13=0,0,(AF13*((LOG(AF13))/LOG(2))))","v":{"$error":"#DIV/0!"}},null,{"$f":"N13","v":0},{"$f":"COUNTIF(L21:L24,AI13)","v":0},{"$f":"AJ13/(AL4-AJ8)","v":0},{"$f":"IF(AK13=0,0,(AK13*((LOG(AK13))/LOG(2))))","v":0},null,{"$f":"N13","v":0},{"$f":"COUNTIF(L25:L29,AN13)","v":0},{"$f":"AO13/(AQ4-AO8)","v":0},{"$f":"IF(AP13=0,0,(AP13*((LOG(AP13))/LOG(2))))","v":0},null,{"$f":"N13","v":0},{"$f":"COUNTIF(L30:L33,AS13)","v":0},{"$f":"AT13/(AV4-AT8)","v":0},{"$f":"IF(AU13=0,0,(AU13*((LOG(AU13))/LOG(2))))","v":0}]
[21,1313,11,1322,22,1333,14,1344,24,1355,0,21,null,null,null,null,null,null,null,{"$f":"N14","v":0},{"$f":"COUNTIF(L7:L11,T14)","v":0},{"$f":"U14/(W4-U8)","v":0},{"$f":"IF(V14=0,0,(V14*((LOG(V14))/LOG(2))))","v":0},null,{"$f":"N14","v":0},{"$f":"COUNTIF(L12:L15,Y14)","v":0},{"$f":"Z14/(AB4-Z8)","v":0},{"$f":"IF(AA14=0,0,(AA14*((LOG(AA14))/LOG(2))))","v":0},null,{"$f":"N14","v":0},{"$f":"COUNTIF(L16:L20,AD14)","v":0},{"$f":"AE14/(AG4-AE8)","v":{"$error":"#DIV/0!"}},{"$f":"IF(AF14=0,0,(AF14*((LOG(AF14))/LOG(2))))","v":{"$error":"#DIV/0!"}},null,{"$f":"N14","v":0},{"$f":"COUNTIF(L21:L24,AI14)","v":0},{"$f":"AJ14/(AL4-AJ8)","v":0},{"$f":"IF(AK14=0,0,(AK14*((LOG(AK14))/LOG(2))))","v":0},null,{"$f":"N14","v":0},{"$f":"COUNTIF(L25:L29,AN14)","v":0},{"$f":"AO14/(AQ4-AO8)","v":0},{"$f":"IF(AP14=0,0,(AP14*((LOG(AP14))/LOG(2))))","v":0},null,{"$f":"N14","v":0},{"$f":"COUNTIF(L30:L33,AS14)","v":0},{"$f":"AT14/(AV4-AT8)","v":0},{"$f":"IF(AU14=0,0,(AU14*((LOG(AU14))/LOG(2))))","v":0}]
[21,1483,11,1493,22,1503,14,1516,24,1526,0,21,null,null,null,{"$f":"SUM(P7:P14)","v":0.99999999999999989},{"$f":"-SUM(Q7:Q14)","v":1.5304930567574824},null,null,null,null,{"$f":"SUM(V7:V14)","v":1},{"$f":"-SUM(W7:W14)","v":0.97095059445466869},null,null,null,{"$f":"SUM(AA7:AA14)","v":1},{"$f":"-SUM(AB7:AB14)","v":0},null,null,null,{"$f":"SUM(AF7:AF14)","v":{"$error":"#DIV/0!"}},{"$f":"-SUM(AG7:AG14)","v":{"$error":"#DIV/0!"}},null,null,null,{"$f":"SUM(AK7:AK14)","v":1},{"$f":"-SUM(AL7:AL14)","v":0.91829583405448945},null,null,null,{"$f":"SUM(AP7:AP14)","v":1},{"$f":"-SUM(AQ7:AQ14)","v":0},null,null,null,{"$f":"SUM(AU7:AU14)","v":1},{"$f":"-SUM(AV7:AV14)","v":0.81127812445913283}]
[12,1627,24,1637,13,1646,23,1656,13,1666,0,12,null,null,null,"U=",{"$f":"Q15/(LOG(Q4)/LOG(2))","v":0.32187786904760834},null,null,null,null,"U1=",{"$f":"W15/(LOG(W4)/LOG(2))","v":0.41816566007905159},null,null,null,"U2=",{"$f":"AB15/(LOG(AB4)/LOG(2))","v":0},null,null,null,"U3=",{"$f":"AG15/(LOG(AG4)/LOG(2))","v":{"$error":"#DIV/0!"}},null,null,null,"U4=",{"$f":"AL15/(LOG(AL4)/LOG(2))","v":0.45914791702724472},null,null,null,"U5=",{"$f":"AQ15/(LOG(AQ4)/LOG(2))","v":0},null,null,null,"U6=",{"$f":"AV15/(LOG(AV4)/LOG(2))","v":0.40563906222956642}]
[12,1786,24,1797,13,1807,23,1818,13,1835,0,12]
[12,1942,24,1951,13,1958,23,1968,13,1978,0,12]
[12,2104,24,2116,24,2135,14,2147,24,2160,0,12,null,"Total Target Seq"]
[12,2292,24,2304,13,2313,23,2325,13,2334,0,12,null,{"$f":"COUNTIF(L7:L33,G3)","v":12},null,5,4,5,4,5,4]
[21,2584,11,2601,22,2624,23,2636,24,2649,0,21,null,null,null,"% of reinforcement given in 6 equal intervals based on number of trials "]
[21,2876,11,2886,22,2899,23,2935,24,2954,0,21,null,null,null,"%_1","%_2","%_3","%_4","%_5","%_6"]
[12,3071,24,3082,24,3103,23,4274,24,4294,0,12,null,null,"target sequence",{"$f":"$G$3","v":12},{"$f":"$G$3","v":12},{"$f":"$G$3","v":12},{"$f":"$G$3","v":12},{"$f":"$G$3","v":12},{"$f":"$G$3","v":12}]
[21,5010,22,5027,24,5160,14,5178,24,5195,0,22,null,null,"total reinforcement",{"$f":"U8","v":0},{"$f":"Z8","v":2},{"$f":"AE8","v":5},{"$f":"AJ8","v":1},{"$f":"AO8","v":4},{"$f":"AT8","v":0}]
[12,6366,24,6417,24,6433,23,6487,24,6564,0,12,null,null,"% target"]
[12,7655,24,7681,24,7712,14,7724,24,7804,0,12,null,null,"CCRF"]
[21,7974,22,7986,13,8001,23,8026,13,8072,0,22,null,null,"% CCRf"]
[12,8186,24,8197,24,8209,14,8220,13,8243,0,12,null,null,"average response rate",{"$f":"D11/P20","v":156.4},{"$f":"(D15-D11)/Q20","v":177.75},{"$f":"(D20-D15)/R20","v":162.19999999999999},{"$f":"(D24-D20)/S20","v":680.75},{"$f":"(D29-D24)/T20","v":673},{"$f":"(D33-D29)/U20","v":3012.75}]
[12,8380,24,8392,13,8406,14,8431,24,8443,0,12]
[21,8612,11,8632,22,8643,14,8657,24,8671,0,21]
[21,8797,11,8830,11,8853,21,8864,22,8885,0,21]
[21,9024,11,9035,22,9046,14,9145,24,9156,0,21]
[21,20429,22,20443,24,20473,23,20486,24,20514,0,22]

{"sheet":"!N110A10.105","index":43,"n_rows":32,"n_cols":48,"rows_kept":32,"cut":false,"hidden":false,"merged":[[4,39,4,42],[5,39,5,40],[4,44,4,47],[5,44,5,45],[4,24,4,27],[5,24,5,25],[4,29,4,32],[5,29,5,30],[4,34,4,37],[5,34,5,35],[1,1,1,2],[5,13,5,14],[18,13,18,14],[19,13,19,14],[4,19,4,22],[5,19,5,20]]}
["Report for:!N110A10.105"]
["Date:","<date>"]
["Hen:","<hen>",null,null,null,"Correct Sequence",{"$f":"Start!J2","v":12},null,null,null,null,null,null,null,null,"Total Sequences in Data",{"$f":"4994-COUNTBLANK(L7:L5000)","v":26},null,null,null,null,"Total Sequences in Block Data",{"$f":"COUNTA(L7:L10)","v":4},null,null,null,"Total Sequences in Block Data",{"$f":"COUNTA(L11:L15)","v":5},null,null,null,"Total Sequences in Block Data",{"$f":"COUNTA(L16:L19)","v":4},null,null,null,"Total Sequences in Block Data",{"$f":"COUNTA(L20:L23)","v":4},null,null,null,"Total Sequences in Block Data",{"$f":"COUNTA(L24:L28)","v":5},null,null,null,"Total Sequences in Block Data",{"$f":"COUNTA(L29:L32)","v":4}]
[null,null,null,null,null,null,null,null,null,null,null,null,null,null,null,"Total Sequences in Summary",{"$f":"SUM(O7:O14)","v":26},null,null,null,null,"Total Sequences in Block Summary",{"$f":"SUM(U7:U14)","v":4},null,null,null,"Total Sequences in Block Summary",{"$f":"SUM(Z7:Z14)","v":5},null,null,null,"Total Sequences in Block Summary",{"$f":"SUM(AE7:AE14)","v":4},null,null,null,"Total Sequences in Block Summary",{"$f":"SUM(AJ7:AJ14)","v":4},null,null,null,"Total Sequences in Block Summary",{"$f":"SUM(AO7:AO14)","v":5},null,null,null,"Total Sequences in Block Summary",{"$f":"SUM(AT7:AT14)","v":4}]
[null,null,null,null,null,null,null,null,null,null,null,null,null,null,null,null,null,null,null,"Block 1",null,null,null,null,"Block 2",null,null,null,null,"Block 3",null,null,null,null,"Block 4",null,null,null,null,"Block 5",null,null,null,null,"Block 6"]
["Sequence\nComponent\n1","Time\n1","Sequence\nComponent\n2","Time\n2","Sequence\nComponent\n3","Time\n3","Sequence\nComponent\n4","Time\n4","Sequence\nComponent\n5","Time\n5","Correct?\n0=No 1=Yes","Sequence",null,"Frequency",null,"Relative Frequency","Variability",null,null,"Frequency",null,"Relative Frequency","Variability",null,"Frequency",null,"Relative Frequency","Variability",null,"Frequency",null,"Relative Frequency","Variability",null,"Frequency",null,"Relative Frequency","Variability",null,"Frequency",null,"Relative Frequency","Variability",null,"Frequency",null,"Relative Frequency","Variability"]
[12,18,13,35,24,44,14,61,24,71,0,11,null,11,{"$f":"COUNTIF($L$7:$L$500,N7)","v":6},{"$f":"O7/$Q$4","v":0.23076923076923078},{"$f":"IF(P7=0,0,(P7*((LOG(P7))/LOG(2))))","v":-0.48818705017383146},null,null,{"$f":"N7","v":11},{"$f":"COUNTIF(L7:L10,T7)","v":1},{"$f":"U7/(W4-U8)","v":0.5},{"$f":"IF(V7=0,0,(V7*((LOG(V7))/LOG(2))))","v":-0.5},null,{"$f":"N7","v":11},{"$f":"COUNTIF(L11:L15,Y7)","v":1},{"$f":"Z7/(AB4-Z8)","v":0.5},{"$f":"IF(AA7=0,0,(AA7*((LOG(AA7))/LOG(2))))","v":-0.5},null,{"$f":"N7","v":11},{"$f":"COUNTIF(L16:L19,AD7)","v":1},{"$f":"AE7/(AG4-AE8)","v":0.33333333333333331},{"$f":"IF(AF7=0,0,(AF7*((LOG(AF7))/LOG(2))))","v":-0.52832083357371862},null,{"$f":"N7","v":11},{"$f":"COUNTIF(L20:L23,AI7)","v":0},{"$f":"AJ7/(AL4-AJ8)","v":0},{"$f":"IF(AK7=0,0,(AK7*((LOG(AK7))/LOG(2))))","v":0},null,{"$f":"N7","v":11},{"$f":"COUNTIF(L24:L28,AN7)","v":1},{"$f":"AO7/(AQ4-AO8)","v":0.5},{"$f":"IF(AP7=0,0,(AP7*((LOG(AP7))/LOG(2))))","v":-0.5},null,{"$f":"N7","v":11},{"$f":"COUNTIF(L29:L32,AS7)","v":2},{"$f":"AT7/(AV4-AT8)","v":1},{"$f":"IF(AU7=0,0,(AU7*((LOG(AU7))/LOG(2))))","v":0}]
[12,191,24,201,13,212,23,219,13,236,0,12,null,12,{"$f":"COUNTIF($L$7:$L$500,N8)","v":13},{"$f":"O8/$Q$4","v":0.5},{"$f":"IF(P8=0,0,(P8*((LOG(P8))/LOG(2))))","v":-0.5},null,null,{"$f":"N8","v":12},{"$f":"COUNTIF(L7:L10,T8)","v":2},null,null,null,{"$f":"N8","v":12},{"$f":"COUNTIF(L11:L15,Y8)","v":3},null,null,null,{"$f":"N8","v":12},{"$f":"COUNTIF(L16:L19,AD8)","v":1},null,null,null,{"$f":"N8","v":12},{"$f":"COUNTIF(L20:L23,AI8)","v":2},null,null,null,{"$f":"N8","v":12},{"$f":"COUNTIF(L24:L28,AN8)","v":3},null,null,null,{"$f":"N8","v":12},{"$f":"COUNTIF(L29:L32,AS8)","v":2}]
[21,356,11,379,22,386,14,401,24,410,0,21,null,21,{"$f":"COUNTIF($L$7:$L$500,N9)","v":3},{"$f":"O9/$Q$4","v":0.11538461538461539},{"$f":"IF(P9=0,0,(P9*((LOG(P9))/LOG(2))))","v":-0.35947814047153104},null,null,{"$f":"N9","v":21},{"$f":"COUNTIF(L7:L10,T9)","v":1},{"$f":"U9/(W4-U8)","v":0.5},{"$f":"IF(V9=0,0,(V9*((LOG(V9))/LOG(2))))","v":-0.5},null,{"$f":"N9","v":21},{"$f":"COUNTIF(L11:L15,Y9)","v":0},{"$f":"Z9/(AB4-Z8)","v":0},{"$f":"IF(AA9=0,0,(AA9*((LOG(AA9))/LOG(2))))","v":0},null,{"$f":"N9","v":21},{"$f":"COUNTIF(L16:L19,AD9)","v":0},{"$f":"AE9/(AG4-AE8)","v":0},{"$f":"IF(AF9=0,0,(AF9*((LOG(AF9))/LOG(2))))","v":0},null,{"$f":"N9","v":21},{"$f":"COUNTIF(L20:L23,AI9)","v":1},{"$f":"AJ9/(AL4-AJ8)","v":0.5},{"$f":"IF(AK9=0,0,(AK9*((LOG(AK9))/LOG(2))))","v":-0.5},null,{"$f":"N9","v":21},{"$f":"COUNTIF(L24:L28,AN9)","v":1},{"$f":"AO9/(AQ4-AO8)","v":0.5},{"$f":"IF(AP9=0,0,(AP9*((LOG(AP9))/LOG(2))))","v":-0.5},null,{"$f":"N9","v":21},{"$f":"COUNTIF(L29:L32,AS9)","v":0},{"$f":"AT9/(AV4-AT8)","v":0},{"$f":"IF(AU9=0,0,(AU9*((LOG(AU9))/LOG(2))))","v":0}]
[12,537,24,548,13,559,23,568,13,581,0,12,null,22,{"$f":"COUNTIF($L$7:$L$500,N10)","v":4},{"$f":"O10/$Q$4","v":0.15384615384615385},{"$f":"IF(P10=0,0,(P10*((LOG(P10))/LOG(2))))","v":-0.4154522643293988},null,null,{"$f":"N10","v":22},{"$f":"COUNTIF(L7:L10,T10)","v":0},{"$f":"U10/(W4-U8)","v":0},{"$f":"IF(V10=0,0,(V10*((LOG(V10))/LOG(2))))","v":0},null,{"$f":"N10","v":22},{"$f":"COUNTIF(L11:L15,Y10)","v":1},{"$f":"Z10/(AB4-Z8)","v":0.5},{"$f":"IF(AA10=0,0,(AA10*((LOG(AA10))/LOG(2))))","v":-0.5},null,{"$f":"N10","v":22},{"$f":"COUNTIF(L16:L19,AD10)","v":2},{"$f":"AE10/(AG4-AE8)","v":0.66666666666666663},{"$f":"IF(AF10=0,0,(AF10*((LOG(AF10))/LOG(2))))","v":-0.38997500048077083},null,{"$f":"N10","v":22},{"$f":"COUNTIF(L20:L23,AI10)","v":1},{"$f":"AJ10/(AL4-AJ8)","v":0.5},{"$f":"IF(AK10=0,0,(AK10*((LOG(AK10))/LOG(2))))","v":-0.5},null,{"$f":"N10","v":22},{"$f":"COUNTIF(L24:L28,AN10)","v":0},{"$f":"AO10/(AQ4-AO8)","v":0},{"$f":"IF(AP10=0,0,(AP10*((LOG(AP10))/LOG(2))))","v":0},null,{"$f":"N10","v":22},{"$f":"COUNTIF(L29:L32,AS10)","v":0},{"$f":"AT10/(AV4-AT8)","v":0},{"$f":"IF(AU10=0,0,(AU10*((LOG(AU10))/LOG(2))))","v":0}]
[12,689,24,696,13,707,23,713,13,725,0,12,null,null,null,null,null,null,null,{"$f":"N11","v":0},{"$f":"COUNTIF(L7:L10,T11)","v":0},{"$f":"U11/(W4-U8)","v":0},{"$f":"IF(V11=0,0,(V11*((LOG(V11))/LOG(2))))","v":0},null,{"$f":"N11","v":0},{"$f":"COUNTIF(L11:L15,Y11)","v":0},{"$f":"Z11/(AB4-Z8)","v":0},{"$f":"IF(AA11=0,0,(AA11*((LOG(AA11))/LOG(2))))","v":0},null,{"$f":"N11","v":0},{"$f":"COUNTIF(L16:L19,AD11)","v":0},{"$f":"AE11/(AG4-AE8)","v":0},{"$f":"IF(AF11=0,0,(AF11*((LOG(AF11))/LOG(2))))","v":0},null,{"$f":"N11","v":0},{"$f":"COUNTIF(L20:L23,AI11)","v":0},{"$f":"AJ11/(AL4-AJ8)","v":0},{"$f":"IF(AK11=0,0,(AK11*((LOG(AK11))/LOG(2))))","v":0},null,{"$f":"N11","v":0},{"$f":"COUNTIF(L24:L28,AN11)","v":0},{"$f":"AO11/(AQ4-AO8)","v":0},{"$f":"IF(AP11=0,0,(AP11*((LOG(AP11))/LOG(2))))","v":0},null,{"$f":"N11","v":0},{"$f":"COUNTIF(L29:L32,AS11)","v":0},{"$f":"AT11/(AV4-AT8)","v":0},{"$f":"IF(AU11=0,0,(AU11*((LOG(AU11))/LOG(2))))","v":0}]
[21,848,22,861,24,873,14,884,24,893,0,22,null,null,null,null,null,null,null,{"$f":"N12","v":0},{"$f":"COUNTIF(L7:L10,T12)","v":0},{"$f":"U12/(W4-U8)","v":0},{"$f":"IF(V12=0,0,(V12*((LOG(V12))/LOG(2))))","v":0},null,{"$f":"N12","v":0},{"$f":"COUNTIF(L11:L15,Y12)","v":0},{"$f":"Z12/(AB4-Z8)","v":0},{"$f":"IF(AA12=0,0,(AA12*((LOG(AA12))/LOG(2))))","v":0},null,{"$f":"N12","v":0},{"$f":"COUNTIF(L16:L19,AD12)","v":0},{"$f":"AE12/(AG4-AE8)","v":0},{"$f":"IF(AF12=0,0,(AF12*((LOG(AF12))/LOG(2))))","v":0},null,{"$f":"N12","v":0},{"$f":"COUNTIF(L20:L23,AI12)","v":0},{"$f":"AJ12/(AL4-AJ8)","v":0},{"$f":"IF(AK12=0,0,(AK12*((LOG(AK12))/LOG(2))))","v":0},null,{"$f":"N12","v":0},{"$f":"COUNTIF(L24:L28,AN12)","v":0},{"$f":"AO12/(AQ4-AO8)","v":0},{"$f":"IF(AP12=0,0,(AP12*((LOG(AP12))/LOG(2))))","v":0},null,{"$f":"N12","v":0},{"$f":"COUNTIF(L29:L32,AS12)","v":0},{"$f":"AT12/(AV4-AT8)","v":0},{"$f":"IF(AU12=0,0,(AU12*((LOG(AU12))/LOG(2))))","v":0}]
[12,1019,24,1031,13,1042,23,1049,24,1068,0,12,null,null,null,null,null,null,null,{"$f":"N13","v":0},{"$f":"COUNTIF(L7:L10,T13)","v":0},{"$f":"U13/(W4-U8)","v":0},{"$f":"IF(V13=0,0,(V13*((LOG(V13))/LOG(2))))","v":0},null,{"$f":"N13","v":0},{"$f":"COUNTIF(L11:L15,Y13)","v":0},{"$f":"Z13/(AB4-Z8)","v":0},{"$f":"IF(AA13=0,0,(AA13*((LOG(AA13))/LOG(2))))","v":0},null,{"$f":"N13","v":0},{"$f":"COUNTIF(L16:L19,AD13)","v":0},{"$f":"AE13/(AG4-AE8)","v":0},{"$f":"IF(AF13=0,0,(AF13*((LOG(AF13))/LOG(2))))","v":0},null,{"$f":"N13","v":0},{"$f":"COUNTIF(L20:L23,AI13)","v":0},{"$f":"AJ13/(AL4-AJ8)","v":0},{"$f":"IF(AK13=0,0,(AK13*((LOG(AK13))/LOG(2))))","v":0},null,{"$f":"N13","v":0},{"$f":"COUNTIF(L24:L28,AN13)","v":0},{"$f":"AO13/(AQ4-AO8)","v":0},{"$f":"IF(AP13=0,0,(AP13*((LOG(AP13))/LOG(2))))","v":0},null,{"$f":"N13","v":0},{"$f":"COUNTIF(L29:L32,AS13)","v":0},{"$f":"AT13/(AV4-AT8)","v":0},{"$f":"IF(AU13=0,0,(AU13*((LOG(AU13))/LOG(2))))","v":0}]
[12,1175,13,1187,24,1199,23,1211,13,1221,0,11,null,null,null,null,null,null,null,{"$f":"N14","v":0},{"$f":"COUNTIF(L7:L10,T14)","v":0},{"$f":"U14/(W4-U8)","v":0},{"$f":"IF(V14=0,0,(V14*((LOG(V14))/LOG(2))))","v":0},null,{"$f":"N14","v":0},{"$f":"COUNTIF(L11:L15,Y14)","v":0},{"$f":"Z14/(AB4-Z8)","v":0},{"$f":"IF(AA14=0,0,(AA14*((LOG(AA14))/LOG(2))))","v":0},null,{"$f":"N14","v":0},{"$f":"COUNTIF(L16:L19,AD14)","v":0},{"$f":"AE14/(AG4-AE8)","v":0},{"$f":"IF(AF14=0,0,(AF14*((LOG(AF14))/LOG(2))))","v":0},null,{"$f":"N14","v":0},{"$f":"COUNTIF(L20:L23,AI14)","v":0},{"$f":"AJ14/(AL4-AJ8)","v":0},{"$f":"IF(AK14=0,0,(AK14*((LOG(AK14))/LOG(2))))","v":0},null,{"$f":"N14","v":0},{"$f":"COUNTIF(L24:L28,AN14)","v":0},{"$f":"AO14/(AQ4-AO8)","v":0},{"$f":"IF(AP14=0,0,(AP14*((LOG(AP14))/LOG(2))))","v":0},null,{"$f":"N14","v":0},{"$f":"COUNTIF(L29:L32,AS14)","v":0},{"$f":"AT14/(AV4-AT8)","v":0},{"$f":"IF(AU14=0,0,(AU14*((LOG(AU14))/LOG(2))))","v":0}]
[12,1389,24,1398,24,1409,14,1422,24,1432,0,12,null,null,null,{"$f":"SUM(P7:P14)","v":1},{"$f":"-SUM(Q7:Q14)","v":1.7631174549747612},null,null,null,null,{"$f":"SUM(V7:V14)","v":1},{"$f":"-SUM(W7:W14)","v":1},null,null,null,{"$f":"SUM(AA7:AA14)","v":1},{"$f":"-SUM(AB7:AB14)","v":1},null,null,null,{"$f":"SUM(AF7:AF14)","v":1},{"$f":"-SUM(AG7:AG14)","v":0.91829583405448945},null,null,null,{"$f":"SUM(AK7:AK14)","v":1},{"$f":"-SUM(AL7:AL14)","v":1},null,null,null,{"$f":"SUM(AP7:AP14)","v":1},{"$f":"-SUM(AQ7:AQ14)","v":1},null,null,null,{"$f":"SUM(AU7:AU14)","v":1},{"$f":"-SUM(AV7:AV14)","v":0}]
[12,1637,24,1647,24,1657,14,1668,24,1677,0,12,null,null,null,"U=",{"$f":"Q15/(LOG(Q4)/LOG(2))","v":0.37509628049692995},null,null,null,null,"U1=",{"$f":"W15/(LOG(W4)/LOG(2))","v":0.5},null,null,null,"U2=",{"$f":"AB15/(LOG(AB4)/LOG(2))","v":0.430676558073393},null,null,null,"U3=",{"$f":"AG15/(LOG(AG4)/LOG(2))","v":0.45914791702724472},null,null,null,"U4=",{"$f":"AL15/(LOG(AL4)/LOG(2))","v":0.5},null,null,null,"U5=",{"$f":"AQ15/(LOG(AQ4)/LOG(2))","v":0.430676558073393},null,null,null,"U6=",{"$f":"AV15/(LOG(AV4)/LOG(2))","v":0}]
[12,1796,13,1822,24,1829,14,1839,24,1849,0,11]
[21,2112,22,2124,24,2144,14,2164,24,2173,0,22]
[21,2321,22,2333,13,2343,23,2351,13,2362,0,22,null,"Total Target Seq"]
[12,2479,24,2489,24,2519,14,2529,24,2538,0,12,null,{"$f":"COUNTIF(L7:L32,G3)","v":13},null,4,5,4,4,5,4]
[12,7307,24,7322,24,7332,14,7347,24,7356,0,12,null,null,null,"% of reinforcement given in 6 equal intervals based on number of trials "]
[21,7531,22,7573,24,7595,23,7608,13,7619,0,22,null,null,null,"%_1","%_2","%_3","%_4","%_5","%_6"]
[21,7756,11,7766,22,7775,14,7788,24,7798,0,21,null,null,"target sequence",{"$f":"$G$3","v":12},{"$f":"$G$3","v":12},{"$f":"$G$3","v":12},{"$f":"$G$3","v":12},{"$f":"$G$3","v":12},{"$f":"$G$3","v":12}]
[21,7929,11,7940,22,7951,23,7973,24,7983,0,21,null,null,"total reinforcement",{"$f":"U8","v":2},{"$f":"Z8","v":3},{"$f":"AE8","v":1},{"$f":"AJ8","v":2},{"$f":"AO8","v":3},{"$f":"AT8","v":2}]
[12,8136,24,8159,24,8171,14,8185,24,8195,0,12,null,null,"% target"]
[12,8334,24,8342,13,8356,23,8366,24,8382,0,12,null,null,"CCRF"]
[12,9716,24,9727,13,9744,23,9787,24,9813,0,12,null,null,"% CCRf"]
[12,14938,13,15011,24,15019,14,15029,24,15042,0,11,null,null,"average response rate",{"$f":"D10/P20","v":137},{"$f":"(D15-D10)/Q20","v":170},{"$f":"(D19-D15)/R20","v":233.75},{"$f":"(D23-D19)/S20","v":1358.25},{"$f":"(D28-D23)/T20","v":1449},{"$f":"(D32-D28)/U20","v":2164}]
[12,17050,24,17061,24,17071,23,17094,24,17118,0,12]
[12,19832,13,21543,24,21566,23,21591,13,21606,0,11]
[12,23345,24,23355,13,23383,23,23392,24,23419,0,12]
[12,23656,13,23667,24,23677,23,23691,13,23711,0,11]

{"sheet":"!N111C00.105","index":44,"n_rows":28,"n_cols":48,"rows_kept":28,"cut":false,"hidden":false,"merged":[[4,39,4,42],[5,39,5,40],[4,44,4,47],[5,44,5,45],[4,24,4,27],[5,24,5,25],[4,29,4,32],[5,29,5,30],[4,34,4,37],[5,34,5,35],[1,1,1,2],[5,13,5,14],[18,13,18,14],[19,13,19,14],[4,19,4,22],[5,19,5,20]]}
["Report for:!N111C00.105"]
["Date:","<date>"]
["Hen:","<hen>",null,null,null,"Correct Sequence",{"$f":"Start!J2","v":12},null,null,null,null,null,null,null,null,"Total Sequences in Data",{"$f":"4994-COUNTBLANK(L7:L5000)","v":12},null,null,null,null,"Total Sequences in Block Data",{"$f":"COUNTA(L7:L8)","v":2},null,null,null,"Total Sequences in Block Data",{"$f":"COUNTA(L9:L10)","v":2},null,null,null,"Total Sequences in Block Data",{"$f":"COUNTA(L11:L12)","v":2},null,null,null,"Total Sequences in Block Data",{"$f":"COUNTA(L13:L14)","v":2},null,null,null,"Total Sequences in Block Data",{"$f":"COUNTA(L15:L16)","v":2},null,null,null,"Total Sequences in Block Data",{"$f":"COUNTA(L17:L18)","v":2}]
[null,null,null,null,null,null,null,null,null,null,null,null,null,null,null,"Total Sequences in Summary",{"$f":"SUM(O7:O14)","v":12},null,null,null,null,"Total Sequences in Block Summary",{"$f":"SUM(U7:U14)","v":2},null,null,null,"Total Sequences in Block Summary",{"$f":"SUM(Z7:Z14)","v":2},null,null,null,"Total Sequences in Block Summary",{"$f":"SUM(AE7:AE14)","v":2},null,null,null,"Total Sequences in Block Summary",{"$f":"SUM(AJ7:AJ14)","v":2},null,null,null,"Total Sequences in Block Summary",{"$f":"SUM(AO7:AO14)","v":2},null,null,null,"Total Sequences in Block Summary",{"$f":"SUM(AT7:AT14)","v":2}]
[null,null,null,null,null,null,null,null,null,null,null,null,null,null,null,null,null,null,null,"Block 1",null,null,null,null,"Block 2",null,null,null,null,"Block 3",null,null,null,null,"Block 4",null,null,null,null,"Block 5",null,null,null,null,"Block 6"]
["Sequence\nComponent\n1","Time\n1","Sequence\nComponent\n2","Time\n2","Sequence\nComponent\n3","Time\n3","Sequence\nComponent\n4","Time\n4","Sequence\nComponent\n5","Time\n5","Correct?\n0=No 1=Yes","Sequence",null,"Frequency",null,"Relative Frequency","Variability",null,null,"Frequency",null,"Relative Frequency","Variability",null,"Frequency",null,"Relative Frequency","Variability",null,"Frequency",null,"Relative Frequency","Variability",null,"Frequency",null,"Relative Frequency","Variability",null,"Frequency",null,"Relative Frequency","Variability",null,"Frequency",null,"Relative Frequency","Variability"]
[21,23,22,40,24,50,23,68,24,90,0,22,null,11,{"$f":"COUNTIF($L$7:$L$500,N7)","v":1},{"$f":"O7/$Q$4","v":8.3333333333333329E-2},{"$f":"IF(P7=0,0,(P7*((LOG(P7))/LOG(2))))","v":-0.29874687506009634},null,null,{"$f":"N7","v":11},{"$f":"COUNTIF(L7:L8,T7)","v":0},{"$f":"U7/(W4-U8)","v":0},{"$f":"IF(V7=0,0,(V7*((LOG(V7))/LOG(2))))","v":0},null,{"$f":"N7","v":11},{"$f":"COUNTIF(L9:L10,Y7)","v":0},{"$f":"Z7/(AB4-Z8)","v":0},{"$f":"IF(AA7=0,0,(AA7*((LOG(AA7))/LOG(2))))","v":0},null,{"$f":"N7","v":11},{"$f":"COUNTIF(L11:L12,AD7)","v":0},{"$f":"AE7/(AG4-AE8)","v":0},{"$f":"IF(AF7=0,0,(AF7*((LOG(AF7))/LOG(2))))","v":0},null,{"$f":"N7","v":11},{"$f":"COUNTIF(L13:L14,AI7)","v":0},{"$f":"AJ7/(AL4-AJ8)","v":0},{"$f":"IF(AK7=0,0,(AK7*((LOG(AK7))/LOG(2))))","v":0},null,{"$f":"N7","v":11},{"$f":"COUNTIF(L15:L16,AN7)","v":0},{"$f":"AO7/(AQ4-AO8)","v":0},{"$f":"IF(AP7=0,0,(AP7*((LOG(AP7))/LOG(2))))","v":0},null,{"$f":"N7","v":11},{"$f":"COUNTIF(L17:L18,AS7)","v":1},{"$f":"AT7/(AV4-AT8)","v":0.5},{"$f":"IF(AU7=0,0,(AU7*((LOG(AU7))/LOG(2))))","v":-0.5}]
[12,208,24,215,24,263,23,272,24,289,0,12,null,12,{"$f":"COUNTIF($L$7:$L$500,N8)","v":3},{"$f":"O8/$Q$4","v":0.25},{"$f":"IF(P8=0,0,(P8*((LOG(P8))/LOG(2))))","v":-0.5},null,null,{"$f":"N8","v":12},{"$f":"COUNTIF(L7:L8,T8)","v":1},null,null,null,{"$f":"N8","v":12},{"$f":"COUNTIF(L9:L10,Y8)","v":0},null,null,null,{"$f":"N8","v":12},{"$f":"COUNTIF(L11:L12,AD8)","v":1},null,null,null,{"$f":"N8","v":12},{"$f":"COUNTIF(L13:L14,AI8)","v":1},null,null,null,{"$f":"N8","v":12},{"$f":"COUNTIF(L15:L16,AN8)","v":0},null,null,null,{"$f":"N8","v":12},{"$f":"COUNTIF(L17:L18,AS8)","v":0}]
[21,426,22,439,24,528,23,545,13,552,0,22,null,21,{"$f":"COUNTIF($L$7:$L$500,N9)","v":1},{"$f":"O9/$Q$4","v":8.3333333333333329E-2},{"$f":"IF(P9=0,0,(P9*((LOG(P9))/LOG(2))))","v":-0.29874687506009634},null,null,{"$f":"N9","v":21},{"$f":"COUNTIF(L7:L8,T9)","v":0},{"$f":"U9/(W4-U8)","v":0},{"$f":"IF(V9=0,0,(V9*((LOG(V9))/LOG(2))))","v":0},null,{"$f":"N9","v":21},{"$f":"COUNTIF(L9:L10,Y9)","v":0},{"$f":"Z9/(AB4-Z8)","v":0},{"$f":"IF(AA9=0,0,(AA9*((LOG(AA9))/LOG(2))))","v":0},null,{"$f":"N9","v":21},{"$f":"COUNTIF(L11:L12,AD9)","v":0},{"$f":"AE9/(AG4-AE8)","v":0},{"$f":"IF(AF9=0,0,(AF9*((LOG(AF9))/LOG(2))))","v":0},null,{"$f":"N9","v":21},{"$f":"COUNTIF(L13:L14,AI9)","v":0},{"$f":"AJ9/(AL4-AJ8)","v":0},{"$f":"IF(AK9=0,0,(AK9*((LOG(AK9))/LOG(2))))","v":0},null,{"$f":"N9","v":21},{"$f":"COUNTIF(L15:L16,AN9)","v":1},{"$f":"AO9/(AQ4-AO8)","v":0.5},{"$f":"IF(AP9=0,0,(AP9*((LOG(AP9))/LOG(2))))","v":-0.5},null,{"$f":"N9","v":21},{"$f":"COUNTIF(L17:L18,AS9)","v":0},{"$f":"AT9/(AV4-AT8)","v":0},{"$f":"IF(AU9=0,0,(AU9*((LOG(AU9))/LOG(2))))","v":0}]
[21,663,22,697,24,739,23,770,24,816,0,22,null,22,{"$f":"COUNTIF($L$7:$L$500,N10)","v":7},{"$f":"O10/$Q$4","v":0.58333333333333337},{"$f":"IF(P10=0,0,(P10*((LOG(P10))/LOG(2))))","v":-0.45360442088707198},null,null,{"$f":"N10","v":22},{"$f":"COUNTIF(L7:L8,T10)","v":1},{"$f":"U10/(W4-U8)","v":1},{"$f":"IF(V10=0,0,(V10*((LOG(V10))/LOG(2))))","v":0},null,{"$f":"N10","v":22},{"$f":"COUNTIF(L9:L10,Y10)","v":2},{"$f":"Z10/(AB4-Z8)","v":1},{"$f":"IF(AA10=0,0,(AA10*((LOG(AA10))/LOG(2))))","v":0},null,{"$f":"N10","v":22},{"$f":"COUNTIF(L11:L12,AD10)","v":1},{"$f":"AE10/(AG4-AE8)","v":1},{"$f":"IF(AF10=0,0,(AF10*((LOG(AF10))/LOG(2))))","v":0},null,{"$f":"N10","v":22},{"$f":"COUNTIF(L13:L14,AI10)","v":1},{"$f":"AJ10/(AL4-AJ8)","v":1},{"$f":"IF(AK10=0,0,(AK10*((LOG(AK10))/LOG(2))))","v":0},null,{"$f":"N10","v":22},{"$f":"COUNTIF(L15:L16,AN10)","v":1},{"$f":"AO10/(AQ4-AO8)","v":0.5},{"$f":"IF(AP10=0,0,(AP10*((LOG(AP10))/LOG(2))))","v":-0.5},null,{"$f":"N10","v":22},{"$f":"COUNTIF(L17:L18,AS10)","v":1},{"$f":"AT10/(AV4-AT8)","v":0.5},{"$f":"IF(AU10=0,0,(AU10*((LOG(AU10))/LOG(2))))","v":-0.5}]
[12,1033,24,1042,24,1212,23,1229,24,1252,0,12,null,null,null,null,null,null,null,{"$f":"N11","v":0},{"$f":"COUNTIF(L7:L8,T11)","v":0},{"$f":"U11/(W4-U8)","v":0},{"$f":"IF(V11=0,0,(V11*((LOG(V11))/LOG(2))))","v":0},null,{"$f":"N11","v":0},{"$f":"COUNTIF(L9:L10,Y11)","v":0},{"$f":"Z11/(AB4-Z8)","v":0},{"$f":"IF(AA11=0,0,(AA11*((LOG(AA11))/LOG(2))))","v":0},null,{"$f":"N11","v":0},{"$f":"COUNTIF(L11:L12,AD11)","v":0},{"$f":"AE11/(AG4-AE8)","v":0},{"$f":"IF(AF11=0,0,(AF11*((LOG(AF11))/LOG(2))))","v":0},null,{"$f":"N11","v":0},{"$f":"COUNTIF(L13:L14,AI11)","v":0},{"$f":"AJ11/(AL4-AJ8)","v":0},{"$f":"IF(AK11=0,0,(AK11*((LOG(AK11))/LOG(2))))","v":0},null,{"$f":"N11","v":0},{"$f":"COUNTIF(L15:L16,AN11)","v":0},{"$f":"AO11/(AQ4-AO8)","v":0},{"$f":"IF(AP11=0,0,(AP11*((LOG(AP11))/LOG(2))))","v":0},null,{"$f":"N11","v":0},{"$f":"COUNTIF(L17:L18,AS11)","v":0},{"$f":"AT11/(AV4-AT8)","v":0},{"$f":"IF(AU11=0,0,(AU11*((LOG(AU11))/LOG(2))))","v":0}]
[21,2383,22,2420,24,2435,23,2445,24,2465,0,22,null,null,null,null,null,null,null,{"$f":"N12","v":0},{"$f":"COUNTIF(L7:L8,T12)","v":0},{"$f":"U12/(W4-U8)","v":0},{"$f":"IF(V12=0,0,(V12*((LOG(V12))/LOG(2))))","v":0},null,{"$f":"N12","v":0},{"$f":"COUNTIF(L9:L10,Y12)","v":0},{"$f":"Z12/(AB4-Z8)","v":0},{"$f":"IF(AA12=0,0,(AA12*((LOG(AA12))/LOG(2))))","v":0},null,{"$f":"N12","v":0},{"$f":"COUNTIF(L11:L12,AD12)","v":0},{"$f":"AE12/(AG4-AE8)","v":0},{"$f":"IF(AF12=0,0,(AF12*((LOG(AF12))/LOG(2))))","v":0},null,{"$f":"N12","v":0},{"$f":"COUNTIF(L13:L14,AI12)","v":0},{"$f":"AJ12/(AL4-AJ8)","v":0},{"$f":"IF(AK12=0,0,(AK12*((LOG(AK12))/LOG(2))))","v":0},null,{"$f":"N12","v":0},{"$f":"COUNTIF(L15:L16,AN12)","v":0},{"$f":"AO12/(AQ4-AO8)","v":0},{"$f":"IF(AP12=0,0,(AP12*((LOG(AP12))/LOG(2))))","v":0},null,{"$f":"N12","v":0},{"$f":"COUNTIF(L17:L18,AS12)","v":0},{"$f":"AT12/(AV4-AT8)","v":0},{"$f":"IF(AU12=0,0,(AU12*((LOG(AU12))/LOG(2))))","v":0}]
[12,3743,24,3755,13,4547,23,5087,13,5097,0,12,null,null,null,null,null,null,null,{"$f":"N13","v":0},{"$f":"COUNTIF(L7:L8,T13)","v":0},{"$f":"U13/(W4-U8)","v":0},{"$f":"IF(V13=0,0,(V13*((LOG(V13))/LOG(2))))","v":0},null,{"$f":"N13","v":0},{"$f":"COUNTIF(L9:L10,Y13)","v":0},{"$f":"Z13/(AB4-Z8)","v":0},{"$f":"IF(AA13=0,0,(AA13*((LOG(AA13))/LOG(2))))","v":0},null,{"$f":"N13","v":0},{"$f":"COUNTIF(L11:L12,AD13)","v":0},{"$f":"AE13/(AG4-AE8)","v":0},{"$f":"IF(AF13=0,0,(AF13*((LOG(AF13))/LOG(2))))","v":0},null,{"$f":"N13","v":0},{"$f":"COUNTIF(L13:L14,AI13)","v":0},{"$f":"AJ13/(AL4-AJ8)","v":0},{"$f":"IF(AK13=0,0,(AK13*((LOG(AK13))/LOG(2))))","v":0},null,{"$f":"N13","v":0},{"$f":"COUNTIF(L15:L16,AN13)","v":0},{"$f":"AO13/(AQ4-AO8)","v":0},{"$f":"IF(AP13=0,0,(AP13*((LOG(AP13))/LOG(2))))","v":0},null,{"$f":"N13","v":0},{"$f":"COUNTIF(L17:L18,AS13)","v":0},{"$f":"AT13/(AV4-AT8)","v":0},{"$f":"IF(AU13=0,0,(AU13*((LOG(AU13))/LOG(2))))","v":0}]
[21,5773,22,5786,24,5805,14,5829,24,5838,0,22,null,null,null,null,null,null,null,{"$f":"N14","v":0},{"$f":"COUNTIF(L7:L8,T14)","v":0},{"$f":"U14/(W4-U8)","v":0},{"$f":"IF(V14=0,0,(V14*((LOG(V14))/LOG(2))))","v":0},null,{"$f":"N14","v":0},{"$f":"COUNTIF(L9:L10,Y14)","v":0},{"$f":"Z14/(AB4-Z8)","v":0},{"$f":"IF(AA14=0,0,(AA14*((LOG(AA14))/LOG(2))))","v":0},null,{"$f":"N14","v":0},{"$f":"COUNTIF(L11:L12,AD14)","v":0},{"$f":"AE14/(AG4-AE8)","v":0},{"$f":"IF(AF14=0,0,(AF14*((LOG(AF14))/LOG(2))))","v":0},null,{"$f":"N14","v":0},{"$f":"COUNTIF(L13:L14,AI14)","v":0},{"$f":"AJ14/(AL4-AJ8)","v":0},{"$f":"IF(AK14=0,0,(AK14*((LOG(AK14))/LOG(2))))","v":0},null,{"$f":"N14","v":0},{"$f":"COUNTIF(L15:L16,AN14)","v":0},{"$f":"AO14/(AQ4-AO8)","v":0},{"$f":"IF(AP14=0,0,(AP14*((LOG(AP14))/LOG(2))))","v":0},null,{"$f":"N14","v":0},{"$f":"COUNTIF(L17:L18,AS14)","v":0},{"$f":"AT14/(AV4-AT8)","v":0},{"$f":"IF(AU14=0,0,(AU14*((LOG(AU14))/LOG(2))))","v":0}]
[21,6063,22,6083,24,6301,23,6315,24,6327,0,22,null,null,null,{"$f":"SUM(P7:P14)","v":1},{"$f":"-SUM(Q7:Q14)","v":1.5510981710072647},null,null,null,null,{"$f":"SUM(V7:V14)","v":1},{"$f":"-SUM(W7:W14)","v":0},null,null,null,{"$f":"SUM(AA7:AA14)","v":1},{"$f":"-SUM(AB7:AB14)","v":0},null,null,null,{"$f":"SUM(AF7:AF14)","v":1},{"$f":"-SUM(AG7:AG14)","v":0},null,null,null,{"$f":"SUM(AK7:AK14)","v":1},{"$f":"-SUM(AL7:AL14)","v":0},null,null,null,{"$f":"SUM(AP7:AP14)","v":1},{"$f":"-SUM(AQ7:AQ14)","v":1},null,null,null,{"$f":"SUM(AU7:AU14)","v":1},{"$f":"-SUM(AV7:AV14)","v":1}]
[21,7796,11,9202,22,9239,23,9252,13,9262,0,21,null,null,null,"U=",{"$f":"Q15/(LOG(Q4)/LOG(2))","v":0.4326678928148463},null,null,null,null,"U1=",{"$f":"W15/(LOG(W4)/LOG(2))","v":0},null,null,null,"U2=",{"$f":"AB15/(LOG(AB4)/LOG(2))","v":0},null,null,null,"U3=",{"$f":"AG15/(LOG(AG4)/LOG(2))","v":0},null,null,null,"U4=",{"$f":"AL15/(LOG(AL4)/LOG(2))","v":0},null,null,null,"U5=",{"$f":"AQ15/(LOG(AQ4)/LOG(2))","v":1},null,null,null,"U6=",{"$f":"AV15/(LOG(AV4)/LOG(2))","v":1}]
[21,10345,22,10387,13,13212,14,13227,24,14209,0,22]
[12,19079,13,20682,null,null,null,null,null,null,null,11]
[null,null,null,null,null,null,null,null,null,null,null,null,null,"Total Target Seq"]
[null,null,null,null,null,null,null,null,null,null,null,null,null,{"$f":"COUNTIF(L7:L18,G3)","v":3},null,2,2,2,2,2,2]
[null,null,null,null,null,null,null,null,null,null,null,null,null,null,null,"% of reinforcement given in 6 equal intervals based on number of trials "]
[null,null,null,null,null,null,null,null,null,null,null,null,null,null,null,"%_1","%_2","%_3","%_4","%_5","%_6"]
[null,null,null,null,null,null,null,null,null,null,null,null,null,null,"target sequence",{"$f":"$G$3","v":12},{"$f":"$G$3","v":12},{"$f":"$G$3","v":12},{"$f":"$G$3","v":12},{"$f":"$G$3","v":12},{"$f":"$G$3","v":12}]
[null,null,null,null,null,null,null,null,null,null,null,null,null,null,"total reinforcement",{"$f":"U8","v":1},{"$f":"Z8","v":0},{"$f":"AE8","v":1},{"$f":"AJ8","v":1},{"$f":"AO8","v":0},{"$f":"AT8","v":0}]
[null,null,null,null,null,null,null,null,null,null,null,null,null,null,"% target"]
[null,null,null,null,null,null,null,null,null,null,null,null,null,null,"CCRF"]
[null,null,null,null,null,null,null,null,null,null,null,null,null,null,"% CCRf"]
[null,null,null,null,null,null,null,null,null,null,null,null,null,null,"average response rate",{"$f":"D8/P20","v":107.5},{"$f":"(D10-D8)/Q20","v":241},{"$f":"(D12-D10)/R20","v":861.5},{"$f":"(D14-D12)/S20","v":1683},{"$f":"(D16-D14)/T20","v":1708},{"$f":"(D18-D16)/U20","v":5740}]

{"sheet":"!N112850.105","index":45,"n_rows":28,"n_cols":48,"rows_kept":28,"cut":false,"hidden":false,"merged":[[4,39,4,42],[5,39,5,40],[4,44,4,47],[5,44,5,45],[4,24,4,27],[5,24,5,25],[4,29,4,32],[5,29,5,30],[4,34,4,37],[5,34,5,35],[1,1,1,2],[5,13,5,14],[18,13,18,14],[19,13,19,14],[4,19,4,22],[5,19,5,20]]}
["Report for:!N112850.105"]
["Date:","<date>"]
["Hen:","<hen>",null,null,null,"Correct Sequence",{"$f":"Start!J2","v":12},null,null,null,null,null,null,null,null,"Total Sequences in Data",{"$f":"4994-COUNTBLANK(L7:L5000)","v":6},null,null,null,null,"Total Sequences in Block Data",{"$f":"COUNTA(L7:L7)","v":1},null,null,null,"Total Sequences in Block Data",{"$f":"COUNTA(L8:L8)","v":1},null,null,null,"Total Sequences in Block Data",{"$f":"COUNTA(L9:L9)","v":1},null,null,null,"Total Sequences in Block Data",{"$f":"COUNTA(L10:L10)","v":1},null,null,null,"Total Sequences in Block Data",{"$f":"COUNTA(L11:L11)","v":1},null,null,null,"Total Sequences in Block Data",{"$f":"COUNTA(L12:L12)","v":1}]
[null,null,null,null,null,null,null,null,null,null,null,null,null,null,null,"Total Sequences in Summary",{"$f":"SUM(O7:O14)","v":6},null,null,null,null,"Total Sequences in Block Summary",{"$f":"SUM(U7:U14)","v":1},null,null,null,"Total Sequences in Block Summary",{"$f":"SUM(Z7:Z14)","v":1},null,null,null,"Total Sequences in Block Summary",{"$f":"SUM(AE7:AE14)","v":1},null,null,null,"Total Sequences in Block Summary",{"$f":"SUM(AJ7:AJ14)","v":1},null,null,null,"Total Sequences in Block Summary",{"$f":"SUM(AO7:AO14)","v":1},null,null,null,"Total Sequences in Block Summary",{"$f":"SUM(AT7:AT14)","v":1}]
[null,null,null,null,null,null,null,null,null,null,null,null,null,null,null,null,null,null,null,"Block 1",null,null,null,null,"Block 2",null,null,null,null,"Block 3",null,null,null,null,"Block 4",null,null,null,null,"Block 5",null,null,null,null,"Block 6"]
["Sequence\nComponent\n1","Time\n1","Sequence\nComponent\n2","Time\n2","Sequence\nComponent\n3","Time\n3","Sequence\nComponent\n4","Time\n4","Sequence\nComponent\n5","Time\n5","Correct?\n0=No 1=Yes","Sequence",null,"Frequency",null,"Relative Frequency","Variability",null,null,"Frequency",null,"Relative Frequency","Variability",null,"Frequency",null,"Relative Frequency","Variability",null,"Frequency",null,"Relative Frequency","Variability",null,"Frequency",null,"Relative Frequency","Variability",null,"Frequency",null,"Relative Frequency","Variability",null,"Frequency",null,"Relative Frequency","Variability"]
[21,43,22,49,24,63,23,68,24,77,0,22,null,11,{"$f":"COUNTIF($L$7:$L$500,N7)","v":0},{"$f":"O7/$Q$4","v":0},{"$f":"IF(P7=0,0,(P7*((LOG(P7))/LOG(2))))","v":0},null,null,{"$f":"N7","v":11},{"$f":"COUNTIF(L7:L7,T7)","v":0},{"$f":"U7/(W4-U8)","v":0},{"$f":"IF(V7=0,0,(V7*((LOG(V7))/LOG(2))))","v":0},null,{"$f":"N7","v":11},{"$f":"COUNTIF(L8:L8,Y7)","v":0},{"$f":"Z7/(AB4-Z8)","v":0},{"$f":"IF(AA7=0,0,(AA7*((LOG(AA7))/LOG(2))))","v":0},null,{"$f":"N7","v":11},{"$f":"COUNTIF(L9:L9,AD7)","v":0},{"$f":"AE7/(AG4-AE8)","v":0},{"$f":"IF(AF7=0,0,(AF7*((LOG(AF7))/LOG(2))))","v":0},null,{"$f":"N7","v":11},{"$f":"COUNTIF(L10:L10,AI7)","v":0},{"$f":"AJ7/(AL4-AJ8)","v":0},{"$f":"IF(AK7=0,0,(AK7*((LOG(AK7))/LOG(2))))","v":0},null,{"$f":"N7","v":11},{"$f":"COUNTIF(L11:L11,AN7)","v":0},{"$f":"AO7/(AQ4-AO8)","v":0},{"$f":"IF(AP7=0,0,(AP7*((LOG(AP7))/LOG(2))))","v":0},null,{"$f":"N7","v":11},{"$f":"COUNTIF(L12:L12,AS7)","v":0},{"$f":"AT7/(AV4-AT8)","v":0},{"$f":"IF(AU7=0,0,(AU7*((LOG(AU7))/LOG(2))))","v":0}]
[21,183,22,232,24,273,23,283,24,301,0,22,null,12,{"$f":"COUNTIF($L$7:$L$500,N8)","v":0},{"$f":"O8/$Q$4","v":0},{"$f":"IF(P8=0,0,(P8*((LOG(P8))/LOG(2))))","v":0},null,null,{"$f":"N8","v":12},{"$f":"COUNTIF(L7:L7,T8)","v":0},null,null,null,{"$f":"N8","v":12},{"$f":"COUNTIF(L8:L8,Y8)","v":0},null,null,null,{"$f":"N8","v":12},{"$f":"COUNTIF(L9:L9,AD8)","v":0},null,null,null,{"$f":"N8","v":12},{"$f":"COUNTIF(L10:L10,AI8)","v":0},null,null,null,{"$f":"N8","v":12},{"$f":"COUNTIF(L11:L11,AN8)","v":0},null,null,null,{"$f":"N8","v":12},{"$f":"COUNTIF(L12:L12,AS8)","v":0}]
[21,469,22,488,24,502,23,513,24,533,0,22,null,21,{"$f":"COUNTIF($L$7:$L$500,N9)","v":0},{"$f":"O9/$Q$4","v":0},{"$f":"IF(P9=0,0,(P9*((LOG(P9))/LOG(2))))","v":0},null,null,{"$f":"N9","v":21},{"$f":"COUNTIF(L7:L7,T9)","v":0},{"$f":"U9/(W4-U8)","v":0},{"$f":"IF(V9=0,0,(V9*((LOG(V9))/LOG(2))))","v":0},null,{"$f":"N9","v":21},{"$f":"COUNTIF(L8:L8,Y9)","v":0},{"$f":"Z9/(AB4-Z8)","v":0},{"$f":"IF(AA9=0,0,(AA9*((LOG(AA9))/LOG(2))))","v":0},null,{"$f":"N9","v":21},{"$f":"COUNTIF(L9:L9,AD9)","v":0},{"$f":"AE9/(AG4-AE8)","v":0},{"$f":"IF(AF9=0,0,(AF9*((LOG(AF9))/LOG(2))))","v":0},null,{"$f":"N9","v":21},{"$f":"COUNTIF(L10:L10,AI9)","v":0},{"$f":"AJ9/(AL4-AJ8)","v":0},{"$f":"IF(AK9=0,0,(AK9*((LOG(AK9))/LOG(2))))","v":0},null,{"$f":"N9","v":21},{"$f":"COUNTIF(L11:L11,AN9)","v":0},{"$f":"AO9/(AQ4-AO8)","v":0},{"$f":"IF(AP9=0,0,(AP9*((LOG(AP9))/LOG(2))))","v":0},null,{"$f":"N9","v":21},{"$f":"COUNTIF(L12:L12,AS9)","v":0},{"$f":"AT9/(AV4-AT8)","v":0},{"$f":"IF(AU9=0,0,(AU9*((LOG(AU9))/LOG(2))))","v":0}]
[21,943,22,961,24,992,14,1005,24,1014,0,22,null,22,{"$f":"COUNTIF($L$7:$L$500,N10)","v":6},{"$f":"O10/$Q$4","v":1},{"$f":"IF(P10=0,0,(P10*((LOG(P10))/LOG(2))))","v":0},null,null,{"$f":"N10","v":22},{"$f":"COUNTIF(L7:L7,T10)","v":1},{"$f":"U10/(W4-U8)","v":1},{"$f":"IF(V10=0,0,(V10*((LOG(V10))/LOG(2))))","v":0},null,{"$f":"N10","v":22},{"$f":"COUNTIF(L8:L8,Y10)","v":1},{"$f":"Z10/(AB4-Z8)","v":1},{"$f":"IF(AA10=0,0,(AA10*((LOG(AA10))/LOG(2))))","v":0},null,{"$f":"N10","v":22},{"$f":"COUNTIF(L9:L9,AD10)","v":1},{"$f":"AE10/(AG4-AE8)","v":1},{"$f":"IF(AF10=0,0,(AF10*((LOG(AF10))/LOG(2))))","v":0},null,{"$f":"N10","v":22},{"$f":"COUNTIF(L10:L10,AI10)","v":1},{"$f":"AJ10/(AL4-AJ8)","v":1},{"$f":"IF(AK10=0,0,(AK10*((LOG(AK10))/LOG(2))))","v":0},null,{"$f":"N10","v":22},{"$f":"COUNTIF(L11:L11,AN10)","v":1},{"$f":"AO10/(AQ4-AO8)","v":1},{"$f":"IF(AP10=0,0,(AP10*((LOG(AP10))/LOG(2))))","v":0},null,{"$f":"N10","v":22},{"$f":"COUNTIF(L12:L12,AS10)","v":1},{"$f":"AT10/(AV4-AT8)","v":1},{"$f":"IF(AU10=0,0,(AU10*((LOG(AU10))/LOG(2))))","v":0}]
[21,12314,22,12345,24,12410,23,13060,24,13082,0,22,null,null,null,null,null,null,null,{"$f":"N11","v":0},{"$f":"COUNTIF(L7:L7,T11)","v":0},{"$f":"U11/(W4-U8)","v":0},{"$f":"IF(V11=0,0,(V11*((LOG(V11))/LOG(2))))","v":0},null,{"$f":"N11","v":0},{"$f":"COUNTIF(L8:L8,Y11)","v":0},{"$f":"Z11/(AB4-Z8)","v":0},{"$f":"IF(AA11=0,0,(AA11*((LOG(AA11))/LOG(2))))","v":0},null,{"$f":"N11","v":0},{"$f":"COUNTIF(L9:L9,AD11)","v":0},{"$f":"AE11/(AG4-AE8)","v":0},{"$f":"IF(AF11=0,0,(AF11*((LOG(AF11))/LOG(2))))","v":0},null,{"$f":"N11","v":0},{"$f":"COUNTIF(L10:L10,AI11)","v":0},{"$f":"AJ11/(AL4-AJ8)","v":0},{"$f":"IF(AK11=0,0,(AK11*((LOG(AK11))/LOG(2))))","v":0},null,{"$f":"N11","v":0},{"$f":"COUNTIF(L11:L11,AN11)","v":0},{"$f":"AO11/(AQ4-AO8)","v":0},{"$f":"IF(AP11=0,0,(AP11*((LOG(AP11))/LOG(2))))","v":0},null,{"$f":"N11","v":0},{"$f":"COUNTIF(L12:L12,AS11)","v":0},{"$f":"AT11/(AV4-AT8)","v":0},{"$f":"IF(AU11=0,0,(AU11*((LOG(AU11))/LOG(2))))","v":0}]
[21,13757,22,13771,24,13783,23,19454,24,19491,0,22,null,null,null,null,null,null,null,{"$f":"N12","v":0},{"$f":"COUNTIF(L7:L7,T12)","v":0},{"$f":"U12/(W4-U8)","v":0},{"$f":"IF(V12=0,0,(V12*((LOG(V12))/LOG(2))))","v":0},null,{"$f":"N12","v":0},{"$f":"COUNTIF(L8:L8,Y12)","v":0},{"$f":"Z12/(AB4-Z8)","v":0},{"$f":"IF(AA12=0,0,(AA12*((LOG(AA12))/LOG(2))))","v":0},null,{"$f":"N12","v":0},{"$f":"COUNTIF(L9:L9,AD12)","v":0},{"$f":"AE12/(AG4-AE8)","v":0},{"$f":"IF(AF12=0,0,(AF12*((LOG(AF12))/LOG(2))))","v":0},null,{"$f":"N12","v":0},{"$f":"COUNTIF(L10:L10,AI12)","v":0},{"$f":"AJ12/(AL4-AJ8)","v":0},{"$f":"IF(AK12=0,0,(AK12*((LOG(AK12))/LOG(2))))","v":0},null,{"$f":"N12","v":0},{"$f":"COUNTIF(L11:L11,AN12)","v":0},{"$f":"AO12/(AQ4-AO8)","v":0},{"$f":"IF(AP12=0,0,(AP12*((LOG(AP12))/LOG(2))))","v":0},null,{"$f":"N12","v":0},{"$f":"COUNTIF(L12:L12,AS12)","v":0},{"$f":"AT12/(AV4-AT8)","v":0},{"$f":"IF(AU12=0,0,(AU12*((LOG(AU12))/LOG(2))))","v":0}]
[null,null,null,null,null,null,null,null,null,null,null,null,null,null,null,null,null,null,null,{"$f":"N13","v":0},{"$f":"COUNTIF(L7:L7,T13)","v":0},{"$f":"U13/(W4-U8)","v":0},{"$f":"IF(V13=0,0,(V13*((LOG(V13))/LOG(2))))","v":0},null,{"$f":"N13","v":0},{"$f":"COUNTIF(L8:L8,Y13)","v":0},{"$f":"Z13/(AB4-Z8)","v":0},{"$f":"IF(AA13=0,0,(AA13*((LOG(AA13))/LOG(2))))","v":0},null,{"$f":"N13","v":0},{"$f":"COUNTIF(L9:L9,AD13)","v":0},{"$f":"AE13/(AG4-AE8)","v":0},{"$f":"IF(AF13=0,0,(AF13*((LOG(AF13))/LOG(2))))","v":0},null,{"$f":"N13","v":0},{"$f":"COUNTIF(L10:L10,AI13)","v":0},{"$f":"AJ13/(AL4-AJ8)","v":0},{"$f":"IF(AK13=0,0,(AK13*((LOG(AK13))/LOG(2))))","v":0},null,{"$f":"N13","v":0},{"$f":"COUNTIF(L11:L11,AN13)","v":0},{"$f":"AO13/(AQ4-AO8)","v":0},{"$f":"IF(AP13=0,0,(AP13*((LOG(AP13))/LOG(2))))","v":0},null,{"$f":"N13","v":0},{"$f":"COUNTIF(L12:L12,AS13)","v":0},{"$f":"AT13/(AV4-AT8)","v":0},{"$f":"IF(AU13=0,0,(AU13*((LOG(AU13))/LOG(2))))","v":0}]
[null,null,null,null,null,null,null,null,null,null,null,null,null,null,null,null,null,null,null,{"$f":"N14","v":0},{"$f":"COUNTIF(L7:L7,T14)","v":0},{"$f":"U14/(W4-U8)","v":0},{"$f":"IF(V14=0,0,(V14*((LOG(V14))/LOG(2))))","v":0},null,{"$f":"N14","v":0},{"$f":"COUNTIF(L8:L8,Y14)","v":0},{"$f":"Z14/(AB4-Z8)","v":0},{"$f":"IF(AA14=0,0,(AA14*((LOG(AA14))/LOG(2))))","v":0},null,{"$f":"N14","v":0},{"$f":"COUNTIF(L9:L9,AD14)","v":0},{"$f":"AE14/(AG4-AE8)","v":0},{"$f":"IF(AF14=0,0,(AF14*((LOG(AF14))/LOG(2))))","v":0},null,{"$f":"N14","v":0},{"$f":"COUNTIF(L10:L10,AI14)","v":0},{"$f":"AJ14/(AL4-AJ8)","v":0},{"$f":"IF(AK14=0,0,(AK14*((LOG(AK14))/LOG(2))))","v":0},null,{"$f":"N14","v":0},{"$f":"COUNTIF(L11:L11,AN14)","v":0},{"$f":"AO14/(AQ4-AO8)","v":0},{"$f":"IF(AP14=0,0,(AP14*((LOG(AP14))/LOG(2))))","v":0},null,{"$f":"N14","v":0},{"$f":"COUNTIF(L12:L12,AS14)","v":0},{"$f":"AT14/(AV4-AT8)","v":0},{"$f":"IF(AU14=0,0,(AU14*((LOG(AU14))/LOG(2))))","v":0}]
[null,null,null,null,null,null,null,null,null,null,null,null,null,null,null,{"$f":"SUM(P7:P14)","v":1},{"$f":"-SUM(Q7:Q14)","v":0},null,null,null,null,{"$f":"SUM(V7:V14)","v":1},{"$f":"-SUM(W7:W14)","v":0},null,null,null,{"$f":"SUM(AA7:AA14)","v":1},{"$f":"-SUM(AB7:AB14)","v":0},null,null,null,{"$f":"SUM(AF7:AF14)","v":1},{"$f":"-SUM(AG7:AG14)","v":0},null,null,null,{"$f":"SUM(AK7:AK14)","v":1},{"$f":"-SUM(AL7:AL14)","v":0},null,null,null,{"$f":"SUM(AP7:AP14)","v":1},{"$f":"-SUM(AQ7:AQ14)","v":0},null,null,null,{"$f":"SUM(AU7:AU14)","v":1},{"$f":"-SUM(AV7:AV14)","v":0}]
[null,null,null,null,null,null,null,null,null,null,null,null,null,null,null,"U=",{"$f":"Q15/(LOG(Q4)/LOG(2))","v":0},null,null,null,null,"U1=",{"$f":"W15/(LOG(W4)/LOG(2))","v":{"$error":"#DIV/0!"}},null,null,null,"U2=",{"$f":"AB15/(LOG(AB4)/LOG(2))","v":{"$error":"#DIV/0!"}},null,null,null,"U3=",{"$f":"AG15/(LOG(AG4)/LOG(2))","v":{"$error":"#DIV/0!"}},null,null,null,"U4=",{"$f":"AL15/(LOG(AL4)/LOG(2))","v":{"$error":"#DIV/0!"}},null,null,null,"U5=",{"$f":"AQ15/(LOG(AQ4)/LOG(2))","v":{"$error":"#DIV/0!"}},null,null,null,"U6=",{"$f":"AV15/(LOG(AV4)/LOG(2))","v":{"$error":"#DIV/0!"}}]
[]
[]
[null,null,null,null,null,null,null,null,null,null,null,null,null,"Total Target Seq"]
[null,null,null,null,null,null,null,null,null,null,null,null,null,{"$f":"COUNTIF(L7:L12,G3)","v":0},null,1,1,1,1,1,1]
[null,null,null,null,null,null,null,null,null,null,null,null,null,null,null,"% of reinforcement given in 6 equal intervals based on number of trials "]
[null,null,null,null,null,null,null,null,null,null,null,null,null,null,null,"%_1","%_2","%_3","%_4","%_5","%_6"]
[null,null,null,null,null,null,null,null,null,null,null,null,null,null,"target sequence",{"$f":"$G$3","v":12},{"$f":"$G$3","v":12},{"$f":"$G$3","v":12},{"$f":"$G$3","v":12},{"$f":"$G$3","v":12},{"$f":"$G$3","v":12}]
[null,null,null,null,null,null,null,null,null,null,null,null,null,null,"total reinforcement",{"$f":"U8","v":0},{"$f":"Z8","v":0},{"$f":"AE8","v":0},{"$f":"AJ8","v":0},{"$f":"AO8","v":0},{"$f":"AT8","v":0}]
[null,null,null,null,null,null,null,null,null,null,null,null,null,null,"% target"]
[null,null,null,null,null,null,null,null,null,null,null,null,null,null,"CCRF"]
[null,null,null,null,null,null,null,null,null,null,null,null,null,null,"% CCRf"]
[null,null,null,null,null,null,null,null,null,null,null,null,null,null,"average response rate",{"$f":"D7/P20","v":49},{"$f":"(D8-D7)/Q20","v":183},{"$f":"(D9-D8)/R20","v":256},{"$f":"(D10-D9)/S20","v":473},{"$f":"(D11-D10)/T20","v":11384},{"$f":"(D12-D11)/U20","v":1426}]

{"sheet":"!N113A30.105","index":46,"n_rows":28,"n_cols":48,"rows_kept":28,"cut":false,"hidden":false,"merged":[[4,39,4,42],[5,39,5,40],[4,44,4,47],[5,44,5,45],[4,24,4,27],[5,24,5,25],[4,29,4,32],[5,29,5,30],[4,34,4,37],[5,34,5,35],[1,1,1,2],[5,13,5,14],[18,13,18,14],[19,13,19,14],[4,19,4,22],[5,19,5,20]]}
["Report for:!N113A30.105"]
["Date:","<date>"]
["Hen:","<hen>",null,null,null,"Correct Sequence",{"$f":"Start!J2","v":12},null,null,null,null,null,null,null,null,"Total Sequences in Data",{"$f":"4994-COUNTBLANK(L7:L5000)","v":8},null,null,null,null,"Total Sequences in Block Data",{"$f":"COUNTA(L7:L7)","v":1},null,null,null,"Total Sequences in Block Data",{"$f":"COUNTA(L8:L9)","v":2},null,null,null,"Total Sequences in Block Data",{"$f":"COUNTA(L10:L10)","v":1},null,null,null,"Total Sequences in Block Data",{"$f":"COUNTA(L11:L11)","v":1},null,null,null,"Total Sequences in Block Data",{"$f":"COUNTA(L12:L13)","v":2},null,null,null,"Total Sequences in Block Data",{"$f":"COUNTA(L14:L14)","v":1}]
[null,null,null,null,null,null,null,null,null,null,null,null,null,null,null,"Total Sequences in Summary",{"$f":"SUM(O7:O14)","v":8},null,null,null,null,"Total Sequences in Block Summary",{"$f":"SUM(U7:U14)","v":1},null,null,null,"Total Sequences in Block Summary",{"$f":"SUM(Z7:Z14)","v":2},null,null,null,"Total Sequences in Block Summary",{"$f":"SUM(AE7:AE14)","v":1},null,null,null,"Total Sequences in Block Summary",{"$f":"SUM(AJ7:AJ14)","v":1},null,null,null,"Total Sequences in Block Summary",{"$f":"SUM(AO7:AO14)","v":2},null,null,null,"Total Sequences in Block Summary",{"$f":"SUM(AT7:AT14)","v":1}]
[null,null,null,null,null,null,null,null,null,null,null,null,null,null,null,null,null,null,null,"Block 1",null,null,null,null,"Block 2",null,null,null,null,"Block 3",null,null,null,null,"Block 4",null,null,null,null,"Block 5",null,null,null,null,"Block 6"]
["Sequence\nComponent\n1","Time\n1","Sequence\nComponent\n2","Time\n2","Sequence\nComponent\n3","Time\n3","Sequence\nComponent\n4","Time\n4","Sequence\nComponent\n5","Time\n5","Correct?\n0=No 1=Yes","Sequence",null,"Frequency",null,"Relative Frequency","Variability",null,null,"Frequency",null,"Relative Frequency","Variability",null,"Frequency",null,"Relative Frequency","Variability",null,"Frequency",null,"Relative Frequency","Variability",null,"Frequency",null,"Relative Frequency","Variability",null,"Frequency",null,"Relative Frequency","Variability",null,"Frequency",null,"Relative Frequency","Variability"]
[21,30,22,48,24,58,23,68,24,77,0,22,null,11,{"$f":"COUNTIF($L$7:$L$500,N7)","v":1},{"$f":"O7/$Q$4","v":0.125},{"$f":"IF(P7=0,0,(P7*((LOG(P7))/LOG(2))))","v":-0.375},null,null,{"$f":"N7","v":11},{"$f":"COUNTIF(L7:L7,T7)","v":0},{"$f":"U7/(W4-U8)","v":0},{"$f":"IF(V7=0,0,(V7*((LOG(V7))/LOG(2))))","v":0},null,{"$f":"N7","v":11},{"$f":"COUNTIF(L8:L9,Y7)","v":0},{"$f":"Z7/(AB4-Z8)","v":0},{"$f":"IF(AA7=0,0,(AA7*((LOG(AA7))/LOG(2))))","v":0},null,{"$f":"N7","v":11},{"$f":"COUNTIF(L10:L10,AD7)","v":0},{"$f":"AE7/(AG4-AE8)","v":{"$error":"#DIV/0!"}},{"$f":"IF(AF7=0,0,(AF7*((LOG(AF7))/LOG(2))))","v":{"$error":"#DIV/0!"}},null,{"$f":"N7","v":11},{"$f":"COUNTIF(L11:L11,AI7)","v":1},{"$f":"AJ7/(AL4-AJ8)","v":1},{"$f":"IF(AK7=0,0,(AK7*((LOG(AK7))/LOG(2))))","v":0},null,{"$f":"N7","v":11},{"$f":"COUNTIF(L12:L13,AN7)","v":0},{"$f":"AO7/(AQ4-AO8)","v":0},{"$f":"IF(AP7=0,0,(AP7*((LOG(AP7))/LOG(2))))","v":0},null,{"$f":"N7","v":11},{"$f":"COUNTIF(L14:L14,AS7)","v":0},{"$f":"AT7/(AV4-AT8)","v":{"$error":"#DIV/0!"}},{"$f":"IF(AU7=0,0,(AU7*((LOG(AU7))/LOG(2))))","v":{"$error":"#DIV/0!"}}]
[12,209,24,225,13,389,23,395,24,413,0,12,null,12,{"$f":"COUNTIF($L$7:$L$500,N8)","v":4},{"$f":"O8/$Q$4","v":0.5},{"$f":"IF(P8=0,0,(P8*((LOG(P8))/LOG(2))))","v":-0.5},null,null,{"$f":"N8","v":12},{"$f":"COUNTIF(L7:L7,T8)","v":0},null,null,null,{"$f":"N8","v":12},{"$f":"COUNTIF(L8:L9,Y8)","v":1},null,null,null,{"$f":"N8","v":12},{"$f":"COUNTIF(L10:L10,AD8)","v":1},null,null,null,{"$f":"N8","v":12},{"$f":"COUNTIF(L11:L11,AI8)","v":0},null,null,null,{"$f":"N8","v":12},{"$f":"COUNTIF(L12:L13,AN8)","v":1},null,null,null,{"$f":"N8","v":12},{"$f":"COUNTIF(L14:L14,AS8)","v":1}]
[21,554,22,586,24,612,23,888,24,906,0,22,null,21,{"$f":"COUNTIF($L$7:$L$500,N9)","v":0},{"$f":"O9/$Q$4","v":0},{"$f":"IF(P9=0,0,(P9*((LOG(P9))/LOG(2))))","v":0},null,null,{"$f":"N9","v":21},{"$f":"COUNTIF(L7:L7,T9)","v":0},{"$f":"U9/(W4-U8)","v":0},{"$f":"IF(V9=0,0,(V9*((LOG(V9))/LOG(2))))","v":0},null,{"$f":"N9","v":21},{"$f":"COUNTIF(L8:L9,Y9)","v":0},{"$f":"Z9/(AB4-Z8)","v":0},{"$f":"IF(AA9=0,0,(AA9*((LOG(AA9))/LOG(2))))","v":0},null,{"$f":"N9","v":21},{"$f":"COUNTIF(L10:L10,AD9)","v":0},{"$f":"AE9/(AG4-AE8)","v":{"$error":"#DIV/0!"}},{"$f":"IF(AF9=0,0,(AF9*((LOG(AF9))/LOG(2))))","v":{"$error":"#DIV/0!"}},null,{"$f":"N9","v":21},{"$f":"COUNTIF(L11:L11,AI9)","v":0},{"$f":"AJ9/(AL4-AJ8)","v":0},{"$f":"IF(AK9=0,0,(AK9*((LOG(AK9))/LOG(2))))","v":0},null,{"$f":"N9","v":21},{"$f":"COUNTIF(L12:L13,AN9)","v":0},{"$f":"AO9/(AQ4-AO8)","v":0},{"$f":"IF(AP9=0,0,(AP9*((LOG(AP9))/LOG(2))))","v":0},null,{"$f":"N9","v":21},{"$f":"COUNTIF(L14:L14,AS9)","v":0},{"$f":"AT9/(AV4-AT8)","v":{"$error":"#DIV/0!"}},{"$f":"IF(AU9=0,0,(AU9*((LOG(AU9))/LOG(2))))","v":{"$error":"#DIV/0!"}}]
[12,2332,24,2361,24,2371,23,2389,13,2400,0,12,null,22,{"$f":"COUNTIF($L$7:$L$500,N10)","v":3},{"$f":"O10/$Q$4","v":0.375},{"$f":"IF(P10=0,0,(P10*((LOG(P10))/LOG(2))))","v":-0.53063906222956647},null,null,{"$f":"N10","v":22},{"$f":"COUNTIF(L7:L7,T10)","v":1},{"$f":"U10/(W4-U8)","v":1},{"$f":"IF(V10=0,0,(V10*((LOG(V10))/LOG(2))))","v":0},null,{"$f":"N10","v":22},{"$f":"COUNTIF(L8:L9,Y10)","v":1},{"$f":"Z10/(AB4-Z8)","v":1},{"$f":"IF(AA10=0,0,(AA10*((LOG(AA10))/LOG(2))))","v":0},null,{"$f":"N10","v":22},{"$f":"COUNTIF(L10:L10,AD10)","v":0},{"$f":"AE10/(AG4-AE8)","v":{"$error":"#DIV/0!"}},{"$f":"IF(AF10=0,0,(AF10*((LOG(AF10))/LOG(2))))","v":{"$error":"#DIV/0!"}},null,{"$f":"N10","v":22},{"$f":"COUNTIF(L11:L11,AI10)","v":0},{"$f":"AJ10/(AL4-AJ8)","v":0},{"$f":"IF(AK10=0,0,(AK10*((LOG(AK10))/LOG(2))))","v":0},null,{"$f":"N10","v":22},{"$f":"COUNTIF(L12:L13,AN10)","v":1},{"$f":"AO10/(AQ4-AO8)","v":1},{"$f":"IF(AP10=0,0,(AP10*((LOG(AP10))/LOG(2))))","v":0},null,{"$f":"N10","v":22},{"$f":"COUNTIF(L14:L14,AS10)","v":0},{"$f":"AT10/(AV4-AT8)","v":{"$error":"#DIV/0!"}},{"$f":"IF(AU10=0,0,(AU10*((LOG(AU10))/LOG(2))))","v":{"$error":"#DIV/0!"}}]
[12,2640,13,2652,24,2661,23,2676,13,2688,0,11,null,null,null,null,null,null,null,{"$f":"N11","v":0},{"$f":"COUNTIF(L7:L7,T11)","v":0},{"$f":"U11/(W4-U8)","v":0},{"$f":"IF(V11=0,0,(V11*((LOG(V11))/LOG(2))))","v":0},null,{"$f":"N11","v":0},{"$f":"COUNTIF(L8:L9,Y11)","v":0},{"$f":"Z11/(AB4-Z8)","v":0},{"$f":"IF(AA11=0,0,(AA11*((LOG(AA11))/LOG(2))))","v":0},null,{"$f":"N11","v":0},{"$f":"COUNTIF(L10:L10,AD11)","v":0},{"$f":"AE11/(AG4-AE8)","v":{"$error":"#DIV/0!"}},{"$f":"IF(AF11=0,0,(AF11*((LOG(AF11))/LOG(2))))","v":{"$error":"#DIV/0!"}},null,{"$f":"N11","v":0},{"$f":"COUNTIF(L11:L11,AI11)","v":0},{"$f":"AJ11/(AL4-AJ8)","v":0},{"$f":"IF(AK11=0,0,(AK11*((LOG(AK11))/LOG(2))))","v":0},null,{"$f":"N11","v":0},{"$f":"COUNTIF(L12:L13,AN11)","v":0},{"$f":"AO11/(AQ4-AO8)","v":0},{"$f":"IF(AP11=0,0,(AP11*((LOG(AP11))/LOG(2))))","v":0},null,{"$f":"N11","v":0},{"$f":"COUNTIF(L14:L14,AS11)","v":0},{"$f":"AT11/(AV4-AT8)","v":{"$error":"#DIV/0!"}},{"$f":"IF(AU11=0,0,(AU11*((LOG(AU11))/LOG(2))))","v":{"$error":"#DIV/0!"}}]
[12,6043,24,7295,24,7307,23,7325,13,8791,0,12,null,null,null,null,null,null,null,{"$f":"N12","v":0},{"$f":"COUNTIF(L7:L7,T12)","v":0},{"$f":"U12/(W4-U8)","v":0},{"$f":"IF(V12=0,0,(V12*((LOG(V12))/LOG(2))))","v":0},null,{"$f":"N12","v":0},{"$f":"COUNTIF(L8:L9,Y12)","v":0},{"$f":"Z12/(AB4-Z8)","v":0},{"$f":"IF(AA12=0,0,(AA12*((LOG(AA12))/LOG(2))))","v":0},null,{"$f":"N12","v":0},{"$f":"COUNTIF(L10:L10,AD12)","v":0},{"$f":"AE12/(AG4-AE8)","v":{"$error":"#DIV/0!"}},{"$f":"IF(AF12=0,0,(AF12*((LOG(AF12))/LOG(2))))","v":{"$error":"#DIV/0!"}},null,{"$f":"N12","v":0},{"$f":"COUNTIF(L11:L11,AI12)","v":0},{"$f":"AJ12/(AL4-AJ8)","v":0},{"$f":"IF(AK12=0,0,(AK12*((LOG(AK12))/LOG(2))))","v":0},null,{"$f":"N12","v":0},{"$f":"COUNTIF(L12:L13,AN12)","v":0},{"$f":"AO12/(AQ4-AO8)","v":0},{"$f":"IF(AP12=0,0,(AP12*((LOG(AP12))/LOG(2))))","v":0},null,{"$f":"N12","v":0},{"$f":"COUNTIF(L14:L14,AS12)","v":0},{"$f":"AT12/(AV4-AT8)","v":{"$error":"#DIV/0!"}},{"$f":"IF(AU12=0,0,(AU12*((LOG(AU12))/LOG(2))))","v":{"$error":"#DIV/0!"}}]
[21,10196,22,15889,24,15898,23,15921,13,15932,0,22,null,null,null,null,null,null,null,{"$f":"N13","v":0},{"$f":"COUNTIF(L7:L7,T13)","v":0},{"$f":"U13/(W4-U8)","v":0},{"$f":"IF(V13=0,0,(V13*((LOG(V13))/LOG(2))))","v":0},null,{"$f":"N13","v":0},{"$f":"COUNTIF(L8:L9,Y13)","v":0},{"$f":"Z13/(AB4-Z8)","v":0},{"$f":"IF(AA13=0,0,(AA13*((LOG(AA13))/LOG(2))))","v":0},null,{"$f":"N13","v":0},{"$f":"COUNTIF(L10:L10,AD13)","v":0},{"$f":"AE13/(AG4-AE8)","v":{"$error":"#DIV/0!"}},{"$f":"IF(AF13=0,0,(AF13*((LOG(AF13))/LOG(2))))","v":{"$error":"#DIV/0!"}},null,{"$f":"N13","v":0},{"$f":"COUNTIF(L11:L11,AI13)","v":0},{"$f":"AJ13/(AL4-AJ8)","v":0},{"$f":"IF(AK13=0,0,(AK13*((LOG(AK13))/LOG(2))))","v":0},null,{"$f":"N13","v":0},{"$f":"COUNTIF(L12:L13,AN13)","v":0},{"$f":"AO13/(AQ4-AO8)","v":0},{"$f":"IF(AP13=0,0,(AP13*((LOG(AP13))/LOG(2))))","v":0},null,{"$f":"N13","v":0},{"$f":"COUNTIF(L14:L14,AS13)","v":0},{"$f":"AT13/(AV4-AT8)","v":{"$error":"#DIV/0!"}},{"$f":"IF(AU13=0,0,(AU13*((LOG(AU13))/LOG(2))))","v":{"$error":"#DIV/0!"}}]
[12,18413,24,18421,13,18433,23,18441,13,18452,0,12,null,null,null,null,null,null,null,{"$f":"N14","v":0},{"$f":"COUNTIF(L7:L7,T14)","v":0},{"$f":"U14/(W4-U8)","v":0},{"$f":"IF(V14=0,0,(V14*((LOG(V14))/LOG(2))))","v":0},null,{"$f":"N14","v":0},{"$f":"COUNTIF(L8:L9,Y14)","v":0},{"$f":"Z14/(AB4-Z8)","v":0},{"$f":"IF(AA14=0,0,(AA14*((LOG(AA14))/LOG(2))))","v":0},null,{"$f":"N14","v":0},{"$f":"COUNTIF(L10:L10,AD14)","v":0},{"$f":"AE14/(AG4-AE8)","v":{"$error":"#DIV/0!"}},{"$f":"IF(AF14=0,0,(AF14*((LOG(AF14))/LOG(2))))","v":{"$error":"#DIV/0!"}},null,{"$f":"N14","v":0},{"$f":"COUNTIF(L11:L11,AI14)","v":0},{"$f":"AJ14/(AL4-AJ8)","v":0},{"$f":"IF(AK14=0,0,(AK14*((LOG(AK14))/LOG(2))))","v":0},null,{"$f":"N14","v":0},{"$f":"COUNTIF(L12:L13,AN14)","v":0},{"$f":"AO14/(AQ4-AO8)","v":0},{"$f":"IF(AP14=0,0,(AP14*((LOG(AP14))/LOG(2))))","v":0},null,{"$f":"N14","v":0},{"$f":"COUNTIF(L14:L14,AS14)","v":0},{"$f":"AT14/(AV4-AT8)","v":{"$error":"#DIV/0!"}},{"$f":"IF(AU14=0,0,(AU14*((LOG(AU14))/LOG(2))))","v":{"$error":"#DIV/0!"}}]
[null,null,null,null,null,null,null,null,null,null,null,null,null,null,null,{"$f":"SUM(P7:P14)","v":1},{"$f":"-SUM(Q7:Q14)","v":1.4056390622295665},null,null,null,null,{"$f":"SUM(V7:V14)","v":1},{"$f":"-SUM(W7:W14)","v":0},null,null,null,{"$f":"SUM(AA7:AA14)","v":1},{"$f":"-SUM(AB7:AB14)","v":0},null,null,null,{"$f":"SUM(AF7:AF14)","v":{"$error":"#DIV/0!"}},{"$f":"-SUM(AG7:AG14)","v":{"$error":"#DIV/0!"}},null,null,null,{"$f":"SUM(AK7:AK14)","v":1},{"$f":"-SUM(AL7:AL14)","v":0},null,null,null,{"$f":"SUM(AP7:AP14)","v":1},{"$f":"-SUM(AQ7:AQ14)","v":0},null,null,null,{"$f":"SUM(AU7:AU14)","v":{"$error":"#DIV/0!"}},{"$f":"-SUM(AV7:AV14)","v":{"$error":"#DIV/0!"}}]
[null,null,null,null,null,null,null,null,null,null,null,null,null,null,null,"U=",{"$f":"Q15/(LOG(Q4)/LOG(2))","v":0.46854635407652218},null,null,null,null,"U1=",{"$f":"W15/(LOG(W4)/LOG(2))","v":{"$error":"#DIV/0!"}},null,null,null,"U2=",{"$f":"AB15/(LOG(AB4)/LOG(2))","v":0},null,null,null,"U3=",{"$f":"AG15/(LOG(AG4)/LOG(2))","v":{"$error":"#DIV/0!"}},null,null,null,"U4=",{"$f":"AL15/(LOG(AL4)/LOG(2))","v":{"$error":"#DIV/0!"}},null,null,null,"U5=",{"$f":"AQ15/(LOG(AQ4)/LOG(2))","v":0},null,null,null,"U6=",{"$f":"AV15/(LOG(AV4)/LOG(2))","v":{"$error":"#DIV/0!"}}]
[]
[]
[null,null,null,null,null,null,null,null,null,null,null,null,null,"Total Target Seq"]
[null,null,null,null,null,null,null,null,null,null,null,null,null,{"$f":"COUNTIF(L7:L14,G3)","v":4},null,1,2,1,1,2,1]
[null,null,null,null,null,null,null,null,null,null,null,null,null,null,null,"% of reinforcement given in 6 equal intervals based on number of trials "]
[null,null,null,null,null,null,null,null,null,null,null,null,null,null,null,"%_1","%_2","%_3","%_4","%_5","%_6"]
[null,null,null,null,null,null,null,null,null,null,null,null,null,null,"target sequence",{"$f":"$G$3","v":12},{"$f":"$G$3","v":12},{"$f":"$G$3","v":12},{"$f":"$G$3","v":12},{"$f":"$G$3","v":12},{"$f":"$G$3","v":12}]
[null,null,null,null,null,null,null,null,null,null,null,null,null,null,"total reinforcement",{"$f":"U8","v":0},{"$f":"Z8","v":1},{"$f":"AE8","v":1},{"$f":"AJ8","v":0},{"$f":"AO8","v":1},{"$f":"AT8","v":1}]
[null,null,null,null,null,null,null,null,null,null,null,null,null,null,"% target"]
[null,null,null,null,null,null,null,null,null,null,null,null,null,null,"CCRF"]
[null,null,null,null,null,null,null,null,null,null,null,null,null,null,"% CCRf"]
[null,null,null,null,null,null,null,null,null,null,null,null,null,null,"average response rate",{"$f":"D7/P20","v":48},{"$f":"(D9-D7)/Q20","v":269},{"$f":"(D10-D9)/R20","v":1775},{"$f":"(D11-D10)/S20","v":291},{"$f":"(D13-D11)/T20","v":6618.5},{"$f":"(D14-D13)/U20","v":2532}]

{"sheet":"!N114920.105","index":47,"n_rows":28,"n_cols":48,"rows_kept":28,"cut":false,"hidden":false,"merged":[[4,39,4,42],[5,39,5,40],[4,44,4,47],[5,44,5,45],[4,24,4,27],[5,24,5,25],[4,29,4,32],[5,29,5,30],[4,34,4,37],[5,34,5,35],[1,1,1,2],[5,13,5,14],[18,13,18,14],[19,13,19,14],[4,19,4,22],[5,19,5,20]]}
["Report for:!N114920.105"]
["Date:","<date>"]
["Hen:","<hen>",null,null,null,"Correct Sequence",{"$f":"Start!J2","v":12},null,null,null,null,null,null,null,null,"Total Sequences in Data",{"$f":"4994-COUNTBLANK(L7:L5000)","v":3},null,null,null,null,"Total Sequences in Block Data",{"$f":"COUNTA(L7:L7)","v":1},null,null,null,"Total Sequences in Block Data",{"$f":"COUNTA(L7:L8)","v":2},null,null,null,"Total Sequences in Block Data",{"$f":"COUNTA(L8:L8)","v":1},null,null,null,"Total Sequences in Block Data",{"$f":"COUNTA(L8:L9)","v":2},null,null,null,"Total Sequences in Block Data",{"$f":"COUNTA(L9:L9)","v":1},null,null,null,"Total Sequences in Block Data",{"$f":"COUNTA(L9:L10)","v":1}]
[null,null,null,null,null,null,null,null,null,null,null,null,null,null,null,"Total Sequences in Summary",{"$f":"SUM(O7:O14)","v":3},null,null,null,null,"Total Sequences in Block Summary",{"$f":"SUM(U7:U14)","v":1},null,null,null,"Total Sequences in Block Summary",{"$f":"SUM(Z7:Z14)","v":2},null,null,null,"Total Sequences in Block Summary",{"$f":"SUM(AE7:AE14)","v":1},null,null,null,"Total Sequences in Block Summary",{"$f":"SUM(AJ7:AJ14)","v":2},null,null,null,"Total Sequences in Block Summary",{"$f":"SUM(AO7:AO14)","v":1},null,null,null,"Total Sequences in Block Summary",{"$f":"SUM(AT7:AT14)","v":1}]
[null,null,null,null,null,null,null,null,null,null,null,null,null,null,null,null,null,null,null,"Block 1",null,null,null,null,"Block 2",null,null,null,null,"Block 3",null,null,null,null,"Block 4",null,null,null,null,"Block 5",null,null,null,null,"Block 6"]
["Sequence\nComponent\n1","Time\n1","Sequence\nComponent\n2","Time\n2","Sequence\nComponent\n3","Time\n3","Sequence\nComponent\n4","Time\n4","Sequence\nComponent\n5","Time\n5","Correct?\n0=No 1=Yes","Sequence",null,"Frequency",null,"Relative Frequency","Variability",null,null,"Frequency",null,"Relative Frequency","Variability",null,"Frequency",null,"Relative Frequency","Variability",null,"Frequency",null,"Relative Frequency","Variability",null,"Frequency",null,"Relative Frequency","Variability",null,"Frequency",null,"Relative Frequency","Variability",null,"Frequency",null,"Relative Frequency","Variability"]
[21,110,22,122,24,132,23,172,24,185,0,22,null,11,{"$f":"COUNTIF($L$7:$L$500,N7)","v":0},{"$f":"O7/$Q$4","v":0},{"$f":"IF(P7=0,0,(P7*((LOG(P7))/LOG(2))))","v":0},null,null,{"$f":"N7","v":11},{"$f":"COUNTIF(L7:L7,T7)","v":0},{"$f":"U7/(W4-U8)","v":0},{"$f":"IF(V7=0,0,(V7*((LOG(V7))/LOG(2))))","v":0},null,{"$f":"N7","v":11},{"$f":"COUNTIF(L7:L8,Y7)","v":0},{"$f":"Z7/(AB4-Z8)","v":0},{"$f":"IF(AA7=0,0,(AA7*((LOG(AA7))/LOG(2))))","v":0},null,{"$f":"N7","v":11},{"$f":"COUNTIF(L8:L8,AD7)","v":0},{"$f":"AE7/(AG4-AE8)","v":0},{"$f":"IF(AF7=0,0,(AF7*((LOG(AF7))/LOG(2))))","v":0},null,{"$f":"N7","v":11},{"$f":"COUNTIF(L8:L9,AI7)","v":0},{"$f":"AJ7/(AL4-AJ8)","v":0},{"$f":"IF(AK7=0,0,(AK7*((LOG(AK7))/LOG(2))))","v":0},null,{"$f":"N7","v":11},{"$f":"COUNTIF(L9:L9,AN7)","v":0},{"$f":"AO7/(AQ4-AO8)","v":0},{"$f":"IF(AP7=0,0,(AP7*((LOG(AP7))/LOG(2))))","v":0},null,{"$f":"N7","v":11},{"$f":"COUNTIF(L9:L10,AS7)","v":0},{"$f":"AT7/(AV4-AT8)","v":0},{"$f":"IF(AU7=0,0,(AU7*((LOG(AU7))/LOG(2))))","v":0}]
[21,333,22,589,13,623,23,633,24,642,0,22,null,12,{"$f":"COUNTIF($L$7:$L$500,N8)","v":0},{"$f":"O8/$Q$4","v":0},{"$f":"IF(P8=0,0,(P8*((LOG(P8))/LOG(2))))","v":0},null,null,{"$f":"N8","v":12},{"$f":"COUNTIF(L7:L7,T8)","v":0},null,null,null,{"$f":"N8","v":12},{"$f":"COUNTIF(L7:L8,Y8)","v":0},null,null,null,{"$f":"N8","v":12},{"$f":"COUNTIF(L8:L8,AD8)","v":0},null,null,null,{"$f":"N8","v":12},{"$f":"COUNTIF(L8:L9,AI8)","v":0},null,null,null,{"$f":"N8","v":12},{"$f":"COUNTIF(L9:L9,AN8)","v":0},null,null,null,{"$f":"N8","v":12},{"$f":"COUNTIF(L9:L10,AS8)","v":0}]
[21,761,22,785,24,798,14,807,24,817,0,22,null,21,{"$f":"COUNTIF($L$7:$L$500,N9)","v":0},{"$f":"O9/$Q$4","v":0},{"$f":"IF(P9=0,0,(P9*((LOG(P9))/LOG(2))))","v":0},null,null,{"$f":"N9","v":21},{"$f":"COUNTIF(L7:L7,T9)","v":0},{"$f":"U9/(W4-U8)","v":0},{"$f":"IF(V9=0,0,(V9*((LOG(V9))/LOG(2))))","v":0},null,{"$f":"N9","v":21},{"$f":"COUNTIF(L7:L8,Y9)","v":0},{"$f":"Z9/(AB4-Z8)","v":0},{"$f":"IF(AA9=0,0,(AA9*((LOG(AA9))/LOG(2))))","v":0},null,{"$f":"N9","v":21},{"$f":"COUNTIF(L8:L8,AD9)","v":0},{"$f":"AE9/(AG4-AE8)","v":0},{"$f":"IF(AF9=0,0,(AF9*((LOG(AF9))/LOG(2))))","v":0},null,{"$f":"N9","v":21},{"$f":"COUNTIF(L8:L9,AI9)","v":0},{"$f":"AJ9/(AL4-AJ8)","v":0},{"$f":"IF(AK9=0,0,(AK9*((LOG(AK9))/LOG(2))))","v":0},null,{"$f":"N9","v":21},{"$f":"COUNTIF(L9:L9,AN9)","v":0},{"$f":"AO9/(AQ4-AO8)","v":0},{"$f":"IF(AP9=0,0,(AP9*((LOG(AP9))/LOG(2))))","v":0},null,{"$f":"N9","v":21},{"$f":"COUNTIF(L9:L10,AS9)","v":0},{"$f":"AT9/(AV4-AT8)","v":0},{"$f":"IF(AU9=0,0,(AU9*((LOG(AU9))/LOG(2))))","v":0}]
[null,null,null,null,null,null,null,null,null,null,null,null,null,22,{"$f":"COUNTIF($L$7:$L$500,N10)","v":3},{"$f":"O10/$Q$4","v":1},{"$f":"IF(P10=0,0,(P10*((LOG(P10))/LOG(2))))","v":0},null,null,{"$f":"N10","v":22},{"$f":"COUNTIF(L7:L7,T10)","v":1},{"$f":"U10/(W4-U8)","v":1},{"$f":"IF(V10=0,0,(V10*((LOG(V10))/LOG(2))))","v":0},null,{"$f":"N10","v":22},{"$f":"COUNTIF(L7:L8,Y10)","v":2},{"$f":"Z10/(AB4-Z8)","v":1},{"$f":"IF(AA10=0,0,(AA10*((LOG(AA10))/LOG(2))))","v":0},null,{"$f":"N10","v":22},{"$f":"COUNTIF(L8:L8,AD10)","v":1},{"$f":"AE10/(AG4-AE8)","v":1},{"$f":"IF(AF10=0,0,(AF10*((LOG(AF10))/LOG(2))))","v":0},null,{"$f":"N10","v":22},{"$f":"COUNTIF(L8:L9,AI10)","v":2},{"$f":"AJ10/(AL4-AJ8)","v":1},{"$f":"IF(AK10=0,0,(AK10*((LOG(AK10))/LOG(2))))","v":0},null,{"$f":"N10","v":22},{"$f":"COUNTIF(L9:L9,AN10)","v":1},{"$f":"AO10/(AQ4-AO8)","v":1},{"$f":"IF(AP10=0,0,(AP10*((LOG(AP10))/LOG(2))))","v":0},null,{"$f":"N10","v":22},{"$f":"COUNTIF(L9:L10,AS10)","v":1},{"$f":"AT10/(AV4-AT8)","v":1},{"$f":"IF(AU10=0,0,(AU10*((LOG(AU10))/LOG(2))))","v":0}]
[null,null,null,null,null,null,null,null,null,null,null,null,null,null,null,null,null,null,null,{"$f":"N11","v":0},{"$f":"COUNTIF(L7:L7,T11)","v":0},{"$f":"U11/(W4-U8)","v":0},{"$f":"IF(V11=0,0,(V11*((LOG(V11))/LOG(2))))","v":0},null,{"$f":"N11","v":0},{"$f":"COUNTIF(L7:L8,Y11)","v":0},{"$f":"Z11/(AB4-Z8)","v":0},{"$f":"IF(AA11=0,0,(AA11*((LOG(AA11))/LOG(2))))","v":0},null,{"$f":"N11","v":0},{"$f":"COUNTIF(L8:L8,AD11)","v":0},{"$f":"AE11/(AG4-AE8)","v":0},{"$f":"IF(AF11=0,0,(AF11*((LOG(AF11))/LOG(2))))","v":0},null,{"$f":"N11","v":0},{"$f":"COUNTIF(L8:L9,AI11)","v":0},{"$f":"AJ11/(AL4-AJ8)","v":0},{"$f":"IF(AK11=0,0,(AK11*((LOG(AK11))/LOG(2))))","v":0},null,{"$f":"N11","v":0},{"$f":"COUNTIF(L9:L9,AN11)","v":0},{"$f":"AO11/(AQ4-AO8)","v":0},{"$f":"IF(AP11=0,0,(AP11*((LOG(AP11))/LOG(2))))","v":0},null,{"$f":"N11","v":0},{"$f":"COUNTIF(L9:L10,AS11)","v":0},{"$f":"AT11/(AV4-AT8)","v":0},{"$f":"IF(AU11=0,0,(AU11*((LOG(AU11))/LOG(2))))","v":0}]
[null,null,null,null,null,null,null,null,null,null,null,null,null,null,null,null,null,null,null,{"$f":"N12","v":0},{"$f":"COUNTIF(L7:L7,T12)","v":0},{"$f":"U12/(W4-U8)","v":0},{"$f":"IF(V12=0,0,(V12*((LOG(V12))/LOG(2))))","v":0},null,{"$f":"N12","v":0},{"$f":"COUNTIF(L7:L8,Y12)","v":0},{"$f":"Z12/(AB4-Z8)","v":0},{"$f":"IF(AA12=0,0,(AA12*((LOG(AA12))/LOG(2))))","v":0},null,{"$f":"N12","v":0},{"$f":"COUNTIF(L8:L8,AD12)","v":0},{"$f":"AE12/(AG4-AE8)","v":0},{"$f":"IF(AF12=0,0,(AF12*((LOG(AF12))/LOG(2))))","v":0},null,{"$f":"N12","v":0},{"$f":"COUNTIF(L8:L9,AI12)","v":0},{"$f":"AJ12/(AL4-AJ8)","v":0},{"$f":"IF(AK12=0,0,(AK12*((LOG(AK12))/LOG(2))))","v":0},null,{"$f":"N12","v":0},{"$f":"COUNTIF(L9:L9,AN12)","v":0},{"$f":"AO12/(AQ4-AO8)","v":0},{"$f":"IF(AP12=0,0,(AP12*((LOG(AP12))/LOG(2))))","v":0},null,{"$f":"N12","v":0},{"$f":"COUNTIF(L9:L10,AS12)","v":0},{"$f":"AT12/(AV4-AT8)","v":0},{"$f":"IF(AU12=0,0,(AU12*((LOG(AU12))/LOG(2))))","v":0}]
[null,null,null,null,null,null,null,null,null,null,null,null,null,null,null,null,null,null,null,{"$f":"N13","v":0},{"$f":"COUNTIF(L7:L7,T13)","v":0},{"$f":"U13/(W4-U8)","v":0},{"$f":"IF(V13=0,0,(V13*((LOG(V13))/LOG(2))))","v":0},null,{"$f":"N13","v":0},{"$f":"COUNTIF(L7:L8,Y13)","v":0},{"$f":"Z13/(AB4-Z8)","v":0},{"$f":"IF(AA13=0,0,(AA13*((LOG(AA13))/LOG(2))))","v":0},null,{"$f":"N13","v":0},{"$f":"COUNTIF(L8:L8,AD13)","v":0},{"$f":"AE13/(AG4-AE8)","v":0},{"$f":"IF(AF13=0,0,(AF13*((LOG(AF13))/LOG(2))))","v":0},null,{"$f":"N13","v":0},{"$f":"COUNTIF(L8:L9,AI13)","v":0},{"$f":"AJ13/(AL4-AJ8)","v":0},{"$f":"IF(AK13=0,0,(AK13*((LOG(AK13))/LOG(2))))","v":0},null,{"$f":"N13","v":0},{"$f":"COUNTIF(L9:L9,AN13)","v":0},{"$f":"AO13/(AQ4-AO8)","v":0},{"$f":"IF(AP13=0,0,(AP13*((LOG(AP13))/LOG(2))))","v":0},null,{"$f":"N13","v":0},{"$f":"COUNTIF(L9:L10,AS13)","v":0},{"$f":"AT13/(AV4-AT8)","v":0},{"$f":"IF(AU13=0,0,(AU13*((LOG(AU13))/LOG(2))))","v":0}]
[null,null,null,null,null,null,null,null,null,null,null,null,null,null,null,null,null,null,null,{"$f":"N14","v":0},{"$f":"COUNTIF(L7:L7,T14)","v":0},{"$f":"U14/(W4-U8)","v":0},{"$f":"IF(V14=0,0,(V14*((LOG(V14))/LOG(2))))","v":0},null,{"$f":"N14","v":0},{"$f":"COUNTIF(L7:L8,Y14)","v":0},{"$f":"Z14/(AB4-Z8)","v":0},{"$f":"IF(AA14=0,0,(AA14*((LOG(AA14))/LOG(2))))","v":0},null,{"$f":"N14","v":0},{"$f":"COUNTIF(L8:L8,AD14)","v":0},{"$f":"AE14/(AG4-AE8)","v":0},{"$f":"IF(AF14=0,0,(AF14*((LOG(AF14))/LOG(2))))","v":0},null,{"$f":"N14","v":0},{"$f":"COUNTIF(L8:L9,AI14)","v":0},{"$f":"AJ14/(AL4-AJ8)","v":0},{"$f":"IF(AK14=0,0,(AK14*((LOG(AK14))/LOG(2))))","v":0},null,{"$f":"N14","v":0},{"$f":"COUNTIF(L9:L9,AN14)","v":0},{"$f":"AO14/(AQ4-AO8)","v":0},{"$f":"IF(AP14=0,0,(AP14*((LOG(AP14))/LOG(2))))","v":0},null,{"$f":"N14","v":0},{"$f":"COUNTIF(L9:L10,AS14)","v":0},{"$f":"AT14/(AV4-AT8)","v":0},{"$f":"IF(AU14=0,0,(AU14*((LOG(AU14))/LOG(2))))","v":0}]
[null,null,null,null,null,null,null,null,null,null,null,null,null,null,null,{"$f":"SUM(P7:P14)","v":1},{"$f":"-SUM(Q7:Q14)","v":0},null,null,null,null,{"$f":"SUM(V7:V14)","v":1},{"$f":"-SUM(W7:W14)","v":0},null,null,null,{"$f":"SUM(AA7:AA14)","v":1},{"$f":"-SUM(AB7:AB14)","v":0},null,null,null,{"$f":"SUM(AF7:AF14)","v":1},{"$f":"-SUM(AG7:AG14)","v":0},null,null,null,{"$f":"SUM(AK7:AK14)","v":1},{"$f":"-SUM(AL7:AL14)","v":0},null,null,null,{"$f":"SUM(AP7:AP14)","v":1},{"$f":"-SUM(AQ7:AQ14)","v":0},null,null,null,{"$f":"SUM(AU7:AU14)","v":1},{"$f":"-SUM(AV7:AV14)","v":0}]
[null,null,null,null,null,null,null,null,null,null,null,null,null,null,null,"U=",{"$f":"Q15/(LOG(Q4)/LOG(2))","v":0},null,null,null,null,"U1=",{"$f":"W15/(LOG(W4)/LOG(2))","v":{"$error":"#DIV/0!"}},null,null,null,"U2=",{"$f":"AB15/(LOG(AB4)/LOG(2))","v":0},null,null,null,"U3=",{"$f":"AG15/(LOG(AG4)/LOG(2))","v":{"$error":"#DIV/0!"}},null,null,null,"U4=",{"$f":"AL15/(LOG(AL4)/LOG(2))","v":0},null,null,null,"U5=",{"$f":"AQ15/(LOG(AQ4)/LOG(2))","v":{"$error":"#DIV/0!"}},null,null,null,"U6=",{"$f":"AV15/(LOG(AV4)/LOG(2))","v":{"$error":"#DIV/0!"}}]
[]
[]
[null,null,null,null,null,null,null,null,null,null,null,null,null,"Total Target Seq"]
[null,null,null,null,null,null,null,null,null,null,null,null,null,{"$f":"COUNTIF(L7:L9,G3)","v":0},null,1,0,1,0,1,0]
[null,null,null,null,null,null,null,null,null,null,null,null,null,null,null,"% of reinforcement given in 6 equal intervals based on number of trials "]
[null,null,null,null,null,null,null,null,null,null,null,null,null,null,null,"%_1","%_2","%_3","%_4","%_5","%_6"]
[null,null,null,null,null,null,null,null,null,null,null,null,null,null,"target sequence",{"$f":"$G$3","v":12},{"$f":"$G$3","v":12},{"$f":"$G$3","v":12},{"$f":"$G$3","v":12},{"$f":"$G$3","v":12},{"$f":"$G$3","v":12}]
[null,null,null,null,null,null,null,null,null,null,null,null,null,null,"total reinforcement",{"$f":"U8","v":0},{"$f":"Z8","v":0},{"$f":"AE8","v":0},{"$f":"AJ8","v":0},{"$f":"AO8","v":0},{"$f":"AT8","v":0}]
[null,null,null,null,null,null,null,null,null,null,null,null,null,null,"% target"]
[null,null,null,null,null,null,null,null,null,null,null,null,null,null,"CCRF"]
[null,null,null,null,null,null,null,null,null,null,null,null,null,null,"% CCRf"]
[null,null,null,null,null,null,null,null,null,null,null,null,null,null,"average response rate",{"$f":"D7/P20","v":122},{"$f":"(D7-D7)/Q20","v":{"$error":"#DIV/0!"}},{"$f":"(D8-D7)/R20","v":467},{"$f":"(D8-D8)/S20","v":{"$error":"#DIV/0!"}},{"$f":"(D9-D8)/T20","v":196},{"$f":"(D9-D9)/U20","v":{"$error":"#DIV/0!"}}]

{"sheet":"!N115940.105","index":48,"n_rows":28,"n_cols":48,"rows_kept":28,"cut":false,"hidden":false,"merged":[[4,39,4,42],[5,39,5,40],[4,44,4,47],[5,44,5,45],[4,24,4,27],[5,24,5,25],[4,29,4,32],[5,29,5,30],[4,34,4,37],[5,34,5,35],[1,1,1,2],[5,13,5,14],[18,13,18,14],[19,13,19,14],[4,19,4,22],[5,19,5,20]]}
["Report for:!N115940.105"]
["Date:","<date>"]
["Hen:","<hen>",null,null,null,"Correct Sequence",{"$f":"Start!J2","v":12},null,null,null,null,null,null,null,null,"Total Sequences in Data",{"$f":"4994-COUNTBLANK(L7:L5000)","v":6},null,null,null,null,"Total Sequences in Block Data",{"$f":"COUNTA(L7:L7)","v":1},null,null,null,"Total Sequences in Block Data",{"$f":"COUNTA(L8:L8)","v":1},null,null,null,"Total Sequences in Block Data",{"$f":"COUNTA(L9:L9)","v":1},null,null,null,"Total Sequences in Block Data",{"$f":"COUNTA(L10:L10)","v":1},null,null,null,"Total Sequences in Block Data",{"$f":"COUNTA(L11:L11)","v":1},null,null,null,"Total Sequences in Block Data",{"$f":"COUNTA(L12:L12)","v":1}]
[null,null,null,null,null,null,null,null,null,null,null,null,null,null,null,"Total Sequences in Summary",{"$f":"SUM(O7:O14)","v":6},null,null,null,null,"Total Sequences in Block Summary",{"$f":"SUM(U7:U14)","v":1},null,null,null,"Total Sequences in Block Summary",{"$f":"SUM(Z7:Z14)","v":1},null,null,null,"Total Sequences in Block Summary",{"$f":"SUM(AE7:AE14)","v":1},null,null,null,"Total Sequences in Block Summary",{"$f":"SUM(AJ7:AJ14)","v":1},null,null,null,"Total Sequences in Block Summary",{"$f":"SUM(AO7:AO14)","v":1},null,null,null,"Total Sequences in Block Summary",{"$f":"SUM(AT7:AT14)","v":1}]
[null,null,null,null,null,null,null,null,null,null,null,null,null,null,null,null,null,null,null,"Block 1",null,null,null,null,"Block 2",null,null,null,null,"Block 3",null,null,null,null,"Block 4",null,null,null,null,"Block 5",null,null,null,null,"Block 6"]
["Sequence\nComponent\n1","Time\n1","Sequence\nComponent\n2","Time\n2","Sequence\nComponent\n3","Time\n3","Sequence\nComponent\n4","Time\n4","Sequence\nComponent\n5","Time\n5","Correct?\n0=No 1=Yes","Sequence",null,"Frequency",null,"Relative Frequency","Variability",null,null,"Frequency",null,"Relative Frequency","Variability",null,"Frequency",null,"Relative Frequency","Variability",null,"Frequency",null,"Relative Frequency","Variability",null,"Frequency",null,"Relative Frequency","Variability",null,"Frequency",null,"Relative Frequency","Variability",null,"Frequency",null,"Relative Frequency","Variability"]
[21,28,22,61,24,76,23,85,24,107,0,22,null,11,{"$f":"COUNTIF($L$7:$L$500,N7)","v":1},{"$f":"O7/$Q$4","v":0.16666666666666666},{"$f":"IF(P7=0,0,(P7*((LOG(P7))/LOG(2))))","v":-0.43082708345352599},null,null,{"$f":"N7","v":11},{"$f":"COUNTIF(L7:L7,T7)","v":0},{"$f":"U7/(W4-U8)","v":0},{"$f":"IF(V7=0,0,(V7*((LOG(V7))/LOG(2))))","v":0},null,{"$f":"N7","v":11},{"$f":"COUNTIF(L8:L8,Y7)","v":1},{"$f":"Z7/(AB4-Z8)","v":1},{"$f":"IF(AA7=0,0,(AA7*((LOG(AA7))/LOG(2))))","v":0},null,{"$f":"N7","v":11},{"$f":"COUNTIF(L9:L9,AD7)","v":0},{"$f":"AE7/(AG4-AE8)","v":{"$error":"#DIV/0!"}},{"$f":"IF(AF7=0,0,(AF7*((LOG(AF7))/LOG(2))))","v":{"$error":"#DIV/0!"}},null,{"$f":"N7","v":11},{"$f":"COUNTIF(L10:L10,AI7)","v":0},{"$f":"AJ7/(AL4-AJ8)","v":0},{"$f":"IF(AK7=0,0,(AK7*((LOG(AK7))/LOG(2))))","v":0},null,{"$f":"N7","v":11},{"$f":"COUNTIF(L11:L11,AN7)","v":0},{"$f":"AO7/(AQ4-AO8)","v":0},{"$f":"IF(AP7=0,0,(AP7*((LOG(AP7))/LOG(2))))","v":0},null,{"$f":"N7","v":11},{"$f":"COUNTIF(L12:L12,AS7)","v":0},{"$f":"AT7/(AV4-AT8)","v":{"$error":"#DIV/0!"}},{"$f":"IF(AU7=0,0,(AU7*((LOG(AU7))/LOG(2))))","v":{"$error":"#DIV/0!"}}]
[12,228,13,246,24,253,23,274,13,286,0,11,null,12,{"$f":"COUNTIF($L$7:$L$500,N8)","v":2},{"$f":"O8/$Q$4","v":0.33333333333333331},{"$f":"IF(P8=0,0,(P8*((LOG(P8))/LOG(2))))","v":-0.52832083357371862},null,null,{"$f":"N8","v":12},{"$f":"COUNTIF(L7:L7,T8)","v":0},null,null,null,{"$f":"N8","v":12},{"$f":"COUNTIF(L8:L8,Y8)","v":0},null,null,null,{"$f":"N8","v":12},{"$f":"COUNTIF(L9:L9,AD8)","v":1},null,null,null,{"$f":"N8","v":12},{"$f":"COUNTIF(L10:L10,AI8)","v":0},null,null,null,{"$f":"N8","v":12},{"$f":"COUNTIF(L11:L11,AN8)","v":0},null,null,null,{"$f":"N8","v":12},{"$f":"COUNTIF(L12:L12,AS8)","v":1}]
[12,1817,24,1835,24,1848,23,1860,24,1895,0,12,null,21,{"$f":"COUNTIF($L$7:$L$500,N9)","v":2},{"$f":"O9/$Q$4","v":0.33333333333333331},{"$f":"IF(P9=0,0,(P9*((LOG(P9))/LOG(2))))","v":-0.52832083357371862},null,null,{"$f":"N9","v":21},{"$f":"COUNTIF(L7:L7,T9)","v":0},{"$f":"U9/(W4-U8)","v":0},{"$f":"IF(V9=0,0,(V9*((LOG(V9))/LOG(2))))","v":0},null,{"$f":"N9","v":21},{"$f":"COUNTIF(L8:L8,Y9)","v":0},{"$f":"Z9/(AB4-Z8)","v":0},{"$f":"IF(AA9=0,0,(AA9*((LOG(AA9))/LOG(2))))","v":0},null,{"$f":"N9","v":21},{"$f":"COUNTIF(L9:L9,AD9)","v":0},{"$f":"AE9/(AG4-AE8)","v":{"$error":"#DIV/0!"}},{"$f":"IF(AF9=0,0,(AF9*((LOG(AF9))/LOG(2))))","v":{"$error":"#DIV/0!"}},null,{"$f":"N9","v":21},{"$f":"COUNTIF(L10:L10,AI9)","v":1},{"$f":"AJ9/(AL4-AJ8)","v":1},{"$f":"IF(AK9=0,0,(AK9*((LOG(AK9))/LOG(2))))","v":0},null,{"$f":"N9","v":21},{"$f":"COUNTIF(L11:L11,AN9)","v":1},{"$f":"AO9/(AQ4-AO8)","v":1},{"$f":"IF(AP9=0,0,(AP9*((LOG(AP9))/LOG(2))))","v":0},null,{"$f":"N9","v":21},{"$f":"COUNTIF(L12:L12,AS9)","v":0},{"$f":"AT9/(AV4-AT8)","v":{"$error":"#DIV/0!"}},{"$f":"IF(AU9=0,0,(AU9*((LOG(AU9))/LOG(2))))","v":{"$error":"#DIV/0!"}}]
[21,2050,11,2061,22,2069,14,2100,24,2110,0,21,null,22,{"$f":"COUNTIF($L$7:$L$500,N10)","v":1},{"$f":"O10/$Q$4","v":0.16666666666666666},{"$f":"IF(P10=0,0,(P10*((LOG(P10))/LOG(2))))","v":-0.43082708345352599},null,null,{"$f":"N10","v":22},{"$f":"COUNTIF(L7:L7,T10)","v":1},{"$f":"U10/(W4-U8)","v":1},{"$f":"IF(V10=0,0,(V10*((LOG(V10))/LOG(2))))","v":0},null,{"$f":"N10","v":22},{"$f":"COUNTIF(L8:L8,Y10)","v":0},{"$f":"Z10/(AB4-Z8)","v":0},{"$f":"IF(AA10=0,0,(AA10*((LOG(AA10))/LOG(2))))","v":0},null,{"$f":"N10","v":22},{"$f":"COUNTIF(L9:L9,AD10)","v":0},{"$f":"AE10/(AG4-AE8)","v":{"$error":"#DIV/0!"}},{"$f":"IF(AF10=0,0,(AF10*((LOG(AF10))/LOG(2))))","v":{"$error":"#DIV/0!"}},null,{"$f":"N10","v":22},{"$f":"COUNTIF(L10:L10,AI10)","v":0},{"$f":"AJ10/(AL4-AJ8)","v":0},{"$f":"IF(AK10=0,0,(AK10*((LOG(AK10))/LOG(2))))","v":0},null,{"$f":"N10","v":22},{"$f":"COUNTIF(L11:L11,AN10)","v":0},{"$f":"AO10/(AQ4-AO8)","v":0},{"$f":"IF(AP10=0,0,(AP10*((LOG(AP10))/LOG(2))))","v":0},null,{"$f":"N10","v":22},{"$f":"COUNTIF(L12:L12,AS10)","v":0},{"$f":"AT10/(AV4-AT8)","v":{"$error":"#DIV/0!"}},{"$f":"IF(AU10=0,0,(AU10*((LOG(AU10))/LOG(2))))","v":{"$error":"#DIV/0!"}}]
[21,12895,11,12915,22,12924,23,12950,24,12961,0,21,null,null,null,null,null,null,null,{"$f":"N11","v":0},{"$f":"COUNTIF(L7:L7,T11)","v":0},{"$f":"U11/(W4-U8)","v":0},{"$f":"IF(V11=0,0,(V11*((LOG(V11))/LOG(2))))","v":0},null,{"$f":"N11","v":0},{"$f":"COUNTIF(L8:L8,Y11)","v":0},{"$f":"Z11/(AB4-Z8)","v":0},{"$f":"IF(AA11=0,0,(AA11*((LOG(AA11))/LOG(2))))","v":0},null,{"$f":"N11","v":0},{"$f":"COUNTIF(L9:L9,AD11)","v":0},{"$f":"AE11/(AG4-AE8)","v":{"$error":"#DIV/0!"}},{"$f":"IF(AF11=0,0,(AF11*((LOG(AF11))/LOG(2))))","v":{"$error":"#DIV/0!"}},null,{"$f":"N11","v":0},{"$f":"COUNTIF(L10:L10,AI11)","v":0},{"$f":"AJ11/(AL4-AJ8)","v":0},{"$f":"IF(AK11=0,0,(AK11*((LOG(AK11))/LOG(2))))","v":0},null,{"$f":"N11","v":0},{"$f":"COUNTIF(L11:L11,AN11)","v":0},{"$f":"AO11/(AQ4-AO8)","v":0},{"$f":"IF(AP11=0,0,(AP11*((LOG(AP11))/LOG(2))))","v":0},null,{"$f":"N11","v":0},{"$f":"COUNTIF(L12:L12,AS11)","v":0},{"$f":"AT11/(AV4-AT8)","v":{"$error":"#DIV/0!"}},{"$f":"IF(AU11=0,0,(AU11*((LOG(AU11))/LOG(2))))","v":{"$error":"#DIV/0!"}}]
[12,21798,24,21814,13,21828,23,21838,13,21853,0,12,null,null,null,null,null,null,null,{"$f":"N12","v":0},{"$f":"COUNTIF(L7:L7,T12)","v":0},{"$f":"U12/(W4-U8)","v":0},{"$f":"IF(V12=0,0,(V12*((LOG(V12))/LOG(2))))","v":0},null,{"$f":"N12","v":0},{"$f":"COUNTIF(L8:L8,Y12)","v":0},{"$f":"Z12/(AB4-Z8)","v":0},{"$f":"IF(AA12=0,0,(AA12*((LOG(AA12))/LOG(2))))","v":0},null,{"$f":"N12","v":0},{"$f":"COUNTIF(L9:L9,AD12)","v":0},{"$f":"AE12/(AG4-AE8)","v":{"$error":"#DIV/0!"}},{"$f":"IF(AF12=0,0,(AF12*((LOG(AF12))/LOG(2))))","v":{"$error":"#DIV/0!"}},null,{"$f":"N12","v":0},{"$f":"COUNTIF(L10:L10,AI12)","v":0},{"$f":"AJ12/(AL4-AJ8)","v":0},{"$f":"IF(AK12=0,0,(AK12*((LOG(AK12))/LOG(2))))","v":0},null,{"$f":"N12","v":0},{"$f":"COUNTIF(L11:L11,AN12)","v":0},{"$f":"AO12/(AQ4-AO8)","v":0},{"$f":"IF(AP12=0,0,(AP12*((LOG(AP12))/LOG(2))))","v":0},null,{"$f":"N12","v":0},{"$f":"COUNTIF(L12:L12,AS12)","v":0},{"$f":"AT12/(AV4-AT8)","v":{"$error":"#DIV/0!"}},{"$f":"IF(AU12=0,0,(AU12*((LOG(AU12))/LOG(2))))","v":{"$error":"#DIV/0!"}}]
[null,null,null,null,null,null,null,null,null,null,null,null,null,null,null,null,null,null,null,{"$f":"N13","v":0},{"$f":"COUNTIF(L7:L7,T13)","v":0},{"$f":"U13/(W4-U8)","v":0},{"$f":"IF(V13=0,0,(V13*((LOG(V13))/LOG(2))))","v":0},null,{"$f":"N13","v":0},{"$f":"COUNTIF(L8:L8,Y13)","v":0},{"$f":"Z13/(AB4-Z8)","v":0},{"$f":"IF(AA13=0,0,(AA13*((LOG(AA13))/LOG(2))))","v":0},null,{"$f":"N13","v":0},{"$f":"COUNTIF(L9:L9,AD13)","v":0},{"$f":"AE13/(AG4-AE8)","v":{"$error":"#DIV/0!"}},{"$f":"IF(AF13=0,0,(AF13*((LOG(AF13))/LOG(2))))","v":{"$error":"#DIV/0!"}},null,{"$f":"N13","v":0},{"$f":"COUNTIF(L10:L10,AI13)","v":0},{"$f":"AJ13/(AL4-AJ8)","v":0},{"$f":"IF(AK13=0,0,(AK13*((LOG(AK13))/LOG(2))))","v":0},null,{"$f":"N13","v":0},{"$f":"COUNTIF(L11:L11,AN13)","v":0},{"$f":"AO13/(AQ4-AO8)","v":0},{"$f":"IF(AP13=0,0,(AP13*((LOG(AP13))/LOG(2))))","v":0},null,{"$f":"N13","v":0},{"$f":"COUNTIF(L12:L12,AS13)","v":0},{"$f":"AT13/(AV4-AT8)","v":{"$error":"#DIV/0!"}},{"$f":"IF(AU13=0,0,(AU13*((LOG(AU13))/LOG(2))))","v":{"$error":"#DIV/0!"}}]
[null,null,null,null,null,null,null,null,null,null,null,null,null,null,null,null,null,null,null,{"$f":"N14","v":0},{"$f":"COUNTIF(L7:L7,T14)","v":0},{"$f":"U14/(W4-U8)","v":0},{"$f":"IF(V14=0,0,(V14*((LOG(V14))/LOG(2))))","v":0},null,{"$f":"N14","v":0},{"$f":"COUNTIF(L8:L8,Y14)","v":0},{"$f":"Z14/(AB4-Z8)","v":0},{"$f":"IF(AA14=0,0,(AA14*((LOG(AA14))/LOG(2))))","v":0},null,{"$f":"N14","v":0},{"$f":"COUNTIF(L9:L9,AD14)","v":0},{"$f":"AE14/(AG4-AE8)","v":{"$error":"#DIV/0!"}},{"$f":"IF(AF14=0,0,(AF14*((LOG(AF14))/LOG(2))))","v":{"$error":"#DIV/0!"}},null,{"$f":"N14","v":0},{"$f":"COUNTIF(L10:L10,AI14)","v":0},{"$f":"AJ14/(AL4-AJ8)","v":0},{"$f":"IF(AK14=0,0,(AK14*((LOG(AK14))/LOG(2))))","v":0},null,{"$f":"N14","v":0},{"$f":"COUNTIF(L11:L11,AN14)","v":0},{"$f":"AO14/(AQ4-AO8)","v":0},{"$f":"IF(AP14=0,0,(AP14*((LOG(AP14))/LOG(2))))","v":0},null,{"$f":"N14","v":0},{"$f":"COUNTIF(L12:L12,AS14)","v":0},{"$f":"AT14/(AV4-AT8)","v":{"$error":"#DIV/0!"}},{"$f":"IF(AU14=0,0,(AU14*((LOG(AU14))/LOG(2))))","v":{"$error":"#DIV/0!"}}]
[null,null,null,null,null,null,null,null,null,null,null,null,null,null,null,{"$f":"SUM(P7:P14)","v":0.99999999999999989},{"$f":"-SUM(Q7:Q14)","v":1.9182958340544891},null,null,null,null,{"$f":"SUM(V7:V14)","v":1},{"$f":"-SUM(W7:W14)","v":0},null,null,null,{"$f":"SUM(AA7:AA14)","v":1},{"$f":"-SUM(AB7:AB14)","v":0},null,null,null,{"$f":"SUM(AF7:AF14)","v":{"$error":"#DIV/0!"}},{"$f":"-SUM(AG7:AG14)","v":{"$error":"#DIV/0!"}},null,null,null,{"$f":"SUM(AK7:AK14)","v":1},{"$f":"-SUM(AL7:AL14)","v":0},null,null,null,{"$f":"SUM(AP7:AP14)","v":1},{"$f":"-SUM(AQ7:AQ14)","v":0},null,null,null,{"$f":"SUM(AU7:AU14)","v":{"$error":"#DIV/0!"}},{"$f":"-SUM(AV7:AV14)","v":{"$error":"#DIV/0!"}}]
[null,null,null,null,null,null,null,null,null,null,null,null,null,null,null,"U=",{"$f":"Q15/(LOG(Q4)/LOG(2))","v":0.74209812851030543},null,null,null,null,"U1=",{"$f":"W15/(LOG(W4)/LOG(2))","v":{"$error":"#DIV/0!"}},null,null,null,"U2=",{"$f":"AB15/(LOG(AB4)/LOG(2))","v":{"$error":"#DIV/0!"}},null,null,null,"U3=",{"$f":"AG15/(LOG(AG4)/LOG(2))","v":{"$error":"#DIV/0!"}},null,null,null,"U4=",{"$f":"AL15/(LOG(AL4)/LOG(2))","v":{"$error":"#DIV/0!"}},null,null,null,"U5=",{"$f":"AQ15/(LOG(AQ4)/LOG(2))","v":{"$error":"#DIV/0!"}},null,null,null,"U6=",{"$f":"AV15/(LOG(AV4)/LOG(2))","v":{"$error":"#DIV/0!"}}]
[]
[]
[null,null,null,null,null,null,null,null,null,null,null,null,null,"Total Target Seq"]
[null,null,null,null,null,null,null,null,null,null,null,null,null,{"$f":"COUNTIF(L7:L12,G3)","v":2},null,1,1,1,1,1,1]
[null,null,null,null,null,null,null,null,null,null,null,null,null,null,null,"% of reinforcement given in 6 equal intervals based on number of trials "]
[null,null,null,null,null,null,null,null,null,null,null,null,null,null,null,"%_1","%_2","%_3","%_4","%_5","%_6"]
[null,null,null,null,null,null,null,null,null,null,null,null,null,null,"target sequence",{"$f":"$G$3","v":12},{"$f":"$G$3","v":12},{"$f":"$G$3","v":12},{"$f":"$G$3","v":12},{"$f":"$G$3","v":12},{"$f":"$G$3","v":12}]
[null,null,null,null,null,null,null,null,null,null,null,null,null,null,"total reinforcement",{"$f":"U8","v":0},{"$f":"Z8","v":0},{"$f":"AE8","v":1},{"$f":"AJ8","v":0},{"$f":"AO8","v":0},{"$f":"AT8","v":1}]
[null,null,null,null,null,null,null,null,null,null,null,null,null,null,"% target"]
[null,null,null,null,null,null,null,null,null,null,null,null,null,null,"CCRF"]
[null,null,null,null,null,null,null,null,null,null,null,null,null,null,"% CCRf"]
[null,null,null,null,null,null,null,null,null,null,null,null,null,null,"average response rate",{"$f":"D7/P20","v":61},{"$f":"(D8-D7)/Q20","v":185},{"$f":"(D9-D8)/R20","v":1589},{"$f":"(D10-D9)/S20","v":226},{"$f":"(D11-D10)/T20","v":10854},{"$f":"(D12-D11)/U20","v":8899}]

{"sheet":"!N116920.105","index":49,"n_rows":28,"n_cols":48,"rows_kept":28,"cut":false,"hidden":false,"merged":[[4,39,4,42],[5,39,5,40],[4,44,4,47],[5,44,5,45],[4,24,4,27],[5,24,5,25],[4,29,4,32],[5,29,5,30],[4,34,4,37],[5,34,5,35],[1,1,1,2],[5,13,5,14],[18,13,18,14],[19,13,19,14],[4,19,4,22],[5,19,5,20]]}
["Report for:!N116920.105"]
["Date:","<date>"]
["Hen:","<hen>",null,null,null,"Correct Sequence",{"$f":"Start!J2","v":12},null,null,null,null,null,null,null,null,"Total Sequences in Data",{"$f":"4994-COUNTBLANK(L7:L5000)","v":20},null,null,null,null,"Total Sequences in Block Data",{"$f":"COUNTA(L7:L9)","v":3},null,null,null,"Total Sequences in Block Data",{"$f":"COUNTA(L10:L13)","v":4},null,null,null,"Total Sequences in Block Data",{"$f":"COUNTA(L14:L16)","v":3},null,null,null,"Total Sequences in Block Data",{"$f":"COUNTA(L17:L19)","v":3},null,null,null,"Total Sequences in Block Data",{"$f":"COUNTA(L20:L23)","v":4},null,null,null,"Total Sequences in Block Data",{"$f":"COUNTA(L24:L26)","v":3}]
[null,null,null,null,null,null,null,null,null,null,null,null,null,null,null,"Total Sequences in Summary",{"$f":"SUM(O7:O14)","v":20},null,null,null,null,"Total Sequences in Block Summary",{"$f":"SUM(U7:U14)","v":3},null,null,null,"Total Sequences in Block Summary",{"$f":"SUM(Z7:Z14)","v":4},null,null,null,"Total Sequences in Block Summary",{"$f":"SUM(AE7:AE14)","v":3},null,null,null,"Total Sequences in Block Summary",{"$f":"SUM(AJ7:AJ14)","v":3},null,null,null,"Total Sequences in Block Summary",{"$f":"SUM(AO7:AO14)","v":4},null,null,null,"Total Sequences in Block Summary",{"$f":"SUM(AT7:AT14)","v":3}]
[null,null,null,null,null,null,null,null,null,null,null,null,null,null,null,null,null,null,null,"Block 1",null,null,null,null,"Block 2",null,null,null,null,"Block 3",null,null,null,null,"Block 4",null,null,null,null,"Block 5",null,null,null,null,"Block 6"]
["Sequence\nComponent\n1","Time\n1","Sequence\nComponent\n2","Time\n2","Sequence\nComponent\n3","Time\n3","Sequence\nComponent\n4","Time\n4","Sequence\nComponent\n5","Time\n5","Correct?\n0=No 1=Yes","Sequence",null,"Frequency",null,"Relative Frequency","Variability",null,null,"Frequency",null,"Relative Frequency","Variability",null,"Frequency",null,"Relative Frequency","Variability",null,"Frequency",null,"Relative Frequency","Variability",null,"Frequency",null,"Relative Frequency","Variability",null,"Frequency",null,"Relative Frequency","Variability",null,"Frequency",null,"Relative Frequency","Variability"]
[12,10,24,24,13,85,23,95,13,115,1,12,null,11,{"$f":"COUNTIF($L$7:$L$500,N7)","v":8},{"$f":"O7/$Q$4","v":0.4},{"$f":"IF(P7=0,0,(P7*((LOG(P7))/LOG(2))))","v":-0.52877123795494496},null,null,{"$f":"N7","v":11},{"$f":"COUNTIF(L7:L9,T7)","v":0},{"$f":"U7/(W4-U8)","v":0},{"$f":"IF(V7=0,0,(V7*((LOG(V7))/LOG(2))))","v":0},null,{"$f":"N7","v":11},{"$f":"COUNTIF(L10:L13,Y7)","v":1},{"$f":"Z7/(AB4-Z8)","v":0.5},{"$f":"IF(AA7=0,0,(AA7*((LOG(AA7))/LOG(2))))","v":-0.5},null,{"$f":"N7","v":11},{"$f":"COUNTIF(L14:L16,AD7)","v":0},{"$f":"AE7/(AG4-AE8)","v":0},{"$f":"IF(AF7=0,0,(AF7*((LOG(AF7))/LOG(2))))","v":0},null,{"$f":"N7","v":11},{"$f":"COUNTIF(L17:L19,AI7)","v":2},{"$f":"AJ7/(AL4-AJ8)","v":1},{"$f":"IF(AK7=0,0,(AK7*((LOG(AK7))/LOG(2))))","v":0},null,{"$f":"N7","v":11},{"$f":"COUNTIF(L20:L23,AN7)","v":4},{"$f":"AO7/(AQ4-AO8)","v":1},{"$f":"IF(AP7=0,0,(AP7*((LOG(AP7))/LOG(2))))","v":0},null,{"$f":"N7","v":11},{"$f":"COUNTIF(L24:L26,AS7)","v":1},{"$f":"AT7/(AV4-AT8)","v":0.33333333333333331},{"$f":"IF(AU7=0,0,(AU7*((LOG(AU7))/LOG(2))))","v":-0.52832083357371862}]
[21,218,22,233,13,244,23,250,24,272,0,22,null,12,{"$f":"COUNTIF($L$7:$L$500,N8)","v":4},{"$f":"O8/$Q$4","v":0.2},{"$f":"IF(P8=0,0,(P8*((LOG(P8))/LOG(2))))","v":-0.46438561897747244},null,null,{"$f":"N8","v":12},{"$f":"COUNTIF(L7:L9,T8)","v":1},null,null,null,{"$f":"N8","v":12},{"$f":"COUNTIF(L10:L13,Y8)","v":2},null,null,null,{"$f":"N8","v":12},{"$f":"COUNTIF(L14:L16,AD8)","v":0},null,null,null,{"$f":"N8","v":12},{"$f":"COUNTIF(L17:L19,AI8)","v":1},null,null,null,{"$f":"N8","v":12},{"$f":"COUNTIF(L20:L23,AN8)","v":0},null,null,null,{"$f":"N8","v":12},{"$f":"COUNTIF(L24:L26,AS8)","v":0}]
[21,398,22,413,13,424,23,433,13,444,0,22,null,21,{"$f":"COUNTIF($L$7:$L$500,N9)","v":2},{"$f":"O9/$Q$4","v":0.1},{"$f":"IF(P9=0,0,(P9*((LOG(P9))/LOG(2))))","v":-0.33219280948873625},null,null,{"$f":"N9","v":21},{"$f":"COUNTIF(L7:L9,T9)","v":0},{"$f":"U9/(W4-U8)","v":0},{"$f":"IF(V9=0,0,(V9*((LOG(V9))/LOG(2))))","v":0},null,{"$f":"N9","v":21},{"$f":"COUNTIF(L10:L13,Y9)","v":0},{"$f":"Z9/(AB4-Z8)","v":0},{"$f":"IF(AA9=0,0,(AA9*((LOG(AA9))/LOG(2))))","v":0},null,{"$f":"N9","v":21},{"$f":"COUNTIF(L14:L16,AD9)","v":2},{"$f":"AE9/(AG4-AE8)","v":0.66666666666666663},{"$f":"IF(AF9=0,0,(AF9*((LOG(AF9))/LOG(2))))","v":-0.38997500048077083},null,{"$f":"N9","v":21},{"$f":"COUNTIF(L17:L19,AI9)","v":0},{"$f":"AJ9/(AL4-AJ8)","v":0},{"$f":"IF(AK9=0,0,(AK9*((LOG(AK9))/LOG(2))))","v":0},null,{"$f":"N9","v":21},{"$f":"COUNTIF(L20:L23,AN9)","v":0},{"$f":"AO9/(AQ4-AO8)","v":0},{"$f":"IF(AP9=0,0,(AP9*((LOG(AP9))/LOG(2))))","v":0},null,{"$f":"N9","v":21},{"$f":"COUNTIF(L24:L26,AS9)","v":0},{"$f":"AT9/(AV4-AT8)","v":0},{"$f":"IF(AU9=0,0,(AU9*((LOG(AU9))/LOG(2))))","v":0}]
[12,608,24,618,13,639,23,647,13,661,0,12,null,22,{"$f":"COUNTIF($L$7:$L$500,N10)","v":6},{"$f":"O10/$Q$4","v":0.3},{"$f":"IF(P10=0,0,(P10*((LOG(P10))/LOG(2))))","v":-0.52108967824986185},null,null,{"$f":"N10","v":22},{"$f":"COUNTIF(L7:L9,T10)","v":2},{"$f":"U10/(W4-U8)","v":1},{"$f":"IF(V10=0,0,(V10*((LOG(V10))/LOG(2))))","v":0},null,{"$f":"N10","v":22},{"$f":"COUNTIF(L10:L13,Y10)","v":1},{"$f":"Z10/(AB4-Z8)","v":0.5},{"$f":"IF(AA10=0,0,(AA10*((LOG(AA10))/LOG(2))))","v":-0.5},null,{"$f":"N10","v":22},{"$f":"COUNTIF(L14:L16,AD10)","v":1},{"$f":"AE10/(AG4-AE8)","v":0.33333333333333331},{"$f":"IF(AF10=0,0,(AF10*((LOG(AF10))/LOG(2))))","v":-0.52832083357371862},null,{"$f":"N10","v":22},{"$f":"COUNTIF(L17:L19,AI10)","v":0},{"$f":"AJ10/(AL4-AJ8)","v":0},{"$f":"IF(AK10=0,0,(AK10*((LOG(AK10))/LOG(2))))","v":0},null,{"$f":"N10","v":22},{"$f":"COUNTIF(L20:L23,AN10)","v":0},{"$f":"AO10/(AQ4-AO8)","v":0},{"$f":"IF(AP10=0,0,(AP10*((LOG(AP10))/LOG(2))))","v":0},null,{"$f":"N10","v":22},{"$f":"COUNTIF(L24:L26,AS10)","v":2},{"$f":"AT10/(AV4-AT8)","v":0.66666666666666663},{"$f":"IF(AU10=0,0,(AU10*((LOG(AU10))/LOG(2))))","v":-0.38997500048077083}]
[12,862,24,874,13,884,23,893,13,904,0,12,null,null,null,null,null,null,null,{"$f":"N11","v":0},{"$f":"COUNTIF(L7:L9,T11)","v":0},{"$f":"U11/(W4-U8)","v":0},{"$f":"IF(V11=0,0,(V11*((LOG(V11))/LOG(2))))","v":0},null,{"$f":"N11","v":0},{"$f":"COUNTIF(L10:L13,Y11)","v":0},{"$f":"Z11/(AB4-Z8)","v":0},{"$f":"IF(AA11=0,0,(AA11*((LOG(AA11))/LOG(2))))","v":0},null,{"$f":"N11","v":0},{"$f":"COUNTIF(L14:L16,AD11)","v":0},{"$f":"AE11/(AG4-AE8)","v":0},{"$f":"IF(AF11=0,0,(AF11*((LOG(AF11))/LOG(2))))","v":0},null,{"$f":"N11","v":0},{"$f":"COUNTIF(L17:L19,AI11)","v":0},{"$f":"AJ11/(AL4-AJ8)","v":0},{"$f":"IF(AK11=0,0,(AK11*((LOG(AK11))/LOG(2))))","v":0},null,{"$f":"N11","v":0},{"$f":"COUNTIF(L20:L23,AN11)","v":0},{"$f":"AO11/(AQ4-AO8)","v":0},{"$f":"IF(AP11=0,0,(AP11*((LOG(AP11))/LOG(2))))","v":0},null,{"$f":"N11","v":0},{"$f":"COUNTIF(L24:L26,AS11)","v":0},{"$f":"AT11/(AV4-AT8)","v":0},{"$f":"IF(AU11=0,0,(AU11*((LOG(AU11))/LOG(2))))","v":0}]
[21,1071,22,1084,24,1094,14,1105,24,1114,0,22,null,null,null,null,null,null,null,{"$f":"N12","v":0},{"$f":"COUNTIF(L7:L9,T12)","v":0},{"$f":"U12/(W4-U8)","v":0},{"$f":"IF(V12=0,0,(V12*((LOG(V12))/LOG(2))))","v":0},null,{"$f":"N12","v":0},{"$f":"COUNTIF(L10:L13,Y12)","v":0},{"$f":"Z12/(AB4-Z8)","v":0},{"$f":"IF(AA12=0,0,(AA12*((LOG(AA12))/LOG(2))))","v":0},null,{"$f":"N12","v":0},{"$f":"COUNTIF(L14:L16,AD12)","v":0},{"$f":"AE12/(AG4-AE8)","v":0},{"$f":"IF(AF12=0,0,(AF12*((LOG(AF12))/LOG(2))))","v":0},null,{"$f":"N12","v":0},{"$f":"COUNTIF(L17:L19,AI12)","v":0},{"$f":"AJ12/(AL4-AJ8)","v":0},{"$f":"IF(AK12=0,0,(AK12*((LOG(AK12))/LOG(2))))","v":0},null,{"$f":"N12","v":0},{"$f":"COUNTIF(L20:L23,AN12)","v":0},{"$f":"AO12/(AQ4-AO8)","v":0},{"$f":"IF(AP12=0,0,(AP12*((LOG(AP12))/LOG(2))))","v":0},null,{"$f":"N12","v":0},{"$f":"COUNTIF(L24:L26,AS12)","v":0},{"$f":"AT12/(AV4-AT8)","v":0},{"$f":"IF(AU12=0,0,(AU12*((LOG(AU12))/LOG(2))))","v":0}]
[12,1331,13,1345,24,1786,23,1816,24,1833,0,11,null,null,null,null,null,null,null,{"$f":"N13","v":0},{"$f":"COUNTIF(L7:L9,T13)","v":0},{"$f":"U13/(W4-U8)","v":0},{"$f":"IF(V13=0,0,(V13*((LOG(V13))/LOG(2))))","v":0},null,{"$f":"N13","v":0},{"$f":"COUNTIF(L10:L13,Y13)","v":0},{"$f":"Z13/(AB4-Z8)","v":0},{"$f":"IF(AA13=0,0,(AA13*((LOG(AA13))/LOG(2))))","v":0},null,{"$f":"N13","v":0},{"$f":"COUNTIF(L14:L16,AD13)","v":0},{"$f":"AE13/(AG4-AE8)","v":0},{"$f":"IF(AF13=0,0,(AF13*((LOG(AF13))/LOG(2))))","v":0},null,{"$f":"N13","v":0},{"$f":"COUNTIF(L17:L19,AI13)","v":0},{"$f":"AJ13/(AL4-AJ8)","v":0},{"$f":"IF(AK13=0,0,(AK13*((LOG(AK13))/LOG(2))))","v":0},null,{"$f":"N13","v":0},{"$f":"COUNTIF(L20:L23,AN13)","v":0},{"$f":"AO13/(AQ4-AO8)","v":0},{"$f":"IF(AP13=0,0,(AP13*((LOG(AP13))/LOG(2))))","v":0},null,{"$f":"N13","v":0},{"$f":"COUNTIF(L24:L26,AS13)","v":0},{"$f":"AT13/(AV4-AT8)","v":0},{"$f":"IF(AU13=0,0,(AU13*((LOG(AU13))/LOG(2))))","v":0}]
[21,1961,22,1982,13,2039,23,2048,24,2470,0,22,null,null,null,null,null,null,null,{"$f":"N14","v":0},{"$f":"COUNTIF(L7:L9,T14)","v":0},{"$f":"U14/(W4-U8)","v":0},{"$f":"IF(V14=0,0,(V14*((LOG(V14))/LOG(2))))","v":0},null,{"$f":"N14","v":0},{"$f":"COUNTIF(L10:L13,Y14)","v":0},{"$f":"Z14/(AB4-Z8)","v":0},{"$f":"IF(AA14=0,0,(AA14*((LOG(AA14))/LOG(2))))","v":0},null,{"$f":"N14","v":0},{"$f":"COUNTIF(L14:L16,AD14)","v":0},{"$f":"AE14/(AG4-AE8)","v":0},{"$f":"IF(AF14=0,0,(AF14*((LOG(AF14))/LOG(2))))","v":0},null,{"$f":"N14","v":0},{"$f":"COUNTIF(L17:L19,AI14)","v":0},{"$f":"AJ14/(AL4-AJ8)","v":0},{"$f":"IF(AK14=0,0,(AK14*((LOG(AK14))/LOG(2))))","v":0},null,{"$f":"N14","v":0},{"$f":"COUNTIF(L20:L23,AN14)","v":0},{"$f":"AO14/(AQ4-AO8)","v":0},{"$f":"IF(AP14=0,0,(AP14*((LOG(AP14))/LOG(2))))","v":0},null,{"$f":"N14","v":0},{"$f":"COUNTIF(L24:L26,AS14)","v":0},{"$f":"AT14/(AV4-AT8)","v":0},{"$f":"IF(AU14=0,0,(AU14*((LOG(AU14))/LOG(2))))","v":0}]
[21,2965,11,2977,22,2987,23,3007,24,3032,0,21,null,null,null,{"$f":"SUM(P7:P14)","v":1},{"$f":"-SUM(Q7:Q14)","v":1.8464393446710154},null,null,null,null,{"$f":"SUM(V7:V14)","v":1},{"$f":"-SUM(W7:W14)","v":0},null,null,null,{"$f":"SUM(AA7:AA14)","v":1},{"$f":"-SUM(AB7:AB14)","v":1},null,null,null,{"$f":"SUM(AF7:AF14)","v":1},{"$f":"-SUM(AG7:AG14)","v":0.91829583405448945},null,null,null,{"$f":"SUM(AK7:AK14)","v":1},{"$f":"-SUM(AL7:AL14)","v":0},null,null,null,{"$f":"SUM(AP7:AP14)","v":1},{"$f":"-SUM(AQ7:AQ14)","v":0},null,null,null,{"$f":"SUM(AU7:AU14)","v":1},{"$f":"-SUM(AV7:AV14)","v":0.91829583405448945}]
[21,3611,11,3625,22,3635,14,3649,24,3659,0,21,null,null,null,"U=",{"$f":"Q15/(LOG(Q4)/LOG(2))","v":0.42722583627785621},null,null,null,null,"U1=",{"$f":"W15/(LOG(W4)/LOG(2))","v":0},null,null,null,"U2=",{"$f":"AB15/(LOG(AB4)/LOG(2))","v":0.5},null,null,null,"U3=",{"$f":"AG15/(LOG(AG4)/LOG(2))","v":0.57938016428569505},null,null,null,"U4=",{"$f":"AL15/(LOG(AL4)/LOG(2))","v":0},null,null,null,"U5=",{"$f":"AQ15/(LOG(AQ4)/LOG(2))","v":0},null,null,null,"U6=",{"$f":"AV15/(LOG(AV4)/LOG(2))","v":0.57938016428569505}]
[12,4327,24,4337,13,4364,23,4374,13,4386,0,12]
[12,9004,13,11765,24,11775,14,11789,24,11799,0,11]
[12,11929,13,11940,24,12018,14,12032,24,12041,0,11,null,"Total Target Seq"]
[12,12488,13,12509,24,12528,14,12538,13,12560,0,11,null,{"$f":"COUNTIF(L7:L26,G3)","v":4},null,3,4,3,3,4,3]
[12,12788,13,12824,13,12836,23,12845,13,12860,0,11,null,null,null,"% of reinforcement given in 6 equal intervals based on number of trials "]
[12,13434,13,13457,13,13471,14,13481,13,13497,0,11,null,null,null,"%_1","%_2","%_3","%_4","%_5","%_6"]
[12,14428,13,14438,13,15236,23,15279,24,15331,0,11,null,null,"target sequence",{"$f":"$G$3","v":12},{"$f":"$G$3","v":12},{"$f":"$G$3","v":12},{"$f":"$G$3","v":12},{"$f":"$G$3","v":12},{"$f":"$G$3","v":12}]
[21,17699,22,17718,24,17731,23,17756,13,19182,0,22,null,null,"total reinforcement",{"$f":"U8","v":1},{"$f":"Z8","v":2},{"$f":"AE8","v":0},{"$f":"AJ8","v":1},{"$f":"AO8","v":0},{"$f":"AT8","v":0}]
[21,19423,22,19434,13,19444,23,19454,13,19468,0,22,null,null,"% target"]
[12,20115,13,20126,24,20147,14,20159,24,20168,0,11,null,null,"CCRF"]
[null,null,null,null,null,null,null,null,null,null,null,null,null,null,"% CCRf"]
[null,null,null,null,null,null,null,null,null,null,null,null,null,null,"average response rate",{"$f":"D9/P20","v":137.66666666666666},{"$f":"(D13-D9)/Q20","v":233},{"$f":"(D16-D13)/R20","v":760},{"$f":"(D19-D16)/S20","v":2771.6666666666665},{"$f":"(D23-D19)/T20","v":624.5},{"$f":"(D26-D23)/U20","v":1896}]

{"sheet":"!N117B40.105","index":50,"n_rows":28,"n_cols":48,"rows_kept":28,"cut":false,"hidden":false,"merged":[[4,39,4,42],[5,39,5,40],[4,44,4,47],[5,44,5,45],[4,24,4,27],[5,24,5,25],[4,29,4,32],[5,29,5,30],[4,34,4,37],[5,34,5,35],[1,1,1,2],[5,13,5,14],[18,13,18,14],[19,13,19,14],[4,19,4,22],[5,19,5,20]]}
["Report for:!N117B40.105"]
["Date:","<date>"]
["Hen:","<hen>",null,null,null,"Correct Sequence",{"$f":"Start!J2","v":12},null,null,null,null,null,null,null,null,"Total Sequences in Data",{"$f":"4994-COUNTBLANK(L7:L5000)","v":7},null,null,null,null,"Total Sequences in Block Data",{"$f":"COUNTA(L7:L7)","v":1},null,null,null,"Total Sequences in Block Data",{"$f":"COUNTA(L8:L8)","v":1},null,null,null,"Total Sequences in Block Data",{"$f":"COUNTA(L9:L10)","v":2},null,null,null,"Total Sequences in Block Data",{"$f":"COUNTA(L11:L11)","v":1},null,null,null,"Total Sequences in Block Data",{"$f":"COUNTA(L12:L12)","v":1},null,null,null,"Total Sequences in Block Data",{"$f":"COUNTA(L13:L13)","v":1}]
[null,null,null,null,null,null,null,null,null,null,null,null,null,null,null,"Total Sequences in Summary",{"$f":"SUM(O7:O14)","v":7},null,null,null,null,"Total Sequences in Block Summary",{"$f":"SUM(U7:U14)","v":1},null,null,null,"Total Sequences in Block Summary",{"$f":"SUM(Z7:Z14)","v":1},null,null,null,"Total Sequences in Block Summary",{"$f":"SUM(AE7:AE14)","v":2},null,null,null,"Total Sequences in Block Summary",{"$f":"SUM(AJ7:AJ14)","v":1},null,null,null,"Total Sequences in Block Summary",{"$f":"SUM(AO7:AO14)","v":1},null,null,null,"Total Sequences in Block Summary",{"$f":"SUM(AT7:AT14)","v":1}]
[null,null,null,null,null,null,null,null,null,null,null,null,null,null,null,null,null,null,null,"Block 1",null,null,null,null,"Block 2",null,null,null,null,"Block 3",null,null,null,null,"Block 4",null,null,null,null,"Block 5",null,null,null,null,"Block 6"]
["Sequence\nComponent\n1","Time\n1","Sequence\nComponent\n2","Time\n2","Sequence\nComponent\n3","Time\n3","Sequence\nComponent\n4","Time\n4","Sequence\nComponent\n5","Time\n5","Correct?\n0=No 1=Yes","Sequence",null,"Frequency",null,"Relative Frequency","Variability",null,null,"Frequency",null,"Relative Frequency","Variability",null,"Frequency",null,"Relative Frequency","Variability",null,"Frequency",null,"Relative Frequency","Variability",null,"Frequency",null,"Relative Frequency","Variability",null,"Frequency",null,"Relative Frequency","Variability",null,"Frequency",null,"Relative Frequency","Variability"]
[12,14,24,25,24,35,23,45,24,64,0,12,null,11,{"$f":"COUNTIF($L$7:$L$500,N7)","v":2},{"$f":"O7/$Q$4","v":0.2857142857142857},{"$f":"IF(P7=0,0,(P7*((LOG(P7))/LOG(2))))","v":-0.51638712058788683},null,null,{"$f":"N7","v":11},{"$f":"COUNTIF(L7:L7,T7)","v":0},{"$f":"U7/(W4-U8)","v":{"$error":"#DIV/0!"}},{"$f":"IF(V7=0,0,(V7*((LOG(V7))/LOG(2))))","v":{"$error":"#DIV/0!"}},null,{"$f":"N7","v":11},{"$f":"COUNTIF(L8:L8,Y7)","v":0},{"$f":"Z7/(AB4-Z8)","v":0},{"$f":"IF(AA7=0,0,(AA7*((LOG(AA7))/LOG(2))))","v":0},null,{"$f":"N7","v":11},{"$f":"COUNTIF(L9:L10,AD7)","v":0},{"$f":"AE7/(AG4-AE8)","v":0},{"$f":"IF(AF7=0,0,(AF7*((LOG(AF7))/LOG(2))))","v":0},null,{"$f":"N7","v":11},{"$f":"COUNTIF(L11:L11,AI7)","v":0},{"$f":"AJ7/(AL4-AJ8)","v":{"$error":"#DIV/0!"}},{"$f":"IF(AK7=0,0,(AK7*((LOG(AK7))/LOG(2))))","v":{"$error":"#DIV/0!"}},null,{"$f":"N7","v":11},{"$f":"COUNTIF(L12:L12,AN7)","v":1},{"$f":"AO7/(AQ4-AO8)","v":1},{"$f":"IF(AP7=0,0,(AP7*((LOG(AP7))/LOG(2))))","v":0},null,{"$f":"N7","v":11},{"$f":"COUNTIF(L13:L13,AS7)","v":1},{"$f":"AT7/(AV4-AT8)","v":1},{"$f":"IF(AU7=0,0,(AU7*((LOG(AU7))/LOG(2))))","v":0}]
[21,186,22,234,24,244,23,265,24,290,0,22,null,12,{"$f":"COUNTIF($L$7:$L$500,N8)","v":2},{"$f":"O8/$Q$4","v":0.2857142857142857},{"$f":"IF(P8=0,0,(P8*((LOG(P8))/LOG(2))))","v":-0.51638712058788683},null,null,{"$f":"N8","v":12},{"$f":"COUNTIF(L7:L7,T8)","v":1},null,null,null,{"$f":"N8","v":12},{"$f":"COUNTIF(L8:L8,Y8)","v":0},null,null,null,{"$f":"N8","v":12},{"$f":"COUNTIF(L9:L10,AD8)","v":0},null,null,null,{"$f":"N8","v":12},{"$f":"COUNTIF(L11:L11,AI8)","v":1},null,null,null,{"$f":"N8","v":12},{"$f":"COUNTIF(L12:L12,AN8)","v":0},null,null,null,{"$f":"N8","v":12},{"$f":"COUNTIF(L13:L13,AS8)","v":0}]
[21,490,22,511,13,526,23,536,13,551,0,22,null,21,{"$f":"COUNTIF($L$7:$L$500,N9)","v":0},{"$f":"O9/$Q$4","v":0},{"$f":"IF(P9=0,0,(P9*((LOG(P9))/LOG(2))))","v":0},null,null,{"$f":"N9","v":21},{"$f":"COUNTIF(L7:L7,T9)","v":0},{"$f":"U9/(W4-U8)","v":{"$error":"#DIV/0!"}},{"$f":"IF(V9=0,0,(V9*((LOG(V9))/LOG(2))))","v":{"$error":"#DIV/0!"}},null,{"$f":"N9","v":21},{"$f":"COUNTIF(L8:L8,Y9)","v":0},{"$f":"Z9/(AB4-Z8)","v":0},{"$f":"IF(AA9=0,0,(AA9*((LOG(AA9))/LOG(2))))","v":0},null,{"$f":"N9","v":21},{"$f":"COUNTIF(L9:L10,AD9)","v":0},{"$f":"AE9/(AG4-AE8)","v":0},{"$f":"IF(AF9=0,0,(AF9*((LOG(AF9))/LOG(2))))","v":0},null,{"$f":"N9","v":21},{"$f":"COUNTIF(L11:L11,AI9)","v":0},{"$f":"AJ9/(AL4-AJ8)","v":{"$error":"#DIV/0!"}},{"$f":"IF(AK9=0,0,(AK9*((LOG(AK9))/LOG(2))))","v":{"$error":"#DIV/0!"}},null,{"$f":"N9","v":21},{"$f":"COUNTIF(L12:L12,AN9)","v":0},{"$f":"AO9/(AQ4-AO8)","v":0},{"$f":"IF(AP9=0,0,(AP9*((LOG(AP9))/LOG(2))))","v":0},null,{"$f":"N9","v":21},{"$f":"COUNTIF(L13:L13,AS9)","v":0},{"$f":"AT9/(AV4-AT8)","v":0},{"$f":"IF(AU9=0,0,(AU9*((LOG(AU9))/LOG(2))))","v":0}]
[21,848,22,858,13,1494,23,1505,13,1517,0,22,null,22,{"$f":"COUNTIF($L$7:$L$500,N10)","v":3},{"$f":"O10/$Q$4","v":0.42857142857142855},{"$f":"IF(P10=0,0,(P10*((LOG(P10))/LOG(2))))","v":-0.52388246628704915},null,null,{"$f":"N10","v":22},{"$f":"COUNTIF(L7:L7,T10)","v":0},{"$f":"U10/(W4-U8)","v":{"$error":"#DIV/0!"}},{"$f":"IF(V10=0,0,(V10*((LOG(V10))/LOG(2))))","v":{"$error":"#DIV/0!"}},null,{"$f":"N10","v":22},{"$f":"COUNTIF(L8:L8,Y10)","v":1},{"$f":"Z10/(AB4-Z8)","v":1},{"$f":"IF(AA10=0,0,(AA10*((LOG(AA10))/LOG(2))))","v":0},null,{"$f":"N10","v":22},{"$f":"COUNTIF(L9:L10,AD10)","v":2},{"$f":"AE10/(AG4-AE8)","v":1},{"$f":"IF(AF10=0,0,(AF10*((LOG(AF10))/LOG(2))))","v":0},null,{"$f":"N10","v":22},{"$f":"COUNTIF(L11:L11,AI10)","v":0},{"$f":"AJ10/(AL4-AJ8)","v":{"$error":"#DIV/0!"}},{"$f":"IF(AK10=0,0,(AK10*((LOG(AK10))/LOG(2))))","v":{"$error":"#DIV/0!"}},null,{"$f":"N10","v":22},{"$f":"COUNTIF(L12:L12,AN10)","v":0},{"$f":"AO10/(AQ4-AO8)","v":0},{"$f":"IF(AP10=0,0,(AP10*((LOG(AP10))/LOG(2))))","v":0},null,{"$f":"N10","v":22},{"$f":"COUNTIF(L13:L13,AS10)","v":0},{"$f":"AT10/(AV4-AT8)","v":0},{"$f":"IF(AU10=0,0,(AU10*((LOG(AU10))/LOG(2))))","v":0}]
[12,1689,24,1700,13,1710,23,1721,13,1731,0,12,null,null,null,null,null,null,null,{"$f":"N11","v":0},{"$f":"COUNTIF(L7:L7,T11)","v":0},{"$f":"U11/(W4-U8)","v":{"$error":"#DIV/0!"}},{"$f":"IF(V11=0,0,(V11*((LOG(V11))/LOG(2))))","v":{"$error":"#DIV/0!"}},null,{"$f":"N11","v":0},{"$f":"COUNTIF(L8:L8,Y11)","v":0},{"$f":"Z11/(AB4-Z8)","v":0},{"$f":"IF(AA11=0,0,(AA11*((LOG(AA11))/LOG(2))))","v":0},null,{"$f":"N11","v":0},{"$f":"COUNTIF(L9:L10,AD11)","v":0},{"$f":"AE11/(AG4-AE8)","v":0},{"$f":"IF(AF11=0,0,(AF11*((LOG(AF11))/LOG(2))))","v":0},null,{"$f":"N11","v":0},{"$f":"COUNTIF(L11:L11,AI11)","v":0},{"$f":"AJ11/(AL4-AJ8)","v":{"$error":"#DIV/0!"}},{"$f":"IF(AK11=0,0,(AK11*((LOG(AK11))/LOG(2))))","v":{"$error":"#DIV/0!"}},null,{"$f":"N11","v":0},{"$f":"COUNTIF(L12:L12,AN11)","v":0},{"$f":"AO11/(AQ4-AO8)","v":0},{"$f":"IF(AP11=0,0,(AP11*((LOG(AP11))/LOG(2))))","v":0},null,{"$f":"N11","v":0},{"$f":"COUNTIF(L13:L13,AS11)","v":0},{"$f":"AT11/(AV4-AT8)","v":0},{"$f":"IF(AU11=0,0,(AU11*((LOG(AU11))/LOG(2))))","v":0}]
[12,3174,13,3186,13,3199,14,3210,24,4573,0,11,null,null,null,null,null,null,null,{"$f":"N12","v":0},{"$f":"COUNTIF(L7:L7,T12)","v":0},{"$f":"U12/(W4-U8)","v":{"$error":"#DIV/0!"}},{"$f":"IF(V12=0,0,(V12*((LOG(V12))/LOG(2))))","v":{"$error":"#DIV/0!"}},null,{"$f":"N12","v":0},{"$f":"COUNTIF(L8:L8,Y12)","v":0},{"$f":"Z12/(AB4-Z8)","v":0},{"$f":"IF(AA12=0,0,(AA12*((LOG(AA12))/LOG(2))))","v":0},null,{"$f":"N12","v":0},{"$f":"COUNTIF(L9:L10,AD12)","v":0},{"$f":"AE12/(AG4-AE8)","v":0},{"$f":"IF(AF12=0,0,(AF12*((LOG(AF12))/LOG(2))))","v":0},null,{"$f":"N12","v":0},{"$f":"COUNTIF(L11:L11,AI12)","v":0},{"$f":"AJ12/(AL4-AJ8)","v":{"$error":"#DIV/0!"}},{"$f":"IF(AK12=0,0,(AK12*((LOG(AK12))/LOG(2))))","v":{"$error":"#DIV/0!"}},null,{"$f":"N12","v":0},{"$f":"COUNTIF(L12:L12,AN12)","v":0},{"$f":"AO12/(AQ4-AO8)","v":0},{"$f":"IF(AP12=0,0,(AP12*((LOG(AP12))/LOG(2))))","v":0},null,{"$f":"N12","v":0},{"$f":"COUNTIF(L13:L13,AS12)","v":0},{"$f":"AT12/(AV4-AT8)","v":0},{"$f":"IF(AU12=0,0,(AU12*((LOG(AU12))/LOG(2))))","v":0}]
[12,6100,13,21680,13,21704,23,21715,13,21738,0,11,null,null,null,null,null,null,null,{"$f":"N13","v":0},{"$f":"COUNTIF(L7:L7,T13)","v":0},{"$f":"U13/(W4-U8)","v":{"$error":"#DIV/0!"}},{"$f":"IF(V13=0,0,(V13*((LOG(V13))/LOG(2))))","v":{"$error":"#DIV/0!"}},null,{"$f":"N13","v":0},{"$f":"COUNTIF(L8:L8,Y13)","v":0},{"$f":"Z13/(AB4-Z8)","v":0},{"$f":"IF(AA13=0,0,(AA13*((LOG(AA13))/LOG(2))))","v":0},null,{"$f":"N13","v":0},{"$f":"COUNTIF(L9:L10,AD13)","v":0},{"$f":"AE13/(AG4-AE8)","v":0},{"$f":"IF(AF13=0,0,(AF13*((LOG(AF13))/LOG(2))))","v":0},null,{"$f":"N13","v":0},{"$f":"COUNTIF(L11:L11,AI13)","v":0},{"$f":"AJ13/(AL4-AJ8)","v":{"$error":"#DIV/0!"}},{"$f":"IF(AK13=0,0,(AK13*((LOG(AK13))/LOG(2))))","v":{"$error":"#DIV/0!"}},null,{"$f":"N13","v":0},{"$f":"COUNTIF(L12:L12,AN13)","v":0},{"$f":"AO13/(AQ4-AO8)","v":0},{"$f":"IF(AP13=0,0,(AP13*((LOG(AP13))/LOG(2))))","v":0},null,{"$f":"N13","v":0},{"$f":"COUNTIF(L13:L13,AS13)","v":0},{"$f":"AT13/(AV4-AT8)","v":0},{"$f":"IF(AU13=0,0,(AU13*((LOG(AU13))/LOG(2))))","v":0}]
[null,null,null,null,null,null,null,null,null,null,null,null,null,null,null,null,null,null,null,{"$f":"N14","v":0},{"$f":"COUNTIF(L7:L7,T14)","v":0},{"$f":"U14/(W4-U8)","v":{"$error":"#DIV/0!"}},{"$f":"IF(V14=0,0,(V14*((LOG(V14))/LOG(2))))","v":{"$error":"#DIV/0!"}},null,{"$f":"N14","v":0},{"$f":"COUNTIF(L8:L8,Y14)","v":0},{"$f":"Z14/(AB4-Z8)","v":0},{"$f":"IF(AA14=0,0,(AA14*((LOG(AA14))/LOG(2))))","v":0},null,{"$f":"N14","v":0},{"$f":"COUNTIF(L9:L10,AD14)","v":0},{"$f":"AE14/(AG4-AE8)","v":0},{"$f":"IF(AF14=0,0,(AF14*((LOG(AF14))/LOG(2))))","v":0},null,{"$f":"N14","v":0},{"$f":"COUNTIF(L11:L11,AI14)","v":0},{"$f":"AJ14/(AL4-AJ8)","v":{"$error":"#DIV/0!"}},{"$f":"IF(AK14=0,0,(AK14*((LOG(AK14))/LOG(2))))","v":{"$error":"#DIV/0!"}},null,{"$f":"N14","v":0},{"$f":"COUNTIF(L12:L12,AN14)","v":0},{"$f":"AO14/(AQ4-AO8)","v":0},{"$f":"IF(AP14=0,0,(AP14*((LOG(AP14))/LOG(2))))","v":0},null,{"$f":"N14","v":0},{"$f":"COUNTIF(L13:L13,AS14)","v":0},{"$f":"AT14/(AV4-AT8)","v":0},{"$f":"IF(AU14=0,0,(AU14*((LOG(AU14))/LOG(2))))","v":0}]
[null,null,null,null,null,null,null,null,null,null,null,null,null,null,null,{"$f":"SUM(P7:P14)","v":1},{"$f":"-SUM(Q7:Q14)","v":1.5566567074628228},null,null,null,null,{"$f":"SUM(V7:V14)","v":{"$error":"#DIV/0!"}},{"$f":"-SUM(W7:W14)","v":{"$error":"#DIV/0!"}},null,null,null,{"$f":"SUM(AA7:AA14)","v":1},{"$f":"-SUM(AB7:AB14)","v":0},null,null,null,{"$f":"SUM(AF7:AF14)","v":1},{"$f":"-SUM(AG7:AG14)","v":0},null,null,null,{"$f":"SUM(AK7:AK14)","v":{"$error":"#DIV/0!"}},{"$f":"-SUM(AL7:AL14)","v":{"$error":"#DIV/0!"}},null,null,null,{"$f":"SUM(AP7:AP14)","v":1},{"$f":"-SUM(AQ7:AQ14)","v":0},null,null,null,{"$f":"SUM(AU7:AU14)","v":1},{"$f":"-SUM(AV7:AV14)","v":0}]
[null,null,null,null,null,null,null,null,null,null,null,null,null,null,null,"U=",{"$f":"Q15/(LOG(Q4)/LOG(2))","v":0.55449230705816743},null,null,null,null,"U1=",{"$f":"W15/(LOG(W4)/LOG(2))","v":{"$error":"#DIV/0!"}},null,null,null,"U2=",{"$f":"AB15/(LOG(AB4)/LOG(2))","v":{"$error":"#DIV/0!"}},null,null,null,"U3=",{"$f":"AG15/(LOG(AG4)/LOG(2))","v":0},null,null,null,"U4=",{"$f":"AL15/(LOG(AL4)/LOG(2))","v":{"$error":"#DIV/0!"}},null,null,null,"U5=",{"$f":"AQ15/(LOG(AQ4)/LOG(2))","v":{"$error":"#DIV/0!"}},null,null,null,"U6=",{"$f":"AV15/(LOG(AV4)/LOG(2))","v":{"$error":"#DIV/0!"}}]
[]
[]
[null,null,null,null,null,null,null,null,null,null,null,null,null,"Total Target Seq"]
[null,null,null,null,null,null,null,null,null,null,null,null,null,{"$f":"COUNTIF(L7:L13,G3)","v":2},null,1,1,2,1,1,1]
[null,null,null,null,null,null,null,null,null,null,null,null,null,null,null,"% of reinforcement given in 6 equal intervals based on number of trials "]
[null,null,null,null,null,null,null,null,null,null,null,null,null,null,null,"%_1","%_2","%_3","%_4","%_5","%_6"]
[null,null,null,null,null,null,null,null,null,null,null,null,null,null,"target sequence",{"$f":"$G$3","v":12},{"$f":"$G$3","v":12},{"$f":"$G$3","v":12},{"$f":"$G$3","v":12},{"$f":"$G$3","v":12},{"$f":"$G$3","v":12}]
[null,null,null,null,null,null,null,null,null,null,null,null,null,null,"total reinforcement",{"$f":"U8","v":1},{"$f":"Z8","v":0},{"$f":"AE8","v":0},{"$f":"AJ8","v":1},{"$f":"AO8","v":0},{"$f":"AT8","v":0}]
[null,null,null,null,null,null,null,null,null,null,null,null,null,null,"% target"]
[null,null,null,null,null,null,null,null,null,null,null,null,null,null,"CCRF"]
[null,null,null,null,null,null,null,null,null,null,null,null,null,null,"% CCRf"]
[null,null,null,null,null,null,null,null,null,null,null,null,null,null,"average response rate",{"$f":"D7/P20","v":25},{"$f":"(D8-D7)/Q20","v":209},{"$f":"(D10-D8)/R20","v":312},{"$f":"(D11-D10)/S20","v":842},{"$f":"(D12-D11)/T20","v":1486},{"$f":"(D13-D12)/U20","v":18494}]

{"sheet":"!N118B10.105","index":51,"n_rows":28,"n_cols":48,"rows_kept":28,"cut":false,"hidden":false,"merged":[[4,39,4,42],[5,39,5,40],[4,44,4,47],[5,44,5,45],[4,24,4,27],[5,24,5,25],[4,29,4,32],[5,29,5,30],[4,34,4,37],[5,34,5,35],[1,1,1,2],[5,13,5,14],[18,13,18,14],[19,13,19,14],[4,19,4,22],[5,19,5,20]]}
["Report for:!N118B10.105"]
["Date:","<date>"]
["Hen:","<hen>",null,null,null,"Correct Sequence",{"$f":"Start!J2","v":12},null,null,null,null,null,null,null,null,"Total Sequences in Data",{"$f":"4994-COUNTBLANK(L7:L5000)","v":12},null,null,null,null,"Total Sequences in Block Data",{"$f":"COUNTA(L7:L8)","v":2},null,null,null,"Total Sequences in Block Data",{"$f":"COUNTA(L9:L10)","v":2},null,null,null,"Total Sequences in Block Data",{"$f":"COUNTA(L11:L12)","v":2},null,null,null,"Total Sequences in Block Data",{"$f":"COUNTA(L13:L14)","v":2},null,null,null,"Total Sequences in Block Data",{"$f":"COUNTA(L15:L16)","v":2},null,null,null,"Total Sequences in Block Data",{"$f":"COUNTA(L17:L18)","v":2}]
[null,null,null,null,null,null,null,null,null,null,null,null,null,null,null,"Total Sequences in Summary",{"$f":"SUM(O7:O14)","v":12},null,null,null,null,"Total Sequences in Block Summary",{"$f":"SUM(U7:U14)","v":2},null,null,null,"Total Sequences in Block Summary",{"$f":"SUM(Z7:Z14)","v":2},null,null,null,"Total Sequences in Block Summary",{"$f":"SUM(AE7:AE14)","v":2},null,null,null,"Total Sequences in Block Summary",{"$f":"SUM(AJ7:AJ14)","v":2},null,null,null,"Total Sequences in Block Summary",{"$f":"SUM(AO7:AO14)","v":2},null,null,null,"Total Sequences in Block Summary",{"$f":"SUM(AT7:AT14)","v":2}]
[null,null,null,null,null,null,null,null,null,null,null,null,null,null,null,null,null,null,null,"Block 1",null,null,null,null,"Block 2",null,null,null,null,"Block 3",null,null,null,null,"Block 4",null,null,null,null,"Block 5",null,null,null,null,"Block 6"]
["Sequence\nComponent\n1","Time\n1","Sequence\nComponent\n2","Time\n2","Sequence\nComponent\n3","Time\n3","Sequence\nComponent\n4","Time\n4","Sequence\nComponent\n5","Time\n5","Correct?\n0=No 1=Yes","Sequence",null,"Frequency",null,"Relative Frequency","Variability",null,null,"Frequency",null,"Relative Frequency","Variability",null,"Frequency",null,"Relative Frequency","Variability",null,"Frequency",null,"Relative Frequency","Variability",null,"Frequency",null,"Relative Frequency","Variability",null,"Frequency",null,"Relative Frequency","Variability",null,"Frequency",null,"Relative Frequency","Variability"]
[21,762,22,773,24,787,23,814,13,835,1,22,null,11,{"$f":"COUNTIF($L$7:$L$500,N7)","v":5},{"$f":"O7/$Q$4","v":0.41666666666666669},{"$f":"IF(P7=0,0,(P7*((LOG(P7))/LOG(2))))","v":-0.52626433576408083},null,null,{"$f":"N7","v":11},{"$f":"COUNTIF(L7:L8,T7)","v":0},{"$f":"U7/(W4-U8)","v":0},{"$f":"IF(V7=0,0,(V7*((LOG(V7))/LOG(2))))","v":0},null,{"$f":"N7","v":11},{"$f":"COUNTIF(L9:L10,Y7)","v":0},{"$f":"Z7/(AB4-Z8)","v":0},{"$f":"IF(AA7=0,0,(AA7*((LOG(AA7))/LOG(2))))","v":0},null,{"$f":"N7","v":11},{"$f":"COUNTIF(L11:L12,AD7)","v":0},{"$f":"AE7/(AG4-AE8)","v":0},{"$f":"IF(AF7=0,0,(AF7*((LOG(AF7))/LOG(2))))","v":0},null,{"$f":"N7","v":11},{"$f":"COUNTIF(L13:L14,AI7)","v":1},{"$f":"AJ7/(AL4-AJ8)","v":0.5},{"$f":"IF(AK7=0,0,(AK7*((LOG(AK7))/LOG(2))))","v":-0.5},null,{"$f":"N7","v":11},{"$f":"COUNTIF(L15:L16,AN7)","v":2},{"$f":"AO7/(AQ4-AO8)","v":1},{"$f":"IF(AP7=0,0,(AP7*((LOG(AP7))/LOG(2))))","v":0},null,{"$f":"N7","v":11},{"$f":"COUNTIF(L17:L18,AS7)","v":2},{"$f":"AT7/(AV4-AT8)","v":1},{"$f":"IF(AU7=0,0,(AU7*((LOG(AU7))/LOG(2))))","v":0}]
[21,961,11,981,22,993,23,1014,24,1039,0,21,null,12,{"$f":"COUNTIF($L$7:$L$500,N8)","v":2},{"$f":"O8/$Q$4","v":0.16666666666666666},{"$f":"IF(P8=0,0,(P8*((LOG(P8))/LOG(2))))","v":-0.43082708345352599},null,null,{"$f":"N8","v":12},{"$f":"COUNTIF(L7:L8,T8)","v":0},null,null,null,{"$f":"N8","v":12},{"$f":"COUNTIF(L9:L10,Y8)","v":1},null,null,null,{"$f":"N8","v":12},{"$f":"COUNTIF(L11:L12,AD8)","v":1},null,null,null,{"$f":"N8","v":12},{"$f":"COUNTIF(L13:L14,AI8)","v":0},null,null,null,{"$f":"N8","v":12},{"$f":"COUNTIF(L15:L16,AN8)","v":0},null,null,null,{"$f":"N8","v":12},{"$f":"COUNTIF(L17:L18,AS8)","v":0}]
[21,1165,22,1222,13,1241,23,1250,24,1267,0,22,null,21,{"$f":"COUNTIF($L$7:$L$500,N9)","v":1},{"$f":"O9/$Q$4","v":8.3333333333333329E-2},{"$f":"IF(P9=0,0,(P9*((LOG(P9))/LOG(2))))","v":-0.29874687506009634},null,null,{"$f":"N9","v":21},{"$f":"COUNTIF(L7:L8,T9)","v":1},{"$f":"U9/(W4-U8)","v":0.5},{"$f":"IF(V9=0,0,(V9*((LOG(V9))/LOG(2))))","v":-0.5},null,{"$f":"N9","v":21},{"$f":"COUNTIF(L9:L10,Y9)","v":0},{"$f":"Z9/(AB4-Z8)","v":0},{"$f":"IF(AA9=0,0,(AA9*((LOG(AA9))/LOG(2))))","v":0},null,{"$f":"N9","v":21},{"$f":"COUNTIF(L11:L12,AD9)","v":0},{"$f":"AE9/(AG4-AE8)","v":0},{"$f":"IF(AF9=0,0,(AF9*((LOG(AF9))/LOG(2))))","v":0},null,{"$f":"N9","v":21},{"$f":"COUNTIF(L13:L14,AI9)","v":0},{"$f":"AJ9/(AL4-AJ8)","v":0},{"$f":"IF(AK9=0,0,(AK9*((LOG(AK9))/LOG(2))))","v":0},null,{"$f":"N9","v":21},{"$f":"COUNTIF(L15:L16,AN9)","v":0},{"$f":"AO9/(AQ4-AO8)","v":0},{"$f":"IF(AP9=0,0,(AP9*((LOG(AP9))/LOG(2))))","v":0},null,{"$f":"N9","v":21},{"$f":"COUNTIF(L17:L18,AS9)","v":0},{"$f":"AT9/(AV4-AT8)","v":0},{"$f":"IF(AU9=0,0,(AU9*((LOG(AU9))/LOG(2))))","v":0}]
[12,1487,24,1497,13,1527,23,1537,24,1563,0,12,null,22,{"$f":"COUNTIF($L$7:$L$500,N10)","v":4},{"$f":"O10/$Q$4","v":0.33333333333333331},{"$f":"IF(P10=0,0,(P10*((LOG(P10))/LOG(2))))","v":-0.52832083357371862},null,null,{"$f":"N10","v":22},{"$f":"COUNTIF(L7:L8,T10)","v":1},{"$f":"U10/(W4-U8)","v":0.5},{"$f":"IF(V10=0,0,(V10*((LOG(V10))/LOG(2))))","v":-0.5},null,{"$f":"N10","v":22},{"$f":"COUNTIF(L9:L10,Y10)","v":1},{"$f":"Z10/(AB4-Z8)","v":1},{"$f":"IF(AA10=0,0,(AA10*((LOG(AA10))/LOG(2))))","v":0},null,{"$f":"N10","v":22},{"$f":"COUNTIF(L11:L12,AD10)","v":1},{"$f":"AE10/(AG4-AE8)","v":1},{"$f":"IF(AF10=0,0,(AF10*((LOG(AF10))/LOG(2))))","v":0},null,{"$f":"N10","v":22},{"$f":"COUNTIF(L13:L14,AI10)","v":1},{"$f":"AJ10/(AL4-AJ8)","v":0.5},{"$f":"IF(AK10=0,0,(AK10*((LOG(AK10))/LOG(2))))","v":-0.5},null,{"$f":"N10","v":22},{"$f":"COUNTIF(L15:L16,AN10)","v":0},{"$f":"AO10/(AQ4-AO8)","v":0},{"$f":"IF(AP10=0,0,(AP10*((LOG(AP10))/LOG(2))))","v":0},null,{"$f":"N10","v":22},{"$f":"COUNTIF(L17:L18,AS10)","v":0},{"$f":"AT10/(AV4-AT8)","v":0},{"$f":"IF(AU10=0,0,(AU10*((LOG(AU10))/LOG(2))))","v":0}]
[21,1693,22,1704,13,1717,14,1779,13,1821,0,22,null,null,null,null,null,null,null,{"$f":"N11","v":0},{"$f":"COUNTIF(L7:L8,T11)","v":0},{"$f":"U11/(W4-U8)","v":0},{"$f":"IF(V11=0,0,(V11*((LOG(V11))/LOG(2))))","v":0},null,{"$f":"N11","v":0},{"$f":"COUNTIF(L9:L10,Y11)","v":0},{"$f":"Z11/(AB4-Z8)","v":0},{"$f":"IF(AA11=0,0,(AA11*((LOG(AA11))/LOG(2))))","v":0},null,{"$f":"N11","v":0},{"$f":"COUNTIF(L11:L12,AD11)","v":0},{"$f":"AE11/(AG4-AE8)","v":0},{"$f":"IF(AF11=0,0,(AF11*((LOG(AF11))/LOG(2))))","v":0},null,{"$f":"N11","v":0},{"$f":"COUNTIF(L13:L14,AI11)","v":0},{"$f":"AJ11/(AL4-AJ8)","v":0},{"$f":"IF(AK11=0,0,(AK11*((LOG(AK11))/LOG(2))))","v":0},null,{"$f":"N11","v":0},{"$f":"COUNTIF(L15:L16,AN11)","v":0},{"$f":"AO11/(AQ4-AO8)","v":0},{"$f":"IF(AP11=0,0,(AP11*((LOG(AP11))/LOG(2))))","v":0},null,{"$f":"N11","v":0},{"$f":"COUNTIF(L17:L18,AS11)","v":0},{"$f":"AT11/(AV4-AT8)","v":0},{"$f":"IF(AU11=0,0,(AU11*((LOG(AU11))/LOG(2))))","v":0}]
[12,1997,24,2009,13,2020,23,2030,24,2057,0,12,null,null,null,null,null,null,null,{"$f":"N12","v":0},{"$f":"COUNTIF(L7:L8,T12)","v":0},{"$f":"U12/(W4-U8)","v":0},{"$f":"IF(V12=0,0,(V12*((LOG(V12))/LOG(2))))","v":0},null,{"$f":"N12","v":0},{"$f":"COUNTIF(L9:L10,Y12)","v":0},{"$f":"Z12/(AB4-Z8)","v":0},{"$f":"IF(AA12=0,0,(AA12*((LOG(AA12))/LOG(2))))","v":0},null,{"$f":"N12","v":0},{"$f":"COUNTIF(L11:L12,AD12)","v":0},{"$f":"AE12/(AG4-AE8)","v":0},{"$f":"IF(AF12=0,0,(AF12*((LOG(AF12))/LOG(2))))","v":0},null,{"$f":"N12","v":0},{"$f":"COUNTIF(L13:L14,AI12)","v":0},{"$f":"AJ12/(AL4-AJ8)","v":0},{"$f":"IF(AK12=0,0,(AK12*((LOG(AK12))/LOG(2))))","v":0},null,{"$f":"N12","v":0},{"$f":"COUNTIF(L15:L16,AN12)","v":0},{"$f":"AO12/(AQ4-AO8)","v":0},{"$f":"IF(AP12=0,0,(AP12*((LOG(AP12))/LOG(2))))","v":0},null,{"$f":"N12","v":0},{"$f":"COUNTIF(L17:L18,AS12)","v":0},{"$f":"AT12/(AV4-AT8)","v":0},{"$f":"IF(AU12=0,0,(AU12*((LOG(AU12))/LOG(2))))","v":0}]
[21,3557,22,3574,24,3599,23,3610,13,3637,0,22,null,null,null,null,null,null,null,{"$f":"N13","v":0},{"$f":"COUNTIF(L7:L8,T13)","v":0},{"$f":"U13/(W4-U8)","v":0},{"$f":"IF(V13=0,0,(V13*((LOG(V13))/LOG(2))))","v":0},null,{"$f":"N13","v":0},{"$f":"COUNTIF(L9:L10,Y13)","v":0},{"$f":"Z13/(AB4-Z8)","v":0},{"$f":"IF(AA13=0,0,(AA13*((LOG(AA13))/LOG(2))))","v":0},null,{"$f":"N13","v":0},{"$f":"COUNTIF(L11:L12,AD13)","v":0},{"$f":"AE13/(AG4-AE8)","v":0},{"$f":"IF(AF13=0,0,(AF13*((LOG(AF13))/LOG(2))))","v":0},null,{"$f":"N13","v":0},{"$f":"COUNTIF(L13:L14,AI13)","v":0},{"$f":"AJ13/(AL4-AJ8)","v":0},{"$f":"IF(AK13=0,0,(AK13*((LOG(AK13))/LOG(2))))","v":0},null,{"$f":"N13","v":0},{"$f":"COUNTIF(L15:L16,AN13)","v":0},{"$f":"AO13/(AQ4-AO8)","v":0},{"$f":"IF(AP13=0,0,(AP13*((LOG(AP13))/LOG(2))))","v":0},null,{"$f":"N13","v":0},{"$f":"COUNTIF(L17:L18,AS13)","v":0},{"$f":"AT13/(AV4-AT8)","v":0},{"$f":"IF(AU13=0,0,(AU13*((LOG(AU13))/LOG(2))))","v":0}]
[12,6329,13,6365,13,10521,14,10550,13,10561,0,11,null,null,null,null,null,null,null,{"$f":"N14","v":0},{"$f":"COUNTIF(L7:L8,T14)","v":0},{"$f":"U14/(W4-U8)","v":0},{"$f":"IF(V14=0,0,(V14*((LOG(V14))/LOG(2))))","v":0},null,{"$f":"N14","v":0},{"$f":"COUNTIF(L9:L10,Y14)","v":0},{"$f":"Z14/(AB4-Z8)","v":0},{"$f":"IF(AA14=0,0,(AA14*((LOG(AA14))/LOG(2))))","v":0},null,{"$f":"N14","v":0},{"$f":"COUNTIF(L11:L12,AD14)","v":0},{"$f":"AE14/(AG4-AE8)","v":0},{"$f":"IF(AF14=0,0,(AF14*((LOG(AF14))/LOG(2))))","v":0},null,{"$f":"N14","v":0},{"$f":"COUNTIF(L13:L14,AI14)","v":0},{"$f":"AJ14/(AL4-AJ8)","v":0},{"$f":"IF(AK14=0,0,(AK14*((LOG(AK14))/LOG(2))))","v":0},null,{"$f":"N14","v":0},{"$f":"COUNTIF(L15:L16,AN14)","v":0},{"$f":"AO14/(AQ4-AO8)","v":0},{"$f":"IF(AP14=0,0,(AP14*((LOG(AP14))/LOG(2))))","v":0},null,{"$f":"N14","v":0},{"$f":"COUNTIF(L17:L18,AS14)","v":0},{"$f":"AT14/(AV4-AT8)","v":0},{"$f":"IF(AU14=0,0,(AU14*((LOG(AU14))/LOG(2))))","v":0}]
[12,12262,13,12279,13,12291,14,12303,13,12316,0,11,null,null,null,{"$f":"SUM(P7:P14)","v":1},{"$f":"-SUM(Q7:Q14)","v":1.7841591278514217},null,null,null,null,{"$f":"SUM(V7:V14)","v":1},{"$f":"-SUM(W7:W14)","v":1},null,null,null,{"$f":"SUM(AA7:AA14)","v":1},{"$f":"-SUM(AB7:AB14)","v":0},null,null,null,{"$f":"SUM(AF7:AF14)","v":1},{"$f":"-SUM(AG7:AG14)","v":0},null,null,null,{"$f":"SUM(AK7:AK14)","v":1},{"$f":"-SUM(AL7:AL14)","v":1},null,null,null,{"$f":"SUM(AP7:AP14)","v":1},{"$f":"-SUM(AQ7:AQ14)","v":0},null,null,null,{"$f":"SUM(AU7:AU14)","v":1},{"$f":"-SUM(AV7:AV14)","v":0}]
[12,13441,13,13465,24,13476,23,13512,13,13527,0,11,null,null,null,"U=",{"$f":"Q15/(LOG(Q4)/LOG(2))","v":0.49767860263322633},null,null,null,null,"U1=",{"$f":"W15/(LOG(W4)/LOG(2))","v":1},null,null,null,"U2=",{"$f":"AB15/(LOG(AB4)/LOG(2))","v":0},null,null,null,"U3=",{"$f":"AG15/(LOG(AG4)/LOG(2))","v":0},null,null,null,"U4=",{"$f":"AL15/(LOG(AL4)/LOG(2))","v":1},null,null,null,"U5=",{"$f":"AQ15/(LOG(AQ4)/LOG(2))","v":0},null,null,null,"U6=",{"$f":"AV15/(LOG(AV4)/LOG(2))","v":0}]
[12,13906,13,15801,24,15818,14,15853,13,15868,0,11]
[12,16235,13,16247,13,16267,23,16288,null,null,null,11]
[null,null,null,null,null,null,null,null,null,null,null,null,null,"Total Target Seq"]
[null,null,null,null,null,null,null,null,null,null,null,null,null,{"$f":"COUNTIF(L7:L18,G3)","v":2},null,2,2,2,2,2,2]
[null,null,null,null,null,null,null,null,null,null,null,null,null,null,null,"% of reinforcement given in 6 equal intervals based on number of trials "]
[null,null,null,null,null,null,null,null,null,null,null,null,null,null,null,"%_1","%_2","%_3","%_4","%_5","%_6"]
[null,null,null,null,null,null,null,null,null,null,null,null,null,null,"target sequence",{"$f":"$G$3","v":12},{"$f":"$G$3","v":12},{"$f":"$G$3","v":12},{"$f":"$G$3","v":12},{"$f":"$G$3","v":12},{"$f":"$G$3","v":12}]
[null,null,null,null,null,null,null,null,null,null,null,null,null,null,"total reinforcement",{"$f":"U8","v":0},{"$f":"Z8","v":1},{"$f":"AE8","v":1},{"$f":"AJ8","v":0},{"$f":"AO8","v":0},{"$f":"AT8","v":0}]
[null,null,null,null,null,null,null,null,null,null,null,null,null,null,"% target"]
[null,null,null,null,null,null,null,null,null,null,null,null,null,null,"CCRF"]
[null,null,null,null,null,null,null,null,null,null,null,null,null,null,"% CCRf"]
[null,null,null,null,null,null,null,null,null,null,null,null,null,null,"average response rate",{"$f":"D8/P20","v":490.5},{"$f":"(D10-D8)/Q20","v":258},{"$f":"(D12-D10)/R20","v":256},{"$f":"(D14-D12)/S20","v":2178},{"$f":"(D16-D14)/T20","v":3550},{"$f":"(D18-D16)/U20","v":1391}]

{"sheet":"!N119930.105","index":52,"n_rows":28,"n_cols":48,"rows_kept":28,"cut":false,"hidden":false,"merged":[[4,39,4,42],[5,39,5,40],[4,44,4,47],[5,44,5,45],[4,24,4,27],[5,24,5,25],[4,29,4,32],[5,29,5,30],[4,34,4,37],[5,34,5,35],[1,1,1,2],[5,13,5,14],[18,13,18,14],[19,13,19,14],[4,19,4,22],[5,19,5,20]]}
["Report for:!N119930.105"]
["Date:","<date>"]
["Hen:","<hen>",null,null,null,"Correct Sequence",{"$f":"Start!J2","v":12},null,null,null,null,null,null,null,null,"Total Sequences in Data",{"$f":"4994-COUNTBLANK(L7:L5000)","v":5},null,null,null,null,"Total Sequences in Block Data",{"$f":"COUNTA(L7:L7)","v":1},null,null,null,"Total Sequences in Block Data",{"$f":"COUNTA(L8:L8)","v":1},null,null,null,"Total Sequences in Block Data",{"$f":"COUNTA(L8:L9)","v":2},null,null,null,"Total Sequences in Block Data",{"$f":"COUNTA(L9:L9)","v":1},null,null,null,"Total Sequences in Block Data",{"$f":"COUNTA(L10:L10)","v":1},null,null,null,"Total Sequences in Block Data",{"$f":"COUNTA(L11:L11)","v":1}]
[null,null,null,null,null,null,null,null,null,null,null,null,null,null,null,"Total Sequences in Summary",{"$f":"SUM(O7:O14)","v":5},null,null,null,null,"Total Sequences in Block Summary",{"$f":"SUM(U7:U14)","v":1},null,null,null,"Total Sequences in Block Summary",{"$f":"SUM(Z7:Z14)","v":1},null,null,null,"Total Sequences in Block Summary",{"$f":"SUM(AE7:AE14)","v":2},null,null,null,"Total Sequences in Block Summary",{"$f":"SUM(AJ7:AJ14)","v":1},null,null,null,"Total Sequences in Block Summary",{"$f":"SUM(AO7:AO14)","v":1},null,null,null,"Total Sequences in Block Summary",{"$f":"SUM(AT7:AT14)","v":1}]
[null,null,null,null,null,null,null,null,null,null,null,null,null,null,null,null,null,null,null,"Block 1",null,null,null,null,"Block 2",null,null,null,null,"Block 3",null,null,null,null,"Block 4",null,null,null,null,"Block 5",null,null,null,null,"Block 6"]
["Sequence\nComponent\n1","Time\n1","Sequence\nComponent\n2","Time\n2","Sequence\nComponent\n3","Time\n3","Sequence\nComponent\n4","Time\n4","Sequence\nComponent\n5","Time\n5","Correct?\n0=No 1=Yes","Sequence",null,"Frequency",null,"Relative Frequency","Variability",null,null,"Frequency",null,"Relative Frequency","Variability",null,"Frequency",null,"Relative Frequency","Variability",null,"Frequency",null,"Relative Frequency","Variability",null,"Frequency",null,"Relative Frequency","Variability",null,"Frequency",null,"Relative Frequency","Variability",null,"Frequency",null,"Relative Frequency","Variability"]
[21,64,22,92,24,121,23,148,13,163,0,22,null,11,{"$f":"COUNTIF($L$7:$L$500,N7)","v":2},{"$f":"O7/$Q$4","v":0.4},{"$f":"IF(P7=0,0,(P7*((LOG(P7))/LOG(2))))","v":-0.52877123795494496},null,null,{"$f":"N7","v":11},{"$f":"COUNTIF(L7:L7,T7)","v":0},{"$f":"U7/(W4-U8)","v":0},{"$f":"IF(V7=0,0,(V7*((LOG(V7))/LOG(2))))","v":0},null,{"$f":"N7","v":11},{"$f":"COUNTIF(L8:L8,Y7)","v":0},{"$f":"Z7/(AB4-Z8)","v":{"$error":"#DIV/0!"}},{"$f":"IF(AA7=0,0,(AA7*((LOG(AA7))/LOG(2))))","v":{"$error":"#DIV/0!"}},null,{"$f":"N7","v":11},{"$f":"COUNTIF(L8:L9,AD7)","v":0},{"$f":"AE7/(AG4-AE8)","v":0},{"$f":"IF(AF7=0,0,(AF7*((LOG(AF7))/LOG(2))))","v":0},null,{"$f":"N7","v":11},{"$f":"COUNTIF(L9:L9,AI7)","v":0},{"$f":"AJ7/(AL4-AJ8)","v":0},{"$f":"IF(AK7=0,0,(AK7*((LOG(AK7))/LOG(2))))","v":0},null,{"$f":"N7","v":11},{"$f":"COUNTIF(L10:L10,AN7)","v":1},{"$f":"AO7/(AQ4-AO8)","v":1},{"$f":"IF(AP7=0,0,(AP7*((LOG(AP7))/LOG(2))))","v":0},null,{"$f":"N7","v":11},{"$f":"COUNTIF(L11:L11,AS7)","v":1},{"$f":"AT7/(AV4-AT8)","v":1},{"$f":"IF(AU7=0,0,(AU7*((LOG(AU7))/LOG(2))))","v":0}]
[12,287,24,298,24,323,23,350,24,402,0,12,null,12,{"$f":"COUNTIF($L$7:$L$500,N8)","v":1},{"$f":"O8/$Q$4","v":0.2},{"$f":"IF(P8=0,0,(P8*((LOG(P8))/LOG(2))))","v":-0.46438561897747244},null,null,{"$f":"N8","v":12},{"$f":"COUNTIF(L7:L7,T8)","v":0},null,null,null,{"$f":"N8","v":12},{"$f":"COUNTIF(L8:L8,Y8)","v":1},null,null,null,{"$f":"N8","v":12},{"$f":"COUNTIF(L8:L9,AD8)","v":1},null,null,null,{"$f":"N8","v":12},{"$f":"COUNTIF(L9:L9,AI8)","v":0},null,null,null,{"$f":"N8","v":12},{"$f":"COUNTIF(L10:L10,AN8)","v":0},null,null,null,{"$f":"N8","v":12},{"$f":"COUNTIF(L11:L11,AS8)","v":0}]
[21,553,22,577,24,722,14,737,24,11867,0,22,null,21,{"$f":"COUNTIF($L$7:$L$500,N9)","v":0},{"$f":"O9/$Q$4","v":0},{"$f":"IF(P9=0,0,(P9*((LOG(P9))/LOG(2))))","v":0},null,null,{"$f":"N9","v":21},{"$f":"COUNTIF(L7:L7,T9)","v":0},{"$f":"U9/(W4-U8)","v":0},{"$f":"IF(V9=0,0,(V9*((LOG(V9))/LOG(2))))","v":0},null,{"$f":"N9","v":21},{"$f":"COUNTIF(L8:L8,Y9)","v":0},{"$f":"Z9/(AB4-Z8)","v":{"$error":"#DIV/0!"}},{"$f":"IF(AA9=0,0,(AA9*((LOG(AA9))/LOG(2))))","v":{"$error":"#DIV/0!"}},null,{"$f":"N9","v":21},{"$f":"COUNTIF(L8:L9,AD9)","v":0},{"$f":"AE9/(AG4-AE8)","v":0},{"$f":"IF(AF9=0,0,(AF9*((LOG(AF9))/LOG(2))))","v":0},null,{"$f":"N9","v":21},{"$f":"COUNTIF(L9:L9,AI9)","v":0},{"$f":"AJ9/(AL4-AJ8)","v":0},{"$f":"IF(AK9=0,0,(AK9*((LOG(AK9))/LOG(2))))","v":0},null,{"$f":"N9","v":21},{"$f":"COUNTIF(L10:L10,AN9)","v":0},{"$f":"AO9/(AQ4-AO8)","v":0},{"$f":"IF(AP9=0,0,(AP9*((LOG(AP9))/LOG(2))))","v":0},null,{"$f":"N9","v":21},{"$f":"COUNTIF(L11:L11,AS9)","v":0},{"$f":"AT9/(AV4-AT8)","v":0},{"$f":"IF(AU9=0,0,(AU9*((LOG(AU9))/LOG(2))))","v":0}]
[12,11992,13,17588,13,17658,14,17670,13,17681,0,11,null,22,{"$f":"COUNTIF($L$7:$L$500,N10)","v":2},{"$f":"O10/$Q$4","v":0.4},{"$f":"IF(P10=0,0,(P10*((LOG(P10))/LOG(2))))","v":-0.52877123795494496},null,null,{"$f":"N10","v":22},{"$f":"COUNTIF(L7:L7,T10)","v":1},{"$f":"U10/(W4-U8)","v":1},{"$f":"IF(V10=0,0,(V10*((LOG(V10))/LOG(2))))","v":0},null,{"$f":"N10","v":22},{"$f":"COUNTIF(L8:L8,Y10)","v":0},{"$f":"Z10/(AB4-Z8)","v":{"$error":"#DIV/0!"}},{"$f":"IF(AA10=0,0,(AA10*((LOG(AA10))/LOG(2))))","v":{"$error":"#DIV/0!"}},null,{"$f":"N10","v":22},{"$f":"COUNTIF(L8:L9,AD10)","v":1},{"$f":"AE10/(AG4-AE8)","v":1},{"$f":"IF(AF10=0,0,(AF10*((LOG(AF10))/LOG(2))))","v":0},null,{"$f":"N10","v":22},{"$f":"COUNTIF(L9:L9,AI10)","v":1},{"$f":"AJ10/(AL4-AJ8)","v":1},{"$f":"IF(AK10=0,0,(AK10*((LOG(AK10))/LOG(2))))","v":0},null,{"$f":"N10","v":22},{"$f":"COUNTIF(L10:L10,AN10)","v":0},{"$f":"AO10/(AQ4-AO8)","v":0},{"$f":"IF(AP10=0,0,(AP10*((LOG(AP10))/LOG(2))))","v":0},null,{"$f":"N10","v":22},{"$f":"COUNTIF(L11:L11,AS10)","v":0},{"$f":"AT10/(AV4-AT8)","v":0},{"$f":"IF(AU10=0,0,(AU10*((LOG(AU10))/LOG(2))))","v":0}]
[12,21491,13,21502,13,21528,14,21539,null,null,null,11,null,null,null,null,null,null,null,{"$f":"N11","v":0},{"$f":"COUNTIF(L7:L7,T11)","v":0},{"$f":"U11/(W4-U8)","v":0},{"$f":"IF(V11=0,0,(V11*((LOG(V11))/LOG(2))))","v":0},null,{"$f":"N11","v":0},{"$f":"COUNTIF(L8:L8,Y11)","v":0},{"$f":"Z11/(AB4-Z8)","v":{"$error":"#DIV/0!"}},{"$f":"IF(AA11=0,0,(AA11*((LOG(AA11))/LOG(2))))","v":{"$error":"#DIV/0!"}},null,{"$f":"N11","v":0},{"$f":"COUNTIF(L8:L9,AD11)","v":0},{"$f":"AE11/(AG4-AE8)","v":0},{"$f":"IF(AF11=0,0,(AF11*((LOG(AF11))/LOG(2))))","v":0},null,{"$f":"N11","v":0},{"$f":"COUNTIF(L9:L9,AI11)","v":0},{"$f":"AJ11/(AL4-AJ8)","v":0},{"$f":"IF(AK11=0,0,(AK11*((LOG(AK11))/LOG(2))))","v":0},null,{"$f":"N11","v":0},{"$f":"COUNTIF(L10:L10,AN11)","v":0},{"$f":"AO11/(AQ4-AO8)","v":0},{"$f":"IF(AP11=0,0,(AP11*((LOG(AP11))/LOG(2))))","v":0},null,{"$f":"N11","v":0},{"$f":"COUNTIF(L11:L11,AS11)","v":0},{"$f":"AT11/(AV4-AT8)","v":0},{"$f":"IF(AU11=0,0,(AU11*((LOG(AU11))/LOG(2))))","v":0}]
[null,null,null,null,null,null,null,null,null,null,null,null,null,null,null,null,null,null,null,{"$f":"N12","v":0},{"$f":"COUNTIF(L7:L7,T12)","v":0},{"$f":"U12/(W4-U8)","v":0},{"$f":"IF(V12=0,0,(V12*((LOG(V12))/LOG(2))))","v":0},null,{"$f":"N12","v":0},{"$f":"COUNTIF(L8:L8,Y12)","v":0},{"$f":"Z12/(AB4-Z8)","v":{"$error":"#DIV/0!"}},{"$f":"IF(AA12=0,0,(AA12*((LOG(AA12))/LOG(2))))","v":{"$error":"#DIV/0!"}},null,{"$f":"N12","v":0},{"$f":"COUNTIF(L8:L9,AD12)","v":0},{"$f":"AE12/(AG4-AE8)","v":0},{"$f":"IF(AF12=0,0,(AF12*((LOG(AF12))/LOG(2))))","v":0},null,{"$f":"N12","v":0},{"$f":"COUNTIF(L9:L9,AI12)","v":0},{"$f":"AJ12/(AL4-AJ8)","v":0},{"$f":"IF(AK12=0,0,(AK12*((LOG(AK12))/LOG(2))))","v":0},null,{"$f":"N12","v":0},{"$f":"COUNTIF(L10:L10,AN12)","v":0},{"$f":"AO12/(AQ4-AO8)","v":0},{"$f":"IF(AP12=0,0,(AP12*((LOG(AP12))/LOG(2))))","v":0},null,{"$f":"N12","v":0},{"$f":"COUNTIF(L11:L11,AS12)","v":0},{"$f":"AT12/(AV4-AT8)","v":0},{"$f":"IF(AU12=0,0,(AU12*((LOG(AU12))/LOG(2))))","v":0}]
[null,null,null,null,null,null,null,null,null,null,null,null,null,null,null,null,null,null,null,{"$f":"N13","v":0},{"$f":"COUNTIF(L7:L7,T13)","v":0},{"$f":"U13/(W4-U8)","v":0},{"$f":"IF(V13=0,0,(V13*((LOG(V13))/LOG(2))))","v":0},null,{"$f":"N13","v":0},{"$f":"COUNTIF(L8:L8,Y13)","v":0},{"$f":"Z13/(AB4-Z8)","v":{"$error":"#DIV/0!"}},{"$f":"IF(AA13=0,0,(AA13*((LOG(AA13))/LOG(2))))","v":{"$error":"#DIV/0!"}},null,{"$f":"N13","v":0},{"$f":"COUNTIF(L8:L9,AD13)","v":0},{"$f":"AE13/(AG4-AE8)","v":0},{"$f":"IF(AF13=0,0,(AF13*((LOG(AF13))/LOG(2))))","v":0},null,{"$f":"N13","v":0},{"$f":"COUNTIF(L9:L9,AI13)","v":0},{"$f":"AJ13/(AL4-AJ8)","v":0},{"$f":"IF(AK13=0,0,(AK13*((LOG(AK13))/LOG(2))))","v":0},null,{"$f":"N13","v":0},{"$f":"COUNTIF(L10:L10,AN13)","v":0},{"$f":"AO13/(AQ4-AO8)","v":0},{"$f":"IF(AP13=0,0,(AP13*((LOG(AP13))/LOG(2))))","v":0},null,{"$f":"N13","v":0},{"$f":"COUNTIF(L11:L11,AS13)","v":0},{"$f":"AT13/(AV4-AT8)","v":0},{"$f":"IF(AU13=0,0,(AU13*((LOG(AU13))/LOG(2))))","v":0}]
[null,null,null,null,null,null,null,null,null,null,null,null,null,null,null,null,null,null,null,{"$f":"N14","v":0},{"$f":"COUNTIF(L7:L7,T14)","v":0},{"$f":"U14/(W4-U8)","v":0},{"$f":"IF(V14=0,0,(V14*((LOG(V14))/LOG(2))))","v":0},null,{"$f":"N14","v":0},{"$f":"COUNTIF(L8:L8,Y14)","v":0},{"$f":"Z14/(AB4-Z8)","v":{"$error":"#DIV/0!"}},{"$f":"IF(AA14=0,0,(AA14*((LOG(AA14))/LOG(2))))","v":{"$error":"#DIV/0!"}},null,{"$f":"N14","v":0},{"$f":"COUNTIF(L8:L9,AD14)","v":0},{"$f":"AE14/(AG4-AE8)","v":0},{"$f":"IF(AF14=0,0,(AF14*((LOG(AF14))/LOG(2))))","v":0},null,{"$f":"N14","v":0},{"$f":"COUNTIF(L9:L9,AI14)","v":0},{"$f":"AJ14/(AL4-AJ8)","v":0},{"$f":"IF(AK14=0,0,(AK14*((LOG(AK14))/LOG(2))))","v":0},null,{"$f":"N14","v":0},{"$f":"COUNTIF(L10:L10,AN14)","v":0},{"$f":"AO14/(AQ4-AO8)","v":0},{"$f":"IF(AP14=0,0,(AP14*((LOG(AP14))/LOG(2))))","v":0},null,{"$f":"N14","v":0},{"$f":"COUNTIF(L11:L11,AS14)","v":0},{"$f":"AT14/(AV4-AT8)","v":0},{"$f":"IF(AU14=0,0,(AU14*((LOG(AU14))/LOG(2))))","v":0}]
[null,null,null,null,null,null,null,null,null,null,null,null,null,null,null,{"$f":"SUM(P7:P14)","v":1},{"$f":"-SUM(Q7:Q14)","v":1.5219280948873624},null,null,null,null,{"$f":"SUM(V7:V14)","v":1},{"$f":"-SUM(W7:W14)","v":0},null,null,null,{"$f":"SUM(AA7:AA14)","v":{"$error":"#DIV/0!"}},{"$f":"-SUM(AB7:AB14)","v":{"$error":"#DIV/0!"}},null,null,null,{"$f":"SUM(AF7:AF14)","v":1},{"$f":"-SUM(AG7:AG14)","v":0},null,null,null,{"$f":"SUM(AK7:AK14)","v":1},{"$f":"-SUM(AL7:AL14)","v":0},null,null,null,{"$f":"SUM(AP7:AP14)","v":1},{"$f":"-SUM(AQ7:AQ14)","v":0},null,null,null,{"$f":"SUM(AU7:AU14)","v":1},{"$f":"-SUM(AV7:AV14)","v":0}]
[null,null,null,null,null,null,null,null,null,null,null,null,null,null,null,"U=",{"$f":"Q15/(LOG(Q4)/LOG(2))","v":0.65545875354128547},null,null,null,null,"U1=",{"$f":"W15/(LOG(W4)/LOG(2))","v":{"$error":"#DIV/0!"}},null,null,null,"U2=",{"$f":"AB15/(LOG(AB4)/LOG(2))","v":{"$error":"#DIV/0!"}},null,null,null,"U3=",{"$f":"AG15/(LOG(AG4)/LOG(2))","v":0},null,null,null,"U4=",{"$f":"AL15/(LOG(AL4)/LOG(2))","v":{"$error":"#DIV/0!"}},null,null,null,"U5=",{"$f":"AQ15/(LOG(AQ4)/LOG(2))","v":{"$error":"#DIV/0!"}},null,null,null,"U6=",{"$f":"AV15/(LOG(AV4)/LOG(2))","v":{"$error":"#DIV/0!"}}]
[]
[]
[null,null,null,null,null,null,null,null,null,null,null,null,null,"Total Target Seq"]
[null,null,null,null,null,null,null,null,null,null,null,null,null,{"$f":"COUNTIF(L7:L11,G3)","v":1},null,1,1,0,1,1,1]
[null,null,null,null,null,null,null,null,null,null,null,null,null,null,null,"% of reinforcement given in 6 equal intervals based on number of trials "]
[null,null,null,null,null,null,null,null,null,null,null,null,null,null,null,"%_1","%_2","%_3","%_4","%_5","%_6"]
[null,null,null,null,null,null,null,null,null,null,null,null,null,null,"target sequence",{"$f":"$G$3","v":12},{"$f":"$G$3","v":12},{"$f":"$G$3","v":12},{"$f":"$G$3","v":12},{"$f":"$G$3","v":12},{"$f":"$G$3","v":12}]
[null,null,null,null,null,null,null,null,null,null,null,null,null,null,"total reinforcement",{"$f":"U8","v":0},{"$f":"Z8","v":1},{"$f":"AE8","v":1},{"$f":"AJ8","v":0},{"$f":"AO8","v":0},{"$f":"AT8","v":0}]
[null,null,null,null,null,null,null,null,null,null,null,null,null,null,"% target"]
[null,null,null,null,null,null,null,null,null,null,null,null,null,null,"CCRF"]
[null,null,null,null,null,null,null,null,null,null,null,null,null,null,"% CCRf"]
[null,null,null,null,null,null,null,null,null,null,null,null,null,null,"average response rate",{"$f":"D7/P20","v":92},{"$f":"(D8-D7)/Q20","v":206},{"$f":"(D8-D8)/R20","v":{"$error":"#DIV/0!"}},{"$f":"(D9-D8)/S20","v":279},{"$f":"(D10-D9)/T20","v":17011},{"$f":"(D11-D10)/U20","v":3914}]

{"sheet":"!N120A40.105","index":53,"n_rows":28,"n_cols":48,"rows_kept":28,"cut":false,"hidden":false,"merged":[[4,39,4,42],[5,39,5,40],[4,44,4,47],[5,44,5,45],[4,24,4,27],[5,24,5,25],[4,29,4,32],[5,29,5,30],[4,34,4,37],[5,34,5,35],[1,1,1,2],[5,13,5,14],[18,13,18,14],[19,13,19,14],[4,19,4,22],[5,19,5,20]]}
["Report for:!N120A40.105"]
["Date:","<date>"]
["Hen:","<hen>",null,null,null,"Correct Sequence",{"$f":"Start!J2","v":12},null,null,null,null,null,null,null,null,"Total Sequences in Data",{"$f":"4994-COUNTBLANK(L7:L5000)","v":4},null,null,null,null,"Total Sequences in Block Data",{"$f":"COUNTA(L7:L7)","v":1},null,null,null,"Total Sequences in Block Data",{"$f":"COUNTA(L7:L8)","v":2},null,null,null,"Total Sequences in Block Data",{"$f":"COUNTA(L8:L8)","v":1},null,null,null,"Total Sequences in Block Data",{"$f":"COUNTA(L9:L9)","v":1},null,null,null,"Total Sequences in Block Data",{"$f":"COUNTA(L9:L10)","v":2},null,null,null,"Total Sequences in Block Data",{"$f":"COUNTA(L10:L10)","v":1}]
[null,null,null,null,null,null,null,null,null,null,null,null,null,null,null,"Total Sequences in Summary",{"$f":"SUM(O7:O14)","v":4},null,null,null,null,"Total Sequences in Block Summary",{"$f":"SUM(U7:U14)","v":1},null,null,null,"Total Sequences in Block Summary",{"$f":"SUM(Z7:Z14)","v":2},null,null,null,"Total Sequences in Block Summary",{"$f":"SUM(AE7:AE14)","v":1},null,null,null,"Total Sequences in Block Summary",{"$f":"SUM(AJ7:AJ14)","v":1},null,null,null,"Total Sequences in Block Summary",{"$f":"SUM(AO7:AO14)","v":2},null,null,null,"Total Sequences in Block Summary",{"$f":"SUM(AT7:AT14)","v":1}]
[null,null,null,null,null,null,null,null,null,null,null,null,null,null,null,null,null,null,null,"Block 1",null,null,null,null,"Block 2",null,null,null,null,"Block 3",null,null,null,null,"Block 4",null,null,null,null,"Block 5",null,null,null,null,"Block 6"]
["Sequence\nComponent\n1","Time\n1","Sequence\nComponent\n2","Time\n2","Sequence\nComponent\n3","Time\n3","Sequence\nComponent\n4","Time\n4","Sequence\nComponent\n5","Time\n5","Correct?\n0=No 1=Yes","Sequence",null,"Frequency",null,"Relative Frequency","Variability",null,null,"Frequency",null,"Relative Frequency","Variability",null,"Frequency",null,"Relative Frequency","Variability",null,"Frequency",null,"Relative Frequency","Variability",null,"Frequency",null,"Relative Frequency","Variability",null,"Frequency",null,"Relative Frequency","Variability",null,"Frequency",null,"Relative Frequency","Variability"]
[21,25,11,42,22,52,14,68,24,77,0,21,null,11,{"$f":"COUNTIF($L$7:$L$500,N7)","v":1},{"$f":"O7/$Q$4","v":0.25},{"$f":"IF(P7=0,0,(P7*((LOG(P7))/LOG(2))))","v":-0.5},null,null,{"$f":"N7","v":11},{"$f":"COUNTIF(L7:L7,T7)","v":0},{"$f":"U7/(W4-U8)","v":0},{"$f":"IF(V7=0,0,(V7*((LOG(V7))/LOG(2))))","v":0},null,{"$f":"N7","v":11},{"$f":"COUNTIF(L7:L8,Y7)","v":0},{"$f":"Z7/(AB4-Z8)","v":0},{"$f":"IF(AA7=0,0,(AA7*((LOG(AA7))/LOG(2))))","v":0},null,{"$f":"N7","v":11},{"$f":"COUNTIF(L8:L8,AD7)","v":0},{"$f":"AE7/(AG4-AE8)","v":0},{"$f":"IF(AF7=0,0,(AF7*((LOG(AF7))/LOG(2))))","v":0},null,{"$f":"N7","v":11},{"$f":"COUNTIF(L9:L9,AI7)","v":0},{"$f":"AJ7/(AL4-AJ8)","v":{"$error":"#DIV/0!"}},{"$f":"IF(AK7=0,0,(AK7*((LOG(AK7))/LOG(2))))","v":{"$error":"#DIV/0!"}},null,{"$f":"N7","v":11},{"$f":"COUNTIF(L9:L10,AN7)","v":1},{"$f":"AO7/(AQ4-AO8)","v":1},{"$f":"IF(AP7=0,0,(AP7*((LOG(AP7))/LOG(2))))","v":0},null,{"$f":"N7","v":11},{"$f":"COUNTIF(L10:L10,AS7)","v":1},{"$f":"AT7/(AV4-AT8)","v":1},{"$f":"IF(AU7=0,0,(AU7*((LOG(AU7))/LOG(2))))","v":0}]
[21,196,11,207,22,218,14,229,24,236,0,21,null,12,{"$f":"COUNTIF($L$7:$L$500,N8)","v":1},{"$f":"O8/$Q$4","v":0.25},{"$f":"IF(P8=0,0,(P8*((LOG(P8))/LOG(2))))","v":-0.5},null,null,{"$f":"N8","v":12},{"$f":"COUNTIF(L7:L7,T8)","v":0},null,null,null,{"$f":"N8","v":12},{"$f":"COUNTIF(L7:L8,Y8)","v":0},null,null,null,{"$f":"N8","v":12},{"$f":"COUNTIF(L8:L8,AD8)","v":0},null,null,null,{"$f":"N8","v":12},{"$f":"COUNTIF(L9:L9,AI8)","v":1},null,null,null,{"$f":"N8","v":12},{"$f":"COUNTIF(L9:L10,AN8)","v":1},null,null,null,{"$f":"N8","v":12},{"$f":"COUNTIF(L10:L10,AS8)","v":0}]
[12,361,24,1271,24,1284,23,1296,24,1352,0,12,null,21,{"$f":"COUNTIF($L$7:$L$500,N9)","v":2},{"$f":"O9/$Q$4","v":0.5},{"$f":"IF(P9=0,0,(P9*((LOG(P9))/LOG(2))))","v":-0.5},null,null,{"$f":"N9","v":21},{"$f":"COUNTIF(L7:L7,T9)","v":1},{"$f":"U9/(W4-U8)","v":1},{"$f":"IF(V9=0,0,(V9*((LOG(V9))/LOG(2))))","v":0},null,{"$f":"N9","v":21},{"$f":"COUNTIF(L7:L8,Y9)","v":2},{"$f":"Z9/(AB4-Z8)","v":1},{"$f":"IF(AA9=0,0,(AA9*((LOG(AA9))/LOG(2))))","v":0},null,{"$f":"N9","v":21},{"$f":"COUNTIF(L8:L8,AD9)","v":1},{"$f":"AE9/(AG4-AE8)","v":1},{"$f":"IF(AF9=0,0,(AF9*((LOG(AF9))/LOG(2))))","v":0},null,{"$f":"N9","v":21},{"$f":"COUNTIF(L9:L9,AI9)","v":0},{"$f":"AJ9/(AL4-AJ8)","v":{"$error":"#DIV/0!"}},{"$f":"IF(AK9=0,0,(AK9*((LOG(AK9))/LOG(2))))","v":{"$error":"#DIV/0!"}},null,{"$f":"N9","v":21},{"$f":"COUNTIF(L9:L10,AN9)","v":0},{"$f":"AO9/(AQ4-AO8)","v":0},{"$f":"IF(AP9=0,0,(AP9*((LOG(AP9))/LOG(2))))","v":0},null,{"$f":"N9","v":21},{"$f":"COUNTIF(L10:L10,AS9)","v":0},{"$f":"AT9/(AV4-AT8)","v":0},{"$f":"IF(AU9=0,0,(AU9*((LOG(AU9))/LOG(2))))","v":0}]
[12,4472,13,4484,13,4495,14,4508,13,12372,0,11,null,22,{"$f":"COUNTIF($L$7:$L$500,N10)","v":0},{"$f":"O10/$Q$4","v":0},{"$f":"IF(P10=0,0,(P10*((LOG(P10))/LOG(2))))","v":0},null,null,{"$f":"N10","v":22},{"$f":"COUNTIF(L7:L7,T10)","v":0},{"$f":"U10/(W4-U8)","v":0},{"$f":"IF(V10=0,0,(V10*((LOG(V10))/LOG(2))))","v":0},null,{"$f":"N10","v":22},{"$f":"COUNTIF(L7:L8,Y10)","v":0},{"$f":"Z10/(AB4-Z8)","v":0},{"$f":"IF(AA10=0,0,(AA10*((LOG(AA10))/LOG(2))))","v":0},null,{"$f":"N10","v":22},{"$f":"COUNTIF(L8:L8,AD10)","v":0},{"$f":"AE10/(AG4-AE8)","v":0},{"$f":"IF(AF10=0,0,(AF10*((LOG(AF10))/LOG(2))))","v":0},null,{"$f":"N10","v":22},{"$f":"COUNTIF(L9:L9,AI10)","v":0},{"$f":"AJ10/(AL4-AJ8)","v":{"$error":"#DIV/0!"}},{"$f":"IF(AK10=0,0,(AK10*((LOG(AK10))/LOG(2))))","v":{"$error":"#DIV/0!"}},null,{"$f":"N10","v":22},{"$f":"COUNTIF(L9:L10,AN10)","v":0},{"$f":"AO10/(AQ4-AO8)","v":0},{"$f":"IF(AP10=0,0,(AP10*((LOG(AP10))/LOG(2))))","v":0},null,{"$f":"N10","v":22},{"$f":"COUNTIF(L10:L10,AS10)","v":0},{"$f":"AT10/(AV4-AT8)","v":0},{"$f":"IF(AU10=0,0,(AU10*((LOG(AU10))/LOG(2))))","v":0}]
[null,null,null,null,null,null,null,null,null,null,null,null,null,null,null,null,null,null,null,{"$f":"N11","v":0},{"$f":"COUNTIF(L7:L7,T11)","v":0},{"$f":"U11/(W4-U8)","v":0},{"$f":"IF(V11=0,0,(V11*((LOG(V11))/LOG(2))))","v":0},null,{"$f":"N11","v":0},{"$f":"COUNTIF(L7:L8,Y11)","v":0},{"$f":"Z11/(AB4-Z8)","v":0},{"$f":"IF(AA11=0,0,(AA11*((LOG(AA11))/LOG(2))))","v":0},null,{"$f":"N11","v":0},{"$f":"COUNTIF(L8:L8,AD11)","v":0},{"$f":"AE11/(AG4-AE8)","v":0},{"$f":"IF(AF11=0,0,(AF11*((LOG(AF11))/LOG(2))))","v":0},null,{"$f":"N11","v":0},{"$f":"COUNTIF(L9:L9,AI11)","v":0},{"$f":"AJ11/(AL4-AJ8)","v":{"$error":"#DIV/0!"}},{"$f":"IF(AK11=0,0,(AK11*((LOG(AK11))/LOG(2))))","v":{"$error":"#DIV/0!"}},null,{"$f":"N11","v":0},{"$f":"COUNTIF(L9:L10,AN11)","v":0},{"$f":"AO11/(AQ4-AO8)","v":0},{"$f":"IF(AP11=0,0,(AP11*((LOG(AP11))/LOG(2))))","v":0},null,{"$f":"N11","v":0},{"$f":"COUNTIF(L10:L10,AS11)","v":0},{"$f":"AT11/(AV4-AT8)","v":0},{"$f":"IF(AU11=0,0,(AU11*((LOG(AU11))/LOG(2))))","v":0}]
[null,null,null,null,null,null,null,null,null,null,null,null,null,null,null,null,null,null,null,{"$f":"N12","v":0},{"$f":"COUNTIF(L7:L7,T12)","v":0},{"$f":"U12/(W4-U8)","v":0},{"$f":"IF(V12=0,0,(V12*((LOG(V12))/LOG(2))))","v":0},null,{"$f":"N12","v":0},{"$f":"COUNTIF(L7:L8,Y12)","v":0},{"$f":"Z12/(AB4-Z8)","v":0},{"$f":"IF(AA12=0,0,(AA12*((LOG(AA12))/LOG(2))))","v":0},null,{"$f":"N12","v":0},{"$f":"COUNTIF(L8:L8,AD12)","v":0},{"$f":"AE12/(AG4-AE8)","v":0},{"$f":"IF(AF12=0,0,(AF12*((LOG(AF12))/LOG(2))))","v":0},null,{"$f":"N12","v":0},{"$f":"COUNTIF(L9:L9,AI12)","v":0},{"$f":"AJ12/(AL4-AJ8)","v":{"$error":"#DIV/0!"}},{"$f":"IF(AK12=0,0,(AK12*((LOG(AK12))/LOG(2))))","v":{"$error":"#DIV/0!"}},null,{"$f":"N12","v":0},{"$f":"COUNTIF(L9:L10,AN12)","v":0},{"$f":"AO12/(AQ4-AO8)","v":0},{"$f":"IF(AP12=0,0,(AP12*((LOG(AP12))/LOG(2))))","v":0},null,{"$f":"N12","v":0},{"$f":"COUNTIF(L10:L10,AS12)","v":0},{"$f":"AT12/(AV4-AT8)","v":0},{"$f":"IF(AU12=0,0,(AU12*((LOG(AU12))/LOG(2))))","v":0}]
[null,null,null,null,null,null,null,null,null,null,null,null,null,null,null,null,null,null,null,{"$f":"N13","v":0},{"$f":"COUNTIF(L7:L7,T13)","v":0},{"$f":"U13/(W4-U8)","v":0},{"$f":"IF(V13=0,0,(V13*((LOG(V13))/LOG(2))))","v":0},null,{"$f":"N13","v":0},{"$f":"COUNTIF(L7:L8,Y13)","v":0},{"$f":"Z13/(AB4-Z8)","v":0},{"$f":"IF(AA13=0,0,(AA13*((LOG(AA13))/LOG(2))))","v":0},null,{"$f":"N13","v":0},{"$f":"COUNTIF(L8:L8,AD13)","v":0},{"$f":"AE13/(AG4-AE8)","v":0},{"$f":"IF(AF13=0,0,(AF13*((LOG(AF13))/LOG(2))))","v":0},null,{"$f":"N13","v":0},{"$f":"COUNTIF(L9:L9,AI13)","v":0},{"$f":"AJ13/(AL4-AJ8)","v":{"$error":"#DIV/0!"}},{"$f":"IF(AK13=0,0,(AK13*((LOG(AK13))/LOG(2))))","v":{"$error":"#DIV/0!"}},null,{"$f":"N13","v":0},{"$f":"COUNTIF(L9:L10,AN13)","v":0},{"$f":"AO13/(AQ4-AO8)","v":0},{"$f":"IF(AP13=0,0,(AP13*((LOG(AP13))/LOG(2))))","v":0},null,{"$f":"N13","v":0},{"$f":"COUNTIF(L10:L10,AS13)","v":0},{"$f":"AT13/(AV4-AT8)","v":0},{"$f":"IF(AU13=0,0,(AU13*((LOG(AU13))/LOG(2))))","v":0}]
[null,null,null,null,null,null,null,null,null,null,null,null,null,null,null,null,null,null,null,{"$f":"N14","v":0},{"$f":"COUNTIF(L7:L7,T14)","v":0},{"$f":"U14/(W4-U8)","v":0},{"$f":"IF(V14=0,0,(V14*((LOG(V14))/LOG(2))))","v":0},null,{"$f":"N14","v":0},{"$f":"COUNTIF(L7:L8,Y14)","v":0},{"$f":"Z14/(AB4-Z8)","v":0},{"$f":"IF(AA14=0,0,(AA14*((LOG(AA14))/LOG(2))))","v":0},null,{"$f":"N14","v":0},{"$f":"COUNTIF(L8:L8,AD14)","v":0},{"$f":"AE14/(AG4-AE8)","v":0},{"$f":"IF(AF14=0,0,(AF14*((LOG(AF14))/LOG(2))))","v":0},null,{"$f":"N14","v":0},{"$f":"COUNTIF(L9:L9,AI14)","v":0},{"$f":"AJ14/(AL4-AJ8)","v":{"$error":"#DIV/0!"}},{"$f":"IF(AK14=0,0,(AK14*((LOG(AK14))/LOG(2))))","v":{"$error":"#DIV/0!"}},null,{"$f":"N14","v":0},{"$f":"COUNTIF(L9:L10,AN14)","v":0},{"$f":"AO14/(AQ4-AO8)","v":0},{"$f":"IF(AP14=0,0,(AP14*((LOG(AP14))/LOG(2))))","v":0},null,{"$f":"N14","v":0},{"$f":"COUNTIF(L10:L10,AS14)","v":0},{"$f":"AT14/(AV4-AT8)","v":0},{"$f":"IF(AU14=0,0,(AU14*((LOG(AU14))/LOG(2))))","v":0}]
[null,null,null,null,null,null,null,null,null,null,null,null,null,null,null,{"$f":"SUM(P7:P14)","v":1},{"$f":"-SUM(Q7:Q14)","v":1.5},null,null,null,null,{"$f":"SUM(V7:V14)","v":1},{"$f":"-SUM(W7:W14)","v":0},null,null,null,{"$f":"SUM(AA7:AA14)","v":1},{"$f":"-SUM(AB7:AB14)","v":0},null,null,null,{"$f":"SUM(AF7:AF14)","v":1},{"$f":"-SUM(AG7:AG14)","v":0},null,null,null,{"$f":"SUM(AK7:AK14)","v":{"$error":"#DIV/0!"}},{"$f":"-SUM(AL7:AL14)","v":{"$error":"#DIV/0!"}},null,null,null,{"$f":"SUM(AP7:AP14)","v":1},{"$f":"-SUM(AQ7:AQ14)","v":0},null,null,null,{"$f":"SUM(AU7:AU14)","v":1},{"$f":"-SUM(AV7:AV14)","v":0}]
[null,null,null,null,null,null,null,null,null,null,null,null,null,null,null,"U=",{"$f":"Q15/(LOG(Q4)/LOG(2))","v":0.75},null,null,null,null,"U1=",{"$f":"W15/(LOG(W4)/LOG(2))","v":{"$error":"#DIV/0!"}},null,null,null,"U2=",{"$f":"AB15/(LOG(AB4)/LOG(2))","v":0},null,null,null,"U3=",{"$f":"AG15/(LOG(AG4)/LOG(2))","v":{"$error":"#DIV/0!"}},null,null,null,"U4=",{"$f":"AL15/(LOG(AL4)/LOG(2))","v":{"$error":"#DIV/0!"}},null,null,null,"U5=",{"$f":"AQ15/(LOG(AQ4)/LOG(2))","v":0},null,null,null,"U6=",{"$f":"AV15/(LOG(AV4)/LOG(2))","v":{"$error":"#DIV/0!"}}]
[]
[]
[null,null,null,null,null,null,null,null,null,null,null,null,null,"Total Target Seq"]
[null,null,null,null,null,null,null,null,null,null,null,null,null,{"$f":"COUNTIF(L7:L10,G3)","v":1},null,1,0,1,1,0,1]
[null,null,null,null,null,null,null,null,null,null,null,null,null,null,null,"% of reinforcement given in 6 equal intervals based on number of trials "]
[null,null,null,null,null,null,null,null,null,null,null,null,null,null,null,"%_1","%_2","%_3","%_4","%_5","%_6"]
[null,null,null,null,null,null,null,null,null,null,null,null,null,null,"target sequence",{"$f":"$G$3","v":12},{"$f":"$G$3","v":12},{"$f":"$G$3","v":12},{"$f":"$G$3","v":12},{"$f":"$G$3","v":12},{"$f":"$G$3","v":12}]
[null,null,null,null,null,null,null,null,null,null,null,null,null,null,"total reinforcement",{"$f":"U8","v":0},{"$f":"Z8","v":0},{"$f":"AE8","v":0},{"$f":"AJ8","v":1},{"$f":"AO8","v":1},{"$f":"AT8","v":0}]
[null,null,null,null,null,null,null,null,null,null,null,null,null,null,"% target"]
[null,null,null,null,null,null,null,null,null,null,null,null,null,null,"CCRF"]
[null,null,null,null,null,null,null,null,null,null,null,null,null,null,"% CCRf"]
[null,null,null,null,null,null,null,null,null,null,null,null,null,null,"average response rate",{"$f":"D7/P20","v":42},{"$f":"(D7-D7)/Q20","v":{"$error":"#DIV/0!"}},{"$f":"(D8-D7)/R20","v":165},{"$f":"(D9-D8)/S20","v":1064},{"$f":"(D9-D9)/T20","v":{"$error":"#DIV/0!"}},{"$f":"(D10-D9)/U20","v":3213}]

{"sheet":"!N121B10.105","index":54,"n_rows":35,"n_cols":48,"rows_kept":35,"cut":false,"hidden":false,"merged":[[4,39,4,42],[5,39,5,40],[4,44,4,47],[5,44,5,45],[4,24,4,27],[5,24,5,25],[4,29,4,32],[5,29,5,30],[4,34,4,37],[5,34,5,35],[1,1,1,2],[5,13,5,14],[18,13,18,14],[19,13,19,14],[4,19,4,22],[5,19,5,20]]}
["Report for:!N121B10.105"]
["Date:","<date>"]
["Hen:","<hen>",null,null,null,"Correct Sequence",{"$f":"Start!J2","v":12},null,null,null,null,null,null,null,null,"Total Sequences in Data",{"$f":"4994-COUNTBLANK(L7:L5000)","v":29},null,null,null,null,"Total Sequences in Block Data",{"$f":"COUNTA(L7:L11)","v":5},null,null,null,"Total Sequences in Block Data",{"$f":"COUNTA(L12:L16)","v":5},null,null,null,"Total Sequences in Block Data",{"$f":"COUNTA(L17:L20)","v":4},null,null,null,"Total Sequences in Block Data",{"$f":"COUNTA(L21:L25)","v":5},null,null,null,"Total Sequences in Block Data",{"$f":"COUNTA(L26:L30)","v":5},null,null,null,"Total Sequences in Block Data",{"$f":"COUNTA(L31:L35)","v":5}]
[null,null,null,null,null,null,null,null,null,null,null,null,null,null,null,"Total Sequences in Summary",{"$f":"SUM(O7:O14)","v":29},null,null,null,null,"Total Sequences in Block Summary",{"$f":"SUM(U7:U14)","v":5},null,null,null,"Total Sequences in Block Summary",{"$f":"SUM(Z7:Z14)","v":5},null,null,null,"Total Sequences in Block Summary",{"$f":"SUM(AE7:AE14)","v":4},null,null,null,"Total Sequences in Block Summary",{"$f":"SUM(AJ7:AJ14)","v":5},null,null,null,"Total Sequences in Block Summary",{"$f":"SUM(AO7:AO14)","v":5},null,null,null,"Total Sequences in Block Summary",{"$f":"SUM(AT7:AT14)","v":5}]
[null,null,null,null,null,null,null,null,null,null,null,null,null,null,null,null,null,null,null,"Block 1",null,null,null,null,"Block 2",null,null,null,null,"Block 3",null,null,null,null,"Block 4",null,null,null,null,"Block 5",null,null,null,null,"Block 6"]
["Sequence\nComponent\n1","Time\n1","Sequence\nComponent\n2","Time\n2","Sequence\nComponent\n3","Time\n3","Sequence\nComponent\n4","Time\n4","Sequence\nComponent\n5","Time\n5","Correct?\n0=No 1=Yes","Sequence",null,"Frequency",null,"Relative Frequency","Variability",null,null,"Frequency",null,"Relative Frequency","Variability",null,"Frequency",null,"Relative Frequency","Variability",null,"Frequency",null,"Relative Frequency","Variability",null,"Frequency",null,"Relative Frequency","Variability",null,"Frequency",null,"Relative Frequency","Variability",null,"Frequency",null,"Relative Frequency","Variability"]
[21,36,22,58,24,76,23,104,13,118,1,22,null,11,{"$f":"COUNTIF($L$7:$L$500,N7)","v":14},{"$f":"O7/$Q$4","v":0.48275862068965519},{"$f":"IF(P7=0,0,(P7*((LOG(P7))/LOG(2))))","v":-0.50719879389584666},null,null,{"$f":"N7","v":11},{"$f":"COUNTIF(L7:L11,T7)","v":0},{"$f":"U7/(W4-U8)","v":0},{"$f":"IF(V7=0,0,(V7*((LOG(V7))/LOG(2))))","v":0},null,{"$f":"N7","v":11},{"$f":"COUNTIF(L12:L16,Y7)","v":3},{"$f":"Z7/(AB4-Z8)","v":0.75},{"$f":"IF(AA7=0,0,(AA7*((LOG(AA7))/LOG(2))))","v":-0.31127812445913283},null,{"$f":"N7","v":11},{"$f":"COUNTIF(L17:L20,AD7)","v":2},{"$f":"AE7/(AG4-AE8)","v":0.5},{"$f":"IF(AF7=0,0,(AF7*((LOG(AF7))/LOG(2))))","v":-0.5},null,{"$f":"N7","v":11},{"$f":"COUNTIF(L21:L25,AI7)","v":5},{"$f":"AJ7/(AL4-AJ8)","v":1},{"$f":"IF(AK7=0,0,(AK7*((LOG(AK7))/LOG(2))))","v":0},null,{"$f":"N7","v":11},{"$f":"COUNTIF(L26:L30,AN7)","v":4},{"$f":"AO7/(AQ4-AO8)","v":0.8},{"$f":"IF(AP7=0,0,(AP7*((LOG(AP7))/LOG(2))))","v":-0.25754247590988982},null,{"$f":"N7","v":11},{"$f":"COUNTIF(L31:L35,AS7)","v":0},{"$f":"AT7/(AV4-AT8)","v":0},{"$f":"IF(AU7=0,0,(AU7*((LOG(AU7))/LOG(2))))","v":0}]
[21,239,22,253,24,279,14,294,24,304,0,22,null,12,{"$f":"COUNTIF($L$7:$L$500,N8)","v":4},{"$f":"O8/$Q$4","v":0.13793103448275862},{"$f":"IF(P8=0,0,(P8*((LOG(P8))/LOG(2))))","v":-0.39420427519000989},null,null,{"$f":"N8","v":12},{"$f":"COUNTIF(L7:L11,T8)","v":1},null,null,null,{"$f":"N8","v":12},{"$f":"COUNTIF(L12:L16,Y8)","v":1},null,null,null,{"$f":"N8","v":12},{"$f":"COUNTIF(L17:L20,AD8)","v":0},null,null,null,{"$f":"N8","v":12},{"$f":"COUNTIF(L21:L25,AI8)","v":0},null,null,null,{"$f":"N8","v":12},{"$f":"COUNTIF(L26:L30,AN8)","v":0},null,null,null,{"$f":"N8","v":12},{"$f":"COUNTIF(L31:L35,AS8)","v":2}]
[21,420,11,434,11,449,21,456,11,472,1,21,null,21,{"$f":"COUNTIF($L$7:$L$500,N9)","v":5},{"$f":"O9/$Q$4","v":0.17241379310344829},{"$f":"IF(P9=0,0,(P9*((LOG(P9))/LOG(2))))","v":-0.43725050004141547},null,null,{"$f":"N9","v":21},{"$f":"COUNTIF(L7:L11,T9)","v":1},{"$f":"U9/(W4-U8)","v":0.25},{"$f":"IF(V9=0,0,(V9*((LOG(V9))/LOG(2))))","v":-0.5},null,{"$f":"N9","v":21},{"$f":"COUNTIF(L12:L16,Y9)","v":1},{"$f":"Z9/(AB4-Z8)","v":0.25},{"$f":"IF(AA9=0,0,(AA9*((LOG(AA9))/LOG(2))))","v":-0.5},null,{"$f":"N9","v":21},{"$f":"COUNTIF(L17:L20,AD9)","v":1},{"$f":"AE9/(AG4-AE8)","v":0.25},{"$f":"IF(AF9=0,0,(AF9*((LOG(AF9))/LOG(2))))","v":-0.5},null,{"$f":"N9","v":21},{"$f":"COUNTIF(L21:L25,AI9)","v":0},{"$f":"AJ9/(AL4-AJ8)","v":0},{"$f":"IF(AK9=0,0,(AK9*((LOG(AK9))/LOG(2))))","v":0},null,{"$f":"N9","v":21},{"$f":"COUNTIF(L26:L30,AN9)","v":1},{"$f":"AO9/(AQ4-AO8)","v":0.2},{"$f":"IF(AP9=0,0,(AP9*((LOG(AP9))/LOG(2))))","v":-0.46438561897747244},null,{"$f":"N9","v":21},{"$f":"COUNTIF(L31:L35,AS9)","v":1},{"$f":"AT9/(AV4-AT8)","v":0.33333333333333331},{"$f":"IF(AU9=0,0,(AU9*((LOG(AU9))/LOG(2))))","v":-0.52832083357371862}]
[12,577,24,588,24,605,14,620,24,631,0,12,null,22,{"$f":"COUNTIF($L$7:$L$500,N10)","v":6},{"$f":"O10/$Q$4","v":0.20689655172413793},{"$f":"IF(P10=0,0,(P10*((LOG(P10))/LOG(2))))","v":-0.4702796884978791},null,null,{"$f":"N10","v":22},{"$f":"COUNTIF(L7:L11,T10)","v":3},{"$f":"U10/(W4-U8)","v":0.75},{"$f":"IF(V10=0,0,(V10*((LOG(V10))/LOG(2))))","v":-0.31127812445913283},null,{"$f":"N10","v":22},{"$f":"COUNTIF(L12:L16,Y10)","v":0},{"$f":"Z10/(AB4-Z8)","v":0},{"$f":"IF(AA10=0,0,(AA10*((LOG(AA10))/LOG(2))))","v":0},null,{"$f":"N10","v":22},{"$f":"COUNTIF(L17:L20,AD10)","v":1},{"$f":"AE10/(AG4-AE8)","v":0.25},{"$f":"IF(AF10=0,0,(AF10*((LOG(AF10))/LOG(2))))","v":-0.5},null,{"$f":"N10","v":22},{"$f":"COUNTIF(L21:L25,AI10)","v":0},{"$f":"AJ10/(AL4-AJ8)","v":0},{"$f":"IF(AK10=0,0,(AK10*((LOG(AK10))/LOG(2))))","v":0},null,{"$f":"N10","v":22},{"$f":"COUNTIF(L26:L30,AN10)","v":0},{"$f":"AO10/(AQ4-AO8)","v":0},{"$f":"IF(AP10=0,0,(AP10*((LOG(AP10))/LOG(2))))","v":0},null,{"$f":"N10","v":22},{"$f":"COUNTIF(L31:L35,AS10)","v":2},{"$f":"AT10/(AV4-AT8)","v":0.66666666666666663},{"$f":"IF(AU10=0,0,(AU10*((LOG(AU10))/LOG(2))))","v":-0.38997500048077083}]
[21,744,22,761,13,772,23,783,13,799,0,22,null,null,null,null,null,null,null,{"$f":"N11","v":0},{"$f":"COUNTIF(L7:L11,T11)","v":0},{"$f":"U11/(W4-U8)","v":0},{"$f":"IF(V11=0,0,(V11*((LOG(V11))/LOG(2))))","v":0},null,{"$f":"N11","v":0},{"$f":"COUNTIF(L12:L16,Y11)","v":0},{"$f":"Z11/(AB4-Z8)","v":0},{"$f":"IF(AA11=0,0,(AA11*((LOG(AA11))/LOG(2))))","v":0},null,{"$f":"N11","v":0},{"$f":"COUNTIF(L17:L20,AD11)","v":0},{"$f":"AE11/(AG4-AE8)","v":0},{"$f":"IF(AF11=0,0,(AF11*((LOG(AF11))/LOG(2))))","v":0},null,{"$f":"N11","v":0},{"$f":"COUNTIF(L21:L25,AI11)","v":0},{"$f":"AJ11/(AL4-AJ8)","v":0},{"$f":"IF(AK11=0,0,(AK11*((LOG(AK11))/LOG(2))))","v":0},null,{"$f":"N11","v":0},{"$f":"COUNTIF(L26:L30,AN11)","v":0},{"$f":"AO11/(AQ4-AO8)","v":0},{"$f":"IF(AP11=0,0,(AP11*((LOG(AP11))/LOG(2))))","v":0},null,{"$f":"N11","v":0},{"$f":"COUNTIF(L31:L35,AS11)","v":0},{"$f":"AT11/(AV4-AT8)","v":0},{"$f":"IF(AU11=0,0,(AU11*((LOG(AU11))/LOG(2))))","v":0}]
[21,937,11,952,11,964,21,973,22,996,0,21,null,null,null,null,null,null,null,{"$f":"N12","v":0},{"$f":"COUNTIF(L7:L11,T12)","v":0},{"$f":"U12/(W4-U8)","v":0},{"$f":"IF(V12=0,0,(V12*((LOG(V12))/LOG(2))))","v":0},null,{"$f":"N12","v":0},{"$f":"COUNTIF(L12:L16,Y12)","v":0},{"$f":"Z12/(AB4-Z8)","v":0},{"$f":"IF(AA12=0,0,(AA12*((LOG(AA12))/LOG(2))))","v":0},null,{"$f":"N12","v":0},{"$f":"COUNTIF(L17:L20,AD12)","v":0},{"$f":"AE12/(AG4-AE8)","v":0},{"$f":"IF(AF12=0,0,(AF12*((LOG(AF12))/LOG(2))))","v":0},null,{"$f":"N12","v":0},{"$f":"COUNTIF(L21:L25,AI12)","v":0},{"$f":"AJ12/(AL4-AJ8)","v":0},{"$f":"IF(AK12=0,0,(AK12*((LOG(AK12))/LOG(2))))","v":0},null,{"$f":"N12","v":0},{"$f":"COUNTIF(L26:L30,AN12)","v":0},{"$f":"AO12/(AQ4-AO8)","v":0},{"$f":"IF(AP12=0,0,(AP12*((LOG(AP12))/LOG(2))))","v":0},null,{"$f":"N12","v":0},{"$f":"COUNTIF(L31:L35,AS12)","v":0},{"$f":"AT12/(AV4-AT8)","v":0},{"$f":"IF(AU12=0,0,(AU12*((LOG(AU12))/LOG(2))))","v":0}]
[12,1102,13,1121,24,1132,14,1144,24,1150,0,11,null,null,null,null,null,null,null,{"$f":"N13","v":0},{"$f":"COUNTIF(L7:L11,T13)","v":0},{"$f":"U13/(W4-U8)","v":0},{"$f":"IF(V13=0,0,(V13*((LOG(V13))/LOG(2))))","v":0},null,{"$f":"N13","v":0},{"$f":"COUNTIF(L12:L16,Y13)","v":0},{"$f":"Z13/(AB4-Z8)","v":0},{"$f":"IF(AA13=0,0,(AA13*((LOG(AA13))/LOG(2))))","v":0},null,{"$f":"N13","v":0},{"$f":"COUNTIF(L17:L20,AD13)","v":0},{"$f":"AE13/(AG4-AE8)","v":0},{"$f":"IF(AF13=0,0,(AF13*((LOG(AF13))/LOG(2))))","v":0},null,{"$f":"N13","v":0},{"$f":"COUNTIF(L21:L25,AI13)","v":0},{"$f":"AJ13/(AL4-AJ8)","v":0},{"$f":"IF(AK13=0,0,(AK13*((LOG(AK13))/LOG(2))))","v":0},null,{"$f":"N13","v":0},{"$f":"COUNTIF(L26:L30,AN13)","v":0},{"$f":"AO13/(AQ4-AO8)","v":0},{"$f":"IF(AP13=0,0,(AP13*((LOG(AP13))/LOG(2))))","v":0},null,{"$f":"N13","v":0},{"$f":"COUNTIF(L31:L35,AS13)","v":0},{"$f":"AT13/(AV4-AT8)","v":0},{"$f":"IF(AU13=0,0,(AU13*((LOG(AU13))/LOG(2))))","v":0}]
[12,1274,13,1284,13,1293,23,1304,13,1313,0,11,null,null,null,null,null,null,null,{"$f":"N14","v":0},{"$f":"COUNTIF(L7:L11,T14)","v":0},{"$f":"U14/(W4-U8)","v":0},{"$f":"IF(V14=0,0,(V14*((LOG(V14))/LOG(2))))","v":0},null,{"$f":"N14","v":0},{"$f":"COUNTIF(L12:L16,Y14)","v":0},{"$f":"Z14/(AB4-Z8)","v":0},{"$f":"IF(AA14=0,0,(AA14*((LOG(AA14))/LOG(2))))","v":0},null,{"$f":"N14","v":0},{"$f":"COUNTIF(L17:L20,AD14)","v":0},{"$f":"AE14/(AG4-AE8)","v":0},{"$f":"IF(AF14=0,0,(AF14*((LOG(AF14))/LOG(2))))","v":0},null,{"$f":"N14","v":0},{"$f":"COUNTIF(L21:L25,AI14)","v":0},{"$f":"AJ14/(AL4-AJ8)","v":0},{"$f":"IF(AK14=0,0,(AK14*((LOG(AK14))/LOG(2))))","v":0},null,{"$f":"N14","v":0},{"$f":"COUNTIF(L26:L30,AN14)","v":0},{"$f":"AO14/(AQ4-AO8)","v":0},{"$f":"IF(AP14=0,0,(AP14*((LOG(AP14))/LOG(2))))","v":0},null,{"$f":"N14","v":0},{"$f":"COUNTIF(L31:L35,AS14)","v":0},{"$f":"AT14/(AV4-AT8)","v":0},{"$f":"IF(AU14=0,0,(AU14*((LOG(AU14))/LOG(2))))","v":0}]
[12,1487,24,1496,13,1511,23,1520,13,1532,0,12,null,null,null,{"$f":"SUM(P7:P14)","v":1},{"$f":"-SUM(Q7:Q14)","v":1.8089332576251511},null,null,null,null,{"$f":"SUM(V7:V14)","v":1},{"$f":"-SUM(W7:W14)","v":0.81127812445913283},null,null,null,{"$f":"SUM(AA7:AA14)","v":1},{"$f":"-SUM(AB7:AB14)","v":0.81127812445913283},null,null,null,{"$f":"SUM(AF7:AF14)","v":1},{"$f":"-SUM(AG7:AG14)","v":1.5},null,null,null,{"$f":"SUM(AK7:AK14)","v":1},{"$f":"-SUM(AL7:AL14)","v":0},null,null,null,{"$f":"SUM(AP7:AP14)","v":1},{"$f":"-SUM(AQ7:AQ14)","v":0.72192809488736231},null,null,null,{"$f":"SUM(AU7:AU14)","v":1},{"$f":"-SUM(AV7:AV14)","v":0.91829583405448945}]
[12,1652,13,1660,24,1670,14,1679,13,1700,0,11,null,null,null,"U=",{"$f":"Q15/(LOG(Q4)/LOG(2))","v":0.37236318121447243},null,null,null,null,"U1=",{"$f":"W15/(LOG(W4)/LOG(2))","v":0.34939847028229709},null,null,null,"U2=",{"$f":"AB15/(LOG(AB4)/LOG(2))","v":0.34939847028229709},null,null,null,"U3=",{"$f":"AG15/(LOG(AG4)/LOG(2))","v":0.75},null,null,null,"U4=",{"$f":"AL15/(LOG(AL4)/LOG(2))","v":0},null,null,null,"U5=",{"$f":"AQ15/(LOG(AQ4)/LOG(2))","v":0.31091750708257104},null,null,null,"U6=",{"$f":"AV15/(LOG(AV4)/LOG(2))","v":0.3954884891037232}]
[21,2065,22,2112,24,2124,14,2139,24,2148,0,22]
[12,2254,13,2265,13,2278,23,2286,13,2302,0,11]
[12,2415,13,2434,24,2444,14,2459,24,2469,0,11,null,"Total Target Seq"]
[21,3103,11,3114,22,3123,14,3138,24,3149,0,21,null,{"$f":"COUNTIF(L7:L35,G3)","v":4},null,5,5,4,5,5,5]
[12,3278,13,3301,13,3311,23,3322,13,3333,0,11,null,null,null,"% of reinforcement given in 6 equal intervals based on number of trials "]
[12,3507,13,3518,13,3528,23,3536,13,3548,0,11,null,null,null,"%_1","%_2","%_3","%_4","%_5","%_6"]
[12,3991,13,4001,24,4013,14,4024,24,4034,0,11,null,null,"target sequence",{"$f":"$G$3","v":12},{"$f":"$G$3","v":12},{"$f":"$G$3","v":12},{"$f":"$G$3","v":12},{"$f":"$G$3","v":12},{"$f":"$G$3","v":12}]
[12,5726,13,5736,13,5746,14,5756,24,5769,0,11,null,null,"total reinforcement",{"$f":"U8","v":1},{"$f":"Z8","v":1},{"$f":"AE8","v":0},{"$f":"AJ8","v":0},{"$f":"AO8","v":0},{"$f":"AT8","v":2}]
[12,6704,13,6714,13,6724,14,6745,13,6769,0,11,null,null,"% target"]
[12,6932,13,6943,24,6953,14,6967,13,6989,0,11,null,null,"CCRF"]
[12,7796,13,7806,24,7818,14,7832,24,7841,0,11,null,null,"% CCRf"]
[12,7984,13,7994,13,8011,14,8022,13,8035,0,11,null,null,"average response rate",{"$f":"D11/P20","v":152.19999999999999},{"$f":"(D16-D11)/Q20","v":179.8},{"$f":"(D20-D16)/R20","v":363.5},{"$f":"(D25-D20)/S20","v":720},{"$f":"(D30-D25)/T20","v":1161.8},{"$f":"(D35-D30)/U20","v":2211.1999999999998}]
[12,8325,13,8336,13,10421,14,10431,13,10438,0,11]
[21,12499,11,12523,22,12533,14,12547,24,13535,0,21]
[21,13743,11,13762,22,13770,23,13788,13,16335,0,21]
[12,16712,24,16746,13,16762,14,16784,24,16794,0,12]
[12,21966,24,21975,24,21990,23,22012,24,22023,0,12]
[21,22817,22,22844,24,22865,14,22880,24,22890,0,22]
[21,23558,22,23579,null,null,null,null,null,null,null,22]

{"sheet":"!N122930.105","index":55,"n_rows":28,"n_cols":48,"rows_kept":28,"cut":false,"hidden":false,"merged":[[4,39,4,42],[5,39,5,40],[4,44,4,47],[5,44,5,45],[4,24,4,27],[5,24,5,25],[4,29,4,32],[5,29,5,30],[4,34,4,37],[5,34,5,35],[1,1,1,2],[5,13,5,14],[18,13,18,14],[19,13,19,14],[4,19,4,22],[5,19,5,20]]}
["Report for:!N122930.105"]
["Date:","<date>"]
["Hen:","<hen>",null,null,null,"Correct Sequence",{"$f":"Start!J2","v":12},null,null,null,null,null,null,null,null,"Total Sequences in Data",{"$f":"4994-COUNTBLANK(L7:L5000)","v":6},null,null,null,null,"Total Sequences in Block Data",{"$f":"COUNTA(L7:L7)","v":1},null,null,null,"Total Sequences in Block Data",{"$f":"COUNTA(L8:L8)","v":1},null,null,null,"Total Sequences in Block Data",{"$f":"COUNTA(L9:L9)","v":1},null,null,null,"Total Sequences in Block Data",{"$f":"COUNTA(L10:L10)","v":1},null,null,null,"Total Sequences in Block Data",{"$f":"COUNTA(L11:L11)","v":1},null,null,null,"Total Sequences in Block Data",{"$f":"COUNTA(L12:L12)","v":1}]
[null,null,null,null,null,null,null,null,null,null,null,null,null,null,null,"Total Sequences in Summary",{"$f":"SUM(O7:O14)","v":6},null,null,null,null,"Total Sequences in Block Summary",{"$f":"SUM(U7:U14)","v":1},null,null,null,"Total Sequences in Block Summary",{"$f":"SUM(Z7:Z14)","v":1},null,null,null,"Total Sequences in Block Summary",{"$f":"SUM(AE7:AE14)","v":1},null,null,null,"Total Sequences in Block Summary",{"$f":"SUM(AJ7:AJ14)","v":1},null,null,null,"Total Sequences in Block Summary",{"$f":"SUM(AO7:AO14)","v":1},null,null,null,"Total Sequences in Block Summary",{"$f":"SUM(AT7:AT14)","v":1}]
[null,null,null,null,null,null,null,null,null,null,null,null,null,null,null,null,null,null,null,"Block 1",null,null,null,null,"Block 2",null,null,null,null,"Block 3",null,null,null,null,"Block 4",null,null,null,null,"Block 5",null,null,null,null,"Block 6"]
["Sequence\nComponent\n1","Time\n1","Sequence\nComponent\n2","Time\n2","Sequence\nComponent\n3","Time\n3","Sequence\nComponent\n4","Time\n4","Sequence\nComponent\n5","Time\n5","Correct?\n0=No 1=Yes","Sequence",null,"Frequency",null,"Relative Frequency","Variability",null,null,"Frequency",null,"Relative Frequency","Variability",null,"Frequency",null,"Relative Frequency","Variability",null,"Frequency",null,"Relative Frequency","Variability",null,"Frequency",null,"Relative Frequency","Variability",null,"Frequency",null,"Relative Frequency","Variability",null,"Frequency",null,"Relative Frequency","Variability"]
[21,363,22,419,24,535,23,562,24,580,1,22,null,11,{"$f":"COUNTIF($L$7:$L$500,N7)","v":2},{"$f":"O7/$Q$4","v":0.33333333333333331},{"$f":"IF(P7=0,0,(P7*((LOG(P7))/LOG(2))))","v":-0.52832083357371862},null,null,{"$f":"N7","v":11},{"$f":"COUNTIF(L7:L7,T7)","v":0},{"$f":"U7/(W4-U8)","v":0},{"$f":"IF(V7=0,0,(V7*((LOG(V7))/LOG(2))))","v":0},null,{"$f":"N7","v":11},{"$f":"COUNTIF(L8:L8,Y7)","v":0},{"$f":"Z7/(AB4-Z8)","v":0},{"$f":"IF(AA7=0,0,(AA7*((LOG(AA7))/LOG(2))))","v":0},null,{"$f":"N7","v":11},{"$f":"COUNTIF(L9:L9,AD7)","v":0},{"$f":"AE7/(AG4-AE8)","v":{"$error":"#DIV/0!"}},{"$f":"IF(AF7=0,0,(AF7*((LOG(AF7))/LOG(2))))","v":{"$error":"#DIV/0!"}},null,{"$f":"N7","v":11},{"$f":"COUNTIF(L10:L10,AI7)","v":0},{"$f":"AJ7/(AL4-AJ8)","v":0},{"$f":"IF(AK7=0,0,(AK7*((LOG(AK7))/LOG(2))))","v":0},null,{"$f":"N7","v":11},{"$f":"COUNTIF(L11:L11,AN7)","v":1},{"$f":"AO7/(AQ4-AO8)","v":1},{"$f":"IF(AP7=0,0,(AP7*((LOG(AP7))/LOG(2))))","v":0},null,{"$f":"N7","v":11},{"$f":"COUNTIF(L12:L12,AS7)","v":1},{"$f":"AT7/(AV4-AT8)","v":1},{"$f":"IF(AU7=0,0,(AU7*((LOG(AU7))/LOG(2))))","v":0}]
[21,724,22,741,24,768,23,842,24,922,0,22,null,12,{"$f":"COUNTIF($L$7:$L$500,N8)","v":1},{"$f":"O8/$Q$4","v":0.16666666666666666},{"$f":"IF(P8=0,0,(P8*((LOG(P8))/LOG(2))))","v":-0.43082708345352599},null,null,{"$f":"N8","v":12},{"$f":"COUNTIF(L7:L7,T8)","v":0},null,null,null,{"$f":"N8","v":12},{"$f":"COUNTIF(L8:L8,Y8)","v":0},null,null,null,{"$f":"N8","v":12},{"$f":"COUNTIF(L9:L9,AD8)","v":1},null,null,null,{"$f":"N8","v":12},{"$f":"COUNTIF(L10:L10,AI8)","v":0},null,null,null,{"$f":"N8","v":12},{"$f":"COUNTIF(L11:L11,AN8)","v":0},null,null,null,{"$f":"N8","v":12},{"$f":"COUNTIF(L12:L12,AS8)","v":0}]
[12,1141,24,1185,24,1207,23,1292,24,16397,0,12,null,21,{"$f":"COUNTIF($L$7:$L$500,N9)","v":0},{"$f":"O9/$Q$4","v":0},{"$f":"IF(P9=0,0,(P9*((LOG(P9))/LOG(2))))","v":0},null,null,{"$f":"N9","v":21},{"$f":"COUNTIF(L7:L7,T9)","v":0},{"$f":"U9/(W4-U8)","v":0},{"$f":"IF(V9=0,0,(V9*((LOG(V9))/LOG(2))))","v":0},null,{"$f":"N9","v":21},{"$f":"COUNTIF(L8:L8,Y9)","v":0},{"$f":"Z9/(AB4-Z8)","v":0},{"$f":"IF(AA9=0,0,(AA9*((LOG(AA9))/LOG(2))))","v":0},null,{"$f":"N9","v":21},{"$f":"COUNTIF(L9:L9,AD9)","v":0},{"$f":"AE9/(AG4-AE8)","v":{"$error":"#DIV/0!"}},{"$f":"IF(AF9=0,0,(AF9*((LOG(AF9))/LOG(2))))","v":{"$error":"#DIV/0!"}},null,{"$f":"N9","v":21},{"$f":"COUNTIF(L10:L10,AI9)","v":0},{"$f":"AJ9/(AL4-AJ8)","v":0},{"$f":"IF(AK9=0,0,(AK9*((LOG(AK9))/LOG(2))))","v":0},null,{"$f":"N9","v":21},{"$f":"COUNTIF(L11:L11,AN9)","v":0},{"$f":"AO9/(AQ4-AO8)","v":0},{"$f":"IF(AP9=0,0,(AP9*((LOG(AP9))/LOG(2))))","v":0},null,{"$f":"N9","v":21},{"$f":"COUNTIF(L12:L12,AS9)","v":0},{"$f":"AT9/(AV4-AT8)","v":0},{"$f":"IF(AU9=0,0,(AU9*((LOG(AU9))/LOG(2))))","v":0}]
[21,16671,22,16686,24,16723,23,16736,24,16800,0,22,null,22,{"$f":"COUNTIF($L$7:$L$500,N10)","v":3},{"$f":"O10/$Q$4","v":0.5},{"$f":"IF(P10=0,0,(P10*((LOG(P10))/LOG(2))))","v":-0.5},null,null,{"$f":"N10","v":22},{"$f":"COUNTIF(L7:L7,T10)","v":1},{"$f":"U10/(W4-U8)","v":1},{"$f":"IF(V10=0,0,(V10*((LOG(V10))/LOG(2))))","v":0},null,{"$f":"N10","v":22},{"$f":"COUNTIF(L8:L8,Y10)","v":1},{"$f":"Z10/(AB4-Z8)","v":1},{"$f":"IF(AA10=0,0,(AA10*((LOG(AA10))/LOG(2))))","v":0},null,{"$f":"N10","v":22},{"$f":"COUNTIF(L9:L9,AD10)","v":0},{"$f":"AE10/(AG4-AE8)","v":{"$error":"#DIV/0!"}},{"$f":"IF(AF10=0,0,(AF10*((LOG(AF10))/LOG(2))))","v":{"$error":"#DIV/0!"}},null,{"$f":"N10","v":22},{"$f":"COUNTIF(L10:L10,AI10)","v":1},{"$f":"AJ10/(AL4-AJ8)","v":1},{"$f":"IF(AK10=0,0,(AK10*((LOG(AK10))/LOG(2))))","v":0},null,{"$f":"N10","v":22},{"$f":"COUNTIF(L11:L11,AN10)","v":0},{"$f":"AO10/(AQ4-AO8)","v":0},{"$f":"IF(AP10=0,0,(AP10*((LOG(AP10))/LOG(2))))","v":0},null,{"$f":"N10","v":22},{"$f":"COUNTIF(L12:L12,AS10)","v":0},{"$f":"AT10/(AV4-AT8)","v":0},{"$f":"IF(AU10=0,0,(AU10*((LOG(AU10))/LOG(2))))","v":0}]
[12,16997,13,17024,13,17037,14,17067,24,17078,0,11,null,null,null,null,null,null,null,{"$f":"N11","v":0},{"$f":"COUNTIF(L7:L7,T11)","v":0},{"$f":"U11/(W4-U8)","v":0},{"$f":"IF(V11=0,0,(V11*((LOG(V11))/LOG(2))))","v":0},null,{"$f":"N11","v":0},{"$f":"COUNTIF(L8:L8,Y11)","v":0},{"$f":"Z11/(AB4-Z8)","v":0},{"$f":"IF(AA11=0,0,(AA11*((LOG(AA11))/LOG(2))))","v":0},null,{"$f":"N11","v":0},{"$f":"COUNTIF(L9:L9,AD11)","v":0},{"$f":"AE11/(AG4-AE8)","v":{"$error":"#DIV/0!"}},{"$f":"IF(AF11=0,0,(AF11*((LOG(AF11))/LOG(2))))","v":{"$error":"#DIV/0!"}},null,{"$f":"N11","v":0},{"$f":"COUNTIF(L10:L10,AI11)","v":0},{"$f":"AJ11/(AL4-AJ8)","v":0},{"$f":"IF(AK11=0,0,(AK11*((LOG(AK11))/LOG(2))))","v":0},null,{"$f":"N11","v":0},{"$f":"COUNTIF(L11:L11,AN11)","v":0},{"$f":"AO11/(AQ4-AO8)","v":0},{"$f":"IF(AP11=0,0,(AP11*((LOG(AP11))/LOG(2))))","v":0},null,{"$f":"N11","v":0},{"$f":"COUNTIF(L12:L12,AS11)","v":0},{"$f":"AT11/(AV4-AT8)","v":0},{"$f":"IF(AU11=0,0,(AU11*((LOG(AU11))/LOG(2))))","v":0}]
[12,17263,13,19297,null,null,null,null,null,null,null,11,null,null,null,null,null,null,null,{"$f":"N12","v":0},{"$f":"COUNTIF(L7:L7,T12)","v":0},{"$f":"U12/(W4-U8)","v":0},{"$f":"IF(V12=0,0,(V12*((LOG(V12))/LOG(2))))","v":0},null,{"$f":"N12","v":0},{"$f":"COUNTIF(L8:L8,Y12)","v":0},{"$f":"Z12/(AB4-Z8)","v":0},{"$f":"IF(AA12=0,0,(AA12*((LOG(AA12))/LOG(2))))","v":0},null,{"$f":"N12","v":0},{"$f":"COUNTIF(L9:L9,AD12)","v":0},{"$f":"AE12/(AG4-AE8)","v":{"$error":"#DIV/0!"}},{"$f":"IF(AF12=0,0,(AF12*((LOG(AF12))/LOG(2))))","v":{"$error":"#DIV/0!"}},null,{"$f":"N12","v":0},{"$f":"COUNTIF(L10:L10,AI12)","v":0},{"$f":"AJ12/(AL4-AJ8)","v":0},{"$f":"IF(AK12=0,0,(AK12*((LOG(AK12))/LOG(2))))","v":0},null,{"$f":"N12","v":0},{"$f":"COUNTIF(L11:L11,AN12)","v":0},{"$f":"AO12/(AQ4-AO8)","v":0},{"$f":"IF(AP12=0,0,(AP12*((LOG(AP12))/LOG(2))))","v":0},null,{"$f":"N12","v":0},{"$f":"COUNTIF(L12:L12,AS12)","v":0},{"$f":"AT12/(AV4-AT8)","v":0},{"$f":"IF(AU12=0,0,(AU12*((LOG(AU12))/LOG(2))))","v":0}]
[null,null,null,null,null,null,null,null,null,null,null,null,null,null,null,null,null,null,null,{"$f":"N13","v":0},{"$f":"COUNTIF(L7:L7,T13)","v":0},{"$f":"U13/(W4-U8)","v":0},{"$f":"IF(V13=0,0,(V13*((LOG(V13))/LOG(2))))","v":0},null,{"$f":"N13","v":0},{"$f":"COUNTIF(L8:L8,Y13)","v":0},{"$f":"Z13/(AB4-Z8)","v":0},{"$f":"IF(AA13=0,0,(AA13*((LOG(AA13))/LOG(2))))","v":0},null,{"$f":"N13","v":0},{"$f":"COUNTIF(L9:L9,AD13)","v":0},{"$f":"AE13/(AG4-AE8)","v":{"$error":"#DIV/0!"}},{"$f":"IF(AF13=0,0,(AF13*((LOG(AF13))/LOG(2))))","v":{"$error":"#DIV/0!"}},null,{"$f":"N13","v":0},{"$f":"COUNTIF(L10:L10,AI13)","v":0},{"$f":"AJ13/(AL4-AJ8)","v":0},{"$f":"IF(AK13=0,0,(AK13*((LOG(AK13))/LOG(2))))","v":0},null,{"$f":"N13","v":0},{"$f":"COUNTIF(L11:L11,AN13)","v":0},{"$f":"AO13/(AQ4-AO8)","v":0},{"$f":"IF(AP13=0,0,(AP13*((LOG(AP13))/LOG(2))))","v":0},null,{"$f":"N13","v":0},{"$f":"COUNTIF(L12:L12,AS13)","v":0},{"$f":"AT13/(AV4-AT8)","v":0},{"$f":"IF(AU13=0,0,(AU13*((LOG(AU13))/LOG(2))))","v":0}]
[null,null,null,null,null,null,null,null,null,null,null,null,null,null,null,null,null,null,null,{"$f":"N14","v":0},{"$f":"COUNTIF(L7:L7,T14)","v":0},{"$f":"U14/(W4-U8)","v":0},{"$f":"IF(V14=0,0,(V14*((LOG(V14))/LOG(2))))","v":0},null,{"$f":"N14","v":0},{"$f":"COUNTIF(L8:L8,Y14)","v":0},{"$f":"Z14/(AB4-Z8)","v":0},{"$f":"IF(AA14=0,0,(AA14*((LOG(AA14))/LOG(2))))","v":0},null,{"$f":"N14","v":0},{"$f":"COUNTIF(L9:L9,AD14)","v":0},{"$f":"AE14/(AG4-AE8)","v":{"$error":"#DIV/0!"}},{"$f":"IF(AF14=0,0,(AF14*((LOG(AF14))/LOG(2))))","v":{"$error":"#DIV/0!"}},null,{"$f":"N14","v":0},{"$f":"COUNTIF(L10:L10,AI14)","v":0},{"$f":"AJ14/(AL4-AJ8)","v":0},{"$f":"IF(AK14=0,0,(AK14*((LOG(AK14))/LOG(2))))","v":0},null,{"$f":"N14","v":0},{"$f":"COUNTIF(L11:L11,AN14)","v":0},{"$f":"AO14/(AQ4-AO8)","v":0},{"$f":"IF(AP14=0,0,(AP14*((LOG(AP14))/LOG(2))))","v":0},null,{"$f":"N14","v":0},{"$f":"COUNTIF(L12:L12,AS14)","v":0},{"$f":"AT14/(AV4-AT8)","v":0},{"$f":"IF(AU14=0,0,(AU14*((LOG(AU14))/LOG(2))))","v":0}]
[null,null,null,null,null,null,null,null,null,null,null,null,null,null,null,{"$f":"SUM(P7:P14)","v":1},{"$f":"-SUM(Q7:Q14)","v":1.4591479170272446},null,null,null,null,{"$f":"SUM(V7:V14)","v":1},{"$f":"-SUM(W7:W14)","v":0},null,null,null,{"$f":"SUM(AA7:AA14)","v":1},{"$f":"-SUM(AB7:AB14)","v":0},null,null,null,{"$f":"SUM(AF7:AF14)","v":{"$error":"#DIV/0!"}},{"$f":"-SUM(AG7:AG14)","v":{"$error":"#DIV/0!"}},null,null,null,{"$f":"SUM(AK7:AK14)","v":1},{"$f":"-SUM(AL7:AL14)","v":0},null,null,null,{"$f":"SUM(AP7:AP14)","v":1},{"$f":"-SUM(AQ7:AQ14)","v":0},null,null,null,{"$f":"SUM(AU7:AU14)","v":1},{"$f":"-SUM(AV7:AV14)","v":0}]
[null,null,null,null,null,null,null,null,null,null,null,null,null,null,null,"U=",{"$f":"Q15/(LOG(Q4)/LOG(2))","v":0.56447546787242353},null,null,null,null,"U1=",{"$f":"W15/(LOG(W4)/LOG(2))","v":{"$error":"#DIV/0!"}},null,null,null,"U2=",{"$f":"AB15/(LOG(AB4)/LOG(2))","v":{"$error":"#DIV/0!"}},null,null,null,"U3=",{"$f":"AG15/(LOG(AG4)/LOG(2))","v":{"$error":"#DIV/0!"}},null,null,null,"U4=",{"$f":"AL15/(LOG(AL4)/LOG(2))","v":{"$error":"#DIV/0!"}},null,null,null,"U5=",{"$f":"AQ15/(LOG(AQ4)/LOG(2))","v":{"$error":"#DIV/0!"}},null,null,null,"U6=",{"$f":"AV15/(LOG(AV4)/LOG(2))","v":{"$error":"#DIV/0!"}}]
[]
[]
[null,null,null,null,null,null,null,null,null,null,null,null,null,"Total Target Seq"]
[null,null,null,null,null,null,null,null,null,null,null,null,null,{"$f":"COUNTIF(L7:L12,G3)","v":1},null,1,1,1,1,1,1]
[null,null,null,null,null,null,null,null,null,null,null,null,null,null,null,"% of reinforcement given in 6 equal intervals based on number of trials "]
[null,null,null,null,null,null,null,null,null,null,null,null,null,null,null,"%_1","%_2","%_3","%_4","%_5","%_6"]
[null,null,null,null,null,null,null,null,null,null,null,null,null,null,"target sequence",{"$f":"$G$3","v":12},{"$f":"$G$3","v":12},{"$f":"$G$3","v":12},{"$f":"$G$3","v":12},{"$f":"$G$3","v":12},{"$f":"$G$3","v":12}]
[null,null,null,null,null,null,null,null,null,null,null,null,null,null,"total reinforcement",{"$f":"U8","v":0},{"$f":"Z8","v":0},{"$f":"AE8","v":1},{"$f":"AJ8","v":0},{"$f":"AO8","v":0},{"$f":"AT8","v":0}]
[null,null,null,null,null,null,null,null,null,null,null,null,null,null,"% target"]
[null,null,null,null,null,null,null,null,null,null,null,null,null,null,"CCRF"]
[null,null,null,null,null,null,null,null,null,null,null,null,null,null,"% CCRf"]
[null,null,null,null,null,null,null,null,null,null,null,null,null,null,"average response rate",{"$f":"D7/P20","v":419},{"$f":"(D8-D7)/Q20","v":322},{"$f":"(D9-D8)/R20","v":444},{"$f":"(D10-D9)/S20","v":15501},{"$f":"(D11-D10)/T20","v":338},{"$f":"(D12-D11)/U20","v":2273}]

{"sheet":"!N123B00.105","index":56,"n_rows":28,"n_cols":48,"rows_kept":28,"cut":false,"hidden":false,"merged":[[4,39,4,42],[5,39,5,40],[4,44,4,47],[5,44,5,45],[4,24,4,27],[5,24,5,25],[4,29,4,32],[5,29,5,30],[4,34,4,37],[5,34,5,35],[1,1,1,2],[5,13,5,14],[18,13,18,14],[19,13,19,14],[4,19,4,22],[5,19,5,20]]}
["Report for:!N123B00.105"]
["Date:","<date>"]
["Hen:","<hen>",null,null,null,"Correct Sequence",{"$f":"Start!J2","v":12},null,null,null,null,null,null,null,null,"Total Sequences in Data",{"$f":"4994-COUNTBLANK(L7:L5000)","v":14},null,null,null,null,"Total Sequences in Block Data",{"$f":"COUNTA(L7:L8)","v":2},null,null,null,"Total Sequences in Block Data",{"$f":"COUNTA(L9:L11)","v":3},null,null,null,"Total Sequences in Block Data",{"$f":"COUNTA(L12:L13)","v":2},null,null,null,"Total Sequences in Block Data",{"$f":"COUNTA(L14:L15)","v":2},null,null,null,"Total Sequences in Block Data",{"$f":"COUNTA(L16:L18)","v":3},null,null,null,"Total Sequences in Block Data",{"$f":"COUNTA(L19:L20)","v":2}]
[null,null,null,null,null,null,null,null,null,null,null,null,null,null,null,"Total Sequences in Summary",{"$f":"SUM(O7:O14)","v":14},null,null,null,null,"Total Sequences in Block Summary",{"$f":"SUM(U7:U14)","v":2},null,null,null,"Total Sequences in Block Summary",{"$f":"SUM(Z7:Z14)","v":3},null,null,null,"Total Sequences in Block Summary",{"$f":"SUM(AE7:AE14)","v":2},null,null,null,"Total Sequences in Block Summary",{"$f":"SUM(AJ7:AJ14)","v":2},null,null,null,"Total Sequences in Block Summary",{"$f":"SUM(AO7:AO14)","v":3},null,null,null,"Total Sequences in Block Summary",{"$f":"SUM(AT7:AT14)","v":2}]
[null,null,null,null,null,null,null,null,null,null,null,null,null,null,null,null,null,null,null,"Block 1",null,null,null,null,"Block 2",null,null,null,null,"Block 3",null,null,null,null,"Block 4",null,null,null,null,"Block 5",null,null,null,null,"Block 6"]
["Sequence\nComponent\n1","Time\n1","Sequence\nComponent\n2","Time\n2","Sequence\nComponent\n3","Time\n3","Sequence\nComponent\n4","Time\n4","Sequence\nComponent\n5","Time\n5","Correct?\n0=No 1=Yes","Sequence",null,"Frequency",null,"Relative Frequency","Variability",null,null,"Frequency",null,"Relative Frequency","Variability",null,"Frequency",null,"Relative Frequency","Variability",null,"Frequency",null,"Relative Frequency","Variability",null,"Frequency",null,"Relative Frequency","Variability",null,"Frequency",null,"Relative Frequency","Variability",null,"Frequency",null,"Relative Frequency","Variability"]
[21,11,22,45,24,59,23,72,13,82,0,22,null,11,{"$f":"COUNTIF($L$7:$L$500,N7)","v":8},{"$f":"O7/$Q$4","v":0.5714285714285714},{"$f":"IF(P7=0,0,(P7*((LOG(P7))/LOG(2))))","v":-0.46134566974720237},null,null,{"$f":"N7","v":11},{"$f":"COUNTIF(L7:L8,T7)","v":0},{"$f":"U7/(W4-U8)","v":0},{"$f":"IF(V7=0,0,(V7*((LOG(V7))/LOG(2))))","v":0},null,{"$f":"N7","v":11},{"$f":"COUNTIF(L9:L11,Y7)","v":0},{"$f":"Z7/(AB4-Z8)","v":0},{"$f":"IF(AA7=0,0,(AA7*((LOG(AA7))/LOG(2))))","v":0},null,{"$f":"N7","v":11},{"$f":"COUNTIF(L12:L13,AD7)","v":1},{"$f":"AE7/(AG4-AE8)","v":0.5},{"$f":"IF(AF7=0,0,(AF7*((LOG(AF7))/LOG(2))))","v":-0.5},null,{"$f":"N7","v":11},{"$f":"COUNTIF(L14:L15,AI7)","v":2},{"$f":"AJ7/(AL4-AJ8)","v":1},{"$f":"IF(AK7=0,0,(AK7*((LOG(AK7))/LOG(2))))","v":0},null,{"$f":"N7","v":11},{"$f":"COUNTIF(L16:L18,AN7)","v":3},{"$f":"AO7/(AQ4-AO8)","v":1},{"$f":"IF(AP7=0,0,(AP7*((LOG(AP7))/LOG(2))))","v":0},null,{"$f":"N7","v":11},{"$f":"COUNTIF(L19:L20,AS7)","v":2},{"$f":"AT7/(AV4-AT8)","v":1},{"$f":"IF(AU7=0,0,(AU7*((LOG(AU7))/LOG(2))))","v":0}]
[21,204,22,218,24,240,23,260,13,274,0,22,null,12,{"$f":"COUNTIF($L$7:$L$500,N8)","v":2},{"$f":"O8/$Q$4","v":0.14285714285714285},{"$f":"IF(P8=0,0,(P8*((LOG(P8))/LOG(2))))","v":-0.40105070315108626},null,null,{"$f":"N8","v":12},{"$f":"COUNTIF(L7:L8,T8)","v":0},null,null,null,{"$f":"N8","v":12},{"$f":"COUNTIF(L9:L11,Y8)","v":2},null,null,null,{"$f":"N8","v":12},{"$f":"COUNTIF(L12:L13,AD8)","v":0},null,null,null,{"$f":"N8","v":12},{"$f":"COUNTIF(L14:L15,AI8)","v":0},null,null,null,{"$f":"N8","v":12},{"$f":"COUNTIF(L16:L18,AN8)","v":0},null,null,null,{"$f":"N8","v":12},{"$f":"COUNTIF(L19:L20,AS8)","v":0}]
[12,384,24,395,24,407,23,431,13,446,0,12,null,21,{"$f":"COUNTIF($L$7:$L$500,N9)","v":0},{"$f":"O9/$Q$4","v":0},{"$f":"IF(P9=0,0,(P9*((LOG(P9))/LOG(2))))","v":0},null,null,{"$f":"N9","v":21},{"$f":"COUNTIF(L7:L8,T9)","v":0},{"$f":"U9/(W4-U8)","v":0},{"$f":"IF(V9=0,0,(V9*((LOG(V9))/LOG(2))))","v":0},null,{"$f":"N9","v":21},{"$f":"COUNTIF(L9:L11,Y9)","v":0},{"$f":"Z9/(AB4-Z8)","v":0},{"$f":"IF(AA9=0,0,(AA9*((LOG(AA9))/LOG(2))))","v":0},null,{"$f":"N9","v":21},{"$f":"COUNTIF(L12:L13,AD9)","v":0},{"$f":"AE9/(AG4-AE8)","v":0},{"$f":"IF(AF9=0,0,(AF9*((LOG(AF9))/LOG(2))))","v":0},null,{"$f":"N9","v":21},{"$f":"COUNTIF(L14:L15,AI9)","v":0},{"$f":"AJ9/(AL4-AJ8)","v":0},{"$f":"IF(AK9=0,0,(AK9*((LOG(AK9))/LOG(2))))","v":0},null,{"$f":"N9","v":21},{"$f":"COUNTIF(L16:L18,AN9)","v":0},{"$f":"AO9/(AQ4-AO8)","v":0},{"$f":"IF(AP9=0,0,(AP9*((LOG(AP9))/LOG(2))))","v":0},null,{"$f":"N9","v":21},{"$f":"COUNTIF(L19:L20,AS9)","v":0},{"$f":"AT9/(AV4-AT8)","v":0},{"$f":"IF(AU9=0,0,(AU9*((LOG(AU9))/LOG(2))))","v":0}]
[12,559,24,569,13,581,23,591,24,617,0,12,null,22,{"$f":"COUNTIF($L$7:$L$500,N10)","v":4},{"$f":"O10/$Q$4","v":0.2857142857142857},{"$f":"IF(P10=0,0,(P10*((LOG(P10))/LOG(2))))","v":-0.51638712058788683},null,null,{"$f":"N10","v":22},{"$f":"COUNTIF(L7:L8,T10)","v":2},{"$f":"U10/(W4-U8)","v":1},{"$f":"IF(V10=0,0,(V10*((LOG(V10))/LOG(2))))","v":0},null,{"$f":"N10","v":22},{"$f":"COUNTIF(L9:L11,Y10)","v":1},{"$f":"Z10/(AB4-Z8)","v":1},{"$f":"IF(AA10=0,0,(AA10*((LOG(AA10))/LOG(2))))","v":0},null,{"$f":"N10","v":22},{"$f":"COUNTIF(L12:L13,AD10)","v":1},{"$f":"AE10/(AG4-AE8)","v":0.5},{"$f":"IF(AF10=0,0,(AF10*((LOG(AF10))/LOG(2))))","v":-0.5},null,{"$f":"N10","v":22},{"$f":"COUNTIF(L14:L15,AI10)","v":0},{"$f":"AJ10/(AL4-AJ8)","v":0},{"$f":"IF(AK10=0,0,(AK10*((LOG(AK10))/LOG(2))))","v":0},null,{"$f":"N10","v":22},{"$f":"COUNTIF(L16:L18,AN10)","v":0},{"$f":"AO10/(AQ4-AO8)","v":0},{"$f":"IF(AP10=0,0,(AP10*((LOG(AP10))/LOG(2))))","v":0},null,{"$f":"N10","v":22},{"$f":"COUNTIF(L19:L20,AS10)","v":0},{"$f":"AT10/(AV4-AT8)","v":0},{"$f":"IF(AU10=0,0,(AU10*((LOG(AU10))/LOG(2))))","v":0}]
[21,751,22,762,24,774,14,784,24,792,0,22,null,null,null,null,null,null,null,{"$f":"N11","v":0},{"$f":"COUNTIF(L7:L8,T11)","v":0},{"$f":"U11/(W4-U8)","v":0},{"$f":"IF(V11=0,0,(V11*((LOG(V11))/LOG(2))))","v":0},null,{"$f":"N11","v":0},{"$f":"COUNTIF(L9:L11,Y11)","v":0},{"$f":"Z11/(AB4-Z8)","v":0},{"$f":"IF(AA11=0,0,(AA11*((LOG(AA11))/LOG(2))))","v":0},null,{"$f":"N11","v":0},{"$f":"COUNTIF(L12:L13,AD11)","v":0},{"$f":"AE11/(AG4-AE8)","v":0},{"$f":"IF(AF11=0,0,(AF11*((LOG(AF11))/LOG(2))))","v":0},null,{"$f":"N11","v":0},{"$f":"COUNTIF(L14:L15,AI11)","v":0},{"$f":"AJ11/(AL4-AJ8)","v":0},{"$f":"IF(AK11=0,0,(AK11*((LOG(AK11))/LOG(2))))","v":0},null,{"$f":"N11","v":0},{"$f":"COUNTIF(L16:L18,AN11)","v":0},{"$f":"AO11/(AQ4-AO8)","v":0},{"$f":"IF(AP11=0,0,(AP11*((LOG(AP11))/LOG(2))))","v":0},null,{"$f":"N11","v":0},{"$f":"COUNTIF(L19:L20,AS11)","v":0},{"$f":"AT11/(AV4-AT8)","v":0},{"$f":"IF(AU11=0,0,(AU11*((LOG(AU11))/LOG(2))))","v":0}]
[21,984,22,998,13,1018,23,1027,13,1043,0,22,null,null,null,null,null,null,null,{"$f":"N12","v":0},{"$f":"COUNTIF(L7:L8,T12)","v":0},{"$f":"U12/(W4-U8)","v":0},{"$f":"IF(V12=0,0,(V12*((LOG(V12))/LOG(2))))","v":0},null,{"$f":"N12","v":0},{"$f":"COUNTIF(L9:L11,Y12)","v":0},{"$f":"Z12/(AB4-Z8)","v":0},{"$f":"IF(AA12=0,0,(AA12*((LOG(AA12))/LOG(2))))","v":0},null,{"$f":"N12","v":0},{"$f":"COUNTIF(L12:L13,AD12)","v":0},{"$f":"AE12/(AG4-AE8)","v":0},{"$f":"IF(AF12=0,0,(AF12*((LOG(AF12))/LOG(2))))","v":0},null,{"$f":"N12","v":0},{"$f":"COUNTIF(L14:L15,AI12)","v":0},{"$f":"AJ12/(AL4-AJ8)","v":0},{"$f":"IF(AK12=0,0,(AK12*((LOG(AK12))/LOG(2))))","v":0},null,{"$f":"N12","v":0},{"$f":"COUNTIF(L16:L18,AN12)","v":0},{"$f":"AO12/(AQ4-AO8)","v":0},{"$f":"IF(AP12=0,0,(AP12*((LOG(AP12))/LOG(2))))","v":0},null,{"$f":"N12","v":0},{"$f":"COUNTIF(L19:L20,AS12)","v":0},{"$f":"AT12/(AV4-AT8)","v":0},{"$f":"IF(AU12=0,0,(AU12*((LOG(AU12))/LOG(2))))","v":0}]
[12,1178,13,1200,24,1210,23,1242,13,1256,0,11,null,null,null,null,null,null,null,{"$f":"N13","v":0},{"$f":"COUNTIF(L7:L8,T13)","v":0},{"$f":"U13/(W4-U8)","v":0},{"$f":"IF(V13=0,0,(V13*((LOG(V13))/LOG(2))))","v":0},null,{"$f":"N13","v":0},{"$f":"COUNTIF(L9:L11,Y13)","v":0},{"$f":"Z13/(AB4-Z8)","v":0},{"$f":"IF(AA13=0,0,(AA13*((LOG(AA13))/LOG(2))))","v":0},null,{"$f":"N13","v":0},{"$f":"COUNTIF(L12:L13,AD13)","v":0},{"$f":"AE13/(AG4-AE8)","v":0},{"$f":"IF(AF13=0,0,(AF13*((LOG(AF13))/LOG(2))))","v":0},null,{"$f":"N13","v":0},{"$f":"COUNTIF(L14:L15,AI13)","v":0},{"$f":"AJ13/(AL4-AJ8)","v":0},{"$f":"IF(AK13=0,0,(AK13*((LOG(AK13))/LOG(2))))","v":0},null,{"$f":"N13","v":0},{"$f":"COUNTIF(L16:L18,AN13)","v":0},{"$f":"AO13/(AQ4-AO8)","v":0},{"$f":"IF(AP13=0,0,(AP13*((LOG(AP13))/LOG(2))))","v":0},null,{"$f":"N13","v":0},{"$f":"COUNTIF(L19:L20,AS13)","v":0},{"$f":"AT13/(AV4-AT8)","v":0},{"$f":"IF(AU13=0,0,(AU13*((LOG(AU13))/LOG(2))))","v":0}]
[12,1674,13,1687,13,1700,14,1711,13,1727,0,11,null,null,null,null,null,null,null,{"$f":"N14","v":0},{"$f":"COUNTIF(L7:L8,T14)","v":0},{"$f":"U14/(W4-U8)","v":0},{"$f":"IF(V14=0,0,(V14*((LOG(V14))/LOG(2))))","v":0},null,{"$f":"N14","v":0},{"$f":"COUNTIF(L9:L11,Y14)","v":0},{"$f":"Z14/(AB4-Z8)","v":0},{"$f":"IF(AA14=0,0,(AA14*((LOG(AA14))/LOG(2))))","v":0},null,{"$f":"N14","v":0},{"$f":"COUNTIF(L12:L13,AD14)","v":0},{"$f":"AE14/(AG4-AE8)","v":0},{"$f":"IF(AF14=0,0,(AF14*((LOG(AF14))/LOG(2))))","v":0},null,{"$f":"N14","v":0},{"$f":"COUNTIF(L14:L15,AI14)","v":0},{"$f":"AJ14/(AL4-AJ8)","v":0},{"$f":"IF(AK14=0,0,(AK14*((LOG(AK14))/LOG(2))))","v":0},null,{"$f":"N14","v":0},{"$f":"COUNTIF(L16:L18,AN14)","v":0},{"$f":"AO14/(AQ4-AO8)","v":0},{"$f":"IF(AP14=0,0,(AP14*((LOG(AP14))/LOG(2))))","v":0},null,{"$f":"N14","v":0},{"$f":"COUNTIF(L19:L20,AS14)","v":0},{"$f":"AT14/(AV4-AT8)","v":0},{"$f":"IF(AU14=0,0,(AU14*((LOG(AU14))/LOG(2))))","v":0}]
[12,1866,13,1885,13,1897,14,1921,13,1933,0,11,null,null,null,{"$f":"SUM(P7:P14)","v":0.99999999999999989},{"$f":"-SUM(Q7:Q14)","v":1.3787834934861753},null,null,null,null,{"$f":"SUM(V7:V14)","v":1},{"$f":"-SUM(W7:W14)","v":0},null,null,null,{"$f":"SUM(AA7:AA14)","v":1},{"$f":"-SUM(AB7:AB14)","v":0},null,null,null,{"$f":"SUM(AF7:AF14)","v":1},{"$f":"-SUM(AG7:AG14)","v":1},null,null,null,{"$f":"SUM(AK7:AK14)","v":1},{"$f":"-SUM(AL7:AL14)","v":0},null,null,null,{"$f":"SUM(AP7:AP14)","v":1},{"$f":"-SUM(AQ7:AQ14)","v":0},null,null,null,{"$f":"SUM(AU7:AU14)","v":1},{"$f":"-SUM(AV7:AV14)","v":0}]
[12,2188,13,2204,13,2217,14,2231,13,2244,0,11,null,null,null,"U=",{"$f":"Q15/(LOG(Q4)/LOG(2))","v":0.36213684348110137},null,null,null,null,"U1=",{"$f":"W15/(LOG(W4)/LOG(2))","v":0},null,null,null,"U2=",{"$f":"AB15/(LOG(AB4)/LOG(2))","v":0},null,null,null,"U3=",{"$f":"AG15/(LOG(AG4)/LOG(2))","v":1},null,null,null,"U4=",{"$f":"AL15/(LOG(AL4)/LOG(2))","v":0},null,null,null,"U5=",{"$f":"AQ15/(LOG(AQ4)/LOG(2))","v":0},null,null,null,"U6=",{"$f":"AV15/(LOG(AV4)/LOG(2))","v":0}]
[12,2906,13,2921,13,2932,14,2944,13,2958,0,11]
[12,3293,13,5037,13,5048,14,5060,13,5071,0,11]
[12,5574,13,5585,13,5596,14,6393,13,11124,0,11,null,"Total Target Seq"]
[12,12332,13,12345,13,12358,14,12424,null,null,null,11,null,{"$f":"COUNTIF(L7:L20,G3)","v":2},null,2,3,2,2,3,2]
[null,null,null,null,null,null,null,null,null,null,null,null,null,null,null,"% of reinforcement given in 6 equal intervals based on number of trials "]
[null,null,null,null,null,null,null,null,null,null,null,null,null,null,null,"%_1","%_2","%_3","%_4","%_5","%_6"]
[null,null,null,null,null,null,null,null,null,null,null,null,null,null,"target sequence",{"$f":"$G$3","v":12},{"$f":"$G$3","v":12},{"$f":"$G$3","v":12},{"$f":"$G$3","v":12},{"$f":"$G$3","v":12},{"$f":"$G$3","v":12}]
[null,null,null,null,null,null,null,null,null,null,null,null,null,null,"total reinforcement",{"$f":"U8","v":0},{"$f":"Z8","v":2},{"$f":"AE8","v":0},{"$f":"AJ8","v":0},{"$f":"AO8","v":0},{"$f":"AT8","v":0}]
[null,null,null,null,null,null,null,null,null,null,null,null,null,null,"% target"]
[null,null,null,null,null,null,null,null,null,null,null,null,null,null,"CCRF"]
[null,null,null,null,null,null,null,null,null,null,null,null,null,null,"% CCRf"]
[null,null,null,null,null,null,null,null,null,null,null,null,null,null,"average response rate",{"$f":"D8/P20","v":109},{"$f":"(D11-D8)/Q20","v":181.33333333333334},{"$f":"(D13-D11)/R20","v":219},{"$f":"(D15-D13)/S20","v":342.5},{"$f":"(D18-D15)/T20","v":1050.6666666666667},{"$f":"(D20-D18)/U20","v":3654}]

{"sheet":"!N124950.105","index":57,"n_rows":28,"n_cols":48,"rows_kept":28,"cut":false,"hidden":false,"merged":[[4,39,4,42],[5,39,5,40],[4,44,4,47],[5,44,5,45],[4,24,4,27],[5,24,5,25],[4,29,4,32],[5,29,5,30],[4,34,4,37],[5,34,5,35],[1,1,1,2],[5,13,5,14],[18,13,18,14],[19,13,19,14],[4,19,4,22],[5,19,5,20]]}
["Report for:!N124950.105"]
["Date:","<date>"]
["Hen:","<hen>",null,null,null,"Correct Sequence",{"$f":"Start!J2","v":12},null,null,null,null,null,null,null,null,"Total Sequences in Data",{"$f":"4994-COUNTBLANK(L7:L5000)","v":6},null,null,null,null,"Total Sequences in Block Data",{"$f":"COUNTA(L7:L7)","v":1},null,null,null,"Total Sequences in Block Data",{"$f":"COUNTA(L8:L8)","v":1},null,null,null,"Total Sequences in Block Data",{"$f":"COUNTA(L9:L9)","v":1},null,null,null,"Total Sequences in Block Data",{"$f":"COUNTA(L10:L10)","v":1},null,null,null,"Total Sequences in Block Data",{"$f":"COUNTA(L11:L11)","v":1},null,null,null,"Total Sequences in Block Data",{"$f":"COUNTA(L12:L12)","v":1}]
[null,null,null,null,null,null,null,null,null,null,null,null,null,null,null,"Total Sequences in Summary",{"$f":"SUM(O7:O14)","v":6},null,null,null,null,"Total Sequences in Block Summary",{"$f":"SUM(U7:U14)","v":1},null,null,null,"Total Sequences in Block Summary",{"$f":"SUM(Z7:Z14)","v":1},null,null,null,"Total Sequences in Block Summary",{"$f":"SUM(AE7:AE14)","v":1},null,null,null,"Total Sequences in Block Summary",{"$f":"SUM(AJ7:AJ14)","v":1},null,null,null,"Total Sequences in Block Summary",{"$f":"SUM(AO7:AO14)","v":1},null,null,null,"Total Sequences in Block Summary",{"$f":"SUM(AT7:AT14)","v":1}]
[null,null,null,null,null,null,null,null,null,null,null,null,null,null,null,null,null,null,null,"Block 1",null,null,null,null,"Block 2",null,null,null,null,"Block 3",null,null,null,null,"Block 4",null,null,null,null,"Block 5",null,null,null,null,"Block 6"]
["Sequence\nComponent\n1","Time\n1","Sequence\nComponent\n2","Time\n2","Sequence\nComponent\n3","Time\n3","Sequence\nComponent\n4","Time\n4","Sequence\nComponent\n5","Time\n5","Correct?\n0=No 1=Yes","Sequence",null,"Frequency",null,"Relative Frequency","Variability",null,null,"Frequency",null,"Relative Frequency","Variability",null,"Frequency",null,"Relative Frequency","Variability",null,"Frequency",null,"Relative Frequency","Variability",null,"Frequency",null,"Relative Frequency","Variability",null,"Frequency",null,"Relative Frequency","Variability",null,"Frequency",null,"Relative Frequency","Variability"]
[21,33,22,42,24,55,23,77,13,94,0,22,null,11,{"$f":"COUNTIF($L$7:$L$500,N7)","v":2},{"$f":"O7/$Q$4","v":0.33333333333333331},{"$f":"IF(P7=0,0,(P7*((LOG(P7))/LOG(2))))","v":-0.52832083357371862},null,null,{"$f":"N7","v":11},{"$f":"COUNTIF(L7:L7,T7)","v":0},{"$f":"U7/(W4-U8)","v":0},{"$f":"IF(V7=0,0,(V7*((LOG(V7))/LOG(2))))","v":0},null,{"$f":"N7","v":11},{"$f":"COUNTIF(L8:L8,Y7)","v":0},{"$f":"Z7/(AB4-Z8)","v":0},{"$f":"IF(AA7=0,0,(AA7*((LOG(AA7))/LOG(2))))","v":0},null,{"$f":"N7","v":11},{"$f":"COUNTIF(L9:L9,AD7)","v":0},{"$f":"AE7/(AG4-AE8)","v":0},{"$f":"IF(AF7=0,0,(AF7*((LOG(AF7))/LOG(2))))","v":0},null,{"$f":"N7","v":11},{"$f":"COUNTIF(L10:L10,AI7)","v":0},{"$f":"AJ7/(AL4-AJ8)","v":{"$error":"#DIV/0!"}},{"$f":"IF(AK7=0,0,(AK7*((LOG(AK7))/LOG(2))))","v":{"$error":"#DIV/0!"}},null,{"$f":"N7","v":11},{"$f":"COUNTIF(L11:L11,AN7)","v":1},{"$f":"AO7/(AQ4-AO8)","v":1},{"$f":"IF(AP7=0,0,(AP7*((LOG(AP7))/LOG(2))))","v":0},null,{"$f":"N7","v":11},{"$f":"COUNTIF(L12:L12,AS7)","v":1},{"$f":"AT7/(AV4-AT8)","v":1},{"$f":"IF(AU7=0,0,(AU7*((LOG(AU7))/LOG(2))))","v":0}]
[21,246,22,258,13,292,23,305,13,347,0,22,null,12,{"$f":"COUNTIF($L$7:$L$500,N8)","v":1},{"$f":"O8/$Q$4","v":0.16666666666666666},{"$f":"IF(P8=0,0,(P8*((LOG(P8))/LOG(2))))","v":-0.43082708345352599},null,null,{"$f":"N8","v":12},{"$f":"COUNTIF(L7:L7,T8)","v":0},null,null,null,{"$f":"N8","v":12},{"$f":"COUNTIF(L8:L8,Y8)","v":0},null,null,null,{"$f":"N8","v":12},{"$f":"COUNTIF(L9:L9,AD8)","v":0},null,null,null,{"$f":"N8","v":12},{"$f":"COUNTIF(L10:L10,AI8)","v":1},null,null,null,{"$f":"N8","v":12},{"$f":"COUNTIF(L11:L11,AN8)","v":0},null,null,null,{"$f":"N8","v":12},{"$f":"COUNTIF(L12:L12,AS8)","v":0}]
[21,529,22,543,24,555,23,571,13,588,0,22,null,21,{"$f":"COUNTIF($L$7:$L$500,N9)","v":0},{"$f":"O9/$Q$4","v":0},{"$f":"IF(P9=0,0,(P9*((LOG(P9))/LOG(2))))","v":0},null,null,{"$f":"N9","v":21},{"$f":"COUNTIF(L7:L7,T9)","v":0},{"$f":"U9/(W4-U8)","v":0},{"$f":"IF(V9=0,0,(V9*((LOG(V9))/LOG(2))))","v":0},null,{"$f":"N9","v":21},{"$f":"COUNTIF(L8:L8,Y9)","v":0},{"$f":"Z9/(AB4-Z8)","v":0},{"$f":"IF(AA9=0,0,(AA9*((LOG(AA9))/LOG(2))))","v":0},null,{"$f":"N9","v":21},{"$f":"COUNTIF(L9:L9,AD9)","v":0},{"$f":"AE9/(AG4-AE8)","v":0},{"$f":"IF(AF9=0,0,(AF9*((LOG(AF9))/LOG(2))))","v":0},null,{"$f":"N9","v":21},{"$f":"COUNTIF(L10:L10,AI9)","v":0},{"$f":"AJ9/(AL4-AJ8)","v":{"$error":"#DIV/0!"}},{"$f":"IF(AK9=0,0,(AK9*((LOG(AK9))/LOG(2))))","v":{"$error":"#DIV/0!"}},null,{"$f":"N9","v":21},{"$f":"COUNTIF(L11:L11,AN9)","v":0},{"$f":"AO9/(AQ4-AO8)","v":0},{"$f":"IF(AP9=0,0,(AP9*((LOG(AP9))/LOG(2))))","v":0},null,{"$f":"N9","v":21},{"$f":"COUNTIF(L12:L12,AS9)","v":0},{"$f":"AT9/(AV4-AT8)","v":0},{"$f":"IF(AU9=0,0,(AU9*((LOG(AU9))/LOG(2))))","v":0}]
[12,738,24,767,24,787,23,798,13,810,0,12,null,22,{"$f":"COUNTIF($L$7:$L$500,N10)","v":3},{"$f":"O10/$Q$4","v":0.5},{"$f":"IF(P10=0,0,(P10*((LOG(P10))/LOG(2))))","v":-0.5},null,null,{"$f":"N10","v":22},{"$f":"COUNTIF(L7:L7,T10)","v":1},{"$f":"U10/(W4-U8)","v":1},{"$f":"IF(V10=0,0,(V10*((LOG(V10))/LOG(2))))","v":0},null,{"$f":"N10","v":22},{"$f":"COUNTIF(L8:L8,Y10)","v":1},{"$f":"Z10/(AB4-Z8)","v":1},{"$f":"IF(AA10=0,0,(AA10*((LOG(AA10))/LOG(2))))","v":0},null,{"$f":"N10","v":22},{"$f":"COUNTIF(L9:L9,AD10)","v":1},{"$f":"AE10/(AG4-AE8)","v":1},{"$f":"IF(AF10=0,0,(AF10*((LOG(AF10))/LOG(2))))","v":0},null,{"$f":"N10","v":22},{"$f":"COUNTIF(L10:L10,AI10)","v":0},{"$f":"AJ10/(AL4-AJ8)","v":{"$error":"#DIV/0!"}},{"$f":"IF(AK10=0,0,(AK10*((LOG(AK10))/LOG(2))))","v":{"$error":"#DIV/0!"}},null,{"$f":"N10","v":22},{"$f":"COUNTIF(L11:L11,AN10)","v":0},{"$f":"AO10/(AQ4-AO8)","v":0},{"$f":"IF(AP10=0,0,(AP10*((LOG(AP10))/LOG(2))))","v":0},null,{"$f":"N10","v":22},{"$f":"COUNTIF(L12:L12,AS10)","v":0},{"$f":"AT10/(AV4-AT8)","v":0},{"$f":"IF(AU10=0,0,(AU10*((LOG(AU10))/LOG(2))))","v":0}]
[12,14703,13,14718,13,14732,14,14745,13,14757,0,11,null,null,null,null,null,null,null,{"$f":"N11","v":0},{"$f":"COUNTIF(L7:L7,T11)","v":0},{"$f":"U11/(W4-U8)","v":0},{"$f":"IF(V11=0,0,(V11*((LOG(V11))/LOG(2))))","v":0},null,{"$f":"N11","v":0},{"$f":"COUNTIF(L8:L8,Y11)","v":0},{"$f":"Z11/(AB4-Z8)","v":0},{"$f":"IF(AA11=0,0,(AA11*((LOG(AA11))/LOG(2))))","v":0},null,{"$f":"N11","v":0},{"$f":"COUNTIF(L9:L9,AD11)","v":0},{"$f":"AE11/(AG4-AE8)","v":0},{"$f":"IF(AF11=0,0,(AF11*((LOG(AF11))/LOG(2))))","v":0},null,{"$f":"N11","v":0},{"$f":"COUNTIF(L10:L10,AI11)","v":0},{"$f":"AJ11/(AL4-AJ8)","v":{"$error":"#DIV/0!"}},{"$f":"IF(AK11=0,0,(AK11*((LOG(AK11))/LOG(2))))","v":{"$error":"#DIV/0!"}},null,{"$f":"N11","v":0},{"$f":"COUNTIF(L11:L11,AN11)","v":0},{"$f":"AO11/(AQ4-AO8)","v":0},{"$f":"IF(AP11=0,0,(AP11*((LOG(AP11))/LOG(2))))","v":0},null,{"$f":"N11","v":0},{"$f":"COUNTIF(L12:L12,AS11)","v":0},{"$f":"AT11/(AV4-AT8)","v":0},{"$f":"IF(AU11=0,0,(AU11*((LOG(AU11))/LOG(2))))","v":0}]
[12,14938,13,14952,13,14965,14,14995,24,15033,0,11,null,null,null,null,null,null,null,{"$f":"N12","v":0},{"$f":"COUNTIF(L7:L7,T12)","v":0},{"$f":"U12/(W4-U8)","v":0},{"$f":"IF(V12=0,0,(V12*((LOG(V12))/LOG(2))))","v":0},null,{"$f":"N12","v":0},{"$f":"COUNTIF(L8:L8,Y12)","v":0},{"$f":"Z12/(AB4-Z8)","v":0},{"$f":"IF(AA12=0,0,(AA12*((LOG(AA12))/LOG(2))))","v":0},null,{"$f":"N12","v":0},{"$f":"COUNTIF(L9:L9,AD12)","v":0},{"$f":"AE12/(AG4-AE8)","v":0},{"$f":"IF(AF12=0,0,(AF12*((LOG(AF12))/LOG(2))))","v":0},null,{"$f":"N12","v":0},{"$f":"COUNTIF(L10:L10,AI12)","v":0},{"$f":"AJ12/(AL4-AJ8)","v":{"$error":"#DIV/0!"}},{"$f":"IF(AK12=0,0,(AK12*((LOG(AK12))/LOG(2))))","v":{"$error":"#DIV/0!"}},null,{"$f":"N12","v":0},{"$f":"COUNTIF(L11:L11,AN12)","v":0},{"$f":"AO12/(AQ4-AO8)","v":0},{"$f":"IF(AP12=0,0,(AP12*((LOG(AP12))/LOG(2))))","v":0},null,{"$f":"N12","v":0},{"$f":"COUNTIF(L12:L12,AS12)","v":0},{"$f":"AT12/(AV4-AT8)","v":0},{"$f":"IF(AU12=0,0,(AU12*((LOG(AU12))/LOG(2))))","v":0}]
[null,null,null,null,null,null,null,null,null,null,null,null,null,null,null,null,null,null,null,{"$f":"N13","v":0},{"$f":"COUNTIF(L7:L7,T13)","v":0},{"$f":"U13/(W4-U8)","v":0},{"$f":"IF(V13=0,0,(V13*((LOG(V13))/LOG(2))))","v":0},null,{"$f":"N13","v":0},{"$f":"COUNTIF(L8:L8,Y13)","v":0},{"$f":"Z13/(AB4-Z8)","v":0},{"$f":"IF(AA13=0,0,(AA13*((LOG(AA13))/LOG(2))))","v":0},null,{"$f":"N13","v":0},{"$f":"COUNTIF(L9:L9,AD13)","v":0},{"$f":"AE13/(AG4-AE8)","v":0},{"$f":"IF(AF13=0,0,(AF13*((LOG(AF13))/LOG(2))))","v":0},null,{"$f":"N13","v":0},{"$f":"COUNTIF(L10:L10,AI13)","v":0},{"$f":"AJ13/(AL4-AJ8)","v":{"$error":"#DIV/0!"}},{"$f":"IF(AK13=0,0,(AK13*((LOG(AK13))/LOG(2))))","v":{"$error":"#DIV/0!"}},null,{"$f":"N13","v":0},{"$f":"COUNTIF(L11:L11,AN13)","v":0},{"$f":"AO13/(AQ4-AO8)","v":0},{"$f":"IF(AP13=0,0,(AP13*((LOG(AP13))/LOG(2))))","v":0},null,{"$f":"N13","v":0},{"$f":"COUNTIF(L12:L12,AS13)","v":0},{"$f":"AT13/(AV4-AT8)","v":0},{"$f":"IF(AU13=0,0,(AU13*((LOG(AU13))/LOG(2))))","v":0}]
[null,null,null,null,null,null,null,null,null,null,null,null,null,null,null,null,null,null,null,{"$f":"N14","v":0},{"$f":"COUNTIF(L7:L7,T14)","v":0},{"$f":"U14/(W4-U8)","v":0},{"$f":"IF(V14=0,0,(V14*((LOG(V14))/LOG(2))))","v":0},null,{"$f":"N14","v":0},{"$f":"COUNTIF(L8:L8,Y14)","v":0},{"$f":"Z14/(AB4-Z8)","v":0},{"$f":"IF(AA14=0,0,(AA14*((LOG(AA14))/LOG(2))))","v":0},null,{"$f":"N14","v":0},{"$f":"COUNTIF(L9:L9,AD14)","v":0},{"$f":"AE14/(AG4-AE8)","v":0},{"$f":"IF(AF14=0,0,(AF14*((LOG(AF14))/LOG(2))))","v":0},null,{"$f":"N14","v":0},{"$f":"COUNTIF(L10:L10,AI14)","v":0},{"$f":"AJ14/(AL4-AJ8)","v":{"$error":"#DIV/0!"}},{"$f":"IF(AK14=0,0,(AK14*((LOG(AK14))/LOG(2))))","v":{"$error":"#DIV/0!"}},null,{"$f":"N14","v":0},{"$f":"COUNTIF(L11:L11,AN14)","v":0},{"$f":"AO14/(AQ4-AO8)","v":0},{"$f":"IF(AP14=0,0,(AP14*((LOG(AP14))/LOG(2))))","v":0},null,{"$f":"N14","v":0},{"$f":"COUNTIF(L12:L12,AS14)","v":0},{"$f":"AT14/(AV4-AT8)","v":0},{"$f":"IF(AU14=0,0,(AU14*((LOG(AU14))/LOG(2))))","v":0}]
[null,null,null,null,null,null,null,null,null,null,null,null,null,null,null,{"$f":"SUM(P7:P14)","v":1},{"$f":"-SUM(Q7:Q14)","v":1.4591479170272446},null,null,null,null,{"$f":"SUM(V7:V14)","v":1},{"$f":"-SUM(W7:W14)","v":0},null,null,null,{"$f":"SUM(AA7:AA14)","v":1},{"$f":"-SUM(AB7:AB14)","v":0},null,null,null,{"$f":"SUM(AF7:AF14)","v":1},{"$f":"-SUM(AG7:AG14)","v":0},null,null,null,{"$f":"SUM(AK7:AK14)","v":{"$error":"#DIV/0!"}},{"$f":"-SUM(AL7:AL14)","v":{"$error":"#DIV/0!"}},null,null,null,{"$f":"SUM(AP7:AP14)","v":1},{"$f":"-SUM(AQ7:AQ14)","v":0},null,null,null,{"$f":"SUM(AU7:AU14)","v":1},{"$f":"-SUM(AV7:AV14)","v":0}]
[null,null,null,null,null,null,null,null,null,null,null,null,null,null,null,"U=",{"$f":"Q15/(LOG(Q4)/LOG(2))","v":0.56447546787242353},null,null,null,null,"U1=",{"$f":"W15/(LOG(W4)/LOG(2))","v":{"$error":"#DIV/0!"}},null,null,null,"U2=",{"$f":"AB15/(LOG(AB4)/LOG(2))","v":{"$error":"#DIV/0!"}},null,null,null,"U3=",{"$f":"AG15/(LOG(AG4)/LOG(2))","v":{"$error":"#DIV/0!"}},null,null,null,"U4=",{"$f":"AL15/(LOG(AL4)/LOG(2))","v":{"$error":"#DIV/0!"}},null,null,null,"U5=",{"$f":"AQ15/(LOG(AQ4)/LOG(2))","v":{"$error":"#DIV/0!"}},null,null,null,"U6=",{"$f":"AV15/(LOG(AV4)/LOG(2))","v":{"$error":"#DIV/0!"}}]
[]
[]
[null,null,null,null,null,null,null,null,null,null,null,null,null,"Total Target Seq"]
[null,null,null,null,null,null,null,null,null,null,null,null,null,{"$f":"COUNTIF(L7:L12,G3)","v":1},null,1,1,1,1,1,1]
[null,null,null,null,null,null,null,null,null,null,null,null,null,null,null,"% of reinforcement given in 6 equal intervals based on number of trials "]
[null,null,null,null,null,null,null,null,null,null,null,null,null,null,null,"%_1","%_2","%_3","%_4","%_5","%_6"]
[null,null,null,null,null,null,null,null,null,null,null,null,null,null,"target sequence",{"$f":"$G$3","v":12},{"$f":"$G$3","v":12},{"$f":"$G$3","v":12},{"$f":"$G$3","v":12},{"$f":"$G$3","v":12},{"$f":"$G$3","v":12}]
[null,null,null,null,null,null,null,null,null,null,null,null,null,null,"total reinforcement",{"$f":"U8","v":0},{"$f":"Z8","v":0},{"$f":"AE8","v":0},{"$f":"AJ8","v":1},{"$f":"AO8","v":0},{"$f":"AT8","v":0}]
[null,null,null,null,null,null,null,null,null,null,null,null,null,null,"% target"]
[null,null,null,null,null,null,null,null,null,null,null,null,null,null,"CCRF"]
[null,null,null,null,null,null,null,null,null,null,null,null,null,null,"% CCRf"]
[null,null,null,null,null,null,null,null,null,null,null,null,null,null,"average response rate",{"$f":"D7/P20","v":42},{"$f":"(D8-D7)/Q20","v":216},{"$f":"(D9-D8)/R20","v":285},{"$f":"(D10-D9)/S20","v":224},{"$f":"(D11-D10)/T20","v":13951},{"$f":"(D12-D11)/U20","v":234}]

{"sheet":"!N125A20.105","index":58,"n_rows":28,"n_cols":48,"rows_kept":28,"cut":false,"hidden":false,"merged":[[4,39,4,42],[5,39,5,40],[4,44,4,47],[5,44,5,45],[4,24,4,27],[5,24,5,25],[4,29,4,32],[5,29,5,30],[4,34,4,37],[5,34,5,35],[1,1,1,2],[5,13,5,14],[18,13,18,14],[19,13,19,14],[4,19,4,22],[5,19,5,20]]}
["Report for:!N125A20.105"]
["Date:","<date>"]
["Hen:","<hen>",null,null,null,"Correct Sequence",{"$f":"Start!J2","v":12},null,null,null,null,null,null,null,null,"Total Sequences in Data",{"$f":"4994-COUNTBLANK(L7:L5000)","v":18},null,null,null,null,"Total Sequences in Block Data",{"$f":"COUNTA(L7:L9)","v":3},null,null,null,"Total Sequences in Block Data",{"$f":"COUNTA(L10:L12)","v":3},null,null,null,"Total Sequences in Block Data",{"$f":"COUNTA(L13:L15)","v":3},null,null,null,"Total Sequences in Block Data",{"$f":"COUNTA(L16:L18)","v":3},null,null,null,"Total Sequences in Block Data",{"$f":"COUNTA(L19:L21)","v":3},null,null,null,"Total Sequences in Block Data",{"$f":"COUNTA(L22:L24)","v":3}]
[null,null,null,null,null,null,null,null,null,null,null,null,null,null,null,"Total Sequences in Summary",{"$f":"SUM(O7:O14)","v":18},null,null,null,null,"Total Sequences in Block Summary",{"$f":"SUM(U7:U14)","v":3},null,null,null,"Total Sequences in Block Summary",{"$f":"SUM(Z7:Z14)","v":3},null,null,null,"Total Sequences in Block Summary",{"$f":"SUM(AE7:AE14)","v":3},null,null,null,"Total Sequences in Block Summary",{"$f":"SUM(AJ7:AJ14)","v":3},null,null,null,"Total Sequences in Block Summary",{"$f":"SUM(AO7:AO14)","v":3},null,null,null,"Total Sequences in Block Summary",{"$f":"SUM(AT7:AT14)","v":3}]
[null,null,null,null,null,null,null,null,null,null,null,null,null,null,null,null,null,null,null,"Block 1",null,null,null,null,"Block 2",null,null,null,null,"Block 3",null,null,null,null,"Block 4",null,null,null,null,"Block 5",null,null,null,null,"Block 6"]
["Sequence\nComponent\n1","Time\n1","Sequence\nComponent\n2","Time\n2","Sequence\nComponent\n3","Time\n3","Sequence\nComponent\n4","Time\n4","Sequence\nComponent\n5","Time\n5","Correct?\n0=No 1=Yes","Sequence",null,"Frequency",null,"Relative Frequency","Variability",null,null,"Frequency",null,"Relative Frequency","Variability",null,"Frequency",null,"Relative Frequency","Variability",null,"Frequency",null,"Relative Frequency","Variability",null,"Frequency",null,"Relative Frequency","Variability",null,"Frequency",null,"Relative Frequency","Variability",null,"Frequency",null,"Relative Frequency","Variability"]
[21,14,11,32,22,42,23,55,24,69,0,21,null,11,{"$f":"COUNTIF($L$7:$L$500,N7)","v":1},{"$f":"O7/$Q$4","v":5.5555555555555552E-2},{"$f":"IF(P7=0,0,(P7*((LOG(P7))/LOG(2))))","v":-0.23166250008012845},null,null,{"$f":"N7","v":11},{"$f":"COUNTIF(L7:L9,T7)","v":0},{"$f":"U7/(W4-U8)","v":0},{"$f":"IF(V7=0,0,(V7*((LOG(V7))/LOG(2))))","v":0},null,{"$f":"N7","v":11},{"$f":"COUNTIF(L10:L12,Y7)","v":0},{"$f":"Z7/(AB4-Z8)","v":0},{"$f":"IF(AA7=0,0,(AA7*((LOG(AA7))/LOG(2))))","v":0},null,{"$f":"N7","v":11},{"$f":"COUNTIF(L13:L15,AD7)","v":0},{"$f":"AE7/(AG4-AE8)","v":0},{"$f":"IF(AF7=0,0,(AF7*((LOG(AF7))/LOG(2))))","v":0},null,{"$f":"N7","v":11},{"$f":"COUNTIF(L16:L18,AI7)","v":0},{"$f":"AJ7/(AL4-AJ8)","v":0},{"$f":"IF(AK7=0,0,(AK7*((LOG(AK7))/LOG(2))))","v":0},null,{"$f":"N7","v":11},{"$f":"COUNTIF(L19:L21,AN7)","v":0},{"$f":"AO7/(AQ4-AO8)","v":0},{"$f":"IF(AP7=0,0,(AP7*((LOG(AP7))/LOG(2))))","v":0},null,{"$f":"N7","v":11},{"$f":"COUNTIF(L22:L24,AS7)","v":1},{"$f":"AT7/(AV4-AT8)","v":1},{"$f":"IF(AU7=0,0,(AU7*((LOG(AU7))/LOG(2))))","v":0}]
[21,207,22,241,24,254,23,267,24,280,0,22,null,12,{"$f":"COUNTIF($L$7:$L$500,N8)","v":7},{"$f":"O8/$Q$4","v":0.3888888888888889},{"$f":"IF(P8=0,0,(P8*((LOG(P8))/LOG(2))))","v":-0.52988836420516428},null,null,{"$f":"N8","v":12},{"$f":"COUNTIF(L7:L9,T8)","v":0},null,null,null,{"$f":"N8","v":12},{"$f":"COUNTIF(L10:L12,Y8)","v":1},null,null,null,{"$f":"N8","v":12},{"$f":"COUNTIF(L13:L15,AD8)","v":2},null,null,null,{"$f":"N8","v":12},{"$f":"COUNTIF(L16:L18,AI8)","v":1},null,null,null,{"$f":"N8","v":12},{"$f":"COUNTIF(L19:L21,AN8)","v":1},null,null,null,{"$f":"N8","v":12},{"$f":"COUNTIF(L22:L24,AS8)","v":2}]
[21,418,11,430,22,440,14,456,24,467,0,21,null,21,{"$f":"COUNTIF($L$7:$L$500,N9)","v":4},{"$f":"O9/$Q$4","v":0.22222222222222221},{"$f":"IF(P9=0,0,(P9*((LOG(P9))/LOG(2))))","v":-0.48220555587606945},null,null,{"$f":"N9","v":21},{"$f":"COUNTIF(L7:L9,T9)","v":2},{"$f":"U9/(W4-U8)","v":0.66666666666666663},{"$f":"IF(V9=0,0,(V9*((LOG(V9))/LOG(2))))","v":-0.38997500048077083},null,{"$f":"N9","v":21},{"$f":"COUNTIF(L10:L12,Y9)","v":1},{"$f":"Z9/(AB4-Z8)","v":0.5},{"$f":"IF(AA9=0,0,(AA9*((LOG(AA9))/LOG(2))))","v":-0.5},null,{"$f":"N9","v":21},{"$f":"COUNTIF(L13:L15,AD9)","v":0},{"$f":"AE9/(AG4-AE8)","v":0},{"$f":"IF(AF9=0,0,(AF9*((LOG(AF9))/LOG(2))))","v":0},null,{"$f":"N9","v":21},{"$f":"COUNTIF(L16:L18,AI9)","v":1},{"$f":"AJ9/(AL4-AJ8)","v":0.5},{"$f":"IF(AK9=0,0,(AK9*((LOG(AK9))/LOG(2))))","v":-0.5},null,{"$f":"N9","v":21},{"$f":"COUNTIF(L19:L21,AN9)","v":0},{"$f":"AO9/(AQ4-AO8)","v":0},{"$f":"IF(AP9=0,0,(AP9*((LOG(AP9))/LOG(2))))","v":0},null,{"$f":"N9","v":21},{"$f":"COUNTIF(L22:L24,AS9)","v":0},{"$f":"AT9/(AV4-AT8)","v":0},{"$f":"IF(AU9=0,0,(AU9*((LOG(AU9))/LOG(2))))","v":0}]
[21,611,11,623,22,634,23,672,24,688,0,21,null,22,{"$f":"COUNTIF($L$7:$L$500,N10)","v":6},{"$f":"O10/$Q$4","v":0.33333333333333331},{"$f":"IF(P10=0,0,(P10*((LOG(P10))/LOG(2))))","v":-0.52832083357371862},null,null,{"$f":"N10","v":22},{"$f":"COUNTIF(L7:L9,T10)","v":1},{"$f":"U10/(W4-U8)","v":0.33333333333333331},{"$f":"IF(V10=0,0,(V10*((LOG(V10))/LOG(2))))","v":-0.52832083357371862},null,{"$f":"N10","v":22},{"$f":"COUNTIF(L10:L12,Y10)","v":1},{"$f":"Z10/(AB4-Z8)","v":0.5},{"$f":"IF(AA10=0,0,(AA10*((LOG(AA10))/LOG(2))))","v":-0.5},null,{"$f":"N10","v":22},{"$f":"COUNTIF(L13:L15,AD10)","v":1},{"$f":"AE10/(AG4-AE8)","v":1},{"$f":"IF(AF10=0,0,(AF10*((LOG(AF10))/LOG(2))))","v":0},null,{"$f":"N10","v":22},{"$f":"COUNTIF(L16:L18,AI10)","v":1},{"$f":"AJ10/(AL4-AJ8)","v":0.5},{"$f":"IF(AK10=0,0,(AK10*((LOG(AK10))/LOG(2))))","v":-0.5},null,{"$f":"N10","v":22},{"$f":"COUNTIF(L19:L21,AN10)","v":2},{"$f":"AO10/(AQ4-AO8)","v":1},{"$f":"IF(AP10=0,0,(AP10*((LOG(AP10))/LOG(2))))","v":0},null,{"$f":"N10","v":22},{"$f":"COUNTIF(L22:L24,AS10)","v":0},{"$f":"AT10/(AV4-AT8)","v":0},{"$f":"IF(AU10=0,0,(AU10*((LOG(AU10))/LOG(2))))","v":0}]
[12,810,24,821,24,842,23,853,24,864,0,12,null,null,null,null,null,null,null,{"$f":"N11","v":0},{"$f":"COUNTIF(L7:L9,T11)","v":0},{"$f":"U11/(W4-U8)","v":0},{"$f":"IF(V11=0,0,(V11*((LOG(V11))/LOG(2))))","v":0},null,{"$f":"N11","v":0},{"$f":"COUNTIF(L10:L12,Y11)","v":0},{"$f":"Z11/(AB4-Z8)","v":0},{"$f":"IF(AA11=0,0,(AA11*((LOG(AA11))/LOG(2))))","v":0},null,{"$f":"N11","v":0},{"$f":"COUNTIF(L13:L15,AD11)","v":0},{"$f":"AE11/(AG4-AE8)","v":0},{"$f":"IF(AF11=0,0,(AF11*((LOG(AF11))/LOG(2))))","v":0},null,{"$f":"N11","v":0},{"$f":"COUNTIF(L16:L18,AI11)","v":0},{"$f":"AJ11/(AL4-AJ8)","v":0},{"$f":"IF(AK11=0,0,(AK11*((LOG(AK11))/LOG(2))))","v":0},null,{"$f":"N11","v":0},{"$f":"COUNTIF(L19:L21,AN11)","v":0},{"$f":"AO11/(AQ4-AO8)","v":0},{"$f":"IF(AP11=0,0,(AP11*((LOG(AP11))/LOG(2))))","v":0},null,{"$f":"N11","v":0},{"$f":"COUNTIF(L22:L24,AS11)","v":0},{"$f":"AT11/(AV4-AT8)","v":0},{"$f":"IF(AU11=0,0,(AU11*((LOG(AU11))/LOG(2))))","v":0}]
[21,986,22,998,24,1023,23,1032,24,1048,0,22,null,null,null,null,null,null,null,{"$f":"N12","v":0},{"$f":"COUNTIF(L7:L9,T12)","v":0},{"$f":"U12/(W4-U8)","v":0},{"$f":"IF(V12=0,0,(V12*((LOG(V12))/LOG(2))))","v":0},null,{"$f":"N12","v":0},{"$f":"COUNTIF(L10:L12,Y12)","v":0},{"$f":"Z12/(AB4-Z8)","v":0},{"$f":"IF(AA12=0,0,(AA12*((LOG(AA12))/LOG(2))))","v":0},null,{"$f":"N12","v":0},{"$f":"COUNTIF(L13:L15,AD12)","v":0},{"$f":"AE12/(AG4-AE8)","v":0},{"$f":"IF(AF12=0,0,(AF12*((LOG(AF12))/LOG(2))))","v":0},null,{"$f":"N12","v":0},{"$f":"COUNTIF(L16:L18,AI12)","v":0},{"$f":"AJ12/(AL4-AJ8)","v":0},{"$f":"IF(AK12=0,0,(AK12*((LOG(AK12))/LOG(2))))","v":0},null,{"$f":"N12","v":0},{"$f":"COUNTIF(L19:L21,AN12)","v":0},{"$f":"AO12/(AQ4-AO8)","v":0},{"$f":"IF(AP12=0,0,(AP12*((LOG(AP12))/LOG(2))))","v":0},null,{"$f":"N12","v":0},{"$f":"COUNTIF(L22:L24,AS12)","v":0},{"$f":"AT12/(AV4-AT8)","v":0},{"$f":"IF(AU12=0,0,(AU12*((LOG(AU12))/LOG(2))))","v":0}]
[12,1161,24,1173,13,1184,23,1195,24,1207,0,12,null,null,null,null,null,null,null,{"$f":"N13","v":0},{"$f":"COUNTIF(L7:L9,T13)","v":0},{"$f":"U13/(W4-U8)","v":0},{"$f":"IF(V13=0,0,(V13*((LOG(V13))/LOG(2))))","v":0},null,{"$f":"N13","v":0},{"$f":"COUNTIF(L10:L12,Y13)","v":0},{"$f":"Z13/(AB4-Z8)","v":0},{"$f":"IF(AA13=0,0,(AA13*((LOG(AA13))/LOG(2))))","v":0},null,{"$f":"N13","v":0},{"$f":"COUNTIF(L13:L15,AD13)","v":0},{"$f":"AE13/(AG4-AE8)","v":0},{"$f":"IF(AF13=0,0,(AF13*((LOG(AF13))/LOG(2))))","v":0},null,{"$f":"N13","v":0},{"$f":"COUNTIF(L16:L18,AI13)","v":0},{"$f":"AJ13/(AL4-AJ8)","v":0},{"$f":"IF(AK13=0,0,(AK13*((LOG(AK13))/LOG(2))))","v":0},null,{"$f":"N13","v":0},{"$f":"COUNTIF(L19:L21,AN13)","v":0},{"$f":"AO13/(AQ4-AO8)","v":0},{"$f":"IF(AP13=0,0,(AP13*((LOG(AP13))/LOG(2))))","v":0},null,{"$f":"N13","v":0},{"$f":"COUNTIF(L22:L24,AS13)","v":0},{"$f":"AT13/(AV4-AT8)","v":0},{"$f":"IF(AU13=0,0,(AU13*((LOG(AU13))/LOG(2))))","v":0}]
[12,1317,24,1329,13,1345,23,1357,24,1370,0,12,null,null,null,null,null,null,null,{"$f":"N14","v":0},{"$f":"COUNTIF(L7:L9,T14)","v":0},{"$f":"U14/(W4-U8)","v":0},{"$f":"IF(V14=0,0,(V14*((LOG(V14))/LOG(2))))","v":0},null,{"$f":"N14","v":0},{"$f":"COUNTIF(L10:L12,Y14)","v":0},{"$f":"Z14/(AB4-Z8)","v":0},{"$f":"IF(AA14=0,0,(AA14*((LOG(AA14))/LOG(2))))","v":0},null,{"$f":"N14","v":0},{"$f":"COUNTIF(L13:L15,AD14)","v":0},{"$f":"AE14/(AG4-AE8)","v":0},{"$f":"IF(AF14=0,0,(AF14*((LOG(AF14))/LOG(2))))","v":0},null,{"$f":"N14","v":0},{"$f":"COUNTIF(L16:L18,AI14)","v":0},{"$f":"AJ14/(AL4-AJ8)","v":0},{"$f":"IF(AK14=0,0,(AK14*((LOG(AK14))/LOG(2))))","v":0},null,{"$f":"N14","v":0},{"$f":"COUNTIF(L19:L21,AN14)","v":0},{"$f":"AO14/(AQ4-AO8)","v":0},{"$f":"IF(AP14=0,0,(AP14*((LOG(AP14))/LOG(2))))","v":0},null,{"$f":"N14","v":0},{"$f":"COUNTIF(L22:L24,AS14)","v":0},{"$f":"AT14/(AV4-AT8)","v":0},{"$f":"IF(AU14=0,0,(AU14*((LOG(AU14))/LOG(2))))","v":0}]
[21,1536,22,1555,13,1569,23,1580,13,1595,0,22,null,null,null,{"$f":"SUM(P7:P14)","v":1},{"$f":"-SUM(Q7:Q14)","v":1.7720772537350808},null,null,null,null,{"$f":"SUM(V7:V14)","v":1},{"$f":"-SUM(W7:W14)","v":0.91829583405448945},null,null,null,{"$f":"SUM(AA7:AA14)","v":1},{"$f":"-SUM(AB7:AB14)","v":1},null,null,null,{"$f":"SUM(AF7:AF14)","v":1},{"$f":"-SUM(AG7:AG14)","v":0},null,null,null,{"$f":"SUM(AK7:AK14)","v":1},{"$f":"-SUM(AL7:AL14)","v":1},null,null,null,{"$f":"SUM(AP7:AP14)","v":1},{"$f":"-SUM(AQ7:AQ14)","v":0},null,null,null,{"$f":"SUM(AU7:AU14)","v":1},{"$f":"-SUM(AV7:AV14)","v":0}]
[21,1786,11,1803,22,1815,14,1836,13,1906,0,21,null,null,null,"U=",{"$f":"Q15/(LOG(Q4)/LOG(2))","v":0.42496621716749028},null,null,null,null,"U1=",{"$f":"W15/(LOG(W4)/LOG(2))","v":0.57938016428569505},null,null,null,"U2=",{"$f":"AB15/(LOG(AB4)/LOG(2))","v":0.63092975357145753},null,null,null,"U3=",{"$f":"AG15/(LOG(AG4)/LOG(2))","v":0},null,null,null,"U4=",{"$f":"AL15/(LOG(AL4)/LOG(2))","v":0.63092975357145753},null,null,null,"U5=",{"$f":"AQ15/(LOG(AQ4)/LOG(2))","v":0},null,null,null,"U6=",{"$f":"AV15/(LOG(AV4)/LOG(2))","v":0}]
[21,2233,22,2252,24,2345,23,2362,24,2378,0,22]
[12,2938,24,2949,24,2963,23,2988,24,3000,0,12]
[21,4515,22,4536,13,4552,23,4563,24,4581,0,22,null,"Total Target Seq"]
[12,5062,24,5072,24,5103,23,5116,13,5134,0,12,null,{"$f":"COUNTIF(L7:L24,G3)","v":7},null,3,3,3,3,3,3]
[21,6683,22,15373,24,15385,23,15393,24,15419,0,22,null,null,null,"% of reinforcement given in 6 equal intervals based on number of trials "]
[12,15610,24,15621,24,15647,14,15663,24,15674,0,12,null,null,null,"%_1","%_2","%_3","%_4","%_5","%_6"]
[12,16009,24,16019,24,16032,14,16043,24,16054,0,12,null,null,"target sequence",{"$f":"$G$3","v":12},{"$f":"$G$3","v":12},{"$f":"$G$3","v":12},{"$f":"$G$3","v":12},{"$f":"$G$3","v":12},{"$f":"$G$3","v":12}]
[12,19648,13,21074,13,21107,null,null,null,null,null,11,null,null,"total reinforcement",{"$f":"U8","v":0},{"$f":"Z8","v":1},{"$f":"AE8","v":2},{"$f":"AJ8","v":1},{"$f":"AO8","v":1},{"$f":"AT8","v":2}]
[null,null,null,null,null,null,null,null,null,null,null,null,null,null,"% target"]
[null,null,null,null,null,null,null,null,null,null,null,null,null,null,"CCRF"]
[null,null,null,null,null,null,null,null,null,null,null,null,null,null,"% CCRf"]
[null,null,null,null,null,null,null,null,null,null,null,null,null,null,"average response rate",{"$f":"D9/P20","v":143.33333333333334},{"$f":"(D12-D9)/Q20","v":189.33333333333334},{"$f":"(D15-D12)/R20","v":185.66666666666666},{"$f":"(D18-D15)/S20","v":464.66666666666669},{"$f":"(D21-D18)/T20","v":4141.333333333333},{"$f":"(D24-D21)/U20","v":1900.3333333333333}]

{"sheet":"!N127A30.105","index":59,"n_rows":28,"n_cols":48,"rows_kept":28,"cut":false,"hidden":false,"merged":[[4,39,4,42],[5,39,5,40],[4,44,4,47],[5,44,5,45],[4,24,4,27],[5,24,5,25],[4,29,4,32],[5,29,5,30],[4,34,4,37],[5,34,5,35],[1,1,1,2],[5,13,5,14],[18,13,18,14],[19,13,19,14],[4,19,4,22],[5,19,5,20]]}
["Report for:!N127A30.105"]
["Date:","<date>"]
["Hen:","<hen>",null,null,null,"Correct Sequence",{"$f":"Start!J2","v":12},null,null,null,null,null,null,null,null,"Total Sequences in Data",{"$f":"4994-COUNTBLANK(L7:L5000)","v":9},null,null,null,null,"Total Sequences in Block Data",{"$f":"COUNTA(L7:L8)","v":2},null,null,null,"Total Sequences in Block Data",{"$f":"COUNTA(L9:L9)","v":1},null,null,null,"Total Sequences in Block Data",{"$f":"COUNTA(L10:L11)","v":2},null,null,null,"Total Sequences in Block Data",{"$f":"COUNTA(L12:L12)","v":1},null,null,null,"Total Sequences in Block Data",{"$f":"COUNTA(L13:L14)","v":2},null,null,null,"Total Sequences in Block Data",{"$f":"COUNTA(L15:L15)","v":1}]
[null,null,null,null,null,null,null,null,null,null,null,null,null,null,null,"Total Sequences in Summary",{"$f":"SUM(O7:O14)","v":9},null,null,null,null,"Total Sequences in Block Summary",{"$f":"SUM(U7:U14)","v":2},null,null,null,"Total Sequences in Block Summary",{"$f":"SUM(Z7:Z14)","v":1},null,null,null,"Total Sequences in Block Summary",{"$f":"SUM(AE7:AE14)","v":2},null,null,null,"Total Sequences in Block Summary",{"$f":"SUM(AJ7:AJ14)","v":1},null,null,null,"Total Sequences in Block Summary",{"$f":"SUM(AO7:AO14)","v":2},null,null,null,"Total Sequences in Block Summary",{"$f":"SUM(AT7:AT14)","v":1}]
[null,null,null,null,null,null,null,null,null,null,null,null,null,null,null,null,null,null,null,"Block 1",null,null,null,null,"Block 2",null,null,null,null,"Block 3",null,null,null,null,"Block 4",null,null,null,null,"Block 5",null,null,null,null,"Block 6"]
["Sequence\nComponent\n1","Time\n1","Sequence\nComponent\n2","Time\n2","Sequence\nComponent\n3","Time\n3","Sequence\nComponent\n4","Time\n4","Sequence\nComponent\n5","Time\n5","Correct?\n0=No 1=Yes","Sequence",null,"Frequency",null,"Relative Frequency","Variability",null,null,"Frequency",null,"Relative Frequency","Variability",null,"Frequency",null,"Relative Frequency","Variability",null,"Frequency",null,"Relative Frequency","Variability",null,"Frequency",null,"Relative Frequency","Variability",null,"Frequency",null,"Relative Frequency","Variability",null,"Frequency",null,"Relative Frequency","Variability"]
[21,51,22,70,24,87,14,107,24,120,0,22,null,11,{"$f":"COUNTIF($L$7:$L$500,N7)","v":3},{"$f":"O7/$Q$4","v":0.33333333333333331},{"$f":"IF(P7=0,0,(P7*((LOG(P7))/LOG(2))))","v":-0.52832083357371862},null,null,{"$f":"N7","v":11},{"$f":"COUNTIF(L7:L8,T7)","v":0},{"$f":"U7/(W4-U8)","v":0},{"$f":"IF(V7=0,0,(V7*((LOG(V7))/LOG(2))))","v":0},null,{"$f":"N7","v":11},{"$f":"COUNTIF(L9:L9,Y7)","v":0},{"$f":"Z7/(AB4-Z8)","v":{"$error":"#DIV/0!"}},{"$f":"IF(AA7=0,0,(AA7*((LOG(AA7))/LOG(2))))","v":{"$error":"#DIV/0!"}},null,{"$f":"N7","v":11},{"$f":"COUNTIF(L10:L11,AD7)","v":1},{"$f":"AE7/(AG4-AE8)","v":0.5},{"$f":"IF(AF7=0,0,(AF7*((LOG(AF7))/LOG(2))))","v":-0.5},null,{"$f":"N7","v":11},{"$f":"COUNTIF(L12:L12,AI7)","v":0},{"$f":"AJ7/(AL4-AJ8)","v":{"$error":"#DIV/0!"}},{"$f":"IF(AK7=0,0,(AK7*((LOG(AK7))/LOG(2))))","v":{"$error":"#DIV/0!"}},null,{"$f":"N7","v":11},{"$f":"COUNTIF(L13:L14,AN7)","v":2},{"$f":"AO7/(AQ4-AO8)","v":1},{"$f":"IF(AP7=0,0,(AP7*((LOG(AP7))/LOG(2))))","v":0},null,{"$f":"N7","v":11},{"$f":"COUNTIF(L15:L15,AS7)","v":0},{"$f":"AT7/(AV4-AT8)","v":0},{"$f":"IF(AU7=0,0,(AU7*((LOG(AU7))/LOG(2))))","v":0}]
[21,248,11,269,11,306,21,331,11,347,1,21,null,12,{"$f":"COUNTIF($L$7:$L$500,N8)","v":2},{"$f":"O8/$Q$4","v":0.22222222222222221},{"$f":"IF(P8=0,0,(P8*((LOG(P8))/LOG(2))))","v":-0.48220555587606945},null,null,{"$f":"N8","v":12},{"$f":"COUNTIF(L7:L8,T8)","v":0},null,null,null,{"$f":"N8","v":12},{"$f":"COUNTIF(L9:L9,Y8)","v":1},null,null,null,{"$f":"N8","v":12},{"$f":"COUNTIF(L10:L11,AD8)","v":0},null,null,null,{"$f":"N8","v":12},{"$f":"COUNTIF(L12:L12,AI8)","v":1},null,null,null,{"$f":"N8","v":12},{"$f":"COUNTIF(L13:L14,AN8)","v":0},null,null,null,{"$f":"N8","v":12},{"$f":"COUNTIF(L15:L15,AS8)","v":0}]
[12,447,24,461,24,493,14,520,24,558,0,12,null,21,{"$f":"COUNTIF($L$7:$L$500,N9)","v":1},{"$f":"O9/$Q$4","v":0.1111111111111111},{"$f":"IF(P9=0,0,(P9*((LOG(P9))/LOG(2))))","v":-0.3522138890491458},null,null,{"$f":"N9","v":21},{"$f":"COUNTIF(L7:L8,T9)","v":1},{"$f":"U9/(W4-U8)","v":0.5},{"$f":"IF(V9=0,0,(V9*((LOG(V9))/LOG(2))))","v":-0.5},null,{"$f":"N9","v":21},{"$f":"COUNTIF(L9:L9,Y9)","v":0},{"$f":"Z9/(AB4-Z8)","v":{"$error":"#DIV/0!"}},{"$f":"IF(AA9=0,0,(AA9*((LOG(AA9))/LOG(2))))","v":{"$error":"#DIV/0!"}},null,{"$f":"N9","v":21},{"$f":"COUNTIF(L10:L11,AD9)","v":0},{"$f":"AE9/(AG4-AE8)","v":0},{"$f":"IF(AF9=0,0,(AF9*((LOG(AF9))/LOG(2))))","v":0},null,{"$f":"N9","v":21},{"$f":"COUNTIF(L12:L12,AI9)","v":0},{"$f":"AJ9/(AL4-AJ8)","v":{"$error":"#DIV/0!"}},{"$f":"IF(AK9=0,0,(AK9*((LOG(AK9))/LOG(2))))","v":{"$error":"#DIV/0!"}},null,{"$f":"N9","v":21},{"$f":"COUNTIF(L13:L14,AN9)","v":0},{"$f":"AO9/(AQ4-AO8)","v":0},{"$f":"IF(AP9=0,0,(AP9*((LOG(AP9))/LOG(2))))","v":0},null,{"$f":"N9","v":21},{"$f":"COUNTIF(L15:L15,AS9)","v":0},{"$f":"AT9/(AV4-AT8)","v":0},{"$f":"IF(AU9=0,0,(AU9*((LOG(AU9))/LOG(2))))","v":0}]
[21,664,22,681,13,698,14,711,24,722,0,22,null,22,{"$f":"COUNTIF($L$7:$L$500,N10)","v":3},{"$f":"O10/$Q$4","v":0.33333333333333331},{"$f":"IF(P10=0,0,(P10*((LOG(P10))/LOG(2))))","v":-0.52832083357371862},null,null,{"$f":"N10","v":22},{"$f":"COUNTIF(L7:L8,T10)","v":1},{"$f":"U10/(W4-U8)","v":0.5},{"$f":"IF(V10=0,0,(V10*((LOG(V10))/LOG(2))))","v":-0.5},null,{"$f":"N10","v":22},{"$f":"COUNTIF(L9:L9,Y10)","v":0},{"$f":"Z10/(AB4-Z8)","v":{"$error":"#DIV/0!"}},{"$f":"IF(AA10=0,0,(AA10*((LOG(AA10))/LOG(2))))","v":{"$error":"#DIV/0!"}},null,{"$f":"N10","v":22},{"$f":"COUNTIF(L10:L11,AD10)","v":1},{"$f":"AE10/(AG4-AE8)","v":0.5},{"$f":"IF(AF10=0,0,(AF10*((LOG(AF10))/LOG(2))))","v":-0.5},null,{"$f":"N10","v":22},{"$f":"COUNTIF(L12:L12,AI10)","v":0},{"$f":"AJ10/(AL4-AJ8)","v":{"$error":"#DIV/0!"}},{"$f":"IF(AK10=0,0,(AK10*((LOG(AK10))/LOG(2))))","v":{"$error":"#DIV/0!"}},null,{"$f":"N10","v":22},{"$f":"COUNTIF(L13:L14,AN10)","v":0},{"$f":"AO10/(AQ4-AO8)","v":0},{"$f":"IF(AP10=0,0,(AP10*((LOG(AP10))/LOG(2))))","v":0},null,{"$f":"N10","v":22},{"$f":"COUNTIF(L15:L15,AS10)","v":1},{"$f":"AT10/(AV4-AT8)","v":1},{"$f":"IF(AU10=0,0,(AU10*((LOG(AU10))/LOG(2))))","v":0}]
[12,832,13,848,13,860,23,872,13,887,0,11,null,null,null,null,null,null,null,{"$f":"N11","v":0},{"$f":"COUNTIF(L7:L8,T11)","v":0},{"$f":"U11/(W4-U8)","v":0},{"$f":"IF(V11=0,0,(V11*((LOG(V11))/LOG(2))))","v":0},null,{"$f":"N11","v":0},{"$f":"COUNTIF(L9:L9,Y11)","v":0},{"$f":"Z11/(AB4-Z8)","v":{"$error":"#DIV/0!"}},{"$f":"IF(AA11=0,0,(AA11*((LOG(AA11))/LOG(2))))","v":{"$error":"#DIV/0!"}},null,{"$f":"N11","v":0},{"$f":"COUNTIF(L10:L11,AD11)","v":0},{"$f":"AE11/(AG4-AE8)","v":0},{"$f":"IF(AF11=0,0,(AF11*((LOG(AF11))/LOG(2))))","v":0},null,{"$f":"N11","v":0},{"$f":"COUNTIF(L12:L12,AI11)","v":0},{"$f":"AJ11/(AL4-AJ8)","v":{"$error":"#DIV/0!"}},{"$f":"IF(AK11=0,0,(AK11*((LOG(AK11))/LOG(2))))","v":{"$error":"#DIV/0!"}},null,{"$f":"N11","v":0},{"$f":"COUNTIF(L13:L14,AN11)","v":0},{"$f":"AO11/(AQ4-AO8)","v":0},{"$f":"IF(AP11=0,0,(AP11*((LOG(AP11))/LOG(2))))","v":0},null,{"$f":"N11","v":0},{"$f":"COUNTIF(L15:L15,AS11)","v":0},{"$f":"AT11/(AV4-AT8)","v":0},{"$f":"IF(AU11=0,0,(AU11*((LOG(AU11))/LOG(2))))","v":0}]
[12,1035,24,1055,13,1067,14,1078,24,1097,0,12,null,null,null,null,null,null,null,{"$f":"N12","v":0},{"$f":"COUNTIF(L7:L8,T12)","v":0},{"$f":"U12/(W4-U8)","v":0},{"$f":"IF(V12=0,0,(V12*((LOG(V12))/LOG(2))))","v":0},null,{"$f":"N12","v":0},{"$f":"COUNTIF(L9:L9,Y12)","v":0},{"$f":"Z12/(AB4-Z8)","v":{"$error":"#DIV/0!"}},{"$f":"IF(AA12=0,0,(AA12*((LOG(AA12))/LOG(2))))","v":{"$error":"#DIV/0!"}},null,{"$f":"N12","v":0},{"$f":"COUNTIF(L10:L11,AD12)","v":0},{"$f":"AE12/(AG4-AE8)","v":0},{"$f":"IF(AF12=0,0,(AF12*((LOG(AF12))/LOG(2))))","v":0},null,{"$f":"N12","v":0},{"$f":"COUNTIF(L12:L12,AI12)","v":0},{"$f":"AJ12/(AL4-AJ8)","v":{"$error":"#DIV/0!"}},{"$f":"IF(AK12=0,0,(AK12*((LOG(AK12))/LOG(2))))","v":{"$error":"#DIV/0!"}},null,{"$f":"N12","v":0},{"$f":"COUNTIF(L13:L14,AN12)","v":0},{"$f":"AO12/(AQ4-AO8)","v":0},{"$f":"IF(AP12=0,0,(AP12*((LOG(AP12))/LOG(2))))","v":0},null,{"$f":"N12","v":0},{"$f":"COUNTIF(L15:L15,AS12)","v":0},{"$f":"AT12/(AV4-AT8)","v":0},{"$f":"IF(AU12=0,0,(AU12*((LOG(AU12))/LOG(2))))","v":0}]
[12,1267,13,1325,13,1338,14,1352,24,1368,0,11,null,null,null,null,null,null,null,{"$f":"N13","v":0},{"$f":"COUNTIF(L7:L8,T13)","v":0},{"$f":"U13/(W4-U8)","v":0},{"$f":"IF(V13=0,0,(V13*((LOG(V13))/LOG(2))))","v":0},null,{"$f":"N13","v":0},{"$f":"COUNTIF(L9:L9,Y13)","v":0},{"$f":"Z13/(AB4-Z8)","v":{"$error":"#DIV/0!"}},{"$f":"IF(AA13=0,0,(AA13*((LOG(AA13))/LOG(2))))","v":{"$error":"#DIV/0!"}},null,{"$f":"N13","v":0},{"$f":"COUNTIF(L10:L11,AD13)","v":0},{"$f":"AE13/(AG4-AE8)","v":0},{"$f":"IF(AF13=0,0,(AF13*((LOG(AF13))/LOG(2))))","v":0},null,{"$f":"N13","v":0},{"$f":"COUNTIF(L12:L12,AI13)","v":0},{"$f":"AJ13/(AL4-AJ8)","v":{"$error":"#DIV/0!"}},{"$f":"IF(AK13=0,0,(AK13*((LOG(AK13))/LOG(2))))","v":{"$error":"#DIV/0!"}},null,{"$f":"N13","v":0},{"$f":"COUNTIF(L13:L14,AN13)","v":0},{"$f":"AO13/(AQ4-AO8)","v":0},{"$f":"IF(AP13=0,0,(AP13*((LOG(AP13))/LOG(2))))","v":0},null,{"$f":"N13","v":0},{"$f":"COUNTIF(L15:L15,AS13)","v":0},{"$f":"AT13/(AV4-AT8)","v":0},{"$f":"IF(AU13=0,0,(AU13*((LOG(AU13))/LOG(2))))","v":0}]
[12,1598,13,1649,24,1668,23,1682,13,1700,0,11,null,null,null,null,null,null,null,{"$f":"N14","v":0},{"$f":"COUNTIF(L7:L8,T14)","v":0},{"$f":"U14/(W4-U8)","v":0},{"$f":"IF(V14=0,0,(V14*((LOG(V14))/LOG(2))))","v":0},null,{"$f":"N14","v":0},{"$f":"COUNTIF(L9:L9,Y14)","v":0},{"$f":"Z14/(AB4-Z8)","v":{"$error":"#DIV/0!"}},{"$f":"IF(AA14=0,0,(AA14*((LOG(AA14))/LOG(2))))","v":{"$error":"#DIV/0!"}},null,{"$f":"N14","v":0},{"$f":"COUNTIF(L10:L11,AD14)","v":0},{"$f":"AE14/(AG4-AE8)","v":0},{"$f":"IF(AF14=0,0,(AF14*((LOG(AF14))/LOG(2))))","v":0},null,{"$f":"N14","v":0},{"$f":"COUNTIF(L12:L12,AI14)","v":0},{"$f":"AJ14/(AL4-AJ8)","v":{"$error":"#DIV/0!"}},{"$f":"IF(AK14=0,0,(AK14*((LOG(AK14))/LOG(2))))","v":{"$error":"#DIV/0!"}},null,{"$f":"N14","v":0},{"$f":"COUNTIF(L13:L14,AN14)","v":0},{"$f":"AO14/(AQ4-AO8)","v":0},{"$f":"IF(AP14=0,0,(AP14*((LOG(AP14))/LOG(2))))","v":0},null,{"$f":"N14","v":0},{"$f":"COUNTIF(L15:L15,AS14)","v":0},{"$f":"AT14/(AV4-AT8)","v":0},{"$f":"IF(AU14=0,0,(AU14*((LOG(AU14))/LOG(2))))","v":0}]
[21,6698,22,6713,24,6727,23,6781,24,6798,0,22,null,null,null,{"$f":"SUM(P7:P14)","v":1},{"$f":"-SUM(Q7:Q14)","v":1.8910611120726524},null,null,null,null,{"$f":"SUM(V7:V14)","v":1},{"$f":"-SUM(W7:W14)","v":1},null,null,null,{"$f":"SUM(AA7:AA14)","v":{"$error":"#DIV/0!"}},{"$f":"-SUM(AB7:AB14)","v":{"$error":"#DIV/0!"}},null,null,null,{"$f":"SUM(AF7:AF14)","v":1},{"$f":"-SUM(AG7:AG14)","v":1},null,null,null,{"$f":"SUM(AK7:AK14)","v":{"$error":"#DIV/0!"}},{"$f":"-SUM(AL7:AL14)","v":{"$error":"#DIV/0!"}},null,null,null,{"$f":"SUM(AP7:AP14)","v":1},{"$f":"-SUM(AQ7:AQ14)","v":0},null,null,null,{"$f":"SUM(AU7:AU14)","v":1},{"$f":"-SUM(AV7:AV14)","v":0}]
[null,null,null,null,null,null,null,null,null,null,null,null,null,null,null,"U=",{"$f":"Q15/(LOG(Q4)/LOG(2))","v":0.5965633607142824},null,null,null,null,"U1=",{"$f":"W15/(LOG(W4)/LOG(2))","v":1},null,null,null,"U2=",{"$f":"AB15/(LOG(AB4)/LOG(2))","v":{"$error":"#DIV/0!"}},null,null,null,"U3=",{"$f":"AG15/(LOG(AG4)/LOG(2))","v":1},null,null,null,"U4=",{"$f":"AL15/(LOG(AL4)/LOG(2))","v":{"$error":"#DIV/0!"}},null,null,null,"U5=",{"$f":"AQ15/(LOG(AQ4)/LOG(2))","v":0},null,null,null,"U6=",{"$f":"AV15/(LOG(AV4)/LOG(2))","v":{"$error":"#DIV/0!"}}]
[]
[]
[null,null,null,null,null,null,null,null,null,null,null,null,null,"Total Target Seq"]
[null,null,null,null,null,null,null,null,null,null,null,null,null,{"$f":"COUNTIF(L7:L15,G3)","v":2},null,2,1,2,1,2,1]
[null,null,null,null,null,null,null,null,null,null,null,null,null,null,null,"% of reinforcement given in 6 equal intervals based on number of trials "]
[null,null,null,null,null,null,null,null,null,null,null,null,null,null,null,"%_1","%_2","%_3","%_4","%_5","%_6"]
[null,null,null,null,null,null,null,null,null,null,null,null,null,null,"target sequence",{"$f":"$G$3","v":12},{"$f":"$G$3","v":12},{"$f":"$G$3","v":12},{"$f":"$G$3","v":12},{"$f":"$G$3","v":12},{"$f":"$G$3","v":12}]
[null,null,null,null,null,null,null,null,null,null,null,null,null,null,"total reinforcement",{"$f":"U8","v":0},{"$f":"Z8","v":1},{"$f":"AE8","v":0},{"$f":"AJ8","v":1},{"$f":"AO8","v":0},{"$f":"AT8","v":0}]
[null,null,null,null,null,null,null,null,null,null,null,null,null,null,"% target"]
[null,null,null,null,null,null,null,null,null,null,null,null,null,null,"CCRF"]
[null,null,null,null,null,null,null,null,null,null,null,null,null,null,"% CCRf"]
[null,null,null,null,null,null,null,null,null,null,null,null,null,null,"average response rate",{"$f":"D8/P20","v":134.5},{"$f":"(D9-D8)/Q20","v":192},{"$f":"(D11-D9)/R20","v":193.5},{"$f":"(D12-D11)/S20","v":207},{"$f":"(D14-D12)/T20","v":297},{"$f":"(D15-D14)/U20","v":5064}]

{"sheet":"!N128900.105","index":60,"n_rows":28,"n_cols":48,"rows_kept":28,"cut":false,"hidden":false,"merged":[[4,39,4,42],[5,39,5,40],[4,44,4,47],[5,44,5,45],[4,24,4,27],[5,24,5,25],[4,29,4,32],[5,29,5,30],[4,34,4,37],[5,34,5,35],[1,1,1,2],[5,13,5,14],[18,13,18,14],[19,13,19,14],[4,19,4,22],[5,19,5,20]]}
["Report for:!N128900.105"]
["Date:","<date>"]
["Hen:","<hen>",null,null,null,"Correct Sequence",{"$f":"Start!J2","v":12},null,null,null,null,null,null,null,null,"Total Sequences in Data",{"$f":"4994-COUNTBLANK(L7:L5000)","v":4},null,null,null,null,"Total Sequences in Block Data",{"$f":"COUNTA(L7:L7)","v":1},null,null,null,"Total Sequences in Block Data",{"$f":"COUNTA(L7:L8)","v":2},null,null,null,"Total Sequences in Block Data",{"$f":"COUNTA(L8:L8)","v":1},null,null,null,"Total Sequences in Block Data",{"$f":"COUNTA(L9:L9)","v":1},null,null,null,"Total Sequences in Block Data",{"$f":"COUNTA(L9:L10)","v":2},null,null,null,"Total Sequences in Block Data",{"$f":"COUNTA(L10:L10)","v":1}]
[null,null,null,null,null,null,null,null,null,null,null,null,null,null,null,"Total Sequences in Summary",{"$f":"SUM(O7:O14)","v":4},null,null,null,null,"Total Sequences in Block Summary",{"$f":"SUM(U7:U14)","v":1},null,null,null,"Total Sequences in Block Summary",{"$f":"SUM(Z7:Z14)","v":2},null,null,null,"Total Sequences in Block Summary",{"$f":"SUM(AE7:AE14)","v":1},null,null,null,"Total Sequences in Block Summary",{"$f":"SUM(AJ7:AJ14)","v":1},null,null,null,"Total Sequences in Block Summary",{"$f":"SUM(AO7:AO14)","v":2},null,null,null,"Total Sequences in Block Summary",{"$f":"SUM(AT7:AT14)","v":1}]
[null,null,null,null,null,null,null,null,null,null,null,null,null,null,null,null,null,null,null,"Block 1",null,null,null,null,"Block 2",null,null,null,null,"Block 3",null,null,null,null,"Block 4",null,null,null,null,"Block 5",null,null,null,null,"Block 6"]
["Sequence\nComponent\n1","Time\n1","Sequence\nComponent\n2","Time\n2","Sequence\nComponent\n3","Time\n3","Sequence\nComponent\n4","Time\n4","Sequence\nComponent\n5","Time\n5","Correct?\n0=No 1=Yes","Sequence",null,"Frequency",null,"Relative Frequency","Variability",null,null,"Frequency",null,"Relative Frequency","Variability",null,"Frequency",null,"Relative Frequency","Variability",null,"Frequency",null,"Relative Frequency","Variability",null,"Frequency",null,"Relative Frequency","Variability",null,"Frequency",null,"Relative Frequency","Variability",null,"Frequency",null,"Relative Frequency","Variability"]
[12,7,24,20,13,38,23,49,24,62,0,12,null,11,{"$f":"COUNTIF($L$7:$L$500,N7)","v":0},{"$f":"O7/$Q$4","v":0},{"$f":"IF(P7=0,0,(P7*((LOG(P7))/LOG(2))))","v":0},null,null,{"$f":"N7","v":11},{"$f":"COUNTIF(L7:L7,T7)","v":0},{"$f":"U7/(W4-U8)","v":{"$error":"#DIV/0!"}},{"$f":"IF(V7=0,0,(V7*((LOG(V7))/LOG(2))))","v":{"$error":"#DIV/0!"}},null,{"$f":"N7","v":11},{"$f":"COUNTIF(L7:L8,Y7)","v":0},{"$f":"Z7/(AB4-Z8)","v":{"$error":"#DIV/0!"}},{"$f":"IF(AA7=0,0,(AA7*((LOG(AA7))/LOG(2))))","v":{"$error":"#DIV/0!"}},null,{"$f":"N7","v":11},{"$f":"COUNTIF(L8:L8,AD7)","v":0},{"$f":"AE7/(AG4-AE8)","v":{"$error":"#DIV/0!"}},{"$f":"IF(AF7=0,0,(AF7*((LOG(AF7))/LOG(2))))","v":{"$error":"#DIV/0!"}},null,{"$f":"N7","v":11},{"$f":"COUNTIF(L9:L9,AI7)","v":0},{"$f":"AJ7/(AL4-AJ8)","v":{"$error":"#DIV/0!"}},{"$f":"IF(AK7=0,0,(AK7*((LOG(AK7))/LOG(2))))","v":{"$error":"#DIV/0!"}},null,{"$f":"N7","v":11},{"$f":"COUNTIF(L9:L10,AN7)","v":0},{"$f":"AO7/(AQ4-AO8)","v":{"$error":"#DIV/0!"}},{"$f":"IF(AP7=0,0,(AP7*((LOG(AP7))/LOG(2))))","v":{"$error":"#DIV/0!"}},null,{"$f":"N7","v":11},{"$f":"COUNTIF(L10:L10,AS7)","v":0},{"$f":"AT7/(AV4-AT8)","v":{"$error":"#DIV/0!"}},{"$f":"IF(AU7=0,0,(AU7*((LOG(AU7))/LOG(2))))","v":{"$error":"#DIV/0!"}}]
[12,181,24,192,13,211,23,224,13,241,0,12,null,12,{"$f":"COUNTIF($L$7:$L$500,N8)","v":4},{"$f":"O8/$Q$4","v":1},{"$f":"IF(P8=0,0,(P8*((LOG(P8))/LOG(2))))","v":0},null,null,{"$f":"N8","v":12},{"$f":"COUNTIF(L7:L7,T8)","v":1},null,null,null,{"$f":"N8","v":12},{"$f":"COUNTIF(L7:L8,Y8)","v":2},null,null,null,{"$f":"N8","v":12},{"$f":"COUNTIF(L8:L8,AD8)","v":1},null,null,null,{"$f":"N8","v":12},{"$f":"COUNTIF(L9:L9,AI8)","v":1},null,null,null,{"$f":"N8","v":12},{"$f":"COUNTIF(L9:L10,AN8)","v":2},null,null,null,{"$f":"N8","v":12},{"$f":"COUNTIF(L10:L10,AS8)","v":1}]
[12,357,24,393,24,403,14,436,24,448,0,12,null,21,{"$f":"COUNTIF($L$7:$L$500,N9)","v":0},{"$f":"O9/$Q$4","v":0},{"$f":"IF(P9=0,0,(P9*((LOG(P9))/LOG(2))))","v":0},null,null,{"$f":"N9","v":21},{"$f":"COUNTIF(L7:L7,T9)","v":0},{"$f":"U9/(W4-U8)","v":{"$error":"#DIV/0!"}},{"$f":"IF(V9=0,0,(V9*((LOG(V9))/LOG(2))))","v":{"$error":"#DIV/0!"}},null,{"$f":"N9","v":21},{"$f":"COUNTIF(L7:L8,Y9)","v":0},{"$f":"Z9/(AB4-Z8)","v":{"$error":"#DIV/0!"}},{"$f":"IF(AA9=0,0,(AA9*((LOG(AA9))/LOG(2))))","v":{"$error":"#DIV/0!"}},null,{"$f":"N9","v":21},{"$f":"COUNTIF(L8:L8,AD9)","v":0},{"$f":"AE9/(AG4-AE8)","v":{"$error":"#DIV/0!"}},{"$f":"IF(AF9=0,0,(AF9*((LOG(AF9))/LOG(2))))","v":{"$error":"#DIV/0!"}},null,{"$f":"N9","v":21},{"$f":"COUNTIF(L9:L9,AI9)","v":0},{"$f":"AJ9/(AL4-AJ8)","v":{"$error":"#DIV/0!"}},{"$f":"IF(AK9=0,0,(AK9*((LOG(AK9))/LOG(2))))","v":{"$error":"#DIV/0!"}},null,{"$f":"N9","v":21},{"$f":"COUNTIF(L9:L10,AN9)","v":0},{"$f":"AO9/(AQ4-AO8)","v":{"$error":"#DIV/0!"}},{"$f":"IF(AP9=0,0,(AP9*((LOG(AP9))/LOG(2))))","v":{"$error":"#DIV/0!"}},null,{"$f":"N9","v":21},{"$f":"COUNTIF(L10:L10,AS9)","v":0},{"$f":"AT9/(AV4-AT8)","v":{"$error":"#DIV/0!"}},{"$f":"IF(AU9=0,0,(AU9*((LOG(AU9))/LOG(2))))","v":{"$error":"#DIV/0!"}}]
[12,580,24,598,13,609,23,620,13,631,0,12,null,22,{"$f":"COUNTIF($L$7:$L$500,N10)","v":0},{"$f":"O10/$Q$4","v":0},{"$f":"IF(P10=0,0,(P10*((LOG(P10))/LOG(2))))","v":0},null,null,{"$f":"N10","v":22},{"$f":"COUNTIF(L7:L7,T10)","v":0},{"$f":"U10/(W4-U8)","v":{"$error":"#DIV/0!"}},{"$f":"IF(V10=0,0,(V10*((LOG(V10))/LOG(2))))","v":{"$error":"#DIV/0!"}},null,{"$f":"N10","v":22},{"$f":"COUNTIF(L7:L8,Y10)","v":0},{"$f":"Z10/(AB4-Z8)","v":{"$error":"#DIV/0!"}},{"$f":"IF(AA10=0,0,(AA10*((LOG(AA10))/LOG(2))))","v":{"$error":"#DIV/0!"}},null,{"$f":"N10","v":22},{"$f":"COUNTIF(L8:L8,AD10)","v":0},{"$f":"AE10/(AG4-AE8)","v":{"$error":"#DIV/0!"}},{"$f":"IF(AF10=0,0,(AF10*((LOG(AF10))/LOG(2))))","v":{"$error":"#DIV/0!"}},null,{"$f":"N10","v":22},{"$f":"COUNTIF(L9:L9,AI10)","v":0},{"$f":"AJ10/(AL4-AJ8)","v":{"$error":"#DIV/0!"}},{"$f":"IF(AK10=0,0,(AK10*((LOG(AK10))/LOG(2))))","v":{"$error":"#DIV/0!"}},null,{"$f":"N10","v":22},{"$f":"COUNTIF(L9:L10,AN10)","v":0},{"$f":"AO10/(AQ4-AO8)","v":{"$error":"#DIV/0!"}},{"$f":"IF(AP10=0,0,(AP10*((LOG(AP10))/LOG(2))))","v":{"$error":"#DIV/0!"}},null,{"$f":"N10","v":22},{"$f":"COUNTIF(L10:L10,AS10)","v":0},{"$f":"AT10/(AV4-AT8)","v":{"$error":"#DIV/0!"}},{"$f":"IF(AU10=0,0,(AU10*((LOG(AU10))/LOG(2))))","v":{"$error":"#DIV/0!"}}]
[null,null,null,null,null,null,null,null,null,null,null,null,null,null,null,null,null,null,null,{"$f":"N11","v":0},{"$f":"COUNTIF(L7:L7,T11)","v":0},{"$f":"U11/(W4-U8)","v":{"$error":"#DIV/0!"}},{"$f":"IF(V11=0,0,(V11*((LOG(V11))/LOG(2))))","v":{"$error":"#DIV/0!"}},null,{"$f":"N11","v":0},{"$f":"COUNTIF(L7:L8,Y11)","v":0},{"$f":"Z11/(AB4-Z8)","v":{"$error":"#DIV/0!"}},{"$f":"IF(AA11=0,0,(AA11*((LOG(AA11))/LOG(2))))","v":{"$error":"#DIV/0!"}},null,{"$f":"N11","v":0},{"$f":"COUNTIF(L8:L8,AD11)","v":0},{"$f":"AE11/(AG4-AE8)","v":{"$error":"#DIV/0!"}},{"$f":"IF(AF11=0,0,(AF11*((LOG(AF11))/LOG(2))))","v":{"$error":"#DIV/0!"}},null,{"$f":"N11","v":0},{"$f":"COUNTIF(L9:L9,AI11)","v":0},{"$f":"AJ11/(AL4-AJ8)","v":{"$error":"#DIV/0!"}},{"$f":"IF(AK11=0,0,(AK11*((LOG(AK11))/LOG(2))))","v":{"$error":"#DIV/0!"}},null,{"$f":"N11","v":0},{"$f":"COUNTIF(L9:L10,AN11)","v":0},{"$f":"AO11/(AQ4-AO8)","v":{"$error":"#DIV/0!"}},{"$f":"IF(AP11=0,0,(AP11*((LOG(AP11))/LOG(2))))","v":{"$error":"#DIV/0!"}},null,{"$f":"N11","v":0},{"$f":"COUNTIF(L10:L10,AS11)","v":0},{"$f":"AT11/(AV4-AT8)","v":{"$error":"#DIV/0!"}},{"$f":"IF(AU11=0,0,(AU11*((LOG(AU11))/LOG(2))))","v":{"$error":"#DIV/0!"}}]
[null,null,null,null,null,null,null,null,null,null,null,null,null,null,null,null,null,null,null,{"$f":"N12","v":0},{"$f":"COUNTIF(L7:L7,T12)","v":0},{"$f":"U12/(W4-U8)","v":{"$error":"#DIV/0!"}},{"$f":"IF(V12=0,0,(V12*((LOG(V12))/LOG(2))))","v":{"$error":"#DIV/0!"}},null,{"$f":"N12","v":0},{"$f":"COUNTIF(L7:L8,Y12)","v":0},{"$f":"Z12/(AB4-Z8)","v":{"$error":"#DIV/0!"}},{"$f":"IF(AA12=0,0,(AA12*((LOG(AA12))/LOG(2))))","v":{"$error":"#DIV/0!"}},null,{"$f":"N12","v":0},{"$f":"COUNTIF(L8:L8,AD12)","v":0},{"$f":"AE12/(AG4-AE8)","v":{"$error":"#DIV/0!"}},{"$f":"IF(AF12=0,0,(AF12*((LOG(AF12))/LOG(2))))","v":{"$error":"#DIV/0!"}},null,{"$f":"N12","v":0},{"$f":"COUNTIF(L9:L9,AI12)","v":0},{"$f":"AJ12/(AL4-AJ8)","v":{"$error":"#DIV/0!"}},{"$f":"IF(AK12=0,0,(AK12*((LOG(AK12))/LOG(2))))","v":{"$error":"#DIV/0!"}},null,{"$f":"N12","v":0},{"$f":"COUNTIF(L9:L10,AN12)","v":0},{"$f":"AO12/(AQ4-AO8)","v":{"$error":"#DIV/0!"}},{"$f":"IF(AP12=0,0,(AP12*((LOG(AP12))/LOG(2))))","v":{"$error":"#DIV/0!"}},null,{"$f":"N12","v":0},{"$f":"COUNTIF(L10:L10,AS12)","v":0},{"$f":"AT12/(AV4-AT8)","v":{"$error":"#DIV/0!"}},{"$f":"IF(AU12=0,0,(AU12*((LOG(AU12))/LOG(2))))","v":{"$error":"#DIV/0!"}}]
[null,null,null,null,null,null,null,null,null,null,null,null,null,null,null,null,null,null,null,{"$f":"N13","v":0},{"$f":"COUNTIF(L7:L7,T13)","v":0},{"$f":"U13/(W4-U8)","v":{"$error":"#DIV/0!"}},{"$f":"IF(V13=0,0,(V13*((LOG(V13))/LOG(2))))","v":{"$error":"#DIV/0!"}},null,{"$f":"N13","v":0},{"$f":"COUNTIF(L7:L8,Y13)","v":0},{"$f":"Z13/(AB4-Z8)","v":{"$error":"#DIV/0!"}},{"$f":"IF(AA13=0,0,(AA13*((LOG(AA13))/LOG(2))))","v":{"$error":"#DIV/0!"}},null,{"$f":"N13","v":0},{"$f":"COUNTIF(L8:L8,AD13)","v":0},{"$f":"AE13/(AG4-AE8)","v":{"$error":"#DIV/0!"}},{"$f":"IF(AF13=0,0,(AF13*((LOG(AF13))/LOG(2))))","v":{"$error":"#DIV/0!"}},null,{"$f":"N13","v":0},{"$f":"COUNTIF(L9:L9,AI13)","v":0},{"$f":"AJ13/(AL4-AJ8)","v":{"$error":"#DIV/0!"}},{"$f":"IF(AK13=0,0,(AK13*((LOG(AK13))/LOG(2))))","v":{"$error":"#DIV/0!"}},null,{"$f":"N13","v":0},{"$f":"COUNTIF(L9:L10,AN13)","v":0},{"$f":"AO13/(AQ4-AO8)","v":{"$error":"#DIV/0!"}},{"$f":"IF(AP13=0,0,(AP13*((LOG(AP13))/LOG(2))))","v":{"$error":"#DIV/0!"}},null,{"$f":"N13","v":0},{"$f":"COUNTIF(L10:L10,AS13)","v":0},{"$f":"AT13/(AV4-AT8)","v":{"$error":"#DIV/0!"}},{"$f":"IF(AU13=0,0,(AU13*((LOG(AU13))/LOG(2))))","v":{"$error":"#DIV/0!"}}]
[null,null,null,null,null,null,null,null,null,null,null,null,null,null,null,null,null,null,null,{"$f":"N14","v":0},{"$f":"COUNTIF(L7:L7,T14)","v":0},{"$f":"U14/(W4-U8)","v":{"$error":"#DIV/0!"}},{"$f":"IF(V14=0,0,(V14*((LOG(V14))/LOG(2))))","v":{"$error":"#DIV/0!"}},null,{"$f":"N14","v":0},{"$f":"COUNTIF(L7:L8,Y14)","v":0},{"$f":"Z14/(AB4-Z8)","v":{"$error":"#DIV/0!"}},{"$f":"IF(AA14=0,0,(AA14*((LOG(AA14))/LOG(2))))","v":{"$error":"#DIV/0!"}},null,{"$f":"N14","v":0},{"$f":"COUNTIF(L8:L8,AD14)","v":0},{"$f":"AE14/(AG4-AE8)","v":{"$error":"#DIV/0!"}},{"$f":"IF(AF14=0,0,(AF14*((LOG(AF14))/LOG(2))))","v":{"$error":"#DIV/0!"}},null,{"$f":"N14","v":0},{"$f":"COUNTIF(L9:L9,AI14)","v":0},{"$f":"AJ14/(AL4-AJ8)","v":{"$error":"#DIV/0!"}},{"$f":"IF(AK14=0,0,(AK14*((LOG(AK14))/LOG(2))))","v":{"$error":"#DIV/0!"}},null,{"$f":"N14","v":0},{"$f":"COUNTIF(L9:L10,AN14)","v":0},{"$f":"AO14/(AQ4-AO8)","v":{"$error":"#DIV/0!"}},{"$f":"IF(AP14=0,0,(AP14*((LOG(AP14))/LOG(2))))","v":{"$error":"#DIV/0!"}},null,{"$f":"N14","v":0},{"$f":"COUNTIF(L10:L10,AS14)","v":0},{"$f":"AT14/(AV4-AT8)","v":{"$error":"#DIV/0!"}},{"$f":"IF(AU14=0,0,(AU14*((LOG(AU14))/LOG(2))))","v":{"$error":"#DIV/0!"}}]
[null,null,null,null,null,null,null,null,null,null,null,null,null,null,null,{"$f":"SUM(P7:P14)","v":1},{"$f":"-SUM(Q7:Q14)","v":0},null,null,null,null,{"$f":"SUM(V7:V14)","v":{"$error":"#DIV/0!"}},{"$f":"-SUM(W7:W14)","v":{"$error":"#DIV/0!"}},null,null,null,{"$f":"SUM(AA7:AA14)","v":{"$error":"#DIV/0!"}},{"$f":"-SUM(AB7:AB14)","v":{"$error":"#DIV/0!"}},null,null,null,{"$f":"SUM(AF7:AF14)","v":{"$error":"#DIV/0!"}},{"$f":"-SUM(AG7:AG14)","v":{"$error":"#DIV/0!"}},null,null,null,{"$f":"SUM(AK7:AK14)","v":{"$error":"#DIV/0!"}},{"$f":"-SUM(AL7:AL14)","v":{"$error":"#DIV/0!"}},null,null,null,{"$f":"SUM(AP7:AP14)","v":{"$error":"#DIV/0!"}},{"$f":"-SUM(AQ7:AQ14)","v":{"$error":"#DIV/0!"}},null,null,null,{"$f":"SUM(AU7:AU14)","v":{"$error":"#DIV/0!"}},{"$f":"-SUM(AV7:AV14)","v":{"$error":"#DIV/0!"}}]
[null,null,null,null,null,null,null,null,null,null,null,null,null,null,null,"U=",{"$f":"Q15/(LOG(Q4)/LOG(2))","v":0},null,null,null,null,"U1=",{"$f":"W15/(LOG(W4)/LOG(2))","v":{"$error":"#DIV/0!"}},null,null,null,"U2=",{"$f":"AB15/(LOG(AB4)/LOG(2))","v":{"$error":"#DIV/0!"}},null,null,null,"U3=",{"$f":"AG15/(LOG(AG4)/LOG(2))","v":{"$error":"#DIV/0!"}},null,null,null,"U4=",{"$f":"AL15/(LOG(AL4)/LOG(2))","v":{"$error":"#DIV/0!"}},null,null,null,"U5=",{"$f":"AQ15/(LOG(AQ4)/LOG(2))","v":{"$error":"#DIV/0!"}},null,null,null,"U6=",{"$f":"AV15/(LOG(AV4)/LOG(2))","v":{"$error":"#DIV/0!"}}]
[]
[]
[null,null,null,null,null,null,null,null,null,null,null,null,null,"Total Target Seq"]
[null,null,null,null,null,null,null,null,null,null,null,null,null,{"$f":"COUNTIF(L7:L10,G3)","v":4},null,1,0,1,1,0,1]
[null,null,null,null,null,null,null,null,null,null,null,null,null,null,null,"% of reinforcement given in 6 equal intervals based on number of trials "]
[null,null,null,null,null,null,null,null,null,null,null,null,null,null,null,"%_1","%_2","%_3","%_4","%_5","%_6"]
[null,null,null,null,null,null,null,null,null,null,null,null,null,null,"target sequence",{"$f":"$G$3","v":12},{"$f":"$G$3","v":12},{"$f":"$G$3","v":12},{"$f":"$G$3","v":12},{"$f":"$G$3","v":12},{"$f":"$G$3","v":12}]
[null,null,null,null,null,null,null,null,null,null,null,null,null,null,"total reinforcement",{"$f":"U8","v":1},{"$f":"Z8","v":2},{"$f":"AE8","v":1},{"$f":"AJ8","v":1},{"$f":"AO8","v":2},{"$f":"AT8","v":1}]
[null,null,null,null,null,null,null,null,null,null,null,null,null,null,"% target"]
[null,null,null,null,null,null,null,null,null,null,null,null,null,null,"CCRF"]
[null,null,null,null,null,null,null,null,null,null,null,null,null,null,"% CCRf"]
[null,null,null,null,null,null,null,null,null,null,null,null,null,null,"average response rate",{"$f":"D7/P20","v":20},{"$f":"(D7-D7)/Q20","v":{"$error":"#DIV/0!"}},{"$f":"(D8-D7)/R20","v":172},{"$f":"(D9-D8)/S20","v":201},{"$f":"(D9-D9)/T20","v":{"$error":"#DIV/0!"}},{"$f":"(D10-D9)/U20","v":205}]

{"sheet":"!N129A40.105","index":61,"n_rows":37,"n_cols":48,"rows_kept":37,"cut":false,"hidden":false,"merged":[[4,39,4,42],[5,39,5,40],[4,44,4,47],[5,44,5,45],[4,24,4,27],[5,24,5,25],[4,29,4,32],[5,29,5,30],[4,34,4,37],[5,34,5,35],[1,1,1,2],[5,13,5,14],[18,13,18,14],[19,13,19,14],[4,19,4,22],[5,19,5,20]]}
["Report for:!N129A40.105"]
["Date:","<date>"]
["Hen:","<hen>",null,null,null,"Correct Sequence",{"$f":"Start!J2","v":12},null,null,null,null,null,null,null,null,"Total Sequences in Data",{"$f":"4994-COUNTBLANK(L7:L5000)","v":31},null,null,null,null,"Total Sequences in Block Data",{"$f":"COUNTA(L7:L11)","v":5},null,null,null,"Total Sequences in Block Data",{"$f":"COUNTA(L12:L16)","v":5},null,null,null,"Total Sequences in Block Data",{"$f":"COUNTA(L17:L22)","v":6},null,null,null,"Total Sequences in Block Data",{"$f":"COUNTA(L23:L27)","v":5},null,null,null,"Total Sequences in Block Data",{"$f":"COUNTA(L28:L32)","v":5},null,null,null,"Total Sequences in Block Data",{"$f":"COUNTA(L33:L37)","v":5}]
[null,null,null,null,null,null,null,null,null,null,null,null,null,null,null,"Total Sequences in Summary",{"$f":"SUM(O7:O14)","v":31},null,null,null,null,"Total Sequences in Block Summary",{"$f":"SUM(U7:U14)","v":5},null,null,null,"Total Sequences in Block Summary",{"$f":"SUM(Z7:Z14)","v":5},null,null,null,"Total Sequences in Block Summary",{"$f":"SUM(AE7:AE14)","v":6},null,null,null,"Total Sequences in Block Summary",{"$f":"SUM(AJ7:AJ14)","v":5},null,null,null,"Total Sequences in Block Summary",{"$f":"SUM(AO7:AO14)","v":5},null,null,null,"Total Sequences in Block Summary",{"$f":"SUM(AT7:AT14)","v":5}]
[null,null,null,null,null,null,null,null,null,null,null,null,null,null,null,null,null,null,null,"Block 1",null,null,null,null,"Block 2",null,null,null,null,"Block 3",null,null,null,null,"Block 4",null,null,null,null,"Block 5",null,null,null,null,"Block 6"]
["Sequence\nComponent\n1","Time\n1","Sequence\nComponent\n2","Time\n2","Sequence\nComponent\n3","Time\n3","Sequence\nComponent\n4","Time\n4","Sequence\nComponent\n5","Time\n5","Correct?\n0=No 1=Yes","Sequence",null,"Frequency",null,"Relative Frequency","Variability",null,null,"Frequency",null,"Relative Frequency","Variability",null,"Frequency",null,"Relative Frequency","Variability",null,"Frequency",null,"Relative Frequency","Variability",null,"Frequency",null,"Relative Frequency","Variability",null,"Frequency",null,"Relative Frequency","Variability",null,"Frequency",null,"Relative Frequency","Variability"]
[12,14,24,24,13,34,23,43,13,58,0,12,null,11,{"$f":"COUNTIF($L$7:$L$500,N7)","v":9},{"$f":"O7/$Q$4","v":0.29032258064516131},{"$f":"IF(P7=0,0,(P7*((LOG(P7))/LOG(2))))","v":-0.5180142509839053},null,null,{"$f":"N7","v":11},{"$f":"COUNTIF(L7:L11,T7)","v":1},{"$f":"U7/(W4-U8)","v":0.33333333333333331},{"$f":"IF(V7=0,0,(V7*((LOG(V7))/LOG(2))))","v":-0.52832083357371862},null,{"$f":"N7","v":11},{"$f":"COUNTIF(L12:L16,Y7)","v":1},{"$f":"Z7/(AB4-Z8)","v":1},{"$f":"IF(AA7=0,0,(AA7*((LOG(AA7))/LOG(2))))","v":0},null,{"$f":"N7","v":11},{"$f":"COUNTIF(L17:L22,AD7)","v":2},{"$f":"AE7/(AG4-AE8)","v":1},{"$f":"IF(AF7=0,0,(AF7*((LOG(AF7))/LOG(2))))","v":0},null,{"$f":"N7","v":11},{"$f":"COUNTIF(L23:L27,AI7)","v":2},{"$f":"AJ7/(AL4-AJ8)","v":0.66666666666666663},{"$f":"IF(AK7=0,0,(AK7*((LOG(AK7))/LOG(2))))","v":-0.38997500048077083},null,{"$f":"N7","v":11},{"$f":"COUNTIF(L28:L32,AN7)","v":1},{"$f":"AO7/(AQ4-AO8)","v":0.5},{"$f":"IF(AP7=0,0,(AP7*((LOG(AP7))/LOG(2))))","v":-0.5},null,{"$f":"N7","v":11},{"$f":"COUNTIF(L33:L37,AS7)","v":2},{"$f":"AT7/(AV4-AT8)","v":0.66666666666666663},{"$f":"IF(AU7=0,0,(AU7*((LOG(AU7))/LOG(2))))","v":-0.38997500048077083}]
[12,166,24,175,13,191,23,200,13,215,0,12,null,12,{"$f":"COUNTIF($L$7:$L$500,N8)","v":17},{"$f":"O8/$Q$4","v":0.54838709677419351},{"$f":"IF(P8=0,0,(P8*((LOG(P8))/LOG(2))))","v":-0.47530545081681003},null,null,{"$f":"N8","v":12},{"$f":"COUNTIF(L7:L11,T8)","v":2},null,null,null,{"$f":"N8","v":12},{"$f":"COUNTIF(L12:L16,Y8)","v":4},null,null,null,{"$f":"N8","v":12},{"$f":"COUNTIF(L17:L22,AD8)","v":4},null,null,null,{"$f":"N8","v":12},{"$f":"COUNTIF(L23:L27,AI8)","v":2},null,null,null,{"$f":"N8","v":12},{"$f":"COUNTIF(L28:L32,AN8)","v":3},null,null,null,{"$f":"N8","v":12},{"$f":"COUNTIF(L33:L37,AS8)","v":2}]
[21,332,11,348,22,354,14,365,24,371,0,21,null,21,{"$f":"COUNTIF($L$7:$L$500,N9)","v":4},{"$f":"O9/$Q$4","v":0.12903225806451613},{"$f":"IF(P9=0,0,(P9*((LOG(P9))/LOG(2))))","v":-0.38118662069508069},null,null,{"$f":"N9","v":21},{"$f":"COUNTIF(L7:L11,T9)","v":2},{"$f":"U9/(W4-U8)","v":0.66666666666666663},{"$f":"IF(V9=0,0,(V9*((LOG(V9))/LOG(2))))","v":-0.38997500048077083},null,{"$f":"N9","v":21},{"$f":"COUNTIF(L12:L16,Y9)","v":0},{"$f":"Z9/(AB4-Z8)","v":0},{"$f":"IF(AA9=0,0,(AA9*((LOG(AA9))/LOG(2))))","v":0},null,{"$f":"N9","v":21},{"$f":"COUNTIF(L17:L22,AD9)","v":0},{"$f":"AE9/(AG4-AE8)","v":0},{"$f":"IF(AF9=0,0,(AF9*((LOG(AF9))/LOG(2))))","v":0},null,{"$f":"N9","v":21},{"$f":"COUNTIF(L23:L27,AI9)","v":1},{"$f":"AJ9/(AL4-AJ8)","v":0.33333333333333331},{"$f":"IF(AK9=0,0,(AK9*((LOG(AK9))/LOG(2))))","v":-0.52832083357371862},null,{"$f":"N9","v":21},{"$f":"COUNTIF(L28:L32,AN9)","v":0},{"$f":"AO9/(AQ4-AO8)","v":0},{"$f":"IF(AP9=0,0,(AP9*((LOG(AP9))/LOG(2))))","v":0},null,{"$f":"N9","v":21},{"$f":"COUNTIF(L33:L37,AS9)","v":1},{"$f":"AT9/(AV4-AT8)","v":0.33333333333333331},{"$f":"IF(AU9=0,0,(AU9*((LOG(AU9))/LOG(2))))","v":-0.52832083357371862}]
[12,5486,13,5496,24,5517,23,5543,13,5558,0,11,null,22,{"$f":"COUNTIF($L$7:$L$500,N10)","v":1},{"$f":"O10/$Q$4","v":3.2258064516129031E-2},{"$f":"IF(P10=0,0,(P10*((LOG(P10))/LOG(2))))","v":-0.15981278420602821},null,null,{"$f":"N10","v":22},{"$f":"COUNTIF(L7:L11,T10)","v":0},{"$f":"U10/(W4-U8)","v":0},{"$f":"IF(V10=0,0,(V10*((LOG(V10))/LOG(2))))","v":0},null,{"$f":"N10","v":22},{"$f":"COUNTIF(L12:L16,Y10)","v":0},{"$f":"Z10/(AB4-Z8)","v":0},{"$f":"IF(AA10=0,0,(AA10*((LOG(AA10))/LOG(2))))","v":0},null,{"$f":"N10","v":22},{"$f":"COUNTIF(L17:L22,AD10)","v":0},{"$f":"AE10/(AG4-AE8)","v":0},{"$f":"IF(AF10=0,0,(AF10*((LOG(AF10))/LOG(2))))","v":0},null,{"$f":"N10","v":22},{"$f":"COUNTIF(L23:L27,AI10)","v":0},{"$f":"AJ10/(AL4-AJ8)","v":0},{"$f":"IF(AK10=0,0,(AK10*((LOG(AK10))/LOG(2))))","v":0},null,{"$f":"N10","v":22},{"$f":"COUNTIF(L28:L32,AN10)","v":1},{"$f":"AO10/(AQ4-AO8)","v":0.5},{"$f":"IF(AP10=0,0,(AP10*((LOG(AP10))/LOG(2))))","v":-0.5},null,{"$f":"N10","v":22},{"$f":"COUNTIF(L33:L37,AS10)","v":0},{"$f":"AT10/(AV4-AT8)","v":0},{"$f":"IF(AU10=0,0,(AU10*((LOG(AU10))/LOG(2))))","v":0}]
[21,5682,11,5705,11,5716,21,5727,11,5745,1,21,null,null,null,null,null,null,null,{"$f":"N11","v":0},{"$f":"COUNTIF(L7:L11,T11)","v":0},{"$f":"U11/(W4-U8)","v":0},{"$f":"IF(V11=0,0,(V11*((LOG(V11))/LOG(2))))","v":0},null,{"$f":"N11","v":0},{"$f":"COUNTIF(L12:L16,Y11)","v":0},{"$f":"Z11/(AB4-Z8)","v":0},{"$f":"IF(AA11=0,0,(AA11*((LOG(AA11))/LOG(2))))","v":0},null,{"$f":"N11","v":0},{"$f":"COUNTIF(L17:L22,AD11)","v":0},{"$f":"AE11/(AG4-AE8)","v":0},{"$f":"IF(AF11=0,0,(AF11*((LOG(AF11))/LOG(2))))","v":0},null,{"$f":"N11","v":0},{"$f":"COUNTIF(L23:L27,AI11)","v":0},{"$f":"AJ11/(AL4-AJ8)","v":0},{"$f":"IF(AK11=0,0,(AK11*((LOG(AK11))/LOG(2))))","v":0},null,{"$f":"N11","v":0},{"$f":"COUNTIF(L28:L32,AN11)","v":0},{"$f":"AO11/(AQ4-AO8)","v":0},{"$f":"IF(AP11=0,0,(AP11*((LOG(AP11))/LOG(2))))","v":0},null,{"$f":"N11","v":0},{"$f":"COUNTIF(L33:L37,AS11)","v":0},{"$f":"AT11/(AV4-AT8)","v":0},{"$f":"IF(AU11=0,0,(AU11*((LOG(AU11))/LOG(2))))","v":0}]
[12,5908,24,5918,13,5934,23,5945,13,5959,0,12,null,null,null,null,null,null,null,{"$f":"N12","v":0},{"$f":"COUNTIF(L7:L11,T12)","v":0},{"$f":"U12/(W4-U8)","v":0},{"$f":"IF(V12=0,0,(V12*((LOG(V12))/LOG(2))))","v":0},null,{"$f":"N12","v":0},{"$f":"COUNTIF(L12:L16,Y12)","v":0},{"$f":"Z12/(AB4-Z8)","v":0},{"$f":"IF(AA12=0,0,(AA12*((LOG(AA12))/LOG(2))))","v":0},null,{"$f":"N12","v":0},{"$f":"COUNTIF(L17:L22,AD12)","v":0},{"$f":"AE12/(AG4-AE8)","v":0},{"$f":"IF(AF12=0,0,(AF12*((LOG(AF12))/LOG(2))))","v":0},null,{"$f":"N12","v":0},{"$f":"COUNTIF(L23:L27,AI12)","v":0},{"$f":"AJ12/(AL4-AJ8)","v":0},{"$f":"IF(AK12=0,0,(AK12*((LOG(AK12))/LOG(2))))","v":0},null,{"$f":"N12","v":0},{"$f":"COUNTIF(L28:L32,AN12)","v":0},{"$f":"AO12/(AQ4-AO8)","v":0},{"$f":"IF(AP12=0,0,(AP12*((LOG(AP12))/LOG(2))))","v":0},null,{"$f":"N12","v":0},{"$f":"COUNTIF(L33:L37,AS12)","v":0},{"$f":"AT12/(AV4-AT8)","v":0},{"$f":"IF(AU12=0,0,(AU12*((LOG(AU12))/LOG(2))))","v":0}]
[12,6068,24,6078,13,6089,23,6099,24,6114,0,12,null,null,null,null,null,null,null,{"$f":"N13","v":0},{"$f":"COUNTIF(L7:L11,T13)","v":0},{"$f":"U13/(W4-U8)","v":0},{"$f":"IF(V13=0,0,(V13*((LOG(V13))/LOG(2))))","v":0},null,{"$f":"N13","v":0},{"$f":"COUNTIF(L12:L16,Y13)","v":0},{"$f":"Z13/(AB4-Z8)","v":0},{"$f":"IF(AA13=0,0,(AA13*((LOG(AA13))/LOG(2))))","v":0},null,{"$f":"N13","v":0},{"$f":"COUNTIF(L17:L22,AD13)","v":0},{"$f":"AE13/(AG4-AE8)","v":0},{"$f":"IF(AF13=0,0,(AF13*((LOG(AF13))/LOG(2))))","v":0},null,{"$f":"N13","v":0},{"$f":"COUNTIF(L23:L27,AI13)","v":0},{"$f":"AJ13/(AL4-AJ8)","v":0},{"$f":"IF(AK13=0,0,(AK13*((LOG(AK13))/LOG(2))))","v":0},null,{"$f":"N13","v":0},{"$f":"COUNTIF(L28:L32,AN13)","v":0},{"$f":"AO13/(AQ4-AO8)","v":0},{"$f":"IF(AP13=0,0,(AP13*((LOG(AP13))/LOG(2))))","v":0},null,{"$f":"N13","v":0},{"$f":"COUNTIF(L33:L37,AS13)","v":0},{"$f":"AT13/(AV4-AT8)","v":0},{"$f":"IF(AU13=0,0,(AU13*((LOG(AU13))/LOG(2))))","v":0}]
[12,6229,13,6245,24,6255,14,6266,24,6276,0,11,null,null,null,null,null,null,null,{"$f":"N14","v":0},{"$f":"COUNTIF(L7:L11,T14)","v":0},{"$f":"U14/(W4-U8)","v":0},{"$f":"IF(V14=0,0,(V14*((LOG(V14))/LOG(2))))","v":0},null,{"$f":"N14","v":0},{"$f":"COUNTIF(L12:L16,Y14)","v":0},{"$f":"Z14/(AB4-Z8)","v":0},{"$f":"IF(AA14=0,0,(AA14*((LOG(AA14))/LOG(2))))","v":0},null,{"$f":"N14","v":0},{"$f":"COUNTIF(L17:L22,AD14)","v":0},{"$f":"AE14/(AG4-AE8)","v":0},{"$f":"IF(AF14=0,0,(AF14*((LOG(AF14))/LOG(2))))","v":0},null,{"$f":"N14","v":0},{"$f":"COUNTIF(L23:L27,AI14)","v":0},{"$f":"AJ14/(AL4-AJ8)","v":0},{"$f":"IF(AK14=0,0,(AK14*((LOG(AK14))/LOG(2))))","v":0},null,{"$f":"N14","v":0},{"$f":"COUNTIF(L28:L32,AN14)","v":0},{"$f":"AO14/(AQ4-AO8)","v":0},{"$f":"IF(AP14=0,0,(AP14*((LOG(AP14))/LOG(2))))","v":0},null,{"$f":"N14","v":0},{"$f":"COUNTIF(L33:L37,AS14)","v":0},{"$f":"AT14/(AV4-AT8)","v":0},{"$f":"IF(AU14=0,0,(AU14*((LOG(AU14))/LOG(2))))","v":0}]
[12,6561,24,6571,13,6581,23,6591,13,6605,0,12,null,null,null,{"$f":"SUM(P7:P14)","v":0.99999999999999989},{"$f":"-SUM(Q7:Q14)","v":1.5343191067018243},null,null,null,null,{"$f":"SUM(V7:V14)","v":1},{"$f":"-SUM(W7:W14)","v":0.91829583405448945},null,null,null,{"$f":"SUM(AA7:AA14)","v":1},{"$f":"-SUM(AB7:AB14)","v":0},null,null,null,{"$f":"SUM(AF7:AF14)","v":1},{"$f":"-SUM(AG7:AG14)","v":0},null,null,null,{"$f":"SUM(AK7:AK14)","v":1},{"$f":"-SUM(AL7:AL14)","v":0.91829583405448945},null,null,null,{"$f":"SUM(AP7:AP14)","v":1},{"$f":"-SUM(AQ7:AQ14)","v":1},null,null,null,{"$f":"SUM(AU7:AU14)","v":1},{"$f":"-SUM(AV7:AV14)","v":0.91829583405448945}]
[12,6810,24,6821,13,6834,23,6843,13,6856,0,12,null,null,null,"U=",{"$f":"Q15/(LOG(Q4)/LOG(2))","v":0.30970091021322665},null,null,null,null,"U1=",{"$f":"W15/(LOG(W4)/LOG(2))","v":0.3954884891037232},null,null,null,"U2=",{"$f":"AB15/(LOG(AB4)/LOG(2))","v":0},null,null,null,"U3=",{"$f":"AG15/(LOG(AG4)/LOG(2))","v":0},null,null,null,"U4=",{"$f":"AL15/(LOG(AL4)/LOG(2))","v":0.3954884891037232},null,null,null,"U5=",{"$f":"AQ15/(LOG(AQ4)/LOG(2))","v":0.430676558073393},null,null,null,"U6=",{"$f":"AV15/(LOG(AV4)/LOG(2))","v":0.3954884891037232}]
[12,6980,24,6989,13,7002,23,7011,24,7038,0,12]
[12,7146,24,7152,13,7159,14,7172,24,7182,0,12]
[12,7461,24,7467,13,7477,14,7495,24,7505,0,12,null,"Total Target Seq"]
[12,7694,24,7706,13,7715,23,7727,13,7739,0,12,null,{"$f":"COUNTIF(L7:L37,G3)","v":17},null,5,5,6,5,5,5]
[12,8105,13,8115,24,8126,14,8137,13,8152,0,11,null,null,null,"% of reinforcement given in 6 equal intervals based on number of trials "]
[12,8283,13,8298,13,8317,23,8325,13,8336,0,11,null,null,null,"%_1","%_2","%_3","%_4","%_5","%_6"]
[12,8549,13,8560,13,8580,23,8589,13,8610,0,11,null,null,"target sequence",{"$f":"$G$3","v":12},{"$f":"$G$3","v":12},{"$f":"$G$3","v":12},{"$f":"$G$3","v":12},{"$f":"$G$3","v":12},{"$f":"$G$3","v":12}]
[12,9176,13,9185,13,9195,14,9204,13,9214,0,11,null,null,"total reinforcement",{"$f":"U8","v":2},{"$f":"Z8","v":4},{"$f":"AE8","v":4},{"$f":"AJ8","v":2},{"$f":"AO8","v":3},{"$f":"AT8","v":2}]
[12,10042,24,10050,13,10065,23,10077,13,10650,0,12,null,null,"% target"]
[12,11705,24,11718,13,11728,23,11736,24,11751,0,12,null,null,"CCRF"]
[21,14074,11,14087,22,14094,14,14105,24,14113,0,21,null,null,"% CCRf"]
[12,14562,24,14572,24,14584,23,14601,24,14613,0,12,null,null,"average response rate",{"$f":"D11/P20","v":1141},{"$f":"(D16-D11)/Q20","v":223.2},{"$f":"(D22-D16)/R20","v":246.16666666666666},{"$f":"(D27-D22)/S20","v":1157.8},{"$f":"(D32-D27)/T20","v":340.2},{"$f":"(D37-D32)/U20","v":1640.6}]
[12,14767,24,14778,13,14790,14,14799,24,14833,0,12]
[12,15203,13,15271,24,15282,23,15294,13,15306,0,11]
[21,15529,22,15585,24,15614,23,15626,24,15653,0,22]
[12,15773,24,15788,13,15805,23,15819,13,15839,0,12]
[12,16133,24,16160,13,16209,14,16223,13,16233,0,12]
[12,16831,24,16847,24,16861,23,16878,13,16902,0,12]
[12,20300,13,20326,13,20341,14,20380,13,20399,0,11]
[12,20573,13,20590,13,20598,23,20607,13,20622,0,11]
[21,23974,11,23991,null,null,null,null,null,null,null,21]

{"sheet":"!N130A40.105","index":62,"n_rows":28,"n_cols":48,"rows_kept":28,"cut":false,"hidden":false,"merged":[[4,39,4,42],[5,39,5,40],[4,44,4,47],[5,44,5,45],[4,24,4,27],[5,24,5,25],[4,29,4,32],[5,29,5,30],[4,34,4,37],[5,34,5,35],[1,1,1,2],[5,13,5,14],[18,13,18,14],[19,13,19,14],[4,19,4,22],[5,19,5,20]]}
["Report for:!N130A40.105"]
["Date:","<date>"]
["Hen:","<hen>",null,null,null,"Correct Sequence",{"$f":"Start!J2","v":12},null,null,null,null,null,null,null,null,"Total Sequences in Data",{"$f":"4994-COUNTBLANK(L7:L5000)","v":18},null,null,null,null,"Total Sequences in Block Data",{"$f":"COUNTA(L7:L9)","v":3},null,null,null,"Total Sequences in Block Data",{"$f":"COUNTA(L10:L12)","v":3},null,null,null,"Total Sequences in Block Data",{"$f":"COUNTA(L13:L15)","v":3},null,null,null,"Total Sequences in Block Data",{"$f":"COUNTA(L16:L18)","v":3},null,null,null,"Total Sequences in Block Data",{"$f":"COUNTA(L19:L21)","v":3},null,null,null,"Total Sequences in Block Data",{"$f":"COUNTA(L22:L24)","v":3}]
[null,null,null,null,null,null,null,null,null,null,null,null,null,null,null,"Total Sequences in Summary",{"$f":"SUM(O7:O14)","v":17},null,null,null,null,"Total Sequences in Block Summary",{"$f":"SUM(U7:U14)","v":3},null,null,null,"Total Sequences in Block Summary",{"$f":"SUM(Z7:Z14)","v":3},null,null,null,"Total Sequences in Block Summary",{"$f":"SUM(AE7:AE14)","v":3},null,null,null,"Total Sequences in Block Summary",{"$f":"SUM(AJ7:AJ14)","v":3},null,null,null,"Total Sequences in Block Summary",{"$f":"SUM(AO7:AO14)","v":3},null,null,null,"Total Sequences in Block Summary",{"$f":"SUM(AT7:AT14)","v":2}]
[null,null,null,null,null,null,null,null,null,null,null,null,null,null,null,null,null,null,null,"Block 1",null,null,null,null,"Block 2",null,null,null,null,"Block 3",null,null,null,null,"Block 4",null,null,null,null,"Block 5",null,null,null,null,"Block 6"]
["Sequence\nComponent\n1","Time\n1","Sequence\nComponent\n2","Time\n2","Sequence\nComponent\n3","Time\n3","Sequence\nComponent\n4","Time\n4","Sequence\nComponent\n5","Time\n5","Correct?\n0=No 1=Yes","Sequence",null,"Frequency",null,"Relative Frequency","Variability",null,null,"Frequency",null,"Relative Frequency","Variability",null,"Frequency",null,"Relative Frequency","Variability",null,"Frequency",null,"Relative Frequency","Variability",null,"Frequency",null,"Relative Frequency","Variability",null,"Frequency",null,"Relative Frequency","Variability",null,"Frequency",null,"Relative Frequency","Variability"]
[12,38,24,44,13,71,23,77,13,92,0,12,null,11,{"$f":"COUNTIF($L$7:$L$500,N7)","v":9},{"$f":"O7/$Q$4","v":0.52941176470588236},{"$f":"IF(P7=0,0,(P7*((LOG(P7))/LOG(2))))","v":-0.48575532695719081},null,null,{"$f":"N7","v":11},{"$f":"COUNTIF(L7:L9,T7)","v":1},{"$f":"U7/(W4-U8)","v":1},{"$f":"IF(V7=0,0,(V7*((LOG(V7))/LOG(2))))","v":0},null,{"$f":"N7","v":11},{"$f":"COUNTIF(L10:L12,Y7)","v":1},{"$f":"Z7/(AB4-Z8)","v":0.5},{"$f":"IF(AA7=0,0,(AA7*((LOG(AA7))/LOG(2))))","v":-0.5},null,{"$f":"N7","v":11},{"$f":"COUNTIF(L13:L15,AD7)","v":1},{"$f":"AE7/(AG4-AE8)","v":0.5},{"$f":"IF(AF7=0,0,(AF7*((LOG(AF7))/LOG(2))))","v":-0.5},null,{"$f":"N7","v":11},{"$f":"COUNTIF(L16:L18,AI7)","v":2},{"$f":"AJ7/(AL4-AJ8)","v":1},{"$f":"IF(AK7=0,0,(AK7*((LOG(AK7))/LOG(2))))","v":0},null,{"$f":"N7","v":11},{"$f":"COUNTIF(L19:L21,AN7)","v":3},{"$f":"AO7/(AQ4-AO8)","v":1},{"$f":"IF(AP7=0,0,(AP7*((LOG(AP7))/LOG(2))))","v":0},null,{"$f":"N7","v":11},{"$f":"COUNTIF(L22:L24,AS7)","v":1},{"$f":"AT7/(AV4-AT8)","v":0.5},{"$f":"IF(AU7=0,0,(AU7*((LOG(AU7))/LOG(2))))","v":-0.5}]
[12,199,13,218,24,231,23,255,24,281,0,11,null,12,{"$f":"COUNTIF($L$7:$L$500,N8)","v":5},{"$f":"O8/$Q$4","v":0.29411764705882354},{"$f":"IF(P8=0,0,(P8*((LOG(P8))/LOG(2))))","v":-0.51927492540087561},null,null,{"$f":"N8","v":12},{"$f":"COUNTIF(L7:L9,T8)","v":2},null,null,null,{"$f":"N8","v":12},{"$f":"COUNTIF(L10:L12,Y8)","v":1},null,null,null,{"$f":"N8","v":12},{"$f":"COUNTIF(L13:L15,AD8)","v":1},null,null,null,{"$f":"N8","v":12},{"$f":"COUNTIF(L16:L18,AI8)","v":1},null,null,null,{"$f":"N8","v":12},{"$f":"COUNTIF(L19:L21,AN8)","v":0},null,null,null,{"$f":"N8","v":12},{"$f":"COUNTIF(L22:L24,AS8)","v":0}]
[12,385,24,392,13,402,14,417,24,426,0,12,null,21,{"$f":"COUNTIF($L$7:$L$500,N9)","v":1},{"$f":"O9/$Q$4","v":5.8823529411764705E-2},{"$f":"IF(P9=0,0,(P9*((LOG(P9))/LOG(2))))","v":-0.24043899066178465},null,null,{"$f":"N9","v":21},{"$f":"COUNTIF(L7:L9,T9)","v":0},{"$f":"U9/(W4-U8)","v":0},{"$f":"IF(V9=0,0,(V9*((LOG(V9))/LOG(2))))","v":0},null,{"$f":"N9","v":21},{"$f":"COUNTIF(L10:L12,Y9)","v":0},{"$f":"Z9/(AB4-Z8)","v":0},{"$f":"IF(AA9=0,0,(AA9*((LOG(AA9))/LOG(2))))","v":0},null,{"$f":"N9","v":21},{"$f":"COUNTIF(L13:L15,AD9)","v":0},{"$f":"AE9/(AG4-AE8)","v":0},{"$f":"IF(AF9=0,0,(AF9*((LOG(AF9))/LOG(2))))","v":0},null,{"$f":"N9","v":21},{"$f":"COUNTIF(L16:L18,AI9)","v":0},{"$f":"AJ9/(AL4-AJ8)","v":0},{"$f":"IF(AK9=0,0,(AK9*((LOG(AK9))/LOG(2))))","v":0},null,{"$f":"N9","v":21},{"$f":"COUNTIF(L19:L21,AN9)","v":0},{"$f":"AO9/(AQ4-AO8)","v":0},{"$f":"IF(AP9=0,0,(AP9*((LOG(AP9))/LOG(2))))","v":0},null,{"$f":"N9","v":21},{"$f":"COUNTIF(L22:L24,AS9)","v":1},{"$f":"AT9/(AV4-AT8)","v":0.5},{"$f":"IF(AU9=0,0,(AU9*((LOG(AU9))/LOG(2))))","v":-0.5}]
[12,557,24,564,13,584,23,595,24,618,0,12,null,22,{"$f":"COUNTIF($L$7:$L$500,N10)","v":2},{"$f":"O10/$Q$4","v":0.11764705882352941},{"$f":"IF(P10=0,0,(P10*((LOG(P10))/LOG(2))))","v":-0.36323092250003997},null,null,{"$f":"N10","v":22},{"$f":"COUNTIF(L7:L9,T10)","v":0},{"$f":"U10/(W4-U8)","v":0},{"$f":"IF(V10=0,0,(V10*((LOG(V10))/LOG(2))))","v":0},null,{"$f":"N10","v":22},{"$f":"COUNTIF(L10:L12,Y10)","v":1},{"$f":"Z10/(AB4-Z8)","v":0.5},{"$f":"IF(AA10=0,0,(AA10*((LOG(AA10))/LOG(2))))","v":-0.5},null,{"$f":"N10","v":22},{"$f":"COUNTIF(L13:L15,AD10)","v":1},{"$f":"AE10/(AG4-AE8)","v":0.5},{"$f":"IF(AF10=0,0,(AF10*((LOG(AF10))/LOG(2))))","v":-0.5},null,{"$f":"N10","v":22},{"$f":"COUNTIF(L16:L18,AI10)","v":0},{"$f":"AJ10/(AL4-AJ8)","v":0},{"$f":"IF(AK10=0,0,(AK10*((LOG(AK10))/LOG(2))))","v":0},null,{"$f":"N10","v":22},{"$f":"COUNTIF(L19:L21,AN10)","v":0},{"$f":"AO10/(AQ4-AO8)","v":0},{"$f":"IF(AP10=0,0,(AP10*((LOG(AP10))/LOG(2))))","v":0},null,{"$f":"N10","v":22},{"$f":"COUNTIF(L22:L24,AS10)","v":0},{"$f":"AT10/(AV4-AT8)","v":0},{"$f":"IF(AU10=0,0,(AU10*((LOG(AU10))/LOG(2))))","v":0}]
[12,747,13,758,13,771,14,800,13,816,0,11,null,null,null,null,null,null,null,{"$f":"N11","v":0},{"$f":"COUNTIF(L7:L9,T11)","v":0},{"$f":"U11/(W4-U8)","v":0},{"$f":"IF(V11=0,0,(V11*((LOG(V11))/LOG(2))))","v":0},null,{"$f":"N11","v":0},{"$f":"COUNTIF(L10:L12,Y11)","v":0},{"$f":"Z11/(AB4-Z8)","v":0},{"$f":"IF(AA11=0,0,(AA11*((LOG(AA11))/LOG(2))))","v":0},null,{"$f":"N11","v":0},{"$f":"COUNTIF(L13:L15,AD11)","v":0},{"$f":"AE11/(AG4-AE8)","v":0},{"$f":"IF(AF11=0,0,(AF11*((LOG(AF11))/LOG(2))))","v":0},null,{"$f":"N11","v":0},{"$f":"COUNTIF(L16:L18,AI11)","v":0},{"$f":"AJ11/(AL4-AJ8)","v":0},{"$f":"IF(AK11=0,0,(AK11*((LOG(AK11))/LOG(2))))","v":0},null,{"$f":"N11","v":0},{"$f":"COUNTIF(L19:L21,AN11)","v":0},{"$f":"AO11/(AQ4-AO8)","v":0},{"$f":"IF(AP11=0,0,(AP11*((LOG(AP11))/LOG(2))))","v":0},null,{"$f":"N11","v":0},{"$f":"COUNTIF(L22:L24,AS11)","v":0},{"$f":"AT11/(AV4-AT8)","v":0},{"$f":"IF(AU11=0,0,(AU11*((LOG(AU11))/LOG(2))))","v":0}]
[21,975,22,989,24,999,23,1021,13,1037,0,22,null,null,null,null,null,null,null,{"$f":"N12","v":0},{"$f":"COUNTIF(L7:L9,T12)","v":0},{"$f":"U12/(W4-U8)","v":0},{"$f":"IF(V12=0,0,(V12*((LOG(V12))/LOG(2))))","v":0},null,{"$f":"N12","v":0},{"$f":"COUNTIF(L10:L12,Y12)","v":0},{"$f":"Z12/(AB4-Z8)","v":0},{"$f":"IF(AA12=0,0,(AA12*((LOG(AA12))/LOG(2))))","v":0},null,{"$f":"N12","v":0},{"$f":"COUNTIF(L13:L15,AD12)","v":0},{"$f":"AE12/(AG4-AE8)","v":0},{"$f":"IF(AF12=0,0,(AF12*((LOG(AF12))/LOG(2))))","v":0},null,{"$f":"N12","v":0},{"$f":"COUNTIF(L16:L18,AI12)","v":0},{"$f":"AJ12/(AL4-AJ8)","v":0},{"$f":"IF(AK12=0,0,(AK12*((LOG(AK12))/LOG(2))))","v":0},null,{"$f":"N12","v":0},{"$f":"COUNTIF(L19:L21,AN12)","v":0},{"$f":"AO12/(AQ4-AO8)","v":0},{"$f":"IF(AP12=0,0,(AP12*((LOG(AP12))/LOG(2))))","v":0},null,{"$f":"N12","v":0},{"$f":"COUNTIF(L22:L24,AS12)","v":0},{"$f":"AT12/(AV4-AT8)","v":0},{"$f":"IF(AU12=0,0,(AU12*((LOG(AU12))/LOG(2))))","v":0}]
[12,1155,13,1166,13,1179,23,1188,13,1211,0,11,null,null,null,null,null,null,null,{"$f":"N13","v":0},{"$f":"COUNTIF(L7:L9,T13)","v":0},{"$f":"U13/(W4-U8)","v":0},{"$f":"IF(V13=0,0,(V13*((LOG(V13))/LOG(2))))","v":0},null,{"$f":"N13","v":0},{"$f":"COUNTIF(L10:L12,Y13)","v":0},{"$f":"Z13/(AB4-Z8)","v":0},{"$f":"IF(AA13=0,0,(AA13*((LOG(AA13))/LOG(2))))","v":0},null,{"$f":"N13","v":0},{"$f":"COUNTIF(L13:L15,AD13)","v":0},{"$f":"AE13/(AG4-AE8)","v":0},{"$f":"IF(AF13=0,0,(AF13*((LOG(AF13))/LOG(2))))","v":0},null,{"$f":"N13","v":0},{"$f":"COUNTIF(L16:L18,AI13)","v":0},{"$f":"AJ13/(AL4-AJ8)","v":0},{"$f":"IF(AK13=0,0,(AK13*((LOG(AK13))/LOG(2))))","v":0},null,{"$f":"N13","v":0},{"$f":"COUNTIF(L19:L21,AN13)","v":0},{"$f":"AO13/(AQ4-AO8)","v":0},{"$f":"IF(AP13=0,0,(AP13*((LOG(AP13))/LOG(2))))","v":0},null,{"$f":"N13","v":0},{"$f":"COUNTIF(L22:L24,AS13)","v":0},{"$f":"AT13/(AV4-AT8)","v":0},{"$f":"IF(AU13=0,0,(AU13*((LOG(AU13))/LOG(2))))","v":0}]
[21,1377,22,1388,24,1406,23,1428,13,1445,0,22,null,null,null,null,null,null,null,{"$f":"N14","v":0},{"$f":"COUNTIF(L7:L9,T14)","v":0},{"$f":"U14/(W4-U8)","v":0},{"$f":"IF(V14=0,0,(V14*((LOG(V14))/LOG(2))))","v":0},null,{"$f":"N14","v":0},{"$f":"COUNTIF(L10:L12,Y14)","v":0},{"$f":"Z14/(AB4-Z8)","v":0},{"$f":"IF(AA14=0,0,(AA14*((LOG(AA14))/LOG(2))))","v":0},null,{"$f":"N14","v":0},{"$f":"COUNTIF(L13:L15,AD14)","v":0},{"$f":"AE14/(AG4-AE8)","v":0},{"$f":"IF(AF14=0,0,(AF14*((LOG(AF14))/LOG(2))))","v":0},null,{"$f":"N14","v":0},{"$f":"COUNTIF(L16:L18,AI14)","v":0},{"$f":"AJ14/(AL4-AJ8)","v":0},{"$f":"IF(AK14=0,0,(AK14*((LOG(AK14))/LOG(2))))","v":0},null,{"$f":"N14","v":0},{"$f":"COUNTIF(L19:L21,AN14)","v":0},{"$f":"AO14/(AQ4-AO8)","v":0},{"$f":"IF(AP14=0,0,(AP14*((LOG(AP14))/LOG(2))))","v":0},null,{"$f":"N14","v":0},{"$f":"COUNTIF(L22:L24,AS14)","v":0},{"$f":"AT14/(AV4-AT8)","v":0},{"$f":"IF(AU14=0,0,(AU14*((LOG(AU14))/LOG(2))))","v":0}]
[12,1554,24,1579,24,1601,14,1615,24,1625,0,12,null,null,null,{"$f":"SUM(P7:P14)","v":1},{"$f":"-SUM(Q7:Q14)","v":1.6087001655198914},null,null,null,null,{"$f":"SUM(V7:V14)","v":1},{"$f":"-SUM(W7:W14)","v":0},null,null,null,{"$f":"SUM(AA7:AA14)","v":1},{"$f":"-SUM(AB7:AB14)","v":1},null,null,null,{"$f":"SUM(AF7:AF14)","v":1},{"$f":"-SUM(AG7:AG14)","v":1},null,null,null,{"$f":"SUM(AK7:AK14)","v":1},{"$f":"-SUM(AL7:AL14)","v":0},null,null,null,{"$f":"SUM(AP7:AP14)","v":1},{"$f":"-SUM(AQ7:AQ14)","v":0},null,null,null,{"$f":"SUM(AU7:AU14)","v":1},{"$f":"-SUM(AV7:AV14)","v":1}]
[12,5233,24,5253,13,5268,23,5278,13,5293,0,12,null,null,null,"U=",{"$f":"Q15/(LOG(Q4)/LOG(2))","v":0.3935693676001214},null,null,null,null,"U1=",{"$f":"W15/(LOG(W4)/LOG(2))","v":0},null,null,null,"U2=",{"$f":"AB15/(LOG(AB4)/LOG(2))","v":0.63092975357145753},null,null,null,"U3=",{"$f":"AG15/(LOG(AG4)/LOG(2))","v":0.63092975357145753},null,null,null,"U4=",{"$f":"AL15/(LOG(AL4)/LOG(2))","v":0},null,null,null,"U5=",{"$f":"AQ15/(LOG(AQ4)/LOG(2))","v":0},null,null,null,"U6=",{"$f":"AV15/(LOG(AV4)/LOG(2))","v":1}]
[12,5714,13,5725,13,5736,23,5747,24,5768,0,11]
[12,8042,13,8053,13,8062,14,8072,13,8084,0,11]
[12,9399,13,9407,13,9829,14,9855,24,9864,0,11,null,"Total Target Seq"]
[12,10409,13,19340,13,19349,23,19360,24,19371,0,11,null,{"$f":"COUNTIF(L7:L24,G3)","v":5},null,3,3,3,3,3,3]
[12,19497,13,19507,24,19520,14,19531,24,19541,0,11,null,null,null,"% of reinforcement given in 6 equal intervals based on number of trials "]
[12,20096,13,20109,13,20119,23,20128,13,20141,0,11,null,null,null,"%_1","%_2","%_3","%_4","%_5","%_6"]
[21,20920,11,20931,22,20942,14,20962,24,20974,0,21,null,null,"target sequence",{"$f":"$G$3","v":12},{"$f":"$G$3","v":12},{"$f":"$G$3","v":12},{"$f":"$G$3","v":12},{"$f":"$G$3","v":12},{"$f":"$G$3","v":12}]
[12,21302,null,null,null,null,null,null,null,null,null,1,null,null,"total reinforcement",{"$f":"U8","v":2},{"$f":"Z8","v":1},{"$f":"AE8","v":1},{"$f":"AJ8","v":1},{"$f":"AO8","v":0},{"$f":"AT8","v":0}]
[null,null,null,null,null,null,null,null,null,null,null,null,null,null,"% target"]
[null,null,null,null,null,null,null,null,null,null,null,null,null,null,"CCRF"]
[null,null,null,null,null,null,null,null,null,null,null,null,null,null,"% CCRf"]
[null,null,null,null,null,null,null,null,null,null,null,null,null,null,"average response rate",{"$f":"D9/P20","v":130.66666666666666},{"$f":"(D12-D9)/Q20","v":199},{"$f":"(D15-D12)/R20","v":196.66666666666666},{"$f":"(D18-D15)/S20","v":2158},{"$f":"(D21-D18)/T20","v":3818},{"$f":"(D24-D21)/U20","v":-6502.333333333333}]