{"text_format":"1","workbook":"xlsx","n_sheets":31,"sheets":["Sample Report","Summary","Start","!M816C40.000","!M817B00.000","!M818B10.000","!M819940.000","!M820930.000","!M821B20.000","!M823B10.000","!M824B10.104","!M825B00.104","!M826A20.104","!M827A50.104","!M828A10.104","!M829920.104","!M830B10.104","!M831A40.104","!M901920.104","!M902A40.104","!M903950.104","!M904B00.104","!M905A10.104","!M906A00.104","!M907A50.104","!M908A00.104","!M909A40.104","!M910A00.104","!M911A00.104","!M912B30.104","!M913930.104"],"not_rendered":{"charts":0,"images":0,"macros":1,"external_links":0,"defined_names":0,"comments":0,"pivot_tables":0},"unopened":[],"bounds":{"document_bytes":16777216,"sheet_cells":100000,"rows_first":2000,"rows_last":500,"rows_between":2000,"halvings":0,"cell_chars":16384,"cell_head_chars":4096},"cells_cut":0,"cells_raw":0,"read":"whole","date_system":"1900"}

{"sheet":"Sample Report","index":0,"n_rows":12,"n_cols":11,"rows_kept":12,"cut":false,"hidden":true,"merged":[[7,0,7,6]]}
[]
["Date"]
["Hen"]
["Program"]
["Start at 999999"]
["Sequence component 1","Time 1","Seqeunce Component 2","Time 2","Seqeunce Component 3","Time 3","Correct   0 = No 1=Yes",null,null,"Seqeunce","Time"]
[12,7,12,42,13,18,"if 77 new line,                                  if 31 or 41 = yes new line on 77, ",null,null,"=string of Seqeunce compponent 1, 2 & 3","=time 3"]
["This continues until ther is a 1 on its own to indicate start of summary data"]
[null,null,null,null,null,null,null,null,null,"10-19 =1"]
["Summary Data ",null,null,null,null,null,null,null,null,"20-29 =2"]
["Correct","Incorrect","Rft","total","Av Correct","Av Incorrect","Percent correct","Time",null,"in this example the seqeunce would be 111"]
[40,33,40,73,23.95,15,54,806]

{"sheet":"Summary","index":1,"n_rows":32,"n_cols":24,"rows_kept":32,"cut":false,"hidden":false,"merged":[]}
[]
["Day","Date","Average Response Rate","Target %","RF for non correct sequence","U Value",null,null,null,null,"Block 1","Block 2","Block 3","Block 4","Block 5","Block 6"]
[1,{"$f":"'!M816C40.000'!B2:C2","v":"<date>"},{"$f":"('!M816C40.000'!H183/60)/'!M816C40.000'!Q3","v":2.2378531073446331},{"$f":"'!M816C40.000'!N28/'!M816C40.000'!Q3","v":3.954802259887006E-2},{"$f":"SUM('!M816C40.000'!L28:Q28)/'!M816C40.000'!Q3","v":7.27683615819209},{"$f":"'!M816C40.000'!Q24","v":0.31716874285720298},null,null,null,"Average Response Rate",{"$f":"AVERAGE(C3:C7)","v":2.2296104264951304},{"$f":"AVERAGE(C8:C12)","v":2.2306490062197271},{"$f":"AVERAGE(C13:C17)","v":2.0675507429341486},{"$f":"AVERAGE(C18:C22)","v":2.0297156976144199},{"$f":"AVERAGE(C23:C27)","v":1.9360605743508343},{"$f":"AVERAGE(C28:C32)","v":1.9262091993346058}]
[2,{"$f":"'!M817B00.000'!B2:C2","v":"<date>"},{"$f":"('!M817B00.000'!H177/60)/'!M817B00.000'!Q3","v":2.3347953216374271},{"$f":"'!M817B00.000'!N28/'!M817B00.000'!Q3","v":4.6783625730994149E-2},{"$f":"SUM('!M817B00.000'!L28:Q28)/'!M817B00.000'!Q3","v":13.368421052631579},{"$f":"'!M817B00.000'!Q24","v":0.41829521178298867},null,null,null,"Target %",{"$f":"AVERAGE(D3:D7)","v":1.94710062526719E-2},{"$f":"AVERAGE(D8:D12)","v":1.0869565217391304E-3},{"$f":"AVERAGE(D13:D17)","v":0},{"$f":"AVERAGE(D18:D22)","v":0},{"$f":"AVERAGE(D23:D27)","v":0},{"$f":"AVERAGE(D28:D32)","v":0}]
[3,{"$f":"'!M818B10.000'!B2:C2","v":"<date>"},{"$f":"('!M818B10.000'!H190/60)/'!M818B10.000'!Q3","v":2.1513513513513511},{"$f":"'!M818B10.000'!N28/'!M818B10.000'!Q3","v":5.4054054054054057E-3},{"$f":"SUM('!M818B10.000'!L28:Q28)/'!M818B10.000'!Q3","v":6.3513513513513518},{"$f":"'!M818B10.000'!Q24","v":0.29853997851617342},null,null,null,"CCRF",{"$f":"AVERAGE(E3:E7)","v":8.0029641374257441},{"$f":"AVERAGE(E8:E12)","v":6.684882130333567},{"$f":"AVERAGE(E13:E17)","v":6.1074029602869278},{"$f":"AVERAGE(E18:E22)","v":7.1066873347443433},{"$f":"AVERAGE(E23:E27)","v":5.7191848246753683},{"$f":"AVERAGE(E28:E32)","v":5.6854767981963823}]
[4,{"$f":"'!M819940.000'!B2:C2","v":"<date>"},{"$f":"('!M819940.000'!H187/60)/'!M819940.000'!Q3","v":2.1880036630036628},{"$f":"'!M819940.000'!N28/'!M819940.000'!Q3","v":0},{"$f":"SUM('!M819940.000'!L28:Q28)/'!M819940.000'!Q3","v":6.4395604395604398},{"$f":"'!M819940.000'!Q24","v":0.30003339630592213},null,null,null,"U Value",{"$f":"AVERAGE(F3:F7)","v":0.33512646156397918},{"$f":"AVERAGE(F8:F12)","v":0.2459757737261731},{"$f":"AVERAGE(F13:F17)","v":0.2011367619525791},{"$f":"AVERAGE(F18:F22)","v":5.924219346656532E-2},{"$f":"AVERAGE(F23:F27)","v":1.8434077937172135E-2},{"$f":"AVERAGE(F28:F32)","v":1.1048960715454676E-2}]
[5,{"$f":"'!M820930.000'!B2:C2","v":"<date>"},{"$f":"('!M820930.000'!H183/60)/'!M820930.000'!Q3","v":2.2360486891385767},{"$f":"'!M820930.000'!N28/'!M820930.000'!Q3","v":5.6179775280898875E-3},{"$f":"SUM('!M820930.000'!L28:Q28)/'!M820930.000'!Q3","v":6.5786516853932584},{"$f":"'!M820930.000'!Q24","v":0.34159497835760883}]
[6,{"$f":"'!M821B20.000'!B2:C2","v":"<date>"},{"$f":"('!M821B20.000'!H178/60)/'!M821B20.000'!Q3","v":2.314437984496124},{"$f":"'!M821B20.000'!N28/'!M821B20.000'!Q3","v":0},{"$f":"SUM('!M821B20.000'!L28:Q28)/'!M821B20.000'!Q3","v":6.8546511627906979},{"$f":"'!M821B20.000'!Q24","v":0.3563615355973106}]
[7,{"$f":"'!M823B10.000'!B2:C2","v":"<date>"},{"$f":"('!M823B10.000'!H177/60)/'!M823B10.000'!Q3","v":2.3381091617933722},{"$f":"'!M823B10.000'!N28/'!M823B10.000'!Q3","v":0},{"$f":"SUM('!M823B10.000'!L28:Q28)/'!M823B10.000'!Q3","v":6.8888888888888893},{"$f":"'!M823B10.000'!Q24","v":0.32722965537411558},{"$f":"K3","v":2.2296104264951304},2.2306490062197271,2.0675507429341486,2.0297156976144199,1.9360605743508343,1.9262091993346058,{"$f":"K4","v":1.94710062526719E-2},1.0869565217391304E-3,0,0,0,0,{"$f":"K6","v":0.33512646156397918},0.2459757737261731,0.2011367619525791,5.924219346656532E-2,1.8434077937172135E-2,1.1048960715454676E-2]
[8,{"$f":"'!M824B10.104'!B2:C2","v":"<date>"},{"$f":"('!M824B10.104'!H188/60)/'!M824B10.104'!Q3","v":2.1929487179487182},{"$f":"'!M824B10.104'!N28/'!M824B10.104'!Q3","v":0},{"$f":"SUM('!M824B10.104'!L28:Q28)/'!M824B10.104'!Q3","v":6.4395604395604398},{"$f":"'!M824B10.104'!Q24","v":0.2012479043425193}]
[9,{"$f":"'!M825B00.104'!B2:C2","v":"<date>"},{"$f":"('!M825B00.104'!H193/60)/'!M825B00.104'!Q3","v":2.1358288770053475},{"$f":"'!M825B00.104'!N28/'!M825B00.104'!Q3","v":0},{"$f":"SUM('!M825B00.104'!L28:Q28)/'!M825B00.104'!Q3","v":6.8663101604278074},{"$f":"'!M825B00.104'!Q24","v":0.1210895806867482}]
[10,{"$f":"'!M826A20.104'!B2:C2","v":"<date>"},{"$f":"('!M826A20.104'!H190/60)/'!M826A20.104'!Q3","v":2.1719202898550725},{"$f":"'!M826A20.104'!N28/'!M826A20.104'!Q3","v":5.434782608695652E-3},{"$f":"SUM('!M826A20.104'!L28:Q28)/'!M826A20.104'!Q3","v":6.375},{"$f":"'!M826A20.104'!Q24","v":0.22395019263017182}]
[11,{"$f":"'!M827A50.104'!B2:C2","v":"<date>"},{"$f":"('!M827A50.104'!H194/60)/'!M827A50.104'!Q3","v":2.1063492063492064},{"$f":"'!M827A50.104'!N28/'!M827A50.104'!Q3","v":0},{"$f":"SUM('!M827A50.104'!L28:Q28)/'!M827A50.104'!Q3","v":6.2116402116402121},{"$f":"'!M827A50.104'!Q24","v":0.25117325123147133}]
[12,{"$f":"'!M828A10.104'!B2:C2","v":"<date>"},{"$f":"('!M828A10.104'!H196/60)/'!M828A10.104'!Q3","v":2.0855148342059335},{"$f":"'!M828A10.104'!N28/'!M828A10.104'!Q3","v":0},{"$f":"SUM('!M828A10.104'!L28:Q28)/'!M828A10.104'!Q3","v":6.151832460732984},{"$f":"'!M828A10.104'!Q24","v":0.23627766884094434}]
[13,{"$f":"'!M829920.104'!B2:C2","v":"<date>"},{"$f":"('!M829920.104'!H191/60)/'!M829920.104'!Q3","v":2.1399641577060935},{"$f":"'!M829920.104'!N28/'!M829920.104'!Q3","v":0},{"$f":"SUM('!M829920.104'!L28:Q28)/'!M829920.104'!Q3","v":6.306451612903226},{"$f":"'!M829920.104'!Q24","v":0.26481353383541434}]
[14,{"$f":"'!M830B10.104'!B2:C2","v":"<date>"},{"$f":"('!M830B10.104'!H203/60)/'!M830B10.104'!Q3","v":2.0260575296108292},{"$f":"'!M830B10.104'!N28/'!M830B10.104'!Q3","v":0},{"$f":"SUM('!M830B10.104'!L28:Q28)/'!M830B10.104'!Q3","v":6.030456852791878},{"$f":"'!M830B10.104'!Q24","v":0.13269576685000481}]
[15,{"$f":"'!M831A40.104'!B2:C2","v":"<date>"},{"$f":"('!M831A40.104'!H208/60)/'!M831A40.104'!Q3","v":1.9798679867986799},{"$f":"'!M831A40.104'!N28/'!M831A40.104'!Q3","v":0},{"$f":"SUM('!M831A40.104'!L28:Q28)/'!M831A40.104'!Q3","v":5.8366336633663369},{"$f":"'!M831A40.104'!Q24","v":0.12072358900506062}]
[16,{"$f":"'!M901920.104'!B2:C2","v":"<date>"},{"$f":"('!M901920.104'!H196/60)/'!M901920.104'!Q3","v":2.1009649122807019},{"$f":"'!M901920.104'!N28/'!M901920.104'!Q3","v":0},{"$f":"SUM('!M901920.104'!L28:Q28)/'!M901920.104'!Q3","v":6.1789473684210527},{"$f":"'!M901920.104'!Q24","v":9.7896467490139236E-2}]
[17,{"$f":"'!M902A40.104'!B2:C2","v":"<date>"},{"$f":"('!M902A40.104'!H195/60)/'!M902A40.104'!Q3","v":2.1094356261022926},{"$f":"'!M902A40.104'!N28/'!M902A40.104'!Q3","v":0},{"$f":"SUM('!M902A40.104'!L28:Q28)/'!M902A40.104'!Q3","v":6.2116402116402121},{"$f":"'!M902A40.104'!Q24","v":9.8335899760478851E-2}]
[18,{"$f":"'!M903950.104'!B2:C2","v":"<date>"},{"$f":"('!M903950.104'!H209/60)/'!M903950.104'!Q3","v":1.9665845648604268},{"$f":"'!M903950.104'!N28/'!M903950.104'!Q3","v":0},{"$f":"SUM('!M903950.104'!L28:Q28)/'!M903950.104'!Q3","v":5.8078817733990151},{"$f":"'!M903950.104'!Q24","v":2.8925051377237224E-2}]
[19,{"$f":"'!M904B00.104'!B2:C2","v":"<date>"},{"$f":"('!M904B00.104'!H210/60)/'!M904B00.104'!Q3","v":1.9540849673202614},{"$f":"'!M904B00.104'!N28/'!M904B00.104'!Q3","v":0},{"$f":"SUM('!M904B00.104'!L28:Q28)/'!M904B00.104'!Q3","v":5.7794117647058822},{"$f":"'!M904B00.104'!Q24","v":4.8394185776787002E-2}]
[20,{"$f":"'!M905A10.104'!B2:C2","v":"<date>"},{"$f":"('!M905A10.104'!H204/60)/'!M905A10.104'!Q3","v":2.0175084175084175},{"$f":"'!M905A10.104'!N28/'!M905A10.104'!Q3","v":0},{"$f":"SUM('!M905A10.104'!L28:Q28)/'!M905A10.104'!Q3","v":11.555555555555555},{"$f":"'!M905A10.104'!Q24","v":2.2659362928184251E-2}]
[21,{"$f":"'!M906A00.104'!B2:C2","v":"<date>"},{"$f":"('!M906A00.104'!H217/60)/'!M906A00.104'!Q3","v":1.89391785150079},{"$f":"'!M906A00.104'!N28/'!M906A00.104'!Q3","v":0},{"$f":"SUM('!M906A00.104'!L28:Q28)/'!M906A00.104'!Q3","v":5.5971563981042651},{"$f":"'!M906A00.104'!Q24","v":3.2445413766275036E-2}]
[22,{"$f":"'!M907A50.104'!B2:C2","v":"<date>"},{"$f":"('!M907A50.104'!H219/60)/'!M907A50.104'!Q3","v":1.8762910798122066},{"$f":"'!M907A50.104'!N28/'!M907A50.104'!Q3","v":0},{"$f":"SUM('!M907A50.104'!L28:Q28)/'!M907A50.104'!Q3","v":5.549295774647887},{"$f":"'!M907A50.104'!Q24","v":2.1035043770567516E-2}]
[23,{"$f":"'!M908A00.104'!B2:C2","v":"<date>"},{"$f":"('!M908A00.104'!H197/60)/'!M908A00.104'!Q3","v":2.0904886561954625},{"$f":"'!M908A00.104'!N28/'!M908A00.104'!Q3","v":0},{"$f":"SUM('!M908A00.104'!L28:Q28)/'!M908A00.104'!Q3","v":6.151832460732984},{"$f":"'!M908A00.104'!Q24","v":2.1602289992494313E-2}]
[24,{"$f":"'!M909A40.104'!B2:C2","v":"<date>"},{"$f":"('!M909A40.104'!H217/60)/'!M909A40.104'!Q3","v":1.8937598736176935},{"$f":"'!M909A40.104'!N28/'!M909A40.104'!Q3","v":0},{"$f":"SUM('!M909A40.104'!L28:Q28)/'!M909A40.104'!Q3","v":5.5971563981042651},{"$f":"'!M909A40.104'!Q24","v":5.6227844348322158E-3}]
[25,{"$f":"'!M910A00.104'!B2:C2","v":"<date>"},{"$f":"('!M910A00.104'!H213/60)/'!M910A00.104'!Q3","v":1.9258454106280192},{"$f":"'!M910A00.104'!N28/'!M910A00.104'!Q3","v":0},{"$f":"SUM('!M910A00.104'!L28:Q28)/'!M910A00.104'!Q3","v":5.7004830917874392},{"$f":"'!M910A00.104'!Q24","v":1.1464857721691604E-2}]
[26,{"$f":"'!M911A00.104'!B2:C2","v":"<date>"},{"$f":"('!M911A00.104'!H209/60)/'!M911A00.104'!Q3","v":1.970279146141215},{"$f":"'!M911A00.104'!N28/'!M911A00.104'!Q3","v":0},{"$f":"SUM('!M911A00.104'!L28:Q28)/'!M911A00.104'!Q3","v":5.8078817733990151},{"$f":"'!M911A00.104'!Q24","v":1.6253808570798917E-2}]
[27,{"$f":"'!M912B30.104'!B2:C2","v":"<date>"},{"$f":"('!M912B30.104'!H218/60)/'!M912B30.104'!Q3","v":1.8867138364779874},{"$f":"'!M912B30.104'!N28/'!M912B30.104'!Q3","v":0},{"$f":"SUM('!M912B30.104'!L28:Q28)/'!M912B30.104'!Q3","v":5.5754716981132075},{"$f":"'!M912B30.104'!Q24","v":1.1186817788230032E-2}]
[28,{"$f":"'!M913930.104'!B2:C2","v":"<date>"},{"$f":"('!M913930.104'!H214/60)/'!M913930.104'!Q3","v":1.9216346153846153},{"$f":"'!M913930.104'!N28/'!M913930.104'!Q3","v":0},{"$f":"SUM('!M913930.104'!L28:Q28)/'!M913930.104'!Q3","v":5.6730769230769234},{"$f":"'!M913930.104'!Q24","v":5.7062557873350786E-3}]
[29]
[30]

{"sheet":"Start","index":2,"n_rows":34,"n_cols":10,"rows_kept":34,"cut":false,"hidden":false,"merged":[]}
[null,null,null,null,null,"Use Folder 51",null,"Auto Clean Up",null,"Correct sequence"]
[null,null,null,null,null,false,null,true,null,2212]
[]
["Working with Folder",null,null,null,null,null,"Process All/Or Pick A number: ALL or an integer"]
["E:\\Hen Data\\Raw Data\\104_184\\phase 3 Any\\",null,null,null,null,null,"ALL"]
["Filenames:"]
["!M816C40.000",null,null,null,null,null,"Paint Cells"]
["!M817B00.000",null,null,null,null,null,false]
["!M818B10.000"]
["!M819940.000"]
["!M820930.000"]
["!M821B20.000"]
["!M828A10.104"]
["!M829920.104"]
["!M824B10.104"]
["!M825B00.104"]
["!M826A20.104"]
["!M827A50.104"]
["!M909A40.104"]
["!M910A00.104"]
["!M911A00.104"]
["!M912B30.104"]
["!M913930.104"]
["!M830B10.104"]
["!M831A40.104"]
["!M901920.104"]
["!M902A40.104"]
["!M903950.104"]
["!M904B00.104"]
["!M905A10.104"]
["!M906A00.104"]
["!M907A50.104"]
["!M908A00.104"]
["!M823B10.000"]

{"sheet":"!M816C40.000","index":3,"n_rows":183,"n_cols":48,"rows_kept":183,"cut":false,"hidden":false,"merged":[[4,39,4,42],[5,39,5,40],[4,44,4,47],[5,44,5,45],[4,24,4,27],[5,24,5,25],[4,29,4,32],[5,29,5,30],[4,34,4,37],[5,34,5,35],[1,1,1,2],[5,13,5,14],[26,13,26,14],[27,13,27,14],[4,19,4,22],[5,19,5,20]]}
["Report for:!M816C40.000"]
["Date:","<date>"]
["Hen:","<hen>",null,null,null,"Correct Sequence",{"$f":"Start!J2","v":2212},null,null,null,null,null,null,null,null,"Total Sequences in Data",{"$f":"4994-COUNTBLANK(L7:L5000)","v":177},null,null,null,null,"Total Sequences in Block Data",{"$f":"COUNTA(L7:L36)","v":30},null,null,null,"Total Sequences in Block Data",{"$f":"COUNTA(L37:L65)","v":29},null,null,null,"Total Sequences in Block Data",{"$f":"COUNTA(L66:L95)","v":30},null,null,null,"Total Sequences in Block Data",{"$f":"COUNTA(L96:L124)","v":29},null,null,null,"Total Sequences in Block Data",{"$f":"COUNTA(L125:L154)","v":30},null,null,null,"Total Sequences in Block Data",{"$f":"COUNTA(L155:L183)","v":29}]
[null,null,null,null,null,null,null,null,null,null,null,null,null,null,null,"Total Sequences in Summary",{"$f":"SUM(O7:O22)","v":177},null,null,null,null,"Total Sequences in Block Summary",{"$f":"SUM(U7:U22)","v":30},null,null,null,"Total Sequences in Block Summary",{"$f":"SUM(Z7:Z22)","v":29},null,null,null,"Total Sequences in Block Summary",{"$f":"SUM(AE7:AE22)","v":30},null,null,null,"Total Sequences in Block Summary",{"$f":"SUM(AJ7:AJ22)","v":29},null,null,null,"Total Sequences in Block Summary",{"$f":"SUM(AO7:AO22)","v":30},null,null,null,"Total Sequences in Block Summary",{"$f":"SUM(AT7:AT22)","v":29}]
[null,null,null,null,null,null,null,null,null,null,null,null,null,null,null,null,null,null,null,"Block 1",null,null,null,null,"Block 2",null,null,null,null,"Block 3",null,null,null,null,"Block 4",null,null,null,null,"Block 5",null,null,null,null,"Block 6"]
["Sequence\nComponent\n1","Time\n1","Sequence\nComponent\n2","Time\n2","Sequence\nComponent\n3","Time\n3","Sequence\nComponent\n4","Time\n4","Sequence\nComponent\n5","Time\n5","Correct?\n0=No 1=Yes","Sequence",null,"Frequency",null,"Relative Frequency","Variability",null,null,"Frequency",null,"Relative Frequency","Variability",null,"Frequency",null,"Relative Frequency","Variability",null,"Frequency",null,"Relative Frequency","Variability",null,"Frequency",null,"Relative Frequency","Variability",null,"Frequency",null,"Relative Frequency","Variability",null,"Frequency",null,"Relative Frequency","Variability"]
[12,48,14,65,24,87,14,100,null,null,0,1121,null,1111,{"$f":"COUNTIF($L$7:$L$500,N7)","v":1},{"$f":"O7/$Q$4","v":5.6497175141242938E-3},{"$f":"IF(P7=0,0,(P7*((LOG(P7))/LOG(2))))","v":-4.2189861864875694E-2},null,null,{"$f":"N7","v":1111},{"$f":"COUNTIF(L7:L36,T7)","v":0},{"$f":"U7/(W4-U20)","v":0},{"$f":"IF(V7=0,0,(V7*((LOG(V7))/LOG(2))))","v":0},null,{"$f":"N7","v":1111},{"$f":"COUNTIF(L37:L65,Y7)","v":0},{"$f":"Z7/(AB4-Z20)","v":0},{"$f":"IF(AA7=0,0,(AA7*((LOG(AA7))/LOG(2))))","v":0},null,{"$f":"N7","v":1111},{"$f":"COUNTIF(L66:L95,AD7)","v":0},{"$f":"AE7/(AG4-AE20)","v":0},{"$f":"IF(AF7=0,0,(AF7*((LOG(AF7))/LOG(2))))","v":0},null,{"$f":"N7","v":1111},{"$f":"COUNTIF(L96:L124,AI7)","v":0},{"$f":"AJ7/(AL4-AJ20)","v":0},{"$f":"IF(AK7=0,0,(AK7*((LOG(AK7))/LOG(2))))","v":0},null,{"$f":"N7","v":1111},{"$f":"COUNTIF(L125:L154,AN7)","v":0},{"$f":"AO7/(AQ4-AO20)","v":0},{"$f":"IF(AP7=0,0,(AP7*((LOG(AP7))/LOG(2))))","v":0},null,{"$f":"N7","v":1111},{"$f":"COUNTIF(L155:L183,AS7)","v":1},{"$f":"AT7/(AV4-AT20)","v":3.5714285714285712E-2},{"$f":"IF(AU7=0,0,(AU7*((LOG(AU7))/LOG(2))))","v":-0.17169124721634299}]
[12,196,23,215,13,231,14,262,null,null,0,1211,null,1112,{"$f":"COUNTIF($L$7:$L$500,N8)","v":2},{"$f":"O8/$Q$4","v":1.1299435028248588E-2},{"$f":"IF(P8=0,0,(P8*((LOG(P8))/LOG(2))))","v":-7.3080288701502794E-2},null,null,{"$f":"N8","v":1112},{"$f":"COUNTIF(L7:L36,T8)","v":2},{"$f":"U8/(W4-U20)","v":6.6666666666666666E-2},{"$f":"IF(V8=0,0,(V8*((LOG(V8))/LOG(2))))","v":-0.26045937304056793},null,{"$f":"N8","v":1112},{"$f":"COUNTIF(L37:L65,Y8)","v":0},{"$f":"Z8/(AB4-Z20)","v":0},{"$f":"IF(AA8=0,0,(AA8*((LOG(AA8))/LOG(2))))","v":0},null,{"$f":"N8","v":1112},{"$f":"COUNTIF(L66:L95,AD8)","v":0},{"$f":"AE8/(AG4-AE20)","v":0},{"$f":"IF(AF8=0,0,(AF8*((LOG(AF8))/LOG(2))))","v":0},null,{"$f":"N8","v":1112},{"$f":"COUNTIF(L96:L124,AI8)","v":0},{"$f":"AJ8/(AL4-AJ20)","v":0},{"$f":"IF(AK8=0,0,(AK8*((LOG(AK8))/LOG(2))))","v":0},null,{"$f":"N8","v":1112},{"$f":"COUNTIF(L125:L154,AN8)","v":0},{"$f":"AO8/(AQ4-AO20)","v":0},{"$f":"IF(AP8=0,0,(AP8*((LOG(AP8))/LOG(2))))","v":0},null,{"$f":"N8","v":1112},{"$f":"COUNTIF(L155:L183,AS8)","v":0},{"$f":"AT8/(AV4-AT20)","v":0},{"$f":"IF(AU8=0,0,(AU8*((LOG(AU8))/LOG(2))))","v":0}]
[12,362,23,372,24,380,23,391,null,null,0,1222,null,1121,{"$f":"COUNTIF($L$7:$L$500,N9)","v":3},{"$f":"O9/$Q$4","v":1.6949152542372881E-2},{"$f":"IF(P9=0,0,(P9*((LOG(P9))/LOG(2))))","v":-9.9705814395963419E-2},null,null,{"$f":"N9","v":1121},{"$f":"COUNTIF(L7:L36,T9)","v":1},{"$f":"U9/(W4-U20)","v":3.3333333333333333E-2},{"$f":"IF(V9=0,0,(V9*((LOG(V9))/LOG(2))))","v":-0.16356301985361729},null,{"$f":"N9","v":1121},{"$f":"COUNTIF(L37:L65,Y9)","v":0},{"$f":"Z9/(AB4-Z20)","v":0},{"$f":"IF(AA9=0,0,(AA9*((LOG(AA9))/LOG(2))))","v":0},null,{"$f":"N9","v":1121},{"$f":"COUNTIF(L66:L95,AD9)","v":0},{"$f":"AE9/(AG4-AE20)","v":0},{"$f":"IF(AF9=0,0,(AF9*((LOG(AF9))/LOG(2))))","v":0},null,{"$f":"N9","v":1121},{"$f":"COUNTIF(L96:L124,AI9)","v":0},{"$f":"AJ9/(AL4-AJ20)","v":0},{"$f":"IF(AK9=0,0,(AK9*((LOG(AK9))/LOG(2))))","v":0},null,{"$f":"N9","v":1121},{"$f":"COUNTIF(L125:L154,AN9)","v":0},{"$f":"AO9/(AQ4-AO20)","v":0},{"$f":"IF(AP9=0,0,(AP9*((LOG(AP9))/LOG(2))))","v":0},null,{"$f":"N9","v":1121},{"$f":"COUNTIF(L155:L183,AS9)","v":2},{"$f":"AT9/(AV4-AT20)","v":7.1428571428571425E-2},{"$f":"IF(AU9=0,0,(AU9*((LOG(AU9))/LOG(2))))","v":-0.27195392300411453}]
[12,491,23,503,24,510,14,528,null,null,0,1221,null,1122,{"$f":"COUNTIF($L$7:$L$500,N10)","v":25},{"$f":"O10/$Q$4","v":0.14124293785310735},{"$f":"IF(P10=0,0,(P10*((LOG(P10))/LOG(2))))","v":-0.39883465541077301},null,null,{"$f":"N10","v":1122},{"$f":"COUNTIF(L7:L36,T10)","v":4},{"$f":"U10/(W4-U20)","v":0.13333333333333333},{"$f":"IF(V10=0,0,(V10*((LOG(V10))/LOG(2))))","v":-0.3875854127478025},null,{"$f":"N10","v":1122},{"$f":"COUNTIF(L37:L65,Y10)","v":5},{"$f":"Z10/(AB4-Z20)","v":0.17857142857142858},{"$f":"IF(AA10=0,0,(AA10*((LOG(AA10))/LOG(2))))","v":-0.44382621913754317},null,{"$f":"N10","v":1122},{"$f":"COUNTIF(L66:L95,AD10)","v":2},{"$f":"AE10/(AG4-AE20)","v":6.8965517241379309E-2},{"$f":"IF(AF10=0,0,(AF10*((LOG(AF10))/LOG(2))))","v":-0.26606765483638428},null,{"$f":"N10","v":1122},{"$f":"COUNTIF(L96:L124,AI10)","v":3},{"$f":"AJ10/(AL4-AJ20)","v":0.1111111111111111},{"$f":"IF(AK10=0,0,(AK10*((LOG(AK10))/LOG(2))))","v":-0.3522138890491458},null,{"$f":"N10","v":1122},{"$f":"COUNTIF(L125:L154,AN10)","v":5},{"$f":"AO10/(AQ4-AO20)","v":0.17857142857142858},{"$f":"IF(AP10=0,0,(AP10*((LOG(AP10))/LOG(2))))","v":-0.44382621913754317},null,{"$f":"N10","v":1122},{"$f":"COUNTIF(L155:L183,AS10)","v":6},{"$f":"AT10/(AV4-AT20)","v":0.21428571428571427},{"$f":"IF(AU10=0,0,(AU10*((LOG(AU10))/LOG(2))))","v":-0.47622694742923877}]
[12,637,23,650,24,657,23,681,null,null,0,1222,null,1211,{"$f":"COUNTIF($L$7:$L$500,N11)","v":1},{"$f":"O11/$Q$4","v":5.6497175141242938E-3},{"$f":"IF(P11=0,0,(P11*((LOG(P11))/LOG(2))))","v":-4.2189861864875694E-2},null,null,{"$f":"N11","v":1211},{"$f":"COUNTIF(L7:L36,T11)","v":1},{"$f":"U11/(W4-U20)","v":3.3333333333333333E-2},{"$f":"IF(V11=0,0,(V11*((LOG(V11))/LOG(2))))","v":-0.16356301985361729},null,{"$f":"N11","v":1211},{"$f":"COUNTIF(L37:L65,Y11)","v":0},{"$f":"Z11/(AB4-Z20)","v":0},{"$f":"IF(AA11=0,0,(AA11*((LOG(AA11))/LOG(2))))","v":0},null,{"$f":"N11","v":1211},{"$f":"COUNTIF(L66:L95,AD11)","v":0},{"$f":"AE11/(AG4-AE20)","v":0},{"$f":"IF(AF11=0,0,(AF11*((LOG(AF11))/LOG(2))))","v":0},null,{"$f":"N11","v":1211},{"$f":"COUNTIF(L96:L124,AI11)","v":0},{"$f":"AJ11/(AL4-AJ20)","v":0},{"$f":"IF(AK11=0,0,(AK11*((LOG(AK11))/LOG(2))))","v":0},null,{"$f":"N11","v":1211},{"$f":"COUNTIF(L125:L154,AN11)","v":0},{"$f":"AO11/(AQ4-AO20)","v":0},{"$f":"IF(AP11=0,0,(AP11*((LOG(AP11))/LOG(2))))","v":0},null,{"$f":"N11","v":1211},{"$f":"COUNTIF(L155:L183,AS11)","v":0},{"$f":"AT11/(AV4-AT20)","v":0},{"$f":"IF(AU11=0,0,(AU11*((LOG(AU11))/LOG(2))))","v":0}]
[12,784,23,795,24,804,23,814,null,null,0,1222,null,1212,{"$f":"COUNTIF($L$7:$L$500,N12)","v":4},{"$f":"O12/$Q$4","v":2.2598870056497175E-2},{"$f":"IF(P12=0,0,(P12*((LOG(P12))/LOG(2))))","v":-0.12356170734650843},null,null,{"$f":"N12","v":1212},{"$f":"COUNTIF(L7:L36,T12)","v":0},{"$f":"U12/(W4-U20)","v":0},{"$f":"IF(V12=0,0,(V12*((LOG(V12))/LOG(2))))","v":0},null,{"$f":"N12","v":1212},{"$f":"COUNTIF(L37:L65,Y12)","v":0},{"$f":"Z12/(AB4-Z20)","v":0},{"$f":"IF(AA12=0,0,(AA12*((LOG(AA12))/LOG(2))))","v":0},null,{"$f":"N12","v":1212},{"$f":"COUNTIF(L66:L95,AD12)","v":0},{"$f":"AE12/(AG4-AE20)","v":0},{"$f":"IF(AF12=0,0,(AF12*((LOG(AF12))/LOG(2))))","v":0},null,{"$f":"N12","v":1212},{"$f":"COUNTIF(L96:L124,AI12)","v":0},{"$f":"AJ12/(AL4-AJ20)","v":0},{"$f":"IF(AK12=0,0,(AK12*((LOG(AK12))/LOG(2))))","v":0},null,{"$f":"N12","v":1212},{"$f":"COUNTIF(L125:L154,AN12)","v":0},{"$f":"AO12/(AQ4-AO20)","v":0},{"$f":"IF(AP12=0,0,(AP12*((LOG(AP12))/LOG(2))))","v":0},null,{"$f":"N12","v":1212},{"$f":"COUNTIF(L155:L183,AS12)","v":4},{"$f":"AT12/(AV4-AT20)","v":0.14285714285714285},{"$f":"IF(AU12=0,0,(AU12*((LOG(AU12))/LOG(2))))","v":-0.40105070315108626}]
[21,925,21,933,22,945,14,962,null,null,0,2221,null,1221,{"$f":"COUNTIF($L$7:$L$500,N13)","v":29},{"$f":"O13/$Q$4","v":0.16384180790960451},{"$f":"IF(P13=0,0,(P13*((LOG(P13))/LOG(2))))","v":-0.42756560504919394},null,null,{"$f":"N13","v":1221},{"$f":"COUNTIF(L7:L36,T13)","v":8},{"$f":"U13/(W4-U20)","v":0.26666666666666666},{"$f":"IF(V13=0,0,(V13*((LOG(V13))/LOG(2))))","v":-0.50850415882893829},null,{"$f":"N13","v":1221},{"$f":"COUNTIF(L37:L65,Y13)","v":4},{"$f":"Z13/(AB4-Z20)","v":0.14285714285714285},{"$f":"IF(AA13=0,0,(AA13*((LOG(AA13))/LOG(2))))","v":-0.40105070315108626},null,{"$f":"N13","v":1221},{"$f":"COUNTIF(L66:L95,AD13)","v":0},{"$f":"AE13/(AG4-AE20)","v":0},{"$f":"IF(AF13=0,0,(AF13*((LOG(AF13))/LOG(2))))","v":0},null,{"$f":"N13","v":1221},{"$f":"COUNTIF(L96:L124,AI13)","v":5},{"$f":"AJ13/(AL4-AJ20)","v":0.18518518518518517},{"$f":"IF(AK13=0,0,(AK13*((LOG(AK13))/LOG(2))))","v":-0.45054803838446406},null,{"$f":"N13","v":1221},{"$f":"COUNTIF(L125:L154,AN13)","v":7},{"$f":"AO13/(AQ4-AO20)","v":0.25},{"$f":"IF(AP13=0,0,(AP13*((LOG(AP13))/LOG(2))))","v":-0.5},null,{"$f":"N13","v":1221},{"$f":"COUNTIF(L155:L183,AS13)","v":5},{"$f":"AT13/(AV4-AT20)","v":0.17857142857142858},{"$f":"IF(AU13=0,0,(AU13*((LOG(AU13))/LOG(2))))","v":-0.44382621913754317}]
[12,1054,23,1070,24,1080,14,1097,null,null,0,1221,null,1222,{"$f":"COUNTIF($L$7:$L$500,N14)","v":88},{"$f":"O14/$Q$4","v":0.49717514124293788},{"$f":"IF(P14=0,0,(P14*((LOG(P14))/LOG(2))))","v":-0.50123901676396387},null,null,{"$f":"N14","v":1222},{"$f":"COUNTIF(L7:L36,T14)","v":12},{"$f":"U14/(W4-U20)","v":0.4},{"$f":"IF(V14=0,0,(V14*((LOG(V14))/LOG(2))))","v":-0.52877123795494496},null,{"$f":"N14","v":1222},{"$f":"COUNTIF(L37:L65,Y14)","v":16},{"$f":"Z14/(AB4-Z20)","v":0.5714285714285714},{"$f":"IF(AA14=0,0,(AA14*((LOG(AA14))/LOG(2))))","v":-0.46134566974720237},null,{"$f":"N14","v":1222},{"$f":"COUNTIF(L66:L95,AD14)","v":22},{"$f":"AE14/(AG4-AE20)","v":0.75862068965517238},{"$f":"IF(AF14=0,0,(AF14*((LOG(AF14))/LOG(2))))","v":-0.30234780285469132},null,{"$f":"N14","v":1222},{"$f":"COUNTIF(L96:L124,AI14)","v":18},{"$f":"AJ14/(AL4-AJ20)","v":0.66666666666666663},{"$f":"IF(AK14=0,0,(AK14*((LOG(AK14))/LOG(2))))","v":-0.38997500048077083},null,{"$f":"N14","v":1222},{"$f":"COUNTIF(L125:L154,AN14)","v":13},{"$f":"AO14/(AQ4-AO20)","v":0.4642857142857143},{"$f":"IF(AP14=0,0,(AP14*((LOG(AP14))/LOG(2))))","v":-0.51392491610409474},null,{"$f":"N14","v":1222},{"$f":"COUNTIF(L155:L183,AS14)","v":7},{"$f":"AT14/(AV4-AT20)","v":0.25},{"$f":"IF(AU14=0,0,(AU14*((LOG(AU14))/LOG(2))))","v":-0.5}]
[12,1195,23,1209,24,1217,14,1237,null,null,0,1221,null,2111,{"$f":"COUNTIF($L$7:$L$500,N15)","v":0},{"$f":"O15/$Q$4","v":0},{"$f":"IF(P15=0,0,(P15*((LOG(P15))/LOG(2))))","v":0},null,null,{"$f":"N15","v":2111},{"$f":"COUNTIF(L7:L36,T15)","v":0},{"$f":"U15/(W4-U20)","v":0},{"$f":"IF(V15=0,0,(V15*((LOG(V15))/LOG(2))))","v":0},null,{"$f":"N15","v":2111},{"$f":"COUNTIF(L37:L65,Y15)","v":0},{"$f":"Z15/(AB4-Z20)","v":0},{"$f":"IF(AA15=0,0,(AA15*((LOG(AA15))/LOG(2))))","v":0},null,{"$f":"N15","v":2111},{"$f":"COUNTIF(L66:L95,AD15)","v":0},{"$f":"AE15/(AG4-AE20)","v":0},{"$f":"IF(AF15=0,0,(AF15*((LOG(AF15))/LOG(2))))","v":0},null,{"$f":"N15","v":2111},{"$f":"COUNTIF(L96:L124,AI15)","v":0},{"$f":"AJ15/(AL4-AJ20)","v":0},{"$f":"IF(AK15=0,0,(AK15*((LOG(AK15))/LOG(2))))","v":0},null,{"$f":"N15","v":2111},{"$f":"COUNTIF(L125:L154,AN15)","v":0},{"$f":"AO15/(AQ4-AO20)","v":0},{"$f":"IF(AP15=0,0,(AP15*((LOG(AP15))/LOG(2))))","v":0},null,{"$f":"N15","v":2111},{"$f":"COUNTIF(L155:L183,AS15)","v":0},{"$f":"AT15/(AV4-AT20)","v":0},{"$f":"IF(AU15=0,0,(AU15*((LOG(AU15))/LOG(2))))","v":0}]
[12,1331,23,1343,24,1348,14,1365,null,null,0,1221,null,2112,{"$f":"COUNTIF($L$7:$L$500,N16)","v":0},{"$f":"O16/$Q$4","v":0},{"$f":"IF(P16=0,0,(P16*((LOG(P16))/LOG(2))))","v":0},null,null,{"$f":"N16","v":2112},{"$f":"COUNTIF(L7:L36,T16)","v":0},{"$f":"U16/(W4-U20)","v":0},{"$f":"IF(V16=0,0,(V16*((LOG(V16))/LOG(2))))","v":0},null,{"$f":"N16","v":2112},{"$f":"COUNTIF(L37:L65,Y16)","v":0},{"$f":"Z16/(AB4-Z20)","v":0},{"$f":"IF(AA16=0,0,(AA16*((LOG(AA16))/LOG(2))))","v":0},null,{"$f":"N16","v":2112},{"$f":"COUNTIF(L66:L95,AD16)","v":0},{"$f":"AE16/(AG4-AE20)","v":0},{"$f":"IF(AF16=0,0,(AF16*((LOG(AF16))/LOG(2))))","v":0},null,{"$f":"N16","v":2112},{"$f":"COUNTIF(L96:L124,AI16)","v":0},{"$f":"AJ16/(AL4-AJ20)","v":0},{"$f":"IF(AK16=0,0,(AK16*((LOG(AK16))/LOG(2))))","v":0},null,{"$f":"N16","v":2112},{"$f":"COUNTIF(L125:L154,AN16)","v":0},{"$f":"AO16/(AQ4-AO20)","v":0},{"$f":"IF(AP16=0,0,(AP16*((LOG(AP16))/LOG(2))))","v":0},null,{"$f":"N16","v":2112},{"$f":"COUNTIF(L155:L183,AS16)","v":0},{"$f":"AT16/(AV4-AT20)","v":0},{"$f":"IF(AU16=0,0,(AU16*((LOG(AU16))/LOG(2))))","v":0}]
[12,1462,23,1476,24,1482,23,1506,null,null,0,1222,null,2121,{"$f":"COUNTIF($L$7:$L$500,N17)","v":0},{"$f":"O17/$Q$4","v":0},{"$f":"IF(P17=0,0,(P17*((LOG(P17))/LOG(2))))","v":0},null,null,{"$f":"N17","v":2121},{"$f":"COUNTIF(L7:L36,T17)","v":0},{"$f":"U17/(W4-U20)","v":0},{"$f":"IF(V17=0,0,(V17*((LOG(V17))/LOG(2))))","v":0},null,{"$f":"N17","v":2121},{"$f":"COUNTIF(L37:L65,Y17)","v":0},{"$f":"Z17/(AB4-Z20)","v":0},{"$f":"IF(AA17=0,0,(AA17*((LOG(AA17))/LOG(2))))","v":0},null,{"$f":"N17","v":2121},{"$f":"COUNTIF(L66:L95,AD17)","v":0},{"$f":"AE17/(AG4-AE20)","v":0},{"$f":"IF(AF17=0,0,(AF17*((LOG(AF17))/LOG(2))))","v":0},null,{"$f":"N17","v":2121},{"$f":"COUNTIF(L96:L124,AI17)","v":0},{"$f":"AJ17/(AL4-AJ20)","v":0},{"$f":"IF(AK17=0,0,(AK17*((LOG(AK17))/LOG(2))))","v":0},null,{"$f":"N17","v":2121},{"$f":"COUNTIF(L125:L154,AN17)","v":0},{"$f":"AO17/(AQ4-AO20)","v":0},{"$f":"IF(AP17=0,0,(AP17*((LOG(AP17))/LOG(2))))","v":0},null,{"$f":"N17","v":2121},{"$f":"COUNTIF(L155:L183,AS17)","v":0},{"$f":"AT17/(AV4-AT20)","v":0},{"$f":"IF(AU17=0,0,(AU17*((LOG(AU17))/LOG(2))))","v":0}]
[12,1602,23,1615,24,1623,23,1632,null,null,0,1222,null,2122,{"$f":"COUNTIF($L$7:$L$500,N18)","v":1},{"$f":"O18/$Q$4","v":5.6497175141242938E-3},{"$f":"IF(P18=0,0,(P18*((LOG(P18))/LOG(2))))","v":-4.2189861864875694E-2},null,null,{"$f":"N18","v":2122},{"$f":"COUNTIF(L7:L36,T18)","v":1},{"$f":"U18/(W4-U20)","v":3.3333333333333333E-2},{"$f":"IF(V18=0,0,(V18*((LOG(V18))/LOG(2))))","v":-0.16356301985361729},null,{"$f":"N18","v":2122},{"$f":"COUNTIF(L37:L65,Y18)","v":0},{"$f":"Z18/(AB4-Z20)","v":0},{"$f":"IF(AA18=0,0,(AA18*((LOG(AA18))/LOG(2))))","v":0},null,{"$f":"N18","v":2122},{"$f":"COUNTIF(L66:L95,AD18)","v":0},{"$f":"AE18/(AG4-AE20)","v":0},{"$f":"IF(AF18=0,0,(AF18*((LOG(AF18))/LOG(2))))","v":0},null,{"$f":"N18","v":2122},{"$f":"COUNTIF(L96:L124,AI18)","v":0},{"$f":"AJ18/(AL4-AJ20)","v":0},{"$f":"IF(AK18=0,0,(AK18*((LOG(AK18))/LOG(2))))","v":0},null,{"$f":"N18","v":2122},{"$f":"COUNTIF(L125:L154,AN18)","v":0},{"$f":"AO18/(AQ4-AO20)","v":0},{"$f":"IF(AP18=0,0,(AP18*((LOG(AP18))/LOG(2))))","v":0},null,{"$f":"N18","v":2122},{"$f":"COUNTIF(L155:L183,AS18)","v":0},{"$f":"AT18/(AV4-AT20)","v":0},{"$f":"IF(AU18=0,0,(AU18*((LOG(AU18))/LOG(2))))","v":0}]
[12,1727,14,1735,13,1759,23,1793,null,null,0,1112,null,2211,{"$f":"COUNTIF($L$7:$L$500,N19)","v":3},{"$f":"O19/$Q$4","v":1.6949152542372881E-2},{"$f":"IF(P19=0,0,(P19*((LOG(P19))/LOG(2))))","v":-9.9705814395963419E-2},null,null,{"$f":"N19","v":2211},{"$f":"COUNTIF(L7:L36,T19)","v":0},{"$f":"U19/(W4-U20)","v":0},{"$f":"IF(V19=0,0,(V19*((LOG(V19))/LOG(2))))","v":0},null,{"$f":"N19","v":2211},{"$f":"COUNTIF(L37:L65,Y19)","v":0},{"$f":"Z19/(AB4-Z20)","v":0},{"$f":"IF(AA19=0,0,(AA19*((LOG(AA19))/LOG(2))))","v":0},null,{"$f":"N19","v":2211},{"$f":"COUNTIF(L66:L95,AD19)","v":1},{"$f":"AE19/(AG4-AE20)","v":3.4482758620689655E-2},{"$f":"IF(AF19=0,0,(AF19*((LOG(AF19))/LOG(2))))","v":-0.16751658603888178},null,{"$f":"N19","v":2211},{"$f":"COUNTIF(L96:L124,AI19)","v":0},{"$f":"AJ19/(AL4-AJ20)","v":0},{"$f":"IF(AK19=0,0,(AK19*((LOG(AK19))/LOG(2))))","v":0},null,{"$f":"N19","v":2211},{"$f":"COUNTIF(L125:L154,AN19)","v":0},{"$f":"AO19/(AQ4-AO20)","v":0},{"$f":"IF(AP19=0,0,(AP19*((LOG(AP19))/LOG(2))))","v":0},null,{"$f":"N19","v":2211},{"$f":"COUNTIF(L155:L183,AS19)","v":2},{"$f":"AT19/(AV4-AT20)","v":7.1428571428571425E-2},{"$f":"IF(AU19=0,0,(AU19*((LOG(AU19))/LOG(2))))","v":-0.27195392300411453}]
[12,1887,14,1894,13,1955,23,1967,null,null,0,1112,null,2212,{"$f":"COUNTIF($L$7:$L$500,N20)","v":7},{"$f":"O20/$Q$4","v":3.954802259887006E-2},{"$f":"IF(P20=0,0,(P20*((LOG(P20))/LOG(2))))","v":-0.18430369715354664},null,null,{"$f":"N20","v":2212},{"$f":"COUNTIF(L7:L36,T20)","v":0},null,null,null,{"$f":"N20","v":2212},{"$f":"COUNTIF(L37:L65,Y20)","v":1},null,null,null,{"$f":"N20","v":2212},{"$f":"COUNTIF(L66:L95,AD20)","v":1},null,null,null,{"$f":"N20","v":2212},{"$f":"COUNTIF(L96:L124,AI20)","v":2},null,null,null,{"$f":"N20","v":2212},{"$f":"COUNTIF(L125:L154,AN20)","v":2},null,null,null,{"$f":"N20","v":2212},{"$f":"COUNTIF(L155:L183,AS20)","v":1}]
[12,2062,23,2072,24,2077,23,2085,null,null,0,1222,null,2221,{"$f":"COUNTIF($L$7:$L$500,N21)","v":3},{"$f":"O21/$Q$4","v":1.6949152542372881E-2},{"$f":"IF(P21=0,0,(P21*((LOG(P21))/LOG(2))))","v":-9.9705814395963419E-2},null,null,{"$f":"N21","v":2221},{"$f":"COUNTIF(L7:L36,T21)","v":1},{"$f":"U21/(W4-U20)","v":3.3333333333333333E-2},{"$f":"IF(V21=0,0,(V21*((LOG(V21))/LOG(2))))","v":-0.16356301985361729},null,{"$f":"N21","v":2221},{"$f":"COUNTIF(L37:L65,Y21)","v":1},{"$f":"Z21/(AB4-Z20)","v":3.5714285714285712E-2},{"$f":"IF(AA21=0,0,(AA21*((LOG(AA21))/LOG(2))))","v":-0.17169124721634299},null,{"$f":"N21","v":2221},{"$f":"COUNTIF(L66:L95,AD21)","v":1},{"$f":"AE21/(AG4-AE20)","v":3.4482758620689655E-2},{"$f":"IF(AF21=0,0,(AF21*((LOG(AF21))/LOG(2))))","v":-0.16751658603888178},null,{"$f":"N21","v":2221},{"$f":"COUNTIF(L96:L124,AI21)","v":0},{"$f":"AJ21/(AL4-AJ20)","v":0},{"$f":"IF(AK21=0,0,(AK21*((LOG(AK21))/LOG(2))))","v":0},null,{"$f":"N21","v":2221},{"$f":"COUNTIF(L125:L154,AN21)","v":0},{"$f":"AO21/(AQ4-AO20)","v":0},{"$f":"IF(AP21=0,0,(AP21*((LOG(AP21))/LOG(2))))","v":0},null,{"$f":"N21","v":2221},{"$f":"COUNTIF(L155:L183,AS21)","v":0},{"$f":"AT21/(AV4-AT20)","v":0},{"$f":"IF(AU21=0,0,(AU21*((LOG(AU21))/LOG(2))))","v":0}]
[12,2177,23,2194,24,2198,23,2211,null,null,0,1222,null,2222,{"$f":"COUNTIF($L$7:$L$500,N22)","v":10},{"$f":"O22/$Q$4","v":5.6497175141242938E-2},{"$f":"IF(P22=0,0,(P22*((LOG(P22))/LOG(2))))","v":-0.2342190652652901},null,null,{"$f":"N22","v":2222},{"$f":"COUNTIF(L7:L36,T22)","v":0},{"$f":"U22/(W4-U20)","v":0},{"$f":"IF(V22=0,0,(V22*((LOG(V22))/LOG(2))))","v":0},null,{"$f":"N22","v":2222},{"$f":"COUNTIF(L37:L65,Y22)","v":2},{"$f":"Z22/(AB4-Z20)","v":7.1428571428571425E-2},{"$f":"IF(AA22=0,0,(AA22*((LOG(AA22))/LOG(2))))","v":-0.27195392300411453},null,{"$f":"N22","v":2222},{"$f":"COUNTIF(L66:L95,AD22)","v":3},{"$f":"AE22/(AG4-AE20)","v":0.10344827586206896},{"$f":"IF(AF22=0,0,(AF22*((LOG(AF22))/LOG(2))))","v":-0.33858812011100858},null,{"$f":"N22","v":2222},{"$f":"COUNTIF(L96:L124,AI22)","v":1},{"$f":"AJ22/(AL4-AJ20)","v":3.7037037037037035E-2},{"$f":"IF(AK22=0,0,(AK22*((LOG(AK22))/LOG(2))))","v":-0.1761069445245729},null,{"$f":"N22","v":2222},{"$f":"COUNTIF(L125:L154,AN22)","v":3},{"$f":"AO22/(AQ4-AO20)","v":0.10714285714285714},{"$f":"IF(AP22=0,0,(AP22*((LOG(AP22))/LOG(2))))","v":-0.34525633085747659},null,{"$f":"N22","v":2222},{"$f":"COUNTIF(L155:L183,AS22)","v":1},{"$f":"AT22/(AV4-AT20)","v":3.5714285714285712E-2},{"$f":"IF(AU22=0,0,(AU22*((LOG(AU22))/LOG(2))))","v":-0.17169124721634299}]
[12,2306,23,2316,24,2321,14,2344,null,null,0,1221,null,null,null,{"$f":"SUM(P7:P22)","v":0.99999999999999989},{"$f":"-SUM(Q7:Q22)","v":2.3684910644732962},null,null,null,null,{"$f":"SUM(V7:V22)","v":1},{"$f":"-SUM(W7:W22)","v":2.339572261986723},null,null,null,{"$f":"SUM(AA7:AA22)","v":0.99999999999999989},{"$f":"-SUM(AB7:AB22)","v":1.7498677622562895},null,null,null,{"$f":"SUM(AF7:AF22)","v":0.99999999999999989},{"$f":"-SUM(AG7:AG22)","v":1.2420367498798477},null,null,null,{"$f":"SUM(AK7:AK22)","v":1},{"$f":"-SUM(AL7:AL22)","v":1.3688438724389536},null,null,null,{"$f":"SUM(AP7:AP22)","v":1},{"$f":"-SUM(AQ7:AQ22)","v":1.8030074660991144},null,null,null,{"$f":"SUM(AU7:AU22)","v":0.99999999999999989},{"$f":"-SUM(AV7:AV22)","v":2.708394210158783}]
[12,2439,23,2450,24,2455,23,2463,null,null,0,1222,null,null,null,"U=",{"$f":"Q23/(LOG(Q4)/LOG(2))","v":0.31716874285720298},null,null,null,null,"U1=",{"$f":"W23/(LOG(W4)/LOG(2))","v":0.47679323930322626},null,null,null,"U2=",{"$f":"AB23/(LOG(AB4)/LOG(2))","v":0.3602047360850858},null,null,null,"U3=",{"$f":"AG23/(LOG(AG4)/LOG(2))","v":0.25312093792990281},null,null,null,"U4=",{"$f":"AL23/(LOG(AL4)/LOG(2))","v":0.2817721752744336},null,null,null,"U5=",{"$f":"AQ23/(LOG(AQ4)/LOG(2))","v":0.36744399145820328},null,null,null,"U6=",{"$f":"AV23/(LOG(AV4)/LOG(2))","v":0.55751436921536579}]
[12,2558,14,2587,24,2599,23,2604,null,null,0,1122]
[12,2701,23,2712,24,2718,14,2737,null,null,0,1221]
[12,2832,23,2843,24,2848,23,2856,null,null,0,1222,null,"Total Target Seq"]
[12,2952,23,2961,24,2966,23,2978,null,null,0,1222,null,{"$f":"COUNTIF(L7:L183,G3)","v":7},null,30,29,30,29,30,29]
[12,3091,23,3103,24,3108,23,3116,null,null,0,1222,null,null,null,"% of reinforcement given in 6 equal intervals based on number of trials "]
[12,3211,23,3221,24,3226,23,3235,null,null,0,1222,null,null,null,"%_1","%_2","%_3","%_4","%_5","%_6"]
[12,3331,14,3364,24,3377,23,3382,null,null,0,1122,null,null,"target sequence",{"$f":"$G$3","v":2212},{"$f":"$G$3","v":2212},{"$f":"$G$3","v":2212},{"$f":"$G$3","v":2212},{"$f":"$G$3","v":2212},{"$f":"$G$3","v":2212}]
[12,3479,23,3491,24,3495,14,3510,null,null,0,1221,null,null,"total reinforcement",{"$f":"U20","v":0},{"$f":"Z20","v":1},{"$f":"AE20","v":1},{"$f":"AJ20","v":2},{"$f":"AO20","v":2},{"$f":"AT20","v":1}]
[12,3604,14,3621,24,3632,23,3640,null,null,0,1122,null,null,"% target"]
[21,3752,12,3770,24,3782,23,3789,null,null,0,2122,null,null,"CCRF"]
[12,3887,14,3895,24,3907,23,3913,null,null,0,1122,null,null,"% CCRf"]
[12,4003,23,4015,24,4019,14,4035,null,null,0,1221,null,null,"average response rate",{"$f":"H36/P28","v":134.5},{"$f":"(H65-H36)/Q28","v":134.72413793103448},{"$f":"(H95-H65)/R28","v":135.69999999999999},{"$f":"(H124-H95)/S28","v":129.0344827586207},{"$f":"(H154-H124)/T28","v":131.96666666666667},{"$f":"(H183-H154)/U28","v":139.72413793103448}]
[21,4149,21,4154,22,4166,23,4174,null,null,0,2222]
[12,4269,14,4297,24,4308,23,4317,null,null,0,1122]
[12,4412,23,4424,24,4429,23,4443,null,null,0,1222]
[21,4545,21,4553,11,4568,21,4578,null,null,0,2212]
[12,4670,23,4682,24,4703,23,4716,null,null,0,1222]
[21,4821,21,4827,22,4838,14,4853,null,null,0,2221]
[12,4949,23,4961,24,4966,23,4990,null,null,0,1222]
[12,5103,23,5116,24,5121,14,5150,null,null,0,1221]
[12,5245,23,5261,24,5268,23,5281,null,null,0,1222]
[12,5377,23,5391,24,5396,23,5416,null,null,0,1222]
[12,5512,14,5516,24,5528,23,5537,null,null,0,1122]
[12,5635,23,5648,24,5653,23,5665,null,null,0,1222]
[12,5759,23,5771,24,5776,23,5787,null,null,0,1222]
[12,5883,23,5894,24,5902,23,5919,null,null,0,1222]
[12,6058,23,6093,24,6101,23,6119,null,null,0,1222]
[12,6210,23,6222,24,6227,23,6240,null,null,0,1222]
[12,6335,14,6360,24,6372,23,6377,null,null,0,1122]
[12,6467,23,6479,24,6485,23,6499,null,null,0,1222]
[12,6594,23,6606,24,6612,23,6626,null,null,0,1222]
[12,6722,23,6733,24,6738,23,6748,null,null,0,1222]
[12,6843,23,6855,24,6859,14,6874,null,null,0,1221]
[12,6969,23,6980,24,6987,14,7002,null,null,0,1221]
[12,7098,23,7109,24,7116,23,7126,null,null,0,1222]
[12,7233,14,7246,24,7258,23,7266,null,null,0,1122]
[12,7363,23,7374,24,7388,23,7399,null,null,0,1222]
[12,7502,14,7510,24,7524,23,7532,null,null,0,1122]
[21,7654,21,7662,22,7684,23,7692,null,null,0,2222]
[12,7782,23,7793,24,7798,23,7809,null,null,0,1222]
[12,7905,23,7917,24,7923,14,7942,null,null,0,1221]
[12,8055,23,8067,24,8084,23,8099,null,null,0,1222]
[12,8195,23,8205,24,8210,23,8218,null,null,0,1222]
[12,8308,23,8321,24,8326,23,8335,null,null,0,1222]
[12,8431,23,8461,24,8469,23,8483,null,null,0,1222]
[12,8578,14,8582,24,8593,23,8598,null,null,0,1122]
[12,8695,23,8707,24,8712,23,8720,null,null,0,1222]
[12,8814,23,8826,24,8833,23,8841,null,null,0,1222]
[12,8938,23,8951,24,8959,23,8967,null,null,0,1222]
[12,9057,23,9073,24,9079,23,9098,null,null,0,1222]
[12,9194,14,9197,24,9209,23,9217,null,null,0,1122]
[21,9331,21,9338,22,9359,23,9366,null,null,0,2222]
[12,9467,23,9481,24,9489,23,9507,null,null,0,1222]
[12,9601,23,9612,24,9619,23,9631,null,null,0,1222]
[12,9728,23,9739,24,9747,23,9757,null,null,0,1222]
[12,9854,23,9866,24,9874,23,9882,null,null,0,1222]
[12,9976,23,9987,24,9996,23,10021,null,null,0,1222]
[21,10131,21,10136,22,10154,14,10171,null,null,0,2221]
[12,10270,23,10282,24,10290,23,10299,null,null,0,1222]
[12,10394,23,10404,24,10409,23,10436,null,null,0,1222]
[21,10599,21,10610,22,10620,23,10629,null,null,0,2222]
[21,10733,21,10738,22,10751,23,10760,null,null,0,2222]
[12,10978,23,10990,24,10997,23,11005,null,null,0,1222]
[21,11117,21,11123,11,11140,21,11153,null,null,0,2212]
[21,11250,21,11256,11,11269,12,11277,null,null,0,2211]
[12,11368,23,11377,24,11382,23,11390,null,null,0,1222]
[12,11485,23,11495,24,11499,23,11510,null,null,0,1222]
[12,11609,23,11623,24,11631,23,11644,null,null,0,1222]
[12,11743,23,11755,24,11760,23,11768,null,null,0,1222]
[12,11864,23,11875,24,11880,23,11890,null,null,0,1222]
[12,11982,23,11994,24,12001,23,12013,null,null,0,1222]
[21,12118,21,12123,11,12135,21,12147,null,null,0,2212]
[12,12239,23,12250,24,12277,23,12297,null,null,0,1222]
[12,12392,23,12403,24,12408,14,12427,null,null,0,1221]
[12,12522,23,12533,24,12552,23,12560,null,null,0,1222]
[12,12651,23,12663,24,12668,23,12682,null,null,0,1222]
[12,12778,23,12790,24,12796,23,12804,null,null,0,1222]
[12,12898,23,12913,24,12922,14,12937,null,null,0,1221]
[12,13034,23,13046,24,13051,23,13068,null,null,0,1222]
[12,13165,23,13176,24,13183,23,13194,null,null,0,1222]
[12,13294,23,13311,24,13319,23,13328,null,null,0,1222]
[12,13419,23,13431,24,13436,23,13449,null,null,0,1222]
[12,13544,23,13554,24,13559,14,13572,null,null,0,1221]
[12,13666,14,13681,24,13692,23,13700,null,null,0,1122]
[12,13796,23,13808,24,13815,23,13823,null,null,0,1222]
[12,13913,23,13922,24,13930,23,13938,null,null,0,1222]
[12,14034,23,14045,24,14051,23,14059,null,null,0,1222]
[21,14168,21,14172,11,14189,21,14201,null,null,0,2212]
[12,14292,23,14303,24,14308,23,14317,null,null,0,1222]
[12,14432,23,14443,24,14451,14,14467,null,null,0,1221]
[12,14562,23,14572,24,14579,14,14591,null,null,0,1221]
[12,14686,23,14696,24,14701,23,14709,null,null,0,1222]
[21,14833,21,14840,22,14849,23,14875,null,null,0,2222]
[12,14971,23,14981,24,15002,23,15007,null,null,0,1222]
[12,15103,14,15118,24,15129,23,15137,null,null,0,1122]
[12,15236,23,15247,24,15255,23,15263,null,null,0,1222]
[12,15353,23,15364,24,15371,23,15378,null,null,0,1222]
[12,15468,23,15489,24,15493,23,15505,null,null,0,1222]
[12,15599,14,15618,24,15630,23,15637,null,null,0,1122]
[12,15732,23,15743,24,15747,23,15755,null,null,0,1222]
[12,15851,23,15861,24,15865,14,15890,null,null,0,1221]
[12,15985,23,16008,24,16015,14,16033,null,null,0,1221]
[12,16130,23,16141,24,16146,23,16155,null,null,0,1222]
[12,16251,23,16262,24,16270,23,16281,null,null,0,1222]
[12,16377,23,16388,24,16396,23,16409,null,null,0,1222]
[12,16509,23,16517,24,16525,23,16533,null,null,0,1222]
[12,16628,23,16640,24,16644,14,16656,null,null,0,1221]
[12,16751,23,16762,24,16769,23,16778,null,null,0,1222]
[12,16873,14,16893,24,16904,23,16913,null,null,0,1122]
[12,17002,23,17013,24,17017,23,17040,null,null,0,1222]
[12,17136,23,17148,24,17152,23,17171,null,null,0,1222]
[12,17266,14,17285,24,17296,23,17304,null,null,0,1122]
[21,17424,21,17433,11,17457,21,17469,null,null,0,2212]
[21,17570,21,17577,22,17585,23,17603,null,null,0,2222]
[21,17707,21,17724,11,17741,21,17753,null,null,0,2212]
[12,17844,23,17855,24,17863,23,17871,null,null,0,1222]
[12,17966,14,17984,24,17993,23,18010,null,null,0,1122]
[12,18106,23,18117,24,18122,23,18130,null,null,0,1222]
[12,18224,23,18236,24,18244,23,18260,null,null,0,1222]
[12,18354,23,18384,24,18392,14,18408,null,null,0,1221]
[12,18498,23,18509,24,18516,14,18529,null,null,0,1221]
[12,18624,14,18635,24,18647,23,18655,null,null,0,1122]
[21,18761,21,18768,22,18789,23,18806,null,null,0,2222]
[12,18902,23,18914,24,18921,14,18933,null,null,0,1221]
[12,19031,23,19041,24,19048,23,19056,null,null,0,1222]
[12,19151,14,19159,24,19170,23,19180,null,null,0,1122]
[12,19271,23,19291,24,19299,23,19317,null,null,0,1222]
[12,19411,23,19422,24,19427,14,19441,null,null,0,1221]
[21,19550,21,19558,22,19570,23,19588,null,null,0,2222]
[12,19685,23,19697,24,19705,23,19714,null,null,0,1222]
[21,19834,21,19842,22,19862,23,19871,null,null,0,2222]
[12,19962,23,19973,24,19980,23,19987,null,null,0,1222]
[21,20098,21,20106,11,20118,21,20130,null,null,0,2212]
[12,20219,23,20232,13,20248,23,20260,null,null,0,1212]
[12,20355,14,20376,24,20387,23,20395,null,null,0,1122]
[12,20491,23,20502,24,20511,23,20519,null,null,0,1222]
[12,20629,23,20645,13,20662,23,20674,null,null,0,1212]
[12,20769,23,20782,24,20791,14,20807,null,null,0,1221]
[12,20901,23,20919,13,20934,23,20945,null,null,0,1212]
[21,21066,21,21071,11,21089,12,21095,null,null,0,2211]
[12,21186,14,21208,24,21219,23,21227,null,null,0,1122]
[12,21323,23,21337,24,21345,14,21357,null,null,0,1221]
[12,21456,23,21466,24,21474,23,21484,null,null,0,1222]
[12,21579,14,21598,24,21620,14,21636,null,null,0,1121]
[21,21759,21,21766,11,21778,12,21786,null,null,0,2211]
[12,21884,23,21899,24,21906,14,21919,null,null,0,1221]
[12,22014,14,22041,24,22054,23,22062,null,null,0,1122]
[12,22157,14,22182,24,22194,14,22220,null,null,0,1121]
[12,22320,23,22337,13,22352,23,22368,null,null,0,1212]
[12,22465,23,22476,24,22482,23,22508,null,null,0,1222]
[12,22604,14,22647,24,22660,23,22669,null,null,0,1122]
[12,22759,23,22770,24,22776,14,22788,null,null,0,1221]
[12,22908,23,22930,24,22938,23,22962,null,null,0,1222]
[12,23058,23,23069,24,23082,23,23101,null,null,0,1222]
[12,23197,14,23223,13,23231,14,23239,null,null,0,1111]
[12,23334,23,23356,24,23364,23,23375,null,null,0,1222]
[12,23470,14,23477,24,23487,23,23495,null,null,0,1122]
[12,23592,14,23612,24,23624,23,23632,null,null,0,1122]
[12,23728,23,23745,24,23753,14,23766,null,null,1,1221]

{"sheet":"!M817B00.000","index":4,"n_rows":177,"n_cols":48,"rows_kept":177,"cut":false,"hidden":false,"merged":[[4,39,4,42],[5,39,5,40],[4,44,4,47],[5,44,5,45],[4,24,4,27],[5,24,5,25],[4,29,4,32],[5,29,5,30],[4,34,4,37],[5,34,5,35],[1,1,1,2],[5,13,5,14],[26,13,26,14],[27,13,27,14],[4,19,4,22],[5,19,5,20]]}
["Report for:!M817B00.000"]
["Date:","<date>"]
["Hen:","<hen>",null,null,null,"Correct Sequence",{"$f":"Start!J2","v":2212},null,null,null,null,null,null,null,null,"Total Sequences in Data",{"$f":"4994-COUNTBLANK(L7:L5000)","v":171},null,null,null,null,"Total Sequences in Block Data",{"$f":"COUNTA(L7:L35)","v":29},null,null,null,"Total Sequences in Block Data",{"$f":"COUNTA(L36:L63)","v":28},null,null,null,"Total Sequences in Block Data",{"$f":"COUNTA(L64:L92)","v":29},null,null,null,"Total Sequences in Block Data",{"$f":"COUNTA(L93:L120)","v":28},null,null,null,"Total Sequences in Block Data",{"$f":"COUNTA(L121:L149)","v":29},null,null,null,"Total Sequences in Block Data",{"$f":"COUNTA(L150:L177)","v":28}]
[null,null,null,null,null,null,null,null,null,null,null,null,null,null,null,"Total Sequences in Summary",{"$f":"SUM(O7:O22)","v":171},null,null,null,null,"Total Sequences in Block Summary",{"$f":"SUM(U7:U22)","v":29},null,null,null,"Total Sequences in Block Summary",{"$f":"SUM(Z7:Z22)","v":28},null,null,null,"Total Sequences in Block Summary",{"$f":"SUM(AE7:AE22)","v":29},null,null,null,"Total Sequences in Block Summary",{"$f":"SUM(AJ7:AJ22)","v":28},null,null,null,"Total Sequences in Block Summary",{"$f":"SUM(AO7:AO22)","v":29},null,null,null,"Total Sequences in Block Summary",{"$f":"SUM(AT7:AT22)","v":28}]
[null,null,null,null,null,null,null,null,null,null,null,null,null,null,null,null,null,null,null,"Block 1",null,null,null,null,"Block 2",null,null,null,null,"Block 3",null,null,null,null,"Block 4",null,null,null,null,"Block 5",null,null,null,null,"Block 6"]
["Sequence\nComponent\n1","Time\n1","Sequence\nComponent\n2","Time\n2","Sequence\nComponent\n3","Time\n3","Sequence\nComponent\n4","Time\n4","Sequence\nComponent\n5","Time\n5","Correct?\n0=No 1=Yes","Sequence",null,"Frequency",null,"Relative Frequency","Variability",null,null,"Frequency",null,"Relative Frequency","Variability",null,"Frequency",null,"Relative Frequency","Variability",null,"Frequency",null,"Relative Frequency","Variability",null,"Frequency",null,"Relative Frequency","Variability",null,"Frequency",null,"Relative Frequency","Variability",null,"Frequency",null,"Relative Frequency","Variability"]
[12,8,23,16,24,24,14,37,null,null,0,1221,null,1111,{"$f":"COUNTIF($L$7:$L$500,N7)","v":4},{"$f":"O7/$Q$4","v":2.3391812865497075E-2},{"$f":"IF(P7=0,0,(P7*((LOG(P7))/LOG(2))))","v":-0.12673339216107363},null,null,{"$f":"N7","v":1111},{"$f":"COUNTIF(L7:L35,T7)","v":0},{"$f":"U7/(W4-U20)","v":0},{"$f":"IF(V7=0,0,(V7*((LOG(V7))/LOG(2))))","v":0},null,{"$f":"N7","v":1111},{"$f":"COUNTIF(L36:L63,Y7)","v":1},{"$f":"Z7/(AB4-Z20)","v":3.7037037037037035E-2},{"$f":"IF(AA7=0,0,(AA7*((LOG(AA7))/LOG(2))))","v":-0.1761069445245729},null,{"$f":"N7","v":1111},{"$f":"COUNTIF(L64:L92,AD7)","v":0},{"$f":"AE7/(AG4-AE20)","v":0},{"$f":"IF(AF7=0,0,(AF7*((LOG(AF7))/LOG(2))))","v":0},null,{"$f":"N7","v":1111},{"$f":"COUNTIF(L93:L120,AI7)","v":1},{"$f":"AJ7/(AL4-AJ20)","v":3.7037037037037035E-2},{"$f":"IF(AK7=0,0,(AK7*((LOG(AK7))/LOG(2))))","v":-0.1761069445245729},null,{"$f":"N7","v":1111},{"$f":"COUNTIF(L121:L149,AN7)","v":1},{"$f":"AO7/(AQ4-AO20)","v":3.7037037037037035E-2},{"$f":"IF(AP7=0,0,(AP7*((LOG(AP7))/LOG(2))))","v":-0.1761069445245729},null,{"$f":"N7","v":1111},{"$f":"COUNTIF(L150:L177,AS7)","v":1},{"$f":"AT7/(AV4-AT20)","v":3.5714285714285712E-2},{"$f":"IF(AU7=0,0,(AU7*((LOG(AU7))/LOG(2))))","v":-0.17169124721634299}]
[21,163,21,170,22,179,14,192,null,null,0,2221,null,1112,{"$f":"COUNTIF($L$7:$L$500,N8)","v":10},{"$f":"O8/$Q$4","v":5.8479532163742687E-2},{"$f":"IF(P8=0,0,(P8*((LOG(P8))/LOG(2))))","v":-0.23952774385956346},null,null,{"$f":"N8","v":1112},{"$f":"COUNTIF(L7:L35,T8)","v":1},{"$f":"U8/(W4-U20)","v":3.8461538461538464E-2},{"$f":"IF(V8=0,0,(V8*((LOG(V8))/LOG(2))))","v":-0.18078614300542661},null,{"$f":"N8","v":1112},{"$f":"COUNTIF(L36:L63,Y8)","v":2},{"$f":"Z8/(AB4-Z20)","v":7.407407407407407E-2},{"$f":"IF(AA8=0,0,(AA8*((LOG(AA8))/LOG(2))))","v":-0.27813981497507173},null,{"$f":"N8","v":1112},{"$f":"COUNTIF(L64:L92,AD8)","v":2},{"$f":"AE8/(AG4-AE20)","v":7.1428571428571425E-2},{"$f":"IF(AF8=0,0,(AF8*((LOG(AF8))/LOG(2))))","v":-0.27195392300411453},null,{"$f":"N8","v":1112},{"$f":"COUNTIF(L93:L120,AI8)","v":2},{"$f":"AJ8/(AL4-AJ20)","v":7.407407407407407E-2},{"$f":"IF(AK8=0,0,(AK8*((LOG(AK8))/LOG(2))))","v":-0.27813981497507173},null,{"$f":"N8","v":1112},{"$f":"COUNTIF(L121:L149,AN8)","v":3},{"$f":"AO8/(AQ4-AO20)","v":0.1111111111111111},{"$f":"IF(AP8=0,0,(AP8*((LOG(AP8))/LOG(2))))","v":-0.3522138890491458},null,{"$f":"N8","v":1112},{"$f":"COUNTIF(L150:L177,AS8)","v":0},{"$f":"AT8/(AV4-AT20)","v":0},{"$f":"IF(AU8=0,0,(AU8*((LOG(AU8))/LOG(2))))","v":0}]
[21,298,21,304,11,317,21,328,null,null,0,2212,null,1121,{"$f":"COUNTIF($L$7:$L$500,N9)","v":3},{"$f":"O9/$Q$4","v":1.7543859649122806E-2},{"$f":"IF(P9=0,0,(P9*((LOG(P9))/LOG(2))))","v":-0.10233140375727617},null,null,{"$f":"N9","v":1121},{"$f":"COUNTIF(L7:L35,T9)","v":0},{"$f":"U9/(W4-U20)","v":0},{"$f":"IF(V9=0,0,(V9*((LOG(V9))/LOG(2))))","v":0},null,{"$f":"N9","v":1121},{"$f":"COUNTIF(L36:L63,Y9)","v":1},{"$f":"Z9/(AB4-Z20)","v":3.7037037037037035E-2},{"$f":"IF(AA9=0,0,(AA9*((LOG(AA9))/LOG(2))))","v":-0.1761069445245729},null,{"$f":"N9","v":1121},{"$f":"COUNTIF(L64:L92,AD9)","v":0},{"$f":"AE9/(AG4-AE20)","v":0},{"$f":"IF(AF9=0,0,(AF9*((LOG(AF9))/LOG(2))))","v":0},null,{"$f":"N9","v":1121},{"$f":"COUNTIF(L93:L120,AI9)","v":1},{"$f":"AJ9/(AL4-AJ20)","v":3.7037037037037035E-2},{"$f":"IF(AK9=0,0,(AK9*((LOG(AK9))/LOG(2))))","v":-0.1761069445245729},null,{"$f":"N9","v":1121},{"$f":"COUNTIF(L121:L149,AN9)","v":0},{"$f":"AO9/(AQ4-AO20)","v":0},{"$f":"IF(AP9=0,0,(AP9*((LOG(AP9))/LOG(2))))","v":0},null,{"$f":"N9","v":1121},{"$f":"COUNTIF(L150:L177,AS9)","v":1},{"$f":"AT9/(AV4-AT20)","v":3.5714285714285712E-2},{"$f":"IF(AU9=0,0,(AU9*((LOG(AU9))/LOG(2))))","v":-0.17169124721634299}]
[21,439,21,444,22,466,23,474,null,null,0,2222,null,1122,{"$f":"COUNTIF($L$7:$L$500,N10)","v":42},{"$f":"O10/$Q$4","v":0.24561403508771928},{"$f":"IF(P10=0,0,(P10*((LOG(P10))/LOG(2))))","v":-0.4974998471842092},null,null,{"$f":"N10","v":1122},{"$f":"COUNTIF(L7:L35,T10)","v":7},{"$f":"U10/(W4-U20)","v":0.26923076923076922},{"$f":"IF(V10=0,0,(V10*((LOG(V10))/LOG(2))))","v":-0.50967667586863141},null,{"$f":"N10","v":1122},{"$f":"COUNTIF(L36:L63,Y10)","v":8},{"$f":"Z10/(AB4-Z20)","v":0.29629629629629628},{"$f":"IF(AA10=0,0,(AA10*((LOG(AA10))/LOG(2))))","v":-0.51996666730769436},null,{"$f":"N10","v":1122},{"$f":"COUNTIF(L64:L92,AD10)","v":6},{"$f":"AE10/(AG4-AE20)","v":0.21428571428571427},{"$f":"IF(AF10=0,0,(AF10*((LOG(AF10))/LOG(2))))","v":-0.47622694742923877},null,{"$f":"N10","v":1122},{"$f":"COUNTIF(L93:L120,AI10)","v":7},{"$f":"AJ10/(AL4-AJ20)","v":0.25925925925925924},{"$f":"IF(AK10=0,0,(AK10*((LOG(AK10))/LOG(2))))","v":-0.5049158541015204},null,{"$f":"N10","v":1122},{"$f":"COUNTIF(L121:L149,AN10)","v":8},{"$f":"AO10/(AQ4-AO20)","v":0.29629629629629628},{"$f":"IF(AP10=0,0,(AP10*((LOG(AP10))/LOG(2))))","v":-0.51996666730769436},null,{"$f":"N10","v":1122},{"$f":"COUNTIF(L150:L177,AS10)","v":6},{"$f":"AT10/(AV4-AT20)","v":0.21428571428571427},{"$f":"IF(AU10=0,0,(AU10*((LOG(AU10))/LOG(2))))","v":-0.47622694742923877}]
[12,572,14,590,24,600,23,608,null,null,0,1122,null,1211,{"$f":"COUNTIF($L$7:$L$500,N11)","v":4},{"$f":"O11/$Q$4","v":2.3391812865497075E-2},{"$f":"IF(P11=0,0,(P11*((LOG(P11))/LOG(2))))","v":-0.12673339216107363},null,null,{"$f":"N11","v":1211},{"$f":"COUNTIF(L7:L35,T11)","v":0},{"$f":"U11/(W4-U20)","v":0},{"$f":"IF(V11=0,0,(V11*((LOG(V11))/LOG(2))))","v":0},null,{"$f":"N11","v":1211},{"$f":"COUNTIF(L36:L63,Y11)","v":0},{"$f":"Z11/(AB4-Z20)","v":0},{"$f":"IF(AA11=0,0,(AA11*((LOG(AA11))/LOG(2))))","v":0},null,{"$f":"N11","v":1211},{"$f":"COUNTIF(L64:L92,AD11)","v":0},{"$f":"AE11/(AG4-AE20)","v":0},{"$f":"IF(AF11=0,0,(AF11*((LOG(AF11))/LOG(2))))","v":0},null,{"$f":"N11","v":1211},{"$f":"COUNTIF(L93:L120,AI11)","v":1},{"$f":"AJ11/(AL4-AJ20)","v":3.7037037037037035E-2},{"$f":"IF(AK11=0,0,(AK11*((LOG(AK11))/LOG(2))))","v":-0.1761069445245729},null,{"$f":"N11","v":1211},{"$f":"COUNTIF(L121:L149,AN11)","v":0},{"$f":"AO11/(AQ4-AO20)","v":0},{"$f":"IF(AP11=0,0,(AP11*((LOG(AP11))/LOG(2))))","v":0},null,{"$f":"N11","v":1211},{"$f":"COUNTIF(L150:L177,AS11)","v":3},{"$f":"AT11/(AV4-AT20)","v":0.10714285714285714},{"$f":"IF(AU11=0,0,(AU11*((LOG(AU11))/LOG(2))))","v":-0.34525633085747659}]
[12,704,14,724,24,733,23,741,null,null,0,1122,null,1212,{"$f":"COUNTIF($L$7:$L$500,N12)","v":7},{"$f":"O12/$Q$4","v":4.0935672514619881E-2},{"$f":"IF(P12=0,0,(P12*((LOG(P12))/LOG(2))))","v":-0.18873381958946231},null,null,{"$f":"N12","v":1212},{"$f":"COUNTIF(L7:L35,T12)","v":2},{"$f":"U12/(W4-U20)","v":7.6923076923076927E-2},{"$f":"IF(V12=0,0,(V12*((LOG(V12))/LOG(2))))","v":-0.28464920908777636},null,{"$f":"N12","v":1212},{"$f":"COUNTIF(L36:L63,Y12)","v":0},{"$f":"Z12/(AB4-Z20)","v":0},{"$f":"IF(AA12=0,0,(AA12*((LOG(AA12))/LOG(2))))","v":0},null,{"$f":"N12","v":1212},{"$f":"COUNTIF(L64:L92,AD12)","v":3},{"$f":"AE12/(AG4-AE20)","v":0.10714285714285714},{"$f":"IF(AF12=0,0,(AF12*((LOG(AF12))/LOG(2))))","v":-0.34525633085747659},null,{"$f":"N12","v":1212},{"$f":"COUNTIF(L93:L120,AI12)","v":1},{"$f":"AJ12/(AL4-AJ20)","v":3.7037037037037035E-2},{"$f":"IF(AK12=0,0,(AK12*((LOG(AK12))/LOG(2))))","v":-0.1761069445245729},null,{"$f":"N12","v":1212},{"$f":"COUNTIF(L121:L149,AN12)","v":1},{"$f":"AO12/(AQ4-AO20)","v":3.7037037037037035E-2},{"$f":"IF(AP12=0,0,(AP12*((LOG(AP12))/LOG(2))))","v":-0.1761069445245729},null,{"$f":"N12","v":1212},{"$f":"COUNTIF(L150:L177,AS12)","v":0},{"$f":"AT12/(AV4-AT20)","v":0},{"$f":"IF(AU12=0,0,(AU12*((LOG(AU12))/LOG(2))))","v":0}]
[21,850,21,857,11,873,12,881,null,null,0,2211,null,1221,{"$f":"COUNTIF($L$7:$L$500,N13)","v":34},{"$f":"O13/$Q$4","v":0.19883040935672514},{"$f":"IF(P13=0,0,(P13*((LOG(P13))/LOG(2))))","v":-0.46335233276964316},null,null,{"$f":"N13","v":1221},{"$f":"COUNTIF(L7:L35,T13)","v":6},{"$f":"U13/(W4-U20)","v":0.23076923076923078},{"$f":"IF(V13=0,0,(V13*((LOG(V13))/LOG(2))))","v":-0.48818705017383146},null,{"$f":"N13","v":1221},{"$f":"COUNTIF(L36:L63,Y13)","v":9},{"$f":"Z13/(AB4-Z20)","v":0.33333333333333331},{"$f":"IF(AA13=0,0,(AA13*((LOG(AA13))/LOG(2))))","v":-0.52832083357371862},null,{"$f":"N13","v":1221},{"$f":"COUNTIF(L64:L92,AD13)","v":5},{"$f":"AE13/(AG4-AE20)","v":0.17857142857142858},{"$f":"IF(AF13=0,0,(AF13*((LOG(AF13))/LOG(2))))","v":-0.44382621913754317},null,{"$f":"N13","v":1221},{"$f":"COUNTIF(L93:L120,AI13)","v":3},{"$f":"AJ13/(AL4-AJ20)","v":0.1111111111111111},{"$f":"IF(AK13=0,0,(AK13*((LOG(AK13))/LOG(2))))","v":-0.3522138890491458},null,{"$f":"N13","v":1221},{"$f":"COUNTIF(L121:L149,AN13)","v":4},{"$f":"AO13/(AQ4-AO20)","v":0.14814814814814814},{"$f":"IF(AP13=0,0,(AP13*((LOG(AP13))/LOG(2))))","v":-0.40813148180199532},null,{"$f":"N13","v":1221},{"$f":"COUNTIF(L150:L177,AS13)","v":7},{"$f":"AT13/(AV4-AT20)","v":0.25},{"$f":"IF(AU13=0,0,(AU13*((LOG(AU13))/LOG(2))))","v":-0.5}]
[12,977,23,999,24,1006,14,1022,null,null,0,1221,null,1222,{"$f":"COUNTIF($L$7:$L$500,N14)","v":36},{"$f":"O14/$Q$4","v":0.21052631578947367},{"$f":"IF(P14=0,0,(P14*((LOG(P14))/LOG(2))))","v":-0.47324789756707064},null,null,{"$f":"N14","v":1222},{"$f":"COUNTIF(L7:L35,T14)","v":4},{"$f":"U14/(W4-U20)","v":0.15384615384615385},{"$f":"IF(V14=0,0,(V14*((LOG(V14))/LOG(2))))","v":-0.4154522643293988},null,{"$f":"N14","v":1222},{"$f":"COUNTIF(L36:L63,Y14)","v":3},{"$f":"Z14/(AB4-Z20)","v":0.1111111111111111},{"$f":"IF(AA14=0,0,(AA14*((LOG(AA14))/LOG(2))))","v":-0.3522138890491458},null,{"$f":"N14","v":1222},{"$f":"COUNTIF(L64:L92,AD14)","v":8},{"$f":"AE14/(AG4-AE20)","v":0.2857142857142857},{"$f":"IF(AF14=0,0,(AF14*((LOG(AF14))/LOG(2))))","v":-0.51638712058788683},null,{"$f":"N14","v":1222},{"$f":"COUNTIF(L93:L120,AI14)","v":8},{"$f":"AJ14/(AL4-AJ20)","v":0.29629629629629628},{"$f":"IF(AK14=0,0,(AK14*((LOG(AK14))/LOG(2))))","v":-0.51996666730769436},null,{"$f":"N14","v":1222},{"$f":"COUNTIF(L121:L149,AN14)","v":6},{"$f":"AO14/(AQ4-AO20)","v":0.22222222222222221},{"$f":"IF(AP14=0,0,(AP14*((LOG(AP14))/LOG(2))))","v":-0.48220555587606945},null,{"$f":"N14","v":1222},{"$f":"COUNTIF(L150:L177,AS14)","v":7},{"$f":"AT14/(AV4-AT20)","v":0.25},{"$f":"IF(AU14=0,0,(AU14*((LOG(AU14))/LOG(2))))","v":-0.5}]
[12,1118,23,1136,13,1149,23,1162,null,null,0,1212,null,2111,{"$f":"COUNTIF($L$7:$L$500,N15)","v":0},{"$f":"O15/$Q$4","v":0},{"$f":"IF(P15=0,0,(P15*((LOG(P15))/LOG(2))))","v":0},null,null,{"$f":"N15","v":2111},{"$f":"COUNTIF(L7:L35,T15)","v":0},{"$f":"U15/(W4-U20)","v":0},{"$f":"IF(V15=0,0,(V15*((LOG(V15))/LOG(2))))","v":0},null,{"$f":"N15","v":2111},{"$f":"COUNTIF(L36:L63,Y15)","v":0},{"$f":"Z15/(AB4-Z20)","v":0},{"$f":"IF(AA15=0,0,(AA15*((LOG(AA15))/LOG(2))))","v":0},null,{"$f":"N15","v":2111},{"$f":"COUNTIF(L64:L92,AD15)","v":0},{"$f":"AE15/(AG4-AE20)","v":0},{"$f":"IF(AF15=0,0,(AF15*((LOG(AF15))/LOG(2))))","v":0},null,{"$f":"N15","v":2111},{"$f":"COUNTIF(L93:L120,AI15)","v":0},{"$f":"AJ15/(AL4-AJ20)","v":0},{"$f":"IF(AK15=0,0,(AK15*((LOG(AK15))/LOG(2))))","v":0},null,{"$f":"N15","v":2111},{"$f":"COUNTIF(L121:L149,AN15)","v":0},{"$f":"AO15/(AQ4-AO20)","v":0},{"$f":"IF(AP15=0,0,(AP15*((LOG(AP15))/LOG(2))))","v":0},null,{"$f":"N15","v":2111},{"$f":"COUNTIF(L150:L177,AS15)","v":0},{"$f":"AT15/(AV4-AT20)","v":0},{"$f":"IF(AU15=0,0,(AU15*((LOG(AU15))/LOG(2))))","v":0}]
[12,1264,23,1278,24,1283,23,1303,null,null,0,1222,null,2112,{"$f":"COUNTIF($L$7:$L$500,N16)","v":2},{"$f":"O16/$Q$4","v":1.1695906432748537E-2},{"$f":"IF(P16=0,0,(P16*((LOG(P16))/LOG(2))))","v":-7.5062602513285351E-2},null,null,{"$f":"N16","v":2112},{"$f":"COUNTIF(L7:L35,T16)","v":1},{"$f":"U16/(W4-U20)","v":3.8461538461538464E-2},{"$f":"IF(V16=0,0,(V16*((LOG(V16))/LOG(2))))","v":-0.18078614300542661},null,{"$f":"N16","v":2112},{"$f":"COUNTIF(L36:L63,Y16)","v":0},{"$f":"Z16/(AB4-Z20)","v":0},{"$f":"IF(AA16=0,0,(AA16*((LOG(AA16))/LOG(2))))","v":0},null,{"$f":"N16","v":2112},{"$f":"COUNTIF(L64:L92,AD16)","v":1},{"$f":"AE16/(AG4-AE20)","v":3.5714285714285712E-2},{"$f":"IF(AF16=0,0,(AF16*((LOG(AF16))/LOG(2))))","v":-0.17169124721634299},null,{"$f":"N16","v":2112},{"$f":"COUNTIF(L93:L120,AI16)","v":0},{"$f":"AJ16/(AL4-AJ20)","v":0},{"$f":"IF(AK16=0,0,(AK16*((LOG(AK16))/LOG(2))))","v":0},null,{"$f":"N16","v":2112},{"$f":"COUNTIF(L121:L149,AN16)","v":0},{"$f":"AO16/(AQ4-AO20)","v":0},{"$f":"IF(AP16=0,0,(AP16*((LOG(AP16))/LOG(2))))","v":0},null,{"$f":"N16","v":2112},{"$f":"COUNTIF(L150:L177,AS16)","v":0},{"$f":"AT16/(AV4-AT20)","v":0},{"$f":"IF(AU16=0,0,(AU16*((LOG(AU16))/LOG(2))))","v":0}]
[12,1405,23,1417,24,1423,23,1435,null,null,0,1222,null,2121,{"$f":"COUNTIF($L$7:$L$500,N17)","v":0},{"$f":"O17/$Q$4","v":0},{"$f":"IF(P17=0,0,(P17*((LOG(P17))/LOG(2))))","v":0},null,null,{"$f":"N17","v":2121},{"$f":"COUNTIF(L7:L35,T17)","v":0},{"$f":"U17/(W4-U20)","v":0},{"$f":"IF(V17=0,0,(V17*((LOG(V17))/LOG(2))))","v":0},null,{"$f":"N17","v":2121},{"$f":"COUNTIF(L36:L63,Y17)","v":0},{"$f":"Z17/(AB4-Z20)","v":0},{"$f":"IF(AA17=0,0,(AA17*((LOG(AA17))/LOG(2))))","v":0},null,{"$f":"N17","v":2121},{"$f":"COUNTIF(L64:L92,AD17)","v":0},{"$f":"AE17/(AG4-AE20)","v":0},{"$f":"IF(AF17=0,0,(AF17*((LOG(AF17))/LOG(2))))","v":0},null,{"$f":"N17","v":2121},{"$f":"COUNTIF(L93:L120,AI17)","v":0},{"$f":"AJ17/(AL4-AJ20)","v":0},{"$f":"IF(AK17=0,0,(AK17*((LOG(AK17))/LOG(2))))","v":0},null,{"$f":"N17","v":2121},{"$f":"COUNTIF(L121:L149,AN17)","v":0},{"$f":"AO17/(AQ4-AO20)","v":0},{"$f":"IF(AP17=0,0,(AP17*((LOG(AP17))/LOG(2))))","v":0},null,{"$f":"N17","v":2121},{"$f":"COUNTIF(L150:L177,AS17)","v":0},{"$f":"AT17/(AV4-AT20)","v":0},{"$f":"IF(AU17=0,0,(AU17*((LOG(AU17))/LOG(2))))","v":0}]
[21,1538,21,1543,22,1572,23,1579,null,null,0,2222,null,2122,{"$f":"COUNTIF($L$7:$L$500,N18)","v":2},{"$f":"O18/$Q$4","v":1.1695906432748537E-2},{"$f":"IF(P18=0,0,(P18*((LOG(P18))/LOG(2))))","v":-7.5062602513285351E-2},null,null,{"$f":"N18","v":2122},{"$f":"COUNTIF(L7:L35,T18)","v":0},{"$f":"U18/(W4-U20)","v":0},{"$f":"IF(V18=0,0,(V18*((LOG(V18))/LOG(2))))","v":0},null,{"$f":"N18","v":2122},{"$f":"COUNTIF(L36:L63,Y18)","v":1},{"$f":"Z18/(AB4-Z20)","v":3.7037037037037035E-2},{"$f":"IF(AA18=0,0,(AA18*((LOG(AA18))/LOG(2))))","v":-0.1761069445245729},null,{"$f":"N18","v":2122},{"$f":"COUNTIF(L64:L92,AD18)","v":1},{"$f":"AE18/(AG4-AE20)","v":3.5714285714285712E-2},{"$f":"IF(AF18=0,0,(AF18*((LOG(AF18))/LOG(2))))","v":-0.17169124721634299},null,{"$f":"N18","v":2122},{"$f":"COUNTIF(L93:L120,AI18)","v":0},{"$f":"AJ18/(AL4-AJ20)","v":0},{"$f":"IF(AK18=0,0,(AK18*((LOG(AK18))/LOG(2))))","v":0},null,{"$f":"N18","v":2122},{"$f":"COUNTIF(L121:L149,AN18)","v":0},{"$f":"AO18/(AQ4-AO20)","v":0},{"$f":"IF(AP18=0,0,(AP18*((LOG(AP18))/LOG(2))))","v":0},null,{"$f":"N18","v":2122},{"$f":"COUNTIF(L150:L177,AS18)","v":0},{"$f":"AT18/(AV4-AT20)","v":0},{"$f":"IF(AU18=0,0,(AU18*((LOG(AU18))/LOG(2))))","v":0}]
[12,1676,14,1697,24,1707,23,1711,null,null,0,1122,null,2211,{"$f":"COUNTIF($L$7:$L$500,N19)","v":6},{"$f":"O19/$Q$4","v":3.5087719298245612E-2},{"$f":"IF(P19=0,0,(P19*((LOG(P19))/LOG(2))))","v":-0.16957508821630671},null,null,{"$f":"N19","v":2211},{"$f":"COUNTIF(L7:L35,T19)","v":1},{"$f":"U19/(W4-U20)","v":3.8461538461538464E-2},{"$f":"IF(V19=0,0,(V19*((LOG(V19))/LOG(2))))","v":-0.18078614300542661},null,{"$f":"N19","v":2211},{"$f":"COUNTIF(L36:L63,Y19)","v":1},{"$f":"Z19/(AB4-Z20)","v":3.7037037037037035E-2},{"$f":"IF(AA19=0,0,(AA19*((LOG(AA19))/LOG(2))))","v":-0.1761069445245729},null,{"$f":"N19","v":2211},{"$f":"COUNTIF(L64:L92,AD19)","v":1},{"$f":"AE19/(AG4-AE20)","v":3.5714285714285712E-2},{"$f":"IF(AF19=0,0,(AF19*((LOG(AF19))/LOG(2))))","v":-0.17169124721634299},null,{"$f":"N19","v":2211},{"$f":"COUNTIF(L93:L120,AI19)","v":0},{"$f":"AJ19/(AL4-AJ20)","v":0},{"$f":"IF(AK19=0,0,(AK19*((LOG(AK19))/LOG(2))))","v":0},null,{"$f":"N19","v":2211},{"$f":"COUNTIF(L121:L149,AN19)","v":2},{"$f":"AO19/(AQ4-AO20)","v":7.407407407407407E-2},{"$f":"IF(AP19=0,0,(AP19*((LOG(AP19))/LOG(2))))","v":-0.27813981497507173},null,{"$f":"N19","v":2211},{"$f":"COUNTIF(L150:L177,AS19)","v":1},{"$f":"AT19/(AV4-AT20)","v":3.5714285714285712E-2},{"$f":"IF(AU19=0,0,(AU19*((LOG(AU19))/LOG(2))))","v":-0.17169124721634299}]
[12,1808,23,1818,24,1827,14,1840,null,null,0,1221,null,2212,{"$f":"COUNTIF($L$7:$L$500,N20)","v":8},{"$f":"O20/$Q$4","v":4.6783625730994149E-2},{"$f":"IF(P20=0,0,(P20*((LOG(P20))/LOG(2))))","v":-0.20668315859115313},null,null,{"$f":"N20","v":2212},{"$f":"COUNTIF(L7:L35,T20)","v":3},null,null,null,{"$f":"N20","v":2212},{"$f":"COUNTIF(L36:L63,Y20)","v":1},null,null,null,{"$f":"N20","v":2212},{"$f":"COUNTIF(L64:L92,AD20)","v":1},null,null,null,{"$f":"N20","v":2212},{"$f":"COUNTIF(L93:L120,AI20)","v":1},null,null,null,{"$f":"N20","v":2212},{"$f":"COUNTIF(L121:L149,AN20)","v":2},null,null,null,{"$f":"N20","v":2212},{"$f":"COUNTIF(L150:L177,AS20)","v":0}]
[12,1955,23,1964,24,1968,14,1981,null,null,0,1221,null,2221,{"$f":"COUNTIF($L$7:$L$500,N21)","v":6},{"$f":"O21/$Q$4","v":3.5087719298245612E-2},{"$f":"IF(P21=0,0,(P21*((LOG(P21))/LOG(2))))","v":-0.16957508821630671},null,null,{"$f":"N21","v":2221},{"$f":"COUNTIF(L7:L35,T21)","v":2},{"$f":"U21/(W4-U20)","v":7.6923076923076927E-2},{"$f":"IF(V21=0,0,(V21*((LOG(V21))/LOG(2))))","v":-0.28464920908777636},null,{"$f":"N21","v":2221},{"$f":"COUNTIF(L36:L63,Y21)","v":1},{"$f":"Z21/(AB4-Z20)","v":3.7037037037037035E-2},{"$f":"IF(AA21=0,0,(AA21*((LOG(AA21))/LOG(2))))","v":-0.1761069445245729},null,{"$f":"N21","v":2221},{"$f":"COUNTIF(L64:L92,AD21)","v":1},{"$f":"AE21/(AG4-AE20)","v":3.5714285714285712E-2},{"$f":"IF(AF21=0,0,(AF21*((LOG(AF21))/LOG(2))))","v":-0.17169124721634299},null,{"$f":"N21","v":2221},{"$f":"COUNTIF(L93:L120,AI21)","v":2},{"$f":"AJ21/(AL4-AJ20)","v":7.407407407407407E-2},{"$f":"IF(AK21=0,0,(AK21*((LOG(AK21))/LOG(2))))","v":-0.27813981497507173},null,{"$f":"N21","v":2221},{"$f":"COUNTIF(L121:L149,AN21)","v":0},{"$f":"AO21/(AQ4-AO20)","v":0},{"$f":"IF(AP21=0,0,(AP21*((LOG(AP21))/LOG(2))))","v":0},null,{"$f":"N21","v":2221},{"$f":"COUNTIF(L150:L177,AS21)","v":0},{"$f":"AT21/(AV4-AT20)","v":0},{"$f":"IF(AU21=0,0,(AU21*((LOG(AU21))/LOG(2))))","v":0}]
[12,2080,23,2089,24,2096,23,2103,null,null,0,1222,null,2222,{"$f":"COUNTIF($L$7:$L$500,N22)","v":7},{"$f":"O22/$Q$4","v":4.0935672514619881E-2},{"$f":"IF(P22=0,0,(P22*((LOG(P22))/LOG(2))))","v":-0.18873381958946231},null,null,{"$f":"N22","v":2222},{"$f":"COUNTIF(L7:L35,T22)","v":2},{"$f":"U22/(W4-U20)","v":7.6923076923076927E-2},{"$f":"IF(V22=0,0,(V22*((LOG(V22))/LOG(2))))","v":-0.28464920908777636},null,{"$f":"N22","v":2222},{"$f":"COUNTIF(L36:L63,Y22)","v":0},{"$f":"Z22/(AB4-Z20)","v":0},{"$f":"IF(AA22=0,0,(AA22*((LOG(AA22))/LOG(2))))","v":0},null,{"$f":"N22","v":2222},{"$f":"COUNTIF(L64:L92,AD22)","v":0},{"$f":"AE22/(AG4-AE20)","v":0},{"$f":"IF(AF22=0,0,(AF22*((LOG(AF22))/LOG(2))))","v":0},null,{"$f":"N22","v":2222},{"$f":"COUNTIF(L93:L120,AI22)","v":1},{"$f":"AJ22/(AL4-AJ20)","v":3.7037037037037035E-2},{"$f":"IF(AK22=0,0,(AK22*((LOG(AK22))/LOG(2))))","v":-0.1761069445245729},null,{"$f":"N22","v":2222},{"$f":"COUNTIF(L121:L149,AN22)","v":2},{"$f":"AO22/(AQ4-AO20)","v":7.407407407407407E-2},{"$f":"IF(AP22=0,0,(AP22*((LOG(AP22))/LOG(2))))","v":-0.27813981497507173},null,{"$f":"N22","v":2222},{"$f":"COUNTIF(L150:L177,AS22)","v":2},{"$f":"AT22/(AV4-AT20)","v":7.1428571428571425E-2},{"$f":"IF(AU22=0,0,(AU22*((LOG(AU22))/LOG(2))))","v":-0.27195392300411453}]
[21,2217,21,2223,11,2236,21,2257,null,null,0,2212,null,null,null,{"$f":"SUM(P7:P22)","v":1},{"$f":"-SUM(Q7:Q22)","v":3.1028521886891718},null,null,null,null,{"$f":"SUM(V7:V22)","v":1},{"$f":"-SUM(W7:W22)","v":2.8096220466514703},null,null,null,{"$f":"SUM(AA7:AA22)","v":0.99999999999999978},{"$f":"-SUM(AB7:AB22)","v":2.5591759275284955},null,null,null,{"$f":"SUM(AF7:AF22)","v":0.99999999999999989},{"$f":"-SUM(AG7:AG22)","v":2.7404155298816315},null,null,null,{"$f":"SUM(AK7:AK22)","v":1},{"$f":"-SUM(AL7:AL22)","v":2.8139107630313687},null,null,null,{"$f":"SUM(AP7:AP22)","v":0.99999999999999989},{"$f":"-SUM(AQ7:AQ22)","v":2.6710111130341945},null,null,null,{"$f":"SUM(AU7:AU22)","v":0.99999999999999989},{"$f":"-SUM(AV7:AV22)","v":2.6085109429398585}]
[12,2348,23,2371,13,2380,23,2399,null,null,0,1212,null,null,null,"U=",{"$f":"Q23/(LOG(Q4)/LOG(2))","v":0.41829521178298867},null,null,null,null,"U1=",{"$f":"W23/(LOG(W4)/LOG(2))","v":0.57835179871420817},null,null,null,"U2=",{"$f":"AB23/(LOG(AB4)/LOG(2))","v":0.53234595094824799},null,null,null,"U3=",{"$f":"AG23/(LOG(AG4)/LOG(2))","v":0.5641058564515169},null,null,null,"U4=",{"$f":"AL23/(LOG(AL4)/LOG(2))","v":0.58533451526956992},null,null,null,"U5=",{"$f":"AQ23/(LOG(AQ4)/LOG(2))","v":0.5498191770847084},null,null,null,"U6=",{"$f":"AV23/(LOG(AV4)/LOG(2))","v":0.54260835433040699}]
[12,2499,23,2512,24,2519,23,2528,null,null,0,1222]
[12,2624,14,2640,24,2651,23,2655,null,null,0,1122]
[21,2771,21,2778,11,2794,21,2806,null,null,0,2212,null,"Total Target Seq"]
[21,2912,21,2919,22,2936,14,2956,null,null,0,2221,null,{"$f":"COUNTIF(L7:L177,G3)","v":8},null,29,28,29,28,29,28]
[12,3053,14,3074,24,3085,23,3093,null,null,0,1122,null,null,null,"% of reinforcement given in 6 equal intervals based on number of trials "]
[12,3189,14,3197,24,3209,23,3217,null,null,0,1122,null,null,null,"%_1","%_2","%_3","%_4","%_5","%_6"]
[12,3315,14,3330,24,3342,23,3350,null,null,0,1122,null,null,"target sequence",{"$f":"$G$3","v":2212},{"$f":"$G$3","v":2212},{"$f":"$G$3","v":2212},{"$f":"$G$3","v":2212},{"$f":"$G$3","v":2212},{"$f":"$G$3","v":2212}]
[21,3449,12,3465,13,3472,23,3484,null,null,0,2112,null,null,"total reinforcement",{"$f":"U20","v":3},{"$f":"Z20","v":1},{"$f":"AE20","v":1},{"$f":"AJ20","v":1},{"$f":"AO20","v":2},{"$f":"AT20","v":0}]
[12,3582,14,3587,13,3591,23,3603,null,null,0,1112,null,null,"% target"]
[12,3703,23,3713,24,3720,14,3733,null,null,0,1221,null,null,"CCRF"]
[12,3824,23,3835,24,3844,14,3857,null,null,0,1221,null,null,"% CCRf"]
[12,3952,14,3961,24,3972,23,3976,null,null,0,1122,null,null,"average response rate",{"$f":"H35/P28","v":133},{"$f":"(H63-H35)/Q28","v":135.46428571428572},{"$f":"(H92-H63)/R28","v":135.48275862068965},{"$f":"(H120-H92)/S28","v":140.17857142857142},{"$f":"(H149-H120)/T28","v":152.44827586206895},{"$f":"(H177-H149)/U28","v":143.92857142857142}]
[12,4072,23,4091,24,4096,14,4118,null,null,0,1221]
[12,4216,14,4232,24,4244,14,4277,null,null,0,1121]
[12,4368,23,4379,24,4384,23,4413,null,null,0,1222]
[12,4508,14,4518,13,4536,23,4547,null,null,0,1112]
[12,4642,14,4650,24,4661,23,4666,null,null,0,1122]
[12,4757,23,4769,24,4774,14,4789,null,null,0,1221]
[12,4884,14,4894,24,4906,23,4913,null,null,0,1122]
[12,5018,23,5031,24,5036,14,5050,null,null,0,1221]
[12,5162,23,5173,24,5178,14,5193,null,null,0,1221]
[21,5309,21,5323,22,5332,14,5347,null,null,0,2221]
[21,5453,21,5459,11,5471,12,5480,null,null,0,2211]
[12,5579,14,5596,24,5608,23,5616,null,null,0,1122]
[12,5718,14,5734,24,5743,23,5751,null,null,0,1122]
[21,5865,12,5886,24,5898,23,5919,null,null,0,2122]
[12,6016,14,6032,24,6043,23,6048,null,null,0,1122]
[12,6149,14,6167,24,6179,23,6187,null,null,0,1122]
[12,6286,23,6297,24,6304,23,6322,null,null,0,1222]
[12,6419,23,6431,24,6436,23,6457,null,null,0,1222]
[12,6555,14,6566,13,6574,23,6587,null,null,0,1112]
[12,6685,14,6689,13,6698,14,6706,null,null,0,1111]
[12,6803,23,6822,24,6829,14,6842,null,null,0,1221]
[12,6940,23,6952,24,6959,14,6973,null,null,0,1221]
[12,7069,23,7093,24,7101,14,7115,null,null,0,1221]
[12,7212,23,7222,24,7228,14,7241,null,null,0,1221]
[12,7333,14,7356,24,7368,23,7375,null,null,0,1122]
[12,7471,23,7483,24,7490,14,7504,null,null,0,1221]
[21,7618,21,7626,11,7638,21,7650,null,null,0,2212]
[12,7740,23,7751,24,7758,23,7783,null,null,0,1222]
[21,7893,21,7900,11,7913,12,7921,null,null,0,2211]
[12,8015,14,8019,13,8037,23,8048,null,null,0,1112]
[12,8140,23,8153,24,8160,14,8174,null,null,0,1221]
[21,8282,21,8288,11,8303,21,8316,null,null,0,2212]
[12,8408,23,8420,24,8425,23,8444,null,null,0,1222]
[12,8539,14,8556,24,8566,23,8574,null,null,0,1122]
[12,8672,23,8683,24,8690,14,8704,null,null,0,1221]
[12,8810,23,8823,24,8831,14,8847,null,null,0,1221]
[12,8946,23,8956,24,8965,23,8973,null,null,0,1222]
[12,9071,23,9082,13,9102,23,9114,null,null,0,1212]
[12,9215,14,9224,24,9236,23,9244,null,null,0,1122]
[12,9337,23,9372,24,9382,23,9398,null,null,0,1222]
[12,9494,14,9501,13,9517,23,9529,null,null,0,1112]
[12,9626,23,9639,24,9647,14,9660,null,null,0,1221]
[12,9765,23,9776,24,9784,23,9792,null,null,0,1222]
[12,9887,14,9908,24,9920,23,9927,null,null,0,1122]
[12,10026,23,10040,24,10048,23,10064,null,null,0,1222]
[12,10161,23,10177,24,10185,14,10200,null,null,0,1221]
[12,10296,14,10310,24,10322,23,10330,null,null,0,1122]
[12,10422,14,10430,24,10439,23,10447,null,null,0,1122]
[12,10543,14,10550,24,10563,23,10572,null,null,0,1122]
[12,10675,23,10687,24,10695,23,10703,null,null,0,1222]
[12,10801,23,10814,13,10829,23,10840,null,null,0,1212]
[12,10938,23,10949,24,10958,23,10975,null,null,0,1222]
[21,11078,12,11091,13,11099,23,11110,null,null,0,2112]
[12,11202,23,11219,13,11230,23,11241,null,null,0,1212]
[21,11384,21,11398,22,11410,14,11428,null,null,0,2221]
[21,11541,12,11558,24,11571,23,11579,null,null,0,2122]
[21,11691,21,11697,22,11707,14,11720,null,null,0,2221]
[21,11842,21,11861,22,11875,23,11883,null,null,0,2222]
[12,11981,23,11993,13,12015,14,12023,null,null,0,1211]
[12,12122,23,12134,24,12142,14,12156,null,null,0,1221]
[12,12252,14,12263,24,12272,23,12281,null,null,0,1122]
[12,12379,23,12390,24,12397,23,12414,null,null,0,1222]
[12,12504,23,12518,24,12526,23,12544,null,null,0,1222]
[12,12639,14,12664,13,12671,23,12683,null,null,0,1112]
[12,12786,23,12797,24,12804,14,12827,null,null,0,1221]
[12,12925,14,12946,13,12955,14,12962,null,null,0,1111]
[12,13057,23,13069,13,13082,23,13116,null,null,0,1212]
[12,13206,14,13223,24,13234,23,13242,null,null,0,1122]
[12,13345,23,13361,24,13371,23,13379,null,null,0,1222]
[12,13490,23,13499,24,13506,14,13520,null,null,0,1221]
[12,13622,14,13632,24,13642,23,13651,null,null,0,1122]
[21,13774,21,13782,11,13795,21,13806,null,null,0,2212]
[12,13903,23,13916,24,13924,23,13935,null,null,0,1222]
[12,14032,23,14062,24,14070,23,14097,null,null,0,1222]
[12,14197,14,14207,24,14218,23,14226,null,null,0,1122]
[12,14324,14,14334,24,14347,23,14353,null,null,0,1122]
[12,14454,23,14493,24,14513,23,14534,null,null,0,1222]
[21,14636,21,14643,22,14650,14,14664,null,null,0,2221]
[12,14764,23,14775,24,14783,23,14792,null,null,0,1222]
[12,14887,23,14906,24,14913,23,14928,null,null,0,1222]
[12,15025,14,15041,24,15064,23,15095,null,null,0,1122]
[12,15195,14,15205,24,15218,23,15226,null,null,0,1122]
[12,15325,14,15337,13,15345,23,15357,null,null,0,1112]
[12,15453,14,15470,24,15491,14,15504,null,null,0,1121]
[12,15594,23,15610,24,15618,14,15632,null,null,0,1221]
[12,15731,14,15736,24,15747,23,15754,null,null,0,1122]
[12,15858,23,15870,24,15878,23,15914,null,null,0,1222]
[12,16010,14,16018,24,16026,23,16034,null,null,0,1122]
[12,16136,14,16146,24,16159,23,16167,null,null,0,1122]
[12,16263,14,16276,13,16285,23,16311,null,null,0,1112]
[12,16414,23,16425,24,16433,14,16454,null,null,0,1221]
[12,16550,14,16566,24,16577,23,16585,null,null,0,1122]
[12,16681,23,16692,24,16700,14,16713,null,null,0,1221]
[12,16810,14,16820,24,16842,23,16856,null,null,0,1122]
[12,16981,14,16989,13,16998,14,17006,null,null,0,1111]
[12,17111,23,17123,24,17131,23,17159,null,null,0,1222]
[12,17262,14,17283,13,17292,23,17307,null,null,0,1112]
[12,17406,14,17419,24,17430,23,17438,null,null,0,1122]
[12,17537,14,17557,13,17625,23,17752,null,null,0,1112]
[21,17882,21,17890,11,17902,21,17922,null,null,0,2212]
[12,18023,23,18077,24,18085,23,18097,null,null,0,1222]
[21,18224,21,18231,11,18249,21,18264,null,null,0,2212]
[12,18385,23,18395,24,18402,23,18413,null,null,0,1222]
[12,18508,14,18511,24,18547,23,18560,null,null,0,1122]
[21,18686,21,18693,22,18710,23,18765,null,null,0,2222]
[12,18869,23,18880,13,18900,23,18912,null,null,0,1212]
[12,19016,23,19033,24,19042,14,19053,null,null,0,1221]
[21,19184,21,19198,22,19222,23,19235,null,null,0,2222]
[21,19357,21,19365,11,19379,12,19386,null,null,0,2211]
[12,19483,23,19494,24,19502,23,19510,null,null,0,1222]
[12,19615,23,19627,24,19634,23,19647,null,null,0,1222]
[12,19741,14,19757,24,19770,23,19788,null,null,0,1122]
[21,19899,21,19906,11,19918,12,19925,null,null,0,2211]
[12,20021,23,20031,24,20039,14,20052,null,null,0,1221]
[12,20150,23,20161,24,20169,23,20180,null,null,0,1222]
[12,20282,23,20293,24,20301,14,20314,null,null,0,1221]
[12,20413,14,20421,24,20436,23,20444,null,null,0,1122]
[12,20548,23,20560,13,20576,14,20581,null,null,0,1211]
[12,20678,14,20687,24,20698,23,20705,null,null,0,1122]
[12,20799,14,20813,24,20823,23,20833,null,null,0,1122]
[12,20950,23,20963,24,20987,23,20998,null,null,0,1222]
[21,21112,21,21131,22,21140,23,21149,null,null,0,2222]
[12,21253,23,21264,24,21273,14,21286,null,null,0,1221]
[12,21387,23,21399,24,21406,14,21420,null,null,0,1221]
[12,21520,14,21540,13,21547,14,21553,null,null,0,1111]
[12,21661,23,21673,24,21683,14,21696,null,null,0,1221]
[12,21795,23,21806,24,21815,14,21841,null,null,0,1221]
[12,21932,23,21945,13,21966,14,21973,null,null,0,1211]
[12,22069,14,22083,24,22103,23,22111,null,null,0,1122]
[12,22228,23,22240,24,22249,23,22261,null,null,0,1222]
[12,22354,23,22365,13,22383,14,22388,null,null,0,1211]
[12,22487,23,22500,24,22518,14,22533,null,null,0,1221]
[12,22631,14,22651,24,22662,23,22681,null,null,0,1122]
[12,22779,14,22800,24,22819,23,22832,null,null,0,1122]
[12,22926,23,22937,24,22945,23,22954,null,null,0,1222]
[21,23174,21,23188,11,23202,12,23210,null,null,0,2211]
[21,23320,21,23332,22,23346,23,23369,null,null,0,2222]
[12,23505,23,23521,24,23531,23,23547,null,null,0,1222]
[12,23647,23,23658,24,23666,23,23676,null,null,0,1222]
[12,23777,14,23784,24,23807,14,23824,null,null,0,1121]
[12,23928,23,23939,24,23947,23,23955,null,null,null,1222]

{"sheet":"!M818B10.000","index":5,"n_rows":191,"n_cols":48,"rows_kept":191,"cut":false,"hidden":false,"merged":[[4,39,4,42],[5,39,5,40],[4,44,4,47],[5,44,5,45],[4,24,4,27],[5,24,5,25],[4,29,4,32],[5,29,5,30],[4,34,4,37],[5,34,5,35],[1,1,1,2],[5,13,5,14],[26,13,26,14],[27,13,27,14],[4,19,4,22],[5,19,5,20]]}
["Report for:!M818B10.000"]
["Date:","<date>"]
["Hen:","<hen>",null,null,null,"Correct Sequence",{"$f":"Start!J2","v":2212},null,null,null,null,null,null,null,null,"Total Sequences in Data",{"$f":"4994-COUNTBLANK(L7:L5000)","v":185},null,null,null,null,"Total Sequences in Block Data",{"$f":"COUNTA(L7:L37)","v":31},null,null,null,"Total Sequences in Block Data",{"$f":"COUNTA(L38:L68)","v":31},null,null,null,"Total Sequences in Block Data",{"$f":"COUNTA(L69:L98)","v":30},null,null,null,"Total Sequences in Block Data",{"$f":"COUNTA(L99:L129)","v":31},null,null,null,"Total Sequences in Block Data",{"$f":"COUNTA(L130:L160)","v":31},null,null,null,"Total Sequences in Block Data",{"$f":"COUNTA(L161:L191)","v":31}]
[null,null,null,null,null,null,null,null,null,null,null,null,null,null,null,"Total Sequences in Summary",{"$f":"SUM(O7:O22)","v":184},null,null,null,null,"Total Sequences in Block Summary",{"$f":"SUM(U7:U22)","v":31},null,null,null,"Total Sequences in Block Summary",{"$f":"SUM(Z7:Z22)","v":31},null,null,null,"Total Sequences in Block Summary",{"$f":"SUM(AE7:AE22)","v":30},null,null,null,"Total Sequences in Block Summary",{"$f":"SUM(AJ7:AJ22)","v":31},null,null,null,"Total Sequences in Block Summary",{"$f":"SUM(AO7:AO22)","v":31},null,null,null,"Total Sequences in Block Summary",{"$f":"SUM(AT7:AT22)","v":30}]
[null,null,null,null,null,null,null,null,null,null,null,null,null,null,null,null,null,null,null,"Block 1",null,null,null,null,"Block 2",null,null,null,null,"Block 3",null,null,null,null,"Block 4",null,null,null,null,"Block 5",null,null,null,null,"Block 6"]
["Sequence\nComponent\n1","Time\n1","Sequence\nComponent\n2","Time\n2","Sequence\nComponent\n3","Time\n3","Sequence\nComponent\n4","Time\n4","Sequence\nComponent\n5","Time\n5","Correct?\n0=No 1=Yes","Sequence",null,"Frequency",null,"Relative Frequency","Variability",null,null,"Frequency",null,"Relative Frequency","Variability",null,"Frequency",null,"Relative Frequency","Variability",null,"Frequency",null,"Relative Frequency","Variability",null,"Frequency",null,"Relative Frequency","Variability",null,"Frequency",null,"Relative Frequency","Variability",null,"Frequency",null,"Relative Frequency","Variability"]
[12,12,23,20,13,34,23,43,null,null,0,1212,null,1111,{"$f":"COUNTIF($L$7:$L$500,N7)","v":88},{"$f":"O7/$Q$4","v":0.47826086956521741},{"$f":"IF(P7=0,0,(P7*((LOG(P7))/LOG(2))))","v":-0.5089319005050813},null,null,{"$f":"N7","v":1111},{"$f":"COUNTIF(L7:L37,T7)","v":8},{"$f":"U7/(W4-U20)","v":0.26666666666666666},{"$f":"IF(V7=0,0,(V7*((LOG(V7))/LOG(2))))","v":-0.50850415882893829},null,{"$f":"N7","v":1111},{"$f":"COUNTIF(L38:L68,Y7)","v":15},{"$f":"Z7/(AB4-Z20)","v":0.4838709677419355},{"$f":"IF(AA7=0,0,(AA7*((LOG(AA7))/LOG(2))))","v":-0.50676082973146286},null,{"$f":"N7","v":1111},{"$f":"COUNTIF(L69:L98,AD7)","v":11},{"$f":"AE7/(AG4-AE20)","v":0.36666666666666664},{"$f":"IF(AF7=0,0,(AF7*((LOG(AF7))/LOG(2))))","v":-0.53073495822278116},null,{"$f":"N7","v":1111},{"$f":"COUNTIF(L99:L129,AI7)","v":18},{"$f":"AJ7/(AL4-AJ20)","v":0.58064516129032262},{"$f":"IF(AK7=0,0,(AK7*((LOG(AK7))/LOG(2))))","v":-0.45538334067748809},null,{"$f":"N7","v":1111},{"$f":"COUNTIF(L130:L160,AN7)","v":20},{"$f":"AO7/(AQ4-AO20)","v":0.64516129032258063},{"$f":"IF(AP7=0,0,(AP7*((LOG(AP7))/LOG(2))))","v":-0.40791497774162117},null,{"$f":"N7","v":1111},{"$f":"COUNTIF(L161:L191,AS7)","v":16},{"$f":"AT7/(AV4-AT20)","v":0.53333333333333333},{"$f":"IF(AU7=0,0,(AU7*((LOG(AU7))/LOG(2))))","v":-0.4836749843245432}]
[12,145,23,154,24,161,14,175,null,null,0,1221,null,1112,{"$f":"COUNTIF($L$7:$L$500,N8)","v":22},{"$f":"O8/$Q$4","v":0.11956521739130435},{"$f":"IF(P8=0,0,(P8*((LOG(P8))/LOG(2))))","v":-0.366363409908879},null,null,{"$f":"N8","v":1112},{"$f":"COUNTIF(L7:L37,T8)","v":5},{"$f":"U8/(W4-U20)","v":0.16666666666666666},{"$f":"IF(V8=0,0,(V8*((LOG(V8))/LOG(2))))","v":-0.43082708345352599},null,{"$f":"N8","v":1112},{"$f":"COUNTIF(L38:L68,Y8)","v":4},{"$f":"Z8/(AB4-Z20)","v":0.12903225806451613},{"$f":"IF(AA8=0,0,(AA8*((LOG(AA8))/LOG(2))))","v":-0.38118662069508069},null,{"$f":"N8","v":1112},{"$f":"COUNTIF(L69:L98,AD8)","v":5},{"$f":"AE8/(AG4-AE20)","v":0.16666666666666666},{"$f":"IF(AF8=0,0,(AF8*((LOG(AF8))/LOG(2))))","v":-0.43082708345352599},null,{"$f":"N8","v":1112},{"$f":"COUNTIF(L99:L129,AI8)","v":3},{"$f":"AJ8/(AL4-AJ20)","v":9.6774193548387094E-2},{"$f":"IF(AK8=0,0,(AK8*((LOG(AK8))/LOG(2))))","v":-0.32605488480635986},null,{"$f":"N8","v":1112},{"$f":"COUNTIF(L130:L160,AN8)","v":2},{"$f":"AO8/(AQ4-AO20)","v":6.4516129032258063E-2},{"$f":"IF(AP8=0,0,(AP8*((LOG(AP8))/LOG(2))))","v":-0.25510943937979835},null,{"$f":"N8","v":1112},{"$f":"COUNTIF(L161:L191,AS8)","v":3},{"$f":"AT8/(AV4-AT20)","v":0.1},{"$f":"IF(AU8=0,0,(AU8*((LOG(AU8))/LOG(2))))","v":-0.33219280948873625}]
[12,273,14,289,13,306,23,315,null,null,0,1112,null,1121,{"$f":"COUNTIF($L$7:$L$500,N9)","v":2},{"$f":"O9/$Q$4","v":1.0869565217391304E-2},{"$f":"IF(P9=0,0,(P9*((LOG(P9))/LOG(2))))","v":-7.090828213105449E-2},null,null,{"$f":"N9","v":1121},{"$f":"COUNTIF(L7:L37,T9)","v":0},{"$f":"U9/(W4-U20)","v":0},{"$f":"IF(V9=0,0,(V9*((LOG(V9))/LOG(2))))","v":0},null,{"$f":"N9","v":1121},{"$f":"COUNTIF(L38:L68,Y9)","v":1},{"$f":"Z9/(AB4-Z20)","v":3.2258064516129031E-2},{"$f":"IF(AA9=0,0,(AA9*((LOG(AA9))/LOG(2))))","v":-0.15981278420602821},null,{"$f":"N9","v":1121},{"$f":"COUNTIF(L69:L98,AD9)","v":0},{"$f":"AE9/(AG4-AE20)","v":0},{"$f":"IF(AF9=0,0,(AF9*((LOG(AF9))/LOG(2))))","v":0},null,{"$f":"N9","v":1121},{"$f":"COUNTIF(L99:L129,AI9)","v":1},{"$f":"AJ9/(AL4-AJ20)","v":3.2258064516129031E-2},{"$f":"IF(AK9=0,0,(AK9*((LOG(AK9))/LOG(2))))","v":-0.15981278420602821},null,{"$f":"N9","v":1121},{"$f":"COUNTIF(L130:L160,AN9)","v":0},{"$f":"AO9/(AQ4-AO20)","v":0},{"$f":"IF(AP9=0,0,(AP9*((LOG(AP9))/LOG(2))))","v":0},null,{"$f":"N9","v":1121},{"$f":"COUNTIF(L161:L191,AS9)","v":0},{"$f":"AT9/(AV4-AT20)","v":0},{"$f":"IF(AU9=0,0,(AU9*((LOG(AU9))/LOG(2))))","v":0}]
[12,425,14,433,13,453,14,466,null,null,0,1111,null,1122,{"$f":"COUNTIF($L$7:$L$500,N10)","v":34},{"$f":"O10/$Q$4","v":0.18478260869565216},{"$f":"IF(P10=0,0,(P10*((LOG(P10))/LOG(2))))","v":-0.45014874947514616},null,null,{"$f":"N10","v":1122},{"$f":"COUNTIF(L7:L37,T10)","v":7},{"$f":"U10/(W4-U20)","v":0.23333333333333334},{"$f":"IF(V10=0,0,(V10*((LOG(V10))/LOG(2))))","v":-0.48989165716187993},null,{"$f":"N10","v":1122},{"$f":"COUNTIF(L38:L68,Y10)","v":6},{"$f":"Z10/(AB4-Z20)","v":0.19354838709677419},{"$f":"IF(AA10=0,0,(AA10*((LOG(AA10))/LOG(2))))","v":-0.45856138251594558},null,{"$f":"N10","v":1122},{"$f":"COUNTIF(L69:L98,AD10)","v":5},{"$f":"AE10/(AG4-AE20)","v":0.16666666666666666},{"$f":"IF(AF10=0,0,(AF10*((LOG(AF10))/LOG(2))))","v":-0.43082708345352599},null,{"$f":"N10","v":1122},{"$f":"COUNTIF(L99:L129,AI10)","v":4},{"$f":"AJ10/(AL4-AJ20)","v":0.12903225806451613},{"$f":"IF(AK10=0,0,(AK10*((LOG(AK10))/LOG(2))))","v":-0.38118662069508069},null,{"$f":"N10","v":1122},{"$f":"COUNTIF(L130:L160,AN10)","v":4},{"$f":"AO10/(AQ4-AO20)","v":0.12903225806451613},{"$f":"IF(AP10=0,0,(AP10*((LOG(AP10))/LOG(2))))","v":-0.38118662069508069},null,{"$f":"N10","v":1122},{"$f":"COUNTIF(L161:L191,AS10)","v":8},{"$f":"AT10/(AV4-AT20)","v":0.26666666666666666},{"$f":"IF(AU10=0,0,(AU10*((LOG(AU10))/LOG(2))))","v":-0.50850415882893829}]
[12,567,23,590,24,599,23,612,null,null,0,1222,null,1211,{"$f":"COUNTIF($L$7:$L$500,N11)","v":1},{"$f":"O11/$Q$4","v":5.434782608695652E-3},{"$f":"IF(P11=0,0,(P11*((LOG(P11))/LOG(2))))","v":-4.0888923674222893E-2},null,null,{"$f":"N11","v":1211},{"$f":"COUNTIF(L7:L37,T11)","v":0},{"$f":"U11/(W4-U20)","v":0},{"$f":"IF(V11=0,0,(V11*((LOG(V11))/LOG(2))))","v":0},null,{"$f":"N11","v":1211},{"$f":"COUNTIF(L38:L68,Y11)","v":0},{"$f":"Z11/(AB4-Z20)","v":0},{"$f":"IF(AA11=0,0,(AA11*((LOG(AA11))/LOG(2))))","v":0},null,{"$f":"N11","v":1211},{"$f":"COUNTIF(L69:L98,AD11)","v":0},{"$f":"AE11/(AG4-AE20)","v":0},{"$f":"IF(AF11=0,0,(AF11*((LOG(AF11))/LOG(2))))","v":0},null,{"$f":"N11","v":1211},{"$f":"COUNTIF(L99:L129,AI11)","v":1},{"$f":"AJ11/(AL4-AJ20)","v":3.2258064516129031E-2},{"$f":"IF(AK11=0,0,(AK11*((LOG(AK11))/LOG(2))))","v":-0.15981278420602821},null,{"$f":"N11","v":1211},{"$f":"COUNTIF(L130:L160,AN11)","v":0},{"$f":"AO11/(AQ4-AO20)","v":0},{"$f":"IF(AP11=0,0,(AP11*((LOG(AP11))/LOG(2))))","v":0},null,{"$f":"N11","v":1211},{"$f":"COUNTIF(L161:L191,AS11)","v":0},{"$f":"AT11/(AV4-AT20)","v":0},{"$f":"IF(AU11=0,0,(AU11*((LOG(AU11))/LOG(2))))","v":0}]
[12,713,23,726,24,733,14,744,null,null,0,1221,null,1212,{"$f":"COUNTIF($L$7:$L$500,N12)","v":3},{"$f":"O12/$Q$4","v":1.6304347826086956E-2},{"$f":"IF(P12=0,0,(P12*((LOG(P12))/LOG(2))))","v":-9.6824991119606366E-2},null,null,{"$f":"N12","v":1212},{"$f":"COUNTIF(L7:L37,T12)","v":1},{"$f":"U12/(W4-U20)","v":3.3333333333333333E-2},{"$f":"IF(V12=0,0,(V12*((LOG(V12))/LOG(2))))","v":-0.16356301985361729},null,{"$f":"N12","v":1212},{"$f":"COUNTIF(L38:L68,Y12)","v":1},{"$f":"Z12/(AB4-Z20)","v":3.2258064516129031E-2},{"$f":"IF(AA12=0,0,(AA12*((LOG(AA12))/LOG(2))))","v":-0.15981278420602821},null,{"$f":"N12","v":1212},{"$f":"COUNTIF(L69:L98,AD12)","v":1},{"$f":"AE12/(AG4-AE20)","v":3.3333333333333333E-2},{"$f":"IF(AF12=0,0,(AF12*((LOG(AF12))/LOG(2))))","v":-0.16356301985361729},null,{"$f":"N12","v":1212},{"$f":"COUNTIF(L99:L129,AI12)","v":0},{"$f":"AJ12/(AL4-AJ20)","v":0},{"$f":"IF(AK12=0,0,(AK12*((LOG(AK12))/LOG(2))))","v":0},null,{"$f":"N12","v":1212},{"$f":"COUNTIF(L130:L160,AN12)","v":0},{"$f":"AO12/(AQ4-AO20)","v":0},{"$f":"IF(AP12=0,0,(AP12*((LOG(AP12))/LOG(2))))","v":0},null,{"$f":"N12","v":1212},{"$f":"COUNTIF(L161:L191,AS12)","v":0},{"$f":"AT12/(AV4-AT20)","v":0},{"$f":"IF(AU12=0,0,(AU12*((LOG(AU12))/LOG(2))))","v":0}]
[12,847,14,870,24,882,23,889,null,null,0,1122,null,1221,{"$f":"COUNTIF($L$7:$L$500,N13)","v":14},{"$f":"O13/$Q$4","v":7.6086956521739135E-2},{"$f":"IF(P13=0,0,(P13*((LOG(P13))/LOG(2))))","v":-0.28275488302169416},null,null,{"$f":"N13","v":1221},{"$f":"COUNTIF(L7:L37,T13)","v":4},{"$f":"U13/(W4-U20)","v":0.13333333333333333},{"$f":"IF(V13=0,0,(V13*((LOG(V13))/LOG(2))))","v":-0.3875854127478025},null,{"$f":"N13","v":1221},{"$f":"COUNTIF(L38:L68,Y13)","v":3},{"$f":"Z13/(AB4-Z20)","v":9.6774193548387094E-2},{"$f":"IF(AA13=0,0,(AA13*((LOG(AA13))/LOG(2))))","v":-0.32605488480635986},null,{"$f":"N13","v":1221},{"$f":"COUNTIF(L69:L98,AD13)","v":4},{"$f":"AE13/(AG4-AE20)","v":0.13333333333333333},{"$f":"IF(AF13=0,0,(AF13*((LOG(AF13))/LOG(2))))","v":-0.3875854127478025},null,{"$f":"N13","v":1221},{"$f":"COUNTIF(L99:L129,AI13)","v":1},{"$f":"AJ13/(AL4-AJ20)","v":3.2258064516129031E-2},{"$f":"IF(AK13=0,0,(AK13*((LOG(AK13))/LOG(2))))","v":-0.15981278420602821},null,{"$f":"N13","v":1221},{"$f":"COUNTIF(L130:L160,AN13)","v":1},{"$f":"AO13/(AQ4-AO20)","v":3.2258064516129031E-2},{"$f":"IF(AP13=0,0,(AP13*((LOG(AP13))/LOG(2))))","v":-0.15981278420602821},null,{"$f":"N13","v":1221},{"$f":"COUNTIF(L161:L191,AS13)","v":1},{"$f":"AT13/(AV4-AT20)","v":3.3333333333333333E-2},{"$f":"IF(AU13=0,0,(AU13*((LOG(AU13))/LOG(2))))","v":-0.16356301985361729}]
[12,1002,23,1014,24,1022,23,1036,null,null,0,1222,null,1222,{"$f":"COUNTIF($L$7:$L$500,N14)","v":17},{"$f":"O14/$Q$4","v":9.2391304347826081E-2},{"$f":"IF(P14=0,0,(P14*((LOG(P14))/LOG(2))))","v":-0.31746567908539913},null,null,{"$f":"N14","v":1222},{"$f":"COUNTIF(L7:L37,T14)","v":5},{"$f":"U14/(W4-U20)","v":0.16666666666666666},{"$f":"IF(V14=0,0,(V14*((LOG(V14))/LOG(2))))","v":-0.43082708345352599},null,{"$f":"N14","v":1222},{"$f":"COUNTIF(L38:L68,Y14)","v":0},{"$f":"Z14/(AB4-Z20)","v":0},{"$f":"IF(AA14=0,0,(AA14*((LOG(AA14))/LOG(2))))","v":0},null,{"$f":"N14","v":1222},{"$f":"COUNTIF(L69:L98,AD14)","v":4},{"$f":"AE14/(AG4-AE20)","v":0.13333333333333333},{"$f":"IF(AF14=0,0,(AF14*((LOG(AF14))/LOG(2))))","v":-0.3875854127478025},null,{"$f":"N14","v":1222},{"$f":"COUNTIF(L99:L129,AI14)","v":3},{"$f":"AJ14/(AL4-AJ20)","v":9.6774193548387094E-2},{"$f":"IF(AK14=0,0,(AK14*((LOG(AK14))/LOG(2))))","v":-0.32605488480635986},null,{"$f":"N14","v":1222},{"$f":"COUNTIF(L130:L160,AN14)","v":4},{"$f":"AO14/(AQ4-AO20)","v":0.12903225806451613},{"$f":"IF(AP14=0,0,(AP14*((LOG(AP14))/LOG(2))))","v":-0.38118662069508069},null,{"$f":"N14","v":1222},{"$f":"COUNTIF(L161:L191,AS14)","v":1},{"$f":"AT14/(AV4-AT20)","v":3.3333333333333333E-2},{"$f":"IF(AU14=0,0,(AU14*((LOG(AU14))/LOG(2))))","v":-0.16356301985361729}]
[12,1158,23,1169,24,1176,23,1188,null,null,0,1222,null,2111,{"$f":"COUNTIF($L$7:$L$500,N15)","v":0},{"$f":"O15/$Q$4","v":0},{"$f":"IF(P15=0,0,(P15*((LOG(P15))/LOG(2))))","v":0},null,null,{"$f":"N15","v":2111},{"$f":"COUNTIF(L7:L37,T15)","v":0},{"$f":"U15/(W4-U20)","v":0},{"$f":"IF(V15=0,0,(V15*((LOG(V15))/LOG(2))))","v":0},null,{"$f":"N15","v":2111},{"$f":"COUNTIF(L38:L68,Y15)","v":0},{"$f":"Z15/(AB4-Z20)","v":0},{"$f":"IF(AA15=0,0,(AA15*((LOG(AA15))/LOG(2))))","v":0},null,{"$f":"N15","v":2111},{"$f":"COUNTIF(L69:L98,AD15)","v":0},{"$f":"AE15/(AG4-AE20)","v":0},{"$f":"IF(AF15=0,0,(AF15*((LOG(AF15))/LOG(2))))","v":0},null,{"$f":"N15","v":2111},{"$f":"COUNTIF(L99:L129,AI15)","v":0},{"$f":"AJ15/(AL4-AJ20)","v":0},{"$f":"IF(AK15=0,0,(AK15*((LOG(AK15))/LOG(2))))","v":0},null,{"$f":"N15","v":2111},{"$f":"COUNTIF(L130:L160,AN15)","v":0},{"$f":"AO15/(AQ4-AO20)","v":0},{"$f":"IF(AP15=0,0,(AP15*((LOG(AP15))/LOG(2))))","v":0},null,{"$f":"N15","v":2111},{"$f":"COUNTIF(L161:L191,AS15)","v":0},{"$f":"AT15/(AV4-AT20)","v":0},{"$f":"IF(AU15=0,0,(AU15*((LOG(AU15))/LOG(2))))","v":0}]
[12,1296,23,1306,24,1314,23,1334,null,null,0,1222,null,2112,{"$f":"COUNTIF($L$7:$L$500,N16)","v":0},{"$f":"O16/$Q$4","v":0},{"$f":"IF(P16=0,0,(P16*((LOG(P16))/LOG(2))))","v":0},null,null,{"$f":"N16","v":2112},{"$f":"COUNTIF(L7:L37,T16)","v":0},{"$f":"U16/(W4-U20)","v":0},{"$f":"IF(V16=0,0,(V16*((LOG(V16))/LOG(2))))","v":0},null,{"$f":"N16","v":2112},{"$f":"COUNTIF(L38:L68,Y16)","v":0},{"$f":"Z16/(AB4-Z20)","v":0},{"$f":"IF(AA16=0,0,(AA16*((LOG(AA16))/LOG(2))))","v":0},null,{"$f":"N16","v":2112},{"$f":"COUNTIF(L69:L98,AD16)","v":0},{"$f":"AE16/(AG4-AE20)","v":0},{"$f":"IF(AF16=0,0,(AF16*((LOG(AF16))/LOG(2))))","v":0},null,{"$f":"N16","v":2112},{"$f":"COUNTIF(L99:L129,AI16)","v":0},{"$f":"AJ16/(AL4-AJ20)","v":0},{"$f":"IF(AK16=0,0,(AK16*((LOG(AK16))/LOG(2))))","v":0},null,{"$f":"N16","v":2112},{"$f":"COUNTIF(L130:L160,AN16)","v":0},{"$f":"AO16/(AQ4-AO20)","v":0},{"$f":"IF(AP16=0,0,(AP16*((LOG(AP16))/LOG(2))))","v":0},null,{"$f":"N16","v":2112},{"$f":"COUNTIF(L161:L191,AS16)","v":0},{"$f":"AT16/(AV4-AT20)","v":0},{"$f":"IF(AU16=0,0,(AU16*((LOG(AU16))/LOG(2))))","v":0}]
[12,1441,23,1452,24,1457,14,1471,null,null,0,1221,null,2121,{"$f":"COUNTIF($L$7:$L$500,N17)","v":0},{"$f":"O17/$Q$4","v":0},{"$f":"IF(P17=0,0,(P17*((LOG(P17))/LOG(2))))","v":0},null,null,{"$f":"N17","v":2121},{"$f":"COUNTIF(L7:L37,T17)","v":0},{"$f":"U17/(W4-U20)","v":0},{"$f":"IF(V17=0,0,(V17*((LOG(V17))/LOG(2))))","v":0},null,{"$f":"N17","v":2121},{"$f":"COUNTIF(L38:L68,Y17)","v":0},{"$f":"Z17/(AB4-Z20)","v":0},{"$f":"IF(AA17=0,0,(AA17*((LOG(AA17))/LOG(2))))","v":0},null,{"$f":"N17","v":2121},{"$f":"COUNTIF(L69:L98,AD17)","v":0},{"$f":"AE17/(AG4-AE20)","v":0},{"$f":"IF(AF17=0,0,(AF17*((LOG(AF17))/LOG(2))))","v":0},null,{"$f":"N17","v":2121},{"$f":"COUNTIF(L99:L129,AI17)","v":0},{"$f":"AJ17/(AL4-AJ20)","v":0},{"$f":"IF(AK17=0,0,(AK17*((LOG(AK17))/LOG(2))))","v":0},null,{"$f":"N17","v":2121},{"$f":"COUNTIF(L130:L160,AN17)","v":0},{"$f":"AO17/(AQ4-AO20)","v":0},{"$f":"IF(AP17=0,0,(AP17*((LOG(AP17))/LOG(2))))","v":0},null,{"$f":"N17","v":2121},{"$f":"COUNTIF(L161:L191,AS17)","v":0},{"$f":"AT17/(AV4-AT20)","v":0},{"$f":"IF(AU17=0,0,(AU17*((LOG(AU17))/LOG(2))))","v":0}]
[12,1569,14,1585,24,1596,23,1618,null,null,0,1122,null,2122,{"$f":"COUNTIF($L$7:$L$500,N18)","v":0},{"$f":"O18/$Q$4","v":0},{"$f":"IF(P18=0,0,(P18*((LOG(P18))/LOG(2))))","v":0},null,null,{"$f":"N18","v":2122},{"$f":"COUNTIF(L7:L37,T18)","v":0},{"$f":"U18/(W4-U20)","v":0},{"$f":"IF(V18=0,0,(V18*((LOG(V18))/LOG(2))))","v":0},null,{"$f":"N18","v":2122},{"$f":"COUNTIF(L38:L68,Y18)","v":0},{"$f":"Z18/(AB4-Z20)","v":0},{"$f":"IF(AA18=0,0,(AA18*((LOG(AA18))/LOG(2))))","v":0},null,{"$f":"N18","v":2122},{"$f":"COUNTIF(L69:L98,AD18)","v":0},{"$f":"AE18/(AG4-AE20)","v":0},{"$f":"IF(AF18=0,0,(AF18*((LOG(AF18))/LOG(2))))","v":0},null,{"$f":"N18","v":2122},{"$f":"COUNTIF(L99:L129,AI18)","v":0},{"$f":"AJ18/(AL4-AJ20)","v":0},{"$f":"IF(AK18=0,0,(AK18*((LOG(AK18))/LOG(2))))","v":0},null,{"$f":"N18","v":2122},{"$f":"COUNTIF(L130:L160,AN18)","v":0},{"$f":"AO18/(AQ4-AO20)","v":0},{"$f":"IF(AP18=0,0,(AP18*((LOG(AP18))/LOG(2))))","v":0},null,{"$f":"N18","v":2122},{"$f":"COUNTIF(L161:L191,AS18)","v":0},{"$f":"AT18/(AV4-AT20)","v":0},{"$f":"IF(AU18=0,0,(AU18*((LOG(AU18))/LOG(2))))","v":0}]
[12,1720,14,1730,13,1738,14,1746,null,null,0,1111,null,2211,{"$f":"COUNTIF($L$7:$L$500,N19)","v":0},{"$f":"O19/$Q$4","v":0},{"$f":"IF(P19=0,0,(P19*((LOG(P19))/LOG(2))))","v":0},null,null,{"$f":"N19","v":2211},{"$f":"COUNTIF(L7:L37,T19)","v":0},{"$f":"U19/(W4-U20)","v":0},{"$f":"IF(V19=0,0,(V19*((LOG(V19))/LOG(2))))","v":0},null,{"$f":"N19","v":2211},{"$f":"COUNTIF(L38:L68,Y19)","v":0},{"$f":"Z19/(AB4-Z20)","v":0},{"$f":"IF(AA19=0,0,(AA19*((LOG(AA19))/LOG(2))))","v":0},null,{"$f":"N19","v":2211},{"$f":"COUNTIF(L69:L98,AD19)","v":0},{"$f":"AE19/(AG4-AE20)","v":0},{"$f":"IF(AF19=0,0,(AF19*((LOG(AF19))/LOG(2))))","v":0},null,{"$f":"N19","v":2211},{"$f":"COUNTIF(L99:L129,AI19)","v":0},{"$f":"AJ19/(AL4-AJ20)","v":0},{"$f":"IF(AK19=0,0,(AK19*((LOG(AK19))/LOG(2))))","v":0},null,{"$f":"N19","v":2211},{"$f":"COUNTIF(L130:L160,AN19)","v":0},{"$f":"AO19/(AQ4-AO20)","v":0},{"$f":"IF(AP19=0,0,(AP19*((LOG(AP19))/LOG(2))))","v":0},null,{"$f":"N19","v":2211},{"$f":"COUNTIF(L161:L191,AS19)","v":0},{"$f":"AT19/(AV4-AT20)","v":0},{"$f":"IF(AU19=0,0,(AU19*((LOG(AU19))/LOG(2))))","v":0}]
[12,1845,14,1864,24,1873,23,1881,null,null,0,1122,null,2212,{"$f":"COUNTIF($L$7:$L$500,N20)","v":1},{"$f":"O20/$Q$4","v":5.434782608695652E-3},{"$f":"IF(P20=0,0,(P20*((LOG(P20))/LOG(2))))","v":-4.0888923674222893E-2},null,null,{"$f":"N20","v":2212},{"$f":"COUNTIF(L7:L37,T20)","v":1},null,null,null,{"$f":"N20","v":2212},{"$f":"COUNTIF(L38:L68,Y20)","v":0},null,null,null,{"$f":"N20","v":2212},{"$f":"COUNTIF(L69:L98,AD20)","v":0},null,null,null,{"$f":"N20","v":2212},{"$f":"COUNTIF(L99:L129,AI20)","v":0},null,null,null,{"$f":"N20","v":2212},{"$f":"COUNTIF(L130:L160,AN20)","v":0},null,null,null,{"$f":"N20","v":2212},{"$f":"COUNTIF(L161:L191,AS20)","v":0}]
[12,1984,14,1992,13,2002,14,2010,null,null,0,1111,null,2221,{"$f":"COUNTIF($L$7:$L$500,N21)","v":0},{"$f":"O21/$Q$4","v":0},{"$f":"IF(P21=0,0,(P21*((LOG(P21))/LOG(2))))","v":0},null,null,{"$f":"N21","v":2221},{"$f":"COUNTIF(L7:L37,T21)","v":0},{"$f":"U21/(W4-U20)","v":0},{"$f":"IF(V21=0,0,(V21*((LOG(V21))/LOG(2))))","v":0},null,{"$f":"N21","v":2221},{"$f":"COUNTIF(L38:L68,Y21)","v":0},{"$f":"Z21/(AB4-Z20)","v":0},{"$f":"IF(AA21=0,0,(AA21*((LOG(AA21))/LOG(2))))","v":0},null,{"$f":"N21","v":2221},{"$f":"COUNTIF(L69:L98,AD21)","v":0},{"$f":"AE21/(AG4-AE20)","v":0},{"$f":"IF(AF21=0,0,(AF21*((LOG(AF21))/LOG(2))))","v":0},null,{"$f":"N21","v":2221},{"$f":"COUNTIF(L99:L129,AI21)","v":0},{"$f":"AJ21/(AL4-AJ20)","v":0},{"$f":"IF(AK21=0,0,(AK21*((LOG(AK21))/LOG(2))))","v":0},null,{"$f":"N21","v":2221},{"$f":"COUNTIF(L130:L160,AN21)","v":0},{"$f":"AO21/(AQ4-AO20)","v":0},{"$f":"IF(AP21=0,0,(AP21*((LOG(AP21))/LOG(2))))","v":0},null,{"$f":"N21","v":2221},{"$f":"COUNTIF(L161:L191,AS21)","v":0},{"$f":"AT21/(AV4-AT20)","v":0},{"$f":"IF(AU21=0,0,(AU21*((LOG(AU21))/LOG(2))))","v":0}]
[12,2102,14,2118,24,2129,23,2135,null,null,0,1122,null,2222,{"$f":"COUNTIF($L$7:$L$500,N22)","v":2},{"$f":"O22/$Q$4","v":1.0869565217391304E-2},{"$f":"IF(P22=0,0,(P22*((LOG(P22))/LOG(2))))","v":-7.090828213105449E-2},null,null,{"$f":"N22","v":2222},{"$f":"COUNTIF(L7:L37,T22)","v":0},{"$f":"U22/(W4-U20)","v":0},{"$f":"IF(V22=0,0,(V22*((LOG(V22))/LOG(2))))","v":0},null,{"$f":"N22","v":2222},{"$f":"COUNTIF(L38:L68,Y22)","v":1},{"$f":"Z22/(AB4-Z20)","v":3.2258064516129031E-2},{"$f":"IF(AA22=0,0,(AA22*((LOG(AA22))/LOG(2))))","v":-0.15981278420602821},null,{"$f":"N22","v":2222},{"$f":"COUNTIF(L69:L98,AD22)","v":0},{"$f":"AE22/(AG4-AE20)","v":0},{"$f":"IF(AF22=0,0,(AF22*((LOG(AF22))/LOG(2))))","v":0},null,{"$f":"N22","v":2222},{"$f":"COUNTIF(L99:L129,AI22)","v":0},{"$f":"AJ22/(AL4-AJ20)","v":0},{"$f":"IF(AK22=0,0,(AK22*((LOG(AK22))/LOG(2))))","v":0},null,{"$f":"N22","v":2222},{"$f":"COUNTIF(L130:L160,AN22)","v":0},{"$f":"AO22/(AQ4-AO20)","v":0},{"$f":"IF(AP22=0,0,(AP22*((LOG(AP22))/LOG(2))))","v":0},null,{"$f":"N22","v":2222},{"$f":"COUNTIF(L161:L191,AS22)","v":1},{"$f":"AT22/(AV4-AT20)","v":3.3333333333333333E-2},{"$f":"IF(AU22=0,0,(AU22*((LOG(AU22))/LOG(2))))","v":-0.16356301985361729}]
[12,2238,14,2256,24,2267,23,2276,null,null,0,1122,null,null,null,{"$f":"SUM(P7:P22)","v":1},{"$f":"-SUM(Q7:Q22)","v":2.2460840247263603},null,null,null,null,{"$f":"SUM(V7:V22)","v":1},{"$f":"-SUM(W7:W22)","v":2.4111984154992898},null,null,null,{"$f":"SUM(AA7:AA22)","v":0.99999999999999989},{"$f":"-SUM(AB7:AB22)","v":2.1520020703669336},null,null,null,{"$f":"SUM(AF7:AF22)","v":0.99999999999999989},{"$f":"-SUM(AG7:AG22)","v":2.3311229704790555},null,null,null,{"$f":"SUM(AK7:AK22)","v":1},{"$f":"-SUM(AL7:AL22)","v":1.9681180836033729},null,null,null,{"$f":"SUM(AP7:AP22)","v":1},{"$f":"-SUM(AQ7:AQ22)","v":1.585210442717609},null,null,null,{"$f":"SUM(AU7:AU22)","v":0.99999999999999989},{"$f":"-SUM(AV7:AV22)","v":1.8150610122030697}]
[12,2380,23,2391,24,2399,23,2409,null,null,0,1222,null,null,null,"U=",{"$f":"Q23/(LOG(Q4)/LOG(2))","v":0.29853997851617342},null,null,null,null,"U1=",{"$f":"W23/(LOG(W4)/LOG(2))","v":0.48669819773673817},null,null,null,"U2=",{"$f":"AB23/(LOG(AB4)/LOG(2))","v":0.43437965222635333},null,null,null,"U3=",{"$f":"AG23/(LOG(AG4)/LOG(2))","v":0.47507131554253978},null,null,null,"U4=",{"$f":"AL23/(LOG(AL4)/LOG(2))","v":0.39726283746105368},null,null,null,"U5=",{"$f":"AQ23/(LOG(AQ4)/LOG(2))","v":0.31997327990295554},null,null,null,"U6=",{"$f":"AV23/(LOG(AV4)/LOG(2))","v":0.36990044445406639}]
[12,2503,14,2511,13,2521,14,2529,null,null,0,1111]
[21,2638,21,2646,11,2659,21,2672,null,null,0,2212]
[12,2785,23,2796,24,2805,14,2822,null,null,0,1221,null,"Total Target Seq"]
[12,2917,14,2928,13,2932,23,2943,null,null,0,1112,null,{"$f":"COUNTIF(L7:L191,G3)","v":1},null,31,31,30,31,31,31]
[12,3042,14,3046,13,3054,14,3062,null,null,0,1111,null,null,null,"% of reinforcement given in 6 equal intervals based on number of trials "]
[12,3158,14,3181,13,3186,14,3193,null,null,0,1111,null,null,null,"%_1","%_2","%_3","%_4","%_5","%_6"]
[12,3293,14,3297,13,3304,23,3319,null,null,0,1112,null,null,"target sequence",{"$f":"$G$3","v":2212},{"$f":"$G$3","v":2212},{"$f":"$G$3","v":2212},{"$f":"$G$3","v":2212},{"$f":"$G$3","v":2212},{"$f":"$G$3","v":2212}]
[12,3429,14,3435,13,3444,23,3459,null,null,0,1112,null,null,"total reinforcement",{"$f":"U20","v":1},{"$f":"Z20","v":0},{"$f":"AE20","v":0},{"$f":"AJ20","v":0},{"$f":"AO20","v":0},{"$f":"AT20","v":0}]
[12,3559,14,3572,13,3577,14,3585,null,null,0,1111,null,null,"% target"]
[12,3681,14,3693,13,3697,23,3709,null,null,0,1112,null,null,"CCRF"]
[12,3805,14,3809,13,3817,14,3834,null,null,0,1111,null,null,"% CCRf"]
[12,3935,14,3946,24,3957,23,3964,null,null,0,1122,null,null,"average response rate",{"$f":"H37/P28","v":131.96774193548387},{"$f":"(H68-H37)/Q28","v":130},{"$f":"(H98-H68)/R28","v":128.73333333333332},{"$f":"(H129-H98)/S28","v":128.12903225806451},{"$f":"(H160-H129)/T28","v":130.45161290322579},{"$f":"(H191-H160)/U28","v":-645.12903225806451}]
[12,4063,14,4071,24,4085,23,4091,null,null,0,1122]
[12,4189,14,4198,13,4206,14,4223,null,null,0,1111]
[12,4316,14,4339,13,4352,14,4363,null,null,0,1111]
[12,4459,14,4466,24,4478,23,4485,null,null,0,1122]
[12,4581,14,4592,13,4611,23,4620,null,null,0,1112]
[12,4716,14,4729,13,4751,14,4756,null,null,0,1111]
[12,4853,14,4866,13,4885,14,4890,null,null,0,1111]
[12,4985,14,4992,13,5001,14,5014,null,null,0,1111]
[12,5108,14,5118,13,5126,14,5133,null,null,0,1111]
[12,5226,14,5235,13,5243,14,5250,null,null,0,1111]
[12,5346,14,5353,13,5367,14,5375,null,null,0,1111]
[12,5467,14,5484,24,5495,23,5502,null,null,0,1122]
[12,5596,14,5601,13,5605,23,5621,null,null,0,1112]
[12,5717,14,5739,24,5760,14,5774,null,null,0,1121]
[12,5865,14,5884,24,5895,23,5902,null,null,0,1122]
[12,5999,14,6003,13,6013,14,6023,null,null,0,1111]
[12,6122,14,6129,24,6149,23,6158,null,null,0,1122]
[12,6261,23,6295,13,6312,23,6323,null,null,0,1212]
[12,6420,14,6425,13,6429,14,6438,null,null,0,1111]
[12,6535,23,6548,24,6553,14,6564,null,null,0,1221]
[21,6692,21,6699,22,6713,23,6721,null,null,0,2222]
[12,6816,14,6825,13,6842,14,6849,null,null,0,1111]
[12,6949,14,6961,24,6971,23,6979,null,null,0,1122]
[12,7076,14,7086,13,7093,23,7105,null,null,0,1112]
[12,7204,23,7223,24,7228,14,7242,null,null,0,1221]
[12,7332,14,7351,24,7362,23,7370,null,null,0,1122]
[12,7469,14,7477,13,7482,14,7490,null,null,0,1111]
[12,7585,14,7589,13,7616,14,7620,null,null,0,1111]
[12,7717,14,7722,13,7738,14,7743,null,null,0,1111]
[12,7842,14,7850,13,7858,14,7867,null,null,0,1111]
[12,7962,14,7983,13,7986,23,7998,null,null,0,1112]
[12,8090,23,8102,24,8108,14,8121,null,null,0,1221]
[12,8218,14,8236,13,8245,23,8266,null,null,0,1112]
[12,8361,14,8387,24,8399,23,8406,null,null,0,1122]
[12,8515,14,8520,13,8526,14,8534,null,null,0,1111]
[12,8632,23,8642,24,8646,14,8660,null,null,0,1221]
[12,8754,14,8770,13,8779,23,8788,null,null,0,1112]
[12,8884,14,8888,13,8903,23,8915,null,null,0,1112]
[12,9016,14,9036,13,9041,14,9046,null,null,0,1111]
[12,9137,23,9159,24,9167,23,9183,null,null,0,1222]
[12,9280,14,9285,24,9296,23,9301,null,null,0,1122]
[12,9398,23,9416,24,9423,23,9436,null,null,0,1222]
[12,9537,14,9543,13,9547,14,9556,null,null,0,1111]
[12,9659,14,9669,24,9680,23,9686,null,null,0,1122]
[12,9784,14,9788,13,9801,23,9813,null,null,0,1112]
[12,9913,14,9917,13,9923,14,9930,null,null,0,1111]
[12,10026,23,10037,24,10044,14,10057,null,null,0,1221]
[12,10151,14,10167,13,10171,14,10177,null,null,0,1111]
[12,10268,23,10289,24,10297,23,10310,null,null,0,1222]
[12,10402,14,10423,13,10431,14,10439,null,null,0,1111]
[12,10547,23,10561,24,10571,14,10588,null,null,0,1221]
[12,10691,14,10707,13,10715,14,10723,null,null,0,1111]
[12,10830,23,10843,24,10851,23,10865,null,null,0,1222]
[12,10960,14,10965,24,10984,23,10989,null,null,0,1122]
[12,11105,14,11112,13,11121,14,11130,null,null,0,1111]
[12,11225,23,11237,13,11249,23,11260,null,null,0,1212]
[12,11360,14,11366,13,11370,14,11374,null,null,0,1111]
[12,11465,14,11481,24,11492,23,11500,null,null,0,1122]
[12,11594,14,11607,13,11612,14,11619,null,null,0,1111]
[12,11715,14,11720,13,11728,23,11740,null,null,0,1112]
[12,11836,23,11846,24,11851,14,11866,null,null,0,1221]
[12,11962,14,11974,13,11978,14,11983,null,null,0,1111]
[12,12078,23,12088,24,12095,23,12107,null,null,0,1222]
[12,12206,14,12210,13,12215,14,12220,null,null,0,1111]
[12,12321,23,12333,24,12341,23,12358,null,null,0,1222]
[12,12454,14,12478,13,12483,14,12490,null,null,0,1111]
[12,12586,14,12599,13,12603,14,12608,null,null,0,1111]
[12,12703,14,12723,24,12735,23,12742,null,null,0,1122]
[12,12843,14,12864,13,12869,14,12873,null,null,0,1111]
[12,12965,14,12971,13,12975,23,12986,null,null,0,1112]
[12,13090,14,13105,13,13110,14,13114,null,null,0,1111]
[12,13211,14,13228,24,13255,14,13273,null,null,0,1121]
[12,13364,23,13375,24,13379,14,13395,null,null,0,1221]
[12,13491,14,13504,13,13509,14,13514,null,null,0,1111]
[12,13613,14,13629,13,13635,14,13641,null,null,0,1111]
[12,13738,14,13742,24,13762,23,13770,null,null,0,1122]
[12,13859,14,13873,13,13877,23,13890,null,null,0,1112]
[12,13979,14,13995,13,13999,14,14016,null,null,0,1111]
[12,14106,23,14138,24,14146,23,14169,null,null,0,1222]
[12,14268,14,14273,13,14278,14,14283,null,null,0,1111]
[12,14374,14,14378,24,14389,23,14399,null,null,0,1122]
[12,14497,14,14520,13,14524,14,14529,null,null,0,1111]
[12,14625,14,14641,13,14645,14,14657,null,null,0,1111]
[12,14747,14,14771,13,14777,14,14785,null,null,0,1111]
[12,14879,14,14901,13,14905,14,14913,null,null,0,1111]
[12,15009,23,15025,13,15042,14,15047,null,null,0,1211]
[12,15141,14,15153,13,15159,14,15172,null,null,0,1111]
[12,15267,14,15289,24,15301,23,15308,null,null,0,1122]
[12,15398,14,15413,13,15430,14,15437,null,null,0,1111]
[12,15534,14,15541,13,15556,23,15567,null,null,0,1112]
[12,15664,14,15669,13,15695,14,15702,null,null,0,1111]
[12,15802,14,15807,13,15815,14,15823,null,null,0,1111]
[12,15921,14,15926,13,15935,14,15955,null,null,0,1111]
[12,16050,23,16060,24,16067,23,16080,null,null,0,1222]
[12,16176,14,16202,13,16210,14,16218,null,null,0,1111]
[12,16313,23,16339,24,16348,23,16375,null,null,0,1222]
[12,16474,14,16490,13,16494,14,16499,null,null,0,1111]
[12,16595,14,16607,13,16627,14,16631,null,null,0,1111]
[12,16730,14,16735,13,16741,14,16746,null,null,0,1111]
[12,16843,14,16859,24,16876,23,16883,null,null,0,1122]
[12,16975,14,16979,13,16985,14,16989,null,null,0,1111]
[12,17085,14,17088,13,17104,14,17109,null,null,0,1111]
[12,17209,14,17217,13,17224,14,17246,null,null,0,1111]
[12,17341,14,17363,13,17385,14,17391,null,null,0,1111]
[12,17486,23,17496,24,17503,23,17527,null,null,0,1222]
[12,17629,14,17634,13,17650,14,17654,null,null,0,1111]
[12,17744,23,17764,24,17772,23,17793,null,null,0,1222]
[12,17889,23,17902,24,17907,14,17921,null,null,0,1221]
[12,18020,14,18030,24,18046,23,18054,null,null,0,1122]
[12,18153,14,18157,13,18161,14,18168,null,null,0,1111]
[12,18272,14,18288,13,18299,14,18307,null,null,0,1111]
[12,18404,14,18411,13,18419,14,18424,null,null,0,1111]
[12,18517,14,18543,13,18549,14,18557,null,null,0,1111]
[12,18658,14,18662,24,18674,23,18682,null,null,0,1122]
[12,18794,14,18814,13,18825,14,18842,null,null,0,1111]
[12,18941,14,18949,13,18958,23,18970,null,null,0,1112]
[12,19067,14,19073,13,19078,14,19087,null,null,0,1111]
[12,19184,14,19201,13,19207,23,19227,null,null,0,1112]
[12,19324,14,19329,24,19341,23,19348,null,null,0,1122]
[12,19445,14,19456,13,19460,14,19467,null,null,0,1111]
[12,19560,14,19575,13,19580,14,19588,null,null,0,1111]
[12,19694,14,19710,13,19718,14,19726,null,null,0,1111]
[12,19823,14,19827,13,19844,14,19857,null,null,0,1111]
[12,19959,14,19967,13,19991,14,19999,null,null,0,1111]
[12,20098,14,20116,13,20127,14,20137,null,null,0,1111]
[12,20234,14,20248,13,20264,14,20270,null,null,0,1111]
[12,20365,14,20378,24,20389,23,20396,null,null,0,1122]
[12,20493,14,20497,24,20518,23,20526,null,null,0,1122]
[12,20623,14,20628,13,20643,14,20649,null,null,0,1111]
[12,20741,14,20755,13,20772,14,20777,null,null,0,1111]
[12,20876,14,20881,24,20894,23,20901,null,null,0,1122]
[12,21003,14,21014,13,21022,14,21029,null,null,0,1111]
[12,21126,14,21137,13,21156,14,21161,null,null,0,1111]
[12,21261,14,21265,13,21277,14,21290,null,null,0,1111]
[12,21383,14,21413,24,21424,23,21432,null,null,0,1122]
[12,21529,23,21541,24,21549,14,21561,null,null,0,1221]
[12,21656,14,21668,13,21686,23,21698,null,null,0,1112]
[12,21800,14,21836,24,21847,23,21855,null,null,0,1122]
[12,21952,14,21956,13,21961,23,21980,null,null,0,1112]
[21,22114,21,22121,22,22136,23,22150,null,null,0,2222]
[12,22243,14,22249,13,22253,14,22258,null,null,0,1111]
[12,22349,14,22364,13,22369,14,22378,null,null,0,1111]
[12,22477,14,22506,24,22517,23,22525,null,null,0,1122]
[12,22629,14,22633,13,22638,14,22648,null,null,0,1111]
[12,22753,14,22760,24,22771,23,22779,null,null,0,1122]
[12,22880,14,22886,13,22897,23,22909,null,null,0,1112]
[12,23011,23,23025,24,23034,23,23046,null,null,0,1222]
[12,23144,14,23148,13,23157,14,23168,null,null,0,1111]
[12,23260,14,23272,13,23278,14,23283,null,null,0,1111]
[12,23381,14,23385,13,23390,14,23394,null,null,0,1111]
[12,23490,14,23494,13,23498,14,23506,null,null,0,1111]
[12,23601,14,23605,24,23618,23,23625,null,null,0,1122]
[12,23727,14,23742,13,23746,14,23750,null,null,0,1111]
[12,23846,14,23857,13,23874,14,23880,null,null,0,1111]
[12,23979,14,23987,null,null,null,null,null,null,null,11]

{"sheet":"!M819940.000","index":6,"n_rows":188,"n_cols":48,"rows_kept":188,"cut":false,"hidden":false,"merged":[[4,39,4,42],[5,39,5,40],[4,44,4,47],[5,44,5,45],[4,24,4,27],[5,24,5,25],[4,29,4,32],[5,29,5,30],[4,34,4,37],[5,34,5,35],[1,1,1,2],[5,13,5,14],[26,13,26,14],[27,13,27,14],[4,19,4,22],[5,19,5,20]]}
["Report for:!M819940.000"]
["Date:","<date>"]
["Hen:","<hen>",null,null,null,"Correct Sequence",{"$f":"Start!J2","v":2212},null,null,null,null,null,null,null,null,"Total Sequences in Data",{"$f":"4994-COUNTBLANK(L7:L5000)","v":182},null,null,null,null,"Total Sequences in Block Data",{"$f":"COUNTA(L7:L36)","v":30},null,null,null,"Total Sequences in Block Data",{"$f":"COUNTA(L37:L67)","v":31},null,null,null,"Total Sequences in Block Data",{"$f":"COUNTA(L68:L97)","v":30},null,null,null,"Total Sequences in Block Data",{"$f":"COUNTA(L98:L127)","v":30},null,null,null,"Total Sequences in Block Data",{"$f":"COUNTA(L128:L158)","v":31},null,null,null,"Total Sequences in Block Data",{"$f":"COUNTA(L159:L188)","v":30}]
[null,null,null,null,null,null,null,null,null,null,null,null,null,null,null,"Total Sequences in Summary",{"$f":"SUM(O7:O22)","v":181},null,null,null,null,"Total Sequences in Block Summary",{"$f":"SUM(U7:U22)","v":30},null,null,null,"Total Sequences in Block Summary",{"$f":"SUM(Z7:Z22)","v":31},null,null,null,"Total Sequences in Block Summary",{"$f":"SUM(AE7:AE22)","v":30},null,null,null,"Total Sequences in Block Summary",{"$f":"SUM(AJ7:AJ22)","v":30},null,null,null,"Total Sequences in Block Summary",{"$f":"SUM(AO7:AO22)","v":31},null,null,null,"Total Sequences in Block Summary",{"$f":"SUM(AT7:AT22)","v":29}]
[null,null,null,null,null,null,null,null,null,null,null,null,null,null,null,null,null,null,null,"Block 1",null,null,null,null,"Block 2",null,null,null,null,"Block 3",null,null,null,null,"Block 4",null,null,null,null,"Block 5",null,null,null,null,"Block 6"]
["Sequence\nComponent\n1","Time\n1","Sequence\nComponent\n2","Time\n2","Sequence\nComponent\n3","Time\n3","Sequence\nComponent\n4","Time\n4","Sequence\nComponent\n5","Time\n5","Correct?\n0=No 1=Yes","Sequence",null,"Frequency",null,"Relative Frequency","Variability",null,null,"Frequency",null,"Relative Frequency","Variability",null,"Frequency",null,"Relative Frequency","Variability",null,"Frequency",null,"Relative Frequency","Variability",null,"Frequency",null,"Relative Frequency","Variability",null,"Frequency",null,"Relative Frequency","Variability",null,"Frequency",null,"Relative Frequency","Variability"]
[12,11,14,20,13,28,14,50,null,null,0,1111,null,1111,{"$f":"COUNTIF($L$7:$L$500,N7)","v":75},{"$f":"O7/$Q$4","v":0.4143646408839779},{"$f":"IF(P7=0,0,(P7*((LOG(P7))/LOG(2))))","v":-0.52666872786767593},null,null,{"$f":"N7","v":1111},{"$f":"COUNTIF(L7:L36,T7)","v":21},{"$f":"U7/(W4-U20)","v":0.7},{"$f":"IF(V7=0,0,(V7*((LOG(V7))/LOG(2))))","v":-0.36020122098083079},null,{"$f":"N7","v":1111},{"$f":"COUNTIF(L37:L67,Y7)","v":16},{"$f":"Z7/(AB4-Z20)","v":0.5161290322580645},{"$f":"IF(AA7=0,0,(AA7*((LOG(AA7))/LOG(2))))","v":-0.49248841826419365},null,{"$f":"N7","v":1111},{"$f":"COUNTIF(L68:L97,AD7)","v":13},{"$f":"AE7/(AG4-AE20)","v":0.43333333333333335},{"$f":"IF(AF7=0,0,(AF7*((LOG(AF7))/LOG(2))))","v":-0.52279538023588479},null,{"$f":"N7","v":1111},{"$f":"COUNTIF(L98:L127,AI7)","v":11},{"$f":"AJ7/(AL4-AJ20)","v":0.36666666666666664},{"$f":"IF(AK7=0,0,(AK7*((LOG(AK7))/LOG(2))))","v":-0.53073495822278116},null,{"$f":"N7","v":1111},{"$f":"COUNTIF(L128:L158,AN7)","v":6},{"$f":"AO7/(AQ4-AO20)","v":0.19354838709677419},{"$f":"IF(AP7=0,0,(AP7*((LOG(AP7))/LOG(2))))","v":-0.45856138251594558},null,{"$f":"N7","v":1111},{"$f":"COUNTIF(L159:L188,AS7)","v":8},{"$f":"AT7/(AV4-AT20)","v":0.27586206896551724},{"$f":"IF(AU7=0,0,(AU7*((LOG(AU7))/LOG(2))))","v":-0.51254648141450265}]
[12,187,23,198,13,212,14,219,null,null,0,1211,null,1112,{"$f":"COUNTIF($L$7:$L$500,N8)","v":13},{"$f":"O8/$Q$4","v":7.18232044198895E-2},{"$f":"IF(P8=0,0,(P8*((LOG(P8))/LOG(2))))","v":-0.27288552594611865},null,null,{"$f":"N8","v":1112},{"$f":"COUNTIF(L7:L36,T8)","v":3},{"$f":"U8/(W4-U20)","v":0.1},{"$f":"IF(V8=0,0,(V8*((LOG(V8))/LOG(2))))","v":-0.33219280948873625},null,{"$f":"N8","v":1112},{"$f":"COUNTIF(L37:L67,Y8)","v":2},{"$f":"Z8/(AB4-Z20)","v":6.4516129032258063E-2},{"$f":"IF(AA8=0,0,(AA8*((LOG(AA8))/LOG(2))))","v":-0.25510943937979835},null,{"$f":"N8","v":1112},{"$f":"COUNTIF(L68:L97,AD8)","v":3},{"$f":"AE8/(AG4-AE20)","v":0.1},{"$f":"IF(AF8=0,0,(AF8*((LOG(AF8))/LOG(2))))","v":-0.33219280948873625},null,{"$f":"N8","v":1112},{"$f":"COUNTIF(L98:L127,AI8)","v":3},{"$f":"AJ8/(AL4-AJ20)","v":0.1},{"$f":"IF(AK8=0,0,(AK8*((LOG(AK8))/LOG(2))))","v":-0.33219280948873625},null,{"$f":"N8","v":1112},{"$f":"COUNTIF(L128:L158,AN8)","v":2},{"$f":"AO8/(AQ4-AO20)","v":6.4516129032258063E-2},{"$f":"IF(AP8=0,0,(AP8*((LOG(AP8))/LOG(2))))","v":-0.25510943937979835},null,{"$f":"N8","v":1112},{"$f":"COUNTIF(L159:L188,AS8)","v":0},{"$f":"AT8/(AV4-AT20)","v":0},{"$f":"IF(AU8=0,0,(AU8*((LOG(AU8))/LOG(2))))","v":0}]
[12,324,14,332,13,345,14,352,null,null,0,1111,null,1121,{"$f":"COUNTIF($L$7:$L$500,N9)","v":1},{"$f":"O9/$Q$4","v":5.5248618784530384E-3},{"$f":"IF(P9=0,0,(P9*((LOG(P9))/LOG(2))))","v":-4.1435612635818811E-2},null,null,{"$f":"N9","v":1121},{"$f":"COUNTIF(L7:L36,T9)","v":0},{"$f":"U9/(W4-U20)","v":0},{"$f":"IF(V9=0,0,(V9*((LOG(V9))/LOG(2))))","v":0},null,{"$f":"N9","v":1121},{"$f":"COUNTIF(L37:L67,Y9)","v":0},{"$f":"Z9/(AB4-Z20)","v":0},{"$f":"IF(AA9=0,0,(AA9*((LOG(AA9))/LOG(2))))","v":0},null,{"$f":"N9","v":1121},{"$f":"COUNTIF(L68:L97,AD9)","v":0},{"$f":"AE9/(AG4-AE20)","v":0},{"$f":"IF(AF9=0,0,(AF9*((LOG(AF9))/LOG(2))))","v":0},null,{"$f":"N9","v":1121},{"$f":"COUNTIF(L98:L127,AI9)","v":0},{"$f":"AJ9/(AL4-AJ20)","v":0},{"$f":"IF(AK9=0,0,(AK9*((LOG(AK9))/LOG(2))))","v":0},null,{"$f":"N9","v":1121},{"$f":"COUNTIF(L128:L158,AN9)","v":0},{"$f":"AO9/(AQ4-AO20)","v":0},{"$f":"IF(AP9=0,0,(AP9*((LOG(AP9))/LOG(2))))","v":0},null,{"$f":"N9","v":1121},{"$f":"COUNTIF(L159:L188,AS9)","v":1},{"$f":"AT9/(AV4-AT20)","v":3.4482758620689655E-2},{"$f":"IF(AU9=0,0,(AU9*((LOG(AU9))/LOG(2))))","v":-0.16751658603888178}]
[12,450,23,474,24,482,23,495,null,null,0,1222,null,1122,{"$f":"COUNTIF($L$7:$L$500,N10)","v":42},{"$f":"O10/$Q$4","v":0.23204419889502761},{"$f":"IF(P10=0,0,(P10*((LOG(P10))/LOG(2))))","v":-0.48903975414799283},null,null,{"$f":"N10","v":1122},{"$f":"COUNTIF(L7:L36,T10)","v":2},{"$f":"U10/(W4-U20)","v":6.6666666666666666E-2},{"$f":"IF(V10=0,0,(V10*((LOG(V10))/LOG(2))))","v":-0.26045937304056793},null,{"$f":"N10","v":1122},{"$f":"COUNTIF(L37:L67,Y10)","v":5},{"$f":"Z10/(AB4-Z20)","v":0.16129032258064516},{"$f":"IF(AA10=0,0,(AA10*((LOG(AA10))/LOG(2))))","v":-0.42455938959669559},null,{"$f":"N10","v":1122},{"$f":"COUNTIF(L68:L97,AD10)","v":3},{"$f":"AE10/(AG4-AE20)","v":0.1},{"$f":"IF(AF10=0,0,(AF10*((LOG(AF10))/LOG(2))))","v":-0.33219280948873625},null,{"$f":"N10","v":1122},{"$f":"COUNTIF(L98:L127,AI10)","v":10},{"$f":"AJ10/(AL4-AJ20)","v":0.33333333333333331},{"$f":"IF(AK10=0,0,(AK10*((LOG(AK10))/LOG(2))))","v":-0.52832083357371862},null,{"$f":"N10","v":1122},{"$f":"COUNTIF(L128:L158,AN10)","v":11},{"$f":"AO10/(AQ4-AO20)","v":0.35483870967741937},{"$f":"IF(AP10=0,0,(AP10*((LOG(AP10))/LOG(2))))","v":-0.53040037449178568},null,{"$f":"N10","v":1122},{"$f":"COUNTIF(L159:L188,AS10)","v":11},{"$f":"AT10/(AV4-AT20)","v":0.37931034482758619},{"$f":"IF(AU10=0,0,(AU10*((LOG(AU10))/LOG(2))))","v":-0.53048424625493174}]
[12,598,14,618,13,626,14,635,null,null,0,1111,null,1211,{"$f":"COUNTIF($L$7:$L$500,N11)","v":2},{"$f":"O11/$Q$4","v":1.1049723756906077E-2},{"$f":"IF(P11=0,0,(P11*((LOG(P11))/LOG(2))))","v":-7.1821501514731545E-2},null,null,{"$f":"N11","v":1211},{"$f":"COUNTIF(L7:L36,T11)","v":1},{"$f":"U11/(W4-U20)","v":3.3333333333333333E-2},{"$f":"IF(V11=0,0,(V11*((LOG(V11))/LOG(2))))","v":-0.16356301985361729},null,{"$f":"N11","v":1211},{"$f":"COUNTIF(L37:L67,Y11)","v":0},{"$f":"Z11/(AB4-Z20)","v":0},{"$f":"IF(AA11=0,0,(AA11*((LOG(AA11))/LOG(2))))","v":0},null,{"$f":"N11","v":1211},{"$f":"COUNTIF(L68:L97,AD11)","v":0},{"$f":"AE11/(AG4-AE20)","v":0},{"$f":"IF(AF11=0,0,(AF11*((LOG(AF11))/LOG(2))))","v":0},null,{"$f":"N11","v":1211},{"$f":"COUNTIF(L98:L127,AI11)","v":0},{"$f":"AJ11/(AL4-AJ20)","v":0},{"$f":"IF(AK11=0,0,(AK11*((LOG(AK11))/LOG(2))))","v":0},null,{"$f":"N11","v":1211},{"$f":"COUNTIF(L128:L158,AN11)","v":0},{"$f":"AO11/(AQ4-AO20)","v":0},{"$f":"IF(AP11=0,0,(AP11*((LOG(AP11))/LOG(2))))","v":0},null,{"$f":"N11","v":1211},{"$f":"COUNTIF(L159:L188,AS11)","v":1},{"$f":"AT11/(AV4-AT20)","v":3.4482758620689655E-2},{"$f":"IF(AU11=0,0,(AU11*((LOG(AU11))/LOG(2))))","v":-0.16751658603888178}]
[12,735,14,740,13,761,14,767,null,null,0,1111,null,1212,{"$f":"COUNTIF($L$7:$L$500,N12)","v":3},{"$f":"O12/$Q$4","v":1.6574585635359115E-2},{"$f":"IF(P12=0,0,(P12*((LOG(P12))/LOG(2))))","v":-9.8036741210420705E-2},null,null,{"$f":"N12","v":1212},{"$f":"COUNTIF(L7:L36,T12)","v":0},{"$f":"U12/(W4-U20)","v":0},{"$f":"IF(V12=0,0,(V12*((LOG(V12))/LOG(2))))","v":0},null,{"$f":"N12","v":1212},{"$f":"COUNTIF(L37:L67,Y12)","v":0},{"$f":"Z12/(AB4-Z20)","v":0},{"$f":"IF(AA12=0,0,(AA12*((LOG(AA12))/LOG(2))))","v":0},null,{"$f":"N12","v":1212},{"$f":"COUNTIF(L68:L97,AD12)","v":0},{"$f":"AE12/(AG4-AE20)","v":0},{"$f":"IF(AF12=0,0,(AF12*((LOG(AF12))/LOG(2))))","v":0},null,{"$f":"N12","v":1212},{"$f":"COUNTIF(L98:L127,AI12)","v":0},{"$f":"AJ12/(AL4-AJ20)","v":0},{"$f":"IF(AK12=0,0,(AK12*((LOG(AK12))/LOG(2))))","v":0},null,{"$f":"N12","v":1212},{"$f":"COUNTIF(L128:L158,AN12)","v":0},{"$f":"AO12/(AQ4-AO20)","v":0},{"$f":"IF(AP12=0,0,(AP12*((LOG(AP12))/LOG(2))))","v":0},null,{"$f":"N12","v":1212},{"$f":"COUNTIF(L159:L188,AS12)","v":3},{"$f":"AT12/(AV4-AT20)","v":0.10344827586206896},{"$f":"IF(AU12=0,0,(AU12*((LOG(AU12))/LOG(2))))","v":-0.33858812011100858}]
[12,869,23,883,24,891,23,900,null,null,0,1222,null,1221,{"$f":"COUNTIF($L$7:$L$500,N13)","v":13},{"$f":"O13/$Q$4","v":7.18232044198895E-2},{"$f":"IF(P13=0,0,(P13*((LOG(P13))/LOG(2))))","v":-0.27288552594611865},null,null,{"$f":"N13","v":1221},{"$f":"COUNTIF(L7:L36,T13)","v":1},{"$f":"U13/(W4-U20)","v":3.3333333333333333E-2},{"$f":"IF(V13=0,0,(V13*((LOG(V13))/LOG(2))))","v":-0.16356301985361729},null,{"$f":"N13","v":1221},{"$f":"COUNTIF(L37:L67,Y13)","v":4},{"$f":"Z13/(AB4-Z20)","v":0.12903225806451613},{"$f":"IF(AA13=0,0,(AA13*((LOG(AA13))/LOG(2))))","v":-0.38118662069508069},null,{"$f":"N13","v":1221},{"$f":"COUNTIF(L68:L97,AD13)","v":1},{"$f":"AE13/(AG4-AE20)","v":3.3333333333333333E-2},{"$f":"IF(AF13=0,0,(AF13*((LOG(AF13))/LOG(2))))","v":-0.16356301985361729},null,{"$f":"N13","v":1221},{"$f":"COUNTIF(L98:L127,AI13)","v":2},{"$f":"AJ13/(AL4-AJ20)","v":6.6666666666666666E-2},{"$f":"IF(AK13=0,0,(AK13*((LOG(AK13))/LOG(2))))","v":-0.26045937304056793},null,{"$f":"N13","v":1221},{"$f":"COUNTIF(L128:L158,AN13)","v":3},{"$f":"AO13/(AQ4-AO20)","v":9.6774193548387094E-2},{"$f":"IF(AP13=0,0,(AP13*((LOG(AP13))/LOG(2))))","v":-0.32605488480635986},null,{"$f":"N13","v":1221},{"$f":"COUNTIF(L159:L188,AS13)","v":2},{"$f":"AT13/(AV4-AT20)","v":6.8965517241379309E-2},{"$f":"IF(AU13=0,0,(AU13*((LOG(AU13))/LOG(2))))","v":-0.26606765483638428}]
[12,997,14,1002,13,1011,23,1023,null,null,0,1112,null,1222,{"$f":"COUNTIF($L$7:$L$500,N14)","v":31},{"$f":"O14/$Q$4","v":0.17127071823204421},{"$f":"IF(P14=0,0,(P14*((LOG(P14))/LOG(2))))","v":-0.43599523136787971},null,null,{"$f":"N14","v":1222},{"$f":"COUNTIF(L7:L36,T14)","v":2},{"$f":"U14/(W4-U20)","v":6.6666666666666666E-2},{"$f":"IF(V14=0,0,(V14*((LOG(V14))/LOG(2))))","v":-0.26045937304056793},null,{"$f":"N14","v":1222},{"$f":"COUNTIF(L37:L67,Y14)","v":4},{"$f":"Z14/(AB4-Z20)","v":0.12903225806451613},{"$f":"IF(AA14=0,0,(AA14*((LOG(AA14))/LOG(2))))","v":-0.38118662069508069},null,{"$f":"N14","v":1222},{"$f":"COUNTIF(L68:L97,AD14)","v":9},{"$f":"AE14/(AG4-AE20)","v":0.3},{"$f":"IF(AF14=0,0,(AF14*((LOG(AF14))/LOG(2))))","v":-0.52108967824986185},null,{"$f":"N14","v":1222},{"$f":"COUNTIF(L98:L127,AI14)","v":4},{"$f":"AJ14/(AL4-AJ20)","v":0.13333333333333333},{"$f":"IF(AK14=0,0,(AK14*((LOG(AK14))/LOG(2))))","v":-0.3875854127478025},null,{"$f":"N14","v":1222},{"$f":"COUNTIF(L128:L158,AN14)","v":9},{"$f":"AO14/(AQ4-AO20)","v":0.29032258064516131},{"$f":"IF(AP14=0,0,(AP14*((LOG(AP14))/LOG(2))))","v":-0.5180142509839053},null,{"$f":"N14","v":1222},{"$f":"COUNTIF(L159:L188,AS14)","v":3},{"$f":"AT14/(AV4-AT20)","v":0.10344827586206896},{"$f":"IF(AU14=0,0,(AU14*((LOG(AU14))/LOG(2))))","v":-0.33858812011100858}]
[12,1121,14,1128,13,1137,14,1147,null,null,0,1111,null,2111,{"$f":"COUNTIF($L$7:$L$500,N15)","v":0},{"$f":"O15/$Q$4","v":0},{"$f":"IF(P15=0,0,(P15*((LOG(P15))/LOG(2))))","v":0},null,null,{"$f":"N15","v":2111},{"$f":"COUNTIF(L7:L36,T15)","v":0},{"$f":"U15/(W4-U20)","v":0},{"$f":"IF(V15=0,0,(V15*((LOG(V15))/LOG(2))))","v":0},null,{"$f":"N15","v":2111},{"$f":"COUNTIF(L37:L67,Y15)","v":0},{"$f":"Z15/(AB4-Z20)","v":0},{"$f":"IF(AA15=0,0,(AA15*((LOG(AA15))/LOG(2))))","v":0},null,{"$f":"N15","v":2111},{"$f":"COUNTIF(L68:L97,AD15)","v":0},{"$f":"AE15/(AG4-AE20)","v":0},{"$f":"IF(AF15=0,0,(AF15*((LOG(AF15))/LOG(2))))","v":0},null,{"$f":"N15","v":2111},{"$f":"COUNTIF(L98:L127,AI15)","v":0},{"$f":"AJ15/(AL4-AJ20)","v":0},{"$f":"IF(AK15=0,0,(AK15*((LOG(AK15))/LOG(2))))","v":0},null,{"$f":"N15","v":2111},{"$f":"COUNTIF(L128:L158,AN15)","v":0},{"$f":"AO15/(AQ4-AO20)","v":0},{"$f":"IF(AP15=0,0,(AP15*((LOG(AP15))/LOG(2))))","v":0},null,{"$f":"N15","v":2111},{"$f":"COUNTIF(L159:L188,AS15)","v":0},{"$f":"AT15/(AV4-AT20)","v":0},{"$f":"IF(AU15=0,0,(AU15*((LOG(AU15))/LOG(2))))","v":0}]
[12,1241,14,1251,13,1255,14,1264,null,null,0,1111,null,2112,{"$f":"COUNTIF($L$7:$L$500,N16)","v":0},{"$f":"O16/$Q$4","v":0},{"$f":"IF(P16=0,0,(P16*((LOG(P16))/LOG(2))))","v":0},null,null,{"$f":"N16","v":2112},{"$f":"COUNTIF(L7:L36,T16)","v":0},{"$f":"U16/(W4-U20)","v":0},{"$f":"IF(V16=0,0,(V16*((LOG(V16))/LOG(2))))","v":0},null,{"$f":"N16","v":2112},{"$f":"COUNTIF(L37:L67,Y16)","v":0},{"$f":"Z16/(AB4-Z20)","v":0},{"$f":"IF(AA16=0,0,(AA16*((LOG(AA16))/LOG(2))))","v":0},null,{"$f":"N16","v":2112},{"$f":"COUNTIF(L68:L97,AD16)","v":0},{"$f":"AE16/(AG4-AE20)","v":0},{"$f":"IF(AF16=0,0,(AF16*((LOG(AF16))/LOG(2))))","v":0},null,{"$f":"N16","v":2112},{"$f":"COUNTIF(L98:L127,AI16)","v":0},{"$f":"AJ16/(AL4-AJ20)","v":0},{"$f":"IF(AK16=0,0,(AK16*((LOG(AK16))/LOG(2))))","v":0},null,{"$f":"N16","v":2112},{"$f":"COUNTIF(L128:L158,AN16)","v":0},{"$f":"AO16/(AQ4-AO20)","v":0},{"$f":"IF(AP16=0,0,(AP16*((LOG(AP16))/LOG(2))))","v":0},null,{"$f":"N16","v":2112},{"$f":"COUNTIF(L159:L188,AS16)","v":0},{"$f":"AT16/(AV4-AT20)","v":0},{"$f":"IF(AU16=0,0,(AU16*((LOG(AU16))/LOG(2))))","v":0}]
[12,1360,14,1377,13,1388,23,1403,null,null,0,1112,null,2121,{"$f":"COUNTIF($L$7:$L$500,N17)","v":0},{"$f":"O17/$Q$4","v":0},{"$f":"IF(P17=0,0,(P17*((LOG(P17))/LOG(2))))","v":0},null,null,{"$f":"N17","v":2121},{"$f":"COUNTIF(L7:L36,T17)","v":0},{"$f":"U17/(W4-U20)","v":0},{"$f":"IF(V17=0,0,(V17*((LOG(V17))/LOG(2))))","v":0},null,{"$f":"N17","v":2121},{"$f":"COUNTIF(L37:L67,Y17)","v":0},{"$f":"Z17/(AB4-Z20)","v":0},{"$f":"IF(AA17=0,0,(AA17*((LOG(AA17))/LOG(2))))","v":0},null,{"$f":"N17","v":2121},{"$f":"COUNTIF(L68:L97,AD17)","v":0},{"$f":"AE17/(AG4-AE20)","v":0},{"$f":"IF(AF17=0,0,(AF17*((LOG(AF17))/LOG(2))))","v":0},null,{"$f":"N17","v":2121},{"$f":"COUNTIF(L98:L127,AI17)","v":0},{"$f":"AJ17/(AL4-AJ20)","v":0},{"$f":"IF(AK17=0,0,(AK17*((LOG(AK17))/LOG(2))))","v":0},null,{"$f":"N17","v":2121},{"$f":"COUNTIF(L128:L158,AN17)","v":0},{"$f":"AO17/(AQ4-AO20)","v":0},{"$f":"IF(AP17=0,0,(AP17*((LOG(AP17))/LOG(2))))","v":0},null,{"$f":"N17","v":2121},{"$f":"COUNTIF(L159:L188,AS17)","v":0},{"$f":"AT17/(AV4-AT20)","v":0},{"$f":"IF(AU17=0,0,(AU17*((LOG(AU17))/LOG(2))))","v":0}]
[12,1503,14,1507,13,1511,14,1520,null,null,0,1111,null,2122,{"$f":"COUNTIF($L$7:$L$500,N18)","v":0},{"$f":"O18/$Q$4","v":0},{"$f":"IF(P18=0,0,(P18*((LOG(P18))/LOG(2))))","v":0},null,null,{"$f":"N18","v":2122},{"$f":"COUNTIF(L7:L36,T18)","v":0},{"$f":"U18/(W4-U20)","v":0},{"$f":"IF(V18=0,0,(V18*((LOG(V18))/LOG(2))))","v":0},null,{"$f":"N18","v":2122},{"$f":"COUNTIF(L37:L67,Y18)","v":0},{"$f":"Z18/(AB4-Z20)","v":0},{"$f":"IF(AA18=0,0,(AA18*((LOG(AA18))/LOG(2))))","v":0},null,{"$f":"N18","v":2122},{"$f":"COUNTIF(L68:L97,AD18)","v":0},{"$f":"AE18/(AG4-AE20)","v":0},{"$f":"IF(AF18=0,0,(AF18*((LOG(AF18))/LOG(2))))","v":0},null,{"$f":"N18","v":2122},{"$f":"COUNTIF(L98:L127,AI18)","v":0},{"$f":"AJ18/(AL4-AJ20)","v":0},{"$f":"IF(AK18=0,0,(AK18*((LOG(AK18))/LOG(2))))","v":0},null,{"$f":"N18","v":2122},{"$f":"COUNTIF(L128:L158,AN18)","v":0},{"$f":"AO18/(AQ4-AO20)","v":0},{"$f":"IF(AP18=0,0,(AP18*((LOG(AP18))/LOG(2))))","v":0},null,{"$f":"N18","v":2122},{"$f":"COUNTIF(L159:L188,AS18)","v":0},{"$f":"AT18/(AV4-AT20)","v":0},{"$f":"IF(AU18=0,0,(AU18*((LOG(AU18))/LOG(2))))","v":0}]
[12,1629,14,1645,13,1656,14,1666,null,null,0,1111,null,2211,{"$f":"COUNTIF($L$7:$L$500,N19)","v":0},{"$f":"O19/$Q$4","v":0},{"$f":"IF(P19=0,0,(P19*((LOG(P19))/LOG(2))))","v":0},null,null,{"$f":"N19","v":2211},{"$f":"COUNTIF(L7:L36,T19)","v":0},{"$f":"U19/(W4-U20)","v":0},{"$f":"IF(V19=0,0,(V19*((LOG(V19))/LOG(2))))","v":0},null,{"$f":"N19","v":2211},{"$f":"COUNTIF(L37:L67,Y19)","v":0},{"$f":"Z19/(AB4-Z20)","v":0},{"$f":"IF(AA19=0,0,(AA19*((LOG(AA19))/LOG(2))))","v":0},null,{"$f":"N19","v":2211},{"$f":"COUNTIF(L68:L97,AD19)","v":0},{"$f":"AE19/(AG4-AE20)","v":0},{"$f":"IF(AF19=0,0,(AF19*((LOG(AF19))/LOG(2))))","v":0},null,{"$f":"N19","v":2211},{"$f":"COUNTIF(L98:L127,AI19)","v":0},{"$f":"AJ19/(AL4-AJ20)","v":0},{"$f":"IF(AK19=0,0,(AK19*((LOG(AK19))/LOG(2))))","v":0},null,{"$f":"N19","v":2211},{"$f":"COUNTIF(L128:L158,AN19)","v":0},{"$f":"AO19/(AQ4-AO20)","v":0},{"$f":"IF(AP19=0,0,(AP19*((LOG(AP19))/LOG(2))))","v":0},null,{"$f":"N19","v":2211},{"$f":"COUNTIF(L159:L188,AS19)","v":0},{"$f":"AT19/(AV4-AT20)","v":0},{"$f":"IF(AU19=0,0,(AU19*((LOG(AU19))/LOG(2))))","v":0}]
[12,1764,14,1769,13,1775,14,1781,null,null,0,1111,null,2212,{"$f":"COUNTIF($L$7:$L$500,N20)","v":0},{"$f":"O20/$Q$4","v":0},{"$f":"IF(P20=0,0,(P20*((LOG(P20))/LOG(2))))","v":0},null,null,{"$f":"N20","v":2212},{"$f":"COUNTIF(L7:L36,T20)","v":0},null,null,null,{"$f":"N20","v":2212},{"$f":"COUNTIF(L37:L67,Y20)","v":0},null,null,null,{"$f":"N20","v":2212},{"$f":"COUNTIF(L68:L97,AD20)","v":0},null,null,null,{"$f":"N20","v":2212},{"$f":"COUNTIF(L98:L127,AI20)","v":0},null,null,null,{"$f":"N20","v":2212},{"$f":"COUNTIF(L128:L158,AN20)","v":0},null,null,null,{"$f":"N20","v":2212},{"$f":"COUNTIF(L159:L188,AS20)","v":0}]
[12,1884,14,1888,13,1897,23,1910,null,null,0,1112,null,2221,{"$f":"COUNTIF($L$7:$L$500,N21)","v":0},{"$f":"O21/$Q$4","v":0},{"$f":"IF(P21=0,0,(P21*((LOG(P21))/LOG(2))))","v":0},null,null,{"$f":"N21","v":2221},{"$f":"COUNTIF(L7:L36,T21)","v":0},{"$f":"U21/(W4-U20)","v":0},{"$f":"IF(V21=0,0,(V21*((LOG(V21))/LOG(2))))","v":0},null,{"$f":"N21","v":2221},{"$f":"COUNTIF(L37:L67,Y21)","v":0},{"$f":"Z21/(AB4-Z20)","v":0},{"$f":"IF(AA21=0,0,(AA21*((LOG(AA21))/LOG(2))))","v":0},null,{"$f":"N21","v":2221},{"$f":"COUNTIF(L68:L97,AD21)","v":0},{"$f":"AE21/(AG4-AE20)","v":0},{"$f":"IF(AF21=0,0,(AF21*((LOG(AF21))/LOG(2))))","v":0},null,{"$f":"N21","v":2221},{"$f":"COUNTIF(L98:L127,AI21)","v":0},{"$f":"AJ21/(AL4-AJ20)","v":0},{"$f":"IF(AK21=0,0,(AK21*((LOG(AK21))/LOG(2))))","v":0},null,{"$f":"N21","v":2221},{"$f":"COUNTIF(L128:L158,AN21)","v":0},{"$f":"AO21/(AQ4-AO20)","v":0},{"$f":"IF(AP21=0,0,(AP21*((LOG(AP21))/LOG(2))))","v":0},null,{"$f":"N21","v":2221},{"$f":"COUNTIF(L159:L188,AS21)","v":0},{"$f":"AT21/(AV4-AT20)","v":0},{"$f":"IF(AU21=0,0,(AU21*((LOG(AU21))/LOG(2))))","v":0}]
[12,2004,14,2008,13,2012,14,2019,null,null,0,1111,null,2222,{"$f":"COUNTIF($L$7:$L$500,N22)","v":1},{"$f":"O22/$Q$4","v":5.5248618784530384E-3},{"$f":"IF(P22=0,0,(P22*((LOG(P22))/LOG(2))))","v":-4.1435612635818811E-2},null,null,{"$f":"N22","v":2222},{"$f":"COUNTIF(L7:L36,T22)","v":0},{"$f":"U22/(W4-U20)","v":0},{"$f":"IF(V22=0,0,(V22*((LOG(V22))/LOG(2))))","v":0},null,{"$f":"N22","v":2222},{"$f":"COUNTIF(L37:L67,Y22)","v":0},{"$f":"Z22/(AB4-Z20)","v":0},{"$f":"IF(AA22=0,0,(AA22*((LOG(AA22))/LOG(2))))","v":0},null,{"$f":"N22","v":2222},{"$f":"COUNTIF(L68:L97,AD22)","v":1},{"$f":"AE22/(AG4-AE20)","v":3.3333333333333333E-2},{"$f":"IF(AF22=0,0,(AF22*((LOG(AF22))/LOG(2))))","v":-0.16356301985361729},null,{"$f":"N22","v":2222},{"$f":"COUNTIF(L98:L127,AI22)","v":0},{"$f":"AJ22/(AL4-AJ20)","v":0},{"$f":"IF(AK22=0,0,(AK22*((LOG(AK22))/LOG(2))))","v":0},null,{"$f":"N22","v":2222},{"$f":"COUNTIF(L128:L158,AN22)","v":0},{"$f":"AO22/(AQ4-AO20)","v":0},{"$f":"IF(AP22=0,0,(AP22*((LOG(AP22))/LOG(2))))","v":0},null,{"$f":"N22","v":2222},{"$f":"COUNTIF(L159:L188,AS22)","v":0},{"$f":"AT22/(AV4-AT20)","v":0},{"$f":"IF(AU22=0,0,(AU22*((LOG(AU22))/LOG(2))))","v":0}]
[12,2117,14,2137,13,2142,14,2150,null,null,0,1111,null,null,null,{"$f":"SUM(P7:P22)","v":0.99999999999999989},{"$f":"-SUM(Q7:Q22)","v":2.2502042332725756},null,null,null,null,{"$f":"SUM(V7:V22)","v":0.99999999999999989},{"$f":"-SUM(W7:W22)","v":1.5404388162579377},null,null,null,{"$f":"SUM(AA7:AA22)","v":0.99999999999999989},{"$f":"-SUM(AB7:AB22)","v":1.934530488630849},null,null,null,{"$f":"SUM(AF7:AF22)","v":0.99999999999999989},{"$f":"-SUM(AG7:AG22)","v":2.0353967171704537},null,null,null,{"$f":"SUM(AK7:AK22)","v":1},{"$f":"-SUM(AL7:AL22)","v":2.0392933870736067},null,null,null,{"$f":"SUM(AP7:AP22)","v":1},{"$f":"-SUM(AQ7:AQ22)","v":2.0881403321777947},null,null,null,{"$f":"SUM(AU7:AU22)","v":1},{"$f":"-SUM(AV7:AV22)","v":2.3213077948055996}]
[12,2261,14,2267,13,2286,14,2298,null,null,0,1111,null,null,null,"U=",{"$f":"Q23/(LOG(Q4)/LOG(2))","v":0.30003339630592213},null,null,null,null,"U1=",{"$f":"W23/(LOG(W4)/LOG(2))","v":0.31393380109933},null,null,null,"U2=",{"$f":"AB23/(LOG(AB4)/LOG(2))","v":0.39048321209536019},null,null,null,"U3=",{"$f":"AG23/(LOG(AG4)/LOG(2))","v":0.41480376982361428},null,null,null,"U4=",{"$f":"AL23/(LOG(AL4)/LOG(2))","v":0.41559789185002355},null,null,null,"U5=",{"$f":"AQ23/(LOG(AQ4)/LOG(2))","v":0.42148921870533046},null,null,null,"U6=",{"$f":"AV23/(LOG(AV4)/LOG(2))","v":0.47783385672644885}]
[12,2394,14,2412,13,2422,14,2430,null,null,0,1111]
[12,2532,23,2545,24,2550,14,2565,null,null,0,1221]
[12,2661,14,2683,24,2699,23,2707,null,null,0,1122,null,"Total Target Seq"]
[12,2802,14,2806,13,2820,14,2831,null,null,0,1111,null,{"$f":"COUNTIF(L7:L188,G3)","v":0},null,30,31,30,30,31,30]
[12,2927,14,2934,13,2954,14,2959,null,null,0,1111,null,null,null,"% of reinforcement given in 6 equal intervals based on number of trials "]
[12,3059,14,3063,13,3067,14,3077,null,null,0,1111,null,null,null,"%_1","%_2","%_3","%_4","%_5","%_6"]
[12,3173,14,3177,13,3205,14,3210,null,null,0,1111,null,null,"target sequence",{"$f":"$G$3","v":2212},{"$f":"$G$3","v":2212},{"$f":"$G$3","v":2212},{"$f":"$G$3","v":2212},{"$f":"$G$3","v":2212},{"$f":"$G$3","v":2212}]
[12,3310,14,3318,13,3331,14,3336,null,null,0,1111,null,null,"total reinforcement",{"$f":"U20","v":0},{"$f":"Z20","v":0},{"$f":"AE20","v":0},{"$f":"AJ20","v":0},{"$f":"AO20","v":0},{"$f":"AT20","v":0}]
[12,3471,14,3475,13,3481,14,3491,null,null,0,1111,null,null,"% target"]
[12,3600,14,3604,13,3612,14,3630,null,null,0,1111,null,null,"CCRF"]
[12,3740,14,3745,13,3749,14,3757,null,null,0,1111,null,null,"% CCRf"]
[12,3857,14,3864,24,3876,23,3884,null,null,0,1122,null,null,"average response rate",{"$f":"H36/P28","v":129.46666666666667},{"$f":"(H67-H36)/Q28","v":129.2258064516129},{"$f":"(H97-H67)/R28","v":132.66666666666666},{"$f":"(H127-H97)/S28","v":133.13333333333333},{"$f":"(H158-H127)/T28","v":134.38709677419354},{"$f":"(H188-H158)/U28","v":-667.66666666666663}]
[12,3976,14,3984,13,4005,14,4011,null,null,0,1111]
[12,4112,14,4121,13,4132,14,4141,null,null,0,1111]
[12,4236,14,4260,13,4268,14,4276,null,null,0,1111]
[12,4370,14,4377,13,4390,14,4409,null,null,0,1111]
[12,4510,23,4536,24,4544,23,4557,null,null,0,1222]
[12,4652,14,4670,24,4683,23,4691,null,null,0,1122]
[12,4788,14,4808,13,4813,14,4818,null,null,0,1111]
[12,4913,23,4925,24,4934,23,4947,null,null,0,1222]
[12,5044,14,5049,13,5054,14,5066,null,null,0,1111]
[12,5165,14,5179,13,5187,14,5192,null,null,0,1111]
[12,5284,14,5291,13,5297,14,5302,null,null,0,1111]
[12,5449,23,5460,24,5468,23,5480,null,null,0,1222]
[12,5577,14,5595,13,5599,14,5604,null,null,0,1111]
[12,5699,14,5715,13,5720,14,5725,null,null,0,1111]
[12,5835,14,5839,24,5852,23,5859,null,null,0,1122]
[12,5951,14,5968,13,5973,14,5981,null,null,0,1111]
[12,6076,14,6100,13,6110,23,6123,null,null,0,1112]
[12,6218,14,6241,13,6245,14,6254,null,null,0,1111]
[12,6354,14,6369,13,6375,14,6381,null,null,0,1111]
[12,6478,14,6482,13,6487,14,6495,null,null,0,1111]
[12,6592,14,6611,24,6622,23,6629,null,null,0,1122]
[12,6727,14,6732,24,6743,23,6751,null,null,0,1122]
[12,6843,23,6863,24,6870,14,6888,null,null,0,1221]
[12,6983,23,6995,24,6999,23,7007,null,null,0,1222]
[12,7104,14,7108,24,7121,23,7125,null,null,0,1122]
[12,7223,14,7238,13,7242,14,7247,null,null,0,1111]
[12,7342,23,7354,24,7361,14,7386,null,null,0,1221]
[12,7483,14,7487,13,7492,23,7503,null,null,0,1112]
[12,7593,23,7605,24,7618,14,7636,null,null,0,1221]
[12,7731,23,7745,24,7749,14,7764,null,null,0,1221]
[12,7859,14,7867,13,7885,14,7890,null,null,0,1111]
[12,7987,23,8006,24,8015,23,8026,null,null,0,1222]
[12,8119,23,8131,24,8138,23,8155,null,null,0,1222]
[12,8255,14,8272,13,8279,23,8290,null,null,0,1112]
[12,8390,23,8402,24,8409,23,8421,null,null,0,1222]
[12,8519,23,8531,24,8535,23,8548,null,null,0,1222]
[12,8650,23,8661,24,8665,14,8678,null,null,0,1221]
[21,8799,21,8807,22,8820,23,8833,null,null,0,2222]
[12,8928,14,8947,13,8951,14,8956,null,null,0,1111]
[12,9050,23,9062,24,9067,23,9088,null,null,0,1222]
[12,9191,14,9212,13,9218,14,9227,null,null,0,1111]
[12,9324,14,9338,24,9350,23,9357,null,null,0,1122]
[12,9450,23,9463,24,9471,23,9486,null,null,0,1222]
[12,9586,23,9598,24,9603,23,9616,null,null,0,1222]
[12,9715,14,9719,13,9744,14,9749,null,null,0,1111]
[12,9857,14,9862,13,9870,14,9874,null,null,0,1111]
[12,9988,14,9993,13,9998,14,10005,null,null,0,1111]
[12,10103,14,10124,13,10130,23,10141,null,null,0,1112]
[12,10249,14,10270,13,10274,14,10281,null,null,0,1111]
[12,10378,14,10397,13,10404,14,10415,null,null,0,1111]
[12,10514,14,10533,13,10539,14,10543,null,null,0,1111]
[12,10642,14,10655,24,10668,23,10676,null,null,0,1122]
[12,10771,14,10783,13,10788,14,10793,null,null,0,1111]
[12,10885,14,10898,13,10919,14,10923,null,null,0,1111]
[12,11039,23,11051,24,11058,23,11072,null,null,0,1222]
[12,11171,23,11182,24,11189,23,11205,null,null,0,1222]
[12,11306,14,11319,13,11335,14,11340,null,null,0,1111]
[12,11439,14,11452,13,11468,23,11480,null,null,0,1112]
[12,11577,14,11585,13,11601,14,11606,null,null,0,1111]
[12,11696,14,11715,24,11727,23,11734,null,null,0,1122]
[12,11836,14,11843,13,11848,14,11870,null,null,0,1111]
[12,11972,14,11977,13,11982,14,11987,null,null,0,1111]
[12,12093,14,12098,13,12103,14,12107,null,null,0,1111]
[12,12214,14,12229,13,12241,14,12248,null,null,0,1111]
[12,12345,14,12357,24,12381,23,12388,null,null,0,1122]
[12,12485,14,12489,24,12523,23,12534,null,null,0,1122]
[12,12629,14,12638,13,12645,14,12654,null,null,0,1111]
[12,12751,23,12772,24,12779,23,12792,null,null,0,1222]
[12,12890,14,12903,13,12908,14,12913,null,null,0,1111]
[12,13010,14,13016,24,13027,23,13032,null,null,0,1122]
[12,13127,23,13141,24,13147,14,13164,null,null,0,1221]
[12,13268,23,13280,24,13288,23,13300,null,null,0,1222]
[12,13397,14,13404,24,13425,23,13432,null,null,0,1122]
[12,13532,14,13546,13,13551,23,13565,null,null,0,1112]
[12,13661,23,13682,24,13690,23,13703,null,null,0,1222]
[12,13801,14,13808,13,13819,23,13838,null,null,0,1112]
[12,13935,14,13943,24,13959,23,13967,null,null,0,1122]
[12,14064,14,14073,13,14088,14,14093,null,null,0,1111]
[12,14203,14,14211,24,14222,23,14230,null,null,0,1122]
[12,14327,14,14351,24,14364,23,14372,null,null,0,1122]
[12,14472,14,14479,13,14504,14,14518,null,null,0,1111]
[12,14616,14,14637,24,14660,23,14669,null,null,0,1122]
[12,14769,14,14783,24,14796,23,14804,null,null,0,1122]
[12,14902,23,14925,24,14933,23,14958,null,null,0,1222]
[12,15054,14,15069,13,15076,23,15091,null,null,0,1112]
[12,15183,14,15206,13,15211,14,15216,null,null,0,1111]
[12,15311,14,15328,13,15334,14,15343,null,null,0,1111]
[12,15440,14,15447,13,15462,14,15473,null,null,0,1111]
[12,15570,14,15584,13,15603,14,15610,null,null,0,1111]
[12,15707,14,15717,24,15727,23,15734,null,null,0,1122]
[12,15833,23,15845,24,15851,14,15864,null,null,0,1221]
[12,15959,14,15975,13,15983,23,16015,null,null,0,1112]
[12,16116,23,16135,24,16140,23,16148,null,null,0,1222]
[12,16249,14,16261,13,16266,14,16270,null,null,0,1111]
[12,16370,14,16385,24,16398,23,16406,null,null,0,1122]
[12,16500,23,16513,24,16518,23,16532,null,null,0,1222]
[12,16630,14,16650,24,16662,23,16670,null,null,0,1122]
[12,16767,14,16774,24,16787,23,16795,null,null,0,1122]
[12,16892,14,16901,13,16918,14,16926,null,null,0,1111]
[12,17019,14,17044,13,17052,14,17059,null,null,0,1111]
[12,17157,14,17166,24,17180,23,17189,null,null,0,1122]
[12,17289,14,17301,24,17319,23,17327,null,null,0,1122]
[12,17425,14,17444,13,17450,14,17455,null,null,0,1111]
[12,17555,14,17563,13,17579,23,17593,null,null,0,1112]
[12,17683,23,17705,24,17709,23,17723,null,null,0,1222]
[12,17824,14,17828,24,17844,23,17853,null,null,0,1122]
[12,17949,14,17955,24,17968,23,17976,null,null,0,1122]
[12,18073,14,18077,24,18091,23,18099,null,null,0,1122]
[12,18195,14,18200,24,18212,23,18217,null,null,0,1122]
[12,18313,14,18321,13,18345,14,18349,null,null,0,1111]
[12,18447,23,18467,24,18475,23,18488,null,null,0,1222]
[12,18588,14,18601,13,18606,14,18611,null,null,0,1111]
[12,18706,23,18727,24,18736,23,18752,null,null,0,1222]
[12,18849,23,18861,24,18870,23,18883,null,null,0,1222]
[12,18979,14,18995,24,19006,23,19031,null,null,0,1122]
[12,19123,23,19147,24,19155,14,19173,null,null,0,1221]
[12,19269,23,19299,24,19311,23,19326,null,null,0,1222]
[12,19422,23,19442,24,19450,23,19470,null,null,0,1222]
[12,19567,23,19579,24,19587,23,19600,null,null,0,1222]
[12,19701,14,19713,24,19724,23,19735,null,null,0,1122]
[12,19826,23,19839,24,19848,14,19886,null,null,0,1221]
[12,19991,23,20003,24,20010,14,20030,null,null,0,1221]
[12,20129,14,20140,24,20151,23,20158,null,null,0,1122]
[12,20248,14,20258,24,20270,23,20274,null,null,0,1122]
[12,20371,14,20379,24,20391,23,20412,null,null,0,1122]
[12,20511,14,20519,24,20530,23,20538,null,null,0,1122]
[12,20639,14,20651,13,20673,14,20678,null,null,0,1111]
[12,20775,14,20801,24,20811,23,20819,null,null,0,1122]
[12,20917,14,20928,13,20934,14,20938,null,null,0,1111]
[12,21037,23,21056,24,21063,14,21082,null,null,0,1221]
[12,21174,14,21192,13,21198,14,21206,null,null,0,1111]
[12,21302,23,21314,24,21322,23,21335,null,null,0,1222]
[12,21432,14,21447,13,21453,14,21458,null,null,0,1111]
[12,21553,14,21559,24,21579,23,21587,null,null,0,1122]
[12,21693,14,21699,13,21711,14,21719,null,null,0,1111]
[12,21816,14,21827,24,21842,14,21871,null,null,0,1121]
[12,21966,14,21976,24,21987,23,21994,null,null,0,1122]
[12,22096,23,22117,24,22126,23,22142,null,null,0,1222]
[12,22233,23,22257,24,22269,23,22282,null,null,0,1222]
[12,22376,14,22387,24,22399,23,22405,null,null,0,1122]
[12,22506,14,22520,13,22526,14,22529,null,null,0,1111]
[12,22624,23,22636,13,22651,23,22662,null,null,0,1212]
[12,22754,14,22773,24,22787,23,22800,null,null,0,1122]
[12,22893,23,22908,13,22925,14,22934,null,null,0,1211]
[12,23035,23,23048,24,23055,14,23074,null,null,0,1221]
[12,23174,23,23196,13,23216,23,23246,null,null,0,1212]
[12,23356,14,23363,13,23369,14,23376,null,null,0,1111]
[12,23475,14,23492,24,23502,23,23510,null,null,0,1122]
[12,23608,14,23621,24,23632,23,23640,null,null,0,1122]
[12,23735,14,23743,13,23759,14,23765,null,null,0,1111]
[12,23860,23,23870,13,23882,23,23893,null,null,0,1212]
[12,23988,23,23997,null,null,null,null,null,null,null,12]

{"sheet":"!M820930.000","index":7,"n_rows":184,"n_cols":48,"rows_kept":184,"cut":false,"hidden":false,"merged":[[4,39,4,42],[5,39,5,40],[4,44,4,47],[5,44,5,45],[4,24,4,27],[5,24,5,25],[4,29,4,32],[5,29,5,30],[4,34,4,37],[5,34,5,35],[1,1,1,2],[5,13,5,14],[26,13,26,14],[27,13,27,14],[4,19,4,22],[5,19,5,20]]}
["Report for:!M820930.000"]
["Date:","<date>"]
["Hen:","<hen>",null,null,null,"Correct Sequence",{"$f":"Start!J2","v":2212},null,null,null,null,null,null,null,null,"Total Sequences in Data",{"$f":"4994-COUNTBLANK(L7:L5000)","v":178},null,null,null,null,"Total Sequences in Block Data",{"$f":"COUNTA(L7:L36)","v":30},null,null,null,"Total Sequences in Block Data",{"$f":"COUNTA(L37:L65)","v":29},null,null,null,"Total Sequences in Block Data",{"$f":"COUNTA(L66:L95)","v":30},null,null,null,"Total Sequences in Block Data",{"$f":"COUNTA(L96:L125)","v":30},null,null,null,"Total Sequences in Block Data",{"$f":"COUNTA(L126:L154)","v":29},null,null,null,"Total Sequences in Block Data",{"$f":"COUNTA(L155:L184)","v":30}]
[null,null,null,null,null,null,null,null,null,null,null,null,null,null,null,"Total Sequences in Summary",{"$f":"SUM(O7:O22)","v":177},null,null,null,null,"Total Sequences in Block Summary",{"$f":"SUM(U7:U22)","v":30},null,null,null,"Total Sequences in Block Summary",{"$f":"SUM(Z7:Z22)","v":29},null,null,null,"Total Sequences in Block Summary",{"$f":"SUM(AE7:AE22)","v":30},null,null,null,"Total Sequences in Block Summary",{"$f":"SUM(AJ7:AJ22)","v":30},null,null,null,"Total Sequences in Block Summary",{"$f":"SUM(AO7:AO22)","v":29},null,null,null,"Total Sequences in Block Summary",{"$f":"SUM(AT7:AT22)","v":29}]
[null,null,null,null,null,null,null,null,null,null,null,null,null,null,null,null,null,null,null,"Block 1",null,null,null,null,"Block 2",null,null,null,null,"Block 3",null,null,null,null,"Block 4",null,null,null,null,"Block 5",null,null,null,null,"Block 6"]
["Sequence\nComponent\n1","Time\n1","Sequence\nComponent\n2","Time\n2","Sequence\nComponent\n3","Time\n3","Sequence\nComponent\n4","Time\n4","Sequence\nComponent\n5","Time\n5","Correct?\n0=No 1=Yes","Sequence",null,"Frequency",null,"Relative Frequency","Variability",null,null,"Frequency",null,"Relative Frequency","Variability",null,"Frequency",null,"Relative Frequency","Variability",null,"Frequency",null,"Relative Frequency","Variability",null,"Frequency",null,"Relative Frequency","Variability",null,"Frequency",null,"Relative Frequency","Variability",null,"Frequency",null,"Relative Frequency","Variability"]
[21,61,21,72,11,84,21,97,null,null,0,2212,null,1111,{"$f":"COUNTIF($L$7:$L$500,N7)","v":35},{"$f":"O7/$Q$4","v":0.19774011299435029},{"$f":"IF(P7=0,0,(P7*((LOG(P7))/LOG(2))))","v":-0.46238016191994963},null,null,{"$f":"N7","v":1111},{"$f":"COUNTIF(L7:L36,T7)","v":6},{"$f":"U7/(W4-U20)","v":0.20689655172413793},{"$f":"IF(V7=0,0,(V7*((LOG(V7))/LOG(2))))","v":-0.4702796884978791},null,{"$f":"N7","v":1111},{"$f":"COUNTIF(L37:L65,Y7)","v":5},{"$f":"Z7/(AB4-Z20)","v":0.17241379310344829},{"$f":"IF(AA7=0,0,(AA7*((LOG(AA7))/LOG(2))))","v":-0.43725050004141547},null,{"$f":"N7","v":1111},{"$f":"COUNTIF(L66:L95,AD7)","v":2},{"$f":"AE7/(AG4-AE20)","v":6.6666666666666666E-2},{"$f":"IF(AF7=0,0,(AF7*((LOG(AF7))/LOG(2))))","v":-0.26045937304056793},null,{"$f":"N7","v":1111},{"$f":"COUNTIF(L96:L125,AI7)","v":2},{"$f":"AJ7/(AL4-AJ20)","v":6.6666666666666666E-2},{"$f":"IF(AK7=0,0,(AK7*((LOG(AK7))/LOG(2))))","v":-0.26045937304056793},null,{"$f":"N7","v":1111},{"$f":"COUNTIF(L126:L154,AN7)","v":10},{"$f":"AO7/(AQ4-AO20)","v":0.34482758620689657},{"$f":"IF(AP7=0,0,(AP7*((LOG(AP7))/LOG(2))))","v":-0.52967341387593436},null,{"$f":"N7","v":1111},{"$f":"COUNTIF(L155:L184,AS7)","v":10},{"$f":"AT7/(AV4-AT20)","v":0.34482758620689657},{"$f":"IF(AU7=0,0,(AU7*((LOG(AU7))/LOG(2))))","v":-0.52967341387593436}]
[12,208,14,227,24,239,23,246,null,null,0,1122,null,1112,{"$f":"COUNTIF($L$7:$L$500,N8)","v":23},{"$f":"O8/$Q$4","v":0.12994350282485875},{"$f":"IF(P8=0,0,(P8*((LOG(P8))/LOG(2))))","v":-0.38255933707682283},null,null,{"$f":"N8","v":1112},{"$f":"COUNTIF(L7:L36,T8)","v":5},{"$f":"U8/(W4-U20)","v":0.17241379310344829},{"$f":"IF(V8=0,0,(V8*((LOG(V8))/LOG(2))))","v":-0.43725050004141547},null,{"$f":"N8","v":1112},{"$f":"COUNTIF(L37:L65,Y8)","v":2},{"$f":"Z8/(AB4-Z20)","v":6.8965517241379309E-2},{"$f":"IF(AA8=0,0,(AA8*((LOG(AA8))/LOG(2))))","v":-0.26606765483638428},null,{"$f":"N8","v":1112},{"$f":"COUNTIF(L66:L95,AD8)","v":2},{"$f":"AE8/(AG4-AE20)","v":6.6666666666666666E-2},{"$f":"IF(AF8=0,0,(AF8*((LOG(AF8))/LOG(2))))","v":-0.26045937304056793},null,{"$f":"N8","v":1112},{"$f":"COUNTIF(L96:L125,AI8)","v":2},{"$f":"AJ8/(AL4-AJ20)","v":6.6666666666666666E-2},{"$f":"IF(AK8=0,0,(AK8*((LOG(AK8))/LOG(2))))","v":-0.26045937304056793},null,{"$f":"N8","v":1112},{"$f":"COUNTIF(L126:L154,AN8)","v":7},{"$f":"AO8/(AQ4-AO20)","v":0.2413793103448276},{"$f":"IF(AP8=0,0,(AP8*((LOG(AP8))/LOG(2))))","v":-0.49497870729275095},null,{"$f":"N8","v":1112},{"$f":"COUNTIF(L155:L184,AS8)","v":5},{"$f":"AT8/(AV4-AT20)","v":0.17241379310344829},{"$f":"IF(AU8=0,0,(AU8*((LOG(AU8))/LOG(2))))","v":-0.43725050004141547}]
[12,353,23,362,24,371,14,388,null,null,0,1221,null,1121,{"$f":"COUNTIF($L$7:$L$500,N9)","v":3},{"$f":"O9/$Q$4","v":1.6949152542372881E-2},{"$f":"IF(P9=0,0,(P9*((LOG(P9))/LOG(2))))","v":-9.9705814395963419E-2},null,null,{"$f":"N9","v":1121},{"$f":"COUNTIF(L7:L36,T9)","v":1},{"$f":"U9/(W4-U20)","v":3.4482758620689655E-2},{"$f":"IF(V9=0,0,(V9*((LOG(V9))/LOG(2))))","v":-0.16751658603888178},null,{"$f":"N9","v":1121},{"$f":"COUNTIF(L37:L65,Y9)","v":0},{"$f":"Z9/(AB4-Z20)","v":0},{"$f":"IF(AA9=0,0,(AA9*((LOG(AA9))/LOG(2))))","v":0},null,{"$f":"N9","v":1121},{"$f":"COUNTIF(L66:L95,AD9)","v":0},{"$f":"AE9/(AG4-AE20)","v":0},{"$f":"IF(AF9=0,0,(AF9*((LOG(AF9))/LOG(2))))","v":0},null,{"$f":"N9","v":1121},{"$f":"COUNTIF(L96:L125,AI9)","v":0},{"$f":"AJ9/(AL4-AJ20)","v":0},{"$f":"IF(AK9=0,0,(AK9*((LOG(AK9))/LOG(2))))","v":0},null,{"$f":"N9","v":1121},{"$f":"COUNTIF(L126:L154,AN9)","v":0},{"$f":"AO9/(AQ4-AO20)","v":0},{"$f":"IF(AP9=0,0,(AP9*((LOG(AP9))/LOG(2))))","v":0},null,{"$f":"N9","v":1121},{"$f":"COUNTIF(L155:L184,AS9)","v":2},{"$f":"AT9/(AV4-AT20)","v":6.8965517241379309E-2},{"$f":"IF(AU9=0,0,(AU9*((LOG(AU9))/LOG(2))))","v":-0.26606765483638428}]
[12,495,14,502,13,509,23,519,null,null,0,1112,null,1122,{"$f":"COUNTIF($L$7:$L$500,N10)","v":64},{"$f":"O10/$Q$4","v":0.3615819209039548},{"$f":"IF(P10=0,0,(P10*((LOG(P10))/LOG(2))))","v":-0.5306596339283155},null,null,{"$f":"N10","v":1122},{"$f":"COUNTIF(L7:L36,T10)","v":8},{"$f":"U10/(W4-U20)","v":0.27586206896551724},{"$f":"IF(V10=0,0,(V10*((LOG(V10))/LOG(2))))","v":-0.51254648141450265},null,{"$f":"N10","v":1122},{"$f":"COUNTIF(L37:L65,Y10)","v":9},{"$f":"Z10/(AB4-Z20)","v":0.31034482758620691},{"$f":"IF(AA10=0,0,(AA10*((LOG(AA10))/LOG(2))))","v":-0.52387944631611505},null,{"$f":"N10","v":1122},{"$f":"COUNTIF(L66:L95,AD10)","v":12},{"$f":"AE10/(AG4-AE20)","v":0.4},{"$f":"IF(AF10=0,0,(AF10*((LOG(AF10))/LOG(2))))","v":-0.52877123795494496},null,{"$f":"N10","v":1122},{"$f":"COUNTIF(L96:L125,AI10)","v":18},{"$f":"AJ10/(AL4-AJ20)","v":0.6},{"$f":"IF(AK10=0,0,(AK10*((LOG(AK10))/LOG(2))))","v":-0.44217935649972373},null,{"$f":"N10","v":1122},{"$f":"COUNTIF(L126:L154,AN10)","v":10},{"$f":"AO10/(AQ4-AO20)","v":0.34482758620689657},{"$f":"IF(AP10=0,0,(AP10*((LOG(AP10))/LOG(2))))","v":-0.52967341387593436},null,{"$f":"N10","v":1122},{"$f":"COUNTIF(L155:L184,AS10)","v":7},{"$f":"AT10/(AV4-AT20)","v":0.2413793103448276},{"$f":"IF(AU10=0,0,(AU10*((LOG(AU10))/LOG(2))))","v":-0.49497870729275095}]
[12,619,14,627,24,638,23,644,null,null,0,1122,null,1211,{"$f":"COUNTIF($L$7:$L$500,N11)","v":2},{"$f":"O11/$Q$4","v":1.1299435028248588E-2},{"$f":"IF(P11=0,0,(P11*((LOG(P11))/LOG(2))))","v":-7.3080288701502794E-2},null,null,{"$f":"N11","v":1211},{"$f":"COUNTIF(L7:L36,T11)","v":0},{"$f":"U11/(W4-U20)","v":0},{"$f":"IF(V11=0,0,(V11*((LOG(V11))/LOG(2))))","v":0},null,{"$f":"N11","v":1211},{"$f":"COUNTIF(L37:L65,Y11)","v":1},{"$f":"Z11/(AB4-Z20)","v":3.4482758620689655E-2},{"$f":"IF(AA11=0,0,(AA11*((LOG(AA11))/LOG(2))))","v":-0.16751658603888178},null,{"$f":"N11","v":1211},{"$f":"COUNTIF(L66:L95,AD11)","v":1},{"$f":"AE11/(AG4-AE20)","v":3.3333333333333333E-2},{"$f":"IF(AF11=0,0,(AF11*((LOG(AF11))/LOG(2))))","v":-0.16356301985361729},null,{"$f":"N11","v":1211},{"$f":"COUNTIF(L96:L125,AI11)","v":0},{"$f":"AJ11/(AL4-AJ20)","v":0},{"$f":"IF(AK11=0,0,(AK11*((LOG(AK11))/LOG(2))))","v":0},null,{"$f":"N11","v":1211},{"$f":"COUNTIF(L126:L154,AN11)","v":0},{"$f":"AO11/(AQ4-AO20)","v":0},{"$f":"IF(AP11=0,0,(AP11*((LOG(AP11))/LOG(2))))","v":0},null,{"$f":"N11","v":1211},{"$f":"COUNTIF(L155:L184,AS11)","v":0},{"$f":"AT11/(AV4-AT20)","v":0},{"$f":"IF(AU11=0,0,(AU11*((LOG(AU11))/LOG(2))))","v":0}]
[12,743,14,751,13,773,14,782,null,null,0,1111,null,1212,{"$f":"COUNTIF($L$7:$L$500,N12)","v":0},{"$f":"O12/$Q$4","v":0},{"$f":"IF(P12=0,0,(P12*((LOG(P12))/LOG(2))))","v":0},null,null,{"$f":"N12","v":1212},{"$f":"COUNTIF(L7:L36,T12)","v":0},{"$f":"U12/(W4-U20)","v":0},{"$f":"IF(V12=0,0,(V12*((LOG(V12))/LOG(2))))","v":0},null,{"$f":"N12","v":1212},{"$f":"COUNTIF(L37:L65,Y12)","v":0},{"$f":"Z12/(AB4-Z20)","v":0},{"$f":"IF(AA12=0,0,(AA12*((LOG(AA12))/LOG(2))))","v":0},null,{"$f":"N12","v":1212},{"$f":"COUNTIF(L66:L95,AD12)","v":0},{"$f":"AE12/(AG4-AE20)","v":0},{"$f":"IF(AF12=0,0,(AF12*((LOG(AF12))/LOG(2))))","v":0},null,{"$f":"N12","v":1212},{"$f":"COUNTIF(L96:L125,AI12)","v":0},{"$f":"AJ12/(AL4-AJ20)","v":0},{"$f":"IF(AK12=0,0,(AK12*((LOG(AK12))/LOG(2))))","v":0},null,{"$f":"N12","v":1212},{"$f":"COUNTIF(L126:L154,AN12)","v":0},{"$f":"AO12/(AQ4-AO20)","v":0},{"$f":"IF(AP12=0,0,(AP12*((LOG(AP12))/LOG(2))))","v":0},null,{"$f":"N12","v":1212},{"$f":"COUNTIF(L155:L184,AS12)","v":0},{"$f":"AT12/(AV4-AT20)","v":0},{"$f":"IF(AU12=0,0,(AU12*((LOG(AU12))/LOG(2))))","v":0}]
[21,898,21,905,11,919,12,927,null,null,0,2211,null,1221,{"$f":"COUNTIF($L$7:$L$500,N13)","v":10},{"$f":"O13/$Q$4","v":5.6497175141242938E-2},{"$f":"IF(P13=0,0,(P13*((LOG(P13))/LOG(2))))","v":-0.2342190652652901},null,null,{"$f":"N13","v":1221},{"$f":"COUNTIF(L7:L36,T13)","v":4},{"$f":"U13/(W4-U20)","v":0.13793103448275862},{"$f":"IF(V13=0,0,(V13*((LOG(V13))/LOG(2))))","v":-0.39420427519000989},null,{"$f":"N13","v":1221},{"$f":"COUNTIF(L37:L65,Y13)","v":4},{"$f":"Z13/(AB4-Z20)","v":0.13793103448275862},{"$f":"IF(AA13=0,0,(AA13*((LOG(AA13))/LOG(2))))","v":-0.39420427519000989},null,{"$f":"N13","v":1221},{"$f":"COUNTIF(L66:L95,AD13)","v":1},{"$f":"AE13/(AG4-AE20)","v":3.3333333333333333E-2},{"$f":"IF(AF13=0,0,(AF13*((LOG(AF13))/LOG(2))))","v":-0.16356301985361729},null,{"$f":"N13","v":1221},{"$f":"COUNTIF(L96:L125,AI13)","v":1},{"$f":"AJ13/(AL4-AJ20)","v":3.3333333333333333E-2},{"$f":"IF(AK13=0,0,(AK13*((LOG(AK13))/LOG(2))))","v":-0.16356301985361729},null,{"$f":"N13","v":1221},{"$f":"COUNTIF(L126:L154,AN13)","v":0},{"$f":"AO13/(AQ4-AO20)","v":0},{"$f":"IF(AP13=0,0,(AP13*((LOG(AP13))/LOG(2))))","v":0},null,{"$f":"N13","v":1221},{"$f":"COUNTIF(L155:L184,AS13)","v":0},{"$f":"AT13/(AV4-AT20)","v":0},{"$f":"IF(AU13=0,0,(AU13*((LOG(AU13))/LOG(2))))","v":0}]
[12,1026,14,1034,24,1045,23,1053,null,null,0,1122,null,1222,{"$f":"COUNTIF($L$7:$L$500,N14)","v":30},{"$f":"O14/$Q$4","v":0.16949152542372881},{"$f":"IF(P14=0,0,(P14*((LOG(P14))/LOG(2))))","v":-0.43401948380923372},null,null,{"$f":"N14","v":1222},{"$f":"COUNTIF(L7:L36,T14)","v":3},{"$f":"U14/(W4-U20)","v":0.10344827586206896},{"$f":"IF(V14=0,0,(V14*((LOG(V14))/LOG(2))))","v":-0.33858812011100858},null,{"$f":"N14","v":1222},{"$f":"COUNTIF(L37:L65,Y14)","v":5},{"$f":"Z14/(AB4-Z20)","v":0.17241379310344829},{"$f":"IF(AA14=0,0,(AA14*((LOG(AA14))/LOG(2))))","v":-0.43725050004141547},null,{"$f":"N14","v":1222},{"$f":"COUNTIF(L66:L95,AD14)","v":10},{"$f":"AE14/(AG4-AE20)","v":0.33333333333333331},{"$f":"IF(AF14=0,0,(AF14*((LOG(AF14))/LOG(2))))","v":-0.52832083357371862},null,{"$f":"N14","v":1222},{"$f":"COUNTIF(L96:L125,AI14)","v":6},{"$f":"AJ14/(AL4-AJ20)","v":0.2},{"$f":"IF(AK14=0,0,(AK14*((LOG(AK14))/LOG(2))))","v":-0.46438561897747244},null,{"$f":"N14","v":1222},{"$f":"COUNTIF(L126:L154,AN14)","v":2},{"$f":"AO14/(AQ4-AO20)","v":6.8965517241379309E-2},{"$f":"IF(AP14=0,0,(AP14*((LOG(AP14))/LOG(2))))","v":-0.26606765483638428},null,{"$f":"N14","v":1222},{"$f":"COUNTIF(L155:L184,AS14)","v":4},{"$f":"AT14/(AV4-AT20)","v":0.13793103448275862},{"$f":"IF(AU14=0,0,(AU14*((LOG(AU14))/LOG(2))))","v":-0.39420427519000989}]
[12,1152,14,1159,13,1178,14,1183,null,null,0,1111,null,2111,{"$f":"COUNTIF($L$7:$L$500,N15)","v":0},{"$f":"O15/$Q$4","v":0},{"$f":"IF(P15=0,0,(P15*((LOG(P15))/LOG(2))))","v":0},null,null,{"$f":"N15","v":2111},{"$f":"COUNTIF(L7:L36,T15)","v":0},{"$f":"U15/(W4-U20)","v":0},{"$f":"IF(V15=0,0,(V15*((LOG(V15))/LOG(2))))","v":0},null,{"$f":"N15","v":2111},{"$f":"COUNTIF(L37:L65,Y15)","v":0},{"$f":"Z15/(AB4-Z20)","v":0},{"$f":"IF(AA15=0,0,(AA15*((LOG(AA15))/LOG(2))))","v":0},null,{"$f":"N15","v":2111},{"$f":"COUNTIF(L66:L95,AD15)","v":0},{"$f":"AE15/(AG4-AE20)","v":0},{"$f":"IF(AF15=0,0,(AF15*((LOG(AF15))/LOG(2))))","v":0},null,{"$f":"N15","v":2111},{"$f":"COUNTIF(L96:L125,AI15)","v":0},{"$f":"AJ15/(AL4-AJ20)","v":0},{"$f":"IF(AK15=0,0,(AK15*((LOG(AK15))/LOG(2))))","v":0},null,{"$f":"N15","v":2111},{"$f":"COUNTIF(L126:L154,AN15)","v":0},{"$f":"AO15/(AQ4-AO20)","v":0},{"$f":"IF(AP15=0,0,(AP15*((LOG(AP15))/LOG(2))))","v":0},null,{"$f":"N15","v":2111},{"$f":"COUNTIF(L155:L184,AS15)","v":0},{"$f":"AT15/(AV4-AT20)","v":0},{"$f":"IF(AU15=0,0,(AU15*((LOG(AU15))/LOG(2))))","v":0}]
[12,1275,23,1314,24,1322,14,1336,null,null,0,1221,null,2112,{"$f":"COUNTIF($L$7:$L$500,N16)","v":0},{"$f":"O16/$Q$4","v":0},{"$f":"IF(P16=0,0,(P16*((LOG(P16))/LOG(2))))","v":0},null,null,{"$f":"N16","v":2112},{"$f":"COUNTIF(L7:L36,T16)","v":0},{"$f":"U16/(W4-U20)","v":0},{"$f":"IF(V16=0,0,(V16*((LOG(V16))/LOG(2))))","v":0},null,{"$f":"N16","v":2112},{"$f":"COUNTIF(L37:L65,Y16)","v":0},{"$f":"Z16/(AB4-Z20)","v":0},{"$f":"IF(AA16=0,0,(AA16*((LOG(AA16))/LOG(2))))","v":0},null,{"$f":"N16","v":2112},{"$f":"COUNTIF(L66:L95,AD16)","v":0},{"$f":"AE16/(AG4-AE20)","v":0},{"$f":"IF(AF16=0,0,(AF16*((LOG(AF16))/LOG(2))))","v":0},null,{"$f":"N16","v":2112},{"$f":"COUNTIF(L96:L125,AI16)","v":0},{"$f":"AJ16/(AL4-AJ20)","v":0},{"$f":"IF(AK16=0,0,(AK16*((LOG(AK16))/LOG(2))))","v":0},null,{"$f":"N16","v":2112},{"$f":"COUNTIF(L126:L154,AN16)","v":0},{"$f":"AO16/(AQ4-AO20)","v":0},{"$f":"IF(AP16=0,0,(AP16*((LOG(AP16))/LOG(2))))","v":0},null,{"$f":"N16","v":2112},{"$f":"COUNTIF(L155:L184,AS16)","v":0},{"$f":"AT16/(AV4-AT20)","v":0},{"$f":"IF(AU16=0,0,(AU16*((LOG(AU16))/LOG(2))))","v":0}]
[12,1444,14,1465,24,1476,23,1484,null,null,0,1122,null,2121,{"$f":"COUNTIF($L$7:$L$500,N17)","v":0},{"$f":"O17/$Q$4","v":0},{"$f":"IF(P17=0,0,(P17*((LOG(P17))/LOG(2))))","v":0},null,null,{"$f":"N17","v":2121},{"$f":"COUNTIF(L7:L36,T17)","v":0},{"$f":"U17/(W4-U20)","v":0},{"$f":"IF(V17=0,0,(V17*((LOG(V17))/LOG(2))))","v":0},null,{"$f":"N17","v":2121},{"$f":"COUNTIF(L37:L65,Y17)","v":0},{"$f":"Z17/(AB4-Z20)","v":0},{"$f":"IF(AA17=0,0,(AA17*((LOG(AA17))/LOG(2))))","v":0},null,{"$f":"N17","v":2121},{"$f":"COUNTIF(L66:L95,AD17)","v":0},{"$f":"AE17/(AG4-AE20)","v":0},{"$f":"IF(AF17=0,0,(AF17*((LOG(AF17))/LOG(2))))","v":0},null,{"$f":"N17","v":2121},{"$f":"COUNTIF(L96:L125,AI17)","v":0},{"$f":"AJ17/(AL4-AJ20)","v":0},{"$f":"IF(AK17=0,0,(AK17*((LOG(AK17))/LOG(2))))","v":0},null,{"$f":"N17","v":2121},{"$f":"COUNTIF(L126:L154,AN17)","v":0},{"$f":"AO17/(AQ4-AO20)","v":0},{"$f":"IF(AP17=0,0,(AP17*((LOG(AP17))/LOG(2))))","v":0},null,{"$f":"N17","v":2121},{"$f":"COUNTIF(L155:L184,AS17)","v":0},{"$f":"AT17/(AV4-AT20)","v":0},{"$f":"IF(AU17=0,0,(AU17*((LOG(AU17))/LOG(2))))","v":0}]
[12,1587,14,1609,13,1615,14,1619,null,null,0,1111,null,2122,{"$f":"COUNTIF($L$7:$L$500,N18)","v":1},{"$f":"O18/$Q$4","v":5.6497175141242938E-3},{"$f":"IF(P18=0,0,(P18*((LOG(P18))/LOG(2))))","v":-4.2189861864875694E-2},null,null,{"$f":"N18","v":2122},{"$f":"COUNTIF(L7:L36,T18)","v":0},{"$f":"U18/(W4-U20)","v":0},{"$f":"IF(V18=0,0,(V18*((LOG(V18))/LOG(2))))","v":0},null,{"$f":"N18","v":2122},{"$f":"COUNTIF(L37:L65,Y18)","v":1},{"$f":"Z18/(AB4-Z20)","v":3.4482758620689655E-2},{"$f":"IF(AA18=0,0,(AA18*((LOG(AA18))/LOG(2))))","v":-0.16751658603888178},null,{"$f":"N18","v":2122},{"$f":"COUNTIF(L66:L95,AD18)","v":0},{"$f":"AE18/(AG4-AE20)","v":0},{"$f":"IF(AF18=0,0,(AF18*((LOG(AF18))/LOG(2))))","v":0},null,{"$f":"N18","v":2122},{"$f":"COUNTIF(L96:L125,AI18)","v":0},{"$f":"AJ18/(AL4-AJ20)","v":0},{"$f":"IF(AK18=0,0,(AK18*((LOG(AK18))/LOG(2))))","v":0},null,{"$f":"N18","v":2122},{"$f":"COUNTIF(L126:L154,AN18)","v":0},{"$f":"AO18/(AQ4-AO20)","v":0},{"$f":"IF(AP18=0,0,(AP18*((LOG(AP18))/LOG(2))))","v":0},null,{"$f":"N18","v":2122},{"$f":"COUNTIF(L155:L184,AS18)","v":0},{"$f":"AT18/(AV4-AT20)","v":0},{"$f":"IF(AU18=0,0,(AU18*((LOG(AU18))/LOG(2))))","v":0}]
[12,1717,14,1724,24,1736,14,1752,null,null,0,1121,null,2211,{"$f":"COUNTIF($L$7:$L$500,N19)","v":1},{"$f":"O19/$Q$4","v":5.6497175141242938E-3},{"$f":"IF(P19=0,0,(P19*((LOG(P19))/LOG(2))))","v":-4.2189861864875694E-2},null,null,{"$f":"N19","v":2211},{"$f":"COUNTIF(L7:L36,T19)","v":1},{"$f":"U19/(W4-U20)","v":3.4482758620689655E-2},{"$f":"IF(V19=0,0,(V19*((LOG(V19))/LOG(2))))","v":-0.16751658603888178},null,{"$f":"N19","v":2211},{"$f":"COUNTIF(L37:L65,Y19)","v":0},{"$f":"Z19/(AB4-Z20)","v":0},{"$f":"IF(AA19=0,0,(AA19*((LOG(AA19))/LOG(2))))","v":0},null,{"$f":"N19","v":2211},{"$f":"COUNTIF(L66:L95,AD19)","v":0},{"$f":"AE19/(AG4-AE20)","v":0},{"$f":"IF(AF19=0,0,(AF19*((LOG(AF19))/LOG(2))))","v":0},null,{"$f":"N19","v":2211},{"$f":"COUNTIF(L96:L125,AI19)","v":0},{"$f":"AJ19/(AL4-AJ20)","v":0},{"$f":"IF(AK19=0,0,(AK19*((LOG(AK19))/LOG(2))))","v":0},null,{"$f":"N19","v":2211},{"$f":"COUNTIF(L126:L154,AN19)","v":0},{"$f":"AO19/(AQ4-AO20)","v":0},{"$f":"IF(AP19=0,0,(AP19*((LOG(AP19))/LOG(2))))","v":0},null,{"$f":"N19","v":2211},{"$f":"COUNTIF(L155:L184,AS19)","v":0},{"$f":"AT19/(AV4-AT20)","v":0},{"$f":"IF(AU19=0,0,(AU19*((LOG(AU19))/LOG(2))))","v":0}]
[12,1873,14,1878,13,1883,23,1895,null,null,0,1112,null,2212,{"$f":"COUNTIF($L$7:$L$500,N20)","v":1},{"$f":"O20/$Q$4","v":5.6497175141242938E-3},{"$f":"IF(P20=0,0,(P20*((LOG(P20))/LOG(2))))","v":-4.2189861864875694E-2},null,null,{"$f":"N20","v":2212},{"$f":"COUNTIF(L7:L36,T20)","v":1},null,null,null,{"$f":"N20","v":2212},{"$f":"COUNTIF(L37:L65,Y20)","v":0},null,null,null,{"$f":"N20","v":2212},{"$f":"COUNTIF(L66:L95,AD20)","v":0},null,null,null,{"$f":"N20","v":2212},{"$f":"COUNTIF(L96:L125,AI20)","v":0},null,null,null,{"$f":"N20","v":2212},{"$f":"COUNTIF(L126:L154,AN20)","v":0},null,null,null,{"$f":"N20","v":2212},{"$f":"COUNTIF(L155:L184,AS20)","v":0}]
[12,2003,14,2006,13,2019,23,2031,null,null,0,1112,null,2221,{"$f":"COUNTIF($L$7:$L$500,N21)","v":1},{"$f":"O21/$Q$4","v":5.6497175141242938E-3},{"$f":"IF(P21=0,0,(P21*((LOG(P21))/LOG(2))))","v":-4.2189861864875694E-2},null,null,{"$f":"N21","v":2221},{"$f":"COUNTIF(L7:L36,T21)","v":0},{"$f":"U21/(W4-U20)","v":0},{"$f":"IF(V21=0,0,(V21*((LOG(V21))/LOG(2))))","v":0},null,{"$f":"N21","v":2221},{"$f":"COUNTIF(L37:L65,Y21)","v":0},{"$f":"Z21/(AB4-Z20)","v":0},{"$f":"IF(AA21=0,0,(AA21*((LOG(AA21))/LOG(2))))","v":0},null,{"$f":"N21","v":2221},{"$f":"COUNTIF(L66:L95,AD21)","v":0},{"$f":"AE21/(AG4-AE20)","v":0},{"$f":"IF(AF21=0,0,(AF21*((LOG(AF21))/LOG(2))))","v":0},null,{"$f":"N21","v":2221},{"$f":"COUNTIF(L96:L125,AI21)","v":1},{"$f":"AJ21/(AL4-AJ20)","v":3.3333333333333333E-2},{"$f":"IF(AK21=0,0,(AK21*((LOG(AK21))/LOG(2))))","v":-0.16356301985361729},null,{"$f":"N21","v":2221},{"$f":"COUNTIF(L126:L154,AN21)","v":0},{"$f":"AO21/(AQ4-AO20)","v":0},{"$f":"IF(AP21=0,0,(AP21*((LOG(AP21))/LOG(2))))","v":0},null,{"$f":"N21","v":2221},{"$f":"COUNTIF(L155:L184,AS21)","v":0},{"$f":"AT21/(AV4-AT20)","v":0},{"$f":"IF(AU21=0,0,(AU21*((LOG(AU21))/LOG(2))))","v":0}]
[12,2130,14,2136,13,2156,14,2162,null,null,0,1111,null,2222,{"$f":"COUNTIF($L$7:$L$500,N22)","v":6},{"$f":"O22/$Q$4","v":3.3898305084745763E-2},{"$f":"IF(P22=0,0,(P22*((LOG(P22))/LOG(2))))","v":-0.16551332370718108},null,null,{"$f":"N22","v":2222},{"$f":"COUNTIF(L7:L36,T22)","v":1},{"$f":"U22/(W4-U20)","v":3.4482758620689655E-2},{"$f":"IF(V22=0,0,(V22*((LOG(V22))/LOG(2))))","v":-0.16751658603888178},null,{"$f":"N22","v":2222},{"$f":"COUNTIF(L37:L65,Y22)","v":2},{"$f":"Z22/(AB4-Z20)","v":6.8965517241379309E-2},{"$f":"IF(AA22=0,0,(AA22*((LOG(AA22))/LOG(2))))","v":-0.26606765483638428},null,{"$f":"N22","v":2222},{"$f":"COUNTIF(L66:L95,AD22)","v":2},{"$f":"AE22/(AG4-AE20)","v":6.6666666666666666E-2},{"$f":"IF(AF22=0,0,(AF22*((LOG(AF22))/LOG(2))))","v":-0.26045937304056793},null,{"$f":"N22","v":2222},{"$f":"COUNTIF(L96:L125,AI22)","v":0},{"$f":"AJ22/(AL4-AJ20)","v":0},{"$f":"IF(AK22=0,0,(AK22*((LOG(AK22))/LOG(2))))","v":0},null,{"$f":"N22","v":2222},{"$f":"COUNTIF(L126:L154,AN22)","v":0},{"$f":"AO22/(AQ4-AO20)","v":0},{"$f":"IF(AP22=0,0,(AP22*((LOG(AP22))/LOG(2))))","v":0},null,{"$f":"N22","v":2222},{"$f":"COUNTIF(L155:L184,AS22)","v":1},{"$f":"AT22/(AV4-AT20)","v":3.4482758620689655E-2},{"$f":"IF(AU22=0,0,(AU22*((LOG(AU22))/LOG(2))))","v":-0.16751658603888178}]
[12,2261,14,2274,24,2284,23,2292,null,null,0,1122,null,null,null,{"$f":"SUM(P7:P22)","v":0.99999999999999989},{"$f":"-SUM(Q7:Q22)","v":2.5508965562637611},null,null,null,null,{"$f":"SUM(V7:V22)","v":1},{"$f":"-SUM(W7:W22)","v":2.6554188233714613},null,null,null,{"$f":"SUM(AA7:AA22)","v":0.99999999999999989},{"$f":"-SUM(AB7:AB22)","v":2.6597532033394882},null,null,null,{"$f":"SUM(AF7:AF22)","v":1},{"$f":"-SUM(AG7:AG22)","v":2.1655962303576022},null,null,null,{"$f":"SUM(AK7:AK22)","v":0.99999999999999989},{"$f":"-SUM(AL7:AL22)","v":1.7546097612655667},null,null,null,{"$f":"SUM(AP7:AP22)","v":1},{"$f":"-SUM(AQ7:AQ22)","v":1.820393189881004},null,null,null,{"$f":"SUM(AU7:AU22)","v":1.0000000000000002},{"$f":"-SUM(AV7:AV22)","v":2.2896911372753768}]
[12,2386,23,2407,24,2412,14,2426,null,null,0,1221,null,null,null,"U=",{"$f":"Q23/(LOG(Q4)/LOG(2))","v":0.34159497835760883},null,null,null,null,"U1=",{"$f":"W23/(LOG(W4)/LOG(2))","v":0.54116120415400348},null,null,null,"U2=",{"$f":"AB23/(LOG(AB4)/LOG(2))","v":0.54750177203392747},null,null,null,"U3=",{"$f":"AG23/(LOG(AG4)/LOG(2))","v":0.44133778574475019},null,null,null,"U4=",{"$f":"AL23/(LOG(AL4)/LOG(2))","v":0.35758077892257795},null,null,null,"U5=",{"$f":"AQ23/(LOG(AQ4)/LOG(2))","v":0.37472217196955088},null,null,null,"U6=",{"$f":"AV23/(LOG(AV4)/LOG(2))","v":0.47132566792086616}]
[12,2535,23,2547,24,2554,23,2568,null,null,0,1222]
[12,2665,14,2669,13,2684,23,2696,null,null,0,1112]
[12,2792,14,2809,24,2823,23,2832,null,null,0,1122,null,"Total Target Seq"]
[12,2942,14,2949,13,2958,14,2968,null,null,0,1111,null,{"$f":"COUNTIF(L7:L184,G3)","v":1},null,30,29,30,30,29,30]
[12,3074,23,3096,24,3105,23,3120,null,null,0,1222,null,null,null,"% of reinforcement given in 6 equal intervals based on number of trials "]
[12,3219,14,3223,13,3235,14,3243,null,null,0,1111,null,null,null,"%_1","%_2","%_3","%_4","%_5","%_6"]
[21,3359,21,3368,22,3381,23,3393,null,null,0,2222,null,null,"target sequence",{"$f":"$G$3","v":2212},{"$f":"$G$3","v":2212},{"$f":"$G$3","v":2212},{"$f":"$G$3","v":2212},{"$f":"$G$3","v":2212},{"$f":"$G$3","v":2212}]
[12,3490,14,3494,13,3503,23,3514,null,null,0,1112,null,null,"total reinforcement",{"$f":"U20","v":1},{"$f":"Z20","v":0},{"$f":"AE20","v":0},{"$f":"AJ20","v":0},{"$f":"AO20","v":0},{"$f":"AT20","v":0}]
[12,3613,14,3622,24,3639,23,3647,null,null,0,1122,null,null,"% target"]
[12,3745,23,3766,24,3774,14,3793,null,null,0,1221,null,null,"CCRF"]
[12,3891,23,3902,24,3909,23,3926,null,null,0,1222,null,null,"% CCRf"]
[12,4030,14,4047,24,4058,23,4079,null,null,0,1122,null,null,"average response rate",{"$f":"H36/P28","v":135.96666666666667},{"$f":"(H65-H36)/Q28","v":135.55172413793105},{"$f":"(H95-H65)/R28","v":138.63333333333333},{"$f":"(H125-H95)/S28","v":135.30000000000001},{"$f":"(H154-H125)/T28","v":131.79310344827587},{"$f":"(H184-H154)/U28","v":-668.33333333333337}]
[21,4200,21,4208,22,4220,23,4233,null,null,0,2222]
[12,4331,23,4354,24,4359,14,4376,null,null,0,1221]
[12,4475,23,4497,24,4504,23,4517,null,null,0,1222]
[12,4624,14,4628,13,4634,14,4640,null,null,0,1111]
[12,4735,14,4744,24,4755,23,4760,null,null,0,1122]
[12,4857,14,4871,13,4879,23,4891,null,null,0,1112]
[12,5004,23,5015,24,5024,14,5039,null,null,0,1221]
[12,5136,14,5150,24,5163,23,5171,null,null,0,1122]
[12,5269,14,5280,13,5285,14,5290,null,null,0,1111]
[12,5398,23,5411,24,5418,23,5428,null,null,0,1222]
[21,5542,21,5558,22,5566,23,5579,null,null,0,2222]
[12,5675,23,5695,24,5703,23,5716,null,null,0,1222]
[12,5817,14,5821,24,5833,23,5838,null,null,0,1122]
[12,5940,14,5952,13,5956,14,5961,null,null,0,1111]
[12,6057,14,6074,24,6085,23,6093,null,null,0,1122]
[12,6196,23,6208,24,6217,23,6230,null,null,0,1222]
[12,6329,23,6343,24,6348,23,6359,null,null,0,1222]
[12,6461,14,6472,24,6488,23,6490,null,null,0,1122]
[12,6592,14,6598,13,6610,23,6624,null,null,0,1112]
[12,6727,23,6742,24,6749,14,6785,null,null,0,1221]
[12,6893,23,6905,24,6913,14,6930,null,null,0,1221]
[12,7029,23,7041,13,7062,14,7075,null,null,0,1211]
[12,7172,14,7187,24,7219,23,7232,null,null,0,1122]
[21,7341,12,7355,24,7368,23,7378,null,null,0,2122]
[12,7478,14,7486,13,7504,14,7512,null,null,0,1111]
[12,7603,14,7612,24,7625,23,7633,null,null,0,1122]
[12,7732,14,7740,24,7753,23,7761,null,null,0,1122]
[12,7858,14,7863,24,7887,23,7895,null,null,0,1122]
[12,7993,14,7997,13,8002,14,8010,null,null,0,1111]
[12,8106,14,8117,24,8128,23,8132,null,null,0,1122]
[12,8224,14,8242,24,8263,23,8271,null,null,0,1122]
[12,8372,14,8400,13,8405,23,8433,null,null,0,1112]
[12,8531,14,8535,24,8555,23,8563,null,null,0,1122]
[12,8659,14,8679,24,8691,23,8698,null,null,0,1122]
[12,8802,14,8816,24,8828,23,8839,null,null,0,1122]
[12,8936,14,8944,13,8962,14,8967,null,null,0,1111]
[12,9069,14,9076,13,9097,14,9106,null,null,0,1111]
[21,9216,21,9223,22,9237,23,9250,null,null,0,2222]
[12,9340,14,9358,24,9369,23,9377,null,null,0,1122]
[12,9489,23,9498,24,9505,23,9528,null,null,0,1222]
[12,9629,23,9641,13,9673,14,9684,null,null,0,1211]
[12,9784,23,9800,24,9808,23,9820,null,null,0,1222]
[12,9922,14,9945,24,9955,23,9963,null,null,0,1122]
[12,10057,23,10075,24,10084,14,10113,null,null,0,1221]
[12,10210,14,10227,24,10238,23,10246,null,null,0,1122]
[12,10349,14,10354,24,10366,23,10374,null,null,0,1122]
[12,10476,14,10484,24,10506,23,10532,null,null,0,1122]
[12,10631,14,10643,24,10654,23,10661,null,null,0,1122]
[12,10753,14,10773,24,10785,23,10792,null,null,0,1122]
[12,10892,23,10904,24,10912,23,10925,null,null,0,1222]
[21,11045,21,11052,22,11065,23,11077,null,null,0,2222]
[12,11175,23,11195,24,11202,23,11216,null,null,0,1222]
[12,11314,23,11331,24,11338,23,11350,null,null,0,1222]
[12,11449,23,11462,24,11469,23,11491,null,null,0,1222]
[12,11587,23,11599,24,11603,23,11614,null,null,0,1222]
[12,11713,14,11717,13,11721,23,11732,null,null,0,1112]
[12,11828,23,11868,24,11882,23,11895,null,null,0,1222]
[12,11992,23,12016,24,12021,23,12034,null,null,0,1222]
[12,12143,23,12151,24,12158,23,12169,null,null,0,1222]
[12,12267,14,12280,24,12299,23,12324,null,null,0,1122]
[12,12421,23,12440,24,12447,23,12461,null,null,0,1222]
[12,12558,14,12568,24,12579,23,12585,null,null,0,1122]
[12,12686,23,12697,24,12702,23,12715,null,null,0,1222]
[12,12813,14,12832,24,12843,23,12850,null,null,0,1122]
[12,12941,14,12956,24,12966,23,12973,null,null,0,1122]
[12,13069,23,13088,24,13093,23,13122,null,null,0,1222]
[12,13218,14,13232,24,13243,23,13251,null,null,0,1122]
[12,13346,14,13357,24,13366,23,13374,null,null,0,1122]
[12,13471,14,13488,24,13499,23,13507,null,null,0,1122]
[12,13602,23,13613,24,13619,14,13646,null,null,0,1221]
[12,13737,23,13751,24,13763,23,13775,null,null,0,1222]
[12,13871,23,13899,24,13907,23,13918,null,null,0,1222]
[12,14015,14,14020,24,14030,23,14037,null,null,0,1122]
[12,14127,14,14141,24,14152,23,14157,null,null,0,1122]
[12,14254,14,14269,24,14279,23,14288,null,null,0,1122]
[12,14388,14,14392,13,14408,23,14452,null,null,0,1112]
[12,14542,14,14554,24,14565,23,14572,null,null,0,1122]
[12,14668,14,14679,24,14707,23,14714,null,null,0,1122]
[12,14810,14,14824,24,14839,23,14854,null,null,0,1122]
[12,14954,14,14966,24,14977,23,14984,null,null,0,1122]
[21,15101,21,15106,22,15119,14,15134,null,null,0,2221]
[12,15231,23,15243,24,15250,23,15261,null,null,0,1222]
[12,15352,14,15375,24,15386,23,15395,null,null,0,1122]
[12,15492,14,15510,24,15522,23,15538,null,null,0,1122]
[12,15634,14,15639,13,15658,23,15670,null,null,0,1112]
[12,15769,14,15783,24,15812,23,15820,null,null,0,1122]
[12,15920,14,15938,24,15949,23,15969,null,null,0,1122]
[12,16067,14,16079,13,16087,14,16095,null,null,0,1111]
[12,16193,14,16213,13,16219,14,16228,null,null,0,1111]
[12,16333,23,16344,24,16351,23,16363,null,null,0,1222]
[12,16460,14,16467,24,16494,23,16502,null,null,0,1122]
[12,16600,14,16607,13,16615,23,16628,null,null,0,1112]
[12,16728,14,16747,13,16752,14,16757,null,null,0,1111]
[12,16858,23,16877,24,16883,23,16894,null,null,0,1222]
[12,16992,14,16999,13,17019,23,17031,null,null,0,1112]
[12,17122,14,17133,24,17144,23,17152,null,null,0,1122]
[12,17247,14,17255,24,17273,23,17281,null,null,0,1122]
[12,17378,14,17386,13,17403,14,17410,null,null,0,1111]
[12,17505,14,17517,13,17528,23,17555,null,null,0,1112]
[12,17651,14,17658,24,17670,23,17677,null,null,0,1122]
[12,17778,14,17796,24,17808,23,17816,null,null,0,1122]
[12,17916,14,17926,24,17937,23,17944,null,null,0,1122]
[12,18042,14,18062,13,18068,14,18078,null,null,0,1111]
[12,18169,14,18182,13,18209,14,18217,null,null,0,1111]
[12,18314,14,18319,13,18339,14,18344,null,null,0,1111]
[12,18440,14,18447,24,18458,23,18465,null,null,0,1122]
[12,18577,14,18598,13,18603,14,18607,null,null,0,1111]
[12,18705,14,18709,13,18716,14,18722,null,null,0,1111]
[12,18821,14,18832,13,18843,23,18869,null,null,0,1112]
[12,18967,14,18974,13,18990,23,19002,null,null,0,1112]
[12,19101,14,19106,13,19111,14,19120,null,null,0,1111]
[12,19216,14,19224,13,19238,23,19252,null,null,0,1112]
[12,19349,14,19354,24,19366,23,19374,null,null,0,1122]
[12,19474,14,19479,24,19532,23,19544,null,null,0,1122]
[12,19644,14,19649,13,19661,23,19674,null,null,0,1112]
[12,19772,14,19776,13,19780,14,19787,null,null,0,1111]
[12,19885,14,19896,24,19929,23,19936,null,null,0,1122]
[12,20037,14,20041,13,20046,14,20050,null,null,0,1111]
[12,20149,14,20164,24,20175,14,20188,null,null,0,1121]
[12,20284,23,20305,24,20313,23,20325,null,null,0,1222]
[12,20422,14,20430,13,20442,14,20449,null,null,0,1111]
[12,20555,14,20559,13,20563,14,20568,null,null,0,1111]
[12,20669,14,20673,24,20692,14,20706,null,null,0,1121]
[12,20797,23,20836,24,20844,23,20855,null,null,0,1222]
[12,20947,14,20951,13,20969,23,20980,null,null,0,1112]
[12,21076,14,21089,13,21102,14,21121,null,null,0,1111]
[12,21217,14,21221,24,21238,23,21245,null,null,0,1122]
[12,21342,14,21353,24,21365,23,21371,null,null,0,1122]
[12,21474,14,21479,13,21483,23,21495,null,null,0,1112]
[12,21595,14,21603,13,21616,14,21622,null,null,0,1111]
[12,21718,14,21726,13,21745,14,21749,null,null,0,1111]
[12,21847,14,21859,13,21865,23,21882,null,null,0,1112]
[21,21996,21,22004,22,22014,23,22027,null,null,0,2222]
[12,22125,14,22130,13,22143,23,22155,null,null,0,1112]
[12,22248,14,22254,13,22272,14,22288,null,null,0,1111]
[12,22387,14,22403,24,22415,23,22427,null,null,0,1122]
[12,22524,14,22535,24,22547,23,22553,null,null,0,1122]
[12,22655,14,22665,24,22684,23,22693,null,null,0,1122]
[12,22784,14,22795,13,22812,14,22820,null,null,0,1111]
[12,22925,14,22932,13,22937,23,22949,null,null,0,1112]
[12,23052,23,23072,24,23080,23,23091,null,null,0,1222]
[12,23189,14,23193,13,23205,14,23211,null,null,0,1111]
[12,23306,14,23315,13,23335,14,23345,null,null,0,1111]
[12,23443,14,23451,13,23464,14,23472,null,null,0,1111]
[12,23575,14,23586,24,23600,23,23612,null,null,0,1122]
[12,23710,14,23727,24,23745,23,23753,null,null,0,1122]
[12,23843,23,23862,24,23868,23,23881,null,null,0,1222]
[12,23975,14,23998,null,null,null,null,null,null,null,11]

{"sheet":"!M821B20.000","index":8,"n_rows":178,"n_cols":48,"rows_kept":178,"cut":false,"hidden":false,"merged":[[4,39,4,42],[5,39,5,40],[4,44,4,47],[5,44,5,45],[4,24,4,27],[5,24,5,25],[4,29,4,32],[5,29,5,30],[4,34,4,37],[5,34,5,35],[1,1,1,2],[5,13,5,14],[26,13,26,14],[27,13,27,14],[4,19,4,22],[5,19,5,20]]}
["Report for:!M821B20.000"]
["Date:","<date>"]
["Hen:","<hen>",null,null,null,"Correct Sequence",{"$f":"Start!J2","v":2212},null,null,null,null,null,null,null,null,"Total Sequences in Data",{"$f":"4994-COUNTBLANK(L7:L5000)","v":172},null,null,null,null,"Total Sequences in Block Data",{"$f":"COUNTA(L7:L35)","v":29},null,null,null,"Total Sequences in Block Data",{"$f":"COUNTA(L36:L63)","v":28},null,null,null,"Total Sequences in Block Data",{"$f":"COUNTA(L64:L92)","v":29},null,null,null,"Total Sequences in Block Data",{"$f":"COUNTA(L93:L121)","v":29},null,null,null,"Total Sequences in Block Data",{"$f":"COUNTA(L122:L149)","v":28},null,null,null,"Total Sequences in Block Data",{"$f":"COUNTA(L150:L178)","v":29}]
[null,null,null,null,null,null,null,null,null,null,null,null,null,null,null,"Total Sequences in Summary",{"$f":"SUM(O7:O22)","v":172},null,null,null,null,"Total Sequences in Block Summary",{"$f":"SUM(U7:U22)","v":29},null,null,null,"Total Sequences in Block Summary",{"$f":"SUM(Z7:Z22)","v":28},null,null,null,"Total Sequences in Block Summary",{"$f":"SUM(AE7:AE22)","v":29},null,null,null,"Total Sequences in Block Summary",{"$f":"SUM(AJ7:AJ22)","v":29},null,null,null,"Total Sequences in Block Summary",{"$f":"SUM(AO7:AO22)","v":28},null,null,null,"Total Sequences in Block Summary",{"$f":"SUM(AT7:AT22)","v":29}]
[null,null,null,null,null,null,null,null,null,null,null,null,null,null,null,null,null,null,null,"Block 1",null,null,null,null,"Block 2",null,null,null,null,"Block 3",null,null,null,null,"Block 4",null,null,null,null,"Block 5",null,null,null,null,"Block 6"]
["Sequence\nComponent\n1","Time\n1","Sequence\nComponent\n2","Time\n2","Sequence\nComponent\n3","Time\n3","Sequence\nComponent\n4","Time\n4","Sequence\nComponent\n5","Time\n5","Correct?\n0=No 1=Yes","Sequence",null,"Frequency",null,"Relative Frequency","Variability",null,null,"Frequency",null,"Relative Frequency","Variability",null,"Frequency",null,"Relative Frequency","Variability",null,"Frequency",null,"Relative Frequency","Variability",null,"Frequency",null,"Relative Frequency","Variability",null,"Frequency",null,"Relative Frequency","Variability",null,"Frequency",null,"Relative Frequency","Variability"]
[21,9,21,17,22,29,14,42,null,null,0,2221,null,1111,{"$f":"COUNTIF($L$7:$L$500,N7)","v":35},{"$f":"O7/$Q$4","v":0.20348837209302326},{"$f":"IF(P7=0,0,(P7*((LOG(P7))/LOG(2))))","v":-0.46740907454360237},null,null,{"$f":"N7","v":1111},{"$f":"COUNTIF(L7:L35,T7)","v":3},{"$f":"U7/(W4-U20)","v":0.10344827586206896},{"$f":"IF(V7=0,0,(V7*((LOG(V7))/LOG(2))))","v":-0.33858812011100858},null,{"$f":"N7","v":1111},{"$f":"COUNTIF(L36:L63,Y7)","v":1},{"$f":"Z7/(AB4-Z20)","v":3.5714285714285712E-2},{"$f":"IF(AA7=0,0,(AA7*((LOG(AA7))/LOG(2))))","v":-0.17169124721634299},null,{"$f":"N7","v":1111},{"$f":"COUNTIF(L64:L92,AD7)","v":10},{"$f":"AE7/(AG4-AE20)","v":0.34482758620689657},{"$f":"IF(AF7=0,0,(AF7*((LOG(AF7))/LOG(2))))","v":-0.52967341387593436},null,{"$f":"N7","v":1111},{"$f":"COUNTIF(L93:L121,AI7)","v":3},{"$f":"AJ7/(AL4-AJ20)","v":0.10344827586206896},{"$f":"IF(AK7=0,0,(AK7*((LOG(AK7))/LOG(2))))","v":-0.33858812011100858},null,{"$f":"N7","v":1111},{"$f":"COUNTIF(L122:L149,AN7)","v":12},{"$f":"AO7/(AQ4-AO20)","v":0.42857142857142855},{"$f":"IF(AP7=0,0,(AP7*((LOG(AP7))/LOG(2))))","v":-0.52388246628704915},null,{"$f":"N7","v":1111},{"$f":"COUNTIF(L150:L178,AS7)","v":6},{"$f":"AT7/(AV4-AT20)","v":0.20689655172413793},{"$f":"IF(AU7=0,0,(AU7*((LOG(AU7))/LOG(2))))","v":-0.4702796884978791}]
[12,153,23,161,24,170,23,183,null,null,0,1222,null,1112,{"$f":"COUNTIF($L$7:$L$500,N8)","v":25},{"$f":"O8/$Q$4","v":0.14534883720930233},{"$f":"IF(P8=0,0,(P8*((LOG(P8))/LOG(2))))","v":-0.40441984955339727},null,null,{"$f":"N8","v":1112},{"$f":"COUNTIF(L7:L35,T8)","v":4},{"$f":"U8/(W4-U20)","v":0.13793103448275862},{"$f":"IF(V8=0,0,(V8*((LOG(V8))/LOG(2))))","v":-0.39420427519000989},null,{"$f":"N8","v":1112},{"$f":"COUNTIF(L36:L63,Y8)","v":6},{"$f":"Z8/(AB4-Z20)","v":0.21428571428571427},{"$f":"IF(AA8=0,0,(AA8*((LOG(AA8))/LOG(2))))","v":-0.47622694742923877},null,{"$f":"N8","v":1112},{"$f":"COUNTIF(L64:L92,AD8)","v":1},{"$f":"AE8/(AG4-AE20)","v":3.4482758620689655E-2},{"$f":"IF(AF8=0,0,(AF8*((LOG(AF8))/LOG(2))))","v":-0.16751658603888178},null,{"$f":"N8","v":1112},{"$f":"COUNTIF(L93:L121,AI8)","v":4},{"$f":"AJ8/(AL4-AJ20)","v":0.13793103448275862},{"$f":"IF(AK8=0,0,(AK8*((LOG(AK8))/LOG(2))))","v":-0.39420427519000989},null,{"$f":"N8","v":1112},{"$f":"COUNTIF(L122:L149,AN8)","v":4},{"$f":"AO8/(AQ4-AO20)","v":0.14285714285714285},{"$f":"IF(AP8=0,0,(AP8*((LOG(AP8))/LOG(2))))","v":-0.40105070315108626},null,{"$f":"N8","v":1112},{"$f":"COUNTIF(L150:L178,AS8)","v":6},{"$f":"AT8/(AV4-AT20)","v":0.20689655172413793},{"$f":"IF(AU8=0,0,(AU8*((LOG(AU8))/LOG(2))))","v":-0.4702796884978791}]
[21,277,21,284,22,308,23,317,null,null,0,2222,null,1121,{"$f":"COUNTIF($L$7:$L$500,N9)","v":4},{"$f":"O9/$Q$4","v":2.3255813953488372E-2},{"$f":"IF(P9=0,0,(P9*((LOG(P9))/LOG(2))))","v":-0.12619220359772321},null,null,{"$f":"N9","v":1121},{"$f":"COUNTIF(L7:L35,T9)","v":1},{"$f":"U9/(W4-U20)","v":3.4482758620689655E-2},{"$f":"IF(V9=0,0,(V9*((LOG(V9))/LOG(2))))","v":-0.16751658603888178},null,{"$f":"N9","v":1121},{"$f":"COUNTIF(L36:L63,Y9)","v":0},{"$f":"Z9/(AB4-Z20)","v":0},{"$f":"IF(AA9=0,0,(AA9*((LOG(AA9))/LOG(2))))","v":0},null,{"$f":"N9","v":1121},{"$f":"COUNTIF(L64:L92,AD9)","v":1},{"$f":"AE9/(AG4-AE20)","v":3.4482758620689655E-2},{"$f":"IF(AF9=0,0,(AF9*((LOG(AF9))/LOG(2))))","v":-0.16751658603888178},null,{"$f":"N9","v":1121},{"$f":"COUNTIF(L93:L121,AI9)","v":1},{"$f":"AJ9/(AL4-AJ20)","v":3.4482758620689655E-2},{"$f":"IF(AK9=0,0,(AK9*((LOG(AK9))/LOG(2))))","v":-0.16751658603888178},null,{"$f":"N9","v":1121},{"$f":"COUNTIF(L122:L149,AN9)","v":1},{"$f":"AO9/(AQ4-AO20)","v":3.5714285714285712E-2},{"$f":"IF(AP9=0,0,(AP9*((LOG(AP9))/LOG(2))))","v":-0.17169124721634299},null,{"$f":"N9","v":1121},{"$f":"COUNTIF(L150:L178,AS9)","v":0},{"$f":"AT9/(AV4-AT20)","v":0},{"$f":"IF(AU9=0,0,(AU9*((LOG(AU9))/LOG(2))))","v":0}]
[12,415,14,425,24,434,14,450,null,null,0,1121,null,1122,{"$f":"COUNTIF($L$7:$L$500,N10)","v":58},{"$f":"O10/$Q$4","v":0.33720930232558138},{"$f":"IF(P10=0,0,(P10*((LOG(P10))/LOG(2))))","v":-0.52883987241466568},null,null,{"$f":"N10","v":1122},{"$f":"COUNTIF(L7:L35,T10)","v":12},{"$f":"U10/(W4-U20)","v":0.41379310344827586},{"$f":"IF(V10=0,0,(V10*((LOG(V10))/LOG(2))))","v":-0.5267662735474824},null,{"$f":"N10","v":1122},{"$f":"COUNTIF(L36:L63,Y10)","v":9},{"$f":"Z10/(AB4-Z20)","v":0.32142857142857145},{"$f":"IF(AA10=0,0,(AA10*((LOG(AA10))/LOG(2))))","v":-0.5263167601977724},null,{"$f":"N10","v":1122},{"$f":"COUNTIF(L64:L92,AD10)","v":12},{"$f":"AE10/(AG4-AE20)","v":0.41379310344827586},{"$f":"IF(AF10=0,0,(AF10*((LOG(AF10))/LOG(2))))","v":-0.5267662735474824},null,{"$f":"N10","v":1122},{"$f":"COUNTIF(L93:L121,AI10)","v":12},{"$f":"AJ10/(AL4-AJ20)","v":0.41379310344827586},{"$f":"IF(AK10=0,0,(AK10*((LOG(AK10))/LOG(2))))","v":-0.5267662735474824},null,{"$f":"N10","v":1122},{"$f":"COUNTIF(L122:L149,AN10)","v":5},{"$f":"AO10/(AQ4-AO20)","v":0.17857142857142858},{"$f":"IF(AP10=0,0,(AP10*((LOG(AP10))/LOG(2))))","v":-0.44382621913754317},null,{"$f":"N10","v":1122},{"$f":"COUNTIF(L150:L178,AS10)","v":8},{"$f":"AT10/(AV4-AT20)","v":0.27586206896551724},{"$f":"IF(AU10=0,0,(AU10*((LOG(AU10))/LOG(2))))","v":-0.51254648141450265}]
[12,565,14,573,13,585,14,598,null,null,0,1111,null,1211,{"$f":"COUNTIF($L$7:$L$500,N11)","v":4},{"$f":"O11/$Q$4","v":2.3255813953488372E-2},{"$f":"IF(P11=0,0,(P11*((LOG(P11))/LOG(2))))","v":-0.12619220359772321},null,null,{"$f":"N11","v":1211},{"$f":"COUNTIF(L7:L35,T11)","v":1},{"$f":"U11/(W4-U20)","v":3.4482758620689655E-2},{"$f":"IF(V11=0,0,(V11*((LOG(V11))/LOG(2))))","v":-0.16751658603888178},null,{"$f":"N11","v":1211},{"$f":"COUNTIF(L36:L63,Y11)","v":0},{"$f":"Z11/(AB4-Z20)","v":0},{"$f":"IF(AA11=0,0,(AA11*((LOG(AA11))/LOG(2))))","v":0},null,{"$f":"N11","v":1211},{"$f":"COUNTIF(L64:L92,AD11)","v":1},{"$f":"AE11/(AG4-AE20)","v":3.4482758620689655E-2},{"$f":"IF(AF11=0,0,(AF11*((LOG(AF11))/LOG(2))))","v":-0.16751658603888178},null,{"$f":"N11","v":1211},{"$f":"COUNTIF(L93:L121,AI11)","v":1},{"$f":"AJ11/(AL4-AJ20)","v":3.4482758620689655E-2},{"$f":"IF(AK11=0,0,(AK11*((LOG(AK11))/LOG(2))))","v":-0.16751658603888178},null,{"$f":"N11","v":1211},{"$f":"COUNTIF(L122:L149,AN11)","v":1},{"$f":"AO11/(AQ4-AO20)","v":3.5714285714285712E-2},{"$f":"IF(AP11=0,0,(AP11*((LOG(AP11))/LOG(2))))","v":-0.17169124721634299},null,{"$f":"N11","v":1211},{"$f":"COUNTIF(L150:L178,AS11)","v":0},{"$f":"AT11/(AV4-AT20)","v":0},{"$f":"IF(AU11=0,0,(AU11*((LOG(AU11))/LOG(2))))","v":0}]
[12,699,14,713,24,724,23,733,null,null,0,1122,null,1212,{"$f":"COUNTIF($L$7:$L$500,N12)","v":1},{"$f":"O12/$Q$4","v":5.8139534883720929E-3},{"$f":"IF(P12=0,0,(P12*((LOG(P12))/LOG(2))))","v":-4.3175957876174981E-2},null,null,{"$f":"N12","v":1212},{"$f":"COUNTIF(L7:L35,T12)","v":0},{"$f":"U12/(W4-U20)","v":0},{"$f":"IF(V12=0,0,(V12*((LOG(V12))/LOG(2))))","v":0},null,{"$f":"N12","v":1212},{"$f":"COUNTIF(L36:L63,Y12)","v":0},{"$f":"Z12/(AB4-Z20)","v":0},{"$f":"IF(AA12=0,0,(AA12*((LOG(AA12))/LOG(2))))","v":0},null,{"$f":"N12","v":1212},{"$f":"COUNTIF(L64:L92,AD12)","v":0},{"$f":"AE12/(AG4-AE20)","v":0},{"$f":"IF(AF12=0,0,(AF12*((LOG(AF12))/LOG(2))))","v":0},null,{"$f":"N12","v":1212},{"$f":"COUNTIF(L93:L121,AI12)","v":0},{"$f":"AJ12/(AL4-AJ20)","v":0},{"$f":"IF(AK12=0,0,(AK12*((LOG(AK12))/LOG(2))))","v":0},null,{"$f":"N12","v":1212},{"$f":"COUNTIF(L122:L149,AN12)","v":0},{"$f":"AO12/(AQ4-AO20)","v":0},{"$f":"IF(AP12=0,0,(AP12*((LOG(AP12))/LOG(2))))","v":0},null,{"$f":"N12","v":1212},{"$f":"COUNTIF(L150:L178,AS12)","v":1},{"$f":"AT12/(AV4-AT20)","v":3.4482758620689655E-2},{"$f":"IF(AU12=0,0,(AU12*((LOG(AU12))/LOG(2))))","v":-0.16751658603888178}]
[12,828,14,855,24,874,23,882,null,null,0,1122,null,1221,{"$f":"COUNTIF($L$7:$L$500,N13)","v":8},{"$f":"O13/$Q$4","v":4.6511627906976744E-2},{"$f":"IF(P13=0,0,(P13*((LOG(P13))/LOG(2))))","v":-0.20587277928846967},null,null,{"$f":"N13","v":1221},{"$f":"COUNTIF(L7:L35,T13)","v":0},{"$f":"U13/(W4-U20)","v":0},{"$f":"IF(V13=0,0,(V13*((LOG(V13))/LOG(2))))","v":0},null,{"$f":"N13","v":1221},{"$f":"COUNTIF(L36:L63,Y13)","v":2},{"$f":"Z13/(AB4-Z20)","v":7.1428571428571425E-2},{"$f":"IF(AA13=0,0,(AA13*((LOG(AA13))/LOG(2))))","v":-0.27195392300411453},null,{"$f":"N13","v":1221},{"$f":"COUNTIF(L64:L92,AD13)","v":0},{"$f":"AE13/(AG4-AE20)","v":0},{"$f":"IF(AF13=0,0,(AF13*((LOG(AF13))/LOG(2))))","v":0},null,{"$f":"N13","v":1221},{"$f":"COUNTIF(L93:L121,AI13)","v":1},{"$f":"AJ13/(AL4-AJ20)","v":3.4482758620689655E-2},{"$f":"IF(AK13=0,0,(AK13*((LOG(AK13))/LOG(2))))","v":-0.16751658603888178},null,{"$f":"N13","v":1221},{"$f":"COUNTIF(L122:L149,AN13)","v":2},{"$f":"AO13/(AQ4-AO20)","v":7.1428571428571425E-2},{"$f":"IF(AP13=0,0,(AP13*((LOG(AP13))/LOG(2))))","v":-0.27195392300411453},null,{"$f":"N13","v":1221},{"$f":"COUNTIF(L150:L178,AS13)","v":3},{"$f":"AT13/(AV4-AT20)","v":0.10344827586206896},{"$f":"IF(AU13=0,0,(AU13*((LOG(AU13))/LOG(2))))","v":-0.33858812011100858}]
[12,979,14,999,24,1010,23,1018,null,null,0,1122,null,1222,{"$f":"COUNTIF($L$7:$L$500,N14)","v":27},{"$f":"O14/$Q$4","v":0.15697674418604651},{"$f":"IF(P14=0,0,(P14*((LOG(P14))/LOG(2))))","v":-0.41934410359618018},null,null,{"$f":"N14","v":1222},{"$f":"COUNTIF(L7:L35,T14)","v":6},{"$f":"U14/(W4-U20)","v":0.20689655172413793},{"$f":"IF(V14=0,0,(V14*((LOG(V14))/LOG(2))))","v":-0.4702796884978791},null,{"$f":"N14","v":1222},{"$f":"COUNTIF(L36:L63,Y14)","v":6},{"$f":"Z14/(AB4-Z20)","v":0.21428571428571427},{"$f":"IF(AA14=0,0,(AA14*((LOG(AA14))/LOG(2))))","v":-0.47622694742923877},null,{"$f":"N14","v":1222},{"$f":"COUNTIF(L64:L92,AD14)","v":2},{"$f":"AE14/(AG4-AE20)","v":6.8965517241379309E-2},{"$f":"IF(AF14=0,0,(AF14*((LOG(AF14))/LOG(2))))","v":-0.26606765483638428},null,{"$f":"N14","v":1222},{"$f":"COUNTIF(L93:L121,AI14)","v":7},{"$f":"AJ14/(AL4-AJ20)","v":0.2413793103448276},{"$f":"IF(AK14=0,0,(AK14*((LOG(AK14))/LOG(2))))","v":-0.49497870729275095},null,{"$f":"N14","v":1222},{"$f":"COUNTIF(L122:L149,AN14)","v":3},{"$f":"AO14/(AQ4-AO20)","v":0.10714285714285714},{"$f":"IF(AP14=0,0,(AP14*((LOG(AP14))/LOG(2))))","v":-0.34525633085747659},null,{"$f":"N14","v":1222},{"$f":"COUNTIF(L150:L178,AS14)","v":3},{"$f":"AT14/(AV4-AT20)","v":0.10344827586206896},{"$f":"IF(AU14=0,0,(AU14*((LOG(AU14))/LOG(2))))","v":-0.33858812011100858}]
[12,1122,14,1141,24,1159,23,1167,null,null,0,1122,null,2111,{"$f":"COUNTIF($L$7:$L$500,N15)","v":2},{"$f":"O15/$Q$4","v":1.1627906976744186E-2},{"$f":"IF(P15=0,0,(P15*((LOG(P15))/LOG(2))))","v":-7.4724008775605782E-2},null,null,{"$f":"N15","v":2111},{"$f":"COUNTIF(L7:L35,T15)","v":0},{"$f":"U15/(W4-U20)","v":0},{"$f":"IF(V15=0,0,(V15*((LOG(V15))/LOG(2))))","v":0},null,{"$f":"N15","v":2111},{"$f":"COUNTIF(L36:L63,Y15)","v":0},{"$f":"Z15/(AB4-Z20)","v":0},{"$f":"IF(AA15=0,0,(AA15*((LOG(AA15))/LOG(2))))","v":0},null,{"$f":"N15","v":2111},{"$f":"COUNTIF(L64:L92,AD15)","v":1},{"$f":"AE15/(AG4-AE20)","v":3.4482758620689655E-2},{"$f":"IF(AF15=0,0,(AF15*((LOG(AF15))/LOG(2))))","v":-0.16751658603888178},null,{"$f":"N15","v":2111},{"$f":"COUNTIF(L93:L121,AI15)","v":0},{"$f":"AJ15/(AL4-AJ20)","v":0},{"$f":"IF(AK15=0,0,(AK15*((LOG(AK15))/LOG(2))))","v":0},null,{"$f":"N15","v":2111},{"$f":"COUNTIF(L122:L149,AN15)","v":0},{"$f":"AO15/(AQ4-AO20)","v":0},{"$f":"IF(AP15=0,0,(AP15*((LOG(AP15))/LOG(2))))","v":0},null,{"$f":"N15","v":2111},{"$f":"COUNTIF(L150:L178,AS15)","v":1},{"$f":"AT15/(AV4-AT20)","v":3.4482758620689655E-2},{"$f":"IF(AU15=0,0,(AU15*((LOG(AU15))/LOG(2))))","v":-0.16751658603888178}]
[12,1269,23,1278,24,1285,23,1297,null,null,0,1222,null,2112,{"$f":"COUNTIF($L$7:$L$500,N16)","v":0},{"$f":"O16/$Q$4","v":0},{"$f":"IF(P16=0,0,(P16*((LOG(P16))/LOG(2))))","v":0},null,null,{"$f":"N16","v":2112},{"$f":"COUNTIF(L7:L35,T16)","v":0},{"$f":"U16/(W4-U20)","v":0},{"$f":"IF(V16=0,0,(V16*((LOG(V16))/LOG(2))))","v":0},null,{"$f":"N16","v":2112},{"$f":"COUNTIF(L36:L63,Y16)","v":0},{"$f":"Z16/(AB4-Z20)","v":0},{"$f":"IF(AA16=0,0,(AA16*((LOG(AA16))/LOG(2))))","v":0},null,{"$f":"N16","v":2112},{"$f":"COUNTIF(L64:L92,AD16)","v":0},{"$f":"AE16/(AG4-AE20)","v":0},{"$f":"IF(AF16=0,0,(AF16*((LOG(AF16))/LOG(2))))","v":0},null,{"$f":"N16","v":2112},{"$f":"COUNTIF(L93:L121,AI16)","v":0},{"$f":"AJ16/(AL4-AJ20)","v":0},{"$f":"IF(AK16=0,0,(AK16*((LOG(AK16))/LOG(2))))","v":0},null,{"$f":"N16","v":2112},{"$f":"COUNTIF(L122:L149,AN16)","v":0},{"$f":"AO16/(AQ4-AO20)","v":0},{"$f":"IF(AP16=0,0,(AP16*((LOG(AP16))/LOG(2))))","v":0},null,{"$f":"N16","v":2112},{"$f":"COUNTIF(L150:L178,AS16)","v":0},{"$f":"AT16/(AV4-AT20)","v":0},{"$f":"IF(AU16=0,0,(AU16*((LOG(AU16))/LOG(2))))","v":0}]
[12,1422,14,1428,24,1445,23,1458,null,null,0,1122,null,2121,{"$f":"COUNTIF($L$7:$L$500,N17)","v":0},{"$f":"O17/$Q$4","v":0},{"$f":"IF(P17=0,0,(P17*((LOG(P17))/LOG(2))))","v":0},null,null,{"$f":"N17","v":2121},{"$f":"COUNTIF(L7:L35,T17)","v":0},{"$f":"U17/(W4-U20)","v":0},{"$f":"IF(V17=0,0,(V17*((LOG(V17))/LOG(2))))","v":0},null,{"$f":"N17","v":2121},{"$f":"COUNTIF(L36:L63,Y17)","v":0},{"$f":"Z17/(AB4-Z20)","v":0},{"$f":"IF(AA17=0,0,(AA17*((LOG(AA17))/LOG(2))))","v":0},null,{"$f":"N17","v":2121},{"$f":"COUNTIF(L64:L92,AD17)","v":0},{"$f":"AE17/(AG4-AE20)","v":0},{"$f":"IF(AF17=0,0,(AF17*((LOG(AF17))/LOG(2))))","v":0},null,{"$f":"N17","v":2121},{"$f":"COUNTIF(L93:L121,AI17)","v":0},{"$f":"AJ17/(AL4-AJ20)","v":0},{"$f":"IF(AK17=0,0,(AK17*((LOG(AK17))/LOG(2))))","v":0},null,{"$f":"N17","v":2121},{"$f":"COUNTIF(L122:L149,AN17)","v":0},{"$f":"AO17/(AQ4-AO20)","v":0},{"$f":"IF(AP17=0,0,(AP17*((LOG(AP17))/LOG(2))))","v":0},null,{"$f":"N17","v":2121},{"$f":"COUNTIF(L150:L178,AS17)","v":0},{"$f":"AT17/(AV4-AT20)","v":0},{"$f":"IF(AU17=0,0,(AU17*((LOG(AU17))/LOG(2))))","v":0}]
[12,1559,14,1568,13,1573,14,1580,null,null,0,1111,null,2122,{"$f":"COUNTIF($L$7:$L$500,N18)","v":0},{"$f":"O18/$Q$4","v":0},{"$f":"IF(P18=0,0,(P18*((LOG(P18))/LOG(2))))","v":0},null,null,{"$f":"N18","v":2122},{"$f":"COUNTIF(L7:L35,T18)","v":0},{"$f":"U18/(W4-U20)","v":0},{"$f":"IF(V18=0,0,(V18*((LOG(V18))/LOG(2))))","v":0},null,{"$f":"N18","v":2122},{"$f":"COUNTIF(L36:L63,Y18)","v":0},{"$f":"Z18/(AB4-Z20)","v":0},{"$f":"IF(AA18=0,0,(AA18*((LOG(AA18))/LOG(2))))","v":0},null,{"$f":"N18","v":2122},{"$f":"COUNTIF(L64:L92,AD18)","v":0},{"$f":"AE18/(AG4-AE20)","v":0},{"$f":"IF(AF18=0,0,(AF18*((LOG(AF18))/LOG(2))))","v":0},null,{"$f":"N18","v":2122},{"$f":"COUNTIF(L93:L121,AI18)","v":0},{"$f":"AJ18/(AL4-AJ20)","v":0},{"$f":"IF(AK18=0,0,(AK18*((LOG(AK18))/LOG(2))))","v":0},null,{"$f":"N18","v":2122},{"$f":"COUNTIF(L122:L149,AN18)","v":0},{"$f":"AO18/(AQ4-AO20)","v":0},{"$f":"IF(AP18=0,0,(AP18*((LOG(AP18))/LOG(2))))","v":0},null,{"$f":"N18","v":2122},{"$f":"COUNTIF(L150:L178,AS18)","v":0},{"$f":"AT18/(AV4-AT20)","v":0},{"$f":"IF(AU18=0,0,(AU18*((LOG(AU18))/LOG(2))))","v":0}]
[12,1674,14,1688,24,1700,23,1707,null,null,0,1122,null,2211,{"$f":"COUNTIF($L$7:$L$500,N19)","v":0},{"$f":"O19/$Q$4","v":0},{"$f":"IF(P19=0,0,(P19*((LOG(P19))/LOG(2))))","v":0},null,null,{"$f":"N19","v":2211},{"$f":"COUNTIF(L7:L35,T19)","v":0},{"$f":"U19/(W4-U20)","v":0},{"$f":"IF(V19=0,0,(V19*((LOG(V19))/LOG(2))))","v":0},null,{"$f":"N19","v":2211},{"$f":"COUNTIF(L36:L63,Y19)","v":0},{"$f":"Z19/(AB4-Z20)","v":0},{"$f":"IF(AA19=0,0,(AA19*((LOG(AA19))/LOG(2))))","v":0},null,{"$f":"N19","v":2211},{"$f":"COUNTIF(L64:L92,AD19)","v":0},{"$f":"AE19/(AG4-AE20)","v":0},{"$f":"IF(AF19=0,0,(AF19*((LOG(AF19))/LOG(2))))","v":0},null,{"$f":"N19","v":2211},{"$f":"COUNTIF(L93:L121,AI19)","v":0},{"$f":"AJ19/(AL4-AJ20)","v":0},{"$f":"IF(AK19=0,0,(AK19*((LOG(AK19))/LOG(2))))","v":0},null,{"$f":"N19","v":2211},{"$f":"COUNTIF(L122:L149,AN19)","v":0},{"$f":"AO19/(AQ4-AO20)","v":0},{"$f":"IF(AP19=0,0,(AP19*((LOG(AP19))/LOG(2))))","v":0},null,{"$f":"N19","v":2211},{"$f":"COUNTIF(L150:L178,AS19)","v":0},{"$f":"AT19/(AV4-AT20)","v":0},{"$f":"IF(AU19=0,0,(AU19*((LOG(AU19))/LOG(2))))","v":0}]
[12,1810,14,1820,13,1826,23,1839,null,null,0,1112,null,2212,{"$f":"COUNTIF($L$7:$L$500,N20)","v":0},{"$f":"O20/$Q$4","v":0},{"$f":"IF(P20=0,0,(P20*((LOG(P20))/LOG(2))))","v":0},null,null,{"$f":"N20","v":2212},{"$f":"COUNTIF(L7:L35,T20)","v":0},null,null,null,{"$f":"N20","v":2212},{"$f":"COUNTIF(L36:L63,Y20)","v":0},null,null,null,{"$f":"N20","v":2212},{"$f":"COUNTIF(L64:L92,AD20)","v":0},null,null,null,{"$f":"N20","v":2212},{"$f":"COUNTIF(L93:L121,AI20)","v":0},null,null,null,{"$f":"N20","v":2212},{"$f":"COUNTIF(L122:L149,AN20)","v":0},null,null,null,{"$f":"N20","v":2212},{"$f":"COUNTIF(L150:L178,AS20)","v":0}]
[12,1944,14,1962,24,1974,23,1989,null,null,0,1122,null,2221,{"$f":"COUNTIF($L$7:$L$500,N21)","v":3},{"$f":"O21/$Q$4","v":1.7441860465116279E-2},{"$f":"IF(P21=0,0,(P21*((LOG(P21))/LOG(2))))","v":-0.1018831788485048},null,null,{"$f":"N21","v":2221},{"$f":"COUNTIF(L7:L35,T21)","v":1},{"$f":"U21/(W4-U20)","v":3.4482758620689655E-2},{"$f":"IF(V21=0,0,(V21*((LOG(V21))/LOG(2))))","v":-0.16751658603888178},null,{"$f":"N21","v":2221},{"$f":"COUNTIF(L36:L63,Y21)","v":1},{"$f":"Z21/(AB4-Z20)","v":3.5714285714285712E-2},{"$f":"IF(AA21=0,0,(AA21*((LOG(AA21))/LOG(2))))","v":-0.17169124721634299},null,{"$f":"N21","v":2221},{"$f":"COUNTIF(L64:L92,AD21)","v":0},{"$f":"AE21/(AG4-AE20)","v":0},{"$f":"IF(AF21=0,0,(AF21*((LOG(AF21))/LOG(2))))","v":0},null,{"$f":"N21","v":2221},{"$f":"COUNTIF(L93:L121,AI21)","v":0},{"$f":"AJ21/(AL4-AJ20)","v":0},{"$f":"IF(AK21=0,0,(AK21*((LOG(AK21))/LOG(2))))","v":0},null,{"$f":"N21","v":2221},{"$f":"COUNTIF(L122:L149,AN21)","v":0},{"$f":"AO21/(AQ4-AO20)","v":0},{"$f":"IF(AP21=0,0,(AP21*((LOG(AP21))/LOG(2))))","v":0},null,{"$f":"N21","v":2221},{"$f":"COUNTIF(L150:L178,AS21)","v":1},{"$f":"AT21/(AV4-AT20)","v":3.4482758620689655E-2},{"$f":"IF(AU21=0,0,(AU21*((LOG(AU21))/LOG(2))))","v":-0.16751658603888178}]
[12,2116,23,2128,24,2140,23,2152,null,null,0,1222,null,2222,{"$f":"COUNTIF($L$7:$L$500,N22)","v":5},{"$f":"O22/$Q$4","v":2.9069767441860465E-2},{"$f":"IF(P22=0,0,(P22*((LOG(P22))/LOG(2))))","v":-0.1483818796457772},null,null,{"$f":"N22","v":2222},{"$f":"COUNTIF(L7:L35,T22)","v":1},{"$f":"U22/(W4-U20)","v":3.4482758620689655E-2},{"$f":"IF(V22=0,0,(V22*((LOG(V22))/LOG(2))))","v":-0.16751658603888178},null,{"$f":"N22","v":2222},{"$f":"COUNTIF(L36:L63,Y22)","v":3},{"$f":"Z22/(AB4-Z20)","v":0.10714285714285714},{"$f":"IF(AA22=0,0,(AA22*((LOG(AA22))/LOG(2))))","v":-0.34525633085747659},null,{"$f":"N22","v":2222},{"$f":"COUNTIF(L64:L92,AD22)","v":1},{"$f":"AE22/(AG4-AE20)","v":3.4482758620689655E-2},{"$f":"IF(AF22=0,0,(AF22*((LOG(AF22))/LOG(2))))","v":-0.16751658603888178},null,{"$f":"N22","v":2222},{"$f":"COUNTIF(L93:L121,AI22)","v":0},{"$f":"AJ22/(AL4-AJ20)","v":0},{"$f":"IF(AK22=0,0,(AK22*((LOG(AK22))/LOG(2))))","v":0},null,{"$f":"N22","v":2222},{"$f":"COUNTIF(L122:L149,AN22)","v":0},{"$f":"AO22/(AQ4-AO20)","v":0},{"$f":"IF(AP22=0,0,(AP22*((LOG(AP22))/LOG(2))))","v":0},null,{"$f":"N22","v":2222},{"$f":"COUNTIF(L150:L178,AS22)","v":0},{"$f":"AT22/(AV4-AT20)","v":0},{"$f":"IF(AU22=0,0,(AU22*((LOG(AU22))/LOG(2))))","v":0}]
[12,2260,14,2281,13,2310,23,2323,null,null,0,1112,null,null,null,{"$f":"SUM(P7:P22)","v":1},{"$f":"-SUM(Q7:Q22)","v":2.6464351117378242},null,null,null,null,{"$f":"SUM(V7:V22)","v":0.99999999999999989},{"$f":"-SUM(W7:W22)","v":2.3999047015019075},null,null,null,{"$f":"SUM(AA7:AA22)","v":0.99999999999999989},{"$f":"-SUM(AB7:AB22)","v":2.4393634033505269},null,null,null,{"$f":"SUM(AF7:AF22)","v":1},{"$f":"-SUM(AG7:AG22)","v":2.1600902724542101},null,null,null,{"$f":"SUM(AK7:AK22)","v":1},{"$f":"-SUM(AL7:AL22)","v":2.2570871342578975},null,null,null,{"$f":"SUM(AP7:AP22)","v":0.99999999999999989},{"$f":"-SUM(AQ7:AQ22)","v":2.3293521368699559},null,null,null,{"$f":"SUM(AU7:AU22)","v":0.99999999999999989},{"$f":"-SUM(AV7:AV22)","v":2.6328318567489237}]
[12,2446,14,2458,24,2498,23,2510,null,null,0,1122,null,null,null,"U=",{"$f":"Q23/(LOG(Q4)/LOG(2))","v":0.3563615355973106},null,null,null,null,"U1=",{"$f":"W23/(LOG(W4)/LOG(2))","v":0.49401278101107216},null,null,null,"U2=",{"$f":"AB23/(LOG(AB4)/LOG(2))","v":0.50742319693476079},null,null,null,"U3=",{"$f":"AG23/(LOG(AG4)/LOG(2))","v":0.44464774041329602},null,null,null,"U4=",{"$f":"AL23/(LOG(AL4)/LOG(2))","v":0.46461423717418759},null,null,null,"U5=",{"$f":"AQ23/(LOG(AQ4)/LOG(2))","v":0.4845392475979215},null,null,null,"U6=",{"$f":"AV23/(LOG(AV4)/LOG(2))","v":0.5419600981126903}]
[12,2625,14,2645,24,2655,23,2665,null,null,0,1122]
[12,2770,14,2785,13,2793,23,2805,null,null,0,1112]
[12,2902,14,2914,24,2926,23,2931,null,null,0,1122,null,"Total Target Seq"]
[12,3037,14,3043,24,3061,23,3072,null,null,0,1122,null,{"$f":"COUNTIF(L7:L178,G3)","v":0},null,29,28,29,29,28,29]
[12,3184,23,3195,24,3201,23,3213,null,null,0,1222,null,null,null,"% of reinforcement given in 6 equal intervals based on number of trials "]
[12,3318,14,3326,13,3344,23,3357,null,null,0,1112,null,null,null,"%_1","%_2","%_3","%_4","%_5","%_6"]
[12,3466,23,3487,24,3496,23,3508,null,null,0,1222,null,null,"target sequence",{"$f":"$G$3","v":2212},{"$f":"$G$3","v":2212},{"$f":"$G$3","v":2212},{"$f":"$G$3","v":2212},{"$f":"$G$3","v":2212},{"$f":"$G$3","v":2212}]
[12,3611,23,3622,13,3641,14,3649,null,null,0,1211,null,null,"total reinforcement",{"$f":"U20","v":0},{"$f":"Z20","v":0},{"$f":"AE20","v":0},{"$f":"AJ20","v":0},{"$f":"AO20","v":0},{"$f":"AT20","v":0}]
[12,3747,14,3759,24,3775,23,3783,null,null,0,1122,null,null,"% target"]
[12,3875,14,3895,13,3900,14,3905,null,null,0,1111,null,null,"CCRF"]
[12,4013,23,4025,24,4032,23,4043,null,null,0,1222,null,null,"% CCRf"]
[12,4150,14,4155,13,4159,14,4164,null,null,0,1111,null,null,"average response rate",{"$f":"H35/P28","v":139.41379310344828},{"$f":"(H63-H35)/Q28","v":136.17857142857142},{"$f":"(H92-H63)/R28","v":140.93103448275863},{"$f":"(H121-H92)/S28","v":139.55172413793105},{"$f":"(H149-H121)/T28","v":135.32142857142858},{"$f":"(H178-H149)/U28","v":141.58620689655172}]
[12,4259,14,4273,13,4277,23,4288,null,null,0,1112]
[21,4395,21,4400,22,4411,23,4432,null,null,0,2222]
[12,4540,23,4558,24,4566,23,4578,null,null,0,1222]
[12,4675,14,4679,24,4691,23,4698,null,null,0,1122]
[12,4798,23,4819,24,4826,23,4837,null,null,0,1222]
[21,4948,21,4961,22,4983,23,4996,null,null,0,2222]
[12,5101,23,5113,24,5117,23,5128,null,null,0,1222]
[12,5245,14,5259,24,5270,23,5282,null,null,0,1122]
[12,5382,14,5386,24,5397,23,5408,null,null,0,1122]
[21,5525,21,5531,22,5542,14,5563,null,null,0,2221]
[12,5670,14,5683,24,5694,23,5702,null,null,0,1122]
[12,5799,14,5804,13,5808,23,5820,null,null,0,1112]
[12,5911,14,5915,13,5931,23,5942,null,null,0,1112]
[12,6038,14,6064,13,6069,23,6078,null,null,0,1112]
[12,6176,23,6189,24,6193,14,6205,null,null,0,1221]
[12,6305,14,6317,24,6329,23,6337,null,null,0,1122]
[12,6436,14,6444,24,6469,23,6495,null,null,0,1122]
[12,6587,14,6591,24,6601,23,6609,null,null,0,1122]
[12,6704,23,6715,24,6723,14,6742,null,null,0,1221]
[12,6862,14,6870,13,6880,23,6904,null,null,0,1112]
[12,7004,14,7023,24,7033,23,7041,null,null,0,1122]
[21,7160,21,7167,22,7179,23,7190,null,null,0,2222]
[12,7281,23,7301,24,7308,23,7319,null,null,0,1222]
[12,7415,14,7427,24,7436,23,7443,null,null,0,1122]
[12,7540,23,7562,24,7570,23,7582,null,null,0,1222]
[12,7677,14,7690,13,7705,23,7721,null,null,0,1112]
[12,7824,23,7835,24,7843,23,7856,null,null,0,1222]
[12,7953,14,7960,13,7969,14,7986,null,null,0,1111]
[12,8081,23,8107,24,8125,23,8136,null,null,0,1222]
[12,8234,14,8255,24,8267,23,8275,null,null,0,1122]
[12,8366,14,8386,24,8395,23,8403,null,null,0,1122]
[12,8503,14,8517,24,8529,23,8537,null,null,0,1122]
[12,8635,23,8673,24,8684,23,8717,null,null,0,1222]
[12,8823,14,8838,24,8850,23,8869,null,null,0,1122]
[12,8971,23,8984,13,8995,14,9003,null,null,0,1211]
[12,9100,14,9111,24,9122,23,9129,null,null,0,1122]
[12,9228,14,9249,24,9268,23,9279,null,null,0,1122]
[12,9383,14,9403,24,9414,23,9437,null,null,0,1122]
[12,9542,14,9547,13,9552,14,9560,null,null,0,1111]
[12,9656,14,9664,13,9683,14,9689,null,null,0,1111]
[12,9780,14,9785,24,9808,23,9816,null,null,0,1122]
[12,9914,14,9927,24,9937,23,9945,null,null,0,1122]
[12,10044,14,10057,13,10074,14,10079,null,null,0,1111]
[12,10174,14,10189,24,10200,14,10221,null,null,0,1121]
[12,10334,14,10339,13,10349,14,10356,null,null,0,1111]
[21,10492,12,10504,13,10509,14,10517,null,null,0,2111]
[12,10611,14,10615,13,10626,14,10640,null,null,0,1111]
[12,10738,14,10763,13,10768,14,10772,null,null,0,1111]
[12,10872,14,10884,13,10899,23,10918,null,null,0,1112]
[12,11018,14,11028,13,11036,14,11058,null,null,0,1111]
[12,11154,14,11165,13,11177,14,11185,null,null,0,1111]
[12,11274,14,11304,24,11332,23,11365,null,null,0,1122]
[12,11471,14,11482,24,11493,23,11500,null,null,0,1122]
[12,11591,14,11603,13,11627,14,11636,null,null,0,1111]
[21,11764,21,11771,22,11782,23,11802,null,null,0,2222]
[12,11909,14,11924,24,11936,23,11943,null,null,0,1122]
[12,12035,14,12048,13,12064,23,12075,null,null,0,1112]
[12,12166,14,12179,24,12195,23,12216,null,null,0,1122]
[12,12319,14,12344,24,12355,23,12364,null,null,0,1122]
[12,12473,23,12484,24,12492,23,12501,null,null,0,1222]
[12,12592,14,12603,24,12614,23,12621,null,null,0,1122]
[12,12717,14,12724,13,12736,23,12748,null,null,0,1112]
[12,12850,23,12869,24,12876,23,12901,null,null,0,1222]
[12,13001,23,13027,24,13034,23,13069,null,null,0,1222]
[12,13170,23,13184,13,13198,14,13203,null,null,0,1211]
[12,13300,23,13310,24,13317,23,13328,null,null,0,1222]
[12,13424,23,13449,24,13456,23,13477,null,null,0,1222]
[12,13579,14,13586,13,13602,14,13607,null,null,0,1111]
[12,13705,14,13712,24,13740,23,13747,null,null,0,1122]
[12,13839,14,13859,24,13871,23,13878,null,null,0,1122]
[12,13971,14,13991,24,14010,23,14033,null,null,0,1122]
[12,14127,14,14159,24,14185,23,14197,null,null,0,1122]
[12,14295,14,14310,24,14328,14,14346,null,null,0,1121]
[12,14443,14,14450,13,14464,23,14475,null,null,0,1112]
[12,14571,14,14580,24,14606,23,14619,null,null,0,1122]
[12,14707,14,14726,13,14730,14,14734,null,null,0,1111]
[12,14834,14,14846,13,14860,23,14872,null,null,0,1112]
[12,14962,23,14984,24,14992,14,15009,null,null,0,1221]
[12,15104,23,15137,24,15145,23,15155,null,null,0,1222]
[12,15251,14,15266,24,15278,23,15287,null,null,0,1122]
[12,15377,23,15431,24,15439,23,15463,null,null,0,1222]
[12,15559,14,15574,24,15587,23,15595,null,null,0,1122]
[12,15691,14,15694,24,15728,23,15735,null,null,0,1122]
[12,15830,14,15837,13,15848,14,15867,null,null,0,1111]
[12,15962,14,15970,24,15982,23,15990,null,null,0,1122]
[12,16086,14,16099,13,16114,23,16135,null,null,0,1112]
[12,16235,14,16240,24,16252,23,16260,null,null,0,1122]
[12,16369,23,16391,24,16399,23,16410,null,null,0,1222]
[12,16511,23,16532,24,16539,14,16556,null,null,0,1221]
[12,16653,14,16659,13,16681,23,16695,null,null,0,1112]
[12,16796,14,16810,13,16815,14,16822,null,null,0,1111]
[12,16924,14,16941,13,16946,14,16951,null,null,0,1111]
[12,17053,14,17064,13,17069,14,17081,null,null,0,1111]
[12,17176,14,17186,13,17192,14,17204,null,null,0,1111]
[12,17301,14,17307,13,17311,14,17315,null,null,0,1111]
[12,17412,14,17416,13,17430,14,17445,null,null,0,1111]
[12,17543,14,17548,13,17566,14,17571,null,null,0,1111]
[12,17667,23,17691,24,17698,23,17710,null,null,0,1222]
[12,17806,14,17834,24,17846,23,17854,null,null,0,1122]
[12,17943,23,17963,24,17970,23,17982,null,null,0,1222]
[12,18078,14,18089,13,18103,14,18117,null,null,0,1111]
[12,18213,23,18231,24,18237,14,18255,null,null,0,1221]
[12,18352,14,18356,13,18366,14,18375,null,null,0,1111]
[12,18476,14,18490,13,18494,23,18506,null,null,0,1112]
[12,18604,14,18612,13,18620,23,18632,null,null,0,1112]
[12,18735,14,18739,13,18744,14,18776,null,null,0,1111]
[12,18889,23,18900,13,18914,14,18922,null,null,0,1211]
[12,19023,14,19027,24,19039,14,19056,null,null,0,1121]
[12,19146,14,19175,24,19186,23,19194,null,null,0,1122]
[12,19298,14,19319,24,19364,23,19381,null,null,0,1122]
[12,19477,14,19481,13,19493,14,19502,null,null,0,1111]
[12,19600,14,19624,13,19629,14,19642,null,null,0,1111]
[12,19733,14,19759,24,19771,23,19779,null,null,0,1122]
[21,19904,12,19922,13,19930,14,19938,null,null,0,2111]
[12,20035,23,20071,24,20078,23,20088,null,null,0,1222]
[12,20199,14,20210,13,20218,14,20232,null,null,0,1111]
[12,20330,14,20338,13,20357,23,20368,null,null,0,1112]
[12,20466,14,20473,13,20482,23,20494,null,null,0,1112]
[12,20585,14,20599,24,20613,23,20622,null,null,0,1122]
[12,20718,14,20734,24,20758,23,20766,null,null,0,1122]
[12,20869,14,20875,13,20887,23,20900,null,null,0,1112]
[12,20998,14,21009,13,21029,14,21037,null,null,0,1111]
[12,21133,14,21137,13,21143,14,21151,null,null,0,1111]
[12,21286,23,21297,24,21314,23,21323,null,null,0,1222]
[12,21426,23,21438,24,21447,23,21467,null,null,0,1222]
[12,21566,23,21595,24,21605,14,21631,null,null,0,1221]
[12,21731,14,21738,13,21745,23,21762,null,null,0,1112]
[12,21865,14,21884,24,21897,23,21907,null,null,0,1122]
[12,21998,23,22018,24,22026,14,22044,null,null,0,1221]
[12,22145,14,22151,24,22166,23,22178,null,null,0,1122]
[12,22279,14,22298,24,22309,23,22318,null,null,0,1122]
[12,22416,14,22420,13,22427,14,22449,null,null,0,1111]
[12,22547,14,22557,24,22579,23,22588,null,null,0,1122]
[12,22687,23,22723,13,22741,23,22764,null,null,0,1212]
[12,22865,14,22869,13,22874,14,22882,null,null,0,1111]
[12,22978,14,23001,24,23015,23,23025,null,null,0,1122]
[21,23145,21,23152,22,23167,14,23180,null,null,0,2221]
[12,23277,14,23281,24,23299,23,23307,null,null,0,1122]
[12,23408,23,23441,24,23452,14,23484,null,null,0,1221]
[12,23579,14,23599,13,23603,23,23624,null,null,0,1112]
[12,23723,14,23740,13,23753,23,23764,null,null,0,1112]
[12,23867,14,23871,13,23878,14,23885,null,null,0,1111]

{"sheet":"!M823B10.000","index":9,"n_rows":177,"n_cols":48,"rows_kept":177,"cut":false,"hidden":false,"merged":[[4,39,4,42],[5,39,5,40],[4,44,4,47],[5,44,5,45],[4,24,4,27],[5,24,5,25],[4,29,4,32],[5,29,5,30],[4,34,4,37],[5,34,5,35],[1,1,1,2],[5,13,5,14],[26,13,26,14],[27,13,27,14],[4,19,4,22],[5,19,5,20]]}
["Report for:!M823B10.000"]
["Date:","<date>"]
["Hen:","<hen>",null,null,null,"Correct Sequence",{"$f":"Start!J2","v":2212},null,null,null,null,null,null,null,null,"Total Sequences in Data",{"$f":"4994-COUNTBLANK(L7:L5000)","v":171},null,null,null,null,"Total Sequences in Block Data",{"$f":"COUNTA(L7:L35)","v":29},null,null,null,"Total Sequences in Block Data",{"$f":"COUNTA(L36:L63)","v":28},null,null,null,"Total Sequences in Block Data",{"$f":"COUNTA(L64:L92)","v":29},null,null,null,"Total Sequences in Block Data",{"$f":"COUNTA(L93:L120)","v":28},null,null,null,"Total Sequences in Block Data",{"$f":"COUNTA(L121:L149)","v":29},null,null,null,"Total Sequences in Block Data",{"$f":"COUNTA(L150:L177)","v":28}]
[null,null,null,null,null,null,null,null,null,null,null,null,null,null,null,"Total Sequences in Summary",{"$f":"SUM(O7:O22)","v":171},null,null,null,null,"Total Sequences in Block Summary",{"$f":"SUM(U7:U22)","v":29},null,null,null,"Total Sequences in Block Summary",{"$f":"SUM(Z7:Z22)","v":28},null,null,null,"Total Sequences in Block Summary",{"$f":"SUM(AE7:AE22)","v":29},null,null,null,"Total Sequences in Block Summary",{"$f":"SUM(AJ7:AJ22)","v":28},null,null,null,"Total Sequences in Block Summary",{"$f":"SUM(AO7:AO22)","v":29},null,null,null,"Total Sequences in Block Summary",{"$f":"SUM(AT7:AT22)","v":28}]
[null,null,null,null,null,null,null,null,null,null,null,null,null,null,null,null,null,null,null,"Block 1",null,null,null,null,"Block 2",null,null,null,null,"Block 3",null,null,null,null,"Block 4",null,null,null,null,"Block 5",null,null,null,null,"Block 6"]
["Sequence\nComponent\n1","Time\n1","Sequence\nComponent\n2","Time\n2","Sequence\nComponent\n3","Time\n3","Sequence\nComponent\n4","Time\n4","Sequence\nComponent\n5","Time\n5","Correct?\n0=No 1=Yes","Sequence",null,"Frequency",null,"Relative Frequency","Variability",null,null,"Frequency",null,"Relative Frequency","Variability",null,"Frequency",null,"Relative Frequency","Variability",null,"Frequency",null,"Relative Frequency","Variability",null,"Frequency",null,"Relative Frequency","Variability",null,"Frequency",null,"Relative Frequency","Variability",null,"Frequency",null,"Relative Frequency","Variability"]
[21,50,21,61,22,73,14,91,null,null,0,2221,null,1111,{"$f":"COUNTIF($L$7:$L$500,N7)","v":85},{"$f":"O7/$Q$4","v":0.49707602339181284},{"$f":"IF(P7=0,0,(P7*((LOG(P7))/LOG(2))))","v":-0.50128207130758284},null,null,{"$f":"N7","v":1111},{"$f":"COUNTIF(L7:L35,T7)","v":8},{"$f":"U7/(W4-U20)","v":0.27586206896551724},{"$f":"IF(V7=0,0,(V7*((LOG(V7))/LOG(2))))","v":-0.51254648141450265},null,{"$f":"N7","v":1111},{"$f":"COUNTIF(L36:L63,Y7)","v":7},{"$f":"Z7/(AB4-Z20)","v":0.25},{"$f":"IF(AA7=0,0,(AA7*((LOG(AA7))/LOG(2))))","v":-0.5},null,{"$f":"N7","v":1111},{"$f":"COUNTIF(L64:L92,AD7)","v":11},{"$f":"AE7/(AG4-AE20)","v":0.37931034482758619},{"$f":"IF(AF7=0,0,(AF7*((LOG(AF7))/LOG(2))))","v":-0.53048424625493174},null,{"$f":"N7","v":1111},{"$f":"COUNTIF(L93:L120,AI7)","v":15},{"$f":"AJ7/(AL4-AJ20)","v":0.5357142857142857},{"$f":"IF(AK7=0,0,(AK7*((LOG(AK7))/LOG(2))))","v":-0.48239160345486726},null,{"$f":"N7","v":1111},{"$f":"COUNTIF(L121:L149,AN7)","v":21},{"$f":"AO7/(AQ4-AO20)","v":0.72413793103448276},{"$f":"IF(AP7=0,0,(AP7*((LOG(AP7))/LOG(2))))","v":-0.33720465583879472},null,{"$f":"N7","v":1111},{"$f":"COUNTIF(L150:L177,AS7)","v":23},{"$f":"AT7/(AV4-AT20)","v":0.8214285714285714},{"$f":"IF(AU7=0,0,(AU7*((LOG(AU7))/LOG(2))))","v":-0.23311565064334283}]
[21,195,21,203,11,219,12,233,null,null,0,2211,null,1112,{"$f":"COUNTIF($L$7:$L$500,N8)","v":17},{"$f":"O8/$Q$4","v":9.9415204678362568E-2},{"$f":"IF(P8=0,0,(P8*((LOG(P8))/LOG(2))))","v":-0.3310913710631842},null,null,{"$f":"N8","v":1112},{"$f":"COUNTIF(L7:L35,T8)","v":4},{"$f":"U8/(W4-U20)","v":0.13793103448275862},{"$f":"IF(V8=0,0,(V8*((LOG(V8))/LOG(2))))","v":-0.39420427519000989},null,{"$f":"N8","v":1112},{"$f":"COUNTIF(L36:L63,Y8)","v":1},{"$f":"Z8/(AB4-Z20)","v":3.5714285714285712E-2},{"$f":"IF(AA8=0,0,(AA8*((LOG(AA8))/LOG(2))))","v":-0.17169124721634299},null,{"$f":"N8","v":1112},{"$f":"COUNTIF(L64:L92,AD8)","v":1},{"$f":"AE8/(AG4-AE20)","v":3.4482758620689655E-2},{"$f":"IF(AF8=0,0,(AF8*((LOG(AF8))/LOG(2))))","v":-0.16751658603888178},null,{"$f":"N8","v":1112},{"$f":"COUNTIF(L93:L120,AI8)","v":4},{"$f":"AJ8/(AL4-AJ20)","v":0.14285714285714285},{"$f":"IF(AK8=0,0,(AK8*((LOG(AK8))/LOG(2))))","v":-0.40105070315108626},null,{"$f":"N8","v":1112},{"$f":"COUNTIF(L121:L149,AN8)","v":4},{"$f":"AO8/(AQ4-AO20)","v":0.13793103448275862},{"$f":"IF(AP8=0,0,(AP8*((LOG(AP8))/LOG(2))))","v":-0.39420427519000989},null,{"$f":"N8","v":1112},{"$f":"COUNTIF(L150:L177,AS8)","v":3},{"$f":"AT8/(AV4-AT20)","v":0.10714285714285714},{"$f":"IF(AU8=0,0,(AU8*((LOG(AU8))/LOG(2))))","v":-0.34525633085747659}]
[12,356,14,364,13,369,23,381,null,null,0,1112,null,1121,{"$f":"COUNTIF($L$7:$L$500,N9)","v":4},{"$f":"O9/$Q$4","v":2.3391812865497075E-2},{"$f":"IF(P9=0,0,(P9*((LOG(P9))/LOG(2))))","v":-0.12673339216107363},null,null,{"$f":"N9","v":1121},{"$f":"COUNTIF(L7:L35,T9)","v":1},{"$f":"U9/(W4-U20)","v":3.4482758620689655E-2},{"$f":"IF(V9=0,0,(V9*((LOG(V9))/LOG(2))))","v":-0.16751658603888178},null,{"$f":"N9","v":1121},{"$f":"COUNTIF(L36:L63,Y9)","v":0},{"$f":"Z9/(AB4-Z20)","v":0},{"$f":"IF(AA9=0,0,(AA9*((LOG(AA9))/LOG(2))))","v":0},null,{"$f":"N9","v":1121},{"$f":"COUNTIF(L64:L92,AD9)","v":0},{"$f":"AE9/(AG4-AE20)","v":0},{"$f":"IF(AF9=0,0,(AF9*((LOG(AF9))/LOG(2))))","v":0},null,{"$f":"N9","v":1121},{"$f":"COUNTIF(L93:L120,AI9)","v":1},{"$f":"AJ9/(AL4-AJ20)","v":3.5714285714285712E-2},{"$f":"IF(AK9=0,0,(AK9*((LOG(AK9))/LOG(2))))","v":-0.17169124721634299},null,{"$f":"N9","v":1121},{"$f":"COUNTIF(L121:L149,AN9)","v":0},{"$f":"AO9/(AQ4-AO20)","v":0},{"$f":"IF(AP9=0,0,(AP9*((LOG(AP9))/LOG(2))))","v":0},null,{"$f":"N9","v":1121},{"$f":"COUNTIF(L150:L177,AS9)","v":2},{"$f":"AT9/(AV4-AT20)","v":7.1428571428571425E-2},{"$f":"IF(AU9=0,0,(AU9*((LOG(AU9))/LOG(2))))","v":-0.27195392300411453}]
[21,484,12,494,24,507,23,515,null,null,0,2122,null,1122,{"$f":"COUNTIF($L$7:$L$500,N10)","v":23},{"$f":"O10/$Q$4","v":0.13450292397660818},{"$f":"IF(P10=0,0,(P10*((LOG(P10))/LOG(2))))","v":-0.38929054300037635},null,null,{"$f":"N10","v":1122},{"$f":"COUNTIF(L7:L35,T10)","v":2},{"$f":"U10/(W4-U20)","v":6.8965517241379309E-2},{"$f":"IF(V10=0,0,(V10*((LOG(V10))/LOG(2))))","v":-0.26606765483638428},null,{"$f":"N10","v":1122},{"$f":"COUNTIF(L36:L63,Y10)","v":6},{"$f":"Z10/(AB4-Z20)","v":0.21428571428571427},{"$f":"IF(AA10=0,0,(AA10*((LOG(AA10))/LOG(2))))","v":-0.47622694742923877},null,{"$f":"N10","v":1122},{"$f":"COUNTIF(L64:L92,AD10)","v":11},{"$f":"AE10/(AG4-AE20)","v":0.37931034482758619},{"$f":"IF(AF10=0,0,(AF10*((LOG(AF10))/LOG(2))))","v":-0.53048424625493174},null,{"$f":"N10","v":1122},{"$f":"COUNTIF(L93:L120,AI10)","v":4},{"$f":"AJ10/(AL4-AJ20)","v":0.14285714285714285},{"$f":"IF(AK10=0,0,(AK10*((LOG(AK10))/LOG(2))))","v":-0.40105070315108626},null,{"$f":"N10","v":1122},{"$f":"COUNTIF(L121:L149,AN10)","v":0},{"$f":"AO10/(AQ4-AO20)","v":0},{"$f":"IF(AP10=0,0,(AP10*((LOG(AP10))/LOG(2))))","v":0},null,{"$f":"N10","v":1122},{"$f":"COUNTIF(L150:L177,AS10)","v":0},{"$f":"AT10/(AV4-AT20)","v":0},{"$f":"IF(AU10=0,0,(AU10*((LOG(AU10))/LOG(2))))","v":0}]
[21,624,12,635,24,646,14,672,null,null,0,2121,null,1211,{"$f":"COUNTIF($L$7:$L$500,N11)","v":6},{"$f":"O11/$Q$4","v":3.5087719298245612E-2},{"$f":"IF(P11=0,0,(P11*((LOG(P11))/LOG(2))))","v":-0.16957508821630671},null,null,{"$f":"N11","v":1211},{"$f":"COUNTIF(L7:L35,T11)","v":2},{"$f":"U11/(W4-U20)","v":6.8965517241379309E-2},{"$f":"IF(V11=0,0,(V11*((LOG(V11))/LOG(2))))","v":-0.26606765483638428},null,{"$f":"N11","v":1211},{"$f":"COUNTIF(L36:L63,Y11)","v":1},{"$f":"Z11/(AB4-Z20)","v":3.5714285714285712E-2},{"$f":"IF(AA11=0,0,(AA11*((LOG(AA11))/LOG(2))))","v":-0.17169124721634299},null,{"$f":"N11","v":1211},{"$f":"COUNTIF(L64:L92,AD11)","v":1},{"$f":"AE11/(AG4-AE20)","v":3.4482758620689655E-2},{"$f":"IF(AF11=0,0,(AF11*((LOG(AF11))/LOG(2))))","v":-0.16751658603888178},null,{"$f":"N11","v":1211},{"$f":"COUNTIF(L93:L120,AI11)","v":0},{"$f":"AJ11/(AL4-AJ20)","v":0},{"$f":"IF(AK11=0,0,(AK11*((LOG(AK11))/LOG(2))))","v":0},null,{"$f":"N11","v":1211},{"$f":"COUNTIF(L121:L149,AN11)","v":2},{"$f":"AO11/(AQ4-AO20)","v":6.8965517241379309E-2},{"$f":"IF(AP11=0,0,(AP11*((LOG(AP11))/LOG(2))))","v":-0.26606765483638428},null,{"$f":"N11","v":1211},{"$f":"COUNTIF(L150:L177,AS11)","v":0},{"$f":"AT11/(AV4-AT20)","v":0},{"$f":"IF(AU11=0,0,(AU11*((LOG(AU11))/LOG(2))))","v":0}]
[12,795,14,800,13,807,14,815,null,null,0,1111,null,1212,{"$f":"COUNTIF($L$7:$L$500,N12)","v":1},{"$f":"O12/$Q$4","v":5.8479532163742687E-3},{"$f":"IF(P12=0,0,(P12*((LOG(P12))/LOG(2))))","v":-4.3379254473016944E-2},null,null,{"$f":"N12","v":1212},{"$f":"COUNTIF(L7:L35,T12)","v":0},{"$f":"U12/(W4-U20)","v":0},{"$f":"IF(V12=0,0,(V12*((LOG(V12))/LOG(2))))","v":0},null,{"$f":"N12","v":1212},{"$f":"COUNTIF(L36:L63,Y12)","v":0},{"$f":"Z12/(AB4-Z20)","v":0},{"$f":"IF(AA12=0,0,(AA12*((LOG(AA12))/LOG(2))))","v":0},null,{"$f":"N12","v":1212},{"$f":"COUNTIF(L64:L92,AD12)","v":0},{"$f":"AE12/(AG4-AE20)","v":0},{"$f":"IF(AF12=0,0,(AF12*((LOG(AF12))/LOG(2))))","v":0},null,{"$f":"N12","v":1212},{"$f":"COUNTIF(L93:L120,AI12)","v":1},{"$f":"AJ12/(AL4-AJ20)","v":3.5714285714285712E-2},{"$f":"IF(AK12=0,0,(AK12*((LOG(AK12))/LOG(2))))","v":-0.17169124721634299},null,{"$f":"N12","v":1212},{"$f":"COUNTIF(L121:L149,AN12)","v":0},{"$f":"AO12/(AQ4-AO20)","v":0},{"$f":"IF(AP12=0,0,(AP12*((LOG(AP12))/LOG(2))))","v":0},null,{"$f":"N12","v":1212},{"$f":"COUNTIF(L150:L177,AS12)","v":0},{"$f":"AT12/(AV4-AT20)","v":0},{"$f":"IF(AU12=0,0,(AU12*((LOG(AU12))/LOG(2))))","v":0}]
[12,925,14,937,13,941,14,946,null,null,0,1111,null,1221,{"$f":"COUNTIF($L$7:$L$500,N13)","v":17},{"$f":"O13/$Q$4","v":9.9415204678362568E-2},{"$f":"IF(P13=0,0,(P13*((LOG(P13))/LOG(2))))","v":-0.3310913710631842},null,null,{"$f":"N13","v":1221},{"$f":"COUNTIF(L7:L35,T13)","v":5},{"$f":"U13/(W4-U20)","v":0.17241379310344829},{"$f":"IF(V13=0,0,(V13*((LOG(V13))/LOG(2))))","v":-0.43725050004141547},null,{"$f":"N13","v":1221},{"$f":"COUNTIF(L36:L63,Y13)","v":6},{"$f":"Z13/(AB4-Z20)","v":0.21428571428571427},{"$f":"IF(AA13=0,0,(AA13*((LOG(AA13))/LOG(2))))","v":-0.47622694742923877},null,{"$f":"N13","v":1221},{"$f":"COUNTIF(L64:L92,AD13)","v":2},{"$f":"AE13/(AG4-AE20)","v":6.8965517241379309E-2},{"$f":"IF(AF13=0,0,(AF13*((LOG(AF13))/LOG(2))))","v":-0.26606765483638428},null,{"$f":"N13","v":1221},{"$f":"COUNTIF(L93:L120,AI13)","v":2},{"$f":"AJ13/(AL4-AJ20)","v":7.1428571428571425E-2},{"$f":"IF(AK13=0,0,(AK13*((LOG(AK13))/LOG(2))))","v":-0.27195392300411453},null,{"$f":"N13","v":1221},{"$f":"COUNTIF(L121:L149,AN13)","v":2},{"$f":"AO13/(AQ4-AO20)","v":6.8965517241379309E-2},{"$f":"IF(AP13=0,0,(AP13*((LOG(AP13))/LOG(2))))","v":-0.26606765483638428},null,{"$f":"N13","v":1221},{"$f":"COUNTIF(L150:L177,AS13)","v":0},{"$f":"AT13/(AV4-AT20)","v":0},{"$f":"IF(AU13=0,0,(AU13*((LOG(AU13))/LOG(2))))","v":0}]
[12,1051,14,1059,13,1080,14,1084,null,null,0,1111,null,1222,{"$f":"COUNTIF($L$7:$L$500,N14)","v":11},{"$f":"O14/$Q$4","v":6.4327485380116955E-2},{"$f":"IF(P14=0,0,(P14*((LOG(P14))/LOG(2))))","v":-0.25463526233178135},null,null,{"$f":"N14","v":1222},{"$f":"COUNTIF(L7:L35,T14)","v":3},{"$f":"U14/(W4-U20)","v":0.10344827586206896},{"$f":"IF(V14=0,0,(V14*((LOG(V14))/LOG(2))))","v":-0.33858812011100858},null,{"$f":"N14","v":1222},{"$f":"COUNTIF(L36:L63,Y14)","v":5},{"$f":"Z14/(AB4-Z20)","v":0.17857142857142858},{"$f":"IF(AA14=0,0,(AA14*((LOG(AA14))/LOG(2))))","v":-0.44382621913754317},null,{"$f":"N14","v":1222},{"$f":"COUNTIF(L64:L92,AD14)","v":3},{"$f":"AE14/(AG4-AE20)","v":0.10344827586206896},{"$f":"IF(AF14=0,0,(AF14*((LOG(AF14))/LOG(2))))","v":-0.33858812011100858},null,{"$f":"N14","v":1222},{"$f":"COUNTIF(L93:L120,AI14)","v":0},{"$f":"AJ14/(AL4-AJ20)","v":0},{"$f":"IF(AK14=0,0,(AK14*((LOG(AK14))/LOG(2))))","v":0},null,{"$f":"N14","v":1222},{"$f":"COUNTIF(L121:L149,AN14)","v":0},{"$f":"AO14/(AQ4-AO20)","v":0},{"$f":"IF(AP14=0,0,(AP14*((LOG(AP14))/LOG(2))))","v":0},null,{"$f":"N14","v":1222},{"$f":"COUNTIF(L150:L177,AS14)","v":0},{"$f":"AT14/(AV4-AT20)","v":0},{"$f":"IF(AU14=0,0,(AU14*((LOG(AU14))/LOG(2))))","v":0}]
[12,1225,14,1242,13,1247,23,1257,null,null,0,1112,null,2111,{"$f":"COUNTIF($L$7:$L$500,N15)","v":0},{"$f":"O15/$Q$4","v":0},{"$f":"IF(P15=0,0,(P15*((LOG(P15))/LOG(2))))","v":0},null,null,{"$f":"N15","v":2111},{"$f":"COUNTIF(L7:L35,T15)","v":0},{"$f":"U15/(W4-U20)","v":0},{"$f":"IF(V15=0,0,(V15*((LOG(V15))/LOG(2))))","v":0},null,{"$f":"N15","v":2111},{"$f":"COUNTIF(L36:L63,Y15)","v":0},{"$f":"Z15/(AB4-Z20)","v":0},{"$f":"IF(AA15=0,0,(AA15*((LOG(AA15))/LOG(2))))","v":0},null,{"$f":"N15","v":2111},{"$f":"COUNTIF(L64:L92,AD15)","v":0},{"$f":"AE15/(AG4-AE20)","v":0},{"$f":"IF(AF15=0,0,(AF15*((LOG(AF15))/LOG(2))))","v":0},null,{"$f":"N15","v":2111},{"$f":"COUNTIF(L93:L120,AI15)","v":0},{"$f":"AJ15/(AL4-AJ20)","v":0},{"$f":"IF(AK15=0,0,(AK15*((LOG(AK15))/LOG(2))))","v":0},null,{"$f":"N15","v":2111},{"$f":"COUNTIF(L121:L149,AN15)","v":0},{"$f":"AO15/(AQ4-AO20)","v":0},{"$f":"IF(AP15=0,0,(AP15*((LOG(AP15))/LOG(2))))","v":0},null,{"$f":"N15","v":2111},{"$f":"COUNTIF(L150:L177,AS15)","v":0},{"$f":"AT15/(AV4-AT20)","v":0},{"$f":"IF(AU15=0,0,(AU15*((LOG(AU15))/LOG(2))))","v":0}]
[12,1366,23,1379,24,1387,14,1407,null,null,0,1221,null,2112,{"$f":"COUNTIF($L$7:$L$500,N16)","v":0},{"$f":"O16/$Q$4","v":0},{"$f":"IF(P16=0,0,(P16*((LOG(P16))/LOG(2))))","v":0},null,null,{"$f":"N16","v":2112},{"$f":"COUNTIF(L7:L35,T16)","v":0},{"$f":"U16/(W4-U20)","v":0},{"$f":"IF(V16=0,0,(V16*((LOG(V16))/LOG(2))))","v":0},null,{"$f":"N16","v":2112},{"$f":"COUNTIF(L36:L63,Y16)","v":0},{"$f":"Z16/(AB4-Z20)","v":0},{"$f":"IF(AA16=0,0,(AA16*((LOG(AA16))/LOG(2))))","v":0},null,{"$f":"N16","v":2112},{"$f":"COUNTIF(L64:L92,AD16)","v":0},{"$f":"AE16/(AG4-AE20)","v":0},{"$f":"IF(AF16=0,0,(AF16*((LOG(AF16))/LOG(2))))","v":0},null,{"$f":"N16","v":2112},{"$f":"COUNTIF(L93:L120,AI16)","v":0},{"$f":"AJ16/(AL4-AJ20)","v":0},{"$f":"IF(AK16=0,0,(AK16*((LOG(AK16))/LOG(2))))","v":0},null,{"$f":"N16","v":2112},{"$f":"COUNTIF(L121:L149,AN16)","v":0},{"$f":"AO16/(AQ4-AO20)","v":0},{"$f":"IF(AP16=0,0,(AP16*((LOG(AP16))/LOG(2))))","v":0},null,{"$f":"N16","v":2112},{"$f":"COUNTIF(L150:L177,AS16)","v":0},{"$f":"AT16/(AV4-AT20)","v":0},{"$f":"IF(AU16=0,0,(AU16*((LOG(AU16))/LOG(2))))","v":0}]
[12,1536,14,1549,13,1557,14,1562,null,null,0,1111,null,2121,{"$f":"COUNTIF($L$7:$L$500,N17)","v":1},{"$f":"O17/$Q$4","v":5.8479532163742687E-3},{"$f":"IF(P17=0,0,(P17*((LOG(P17))/LOG(2))))","v":-4.3379254473016944E-2},null,null,{"$f":"N17","v":2121},{"$f":"COUNTIF(L7:L35,T17)","v":1},{"$f":"U17/(W4-U20)","v":3.4482758620689655E-2},{"$f":"IF(V17=0,0,(V17*((LOG(V17))/LOG(2))))","v":-0.16751658603888178},null,{"$f":"N17","v":2121},{"$f":"COUNTIF(L36:L63,Y17)","v":0},{"$f":"Z17/(AB4-Z20)","v":0},{"$f":"IF(AA17=0,0,(AA17*((LOG(AA17))/LOG(2))))","v":0},null,{"$f":"N17","v":2121},{"$f":"COUNTIF(L64:L92,AD17)","v":0},{"$f":"AE17/(AG4-AE20)","v":0},{"$f":"IF(AF17=0,0,(AF17*((LOG(AF17))/LOG(2))))","v":0},null,{"$f":"N17","v":2121},{"$f":"COUNTIF(L93:L120,AI17)","v":0},{"$f":"AJ17/(AL4-AJ20)","v":0},{"$f":"IF(AK17=0,0,(AK17*((LOG(AK17))/LOG(2))))","v":0},null,{"$f":"N17","v":2121},{"$f":"COUNTIF(L121:L149,AN17)","v":0},{"$f":"AO17/(AQ4-AO20)","v":0},{"$f":"IF(AP17=0,0,(AP17*((LOG(AP17))/LOG(2))))","v":0},null,{"$f":"N17","v":2121},{"$f":"COUNTIF(L150:L177,AS17)","v":0},{"$f":"AT17/(AV4-AT20)","v":0},{"$f":"IF(AU17=0,0,(AU17*((LOG(AU17))/LOG(2))))","v":0}]
[12,1704,14,1720,13,1728,14,1743,null,null,0,1111,null,2122,{"$f":"COUNTIF($L$7:$L$500,N18)","v":1},{"$f":"O18/$Q$4","v":5.8479532163742687E-3},{"$f":"IF(P18=0,0,(P18*((LOG(P18))/LOG(2))))","v":-4.3379254473016944E-2},null,null,{"$f":"N18","v":2122},{"$f":"COUNTIF(L7:L35,T18)","v":1},{"$f":"U18/(W4-U20)","v":3.4482758620689655E-2},{"$f":"IF(V18=0,0,(V18*((LOG(V18))/LOG(2))))","v":-0.16751658603888178},null,{"$f":"N18","v":2122},{"$f":"COUNTIF(L36:L63,Y18)","v":0},{"$f":"Z18/(AB4-Z20)","v":0},{"$f":"IF(AA18=0,0,(AA18*((LOG(AA18))/LOG(2))))","v":0},null,{"$f":"N18","v":2122},{"$f":"COUNTIF(L64:L92,AD18)","v":0},{"$f":"AE18/(AG4-AE20)","v":0},{"$f":"IF(AF18=0,0,(AF18*((LOG(AF18))/LOG(2))))","v":0},null,{"$f":"N18","v":2122},{"$f":"COUNTIF(L93:L120,AI18)","v":0},{"$f":"AJ18/(AL4-AJ20)","v":0},{"$f":"IF(AK18=0,0,(AK18*((LOG(AK18))/LOG(2))))","v":0},null,{"$f":"N18","v":2122},{"$f":"COUNTIF(L121:L149,AN18)","v":0},{"$f":"AO18/(AQ4-AO20)","v":0},{"$f":"IF(AP18=0,0,(AP18*((LOG(AP18))/LOG(2))))","v":0},null,{"$f":"N18","v":2122},{"$f":"COUNTIF(L150:L177,AS18)","v":0},{"$f":"AT18/(AV4-AT20)","v":0},{"$f":"IF(AU18=0,0,(AU18*((LOG(AU18))/LOG(2))))","v":0}]
[12,1881,23,1894,24,1908,14,1926,null,null,0,1221,null,2211,{"$f":"COUNTIF($L$7:$L$500,N19)","v":2},{"$f":"O19/$Q$4","v":1.1695906432748537E-2},{"$f":"IF(P19=0,0,(P19*((LOG(P19))/LOG(2))))","v":-7.5062602513285351E-2},null,null,{"$f":"N19","v":2211},{"$f":"COUNTIF(L7:L35,T19)","v":1},{"$f":"U19/(W4-U20)","v":3.4482758620689655E-2},{"$f":"IF(V19=0,0,(V19*((LOG(V19))/LOG(2))))","v":-0.16751658603888178},null,{"$f":"N19","v":2211},{"$f":"COUNTIF(L36:L63,Y19)","v":1},{"$f":"Z19/(AB4-Z20)","v":3.5714285714285712E-2},{"$f":"IF(AA19=0,0,(AA19*((LOG(AA19))/LOG(2))))","v":-0.17169124721634299},null,{"$f":"N19","v":2211},{"$f":"COUNTIF(L64:L92,AD19)","v":0},{"$f":"AE19/(AG4-AE20)","v":0},{"$f":"IF(AF19=0,0,(AF19*((LOG(AF19))/LOG(2))))","v":0},null,{"$f":"N19","v":2211},{"$f":"COUNTIF(L93:L120,AI19)","v":0},{"$f":"AJ19/(AL4-AJ20)","v":0},{"$f":"IF(AK19=0,0,(AK19*((LOG(AK19))/LOG(2))))","v":0},null,{"$f":"N19","v":2211},{"$f":"COUNTIF(L121:L149,AN19)","v":0},{"$f":"AO19/(AQ4-AO20)","v":0},{"$f":"IF(AP19=0,0,(AP19*((LOG(AP19))/LOG(2))))","v":0},null,{"$f":"N19","v":2211},{"$f":"COUNTIF(L150:L177,AS19)","v":0},{"$f":"AT19/(AV4-AT20)","v":0},{"$f":"IF(AU19=0,0,(AU19*((LOG(AU19))/LOG(2))))","v":0}]
[12,2054,23,2065,13,2100,14,2115,null,null,0,1211,null,2212,{"$f":"COUNTIF($L$7:$L$500,N20)","v":0},{"$f":"O20/$Q$4","v":0},{"$f":"IF(P20=0,0,(P20*((LOG(P20))/LOG(2))))","v":0},null,null,{"$f":"N20","v":2212},{"$f":"COUNTIF(L7:L35,T20)","v":0},null,null,null,{"$f":"N20","v":2212},{"$f":"COUNTIF(L36:L63,Y20)","v":0},null,null,null,{"$f":"N20","v":2212},{"$f":"COUNTIF(L64:L92,AD20)","v":0},null,null,null,{"$f":"N20","v":2212},{"$f":"COUNTIF(L93:L120,AI20)","v":0},null,null,null,{"$f":"N20","v":2212},{"$f":"COUNTIF(L121:L149,AN20)","v":0},null,null,null,{"$f":"N20","v":2212},{"$f":"COUNTIF(L150:L177,AS20)","v":0}]
[12,2227,14,2233,13,2241,14,2248,null,null,0,1111,null,2221,{"$f":"COUNTIF($L$7:$L$500,N21)","v":1},{"$f":"O21/$Q$4","v":5.8479532163742687E-3},{"$f":"IF(P21=0,0,(P21*((LOG(P21))/LOG(2))))","v":-4.3379254473016944E-2},null,null,{"$f":"N21","v":2221},{"$f":"COUNTIF(L7:L35,T21)","v":1},{"$f":"U21/(W4-U20)","v":3.4482758620689655E-2},{"$f":"IF(V21=0,0,(V21*((LOG(V21))/LOG(2))))","v":-0.16751658603888178},null,{"$f":"N21","v":2221},{"$f":"COUNTIF(L36:L63,Y21)","v":0},{"$f":"Z21/(AB4-Z20)","v":0},{"$f":"IF(AA21=0,0,(AA21*((LOG(AA21))/LOG(2))))","v":0},null,{"$f":"N21","v":2221},{"$f":"COUNTIF(L64:L92,AD21)","v":0},{"$f":"AE21/(AG4-AE20)","v":0},{"$f":"IF(AF21=0,0,(AF21*((LOG(AF21))/LOG(2))))","v":0},null,{"$f":"N21","v":2221},{"$f":"COUNTIF(L93:L120,AI21)","v":0},{"$f":"AJ21/(AL4-AJ20)","v":0},{"$f":"IF(AK21=0,0,(AK21*((LOG(AK21))/LOG(2))))","v":0},null,{"$f":"N21","v":2221},{"$f":"COUNTIF(L121:L149,AN21)","v":0},{"$f":"AO21/(AQ4-AO20)","v":0},{"$f":"IF(AP21=0,0,(AP21*((LOG(AP21))/LOG(2))))","v":0},null,{"$f":"N21","v":2221},{"$f":"COUNTIF(L150:L177,AS21)","v":0},{"$f":"AT21/(AV4-AT20)","v":0},{"$f":"IF(AU21=0,0,(AU21*((LOG(AU21))/LOG(2))))","v":0}]
[12,2347,23,2366,13,2384,14,2393,null,null,0,1211,null,2222,{"$f":"COUNTIF($L$7:$L$500,N22)","v":2},{"$f":"O22/$Q$4","v":1.1695906432748537E-2},{"$f":"IF(P22=0,0,(P22*((LOG(P22))/LOG(2))))","v":-7.5062602513285351E-2},null,null,{"$f":"N22","v":2222},{"$f":"COUNTIF(L7:L35,T22)","v":0},{"$f":"U22/(W4-U20)","v":0},{"$f":"IF(V22=0,0,(V22*((LOG(V22))/LOG(2))))","v":0},null,{"$f":"N22","v":2222},{"$f":"COUNTIF(L36:L63,Y22)","v":1},{"$f":"Z22/(AB4-Z20)","v":3.5714285714285712E-2},{"$f":"IF(AA22=0,0,(AA22*((LOG(AA22))/LOG(2))))","v":-0.17169124721634299},null,{"$f":"N22","v":2222},{"$f":"COUNTIF(L64:L92,AD22)","v":0},{"$f":"AE22/(AG4-AE20)","v":0},{"$f":"IF(AF22=0,0,(AF22*((LOG(AF22))/LOG(2))))","v":0},null,{"$f":"N22","v":2222},{"$f":"COUNTIF(L93:L120,AI22)","v":1},{"$f":"AJ22/(AL4-AJ20)","v":3.5714285714285712E-2},{"$f":"IF(AK22=0,0,(AK22*((LOG(AK22))/LOG(2))))","v":-0.17169124721634299},null,{"$f":"N22","v":2222},{"$f":"COUNTIF(L121:L149,AN22)","v":0},{"$f":"AO22/(AQ4-AO20)","v":0},{"$f":"IF(AP22=0,0,(AP22*((LOG(AP22))/LOG(2))))","v":0},null,{"$f":"N22","v":2222},{"$f":"COUNTIF(L150:L177,AS22)","v":0},{"$f":"AT22/(AV4-AT20)","v":0},{"$f":"IF(AU22=0,0,(AU22*((LOG(AU22))/LOG(2))))","v":0}]
[12,2490,23,2505,24,2517,23,2527,null,null,0,1222,null,null,null,{"$f":"SUM(P7:P22)","v":0.99999999999999989},{"$f":"-SUM(Q7:Q22)","v":2.4273413220621287},null,null,null,null,{"$f":"SUM(V7:V22)","v":0.99999999999999989},{"$f":"-SUM(W7:W22)","v":3.0523076166241143},null,null,null,{"$f":"SUM(AA7:AA22)","v":1},{"$f":"-SUM(AB7:AB22)","v":2.5830451028613926},null,null,null,{"$f":"SUM(AF7:AF22)","v":1},{"$f":"-SUM(AG7:AG22)","v":2.0006574395350203},null,null,null,{"$f":"SUM(AK7:AK22)","v":1},{"$f":"-SUM(AL7:AL22)","v":2.0715206744101833},null,null,null,{"$f":"SUM(AP7:AP22)","v":1},{"$f":"-SUM(AQ7:AQ22)","v":1.2635442407015731},null,null,null,{"$f":"SUM(AU7:AU22)","v":0.99999999999999989},{"$f":"-SUM(AV7:AV22)","v":0.85032590450493406}]
[12,2639,23,2650,24,2658,14,2681,null,null,0,1221,null,null,null,"U=",{"$f":"Q23/(LOG(Q4)/LOG(2))","v":0.32722965537411558},null,null,null,null,"U1=",{"$f":"W23/(LOG(W4)/LOG(2))","v":0.62830785457693206},null,null,null,"U2=",{"$f":"AB23/(LOG(AB4)/LOG(2))","v":0.53731108785199055},null,null,null,"U3=",{"$f":"AG23/(LOG(AG4)/LOG(2))","v":0.41182899676668711},null,null,null,"U4=",{"$f":"AL23/(LOG(AL4)/LOG(2))","v":0.43090653966600584},null,null,null,"U5=",{"$f":"AQ23/(LOG(AQ4)/LOG(2))","v":0.26009657962204358},null,null,null,"U6=",{"$f":"AV23/(LOG(AV4)/LOG(2))","v":0.17688020091950787}]
[12,2795,14,2799,24,2810,23,2823,null,null,0,1122]
[12,2937,23,2949,24,2969,23,2990,null,null,0,1222]
[12,3088,14,3095,13,3107,23,3117,null,null,0,1112,null,"Total Target Seq"]
[12,3214,14,3227,24,3241,14,3254,null,null,0,1121,null,{"$f":"COUNTIF(L7:L177,G3)","v":0},null,29,28,29,28,29,28]
[12,3370,14,3374,24,3394,23,3402,null,null,0,1122,null,null,null,"% of reinforcement given in 6 equal intervals based on number of trials "]
[12,3512,14,3517,13,3526,14,3534,null,null,0,1111,null,null,null,"%_1","%_2","%_3","%_4","%_5","%_6"]
[12,3636,23,3647,24,3655,14,3672,null,null,0,1221,null,null,"target sequence",{"$f":"$G$3","v":2212},{"$f":"$G$3","v":2212},{"$f":"$G$3","v":2212},{"$f":"$G$3","v":2212},{"$f":"$G$3","v":2212},{"$f":"$G$3","v":2212}]
[12,3776,23,3789,24,3798,14,3812,null,null,0,1221,null,null,"total reinforcement",{"$f":"U20","v":0},{"$f":"Z20","v":0},{"$f":"AE20","v":0},{"$f":"AJ20","v":0},{"$f":"AO20","v":0},{"$f":"AT20","v":0}]
[12,3918,14,3937,13,3941,23,3958,null,null,0,1112,null,null,"% target"]
[12,4078,14,4086,13,4094,14,4114,null,null,0,1111,null,null,"CCRF"]
[12,4212,23,4220,24,4231,23,4241,null,null,0,1222,null,null,"% CCRf"]
[12,4366,23,4375,13,4391,14,4400,null,null,0,1211,null,null,"average response rate",{"$f":"H35/P28","v":146.24137931034483},{"$f":"(H63-H35)/Q28","v":147.42857142857142},{"$f":"(H92-H63)/R28","v":139.68965517241378},{"$f":"(H120-H92)/S28","v":137.53571428571428},{"$f":"(H149-H120)/T28","v":137},{"$f":"(H177-H149)/U28","v":133.75}]
[12,4514,23,4525,24,4538,14,4552,null,null,0,1221]
[12,4648,23,4668,24,4680,14,4698,null,null,0,1221]
[12,4820,23,4830,24,4844,23,4853,null,null,0,1222]
[12,4953,14,4962,24,4983,23,5000,null,null,0,1122]
[12,5106,23,5120,24,5128,14,5151,null,null,0,1221]
[12,5257,14,5272,24,5284,23,5293,null,null,0,1122]
[12,5392,14,5414,13,5420,14,5431,null,null,0,1111]
[12,5539,23,5552,24,5560,23,5568,null,null,0,1222]
[12,5689,14,5704,13,5708,14,5716,null,null,0,1111]
[12,5826,23,5838,24,5846,14,5865,null,null,0,1221]
[12,5958,14,5977,13,5981,14,5986,null,null,0,1111]
[12,6083,14,6090,13,6107,14,6115,null,null,0,1111]
[12,6223,14,6227,13,6232,23,6249,null,null,0,1112]
[12,6353,14,6370,24,6382,23,6391,null,null,0,1122]
[12,6495,23,6505,24,6513,23,6534,null,null,0,1222]
[12,6632,23,6646,24,6657,14,6674,null,null,0,1221]
[21,6787,21,6800,22,6819,23,6830,null,null,0,2222]
[12,6938,23,6949,24,6957,23,6967,null,null,0,1222]
[12,7069,14,7088,24,7099,23,7111,null,null,0,1122]
[12,7216,23,7265,24,7275,23,7308,null,null,0,1222]
[12,7407,14,7419,13,7423,14,7431,null,null,0,1111]
[21,7573,21,7581,11,7600,12,7608,null,null,0,2211]
[12,7785,14,7794,13,7804,14,7813,null,null,0,1111]
[12,7912,23,7925,24,7932,14,7954,null,null,0,1221]
[12,8051,14,8071,13,8076,14,8089,null,null,0,1111]
[12,8189,14,8215,24,8228,23,8236,null,null,0,1122]
[12,8334,14,8348,24,8361,23,8369,null,null,0,1122]
[12,8467,14,8480,24,8494,23,8503,null,null,0,1122]
[12,8602,14,8622,24,8633,23,8644,null,null,0,1122]
[12,8743,14,8762,24,8773,23,8782,null,null,0,1122]
[12,8878,14,8897,13,8902,14,8910,null,null,0,1111]
[12,9011,14,9015,24,9026,23,9034,null,null,0,1122]
[12,9133,14,9157,24,9181,23,9193,null,null,0,1122]
[12,9301,14,9314,24,9334,23,9342,null,null,0,1122]
[12,9475,14,9479,13,9484,14,9495,null,null,0,1111]
[12,9594,14,9598,13,9606,14,9611,null,null,0,1111]
[12,9713,23,9739,24,9752,23,9761,null,null,0,1222]
[12,9864,14,9871,13,9887,14,9894,null,null,0,1111]
[12,10010,14,10015,24,10027,23,10038,null,null,0,1122]
[12,10169,14,10174,24,10187,23,10196,null,null,0,1122]
[12,10309,14,10324,13,10351,14,10358,null,null,0,1111]
[12,10465,14,10483,13,10487,14,10496,null,null,0,1111]
[12,10599,14,10612,13,10635,14,10639,null,null,0,1111]
[12,10752,14,10760,13,10765,14,10773,null,null,0,1111]
[12,10886,23,10907,24,10915,23,10927,null,null,0,1222]
[12,11028,23,11055,13,11067,14,11074,null,null,0,1211]
[12,11175,14,11184,13,11201,14,11206,null,null,0,1111]
[12,11308,14,11313,24,11327,23,11335,null,null,0,1122]
[12,11431,14,11448,13,11452,14,11461,null,null,0,1111]
[12,11564,23,11588,24,11597,14,11619,null,null,0,1221]
[12,11719,14,11723,13,11728,14,11736,null,null,0,1111]
[12,11849,23,11860,24,11870,14,11890,null,null,0,1221]
[12,11992,14,11997,24,12009,23,12022,null,null,0,1122]
[12,12131,23,12151,24,12160,23,12169,null,null,0,1222]
[12,12269,14,12275,24,12285,23,12294,null,null,0,1122]
[12,12400,14,12404,13,12409,23,12420,null,null,0,1112]
[12,12518,14,12539,24,12561,14,12579,null,null,0,1121]
[12,12683,14,12694,13,12699,14,12703,null,null,0,1111]
[12,12806,14,12818,13,12823,14,12828,null,null,0,1111]
[12,12926,14,12938,13,12943,23,12955,null,null,0,1112]
[12,13065,23,13077,13,13095,23,13116,null,null,0,1212]
[12,13217,14,13222,13,13236,14,13242,null,null,0,1111]
[12,13342,14,13347,13,13352,14,13364,null,null,0,1111]
[12,13472,23,13486,24,13494,14,13517,null,null,0,1221]
[12,13615,14,13626,24,13638,23,13647,null,null,0,1122]
[21,13773,21,13781,22,13793,23,13805,null,null,0,2222]
[12,13905,14,13924,13,13941,14,13952,null,null,0,1111]
[12,14050,14,14068,13,14072,14,14077,null,null,0,1111]
[12,14188,14,14210,24,14223,23,14232,null,null,0,1122]
[12,14337,14,14342,13,14361,14,14370,null,null,0,1111]
[12,14481,14,14495,24,14510,23,14522,null,null,0,1122]
[12,14619,14,14622,13,14627,14,14632,null,null,0,1111]
[12,14734,14,14753,13,14774,23,14792,null,null,0,1112]
[12,14892,14,14913,13,14918,14,14930,null,null,0,1111]
[12,15032,14,15040,13,15053,14,15065,null,null,0,1111]
[12,15184,14,15195,13,15200,23,15214,null,null,0,1112]
[12,15310,14,15326,13,15330,23,15342,null,null,0,1112]
[12,15454,14,15463,24,15475,23,15482,null,null,0,1122]
[12,15584,14,15593,13,15602,14,15606,null,null,0,1111]
[12,15709,14,15720,13,15727,14,15731,null,null,0,1111]
[12,15828,14,15832,13,15844,14,15848,null,null,0,1111]
[12,15952,14,15957,13,15971,14,15976,null,null,0,1111]
[12,16077,14,16082,13,16086,14,16091,null,null,0,1111]
[12,16188,23,16235,24,16256,14,16271,null,null,0,1221]
[12,16374,14,16379,13,16397,14,16409,null,null,0,1111]
[12,16514,14,16522,13,16526,14,16534,null,null,0,1111]
[12,16644,23,16662,24,16673,14,16689,null,null,0,1221]
[12,16809,23,16829,24,16843,14,16856,null,null,0,1221]
[12,16954,14,16964,13,16977,14,16985,null,null,0,1111]
[12,17082,23,17106,13,17119,14,17127,null,null,0,1211]
[12,17225,14,17229,13,17233,14,17238,null,null,0,1111]
[12,17349,14,17366,13,17384,23,17403,null,null,0,1112]
[12,17504,14,17514,13,17524,14,17540,null,null,0,1111]
[12,17653,14,17657,13,17665,23,17684,null,null,0,1112]
[12,17803,14,17808,13,17834,14,17877,null,null,0,1111]
[12,17985,14,17989,13,18001,23,18014,null,null,0,1112]
[12,18114,14,18118,13,18125,14,18129,null,null,0,1111]
[12,18225,14,18230,13,18242,14,18247,null,null,0,1111]
[12,18361,14,18373,13,18377,14,18386,null,null,0,1111]
[12,18520,14,18527,13,18539,14,18547,null,null,0,1111]
[12,18657,14,18665,13,18674,14,18686,null,null,0,1111]
[12,18784,14,18795,13,18807,14,18812,null,null,0,1111]
[12,18918,14,18922,13,18940,14,18945,null,null,0,1111]
[12,19038,14,19043,13,19047,14,19055,null,null,0,1111]
[12,19164,14,19168,13,19176,14,19181,null,null,0,1111]
[12,19302,14,19306,13,19310,14,19319,null,null,0,1111]
[12,19417,14,19422,13,19426,14,19431,null,null,0,1111]
[12,19528,14,19532,13,19537,14,19547,null,null,0,1111]
[12,19658,23,19671,13,19694,14,19699,null,null,0,1211]
[12,19810,14,19815,13,19819,23,19834,null,null,0,1112]
[12,19937,14,19941,13,19963,14,19967,null,null,0,1111]
[12,20064,14,20068,13,20097,14,20106,null,null,0,1111]
[12,20219,14,20231,13,20236,14,20244,null,null,0,1111]
[12,20343,14,20363,13,20373,14,20379,null,null,0,1111]
[12,20485,14,20489,13,20494,14,20505,null,null,0,1111]
[12,20615,14,20620,13,20625,23,20637,null,null,0,1112]
[12,20738,14,20750,13,20754,14,20762,null,null,0,1111]
[12,20855,14,20867,13,20878,14,20890,null,null,0,1111]
[12,21005,14,21009,13,21014,14,21022,null,null,0,1111]
[12,21125,14,21138,24,21151,14,21164,null,null,0,1121]
[12,21267,14,21278,13,21314,14,21335,null,null,0,1111]
[12,21437,14,21448,13,21457,14,21471,null,null,0,1111]
[12,21571,14,21593,13,21602,14,21610,null,null,0,1111]
[12,21710,14,21714,13,21736,14,21740,null,null,0,1111]
[12,21838,14,21851,13,21859,14,21871,null,null,0,1111]
[12,21967,14,21976,13,21983,14,22002,null,null,0,1111]
[12,22099,14,22119,13,22131,14,22139,null,null,0,1111]
[12,22236,14,22240,13,22245,14,22275,null,null,0,1111]
[12,22373,14,22386,13,22395,23,22428,null,null,0,1112]
[12,22527,14,22532,13,22536,14,22544,null,null,0,1111]
[12,22639,14,22648,13,22652,14,22661,null,null,0,1111]
[12,22778,14,22786,13,22794,14,22803,null,null,0,1111]
[12,22903,14,22916,13,22920,14,22931,null,null,0,1111]
[12,23033,14,23049,13,23054,14,23059,null,null,0,1111]
[12,23156,14,23166,13,23183,14,23187,null,null,0,1111]
[12,23292,14,23311,24,23326,14,23339,null,null,0,1121]
[12,23444,14,23458,13,23462,14,23483,null,null,0,1111]
[12,23584,14,23590,13,23602,14,23606,null,null,0,1111]
[12,23704,14,23716,13,23725,14,23746,null,null,0,1111]
[12,23844,14,23851,13,23857,23,23872,null,null,0,1112]
[12,23970,14,23981,13,23984,14,23989,null,null,null,1111]

{"sheet":"!M824B10.104","index":10,"n_rows":188,"n_cols":48,"rows_kept":188,"cut":false,"hidden":false,"merged":[[4,39,4,42],[5,39,5,40],[4,44,4,47],[5,44,5,45],[4,24,4,27],[5,24,5,25],[4,29,4,32],[5,29,5,30],[4,34,4,37],[5,34,5,35],[1,1,1,2],[5,13,5,14],[26,13,26,14],[27,13,27,14],[4,19,4,22],[5,19,5,20]]}
["Report for:!M824B10.104"]
["Date:","<date>"]
["Hen:","<hen>",null,null,null,"Correct Sequence",{"$f":"Start!J2","v":2212},null,null,null,null,null,null,null,null,"Total Sequences in Data",{"$f":"4994-COUNTBLANK(L7:L5000)","v":182},null,null,null,null,"Total Sequences in Block Data",{"$f":"COUNTA(L7:L36)","v":30},null,null,null,"Total Sequences in Block Data",{"$f":"COUNTA(L37:L67)","v":31},null,null,null,"Total Sequences in Block Data",{"$f":"COUNTA(L68:L97)","v":30},null,null,null,"Total Sequences in Block Data",{"$f":"COUNTA(L98:L127)","v":30},null,null,null,"Total Sequences in Block Data",{"$f":"COUNTA(L128:L158)","v":31},null,null,null,"Total Sequences in Block Data",{"$f":"COUNTA(L159:L188)","v":30}]
[null,null,null,null,null,null,null,null,null,null,null,null,null,null,null,"Total Sequences in Summary",{"$f":"SUM(O7:O22)","v":182},null,null,null,null,"Total Sequences in Block Summary",{"$f":"SUM(U7:U22)","v":30},null,null,null,"Total Sequences in Block Summary",{"$f":"SUM(Z7:Z22)","v":31},null,null,null,"Total Sequences in Block Summary",{"$f":"SUM(AE7:AE22)","v":30},null,null,null,"Total Sequences in Block Summary",{"$f":"SUM(AJ7:AJ22)","v":30},null,null,null,"Total Sequences in Block Summary",{"$f":"SUM(AO7:AO22)","v":31},null,null,null,"Total Sequences in Block Summary",{"$f":"SUM(AT7:AT22)","v":30}]
[null,null,null,null,null,null,null,null,null,null,null,null,null,null,null,null,null,null,null,"Block 1",null,null,null,null,"Block 2",null,null,null,null,"Block 3",null,null,null,null,"Block 4",null,null,null,null,"Block 5",null,null,null,null,"Block 6"]
["Sequence\nComponent\n1","Time\n1","Sequence\nComponent\n2","Time\n2","Sequence\nComponent\n3","Time\n3","Sequence\nComponent\n4","Time\n4","Sequence\nComponent\n5","Time\n5","Correct?\n0=No 1=Yes","Sequence",null,"Frequency",null,"Relative Frequency","Variability",null,null,"Frequency",null,"Relative Frequency","Variability",null,"Frequency",null,"Relative Frequency","Variability",null,"Frequency",null,"Relative Frequency","Variability",null,"Frequency",null,"Relative Frequency","Variability",null,"Frequency",null,"Relative Frequency","Variability",null,"Frequency",null,"Relative Frequency","Variability"]
[12,15,23,24,24,32,14,48,null,null,0,1221,null,1111,{"$f":"COUNTIF($L$7:$L$500,N7)","v":132},{"$f":"O7/$Q$4","v":0.72527472527472525},{"$f":"IF(P7=0,0,(P7*((LOG(P7))/LOG(2))))","v":-0.33609268544457177},null,null,{"$f":"N7","v":1111},{"$f":"COUNTIF(L7:L36,T7)","v":12},{"$f":"U7/(W4-U20)","v":0.4},{"$f":"IF(V7=0,0,(V7*((LOG(V7))/LOG(2))))","v":-0.52877123795494496},null,{"$f":"N7","v":1111},{"$f":"COUNTIF(L37:L67,Y7)","v":25},{"$f":"Z7/(AB4-Z20)","v":0.80645161290322576},{"$f":"IF(AA7=0,0,(AA7*((LOG(AA7))/LOG(2))))","v":-0.25027429081625047},null,{"$f":"N7","v":1111},{"$f":"COUNTIF(L68:L97,AD7)","v":20},{"$f":"AE7/(AG4-AE20)","v":0.66666666666666663},{"$f":"IF(AF7=0,0,(AF7*((LOG(AF7))/LOG(2))))","v":-0.38997500048077083},null,{"$f":"N7","v":1111},{"$f":"COUNTIF(L98:L127,AI7)","v":24},{"$f":"AJ7/(AL4-AJ20)","v":0.8},{"$f":"IF(AK7=0,0,(AK7*((LOG(AK7))/LOG(2))))","v":-0.25754247590988982},null,{"$f":"N7","v":1111},{"$f":"COUNTIF(L128:L158,AN7)","v":26},{"$f":"AO7/(AQ4-AO20)","v":0.83870967741935487},{"$f":"IF(AP7=0,0,(AP7*((LOG(AP7))/LOG(2))))","v":-0.21282810962549539},null,{"$f":"N7","v":1111},{"$f":"COUNTIF(L159:L188,AS7)","v":25},{"$f":"AT7/(AV4-AT20)","v":0.83333333333333337},{"$f":"IF(AU7=0,0,(AU7*((LOG(AU7))/LOG(2))))","v":-0.21919533819482812}]
[12,171,14,178,24,188,14,204,null,null,0,1121,null,1112,{"$f":"COUNTIF($L$7:$L$500,N8)","v":15},{"$f":"O8/$Q$4","v":8.2417582417582416E-2},{"$f":"IF(P8=0,0,(P8*((LOG(P8))/LOG(2))))","v":-0.29677780587281682},null,null,{"$f":"N8","v":1112},{"$f":"COUNTIF(L7:L36,T8)","v":2},{"$f":"U8/(W4-U20)","v":6.6666666666666666E-2},{"$f":"IF(V8=0,0,(V8*((LOG(V8))/LOG(2))))","v":-0.26045937304056793},null,{"$f":"N8","v":1112},{"$f":"COUNTIF(L37:L67,Y8)","v":4},{"$f":"Z8/(AB4-Z20)","v":0.12903225806451613},{"$f":"IF(AA8=0,0,(AA8*((LOG(AA8))/LOG(2))))","v":-0.38118662069508069},null,{"$f":"N8","v":1112},{"$f":"COUNTIF(L68:L97,AD8)","v":3},{"$f":"AE8/(AG4-AE20)","v":0.1},{"$f":"IF(AF8=0,0,(AF8*((LOG(AF8))/LOG(2))))","v":-0.33219280948873625},null,{"$f":"N8","v":1112},{"$f":"COUNTIF(L98:L127,AI8)","v":1},{"$f":"AJ8/(AL4-AJ20)","v":3.3333333333333333E-2},{"$f":"IF(AK8=0,0,(AK8*((LOG(AK8))/LOG(2))))","v":-0.16356301985361729},null,{"$f":"N8","v":1112},{"$f":"COUNTIF(L128:L158,AN8)","v":1},{"$f":"AO8/(AQ4-AO20)","v":3.2258064516129031E-2},{"$f":"IF(AP8=0,0,(AP8*((LOG(AP8))/LOG(2))))","v":-0.15981278420602821},null,{"$f":"N8","v":1112},{"$f":"COUNTIF(L159:L188,AS8)","v":4},{"$f":"AT8/(AV4-AT20)","v":0.13333333333333333},{"$f":"IF(AU8=0,0,(AU8*((LOG(AU8))/LOG(2))))","v":-0.3875854127478025}]
[12,306,23,322,24,331,14,345,null,null,0,1221,null,1121,{"$f":"COUNTIF($L$7:$L$500,N9)","v":5},{"$f":"O9/$Q$4","v":2.7472527472527472E-2},{"$f":"IF(P9=0,0,(P9*((LOG(P9))/LOG(2))))","v":-0.14246886113492674},null,null,{"$f":"N9","v":1121},{"$f":"COUNTIF(L7:L36,T9)","v":2},{"$f":"U9/(W4-U20)","v":6.6666666666666666E-2},{"$f":"IF(V9=0,0,(V9*((LOG(V9))/LOG(2))))","v":-0.26045937304056793},null,{"$f":"N9","v":1121},{"$f":"COUNTIF(L37:L67,Y9)","v":0},{"$f":"Z9/(AB4-Z20)","v":0},{"$f":"IF(AA9=0,0,(AA9*((LOG(AA9))/LOG(2))))","v":0},null,{"$f":"N9","v":1121},{"$f":"COUNTIF(L68:L97,AD9)","v":2},{"$f":"AE9/(AG4-AE20)","v":6.6666666666666666E-2},{"$f":"IF(AF9=0,0,(AF9*((LOG(AF9))/LOG(2))))","v":-0.26045937304056793},null,{"$f":"N9","v":1121},{"$f":"COUNTIF(L98:L127,AI9)","v":0},{"$f":"AJ9/(AL4-AJ20)","v":0},{"$f":"IF(AK9=0,0,(AK9*((LOG(AK9))/LOG(2))))","v":0},null,{"$f":"N9","v":1121},{"$f":"COUNTIF(L128:L158,AN9)","v":1},{"$f":"AO9/(AQ4-AO20)","v":3.2258064516129031E-2},{"$f":"IF(AP9=0,0,(AP9*((LOG(AP9))/LOG(2))))","v":-0.15981278420602821},null,{"$f":"N9","v":1121},{"$f":"COUNTIF(L159:L188,AS9)","v":0},{"$f":"AT9/(AV4-AT20)","v":0},{"$f":"IF(AU9=0,0,(AU9*((LOG(AU9))/LOG(2))))","v":0}]
[21,450,12,459,13,471,14,475,null,null,0,2111,null,1122,{"$f":"COUNTIF($L$7:$L$500,N10)","v":14},{"$f":"O10/$Q$4","v":7.6923076923076927E-2},{"$f":"IF(P10=0,0,(P10*((LOG(P10))/LOG(2))))","v":-0.28464920908777636},null,null,{"$f":"N10","v":1122},{"$f":"COUNTIF(L7:L36,T10)","v":3},{"$f":"U10/(W4-U20)","v":0.1},{"$f":"IF(V10=0,0,(V10*((LOG(V10))/LOG(2))))","v":-0.33219280948873625},null,{"$f":"N10","v":1122},{"$f":"COUNTIF(L37:L67,Y10)","v":2},{"$f":"Z10/(AB4-Z20)","v":6.4516129032258063E-2},{"$f":"IF(AA10=0,0,(AA10*((LOG(AA10))/LOG(2))))","v":-0.25510943937979835},null,{"$f":"N10","v":1122},{"$f":"COUNTIF(L68:L97,AD10)","v":4},{"$f":"AE10/(AG4-AE20)","v":0.13333333333333333},{"$f":"IF(AF10=0,0,(AF10*((LOG(AF10))/LOG(2))))","v":-0.3875854127478025},null,{"$f":"N10","v":1122},{"$f":"COUNTIF(L98:L127,AI10)","v":2},{"$f":"AJ10/(AL4-AJ20)","v":6.6666666666666666E-2},{"$f":"IF(AK10=0,0,(AK10*((LOG(AK10))/LOG(2))))","v":-0.26045937304056793},null,{"$f":"N10","v":1122},{"$f":"COUNTIF(L128:L158,AN10)","v":2},{"$f":"AO10/(AQ4-AO20)","v":6.4516129032258063E-2},{"$f":"IF(AP10=0,0,(AP10*((LOG(AP10))/LOG(2))))","v":-0.25510943937979835},null,{"$f":"N10","v":1122},{"$f":"COUNTIF(L159:L188,AS10)","v":1},{"$f":"AT10/(AV4-AT20)","v":3.3333333333333333E-2},{"$f":"IF(AU10=0,0,(AU10*((LOG(AU10))/LOG(2))))","v":-0.16356301985361729}]
[12,570,23,578,24,585,14,598,null,null,0,1221,null,1211,{"$f":"COUNTIF($L$7:$L$500,N11)","v":1},{"$f":"O11/$Q$4","v":5.4945054945054949E-3},{"$f":"IF(P11=0,0,(P11*((LOG(P11))/LOG(2))))","v":-4.1251618902190638E-2},null,null,{"$f":"N11","v":1211},{"$f":"COUNTIF(L7:L36,T11)","v":0},{"$f":"U11/(W4-U20)","v":0},{"$f":"IF(V11=0,0,(V11*((LOG(V11))/LOG(2))))","v":0},null,{"$f":"N11","v":1211},{"$f":"COUNTIF(L37:L67,Y11)","v":0},{"$f":"Z11/(AB4-Z20)","v":0},{"$f":"IF(AA11=0,0,(AA11*((LOG(AA11))/LOG(2))))","v":0},null,{"$f":"N11","v":1211},{"$f":"COUNTIF(L68:L97,AD11)","v":0},{"$f":"AE11/(AG4-AE20)","v":0},{"$f":"IF(AF11=0,0,(AF11*((LOG(AF11))/LOG(2))))","v":0},null,{"$f":"N11","v":1211},{"$f":"COUNTIF(L98:L127,AI11)","v":1},{"$f":"AJ11/(AL4-AJ20)","v":3.3333333333333333E-2},{"$f":"IF(AK11=0,0,(AK11*((LOG(AK11))/LOG(2))))","v":-0.16356301985361729},null,{"$f":"N11","v":1211},{"$f":"COUNTIF(L128:L158,AN11)","v":0},{"$f":"AO11/(AQ4-AO20)","v":0},{"$f":"IF(AP11=0,0,(AP11*((LOG(AP11))/LOG(2))))","v":0},null,{"$f":"N11","v":1211},{"$f":"COUNTIF(L159:L188,AS11)","v":0},{"$f":"AT11/(AV4-AT20)","v":0},{"$f":"IF(AU11=0,0,(AU11*((LOG(AU11))/LOG(2))))","v":0}]
[21,699,21,706,11,722,12,730,null,null,0,2211,null,1212,{"$f":"COUNTIF($L$7:$L$500,N12)","v":1},{"$f":"O12/$Q$4","v":5.4945054945054949E-3},{"$f":"IF(P12=0,0,(P12*((LOG(P12))/LOG(2))))","v":-4.1251618902190638E-2},null,null,{"$f":"N12","v":1212},{"$f":"COUNTIF(L7:L36,T12)","v":1},{"$f":"U12/(W4-U20)","v":3.3333333333333333E-2},{"$f":"IF(V12=0,0,(V12*((LOG(V12))/LOG(2))))","v":-0.16356301985361729},null,{"$f":"N12","v":1212},{"$f":"COUNTIF(L37:L67,Y12)","v":0},{"$f":"Z12/(AB4-Z20)","v":0},{"$f":"IF(AA12=0,0,(AA12*((LOG(AA12))/LOG(2))))","v":0},null,{"$f":"N12","v":1212},{"$f":"COUNTIF(L68:L97,AD12)","v":0},{"$f":"AE12/(AG4-AE20)","v":0},{"$f":"IF(AF12=0,0,(AF12*((LOG(AF12))/LOG(2))))","v":0},null,{"$f":"N12","v":1212},{"$f":"COUNTIF(L98:L127,AI12)","v":0},{"$f":"AJ12/(AL4-AJ20)","v":0},{"$f":"IF(AK12=0,0,(AK12*((LOG(AK12))/LOG(2))))","v":0},null,{"$f":"N12","v":1212},{"$f":"COUNTIF(L128:L158,AN12)","v":0},{"$f":"AO12/(AQ4-AO20)","v":0},{"$f":"IF(AP12=0,0,(AP12*((LOG(AP12))/LOG(2))))","v":0},null,{"$f":"N12","v":1212},{"$f":"COUNTIF(L159:L188,AS12)","v":0},{"$f":"AT12/(AV4-AT20)","v":0},{"$f":"IF(AU12=0,0,(AU12*((LOG(AU12))/LOG(2))))","v":0}]
[12,855,23,865,24,872,23,897,null,null,0,1222,null,1221,{"$f":"COUNTIF($L$7:$L$500,N13)","v":11},{"$f":"O13/$Q$4","v":6.043956043956044E-2},{"$f":"IF(P13=0,0,(P13*((LOG(P13))/LOG(2))))","v":-0.24468128152294169},null,null,{"$f":"N13","v":1221},{"$f":"COUNTIF(L7:L36,T13)","v":7},{"$f":"U13/(W4-U20)","v":0.23333333333333334},{"$f":"IF(V13=0,0,(V13*((LOG(V13))/LOG(2))))","v":-0.48989165716187993},null,{"$f":"N13","v":1221},{"$f":"COUNTIF(L37:L67,Y13)","v":0},{"$f":"Z13/(AB4-Z20)","v":0},{"$f":"IF(AA13=0,0,(AA13*((LOG(AA13))/LOG(2))))","v":0},null,{"$f":"N13","v":1221},{"$f":"COUNTIF(L68:L97,AD13)","v":1},{"$f":"AE13/(AG4-AE20)","v":3.3333333333333333E-2},{"$f":"IF(AF13=0,0,(AF13*((LOG(AF13))/LOG(2))))","v":-0.16356301985361729},null,{"$f":"N13","v":1221},{"$f":"COUNTIF(L98:L127,AI13)","v":2},{"$f":"AJ13/(AL4-AJ20)","v":6.6666666666666666E-2},{"$f":"IF(AK13=0,0,(AK13*((LOG(AK13))/LOG(2))))","v":-0.26045937304056793},null,{"$f":"N13","v":1221},{"$f":"COUNTIF(L128:L158,AN13)","v":1},{"$f":"AO13/(AQ4-AO20)","v":3.2258064516129031E-2},{"$f":"IF(AP13=0,0,(AP13*((LOG(AP13))/LOG(2))))","v":-0.15981278420602821},null,{"$f":"N13","v":1221},{"$f":"COUNTIF(L159:L188,AS13)","v":0},{"$f":"AT13/(AV4-AT20)","v":0},{"$f":"IF(AU13=0,0,(AU13*((LOG(AU13))/LOG(2))))","v":0}]
[12,998,14,1003,13,1009,14,1013,null,null,0,1111,null,1222,{"$f":"COUNTIF($L$7:$L$500,N14)","v":1},{"$f":"O14/$Q$4","v":5.4945054945054949E-3},{"$f":"IF(P14=0,0,(P14*((LOG(P14))/LOG(2))))","v":-4.1251618902190638E-2},null,null,{"$f":"N14","v":1222},{"$f":"COUNTIF(L7:L36,T14)","v":1},{"$f":"U14/(W4-U20)","v":3.3333333333333333E-2},{"$f":"IF(V14=0,0,(V14*((LOG(V14))/LOG(2))))","v":-0.16356301985361729},null,{"$f":"N14","v":1222},{"$f":"COUNTIF(L37:L67,Y14)","v":0},{"$f":"Z14/(AB4-Z20)","v":0},{"$f":"IF(AA14=0,0,(AA14*((LOG(AA14))/LOG(2))))","v":0},null,{"$f":"N14","v":1222},{"$f":"COUNTIF(L68:L97,AD14)","v":0},{"$f":"AE14/(AG4-AE20)","v":0},{"$f":"IF(AF14=0,0,(AF14*((LOG(AF14))/LOG(2))))","v":0},null,{"$f":"N14","v":1222},{"$f":"COUNTIF(L98:L127,AI14)","v":0},{"$f":"AJ14/(AL4-AJ20)","v":0},{"$f":"IF(AK14=0,0,(AK14*((LOG(AK14))/LOG(2))))","v":0},null,{"$f":"N14","v":1222},{"$f":"COUNTIF(L128:L158,AN14)","v":0},{"$f":"AO14/(AQ4-AO20)","v":0},{"$f":"IF(AP14=0,0,(AP14*((LOG(AP14))/LOG(2))))","v":0},null,{"$f":"N14","v":1222},{"$f":"COUNTIF(L159:L188,AS14)","v":0},{"$f":"AT14/(AV4-AT20)","v":0},{"$f":"IF(AU14=0,0,(AU14*((LOG(AU14))/LOG(2))))","v":0}]
[12,1108,14,1121,24,1131,23,1139,null,null,0,1122,null,2111,{"$f":"COUNTIF($L$7:$L$500,N15)","v":1},{"$f":"O15/$Q$4","v":5.4945054945054949E-3},{"$f":"IF(P15=0,0,(P15*((LOG(P15))/LOG(2))))","v":-4.1251618902190638E-2},null,null,{"$f":"N15","v":2111},{"$f":"COUNTIF(L7:L36,T15)","v":1},{"$f":"U15/(W4-U20)","v":3.3333333333333333E-2},{"$f":"IF(V15=0,0,(V15*((LOG(V15))/LOG(2))))","v":-0.16356301985361729},null,{"$f":"N15","v":2111},{"$f":"COUNTIF(L37:L67,Y15)","v":0},{"$f":"Z15/(AB4-Z20)","v":0},{"$f":"IF(AA15=0,0,(AA15*((LOG(AA15))/LOG(2))))","v":0},null,{"$f":"N15","v":2111},{"$f":"COUNTIF(L68:L97,AD15)","v":0},{"$f":"AE15/(AG4-AE20)","v":0},{"$f":"IF(AF15=0,0,(AF15*((LOG(AF15))/LOG(2))))","v":0},null,{"$f":"N15","v":2111},{"$f":"COUNTIF(L98:L127,AI15)","v":0},{"$f":"AJ15/(AL4-AJ20)","v":0},{"$f":"IF(AK15=0,0,(AK15*((LOG(AK15))/LOG(2))))","v":0},null,{"$f":"N15","v":2111},{"$f":"COUNTIF(L128:L158,AN15)","v":0},{"$f":"AO15/(AQ4-AO20)","v":0},{"$f":"IF(AP15=0,0,(AP15*((LOG(AP15))/LOG(2))))","v":0},null,{"$f":"N15","v":2111},{"$f":"COUNTIF(L159:L188,AS15)","v":0},{"$f":"AT15/(AV4-AT20)","v":0},{"$f":"IF(AU15=0,0,(AU15*((LOG(AU15))/LOG(2))))","v":0}]
[12,1245,23,1255,24,1262,14,1278,null,null,0,1221,null,2112,{"$f":"COUNTIF($L$7:$L$500,N16)","v":0},{"$f":"O16/$Q$4","v":0},{"$f":"IF(P16=0,0,(P16*((LOG(P16))/LOG(2))))","v":0},null,null,{"$f":"N16","v":2112},{"$f":"COUNTIF(L7:L36,T16)","v":0},{"$f":"U16/(W4-U20)","v":0},{"$f":"IF(V16=0,0,(V16*((LOG(V16))/LOG(2))))","v":0},null,{"$f":"N16","v":2112},{"$f":"COUNTIF(L37:L67,Y16)","v":0},{"$f":"Z16/(AB4-Z20)","v":0},{"$f":"IF(AA16=0,0,(AA16*((LOG(AA16))/LOG(2))))","v":0},null,{"$f":"N16","v":2112},{"$f":"COUNTIF(L68:L97,AD16)","v":0},{"$f":"AE16/(AG4-AE20)","v":0},{"$f":"IF(AF16=0,0,(AF16*((LOG(AF16))/LOG(2))))","v":0},null,{"$f":"N16","v":2112},{"$f":"COUNTIF(L98:L127,AI16)","v":0},{"$f":"AJ16/(AL4-AJ20)","v":0},{"$f":"IF(AK16=0,0,(AK16*((LOG(AK16))/LOG(2))))","v":0},null,{"$f":"N16","v":2112},{"$f":"COUNTIF(L128:L158,AN16)","v":0},{"$f":"AO16/(AQ4-AO20)","v":0},{"$f":"IF(AP16=0,0,(AP16*((LOG(AP16))/LOG(2))))","v":0},null,{"$f":"N16","v":2112},{"$f":"COUNTIF(L159:L188,AS16)","v":0},{"$f":"AT16/(AV4-AT20)","v":0},{"$f":"IF(AU16=0,0,(AU16*((LOG(AU16))/LOG(2))))","v":0}]
[12,1398,14,1404,13,1408,14,1420,null,null,0,1111,null,2121,{"$f":"COUNTIF($L$7:$L$500,N17)","v":0},{"$f":"O17/$Q$4","v":0},{"$f":"IF(P17=0,0,(P17*((LOG(P17))/LOG(2))))","v":0},null,null,{"$f":"N17","v":2121},{"$f":"COUNTIF(L7:L36,T17)","v":0},{"$f":"U17/(W4-U20)","v":0},{"$f":"IF(V17=0,0,(V17*((LOG(V17))/LOG(2))))","v":0},null,{"$f":"N17","v":2121},{"$f":"COUNTIF(L37:L67,Y17)","v":0},{"$f":"Z17/(AB4-Z20)","v":0},{"$f":"IF(AA17=0,0,(AA17*((LOG(AA17))/LOG(2))))","v":0},null,{"$f":"N17","v":2121},{"$f":"COUNTIF(L68:L97,AD17)","v":0},{"$f":"AE17/(AG4-AE20)","v":0},{"$f":"IF(AF17=0,0,(AF17*((LOG(AF17))/LOG(2))))","v":0},null,{"$f":"N17","v":2121},{"$f":"COUNTIF(L98:L127,AI17)","v":0},{"$f":"AJ17/(AL4-AJ20)","v":0},{"$f":"IF(AK17=0,0,(AK17*((LOG(AK17))/LOG(2))))","v":0},null,{"$f":"N17","v":2121},{"$f":"COUNTIF(L128:L158,AN17)","v":0},{"$f":"AO17/(AQ4-AO20)","v":0},{"$f":"IF(AP17=0,0,(AP17*((LOG(AP17))/LOG(2))))","v":0},null,{"$f":"N17","v":2121},{"$f":"COUNTIF(L159:L188,AS17)","v":0},{"$f":"AT17/(AV4-AT20)","v":0},{"$f":"IF(AU17=0,0,(AU17*((LOG(AU17))/LOG(2))))","v":0}]
[12,1524,14,1544,13,1550,14,1560,null,null,0,1111,null,2122,{"$f":"COUNTIF($L$7:$L$500,N18)","v":0},{"$f":"O18/$Q$4","v":0},{"$f":"IF(P18=0,0,(P18*((LOG(P18))/LOG(2))))","v":0},null,null,{"$f":"N18","v":2122},{"$f":"COUNTIF(L7:L36,T18)","v":0},{"$f":"U18/(W4-U20)","v":0},{"$f":"IF(V18=0,0,(V18*((LOG(V18))/LOG(2))))","v":0},null,{"$f":"N18","v":2122},{"$f":"COUNTIF(L37:L67,Y18)","v":0},{"$f":"Z18/(AB4-Z20)","v":0},{"$f":"IF(AA18=0,0,(AA18*((LOG(AA18))/LOG(2))))","v":0},null,{"$f":"N18","v":2122},{"$f":"COUNTIF(L68:L97,AD18)","v":0},{"$f":"AE18/(AG4-AE20)","v":0},{"$f":"IF(AF18=0,0,(AF18*((LOG(AF18))/LOG(2))))","v":0},null,{"$f":"N18","v":2122},{"$f":"COUNTIF(L98:L127,AI18)","v":0},{"$f":"AJ18/(AL4-AJ20)","v":0},{"$f":"IF(AK18=0,0,(AK18*((LOG(AK18))/LOG(2))))","v":0},null,{"$f":"N18","v":2122},{"$f":"COUNTIF(L128:L158,AN18)","v":0},{"$f":"AO18/(AQ4-AO20)","v":0},{"$f":"IF(AP18=0,0,(AP18*((LOG(AP18))/LOG(2))))","v":0},null,{"$f":"N18","v":2122},{"$f":"COUNTIF(L159:L188,AS18)","v":0},{"$f":"AT18/(AV4-AT20)","v":0},{"$f":"IF(AU18=0,0,(AU18*((LOG(AU18))/LOG(2))))","v":0}]
[12,1660,14,1679,13,1683,14,1687,null,null,0,1111,null,2211,{"$f":"COUNTIF($L$7:$L$500,N19)","v":1},{"$f":"O19/$Q$4","v":5.4945054945054949E-3},{"$f":"IF(P19=0,0,(P19*((LOG(P19))/LOG(2))))","v":-4.1251618902190638E-2},null,null,{"$f":"N19","v":2211},{"$f":"COUNTIF(L7:L36,T19)","v":1},{"$f":"U19/(W4-U20)","v":3.3333333333333333E-2},{"$f":"IF(V19=0,0,(V19*((LOG(V19))/LOG(2))))","v":-0.16356301985361729},null,{"$f":"N19","v":2211},{"$f":"COUNTIF(L37:L67,Y19)","v":0},{"$f":"Z19/(AB4-Z20)","v":0},{"$f":"IF(AA19=0,0,(AA19*((LOG(AA19))/LOG(2))))","v":0},null,{"$f":"N19","v":2211},{"$f":"COUNTIF(L68:L97,AD19)","v":0},{"$f":"AE19/(AG4-AE20)","v":0},{"$f":"IF(AF19=0,0,(AF19*((LOG(AF19))/LOG(2))))","v":0},null,{"$f":"N19","v":2211},{"$f":"COUNTIF(L98:L127,AI19)","v":0},{"$f":"AJ19/(AL4-AJ20)","v":0},{"$f":"IF(AK19=0,0,(AK19*((LOG(AK19))/LOG(2))))","v":0},null,{"$f":"N19","v":2211},{"$f":"COUNTIF(L128:L158,AN19)","v":0},{"$f":"AO19/(AQ4-AO20)","v":0},{"$f":"IF(AP19=0,0,(AP19*((LOG(AP19))/LOG(2))))","v":0},null,{"$f":"N19","v":2211},{"$f":"COUNTIF(L159:L188,AS19)","v":0},{"$f":"AT19/(AV4-AT20)","v":0},{"$f":"IF(AU19=0,0,(AU19*((LOG(AU19))/LOG(2))))","v":0}]
[12,1785,14,1801,13,1804,14,1812,null,null,0,1111,null,2212,{"$f":"COUNTIF($L$7:$L$500,N20)","v":0},{"$f":"O20/$Q$4","v":0},{"$f":"IF(P20=0,0,(P20*((LOG(P20))/LOG(2))))","v":0},null,null,{"$f":"N20","v":2212},{"$f":"COUNTIF(L7:L36,T20)","v":0},null,null,null,{"$f":"N20","v":2212},{"$f":"COUNTIF(L37:L67,Y20)","v":0},null,null,null,{"$f":"N20","v":2212},{"$f":"COUNTIF(L68:L97,AD20)","v":0},null,null,null,{"$f":"N20","v":2212},{"$f":"COUNTIF(L98:L127,AI20)","v":0},null,null,null,{"$f":"N20","v":2212},{"$f":"COUNTIF(L128:L158,AN20)","v":0},null,null,null,{"$f":"N20","v":2212},{"$f":"COUNTIF(L159:L188,AS20)","v":0}]
[12,1949,14,1953,13,1957,23,1969,null,null,0,1112,null,2221,{"$f":"COUNTIF($L$7:$L$500,N21)","v":0},{"$f":"O21/$Q$4","v":0},{"$f":"IF(P21=0,0,(P21*((LOG(P21))/LOG(2))))","v":0},null,null,{"$f":"N21","v":2221},{"$f":"COUNTIF(L7:L36,T21)","v":0},{"$f":"U21/(W4-U20)","v":0},{"$f":"IF(V21=0,0,(V21*((LOG(V21))/LOG(2))))","v":0},null,{"$f":"N21","v":2221},{"$f":"COUNTIF(L37:L67,Y21)","v":0},{"$f":"Z21/(AB4-Z20)","v":0},{"$f":"IF(AA21=0,0,(AA21*((LOG(AA21))/LOG(2))))","v":0},null,{"$f":"N21","v":2221},{"$f":"COUNTIF(L68:L97,AD21)","v":0},{"$f":"AE21/(AG4-AE20)","v":0},{"$f":"IF(AF21=0,0,(AF21*((LOG(AF21))/LOG(2))))","v":0},null,{"$f":"N21","v":2221},{"$f":"COUNTIF(L98:L127,AI21)","v":0},{"$f":"AJ21/(AL4-AJ20)","v":0},{"$f":"IF(AK21=0,0,(AK21*((LOG(AK21))/LOG(2))))","v":0},null,{"$f":"N21","v":2221},{"$f":"COUNTIF(L128:L158,AN21)","v":0},{"$f":"AO21/(AQ4-AO20)","v":0},{"$f":"IF(AP21=0,0,(AP21*((LOG(AP21))/LOG(2))))","v":0},null,{"$f":"N21","v":2221},{"$f":"COUNTIF(L159:L188,AS21)","v":0},{"$f":"AT21/(AV4-AT20)","v":0},{"$f":"IF(AU21=0,0,(AU21*((LOG(AU21))/LOG(2))))","v":0}]
[12,2071,14,2077,13,2081,14,2088,null,null,0,1111,null,2222,{"$f":"COUNTIF($L$7:$L$500,N22)","v":0},{"$f":"O22/$Q$4","v":0},{"$f":"IF(P22=0,0,(P22*((LOG(P22))/LOG(2))))","v":0},null,null,{"$f":"N22","v":2222},{"$f":"COUNTIF(L7:L36,T22)","v":0},{"$f":"U22/(W4-U20)","v":0},{"$f":"IF(V22=0,0,(V22*((LOG(V22))/LOG(2))))","v":0},null,{"$f":"N22","v":2222},{"$f":"COUNTIF(L37:L67,Y22)","v":0},{"$f":"Z22/(AB4-Z20)","v":0},{"$f":"IF(AA22=0,0,(AA22*((LOG(AA22))/LOG(2))))","v":0},null,{"$f":"N22","v":2222},{"$f":"COUNTIF(L68:L97,AD22)","v":0},{"$f":"AE22/(AG4-AE20)","v":0},{"$f":"IF(AF22=0,0,(AF22*((LOG(AF22))/LOG(2))))","v":0},null,{"$f":"N22","v":2222},{"$f":"COUNTIF(L98:L127,AI22)","v":0},{"$f":"AJ22/(AL4-AJ20)","v":0},{"$f":"IF(AK22=0,0,(AK22*((LOG(AK22))/LOG(2))))","v":0},null,{"$f":"N22","v":2222},{"$f":"COUNTIF(L128:L158,AN22)","v":0},{"$f":"AO22/(AQ4-AO20)","v":0},{"$f":"IF(AP22=0,0,(AP22*((LOG(AP22))/LOG(2))))","v":0},null,{"$f":"N22","v":2222},{"$f":"COUNTIF(L159:L188,AS22)","v":0},{"$f":"AT22/(AV4-AT20)","v":0},{"$f":"IF(AU22=0,0,(AU22*((LOG(AU22))/LOG(2))))","v":0}]
[12,2205,23,2219,24,2227,14,2245,null,null,0,1221,null,null,null,{"$f":"SUM(P7:P22)","v":1},{"$f":"-SUM(Q7:Q22)","v":1.5109279375739861},null,null,null,null,{"$f":"SUM(V7:V22)","v":0.99999999999999989},{"$f":"-SUM(W7:W22)","v":2.5260265301011664},null,null,null,{"$f":"SUM(AA7:AA22)","v":1},{"$f":"-SUM(AB7:AB22)","v":0.88657035089112957},null,null,null,{"$f":"SUM(AF7:AF22)","v":0.99999999999999989},{"$f":"-SUM(AG7:AG22)","v":1.5337756156114948},null,null,null,{"$f":"SUM(AK7:AK22)","v":1},{"$f":"-SUM(AL7:AL22)","v":1.1055872616982603},null,null,null,{"$f":"SUM(AP7:AP22)","v":1},{"$f":"-SUM(AQ7:AQ22)","v":0.94737590162337837},null,null,null,{"$f":"SUM(AU7:AU22)","v":1},{"$f":"-SUM(AV7:AV22)","v":0.77034377079624794}]
[12,2383,14,2391,13,2399,14,2406,null,null,0,1111,null,null,null,"U=",{"$f":"Q23/(LOG(Q4)/LOG(2))","v":0.2012479043425193},null,null,null,null,"U1=",{"$f":"W23/(LOG(W4)/LOG(2))","v":0.51479169565383509},null,null,null,"U2=",{"$f":"AB23/(LOG(AB4)/LOG(2))","v":0.17895341551814628},null,null,null,"U3=",{"$f":"AG23/(LOG(AG4)/LOG(2))","v":0.31257587380981466},null,null,null,"U4=",{"$f":"AL23/(LOG(AL4)/LOG(2))","v":0.22531320806046073},null,null,null,"U5=",{"$f":"AQ23/(LOG(AQ4)/LOG(2))","v":0.19122696039257223},null,null,null,"U6=",{"$f":"AV23/(LOG(AV4)/LOG(2))","v":0.15699224504529946}]
[12,2510,23,2519,13,2532,23,2547,null,null,0,1212]
[12,2649,14,2656,13,2660,14,2668,null,null,0,1111]
[12,2768,14,2791,13,2802,23,2832,null,null,0,1112,null,"Total Target Seq"]
[12,2935,14,2940,13,2945,14,2953,null,null,0,1111,null,{"$f":"COUNTIF(L7:L188,G3)","v":0},null,30,31,30,30,31,30]
[12,3072,14,3084,13,3102,14,3110,null,null,0,1111,null,null,null,"% of reinforcement given in 6 equal intervals based on number of trials "]
[12,3219,23,3229,24,3235,14,3252,null,null,0,1221,null,null,null,"%_1","%_2","%_3","%_4","%_5","%_6"]
[12,3369,14,3374,13,3383,14,3391,null,null,0,1111,null,null,"target sequence",{"$f":"$G$3","v":2212},{"$f":"$G$3","v":2212},{"$f":"$G$3","v":2212},{"$f":"$G$3","v":2212},{"$f":"$G$3","v":2212},{"$f":"$G$3","v":2212}]
[12,3487,14,3499,24,3509,23,3517,null,null,0,1122,null,null,"total reinforcement",{"$f":"U20","v":0},{"$f":"Z20","v":0},{"$f":"AE20","v":0},{"$f":"AJ20","v":0},{"$f":"AO20","v":0},{"$f":"AT20","v":0}]
[12,3616,14,3621,24,3637,14,3652,null,null,0,1121,null,null,"% target"]
[12,3781,23,3796,24,3804,14,3820,null,null,0,1221,null,null,"CCRF"]
[12,3921,14,3943,24,3969,23,3976,null,null,0,1122,null,null,"% CCRf"]
[12,4082,14,4087,13,4106,14,4115,null,null,0,1111,null,null,"average response rate",{"$f":"H36/P28","v":137.16666666666666},{"$f":"(H67-H36)/Q28","v":126.06451612903226},{"$f":"(H97-H67)/R28","v":126.63333333333334},{"$f":"(H127-H97)/S28","v":124.1},{"$f":"(H158-H127)/T28","v":125.7741935483871},{"$f":"(H188-H158)/U28","v":150.1}]
[12,4224,14,4230,13,4235,23,4251,null,null,0,1112]
[12,4365,14,4369,13,4374,14,4378,null,null,0,1111]
[12,4474,14,4488,13,4495,14,4503,null,null,0,1111]
[12,4601,14,4605,13,4622,14,4626,null,null,0,1111]
[12,4754,14,4758,13,4763,14,4775,null,null,0,1111]
[12,4876,14,4885,13,4894,14,4899,null,null,0,1111]
[12,5009,14,5014,13,5021,14,5029,null,null,0,1111]
[12,5133,14,5137,13,5142,14,5154,null,null,0,1111]
[12,5257,14,5268,24,5286,23,5304,null,null,0,1122]
[12,5398,14,5402,13,5414,14,5419,null,null,0,1111]
[12,5509,14,5512,13,5524,14,5528,null,null,0,1111]
[12,5630,14,5654,13,5661,14,5665,null,null,0,1111]
[12,5757,14,5761,13,5766,14,5774,null,null,0,1111]
[12,5866,14,5880,24,5889,23,5897,null,null,0,1122]
[12,5993,14,6008,13,6012,14,6023,null,null,0,1111]
[12,6112,14,6129,13,6133,14,6150,null,null,0,1111]
[12,6255,14,6262,13,6269,14,6273,null,null,0,1111]
[12,6371,14,6375,13,6379,14,6384,null,null,0,1111]
[12,6479,14,6483,13,6510,14,6518,null,null,0,1111]
[12,6622,14,6627,13,6631,14,6636,null,null,0,1111]
[12,6731,14,6735,13,6739,14,6745,null,null,0,1111]
[12,6839,14,6842,13,6854,14,6871,null,null,0,1111]
[12,6969,14,6982,13,6994,14,6998,null,null,0,1111]
[12,7101,14,7105,13,7109,23,7125,null,null,0,1112]
[12,7216,14,7220,13,7236,14,7247,null,null,0,1111]
[12,7343,14,7363,13,7370,14,7383,null,null,0,1111]
[12,7480,14,7483,13,7495,14,7500,null,null,0,1111]
[12,7598,14,7627,13,7633,14,7644,null,null,0,1111]
[12,7740,14,7744,13,7759,23,7771,null,null,0,1112]
[12,7877,14,7882,13,7889,14,7894,null,null,0,1111]
[12,7990,14,8000,13,8004,23,8023,null,null,0,1112]
[12,8118,23,8130,24,8137,14,8152,null,null,0,1221]
[12,8251,14,8263,24,8278,23,8296,null,null,0,1122]
[12,8399,14,8404,13,8408,14,8412,null,null,0,1111]
[12,8509,14,8529,24,8540,23,8548,null,null,0,1122]
[12,8640,14,8647,13,8660,23,8669,null,null,0,1112]
[12,8764,14,8776,13,8780,14,8784,null,null,0,1111]
[12,8883,14,8895,24,8911,14,8925,null,null,0,1121]
[12,9020,14,9031,13,9035,14,9039,null,null,0,1111]
[12,9139,14,9143,13,9148,14,9152,null,null,0,1111]
[12,9249,14,9254,13,9273,14,9278,null,null,0,1111]
[12,9380,14,9384,13,9388,14,9392,null,null,0,1111]
[12,9492,14,9503,13,9521,14,9525,null,null,0,1111]
[12,9615,14,9647,24,9661,23,9670,null,null,0,1122]
[12,9765,14,9769,13,9790,14,9795,null,null,0,1111]
[12,9916,14,9921,13,9925,14,9932,null,null,0,1111]
[12,10031,14,10035,13,10040,14,10045,null,null,0,1111]
[12,10142,14,10146,13,10159,14,10163,null,null,0,1111]
[12,10258,14,10269,13,10273,23,10287,null,null,0,1112]
[12,10391,14,10404,13,10408,14,10412,null,null,0,1111]
[12,10507,14,10527,13,10531,14,10539,null,null,0,1111]
[12,10636,14,10649,24,10679,14,10694,null,null,0,1121]
[12,10792,14,10799,13,10808,14,10816,null,null,0,1111]
[12,10916,14,10936,13,10940,14,10944,null,null,0,1111]
[12,11040,14,11051,24,11061,23,11072,null,null,0,1122]
[12,11168,14,11179,13,11188,14,11196,null,null,0,1111]
[12,11292,14,11304,13,11312,14,11324,null,null,0,1111]
[12,11431,14,11441,13,11450,14,11457,null,null,0,1111]
[12,11559,14,11562,13,11567,23,11579,null,null,0,1112]
[12,11675,14,11683,13,11696,14,11703,null,null,0,1111]
[12,11794,14,11810,13,11817,14,11822,null,null,0,1111]
[12,11922,23,11949,13,11963,14,11970,null,null,0,1211]
[12,12067,14,12071,13,12087,14,12091,null,null,0,1111]
[12,12188,14,12201,13,12206,14,12210,null,null,0,1111]
[12,12310,14,12322,13,12333,14,12338,null,null,0,1111]
[12,12436,23,12461,24,12469,14,12483,null,null,0,1221]
[12,12578,14,12588,13,12592,14,12609,null,null,0,1111]
[12,12705,14,12712,13,12723,14,12726,null,null,0,1111]
[12,12830,14,12834,13,12839,23,12858,null,null,0,1112]
[12,12956,14,12960,13,12964,14,12976,null,null,0,1111]
[12,13075,14,13093,13,13098,14,13106,null,null,0,1111]
[12,13208,14,13220,13,13225,14,13229,null,null,0,1111]
[12,13321,14,13335,13,13340,14,13344,null,null,0,1111]
[12,13440,14,13447,13,13452,14,13459,null,null,0,1111]
[12,13564,14,13568,13,13572,14,13580,null,null,0,1111]
[12,13682,14,13692,13,13713,14,13717,null,null,0,1111]
[12,13815,14,13826,13,13845,14,13853,null,null,0,1111]
[12,13954,14,13969,13,13973,14,13980,null,null,0,1111]
[12,14073,14,14081,13,14091,14,14096,null,null,0,1111]
[12,14192,14,14196,24,14219,23,14227,null,null,0,1122]
[12,14322,14,14341,13,14355,14,14360,null,null,0,1111]
[12,14450,14,14460,13,14464,14,14476,null,null,0,1111]
[12,14572,14,14589,13,14601,14,14605,null,null,0,1111]
[12,14700,14,14715,24,14726,23,14734,null,null,0,1122]
[12,14831,14,14835,13,14846,14,14850,null,null,0,1111]
[12,14946,14,14958,13,14962,14,14966,null,null,0,1111]
[12,15061,14,15071,13,15075,14,15079,null,null,0,1111]
[12,15180,14,15185,13,15189,14,15194,null,null,0,1111]
[12,15293,14,15296,13,15300,14,15305,null,null,0,1111]
[12,15395,14,15404,13,15408,14,15417,null,null,0,1111]
[12,15513,23,15524,24,15532,14,15545,null,null,0,1221]
[12,15640,14,15644,13,15655,14,15660,null,null,0,1111]
[12,15756,14,15766,13,15779,14,15788,null,null,0,1111]
[12,15883,14,15898,13,15906,14,15910,null,null,0,1111]
[12,16010,14,16014,13,16026,14,16031,null,null,0,1111]
[12,16128,14,16142,13,16146,14,16152,null,null,0,1111]
[12,16251,14,16260,13,16266,14,16274,null,null,0,1111]
[12,16390,23,16416,24,16427,14,16447,null,null,0,1221]
[12,16548,14,16556,13,16565,14,16574,null,null,0,1111]
[12,16672,14,16685,13,16700,14,16704,null,null,0,1111]
[12,16806,14,16818,24,16830,23,16838,null,null,0,1122]
[12,16934,14,16947,13,16966,14,16970,null,null,0,1111]
[12,17073,14,17089,13,17097,14,17105,null,null,0,1111]
[12,17204,14,17208,13,17213,14,17218,null,null,0,1111]
[12,17315,14,17324,13,17328,14,17333,null,null,0,1111]
[12,17429,14,17436,13,17445,14,17452,null,null,0,1111]
[12,17549,14,17568,24,17581,23,17589,null,null,0,1122]
[12,17686,14,17689,13,17693,14,17702,null,null,0,1111]
[12,17801,14,17805,13,17809,14,17814,null,null,0,1111]
[12,17913,14,17928,13,17939,14,17944,null,null,0,1111]
[12,18044,14,18048,13,18055,14,18061,null,null,0,1111]
[12,18161,14,18167,13,18172,14,18180,null,null,0,1111]
[12,18280,14,18285,13,18301,14,18312,null,null,0,1111]
[12,18407,14,18412,13,18437,14,18441,null,null,0,1111]
[12,18533,14,18552,13,18556,23,18569,null,null,0,1112]
[12,18668,14,18680,13,18684,14,18698,null,null,0,1111]
[12,18793,14,18800,13,18806,14,18814,null,null,0,1111]
[12,18910,14,18920,13,18924,14,18928,null,null,0,1111]
[12,19022,14,19026,13,19035,14,19044,null,null,0,1111]
[12,19140,14,19149,13,19153,14,19160,null,null,0,1111]
[12,19256,14,19264,13,19282,14,19291,null,null,0,1111]
[12,19387,14,19418,24,19430,14,19444,null,null,0,1121]
[12,19539,14,19548,13,19561,14,19568,null,null,0,1111]
[12,19666,14,19670,13,19685,14,19692,null,null,0,1111]
[12,19788,14,19792,13,19795,14,19804,null,null,0,1111]
[12,19905,14,19909,13,19915,14,19919,null,null,0,1111]
[12,20018,14,20027,13,20042,14,20047,null,null,0,1111]
[12,20145,14,20153,13,20163,14,20173,null,null,0,1111]
[12,20269,14,20273,13,20288,14,20299,null,null,0,1111]
[12,20390,14,20409,13,20421,14,20425,null,null,0,1111]
[12,20519,14,20529,13,20533,14,20537,null,null,0,1111]
[12,20633,14,20646,13,20653,23,20672,null,null,0,1112]
[12,20766,14,20780,13,20784,14,20788,null,null,0,1111]
[12,20888,14,20891,13,20895,14,20900,null,null,0,1111]
[12,21000,14,21004,13,21009,23,21021,null,null,0,1112]
[12,21118,14,21122,13,21132,23,21147,null,null,0,1112]
[12,21246,14,21251,13,21261,14,21269,null,null,0,1111]
[12,22136,14,22147,13,22161,14,22170,null,null,0,1111]
[12,22296,14,22304,13,22311,14,22318,null,null,0,1111]
[12,22424,14,22428,13,22435,14,22440,null,null,0,1111]
[12,22547,14,22551,13,22558,14,22567,null,null,0,1111]
[12,22669,14,22673,24,22684,23,22692,null,null,0,1122]
[12,22791,14,22795,13,22811,14,22815,null,null,0,1111]
[12,22909,14,22913,13,22931,14,22940,null,null,0,1111]
[12,23038,14,23042,13,23050,14,23061,null,null,0,1111]
[12,23163,14,23174,13,23185,14,23189,null,null,0,1111]
[12,23286,14,23292,13,23304,14,23311,null,null,0,1111]
[12,23412,14,23416,13,23420,14,23425,null,null,0,1111]
[12,23518,14,23523,13,23533,14,23546,null,null,0,1111]
[12,23650,14,23657,13,23661,14,23670,null,null,0,1111]
[12,23772,14,23784,13,23798,14,23805,null,null,0,1111]
[12,23905,14,23916,13,23931,23,23947,null,null,null,1112]

{"sheet":"!M825B00.104","index":11,"n_rows":193,"n_cols":48,"rows_kept":193,"cut":false,"hidden":false,"merged":[[4,39,4,42],[5,39,5,40],[4,44,4,47],[5,44,5,45],[4,24,4,27],[5,24,5,25],[4,29,4,32],[5,29,5,30],[4,34,4,37],[5,34,5,35],[1,1,1,2],[5,13,5,14],[26,13,26,14],[27,13,27,14],[4,19,4,22],[5,19,5,20]]}
["Report for:!M825B00.104"]
["Date:","<date>"]
["Hen:","<hen>",null,null,null,"Correct Sequence",{"$f":"Start!J2","v":2212},null,null,null,null,null,null,null,null,"Total Sequences in Data",{"$f":"4994-COUNTBLANK(L7:L5000)","v":187},null,null,null,null,"Total Sequences in Block Data",{"$f":"COUNTA(L7:L37)","v":31},null,null,null,"Total Sequences in Block Data",{"$f":"COUNTA(L38:L68)","v":31},null,null,null,"Total Sequences in Block Data",{"$f":"COUNTA(L69:L100)","v":32},null,null,null,"Total Sequences in Block Data",{"$f":"COUNTA(L101:L131)","v":31},null,null,null,"Total Sequences in Block Data",{"$f":"COUNTA(L132:L162)","v":31},null,null,null,"Total Sequences in Block Data",{"$f":"COUNTA(L163:L193)","v":31}]
[null,null,null,null,null,null,null,null,null,null,null,null,null,null,null,"Total Sequences in Summary",{"$f":"SUM(O7:O22)","v":187},null,null,null,null,"Total Sequences in Block Summary",{"$f":"SUM(U7:U22)","v":31},null,null,null,"Total Sequences in Block Summary",{"$f":"SUM(Z7:Z22)","v":31},null,null,null,"Total Sequences in Block Summary",{"$f":"SUM(AE7:AE22)","v":32},null,null,null,"Total Sequences in Block Summary",{"$f":"SUM(AJ7:AJ22)","v":31},null,null,null,"Total Sequences in Block Summary",{"$f":"SUM(AO7:AO22)","v":31},null,null,null,"Total Sequences in Block Summary",{"$f":"SUM(AT7:AT22)","v":31}]
[null,null,null,null,null,null,null,null,null,null,null,null,null,null,null,null,null,null,null,"Block 1",null,null,null,null,"Block 2",null,null,null,null,"Block 3",null,null,null,null,"Block 4",null,null,null,null,"Block 5",null,null,null,null,"Block 6"]
["Sequence\nComponent\n1","Time\n1","Sequence\nComponent\n2","Time\n2","Sequence\nComponent\n3","Time\n3","Sequence\nComponent\n4","Time\n4","Sequence\nComponent\n5","Time\n5","Correct?\n0=No 1=Yes","Sequence",null,"Frequency",null,"Relative Frequency","Variability",null,null,"Frequency",null,"Relative Frequency","Variability",null,"Frequency",null,"Relative Frequency","Variability",null,"Frequency",null,"Relative Frequency","Variability",null,"Frequency",null,"Relative Frequency","Variability",null,"Frequency",null,"Relative Frequency","Variability",null,"Frequency",null,"Relative Frequency","Variability"]
[12,51,23,60,24,68,14,86,null,null,0,1221,null,1111,{"$f":"COUNTIF($L$7:$L$500,N7)","v":160},{"$f":"O7/$Q$4","v":0.85561497326203206},{"$f":"IF(P7=0,0,(P7*((LOG(P7))/LOG(2))))","v":-0.19248459037456631},null,null,{"$f":"N7","v":1111},{"$f":"COUNTIF(L7:L37,T7)","v":23},{"$f":"U7/(W4-U20)","v":0.74193548387096775},{"$f":"IF(V7=0,0,(V7*((LOG(V7))/LOG(2))))","v":-0.31950290805118814},null,{"$f":"N7","v":1111},{"$f":"COUNTIF(L38:L68,Y7)","v":29},{"$f":"Z7/(AB4-Z20)","v":0.93548387096774188},{"$f":"IF(AA7=0,0,(AA7*((LOG(AA7))/LOG(2))))","v":-9.0007875565154577E-2},null,{"$f":"N7","v":1111},{"$f":"COUNTIF(L69:L100,AD7)","v":26},{"$f":"AE7/(AG4-AE20)","v":0.8125},{"$f":"IF(AF7=0,0,(AF7*((LOG(AF7))/LOG(2))))","v":-0.24339272901036266},null,{"$f":"N7","v":1111},{"$f":"COUNTIF(L101:L131,AI7)","v":27},{"$f":"AJ7/(AL4-AJ20)","v":0.87096774193548387},{"$f":"IF(AK7=0,0,(AK7*((LOG(AK7))/LOG(2))))","v":-0.17359154264619289},null,{"$f":"N7","v":1111},{"$f":"COUNTIF(L132:L162,AN7)","v":28},{"$f":"AO7/(AQ4-AO20)","v":0.90322580645161288},{"$f":"IF(AP7=0,0,(AP7*((LOG(AP7))/LOG(2))))","v":-0.13263093139418039},null,{"$f":"N7","v":1111},{"$f":"COUNTIF(L163:L193,AS7)","v":27},{"$f":"AT7/(AV4-AT20)","v":0.87096774193548387},{"$f":"IF(AU7=0,0,(AU7*((LOG(AU7))/LOG(2))))","v":-0.17359154264619289}]
[12,231,14,235,13,240,14,247,null,null,0,1111,null,1112,{"$f":"COUNTIF($L$7:$L$500,N8)","v":10},{"$f":"O8/$Q$4","v":5.3475935828877004E-2},{"$f":"IF(P8=0,0,(P8*((LOG(P8))/LOG(2))))","v":-0.22593403021391842},null,null,{"$f":"N8","v":1112},{"$f":"COUNTIF(L7:L37,T8)","v":2},{"$f":"U8/(W4-U20)","v":6.4516129032258063E-2},{"$f":"IF(V8=0,0,(V8*((LOG(V8))/LOG(2))))","v":-0.25510943937979835},null,{"$f":"N8","v":1112},{"$f":"COUNTIF(L38:L68,Y8)","v":0},{"$f":"Z8/(AB4-Z20)","v":0},{"$f":"IF(AA8=0,0,(AA8*((LOG(AA8))/LOG(2))))","v":0},null,{"$f":"N8","v":1112},{"$f":"COUNTIF(L69:L100,AD8)","v":5},{"$f":"AE8/(AG4-AE20)","v":0.15625},{"$f":"IF(AF8=0,0,(AF8*((LOG(AF8))/LOG(2))))","v":-0.41844873517384967},null,{"$f":"N8","v":1112},{"$f":"COUNTIF(L101:L131,AI8)","v":1},{"$f":"AJ8/(AL4-AJ20)","v":3.2258064516129031E-2},{"$f":"IF(AK8=0,0,(AK8*((LOG(AK8))/LOG(2))))","v":-0.15981278420602821},null,{"$f":"N8","v":1112},{"$f":"COUNTIF(L132:L162,AN8)","v":1},{"$f":"AO8/(AQ4-AO20)","v":3.2258064516129031E-2},{"$f":"IF(AP8=0,0,(AP8*((LOG(AP8))/LOG(2))))","v":-0.15981278420602821},null,{"$f":"N8","v":1112},{"$f":"COUNTIF(L163:L193,AS8)","v":1},{"$f":"AT8/(AV4-AT20)","v":3.2258064516129031E-2},{"$f":"IF(AU8=0,0,(AU8*((LOG(AU8))/LOG(2))))","v":-0.15981278420602821}]
[12,347,14,356,13,362,23,371,null,null,0,1112,null,1121,{"$f":"COUNTIF($L$7:$L$500,N9)","v":4},{"$f":"O9/$Q$4","v":2.1390374331550801E-2},{"$f":"IF(P9=0,0,(P9*((LOG(P9))/LOG(2))))","v":-0.11865014887460185},null,null,{"$f":"N9","v":1121},{"$f":"COUNTIF(L7:L37,T9)","v":1},{"$f":"U9/(W4-U20)","v":3.2258064516129031E-2},{"$f":"IF(V9=0,0,(V9*((LOG(V9))/LOG(2))))","v":-0.15981278420602821},null,{"$f":"N9","v":1121},{"$f":"COUNTIF(L38:L68,Y9)","v":1},{"$f":"Z9/(AB4-Z20)","v":3.2258064516129031E-2},{"$f":"IF(AA9=0,0,(AA9*((LOG(AA9))/LOG(2))))","v":-0.15981278420602821},null,{"$f":"N9","v":1121},{"$f":"COUNTIF(L69:L100,AD9)","v":0},{"$f":"AE9/(AG4-AE20)","v":0},{"$f":"IF(AF9=0,0,(AF9*((LOG(AF9))/LOG(2))))","v":0},null,{"$f":"N9","v":1121},{"$f":"COUNTIF(L101:L131,AI9)","v":1},{"$f":"AJ9/(AL4-AJ20)","v":3.2258064516129031E-2},{"$f":"IF(AK9=0,0,(AK9*((LOG(AK9))/LOG(2))))","v":-0.15981278420602821},null,{"$f":"N9","v":1121},{"$f":"COUNTIF(L132:L162,AN9)","v":1},{"$f":"AO9/(AQ4-AO20)","v":3.2258064516129031E-2},{"$f":"IF(AP9=0,0,(AP9*((LOG(AP9))/LOG(2))))","v":-0.15981278420602821},null,{"$f":"N9","v":1121},{"$f":"COUNTIF(L163:L193,AS9)","v":0},{"$f":"AT9/(AV4-AT20)","v":0},{"$f":"IF(AU9=0,0,(AU9*((LOG(AU9))/LOG(2))))","v":0}]
[12,481,23,491,24,498,14,518,null,null,0,1221,null,1122,{"$f":"COUNTIF($L$7:$L$500,N10)","v":7},{"$f":"O10/$Q$4","v":3.7433155080213901E-2},{"$f":"IF(P10=0,0,(P10*((LOG(P10))/LOG(2))))","v":-0.17741591852839694},null,null,{"$f":"N10","v":1122},{"$f":"COUNTIF(L7:L37,T10)","v":1},{"$f":"U10/(W4-U20)","v":3.2258064516129031E-2},{"$f":"IF(V10=0,0,(V10*((LOG(V10))/LOG(2))))","v":-0.15981278420602821},null,{"$f":"N10","v":1122},{"$f":"COUNTIF(L38:L68,Y10)","v":1},{"$f":"Z10/(AB4-Z20)","v":3.2258064516129031E-2},{"$f":"IF(AA10=0,0,(AA10*((LOG(AA10))/LOG(2))))","v":-0.15981278420602821},null,{"$f":"N10","v":1122},{"$f":"COUNTIF(L69:L100,AD10)","v":1},{"$f":"AE10/(AG4-AE20)","v":3.125E-2},{"$f":"IF(AF10=0,0,(AF10*((LOG(AF10))/LOG(2))))","v":-0.15625},null,{"$f":"N10","v":1122},{"$f":"COUNTIF(L101:L131,AI10)","v":1},{"$f":"AJ10/(AL4-AJ20)","v":3.2258064516129031E-2},{"$f":"IF(AK10=0,0,(AK10*((LOG(AK10))/LOG(2))))","v":-0.15981278420602821},null,{"$f":"N10","v":1122},{"$f":"COUNTIF(L132:L162,AN10)","v":0},{"$f":"AO10/(AQ4-AO20)","v":0},{"$f":"IF(AP10=0,0,(AP10*((LOG(AP10))/LOG(2))))","v":0},null,{"$f":"N10","v":1122},{"$f":"COUNTIF(L163:L193,AS10)","v":3},{"$f":"AT10/(AV4-AT20)","v":9.6774193548387094E-2},{"$f":"IF(AU10=0,0,(AU10*((LOG(AU10))/LOG(2))))","v":-0.32605488480635986}]
[12,626,23,637,24,644,14,659,null,null,0,1221,null,1211,{"$f":"COUNTIF($L$7:$L$500,N11)","v":1},{"$f":"O11/$Q$4","v":5.3475935828877002E-3},{"$f":"IF(P11=0,0,(P11*((LOG(P11))/LOG(2))))","v":-4.0357724384425864E-2},null,null,{"$f":"N11","v":1211},{"$f":"COUNTIF(L7:L37,T11)","v":0},{"$f":"U11/(W4-U20)","v":0},{"$f":"IF(V11=0,0,(V11*((LOG(V11))/LOG(2))))","v":0},null,{"$f":"N11","v":1211},{"$f":"COUNTIF(L38:L68,Y11)","v":0},{"$f":"Z11/(AB4-Z20)","v":0},{"$f":"IF(AA11=0,0,(AA11*((LOG(AA11))/LOG(2))))","v":0},null,{"$f":"N11","v":1211},{"$f":"COUNTIF(L69:L100,AD11)","v":0},{"$f":"AE11/(AG4-AE20)","v":0},{"$f":"IF(AF11=0,0,(AF11*((LOG(AF11))/LOG(2))))","v":0},null,{"$f":"N11","v":1211},{"$f":"COUNTIF(L101:L131,AI11)","v":0},{"$f":"AJ11/(AL4-AJ20)","v":0},{"$f":"IF(AK11=0,0,(AK11*((LOG(AK11))/LOG(2))))","v":0},null,{"$f":"N11","v":1211},{"$f":"COUNTIF(L132:L162,AN11)","v":1},{"$f":"AO11/(AQ4-AO20)","v":3.2258064516129031E-2},{"$f":"IF(AP11=0,0,(AP11*((LOG(AP11))/LOG(2))))","v":-0.15981278420602821},null,{"$f":"N11","v":1211},{"$f":"COUNTIF(L163:L193,AS11)","v":0},{"$f":"AT11/(AV4-AT20)","v":0},{"$f":"IF(AU11=0,0,(AU11*((LOG(AU11))/LOG(2))))","v":0}]
[12,766,14,771,24,784,14,797,null,null,0,1121,null,1212,{"$f":"COUNTIF($L$7:$L$500,N12)","v":0},{"$f":"O12/$Q$4","v":0},{"$f":"IF(P12=0,0,(P12*((LOG(P12))/LOG(2))))","v":0},null,null,{"$f":"N12","v":1212},{"$f":"COUNTIF(L7:L37,T12)","v":0},{"$f":"U12/(W4-U20)","v":0},{"$f":"IF(V12=0,0,(V12*((LOG(V12))/LOG(2))))","v":0},null,{"$f":"N12","v":1212},{"$f":"COUNTIF(L38:L68,Y12)","v":0},{"$f":"Z12/(AB4-Z20)","v":0},{"$f":"IF(AA12=0,0,(AA12*((LOG(AA12))/LOG(2))))","v":0},null,{"$f":"N12","v":1212},{"$f":"COUNTIF(L69:L100,AD12)","v":0},{"$f":"AE12/(AG4-AE20)","v":0},{"$f":"IF(AF12=0,0,(AF12*((LOG(AF12))/LOG(2))))","v":0},null,{"$f":"N12","v":1212},{"$f":"COUNTIF(L101:L131,AI12)","v":0},{"$f":"AJ12/(AL4-AJ20)","v":0},{"$f":"IF(AK12=0,0,(AK12*((LOG(AK12))/LOG(2))))","v":0},null,{"$f":"N12","v":1212},{"$f":"COUNTIF(L132:L162,AN12)","v":0},{"$f":"AO12/(AQ4-AO20)","v":0},{"$f":"IF(AP12=0,0,(AP12*((LOG(AP12))/LOG(2))))","v":0},null,{"$f":"N12","v":1212},{"$f":"COUNTIF(L163:L193,AS12)","v":0},{"$f":"AT12/(AV4-AT20)","v":0},{"$f":"IF(AU12=0,0,(AU12*((LOG(AU12))/LOG(2))))","v":0}]
[12,899,14,903,13,907,14,912,null,null,0,1111,null,1221,{"$f":"COUNTIF($L$7:$L$500,N13)","v":4},{"$f":"O13/$Q$4","v":2.1390374331550801E-2},{"$f":"IF(P13=0,0,(P13*((LOG(P13))/LOG(2))))","v":-0.11865014887460185},null,null,{"$f":"N13","v":1221},{"$f":"COUNTIF(L7:L37,T13)","v":3},{"$f":"U13/(W4-U20)","v":9.6774193548387094E-2},{"$f":"IF(V13=0,0,(V13*((LOG(V13))/LOG(2))))","v":-0.32605488480635986},null,{"$f":"N13","v":1221},{"$f":"COUNTIF(L38:L68,Y13)","v":0},{"$f":"Z13/(AB4-Z20)","v":0},{"$f":"IF(AA13=0,0,(AA13*((LOG(AA13))/LOG(2))))","v":0},null,{"$f":"N13","v":1221},{"$f":"COUNTIF(L69:L100,AD13)","v":0},{"$f":"AE13/(AG4-AE20)","v":0},{"$f":"IF(AF13=0,0,(AF13*((LOG(AF13))/LOG(2))))","v":0},null,{"$f":"N13","v":1221},{"$f":"COUNTIF(L101:L131,AI13)","v":1},{"$f":"AJ13/(AL4-AJ20)","v":3.2258064516129031E-2},{"$f":"IF(AK13=0,0,(AK13*((LOG(AK13))/LOG(2))))","v":-0.15981278420602821},null,{"$f":"N13","v":1221},{"$f":"COUNTIF(L132:L162,AN13)","v":0},{"$f":"AO13/(AQ4-AO20)","v":0},{"$f":"IF(AP13=0,0,(AP13*((LOG(AP13))/LOG(2))))","v":0},null,{"$f":"N13","v":1221},{"$f":"COUNTIF(L163:L193,AS13)","v":0},{"$f":"AT13/(AV4-AT20)","v":0},{"$f":"IF(AU13=0,0,(AU13*((LOG(AU13))/LOG(2))))","v":0}]
[12,1013,14,1017,13,1021,14,1026,null,null,0,1111,null,1222,{"$f":"COUNTIF($L$7:$L$500,N14)","v":1},{"$f":"O14/$Q$4","v":5.3475935828877002E-3},{"$f":"IF(P14=0,0,(P14*((LOG(P14))/LOG(2))))","v":-4.0357724384425864E-2},null,null,{"$f":"N14","v":1222},{"$f":"COUNTIF(L7:L37,T14)","v":1},{"$f":"U14/(W4-U20)","v":3.2258064516129031E-2},{"$f":"IF(V14=0,0,(V14*((LOG(V14))/LOG(2))))","v":-0.15981278420602821},null,{"$f":"N14","v":1222},{"$f":"COUNTIF(L38:L68,Y14)","v":0},{"$f":"Z14/(AB4-Z20)","v":0},{"$f":"IF(AA14=0,0,(AA14*((LOG(AA14))/LOG(2))))","v":0},null,{"$f":"N14","v":1222},{"$f":"COUNTIF(L69:L100,AD14)","v":0},{"$f":"AE14/(AG4-AE20)","v":0},{"$f":"IF(AF14=0,0,(AF14*((LOG(AF14))/LOG(2))))","v":0},null,{"$f":"N14","v":1222},{"$f":"COUNTIF(L101:L131,AI14)","v":0},{"$f":"AJ14/(AL4-AJ20)","v":0},{"$f":"IF(AK14=0,0,(AK14*((LOG(AK14))/LOG(2))))","v":0},null,{"$f":"N14","v":1222},{"$f":"COUNTIF(L132:L162,AN14)","v":0},{"$f":"AO14/(AQ4-AO20)","v":0},{"$f":"IF(AP14=0,0,(AP14*((LOG(AP14))/LOG(2))))","v":0},null,{"$f":"N14","v":1222},{"$f":"COUNTIF(L163:L193,AS14)","v":0},{"$f":"AT14/(AV4-AT20)","v":0},{"$f":"IF(AU14=0,0,(AU14*((LOG(AU14))/LOG(2))))","v":0}]
[12,1129,14,1135,13,1139,14,1147,null,null,0,1111,null,2111,{"$f":"COUNTIF($L$7:$L$500,N15)","v":0},{"$f":"O15/$Q$4","v":0},{"$f":"IF(P15=0,0,(P15*((LOG(P15))/LOG(2))))","v":0},null,null,{"$f":"N15","v":2111},{"$f":"COUNTIF(L7:L37,T15)","v":0},{"$f":"U15/(W4-U20)","v":0},{"$f":"IF(V15=0,0,(V15*((LOG(V15))/LOG(2))))","v":0},null,{"$f":"N15","v":2111},{"$f":"COUNTIF(L38:L68,Y15)","v":0},{"$f":"Z15/(AB4-Z20)","v":0},{"$f":"IF(AA15=0,0,(AA15*((LOG(AA15))/LOG(2))))","v":0},null,{"$f":"N15","v":2111},{"$f":"COUNTIF(L69:L100,AD15)","v":0},{"$f":"AE15/(AG4-AE20)","v":0},{"$f":"IF(AF15=0,0,(AF15*((LOG(AF15))/LOG(2))))","v":0},null,{"$f":"N15","v":2111},{"$f":"COUNTIF(L101:L131,AI15)","v":0},{"$f":"AJ15/(AL4-AJ20)","v":0},{"$f":"IF(AK15=0,0,(AK15*((LOG(AK15))/LOG(2))))","v":0},null,{"$f":"N15","v":2111},{"$f":"COUNTIF(L132:L162,AN15)","v":0},{"$f":"AO15/(AQ4-AO20)","v":0},{"$f":"IF(AP15=0,0,(AP15*((LOG(AP15))/LOG(2))))","v":0},null,{"$f":"N15","v":2111},{"$f":"COUNTIF(L163:L193,AS15)","v":0},{"$f":"AT15/(AV4-AT20)","v":0},{"$f":"IF(AU15=0,0,(AU15*((LOG(AU15))/LOG(2))))","v":0}]
[12,1245,14,1254,13,1262,14,1268,null,null,0,1111,null,2112,{"$f":"COUNTIF($L$7:$L$500,N16)","v":0},{"$f":"O16/$Q$4","v":0},{"$f":"IF(P16=0,0,(P16*((LOG(P16))/LOG(2))))","v":0},null,null,{"$f":"N16","v":2112},{"$f":"COUNTIF(L7:L37,T16)","v":0},{"$f":"U16/(W4-U20)","v":0},{"$f":"IF(V16=0,0,(V16*((LOG(V16))/LOG(2))))","v":0},null,{"$f":"N16","v":2112},{"$f":"COUNTIF(L38:L68,Y16)","v":0},{"$f":"Z16/(AB4-Z20)","v":0},{"$f":"IF(AA16=0,0,(AA16*((LOG(AA16))/LOG(2))))","v":0},null,{"$f":"N16","v":2112},{"$f":"COUNTIF(L69:L100,AD16)","v":0},{"$f":"AE16/(AG4-AE20)","v":0},{"$f":"IF(AF16=0,0,(AF16*((LOG(AF16))/LOG(2))))","v":0},null,{"$f":"N16","v":2112},{"$f":"COUNTIF(L101:L131,AI16)","v":0},{"$f":"AJ16/(AL4-AJ20)","v":0},{"$f":"IF(AK16=0,0,(AK16*((LOG(AK16))/LOG(2))))","v":0},null,{"$f":"N16","v":2112},{"$f":"COUNTIF(L132:L162,AN16)","v":0},{"$f":"AO16/(AQ4-AO20)","v":0},{"$f":"IF(AP16=0,0,(AP16*((LOG(AP16))/LOG(2))))","v":0},null,{"$f":"N16","v":2112},{"$f":"COUNTIF(L163:L193,AS16)","v":0},{"$f":"AT16/(AV4-AT20)","v":0},{"$f":"IF(AU16=0,0,(AU16*((LOG(AU16))/LOG(2))))","v":0}]
[12,1360,14,1365,13,1370,14,1375,null,null,0,1111,null,2121,{"$f":"COUNTIF($L$7:$L$500,N17)","v":0},{"$f":"O17/$Q$4","v":0},{"$f":"IF(P17=0,0,(P17*((LOG(P17))/LOG(2))))","v":0},null,null,{"$f":"N17","v":2121},{"$f":"COUNTIF(L7:L37,T17)","v":0},{"$f":"U17/(W4-U20)","v":0},{"$f":"IF(V17=0,0,(V17*((LOG(V17))/LOG(2))))","v":0},null,{"$f":"N17","v":2121},{"$f":"COUNTIF(L38:L68,Y17)","v":0},{"$f":"Z17/(AB4-Z20)","v":0},{"$f":"IF(AA17=0,0,(AA17*((LOG(AA17))/LOG(2))))","v":0},null,{"$f":"N17","v":2121},{"$f":"COUNTIF(L69:L100,AD17)","v":0},{"$f":"AE17/(AG4-AE20)","v":0},{"$f":"IF(AF17=0,0,(AF17*((LOG(AF17))/LOG(2))))","v":0},null,{"$f":"N17","v":2121},{"$f":"COUNTIF(L101:L131,AI17)","v":0},{"$f":"AJ17/(AL4-AJ20)","v":0},{"$f":"IF(AK17=0,0,(AK17*((LOG(AK17))/LOG(2))))","v":0},null,{"$f":"N17","v":2121},{"$f":"COUNTIF(L132:L162,AN17)","v":0},{"$f":"AO17/(AQ4-AO20)","v":0},{"$f":"IF(AP17=0,0,(AP17*((LOG(AP17))/LOG(2))))","v":0},null,{"$f":"N17","v":2121},{"$f":"COUNTIF(L163:L193,AS17)","v":0},{"$f":"AT17/(AV4-AT20)","v":0},{"$f":"IF(AU17=0,0,(AU17*((LOG(AU17))/LOG(2))))","v":0}]
[12,1480,14,1485,24,1494,23,1511,null,null,0,1122,null,2122,{"$f":"COUNTIF($L$7:$L$500,N18)","v":0},{"$f":"O18/$Q$4","v":0},{"$f":"IF(P18=0,0,(P18*((LOG(P18))/LOG(2))))","v":0},null,null,{"$f":"N18","v":2122},{"$f":"COUNTIF(L7:L37,T18)","v":0},{"$f":"U18/(W4-U20)","v":0},{"$f":"IF(V18=0,0,(V18*((LOG(V18))/LOG(2))))","v":0},null,{"$f":"N18","v":2122},{"$f":"COUNTIF(L38:L68,Y18)","v":0},{"$f":"Z18/(AB4-Z20)","v":0},{"$f":"IF(AA18=0,0,(AA18*((LOG(AA18))/LOG(2))))","v":0},null,{"$f":"N18","v":2122},{"$f":"COUNTIF(L69:L100,AD18)","v":0},{"$f":"AE18/(AG4-AE20)","v":0},{"$f":"IF(AF18=0,0,(AF18*((LOG(AF18))/LOG(2))))","v":0},null,{"$f":"N18","v":2122},{"$f":"COUNTIF(L101:L131,AI18)","v":0},{"$f":"AJ18/(AL4-AJ20)","v":0},{"$f":"IF(AK18=0,0,(AK18*((LOG(AK18))/LOG(2))))","v":0},null,{"$f":"N18","v":2122},{"$f":"COUNTIF(L132:L162,AN18)","v":0},{"$f":"AO18/(AQ4-AO20)","v":0},{"$f":"IF(AP18=0,0,(AP18*((LOG(AP18))/LOG(2))))","v":0},null,{"$f":"N18","v":2122},{"$f":"COUNTIF(L163:L193,AS18)","v":0},{"$f":"AT18/(AV4-AT20)","v":0},{"$f":"IF(AU18=0,0,(AU18*((LOG(AU18))/LOG(2))))","v":0}]
[12,1611,14,1619,13,1625,23,1636,null,null,0,1112,null,2211,{"$f":"COUNTIF($L$7:$L$500,N19)","v":0},{"$f":"O19/$Q$4","v":0},{"$f":"IF(P19=0,0,(P19*((LOG(P19))/LOG(2))))","v":0},null,null,{"$f":"N19","v":2211},{"$f":"COUNTIF(L7:L37,T19)","v":0},{"$f":"U19/(W4-U20)","v":0},{"$f":"IF(V19=0,0,(V19*((LOG(V19))/LOG(2))))","v":0},null,{"$f":"N19","v":2211},{"$f":"COUNTIF(L38:L68,Y19)","v":0},{"$f":"Z19/(AB4-Z20)","v":0},{"$f":"IF(AA19=0,0,(AA19*((LOG(AA19))/LOG(2))))","v":0},null,{"$f":"N19","v":2211},{"$f":"COUNTIF(L69:L100,AD19)","v":0},{"$f":"AE19/(AG4-AE20)","v":0},{"$f":"IF(AF19=0,0,(AF19*((LOG(AF19))/LOG(2))))","v":0},null,{"$f":"N19","v":2211},{"$f":"COUNTIF(L101:L131,AI19)","v":0},{"$f":"AJ19/(AL4-AJ20)","v":0},{"$f":"IF(AK19=0,0,(AK19*((LOG(AK19))/LOG(2))))","v":0},null,{"$f":"N19","v":2211},{"$f":"COUNTIF(L132:L162,AN19)","v":0},{"$f":"AO19/(AQ4-AO20)","v":0},{"$f":"IF(AP19=0,0,(AP19*((LOG(AP19))/LOG(2))))","v":0},null,{"$f":"N19","v":2211},{"$f":"COUNTIF(L163:L193,AS19)","v":0},{"$f":"AT19/(AV4-AT20)","v":0},{"$f":"IF(AU19=0,0,(AU19*((LOG(AU19))/LOG(2))))","v":0}]
[12,1735,14,1743,13,1748,14,1752,null,null,0,1111,null,2212,{"$f":"COUNTIF($L$7:$L$500,N20)","v":0},{"$f":"O20/$Q$4","v":0},{"$f":"IF(P20=0,0,(P20*((LOG(P20))/LOG(2))))","v":0},null,null,{"$f":"N20","v":2212},{"$f":"COUNTIF(L7:L37,T20)","v":0},null,null,null,{"$f":"N20","v":2212},{"$f":"COUNTIF(L38:L68,Y20)","v":0},null,null,null,{"$f":"N20","v":2212},{"$f":"COUNTIF(L69:L100,AD20)","v":0},null,null,null,{"$f":"N20","v":2212},{"$f":"COUNTIF(L101:L131,AI20)","v":0},null,null,null,{"$f":"N20","v":2212},{"$f":"COUNTIF(L132:L162,AN20)","v":0},null,null,null,{"$f":"N20","v":2212},{"$f":"COUNTIF(L163:L193,AS20)","v":0}]
[12,1853,14,1857,13,1862,14,1868,null,null,0,1111,null,2221,{"$f":"COUNTIF($L$7:$L$500,N21)","v":0},{"$f":"O21/$Q$4","v":0},{"$f":"IF(P21=0,0,(P21*((LOG(P21))/LOG(2))))","v":0},null,null,{"$f":"N21","v":2221},{"$f":"COUNTIF(L7:L37,T21)","v":0},{"$f":"U21/(W4-U20)","v":0},{"$f":"IF(V21=0,0,(V21*((LOG(V21))/LOG(2))))","v":0},null,{"$f":"N21","v":2221},{"$f":"COUNTIF(L38:L68,Y21)","v":0},{"$f":"Z21/(AB4-Z20)","v":0},{"$f":"IF(AA21=0,0,(AA21*((LOG(AA21))/LOG(2))))","v":0},null,{"$f":"N21","v":2221},{"$f":"COUNTIF(L69:L100,AD21)","v":0},{"$f":"AE21/(AG4-AE20)","v":0},{"$f":"IF(AF21=0,0,(AF21*((LOG(AF21))/LOG(2))))","v":0},null,{"$f":"N21","v":2221},{"$f":"COUNTIF(L101:L131,AI21)","v":0},{"$f":"AJ21/(AL4-AJ20)","v":0},{"$f":"IF(AK21=0,0,(AK21*((LOG(AK21))/LOG(2))))","v":0},null,{"$f":"N21","v":2221},{"$f":"COUNTIF(L132:L162,AN21)","v":0},{"$f":"AO21/(AQ4-AO20)","v":0},{"$f":"IF(AP21=0,0,(AP21*((LOG(AP21))/LOG(2))))","v":0},null,{"$f":"N21","v":2221},{"$f":"COUNTIF(L163:L193,AS21)","v":0},{"$f":"AT21/(AV4-AT20)","v":0},{"$f":"IF(AU21=0,0,(AU21*((LOG(AU21))/LOG(2))))","v":0}]
[12,1972,14,1976,13,1981,14,1986,null,null,0,1111,null,2222,{"$f":"COUNTIF($L$7:$L$500,N22)","v":0},{"$f":"O22/$Q$4","v":0},{"$f":"IF(P22=0,0,(P22*((LOG(P22))/LOG(2))))","v":0},null,null,{"$f":"N22","v":2222},{"$f":"COUNTIF(L7:L37,T22)","v":0},{"$f":"U22/(W4-U20)","v":0},{"$f":"IF(V22=0,0,(V22*((LOG(V22))/LOG(2))))","v":0},null,{"$f":"N22","v":2222},{"$f":"COUNTIF(L38:L68,Y22)","v":0},{"$f":"Z22/(AB4-Z20)","v":0},{"$f":"IF(AA22=0,0,(AA22*((LOG(AA22))/LOG(2))))","v":0},null,{"$f":"N22","v":2222},{"$f":"COUNTIF(L69:L100,AD22)","v":0},{"$f":"AE22/(AG4-AE20)","v":0},{"$f":"IF(AF22=0,0,(AF22*((LOG(AF22))/LOG(2))))","v":0},null,{"$f":"N22","v":2222},{"$f":"COUNTIF(L101:L131,AI22)","v":0},{"$f":"AJ22/(AL4-AJ20)","v":0},{"$f":"IF(AK22=0,0,(AK22*((LOG(AK22))/LOG(2))))","v":0},null,{"$f":"N22","v":2222},{"$f":"COUNTIF(L132:L162,AN22)","v":0},{"$f":"AO22/(AQ4-AO20)","v":0},{"$f":"IF(AP22=0,0,(AP22*((LOG(AP22))/LOG(2))))","v":0},null,{"$f":"N22","v":2222},{"$f":"COUNTIF(L163:L193,AS22)","v":0},{"$f":"AT22/(AV4-AT20)","v":0},{"$f":"IF(AU22=0,0,(AU22*((LOG(AU22))/LOG(2))))","v":0}]
[12,2084,14,2093,13,2101,14,2106,null,null,0,1111,null,null,null,{"$f":"SUM(P7:P22)","v":1},{"$f":"-SUM(Q7:Q22)","v":0.91385028563493698},null,null,null,null,{"$f":"SUM(V7:V22)","v":0.99999999999999989},{"$f":"-SUM(W7:W22)","v":1.3801055848554309},null,null,null,{"$f":"SUM(AA7:AA22)","v":0.99999999999999989},{"$f":"-SUM(AB7:AB22)","v":0.40963344397721102},null,null,null,{"$f":"SUM(AF7:AF22)","v":1},{"$f":"-SUM(AG7:AG22)","v":0.8180914641842123},null,null,null,{"$f":"SUM(AK7:AK22)","v":0.99999999999999989},{"$f":"-SUM(AL7:AL22)","v":0.81284267947030564},null,null,null,{"$f":"SUM(AP7:AP22)","v":0.99999999999999989},{"$f":"-SUM(AQ7:AQ22)","v":0.61206928401226501},null,null,null,{"$f":"SUM(AU7:AU22)","v":1},{"$f":"-SUM(AV7:AV22)","v":0.6594592116585809}]
[12,2204,14,2209,13,2213,14,2218,null,null,0,1111,null,null,null,"U=",{"$f":"Q23/(LOG(Q4)/LOG(2))","v":0.1210895806867482},null,null,null,null,"U1=",{"$f":"W23/(LOG(W4)/LOG(2))","v":0.27857305168992341},null,null,null,"U2=",{"$f":"AB23/(LOG(AB4)/LOG(2))","v":8.2684136500279823E-2},null,null,null,"U3=",{"$f":"AG23/(LOG(AG4)/LOG(2))","v":0.16361829283684245},null,null,null,"U4=",{"$f":"AL23/(LOG(AL4)/LOG(2))","v":0.16407155238602777},null,null,null,"U5=",{"$f":"AQ23/(LOG(AQ4)/LOG(2))","v":0.12354562590283555},null,null,null,"U6=",{"$f":"AV23/(LOG(AV4)/LOG(2))","v":0.13311123951143622}]
[12,2312,14,2316,13,2321,14,2325,null,null,0,1111]
[12,2424,14,2432,13,2445,14,2450,null,null,0,1111]
[12,2546,14,2554,13,2574,14,2581,null,null,0,1111,null,"Total Target Seq"]
[12,2687,23,2708,24,2715,23,2727,null,null,0,1222,null,{"$f":"COUNTIF(L7:L193,G3)","v":0},null,31,31,32,31,31,31]
[12,2824,14,2828,13,2832,14,2849,null,null,0,1111,null,null,null,"% of reinforcement given in 6 equal intervals based on number of trials "]
[12,2946,14,2959,13,2964,14,2969,null,null,0,1111,null,null,null,"%_1","%_2","%_3","%_4","%_5","%_6"]
[12,3067,14,3074,13,3087,14,3091,null,null,0,1111,null,null,"target sequence",{"$f":"$G$3","v":2212},{"$f":"$G$3","v":2212},{"$f":"$G$3","v":2212},{"$f":"$G$3","v":2212},{"$f":"$G$3","v":2212},{"$f":"$G$3","v":2212}]
[12,3190,14,3194,13,3200,14,3206,null,null,0,1111,null,null,"total reinforcement",{"$f":"U20","v":0},{"$f":"Z20","v":0},{"$f":"AE20","v":0},{"$f":"AJ20","v":0},{"$f":"AO20","v":0},{"$f":"AT20","v":0}]
[12,3302,14,3310,13,3315,14,3320,null,null,0,1111,null,null,"% target"]
[12,3416,14,3435,13,3452,14,3460,null,null,0,1111,null,null,"CCRF"]
[12,3561,14,3565,13,3569,14,3574,null,null,0,1111,null,null,"% CCRf"]
[12,3671,14,3676,13,3684,14,3688,null,null,0,1111,null,null,"average response rate",{"$f":"H37/P28","v":122.51612903225806},{"$f":"(H68-H37)/Q28","v":146.74193548387098},{"$f":"(H100-H68)/R28","v":123.65625},{"$f":"(H131-H100)/S28","v":123.45161290322581},{"$f":"(H162-H131)/T28","v":125.16129032258064},{"$f":"(H193-H162)/U28","v":127.51612903225806}]
[12,3784,14,3789,13,3793,14,3798,null,null,0,1111]
[12,3896,14,3901,13,3905,14,3911,null,null,0,1111]
[12,4015,14,4021,13,4038,14,4043,null,null,0,1111]
[12,4143,14,4148,24,4180,14,4206,null,null,0,1121]
[12,4302,14,4307,13,4311,14,4316,null,null,0,1111]
[12,5012,14,5019,13,5033,14,5044,null,null,0,1111]
[12,5157,14,5161,13,5165,14,5177,null,null,0,1111]
[12,5273,14,5277,13,5301,14,5308,null,null,0,1111]
[12,5409,14,5421,13,5428,14,5437,null,null,0,1111]
[12,5533,14,5542,13,5564,14,5572,null,null,0,1111]
[12,5673,14,5681,13,5685,14,5690,null,null,0,1111]
[12,5786,14,5817,13,5830,14,5844,null,null,0,1111]
[12,5951,14,5956,13,5960,14,5969,null,null,0,1111]
[12,6066,14,6076,13,6081,14,6085,null,null,0,1111]
[12,6188,14,6192,13,6197,14,6206,null,null,0,1111]
[12,6302,14,6313,13,6317,14,6334,null,null,0,1111]
[12,6438,14,6442,13,6450,14,6457,null,null,0,1111]
[12,6556,14,6560,13,6573,14,6577,null,null,0,1111]
[12,6674,14,6678,13,6686,14,6695,null,null,0,1111]
[12,6809,14,6816,13,6825,14,6835,null,null,0,1111]
[12,6963,14,6980,13,6985,14,6994,null,null,0,1111]
[12,7097,14,7110,13,7115,14,7120,null,null,0,1111]
[12,7235,14,7240,13,7244,14,7253,null,null,0,1111]
[12,7348,14,7353,13,7357,14,7371,null,null,0,1111]
[12,7474,14,7478,13,7488,14,7496,null,null,0,1111]
[12,7592,14,7597,13,7605,14,7610,null,null,0,1111]
[12,7717,14,7722,13,7730,14,7740,null,null,0,1111]
[12,7854,14,7859,13,7864,14,7870,null,null,0,1111]
[12,7967,14,7971,24,7984,23,7992,null,null,0,1122]
[12,8085,14,8089,13,8102,14,8106,null,null,0,1111]
[12,8204,14,8208,13,8225,14,8233,null,null,0,1111]
[12,8332,14,8339,13,8343,14,8347,null,null,0,1111]
[12,8442,14,8446,13,8456,14,8464,null,null,0,1111]
[12,8561,14,8566,13,8576,14,8591,null,null,0,1111]
[12,8693,14,8698,13,8702,14,8710,null,null,0,1111]
[12,8806,14,8810,13,8814,14,8822,null,null,0,1111]
[12,8920,14,8924,13,8937,14,8944,null,null,0,1111]
[12,9042,14,9046,13,9052,14,9059,null,null,0,1111]
[12,9161,14,9169,13,9177,23,9188,null,null,0,1112]
[12,9287,14,9295,24,9307,23,9316,null,null,0,1122]
[12,9413,14,9417,13,9432,14,9436,null,null,0,1111]
[12,9532,14,9536,13,9553,23,9563,null,null,0,1112]
[12,9660,14,9667,13,9692,14,9696,null,null,0,1111]
[12,9792,14,9801,13,9812,14,9816,null,null,0,1111]
[12,9913,14,9917,13,9931,23,9953,null,null,0,1112]
[12,10051,14,10061,13,10066,14,10070,null,null,0,1111]
[12,10168,14,10172,13,10181,14,10185,null,null,0,1111]
[12,10283,14,10288,13,10302,14,10306,null,null,0,1111]
[12,10406,14,10410,13,10422,14,10426,null,null,0,1111]
[12,10523,14,10528,13,10541,14,10546,null,null,0,1111]
[12,10650,14,10655,13,10662,14,10666,null,null,0,1111]
[12,10765,14,10772,13,10783,14,10787,null,null,0,1111]
[12,10890,14,10895,13,10899,14,10904,null,null,0,1111]
[12,11003,14,11025,13,11030,14,11036,null,null,0,1111]
[12,11135,14,11153,13,11166,23,11178,null,null,0,1112]
[12,11275,14,11299,13,11304,14,11312,null,null,0,1111]
[12,11412,14,11420,13,11425,14,11434,null,null,0,1111]
[12,11531,14,11548,13,11552,14,11559,null,null,0,1111]
[12,11661,14,11665,13,11673,14,11680,null,null,0,1111]
[12,11775,14,11779,13,11785,14,11789,null,null,0,1111]
[12,11885,14,11900,13,11907,14,11912,null,null,0,1111]
[12,12011,14,12028,13,12043,23,12063,null,null,0,1112]
[12,12158,14,12163,13,12177,14,12190,null,null,0,1111]
[12,12291,14,12295,13,12300,14,12304,null,null,0,1111]
[12,12404,14,12408,13,12412,14,12417,null,null,0,1111]
[12,12514,14,12525,13,12537,14,12541,null,null,0,1111]
[12,12637,14,12653,24,12685,14,12703,null,null,0,1121]
[12,12801,14,12805,13,12812,14,12816,null,null,0,1111]
[12,12918,14,12925,13,12930,23,12942,null,null,0,1112]
[12,13042,14,13046,13,13050,14,13055,null,null,0,1111]
[12,13154,14,13157,13,13168,14,13173,null,null,0,1111]
[12,13269,14,13276,13,13280,14,13288,null,null,0,1111]
[12,13388,14,13400,13,13408,14,13413,null,null,0,1111]
[12,13504,14,13521,13,13524,14,13528,null,null,0,1111]
[12,13629,14,13636,13,13640,14,13653,null,null,0,1111]
[12,13750,14,13754,13,13758,14,13762,null,null,0,1111]
[12,13862,23,13885,24,13894,14,13923,null,null,0,1221]
[12,14021,14,14029,13,14039,14,14042,null,null,0,1111]
[12,14138,14,14143,13,14154,14,14161,null,null,0,1111]
[12,14261,14,14277,13,14289,14,14293,null,null,0,1111]
[12,14395,14,14420,13,14425,14,14433,null,null,0,1111]
[12,14529,14,14534,13,14549,14,14567,null,null,0,1111]
[12,14672,14,14683,13,14686,14,14694,null,null,0,1111]
[12,14790,14,14794,13,14802,14,14818,null,null,0,1111]
[12,14919,14,14931,13,14935,14,14943,null,null,0,1111]
[12,15041,14,15046,13,15057,14,15061,null,null,0,1111]
[12,15159,14,15163,24,15186,23,15199,null,null,0,1122]
[12,15293,14,15301,13,15308,14,15312,null,null,0,1111]
[12,15409,14,15412,13,15423,14,15427,null,null,0,1111]
[12,15523,14,15527,13,15538,14,15543,null,null,0,1111]
[12,15643,14,15647,13,15651,14,15655,null,null,0,1111]
[12,15752,14,15765,13,15768,14,15776,null,null,0,1111]
[12,15873,14,15878,13,15893,14,15897,null,null,0,1111]
[12,15993,14,15997,13,16018,14,16022,null,null,0,1111]
[12,16112,14,16116,13,16126,14,16131,null,null,0,1111]
[12,16222,14,16226,13,16231,14,16244,null,null,0,1111]
[12,16341,14,16352,24,16364,14,16380,null,null,0,1121]
[12,16477,14,16487,13,16491,14,16495,null,null,0,1111]
[12,16591,14,16595,13,16605,14,16609,null,null,0,1111]
[12,16714,14,16718,13,16721,14,16729,null,null,0,1111]
[12,16829,14,16836,13,16846,14,16857,null,null,0,1111]
[12,16951,14,16973,13,16977,14,16985,null,null,0,1111]
[12,17085,14,17093,13,17103,23,17115,null,null,0,1112]
[12,17217,14,17221,13,17228,14,17232,null,null,0,1111]
[12,17327,14,17334,13,17341,14,17354,null,null,0,1111]
[12,17450,14,17465,13,17470,14,17477,null,null,0,1111]
[12,17598,23,17610,13,17622,14,17626,null,null,0,1211]
[12,17721,14,17728,13,17732,14,17739,null,null,0,1111]
[12,17836,14,17854,13,17863,14,17868,null,null,0,1111]
[12,17964,14,17974,13,17978,14,17985,null,null,0,1111]
[12,18081,14,18091,13,18094,14,18099,null,null,0,1111]
[12,18196,14,18200,13,18215,14,18225,null,null,0,1111]
[12,18324,14,18335,13,18352,14,18361,null,null,0,1111]
[12,18464,14,18468,13,18475,14,18479,null,null,0,1111]
[12,18574,14,18578,13,18581,14,18587,null,null,0,1111]
[12,18687,14,18703,13,18710,14,18721,null,null,0,1111]
[12,18817,14,18831,13,18842,14,18846,null,null,0,1111]
[12,18942,14,18948,13,18958,14,18962,null,null,0,1111]
[12,19059,14,19063,13,19083,14,19093,null,null,0,1111]
[12,19189,14,19192,13,19212,14,19216,null,null,0,1111]
[12,19312,14,19328,13,19356,14,19368,null,null,0,1111]
[12,19463,14,19475,13,19480,14,19488,null,null,0,1111]
[12,19588,14,19595,13,19609,14,19619,null,null,0,1111]
[12,19716,14,19727,13,19732,14,19743,null,null,0,1111]
[12,19849,14,19859,13,19880,14,19888,null,null,0,1111]
[12,19988,14,19992,13,20007,14,20011,null,null,0,1111]
[12,20116,14,20126,13,20130,14,20137,null,null,0,1111]
[12,20243,14,20247,24,20263,23,20273,null,null,0,1122]
[12,20365,14,20389,24,20399,23,20407,null,null,0,1122]
[12,20507,14,20512,13,20516,14,20520,null,null,0,1111]
[12,20612,14,20623,13,20627,14,20640,null,null,0,1111]
[12,20740,14,20748,13,20752,14,20758,null,null,0,1111]
[12,20854,14,20858,13,20863,14,20872,null,null,0,1111]
[12,20968,14,20984,13,20988,14,20991,null,null,0,1111]
[12,21092,14,21101,13,21105,14,21118,null,null,0,1111]
[12,21216,14,21236,13,21253,14,21260,null,null,0,1111]
[12,21356,14,21368,13,21372,14,21376,null,null,0,1111]
[12,21474,14,21484,13,21488,14,21496,null,null,0,1111]
[12,21595,14,21600,13,21621,14,21626,null,null,0,1111]
[12,21722,14,21726,13,21748,14,21753,null,null,0,1111]
[12,21845,14,21849,13,21869,14,21873,null,null,0,1111]
[12,21968,14,21976,13,21991,14,21996,null,null,0,1111]
[12,22093,14,22107,13,22118,14,22132,null,null,0,1111]
[12,22228,14,22232,13,22256,14,22268,null,null,0,1111]
[12,22368,14,22393,13,22400,14,22408,null,null,0,1111]
[12,22508,14,22511,13,22520,14,22528,null,null,0,1111]
[12,22638,14,22647,13,22651,14,22658,null,null,0,1111]
[12,22814,14,22822,24,22835,23,22848,null,null,0,1122]
[12,22945,14,22964,13,22968,14,22973,null,null,0,1111]
[12,23076,14,23080,13,23089,14,23093,null,null,0,1111]
[12,23193,14,23203,13,23207,14,23216,null,null,0,1111]
[12,23313,14,23317,13,23322,14,23329,null,null,0,1111]
[12,23430,14,23449,13,23453,14,23462,null,null,0,1111]
[12,23559,14,23563,13,23568,14,23578,null,null,0,1111]
[12,23673,14,23677,13,23681,14,23685,null,null,0,1111]
[12,23786,14,23800,13,23805,23,23818,null,null,0,1112]
[12,23918,14,23934,13,23956,14,23964,null,null,null,1111]

{"sheet":"!M826A20.104","index":12,"n_rows":190,"n_cols":48,"rows_kept":190,"cut":false,"hidden":false,"merged":[[4,39,4,42],[5,39,5,40],[4,44,4,47],[5,44,5,45],[4,24,4,27],[5,24,5,25],[4,29,4,32],[5,29,5,30],[4,34,4,37],[5,34,5,35],[1,1,1,2],[5,13,5,14],[26,13,26,14],[27,13,27,14],[4,19,4,22],[5,19,5,20]]}
["Report for:!M826A20.104"]
["Date:","<date>"]
["Hen:","<hen>",null,null,null,"Correct Sequence",{"$f":"Start!J2","v":2212},null,null,null,null,null,null,null,null,"Total Sequences in Data",{"$f":"4994-COUNTBLANK(L7:L5000)","v":184},null,null,null,null,"Total Sequences in Block Data",{"$f":"COUNTA(L7:L37)","v":31},null,null,null,"Total Sequences in Block Data",{"$f":"COUNTA(L38:L67)","v":30},null,null,null,"Total Sequences in Block Data",{"$f":"COUNTA(L68:L98)","v":31},null,null,null,"Total Sequences in Block Data",{"$f":"COUNTA(L99:L129)","v":31},null,null,null,"Total Sequences in Block Data",{"$f":"COUNTA(L130:L159)","v":30},null,null,null,"Total Sequences in Block Data",{"$f":"COUNTA(L160:L190)","v":31}]
[null,null,null,null,null,null,null,null,null,null,null,null,null,null,null,"Total Sequences in Summary",{"$f":"SUM(O7:O22)","v":184},null,null,null,null,"Total Sequences in Block Summary",{"$f":"SUM(U7:U22)","v":31},null,null,null,"Total Sequences in Block Summary",{"$f":"SUM(Z7:Z22)","v":30},null,null,null,"Total Sequences in Block Summary",{"$f":"SUM(AE7:AE22)","v":31},null,null,null,"Total Sequences in Block Summary",{"$f":"SUM(AJ7:AJ22)","v":31},null,null,null,"Total Sequences in Block Summary",{"$f":"SUM(AO7:AO22)","v":30},null,null,null,"Total Sequences in Block Summary",{"$f":"SUM(AT7:AT22)","v":31}]
[null,null,null,null,null,null,null,null,null,null,null,null,null,null,null,null,null,null,null,"Block 1",null,null,null,null,"Block 2",null,null,null,null,"Block 3",null,null,null,null,"Block 4",null,null,null,null,"Block 5",null,null,null,null,"Block 6"]
["Sequence\nComponent\n1","Time\n1","Sequence\nComponent\n2","Time\n2","Sequence\nComponent\n3","Time\n3","Sequence\nComponent\n4","Time\n4","Sequence\nComponent\n5","Time\n5","Correct?\n0=No 1=Yes","Sequence",null,"Frequency",null,"Relative Frequency","Variability",null,null,"Frequency",null,"Relative Frequency","Variability",null,"Frequency",null,"Relative Frequency","Variability",null,"Frequency",null,"Relative Frequency","Variability",null,"Frequency",null,"Relative Frequency","Variability",null,"Frequency",null,"Relative Frequency","Variability",null,"Frequency",null,"Relative Frequency","Variability"]
[21,29,12,46,13,51,14,59,null,null,0,2111,null,1111,{"$f":"COUNTIF($L$7:$L$500,N7)","v":126},{"$f":"O7/$Q$4","v":0.68478260869565222},{"$f":"IF(P7=0,0,(P7*((LOG(P7))/LOG(2))))","v":-0.37408443533801161},null,null,{"$f":"N7","v":1111},{"$f":"COUNTIF(L7:L37,T7)","v":17},{"$f":"U7/(W4-U20)","v":0.56666666666666665},{"$f":"IF(V7=0,0,(V7*((LOG(V7))/LOG(2))))","v":-0.46434239413630152},null,{"$f":"N7","v":1111},{"$f":"COUNTIF(L38:L67,Y7)","v":24},{"$f":"Z7/(AB4-Z20)","v":0.8},{"$f":"IF(AA7=0,0,(AA7*((LOG(AA7))/LOG(2))))","v":-0.25754247590988982},null,{"$f":"N7","v":1111},{"$f":"COUNTIF(L68:L98,AD7)","v":25},{"$f":"AE7/(AG4-AE20)","v":0.80645161290322576},{"$f":"IF(AF7=0,0,(AF7*((LOG(AF7))/LOG(2))))","v":-0.25027429081625047},null,{"$f":"N7","v":1111},{"$f":"COUNTIF(L99:L129,AI7)","v":23},{"$f":"AJ7/(AL4-AJ20)","v":0.74193548387096775},{"$f":"IF(AK7=0,0,(AK7*((LOG(AK7))/LOG(2))))","v":-0.31950290805118814},null,{"$f":"N7","v":1111},{"$f":"COUNTIF(L130:L159,AN7)","v":17},{"$f":"AO7/(AQ4-AO20)","v":0.56666666666666665},{"$f":"IF(AP7=0,0,(AP7*((LOG(AP7))/LOG(2))))","v":-0.46434239413630152},null,{"$f":"N7","v":1111},{"$f":"COUNTIF(L160:L190,AS7)","v":20},{"$f":"AT7/(AV4-AT20)","v":0.64516129032258063},{"$f":"IF(AU7=0,0,(AU7*((LOG(AU7))/LOG(2))))","v":-0.40791497774162117}]
[12,184,23,198,13,215,14,224,null,null,0,1211,null,1112,{"$f":"COUNTIF($L$7:$L$500,N8)","v":27},{"$f":"O8/$Q$4","v":0.14673913043478262},{"$f":"IF(P8=0,0,(P8*((LOG(P8))/LOG(2))))","v":-0.40627288182133536},null,null,{"$f":"N8","v":1112},{"$f":"COUNTIF(L7:L37,T8)","v":6},{"$f":"U8/(W4-U20)","v":0.2},{"$f":"IF(V8=0,0,(V8*((LOG(V8))/LOG(2))))","v":-0.46438561897747244},null,{"$f":"N8","v":1112},{"$f":"COUNTIF(L38:L67,Y8)","v":2},{"$f":"Z8/(AB4-Z20)","v":6.6666666666666666E-2},{"$f":"IF(AA8=0,0,(AA8*((LOG(AA8))/LOG(2))))","v":-0.26045937304056793},null,{"$f":"N8","v":1112},{"$f":"COUNTIF(L68:L98,AD8)","v":3},{"$f":"AE8/(AG4-AE20)","v":9.6774193548387094E-2},{"$f":"IF(AF8=0,0,(AF8*((LOG(AF8))/LOG(2))))","v":-0.32605488480635986},null,{"$f":"N8","v":1112},{"$f":"COUNTIF(L99:L129,AI8)","v":4},{"$f":"AJ8/(AL4-AJ20)","v":0.12903225806451613},{"$f":"IF(AK8=0,0,(AK8*((LOG(AK8))/LOG(2))))","v":-0.38118662069508069},null,{"$f":"N8","v":1112},{"$f":"COUNTIF(L130:L159,AN8)","v":8},{"$f":"AO8/(AQ4-AO20)","v":0.26666666666666666},{"$f":"IF(AP8=0,0,(AP8*((LOG(AP8))/LOG(2))))","v":-0.50850415882893829},null,{"$f":"N8","v":1112},{"$f":"COUNTIF(L160:L190,AS8)","v":4},{"$f":"AT8/(AV4-AT20)","v":0.12903225806451613},{"$f":"IF(AU8=0,0,(AU8*((LOG(AU8))/LOG(2))))","v":-0.38118662069508069}]
[12,349,14,354,13,359,23,371,null,null,0,1112,null,1121,{"$f":"COUNTIF($L$7:$L$500,N9)","v":4},{"$f":"O9/$Q$4","v":2.1739130434782608E-2},{"$f":"IF(P9=0,0,(P9*((LOG(P9))/LOG(2))))","v":-0.12007743382732637},null,null,{"$f":"N9","v":1121},{"$f":"COUNTIF(L7:L37,T9)","v":1},{"$f":"U9/(W4-U20)","v":3.3333333333333333E-2},{"$f":"IF(V9=0,0,(V9*((LOG(V9))/LOG(2))))","v":-0.16356301985361729},null,{"$f":"N9","v":1121},{"$f":"COUNTIF(L38:L67,Y9)","v":1},{"$f":"Z9/(AB4-Z20)","v":3.3333333333333333E-2},{"$f":"IF(AA9=0,0,(AA9*((LOG(AA9))/LOG(2))))","v":-0.16356301985361729},null,{"$f":"N9","v":1121},{"$f":"COUNTIF(L68:L98,AD9)","v":0},{"$f":"AE9/(AG4-AE20)","v":0},{"$f":"IF(AF9=0,0,(AF9*((LOG(AF9))/LOG(2))))","v":0},null,{"$f":"N9","v":1121},{"$f":"COUNTIF(L99:L129,AI9)","v":0},{"$f":"AJ9/(AL4-AJ20)","v":0},{"$f":"IF(AK9=0,0,(AK9*((LOG(AK9))/LOG(2))))","v":0},null,{"$f":"N9","v":1121},{"$f":"COUNTIF(L130:L159,AN9)","v":2},{"$f":"AO9/(AQ4-AO20)","v":6.6666666666666666E-2},{"$f":"IF(AP9=0,0,(AP9*((LOG(AP9))/LOG(2))))","v":-0.26045937304056793},null,{"$f":"N9","v":1121},{"$f":"COUNTIF(L160:L190,AS9)","v":0},{"$f":"AT9/(AV4-AT20)","v":0},{"$f":"IF(AU9=0,0,(AU9*((LOG(AU9))/LOG(2))))","v":0}]
[12,468,14,476,13,482,23,492,null,null,0,1112,null,1122,{"$f":"COUNTIF($L$7:$L$500,N10)","v":9},{"$f":"O10/$Q$4","v":4.8913043478260872E-2},{"$f":"IF(P10=0,0,(P10*((LOG(P10))/LOG(2))))","v":-0.21294963364963213},null,null,{"$f":"N10","v":1122},{"$f":"COUNTIF(L7:L37,T10)","v":2},{"$f":"U10/(W4-U20)","v":6.6666666666666666E-2},{"$f":"IF(V10=0,0,(V10*((LOG(V10))/LOG(2))))","v":-0.26045937304056793},null,{"$f":"N10","v":1122},{"$f":"COUNTIF(L38:L67,Y10)","v":1},{"$f":"Z10/(AB4-Z20)","v":3.3333333333333333E-2},{"$f":"IF(AA10=0,0,(AA10*((LOG(AA10))/LOG(2))))","v":-0.16356301985361729},null,{"$f":"N10","v":1122},{"$f":"COUNTIF(L68:L98,AD10)","v":0},{"$f":"AE10/(AG4-AE20)","v":0},{"$f":"IF(AF10=0,0,(AF10*((LOG(AF10))/LOG(2))))","v":0},null,{"$f":"N10","v":1122},{"$f":"COUNTIF(L99:L129,AI10)","v":2},{"$f":"AJ10/(AL4-AJ20)","v":6.4516129032258063E-2},{"$f":"IF(AK10=0,0,(AK10*((LOG(AK10))/LOG(2))))","v":-0.25510943937979835},null,{"$f":"N10","v":1122},{"$f":"COUNTIF(L130:L159,AN10)","v":1},{"$f":"AO10/(AQ4-AO20)","v":3.3333333333333333E-2},{"$f":"IF(AP10=0,0,(AP10*((LOG(AP10))/LOG(2))))","v":-0.16356301985361729},null,{"$f":"N10","v":1122},{"$f":"COUNTIF(L160:L190,AS10)","v":3},{"$f":"AT10/(AV4-AT20)","v":9.6774193548387094E-2},{"$f":"IF(AU10=0,0,(AU10*((LOG(AU10))/LOG(2))))","v":-0.32605488480635986}]
[12,591,23,601,13,613,23,622,null,null,0,1212,null,1211,{"$f":"COUNTIF($L$7:$L$500,N11)","v":6},{"$f":"O11/$Q$4","v":3.2608695652173912E-2},{"$f":"IF(P11=0,0,(P11*((LOG(P11))/LOG(2))))","v":-0.16104128658703878},null,null,{"$f":"N11","v":1211},{"$f":"COUNTIF(L7:L37,T11)","v":1},{"$f":"U11/(W4-U20)","v":3.3333333333333333E-2},{"$f":"IF(V11=0,0,(V11*((LOG(V11))/LOG(2))))","v":-0.16356301985361729},null,{"$f":"N11","v":1211},{"$f":"COUNTIF(L38:L67,Y11)","v":1},{"$f":"Z11/(AB4-Z20)","v":3.3333333333333333E-2},{"$f":"IF(AA11=0,0,(AA11*((LOG(AA11))/LOG(2))))","v":-0.16356301985361729},null,{"$f":"N11","v":1211},{"$f":"COUNTIF(L68:L98,AD11)","v":0},{"$f":"AE11/(AG4-AE20)","v":0},{"$f":"IF(AF11=0,0,(AF11*((LOG(AF11))/LOG(2))))","v":0},null,{"$f":"N11","v":1211},{"$f":"COUNTIF(L99:L129,AI11)","v":1},{"$f":"AJ11/(AL4-AJ20)","v":3.2258064516129031E-2},{"$f":"IF(AK11=0,0,(AK11*((LOG(AK11))/LOG(2))))","v":-0.15981278420602821},null,{"$f":"N11","v":1211},{"$f":"COUNTIF(L130:L159,AN11)","v":2},{"$f":"AO11/(AQ4-AO20)","v":6.6666666666666666E-2},{"$f":"IF(AP11=0,0,(AP11*((LOG(AP11))/LOG(2))))","v":-0.26045937304056793},null,{"$f":"N11","v":1211},{"$f":"COUNTIF(L160:L190,AS11)","v":1},{"$f":"AT11/(AV4-AT20)","v":3.2258064516129031E-2},{"$f":"IF(AU11=0,0,(AU11*((LOG(AU11))/LOG(2))))","v":-0.15981278420602821}]
[12,725,14,731,13,736,14,741,null,null,0,1111,null,1212,{"$f":"COUNTIF($L$7:$L$500,N12)","v":1},{"$f":"O12/$Q$4","v":5.434782608695652E-3},{"$f":"IF(P12=0,0,(P12*((LOG(P12))/LOG(2))))","v":-4.0888923674222893E-2},null,null,{"$f":"N12","v":1212},{"$f":"COUNTIF(L7:L37,T12)","v":1},{"$f":"U12/(W4-U20)","v":3.3333333333333333E-2},{"$f":"IF(V12=0,0,(V12*((LOG(V12))/LOG(2))))","v":-0.16356301985361729},null,{"$f":"N12","v":1212},{"$f":"COUNTIF(L38:L67,Y12)","v":0},{"$f":"Z12/(AB4-Z20)","v":0},{"$f":"IF(AA12=0,0,(AA12*((LOG(AA12))/LOG(2))))","v":0},null,{"$f":"N12","v":1212},{"$f":"COUNTIF(L68:L98,AD12)","v":0},{"$f":"AE12/(AG4-AE20)","v":0},{"$f":"IF(AF12=0,0,(AF12*((LOG(AF12))/LOG(2))))","v":0},null,{"$f":"N12","v":1212},{"$f":"COUNTIF(L99:L129,AI12)","v":0},{"$f":"AJ12/(AL4-AJ20)","v":0},{"$f":"IF(AK12=0,0,(AK12*((LOG(AK12))/LOG(2))))","v":0},null,{"$f":"N12","v":1212},{"$f":"COUNTIF(L130:L159,AN12)","v":0},{"$f":"AO12/(AQ4-AO20)","v":0},{"$f":"IF(AP12=0,0,(AP12*((LOG(AP12))/LOG(2))))","v":0},null,{"$f":"N12","v":1212},{"$f":"COUNTIF(L160:L190,AS12)","v":0},{"$f":"AT12/(AV4-AT20)","v":0},{"$f":"IF(AU12=0,0,(AU12*((LOG(AU12))/LOG(2))))","v":0}]
[12,840,14,855,24,864,23,873,null,null,0,1122,null,1221,{"$f":"COUNTIF($L$7:$L$500,N13)","v":4},{"$f":"O13/$Q$4","v":2.1739130434782608E-2},{"$f":"IF(P13=0,0,(P13*((LOG(P13))/LOG(2))))","v":-0.12007743382732637},null,null,{"$f":"N13","v":1221},{"$f":"COUNTIF(L7:L37,T13)","v":1},{"$f":"U13/(W4-U20)","v":3.3333333333333333E-2},{"$f":"IF(V13=0,0,(V13*((LOG(V13))/LOG(2))))","v":-0.16356301985361729},null,{"$f":"N13","v":1221},{"$f":"COUNTIF(L38:L67,Y13)","v":0},{"$f":"Z13/(AB4-Z20)","v":0},{"$f":"IF(AA13=0,0,(AA13*((LOG(AA13))/LOG(2))))","v":0},null,{"$f":"N13","v":1221},{"$f":"COUNTIF(L68:L98,AD13)","v":2},{"$f":"AE13/(AG4-AE20)","v":6.4516129032258063E-2},{"$f":"IF(AF13=0,0,(AF13*((LOG(AF13))/LOG(2))))","v":-0.25510943937979835},null,{"$f":"N13","v":1221},{"$f":"COUNTIF(L99:L129,AI13)","v":0},{"$f":"AJ13/(AL4-AJ20)","v":0},{"$f":"IF(AK13=0,0,(AK13*((LOG(AK13))/LOG(2))))","v":0},null,{"$f":"N13","v":1221},{"$f":"COUNTIF(L130:L159,AN13)","v":0},{"$f":"AO13/(AQ4-AO20)","v":0},{"$f":"IF(AP13=0,0,(AP13*((LOG(AP13))/LOG(2))))","v":0},null,{"$f":"N13","v":1221},{"$f":"COUNTIF(L160:L190,AS13)","v":1},{"$f":"AT13/(AV4-AT20)","v":3.2258064516129031E-2},{"$f":"IF(AU13=0,0,(AU13*((LOG(AU13))/LOG(2))))","v":-0.15981278420602821}]
[12,967,14,972,13,990,23,999,null,null,0,1112,null,1222,{"$f":"COUNTIF($L$7:$L$500,N14)","v":2},{"$f":"O14/$Q$4","v":1.0869565217391304E-2},{"$f":"IF(P14=0,0,(P14*((LOG(P14))/LOG(2))))","v":-7.090828213105449E-2},null,null,{"$f":"N14","v":1222},{"$f":"COUNTIF(L7:L37,T14)","v":0},{"$f":"U14/(W4-U20)","v":0},{"$f":"IF(V14=0,0,(V14*((LOG(V14))/LOG(2))))","v":0},null,{"$f":"N14","v":1222},{"$f":"COUNTIF(L38:L67,Y14)","v":0},{"$f":"Z14/(AB4-Z20)","v":0},{"$f":"IF(AA14=0,0,(AA14*((LOG(AA14))/LOG(2))))","v":0},null,{"$f":"N14","v":1222},{"$f":"COUNTIF(L68:L98,AD14)","v":0},{"$f":"AE14/(AG4-AE20)","v":0},{"$f":"IF(AF14=0,0,(AF14*((LOG(AF14))/LOG(2))))","v":0},null,{"$f":"N14","v":1222},{"$f":"COUNTIF(L99:L129,AI14)","v":0},{"$f":"AJ14/(AL4-AJ20)","v":0},{"$f":"IF(AK14=0,0,(AK14*((LOG(AK14))/LOG(2))))","v":0},null,{"$f":"N14","v":1222},{"$f":"COUNTIF(L130:L159,AN14)","v":0},{"$f":"AO14/(AQ4-AO20)","v":0},{"$f":"IF(AP14=0,0,(AP14*((LOG(AP14))/LOG(2))))","v":0},null,{"$f":"N14","v":1222},{"$f":"COUNTIF(L160:L190,AS14)","v":2},{"$f":"AT14/(AV4-AT20)","v":6.4516129032258063E-2},{"$f":"IF(AU14=0,0,(AU14*((LOG(AU14))/LOG(2))))","v":-0.25510943937979835}]
[12,1100,14,1114,13,1118,23,1133,null,null,0,1112,null,2111,{"$f":"COUNTIF($L$7:$L$500,N15)","v":3},{"$f":"O15/$Q$4","v":1.6304347826086956E-2},{"$f":"IF(P15=0,0,(P15*((LOG(P15))/LOG(2))))","v":-9.6824991119606366E-2},null,null,{"$f":"N15","v":2111},{"$f":"COUNTIF(L7:L37,T15)","v":1},{"$f":"U15/(W4-U20)","v":3.3333333333333333E-2},{"$f":"IF(V15=0,0,(V15*((LOG(V15))/LOG(2))))","v":-0.16356301985361729},null,{"$f":"N15","v":2111},{"$f":"COUNTIF(L38:L67,Y15)","v":0},{"$f":"Z15/(AB4-Z20)","v":0},{"$f":"IF(AA15=0,0,(AA15*((LOG(AA15))/LOG(2))))","v":0},null,{"$f":"N15","v":2111},{"$f":"COUNTIF(L68:L98,AD15)","v":1},{"$f":"AE15/(AG4-AE20)","v":3.2258064516129031E-2},{"$f":"IF(AF15=0,0,(AF15*((LOG(AF15))/LOG(2))))","v":-0.15981278420602821},null,{"$f":"N15","v":2111},{"$f":"COUNTIF(L99:L129,AI15)","v":1},{"$f":"AJ15/(AL4-AJ20)","v":3.2258064516129031E-2},{"$f":"IF(AK15=0,0,(AK15*((LOG(AK15))/LOG(2))))","v":-0.15981278420602821},null,{"$f":"N15","v":2111},{"$f":"COUNTIF(L130:L159,AN15)","v":0},{"$f":"AO15/(AQ4-AO20)","v":0},{"$f":"IF(AP15=0,0,(AP15*((LOG(AP15))/LOG(2))))","v":0},null,{"$f":"N15","v":2111},{"$f":"COUNTIF(L160:L190,AS15)","v":0},{"$f":"AT15/(AV4-AT20)","v":0},{"$f":"IF(AU15=0,0,(AU15*((LOG(AU15))/LOG(2))))","v":0}]
[12,1230,14,1236,13,1246,23,1265,null,null,0,1112,null,2112,{"$f":"COUNTIF($L$7:$L$500,N16)","v":0},{"$f":"O16/$Q$4","v":0},{"$f":"IF(P16=0,0,(P16*((LOG(P16))/LOG(2))))","v":0},null,null,{"$f":"N16","v":2112},{"$f":"COUNTIF(L7:L37,T16)","v":0},{"$f":"U16/(W4-U20)","v":0},{"$f":"IF(V16=0,0,(V16*((LOG(V16))/LOG(2))))","v":0},null,{"$f":"N16","v":2112},{"$f":"COUNTIF(L38:L67,Y16)","v":0},{"$f":"Z16/(AB4-Z20)","v":0},{"$f":"IF(AA16=0,0,(AA16*((LOG(AA16))/LOG(2))))","v":0},null,{"$f":"N16","v":2112},{"$f":"COUNTIF(L68:L98,AD16)","v":0},{"$f":"AE16/(AG4-AE20)","v":0},{"$f":"IF(AF16=0,0,(AF16*((LOG(AF16))/LOG(2))))","v":0},null,{"$f":"N16","v":2112},{"$f":"COUNTIF(L99:L129,AI16)","v":0},{"$f":"AJ16/(AL4-AJ20)","v":0},{"$f":"IF(AK16=0,0,(AK16*((LOG(AK16))/LOG(2))))","v":0},null,{"$f":"N16","v":2112},{"$f":"COUNTIF(L130:L159,AN16)","v":0},{"$f":"AO16/(AQ4-AO20)","v":0},{"$f":"IF(AP16=0,0,(AP16*((LOG(AP16))/LOG(2))))","v":0},null,{"$f":"N16","v":2112},{"$f":"COUNTIF(L160:L190,AS16)","v":0},{"$f":"AT16/(AV4-AT20)","v":0},{"$f":"IF(AU16=0,0,(AU16*((LOG(AU16))/LOG(2))))","v":0}]
[12,1378,14,1382,13,1395,14,1399,null,null,0,1111,null,2121,{"$f":"COUNTIF($L$7:$L$500,N17)","v":0},{"$f":"O17/$Q$4","v":0},{"$f":"IF(P17=0,0,(P17*((LOG(P17))/LOG(2))))","v":0},null,null,{"$f":"N17","v":2121},{"$f":"COUNTIF(L7:L37,T17)","v":0},{"$f":"U17/(W4-U20)","v":0},{"$f":"IF(V17=0,0,(V17*((LOG(V17))/LOG(2))))","v":0},null,{"$f":"N17","v":2121},{"$f":"COUNTIF(L38:L67,Y17)","v":0},{"$f":"Z17/(AB4-Z20)","v":0},{"$f":"IF(AA17=0,0,(AA17*((LOG(AA17))/LOG(2))))","v":0},null,{"$f":"N17","v":2121},{"$f":"COUNTIF(L68:L98,AD17)","v":0},{"$f":"AE17/(AG4-AE20)","v":0},{"$f":"IF(AF17=0,0,(AF17*((LOG(AF17))/LOG(2))))","v":0},null,{"$f":"N17","v":2121},{"$f":"COUNTIF(L99:L129,AI17)","v":0},{"$f":"AJ17/(AL4-AJ20)","v":0},{"$f":"IF(AK17=0,0,(AK17*((LOG(AK17))/LOG(2))))","v":0},null,{"$f":"N17","v":2121},{"$f":"COUNTIF(L130:L159,AN17)","v":0},{"$f":"AO17/(AQ4-AO20)","v":0},{"$f":"IF(AP17=0,0,(AP17*((LOG(AP17))/LOG(2))))","v":0},null,{"$f":"N17","v":2121},{"$f":"COUNTIF(L160:L190,AS17)","v":0},{"$f":"AT17/(AV4-AT20)","v":0},{"$f":"IF(AU17=0,0,(AU17*((LOG(AU17))/LOG(2))))","v":0}]
[12,1499,14,1520,13,1528,14,1533,null,null,0,1111,null,2122,{"$f":"COUNTIF($L$7:$L$500,N18)","v":0},{"$f":"O18/$Q$4","v":0},{"$f":"IF(P18=0,0,(P18*((LOG(P18))/LOG(2))))","v":0},null,null,{"$f":"N18","v":2122},{"$f":"COUNTIF(L7:L37,T18)","v":0},{"$f":"U18/(W4-U20)","v":0},{"$f":"IF(V18=0,0,(V18*((LOG(V18))/LOG(2))))","v":0},null,{"$f":"N18","v":2122},{"$f":"COUNTIF(L38:L67,Y18)","v":0},{"$f":"Z18/(AB4-Z20)","v":0},{"$f":"IF(AA18=0,0,(AA18*((LOG(AA18))/LOG(2))))","v":0},null,{"$f":"N18","v":2122},{"$f":"COUNTIF(L68:L98,AD18)","v":0},{"$f":"AE18/(AG4-AE20)","v":0},{"$f":"IF(AF18=0,0,(AF18*((LOG(AF18))/LOG(2))))","v":0},null,{"$f":"N18","v":2122},{"$f":"COUNTIF(L99:L129,AI18)","v":0},{"$f":"AJ18/(AL4-AJ20)","v":0},{"$f":"IF(AK18=0,0,(AK18*((LOG(AK18))/LOG(2))))","v":0},null,{"$f":"N18","v":2122},{"$f":"COUNTIF(L130:L159,AN18)","v":0},{"$f":"AO18/(AQ4-AO20)","v":0},{"$f":"IF(AP18=0,0,(AP18*((LOG(AP18))/LOG(2))))","v":0},null,{"$f":"N18","v":2122},{"$f":"COUNTIF(L160:L190,AS18)","v":0},{"$f":"AT18/(AV4-AT20)","v":0},{"$f":"IF(AU18=0,0,(AU18*((LOG(AU18))/LOG(2))))","v":0}]
[12,1634,14,1638,13,1644,14,1650,null,null,0,1111,null,2211,{"$f":"COUNTIF($L$7:$L$500,N19)","v":0},{"$f":"O19/$Q$4","v":0},{"$f":"IF(P19=0,0,(P19*((LOG(P19))/LOG(2))))","v":0},null,null,{"$f":"N19","v":2211},{"$f":"COUNTIF(L7:L37,T19)","v":0},{"$f":"U19/(W4-U20)","v":0},{"$f":"IF(V19=0,0,(V19*((LOG(V19))/LOG(2))))","v":0},null,{"$f":"N19","v":2211},{"$f":"COUNTIF(L38:L67,Y19)","v":0},{"$f":"Z19/(AB4-Z20)","v":0},{"$f":"IF(AA19=0,0,(AA19*((LOG(AA19))/LOG(2))))","v":0},null,{"$f":"N19","v":2211},{"$f":"COUNTIF(L68:L98,AD19)","v":0},{"$f":"AE19/(AG4-AE20)","v":0},{"$f":"IF(AF19=0,0,(AF19*((LOG(AF19))/LOG(2))))","v":0},null,{"$f":"N19","v":2211},{"$f":"COUNTIF(L99:L129,AI19)","v":0},{"$f":"AJ19/(AL4-AJ20)","v":0},{"$f":"IF(AK19=0,0,(AK19*((LOG(AK19))/LOG(2))))","v":0},null,{"$f":"N19","v":2211},{"$f":"COUNTIF(L130:L159,AN19)","v":0},{"$f":"AO19/(AQ4-AO20)","v":0},{"$f":"IF(AP19=0,0,(AP19*((LOG(AP19))/LOG(2))))","v":0},null,{"$f":"N19","v":2211},{"$f":"COUNTIF(L160:L190,AS19)","v":0},{"$f":"AT19/(AV4-AT20)","v":0},{"$f":"IF(AU19=0,0,(AU19*((LOG(AU19))/LOG(2))))","v":0}]
[12,1749,14,1755,13,1779,14,1784,null,null,0,1111,null,2212,{"$f":"COUNTIF($L$7:$L$500,N20)","v":1},{"$f":"O20/$Q$4","v":5.434782608695652E-3},{"$f":"IF(P20=0,0,(P20*((LOG(P20))/LOG(2))))","v":-4.0888923674222893E-2},null,null,{"$f":"N20","v":2212},{"$f":"COUNTIF(L7:L37,T20)","v":1},null,null,null,{"$f":"N20","v":2212},{"$f":"COUNTIF(L38:L67,Y20)","v":0},null,null,null,{"$f":"N20","v":2212},{"$f":"COUNTIF(L68:L98,AD20)","v":0},null,null,null,{"$f":"N20","v":2212},{"$f":"COUNTIF(L99:L129,AI20)","v":0},null,null,null,{"$f":"N20","v":2212},{"$f":"COUNTIF(L130:L159,AN20)","v":0},null,null,null,{"$f":"N20","v":2212},{"$f":"COUNTIF(L160:L190,AS20)","v":0}]
[12,1881,23,1910,24,1922,14,1939,null,null,0,1221,null,2221,{"$f":"COUNTIF($L$7:$L$500,N21)","v":0},{"$f":"O21/$Q$4","v":0},{"$f":"IF(P21=0,0,(P21*((LOG(P21))/LOG(2))))","v":0},null,null,{"$f":"N21","v":2221},{"$f":"COUNTIF(L7:L37,T21)","v":0},{"$f":"U21/(W4-U20)","v":0},{"$f":"IF(V21=0,0,(V21*((LOG(V21))/LOG(2))))","v":0},null,{"$f":"N21","v":2221},{"$f":"COUNTIF(L38:L67,Y21)","v":0},{"$f":"Z21/(AB4-Z20)","v":0},{"$f":"IF(AA21=0,0,(AA21*((LOG(AA21))/LOG(2))))","v":0},null,{"$f":"N21","v":2221},{"$f":"COUNTIF(L68:L98,AD21)","v":0},{"$f":"AE21/(AG4-AE20)","v":0},{"$f":"IF(AF21=0,0,(AF21*((LOG(AF21))/LOG(2))))","v":0},null,{"$f":"N21","v":2221},{"$f":"COUNTIF(L99:L129,AI21)","v":0},{"$f":"AJ21/(AL4-AJ20)","v":0},{"$f":"IF(AK21=0,0,(AK21*((LOG(AK21))/LOG(2))))","v":0},null,{"$f":"N21","v":2221},{"$f":"COUNTIF(L130:L159,AN21)","v":0},{"$f":"AO21/(AQ4-AO20)","v":0},{"$f":"IF(AP21=0,0,(AP21*((LOG(AP21))/LOG(2))))","v":0},null,{"$f":"N21","v":2221},{"$f":"COUNTIF(L160:L190,AS21)","v":0},{"$f":"AT21/(AV4-AT20)","v":0},{"$f":"IF(AU21=0,0,(AU21*((LOG(AU21))/LOG(2))))","v":0}]
[12,2038,14,2042,13,2046,14,2050,null,null,0,1111,null,2222,{"$f":"COUNTIF($L$7:$L$500,N22)","v":1},{"$f":"O22/$Q$4","v":5.434782608695652E-3},{"$f":"IF(P22=0,0,(P22*((LOG(P22))/LOG(2))))","v":-4.0888923674222893E-2},null,null,{"$f":"N22","v":2222},{"$f":"COUNTIF(L7:L37,T22)","v":0},{"$f":"U22/(W4-U20)","v":0},{"$f":"IF(V22=0,0,(V22*((LOG(V22))/LOG(2))))","v":0},null,{"$f":"N22","v":2222},{"$f":"COUNTIF(L38:L67,Y22)","v":1},{"$f":"Z22/(AB4-Z20)","v":3.3333333333333333E-2},{"$f":"IF(AA22=0,0,(AA22*((LOG(AA22))/LOG(2))))","v":-0.16356301985361729},null,{"$f":"N22","v":2222},{"$f":"COUNTIF(L68:L98,AD22)","v":0},{"$f":"AE22/(AG4-AE20)","v":0},{"$f":"IF(AF22=0,0,(AF22*((LOG(AF22))/LOG(2))))","v":0},null,{"$f":"N22","v":2222},{"$f":"COUNTIF(L99:L129,AI22)","v":0},{"$f":"AJ22/(AL4-AJ20)","v":0},{"$f":"IF(AK22=0,0,(AK22*((LOG(AK22))/LOG(2))))","v":0},null,{"$f":"N22","v":2222},{"$f":"COUNTIF(L130:L159,AN22)","v":0},{"$f":"AO22/(AQ4-AO20)","v":0},{"$f":"IF(AP22=0,0,(AP22*((LOG(AP22))/LOG(2))))","v":0},null,{"$f":"N22","v":2222},{"$f":"COUNTIF(L160:L190,AS22)","v":0},{"$f":"AT22/(AV4-AT20)","v":0},{"$f":"IF(AU22=0,0,(AU22*((LOG(AU22))/LOG(2))))","v":0}]
[12,2149,14,2167,24,2178,14,2196,null,null,0,1121,null,null,null,{"$f":"SUM(P7:P22)","v":1},{"$f":"-SUM(Q7:Q22)","v":1.6849031493240001},null,null,null,null,{"$f":"SUM(V7:V22)","v":0.99999999999999989},{"$f":"-SUM(W7:W22)","v":2.0070024854224284},null,null,null,{"$f":"SUM(AA7:AA22)","v":1},{"$f":"-SUM(AB7:AB22)","v":1.1722539283649269},null,null,null,{"$f":"SUM(AF7:AF22)","v":1},{"$f":"-SUM(AG7:AG22)","v":0.99125139920843686},null,null,null,{"$f":"SUM(AK7:AK22)","v":1},{"$f":"-SUM(AL7:AL22)","v":1.2754245365381236},null,null,null,{"$f":"SUM(AP7:AP22)","v":0.99999999999999989},{"$f":"-SUM(AQ7:AQ22)","v":1.657328318899993},null,null,null,{"$f":"SUM(AU7:AU22)","v":1},{"$f":"-SUM(AV7:AV22)","v":1.6898914910349163}]
[12,2294,14,2306,13,2312,14,2319,null,null,0,1111,null,null,null,"U=",{"$f":"Q23/(LOG(Q4)/LOG(2))","v":0.22395019263017182},null,null,null,null,"U1=",{"$f":"W23/(LOG(W4)/LOG(2))","v":0.40511161845052135},null,null,null,"U2=",{"$f":"AB23/(LOG(AB4)/LOG(2))","v":0.23889954453316115},null,null,null,"U3=",{"$f":"AG23/(LOG(AG4)/LOG(2))","v":0.20008318950345141},null,null,null,"U4=",{"$f":"AL23/(LOG(AL4)/LOG(2))","v":0.25744327770461828},null,null,null,"U5=",{"$f":"AQ23/(LOG(AQ4)/LOG(2))","v":0.33775530279465354},null,null,null,"U6=",{"$f":"AV23/(LOG(AV4)/LOG(2))","v":0.34110305388826068}]
[12,2420,14,2441,13,2449,14,2453,null,null,0,1111]
[12,2554,14,2567,13,2571,14,2575,null,null,0,1111]
[12,2676,14,2680,13,2688,14,2697,null,null,0,1111,null,"Total Target Seq"]
[12,2800,14,2804,13,2816,14,2825,null,null,0,1111,null,{"$f":"COUNTIF(L7:L190,G3)","v":1},null,31,30,31,31,30,31]
[21,2947,21,2955,11,2970,21,2979,null,null,0,2212,null,null,null,"% of reinforcement given in 6 equal intervals based on number of trials "]
[12,3074,14,3088,13,3095,23,3104,null,null,0,1112,null,null,null,"%_1","%_2","%_3","%_4","%_5","%_6"]
[12,3210,14,3214,24,3224,23,3233,null,null,0,1122,null,null,"target sequence",{"$f":"$G$3","v":2212},{"$f":"$G$3","v":2212},{"$f":"$G$3","v":2212},{"$f":"$G$3","v":2212},{"$f":"$G$3","v":2212},{"$f":"$G$3","v":2212}]
[12,3333,14,3338,13,3365,14,3369,null,null,0,1111,null,null,"total reinforcement",{"$f":"U20","v":1},{"$f":"Z20","v":0},{"$f":"AE20","v":0},{"$f":"AJ20","v":0},{"$f":"AO20","v":0},{"$f":"AT20","v":0}]
[12,3467,14,3477,13,3488,14,3492,null,null,0,1111,null,null,"% target"]
[12,3594,14,3598,13,3601,14,3605,null,null,0,1111,null,null,"CCRF"]
[12,3712,14,3717,13,3721,14,3726,null,null,0,1111,null,null,"% CCRf"]
[12,3827,14,3838,13,3843,14,3847,null,null,0,1111,null,null,"average response rate",{"$f":"H37/P28","v":127.93548387096774},{"$f":"(H67-H37)/Q28","v":127.36666666666666},{"$f":"(H98-H67)/R28","v":131.2258064516129},{"$f":"(H129-H98)/S28","v":129},{"$f":"(H159-H129)/T28","v":131.13333333333333},{"$f":"(H190-H159)/U28","v":135.16129032258064}]
[12,3948,14,3957,13,3961,14,3966,null,null,0,1111]
[12,4070,14,4074,13,4086,14,4090,null,null,0,1111]
[12,4190,14,4200,13,4210,14,4214,null,null,0,1111]
[12,4310,14,4316,13,4320,14,4324,null,null,0,1111]
[12,4425,14,4441,13,4444,14,4448,null,null,0,1111]
[12,4544,14,4548,24,4565,14,4586,null,null,0,1121]
[21,4703,21,4714,22,4736,23,4748,null,null,0,2222]
[12,4854,14,4858,13,4876,14,4880,null,null,0,1111]
[12,4977,14,4991,13,4999,23,5010,null,null,0,1112]
[12,5107,14,5111,13,5115,14,5119,null,null,0,1111]
[12,5219,14,5236,13,5244,14,5248,null,null,0,1111]
[12,5345,14,5360,13,5364,14,5369,null,null,0,1111]
[12,5464,14,5475,13,5479,14,5486,null,null,0,1111]
[12,5584,14,5588,13,5605,14,5609,null,null,0,1111]
[12,5703,14,5714,13,5718,14,5722,null,null,0,1111]
[12,5822,14,5830,13,5834,14,5841,null,null,0,1111]
[12,5942,14,5946,13,5959,14,5963,null,null,0,1111]
[12,6064,14,6068,13,6072,14,6075,null,null,0,1111]
[12,6175,14,6191,13,6194,14,6198,null,null,0,1111]
[12,6296,14,6304,13,6318,14,6327,null,null,0,1111]
[12,6428,14,6445,13,6450,14,6455,null,null,0,1111]
[12,6550,14,6560,13,6570,14,6574,null,null,0,1111]
[12,6710,23,6742,13,6758,14,6767,null,null,0,1211]
[12,6869,14,6873,13,6878,14,6883,null,null,0,1111]
[12,6983,14,6993,13,6997,14,7001,null,null,0,1111]
[12,7104,14,7115,13,7119,14,7127,null,null,0,1111]
[12,7227,14,7238,13,7243,23,7255,null,null,0,1112]
[12,7354,14,7360,24,7377,23,7397,null,null,0,1122]
[12,7496,14,7500,13,7512,14,7516,null,null,0,1111]
[12,7612,14,7617,13,7639,14,7643,null,null,0,1111]
[12,7769,14,7773,13,7776,14,7787,null,null,0,1111]
[12,7882,14,7896,13,7900,14,7903,null,null,0,1111]
[12,8000,14,8006,13,8010,23,8025,null,null,0,1112]
[12,8121,14,8131,13,8135,14,8148,null,null,0,1111]
[12,8239,14,8243,13,8257,14,8279,null,null,0,1111]
[12,8379,14,8389,13,8393,14,8416,null,null,0,1111]
[12,8511,14,8546,13,8553,14,8561,null,null,0,1111]
[12,8660,14,8676,13,8680,14,8683,null,null,0,1111]
[12,8779,14,8787,13,8802,14,8806,null,null,0,1111]
[12,8908,14,8914,13,8925,14,8936,null,null,0,1111]
[12,9032,14,9039,13,9052,14,9066,null,null,0,1111]
[12,9161,14,9175,13,9181,14,9191,null,null,0,1111]
[12,9289,14,9297,13,9319,14,9323,null,null,0,1111]
[12,9420,14,9433,13,9437,14,9456,null,null,0,1111]
[12,9552,14,9570,13,9591,14,9599,null,null,0,1111]
[12,9697,14,9700,13,9711,14,9715,null,null,0,1111]
[12,9815,14,9829,13,9844,14,9848,null,null,0,1111]
[12,9951,14,9954,13,9958,14,9963,null,null,0,1111]
[12,10059,14,10075,13,10078,14,10089,null,null,0,1111]
[12,10189,14,10198,13,10203,14,10210,null,null,0,1111]
[12,10312,14,10320,13,10325,14,10333,null,null,0,1111]
[21,10454,12,10471,13,10479,14,10487,null,null,0,2111]
[12,10589,14,10593,13,10598,23,10618,null,null,0,1112]
[12,10714,14,10730,13,10744,14,10748,null,null,0,1111]
[12,10847,14,10857,13,10861,14,10865,null,null,0,1111]
[12,10967,23,11001,24,11020,14,11040,null,null,0,1221]
[12,11140,14,11150,13,11154,14,11158,null,null,0,1111]
[12,11261,14,11273,13,11277,14,11282,null,null,0,1111]
[12,11390,23,11412,24,11445,14,11462,null,null,0,1221]
[12,11563,14,11566,13,11575,14,11593,null,null,0,1111]
[12,11692,14,11709,13,11720,23,11732,null,null,0,1112]
[12,11825,14,11834,13,11852,14,11855,null,null,0,1111]
[12,11956,14,11960,13,11964,14,11977,null,null,0,1111]
[12,12080,14,12083,13,12091,14,12102,null,null,0,1111]
[12,12200,14,12204,13,12214,14,12225,null,null,0,1111]
[12,12327,14,12336,13,12340,14,12350,null,null,0,1111]
[12,12474,14,12486,13,12493,14,12501,null,null,0,1111]
[12,12601,14,12605,13,12615,14,12619,null,null,0,1111]
[12,12719,14,12739,13,12746,23,12762,null,null,0,1112]
[12,12861,14,12866,13,12876,14,12880,null,null,0,1111]
[12,12975,14,12985,13,12989,23,13016,null,null,0,1112]
[12,13114,14,13125,13,13133,23,13148,null,null,0,1112]
[12,13248,14,13253,13,13263,14,13267,null,null,0,1111]
[12,13373,14,13377,13,13381,14,13391,null,null,0,1111]
[12,13487,14,13492,13,13502,14,13506,null,null,0,1111]
[12,13605,14,13612,13,13626,14,13630,null,null,0,1111]
[12,13731,14,13752,13,13760,14,13773,null,null,0,1111]
[12,13876,14,13885,13,13888,14,13892,null,null,0,1111]
[12,13986,14,13991,13,14003,23,14014,null,null,0,1112]
[12,14112,14,14141,13,14145,14,14152,null,null,0,1111]
[12,14252,14,14262,13,14266,14,14291,null,null,0,1111]
[12,14394,14,14399,13,14403,14,14411,null,null,0,1111]
[12,14510,14,14521,13,14525,14,14532,null,null,0,1111]
[12,14632,14,14641,24,14652,23,14671,null,null,0,1122]
[12,14778,23,14795,13,14808,14,14812,null,null,0,1211]
[12,14911,14,14915,13,14919,14,14928,null,null,0,1111]
[21,15050,12,15064,13,15068,14,15078,null,null,0,2111]
[12,15178,14,15182,13,15192,14,15196,null,null,0,1111]
[12,15297,14,15311,13,15318,14,15329,null,null,0,1111]
[12,15426,14,15437,13,15447,14,15451,null,null,0,1111]
[12,15549,14,15573,13,15581,14,15585,null,null,0,1111]
[12,15682,14,15694,24,15713,23,15724,null,null,0,1122]
[12,15825,14,15833,13,15847,14,15854,null,null,0,1111]
[12,15958,14,15973,13,15977,14,15988,null,null,0,1111]
[12,16082,14,16087,13,16098,14,16102,null,null,0,1111]
[12,16212,23,16222,13,16238,14,16246,null,null,0,1211]
[12,16343,14,16347,13,16356,23,16371,null,null,0,1112]
[12,16468,14,16478,24,16497,14,16519,null,null,0,1121]
[12,16619,14,16623,13,16628,14,16652,null,null,0,1111]
[12,16751,14,16763,13,16778,14,16785,null,null,0,1111]
[12,16885,23,16919,13,16934,14,16941,null,null,0,1211]
[12,17042,14,17047,13,17057,14,17060,null,null,0,1111]
[12,17160,14,17171,13,17177,23,17196,null,null,0,1112]
[12,17296,14,17300,13,17311,14,17315,null,null,0,1111]
[12,17415,14,17419,13,17441,23,17459,null,null,0,1112]
[12,17558,14,17562,13,17573,14,17577,null,null,0,1111]
[12,17680,14,17687,13,17691,23,17703,null,null,0,1112]
[12,17806,14,17810,13,17822,14,17830,null,null,0,1111]
[12,17930,14,17948,13,17953,23,17991,null,null,0,1112]
[12,18087,14,18091,13,18102,23,18117,null,null,0,1112]
[12,18216,14,18227,13,18235,14,18243,null,null,0,1111]
[12,18348,14,18359,13,18372,14,18380,null,null,0,1111]
[12,18483,14,18489,13,18507,14,18514,null,null,0,1111]
[12,18618,14,18629,13,18632,23,18648,null,null,0,1112]
[12,18744,14,18753,13,18758,23,18770,null,null,0,1112]
[12,18867,14,18877,24,18891,23,18902,null,null,0,1122]
[12,18999,14,19004,13,19016,14,19025,null,null,0,1111]
[12,19124,14,19137,24,19164,14,19186,null,null,0,1121]
[12,19286,14,19291,13,19302,14,19305,null,null,0,1111]
[12,19403,14,19417,13,19427,14,19431,null,null,0,1111]
[12,19531,14,19535,13,19545,14,19549,null,null,0,1111]
[12,19648,14,19652,13,19656,14,19666,null,null,0,1111]
[12,19767,14,19780,13,19783,14,19788,null,null,0,1111]
[12,19886,14,19890,13,19923,14,19928,null,null,0,1111]
[12,20027,14,20034,13,20046,23,20073,null,null,0,1112]
[12,20178,14,20182,13,20193,14,20240,null,null,0,1111]
[12,20340,14,20344,13,20348,14,20356,null,null,0,1111]
[12,20453,14,20457,13,20467,14,20471,null,null,0,1111]
[12,20580,23,20594,24,20607,14,20627,null,null,0,1221]
[12,20731,23,20746,24,20772,23,20798,null,null,0,1222]
[12,20902,23,20920,24,20932,23,20944,null,null,0,1222]
[12,21053,14,21058,13,21074,14,21078,null,null,0,1111]
[12,21182,14,21195,24,21210,23,21225,null,null,0,1122]
[12,21326,14,21336,13,21351,14,21356,null,null,0,1111]
[12,21460,23,21477,13,21499,14,21503,null,null,0,1211]
[12,21606,14,21612,13,21622,14,21626,null,null,0,1111]
[12,21725,14,21731,13,21741,14,21749,null,null,0,1111]
[12,21848,14,21852,13,21856,14,21865,null,null,0,1111]
[12,21963,14,21973,24,21985,23,21996,null,null,0,1122]
[12,22092,14,22096,13,22107,14,22117,null,null,0,1111]
[12,22222,14,22237,13,22242,14,22250,null,null,0,1111]
[12,22353,14,22357,13,22371,14,22378,null,null,0,1111]
[12,22478,14,22486,24,22512,23,22523,null,null,0,1122]
[12,22625,14,22640,13,22644,14,22648,null,null,0,1111]
[12,22748,14,22752,13,22756,14,22760,null,null,0,1111]
[12,22858,14,22880,13,22889,23,22953,null,null,0,1112]
[12,23051,14,23065,13,23069,14,23074,null,null,0,1111]
[12,23173,14,23177,13,23186,14,23195,null,null,0,1111]
[12,23291,14,23303,13,23315,23,23346,null,null,0,1112]
[12,23452,14,23456,13,23460,14,23468,null,null,0,1111]
[12,23569,14,23573,13,23595,23,23617,null,null,0,1112]
[12,23714,14,23722,13,23737,14,23750,null,null,0,1111]
[12,23846,14,23850,13,23855,14,23865,null,null,0,1111]
[12,23966,14,23970,13,23974,14,23978,null,null,1,1111]

{"sheet":"!M827A50.104","index":13,"n_rows":195,"n_cols":48,"rows_kept":195,"cut":false,"hidden":false,"merged":[[4,39,4,42],[5,39,5,40],[4,44,4,47],[5,44,5,45],[4,24,4,27],[5,24,5,25],[4,29,4,32],[5,29,5,30],[4,34,4,37],[5,34,5,35],[1,1,1,2],[5,13,5,14],[26,13,26,14],[27,13,27,14],[4,19,4,22],[5,19,5,20]]}
["Report for:!M827A50.104"]
["Date:","<date>"]
["Hen:","<hen>",null,null,null,"Correct Sequence",{"$f":"Start!J2","v":2212},null,null,null,null,null,null,null,null,"Total Sequences in Data",{"$f":"4994-COUNTBLANK(L7:L5000)","v":189},null,null,null,null,"Total Sequences in Block Data",{"$f":"COUNTA(L7:L38)","v":32},null,null,null,"Total Sequences in Block Data",{"$f":"COUNTA(L39:L69)","v":31},null,null,null,"Total Sequences in Block Data",{"$f":"COUNTA(L70:L101)","v":32},null,null,null,"Total Sequences in Block Data",{"$f":"COUNTA(L102:L132)","v":31},null,null,null,"Total Sequences in Block Data",{"$f":"COUNTA(L133:L164)","v":32},null,null,null,"Total Sequences in Block Data",{"$f":"COUNTA(L165:L195)","v":31}]
[null,null,null,null,null,null,null,null,null,null,null,null,null,null,null,"Total Sequences in Summary",{"$f":"SUM(O7:O22)","v":188},null,null,null,null,"Total Sequences in Block Summary",{"$f":"SUM(U7:U22)","v":32},null,null,null,"Total Sequences in Block Summary",{"$f":"SUM(Z7:Z22)","v":31},null,null,null,"Total Sequences in Block Summary",{"$f":"SUM(AE7:AE22)","v":32},null,null,null,"Total Sequences in Block Summary",{"$f":"SUM(AJ7:AJ22)","v":31},null,null,null,"Total Sequences in Block Summary",{"$f":"SUM(AO7:AO22)","v":32},null,null,null,"Total Sequences in Block Summary",{"$f":"SUM(AT7:AT22)","v":30}]
[null,null,null,null,null,null,null,null,null,null,null,null,null,null,null,null,null,null,null,"Block 1",null,null,null,null,"Block 2",null,null,null,null,"Block 3",null,null,null,null,"Block 4",null,null,null,null,"Block 5",null,null,null,null,"Block 6"]
["Sequence\nComponent\n1","Time\n1","Sequence\nComponent\n2","Time\n2","Sequence\nComponent\n3","Time\n3","Sequence\nComponent\n4","Time\n4","Sequence\nComponent\n5","Time\n5","Correct?\n0=No 1=Yes","Sequence",null,"Frequency",null,"Relative Frequency","Variability",null,null,"Frequency",null,"Relative Frequency","Variability",null,"Frequency",null,"Relative Frequency","Variability",null,"Frequency",null,"Relative Frequency","Variability",null,"Frequency",null,"Relative Frequency","Variability",null,"Frequency",null,"Relative Frequency","Variability",null,"Frequency",null,"Relative Frequency","Variability"]
[21,33,21,41,22,53,23,65,null,null,0,2222,null,1111,{"$f":"COUNTIF($L$7:$L$500,N7)","v":115},{"$f":"O7/$Q$4","v":0.61170212765957444},{"$f":"IF(P7=0,0,(P7*((LOG(P7))/LOG(2))))","v":-0.43375724512938912},null,null,{"$f":"N7","v":1111},{"$f":"COUNTIF(L7:L38,T7)","v":21},{"$f":"U7/(W4-U20)","v":0.65625},{"$f":"IF(V7=0,0,(V7*((LOG(V7))/LOG(2))))","v":-0.3987916913014386},null,{"$f":"N7","v":1111},{"$f":"COUNTIF(L39:L69,Y7)","v":19},{"$f":"Z7/(AB4-Z20)","v":0.61290322580645162},{"$f":"IF(AA7=0,0,(AA7*((LOG(AA7))/LOG(2))))","v":-0.43287442393298403},null,{"$f":"N7","v":1111},{"$f":"COUNTIF(L70:L101,AD7)","v":19},{"$f":"AE7/(AG4-AE20)","v":0.59375},{"$f":"IF(AF7=0,0,(AF7*((LOG(AF7))/LOG(2))))","v":-0.44654303889287106},null,{"$f":"N7","v":1111},{"$f":"COUNTIF(L102:L132,AI7)","v":24},{"$f":"AJ7/(AL4-AJ20)","v":0.77419354838709675},{"$f":"IF(AK7=0,0,(AK7*((LOG(AK7))/LOG(2))))","v":-0.28585843328958893},null,{"$f":"N7","v":1111},{"$f":"COUNTIF(L133:L164,AN7)","v":19},{"$f":"AO7/(AQ4-AO20)","v":0.59375},{"$f":"IF(AP7=0,0,(AP7*((LOG(AP7))/LOG(2))))","v":-0.44654303889287106},null,{"$f":"N7","v":1111},{"$f":"COUNTIF(L165:L195,AS7)","v":13},{"$f":"AT7/(AV4-AT20)","v":0.43333333333333335},{"$f":"IF(AU7=0,0,(AU7*((LOG(AU7))/LOG(2))))","v":-0.52279538023588479}]
[21,207,21,214,22,225,23,233,null,null,0,2222,null,1112,{"$f":"COUNTIF($L$7:$L$500,N8)","v":28},{"$f":"O8/$Q$4","v":0.14893617021276595},{"$f":"IF(P8=0,0,(P8*((LOG(P8))/LOG(2))))","v":-0.40916250015617511},null,null,{"$f":"N8","v":1112},{"$f":"COUNTIF(L7:L38,T8)","v":4},{"$f":"U8/(W4-U20)","v":0.125},{"$f":"IF(V8=0,0,(V8*((LOG(V8))/LOG(2))))","v":-0.375},null,{"$f":"N8","v":1112},{"$f":"COUNTIF(L39:L69,Y8)","v":5},{"$f":"Z8/(AB4-Z20)","v":0.16129032258064516},{"$f":"IF(AA8=0,0,(AA8*((LOG(AA8))/LOG(2))))","v":-0.42455938959669559},null,{"$f":"N8","v":1112},{"$f":"COUNTIF(L70:L101,AD8)","v":7},{"$f":"AE8/(AG4-AE20)","v":0.21875},{"$f":"IF(AF8=0,0,(AF8*((LOG(AF8))/LOG(2))))","v":-0.47964111079989907},null,{"$f":"N8","v":1112},{"$f":"COUNTIF(L102:L132,AI8)","v":2},{"$f":"AJ8/(AL4-AJ20)","v":6.4516129032258063E-2},{"$f":"IF(AK8=0,0,(AK8*((LOG(AK8))/LOG(2))))","v":-0.25510943937979835},null,{"$f":"N8","v":1112},{"$f":"COUNTIF(L133:L164,AN8)","v":7},{"$f":"AO8/(AQ4-AO20)","v":0.21875},{"$f":"IF(AP8=0,0,(AP8*((LOG(AP8))/LOG(2))))","v":-0.47964111079989907},null,{"$f":"N8","v":1112},{"$f":"COUNTIF(L165:L195,AS8)","v":3},{"$f":"AT8/(AV4-AT20)","v":0.1},{"$f":"IF(AU8=0,0,(AU8*((LOG(AU8))/LOG(2))))","v":-0.33219280948873625}]
[21,343,12,354,24,363,23,370,null,null,0,2122,null,1121,{"$f":"COUNTIF($L$7:$L$500,N9)","v":4},{"$f":"O9/$Q$4","v":2.1276595744680851E-2},{"$f":"IF(P9=0,0,(P9*((LOG(P9))/LOG(2))))","v":-0.11818274152505612},null,null,{"$f":"N9","v":1121},{"$f":"COUNTIF(L7:L38,T9)","v":0},{"$f":"U9/(W4-U20)","v":0},{"$f":"IF(V9=0,0,(V9*((LOG(V9))/LOG(2))))","v":0},null,{"$f":"N9","v":1121},{"$f":"COUNTIF(L39:L69,Y9)","v":0},{"$f":"Z9/(AB4-Z20)","v":0},{"$f":"IF(AA9=0,0,(AA9*((LOG(AA9))/LOG(2))))","v":0},null,{"$f":"N9","v":1121},{"$f":"COUNTIF(L70:L101,AD9)","v":1},{"$f":"AE9/(AG4-AE20)","v":3.125E-2},{"$f":"IF(AF9=0,0,(AF9*((LOG(AF9))/LOG(2))))","v":-0.15625},null,{"$f":"N9","v":1121},{"$f":"COUNTIF(L102:L132,AI9)","v":1},{"$f":"AJ9/(AL4-AJ20)","v":3.2258064516129031E-2},{"$f":"IF(AK9=0,0,(AK9*((LOG(AK9))/LOG(2))))","v":-0.15981278420602821},null,{"$f":"N9","v":1121},{"$f":"COUNTIF(L133:L164,AN9)","v":0},{"$f":"AO9/(AQ4-AO20)","v":0},{"$f":"IF(AP9=0,0,(AP9*((LOG(AP9))/LOG(2))))","v":0},null,{"$f":"N9","v":1121},{"$f":"COUNTIF(L165:L195,AS9)","v":2},{"$f":"AT9/(AV4-AT20)","v":6.6666666666666666E-2},{"$f":"IF(AU9=0,0,(AU9*((LOG(AU9))/LOG(2))))","v":-0.26045937304056793}]
[12,480,14,486,13,505,23,515,null,null,0,1112,null,1122,{"$f":"COUNTIF($L$7:$L$500,N10)","v":23},{"$f":"O10/$Q$4","v":0.12234042553191489},{"$f":"IF(P10=0,0,(P10*((LOG(P10))/LOG(2))))","v":-0.37081712020890617},null,null,{"$f":"N10","v":1122},{"$f":"COUNTIF(L7:L38,T10)","v":3},{"$f":"U10/(W4-U20)","v":9.375E-2},{"$f":"IF(V10=0,0,(V10*((LOG(V10))/LOG(2))))","v":-0.32015976555739156},null,{"$f":"N10","v":1122},{"$f":"COUNTIF(L39:L69,Y10)","v":4},{"$f":"Z10/(AB4-Z20)","v":0.12903225806451613},{"$f":"IF(AA10=0,0,(AA10*((LOG(AA10))/LOG(2))))","v":-0.38118662069508069},null,{"$f":"N10","v":1122},{"$f":"COUNTIF(L70:L101,AD10)","v":3},{"$f":"AE10/(AG4-AE20)","v":9.375E-2},{"$f":"IF(AF10=0,0,(AF10*((LOG(AF10))/LOG(2))))","v":-0.32015976555739156},null,{"$f":"N10","v":1122},{"$f":"COUNTIF(L102:L132,AI10)","v":3},{"$f":"AJ10/(AL4-AJ20)","v":9.6774193548387094E-2},{"$f":"IF(AK10=0,0,(AK10*((LOG(AK10))/LOG(2))))","v":-0.32605488480635986},null,{"$f":"N10","v":1122},{"$f":"COUNTIF(L133:L164,AN10)","v":4},{"$f":"AO10/(AQ4-AO20)","v":0.125},{"$f":"IF(AP10=0,0,(AP10*((LOG(AP10))/LOG(2))))","v":-0.375},null,{"$f":"N10","v":1122},{"$f":"COUNTIF(L165:L195,AS10)","v":6},{"$f":"AT10/(AV4-AT20)","v":0.2},{"$f":"IF(AU10=0,0,(AU10*((LOG(AU10))/LOG(2))))","v":-0.46438561897747244}]
[12,624,14,633,13,637,14,641,null,null,0,1111,null,1211,{"$f":"COUNTIF($L$7:$L$500,N11)","v":1},{"$f":"O11/$Q$4","v":5.3191489361702126E-3},{"$f":"IF(P11=0,0,(P11*((LOG(P11))/LOG(2))))","v":-4.0183983253604456E-2},null,null,{"$f":"N11","v":1211},{"$f":"COUNTIF(L7:L38,T11)","v":0},{"$f":"U11/(W4-U20)","v":0},{"$f":"IF(V11=0,0,(V11*((LOG(V11))/LOG(2))))","v":0},null,{"$f":"N11","v":1211},{"$f":"COUNTIF(L39:L69,Y11)","v":1},{"$f":"Z11/(AB4-Z20)","v":3.2258064516129031E-2},{"$f":"IF(AA11=0,0,(AA11*((LOG(AA11))/LOG(2))))","v":-0.15981278420602821},null,{"$f":"N11","v":1211},{"$f":"COUNTIF(L70:L101,AD11)","v":0},{"$f":"AE11/(AG4-AE20)","v":0},{"$f":"IF(AF11=0,0,(AF11*((LOG(AF11))/LOG(2))))","v":0},null,{"$f":"N11","v":1211},{"$f":"COUNTIF(L102:L132,AI11)","v":0},{"$f":"AJ11/(AL4-AJ20)","v":0},{"$f":"IF(AK11=0,0,(AK11*((LOG(AK11))/LOG(2))))","v":0},null,{"$f":"N11","v":1211},{"$f":"COUNTIF(L133:L164,AN11)","v":0},{"$f":"AO11/(AQ4-AO20)","v":0},{"$f":"IF(AP11=0,0,(AP11*((LOG(AP11))/LOG(2))))","v":0},null,{"$f":"N11","v":1211},{"$f":"COUNTIF(L165:L195,AS11)","v":0},{"$f":"AT11/(AV4-AT20)","v":0},{"$f":"IF(AU11=0,0,(AU11*((LOG(AU11))/LOG(2))))","v":0}]
[12,744,14,749,13,758,14,762,null,null,0,1111,null,1212,{"$f":"COUNTIF($L$7:$L$500,N12)","v":0},{"$f":"O12/$Q$4","v":0},{"$f":"IF(P12=0,0,(P12*((LOG(P12))/LOG(2))))","v":0},null,null,{"$f":"N12","v":1212},{"$f":"COUNTIF(L7:L38,T12)","v":0},{"$f":"U12/(W4-U20)","v":0},{"$f":"IF(V12=0,0,(V12*((LOG(V12))/LOG(2))))","v":0},null,{"$f":"N12","v":1212},{"$f":"COUNTIF(L39:L69,Y12)","v":0},{"$f":"Z12/(AB4-Z20)","v":0},{"$f":"IF(AA12=0,0,(AA12*((LOG(AA12))/LOG(2))))","v":0},null,{"$f":"N12","v":1212},{"$f":"COUNTIF(L70:L101,AD12)","v":0},{"$f":"AE12/(AG4-AE20)","v":0},{"$f":"IF(AF12=0,0,(AF12*((LOG(AF12))/LOG(2))))","v":0},null,{"$f":"N12","v":1212},{"$f":"COUNTIF(L102:L132,AI12)","v":0},{"$f":"AJ12/(AL4-AJ20)","v":0},{"$f":"IF(AK12=0,0,(AK12*((LOG(AK12))/LOG(2))))","v":0},null,{"$f":"N12","v":1212},{"$f":"COUNTIF(L133:L164,AN12)","v":0},{"$f":"AO12/(AQ4-AO20)","v":0},{"$f":"IF(AP12=0,0,(AP12*((LOG(AP12))/LOG(2))))","v":0},null,{"$f":"N12","v":1212},{"$f":"COUNTIF(L165:L195,AS12)","v":0},{"$f":"AT12/(AV4-AT20)","v":0},{"$f":"IF(AU12=0,0,(AU12*((LOG(AU12))/LOG(2))))","v":0}]
[12,860,14,887,13,905,14,909,null,null,0,1111,null,1221,{"$f":"COUNTIF($L$7:$L$500,N13)","v":4},{"$f":"O13/$Q$4","v":2.1276595744680851E-2},{"$f":"IF(P13=0,0,(P13*((LOG(P13))/LOG(2))))","v":-0.11818274152505612},null,null,{"$f":"N13","v":1221},{"$f":"COUNTIF(L7:L38,T13)","v":1},{"$f":"U13/(W4-U20)","v":3.125E-2},{"$f":"IF(V13=0,0,(V13*((LOG(V13))/LOG(2))))","v":-0.15625},null,{"$f":"N13","v":1221},{"$f":"COUNTIF(L39:L69,Y13)","v":0},{"$f":"Z13/(AB4-Z20)","v":0},{"$f":"IF(AA13=0,0,(AA13*((LOG(AA13))/LOG(2))))","v":0},null,{"$f":"N13","v":1221},{"$f":"COUNTIF(L70:L101,AD13)","v":0},{"$f":"AE13/(AG4-AE20)","v":0},{"$f":"IF(AF13=0,0,(AF13*((LOG(AF13))/LOG(2))))","v":0},null,{"$f":"N13","v":1221},{"$f":"COUNTIF(L102:L132,AI13)","v":0},{"$f":"AJ13/(AL4-AJ20)","v":0},{"$f":"IF(AK13=0,0,(AK13*((LOG(AK13))/LOG(2))))","v":0},null,{"$f":"N13","v":1221},{"$f":"COUNTIF(L133:L164,AN13)","v":1},{"$f":"AO13/(AQ4-AO20)","v":3.125E-2},{"$f":"IF(AP13=0,0,(AP13*((LOG(AP13))/LOG(2))))","v":-0.15625},null,{"$f":"N13","v":1221},{"$f":"COUNTIF(L165:L195,AS13)","v":2},{"$f":"AT13/(AV4-AT20)","v":6.6666666666666666E-2},{"$f":"IF(AU13=0,0,(AU13*((LOG(AU13))/LOG(2))))","v":-0.26045937304056793}]
[12,1015,14,1021,24,1029,23,1034,null,null,0,1122,null,1222,{"$f":"COUNTIF($L$7:$L$500,N14)","v":7},{"$f":"O14/$Q$4","v":3.7234042553191488E-2},{"$f":"IF(P14=0,0,(P14*((LOG(P14))/LOG(2))))","v":-0.1767587101454268},null,null,{"$f":"N14","v":1222},{"$f":"COUNTIF(L7:L38,T14)","v":0},{"$f":"U14/(W4-U20)","v":0},{"$f":"IF(V14=0,0,(V14*((LOG(V14))/LOG(2))))","v":0},null,{"$f":"N14","v":1222},{"$f":"COUNTIF(L39:L69,Y14)","v":2},{"$f":"Z14/(AB4-Z20)","v":6.4516129032258063E-2},{"$f":"IF(AA14=0,0,(AA14*((LOG(AA14))/LOG(2))))","v":-0.25510943937979835},null,{"$f":"N14","v":1222},{"$f":"COUNTIF(L70:L101,AD14)","v":1},{"$f":"AE14/(AG4-AE20)","v":3.125E-2},{"$f":"IF(AF14=0,0,(AF14*((LOG(AF14))/LOG(2))))","v":-0.15625},null,{"$f":"N14","v":1222},{"$f":"COUNTIF(L102:L132,AI14)","v":1},{"$f":"AJ14/(AL4-AJ20)","v":3.2258064516129031E-2},{"$f":"IF(AK14=0,0,(AK14*((LOG(AK14))/LOG(2))))","v":-0.15981278420602821},null,{"$f":"N14","v":1222},{"$f":"COUNTIF(L133:L164,AN14)","v":1},{"$f":"AO14/(AQ4-AO20)","v":3.125E-2},{"$f":"IF(AP14=0,0,(AP14*((LOG(AP14))/LOG(2))))","v":-0.15625},null,{"$f":"N14","v":1222},{"$f":"COUNTIF(L165:L195,AS14)","v":2},{"$f":"AT14/(AV4-AT20)","v":6.6666666666666666E-2},{"$f":"IF(AU14=0,0,(AU14*((LOG(AU14))/LOG(2))))","v":-0.26045937304056793}]
[12,1162,14,1172,13,1177,14,1182,null,null,0,1111,null,2111,{"$f":"COUNTIF($L$7:$L$500,N15)","v":1},{"$f":"O15/$Q$4","v":5.3191489361702126E-3},{"$f":"IF(P15=0,0,(P15*((LOG(P15))/LOG(2))))","v":-4.0183983253604456E-2},null,null,{"$f":"N15","v":2111},{"$f":"COUNTIF(L7:L38,T15)","v":0},{"$f":"U15/(W4-U20)","v":0},{"$f":"IF(V15=0,0,(V15*((LOG(V15))/LOG(2))))","v":0},null,{"$f":"N15","v":2111},{"$f":"COUNTIF(L39:L69,Y15)","v":0},{"$f":"Z15/(AB4-Z20)","v":0},{"$f":"IF(AA15=0,0,(AA15*((LOG(AA15))/LOG(2))))","v":0},null,{"$f":"N15","v":2111},{"$f":"COUNTIF(L70:L101,AD15)","v":0},{"$f":"AE15/(AG4-AE20)","v":0},{"$f":"IF(AF15=0,0,(AF15*((LOG(AF15))/LOG(2))))","v":0},null,{"$f":"N15","v":2111},{"$f":"COUNTIF(L102:L132,AI15)","v":0},{"$f":"AJ15/(AL4-AJ20)","v":0},{"$f":"IF(AK15=0,0,(AK15*((LOG(AK15))/LOG(2))))","v":0},null,{"$f":"N15","v":2111},{"$f":"COUNTIF(L133:L164,AN15)","v":0},{"$f":"AO15/(AQ4-AO20)","v":0},{"$f":"IF(AP15=0,0,(AP15*((LOG(AP15))/LOG(2))))","v":0},null,{"$f":"N15","v":2111},{"$f":"COUNTIF(L165:L195,AS15)","v":1},{"$f":"AT15/(AV4-AT20)","v":3.3333333333333333E-2},{"$f":"IF(AU15=0,0,(AU15*((LOG(AU15))/LOG(2))))","v":-0.16356301985361729}]
[12,1284,14,1288,13,1292,23,1305,null,null,0,1112,null,2112,{"$f":"COUNTIF($L$7:$L$500,N16)","v":0},{"$f":"O16/$Q$4","v":0},{"$f":"IF(P16=0,0,(P16*((LOG(P16))/LOG(2))))","v":0},null,null,{"$f":"N16","v":2112},{"$f":"COUNTIF(L7:L38,T16)","v":0},{"$f":"U16/(W4-U20)","v":0},{"$f":"IF(V16=0,0,(V16*((LOG(V16))/LOG(2))))","v":0},null,{"$f":"N16","v":2112},{"$f":"COUNTIF(L39:L69,Y16)","v":0},{"$f":"Z16/(AB4-Z20)","v":0},{"$f":"IF(AA16=0,0,(AA16*((LOG(AA16))/LOG(2))))","v":0},null,{"$f":"N16","v":2112},{"$f":"COUNTIF(L70:L101,AD16)","v":0},{"$f":"AE16/(AG4-AE20)","v":0},{"$f":"IF(AF16=0,0,(AF16*((LOG(AF16))/LOG(2))))","v":0},null,{"$f":"N16","v":2112},{"$f":"COUNTIF(L102:L132,AI16)","v":0},{"$f":"AJ16/(AL4-AJ20)","v":0},{"$f":"IF(AK16=0,0,(AK16*((LOG(AK16))/LOG(2))))","v":0},null,{"$f":"N16","v":2112},{"$f":"COUNTIF(L133:L164,AN16)","v":0},{"$f":"AO16/(AQ4-AO20)","v":0},{"$f":"IF(AP16=0,0,(AP16*((LOG(AP16))/LOG(2))))","v":0},null,{"$f":"N16","v":2112},{"$f":"COUNTIF(L165:L195,AS16)","v":0},{"$f":"AT16/(AV4-AT20)","v":0},{"$f":"IF(AU16=0,0,(AU16*((LOG(AU16))/LOG(2))))","v":0}]
[12,1403,14,1415,13,1418,14,1422,null,null,0,1111,null,2121,{"$f":"COUNTIF($L$7:$L$500,N17)","v":0},{"$f":"O17/$Q$4","v":0},{"$f":"IF(P17=0,0,(P17*((LOG(P17))/LOG(2))))","v":0},null,null,{"$f":"N17","v":2121},{"$f":"COUNTIF(L7:L38,T17)","v":0},{"$f":"U17/(W4-U20)","v":0},{"$f":"IF(V17=0,0,(V17*((LOG(V17))/LOG(2))))","v":0},null,{"$f":"N17","v":2121},{"$f":"COUNTIF(L39:L69,Y17)","v":0},{"$f":"Z17/(AB4-Z20)","v":0},{"$f":"IF(AA17=0,0,(AA17*((LOG(AA17))/LOG(2))))","v":0},null,{"$f":"N17","v":2121},{"$f":"COUNTIF(L70:L101,AD17)","v":0},{"$f":"AE17/(AG4-AE20)","v":0},{"$f":"IF(AF17=0,0,(AF17*((LOG(AF17))/LOG(2))))","v":0},null,{"$f":"N17","v":2121},{"$f":"COUNTIF(L102:L132,AI17)","v":0},{"$f":"AJ17/(AL4-AJ20)","v":0},{"$f":"IF(AK17=0,0,(AK17*((LOG(AK17))/LOG(2))))","v":0},null,{"$f":"N17","v":2121},{"$f":"COUNTIF(L133:L164,AN17)","v":0},{"$f":"AO17/(AQ4-AO20)","v":0},{"$f":"IF(AP17=0,0,(AP17*((LOG(AP17))/LOG(2))))","v":0},null,{"$f":"N17","v":2121},{"$f":"COUNTIF(L165:L195,AS17)","v":0},{"$f":"AT17/(AV4-AT20)","v":0},{"$f":"IF(AU17=0,0,(AU17*((LOG(AU17))/LOG(2))))","v":0}]
[12,1517,14,1521,13,1525,14,1529,null,null,0,1111,null,2122,{"$f":"COUNTIF($L$7:$L$500,N18)","v":1},{"$f":"O18/$Q$4","v":5.3191489361702126E-3},{"$f":"IF(P18=0,0,(P18*((LOG(P18))/LOG(2))))","v":-4.0183983253604456E-2},null,null,{"$f":"N18","v":2122},{"$f":"COUNTIF(L7:L38,T18)","v":1},{"$f":"U18/(W4-U20)","v":3.125E-2},{"$f":"IF(V18=0,0,(V18*((LOG(V18))/LOG(2))))","v":-0.15625},null,{"$f":"N18","v":2122},{"$f":"COUNTIF(L39:L69,Y18)","v":0},{"$f":"Z18/(AB4-Z20)","v":0},{"$f":"IF(AA18=0,0,(AA18*((LOG(AA18))/LOG(2))))","v":0},null,{"$f":"N18","v":2122},{"$f":"COUNTIF(L70:L101,AD18)","v":0},{"$f":"AE18/(AG4-AE20)","v":0},{"$f":"IF(AF18=0,0,(AF18*((LOG(AF18))/LOG(2))))","v":0},null,{"$f":"N18","v":2122},{"$f":"COUNTIF(L102:L132,AI18)","v":0},{"$f":"AJ18/(AL4-AJ20)","v":0},{"$f":"IF(AK18=0,0,(AK18*((LOG(AK18))/LOG(2))))","v":0},null,{"$f":"N18","v":2122},{"$f":"COUNTIF(L133:L164,AN18)","v":0},{"$f":"AO18/(AQ4-AO20)","v":0},{"$f":"IF(AP18=0,0,(AP18*((LOG(AP18))/LOG(2))))","v":0},null,{"$f":"N18","v":2122},{"$f":"COUNTIF(L165:L195,AS18)","v":0},{"$f":"AT18/(AV4-AT20)","v":0},{"$f":"IF(AU18=0,0,(AU18*((LOG(AU18))/LOG(2))))","v":0}]
[12,1627,14,1631,13,1635,23,1653,null,null,0,1112,null,2211,{"$f":"COUNTIF($L$7:$L$500,N19)","v":1},{"$f":"O19/$Q$4","v":5.3191489361702126E-3},{"$f":"IF(P19=0,0,(P19*((LOG(P19))/LOG(2))))","v":-4.0183983253604456E-2},null,null,{"$f":"N19","v":2211},{"$f":"COUNTIF(L7:L38,T19)","v":0},{"$f":"U19/(W4-U20)","v":0},{"$f":"IF(V19=0,0,(V19*((LOG(V19))/LOG(2))))","v":0},null,{"$f":"N19","v":2211},{"$f":"COUNTIF(L39:L69,Y19)","v":0},{"$f":"Z19/(AB4-Z20)","v":0},{"$f":"IF(AA19=0,0,(AA19*((LOG(AA19))/LOG(2))))","v":0},null,{"$f":"N19","v":2211},{"$f":"COUNTIF(L70:L101,AD19)","v":1},{"$f":"AE19/(AG4-AE20)","v":3.125E-2},{"$f":"IF(AF19=0,0,(AF19*((LOG(AF19))/LOG(2))))","v":-0.15625},null,{"$f":"N19","v":2211},{"$f":"COUNTIF(L102:L132,AI19)","v":0},{"$f":"AJ19/(AL4-AJ20)","v":0},{"$f":"IF(AK19=0,0,(AK19*((LOG(AK19))/LOG(2))))","v":0},null,{"$f":"N19","v":2211},{"$f":"COUNTIF(L133:L164,AN19)","v":0},{"$f":"AO19/(AQ4-AO20)","v":0},{"$f":"IF(AP19=0,0,(AP19*((LOG(AP19))/LOG(2))))","v":0},null,{"$f":"N19","v":2211},{"$f":"COUNTIF(L165:L195,AS19)","v":0},{"$f":"AT19/(AV4-AT20)","v":0},{"$f":"IF(AU19=0,0,(AU19*((LOG(AU19))/LOG(2))))","v":0}]
[12,1750,14,1753,13,1766,14,1770,null,null,0,1111,null,2212,{"$f":"COUNTIF($L$7:$L$500,N20)","v":0},{"$f":"O20/$Q$4","v":0},{"$f":"IF(P20=0,0,(P20*((LOG(P20))/LOG(2))))","v":0},null,null,{"$f":"N20","v":2212},{"$f":"COUNTIF(L7:L38,T20)","v":0},null,null,null,{"$f":"N20","v":2212},{"$f":"COUNTIF(L39:L69,Y20)","v":0},null,null,null,{"$f":"N20","v":2212},{"$f":"COUNTIF(L70:L101,AD20)","v":0},null,null,null,{"$f":"N20","v":2212},{"$f":"COUNTIF(L102:L132,AI20)","v":0},null,null,null,{"$f":"N20","v":2212},{"$f":"COUNTIF(L133:L164,AN20)","v":0},null,null,null,{"$f":"N20","v":2212},{"$f":"COUNTIF(L165:L195,AS20)","v":0}]
[12,1871,14,1903,13,1907,14,1920,null,null,0,1111,null,2221,{"$f":"COUNTIF($L$7:$L$500,N21)","v":1},{"$f":"O21/$Q$4","v":5.3191489361702126E-3},{"$f":"IF(P21=0,0,(P21*((LOG(P21))/LOG(2))))","v":-4.0183983253604456E-2},null,null,{"$f":"N21","v":2221},{"$f":"COUNTIF(L7:L38,T21)","v":0},{"$f":"U21/(W4-U20)","v":0},{"$f":"IF(V21=0,0,(V21*((LOG(V21))/LOG(2))))","v":0},null,{"$f":"N21","v":2221},{"$f":"COUNTIF(L39:L69,Y21)","v":0},{"$f":"Z21/(AB4-Z20)","v":0},{"$f":"IF(AA21=0,0,(AA21*((LOG(AA21))/LOG(2))))","v":0},null,{"$f":"N21","v":2221},{"$f":"COUNTIF(L70:L101,AD21)","v":0},{"$f":"AE21/(AG4-AE20)","v":0},{"$f":"IF(AF21=0,0,(AF21*((LOG(AF21))/LOG(2))))","v":0},null,{"$f":"N21","v":2221},{"$f":"COUNTIF(L102:L132,AI21)","v":0},{"$f":"AJ21/(AL4-AJ20)","v":0},{"$f":"IF(AK21=0,0,(AK21*((LOG(AK21))/LOG(2))))","v":0},null,{"$f":"N21","v":2221},{"$f":"COUNTIF(L133:L164,AN21)","v":0},{"$f":"AO21/(AQ4-AO20)","v":0},{"$f":"IF(AP21=0,0,(AP21*((LOG(AP21))/LOG(2))))","v":0},null,{"$f":"N21","v":2221},{"$f":"COUNTIF(L165:L195,AS21)","v":1},{"$f":"AT21/(AV4-AT20)","v":3.3333333333333333E-2},{"$f":"IF(AU21=0,0,(AU21*((LOG(AU21))/LOG(2))))","v":-0.16356301985361729}]
[12,2042,14,2050,13,2058,14,2063,null,null,0,1111,null,2222,{"$f":"COUNTIF($L$7:$L$500,N22)","v":2},{"$f":"O22/$Q$4","v":1.0638297872340425E-2},{"$f":"IF(P22=0,0,(P22*((LOG(P22))/LOG(2))))","v":-6.9729668634868486E-2},null,null,{"$f":"N22","v":2222},{"$f":"COUNTIF(L7:L38,T22)","v":2},{"$f":"U22/(W4-U20)","v":6.25E-2},{"$f":"IF(V22=0,0,(V22*((LOG(V22))/LOG(2))))","v":-0.25},null,{"$f":"N22","v":2222},{"$f":"COUNTIF(L39:L69,Y22)","v":0},{"$f":"Z22/(AB4-Z20)","v":0},{"$f":"IF(AA22=0,0,(AA22*((LOG(AA22))/LOG(2))))","v":0},null,{"$f":"N22","v":2222},{"$f":"COUNTIF(L70:L101,AD22)","v":0},{"$f":"AE22/(AG4-AE20)","v":0},{"$f":"IF(AF22=0,0,(AF22*((LOG(AF22))/LOG(2))))","v":0},null,{"$f":"N22","v":2222},{"$f":"COUNTIF(L102:L132,AI22)","v":0},{"$f":"AJ22/(AL4-AJ20)","v":0},{"$f":"IF(AK22=0,0,(AK22*((LOG(AK22))/LOG(2))))","v":0},null,{"$f":"N22","v":2222},{"$f":"COUNTIF(L133:L164,AN22)","v":0},{"$f":"AO22/(AQ4-AO20)","v":0},{"$f":"IF(AP22=0,0,(AP22*((LOG(AP22))/LOG(2))))","v":0},null,{"$f":"N22","v":2222},{"$f":"COUNTIF(L165:L195,AS22)","v":0},{"$f":"AT22/(AV4-AT20)","v":0},{"$f":"IF(AU22=0,0,(AU22*((LOG(AU22))/LOG(2))))","v":0}]
[12,2165,14,2169,24,2182,23,2190,null,null,0,1122,null,null,null,{"$f":"SUM(P7:P22)","v":1.0000000000000002},{"$f":"-SUM(Q7:Q22)","v":1.8975106435928999},null,null,null,null,{"$f":"SUM(V7:V22)","v":1},{"$f":"-SUM(W7:W22)","v":1.6564514568588302},null,null,null,{"$f":"SUM(AA7:AA22)","v":1},{"$f":"-SUM(AB7:AB22)","v":1.6535426578105867},null,null,null,{"$f":"SUM(AF7:AF22)","v":1},{"$f":"-SUM(AG7:AG22)","v":1.7150939152501616},null,null,null,{"$f":"SUM(AK7:AK22)","v":0.99999999999999989},{"$f":"-SUM(AL7:AL22)","v":1.1866483258878036},null,null,null,{"$f":"SUM(AP7:AP22)","v":1},{"$f":"-SUM(AQ7:AQ22)","v":1.6136841496927701},null,null,null,{"$f":"SUM(AU7:AU22)","v":1},{"$f":"-SUM(AV7:AV22)","v":2.4278779675310318}]
[12,2291,14,2295,24,2307,23,2316,null,null,0,1122,null,null,null,"U=",{"$f":"Q23/(LOG(Q4)/LOG(2))","v":0.25117325123147133},null,null,null,null,"U1=",{"$f":"W23/(LOG(W4)/LOG(2))","v":0.33129029137176602},null,null,null,"U2=",{"$f":"AB23/(LOG(AB4)/LOG(2))","v":0.33376607510360462},null,null,null,"U3=",{"$f":"AG23/(LOG(AG4)/LOG(2))","v":0.34301878305003231},null,null,null,"U4=",{"$f":"AL23/(LOG(AL4)/LOG(2))","v":0.23952388067463112},null,null,null,"U5=",{"$f":"AQ23/(LOG(AQ4)/LOG(2))","v":0.32273682993855402},null,null,null,"U6=",{"$f":"AV23/(LOG(AV4)/LOG(2))","v":0.49478950472298905}]
[12,2429,23,2441,24,2460,14,2478,null,null,0,1221]
[12,2582,14,2589,13,2593,14,2600,null,null,0,1111]
[12,2703,14,2707,13,2711,14,2715,null,null,0,1111,null,"Total Target Seq"]
[12,2817,14,2821,13,2829,14,2837,null,null,0,1111,null,{"$f":"COUNTIF(L7:L195,G3)","v":0},null,32,31,32,31,32,31]
[12,2939,14,2945,13,2964,14,2973,null,null,0,1111,null,null,null,"% of reinforcement given in 6 equal intervals based on number of trials "]
[12,3069,14,3073,13,3077,14,3081,null,null,0,1111,null,null,null,"%_1","%_2","%_3","%_4","%_5","%_6"]
[12,3178,14,3181,13,3185,14,3189,null,null,0,1111,null,null,"target sequence",{"$f":"$G$3","v":2212},{"$f":"$G$3","v":2212},{"$f":"$G$3","v":2212},{"$f":"$G$3","v":2212},{"$f":"$G$3","v":2212},{"$f":"$G$3","v":2212}]
[12,3287,14,3291,13,3295,14,3299,null,null,0,1111,null,null,"total reinforcement",{"$f":"U20","v":0},{"$f":"Z20","v":0},{"$f":"AE20","v":0},{"$f":"AJ20","v":0},{"$f":"AO20","v":0},{"$f":"AT20","v":0}]
[12,3397,14,3400,13,3404,14,3415,null,null,0,1111,null,null,"% target"]
[12,3512,14,3516,13,3520,14,3524,null,null,0,1111,null,null,"CCRF"]
[12,3624,14,3628,13,3640,14,3644,null,null,0,1111,null,null,"% CCRf"]
[12,3747,14,3752,13,3756,14,3761,null,null,0,1111,null,null,"average response rate",{"$f":"H38/P28","v":124.875},{"$f":"(H69-H38)/Q28","v":125.3225806451613},{"$f":"(H101-H69)/R28","v":127.8125},{"$f":"(H132-H101)/S28","v":127.48387096774194},{"$f":"(H164-H132)/T28","v":126.75},{"$f":"(H195-H164)/U28","v":-644.48387096774195}]
[12,3861,14,3865,13,3869,14,3873,null,null,0,1111]
[12,3968,14,3980,13,3983,23,3996,null,null,0,1112]
[12,4095,14,4099,13,4102,14,4106,null,null,0,1111]
[12,4209,14,4213,13,4217,23,4234,null,null,0,1112]
[12,4331,14,4341,24,4352,23,4360,null,null,0,1122]
[12,4453,14,4457,13,4460,14,4464,null,null,0,1111]
[12,4563,14,4576,13,4580,14,4586,null,null,0,1111]
[12,4707,23,4718,13,4735,14,4744,null,null,0,1211]
[12,4848,23,4860,24,4872,23,4885,null,null,0,1222]
[12,4989,14,4993,13,4997,14,5008,null,null,0,1111]
[12,5104,14,5107,13,5111,14,5127,null,null,0,1111]
[12,5223,14,5227,13,5243,14,5247,null,null,0,1111]
[12,5345,14,5349,13,5360,14,5364,null,null,0,1111]
[12,5461,14,5465,13,5476,14,5479,null,null,0,1111]
[12,5584,14,5597,24,5608,23,5619,null,null,0,1122]
[12,5719,14,5722,13,5738,14,5746,null,null,0,1111]
[12,5844,14,5848,13,5852,14,5856,null,null,0,1111]
[12,5961,14,5982,13,5985,23,6001,null,null,0,1112]
[12,6102,14,6113,13,6117,23,6128,null,null,0,1112]
[12,6227,14,6231,13,6250,14,6258,null,null,0,1111]
[12,6358,14,6362,13,6367,23,6383,null,null,0,1112]
[12,6479,14,6497,24,6510,23,6521,null,null,0,1122]
[12,6615,14,6619,13,6630,23,6638,null,null,0,1112]
[12,6737,14,6743,13,6754,14,6761,null,null,0,1111]
[12,6868,23,6879,24,6903,23,6913,null,null,0,1222]
[12,7010,14,7022,13,7030,14,7038,null,null,0,1111]
[12,7135,14,7138,13,7155,14,7158,null,null,0,1111]
[12,7255,14,7266,24,7281,23,7290,null,null,0,1122]
[12,7387,14,7390,13,7394,14,7405,null,null,0,1111]
[12,7502,14,7513,13,7517,14,7521,null,null,0,1111]
[12,7617,14,7621,13,7625,14,7633,null,null,0,1111]
[12,7730,14,7737,13,7748,14,7759,null,null,0,1111]
[12,7857,14,7861,13,7876,14,7881,null,null,0,1111]
[12,7981,14,7985,13,7989,14,8000,null,null,0,1111]
[12,8104,14,8107,13,8111,14,8121,null,null,0,1111]
[12,8221,14,8226,13,8233,14,8236,null,null,0,1111]
[12,8333,14,8336,13,8347,14,8351,null,null,0,1111]
[12,8453,14,8464,13,8468,14,8472,null,null,0,1111]
[12,8572,14,8589,13,8602,14,8605,null,null,0,1111]
[12,8704,14,8709,13,8720,14,8723,null,null,0,1111]
[12,8820,14,8825,13,8828,23,8843,null,null,0,1112]
[12,8942,14,8958,13,8966,14,8969,null,null,0,1111]
[12,9067,14,9071,13,9076,14,9091,null,null,0,1111]
[12,9195,14,9210,13,9215,14,9227,null,null,0,1111]
[12,9325,14,9341,13,9345,23,9371,null,null,0,1112]
[12,9468,14,9472,13,9479,14,9483,null,null,0,1111]
[12,9581,14,9584,13,9588,14,9607,null,null,0,1111]
[12,9706,14,9713,13,9720,14,9724,null,null,0,1111]
[12,9824,14,9831,24,9841,23,9854,null,null,0,1122]
[12,9952,14,9955,13,9959,14,9973,null,null,0,1111]
[12,10073,14,10076,13,10080,14,10089,null,null,0,1111]
[12,10189,14,10193,13,10201,14,10212,null,null,0,1111]
[12,10317,14,10327,13,10330,23,10341,null,null,0,1112]
[12,10440,14,10443,24,10459,23,10468,null,null,0,1122]
[12,10569,14,10588,24,10599,23,10608,null,null,0,1122]
[12,10706,14,10720,13,10732,23,10746,null,null,0,1112]
[12,10849,14,10853,13,10864,23,10879,null,null,0,1112]
[21,10996,21,11008,11,11022,12,11032,null,null,0,2211]
[12,11164,14,11167,13,11176,14,11180,null,null,0,1111]
[12,11280,14,11292,13,11295,23,11307,null,null,0,1112]
[12,11404,14,11416,13,11424,23,11438,null,null,0,1112]
[12,11541,14,11552,13,11556,14,11565,null,null,0,1111]
[12,11670,23,11686,24,11697,23,11707,null,null,0,1222]
[12,11812,14,11829,24,11845,14,11862,null,null,0,1121]
[12,11960,14,11964,13,11967,14,11971,null,null,0,1111]
[12,12078,23,12091,24,12102,23,12110,null,null,0,1222]
[12,12218,14,12221,13,12229,14,12238,null,null,0,1111]
[12,12340,14,12343,13,12350,14,12364,null,null,0,1111]
[12,12461,14,12482,24,12491,23,12502,null,null,0,1122]
[12,12605,14,12611,13,12617,14,12621,null,null,0,1111]
[12,12729,14,12744,24,12757,23,12765,null,null,0,1122]
[12,12865,14,12875,13,12888,14,12892,null,null,0,1111]
[12,12992,14,12996,13,12999,14,13018,null,null,0,1111]
[12,13123,14,13134,13,13138,14,13149,null,null,0,1111]
[12,13249,14,13263,13,13267,14,13279,null,null,0,1111]
[12,13384,14,13388,13,13414,14,13422,null,null,0,1111]
[12,13519,14,13526,13,13537,23,13547,null,null,0,1112]
[12,13644,14,13657,24,13669,14,13685,null,null,0,1121]
[12,13787,14,13791,13,13802,14,13821,null,null,0,1111]
[12,13923,14,13926,13,13937,14,13941,null,null,0,1111]
[12,14038,14,14041,13,14045,14,14049,null,null,0,1111]
[12,14143,14,14147,13,14151,14,14155,null,null,0,1111]
[12,14251,14,14255,13,14267,14,14271,null,null,0,1111]
[12,14374,14,14384,13,14391,14,14395,null,null,0,1111]
[12,14492,14,14496,13,14499,14,14510,null,null,0,1111]
[12,14609,14,14617,13,14620,14,14632,null,null,0,1111]
[12,14733,14,14738,13,14749,14,14753,null,null,0,1111]
[12,14853,14,14857,13,14867,14,14871,null,null,0,1111]
[12,14967,14,14972,13,14985,14,14990,null,null,0,1111]
[12,15096,14,15100,13,15110,14,15128,null,null,0,1111]
[12,15233,14,15237,13,15248,14,15252,null,null,0,1111]
[12,15363,14,15375,24,15392,23,15404,null,null,0,1122]
[12,15500,14,15514,13,15525,23,15539,null,null,0,1112]
[12,15640,14,15654,13,15664,14,15669,null,null,0,1111]
[12,15768,14,15772,13,15783,14,15786,null,null,0,1111]
[12,15889,14,15907,13,15911,14,15923,null,null,0,1111]
[12,16027,14,16031,13,16044,14,16055,null,null,0,1111]
[12,16155,14,16173,13,16178,14,16185,null,null,0,1111]
[12,16281,14,16285,13,16289,14,16301,null,null,0,1111]
[12,16398,14,16402,13,16410,14,16415,null,null,0,1111]
[12,16511,14,16521,13,16531,14,16535,null,null,0,1111]
[12,16635,14,16650,13,16664,14,16686,null,null,0,1111]
[12,16788,14,16791,13,16801,14,16805,null,null,0,1111]
[12,16902,14,16915,24,16926,23,16938,null,null,0,1122]
[12,17033,14,17037,13,17049,14,17055,null,null,0,1111]
[12,17156,23,17166,24,17174,14,17189,null,null,0,1221]
[12,17286,14,17294,13,17297,14,17308,null,null,0,1111]
[12,17404,14,17415,13,17425,23,17440,null,null,0,1112]
[12,17539,14,17545,13,17550,14,17561,null,null,0,1111]
[12,17660,14,17664,13,17668,14,17677,null,null,0,1111]
[12,17785,14,17797,24,17816,23,17824,null,null,0,1122]
[12,17924,14,17932,13,17944,23,17956,null,null,0,1112]
[12,18060,14,18064,13,18073,14,18081,null,null,0,1111]
[12,18179,14,18183,13,18187,14,18198,null,null,0,1111]
[12,18299,14,18313,13,18323,23,18335,null,null,0,1112]
[12,18433,14,18448,24,18464,23,18474,null,null,0,1122]
[12,18575,14,18582,13,18594,23,18608,null,null,0,1112]
[12,18707,14,18710,13,18723,23,18737,null,null,0,1112]
[12,18835,14,18839,13,18849,14,18852,null,null,0,1111]
[12,18949,23,18971,24,18981,23,18992,null,null,0,1222]
[12,19090,14,19094,13,19105,14,19109,null,null,0,1111]
[12,19210,14,19214,13,19218,14,19230,null,null,0,1111]
[12,19343,14,19347,13,19350,14,19355,null,null,0,1111]
[12,19455,14,19459,13,19467,14,19471,null,null,0,1111]
[12,19572,14,19584,24,19598,23,19610,null,null,0,1122]
[12,19711,14,19716,13,19724,14,19728,null,null,0,1111]
[12,19823,14,19826,13,19834,23,19848,null,null,0,1112]
[12,19944,14,19956,13,19959,23,19979,null,null,0,1112]
[12,20071,14,20083,13,20096,23,20108,null,null,0,1112]
[12,20205,14,20209,13,20220,14,20227,null,null,0,1111]
[12,20329,14,20336,13,20354,14,20358,null,null,0,1111]
[12,20454,14,20464,13,20468,23,20479,null,null,0,1112]
[12,20576,14,20587,13,20600,14,20604,null,null,0,1111]
[21,20719,12,20742,13,20750,14,20754,null,null,0,2111]
[12,20853,14,20868,13,20876,14,20880,null,null,0,1111]
[12,20978,14,20989,24,21000,23,21009,null,null,0,1122]
[12,21114,14,21118,13,21127,14,21131,null,null,0,1111]
[12,21233,14,21246,24,21257,23,21265,null,null,0,1122]
[12,21369,14,21374,24,21385,23,21397,null,null,0,1122]
[12,21496,14,21507,13,21514,23,21536,null,null,0,1112]
[12,21643,23,21652,24,21661,14,21675,null,null,0,1221]
[12,21771,23,21790,24,21803,14,21818,null,null,0,1221]
[12,21925,23,21934,24,21943,23,21956,null,null,0,1222]
[12,22056,14,22059,13,22073,14,22077,null,null,0,1111]
[12,22178,14,22187,13,22190,14,22194,null,null,0,1111]
[12,22293,14,22305,24,22319,23,22328,null,null,0,1122]
[12,22430,14,22434,13,22438,14,22450,null,null,0,1111]
[12,22549,14,22575,13,22579,14,22584,null,null,0,1111]
[12,22690,14,22694,24,22713,14,22730,null,null,0,1121]
[12,22829,14,22833,13,22843,14,22847,null,null,0,1111]
[12,22949,14,22964,24,22975,14,22988,null,null,0,1121]
[12,23096,23,23111,24,23121,23,23129,null,null,0,1222]
[12,23227,14,23231,13,23236,14,23244,null,null,0,1111]
[12,23342,14,23348,13,23352,14,23357,null,null,0,1111]
[12,23453,14,23458,24,23468,23,23482,null,null,0,1122]
[21,23584,21,23605,22,23613,14,23629,null,null,0,2221]
[12,23728,14,23732,13,23735,14,23759,null,null,0,1111]
[12,23857,14,23866,24,23876,23,23886,null,null,0,1122]
[12,23981,14,23994,null,null,null,null,null,null,null,11]

{"sheet":"!M828A10.104","index":14,"n_rows":197,"n_cols":48,"rows_kept":197,"cut":false,"hidden":false,"merged":[[4,39,4,42],[5,39,5,40],[4,44,4,47],[5,44,5,45],[4,24,4,27],[5,24,5,25],[4,29,4,32],[5,29,5,30],[4,34,4,37],[5,34,5,35],[1,1,1,2],[5,13,5,14],[26,13,26,14],[27,13,27,14],[4,19,4,22],[5,19,5,20]]}
["Report for:!M828A10.104"]
["Date:","<date>"]
["Hen:","<hen>",null,null,null,"Correct Sequence",{"$f":"Start!J2","v":2212},null,null,null,null,null,null,null,null,"Total Sequences in Data",{"$f":"4994-COUNTBLANK(L7:L5000)","v":191},null,null,null,null,"Total Sequences in Block Data",{"$f":"COUNTA(L7:L38)","v":32},null,null,null,"Total Sequences in Block Data",{"$f":"COUNTA(L39:L70)","v":32},null,null,null,"Total Sequences in Block Data",{"$f":"COUNTA(L71:L101)","v":31},null,null,null,"Total Sequences in Block Data",{"$f":"COUNTA(L102:L133)","v":32},null,null,null,"Total Sequences in Block Data",{"$f":"COUNTA(L134:L165)","v":32},null,null,null,"Total Sequences in Block Data",{"$f":"COUNTA(L166:L197)","v":32}]
[null,null,null,null,null,null,null,null,null,null,null,null,null,null,null,"Total Sequences in Summary",{"$f":"SUM(O7:O22)","v":190},null,null,null,null,"Total Sequences in Block Summary",{"$f":"SUM(U7:U22)","v":32},null,null,null,"Total Sequences in Block Summary",{"$f":"SUM(Z7:Z22)","v":32},null,null,null,"Total Sequences in Block Summary",{"$f":"SUM(AE7:AE22)","v":31},null,null,null,"Total Sequences in Block Summary",{"$f":"SUM(AJ7:AJ22)","v":32},null,null,null,"Total Sequences in Block Summary",{"$f":"SUM(AO7:AO22)","v":32},null,null,null,"Total Sequences in Block Summary",{"$f":"SUM(AT7:AT22)","v":31}]
[null,null,null,null,null,null,null,null,null,null,null,null,null,null,null,null,null,null,null,"Block 1",null,null,null,null,"Block 2",null,null,null,null,"Block 3",null,null,null,null,"Block 4",null,null,null,null,"Block 5",null,null,null,null,"Block 6"]
["Sequence\nComponent\n1","Time\n1","Sequence\nComponent\n2","Time\n2","Sequence\nComponent\n3","Time\n3","Sequence\nComponent\n4","Time\n4","Sequence\nComponent\n5","Time\n5","Correct?\n0=No 1=Yes","Sequence",null,"Frequency",null,"Relative Frequency","Variability",null,null,"Frequency",null,"Relative Frequency","Variability",null,"Frequency",null,"Relative Frequency","Variability",null,"Frequency",null,"Relative Frequency","Variability",null,"Frequency",null,"Relative Frequency","Variability",null,"Frequency",null,"Relative Frequency","Variability",null,"Frequency",null,"Relative Frequency","Variability"]
[21,44,21,56,22,80,23,87,null,null,0,2222,null,1111,{"$f":"COUNTIF($L$7:$L$500,N7)","v":105},{"$f":"O7/$Q$4","v":0.55263157894736847},{"$f":"IF(P7=0,0,(P7*((LOG(P7))/LOG(2))))","v":-0.47283715536740339},null,null,{"$f":"N7","v":1111},{"$f":"COUNTIF(L7:L38,T7)","v":19},{"$f":"U7/(W4-U20)","v":0.59375},{"$f":"IF(V7=0,0,(V7*((LOG(V7))/LOG(2))))","v":-0.44654303889287106},null,{"$f":"N7","v":1111},{"$f":"COUNTIF(L39:L70,Y7)","v":21},{"$f":"Z7/(AB4-Z20)","v":0.65625},{"$f":"IF(AA7=0,0,(AA7*((LOG(AA7))/LOG(2))))","v":-0.3987916913014386},null,{"$f":"N7","v":1111},{"$f":"COUNTIF(L71:L101,AD7)","v":15},{"$f":"AE7/(AG4-AE20)","v":0.4838709677419355},{"$f":"IF(AF7=0,0,(AF7*((LOG(AF7))/LOG(2))))","v":-0.50676082973146286},null,{"$f":"N7","v":1111},{"$f":"COUNTIF(L102:L133,AI7)","v":15},{"$f":"AJ7/(AL4-AJ20)","v":0.46875},{"$f":"IF(AK7=0,0,(AK7*((LOG(AK7))/LOG(2))))","v":-0.512395033308507},null,{"$f":"N7","v":1111},{"$f":"COUNTIF(L134:L165,AN7)","v":17},{"$f":"AO7/(AQ4-AO20)","v":0.53125},{"$f":"IF(AP7=0,0,(AP7*((LOG(AP7))/LOG(2))))","v":-0.48478536558575719},null,{"$f":"N7","v":1111},{"$f":"COUNTIF(L166:L197,AS7)","v":18},{"$f":"AT7/(AV4-AT20)","v":0.58064516129032262},{"$f":"IF(AU7=0,0,(AU7*((LOG(AU7))/LOG(2))))","v":-0.45538334067748809}]
[12,191,14,200,24,209,23,217,null,null,0,1122,null,1112,{"$f":"COUNTIF($L$7:$L$500,N8)","v":43},{"$f":"O8/$Q$4","v":0.22631578947368422},{"$f":"IF(P8=0,0,(P8*((LOG(P8))/LOG(2))))","v":-0.48512845634758184},null,null,{"$f":"N8","v":1112},{"$f":"COUNTIF(L7:L38,T8)","v":5},{"$f":"U8/(W4-U20)","v":0.15625},{"$f":"IF(V8=0,0,(V8*((LOG(V8))/LOG(2))))","v":-0.41844873517384967},null,{"$f":"N8","v":1112},{"$f":"COUNTIF(L39:L70,Y8)","v":5},{"$f":"Z8/(AB4-Z20)","v":0.15625},{"$f":"IF(AA8=0,0,(AA8*((LOG(AA8))/LOG(2))))","v":-0.41844873517384967},null,{"$f":"N8","v":1112},{"$f":"COUNTIF(L71:L101,AD8)","v":8},{"$f":"AE8/(AG4-AE20)","v":0.25806451612903225},{"$f":"IF(AF8=0,0,(AF8*((LOG(AF8))/LOG(2))))","v":-0.50430872526112902},null,{"$f":"N8","v":1112},{"$f":"COUNTIF(L102:L133,AI8)","v":8},{"$f":"AJ8/(AL4-AJ20)","v":0.25},{"$f":"IF(AK8=0,0,(AK8*((LOG(AK8))/LOG(2))))","v":-0.5},null,{"$f":"N8","v":1112},{"$f":"COUNTIF(L134:L165,AN8)","v":8},{"$f":"AO8/(AQ4-AO20)","v":0.25},{"$f":"IF(AP8=0,0,(AP8*((LOG(AP8))/LOG(2))))","v":-0.5},null,{"$f":"N8","v":1112},{"$f":"COUNTIF(L166:L197,AS8)","v":9},{"$f":"AT8/(AV4-AT20)","v":0.29032258064516131},{"$f":"IF(AU8=0,0,(AU8*((LOG(AU8))/LOG(2))))","v":-0.5180142509839053}]
[12,317,14,328,13,332,23,341,null,null,0,1112,null,1121,{"$f":"COUNTIF($L$7:$L$500,N9)","v":6},{"$f":"O9/$Q$4","v":3.1578947368421054E-2},{"$f":"IF(P9=0,0,(P9*((LOG(P9))/LOG(2))))","v":-0.15741767708241444},null,null,{"$f":"N9","v":1121},{"$f":"COUNTIF(L7:L38,T9)","v":2},{"$f":"U9/(W4-U20)","v":6.25E-2},{"$f":"IF(V9=0,0,(V9*((LOG(V9))/LOG(2))))","v":-0.25},null,{"$f":"N9","v":1121},{"$f":"COUNTIF(L39:L70,Y9)","v":0},{"$f":"Z9/(AB4-Z20)","v":0},{"$f":"IF(AA9=0,0,(AA9*((LOG(AA9))/LOG(2))))","v":0},null,{"$f":"N9","v":1121},{"$f":"COUNTIF(L71:L101,AD9)","v":0},{"$f":"AE9/(AG4-AE20)","v":0},{"$f":"IF(AF9=0,0,(AF9*((LOG(AF9))/LOG(2))))","v":0},null,{"$f":"N9","v":1121},{"$f":"COUNTIF(L102:L133,AI9)","v":1},{"$f":"AJ9/(AL4-AJ20)","v":3.125E-2},{"$f":"IF(AK9=0,0,(AK9*((LOG(AK9))/LOG(2))))","v":-0.15625},null,{"$f":"N9","v":1121},{"$f":"COUNTIF(L134:L165,AN9)","v":1},{"$f":"AO9/(AQ4-AO20)","v":3.125E-2},{"$f":"IF(AP9=0,0,(AP9*((LOG(AP9))/LOG(2))))","v":-0.15625},null,{"$f":"N9","v":1121},{"$f":"COUNTIF(L166:L197,AS9)","v":2},{"$f":"AT9/(AV4-AT20)","v":6.4516129032258063E-2},{"$f":"IF(AU9=0,0,(AU9*((LOG(AU9))/LOG(2))))","v":-0.25510943937979835}]
[12,438,14,444,24,453,23,465,null,null,0,1122,null,1122,{"$f":"COUNTIF($L$7:$L$500,N10)","v":28},{"$f":"O10/$Q$4","v":0.14736842105263157},{"$f":"IF(P10=0,0,(P10*((LOG(P10))/LOG(2))))","v":-0.40710536429291377},null,null,{"$f":"N10","v":1122},{"$f":"COUNTIF(L7:L38,T10)","v":4},{"$f":"U10/(W4-U20)","v":0.125},{"$f":"IF(V10=0,0,(V10*((LOG(V10))/LOG(2))))","v":-0.375},null,{"$f":"N10","v":1122},{"$f":"COUNTIF(L39:L70,Y10)","v":4},{"$f":"Z10/(AB4-Z20)","v":0.125},{"$f":"IF(AA10=0,0,(AA10*((LOG(AA10))/LOG(2))))","v":-0.375},null,{"$f":"N10","v":1122},{"$f":"COUNTIF(L71:L101,AD10)","v":8},{"$f":"AE10/(AG4-AE20)","v":0.25806451612903225},{"$f":"IF(AF10=0,0,(AF10*((LOG(AF10))/LOG(2))))","v":-0.50430872526112902},null,{"$f":"N10","v":1122},{"$f":"COUNTIF(L102:L133,AI10)","v":5},{"$f":"AJ10/(AL4-AJ20)","v":0.15625},{"$f":"IF(AK10=0,0,(AK10*((LOG(AK10))/LOG(2))))","v":-0.41844873517384967},null,{"$f":"N10","v":1122},{"$f":"COUNTIF(L134:L165,AN10)","v":5},{"$f":"AO10/(AQ4-AO20)","v":0.15625},{"$f":"IF(AP10=0,0,(AP10*((LOG(AP10))/LOG(2))))","v":-0.41844873517384967},null,{"$f":"N10","v":1122},{"$f":"COUNTIF(L166:L197,AS10)","v":2},{"$f":"AT10/(AV4-AT20)","v":6.4516129032258063E-2},{"$f":"IF(AU10=0,0,(AU10*((LOG(AU10))/LOG(2))))","v":-0.25510943937979835}]
[12,564,14,574,13,582,14,585,null,null,0,1111,null,1211,{"$f":"COUNTIF($L$7:$L$500,N11)","v":0},{"$f":"O11/$Q$4","v":0},{"$f":"IF(P11=0,0,(P11*((LOG(P11))/LOG(2))))","v":0},null,null,{"$f":"N11","v":1211},{"$f":"COUNTIF(L7:L38,T11)","v":0},{"$f":"U11/(W4-U20)","v":0},{"$f":"IF(V11=0,0,(V11*((LOG(V11))/LOG(2))))","v":0},null,{"$f":"N11","v":1211},{"$f":"COUNTIF(L39:L70,Y11)","v":0},{"$f":"Z11/(AB4-Z20)","v":0},{"$f":"IF(AA11=0,0,(AA11*((LOG(AA11))/LOG(2))))","v":0},null,{"$f":"N11","v":1211},{"$f":"COUNTIF(L71:L101,AD11)","v":0},{"$f":"AE11/(AG4-AE20)","v":0},{"$f":"IF(AF11=0,0,(AF11*((LOG(AF11))/LOG(2))))","v":0},null,{"$f":"N11","v":1211},{"$f":"COUNTIF(L102:L133,AI11)","v":0},{"$f":"AJ11/(AL4-AJ20)","v":0},{"$f":"IF(AK11=0,0,(AK11*((LOG(AK11))/LOG(2))))","v":0},null,{"$f":"N11","v":1211},{"$f":"COUNTIF(L134:L165,AN11)","v":0},{"$f":"AO11/(AQ4-AO20)","v":0},{"$f":"IF(AP11=0,0,(AP11*((LOG(AP11))/LOG(2))))","v":0},null,{"$f":"N11","v":1211},{"$f":"COUNTIF(L166:L197,AS11)","v":0},{"$f":"AT11/(AV4-AT20)","v":0},{"$f":"IF(AU11=0,0,(AU11*((LOG(AU11))/LOG(2))))","v":0}]
[12,683,14,694,13,706,14,712,null,null,0,1111,null,1212,{"$f":"COUNTIF($L$7:$L$500,N12)","v":0},{"$f":"O12/$Q$4","v":0},{"$f":"IF(P12=0,0,(P12*((LOG(P12))/LOG(2))))","v":0},null,null,{"$f":"N12","v":1212},{"$f":"COUNTIF(L7:L38,T12)","v":0},{"$f":"U12/(W4-U20)","v":0},{"$f":"IF(V12=0,0,(V12*((LOG(V12))/LOG(2))))","v":0},null,{"$f":"N12","v":1212},{"$f":"COUNTIF(L39:L70,Y12)","v":0},{"$f":"Z12/(AB4-Z20)","v":0},{"$f":"IF(AA12=0,0,(AA12*((LOG(AA12))/LOG(2))))","v":0},null,{"$f":"N12","v":1212},{"$f":"COUNTIF(L71:L101,AD12)","v":0},{"$f":"AE12/(AG4-AE20)","v":0},{"$f":"IF(AF12=0,0,(AF12*((LOG(AF12))/LOG(2))))","v":0},null,{"$f":"N12","v":1212},{"$f":"COUNTIF(L102:L133,AI12)","v":0},{"$f":"AJ12/(AL4-AJ20)","v":0},{"$f":"IF(AK12=0,0,(AK12*((LOG(AK12))/LOG(2))))","v":0},null,{"$f":"N12","v":1212},{"$f":"COUNTIF(L134:L165,AN12)","v":0},{"$f":"AO12/(AQ4-AO20)","v":0},{"$f":"IF(AP12=0,0,(AP12*((LOG(AP12))/LOG(2))))","v":0},null,{"$f":"N12","v":1212},{"$f":"COUNTIF(L166:L197,AS12)","v":0},{"$f":"AT12/(AV4-AT20)","v":0},{"$f":"IF(AU12=0,0,(AU12*((LOG(AU12))/LOG(2))))","v":0}]
[12,831,14,837,13,844,14,849,null,null,0,1111,null,1221,{"$f":"COUNTIF($L$7:$L$500,N13)","v":2},{"$f":"O13/$Q$4","v":1.0526315789473684E-2},{"$f":"IF(P13=0,0,(P13*((LOG(P13))/LOG(2))))","v":-6.9156374824536293E-2},null,null,{"$f":"N13","v":1221},{"$f":"COUNTIF(L7:L38,T13)","v":0},{"$f":"U13/(W4-U20)","v":0},{"$f":"IF(V13=0,0,(V13*((LOG(V13))/LOG(2))))","v":0},null,{"$f":"N13","v":1221},{"$f":"COUNTIF(L39:L70,Y13)","v":2},{"$f":"Z13/(AB4-Z20)","v":6.25E-2},{"$f":"IF(AA13=0,0,(AA13*((LOG(AA13))/LOG(2))))","v":-0.25},null,{"$f":"N13","v":1221},{"$f":"COUNTIF(L71:L101,AD13)","v":0},{"$f":"AE13/(AG4-AE20)","v":0},{"$f":"IF(AF13=0,0,(AF13*((LOG(AF13))/LOG(2))))","v":0},null,{"$f":"N13","v":1221},{"$f":"COUNTIF(L102:L133,AI13)","v":0},{"$f":"AJ13/(AL4-AJ20)","v":0},{"$f":"IF(AK13=0,0,(AK13*((LOG(AK13))/LOG(2))))","v":0},null,{"$f":"N13","v":1221},{"$f":"COUNTIF(L134:L165,AN13)","v":0},{"$f":"AO13/(AQ4-AO20)","v":0},{"$f":"IF(AP13=0,0,(AP13*((LOG(AP13))/LOG(2))))","v":0},null,{"$f":"N13","v":1221},{"$f":"COUNTIF(L166:L197,AS13)","v":0},{"$f":"AT13/(AV4-AT20)","v":0},{"$f":"IF(AU13=0,0,(AU13*((LOG(AU13))/LOG(2))))","v":0}]
[12,951,14,972,13,976,14,984,null,null,0,1111,null,1222,{"$f":"COUNTIF($L$7:$L$500,N14)","v":4},{"$f":"O14/$Q$4","v":2.1052631578947368E-2},{"$f":"IF(P14=0,0,(P14*((LOG(P14))/LOG(2))))","v":-0.11726011807012522},null,null,{"$f":"N14","v":1222},{"$f":"COUNTIF(L7:L38,T14)","v":1},{"$f":"U14/(W4-U20)","v":3.125E-2},{"$f":"IF(V14=0,0,(V14*((LOG(V14))/LOG(2))))","v":-0.15625},null,{"$f":"N14","v":1222},{"$f":"COUNTIF(L39:L70,Y14)","v":0},{"$f":"Z14/(AB4-Z20)","v":0},{"$f":"IF(AA14=0,0,(AA14*((LOG(AA14))/LOG(2))))","v":0},null,{"$f":"N14","v":1222},{"$f":"COUNTIF(L71:L101,AD14)","v":0},{"$f":"AE14/(AG4-AE20)","v":0},{"$f":"IF(AF14=0,0,(AF14*((LOG(AF14))/LOG(2))))","v":0},null,{"$f":"N14","v":1222},{"$f":"COUNTIF(L102:L133,AI14)","v":3},{"$f":"AJ14/(AL4-AJ20)","v":9.375E-2},{"$f":"IF(AK14=0,0,(AK14*((LOG(AK14))/LOG(2))))","v":-0.32015976555739156},null,{"$f":"N14","v":1222},{"$f":"COUNTIF(L134:L165,AN14)","v":0},{"$f":"AO14/(AQ4-AO20)","v":0},{"$f":"IF(AP14=0,0,(AP14*((LOG(AP14))/LOG(2))))","v":0},null,{"$f":"N14","v":1222},{"$f":"COUNTIF(L166:L197,AS14)","v":0},{"$f":"AT14/(AV4-AT20)","v":0},{"$f":"IF(AU14=0,0,(AU14*((LOG(AU14))/LOG(2))))","v":0}]
[12,1085,23,1096,24,1104,23,1117,null,null,0,1222,null,2111,{"$f":"COUNTIF($L$7:$L$500,N15)","v":1},{"$f":"O15/$Q$4","v":5.263157894736842E-3},{"$f":"IF(P15=0,0,(P15*((LOG(P15))/LOG(2))))","v":-3.9841345307004991E-2},null,null,{"$f":"N15","v":2111},{"$f":"COUNTIF(L7:L38,T15)","v":0},{"$f":"U15/(W4-U20)","v":0},{"$f":"IF(V15=0,0,(V15*((LOG(V15))/LOG(2))))","v":0},null,{"$f":"N15","v":2111},{"$f":"COUNTIF(L39:L70,Y15)","v":0},{"$f":"Z15/(AB4-Z20)","v":0},{"$f":"IF(AA15=0,0,(AA15*((LOG(AA15))/LOG(2))))","v":0},null,{"$f":"N15","v":2111},{"$f":"COUNTIF(L71:L101,AD15)","v":0},{"$f":"AE15/(AG4-AE20)","v":0},{"$f":"IF(AF15=0,0,(AF15*((LOG(AF15))/LOG(2))))","v":0},null,{"$f":"N15","v":2111},{"$f":"COUNTIF(L102:L133,AI15)","v":0},{"$f":"AJ15/(AL4-AJ20)","v":0},{"$f":"IF(AK15=0,0,(AK15*((LOG(AK15))/LOG(2))))","v":0},null,{"$f":"N15","v":2111},{"$f":"COUNTIF(L134:L165,AN15)","v":1},{"$f":"AO15/(AQ4-AO20)","v":3.125E-2},{"$f":"IF(AP15=0,0,(AP15*((LOG(AP15))/LOG(2))))","v":-0.15625},null,{"$f":"N15","v":2111},{"$f":"COUNTIF(L166:L197,AS15)","v":0},{"$f":"AT15/(AV4-AT20)","v":0},{"$f":"IF(AU15=0,0,(AU15*((LOG(AU15))/LOG(2))))","v":0}]
[12,1214,14,1244,13,1248,14,1253,null,null,0,1111,null,2112,{"$f":"COUNTIF($L$7:$L$500,N16)","v":0},{"$f":"O16/$Q$4","v":0},{"$f":"IF(P16=0,0,(P16*((LOG(P16))/LOG(2))))","v":0},null,null,{"$f":"N16","v":2112},{"$f":"COUNTIF(L7:L38,T16)","v":0},{"$f":"U16/(W4-U20)","v":0},{"$f":"IF(V16=0,0,(V16*((LOG(V16))/LOG(2))))","v":0},null,{"$f":"N16","v":2112},{"$f":"COUNTIF(L39:L70,Y16)","v":0},{"$f":"Z16/(AB4-Z20)","v":0},{"$f":"IF(AA16=0,0,(AA16*((LOG(AA16))/LOG(2))))","v":0},null,{"$f":"N16","v":2112},{"$f":"COUNTIF(L71:L101,AD16)","v":0},{"$f":"AE16/(AG4-AE20)","v":0},{"$f":"IF(AF16=0,0,(AF16*((LOG(AF16))/LOG(2))))","v":0},null,{"$f":"N16","v":2112},{"$f":"COUNTIF(L102:L133,AI16)","v":0},{"$f":"AJ16/(AL4-AJ20)","v":0},{"$f":"IF(AK16=0,0,(AK16*((LOG(AK16))/LOG(2))))","v":0},null,{"$f":"N16","v":2112},{"$f":"COUNTIF(L134:L165,AN16)","v":0},{"$f":"AO16/(AQ4-AO20)","v":0},{"$f":"IF(AP16=0,0,(AP16*((LOG(AP16))/LOG(2))))","v":0},null,{"$f":"N16","v":2112},{"$f":"COUNTIF(L166:L197,AS16)","v":0},{"$f":"AT16/(AV4-AT20)","v":0},{"$f":"IF(AU16=0,0,(AU16*((LOG(AU16))/LOG(2))))","v":0}]
[12,1353,14,1370,13,1373,14,1377,null,null,0,1111,null,2121,{"$f":"COUNTIF($L$7:$L$500,N17)","v":0},{"$f":"O17/$Q$4","v":0},{"$f":"IF(P17=0,0,(P17*((LOG(P17))/LOG(2))))","v":0},null,null,{"$f":"N17","v":2121},{"$f":"COUNTIF(L7:L38,T17)","v":0},{"$f":"U17/(W4-U20)","v":0},{"$f":"IF(V17=0,0,(V17*((LOG(V17))/LOG(2))))","v":0},null,{"$f":"N17","v":2121},{"$f":"COUNTIF(L39:L70,Y17)","v":0},{"$f":"Z17/(AB4-Z20)","v":0},{"$f":"IF(AA17=0,0,(AA17*((LOG(AA17))/LOG(2))))","v":0},null,{"$f":"N17","v":2121},{"$f":"COUNTIF(L71:L101,AD17)","v":0},{"$f":"AE17/(AG4-AE20)","v":0},{"$f":"IF(AF17=0,0,(AF17*((LOG(AF17))/LOG(2))))","v":0},null,{"$f":"N17","v":2121},{"$f":"COUNTIF(L102:L133,AI17)","v":0},{"$f":"AJ17/(AL4-AJ20)","v":0},{"$f":"IF(AK17=0,0,(AK17*((LOG(AK17))/LOG(2))))","v":0},null,{"$f":"N17","v":2121},{"$f":"COUNTIF(L134:L165,AN17)","v":0},{"$f":"AO17/(AQ4-AO20)","v":0},{"$f":"IF(AP17=0,0,(AP17*((LOG(AP17))/LOG(2))))","v":0},null,{"$f":"N17","v":2121},{"$f":"COUNTIF(L166:L197,AS17)","v":0},{"$f":"AT17/(AV4-AT20)","v":0},{"$f":"IF(AU17=0,0,(AU17*((LOG(AU17))/LOG(2))))","v":0}]
[12,1481,14,1493,13,1497,14,1502,null,null,0,1111,null,2122,{"$f":"COUNTIF($L$7:$L$500,N18)","v":0},{"$f":"O18/$Q$4","v":0},{"$f":"IF(P18=0,0,(P18*((LOG(P18))/LOG(2))))","v":0},null,null,{"$f":"N18","v":2122},{"$f":"COUNTIF(L7:L38,T18)","v":0},{"$f":"U18/(W4-U20)","v":0},{"$f":"IF(V18=0,0,(V18*((LOG(V18))/LOG(2))))","v":0},null,{"$f":"N18","v":2122},{"$f":"COUNTIF(L39:L70,Y18)","v":0},{"$f":"Z18/(AB4-Z20)","v":0},{"$f":"IF(AA18=0,0,(AA18*((LOG(AA18))/LOG(2))))","v":0},null,{"$f":"N18","v":2122},{"$f":"COUNTIF(L71:L101,AD18)","v":0},{"$f":"AE18/(AG4-AE20)","v":0},{"$f":"IF(AF18=0,0,(AF18*((LOG(AF18))/LOG(2))))","v":0},null,{"$f":"N18","v":2122},{"$f":"COUNTIF(L102:L133,AI18)","v":0},{"$f":"AJ18/(AL4-AJ20)","v":0},{"$f":"IF(AK18=0,0,(AK18*((LOG(AK18))/LOG(2))))","v":0},null,{"$f":"N18","v":2122},{"$f":"COUNTIF(L134:L165,AN18)","v":0},{"$f":"AO18/(AQ4-AO20)","v":0},{"$f":"IF(AP18=0,0,(AP18*((LOG(AP18))/LOG(2))))","v":0},null,{"$f":"N18","v":2122},{"$f":"COUNTIF(L166:L197,AS18)","v":0},{"$f":"AT18/(AV4-AT20)","v":0},{"$f":"IF(AU18=0,0,(AU18*((LOG(AU18))/LOG(2))))","v":0}]
[12,1597,14,1603,13,1615,14,1619,null,null,0,1111,null,2211,{"$f":"COUNTIF($L$7:$L$500,N19)","v":0},{"$f":"O19/$Q$4","v":0},{"$f":"IF(P19=0,0,(P19*((LOG(P19))/LOG(2))))","v":0},null,null,{"$f":"N19","v":2211},{"$f":"COUNTIF(L7:L38,T19)","v":0},{"$f":"U19/(W4-U20)","v":0},{"$f":"IF(V19=0,0,(V19*((LOG(V19))/LOG(2))))","v":0},null,{"$f":"N19","v":2211},{"$f":"COUNTIF(L39:L70,Y19)","v":0},{"$f":"Z19/(AB4-Z20)","v":0},{"$f":"IF(AA19=0,0,(AA19*((LOG(AA19))/LOG(2))))","v":0},null,{"$f":"N19","v":2211},{"$f":"COUNTIF(L71:L101,AD19)","v":0},{"$f":"AE19/(AG4-AE20)","v":0},{"$f":"IF(AF19=0,0,(AF19*((LOG(AF19))/LOG(2))))","v":0},null,{"$f":"N19","v":2211},{"$f":"COUNTIF(L102:L133,AI19)","v":0},{"$f":"AJ19/(AL4-AJ20)","v":0},{"$f":"IF(AK19=0,0,(AK19*((LOG(AK19))/LOG(2))))","v":0},null,{"$f":"N19","v":2211},{"$f":"COUNTIF(L134:L165,AN19)","v":0},{"$f":"AO19/(AQ4-AO20)","v":0},{"$f":"IF(AP19=0,0,(AP19*((LOG(AP19))/LOG(2))))","v":0},null,{"$f":"N19","v":2211},{"$f":"COUNTIF(L166:L197,AS19)","v":0},{"$f":"AT19/(AV4-AT20)","v":0},{"$f":"IF(AU19=0,0,(AU19*((LOG(AU19))/LOG(2))))","v":0}]
[12,1717,14,1721,13,1725,23,1741,null,null,0,1112,null,2212,{"$f":"COUNTIF($L$7:$L$500,N20)","v":0},{"$f":"O20/$Q$4","v":0},{"$f":"IF(P20=0,0,(P20*((LOG(P20))/LOG(2))))","v":0},null,null,{"$f":"N20","v":2212},{"$f":"COUNTIF(L7:L38,T20)","v":0},null,null,null,{"$f":"N20","v":2212},{"$f":"COUNTIF(L39:L70,Y20)","v":0},null,null,null,{"$f":"N20","v":2212},{"$f":"COUNTIF(L71:L101,AD20)","v":0},null,null,null,{"$f":"N20","v":2212},{"$f":"COUNTIF(L102:L133,AI20)","v":0},null,null,null,{"$f":"N20","v":2212},{"$f":"COUNTIF(L134:L165,AN20)","v":0},null,null,null,{"$f":"N20","v":2212},{"$f":"COUNTIF(L166:L197,AS20)","v":0}]
[12,1839,14,1845,24,1855,14,1873,null,null,0,1121,null,2221,{"$f":"COUNTIF($L$7:$L$500,N21)","v":0},{"$f":"O21/$Q$4","v":0},{"$f":"IF(P21=0,0,(P21*((LOG(P21))/LOG(2))))","v":0},null,null,{"$f":"N21","v":2221},{"$f":"COUNTIF(L7:L38,T21)","v":0},{"$f":"U21/(W4-U20)","v":0},{"$f":"IF(V21=0,0,(V21*((LOG(V21))/LOG(2))))","v":0},null,{"$f":"N21","v":2221},{"$f":"COUNTIF(L39:L70,Y21)","v":0},{"$f":"Z21/(AB4-Z20)","v":0},{"$f":"IF(AA21=0,0,(AA21*((LOG(AA21))/LOG(2))))","v":0},null,{"$f":"N21","v":2221},{"$f":"COUNTIF(L71:L101,AD21)","v":0},{"$f":"AE21/(AG4-AE20)","v":0},{"$f":"IF(AF21=0,0,(AF21*((LOG(AF21))/LOG(2))))","v":0},null,{"$f":"N21","v":2221},{"$f":"COUNTIF(L102:L133,AI21)","v":0},{"$f":"AJ21/(AL4-AJ20)","v":0},{"$f":"IF(AK21=0,0,(AK21*((LOG(AK21))/LOG(2))))","v":0},null,{"$f":"N21","v":2221},{"$f":"COUNTIF(L134:L165,AN21)","v":0},{"$f":"AO21/(AQ4-AO20)","v":0},{"$f":"IF(AP21=0,0,(AP21*((LOG(AP21))/LOG(2))))","v":0},null,{"$f":"N21","v":2221},{"$f":"COUNTIF(L166:L197,AS21)","v":0},{"$f":"AT21/(AV4-AT20)","v":0},{"$f":"IF(AU21=0,0,(AU21*((LOG(AU21))/LOG(2))))","v":0}]
[12,1978,14,1982,13,1986,14,1993,null,null,0,1111,null,2222,{"$f":"COUNTIF($L$7:$L$500,N22)","v":1},{"$f":"O22/$Q$4","v":5.263157894736842E-3},{"$f":"IF(P22=0,0,(P22*((LOG(P22))/LOG(2))))","v":-3.9841345307004991E-2},null,null,{"$f":"N22","v":2222},{"$f":"COUNTIF(L7:L38,T22)","v":1},{"$f":"U22/(W4-U20)","v":3.125E-2},{"$f":"IF(V22=0,0,(V22*((LOG(V22))/LOG(2))))","v":-0.15625},null,{"$f":"N22","v":2222},{"$f":"COUNTIF(L39:L70,Y22)","v":0},{"$f":"Z22/(AB4-Z20)","v":0},{"$f":"IF(AA22=0,0,(AA22*((LOG(AA22))/LOG(2))))","v":0},null,{"$f":"N22","v":2222},{"$f":"COUNTIF(L71:L101,AD22)","v":0},{"$f":"AE22/(AG4-AE20)","v":0},{"$f":"IF(AF22=0,0,(AF22*((LOG(AF22))/LOG(2))))","v":0},null,{"$f":"N22","v":2222},{"$f":"COUNTIF(L102:L133,AI22)","v":0},{"$f":"AJ22/(AL4-AJ20)","v":0},{"$f":"IF(AK22=0,0,(AK22*((LOG(AK22))/LOG(2))))","v":0},null,{"$f":"N22","v":2222},{"$f":"COUNTIF(L134:L165,AN22)","v":0},{"$f":"AO22/(AQ4-AO20)","v":0},{"$f":"IF(AP22=0,0,(AP22*((LOG(AP22))/LOG(2))))","v":0},null,{"$f":"N22","v":2222},{"$f":"COUNTIF(L166:L197,AS22)","v":0},{"$f":"AT22/(AV4-AT20)","v":0},{"$f":"IF(AU22=0,0,(AU22*((LOG(AU22))/LOG(2))))","v":0}]
[12,2088,14,2098,13,2102,23,2114,null,null,0,1112,null,null,null,{"$f":"SUM(P7:P22)","v":1},{"$f":"-SUM(Q7:Q22)","v":1.7885878365989849},null,null,null,null,{"$f":"SUM(V7:V22)","v":1},{"$f":"-SUM(W7:W22)","v":1.8024917740667208},null,null,null,{"$f":"SUM(AA7:AA22)","v":1},{"$f":"-SUM(AB7:AB22)","v":1.4422404264752884},null,null,null,{"$f":"SUM(AF7:AF22)","v":1},{"$f":"-SUM(AG7:AG22)","v":1.5153782802537208},null,null,null,{"$f":"SUM(AK7:AK22)","v":1},{"$f":"-SUM(AL7:AL22)","v":1.9072535340397483},null,null,null,{"$f":"SUM(AP7:AP22)","v":1},{"$f":"-SUM(AQ7:AQ22)","v":1.715734100759607},null,null,null,{"$f":"SUM(AU7:AU22)","v":1},{"$f":"-SUM(AV7:AV22)","v":1.4836164704209902}]
[12,2211,14,2216,13,2228,14,2232,null,null,0,1111,null,null,null,"U=",{"$f":"Q23/(LOG(Q4)/LOG(2))","v":0.23627766884094434},null,null,null,null,"U1=",{"$f":"W23/(LOG(W4)/LOG(2))","v":0.36049835481334414},null,null,null,"U2=",{"$f":"AB23/(LOG(AB4)/LOG(2))","v":0.28844808529505767},null,null,null,"U3=",{"$f":"AG23/(LOG(AG4)/LOG(2))","v":0.30587772169556687},null,null,null,"U4=",{"$f":"AL23/(LOG(AL4)/LOG(2))","v":0.38145070680794968},null,null,null,"U5=",{"$f":"AQ23/(LOG(AQ4)/LOG(2))","v":0.34314682015192138},null,null,null,"U6=",{"$f":"AV23/(LOG(AV4)/LOG(2))","v":0.29946662939263585}]
[12,2337,14,2341,13,2345,14,2358,null,null,0,1111]
[12,2459,14,2463,13,2467,14,2471,null,null,0,1111]
[12,2576,14,2580,13,2585,14,2593,null,null,0,1111,null,"Total Target Seq"]
[12,2700,14,2712,13,2717,14,2726,null,null,0,1111,null,{"$f":"COUNTIF(L7:L197,G3)","v":0},null,32,32,31,32,32,32]
[12,2827,14,2833,24,2844,23,2853,null,null,0,1122,null,null,null,"% of reinforcement given in 6 equal intervals based on number of trials "]
[12,2953,14,2957,13,2962,14,2970,null,null,0,1111,null,null,null,"%_1","%_2","%_3","%_4","%_5","%_6"]
[12,3071,14,3076,13,3080,14,3083,null,null,0,1111,null,null,"target sequence",{"$f":"$G$3","v":2212},{"$f":"$G$3","v":2212},{"$f":"$G$3","v":2212},{"$f":"$G$3","v":2212},{"$f":"$G$3","v":2212},{"$f":"$G$3","v":2212}]
[12,3189,14,3197,13,3201,23,3215,null,null,0,1112,null,null,"total reinforcement",{"$f":"U20","v":0},{"$f":"Z20","v":0},{"$f":"AE20","v":0},{"$f":"AJ20","v":0},{"$f":"AO20","v":0},{"$f":"AT20","v":0}]
[12,3316,14,3319,13,3330,14,3339,null,null,0,1111,null,null,"% target"]
[12,3439,14,3444,24,3455,23,3466,null,null,0,1122,null,null,"CCRF"]
[12,3570,14,3574,24,3598,14,3621,null,null,0,1121,null,null,"% CCRf"]
[12,3723,14,3727,13,3730,23,3743,null,null,0,1112,null,null,"average response rate",{"$f":"H38/P28","v":124.34375},{"$f":"(H70-H38)/Q28","v":121.03125},{"$f":"(H101-H70)/R28","v":126.54838709677419},{"$f":"(H133-H101)/S28","v":126.78125},{"$f":"(H165-H133)/T28","v":129.28125},{"$f":"(H197-H165)/U28","v":-624.03125}]
[12,3845,14,3848,13,3852,14,3856,null,null,0,1111]
[12,3957,14,3961,13,3975,14,3979,null,null,0,1111]
[12,4081,14,4093,24,4109,23,4117,null,null,0,1122]
[12,4214,14,4218,13,4226,23,4239,null,null,0,1112]
[12,4339,14,4342,13,4346,14,4354,null,null,0,1111]
[12,4450,14,4454,13,4458,14,4462,null,null,0,1111]
[12,4562,14,4566,13,4570,14,4574,null,null,0,1111]
[12,4667,14,4672,13,4675,14,4679,null,null,0,1111]
[12,4789,14,4794,13,4798,23,4809,null,null,0,1112]
[12,4910,14,4914,13,4918,23,4929,null,null,0,1112]
[12,5027,14,5030,13,5034,14,5038,null,null,0,1111]
[12,5134,14,5138,13,5142,14,5146,null,null,0,1111]
[12,5238,14,5253,13,5257,23,5269,null,null,0,1112]
[12,5376,14,5380,13,5388,14,5391,null,null,0,1111]
[12,5489,14,5496,13,5508,14,5512,null,null,0,1111]
[12,5616,14,5623,13,5626,14,5630,null,null,0,1111]
[12,5726,14,5730,13,5734,14,5745,null,null,0,1111]
[12,5846,14,5853,13,5857,14,5884,null,null,0,1111]
[12,5984,14,5988,13,5993,14,5997,null,null,0,1111]
[12,6096,14,6100,13,6104,14,6107,null,null,0,1111]
[12,6210,14,6214,13,6217,14,6226,null,null,0,1111]
[12,6322,14,6335,24,6344,23,6364,null,null,0,1122]
[12,6461,23,6473,24,6484,14,6501,null,null,0,1221]
[12,6601,14,6605,13,6610,14,6620,null,null,0,1111]
[12,6722,14,6726,13,6729,14,6737,null,null,0,1111]
[12,6836,14,6839,24,6853,23,6864,null,null,0,1122]
[12,6972,14,6976,13,6980,14,6983,null,null,0,1111]
[12,7075,14,7080,13,7092,14,7096,null,null,0,1111]
[12,7194,14,7197,13,7201,14,7213,null,null,0,1111]
[12,7309,23,7334,24,7343,14,7364,null,null,0,1221]
[12,7462,14,7468,13,7482,14,7489,null,null,0,1111]
[12,7586,14,7590,13,7601,23,7615,null,null,0,1112]
[12,7716,14,7720,24,7731,23,7740,null,null,0,1122]
[12,7836,14,7841,13,7848,14,7852,null,null,0,1111]
[12,7948,14,7952,13,7963,14,7967,null,null,0,1111]
[12,8064,14,8078,13,8082,23,8094,null,null,0,1112]
[12,8194,14,8198,13,8212,14,8216,null,null,0,1111]
[12,8312,14,8316,13,8327,14,8330,null,null,0,1111]
[12,8431,14,8441,24,8456,23,8468,null,null,0,1122]
[12,8560,14,8564,13,8574,23,8589,null,null,0,1112]
[12,8690,14,8698,13,8704,14,8711,null,null,0,1111]
[12,8808,14,8812,13,8824,14,8831,null,null,0,1111]
[12,8928,14,8942,24,8954,23,8966,null,null,0,1122]
[12,9066,14,9076,24,9092,23,9103,null,null,0,1122]
[12,9203,14,9214,24,9224,23,9235,null,null,0,1122]
[12,9333,14,9337,13,9341,14,9345,null,null,0,1111]
[12,9446,14,9450,13,9454,14,9465,null,null,0,1111]
[12,9565,14,9583,13,9587,23,9599,null,null,0,1112]
[12,9695,14,9699,13,9709,14,9720,null,null,0,1111]
[12,9819,14,9823,13,9830,14,9834,null,null,0,1111]
[12,9935,14,9950,13,9954,23,9970,null,null,0,1112]
[12,10073,14,10090,24,10126,23,10149,null,null,0,1122]
[12,10248,14,10252,13,10256,14,10264,null,null,0,1111]
[12,10364,14,10371,13,10378,23,10390,null,null,0,1112]
[12,10490,14,10494,13,10498,14,10520,null,null,0,1111]
[12,10617,14,10626,13,10637,14,10644,null,null,0,1111]
[12,10739,14,10758,24,10766,23,10773,null,null,0,1122]
[12,10869,14,10879,13,10885,14,10892,null,null,0,1111]
[12,10987,14,10993,13,11004,23,11014,null,null,0,1112]
[12,11111,14,11122,13,11133,23,11147,null,null,0,1112]
[12,11243,14,11247,13,11254,14,11261,null,null,0,1111]
[12,11363,14,11380,24,11391,23,11402,null,null,0,1122]
[12,11502,14,11513,13,11517,23,11528,null,null,0,1112]
[12,11630,14,11633,13,11637,14,11641,null,null,0,1111]
[12,11737,14,11756,24,11767,23,11775,null,null,0,1122]
[12,11870,14,11876,24,11887,14,11899,null,null,0,1121]
[12,11996,14,12000,24,12021,23,12032,null,null,0,1122]
[12,12131,14,12138,13,12148,14,12152,null,null,0,1111]
[12,12256,14,12260,13,12269,14,12275,null,null,0,1111]
[12,12373,14,12379,13,12389,14,12393,null,null,0,1111]
[12,12494,14,12502,13,12508,14,12512,null,null,0,1111]
[12,12610,14,12614,13,12632,23,12643,null,null,0,1112]
[12,12745,14,12753,13,12757,14,12761,null,null,0,1111]
[12,12856,14,12862,13,12869,14,12876,null,null,0,1111]
[12,12991,14,12999,24,13011,23,13023,null,null,0,1122]
[12,13120,14,13124,13,13127,14,13137,null,null,0,1111]
[12,13239,14,13247,13,13257,14,13260,null,null,0,1111]
[12,13359,14,13375,13,13379,14,13391,null,null,0,1111]
[12,13491,14,13500,13,13507,23,13521,null,null,0,1112]
[12,13618,14,13626,13,13637,23,13653,null,null,0,1112]
[12,13748,14,13751,13,13756,14,13766,null,null,0,1111]
[12,13862,14,13875,24,13886,23,13899,null,null,0,1122]
[12,13999,14,14003,13,14012,23,14022,null,null,0,1112]
[12,14123,14,14127,24,14143,23,14155,null,null,0,1122]
[12,14251,23,14269,24,14277,23,14297,null,null,0,1222]
[12,14397,14,14401,13,14407,23,14418,null,null,0,1112]
[12,14516,14,14520,13,14534,14,14539,null,null,0,1111]
[12,14639,14,14642,13,14657,14,14660,null,null,0,1111]
[12,14779,14,14787,13,14794,14,14801,null,null,0,1111]
[12,14901,14,14913,24,14924,23,14931,null,null,0,1122]
[12,15029,23,15045,24,15053,23,15062,null,null,0,1222]
[12,15161,14,15164,13,15174,14,15182,null,null,0,1111]
[12,15273,23,15296,24,15305,23,15317,null,null,0,1222]
[12,15416,14,15420,13,15431,23,15446,null,null,0,1112]
[12,15550,14,15554,13,15565,23,15579,null,null,0,1112]
[12,15678,14,15686,13,15697,23,15710,null,null,0,1112]
[12,15813,14,15817,13,15828,14,15832,null,null,0,1111]
[12,15931,14,15935,13,15939,14,15947,null,null,0,1111]
[12,16047,14,16057,13,16061,14,16068,null,null,0,1111]
[12,16165,14,16169,13,16178,14,16184,null,null,0,1111]
[12,16283,14,16287,24,16303,23,16328,null,null,0,1122]
[12,16425,14,16429,13,16439,14,16445,null,null,0,1111]
[12,16548,14,16552,13,16570,14,16581,null,null,0,1111]
[12,16679,14,16689,13,16694,23,16704,null,null,0,1112]
[12,16808,14,16819,13,16824,23,16836,null,null,0,1112]
[12,16937,14,16948,13,16959,14,16962,null,null,0,1111]
[12,17061,14,17066,13,17075,23,17087,null,null,0,1112]
[12,17190,14,17195,13,17203,14,17212,null,null,0,1111]
[12,17308,14,17313,13,17323,23,17334,null,null,0,1112]
[12,17431,14,17435,24,17454,23,17462,null,null,0,1122]
[12,17564,14,17573,24,17583,23,17595,null,null,0,1122]
[12,17692,14,17708,24,17720,23,17748,null,null,0,1122]
[12,17847,14,17853,13,17866,14,17871,null,null,0,1111]
[12,17968,14,17979,24,17996,14,18015,null,null,0,1121]
[12,18121,14,18125,13,18141,23,18174,null,null,0,1112]
[12,18271,14,18277,13,18283,14,18292,null,null,0,1111]
[12,18390,14,18398,13,18410,23,18422,null,null,0,1112]
[12,18521,14,18535,13,18545,14,18553,null,null,0,1111]
[12,18652,14,18659,13,18673,14,18677,null,null,0,1111]
[12,18779,14,18787,13,18797,14,18802,null,null,0,1111]
[12,18896,14,18907,24,18923,23,18935,null,null,0,1122]
[12,19033,14,19040,13,19045,23,19062,null,null,0,1112]
[12,19159,14,19163,13,19181,14,19187,null,null,0,1111]
[12,19286,14,19292,13,19307,14,19317,null,null,0,1111]
[12,19416,14,19423,13,19434,23,19449,null,null,0,1112]
[12,19549,14,19557,13,19572,14,19586,null,null,0,1111]
[21,19699,12,19714,13,19719,14,19727,null,null,0,2111]
[12,19825,14,19842,13,19846,14,19853,null,null,0,1111]
[12,19951,14,19957,13,19961,14,19969,null,null,0,1111]
[12,20068,14,20072,13,20079,14,20090,null,null,0,1111]
[12,20193,14,20197,13,20201,14,20208,null,null,0,1111]
[12,20305,14,20309,13,20314,14,20323,null,null,0,1111]
[12,20417,14,20424,13,20437,14,20441,null,null,0,1111]
[12,20539,14,20559,13,20573,14,20587,null,null,0,1111]
[12,20688,14,20693,24,20712,23,20723,null,null,0,1122]
[12,20821,14,20829,13,20836,23,20851,null,null,0,1112]
[12,20955,14,20963,13,20967,14,20977,null,null,0,1111]
[12,21073,14,21109,24,21122,14,21134,null,null,0,1121]
[12,21228,14,21232,13,21236,14,21247,null,null,0,1111]
[12,21345,14,21349,13,21368,14,21372,null,null,0,1111]
[12,21469,14,21482,13,21489,14,21495,null,null,0,1111]
[12,21594,14,21598,13,21613,14,21620,null,null,0,1111]
[12,21716,14,21722,13,21733,14,21741,null,null,0,1111]
[12,21838,14,21848,13,21852,23,21863,null,null,0,1112]
[12,21959,14,21964,13,21974,23,21987,null,null,0,1112]
[12,22083,14,22087,13,22094,14,22098,null,null,0,1111]
[12,22195,14,22199,24,22213,14,22240,null,null,0,1121]
[12,22333,14,22337,13,22348,14,22351,null,null,0,1111]
[12,22463,14,22471,13,22475,23,22490,null,null,0,1112]
[12,22588,14,22591,13,22603,14,22607,null,null,0,1111]
[12,22706,14,22711,13,22720,14,22724,null,null,0,1111]
[12,22824,14,22829,13,22845,23,22856,null,null,0,1112]
[12,22973,14,22977,13,22981,23,22994,null,null,0,1112]
[12,23097,14,23115,13,23119,23,23131,null,null,0,1112]
[12,23232,14,23247,13,23256,23,23275,null,null,0,1112]
[12,23376,14,23380,13,23384,14,23387,null,null,0,1111]
[12,23487,14,23500,24,23515,23,23525,null,null,0,1122]
[12,23618,14,23634,13,23638,23,23658,null,null,0,1112]
[12,23755,14,23766,13,23769,14,23774,null,null,0,1111]
[12,23874,14,23878,13,23892,14,23900,null,null,0,1111]
[12,24000,null,null,null,null,null,null,null,null,null,1]

{"sheet":"!M829920.104","index":15,"n_rows":192,"n_cols":48,"rows_kept":192,"cut":false,"hidden":false,"merged":[[4,39,4,42],[5,39,5,40],[4,44,4,47],[5,44,5,45],[4,24,4,27],[5,24,5,25],[4,29,4,32],[5,29,5,30],[4,34,4,37],[5,34,5,35],[1,1,1,2],[5,13,5,14],[26,13,26,14],[27,13,27,14],[4,19,4,22],[5,19,5,20]]}
["Report for:!M829920.104"]
["Date:","<date>"]
["Hen:","<hen>",null,null,null,"Correct Sequence",{"$f":"Start!J2","v":2212},null,null,null,null,null,null,null,null,"Total Sequences in Data",{"$f":"4994-COUNTBLANK(L7:L5000)","v":186},null,null,null,null,"Total Sequences in Block Data",{"$f":"COUNTA(L7:L37)","v":31},null,null,null,"Total Sequences in Block Data",{"$f":"COUNTA(L38:L68)","v":31},null,null,null,"Total Sequences in Block Data",{"$f":"COUNTA(L69:L99)","v":31},null,null,null,"Total Sequences in Block Data",{"$f":"COUNTA(L100:L130)","v":31},null,null,null,"Total Sequences in Block Data",{"$f":"COUNTA(L131:L161)","v":31},null,null,null,"Total Sequences in Block Data",{"$f":"COUNTA(L162:L192)","v":31}]
[null,null,null,null,null,null,null,null,null,null,null,null,null,null,null,"Total Sequences in Summary",{"$f":"SUM(O7:O22)","v":185},null,null,null,null,"Total Sequences in Block Summary",{"$f":"SUM(U7:U22)","v":31},null,null,null,"Total Sequences in Block Summary",{"$f":"SUM(Z7:Z22)","v":31},null,null,null,"Total Sequences in Block Summary",{"$f":"SUM(AE7:AE22)","v":31},null,null,null,"Total Sequences in Block Summary",{"$f":"SUM(AJ7:AJ22)","v":31},null,null,null,"Total Sequences in Block Summary",{"$f":"SUM(AO7:AO22)","v":31},null,null,null,"Total Sequences in Block Summary",{"$f":"SUM(AT7:AT22)","v":30}]
[null,null,null,null,null,null,null,null,null,null,null,null,null,null,null,null,null,null,null,"Block 1",null,null,null,null,"Block 2",null,null,null,null,"Block 3",null,null,null,null,"Block 4",null,null,null,null,"Block 5",null,null,null,null,"Block 6"]
["Sequence\nComponent\n1","Time\n1","Sequence\nComponent\n2","Time\n2","Sequence\nComponent\n3","Time\n3","Sequence\nComponent\n4","Time\n4","Sequence\nComponent\n5","Time\n5","Correct?\n0=No 1=Yes","Sequence",null,"Frequency",null,"Relative Frequency","Variability",null,null,"Frequency",null,"Relative Frequency","Variability",null,"Frequency",null,"Relative Frequency","Variability",null,"Frequency",null,"Relative Frequency","Variability",null,"Frequency",null,"Relative Frequency","Variability",null,"Frequency",null,"Relative Frequency","Variability",null,"Frequency",null,"Relative Frequency","Variability"]
[21,36,21,45,22,53,23,67,null,null,0,2222,null,1111,{"$f":"COUNTIF($L$7:$L$500,N7)","v":87},{"$f":"O7/$Q$4","v":0.4702702702702703},{"$f":"IF(P7=0,0,(P7*((LOG(P7))/LOG(2))))","v":-0.51186001581664753},null,null,{"$f":"N7","v":1111},{"$f":"COUNTIF(L7:L37,T7)","v":19},{"$f":"U7/(W4-U20)","v":0.61290322580645162},{"$f":"IF(V7=0,0,(V7*((LOG(V7))/LOG(2))))","v":-0.43287442393298403},null,{"$f":"N7","v":1111},{"$f":"COUNTIF(L38:L68,Y7)","v":17},{"$f":"Z7/(AB4-Z20)","v":0.54838709677419351},{"$f":"IF(AA7=0,0,(AA7*((LOG(AA7))/LOG(2))))","v":-0.47530545081681003},null,{"$f":"N7","v":1111},{"$f":"COUNTIF(L69:L99,AD7)","v":7},{"$f":"AE7/(AG4-AE20)","v":0.22580645161290322},{"$f":"IF(AF7=0,0,(AF7*((LOG(AF7))/LOG(2))))","v":-0.48477063607435156},null,{"$f":"N7","v":1111},{"$f":"COUNTIF(L100:L130,AI7)","v":13},{"$f":"AJ7/(AL4-AJ20)","v":0.41935483870967744},{"$f":"IF(AK7=0,0,(AK7*((LOG(AK7))/LOG(2))))","v":-0.52576889352242517},null,{"$f":"N7","v":1111},{"$f":"COUNTIF(L131:L161,AN7)","v":16},{"$f":"AO7/(AQ4-AO20)","v":0.5161290322580645},{"$f":"IF(AP7=0,0,(AP7*((LOG(AP7))/LOG(2))))","v":-0.49248841826419365},null,{"$f":"N7","v":1111},{"$f":"COUNTIF(L162:L192,AS7)","v":15},{"$f":"AT7/(AV4-AT20)","v":0.5},{"$f":"IF(AU7=0,0,(AU7*((LOG(AU7))/LOG(2))))","v":-0.5}]
[12,169,14,176,13,182,14,186,null,null,0,1111,null,1112,{"$f":"COUNTIF($L$7:$L$500,N8)","v":50},{"$f":"O8/$Q$4","v":0.27027027027027029},{"$f":"IF(P8=0,0,(P8*((LOG(P8))/LOG(2))))","v":-0.51014196506529386},null,null,{"$f":"N8","v":1112},{"$f":"COUNTIF(L7:L37,T8)","v":5},{"$f":"U8/(W4-U20)","v":0.16129032258064516},{"$f":"IF(V8=0,0,(V8*((LOG(V8))/LOG(2))))","v":-0.42455938959669559},null,{"$f":"N8","v":1112},{"$f":"COUNTIF(L38:L68,Y8)","v":5},{"$f":"Z8/(AB4-Z20)","v":0.16129032258064516},{"$f":"IF(AA8=0,0,(AA8*((LOG(AA8))/LOG(2))))","v":-0.42455938959669559},null,{"$f":"N8","v":1112},{"$f":"COUNTIF(L69:L99,AD8)","v":8},{"$f":"AE8/(AG4-AE20)","v":0.25806451612903225},{"$f":"IF(AF8=0,0,(AF8*((LOG(AF8))/LOG(2))))","v":-0.50430872526112902},null,{"$f":"N8","v":1112},{"$f":"COUNTIF(L100:L130,AI8)","v":8},{"$f":"AJ8/(AL4-AJ20)","v":0.25806451612903225},{"$f":"IF(AK8=0,0,(AK8*((LOG(AK8))/LOG(2))))","v":-0.50430872526112902},null,{"$f":"N8","v":1112},{"$f":"COUNTIF(L131:L161,AN8)","v":13},{"$f":"AO8/(AQ4-AO20)","v":0.41935483870967744},{"$f":"IF(AP8=0,0,(AP8*((LOG(AP8))/LOG(2))))","v":-0.52576889352242517},null,{"$f":"N8","v":1112},{"$f":"COUNTIF(L162:L192,AS8)","v":11},{"$f":"AT8/(AV4-AT20)","v":0.36666666666666664},{"$f":"IF(AU8=0,0,(AU8*((LOG(AU8))/LOG(2))))","v":-0.53073495822278116}]
[12,280,14,304,13,311,23,322,null,null,0,1112,null,1121,{"$f":"COUNTIF($L$7:$L$500,N9)","v":5},{"$f":"O9/$Q$4","v":2.7027027027027029E-2},{"$f":"IF(P9=0,0,(P9*((LOG(P9))/LOG(2))))","v":-0.14079603690889056},null,null,{"$f":"N9","v":1121},{"$f":"COUNTIF(L7:L37,T9)","v":1},{"$f":"U9/(W4-U20)","v":3.2258064516129031E-2},{"$f":"IF(V9=0,0,(V9*((LOG(V9))/LOG(2))))","v":-0.15981278420602821},null,{"$f":"N9","v":1121},{"$f":"COUNTIF(L38:L68,Y9)","v":1},{"$f":"Z9/(AB4-Z20)","v":3.2258064516129031E-2},{"$f":"IF(AA9=0,0,(AA9*((LOG(AA9))/LOG(2))))","v":-0.15981278420602821},null,{"$f":"N9","v":1121},{"$f":"COUNTIF(L69:L99,AD9)","v":1},{"$f":"AE9/(AG4-AE20)","v":3.2258064516129031E-2},{"$f":"IF(AF9=0,0,(AF9*((LOG(AF9))/LOG(2))))","v":-0.15981278420602821},null,{"$f":"N9","v":1121},{"$f":"COUNTIF(L100:L130,AI9)","v":1},{"$f":"AJ9/(AL4-AJ20)","v":3.2258064516129031E-2},{"$f":"IF(AK9=0,0,(AK9*((LOG(AK9))/LOG(2))))","v":-0.15981278420602821},null,{"$f":"N9","v":1121},{"$f":"COUNTIF(L131:L161,AN9)","v":0},{"$f":"AO9/(AQ4-AO20)","v":0},{"$f":"IF(AP9=0,0,(AP9*((LOG(AP9))/LOG(2))))","v":0},null,{"$f":"N9","v":1121},{"$f":"COUNTIF(L162:L192,AS9)","v":1},{"$f":"AT9/(AV4-AT20)","v":3.3333333333333333E-2},{"$f":"IF(AU9=0,0,(AU9*((LOG(AU9))/LOG(2))))","v":-0.16356301985361729}]
[12,442,14,447,13,451,14,457,null,null,0,1111,null,1122,{"$f":"COUNTIF($L$7:$L$500,N10)","v":29},{"$f":"O10/$Q$4","v":0.15675675675675677},{"$f":"IF(P10=0,0,(P10*((LOG(P10))/LOG(2))))","v":-0.41907358646634307},null,null,{"$f":"N10","v":1122},{"$f":"COUNTIF(L7:L37,T10)","v":2},{"$f":"U10/(W4-U20)","v":6.4516129032258063E-2},{"$f":"IF(V10=0,0,(V10*((LOG(V10))/LOG(2))))","v":-0.25510943937979835},null,{"$f":"N10","v":1122},{"$f":"COUNTIF(L38:L68,Y10)","v":6},{"$f":"Z10/(AB4-Z20)","v":0.19354838709677419},{"$f":"IF(AA10=0,0,(AA10*((LOG(AA10))/LOG(2))))","v":-0.45856138251594558},null,{"$f":"N10","v":1122},{"$f":"COUNTIF(L69:L99,AD10)","v":11},{"$f":"AE10/(AG4-AE20)","v":0.35483870967741937},{"$f":"IF(AF10=0,0,(AF10*((LOG(AF10))/LOG(2))))","v":-0.53040037449178568},null,{"$f":"N10","v":1122},{"$f":"COUNTIF(L100:L130,AI10)","v":6},{"$f":"AJ10/(AL4-AJ20)","v":0.19354838709677419},{"$f":"IF(AK10=0,0,(AK10*((LOG(AK10))/LOG(2))))","v":-0.45856138251594558},null,{"$f":"N10","v":1122},{"$f":"COUNTIF(L131:L161,AN10)","v":2},{"$f":"AO10/(AQ4-AO20)","v":6.4516129032258063E-2},{"$f":"IF(AP10=0,0,(AP10*((LOG(AP10))/LOG(2))))","v":-0.25510943937979835},null,{"$f":"N10","v":1122},{"$f":"COUNTIF(L162:L192,AS10)","v":2},{"$f":"AT10/(AV4-AT20)","v":6.6666666666666666E-2},{"$f":"IF(AU10=0,0,(AU10*((LOG(AU10))/LOG(2))))","v":-0.26045937304056793}]
[12,572,23,606,13,624,14,628,null,null,0,1211,null,1211,{"$f":"COUNTIF($L$7:$L$500,N11)","v":2},{"$f":"O11/$Q$4","v":1.0810810810810811E-2},{"$f":"IF(P11=0,0,(P11*((LOG(P11))/LOG(2))))","v":-7.0609529302879045E-2},null,null,{"$f":"N11","v":1211},{"$f":"COUNTIF(L7:L37,T11)","v":1},{"$f":"U11/(W4-U20)","v":3.2258064516129031E-2},{"$f":"IF(V11=0,0,(V11*((LOG(V11))/LOG(2))))","v":-0.15981278420602821},null,{"$f":"N11","v":1211},{"$f":"COUNTIF(L38:L68,Y11)","v":0},{"$f":"Z11/(AB4-Z20)","v":0},{"$f":"IF(AA11=0,0,(AA11*((LOG(AA11))/LOG(2))))","v":0},null,{"$f":"N11","v":1211},{"$f":"COUNTIF(L69:L99,AD11)","v":0},{"$f":"AE11/(AG4-AE20)","v":0},{"$f":"IF(AF11=0,0,(AF11*((LOG(AF11))/LOG(2))))","v":0},null,{"$f":"N11","v":1211},{"$f":"COUNTIF(L100:L130,AI11)","v":1},{"$f":"AJ11/(AL4-AJ20)","v":3.2258064516129031E-2},{"$f":"IF(AK11=0,0,(AK11*((LOG(AK11))/LOG(2))))","v":-0.15981278420602821},null,{"$f":"N11","v":1211},{"$f":"COUNTIF(L131:L161,AN11)","v":0},{"$f":"AO11/(AQ4-AO20)","v":0},{"$f":"IF(AP11=0,0,(AP11*((LOG(AP11))/LOG(2))))","v":0},null,{"$f":"N11","v":1211},{"$f":"COUNTIF(L162:L192,AS11)","v":0},{"$f":"AT11/(AV4-AT20)","v":0},{"$f":"IF(AU11=0,0,(AU11*((LOG(AU11))/LOG(2))))","v":0}]
[12,731,14,740,13,744,14,752,null,null,0,1111,null,1212,{"$f":"COUNTIF($L$7:$L$500,N12)","v":0},{"$f":"O12/$Q$4","v":0},{"$f":"IF(P12=0,0,(P12*((LOG(P12))/LOG(2))))","v":0},null,null,{"$f":"N12","v":1212},{"$f":"COUNTIF(L7:L37,T12)","v":0},{"$f":"U12/(W4-U20)","v":0},{"$f":"IF(V12=0,0,(V12*((LOG(V12))/LOG(2))))","v":0},null,{"$f":"N12","v":1212},{"$f":"COUNTIF(L38:L68,Y12)","v":0},{"$f":"Z12/(AB4-Z20)","v":0},{"$f":"IF(AA12=0,0,(AA12*((LOG(AA12))/LOG(2))))","v":0},null,{"$f":"N12","v":1212},{"$f":"COUNTIF(L69:L99,AD12)","v":0},{"$f":"AE12/(AG4-AE20)","v":0},{"$f":"IF(AF12=0,0,(AF12*((LOG(AF12))/LOG(2))))","v":0},null,{"$f":"N12","v":1212},{"$f":"COUNTIF(L100:L130,AI12)","v":0},{"$f":"AJ12/(AL4-AJ20)","v":0},{"$f":"IF(AK12=0,0,(AK12*((LOG(AK12))/LOG(2))))","v":0},null,{"$f":"N12","v":1212},{"$f":"COUNTIF(L131:L161,AN12)","v":0},{"$f":"AO12/(AQ4-AO20)","v":0},{"$f":"IF(AP12=0,0,(AP12*((LOG(AP12))/LOG(2))))","v":0},null,{"$f":"N12","v":1212},{"$f":"COUNTIF(L162:L192,AS12)","v":0},{"$f":"AT12/(AV4-AT20)","v":0},{"$f":"IF(AU12=0,0,(AU12*((LOG(AU12))/LOG(2))))","v":0}]
[12,873,14,881,13,885,23,938,null,null,0,1112,null,1221,{"$f":"COUNTIF($L$7:$L$500,N13)","v":6},{"$f":"O13/$Q$4","v":3.2432432432432434E-2},{"$f":"IF(P13=0,0,(P13*((LOG(P13))/LOG(2))))","v":-0.16042439869605912},null,null,{"$f":"N13","v":1221},{"$f":"COUNTIF(L7:L37,T13)","v":1},{"$f":"U13/(W4-U20)","v":3.2258064516129031E-2},{"$f":"IF(V13=0,0,(V13*((LOG(V13))/LOG(2))))","v":-0.15981278420602821},null,{"$f":"N13","v":1221},{"$f":"COUNTIF(L38:L68,Y13)","v":1},{"$f":"Z13/(AB4-Z20)","v":3.2258064516129031E-2},{"$f":"IF(AA13=0,0,(AA13*((LOG(AA13))/LOG(2))))","v":-0.15981278420602821},null,{"$f":"N13","v":1221},{"$f":"COUNTIF(L69:L99,AD13)","v":2},{"$f":"AE13/(AG4-AE20)","v":6.4516129032258063E-2},{"$f":"IF(AF13=0,0,(AF13*((LOG(AF13))/LOG(2))))","v":-0.25510943937979835},null,{"$f":"N13","v":1221},{"$f":"COUNTIF(L100:L130,AI13)","v":1},{"$f":"AJ13/(AL4-AJ20)","v":3.2258064516129031E-2},{"$f":"IF(AK13=0,0,(AK13*((LOG(AK13))/LOG(2))))","v":-0.15981278420602821},null,{"$f":"N13","v":1221},{"$f":"COUNTIF(L131:L161,AN13)","v":0},{"$f":"AO13/(AQ4-AO20)","v":0},{"$f":"IF(AP13=0,0,(AP13*((LOG(AP13))/LOG(2))))","v":0},null,{"$f":"N13","v":1221},{"$f":"COUNTIF(L162:L192,AS13)","v":1},{"$f":"AT13/(AV4-AT20)","v":3.3333333333333333E-2},{"$f":"IF(AU13=0,0,(AU13*((LOG(AU13))/LOG(2))))","v":-0.16356301985361729}]
[12,1054,14,1058,13,1062,14,1071,null,null,0,1111,null,1222,{"$f":"COUNTIF($L$7:$L$500,N14)","v":5},{"$f":"O14/$Q$4","v":2.7027027027027029E-2},{"$f":"IF(P14=0,0,(P14*((LOG(P14))/LOG(2))))","v":-0.14079603690889056},null,null,{"$f":"N14","v":1222},{"$f":"COUNTIF(L7:L37,T14)","v":1},{"$f":"U14/(W4-U20)","v":3.2258064516129031E-2},{"$f":"IF(V14=0,0,(V14*((LOG(V14))/LOG(2))))","v":-0.15981278420602821},null,{"$f":"N14","v":1222},{"$f":"COUNTIF(L38:L68,Y14)","v":1},{"$f":"Z14/(AB4-Z20)","v":3.2258064516129031E-2},{"$f":"IF(AA14=0,0,(AA14*((LOG(AA14))/LOG(2))))","v":-0.15981278420602821},null,{"$f":"N14","v":1222},{"$f":"COUNTIF(L69:L99,AD14)","v":2},{"$f":"AE14/(AG4-AE20)","v":6.4516129032258063E-2},{"$f":"IF(AF14=0,0,(AF14*((LOG(AF14))/LOG(2))))","v":-0.25510943937979835},null,{"$f":"N14","v":1222},{"$f":"COUNTIF(L100:L130,AI14)","v":1},{"$f":"AJ14/(AL4-AJ20)","v":3.2258064516129031E-2},{"$f":"IF(AK14=0,0,(AK14*((LOG(AK14))/LOG(2))))","v":-0.15981278420602821},null,{"$f":"N14","v":1222},{"$f":"COUNTIF(L131:L161,AN14)","v":0},{"$f":"AO14/(AQ4-AO20)","v":0},{"$f":"IF(AP14=0,0,(AP14*((LOG(AP14))/LOG(2))))","v":0},null,{"$f":"N14","v":1222},{"$f":"COUNTIF(L162:L192,AS14)","v":0},{"$f":"AT14/(AV4-AT20)","v":0},{"$f":"IF(AU14=0,0,(AU14*((LOG(AU14))/LOG(2))))","v":0}]
[12,1178,14,1183,13,1187,23,1199,null,null,0,1112,null,2111,{"$f":"COUNTIF($L$7:$L$500,N15)","v":0},{"$f":"O15/$Q$4","v":0},{"$f":"IF(P15=0,0,(P15*((LOG(P15))/LOG(2))))","v":0},null,null,{"$f":"N15","v":2111},{"$f":"COUNTIF(L7:L37,T15)","v":0},{"$f":"U15/(W4-U20)","v":0},{"$f":"IF(V15=0,0,(V15*((LOG(V15))/LOG(2))))","v":0},null,{"$f":"N15","v":2111},{"$f":"COUNTIF(L38:L68,Y15)","v":0},{"$f":"Z15/(AB4-Z20)","v":0},{"$f":"IF(AA15=0,0,(AA15*((LOG(AA15))/LOG(2))))","v":0},null,{"$f":"N15","v":2111},{"$f":"COUNTIF(L69:L99,AD15)","v":0},{"$f":"AE15/(AG4-AE20)","v":0},{"$f":"IF(AF15=0,0,(AF15*((LOG(AF15))/LOG(2))))","v":0},null,{"$f":"N15","v":2111},{"$f":"COUNTIF(L100:L130,AI15)","v":0},{"$f":"AJ15/(AL4-AJ20)","v":0},{"$f":"IF(AK15=0,0,(AK15*((LOG(AK15))/LOG(2))))","v":0},null,{"$f":"N15","v":2111},{"$f":"COUNTIF(L131:L161,AN15)","v":0},{"$f":"AO15/(AQ4-AO20)","v":0},{"$f":"IF(AP15=0,0,(AP15*((LOG(AP15))/LOG(2))))","v":0},null,{"$f":"N15","v":2111},{"$f":"COUNTIF(L162:L192,AS15)","v":0},{"$f":"AT15/(AV4-AT20)","v":0},{"$f":"IF(AU15=0,0,(AU15*((LOG(AU15))/LOG(2))))","v":0}]
[12,1299,14,1303,13,1307,14,1316,null,null,0,1111,null,2112,{"$f":"COUNTIF($L$7:$L$500,N16)","v":0},{"$f":"O16/$Q$4","v":0},{"$f":"IF(P16=0,0,(P16*((LOG(P16))/LOG(2))))","v":0},null,null,{"$f":"N16","v":2112},{"$f":"COUNTIF(L7:L37,T16)","v":0},{"$f":"U16/(W4-U20)","v":0},{"$f":"IF(V16=0,0,(V16*((LOG(V16))/LOG(2))))","v":0},null,{"$f":"N16","v":2112},{"$f":"COUNTIF(L38:L68,Y16)","v":0},{"$f":"Z16/(AB4-Z20)","v":0},{"$f":"IF(AA16=0,0,(AA16*((LOG(AA16))/LOG(2))))","v":0},null,{"$f":"N16","v":2112},{"$f":"COUNTIF(L69:L99,AD16)","v":0},{"$f":"AE16/(AG4-AE20)","v":0},{"$f":"IF(AF16=0,0,(AF16*((LOG(AF16))/LOG(2))))","v":0},null,{"$f":"N16","v":2112},{"$f":"COUNTIF(L100:L130,AI16)","v":0},{"$f":"AJ16/(AL4-AJ20)","v":0},{"$f":"IF(AK16=0,0,(AK16*((LOG(AK16))/LOG(2))))","v":0},null,{"$f":"N16","v":2112},{"$f":"COUNTIF(L131:L161,AN16)","v":0},{"$f":"AO16/(AQ4-AO20)","v":0},{"$f":"IF(AP16=0,0,(AP16*((LOG(AP16))/LOG(2))))","v":0},null,{"$f":"N16","v":2112},{"$f":"COUNTIF(L162:L192,AS16)","v":0},{"$f":"AT16/(AV4-AT20)","v":0},{"$f":"IF(AU16=0,0,(AU16*((LOG(AU16))/LOG(2))))","v":0}]
[12,1419,14,1423,13,1428,14,1432,null,null,0,1111,null,2121,{"$f":"COUNTIF($L$7:$L$500,N17)","v":0},{"$f":"O17/$Q$4","v":0},{"$f":"IF(P17=0,0,(P17*((LOG(P17))/LOG(2))))","v":0},null,null,{"$f":"N17","v":2121},{"$f":"COUNTIF(L7:L37,T17)","v":0},{"$f":"U17/(W4-U20)","v":0},{"$f":"IF(V17=0,0,(V17*((LOG(V17))/LOG(2))))","v":0},null,{"$f":"N17","v":2121},{"$f":"COUNTIF(L38:L68,Y17)","v":0},{"$f":"Z17/(AB4-Z20)","v":0},{"$f":"IF(AA17=0,0,(AA17*((LOG(AA17))/LOG(2))))","v":0},null,{"$f":"N17","v":2121},{"$f":"COUNTIF(L69:L99,AD17)","v":0},{"$f":"AE17/(AG4-AE20)","v":0},{"$f":"IF(AF17=0,0,(AF17*((LOG(AF17))/LOG(2))))","v":0},null,{"$f":"N17","v":2121},{"$f":"COUNTIF(L100:L130,AI17)","v":0},{"$f":"AJ17/(AL4-AJ20)","v":0},{"$f":"IF(AK17=0,0,(AK17*((LOG(AK17))/LOG(2))))","v":0},null,{"$f":"N17","v":2121},{"$f":"COUNTIF(L131:L161,AN17)","v":0},{"$f":"AO17/(AQ4-AO20)","v":0},{"$f":"IF(AP17=0,0,(AP17*((LOG(AP17))/LOG(2))))","v":0},null,{"$f":"N17","v":2121},{"$f":"COUNTIF(L162:L192,AS17)","v":0},{"$f":"AT17/(AV4-AT20)","v":0},{"$f":"IF(AU17=0,0,(AU17*((LOG(AU17))/LOG(2))))","v":0}]
[12,1541,14,1546,13,1554,14,1563,null,null,0,1111,null,2122,{"$f":"COUNTIF($L$7:$L$500,N18)","v":0},{"$f":"O18/$Q$4","v":0},{"$f":"IF(P18=0,0,(P18*((LOG(P18))/LOG(2))))","v":0},null,null,{"$f":"N18","v":2122},{"$f":"COUNTIF(L7:L37,T18)","v":0},{"$f":"U18/(W4-U20)","v":0},{"$f":"IF(V18=0,0,(V18*((LOG(V18))/LOG(2))))","v":0},null,{"$f":"N18","v":2122},{"$f":"COUNTIF(L38:L68,Y18)","v":0},{"$f":"Z18/(AB4-Z20)","v":0},{"$f":"IF(AA18=0,0,(AA18*((LOG(AA18))/LOG(2))))","v":0},null,{"$f":"N18","v":2122},{"$f":"COUNTIF(L69:L99,AD18)","v":0},{"$f":"AE18/(AG4-AE20)","v":0},{"$f":"IF(AF18=0,0,(AF18*((LOG(AF18))/LOG(2))))","v":0},null,{"$f":"N18","v":2122},{"$f":"COUNTIF(L100:L130,AI18)","v":0},{"$f":"AJ18/(AL4-AJ20)","v":0},{"$f":"IF(AK18=0,0,(AK18*((LOG(AK18))/LOG(2))))","v":0},null,{"$f":"N18","v":2122},{"$f":"COUNTIF(L131:L161,AN18)","v":0},{"$f":"AO18/(AQ4-AO20)","v":0},{"$f":"IF(AP18=0,0,(AP18*((LOG(AP18))/LOG(2))))","v":0},null,{"$f":"N18","v":2122},{"$f":"COUNTIF(L162:L192,AS18)","v":0},{"$f":"AT18/(AV4-AT20)","v":0},{"$f":"IF(AU18=0,0,(AU18*((LOG(AU18))/LOG(2))))","v":0}]
[12,1666,14,1670,24,1687,23,1696,null,null,0,1122,null,2211,{"$f":"COUNTIF($L$7:$L$500,N19)","v":0},{"$f":"O19/$Q$4","v":0},{"$f":"IF(P19=0,0,(P19*((LOG(P19))/LOG(2))))","v":0},null,null,{"$f":"N19","v":2211},{"$f":"COUNTIF(L7:L37,T19)","v":0},{"$f":"U19/(W4-U20)","v":0},{"$f":"IF(V19=0,0,(V19*((LOG(V19))/LOG(2))))","v":0},null,{"$f":"N19","v":2211},{"$f":"COUNTIF(L38:L68,Y19)","v":0},{"$f":"Z19/(AB4-Z20)","v":0},{"$f":"IF(AA19=0,0,(AA19*((LOG(AA19))/LOG(2))))","v":0},null,{"$f":"N19","v":2211},{"$f":"COUNTIF(L69:L99,AD19)","v":0},{"$f":"AE19/(AG4-AE20)","v":0},{"$f":"IF(AF19=0,0,(AF19*((LOG(AF19))/LOG(2))))","v":0},null,{"$f":"N19","v":2211},{"$f":"COUNTIF(L100:L130,AI19)","v":0},{"$f":"AJ19/(AL4-AJ20)","v":0},{"$f":"IF(AK19=0,0,(AK19*((LOG(AK19))/LOG(2))))","v":0},null,{"$f":"N19","v":2211},{"$f":"COUNTIF(L131:L161,AN19)","v":0},{"$f":"AO19/(AQ4-AO20)","v":0},{"$f":"IF(AP19=0,0,(AP19*((LOG(AP19))/LOG(2))))","v":0},null,{"$f":"N19","v":2211},{"$f":"COUNTIF(L162:L192,AS19)","v":0},{"$f":"AT19/(AV4-AT20)","v":0},{"$f":"IF(AU19=0,0,(AU19*((LOG(AU19))/LOG(2))))","v":0}]
[12,1805,23,1817,24,1827,23,1839,null,null,0,1222,null,2212,{"$f":"COUNTIF($L$7:$L$500,N20)","v":0},{"$f":"O20/$Q$4","v":0},{"$f":"IF(P20=0,0,(P20*((LOG(P20))/LOG(2))))","v":0},null,null,{"$f":"N20","v":2212},{"$f":"COUNTIF(L7:L37,T20)","v":0},null,null,null,{"$f":"N20","v":2212},{"$f":"COUNTIF(L38:L68,Y20)","v":0},null,null,null,{"$f":"N20","v":2212},{"$f":"COUNTIF(L69:L99,AD20)","v":0},null,null,null,{"$f":"N20","v":2212},{"$f":"COUNTIF(L100:L130,AI20)","v":0},null,null,null,{"$f":"N20","v":2212},{"$f":"COUNTIF(L131:L161,AN20)","v":0},null,null,null,{"$f":"N20","v":2212},{"$f":"COUNTIF(L162:L192,AS20)","v":0}]
[12,1938,23,1957,24,1965,14,1995,null,null,0,1221,null,2221,{"$f":"COUNTIF($L$7:$L$500,N21)","v":0},{"$f":"O21/$Q$4","v":0},{"$f":"IF(P21=0,0,(P21*((LOG(P21))/LOG(2))))","v":0},null,null,{"$f":"N21","v":2221},{"$f":"COUNTIF(L7:L37,T21)","v":0},{"$f":"U21/(W4-U20)","v":0},{"$f":"IF(V21=0,0,(V21*((LOG(V21))/LOG(2))))","v":0},null,{"$f":"N21","v":2221},{"$f":"COUNTIF(L38:L68,Y21)","v":0},{"$f":"Z21/(AB4-Z20)","v":0},{"$f":"IF(AA21=0,0,(AA21*((LOG(AA21))/LOG(2))))","v":0},null,{"$f":"N21","v":2221},{"$f":"COUNTIF(L69:L99,AD21)","v":0},{"$f":"AE21/(AG4-AE20)","v":0},{"$f":"IF(AF21=0,0,(AF21*((LOG(AF21))/LOG(2))))","v":0},null,{"$f":"N21","v":2221},{"$f":"COUNTIF(L100:L130,AI21)","v":0},{"$f":"AJ21/(AL4-AJ20)","v":0},{"$f":"IF(AK21=0,0,(AK21*((LOG(AK21))/LOG(2))))","v":0},null,{"$f":"N21","v":2221},{"$f":"COUNTIF(L131:L161,AN21)","v":0},{"$f":"AO21/(AQ4-AO20)","v":0},{"$f":"IF(AP21=0,0,(AP21*((LOG(AP21))/LOG(2))))","v":0},null,{"$f":"N21","v":2221},{"$f":"COUNTIF(L162:L192,AS21)","v":0},{"$f":"AT21/(AV4-AT20)","v":0},{"$f":"IF(AU21=0,0,(AU21*((LOG(AU21))/LOG(2))))","v":0}]
[12,2097,14,2102,13,2105,14,2114,null,null,0,1111,null,2222,{"$f":"COUNTIF($L$7:$L$500,N22)","v":1},{"$f":"O22/$Q$4","v":5.4054054054054057E-3},{"$f":"IF(P22=0,0,(P22*((LOG(P22))/LOG(2))))","v":-4.0710170056844928E-2},null,null,{"$f":"N22","v":2222},{"$f":"COUNTIF(L7:L37,T22)","v":1},{"$f":"U22/(W4-U20)","v":3.2258064516129031E-2},{"$f":"IF(V22=0,0,(V22*((LOG(V22))/LOG(2))))","v":-0.15981278420602821},null,{"$f":"N22","v":2222},{"$f":"COUNTIF(L38:L68,Y22)","v":0},{"$f":"Z22/(AB4-Z20)","v":0},{"$f":"IF(AA22=0,0,(AA22*((LOG(AA22))/LOG(2))))","v":0},null,{"$f":"N22","v":2222},{"$f":"COUNTIF(L69:L99,AD22)","v":0},{"$f":"AE22/(AG4-AE20)","v":0},{"$f":"IF(AF22=0,0,(AF22*((LOG(AF22))/LOG(2))))","v":0},null,{"$f":"N22","v":2222},{"$f":"COUNTIF(L100:L130,AI22)","v":0},{"$f":"AJ22/(AL4-AJ20)","v":0},{"$f":"IF(AK22=0,0,(AK22*((LOG(AK22))/LOG(2))))","v":0},null,{"$f":"N22","v":2222},{"$f":"COUNTIF(L131:L161,AN22)","v":0},{"$f":"AO22/(AQ4-AO20)","v":0},{"$f":"IF(AP22=0,0,(AP22*((LOG(AP22))/LOG(2))))","v":0},null,{"$f":"N22","v":2222},{"$f":"COUNTIF(L162:L192,AS22)","v":0},{"$f":"AT22/(AV4-AT20)","v":0},{"$f":"IF(AU22=0,0,(AU22*((LOG(AU22))/LOG(2))))","v":0}]
[12,2223,14,2228,13,2232,14,2236,null,null,0,1111,null,null,null,{"$f":"SUM(P7:P22)","v":0.99999999999999978},{"$f":"-SUM(Q7:Q22)","v":1.9944117392218486},null,null,null,null,{"$f":"SUM(V7:V22)","v":0.99999999999999978},{"$f":"-SUM(W7:W22)","v":1.911607173939619},null,null,null,{"$f":"SUM(AA7:AA22)","v":0.99999999999999978},{"$f":"-SUM(AB7:AB22)","v":1.8378645755475358},null,null,null,{"$f":"SUM(AF7:AF22)","v":1},{"$f":"-SUM(AG7:AG22)","v":2.1895113987928911},null,null,null,{"$f":"SUM(AK7:AK22)","v":1},{"$f":"-SUM(AL7:AL22)","v":2.1278901381236124},null,null,null,{"$f":"SUM(AP7:AP22)","v":1},{"$f":"-SUM(AQ7:AQ22)","v":1.2733667511664173},null,null,null,{"$f":"SUM(AU7:AU22)","v":1},{"$f":"-SUM(AV7:AV22)","v":1.6183203709705838}]
[12,2334,14,2346,24,2389,14,2409,null,null,0,1121,null,null,null,"U=",{"$f":"Q23/(LOG(Q4)/LOG(2))","v":0.26481353383541434},null,null,null,null,"U1=",{"$f":"W23/(LOG(W4)/LOG(2))","v":0.38585616196350137},null,null,null,"U2=",{"$f":"AB23/(LOG(AB4)/LOG(2))","v":0.37097128583586875},null,null,null,"U3=",{"$f":"AG23/(LOG(AG4)/LOG(2))","v":0.44195087590744087},null,null,null,"U4=",{"$f":"AL23/(LOG(AL4)/LOG(2))","v":0.42951268072730947},null,null,null,"U5=",{"$f":"AQ23/(LOG(AQ4)/LOG(2))","v":0.25702791560695737},null,null,null,"U6=",{"$f":"AV23/(LOG(AV4)/LOG(2))","v":0.32980567620947554}]
[12,2510,14,2514,13,2523,14,2528,null,null,0,1111]
[12,2630,14,2635,13,2639,14,2644,null,null,0,1111]
[12,2739,14,2743,13,2755,23,2768,null,null,0,1112,null,"Total Target Seq"]
[12,2872,14,2876,13,2880,14,2885,null,null,0,1111,null,{"$f":"COUNTIF(L7:L192,G3)","v":0},null,31,31,31,31,31,31]
[12,2994,14,2998,13,3002,14,3015,null,null,0,1111,null,null,null,"% of reinforcement given in 6 equal intervals based on number of trials "]
[12,3120,14,3124,13,3137,14,3141,null,null,0,1111,null,null,null,"%_1","%_2","%_3","%_4","%_5","%_6"]
[12,3246,14,3249,13,3260,14,3264,null,null,0,1111,null,null,"target sequence",{"$f":"$G$3","v":2212},{"$f":"$G$3","v":2212},{"$f":"$G$3","v":2212},{"$f":"$G$3","v":2212},{"$f":"$G$3","v":2212},{"$f":"$G$3","v":2212}]
[12,3366,14,3374,13,3386,14,3391,null,null,0,1111,null,null,"total reinforcement",{"$f":"U20","v":0},{"$f":"Z20","v":0},{"$f":"AE20","v":0},{"$f":"AJ20","v":0},{"$f":"AO20","v":0},{"$f":"AT20","v":0}]
[12,3494,14,3499,13,3503,14,3507,null,null,0,1111,null,null,"% target"]
[12,3609,14,3613,13,3617,23,3629,null,null,0,1112,null,null,"CCRF"]
[12,3722,14,3726,13,3743,14,3748,null,null,0,1111,null,null,"% CCRf"]
[12,3848,14,3857,13,3864,14,3868,null,null,0,1111,null,null,"average response rate",{"$f":"H37/P28","v":128.96774193548387},{"$f":"(H68-H37)/Q28","v":127.09677419354838},{"$f":"(H99-H68)/R28","v":128.45161290322579},{"$f":"(H130-H99)/S28","v":129},{"$f":"(H161-H130)/T28","v":132.58064516129033},{"$f":"(H192-H161)/U28","v":-646.09677419354841}]
[12,3971,14,3976,24,3989,23,3998,null,null,0,1122]
[12,4100,14,4104,24,4116,23,4137,null,null,0,1122]
[12,4234,14,4238,13,4251,14,4255,null,null,0,1111]
[12,4357,14,4361,13,4365,14,4368,null,null,0,1111]
[12,4477,14,4482,13,4487,14,4498,null,null,0,1111]
[12,4605,14,4610,24,4639,14,4657,null,null,0,1121]
[12,4755,14,4759,13,4763,14,4768,null,null,0,1111]
[12,4870,14,4874,13,4877,14,4881,null,null,0,1111]
[12,4984,14,4995,13,5001,14,5010,null,null,0,1111]
[12,5112,14,5116,13,5130,23,5143,null,null,0,1112]
[12,5246,14,5250,24,5269,23,5278,null,null,0,1122]
[12,5379,14,5385,13,5400,23,5412,null,null,0,1112]
[12,5513,14,5517,13,5521,14,5525,null,null,0,1111]
[12,5625,14,5629,13,5648,14,5656,null,null,0,1111]
[12,5755,14,5773,24,5784,23,5793,null,null,0,1122]
[12,5893,14,5897,24,5909,23,5918,null,null,0,1122]
[12,6018,14,6022,13,6026,23,6057,null,null,0,1112]
[12,6155,14,6160,24,6169,23,6177,null,null,0,1122]
[12,6272,14,6280,13,6284,14,6287,null,null,0,1111]
[12,6387,14,6407,24,6421,23,6440,null,null,0,1122]
[12,6536,14,6544,13,6555,14,6559,null,null,0,1111]
[12,6655,14,6659,13,6669,14,6677,null,null,0,1111]
[12,6778,14,6782,13,6786,14,6793,null,null,0,1111]
[12,6899,23,6911,24,6929,14,6947,null,null,0,1221]
[12,7044,14,7048,13,7052,14,7056,null,null,0,1111]
[12,7155,14,7166,13,7179,14,7183,null,null,0,1111]
[12,7282,23,7293,24,7306,23,7319,null,null,0,1222]
[12,7414,14,7424,13,7431,14,7435,null,null,0,1111]
[12,7538,14,7542,13,7546,14,7550,null,null,0,1111]
[12,7647,14,7661,13,7666,23,7678,null,null,0,1112]
[12,7780,14,7785,13,7805,14,7815,null,null,0,1111]
[12,7915,14,7925,13,7929,23,7938,null,null,0,1112]
[12,8035,14,8042,24,8058,23,8067,null,null,0,1122]
[12,8166,14,8170,13,8174,14,8178,null,null,0,1111]
[12,8279,14,8296,13,8300,23,8311,null,null,0,1112]
[12,8408,14,8412,13,8424,14,8428,null,null,0,1111]
[12,8523,14,8537,24,8549,23,8557,null,null,0,1122]
[12,8662,23,8681,24,8690,23,8702,null,null,0,1222]
[12,8802,23,8813,24,8821,14,8837,null,null,0,1221]
[12,8936,14,8950,24,8962,23,8970,null,null,0,1122]
[12,9068,14,9072,13,9084,23,9095,null,null,0,1112]
[12,9191,14,9195,24,9206,23,9214,null,null,0,1122]
[12,9313,14,9317,13,9321,23,9332,null,null,0,1112]
[12,9432,14,9437,24,9450,23,9469,null,null,0,1122]
[12,9566,23,9591,24,9600,14,9616,null,null,0,1221]
[12,9719,14,9728,13,9732,23,9742,null,null,0,1112]
[12,9848,14,9853,13,9857,14,9867,null,null,0,1111]
[12,9971,14,9975,13,9986,23,10010,null,null,0,1112]
[12,10108,14,10112,13,10123,14,10127,null,null,0,1111]
[12,10224,14,10228,13,10239,14,10243,null,null,0,1111]
[12,10341,14,10352,24,10363,23,10371,null,null,0,1122]
[12,10480,23,10490,24,10499,23,10511,null,null,0,1222]
[12,10610,14,10621,24,10633,14,10646,null,null,0,1121]
[12,10742,14,10757,24,10768,23,10777,null,null,0,1122]
[12,10876,14,10887,24,10897,23,10906,null,null,0,1122]
[12,11003,14,11007,13,11017,14,11021,null,null,0,1111]
[12,11116,14,11120,13,11125,23,11136,null,null,0,1112]
[12,11230,14,11250,24,11262,23,11270,null,null,0,1122]
[12,11370,14,11378,13,11382,23,11394,null,null,0,1112]
[12,11497,14,11510,24,11527,23,11538,null,null,0,1122]
[12,11629,14,11635,13,11647,14,11651,null,null,0,1111]
[12,11748,14,11752,13,11763,23,11785,null,null,0,1112]
[12,11886,14,11897,24,11912,23,11920,null,null,0,1122]
[12,12018,14,12022,13,12033,23,12044,null,null,0,1112]
[12,12141,14,12145,13,12156,23,12187,null,null,0,1112]
[12,12283,14,12293,24,12309,23,12327,null,null,0,1122]
[12,12426,14,12430,13,12441,14,12445,null,null,0,1111]
[12,12539,14,12542,13,12546,14,12559,null,null,0,1111]
[12,12659,23,12674,24,12681,14,12698,null,null,0,1221]
[12,12795,14,12808,13,12812,14,12828,null,null,0,1111]
[12,12926,14,12931,13,12935,14,12946,null,null,0,1111]
[12,13046,14,13050,13,13060,14,13064,null,null,0,1111]
[12,13160,14,13168,13,13171,14,13175,null,null,0,1111]
[12,13272,14,13276,13,13284,23,13295,null,null,0,1112]
[12,13407,23,13420,24,13441,23,13459,null,null,0,1222]
[12,13561,14,13581,13,13588,14,13594,null,null,0,1111]
[12,13690,14,13707,24,13721,23,13730,null,null,0,1122]
[12,13830,23,13841,13,13853,14,13857,null,null,0,1211]
[12,13953,14,13957,24,13966,23,13974,null,null,0,1122]
[12,14075,14,14083,13,14096,14,14103,null,null,0,1111]
[12,14201,14,14219,13,14223,23,14235,null,null,0,1112]
[12,14331,14,14338,13,14345,14,14356,null,null,0,1111]
[12,14453,14,14467,24,14475,23,14484,null,null,0,1122]
[12,14585,14,14596,13,14607,23,14619,null,null,0,1112]
[12,14721,14,14726,13,14741,14,14749,null,null,0,1111]
[12,14847,14,14861,24,14877,23,14887,null,null,0,1122]
[12,14988,14,14992,13,14999,14,15003,null,null,0,1111]
[12,15100,14,15114,13,15118,23,15129,null,null,0,1112]
[12,15226,14,15231,24,15242,23,15250,null,null,0,1122]
[12,15351,14,15362,13,15373,14,15377,null,null,0,1111]
[12,15477,14,15487,13,15504,14,15511,null,null,0,1111]
[12,15607,14,15614,13,15619,23,15642,null,null,0,1112]
[12,15742,14,15746,13,15754,23,15765,null,null,0,1112]
[12,15861,14,15881,24,15903,14,15919,null,null,0,1121]
[12,16019,14,16028,13,16042,23,16062,null,null,0,1112]
[12,16156,14,16167,13,16176,23,16187,null,null,0,1112]
[12,16288,14,16302,24,16336,23,16348,null,null,0,1122]
[12,16445,14,16452,13,16464,14,16469,null,null,0,1111]
[12,16571,14,16584,13,16588,23,16599,null,null,0,1112]
[12,16697,14,16701,13,16711,14,16716,null,null,0,1111]
[12,16813,14,16820,13,16830,14,16834,null,null,0,1111]
[12,16935,14,16947,13,16954,14,16958,null,null,0,1111]
[12,17060,14,17067,13,17072,14,17086,null,null,0,1111]
[12,17188,14,17203,13,17207,23,17218,null,null,0,1112]
[12,17317,14,17324,13,17329,14,17341,null,null,0,1111]
[12,17437,14,17443,13,17453,14,17457,null,null,0,1111]
[12,17555,14,17564,13,17584,23,17596,null,null,0,1112]
[12,17692,14,17696,13,17701,14,17722,null,null,0,1111]
[12,17819,14,17824,13,17837,23,17869,null,null,0,1112]
[12,17968,14,17984,13,17989,23,18014,null,null,0,1112]
[12,18116,14,18133,13,18137,23,18160,null,null,0,1112]
[12,18260,14,18265,13,18270,23,18280,null,null,0,1112]
[12,18377,14,18381,13,18385,14,18391,null,null,0,1111]
[12,18492,14,18496,13,18500,14,18510,null,null,0,1111]
[12,18606,14,18611,13,18617,14,18649,null,null,0,1111]
[12,18748,14,18752,13,18760,23,18773,null,null,0,1112]
[12,18873,14,18878,13,18883,23,18894,null,null,0,1112]
[12,18994,14,19002,24,19013,23,19025,null,null,0,1122]
[12,19126,14,19132,13,19136,14,19139,null,null,0,1111]
[12,19237,14,19241,13,19251,14,19256,null,null,0,1111]
[12,19352,14,19358,13,19370,14,19378,null,null,0,1111]
[12,19520,14,19542,13,19551,23,19563,null,null,0,1112]
[12,19659,14,19723,13,19744,23,19756,null,null,0,1112]
[12,19866,14,19877,13,19880,14,19897,null,null,0,1111]
[12,19993,14,20002,13,20021,14,20029,null,null,0,1111]
[12,20133,14,20137,24,20145,14,20154,null,null,0,1121]
[12,20254,14,20265,13,20271,14,20274,null,null,0,1111]
[12,20372,14,20381,13,20385,23,20395,null,null,0,1112]
[12,20494,14,20499,13,20508,23,20520,null,null,0,1112]
[12,20621,14,20625,13,20638,23,20650,null,null,0,1112]
[12,20749,14,20754,13,20759,14,20769,null,null,0,1111]
[12,20869,14,20873,13,20884,14,20887,null,null,0,1111]
[12,20985,14,20992,13,21002,14,21006,null,null,0,1111]
[12,21127,14,21147,13,21157,14,21169,null,null,0,1111]
[12,21272,14,21281,13,21290,23,21303,null,null,0,1112]
[12,21398,14,21407,13,21416,23,21427,null,null,0,1112]
[12,21530,14,21534,13,21548,23,21570,null,null,0,1112]
[12,21670,14,21680,13,21683,14,21696,null,null,0,1111]
[12,21796,14,21802,13,21809,14,21814,null,null,0,1111]
[12,21915,14,21928,13,21932,23,21943,null,null,0,1112]
[12,22040,14,22045,13,22058,14,22063,null,null,0,1111]
[12,22162,14,22167,13,22175,14,22179,null,null,0,1111]
[12,22277,14,22282,13,22293,23,22304,null,null,0,1112]
[12,22406,14,22419,24,22429,23,22440,null,null,0,1122]
[12,22541,14,22544,13,22549,14,22558,null,null,0,1111]
[12,22656,14,22665,13,22675,14,22688,null,null,0,1111]
[12,22800,14,22803,24,22815,23,22827,null,null,0,1122]
[12,22934,23,22945,24,22953,14,22968,null,null,0,1221]
[12,23070,14,23074,13,23085,14,23099,null,null,0,1111]
[12,23196,14,23205,13,23210,14,23218,null,null,0,1111]
[12,23314,14,23319,13,23329,14,23340,null,null,0,1111]
[12,23441,14,23444,13,23449,23,23459,null,null,0,1112]
[12,23595,14,23604,13,23612,14,23620,null,null,0,1111]
[12,23718,14,23722,13,23736,23,23747,null,null,0,1112]
[12,23844,14,23848,13,23862,23,23882,null,null,0,1112]
[12,23983,14,23995,null,null,null,null,null,null,null,11]

{"sheet":"!M830B10.104","index":16,"n_rows":203,"n_cols":48,"rows_kept":203,"cut":false,"hidden":false,"merged":[[4,39,4,42],[5,39,5,40],[4,44,4,47],[5,44,5,45],[4,24,4,27],[5,24,5,25],[4,29,4,32],[5,29,5,30],[4,34,4,37],[5,34,5,35],[1,1,1,2],[5,13,5,14],[26,13,26,14],[27,13,27,14],[4,19,4,22],[5,19,5,20]]}
["Report for:!M830B10.104"]
["Date:","<date>"]
["Hen:","<hen>",null,null,null,"Correct Sequence",{"$f":"Start!J2","v":2212},null,null,null,null,null,null,null,null,"Total Sequences in Data",{"$f":"4994-COUNTBLANK(L7:L5000)","v":197},null,null,null,null,"Total Sequences in Block Data",{"$f":"COUNTA(L7:L39)","v":33},null,null,null,"Total Sequences in Block Data",{"$f":"COUNTA(L40:L72)","v":33},null,null,null,"Total Sequences in Block Data",{"$f":"COUNTA(L73:L104)","v":32},null,null,null,"Total Sequences in Block Data",{"$f":"COUNTA(L105:L137)","v":33},null,null,null,"Total Sequences in Block Data",{"$f":"COUNTA(L138:L170)","v":33},null,null,null,"Total Sequences in Block Data",{"$f":"COUNTA(L171:L203)","v":33}]
[null,null,null,null,null,null,null,null,null,null,null,null,null,null,null,"Total Sequences in Summary",{"$f":"SUM(O7:O22)","v":197},null,null,null,null,"Total Sequences in Block Summary",{"$f":"SUM(U7:U22)","v":33},null,null,null,"Total Sequences in Block Summary",{"$f":"SUM(Z7:Z22)","v":33},null,null,null,"Total Sequences in Block Summary",{"$f":"SUM(AE7:AE22)","v":32},null,null,null,"Total Sequences in Block Summary",{"$f":"SUM(AJ7:AJ22)","v":33},null,null,null,"Total Sequences in Block Summary",{"$f":"SUM(AO7:AO22)","v":33},null,null,null,"Total Sequences in Block Summary",{"$f":"SUM(AT7:AT22)","v":33}]
[null,null,null,null,null,null,null,null,null,null,null,null,null,null,null,null,null,null,null,"Block 1",null,null,null,null,"Block 2",null,null,null,null,"Block 3",null,null,null,null,"Block 4",null,null,null,null,"Block 5",null,null,null,null,"Block 6"]
["Sequence\nComponent\n1","Time\n1","Sequence\nComponent\n2","Time\n2","Sequence\nComponent\n3","Time\n3","Sequence\nComponent\n4","Time\n4","Sequence\nComponent\n5","Time\n5","Correct?\n0=No 1=Yes","Sequence",null,"Frequency",null,"Relative Frequency","Variability",null,null,"Frequency",null,"Relative Frequency","Variability",null,"Frequency",null,"Relative Frequency","Variability",null,"Frequency",null,"Relative Frequency","Variability",null,"Frequency",null,"Relative Frequency","Variability",null,"Frequency",null,"Relative Frequency","Variability",null,"Frequency",null,"Relative Frequency","Variability"]
[12,9,14,15,13,21,23,29,null,null,0,1112,null,1111,{"$f":"COUNTIF($L$7:$L$500,N7)","v":162},{"$f":"O7/$Q$4","v":0.82233502538071068},{"$f":"IF(P7=0,0,(P7*((LOG(P7))/LOG(2))))","v":-0.23206443799301396},null,null,{"$f":"N7","v":1111},{"$f":"COUNTIF(L7:L39,T7)","v":17},{"$f":"U7/(W4-U20)","v":0.51515151515151514},{"$f":"IF(V7=0,0,(V7*((LOG(V7))/LOG(2))))","v":-0.49296459781327084},null,{"$f":"N7","v":1111},{"$f":"COUNTIF(L40:L72,Y7)","v":30},{"$f":"Z7/(AB4-Z20)","v":0.90909090909090906},{"$f":"IF(AA7=0,0,(AA7*((LOG(AA7))/LOG(2))))","v":-0.12500320340903179},null,{"$f":"N7","v":1111},{"$f":"COUNTIF(L73:L104,AD7)","v":29},{"$f":"AE7/(AG4-AE20)","v":0.90625},{"$f":"IF(AF7=0,0,(AF7*((LOG(AF7))/LOG(2))))","v":-0.12870472316563777},null,{"$f":"N7","v":1111},{"$f":"COUNTIF(L105:L137,AI7)","v":31},{"$f":"AJ7/(AL4-AJ20)","v":0.93939393939393945},{"$f":"IF(AK7=0,0,(AK7*((LOG(AK7))/LOG(2))))","v":-8.4731275094512809E-2},null,{"$f":"N7","v":1111},{"$f":"COUNTIF(L138:L170,AN7)","v":28},{"$f":"AO7/(AQ4-AO20)","v":0.84848484848484851},{"$f":"IF(AP7=0,0,(AP7*((LOG(AP7))/LOG(2))))","v":-0.20112416740678121},null,{"$f":"N7","v":1111},{"$f":"COUNTIF(L171:L203,AS7)","v":27},{"$f":"AT7/(AV4-AT20)","v":0.81818181818181823},{"$f":"IF(AU7=0,0,(AU7*((LOG(AU7))/LOG(2))))","v":-0.23686905043226034}]
[12,129,14,134,13,138,14,147,null,null,0,1111,null,1112,{"$f":"COUNTIF($L$7:$L$500,N8)","v":19},{"$f":"O8/$Q$4","v":9.6446700507614211E-2},{"$f":"IF(P8=0,0,(P8*((LOG(P8))/LOG(2))))","v":-0.32542315641747727},null,null,{"$f":"N8","v":1112},{"$f":"COUNTIF(L7:L39,T8)","v":5},{"$f":"U8/(W4-U20)","v":0.15151515151515152},{"$f":"IF(V8=0,0,(V8*((LOG(V8))/LOG(2))))","v":-0.41249485219258958},null,{"$f":"N8","v":1112},{"$f":"COUNTIF(L40:L72,Y8)","v":2},{"$f":"Z8/(AB4-Z20)","v":6.0606060606060608E-2},{"$f":"IF(AA8=0,0,(AA8*((LOG(AA8))/LOG(2))))","v":-0.24511479511263354},null,{"$f":"N8","v":1112},{"$f":"COUNTIF(L73:L104,AD8)","v":3},{"$f":"AE8/(AG4-AE20)","v":9.375E-2},{"$f":"IF(AF8=0,0,(AF8*((LOG(AF8))/LOG(2))))","v":-0.32015976555739156},null,{"$f":"N8","v":1112},{"$f":"COUNTIF(L105:L137,AI8)","v":1},{"$f":"AJ8/(AL4-AJ20)","v":3.0303030303030304E-2},{"$f":"IF(AK8=0,0,(AK8*((LOG(AK8))/LOG(2))))","v":-0.15286042785934709},null,{"$f":"N8","v":1112},{"$f":"COUNTIF(L138:L170,AN8)","v":3},{"$f":"AO8/(AQ4-AO20)","v":9.0909090909090912E-2},{"$f":"IF(AP8=0,0,(AP8*((LOG(AP8))/LOG(2))))","v":-0.31449378351248153},null,{"$f":"N8","v":1112},{"$f":"COUNTIF(L171:L203,AS8)","v":5},{"$f":"AT8/(AV4-AT20)","v":0.15151515151515152},{"$f":"IF(AU8=0,0,(AU8*((LOG(AU8))/LOG(2))))","v":-0.41249485219258958}]
[12,244,23,256,24,264,23,276,null,null,0,1222,null,1121,{"$f":"COUNTIF($L$7:$L$500,N9)","v":2},{"$f":"O9/$Q$4","v":1.015228426395939E-2},{"$f":"IF(P9=0,0,(P9*((LOG(P9))/LOG(2))))","v":-6.7228952481790616E-2},null,null,{"$f":"N9","v":1121},{"$f":"COUNTIF(L7:L39,T9)","v":1},{"$f":"U9/(W4-U20)","v":3.0303030303030304E-2},{"$f":"IF(V9=0,0,(V9*((LOG(V9))/LOG(2))))","v":-0.15286042785934709},null,{"$f":"N9","v":1121},{"$f":"COUNTIF(L40:L72,Y9)","v":0},{"$f":"Z9/(AB4-Z20)","v":0},{"$f":"IF(AA9=0,0,(AA9*((LOG(AA9))/LOG(2))))","v":0},null,{"$f":"N9","v":1121},{"$f":"COUNTIF(L73:L104,AD9)","v":0},{"$f":"AE9/(AG4-AE20)","v":0},{"$f":"IF(AF9=0,0,(AF9*((LOG(AF9))/LOG(2))))","v":0},null,{"$f":"N9","v":1121},{"$f":"COUNTIF(L105:L137,AI9)","v":0},{"$f":"AJ9/(AL4-AJ20)","v":0},{"$f":"IF(AK9=0,0,(AK9*((LOG(AK9))/LOG(2))))","v":0},null,{"$f":"N9","v":1121},{"$f":"COUNTIF(L138:L170,AN9)","v":1},{"$f":"AO9/(AQ4-AO20)","v":3.0303030303030304E-2},{"$f":"IF(AP9=0,0,(AP9*((LOG(AP9))/LOG(2))))","v":-0.15286042785934709},null,{"$f":"N9","v":1121},{"$f":"COUNTIF(L171:L203,AS9)","v":0},{"$f":"AT9/(AV4-AT20)","v":0},{"$f":"IF(AU9=0,0,(AU9*((LOG(AU9))/LOG(2))))","v":0}]
[12,373,23,383,24,391,14,405,null,null,0,1221,null,1122,{"$f":"COUNTIF($L$7:$L$500,N10)","v":9},{"$f":"O10/$Q$4","v":4.5685279187817257E-2},{"$f":"IF(P10=0,0,(P10*((LOG(P10))/LOG(2))))","v":-0.20339665666054099},null,null,{"$f":"N10","v":1122},{"$f":"COUNTIF(L7:L39,T10)","v":7},{"$f":"U10/(W4-U20)","v":0.21212121212121213},{"$f":"IF(V10=0,0,(V10*((LOG(V10))/LOG(2))))","v":-0.47452346609411955},null,{"$f":"N10","v":1122},{"$f":"COUNTIF(L40:L72,Y10)","v":1},{"$f":"Z10/(AB4-Z20)","v":3.0303030303030304E-2},{"$f":"IF(AA10=0,0,(AA10*((LOG(AA10))/LOG(2))))","v":-0.15286042785934709},null,{"$f":"N10","v":1122},{"$f":"COUNTIF(L73:L104,AD10)","v":0},{"$f":"AE10/(AG4-AE20)","v":0},{"$f":"IF(AF10=0,0,(AF10*((LOG(AF10))/LOG(2))))","v":0},null,{"$f":"N10","v":1122},{"$f":"COUNTIF(L105:L137,AI10)","v":1},{"$f":"AJ10/(AL4-AJ20)","v":3.0303030303030304E-2},{"$f":"IF(AK10=0,0,(AK10*((LOG(AK10))/LOG(2))))","v":-0.15286042785934709},null,{"$f":"N10","v":1122},{"$f":"COUNTIF(L138:L170,AN10)","v":0},{"$f":"AO10/(AQ4-AO20)","v":0},{"$f":"IF(AP10=0,0,(AP10*((LOG(AP10))/LOG(2))))","v":0},null,{"$f":"N10","v":1122},{"$f":"COUNTIF(L171:L203,AS10)","v":0},{"$f":"AT10/(AV4-AT20)","v":0},{"$f":"IF(AU10=0,0,(AU10*((LOG(AU10))/LOG(2))))","v":0}]
[12,502,14,520,24,528,23,536,null,null,0,1122,null,1211,{"$f":"COUNTIF($L$7:$L$500,N11)","v":1},{"$f":"O11/$Q$4","v":5.076142131979695E-3},{"$f":"IF(P11=0,0,(P11*((LOG(P11))/LOG(2))))","v":-3.8690618372875005E-2},null,null,{"$f":"N11","v":1211},{"$f":"COUNTIF(L7:L39,T11)","v":0},{"$f":"U11/(W4-U20)","v":0},{"$f":"IF(V11=0,0,(V11*((LOG(V11))/LOG(2))))","v":0},null,{"$f":"N11","v":1211},{"$f":"COUNTIF(L40:L72,Y11)","v":0},{"$f":"Z11/(AB4-Z20)","v":0},{"$f":"IF(AA11=0,0,(AA11*((LOG(AA11))/LOG(2))))","v":0},null,{"$f":"N11","v":1211},{"$f":"COUNTIF(L73:L104,AD11)","v":0},{"$f":"AE11/(AG4-AE20)","v":0},{"$f":"IF(AF11=0,0,(AF11*((LOG(AF11))/LOG(2))))","v":0},null,{"$f":"N11","v":1211},{"$f":"COUNTIF(L105:L137,AI11)","v":0},{"$f":"AJ11/(AL4-AJ20)","v":0},{"$f":"IF(AK11=0,0,(AK11*((LOG(AK11))/LOG(2))))","v":0},null,{"$f":"N11","v":1211},{"$f":"COUNTIF(L138:L170,AN11)","v":0},{"$f":"AO11/(AQ4-AO20)","v":0},{"$f":"IF(AP11=0,0,(AP11*((LOG(AP11))/LOG(2))))","v":0},null,{"$f":"N11","v":1211},{"$f":"COUNTIF(L171:L203,AS11)","v":1},{"$f":"AT11/(AV4-AT20)","v":3.0303030303030304E-2},{"$f":"IF(AU11=0,0,(AU11*((LOG(AU11))/LOG(2))))","v":-0.15286042785934709}]
[12,634,14,639,13,643,14,648,null,null,0,1111,null,1212,{"$f":"COUNTIF($L$7:$L$500,N12)","v":0},{"$f":"O12/$Q$4","v":0},{"$f":"IF(P12=0,0,(P12*((LOG(P12))/LOG(2))))","v":0},null,null,{"$f":"N12","v":1212},{"$f":"COUNTIF(L7:L39,T12)","v":0},{"$f":"U12/(W4-U20)","v":0},{"$f":"IF(V12=0,0,(V12*((LOG(V12))/LOG(2))))","v":0},null,{"$f":"N12","v":1212},{"$f":"COUNTIF(L40:L72,Y12)","v":0},{"$f":"Z12/(AB4-Z20)","v":0},{"$f":"IF(AA12=0,0,(AA12*((LOG(AA12))/LOG(2))))","v":0},null,{"$f":"N12","v":1212},{"$f":"COUNTIF(L73:L104,AD12)","v":0},{"$f":"AE12/(AG4-AE20)","v":0},{"$f":"IF(AF12=0,0,(AF12*((LOG(AF12))/LOG(2))))","v":0},null,{"$f":"N12","v":1212},{"$f":"COUNTIF(L105:L137,AI12)","v":0},{"$f":"AJ12/(AL4-AJ20)","v":0},{"$f":"IF(AK12=0,0,(AK12*((LOG(AK12))/LOG(2))))","v":0},null,{"$f":"N12","v":1212},{"$f":"COUNTIF(L138:L170,AN12)","v":0},{"$f":"AO12/(AQ4-AO20)","v":0},{"$f":"IF(AP12=0,0,(AP12*((LOG(AP12))/LOG(2))))","v":0},null,{"$f":"N12","v":1212},{"$f":"COUNTIF(L171:L203,AS12)","v":0},{"$f":"AT12/(AV4-AT20)","v":0},{"$f":"IF(AU12=0,0,(AU12*((LOG(AU12))/LOG(2))))","v":0}]
[12,747,14,755,13,758,14,763,null,null,0,1111,null,1221,{"$f":"COUNTIF($L$7:$L$500,N13)","v":1},{"$f":"O13/$Q$4","v":5.076142131979695E-3},{"$f":"IF(P13=0,0,(P13*((LOG(P13))/LOG(2))))","v":-3.8690618372875005E-2},null,null,{"$f":"N13","v":1221},{"$f":"COUNTIF(L7:L39,T13)","v":1},{"$f":"U13/(W4-U20)","v":3.0303030303030304E-2},{"$f":"IF(V13=0,0,(V13*((LOG(V13))/LOG(2))))","v":-0.15286042785934709},null,{"$f":"N13","v":1221},{"$f":"COUNTIF(L40:L72,Y13)","v":0},{"$f":"Z13/(AB4-Z20)","v":0},{"$f":"IF(AA13=0,0,(AA13*((LOG(AA13))/LOG(2))))","v":0},null,{"$f":"N13","v":1221},{"$f":"COUNTIF(L73:L104,AD13)","v":0},{"$f":"AE13/(AG4-AE20)","v":0},{"$f":"IF(AF13=0,0,(AF13*((LOG(AF13))/LOG(2))))","v":0},null,{"$f":"N13","v":1221},{"$f":"COUNTIF(L105:L137,AI13)","v":0},{"$f":"AJ13/(AL4-AJ20)","v":0},{"$f":"IF(AK13=0,0,(AK13*((LOG(AK13))/LOG(2))))","v":0},null,{"$f":"N13","v":1221},{"$f":"COUNTIF(L138:L170,AN13)","v":0},{"$f":"AO13/(AQ4-AO20)","v":0},{"$f":"IF(AP13=0,0,(AP13*((LOG(AP13))/LOG(2))))","v":0},null,{"$f":"N13","v":1221},{"$f":"COUNTIF(L171:L203,AS13)","v":0},{"$f":"AT13/(AV4-AT20)","v":0},{"$f":"IF(AU13=0,0,(AU13*((LOG(AU13))/LOG(2))))","v":0}]
[12,861,14,867,24,879,14,901,null,null,0,1121,null,1222,{"$f":"COUNTIF($L$7:$L$500,N14)","v":2},{"$f":"O14/$Q$4","v":1.015228426395939E-2},{"$f":"IF(P14=0,0,(P14*((LOG(P14))/LOG(2))))","v":-6.7228952481790616E-2},null,null,{"$f":"N14","v":1222},{"$f":"COUNTIF(L7:L39,T14)","v":2},{"$f":"U14/(W4-U20)","v":6.0606060606060608E-2},{"$f":"IF(V14=0,0,(V14*((LOG(V14))/LOG(2))))","v":-0.24511479511263354},null,{"$f":"N14","v":1222},{"$f":"COUNTIF(L40:L72,Y14)","v":0},{"$f":"Z14/(AB4-Z20)","v":0},{"$f":"IF(AA14=0,0,(AA14*((LOG(AA14))/LOG(2))))","v":0},null,{"$f":"N14","v":1222},{"$f":"COUNTIF(L73:L104,AD14)","v":0},{"$f":"AE14/(AG4-AE20)","v":0},{"$f":"IF(AF14=0,0,(AF14*((LOG(AF14))/LOG(2))))","v":0},null,{"$f":"N14","v":1222},{"$f":"COUNTIF(L105:L137,AI14)","v":0},{"$f":"AJ14/(AL4-AJ20)","v":0},{"$f":"IF(AK14=0,0,(AK14*((LOG(AK14))/LOG(2))))","v":0},null,{"$f":"N14","v":1222},{"$f":"COUNTIF(L138:L170,AN14)","v":0},{"$f":"AO14/(AQ4-AO20)","v":0},{"$f":"IF(AP14=0,0,(AP14*((LOG(AP14))/LOG(2))))","v":0},null,{"$f":"N14","v":1222},{"$f":"COUNTIF(L171:L203,AS14)","v":0},{"$f":"AT14/(AV4-AT20)","v":0},{"$f":"IF(AU14=0,0,(AU14*((LOG(AU14))/LOG(2))))","v":0}]
[12,994,14,1016,13,1021,14,1029,null,null,0,1111,null,2111,{"$f":"COUNTIF($L$7:$L$500,N15)","v":1},{"$f":"O15/$Q$4","v":5.076142131979695E-3},{"$f":"IF(P15=0,0,(P15*((LOG(P15))/LOG(2))))","v":-3.8690618372875005E-2},null,null,{"$f":"N15","v":2111},{"$f":"COUNTIF(L7:L39,T15)","v":0},{"$f":"U15/(W4-U20)","v":0},{"$f":"IF(V15=0,0,(V15*((LOG(V15))/LOG(2))))","v":0},null,{"$f":"N15","v":2111},{"$f":"COUNTIF(L40:L72,Y15)","v":0},{"$f":"Z15/(AB4-Z20)","v":0},{"$f":"IF(AA15=0,0,(AA15*((LOG(AA15))/LOG(2))))","v":0},null,{"$f":"N15","v":2111},{"$f":"COUNTIF(L73:L104,AD15)","v":0},{"$f":"AE15/(AG4-AE20)","v":0},{"$f":"IF(AF15=0,0,(AF15*((LOG(AF15))/LOG(2))))","v":0},null,{"$f":"N15","v":2111},{"$f":"COUNTIF(L105:L137,AI15)","v":0},{"$f":"AJ15/(AL4-AJ20)","v":0},{"$f":"IF(AK15=0,0,(AK15*((LOG(AK15))/LOG(2))))","v":0},null,{"$f":"N15","v":2111},{"$f":"COUNTIF(L138:L170,AN15)","v":1},{"$f":"AO15/(AQ4-AO20)","v":3.0303030303030304E-2},{"$f":"IF(AP15=0,0,(AP15*((LOG(AP15))/LOG(2))))","v":-0.15286042785934709},null,{"$f":"N15","v":2111},{"$f":"COUNTIF(L171:L203,AS15)","v":0},{"$f":"AT15/(AV4-AT20)","v":0},{"$f":"IF(AU15=0,0,(AU15*((LOG(AU15))/LOG(2))))","v":0}]
[12,1128,14,1132,13,1136,14,1140,null,null,0,1111,null,2112,{"$f":"COUNTIF($L$7:$L$500,N16)","v":0},{"$f":"O16/$Q$4","v":0},{"$f":"IF(P16=0,0,(P16*((LOG(P16))/LOG(2))))","v":0},null,null,{"$f":"N16","v":2112},{"$f":"COUNTIF(L7:L39,T16)","v":0},{"$f":"U16/(W4-U20)","v":0},{"$f":"IF(V16=0,0,(V16*((LOG(V16))/LOG(2))))","v":0},null,{"$f":"N16","v":2112},{"$f":"COUNTIF(L40:L72,Y16)","v":0},{"$f":"Z16/(AB4-Z20)","v":0},{"$f":"IF(AA16=0,0,(AA16*((LOG(AA16))/LOG(2))))","v":0},null,{"$f":"N16","v":2112},{"$f":"COUNTIF(L73:L104,AD16)","v":0},{"$f":"AE16/(AG4-AE20)","v":0},{"$f":"IF(AF16=0,0,(AF16*((LOG(AF16))/LOG(2))))","v":0},null,{"$f":"N16","v":2112},{"$f":"COUNTIF(L105:L137,AI16)","v":0},{"$f":"AJ16/(AL4-AJ20)","v":0},{"$f":"IF(AK16=0,0,(AK16*((LOG(AK16))/LOG(2))))","v":0},null,{"$f":"N16","v":2112},{"$f":"COUNTIF(L138:L170,AN16)","v":0},{"$f":"AO16/(AQ4-AO20)","v":0},{"$f":"IF(AP16=0,0,(AP16*((LOG(AP16))/LOG(2))))","v":0},null,{"$f":"N16","v":2112},{"$f":"COUNTIF(L171:L203,AS16)","v":0},{"$f":"AT16/(AV4-AT20)","v":0},{"$f":"IF(AU16=0,0,(AU16*((LOG(AU16))/LOG(2))))","v":0}]
[12,1241,14,1245,13,1250,14,1257,null,null,0,1111,null,2121,{"$f":"COUNTIF($L$7:$L$500,N17)","v":0},{"$f":"O17/$Q$4","v":0},{"$f":"IF(P17=0,0,(P17*((LOG(P17))/LOG(2))))","v":0},null,null,{"$f":"N17","v":2121},{"$f":"COUNTIF(L7:L39,T17)","v":0},{"$f":"U17/(W4-U20)","v":0},{"$f":"IF(V17=0,0,(V17*((LOG(V17))/LOG(2))))","v":0},null,{"$f":"N17","v":2121},{"$f":"COUNTIF(L40:L72,Y17)","v":0},{"$f":"Z17/(AB4-Z20)","v":0},{"$f":"IF(AA17=0,0,(AA17*((LOG(AA17))/LOG(2))))","v":0},null,{"$f":"N17","v":2121},{"$f":"COUNTIF(L73:L104,AD17)","v":0},{"$f":"AE17/(AG4-AE20)","v":0},{"$f":"IF(AF17=0,0,(AF17*((LOG(AF17))/LOG(2))))","v":0},null,{"$f":"N17","v":2121},{"$f":"COUNTIF(L105:L137,AI17)","v":0},{"$f":"AJ17/(AL4-AJ20)","v":0},{"$f":"IF(AK17=0,0,(AK17*((LOG(AK17))/LOG(2))))","v":0},null,{"$f":"N17","v":2121},{"$f":"COUNTIF(L138:L170,AN17)","v":0},{"$f":"AO17/(AQ4-AO20)","v":0},{"$f":"IF(AP17=0,0,(AP17*((LOG(AP17))/LOG(2))))","v":0},null,{"$f":"N17","v":2121},{"$f":"COUNTIF(L171:L203,AS17)","v":0},{"$f":"AT17/(AV4-AT20)","v":0},{"$f":"IF(AU17=0,0,(AU17*((LOG(AU17))/LOG(2))))","v":0}]
[12,1358,14,1361,13,1365,14,1371,null,null,0,1111,null,2122,{"$f":"COUNTIF($L$7:$L$500,N18)","v":0},{"$f":"O18/$Q$4","v":0},{"$f":"IF(P18=0,0,(P18*((LOG(P18))/LOG(2))))","v":0},null,null,{"$f":"N18","v":2122},{"$f":"COUNTIF(L7:L39,T18)","v":0},{"$f":"U18/(W4-U20)","v":0},{"$f":"IF(V18=0,0,(V18*((LOG(V18))/LOG(2))))","v":0},null,{"$f":"N18","v":2122},{"$f":"COUNTIF(L40:L72,Y18)","v":0},{"$f":"Z18/(AB4-Z20)","v":0},{"$f":"IF(AA18=0,0,(AA18*((LOG(AA18))/LOG(2))))","v":0},null,{"$f":"N18","v":2122},{"$f":"COUNTIF(L73:L104,AD18)","v":0},{"$f":"AE18/(AG4-AE20)","v":0},{"$f":"IF(AF18=0,0,(AF18*((LOG(AF18))/LOG(2))))","v":0},null,{"$f":"N18","v":2122},{"$f":"COUNTIF(L105:L137,AI18)","v":0},{"$f":"AJ18/(AL4-AJ20)","v":0},{"$f":"IF(AK18=0,0,(AK18*((LOG(AK18))/LOG(2))))","v":0},null,{"$f":"N18","v":2122},{"$f":"COUNTIF(L138:L170,AN18)","v":0},{"$f":"AO18/(AQ4-AO20)","v":0},{"$f":"IF(AP18=0,0,(AP18*((LOG(AP18))/LOG(2))))","v":0},null,{"$f":"N18","v":2122},{"$f":"COUNTIF(L171:L203,AS18)","v":0},{"$f":"AT18/(AV4-AT20)","v":0},{"$f":"IF(AU18=0,0,(AU18*((LOG(AU18))/LOG(2))))","v":0}]
[12,1471,14,1475,13,1480,14,1484,null,null,0,1111,null,2211,{"$f":"COUNTIF($L$7:$L$500,N19)","v":0},{"$f":"O19/$Q$4","v":0},{"$f":"IF(P19=0,0,(P19*((LOG(P19))/LOG(2))))","v":0},null,null,{"$f":"N19","v":2211},{"$f":"COUNTIF(L7:L39,T19)","v":0},{"$f":"U19/(W4-U20)","v":0},{"$f":"IF(V19=0,0,(V19*((LOG(V19))/LOG(2))))","v":0},null,{"$f":"N19","v":2211},{"$f":"COUNTIF(L40:L72,Y19)","v":0},{"$f":"Z19/(AB4-Z20)","v":0},{"$f":"IF(AA19=0,0,(AA19*((LOG(AA19))/LOG(2))))","v":0},null,{"$f":"N19","v":2211},{"$f":"COUNTIF(L73:L104,AD19)","v":0},{"$f":"AE19/(AG4-AE20)","v":0},{"$f":"IF(AF19=0,0,(AF19*((LOG(AF19))/LOG(2))))","v":0},null,{"$f":"N19","v":2211},{"$f":"COUNTIF(L105:L137,AI19)","v":0},{"$f":"AJ19/(AL4-AJ20)","v":0},{"$f":"IF(AK19=0,0,(AK19*((LOG(AK19))/LOG(2))))","v":0},null,{"$f":"N19","v":2211},{"$f":"COUNTIF(L138:L170,AN19)","v":0},{"$f":"AO19/(AQ4-AO20)","v":0},{"$f":"IF(AP19=0,0,(AP19*((LOG(AP19))/LOG(2))))","v":0},null,{"$f":"N19","v":2211},{"$f":"COUNTIF(L171:L203,AS19)","v":0},{"$f":"AT19/(AV4-AT20)","v":0},{"$f":"IF(AU19=0,0,(AU19*((LOG(AU19))/LOG(2))))","v":0}]
[12,1585,14,1589,13,1593,14,1598,null,null,0,1111,null,2212,{"$f":"COUNTIF($L$7:$L$500,N20)","v":0},{"$f":"O20/$Q$4","v":0},{"$f":"IF(P20=0,0,(P20*((LOG(P20))/LOG(2))))","v":0},null,null,{"$f":"N20","v":2212},{"$f":"COUNTIF(L7:L39,T20)","v":0},null,null,null,{"$f":"N20","v":2212},{"$f":"COUNTIF(L40:L72,Y20)","v":0},null,null,null,{"$f":"N20","v":2212},{"$f":"COUNTIF(L73:L104,AD20)","v":0},null,null,null,{"$f":"N20","v":2212},{"$f":"COUNTIF(L105:L137,AI20)","v":0},null,null,null,{"$f":"N20","v":2212},{"$f":"COUNTIF(L138:L170,AN20)","v":0},null,null,null,{"$f":"N20","v":2212},{"$f":"COUNTIF(L171:L203,AS20)","v":0}]
[12,1704,14,1708,13,1712,14,1716,null,null,0,1111,null,2221,{"$f":"COUNTIF($L$7:$L$500,N21)","v":0},{"$f":"O21/$Q$4","v":0},{"$f":"IF(P21=0,0,(P21*((LOG(P21))/LOG(2))))","v":0},null,null,{"$f":"N21","v":2221},{"$f":"COUNTIF(L7:L39,T21)","v":0},{"$f":"U21/(W4-U20)","v":0},{"$f":"IF(V21=0,0,(V21*((LOG(V21))/LOG(2))))","v":0},null,{"$f":"N21","v":2221},{"$f":"COUNTIF(L40:L72,Y21)","v":0},{"$f":"Z21/(AB4-Z20)","v":0},{"$f":"IF(AA21=0,0,(AA21*((LOG(AA21))/LOG(2))))","v":0},null,{"$f":"N21","v":2221},{"$f":"COUNTIF(L73:L104,AD21)","v":0},{"$f":"AE21/(AG4-AE20)","v":0},{"$f":"IF(AF21=0,0,(AF21*((LOG(AF21))/LOG(2))))","v":0},null,{"$f":"N21","v":2221},{"$f":"COUNTIF(L105:L137,AI21)","v":0},{"$f":"AJ21/(AL4-AJ20)","v":0},{"$f":"IF(AK21=0,0,(AK21*((LOG(AK21))/LOG(2))))","v":0},null,{"$f":"N21","v":2221},{"$f":"COUNTIF(L138:L170,AN21)","v":0},{"$f":"AO21/(AQ4-AO20)","v":0},{"$f":"IF(AP21=0,0,(AP21*((LOG(AP21))/LOG(2))))","v":0},null,{"$f":"N21","v":2221},{"$f":"COUNTIF(L171:L203,AS21)","v":0},{"$f":"AT21/(AV4-AT20)","v":0},{"$f":"IF(AU21=0,0,(AU21*((LOG(AU21))/LOG(2))))","v":0}]
[12,1822,14,1833,13,1837,23,1849,null,null,0,1112,null,2222,{"$f":"COUNTIF($L$7:$L$500,N22)","v":0},{"$f":"O22/$Q$4","v":0},{"$f":"IF(P22=0,0,(P22*((LOG(P22))/LOG(2))))","v":0},null,null,{"$f":"N22","v":2222},{"$f":"COUNTIF(L7:L39,T22)","v":0},{"$f":"U22/(W4-U20)","v":0},{"$f":"IF(V22=0,0,(V22*((LOG(V22))/LOG(2))))","v":0},null,{"$f":"N22","v":2222},{"$f":"COUNTIF(L40:L72,Y22)","v":0},{"$f":"Z22/(AB4-Z20)","v":0},{"$f":"IF(AA22=0,0,(AA22*((LOG(AA22))/LOG(2))))","v":0},null,{"$f":"N22","v":2222},{"$f":"COUNTIF(L73:L104,AD22)","v":0},{"$f":"AE22/(AG4-AE20)","v":0},{"$f":"IF(AF22=0,0,(AF22*((LOG(AF22))/LOG(2))))","v":0},null,{"$f":"N22","v":2222},{"$f":"COUNTIF(L105:L137,AI22)","v":0},{"$f":"AJ22/(AL4-AJ20)","v":0},{"$f":"IF(AK22=0,0,(AK22*((LOG(AK22))/LOG(2))))","v":0},null,{"$f":"N22","v":2222},{"$f":"COUNTIF(L138:L170,AN22)","v":0},{"$f":"AO22/(AQ4-AO20)","v":0},{"$f":"IF(AP22=0,0,(AP22*((LOG(AP22))/LOG(2))))","v":0},null,{"$f":"N22","v":2222},{"$f":"COUNTIF(L171:L203,AS22)","v":0},{"$f":"AT22/(AV4-AT20)","v":0},{"$f":"IF(AU22=0,0,(AU22*((LOG(AU22))/LOG(2))))","v":0}]
[12,1952,14,1957,13,1961,14,1965,null,null,0,1111,null,null,null,{"$f":"SUM(P7:P22)","v":1},{"$f":"-SUM(Q7:Q22)","v":1.0114140111532384},null,null,null,null,{"$f":"SUM(V7:V22)","v":1},{"$f":"-SUM(W7:W22)","v":1.9308185669313076},null,null,null,{"$f":"SUM(AA7:AA22)","v":1},{"$f":"-SUM(AB7:AB22)","v":0.52297842638101244},null,null,null,{"$f":"SUM(AF7:AF22)","v":1},{"$f":"-SUM(AG7:AG22)","v":0.44886448872302931},null,null,null,{"$f":"SUM(AK7:AK22)","v":1},{"$f":"-SUM(AL7:AL22)","v":0.39045213081320695},null,null,null,{"$f":"SUM(AP7:AP22)","v":1},{"$f":"-SUM(AQ7:AQ22)","v":0.82133880663795689},null,null,null,{"$f":"SUM(AU7:AU22)","v":1},{"$f":"-SUM(AV7:AV22)","v":0.80222433048419695}]
[12,2064,23,2078,24,2085,23,2095,null,null,0,1222,null,null,null,"U=",{"$f":"Q23/(LOG(Q4)/LOG(2))","v":0.13269576685000481},null,null,null,null,"U1=",{"$f":"W23/(LOG(W4)/LOG(2))","v":0.38276520851564022},null,null,null,"U2=",{"$f":"AB23/(LOG(AB4)/LOG(2))","v":0.10367517168692697},null,null,null,"U3=",{"$f":"AG23/(LOG(AG4)/LOG(2))","v":8.9772897744605867E-2},null,null,null,"U4=",{"$f":"AL23/(LOG(AL4)/LOG(2))","v":7.7403176987063949E-2},null,null,null,"U5=",{"$f":"AQ23/(LOG(AQ4)/LOG(2))","v":0.16282209264458006},null,null,null,"U6=",{"$f":"AV23/(LOG(AV4)/LOG(2))","v":0.15903284150728172}]
[12,2201,14,2218,13,2227,14,2231,null,null,0,1111]
[12,2333,14,2337,13,2341,14,2346,null,null,0,1111]
[12,2447,14,2451,13,2455,23,2466,null,null,0,1112,null,"Total Target Seq"]
[12,2564,14,2571,24,2591,23,2613,null,null,0,1122,null,{"$f":"COUNTIF(L7:L203,G3)","v":0},null,33,33,32,33,33,33]
[12,2712,14,2716,24,2727,23,2738,null,null,0,1122,null,null,null,"% of reinforcement given in 6 equal intervals based on number of trials "]
[12,2830,14,2834,13,2838,14,2842,null,null,0,1111,null,null,null,"%_1","%_2","%_3","%_4","%_5","%_6"]
[12,2939,14,2942,24,2958,23,2966,null,null,0,1122,null,null,"target sequence",{"$f":"$G$3","v":2212},{"$f":"$G$3","v":2212},{"$f":"$G$3","v":2212},{"$f":"$G$3","v":2212},{"$f":"$G$3","v":2212},{"$f":"$G$3","v":2212}]
[12,3064,14,3068,13,3072,14,3076,null,null,0,1111,null,null,"total reinforcement",{"$f":"U20","v":0},{"$f":"Z20","v":0},{"$f":"AE20","v":0},{"$f":"AJ20","v":0},{"$f":"AO20","v":0},{"$f":"AT20","v":0}]
[12,3173,14,3177,24,3193,23,3200,null,null,0,1122,null,null,"% target"]
[12,3301,14,3306,24,3317,23,3339,null,null,0,1122,null,null,"CCRF"]
[12,3445,14,3451,13,3459,23,3475,null,null,0,1112,null,null,"% CCRf"]
[12,3569,14,3581,24,3593,23,3602,null,null,0,1122,null,null,"average response rate",{"$f":"H39/P28","v":120.60606060606061},{"$f":"(H72-H39)/Q28","v":119},{"$f":"(H104-H72)/R28","v":120.625},{"$f":"(H137-H104)/S28","v":121.48484848484848},{"$f":"(H170-H137)/T28","v":123.45454545454545},{"$f":"(H203-H170)/U28","v":124.18181818181819}]
[12,3704,14,3714,13,3719,14,3722,null,null,0,1111]
[12,3823,14,3836,13,3845,23,3867,null,null,0,1112]
[12,3961,14,3967,13,3977,14,3980,null,null,0,1111]
[12,4099,14,4108,13,4114,23,4132,null,null,0,1112]
[12,4238,14,4250,13,4257,14,4261,null,null,0,1111]
[12,4361,14,4365,13,4369,14,4380,null,null,0,1111]
[12,4478,14,4481,13,4492,14,4496,null,null,0,1111]
[12,4595,14,4599,13,4609,14,4612,null,null,0,1111]
[12,4711,14,4725,13,4730,14,4738,null,null,0,1111]
[12,4836,14,4840,13,4846,14,4850,null,null,0,1111]
[12,4949,14,4952,13,4956,14,4968,null,null,0,1111]
[12,5061,14,5065,13,5074,14,5078,null,null,0,1111]
[12,5178,14,5182,13,5185,14,5190,null,null,0,1111]
[12,5286,14,5290,13,5294,14,5303,null,null,0,1111]
[12,5403,14,5406,13,5410,14,5413,null,null,0,1111]
[12,5515,14,5519,13,5527,14,5547,null,null,0,1111]
[12,5646,14,5650,13,5653,14,5658,null,null,0,1111]
[12,5757,14,5761,13,5764,14,5768,null,null,0,1111]
[12,5867,14,5871,13,5875,14,5883,null,null,0,1111]
[12,5980,14,5983,13,5987,14,5991,null,null,0,1111]
[12,6087,14,6091,13,6099,14,6105,null,null,0,1111]
[12,6206,14,6211,13,6215,14,6226,null,null,0,1111]
[12,6324,14,6328,13,6332,14,6344,null,null,0,1111]
[12,6441,14,6458,13,6462,14,6468,null,null,0,1111]
[12,6566,14,6569,13,6573,23,6584,null,null,0,1112]
[12,6681,14,6685,13,6706,14,6713,null,null,0,1111]
[12,6809,14,6813,13,6820,14,6824,null,null,0,1111]
[12,6917,14,6931,13,6936,14,6941,null,null,0,1111]
[12,7037,14,7041,13,7045,14,7053,null,null,0,1111]
[12,7159,14,7163,24,7183,23,7192,null,null,0,1122]
[12,7292,14,7296,13,7310,14,7321,null,null,0,1111]
[12,7419,14,7423,13,7427,14,7441,null,null,0,1111]
[12,7536,14,7540,13,7544,14,7547,null,null,0,1111]
[12,7645,14,7649,13,7657,14,7661,null,null,0,1111]
[12,7756,14,7765,13,7775,14,7783,null,null,0,1111]
[12,7881,14,7885,13,7894,14,7907,null,null,0,1111]
[12,8009,14,8013,13,8017,14,8025,null,null,0,1111]
[12,8127,14,8134,13,8142,14,8157,null,null,0,1111]
[12,8248,14,8252,13,8259,14,8270,null,null,0,1111]
[12,8365,14,8369,13,8373,14,8380,null,null,0,1111]
[12,8481,14,8489,13,8494,14,8503,null,null,0,1111]
[12,8597,14,8604,13,8609,14,8614,null,null,0,1111]
[12,8709,14,8726,13,8734,14,8741,null,null,0,1111]
[12,8838,14,8841,13,8848,14,8862,null,null,0,1111]
[12,8958,14,8976,13,8980,23,9001,null,null,0,1112]
[12,9099,14,9117,13,9157,23,9175,null,null,0,1112]
[12,9278,14,9282,13,9285,14,9293,null,null,0,1111]
[12,9389,14,9396,13,9399,14,9409,null,null,0,1111]
[12,9509,14,9512,13,9516,14,9524,null,null,0,1111]
[12,9628,14,9632,13,9642,14,9660,null,null,0,1111]
[12,9761,14,9764,13,9772,14,9777,null,null,0,1111]
[12,9879,14,9886,13,9893,14,9904,null,null,0,1111]
[12,9998,14,10005,13,10013,14,10021,null,null,0,1111]
[12,10117,14,10122,13,10130,14,10137,null,null,0,1111]
[12,10234,14,10241,13,10251,14,10258,null,null,0,1111]
[12,10359,14,10362,13,10366,14,10370,null,null,0,1111]
[12,10467,14,10479,13,10488,14,10495,null,null,0,1111]
[12,10595,14,10598,13,10602,14,10605,null,null,0,1111]
[12,10699,14,10703,13,10710,14,10713,null,null,0,1111]
[12,10809,14,10819,13,10826,14,10831,null,null,0,1111]
[12,10927,14,10934,13,10941,14,10954,null,null,0,1111]
[12,11048,14,11060,13,11071,14,11076,null,null,0,1111]
[12,11172,14,11176,13,11180,14,11189,null,null,0,1111]
[12,11285,14,11290,13,11297,14,11301,null,null,0,1111]
[12,11398,14,11401,13,11405,23,11425,null,null,0,1112]
[12,11522,14,11526,13,11530,14,11534,null,null,0,1111]
[12,11632,14,11636,13,11641,14,11645,null,null,0,1111]
[12,11743,14,11758,13,11762,14,11767,null,null,0,1111]
[12,11867,14,11872,13,11875,14,11880,null,null,0,1111]
[12,11977,14,11982,13,11985,14,11990,null,null,0,1111]
[12,12089,14,12092,13,12096,14,12103,null,null,0,1111]
[12,12199,14,12210,13,12218,14,12223,null,null,0,1111]
[12,12321,14,12325,13,12329,14,12333,null,null,0,1111]
[12,12425,14,12429,13,12437,14,12444,null,null,0,1111]
[12,12544,14,12548,13,12552,14,12556,null,null,0,1111]
[12,12653,14,12659,13,12663,14,12666,null,null,0,1111]
[12,12763,14,12767,24,12790,23,12802,null,null,0,1122]
[12,12905,14,12909,13,12912,14,12916,null,null,0,1111]
[12,13018,14,13022,13,13028,14,13045,null,null,0,1111]
[12,13141,14,13146,13,13157,14,13161,null,null,0,1111]
[12,13262,14,13267,13,13271,14,13292,null,null,0,1111]
[12,13394,14,13399,13,13412,14,13416,null,null,0,1111]
[12,13557,14,13564,13,13571,14,13583,null,null,0,1111]
[12,13697,14,13704,13,13727,14,13732,null,null,0,1111]
[12,13829,14,13843,13,13852,14,13864,null,null,0,1111]
[12,13960,14,13980,13,13984,14,13989,null,null,0,1111]
[12,14088,14,14093,13,14098,14,14108,null,null,0,1111]
[12,14206,14,14211,13,14214,14,14220,null,null,0,1111]
[12,14317,14,14321,13,14328,14,14332,null,null,0,1111]
[12,14431,14,14441,13,14468,14,14473,null,null,0,1111]
[12,14570,14,14575,13,14584,23,14603,null,null,0,1112]
[12,14708,14,14712,13,14716,14,14723,null,null,0,1111]
[12,14824,14,14828,13,14839,14,14843,null,null,0,1111]
[12,14940,14,14944,13,14948,14,14957,null,null,0,1111]
[12,15059,14,15064,13,15068,14,15072,null,null,0,1111]
[12,15168,14,15171,13,15180,14,15185,null,null,0,1111]
[12,15281,14,15285,13,15302,14,15314,null,null,0,1111]
[12,15411,14,15415,13,15418,14,15427,null,null,0,1111]
[12,15531,14,15535,13,15540,14,15545,null,null,0,1111]
[12,15642,14,15647,13,15657,14,15664,null,null,0,1111]
[12,15764,14,15768,13,15772,14,15776,null,null,0,1111]
[12,15870,14,15890,13,15894,14,15906,null,null,0,1111]
[12,16002,14,16022,13,16027,23,16047,null,null,0,1112]
[12,16147,14,16157,13,16161,14,16168,null,null,0,1111]
[12,16263,14,16267,13,16281,14,16285,null,null,0,1111]
[12,16377,14,16388,13,16397,14,16404,null,null,0,1111]
[12,16501,14,16505,13,16509,14,16513,null,null,0,1111]
[12,16609,14,16620,13,16632,14,16637,null,null,0,1111]
[12,16729,14,16733,13,16736,14,16741,null,null,0,1111]
[12,16839,14,16843,13,16853,14,16858,null,null,0,1111]
[12,16954,14,16962,13,16988,14,16996,null,null,0,1111]
[12,17091,14,17099,13,17102,14,17114,null,null,0,1111]
[12,17210,14,17232,13,17239,23,17252,null,null,0,1112]
[12,17345,14,17361,13,17380,14,17388,null,null,0,1111]
[12,17478,14,17489,13,17492,14,17506,null,null,0,1111]
[12,17601,14,17616,24,17651,14,17666,null,null,0,1121]
[12,17763,14,17767,13,17777,14,17782,null,null,0,1111]
[12,17875,14,17883,13,17891,14,17896,null,null,0,1111]
[12,18001,14,18004,13,18018,14,18026,null,null,0,1111]
[12,18125,14,18128,13,18139,23,18151,null,null,0,1112]
[12,18249,14,18268,13,18288,14,18295,null,null,0,1111]
[12,18394,14,18398,13,18403,14,18410,null,null,0,1111]
[12,18507,14,18511,13,18514,14,18521,null,null,0,1111]
[12,18614,14,18628,13,18635,14,18642,null,null,0,1111]
[12,18743,14,18746,13,18750,14,18758,null,null,0,1111]
[12,18857,14,18861,13,18871,14,18878,null,null,0,1111]
[12,18976,14,18980,13,18984,14,18990,null,null,0,1111]
[12,19085,14,19089,13,19099,14,19103,null,null,0,1111]
[12,19199,14,19203,13,19207,14,19221,null,null,0,1111]
[21,19355,12,19369,13,19376,14,19384,null,null,0,2111]
[12,19481,14,19485,13,19490,14,19499,null,null,0,1111]
[12,19594,14,19598,13,19613,14,19620,null,null,0,1111]
[12,19719,14,19723,13,19726,14,19730,null,null,0,1111]
[12,19826,14,19829,13,19836,14,19850,null,null,0,1111]
[12,19948,14,19953,13,19971,14,19975,null,null,0,1111]
[12,20070,14,20080,13,20085,14,20092,null,null,0,1111]
[12,20193,14,20198,13,20208,14,20215,null,null,0,1111]
[12,20312,14,20315,13,20320,14,20328,null,null,0,1111]
[12,20431,14,20434,13,20440,23,20452,null,null,0,1112]
[12,20547,14,20559,13,20562,23,20574,null,null,0,1112]
[12,20669,14,20673,13,20680,14,20684,null,null,0,1111]
[12,20780,14,20785,13,20792,14,20796,null,null,0,1111]
[12,20896,14,20900,13,20904,14,20907,null,null,0,1111]
[12,21001,14,21004,13,21008,14,21019,null,null,0,1111]
[12,21115,14,21126,13,21130,14,21137,null,null,0,1111]
[12,21237,14,21240,13,21244,14,21252,null,null,0,1111]
[12,21385,23,21405,13,21419,14,21427,null,null,0,1211]
[12,21523,14,21529,13,21565,23,21586,null,null,0,1112]
[12,21683,14,21687,13,21697,14,21702,null,null,0,1111]
[12,21799,14,21813,13,21816,14,21824,null,null,0,1111]
[12,21929,14,21939,13,21947,23,21968,null,null,0,1112]
[12,22064,14,22072,13,22079,14,22084,null,null,0,1111]
[12,22179,14,22189,13,22202,14,22213,null,null,0,1111]
[12,22310,14,22323,13,22327,14,22335,null,null,0,1111]
[12,22427,14,22447,13,22454,14,22461,null,null,0,1111]
[12,22559,14,22575,13,22589,14,22595,null,null,0,1111]
[12,22698,14,22708,13,22712,14,22717,null,null,0,1111]
[12,22818,14,22822,13,22827,14,22842,null,null,0,1111]
[12,22943,14,22954,13,22959,14,22970,null,null,0,1111]
[12,23069,14,23081,13,23092,14,23105,null,null,0,1111]
[12,23207,14,23216,13,23226,23,23242,null,null,0,1112]
[12,23339,14,23343,13,23348,14,23356,null,null,0,1111]
[12,23459,14,23463,13,23467,14,23475,null,null,0,1111]
[12,23571,14,23574,13,23588,14,23594,null,null,0,1111]
[12,23695,14,23705,13,23709,14,23713,null,null,0,1111]
[12,23807,14,23810,13,23814,14,23827,null,null,0,1111]
[12,23923,14,23931,13,23937,14,23948,null,null,null,1111]

{"sheet":"!M831A40.104","index":17,"n_rows":208,"n_cols":48,"rows_kept":208,"cut":false,"hidden":false,"merged":[[4,39,4,42],[5,39,5,40],[4,44,4,47],[5,44,5,45],[4,24,4,27],[5,24,5,25],[4,29,4,32],[5,29,5,30],[4,34,4,37],[5,34,5,35],[1,1,1,2],[5,13,5,14],[26,13,26,14],[27,13,27,14],[4,19,4,22],[5,19,5,20]]}
["Report for:!M831A40.104"]
["Date:","<date>"]
["Hen:","<hen>",null,null,null,"Correct Sequence",{"$f":"Start!J2","v":2212},null,null,null,null,null,null,null,null,"Total Sequences in Data",{"$f":"4994-COUNTBLANK(L7:L5000)","v":202},null,null,null,null,"Total Sequences in Block Data",{"$f":"COUNTA(L7:L40)","v":34},null,null,null,"Total Sequences in Block Data",{"$f":"COUNTA(L41:L73)","v":33},null,null,null,"Total Sequences in Block Data",{"$f":"COUNTA(L74:L107)","v":34},null,null,null,"Total Sequences in Block Data",{"$f":"COUNTA(L108:L141)","v":34},null,null,null,"Total Sequences in Block Data",{"$f":"COUNTA(L142:L174)","v":33},null,null,null,"Total Sequences in Block Data",{"$f":"COUNTA(L175:L208)","v":34}]
[null,null,null,null,null,null,null,null,null,null,null,null,null,null,null,"Total Sequences in Summary",{"$f":"SUM(O7:O22)","v":202},null,null,null,null,"Total Sequences in Block Summary",{"$f":"SUM(U7:U22)","v":34},null,null,null,"Total Sequences in Block Summary",{"$f":"SUM(Z7:Z22)","v":33},null,null,null,"Total Sequences in Block Summary",{"$f":"SUM(AE7:AE22)","v":34},null,null,null,"Total Sequences in Block Summary",{"$f":"SUM(AJ7:AJ22)","v":34},null,null,null,"Total Sequences in Block Summary",{"$f":"SUM(AO7:AO22)","v":33},null,null,null,"Total Sequences in Block Summary",{"$f":"SUM(AT7:AT22)","v":34}]
[null,null,null,null,null,null,null,null,null,null,null,null,null,null,null,null,null,null,null,"Block 1",null,null,null,null,"Block 2",null,null,null,null,"Block 3",null,null,null,null,"Block 4",null,null,null,null,"Block 5",null,null,null,null,"Block 6"]
["Sequence\nComponent\n1","Time\n1","Sequence\nComponent\n2","Time\n2","Sequence\nComponent\n3","Time\n3","Sequence\nComponent\n4","Time\n4","Sequence\nComponent\n5","Time\n5","Correct?\n0=No 1=Yes","Sequence",null,"Frequency",null,"Relative Frequency","Variability",null,null,"Frequency",null,"Relative Frequency","Variability",null,"Frequency",null,"Relative Frequency","Variability",null,"Frequency",null,"Relative Frequency","Variability",null,"Frequency",null,"Relative Frequency","Variability",null,"Frequency",null,"Relative Frequency","Variability",null,"Frequency",null,"Relative Frequency","Variability"]
[21,29,12,41,13,45,14,50,null,null,0,2111,null,1111,{"$f":"COUNTIF($L$7:$L$500,N7)","v":171},{"$f":"O7/$Q$4","v":0.84653465346534651},{"$f":"IF(P7=0,0,(P7*((LOG(P7))/LOG(2))))","v":-0.20347219556964541},null,null,{"$f":"N7","v":1111},{"$f":"COUNTIF(L7:L40,T7)","v":25},{"$f":"U7/(W4-U20)","v":0.73529411764705888},{"$f":"IF(V7=0,0,(V7*((LOG(V7))/LOG(2))))","v":-0.3261813613791284},null,{"$f":"N7","v":1111},{"$f":"COUNTIF(L41:L73,Y7)","v":28},{"$f":"Z7/(AB4-Z20)","v":0.84848484848484851},{"$f":"IF(AA7=0,0,(AA7*((LOG(AA7))/LOG(2))))","v":-0.20112416740678121},null,{"$f":"N7","v":1111},{"$f":"COUNTIF(L74:L107,AD7)","v":28},{"$f":"AE7/(AG4-AE20)","v":0.82352941176470584},{"$f":"IF(AF7=0,0,(AF7*((LOG(AF7))/LOG(2))))","v":-0.2306771099234291},null,{"$f":"N7","v":1111},{"$f":"COUNTIF(L108:L141,AI7)","v":30},{"$f":"AJ7/(AL4-AJ20)","v":0.88235294117647056},{"$f":"IF(AK7=0,0,(AK7*((LOG(AK7))/LOG(2))))","v":-0.1593284520369008},null,{"$f":"N7","v":1111},{"$f":"COUNTIF(L142:L174,AN7)","v":27},{"$f":"AO7/(AQ4-AO20)","v":0.81818181818181823},{"$f":"IF(AP7=0,0,(AP7*((LOG(AP7))/LOG(2))))","v":-0.23686905043226034},null,{"$f":"N7","v":1111},{"$f":"COUNTIF(L175:L208,AS7)","v":33},{"$f":"AT7/(AV4-AT20)","v":0.97058823529411764},{"$f":"IF(AU7=0,0,(AU7*((LOG(AU7))/LOG(2))))","v":-4.1801994777418743E-2}]
[12,157,14,160,13,165,14,169,null,null,0,1111,null,1112,{"$f":"COUNTIF($L$7:$L$500,N8)","v":17},{"$f":"O8/$Q$4","v":8.4158415841584164E-2},{"$f":"IF(P8=0,0,(P8*((LOG(P8))/LOG(2))))","v":-0.30050854903725122},null,null,{"$f":"N8","v":1112},{"$f":"COUNTIF(L7:L40,T8)","v":5},{"$f":"U8/(W4-U20)","v":0.14705882352941177},{"$f":"IF(V8=0,0,(V8*((LOG(V8))/LOG(2))))","v":-0.40669628622984955},null,{"$f":"N8","v":1112},{"$f":"COUNTIF(L41:L73,Y8)","v":2},{"$f":"Z8/(AB4-Z20)","v":6.0606060606060608E-2},{"$f":"IF(AA8=0,0,(AA8*((LOG(AA8))/LOG(2))))","v":-0.24511479511263354},null,{"$f":"N8","v":1112},{"$f":"COUNTIF(L74:L107,AD8)","v":3},{"$f":"AE8/(AG4-AE20)","v":8.8235294117647065E-2},{"$f":"IF(AF8=0,0,(AF8*((LOG(AF8))/LOG(2))))","v":-0.30904414769375149},null,{"$f":"N8","v":1112},{"$f":"COUNTIF(L108:L141,AI8)","v":4},{"$f":"AJ8/(AL4-AJ20)","v":0.11764705882352941},{"$f":"IF(AK8=0,0,(AK8*((LOG(AK8))/LOG(2))))","v":-0.36323092250003997},null,{"$f":"N8","v":1112},{"$f":"COUNTIF(L142:L174,AN8)","v":3},{"$f":"AO8/(AQ4-AO20)","v":9.0909090909090912E-2},{"$f":"IF(AP8=0,0,(AP8*((LOG(AP8))/LOG(2))))","v":-0.31449378351248153},null,{"$f":"N8","v":1112},{"$f":"COUNTIF(L175:L208,AS8)","v":0},{"$f":"AT8/(AV4-AT20)","v":0},{"$f":"IF(AU8=0,0,(AU8*((LOG(AU8))/LOG(2))))","v":0}]
[12,266,14,270,13,274,14,280,null,null,0,1111,null,1121,{"$f":"COUNTIF($L$7:$L$500,N9)","v":3},{"$f":"O9/$Q$4","v":1.4851485148514851E-2},{"$f":"IF(P9=0,0,(P9*((LOG(P9))/LOG(2))))","v":-9.0196767059860961E-2},null,null,{"$f":"N9","v":1121},{"$f":"COUNTIF(L7:L40,T9)","v":2},{"$f":"U9/(W4-U20)","v":5.8823529411764705E-2},{"$f":"IF(V9=0,0,(V9*((LOG(V9))/LOG(2))))","v":-0.24043899066178465},null,{"$f":"N9","v":1121},{"$f":"COUNTIF(L41:L73,Y9)","v":0},{"$f":"Z9/(AB4-Z20)","v":0},{"$f":"IF(AA9=0,0,(AA9*((LOG(AA9))/LOG(2))))","v":0},null,{"$f":"N9","v":1121},{"$f":"COUNTIF(L74:L107,AD9)","v":1},{"$f":"AE9/(AG4-AE20)","v":2.9411764705882353E-2},{"$f":"IF(AF9=0,0,(AF9*((LOG(AF9))/LOG(2))))","v":-0.14963126003677468},null,{"$f":"N9","v":1121},{"$f":"COUNTIF(L108:L141,AI9)","v":0},{"$f":"AJ9/(AL4-AJ20)","v":0},{"$f":"IF(AK9=0,0,(AK9*((LOG(AK9))/LOG(2))))","v":0},null,{"$f":"N9","v":1121},{"$f":"COUNTIF(L142:L174,AN9)","v":0},{"$f":"AO9/(AQ4-AO20)","v":0},{"$f":"IF(AP9=0,0,(AP9*((LOG(AP9))/LOG(2))))","v":0},null,{"$f":"N9","v":1121},{"$f":"COUNTIF(L175:L208,AS9)","v":0},{"$f":"AT9/(AV4-AT20)","v":0},{"$f":"IF(AU9=0,0,(AU9*((LOG(AU9))/LOG(2))))","v":0}]
[12,384,14,389,13,393,23,410,null,null,0,1112,null,1122,{"$f":"COUNTIF($L$7:$L$500,N10)","v":6},{"$f":"O10/$Q$4","v":2.9702970297029702E-2},{"$f":"IF(P10=0,0,(P10*((LOG(P10))/LOG(2))))","v":-0.15069056382269222},null,null,{"$f":"N10","v":1122},{"$f":"COUNTIF(L7:L40,T10)","v":1},{"$f":"U10/(W4-U20)","v":2.9411764705882353E-2},{"$f":"IF(V10=0,0,(V10*((LOG(V10))/LOG(2))))","v":-0.14963126003677468},null,{"$f":"N10","v":1122},{"$f":"COUNTIF(L41:L73,Y10)","v":2},{"$f":"Z10/(AB4-Z20)","v":6.0606060606060608E-2},{"$f":"IF(AA10=0,0,(AA10*((LOG(AA10))/LOG(2))))","v":-0.24511479511263354},null,{"$f":"N10","v":1122},{"$f":"COUNTIF(L74:L107,AD10)","v":1},{"$f":"AE10/(AG4-AE20)","v":2.9411764705882353E-2},{"$f":"IF(AF10=0,0,(AF10*((LOG(AF10))/LOG(2))))","v":-0.14963126003677468},null,{"$f":"N10","v":1122},{"$f":"COUNTIF(L108:L141,AI10)","v":0},{"$f":"AJ10/(AL4-AJ20)","v":0},{"$f":"IF(AK10=0,0,(AK10*((LOG(AK10))/LOG(2))))","v":0},null,{"$f":"N10","v":1122},{"$f":"COUNTIF(L142:L174,AN10)","v":2},{"$f":"AO10/(AQ4-AO20)","v":6.0606060606060608E-2},{"$f":"IF(AP10=0,0,(AP10*((LOG(AP10))/LOG(2))))","v":-0.24511479511263354},null,{"$f":"N10","v":1122},{"$f":"COUNTIF(L175:L208,AS10)","v":0},{"$f":"AT10/(AV4-AT20)","v":0},{"$f":"IF(AU10=0,0,(AU10*((LOG(AU10))/LOG(2))))","v":0}]
[12,506,14,512,13,516,14,519,null,null,0,1111,null,1211,{"$f":"COUNTIF($L$7:$L$500,N11)","v":1},{"$f":"O11/$Q$4","v":4.9504950495049506E-3},{"$f":"IF(P11=0,0,(P11*((LOG(P11))/LOG(2))))","v":-3.7911938033424727E-2},null,null,{"$f":"N11","v":1211},{"$f":"COUNTIF(L7:L40,T11)","v":0},{"$f":"U11/(W4-U20)","v":0},{"$f":"IF(V11=0,0,(V11*((LOG(V11))/LOG(2))))","v":0},null,{"$f":"N11","v":1211},{"$f":"COUNTIF(L41:L73,Y11)","v":0},{"$f":"Z11/(AB4-Z20)","v":0},{"$f":"IF(AA11=0,0,(AA11*((LOG(AA11))/LOG(2))))","v":0},null,{"$f":"N11","v":1211},{"$f":"COUNTIF(L74:L107,AD11)","v":1},{"$f":"AE11/(AG4-AE20)","v":2.9411764705882353E-2},{"$f":"IF(AF11=0,0,(AF11*((LOG(AF11))/LOG(2))))","v":-0.14963126003677468},null,{"$f":"N11","v":1211},{"$f":"COUNTIF(L108:L141,AI11)","v":0},{"$f":"AJ11/(AL4-AJ20)","v":0},{"$f":"IF(AK11=0,0,(AK11*((LOG(AK11))/LOG(2))))","v":0},null,{"$f":"N11","v":1211},{"$f":"COUNTIF(L142:L174,AN11)","v":0},{"$f":"AO11/(AQ4-AO20)","v":0},{"$f":"IF(AP11=0,0,(AP11*((LOG(AP11))/LOG(2))))","v":0},null,{"$f":"N11","v":1211},{"$f":"COUNTIF(L175:L208,AS11)","v":0},{"$f":"AT11/(AV4-AT20)","v":0},{"$f":"IF(AU11=0,0,(AU11*((LOG(AU11))/LOG(2))))","v":0}]
[12,612,14,616,13,620,14,625,null,null,0,1111,null,1212,{"$f":"COUNTIF($L$7:$L$500,N12)","v":0},{"$f":"O12/$Q$4","v":0},{"$f":"IF(P12=0,0,(P12*((LOG(P12))/LOG(2))))","v":0},null,null,{"$f":"N12","v":1212},{"$f":"COUNTIF(L7:L40,T12)","v":0},{"$f":"U12/(W4-U20)","v":0},{"$f":"IF(V12=0,0,(V12*((LOG(V12))/LOG(2))))","v":0},null,{"$f":"N12","v":1212},{"$f":"COUNTIF(L41:L73,Y12)","v":0},{"$f":"Z12/(AB4-Z20)","v":0},{"$f":"IF(AA12=0,0,(AA12*((LOG(AA12))/LOG(2))))","v":0},null,{"$f":"N12","v":1212},{"$f":"COUNTIF(L74:L107,AD12)","v":0},{"$f":"AE12/(AG4-AE20)","v":0},{"$f":"IF(AF12=0,0,(AF12*((LOG(AF12))/LOG(2))))","v":0},null,{"$f":"N12","v":1212},{"$f":"COUNTIF(L108:L141,AI12)","v":0},{"$f":"AJ12/(AL4-AJ20)","v":0},{"$f":"IF(AK12=0,0,(AK12*((LOG(AK12))/LOG(2))))","v":0},null,{"$f":"N12","v":1212},{"$f":"COUNTIF(L142:L174,AN12)","v":0},{"$f":"AO12/(AQ4-AO20)","v":0},{"$f":"IF(AP12=0,0,(AP12*((LOG(AP12))/LOG(2))))","v":0},null,{"$f":"N12","v":1212},{"$f":"COUNTIF(L175:L208,AS12)","v":0},{"$f":"AT12/(AV4-AT20)","v":0},{"$f":"IF(AU12=0,0,(AU12*((LOG(AU12))/LOG(2))))","v":0}]
[12,722,14,726,13,731,14,740,null,null,0,1111,null,1221,{"$f":"COUNTIF($L$7:$L$500,N13)","v":0},{"$f":"O13/$Q$4","v":0},{"$f":"IF(P13=0,0,(P13*((LOG(P13))/LOG(2))))","v":0},null,null,{"$f":"N13","v":1221},{"$f":"COUNTIF(L7:L40,T13)","v":0},{"$f":"U13/(W4-U20)","v":0},{"$f":"IF(V13=0,0,(V13*((LOG(V13))/LOG(2))))","v":0},null,{"$f":"N13","v":1221},{"$f":"COUNTIF(L41:L73,Y13)","v":0},{"$f":"Z13/(AB4-Z20)","v":0},{"$f":"IF(AA13=0,0,(AA13*((LOG(AA13))/LOG(2))))","v":0},null,{"$f":"N13","v":1221},{"$f":"COUNTIF(L74:L107,AD13)","v":0},{"$f":"AE13/(AG4-AE20)","v":0},{"$f":"IF(AF13=0,0,(AF13*((LOG(AF13))/LOG(2))))","v":0},null,{"$f":"N13","v":1221},{"$f":"COUNTIF(L108:L141,AI13)","v":0},{"$f":"AJ13/(AL4-AJ20)","v":0},{"$f":"IF(AK13=0,0,(AK13*((LOG(AK13))/LOG(2))))","v":0},null,{"$f":"N13","v":1221},{"$f":"COUNTIF(L142:L174,AN13)","v":0},{"$f":"AO13/(AQ4-AO20)","v":0},{"$f":"IF(AP13=0,0,(AP13*((LOG(AP13))/LOG(2))))","v":0},null,{"$f":"N13","v":1221},{"$f":"COUNTIF(L175:L208,AS13)","v":0},{"$f":"AT13/(AV4-AT20)","v":0},{"$f":"IF(AU13=0,0,(AU13*((LOG(AU13))/LOG(2))))","v":0}]
[12,837,14,841,13,844,14,850,null,null,0,1111,null,1222,{"$f":"COUNTIF($L$7:$L$500,N14)","v":2},{"$f":"O14/$Q$4","v":9.9009900990099011E-3},{"$f":"IF(P14=0,0,(P14*((LOG(P14))/LOG(2))))","v":-6.5922885967839545E-2},null,null,{"$f":"N14","v":1222},{"$f":"COUNTIF(L7:L40,T14)","v":0},{"$f":"U14/(W4-U20)","v":0},{"$f":"IF(V14=0,0,(V14*((LOG(V14))/LOG(2))))","v":0},null,{"$f":"N14","v":1222},{"$f":"COUNTIF(L41:L73,Y14)","v":1},{"$f":"Z14/(AB4-Z20)","v":3.0303030303030304E-2},{"$f":"IF(AA14=0,0,(AA14*((LOG(AA14))/LOG(2))))","v":-0.15286042785934709},null,{"$f":"N14","v":1222},{"$f":"COUNTIF(L74:L107,AD14)","v":0},{"$f":"AE14/(AG4-AE20)","v":0},{"$f":"IF(AF14=0,0,(AF14*((LOG(AF14))/LOG(2))))","v":0},null,{"$f":"N14","v":1222},{"$f":"COUNTIF(L108:L141,AI14)","v":0},{"$f":"AJ14/(AL4-AJ20)","v":0},{"$f":"IF(AK14=0,0,(AK14*((LOG(AK14))/LOG(2))))","v":0},null,{"$f":"N14","v":1222},{"$f":"COUNTIF(L142:L174,AN14)","v":1},{"$f":"AO14/(AQ4-AO20)","v":3.0303030303030304E-2},{"$f":"IF(AP14=0,0,(AP14*((LOG(AP14))/LOG(2))))","v":-0.15286042785934709},null,{"$f":"N14","v":1222},{"$f":"COUNTIF(L175:L208,AS14)","v":0},{"$f":"AT14/(AV4-AT20)","v":0},{"$f":"IF(AU14=0,0,(AU14*((LOG(AU14))/LOG(2))))","v":0}]
[12,946,14,950,13,954,14,959,null,null,0,1111,null,2111,{"$f":"COUNTIF($L$7:$L$500,N15)","v":1},{"$f":"O15/$Q$4","v":4.9504950495049506E-3},{"$f":"IF(P15=0,0,(P15*((LOG(P15))/LOG(2))))","v":-3.7911938033424727E-2},null,null,{"$f":"N15","v":2111},{"$f":"COUNTIF(L7:L40,T15)","v":1},{"$f":"U15/(W4-U20)","v":2.9411764705882353E-2},{"$f":"IF(V15=0,0,(V15*((LOG(V15))/LOG(2))))","v":-0.14963126003677468},null,{"$f":"N15","v":2111},{"$f":"COUNTIF(L41:L73,Y15)","v":0},{"$f":"Z15/(AB4-Z20)","v":0},{"$f":"IF(AA15=0,0,(AA15*((LOG(AA15))/LOG(2))))","v":0},null,{"$f":"N15","v":2111},{"$f":"COUNTIF(L74:L107,AD15)","v":0},{"$f":"AE15/(AG4-AE20)","v":0},{"$f":"IF(AF15=0,0,(AF15*((LOG(AF15))/LOG(2))))","v":0},null,{"$f":"N15","v":2111},{"$f":"COUNTIF(L108:L141,AI15)","v":0},{"$f":"AJ15/(AL4-AJ20)","v":0},{"$f":"IF(AK15=0,0,(AK15*((LOG(AK15))/LOG(2))))","v":0},null,{"$f":"N15","v":2111},{"$f":"COUNTIF(L142:L174,AN15)","v":0},{"$f":"AO15/(AQ4-AO20)","v":0},{"$f":"IF(AP15=0,0,(AP15*((LOG(AP15))/LOG(2))))","v":0},null,{"$f":"N15","v":2111},{"$f":"COUNTIF(L175:L208,AS15)","v":0},{"$f":"AT15/(AV4-AT20)","v":0},{"$f":"IF(AU15=0,0,(AU15*((LOG(AU15))/LOG(2))))","v":0}]
[12,1059,14,1063,13,1066,14,1070,null,null,0,1111,null,2112,{"$f":"COUNTIF($L$7:$L$500,N16)","v":0},{"$f":"O16/$Q$4","v":0},{"$f":"IF(P16=0,0,(P16*((LOG(P16))/LOG(2))))","v":0},null,null,{"$f":"N16","v":2112},{"$f":"COUNTIF(L7:L40,T16)","v":0},{"$f":"U16/(W4-U20)","v":0},{"$f":"IF(V16=0,0,(V16*((LOG(V16))/LOG(2))))","v":0},null,{"$f":"N16","v":2112},{"$f":"COUNTIF(L41:L73,Y16)","v":0},{"$f":"Z16/(AB4-Z20)","v":0},{"$f":"IF(AA16=0,0,(AA16*((LOG(AA16))/LOG(2))))","v":0},null,{"$f":"N16","v":2112},{"$f":"COUNTIF(L74:L107,AD16)","v":0},{"$f":"AE16/(AG4-AE20)","v":0},{"$f":"IF(AF16=0,0,(AF16*((LOG(AF16))/LOG(2))))","v":0},null,{"$f":"N16","v":2112},{"$f":"COUNTIF(L108:L141,AI16)","v":0},{"$f":"AJ16/(AL4-AJ20)","v":0},{"$f":"IF(AK16=0,0,(AK16*((LOG(AK16))/LOG(2))))","v":0},null,{"$f":"N16","v":2112},{"$f":"COUNTIF(L142:L174,AN16)","v":0},{"$f":"AO16/(AQ4-AO20)","v":0},{"$f":"IF(AP16=0,0,(AP16*((LOG(AP16))/LOG(2))))","v":0},null,{"$f":"N16","v":2112},{"$f":"COUNTIF(L175:L208,AS16)","v":0},{"$f":"AT16/(AV4-AT20)","v":0},{"$f":"IF(AU16=0,0,(AU16*((LOG(AU16))/LOG(2))))","v":0}]
[12,1164,14,1168,13,1177,14,1181,null,null,0,1111,null,2121,{"$f":"COUNTIF($L$7:$L$500,N17)","v":0},{"$f":"O17/$Q$4","v":0},{"$f":"IF(P17=0,0,(P17*((LOG(P17))/LOG(2))))","v":0},null,null,{"$f":"N17","v":2121},{"$f":"COUNTIF(L7:L40,T17)","v":0},{"$f":"U17/(W4-U20)","v":0},{"$f":"IF(V17=0,0,(V17*((LOG(V17))/LOG(2))))","v":0},null,{"$f":"N17","v":2121},{"$f":"COUNTIF(L41:L73,Y17)","v":0},{"$f":"Z17/(AB4-Z20)","v":0},{"$f":"IF(AA17=0,0,(AA17*((LOG(AA17))/LOG(2))))","v":0},null,{"$f":"N17","v":2121},{"$f":"COUNTIF(L74:L107,AD17)","v":0},{"$f":"AE17/(AG4-AE20)","v":0},{"$f":"IF(AF17=0,0,(AF17*((LOG(AF17))/LOG(2))))","v":0},null,{"$f":"N17","v":2121},{"$f":"COUNTIF(L108:L141,AI17)","v":0},{"$f":"AJ17/(AL4-AJ20)","v":0},{"$f":"IF(AK17=0,0,(AK17*((LOG(AK17))/LOG(2))))","v":0},null,{"$f":"N17","v":2121},{"$f":"COUNTIF(L142:L174,AN17)","v":0},{"$f":"AO17/(AQ4-AO20)","v":0},{"$f":"IF(AP17=0,0,(AP17*((LOG(AP17))/LOG(2))))","v":0},null,{"$f":"N17","v":2121},{"$f":"COUNTIF(L175:L208,AS17)","v":0},{"$f":"AT17/(AV4-AT20)","v":0},{"$f":"IF(AU17=0,0,(AU17*((LOG(AU17))/LOG(2))))","v":0}]
[12,1273,14,1277,13,1281,14,1286,null,null,0,1111,null,2122,{"$f":"COUNTIF($L$7:$L$500,N18)","v":0},{"$f":"O18/$Q$4","v":0},{"$f":"IF(P18=0,0,(P18*((LOG(P18))/LOG(2))))","v":0},null,null,{"$f":"N18","v":2122},{"$f":"COUNTIF(L7:L40,T18)","v":0},{"$f":"U18/(W4-U20)","v":0},{"$f":"IF(V18=0,0,(V18*((LOG(V18))/LOG(2))))","v":0},null,{"$f":"N18","v":2122},{"$f":"COUNTIF(L41:L73,Y18)","v":0},{"$f":"Z18/(AB4-Z20)","v":0},{"$f":"IF(AA18=0,0,(AA18*((LOG(AA18))/LOG(2))))","v":0},null,{"$f":"N18","v":2122},{"$f":"COUNTIF(L74:L107,AD18)","v":0},{"$f":"AE18/(AG4-AE20)","v":0},{"$f":"IF(AF18=0,0,(AF18*((LOG(AF18))/LOG(2))))","v":0},null,{"$f":"N18","v":2122},{"$f":"COUNTIF(L108:L141,AI18)","v":0},{"$f":"AJ18/(AL4-AJ20)","v":0},{"$f":"IF(AK18=0,0,(AK18*((LOG(AK18))/LOG(2))))","v":0},null,{"$f":"N18","v":2122},{"$f":"COUNTIF(L142:L174,AN18)","v":0},{"$f":"AO18/(AQ4-AO20)","v":0},{"$f":"IF(AP18=0,0,(AP18*((LOG(AP18))/LOG(2))))","v":0},null,{"$f":"N18","v":2122},{"$f":"COUNTIF(L175:L208,AS18)","v":0},{"$f":"AT18/(AV4-AT20)","v":0},{"$f":"IF(AU18=0,0,(AU18*((LOG(AU18))/LOG(2))))","v":0}]
[12,1384,14,1388,13,1392,14,1396,null,null,0,1111,null,2211,{"$f":"COUNTIF($L$7:$L$500,N19)","v":0},{"$f":"O19/$Q$4","v":0},{"$f":"IF(P19=0,0,(P19*((LOG(P19))/LOG(2))))","v":0},null,null,{"$f":"N19","v":2211},{"$f":"COUNTIF(L7:L40,T19)","v":0},{"$f":"U19/(W4-U20)","v":0},{"$f":"IF(V19=0,0,(V19*((LOG(V19))/LOG(2))))","v":0},null,{"$f":"N19","v":2211},{"$f":"COUNTIF(L41:L73,Y19)","v":0},{"$f":"Z19/(AB4-Z20)","v":0},{"$f":"IF(AA19=0,0,(AA19*((LOG(AA19))/LOG(2))))","v":0},null,{"$f":"N19","v":2211},{"$f":"COUNTIF(L74:L107,AD19)","v":0},{"$f":"AE19/(AG4-AE20)","v":0},{"$f":"IF(AF19=0,0,(AF19*((LOG(AF19))/LOG(2))))","v":0},null,{"$f":"N19","v":2211},{"$f":"COUNTIF(L108:L141,AI19)","v":0},{"$f":"AJ19/(AL4-AJ20)","v":0},{"$f":"IF(AK19=0,0,(AK19*((LOG(AK19))/LOG(2))))","v":0},null,{"$f":"N19","v":2211},{"$f":"COUNTIF(L142:L174,AN19)","v":0},{"$f":"AO19/(AQ4-AO20)","v":0},{"$f":"IF(AP19=0,0,(AP19*((LOG(AP19))/LOG(2))))","v":0},null,{"$f":"N19","v":2211},{"$f":"COUNTIF(L175:L208,AS19)","v":0},{"$f":"AT19/(AV4-AT20)","v":0},{"$f":"IF(AU19=0,0,(AU19*((LOG(AU19))/LOG(2))))","v":0}]
[12,1491,14,1495,13,1507,14,1512,null,null,0,1111,null,2212,{"$f":"COUNTIF($L$7:$L$500,N20)","v":0},{"$f":"O20/$Q$4","v":0},{"$f":"IF(P20=0,0,(P20*((LOG(P20))/LOG(2))))","v":0},null,null,{"$f":"N20","v":2212},{"$f":"COUNTIF(L7:L40,T20)","v":0},null,null,null,{"$f":"N20","v":2212},{"$f":"COUNTIF(L41:L73,Y20)","v":0},null,null,null,{"$f":"N20","v":2212},{"$f":"COUNTIF(L74:L107,AD20)","v":0},null,null,null,{"$f":"N20","v":2212},{"$f":"COUNTIF(L108:L141,AI20)","v":0},null,null,null,{"$f":"N20","v":2212},{"$f":"COUNTIF(L142:L174,AN20)","v":0},null,null,null,{"$f":"N20","v":2212},{"$f":"COUNTIF(L175:L208,AS20)","v":0}]
[12,1610,14,1614,13,1618,14,1622,null,null,0,1111,null,2221,{"$f":"COUNTIF($L$7:$L$500,N21)","v":0},{"$f":"O21/$Q$4","v":0},{"$f":"IF(P21=0,0,(P21*((LOG(P21))/LOG(2))))","v":0},null,null,{"$f":"N21","v":2221},{"$f":"COUNTIF(L7:L40,T21)","v":0},{"$f":"U21/(W4-U20)","v":0},{"$f":"IF(V21=0,0,(V21*((LOG(V21))/LOG(2))))","v":0},null,{"$f":"N21","v":2221},{"$f":"COUNTIF(L41:L73,Y21)","v":0},{"$f":"Z21/(AB4-Z20)","v":0},{"$f":"IF(AA21=0,0,(AA21*((LOG(AA21))/LOG(2))))","v":0},null,{"$f":"N21","v":2221},{"$f":"COUNTIF(L74:L107,AD21)","v":0},{"$f":"AE21/(AG4-AE20)","v":0},{"$f":"IF(AF21=0,0,(AF21*((LOG(AF21))/LOG(2))))","v":0},null,{"$f":"N21","v":2221},{"$f":"COUNTIF(L108:L141,AI21)","v":0},{"$f":"AJ21/(AL4-AJ20)","v":0},{"$f":"IF(AK21=0,0,(AK21*((LOG(AK21))/LOG(2))))","v":0},null,{"$f":"N21","v":2221},{"$f":"COUNTIF(L142:L174,AN21)","v":0},{"$f":"AO21/(AQ4-AO20)","v":0},{"$f":"IF(AP21=0,0,(AP21*((LOG(AP21))/LOG(2))))","v":0},null,{"$f":"N21","v":2221},{"$f":"COUNTIF(L175:L208,AS21)","v":0},{"$f":"AT21/(AV4-AT20)","v":0},{"$f":"IF(AU21=0,0,(AU21*((LOG(AU21))/LOG(2))))","v":0}]
[12,1721,14,1724,13,1728,14,1737,null,null,0,1111,null,2222,{"$f":"COUNTIF($L$7:$L$500,N22)","v":1},{"$f":"O22/$Q$4","v":4.9504950495049506E-3},{"$f":"IF(P22=0,0,(P22*((LOG(P22))/LOG(2))))","v":-3.7911938033424727E-2},null,null,{"$f":"N22","v":2222},{"$f":"COUNTIF(L7:L40,T22)","v":0},{"$f":"U22/(W4-U20)","v":0},{"$f":"IF(V22=0,0,(V22*((LOG(V22))/LOG(2))))","v":0},null,{"$f":"N22","v":2222},{"$f":"COUNTIF(L41:L73,Y22)","v":0},{"$f":"Z22/(AB4-Z20)","v":0},{"$f":"IF(AA22=0,0,(AA22*((LOG(AA22))/LOG(2))))","v":0},null,{"$f":"N22","v":2222},{"$f":"COUNTIF(L74:L107,AD22)","v":0},{"$f":"AE22/(AG4-AE20)","v":0},{"$f":"IF(AF22=0,0,(AF22*((LOG(AF22))/LOG(2))))","v":0},null,{"$f":"N22","v":2222},{"$f":"COUNTIF(L108:L141,AI22)","v":0},{"$f":"AJ22/(AL4-AJ20)","v":0},{"$f":"IF(AK22=0,0,(AK22*((LOG(AK22))/LOG(2))))","v":0},null,{"$f":"N22","v":2222},{"$f":"COUNTIF(L142:L174,AN22)","v":0},{"$f":"AO22/(AQ4-AO20)","v":0},{"$f":"IF(AP22=0,0,(AP22*((LOG(AP22))/LOG(2))))","v":0},null,{"$f":"N22","v":2222},{"$f":"COUNTIF(L175:L208,AS22)","v":1},{"$f":"AT22/(AV4-AT20)","v":2.9411764705882353E-2},{"$f":"IF(AU22=0,0,(AU22*((LOG(AU22))/LOG(2))))","v":-0.14963126003677468}]
[12,1838,14,1841,13,1845,14,1853,null,null,0,1111,null,null,null,{"$f":"SUM(P7:P22)","v":1},{"$f":"-SUM(Q7:Q22)","v":0.92452677555756357},null,null,null,null,{"$f":"SUM(V7:V22)","v":1},{"$f":"-SUM(W7:W22)","v":1.272579158344312},null,null,null,{"$f":"SUM(AA7:AA22)","v":1},{"$f":"-SUM(AB7:AB22)","v":0.84421418549139537},null,null,null,{"$f":"SUM(AF7:AF22)","v":1},{"$f":"-SUM(AG7:AG22)","v":0.98861503772750448},null,null,null,{"$f":"SUM(AK7:AK22)","v":1},{"$f":"-SUM(AL7:AL22)","v":0.52255937453694079},null,null,null,{"$f":"SUM(AP7:AP22)","v":1},{"$f":"-SUM(AQ7:AQ22)","v":0.94933805691672246},null,null,null,{"$f":"SUM(AU7:AU22)","v":1},{"$f":"-SUM(AV7:AV22)","v":0.19143325481419343}]
[12,1951,14,1955,24,1966,23,1984,null,null,0,1122,null,null,null,"U=",{"$f":"Q23/(LOG(Q4)/LOG(2))","v":0.12072358900506062},null,null,null,null,"U1=",{"$f":"W23/(LOG(W4)/LOG(2))","v":0.25014023650962958},null,null,null,"U2=",{"$f":"AB23/(LOG(AB4)/LOG(2))","v":0.16735690461846042},null,null,null,"U3=",{"$f":"AG23/(LOG(AG4)/LOG(2))","v":0.19432378546563178},null,null,null,"U4=",{"$f":"AL23/(LOG(AL4)/LOG(2))","v":0.10271512359754396},null,null,null,"U5=",{"$f":"AQ23/(LOG(AQ4)/LOG(2))","v":0.18819664650577686},null,null,null,"U6=",{"$f":"AV23/(LOG(AV4)/LOG(2))","v":3.7628433029919708E-2}]
[12,2080,14,2084,13,2088,14,2095,null,null,0,1111]
[12,2191,14,2211,13,2219,14,2226,null,null,0,1111]
[12,2329,14,2338,13,2342,14,2345,null,null,0,1111,null,"Total Target Seq"]
[12,2446,14,2457,13,2461,23,2472,null,null,0,1112,null,{"$f":"COUNTIF(L7:L208,G3)","v":0},null,34,33,34,34,33,34]
[12,2570,14,2573,13,2583,14,2587,null,null,0,1111,null,null,null,"% of reinforcement given in 6 equal intervals based on number of trials "]
[12,2684,14,2689,13,2692,14,2696,null,null,0,1111,null,null,null,"%_1","%_2","%_3","%_4","%_5","%_6"]
[12,2792,14,2796,13,2800,23,2810,null,null,0,1112,null,null,"target sequence",{"$f":"$G$3","v":2212},{"$f":"$G$3","v":2212},{"$f":"$G$3","v":2212},{"$f":"$G$3","v":2212},{"$f":"$G$3","v":2212},{"$f":"$G$3","v":2212}]
[12,2912,14,2916,13,2920,14,2929,null,null,0,1111,null,null,"total reinforcement",{"$f":"U20","v":0},{"$f":"Z20","v":0},{"$f":"AE20","v":0},{"$f":"AJ20","v":0},{"$f":"AO20","v":0},{"$f":"AT20","v":0}]
[12,3035,14,3038,13,3043,14,3055,null,null,0,1111,null,null,"% target"]
[12,3158,14,3167,13,3171,23,3180,null,null,0,1112,null,null,"CCRF"]
[12,3278,14,3282,13,3287,14,3299,null,null,0,1111,null,null,"% CCRf"]
[12,3399,14,3418,13,3425,23,3442,null,null,0,1112,null,null,"average response rate",{"$f":"H40/P28","v":117.29411764705883},{"$f":"(H73-H40)/Q28","v":120},{"$f":"(H107-H73)/R28","v":117.38235294117646},{"$f":"(H141-H107)/S28","v":116.73529411764706},{"$f":"(H174-H141)/T28","v":122.15151515151516},{"$f":"(H208-H174)/U28","v":119.32352941176471}]
[12,3537,14,3541,13,3550,14,3556,null,null,0,1111]
[12,3653,14,3656,24,3687,14,3705,null,null,0,1121]
[12,3811,14,3815,24,3826,14,3841,null,null,0,1121]
[12,3964,14,3976,13,3983,14,3988,null,null,0,1111]
[12,4093,14,4098,13,4101,23,4114,null,null,0,1112]
[12,4214,14,4227,13,4230,14,4236,null,null,0,1111]
[12,4344,23,4364,24,4376,23,4390,null,null,0,1222]
[12,4508,14,4519,13,4525,14,4532,null,null,0,1111]
[12,4627,14,4635,24,4644,23,4651,null,null,0,1122]
[12,4746,14,4750,13,4755,14,4765,null,null,0,1111]
[12,4865,14,4873,13,4877,14,4884,null,null,0,1111]
[12,4989,14,5004,13,5011,14,5016,null,null,0,1111]
[12,5115,14,5119,13,5122,14,5128,null,null,0,1111]
[12,5225,14,5228,13,5233,14,5243,null,null,0,1111]
[12,5339,14,5344,13,5354,14,5358,null,null,0,1111]
[12,5450,14,5454,13,5458,14,5470,null,null,0,1111]
[12,5566,14,5577,13,5581,23,5593,null,null,0,1112]
[12,5694,14,5701,13,5705,14,5717,null,null,0,1111]
[12,5811,14,5815,13,5820,14,5827,null,null,0,1111]
[12,5930,14,5934,13,5942,14,5953,null,null,0,1111]
[12,6050,14,6054,13,6061,14,6065,null,null,0,1111]
[12,6169,14,6172,13,6176,14,6183,null,null,0,1111]
[12,6280,14,6285,13,6289,14,6294,null,null,0,1111]
[12,6389,14,6393,13,6403,14,6407,null,null,0,1111]
[12,6502,14,6507,13,6510,14,6514,null,null,0,1111]
[12,6608,14,6613,13,6624,14,6633,null,null,0,1111]
[12,6731,14,6738,13,6747,14,6754,null,null,0,1111]
[12,6852,14,6855,13,6859,14,6866,null,null,0,1111]
[12,6969,14,6982,13,6986,14,6994,null,null,0,1111]
[12,7091,14,7101,24,7116,23,7124,null,null,0,1122]
[12,7220,14,7227,13,7231,14,7246,null,null,0,1111]
[12,7347,14,7353,13,7370,14,7374,null,null,0,1111]
[12,7473,14,7476,13,7480,14,7484,null,null,0,1111]
[12,7575,14,7580,13,7586,14,7595,null,null,0,1111]
[12,7693,14,7697,13,7701,14,7708,null,null,0,1111]
[12,7809,14,7821,13,7827,14,7834,null,null,0,1111]
[12,7934,14,7937,13,7941,14,7948,null,null,0,1111]
[12,8046,14,8049,13,8059,14,8066,null,null,0,1111]
[12,8159,14,8168,13,8173,14,8185,null,null,0,1111]
[12,8283,14,8287,13,8291,14,8295,null,null,0,1111]
[12,8391,14,8394,13,8400,14,8404,null,null,0,1111]
[12,8503,14,8507,13,8515,14,8521,null,null,0,1111]
[12,8611,14,8615,13,8625,14,8628,null,null,0,1111]
[12,8725,14,8729,13,8736,14,8740,null,null,0,1111]
[12,8834,14,8839,13,8842,14,8847,null,null,0,1111]
[12,8950,23,8964,13,8980,14,8987,null,null,0,1211]
[12,9083,14,9086,13,9094,14,9101,null,null,0,1111]
[12,9197,14,9201,13,9212,14,9219,null,null,0,1111]
[12,9317,14,9325,13,9330,23,9340,null,null,0,1112]
[12,9437,14,9441,13,9445,14,9449,null,null,0,1111]
[12,9545,14,9549,13,9553,14,9563,null,null,0,1111]
[12,9662,14,9666,13,9670,23,9694,null,null,0,1112]
[12,9795,14,9798,13,9804,14,9808,null,null,0,1111]
[12,9904,14,9909,13,9913,23,9934,null,null,0,1112]
[12,10035,14,10039,13,10042,14,10046,null,null,0,1111]
[12,10143,14,10147,13,10155,14,10159,null,null,0,1111]
[12,10254,14,10258,13,10266,14,10270,null,null,0,1111]
[12,10368,14,10374,24,10385,23,10396,null,null,0,1122]
[12,10495,14,10499,13,10503,14,10511,null,null,0,1111]
[12,10607,14,10616,13,10634,14,10641,null,null,0,1111]
[12,10734,14,10737,13,10741,14,10745,null,null,0,1111]
[12,10840,14,10844,13,10853,14,10866,null,null,0,1111]
[12,10964,14,10969,13,10973,14,10977,null,null,0,1111]
[12,11075,14,11079,13,11087,14,11098,null,null,0,1111]
[12,11197,14,11200,13,11206,14,11214,null,null,0,1111]
[12,11311,14,11315,13,11319,14,11332,null,null,0,1111]
[12,11429,14,11433,13,11437,14,11445,null,null,0,1111]
[12,11541,14,11552,13,11556,14,11560,null,null,0,1111]
[12,11656,14,11659,13,11667,14,11676,null,null,0,1111]
[12,11775,14,11783,24,11794,14,11806,null,null,0,1121]
[12,11912,14,11928,13,11933,14,11939,null,null,0,1111]
[12,12035,14,12048,13,12052,14,12062,null,null,0,1111]
[12,12160,14,12174,13,12184,23,12198,null,null,0,1112]
[12,12297,14,12300,13,12309,14,12315,null,null,0,1111]
[12,12415,14,12426,13,12433,14,12441,null,null,0,1111]
[12,12537,14,12540,13,12544,14,12553,null,null,0,1111]
[12,12650,14,12654,13,12666,14,12671,null,null,0,1111]
[12,12767,14,12775,13,12788,14,12792,null,null,0,1111]
[12,12893,14,12896,13,12900,14,12908,null,null,0,1111]
[12,13006,14,13012,13,13016,23,13035,null,null,0,1112]
[12,13136,14,13140,13,13147,14,13159,null,null,0,1111]
[12,13254,14,13259,13,13263,14,13267,null,null,0,1111]
[12,13363,14,13370,13,13374,14,13378,null,null,0,1111]
[12,13475,14,13479,13,13485,14,13489,null,null,0,1111]
[12,13586,14,13590,13,13595,14,13605,null,null,0,1111]
[12,13702,14,13706,13,13713,14,13718,null,null,0,1111]
[12,13815,14,13819,13,13826,23,13837,null,null,0,1112]
[12,13933,14,13939,13,13944,14,13958,null,null,0,1111]
[12,14052,14,14059,13,14066,14,14071,null,null,0,1111]
[12,14166,14,14170,13,14176,14,14181,null,null,0,1111]
[12,14277,14,14282,13,14286,14,14291,null,null,0,1111]
[12,14387,14,14391,13,14395,14,14406,null,null,0,1111]
[12,14502,14,14506,13,14510,14,14515,null,null,0,1111]
[12,14611,14,14614,13,14618,14,14622,null,null,0,1111]
[12,14722,14,14726,13,14733,14,14738,null,null,0,1111]
[12,14835,14,14843,13,14848,14,14868,null,null,0,1111]
[12,14966,14,14970,13,14974,14,14981,null,null,0,1111]
[12,15079,14,15097,13,15105,14,15112,null,null,0,1111]
[12,15208,14,15215,13,15219,14,15233,null,null,0,1111]
[12,15328,14,15334,13,15338,23,15354,null,null,0,1112]
[12,15450,14,15454,13,15458,14,15462,null,null,0,1111]
[12,15557,14,15562,13,15566,14,15570,null,null,0,1111]
[12,15665,14,15669,13,15672,14,15684,null,null,0,1111]
[12,15781,14,15785,13,15789,14,15796,null,null,0,1111]
[12,15891,14,15895,13,15903,14,15908,null,null,0,1111]
[12,16014,14,16025,13,16032,14,16039,null,null,0,1111]
[12,16135,14,16142,13,16146,14,16150,null,null,0,1111]
[12,16244,14,16255,13,16259,23,16299,null,null,0,1112]
[12,16418,23,16431,24,16441,23,16452,null,null,0,1222]
[12,16553,14,16560,13,16565,23,16577,null,null,0,1112]
[12,16675,14,16679,13,16689,14,16701,null,null,0,1111]
[12,16799,14,16803,13,16806,14,16811,null,null,0,1111]
[12,16908,14,16913,13,16920,14,16936,null,null,0,1111]
[12,17031,14,17035,13,17041,14,17045,null,null,0,1111]
[12,17147,14,17151,13,17159,14,17164,null,null,0,1111]
[12,17259,14,17263,13,17270,14,17274,null,null,0,1111]
[12,17370,14,17373,13,17381,14,17395,null,null,0,1111]
[12,17491,14,17494,13,17502,23,17516,null,null,0,1112]
[12,17621,14,17627,13,17637,14,17644,null,null,0,1111]
[12,17742,14,17747,13,17756,14,17764,null,null,0,1111]
[12,17860,14,17870,13,17881,14,17886,null,null,0,1111]
[12,17980,14,17985,13,17989,14,17996,null,null,0,1111]
[12,18091,14,18115,24,18135,23,18153,null,null,0,1122]
[12,18253,14,18260,13,18264,14,18271,null,null,0,1111]
[12,18368,14,18376,13,18392,14,18397,null,null,0,1111]
[12,18496,14,18500,13,18507,14,18514,null,null,0,1111]
[12,18614,14,18623,13,18630,14,18638,null,null,0,1111]
[12,18734,14,18738,13,18741,14,18749,null,null,0,1111]
[12,18856,14,18863,13,18871,14,18878,null,null,0,1111]
[12,18971,14,18983,24,18999,23,19010,null,null,0,1122]
[12,19111,14,19114,13,19118,14,19128,null,null,0,1111]
[12,19222,14,19226,13,19236,14,19249,null,null,0,1111]
[12,19344,14,19352,13,19356,14,19364,null,null,0,1111]
[12,19459,14,19463,13,19469,14,19474,null,null,0,1111]
[12,19570,14,19575,13,19579,14,19586,null,null,0,1111]
[12,19678,14,19683,13,19690,14,19694,null,null,0,1111]
[12,19798,14,19802,13,19814,14,19821,null,null,0,1111]
[12,19913,14,19928,13,19931,14,19939,null,null,0,1111]
[21,20046,21,20059,22,20067,23,20079,null,null,0,2222]
[12,20191,14,20196,13,20203,14,20210,null,null,0,1111]
[12,20306,14,20310,13,20328,14,20334,null,null,0,1111]
[12,20429,14,20436,13,20439,14,20443,null,null,0,1111]
[12,20541,14,20545,13,20554,14,20573,null,null,0,1111]
[12,20678,14,20683,13,20695,14,20701,null,null,0,1111]
[12,20802,14,20806,13,20816,14,20823,null,null,0,1111]
[12,20924,14,20928,13,20932,14,20935,null,null,0,1111]
[12,21031,14,21036,13,21045,14,21051,null,null,0,1111]
[12,21142,14,21153,13,21157,14,21164,null,null,0,1111]
[12,21264,14,21279,13,21286,14,21293,null,null,0,1111]
[12,21389,14,21393,13,21402,14,21409,null,null,0,1111]
[12,21509,14,21519,13,21523,14,21529,null,null,0,1111]
[12,21626,14,21629,13,21636,14,21643,null,null,0,1111]
[12,21737,14,21743,13,21747,14,21756,null,null,0,1111]
[12,21851,14,21860,13,21864,14,21869,null,null,0,1111]
[12,21975,14,21978,13,21986,14,21992,null,null,0,1111]
[12,22093,14,22098,13,22106,14,22119,null,null,0,1111]
[12,22215,14,22219,13,22224,14,22232,null,null,0,1111]
[12,22329,14,22334,13,22338,14,22342,null,null,0,1111]
[12,22440,14,22451,13,22456,14,22463,null,null,0,1111]
[12,22559,14,22568,13,22572,14,22576,null,null,0,1111]
[12,22674,14,22678,13,22682,14,22686,null,null,0,1111]
[12,22783,14,22788,13,22796,14,22810,null,null,0,1111]
[12,22906,14,22914,13,22918,14,22925,null,null,0,1111]
[12,23021,14,23028,13,23035,14,23042,null,null,0,1111]
[12,23140,14,23148,13,23151,14,23159,null,null,0,1111]
[12,23260,14,23268,13,23275,14,23280,null,null,0,1111]
[12,23378,14,23382,13,23386,14,23391,null,null,0,1111]
[12,23489,14,23498,13,23505,14,23516,null,null,0,1111]
[12,23610,14,23614,13,23618,14,23623,null,null,0,1111]
[12,23716,14,23741,13,23750,14,23756,null,null,0,1111]
[12,23853,14,23856,13,23861,14,23873,null,null,0,1111]
[12,23973,14,23977,13,23981,14,23996,null,null,null,1111]

{"sheet":"!M901920.104","index":18,"n_rows":196,"n_cols":48,"rows_kept":196,"cut":false,"hidden":false,"merged":[[4,39,4,42],[5,39,5,40],[4,44,4,47],[5,44,5,45],[4,24,4,27],[5,24,5,25],[4,29,4,32],[5,29,5,30],[4,34,4,37],[5,34,5,35],[1,1,1,2],[5,13,5,14],[26,13,26,14],[27,13,27,14],[4,19,4,22],[5,19,5,20]]}
["Report for:!M901920.104"]
["Date:","<date>"]
["Hen:","<hen>",null,null,null,"Correct Sequence",{"$f":"Start!J2","v":2212},null,null,null,null,null,null,null,null,"Total Sequences in Data",{"$f":"4994-COUNTBLANK(L7:L5000)","v":190},null,null,null,null,"Total Sequences in Block Data",{"$f":"COUNTA(L7:L38)","v":32},null,null,null,"Total Sequences in Block Data",{"$f":"COUNTA(L39:L69)","v":31},null,null,null,"Total Sequences in Block Data",{"$f":"COUNTA(L70:L101)","v":32},null,null,null,"Total Sequences in Block Data",{"$f":"COUNTA(L102:L133)","v":32},null,null,null,"Total Sequences in Block Data",{"$f":"COUNTA(L134:L164)","v":31},null,null,null,"Total Sequences in Block Data",{"$f":"COUNTA(L165:L196)","v":32}]
[null,null,null,null,null,null,null,null,null,null,null,null,null,null,null,"Total Sequences in Summary",{"$f":"SUM(O7:O22)","v":190},null,null,null,null,"Total Sequences in Block Summary",{"$f":"SUM(U7:U22)","v":32},null,null,null,"Total Sequences in Block Summary",{"$f":"SUM(Z7:Z22)","v":31},null,null,null,"Total Sequences in Block Summary",{"$f":"SUM(AE7:AE22)","v":32},null,null,null,"Total Sequences in Block Summary",{"$f":"SUM(AJ7:AJ22)","v":32},null,null,null,"Total Sequences in Block Summary",{"$f":"SUM(AO7:AO22)","v":31},null,null,null,"Total Sequences in Block Summary",{"$f":"SUM(AT7:AT22)","v":32}]
[null,null,null,null,null,null,null,null,null,null,null,null,null,null,null,null,null,null,null,"Block 1",null,null,null,null,"Block 2",null,null,null,null,"Block 3",null,null,null,null,"Block 4",null,null,null,null,"Block 5",null,null,null,null,"Block 6"]
["Sequence\nComponent\n1","Time\n1","Sequence\nComponent\n2","Time\n2","Sequence\nComponent\n3","Time\n3","Sequence\nComponent\n4","Time\n4","Sequence\nComponent\n5","Time\n5","Correct?\n0=No 1=Yes","Sequence",null,"Frequency",null,"Relative Frequency","Variability",null,null,"Frequency",null,"Relative Frequency","Variability",null,"Frequency",null,"Relative Frequency","Variability",null,"Frequency",null,"Relative Frequency","Variability",null,"Frequency",null,"Relative Frequency","Variability",null,"Frequency",null,"Relative Frequency","Variability",null,"Frequency",null,"Relative Frequency","Variability"]
[12,32,23,42,24,58,23,73,null,null,0,1222,null,1111,{"$f":"COUNTIF($L$7:$L$500,N7)","v":170},{"$f":"O7/$Q$4","v":0.89473684210526316},{"$f":"IF(P7=0,0,(P7*((LOG(P7))/LOG(2))))","v":-0.14357365406764125},null,null,{"$f":"N7","v":1111},{"$f":"COUNTIF(L7:L38,T7)","v":28},{"$f":"U7/(W4-U20)","v":0.875},{"$f":"IF(V7=0,0,(V7*((LOG(V7))/LOG(2))))","v":-0.1685644431995964},null,{"$f":"N7","v":1111},{"$f":"COUNTIF(L39:L69,Y7)","v":28},{"$f":"Z7/(AB4-Z20)","v":0.90322580645161288},{"$f":"IF(AA7=0,0,(AA7*((LOG(AA7))/LOG(2))))","v":-0.13263093139418039},null,{"$f":"N7","v":1111},{"$f":"COUNTIF(L70:L101,AD7)","v":30},{"$f":"AE7/(AG4-AE20)","v":0.9375},{"$f":"IF(AF7=0,0,(AF7*((LOG(AF7))/LOG(2))))","v":-8.729006661701387E-2},null,{"$f":"N7","v":1111},{"$f":"COUNTIF(L102:L133,AI7)","v":26},{"$f":"AJ7/(AL4-AJ20)","v":0.8125},{"$f":"IF(AK7=0,0,(AK7*((LOG(AK7))/LOG(2))))","v":-0.24339272901036266},null,{"$f":"N7","v":1111},{"$f":"COUNTIF(L134:L164,AN7)","v":28},{"$f":"AO7/(AQ4-AO20)","v":0.90322580645161288},{"$f":"IF(AP7=0,0,(AP7*((LOG(AP7))/LOG(2))))","v":-0.13263093139418039},null,{"$f":"N7","v":1111},{"$f":"COUNTIF(L165:L196,AS7)","v":30},{"$f":"AT7/(AV4-AT20)","v":0.9375},{"$f":"IF(AU7=0,0,(AU7*((LOG(AU7))/LOG(2))))","v":-8.729006661701387E-2}]
[21,179,21,186,22,203,23,210,null,null,0,2222,null,1112,{"$f":"COUNTIF($L$7:$L$500,N8)","v":6},{"$f":"O8/$Q$4","v":3.1578947368421054E-2},{"$f":"IF(P8=0,0,(P8*((LOG(P8))/LOG(2))))","v":-0.15741767708241444},null,null,{"$f":"N8","v":1112},{"$f":"COUNTIF(L7:L38,T8)","v":0},{"$f":"U8/(W4-U20)","v":0},{"$f":"IF(V8=0,0,(V8*((LOG(V8))/LOG(2))))","v":0},null,{"$f":"N8","v":1112},{"$f":"COUNTIF(L39:L69,Y8)","v":0},{"$f":"Z8/(AB4-Z20)","v":0},{"$f":"IF(AA8=0,0,(AA8*((LOG(AA8))/LOG(2))))","v":0},null,{"$f":"N8","v":1112},{"$f":"COUNTIF(L70:L101,AD8)","v":2},{"$f":"AE8/(AG4-AE20)","v":6.25E-2},{"$f":"IF(AF8=0,0,(AF8*((LOG(AF8))/LOG(2))))","v":-0.25},null,{"$f":"N8","v":1112},{"$f":"COUNTIF(L102:L133,AI8)","v":4},{"$f":"AJ8/(AL4-AJ20)","v":0.125},{"$f":"IF(AK8=0,0,(AK8*((LOG(AK8))/LOG(2))))","v":-0.375},null,{"$f":"N8","v":1112},{"$f":"COUNTIF(L134:L164,AN8)","v":0},{"$f":"AO8/(AQ4-AO20)","v":0},{"$f":"IF(AP8=0,0,(AP8*((LOG(AP8))/LOG(2))))","v":0},null,{"$f":"N8","v":1112},{"$f":"COUNTIF(L165:L196,AS8)","v":0},{"$f":"AT8/(AV4-AT20)","v":0},{"$f":"IF(AU8=0,0,(AU8*((LOG(AU8))/LOG(2))))","v":0}]
[12,312,14,317,13,321,14,327,null,null,0,1111,null,1121,{"$f":"COUNTIF($L$7:$L$500,N9)","v":2},{"$f":"O9/$Q$4","v":1.0526315789473684E-2},{"$f":"IF(P9=0,0,(P9*((LOG(P9))/LOG(2))))","v":-6.9156374824536293E-2},null,null,{"$f":"N9","v":1121},{"$f":"COUNTIF(L7:L38,T9)","v":0},{"$f":"U9/(W4-U20)","v":0},{"$f":"IF(V9=0,0,(V9*((LOG(V9))/LOG(2))))","v":0},null,{"$f":"N9","v":1121},{"$f":"COUNTIF(L39:L69,Y9)","v":1},{"$f":"Z9/(AB4-Z20)","v":3.2258064516129031E-2},{"$f":"IF(AA9=0,0,(AA9*((LOG(AA9))/LOG(2))))","v":-0.15981278420602821},null,{"$f":"N9","v":1121},{"$f":"COUNTIF(L70:L101,AD9)","v":0},{"$f":"AE9/(AG4-AE20)","v":0},{"$f":"IF(AF9=0,0,(AF9*((LOG(AF9))/LOG(2))))","v":0},null,{"$f":"N9","v":1121},{"$f":"COUNTIF(L102:L133,AI9)","v":0},{"$f":"AJ9/(AL4-AJ20)","v":0},{"$f":"IF(AK9=0,0,(AK9*((LOG(AK9))/LOG(2))))","v":0},null,{"$f":"N9","v":1121},{"$f":"COUNTIF(L134:L164,AN9)","v":1},{"$f":"AO9/(AQ4-AO20)","v":3.2258064516129031E-2},{"$f":"IF(AP9=0,0,(AP9*((LOG(AP9))/LOG(2))))","v":-0.15981278420602821},null,{"$f":"N9","v":1121},{"$f":"COUNTIF(L165:L196,AS9)","v":0},{"$f":"AT9/(AV4-AT20)","v":0},{"$f":"IF(AU9=0,0,(AU9*((LOG(AU9))/LOG(2))))","v":0}]
[12,431,14,436,13,440,14,445,null,null,0,1111,null,1122,{"$f":"COUNTIF($L$7:$L$500,N10)","v":5},{"$f":"O10/$Q$4","v":2.6315789473684209E-2},{"$f":"IF(P10=0,0,(P10*((LOG(P10))/LOG(2))))","v":-0.13810335561693646},null,null,{"$f":"N10","v":1122},{"$f":"COUNTIF(L7:L38,T10)","v":2},{"$f":"U10/(W4-U20)","v":6.25E-2},{"$f":"IF(V10=0,0,(V10*((LOG(V10))/LOG(2))))","v":-0.25},null,{"$f":"N10","v":1122},{"$f":"COUNTIF(L39:L69,Y10)","v":1},{"$f":"Z10/(AB4-Z20)","v":3.2258064516129031E-2},{"$f":"IF(AA10=0,0,(AA10*((LOG(AA10))/LOG(2))))","v":-0.15981278420602821},null,{"$f":"N10","v":1122},{"$f":"COUNTIF(L70:L101,AD10)","v":0},{"$f":"AE10/(AG4-AE20)","v":0},{"$f":"IF(AF10=0,0,(AF10*((LOG(AF10))/LOG(2))))","v":0},null,{"$f":"N10","v":1122},{"$f":"COUNTIF(L102:L133,AI10)","v":0},{"$f":"AJ10/(AL4-AJ20)","v":0},{"$f":"IF(AK10=0,0,(AK10*((LOG(AK10))/LOG(2))))","v":0},null,{"$f":"N10","v":1122},{"$f":"COUNTIF(L134:L164,AN10)","v":1},{"$f":"AO10/(AQ4-AO20)","v":3.2258064516129031E-2},{"$f":"IF(AP10=0,0,(AP10*((LOG(AP10))/LOG(2))))","v":-0.15981278420602821},null,{"$f":"N10","v":1122},{"$f":"COUNTIF(L165:L196,AS10)","v":1},{"$f":"AT10/(AV4-AT20)","v":3.125E-2},{"$f":"IF(AU10=0,0,(AU10*((LOG(AU10))/LOG(2))))","v":-0.15625}]
[12,556,14,566,24,583,23,597,null,null,0,1122,null,1211,{"$f":"COUNTIF($L$7:$L$500,N11)","v":0},{"$f":"O11/$Q$4","v":0},{"$f":"IF(P11=0,0,(P11*((LOG(P11))/LOG(2))))","v":0},null,null,{"$f":"N11","v":1211},{"$f":"COUNTIF(L7:L38,T11)","v":0},{"$f":"U11/(W4-U20)","v":0},{"$f":"IF(V11=0,0,(V11*((LOG(V11))/LOG(2))))","v":0},null,{"$f":"N11","v":1211},{"$f":"COUNTIF(L39:L69,Y11)","v":0},{"$f":"Z11/(AB4-Z20)","v":0},{"$f":"IF(AA11=0,0,(AA11*((LOG(AA11))/LOG(2))))","v":0},null,{"$f":"N11","v":1211},{"$f":"COUNTIF(L70:L101,AD11)","v":0},{"$f":"AE11/(AG4-AE20)","v":0},{"$f":"IF(AF11=0,0,(AF11*((LOG(AF11))/LOG(2))))","v":0},null,{"$f":"N11","v":1211},{"$f":"COUNTIF(L102:L133,AI11)","v":0},{"$f":"AJ11/(AL4-AJ20)","v":0},{"$f":"IF(AK11=0,0,(AK11*((LOG(AK11))/LOG(2))))","v":0},null,{"$f":"N11","v":1211},{"$f":"COUNTIF(L134:L164,AN11)","v":0},{"$f":"AO11/(AQ4-AO20)","v":0},{"$f":"IF(AP11=0,0,(AP11*((LOG(AP11))/LOG(2))))","v":0},null,{"$f":"N11","v":1211},{"$f":"COUNTIF(L165:L196,AS11)","v":0},{"$f":"AT11/(AV4-AT20)","v":0},{"$f":"IF(AU11=0,0,(AU11*((LOG(AU11))/LOG(2))))","v":0}]
[12,711,14,716,24,739,23,751,null,null,0,1122,null,1212,{"$f":"COUNTIF($L$7:$L$500,N12)","v":0},{"$f":"O12/$Q$4","v":0},{"$f":"IF(P12=0,0,(P12*((LOG(P12))/LOG(2))))","v":0},null,null,{"$f":"N12","v":1212},{"$f":"COUNTIF(L7:L38,T12)","v":0},{"$f":"U12/(W4-U20)","v":0},{"$f":"IF(V12=0,0,(V12*((LOG(V12))/LOG(2))))","v":0},null,{"$f":"N12","v":1212},{"$f":"COUNTIF(L39:L69,Y12)","v":0},{"$f":"Z12/(AB4-Z20)","v":0},{"$f":"IF(AA12=0,0,(AA12*((LOG(AA12))/LOG(2))))","v":0},null,{"$f":"N12","v":1212},{"$f":"COUNTIF(L70:L101,AD12)","v":0},{"$f":"AE12/(AG4-AE20)","v":0},{"$f":"IF(AF12=0,0,(AF12*((LOG(AF12))/LOG(2))))","v":0},null,{"$f":"N12","v":1212},{"$f":"COUNTIF(L102:L133,AI12)","v":0},{"$f":"AJ12/(AL4-AJ20)","v":0},{"$f":"IF(AK12=0,0,(AK12*((LOG(AK12))/LOG(2))))","v":0},null,{"$f":"N12","v":1212},{"$f":"COUNTIF(L134:L164,AN12)","v":0},{"$f":"AO12/(AQ4-AO20)","v":0},{"$f":"IF(AP12=0,0,(AP12*((LOG(AP12))/LOG(2))))","v":0},null,{"$f":"N12","v":1212},{"$f":"COUNTIF(L165:L196,AS12)","v":0},{"$f":"AT12/(AV4-AT20)","v":0},{"$f":"IF(AU12=0,0,(AU12*((LOG(AU12))/LOG(2))))","v":0}]
[12,847,14,852,13,856,14,861,null,null,0,1111,null,1221,{"$f":"COUNTIF($L$7:$L$500,N13)","v":3},{"$f":"O13/$Q$4","v":1.5789473684210527E-2},{"$f":"IF(P13=0,0,(P13*((LOG(P13))/LOG(2))))","v":-9.4498312225417769E-2},null,null,{"$f":"N13","v":1221},{"$f":"COUNTIF(L7:L38,T13)","v":0},{"$f":"U13/(W4-U20)","v":0},{"$f":"IF(V13=0,0,(V13*((LOG(V13))/LOG(2))))","v":0},null,{"$f":"N13","v":1221},{"$f":"COUNTIF(L39:L69,Y13)","v":0},{"$f":"Z13/(AB4-Z20)","v":0},{"$f":"IF(AA13=0,0,(AA13*((LOG(AA13))/LOG(2))))","v":0},null,{"$f":"N13","v":1221},{"$f":"COUNTIF(L70:L101,AD13)","v":0},{"$f":"AE13/(AG4-AE20)","v":0},{"$f":"IF(AF13=0,0,(AF13*((LOG(AF13))/LOG(2))))","v":0},null,{"$f":"N13","v":1221},{"$f":"COUNTIF(L102:L133,AI13)","v":2},{"$f":"AJ13/(AL4-AJ20)","v":6.25E-2},{"$f":"IF(AK13=0,0,(AK13*((LOG(AK13))/LOG(2))))","v":-0.25},null,{"$f":"N13","v":1221},{"$f":"COUNTIF(L134:L164,AN13)","v":0},{"$f":"AO13/(AQ4-AO20)","v":0},{"$f":"IF(AP13=0,0,(AP13*((LOG(AP13))/LOG(2))))","v":0},null,{"$f":"N13","v":1221},{"$f":"COUNTIF(L165:L196,AS13)","v":1},{"$f":"AT13/(AV4-AT20)","v":3.125E-2},{"$f":"IF(AU13=0,0,(AU13*((LOG(AU13))/LOG(2))))","v":-0.15625}]
[12,963,14,969,13,974,14,979,null,null,0,1111,null,1222,{"$f":"COUNTIF($L$7:$L$500,N14)","v":2},{"$f":"O14/$Q$4","v":1.0526315789473684E-2},{"$f":"IF(P14=0,0,(P14*((LOG(P14))/LOG(2))))","v":-6.9156374824536293E-2},null,null,{"$f":"N14","v":1222},{"$f":"COUNTIF(L7:L38,T14)","v":1},{"$f":"U14/(W4-U20)","v":3.125E-2},{"$f":"IF(V14=0,0,(V14*((LOG(V14))/LOG(2))))","v":-0.15625},null,{"$f":"N14","v":1222},{"$f":"COUNTIF(L39:L69,Y14)","v":1},{"$f":"Z14/(AB4-Z20)","v":3.2258064516129031E-2},{"$f":"IF(AA14=0,0,(AA14*((LOG(AA14))/LOG(2))))","v":-0.15981278420602821},null,{"$f":"N14","v":1222},{"$f":"COUNTIF(L70:L101,AD14)","v":0},{"$f":"AE14/(AG4-AE20)","v":0},{"$f":"IF(AF14=0,0,(AF14*((LOG(AF14))/LOG(2))))","v":0},null,{"$f":"N14","v":1222},{"$f":"COUNTIF(L102:L133,AI14)","v":0},{"$f":"AJ14/(AL4-AJ20)","v":0},{"$f":"IF(AK14=0,0,(AK14*((LOG(AK14))/LOG(2))))","v":0},null,{"$f":"N14","v":1222},{"$f":"COUNTIF(L134:L164,AN14)","v":0},{"$f":"AO14/(AQ4-AO20)","v":0},{"$f":"IF(AP14=0,0,(AP14*((LOG(AP14))/LOG(2))))","v":0},null,{"$f":"N14","v":1222},{"$f":"COUNTIF(L165:L196,AS14)","v":0},{"$f":"AT14/(AV4-AT20)","v":0},{"$f":"IF(AU14=0,0,(AU14*((LOG(AU14))/LOG(2))))","v":0}]
[12,1089,14,1093,13,1097,14,1105,null,null,0,1111,null,2111,{"$f":"COUNTIF($L$7:$L$500,N15)","v":0},{"$f":"O15/$Q$4","v":0},{"$f":"IF(P15=0,0,(P15*((LOG(P15))/LOG(2))))","v":0},null,null,{"$f":"N15","v":2111},{"$f":"COUNTIF(L7:L38,T15)","v":0},{"$f":"U15/(W4-U20)","v":0},{"$f":"IF(V15=0,0,(V15*((LOG(V15))/LOG(2))))","v":0},null,{"$f":"N15","v":2111},{"$f":"COUNTIF(L39:L69,Y15)","v":0},{"$f":"Z15/(AB4-Z20)","v":0},{"$f":"IF(AA15=0,0,(AA15*((LOG(AA15))/LOG(2))))","v":0},null,{"$f":"N15","v":2111},{"$f":"COUNTIF(L70:L101,AD15)","v":0},{"$f":"AE15/(AG4-AE20)","v":0},{"$f":"IF(AF15=0,0,(AF15*((LOG(AF15))/LOG(2))))","v":0},null,{"$f":"N15","v":2111},{"$f":"COUNTIF(L102:L133,AI15)","v":0},{"$f":"AJ15/(AL4-AJ20)","v":0},{"$f":"IF(AK15=0,0,(AK15*((LOG(AK15))/LOG(2))))","v":0},null,{"$f":"N15","v":2111},{"$f":"COUNTIF(L134:L164,AN15)","v":0},{"$f":"AO15/(AQ4-AO20)","v":0},{"$f":"IF(AP15=0,0,(AP15*((LOG(AP15))/LOG(2))))","v":0},null,{"$f":"N15","v":2111},{"$f":"COUNTIF(L165:L196,AS15)","v":0},{"$f":"AT15/(AV4-AT20)","v":0},{"$f":"IF(AU15=0,0,(AU15*((LOG(AU15))/LOG(2))))","v":0}]
[12,1211,14,1215,13,1220,14,1232,null,null,0,1111,null,2112,{"$f":"COUNTIF($L$7:$L$500,N16)","v":0},{"$f":"O16/$Q$4","v":0},{"$f":"IF(P16=0,0,(P16*((LOG(P16))/LOG(2))))","v":0},null,null,{"$f":"N16","v":2112},{"$f":"COUNTIF(L7:L38,T16)","v":0},{"$f":"U16/(W4-U20)","v":0},{"$f":"IF(V16=0,0,(V16*((LOG(V16))/LOG(2))))","v":0},null,{"$f":"N16","v":2112},{"$f":"COUNTIF(L39:L69,Y16)","v":0},{"$f":"Z16/(AB4-Z20)","v":0},{"$f":"IF(AA16=0,0,(AA16*((LOG(AA16))/LOG(2))))","v":0},null,{"$f":"N16","v":2112},{"$f":"COUNTIF(L70:L101,AD16)","v":0},{"$f":"AE16/(AG4-AE20)","v":0},{"$f":"IF(AF16=0,0,(AF16*((LOG(AF16))/LOG(2))))","v":0},null,{"$f":"N16","v":2112},{"$f":"COUNTIF(L102:L133,AI16)","v":0},{"$f":"AJ16/(AL4-AJ20)","v":0},{"$f":"IF(AK16=0,0,(AK16*((LOG(AK16))/LOG(2))))","v":0},null,{"$f":"N16","v":2112},{"$f":"COUNTIF(L134:L164,AN16)","v":0},{"$f":"AO16/(AQ4-AO20)","v":0},{"$f":"IF(AP16=0,0,(AP16*((LOG(AP16))/LOG(2))))","v":0},null,{"$f":"N16","v":2112},{"$f":"COUNTIF(L165:L196,AS16)","v":0},{"$f":"AT16/(AV4-AT20)","v":0},{"$f":"IF(AU16=0,0,(AU16*((LOG(AU16))/LOG(2))))","v":0}]
[12,1332,14,1336,13,1340,14,1344,null,null,0,1111,null,2121,{"$f":"COUNTIF($L$7:$L$500,N17)","v":0},{"$f":"O17/$Q$4","v":0},{"$f":"IF(P17=0,0,(P17*((LOG(P17))/LOG(2))))","v":0},null,null,{"$f":"N17","v":2121},{"$f":"COUNTIF(L7:L38,T17)","v":0},{"$f":"U17/(W4-U20)","v":0},{"$f":"IF(V17=0,0,(V17*((LOG(V17))/LOG(2))))","v":0},null,{"$f":"N17","v":2121},{"$f":"COUNTIF(L39:L69,Y17)","v":0},{"$f":"Z17/(AB4-Z20)","v":0},{"$f":"IF(AA17=0,0,(AA17*((LOG(AA17))/LOG(2))))","v":0},null,{"$f":"N17","v":2121},{"$f":"COUNTIF(L70:L101,AD17)","v":0},{"$f":"AE17/(AG4-AE20)","v":0},{"$f":"IF(AF17=0,0,(AF17*((LOG(AF17))/LOG(2))))","v":0},null,{"$f":"N17","v":2121},{"$f":"COUNTIF(L102:L133,AI17)","v":0},{"$f":"AJ17/(AL4-AJ20)","v":0},{"$f":"IF(AK17=0,0,(AK17*((LOG(AK17))/LOG(2))))","v":0},null,{"$f":"N17","v":2121},{"$f":"COUNTIF(L134:L164,AN17)","v":0},{"$f":"AO17/(AQ4-AO20)","v":0},{"$f":"IF(AP17=0,0,(AP17*((LOG(AP17))/LOG(2))))","v":0},null,{"$f":"N17","v":2121},{"$f":"COUNTIF(L165:L196,AS17)","v":0},{"$f":"AT17/(AV4-AT20)","v":0},{"$f":"IF(AU17=0,0,(AU17*((LOG(AU17))/LOG(2))))","v":0}]
[12,1449,14,1453,13,1457,14,1461,null,null,0,1111,null,2122,{"$f":"COUNTIF($L$7:$L$500,N18)","v":0},{"$f":"O18/$Q$4","v":0},{"$f":"IF(P18=0,0,(P18*((LOG(P18))/LOG(2))))","v":0},null,null,{"$f":"N18","v":2122},{"$f":"COUNTIF(L7:L38,T18)","v":0},{"$f":"U18/(W4-U20)","v":0},{"$f":"IF(V18=0,0,(V18*((LOG(V18))/LOG(2))))","v":0},null,{"$f":"N18","v":2122},{"$f":"COUNTIF(L39:L69,Y18)","v":0},{"$f":"Z18/(AB4-Z20)","v":0},{"$f":"IF(AA18=0,0,(AA18*((LOG(AA18))/LOG(2))))","v":0},null,{"$f":"N18","v":2122},{"$f":"COUNTIF(L70:L101,AD18)","v":0},{"$f":"AE18/(AG4-AE20)","v":0},{"$f":"IF(AF18=0,0,(AF18*((LOG(AF18))/LOG(2))))","v":0},null,{"$f":"N18","v":2122},{"$f":"COUNTIF(L102:L133,AI18)","v":0},{"$f":"AJ18/(AL4-AJ20)","v":0},{"$f":"IF(AK18=0,0,(AK18*((LOG(AK18))/LOG(2))))","v":0},null,{"$f":"N18","v":2122},{"$f":"COUNTIF(L134:L164,AN18)","v":0},{"$f":"AO18/(AQ4-AO20)","v":0},{"$f":"IF(AP18=0,0,(AP18*((LOG(AP18))/LOG(2))))","v":0},null,{"$f":"N18","v":2122},{"$f":"COUNTIF(L165:L196,AS18)","v":0},{"$f":"AT18/(AV4-AT20)","v":0},{"$f":"IF(AU18=0,0,(AU18*((LOG(AU18))/LOG(2))))","v":0}]
[12,1564,14,1568,13,1571,14,1576,null,null,0,1111,null,2211,{"$f":"COUNTIF($L$7:$L$500,N19)","v":0},{"$f":"O19/$Q$4","v":0},{"$f":"IF(P19=0,0,(P19*((LOG(P19))/LOG(2))))","v":0},null,null,{"$f":"N19","v":2211},{"$f":"COUNTIF(L7:L38,T19)","v":0},{"$f":"U19/(W4-U20)","v":0},{"$f":"IF(V19=0,0,(V19*((LOG(V19))/LOG(2))))","v":0},null,{"$f":"N19","v":2211},{"$f":"COUNTIF(L39:L69,Y19)","v":0},{"$f":"Z19/(AB4-Z20)","v":0},{"$f":"IF(AA19=0,0,(AA19*((LOG(AA19))/LOG(2))))","v":0},null,{"$f":"N19","v":2211},{"$f":"COUNTIF(L70:L101,AD19)","v":0},{"$f":"AE19/(AG4-AE20)","v":0},{"$f":"IF(AF19=0,0,(AF19*((LOG(AF19))/LOG(2))))","v":0},null,{"$f":"N19","v":2211},{"$f":"COUNTIF(L102:L133,AI19)","v":0},{"$f":"AJ19/(AL4-AJ20)","v":0},{"$f":"IF(AK19=0,0,(AK19*((LOG(AK19))/LOG(2))))","v":0},null,{"$f":"N19","v":2211},{"$f":"COUNTIF(L134:L164,AN19)","v":0},{"$f":"AO19/(AQ4-AO20)","v":0},{"$f":"IF(AP19=0,0,(AP19*((LOG(AP19))/LOG(2))))","v":0},null,{"$f":"N19","v":2211},{"$f":"COUNTIF(L165:L196,AS19)","v":0},{"$f":"AT19/(AV4-AT20)","v":0},{"$f":"IF(AU19=0,0,(AU19*((LOG(AU19))/LOG(2))))","v":0}]
[12,1674,14,1678,13,1688,14,1693,null,null,0,1111,null,2212,{"$f":"COUNTIF($L$7:$L$500,N20)","v":0},{"$f":"O20/$Q$4","v":0},{"$f":"IF(P20=0,0,(P20*((LOG(P20))/LOG(2))))","v":0},null,null,{"$f":"N20","v":2212},{"$f":"COUNTIF(L7:L38,T20)","v":0},null,null,null,{"$f":"N20","v":2212},{"$f":"COUNTIF(L39:L69,Y20)","v":0},null,null,null,{"$f":"N20","v":2212},{"$f":"COUNTIF(L70:L101,AD20)","v":0},null,null,null,{"$f":"N20","v":2212},{"$f":"COUNTIF(L102:L133,AI20)","v":0},null,null,null,{"$f":"N20","v":2212},{"$f":"COUNTIF(L134:L164,AN20)","v":0},null,null,null,{"$f":"N20","v":2212},{"$f":"COUNTIF(L165:L196,AS20)","v":0}]
[12,1793,14,1797,13,1806,14,1810,null,null,0,1111,null,2221,{"$f":"COUNTIF($L$7:$L$500,N21)","v":0},{"$f":"O21/$Q$4","v":0},{"$f":"IF(P21=0,0,(P21*((LOG(P21))/LOG(2))))","v":0},null,null,{"$f":"N21","v":2221},{"$f":"COUNTIF(L7:L38,T21)","v":0},{"$f":"U21/(W4-U20)","v":0},{"$f":"IF(V21=0,0,(V21*((LOG(V21))/LOG(2))))","v":0},null,{"$f":"N21","v":2221},{"$f":"COUNTIF(L39:L69,Y21)","v":0},{"$f":"Z21/(AB4-Z20)","v":0},{"$f":"IF(AA21=0,0,(AA21*((LOG(AA21))/LOG(2))))","v":0},null,{"$f":"N21","v":2221},{"$f":"COUNTIF(L70:L101,AD21)","v":0},{"$f":"AE21/(AG4-AE20)","v":0},{"$f":"IF(AF21=0,0,(AF21*((LOG(AF21))/LOG(2))))","v":0},null,{"$f":"N21","v":2221},{"$f":"COUNTIF(L102:L133,AI21)","v":0},{"$f":"AJ21/(AL4-AJ20)","v":0},{"$f":"IF(AK21=0,0,(AK21*((LOG(AK21))/LOG(2))))","v":0},null,{"$f":"N21","v":2221},{"$f":"COUNTIF(L134:L164,AN21)","v":0},{"$f":"AO21/(AQ4-AO20)","v":0},{"$f":"IF(AP21=0,0,(AP21*((LOG(AP21))/LOG(2))))","v":0},null,{"$f":"N21","v":2221},{"$f":"COUNTIF(L165:L196,AS21)","v":0},{"$f":"AT21/(AV4-AT20)","v":0},{"$f":"IF(AU21=0,0,(AU21*((LOG(AU21))/LOG(2))))","v":0}]
[12,1913,14,1934,13,1942,14,1949,null,null,0,1111,null,2222,{"$f":"COUNTIF($L$7:$L$500,N22)","v":2},{"$f":"O22/$Q$4","v":1.0526315789473684E-2},{"$f":"IF(P22=0,0,(P22*((LOG(P22))/LOG(2))))","v":-6.9156374824536293E-2},null,null,{"$f":"N22","v":2222},{"$f":"COUNTIF(L7:L38,T22)","v":1},{"$f":"U22/(W4-U20)","v":3.125E-2},{"$f":"IF(V22=0,0,(V22*((LOG(V22))/LOG(2))))","v":-0.15625},null,{"$f":"N22","v":2222},{"$f":"COUNTIF(L39:L69,Y22)","v":0},{"$f":"Z22/(AB4-Z20)","v":0},{"$f":"IF(AA22=0,0,(AA22*((LOG(AA22))/LOG(2))))","v":0},null,{"$f":"N22","v":2222},{"$f":"COUNTIF(L70:L101,AD22)","v":0},{"$f":"AE22/(AG4-AE20)","v":0},{"$f":"IF(AF22=0,0,(AF22*((LOG(AF22))/LOG(2))))","v":0},null,{"$f":"N22","v":2222},{"$f":"COUNTIF(L102:L133,AI22)","v":0},{"$f":"AJ22/(AL4-AJ20)","v":0},{"$f":"IF(AK22=0,0,(AK22*((LOG(AK22))/LOG(2))))","v":0},null,{"$f":"N22","v":2222},{"$f":"COUNTIF(L134:L164,AN22)","v":1},{"$f":"AO22/(AQ4-AO20)","v":3.2258064516129031E-2},{"$f":"IF(AP22=0,0,(AP22*((LOG(AP22))/LOG(2))))","v":-0.15981278420602821},null,{"$f":"N22","v":2222},{"$f":"COUNTIF(L165:L196,AS22)","v":0},{"$f":"AT22/(AV4-AT20)","v":0},{"$f":"IF(AU22=0,0,(AU22*((LOG(AU22))/LOG(2))))","v":0}]
[12,2051,14,2055,13,2063,14,2071,null,null,0,1111,null,null,null,{"$f":"SUM(P7:P22)","v":1},{"$f":"-SUM(Q7:Q22)","v":0.74106212346601885},null,null,null,null,{"$f":"SUM(V7:V22)","v":1},{"$f":"-SUM(W7:W22)","v":0.7310644431995964},null,null,null,{"$f":"SUM(AA7:AA22)","v":0.99999999999999989},{"$f":"-SUM(AB7:AB22)","v":0.61206928401226501},null,null,null,{"$f":"SUM(AF7:AF22)","v":1},{"$f":"-SUM(AG7:AG22)","v":0.33729006661701388},null,null,null,{"$f":"SUM(AK7:AK22)","v":1},{"$f":"-SUM(AL7:AL22)","v":0.86839272901036269},null,null,null,{"$f":"SUM(AP7:AP22)","v":0.99999999999999989},{"$f":"-SUM(AQ7:AQ22)","v":0.61206928401226501},null,null,null,{"$f":"SUM(AU7:AU22)","v":1},{"$f":"-SUM(AV7:AV22)","v":0.39979006661701388}]
[12,2177,14,2181,13,2189,14,2195,null,null,0,1111,null,null,null,"U=",{"$f":"Q23/(LOG(Q4)/LOG(2))","v":9.7896467490139236E-2},null,null,null,null,"U1=",{"$f":"W23/(LOG(W4)/LOG(2))","v":0.14621288863991927},null,null,null,"U2=",{"$f":"AB23/(LOG(AB4)/LOG(2))","v":0.12354562590283555},null,null,null,"U3=",{"$f":"AG23/(LOG(AG4)/LOG(2))","v":6.7458013323402774E-2},null,null,null,"U4=",{"$f":"AL23/(LOG(AL4)/LOG(2))","v":0.17367854580207254},null,null,null,"U5=",{"$f":"AQ23/(LOG(AQ4)/LOG(2))","v":0.12354562590283555},null,null,null,"U6=",{"$f":"AV23/(LOG(AV4)/LOG(2))","v":7.9958013323402771E-2}]
[12,2298,14,2302,13,2310,14,2314,null,null,0,1111]
[12,2420,14,2431,13,2436,14,2443,null,null,0,1111]
[12,2558,14,2562,13,2572,14,2578,null,null,0,1111,null,"Total Target Seq"]
[12,2676,14,2681,13,2685,14,2689,null,null,0,1111,null,{"$f":"COUNTIF(L7:L196,G3)","v":0},null,32,31,32,32,31,32]
[12,2791,14,2803,13,2807,14,2815,null,null,0,1111,null,null,null,"% of reinforcement given in 6 equal intervals based on number of trials "]
[12,2910,14,2916,13,2919,14,2928,null,null,0,1111,null,null,null,"%_1","%_2","%_3","%_4","%_5","%_6"]
[12,3031,14,3035,13,3041,14,3051,null,null,0,1111,null,null,"target sequence",{"$f":"$G$3","v":2212},{"$f":"$G$3","v":2212},{"$f":"$G$3","v":2212},{"$f":"$G$3","v":2212},{"$f":"$G$3","v":2212},{"$f":"$G$3","v":2212}]
[12,3147,14,3151,13,3155,14,3162,null,null,0,1111,null,null,"total reinforcement",{"$f":"U20","v":0},{"$f":"Z20","v":0},{"$f":"AE20","v":0},{"$f":"AJ20","v":0},{"$f":"AO20","v":0},{"$f":"AT20","v":0}]
[12,3264,14,3273,13,3279,14,3284,null,null,0,1111,null,null,"% target"]
[12,3383,14,3387,13,3391,14,3395,null,null,0,1111,null,null,"CCRF"]
[12,3507,14,3514,13,3528,14,3536,null,null,0,1111,null,null,"% CCRf"]
[12,3638,14,3642,13,3648,14,3662,null,null,0,1111,null,null,"average response rate",{"$f":"H38/P28","v":122.40625},{"$f":"(H69-H38)/Q28","v":127.03225806451613},{"$f":"(H101-H69)/R28","v":128.65625},{"$f":"(H133-H101)/S28","v":129.9375},{"$f":"(H164-H133)/T28","v":128},{"$f":"(H196-H164)/U28","v":120.40625}]
[12,3762,14,3769,13,3775,14,3792,null,null,0,1111]
[12,3892,14,3895,13,3908,14,3917,null,null,0,1111]
[12,4019,14,4024,13,4028,14,4035,null,null,0,1111]
[12,4136,14,4142,13,4151,14,4158,null,null,0,1111]
[12,4253,14,4265,24,4278,23,4289,null,null,0,1122]
[12,4389,14,4393,13,4397,14,4405,null,null,0,1111]
[12,4505,14,4517,24,4537,14,4565,null,null,0,1121]
[12,4668,14,4677,13,4681,14,4689,null,null,0,1111]
[12,4794,14,4798,13,4806,14,4810,null,null,0,1111]
[12,4909,14,4913,13,4918,14,4922,null,null,0,1111]
[12,5021,14,5025,13,5029,14,5038,null,null,0,1111]
[12,5136,14,5142,13,5146,14,5155,null,null,0,1111]
[12,5255,14,5262,13,5267,14,5272,null,null,0,1111]
[12,5373,14,5384,13,5388,14,5394,null,null,0,1111]
[12,5498,14,5503,13,5507,14,5516,null,null,0,1111]
[12,5621,14,5625,13,5629,14,5636,null,null,0,1111]
[12,5736,14,5740,13,5749,14,5763,null,null,0,1111]
[12,5863,14,5867,13,5876,14,5884,null,null,0,1111]
[12,5991,14,5996,13,6004,14,6014,null,null,0,1111]
[12,6115,14,6120,13,6125,14,6128,null,null,0,1111]
[12,6240,14,6247,13,6257,14,6264,null,null,0,1111]
[12,6367,14,6372,13,6375,14,6380,null,null,0,1111]
[12,6480,14,6484,13,6490,14,6499,null,null,0,1111]
[12,6602,23,6614,24,6622,23,6635,null,null,0,1222]
[12,6740,14,6745,13,6751,14,6756,null,null,0,1111]
[12,6852,14,6856,13,6860,14,6872,null,null,0,1111]
[12,6976,14,6980,13,7021,14,7028,null,null,0,1111]
[12,7154,14,7162,13,7184,14,7192,null,null,0,1111]
[12,7310,14,7321,13,7325,14,7333,null,null,0,1111]
[12,7431,14,7437,13,7441,14,7448,null,null,0,1111]
[12,7604,14,7609,13,7617,14,7624,null,null,0,1111]
[12,7723,14,7729,13,7734,14,7738,null,null,0,1111]
[12,7839,14,7843,13,7851,14,7855,null,null,0,1111]
[12,7955,14,7959,13,7968,14,7975,null,null,0,1111]
[12,8079,14,8084,13,8088,14,8096,null,null,0,1111]
[12,8196,14,8211,13,8216,14,8221,null,null,0,1111]
[12,8317,14,8325,13,8333,23,8357,null,null,0,1112]
[12,8466,14,8474,13,8480,14,8487,null,null,0,1111]
[12,8593,14,8597,13,8602,14,8607,null,null,0,1111]
[12,8713,14,8717,13,8722,14,8731,null,null,0,1111]
[12,8839,14,8843,13,8857,23,8874,null,null,0,1112]
[12,8977,14,8982,13,8986,14,8999,null,null,0,1111]
[12,9099,14,9116,13,9123,14,9133,null,null,0,1111]
[12,9236,14,9240,13,9244,14,9250,null,null,0,1111]
[12,9355,14,9360,13,9364,14,9372,null,null,0,1111]
[12,9471,14,9478,13,9482,14,9518,null,null,0,1111]
[12,9615,14,9619,13,9631,14,9636,null,null,0,1111]
[12,9745,14,9748,13,9756,14,9763,null,null,0,1111]
[12,9862,14,9867,13,9875,14,9884,null,null,0,1111]
[12,9987,14,9993,13,9998,14,10002,null,null,0,1111]
[12,10103,14,10112,13,10116,14,10131,null,null,0,1111]
[12,10242,14,10251,13,10258,14,10273,null,null,0,1111]
[12,10374,14,10379,13,10388,14,10393,null,null,0,1111]
[12,10492,14,10498,13,10513,14,10565,null,null,0,1111]
[12,10664,14,10669,13,10674,14,10678,null,null,0,1111]
[12,10783,14,10792,13,10798,14,10803,null,null,0,1111]
[12,10907,14,10914,13,10930,14,10937,null,null,0,1111]
[12,11038,14,11043,13,11064,14,11072,null,null,0,1111]
[12,11176,14,11183,13,11187,14,11194,null,null,0,1111]
[12,11294,14,11317,13,11322,14,11331,null,null,0,1111]
[12,11431,14,11436,13,11440,14,11449,null,null,0,1111]
[12,11557,14,11566,13,11574,14,11588,null,null,0,1111]
[12,11691,14,11703,13,11708,14,11716,null,null,0,1111]
[12,11819,14,11823,13,11831,14,11843,null,null,0,1111]
[12,11949,14,11960,13,11965,14,11972,null,null,0,1111]
[12,12068,14,12079,13,12083,23,12103,null,null,0,1112]
[12,12230,23,12249,24,12261,14,12279,null,null,0,1221]
[12,12383,14,12388,13,12392,14,12400,null,null,0,1111]
[12,12498,14,12504,13,12507,14,12519,null,null,0,1111]
[12,12616,14,12621,13,12631,14,12636,null,null,0,1111]
[12,12734,14,12739,13,12750,14,12763,null,null,0,1111]
[12,12860,14,12866,13,12876,14,12901,null,null,0,1111]
[12,13002,14,13014,13,13024,14,13028,null,null,0,1111]
[12,13126,14,13136,13,13140,23,13160,null,null,0,1112]
[12,13262,14,13269,13,13282,14,13287,null,null,0,1111]
[12,13387,14,13401,13,13405,14,13413,null,null,0,1111]
[12,13509,14,13520,13,13528,14,13535,null,null,0,1111]
[12,13635,14,13642,13,13647,14,13652,null,null,0,1111]
[12,13754,14,13760,13,13771,14,13779,null,null,0,1111]
[12,13874,14,13881,13,13885,23,13908,null,null,0,1112]
[12,14019,14,14023,13,14029,14,14036,null,null,0,1111]
[12,14143,14,14147,13,14153,14,14157,null,null,0,1111]
[12,14261,14,14273,13,14281,14,14285,null,null,0,1111]
[12,14387,14,14395,13,14400,14,14408,null,null,0,1111]
[12,14506,14,14511,13,14515,14,14523,null,null,0,1111]
[12,14615,14,14620,13,14631,23,14655,null,null,0,1112]
[12,14752,14,14761,13,14769,14,14781,null,null,0,1111]
[12,14902,14,14913,13,14920,14,14929,null,null,0,1111]
[12,15045,14,15053,13,15061,14,15068,null,null,0,1111]
[12,15167,14,15175,13,15181,14,15185,null,null,0,1111]
[12,15286,14,15292,13,15300,14,15307,null,null,0,1111]
[12,15415,14,15425,13,15430,14,15434,null,null,0,1111]
[12,15539,14,15547,13,15550,14,15558,null,null,0,1111]
[12,15710,23,15729,24,15742,14,15760,null,null,0,1221]
[12,15862,14,15871,13,15879,14,15886,null,null,0,1111]
[12,15985,14,15991,13,15996,14,16005,null,null,0,1111]
[12,16108,14,16115,13,16118,14,16130,null,null,0,1111]
[12,16234,14,16240,13,16244,14,16253,null,null,0,1111]
[12,16356,14,16361,13,16365,14,16369,null,null,0,1111]
[12,16468,14,16472,13,16476,14,16483,null,null,0,1111]
[12,16587,14,16593,13,16597,14,16605,null,null,0,1111]
[12,16703,14,16714,13,16718,14,16725,null,null,0,1111]
[12,16859,14,16868,13,16874,14,16890,null,null,0,1111]
[12,16986,14,17013,24,17035,23,17043,null,null,0,1122]
[12,17142,14,17149,13,17154,14,17161,null,null,0,1111]
[12,17257,14,17265,13,17269,14,17277,null,null,0,1111]
[12,17376,14,17383,13,17399,14,17404,null,null,0,1111]
[21,17556,21,17581,22,17590,23,17602,null,null,0,2222]
[12,17699,14,17706,13,17712,14,17718,null,null,0,1111]
[12,17819,14,17826,13,17831,14,17849,null,null,0,1111]
[12,17945,14,17954,24,17966,14,18062,null,null,0,1121]
[12,18172,14,18182,13,18188,14,18202,null,null,0,1111]
[12,18302,14,18308,13,18313,14,18319,null,null,0,1111]
[12,18417,14,18424,13,18428,14,18435,null,null,0,1111]
[12,18533,14,18537,13,18546,14,18552,null,null,0,1111]
[12,18650,14,18658,13,18662,14,18670,null,null,0,1111]
[12,18772,14,18777,13,18780,14,18784,null,null,0,1111]
[12,18894,14,18898,13,18906,14,18912,null,null,0,1111]
[12,19012,14,19016,13,19027,14,19031,null,null,0,1111]
[12,19131,14,19134,13,19141,14,19145,null,null,0,1111]
[12,19243,14,19251,13,19254,14,19261,null,null,0,1111]
[12,19376,14,19380,13,19385,14,19392,null,null,0,1111]
[12,19490,14,19496,13,19501,14,19506,null,null,0,1111]
[12,19606,14,19610,13,19613,14,19623,null,null,0,1111]
[12,19732,14,19736,13,19740,14,19747,null,null,0,1111]
[12,19846,14,19851,13,19864,14,19871,null,null,0,1111]
[12,19970,14,19975,13,19982,14,19986,null,null,0,1111]
[12,20084,14,20088,13,20094,14,20098,null,null,0,1111]
[12,20194,14,20198,13,20203,14,20207,null,null,0,1111]
[12,20306,14,20312,13,20315,14,20320,null,null,0,1111]
[12,20427,14,20432,13,20436,14,20444,null,null,0,1111]
[12,20540,14,20545,13,20549,14,20553,null,null,0,1111]
[12,20650,14,20661,13,20665,14,20679,null,null,0,1111]
[12,20778,14,20783,13,20786,14,20794,null,null,0,1111]
[12,20893,14,20900,13,20904,14,20925,null,null,0,1111]
[12,21036,14,21044,13,21050,14,21057,null,null,0,1111]
[12,21174,14,21179,24,21197,23,21207,null,null,0,1122]
[12,21302,14,21307,13,21310,14,21318,null,null,0,1111]
[12,21443,14,21447,13,21455,14,21460,null,null,0,1111]
[12,21556,14,21562,13,21566,14,21584,null,null,0,1111]
[12,21681,14,21685,13,21692,14,21699,null,null,0,1111]
[12,21795,14,21799,13,21807,14,21815,null,null,0,1111]
[12,21917,14,21922,13,21927,14,21931,null,null,0,1111]
[12,22027,14,22031,13,22035,14,22043,null,null,0,1111]
[12,22156,23,22170,24,22177,14,22189,null,null,0,1221]
[12,22290,14,22294,13,22298,14,22304,null,null,0,1111]
[12,22401,14,22406,13,22409,14,22413,null,null,0,1111]
[12,22517,14,22520,13,22524,14,22531,null,null,0,1111]
[12,22630,14,22635,13,22641,14,22649,null,null,0,1111]
[12,22746,14,22750,13,22754,14,22762,null,null,0,1111]
[12,22865,14,22873,13,22880,14,22886,null,null,0,1111]
[12,22992,14,22997,13,23001,14,23008,null,null,0,1111]
[12,23106,14,23110,13,23130,14,23134,null,null,0,1111]
[12,23235,14,23239,13,23243,14,23247,null,null,0,1111]
[12,23349,14,23353,13,23357,14,23361,null,null,0,1111]
[12,23462,14,23467,13,23475,14,23479,null,null,0,1111]
[12,23571,14,23575,13,23580,14,23583,null,null,0,1111]
[12,23679,14,23684,13,23687,14,23695,null,null,0,1111]
[12,23797,14,23804,13,23817,14,23824,null,null,0,1111]
[12,23924,14,23929,13,23944,14,23951,null,null,null,1111]

{"sheet":"!M902A40.104","index":19,"n_rows":195,"n_cols":48,"rows_kept":195,"cut":false,"hidden":false,"merged":[[4,39,4,42],[5,39,5,40],[4,44,4,47],[5,44,5,45],[4,24,4,27],[5,24,5,25],[4,29,4,32],[5,29,5,30],[4,34,4,37],[5,34,5,35],[1,1,1,2],[5,13,5,14],[26,13,26,14],[27,13,27,14],[4,19,4,22],[5,19,5,20]]}
["Report for:!M902A40.104"]
["Date:","<date>"]
["Hen:","<hen>",null,null,null,"Correct Sequence",{"$f":"Start!J2","v":2212},null,null,null,null,null,null,null,null,"Total Sequences in Data",{"$f":"4994-COUNTBLANK(L7:L5000)","v":189},null,null,null,null,"Total Sequences in Block Data",{"$f":"COUNTA(L7:L38)","v":32},null,null,null,"Total Sequences in Block Data",{"$f":"COUNTA(L39:L69)","v":31},null,null,null,"Total Sequences in Block Data",{"$f":"COUNTA(L70:L101)","v":32},null,null,null,"Total Sequences in Block Data",{"$f":"COUNTA(L102:L132)","v":31},null,null,null,"Total Sequences in Block Data",{"$f":"COUNTA(L133:L164)","v":32},null,null,null,"Total Sequences in Block Data",{"$f":"COUNTA(L165:L195)","v":31}]
[null,null,null,null,null,null,null,null,null,null,null,null,null,null,null,"Total Sequences in Summary",{"$f":"SUM(O7:O22)","v":189},null,null,null,null,"Total Sequences in Block Summary",{"$f":"SUM(U7:U22)","v":32},null,null,null,"Total Sequences in Block Summary",{"$f":"SUM(Z7:Z22)","v":31},null,null,null,"Total Sequences in Block Summary",{"$f":"SUM(AE7:AE22)","v":32},null,null,null,"Total Sequences in Block Summary",{"$f":"SUM(AJ7:AJ22)","v":31},null,null,null,"Total Sequences in Block Summary",{"$f":"SUM(AO7:AO22)","v":32},null,null,null,"Total Sequences in Block Summary",{"$f":"SUM(AT7:AT22)","v":31}]
[null,null,null,null,null,null,null,null,null,null,null,null,null,null,null,null,null,null,null,"Block 1",null,null,null,null,"Block 2",null,null,null,null,"Block 3",null,null,null,null,"Block 4",null,null,null,null,"Block 5",null,null,null,null,"Block 6"]
["Sequence\nComponent\n1","Time\n1","Sequence\nComponent\n2","Time\n2","Sequence\nComponent\n3","Time\n3","Sequence\nComponent\n4","Time\n4","Sequence\nComponent\n5","Time\n5","Correct?\n0=No 1=Yes","Sequence",null,"Frequency",null,"Relative Frequency","Variability",null,null,"Frequency",null,"Relative Frequency","Variability",null,"Frequency",null,"Relative Frequency","Variability",null,"Frequency",null,"Relative Frequency","Variability",null,"Frequency",null,"Relative Frequency","Variability",null,"Frequency",null,"Relative Frequency","Variability",null,"Frequency",null,"Relative Frequency","Variability"]
[12,16,23,28,24,36,23,49,null,null,0,1222,null,1111,{"$f":"COUNTIF($L$7:$L$500,N7)","v":170},{"$f":"O7/$Q$4","v":0.89947089947089942},{"$f":"IF(P7=0,0,(P7*((LOG(P7))/LOG(2))))","v":-0.13748546547181517},null,null,{"$f":"N7","v":1111},{"$f":"COUNTIF(L7:L38,T7)","v":21},{"$f":"U7/(W4-U20)","v":0.65625},{"$f":"IF(V7=0,0,(V7*((LOG(V7))/LOG(2))))","v":-0.3987916913014386},null,{"$f":"N7","v":1111},{"$f":"COUNTIF(L39:L69,Y7)","v":30},{"$f":"Z7/(AB4-Z20)","v":0.967741935483871},{"$f":"IF(AA7=0,0,(AA7*((LOG(AA7))/LOG(2))))","v":-4.5779723979054811E-2},null,{"$f":"N7","v":1111},{"$f":"COUNTIF(L70:L101,AD7)","v":31},{"$f":"AE7/(AG4-AE20)","v":0.96875},{"$f":"IF(AF7=0,0,(AF7*((LOG(AF7))/LOG(2))))","v":-4.4372324312714644E-2},null,{"$f":"N7","v":1111},{"$f":"COUNTIF(L102:L132,AI7)","v":30},{"$f":"AJ7/(AL4-AJ20)","v":0.967741935483871},{"$f":"IF(AK7=0,0,(AK7*((LOG(AK7))/LOG(2))))","v":-4.5779723979054811E-2},null,{"$f":"N7","v":1111},{"$f":"COUNTIF(L133:L164,AN7)","v":29},{"$f":"AO7/(AQ4-AO20)","v":0.90625},{"$f":"IF(AP7=0,0,(AP7*((LOG(AP7))/LOG(2))))","v":-0.12870472316563777},null,{"$f":"N7","v":1111},{"$f":"COUNTIF(L165:L195,AS7)","v":29},{"$f":"AT7/(AV4-AT20)","v":0.93548387096774188},{"$f":"IF(AU7=0,0,(AU7*((LOG(AU7))/LOG(2))))","v":-9.0007875565154577E-2}]
[21,154,21,162,22,174,14,191,null,null,0,2221,null,1112,{"$f":"COUNTIF($L$7:$L$500,N8)","v":3},{"$f":"O8/$Q$4","v":1.5873015873015872E-2},{"$f":"IF(P8=0,0,(P8*((LOG(P8))/LOG(2))))","v":-9.4877459103173273E-2},null,null,{"$f":"N8","v":1112},{"$f":"COUNTIF(L7:L38,T8)","v":0},{"$f":"U8/(W4-U20)","v":0},{"$f":"IF(V8=0,0,(V8*((LOG(V8))/LOG(2))))","v":0},null,{"$f":"N8","v":1112},{"$f":"COUNTIF(L39:L69,Y8)","v":0},{"$f":"Z8/(AB4-Z20)","v":0},{"$f":"IF(AA8=0,0,(AA8*((LOG(AA8))/LOG(2))))","v":0},null,{"$f":"N8","v":1112},{"$f":"COUNTIF(L70:L101,AD8)","v":1},{"$f":"AE8/(AG4-AE20)","v":3.125E-2},{"$f":"IF(AF8=0,0,(AF8*((LOG(AF8))/LOG(2))))","v":-0.15625},null,{"$f":"N8","v":1112},{"$f":"COUNTIF(L102:L132,AI8)","v":0},{"$f":"AJ8/(AL4-AJ20)","v":0},{"$f":"IF(AK8=0,0,(AK8*((LOG(AK8))/LOG(2))))","v":0},null,{"$f":"N8","v":1112},{"$f":"COUNTIF(L133:L164,AN8)","v":2},{"$f":"AO8/(AQ4-AO20)","v":6.25E-2},{"$f":"IF(AP8=0,0,(AP8*((LOG(AP8))/LOG(2))))","v":-0.25},null,{"$f":"N8","v":1112},{"$f":"COUNTIF(L165:L195,AS8)","v":0},{"$f":"AT8/(AV4-AT20)","v":0},{"$f":"IF(AU8=0,0,(AU8*((LOG(AU8))/LOG(2))))","v":0}]
[12,288,14,303,24,315,23,323,null,null,0,1122,null,1121,{"$f":"COUNTIF($L$7:$L$500,N9)","v":0},{"$f":"O9/$Q$4","v":0},{"$f":"IF(P9=0,0,(P9*((LOG(P9))/LOG(2))))","v":0},null,null,{"$f":"N9","v":1121},{"$f":"COUNTIF(L7:L38,T9)","v":0},{"$f":"U9/(W4-U20)","v":0},{"$f":"IF(V9=0,0,(V9*((LOG(V9))/LOG(2))))","v":0},null,{"$f":"N9","v":1121},{"$f":"COUNTIF(L39:L69,Y9)","v":0},{"$f":"Z9/(AB4-Z20)","v":0},{"$f":"IF(AA9=0,0,(AA9*((LOG(AA9))/LOG(2))))","v":0},null,{"$f":"N9","v":1121},{"$f":"COUNTIF(L70:L101,AD9)","v":0},{"$f":"AE9/(AG4-AE20)","v":0},{"$f":"IF(AF9=0,0,(AF9*((LOG(AF9))/LOG(2))))","v":0},null,{"$f":"N9","v":1121},{"$f":"COUNTIF(L102:L132,AI9)","v":0},{"$f":"AJ9/(AL4-AJ20)","v":0},{"$f":"IF(AK9=0,0,(AK9*((LOG(AK9))/LOG(2))))","v":0},null,{"$f":"N9","v":1121},{"$f":"COUNTIF(L133:L164,AN9)","v":0},{"$f":"AO9/(AQ4-AO20)","v":0},{"$f":"IF(AP9=0,0,(AP9*((LOG(AP9))/LOG(2))))","v":0},null,{"$f":"N9","v":1121},{"$f":"COUNTIF(L165:L195,AS9)","v":0},{"$f":"AT9/(AV4-AT20)","v":0},{"$f":"IF(AU9=0,0,(AU9*((LOG(AU9))/LOG(2))))","v":0}]
[12,427,23,448,24,455,23,463,null,null,0,1222,null,1122,{"$f":"COUNTIF($L$7:$L$500,N10)","v":5},{"$f":"O10/$Q$4","v":2.6455026455026454E-2},{"$f":"IF(P10=0,0,(P10*((LOG(P10))/LOG(2))))","v":-0.13863265421517751},null,null,{"$f":"N10","v":1122},{"$f":"COUNTIF(L7:L38,T10)","v":3},{"$f":"U10/(W4-U20)","v":9.375E-2},{"$f":"IF(V10=0,0,(V10*((LOG(V10))/LOG(2))))","v":-0.32015976555739156},null,{"$f":"N10","v":1122},{"$f":"COUNTIF(L39:L69,Y10)","v":0},{"$f":"Z10/(AB4-Z20)","v":0},{"$f":"IF(AA10=0,0,(AA10*((LOG(AA10))/LOG(2))))","v":0},null,{"$f":"N10","v":1122},{"$f":"COUNTIF(L70:L101,AD10)","v":0},{"$f":"AE10/(AG4-AE20)","v":0},{"$f":"IF(AF10=0,0,(AF10*((LOG(AF10))/LOG(2))))","v":0},null,{"$f":"N10","v":1122},{"$f":"COUNTIF(L102:L132,AI10)","v":1},{"$f":"AJ10/(AL4-AJ20)","v":3.2258064516129031E-2},{"$f":"IF(AK10=0,0,(AK10*((LOG(AK10))/LOG(2))))","v":-0.15981278420602821},null,{"$f":"N10","v":1122},{"$f":"COUNTIF(L133:L164,AN10)","v":1},{"$f":"AO10/(AQ4-AO20)","v":3.125E-2},{"$f":"IF(AP10=0,0,(AP10*((LOG(AP10))/LOG(2))))","v":-0.15625},null,{"$f":"N10","v":1122},{"$f":"COUNTIF(L165:L195,AS10)","v":0},{"$f":"AT10/(AV4-AT20)","v":0},{"$f":"IF(AU10=0,0,(AU10*((LOG(AU10))/LOG(2))))","v":0}]
[12,564,14,569,24,581,23,593,null,null,0,1122,null,1211,{"$f":"COUNTIF($L$7:$L$500,N11)","v":0},{"$f":"O11/$Q$4","v":0},{"$f":"IF(P11=0,0,(P11*((LOG(P11))/LOG(2))))","v":0},null,null,{"$f":"N11","v":1211},{"$f":"COUNTIF(L7:L38,T11)","v":0},{"$f":"U11/(W4-U20)","v":0},{"$f":"IF(V11=0,0,(V11*((LOG(V11))/LOG(2))))","v":0},null,{"$f":"N11","v":1211},{"$f":"COUNTIF(L39:L69,Y11)","v":0},{"$f":"Z11/(AB4-Z20)","v":0},{"$f":"IF(AA11=0,0,(AA11*((LOG(AA11))/LOG(2))))","v":0},null,{"$f":"N11","v":1211},{"$f":"COUNTIF(L70:L101,AD11)","v":0},{"$f":"AE11/(AG4-AE20)","v":0},{"$f":"IF(AF11=0,0,(AF11*((LOG(AF11))/LOG(2))))","v":0},null,{"$f":"N11","v":1211},{"$f":"COUNTIF(L102:L132,AI11)","v":0},{"$f":"AJ11/(AL4-AJ20)","v":0},{"$f":"IF(AK11=0,0,(AK11*((LOG(AK11))/LOG(2))))","v":0},null,{"$f":"N11","v":1211},{"$f":"COUNTIF(L133:L164,AN11)","v":0},{"$f":"AO11/(AQ4-AO20)","v":0},{"$f":"IF(AP11=0,0,(AP11*((LOG(AP11))/LOG(2))))","v":0},null,{"$f":"N11","v":1211},{"$f":"COUNTIF(L165:L195,AS11)","v":0},{"$f":"AT11/(AV4-AT20)","v":0},{"$f":"IF(AU11=0,0,(AU11*((LOG(AU11))/LOG(2))))","v":0}]
[12,690,14,697,13,701,14,705,null,null,0,1111,null,1212,{"$f":"COUNTIF($L$7:$L$500,N12)","v":0},{"$f":"O12/$Q$4","v":0},{"$f":"IF(P12=0,0,(P12*((LOG(P12))/LOG(2))))","v":0},null,null,{"$f":"N12","v":1212},{"$f":"COUNTIF(L7:L38,T12)","v":0},{"$f":"U12/(W4-U20)","v":0},{"$f":"IF(V12=0,0,(V12*((LOG(V12))/LOG(2))))","v":0},null,{"$f":"N12","v":1212},{"$f":"COUNTIF(L39:L69,Y12)","v":0},{"$f":"Z12/(AB4-Z20)","v":0},{"$f":"IF(AA12=0,0,(AA12*((LOG(AA12))/LOG(2))))","v":0},null,{"$f":"N12","v":1212},{"$f":"COUNTIF(L70:L101,AD12)","v":0},{"$f":"AE12/(AG4-AE20)","v":0},{"$f":"IF(AF12=0,0,(AF12*((LOG(AF12))/LOG(2))))","v":0},null,{"$f":"N12","v":1212},{"$f":"COUNTIF(L102:L132,AI12)","v":0},{"$f":"AJ12/(AL4-AJ20)","v":0},{"$f":"IF(AK12=0,0,(AK12*((LOG(AK12))/LOG(2))))","v":0},null,{"$f":"N12","v":1212},{"$f":"COUNTIF(L133:L164,AN12)","v":0},{"$f":"AO12/(AQ4-AO20)","v":0},{"$f":"IF(AP12=0,0,(AP12*((LOG(AP12))/LOG(2))))","v":0},null,{"$f":"N12","v":1212},{"$f":"COUNTIF(L165:L195,AS12)","v":0},{"$f":"AT12/(AV4-AT20)","v":0},{"$f":"IF(AU12=0,0,(AU12*((LOG(AU12))/LOG(2))))","v":0}]
[12,799,23,811,24,816,14,830,null,null,0,1221,null,1221,{"$f":"COUNTIF($L$7:$L$500,N13)","v":2},{"$f":"O13/$Q$4","v":1.0582010582010581E-2},{"$f":"IF(P13=0,0,(P13*((LOG(P13))/LOG(2))))","v":-6.9441718774826161E-2},null,null,{"$f":"N13","v":1221},{"$f":"COUNTIF(L7:L38,T13)","v":2},{"$f":"U13/(W4-U20)","v":6.25E-2},{"$f":"IF(V13=0,0,(V13*((LOG(V13))/LOG(2))))","v":-0.25},null,{"$f":"N13","v":1221},{"$f":"COUNTIF(L39:L69,Y13)","v":0},{"$f":"Z13/(AB4-Z20)","v":0},{"$f":"IF(AA13=0,0,(AA13*((LOG(AA13))/LOG(2))))","v":0},null,{"$f":"N13","v":1221},{"$f":"COUNTIF(L70:L101,AD13)","v":0},{"$f":"AE13/(AG4-AE20)","v":0},{"$f":"IF(AF13=0,0,(AF13*((LOG(AF13))/LOG(2))))","v":0},null,{"$f":"N13","v":1221},{"$f":"COUNTIF(L102:L132,AI13)","v":0},{"$f":"AJ13/(AL4-AJ20)","v":0},{"$f":"IF(AK13=0,0,(AK13*((LOG(AK13))/LOG(2))))","v":0},null,{"$f":"N13","v":1221},{"$f":"COUNTIF(L133:L164,AN13)","v":0},{"$f":"AO13/(AQ4-AO20)","v":0},{"$f":"IF(AP13=0,0,(AP13*((LOG(AP13))/LOG(2))))","v":0},null,{"$f":"N13","v":1221},{"$f":"COUNTIF(L165:L195,AS13)","v":0},{"$f":"AT13/(AV4-AT20)","v":0},{"$f":"IF(AU13=0,0,(AU13*((LOG(AU13))/LOG(2))))","v":0}]
[12,931,14,937,13,941,14,945,null,null,0,1111,null,1222,{"$f":"COUNTIF($L$7:$L$500,N14)","v":3},{"$f":"O14/$Q$4","v":1.5873015873015872E-2},{"$f":"IF(P14=0,0,(P14*((LOG(P14))/LOG(2))))","v":-9.4877459103173273E-2},null,null,{"$f":"N14","v":1222},{"$f":"COUNTIF(L7:L38,T14)","v":2},{"$f":"U14/(W4-U20)","v":6.25E-2},{"$f":"IF(V14=0,0,(V14*((LOG(V14))/LOG(2))))","v":-0.25},null,{"$f":"N14","v":1222},{"$f":"COUNTIF(L39:L69,Y14)","v":0},{"$f":"Z14/(AB4-Z20)","v":0},{"$f":"IF(AA14=0,0,(AA14*((LOG(AA14))/LOG(2))))","v":0},null,{"$f":"N14","v":1222},{"$f":"COUNTIF(L70:L101,AD14)","v":0},{"$f":"AE14/(AG4-AE20)","v":0},{"$f":"IF(AF14=0,0,(AF14*((LOG(AF14))/LOG(2))))","v":0},null,{"$f":"N14","v":1222},{"$f":"COUNTIF(L102:L132,AI14)","v":0},{"$f":"AJ14/(AL4-AJ20)","v":0},{"$f":"IF(AK14=0,0,(AK14*((LOG(AK14))/LOG(2))))","v":0},null,{"$f":"N14","v":1222},{"$f":"COUNTIF(L133:L164,AN14)","v":0},{"$f":"AO14/(AQ4-AO20)","v":0},{"$f":"IF(AP14=0,0,(AP14*((LOG(AP14))/LOG(2))))","v":0},null,{"$f":"N14","v":1222},{"$f":"COUNTIF(L165:L195,AS14)","v":1},{"$f":"AT14/(AV4-AT20)","v":3.2258064516129031E-2},{"$f":"IF(AU14=0,0,(AU14*((LOG(AU14))/LOG(2))))","v":-0.15981278420602821}]
[12,1043,14,1047,13,1051,14,1056,null,null,0,1111,null,2111,{"$f":"COUNTIF($L$7:$L$500,N15)","v":2},{"$f":"O15/$Q$4","v":1.0582010582010581E-2},{"$f":"IF(P15=0,0,(P15*((LOG(P15))/LOG(2))))","v":-6.9441718774826161E-2},null,null,{"$f":"N15","v":2111},{"$f":"COUNTIF(L7:L38,T15)","v":1},{"$f":"U15/(W4-U20)","v":3.125E-2},{"$f":"IF(V15=0,0,(V15*((LOG(V15))/LOG(2))))","v":-0.15625},null,{"$f":"N15","v":2111},{"$f":"COUNTIF(L39:L69,Y15)","v":1},{"$f":"Z15/(AB4-Z20)","v":3.2258064516129031E-2},{"$f":"IF(AA15=0,0,(AA15*((LOG(AA15))/LOG(2))))","v":-0.15981278420602821},null,{"$f":"N15","v":2111},{"$f":"COUNTIF(L70:L101,AD15)","v":0},{"$f":"AE15/(AG4-AE20)","v":0},{"$f":"IF(AF15=0,0,(AF15*((LOG(AF15))/LOG(2))))","v":0},null,{"$f":"N15","v":2111},{"$f":"COUNTIF(L102:L132,AI15)","v":0},{"$f":"AJ15/(AL4-AJ20)","v":0},{"$f":"IF(AK15=0,0,(AK15*((LOG(AK15))/LOG(2))))","v":0},null,{"$f":"N15","v":2111},{"$f":"COUNTIF(L133:L164,AN15)","v":0},{"$f":"AO15/(AQ4-AO20)","v":0},{"$f":"IF(AP15=0,0,(AP15*((LOG(AP15))/LOG(2))))","v":0},null,{"$f":"N15","v":2111},{"$f":"COUNTIF(L165:L195,AS15)","v":0},{"$f":"AT15/(AV4-AT20)","v":0},{"$f":"IF(AU15=0,0,(AU15*((LOG(AU15))/LOG(2))))","v":0}]
[12,1152,14,1156,13,1163,14,1172,null,null,0,1111,null,2112,{"$f":"COUNTIF($L$7:$L$500,N16)","v":0},{"$f":"O16/$Q$4","v":0},{"$f":"IF(P16=0,0,(P16*((LOG(P16))/LOG(2))))","v":0},null,null,{"$f":"N16","v":2112},{"$f":"COUNTIF(L7:L38,T16)","v":0},{"$f":"U16/(W4-U20)","v":0},{"$f":"IF(V16=0,0,(V16*((LOG(V16))/LOG(2))))","v":0},null,{"$f":"N16","v":2112},{"$f":"COUNTIF(L39:L69,Y16)","v":0},{"$f":"Z16/(AB4-Z20)","v":0},{"$f":"IF(AA16=0,0,(AA16*((LOG(AA16))/LOG(2))))","v":0},null,{"$f":"N16","v":2112},{"$f":"COUNTIF(L70:L101,AD16)","v":0},{"$f":"AE16/(AG4-AE20)","v":0},{"$f":"IF(AF16=0,0,(AF16*((LOG(AF16))/LOG(2))))","v":0},null,{"$f":"N16","v":2112},{"$f":"COUNTIF(L102:L132,AI16)","v":0},{"$f":"AJ16/(AL4-AJ20)","v":0},{"$f":"IF(AK16=0,0,(AK16*((LOG(AK16))/LOG(2))))","v":0},null,{"$f":"N16","v":2112},{"$f":"COUNTIF(L133:L164,AN16)","v":0},{"$f":"AO16/(AQ4-AO20)","v":0},{"$f":"IF(AP16=0,0,(AP16*((LOG(AP16))/LOG(2))))","v":0},null,{"$f":"N16","v":2112},{"$f":"COUNTIF(L165:L195,AS16)","v":0},{"$f":"AT16/(AV4-AT20)","v":0},{"$f":"IF(AU16=0,0,(AU16*((LOG(AU16))/LOG(2))))","v":0}]
[12,1434,14,1451,13,1461,14,1472,null,null,0,1111,null,2121,{"$f":"COUNTIF($L$7:$L$500,N17)","v":0},{"$f":"O17/$Q$4","v":0},{"$f":"IF(P17=0,0,(P17*((LOG(P17))/LOG(2))))","v":0},null,null,{"$f":"N17","v":2121},{"$f":"COUNTIF(L7:L38,T17)","v":0},{"$f":"U17/(W4-U20)","v":0},{"$f":"IF(V17=0,0,(V17*((LOG(V17))/LOG(2))))","v":0},null,{"$f":"N17","v":2121},{"$f":"COUNTIF(L39:L69,Y17)","v":0},{"$f":"Z17/(AB4-Z20)","v":0},{"$f":"IF(AA17=0,0,(AA17*((LOG(AA17))/LOG(2))))","v":0},null,{"$f":"N17","v":2121},{"$f":"COUNTIF(L70:L101,AD17)","v":0},{"$f":"AE17/(AG4-AE20)","v":0},{"$f":"IF(AF17=0,0,(AF17*((LOG(AF17))/LOG(2))))","v":0},null,{"$f":"N17","v":2121},{"$f":"COUNTIF(L102:L132,AI17)","v":0},{"$f":"AJ17/(AL4-AJ20)","v":0},{"$f":"IF(AK17=0,0,(AK17*((LOG(AK17))/LOG(2))))","v":0},null,{"$f":"N17","v":2121},{"$f":"COUNTIF(L133:L164,AN17)","v":0},{"$f":"AO17/(AQ4-AO20)","v":0},{"$f":"IF(AP17=0,0,(AP17*((LOG(AP17))/LOG(2))))","v":0},null,{"$f":"N17","v":2121},{"$f":"COUNTIF(L165:L195,AS17)","v":0},{"$f":"AT17/(AV4-AT20)","v":0},{"$f":"IF(AU17=0,0,(AU17*((LOG(AU17))/LOG(2))))","v":0}]
[21,1572,21,1586,22,1596,23,1607,null,null,0,2222,null,2122,{"$f":"COUNTIF($L$7:$L$500,N18)","v":0},{"$f":"O18/$Q$4","v":0},{"$f":"IF(P18=0,0,(P18*((LOG(P18))/LOG(2))))","v":0},null,null,{"$f":"N18","v":2122},{"$f":"COUNTIF(L7:L38,T18)","v":0},{"$f":"U18/(W4-U20)","v":0},{"$f":"IF(V18=0,0,(V18*((LOG(V18))/LOG(2))))","v":0},null,{"$f":"N18","v":2122},{"$f":"COUNTIF(L39:L69,Y18)","v":0},{"$f":"Z18/(AB4-Z20)","v":0},{"$f":"IF(AA18=0,0,(AA18*((LOG(AA18))/LOG(2))))","v":0},null,{"$f":"N18","v":2122},{"$f":"COUNTIF(L70:L101,AD18)","v":0},{"$f":"AE18/(AG4-AE20)","v":0},{"$f":"IF(AF18=0,0,(AF18*((LOG(AF18))/LOG(2))))","v":0},null,{"$f":"N18","v":2122},{"$f":"COUNTIF(L102:L132,AI18)","v":0},{"$f":"AJ18/(AL4-AJ20)","v":0},{"$f":"IF(AK18=0,0,(AK18*((LOG(AK18))/LOG(2))))","v":0},null,{"$f":"N18","v":2122},{"$f":"COUNTIF(L133:L164,AN18)","v":0},{"$f":"AO18/(AQ4-AO20)","v":0},{"$f":"IF(AP18=0,0,(AP18*((LOG(AP18))/LOG(2))))","v":0},null,{"$f":"N18","v":2122},{"$f":"COUNTIF(L165:L195,AS18)","v":0},{"$f":"AT18/(AV4-AT20)","v":0},{"$f":"IF(AU18=0,0,(AU18*((LOG(AU18))/LOG(2))))","v":0}]
[12,1704,14,1709,13,1721,14,1727,null,null,0,1111,null,2211,{"$f":"COUNTIF($L$7:$L$500,N19)","v":0},{"$f":"O19/$Q$4","v":0},{"$f":"IF(P19=0,0,(P19*((LOG(P19))/LOG(2))))","v":0},null,null,{"$f":"N19","v":2211},{"$f":"COUNTIF(L7:L38,T19)","v":0},{"$f":"U19/(W4-U20)","v":0},{"$f":"IF(V19=0,0,(V19*((LOG(V19))/LOG(2))))","v":0},null,{"$f":"N19","v":2211},{"$f":"COUNTIF(L39:L69,Y19)","v":0},{"$f":"Z19/(AB4-Z20)","v":0},{"$f":"IF(AA19=0,0,(AA19*((LOG(AA19))/LOG(2))))","v":0},null,{"$f":"N19","v":2211},{"$f":"COUNTIF(L70:L101,AD19)","v":0},{"$f":"AE19/(AG4-AE20)","v":0},{"$f":"IF(AF19=0,0,(AF19*((LOG(AF19))/LOG(2))))","v":0},null,{"$f":"N19","v":2211},{"$f":"COUNTIF(L102:L132,AI19)","v":0},{"$f":"AJ19/(AL4-AJ20)","v":0},{"$f":"IF(AK19=0,0,(AK19*((LOG(AK19))/LOG(2))))","v":0},null,{"$f":"N19","v":2211},{"$f":"COUNTIF(L133:L164,AN19)","v":0},{"$f":"AO19/(AQ4-AO20)","v":0},{"$f":"IF(AP19=0,0,(AP19*((LOG(AP19))/LOG(2))))","v":0},null,{"$f":"N19","v":2211},{"$f":"COUNTIF(L165:L195,AS19)","v":0},{"$f":"AT19/(AV4-AT20)","v":0},{"$f":"IF(AU19=0,0,(AU19*((LOG(AU19))/LOG(2))))","v":0}]
[12,1828,14,1833,13,1837,14,1841,null,null,0,1111,null,2212,{"$f":"COUNTIF($L$7:$L$500,N20)","v":0},{"$f":"O20/$Q$4","v":0},{"$f":"IF(P20=0,0,(P20*((LOG(P20))/LOG(2))))","v":0},null,null,{"$f":"N20","v":2212},{"$f":"COUNTIF(L7:L38,T20)","v":0},null,null,null,{"$f":"N20","v":2212},{"$f":"COUNTIF(L39:L69,Y20)","v":0},null,null,null,{"$f":"N20","v":2212},{"$f":"COUNTIF(L70:L101,AD20)","v":0},null,null,null,{"$f":"N20","v":2212},{"$f":"COUNTIF(L102:L132,AI20)","v":0},null,null,null,{"$f":"N20","v":2212},{"$f":"COUNTIF(L133:L164,AN20)","v":0},null,null,null,{"$f":"N20","v":2212},{"$f":"COUNTIF(L165:L195,AS20)","v":0}]
[12,1966,14,1974,13,1981,14,1991,null,null,0,1111,null,2221,{"$f":"COUNTIF($L$7:$L$500,N21)","v":2},{"$f":"O21/$Q$4","v":1.0582010582010581E-2},{"$f":"IF(P21=0,0,(P21*((LOG(P21))/LOG(2))))","v":-6.9441718774826161E-2},null,null,{"$f":"N21","v":2221},{"$f":"COUNTIF(L7:L38,T21)","v":2},{"$f":"U21/(W4-U20)","v":6.25E-2},{"$f":"IF(V21=0,0,(V21*((LOG(V21))/LOG(2))))","v":-0.25},null,{"$f":"N21","v":2221},{"$f":"COUNTIF(L39:L69,Y21)","v":0},{"$f":"Z21/(AB4-Z20)","v":0},{"$f":"IF(AA21=0,0,(AA21*((LOG(AA21))/LOG(2))))","v":0},null,{"$f":"N21","v":2221},{"$f":"COUNTIF(L70:L101,AD21)","v":0},{"$f":"AE21/(AG4-AE20)","v":0},{"$f":"IF(AF21=0,0,(AF21*((LOG(AF21))/LOG(2))))","v":0},null,{"$f":"N21","v":2221},{"$f":"COUNTIF(L102:L132,AI21)","v":0},{"$f":"AJ21/(AL4-AJ20)","v":0},{"$f":"IF(AK21=0,0,(AK21*((LOG(AK21))/LOG(2))))","v":0},null,{"$f":"N21","v":2221},{"$f":"COUNTIF(L133:L164,AN21)","v":0},{"$f":"AO21/(AQ4-AO20)","v":0},{"$f":"IF(AP21=0,0,(AP21*((LOG(AP21))/LOG(2))))","v":0},null,{"$f":"N21","v":2221},{"$f":"COUNTIF(L165:L195,AS21)","v":0},{"$f":"AT21/(AV4-AT20)","v":0},{"$f":"IF(AU21=0,0,(AU21*((LOG(AU21))/LOG(2))))","v":0}]
[21,2145,12,2158,13,2164,14,2169,null,null,0,2111,null,2222,{"$f":"COUNTIF($L$7:$L$500,N22)","v":2},{"$f":"O22/$Q$4","v":1.0582010582010581E-2},{"$f":"IF(P22=0,0,(P22*((LOG(P22))/LOG(2))))","v":-6.9441718774826161E-2},null,null,{"$f":"N22","v":2222},{"$f":"COUNTIF(L7:L38,T22)","v":1},{"$f":"U22/(W4-U20)","v":3.125E-2},{"$f":"IF(V22=0,0,(V22*((LOG(V22))/LOG(2))))","v":-0.15625},null,{"$f":"N22","v":2222},{"$f":"COUNTIF(L39:L69,Y22)","v":0},{"$f":"Z22/(AB4-Z20)","v":0},{"$f":"IF(AA22=0,0,(AA22*((LOG(AA22))/LOG(2))))","v":0},null,{"$f":"N22","v":2222},{"$f":"COUNTIF(L70:L101,AD22)","v":0},{"$f":"AE22/(AG4-AE20)","v":0},{"$f":"IF(AF22=0,0,(AF22*((LOG(AF22))/LOG(2))))","v":0},null,{"$f":"N22","v":2222},{"$f":"COUNTIF(L102:L132,AI22)","v":0},{"$f":"AJ22/(AL4-AJ20)","v":0},{"$f":"IF(AK22=0,0,(AK22*((LOG(AK22))/LOG(2))))","v":0},null,{"$f":"N22","v":2222},{"$f":"COUNTIF(L133:L164,AN22)","v":0},{"$f":"AO22/(AQ4-AO20)","v":0},{"$f":"IF(AP22=0,0,(AP22*((LOG(AP22))/LOG(2))))","v":0},null,{"$f":"N22","v":2222},{"$f":"COUNTIF(L165:L195,AS22)","v":1},{"$f":"AT22/(AV4-AT20)","v":3.2258064516129031E-2},{"$f":"IF(AU22=0,0,(AU22*((LOG(AU22))/LOG(2))))","v":-0.15981278420602821}]
[12,2273,14,2280,13,2287,14,2302,null,null,0,1111,null,null,null,{"$f":"SUM(P7:P22)","v":1},{"$f":"-SUM(Q7:Q22)","v":0.74363991299264398},null,null,null,null,{"$f":"SUM(V7:V22)","v":1},{"$f":"-SUM(W7:W22)","v":1.7814514568588302},null,null,null,{"$f":"SUM(AA7:AA22)","v":1},{"$f":"-SUM(AB7:AB22)","v":0.20559250818508301},null,null,null,{"$f":"SUM(AF7:AF22)","v":1},{"$f":"-SUM(AG7:AG22)","v":0.20062232431271465},null,null,null,{"$f":"SUM(AK7:AK22)","v":1},{"$f":"-SUM(AL7:AL22)","v":0.20559250818508301},null,null,null,{"$f":"SUM(AP7:AP22)","v":1},{"$f":"-SUM(AQ7:AQ22)","v":0.53495472316563775},null,null,null,{"$f":"SUM(AU7:AU22)","v":0.99999999999999989},{"$f":"-SUM(AV7:AV22)","v":0.40963344397721102}]
[12,2406,14,2414,13,2419,14,2428,null,null,0,1111,null,null,null,"U=",{"$f":"Q23/(LOG(Q4)/LOG(2))","v":9.8335899760478851E-2},null,null,null,null,"U1=",{"$f":"W23/(LOG(W4)/LOG(2))","v":0.35629029137176604},null,null,null,"U2=",{"$f":"AB23/(LOG(AB4)/LOG(2))","v":4.1498659985281898E-2},null,null,null,"U3=",{"$f":"AG23/(LOG(AG4)/LOG(2))","v":4.0124464862542931E-2},null,null,null,"U4=",{"$f":"AL23/(LOG(AL4)/LOG(2))","v":4.1498659985281898E-2},null,null,null,"U5=",{"$f":"AQ23/(LOG(AQ4)/LOG(2))","v":0.10699094463312755},null,null,null,"U6=",{"$f":"AV23/(LOG(AV4)/LOG(2))","v":8.2684136500279823E-2}]
[12,2546,14,2555,13,2564,14,2571,null,null,0,1111]
[21,2730,21,2739,22,2748,14,2765,null,null,0,2221]
[12,2863,14,2872,24,2890,23,2914,null,null,0,1122,null,"Total Target Seq"]
[12,3022,14,3027,13,3031,14,3040,null,null,0,1111,null,{"$f":"COUNTIF(L7:L195,G3)","v":0},null,32,31,32,31,32,31]
[12,3143,14,3147,13,3152,14,3160,null,null,0,1111,null,null,null,"% of reinforcement given in 6 equal intervals based on number of trials "]
[12,3269,14,3273,13,3281,14,3289,null,null,0,1111,null,null,null,"%_1","%_2","%_3","%_4","%_5","%_6"]
[12,3399,14,3403,13,3411,14,3420,null,null,0,1111,null,null,"target sequence",{"$f":"$G$3","v":2212},{"$f":"$G$3","v":2212},{"$f":"$G$3","v":2212},{"$f":"$G$3","v":2212},{"$f":"$G$3","v":2212},{"$f":"$G$3","v":2212}]
[12,3520,14,3526,13,3533,14,3544,null,null,0,1111,null,null,"total reinforcement",{"$f":"U20","v":0},{"$f":"Z20","v":0},{"$f":"AE20","v":0},{"$f":"AJ20","v":0},{"$f":"AO20","v":0},{"$f":"AT20","v":0}]
[12,3648,14,3651,13,3660,14,3668,null,null,0,1111,null,null,"% target"]
[12,3779,14,3786,13,3790,14,3798,null,null,0,1111,null,null,"CCRF"]
[12,3895,14,3900,13,3909,14,3925,null,null,0,1111,null,null,"% CCRf"]
[12,4293,14,4302,13,4308,14,4316,null,null,0,1111,null,null,"average response rate",{"$f":"H38/P28","v":145.40625},{"$f":"(H69-H38)/Q28","v":125.06451612903226},{"$f":"(H101-H69)/R28","v":117.5},{"$f":"(H132-H101)/S28","v":117.74193548387096},{"$f":"(H164-H132)/T28","v":129.25},{"$f":"(H195-H164)/U28","v":124.03225806451613}]
[12,4414,14,4448,13,4454,14,4458,null,null,0,1111]
[12,4614,23,4626,24,4634,14,4653,null,null,0,1221]
[12,4760,14,4764,13,4780,14,4787,null,null,0,1111]
[12,4893,14,4896,13,4907,14,4911,null,null,0,1111]
[12,5011,14,5018,13,5027,14,5034,null,null,0,1111]
[12,5140,14,5145,13,5149,14,5159,null,null,0,1111]
[12,5262,14,5266,13,5270,14,5279,null,null,0,1111]
[12,5378,14,5382,13,5388,14,5397,null,null,0,1111]
[12,5495,14,5499,13,5502,14,5506,null,null,0,1111]
[12,5612,14,5616,13,5620,14,5630,null,null,0,1111]
[12,5732,14,5736,13,5740,14,5744,null,null,0,1111]
[12,5849,14,5854,13,5860,14,5868,null,null,0,1111]
[12,5983,14,5991,13,5995,14,6003,null,null,0,1111]
[12,6108,14,6118,13,6124,14,6132,null,null,0,1111]
[12,6235,14,6241,13,6245,14,6251,null,null,0,1111]
[12,6353,14,6364,13,6372,14,6375,null,null,0,1111]
[12,6469,14,6487,13,6494,14,6505,null,null,0,1111]
[12,6609,14,6613,13,6616,14,6621,null,null,0,1111]
[12,6727,14,6735,13,6739,14,6754,null,null,0,1111]
[12,6855,14,6867,13,6872,14,6880,null,null,0,1111]
[12,6982,14,6986,13,6990,14,7001,null,null,0,1111]
[12,7101,14,7110,13,7114,14,7119,null,null,0,1111]
[12,7211,14,7215,13,7223,14,7227,null,null,0,1111]
[12,7333,14,7337,13,7341,14,7345,null,null,0,1111]
[12,7469,14,7473,13,7484,14,7491,null,null,0,1111]
[12,7596,14,7600,13,7617,14,7622,null,null,0,1111]
[12,7723,14,7727,13,7735,14,7739,null,null,0,1111]
[21,7849,12,7861,13,7865,14,7872,null,null,0,2111]
[12,7982,14,7986,13,7992,14,7997,null,null,0,1111]
[12,8155,14,8163,13,8168,14,8177,null,null,0,1111]
[12,8280,14,8285,13,8290,14,8294,null,null,0,1111]
[12,8393,14,8397,13,8409,14,8413,null,null,0,1111]
[12,8514,14,8518,13,8522,14,8530,null,null,0,1111]
[12,8626,14,8630,13,8637,14,8644,null,null,0,1111]
[12,8743,14,8747,13,8752,14,8760,null,null,0,1111]
[12,8862,14,8866,13,8874,14,8881,null,null,0,1111]
[12,8978,14,8983,13,8991,14,8998,null,null,0,1111]
[12,9099,14,9103,13,9108,14,9116,null,null,0,1111]
[12,9218,14,9225,13,9229,14,9236,null,null,0,1111]
[12,9337,14,9342,13,9350,14,9355,null,null,0,1111]
[12,9456,14,9460,13,9467,14,9473,null,null,0,1111]
[12,9575,14,9586,13,9590,14,9597,null,null,0,1111]
[12,9703,14,9707,13,9712,14,9716,null,null,0,1111]
[12,9819,14,9823,13,9827,14,9831,null,null,0,1111]
[12,9945,14,9952,13,9956,14,9964,null,null,0,1111]
[12,10088,14,10093,13,10101,14,10105,null,null,0,1111]
[12,10208,14,10212,13,10216,14,10220,null,null,0,1111]
[12,10319,14,10323,13,10327,14,10337,null,null,0,1111]
[12,10434,14,10437,13,10446,23,10466,null,null,0,1112]
[12,10562,14,10566,13,10569,14,10575,null,null,0,1111]
[12,10671,14,10677,13,10680,14,10688,null,null,0,1111]
[12,10785,14,10790,13,10794,14,10801,null,null,0,1111]
[12,10898,14,10902,13,10909,14,10914,null,null,0,1111]
[12,11008,14,11011,13,11019,14,11023,null,null,0,1111]
[12,11118,14,11122,13,11126,14,11130,null,null,0,1111]
[12,11226,14,11244,13,11258,14,11265,null,null,0,1111]
[12,11366,14,11370,13,11377,14,11381,null,null,0,1111]
[12,11478,14,11482,13,11487,14,11491,null,null,0,1111]
[12,11590,14,11593,13,11600,14,11607,null,null,0,1111]
[12,11705,14,11712,13,11716,14,11726,null,null,0,1111]
[12,11827,14,11831,13,11837,14,11844,null,null,0,1111]
[12,11940,14,11945,13,11949,14,11956,null,null,0,1111]
[12,12059,14,12063,13,12066,14,12071,null,null,0,1111]
[12,12167,14,12171,13,12175,14,12178,null,null,0,1111]
[12,12277,14,12281,13,12285,14,12290,null,null,0,1111]
[12,12385,14,12389,13,12392,14,12397,null,null,0,1111]
[12,12491,14,12498,13,12502,14,12505,null,null,0,1111]
[12,12605,14,12609,13,12613,14,12617,null,null,0,1111]
[12,12712,14,12716,13,12720,14,12725,null,null,0,1111]
[12,12822,14,12826,13,12833,14,12838,null,null,0,1111]
[12,12943,14,12950,13,12956,14,12962,null,null,0,1111]
[12,13092,14,13096,13,13104,14,13110,null,null,0,1111]
[12,13210,14,13215,13,13219,14,13227,null,null,0,1111]
[12,13326,14,13331,13,13334,14,13339,null,null,0,1111]
[12,13430,14,13434,13,13442,14,13446,null,null,0,1111]
[12,13548,14,13551,13,13559,14,13563,null,null,0,1111]
[12,13658,14,13665,13,13671,14,13679,null,null,0,1111]
[12,13784,14,13789,13,13793,14,13799,null,null,0,1111]
[12,13898,14,13902,13,13909,14,13912,null,null,0,1111]
[12,14008,14,14012,13,14018,14,14023,null,null,0,1111]
[12,14125,14,14130,13,14133,14,14140,null,null,0,1111]
[12,14237,14,14241,13,14248,14,14252,null,null,0,1111]
[12,14349,14,14353,13,14360,14,14365,null,null,0,1111]
[12,14463,14,14467,13,14471,14,14479,null,null,0,1111]
[12,14579,14,14584,13,14588,14,14595,null,null,0,1111]
[12,14693,14,14698,13,14702,14,14709,null,null,0,1111]
[12,14812,14,14820,13,14825,14,14832,null,null,0,1111]
[12,14927,14,14931,13,14938,14,14942,null,null,0,1111]
[12,15037,14,15041,13,15046,14,15059,null,null,0,1111]
[12,15159,14,15166,13,15170,14,15174,null,null,0,1111]
[12,15271,14,15275,13,15283,14,15289,null,null,0,1111]
[12,15389,14,15393,13,15398,14,15402,null,null,0,1111]
[12,15555,14,15561,24,15585,23,15593,null,null,0,1122]
[12,15695,14,15699,13,15703,14,15710,null,null,0,1111]
[12,15809,14,15813,13,15816,14,15821,null,null,0,1111]
[12,15922,14,15927,13,15930,14,15940,null,null,0,1111]
[12,16036,14,16040,13,16045,14,16057,null,null,0,1111]
[12,16156,14,16160,13,16164,14,16168,null,null,0,1111]
[12,16271,14,16276,13,16282,23,16305,null,null,0,1112]
[12,16405,14,16410,13,16414,14,16422,null,null,0,1111]
[12,16521,14,16525,13,16529,14,16533,null,null,0,1111]
[12,16638,14,16643,13,16647,14,16655,null,null,0,1111]
[12,16755,14,16760,13,16764,14,16772,null,null,0,1111]
[12,16870,14,16876,13,16881,14,16888,null,null,0,1111]
[12,16981,14,16985,13,16989,14,16996,null,null,0,1111]
[12,17093,14,17114,24,17138,23,17151,null,null,0,1122]
[12,17249,14,17252,13,17256,14,17259,null,null,0,1111]
[12,17359,14,17380,13,17386,14,17392,null,null,0,1111]
[12,17491,14,17494,13,17498,14,17503,null,null,0,1111]
[12,17600,14,17604,13,17610,14,17614,null,null,0,1111]
[12,17712,14,17716,13,17720,14,17728,null,null,0,1111]
[12,17829,14,17834,13,17838,14,17846,null,null,0,1111]
[12,17945,14,17950,13,17954,14,17959,null,null,0,1111]
[12,18055,14,18063,13,18067,14,18073,null,null,0,1111]
[12,18175,14,18181,13,18186,14,18194,null,null,0,1111]
[12,18288,14,18293,13,18297,14,18301,null,null,0,1111]
[12,18397,14,18408,13,18416,23,18435,null,null,0,1112]
[12,18539,14,18543,13,18554,14,18570,null,null,0,1111]
[12,18668,14,18673,13,18680,14,18691,null,null,0,1111]
[12,18790,14,18794,13,18798,14,18802,null,null,0,1111]
[12,18898,14,18903,13,18910,14,18917,null,null,0,1111]
[12,19017,14,19021,13,19025,14,19029,null,null,0,1111]
[12,19128,14,19132,13,19136,14,19139,null,null,0,1111]
[12,19301,14,19305,13,19313,14,19320,null,null,0,1111]
[12,19420,14,19438,13,19442,14,19449,null,null,0,1111]
[12,19552,14,19556,13,19559,14,19566,null,null,0,1111]
[12,19855,14,19859,13,19867,14,19874,null,null,0,1111]
[12,20061,14,20066,13,20072,14,20076,null,null,0,1111]
[12,20203,14,20210,13,20216,14,20223,null,null,0,1111]
[12,20329,14,20333,13,20337,14,20344,null,null,0,1111]
[12,20441,14,20445,13,20449,14,20454,null,null,0,1111]
[12,20554,14,20562,13,20566,14,20573,null,null,0,1111]
[21,20686,21,20694,22,20702,23,20714,null,null,0,2222]
[12,20815,14,20819,13,20826,14,20832,null,null,0,1111]
[12,20929,14,20936,13,20940,14,20945,null,null,0,1111]
[12,21046,23,21059,24,21066,23,21075,null,null,0,1222]
[12,21172,14,21177,13,21181,14,21185,null,null,0,1111]
[12,21280,14,21283,13,21291,14,21308,null,null,0,1111]
[12,21404,14,21408,13,21412,14,21423,null,null,0,1111]
[12,21523,14,21527,13,21531,14,21538,null,null,0,1111]
[12,21644,14,21649,13,21653,14,21657,null,null,0,1111]
[12,21755,14,21759,13,21763,14,21767,null,null,0,1111]
[12,21864,14,21868,13,21874,14,21887,null,null,0,1111]
[12,21984,14,22041,13,22052,14,22058,null,null,0,1111]
[12,22178,14,22188,13,22195,14,22205,null,null,0,1111]
[12,22365,14,22376,13,22381,14,22389,null,null,0,1111]
[12,22492,14,22503,13,22510,14,22516,null,null,0,1111]
[12,22612,14,22616,13,22621,14,22625,null,null,0,1111]
[12,22722,14,22728,13,22733,14,22743,null,null,0,1111]
[12,22840,14,22849,13,22857,14,22862,null,null,0,1111]
[12,22958,14,22963,13,22982,14,23001,null,null,0,1111]
[12,23100,14,23110,13,23118,14,23125,null,null,0,1111]
[12,23228,14,23241,13,23248,14,23254,null,null,0,1111]
[12,23351,14,23356,13,23361,14,23368,null,null,0,1111]
[12,23468,14,23472,13,23480,14,23483,null,null,0,1111]
[12,23580,14,23584,13,23589,14,23592,null,null,0,1111]
[12,23688,14,23692,13,23696,14,23704,null,null,0,1111]
[12,23798,14,23802,13,23809,14,23813,null,null,0,1111]
[12,23909,14,23913,13,23917,14,23921,null,null,null,1111]

{"sheet":"!M903950.104","index":20,"n_rows":209,"n_cols":48,"rows_kept":209,"cut":false,"hidden":false,"merged":[[4,39,4,42],[5,39,5,40],[4,44,4,47],[5,44,5,45],[4,24,4,27],[5,24,5,25],[4,29,4,32],[5,29,5,30],[4,34,4,37],[5,34,5,35],[1,1,1,2],[5,13,5,14],[26,13,26,14],[27,13,27,14],[4,19,4,22],[5,19,5,20]]}
["Report for:!M903950.104"]
["Date:","<date>"]
["Hen:","<hen>",null,null,null,"Correct Sequence",{"$f":"Start!J2","v":2212},null,null,null,null,null,null,null,null,"Total Sequences in Data",{"$f":"4994-COUNTBLANK(L7:L5000)","v":203},null,null,null,null,"Total Sequences in Block Data",{"$f":"COUNTA(L7:L40)","v":34},null,null,null,"Total Sequences in Block Data",{"$f":"COUNTA(L41:L74)","v":34},null,null,null,"Total Sequences in Block Data",{"$f":"COUNTA(L75:L107)","v":33},null,null,null,"Total Sequences in Block Data",{"$f":"COUNTA(L108:L141)","v":34},null,null,null,"Total Sequences in Block Data",{"$f":"COUNTA(L142:L175)","v":34},null,null,null,"Total Sequences in Block Data",{"$f":"COUNTA(L176:L209)","v":34}]
[null,null,null,null,null,null,null,null,null,null,null,null,null,null,null,"Total Sequences in Summary",{"$f":"SUM(O7:O22)","v":203},null,null,null,null,"Total Sequences in Block Summary",{"$f":"SUM(U7:U22)","v":34},null,null,null,"Total Sequences in Block Summary",{"$f":"SUM(Z7:Z22)","v":34},null,null,null,"Total Sequences in Block Summary",{"$f":"SUM(AE7:AE22)","v":33},null,null,null,"Total Sequences in Block Summary",{"$f":"SUM(AJ7:AJ22)","v":34},null,null,null,"Total Sequences in Block Summary",{"$f":"SUM(AO7:AO22)","v":34},null,null,null,"Total Sequences in Block Summary",{"$f":"SUM(AT7:AT22)","v":34}]
[null,null,null,null,null,null,null,null,null,null,null,null,null,null,null,null,null,null,null,"Block 1",null,null,null,null,"Block 2",null,null,null,null,"Block 3",null,null,null,null,"Block 4",null,null,null,null,"Block 5",null,null,null,null,"Block 6"]
["Sequence\nComponent\n1","Time\n1","Sequence\nComponent\n2","Time\n2","Sequence\nComponent\n3","Time\n3","Sequence\nComponent\n4","Time\n4","Sequence\nComponent\n5","Time\n5","Correct?\n0=No 1=Yes","Sequence",null,"Frequency",null,"Relative Frequency","Variability",null,null,"Frequency",null,"Relative Frequency","Variability",null,"Frequency",null,"Relative Frequency","Variability",null,"Frequency",null,"Relative Frequency","Variability",null,"Frequency",null,"Relative Frequency","Variability",null,"Frequency",null,"Relative Frequency","Variability",null,"Frequency",null,"Relative Frequency","Variability"]
[12,33,23,43,24,51,23,63,null,null,0,1222,null,1111,{"$f":"COUNTIF($L$7:$L$500,N7)","v":197},{"$f":"O7/$Q$4","v":0.97044334975369462},{"$f":"IF(P7=0,0,(P7*((LOG(P7))/LOG(2))))","v":-4.2004764791002867E-2},null,null,{"$f":"N7","v":1111},{"$f":"COUNTIF(L7:L40,T7)","v":29},{"$f":"U7/(W4-U20)","v":0.8529411764705882},{"$f":"IF(V7=0,0,(V7*((LOG(V7))/LOG(2))))","v":-0.1957345158105957},null,{"$f":"N7","v":1111},{"$f":"COUNTIF(L41:L74,Y7)","v":34},{"$f":"Z7/(AB4-Z20)","v":1},{"$f":"IF(AA7=0,0,(AA7*((LOG(AA7))/LOG(2))))","v":0},null,{"$f":"N7","v":1111},{"$f":"COUNTIF(L75:L107,AD7)","v":33},{"$f":"AE7/(AG4-AE20)","v":1},{"$f":"IF(AF7=0,0,(AF7*((LOG(AF7))/LOG(2))))","v":0},null,{"$f":"N7","v":1111},{"$f":"COUNTIF(L108:L141,AI7)","v":34},{"$f":"AJ7/(AL4-AJ20)","v":1},{"$f":"IF(AK7=0,0,(AK7*((LOG(AK7))/LOG(2))))","v":0},null,{"$f":"N7","v":1111},{"$f":"COUNTIF(L142:L175,AN7)","v":34},{"$f":"AO7/(AQ4-AO20)","v":1},{"$f":"IF(AP7=0,0,(AP7*((LOG(AP7))/LOG(2))))","v":0},null,{"$f":"N7","v":1111},{"$f":"COUNTIF(L176:L209,AS7)","v":33},{"$f":"AT7/(AV4-AT20)","v":0.97058823529411764},{"$f":"IF(AU7=0,0,(AU7*((LOG(AU7))/LOG(2))))","v":-4.1801994777418743E-2}]
[12,164,14,172,13,177,14,184,null,null,0,1111,null,1112,{"$f":"COUNTIF($L$7:$L$500,N8)","v":3},{"$f":"O8/$Q$4","v":1.4778325123152709E-2},{"$f":"IF(P8=0,0,(P8*((LOG(P8))/LOG(2))))","v":-8.9857735218680082E-2},null,null,{"$f":"N8","v":1112},{"$f":"COUNTIF(L7:L40,T8)","v":2},{"$f":"U8/(W4-U20)","v":5.8823529411764705E-2},{"$f":"IF(V8=0,0,(V8*((LOG(V8))/LOG(2))))","v":-0.24043899066178465},null,{"$f":"N8","v":1112},{"$f":"COUNTIF(L41:L74,Y8)","v":0},{"$f":"Z8/(AB4-Z20)","v":0},{"$f":"IF(AA8=0,0,(AA8*((LOG(AA8))/LOG(2))))","v":0},null,{"$f":"N8","v":1112},{"$f":"COUNTIF(L75:L107,AD8)","v":0},{"$f":"AE8/(AG4-AE20)","v":0},{"$f":"IF(AF8=0,0,(AF8*((LOG(AF8))/LOG(2))))","v":0},null,{"$f":"N8","v":1112},{"$f":"COUNTIF(L108:L141,AI8)","v":0},{"$f":"AJ8/(AL4-AJ20)","v":0},{"$f":"IF(AK8=0,0,(AK8*((LOG(AK8))/LOG(2))))","v":0},null,{"$f":"N8","v":1112},{"$f":"COUNTIF(L142:L175,AN8)","v":0},{"$f":"AO8/(AQ4-AO20)","v":0},{"$f":"IF(AP8=0,0,(AP8*((LOG(AP8))/LOG(2))))","v":0},null,{"$f":"N8","v":1112},{"$f":"COUNTIF(L176:L209,AS8)","v":1},{"$f":"AT8/(AV4-AT20)","v":2.9411764705882353E-2},{"$f":"IF(AU8=0,0,(AU8*((LOG(AU8))/LOG(2))))","v":-0.14963126003677468}]
[12,286,23,296,24,304,23,330,null,null,0,1222,null,1121,{"$f":"COUNTIF($L$7:$L$500,N9)","v":0},{"$f":"O9/$Q$4","v":0},{"$f":"IF(P9=0,0,(P9*((LOG(P9))/LOG(2))))","v":0},null,null,{"$f":"N9","v":1121},{"$f":"COUNTIF(L7:L40,T9)","v":0},{"$f":"U9/(W4-U20)","v":0},{"$f":"IF(V9=0,0,(V9*((LOG(V9))/LOG(2))))","v":0},null,{"$f":"N9","v":1121},{"$f":"COUNTIF(L41:L74,Y9)","v":0},{"$f":"Z9/(AB4-Z20)","v":0},{"$f":"IF(AA9=0,0,(AA9*((LOG(AA9))/LOG(2))))","v":0},null,{"$f":"N9","v":1121},{"$f":"COUNTIF(L75:L107,AD9)","v":0},{"$f":"AE9/(AG4-AE20)","v":0},{"$f":"IF(AF9=0,0,(AF9*((LOG(AF9))/LOG(2))))","v":0},null,{"$f":"N9","v":1121},{"$f":"COUNTIF(L108:L141,AI9)","v":0},{"$f":"AJ9/(AL4-AJ20)","v":0},{"$f":"IF(AK9=0,0,(AK9*((LOG(AK9))/LOG(2))))","v":0},null,{"$f":"N9","v":1121},{"$f":"COUNTIF(L142:L175,AN9)","v":0},{"$f":"AO9/(AQ4-AO20)","v":0},{"$f":"IF(AP9=0,0,(AP9*((LOG(AP9))/LOG(2))))","v":0},null,{"$f":"N9","v":1121},{"$f":"COUNTIF(L176:L209,AS9)","v":0},{"$f":"AT9/(AV4-AT20)","v":0},{"$f":"IF(AU9=0,0,(AU9*((LOG(AU9))/LOG(2))))","v":0}]
[12,428,14,432,13,440,14,446,null,null,0,1111,null,1122,{"$f":"COUNTIF($L$7:$L$500,N10)","v":0},{"$f":"O10/$Q$4","v":0},{"$f":"IF(P10=0,0,(P10*((LOG(P10))/LOG(2))))","v":0},null,null,{"$f":"N10","v":1122},{"$f":"COUNTIF(L7:L40,T10)","v":0},{"$f":"U10/(W4-U20)","v":0},{"$f":"IF(V10=0,0,(V10*((LOG(V10))/LOG(2))))","v":0},null,{"$f":"N10","v":1122},{"$f":"COUNTIF(L41:L74,Y10)","v":0},{"$f":"Z10/(AB4-Z20)","v":0},{"$f":"IF(AA10=0,0,(AA10*((LOG(AA10))/LOG(2))))","v":0},null,{"$f":"N10","v":1122},{"$f":"COUNTIF(L75:L107,AD10)","v":0},{"$f":"AE10/(AG4-AE20)","v":0},{"$f":"IF(AF10=0,0,(AF10*((LOG(AF10))/LOG(2))))","v":0},null,{"$f":"N10","v":1122},{"$f":"COUNTIF(L108:L141,AI10)","v":0},{"$f":"AJ10/(AL4-AJ20)","v":0},{"$f":"IF(AK10=0,0,(AK10*((LOG(AK10))/LOG(2))))","v":0},null,{"$f":"N10","v":1122},{"$f":"COUNTIF(L142:L175,AN10)","v":0},{"$f":"AO10/(AQ4-AO20)","v":0},{"$f":"IF(AP10=0,0,(AP10*((LOG(AP10))/LOG(2))))","v":0},null,{"$f":"N10","v":1122},{"$f":"COUNTIF(L176:L209,AS10)","v":0},{"$f":"AT10/(AV4-AT20)","v":0},{"$f":"IF(AU10=0,0,(AU10*((LOG(AU10))/LOG(2))))","v":0}]
[12,553,14,557,13,560,14,568,null,null,0,1111,null,1211,{"$f":"COUNTIF($L$7:$L$500,N11)","v":0},{"$f":"O11/$Q$4","v":0},{"$f":"IF(P11=0,0,(P11*((LOG(P11))/LOG(2))))","v":0},null,null,{"$f":"N11","v":1211},{"$f":"COUNTIF(L7:L40,T11)","v":0},{"$f":"U11/(W4-U20)","v":0},{"$f":"IF(V11=0,0,(V11*((LOG(V11))/LOG(2))))","v":0},null,{"$f":"N11","v":1211},{"$f":"COUNTIF(L41:L74,Y11)","v":0},{"$f":"Z11/(AB4-Z20)","v":0},{"$f":"IF(AA11=0,0,(AA11*((LOG(AA11))/LOG(2))))","v":0},null,{"$f":"N11","v":1211},{"$f":"COUNTIF(L75:L107,AD11)","v":0},{"$f":"AE11/(AG4-AE20)","v":0},{"$f":"IF(AF11=0,0,(AF11*((LOG(AF11))/LOG(2))))","v":0},null,{"$f":"N11","v":1211},{"$f":"COUNTIF(L108:L141,AI11)","v":0},{"$f":"AJ11/(AL4-AJ20)","v":0},{"$f":"IF(AK11=0,0,(AK11*((LOG(AK11))/LOG(2))))","v":0},null,{"$f":"N11","v":1211},{"$f":"COUNTIF(L142:L175,AN11)","v":0},{"$f":"AO11/(AQ4-AO20)","v":0},{"$f":"IF(AP11=0,0,(AP11*((LOG(AP11))/LOG(2))))","v":0},null,{"$f":"N11","v":1211},{"$f":"COUNTIF(L176:L209,AS11)","v":0},{"$f":"AT11/(AV4-AT20)","v":0},{"$f":"IF(AU11=0,0,(AU11*((LOG(AU11))/LOG(2))))","v":0}]
[12,663,14,667,13,670,14,674,null,null,0,1111,null,1212,{"$f":"COUNTIF($L$7:$L$500,N12)","v":0},{"$f":"O12/$Q$4","v":0},{"$f":"IF(P12=0,0,(P12*((LOG(P12))/LOG(2))))","v":0},null,null,{"$f":"N12","v":1212},{"$f":"COUNTIF(L7:L40,T12)","v":0},{"$f":"U12/(W4-U20)","v":0},{"$f":"IF(V12=0,0,(V12*((LOG(V12))/LOG(2))))","v":0},null,{"$f":"N12","v":1212},{"$f":"COUNTIF(L41:L74,Y12)","v":0},{"$f":"Z12/(AB4-Z20)","v":0},{"$f":"IF(AA12=0,0,(AA12*((LOG(AA12))/LOG(2))))","v":0},null,{"$f":"N12","v":1212},{"$f":"COUNTIF(L75:L107,AD12)","v":0},{"$f":"AE12/(AG4-AE20)","v":0},{"$f":"IF(AF12=0,0,(AF12*((LOG(AF12))/LOG(2))))","v":0},null,{"$f":"N12","v":1212},{"$f":"COUNTIF(L108:L141,AI12)","v":0},{"$f":"AJ12/(AL4-AJ20)","v":0},{"$f":"IF(AK12=0,0,(AK12*((LOG(AK12))/LOG(2))))","v":0},null,{"$f":"N12","v":1212},{"$f":"COUNTIF(L142:L175,AN12)","v":0},{"$f":"AO12/(AQ4-AO20)","v":0},{"$f":"IF(AP12=0,0,(AP12*((LOG(AP12))/LOG(2))))","v":0},null,{"$f":"N12","v":1212},{"$f":"COUNTIF(L176:L209,AS12)","v":0},{"$f":"AT12/(AV4-AT20)","v":0},{"$f":"IF(AU12=0,0,(AU12*((LOG(AU12))/LOG(2))))","v":0}]
[12,780,14,785,13,790,14,796,null,null,0,1111,null,1221,{"$f":"COUNTIF($L$7:$L$500,N13)","v":0},{"$f":"O13/$Q$4","v":0},{"$f":"IF(P13=0,0,(P13*((LOG(P13))/LOG(2))))","v":0},null,null,{"$f":"N13","v":1221},{"$f":"COUNTIF(L7:L40,T13)","v":0},{"$f":"U13/(W4-U20)","v":0},{"$f":"IF(V13=0,0,(V13*((LOG(V13))/LOG(2))))","v":0},null,{"$f":"N13","v":1221},{"$f":"COUNTIF(L41:L74,Y13)","v":0},{"$f":"Z13/(AB4-Z20)","v":0},{"$f":"IF(AA13=0,0,(AA13*((LOG(AA13))/LOG(2))))","v":0},null,{"$f":"N13","v":1221},{"$f":"COUNTIF(L75:L107,AD13)","v":0},{"$f":"AE13/(AG4-AE20)","v":0},{"$f":"IF(AF13=0,0,(AF13*((LOG(AF13))/LOG(2))))","v":0},null,{"$f":"N13","v":1221},{"$f":"COUNTIF(L108:L141,AI13)","v":0},{"$f":"AJ13/(AL4-AJ20)","v":0},{"$f":"IF(AK13=0,0,(AK13*((LOG(AK13))/LOG(2))))","v":0},null,{"$f":"N13","v":1221},{"$f":"COUNTIF(L142:L175,AN13)","v":0},{"$f":"AO13/(AQ4-AO20)","v":0},{"$f":"IF(AP13=0,0,(AP13*((LOG(AP13))/LOG(2))))","v":0},null,{"$f":"N13","v":1221},{"$f":"COUNTIF(L176:L209,AS13)","v":0},{"$f":"AT13/(AV4-AT20)","v":0},{"$f":"IF(AU13=0,0,(AU13*((LOG(AU13))/LOG(2))))","v":0}]
[12,896,14,911,13,915,14,921,null,null,0,1111,null,1222,{"$f":"COUNTIF($L$7:$L$500,N14)","v":3},{"$f":"O14/$Q$4","v":1.4778325123152709E-2},{"$f":"IF(P14=0,0,(P14*((LOG(P14))/LOG(2))))","v":-8.9857735218680082E-2},null,null,{"$f":"N14","v":1222},{"$f":"COUNTIF(L7:L40,T14)","v":3},{"$f":"U14/(W4-U20)","v":8.8235294117647065E-2},{"$f":"IF(V14=0,0,(V14*((LOG(V14))/LOG(2))))","v":-0.30904414769375149},null,{"$f":"N14","v":1222},{"$f":"COUNTIF(L41:L74,Y14)","v":0},{"$f":"Z14/(AB4-Z20)","v":0},{"$f":"IF(AA14=0,0,(AA14*((LOG(AA14))/LOG(2))))","v":0},null,{"$f":"N14","v":1222},{"$f":"COUNTIF(L75:L107,AD14)","v":0},{"$f":"AE14/(AG4-AE20)","v":0},{"$f":"IF(AF14=0,0,(AF14*((LOG(AF14))/LOG(2))))","v":0},null,{"$f":"N14","v":1222},{"$f":"COUNTIF(L108:L141,AI14)","v":0},{"$f":"AJ14/(AL4-AJ20)","v":0},{"$f":"IF(AK14=0,0,(AK14*((LOG(AK14))/LOG(2))))","v":0},null,{"$f":"N14","v":1222},{"$f":"COUNTIF(L142:L175,AN14)","v":0},{"$f":"AO14/(AQ4-AO20)","v":0},{"$f":"IF(AP14=0,0,(AP14*((LOG(AP14))/LOG(2))))","v":0},null,{"$f":"N14","v":1222},{"$f":"COUNTIF(L176:L209,AS14)","v":0},{"$f":"AT14/(AV4-AT20)","v":0},{"$f":"IF(AU14=0,0,(AU14*((LOG(AU14))/LOG(2))))","v":0}]
[12,1032,14,1036,13,1040,14,1046,null,null,0,1111,null,2111,{"$f":"COUNTIF($L$7:$L$500,N15)","v":0},{"$f":"O15/$Q$4","v":0},{"$f":"IF(P15=0,0,(P15*((LOG(P15))/LOG(2))))","v":0},null,null,{"$f":"N15","v":2111},{"$f":"COUNTIF(L7:L40,T15)","v":0},{"$f":"U15/(W4-U20)","v":0},{"$f":"IF(V15=0,0,(V15*((LOG(V15))/LOG(2))))","v":0},null,{"$f":"N15","v":2111},{"$f":"COUNTIF(L41:L74,Y15)","v":0},{"$f":"Z15/(AB4-Z20)","v":0},{"$f":"IF(AA15=0,0,(AA15*((LOG(AA15))/LOG(2))))","v":0},null,{"$f":"N15","v":2111},{"$f":"COUNTIF(L75:L107,AD15)","v":0},{"$f":"AE15/(AG4-AE20)","v":0},{"$f":"IF(AF15=0,0,(AF15*((LOG(AF15))/LOG(2))))","v":0},null,{"$f":"N15","v":2111},{"$f":"COUNTIF(L108:L141,AI15)","v":0},{"$f":"AJ15/(AL4-AJ20)","v":0},{"$f":"IF(AK15=0,0,(AK15*((LOG(AK15))/LOG(2))))","v":0},null,{"$f":"N15","v":2111},{"$f":"COUNTIF(L142:L175,AN15)","v":0},{"$f":"AO15/(AQ4-AO20)","v":0},{"$f":"IF(AP15=0,0,(AP15*((LOG(AP15))/LOG(2))))","v":0},null,{"$f":"N15","v":2111},{"$f":"COUNTIF(L176:L209,AS15)","v":0},{"$f":"AT15/(AV4-AT20)","v":0},{"$f":"IF(AU15=0,0,(AU15*((LOG(AU15))/LOG(2))))","v":0}]
[12,1153,14,1157,13,1162,14,1166,null,null,0,1111,null,2112,{"$f":"COUNTIF($L$7:$L$500,N16)","v":0},{"$f":"O16/$Q$4","v":0},{"$f":"IF(P16=0,0,(P16*((LOG(P16))/LOG(2))))","v":0},null,null,{"$f":"N16","v":2112},{"$f":"COUNTIF(L7:L40,T16)","v":0},{"$f":"U16/(W4-U20)","v":0},{"$f":"IF(V16=0,0,(V16*((LOG(V16))/LOG(2))))","v":0},null,{"$f":"N16","v":2112},{"$f":"COUNTIF(L41:L74,Y16)","v":0},{"$f":"Z16/(AB4-Z20)","v":0},{"$f":"IF(AA16=0,0,(AA16*((LOG(AA16))/LOG(2))))","v":0},null,{"$f":"N16","v":2112},{"$f":"COUNTIF(L75:L107,AD16)","v":0},{"$f":"AE16/(AG4-AE20)","v":0},{"$f":"IF(AF16=0,0,(AF16*((LOG(AF16))/LOG(2))))","v":0},null,{"$f":"N16","v":2112},{"$f":"COUNTIF(L108:L141,AI16)","v":0},{"$f":"AJ16/(AL4-AJ20)","v":0},{"$f":"IF(AK16=0,0,(AK16*((LOG(AK16))/LOG(2))))","v":0},null,{"$f":"N16","v":2112},{"$f":"COUNTIF(L142:L175,AN16)","v":0},{"$f":"AO16/(AQ4-AO20)","v":0},{"$f":"IF(AP16=0,0,(AP16*((LOG(AP16))/LOG(2))))","v":0},null,{"$f":"N16","v":2112},{"$f":"COUNTIF(L176:L209,AS16)","v":0},{"$f":"AT16/(AV4-AT20)","v":0},{"$f":"IF(AU16=0,0,(AU16*((LOG(AU16))/LOG(2))))","v":0}]
[12,1264,14,1268,13,1271,14,1275,null,null,0,1111,null,2121,{"$f":"COUNTIF($L$7:$L$500,N17)","v":0},{"$f":"O17/$Q$4","v":0},{"$f":"IF(P17=0,0,(P17*((LOG(P17))/LOG(2))))","v":0},null,null,{"$f":"N17","v":2121},{"$f":"COUNTIF(L7:L40,T17)","v":0},{"$f":"U17/(W4-U20)","v":0},{"$f":"IF(V17=0,0,(V17*((LOG(V17))/LOG(2))))","v":0},null,{"$f":"N17","v":2121},{"$f":"COUNTIF(L41:L74,Y17)","v":0},{"$f":"Z17/(AB4-Z20)","v":0},{"$f":"IF(AA17=0,0,(AA17*((LOG(AA17))/LOG(2))))","v":0},null,{"$f":"N17","v":2121},{"$f":"COUNTIF(L75:L107,AD17)","v":0},{"$f":"AE17/(AG4-AE20)","v":0},{"$f":"IF(AF17=0,0,(AF17*((LOG(AF17))/LOG(2))))","v":0},null,{"$f":"N17","v":2121},{"$f":"COUNTIF(L108:L141,AI17)","v":0},{"$f":"AJ17/(AL4-AJ20)","v":0},{"$f":"IF(AK17=0,0,(AK17*((LOG(AK17))/LOG(2))))","v":0},null,{"$f":"N17","v":2121},{"$f":"COUNTIF(L142:L175,AN17)","v":0},{"$f":"AO17/(AQ4-AO20)","v":0},{"$f":"IF(AP17=0,0,(AP17*((LOG(AP17))/LOG(2))))","v":0},null,{"$f":"N17","v":2121},{"$f":"COUNTIF(L176:L209,AS17)","v":0},{"$f":"AT17/(AV4-AT20)","v":0},{"$f":"IF(AU17=0,0,(AU17*((LOG(AU17))/LOG(2))))","v":0}]
[12,1376,14,1380,13,1385,23,1401,null,null,0,1112,null,2122,{"$f":"COUNTIF($L$7:$L$500,N18)","v":0},{"$f":"O18/$Q$4","v":0},{"$f":"IF(P18=0,0,(P18*((LOG(P18))/LOG(2))))","v":0},null,null,{"$f":"N18","v":2122},{"$f":"COUNTIF(L7:L40,T18)","v":0},{"$f":"U18/(W4-U20)","v":0},{"$f":"IF(V18=0,0,(V18*((LOG(V18))/LOG(2))))","v":0},null,{"$f":"N18","v":2122},{"$f":"COUNTIF(L41:L74,Y18)","v":0},{"$f":"Z18/(AB4-Z20)","v":0},{"$f":"IF(AA18=0,0,(AA18*((LOG(AA18))/LOG(2))))","v":0},null,{"$f":"N18","v":2122},{"$f":"COUNTIF(L75:L107,AD18)","v":0},{"$f":"AE18/(AG4-AE20)","v":0},{"$f":"IF(AF18=0,0,(AF18*((LOG(AF18))/LOG(2))))","v":0},null,{"$f":"N18","v":2122},{"$f":"COUNTIF(L108:L141,AI18)","v":0},{"$f":"AJ18/(AL4-AJ20)","v":0},{"$f":"IF(AK18=0,0,(AK18*((LOG(AK18))/LOG(2))))","v":0},null,{"$f":"N18","v":2122},{"$f":"COUNTIF(L142:L175,AN18)","v":0},{"$f":"AO18/(AQ4-AO20)","v":0},{"$f":"IF(AP18=0,0,(AP18*((LOG(AP18))/LOG(2))))","v":0},null,{"$f":"N18","v":2122},{"$f":"COUNTIF(L176:L209,AS18)","v":0},{"$f":"AT18/(AV4-AT20)","v":0},{"$f":"IF(AU18=0,0,(AU18*((LOG(AU18))/LOG(2))))","v":0}]
[12,1499,14,1503,13,1507,14,1511,null,null,0,1111,null,2211,{"$f":"COUNTIF($L$7:$L$500,N19)","v":0},{"$f":"O19/$Q$4","v":0},{"$f":"IF(P19=0,0,(P19*((LOG(P19))/LOG(2))))","v":0},null,null,{"$f":"N19","v":2211},{"$f":"COUNTIF(L7:L40,T19)","v":0},{"$f":"U19/(W4-U20)","v":0},{"$f":"IF(V19=0,0,(V19*((LOG(V19))/LOG(2))))","v":0},null,{"$f":"N19","v":2211},{"$f":"COUNTIF(L41:L74,Y19)","v":0},{"$f":"Z19/(AB4-Z20)","v":0},{"$f":"IF(AA19=0,0,(AA19*((LOG(AA19))/LOG(2))))","v":0},null,{"$f":"N19","v":2211},{"$f":"COUNTIF(L75:L107,AD19)","v":0},{"$f":"AE19/(AG4-AE20)","v":0},{"$f":"IF(AF19=0,0,(AF19*((LOG(AF19))/LOG(2))))","v":0},null,{"$f":"N19","v":2211},{"$f":"COUNTIF(L108:L141,AI19)","v":0},{"$f":"AJ19/(AL4-AJ20)","v":0},{"$f":"IF(AK19=0,0,(AK19*((LOG(AK19))/LOG(2))))","v":0},null,{"$f":"N19","v":2211},{"$f":"COUNTIF(L142:L175,AN19)","v":0},{"$f":"AO19/(AQ4-AO20)","v":0},{"$f":"IF(AP19=0,0,(AP19*((LOG(AP19))/LOG(2))))","v":0},null,{"$f":"N19","v":2211},{"$f":"COUNTIF(L176:L209,AS19)","v":0},{"$f":"AT19/(AV4-AT20)","v":0},{"$f":"IF(AU19=0,0,(AU19*((LOG(AU19))/LOG(2))))","v":0}]
[12,1618,14,1623,13,1627,14,1631,null,null,0,1111,null,2212,{"$f":"COUNTIF($L$7:$L$500,N20)","v":0},{"$f":"O20/$Q$4","v":0},{"$f":"IF(P20=0,0,(P20*((LOG(P20))/LOG(2))))","v":0},null,null,{"$f":"N20","v":2212},{"$f":"COUNTIF(L7:L40,T20)","v":0},null,null,null,{"$f":"N20","v":2212},{"$f":"COUNTIF(L41:L74,Y20)","v":0},null,null,null,{"$f":"N20","v":2212},{"$f":"COUNTIF(L75:L107,AD20)","v":0},null,null,null,{"$f":"N20","v":2212},{"$f":"COUNTIF(L108:L141,AI20)","v":0},null,null,null,{"$f":"N20","v":2212},{"$f":"COUNTIF(L142:L175,AN20)","v":0},null,null,null,{"$f":"N20","v":2212},{"$f":"COUNTIF(L176:L209,AS20)","v":0}]
[12,1731,14,1739,13,1747,14,1754,null,null,0,1111,null,2221,{"$f":"COUNTIF($L$7:$L$500,N21)","v":0},{"$f":"O21/$Q$4","v":0},{"$f":"IF(P21=0,0,(P21*((LOG(P21))/LOG(2))))","v":0},null,null,{"$f":"N21","v":2221},{"$f":"COUNTIF(L7:L40,T21)","v":0},{"$f":"U21/(W4-U20)","v":0},{"$f":"IF(V21=0,0,(V21*((LOG(V21))/LOG(2))))","v":0},null,{"$f":"N21","v":2221},{"$f":"COUNTIF(L41:L74,Y21)","v":0},{"$f":"Z21/(AB4-Z20)","v":0},{"$f":"IF(AA21=0,0,(AA21*((LOG(AA21))/LOG(2))))","v":0},null,{"$f":"N21","v":2221},{"$f":"COUNTIF(L75:L107,AD21)","v":0},{"$f":"AE21/(AG4-AE20)","v":0},{"$f":"IF(AF21=0,0,(AF21*((LOG(AF21))/LOG(2))))","v":0},null,{"$f":"N21","v":2221},{"$f":"COUNTIF(L108:L141,AI21)","v":0},{"$f":"AJ21/(AL4-AJ20)","v":0},{"$f":"IF(AK21=0,0,(AK21*((LOG(AK21))/LOG(2))))","v":0},null,{"$f":"N21","v":2221},{"$f":"COUNTIF(L142:L175,AN21)","v":0},{"$f":"AO21/(AQ4-AO20)","v":0},{"$f":"IF(AP21=0,0,(AP21*((LOG(AP21))/LOG(2))))","v":0},null,{"$f":"N21","v":2221},{"$f":"COUNTIF(L176:L209,AS21)","v":0},{"$f":"AT21/(AV4-AT20)","v":0},{"$f":"IF(AU21=0,0,(AU21*((LOG(AU21))/LOG(2))))","v":0}]
[12,1860,23,1871,24,1880,23,1898,null,null,0,1222,null,2222,{"$f":"COUNTIF($L$7:$L$500,N22)","v":0},{"$f":"O22/$Q$4","v":0},{"$f":"IF(P22=0,0,(P22*((LOG(P22))/LOG(2))))","v":0},null,null,{"$f":"N22","v":2222},{"$f":"COUNTIF(L7:L40,T22)","v":0},{"$f":"U22/(W4-U20)","v":0},{"$f":"IF(V22=0,0,(V22*((LOG(V22))/LOG(2))))","v":0},null,{"$f":"N22","v":2222},{"$f":"COUNTIF(L41:L74,Y22)","v":0},{"$f":"Z22/(AB4-Z20)","v":0},{"$f":"IF(AA22=0,0,(AA22*((LOG(AA22))/LOG(2))))","v":0},null,{"$f":"N22","v":2222},{"$f":"COUNTIF(L75:L107,AD22)","v":0},{"$f":"AE22/(AG4-AE20)","v":0},{"$f":"IF(AF22=0,0,(AF22*((LOG(AF22))/LOG(2))))","v":0},null,{"$f":"N22","v":2222},{"$f":"COUNTIF(L108:L141,AI22)","v":0},{"$f":"AJ22/(AL4-AJ20)","v":0},{"$f":"IF(AK22=0,0,(AK22*((LOG(AK22))/LOG(2))))","v":0},null,{"$f":"N22","v":2222},{"$f":"COUNTIF(L142:L175,AN22)","v":0},{"$f":"AO22/(AQ4-AO20)","v":0},{"$f":"IF(AP22=0,0,(AP22*((LOG(AP22))/LOG(2))))","v":0},null,{"$f":"N22","v":2222},{"$f":"COUNTIF(L176:L209,AS22)","v":0},{"$f":"AT22/(AV4-AT20)","v":0},{"$f":"IF(AU22=0,0,(AU22*((LOG(AU22))/LOG(2))))","v":0}]
[12,2002,14,2011,13,2015,23,2032,null,null,0,1112,null,null,null,{"$f":"SUM(P7:P22)","v":1},{"$f":"-SUM(Q7:Q22)","v":0.22172023522836304},null,null,null,null,{"$f":"SUM(V7:V22)","v":1},{"$f":"-SUM(W7:W22)","v":0.74521765416613184},null,null,null,{"$f":"SUM(AA7:AA22)","v":1},{"$f":"-SUM(AB7:AB22)","v":0},null,null,null,{"$f":"SUM(AF7:AF22)","v":1},{"$f":"-SUM(AG7:AG22)","v":0},null,null,null,{"$f":"SUM(AK7:AK22)","v":1},{"$f":"-SUM(AL7:AL22)","v":0},null,null,null,{"$f":"SUM(AP7:AP22)","v":1},{"$f":"-SUM(AQ7:AQ22)","v":0},null,null,null,{"$f":"SUM(AU7:AU22)","v":1},{"$f":"-SUM(AV7:AV22)","v":0.19143325481419343}]
[12,2136,14,2140,13,2144,14,2151,null,null,0,1111,null,null,null,"U=",{"$f":"Q23/(LOG(Q4)/LOG(2))","v":2.8925051377237224E-2},null,null,null,null,"U1=",{"$f":"W23/(LOG(W4)/LOG(2))","v":0.14648119847161001},null,null,null,"U2=",{"$f":"AB23/(LOG(AB4)/LOG(2))","v":0},null,null,null,"U3=",{"$f":"AG23/(LOG(AG4)/LOG(2))","v":0},null,null,null,"U4=",{"$f":"AL23/(LOG(AL4)/LOG(2))","v":0},null,null,null,"U5=",{"$f":"AQ23/(LOG(AQ4)/LOG(2))","v":0},null,null,null,"U6=",{"$f":"AV23/(LOG(AV4)/LOG(2))","v":3.7628433029919708E-2}]
[12,2251,14,2258,13,2262,14,2266,null,null,0,1111]
[12,2364,14,2370,13,2374,14,2378,null,null,0,1111]
[12,2477,14,2482,13,2499,14,2506,null,null,0,1111,null,"Total Target Seq"]
[12,2612,14,2617,13,2621,14,2624,null,null,0,1111,null,{"$f":"COUNTIF(L7:L209,G3)","v":0},null,34,34,33,34,34,34]
[12,2722,14,2726,13,2730,14,2733,null,null,0,1111,null,null,null,"% of reinforcement given in 6 equal intervals based on number of trials "]
[12,2827,14,2831,13,2836,14,2840,null,null,0,1111,null,null,null,"%_1","%_2","%_3","%_4","%_5","%_6"]
[12,2937,14,2944,13,2952,14,2959,null,null,0,1111,null,null,"target sequence",{"$f":"$G$3","v":2212},{"$f":"$G$3","v":2212},{"$f":"$G$3","v":2212},{"$f":"$G$3","v":2212},{"$f":"$G$3","v":2212},{"$f":"$G$3","v":2212}]
[12,3059,14,3064,13,3067,14,3072,null,null,0,1111,null,null,"total reinforcement",{"$f":"U20","v":0},{"$f":"Z20","v":0},{"$f":"AE20","v":0},{"$f":"AJ20","v":0},{"$f":"AO20","v":0},{"$f":"AT20","v":0}]
[12,3172,14,3178,13,3187,14,3196,null,null,0,1111,null,null,"% target"]
[12,3295,14,3300,13,3304,14,3308,null,null,0,1111,null,null,"CCRF"]
[12,3417,14,3421,13,3425,14,3432,null,null,0,1111,null,null,"% CCRf"]
[12,3532,14,3535,13,3539,14,3543,null,null,0,1111,null,null,"average response rate",{"$f":"H40/P28","v":118.47058823529412},{"$f":"(H74-H40)/Q28","v":118.58823529411765},{"$f":"(H107-H74)/R28","v":120.93939393939394},{"$f":"(H141-H107)/S28","v":114.23529411764706},{"$f":"(H175-H141)/T28","v":115.08823529411765},{"$f":"(H209-H175)/U28","v":120.73529411764706}]
[12,3639,14,3645,13,3649,14,3675,null,null,0,1111]
[12,3780,14,3783,13,3787,14,3795,null,null,0,1111]
[12,3895,14,3899,13,3903,14,3907,null,null,0,1111]
[12,4012,14,4017,13,4021,14,4028,null,null,0,1111]
[12,4120,14,4124,13,4128,14,4132,null,null,0,1111]
[12,4230,14,4234,13,4237,14,4242,null,null,0,1111]
[12,4344,14,4349,13,4352,14,4359,null,null,0,1111]
[12,4460,14,4475,13,4479,14,4482,null,null,0,1111]
[12,4587,14,4592,13,4596,14,4601,null,null,0,1111]
[12,4704,14,4709,13,4713,14,4724,null,null,0,1111]
[12,4817,14,4822,13,4826,14,4830,null,null,0,1111]
[12,4926,14,4931,13,4937,14,4944,null,null,0,1111]
[12,5045,14,5053,13,5061,14,5065,null,null,0,1111]
[12,5168,14,5185,13,5191,14,5198,null,null,0,1111]
[12,5295,14,5299,13,5303,14,5307,null,null,0,1111]
[12,5404,14,5408,13,5413,14,5417,null,null,0,1111]
[12,5514,14,5519,13,5523,14,5527,null,null,0,1111]
[12,5626,14,5630,13,5635,14,5639,null,null,0,1111]
[12,5736,14,5740,13,5745,14,5750,null,null,0,1111]
[12,5846,14,5850,13,5859,14,5866,null,null,0,1111]
[12,5967,14,5971,13,5975,14,5979,null,null,0,1111]
[12,6082,14,6087,13,6090,14,6094,null,null,0,1111]
[12,6194,14,6199,13,6202,14,6207,null,null,0,1111]
[12,6304,14,6308,13,6313,14,6320,null,null,0,1111]
[12,6420,14,6424,13,6428,14,6433,null,null,0,1111]
[12,6603,14,6612,13,6619,14,6627,null,null,0,1111]
[12,6722,14,6729,13,6733,14,6741,null,null,0,1111]
[12,6842,14,6850,13,6854,14,6858,null,null,0,1111]
[12,6956,14,6961,13,6967,14,6974,null,null,0,1111]
[12,7072,14,7077,13,7083,14,7087,null,null,0,1111]
[12,7194,14,7203,13,7209,14,7215,null,null,0,1111]
[12,7334,14,7341,13,7348,14,7363,null,null,0,1111]
[12,7473,14,7476,13,7490,14,7494,null,null,0,1111]
[12,7594,14,7598,13,7602,14,7606,null,null,0,1111]
[12,7701,14,7706,13,7713,14,7721,null,null,0,1111]
[12,7817,14,7821,13,7826,14,7829,null,null,0,1111]
[12,7930,14,7935,13,7939,14,7946,null,null,0,1111]
[12,8042,14,8049,13,8053,14,8060,null,null,0,1111]
[12,8163,14,8167,13,8171,14,8178,null,null,0,1111]
[12,8287,14,8293,13,8300,14,8306,null,null,0,1111]
[12,8407,14,8419,13,8426,14,8442,null,null,0,1111]
[12,8543,14,8548,13,8552,14,8561,null,null,0,1111]
[12,8712,14,8717,13,8724,14,8733,null,null,0,1111]
[12,8830,14,8834,13,8843,14,8853,null,null,0,1111]
[12,8957,14,8963,13,8968,14,8975,null,null,0,1111]
[12,9076,14,9080,13,9084,14,9091,null,null,0,1111]
[12,9188,14,9194,13,9199,14,9207,null,null,0,1111]
[12,9304,14,9308,13,9312,14,9317,null,null,0,1111]
[12,9414,14,9418,13,9422,14,9427,null,null,0,1111]
[12,9530,14,9534,13,9541,14,9548,null,null,0,1111]
[12,9677,14,9682,13,9688,14,9693,null,null,0,1111]
[12,9792,14,9797,13,9801,14,9807,null,null,0,1111]
[12,9913,14,9931,13,9937,14,9944,null,null,0,1111]
[12,10049,14,10057,13,10060,14,10068,null,null,0,1111]
[12,10168,14,10176,13,10183,14,10189,null,null,0,1111]
[12,10292,14,10298,13,10302,14,10311,null,null,0,1111]
[12,10407,14,10411,13,10419,14,10423,null,null,0,1111]
[12,10526,14,10534,13,10539,14,10543,null,null,0,1111]
[12,10640,14,10644,13,10649,14,10653,null,null,0,1111]
[12,10754,14,10759,13,10762,14,10766,null,null,0,1111]
[12,10868,14,10872,13,10878,14,10885,null,null,0,1111]
[12,10985,14,10992,13,10996,14,11003,null,null,0,1111]
[12,11103,14,11107,13,11114,14,11122,null,null,0,1111]
[12,11222,14,11230,13,11239,14,11242,null,null,0,1111]
[12,11344,14,11348,13,11351,14,11358,null,null,0,1111]
[12,11458,14,11463,13,11466,14,11470,null,null,0,1111]
[12,11572,14,11575,13,11580,14,11585,null,null,0,1111]
[12,11681,14,11688,13,11695,14,11699,null,null,0,1111]
[12,11798,14,11802,13,11807,14,11814,null,null,0,1111]
[12,11911,14,11918,13,11921,14,11930,null,null,0,1111]
[12,12028,14,12033,13,12045,14,12051,null,null,0,1111]
[12,12149,14,12153,13,12157,14,12164,null,null,0,1111]
[12,12261,14,12266,13,12269,14,12273,null,null,0,1111]
[12,12372,14,12375,13,12382,14,12386,null,null,0,1111]
[12,12489,14,12494,13,12498,14,12502,null,null,0,1111]
[12,12604,14,12609,13,12616,14,12621,null,null,0,1111]
[12,12717,14,12722,13,12728,14,12735,null,null,0,1111]
[12,12834,14,12838,13,12844,14,12847,null,null,0,1111]
[12,12945,14,12952,13,12956,14,12960,null,null,0,1111]
[12,13058,14,13063,13,13066,14,13071,null,null,0,1111]
[12,13171,14,13175,13,13179,14,13184,null,null,0,1111]
[12,13282,14,13286,13,13291,14,13296,null,null,0,1111]
[12,13396,14,13400,13,13404,14,13412,null,null,0,1111]
[12,13509,14,13517,13,13524,14,13529,null,null,0,1111]
[12,13626,14,13631,13,13635,14,13647,null,null,0,1111]
[12,13742,14,13746,13,13750,14,13755,null,null,0,1111]
[12,13851,14,13855,13,13861,14,13866,null,null,0,1111]
[12,13962,14,13966,13,13969,14,13973,null,null,0,1111]
[12,14073,14,14079,13,14083,14,14088,null,null,0,1111]
[12,14185,14,14189,13,14193,14,14199,null,null,0,1111]
[12,14302,14,14306,13,14310,14,14315,null,null,0,1111]
[12,14414,14,14418,13,14423,14,14427,null,null,0,1111]
[12,14518,14,14523,13,14527,14,14531,null,null,0,1111]
[12,14631,14,14644,13,14648,14,14655,null,null,0,1111]
[12,14756,14,14762,13,14772,14,14776,null,null,0,1111]
[12,14872,14,14876,13,14880,14,14885,null,null,0,1111]
[12,14983,14,14987,13,14991,14,14995,null,null,0,1111]
[12,15099,14,15103,13,15108,14,15113,null,null,0,1111]
[12,15218,14,15223,13,15227,14,15234,null,null,0,1111]
[12,15334,14,15340,13,15347,14,15355,null,null,0,1111]
[12,15457,14,15461,13,15465,14,15472,null,null,0,1111]
[12,15570,14,15574,13,15580,14,15587,null,null,0,1111]
[12,15684,14,15693,13,15700,14,15717,null,null,0,1111]
[12,15816,14,15820,13,15823,14,15826,null,null,0,1111]
[12,15923,14,15927,13,15932,14,15935,null,null,0,1111]
[12,16035,14,16038,13,16042,14,16052,null,null,0,1111]
[12,16159,14,16164,13,16171,14,16176,null,null,0,1111]
[12,16271,14,16275,13,16279,14,16282,null,null,0,1111]
[12,16382,14,16388,13,16391,14,16396,null,null,0,1111]
[12,16504,14,16508,13,16514,14,16517,null,null,0,1111]
[12,16616,14,16621,13,16624,14,16628,null,null,0,1111]
[12,16725,14,16733,13,16736,14,16740,null,null,0,1111]
[12,16844,14,16850,13,16853,14,16857,null,null,0,1111]
[12,16952,14,16956,13,16960,14,16963,null,null,0,1111]
[12,17070,14,17074,13,17077,14,17081,null,null,0,1111]
[12,17176,14,17180,13,17184,14,17191,null,null,0,1111]
[12,17291,14,17295,13,17300,14,17306,null,null,0,1111]
[12,17398,14,17403,13,17408,14,17412,null,null,0,1111]
[12,17508,14,17515,13,17519,14,17537,null,null,0,1111]
[12,17633,14,17638,13,17642,14,17647,null,null,0,1111]
[12,17743,14,17748,13,17752,14,17756,null,null,0,1111]
[12,17866,14,17870,13,17877,14,17884,null,null,0,1111]
[12,17982,14,17989,13,17992,14,17996,null,null,0,1111]
[12,18091,14,18095,13,18099,14,18102,null,null,0,1111]
[12,18202,14,18206,13,18210,14,18215,null,null,0,1111]
[12,18315,14,18320,13,18324,14,18334,null,null,0,1111]
[12,18432,14,18436,13,18440,14,18443,null,null,0,1111]
[12,18538,14,18542,13,18546,14,18550,null,null,0,1111]
[12,18646,14,18650,13,18654,14,18660,null,null,0,1111]
[12,18770,14,18774,13,18780,14,18787,null,null,0,1111]
[12,18892,14,18896,13,18905,14,18909,null,null,0,1111]
[12,19011,14,19019,13,19025,14,19032,null,null,0,1111]
[12,19135,14,19139,13,19143,14,19149,null,null,0,1111]
[12,19253,14,19257,13,19265,14,19272,null,null,0,1111]
[12,19372,14,19387,13,19392,14,19399,null,null,0,1111]
[12,19499,14,19502,13,19506,14,19512,null,null,0,1111]
[12,19610,14,19617,13,19622,14,19626,null,null,0,1111]
[12,19723,14,19727,13,19731,14,19734,null,null,0,1111]
[12,19833,14,19838,13,19841,14,19848,null,null,0,1111]
[12,19943,14,19947,13,19955,14,19961,null,null,0,1111]
[12,20060,14,20064,13,20069,14,20072,null,null,0,1111]
[12,20173,14,20179,13,20188,14,20194,null,null,0,1111]
[12,20294,14,20299,13,20303,14,20310,null,null,0,1111]
[12,20410,14,20414,13,20418,14,20422,null,null,0,1111]
[12,20519,14,20523,13,20528,14,20532,null,null,0,1111]
[12,20634,14,20639,13,20643,14,20667,null,null,0,1111]
[12,20768,14,20773,13,20786,14,20792,null,null,0,1111]
[12,20895,14,20900,13,20904,14,20911,null,null,0,1111]
[12,21012,14,21016,13,21019,14,21026,null,null,0,1111]
[12,21123,14,21128,13,21135,14,21138,null,null,0,1111]
[12,21238,14,21242,13,21248,14,21251,null,null,0,1111]
[12,21358,14,21363,13,21367,14,21371,null,null,0,1111]
[12,21475,14,21480,13,21485,14,21490,null,null,0,1111]
[12,21589,14,21593,13,21600,14,21607,null,null,0,1111]
[12,21703,14,21708,13,21712,14,21716,null,null,0,1111]
[12,21817,14,21822,13,21825,14,21829,null,null,0,1111]
[12,21966,14,21971,13,21975,14,21982,null,null,0,1111]
[12,22098,14,22105,13,22111,14,22115,null,null,0,1111]
[12,22239,14,22248,13,22256,14,22266,null,null,0,1111]
[12,22376,14,22381,13,22385,14,22393,null,null,0,1111]
[12,22485,14,22547,13,22554,14,22560,null,null,0,1111]
[12,22662,14,22671,13,22688,14,22692,null,null,0,1111]
[12,22796,14,22800,13,22804,14,22808,null,null,0,1111]
[12,22908,14,22914,13,22932,14,22936,null,null,0,1111]
[12,23037,14,23041,13,23045,14,23052,null,null,0,1111]
[12,23147,14,23155,13,23159,14,23164,null,null,0,1111]
[12,23261,14,23267,13,23271,14,23278,null,null,0,1111]
[12,23373,14,23382,13,23386,23,23406,null,null,0,1112]
[12,23502,14,23506,13,23510,14,23514,null,null,0,1111]
[12,23616,14,23620,13,23624,14,23628,null,null,0,1111]
[12,23721,14,23727,13,23730,14,23734,null,null,0,1111]
[12,23831,14,23837,13,23841,14,23845,null,null,0,1111]
[12,23942,14,23946,13,23949,14,23953,null,null,null,1111]

{"sheet":"!M904B00.104","index":21,"n_rows":210,"n_cols":48,"rows_kept":210,"cut":false,"hidden":false,"merged":[[4,39,4,42],[5,39,5,40],[4,44,4,47],[5,44,5,45],[4,24,4,27],[5,24,5,25],[4,29,4,32],[5,29,5,30],[4,34,4,37],[5,34,5,35],[1,1,1,2],[5,13,5,14],[26,13,26,14],[27,13,27,14],[4,19,4,22],[5,19,5,20]]}
["Report for:!M904B00.104"]
["Date:","<date>"]
["Hen:","<hen>",null,null,null,"Correct Sequence",{"$f":"Start!J2","v":2212},null,null,null,null,null,null,null,null,"Total Sequences in Data",{"$f":"4994-COUNTBLANK(L7:L5000)","v":204},null,null,null,null,"Total Sequences in Block Data",{"$f":"COUNTA(L7:L40)","v":34},null,null,null,"Total Sequences in Block Data",{"$f":"COUNTA(L41:L74)","v":34},null,null,null,"Total Sequences in Block Data",{"$f":"COUNTA(L75:L108)","v":34},null,null,null,"Total Sequences in Block Data",{"$f":"COUNTA(L109:L142)","v":34},null,null,null,"Total Sequences in Block Data",{"$f":"COUNTA(L143:L176)","v":34},null,null,null,"Total Sequences in Block Data",{"$f":"COUNTA(L177:L210)","v":34}]
[null,null,null,null,null,null,null,null,null,null,null,null,null,null,null,"Total Sequences in Summary",{"$f":"SUM(O7:O22)","v":204},null,null,null,null,"Total Sequences in Block Summary",{"$f":"SUM(U7:U22)","v":34},null,null,null,"Total Sequences in Block Summary",{"$f":"SUM(Z7:Z22)","v":34},null,null,null,"Total Sequences in Block Summary",{"$f":"SUM(AE7:AE22)","v":34},null,null,null,"Total Sequences in Block Summary",{"$f":"SUM(AJ7:AJ22)","v":34},null,null,null,"Total Sequences in Block Summary",{"$f":"SUM(AO7:AO22)","v":34},null,null,null,"Total Sequences in Block Summary",{"$f":"SUM(AT7:AT22)","v":34}]
[null,null,null,null,null,null,null,null,null,null,null,null,null,null,null,null,null,null,null,"Block 1",null,null,null,null,"Block 2",null,null,null,null,"Block 3",null,null,null,null,"Block 4",null,null,null,null,"Block 5",null,null,null,null,"Block 6"]
["Sequence\nComponent\n1","Time\n1","Sequence\nComponent\n2","Time\n2","Sequence\nComponent\n3","Time\n3","Sequence\nComponent\n4","Time\n4","Sequence\nComponent\n5","Time\n5","Correct?\n0=No 1=Yes","Sequence",null,"Frequency",null,"Relative Frequency","Variability",null,null,"Frequency",null,"Relative Frequency","Variability",null,"Frequency",null,"Relative Frequency","Variability",null,"Frequency",null,"Relative Frequency","Variability",null,"Frequency",null,"Relative Frequency","Variability",null,"Frequency",null,"Relative Frequency","Variability",null,"Frequency",null,"Relative Frequency","Variability"]
[21,55,21,64,22,76,23,87,null,null,0,2222,null,1111,{"$f":"COUNTIF($L$7:$L$500,N7)","v":195},{"$f":"O7/$Q$4","v":0.95588235294117652},{"$f":"IF(P7=0,0,(P7*((LOG(P7))/LOG(2))))","v":-6.2223188741507562E-2},null,null,{"$f":"N7","v":1111},{"$f":"COUNTIF(L7:L40,T7)","v":29},{"$f":"U7/(W4-U20)","v":0.8529411764705882},{"$f":"IF(V7=0,0,(V7*((LOG(V7))/LOG(2))))","v":-0.1957345158105957},null,{"$f":"N7","v":1111},{"$f":"COUNTIF(L41:L74,Y7)","v":33},{"$f":"Z7/(AB4-Z20)","v":0.97058823529411764},{"$f":"IF(AA7=0,0,(AA7*((LOG(AA7))/LOG(2))))","v":-4.1801994777418743E-2},null,{"$f":"N7","v":1111},{"$f":"COUNTIF(L75:L108,AD7)","v":34},{"$f":"AE7/(AG4-AE20)","v":1},{"$f":"IF(AF7=0,0,(AF7*((LOG(AF7))/LOG(2))))","v":0},null,{"$f":"N7","v":1111},{"$f":"COUNTIF(L109:L142,AI7)","v":34},{"$f":"AJ7/(AL4-AJ20)","v":1},{"$f":"IF(AK7=0,0,(AK7*((LOG(AK7))/LOG(2))))","v":0},null,{"$f":"N7","v":1111},{"$f":"COUNTIF(L143:L176,AN7)","v":34},{"$f":"AO7/(AQ4-AO20)","v":1},{"$f":"IF(AP7=0,0,(AP7*((LOG(AP7))/LOG(2))))","v":0},null,{"$f":"N7","v":1111},{"$f":"COUNTIF(L177:L210,AS7)","v":31},{"$f":"AT7/(AV4-AT20)","v":0.91176470588235292},{"$f":"IF(AU7=0,0,(AU7*((LOG(AU7))/LOG(2))))","v":-0.12150771931668795}]
[12,188,14,199,24,216,23,224,null,null,0,1122,null,1112,{"$f":"COUNTIF($L$7:$L$500,N8)","v":2},{"$f":"O8/$Q$4","v":9.8039215686274508E-3},{"$f":"IF(P8=0,0,(P8*((LOG(P8))/LOG(2))))","v":-6.5415934725210734E-2},null,null,{"$f":"N8","v":1112},{"$f":"COUNTIF(L7:L40,T8)","v":0},{"$f":"U8/(W4-U20)","v":0},{"$f":"IF(V8=0,0,(V8*((LOG(V8))/LOG(2))))","v":0},null,{"$f":"N8","v":1112},{"$f":"COUNTIF(L41:L74,Y8)","v":1},{"$f":"Z8/(AB4-Z20)","v":2.9411764705882353E-2},{"$f":"IF(AA8=0,0,(AA8*((LOG(AA8))/LOG(2))))","v":-0.14963126003677468},null,{"$f":"N8","v":1112},{"$f":"COUNTIF(L75:L108,AD8)","v":0},{"$f":"AE8/(AG4-AE20)","v":0},{"$f":"IF(AF8=0,0,(AF8*((LOG(AF8))/LOG(2))))","v":0},null,{"$f":"N8","v":1112},{"$f":"COUNTIF(L109:L142,AI8)","v":0},{"$f":"AJ8/(AL4-AJ20)","v":0},{"$f":"IF(AK8=0,0,(AK8*((LOG(AK8))/LOG(2))))","v":0},null,{"$f":"N8","v":1112},{"$f":"COUNTIF(L143:L176,AN8)","v":0},{"$f":"AO8/(AQ4-AO20)","v":0},{"$f":"IF(AP8=0,0,(AP8*((LOG(AP8))/LOG(2))))","v":0},null,{"$f":"N8","v":1112},{"$f":"COUNTIF(L177:L210,AS8)","v":1},{"$f":"AT8/(AV4-AT20)","v":2.9411764705882353E-2},{"$f":"IF(AU8=0,0,(AU8*((LOG(AU8))/LOG(2))))","v":-0.14963126003677468}]
[12,322,23,332,24,339,23,351,null,null,0,1222,null,1121,{"$f":"COUNTIF($L$7:$L$500,N9)","v":1},{"$f":"O9/$Q$4","v":4.9019607843137254E-3},{"$f":"IF(P9=0,0,(P9*((LOG(P9))/LOG(2))))","v":-3.7609928146919096E-2},null,null,{"$f":"N9","v":1121},{"$f":"COUNTIF(L7:L40,T9)","v":0},{"$f":"U9/(W4-U20)","v":0},{"$f":"IF(V9=0,0,(V9*((LOG(V9))/LOG(2))))","v":0},null,{"$f":"N9","v":1121},{"$f":"COUNTIF(L41:L74,Y9)","v":0},{"$f":"Z9/(AB4-Z20)","v":0},{"$f":"IF(AA9=0,0,(AA9*((LOG(AA9))/LOG(2))))","v":0},null,{"$f":"N9","v":1121},{"$f":"COUNTIF(L75:L108,AD9)","v":0},{"$f":"AE9/(AG4-AE20)","v":0},{"$f":"IF(AF9=0,0,(AF9*((LOG(AF9))/LOG(2))))","v":0},null,{"$f":"N9","v":1121},{"$f":"COUNTIF(L109:L142,AI9)","v":0},{"$f":"AJ9/(AL4-AJ20)","v":0},{"$f":"IF(AK9=0,0,(AK9*((LOG(AK9))/LOG(2))))","v":0},null,{"$f":"N9","v":1121},{"$f":"COUNTIF(L143:L176,AN9)","v":0},{"$f":"AO9/(AQ4-AO20)","v":0},{"$f":"IF(AP9=0,0,(AP9*((LOG(AP9))/LOG(2))))","v":0},null,{"$f":"N9","v":1121},{"$f":"COUNTIF(L177:L210,AS9)","v":1},{"$f":"AT9/(AV4-AT20)","v":2.9411764705882353E-2},{"$f":"IF(AU9=0,0,(AU9*((LOG(AU9))/LOG(2))))","v":-0.14963126003677468}]
[12,452,14,462,13,474,14,479,null,null,0,1111,null,1122,{"$f":"COUNTIF($L$7:$L$500,N10)","v":2},{"$f":"O10/$Q$4","v":9.8039215686274508E-3},{"$f":"IF(P10=0,0,(P10*((LOG(P10))/LOG(2))))","v":-6.5415934725210734E-2},null,null,{"$f":"N10","v":1122},{"$f":"COUNTIF(L7:L40,T10)","v":2},{"$f":"U10/(W4-U20)","v":5.8823529411764705E-2},{"$f":"IF(V10=0,0,(V10*((LOG(V10))/LOG(2))))","v":-0.24043899066178465},null,{"$f":"N10","v":1122},{"$f":"COUNTIF(L41:L74,Y10)","v":0},{"$f":"Z10/(AB4-Z20)","v":0},{"$f":"IF(AA10=0,0,(AA10*((LOG(AA10))/LOG(2))))","v":0},null,{"$f":"N10","v":1122},{"$f":"COUNTIF(L75:L108,AD10)","v":0},{"$f":"AE10/(AG4-AE20)","v":0},{"$f":"IF(AF10=0,0,(AF10*((LOG(AF10))/LOG(2))))","v":0},null,{"$f":"N10","v":1122},{"$f":"COUNTIF(L109:L142,AI10)","v":0},{"$f":"AJ10/(AL4-AJ20)","v":0},{"$f":"IF(AK10=0,0,(AK10*((LOG(AK10))/LOG(2))))","v":0},null,{"$f":"N10","v":1122},{"$f":"COUNTIF(L143:L176,AN10)","v":0},{"$f":"AO10/(AQ4-AO20)","v":0},{"$f":"IF(AP10=0,0,(AP10*((LOG(AP10))/LOG(2))))","v":0},null,{"$f":"N10","v":1122},{"$f":"COUNTIF(L177:L210,AS10)","v":0},{"$f":"AT10/(AV4-AT20)","v":0},{"$f":"IF(AU10=0,0,(AU10*((LOG(AU10))/LOG(2))))","v":0}]
[12,587,14,591,13,595,14,599,null,null,0,1111,null,1211,{"$f":"COUNTIF($L$7:$L$500,N11)","v":0},{"$f":"O11/$Q$4","v":0},{"$f":"IF(P11=0,0,(P11*((LOG(P11))/LOG(2))))","v":0},null,null,{"$f":"N11","v":1211},{"$f":"COUNTIF(L7:L40,T11)","v":0},{"$f":"U11/(W4-U20)","v":0},{"$f":"IF(V11=0,0,(V11*((LOG(V11))/LOG(2))))","v":0},null,{"$f":"N11","v":1211},{"$f":"COUNTIF(L41:L74,Y11)","v":0},{"$f":"Z11/(AB4-Z20)","v":0},{"$f":"IF(AA11=0,0,(AA11*((LOG(AA11))/LOG(2))))","v":0},null,{"$f":"N11","v":1211},{"$f":"COUNTIF(L75:L108,AD11)","v":0},{"$f":"AE11/(AG4-AE20)","v":0},{"$f":"IF(AF11=0,0,(AF11*((LOG(AF11))/LOG(2))))","v":0},null,{"$f":"N11","v":1211},{"$f":"COUNTIF(L109:L142,AI11)","v":0},{"$f":"AJ11/(AL4-AJ20)","v":0},{"$f":"IF(AK11=0,0,(AK11*((LOG(AK11))/LOG(2))))","v":0},null,{"$f":"N11","v":1211},{"$f":"COUNTIF(L143:L176,AN11)","v":0},{"$f":"AO11/(AQ4-AO20)","v":0},{"$f":"IF(AP11=0,0,(AP11*((LOG(AP11))/LOG(2))))","v":0},null,{"$f":"N11","v":1211},{"$f":"COUNTIF(L177:L210,AS11)","v":0},{"$f":"AT11/(AV4-AT20)","v":0},{"$f":"IF(AU11=0,0,(AU11*((LOG(AU11))/LOG(2))))","v":0}]
[12,696,14,700,13,704,14,709,null,null,0,1111,null,1212,{"$f":"COUNTIF($L$7:$L$500,N12)","v":0},{"$f":"O12/$Q$4","v":0},{"$f":"IF(P12=0,0,(P12*((LOG(P12))/LOG(2))))","v":0},null,null,{"$f":"N12","v":1212},{"$f":"COUNTIF(L7:L40,T12)","v":0},{"$f":"U12/(W4-U20)","v":0},{"$f":"IF(V12=0,0,(V12*((LOG(V12))/LOG(2))))","v":0},null,{"$f":"N12","v":1212},{"$f":"COUNTIF(L41:L74,Y12)","v":0},{"$f":"Z12/(AB4-Z20)","v":0},{"$f":"IF(AA12=0,0,(AA12*((LOG(AA12))/LOG(2))))","v":0},null,{"$f":"N12","v":1212},{"$f":"COUNTIF(L75:L108,AD12)","v":0},{"$f":"AE12/(AG4-AE20)","v":0},{"$f":"IF(AF12=0,0,(AF12*((LOG(AF12))/LOG(2))))","v":0},null,{"$f":"N12","v":1212},{"$f":"COUNTIF(L109:L142,AI12)","v":0},{"$f":"AJ12/(AL4-AJ20)","v":0},{"$f":"IF(AK12=0,0,(AK12*((LOG(AK12))/LOG(2))))","v":0},null,{"$f":"N12","v":1212},{"$f":"COUNTIF(L143:L176,AN12)","v":0},{"$f":"AO12/(AQ4-AO20)","v":0},{"$f":"IF(AP12=0,0,(AP12*((LOG(AP12))/LOG(2))))","v":0},null,{"$f":"N12","v":1212},{"$f":"COUNTIF(L177:L210,AS12)","v":0},{"$f":"AT12/(AV4-AT20)","v":0},{"$f":"IF(AU12=0,0,(AU12*((LOG(AU12))/LOG(2))))","v":0}]
[12,803,14,807,13,811,14,815,null,null,0,1111,null,1221,{"$f":"COUNTIF($L$7:$L$500,N13)","v":1},{"$f":"O13/$Q$4","v":4.9019607843137254E-3},{"$f":"IF(P13=0,0,(P13*((LOG(P13))/LOG(2))))","v":-3.7609928146919096E-2},null,null,{"$f":"N13","v":1221},{"$f":"COUNTIF(L7:L40,T13)","v":0},{"$f":"U13/(W4-U20)","v":0},{"$f":"IF(V13=0,0,(V13*((LOG(V13))/LOG(2))))","v":0},null,{"$f":"N13","v":1221},{"$f":"COUNTIF(L41:L74,Y13)","v":0},{"$f":"Z13/(AB4-Z20)","v":0},{"$f":"IF(AA13=0,0,(AA13*((LOG(AA13))/LOG(2))))","v":0},null,{"$f":"N13","v":1221},{"$f":"COUNTIF(L75:L108,AD13)","v":0},{"$f":"AE13/(AG4-AE20)","v":0},{"$f":"IF(AF13=0,0,(AF13*((LOG(AF13))/LOG(2))))","v":0},null,{"$f":"N13","v":1221},{"$f":"COUNTIF(L109:L142,AI13)","v":0},{"$f":"AJ13/(AL4-AJ20)","v":0},{"$f":"IF(AK13=0,0,(AK13*((LOG(AK13))/LOG(2))))","v":0},null,{"$f":"N13","v":1221},{"$f":"COUNTIF(L143:L176,AN13)","v":0},{"$f":"AO13/(AQ4-AO20)","v":0},{"$f":"IF(AP13=0,0,(AP13*((LOG(AP13))/LOG(2))))","v":0},null,{"$f":"N13","v":1221},{"$f":"COUNTIF(L177:L210,AS13)","v":1},{"$f":"AT13/(AV4-AT20)","v":2.9411764705882353E-2},{"$f":"IF(AU13=0,0,(AU13*((LOG(AU13))/LOG(2))))","v":-0.14963126003677468}]
[12,916,14,930,13,934,14,941,null,null,0,1111,null,1222,{"$f":"COUNTIF($L$7:$L$500,N14)","v":2},{"$f":"O14/$Q$4","v":9.8039215686274508E-3},{"$f":"IF(P14=0,0,(P14*((LOG(P14))/LOG(2))))","v":-6.5415934725210734E-2},null,null,{"$f":"N14","v":1222},{"$f":"COUNTIF(L7:L40,T14)","v":2},{"$f":"U14/(W4-U20)","v":5.8823529411764705E-2},{"$f":"IF(V14=0,0,(V14*((LOG(V14))/LOG(2))))","v":-0.24043899066178465},null,{"$f":"N14","v":1222},{"$f":"COUNTIF(L41:L74,Y14)","v":0},{"$f":"Z14/(AB4-Z20)","v":0},{"$f":"IF(AA14=0,0,(AA14*((LOG(AA14))/LOG(2))))","v":0},null,{"$f":"N14","v":1222},{"$f":"COUNTIF(L75:L108,AD14)","v":0},{"$f":"AE14/(AG4-AE20)","v":0},{"$f":"IF(AF14=0,0,(AF14*((LOG(AF14))/LOG(2))))","v":0},null,{"$f":"N14","v":1222},{"$f":"COUNTIF(L109:L142,AI14)","v":0},{"$f":"AJ14/(AL4-AJ20)","v":0},{"$f":"IF(AK14=0,0,(AK14*((LOG(AK14))/LOG(2))))","v":0},null,{"$f":"N14","v":1222},{"$f":"COUNTIF(L143:L176,AN14)","v":0},{"$f":"AO14/(AQ4-AO20)","v":0},{"$f":"IF(AP14=0,0,(AP14*((LOG(AP14))/LOG(2))))","v":0},null,{"$f":"N14","v":1222},{"$f":"COUNTIF(L177:L210,AS14)","v":0},{"$f":"AT14/(AV4-AT20)","v":0},{"$f":"IF(AU14=0,0,(AU14*((LOG(AU14))/LOG(2))))","v":0}]
[12,1055,23,1067,24,1075,23,1089,null,null,0,1222,null,2111,{"$f":"COUNTIF($L$7:$L$500,N15)","v":0},{"$f":"O15/$Q$4","v":0},{"$f":"IF(P15=0,0,(P15*((LOG(P15))/LOG(2))))","v":0},null,null,{"$f":"N15","v":2111},{"$f":"COUNTIF(L7:L40,T15)","v":0},{"$f":"U15/(W4-U20)","v":0},{"$f":"IF(V15=0,0,(V15*((LOG(V15))/LOG(2))))","v":0},null,{"$f":"N15","v":2111},{"$f":"COUNTIF(L41:L74,Y15)","v":0},{"$f":"Z15/(AB4-Z20)","v":0},{"$f":"IF(AA15=0,0,(AA15*((LOG(AA15))/LOG(2))))","v":0},null,{"$f":"N15","v":2111},{"$f":"COUNTIF(L75:L108,AD15)","v":0},{"$f":"AE15/(AG4-AE20)","v":0},{"$f":"IF(AF15=0,0,(AF15*((LOG(AF15))/LOG(2))))","v":0},null,{"$f":"N15","v":2111},{"$f":"COUNTIF(L109:L142,AI15)","v":0},{"$f":"AJ15/(AL4-AJ20)","v":0},{"$f":"IF(AK15=0,0,(AK15*((LOG(AK15))/LOG(2))))","v":0},null,{"$f":"N15","v":2111},{"$f":"COUNTIF(L143:L176,AN15)","v":0},{"$f":"AO15/(AQ4-AO20)","v":0},{"$f":"IF(AP15=0,0,(AP15*((LOG(AP15))/LOG(2))))","v":0},null,{"$f":"N15","v":2111},{"$f":"COUNTIF(L177:L210,AS15)","v":0},{"$f":"AT15/(AV4-AT20)","v":0},{"$f":"IF(AU15=0,0,(AU15*((LOG(AU15))/LOG(2))))","v":0}]
[12,1186,14,1190,13,1194,14,1200,null,null,0,1111,null,2112,{"$f":"COUNTIF($L$7:$L$500,N16)","v":0},{"$f":"O16/$Q$4","v":0},{"$f":"IF(P16=0,0,(P16*((LOG(P16))/LOG(2))))","v":0},null,null,{"$f":"N16","v":2112},{"$f":"COUNTIF(L7:L40,T16)","v":0},{"$f":"U16/(W4-U20)","v":0},{"$f":"IF(V16=0,0,(V16*((LOG(V16))/LOG(2))))","v":0},null,{"$f":"N16","v":2112},{"$f":"COUNTIF(L41:L74,Y16)","v":0},{"$f":"Z16/(AB4-Z20)","v":0},{"$f":"IF(AA16=0,0,(AA16*((LOG(AA16))/LOG(2))))","v":0},null,{"$f":"N16","v":2112},{"$f":"COUNTIF(L75:L108,AD16)","v":0},{"$f":"AE16/(AG4-AE20)","v":0},{"$f":"IF(AF16=0,0,(AF16*((LOG(AF16))/LOG(2))))","v":0},null,{"$f":"N16","v":2112},{"$f":"COUNTIF(L109:L142,AI16)","v":0},{"$f":"AJ16/(AL4-AJ20)","v":0},{"$f":"IF(AK16=0,0,(AK16*((LOG(AK16))/LOG(2))))","v":0},null,{"$f":"N16","v":2112},{"$f":"COUNTIF(L143:L176,AN16)","v":0},{"$f":"AO16/(AQ4-AO20)","v":0},{"$f":"IF(AP16=0,0,(AP16*((LOG(AP16))/LOG(2))))","v":0},null,{"$f":"N16","v":2112},{"$f":"COUNTIF(L177:L210,AS16)","v":0},{"$f":"AT16/(AV4-AT20)","v":0},{"$f":"IF(AU16=0,0,(AU16*((LOG(AU16))/LOG(2))))","v":0}]
[12,1292,14,1296,13,1301,14,1305,null,null,0,1111,null,2121,{"$f":"COUNTIF($L$7:$L$500,N17)","v":0},{"$f":"O17/$Q$4","v":0},{"$f":"IF(P17=0,0,(P17*((LOG(P17))/LOG(2))))","v":0},null,null,{"$f":"N17","v":2121},{"$f":"COUNTIF(L7:L40,T17)","v":0},{"$f":"U17/(W4-U20)","v":0},{"$f":"IF(V17=0,0,(V17*((LOG(V17))/LOG(2))))","v":0},null,{"$f":"N17","v":2121},{"$f":"COUNTIF(L41:L74,Y17)","v":0},{"$f":"Z17/(AB4-Z20)","v":0},{"$f":"IF(AA17=0,0,(AA17*((LOG(AA17))/LOG(2))))","v":0},null,{"$f":"N17","v":2121},{"$f":"COUNTIF(L75:L108,AD17)","v":0},{"$f":"AE17/(AG4-AE20)","v":0},{"$f":"IF(AF17=0,0,(AF17*((LOG(AF17))/LOG(2))))","v":0},null,{"$f":"N17","v":2121},{"$f":"COUNTIF(L109:L142,AI17)","v":0},{"$f":"AJ17/(AL4-AJ20)","v":0},{"$f":"IF(AK17=0,0,(AK17*((LOG(AK17))/LOG(2))))","v":0},null,{"$f":"N17","v":2121},{"$f":"COUNTIF(L143:L176,AN17)","v":0},{"$f":"AO17/(AQ4-AO20)","v":0},{"$f":"IF(AP17=0,0,(AP17*((LOG(AP17))/LOG(2))))","v":0},null,{"$f":"N17","v":2121},{"$f":"COUNTIF(L177:L210,AS17)","v":0},{"$f":"AT17/(AV4-AT20)","v":0},{"$f":"IF(AU17=0,0,(AU17*((LOG(AU17))/LOG(2))))","v":0}]
[12,1399,14,1407,13,1411,14,1419,null,null,0,1111,null,2122,{"$f":"COUNTIF($L$7:$L$500,N18)","v":0},{"$f":"O18/$Q$4","v":0},{"$f":"IF(P18=0,0,(P18*((LOG(P18))/LOG(2))))","v":0},null,null,{"$f":"N18","v":2122},{"$f":"COUNTIF(L7:L40,T18)","v":0},{"$f":"U18/(W4-U20)","v":0},{"$f":"IF(V18=0,0,(V18*((LOG(V18))/LOG(2))))","v":0},null,{"$f":"N18","v":2122},{"$f":"COUNTIF(L41:L74,Y18)","v":0},{"$f":"Z18/(AB4-Z20)","v":0},{"$f":"IF(AA18=0,0,(AA18*((LOG(AA18))/LOG(2))))","v":0},null,{"$f":"N18","v":2122},{"$f":"COUNTIF(L75:L108,AD18)","v":0},{"$f":"AE18/(AG4-AE20)","v":0},{"$f":"IF(AF18=0,0,(AF18*((LOG(AF18))/LOG(2))))","v":0},null,{"$f":"N18","v":2122},{"$f":"COUNTIF(L109:L142,AI18)","v":0},{"$f":"AJ18/(AL4-AJ20)","v":0},{"$f":"IF(AK18=0,0,(AK18*((LOG(AK18))/LOG(2))))","v":0},null,{"$f":"N18","v":2122},{"$f":"COUNTIF(L143:L176,AN18)","v":0},{"$f":"AO18/(AQ4-AO20)","v":0},{"$f":"IF(AP18=0,0,(AP18*((LOG(AP18))/LOG(2))))","v":0},null,{"$f":"N18","v":2122},{"$f":"COUNTIF(L177:L210,AS18)","v":0},{"$f":"AT18/(AV4-AT20)","v":0},{"$f":"IF(AU18=0,0,(AU18*((LOG(AU18))/LOG(2))))","v":0}]
[12,1518,14,1527,13,1535,14,1540,null,null,0,1111,null,2211,{"$f":"COUNTIF($L$7:$L$500,N19)","v":0},{"$f":"O19/$Q$4","v":0},{"$f":"IF(P19=0,0,(P19*((LOG(P19))/LOG(2))))","v":0},null,null,{"$f":"N19","v":2211},{"$f":"COUNTIF(L7:L40,T19)","v":0},{"$f":"U19/(W4-U20)","v":0},{"$f":"IF(V19=0,0,(V19*((LOG(V19))/LOG(2))))","v":0},null,{"$f":"N19","v":2211},{"$f":"COUNTIF(L41:L74,Y19)","v":0},{"$f":"Z19/(AB4-Z20)","v":0},{"$f":"IF(AA19=0,0,(AA19*((LOG(AA19))/LOG(2))))","v":0},null,{"$f":"N19","v":2211},{"$f":"COUNTIF(L75:L108,AD19)","v":0},{"$f":"AE19/(AG4-AE20)","v":0},{"$f":"IF(AF19=0,0,(AF19*((LOG(AF19))/LOG(2))))","v":0},null,{"$f":"N19","v":2211},{"$f":"COUNTIF(L109:L142,AI19)","v":0},{"$f":"AJ19/(AL4-AJ20)","v":0},{"$f":"IF(AK19=0,0,(AK19*((LOG(AK19))/LOG(2))))","v":0},null,{"$f":"N19","v":2211},{"$f":"COUNTIF(L143:L176,AN19)","v":0},{"$f":"AO19/(AQ4-AO20)","v":0},{"$f":"IF(AP19=0,0,(AP19*((LOG(AP19))/LOG(2))))","v":0},null,{"$f":"N19","v":2211},{"$f":"COUNTIF(L177:L210,AS19)","v":0},{"$f":"AT19/(AV4-AT20)","v":0},{"$f":"IF(AU19=0,0,(AU19*((LOG(AU19))/LOG(2))))","v":0}]
[12,1644,14,1648,13,1655,14,1659,null,null,0,1111,null,2212,{"$f":"COUNTIF($L$7:$L$500,N20)","v":0},{"$f":"O20/$Q$4","v":0},{"$f":"IF(P20=0,0,(P20*((LOG(P20))/LOG(2))))","v":0},null,null,{"$f":"N20","v":2212},{"$f":"COUNTIF(L7:L40,T20)","v":0},null,null,null,{"$f":"N20","v":2212},{"$f":"COUNTIF(L41:L74,Y20)","v":0},null,null,null,{"$f":"N20","v":2212},{"$f":"COUNTIF(L75:L108,AD20)","v":0},null,null,null,{"$f":"N20","v":2212},{"$f":"COUNTIF(L109:L142,AI20)","v":0},null,null,null,{"$f":"N20","v":2212},{"$f":"COUNTIF(L143:L176,AN20)","v":0},null,null,null,{"$f":"N20","v":2212},{"$f":"COUNTIF(L177:L210,AS20)","v":0}]
[12,1759,14,1764,13,1768,14,1775,null,null,0,1111,null,2221,{"$f":"COUNTIF($L$7:$L$500,N21)","v":0},{"$f":"O21/$Q$4","v":0},{"$f":"IF(P21=0,0,(P21*((LOG(P21))/LOG(2))))","v":0},null,null,{"$f":"N21","v":2221},{"$f":"COUNTIF(L7:L40,T21)","v":0},{"$f":"U21/(W4-U20)","v":0},{"$f":"IF(V21=0,0,(V21*((LOG(V21))/LOG(2))))","v":0},null,{"$f":"N21","v":2221},{"$f":"COUNTIF(L41:L74,Y21)","v":0},{"$f":"Z21/(AB4-Z20)","v":0},{"$f":"IF(AA21=0,0,(AA21*((LOG(AA21))/LOG(2))))","v":0},null,{"$f":"N21","v":2221},{"$f":"COUNTIF(L75:L108,AD21)","v":0},{"$f":"AE21/(AG4-AE20)","v":0},{"$f":"IF(AF21=0,0,(AF21*((LOG(AF21))/LOG(2))))","v":0},null,{"$f":"N21","v":2221},{"$f":"COUNTIF(L109:L142,AI21)","v":0},{"$f":"AJ21/(AL4-AJ20)","v":0},{"$f":"IF(AK21=0,0,(AK21*((LOG(AK21))/LOG(2))))","v":0},null,{"$f":"N21","v":2221},{"$f":"COUNTIF(L143:L176,AN21)","v":0},{"$f":"AO21/(AQ4-AO20)","v":0},{"$f":"IF(AP21=0,0,(AP21*((LOG(AP21))/LOG(2))))","v":0},null,{"$f":"N21","v":2221},{"$f":"COUNTIF(L177:L210,AS21)","v":0},{"$f":"AT21/(AV4-AT20)","v":0},{"$f":"IF(AU21=0,0,(AU21*((LOG(AU21))/LOG(2))))","v":0}]
[12,1879,14,1883,13,1886,14,1891,null,null,0,1111,null,2222,{"$f":"COUNTIF($L$7:$L$500,N22)","v":1},{"$f":"O22/$Q$4","v":4.9019607843137254E-3},{"$f":"IF(P22=0,0,(P22*((LOG(P22))/LOG(2))))","v":-3.7609928146919096E-2},null,null,{"$f":"N22","v":2222},{"$f":"COUNTIF(L7:L40,T22)","v":1},{"$f":"U22/(W4-U20)","v":2.9411764705882353E-2},{"$f":"IF(V22=0,0,(V22*((LOG(V22))/LOG(2))))","v":-0.14963126003677468},null,{"$f":"N22","v":2222},{"$f":"COUNTIF(L41:L74,Y22)","v":0},{"$f":"Z22/(AB4-Z20)","v":0},{"$f":"IF(AA22=0,0,(AA22*((LOG(AA22))/LOG(2))))","v":0},null,{"$f":"N22","v":2222},{"$f":"COUNTIF(L75:L108,AD22)","v":0},{"$f":"AE22/(AG4-AE20)","v":0},{"$f":"IF(AF22=0,0,(AF22*((LOG(AF22))/LOG(2))))","v":0},null,{"$f":"N22","v":2222},{"$f":"COUNTIF(L109:L142,AI22)","v":0},{"$f":"AJ22/(AL4-AJ20)","v":0},{"$f":"IF(AK22=0,0,(AK22*((LOG(AK22))/LOG(2))))","v":0},null,{"$f":"N22","v":2222},{"$f":"COUNTIF(L143:L176,AN22)","v":0},{"$f":"AO22/(AQ4-AO20)","v":0},{"$f":"IF(AP22=0,0,(AP22*((LOG(AP22))/LOG(2))))","v":0},null,{"$f":"N22","v":2222},{"$f":"COUNTIF(L177:L210,AS22)","v":0},{"$f":"AT22/(AV4-AT20)","v":0},{"$f":"IF(AU22=0,0,(AU22*((LOG(AU22))/LOG(2))))","v":0}]
[12,1996,14,2000,13,2008,14,2016,null,null,0,1111,null,null,null,{"$f":"SUM(P7:P22)","v":0.99999999999999989},{"$f":"-SUM(Q7:Q22)","v":0.37130077735789707},null,null,null,null,{"$f":"SUM(V7:V22)","v":1},{"$f":"-SUM(W7:W22)","v":0.82624375717093956},null,null,null,{"$f":"SUM(AA7:AA22)","v":1},{"$f":"-SUM(AB7:AB22)","v":0.19143325481419343},null,null,null,{"$f":"SUM(AF7:AF22)","v":1},{"$f":"-SUM(AG7:AG22)","v":0},null,null,null,{"$f":"SUM(AK7:AK22)","v":1},{"$f":"-SUM(AL7:AL22)","v":0},null,null,null,{"$f":"SUM(AP7:AP22)","v":1},{"$f":"-SUM(AQ7:AQ22)","v":0},null,null,null,{"$f":"SUM(AU7:AU22)","v":1},{"$f":"-SUM(AV7:AV22)","v":0.57040149942701202}]
[12,2116,14,2122,13,2126,14,2134,null,null,0,1111,null,null,null,"U=",{"$f":"Q23/(LOG(Q4)/LOG(2))","v":4.8394185776787002E-2},null,null,null,null,"U1=",{"$f":"W23/(LOG(W4)/LOG(2))","v":0.16240782153169983},null,null,null,"U2=",{"$f":"AB23/(LOG(AB4)/LOG(2))","v":3.7628433029919708E-2},null,null,null,"U3=",{"$f":"AG23/(LOG(AG4)/LOG(2))","v":0},null,null,null,"U4=",{"$f":"AL23/(LOG(AL4)/LOG(2))","v":0},null,null,null,"U5=",{"$f":"AQ23/(LOG(AQ4)/LOG(2))","v":0},null,null,null,"U6=",{"$f":"AV23/(LOG(AV4)/LOG(2))","v":0.11211904975542292}]
[12,2246,14,2256,13,2260,14,2268,null,null,0,1111]
[12,2368,14,2372,13,2375,14,2380,null,null,0,1111]
[12,2489,14,2495,13,2500,14,2504,null,null,0,1111,null,"Total Target Seq"]
[12,2603,14,2607,13,2611,14,2618,null,null,0,1111,null,{"$f":"COUNTIF(L7:L210,G3)","v":0},null,34,34,34,34,34,34]
[12,2720,14,2724,13,2728,14,2733,null,null,0,1111,null,null,null,"% of reinforcement given in 6 equal intervals based on number of trials "]
[12,2842,14,2846,13,2851,14,2855,null,null,0,1111,null,null,null,"%_1","%_2","%_3","%_4","%_5","%_6"]
[12,2954,14,2959,13,2965,14,2969,null,null,0,1111,null,null,"target sequence",{"$f":"$G$3","v":2212},{"$f":"$G$3","v":2212},{"$f":"$G$3","v":2212},{"$f":"$G$3","v":2212},{"$f":"$G$3","v":2212},{"$f":"$G$3","v":2212}]
[12,3062,14,3068,13,3081,14,3086,null,null,0,1111,null,null,"total reinforcement",{"$f":"U20","v":0},{"$f":"Z20","v":0},{"$f":"AE20","v":0},{"$f":"AJ20","v":0},{"$f":"AO20","v":0},{"$f":"AT20","v":0}]
[12,3190,14,3195,13,3215,14,3222,null,null,0,1111,null,null,"% target"]
[12,3327,14,3330,13,3338,14,3344,null,null,0,1111,null,null,"CCRF"]
[12,3446,14,3450,13,3455,14,3463,null,null,0,1111,null,null,"% CCRf"]
[12,3561,14,3565,13,3572,14,3577,null,null,0,1111,null,null,"average response rate",{"$f":"H40/P28","v":119.47058823529412},{"$f":"(H74-H40)/Q28","v":116.82352941176471},{"$f":"(H108-H74)/R28","v":115.41176470588235},{"$f":"(H142-H108)/S28","v":115.26470588235294},{"$f":"(H176-H142)/T28","v":114.20588235294117},{"$f":"(H210-H176)/U28","v":122.29411764705883}]
[12,3679,14,3683,13,3693,14,3697,null,null,0,1111]
[12,3804,14,3809,13,3813,14,3820,null,null,0,1111]
[12,3919,14,3925,24,3939,23,3947,null,null,0,1122]
[12,4050,14,4054,13,4058,14,4062,null,null,0,1111]
[12,4161,14,4165,13,4171,14,4175,null,null,0,1111]
[12,4273,14,4277,13,4281,14,4285,null,null,0,1111]
[12,4386,14,4391,13,4395,14,4399,null,null,0,1111]
[12,4494,14,4498,13,4501,14,4505,null,null,0,1111]
[12,4606,14,4610,13,4614,14,4619,null,null,0,1111]
[12,4722,14,4727,13,4733,14,4737,null,null,0,1111]
[12,4839,14,4843,13,4848,14,4855,null,null,0,1111]
[12,4959,14,4965,13,4973,14,4978,null,null,0,1111]
[12,5075,14,5079,13,5083,14,5087,null,null,0,1111]
[12,5189,14,5193,13,5197,14,5201,null,null,0,1111]
[12,5304,14,5308,13,5311,14,5315,null,null,0,1111]
[12,5415,14,5419,13,5423,14,5427,null,null,0,1111]
[12,5530,14,5538,13,5542,14,5546,null,null,0,1111]
[12,5647,14,5651,13,5654,14,5659,null,null,0,1111]
[12,5761,14,5767,13,5771,14,5779,null,null,0,1111]
[12,5879,14,5884,13,5889,14,5894,null,null,0,1111]
[12,5994,14,6001,13,6005,14,6010,null,null,0,1111]
[12,6111,14,6115,13,6120,14,6124,null,null,0,1111]
[12,6230,14,6234,13,6241,14,6253,null,null,0,1111]
[12,6353,14,6361,13,6365,14,6374,null,null,0,1111]
[12,6474,14,6478,13,6481,14,6484,null,null,0,1111]
[12,6584,14,6588,13,6593,14,6597,null,null,0,1111]
[12,6694,14,6698,13,6708,23,6740,null,null,0,1112]
[12,6837,14,6841,13,6845,14,6849,null,null,0,1111]
[12,6951,14,6969,13,6973,14,6981,null,null,0,1111]
[12,7077,14,7084,13,7088,14,7091,null,null,0,1111]
[12,7194,14,7198,13,7201,14,7207,null,null,0,1111]
[12,7307,14,7311,13,7315,14,7319,null,null,0,1111]
[12,7432,14,7436,13,7440,14,7444,null,null,0,1111]
[12,7549,14,7557,13,7564,14,7571,null,null,0,1111]
[12,7674,14,7679,13,7687,14,7692,null,null,0,1111]
[12,7792,14,7796,13,7800,14,7803,null,null,0,1111]
[12,7909,14,7913,13,7917,14,7921,null,null,0,1111]
[12,8021,14,8024,13,8028,14,8034,null,null,0,1111]
[12,8129,14,8134,13,8142,14,8146,null,null,0,1111]
[12,8249,14,8253,13,8261,14,8266,null,null,0,1111]
[12,8363,14,8367,13,8371,14,8376,null,null,0,1111]
[12,8479,14,8484,13,8489,14,8493,null,null,0,1111]
[12,8596,14,8601,13,8605,14,8609,null,null,0,1111]
[12,8709,14,8713,13,8716,14,8724,null,null,0,1111]
[12,8827,14,8834,13,8837,14,8843,null,null,0,1111]
[12,8949,14,8954,13,8962,14,8968,null,null,0,1111]
[12,9063,14,9067,13,9071,14,9076,null,null,0,1111]
[12,9175,14,9180,13,9183,14,9187,null,null,0,1111]
[12,9291,14,9299,13,9304,14,9312,null,null,0,1111]
[12,9409,14,9414,13,9419,14,9426,null,null,0,1111]
[12,9521,14,9526,13,9530,14,9534,null,null,0,1111]
[12,9632,14,9636,13,9641,14,9645,null,null,0,1111]
[12,9745,14,9749,13,9753,14,9757,null,null,0,1111]
[12,9859,14,9863,13,9866,14,9870,null,null,0,1111]
[12,9969,14,9973,13,9981,14,9988,null,null,0,1111]
[12,10089,14,10093,13,10096,14,10100,null,null,0,1111]
[12,10197,14,10202,13,10205,14,10209,null,null,0,1111]
[12,10302,14,10307,13,10311,14,10314,null,null,0,1111]
[12,10417,14,10421,13,10424,14,10428,null,null,0,1111]
[12,10527,14,10534,13,10538,14,10554,null,null,0,1111]
[12,10654,14,10658,13,10663,14,10669,null,null,0,1111]
[12,10767,14,10771,13,10775,14,10780,null,null,0,1111]
[12,10880,14,10884,13,10889,14,10893,null,null,0,1111]
[12,10995,14,10999,13,11007,14,11015,null,null,0,1111]
[12,11110,14,11115,13,11122,14,11140,null,null,0,1111]
[12,11238,14,11242,13,11246,14,11250,null,null,0,1111]
[12,11349,14,11353,13,11359,14,11364,null,null,0,1111]
[12,11459,14,11463,13,11468,14,11475,null,null,0,1111]
[12,11572,14,11577,13,11580,14,11584,null,null,0,1111]
[12,11691,14,11698,13,11705,14,11712,null,null,0,1111]
[12,11820,14,11823,13,11830,14,11838,null,null,0,1111]
[12,11941,14,11946,13,11953,14,11958,null,null,0,1111]
[12,12059,14,12063,13,12067,14,12071,null,null,0,1111]
[12,12174,14,12182,13,12192,14,12199,null,null,0,1111]
[12,12294,14,12298,13,12302,14,12305,null,null,0,1111]
[12,12401,14,12410,13,12414,14,12421,null,null,0,1111]
[12,12538,14,12542,13,12548,14,12555,null,null,0,1111]
[12,12657,14,12662,13,12666,14,12670,null,null,0,1111]
[12,12768,14,12774,13,12778,14,12801,null,null,0,1111]
[12,12901,14,12908,13,12915,14,12923,null,null,0,1111]
[12,13019,14,13024,13,13027,14,13031,null,null,0,1111]
[12,13131,14,13135,13,13148,14,13155,null,null,0,1111]
[12,13251,14,13255,13,13270,14,13274,null,null,0,1111]
[12,13370,14,13374,13,13378,14,13381,null,null,0,1111]
[12,13479,14,13483,13,13487,14,13492,null,null,0,1111]
[12,13587,14,13595,13,13598,14,13605,null,null,0,1111]
[12,13701,14,13712,13,13720,14,13727,null,null,0,1111]
[12,13824,14,13829,13,13833,14,13838,null,null,0,1111]
[12,13934,14,13938,13,13942,14,13946,null,null,0,1111]
[12,14045,14,14050,13,14055,14,14058,null,null,0,1111]
[12,14157,14,14165,13,14169,14,14183,null,null,0,1111]
[12,14284,14,14289,13,14294,14,14297,null,null,0,1111]
[12,14393,14,14406,13,14415,14,14421,null,null,0,1111]
[12,14521,14,14525,13,14529,14,14533,null,null,0,1111]
[12,14630,14,14634,13,14638,14,14643,null,null,0,1111]
[12,14740,14,14745,13,14756,14,14762,null,null,0,1111]
[12,14864,14,14869,13,14872,14,14876,null,null,0,1111]
[12,14975,14,14980,13,14985,14,14992,null,null,0,1111]
[12,15089,14,15093,13,15097,14,15101,null,null,0,1111]
[12,15200,14,15207,13,15216,14,15220,null,null,0,1111]
[12,15316,14,15321,13,15326,14,15330,null,null,0,1111]
[12,15426,14,15430,13,15436,14,15441,null,null,0,1111]
[12,15539,14,15543,13,15547,14,15551,null,null,0,1111]
[12,15647,14,15651,13,15655,14,15659,null,null,0,1111]
[12,15757,14,15761,13,15766,14,15770,null,null,0,1111]
[12,15865,14,15869,13,15873,14,15877,null,null,0,1111]
[12,15976,14,15981,13,15985,14,15988,null,null,0,1111]
[12,16084,14,16089,13,16093,14,16102,null,null,0,1111]
[12,16215,14,16219,13,16223,14,16227,null,null,0,1111]
[12,16354,14,16359,13,16362,14,16367,null,null,0,1111]
[12,16470,14,16475,13,16479,14,16484,null,null,0,1111]
[12,16584,14,16588,13,16593,14,16608,null,null,0,1111]
[12,16707,14,16711,13,16715,14,16719,null,null,0,1111]
[12,16824,14,16829,13,16833,14,16837,null,null,0,1111]
[12,16934,14,16938,13,16942,14,16946,null,null,0,1111]
[12,17042,14,17046,13,17049,14,17054,null,null,0,1111]
[12,17151,14,17155,13,17159,14,17163,null,null,0,1111]
[12,17262,14,17267,13,17272,14,17275,null,null,0,1111]
[12,17372,14,17376,13,17380,14,17383,null,null,0,1111]
[12,17481,14,17485,13,17489,14,17504,null,null,0,1111]
[12,17606,14,17610,13,17614,14,17618,null,null,0,1111]
[12,17718,14,17722,13,17726,14,17731,null,null,0,1111]
[12,17831,14,17844,13,17859,14,17866,null,null,0,1111]
[12,17962,14,17966,13,17970,14,17974,null,null,0,1111]
[12,18072,14,18077,13,18081,14,18090,null,null,0,1111]
[12,18188,14,18192,13,18196,14,18200,null,null,0,1111]
[12,18297,14,18301,13,18305,14,18308,null,null,0,1111]
[12,18403,14,18408,13,18412,14,18428,null,null,0,1111]
[12,18532,14,18545,13,18551,14,18557,null,null,0,1111]
[12,18657,14,18661,13,18666,14,18671,null,null,0,1111]
[12,18772,14,18776,13,18780,14,18789,null,null,0,1111]
[12,18884,14,18888,13,18893,14,18897,null,null,0,1111]
[12,18992,14,18996,13,19000,14,19003,null,null,0,1111]
[12,19094,14,19099,13,19102,14,19106,null,null,0,1111]
[12,19208,14,19212,13,19216,14,19221,null,null,0,1111]
[12,19318,14,19322,13,19326,14,19330,null,null,0,1111]
[12,19426,14,19430,13,19433,14,19437,null,null,0,1111]
[12,19533,14,19537,13,19540,14,19544,null,null,0,1111]
[12,19635,14,19640,13,19644,14,19648,null,null,0,1111]
[12,19744,14,19748,13,19756,14,19760,null,null,0,1111]
[12,19861,14,19865,13,19872,14,19877,null,null,0,1111]
[12,19981,14,19986,13,19990,14,19997,null,null,0,1111]
[12,20099,14,20107,13,20111,14,20121,null,null,0,1111]
[12,20219,14,20224,13,20228,14,20233,null,null,0,1111]
[12,20333,14,20337,13,20345,14,20352,null,null,0,1111]
[12,20450,14,20454,13,20458,14,20462,null,null,0,1111]
[12,20558,14,20562,13,20566,14,20570,null,null,0,1111]
[12,20667,14,20671,13,20675,14,20679,null,null,0,1111]
[12,20784,14,20788,13,20793,14,20800,null,null,0,1111]
[12,20898,14,20902,13,20906,14,20909,null,null,0,1111]
[12,21008,14,21012,13,21017,14,21021,null,null,0,1111]
[12,21117,14,21121,13,21130,14,21143,null,null,0,1111]
[12,21239,14,21245,13,21248,14,21253,null,null,0,1111]
[12,21362,14,21367,13,21383,23,21421,null,null,0,1112]
[12,21520,14,21524,13,21527,14,21533,null,null,0,1111]
[12,21636,14,21640,13,21643,14,21647,null,null,0,1111]
[12,21743,14,21756,13,21760,14,21767,null,null,0,1111]
[12,21864,14,21869,13,21874,14,21880,null,null,0,1111]
[12,21982,14,21986,13,21990,14,21994,null,null,0,1111]
[12,22091,14,22096,13,22100,14,22103,null,null,0,1111]
[12,22202,14,22206,13,22210,14,22213,null,null,0,1111]
[12,22311,14,22315,13,22319,14,22323,null,null,0,1111]
[12,22422,14,22427,13,22430,14,22434,null,null,0,1111]
[12,22536,14,22540,13,22549,14,22553,null,null,0,1111]
[12,22653,14,22657,13,22661,14,22664,null,null,0,1111]
[12,22761,14,22764,13,22768,14,22771,null,null,0,1111]
[12,22874,14,22878,13,22883,14,22887,null,null,0,1111]
[12,22995,14,23004,13,23008,14,23015,null,null,0,1111]
[12,23115,14,23121,24,23132,14,23158,null,null,0,1121]
[12,23257,14,23261,13,23264,14,23268,null,null,0,1111]
[12,23458,14,23464,13,23475,14,23484,null,null,0,1111]
[12,23597,14,23603,13,23611,14,23616,null,null,0,1111]
[12,23757,23,23768,24,23775,14,23792,null,null,0,1221]
[12,23886,14,23899,13,23903,14,23918,null,null,null,1111]

{"sheet":"!M905A10.104","index":22,"n_rows":204,"n_cols":48,"rows_kept":204,"cut":false,"hidden":false,"merged":[[4,39,4,42],[5,39,5,40],[4,44,4,47],[5,44,5,45],[4,24,4,27],[5,24,5,25],[4,29,4,32],[5,29,5,30],[4,34,4,37],[5,34,5,35],[1,1,1,2],[5,13,5,14],[26,13,26,14],[27,13,27,14],[4,19,4,22],[5,19,5,20]]}
["Report for:!M905A10.104"]
["Date:","<date>"]
["Hen:","<hen>",null,null,null,"Correct Sequence",{"$f":"Start!J2","v":2212},null,null,null,null,null,null,null,null,"Total Sequences in Data",{"$f":"4994-COUNTBLANK(L7:L5000)","v":198},null,null,null,null,"Total Sequences in Block Data",{"$f":"COUNTA(L7:L39)","v":33},null,null,null,"Total Sequences in Block Data",{"$f":"COUNTA(L40:L72)","v":33},null,null,null,"Total Sequences in Block Data",{"$f":"COUNTA(L73:L105)","v":33},null,null,null,"Total Sequences in Block Data",{"$f":"COUNTA(L106:L138)","v":33},null,null,null,"Total Sequences in Block Data",{"$f":"COUNTA(L139:L171)","v":33},null,null,null,"Total Sequences in Block Data",{"$f":"COUNTA(L172:L204)","v":33}]
[null,null,null,null,null,null,null,null,null,null,null,null,null,null,null,"Total Sequences in Summary",{"$f":"SUM(O7:O22)","v":198},null,null,null,null,"Total Sequences in Block Summary",{"$f":"SUM(U7:U22)","v":33},null,null,null,"Total Sequences in Block Summary",{"$f":"SUM(Z7:Z22)","v":33},null,null,null,"Total Sequences in Block Summary",{"$f":"SUM(AE7:AE22)","v":33},null,null,null,"Total Sequences in Block Summary",{"$f":"SUM(AJ7:AJ22)","v":33},null,null,null,"Total Sequences in Block Summary",{"$f":"SUM(AO7:AO22)","v":33},null,null,null,"Total Sequences in Block Summary",{"$f":"SUM(AT7:AT22)","v":33}]
[null,null,null,null,null,null,null,null,null,null,null,null,null,null,null,null,null,null,null,"Block 1",null,null,null,null,"Block 2",null,null,null,null,"Block 3",null,null,null,null,"Block 4",null,null,null,null,"Block 5",null,null,null,null,"Block 6"]
["Sequence\nComponent\n1","Time\n1","Sequence\nComponent\n2","Time\n2","Sequence\nComponent\n3","Time\n3","Sequence\nComponent\n4","Time\n4","Sequence\nComponent\n5","Time\n5","Correct?\n0=No 1=Yes","Sequence",null,"Frequency",null,"Relative Frequency","Variability",null,null,"Frequency",null,"Relative Frequency","Variability",null,"Frequency",null,"Relative Frequency","Variability",null,"Frequency",null,"Relative Frequency","Variability",null,"Frequency",null,"Relative Frequency","Variability",null,"Frequency",null,"Relative Frequency","Variability",null,"Frequency",null,"Relative Frequency","Variability"]
[12,24,14,29,13,33,14,37,null,null,0,1111,null,1111,{"$f":"COUNTIF($L$7:$L$500,N7)","v":194},{"$f":"O7/$Q$4","v":0.97979797979797978},{"$f":"IF(P7=0,0,(P7*((LOG(P7))/LOG(2))))","v":-2.8848954096674252E-2},null,null,{"$f":"N7","v":1111},{"$f":"COUNTIF(L7:L39,T7)","v":30},{"$f":"U7/(W4-U20)","v":0.90909090909090906},{"$f":"IF(V7=0,0,(V7*((LOG(V7))/LOG(2))))","v":-0.12500320340903179},null,{"$f":"N7","v":1111},{"$f":"COUNTIF(L40:L72,Y7)","v":32},{"$f":"Z7/(AB4-Z20)","v":0.96969696969696972},{"$f":"IF(AA7=0,0,(AA7*((LOG(AA7))/LOG(2))))","v":-4.3048843014257841E-2},null,{"$f":"N7","v":1111},{"$f":"COUNTIF(L73:L105,AD7)","v":33},{"$f":"AE7/(AG4-AE20)","v":1},{"$f":"IF(AF7=0,0,(AF7*((LOG(AF7))/LOG(2))))","v":0},null,{"$f":"N7","v":1111},{"$f":"COUNTIF(L106:L138,AI7)","v":33},{"$f":"AJ7/(AL4-AJ20)","v":1},{"$f":"IF(AK7=0,0,(AK7*((LOG(AK7))/LOG(2))))","v":0},null,{"$f":"N7","v":1111},{"$f":"COUNTIF(L139:L171,AN7)","v":33},{"$f":"AO7/(AQ4-AO20)","v":1},{"$f":"IF(AP7=0,0,(AP7*((LOG(AP7))/LOG(2))))","v":0},null,{"$f":"N7","v":1111},{"$f":"COUNTIF(L172:L204,AS7)","v":33},{"$f":"AT7/(AV4-AT20)","v":1},{"$f":"IF(AU7=0,0,(AU7*((LOG(AU7))/LOG(2))))","v":0}]
[12,148,14,152,13,156,14,160,null,null,0,1111,null,1112,{"$f":"COUNTIF($L$7:$L$500,N8)","v":0},{"$f":"O8/$Q$4","v":0},{"$f":"IF(P8=0,0,(P8*((LOG(P8))/LOG(2))))","v":0},null,null,{"$f":"N8","v":1112},{"$f":"COUNTIF(L7:L39,T8)","v":0},{"$f":"U8/(W4-U20)","v":0},{"$f":"IF(V8=0,0,(V8*((LOG(V8))/LOG(2))))","v":0},null,{"$f":"N8","v":1112},{"$f":"COUNTIF(L40:L72,Y8)","v":0},{"$f":"Z8/(AB4-Z20)","v":0},{"$f":"IF(AA8=0,0,(AA8*((LOG(AA8))/LOG(2))))","v":0},null,{"$f":"N8","v":1112},{"$f":"COUNTIF(L73:L105,AD8)","v":0},{"$f":"AE8/(AG4-AE20)","v":0},{"$f":"IF(AF8=0,0,(AF8*((LOG(AF8))/LOG(2))))","v":0},null,{"$f":"N8","v":1112},{"$f":"COUNTIF(L106:L138,AI8)","v":0},{"$f":"AJ8/(AL4-AJ20)","v":0},{"$f":"IF(AK8=0,0,(AK8*((LOG(AK8))/LOG(2))))","v":0},null,{"$f":"N8","v":1112},{"$f":"COUNTIF(L139:L171,AN8)","v":0},{"$f":"AO8/(AQ4-AO20)","v":0},{"$f":"IF(AP8=0,0,(AP8*((LOG(AP8))/LOG(2))))","v":0},null,{"$f":"N8","v":1112},{"$f":"COUNTIF(L172:L204,AS8)","v":0},{"$f":"AT8/(AV4-AT20)","v":0},{"$f":"IF(AU8=0,0,(AU8*((LOG(AU8))/LOG(2))))","v":0}]
[12,276,14,281,13,289,14,298,null,null,0,1111,null,1121,{"$f":"COUNTIF($L$7:$L$500,N9)","v":0},{"$f":"O9/$Q$4","v":0},{"$f":"IF(P9=0,0,(P9*((LOG(P9))/LOG(2))))","v":0},null,null,{"$f":"N9","v":1121},{"$f":"COUNTIF(L7:L39,T9)","v":0},{"$f":"U9/(W4-U20)","v":0},{"$f":"IF(V9=0,0,(V9*((LOG(V9))/LOG(2))))","v":0},null,{"$f":"N9","v":1121},{"$f":"COUNTIF(L40:L72,Y9)","v":0},{"$f":"Z9/(AB4-Z20)","v":0},{"$f":"IF(AA9=0,0,(AA9*((LOG(AA9))/LOG(2))))","v":0},null,{"$f":"N9","v":1121},{"$f":"COUNTIF(L73:L105,AD9)","v":0},{"$f":"AE9/(AG4-AE20)","v":0},{"$f":"IF(AF9=0,0,(AF9*((LOG(AF9))/LOG(2))))","v":0},null,{"$f":"N9","v":1121},{"$f":"COUNTIF(L106:L138,AI9)","v":0},{"$f":"AJ9/(AL4-AJ20)","v":0},{"$f":"IF(AK9=0,0,(AK9*((LOG(AK9))/LOG(2))))","v":0},null,{"$f":"N9","v":1121},{"$f":"COUNTIF(L139:L171,AN9)","v":0},{"$f":"AO9/(AQ4-AO20)","v":0},{"$f":"IF(AP9=0,0,(AP9*((LOG(AP9))/LOG(2))))","v":0},null,{"$f":"N9","v":1121},{"$f":"COUNTIF(L172:L204,AS9)","v":0},{"$f":"AT9/(AV4-AT20)","v":0},{"$f":"IF(AU9=0,0,(AU9*((LOG(AU9))/LOG(2))))","v":0}]
[12,416,14,420,13,425,14,429,null,null,0,1111,null,1122,{"$f":"COUNTIF($L$7:$L$500,N10)","v":0},{"$f":"O10/$Q$4","v":0},{"$f":"IF(P10=0,0,(P10*((LOG(P10))/LOG(2))))","v":0},null,null,{"$f":"N10","v":1122},{"$f":"COUNTIF(L7:L39,T10)","v":0},{"$f":"U10/(W4-U20)","v":0},{"$f":"IF(V10=0,0,(V10*((LOG(V10))/LOG(2))))","v":0},null,{"$f":"N10","v":1122},{"$f":"COUNTIF(L40:L72,Y10)","v":0},{"$f":"Z10/(AB4-Z20)","v":0},{"$f":"IF(AA10=0,0,(AA10*((LOG(AA10))/LOG(2))))","v":0},null,{"$f":"N10","v":1122},{"$f":"COUNTIF(L73:L105,AD10)","v":0},{"$f":"AE10/(AG4-AE20)","v":0},{"$f":"IF(AF10=0,0,(AF10*((LOG(AF10))/LOG(2))))","v":0},null,{"$f":"N10","v":1122},{"$f":"COUNTIF(L106:L138,AI10)","v":0},{"$f":"AJ10/(AL4-AJ20)","v":0},{"$f":"IF(AK10=0,0,(AK10*((LOG(AK10))/LOG(2))))","v":0},null,{"$f":"N10","v":1122},{"$f":"COUNTIF(L139:L171,AN10)","v":0},{"$f":"AO10/(AQ4-AO20)","v":0},{"$f":"IF(AP10=0,0,(AP10*((LOG(AP10))/LOG(2))))","v":0},null,{"$f":"N10","v":1122},{"$f":"COUNTIF(L172:L204,AS10)","v":0},{"$f":"AT10/(AV4-AT20)","v":0},{"$f":"IF(AU10=0,0,(AU10*((LOG(AU10))/LOG(2))))","v":0}]
[12,529,14,533,13,536,14,540,null,null,0,1111,null,1211,{"$f":"COUNTIF($L$7:$L$500,N11)","v":1},{"$f":"O11/$Q$4","v":5.0505050505050509E-3},{"$f":"IF(P11=0,0,(P11*((LOG(P11))/LOG(2))))","v":-3.8532104141816209E-2},null,null,{"$f":"N11","v":1211},{"$f":"COUNTIF(L7:L39,T11)","v":1},{"$f":"U11/(W4-U20)","v":3.0303030303030304E-2},{"$f":"IF(V11=0,0,(V11*((LOG(V11))/LOG(2))))","v":-0.15286042785934709},null,{"$f":"N11","v":1211},{"$f":"COUNTIF(L40:L72,Y11)","v":0},{"$f":"Z11/(AB4-Z20)","v":0},{"$f":"IF(AA11=0,0,(AA11*((LOG(AA11))/LOG(2))))","v":0},null,{"$f":"N11","v":1211},{"$f":"COUNTIF(L73:L105,AD11)","v":0},{"$f":"AE11/(AG4-AE20)","v":0},{"$f":"IF(AF11=0,0,(AF11*((LOG(AF11))/LOG(2))))","v":0},null,{"$f":"N11","v":1211},{"$f":"COUNTIF(L106:L138,AI11)","v":0},{"$f":"AJ11/(AL4-AJ20)","v":0},{"$f":"IF(AK11=0,0,(AK11*((LOG(AK11))/LOG(2))))","v":0},null,{"$f":"N11","v":1211},{"$f":"COUNTIF(L139:L171,AN11)","v":0},{"$f":"AO11/(AQ4-AO20)","v":0},{"$f":"IF(AP11=0,0,(AP11*((LOG(AP11))/LOG(2))))","v":0},null,{"$f":"N11","v":1211},{"$f":"COUNTIF(L172:L204,AS11)","v":0},{"$f":"AT11/(AV4-AT20)","v":0},{"$f":"IF(AU11=0,0,(AU11*((LOG(AU11))/LOG(2))))","v":0}]
[12,649,14,653,13,657,14,661,null,null,0,1111,null,1212,{"$f":"COUNTIF($L$7:$L$500,N12)","v":0},{"$f":"O12/$Q$4","v":0},{"$f":"IF(P12=0,0,(P12*((LOG(P12))/LOG(2))))","v":0},null,null,{"$f":"N12","v":1212},{"$f":"COUNTIF(L7:L39,T12)","v":0},{"$f":"U12/(W4-U20)","v":0},{"$f":"IF(V12=0,0,(V12*((LOG(V12))/LOG(2))))","v":0},null,{"$f":"N12","v":1212},{"$f":"COUNTIF(L40:L72,Y12)","v":0},{"$f":"Z12/(AB4-Z20)","v":0},{"$f":"IF(AA12=0,0,(AA12*((LOG(AA12))/LOG(2))))","v":0},null,{"$f":"N12","v":1212},{"$f":"COUNTIF(L73:L105,AD12)","v":0},{"$f":"AE12/(AG4-AE20)","v":0},{"$f":"IF(AF12=0,0,(AF12*((LOG(AF12))/LOG(2))))","v":0},null,{"$f":"N12","v":1212},{"$f":"COUNTIF(L106:L138,AI12)","v":0},{"$f":"AJ12/(AL4-AJ20)","v":0},{"$f":"IF(AK12=0,0,(AK12*((LOG(AK12))/LOG(2))))","v":0},null,{"$f":"N12","v":1212},{"$f":"COUNTIF(L139:L171,AN12)","v":0},{"$f":"AO12/(AQ4-AO20)","v":0},{"$f":"IF(AP12=0,0,(AP12*((LOG(AP12))/LOG(2))))","v":0},null,{"$f":"N12","v":1212},{"$f":"COUNTIF(L172:L204,AS12)","v":0},{"$f":"AT12/(AV4-AT20)","v":0},{"$f":"IF(AU12=0,0,(AU12*((LOG(AU12))/LOG(2))))","v":0}]
[12,770,14,776,13,780,14,786,null,null,0,1111,null,1221,{"$f":"COUNTIF($L$7:$L$500,N13)","v":0},{"$f":"O13/$Q$4","v":0},{"$f":"IF(P13=0,0,(P13*((LOG(P13))/LOG(2))))","v":0},null,null,{"$f":"N13","v":1221},{"$f":"COUNTIF(L7:L39,T13)","v":0},{"$f":"U13/(W4-U20)","v":0},{"$f":"IF(V13=0,0,(V13*((LOG(V13))/LOG(2))))","v":0},null,{"$f":"N13","v":1221},{"$f":"COUNTIF(L40:L72,Y13)","v":0},{"$f":"Z13/(AB4-Z20)","v":0},{"$f":"IF(AA13=0,0,(AA13*((LOG(AA13))/LOG(2))))","v":0},null,{"$f":"N13","v":1221},{"$f":"COUNTIF(L73:L105,AD13)","v":0},{"$f":"AE13/(AG4-AE20)","v":0},{"$f":"IF(AF13=0,0,(AF13*((LOG(AF13))/LOG(2))))","v":0},null,{"$f":"N13","v":1221},{"$f":"COUNTIF(L106:L138,AI13)","v":0},{"$f":"AJ13/(AL4-AJ20)","v":0},{"$f":"IF(AK13=0,0,(AK13*((LOG(AK13))/LOG(2))))","v":0},null,{"$f":"N13","v":1221},{"$f":"COUNTIF(L139:L171,AN13)","v":0},{"$f":"AO13/(AQ4-AO20)","v":0},{"$f":"IF(AP13=0,0,(AP13*((LOG(AP13))/LOG(2))))","v":0},null,{"$f":"N13","v":1221},{"$f":"COUNTIF(L172:L204,AS13)","v":0},{"$f":"AT13/(AV4-AT20)","v":0},{"$f":"IF(AU13=0,0,(AU13*((LOG(AU13))/LOG(2))))","v":0}]
[12,916,14,924,13,928,14,936,null,null,0,1111,null,1222,{"$f":"COUNTIF($L$7:$L$500,N14)","v":0},{"$f":"O14/$Q$4","v":0},{"$f":"IF(P14=0,0,(P14*((LOG(P14))/LOG(2))))","v":0},null,null,{"$f":"N14","v":1222},{"$f":"COUNTIF(L7:L39,T14)","v":0},{"$f":"U14/(W4-U20)","v":0},{"$f":"IF(V14=0,0,(V14*((LOG(V14))/LOG(2))))","v":0},null,{"$f":"N14","v":1222},{"$f":"COUNTIF(L40:L72,Y14)","v":0},{"$f":"Z14/(AB4-Z20)","v":0},{"$f":"IF(AA14=0,0,(AA14*((LOG(AA14))/LOG(2))))","v":0},null,{"$f":"N14","v":1222},{"$f":"COUNTIF(L73:L105,AD14)","v":0},{"$f":"AE14/(AG4-AE20)","v":0},{"$f":"IF(AF14=0,0,(AF14*((LOG(AF14))/LOG(2))))","v":0},null,{"$f":"N14","v":1222},{"$f":"COUNTIF(L106:L138,AI14)","v":0},{"$f":"AJ14/(AL4-AJ20)","v":0},{"$f":"IF(AK14=0,0,(AK14*((LOG(AK14))/LOG(2))))","v":0},null,{"$f":"N14","v":1222},{"$f":"COUNTIF(L139:L171,AN14)","v":0},{"$f":"AO14/(AQ4-AO20)","v":0},{"$f":"IF(AP14=0,0,(AP14*((LOG(AP14))/LOG(2))))","v":0},null,{"$f":"N14","v":1222},{"$f":"COUNTIF(L172:L204,AS14)","v":0},{"$f":"AT14/(AV4-AT20)","v":0},{"$f":"IF(AU14=0,0,(AU14*((LOG(AU14))/LOG(2))))","v":0}]
[12,1043,14,1048,13,1052,14,1057,null,null,0,1111,null,2111,{"$f":"COUNTIF($L$7:$L$500,N15)","v":1},{"$f":"O15/$Q$4","v":5.0505050505050509E-3},{"$f":"IF(P15=0,0,(P15*((LOG(P15))/LOG(2))))","v":-3.8532104141816209E-2},null,null,{"$f":"N15","v":2111},{"$f":"COUNTIF(L7:L39,T15)","v":0},{"$f":"U15/(W4-U20)","v":0},{"$f":"IF(V15=0,0,(V15*((LOG(V15))/LOG(2))))","v":0},null,{"$f":"N15","v":2111},{"$f":"COUNTIF(L40:L72,Y15)","v":1},{"$f":"Z15/(AB4-Z20)","v":3.0303030303030304E-2},{"$f":"IF(AA15=0,0,(AA15*((LOG(AA15))/LOG(2))))","v":-0.15286042785934709},null,{"$f":"N15","v":2111},{"$f":"COUNTIF(L73:L105,AD15)","v":0},{"$f":"AE15/(AG4-AE20)","v":0},{"$f":"IF(AF15=0,0,(AF15*((LOG(AF15))/LOG(2))))","v":0},null,{"$f":"N15","v":2111},{"$f":"COUNTIF(L106:L138,AI15)","v":0},{"$f":"AJ15/(AL4-AJ20)","v":0},{"$f":"IF(AK15=0,0,(AK15*((LOG(AK15))/LOG(2))))","v":0},null,{"$f":"N15","v":2111},{"$f":"COUNTIF(L139:L171,AN15)","v":0},{"$f":"AO15/(AQ4-AO20)","v":0},{"$f":"IF(AP15=0,0,(AP15*((LOG(AP15))/LOG(2))))","v":0},null,{"$f":"N15","v":2111},{"$f":"COUNTIF(L172:L204,AS15)","v":0},{"$f":"AT15/(AV4-AT20)","v":0},{"$f":"IF(AU15=0,0,(AU15*((LOG(AU15))/LOG(2))))","v":0}]
[12,1168,14,1172,13,1176,14,1181,null,null,0,1111,null,2112,{"$f":"COUNTIF($L$7:$L$500,N16)","v":0},{"$f":"O16/$Q$4","v":0},{"$f":"IF(P16=0,0,(P16*((LOG(P16))/LOG(2))))","v":0},null,null,{"$f":"N16","v":2112},{"$f":"COUNTIF(L7:L39,T16)","v":0},{"$f":"U16/(W4-U20)","v":0},{"$f":"IF(V16=0,0,(V16*((LOG(V16))/LOG(2))))","v":0},null,{"$f":"N16","v":2112},{"$f":"COUNTIF(L40:L72,Y16)","v":0},{"$f":"Z16/(AB4-Z20)","v":0},{"$f":"IF(AA16=0,0,(AA16*((LOG(AA16))/LOG(2))))","v":0},null,{"$f":"N16","v":2112},{"$f":"COUNTIF(L73:L105,AD16)","v":0},{"$f":"AE16/(AG4-AE20)","v":0},{"$f":"IF(AF16=0,0,(AF16*((LOG(AF16))/LOG(2))))","v":0},null,{"$f":"N16","v":2112},{"$f":"COUNTIF(L106:L138,AI16)","v":0},{"$f":"AJ16/(AL4-AJ20)","v":0},{"$f":"IF(AK16=0,0,(AK16*((LOG(AK16))/LOG(2))))","v":0},null,{"$f":"N16","v":2112},{"$f":"COUNTIF(L139:L171,AN16)","v":0},{"$f":"AO16/(AQ4-AO20)","v":0},{"$f":"IF(AP16=0,0,(AP16*((LOG(AP16))/LOG(2))))","v":0},null,{"$f":"N16","v":2112},{"$f":"COUNTIF(L172:L204,AS16)","v":0},{"$f":"AT16/(AV4-AT20)","v":0},{"$f":"IF(AU16=0,0,(AU16*((LOG(AU16))/LOG(2))))","v":0}]
[12,1290,23,1301,13,1314,14,1318,null,null,0,1211,null,2121,{"$f":"COUNTIF($L$7:$L$500,N17)","v":0},{"$f":"O17/$Q$4","v":0},{"$f":"IF(P17=0,0,(P17*((LOG(P17))/LOG(2))))","v":0},null,null,{"$f":"N17","v":2121},{"$f":"COUNTIF(L7:L39,T17)","v":0},{"$f":"U17/(W4-U20)","v":0},{"$f":"IF(V17=0,0,(V17*((LOG(V17))/LOG(2))))","v":0},null,{"$f":"N17","v":2121},{"$f":"COUNTIF(L40:L72,Y17)","v":0},{"$f":"Z17/(AB4-Z20)","v":0},{"$f":"IF(AA17=0,0,(AA17*((LOG(AA17))/LOG(2))))","v":0},null,{"$f":"N17","v":2121},{"$f":"COUNTIF(L73:L105,AD17)","v":0},{"$f":"AE17/(AG4-AE20)","v":0},{"$f":"IF(AF17=0,0,(AF17*((LOG(AF17))/LOG(2))))","v":0},null,{"$f":"N17","v":2121},{"$f":"COUNTIF(L106:L138,AI17)","v":0},{"$f":"AJ17/(AL4-AJ20)","v":0},{"$f":"IF(AK17=0,0,(AK17*((LOG(AK17))/LOG(2))))","v":0},null,{"$f":"N17","v":2121},{"$f":"COUNTIF(L139:L171,AN17)","v":0},{"$f":"AO17/(AQ4-AO20)","v":0},{"$f":"IF(AP17=0,0,(AP17*((LOG(AP17))/LOG(2))))","v":0},null,{"$f":"N17","v":2121},{"$f":"COUNTIF(L172:L204,AS17)","v":0},{"$f":"AT17/(AV4-AT20)","v":0},{"$f":"IF(AU17=0,0,(AU17*((LOG(AU17))/LOG(2))))","v":0}]
[12,1423,14,1427,13,1435,14,1439,null,null,0,1111,null,2122,{"$f":"COUNTIF($L$7:$L$500,N18)","v":0},{"$f":"O18/$Q$4","v":0},{"$f":"IF(P18=0,0,(P18*((LOG(P18))/LOG(2))))","v":0},null,null,{"$f":"N18","v":2122},{"$f":"COUNTIF(L7:L39,T18)","v":0},{"$f":"U18/(W4-U20)","v":0},{"$f":"IF(V18=0,0,(V18*((LOG(V18))/LOG(2))))","v":0},null,{"$f":"N18","v":2122},{"$f":"COUNTIF(L40:L72,Y18)","v":0},{"$f":"Z18/(AB4-Z20)","v":0},{"$f":"IF(AA18=0,0,(AA18*((LOG(AA18))/LOG(2))))","v":0},null,{"$f":"N18","v":2122},{"$f":"COUNTIF(L73:L105,AD18)","v":0},{"$f":"AE18/(AG4-AE20)","v":0},{"$f":"IF(AF18=0,0,(AF18*((LOG(AF18))/LOG(2))))","v":0},null,{"$f":"N18","v":2122},{"$f":"COUNTIF(L106:L138,AI18)","v":0},{"$f":"AJ18/(AL4-AJ20)","v":0},{"$f":"IF(AK18=0,0,(AK18*((LOG(AK18))/LOG(2))))","v":0},null,{"$f":"N18","v":2122},{"$f":"COUNTIF(L139:L171,AN18)","v":0},{"$f":"AO18/(AQ4-AO20)","v":0},{"$f":"IF(AP18=0,0,(AP18*((LOG(AP18))/LOG(2))))","v":0},null,{"$f":"N18","v":2122},{"$f":"COUNTIF(L172:L204,AS18)","v":0},{"$f":"AT18/(AV4-AT20)","v":0},{"$f":"IF(AU18=0,0,(AU18*((LOG(AU18))/LOG(2))))","v":0}]
[12,1543,14,1548,13,1558,14,1565,null,null,0,1111,null,2211,{"$f":"COUNTIF($L$7:$L$500,N19)","v":0},{"$f":"O19/$Q$4","v":0},{"$f":"IF(P19=0,0,(P19*((LOG(P19))/LOG(2))))","v":0},null,null,{"$f":"N19","v":2211},{"$f":"COUNTIF(L7:L39,T19)","v":0},{"$f":"U19/(W4-U20)","v":0},{"$f":"IF(V19=0,0,(V19*((LOG(V19))/LOG(2))))","v":0},null,{"$f":"N19","v":2211},{"$f":"COUNTIF(L40:L72,Y19)","v":0},{"$f":"Z19/(AB4-Z20)","v":0},{"$f":"IF(AA19=0,0,(AA19*((LOG(AA19))/LOG(2))))","v":0},null,{"$f":"N19","v":2211},{"$f":"COUNTIF(L73:L105,AD19)","v":0},{"$f":"AE19/(AG4-AE20)","v":0},{"$f":"IF(AF19=0,0,(AF19*((LOG(AF19))/LOG(2))))","v":0},null,{"$f":"N19","v":2211},{"$f":"COUNTIF(L106:L138,AI19)","v":0},{"$f":"AJ19/(AL4-AJ20)","v":0},{"$f":"IF(AK19=0,0,(AK19*((LOG(AK19))/LOG(2))))","v":0},null,{"$f":"N19","v":2211},{"$f":"COUNTIF(L139:L171,AN19)","v":0},{"$f":"AO19/(AQ4-AO20)","v":0},{"$f":"IF(AP19=0,0,(AP19*((LOG(AP19))/LOG(2))))","v":0},null,{"$f":"N19","v":2211},{"$f":"COUNTIF(L172:L204,AS19)","v":0},{"$f":"AT19/(AV4-AT20)","v":0},{"$f":"IF(AU19=0,0,(AU19*((LOG(AU19))/LOG(2))))","v":0}]
[12,1663,14,1670,13,1678,14,1682,null,null,0,1111,null,2212,{"$f":"COUNTIF($L$7:$L$500,N20)","v":0},{"$f":"O20/$Q$4","v":0},{"$f":"IF(P20=0,0,(P20*((LOG(P20))/LOG(2))))","v":0},null,null,{"$f":"N20","v":2212},{"$f":"COUNTIF(L7:L39,T20)","v":0},null,null,null,{"$f":"N20","v":2212},{"$f":"COUNTIF(L40:L72,Y20)","v":0},null,null,null,{"$f":"N20","v":2212},{"$f":"COUNTIF(L73:L105,AD20)","v":0},null,null,null,{"$f":"N20","v":2212},{"$f":"COUNTIF(L106:L138,AI20)","v":0},null,null,null,{"$f":"N20","v":2212},{"$f":"COUNTIF(L139:L171,AN20)","v":0},null,null,null,{"$f":"N20","v":2212},{"$f":"COUNTIF(L172:L204,AS20)","v":0}]
[12,1790,14,1795,13,1799,14,1807,null,null,0,1111,null,2221,{"$f":"COUNTIF($L$7:$L$500,N21)","v":0},{"$f":"O21/$Q$4","v":0},{"$f":"IF(P21=0,0,(P21*((LOG(P21))/LOG(2))))","v":0},null,null,{"$f":"N21","v":2221},{"$f":"COUNTIF(L7:L39,T21)","v":0},{"$f":"U21/(W4-U20)","v":0},{"$f":"IF(V21=0,0,(V21*((LOG(V21))/LOG(2))))","v":0},null,{"$f":"N21","v":2221},{"$f":"COUNTIF(L40:L72,Y21)","v":0},{"$f":"Z21/(AB4-Z20)","v":0},{"$f":"IF(AA21=0,0,(AA21*((LOG(AA21))/LOG(2))))","v":0},null,{"$f":"N21","v":2221},{"$f":"COUNTIF(L73:L105,AD21)","v":0},{"$f":"AE21/(AG4-AE20)","v":0},{"$f":"IF(AF21=0,0,(AF21*((LOG(AF21))/LOG(2))))","v":0},null,{"$f":"N21","v":2221},{"$f":"COUNTIF(L106:L138,AI21)","v":0},{"$f":"AJ21/(AL4-AJ20)","v":0},{"$f":"IF(AK21=0,0,(AK21*((LOG(AK21))/LOG(2))))","v":0},null,{"$f":"N21","v":2221},{"$f":"COUNTIF(L139:L171,AN21)","v":0},{"$f":"AO21/(AQ4-AO20)","v":0},{"$f":"IF(AP21=0,0,(AP21*((LOG(AP21))/LOG(2))))","v":0},null,{"$f":"N21","v":2221},{"$f":"COUNTIF(L172:L204,AS21)","v":0},{"$f":"AT21/(AV4-AT20)","v":0},{"$f":"IF(AU21=0,0,(AU21*((LOG(AU21))/LOG(2))))","v":0}]
[12,1914,14,1918,13,1921,14,1927,null,null,0,1111,null,2222,{"$f":"COUNTIF($L$7:$L$500,N22)","v":2},{"$f":"O22/$Q$4","v":1.0101010101010102E-2},{"$f":"IF(P22=0,0,(P22*((LOG(P22))/LOG(2))))","v":-6.6963198182622322E-2},null,null,{"$f":"N22","v":2222},{"$f":"COUNTIF(L7:L39,T22)","v":2},{"$f":"U22/(W4-U20)","v":6.0606060606060608E-2},{"$f":"IF(V22=0,0,(V22*((LOG(V22))/LOG(2))))","v":-0.24511479511263354},null,{"$f":"N22","v":2222},{"$f":"COUNTIF(L40:L72,Y22)","v":0},{"$f":"Z22/(AB4-Z20)","v":0},{"$f":"IF(AA22=0,0,(AA22*((LOG(AA22))/LOG(2))))","v":0},null,{"$f":"N22","v":2222},{"$f":"COUNTIF(L73:L105,AD22)","v":0},{"$f":"AE22/(AG4-AE20)","v":0},{"$f":"IF(AF22=0,0,(AF22*((LOG(AF22))/LOG(2))))","v":0},null,{"$f":"N22","v":2222},{"$f":"COUNTIF(L106:L138,AI22)","v":0},{"$f":"AJ22/(AL4-AJ20)","v":0},{"$f":"IF(AK22=0,0,(AK22*((LOG(AK22))/LOG(2))))","v":0},null,{"$f":"N22","v":2222},{"$f":"COUNTIF(L139:L171,AN22)","v":0},{"$f":"AO22/(AQ4-AO20)","v":0},{"$f":"IF(AP22=0,0,(AP22*((LOG(AP22))/LOG(2))))","v":0},null,{"$f":"N22","v":2222},{"$f":"COUNTIF(L172:L204,AS22)","v":0},{"$f":"AT22/(AV4-AT20)","v":0},{"$f":"IF(AU22=0,0,(AU22*((LOG(AU22))/LOG(2))))","v":0}]
[12,2057,14,2066,13,2073,14,2081,null,null,0,1111,null,null,null,{"$f":"SUM(P7:P22)","v":1},{"$f":"-SUM(Q7:Q22)","v":0.17287636056292899},null,null,null,null,{"$f":"SUM(V7:V22)","v":1},{"$f":"-SUM(W7:W22)","v":0.52297842638101244},null,null,null,{"$f":"SUM(AA7:AA22)","v":1},{"$f":"-SUM(AB7:AB22)","v":0.19590927087360493},null,null,null,{"$f":"SUM(AF7:AF22)","v":1},{"$f":"-SUM(AG7:AG22)","v":0},null,null,null,{"$f":"SUM(AK7:AK22)","v":1},{"$f":"-SUM(AL7:AL22)","v":0},null,null,null,{"$f":"SUM(AP7:AP22)","v":1},{"$f":"-SUM(AQ7:AQ22)","v":0},null,null,null,{"$f":"SUM(AU7:AU22)","v":1},{"$f":"-SUM(AV7:AV22)","v":0}]
[21,2209,21,2218,22,2230,23,2240,null,null,0,2222,null,null,null,"U=",{"$f":"Q23/(LOG(Q4)/LOG(2))","v":2.2659362928184251E-2},null,null,null,null,"U1=",{"$f":"W23/(LOG(W4)/LOG(2))","v":0.10367517168692697},null,null,null,"U2=",{"$f":"AB23/(LOG(AB4)/LOG(2))","v":3.8837027051827726E-2},null,null,null,"U3=",{"$f":"AG23/(LOG(AG4)/LOG(2))","v":0},null,null,null,"U4=",{"$f":"AL23/(LOG(AL4)/LOG(2))","v":0},null,null,null,"U5=",{"$f":"AQ23/(LOG(AQ4)/LOG(2))","v":0},null,null,null,"U6=",{"$f":"AV23/(LOG(AV4)/LOG(2))","v":0}]
[12,2341,14,2346,13,2353,14,2358,null,null,0,1111]
[12,2473,14,2482,13,2486,14,2493,null,null,0,1111]
[12,2672,14,2678,13,2686,14,2693,null,null,0,1111,null,"Total Target Seq"]
[21,2822,21,2831,22,2843,23,2852,null,null,0,2222,null,{"$f":"COUNTIF(L7:L204,G3)","v":0},null,33,33,33,33,33,33]
[12,2952,14,2957,13,2964,14,2968,null,null,0,1111,null,null,null,"% of reinforcement given in 6 equal intervals based on number of trials "]
[12,3067,14,3078,13,3082,14,3088,null,null,0,1111,null,null,null,"%_1","%_2","%_3","%_4","%_5","%_6"]
[12,3186,14,3191,13,3195,14,3199,null,null,0,1111,null,null,"target sequence",{"$f":"$G$3","v":2212},{"$f":"$G$3","v":2212},{"$f":"$G$3","v":2212},{"$f":"$G$3","v":2212},{"$f":"$G$3","v":2212},{"$f":"$G$3","v":2212}]
[12,3300,14,3307,13,3311,14,3315,null,null,0,1111,null,null,"total reinforcement",{"$f":"U20","v":0},{"$f":"Z20","v":0},{"$f":"AE20","v":0},{"$f":"AJ20","v":0},{"$f":"AO20","v":0},{"$f":"AT20","v":0}]
[12,3411,14,3415,13,3419,14,3427,null,null,0,1111,null,null,"% target"]
[12,3529,14,3534,13,3538,14,3542,null,null,0,1111,null,null,"CCRF"]
[12,3642,14,3649,13,3653,14,3657,null,null,0,1111,null,null,"% CCRf"]
[12,3757,14,3761,13,3765,14,3769,null,null,0,1111,null,null,"average response rate",{"$f":"H39/P28","v":124.42424242424242},{"$f":"(H72-H39)/Q28","v":118.48484848484848},{"$f":"(H105-H72)/R28","v":123.75757575757575},{"$f":"(H138-H105)/S28","v":122.6969696969697},{"$f":"(H171-H138)/T28","v":120.93939393939394},{"$f":"(H204-H171)/U28","v":116}]
[12,3866,14,3871,13,3874,14,3878,null,null,0,1111]
[12,3981,14,3985,13,3989,14,3995,null,null,0,1111]
[12,4091,14,4096,13,4101,14,4106,null,null,0,1111]
[12,4204,14,4208,13,4212,14,4217,null,null,0,1111]
[12,4322,14,4328,13,4333,14,4336,null,null,0,1111]
[12,4429,14,4433,13,4438,14,4446,null,null,0,1111]
[12,4544,14,4552,13,4555,14,4565,null,null,0,1111]
[12,4667,14,4672,13,4675,14,4683,null,null,0,1111]
[12,4789,14,4793,13,4797,14,4805,null,null,0,1111]
[12,4917,14,4924,13,4931,14,4938,null,null,0,1111]
[12,5038,14,5043,13,5048,14,5054,null,null,0,1111]
[12,5155,14,5170,13,5174,14,5183,null,null,0,1111]
[12,5287,14,5294,13,5298,14,5302,null,null,0,1111]
[12,5403,14,5408,13,5411,14,5415,null,null,0,1111]
[12,5517,14,5525,13,5529,14,5533,null,null,0,1111]
[12,5634,14,5638,13,5642,14,5646,null,null,0,1111]
[12,5742,14,5750,13,5758,14,5765,null,null,0,1111]
[12,5868,14,5874,13,5879,14,5883,null,null,0,1111]
[12,5992,14,5997,13,6001,14,6007,null,null,0,1111]
[12,6112,14,6120,13,6123,14,6128,null,null,0,1111]
[12,6236,14,6244,13,6252,14,6258,null,null,0,1111]
[12,6358,14,6362,13,6366,14,6370,null,null,0,1111]
[12,6469,14,6473,13,6477,14,6481,null,null,0,1111]
[12,6594,14,6600,13,6603,14,6609,null,null,0,1111]
[12,6710,14,6715,13,6720,14,6729,null,null,0,1111]
[12,6833,14,6838,13,6847,14,6851,null,null,0,1111]
[12,6954,14,6958,13,6961,14,6966,null,null,0,1111]
[12,7070,14,7077,13,7082,14,7087,null,null,0,1111]
[12,7187,14,7191,13,7196,14,7201,null,null,0,1111]
[12,7304,14,7310,13,7317,14,7321,null,null,0,1111]
[12,7422,14,7426,13,7430,14,7435,null,null,0,1111]
[12,7531,14,7535,13,7539,14,7543,null,null,0,1111]
[12,7643,14,7647,13,7651,14,7655,null,null,0,1111]
[21,7758,12,7774,13,7785,14,7792,null,null,0,2111]
[12,7891,14,7895,13,7899,14,7903,null,null,0,1111]
[12,7999,14,8004,13,8012,14,8016,null,null,0,1111]
[12,8124,14,8130,13,8135,14,8139,null,null,0,1111]
[12,8241,14,8246,13,8250,14,8255,null,null,0,1111]
[12,8357,14,8362,13,8368,14,8372,null,null,0,1111]
[12,8480,14,8485,13,8493,14,8497,null,null,0,1111]
[12,8607,14,8612,13,8616,14,8620,null,null,0,1111]
[12,8717,14,8728,13,8735,14,8755,null,null,0,1111]
[12,8857,14,8861,13,8866,14,8870,null,null,0,1111]
[12,8971,14,8978,13,8981,14,8985,null,null,0,1111]
[12,9085,14,9090,13,9097,14,9101,null,null,0,1111]
[12,9201,14,9206,13,9211,14,9215,null,null,0,1111]
[12,9323,14,9327,13,9330,14,9335,null,null,0,1111]
[12,9441,14,9446,13,9450,14,9455,null,null,0,1111]
[12,9555,14,9559,13,9563,14,9568,null,null,0,1111]
[12,9666,14,9671,13,9675,14,9679,null,null,0,1111]
[12,9780,14,9785,13,9789,14,9793,null,null,0,1111]
[12,9897,14,9901,13,9913,14,9920,null,null,0,1111]
[12,10019,14,10025,13,10035,14,10039,null,null,0,1111]
[12,10146,14,10154,13,10162,14,10168,null,null,0,1111]
[12,10277,14,10281,13,10288,14,10296,null,null,0,1111]
[12,10398,14,10403,13,10408,14,10412,null,null,0,1111]
[12,10513,14,10517,13,10521,14,10529,null,null,0,1111]
[12,10625,14,10630,13,10635,14,10640,null,null,0,1111]
[12,10743,14,10748,13,10752,14,10756,null,null,0,1111]
[12,10993,14,11009,13,11017,14,11024,null,null,0,1111]
[12,11141,14,11147,13,11155,14,11163,null,null,0,1111]
[12,11272,14,11287,13,11291,14,11298,null,null,0,1111]
[12,11399,14,11403,13,11407,14,11416,null,null,0,1111]
[12,11516,14,11520,13,11524,14,11528,null,null,0,1111]
[12,11629,14,11635,13,11639,14,11642,null,null,0,1111]
[12,11744,14,11749,13,11753,14,11761,null,null,0,1111]
[12,11858,14,11862,13,11865,14,11876,null,null,0,1111]
[12,11976,14,11981,13,11984,14,11988,null,null,0,1111]
[12,12088,14,12092,13,12096,14,12100,null,null,0,1111]
[12,12203,14,12208,13,12214,14,12219,null,null,0,1111]
[12,12314,14,12319,13,12323,14,12331,null,null,0,1111]
[12,12431,14,12435,13,12439,14,12444,null,null,0,1111]
[12,12557,14,12562,13,12567,14,12575,null,null,0,1111]
[12,12678,14,12683,13,12688,14,12693,null,null,0,1111]
[12,12790,14,12795,13,12799,14,12802,null,null,0,1111]
[12,12903,14,12907,13,12911,14,12914,null,null,0,1111]
[12,13015,14,13020,13,13027,14,13031,null,null,0,1111]
[12,13134,14,13138,13,13154,14,13162,null,null,0,1111]
[12,13268,14,13272,13,13276,14,13280,null,null,0,1111]
[12,13380,14,13384,13,13388,14,13391,null,null,0,1111]
[12,13496,14,13500,13,13503,14,13507,null,null,0,1111]
[12,13616,14,13625,13,13630,14,13639,null,null,0,1111]
[12,13743,14,13750,13,13754,14,13759,null,null,0,1111]
[12,13861,14,13865,13,13869,14,13873,null,null,0,1111]
[12,14003,14,14011,13,14015,14,14023,null,null,0,1111]
[12,14130,14,14140,13,14148,14,14155,null,null,0,1111]
[12,14260,14,14264,13,14269,14,14273,null,null,0,1111]
[12,14373,14,14378,13,14384,14,14388,null,null,0,1111]
[12,14491,14,14498,13,14503,14,14510,null,null,0,1111]
[12,14623,14,14628,13,14633,14,14639,null,null,0,1111]
[12,14738,14,14743,13,14747,14,14750,null,null,0,1111]
[12,14868,14,14875,13,14882,14,14887,null,null,0,1111]
[12,14993,14,14996,13,15003,14,15007,null,null,0,1111]
[12,15104,14,15108,13,15111,14,15116,null,null,0,1111]
[12,15216,14,15220,13,15225,14,15228,null,null,0,1111]
[12,15367,14,15372,13,15376,14,15384,null,null,0,1111]
[12,15522,14,15526,13,15534,14,15540,null,null,0,1111]
[12,15641,14,15645,13,15649,14,15653,null,null,0,1111]
[12,15757,14,15762,13,15768,14,15783,null,null,0,1111]
[12,15891,14,15899,13,15904,14,15910,null,null,0,1111]
[12,16014,14,16028,13,16032,14,16036,null,null,0,1111]
[12,16135,14,16140,13,16145,14,16149,null,null,0,1111]
[12,16264,14,16268,13,16275,14,16279,null,null,0,1111]
[12,16380,14,16384,13,16387,14,16391,null,null,0,1111]
[12,16496,14,16501,13,16505,14,16509,null,null,0,1111]
[12,16613,14,16618,13,16622,14,16626,null,null,0,1111]
[12,16729,14,16734,13,16738,14,16743,null,null,0,1111]
[12,16840,14,16844,13,16850,14,16854,null,null,0,1111]
[12,16952,14,16956,13,16960,14,16963,null,null,0,1111]
[12,17066,14,17071,13,17075,14,17079,null,null,0,1111]
[12,17184,14,17189,13,17193,14,17198,null,null,0,1111]
[12,17298,14,17302,13,17305,14,17313,null,null,0,1111]
[12,17413,14,17421,13,17425,14,17430,null,null,0,1111]
[12,17535,14,17540,13,17552,14,17559,null,null,0,1111]
[12,17662,14,17666,13,17670,14,17674,null,null,0,1111]
[12,17774,14,17778,13,17781,14,17787,null,null,0,1111]
[12,17886,14,17890,13,17898,14,17905,null,null,0,1111]
[12,18006,14,18010,13,18015,14,18018,null,null,0,1111]
[12,18117,14,18121,13,18126,14,18129,null,null,0,1111]
[12,18229,14,18233,13,18236,14,18240,null,null,0,1111]
[12,18341,14,18346,13,18353,14,18357,null,null,0,1111]
[12,18456,14,18460,13,18465,14,18469,null,null,0,1111]
[12,18571,14,18575,13,18579,14,18583,null,null,0,1111]
[12,18681,14,18685,13,18689,14,18694,null,null,0,1111]
[12,18794,14,18798,13,18807,14,18811,null,null,0,1111]
[12,18913,14,18918,13,18922,14,18926,null,null,0,1111]
[12,19036,14,19042,13,19046,14,19061,null,null,0,1111]
[12,19168,14,19172,13,19176,14,19180,null,null,0,1111]
[12,19368,14,19374,13,19381,14,19389,null,null,0,1111]
[12,19491,14,19497,13,19503,14,19507,null,null,0,1111]
[12,19604,14,19609,13,19613,14,19617,null,null,0,1111]
[12,19777,14,19782,13,19788,14,19797,null,null,0,1111]
[12,19897,14,19901,13,19905,14,19910,null,null,0,1111]
[12,20014,14,20018,13,20022,14,20026,null,null,0,1111]
[12,20128,14,20133,13,20137,14,20140,null,null,0,1111]
[12,20246,14,20251,13,20262,14,20269,null,null,0,1111]
[12,20374,14,20378,13,20382,14,20389,null,null,0,1111]
[12,20493,14,20499,13,20506,14,20511,null,null,0,1111]
[12,20612,14,20617,13,20621,14,20625,null,null,0,1111]
[12,20724,14,20729,13,20733,14,20739,null,null,0,1111]
[12,20836,14,20841,13,20845,14,20849,null,null,0,1111]
[12,20949,14,20955,13,20959,14,20967,null,null,0,1111]
[12,21064,14,21069,13,21073,14,21079,null,null,0,1111]
[12,21178,14,21183,13,21187,14,21194,null,null,0,1111]
[12,21291,14,21295,13,21299,14,21303,null,null,0,1111]
[12,21397,14,21402,13,21407,14,21414,null,null,0,1111]
[12,21515,14,21519,13,21523,14,21527,null,null,0,1111]
[12,21627,14,21632,13,21640,14,21644,null,null,0,1111]
[12,21742,14,21746,13,21750,14,21755,null,null,0,1111]
[12,21855,14,21859,13,21864,14,21867,null,null,0,1111]
[12,21967,14,21972,13,21976,14,21979,null,null,0,1111]
[12,22078,14,22083,13,22087,14,22090,null,null,0,1111]
[12,22191,14,22195,13,22200,14,22205,null,null,0,1111]
[12,22301,14,22305,13,22308,14,22312,null,null,0,1111]
[12,22408,14,22412,13,22416,14,22420,null,null,0,1111]
[12,22525,14,22529,13,22543,14,22552,null,null,0,1111]
[12,22648,14,22652,13,22656,14,22660,null,null,0,1111]
[12,22756,14,22760,13,22765,14,22769,null,null,0,1111]
[12,22866,14,22871,13,22875,14,22879,null,null,0,1111]
[12,22980,14,22984,13,22988,14,22991,null,null,0,1111]
[12,23105,14,23111,13,23115,14,23122,null,null,0,1111]
[12,23222,14,23226,13,23235,14,23250,null,null,0,1111]
[12,23359,14,23364,13,23368,14,23376,null,null,0,1111]
[12,23478,14,23485,13,23493,14,23497,null,null,0,1111]
[12,23596,14,23600,13,23604,14,23608,null,null,0,1111]
[12,23704,14,23709,13,23714,14,23718,null,null,0,1111]
[12,23824,14,23828,13,23832,14,23836,null,null,0,1111]
[12,23954,14,23958,13,23962,14,23968,null,null,null,1111]

{"sheet":"!M906A00.104","index":23,"n_rows":217,"n_cols":48,"rows_kept":217,"cut":false,"hidden":false,"merged":[[4,39,4,42],[5,39,5,40],[4,44,4,47],[5,44,5,45],[4,24,4,27],[5,24,5,25],[4,29,4,32],[5,29,5,30],[4,34,4,37],[5,34,5,35],[1,1,1,2],[5,13,5,14],[26,13,26,14],[27,13,27,14],[4,19,4,22],[5,19,5,20]]}
["Report for:!M906A00.104"]
["Date:","<date>"]
["Hen:","<hen>",null,null,null,"Correct Sequence",{"$f":"Start!J2","v":2212},null,null,null,null,null,null,null,null,"Total Sequences in Data",{"$f":"4994-COUNTBLANK(L7:L5000)","v":211},null,null,null,null,"Total Sequences in Block Data",{"$f":"COUNTA(L7:L41)","v":35},null,null,null,"Total Sequences in Block Data",{"$f":"COUNTA(L42:L76)","v":35},null,null,null,"Total Sequences in Block Data",{"$f":"COUNTA(L77:L112)","v":36},null,null,null,"Total Sequences in Block Data",{"$f":"COUNTA(L113:L147)","v":35},null,null,null,"Total Sequences in Block Data",{"$f":"COUNTA(L148:L182)","v":35},null,null,null,"Total Sequences in Block Data",{"$f":"COUNTA(L183:L217)","v":35}]
[null,null,null,null,null,null,null,null,null,null,null,null,null,null,null,"Total Sequences in Summary",{"$f":"SUM(O7:O22)","v":211},null,null,null,null,"Total Sequences in Block Summary",{"$f":"SUM(U7:U22)","v":35},null,null,null,"Total Sequences in Block Summary",{"$f":"SUM(Z7:Z22)","v":35},null,null,null,"Total Sequences in Block Summary",{"$f":"SUM(AE7:AE22)","v":36},null,null,null,"Total Sequences in Block Summary",{"$f":"SUM(AJ7:AJ22)","v":35},null,null,null,"Total Sequences in Block Summary",{"$f":"SUM(AO7:AO22)","v":35},null,null,null,"Total Sequences in Block Summary",{"$f":"SUM(AT7:AT22)","v":35}]
[null,null,null,null,null,null,null,null,null,null,null,null,null,null,null,null,null,null,null,"Block 1",null,null,null,null,"Block 2",null,null,null,null,"Block 3",null,null,null,null,"Block 4",null,null,null,null,"Block 5",null,null,null,null,"Block 6"]
["Sequence\nComponent\n1","Time\n1","Sequence\nComponent\n2","Time\n2","Sequence\nComponent\n3","Time\n3","Sequence\nComponent\n4","Time\n4","Sequence\nComponent\n5","Time\n5","Correct?\n0=No 1=Yes","Sequence",null,"Frequency",null,"Relative Frequency","Variability",null,null,"Frequency",null,"Relative Frequency","Variability",null,"Frequency",null,"Relative Frequency","Variability",null,"Frequency",null,"Relative Frequency","Variability",null,"Frequency",null,"Relative Frequency","Variability",null,"Frequency",null,"Relative Frequency","Variability",null,"Frequency",null,"Relative Frequency","Variability"]
[12,17,14,22,13,26,14,30,null,null,0,1111,null,1111,{"$f":"COUNTIF($L$7:$L$500,N7)","v":205},{"$f":"O7/$Q$4","v":0.97156398104265407},{"$f":"IF(P7=0,0,(P7*((LOG(P7))/LOG(2))))","v":-4.0435607992210909E-2},null,null,{"$f":"N7","v":1111},{"$f":"COUNTIF(L7:L41,T7)","v":33},{"$f":"U7/(W4-U20)","v":0.94285714285714284},{"$f":"IF(V7=0,0,(V7*((LOG(V7))/LOG(2))))","v":-8.0038103438712302E-2},null,{"$f":"N7","v":1111},{"$f":"COUNTIF(L42:L76,Y7)","v":35},{"$f":"Z7/(AB4-Z20)","v":1},{"$f":"IF(AA7=0,0,(AA7*((LOG(AA7))/LOG(2))))","v":0},null,{"$f":"N7","v":1111},{"$f":"COUNTIF(L77:L112,AD7)","v":36},{"$f":"AE7/(AG4-AE20)","v":1},{"$f":"IF(AF7=0,0,(AF7*((LOG(AF7))/LOG(2))))","v":0},null,{"$f":"N7","v":1111},{"$f":"COUNTIF(L113:L147,AI7)","v":33},{"$f":"AJ7/(AL4-AJ20)","v":0.94285714285714284},{"$f":"IF(AK7=0,0,(AK7*((LOG(AK7))/LOG(2))))","v":-8.0038103438712302E-2},null,{"$f":"N7","v":1111},{"$f":"COUNTIF(L148:L182,AN7)","v":35},{"$f":"AO7/(AQ4-AO20)","v":1},{"$f":"IF(AP7=0,0,(AP7*((LOG(AP7))/LOG(2))))","v":0},null,{"$f":"N7","v":1111},{"$f":"COUNTIF(L183:L217,AS7)","v":33},{"$f":"AT7/(AV4-AT20)","v":0.94285714285714284},{"$f":"IF(AU7=0,0,(AU7*((LOG(AU7))/LOG(2))))","v":-8.0038103438712302E-2}]
[12,155,23,176,13,188,23,196,null,null,0,1212,null,1112,{"$f":"COUNTIF($L$7:$L$500,N8)","v":1},{"$f":"O8/$Q$4","v":4.7393364928909956E-3},{"$f":"IF(P8=0,0,(P8*((LOG(P8))/LOG(2))))","v":-3.6592887150271022E-2},null,null,{"$f":"N8","v":1112},{"$f":"COUNTIF(L7:L41,T8)","v":0},{"$f":"U8/(W4-U20)","v":0},{"$f":"IF(V8=0,0,(V8*((LOG(V8))/LOG(2))))","v":0},null,{"$f":"N8","v":1112},{"$f":"COUNTIF(L42:L76,Y8)","v":0},{"$f":"Z8/(AB4-Z20)","v":0},{"$f":"IF(AA8=0,0,(AA8*((LOG(AA8))/LOG(2))))","v":0},null,{"$f":"N8","v":1112},{"$f":"COUNTIF(L77:L112,AD8)","v":0},{"$f":"AE8/(AG4-AE20)","v":0},{"$f":"IF(AF8=0,0,(AF8*((LOG(AF8))/LOG(2))))","v":0},null,{"$f":"N8","v":1112},{"$f":"COUNTIF(L113:L147,AI8)","v":0},{"$f":"AJ8/(AL4-AJ20)","v":0},{"$f":"IF(AK8=0,0,(AK8*((LOG(AK8))/LOG(2))))","v":0},null,{"$f":"N8","v":1112},{"$f":"COUNTIF(L148:L182,AN8)","v":0},{"$f":"AO8/(AQ4-AO20)","v":0},{"$f":"IF(AP8=0,0,(AP8*((LOG(AP8))/LOG(2))))","v":0},null,{"$f":"N8","v":1112},{"$f":"COUNTIF(L183:L217,AS8)","v":1},{"$f":"AT8/(AV4-AT20)","v":2.8571428571428571E-2},{"$f":"IF(AU8=0,0,(AU8*((LOG(AU8))/LOG(2))))","v":-0.14655094334128474}]
[12,293,14,297,13,301,14,306,null,null,0,1111,null,1121,{"$f":"COUNTIF($L$7:$L$500,N9)","v":0},{"$f":"O9/$Q$4","v":0},{"$f":"IF(P9=0,0,(P9*((LOG(P9))/LOG(2))))","v":0},null,null,{"$f":"N9","v":1121},{"$f":"COUNTIF(L7:L41,T9)","v":0},{"$f":"U9/(W4-U20)","v":0},{"$f":"IF(V9=0,0,(V9*((LOG(V9))/LOG(2))))","v":0},null,{"$f":"N9","v":1121},{"$f":"COUNTIF(L42:L76,Y9)","v":0},{"$f":"Z9/(AB4-Z20)","v":0},{"$f":"IF(AA9=0,0,(AA9*((LOG(AA9))/LOG(2))))","v":0},null,{"$f":"N9","v":1121},{"$f":"COUNTIF(L77:L112,AD9)","v":0},{"$f":"AE9/(AG4-AE20)","v":0},{"$f":"IF(AF9=0,0,(AF9*((LOG(AF9))/LOG(2))))","v":0},null,{"$f":"N9","v":1121},{"$f":"COUNTIF(L113:L147,AI9)","v":0},{"$f":"AJ9/(AL4-AJ20)","v":0},{"$f":"IF(AK9=0,0,(AK9*((LOG(AK9))/LOG(2))))","v":0},null,{"$f":"N9","v":1121},{"$f":"COUNTIF(L148:L182,AN9)","v":0},{"$f":"AO9/(AQ4-AO20)","v":0},{"$f":"IF(AP9=0,0,(AP9*((LOG(AP9))/LOG(2))))","v":0},null,{"$f":"N9","v":1121},{"$f":"COUNTIF(L183:L217,AS9)","v":0},{"$f":"AT9/(AV4-AT20)","v":0},{"$f":"IF(AU9=0,0,(AU9*((LOG(AU9))/LOG(2))))","v":0}]
[12,402,14,406,13,410,14,414,null,null,0,1111,null,1122,{"$f":"COUNTIF($L$7:$L$500,N10)","v":2},{"$f":"O10/$Q$4","v":9.4786729857819912E-3},{"$f":"IF(P10=0,0,(P10*((LOG(P10))/LOG(2))))","v":-6.3707101314760053E-2},null,null,{"$f":"N10","v":1122},{"$f":"COUNTIF(L7:L41,T10)","v":0},{"$f":"U10/(W4-U20)","v":0},{"$f":"IF(V10=0,0,(V10*((LOG(V10))/LOG(2))))","v":0},null,{"$f":"N10","v":1122},{"$f":"COUNTIF(L42:L76,Y10)","v":0},{"$f":"Z10/(AB4-Z20)","v":0},{"$f":"IF(AA10=0,0,(AA10*((LOG(AA10))/LOG(2))))","v":0},null,{"$f":"N10","v":1122},{"$f":"COUNTIF(L77:L112,AD10)","v":0},{"$f":"AE10/(AG4-AE20)","v":0},{"$f":"IF(AF10=0,0,(AF10*((LOG(AF10))/LOG(2))))","v":0},null,{"$f":"N10","v":1122},{"$f":"COUNTIF(L113:L147,AI10)","v":1},{"$f":"AJ10/(AL4-AJ20)","v":2.8571428571428571E-2},{"$f":"IF(AK10=0,0,(AK10*((LOG(AK10))/LOG(2))))","v":-0.14655094334128474},null,{"$f":"N10","v":1122},{"$f":"COUNTIF(L148:L182,AN10)","v":0},{"$f":"AO10/(AQ4-AO20)","v":0},{"$f":"IF(AP10=0,0,(AP10*((LOG(AP10))/LOG(2))))","v":0},null,{"$f":"N10","v":1122},{"$f":"COUNTIF(L183:L217,AS10)","v":1},{"$f":"AT10/(AV4-AT20)","v":2.8571428571428571E-2},{"$f":"IF(AU10=0,0,(AU10*((LOG(AU10))/LOG(2))))","v":-0.14655094334128474}]
[12,514,14,518,13,522,14,526,null,null,0,1111,null,1211,{"$f":"COUNTIF($L$7:$L$500,N11)","v":1},{"$f":"O11/$Q$4","v":4.7393364928909956E-3},{"$f":"IF(P11=0,0,(P11*((LOG(P11))/LOG(2))))","v":-3.6592887150271022E-2},null,null,{"$f":"N11","v":1211},{"$f":"COUNTIF(L7:L41,T11)","v":0},{"$f":"U11/(W4-U20)","v":0},{"$f":"IF(V11=0,0,(V11*((LOG(V11))/LOG(2))))","v":0},null,{"$f":"N11","v":1211},{"$f":"COUNTIF(L42:L76,Y11)","v":0},{"$f":"Z11/(AB4-Z20)","v":0},{"$f":"IF(AA11=0,0,(AA11*((LOG(AA11))/LOG(2))))","v":0},null,{"$f":"N11","v":1211},{"$f":"COUNTIF(L77:L112,AD11)","v":0},{"$f":"AE11/(AG4-AE20)","v":0},{"$f":"IF(AF11=0,0,(AF11*((LOG(AF11))/LOG(2))))","v":0},null,{"$f":"N11","v":1211},{"$f":"COUNTIF(L113:L147,AI11)","v":1},{"$f":"AJ11/(AL4-AJ20)","v":2.8571428571428571E-2},{"$f":"IF(AK11=0,0,(AK11*((LOG(AK11))/LOG(2))))","v":-0.14655094334128474},null,{"$f":"N11","v":1211},{"$f":"COUNTIF(L148:L182,AN11)","v":0},{"$f":"AO11/(AQ4-AO20)","v":0},{"$f":"IF(AP11=0,0,(AP11*((LOG(AP11))/LOG(2))))","v":0},null,{"$f":"N11","v":1211},{"$f":"COUNTIF(L183:L217,AS11)","v":0},{"$f":"AT11/(AV4-AT20)","v":0},{"$f":"IF(AU11=0,0,(AU11*((LOG(AU11))/LOG(2))))","v":0}]
[12,634,14,639,13,643,14,647,null,null,0,1111,null,1212,{"$f":"COUNTIF($L$7:$L$500,N12)","v":1},{"$f":"O12/$Q$4","v":4.7393364928909956E-3},{"$f":"IF(P12=0,0,(P12*((LOG(P12))/LOG(2))))","v":-3.6592887150271022E-2},null,null,{"$f":"N12","v":1212},{"$f":"COUNTIF(L7:L41,T12)","v":1},{"$f":"U12/(W4-U20)","v":2.8571428571428571E-2},{"$f":"IF(V12=0,0,(V12*((LOG(V12))/LOG(2))))","v":-0.14655094334128474},null,{"$f":"N12","v":1212},{"$f":"COUNTIF(L42:L76,Y12)","v":0},{"$f":"Z12/(AB4-Z20)","v":0},{"$f":"IF(AA12=0,0,(AA12*((LOG(AA12))/LOG(2))))","v":0},null,{"$f":"N12","v":1212},{"$f":"COUNTIF(L77:L112,AD12)","v":0},{"$f":"AE12/(AG4-AE20)","v":0},{"$f":"IF(AF12=0,0,(AF12*((LOG(AF12))/LOG(2))))","v":0},null,{"$f":"N12","v":1212},{"$f":"COUNTIF(L113:L147,AI12)","v":0},{"$f":"AJ12/(AL4-AJ20)","v":0},{"$f":"IF(AK12=0,0,(AK12*((LOG(AK12))/LOG(2))))","v":0},null,{"$f":"N12","v":1212},{"$f":"COUNTIF(L148:L182,AN12)","v":0},{"$f":"AO12/(AQ4-AO20)","v":0},{"$f":"IF(AP12=0,0,(AP12*((LOG(AP12))/LOG(2))))","v":0},null,{"$f":"N12","v":1212},{"$f":"COUNTIF(L183:L217,AS12)","v":0},{"$f":"AT12/(AV4-AT20)","v":0},{"$f":"IF(AU12=0,0,(AU12*((LOG(AU12))/LOG(2))))","v":0}]
[12,746,14,750,13,758,14,763,null,null,0,1111,null,1221,{"$f":"COUNTIF($L$7:$L$500,N13)","v":0},{"$f":"O13/$Q$4","v":0},{"$f":"IF(P13=0,0,(P13*((LOG(P13))/LOG(2))))","v":0},null,null,{"$f":"N13","v":1221},{"$f":"COUNTIF(L7:L41,T13)","v":0},{"$f":"U13/(W4-U20)","v":0},{"$f":"IF(V13=0,0,(V13*((LOG(V13))/LOG(2))))","v":0},null,{"$f":"N13","v":1221},{"$f":"COUNTIF(L42:L76,Y13)","v":0},{"$f":"Z13/(AB4-Z20)","v":0},{"$f":"IF(AA13=0,0,(AA13*((LOG(AA13))/LOG(2))))","v":0},null,{"$f":"N13","v":1221},{"$f":"COUNTIF(L77:L112,AD13)","v":0},{"$f":"AE13/(AG4-AE20)","v":0},{"$f":"IF(AF13=0,0,(AF13*((LOG(AF13))/LOG(2))))","v":0},null,{"$f":"N13","v":1221},{"$f":"COUNTIF(L113:L147,AI13)","v":0},{"$f":"AJ13/(AL4-AJ20)","v":0},{"$f":"IF(AK13=0,0,(AK13*((LOG(AK13))/LOG(2))))","v":0},null,{"$f":"N13","v":1221},{"$f":"COUNTIF(L148:L182,AN13)","v":0},{"$f":"AO13/(AQ4-AO20)","v":0},{"$f":"IF(AP13=0,0,(AP13*((LOG(AP13))/LOG(2))))","v":0},null,{"$f":"N13","v":1221},{"$f":"COUNTIF(L183:L217,AS13)","v":0},{"$f":"AT13/(AV4-AT20)","v":0},{"$f":"IF(AU13=0,0,(AU13*((LOG(AU13))/LOG(2))))","v":0}]
[12,861,14,866,13,870,14,874,null,null,0,1111,null,1222,{"$f":"COUNTIF($L$7:$L$500,N14)","v":0},{"$f":"O14/$Q$4","v":0},{"$f":"IF(P14=0,0,(P14*((LOG(P14))/LOG(2))))","v":0},null,null,{"$f":"N14","v":1222},{"$f":"COUNTIF(L7:L41,T14)","v":0},{"$f":"U14/(W4-U20)","v":0},{"$f":"IF(V14=0,0,(V14*((LOG(V14))/LOG(2))))","v":0},null,{"$f":"N14","v":1222},{"$f":"COUNTIF(L42:L76,Y14)","v":0},{"$f":"Z14/(AB4-Z20)","v":0},{"$f":"IF(AA14=0,0,(AA14*((LOG(AA14))/LOG(2))))","v":0},null,{"$f":"N14","v":1222},{"$f":"COUNTIF(L77:L112,AD14)","v":0},{"$f":"AE14/(AG4-AE20)","v":0},{"$f":"IF(AF14=0,0,(AF14*((LOG(AF14))/LOG(2))))","v":0},null,{"$f":"N14","v":1222},{"$f":"COUNTIF(L113:L147,AI14)","v":0},{"$f":"AJ14/(AL4-AJ20)","v":0},{"$f":"IF(AK14=0,0,(AK14*((LOG(AK14))/LOG(2))))","v":0},null,{"$f":"N14","v":1222},{"$f":"COUNTIF(L148:L182,AN14)","v":0},{"$f":"AO14/(AQ4-AO20)","v":0},{"$f":"IF(AP14=0,0,(AP14*((LOG(AP14))/LOG(2))))","v":0},null,{"$f":"N14","v":1222},{"$f":"COUNTIF(L183:L217,AS14)","v":0},{"$f":"AT14/(AV4-AT20)","v":0},{"$f":"IF(AU14=0,0,(AU14*((LOG(AU14))/LOG(2))))","v":0}]
[12,980,14,985,13,995,14,999,null,null,0,1111,null,2111,{"$f":"COUNTIF($L$7:$L$500,N15)","v":1},{"$f":"O15/$Q$4","v":4.7393364928909956E-3},{"$f":"IF(P15=0,0,(P15*((LOG(P15))/LOG(2))))","v":-3.6592887150271022E-2},null,null,{"$f":"N15","v":2111},{"$f":"COUNTIF(L7:L41,T15)","v":1},{"$f":"U15/(W4-U20)","v":2.8571428571428571E-2},{"$f":"IF(V15=0,0,(V15*((LOG(V15))/LOG(2))))","v":-0.14655094334128474},null,{"$f":"N15","v":2111},{"$f":"COUNTIF(L42:L76,Y15)","v":0},{"$f":"Z15/(AB4-Z20)","v":0},{"$f":"IF(AA15=0,0,(AA15*((LOG(AA15))/LOG(2))))","v":0},null,{"$f":"N15","v":2111},{"$f":"COUNTIF(L77:L112,AD15)","v":0},{"$f":"AE15/(AG4-AE20)","v":0},{"$f":"IF(AF15=0,0,(AF15*((LOG(AF15))/LOG(2))))","v":0},null,{"$f":"N15","v":2111},{"$f":"COUNTIF(L113:L147,AI15)","v":0},{"$f":"AJ15/(AL4-AJ20)","v":0},{"$f":"IF(AK15=0,0,(AK15*((LOG(AK15))/LOG(2))))","v":0},null,{"$f":"N15","v":2111},{"$f":"COUNTIF(L148:L182,AN15)","v":0},{"$f":"AO15/(AQ4-AO20)","v":0},{"$f":"IF(AP15=0,0,(AP15*((LOG(AP15))/LOG(2))))","v":0},null,{"$f":"N15","v":2111},{"$f":"COUNTIF(L183:L217,AS15)","v":0},{"$f":"AT15/(AV4-AT20)","v":0},{"$f":"IF(AU15=0,0,(AU15*((LOG(AU15))/LOG(2))))","v":0}]
[12,1106,14,1110,13,1113,14,1118,null,null,0,1111,null,2112,{"$f":"COUNTIF($L$7:$L$500,N16)","v":0},{"$f":"O16/$Q$4","v":0},{"$f":"IF(P16=0,0,(P16*((LOG(P16))/LOG(2))))","v":0},null,null,{"$f":"N16","v":2112},{"$f":"COUNTIF(L7:L41,T16)","v":0},{"$f":"U16/(W4-U20)","v":0},{"$f":"IF(V16=0,0,(V16*((LOG(V16))/LOG(2))))","v":0},null,{"$f":"N16","v":2112},{"$f":"COUNTIF(L42:L76,Y16)","v":0},{"$f":"Z16/(AB4-Z20)","v":0},{"$f":"IF(AA16=0,0,(AA16*((LOG(AA16))/LOG(2))))","v":0},null,{"$f":"N16","v":2112},{"$f":"COUNTIF(L77:L112,AD16)","v":0},{"$f":"AE16/(AG4-AE20)","v":0},{"$f":"IF(AF16=0,0,(AF16*((LOG(AF16))/LOG(2))))","v":0},null,{"$f":"N16","v":2112},{"$f":"COUNTIF(L113:L147,AI16)","v":0},{"$f":"AJ16/(AL4-AJ20)","v":0},{"$f":"IF(AK16=0,0,(AK16*((LOG(AK16))/LOG(2))))","v":0},null,{"$f":"N16","v":2112},{"$f":"COUNTIF(L148:L182,AN16)","v":0},{"$f":"AO16/(AQ4-AO20)","v":0},{"$f":"IF(AP16=0,0,(AP16*((LOG(AP16))/LOG(2))))","v":0},null,{"$f":"N16","v":2112},{"$f":"COUNTIF(L183:L217,AS16)","v":0},{"$f":"AT16/(AV4-AT20)","v":0},{"$f":"IF(AU16=0,0,(AU16*((LOG(AU16))/LOG(2))))","v":0}]
[12,1227,14,1231,13,1235,14,1238,null,null,0,1111,null,2121,{"$f":"COUNTIF($L$7:$L$500,N17)","v":0},{"$f":"O17/$Q$4","v":0},{"$f":"IF(P17=0,0,(P17*((LOG(P17))/LOG(2))))","v":0},null,null,{"$f":"N17","v":2121},{"$f":"COUNTIF(L7:L41,T17)","v":0},{"$f":"U17/(W4-U20)","v":0},{"$f":"IF(V17=0,0,(V17*((LOG(V17))/LOG(2))))","v":0},null,{"$f":"N17","v":2121},{"$f":"COUNTIF(L42:L76,Y17)","v":0},{"$f":"Z17/(AB4-Z20)","v":0},{"$f":"IF(AA17=0,0,(AA17*((LOG(AA17))/LOG(2))))","v":0},null,{"$f":"N17","v":2121},{"$f":"COUNTIF(L77:L112,AD17)","v":0},{"$f":"AE17/(AG4-AE20)","v":0},{"$f":"IF(AF17=0,0,(AF17*((LOG(AF17))/LOG(2))))","v":0},null,{"$f":"N17","v":2121},{"$f":"COUNTIF(L113:L147,AI17)","v":0},{"$f":"AJ17/(AL4-AJ20)","v":0},{"$f":"IF(AK17=0,0,(AK17*((LOG(AK17))/LOG(2))))","v":0},null,{"$f":"N17","v":2121},{"$f":"COUNTIF(L148:L182,AN17)","v":0},{"$f":"AO17/(AQ4-AO20)","v":0},{"$f":"IF(AP17=0,0,(AP17*((LOG(AP17))/LOG(2))))","v":0},null,{"$f":"N17","v":2121},{"$f":"COUNTIF(L183:L217,AS17)","v":0},{"$f":"AT17/(AV4-AT20)","v":0},{"$f":"IF(AU17=0,0,(AU17*((LOG(AU17))/LOG(2))))","v":0}]
[12,1342,14,1346,13,1351,14,1355,null,null,0,1111,null,2122,{"$f":"COUNTIF($L$7:$L$500,N18)","v":0},{"$f":"O18/$Q$4","v":0},{"$f":"IF(P18=0,0,(P18*((LOG(P18))/LOG(2))))","v":0},null,null,{"$f":"N18","v":2122},{"$f":"COUNTIF(L7:L41,T18)","v":0},{"$f":"U18/(W4-U20)","v":0},{"$f":"IF(V18=0,0,(V18*((LOG(V18))/LOG(2))))","v":0},null,{"$f":"N18","v":2122},{"$f":"COUNTIF(L42:L76,Y18)","v":0},{"$f":"Z18/(AB4-Z20)","v":0},{"$f":"IF(AA18=0,0,(AA18*((LOG(AA18))/LOG(2))))","v":0},null,{"$f":"N18","v":2122},{"$f":"COUNTIF(L77:L112,AD18)","v":0},{"$f":"AE18/(AG4-AE20)","v":0},{"$f":"IF(AF18=0,0,(AF18*((LOG(AF18))/LOG(2))))","v":0},null,{"$f":"N18","v":2122},{"$f":"COUNTIF(L113:L147,AI18)","v":0},{"$f":"AJ18/(AL4-AJ20)","v":0},{"$f":"IF(AK18=0,0,(AK18*((LOG(AK18))/LOG(2))))","v":0},null,{"$f":"N18","v":2122},{"$f":"COUNTIF(L148:L182,AN18)","v":0},{"$f":"AO18/(AQ4-AO20)","v":0},{"$f":"IF(AP18=0,0,(AP18*((LOG(AP18))/LOG(2))))","v":0},null,{"$f":"N18","v":2122},{"$f":"COUNTIF(L183:L217,AS18)","v":0},{"$f":"AT18/(AV4-AT20)","v":0},{"$f":"IF(AU18=0,0,(AU18*((LOG(AU18))/LOG(2))))","v":0}]
[12,1463,14,1467,13,1472,14,1476,null,null,0,1111,null,2211,{"$f":"COUNTIF($L$7:$L$500,N19)","v":0},{"$f":"O19/$Q$4","v":0},{"$f":"IF(P19=0,0,(P19*((LOG(P19))/LOG(2))))","v":0},null,null,{"$f":"N19","v":2211},{"$f":"COUNTIF(L7:L41,T19)","v":0},{"$f":"U19/(W4-U20)","v":0},{"$f":"IF(V19=0,0,(V19*((LOG(V19))/LOG(2))))","v":0},null,{"$f":"N19","v":2211},{"$f":"COUNTIF(L42:L76,Y19)","v":0},{"$f":"Z19/(AB4-Z20)","v":0},{"$f":"IF(AA19=0,0,(AA19*((LOG(AA19))/LOG(2))))","v":0},null,{"$f":"N19","v":2211},{"$f":"COUNTIF(L77:L112,AD19)","v":0},{"$f":"AE19/(AG4-AE20)","v":0},{"$f":"IF(AF19=0,0,(AF19*((LOG(AF19))/LOG(2))))","v":0},null,{"$f":"N19","v":2211},{"$f":"COUNTIF(L113:L147,AI19)","v":0},{"$f":"AJ19/(AL4-AJ20)","v":0},{"$f":"IF(AK19=0,0,(AK19*((LOG(AK19))/LOG(2))))","v":0},null,{"$f":"N19","v":2211},{"$f":"COUNTIF(L148:L182,AN19)","v":0},{"$f":"AO19/(AQ4-AO20)","v":0},{"$f":"IF(AP19=0,0,(AP19*((LOG(AP19))/LOG(2))))","v":0},null,{"$f":"N19","v":2211},{"$f":"COUNTIF(L183:L217,AS19)","v":0},{"$f":"AT19/(AV4-AT20)","v":0},{"$f":"IF(AU19=0,0,(AU19*((LOG(AU19))/LOG(2))))","v":0}]
[12,1576,14,1580,13,1585,14,1591,null,null,0,1111,null,2212,{"$f":"COUNTIF($L$7:$L$500,N20)","v":0},{"$f":"O20/$Q$4","v":0},{"$f":"IF(P20=0,0,(P20*((LOG(P20))/LOG(2))))","v":0},null,null,{"$f":"N20","v":2212},{"$f":"COUNTIF(L7:L41,T20)","v":0},null,null,null,{"$f":"N20","v":2212},{"$f":"COUNTIF(L42:L76,Y20)","v":0},null,null,null,{"$f":"N20","v":2212},{"$f":"COUNTIF(L77:L112,AD20)","v":0},null,null,null,{"$f":"N20","v":2212},{"$f":"COUNTIF(L113:L147,AI20)","v":0},null,null,null,{"$f":"N20","v":2212},{"$f":"COUNTIF(L148:L182,AN20)","v":0},null,null,null,{"$f":"N20","v":2212},{"$f":"COUNTIF(L183:L217,AS20)","v":0}]
[12,1696,14,1700,13,1704,14,1709,null,null,0,1111,null,2221,{"$f":"COUNTIF($L$7:$L$500,N21)","v":0},{"$f":"O21/$Q$4","v":0},{"$f":"IF(P21=0,0,(P21*((LOG(P21))/LOG(2))))","v":0},null,null,{"$f":"N21","v":2221},{"$f":"COUNTIF(L7:L41,T21)","v":0},{"$f":"U21/(W4-U20)","v":0},{"$f":"IF(V21=0,0,(V21*((LOG(V21))/LOG(2))))","v":0},null,{"$f":"N21","v":2221},{"$f":"COUNTIF(L42:L76,Y21)","v":0},{"$f":"Z21/(AB4-Z20)","v":0},{"$f":"IF(AA21=0,0,(AA21*((LOG(AA21))/LOG(2))))","v":0},null,{"$f":"N21","v":2221},{"$f":"COUNTIF(L77:L112,AD21)","v":0},{"$f":"AE21/(AG4-AE20)","v":0},{"$f":"IF(AF21=0,0,(AF21*((LOG(AF21))/LOG(2))))","v":0},null,{"$f":"N21","v":2221},{"$f":"COUNTIF(L113:L147,AI21)","v":0},{"$f":"AJ21/(AL4-AJ20)","v":0},{"$f":"IF(AK21=0,0,(AK21*((LOG(AK21))/LOG(2))))","v":0},null,{"$f":"N21","v":2221},{"$f":"COUNTIF(L148:L182,AN21)","v":0},{"$f":"AO21/(AQ4-AO20)","v":0},{"$f":"IF(AP21=0,0,(AP21*((LOG(AP21))/LOG(2))))","v":0},null,{"$f":"N21","v":2221},{"$f":"COUNTIF(L183:L217,AS21)","v":0},{"$f":"AT21/(AV4-AT20)","v":0},{"$f":"IF(AU21=0,0,(AU21*((LOG(AU21))/LOG(2))))","v":0}]
[12,1807,14,1811,13,1816,14,1820,null,null,0,1111,null,2222,{"$f":"COUNTIF($L$7:$L$500,N22)","v":0},{"$f":"O22/$Q$4","v":0},{"$f":"IF(P22=0,0,(P22*((LOG(P22))/LOG(2))))","v":0},null,null,{"$f":"N22","v":2222},{"$f":"COUNTIF(L7:L41,T22)","v":0},{"$f":"U22/(W4-U20)","v":0},{"$f":"IF(V22=0,0,(V22*((LOG(V22))/LOG(2))))","v":0},null,{"$f":"N22","v":2222},{"$f":"COUNTIF(L42:L76,Y22)","v":0},{"$f":"Z22/(AB4-Z20)","v":0},{"$f":"IF(AA22=0,0,(AA22*((LOG(AA22))/LOG(2))))","v":0},null,{"$f":"N22","v":2222},{"$f":"COUNTIF(L77:L112,AD22)","v":0},{"$f":"AE22/(AG4-AE20)","v":0},{"$f":"IF(AF22=0,0,(AF22*((LOG(AF22))/LOG(2))))","v":0},null,{"$f":"N22","v":2222},{"$f":"COUNTIF(L113:L147,AI22)","v":0},{"$f":"AJ22/(AL4-AJ20)","v":0},{"$f":"IF(AK22=0,0,(AK22*((LOG(AK22))/LOG(2))))","v":0},null,{"$f":"N22","v":2222},{"$f":"COUNTIF(L148:L182,AN22)","v":0},{"$f":"AO22/(AQ4-AO20)","v":0},{"$f":"IF(AP22=0,0,(AP22*((LOG(AP22))/LOG(2))))","v":0},null,{"$f":"N22","v":2222},{"$f":"COUNTIF(L183:L217,AS22)","v":0},{"$f":"AT22/(AV4-AT20)","v":0},{"$f":"IF(AU22=0,0,(AU22*((LOG(AU22))/LOG(2))))","v":0}]
[12,1923,14,1930,13,1938,14,1942,null,null,0,1111,null,null,null,{"$f":"SUM(P7:P22)","v":1.0000000000000002},{"$f":"-SUM(Q7:Q22)","v":0.25051425790805509},null,null,null,null,{"$f":"SUM(V7:V22)","v":1},{"$f":"-SUM(W7:W22)","v":0.37313999012128174},null,null,null,{"$f":"SUM(AA7:AA22)","v":1},{"$f":"-SUM(AB7:AB22)","v":0},null,null,null,{"$f":"SUM(AF7:AF22)","v":1},{"$f":"-SUM(AG7:AG22)","v":0},null,null,null,{"$f":"SUM(AK7:AK22)","v":1},{"$f":"-SUM(AL7:AL22)","v":0.37313999012128174},null,null,null,{"$f":"SUM(AP7:AP22)","v":1},{"$f":"-SUM(AQ7:AQ22)","v":0},null,null,null,{"$f":"SUM(AU7:AU22)","v":1},{"$f":"-SUM(AV7:AV22)","v":0.37313999012128174}]
[12,2043,14,2050,13,2055,14,2062,null,null,0,1111,null,null,null,"U=",{"$f":"Q23/(LOG(Q4)/LOG(2))","v":3.2445413766275036E-2},null,null,null,null,"U1=",{"$f":"W23/(LOG(W4)/LOG(2))","v":7.2747007503502173E-2},null,null,null,"U2=",{"$f":"AB23/(LOG(AB4)/LOG(2))","v":0},null,null,null,"U3=",{"$f":"AG23/(LOG(AG4)/LOG(2))","v":0},null,null,null,"U4=",{"$f":"AL23/(LOG(AL4)/LOG(2))","v":7.2747007503502173E-2},null,null,null,"U5=",{"$f":"AQ23/(LOG(AQ4)/LOG(2))","v":0},null,null,null,"U6=",{"$f":"AV23/(LOG(AV4)/LOG(2))","v":7.2747007503502173E-2}]
[12,2173,14,2176,13,2181,14,2185,null,null,0,1111]
[12,2289,14,2293,13,2296,14,2301,null,null,0,1111]
[12,2407,14,2412,13,2416,14,2420,null,null,0,1111,null,"Total Target Seq"]
[12,2520,14,2525,13,2528,14,2532,null,null,0,1111,null,{"$f":"COUNTIF(L7:L217,G3)","v":0},null,35,35,36,35,35,35]
[12,2658,14,2662,13,2667,14,2677,null,null,0,1111,null,null,null,"% of reinforcement given in 6 equal intervals based on number of trials "]
[12,2779,14,2783,13,2786,14,2790,null,null,0,1111,null,null,null,"%_1","%_2","%_3","%_4","%_5","%_6"]
[12,2889,14,2897,13,2901,14,2905,null,null,0,1111,null,null,"target sequence",{"$f":"$G$3","v":2212},{"$f":"$G$3","v":2212},{"$f":"$G$3","v":2212},{"$f":"$G$3","v":2212},{"$f":"$G$3","v":2212},{"$f":"$G$3","v":2212}]
[12,3032,14,3041,13,3049,14,3056,null,null,0,1111,null,null,"total reinforcement",{"$f":"U20","v":0},{"$f":"Z20","v":0},{"$f":"AE20","v":0},{"$f":"AJ20","v":0},{"$f":"AO20","v":0},{"$f":"AT20","v":0}]
[12,3162,14,3165,13,3173,14,3178,null,null,0,1111,null,null,"% target"]
[12,3280,14,3285,13,3289,14,3299,null,null,0,1111,null,null,"CCRF"]
[12,3401,14,3406,13,3414,14,3418,null,null,0,1111,null,null,"% CCRf"]
[12,3519,14,3523,13,3527,14,3536,null,null,0,1111,null,null,"average response rate",{"$f":"H41/P28","v":118.97142857142858},{"$f":"(H76-H41)/Q28","v":114.42857142857143},{"$f":"(H112-H76)/R28","v":111.27777777777777},{"$f":"(H147-H112)/S28","v":112.31428571428572},{"$f":"(H182-H147)/T28","v":112.57142857142857},{"$f":"(H217-H182)/U28","v":112.31428571428572}]
[12,3656,14,3664,13,3672,14,3679,null,null,0,1111]
[21,3786,12,3797,13,3802,14,3806,null,null,0,2111]
[12,3911,14,3916,13,3920,14,3924,null,null,0,1111]
[12,4028,14,4032,13,4037,14,4044,null,null,0,1111]
[12,4148,14,4153,13,4160,14,4164,null,null,0,1111]
[12,4267,14,4271,13,4275,14,4279,null,null,0,1111]
[12,4384,14,4389,13,4394,14,4403,null,null,0,1111]
[12,4507,14,4512,13,4515,14,4519,null,null,0,1111]
[12,4620,14,4624,13,4628,14,4631,null,null,0,1111]
[12,4734,14,4739,13,4743,14,4748,null,null,0,1111]
[12,4850,14,4855,13,4869,14,4876,null,null,0,1111]
[12,4976,14,4980,13,4985,14,4990,null,null,0,1111]
[12,5088,14,5092,13,5096,14,5100,null,null,0,1111]
[12,5201,14,5210,13,5214,14,5217,null,null,0,1111]
[12,5313,14,5325,13,5328,14,5332,null,null,0,1111]
[12,5434,14,5438,13,5442,14,5446,null,null,0,1111]
[12,5552,14,5556,13,5560,14,5563,null,null,0,1111]
[12,5661,14,5665,13,5669,14,5673,null,null,0,1111]
[12,5775,14,5780,13,5792,14,5796,null,null,0,1111]
[12,5893,14,5899,13,5905,14,5914,null,null,0,1111]
[12,6011,14,6016,13,6019,14,6023,null,null,0,1111]
[12,6119,14,6123,13,6127,14,6132,null,null,0,1111]
[12,6227,14,6232,13,6239,14,6243,null,null,0,1111]
[12,6341,14,6345,13,6349,14,6358,null,null,0,1111]
[12,6456,14,6460,13,6464,14,6468,null,null,0,1111]
[12,6566,14,6570,13,6574,14,6579,null,null,0,1111]
[12,6676,14,6680,13,6684,14,6688,null,null,0,1111]
[12,6787,14,6803,13,6808,14,6814,null,null,0,1111]
[12,6912,14,6917,13,6921,14,6925,null,null,0,1111]
[12,7023,14,7028,13,7033,14,7037,null,null,0,1111]
[12,7138,14,7143,13,7147,14,7152,null,null,0,1111]
[12,7247,14,7262,13,7266,14,7270,null,null,0,1111]
[12,7365,14,7370,13,7373,14,7377,null,null,0,1111]
[12,7476,14,7480,13,7488,14,7491,null,null,0,1111]
[12,7590,14,7594,13,7598,14,7602,null,null,0,1111]
[12,7705,14,7709,13,7713,14,7716,null,null,0,1111]
[12,7817,14,7821,13,7825,14,7829,null,null,0,1111]
[12,7932,14,7937,13,7941,14,7949,null,null,0,1111]
[12,8049,14,8053,13,8056,14,8060,null,null,0,1111]
[12,8157,14,8161,13,8165,14,8169,null,null,0,1111]
[12,8268,14,8272,13,8276,14,8280,null,null,0,1111]
[12,8384,14,8388,13,8392,14,8396,null,null,0,1111]
[12,8495,14,8499,13,8503,14,8507,null,null,0,1111]
[12,8612,14,8615,13,8619,14,8623,null,null,0,1111]
[12,8723,14,8728,13,8732,14,8737,null,null,0,1111]
[12,8833,14,8837,13,8841,14,8845,null,null,0,1111]
[12,8946,14,8950,13,8954,14,8958,null,null,0,1111]
[12,9059,14,9063,13,9066,14,9070,null,null,0,1111]
[12,9167,14,9171,13,9176,14,9180,null,null,0,1111]
[12,9276,14,9280,13,9283,14,9287,null,null,0,1111]
[12,9382,14,9386,13,9391,14,9394,null,null,0,1111]
[12,9485,14,9489,13,9493,14,9499,null,null,0,1111]
[12,9602,14,9605,13,9609,14,9613,null,null,0,1111]
[12,9714,14,9718,13,9722,14,9726,null,null,0,1111]
[12,9824,14,9828,13,9832,14,9835,null,null,0,1111]
[12,9931,14,9935,13,9939,14,9942,null,null,0,1111]
[12,10041,14,10045,13,10049,14,10053,null,null,0,1111]
[12,10151,14,10155,13,10160,14,10165,null,null,0,1111]
[12,10263,14,10267,13,10278,14,10283,null,null,0,1111]
[12,10378,14,10382,13,10390,14,10419,null,null,0,1111]
[12,10517,14,10522,13,10525,14,10535,null,null,0,1111]
[12,10631,14,10636,13,10639,14,10643,null,null,0,1111]
[12,10738,14,10742,13,10746,14,10751,null,null,0,1111]
[12,10852,14,10857,13,10860,14,10864,null,null,0,1111]
[12,10965,14,10969,13,10972,14,10976,null,null,0,1111]
[12,11071,14,11076,13,11080,14,11084,null,null,0,1111]
[12,11180,14,11184,13,11189,14,11196,null,null,0,1111]
[12,11292,14,11296,13,11301,14,11304,null,null,0,1111]
[12,11400,14,11404,13,11407,14,11411,null,null,0,1111]
[12,11508,14,11512,13,11515,14,11519,null,null,0,1111]
[12,11615,14,11618,13,11622,14,11626,null,null,0,1111]
[12,11721,14,11729,13,11733,14,11739,null,null,0,1111]
[12,11835,14,11838,13,11845,14,11849,null,null,0,1111]
[12,11948,14,11952,13,11955,14,11960,null,null,0,1111]
[12,12055,14,12059,13,12063,14,12067,null,null,0,1111]
[12,12164,14,12168,13,12172,14,12175,null,null,0,1111]
[12,12272,14,12276,13,12280,14,12284,null,null,0,1111]
[12,12385,14,12389,13,12392,14,12396,null,null,0,1111]
[12,12496,14,12499,13,12503,14,12514,null,null,0,1111]
[12,12613,14,12617,13,12621,14,12624,null,null,0,1111]
[12,12720,14,12731,13,12736,14,12739,null,null,0,1111]
[12,12835,14,12840,13,12843,14,12847,null,null,0,1111]
[12,12946,14,12950,13,12954,14,12957,null,null,0,1111]
[12,13055,14,13058,13,13063,14,13066,null,null,0,1111]
[12,13164,14,13168,13,13172,14,13175,null,null,0,1111]
[12,13271,14,13275,13,13279,14,13282,null,null,0,1111]
[12,13381,14,13385,13,13389,14,13392,null,null,0,1111]
[12,13487,14,13491,13,13494,14,13497,null,null,0,1111]
[12,13596,14,13609,13,13613,14,13617,null,null,0,1111]
[12,13713,14,13717,13,13722,14,13725,null,null,0,1111]
[12,13824,14,13832,13,13837,14,13841,null,null,0,1111]
[12,13942,14,13961,24,13975,23,13996,null,null,0,1122]
[12,14094,14,14098,13,14102,14,14105,null,null,0,1111]
[12,14202,14,14206,13,14209,14,14213,null,null,0,1111]
[12,14313,14,14317,13,14322,14,14326,null,null,0,1111]
[12,14424,14,14428,13,14432,14,14435,null,null,0,1111]
[12,14528,14,14533,13,14536,14,14540,null,null,0,1111]
[12,14635,14,14639,13,14643,14,14646,null,null,0,1111]
[12,14740,14,14744,13,14748,14,14755,null,null,0,1111]
[12,14852,14,14858,13,14862,14,14866,null,null,0,1111]
[12,14961,14,14965,13,14969,14,14973,null,null,0,1111]
[12,15068,14,15072,13,15076,14,15082,null,null,0,1111]
[12,15177,14,15181,13,15185,14,15196,null,null,0,1111]
[12,15293,14,15297,13,15302,14,15306,null,null,0,1111]
[12,15403,14,15407,13,15411,14,15415,null,null,0,1111]
[12,15512,14,15516,13,15519,14,15523,null,null,0,1111]
[12,15630,23,15650,13,15665,14,15672,null,null,0,1211]
[12,15767,14,15772,13,15776,14,15780,null,null,0,1111]
[12,15876,14,15881,13,15885,14,15888,null,null,0,1111]
[12,15984,14,15988,13,15992,14,15996,null,null,0,1111]
[12,16096,14,16100,13,16103,14,16106,null,null,0,1111]
[12,16207,14,16213,13,16218,14,16226,null,null,0,1111]
[12,16328,14,16331,13,16335,14,16338,null,null,0,1111]
[12,16437,14,16443,13,16455,14,16458,null,null,0,1111]
[12,16556,14,16560,13,16564,14,16568,null,null,0,1111]
[12,16664,14,16668,13,16672,14,16675,null,null,0,1111]
[12,16770,14,16774,13,16778,14,16781,null,null,0,1111]
[12,16878,14,16882,13,16887,14,16890,null,null,0,1111]
[12,16986,14,16990,13,16994,14,16997,null,null,0,1111]
[12,17114,14,17118,13,17126,14,17130,null,null,0,1111]
[12,17225,14,17229,13,17233,14,17236,null,null,0,1111]
[12,17335,14,17339,13,17342,14,17346,null,null,0,1111]
[12,17445,14,17449,13,17452,14,17457,null,null,0,1111]
[12,17553,14,17557,13,17560,14,17564,null,null,0,1111]
[12,17671,14,17676,13,17684,14,17689,null,null,0,1111]
[12,17788,14,17792,13,17795,14,17799,null,null,0,1111]
[12,17898,14,17903,13,17906,14,17910,null,null,0,1111]
[12,18009,14,18013,13,18016,14,18020,null,null,0,1111]
[12,18120,14,18124,13,18128,14,18132,null,null,0,1111]
[12,18227,14,18231,13,18235,14,18238,null,null,0,1111]
[12,18339,14,18343,13,18347,14,18350,null,null,0,1111]
[12,18445,14,18450,13,18453,14,18460,null,null,0,1111]
[12,18565,14,18569,13,18573,14,18576,null,null,0,1111]
[12,18670,14,18680,13,18697,14,18700,null,null,0,1111]
[12,18801,14,18806,13,18809,14,18813,null,null,0,1111]
[12,18912,14,18916,13,18920,14,18924,null,null,0,1111]
[12,19018,14,19023,13,19027,14,19031,null,null,0,1111]
[12,19128,14,19132,13,19135,14,19139,null,null,0,1111]
[12,19236,14,19241,13,19245,14,19248,null,null,0,1111]
[12,19345,14,19350,13,19354,14,19358,null,null,0,1111]
[12,19461,14,19468,13,19474,14,19489,null,null,0,1111]
[12,19593,14,19598,13,19602,14,19605,null,null,0,1111]
[12,19701,14,19704,13,19708,14,19711,null,null,0,1111]
[12,19811,14,19816,13,19821,14,19824,null,null,0,1111]
[12,19924,14,19928,13,19932,14,19935,null,null,0,1111]
[12,20032,14,20035,13,20043,14,20046,null,null,0,1111]
[12,20142,14,20146,13,20149,14,20153,null,null,0,1111]
[12,20262,14,20266,13,20270,14,20274,null,null,0,1111]
[12,20376,14,20380,13,20384,14,20387,null,null,0,1111]
[12,20479,14,20483,13,20487,14,20490,null,null,0,1111]
[12,20587,14,20591,13,20596,14,20605,null,null,0,1111]
[12,20703,14,20707,13,20711,14,20714,null,null,0,1111]
[12,20809,14,20813,13,20817,14,20822,null,null,0,1111]
[12,20921,14,20924,13,20928,14,20932,null,null,0,1111]
[12,21031,14,21036,24,21051,23,21059,null,null,0,1122]
[12,21154,14,21158,13,21162,14,21166,null,null,0,1111]
[12,21263,14,21268,13,21272,14,21275,null,null,0,1111]
[12,21371,14,21374,13,21378,14,21382,null,null,0,1111]
[12,21474,14,21480,13,21484,14,21488,null,null,0,1111]
[12,21583,14,21588,13,21592,14,21596,null,null,0,1111]
[12,21695,14,21702,13,21709,23,21725,null,null,0,1112]
[12,21822,14,21826,13,21830,14,21834,null,null,0,1111]
[12,21929,14,21933,13,21937,14,21941,null,null,0,1111]
[12,22044,14,22055,13,22060,14,22064,null,null,0,1111]
[12,22162,14,22166,13,22171,14,22174,null,null,0,1111]
[12,22269,14,22274,13,22278,14,22281,null,null,0,1111]
[12,22377,14,22382,13,22385,14,22389,null,null,0,1111]
[12,22491,14,22495,13,22499,14,22513,null,null,0,1111]
[12,22610,14,22614,13,22619,14,22623,null,null,0,1111]
[12,22719,14,22731,13,22737,14,22741,null,null,0,1111]
[12,22837,14,22841,13,22845,14,22848,null,null,0,1111]
[12,22945,14,22949,13,22953,14,22962,null,null,0,1111]
[12,23058,14,23062,13,23065,14,23069,null,null,0,1111]
[12,23174,14,23178,13,23182,14,23186,null,null,0,1111]
[12,23283,14,23287,13,23290,14,23298,null,null,0,1111]
[12,23413,14,23418,13,23428,14,23433,null,null,0,1111]
[12,23532,14,23536,13,23540,14,23544,null,null,0,1111]
[12,23641,14,23645,13,23649,14,23652,null,null,0,1111]
[12,23747,14,23751,13,23756,14,23759,null,null,0,1111]
[12,23855,14,23859,13,23863,14,23866,null,null,0,1111]
[12,23966,14,23969,13,23973,14,23977,null,null,null,1111]

{"sheet":"!M907A50.104","index":24,"n_rows":219,"n_cols":48,"rows_kept":219,"cut":false,"hidden":false,"merged":[[4,39,4,42],[5,39,5,40],[4,44,4,47],[5,44,5,45],[4,24,4,27],[5,24,5,25],[4,29,4,32],[5,29,5,30],[4,34,4,37],[5,34,5,35],[1,1,1,2],[5,13,5,14],[26,13,26,14],[27,13,27,14],[4,19,4,22],[5,19,5,20]]}
["Report for:!M907A50.104"]
["Date:","<date>"]
["Hen:","<hen>",null,null,null,"Correct Sequence",{"$f":"Start!J2","v":2212},null,null,null,null,null,null,null,null,"Total Sequences in Data",{"$f":"4994-COUNTBLANK(L7:L5000)","v":213},null,null,null,null,"Total Sequences in Block Data",{"$f":"COUNTA(L7:L42)","v":36},null,null,null,"Total Sequences in Block Data",{"$f":"COUNTA(L43:L77)","v":35},null,null,null,"Total Sequences in Block Data",{"$f":"COUNTA(L78:L113)","v":36},null,null,null,"Total Sequences in Block Data",{"$f":"COUNTA(L114:L148)","v":35},null,null,null,"Total Sequences in Block Data",{"$f":"COUNTA(L149:L184)","v":36},null,null,null,"Total Sequences in Block Data",{"$f":"COUNTA(L185:L219)","v":35}]
[null,null,null,null,null,null,null,null,null,null,null,null,null,null,null,"Total Sequences in Summary",{"$f":"SUM(O7:O22)","v":213},null,null,null,null,"Total Sequences in Block Summary",{"$f":"SUM(U7:U22)","v":36},null,null,null,"Total Sequences in Block Summary",{"$f":"SUM(Z7:Z22)","v":35},null,null,null,"Total Sequences in Block Summary",{"$f":"SUM(AE7:AE22)","v":36},null,null,null,"Total Sequences in Block Summary",{"$f":"SUM(AJ7:AJ22)","v":35},null,null,null,"Total Sequences in Block Summary",{"$f":"SUM(AO7:AO22)","v":36},null,null,null,"Total Sequences in Block Summary",{"$f":"SUM(AT7:AT22)","v":35}]
[null,null,null,null,null,null,null,null,null,null,null,null,null,null,null,null,null,null,null,"Block 1",null,null,null,null,"Block 2",null,null,null,null,"Block 3",null,null,null,null,"Block 4",null,null,null,null,"Block 5",null,null,null,null,"Block 6"]
["Sequence\nComponent\n1","Time\n1","Sequence\nComponent\n2","Time\n2","Sequence\nComponent\n3","Time\n3","Sequence\nComponent\n4","Time\n4","Sequence\nComponent\n5","Time\n5","Correct?\n0=No 1=Yes","Sequence",null,"Frequency",null,"Relative Frequency","Variability",null,null,"Frequency",null,"Relative Frequency","Variability",null,"Frequency",null,"Relative Frequency","Variability",null,"Frequency",null,"Relative Frequency","Variability",null,"Frequency",null,"Relative Frequency","Variability",null,"Frequency",null,"Relative Frequency","Variability",null,"Frequency",null,"Relative Frequency","Variability"]
[12,11,14,20,24,33,23,41,null,null,0,1122,null,1111,{"$f":"COUNTIF($L$7:$L$500,N7)","v":209},{"$f":"O7/$Q$4","v":0.98122065727699526},{"$f":"IF(P7=0,0,(P7*((LOG(P7))/LOG(2))))","v":-2.6836863954439967E-2},null,null,{"$f":"N7","v":1111},{"$f":"COUNTIF(L7:L42,T7)","v":34},{"$f":"U7/(W4-U20)","v":0.94444444444444442},{"$f":"IF(V7=0,0,(V7*((LOG(V7))/LOG(2))))","v":-7.7880929070196711E-2},null,{"$f":"N7","v":1111},{"$f":"COUNTIF(L43:L77,Y7)","v":34},{"$f":"Z7/(AB4-Z20)","v":0.97142857142857142},{"$f":"IF(AA7=0,0,(AA7*((LOG(AA7))/LOG(2))))","v":-4.0625313531923425E-2},null,{"$f":"N7","v":1111},{"$f":"COUNTIF(L78:L113,AD7)","v":36},{"$f":"AE7/(AG4-AE20)","v":1},{"$f":"IF(AF7=0,0,(AF7*((LOG(AF7))/LOG(2))))","v":0},null,{"$f":"N7","v":1111},{"$f":"COUNTIF(L114:L148,AI7)","v":34},{"$f":"AJ7/(AL4-AJ20)","v":0.97142857142857142},{"$f":"IF(AK7=0,0,(AK7*((LOG(AK7))/LOG(2))))","v":-4.0625313531923425E-2},null,{"$f":"N7","v":1111},{"$f":"COUNTIF(L149:L184,AN7)","v":36},{"$f":"AO7/(AQ4-AO20)","v":1},{"$f":"IF(AP7=0,0,(AP7*((LOG(AP7))/LOG(2))))","v":0},null,{"$f":"N7","v":1111},{"$f":"COUNTIF(L185:L219,AS7)","v":35},{"$f":"AT7/(AV4-AT20)","v":1},{"$f":"IF(AU7=0,0,(AU7*((LOG(AU7))/LOG(2))))","v":0}]
[12,138,14,158,13,163,14,168,null,null,0,1111,null,1112,{"$f":"COUNTIF($L$7:$L$500,N8)","v":1},{"$f":"O8/$Q$4","v":4.6948356807511738E-3},{"$f":"IF(P8=0,0,(P8*((LOG(P8))/LOG(2))))","v":-3.6313190705285624E-2},null,null,{"$f":"N8","v":1112},{"$f":"COUNTIF(L7:L42,T8)","v":0},{"$f":"U8/(W4-U20)","v":0},{"$f":"IF(V8=0,0,(V8*((LOG(V8))/LOG(2))))","v":0},null,{"$f":"N8","v":1112},{"$f":"COUNTIF(L43:L77,Y8)","v":0},{"$f":"Z8/(AB4-Z20)","v":0},{"$f":"IF(AA8=0,0,(AA8*((LOG(AA8))/LOG(2))))","v":0},null,{"$f":"N8","v":1112},{"$f":"COUNTIF(L78:L113,AD8)","v":0},{"$f":"AE8/(AG4-AE20)","v":0},{"$f":"IF(AF8=0,0,(AF8*((LOG(AF8))/LOG(2))))","v":0},null,{"$f":"N8","v":1112},{"$f":"COUNTIF(L114:L148,AI8)","v":1},{"$f":"AJ8/(AL4-AJ20)","v":2.8571428571428571E-2},{"$f":"IF(AK8=0,0,(AK8*((LOG(AK8))/LOG(2))))","v":-0.14655094334128474},null,{"$f":"N8","v":1112},{"$f":"COUNTIF(L149:L184,AN8)","v":0},{"$f":"AO8/(AQ4-AO20)","v":0},{"$f":"IF(AP8=0,0,(AP8*((LOG(AP8))/LOG(2))))","v":0},null,{"$f":"N8","v":1112},{"$f":"COUNTIF(L185:L219,AS8)","v":0},{"$f":"AT8/(AV4-AT20)","v":0},{"$f":"IF(AU8=0,0,(AU8*((LOG(AU8))/LOG(2))))","v":0}]
[12,266,14,277,13,281,14,285,null,null,0,1111,null,1121,{"$f":"COUNTIF($L$7:$L$500,N9)","v":0},{"$f":"O9/$Q$4","v":0},{"$f":"IF(P9=0,0,(P9*((LOG(P9))/LOG(2))))","v":0},null,null,{"$f":"N9","v":1121},{"$f":"COUNTIF(L7:L42,T9)","v":0},{"$f":"U9/(W4-U20)","v":0},{"$f":"IF(V9=0,0,(V9*((LOG(V9))/LOG(2))))","v":0},null,{"$f":"N9","v":1121},{"$f":"COUNTIF(L43:L77,Y9)","v":0},{"$f":"Z9/(AB4-Z20)","v":0},{"$f":"IF(AA9=0,0,(AA9*((LOG(AA9))/LOG(2))))","v":0},null,{"$f":"N9","v":1121},{"$f":"COUNTIF(L78:L113,AD9)","v":0},{"$f":"AE9/(AG4-AE20)","v":0},{"$f":"IF(AF9=0,0,(AF9*((LOG(AF9))/LOG(2))))","v":0},null,{"$f":"N9","v":1121},{"$f":"COUNTIF(L114:L148,AI9)","v":0},{"$f":"AJ9/(AL4-AJ20)","v":0},{"$f":"IF(AK9=0,0,(AK9*((LOG(AK9))/LOG(2))))","v":0},null,{"$f":"N9","v":1121},{"$f":"COUNTIF(L149:L184,AN9)","v":0},{"$f":"AO9/(AQ4-AO20)","v":0},{"$f":"IF(AP9=0,0,(AP9*((LOG(AP9))/LOG(2))))","v":0},null,{"$f":"N9","v":1121},{"$f":"COUNTIF(L185:L219,AS9)","v":0},{"$f":"AT9/(AV4-AT20)","v":0},{"$f":"IF(AU9=0,0,(AU9*((LOG(AU9))/LOG(2))))","v":0}]
[12,385,14,389,13,393,14,398,null,null,0,1111,null,1122,{"$f":"COUNTIF($L$7:$L$500,N10)","v":2},{"$f":"O10/$Q$4","v":9.3896713615023476E-3},{"$f":"IF(P10=0,0,(P10*((LOG(P10))/LOG(2))))","v":-6.3236710049068903E-2},null,null,{"$f":"N10","v":1122},{"$f":"COUNTIF(L7:L42,T10)","v":1},{"$f":"U10/(W4-U20)","v":2.7777777777777776E-2},{"$f":"IF(V10=0,0,(V10*((LOG(V10))/LOG(2))))","v":-0.14360902781784199},null,{"$f":"N10","v":1122},{"$f":"COUNTIF(L43:L77,Y10)","v":1},{"$f":"Z10/(AB4-Z20)","v":2.8571428571428571E-2},{"$f":"IF(AA10=0,0,(AA10*((LOG(AA10))/LOG(2))))","v":-0.14655094334128474},null,{"$f":"N10","v":1122},{"$f":"COUNTIF(L78:L113,AD10)","v":0},{"$f":"AE10/(AG4-AE20)","v":0},{"$f":"IF(AF10=0,0,(AF10*((LOG(AF10))/LOG(2))))","v":0},null,{"$f":"N10","v":1122},{"$f":"COUNTIF(L114:L148,AI10)","v":0},{"$f":"AJ10/(AL4-AJ20)","v":0},{"$f":"IF(AK10=0,0,(AK10*((LOG(AK10))/LOG(2))))","v":0},null,{"$f":"N10","v":1122},{"$f":"COUNTIF(L149:L184,AN10)","v":0},{"$f":"AO10/(AQ4-AO20)","v":0},{"$f":"IF(AP10=0,0,(AP10*((LOG(AP10))/LOG(2))))","v":0},null,{"$f":"N10","v":1122},{"$f":"COUNTIF(L185:L219,AS10)","v":0},{"$f":"AT10/(AV4-AT20)","v":0},{"$f":"IF(AU10=0,0,(AU10*((LOG(AU10))/LOG(2))))","v":0}]
[12,497,14,501,13,505,14,509,null,null,0,1111,null,1211,{"$f":"COUNTIF($L$7:$L$500,N11)","v":0},{"$f":"O11/$Q$4","v":0},{"$f":"IF(P11=0,0,(P11*((LOG(P11))/LOG(2))))","v":0},null,null,{"$f":"N11","v":1211},{"$f":"COUNTIF(L7:L42,T11)","v":0},{"$f":"U11/(W4-U20)","v":0},{"$f":"IF(V11=0,0,(V11*((LOG(V11))/LOG(2))))","v":0},null,{"$f":"N11","v":1211},{"$f":"COUNTIF(L43:L77,Y11)","v":0},{"$f":"Z11/(AB4-Z20)","v":0},{"$f":"IF(AA11=0,0,(AA11*((LOG(AA11))/LOG(2))))","v":0},null,{"$f":"N11","v":1211},{"$f":"COUNTIF(L78:L113,AD11)","v":0},{"$f":"AE11/(AG4-AE20)","v":0},{"$f":"IF(AF11=0,0,(AF11*((LOG(AF11))/LOG(2))))","v":0},null,{"$f":"N11","v":1211},{"$f":"COUNTIF(L114:L148,AI11)","v":0},{"$f":"AJ11/(AL4-AJ20)","v":0},{"$f":"IF(AK11=0,0,(AK11*((LOG(AK11))/LOG(2))))","v":0},null,{"$f":"N11","v":1211},{"$f":"COUNTIF(L149:L184,AN11)","v":0},{"$f":"AO11/(AQ4-AO20)","v":0},{"$f":"IF(AP11=0,0,(AP11*((LOG(AP11))/LOG(2))))","v":0},null,{"$f":"N11","v":1211},{"$f":"COUNTIF(L185:L219,AS11)","v":0},{"$f":"AT11/(AV4-AT20)","v":0},{"$f":"IF(AU11=0,0,(AU11*((LOG(AU11))/LOG(2))))","v":0}]
[12,609,14,614,13,621,14,625,null,null,0,1111,null,1212,{"$f":"COUNTIF($L$7:$L$500,N12)","v":0},{"$f":"O12/$Q$4","v":0},{"$f":"IF(P12=0,0,(P12*((LOG(P12))/LOG(2))))","v":0},null,null,{"$f":"N12","v":1212},{"$f":"COUNTIF(L7:L42,T12)","v":0},{"$f":"U12/(W4-U20)","v":0},{"$f":"IF(V12=0,0,(V12*((LOG(V12))/LOG(2))))","v":0},null,{"$f":"N12","v":1212},{"$f":"COUNTIF(L43:L77,Y12)","v":0},{"$f":"Z12/(AB4-Z20)","v":0},{"$f":"IF(AA12=0,0,(AA12*((LOG(AA12))/LOG(2))))","v":0},null,{"$f":"N12","v":1212},{"$f":"COUNTIF(L78:L113,AD12)","v":0},{"$f":"AE12/(AG4-AE20)","v":0},{"$f":"IF(AF12=0,0,(AF12*((LOG(AF12))/LOG(2))))","v":0},null,{"$f":"N12","v":1212},{"$f":"COUNTIF(L114:L148,AI12)","v":0},{"$f":"AJ12/(AL4-AJ20)","v":0},{"$f":"IF(AK12=0,0,(AK12*((LOG(AK12))/LOG(2))))","v":0},null,{"$f":"N12","v":1212},{"$f":"COUNTIF(L149:L184,AN12)","v":0},{"$f":"AO12/(AQ4-AO20)","v":0},{"$f":"IF(AP12=0,0,(AP12*((LOG(AP12))/LOG(2))))","v":0},null,{"$f":"N12","v":1212},{"$f":"COUNTIF(L185:L219,AS12)","v":0},{"$f":"AT12/(AV4-AT20)","v":0},{"$f":"IF(AU12=0,0,(AU12*((LOG(AU12))/LOG(2))))","v":0}]
[12,735,14,739,13,743,14,748,null,null,0,1111,null,1221,{"$f":"COUNTIF($L$7:$L$500,N13)","v":0},{"$f":"O13/$Q$4","v":0},{"$f":"IF(P13=0,0,(P13*((LOG(P13))/LOG(2))))","v":0},null,null,{"$f":"N13","v":1221},{"$f":"COUNTIF(L7:L42,T13)","v":0},{"$f":"U13/(W4-U20)","v":0},{"$f":"IF(V13=0,0,(V13*((LOG(V13))/LOG(2))))","v":0},null,{"$f":"N13","v":1221},{"$f":"COUNTIF(L43:L77,Y13)","v":0},{"$f":"Z13/(AB4-Z20)","v":0},{"$f":"IF(AA13=0,0,(AA13*((LOG(AA13))/LOG(2))))","v":0},null,{"$f":"N13","v":1221},{"$f":"COUNTIF(L78:L113,AD13)","v":0},{"$f":"AE13/(AG4-AE20)","v":0},{"$f":"IF(AF13=0,0,(AF13*((LOG(AF13))/LOG(2))))","v":0},null,{"$f":"N13","v":1221},{"$f":"COUNTIF(L114:L148,AI13)","v":0},{"$f":"AJ13/(AL4-AJ20)","v":0},{"$f":"IF(AK13=0,0,(AK13*((LOG(AK13))/LOG(2))))","v":0},null,{"$f":"N13","v":1221},{"$f":"COUNTIF(L149:L184,AN13)","v":0},{"$f":"AO13/(AQ4-AO20)","v":0},{"$f":"IF(AP13=0,0,(AP13*((LOG(AP13))/LOG(2))))","v":0},null,{"$f":"N13","v":1221},{"$f":"COUNTIF(L185:L219,AS13)","v":0},{"$f":"AT13/(AV4-AT20)","v":0},{"$f":"IF(AU13=0,0,(AU13*((LOG(AU13))/LOG(2))))","v":0}]
[12,846,14,850,13,856,14,860,null,null,0,1111,null,1222,{"$f":"COUNTIF($L$7:$L$500,N14)","v":1},{"$f":"O14/$Q$4","v":4.6948356807511738E-3},{"$f":"IF(P14=0,0,(P14*((LOG(P14))/LOG(2))))","v":-3.6313190705285624E-2},null,null,{"$f":"N14","v":1222},{"$f":"COUNTIF(L7:L42,T14)","v":1},{"$f":"U14/(W4-U20)","v":2.7777777777777776E-2},{"$f":"IF(V14=0,0,(V14*((LOG(V14))/LOG(2))))","v":-0.14360902781784199},null,{"$f":"N14","v":1222},{"$f":"COUNTIF(L43:L77,Y14)","v":0},{"$f":"Z14/(AB4-Z20)","v":0},{"$f":"IF(AA14=0,0,(AA14*((LOG(AA14))/LOG(2))))","v":0},null,{"$f":"N14","v":1222},{"$f":"COUNTIF(L78:L113,AD14)","v":0},{"$f":"AE14/(AG4-AE20)","v":0},{"$f":"IF(AF14=0,0,(AF14*((LOG(AF14))/LOG(2))))","v":0},null,{"$f":"N14","v":1222},{"$f":"COUNTIF(L114:L148,AI14)","v":0},{"$f":"AJ14/(AL4-AJ20)","v":0},{"$f":"IF(AK14=0,0,(AK14*((LOG(AK14))/LOG(2))))","v":0},null,{"$f":"N14","v":1222},{"$f":"COUNTIF(L149:L184,AN14)","v":0},{"$f":"AO14/(AQ4-AO20)","v":0},{"$f":"IF(AP14=0,0,(AP14*((LOG(AP14))/LOG(2))))","v":0},null,{"$f":"N14","v":1222},{"$f":"COUNTIF(L185:L219,AS14)","v":0},{"$f":"AT14/(AV4-AT20)","v":0},{"$f":"IF(AU14=0,0,(AU14*((LOG(AU14))/LOG(2))))","v":0}]
[12,963,14,968,13,971,14,975,null,null,0,1111,null,2111,{"$f":"COUNTIF($L$7:$L$500,N15)","v":0},{"$f":"O15/$Q$4","v":0},{"$f":"IF(P15=0,0,(P15*((LOG(P15))/LOG(2))))","v":0},null,null,{"$f":"N15","v":2111},{"$f":"COUNTIF(L7:L42,T15)","v":0},{"$f":"U15/(W4-U20)","v":0},{"$f":"IF(V15=0,0,(V15*((LOG(V15))/LOG(2))))","v":0},null,{"$f":"N15","v":2111},{"$f":"COUNTIF(L43:L77,Y15)","v":0},{"$f":"Z15/(AB4-Z20)","v":0},{"$f":"IF(AA15=0,0,(AA15*((LOG(AA15))/LOG(2))))","v":0},null,{"$f":"N15","v":2111},{"$f":"COUNTIF(L78:L113,AD15)","v":0},{"$f":"AE15/(AG4-AE20)","v":0},{"$f":"IF(AF15=0,0,(AF15*((LOG(AF15))/LOG(2))))","v":0},null,{"$f":"N15","v":2111},{"$f":"COUNTIF(L114:L148,AI15)","v":0},{"$f":"AJ15/(AL4-AJ20)","v":0},{"$f":"IF(AK15=0,0,(AK15*((LOG(AK15))/LOG(2))))","v":0},null,{"$f":"N15","v":2111},{"$f":"COUNTIF(L149:L184,AN15)","v":0},{"$f":"AO15/(AQ4-AO20)","v":0},{"$f":"IF(AP15=0,0,(AP15*((LOG(AP15))/LOG(2))))","v":0},null,{"$f":"N15","v":2111},{"$f":"COUNTIF(L185:L219,AS15)","v":0},{"$f":"AT15/(AV4-AT20)","v":0},{"$f":"IF(AU15=0,0,(AU15*((LOG(AU15))/LOG(2))))","v":0}]
[12,1087,14,1091,13,1095,14,1099,null,null,0,1111,null,2112,{"$f":"COUNTIF($L$7:$L$500,N16)","v":0},{"$f":"O16/$Q$4","v":0},{"$f":"IF(P16=0,0,(P16*((LOG(P16))/LOG(2))))","v":0},null,null,{"$f":"N16","v":2112},{"$f":"COUNTIF(L7:L42,T16)","v":0},{"$f":"U16/(W4-U20)","v":0},{"$f":"IF(V16=0,0,(V16*((LOG(V16))/LOG(2))))","v":0},null,{"$f":"N16","v":2112},{"$f":"COUNTIF(L43:L77,Y16)","v":0},{"$f":"Z16/(AB4-Z20)","v":0},{"$f":"IF(AA16=0,0,(AA16*((LOG(AA16))/LOG(2))))","v":0},null,{"$f":"N16","v":2112},{"$f":"COUNTIF(L78:L113,AD16)","v":0},{"$f":"AE16/(AG4-AE20)","v":0},{"$f":"IF(AF16=0,0,(AF16*((LOG(AF16))/LOG(2))))","v":0},null,{"$f":"N16","v":2112},{"$f":"COUNTIF(L114:L148,AI16)","v":0},{"$f":"AJ16/(AL4-AJ20)","v":0},{"$f":"IF(AK16=0,0,(AK16*((LOG(AK16))/LOG(2))))","v":0},null,{"$f":"N16","v":2112},{"$f":"COUNTIF(L149:L184,AN16)","v":0},{"$f":"AO16/(AQ4-AO20)","v":0},{"$f":"IF(AP16=0,0,(AP16*((LOG(AP16))/LOG(2))))","v":0},null,{"$f":"N16","v":2112},{"$f":"COUNTIF(L185:L219,AS16)","v":0},{"$f":"AT16/(AV4-AT20)","v":0},{"$f":"IF(AU16=0,0,(AU16*((LOG(AU16))/LOG(2))))","v":0}]
[12,1198,14,1202,13,1206,14,1217,null,null,0,1111,null,2121,{"$f":"COUNTIF($L$7:$L$500,N17)","v":0},{"$f":"O17/$Q$4","v":0},{"$f":"IF(P17=0,0,(P17*((LOG(P17))/LOG(2))))","v":0},null,null,{"$f":"N17","v":2121},{"$f":"COUNTIF(L7:L42,T17)","v":0},{"$f":"U17/(W4-U20)","v":0},{"$f":"IF(V17=0,0,(V17*((LOG(V17))/LOG(2))))","v":0},null,{"$f":"N17","v":2121},{"$f":"COUNTIF(L43:L77,Y17)","v":0},{"$f":"Z17/(AB4-Z20)","v":0},{"$f":"IF(AA17=0,0,(AA17*((LOG(AA17))/LOG(2))))","v":0},null,{"$f":"N17","v":2121},{"$f":"COUNTIF(L78:L113,AD17)","v":0},{"$f":"AE17/(AG4-AE20)","v":0},{"$f":"IF(AF17=0,0,(AF17*((LOG(AF17))/LOG(2))))","v":0},null,{"$f":"N17","v":2121},{"$f":"COUNTIF(L114:L148,AI17)","v":0},{"$f":"AJ17/(AL4-AJ20)","v":0},{"$f":"IF(AK17=0,0,(AK17*((LOG(AK17))/LOG(2))))","v":0},null,{"$f":"N17","v":2121},{"$f":"COUNTIF(L149:L184,AN17)","v":0},{"$f":"AO17/(AQ4-AO20)","v":0},{"$f":"IF(AP17=0,0,(AP17*((LOG(AP17))/LOG(2))))","v":0},null,{"$f":"N17","v":2121},{"$f":"COUNTIF(L185:L219,AS17)","v":0},{"$f":"AT17/(AV4-AT20)","v":0},{"$f":"IF(AU17=0,0,(AU17*((LOG(AU17))/LOG(2))))","v":0}]
[12,1327,14,1333,13,1337,14,1341,null,null,0,1111,null,2122,{"$f":"COUNTIF($L$7:$L$500,N18)","v":0},{"$f":"O18/$Q$4","v":0},{"$f":"IF(P18=0,0,(P18*((LOG(P18))/LOG(2))))","v":0},null,null,{"$f":"N18","v":2122},{"$f":"COUNTIF(L7:L42,T18)","v":0},{"$f":"U18/(W4-U20)","v":0},{"$f":"IF(V18=0,0,(V18*((LOG(V18))/LOG(2))))","v":0},null,{"$f":"N18","v":2122},{"$f":"COUNTIF(L43:L77,Y18)","v":0},{"$f":"Z18/(AB4-Z20)","v":0},{"$f":"IF(AA18=0,0,(AA18*((LOG(AA18))/LOG(2))))","v":0},null,{"$f":"N18","v":2122},{"$f":"COUNTIF(L78:L113,AD18)","v":0},{"$f":"AE18/(AG4-AE20)","v":0},{"$f":"IF(AF18=0,0,(AF18*((LOG(AF18))/LOG(2))))","v":0},null,{"$f":"N18","v":2122},{"$f":"COUNTIF(L114:L148,AI18)","v":0},{"$f":"AJ18/(AL4-AJ20)","v":0},{"$f":"IF(AK18=0,0,(AK18*((LOG(AK18))/LOG(2))))","v":0},null,{"$f":"N18","v":2122},{"$f":"COUNTIF(L149:L184,AN18)","v":0},{"$f":"AO18/(AQ4-AO20)","v":0},{"$f":"IF(AP18=0,0,(AP18*((LOG(AP18))/LOG(2))))","v":0},null,{"$f":"N18","v":2122},{"$f":"COUNTIF(L185:L219,AS18)","v":0},{"$f":"AT18/(AV4-AT20)","v":0},{"$f":"IF(AU18=0,0,(AU18*((LOG(AU18))/LOG(2))))","v":0}]
[12,1442,14,1447,13,1464,14,1468,null,null,0,1111,null,2211,{"$f":"COUNTIF($L$7:$L$500,N19)","v":0},{"$f":"O19/$Q$4","v":0},{"$f":"IF(P19=0,0,(P19*((LOG(P19))/LOG(2))))","v":0},null,null,{"$f":"N19","v":2211},{"$f":"COUNTIF(L7:L42,T19)","v":0},{"$f":"U19/(W4-U20)","v":0},{"$f":"IF(V19=0,0,(V19*((LOG(V19))/LOG(2))))","v":0},null,{"$f":"N19","v":2211},{"$f":"COUNTIF(L43:L77,Y19)","v":0},{"$f":"Z19/(AB4-Z20)","v":0},{"$f":"IF(AA19=0,0,(AA19*((LOG(AA19))/LOG(2))))","v":0},null,{"$f":"N19","v":2211},{"$f":"COUNTIF(L78:L113,AD19)","v":0},{"$f":"AE19/(AG4-AE20)","v":0},{"$f":"IF(AF19=0,0,(AF19*((LOG(AF19))/LOG(2))))","v":0},null,{"$f":"N19","v":2211},{"$f":"COUNTIF(L114:L148,AI19)","v":0},{"$f":"AJ19/(AL4-AJ20)","v":0},{"$f":"IF(AK19=0,0,(AK19*((LOG(AK19))/LOG(2))))","v":0},null,{"$f":"N19","v":2211},{"$f":"COUNTIF(L149:L184,AN19)","v":0},{"$f":"AO19/(AQ4-AO20)","v":0},{"$f":"IF(AP19=0,0,(AP19*((LOG(AP19))/LOG(2))))","v":0},null,{"$f":"N19","v":2211},{"$f":"COUNTIF(L185:L219,AS19)","v":0},{"$f":"AT19/(AV4-AT20)","v":0},{"$f":"IF(AU19=0,0,(AU19*((LOG(AU19))/LOG(2))))","v":0}]
[12,1570,14,1574,13,1578,14,1582,null,null,0,1111,null,2212,{"$f":"COUNTIF($L$7:$L$500,N20)","v":0},{"$f":"O20/$Q$4","v":0},{"$f":"IF(P20=0,0,(P20*((LOG(P20))/LOG(2))))","v":0},null,null,{"$f":"N20","v":2212},{"$f":"COUNTIF(L7:L42,T20)","v":0},null,null,null,{"$f":"N20","v":2212},{"$f":"COUNTIF(L43:L77,Y20)","v":0},null,null,null,{"$f":"N20","v":2212},{"$f":"COUNTIF(L78:L113,AD20)","v":0},null,null,null,{"$f":"N20","v":2212},{"$f":"COUNTIF(L114:L148,AI20)","v":0},null,null,null,{"$f":"N20","v":2212},{"$f":"COUNTIF(L149:L184,AN20)","v":0},null,null,null,{"$f":"N20","v":2212},{"$f":"COUNTIF(L185:L219,AS20)","v":0}]
[12,1686,14,1691,13,1695,14,1699,null,null,0,1111,null,2221,{"$f":"COUNTIF($L$7:$L$500,N21)","v":0},{"$f":"O21/$Q$4","v":0},{"$f":"IF(P21=0,0,(P21*((LOG(P21))/LOG(2))))","v":0},null,null,{"$f":"N21","v":2221},{"$f":"COUNTIF(L7:L42,T21)","v":0},{"$f":"U21/(W4-U20)","v":0},{"$f":"IF(V21=0,0,(V21*((LOG(V21))/LOG(2))))","v":0},null,{"$f":"N21","v":2221},{"$f":"COUNTIF(L43:L77,Y21)","v":0},{"$f":"Z21/(AB4-Z20)","v":0},{"$f":"IF(AA21=0,0,(AA21*((LOG(AA21))/LOG(2))))","v":0},null,{"$f":"N21","v":2221},{"$f":"COUNTIF(L78:L113,AD21)","v":0},{"$f":"AE21/(AG4-AE20)","v":0},{"$f":"IF(AF21=0,0,(AF21*((LOG(AF21))/LOG(2))))","v":0},null,{"$f":"N21","v":2221},{"$f":"COUNTIF(L114:L148,AI21)","v":0},{"$f":"AJ21/(AL4-AJ20)","v":0},{"$f":"IF(AK21=0,0,(AK21*((LOG(AK21))/LOG(2))))","v":0},null,{"$f":"N21","v":2221},{"$f":"COUNTIF(L149:L184,AN21)","v":0},{"$f":"AO21/(AQ4-AO20)","v":0},{"$f":"IF(AP21=0,0,(AP21*((LOG(AP21))/LOG(2))))","v":0},null,{"$f":"N21","v":2221},{"$f":"COUNTIF(L185:L219,AS21)","v":0},{"$f":"AT21/(AV4-AT20)","v":0},{"$f":"IF(AU21=0,0,(AU21*((LOG(AU21))/LOG(2))))","v":0}]
[12,1801,14,1805,13,1808,14,1813,null,null,0,1111,null,2222,{"$f":"COUNTIF($L$7:$L$500,N22)","v":0},{"$f":"O22/$Q$4","v":0},{"$f":"IF(P22=0,0,(P22*((LOG(P22))/LOG(2))))","v":0},null,null,{"$f":"N22","v":2222},{"$f":"COUNTIF(L7:L42,T22)","v":0},{"$f":"U22/(W4-U20)","v":0},{"$f":"IF(V22=0,0,(V22*((LOG(V22))/LOG(2))))","v":0},null,{"$f":"N22","v":2222},{"$f":"COUNTIF(L43:L77,Y22)","v":0},{"$f":"Z22/(AB4-Z20)","v":0},{"$f":"IF(AA22=0,0,(AA22*((LOG(AA22))/LOG(2))))","v":0},null,{"$f":"N22","v":2222},{"$f":"COUNTIF(L78:L113,AD22)","v":0},{"$f":"AE22/(AG4-AE20)","v":0},{"$f":"IF(AF22=0,0,(AF22*((LOG(AF22))/LOG(2))))","v":0},null,{"$f":"N22","v":2222},{"$f":"COUNTIF(L114:L148,AI22)","v":0},{"$f":"AJ22/(AL4-AJ20)","v":0},{"$f":"IF(AK22=0,0,(AK22*((LOG(AK22))/LOG(2))))","v":0},null,{"$f":"N22","v":2222},{"$f":"COUNTIF(L149:L184,AN22)","v":0},{"$f":"AO22/(AQ4-AO20)","v":0},{"$f":"IF(AP22=0,0,(AP22*((LOG(AP22))/LOG(2))))","v":0},null,{"$f":"N22","v":2222},{"$f":"COUNTIF(L185:L219,AS22)","v":0},{"$f":"AT22/(AV4-AT20)","v":0},{"$f":"IF(AU22=0,0,(AU22*((LOG(AU22))/LOG(2))))","v":0}]
[12,1909,14,1913,13,1917,14,1921,null,null,0,1111,null,null,null,{"$f":"SUM(P7:P22)","v":0.99999999999999989},{"$f":"-SUM(Q7:Q22)","v":0.16269995541408014},null,null,null,null,{"$f":"SUM(V7:V22)","v":1},{"$f":"-SUM(W7:W22)","v":0.36509898470588065},null,null,null,{"$f":"SUM(AA7:AA22)","v":1},{"$f":"-SUM(AB7:AB22)","v":0.18717625687320816},null,null,null,{"$f":"SUM(AF7:AF22)","v":1},{"$f":"-SUM(AG7:AG22)","v":0},null,null,null,{"$f":"SUM(AK7:AK22)","v":1},{"$f":"-SUM(AL7:AL22)","v":0.18717625687320816},null,null,null,{"$f":"SUM(AP7:AP22)","v":1},{"$f":"-SUM(AQ7:AQ22)","v":0},null,null,null,{"$f":"SUM(AU7:AU22)","v":1},{"$f":"-SUM(AV7:AV22)","v":0}]
[12,2028,14,2032,13,2036,14,2040,null,null,0,1111,null,null,null,"U=",{"$f":"Q23/(LOG(Q4)/LOG(2))","v":2.1035043770567516E-2},null,null,null,null,"U1=",{"$f":"W23/(LOG(W4)/LOG(2))","v":7.0619783575975453E-2},null,null,null,"U2=",{"$f":"AB23/(LOG(AB4)/LOG(2))","v":3.6491699961740759E-2},null,null,null,"U3=",{"$f":"AG23/(LOG(AG4)/LOG(2))","v":0},null,null,null,"U4=",{"$f":"AL23/(LOG(AL4)/LOG(2))","v":3.6491699961740759E-2},null,null,null,"U5=",{"$f":"AQ23/(LOG(AQ4)/LOG(2))","v":0},null,null,null,"U6=",{"$f":"AV23/(LOG(AV4)/LOG(2))","v":0}]
[12,2151,14,2156,13,2162,14,2165,null,null,0,1111]
[12,2269,14,2273,13,2276,14,2280,null,null,0,1111]
[12,2382,14,2387,13,2392,14,2401,null,null,0,1111,null,"Total Target Seq"]
[12,2507,14,2516,13,2520,14,2527,null,null,0,1111,null,{"$f":"COUNTIF(L7:L219,G3)","v":0},null,36,35,36,35,36,35]
[12,2633,14,2641,13,2645,14,2649,null,null,0,1111,null,null,null,"% of reinforcement given in 6 equal intervals based on number of trials "]
[12,2749,14,2755,13,2759,14,2763,null,null,0,1111,null,null,null,"%_1","%_2","%_3","%_4","%_5","%_6"]
[12,2867,23,2884,24,2892,23,2901,null,null,0,1222,null,null,"target sequence",{"$f":"$G$3","v":2212},{"$f":"$G$3","v":2212},{"$f":"$G$3","v":2212},{"$f":"$G$3","v":2212},{"$f":"$G$3","v":2212},{"$f":"$G$3","v":2212}]
[12,3007,14,3011,13,3015,14,3020,null,null,0,1111,null,null,"total reinforcement",{"$f":"U20","v":0},{"$f":"Z20","v":0},{"$f":"AE20","v":0},{"$f":"AJ20","v":0},{"$f":"AO20","v":0},{"$f":"AT20","v":0}]
[12,3118,14,3126,13,3131,14,3138,null,null,0,1111,null,null,"% target"]
[12,3242,14,3246,13,3251,14,3256,null,null,0,1111,null,null,"CCRF"]
[12,3370,14,3374,13,3379,14,3385,null,null,0,1111,null,null,"% CCRf"]
[12,3488,14,3500,13,3505,14,3509,null,null,0,1111,null,null,"average response rate",{"$f":"H42/P28","v":116.80555555555556},{"$f":"(H77-H42)/Q28","v":117.4},{"$f":"(H113-H77)/R28","v":112.11111111111111},{"$f":"(H148-H113)/S28","v":110.6},{"$f":"(H184-H148)/T28","v":109.33333333333333},{"$f":"(H219-H184)/U28","v":109.2}]
[12,3610,14,3614,13,3618,14,3622,null,null,0,1111]
[12,3724,14,3728,13,3732,14,3738,null,null,0,1111]
[12,3839,14,3843,13,3847,14,3852,null,null,0,1111]
[12,3957,14,3962,13,3970,14,3977,null,null,0,1111]
[12,4085,14,4089,13,4093,14,4097,null,null,0,1111]
[12,4192,14,4196,13,4200,14,4205,null,null,0,1111]
[12,4307,14,4310,13,4314,14,4322,null,null,0,1111]
[12,4424,14,4428,13,4433,14,4440,null,null,0,1111]
[12,4536,14,4549,24,4563,23,4572,null,null,0,1122]
[12,4672,14,4675,13,4689,14,4696,null,null,0,1111]
[12,4796,14,4800,13,4805,14,4809,null,null,0,1111]
[12,4909,14,4912,13,4919,14,4924,null,null,0,1111]
[12,5028,14,5032,13,5038,14,5044,null,null,0,1111]
[12,5151,14,5155,13,5160,14,5165,null,null,0,1111]
[12,5264,14,5269,13,5273,14,5281,null,null,0,1111]
[12,5380,14,5385,13,5389,14,5393,null,null,0,1111]
[12,5494,14,5499,13,5503,14,5510,null,null,0,1111]
[12,5607,14,5612,13,5616,14,5619,null,null,0,1111]
[12,5721,14,5725,13,5729,14,5733,null,null,0,1111]
[12,5830,14,5834,13,5839,14,5843,null,null,0,1111]
[12,5946,14,5950,13,5955,14,5958,null,null,0,1111]
[12,6056,14,6060,13,6065,14,6070,null,null,0,1111]
[12,6169,14,6173,13,6177,14,6181,null,null,0,1111]
[12,6282,14,6295,13,6299,14,6307,null,null,0,1111]
[12,6409,14,6413,13,6417,14,6421,null,null,0,1111]
[12,6522,14,6527,13,6532,14,6536,null,null,0,1111]
[12,6631,14,6635,13,6639,14,6643,null,null,0,1111]
[12,6778,14,6782,13,6796,14,6812,null,null,0,1111]
[12,6923,14,6927,13,6932,14,6939,null,null,0,1111]
[12,7045,14,7049,13,7054,14,7059,null,null,0,1111]
[12,7155,14,7159,13,7163,14,7167,null,null,0,1111]
[12,7262,14,7266,13,7290,14,7297,null,null,0,1111]
[12,7401,14,7406,13,7410,14,7413,null,null,0,1111]
[12,7514,14,7518,13,7526,14,7530,null,null,0,1111]
[12,7626,14,7630,13,7634,14,7639,null,null,0,1111]
[12,7736,14,7741,13,7745,14,7749,null,null,0,1111]
[12,7846,14,7850,13,7854,14,7858,null,null,0,1111]
[12,7957,14,7962,13,7966,14,7970,null,null,0,1111]
[12,8073,14,8077,13,8082,14,8086,null,null,0,1111]
[12,8187,14,8191,13,8195,14,8199,null,null,0,1111]
[12,8300,14,8305,13,8310,14,8314,null,null,0,1111]
[12,8413,14,8417,13,8421,14,8425,null,null,0,1111]
[12,8526,14,8529,13,8533,14,8539,null,null,0,1111]
[12,8636,14,8640,13,8646,14,8650,null,null,0,1111]
[12,8745,14,8750,13,8753,14,8758,null,null,0,1111]
[12,8857,14,8861,13,8866,14,8870,null,null,0,1111]
[12,8971,14,8975,13,8978,14,8982,null,null,0,1111]
[12,9080,14,9084,13,9089,14,9093,null,null,0,1111]
[12,9190,14,9193,13,9198,14,9202,null,null,0,1111]
[12,9301,14,9304,13,9309,14,9312,null,null,0,1111]
[12,9420,14,9424,13,9428,14,9433,null,null,0,1111]
[12,9530,14,9534,13,9538,14,9542,null,null,0,1111]
[12,9640,14,9644,13,9648,14,9653,null,null,0,1111]
[12,9754,14,9759,13,9763,14,9770,null,null,0,1111]
[12,9870,14,9874,13,9893,14,9898,null,null,0,1111]
[12,9995,14,9998,13,10002,14,10006,null,null,0,1111]
[12,10101,14,10105,13,10109,14,10113,null,null,0,1111]
[12,10209,14,10212,13,10216,14,10220,null,null,0,1111]
[12,10316,14,10319,13,10324,14,10337,null,null,0,1111]
[12,10434,14,10438,13,10442,14,10446,null,null,0,1111]
[12,10542,14,10547,13,10551,14,10554,null,null,0,1111]
[12,10664,14,10669,13,10672,14,10681,null,null,0,1111]
[12,10777,14,10782,13,10785,14,10789,null,null,0,1111]
[12,10897,14,10901,13,10905,14,10909,null,null,0,1111]
[12,11005,14,11009,13,11016,14,11024,null,null,0,1111]
[12,11117,14,11123,13,11126,14,11132,null,null,0,1111]
[12,11229,14,11234,13,11237,14,11241,null,null,0,1111]
[12,11345,14,11349,13,11354,14,11358,null,null,0,1111]
[12,11461,14,11465,13,11469,14,11473,null,null,0,1111]
[12,11568,14,11572,13,11575,14,11579,null,null,0,1111]
[12,11676,14,11680,13,11684,14,11688,null,null,0,1111]
[12,11784,14,11789,13,11794,14,11798,null,null,0,1111]
[12,11894,14,11898,13,11902,14,11906,null,null,0,1111]
[12,11998,14,12001,13,12005,14,12009,null,null,0,1111]
[12,12105,14,12109,13,12114,14,12118,null,null,0,1111]
[12,12214,14,12223,13,12227,14,12240,null,null,0,1111]
[12,12336,14,12340,13,12345,14,12350,null,null,0,1111]
[12,12446,14,12450,13,12454,14,12458,null,null,0,1111]
[12,12555,14,12560,13,12565,14,12572,null,null,0,1111]
[12,12670,14,12675,13,12679,14,12690,null,null,0,1111]
[12,12789,14,12793,13,12797,14,12801,null,null,0,1111]
[12,12897,14,12901,13,12905,14,12908,null,null,0,1111]
[12,13005,14,13009,13,13013,14,13017,null,null,0,1111]
[12,13111,14,13115,13,13120,14,13123,null,null,0,1111]
[12,13219,14,13224,13,13228,14,13233,null,null,0,1111]
[12,13329,14,13333,13,13338,14,13342,null,null,0,1111]
[12,13440,14,13444,13,13453,14,13457,null,null,0,1111]
[12,13556,14,13559,13,13563,14,13567,null,null,0,1111]
[12,13662,14,13667,13,13670,14,13674,null,null,0,1111]
[12,13770,14,13774,13,13778,14,13783,null,null,0,1111]
[12,13881,14,13885,13,13888,14,13893,null,null,0,1111]
[12,13990,14,13993,13,13997,14,14001,null,null,0,1111]
[12,14097,14,14101,13,14104,14,14108,null,null,0,1111]
[12,14205,14,14209,13,14214,14,14218,null,null,0,1111]
[12,14315,14,14320,13,14324,14,14327,null,null,0,1111]
[12,14424,14,14430,13,14436,14,14440,null,null,0,1111]
[12,14541,14,14545,13,14550,14,14557,null,null,0,1111]
[12,14654,14,14658,13,14663,14,14666,null,null,0,1111]
[12,14760,14,14764,13,14768,14,14772,null,null,0,1111]
[12,14868,14,14872,13,14876,14,14880,null,null,0,1111]
[12,14977,14,14981,13,14985,14,14990,null,null,0,1111]
[12,15081,14,15085,13,15089,14,15092,null,null,0,1111]
[12,15193,14,15198,13,15206,14,15210,null,null,0,1111]
[12,15305,14,15309,13,15313,14,15316,null,null,0,1111]
[12,15410,14,15415,13,15418,14,15422,null,null,0,1111]
[12,15518,14,15522,13,15531,14,15538,null,null,0,1111]
[12,15644,14,15648,13,15656,23,15670,null,null,0,1112]
[12,15770,14,15780,13,15785,14,15789,null,null,0,1111]
[12,15880,14,15886,13,15889,14,15893,null,null,0,1111]
[12,15988,14,15992,13,15996,14,16001,null,null,0,1111]
[12,16097,14,16101,13,16105,14,16109,null,null,0,1111]
[12,16208,14,16213,13,16216,14,16221,null,null,0,1111]
[12,16317,14,16326,13,16331,14,16339,null,null,0,1111]
[12,16434,14,16438,13,16442,14,16446,null,null,0,1111]
[12,16541,14,16545,13,16548,14,16552,null,null,0,1111]
[12,16651,14,16655,13,16659,14,16667,null,null,0,1111]
[12,16761,14,16765,13,16769,14,16773,null,null,0,1111]
[12,16867,14,16871,13,16879,14,16884,null,null,0,1111]
[12,16980,14,16984,13,16988,14,16992,null,null,0,1111]
[12,17083,14,17087,13,17091,14,17096,null,null,0,1111]
[12,17192,14,17196,13,17200,14,17205,null,null,0,1111]
[12,17304,14,17309,13,17312,14,17316,null,null,0,1111]
[12,17416,14,17421,13,17425,14,17429,null,null,0,1111]
[12,17524,14,17529,13,17533,14,17537,null,null,0,1111]
[12,17628,14,17632,13,17635,14,17639,null,null,0,1111]
[12,17732,14,17737,13,17741,14,17744,null,null,0,1111]
[12,17844,14,17849,13,17854,14,17858,null,null,0,1111]
[12,17953,14,17957,13,17960,14,17964,null,null,0,1111]
[12,18059,14,18063,13,18067,14,18072,null,null,0,1111]
[12,18167,14,18171,13,18175,14,18178,null,null,0,1111]
[12,18274,14,18278,13,18281,14,18288,null,null,0,1111]
[12,18385,14,18388,13,18392,14,18396,null,null,0,1111]
[12,18492,14,18498,13,18503,14,18508,null,null,0,1111]
[12,18605,14,18610,13,18615,14,18619,null,null,0,1111]
[12,18717,14,18722,13,18726,14,18730,null,null,0,1111]
[12,18827,14,18831,13,18838,14,18842,null,null,0,1111]
[12,18938,14,18942,13,18946,14,18951,null,null,0,1111]
[12,19048,14,19052,13,19056,14,19060,null,null,0,1111]
[12,19155,14,19159,13,19163,14,19166,null,null,0,1111]
[12,19258,14,19262,13,19266,14,19270,null,null,0,1111]
[12,19366,14,19370,13,19374,14,19378,null,null,0,1111]
[12,19473,14,19477,13,19481,14,19485,null,null,0,1111]
[12,19581,14,19585,13,19589,14,19593,null,null,0,1111]
[12,19691,14,19694,13,19698,14,19703,null,null,0,1111]
[12,19809,14,19813,13,19820,14,19828,null,null,0,1111]
[12,19921,14,19926,13,19930,14,19935,null,null,0,1111]
[12,20032,14,20040,13,20044,14,20049,null,null,0,1111]
[12,20147,14,20150,13,20154,14,20157,null,null,0,1111]
[12,20251,14,20255,13,20259,14,20262,null,null,0,1111]
[12,20362,14,20367,13,20375,14,20383,null,null,0,1111]
[12,20480,14,20484,13,20489,14,20495,null,null,0,1111]
[12,20591,14,20594,13,20598,14,20602,null,null,0,1111]
[12,20697,14,20700,13,20704,14,20714,null,null,0,1111]
[12,20805,14,20809,13,20815,14,20820,null,null,0,1111]
[12,20913,14,20917,13,20921,14,20925,null,null,0,1111]
[12,21022,14,21026,13,21030,14,21034,null,null,0,1111]
[12,21130,14,21133,13,21137,14,21140,null,null,0,1111]
[12,21240,14,21244,13,21249,14,21253,null,null,0,1111]
[12,21349,14,21353,13,21357,14,21361,null,null,0,1111]
[12,21456,14,21461,13,21465,14,21469,null,null,0,1111]
[12,21564,14,21568,13,21572,14,21578,null,null,0,1111]
[12,21676,14,21680,13,21683,14,21687,null,null,0,1111]
[12,21783,14,21786,13,21790,14,21794,null,null,0,1111]
[12,21888,14,21892,13,21896,14,21900,null,null,0,1111]
[12,21995,14,21999,13,22002,14,22006,null,null,0,1111]
[12,22102,14,22106,13,22110,14,22114,null,null,0,1111]
[12,22209,14,22213,13,22216,14,22223,null,null,0,1111]
[12,22318,14,22322,13,22325,14,22329,null,null,0,1111]
[12,22425,14,22428,13,22434,14,22438,null,null,0,1111]
[12,22533,14,22537,13,22541,14,22545,null,null,0,1111]
[12,22649,14,22652,13,22656,14,22664,null,null,0,1111]
[12,22760,14,22764,13,22768,14,22771,null,null,0,1111]
[12,22867,14,22870,13,22874,14,22878,null,null,0,1111]
[12,22974,14,22977,13,22987,14,22991,null,null,0,1111]
[12,23088,14,23092,13,23096,14,23100,null,null,0,1111]
[12,23198,14,23201,13,23207,14,23213,null,null,0,1111]
[12,23310,14,23314,13,23318,14,23322,null,null,0,1111]
[12,23418,14,23422,13,23426,14,23430,null,null,0,1111]
[12,23524,14,23528,13,23531,14,23535,null,null,0,1111]
[12,23632,14,23636,13,23640,14,23643,null,null,0,1111]
[12,23739,14,23743,13,23747,14,23754,null,null,0,1111]
[12,23851,14,23855,13,23860,14,23865,null,null,0,1111]
[12,23962,14,23967,13,23971,14,23979,null,null,null,1111]

{"sheet":"!M908A00.104","index":25,"n_rows":197,"n_cols":48,"rows_kept":197,"cut":false,"hidden":false,"merged":[[4,39,4,42],[5,39,5,40],[4,44,4,47],[5,44,5,45],[4,24,4,27],[5,24,5,25],[4,29,4,32],[5,29,5,30],[4,34,4,37],[5,34,5,35],[1,1,1,2],[5,13,5,14],[26,13,26,14],[27,13,27,14],[4,19,4,22],[5,19,5,20]]}
["Report for:!M908A00.104"]
["Date:","<date>"]
["Hen:","<hen>",null,null,null,"Correct Sequence",{"$f":"Start!J2","v":2212},null,null,null,null,null,null,null,null,"Total Sequences in Data",{"$f":"4994-COUNTBLANK(L7:L5000)","v":191},null,null,null,null,"Total Sequences in Block Data",{"$f":"COUNTA(L7:L38)","v":32},null,null,null,"Total Sequences in Block Data",{"$f":"COUNTA(L39:L70)","v":32},null,null,null,"Total Sequences in Block Data",{"$f":"COUNTA(L71:L101)","v":31},null,null,null,"Total Sequences in Block Data",{"$f":"COUNTA(L102:L133)","v":32},null,null,null,"Total Sequences in Block Data",{"$f":"COUNTA(L134:L165)","v":32},null,null,null,"Total Sequences in Block Data",{"$f":"COUNTA(L166:L197)","v":32}]
[null,null,null,null,null,null,null,null,null,null,null,null,null,null,null,"Total Sequences in Summary",{"$f":"SUM(O7:O22)","v":191},null,null,null,null,"Total Sequences in Block Summary",{"$f":"SUM(U7:U22)","v":32},null,null,null,"Total Sequences in Block Summary",{"$f":"SUM(Z7:Z22)","v":32},null,null,null,"Total Sequences in Block Summary",{"$f":"SUM(AE7:AE22)","v":31},null,null,null,"Total Sequences in Block Summary",{"$f":"SUM(AJ7:AJ22)","v":32},null,null,null,"Total Sequences in Block Summary",{"$f":"SUM(AO7:AO22)","v":32},null,null,null,"Total Sequences in Block Summary",{"$f":"SUM(AT7:AT22)","v":32}]
[null,null,null,null,null,null,null,null,null,null,null,null,null,null,null,null,null,null,null,"Block 1",null,null,null,null,"Block 2",null,null,null,null,"Block 3",null,null,null,null,"Block 4",null,null,null,null,"Block 5",null,null,null,null,"Block 6"]
["Sequence\nComponent\n1","Time\n1","Sequence\nComponent\n2","Time\n2","Sequence\nComponent\n3","Time\n3","Sequence\nComponent\n4","Time\n4","Sequence\nComponent\n5","Time\n5","Correct?\n0=No 1=Yes","Sequence",null,"Frequency",null,"Relative Frequency","Variability",null,null,"Frequency",null,"Relative Frequency","Variability",null,"Frequency",null,"Relative Frequency","Variability",null,"Frequency",null,"Relative Frequency","Variability",null,"Frequency",null,"Relative Frequency","Variability",null,"Frequency",null,"Relative Frequency","Variability",null,"Frequency",null,"Relative Frequency","Variability"]
[12,95,14,101,13,106,14,111,null,null,0,1111,null,1111,{"$f":"COUNTIF($L$7:$L$500,N7)","v":187},{"$f":"O7/$Q$4","v":0.97905759162303663},{"$f":"IF(P7=0,0,(P7*((LOG(P7))/LOG(2))))","v":-2.989490494082175E-2},null,null,{"$f":"N7","v":1111},{"$f":"COUNTIF(L7:L38,T7)","v":29},{"$f":"U7/(W4-U20)","v":0.90625},{"$f":"IF(V7=0,0,(V7*((LOG(V7))/LOG(2))))","v":-0.12870472316563777},null,{"$f":"N7","v":1111},{"$f":"COUNTIF(L39:L70,Y7)","v":31},{"$f":"Z7/(AB4-Z20)","v":0.96875},{"$f":"IF(AA7=0,0,(AA7*((LOG(AA7))/LOG(2))))","v":-4.4372324312714644E-2},null,{"$f":"N7","v":1111},{"$f":"COUNTIF(L71:L101,AD7)","v":31},{"$f":"AE7/(AG4-AE20)","v":1},{"$f":"IF(AF7=0,0,(AF7*((LOG(AF7))/LOG(2))))","v":0},null,{"$f":"N7","v":1111},{"$f":"COUNTIF(L102:L133,AI7)","v":32},{"$f":"AJ7/(AL4-AJ20)","v":1},{"$f":"IF(AK7=0,0,(AK7*((LOG(AK7))/LOG(2))))","v":0},null,{"$f":"N7","v":1111},{"$f":"COUNTIF(L134:L165,AN7)","v":32},{"$f":"AO7/(AQ4-AO20)","v":1},{"$f":"IF(AP7=0,0,(AP7*((LOG(AP7))/LOG(2))))","v":0},null,{"$f":"N7","v":1111},{"$f":"COUNTIF(L166:L197,AS7)","v":32},{"$f":"AT7/(AV4-AT20)","v":1},{"$f":"IF(AU7=0,0,(AU7*((LOG(AU7))/LOG(2))))","v":0}]
[12,214,14,219,13,223,14,228,null,null,0,1111,null,1112,{"$f":"COUNTIF($L$7:$L$500,N8)","v":0},{"$f":"O8/$Q$4","v":0},{"$f":"IF(P8=0,0,(P8*((LOG(P8))/LOG(2))))","v":0},null,null,{"$f":"N8","v":1112},{"$f":"COUNTIF(L7:L38,T8)","v":0},{"$f":"U8/(W4-U20)","v":0},{"$f":"IF(V8=0,0,(V8*((LOG(V8))/LOG(2))))","v":0},null,{"$f":"N8","v":1112},{"$f":"COUNTIF(L39:L70,Y8)","v":0},{"$f":"Z8/(AB4-Z20)","v":0},{"$f":"IF(AA8=0,0,(AA8*((LOG(AA8))/LOG(2))))","v":0},null,{"$f":"N8","v":1112},{"$f":"COUNTIF(L71:L101,AD8)","v":0},{"$f":"AE8/(AG4-AE20)","v":0},{"$f":"IF(AF8=0,0,(AF8*((LOG(AF8))/LOG(2))))","v":0},null,{"$f":"N8","v":1112},{"$f":"COUNTIF(L102:L133,AI8)","v":0},{"$f":"AJ8/(AL4-AJ20)","v":0},{"$f":"IF(AK8=0,0,(AK8*((LOG(AK8))/LOG(2))))","v":0},null,{"$f":"N8","v":1112},{"$f":"COUNTIF(L134:L165,AN8)","v":0},{"$f":"AO8/(AQ4-AO20)","v":0},{"$f":"IF(AP8=0,0,(AP8*((LOG(AP8))/LOG(2))))","v":0},null,{"$f":"N8","v":1112},{"$f":"COUNTIF(L166:L197,AS8)","v":0},{"$f":"AT8/(AV4-AT20)","v":0},{"$f":"IF(AU8=0,0,(AU8*((LOG(AU8))/LOG(2))))","v":0}]
[12,349,14,354,13,358,14,363,null,null,0,1111,null,1121,{"$f":"COUNTIF($L$7:$L$500,N9)","v":0},{"$f":"O9/$Q$4","v":0},{"$f":"IF(P9=0,0,(P9*((LOG(P9))/LOG(2))))","v":0},null,null,{"$f":"N9","v":1121},{"$f":"COUNTIF(L7:L38,T9)","v":0},{"$f":"U9/(W4-U20)","v":0},{"$f":"IF(V9=0,0,(V9*((LOG(V9))/LOG(2))))","v":0},null,{"$f":"N9","v":1121},{"$f":"COUNTIF(L39:L70,Y9)","v":0},{"$f":"Z9/(AB4-Z20)","v":0},{"$f":"IF(AA9=0,0,(AA9*((LOG(AA9))/LOG(2))))","v":0},null,{"$f":"N9","v":1121},{"$f":"COUNTIF(L71:L101,AD9)","v":0},{"$f":"AE9/(AG4-AE20)","v":0},{"$f":"IF(AF9=0,0,(AF9*((LOG(AF9))/LOG(2))))","v":0},null,{"$f":"N9","v":1121},{"$f":"COUNTIF(L102:L133,AI9)","v":0},{"$f":"AJ9/(AL4-AJ20)","v":0},{"$f":"IF(AK9=0,0,(AK9*((LOG(AK9))/LOG(2))))","v":0},null,{"$f":"N9","v":1121},{"$f":"COUNTIF(L134:L165,AN9)","v":0},{"$f":"AO9/(AQ4-AO20)","v":0},{"$f":"IF(AP9=0,0,(AP9*((LOG(AP9))/LOG(2))))","v":0},null,{"$f":"N9","v":1121},{"$f":"COUNTIF(L166:L197,AS9)","v":0},{"$f":"AT9/(AV4-AT20)","v":0},{"$f":"IF(AU9=0,0,(AU9*((LOG(AU9))/LOG(2))))","v":0}]
[12,460,14,465,13,469,14,473,null,null,0,1111,null,1122,{"$f":"COUNTIF($L$7:$L$500,N10)","v":3},{"$f":"O10/$Q$4","v":1.5706806282722512E-2},{"$f":"IF(P10=0,0,(P10*((LOG(P10))/LOG(2))))","v":-9.4122507758867949E-2},null,null,{"$f":"N10","v":1122},{"$f":"COUNTIF(L7:L38,T10)","v":2},{"$f":"U10/(W4-U20)","v":6.25E-2},{"$f":"IF(V10=0,0,(V10*((LOG(V10))/LOG(2))))","v":-0.25},null,{"$f":"N10","v":1122},{"$f":"COUNTIF(L39:L70,Y10)","v":1},{"$f":"Z10/(AB4-Z20)","v":3.125E-2},{"$f":"IF(AA10=0,0,(AA10*((LOG(AA10))/LOG(2))))","v":-0.15625},null,{"$f":"N10","v":1122},{"$f":"COUNTIF(L71:L101,AD10)","v":0},{"$f":"AE10/(AG4-AE20)","v":0},{"$f":"IF(AF10=0,0,(AF10*((LOG(AF10))/LOG(2))))","v":0},null,{"$f":"N10","v":1122},{"$f":"COUNTIF(L102:L133,AI10)","v":0},{"$f":"AJ10/(AL4-AJ20)","v":0},{"$f":"IF(AK10=0,0,(AK10*((LOG(AK10))/LOG(2))))","v":0},null,{"$f":"N10","v":1122},{"$f":"COUNTIF(L134:L165,AN10)","v":0},{"$f":"AO10/(AQ4-AO20)","v":0},{"$f":"IF(AP10=0,0,(AP10*((LOG(AP10))/LOG(2))))","v":0},null,{"$f":"N10","v":1122},{"$f":"COUNTIF(L166:L197,AS10)","v":0},{"$f":"AT10/(AV4-AT20)","v":0},{"$f":"IF(AU10=0,0,(AU10*((LOG(AU10))/LOG(2))))","v":0}]
[12,566,14,571,13,576,14,580,null,null,0,1111,null,1211,{"$f":"COUNTIF($L$7:$L$500,N11)","v":0},{"$f":"O11/$Q$4","v":0},{"$f":"IF(P11=0,0,(P11*((LOG(P11))/LOG(2))))","v":0},null,null,{"$f":"N11","v":1211},{"$f":"COUNTIF(L7:L38,T11)","v":0},{"$f":"U11/(W4-U20)","v":0},{"$f":"IF(V11=0,0,(V11*((LOG(V11))/LOG(2))))","v":0},null,{"$f":"N11","v":1211},{"$f":"COUNTIF(L39:L70,Y11)","v":0},{"$f":"Z11/(AB4-Z20)","v":0},{"$f":"IF(AA11=0,0,(AA11*((LOG(AA11))/LOG(2))))","v":0},null,{"$f":"N11","v":1211},{"$f":"COUNTIF(L71:L101,AD11)","v":0},{"$f":"AE11/(AG4-AE20)","v":0},{"$f":"IF(AF11=0,0,(AF11*((LOG(AF11))/LOG(2))))","v":0},null,{"$f":"N11","v":1211},{"$f":"COUNTIF(L102:L133,AI11)","v":0},{"$f":"AJ11/(AL4-AJ20)","v":0},{"$f":"IF(AK11=0,0,(AK11*((LOG(AK11))/LOG(2))))","v":0},null,{"$f":"N11","v":1211},{"$f":"COUNTIF(L134:L165,AN11)","v":0},{"$f":"AO11/(AQ4-AO20)","v":0},{"$f":"IF(AP11=0,0,(AP11*((LOG(AP11))/LOG(2))))","v":0},null,{"$f":"N11","v":1211},{"$f":"COUNTIF(L166:L197,AS11)","v":0},{"$f":"AT11/(AV4-AT20)","v":0},{"$f":"IF(AU11=0,0,(AU11*((LOG(AU11))/LOG(2))))","v":0}]
[12,680,14,684,13,688,14,694,null,null,0,1111,null,1212,{"$f":"COUNTIF($L$7:$L$500,N12)","v":0},{"$f":"O12/$Q$4","v":0},{"$f":"IF(P12=0,0,(P12*((LOG(P12))/LOG(2))))","v":0},null,null,{"$f":"N12","v":1212},{"$f":"COUNTIF(L7:L38,T12)","v":0},{"$f":"U12/(W4-U20)","v":0},{"$f":"IF(V12=0,0,(V12*((LOG(V12))/LOG(2))))","v":0},null,{"$f":"N12","v":1212},{"$f":"COUNTIF(L39:L70,Y12)","v":0},{"$f":"Z12/(AB4-Z20)","v":0},{"$f":"IF(AA12=0,0,(AA12*((LOG(AA12))/LOG(2))))","v":0},null,{"$f":"N12","v":1212},{"$f":"COUNTIF(L71:L101,AD12)","v":0},{"$f":"AE12/(AG4-AE20)","v":0},{"$f":"IF(AF12=0,0,(AF12*((LOG(AF12))/LOG(2))))","v":0},null,{"$f":"N12","v":1212},{"$f":"COUNTIF(L102:L133,AI12)","v":0},{"$f":"AJ12/(AL4-AJ20)","v":0},{"$f":"IF(AK12=0,0,(AK12*((LOG(AK12))/LOG(2))))","v":0},null,{"$f":"N12","v":1212},{"$f":"COUNTIF(L134:L165,AN12)","v":0},{"$f":"AO12/(AQ4-AO20)","v":0},{"$f":"IF(AP12=0,0,(AP12*((LOG(AP12))/LOG(2))))","v":0},null,{"$f":"N12","v":1212},{"$f":"COUNTIF(L166:L197,AS12)","v":0},{"$f":"AT12/(AV4-AT20)","v":0},{"$f":"IF(AU12=0,0,(AU12*((LOG(AU12))/LOG(2))))","v":0}]
[12,792,14,796,13,801,14,806,null,null,0,1111,null,1221,{"$f":"COUNTIF($L$7:$L$500,N13)","v":0},{"$f":"O13/$Q$4","v":0},{"$f":"IF(P13=0,0,(P13*((LOG(P13))/LOG(2))))","v":0},null,null,{"$f":"N13","v":1221},{"$f":"COUNTIF(L7:L38,T13)","v":0},{"$f":"U13/(W4-U20)","v":0},{"$f":"IF(V13=0,0,(V13*((LOG(V13))/LOG(2))))","v":0},null,{"$f":"N13","v":1221},{"$f":"COUNTIF(L39:L70,Y13)","v":0},{"$f":"Z13/(AB4-Z20)","v":0},{"$f":"IF(AA13=0,0,(AA13*((LOG(AA13))/LOG(2))))","v":0},null,{"$f":"N13","v":1221},{"$f":"COUNTIF(L71:L101,AD13)","v":0},{"$f":"AE13/(AG4-AE20)","v":0},{"$f":"IF(AF13=0,0,(AF13*((LOG(AF13))/LOG(2))))","v":0},null,{"$f":"N13","v":1221},{"$f":"COUNTIF(L102:L133,AI13)","v":0},{"$f":"AJ13/(AL4-AJ20)","v":0},{"$f":"IF(AK13=0,0,(AK13*((LOG(AK13))/LOG(2))))","v":0},null,{"$f":"N13","v":1221},{"$f":"COUNTIF(L134:L165,AN13)","v":0},{"$f":"AO13/(AQ4-AO20)","v":0},{"$f":"IF(AP13=0,0,(AP13*((LOG(AP13))/LOG(2))))","v":0},null,{"$f":"N13","v":1221},{"$f":"COUNTIF(L166:L197,AS13)","v":0},{"$f":"AT13/(AV4-AT20)","v":0},{"$f":"IF(AU13=0,0,(AU13*((LOG(AU13))/LOG(2))))","v":0}]
[12,934,23,943,24,951,23,972,null,null,0,1222,null,1222,{"$f":"COUNTIF($L$7:$L$500,N14)","v":1},{"$f":"O14/$Q$4","v":5.235602094240838E-3},{"$f":"IF(P14=0,0,(P14*((LOG(P14))/LOG(2))))","v":-3.9672402241024862E-2},null,null,{"$f":"N14","v":1222},{"$f":"COUNTIF(L7:L38,T14)","v":1},{"$f":"U14/(W4-U20)","v":3.125E-2},{"$f":"IF(V14=0,0,(V14*((LOG(V14))/LOG(2))))","v":-0.15625},null,{"$f":"N14","v":1222},{"$f":"COUNTIF(L39:L70,Y14)","v":0},{"$f":"Z14/(AB4-Z20)","v":0},{"$f":"IF(AA14=0,0,(AA14*((LOG(AA14))/LOG(2))))","v":0},null,{"$f":"N14","v":1222},{"$f":"COUNTIF(L71:L101,AD14)","v":0},{"$f":"AE14/(AG4-AE20)","v":0},{"$f":"IF(AF14=0,0,(AF14*((LOG(AF14))/LOG(2))))","v":0},null,{"$f":"N14","v":1222},{"$f":"COUNTIF(L102:L133,AI14)","v":0},{"$f":"AJ14/(AL4-AJ20)","v":0},{"$f":"IF(AK14=0,0,(AK14*((LOG(AK14))/LOG(2))))","v":0},null,{"$f":"N14","v":1222},{"$f":"COUNTIF(L134:L165,AN14)","v":0},{"$f":"AO14/(AQ4-AO20)","v":0},{"$f":"IF(AP14=0,0,(AP14*((LOG(AP14))/LOG(2))))","v":0},null,{"$f":"N14","v":1222},{"$f":"COUNTIF(L166:L197,AS14)","v":0},{"$f":"AT14/(AV4-AT20)","v":0},{"$f":"IF(AU14=0,0,(AU14*((LOG(AU14))/LOG(2))))","v":0}]
[12,1069,14,1074,13,1079,14,1083,null,null,0,1111,null,2111,{"$f":"COUNTIF($L$7:$L$500,N15)","v":0},{"$f":"O15/$Q$4","v":0},{"$f":"IF(P15=0,0,(P15*((LOG(P15))/LOG(2))))","v":0},null,null,{"$f":"N15","v":2111},{"$f":"COUNTIF(L7:L38,T15)","v":0},{"$f":"U15/(W4-U20)","v":0},{"$f":"IF(V15=0,0,(V15*((LOG(V15))/LOG(2))))","v":0},null,{"$f":"N15","v":2111},{"$f":"COUNTIF(L39:L70,Y15)","v":0},{"$f":"Z15/(AB4-Z20)","v":0},{"$f":"IF(AA15=0,0,(AA15*((LOG(AA15))/LOG(2))))","v":0},null,{"$f":"N15","v":2111},{"$f":"COUNTIF(L71:L101,AD15)","v":0},{"$f":"AE15/(AG4-AE20)","v":0},{"$f":"IF(AF15=0,0,(AF15*((LOG(AF15))/LOG(2))))","v":0},null,{"$f":"N15","v":2111},{"$f":"COUNTIF(L102:L133,AI15)","v":0},{"$f":"AJ15/(AL4-AJ20)","v":0},{"$f":"IF(AK15=0,0,(AK15*((LOG(AK15))/LOG(2))))","v":0},null,{"$f":"N15","v":2111},{"$f":"COUNTIF(L134:L165,AN15)","v":0},{"$f":"AO15/(AQ4-AO20)","v":0},{"$f":"IF(AP15=0,0,(AP15*((LOG(AP15))/LOG(2))))","v":0},null,{"$f":"N15","v":2111},{"$f":"COUNTIF(L166:L197,AS15)","v":0},{"$f":"AT15/(AV4-AT20)","v":0},{"$f":"IF(AU15=0,0,(AU15*((LOG(AU15))/LOG(2))))","v":0}]
[12,1181,14,1185,13,1189,14,1193,null,null,0,1111,null,2112,{"$f":"COUNTIF($L$7:$L$500,N16)","v":0},{"$f":"O16/$Q$4","v":0},{"$f":"IF(P16=0,0,(P16*((LOG(P16))/LOG(2))))","v":0},null,null,{"$f":"N16","v":2112},{"$f":"COUNTIF(L7:L38,T16)","v":0},{"$f":"U16/(W4-U20)","v":0},{"$f":"IF(V16=0,0,(V16*((LOG(V16))/LOG(2))))","v":0},null,{"$f":"N16","v":2112},{"$f":"COUNTIF(L39:L70,Y16)","v":0},{"$f":"Z16/(AB4-Z20)","v":0},{"$f":"IF(AA16=0,0,(AA16*((LOG(AA16))/LOG(2))))","v":0},null,{"$f":"N16","v":2112},{"$f":"COUNTIF(L71:L101,AD16)","v":0},{"$f":"AE16/(AG4-AE20)","v":0},{"$f":"IF(AF16=0,0,(AF16*((LOG(AF16))/LOG(2))))","v":0},null,{"$f":"N16","v":2112},{"$f":"COUNTIF(L102:L133,AI16)","v":0},{"$f":"AJ16/(AL4-AJ20)","v":0},{"$f":"IF(AK16=0,0,(AK16*((LOG(AK16))/LOG(2))))","v":0},null,{"$f":"N16","v":2112},{"$f":"COUNTIF(L134:L165,AN16)","v":0},{"$f":"AO16/(AQ4-AO20)","v":0},{"$f":"IF(AP16=0,0,(AP16*((LOG(AP16))/LOG(2))))","v":0},null,{"$f":"N16","v":2112},{"$f":"COUNTIF(L166:L197,AS16)","v":0},{"$f":"AT16/(AV4-AT20)","v":0},{"$f":"IF(AU16=0,0,(AU16*((LOG(AU16))/LOG(2))))","v":0}]
[12,1303,14,1308,13,1312,14,1317,null,null,0,1111,null,2121,{"$f":"COUNTIF($L$7:$L$500,N17)","v":0},{"$f":"O17/$Q$4","v":0},{"$f":"IF(P17=0,0,(P17*((LOG(P17))/LOG(2))))","v":0},null,null,{"$f":"N17","v":2121},{"$f":"COUNTIF(L7:L38,T17)","v":0},{"$f":"U17/(W4-U20)","v":0},{"$f":"IF(V17=0,0,(V17*((LOG(V17))/LOG(2))))","v":0},null,{"$f":"N17","v":2121},{"$f":"COUNTIF(L39:L70,Y17)","v":0},{"$f":"Z17/(AB4-Z20)","v":0},{"$f":"IF(AA17=0,0,(AA17*((LOG(AA17))/LOG(2))))","v":0},null,{"$f":"N17","v":2121},{"$f":"COUNTIF(L71:L101,AD17)","v":0},{"$f":"AE17/(AG4-AE20)","v":0},{"$f":"IF(AF17=0,0,(AF17*((LOG(AF17))/LOG(2))))","v":0},null,{"$f":"N17","v":2121},{"$f":"COUNTIF(L102:L133,AI17)","v":0},{"$f":"AJ17/(AL4-AJ20)","v":0},{"$f":"IF(AK17=0,0,(AK17*((LOG(AK17))/LOG(2))))","v":0},null,{"$f":"N17","v":2121},{"$f":"COUNTIF(L134:L165,AN17)","v":0},{"$f":"AO17/(AQ4-AO20)","v":0},{"$f":"IF(AP17=0,0,(AP17*((LOG(AP17))/LOG(2))))","v":0},null,{"$f":"N17","v":2121},{"$f":"COUNTIF(L166:L197,AS17)","v":0},{"$f":"AT17/(AV4-AT20)","v":0},{"$f":"IF(AU17=0,0,(AU17*((LOG(AU17))/LOG(2))))","v":0}]
[12,1415,14,1419,13,1423,14,1428,null,null,0,1111,null,2122,{"$f":"COUNTIF($L$7:$L$500,N18)","v":0},{"$f":"O18/$Q$4","v":0},{"$f":"IF(P18=0,0,(P18*((LOG(P18))/LOG(2))))","v":0},null,null,{"$f":"N18","v":2122},{"$f":"COUNTIF(L7:L38,T18)","v":0},{"$f":"U18/(W4-U20)","v":0},{"$f":"IF(V18=0,0,(V18*((LOG(V18))/LOG(2))))","v":0},null,{"$f":"N18","v":2122},{"$f":"COUNTIF(L39:L70,Y18)","v":0},{"$f":"Z18/(AB4-Z20)","v":0},{"$f":"IF(AA18=0,0,(AA18*((LOG(AA18))/LOG(2))))","v":0},null,{"$f":"N18","v":2122},{"$f":"COUNTIF(L71:L101,AD18)","v":0},{"$f":"AE18/(AG4-AE20)","v":0},{"$f":"IF(AF18=0,0,(AF18*((LOG(AF18))/LOG(2))))","v":0},null,{"$f":"N18","v":2122},{"$f":"COUNTIF(L102:L133,AI18)","v":0},{"$f":"AJ18/(AL4-AJ20)","v":0},{"$f":"IF(AK18=0,0,(AK18*((LOG(AK18))/LOG(2))))","v":0},null,{"$f":"N18","v":2122},{"$f":"COUNTIF(L134:L165,AN18)","v":0},{"$f":"AO18/(AQ4-AO20)","v":0},{"$f":"IF(AP18=0,0,(AP18*((LOG(AP18))/LOG(2))))","v":0},null,{"$f":"N18","v":2122},{"$f":"COUNTIF(L166:L197,AS18)","v":0},{"$f":"AT18/(AV4-AT20)","v":0},{"$f":"IF(AU18=0,0,(AU18*((LOG(AU18))/LOG(2))))","v":0}]
[12,1540,14,1544,13,1554,14,1559,null,null,0,1111,null,2211,{"$f":"COUNTIF($L$7:$L$500,N19)","v":0},{"$f":"O19/$Q$4","v":0},{"$f":"IF(P19=0,0,(P19*((LOG(P19))/LOG(2))))","v":0},null,null,{"$f":"N19","v":2211},{"$f":"COUNTIF(L7:L38,T19)","v":0},{"$f":"U19/(W4-U20)","v":0},{"$f":"IF(V19=0,0,(V19*((LOG(V19))/LOG(2))))","v":0},null,{"$f":"N19","v":2211},{"$f":"COUNTIF(L39:L70,Y19)","v":0},{"$f":"Z19/(AB4-Z20)","v":0},{"$f":"IF(AA19=0,0,(AA19*((LOG(AA19))/LOG(2))))","v":0},null,{"$f":"N19","v":2211},{"$f":"COUNTIF(L71:L101,AD19)","v":0},{"$f":"AE19/(AG4-AE20)","v":0},{"$f":"IF(AF19=0,0,(AF19*((LOG(AF19))/LOG(2))))","v":0},null,{"$f":"N19","v":2211},{"$f":"COUNTIF(L102:L133,AI19)","v":0},{"$f":"AJ19/(AL4-AJ20)","v":0},{"$f":"IF(AK19=0,0,(AK19*((LOG(AK19))/LOG(2))))","v":0},null,{"$f":"N19","v":2211},{"$f":"COUNTIF(L134:L165,AN19)","v":0},{"$f":"AO19/(AQ4-AO20)","v":0},{"$f":"IF(AP19=0,0,(AP19*((LOG(AP19))/LOG(2))))","v":0},null,{"$f":"N19","v":2211},{"$f":"COUNTIF(L166:L197,AS19)","v":0},{"$f":"AT19/(AV4-AT20)","v":0},{"$f":"IF(AU19=0,0,(AU19*((LOG(AU19))/LOG(2))))","v":0}]
[12,1665,14,1670,13,1675,14,1679,null,null,0,1111,null,2212,{"$f":"COUNTIF($L$7:$L$500,N20)","v":0},{"$f":"O20/$Q$4","v":0},{"$f":"IF(P20=0,0,(P20*((LOG(P20))/LOG(2))))","v":0},null,null,{"$f":"N20","v":2212},{"$f":"COUNTIF(L7:L38,T20)","v":0},null,null,null,{"$f":"N20","v":2212},{"$f":"COUNTIF(L39:L70,Y20)","v":0},null,null,null,{"$f":"N20","v":2212},{"$f":"COUNTIF(L71:L101,AD20)","v":0},null,null,null,{"$f":"N20","v":2212},{"$f":"COUNTIF(L102:L133,AI20)","v":0},null,null,null,{"$f":"N20","v":2212},{"$f":"COUNTIF(L134:L165,AN20)","v":0},null,null,null,{"$f":"N20","v":2212},{"$f":"COUNTIF(L166:L197,AS20)","v":0}]
[12,1775,14,1784,13,1789,14,1799,null,null,0,1111,null,2221,{"$f":"COUNTIF($L$7:$L$500,N21)","v":0},{"$f":"O21/$Q$4","v":0},{"$f":"IF(P21=0,0,(P21*((LOG(P21))/LOG(2))))","v":0},null,null,{"$f":"N21","v":2221},{"$f":"COUNTIF(L7:L38,T21)","v":0},{"$f":"U21/(W4-U20)","v":0},{"$f":"IF(V21=0,0,(V21*((LOG(V21))/LOG(2))))","v":0},null,{"$f":"N21","v":2221},{"$f":"COUNTIF(L39:L70,Y21)","v":0},{"$f":"Z21/(AB4-Z20)","v":0},{"$f":"IF(AA21=0,0,(AA21*((LOG(AA21))/LOG(2))))","v":0},null,{"$f":"N21","v":2221},{"$f":"COUNTIF(L71:L101,AD21)","v":0},{"$f":"AE21/(AG4-AE20)","v":0},{"$f":"IF(AF21=0,0,(AF21*((LOG(AF21))/LOG(2))))","v":0},null,{"$f":"N21","v":2221},{"$f":"COUNTIF(L102:L133,AI21)","v":0},{"$f":"AJ21/(AL4-AJ20)","v":0},{"$f":"IF(AK21=0,0,(AK21*((LOG(AK21))/LOG(2))))","v":0},null,{"$f":"N21","v":2221},{"$f":"COUNTIF(L134:L165,AN21)","v":0},{"$f":"AO21/(AQ4-AO20)","v":0},{"$f":"IF(AP21=0,0,(AP21*((LOG(AP21))/LOG(2))))","v":0},null,{"$f":"N21","v":2221},{"$f":"COUNTIF(L166:L197,AS21)","v":0},{"$f":"AT21/(AV4-AT20)","v":0},{"$f":"IF(AU21=0,0,(AU21*((LOG(AU21))/LOG(2))))","v":0}]
[12,1904,14,1907,13,1912,14,1916,null,null,0,1111,null,2222,{"$f":"COUNTIF($L$7:$L$500,N22)","v":0},{"$f":"O22/$Q$4","v":0},{"$f":"IF(P22=0,0,(P22*((LOG(P22))/LOG(2))))","v":0},null,null,{"$f":"N22","v":2222},{"$f":"COUNTIF(L7:L38,T22)","v":0},{"$f":"U22/(W4-U20)","v":0},{"$f":"IF(V22=0,0,(V22*((LOG(V22))/LOG(2))))","v":0},null,{"$f":"N22","v":2222},{"$f":"COUNTIF(L39:L70,Y22)","v":0},{"$f":"Z22/(AB4-Z20)","v":0},{"$f":"IF(AA22=0,0,(AA22*((LOG(AA22))/LOG(2))))","v":0},null,{"$f":"N22","v":2222},{"$f":"COUNTIF(L71:L101,AD22)","v":0},{"$f":"AE22/(AG4-AE20)","v":0},{"$f":"IF(AF22=0,0,(AF22*((LOG(AF22))/LOG(2))))","v":0},null,{"$f":"N22","v":2222},{"$f":"COUNTIF(L102:L133,AI22)","v":0},{"$f":"AJ22/(AL4-AJ20)","v":0},{"$f":"IF(AK22=0,0,(AK22*((LOG(AK22))/LOG(2))))","v":0},null,{"$f":"N22","v":2222},{"$f":"COUNTIF(L134:L165,AN22)","v":0},{"$f":"AO22/(AQ4-AO20)","v":0},{"$f":"IF(AP22=0,0,(AP22*((LOG(AP22))/LOG(2))))","v":0},null,{"$f":"N22","v":2222},{"$f":"COUNTIF(L166:L197,AS22)","v":0},{"$f":"AT22/(AV4-AT20)","v":0},{"$f":"IF(AU22=0,0,(AU22*((LOG(AU22))/LOG(2))))","v":0}]
[12,2015,14,2019,24,2033,23,2059,null,null,0,1122,null,null,null,{"$f":"SUM(P7:P22)","v":0.99999999999999989},{"$f":"-SUM(Q7:Q22)","v":0.16368981494071455},null,null,null,null,{"$f":"SUM(V7:V22)","v":1},{"$f":"-SUM(W7:W22)","v":0.53495472316563775},null,null,null,{"$f":"SUM(AA7:AA22)","v":1},{"$f":"-SUM(AB7:AB22)","v":0.20062232431271465},null,null,null,{"$f":"SUM(AF7:AF22)","v":1},{"$f":"-SUM(AG7:AG22)","v":0},null,null,null,{"$f":"SUM(AK7:AK22)","v":1},{"$f":"-SUM(AL7:AL22)","v":0},null,null,null,{"$f":"SUM(AP7:AP22)","v":1},{"$f":"-SUM(AQ7:AQ22)","v":0},null,null,null,{"$f":"SUM(AU7:AU22)","v":1},{"$f":"-SUM(AV7:AV22)","v":0}]
[12,2162,14,2166,13,2171,14,2178,null,null,0,1111,null,null,null,"U=",{"$f":"Q23/(LOG(Q4)/LOG(2))","v":2.1602289992494313E-2},null,null,null,null,"U1=",{"$f":"W23/(LOG(W4)/LOG(2))","v":0.10699094463312755},null,null,null,"U2=",{"$f":"AB23/(LOG(AB4)/LOG(2))","v":4.0124464862542931E-2},null,null,null,"U3=",{"$f":"AG23/(LOG(AG4)/LOG(2))","v":0},null,null,null,"U4=",{"$f":"AL23/(LOG(AL4)/LOG(2))","v":0},null,null,null,"U5=",{"$f":"AQ23/(LOG(AQ4)/LOG(2))","v":0},null,null,null,"U6=",{"$f":"AV23/(LOG(AV4)/LOG(2))","v":0}]
[12,2286,14,2290,13,2295,14,2299,null,null,0,1111]
[12,2402,14,2407,13,2411,14,2415,null,null,0,1111]
[12,2518,14,2523,13,2526,14,2531,null,null,0,1111,null,"Total Target Seq"]
[12,2634,14,2638,13,2642,14,2646,null,null,0,1111,null,{"$f":"COUNTIF(L7:L197,G3)","v":0},null,32,32,31,32,32,32]
[12,2744,14,2750,13,2754,14,2758,null,null,0,1111,null,null,null,"% of reinforcement given in 6 equal intervals based on number of trials "]
[12,2856,14,2861,24,2892,23,2900,null,null,0,1122,null,null,null,"%_1","%_2","%_3","%_4","%_5","%_6"]
[12,3009,14,3014,13,3018,14,3023,null,null,0,1111,null,null,"target sequence",{"$f":"$G$3","v":2212},{"$f":"$G$3","v":2212},{"$f":"$G$3","v":2212},{"$f":"$G$3","v":2212},{"$f":"$G$3","v":2212},{"$f":"$G$3","v":2212}]
[12,3127,14,3131,13,3135,14,3139,null,null,0,1111,null,null,"total reinforcement",{"$f":"U20","v":0},{"$f":"Z20","v":0},{"$f":"AE20","v":0},{"$f":"AJ20","v":0},{"$f":"AO20","v":0},{"$f":"AT20","v":0}]
[12,3235,14,3240,13,3244,14,3249,null,null,0,1111,null,null,"% target"]
[12,3347,14,3352,13,3358,14,3362,null,null,0,1111,null,null,"CCRF"]
[12,3453,14,3458,13,3462,14,3467,null,null,0,1111,null,null,"% CCRf"]
[12,3573,14,3577,13,3581,14,3609,null,null,0,1111,null,null,"average response rate",{"$f":"H38/P28","v":120.1875},{"$f":"(H70-H38)/Q28","v":123.65625},{"$f":"(H101-H70)/R28","v":115.6774193548387},{"$f":"(H133-H101)/S28","v":153.0625},{"$f":"(H165-H133)/T28","v":120.9375},{"$f":"(H197-H165)/U28","v":118.75}]
[12,3716,14,3720,13,3724,14,3732,null,null,0,1111]
[12,3834,14,3838,13,3842,14,3846,null,null,0,1111]
[12,3992,14,4001,24,4021,23,4044,null,null,0,1122]
[12,4145,14,4149,13,4153,14,4157,null,null,0,1111]
[12,4256,14,4260,13,4264,14,4268,null,null,0,1111]
[12,4377,14,4381,13,4386,14,4391,null,null,0,1111]
[12,4487,14,4492,13,4497,14,4507,null,null,0,1111]
[12,4611,14,4615,13,4620,14,4624,null,null,0,1111]
[12,4720,14,4724,13,4728,14,4732,null,null,0,1111]
[12,4828,14,4834,13,4837,14,4852,null,null,0,1111]
[12,4954,14,4958,13,4963,14,4967,null,null,0,1111]
[12,5137,14,5142,13,5151,14,5165,null,null,0,1111]
[12,5305,14,5309,13,5313,14,5319,null,null,0,1111]
[12,5430,14,5435,13,5446,14,5454,null,null,0,1111]
[12,5573,14,5579,13,5585,14,5594,null,null,0,1111]
[12,5690,14,5695,13,5699,14,5703,null,null,0,1111]
[12,5813,14,5817,13,5822,14,5829,null,null,0,1111]
[12,5928,14,5933,13,5940,14,5944,null,null,0,1111]
[12,6044,14,6049,13,6053,14,6058,null,null,0,1111]
[12,6161,14,6173,13,6177,14,6185,null,null,0,1111]
[12,6282,14,6287,13,6291,14,6295,null,null,0,1111]
[12,6391,14,6396,13,6400,14,6404,null,null,0,1111]
[12,6507,14,6511,13,6514,14,6518,null,null,0,1111]
[12,6616,14,6620,13,6624,14,6630,null,null,0,1111]
[12,6729,14,6733,13,6736,14,6741,null,null,0,1111]
[12,6843,14,6847,13,6851,14,6855,null,null,0,1111]
[12,6958,14,6962,13,6967,14,6974,null,null,0,1111]
[12,7070,14,7075,13,7079,14,7083,null,null,0,1111]
[12,7186,14,7198,13,7208,14,7218,null,null,0,1111]
[12,7321,14,7326,13,7329,14,7333,null,null,0,1111]
[12,7430,14,7433,13,7437,14,7441,null,null,0,1111]
[12,7549,14,7565,13,7570,14,7575,null,null,0,1111]
[12,7680,14,7683,13,7687,14,7692,null,null,0,1111]
[12,7791,14,7795,13,7799,14,7803,null,null,0,1111]
[12,7907,14,7911,13,7916,14,7920,null,null,0,1111]
[12,8016,14,8021,13,8025,14,8029,null,null,0,1111]
[12,8130,14,8135,13,8139,14,8147,null,null,0,1111]
[12,8247,14,8251,13,8258,14,8277,null,null,0,1111]
[12,8377,14,8381,13,8385,14,8391,null,null,0,1111]
[12,8493,14,8498,13,8502,14,8507,null,null,0,1111]
[12,8605,14,8609,13,8630,14,8641,null,null,0,1111]
[12,8741,14,8745,13,8749,14,8753,null,null,0,1111]
[12,8851,14,8855,13,8859,14,8863,null,null,0,1111]
[12,8964,14,8971,13,8976,14,8980,null,null,0,1111]
[12,9081,14,9086,13,9090,14,9094,null,null,0,1111]
[12,9196,14,9200,13,9205,14,9212,null,null,0,1111]
[12,9304,14,9309,13,9313,14,9319,null,null,0,1111]
[12,9416,14,9421,13,9424,14,9428,null,null,0,1111]
[12,9530,14,9535,13,9539,14,9543,null,null,0,1111]
[12,9646,14,9650,13,9654,14,9660,null,null,0,1111]
[12,9778,14,9782,13,9786,14,9794,null,null,0,1111]
[12,9896,14,9901,13,9909,14,9917,null,null,0,1111]
[12,10011,14,10015,13,10020,14,10024,null,null,0,1111]
[12,10122,14,10125,13,10130,14,10134,null,null,0,1111]
[12,10232,14,10239,13,10243,14,10247,null,null,0,1111]
[12,10349,14,10366,13,10370,14,10374,null,null,0,1111]
[12,10471,14,10476,13,10480,14,10484,null,null,0,1111]
[12,10584,14,10588,13,10592,14,10597,null,null,0,1111]
[12,10696,14,10700,13,10704,14,10711,null,null,0,1111]
[12,10807,14,10811,13,10816,14,10820,null,null,0,1111]
[12,10916,14,10920,13,10925,14,10929,null,null,0,1111]
[12,11037,14,11041,13,11046,14,11051,null,null,0,1111]
[12,11155,14,11159,13,11166,14,11171,null,null,0,1111]
[12,11265,14,11269,13,11272,14,11277,null,null,0,1111]
[12,11375,14,11380,13,11384,14,11389,null,null,0,1111]
[12,11484,14,11489,13,11493,14,11502,null,null,0,1111]
[12,11598,14,11602,13,11607,14,11611,null,null,0,1111]
[12,11860,14,11866,13,11875,14,11885,null,null,0,1111]
[12,12038,14,12044,13,12052,14,12060,null,null,0,1111]
[12,12491,14,12503,13,12514,14,12527,null,null,0,1111]
[12,12695,14,12701,13,12710,14,12720,null,null,0,1111]
[12,12960,14,12968,13,12977,14,12985,null,null,0,1111]
[12,13247,14,13255,13,13265,14,13274,null,null,0,1111]
[12,13452,14,13457,13,13462,14,13467,null,null,0,1111]
[12,13582,14,13588,13,13596,14,13600,null,null,0,1111]
[12,13710,14,13715,13,13725,14,13729,null,null,0,1111]
[12,13841,14,13847,13,13854,14,13863,null,null,0,1111]
[12,13980,14,13989,13,13996,14,14004,null,null,0,1111]
[12,14111,14,14118,13,14122,14,14131,null,null,0,1111]
[12,14230,14,14234,13,14240,14,14249,null,null,0,1111]
[12,14355,14,14359,13,14363,14,14371,null,null,0,1111]
[12,14492,14,14496,13,14500,14,14508,null,null,0,1111]
[12,14618,14,14623,13,14628,14,14635,null,null,0,1111]
[12,14739,14,14744,13,14748,14,14752,null,null,0,1111]
[12,14848,14,14853,13,14858,14,14862,null,null,0,1111]
[12,14965,14,14971,13,14976,14,14979,null,null,0,1111]
[12,15074,14,15079,13,15083,14,15087,null,null,0,1111]
[12,15191,14,15196,13,15203,14,15209,null,null,0,1111]
[12,15313,14,15319,13,15324,14,15332,null,null,0,1111]
[12,15431,14,15435,13,15439,14,15447,null,null,0,1111]
[12,15551,14,15556,13,15561,14,15566,null,null,0,1111]
[12,15666,14,15673,13,15679,14,15688,null,null,0,1111]
[12,15784,14,15789,13,15797,14,15804,null,null,0,1111]
[12,15909,14,15914,13,15925,14,15932,null,null,0,1111]
[12,16029,14,16032,13,16036,14,16041,null,null,0,1111]
[12,16136,14,16140,13,16144,14,16149,null,null,0,1111]
[12,16268,14,16274,13,16278,14,16287,null,null,0,1111]
[12,16382,14,16386,13,16390,14,16394,null,null,0,1111]
[12,16494,14,16498,13,16502,14,16507,null,null,0,1111]
[12,16604,14,16607,13,16612,14,16616,null,null,0,1111]
[12,16713,14,16717,13,16721,14,16724,null,null,0,1111]
[12,16818,14,16822,13,16828,14,16832,null,null,0,1111]
[12,16929,14,16934,13,16938,14,16941,null,null,0,1111]
[12,17039,14,17043,13,17050,14,17056,null,null,0,1111]
[12,17170,14,17174,13,17179,14,17187,null,null,0,1111]
[12,17285,14,17290,13,17294,14,17298,null,null,0,1111]
[12,17394,14,17399,13,17403,14,17408,null,null,0,1111]
[12,17506,14,17510,13,17514,14,17518,null,null,0,1111]
[12,17614,14,17619,13,17623,14,17628,null,null,0,1111]
[12,17722,14,17726,13,17730,14,17744,null,null,0,1111]
[12,17840,14,17844,13,17849,14,17857,null,null,0,1111]
[12,17953,14,17957,13,17961,14,17965,null,null,0,1111]
[12,18089,14,18094,13,18102,14,18111,null,null,0,1111]
[12,18223,14,18228,13,18237,14,18245,null,null,0,1111]
[12,18367,14,18371,13,18378,14,18386,null,null,0,1111]
[12,18495,14,18501,13,18509,14,18514,null,null,0,1111]
[12,18623,14,18628,13,18637,14,18642,null,null,0,1111]
[12,18745,14,18749,13,18755,14,18763,null,null,0,1111]
[12,18857,14,18860,13,18876,14,18887,null,null,0,1111]
[12,18987,14,18992,13,18996,14,19001,null,null,0,1111]
[12,19113,14,19118,13,19122,14,19129,null,null,0,1111]
[12,19225,14,19229,13,19233,14,19240,null,null,0,1111]
[12,19336,14,19343,13,19347,14,19352,null,null,0,1111]
[12,19469,14,19478,13,19482,14,19490,null,null,0,1111]
[12,19642,14,19651,13,19664,14,19672,null,null,0,1111]
[12,19785,14,19791,13,19795,14,19805,null,null,0,1111]
[12,19915,14,19921,13,19928,14,19933,null,null,0,1111]
[12,20030,14,20038,13,20042,14,20049,null,null,0,1111]
[12,20144,14,20149,13,20153,14,20157,null,null,0,1111]
[12,20254,14,20258,13,20263,14,20270,null,null,0,1111]
[12,20367,14,20383,13,20388,14,20393,null,null,0,1111]
[12,20502,14,20512,13,20526,14,20546,null,null,0,1111]
[12,20670,14,20674,13,20690,14,20696,null,null,0,1111]
[12,20800,14,20804,13,20809,14,20816,null,null,0,1111]
[12,20914,14,20919,13,20922,14,20926,null,null,0,1111]
[12,21027,14,21032,13,21037,14,21041,null,null,0,1111]
[12,21136,14,21140,13,21145,14,21149,null,null,0,1111]
[12,21257,14,21262,13,21268,14,21274,null,null,0,1111]
[12,21375,14,21380,13,21384,14,21388,null,null,0,1111]
[12,21488,14,21491,13,21495,14,21499,null,null,0,1111]
[12,21594,14,21598,13,21602,14,21606,null,null,0,1111]
[12,21701,14,21705,13,21709,14,21712,null,null,0,1111]
[12,21812,14,21816,13,21820,14,21824,null,null,0,1111]
[12,21936,14,21941,13,21944,14,21948,null,null,0,1111]
[12,22048,14,22053,13,22057,14,22060,null,null,0,1111]
[12,22158,14,22168,13,22172,14,22180,null,null,0,1111]
[12,22281,14,22285,13,22290,14,22294,null,null,0,1111]
[12,22390,14,22393,13,22397,14,22401,null,null,0,1111]
[12,22502,14,22506,13,22511,14,22516,null,null,0,1111]
[12,22616,14,22619,13,22623,14,22627,null,null,0,1111]
[12,22742,14,22747,13,22753,14,22763,null,null,0,1111]
[12,22861,14,22865,13,22869,14,22873,null,null,0,1111]
[12,22979,14,22985,13,22993,14,23011,null,null,0,1111]
[12,23130,14,23135,13,23139,14,23143,null,null,0,1111]
[12,23239,14,23243,13,23247,14,23251,null,null,0,1111]
[12,23348,14,23352,13,23357,14,23364,null,null,0,1111]
[12,23466,14,23470,13,23474,14,23478,null,null,0,1111]
[12,23584,14,23589,13,23594,14,23602,null,null,0,1111]
[12,23699,14,23703,13,23707,14,23711,null,null,0,1111]
[12,23814,14,23818,13,23823,14,23828,null,null,0,1111]
[12,23939,14,23944,13,23948,14,23957,null,null,null,1111]

{"sheet":"!M909A40.104","index":26,"n_rows":217,"n_cols":48,"rows_kept":217,"cut":false,"hidden":false,"merged":[[4,39,4,42],[5,39,5,40],[4,44,4,47],[5,44,5,45],[4,24,4,27],[5,24,5,25],[4,29,4,32],[5,29,5,30],[4,34,4,37],[5,34,5,35],[1,1,1,2],[5,13,5,14],[26,13,26,14],[27,13,27,14],[4,19,4,22],[5,19,5,20]]}
["Report for:!M909A40.104"]
["Date:","<date>"]
["Hen:","<hen>",null,null,null,"Correct Sequence",{"$f":"Start!J2","v":2212},null,null,null,null,null,null,null,null,"Total Sequences in Data",{"$f":"4994-COUNTBLANK(L7:L5000)","v":211},null,null,null,null,"Total Sequences in Block Data",{"$f":"COUNTA(L7:L41)","v":35},null,null,null,"Total Sequences in Block Data",{"$f":"COUNTA(L42:L76)","v":35},null,null,null,"Total Sequences in Block Data",{"$f":"COUNTA(L77:L112)","v":36},null,null,null,"Total Sequences in Block Data",{"$f":"COUNTA(L113:L147)","v":35},null,null,null,"Total Sequences in Block Data",{"$f":"COUNTA(L148:L182)","v":35},null,null,null,"Total Sequences in Block Data",{"$f":"COUNTA(L183:L217)","v":35}]
[null,null,null,null,null,null,null,null,null,null,null,null,null,null,null,"Total Sequences in Summary",{"$f":"SUM(O7:O22)","v":211},null,null,null,null,"Total Sequences in Block Summary",{"$f":"SUM(U7:U22)","v":35},null,null,null,"Total Sequences in Block Summary",{"$f":"SUM(Z7:Z22)","v":35},null,null,null,"Total Sequences in Block Summary",{"$f":"SUM(AE7:AE22)","v":36},null,null,null,"Total Sequences in Block Summary",{"$f":"SUM(AJ7:AJ22)","v":35},null,null,null,"Total Sequences in Block Summary",{"$f":"SUM(AO7:AO22)","v":35},null,null,null,"Total Sequences in Block Summary",{"$f":"SUM(AT7:AT22)","v":35}]
[null,null,null,null,null,null,null,null,null,null,null,null,null,null,null,null,null,null,null,"Block 1",null,null,null,null,"Block 2",null,null,null,null,"Block 3",null,null,null,null,"Block 4",null,null,null,null,"Block 5",null,null,null,null,"Block 6"]
["Sequence\nComponent\n1","Time\n1","Sequence\nComponent\n2","Time\n2","Sequence\nComponent\n3","Time\n3","Sequence\nComponent\n4","Time\n4","Sequence\nComponent\n5","Time\n5","Correct?\n0=No 1=Yes","Sequence",null,"Frequency",null,"Relative Frequency","Variability",null,null,"Frequency",null,"Relative Frequency","Variability",null,"Frequency",null,"Relative Frequency","Variability",null,"Frequency",null,"Relative Frequency","Variability",null,"Frequency",null,"Relative Frequency","Variability",null,"Frequency",null,"Relative Frequency","Variability",null,"Frequency",null,"Relative Frequency","Variability"]
[12,16,14,20,13,24,14,29,null,null,0,1111,null,1111,{"$f":"COUNTIF($L$7:$L$500,N7)","v":210},{"$f":"O7/$Q$4","v":0.99526066350710896},{"$f":"IF(P7=0,0,(P7*((LOG(P7))/LOG(2))))","v":-6.821189187787389E-3},null,null,{"$f":"N7","v":1111},{"$f":"COUNTIF(L7:L41,T7)","v":34},{"$f":"U7/(W4-U20)","v":0.97142857142857142},{"$f":"IF(V7=0,0,(V7*((LOG(V7))/LOG(2))))","v":-4.0625313531923425E-2},null,{"$f":"N7","v":1111},{"$f":"COUNTIF(L42:L76,Y7)","v":35},{"$f":"Z7/(AB4-Z20)","v":1},{"$f":"IF(AA7=0,0,(AA7*((LOG(AA7))/LOG(2))))","v":0},null,{"$f":"N7","v":1111},{"$f":"COUNTIF(L77:L112,AD7)","v":36},{"$f":"AE7/(AG4-AE20)","v":1},{"$f":"IF(AF7=0,0,(AF7*((LOG(AF7))/LOG(2))))","v":0},null,{"$f":"N7","v":1111},{"$f":"COUNTIF(L113:L147,AI7)","v":35},{"$f":"AJ7/(AL4-AJ20)","v":1},{"$f":"IF(AK7=0,0,(AK7*((LOG(AK7))/LOG(2))))","v":0},null,{"$f":"N7","v":1111},{"$f":"COUNTIF(L148:L182,AN7)","v":35},{"$f":"AO7/(AQ4-AO20)","v":1},{"$f":"IF(AP7=0,0,(AP7*((LOG(AP7))/LOG(2))))","v":0},null,{"$f":"N7","v":1111},{"$f":"COUNTIF(L183:L217,AS7)","v":35},{"$f":"AT7/(AV4-AT20)","v":1},{"$f":"IF(AU7=0,0,(AU7*((LOG(AU7))/LOG(2))))","v":0}]
[12,144,14,149,13,153,14,157,null,null,0,1111,null,1112,{"$f":"COUNTIF($L$7:$L$500,N8)","v":1},{"$f":"O8/$Q$4","v":4.7393364928909956E-3},{"$f":"IF(P8=0,0,(P8*((LOG(P8))/LOG(2))))","v":-3.6592887150271022E-2},null,null,{"$f":"N8","v":1112},{"$f":"COUNTIF(L7:L41,T8)","v":1},{"$f":"U8/(W4-U20)","v":2.8571428571428571E-2},{"$f":"IF(V8=0,0,(V8*((LOG(V8))/LOG(2))))","v":-0.14655094334128474},null,{"$f":"N8","v":1112},{"$f":"COUNTIF(L42:L76,Y8)","v":0},{"$f":"Z8/(AB4-Z20)","v":0},{"$f":"IF(AA8=0,0,(AA8*((LOG(AA8))/LOG(2))))","v":0},null,{"$f":"N8","v":1112},{"$f":"COUNTIF(L77:L112,AD8)","v":0},{"$f":"AE8/(AG4-AE20)","v":0},{"$f":"IF(AF8=0,0,(AF8*((LOG(AF8))/LOG(2))))","v":0},null,{"$f":"N8","v":1112},{"$f":"COUNTIF(L113:L147,AI8)","v":0},{"$f":"AJ8/(AL4-AJ20)","v":0},{"$f":"IF(AK8=0,0,(AK8*((LOG(AK8))/LOG(2))))","v":0},null,{"$f":"N8","v":1112},{"$f":"COUNTIF(L148:L182,AN8)","v":0},{"$f":"AO8/(AQ4-AO20)","v":0},{"$f":"IF(AP8=0,0,(AP8*((LOG(AP8))/LOG(2))))","v":0},null,{"$f":"N8","v":1112},{"$f":"COUNTIF(L183:L217,AS8)","v":0},{"$f":"AT8/(AV4-AT20)","v":0},{"$f":"IF(AU8=0,0,(AU8*((LOG(AU8))/LOG(2))))","v":0}]
[12,254,14,266,13,270,14,274,null,null,0,1111,null,1121,{"$f":"COUNTIF($L$7:$L$500,N9)","v":0},{"$f":"O9/$Q$4","v":0},{"$f":"IF(P9=0,0,(P9*((LOG(P9))/LOG(2))))","v":0},null,null,{"$f":"N9","v":1121},{"$f":"COUNTIF(L7:L41,T9)","v":0},{"$f":"U9/(W4-U20)","v":0},{"$f":"IF(V9=0,0,(V9*((LOG(V9))/LOG(2))))","v":0},null,{"$f":"N9","v":1121},{"$f":"COUNTIF(L42:L76,Y9)","v":0},{"$f":"Z9/(AB4-Z20)","v":0},{"$f":"IF(AA9=0,0,(AA9*((LOG(AA9))/LOG(2))))","v":0},null,{"$f":"N9","v":1121},{"$f":"COUNTIF(L77:L112,AD9)","v":0},{"$f":"AE9/(AG4-AE20)","v":0},{"$f":"IF(AF9=0,0,(AF9*((LOG(AF9))/LOG(2))))","v":0},null,{"$f":"N9","v":1121},{"$f":"COUNTIF(L113:L147,AI9)","v":0},{"$f":"AJ9/(AL4-AJ20)","v":0},{"$f":"IF(AK9=0,0,(AK9*((LOG(AK9))/LOG(2))))","v":0},null,{"$f":"N9","v":1121},{"$f":"COUNTIF(L148:L182,AN9)","v":0},{"$f":"AO9/(AQ4-AO20)","v":0},{"$f":"IF(AP9=0,0,(AP9*((LOG(AP9))/LOG(2))))","v":0},null,{"$f":"N9","v":1121},{"$f":"COUNTIF(L183:L217,AS9)","v":0},{"$f":"AT9/(AV4-AT20)","v":0},{"$f":"IF(AU9=0,0,(AU9*((LOG(AU9))/LOG(2))))","v":0}]
[12,373,14,382,13,387,14,397,null,null,0,1111,null,1122,{"$f":"COUNTIF($L$7:$L$500,N10)","v":0},{"$f":"O10/$Q$4","v":0},{"$f":"IF(P10=0,0,(P10*((LOG(P10))/LOG(2))))","v":0},null,null,{"$f":"N10","v":1122},{"$f":"COUNTIF(L7:L41,T10)","v":0},{"$f":"U10/(W4-U20)","v":0},{"$f":"IF(V10=0,0,(V10*((LOG(V10))/LOG(2))))","v":0},null,{"$f":"N10","v":1122},{"$f":"COUNTIF(L42:L76,Y10)","v":0},{"$f":"Z10/(AB4-Z20)","v":0},{"$f":"IF(AA10=0,0,(AA10*((LOG(AA10))/LOG(2))))","v":0},null,{"$f":"N10","v":1122},{"$f":"COUNTIF(L77:L112,AD10)","v":0},{"$f":"AE10/(AG4-AE20)","v":0},{"$f":"IF(AF10=0,0,(AF10*((LOG(AF10))/LOG(2))))","v":0},null,{"$f":"N10","v":1122},{"$f":"COUNTIF(L113:L147,AI10)","v":0},{"$f":"AJ10/(AL4-AJ20)","v":0},{"$f":"IF(AK10=0,0,(AK10*((LOG(AK10))/LOG(2))))","v":0},null,{"$f":"N10","v":1122},{"$f":"COUNTIF(L148:L182,AN10)","v":0},{"$f":"AO10/(AQ4-AO20)","v":0},{"$f":"IF(AP10=0,0,(AP10*((LOG(AP10))/LOG(2))))","v":0},null,{"$f":"N10","v":1122},{"$f":"COUNTIF(L183:L217,AS10)","v":0},{"$f":"AT10/(AV4-AT20)","v":0},{"$f":"IF(AU10=0,0,(AU10*((LOG(AU10))/LOG(2))))","v":0}]
[12,501,14,505,13,510,23,527,null,null,0,1112,null,1211,{"$f":"COUNTIF($L$7:$L$500,N11)","v":0},{"$f":"O11/$Q$4","v":0},{"$f":"IF(P11=0,0,(P11*((LOG(P11))/LOG(2))))","v":0},null,null,{"$f":"N11","v":1211},{"$f":"COUNTIF(L7:L41,T11)","v":0},{"$f":"U11/(W4-U20)","v":0},{"$f":"IF(V11=0,0,(V11*((LOG(V11))/LOG(2))))","v":0},null,{"$f":"N11","v":1211},{"$f":"COUNTIF(L42:L76,Y11)","v":0},{"$f":"Z11/(AB4-Z20)","v":0},{"$f":"IF(AA11=0,0,(AA11*((LOG(AA11))/LOG(2))))","v":0},null,{"$f":"N11","v":1211},{"$f":"COUNTIF(L77:L112,AD11)","v":0},{"$f":"AE11/(AG4-AE20)","v":0},{"$f":"IF(AF11=0,0,(AF11*((LOG(AF11))/LOG(2))))","v":0},null,{"$f":"N11","v":1211},{"$f":"COUNTIF(L113:L147,AI11)","v":0},{"$f":"AJ11/(AL4-AJ20)","v":0},{"$f":"IF(AK11=0,0,(AK11*((LOG(AK11))/LOG(2))))","v":0},null,{"$f":"N11","v":1211},{"$f":"COUNTIF(L148:L182,AN11)","v":0},{"$f":"AO11/(AQ4-AO20)","v":0},{"$f":"IF(AP11=0,0,(AP11*((LOG(AP11))/LOG(2))))","v":0},null,{"$f":"N11","v":1211},{"$f":"COUNTIF(L183:L217,AS11)","v":0},{"$f":"AT11/(AV4-AT20)","v":0},{"$f":"IF(AU11=0,0,(AU11*((LOG(AU11))/LOG(2))))","v":0}]
[12,627,14,631,13,635,14,639,null,null,0,1111,null,1212,{"$f":"COUNTIF($L$7:$L$500,N12)","v":0},{"$f":"O12/$Q$4","v":0},{"$f":"IF(P12=0,0,(P12*((LOG(P12))/LOG(2))))","v":0},null,null,{"$f":"N12","v":1212},{"$f":"COUNTIF(L7:L41,T12)","v":0},{"$f":"U12/(W4-U20)","v":0},{"$f":"IF(V12=0,0,(V12*((LOG(V12))/LOG(2))))","v":0},null,{"$f":"N12","v":1212},{"$f":"COUNTIF(L42:L76,Y12)","v":0},{"$f":"Z12/(AB4-Z20)","v":0},{"$f":"IF(AA12=0,0,(AA12*((LOG(AA12))/LOG(2))))","v":0},null,{"$f":"N12","v":1212},{"$f":"COUNTIF(L77:L112,AD12)","v":0},{"$f":"AE12/(AG4-AE20)","v":0},{"$f":"IF(AF12=0,0,(AF12*((LOG(AF12))/LOG(2))))","v":0},null,{"$f":"N12","v":1212},{"$f":"COUNTIF(L113:L147,AI12)","v":0},{"$f":"AJ12/(AL4-AJ20)","v":0},{"$f":"IF(AK12=0,0,(AK12*((LOG(AK12))/LOG(2))))","v":0},null,{"$f":"N12","v":1212},{"$f":"COUNTIF(L148:L182,AN12)","v":0},{"$f":"AO12/(AQ4-AO20)","v":0},{"$f":"IF(AP12=0,0,(AP12*((LOG(AP12))/LOG(2))))","v":0},null,{"$f":"N12","v":1212},{"$f":"COUNTIF(L183:L217,AS12)","v":0},{"$f":"AT12/(AV4-AT20)","v":0},{"$f":"IF(AU12=0,0,(AU12*((LOG(AU12))/LOG(2))))","v":0}]
[12,739,14,745,13,749,14,753,null,null,0,1111,null,1221,{"$f":"COUNTIF($L$7:$L$500,N13)","v":0},{"$f":"O13/$Q$4","v":0},{"$f":"IF(P13=0,0,(P13*((LOG(P13))/LOG(2))))","v":0},null,null,{"$f":"N13","v":1221},{"$f":"COUNTIF(L7:L41,T13)","v":0},{"$f":"U13/(W4-U20)","v":0},{"$f":"IF(V13=0,0,(V13*((LOG(V13))/LOG(2))))","v":0},null,{"$f":"N13","v":1221},{"$f":"COUNTIF(L42:L76,Y13)","v":0},{"$f":"Z13/(AB4-Z20)","v":0},{"$f":"IF(AA13=0,0,(AA13*((LOG(AA13))/LOG(2))))","v":0},null,{"$f":"N13","v":1221},{"$f":"COUNTIF(L77:L112,AD13)","v":0},{"$f":"AE13/(AG4-AE20)","v":0},{"$f":"IF(AF13=0,0,(AF13*((LOG(AF13))/LOG(2))))","v":0},null,{"$f":"N13","v":1221},{"$f":"COUNTIF(L113:L147,AI13)","v":0},{"$f":"AJ13/(AL4-AJ20)","v":0},{"$f":"IF(AK13=0,0,(AK13*((LOG(AK13))/LOG(2))))","v":0},null,{"$f":"N13","v":1221},{"$f":"COUNTIF(L148:L182,AN13)","v":0},{"$f":"AO13/(AQ4-AO20)","v":0},{"$f":"IF(AP13=0,0,(AP13*((LOG(AP13))/LOG(2))))","v":0},null,{"$f":"N13","v":1221},{"$f":"COUNTIF(L183:L217,AS13)","v":0},{"$f":"AT13/(AV4-AT20)","v":0},{"$f":"IF(AU13=0,0,(AU13*((LOG(AU13))/LOG(2))))","v":0}]
[12,851,14,855,13,870,14,874,null,null,0,1111,null,1222,{"$f":"COUNTIF($L$7:$L$500,N14)","v":0},{"$f":"O14/$Q$4","v":0},{"$f":"IF(P14=0,0,(P14*((LOG(P14))/LOG(2))))","v":0},null,null,{"$f":"N14","v":1222},{"$f":"COUNTIF(L7:L41,T14)","v":0},{"$f":"U14/(W4-U20)","v":0},{"$f":"IF(V14=0,0,(V14*((LOG(V14))/LOG(2))))","v":0},null,{"$f":"N14","v":1222},{"$f":"COUNTIF(L42:L76,Y14)","v":0},{"$f":"Z14/(AB4-Z20)","v":0},{"$f":"IF(AA14=0,0,(AA14*((LOG(AA14))/LOG(2))))","v":0},null,{"$f":"N14","v":1222},{"$f":"COUNTIF(L77:L112,AD14)","v":0},{"$f":"AE14/(AG4-AE20)","v":0},{"$f":"IF(AF14=0,0,(AF14*((LOG(AF14))/LOG(2))))","v":0},null,{"$f":"N14","v":1222},{"$f":"COUNTIF(L113:L147,AI14)","v":0},{"$f":"AJ14/(AL4-AJ20)","v":0},{"$f":"IF(AK14=0,0,(AK14*((LOG(AK14))/LOG(2))))","v":0},null,{"$f":"N14","v":1222},{"$f":"COUNTIF(L148:L182,AN14)","v":0},{"$f":"AO14/(AQ4-AO20)","v":0},{"$f":"IF(AP14=0,0,(AP14*((LOG(AP14))/LOG(2))))","v":0},null,{"$f":"N14","v":1222},{"$f":"COUNTIF(L183:L217,AS14)","v":0},{"$f":"AT14/(AV4-AT20)","v":0},{"$f":"IF(AU14=0,0,(AU14*((LOG(AU14))/LOG(2))))","v":0}]
[12,974,14,978,13,982,14,986,null,null,0,1111,null,2111,{"$f":"COUNTIF($L$7:$L$500,N15)","v":0},{"$f":"O15/$Q$4","v":0},{"$f":"IF(P15=0,0,(P15*((LOG(P15))/LOG(2))))","v":0},null,null,{"$f":"N15","v":2111},{"$f":"COUNTIF(L7:L41,T15)","v":0},{"$f":"U15/(W4-U20)","v":0},{"$f":"IF(V15=0,0,(V15*((LOG(V15))/LOG(2))))","v":0},null,{"$f":"N15","v":2111},{"$f":"COUNTIF(L42:L76,Y15)","v":0},{"$f":"Z15/(AB4-Z20)","v":0},{"$f":"IF(AA15=0,0,(AA15*((LOG(AA15))/LOG(2))))","v":0},null,{"$f":"N15","v":2111},{"$f":"COUNTIF(L77:L112,AD15)","v":0},{"$f":"AE15/(AG4-AE20)","v":0},{"$f":"IF(AF15=0,0,(AF15*((LOG(AF15))/LOG(2))))","v":0},null,{"$f":"N15","v":2111},{"$f":"COUNTIF(L113:L147,AI15)","v":0},{"$f":"AJ15/(AL4-AJ20)","v":0},{"$f":"IF(AK15=0,0,(AK15*((LOG(AK15))/LOG(2))))","v":0},null,{"$f":"N15","v":2111},{"$f":"COUNTIF(L148:L182,AN15)","v":0},{"$f":"AO15/(AQ4-AO20)","v":0},{"$f":"IF(AP15=0,0,(AP15*((LOG(AP15))/LOG(2))))","v":0},null,{"$f":"N15","v":2111},{"$f":"COUNTIF(L183:L217,AS15)","v":0},{"$f":"AT15/(AV4-AT20)","v":0},{"$f":"IF(AU15=0,0,(AU15*((LOG(AU15))/LOG(2))))","v":0}]
[12,1079,14,1083,13,1087,14,1091,null,null,0,1111,null,2112,{"$f":"COUNTIF($L$7:$L$500,N16)","v":0},{"$f":"O16/$Q$4","v":0},{"$f":"IF(P16=0,0,(P16*((LOG(P16))/LOG(2))))","v":0},null,null,{"$f":"N16","v":2112},{"$f":"COUNTIF(L7:L41,T16)","v":0},{"$f":"U16/(W4-U20)","v":0},{"$f":"IF(V16=0,0,(V16*((LOG(V16))/LOG(2))))","v":0},null,{"$f":"N16","v":2112},{"$f":"COUNTIF(L42:L76,Y16)","v":0},{"$f":"Z16/(AB4-Z20)","v":0},{"$f":"IF(AA16=0,0,(AA16*((LOG(AA16))/LOG(2))))","v":0},null,{"$f":"N16","v":2112},{"$f":"COUNTIF(L77:L112,AD16)","v":0},{"$f":"AE16/(AG4-AE20)","v":0},{"$f":"IF(AF16=0,0,(AF16*((LOG(AF16))/LOG(2))))","v":0},null,{"$f":"N16","v":2112},{"$f":"COUNTIF(L113:L147,AI16)","v":0},{"$f":"AJ16/(AL4-AJ20)","v":0},{"$f":"IF(AK16=0,0,(AK16*((LOG(AK16))/LOG(2))))","v":0},null,{"$f":"N16","v":2112},{"$f":"COUNTIF(L148:L182,AN16)","v":0},{"$f":"AO16/(AQ4-AO20)","v":0},{"$f":"IF(AP16=0,0,(AP16*((LOG(AP16))/LOG(2))))","v":0},null,{"$f":"N16","v":2112},{"$f":"COUNTIF(L183:L217,AS16)","v":0},{"$f":"AT16/(AV4-AT20)","v":0},{"$f":"IF(AU16=0,0,(AU16*((LOG(AU16))/LOG(2))))","v":0}]
[12,1199,14,1203,13,1207,14,1211,null,null,0,1111,null,2121,{"$f":"COUNTIF($L$7:$L$500,N17)","v":0},{"$f":"O17/$Q$4","v":0},{"$f":"IF(P17=0,0,(P17*((LOG(P17))/LOG(2))))","v":0},null,null,{"$f":"N17","v":2121},{"$f":"COUNTIF(L7:L41,T17)","v":0},{"$f":"U17/(W4-U20)","v":0},{"$f":"IF(V17=0,0,(V17*((LOG(V17))/LOG(2))))","v":0},null,{"$f":"N17","v":2121},{"$f":"COUNTIF(L42:L76,Y17)","v":0},{"$f":"Z17/(AB4-Z20)","v":0},{"$f":"IF(AA17=0,0,(AA17*((LOG(AA17))/LOG(2))))","v":0},null,{"$f":"N17","v":2121},{"$f":"COUNTIF(L77:L112,AD17)","v":0},{"$f":"AE17/(AG4-AE20)","v":0},{"$f":"IF(AF17=0,0,(AF17*((LOG(AF17))/LOG(2))))","v":0},null,{"$f":"N17","v":2121},{"$f":"COUNTIF(L113:L147,AI17)","v":0},{"$f":"AJ17/(AL4-AJ20)","v":0},{"$f":"IF(AK17=0,0,(AK17*((LOG(AK17))/LOG(2))))","v":0},null,{"$f":"N17","v":2121},{"$f":"COUNTIF(L148:L182,AN17)","v":0},{"$f":"AO17/(AQ4-AO20)","v":0},{"$f":"IF(AP17=0,0,(AP17*((LOG(AP17))/LOG(2))))","v":0},null,{"$f":"N17","v":2121},{"$f":"COUNTIF(L183:L217,AS17)","v":0},{"$f":"AT17/(AV4-AT20)","v":0},{"$f":"IF(AU17=0,0,(AU17*((LOG(AU17))/LOG(2))))","v":0}]
[12,1308,14,1312,13,1316,14,1319,null,null,0,1111,null,2122,{"$f":"COUNTIF($L$7:$L$500,N18)","v":0},{"$f":"O18/$Q$4","v":0},{"$f":"IF(P18=0,0,(P18*((LOG(P18))/LOG(2))))","v":0},null,null,{"$f":"N18","v":2122},{"$f":"COUNTIF(L7:L41,T18)","v":0},{"$f":"U18/(W4-U20)","v":0},{"$f":"IF(V18=0,0,(V18*((LOG(V18))/LOG(2))))","v":0},null,{"$f":"N18","v":2122},{"$f":"COUNTIF(L42:L76,Y18)","v":0},{"$f":"Z18/(AB4-Z20)","v":0},{"$f":"IF(AA18=0,0,(AA18*((LOG(AA18))/LOG(2))))","v":0},null,{"$f":"N18","v":2122},{"$f":"COUNTIF(L77:L112,AD18)","v":0},{"$f":"AE18/(AG4-AE20)","v":0},{"$f":"IF(AF18=0,0,(AF18*((LOG(AF18))/LOG(2))))","v":0},null,{"$f":"N18","v":2122},{"$f":"COUNTIF(L113:L147,AI18)","v":0},{"$f":"AJ18/(AL4-AJ20)","v":0},{"$f":"IF(AK18=0,0,(AK18*((LOG(AK18))/LOG(2))))","v":0},null,{"$f":"N18","v":2122},{"$f":"COUNTIF(L148:L182,AN18)","v":0},{"$f":"AO18/(AQ4-AO20)","v":0},{"$f":"IF(AP18=0,0,(AP18*((LOG(AP18))/LOG(2))))","v":0},null,{"$f":"N18","v":2122},{"$f":"COUNTIF(L183:L217,AS18)","v":0},{"$f":"AT18/(AV4-AT20)","v":0},{"$f":"IF(AU18=0,0,(AU18*((LOG(AU18))/LOG(2))))","v":0}]
[12,1421,14,1425,13,1430,14,1434,null,null,0,1111,null,2211,{"$f":"COUNTIF($L$7:$L$500,N19)","v":0},{"$f":"O19/$Q$4","v":0},{"$f":"IF(P19=0,0,(P19*((LOG(P19))/LOG(2))))","v":0},null,null,{"$f":"N19","v":2211},{"$f":"COUNTIF(L7:L41,T19)","v":0},{"$f":"U19/(W4-U20)","v":0},{"$f":"IF(V19=0,0,(V19*((LOG(V19))/LOG(2))))","v":0},null,{"$f":"N19","v":2211},{"$f":"COUNTIF(L42:L76,Y19)","v":0},{"$f":"Z19/(AB4-Z20)","v":0},{"$f":"IF(AA19=0,0,(AA19*((LOG(AA19))/LOG(2))))","v":0},null,{"$f":"N19","v":2211},{"$f":"COUNTIF(L77:L112,AD19)","v":0},{"$f":"AE19/(AG4-AE20)","v":0},{"$f":"IF(AF19=0,0,(AF19*((LOG(AF19))/LOG(2))))","v":0},null,{"$f":"N19","v":2211},{"$f":"COUNTIF(L113:L147,AI19)","v":0},{"$f":"AJ19/(AL4-AJ20)","v":0},{"$f":"IF(AK19=0,0,(AK19*((LOG(AK19))/LOG(2))))","v":0},null,{"$f":"N19","v":2211},{"$f":"COUNTIF(L148:L182,AN19)","v":0},{"$f":"AO19/(AQ4-AO20)","v":0},{"$f":"IF(AP19=0,0,(AP19*((LOG(AP19))/LOG(2))))","v":0},null,{"$f":"N19","v":2211},{"$f":"COUNTIF(L183:L217,AS19)","v":0},{"$f":"AT19/(AV4-AT20)","v":0},{"$f":"IF(AU19=0,0,(AU19*((LOG(AU19))/LOG(2))))","v":0}]
[12,1528,14,1543,13,1551,14,1559,null,null,0,1111,null,2212,{"$f":"COUNTIF($L$7:$L$500,N20)","v":0},{"$f":"O20/$Q$4","v":0},{"$f":"IF(P20=0,0,(P20*((LOG(P20))/LOG(2))))","v":0},null,null,{"$f":"N20","v":2212},{"$f":"COUNTIF(L7:L41,T20)","v":0},null,null,null,{"$f":"N20","v":2212},{"$f":"COUNTIF(L42:L76,Y20)","v":0},null,null,null,{"$f":"N20","v":2212},{"$f":"COUNTIF(L77:L112,AD20)","v":0},null,null,null,{"$f":"N20","v":2212},{"$f":"COUNTIF(L113:L147,AI20)","v":0},null,null,null,{"$f":"N20","v":2212},{"$f":"COUNTIF(L148:L182,AN20)","v":0},null,null,null,{"$f":"N20","v":2212},{"$f":"COUNTIF(L183:L217,AS20)","v":0}]
[12,1659,14,1664,13,1673,14,1679,null,null,0,1111,null,2221,{"$f":"COUNTIF($L$7:$L$500,N21)","v":0},{"$f":"O21/$Q$4","v":0},{"$f":"IF(P21=0,0,(P21*((LOG(P21))/LOG(2))))","v":0},null,null,{"$f":"N21","v":2221},{"$f":"COUNTIF(L7:L41,T21)","v":0},{"$f":"U21/(W4-U20)","v":0},{"$f":"IF(V21=0,0,(V21*((LOG(V21))/LOG(2))))","v":0},null,{"$f":"N21","v":2221},{"$f":"COUNTIF(L42:L76,Y21)","v":0},{"$f":"Z21/(AB4-Z20)","v":0},{"$f":"IF(AA21=0,0,(AA21*((LOG(AA21))/LOG(2))))","v":0},null,{"$f":"N21","v":2221},{"$f":"COUNTIF(L77:L112,AD21)","v":0},{"$f":"AE21/(AG4-AE20)","v":0},{"$f":"IF(AF21=0,0,(AF21*((LOG(AF21))/LOG(2))))","v":0},null,{"$f":"N21","v":2221},{"$f":"COUNTIF(L113:L147,AI21)","v":0},{"$f":"AJ21/(AL4-AJ20)","v":0},{"$f":"IF(AK21=0,0,(AK21*((LOG(AK21))/LOG(2))))","v":0},null,{"$f":"N21","v":2221},{"$f":"COUNTIF(L148:L182,AN21)","v":0},{"$f":"AO21/(AQ4-AO20)","v":0},{"$f":"IF(AP21=0,0,(AP21*((LOG(AP21))/LOG(2))))","v":0},null,{"$f":"N21","v":2221},{"$f":"COUNTIF(L183:L217,AS21)","v":0},{"$f":"AT21/(AV4-AT20)","v":0},{"$f":"IF(AU21=0,0,(AU21*((LOG(AU21))/LOG(2))))","v":0}]
[12,1776,14,1784,13,1788,14,1792,null,null,0,1111,null,2222,{"$f":"COUNTIF($L$7:$L$500,N22)","v":0},{"$f":"O22/$Q$4","v":0},{"$f":"IF(P22=0,0,(P22*((LOG(P22))/LOG(2))))","v":0},null,null,{"$f":"N22","v":2222},{"$f":"COUNTIF(L7:L41,T22)","v":0},{"$f":"U22/(W4-U20)","v":0},{"$f":"IF(V22=0,0,(V22*((LOG(V22))/LOG(2))))","v":0},null,{"$f":"N22","v":2222},{"$f":"COUNTIF(L42:L76,Y22)","v":0},{"$f":"Z22/(AB4-Z20)","v":0},{"$f":"IF(AA22=0,0,(AA22*((LOG(AA22))/LOG(2))))","v":0},null,{"$f":"N22","v":2222},{"$f":"COUNTIF(L77:L112,AD22)","v":0},{"$f":"AE22/(AG4-AE20)","v":0},{"$f":"IF(AF22=0,0,(AF22*((LOG(AF22))/LOG(2))))","v":0},null,{"$f":"N22","v":2222},{"$f":"COUNTIF(L113:L147,AI22)","v":0},{"$f":"AJ22/(AL4-AJ20)","v":0},{"$f":"IF(AK22=0,0,(AK22*((LOG(AK22))/LOG(2))))","v":0},null,{"$f":"N22","v":2222},{"$f":"COUNTIF(L148:L182,AN22)","v":0},{"$f":"AO22/(AQ4-AO20)","v":0},{"$f":"IF(AP22=0,0,(AP22*((LOG(AP22))/LOG(2))))","v":0},null,{"$f":"N22","v":2222},{"$f":"COUNTIF(L183:L217,AS22)","v":0},{"$f":"AT22/(AV4-AT20)","v":0},{"$f":"IF(AU22=0,0,(AU22*((LOG(AU22))/LOG(2))))","v":0}]
[12,1889,14,1893,13,1897,14,1900,null,null,0,1111,null,null,null,{"$f":"SUM(P7:P22)","v":1},{"$f":"-SUM(Q7:Q22)","v":4.341407633805841E-2},null,null,null,null,{"$f":"SUM(V7:V22)","v":1},{"$f":"-SUM(W7:W22)","v":0.18717625687320816},null,null,null,{"$f":"SUM(AA7:AA22)","v":1},{"$f":"-SUM(AB7:AB22)","v":0},null,null,null,{"$f":"SUM(AF7:AF22)","v":1},{"$f":"-SUM(AG7:AG22)","v":0},null,null,null,{"$f":"SUM(AK7:AK22)","v":1},{"$f":"-SUM(AL7:AL22)","v":0},null,null,null,{"$f":"SUM(AP7:AP22)","v":1},{"$f":"-SUM(AQ7:AQ22)","v":0},null,null,null,{"$f":"SUM(AU7:AU22)","v":1},{"$f":"-SUM(AV7:AV22)","v":0}]
[12,1997,14,2002,13,2007,14,2011,null,null,0,1111,null,null,null,"U=",{"$f":"Q23/(LOG(Q4)/LOG(2))","v":5.6227844348322158E-3},null,null,null,null,"U1=",{"$f":"W23/(LOG(W4)/LOG(2))","v":3.6491699961740759E-2},null,null,null,"U2=",{"$f":"AB23/(LOG(AB4)/LOG(2))","v":0},null,null,null,"U3=",{"$f":"AG23/(LOG(AG4)/LOG(2))","v":0},null,null,null,"U4=",{"$f":"AL23/(LOG(AL4)/LOG(2))","v":0},null,null,null,"U5=",{"$f":"AQ23/(LOG(AQ4)/LOG(2))","v":0},null,null,null,"U6=",{"$f":"AV23/(LOG(AV4)/LOG(2))","v":0}]
[12,2110,14,2114,13,2118,14,2122,null,null,0,1111]
[12,2224,14,2229,13,2232,14,2237,null,null,0,1111]
[12,2333,14,2338,13,2342,14,2347,null,null,0,1111,null,"Total Target Seq"]
[12,2443,14,2448,13,2453,14,2460,null,null,0,1111,null,{"$f":"COUNTIF(L7:L217,G3)","v":0},null,35,35,36,35,35,35]
[12,2557,14,2561,13,2565,14,2570,null,null,0,1111,null,null,null,"% of reinforcement given in 6 equal intervals based on number of trials "]
[12,2668,14,2671,13,2686,14,2697,null,null,0,1111,null,null,null,"%_1","%_2","%_3","%_4","%_5","%_6"]
[12,2795,14,2799,13,2803,14,2807,null,null,0,1111,null,null,"target sequence",{"$f":"$G$3","v":2212},{"$f":"$G$3","v":2212},{"$f":"$G$3","v":2212},{"$f":"$G$3","v":2212},{"$f":"$G$3","v":2212},{"$f":"$G$3","v":2212}]
[12,2903,14,2906,13,2911,14,2915,null,null,0,1111,null,null,"total reinforcement",{"$f":"U20","v":0},{"$f":"Z20","v":0},{"$f":"AE20","v":0},{"$f":"AJ20","v":0},{"$f":"AO20","v":0},{"$f":"AT20","v":0}]
[12,3015,14,3019,13,3024,14,3028,null,null,0,1111,null,null,"% target"]
[12,3126,14,3130,13,3135,14,3139,null,null,0,1111,null,null,"CCRF"]
[12,3239,14,3244,13,3248,14,3257,null,null,0,1111,null,null,"% CCRf"]
[12,3355,14,3359,13,3364,14,3368,null,null,0,1111,null,null,"average response rate",{"$f":"H41/P28","v":113.02857142857142},{"$f":"(H76-H41)/Q28","v":112.14285714285714},{"$f":"(H112-H76)/R28","v":111.80555555555556},{"$f":"(H147-H112)/S28","v":113.94285714285714},{"$f":"(H182-H147)/T28","v":116.45714285714286},{"$f":"(H217-H182)/U28","v":114.42857142857143}]
[12,3465,14,3469,13,3473,14,3477,null,null,0,1111]
[12,3574,14,3578,13,3586,14,3591,null,null,0,1111]
[12,3706,14,3711,13,3718,14,3726,null,null,0,1111]
[12,3827,14,3830,13,3835,14,3839,null,null,0,1111]
[12,3943,14,3947,13,3952,14,3956,null,null,0,1111]
[12,4051,14,4055,13,4063,14,4067,null,null,0,1111]
[12,4164,14,4168,13,4172,14,4176,null,null,0,1111]
[12,4272,14,4275,13,4279,14,4283,null,null,0,1111]
[12,4383,14,4388,13,4391,14,4395,null,null,0,1111]
[12,4488,14,4493,13,4497,14,4501,null,null,0,1111]
[12,4597,14,4601,13,4605,14,4608,null,null,0,1111]
[12,4704,14,4711,13,4716,14,4723,null,null,0,1111]
[12,4818,14,4823,13,4827,14,4832,null,null,0,1111]
[12,4926,14,4930,13,4934,14,4938,null,null,0,1111]
[12,5036,14,5040,13,5045,14,5048,null,null,0,1111]
[12,5156,14,5160,13,5164,14,5172,null,null,0,1111]
[12,5269,14,5275,13,5283,14,5289,null,null,0,1111]
[12,5384,14,5388,13,5393,14,5397,null,null,0,1111]
[12,5493,14,5496,13,5500,14,5504,null,null,0,1111]
[12,5602,14,5610,13,5614,14,5619,null,null,0,1111]
[12,5715,14,5719,13,5723,14,5728,null,null,0,1111]
[12,5827,14,5838,13,5842,14,5847,null,null,0,1111]
[12,5940,14,5945,13,5967,14,5972,null,null,0,1111]
[12,6067,14,6071,13,6075,14,6080,null,null,0,1111]
[12,6175,14,6180,13,6184,14,6188,null,null,0,1111]
[12,6283,14,6290,13,6293,14,6297,null,null,0,1111]
[12,6392,14,6396,13,6422,14,6426,null,null,0,1111]
[12,6522,14,6526,13,6530,14,6538,null,null,0,1111]
[12,6633,14,6637,13,6640,14,6649,null,null,0,1111]
[12,6749,14,6754,13,6764,14,6767,null,null,0,1111]
[12,6863,14,6867,13,6871,14,6875,null,null,0,1111]
[12,6971,14,6975,13,6980,14,6984,null,null,0,1111]
[12,7081,14,7086,13,7090,14,7094,null,null,0,1111]
[12,7190,14,7194,13,7197,14,7201,null,null,0,1111]
[12,7297,14,7301,13,7304,14,7309,null,null,0,1111]
[12,7410,14,7413,13,7418,14,7424,null,null,0,1111]
[12,7522,14,7530,13,7534,14,7539,null,null,0,1111]
[12,7645,14,7648,13,7652,14,7662,null,null,0,1111]
[12,7760,14,7764,13,7768,14,7775,null,null,0,1111]
[12,7870,14,7874,13,7877,14,7881,null,null,0,1111]
[12,7984,14,7988,13,7992,14,7998,null,null,0,1111]
[12,8109,14,8113,13,8117,14,8120,null,null,0,1111]
[12,8215,14,8220,13,8224,14,8229,null,null,0,1111]
[12,8325,14,8329,13,8333,14,8341,null,null,0,1111]
[12,8438,14,8441,13,8445,14,8449,null,null,0,1111]
[12,8545,14,8549,13,8553,14,8562,null,null,0,1111]
[12,8656,14,8663,13,8669,14,8673,null,null,0,1111]
[12,8772,14,8776,13,8780,14,8789,null,null,0,1111]
[12,8884,14,8888,13,8893,14,8897,null,null,0,1111]
[12,8996,14,8999,13,9005,14,9011,null,null,0,1111]
[12,9112,14,9116,13,9121,14,9126,null,null,0,1111]
[12,9223,14,9227,13,9231,14,9235,null,null,0,1111]
[12,9335,14,9339,13,9343,14,9347,null,null,0,1111]
[12,9443,14,9446,13,9450,14,9454,null,null,0,1111]
[12,9549,14,9553,13,9557,14,9561,null,null,0,1111]
[12,9656,14,9660,13,9664,14,9669,null,null,0,1111]
[12,9765,14,9769,13,9772,14,9777,null,null,0,1111]
[12,9872,14,9875,13,9880,14,9885,null,null,0,1111]
[12,9985,14,9989,13,9996,14,10007,null,null,0,1111]
[12,10106,14,10110,13,10114,14,10118,null,null,0,1111]
[12,10213,14,10217,13,10221,14,10227,null,null,0,1111]
[12,10325,14,10330,13,10335,14,10351,null,null,0,1111]
[12,10450,14,10456,13,10461,14,10465,null,null,0,1111]
[12,10563,14,10568,13,10574,14,10580,null,null,0,1111]
[12,10675,14,10679,13,10683,14,10687,null,null,0,1111]
[12,10783,14,10787,13,10790,14,10794,null,null,0,1111]
[12,10892,14,10895,13,10899,14,10902,null,null,0,1111]
[12,10996,14,11001,13,11007,14,11011,null,null,0,1111]
[12,11110,14,11115,13,11119,14,11122,null,null,0,1111]
[12,11222,14,11226,13,11231,14,11236,null,null,0,1111]
[12,11332,14,11336,13,11347,14,11351,null,null,0,1111]
[12,11447,14,11452,13,11457,14,11462,null,null,0,1111]
[12,11565,14,11569,13,11573,14,11577,null,null,0,1111]
[12,11679,14,11683,13,11687,14,11691,null,null,0,1111]
[12,11786,14,11790,13,11794,14,11798,null,null,0,1111]
[12,11891,14,11898,13,11902,14,11906,null,null,0,1111]
[12,12002,14,12006,13,12011,14,12015,null,null,0,1111]
[12,12110,14,12114,13,12119,14,12122,null,null,0,1111]
[12,12219,14,12223,13,12227,14,12231,null,null,0,1111]
[12,12328,14,12331,13,12336,14,12340,null,null,0,1111]
[12,12436,14,12439,13,12444,14,12448,null,null,0,1111]
[12,12573,14,12579,13,12583,14,12590,null,null,0,1111]
[12,12691,14,12696,13,12699,14,12706,null,null,0,1111]
[12,12805,14,12809,13,12813,14,12817,null,null,0,1111]
[12,12918,14,12923,13,12926,14,12930,null,null,0,1111]
[12,13031,14,13037,13,13041,14,13045,null,null,0,1111]
[12,13141,14,13146,13,13149,14,13154,null,null,0,1111]
[12,13267,14,13272,13,13282,14,13286,null,null,0,1111]
[12,13404,14,13408,13,13412,14,13419,null,null,0,1111]
[12,13521,14,13525,13,13530,14,13534,null,null,0,1111]
[12,13631,14,13635,13,13638,14,13642,null,null,0,1111]
[12,13740,14,13743,13,13748,14,13752,null,null,0,1111]
[12,13850,14,13854,13,13859,14,13864,null,null,0,1111]
[12,13964,14,13968,13,13972,14,13976,null,null,0,1111]
[12,14072,14,14080,13,14086,14,14089,null,null,0,1111]
[12,14194,14,14198,13,14203,14,14207,null,null,0,1111]
[12,14307,14,14311,13,14315,14,14318,null,null,0,1111]
[12,14413,14,14417,13,14421,14,14425,null,null,0,1111]
[12,14521,14,14524,13,14529,14,14532,null,null,0,1111]
[12,14635,14,14642,13,14647,14,14654,null,null,0,1111]
[12,14749,14,14754,13,14759,14,14763,null,null,0,1111]
[12,14862,14,14867,13,14872,14,14880,null,null,0,1111]
[12,14977,14,14982,13,14986,14,14989,null,null,0,1111]
[12,15085,14,15089,13,15093,14,15101,null,null,0,1111]
[12,15196,14,15201,13,15207,14,15212,null,null,0,1111]
[12,15314,14,15319,13,15323,14,15330,null,null,0,1111]
[12,15432,14,15437,13,15440,14,15446,null,null,0,1111]
[12,15552,14,15556,13,15560,14,15567,null,null,0,1111]
[12,15663,14,15666,13,15671,14,15675,null,null,0,1111]
[12,15771,14,15774,13,15778,14,15781,null,null,0,1111]
[12,15880,14,15886,13,15889,14,15894,null,null,0,1111]
[12,15991,14,15995,13,16000,14,16004,null,null,0,1111]
[12,16102,14,16107,13,16112,14,16116,null,null,0,1111]
[12,16217,14,16221,13,16226,14,16230,null,null,0,1111]
[12,16323,14,16327,13,16333,14,16338,null,null,0,1111]
[12,16434,14,16438,13,16442,14,16446,null,null,0,1111]
[12,16549,14,16553,13,16559,14,16563,null,null,0,1111]
[12,16660,14,16665,13,16670,14,16674,null,null,0,1111]
[12,16795,14,16800,13,16803,14,16810,null,null,0,1111]
[12,16907,14,16912,13,16916,14,16920,null,null,0,1111]
[12,17016,14,17020,13,17023,14,17027,null,null,0,1111]
[12,17122,14,17126,13,17130,14,17135,null,null,0,1111]
[12,17230,14,17236,13,17239,14,17243,null,null,0,1111]
[12,17343,14,17348,13,17351,14,17356,null,null,0,1111]
[12,17455,14,17460,13,17464,14,17469,null,null,0,1111]
[12,17569,14,17574,13,17579,14,17583,null,null,0,1111]
[12,17695,14,17698,13,17709,14,17717,null,null,0,1111]
[12,17819,14,17823,13,17827,14,17831,null,null,0,1111]
[12,17939,14,17943,13,17951,14,17962,null,null,0,1111]
[12,18108,14,18112,13,18116,14,18121,null,null,0,1111]
[12,18216,14,18221,13,18225,14,18229,null,null,0,1111]
[12,18328,14,18333,13,18337,14,18342,null,null,0,1111]
[12,18462,14,18467,13,18475,14,18480,null,null,0,1111]
[12,18609,14,18613,13,18619,14,18623,null,null,0,1111]
[12,18719,14,18723,13,18727,14,18730,null,null,0,1111]
[12,18840,14,18844,13,18848,14,18851,null,null,0,1111]
[12,18952,14,18956,13,18959,14,18964,null,null,0,1111]
[12,19064,14,19069,13,19073,14,19084,null,null,0,1111]
[12,19183,14,19187,13,19193,14,19198,null,null,0,1111]
[12,19289,14,19293,13,19297,14,19300,null,null,0,1111]
[12,19398,14,19402,13,19407,14,19412,null,null,0,1111]
[12,19510,14,19518,13,19521,14,19530,null,null,0,1111]
[12,19626,14,19634,13,19639,14,19646,null,null,0,1111]
[12,19742,14,19746,13,19749,14,19753,null,null,0,1111]
[12,19849,14,19853,13,19857,14,19861,null,null,0,1111]
[12,19957,14,19961,13,19967,14,19970,null,null,0,1111]
[12,20065,14,20069,13,20073,14,20082,null,null,0,1111]
[12,20184,14,20188,13,20193,14,20196,null,null,0,1111]
[12,20291,14,20295,13,20298,14,20302,null,null,0,1111]
[12,20397,14,20401,13,20405,14,20409,null,null,0,1111]
[12,20503,14,20507,13,20512,14,20516,null,null,0,1111]
[12,20612,14,20616,13,20620,14,20624,null,null,0,1111]
[12,20722,14,20726,13,20731,14,20737,null,null,0,1111]
[12,20831,14,20836,13,20840,14,20847,null,null,0,1111]
[12,20944,14,20948,13,20952,14,20957,null,null,0,1111]
[12,21054,14,21058,13,21062,14,21066,null,null,0,1111]
[12,21167,14,21170,13,21174,14,21178,null,null,0,1111]
[12,21276,14,21284,13,21288,14,21297,null,null,0,1111]
[12,21392,14,21395,13,21400,14,21404,null,null,0,1111]
[12,21501,14,21507,13,21514,14,21526,null,null,0,1111]
[12,21622,14,21626,13,21630,14,21634,null,null,0,1111]
[12,21732,14,21758,13,21763,14,21769,null,null,0,1111]
[12,21874,14,21885,13,21889,14,21893,null,null,0,1111]
[12,21993,14,21997,13,22002,14,22006,null,null,0,1111]
[12,22100,14,22110,13,22134,14,22159,null,null,0,1111]
[12,22257,14,22260,13,22264,14,22272,null,null,0,1111]
[12,22366,14,22370,13,22374,14,22378,null,null,0,1111]
[12,22476,14,22481,13,22485,14,22497,null,null,0,1111]
[12,22591,14,22595,13,22599,14,22603,null,null,0,1111]
[12,22700,14,22713,13,22722,14,22732,null,null,0,1111]
[12,22828,14,22832,13,22837,14,22841,null,null,0,1111]
[12,22936,14,22940,13,22943,14,22948,null,null,0,1111]
[12,23054,14,23059,13,23063,14,23073,null,null,0,1111]
[12,23168,14,23172,13,23177,14,23187,null,null,0,1111]
[12,23293,14,23301,13,23309,14,23316,null,null,0,1111]
[12,23416,14,23421,13,23426,14,23430,null,null,0,1111]
[12,23526,14,23531,13,23535,14,23539,null,null,0,1111]
[12,23638,14,23641,13,23646,14,23650,null,null,0,1111]
[12,23747,14,23751,13,23754,14,23759,null,null,0,1111]
[12,23855,14,23859,13,23863,14,23868,null,null,0,1111]
[12,23963,14,23967,13,23971,14,23975,null,null,null,1111]

{"sheet":"!M910A00.104","index":27,"n_rows":213,"n_cols":48,"rows_kept":213,"cut":false,"hidden":false,"merged":[[4,39,4,42],[5,39,5,40],[4,44,4,47],[5,44,5,45],[4,24,4,27],[5,24,5,25],[4,29,4,32],[5,29,5,30],[4,34,4,37],[5,34,5,35],[1,1,1,2],[5,13,5,14],[26,13,26,14],[27,13,27,14],[4,19,4,22],[5,19,5,20]]}
["Report for:!M910A00.104"]
["Date:","<date>"]
["Hen:","<hen>",null,null,null,"Correct Sequence",{"$f":"Start!J2","v":2212},null,null,null,null,null,null,null,null,"Total Sequences in Data",{"$f":"4994-COUNTBLANK(L7:L5000)","v":207},null,null,null,null,"Total Sequences in Block Data",{"$f":"COUNTA(L7:L41)","v":35},null,null,null,"Total Sequences in Block Data",{"$f":"COUNTA(L42:L75)","v":34},null,null,null,"Total Sequences in Block Data",{"$f":"COUNTA(L76:L110)","v":35},null,null,null,"Total Sequences in Block Data",{"$f":"COUNTA(L111:L144)","v":34},null,null,null,"Total Sequences in Block Data",{"$f":"COUNTA(L145:L179)","v":35},null,null,null,"Total Sequences in Block Data",{"$f":"COUNTA(L180:L213)","v":34}]
[null,null,null,null,null,null,null,null,null,null,null,null,null,null,null,"Total Sequences in Summary",{"$f":"SUM(O7:O22)","v":207},null,null,null,null,"Total Sequences in Block Summary",{"$f":"SUM(U7:U22)","v":35},null,null,null,"Total Sequences in Block Summary",{"$f":"SUM(Z7:Z22)","v":34},null,null,null,"Total Sequences in Block Summary",{"$f":"SUM(AE7:AE22)","v":35},null,null,null,"Total Sequences in Block Summary",{"$f":"SUM(AJ7:AJ22)","v":34},null,null,null,"Total Sequences in Block Summary",{"$f":"SUM(AO7:AO22)","v":35},null,null,null,"Total Sequences in Block Summary",{"$f":"SUM(AT7:AT22)","v":34}]
[null,null,null,null,null,null,null,null,null,null,null,null,null,null,null,null,null,null,null,"Block 1",null,null,null,null,"Block 2",null,null,null,null,"Block 3",null,null,null,null,"Block 4",null,null,null,null,"Block 5",null,null,null,null,"Block 6"]
["Sequence\nComponent\n1","Time\n1","Sequence\nComponent\n2","Time\n2","Sequence\nComponent\n3","Time\n3","Sequence\nComponent\n4","Time\n4","Sequence\nComponent\n5","Time\n5","Correct?\n0=No 1=Yes","Sequence",null,"Frequency",null,"Relative Frequency","Variability",null,null,"Frequency",null,"Relative Frequency","Variability",null,"Frequency",null,"Relative Frequency","Variability",null,"Frequency",null,"Relative Frequency","Variability",null,"Frequency",null,"Relative Frequency","Variability",null,"Frequency",null,"Relative Frequency","Variability",null,"Frequency",null,"Relative Frequency","Variability"]
[12,1,14,11,13,24,14,34,null,null,0,1111,null,1111,{"$f":"COUNTIF($L$7:$L$500,N7)","v":205},{"$f":"O7/$Q$4","v":0.99033816425120769},{"$f":"IF(P7=0,0,(P7*((LOG(P7))/LOG(2))))","v":-1.3871526032585737E-2},null,null,{"$f":"N7","v":1111},{"$f":"COUNTIF(L7:L41,T7)","v":35},{"$f":"U7/(W4-U20)","v":1},{"$f":"IF(V7=0,0,(V7*((LOG(V7))/LOG(2))))","v":0},null,{"$f":"N7","v":1111},{"$f":"COUNTIF(L42:L75,Y7)","v":34},{"$f":"Z7/(AB4-Z20)","v":1},{"$f":"IF(AA7=0,0,(AA7*((LOG(AA7))/LOG(2))))","v":0},null,{"$f":"N7","v":1111},{"$f":"COUNTIF(L76:L110,AD7)","v":34},{"$f":"AE7/(AG4-AE20)","v":0.97142857142857142},{"$f":"IF(AF7=0,0,(AF7*((LOG(AF7))/LOG(2))))","v":-4.0625313531923425E-2},null,{"$f":"N7","v":1111},{"$f":"COUNTIF(L111:L144,AI7)","v":33},{"$f":"AJ7/(AL4-AJ20)","v":0.97058823529411764},{"$f":"IF(AK7=0,0,(AK7*((LOG(AK7))/LOG(2))))","v":-4.1801994777418743E-2},null,{"$f":"N7","v":1111},{"$f":"COUNTIF(L145:L179,AN7)","v":35},{"$f":"AO7/(AQ4-AO20)","v":1},{"$f":"IF(AP7=0,0,(AP7*((LOG(AP7))/LOG(2))))","v":0},null,{"$f":"N7","v":1111},{"$f":"COUNTIF(L180:L213,AS7)","v":34},{"$f":"AT7/(AV4-AT20)","v":1},{"$f":"IF(AU7=0,0,(AU7*((LOG(AU7))/LOG(2))))","v":0}]
[12,138,14,151,13,156,14,160,null,null,0,1111,null,1112,{"$f":"COUNTIF($L$7:$L$500,N8)","v":1},{"$f":"O8/$Q$4","v":4.830917874396135E-3},{"$f":"IF(P8=0,0,(P8*((LOG(P8))/LOG(2))))","v":-3.7166603659417027E-2},null,null,{"$f":"N8","v":1112},{"$f":"COUNTIF(L7:L41,T8)","v":0},{"$f":"U8/(W4-U20)","v":0},{"$f":"IF(V8=0,0,(V8*((LOG(V8))/LOG(2))))","v":0},null,{"$f":"N8","v":1112},{"$f":"COUNTIF(L42:L75,Y8)","v":0},{"$f":"Z8/(AB4-Z20)","v":0},{"$f":"IF(AA8=0,0,(AA8*((LOG(AA8))/LOG(2))))","v":0},null,{"$f":"N8","v":1112},{"$f":"COUNTIF(L76:L110,AD8)","v":1},{"$f":"AE8/(AG4-AE20)","v":2.8571428571428571E-2},{"$f":"IF(AF8=0,0,(AF8*((LOG(AF8))/LOG(2))))","v":-0.14655094334128474},null,{"$f":"N8","v":1112},{"$f":"COUNTIF(L111:L144,AI8)","v":0},{"$f":"AJ8/(AL4-AJ20)","v":0},{"$f":"IF(AK8=0,0,(AK8*((LOG(AK8))/LOG(2))))","v":0},null,{"$f":"N8","v":1112},{"$f":"COUNTIF(L145:L179,AN8)","v":0},{"$f":"AO8/(AQ4-AO20)","v":0},{"$f":"IF(AP8=0,0,(AP8*((LOG(AP8))/LOG(2))))","v":0},null,{"$f":"N8","v":1112},{"$f":"COUNTIF(L180:L213,AS8)","v":0},{"$f":"AT8/(AV4-AT20)","v":0},{"$f":"IF(AU8=0,0,(AU8*((LOG(AU8))/LOG(2))))","v":0}]
[12,255,14,264,13,277,14,281,null,null,0,1111,null,1121,{"$f":"COUNTIF($L$7:$L$500,N9)","v":0},{"$f":"O9/$Q$4","v":0},{"$f":"IF(P9=0,0,(P9*((LOG(P9))/LOG(2))))","v":0},null,null,{"$f":"N9","v":1121},{"$f":"COUNTIF(L7:L41,T9)","v":0},{"$f":"U9/(W4-U20)","v":0},{"$f":"IF(V9=0,0,(V9*((LOG(V9))/LOG(2))))","v":0},null,{"$f":"N9","v":1121},{"$f":"COUNTIF(L42:L75,Y9)","v":0},{"$f":"Z9/(AB4-Z20)","v":0},{"$f":"IF(AA9=0,0,(AA9*((LOG(AA9))/LOG(2))))","v":0},null,{"$f":"N9","v":1121},{"$f":"COUNTIF(L76:L110,AD9)","v":0},{"$f":"AE9/(AG4-AE20)","v":0},{"$f":"IF(AF9=0,0,(AF9*((LOG(AF9))/LOG(2))))","v":0},null,{"$f":"N9","v":1121},{"$f":"COUNTIF(L111:L144,AI9)","v":0},{"$f":"AJ9/(AL4-AJ20)","v":0},{"$f":"IF(AK9=0,0,(AK9*((LOG(AK9))/LOG(2))))","v":0},null,{"$f":"N9","v":1121},{"$f":"COUNTIF(L145:L179,AN9)","v":0},{"$f":"AO9/(AQ4-AO20)","v":0},{"$f":"IF(AP9=0,0,(AP9*((LOG(AP9))/LOG(2))))","v":0},null,{"$f":"N9","v":1121},{"$f":"COUNTIF(L180:L213,AS9)","v":0},{"$f":"AT9/(AV4-AT20)","v":0},{"$f":"IF(AU9=0,0,(AU9*((LOG(AU9))/LOG(2))))","v":0}]
[12,381,14,386,13,389,14,394,null,null,0,1111,null,1122,{"$f":"COUNTIF($L$7:$L$500,N10)","v":0},{"$f":"O10/$Q$4","v":0},{"$f":"IF(P10=0,0,(P10*((LOG(P10))/LOG(2))))","v":0},null,null,{"$f":"N10","v":1122},{"$f":"COUNTIF(L7:L41,T10)","v":0},{"$f":"U10/(W4-U20)","v":0},{"$f":"IF(V10=0,0,(V10*((LOG(V10))/LOG(2))))","v":0},null,{"$f":"N10","v":1122},{"$f":"COUNTIF(L42:L75,Y10)","v":0},{"$f":"Z10/(AB4-Z20)","v":0},{"$f":"IF(AA10=0,0,(AA10*((LOG(AA10))/LOG(2))))","v":0},null,{"$f":"N10","v":1122},{"$f":"COUNTIF(L76:L110,AD10)","v":0},{"$f":"AE10/(AG4-AE20)","v":0},{"$f":"IF(AF10=0,0,(AF10*((LOG(AF10))/LOG(2))))","v":0},null,{"$f":"N10","v":1122},{"$f":"COUNTIF(L111:L144,AI10)","v":0},{"$f":"AJ10/(AL4-AJ20)","v":0},{"$f":"IF(AK10=0,0,(AK10*((LOG(AK10))/LOG(2))))","v":0},null,{"$f":"N10","v":1122},{"$f":"COUNTIF(L145:L179,AN10)","v":0},{"$f":"AO10/(AQ4-AO20)","v":0},{"$f":"IF(AP10=0,0,(AP10*((LOG(AP10))/LOG(2))))","v":0},null,{"$f":"N10","v":1122},{"$f":"COUNTIF(L180:L213,AS10)","v":0},{"$f":"AT10/(AV4-AT20)","v":0},{"$f":"IF(AU10=0,0,(AU10*((LOG(AU10))/LOG(2))))","v":0}]
[12,524,14,533,13,538,14,542,null,null,0,1111,null,1211,{"$f":"COUNTIF($L$7:$L$500,N11)","v":1},{"$f":"O11/$Q$4","v":4.830917874396135E-3},{"$f":"IF(P11=0,0,(P11*((LOG(P11))/LOG(2))))","v":-3.7166603659417027E-2},null,null,{"$f":"N11","v":1211},{"$f":"COUNTIF(L7:L41,T11)","v":0},{"$f":"U11/(W4-U20)","v":0},{"$f":"IF(V11=0,0,(V11*((LOG(V11))/LOG(2))))","v":0},null,{"$f":"N11","v":1211},{"$f":"COUNTIF(L42:L75,Y11)","v":0},{"$f":"Z11/(AB4-Z20)","v":0},{"$f":"IF(AA11=0,0,(AA11*((LOG(AA11))/LOG(2))))","v":0},null,{"$f":"N11","v":1211},{"$f":"COUNTIF(L76:L110,AD11)","v":0},{"$f":"AE11/(AG4-AE20)","v":0},{"$f":"IF(AF11=0,0,(AF11*((LOG(AF11))/LOG(2))))","v":0},null,{"$f":"N11","v":1211},{"$f":"COUNTIF(L111:L144,AI11)","v":1},{"$f":"AJ11/(AL4-AJ20)","v":2.9411764705882353E-2},{"$f":"IF(AK11=0,0,(AK11*((LOG(AK11))/LOG(2))))","v":-0.14963126003677468},null,{"$f":"N11","v":1211},{"$f":"COUNTIF(L145:L179,AN11)","v":0},{"$f":"AO11/(AQ4-AO20)","v":0},{"$f":"IF(AP11=0,0,(AP11*((LOG(AP11))/LOG(2))))","v":0},null,{"$f":"N11","v":1211},{"$f":"COUNTIF(L180:L213,AS11)","v":0},{"$f":"AT11/(AV4-AT20)","v":0},{"$f":"IF(AU11=0,0,(AU11*((LOG(AU11))/LOG(2))))","v":0}]
[12,641,14,652,13,656,14,661,null,null,0,1111,null,1212,{"$f":"COUNTIF($L$7:$L$500,N12)","v":0},{"$f":"O12/$Q$4","v":0},{"$f":"IF(P12=0,0,(P12*((LOG(P12))/LOG(2))))","v":0},null,null,{"$f":"N12","v":1212},{"$f":"COUNTIF(L7:L41,T12)","v":0},{"$f":"U12/(W4-U20)","v":0},{"$f":"IF(V12=0,0,(V12*((LOG(V12))/LOG(2))))","v":0},null,{"$f":"N12","v":1212},{"$f":"COUNTIF(L42:L75,Y12)","v":0},{"$f":"Z12/(AB4-Z20)","v":0},{"$f":"IF(AA12=0,0,(AA12*((LOG(AA12))/LOG(2))))","v":0},null,{"$f":"N12","v":1212},{"$f":"COUNTIF(L76:L110,AD12)","v":0},{"$f":"AE12/(AG4-AE20)","v":0},{"$f":"IF(AF12=0,0,(AF12*((LOG(AF12))/LOG(2))))","v":0},null,{"$f":"N12","v":1212},{"$f":"COUNTIF(L111:L144,AI12)","v":0},{"$f":"AJ12/(AL4-AJ20)","v":0},{"$f":"IF(AK12=0,0,(AK12*((LOG(AK12))/LOG(2))))","v":0},null,{"$f":"N12","v":1212},{"$f":"COUNTIF(L145:L179,AN12)","v":0},{"$f":"AO12/(AQ4-AO20)","v":0},{"$f":"IF(AP12=0,0,(AP12*((LOG(AP12))/LOG(2))))","v":0},null,{"$f":"N12","v":1212},{"$f":"COUNTIF(L180:L213,AS12)","v":0},{"$f":"AT12/(AV4-AT20)","v":0},{"$f":"IF(AU12=0,0,(AU12*((LOG(AU12))/LOG(2))))","v":0}]
[12,760,14,764,13,768,14,773,null,null,0,1111,null,1221,{"$f":"COUNTIF($L$7:$L$500,N13)","v":0},{"$f":"O13/$Q$4","v":0},{"$f":"IF(P13=0,0,(P13*((LOG(P13))/LOG(2))))","v":0},null,null,{"$f":"N13","v":1221},{"$f":"COUNTIF(L7:L41,T13)","v":0},{"$f":"U13/(W4-U20)","v":0},{"$f":"IF(V13=0,0,(V13*((LOG(V13))/LOG(2))))","v":0},null,{"$f":"N13","v":1221},{"$f":"COUNTIF(L42:L75,Y13)","v":0},{"$f":"Z13/(AB4-Z20)","v":0},{"$f":"IF(AA13=0,0,(AA13*((LOG(AA13))/LOG(2))))","v":0},null,{"$f":"N13","v":1221},{"$f":"COUNTIF(L76:L110,AD13)","v":0},{"$f":"AE13/(AG4-AE20)","v":0},{"$f":"IF(AF13=0,0,(AF13*((LOG(AF13))/LOG(2))))","v":0},null,{"$f":"N13","v":1221},{"$f":"COUNTIF(L111:L144,AI13)","v":0},{"$f":"AJ13/(AL4-AJ20)","v":0},{"$f":"IF(AK13=0,0,(AK13*((LOG(AK13))/LOG(2))))","v":0},null,{"$f":"N13","v":1221},{"$f":"COUNTIF(L145:L179,AN13)","v":0},{"$f":"AO13/(AQ4-AO20)","v":0},{"$f":"IF(AP13=0,0,(AP13*((LOG(AP13))/LOG(2))))","v":0},null,{"$f":"N13","v":1221},{"$f":"COUNTIF(L180:L213,AS13)","v":0},{"$f":"AT13/(AV4-AT20)","v":0},{"$f":"IF(AU13=0,0,(AU13*((LOG(AU13))/LOG(2))))","v":0}]
[12,873,14,876,13,880,14,885,null,null,0,1111,null,1222,{"$f":"COUNTIF($L$7:$L$500,N14)","v":0},{"$f":"O14/$Q$4","v":0},{"$f":"IF(P14=0,0,(P14*((LOG(P14))/LOG(2))))","v":0},null,null,{"$f":"N14","v":1222},{"$f":"COUNTIF(L7:L41,T14)","v":0},{"$f":"U14/(W4-U20)","v":0},{"$f":"IF(V14=0,0,(V14*((LOG(V14))/LOG(2))))","v":0},null,{"$f":"N14","v":1222},{"$f":"COUNTIF(L42:L75,Y14)","v":0},{"$f":"Z14/(AB4-Z20)","v":0},{"$f":"IF(AA14=0,0,(AA14*((LOG(AA14))/LOG(2))))","v":0},null,{"$f":"N14","v":1222},{"$f":"COUNTIF(L76:L110,AD14)","v":0},{"$f":"AE14/(AG4-AE20)","v":0},{"$f":"IF(AF14=0,0,(AF14*((LOG(AF14))/LOG(2))))","v":0},null,{"$f":"N14","v":1222},{"$f":"COUNTIF(L111:L144,AI14)","v":0},{"$f":"AJ14/(AL4-AJ20)","v":0},{"$f":"IF(AK14=0,0,(AK14*((LOG(AK14))/LOG(2))))","v":0},null,{"$f":"N14","v":1222},{"$f":"COUNTIF(L145:L179,AN14)","v":0},{"$f":"AO14/(AQ4-AO20)","v":0},{"$f":"IF(AP14=0,0,(AP14*((LOG(AP14))/LOG(2))))","v":0},null,{"$f":"N14","v":1222},{"$f":"COUNTIF(L180:L213,AS14)","v":0},{"$f":"AT14/(AV4-AT20)","v":0},{"$f":"IF(AU14=0,0,(AU14*((LOG(AU14))/LOG(2))))","v":0}]
[12,979,14,983,13,986,14,990,null,null,0,1111,null,2111,{"$f":"COUNTIF($L$7:$L$500,N15)","v":0},{"$f":"O15/$Q$4","v":0},{"$f":"IF(P15=0,0,(P15*((LOG(P15))/LOG(2))))","v":0},null,null,{"$f":"N15","v":2111},{"$f":"COUNTIF(L7:L41,T15)","v":0},{"$f":"U15/(W4-U20)","v":0},{"$f":"IF(V15=0,0,(V15*((LOG(V15))/LOG(2))))","v":0},null,{"$f":"N15","v":2111},{"$f":"COUNTIF(L42:L75,Y15)","v":0},{"$f":"Z15/(AB4-Z20)","v":0},{"$f":"IF(AA15=0,0,(AA15*((LOG(AA15))/LOG(2))))","v":0},null,{"$f":"N15","v":2111},{"$f":"COUNTIF(L76:L110,AD15)","v":0},{"$f":"AE15/(AG4-AE20)","v":0},{"$f":"IF(AF15=0,0,(AF15*((LOG(AF15))/LOG(2))))","v":0},null,{"$f":"N15","v":2111},{"$f":"COUNTIF(L111:L144,AI15)","v":0},{"$f":"AJ15/(AL4-AJ20)","v":0},{"$f":"IF(AK15=0,0,(AK15*((LOG(AK15))/LOG(2))))","v":0},null,{"$f":"N15","v":2111},{"$f":"COUNTIF(L145:L179,AN15)","v":0},{"$f":"AO15/(AQ4-AO20)","v":0},{"$f":"IF(AP15=0,0,(AP15*((LOG(AP15))/LOG(2))))","v":0},null,{"$f":"N15","v":2111},{"$f":"COUNTIF(L180:L213,AS15)","v":0},{"$f":"AT15/(AV4-AT20)","v":0},{"$f":"IF(AU15=0,0,(AU15*((LOG(AU15))/LOG(2))))","v":0}]
[12,1091,14,1095,13,1099,14,1103,null,null,0,1111,null,2112,{"$f":"COUNTIF($L$7:$L$500,N16)","v":0},{"$f":"O16/$Q$4","v":0},{"$f":"IF(P16=0,0,(P16*((LOG(P16))/LOG(2))))","v":0},null,null,{"$f":"N16","v":2112},{"$f":"COUNTIF(L7:L41,T16)","v":0},{"$f":"U16/(W4-U20)","v":0},{"$f":"IF(V16=0,0,(V16*((LOG(V16))/LOG(2))))","v":0},null,{"$f":"N16","v":2112},{"$f":"COUNTIF(L42:L75,Y16)","v":0},{"$f":"Z16/(AB4-Z20)","v":0},{"$f":"IF(AA16=0,0,(AA16*((LOG(AA16))/LOG(2))))","v":0},null,{"$f":"N16","v":2112},{"$f":"COUNTIF(L76:L110,AD16)","v":0},{"$f":"AE16/(AG4-AE20)","v":0},{"$f":"IF(AF16=0,0,(AF16*((LOG(AF16))/LOG(2))))","v":0},null,{"$f":"N16","v":2112},{"$f":"COUNTIF(L111:L144,AI16)","v":0},{"$f":"AJ16/(AL4-AJ20)","v":0},{"$f":"IF(AK16=0,0,(AK16*((LOG(AK16))/LOG(2))))","v":0},null,{"$f":"N16","v":2112},{"$f":"COUNTIF(L145:L179,AN16)","v":0},{"$f":"AO16/(AQ4-AO20)","v":0},{"$f":"IF(AP16=0,0,(AP16*((LOG(AP16))/LOG(2))))","v":0},null,{"$f":"N16","v":2112},{"$f":"COUNTIF(L180:L213,AS16)","v":0},{"$f":"AT16/(AV4-AT20)","v":0},{"$f":"IF(AU16=0,0,(AU16*((LOG(AU16))/LOG(2))))","v":0}]
[12,1207,14,1211,13,1219,14,1223,null,null,0,1111,null,2121,{"$f":"COUNTIF($L$7:$L$500,N17)","v":0},{"$f":"O17/$Q$4","v":0},{"$f":"IF(P17=0,0,(P17*((LOG(P17))/LOG(2))))","v":0},null,null,{"$f":"N17","v":2121},{"$f":"COUNTIF(L7:L41,T17)","v":0},{"$f":"U17/(W4-U20)","v":0},{"$f":"IF(V17=0,0,(V17*((LOG(V17))/LOG(2))))","v":0},null,{"$f":"N17","v":2121},{"$f":"COUNTIF(L42:L75,Y17)","v":0},{"$f":"Z17/(AB4-Z20)","v":0},{"$f":"IF(AA17=0,0,(AA17*((LOG(AA17))/LOG(2))))","v":0},null,{"$f":"N17","v":2121},{"$f":"COUNTIF(L76:L110,AD17)","v":0},{"$f":"AE17/(AG4-AE20)","v":0},{"$f":"IF(AF17=0,0,(AF17*((LOG(AF17))/LOG(2))))","v":0},null,{"$f":"N17","v":2121},{"$f":"COUNTIF(L111:L144,AI17)","v":0},{"$f":"AJ17/(AL4-AJ20)","v":0},{"$f":"IF(AK17=0,0,(AK17*((LOG(AK17))/LOG(2))))","v":0},null,{"$f":"N17","v":2121},{"$f":"COUNTIF(L145:L179,AN17)","v":0},{"$f":"AO17/(AQ4-AO20)","v":0},{"$f":"IF(AP17=0,0,(AP17*((LOG(AP17))/LOG(2))))","v":0},null,{"$f":"N17","v":2121},{"$f":"COUNTIF(L180:L213,AS17)","v":0},{"$f":"AT17/(AV4-AT20)","v":0},{"$f":"IF(AU17=0,0,(AU17*((LOG(AU17))/LOG(2))))","v":0}]
[12,1324,14,1328,13,1331,14,1336,null,null,0,1111,null,2122,{"$f":"COUNTIF($L$7:$L$500,N18)","v":0},{"$f":"O18/$Q$4","v":0},{"$f":"IF(P18=0,0,(P18*((LOG(P18))/LOG(2))))","v":0},null,null,{"$f":"N18","v":2122},{"$f":"COUNTIF(L7:L41,T18)","v":0},{"$f":"U18/(W4-U20)","v":0},{"$f":"IF(V18=0,0,(V18*((LOG(V18))/LOG(2))))","v":0},null,{"$f":"N18","v":2122},{"$f":"COUNTIF(L42:L75,Y18)","v":0},{"$f":"Z18/(AB4-Z20)","v":0},{"$f":"IF(AA18=0,0,(AA18*((LOG(AA18))/LOG(2))))","v":0},null,{"$f":"N18","v":2122},{"$f":"COUNTIF(L76:L110,AD18)","v":0},{"$f":"AE18/(AG4-AE20)","v":0},{"$f":"IF(AF18=0,0,(AF18*((LOG(AF18))/LOG(2))))","v":0},null,{"$f":"N18","v":2122},{"$f":"COUNTIF(L111:L144,AI18)","v":0},{"$f":"AJ18/(AL4-AJ20)","v":0},{"$f":"IF(AK18=0,0,(AK18*((LOG(AK18))/LOG(2))))","v":0},null,{"$f":"N18","v":2122},{"$f":"COUNTIF(L145:L179,AN18)","v":0},{"$f":"AO18/(AQ4-AO20)","v":0},{"$f":"IF(AP18=0,0,(AP18*((LOG(AP18))/LOG(2))))","v":0},null,{"$f":"N18","v":2122},{"$f":"COUNTIF(L180:L213,AS18)","v":0},{"$f":"AT18/(AV4-AT20)","v":0},{"$f":"IF(AU18=0,0,(AU18*((LOG(AU18))/LOG(2))))","v":0}]
[12,1438,14,1443,13,1448,14,1453,null,null,0,1111,null,2211,{"$f":"COUNTIF($L$7:$L$500,N19)","v":0},{"$f":"O19/$Q$4","v":0},{"$f":"IF(P19=0,0,(P19*((LOG(P19))/LOG(2))))","v":0},null,null,{"$f":"N19","v":2211},{"$f":"COUNTIF(L7:L41,T19)","v":0},{"$f":"U19/(W4-U20)","v":0},{"$f":"IF(V19=0,0,(V19*((LOG(V19))/LOG(2))))","v":0},null,{"$f":"N19","v":2211},{"$f":"COUNTIF(L42:L75,Y19)","v":0},{"$f":"Z19/(AB4-Z20)","v":0},{"$f":"IF(AA19=0,0,(AA19*((LOG(AA19))/LOG(2))))","v":0},null,{"$f":"N19","v":2211},{"$f":"COUNTIF(L76:L110,AD19)","v":0},{"$f":"AE19/(AG4-AE20)","v":0},{"$f":"IF(AF19=0,0,(AF19*((LOG(AF19))/LOG(2))))","v":0},null,{"$f":"N19","v":2211},{"$f":"COUNTIF(L111:L144,AI19)","v":0},{"$f":"AJ19/(AL4-AJ20)","v":0},{"$f":"IF(AK19=0,0,(AK19*((LOG(AK19))/LOG(2))))","v":0},null,{"$f":"N19","v":2211},{"$f":"COUNTIF(L145:L179,AN19)","v":0},{"$f":"AO19/(AQ4-AO20)","v":0},{"$f":"IF(AP19=0,0,(AP19*((LOG(AP19))/LOG(2))))","v":0},null,{"$f":"N19","v":2211},{"$f":"COUNTIF(L180:L213,AS19)","v":0},{"$f":"AT19/(AV4-AT20)","v":0},{"$f":"IF(AU19=0,0,(AU19*((LOG(AU19))/LOG(2))))","v":0}]
[12,1545,14,1549,13,1554,14,1558,null,null,0,1111,null,2212,{"$f":"COUNTIF($L$7:$L$500,N20)","v":0},{"$f":"O20/$Q$4","v":0},{"$f":"IF(P20=0,0,(P20*((LOG(P20))/LOG(2))))","v":0},null,null,{"$f":"N20","v":2212},{"$f":"COUNTIF(L7:L41,T20)","v":0},null,null,null,{"$f":"N20","v":2212},{"$f":"COUNTIF(L42:L75,Y20)","v":0},null,null,null,{"$f":"N20","v":2212},{"$f":"COUNTIF(L76:L110,AD20)","v":0},null,null,null,{"$f":"N20","v":2212},{"$f":"COUNTIF(L111:L144,AI20)","v":0},null,null,null,{"$f":"N20","v":2212},{"$f":"COUNTIF(L145:L179,AN20)","v":0},null,null,null,{"$f":"N20","v":2212},{"$f":"COUNTIF(L180:L213,AS20)","v":0}]
[12,1654,14,1659,13,1663,14,1667,null,null,0,1111,null,2221,{"$f":"COUNTIF($L$7:$L$500,N21)","v":0},{"$f":"O21/$Q$4","v":0},{"$f":"IF(P21=0,0,(P21*((LOG(P21))/LOG(2))))","v":0},null,null,{"$f":"N21","v":2221},{"$f":"COUNTIF(L7:L41,T21)","v":0},{"$f":"U21/(W4-U20)","v":0},{"$f":"IF(V21=0,0,(V21*((LOG(V21))/LOG(2))))","v":0},null,{"$f":"N21","v":2221},{"$f":"COUNTIF(L42:L75,Y21)","v":0},{"$f":"Z21/(AB4-Z20)","v":0},{"$f":"IF(AA21=0,0,(AA21*((LOG(AA21))/LOG(2))))","v":0},null,{"$f":"N21","v":2221},{"$f":"COUNTIF(L76:L110,AD21)","v":0},{"$f":"AE21/(AG4-AE20)","v":0},{"$f":"IF(AF21=0,0,(AF21*((LOG(AF21))/LOG(2))))","v":0},null,{"$f":"N21","v":2221},{"$f":"COUNTIF(L111:L144,AI21)","v":0},{"$f":"AJ21/(AL4-AJ20)","v":0},{"$f":"IF(AK21=0,0,(AK21*((LOG(AK21))/LOG(2))))","v":0},null,{"$f":"N21","v":2221},{"$f":"COUNTIF(L145:L179,AN21)","v":0},{"$f":"AO21/(AQ4-AO20)","v":0},{"$f":"IF(AP21=0,0,(AP21*((LOG(AP21))/LOG(2))))","v":0},null,{"$f":"N21","v":2221},{"$f":"COUNTIF(L180:L213,AS21)","v":0},{"$f":"AT21/(AV4-AT20)","v":0},{"$f":"IF(AU21=0,0,(AU21*((LOG(AU21))/LOG(2))))","v":0}]
[12,1766,14,1771,13,1775,14,1779,null,null,0,1111,null,2222,{"$f":"COUNTIF($L$7:$L$500,N22)","v":0},{"$f":"O22/$Q$4","v":0},{"$f":"IF(P22=0,0,(P22*((LOG(P22))/LOG(2))))","v":0},null,null,{"$f":"N22","v":2222},{"$f":"COUNTIF(L7:L41,T22)","v":0},{"$f":"U22/(W4-U20)","v":0},{"$f":"IF(V22=0,0,(V22*((LOG(V22))/LOG(2))))","v":0},null,{"$f":"N22","v":2222},{"$f":"COUNTIF(L42:L75,Y22)","v":0},{"$f":"Z22/(AB4-Z20)","v":0},{"$f":"IF(AA22=0,0,(AA22*((LOG(AA22))/LOG(2))))","v":0},null,{"$f":"N22","v":2222},{"$f":"COUNTIF(L76:L110,AD22)","v":0},{"$f":"AE22/(AG4-AE20)","v":0},{"$f":"IF(AF22=0,0,(AF22*((LOG(AF22))/LOG(2))))","v":0},null,{"$f":"N22","v":2222},{"$f":"COUNTIF(L111:L144,AI22)","v":0},{"$f":"AJ22/(AL4-AJ20)","v":0},{"$f":"IF(AK22=0,0,(AK22*((LOG(AK22))/LOG(2))))","v":0},null,{"$f":"N22","v":2222},{"$f":"COUNTIF(L145:L179,AN22)","v":0},{"$f":"AO22/(AQ4-AO20)","v":0},{"$f":"IF(AP22=0,0,(AP22*((LOG(AP22))/LOG(2))))","v":0},null,{"$f":"N22","v":2222},{"$f":"COUNTIF(L180:L213,AS22)","v":0},{"$f":"AT22/(AV4-AT20)","v":0},{"$f":"IF(AU22=0,0,(AU22*((LOG(AU22))/LOG(2))))","v":0}]
[12,1880,14,1885,13,1889,14,1893,null,null,0,1111,null,null,null,{"$f":"SUM(P7:P22)","v":1},{"$f":"-SUM(Q7:Q22)","v":8.820473335141979E-2},null,null,null,null,{"$f":"SUM(V7:V22)","v":1},{"$f":"-SUM(W7:W22)","v":0},null,null,null,{"$f":"SUM(AA7:AA22)","v":1},{"$f":"-SUM(AB7:AB22)","v":0},null,null,null,{"$f":"SUM(AF7:AF22)","v":1},{"$f":"-SUM(AG7:AG22)","v":0.18717625687320816},null,null,null,{"$f":"SUM(AK7:AK22)","v":1},{"$f":"-SUM(AL7:AL22)","v":0.19143325481419343},null,null,null,{"$f":"SUM(AP7:AP22)","v":1},{"$f":"-SUM(AQ7:AQ22)","v":0},null,null,null,{"$f":"SUM(AU7:AU22)","v":1},{"$f":"-SUM(AV7:AV22)","v":0}]
[12,2000,14,2004,13,2008,14,2013,null,null,0,1111,null,null,null,"U=",{"$f":"Q23/(LOG(Q4)/LOG(2))","v":1.1464857721691604E-2},null,null,null,null,"U1=",{"$f":"W23/(LOG(W4)/LOG(2))","v":0},null,null,null,"U2=",{"$f":"AB23/(LOG(AB4)/LOG(2))","v":0},null,null,null,"U3=",{"$f":"AG23/(LOG(AG4)/LOG(2))","v":3.6491699961740759E-2},null,null,null,"U4=",{"$f":"AL23/(LOG(AL4)/LOG(2))","v":3.7628433029919708E-2},null,null,null,"U5=",{"$f":"AQ23/(LOG(AQ4)/LOG(2))","v":0},null,null,null,"U6=",{"$f":"AV23/(LOG(AV4)/LOG(2))","v":0}]
[12,2107,14,2116,13,2125,14,2132,null,null,0,1111]
[12,2233,14,2238,13,2242,14,2247,null,null,0,1111]
[12,2353,14,2358,13,2362,14,2367,null,null,0,1111,null,"Total Target Seq"]
[12,2462,14,2469,13,2474,14,2478,null,null,0,1111,null,{"$f":"COUNTIF(L7:L213,G3)","v":0},null,35,34,35,34,35,34]
[12,2578,14,2582,13,2586,14,2590,null,null,0,1111,null,null,null,"% of reinforcement given in 6 equal intervals based on number of trials "]
[12,2701,14,2706,13,2710,14,2714,null,null,0,1111,null,null,null,"%_1","%_2","%_3","%_4","%_5","%_6"]
[12,2815,14,2819,13,2823,14,2826,null,null,0,1111,null,null,"target sequence",{"$f":"$G$3","v":2212},{"$f":"$G$3","v":2212},{"$f":"$G$3","v":2212},{"$f":"$G$3","v":2212},{"$f":"$G$3","v":2212},{"$f":"$G$3","v":2212}]
[12,2930,14,2934,13,2938,14,2942,null,null,0,1111,null,null,"total reinforcement",{"$f":"U20","v":0},{"$f":"Z20","v":0},{"$f":"AE20","v":0},{"$f":"AJ20","v":0},{"$f":"AO20","v":0},{"$f":"AT20","v":0}]
[12,3038,14,3042,13,3046,14,3050,null,null,0,1111,null,null,"% target"]
[12,3148,14,3153,13,3157,14,3162,null,null,0,1111,null,null,"CCRF"]
[12,3263,14,3268,13,3276,14,3283,null,null,0,1111,null,null,"% CCRf"]
[12,3375,14,3380,13,3384,14,3388,null,null,0,1111,null,null,"average response rate",{"$f":"H41/P28","v":113.71428571428571},{"$f":"(H75-H41)/Q28","v":113.32352941176471},{"$f":"(H110-H75)/R28","v":114.42857142857143},{"$f":"(H144-H110)/S28","v":116.14705882352941},{"$f":"(H179-H144)/T28","v":115.6},{"$f":"(H213-H179)/U28","v":120.17647058823529}]
[12,3489,14,3493,13,3498,14,3502,null,null,0,1111]
[12,3604,14,3610,13,3614,14,3618,null,null,0,1111]
[12,3716,14,3721,13,3725,14,3730,null,null,0,1111]
[12,3852,14,3858,13,3862,14,3869,null,null,0,1111]
[12,3967,14,3972,13,3975,14,3980,null,null,0,1111]
[12,4074,14,4079,13,4082,14,4088,null,null,0,1111]
[12,4185,14,4191,13,4195,14,4198,null,null,0,1111]
[12,4301,14,4306,13,4310,14,4315,null,null,0,1111]
[12,4417,14,4421,13,4425,14,4430,null,null,0,1111]
[12,4525,14,4529,13,4533,14,4537,null,null,0,1111]
[12,4635,14,4640,13,4643,14,4647,null,null,0,1111]
[12,4744,14,4748,13,4752,14,4756,null,null,0,1111]
[12,4853,14,4858,13,4862,14,4867,null,null,0,1111]
[12,4966,14,4971,13,4974,14,4979,null,null,0,1111]
[12,5074,14,5082,13,5087,14,5091,null,null,0,1111]
[12,5195,14,5200,13,5204,14,5208,null,null,0,1111]
[12,5306,14,5310,13,5315,14,5319,null,null,0,1111]
[12,5424,14,5429,13,5434,14,5440,null,null,0,1111]
[12,5541,14,5546,13,5551,14,5555,null,null,0,1111]
[12,5647,14,5651,13,5657,14,5661,null,null,0,1111]
[12,5761,14,5769,13,5774,14,5779,null,null,0,1111]
[12,5880,14,5885,13,5889,14,5894,null,null,0,1111]
[12,5995,14,5999,13,6005,14,6009,null,null,0,1111]
[12,6109,14,6114,13,6119,14,6122,null,null,0,1111]
[12,6224,14,6229,13,6233,14,6238,null,null,0,1111]
[12,6335,14,6339,13,6343,14,6348,null,null,0,1111]
[12,6446,14,6451,13,6455,14,6460,null,null,0,1111]
[12,6563,14,6568,13,6574,14,6578,null,null,0,1111]
[12,6673,14,6686,13,6693,14,6700,null,null,0,1111]
[12,6796,14,6802,13,6807,14,6811,null,null,0,1111]
[12,6917,14,6925,13,6930,14,6937,null,null,0,1111]
[12,7037,14,7042,13,7046,14,7051,null,null,0,1111]
[12,7151,14,7155,13,7159,14,7167,null,null,0,1111]
[12,7263,14,7267,13,7271,14,7275,null,null,0,1111]
[12,7370,14,7375,13,7378,14,7383,null,null,0,1111]
[12,7483,14,7488,13,7492,14,7497,null,null,0,1111]
[12,7596,14,7601,13,7607,14,7612,null,null,0,1111]
[12,7707,14,7712,13,7715,14,7720,null,null,0,1111]
[12,7819,14,7823,13,7828,14,7833,null,null,0,1111]
[12,7935,14,7941,13,7946,14,7950,null,null,0,1111]
[12,8047,14,8051,13,8055,14,8060,null,null,0,1111]
[12,8153,14,8161,13,8165,14,8171,null,null,0,1111]
[12,8270,14,8274,13,8278,14,8282,null,null,0,1111]
[12,8378,14,8382,13,8387,14,8396,null,null,0,1111]
[12,8495,14,8500,13,8505,14,8512,null,null,0,1111]
[12,8607,14,8612,13,8616,14,8620,null,null,0,1111]
[12,8718,14,8722,13,8727,14,8732,null,null,0,1111]
[12,8831,14,8835,13,8839,14,8844,null,null,0,1111]
[12,8946,14,8950,13,8955,14,8960,null,null,0,1111]
[12,9056,14,9060,13,9065,14,9069,null,null,0,1111]
[12,9167,14,9171,13,9174,14,9178,null,null,0,1111]
[12,9279,14,9284,13,9288,14,9292,null,null,0,1111]
[12,9391,14,9395,13,9400,14,9404,null,null,0,1111]
[12,9506,14,9510,13,9514,14,9520,null,null,0,1111]
[12,9622,14,9626,13,9630,14,9637,null,null,0,1111]
[12,9734,14,9739,13,9743,14,9747,null,null,0,1111]
[12,9844,14,9849,13,9853,14,9857,null,null,0,1111]
[12,9960,14,9965,13,9969,14,9975,null,null,0,1111]
[12,10075,14,10087,13,10091,14,10097,null,null,0,1111]
[12,10196,14,10200,13,10211,14,10216,null,null,0,1111]
[12,10315,14,10320,13,10325,14,10330,null,null,0,1111]
[12,10434,14,10438,13,10443,14,10447,null,null,0,1111]
[12,10543,14,10547,13,10551,14,10554,null,null,0,1111]
[12,10650,14,10654,13,10658,14,10662,null,null,0,1111]
[12,10757,14,10761,13,10765,14,10770,null,null,0,1111]
[12,10868,14,10872,13,10881,14,10886,null,null,0,1111]
[12,10981,14,10986,13,10990,14,10994,null,null,0,1111]
[12,11090,14,11093,13,11097,14,11104,null,null,0,1111]
[12,11216,14,11220,13,11224,14,11231,null,null,0,1111]
[12,11331,14,11336,13,11347,14,11362,null,null,0,1111]
[12,11457,14,11464,13,11478,23,11489,null,null,0,1112]
[12,11585,14,11603,13,11606,14,11610,null,null,0,1111]
[12,11708,14,11712,13,11717,14,11720,null,null,0,1111]
[12,11827,14,11831,13,11834,14,11838,null,null,0,1111]
[12,11934,14,11938,13,11943,14,11947,null,null,0,1111]
[12,12042,14,12046,13,12050,14,12057,null,null,0,1111]
[12,12152,14,12157,13,12161,14,12166,null,null,0,1111]
[12,12262,14,12266,13,12270,14,12274,null,null,0,1111]
[12,12374,14,12379,13,12384,14,12389,null,null,0,1111]
[12,12486,14,12490,13,12494,14,12499,null,null,0,1111]
[12,12605,14,12610,13,12614,14,12621,null,null,0,1111]
[12,12723,14,12727,13,12731,14,12735,null,null,0,1111]
[12,12834,14,12838,13,12842,14,12846,null,null,0,1111]
[12,12942,14,12947,13,12955,14,12959,null,null,0,1111]
[12,13062,14,13066,13,13071,14,13076,null,null,0,1111]
[12,13189,14,13196,13,13201,14,13205,null,null,0,1111]
[12,13303,14,13308,13,13312,14,13315,null,null,0,1111]
[12,13410,14,13414,13,13418,14,13422,null,null,0,1111]
[12,13517,14,13521,13,13526,14,13531,null,null,0,1111]
[12,13628,23,13652,13,13663,14,13670,null,null,0,1211]
[12,13777,14,13781,13,13785,14,13790,null,null,0,1111]
[12,13891,14,13895,13,13900,14,13904,null,null,0,1111]
[12,14002,14,14006,13,14010,14,14017,null,null,0,1111]
[12,14119,14,14123,13,14127,14,14132,null,null,0,1111]
[12,14233,14,14236,13,14241,14,14245,null,null,0,1111]
[12,14347,14,14351,13,14354,14,14359,null,null,0,1111]
[12,14462,14,14465,13,14482,14,14489,null,null,0,1111]
[12,14591,14,14595,13,14599,14,14603,null,null,0,1111]
[12,14711,14,14716,13,14719,14,14723,null,null,0,1111]
[12,14828,14,14832,13,14837,14,14841,null,null,0,1111]
[12,14946,14,14951,13,14955,14,14959,null,null,0,1111]
[12,15054,14,15058,13,15062,14,15065,null,null,0,1111]
[12,15165,14,15170,13,15175,14,15179,null,null,0,1111]
[12,15278,14,15283,13,15288,14,15292,null,null,0,1111]
[12,15398,14,15403,13,15407,14,15411,null,null,0,1111]
[12,15535,14,15540,13,15544,14,15549,null,null,0,1111]
[12,15656,14,15660,13,15665,14,15668,null,null,0,1111]
[12,15775,14,15778,13,15783,14,15787,null,null,0,1111]
[12,15885,14,15890,13,15894,14,15898,null,null,0,1111]
[12,15998,14,16002,13,16014,14,16018,null,null,0,1111]
[12,16111,14,16124,13,16128,14,16155,null,null,0,1111]
[12,16260,14,16263,13,16271,14,16278,null,null,0,1111]
[12,16376,14,16380,13,16383,14,16388,null,null,0,1111]
[12,16490,14,16495,13,16499,14,16503,null,null,0,1111]
[12,16604,14,16609,13,16612,14,16617,null,null,0,1111]
[12,16713,14,16717,13,16721,14,16725,null,null,0,1111]
[12,16825,14,16829,13,16834,14,16839,null,null,0,1111]
[12,16936,14,16941,13,16944,14,16949,null,null,0,1111]
[12,17047,14,17052,13,17055,14,17061,null,null,0,1111]
[12,17169,14,17173,13,17179,14,17187,null,null,0,1111]
[12,17289,14,17294,13,17297,14,17301,null,null,0,1111]
[12,17398,14,17402,13,17406,14,17411,null,null,0,1111]
[12,17507,14,17511,13,17515,14,17519,null,null,0,1111]
[12,17615,14,17618,13,17622,14,17626,null,null,0,1111]
[12,17722,14,17726,13,17730,14,17734,null,null,0,1111]
[12,17831,14,17835,13,17840,14,17853,null,null,0,1111]
[12,17957,14,17966,13,17976,14,17982,null,null,0,1111]
[12,18078,14,18082,13,18086,14,18090,null,null,0,1111]
[12,18187,14,18191,13,18196,14,18200,null,null,0,1111]
[12,18303,14,18307,13,18311,14,18316,null,null,0,1111]
[12,18416,14,18420,13,18424,14,18428,null,null,0,1111]
[12,18527,14,18531,13,18536,14,18540,null,null,0,1111]
[12,18641,14,18645,13,18649,14,18653,null,null,0,1111]
[12,18753,14,18757,13,18761,14,18766,null,null,0,1111]
[12,18877,14,18882,13,18886,14,18890,null,null,0,1111]
[12,19003,14,19008,13,19013,14,19017,null,null,0,1111]
[12,19127,14,19131,13,19135,14,19142,null,null,0,1111]
[12,19249,14,19254,13,19258,14,19263,null,null,0,1111]
[12,19362,14,19366,13,19370,14,19374,null,null,0,1111]
[12,19479,14,19483,13,19487,14,19491,null,null,0,1111]
[12,19591,14,19596,13,19600,14,19608,null,null,0,1111]
[12,19702,14,19706,13,19712,14,19717,null,null,0,1111]
[12,19820,14,19825,13,19829,14,19833,null,null,0,1111]
[12,19935,14,19939,13,19943,14,19947,null,null,0,1111]
[12,20053,14,20058,13,20098,14,20103,null,null,0,1111]
[12,20199,14,20203,13,20207,14,20210,null,null,0,1111]
[12,20302,14,20307,13,20312,14,20316,null,null,0,1111]
[12,20411,14,20415,13,20423,14,20438,null,null,0,1111]
[12,20533,14,20538,13,20542,14,20546,null,null,0,1111]
[12,20645,14,20649,13,20653,14,20657,null,null,0,1111]
[12,20754,14,20758,13,20762,14,20767,null,null,0,1111]
[12,20865,14,20870,13,20873,14,20878,null,null,0,1111]
[12,20973,14,20978,13,20993,14,20997,null,null,0,1111]
[12,21094,14,21099,13,21105,14,21109,null,null,0,1111]
[12,21216,14,21222,13,21226,14,21231,null,null,0,1111]
[12,21332,14,21336,13,21340,14,21345,null,null,0,1111]
[12,21453,14,21456,13,21464,14,21471,null,null,0,1111]
[12,21576,14,21580,13,21584,14,21589,null,null,0,1111]
[12,21684,14,21689,13,21693,14,21697,null,null,0,1111]
[12,21801,14,21805,13,21816,14,21820,null,null,0,1111]
[12,21916,14,21920,13,21924,14,21928,null,null,0,1111]
[12,22025,14,22029,13,22033,14,22037,null,null,0,1111]
[12,22135,14,22139,13,22143,14,22147,null,null,0,1111]
[12,22248,14,22253,13,22257,14,22260,null,null,0,1111]
[12,22356,14,22361,13,22366,14,22370,null,null,0,1111]
[12,22465,14,22469,13,22473,14,22477,null,null,0,1111]
[12,22580,14,22585,13,22589,14,22607,null,null,0,1111]
[12,22709,14,22713,13,22717,14,22721,null,null,0,1111]
[12,22819,14,22824,13,22827,14,22833,null,null,0,1111]
[12,22933,14,22938,13,22942,14,22949,null,null,0,1111]
[12,23046,14,23051,13,23054,14,23058,null,null,0,1111]
[12,23155,14,23159,13,23164,14,23175,null,null,0,1111]
[12,23280,14,23284,13,23288,14,23293,null,null,0,1111]
[12,23506,14,23515,13,23524,14,23532,null,null,0,1111]
[12,23627,14,23645,13,23649,14,23655,null,null,0,1111]
[12,23763,14,23767,13,23771,14,23782,null,null,0,1111]
[12,23902,14,23906,13,23910,14,23919,null,null,null,1111]

{"sheet":"!M911A00.104","index":28,"n_rows":209,"n_cols":48,"rows_kept":209,"cut":false,"hidden":false,"merged":[[4,39,4,42],[5,39,5,40],[4,44,4,47],[5,44,5,45],[4,24,4,27],[5,24,5,25],[4,29,4,32],[5,29,5,30],[4,34,4,37],[5,34,5,35],[1,1,1,2],[5,13,5,14],[26,13,26,14],[27,13,27,14],[4,19,4,22],[5,19,5,20]]}
["Report for:!M911A00.104"]
["Date:","<date>"]
["Hen:","<hen>",null,null,null,"Correct Sequence",{"$f":"Start!J2","v":2212},null,null,null,null,null,null,null,null,"Total Sequences in Data",{"$f":"4994-COUNTBLANK(L7:L5000)","v":203},null,null,null,null,"Total Sequences in Block Data",{"$f":"COUNTA(L7:L40)","v":34},null,null,null,"Total Sequences in Block Data",{"$f":"COUNTA(L41:L74)","v":34},null,null,null,"Total Sequences in Block Data",{"$f":"COUNTA(L75:L107)","v":33},null,null,null,"Total Sequences in Block Data",{"$f":"COUNTA(L108:L141)","v":34},null,null,null,"Total Sequences in Block Data",{"$f":"COUNTA(L142:L175)","v":34},null,null,null,"Total Sequences in Block Data",{"$f":"COUNTA(L176:L209)","v":34}]
[null,null,null,null,null,null,null,null,null,null,null,null,null,null,null,"Total Sequences in Summary",{"$f":"SUM(O7:O22)","v":203},null,null,null,null,"Total Sequences in Block Summary",{"$f":"SUM(U7:U22)","v":34},null,null,null,"Total Sequences in Block Summary",{"$f":"SUM(Z7:Z22)","v":34},null,null,null,"Total Sequences in Block Summary",{"$f":"SUM(AE7:AE22)","v":33},null,null,null,"Total Sequences in Block Summary",{"$f":"SUM(AJ7:AJ22)","v":34},null,null,null,"Total Sequences in Block Summary",{"$f":"SUM(AO7:AO22)","v":34},null,null,null,"Total Sequences in Block Summary",{"$f":"SUM(AT7:AT22)","v":34}]
[null,null,null,null,null,null,null,null,null,null,null,null,null,null,null,null,null,null,null,"Block 1",null,null,null,null,"Block 2",null,null,null,null,"Block 3",null,null,null,null,"Block 4",null,null,null,null,"Block 5",null,null,null,null,"Block 6"]
["Sequence\nComponent\n1","Time\n1","Sequence\nComponent\n2","Time\n2","Sequence\nComponent\n3","Time\n3","Sequence\nComponent\n4","Time\n4","Sequence\nComponent\n5","Time\n5","Correct?\n0=No 1=Yes","Sequence",null,"Frequency",null,"Relative Frequency","Variability",null,null,"Frequency",null,"Relative Frequency","Variability",null,"Frequency",null,"Relative Frequency","Variability",null,"Frequency",null,"Relative Frequency","Variability",null,"Frequency",null,"Relative Frequency","Variability",null,"Frequency",null,"Relative Frequency","Variability",null,"Frequency",null,"Relative Frequency","Variability"]
[12,19,14,42,13,46,14,50,null,null,0,1111,null,1111,{"$f":"COUNTIF($L$7:$L$500,N7)","v":200},{"$f":"O7/$Q$4","v":0.98522167487684731},{"$f":"IF(P7=0,0,(P7*((LOG(P7))/LOG(2))))","v":-2.1162293015223158E-2},null,null,{"$f":"N7","v":1111},{"$f":"COUNTIF(L7:L40,T7)","v":34},{"$f":"U7/(W4-U20)","v":1},{"$f":"IF(V7=0,0,(V7*((LOG(V7))/LOG(2))))","v":0},null,{"$f":"N7","v":1111},{"$f":"COUNTIF(L41:L74,Y7)","v":34},{"$f":"Z7/(AB4-Z20)","v":1},{"$f":"IF(AA7=0,0,(AA7*((LOG(AA7))/LOG(2))))","v":0},null,{"$f":"N7","v":1111},{"$f":"COUNTIF(L75:L107,AD7)","v":33},{"$f":"AE7/(AG4-AE20)","v":1},{"$f":"IF(AF7=0,0,(AF7*((LOG(AF7))/LOG(2))))","v":0},null,{"$f":"N7","v":1111},{"$f":"COUNTIF(L108:L141,AI7)","v":34},{"$f":"AJ7/(AL4-AJ20)","v":1},{"$f":"IF(AK7=0,0,(AK7*((LOG(AK7))/LOG(2))))","v":0},null,{"$f":"N7","v":1111},{"$f":"COUNTIF(L142:L175,AN7)","v":34},{"$f":"AO7/(AQ4-AO20)","v":1},{"$f":"IF(AP7=0,0,(AP7*((LOG(AP7))/LOG(2))))","v":0},null,{"$f":"N7","v":1111},{"$f":"COUNTIF(L176:L209,AS7)","v":31},{"$f":"AT7/(AV4-AT20)","v":0.91176470588235292},{"$f":"IF(AU7=0,0,(AU7*((LOG(AU7))/LOG(2))))","v":-0.12150771931668795}]
[12,156,14,163,13,167,14,172,null,null,0,1111,null,1112,{"$f":"COUNTIF($L$7:$L$500,N8)","v":2},{"$f":"O8/$Q$4","v":9.852216748768473E-3},{"$f":"IF(P8=0,0,(P8*((LOG(P8))/LOG(2))))","v":-6.5668334159459871E-2},null,null,{"$f":"N8","v":1112},{"$f":"COUNTIF(L7:L40,T8)","v":0},{"$f":"U8/(W4-U20)","v":0},{"$f":"IF(V8=0,0,(V8*((LOG(V8))/LOG(2))))","v":0},null,{"$f":"N8","v":1112},{"$f":"COUNTIF(L41:L74,Y8)","v":0},{"$f":"Z8/(AB4-Z20)","v":0},{"$f":"IF(AA8=0,0,(AA8*((LOG(AA8))/LOG(2))))","v":0},null,{"$f":"N8","v":1112},{"$f":"COUNTIF(L75:L107,AD8)","v":0},{"$f":"AE8/(AG4-AE20)","v":0},{"$f":"IF(AF8=0,0,(AF8*((LOG(AF8))/LOG(2))))","v":0},null,{"$f":"N8","v":1112},{"$f":"COUNTIF(L108:L141,AI8)","v":0},{"$f":"AJ8/(AL4-AJ20)","v":0},{"$f":"IF(AK8=0,0,(AK8*((LOG(AK8))/LOG(2))))","v":0},null,{"$f":"N8","v":1112},{"$f":"COUNTIF(L142:L175,AN8)","v":0},{"$f":"AO8/(AQ4-AO20)","v":0},{"$f":"IF(AP8=0,0,(AP8*((LOG(AP8))/LOG(2))))","v":0},null,{"$f":"N8","v":1112},{"$f":"COUNTIF(L176:L209,AS8)","v":2},{"$f":"AT8/(AV4-AT20)","v":5.8823529411764705E-2},{"$f":"IF(AU8=0,0,(AU8*((LOG(AU8))/LOG(2))))","v":-0.24043899066178465}]
[12,269,14,273,13,277,14,282,null,null,0,1111,null,1121,{"$f":"COUNTIF($L$7:$L$500,N9)","v":0},{"$f":"O9/$Q$4","v":0},{"$f":"IF(P9=0,0,(P9*((LOG(P9))/LOG(2))))","v":0},null,null,{"$f":"N9","v":1121},{"$f":"COUNTIF(L7:L40,T9)","v":0},{"$f":"U9/(W4-U20)","v":0},{"$f":"IF(V9=0,0,(V9*((LOG(V9))/LOG(2))))","v":0},null,{"$f":"N9","v":1121},{"$f":"COUNTIF(L41:L74,Y9)","v":0},{"$f":"Z9/(AB4-Z20)","v":0},{"$f":"IF(AA9=0,0,(AA9*((LOG(AA9))/LOG(2))))","v":0},null,{"$f":"N9","v":1121},{"$f":"COUNTIF(L75:L107,AD9)","v":0},{"$f":"AE9/(AG4-AE20)","v":0},{"$f":"IF(AF9=0,0,(AF9*((LOG(AF9))/LOG(2))))","v":0},null,{"$f":"N9","v":1121},{"$f":"COUNTIF(L108:L141,AI9)","v":0},{"$f":"AJ9/(AL4-AJ20)","v":0},{"$f":"IF(AK9=0,0,(AK9*((LOG(AK9))/LOG(2))))","v":0},null,{"$f":"N9","v":1121},{"$f":"COUNTIF(L142:L175,AN9)","v":0},{"$f":"AO9/(AQ4-AO20)","v":0},{"$f":"IF(AP9=0,0,(AP9*((LOG(AP9))/LOG(2))))","v":0},null,{"$f":"N9","v":1121},{"$f":"COUNTIF(L176:L209,AS9)","v":0},{"$f":"AT9/(AV4-AT20)","v":0},{"$f":"IF(AU9=0,0,(AU9*((LOG(AU9))/LOG(2))))","v":0}]
[12,404,14,409,13,412,14,419,null,null,0,1111,null,1122,{"$f":"COUNTIF($L$7:$L$500,N10)","v":0},{"$f":"O10/$Q$4","v":0},{"$f":"IF(P10=0,0,(P10*((LOG(P10))/LOG(2))))","v":0},null,null,{"$f":"N10","v":1122},{"$f":"COUNTIF(L7:L40,T10)","v":0},{"$f":"U10/(W4-U20)","v":0},{"$f":"IF(V10=0,0,(V10*((LOG(V10))/LOG(2))))","v":0},null,{"$f":"N10","v":1122},{"$f":"COUNTIF(L41:L74,Y10)","v":0},{"$f":"Z10/(AB4-Z20)","v":0},{"$f":"IF(AA10=0,0,(AA10*((LOG(AA10))/LOG(2))))","v":0},null,{"$f":"N10","v":1122},{"$f":"COUNTIF(L75:L107,AD10)","v":0},{"$f":"AE10/(AG4-AE20)","v":0},{"$f":"IF(AF10=0,0,(AF10*((LOG(AF10))/LOG(2))))","v":0},null,{"$f":"N10","v":1122},{"$f":"COUNTIF(L108:L141,AI10)","v":0},{"$f":"AJ10/(AL4-AJ20)","v":0},{"$f":"IF(AK10=0,0,(AK10*((LOG(AK10))/LOG(2))))","v":0},null,{"$f":"N10","v":1122},{"$f":"COUNTIF(L142:L175,AN10)","v":0},{"$f":"AO10/(AQ4-AO20)","v":0},{"$f":"IF(AP10=0,0,(AP10*((LOG(AP10))/LOG(2))))","v":0},null,{"$f":"N10","v":1122},{"$f":"COUNTIF(L176:L209,AS10)","v":0},{"$f":"AT10/(AV4-AT20)","v":0},{"$f":"IF(AU10=0,0,(AU10*((LOG(AU10))/LOG(2))))","v":0}]
[12,517,14,521,13,525,14,529,null,null,0,1111,null,1211,{"$f":"COUNTIF($L$7:$L$500,N11)","v":1},{"$f":"O11/$Q$4","v":4.9261083743842365E-3},{"$f":"IF(P11=0,0,(P11*((LOG(P11))/LOG(2))))","v":-3.7760275454114173E-2},null,null,{"$f":"N11","v":1211},{"$f":"COUNTIF(L7:L40,T11)","v":0},{"$f":"U11/(W4-U20)","v":0},{"$f":"IF(V11=0,0,(V11*((LOG(V11))/LOG(2))))","v":0},null,{"$f":"N11","v":1211},{"$f":"COUNTIF(L41:L74,Y11)","v":0},{"$f":"Z11/(AB4-Z20)","v":0},{"$f":"IF(AA11=0,0,(AA11*((LOG(AA11))/LOG(2))))","v":0},null,{"$f":"N11","v":1211},{"$f":"COUNTIF(L75:L107,AD11)","v":0},{"$f":"AE11/(AG4-AE20)","v":0},{"$f":"IF(AF11=0,0,(AF11*((LOG(AF11))/LOG(2))))","v":0},null,{"$f":"N11","v":1211},{"$f":"COUNTIF(L108:L141,AI11)","v":0},{"$f":"AJ11/(AL4-AJ20)","v":0},{"$f":"IF(AK11=0,0,(AK11*((LOG(AK11))/LOG(2))))","v":0},null,{"$f":"N11","v":1211},{"$f":"COUNTIF(L142:L175,AN11)","v":0},{"$f":"AO11/(AQ4-AO20)","v":0},{"$f":"IF(AP11=0,0,(AP11*((LOG(AP11))/LOG(2))))","v":0},null,{"$f":"N11","v":1211},{"$f":"COUNTIF(L176:L209,AS11)","v":1},{"$f":"AT11/(AV4-AT20)","v":2.9411764705882353E-2},{"$f":"IF(AU11=0,0,(AU11*((LOG(AU11))/LOG(2))))","v":-0.14963126003677468}]
[12,626,14,631,13,635,14,639,null,null,0,1111,null,1212,{"$f":"COUNTIF($L$7:$L$500,N12)","v":0},{"$f":"O12/$Q$4","v":0},{"$f":"IF(P12=0,0,(P12*((LOG(P12))/LOG(2))))","v":0},null,null,{"$f":"N12","v":1212},{"$f":"COUNTIF(L7:L40,T12)","v":0},{"$f":"U12/(W4-U20)","v":0},{"$f":"IF(V12=0,0,(V12*((LOG(V12))/LOG(2))))","v":0},null,{"$f":"N12","v":1212},{"$f":"COUNTIF(L41:L74,Y12)","v":0},{"$f":"Z12/(AB4-Z20)","v":0},{"$f":"IF(AA12=0,0,(AA12*((LOG(AA12))/LOG(2))))","v":0},null,{"$f":"N12","v":1212},{"$f":"COUNTIF(L75:L107,AD12)","v":0},{"$f":"AE12/(AG4-AE20)","v":0},{"$f":"IF(AF12=0,0,(AF12*((LOG(AF12))/LOG(2))))","v":0},null,{"$f":"N12","v":1212},{"$f":"COUNTIF(L108:L141,AI12)","v":0},{"$f":"AJ12/(AL4-AJ20)","v":0},{"$f":"IF(AK12=0,0,(AK12*((LOG(AK12))/LOG(2))))","v":0},null,{"$f":"N12","v":1212},{"$f":"COUNTIF(L142:L175,AN12)","v":0},{"$f":"AO12/(AQ4-AO20)","v":0},{"$f":"IF(AP12=0,0,(AP12*((LOG(AP12))/LOG(2))))","v":0},null,{"$f":"N12","v":1212},{"$f":"COUNTIF(L176:L209,AS12)","v":0},{"$f":"AT12/(AV4-AT20)","v":0},{"$f":"IF(AU12=0,0,(AU12*((LOG(AU12))/LOG(2))))","v":0}]
[12,756,14,759,13,767,14,771,null,null,0,1111,null,1221,{"$f":"COUNTIF($L$7:$L$500,N13)","v":0},{"$f":"O13/$Q$4","v":0},{"$f":"IF(P13=0,0,(P13*((LOG(P13))/LOG(2))))","v":0},null,null,{"$f":"N13","v":1221},{"$f":"COUNTIF(L7:L40,T13)","v":0},{"$f":"U13/(W4-U20)","v":0},{"$f":"IF(V13=0,0,(V13*((LOG(V13))/LOG(2))))","v":0},null,{"$f":"N13","v":1221},{"$f":"COUNTIF(L41:L74,Y13)","v":0},{"$f":"Z13/(AB4-Z20)","v":0},{"$f":"IF(AA13=0,0,(AA13*((LOG(AA13))/LOG(2))))","v":0},null,{"$f":"N13","v":1221},{"$f":"COUNTIF(L75:L107,AD13)","v":0},{"$f":"AE13/(AG4-AE20)","v":0},{"$f":"IF(AF13=0,0,(AF13*((LOG(AF13))/LOG(2))))","v":0},null,{"$f":"N13","v":1221},{"$f":"COUNTIF(L108:L141,AI13)","v":0},{"$f":"AJ13/(AL4-AJ20)","v":0},{"$f":"IF(AK13=0,0,(AK13*((LOG(AK13))/LOG(2))))","v":0},null,{"$f":"N13","v":1221},{"$f":"COUNTIF(L142:L175,AN13)","v":0},{"$f":"AO13/(AQ4-AO20)","v":0},{"$f":"IF(AP13=0,0,(AP13*((LOG(AP13))/LOG(2))))","v":0},null,{"$f":"N13","v":1221},{"$f":"COUNTIF(L176:L209,AS13)","v":0},{"$f":"AT13/(AV4-AT20)","v":0},{"$f":"IF(AU13=0,0,(AU13*((LOG(AU13))/LOG(2))))","v":0}]
[12,868,14,872,13,876,14,881,null,null,0,1111,null,1222,{"$f":"COUNTIF($L$7:$L$500,N14)","v":0},{"$f":"O14/$Q$4","v":0},{"$f":"IF(P14=0,0,(P14*((LOG(P14))/LOG(2))))","v":0},null,null,{"$f":"N14","v":1222},{"$f":"COUNTIF(L7:L40,T14)","v":0},{"$f":"U14/(W4-U20)","v":0},{"$f":"IF(V14=0,0,(V14*((LOG(V14))/LOG(2))))","v":0},null,{"$f":"N14","v":1222},{"$f":"COUNTIF(L41:L74,Y14)","v":0},{"$f":"Z14/(AB4-Z20)","v":0},{"$f":"IF(AA14=0,0,(AA14*((LOG(AA14))/LOG(2))))","v":0},null,{"$f":"N14","v":1222},{"$f":"COUNTIF(L75:L107,AD14)","v":0},{"$f":"AE14/(AG4-AE20)","v":0},{"$f":"IF(AF14=0,0,(AF14*((LOG(AF14))/LOG(2))))","v":0},null,{"$f":"N14","v":1222},{"$f":"COUNTIF(L108:L141,AI14)","v":0},{"$f":"AJ14/(AL4-AJ20)","v":0},{"$f":"IF(AK14=0,0,(AK14*((LOG(AK14))/LOG(2))))","v":0},null,{"$f":"N14","v":1222},{"$f":"COUNTIF(L142:L175,AN14)","v":0},{"$f":"AO14/(AQ4-AO20)","v":0},{"$f":"IF(AP14=0,0,(AP14*((LOG(AP14))/LOG(2))))","v":0},null,{"$f":"N14","v":1222},{"$f":"COUNTIF(L176:L209,AS14)","v":0},{"$f":"AT14/(AV4-AT20)","v":0},{"$f":"IF(AU14=0,0,(AU14*((LOG(AU14))/LOG(2))))","v":0}]
[12,980,14,984,13,987,14,991,null,null,0,1111,null,2111,{"$f":"COUNTIF($L$7:$L$500,N15)","v":0},{"$f":"O15/$Q$4","v":0},{"$f":"IF(P15=0,0,(P15*((LOG(P15))/LOG(2))))","v":0},null,null,{"$f":"N15","v":2111},{"$f":"COUNTIF(L7:L40,T15)","v":0},{"$f":"U15/(W4-U20)","v":0},{"$f":"IF(V15=0,0,(V15*((LOG(V15))/LOG(2))))","v":0},null,{"$f":"N15","v":2111},{"$f":"COUNTIF(L41:L74,Y15)","v":0},{"$f":"Z15/(AB4-Z20)","v":0},{"$f":"IF(AA15=0,0,(AA15*((LOG(AA15))/LOG(2))))","v":0},null,{"$f":"N15","v":2111},{"$f":"COUNTIF(L75:L107,AD15)","v":0},{"$f":"AE15/(AG4-AE20)","v":0},{"$f":"IF(AF15=0,0,(AF15*((LOG(AF15))/LOG(2))))","v":0},null,{"$f":"N15","v":2111},{"$f":"COUNTIF(L108:L141,AI15)","v":0},{"$f":"AJ15/(AL4-AJ20)","v":0},{"$f":"IF(AK15=0,0,(AK15*((LOG(AK15))/LOG(2))))","v":0},null,{"$f":"N15","v":2111},{"$f":"COUNTIF(L142:L175,AN15)","v":0},{"$f":"AO15/(AQ4-AO20)","v":0},{"$f":"IF(AP15=0,0,(AP15*((LOG(AP15))/LOG(2))))","v":0},null,{"$f":"N15","v":2111},{"$f":"COUNTIF(L176:L209,AS15)","v":0},{"$f":"AT15/(AV4-AT20)","v":0},{"$f":"IF(AU15=0,0,(AU15*((LOG(AU15))/LOG(2))))","v":0}]
[12,1091,14,1096,13,1100,14,1104,null,null,0,1111,null,2112,{"$f":"COUNTIF($L$7:$L$500,N16)","v":0},{"$f":"O16/$Q$4","v":0},{"$f":"IF(P16=0,0,(P16*((LOG(P16))/LOG(2))))","v":0},null,null,{"$f":"N16","v":2112},{"$f":"COUNTIF(L7:L40,T16)","v":0},{"$f":"U16/(W4-U20)","v":0},{"$f":"IF(V16=0,0,(V16*((LOG(V16))/LOG(2))))","v":0},null,{"$f":"N16","v":2112},{"$f":"COUNTIF(L41:L74,Y16)","v":0},{"$f":"Z16/(AB4-Z20)","v":0},{"$f":"IF(AA16=0,0,(AA16*((LOG(AA16))/LOG(2))))","v":0},null,{"$f":"N16","v":2112},{"$f":"COUNTIF(L75:L107,AD16)","v":0},{"$f":"AE16/(AG4-AE20)","v":0},{"$f":"IF(AF16=0,0,(AF16*((LOG(AF16))/LOG(2))))","v":0},null,{"$f":"N16","v":2112},{"$f":"COUNTIF(L108:L141,AI16)","v":0},{"$f":"AJ16/(AL4-AJ20)","v":0},{"$f":"IF(AK16=0,0,(AK16*((LOG(AK16))/LOG(2))))","v":0},null,{"$f":"N16","v":2112},{"$f":"COUNTIF(L142:L175,AN16)","v":0},{"$f":"AO16/(AQ4-AO20)","v":0},{"$f":"IF(AP16=0,0,(AP16*((LOG(AP16))/LOG(2))))","v":0},null,{"$f":"N16","v":2112},{"$f":"COUNTIF(L176:L209,AS16)","v":0},{"$f":"AT16/(AV4-AT20)","v":0},{"$f":"IF(AU16=0,0,(AU16*((LOG(AU16))/LOG(2))))","v":0}]
[12,1210,14,1214,13,1218,14,1222,null,null,0,1111,null,2121,{"$f":"COUNTIF($L$7:$L$500,N17)","v":0},{"$f":"O17/$Q$4","v":0},{"$f":"IF(P17=0,0,(P17*((LOG(P17))/LOG(2))))","v":0},null,null,{"$f":"N17","v":2121},{"$f":"COUNTIF(L7:L40,T17)","v":0},{"$f":"U17/(W4-U20)","v":0},{"$f":"IF(V17=0,0,(V17*((LOG(V17))/LOG(2))))","v":0},null,{"$f":"N17","v":2121},{"$f":"COUNTIF(L41:L74,Y17)","v":0},{"$f":"Z17/(AB4-Z20)","v":0},{"$f":"IF(AA17=0,0,(AA17*((LOG(AA17))/LOG(2))))","v":0},null,{"$f":"N17","v":2121},{"$f":"COUNTIF(L75:L107,AD17)","v":0},{"$f":"AE17/(AG4-AE20)","v":0},{"$f":"IF(AF17=0,0,(AF17*((LOG(AF17))/LOG(2))))","v":0},null,{"$f":"N17","v":2121},{"$f":"COUNTIF(L108:L141,AI17)","v":0},{"$f":"AJ17/(AL4-AJ20)","v":0},{"$f":"IF(AK17=0,0,(AK17*((LOG(AK17))/LOG(2))))","v":0},null,{"$f":"N17","v":2121},{"$f":"COUNTIF(L142:L175,AN17)","v":0},{"$f":"AO17/(AQ4-AO20)","v":0},{"$f":"IF(AP17=0,0,(AP17*((LOG(AP17))/LOG(2))))","v":0},null,{"$f":"N17","v":2121},{"$f":"COUNTIF(L176:L209,AS17)","v":0},{"$f":"AT17/(AV4-AT20)","v":0},{"$f":"IF(AU17=0,0,(AU17*((LOG(AU17))/LOG(2))))","v":0}]
[12,1317,14,1321,13,1326,14,1330,null,null,0,1111,null,2122,{"$f":"COUNTIF($L$7:$L$500,N18)","v":0},{"$f":"O18/$Q$4","v":0},{"$f":"IF(P18=0,0,(P18*((LOG(P18))/LOG(2))))","v":0},null,null,{"$f":"N18","v":2122},{"$f":"COUNTIF(L7:L40,T18)","v":0},{"$f":"U18/(W4-U20)","v":0},{"$f":"IF(V18=0,0,(V18*((LOG(V18))/LOG(2))))","v":0},null,{"$f":"N18","v":2122},{"$f":"COUNTIF(L41:L74,Y18)","v":0},{"$f":"Z18/(AB4-Z20)","v":0},{"$f":"IF(AA18=0,0,(AA18*((LOG(AA18))/LOG(2))))","v":0},null,{"$f":"N18","v":2122},{"$f":"COUNTIF(L75:L107,AD18)","v":0},{"$f":"AE18/(AG4-AE20)","v":0},{"$f":"IF(AF18=0,0,(AF18*((LOG(AF18))/LOG(2))))","v":0},null,{"$f":"N18","v":2122},{"$f":"COUNTIF(L108:L141,AI18)","v":0},{"$f":"AJ18/(AL4-AJ20)","v":0},{"$f":"IF(AK18=0,0,(AK18*((LOG(AK18))/LOG(2))))","v":0},null,{"$f":"N18","v":2122},{"$f":"COUNTIF(L142:L175,AN18)","v":0},{"$f":"AO18/(AQ4-AO20)","v":0},{"$f":"IF(AP18=0,0,(AP18*((LOG(AP18))/LOG(2))))","v":0},null,{"$f":"N18","v":2122},{"$f":"COUNTIF(L176:L209,AS18)","v":0},{"$f":"AT18/(AV4-AT20)","v":0},{"$f":"IF(AU18=0,0,(AU18*((LOG(AU18))/LOG(2))))","v":0}]
[12,1432,14,1436,13,1441,14,1445,null,null,0,1111,null,2211,{"$f":"COUNTIF($L$7:$L$500,N19)","v":0},{"$f":"O19/$Q$4","v":0},{"$f":"IF(P19=0,0,(P19*((LOG(P19))/LOG(2))))","v":0},null,null,{"$f":"N19","v":2211},{"$f":"COUNTIF(L7:L40,T19)","v":0},{"$f":"U19/(W4-U20)","v":0},{"$f":"IF(V19=0,0,(V19*((LOG(V19))/LOG(2))))","v":0},null,{"$f":"N19","v":2211},{"$f":"COUNTIF(L41:L74,Y19)","v":0},{"$f":"Z19/(AB4-Z20)","v":0},{"$f":"IF(AA19=0,0,(AA19*((LOG(AA19))/LOG(2))))","v":0},null,{"$f":"N19","v":2211},{"$f":"COUNTIF(L75:L107,AD19)","v":0},{"$f":"AE19/(AG4-AE20)","v":0},{"$f":"IF(AF19=0,0,(AF19*((LOG(AF19))/LOG(2))))","v":0},null,{"$f":"N19","v":2211},{"$f":"COUNTIF(L108:L141,AI19)","v":0},{"$f":"AJ19/(AL4-AJ20)","v":0},{"$f":"IF(AK19=0,0,(AK19*((LOG(AK19))/LOG(2))))","v":0},null,{"$f":"N19","v":2211},{"$f":"COUNTIF(L142:L175,AN19)","v":0},{"$f":"AO19/(AQ4-AO20)","v":0},{"$f":"IF(AP19=0,0,(AP19*((LOG(AP19))/LOG(2))))","v":0},null,{"$f":"N19","v":2211},{"$f":"COUNTIF(L176:L209,AS19)","v":0},{"$f":"AT19/(AV4-AT20)","v":0},{"$f":"IF(AU19=0,0,(AU19*((LOG(AU19))/LOG(2))))","v":0}]
[12,1549,14,1558,13,1562,14,1568,null,null,0,1111,null,2212,{"$f":"COUNTIF($L$7:$L$500,N20)","v":0},{"$f":"O20/$Q$4","v":0},{"$f":"IF(P20=0,0,(P20*((LOG(P20))/LOG(2))))","v":0},null,null,{"$f":"N20","v":2212},{"$f":"COUNTIF(L7:L40,T20)","v":0},null,null,null,{"$f":"N20","v":2212},{"$f":"COUNTIF(L41:L74,Y20)","v":0},null,null,null,{"$f":"N20","v":2212},{"$f":"COUNTIF(L75:L107,AD20)","v":0},null,null,null,{"$f":"N20","v":2212},{"$f":"COUNTIF(L108:L141,AI20)","v":0},null,null,null,{"$f":"N20","v":2212},{"$f":"COUNTIF(L142:L175,AN20)","v":0},null,null,null,{"$f":"N20","v":2212},{"$f":"COUNTIF(L176:L209,AS20)","v":0}]
[12,1663,14,1668,13,1682,14,1685,null,null,0,1111,null,2221,{"$f":"COUNTIF($L$7:$L$500,N21)","v":0},{"$f":"O21/$Q$4","v":0},{"$f":"IF(P21=0,0,(P21*((LOG(P21))/LOG(2))))","v":0},null,null,{"$f":"N21","v":2221},{"$f":"COUNTIF(L7:L40,T21)","v":0},{"$f":"U21/(W4-U20)","v":0},{"$f":"IF(V21=0,0,(V21*((LOG(V21))/LOG(2))))","v":0},null,{"$f":"N21","v":2221},{"$f":"COUNTIF(L41:L74,Y21)","v":0},{"$f":"Z21/(AB4-Z20)","v":0},{"$f":"IF(AA21=0,0,(AA21*((LOG(AA21))/LOG(2))))","v":0},null,{"$f":"N21","v":2221},{"$f":"COUNTIF(L75:L107,AD21)","v":0},{"$f":"AE21/(AG4-AE20)","v":0},{"$f":"IF(AF21=0,0,(AF21*((LOG(AF21))/LOG(2))))","v":0},null,{"$f":"N21","v":2221},{"$f":"COUNTIF(L108:L141,AI21)","v":0},{"$f":"AJ21/(AL4-AJ20)","v":0},{"$f":"IF(AK21=0,0,(AK21*((LOG(AK21))/LOG(2))))","v":0},null,{"$f":"N21","v":2221},{"$f":"COUNTIF(L142:L175,AN21)","v":0},{"$f":"AO21/(AQ4-AO20)","v":0},{"$f":"IF(AP21=0,0,(AP21*((LOG(AP21))/LOG(2))))","v":0},null,{"$f":"N21","v":2221},{"$f":"COUNTIF(L176:L209,AS21)","v":0},{"$f":"AT21/(AV4-AT20)","v":0},{"$f":"IF(AU21=0,0,(AU21*((LOG(AU21))/LOG(2))))","v":0}]
[12,1788,14,1792,13,1797,14,1801,null,null,0,1111,null,2222,{"$f":"COUNTIF($L$7:$L$500,N22)","v":0},{"$f":"O22/$Q$4","v":0},{"$f":"IF(P22=0,0,(P22*((LOG(P22))/LOG(2))))","v":0},null,null,{"$f":"N22","v":2222},{"$f":"COUNTIF(L7:L40,T22)","v":0},{"$f":"U22/(W4-U20)","v":0},{"$f":"IF(V22=0,0,(V22*((LOG(V22))/LOG(2))))","v":0},null,{"$f":"N22","v":2222},{"$f":"COUNTIF(L41:L74,Y22)","v":0},{"$f":"Z22/(AB4-Z20)","v":0},{"$f":"IF(AA22=0,0,(AA22*((LOG(AA22))/LOG(2))))","v":0},null,{"$f":"N22","v":2222},{"$f":"COUNTIF(L75:L107,AD22)","v":0},{"$f":"AE22/(AG4-AE20)","v":0},{"$f":"IF(AF22=0,0,(AF22*((LOG(AF22))/LOG(2))))","v":0},null,{"$f":"N22","v":2222},{"$f":"COUNTIF(L108:L141,AI22)","v":0},{"$f":"AJ22/(AL4-AJ20)","v":0},{"$f":"IF(AK22=0,0,(AK22*((LOG(AK22))/LOG(2))))","v":0},null,{"$f":"N22","v":2222},{"$f":"COUNTIF(L142:L175,AN22)","v":0},{"$f":"AO22/(AQ4-AO20)","v":0},{"$f":"IF(AP22=0,0,(AP22*((LOG(AP22))/LOG(2))))","v":0},null,{"$f":"N22","v":2222},{"$f":"COUNTIF(L176:L209,AS22)","v":0},{"$f":"AT22/(AV4-AT20)","v":0},{"$f":"IF(AU22=0,0,(AU22*((LOG(AU22))/LOG(2))))","v":0}]
[12,1906,14,1910,13,1914,14,1919,null,null,0,1111,null,null,null,{"$f":"SUM(P7:P22)","v":1},{"$f":"-SUM(Q7:Q22)","v":0.1245909026287972},null,null,null,null,{"$f":"SUM(V7:V22)","v":1},{"$f":"-SUM(W7:W22)","v":0},null,null,null,{"$f":"SUM(AA7:AA22)","v":1},{"$f":"-SUM(AB7:AB22)","v":0},null,null,null,{"$f":"SUM(AF7:AF22)","v":1},{"$f":"-SUM(AG7:AG22)","v":0},null,null,null,{"$f":"SUM(AK7:AK22)","v":1},{"$f":"-SUM(AL7:AL22)","v":0},null,null,null,{"$f":"SUM(AP7:AP22)","v":1},{"$f":"-SUM(AQ7:AQ22)","v":0},null,null,null,{"$f":"SUM(AU7:AU22)","v":1},{"$f":"-SUM(AV7:AV22)","v":0.5115779700152473}]
[12,2011,14,2015,13,2019,14,2023,null,null,0,1111,null,null,null,"U=",{"$f":"Q23/(LOG(Q4)/LOG(2))","v":1.6253808570798917E-2},null,null,null,null,"U1=",{"$f":"W23/(LOG(W4)/LOG(2))","v":0},null,null,null,"U2=",{"$f":"AB23/(LOG(AB4)/LOG(2))","v":0},null,null,null,"U3=",{"$f":"AG23/(LOG(AG4)/LOG(2))","v":0},null,null,null,"U4=",{"$f":"AL23/(LOG(AL4)/LOG(2))","v":0},null,null,null,"U5=",{"$f":"AQ23/(LOG(AQ4)/LOG(2))","v":0},null,null,null,"U6=",{"$f":"AV23/(LOG(AV4)/LOG(2))","v":0.100556600800551}]
[12,2124,14,2130,13,2134,14,2138,null,null,0,1111]
[12,2235,14,2240,13,2244,14,2249,null,null,0,1111]
[12,2351,14,2355,13,2359,14,2363,null,null,0,1111,null,"Total Target Seq"]
[12,2463,14,2468,13,2472,14,2476,null,null,0,1111,null,{"$f":"COUNTIF(L7:L209,G3)","v":0},null,34,34,33,34,34,34]
[12,2574,14,2578,13,2581,14,2585,null,null,0,1111,null,null,null,"% of reinforcement given in 6 equal intervals based on number of trials "]
[12,2690,14,2694,13,2698,14,2702,null,null,0,1111,null,null,null,"%_1","%_2","%_3","%_4","%_5","%_6"]
[12,2799,14,2804,13,2808,14,2813,null,null,0,1111,null,null,"target sequence",{"$f":"$G$3","v":2212},{"$f":"$G$3","v":2212},{"$f":"$G$3","v":2212},{"$f":"$G$3","v":2212},{"$f":"$G$3","v":2212},{"$f":"$G$3","v":2212}]
[12,2916,14,2921,13,2926,14,2930,null,null,0,1111,null,null,"total reinforcement",{"$f":"U20","v":0},{"$f":"Z20","v":0},{"$f":"AE20","v":0},{"$f":"AJ20","v":0},{"$f":"AO20","v":0},{"$f":"AT20","v":0}]
[12,3035,14,3040,13,3044,14,3049,null,null,0,1111,null,null,"% target"]
[12,3154,14,3158,13,3162,14,3166,null,null,0,1111,null,null,"CCRF"]
[12,3263,14,3268,13,3272,14,3277,null,null,0,1111,null,null,"% CCRf"]
[12,3375,14,3380,13,3385,14,3389,null,null,0,1111,null,null,"average response rate",{"$f":"H40/P28","v":114.67647058823529},{"$f":"(H74-H40)/Q28","v":120.52941176470588},{"$f":"(H107-H74)/R28","v":117.21212121212122},{"$f":"(H141-H107)/S28","v":114.76470588235294},{"$f":"(H175-H141)/T28","v":114.02941176470588},{"$f":"(H209-H175)/U28","v":128.05882352941177}]
[12,3499,14,3504,13,3508,14,3525,null,null,0,1111]
[12,3627,14,3632,13,3636,14,3645,null,null,0,1111]
[12,3751,14,3754,13,3781,14,3785,null,null,0,1111]
[12,3885,14,3890,13,3895,14,3899,null,null,0,1111]
[12,4006,14,4011,13,4015,14,4019,null,null,0,1111]
[12,4125,14,4130,13,4135,14,4141,null,null,0,1111]
[12,4242,14,4246,13,4250,14,4254,null,null,0,1111]
[12,4357,14,4362,13,4366,14,4370,null,null,0,1111]
[12,4478,14,4482,13,4490,14,4497,null,null,0,1111]
[12,4597,14,4602,13,4606,14,4610,null,null,0,1111]
[12,4707,14,4712,13,4717,14,4721,null,null,0,1111]
[12,4826,14,4830,13,4835,14,4838,null,null,0,1111]
[12,4944,14,4953,13,4963,14,4970,null,null,0,1111]
[12,5069,14,5074,13,5078,14,5082,null,null,0,1111]
[12,5183,14,5203,13,5212,14,5220,null,null,0,1111]
[12,5322,14,5326,13,5331,14,5335,null,null,0,1111]
[12,5442,14,5446,13,5462,14,5469,null,null,0,1111]
[12,5570,14,5575,13,5579,14,5584,null,null,0,1111]
[12,5681,14,5686,13,5690,14,5694,null,null,0,1111]
[12,5797,14,5802,13,5805,14,5810,null,null,0,1111]
[12,5917,14,5922,13,5927,14,5932,null,null,0,1111]
[12,6031,14,6035,13,6041,14,6045,null,null,0,1111]
[12,6147,14,6152,13,6156,14,6162,null,null,0,1111]
[12,6262,14,6267,13,6271,14,6275,null,null,0,1111]
[12,6374,14,6378,13,6382,14,6387,null,null,0,1111]
[12,6482,14,6486,13,6491,14,6495,null,null,0,1111]
[12,6603,14,6608,13,6617,14,6637,null,null,0,1111]
[12,6742,14,6751,13,6755,14,6760,null,null,0,1111]
[12,6917,14,6922,13,6929,14,6934,null,null,0,1111]
[12,7034,14,7038,13,7043,14,7048,null,null,0,1111]
[12,7161,14,7166,13,7170,14,7175,null,null,0,1111]
[12,7272,14,7279,13,7283,14,7294,null,null,0,1111]
[12,7392,14,7396,13,7400,14,7404,null,null,0,1111]
[12,7506,14,7510,13,7515,14,7519,null,null,0,1111]
[12,7621,14,7626,13,7630,14,7634,null,null,0,1111]
[12,7738,14,7743,13,7751,14,7756,null,null,0,1111]
[12,7863,14,7867,13,7878,14,7882,null,null,0,1111]
[12,7984,14,7988,13,7993,14,7997,null,null,0,1111]
[12,8096,14,8102,13,8106,14,8112,null,null,0,1111]
[12,8208,14,8213,13,8217,14,8225,null,null,0,1111]
[12,8321,14,8325,13,8329,14,8333,null,null,0,1111]
[12,8432,14,8436,13,8440,14,8449,null,null,0,1111]
[12,8551,14,8555,13,8560,14,8564,null,null,0,1111]
[12,8669,14,8675,13,8678,14,8682,null,null,0,1111]
[12,8789,14,8793,13,8798,14,8802,null,null,0,1111]
[12,8902,14,8906,13,8910,14,8920,null,null,0,1111]
[12,9028,14,9034,13,9038,14,9042,null,null,0,1111]
[12,9146,14,9149,13,9154,14,9158,null,null,0,1111]
[12,9258,14,9264,13,9268,14,9273,null,null,0,1111]
[12,9374,14,9379,13,9383,14,9387,null,null,0,1111]
[12,9494,14,9499,13,9503,14,9511,null,null,0,1111]
[12,9614,14,9619,13,9623,14,9628,null,null,0,1111]
[12,9724,14,9730,13,9733,14,9742,null,null,0,1111]
[12,9849,14,9856,13,9860,14,9865,null,null,0,1111]
[12,9957,14,9961,13,9965,14,9969,null,null,0,1111]
[12,10072,14,10078,13,10083,14,10086,null,null,0,1111]
[12,10188,14,10194,13,10198,14,10202,null,null,0,1111]
[12,10300,14,10304,13,10309,14,10313,null,null,0,1111]
[12,10410,14,10415,13,10419,14,10423,null,null,0,1111]
[12,10525,14,10530,13,10534,14,10538,null,null,0,1111]
[12,10642,14,10646,13,10650,14,10654,null,null,0,1111]
[12,10756,14,10761,13,10765,14,10773,null,null,0,1111]
[12,10871,14,10876,13,10880,14,10885,null,null,0,1111]
[12,10997,14,11014,13,11019,14,11026,null,null,0,1111]
[12,11129,14,11134,13,11138,14,11142,null,null,0,1111]
[12,11238,14,11242,13,11250,14,11255,null,null,0,1111]
[12,11355,14,11360,13,11364,14,11367,null,null,0,1111]
[12,11462,14,11469,13,11494,14,11499,null,null,0,1111]
[12,11602,14,11606,13,11621,14,11645,null,null,0,1111]
[12,11744,14,11748,13,11753,14,11758,null,null,0,1111]
[12,11854,14,11857,13,11861,14,11865,null,null,0,1111]
[12,11961,14,11965,13,11969,14,11972,null,null,0,1111]
[12,12072,14,12076,13,12080,14,12084,null,null,0,1111]
[12,12188,14,12193,13,12197,14,12201,null,null,0,1111]
[12,12299,14,12304,13,12309,14,12313,null,null,0,1111]
[12,12412,14,12416,13,12421,14,12428,null,null,0,1111]
[12,12524,14,12527,13,12532,14,12536,null,null,0,1111]
[12,12632,14,12637,13,12641,14,12645,null,null,0,1111]
[12,12742,14,12746,13,12750,14,12755,null,null,0,1111]
[12,12852,14,12857,13,12861,14,12865,null,null,0,1111]
[12,12960,14,12965,13,12969,14,12973,null,null,0,1111]
[12,13079,14,13084,13,13088,14,13092,null,null,0,1111]
[12,13191,14,13196,13,13201,14,13205,null,null,0,1111]
[12,13309,14,13313,13,13318,14,13322,null,null,0,1111]
[12,13418,14,13423,13,13428,14,13432,null,null,0,1111]
[12,13527,14,13539,13,13543,14,13547,null,null,0,1111]
[12,13640,14,13645,13,13649,14,13654,null,null,0,1111]
[12,13754,14,13762,13,13766,14,13771,null,null,0,1111]
[12,13870,14,13874,13,13882,14,13891,null,null,0,1111]
[12,13987,14,13992,13,13995,14,14004,null,null,0,1111]
[12,14100,14,14105,13,14109,14,14113,null,null,0,1111]
[12,14213,14,14217,13,14222,14,14225,null,null,0,1111]
[12,14326,14,14329,13,14335,14,14342,null,null,0,1111]
[12,14441,14,14447,13,14453,14,14461,null,null,0,1111]
[12,14556,14,14560,13,14564,14,14568,null,null,0,1111]
[12,14663,14,14667,13,14671,14,14674,null,null,0,1111]
[12,14836,14,14840,13,14850,14,14855,null,null,0,1111]
[12,14958,14,14961,13,14967,14,14975,null,null,0,1111]
[12,15078,14,15082,13,15086,14,15090,null,null,0,1111]
[12,15187,14,15191,13,15196,14,15200,null,null,0,1111]
[12,15303,14,15308,13,15312,14,15316,null,null,0,1111]
[12,15412,14,15416,13,15420,14,15424,null,null,0,1111]
[12,15519,14,15525,13,15533,14,15537,null,null,0,1111]
[12,15635,14,15640,13,15643,14,15647,null,null,0,1111]
[12,15752,14,15757,13,15760,14,15767,null,null,0,1111]
[12,15862,14,15866,13,15870,14,15873,null,null,0,1111]
[12,15972,14,15982,13,15986,14,15991,null,null,0,1111]
[12,16091,14,16096,13,16099,14,16103,null,null,0,1111]
[12,16206,14,16210,13,16215,14,16219,null,null,0,1111]
[12,16318,14,16321,13,16326,14,16330,null,null,0,1111]
[12,16430,14,16435,13,16439,14,16444,null,null,0,1111]
[12,16542,14,16547,13,16550,14,16554,null,null,0,1111]
[12,16653,14,16659,13,16665,14,16670,null,null,0,1111]
[12,16769,14,16774,13,16777,14,16781,null,null,0,1111]
[12,16893,14,16899,13,16905,14,16913,null,null,0,1111]
[12,17015,14,17020,13,17024,14,17028,null,null,0,1111]
[12,17124,14,17129,13,17132,14,17145,null,null,0,1111]
[12,17258,14,17263,13,17267,14,17275,null,null,0,1111]
[12,17379,14,17384,13,17388,14,17392,null,null,0,1111]
[12,17488,14,17493,13,17497,14,17501,null,null,0,1111]
[12,17592,14,17596,13,17601,14,17605,null,null,0,1111]
[12,17703,14,17707,13,17711,14,17715,null,null,0,1111]
[12,17813,14,17817,13,17822,14,17825,null,null,0,1111]
[12,17924,14,17928,13,17932,14,17936,null,null,0,1111]
[12,18034,14,18038,13,18042,14,18049,null,null,0,1111]
[12,18148,14,18153,13,18157,14,18166,null,null,0,1111]
[12,18271,14,18275,13,18279,14,18283,null,null,0,1111]
[12,18380,14,18385,13,18389,14,18393,null,null,0,1111]
[12,18488,14,18491,13,18495,14,18498,null,null,0,1111]
[12,18595,14,18600,13,18604,14,18608,null,null,0,1111]
[12,18708,14,18712,13,18716,14,18728,null,null,0,1111]
[12,18832,14,18847,13,18873,14,18880,null,null,0,1111]
[12,18977,14,18982,13,18986,14,18994,null,null,0,1111]
[12,19089,14,19094,13,19098,14,19103,null,null,0,1111]
[12,19203,14,19208,13,19213,14,19217,null,null,0,1111]
[12,19309,14,19314,13,19317,14,19321,null,null,0,1111]
[12,19416,14,19420,13,19424,14,19428,null,null,0,1111]
[12,19527,14,19532,13,19537,14,19542,null,null,0,1111]
[12,19633,14,19637,13,19641,14,19644,null,null,0,1111]
[12,19740,14,19744,13,19748,14,19752,null,null,0,1111]
[12,19857,14,19862,13,19866,14,19870,null,null,0,1111]
[12,19975,14,19991,13,19996,14,20010,null,null,0,1111]
[12,20114,14,20119,13,20123,14,20127,null,null,0,1111]
[12,20247,14,20256,13,20260,14,20267,null,null,0,1111]
[12,20362,14,20366,13,20373,14,20388,null,null,0,1111]
[12,20493,14,20498,13,20502,14,20507,null,null,0,1111]
[12,20660,14,20665,13,20670,14,20677,null,null,0,1111]
[12,20773,14,20781,13,20785,14,20792,null,null,0,1111]
[12,20899,14,20903,13,20907,14,20913,null,null,0,1111]
[12,21032,14,21039,13,21043,14,21051,null,null,0,1111]
[12,21148,14,21152,13,21157,14,21160,null,null,0,1111]
[12,21260,14,21265,13,21269,14,21272,null,null,0,1111]
[12,21524,14,21529,13,21537,14,21542,null,null,0,1111]
[12,21633,14,21637,13,21642,14,21646,null,null,0,1111]
[12,21739,14,21743,13,21747,14,21751,null,null,0,1111]
[12,21847,14,21851,13,21855,14,21859,null,null,0,1111]
[12,21957,14,21961,13,21964,14,21968,null,null,0,1111]
[12,22063,14,22067,13,22071,14,22076,null,null,0,1111]
[12,22201,14,22216,13,22223,14,22231,null,null,0,1111]
[12,22329,14,22333,13,22341,14,22348,null,null,0,1111]
[12,22448,14,22453,13,22456,14,22464,null,null,0,1111]
[12,22581,14,22586,13,22590,14,22595,null,null,0,1111]
[12,22687,14,22692,13,22696,14,22703,null,null,0,1111]
[12,22817,23,22830,13,22843,14,22849,null,null,0,1211]
[12,22945,14,22949,13,22953,14,22957,null,null,0,1111]
[12,23054,14,23059,13,23068,23,23079,null,null,0,1112]
[12,23282,14,23288,13,23295,14,23299,null,null,0,1111]
[12,23411,14,23415,13,23419,14,23428,null,null,0,1111]
[12,23518,14,23532,13,23537,23,23549,null,null,0,1112]
[12,23643,14,23647,13,23651,14,23655,null,null,0,1111]
[12,23751,14,23756,13,23759,14,23763,null,null,0,1111]
[12,23869,14,23874,13,23880,14,23887,null,null,0,1111]
[12,23986,14,23989,13,23994,14,23998,null,null,1,1111]

{"sheet":"!M912B30.104","index":29,"n_rows":218,"n_cols":48,"rows_kept":218,"cut":false,"hidden":false,"merged":[[4,39,4,42],[5,39,5,40],[4,44,4,47],[5,44,5,45],[4,24,4,27],[5,24,5,25],[4,29,4,32],[5,29,5,30],[4,34,4,37],[5,34,5,35],[1,1,1,2],[5,13,5,14],[26,13,26,14],[27,13,27,14],[4,19,4,22],[5,19,5,20]]}
["Report for:!M912B30.104"]
["Date:","<date>"]
["Hen:","<hen>",null,null,null,"Correct Sequence",{"$f":"Start!J2","v":2212},null,null,null,null,null,null,null,null,"Total Sequences in Data",{"$f":"4994-COUNTBLANK(L7:L5000)","v":212},null,null,null,null,"Total Sequences in Block Data",{"$f":"COUNTA(L7:L41)","v":35},null,null,null,"Total Sequences in Block Data",{"$f":"COUNTA(L42:L77)","v":36},null,null,null,"Total Sequences in Block Data",{"$f":"COUNTA(L78:L112)","v":35},null,null,null,"Total Sequences in Block Data",{"$f":"COUNTA(L113:L147)","v":35},null,null,null,"Total Sequences in Block Data",{"$f":"COUNTA(L148:L183)","v":36},null,null,null,"Total Sequences in Block Data",{"$f":"COUNTA(L184:L218)","v":35}]
[null,null,null,null,null,null,null,null,null,null,null,null,null,null,null,"Total Sequences in Summary",{"$f":"SUM(O7:O22)","v":212},null,null,null,null,"Total Sequences in Block Summary",{"$f":"SUM(U7:U22)","v":35},null,null,null,"Total Sequences in Block Summary",{"$f":"SUM(Z7:Z22)","v":36},null,null,null,"Total Sequences in Block Summary",{"$f":"SUM(AE7:AE22)","v":35},null,null,null,"Total Sequences in Block Summary",{"$f":"SUM(AJ7:AJ22)","v":35},null,null,null,"Total Sequences in Block Summary",{"$f":"SUM(AO7:AO22)","v":36},null,null,null,"Total Sequences in Block Summary",{"$f":"SUM(AT7:AT22)","v":35}]
[null,null,null,null,null,null,null,null,null,null,null,null,null,null,null,null,null,null,null,"Block 1",null,null,null,null,"Block 2",null,null,null,null,"Block 3",null,null,null,null,"Block 4",null,null,null,null,"Block 5",null,null,null,null,"Block 6"]
["Sequence\nComponent\n1","Time\n1","Sequence\nComponent\n2","Time\n2","Sequence\nComponent\n3","Time\n3","Sequence\nComponent\n4","Time\n4","Sequence\nComponent\n5","Time\n5","Correct?\n0=No 1=Yes","Sequence",null,"Frequency",null,"Relative Frequency","Variability",null,null,"Frequency",null,"Relative Frequency","Variability",null,"Frequency",null,"Relative Frequency","Variability",null,"Frequency",null,"Relative Frequency","Variability",null,"Frequency",null,"Relative Frequency","Variability",null,"Frequency",null,"Relative Frequency","Variability",null,"Frequency",null,"Relative Frequency","Variability"]
[12,65,23,73,24,83,14,98,null,null,0,1221,null,1111,{"$f":"COUNTIF($L$7:$L$500,N7)","v":210},{"$f":"O7/$Q$4","v":0.99056603773584906},{"$f":"IF(P7=0,0,(P7*((LOG(P7))/LOG(2))))","v":-1.3545928058424875E-2},null,null,{"$f":"N7","v":1111},{"$f":"COUNTIF(L7:L41,T7)","v":34},{"$f":"U7/(W4-U20)","v":0.97142857142857142},{"$f":"IF(V7=0,0,(V7*((LOG(V7))/LOG(2))))","v":-4.0625313531923425E-2},null,{"$f":"N7","v":1111},{"$f":"COUNTIF(L42:L77,Y7)","v":36},{"$f":"Z7/(AB4-Z20)","v":1},{"$f":"IF(AA7=0,0,(AA7*((LOG(AA7))/LOG(2))))","v":0},null,{"$f":"N7","v":1111},{"$f":"COUNTIF(L78:L112,AD7)","v":35},{"$f":"AE7/(AG4-AE20)","v":1},{"$f":"IF(AF7=0,0,(AF7*((LOG(AF7))/LOG(2))))","v":0},null,{"$f":"N7","v":1111},{"$f":"COUNTIF(L113:L147,AI7)","v":35},{"$f":"AJ7/(AL4-AJ20)","v":1},{"$f":"IF(AK7=0,0,(AK7*((LOG(AK7))/LOG(2))))","v":0},null,{"$f":"N7","v":1111},{"$f":"COUNTIF(L148:L183,AN7)","v":36},{"$f":"AO7/(AQ4-AO20)","v":1},{"$f":"IF(AP7=0,0,(AP7*((LOG(AP7))/LOG(2))))","v":0},null,{"$f":"N7","v":1111},{"$f":"COUNTIF(L184:L218,AS7)","v":34},{"$f":"AT7/(AV4-AT20)","v":0.97142857142857142},{"$f":"IF(AU7=0,0,(AU7*((LOG(AU7))/LOG(2))))","v":-4.0625313531923425E-2}]
[12,197,14,208,13,212,14,215,null,null,0,1111,null,1112,{"$f":"COUNTIF($L$7:$L$500,N8)","v":0},{"$f":"O8/$Q$4","v":0},{"$f":"IF(P8=0,0,(P8*((LOG(P8))/LOG(2))))","v":0},null,null,{"$f":"N8","v":1112},{"$f":"COUNTIF(L7:L41,T8)","v":0},{"$f":"U8/(W4-U20)","v":0},{"$f":"IF(V8=0,0,(V8*((LOG(V8))/LOG(2))))","v":0},null,{"$f":"N8","v":1112},{"$f":"COUNTIF(L42:L77,Y8)","v":0},{"$f":"Z8/(AB4-Z20)","v":0},{"$f":"IF(AA8=0,0,(AA8*((LOG(AA8))/LOG(2))))","v":0},null,{"$f":"N8","v":1112},{"$f":"COUNTIF(L78:L112,AD8)","v":0},{"$f":"AE8/(AG4-AE20)","v":0},{"$f":"IF(AF8=0,0,(AF8*((LOG(AF8))/LOG(2))))","v":0},null,{"$f":"N8","v":1112},{"$f":"COUNTIF(L113:L147,AI8)","v":0},{"$f":"AJ8/(AL4-AJ20)","v":0},{"$f":"IF(AK8=0,0,(AK8*((LOG(AK8))/LOG(2))))","v":0},null,{"$f":"N8","v":1112},{"$f":"COUNTIF(L148:L183,AN8)","v":0},{"$f":"AO8/(AQ4-AO20)","v":0},{"$f":"IF(AP8=0,0,(AP8*((LOG(AP8))/LOG(2))))","v":0},null,{"$f":"N8","v":1112},{"$f":"COUNTIF(L184:L218,AS8)","v":0},{"$f":"AT8/(AV4-AT20)","v":0},{"$f":"IF(AU8=0,0,(AU8*((LOG(AU8))/LOG(2))))","v":0}]
[12,312,14,316,13,320,14,323,null,null,0,1111,null,1121,{"$f":"COUNTIF($L$7:$L$500,N9)","v":0},{"$f":"O9/$Q$4","v":0},{"$f":"IF(P9=0,0,(P9*((LOG(P9))/LOG(2))))","v":0},null,null,{"$f":"N9","v":1121},{"$f":"COUNTIF(L7:L41,T9)","v":0},{"$f":"U9/(W4-U20)","v":0},{"$f":"IF(V9=0,0,(V9*((LOG(V9))/LOG(2))))","v":0},null,{"$f":"N9","v":1121},{"$f":"COUNTIF(L42:L77,Y9)","v":0},{"$f":"Z9/(AB4-Z20)","v":0},{"$f":"IF(AA9=0,0,(AA9*((LOG(AA9))/LOG(2))))","v":0},null,{"$f":"N9","v":1121},{"$f":"COUNTIF(L78:L112,AD9)","v":0},{"$f":"AE9/(AG4-AE20)","v":0},{"$f":"IF(AF9=0,0,(AF9*((LOG(AF9))/LOG(2))))","v":0},null,{"$f":"N9","v":1121},{"$f":"COUNTIF(L113:L147,AI9)","v":0},{"$f":"AJ9/(AL4-AJ20)","v":0},{"$f":"IF(AK9=0,0,(AK9*((LOG(AK9))/LOG(2))))","v":0},null,{"$f":"N9","v":1121},{"$f":"COUNTIF(L148:L183,AN9)","v":0},{"$f":"AO9/(AQ4-AO20)","v":0},{"$f":"IF(AP9=0,0,(AP9*((LOG(AP9))/LOG(2))))","v":0},null,{"$f":"N9","v":1121},{"$f":"COUNTIF(L184:L218,AS9)","v":0},{"$f":"AT9/(AV4-AT20)","v":0},{"$f":"IF(AU9=0,0,(AU9*((LOG(AU9))/LOG(2))))","v":0}]
[12,423,14,427,13,430,14,434,null,null,0,1111,null,1122,{"$f":"COUNTIF($L$7:$L$500,N10)","v":1},{"$f":"O10/$Q$4","v":4.7169811320754715E-3},{"$f":"IF(P10=0,0,(P10*((LOG(P10))/LOG(2))))","v":-3.6452454974354717E-2},null,null,{"$f":"N10","v":1122},{"$f":"COUNTIF(L7:L41,T10)","v":0},{"$f":"U10/(W4-U20)","v":0},{"$f":"IF(V10=0,0,(V10*((LOG(V10))/LOG(2))))","v":0},null,{"$f":"N10","v":1122},{"$f":"COUNTIF(L42:L77,Y10)","v":0},{"$f":"Z10/(AB4-Z20)","v":0},{"$f":"IF(AA10=0,0,(AA10*((LOG(AA10))/LOG(2))))","v":0},null,{"$f":"N10","v":1122},{"$f":"COUNTIF(L78:L112,AD10)","v":0},{"$f":"AE10/(AG4-AE20)","v":0},{"$f":"IF(AF10=0,0,(AF10*((LOG(AF10))/LOG(2))))","v":0},null,{"$f":"N10","v":1122},{"$f":"COUNTIF(L113:L147,AI10)","v":0},{"$f":"AJ10/(AL4-AJ20)","v":0},{"$f":"IF(AK10=0,0,(AK10*((LOG(AK10))/LOG(2))))","v":0},null,{"$f":"N10","v":1122},{"$f":"COUNTIF(L148:L183,AN10)","v":0},{"$f":"AO10/(AQ4-AO20)","v":0},{"$f":"IF(AP10=0,0,(AP10*((LOG(AP10))/LOG(2))))","v":0},null,{"$f":"N10","v":1122},{"$f":"COUNTIF(L184:L218,AS10)","v":1},{"$f":"AT10/(AV4-AT20)","v":2.8571428571428571E-2},{"$f":"IF(AU10=0,0,(AU10*((LOG(AU10))/LOG(2))))","v":-0.14655094334128474}]
[12,536,14,540,13,544,14,548,null,null,0,1111,null,1211,{"$f":"COUNTIF($L$7:$L$500,N11)","v":0},{"$f":"O11/$Q$4","v":0},{"$f":"IF(P11=0,0,(P11*((LOG(P11))/LOG(2))))","v":0},null,null,{"$f":"N11","v":1211},{"$f":"COUNTIF(L7:L41,T11)","v":0},{"$f":"U11/(W4-U20)","v":0},{"$f":"IF(V11=0,0,(V11*((LOG(V11))/LOG(2))))","v":0},null,{"$f":"N11","v":1211},{"$f":"COUNTIF(L42:L77,Y11)","v":0},{"$f":"Z11/(AB4-Z20)","v":0},{"$f":"IF(AA11=0,0,(AA11*((LOG(AA11))/LOG(2))))","v":0},null,{"$f":"N11","v":1211},{"$f":"COUNTIF(L78:L112,AD11)","v":0},{"$f":"AE11/(AG4-AE20)","v":0},{"$f":"IF(AF11=0,0,(AF11*((LOG(AF11))/LOG(2))))","v":0},null,{"$f":"N11","v":1211},{"$f":"COUNTIF(L113:L147,AI11)","v":0},{"$f":"AJ11/(AL4-AJ20)","v":0},{"$f":"IF(AK11=0,0,(AK11*((LOG(AK11))/LOG(2))))","v":0},null,{"$f":"N11","v":1211},{"$f":"COUNTIF(L148:L183,AN11)","v":0},{"$f":"AO11/(AQ4-AO20)","v":0},{"$f":"IF(AP11=0,0,(AP11*((LOG(AP11))/LOG(2))))","v":0},null,{"$f":"N11","v":1211},{"$f":"COUNTIF(L184:L218,AS11)","v":0},{"$f":"AT11/(AV4-AT20)","v":0},{"$f":"IF(AU11=0,0,(AU11*((LOG(AU11))/LOG(2))))","v":0}]
[12,654,14,658,13,662,14,666,null,null,0,1111,null,1212,{"$f":"COUNTIF($L$7:$L$500,N12)","v":0},{"$f":"O12/$Q$4","v":0},{"$f":"IF(P12=0,0,(P12*((LOG(P12))/LOG(2))))","v":0},null,null,{"$f":"N12","v":1212},{"$f":"COUNTIF(L7:L41,T12)","v":0},{"$f":"U12/(W4-U20)","v":0},{"$f":"IF(V12=0,0,(V12*((LOG(V12))/LOG(2))))","v":0},null,{"$f":"N12","v":1212},{"$f":"COUNTIF(L42:L77,Y12)","v":0},{"$f":"Z12/(AB4-Z20)","v":0},{"$f":"IF(AA12=0,0,(AA12*((LOG(AA12))/LOG(2))))","v":0},null,{"$f":"N12","v":1212},{"$f":"COUNTIF(L78:L112,AD12)","v":0},{"$f":"AE12/(AG4-AE20)","v":0},{"$f":"IF(AF12=0,0,(AF12*((LOG(AF12))/LOG(2))))","v":0},null,{"$f":"N12","v":1212},{"$f":"COUNTIF(L113:L147,AI12)","v":0},{"$f":"AJ12/(AL4-AJ20)","v":0},{"$f":"IF(AK12=0,0,(AK12*((LOG(AK12))/LOG(2))))","v":0},null,{"$f":"N12","v":1212},{"$f":"COUNTIF(L148:L183,AN12)","v":0},{"$f":"AO12/(AQ4-AO20)","v":0},{"$f":"IF(AP12=0,0,(AP12*((LOG(AP12))/LOG(2))))","v":0},null,{"$f":"N12","v":1212},{"$f":"COUNTIF(L184:L218,AS12)","v":0},{"$f":"AT12/(AV4-AT20)","v":0},{"$f":"IF(AU12=0,0,(AU12*((LOG(AU12))/LOG(2))))","v":0}]
[12,770,14,782,13,786,14,791,null,null,0,1111,null,1221,{"$f":"COUNTIF($L$7:$L$500,N13)","v":1},{"$f":"O13/$Q$4","v":4.7169811320754715E-3},{"$f":"IF(P13=0,0,(P13*((LOG(P13))/LOG(2))))","v":-3.6452454974354717E-2},null,null,{"$f":"N13","v":1221},{"$f":"COUNTIF(L7:L41,T13)","v":1},{"$f":"U13/(W4-U20)","v":2.8571428571428571E-2},{"$f":"IF(V13=0,0,(V13*((LOG(V13))/LOG(2))))","v":-0.14655094334128474},null,{"$f":"N13","v":1221},{"$f":"COUNTIF(L42:L77,Y13)","v":0},{"$f":"Z13/(AB4-Z20)","v":0},{"$f":"IF(AA13=0,0,(AA13*((LOG(AA13))/LOG(2))))","v":0},null,{"$f":"N13","v":1221},{"$f":"COUNTIF(L78:L112,AD13)","v":0},{"$f":"AE13/(AG4-AE20)","v":0},{"$f":"IF(AF13=0,0,(AF13*((LOG(AF13))/LOG(2))))","v":0},null,{"$f":"N13","v":1221},{"$f":"COUNTIF(L113:L147,AI13)","v":0},{"$f":"AJ13/(AL4-AJ20)","v":0},{"$f":"IF(AK13=0,0,(AK13*((LOG(AK13))/LOG(2))))","v":0},null,{"$f":"N13","v":1221},{"$f":"COUNTIF(L148:L183,AN13)","v":0},{"$f":"AO13/(AQ4-AO20)","v":0},{"$f":"IF(AP13=0,0,(AP13*((LOG(AP13))/LOG(2))))","v":0},null,{"$f":"N13","v":1221},{"$f":"COUNTIF(L184:L218,AS13)","v":0},{"$f":"AT13/(AV4-AT20)","v":0},{"$f":"IF(AU13=0,0,(AU13*((LOG(AU13))/LOG(2))))","v":0}]
[12,888,14,891,13,895,14,899,null,null,0,1111,null,1222,{"$f":"COUNTIF($L$7:$L$500,N14)","v":0},{"$f":"O14/$Q$4","v":0},{"$f":"IF(P14=0,0,(P14*((LOG(P14))/LOG(2))))","v":0},null,null,{"$f":"N14","v":1222},{"$f":"COUNTIF(L7:L41,T14)","v":0},{"$f":"U14/(W4-U20)","v":0},{"$f":"IF(V14=0,0,(V14*((LOG(V14))/LOG(2))))","v":0},null,{"$f":"N14","v":1222},{"$f":"COUNTIF(L42:L77,Y14)","v":0},{"$f":"Z14/(AB4-Z20)","v":0},{"$f":"IF(AA14=0,0,(AA14*((LOG(AA14))/LOG(2))))","v":0},null,{"$f":"N14","v":1222},{"$f":"COUNTIF(L78:L112,AD14)","v":0},{"$f":"AE14/(AG4-AE20)","v":0},{"$f":"IF(AF14=0,0,(AF14*((LOG(AF14))/LOG(2))))","v":0},null,{"$f":"N14","v":1222},{"$f":"COUNTIF(L113:L147,AI14)","v":0},{"$f":"AJ14/(AL4-AJ20)","v":0},{"$f":"IF(AK14=0,0,(AK14*((LOG(AK14))/LOG(2))))","v":0},null,{"$f":"N14","v":1222},{"$f":"COUNTIF(L148:L183,AN14)","v":0},{"$f":"AO14/(AQ4-AO20)","v":0},{"$f":"IF(AP14=0,0,(AP14*((LOG(AP14))/LOG(2))))","v":0},null,{"$f":"N14","v":1222},{"$f":"COUNTIF(L184:L218,AS14)","v":0},{"$f":"AT14/(AV4-AT20)","v":0},{"$f":"IF(AU14=0,0,(AU14*((LOG(AU14))/LOG(2))))","v":0}]
[12,1002,14,1006,13,1010,14,1015,null,null,0,1111,null,2111,{"$f":"COUNTIF($L$7:$L$500,N15)","v":0},{"$f":"O15/$Q$4","v":0},{"$f":"IF(P15=0,0,(P15*((LOG(P15))/LOG(2))))","v":0},null,null,{"$f":"N15","v":2111},{"$f":"COUNTIF(L7:L41,T15)","v":0},{"$f":"U15/(W4-U20)","v":0},{"$f":"IF(V15=0,0,(V15*((LOG(V15))/LOG(2))))","v":0},null,{"$f":"N15","v":2111},{"$f":"COUNTIF(L42:L77,Y15)","v":0},{"$f":"Z15/(AB4-Z20)","v":0},{"$f":"IF(AA15=0,0,(AA15*((LOG(AA15))/LOG(2))))","v":0},null,{"$f":"N15","v":2111},{"$f":"COUNTIF(L78:L112,AD15)","v":0},{"$f":"AE15/(AG4-AE20)","v":0},{"$f":"IF(AF15=0,0,(AF15*((LOG(AF15))/LOG(2))))","v":0},null,{"$f":"N15","v":2111},{"$f":"COUNTIF(L113:L147,AI15)","v":0},{"$f":"AJ15/(AL4-AJ20)","v":0},{"$f":"IF(AK15=0,0,(AK15*((LOG(AK15))/LOG(2))))","v":0},null,{"$f":"N15","v":2111},{"$f":"COUNTIF(L148:L183,AN15)","v":0},{"$f":"AO15/(AQ4-AO20)","v":0},{"$f":"IF(AP15=0,0,(AP15*((LOG(AP15))/LOG(2))))","v":0},null,{"$f":"N15","v":2111},{"$f":"COUNTIF(L184:L218,AS15)","v":0},{"$f":"AT15/(AV4-AT20)","v":0},{"$f":"IF(AU15=0,0,(AU15*((LOG(AU15))/LOG(2))))","v":0}]
[12,1127,14,1135,13,1139,14,1147,null,null,0,1111,null,2112,{"$f":"COUNTIF($L$7:$L$500,N16)","v":0},{"$f":"O16/$Q$4","v":0},{"$f":"IF(P16=0,0,(P16*((LOG(P16))/LOG(2))))","v":0},null,null,{"$f":"N16","v":2112},{"$f":"COUNTIF(L7:L41,T16)","v":0},{"$f":"U16/(W4-U20)","v":0},{"$f":"IF(V16=0,0,(V16*((LOG(V16))/LOG(2))))","v":0},null,{"$f":"N16","v":2112},{"$f":"COUNTIF(L42:L77,Y16)","v":0},{"$f":"Z16/(AB4-Z20)","v":0},{"$f":"IF(AA16=0,0,(AA16*((LOG(AA16))/LOG(2))))","v":0},null,{"$f":"N16","v":2112},{"$f":"COUNTIF(L78:L112,AD16)","v":0},{"$f":"AE16/(AG4-AE20)","v":0},{"$f":"IF(AF16=0,0,(AF16*((LOG(AF16))/LOG(2))))","v":0},null,{"$f":"N16","v":2112},{"$f":"COUNTIF(L113:L147,AI16)","v":0},{"$f":"AJ16/(AL4-AJ20)","v":0},{"$f":"IF(AK16=0,0,(AK16*((LOG(AK16))/LOG(2))))","v":0},null,{"$f":"N16","v":2112},{"$f":"COUNTIF(L148:L183,AN16)","v":0},{"$f":"AO16/(AQ4-AO20)","v":0},{"$f":"IF(AP16=0,0,(AP16*((LOG(AP16))/LOG(2))))","v":0},null,{"$f":"N16","v":2112},{"$f":"COUNTIF(L184:L218,AS16)","v":0},{"$f":"AT16/(AV4-AT20)","v":0},{"$f":"IF(AU16=0,0,(AU16*((LOG(AU16))/LOG(2))))","v":0}]
[12,1251,14,1255,13,1259,14,1263,null,null,0,1111,null,2121,{"$f":"COUNTIF($L$7:$L$500,N17)","v":0},{"$f":"O17/$Q$4","v":0},{"$f":"IF(P17=0,0,(P17*((LOG(P17))/LOG(2))))","v":0},null,null,{"$f":"N17","v":2121},{"$f":"COUNTIF(L7:L41,T17)","v":0},{"$f":"U17/(W4-U20)","v":0},{"$f":"IF(V17=0,0,(V17*((LOG(V17))/LOG(2))))","v":0},null,{"$f":"N17","v":2121},{"$f":"COUNTIF(L42:L77,Y17)","v":0},{"$f":"Z17/(AB4-Z20)","v":0},{"$f":"IF(AA17=0,0,(AA17*((LOG(AA17))/LOG(2))))","v":0},null,{"$f":"N17","v":2121},{"$f":"COUNTIF(L78:L112,AD17)","v":0},{"$f":"AE17/(AG4-AE20)","v":0},{"$f":"IF(AF17=0,0,(AF17*((LOG(AF17))/LOG(2))))","v":0},null,{"$f":"N17","v":2121},{"$f":"COUNTIF(L113:L147,AI17)","v":0},{"$f":"AJ17/(AL4-AJ20)","v":0},{"$f":"IF(AK17=0,0,(AK17*((LOG(AK17))/LOG(2))))","v":0},null,{"$f":"N17","v":2121},{"$f":"COUNTIF(L148:L183,AN17)","v":0},{"$f":"AO17/(AQ4-AO20)","v":0},{"$f":"IF(AP17=0,0,(AP17*((LOG(AP17))/LOG(2))))","v":0},null,{"$f":"N17","v":2121},{"$f":"COUNTIF(L184:L218,AS17)","v":0},{"$f":"AT17/(AV4-AT20)","v":0},{"$f":"IF(AU17=0,0,(AU17*((LOG(AU17))/LOG(2))))","v":0}]
[12,1365,14,1369,13,1374,14,1378,null,null,0,1111,null,2122,{"$f":"COUNTIF($L$7:$L$500,N18)","v":0},{"$f":"O18/$Q$4","v":0},{"$f":"IF(P18=0,0,(P18*((LOG(P18))/LOG(2))))","v":0},null,null,{"$f":"N18","v":2122},{"$f":"COUNTIF(L7:L41,T18)","v":0},{"$f":"U18/(W4-U20)","v":0},{"$f":"IF(V18=0,0,(V18*((LOG(V18))/LOG(2))))","v":0},null,{"$f":"N18","v":2122},{"$f":"COUNTIF(L42:L77,Y18)","v":0},{"$f":"Z18/(AB4-Z20)","v":0},{"$f":"IF(AA18=0,0,(AA18*((LOG(AA18))/LOG(2))))","v":0},null,{"$f":"N18","v":2122},{"$f":"COUNTIF(L78:L112,AD18)","v":0},{"$f":"AE18/(AG4-AE20)","v":0},{"$f":"IF(AF18=0,0,(AF18*((LOG(AF18))/LOG(2))))","v":0},null,{"$f":"N18","v":2122},{"$f":"COUNTIF(L113:L147,AI18)","v":0},{"$f":"AJ18/(AL4-AJ20)","v":0},{"$f":"IF(AK18=0,0,(AK18*((LOG(AK18))/LOG(2))))","v":0},null,{"$f":"N18","v":2122},{"$f":"COUNTIF(L148:L183,AN18)","v":0},{"$f":"AO18/(AQ4-AO20)","v":0},{"$f":"IF(AP18=0,0,(AP18*((LOG(AP18))/LOG(2))))","v":0},null,{"$f":"N18","v":2122},{"$f":"COUNTIF(L184:L218,AS18)","v":0},{"$f":"AT18/(AV4-AT20)","v":0},{"$f":"IF(AU18=0,0,(AU18*((LOG(AU18))/LOG(2))))","v":0}]
[12,1482,14,1486,13,1490,14,1494,null,null,0,1111,null,2211,{"$f":"COUNTIF($L$7:$L$500,N19)","v":0},{"$f":"O19/$Q$4","v":0},{"$f":"IF(P19=0,0,(P19*((LOG(P19))/LOG(2))))","v":0},null,null,{"$f":"N19","v":2211},{"$f":"COUNTIF(L7:L41,T19)","v":0},{"$f":"U19/(W4-U20)","v":0},{"$f":"IF(V19=0,0,(V19*((LOG(V19))/LOG(2))))","v":0},null,{"$f":"N19","v":2211},{"$f":"COUNTIF(L42:L77,Y19)","v":0},{"$f":"Z19/(AB4-Z20)","v":0},{"$f":"IF(AA19=0,0,(AA19*((LOG(AA19))/LOG(2))))","v":0},null,{"$f":"N19","v":2211},{"$f":"COUNTIF(L78:L112,AD19)","v":0},{"$f":"AE19/(AG4-AE20)","v":0},{"$f":"IF(AF19=0,0,(AF19*((LOG(AF19))/LOG(2))))","v":0},null,{"$f":"N19","v":2211},{"$f":"COUNTIF(L113:L147,AI19)","v":0},{"$f":"AJ19/(AL4-AJ20)","v":0},{"$f":"IF(AK19=0,0,(AK19*((LOG(AK19))/LOG(2))))","v":0},null,{"$f":"N19","v":2211},{"$f":"COUNTIF(L148:L183,AN19)","v":0},{"$f":"AO19/(AQ4-AO20)","v":0},{"$f":"IF(AP19=0,0,(AP19*((LOG(AP19))/LOG(2))))","v":0},null,{"$f":"N19","v":2211},{"$f":"COUNTIF(L184:L218,AS19)","v":0},{"$f":"AT19/(AV4-AT20)","v":0},{"$f":"IF(AU19=0,0,(AU19*((LOG(AU19))/LOG(2))))","v":0}]
[12,1592,14,1598,13,1602,14,1606,null,null,0,1111,null,2212,{"$f":"COUNTIF($L$7:$L$500,N20)","v":0},{"$f":"O20/$Q$4","v":0},{"$f":"IF(P20=0,0,(P20*((LOG(P20))/LOG(2))))","v":0},null,null,{"$f":"N20","v":2212},{"$f":"COUNTIF(L7:L41,T20)","v":0},null,null,null,{"$f":"N20","v":2212},{"$f":"COUNTIF(L42:L77,Y20)","v":0},null,null,null,{"$f":"N20","v":2212},{"$f":"COUNTIF(L78:L112,AD20)","v":0},null,null,null,{"$f":"N20","v":2212},{"$f":"COUNTIF(L113:L147,AI20)","v":0},null,null,null,{"$f":"N20","v":2212},{"$f":"COUNTIF(L148:L183,AN20)","v":0},null,null,null,{"$f":"N20","v":2212},{"$f":"COUNTIF(L184:L218,AS20)","v":0}]
[12,1713,14,1717,13,1722,14,1726,null,null,0,1111,null,2221,{"$f":"COUNTIF($L$7:$L$500,N21)","v":0},{"$f":"O21/$Q$4","v":0},{"$f":"IF(P21=0,0,(P21*((LOG(P21))/LOG(2))))","v":0},null,null,{"$f":"N21","v":2221},{"$f":"COUNTIF(L7:L41,T21)","v":0},{"$f":"U21/(W4-U20)","v":0},{"$f":"IF(V21=0,0,(V21*((LOG(V21))/LOG(2))))","v":0},null,{"$f":"N21","v":2221},{"$f":"COUNTIF(L42:L77,Y21)","v":0},{"$f":"Z21/(AB4-Z20)","v":0},{"$f":"IF(AA21=0,0,(AA21*((LOG(AA21))/LOG(2))))","v":0},null,{"$f":"N21","v":2221},{"$f":"COUNTIF(L78:L112,AD21)","v":0},{"$f":"AE21/(AG4-AE20)","v":0},{"$f":"IF(AF21=0,0,(AF21*((LOG(AF21))/LOG(2))))","v":0},null,{"$f":"N21","v":2221},{"$f":"COUNTIF(L113:L147,AI21)","v":0},{"$f":"AJ21/(AL4-AJ20)","v":0},{"$f":"IF(AK21=0,0,(AK21*((LOG(AK21))/LOG(2))))","v":0},null,{"$f":"N21","v":2221},{"$f":"COUNTIF(L148:L183,AN21)","v":0},{"$f":"AO21/(AQ4-AO20)","v":0},{"$f":"IF(AP21=0,0,(AP21*((LOG(AP21))/LOG(2))))","v":0},null,{"$f":"N21","v":2221},{"$f":"COUNTIF(L184:L218,AS21)","v":0},{"$f":"AT21/(AV4-AT20)","v":0},{"$f":"IF(AU21=0,0,(AU21*((LOG(AU21))/LOG(2))))","v":0}]
[12,1836,14,1841,13,1845,14,1849,null,null,0,1111,null,2222,{"$f":"COUNTIF($L$7:$L$500,N22)","v":0},{"$f":"O22/$Q$4","v":0},{"$f":"IF(P22=0,0,(P22*((LOG(P22))/LOG(2))))","v":0},null,null,{"$f":"N22","v":2222},{"$f":"COUNTIF(L7:L41,T22)","v":0},{"$f":"U22/(W4-U20)","v":0},{"$f":"IF(V22=0,0,(V22*((LOG(V22))/LOG(2))))","v":0},null,{"$f":"N22","v":2222},{"$f":"COUNTIF(L42:L77,Y22)","v":0},{"$f":"Z22/(AB4-Z20)","v":0},{"$f":"IF(AA22=0,0,(AA22*((LOG(AA22))/LOG(2))))","v":0},null,{"$f":"N22","v":2222},{"$f":"COUNTIF(L78:L112,AD22)","v":0},{"$f":"AE22/(AG4-AE20)","v":0},{"$f":"IF(AF22=0,0,(AF22*((LOG(AF22))/LOG(2))))","v":0},null,{"$f":"N22","v":2222},{"$f":"COUNTIF(L113:L147,AI22)","v":0},{"$f":"AJ22/(AL4-AJ20)","v":0},{"$f":"IF(AK22=0,0,(AK22*((LOG(AK22))/LOG(2))))","v":0},null,{"$f":"N22","v":2222},{"$f":"COUNTIF(L148:L183,AN22)","v":0},{"$f":"AO22/(AQ4-AO20)","v":0},{"$f":"IF(AP22=0,0,(AP22*((LOG(AP22))/LOG(2))))","v":0},null,{"$f":"N22","v":2222},{"$f":"COUNTIF(L184:L218,AS22)","v":0},{"$f":"AT22/(AV4-AT20)","v":0},{"$f":"IF(AU22=0,0,(AU22*((LOG(AU22))/LOG(2))))","v":0}]
[12,1948,14,1952,13,1957,14,1961,null,null,0,1111,null,null,null,{"$f":"SUM(P7:P22)","v":1},{"$f":"-SUM(Q7:Q22)","v":8.6450838007134309E-2},null,null,null,null,{"$f":"SUM(V7:V22)","v":1},{"$f":"-SUM(W7:W22)","v":0.18717625687320816},null,null,null,{"$f":"SUM(AA7:AA22)","v":1},{"$f":"-SUM(AB7:AB22)","v":0},null,null,null,{"$f":"SUM(AF7:AF22)","v":1},{"$f":"-SUM(AG7:AG22)","v":0},null,null,null,{"$f":"SUM(AK7:AK22)","v":1},{"$f":"-SUM(AL7:AL22)","v":0},null,null,null,{"$f":"SUM(AP7:AP22)","v":1},{"$f":"-SUM(AQ7:AQ22)","v":0},null,null,null,{"$f":"SUM(AU7:AU22)","v":1},{"$f":"-SUM(AV7:AV22)","v":0.18717625687320816}]
[12,2064,14,2075,13,2079,14,2083,null,null,0,1111,null,null,null,"U=",{"$f":"Q23/(LOG(Q4)/LOG(2))","v":1.1186817788230032E-2},null,null,null,null,"U1=",{"$f":"W23/(LOG(W4)/LOG(2))","v":3.6491699961740759E-2},null,null,null,"U2=",{"$f":"AB23/(LOG(AB4)/LOG(2))","v":0},null,null,null,"U3=",{"$f":"AG23/(LOG(AG4)/LOG(2))","v":0},null,null,null,"U4=",{"$f":"AL23/(LOG(AL4)/LOG(2))","v":0},null,null,null,"U5=",{"$f":"AQ23/(LOG(AQ4)/LOG(2))","v":0},null,null,null,"U6=",{"$f":"AV23/(LOG(AV4)/LOG(2))","v":3.6491699961740759E-2}]
[12,2185,14,2189,13,2200,14,2207,null,null,0,1111]
[12,2310,14,2314,13,2318,14,2322,null,null,0,1111]
[12,2420,14,2424,13,2428,14,2432,null,null,0,1111,null,"Total Target Seq"]
[12,2539,14,2544,13,2548,14,2553,null,null,0,1111,null,{"$f":"COUNTIF(L7:L218,G3)","v":0},null,35,36,35,35,36,35]
[12,2655,14,2660,13,2664,14,2669,null,null,0,1111,null,null,null,"% of reinforcement given in 6 equal intervals based on number of trials "]
[12,2777,14,2782,13,2785,14,2793,null,null,0,1111,null,null,null,"%_1","%_2","%_3","%_4","%_5","%_6"]
[12,2886,14,2891,13,2905,14,2912,null,null,0,1111,null,null,"target sequence",{"$f":"$G$3","v":2212},{"$f":"$G$3","v":2212},{"$f":"$G$3","v":2212},{"$f":"$G$3","v":2212},{"$f":"$G$3","v":2212},{"$f":"$G$3","v":2212}]
[12,3018,14,3025,13,3029,14,3036,null,null,0,1111,null,null,"total reinforcement",{"$f":"U20","v":0},{"$f":"Z20","v":0},{"$f":"AE20","v":0},{"$f":"AJ20","v":0},{"$f":"AO20","v":0},{"$f":"AT20","v":0}]
[12,3141,14,3145,13,3149,14,3157,null,null,0,1111,null,null,"% target"]
[12,3253,14,3267,13,3272,14,3276,null,null,0,1111,null,null,"CCRF"]
[12,3378,14,3382,13,3387,14,3395,null,null,0,1111,null,null,"% CCRf"]
[12,3495,14,3504,13,3509,14,3513,null,null,0,1111,null,null,"average response rate",{"$f":"H41/P28","v":117.48571428571428},{"$f":"(H77-H41)/Q28","v":115.83333333333333},{"$f":"(H112-H77)/R28","v":110.97142857142858},{"$f":"(H147-H112)/S28","v":112},{"$f":"(H183-H147)/T28","v":110.44444444444444},{"$f":"(H218-H183)/U28","v":112.48571428571428}]
[12,3612,14,3619,13,3623,14,3628,null,null,0,1111]
[12,3733,14,3736,13,3743,14,3747,null,null,0,1111]
[12,3846,14,3851,13,3854,14,3860,null,null,0,1111]
[12,3972,14,3976,13,3980,14,3987,null,null,0,1111]
[12,4092,14,4097,13,4103,14,4112,null,null,0,1111]
[12,4212,14,4217,13,4221,14,4228,null,null,0,1111]
[12,4329,14,4333,13,4337,14,4341,null,null,0,1111]
[12,4453,14,4460,13,4467,14,4474,null,null,0,1111]
[12,4574,14,4579,13,4588,14,4608,null,null,0,1111]
[12,4704,14,4709,13,4713,14,4717,null,null,0,1111]
[12,4823,14,4834,13,4839,14,4846,null,null,0,1111]
[12,4944,14,4953,13,4957,14,4964,null,null,0,1111]
[12,5068,14,5073,13,5077,14,5089,null,null,0,1111]
[12,5184,14,5187,13,5191,14,5195,null,null,0,1111]
[12,5293,14,5297,13,5301,14,5308,null,null,0,1111]
[12,5404,14,5409,13,5413,14,5417,null,null,0,1111]
[12,5513,14,5517,13,5521,14,5525,null,null,0,1111]
[12,5624,14,5629,13,5632,14,5637,null,null,0,1111]
[12,5737,14,5741,13,5745,14,5749,null,null,0,1111]
[12,5858,14,5863,13,5874,14,5878,null,null,0,1111]
[12,5983,14,5987,13,5994,14,6002,null,null,0,1111]
[12,6098,14,6103,13,6107,14,6111,null,null,0,1111]
[12,6207,14,6211,13,6215,14,6219,null,null,0,1111]
[12,6315,14,6319,13,6323,14,6327,null,null,0,1111]
[12,6422,14,6426,13,6430,14,6434,null,null,0,1111]
[12,6530,14,6534,13,6538,14,6542,null,null,0,1111]
[12,6646,14,6650,13,6653,14,6661,null,null,0,1111]
[12,6765,14,6769,13,6774,14,6781,null,null,0,1111]
[12,6881,14,6886,13,6890,14,6895,null,null,0,1111]
[12,6997,14,7002,13,7007,14,7015,null,null,0,1111]
[12,7116,14,7120,13,7124,14,7130,null,null,0,1111]
[12,7230,14,7234,13,7238,14,7243,null,null,0,1111]
[12,7348,14,7352,13,7356,14,7363,null,null,0,1111]
[12,7462,14,7466,13,7480,14,7489,null,null,0,1111]
[12,7590,14,7594,13,7597,14,7602,null,null,0,1111]
[12,7697,14,7703,13,7706,14,7710,null,null,0,1111]
[12,7806,14,7810,13,7814,14,7821,null,null,0,1111]
[12,7930,14,7934,13,7941,14,7948,null,null,0,1111]
[12,8043,14,8048,13,8052,14,8056,null,null,0,1111]
[12,8161,14,8165,13,8169,14,8174,null,null,0,1111]
[12,8270,14,8274,13,8277,14,8282,null,null,0,1111]
[12,8376,14,8380,13,8385,14,8390,null,null,0,1111]
[12,8486,14,8491,13,8494,14,8499,null,null,0,1111]
[12,8593,14,8600,13,8604,14,8611,null,null,0,1111]
[12,8711,14,8716,13,8719,14,8723,null,null,0,1111]
[12,8830,14,8834,13,8842,14,8849,null,null,0,1111]
[12,8945,14,8949,13,8953,14,8957,null,null,0,1111]
[12,9051,14,9055,13,9059,14,9068,null,null,0,1111]
[12,9163,14,9168,13,9172,14,9176,null,null,0,1111]
[12,9273,14,9278,13,9282,14,9287,null,null,0,1111]
[12,9384,14,9388,13,9391,14,9395,null,null,0,1111]
[12,9494,14,9499,13,9503,14,9508,null,null,0,1111]
[12,9604,14,9608,13,9613,14,9618,null,null,0,1111]
[12,9714,14,9718,13,9722,14,9729,null,null,0,1111]
[12,9825,14,9830,13,9833,14,9839,null,null,0,1111]
[12,9935,14,9939,13,9943,14,9948,null,null,0,1111]
[12,10043,14,10047,13,10051,14,10056,null,null,0,1111]
[12,10157,14,10161,13,10165,14,10169,null,null,0,1111]
[12,10265,14,10269,13,10273,14,10278,null,null,0,1111]
[12,10373,14,10376,13,10382,14,10389,null,null,0,1111]
[12,10485,14,10490,13,10494,14,10498,null,null,0,1111]
[12,10594,14,10598,13,10602,14,10606,null,null,0,1111]
[12,10704,14,10708,13,10712,14,10715,null,null,0,1111]
[12,10812,14,10816,13,10820,14,10823,null,null,0,1111]
[12,10916,14,10921,13,10925,14,10930,null,null,0,1111]
[12,11041,14,11047,13,11051,14,11057,null,null,0,1111]
[12,11160,14,11163,13,11168,14,11173,null,null,0,1111]
[12,11268,14,11284,13,11289,14,11296,null,null,0,1111]
[12,11389,14,11393,13,11397,14,11401,null,null,0,1111]
[12,11497,14,11506,13,11511,14,11514,null,null,0,1111]
[12,11610,14,11614,13,11617,14,11621,null,null,0,1111]
[12,11716,14,11720,13,11724,14,11728,null,null,0,1111]
[12,11826,14,11830,13,11834,14,11838,null,null,0,1111]
[12,11940,14,11944,13,11948,14,11952,null,null,0,1111]
[12,12047,14,12051,13,12055,14,12060,null,null,0,1111]
[12,12155,14,12159,13,12162,14,12166,null,null,0,1111]
[12,12266,14,12269,13,12273,14,12278,null,null,0,1111]
[12,12377,14,12380,13,12384,14,12389,null,null,0,1111]
[12,12485,14,12489,13,12492,14,12502,null,null,0,1111]
[12,12612,14,12616,13,12619,14,12626,null,null,0,1111]
[12,12722,14,12727,13,12731,14,12736,null,null,0,1111]
[12,12835,14,12838,13,12843,14,12850,null,null,0,1111]
[12,12945,14,12949,13,12953,14,12956,null,null,0,1111]
[12,13056,14,13060,13,13065,14,13069,null,null,0,1111]
[12,13165,14,13169,13,13173,14,13177,null,null,0,1111]
[12,13272,14,13276,13,13280,14,13287,null,null,0,1111]
[12,13392,14,13396,13,13400,14,13415,null,null,0,1111]
[12,13510,14,13513,13,13517,14,13527,null,null,0,1111]
[12,13624,14,13629,13,13633,14,13638,null,null,0,1111]
[12,13741,14,13745,13,13749,14,13753,null,null,0,1111]
[12,13847,14,13850,13,13855,14,13859,null,null,0,1111]
[12,13956,14,13975,13,13979,14,13988,null,null,0,1111]
[12,14084,14,14089,13,14092,14,14099,null,null,0,1111]
[12,14198,14,14203,13,14206,14,14211,null,null,0,1111]
[12,14307,14,14312,13,14315,14,14320,null,null,0,1111]
[12,14424,14,14428,13,14432,14,14436,null,null,0,1111]
[12,14531,14,14535,13,14538,14,14542,null,null,0,1111]
[12,14641,14,14645,13,14649,14,14652,null,null,0,1111]
[12,14752,14,14756,13,14760,14,14765,null,null,0,1111]
[12,14859,14,14863,13,14872,14,14875,null,null,0,1111]
[12,14970,14,14974,13,14978,14,14982,null,null,0,1111]
[12,15078,14,15083,13,15086,14,15093,null,null,0,1111]
[12,15189,14,15194,13,15198,14,15205,null,null,0,1111]
[12,15300,14,15303,13,15307,14,15315,null,null,0,1111]
[12,15415,14,15419,13,15429,14,15432,null,null,0,1111]
[12,15527,14,15531,13,15534,14,15538,null,null,0,1111]
[12,15641,14,15646,13,15650,14,15659,null,null,0,1111]
[12,15755,14,15759,13,15763,14,15766,null,null,0,1111]
[12,15858,14,15863,13,15866,14,15871,null,null,0,1111]
[12,15968,14,15971,13,15977,14,15982,null,null,0,1111]
[12,16074,14,16078,13,16082,14,16086,null,null,0,1111]
[12,16185,14,16189,13,16193,14,16212,null,null,0,1111]
[12,16309,14,16314,13,16318,14,16322,null,null,0,1111]
[12,16424,14,16428,13,16432,14,16439,null,null,0,1111]
[12,16534,14,16538,13,16542,14,16549,null,null,0,1111]
[12,16644,14,16648,13,16652,14,16656,null,null,0,1111]
[12,16757,14,16761,13,16765,14,16772,null,null,0,1111]
[12,16863,14,16868,13,16872,14,16875,null,null,0,1111]
[12,16970,14,16974,13,16979,14,16987,null,null,0,1111]
[12,17083,14,17088,13,17092,14,17095,null,null,0,1111]
[12,17207,14,17211,13,17215,14,17222,null,null,0,1111]
[12,17317,14,17321,13,17324,14,17328,null,null,0,1111]
[12,17428,14,17433,13,17436,14,17440,null,null,0,1111]
[12,17539,14,17542,13,17546,14,17551,null,null,0,1111]
[12,17643,14,17648,13,17652,14,17659,null,null,0,1111]
[12,17756,14,17760,13,17764,14,17768,null,null,0,1111]
[12,17864,14,17867,13,17871,14,17875,null,null,0,1111]
[12,17968,14,17972,13,17975,14,17980,null,null,0,1111]
[12,18078,14,18082,13,18085,14,18090,null,null,0,1111]
[12,18190,14,18193,13,18197,14,18204,null,null,0,1111]
[12,18296,14,18300,13,18304,14,18308,null,null,0,1111]
[12,18403,14,18407,13,18411,14,18418,null,null,0,1111]
[12,18513,14,18517,13,18521,14,18525,null,null,0,1111]
[12,18619,14,18623,13,18627,14,18631,null,null,0,1111]
[12,18726,14,18731,13,18735,14,18739,null,null,0,1111]
[12,18834,14,18841,13,18845,14,18852,null,null,0,1111]
[12,18945,14,18949,13,18952,14,18964,null,null,0,1111]
[12,19067,14,19071,13,19075,14,19083,null,null,0,1111]
[12,19177,14,19181,13,19185,14,19189,null,null,0,1111]
[12,19279,14,19283,13,19287,14,19290,null,null,0,1111]
[12,19385,14,19390,13,19394,14,19399,null,null,0,1111]
[12,19493,14,19497,13,19501,14,19504,null,null,0,1111]
[12,19600,14,19604,13,19608,14,19613,null,null,0,1111]
[12,19722,14,19726,13,19730,14,19737,null,null,0,1111]
[12,19837,14,19842,13,19846,14,19850,null,null,0,1111]
[12,19944,14,19948,13,19951,14,19955,null,null,0,1111]
[12,20050,14,20055,13,20058,14,20062,null,null,0,1111]
[12,20162,14,20166,13,20170,14,20177,null,null,0,1111]
[12,20271,14,20276,13,20284,14,20290,null,null,0,1111]
[12,20390,14,20395,13,20398,14,20403,null,null,0,1111]
[12,20498,14,20501,13,20505,14,20513,null,null,0,1111]
[12,20609,14,20613,13,20616,14,20620,null,null,0,1111]
[12,20717,14,20722,13,20725,14,20733,null,null,0,1111]
[12,20828,14,20832,13,20836,14,20840,null,null,0,1111]
[12,20931,14,20934,13,20938,14,20942,null,null,0,1111]
[12,21037,14,21041,13,21044,14,21048,null,null,0,1111]
[12,21144,14,21149,13,21152,14,21156,null,null,0,1111]
[12,21250,14,21255,13,21259,14,21264,null,null,0,1111]
[12,21364,14,21368,13,21372,14,21379,null,null,0,1111]
[12,21475,14,21479,13,21482,14,21493,null,null,0,1111]
[12,21591,14,21595,13,21603,14,21609,null,null,0,1111]
[12,21706,14,21709,13,21713,14,21720,null,null,0,1111]
[12,21819,14,21825,13,21828,14,21834,null,null,0,1111]
[12,21929,14,21933,13,21937,14,21941,null,null,0,1111]
[12,22039,14,22071,24,22096,23,22108,null,null,0,1122]
[12,22213,14,22216,13,22220,14,22224,null,null,0,1111]
[12,22320,14,22324,13,22327,14,22332,null,null,0,1111]
[12,22427,14,22431,13,22435,14,22439,null,null,0,1111]
[12,22539,14,22544,13,22549,14,22556,null,null,0,1111]
[12,22660,14,22665,13,22669,14,22674,null,null,0,1111]
[12,22769,14,22772,13,22776,14,22780,null,null,0,1111]
[12,22875,14,22878,13,22882,14,22886,null,null,0,1111]
[12,22980,14,22984,13,22989,14,22992,null,null,0,1111]
[12,23085,14,23089,13,23093,14,23104,null,null,0,1111]
[12,23204,14,23208,13,23212,14,23216,null,null,0,1111]
[12,23318,14,23323,13,23327,14,23334,null,null,0,1111]
[12,23434,14,23437,13,23442,14,23445,null,null,0,1111]
[12,23542,14,23546,13,23550,14,23553,null,null,0,1111]
[12,23654,14,23658,13,23662,14,23666,null,null,0,1111]
[12,23763,14,23767,13,23771,14,23776,null,null,0,1111]
[12,23874,14,23878,13,23881,14,23888,null,null,0,1111]
[12,23984,14,23988,13,23992,14,23999,null,null,null,1111]

{"sheet":"!M913930.104","index":30,"n_rows":214,"n_cols":48,"rows_kept":214,"cut":false,"hidden":false,"merged":[[4,39,4,42],[5,39,5,40],[4,44,4,47],[5,44,5,45],[4,24,4,27],[5,24,5,25],[4,29,4,32],[5,29,5,30],[4,34,4,37],[5,34,5,35],[1,1,1,2],[5,13,5,14],[26,13,26,14],[27,13,27,14],[4,19,4,22],[5,19,5,20]]}
["Report for:!M913930.104"]
["Date:","<date>"]
["Hen:","<hen>",null,null,null,"Correct Sequence",{"$f":"Start!J2","v":2212},null,null,null,null,null,null,null,null,"Total Sequences in Data",{"$f":"4994-COUNTBLANK(L7:L5000)","v":208},null,null,null,null,"Total Sequences in Block Data",{"$f":"COUNTA(L7:L41)","v":35},null,null,null,"Total Sequences in Block Data",{"$f":"COUNTA(L42:L75)","v":34},null,null,null,"Total Sequences in Block Data",{"$f":"COUNTA(L76:L110)","v":35},null,null,null,"Total Sequences in Block Data",{"$f":"COUNTA(L111:L145)","v":35},null,null,null,"Total Sequences in Block Data",{"$f":"COUNTA(L146:L179)","v":34},null,null,null,"Total Sequences in Block Data",{"$f":"COUNTA(L180:L214)","v":35}]
[null,null,null,null,null,null,null,null,null,null,null,null,null,null,null,"Total Sequences in Summary",{"$f":"SUM(O7:O22)","v":208},null,null,null,null,"Total Sequences in Block Summary",{"$f":"SUM(U7:U22)","v":35},null,null,null,"Total Sequences in Block Summary",{"$f":"SUM(Z7:Z22)","v":34},null,null,null,"Total Sequences in Block Summary",{"$f":"SUM(AE7:AE22)","v":35},null,null,null,"Total Sequences in Block Summary",{"$f":"SUM(AJ7:AJ22)","v":35},null,null,null,"Total Sequences in Block Summary",{"$f":"SUM(AO7:AO22)","v":34},null,null,null,"Total Sequences in Block Summary",{"$f":"SUM(AT7:AT22)","v":35}]
[null,null,null,null,null,null,null,null,null,null,null,null,null,null,null,null,null,null,null,"Block 1",null,null,null,null,"Block 2",null,null,null,null,"Block 3",null,null,null,null,"Block 4",null,null,null,null,"Block 5",null,null,null,null,"Block 6"]
["Sequence\nComponent\n1","Time\n1","Sequence\nComponent\n2","Time\n2","Sequence\nComponent\n3","Time\n3","Sequence\nComponent\n4","Time\n4","Sequence\nComponent\n5","Time\n5","Correct?\n0=No 1=Yes","Sequence",null,"Frequency",null,"Relative Frequency","Variability",null,null,"Frequency",null,"Relative Frequency","Variability",null,"Frequency",null,"Relative Frequency","Variability",null,"Frequency",null,"Relative Frequency","Variability",null,"Frequency",null,"Relative Frequency","Variability",null,"Frequency",null,"Relative Frequency","Variability",null,"Frequency",null,"Relative Frequency","Variability"]
[12,24,14,33,13,37,14,45,null,null,0,1111,null,1111,{"$f":"COUNTIF($L$7:$L$500,N7)","v":207},{"$f":"O7/$Q$4","v":0.99519230769230771},{"$f":"IF(P7=0,0,(P7*((LOG(P7))/LOG(2))))","v":-6.9193339079122521E-3},null,null,{"$f":"N7","v":1111},{"$f":"COUNTIF(L7:L41,T7)","v":34},{"$f":"U7/(W4-U20)","v":0.97142857142857142},{"$f":"IF(V7=0,0,(V7*((LOG(V7))/LOG(2))))","v":-4.0625313531923425E-2},null,{"$f":"N7","v":1111},{"$f":"COUNTIF(L42:L75,Y7)","v":34},{"$f":"Z7/(AB4-Z20)","v":1},{"$f":"IF(AA7=0,0,(AA7*((LOG(AA7))/LOG(2))))","v":0},null,{"$f":"N7","v":1111},{"$f":"COUNTIF(L76:L110,AD7)","v":35},{"$f":"AE7/(AG4-AE20)","v":1},{"$f":"IF(AF7=0,0,(AF7*((LOG(AF7))/LOG(2))))","v":0},null,{"$f":"N7","v":1111},{"$f":"COUNTIF(L111:L145,AI7)","v":35},{"$f":"AJ7/(AL4-AJ20)","v":1},{"$f":"IF(AK7=0,0,(AK7*((LOG(AK7))/LOG(2))))","v":0},null,{"$f":"N7","v":1111},{"$f":"COUNTIF(L146:L179,AN7)","v":34},{"$f":"AO7/(AQ4-AO20)","v":1},{"$f":"IF(AP7=0,0,(AP7*((LOG(AP7))/LOG(2))))","v":0},null,{"$f":"N7","v":1111},{"$f":"COUNTIF(L180:L214,AS7)","v":35},{"$f":"AT7/(AV4-AT20)","v":1},{"$f":"IF(AU7=0,0,(AU7*((LOG(AU7))/LOG(2))))","v":0}]
[12,163,14,175,13,180,14,187,null,null,0,1111,null,1112,{"$f":"COUNTIF($L$7:$L$500,N8)","v":0},{"$f":"O8/$Q$4","v":0},{"$f":"IF(P8=0,0,(P8*((LOG(P8))/LOG(2))))","v":0},null,null,{"$f":"N8","v":1112},{"$f":"COUNTIF(L7:L41,T8)","v":0},{"$f":"U8/(W4-U20)","v":0},{"$f":"IF(V8=0,0,(V8*((LOG(V8))/LOG(2))))","v":0},null,{"$f":"N8","v":1112},{"$f":"COUNTIF(L42:L75,Y8)","v":0},{"$f":"Z8/(AB4-Z20)","v":0},{"$f":"IF(AA8=0,0,(AA8*((LOG(AA8))/LOG(2))))","v":0},null,{"$f":"N8","v":1112},{"$f":"COUNTIF(L76:L110,AD8)","v":0},{"$f":"AE8/(AG4-AE20)","v":0},{"$f":"IF(AF8=0,0,(AF8*((LOG(AF8))/LOG(2))))","v":0},null,{"$f":"N8","v":1112},{"$f":"COUNTIF(L111:L145,AI8)","v":0},{"$f":"AJ8/(AL4-AJ20)","v":0},{"$f":"IF(AK8=0,0,(AK8*((LOG(AK8))/LOG(2))))","v":0},null,{"$f":"N8","v":1112},{"$f":"COUNTIF(L146:L179,AN8)","v":0},{"$f":"AO8/(AQ4-AO20)","v":0},{"$f":"IF(AP8=0,0,(AP8*((LOG(AP8))/LOG(2))))","v":0},null,{"$f":"N8","v":1112},{"$f":"COUNTIF(L180:L214,AS8)","v":0},{"$f":"AT8/(AV4-AT20)","v":0},{"$f":"IF(AU8=0,0,(AU8*((LOG(AU8))/LOG(2))))","v":0}]
[12,296,14,300,13,307,14,311,null,null,0,1111,null,1121,{"$f":"COUNTIF($L$7:$L$500,N9)","v":1},{"$f":"O9/$Q$4","v":4.807692307692308E-3},{"$f":"IF(P9=0,0,(P9*((LOG(P9))/LOG(2))))","v":-3.7021344798755254E-2},null,null,{"$f":"N9","v":1121},{"$f":"COUNTIF(L7:L41,T9)","v":1},{"$f":"U9/(W4-U20)","v":2.8571428571428571E-2},{"$f":"IF(V9=0,0,(V9*((LOG(V9))/LOG(2))))","v":-0.14655094334128474},null,{"$f":"N9","v":1121},{"$f":"COUNTIF(L42:L75,Y9)","v":0},{"$f":"Z9/(AB4-Z20)","v":0},{"$f":"IF(AA9=0,0,(AA9*((LOG(AA9))/LOG(2))))","v":0},null,{"$f":"N9","v":1121},{"$f":"COUNTIF(L76:L110,AD9)","v":0},{"$f":"AE9/(AG4-AE20)","v":0},{"$f":"IF(AF9=0,0,(AF9*((LOG(AF9))/LOG(2))))","v":0},null,{"$f":"N9","v":1121},{"$f":"COUNTIF(L111:L145,AI9)","v":0},{"$f":"AJ9/(AL4-AJ20)","v":0},{"$f":"IF(AK9=0,0,(AK9*((LOG(AK9))/LOG(2))))","v":0},null,{"$f":"N9","v":1121},{"$f":"COUNTIF(L146:L179,AN9)","v":0},{"$f":"AO9/(AQ4-AO20)","v":0},{"$f":"IF(AP9=0,0,(AP9*((LOG(AP9))/LOG(2))))","v":0},null,{"$f":"N9","v":1121},{"$f":"COUNTIF(L180:L214,AS9)","v":0},{"$f":"AT9/(AV4-AT20)","v":0},{"$f":"IF(AU9=0,0,(AU9*((LOG(AU9))/LOG(2))))","v":0}]
[12,410,14,414,13,418,14,422,null,null,0,1111,null,1122,{"$f":"COUNTIF($L$7:$L$500,N10)","v":0},{"$f":"O10/$Q$4","v":0},{"$f":"IF(P10=0,0,(P10*((LOG(P10))/LOG(2))))","v":0},null,null,{"$f":"N10","v":1122},{"$f":"COUNTIF(L7:L41,T10)","v":0},{"$f":"U10/(W4-U20)","v":0},{"$f":"IF(V10=0,0,(V10*((LOG(V10))/LOG(2))))","v":0},null,{"$f":"N10","v":1122},{"$f":"COUNTIF(L42:L75,Y10)","v":0},{"$f":"Z10/(AB4-Z20)","v":0},{"$f":"IF(AA10=0,0,(AA10*((LOG(AA10))/LOG(2))))","v":0},null,{"$f":"N10","v":1122},{"$f":"COUNTIF(L76:L110,AD10)","v":0},{"$f":"AE10/(AG4-AE20)","v":0},{"$f":"IF(AF10=0,0,(AF10*((LOG(AF10))/LOG(2))))","v":0},null,{"$f":"N10","v":1122},{"$f":"COUNTIF(L111:L145,AI10)","v":0},{"$f":"AJ10/(AL4-AJ20)","v":0},{"$f":"IF(AK10=0,0,(AK10*((LOG(AK10))/LOG(2))))","v":0},null,{"$f":"N10","v":1122},{"$f":"COUNTIF(L146:L179,AN10)","v":0},{"$f":"AO10/(AQ4-AO20)","v":0},{"$f":"IF(AP10=0,0,(AP10*((LOG(AP10))/LOG(2))))","v":0},null,{"$f":"N10","v":1122},{"$f":"COUNTIF(L180:L214,AS10)","v":0},{"$f":"AT10/(AV4-AT20)","v":0},{"$f":"IF(AU10=0,0,(AU10*((LOG(AU10))/LOG(2))))","v":0}]
[12,525,14,528,13,533,14,537,null,null,0,1111,null,1211,{"$f":"COUNTIF($L$7:$L$500,N11)","v":0},{"$f":"O11/$Q$4","v":0},{"$f":"IF(P11=0,0,(P11*((LOG(P11))/LOG(2))))","v":0},null,null,{"$f":"N11","v":1211},{"$f":"COUNTIF(L7:L41,T11)","v":0},{"$f":"U11/(W4-U20)","v":0},{"$f":"IF(V11=0,0,(V11*((LOG(V11))/LOG(2))))","v":0},null,{"$f":"N11","v":1211},{"$f":"COUNTIF(L42:L75,Y11)","v":0},{"$f":"Z11/(AB4-Z20)","v":0},{"$f":"IF(AA11=0,0,(AA11*((LOG(AA11))/LOG(2))))","v":0},null,{"$f":"N11","v":1211},{"$f":"COUNTIF(L76:L110,AD11)","v":0},{"$f":"AE11/(AG4-AE20)","v":0},{"$f":"IF(AF11=0,0,(AF11*((LOG(AF11))/LOG(2))))","v":0},null,{"$f":"N11","v":1211},{"$f":"COUNTIF(L111:L145,AI11)","v":0},{"$f":"AJ11/(AL4-AJ20)","v":0},{"$f":"IF(AK11=0,0,(AK11*((LOG(AK11))/LOG(2))))","v":0},null,{"$f":"N11","v":1211},{"$f":"COUNTIF(L146:L179,AN11)","v":0},{"$f":"AO11/(AQ4-AO20)","v":0},{"$f":"IF(AP11=0,0,(AP11*((LOG(AP11))/LOG(2))))","v":0},null,{"$f":"N11","v":1211},{"$f":"COUNTIF(L180:L214,AS11)","v":0},{"$f":"AT11/(AV4-AT20)","v":0},{"$f":"IF(AU11=0,0,(AU11*((LOG(AU11))/LOG(2))))","v":0}]
[12,638,14,643,13,647,14,651,null,null,0,1111,null,1212,{"$f":"COUNTIF($L$7:$L$500,N12)","v":0},{"$f":"O12/$Q$4","v":0},{"$f":"IF(P12=0,0,(P12*((LOG(P12))/LOG(2))))","v":0},null,null,{"$f":"N12","v":1212},{"$f":"COUNTIF(L7:L41,T12)","v":0},{"$f":"U12/(W4-U20)","v":0},{"$f":"IF(V12=0,0,(V12*((LOG(V12))/LOG(2))))","v":0},null,{"$f":"N12","v":1212},{"$f":"COUNTIF(L42:L75,Y12)","v":0},{"$f":"Z12/(AB4-Z20)","v":0},{"$f":"IF(AA12=0,0,(AA12*((LOG(AA12))/LOG(2))))","v":0},null,{"$f":"N12","v":1212},{"$f":"COUNTIF(L76:L110,AD12)","v":0},{"$f":"AE12/(AG4-AE20)","v":0},{"$f":"IF(AF12=0,0,(AF12*((LOG(AF12))/LOG(2))))","v":0},null,{"$f":"N12","v":1212},{"$f":"COUNTIF(L111:L145,AI12)","v":0},{"$f":"AJ12/(AL4-AJ20)","v":0},{"$f":"IF(AK12=0,0,(AK12*((LOG(AK12))/LOG(2))))","v":0},null,{"$f":"N12","v":1212},{"$f":"COUNTIF(L146:L179,AN12)","v":0},{"$f":"AO12/(AQ4-AO20)","v":0},{"$f":"IF(AP12=0,0,(AP12*((LOG(AP12))/LOG(2))))","v":0},null,{"$f":"N12","v":1212},{"$f":"COUNTIF(L180:L214,AS12)","v":0},{"$f":"AT12/(AV4-AT20)","v":0},{"$f":"IF(AU12=0,0,(AU12*((LOG(AU12))/LOG(2))))","v":0}]
[12,755,14,760,13,772,14,779,null,null,0,1111,null,1221,{"$f":"COUNTIF($L$7:$L$500,N13)","v":0},{"$f":"O13/$Q$4","v":0},{"$f":"IF(P13=0,0,(P13*((LOG(P13))/LOG(2))))","v":0},null,null,{"$f":"N13","v":1221},{"$f":"COUNTIF(L7:L41,T13)","v":0},{"$f":"U13/(W4-U20)","v":0},{"$f":"IF(V13=0,0,(V13*((LOG(V13))/LOG(2))))","v":0},null,{"$f":"N13","v":1221},{"$f":"COUNTIF(L42:L75,Y13)","v":0},{"$f":"Z13/(AB4-Z20)","v":0},{"$f":"IF(AA13=0,0,(AA13*((LOG(AA13))/LOG(2))))","v":0},null,{"$f":"N13","v":1221},{"$f":"COUNTIF(L76:L110,AD13)","v":0},{"$f":"AE13/(AG4-AE20)","v":0},{"$f":"IF(AF13=0,0,(AF13*((LOG(AF13))/LOG(2))))","v":0},null,{"$f":"N13","v":1221},{"$f":"COUNTIF(L111:L145,AI13)","v":0},{"$f":"AJ13/(AL4-AJ20)","v":0},{"$f":"IF(AK13=0,0,(AK13*((LOG(AK13))/LOG(2))))","v":0},null,{"$f":"N13","v":1221},{"$f":"COUNTIF(L146:L179,AN13)","v":0},{"$f":"AO13/(AQ4-AO20)","v":0},{"$f":"IF(AP13=0,0,(AP13*((LOG(AP13))/LOG(2))))","v":0},null,{"$f":"N13","v":1221},{"$f":"COUNTIF(L180:L214,AS13)","v":0},{"$f":"AT13/(AV4-AT20)","v":0},{"$f":"IF(AU13=0,0,(AU13*((LOG(AU13))/LOG(2))))","v":0}]
[12,885,14,893,13,897,14,902,null,null,0,1111,null,1222,{"$f":"COUNTIF($L$7:$L$500,N14)","v":0},{"$f":"O14/$Q$4","v":0},{"$f":"IF(P14=0,0,(P14*((LOG(P14))/LOG(2))))","v":0},null,null,{"$f":"N14","v":1222},{"$f":"COUNTIF(L7:L41,T14)","v":0},{"$f":"U14/(W4-U20)","v":0},{"$f":"IF(V14=0,0,(V14*((LOG(V14))/LOG(2))))","v":0},null,{"$f":"N14","v":1222},{"$f":"COUNTIF(L42:L75,Y14)","v":0},{"$f":"Z14/(AB4-Z20)","v":0},{"$f":"IF(AA14=0,0,(AA14*((LOG(AA14))/LOG(2))))","v":0},null,{"$f":"N14","v":1222},{"$f":"COUNTIF(L76:L110,AD14)","v":0},{"$f":"AE14/(AG4-AE20)","v":0},{"$f":"IF(AF14=0,0,(AF14*((LOG(AF14))/LOG(2))))","v":0},null,{"$f":"N14","v":1222},{"$f":"COUNTIF(L111:L145,AI14)","v":0},{"$f":"AJ14/(AL4-AJ20)","v":0},{"$f":"IF(AK14=0,0,(AK14*((LOG(AK14))/LOG(2))))","v":0},null,{"$f":"N14","v":1222},{"$f":"COUNTIF(L146:L179,AN14)","v":0},{"$f":"AO14/(AQ4-AO20)","v":0},{"$f":"IF(AP14=0,0,(AP14*((LOG(AP14))/LOG(2))))","v":0},null,{"$f":"N14","v":1222},{"$f":"COUNTIF(L180:L214,AS14)","v":0},{"$f":"AT14/(AV4-AT20)","v":0},{"$f":"IF(AU14=0,0,(AU14*((LOG(AU14))/LOG(2))))","v":0}]
[12,1014,14,1022,13,1026,14,1031,null,null,0,1111,null,2111,{"$f":"COUNTIF($L$7:$L$500,N15)","v":0},{"$f":"O15/$Q$4","v":0},{"$f":"IF(P15=0,0,(P15*((LOG(P15))/LOG(2))))","v":0},null,null,{"$f":"N15","v":2111},{"$f":"COUNTIF(L7:L41,T15)","v":0},{"$f":"U15/(W4-U20)","v":0},{"$f":"IF(V15=0,0,(V15*((LOG(V15))/LOG(2))))","v":0},null,{"$f":"N15","v":2111},{"$f":"COUNTIF(L42:L75,Y15)","v":0},{"$f":"Z15/(AB4-Z20)","v":0},{"$f":"IF(AA15=0,0,(AA15*((LOG(AA15))/LOG(2))))","v":0},null,{"$f":"N15","v":2111},{"$f":"COUNTIF(L76:L110,AD15)","v":0},{"$f":"AE15/(AG4-AE20)","v":0},{"$f":"IF(AF15=0,0,(AF15*((LOG(AF15))/LOG(2))))","v":0},null,{"$f":"N15","v":2111},{"$f":"COUNTIF(L111:L145,AI15)","v":0},{"$f":"AJ15/(AL4-AJ20)","v":0},{"$f":"IF(AK15=0,0,(AK15*((LOG(AK15))/LOG(2))))","v":0},null,{"$f":"N15","v":2111},{"$f":"COUNTIF(L146:L179,AN15)","v":0},{"$f":"AO15/(AQ4-AO20)","v":0},{"$f":"IF(AP15=0,0,(AP15*((LOG(AP15))/LOG(2))))","v":0},null,{"$f":"N15","v":2111},{"$f":"COUNTIF(L180:L214,AS15)","v":0},{"$f":"AT15/(AV4-AT20)","v":0},{"$f":"IF(AU15=0,0,(AU15*((LOG(AU15))/LOG(2))))","v":0}]
[12,1141,14,1155,13,1160,14,1166,null,null,0,1111,null,2112,{"$f":"COUNTIF($L$7:$L$500,N16)","v":0},{"$f":"O16/$Q$4","v":0},{"$f":"IF(P16=0,0,(P16*((LOG(P16))/LOG(2))))","v":0},null,null,{"$f":"N16","v":2112},{"$f":"COUNTIF(L7:L41,T16)","v":0},{"$f":"U16/(W4-U20)","v":0},{"$f":"IF(V16=0,0,(V16*((LOG(V16))/LOG(2))))","v":0},null,{"$f":"N16","v":2112},{"$f":"COUNTIF(L42:L75,Y16)","v":0},{"$f":"Z16/(AB4-Z20)","v":0},{"$f":"IF(AA16=0,0,(AA16*((LOG(AA16))/LOG(2))))","v":0},null,{"$f":"N16","v":2112},{"$f":"COUNTIF(L76:L110,AD16)","v":0},{"$f":"AE16/(AG4-AE20)","v":0},{"$f":"IF(AF16=0,0,(AF16*((LOG(AF16))/LOG(2))))","v":0},null,{"$f":"N16","v":2112},{"$f":"COUNTIF(L111:L145,AI16)","v":0},{"$f":"AJ16/(AL4-AJ20)","v":0},{"$f":"IF(AK16=0,0,(AK16*((LOG(AK16))/LOG(2))))","v":0},null,{"$f":"N16","v":2112},{"$f":"COUNTIF(L146:L179,AN16)","v":0},{"$f":"AO16/(AQ4-AO20)","v":0},{"$f":"IF(AP16=0,0,(AP16*((LOG(AP16))/LOG(2))))","v":0},null,{"$f":"N16","v":2112},{"$f":"COUNTIF(L180:L214,AS16)","v":0},{"$f":"AT16/(AV4-AT20)","v":0},{"$f":"IF(AU16=0,0,(AU16*((LOG(AU16))/LOG(2))))","v":0}]
[12,1272,14,1277,13,1281,14,1285,null,null,0,1111,null,2121,{"$f":"COUNTIF($L$7:$L$500,N17)","v":0},{"$f":"O17/$Q$4","v":0},{"$f":"IF(P17=0,0,(P17*((LOG(P17))/LOG(2))))","v":0},null,null,{"$f":"N17","v":2121},{"$f":"COUNTIF(L7:L41,T17)","v":0},{"$f":"U17/(W4-U20)","v":0},{"$f":"IF(V17=0,0,(V17*((LOG(V17))/LOG(2))))","v":0},null,{"$f":"N17","v":2121},{"$f":"COUNTIF(L42:L75,Y17)","v":0},{"$f":"Z17/(AB4-Z20)","v":0},{"$f":"IF(AA17=0,0,(AA17*((LOG(AA17))/LOG(2))))","v":0},null,{"$f":"N17","v":2121},{"$f":"COUNTIF(L76:L110,AD17)","v":0},{"$f":"AE17/(AG4-AE20)","v":0},{"$f":"IF(AF17=0,0,(AF17*((LOG(AF17))/LOG(2))))","v":0},null,{"$f":"N17","v":2121},{"$f":"COUNTIF(L111:L145,AI17)","v":0},{"$f":"AJ17/(AL4-AJ20)","v":0},{"$f":"IF(AK17=0,0,(AK17*((LOG(AK17))/LOG(2))))","v":0},null,{"$f":"N17","v":2121},{"$f":"COUNTIF(L146:L179,AN17)","v":0},{"$f":"AO17/(AQ4-AO20)","v":0},{"$f":"IF(AP17=0,0,(AP17*((LOG(AP17))/LOG(2))))","v":0},null,{"$f":"N17","v":2121},{"$f":"COUNTIF(L180:L214,AS17)","v":0},{"$f":"AT17/(AV4-AT20)","v":0},{"$f":"IF(AU17=0,0,(AU17*((LOG(AU17))/LOG(2))))","v":0}]
[12,1393,14,1400,13,1405,14,1410,null,null,0,1111,null,2122,{"$f":"COUNTIF($L$7:$L$500,N18)","v":0},{"$f":"O18/$Q$4","v":0},{"$f":"IF(P18=0,0,(P18*((LOG(P18))/LOG(2))))","v":0},null,null,{"$f":"N18","v":2122},{"$f":"COUNTIF(L7:L41,T18)","v":0},{"$f":"U18/(W4-U20)","v":0},{"$f":"IF(V18=0,0,(V18*((LOG(V18))/LOG(2))))","v":0},null,{"$f":"N18","v":2122},{"$f":"COUNTIF(L42:L75,Y18)","v":0},{"$f":"Z18/(AB4-Z20)","v":0},{"$f":"IF(AA18=0,0,(AA18*((LOG(AA18))/LOG(2))))","v":0},null,{"$f":"N18","v":2122},{"$f":"COUNTIF(L76:L110,AD18)","v":0},{"$f":"AE18/(AG4-AE20)","v":0},{"$f":"IF(AF18=0,0,(AF18*((LOG(AF18))/LOG(2))))","v":0},null,{"$f":"N18","v":2122},{"$f":"COUNTIF(L111:L145,AI18)","v":0},{"$f":"AJ18/(AL4-AJ20)","v":0},{"$f":"IF(AK18=0,0,(AK18*((LOG(AK18))/LOG(2))))","v":0},null,{"$f":"N18","v":2122},{"$f":"COUNTIF(L146:L179,AN18)","v":0},{"$f":"AO18/(AQ4-AO20)","v":0},{"$f":"IF(AP18=0,0,(AP18*((LOG(AP18))/LOG(2))))","v":0},null,{"$f":"N18","v":2122},{"$f":"COUNTIF(L180:L214,AS18)","v":0},{"$f":"AT18/(AV4-AT20)","v":0},{"$f":"IF(AU18=0,0,(AU18*((LOG(AU18))/LOG(2))))","v":0}]
[12,1528,14,1539,13,1544,14,1551,null,null,0,1111,null,2211,{"$f":"COUNTIF($L$7:$L$500,N19)","v":0},{"$f":"O19/$Q$4","v":0},{"$f":"IF(P19=0,0,(P19*((LOG(P19))/LOG(2))))","v":0},null,null,{"$f":"N19","v":2211},{"$f":"COUNTIF(L7:L41,T19)","v":0},{"$f":"U19/(W4-U20)","v":0},{"$f":"IF(V19=0,0,(V19*((LOG(V19))/LOG(2))))","v":0},null,{"$f":"N19","v":2211},{"$f":"COUNTIF(L42:L75,Y19)","v":0},{"$f":"Z19/(AB4-Z20)","v":0},{"$f":"IF(AA19=0,0,(AA19*((LOG(AA19))/LOG(2))))","v":0},null,{"$f":"N19","v":2211},{"$f":"COUNTIF(L76:L110,AD19)","v":0},{"$f":"AE19/(AG4-AE20)","v":0},{"$f":"IF(AF19=0,0,(AF19*((LOG(AF19))/LOG(2))))","v":0},null,{"$f":"N19","v":2211},{"$f":"COUNTIF(L111:L145,AI19)","v":0},{"$f":"AJ19/(AL4-AJ20)","v":0},{"$f":"IF(AK19=0,0,(AK19*((LOG(AK19))/LOG(2))))","v":0},null,{"$f":"N19","v":2211},{"$f":"COUNTIF(L146:L179,AN19)","v":0},{"$f":"AO19/(AQ4-AO20)","v":0},{"$f":"IF(AP19=0,0,(AP19*((LOG(AP19))/LOG(2))))","v":0},null,{"$f":"N19","v":2211},{"$f":"COUNTIF(L180:L214,AS19)","v":0},{"$f":"AT19/(AV4-AT20)","v":0},{"$f":"IF(AU19=0,0,(AU19*((LOG(AU19))/LOG(2))))","v":0}]
[12,1660,14,1663,13,1667,14,1673,null,null,0,1111,null,2212,{"$f":"COUNTIF($L$7:$L$500,N20)","v":0},{"$f":"O20/$Q$4","v":0},{"$f":"IF(P20=0,0,(P20*((LOG(P20))/LOG(2))))","v":0},null,null,{"$f":"N20","v":2212},{"$f":"COUNTIF(L7:L41,T20)","v":0},null,null,null,{"$f":"N20","v":2212},{"$f":"COUNTIF(L42:L75,Y20)","v":0},null,null,null,{"$f":"N20","v":2212},{"$f":"COUNTIF(L76:L110,AD20)","v":0},null,null,null,{"$f":"N20","v":2212},{"$f":"COUNTIF(L111:L145,AI20)","v":0},null,null,null,{"$f":"N20","v":2212},{"$f":"COUNTIF(L146:L179,AN20)","v":0},null,null,null,{"$f":"N20","v":2212},{"$f":"COUNTIF(L180:L214,AS20)","v":0}]
[12,1771,14,1776,13,1780,14,1784,null,null,0,1111,null,2221,{"$f":"COUNTIF($L$7:$L$500,N21)","v":0},{"$f":"O21/$Q$4","v":0},{"$f":"IF(P21=0,0,(P21*((LOG(P21))/LOG(2))))","v":0},null,null,{"$f":"N21","v":2221},{"$f":"COUNTIF(L7:L41,T21)","v":0},{"$f":"U21/(W4-U20)","v":0},{"$f":"IF(V21=0,0,(V21*((LOG(V21))/LOG(2))))","v":0},null,{"$f":"N21","v":2221},{"$f":"COUNTIF(L42:L75,Y21)","v":0},{"$f":"Z21/(AB4-Z20)","v":0},{"$f":"IF(AA21=0,0,(AA21*((LOG(AA21))/LOG(2))))","v":0},null,{"$f":"N21","v":2221},{"$f":"COUNTIF(L76:L110,AD21)","v":0},{"$f":"AE21/(AG4-AE20)","v":0},{"$f":"IF(AF21=0,0,(AF21*((LOG(AF21))/LOG(2))))","v":0},null,{"$f":"N21","v":2221},{"$f":"COUNTIF(L111:L145,AI21)","v":0},{"$f":"AJ21/(AL4-AJ20)","v":0},{"$f":"IF(AK21=0,0,(AK21*((LOG(AK21))/LOG(2))))","v":0},null,{"$f":"N21","v":2221},{"$f":"COUNTIF(L146:L179,AN21)","v":0},{"$f":"AO21/(AQ4-AO20)","v":0},{"$f":"IF(AP21=0,0,(AP21*((LOG(AP21))/LOG(2))))","v":0},null,{"$f":"N21","v":2221},{"$f":"COUNTIF(L180:L214,AS21)","v":0},{"$f":"AT21/(AV4-AT20)","v":0},{"$f":"IF(AU21=0,0,(AU21*((LOG(AU21))/LOG(2))))","v":0}]
[12,1896,14,1899,13,1903,14,1907,null,null,0,1111,null,2222,{"$f":"COUNTIF($L$7:$L$500,N22)","v":0},{"$f":"O22/$Q$4","v":0},{"$f":"IF(P22=0,0,(P22*((LOG(P22))/LOG(2))))","v":0},null,null,{"$f":"N22","v":2222},{"$f":"COUNTIF(L7:L41,T22)","v":0},{"$f":"U22/(W4-U20)","v":0},{"$f":"IF(V22=0,0,(V22*((LOG(V22))/LOG(2))))","v":0},null,{"$f":"N22","v":2222},{"$f":"COUNTIF(L42:L75,Y22)","v":0},{"$f":"Z22/(AB4-Z20)","v":0},{"$f":"IF(AA22=0,0,(AA22*((LOG(AA22))/LOG(2))))","v":0},null,{"$f":"N22","v":2222},{"$f":"COUNTIF(L76:L110,AD22)","v":0},{"$f":"AE22/(AG4-AE20)","v":0},{"$f":"IF(AF22=0,0,(AF22*((LOG(AF22))/LOG(2))))","v":0},null,{"$f":"N22","v":2222},{"$f":"COUNTIF(L111:L145,AI22)","v":0},{"$f":"AJ22/(AL4-AJ20)","v":0},{"$f":"IF(AK22=0,0,(AK22*((LOG(AK22))/LOG(2))))","v":0},null,{"$f":"N22","v":2222},{"$f":"COUNTIF(L146:L179,AN22)","v":0},{"$f":"AO22/(AQ4-AO20)","v":0},{"$f":"IF(AP22=0,0,(AP22*((LOG(AP22))/LOG(2))))","v":0},null,{"$f":"N22","v":2222},{"$f":"COUNTIF(L180:L214,AS22)","v":0},{"$f":"AT22/(AV4-AT20)","v":0},{"$f":"IF(AU22=0,0,(AU22*((LOG(AU22))/LOG(2))))","v":0}]
[12,2009,14,2014,13,2018,14,2022,null,null,0,1111,null,null,null,{"$f":"SUM(P7:P22)","v":1},{"$f":"-SUM(Q7:Q22)","v":4.3940678706667506E-2},null,null,null,null,{"$f":"SUM(V7:V22)","v":1},{"$f":"-SUM(W7:W22)","v":0.18717625687320816},null,null,null,{"$f":"SUM(AA7:AA22)","v":1},{"$f":"-SUM(AB7:AB22)","v":0},null,null,null,{"$f":"SUM(AF7:AF22)","v":1},{"$f":"-SUM(AG7:AG22)","v":0},null,null,null,{"$f":"SUM(AK7:AK22)","v":1},{"$f":"-SUM(AL7:AL22)","v":0},null,null,null,{"$f":"SUM(AP7:AP22)","v":1},{"$f":"-SUM(AQ7:AQ22)","v":0},null,null,null,{"$f":"SUM(AU7:AU22)","v":1},{"$f":"-SUM(AV7:AV22)","v":0}]
[12,2133,14,2137,13,2141,14,2146,null,null,0,1111,null,null,null,"U=",{"$f":"Q23/(LOG(Q4)/LOG(2))","v":5.7062557873350786E-3},null,null,null,null,"U1=",{"$f":"W23/(LOG(W4)/LOG(2))","v":3.6491699961740759E-2},null,null,null,"U2=",{"$f":"AB23/(LOG(AB4)/LOG(2))","v":0},null,null,null,"U3=",{"$f":"AG23/(LOG(AG4)/LOG(2))","v":0},null,null,null,"U4=",{"$f":"AL23/(LOG(AL4)/LOG(2))","v":0},null,null,null,"U5=",{"$f":"AQ23/(LOG(AQ4)/LOG(2))","v":0},null,null,null,"U6=",{"$f":"AV23/(LOG(AV4)/LOG(2))","v":0}]
[12,2249,14,2253,13,2257,14,2262,null,null,0,1111]
[12,2377,14,2381,13,2385,14,2393,null,null,0,1111]
[12,2501,14,2506,13,2510,14,2513,null,null,0,1111,null,"Total Target Seq"]
[12,2628,14,2633,13,2637,14,2645,null,null,0,1111,null,{"$f":"COUNTIF(L7:L214,G3)","v":0},null,35,34,35,35,34,35]
[12,2743,14,2747,13,2751,14,2759,null,null,0,1111,null,null,null,"% of reinforcement given in 6 equal intervals based on number of trials "]
[12,2865,14,2876,13,2884,14,2893,null,null,0,1111,null,null,null,"%_1","%_2","%_3","%_4","%_5","%_6"]
[12,3004,14,3009,13,3013,14,3018,null,null,0,1111,null,null,"target sequence",{"$f":"$G$3","v":2212},{"$f":"$G$3","v":2212},{"$f":"$G$3","v":2212},{"$f":"$G$3","v":2212},{"$f":"$G$3","v":2212},{"$f":"$G$3","v":2212}]
[12,3125,14,3129,13,3134,14,3141,null,null,0,1111,null,null,"total reinforcement",{"$f":"U20","v":0},{"$f":"Z20","v":0},{"$f":"AE20","v":0},{"$f":"AJ20","v":0},{"$f":"AO20","v":0},{"$f":"AT20","v":0}]
[12,3252,14,3256,13,3260,14,3264,null,null,0,1111,null,null,"% target"]
[12,3370,14,3374,13,3378,14,3382,null,null,0,1111,null,null,"CCRF"]
[12,3487,14,3499,13,3503,14,3510,null,null,0,1111,null,null,"% CCRf"]
[12,3612,14,3617,24,3636,14,3650,null,null,0,1121,null,null,"average response rate",{"$f":"H41/P28","v":121.77142857142857},{"$f":"(H75-H41)/Q28","v":114.52941176470588},{"$f":"(H110-H75)/R28","v":115.28571428571429},{"$f":"(H145-H110)/S28","v":113.48571428571428},{"$f":"(H179-H145)/T28","v":114.29411764705883},{"$f":"(H214-H179)/U28","v":112.37142857142857}]
[12,3750,14,3755,13,3762,14,3766,null,null,0,1111]
[12,3873,14,3876,13,3880,14,3889,null,null,0,1111]
[12,4002,14,4006,13,4010,14,4017,null,null,0,1111]
[12,4123,14,4128,13,4133,14,4142,null,null,0,1111]
[12,4242,14,4250,13,4254,14,4262,null,null,0,1111]
[12,4361,14,4366,13,4371,14,4379,null,null,0,1111]
[12,4481,14,4485,13,4488,14,4493,null,null,0,1111]
[12,4589,14,4593,13,4597,14,4601,null,null,0,1111]
[12,4697,14,4702,13,4707,14,4711,null,null,0,1111]
[12,4811,14,4816,13,4821,14,4829,null,null,0,1111]
[12,4927,14,4933,13,4936,14,4943,null,null,0,1111]
[12,5040,14,5044,13,5048,14,5052,null,null,0,1111]
[12,5159,14,5165,13,5171,14,5178,null,null,0,1111]
[12,5282,14,5286,13,5289,14,5294,null,null,0,1111]
[12,5398,14,5404,13,5407,14,5413,null,null,0,1111]
[12,5522,14,5526,13,5531,14,5550,null,null,0,1111]
[12,5653,14,5657,13,5661,14,5667,null,null,0,1111]
[12,5763,14,5768,13,5771,14,5776,null,null,0,1111]
[12,5876,14,5880,13,5884,14,5890,null,null,0,1111]
[12,6001,14,6005,13,6009,14,6016,null,null,0,1111]
[12,6120,14,6124,13,6128,14,6132,null,null,0,1111]
[12,6232,14,6237,13,6241,14,6248,null,null,0,1111]
[12,6344,14,6348,13,6352,14,6361,null,null,0,1111]
[12,6460,14,6465,13,6470,14,6473,null,null,0,1111]
[12,6568,14,6573,13,6576,14,6580,null,null,0,1111]
[12,6687,14,6691,13,6695,14,6702,null,null,0,1111]
[12,6805,14,6810,13,6813,14,6818,null,null,0,1111]
[12,6909,14,6915,13,6919,14,6923,null,null,0,1111]
[12,7025,14,7029,13,7034,14,7041,null,null,0,1111]
[12,7136,14,7140,13,7143,14,7147,null,null,0,1111]
[12,7246,14,7251,13,7255,14,7262,null,null,0,1111]
[12,7359,14,7364,13,7368,14,7372,null,null,0,1111]
[12,7464,14,7469,13,7473,14,7481,null,null,0,1111]
[12,7576,14,7581,13,7584,14,7588,null,null,0,1111]
[12,7690,14,7695,13,7698,14,7706,null,null,0,1111]
[12,7802,14,7807,13,7811,14,7815,null,null,0,1111]
[12,7911,14,7916,13,7920,14,7924,null,null,0,1111]
[12,8026,14,8030,13,8034,14,8041,null,null,0,1111]
[12,8138,14,8143,13,8147,14,8156,null,null,0,1111]
[12,8257,14,8261,13,8266,14,8271,null,null,0,1111]
[12,8366,14,8371,13,8374,14,8378,null,null,0,1111]
[12,8473,14,8477,13,8483,14,8487,null,null,0,1111]
[12,8583,14,8591,13,8595,14,8606,null,null,0,1111]
[12,8703,14,8712,13,8716,14,8720,null,null,0,1111]
[12,8817,14,8821,13,8825,14,8829,null,null,0,1111]
[12,8924,14,8928,13,8931,14,8935,null,null,0,1111]
[12,9029,14,9033,13,9036,14,9041,null,null,0,1111]
[12,9143,14,9147,13,9151,14,9154,null,null,0,1111]
[12,9249,14,9253,13,9257,14,9260,null,null,0,1111]
[12,9357,14,9361,13,9365,14,9369,null,null,0,1111]
[12,9464,14,9469,13,9473,14,9477,null,null,0,1111]
[12,9572,14,9577,13,9580,14,9584,null,null,0,1111]
[12,9679,14,9685,13,9694,14,9702,null,null,0,1111]
[12,9810,14,9814,13,9817,14,9821,null,null,0,1111]
[12,9916,14,9920,13,9925,14,9931,null,null,0,1111]
[12,10032,14,10036,13,10040,14,10049,null,null,0,1111]
[12,10166,14,10171,13,10178,14,10192,null,null,0,1111]
[12,10291,14,10298,13,10303,14,10310,null,null,0,1111]
[12,10408,14,10413,13,10416,14,10420,null,null,0,1111]
[12,10523,14,10535,13,10540,14,10548,null,null,0,1111]
[12,10643,14,10647,13,10651,14,10660,null,null,0,1111]
[12,10755,14,10760,13,10764,14,10768,null,null,0,1111]
[12,10863,14,10868,13,10871,14,10878,null,null,0,1111]
[12,10974,14,10978,13,10987,14,10994,null,null,0,1111]
[12,11093,14,11097,13,11100,14,11107,null,null,0,1111]
[12,11203,14,11206,13,11210,14,11214,null,null,0,1111]
[12,11311,14,11319,13,11323,14,11331,null,null,0,1111]
[12,11436,14,11442,13,11446,14,11453,null,null,0,1111]
[12,11550,14,11557,13,11573,14,11577,null,null,0,1111]
[12,11732,14,11737,13,11742,14,11749,null,null,0,1111]
[12,11851,14,11854,13,11861,14,11865,null,null,0,1111]
[12,11965,14,11969,13,11973,14,11976,null,null,0,1111]
[12,12072,14,12076,13,12080,14,12083,null,null,0,1111]
[12,12179,14,12184,13,12187,14,12191,null,null,0,1111]
[12,12289,14,12293,13,12297,14,12304,null,null,0,1111]
[12,12403,14,12414,13,12423,14,12431,null,null,0,1111]
[12,12527,14,12532,13,12535,14,12539,null,null,0,1111]
[12,12635,14,12639,13,12643,14,12652,null,null,0,1111]
[12,12748,14,12755,13,12760,14,12765,null,null,0,1111]
[12,12861,14,12866,13,12870,14,12874,null,null,0,1111]
[12,12972,14,12976,13,12980,14,12984,null,null,0,1111]
[12,13079,14,13083,13,13087,14,13090,null,null,0,1111]
[12,13185,14,13189,13,13193,14,13196,null,null,0,1111]
[12,13291,14,13296,13,13300,14,13306,null,null,0,1111]
[12,13403,14,13407,13,13411,14,13416,null,null,0,1111]
[12,13513,14,13518,13,13522,14,13526,null,null,0,1111]
[12,13621,14,13625,13,13629,14,13636,null,null,0,1111]
[12,13732,14,13736,13,13739,14,13743,null,null,0,1111]
[12,13842,14,13854,13,13858,14,13864,null,null,0,1111]
[12,13959,14,13963,13,13967,14,13971,null,null,0,1111]
[12,14066,14,14069,13,14074,14,14082,null,null,0,1111]
[12,14181,14,14185,13,14189,14,14194,null,null,0,1111]
[12,14287,14,14292,13,14306,14,14310,null,null,0,1111]
[12,14407,14,14410,13,14414,14,14421,null,null,0,1111]
[12,14516,14,14520,13,14524,14,14528,null,null,0,1111]
[12,14628,14,14632,13,14636,14,14644,null,null,0,1111]
[12,14741,14,14745,13,14749,14,14753,null,null,0,1111]
[12,14849,14,14854,13,14858,14,14861,null,null,0,1111]
[12,14991,14,15000,13,15008,14,15015,null,null,0,1111]
[12,15126,14,15135,13,15144,14,15151,null,null,0,1111]
[12,15246,14,15249,13,15253,14,15257,null,null,0,1111]
[12,15363,14,15367,13,15371,14,15375,null,null,0,1111]
[12,15478,14,15482,13,15486,14,15495,null,null,0,1111]
[12,15592,14,15596,13,15600,14,15604,null,null,0,1111]
[12,15700,14,15706,13,15711,14,15718,null,null,0,1111]
[12,15815,14,15820,13,15824,14,15829,null,null,0,1111]
[12,15925,14,15929,13,15932,14,15936,null,null,0,1111]
[12,16039,14,16043,13,16047,14,16051,null,null,0,1111]
[12,16147,14,16151,13,16155,14,16163,null,null,0,1111]
[12,16267,14,16271,13,16275,14,16281,null,null,0,1111]
[12,16378,14,16384,13,16387,14,16391,null,null,0,1111]
[12,16490,14,16494,13,16497,14,16502,null,null,0,1111]
[12,16603,14,16608,13,16611,14,16615,null,null,0,1111]
[12,16718,14,16726,13,16730,14,16737,null,null,0,1111]
[12,16835,14,16843,13,16848,14,16854,null,null,0,1111]
[12,16954,14,16958,13,16963,14,16966,null,null,0,1111]
[12,17085,14,17090,13,17098,14,17105,null,null,0,1111]
[12,17209,14,17213,13,17217,14,17221,null,null,0,1111]
[12,17320,14,17324,13,17328,14,17336,null,null,0,1111]
[12,17433,14,17438,13,17443,14,17447,null,null,0,1111]
[12,17549,14,17553,13,17559,14,17564,null,null,0,1111]
[12,17665,14,17668,13,17672,14,17677,null,null,0,1111]
[12,17774,14,17777,13,17781,14,17785,null,null,0,1111]
[12,17887,14,17892,13,17895,14,17903,null,null,0,1111]
[12,18003,14,18008,13,18012,14,18018,null,null,0,1111]
[12,18117,14,18121,13,18124,14,18129,null,null,0,1111]
[12,18237,14,18245,13,18250,14,18255,null,null,0,1111]
[12,18351,14,18356,13,18359,14,18363,null,null,0,1111]
[12,18460,14,18464,13,18469,14,18476,null,null,0,1111]
[12,18575,14,18579,13,18583,14,18587,null,null,0,1111]
[12,18691,14,18695,13,18699,14,18707,null,null,0,1111]
[12,18802,14,18806,13,18809,14,18813,null,null,0,1111]
[12,18914,14,18918,13,18922,14,18926,null,null,0,1111]
[12,19021,14,19026,13,19030,14,19033,null,null,0,1111]
[12,19130,14,19134,13,19140,14,19147,null,null,0,1111]
[12,19243,14,19247,13,19251,14,19255,null,null,0,1111]
[12,19360,14,19372,13,19376,14,19384,null,null,0,1111]
[12,19485,14,19490,13,19493,14,19497,null,null,0,1111]
[12,19594,14,19598,13,19602,14,19606,null,null,0,1111]
[12,19702,14,19706,13,19710,14,19713,null,null,0,1111]
[12,19807,14,19811,13,19816,14,19819,null,null,0,1111]
[12,19926,14,19931,13,19935,14,19942,null,null,0,1111]
[12,20036,14,20040,13,20044,14,20049,null,null,0,1111]
[12,20144,14,20149,13,20152,14,20156,null,null,0,1111]
[12,20254,14,20257,13,20262,14,20266,null,null,0,1111]
[12,20361,14,20366,13,20372,14,20375,null,null,0,1111]
[12,20470,14,20474,13,20478,14,20482,null,null,0,1111]
[12,20577,14,20582,13,20585,14,20589,null,null,0,1111]
[12,20684,14,20688,13,20692,14,20695,null,null,0,1111]
[12,20791,14,20795,13,20799,14,20810,null,null,0,1111]
[12,20908,14,20912,13,20921,14,20926,null,null,0,1111]
[12,21021,14,21025,13,21030,14,21036,null,null,0,1111]
[12,21134,14,21139,13,21143,14,21146,null,null,0,1111]
[12,21240,14,21243,13,21247,14,21251,null,null,0,1111]
[12,21346,14,21351,13,21355,14,21359,null,null,0,1111]
[12,21471,14,21485,13,21498,14,21504,null,null,0,1111]
[12,21601,14,21606,13,21610,14,21613,null,null,0,1111]
[12,21709,14,21712,13,21716,14,21724,null,null,0,1111]
[12,21820,14,21824,13,21828,14,21832,null,null,0,1111]
[12,21928,14,21932,13,21936,14,21940,null,null,0,1111]
[12,22030,14,22035,13,22039,14,22046,null,null,0,1111]
[12,22142,14,22147,13,22151,14,22155,null,null,0,1111]
[12,22252,14,22256,13,22259,14,22263,null,null,0,1111]
[12,22358,14,22362,13,22366,14,22370,null,null,0,1111]
[12,22466,14,22470,13,22473,14,22478,null,null,0,1111]
[12,22573,14,22577,13,22580,14,22585,null,null,0,1111]
[12,22680,14,22685,13,22688,14,22692,null,null,0,1111]
[12,22789,14,22793,13,22797,14,22801,null,null,0,1111]
[12,22898,14,22902,13,22907,14,22925,null,null,0,1111]
[12,23021,14,23025,13,23029,14,23033,null,null,0,1111]
[12,23130,14,23134,13,23138,14,23145,null,null,0,1111]
[12,23244,14,23248,13,23289,14,23296,null,null,0,1111]
[12,23394,14,23398,13,23402,14,23411,null,null,0,1111]
[12,23508,14,23512,13,23516,14,23519,null,null,0,1111]
[12,23616,14,23622,13,23626,14,23630,null,null,0,1111]
[12,23730,14,23736,13,23739,14,23751,null,null,0,1111]
[12,23852,14,23856,13,23860,14,23864,null,null,0,1111]
[12,23964,14,23970,13,23974,14,23982,null,null,null,1111]