{"text_format":"1","workbook":"xlsx","n_sheets":35,"sheets":["Sample Report","Summary","Start","!M715820.104","!M716850.104","!M717A20.104","!M718820.104","!M719950.104","!M720830.104","!M721900.104","!M722A00.104","!M723A40.104","!M724930.104","!M725A00.104","!M726840.104","!M727A30.104","!M728730.104","!M729A40.104","!M730B00.104","!M731A50.104","!M801B50.104","!M802920.104","!M803A20.104","!M804B00.104","!M805A20.104","!M806920.104","!M807A20.104","!M808B50.104","!M809A30.104","!M810B00.104","!M811950.104","!M812B00.104","!M813A30.104","!M814950.104","!M815B20.104"],"not_rendered":{"charts":0,"images":0,"macros":1,"external_links":0,"defined_names":0,"comments":0,"pivot_tables":0},"unopened":[],"bounds":{"document_bytes":16777216,"sheet_cells":100000,"rows_first":2000,"rows_last":500,"rows_between":2000,"halvings":0,"cell_chars":16384,"cell_head_chars":4096},"cells_cut":0,"cells_raw":0,"read":"whole","date_system":"1900"}

{"sheet":"Sample Report","index":0,"n_rows":12,"n_cols":11,"rows_kept":12,"cut":false,"hidden":true,"merged":[[7,0,7,6]]}
[]
["Date"]
["Hen"]
["Program"]
["Start at 999999"]
["Sequence component 1","Time 1","Seqeunce Component 2","Time 2","Seqeunce Component 3","Time 3","Correct   0 = No 1=Yes",null,null,"Seqeunce","Time"]
[12,7,12,42,13,18,"if 77 new line,                                  if 31 or 41 = yes new line on 77, ",null,null,"=string of Seqeunce compponent 1, 2 & 3","=time 3"]
["This continues until ther is a 1 on its own to indicate start of summary data"]
[null,null,null,null,null,null,null,null,null,"10-19 =1"]
["Summary Data ",null,null,null,null,null,null,null,null,"20-29 =2"]
["Correct","Incorrect","Rft","total","Av Correct","Av Incorrect","Percent correct","Time",null,"in this example the seqeunce would be 111"]
[40,33,40,73,23.95,15,54,806]

{"sheet":"Summary","index":1,"n_rows":34,"n_cols":24,"rows_kept":34,"cut":false,"hidden":false,"merged":[]}
[]
["Day","Date","Average Response Rate","Target %","RF for non correct sequence","U Value",null,null,null,null,"Block 1","Block 2","Block 3","Block 4","Block 5","Block 6"]
[1,{"$f":"'!M715820.104'!B2:C2","v":"<date>"},{"$f":"('!M715820.104'!F196/60)/'!M715820.104'!Q3","v":2.1036842105263158},{"$f":"'!M715820.104'!N20/'!M715820.104'!Q3","v":0},{"$f":"SUM('!M715820.104'!L20:Q20)/'!M715820.104'!Q3","v":1.4421052631578948},{"$f":"'!M715820.104'!Q16","v":0.22259419295813007},null,null,null,"Average Response Rate",{"$f":"AVERAGE(C3:C7)","v":2.5673398761679751},{"$f":"AVERAGE(C8:C12)","v":2.2022339403261961},{"$f":"AVERAGE(C13:C17)","v":1.8621082649151617},{"$f":"AVERAGE(C18:C22)","v":1.8234368785639972},{"$f":"AVERAGE(C23:C27)","v":1.8006746879010624},{"$f":"AVERAGE(C28:C32)","v":1.8296961649772903}]
[2,{"$f":"'!M716850.104'!B2:C2","v":"<date>"},{"$f":"('!M716850.104'!F162/60)/'!M716850.104'!Q3","v":2.5506410256410255},{"$f":"'!M716850.104'!N20/'!M716850.104'!Q3","v":0},{"$f":"SUM('!M716850.104'!L20:Q20)/'!M716850.104'!Q3","v":1.75},{"$f":"'!M716850.104'!Q16","v":0.24677521193224364},null,null,null,"Target %",{"$f":"AVERAGE(D3:D7)","v":1.1837732160312805E-2},{"$f":"AVERAGE(D8:D12)","v":0.48901701429690558},{"$f":"AVERAGE(D13:D17)","v":0.73555418719211829},{"$f":"AVERAGE(D18:D22)","v":0.72350875113586977},{"$f":"AVERAGE(D23:D27)","v":0.75689079233128842},{"$f":"AVERAGE(D28:D32)","v":0.69640939680957126}]
[3,{"$f":"'!M717A20.104'!B2:C2","v":"<date>"},{"$f":"('!M717A20.104'!F158/60)/'!M717A20.104'!Q3","v":2.6145833333333335},{"$f":"'!M717A20.104'!N20/'!M717A20.104'!Q3","v":0},{"$f":"SUM('!M717A20.104'!L20:Q20)/'!M717A20.104'!Q3","v":1.7894736842105263},{"$f":"'!M717A20.104'!Q16","v":0.26557677596094509},null,null,null,"CCRF",{"$f":"AVERAGE(E3:E7)","v":1.7632170602459225},{"$f":"AVERAGE(E8:E12)","v":2.6225624999999999},{"$f":"AVERAGE(E13:E17)","v":3.7047315270935961},{"$f":"AVERAGE(E18:E22)","v":3.6331095834485665},{"$f":"AVERAGE(E23:E27)","v":3.4452551300058958},{"$f":"AVERAGE(E28:E32)","v":3.5990717015619809}]
[4,{"$f":"'!M718820.104'!B2:C2","v":"<date>"},{"$f":"('!M718820.104'!F138/60)/'!M718820.104'!Q3","v":2.9909090909090912},{"$f":"'!M718820.104'!N20/'!M718820.104'!Q3","v":7.575757575757576E-3},{"$f":"SUM('!M718820.104'!L20:Q20)/'!M718820.104'!Q3","v":2.0151515151515151},{"$f":"'!M718820.104'!Q16","v":0.31429445899367736},null,null,null,"U Value",{"$f":"AVERAGE(F3:F7)","v":0.27165574696168865},{"$f":"AVERAGE(F8:F12)","v":0.30329402681757489},{"$f":"AVERAGE(F13:F17)","v":0.18690736561649265},{"$f":"AVERAGE(F18:F22)","v":0.20375944883293493},{"$f":"AVERAGE(F23:F27)","v":0.17006459271988553},{"$f":"AVERAGE(F28:F32)","v":0.21560208088604171}]
[5,{"$f":"'!M719950.104'!B2:C2","v":"<date>"},{"$f":"('!M719950.104'!F161/60)/'!M719950.104'!Q3","v":2.5768817204301078},{"$f":"'!M719950.104'!N20/'!M719950.104'!Q3","v":5.1612903225806452E-2},{"$f":"SUM('!M719950.104'!L20:Q20)/'!M719950.104'!Q3","v":1.8193548387096774},{"$f":"'!M719950.104'!Q16","v":0.30903809496344714}]
[6,{"$f":"'!M720830.104'!B2:C2","v":"<date>"},{"$f":"('!M720830.104'!F134/60)/'!M720830.104'!Q3","v":2.365234375},{"$f":"'!M720830.104'!N20/'!M720830.104'!Q3","v":0.3046875},{"$f":"SUM('!M720830.104'!L20:Q20)/'!M720830.104'!Q3","v":1.5078125},{"$f":"'!M720830.104'!Q16","v":0.34134805789230682}]
[7,{"$f":"'!M721900.104'!B2:C2","v":"<date>"},{"$f":"('!M721900.104'!F80/60)/'!M721900.104'!Q3","v":2.4786036036036037},{"$f":"'!M721900.104'!N20/'!M721900.104'!Q3","v":0.51351351351351349},{"$f":"SUM('!M721900.104'!L20:Q20)/'!M721900.104'!Q3","v":2.5},{"$f":"'!M721900.104'!Q16","v":0.32515812768926661},{"$f":"K3","v":2.5673398761679751},{"$f":"L3","v":2.2022339403261961},{"$f":"M3","v":1.8621082649151617},{"$f":"N3","v":1.8234368785639972},{"$f":"O3","v":1.8006746879010624},{"$f":"P3","v":1.8296961649772903},{"$f":"K4","v":1.1837732160312805E-2},{"$f":"L4","v":0.48901701429690558},{"$f":"M4","v":0.73555418719211829},{"$f":"N4","v":0.72350875113586977},{"$f":"O4","v":0.75689079233128842},{"$f":"P4","v":0.69640939680957126},{"$f":"K6","v":0.27165574696168865},{"$f":"L6","v":0.30329402681757489},{"$f":"M6","v":0.18690736561649265},{"$f":"N6","v":0.20375944883293493},{"$f":"O6","v":0.17006459271988553},{"$f":"P6","v":0.21560208088604171}]
[8,{"$f":"'!M722A00.104'!B2:C2","v":"<date>"},{"$f":"('!M722A00.104'!F81/60)/'!M722A00.104'!Q3","v":2.2502222222222223},{"$f":"'!M722A00.104'!N20/'!M722A00.104'!Q3","v":0.52},{"$f":"SUM('!M722A00.104'!L20:Q20)/'!M722A00.104'!Q3","v":2.48},{"$f":"'!M722A00.104'!Q16","v":0.3103477991219491}]
[9,{"$f":"'!M723A40.104'!B2:C2","v":"<date>"},{"$f":"('!M723A40.104'!F75/60)/'!M723A40.104'!Q3","v":2.0328502415458938},{"$f":"'!M723A40.104'!N20/'!M723A40.104'!Q3","v":0.56521739130434778},{"$f":"SUM('!M723A40.104'!L20:Q20)/'!M723A40.104'!Q3","v":2.6666666666666665},{"$f":"'!M723A40.104'!Q16","v":0.28013427650796291}]
[10,{"$f":"'!M724930.104'!B2:C2","v":"<date>"},{"$f":"('!M724930.104'!F78/60)/'!M724930.104'!Q3","v":1.8842592592592591},{"$f":"'!M724930.104'!N20/'!M724930.104'!Q3","v":0.54166666666666663},{"$f":"SUM('!M724930.104'!L20:Q20)/'!M724930.104'!Q3","v":3.9583333333333335},{"$f":"'!M724930.104'!Q16","v":0.25948187287638913}]
[11,{"$f":"'!M725A00.104'!B2:C2","v":"<date>"},{"$f":"('!M725A00.104'!F54/60)/'!M725A00.104'!Q3","v":1.8111111111111111},{"$f":"'!M725A00.104'!N20/'!M725A00.104'!Q3","v":0.8125},{"$f":"SUM('!M725A00.104'!L20:Q20)/'!M725A00.104'!Q3","v":3.6875},{"$f":"'!M725A00.104'!Q16","v":0.17604052097757525}]
[12,{"$f":"'!M726840.104'!B2:C2","v":"<date>"},{"$f":"('!M726840.104'!F56/60)/'!M726840.104'!Q3","v":1.8586666666666667},{"$f":"'!M726840.104'!N20/'!M726840.104'!Q3","v":0.8},{"$f":"SUM('!M726840.104'!L20:Q20)/'!M726840.104'!Q3","v":3.58},{"$f":"'!M726840.104'!Q16","v":0.12791397771532839}]
[13,{"$f":"'!M727A30.104'!B2:C2","v":"<date>"},{"$f":"('!M727A30.104'!F62/60)/'!M727A30.104'!Q3","v":1.8491071428571428},{"$f":"'!M727A30.104'!N20/'!M727A30.104'!Q3","v":0.6964285714285714},{"$f":"SUM('!M727A30.104'!L20:Q20)/'!M727A30.104'!Q3","v":3.2142857142857144},{"$f":"'!M727A30.104'!Q16","v":0.18596439643337434}]
[14,{"$f":"'!M728730.104'!B2:C2","v":"<date>"},{"$f":"('!M728730.104'!F64/60)/'!M728730.104'!Q3","v":1.9086206896551725},{"$f":"'!M728730.104'!N20/'!M728730.104'!Q3","v":0.67241379310344829},{"$f":"SUM('!M728730.104'!L20:Q20)/'!M728730.104'!Q3","v":4.8275862068965516},{"$f":"'!M728730.104'!Q16","v":0.23252397842566161}]
[15,{"$f":"'!M729A40.104'!B2:C2","v":"<date>"},{"$f":"('!M729A40.104'!F62/60)/'!M729A40.104'!Q3","v":1.8830357142857144},{"$f":"'!M729A40.104'!N20/'!M729A40.104'!Q3","v":0.6964285714285714},{"$f":"SUM('!M729A40.104'!L20:Q20)/'!M729A40.104'!Q3","v":3.2142857142857144},{"$f":"'!M729A40.104'!Q16","v":0.21209395453052377}]
[16,{"$f":"'!M730B00.104'!B2:C2","v":"<date>"},{"$f":"('!M730B00.104'!F61/60)/'!M730B00.104'!Q3","v":1.8193939393939393},{"$f":"'!M730B00.104'!N20/'!M730B00.104'!Q3","v":0.70909090909090911},{"$f":"SUM('!M730B00.104'!L20:Q20)/'!M730B00.104'!Q3","v":3.2545454545454544},{"$f":"'!M730B00.104'!Q16","v":0.21921591168485166}]
[17,{"$f":"'!M731A50.104'!B2:C2","v":"<date>"},{"$f":"('!M731A50.104'!F65/60)/'!M731A50.104'!Q3","v":1.877683615819209},{"$f":"'!M731A50.104'!N20/'!M731A50.104'!Q3","v":0.66101694915254239},{"$f":"SUM('!M731A50.104'!L20:Q20)/'!M731A50.104'!Q3","v":4.7627118644067794},{"$f":"'!M731A50.104'!Q16","v":0.23305388724490236}]
[18,{"$f":"'!M801B50.104'!B2:C2","v":"<date>"},{"$f":"('!M801B50.104'!F66/60)/'!M801B50.104'!Q3","v":1.7919444444444443},{"$f":"'!M801B50.104'!N20/'!M801B50.104'!Q3","v":0.65},{"$f":"SUM('!M801B50.104'!L20:Q20)/'!M801B50.104'!Q3","v":2.8333333333333335},{"$f":"'!M801B50.104'!Q16","v":0.25083324234276783}]
[19,{"$f":"'!M802920.104'!B2:C2","v":"<date>"},{"$f":"('!M802920.104'!F58/60)/'!M802920.104'!Q3","v":1.8403846153846155},{"$f":"'!M802920.104'!N20/'!M802920.104'!Q3","v":0.73076923076923073},{"$f":"SUM('!M802920.104'!L20:Q20)/'!M802920.104'!Q3","v":3.4038461538461537},{"$f":"'!M802920.104'!Q16","v":0.21253967624767359}]
[20,{"$f":"'!M803A20.104'!B2:C2","v":"<date>"},{"$f":"('!M803A20.104'!F51/60)/'!M803A20.104'!Q3","v":1.7877777777777779},{"$f":"'!M803A20.104'!N20/'!M803A20.104'!Q3","v":0.8666666666666667},{"$f":"SUM('!M803A20.104'!L20:Q20)/'!M803A20.104'!Q3","v":3.911111111111111},{"$f":"'!M803A20.104'!Q16","v":0.10315452664447926}]
[21,{"$f":"'!M804B00.104'!B2:C2","v":"<date>"},{"$f":"('!M804B00.104'!F57/60)/'!M804B00.104'!Q3","v":1.8199346405228758},{"$f":"'!M804B00.104'!N20/'!M804B00.104'!Q3","v":0.76470588235294112},{"$f":"SUM('!M804B00.104'!L20:Q20)/'!M804B00.104'!Q3","v":3.4901960784313726},{"$f":"'!M804B00.104'!Q16","v":0.16572682436171002}]
[22,{"$f":"'!M805A20.104'!B2:C2","v":"<date>"},{"$f":"('!M805A20.104'!F63/60)/'!M805A20.104'!Q3","v":1.8312865497076025},{"$f":"'!M805A20.104'!N20/'!M805A20.104'!Q3","v":0.70175438596491224},{"$f":"SUM('!M805A20.104'!L20:Q20)/'!M805A20.104'!Q3","v":3.1754385964912282},{"$f":"'!M805A20.104'!Q16","v":0.20172444936204509}]
[23,{"$f":"'!M806920.104'!B2:C2","v":"<date>"},{"$f":"('!M806920.104'!F49/60)/'!M806920.104'!Q3","v":1.7379844961240309},{"$f":"'!M806920.104'!N20/'!M806920.104'!Q3","v":0.90697674418604646},{"$f":"SUM('!M806920.104'!L20:Q20)/'!M806920.104'!Q3","v":4.0697674418604652},{"$f":"'!M806920.104'!Q16","v":0.10799624734674516}]
[24,{"$f":"'!M807A20.104'!B2:C2","v":"<date>"},{"$f":"('!M807A20.104'!F58/60)/'!M807A20.104'!Q3","v":1.7884615384615385},{"$f":"'!M807A20.104'!N20/'!M807A20.104'!Q3","v":0.75},{"$f":"SUM('!M807A20.104'!L20:Q20)/'!M807A20.104'!Q3","v":3.4230769230769229},{"$f":"'!M807A20.104'!Q16","v":0.1762294246167305}]
[25,{"$f":"'!M808B50.104'!B2:C2","v":"<date>"},{"$f":"('!M808B50.104'!F65/60)/'!M808B50.104'!Q3","v":1.8257062146892655},{"$f":"'!M808B50.104'!N20/'!M808B50.104'!Q3","v":0.66101694915254239},{"$f":"SUM('!M808B50.104'!L20:Q20)/'!M808B50.104'!Q3","v":3.0677966101694913},{"$f":"'!M808B50.104'!Q16","v":0.19864601791219683}]
[26,{"$f":"'!M809A30.104'!B2:C2","v":"<date>"},{"$f":"('!M809A30.104'!F57/60)/'!M809A30.104'!Q3","v":1.7823529411764707},{"$f":"'!M809A30.104'!N20/'!M809A30.104'!Q3","v":0.76470588235294112},{"$f":"SUM('!M809A30.104'!L20:Q20)/'!M809A30.104'!Q3","v":3.4901960784313726},{"$f":"'!M809A30.104'!Q16","v":0.20310375056112628}]
[27,{"$f":"'!M810B00.104'!B2:C2","v":"<date>"},{"$f":"('!M810B00.104'!F65/60)/'!M810B00.104'!Q3","v":1.8228813559322032},{"$f":"'!M810B00.104'!N20/'!M810B00.104'!Q3","v":0.67796610169491522},{"$f":"SUM('!M810B00.104'!L20:Q20)/'!M810B00.104'!Q3","v":3.0847457627118646},{"$f":"'!M810B00.104'!Q16","v":0.1806865316893928}]
[28,{"$f":"'!M811950.104'!B2:C2","v":"<date>"},{"$f":"('!M811950.104'!F70/60)/'!M811950.104'!Q3","v":1.8596354166666667},{"$f":"'!M811950.104'!N20/'!M811950.104'!Q3","v":0.609375},{"$f":"SUM('!M811950.104'!L20:Q20)/'!M811950.104'!Q3","v":2.84375},{"$f":"'!M811950.104'!Q16","v":0.22278398498569629}]
[29,{"$f":"'!M812B00.104'!B2:C2","v":"<date>"},{"$f":"('!M812B00.104'!F56/60)/'!M812B00.104'!Q3","v":1.8116666666666665},{"$f":"'!M812B00.104'!N20/'!M812B00.104'!Q3","v":0.78},{"$f":"SUM('!M812B00.104'!L20:Q20)/'!M812B00.104'!Q3","v":5.56},{"$f":"'!M812B00.104'!Q16","v":0.20446160581143824}]
[30,{"$f":"'!M813A30.104'!B2:C2","v":"<date>"},{"$f":"('!M813A30.104'!F66/60)/'!M813A30.104'!Q3","v":1.8719444444444444},{"$f":"'!M813A30.104'!N20/'!M813A30.104'!Q3","v":0.65},{"$f":"SUM('!M813A30.104'!L20:Q20)/'!M813A30.104'!Q3","v":3.0166666666666666},{"$f":"'!M813A30.104'!Q16","v":0.26697453138255506}]
[null,{"$f":"'!M814950.104'!B2:C2","v":"<date>"},{"$f":"('!M814950.104'!F57/60)/'!M814950.104'!Q3","v":1.8333333333333333},{"$f":"'!M814950.104'!N20/'!M814950.104'!Q3","v":0.76470588235294112},{"$f":"SUM('!M814950.104'!L20:Q20)/'!M814950.104'!Q3","v":3.4901960784313726},{"$f":"'!M814950.104'!Q16","v":0.2252486231386136}]
[null,{"$f":"'!M815B20.104'!B2:C2","v":"<date>"},{"$f":"('!M815B20.104'!F67/60)/'!M815B20.104'!Q3","v":1.8890710382513662},{"$f":"'!M815B20.104'!N20/'!M815B20.104'!Q3","v":0.63934426229508201},{"$f":"SUM('!M815B20.104'!L20:Q20)/'!M815B20.104'!Q3","v":2.9672131147540983},{"$f":"'!M815B20.104'!Q16","v":0.23061653462774429}]

{"sheet":"Start","index":2,"n_rows":38,"n_cols":10,"rows_kept":38,"cut":false,"hidden":false,"merged":[]}
[null,null,null,null,null,"Use Folder 51",null,"Auto Clean Up",null,"Correct sequence"]
[null,null,null,null,null,false,null,true,null,122]
[]
["Working with Folder",null,null,null,null,null,"Process All/Or Pick A number: ALL or an integer"]
["E:\\Hen Data\\Raw Data\\104_184\\phase 2 var\\",null,null,null,null,null,"ALL"]
["Filenames:"]
["!M725A00.104",null,null,null,null,null,"Paint Cells"]
["!M726840.104",null,null,null,null,null,false]
["!M727A30.104"]
["!M728730.104"]
["!M729A40.104"]
["!M730B00.104"]
["!M731A50.104"]
["!M801B50.104"]
["!M802920.104"]
["!M803A20.104"]
["!M804B00.104"]
["!M805A20.104"]
["!M806920.104"]
["!M807A20.104"]
["!M808B50.104"]
["!M809A30.104"]
["!M810B00.104"]
["!M715820.104"]
["!M716850.104"]
["!M717A20.104"]
["!M718820.104"]
["!M719950.104"]
["!M720830.104"]
["!M721900.104"]
["!M722A00.104"]
["!M723A40.104"]
["!M724930.104"]
["!M815B20.104"]
["!M811950.104"]
["!M812B00.104"]
["!M813A30.104"]
["!M814950.104"]

{"sheet":"!M715820.104","index":3,"n_rows":196,"n_cols":48,"rows_kept":196,"cut":false,"hidden":false,"merged":[[4,39,4,42],[5,39,5,40],[4,44,4,47],[5,44,5,45],[4,24,4,27],[5,24,5,25],[4,29,4,32],[5,29,5,30],[4,34,4,37],[5,34,5,35],[1,1,1,2],[5,13,5,14],[18,13,18,14],[19,13,19,14],[4,19,4,22],[5,19,5,20]]}
["Report for:!M715820.104"]
["Date:","<date>"]
["Hen:","<hen>",null,null,null,"Correct Sequence",{"$f":"Start!J2","v":122},null,null,null,null,null,null,null,null,"Total Sequences in Data",{"$f":"4994-COUNTBLANK(L7:L5000)","v":190},null,null,null,null,"Total Sequences in Block Data",{"$f":"COUNTA(L7:L38)","v":32},null,null,null,"Total Sequences in Block Data",{"$f":"COUNTA(L39:L69)","v":31},null,null,null,"Total Sequences in Block Data",{"$f":"COUNTA(L70:L101)","v":32},null,null,null,"Total Sequences in Block Data",{"$f":"COUNTA(L102:L133)","v":32},null,null,null,"Total Sequences in Block Data",{"$f":"COUNTA(L134:L164)","v":31},null,null,null,"Total Sequences in Block Data",{"$f":"COUNTA(L165:L196)","v":32}]
[null,null,null,null,null,null,null,null,null,null,null,null,null,null,null,"Total Sequences in Summary",{"$f":"SUM(O7:O14)","v":190},null,null,null,null,"Total Sequences in Block Summary",{"$f":"SUM(U7:U14)","v":32},null,null,null,"Total Sequences in Block Summary",{"$f":"SUM(Z7:Z14)","v":31},null,null,null,"Total Sequences in Block Summary",{"$f":"SUM(AE7:AE14)","v":32},null,null,null,"Total Sequences in Block Summary",{"$f":"SUM(AJ7:AJ14)","v":32},null,null,null,"Total Sequences in Block Summary",{"$f":"SUM(AO7:AO14)","v":31},null,null,null,"Total Sequences in Block Summary",{"$f":"SUM(AT7:AT14)","v":32}]
[null,null,null,null,null,null,null,null,null,null,null,null,null,null,null,null,null,null,null,"Block 1",null,null,null,null,"Block 2",null,null,null,null,"Block 3",null,null,null,null,"Block 4",null,null,null,null,"Block 5",null,null,null,null,"Block 6"]
["Sequence\nComponent\n1","Time\n1","Sequence\nComponent\n2","Time\n2","Sequence\nComponent\n3","Time\n3","Sequence\nComponent\n4","Time\n4","Sequence\nComponent\n5","Time\n5","Correct?\n0=No 1=Yes","Sequence",null,"Frequency",null,"Relative Frequency","Variability",null,null,"Frequency",null,"Relative Frequency","Variability",null,"Frequency",null,"Relative Frequency","Variability",null,"Frequency",null,"Relative Frequency","Variability",null,"Frequency",null,"Relative Frequency","Variability",null,"Frequency",null,"Relative Frequency","Variability",null,"Frequency",null,"Relative Frequency","Variability"]
[22,7,14,20,14,25,null,null,null,null,0,211,null,111,{"$f":"COUNTIF($L$7:$L$500,N7)","v":25},{"$f":"O7/$Q$4","v":0.13157894736842105},{"$f":"IF(P7=0,0,(P7*((LOG(P7))/LOG(2))))","v":-0.38499992349423984},null,null,{"$f":"N7","v":111},{"$f":"COUNTIF(L7:L38,T7)","v":6},{"$f":"U7/(W4-U10)","v":0.1875},{"$f":"IF(V7=0,0,(V7*((LOG(V7))/LOG(2))))","v":-0.45281953111478312},null,{"$f":"N7","v":111},{"$f":"COUNTIF(L39:L69,Y7)","v":4},{"$f":"Z7/(AB4-Z10)","v":0.12903225806451613},{"$f":"IF(AA7=0,0,(AA7*((LOG(AA7))/LOG(2))))","v":-0.38118662069508069},null,{"$f":"N7","v":111},{"$f":"COUNTIF(L70:L101,AD7)","v":5},{"$f":"AE7/(AG4-AE10)","v":0.15625},{"$f":"IF(AF7=0,0,(AF7*((LOG(AF7))/LOG(2))))","v":-0.41844873517384967},null,{"$f":"N7","v":111},{"$f":"COUNTIF(L102:L133,AI7)","v":5},{"$f":"AJ7/(AL4-AJ10)","v":0.15625},{"$f":"IF(AK7=0,0,(AK7*((LOG(AK7))/LOG(2))))","v":-0.41844873517384967},null,{"$f":"N7","v":111},{"$f":"COUNTIF(L134:L164,AN7)","v":2},{"$f":"AO7/(AQ4-AO10)","v":6.4516129032258063E-2},{"$f":"IF(AP7=0,0,(AP7*((LOG(AP7))/LOG(2))))","v":-0.25510943937979835},null,{"$f":"N7","v":111},{"$f":"COUNTIF(L165:L196,AS7)","v":3},{"$f":"AT7/(AV4-AT10)","v":9.375E-2},{"$f":"IF(AU7=0,0,(AU7*((LOG(AU7))/LOG(2))))","v":-0.32015976555739156}]
[11,123,12,134,14,142,null,null,null,null,0,111,null,112,{"$f":"COUNTIF($L$7:$L$500,N8)","v":0},{"$f":"O8/$Q$4","v":0},{"$f":"IF(P8=0,0,(P8*((LOG(P8))/LOG(2))))","v":0},null,null,{"$f":"N8","v":112},{"$f":"COUNTIF(L7:L38,T8)","v":0},{"$f":"U8/(W4-U10)","v":0},{"$f":"IF(V8=0,0,(V8*((LOG(V8))/LOG(2))))","v":0},null,{"$f":"N8","v":112},{"$f":"COUNTIF(L39:L69,Y8)","v":0},{"$f":"Z8/(AB4-Z10)","v":0},{"$f":"IF(AA8=0,0,(AA8*((LOG(AA8))/LOG(2))))","v":0},null,{"$f":"N8","v":112},{"$f":"COUNTIF(L70:L101,AD8)","v":0},{"$f":"AE8/(AG4-AE10)","v":0},{"$f":"IF(AF8=0,0,(AF8*((LOG(AF8))/LOG(2))))","v":0},null,{"$f":"N8","v":112},{"$f":"COUNTIF(L102:L133,AI8)","v":0},{"$f":"AJ8/(AL4-AJ10)","v":0},{"$f":"IF(AK8=0,0,(AK8*((LOG(AK8))/LOG(2))))","v":0},null,{"$f":"N8","v":112},{"$f":"COUNTIF(L134:L164,AN8)","v":0},{"$f":"AO8/(AQ4-AO10)","v":0},{"$f":"IF(AP8=0,0,(AP8*((LOG(AP8))/LOG(2))))","v":0},null,{"$f":"N8","v":112},{"$f":"COUNTIF(L165:L196,AS8)","v":0},{"$f":"AT8/(AV4-AT10)","v":0},{"$f":"IF(AU8=0,0,(AU8*((LOG(AU8))/LOG(2))))","v":0}]
[22,238,14,246,14,253,null,null,null,null,0,211,null,121,{"$f":"COUNTIF($L$7:$L$500,N9)","v":1},{"$f":"O9/$Q$4","v":5.263157894736842E-3},{"$f":"IF(P9=0,0,(P9*((LOG(P9))/LOG(2))))","v":-3.9841345307004991E-2},null,null,{"$f":"N9","v":121},{"$f":"COUNTIF(L7:L38,T9)","v":0},{"$f":"U9/(W4-U10)","v":0},{"$f":"IF(V9=0,0,(V9*((LOG(V9))/LOG(2))))","v":0},null,{"$f":"N9","v":121},{"$f":"COUNTIF(L39:L69,Y9)","v":0},{"$f":"Z9/(AB4-Z10)","v":0},{"$f":"IF(AA9=0,0,(AA9*((LOG(AA9))/LOG(2))))","v":0},null,{"$f":"N9","v":121},{"$f":"COUNTIF(L70:L101,AD9)","v":0},{"$f":"AE9/(AG4-AE10)","v":0},{"$f":"IF(AF9=0,0,(AF9*((LOG(AF9))/LOG(2))))","v":0},null,{"$f":"N9","v":121},{"$f":"COUNTIF(L102:L133,AI9)","v":1},{"$f":"AJ9/(AL4-AJ10)","v":3.125E-2},{"$f":"IF(AK9=0,0,(AK9*((LOG(AK9))/LOG(2))))","v":-0.15625},null,{"$f":"N9","v":121},{"$f":"COUNTIF(L134:L164,AN9)","v":0},{"$f":"AO9/(AQ4-AO10)","v":0},{"$f":"IF(AP9=0,0,(AP9*((LOG(AP9))/LOG(2))))","v":0},null,{"$f":"N9","v":121},{"$f":"COUNTIF(L165:L196,AS9)","v":0},{"$f":"AT9/(AV4-AT10)","v":0},{"$f":"IF(AU9=0,0,(AU9*((LOG(AU9))/LOG(2))))","v":0}]
[11,366,12,374,14,384,null,null,null,null,0,111,null,122,{"$f":"COUNTIF($L$7:$L$500,N10)","v":0},{"$f":"O10/$Q$4","v":0},{"$f":"IF(P10=0,0,(P10*((LOG(P10))/LOG(2))))","v":0},null,null,{"$f":"N10","v":122},{"$f":"COUNTIF(L7:L38,T10)","v":0},null,null,null,{"$f":"N10","v":122},{"$f":"COUNTIF(L39:L69,Y10)","v":0},null,null,null,{"$f":"N10","v":122},{"$f":"COUNTIF(L70:L101,AD10)","v":0},null,null,null,{"$f":"N10","v":122},{"$f":"COUNTIF(L102:L133,AI10)","v":0},null,null,null,{"$f":"N10","v":122},{"$f":"COUNTIF(L134:L164,AN10)","v":0},null,null,null,{"$f":"N10","v":122},{"$f":"COUNTIF(L165:L196,AS10)","v":0}]
[22,481,14,496,14,504,null,null,null,null,0,211,null,211,{"$f":"COUNTIF($L$7:$L$500,N11)","v":98},{"$f":"O11/$Q$4","v":0.51578947368421058},{"$f":"IF(P11=0,0,(P11*((LOG(P11))/LOG(2))))","v":-0.49265413101653932},null,null,{"$f":"N11","v":211},{"$f":"COUNTIF(L7:L38,T11)","v":26},{"$f":"U11/(W4-U10)","v":0.8125},{"$f":"IF(V11=0,0,(V11*((LOG(V11))/LOG(2))))","v":-0.24339272901036266},null,{"$f":"N11","v":211},{"$f":"COUNTIF(L39:L69,Y11)","v":21},{"$f":"Z11/(AB4-Z10)","v":0.67741935483870963},{"$f":"IF(AA11=0,0,(AA11*((LOG(AA11))/LOG(2))))","v":-0.38062763354098111},null,{"$f":"N11","v":211},{"$f":"COUNTIF(L70:L101,AD11)","v":9},{"$f":"AE11/(AG4-AE10)","v":0.28125},{"$f":"IF(AF11=0,0,(AF11*((LOG(AF11))/LOG(2))))","v":-0.5147085933443496},null,{"$f":"N11","v":211},{"$f":"COUNTIF(L102:L133,AI11)","v":16},{"$f":"AJ11/(AL4-AJ10)","v":0.5},{"$f":"IF(AK11=0,0,(AK11*((LOG(AK11))/LOG(2))))","v":-0.5},null,{"$f":"N11","v":211},{"$f":"COUNTIF(L134:L164,AN11)","v":15},{"$f":"AO11/(AQ4-AO10)","v":0.4838709677419355},{"$f":"IF(AP11=0,0,(AP11*((LOG(AP11))/LOG(2))))","v":-0.50676082973146286},null,{"$f":"N11","v":211},{"$f":"COUNTIF(L165:L196,AS11)","v":11},{"$f":"AT11/(AV4-AT10)","v":0.34375},{"$f":"IF(AU11=0,0,(AU11*((LOG(AU11))/LOG(2))))","v":-0.52957038109342913}]
[22,604,14,617,14,621,null,null,null,null,0,211,null,212,{"$f":"COUNTIF($L$7:$L$500,N12)","v":0},{"$f":"O12/$Q$4","v":0},{"$f":"IF(P12=0,0,(P12*((LOG(P12))/LOG(2))))","v":0},null,null,{"$f":"N12","v":212},{"$f":"COUNTIF(L7:L38,T12)","v":0},{"$f":"U12/(W4-U10)","v":0},{"$f":"IF(V12=0,0,(V12*((LOG(V12))/LOG(2))))","v":0},null,{"$f":"N12","v":212},{"$f":"COUNTIF(L39:L69,Y12)","v":0},{"$f":"Z12/(AB4-Z10)","v":0},{"$f":"IF(AA12=0,0,(AA12*((LOG(AA12))/LOG(2))))","v":0},null,{"$f":"N12","v":212},{"$f":"COUNTIF(L70:L101,AD12)","v":0},{"$f":"AE12/(AG4-AE10)","v":0},{"$f":"IF(AF12=0,0,(AF12*((LOG(AF12))/LOG(2))))","v":0},null,{"$f":"N12","v":212},{"$f":"COUNTIF(L102:L133,AI12)","v":0},{"$f":"AJ12/(AL4-AJ10)","v":0},{"$f":"IF(AK12=0,0,(AK12*((LOG(AK12))/LOG(2))))","v":0},null,{"$f":"N12","v":212},{"$f":"COUNTIF(L134:L164,AN12)","v":0},{"$f":"AO12/(AQ4-AO10)","v":0},{"$f":"IF(AP12=0,0,(AP12*((LOG(AP12))/LOG(2))))","v":0},null,{"$f":"N12","v":212},{"$f":"COUNTIF(L165:L196,AS12)","v":0},{"$f":"AT12/(AV4-AT10)","v":0},{"$f":"IF(AU12=0,0,(AU12*((LOG(AU12))/LOG(2))))","v":0}]
[22,722,14,735,14,741,null,null,null,null,0,211,null,221,{"$f":"COUNTIF($L$7:$L$500,N13)","v":54},{"$f":"O13/$Q$4","v":0.28421052631578947},{"$f":"IF(P13=0,0,(P13*((LOG(P13))/LOG(2))))","v":-0.51583304070023095},null,null,{"$f":"N13","v":221},{"$f":"COUNTIF(L7:L38,T13)","v":0},{"$f":"U13/(W4-U10)","v":0},{"$f":"IF(V13=0,0,(V13*((LOG(V13))/LOG(2))))","v":0},null,{"$f":"N13","v":221},{"$f":"COUNTIF(L39:L69,Y13)","v":6},{"$f":"Z13/(AB4-Z10)","v":0.19354838709677419},{"$f":"IF(AA13=0,0,(AA13*((LOG(AA13))/LOG(2))))","v":-0.45856138251594558},null,{"$f":"N13","v":221},{"$f":"COUNTIF(L70:L101,AD13)","v":12},{"$f":"AE13/(AG4-AE10)","v":0.375},{"$f":"IF(AF13=0,0,(AF13*((LOG(AF13))/LOG(2))))","v":-0.53063906222956647},null,{"$f":"N13","v":221},{"$f":"COUNTIF(L102:L133,AI13)","v":8},{"$f":"AJ13/(AL4-AJ10)","v":0.25},{"$f":"IF(AK13=0,0,(AK13*((LOG(AK13))/LOG(2))))","v":-0.5},null,{"$f":"N13","v":221},{"$f":"COUNTIF(L134:L164,AN13)","v":11},{"$f":"AO13/(AQ4-AO10)","v":0.35483870967741937},{"$f":"IF(AP13=0,0,(AP13*((LOG(AP13))/LOG(2))))","v":-0.53040037449178568},null,{"$f":"N13","v":221},{"$f":"COUNTIF(L165:L196,AS13)","v":17},{"$f":"AT13/(AV4-AT10)","v":0.53125},{"$f":"IF(AU13=0,0,(AU13*((LOG(AU13))/LOG(2))))","v":-0.48478536558575719}]
[22,844,14,856,14,862,null,null,null,null,0,211,null,222,{"$f":"COUNTIF($L$7:$L$500,N14)","v":12},{"$f":"O14/$Q$4","v":6.3157894736842107E-2},{"$f":"IF(P14=0,0,(P14*((LOG(P14))/LOG(2))))","v":-0.25167745942798686},null,null,{"$f":"N14","v":222},{"$f":"COUNTIF(L7:L38,T14)","v":0},{"$f":"U14/(W4-U10)","v":0},{"$f":"IF(V14=0,0,(V14*((LOG(V14))/LOG(2))))","v":0},null,{"$f":"N14","v":222},{"$f":"COUNTIF(L39:L69,Y14)","v":0},{"$f":"Z14/(AB4-Z10)","v":0},{"$f":"IF(AA14=0,0,(AA14*((LOG(AA14))/LOG(2))))","v":0},null,{"$f":"N14","v":222},{"$f":"COUNTIF(L70:L101,AD14)","v":6},{"$f":"AE14/(AG4-AE10)","v":0.1875},{"$f":"IF(AF14=0,0,(AF14*((LOG(AF14))/LOG(2))))","v":-0.45281953111478312},null,{"$f":"N14","v":222},{"$f":"COUNTIF(L102:L133,AI14)","v":2},{"$f":"AJ14/(AL4-AJ10)","v":6.25E-2},{"$f":"IF(AK14=0,0,(AK14*((LOG(AK14))/LOG(2))))","v":-0.25},null,{"$f":"N14","v":222},{"$f":"COUNTIF(L134:L164,AN14)","v":3},{"$f":"AO14/(AQ4-AO10)","v":9.6774193548387094E-2},{"$f":"IF(AP14=0,0,(AP14*((LOG(AP14))/LOG(2))))","v":-0.32605488480635986},null,{"$f":"N14","v":222},{"$f":"COUNTIF(L165:L196,AS14)","v":1},{"$f":"AT14/(AV4-AT10)","v":3.125E-2},{"$f":"IF(AU14=0,0,(AU14*((LOG(AU14))/LOG(2))))","v":-0.15625}]
[22,961,14,973,14,977,null,null,null,null,0,211,null,null,null,{"$f":"SUM(P7:P14)","v":1},{"$f":"-SUM(Q7:Q14)","v":1.685005899946002},null,null,null,null,{"$f":"SUM(V7:V14)","v":1},{"$f":"-SUM(W7:W14)","v":0.69621226012514581},null,null,null,{"$f":"SUM(AA7:AA14)","v":1},{"$f":"-SUM(AB7:AB14)","v":1.2203756367520073},null,null,null,{"$f":"SUM(AF7:AF14)","v":1},{"$f":"-SUM(AG7:AG14)","v":1.9166159218625489},null,null,null,{"$f":"SUM(AK7:AK14)","v":1},{"$f":"-SUM(AL7:AL14)","v":1.8246987351738497},null,null,null,{"$f":"SUM(AP7:AP14)","v":1},{"$f":"-SUM(AQ7:AQ14)","v":1.6183255284094067},null,null,null,{"$f":"SUM(AU7:AU14)","v":1},{"$f":"-SUM(AV7:AV14)","v":1.4907655122365779}]
[22,1077,14,1090,14,1098,null,null,null,null,0,211,null,null,null,"U=",{"$f":"Q15/(LOG(Q4)/LOG(2))","v":0.22259419295813007},null,null,null,null,"U1=",{"$f":"W15/(LOG(W4)/LOG(2))","v":0.13924245202502916},null,null,null,"U2=",{"$f":"AB15/(LOG(AB4)/LOG(2))","v":0.24633170756544118},null,null,null,"U3=",{"$f":"AG15/(LOG(AG4)/LOG(2))","v":0.38332318437250978},null,null,null,"U4=",{"$f":"AL15/(LOG(AL4)/LOG(2))","v":0.36493974703476995},null,null,null,"U5=",{"$f":"AQ15/(LOG(AQ4)/LOG(2))","v":0.32665752970193285},null,null,null,"U6=",{"$f":"AV15/(LOG(AV4)/LOG(2))","v":0.29815310244731558}]
[22,1199,14,1212,14,1220,null,null,null,null,0,211]
[22,1320,14,1335,14,1339,null,null,null,null,0,211]
[22,1438,14,1450,14,1458,null,null,null,null,0,211,null,"Total Target Seq"]
[22,1557,14,1568,14,1573,null,null,null,null,0,211,null,{"$f":"COUNTIF(L7:L196,G3)","v":0},null,32,31,32,32,31,32]
[11,1688,12,1693,14,1704,null,null,null,null,0,111,null,null,null,"% of reinforcement given in 6 equal intervals based on number of trials "]
[22,1805,14,1818,14,1823,null,null,null,null,0,211,null,null,null,"%_1","%_2","%_3","%_4","%_5","%_6"]
[22,1924,14,1937,14,1942,null,null,null,null,0,211,null,null,"target sequence",{"$f":"$G$3","v":122},{"$f":"$G$3","v":122},{"$f":"$G$3","v":122},{"$f":"$G$3","v":122},{"$f":"$G$3","v":122},{"$f":"$G$3","v":122}]
[22,2043,14,2056,14,2064,null,null,null,null,0,211,null,null,"total reinforcement",{"$f":"U10","v":0},{"$f":"Z10","v":0},{"$f":"AE10","v":0},{"$f":"AJ10","v":0},{"$f":"AO10","v":0},{"$f":"AT10","v":0}]
[22,2163,14,2174,14,2179,null,null,null,null,0,211,null,null,"% target"]
[22,2279,14,2290,14,2297,null,null,null,null,0,211,null,null,"CCRF"]
[22,2395,14,2407,14,2411,null,null,null,null,0,211,null,null,"% CCRf"]
[22,2512,14,2523,14,2530,null,null,null,null,0,211,null,null,"average response rate",{"$f":"F38/P20","v":117.375},{"$f":"(F69-F38)/Q20","v":123.83870967741936},{"$f":"(F101-F69)/R20","v":130.375},{"$f":"(F133-F101)/S20","v":132.78125},{"$f":"(F164-F133)/T20","v":125.25806451612904},{"$f":"(F196-F164)/U20","v":127.59375}]
[22,2629,14,2641,14,2648,null,null,null,null,0,211]
[11,2757,12,2762,14,2770,null,null,null,null,0,111]
[22,2868,14,2880,14,2886,null,null,null,null,0,211]
[11,2999,12,3006,14,3013,null,null,null,null,0,111]
[11,3127,12,3134,14,3153,null,null,null,null,0,111]
[22,3252,14,3262,14,3270,null,null,null,null,0,211]
[22,3370,14,3384,14,3394,null,null,null,null,0,211]
[22,3493,14,3508,14,3512,null,null,null,null,0,211]
[22,3612,14,3624,14,3632,null,null,null,null,0,211]
[22,3731,14,3743,14,3756,null,null,null,null,0,211]
[11,3872,12,3879,14,3892,null,null,null,null,0,111]
[22,3991,14,4006,14,4012,null,null,null,null,0,211]
[22,4113,14,4126,14,4132,null,null,null,null,0,211]
[22,4232,14,4244,14,4250,null,null,null,null,0,211]
[22,4352,14,4360,14,4374,null,null,null,null,0,211]
[11,4487,12,4495,14,4501,null,null,null,null,0,111]
[22,4600,14,4612,14,4616,null,null,null,null,0,211]
[22,4720,14,4733,14,4741,null,null,null,null,0,211]
[22,4840,14,4862,14,4868,null,null,null,null,0,211]
[11,4983,12,4988,14,4995,null,null,null,null,0,111]
[22,5118,14,5130,14,5134,null,null,null,null,0,211]
[22,5234,14,5250,14,5256,null,null,null,null,0,211]
[22,5359,14,5372,14,5380,null,null,null,null,0,211]
[11,5493,12,5511,14,5518,null,null,null,null,0,111]
[22,5617,14,5628,14,5633,null,null,null,null,0,211]
[22,5732,14,5745,14,5752,null,null,null,null,0,211]
[22,5851,14,5863,14,5871,null,null,null,null,0,211]
[22,5971,23,5980,14,5992,null,null,null,null,0,221]
[22,6087,14,6099,14,6103,null,null,null,null,0,211]
[22,6203,14,6215,14,6220,null,null,null,null,0,211]
[22,6321,14,6334,14,6341,null,null,null,null,0,211]
[22,6439,14,6462,14,6469,null,null,null,null,0,211]
[22,6569,23,6577,14,6591,null,null,null,null,0,221]
[22,6690,23,6707,14,6720,null,null,null,null,0,221]
[22,6819,14,6831,14,6838,null,null,null,null,0,211]
[22,6937,14,6950,14,6954,null,null,null,null,0,211]
[22,7071,14,7086,14,7092,null,null,null,null,0,211]
[22,7190,23,7209,14,7221,null,null,null,null,0,221]
[22,7323,23,7345,14,7355,null,null,null,null,0,221]
[22,7457,14,7470,14,7476,null,null,null,null,0,211]
[22,7573,23,7582,14,7595,null,null,null,null,0,221]
[22,7696,14,7708,14,7716,null,null,null,null,0,211]
[22,7815,23,7826,14,7839,null,null,null,null,0,221]
[22,7941,23,7955,14,7972,null,null,null,null,0,221]
[22,8072,23,8082,14,8095,null,null,null,null,0,221]
[22,8195,23,8205,14,8220,null,null,null,null,0,221]
[22,8319,23,8340,14,8353,null,null,null,null,0,221]
[22,8481,14,8498,14,8504,null,null,null,null,0,211]
[22,8603,23,8612,23,8629,null,null,null,null,0,222]
[22,8734,23,8745,23,8762,null,null,null,null,0,222]
[22,8862,23,8870,23,8878,null,null,null,null,0,222]
[22,8992,14,9007,14,9014,null,null,null,null,0,211]
[22,9114,23,9124,23,9141,null,null,null,null,0,222]
[11,9258,12,9264,14,9271,null,null,null,null,0,111]
[22,9372,23,9382,14,9395,null,null,null,null,0,221]
[11,9520,12,9525,14,9535,null,null,null,null,0,111]
[22,9651,14,9666,14,9671,null,null,null,null,0,211]
[11,9804,12,9810,14,9817,null,null,null,null,0,111]
[11,9936,12,9946,14,9954,null,null,null,null,0,111]
[22,10053,23,10060,14,10081,null,null,null,null,0,221]
[22,10178,23,10186,14,10199,null,null,null,null,0,221]
[22,10298,23,10306,14,10321,null,null,null,null,0,221]
[22,10421,23,10434,14,10458,null,null,null,null,0,221]
[22,10577,14,10591,14,10599,null,null,null,null,0,211]
[22,10713,14,10727,14,10734,null,null,null,null,0,211]
[22,10844,14,10858,14,10864,null,null,null,null,0,211]
[22,10962,23,10974,14,10987,null,null,null,null,0,221]
[22,11086,23,11094,23,11107,null,null,null,null,0,222]
[22,11206,23,11217,23,11225,null,null,null,null,0,222]
[11,11362,12,11367,14,11375,null,null,null,null,0,111]
[22,11478,23,11486,14,11499,null,null,null,null,0,221]
[22,11602,14,11621,14,11625,null,null,null,null,0,211]
[22,11734,14,11753,14,11767,null,null,null,null,0,211]
[22,11867,23,11875,23,11886,null,null,null,null,0,222]
[22,11985,23,11993,14,12006,null,null,null,null,0,221]
[11,12104,12,12113,14,12121,null,null,null,null,0,111]
[22,12220,23,12227,14,12242,null,null,null,null,0,221]
[22,12345,23,12361,14,12373,null,null,null,null,0,221]
[11,12507,12,12514,14,12521,null,null,null,null,0,111]
[22,12621,23,12630,14,12646,null,null,null,null,0,221]
[22,12746,14,12761,14,12773,null,null,null,null,0,211]
[11,12886,21,12900,12,12913,null,null,null,null,0,121]
[11,13105,12,13117,14,13127,null,null,null,null,0,111]
[11,13226,12,13233,14,13243,null,null,null,null,0,111]
[22,13359,14,13387,14,13394,null,null,null,null,0,211]
[22,13495,23,13503,14,13516,null,null,null,null,0,221]
[22,13632,14,13656,14,13667,null,null,null,null,0,211]
[22,13777,14,13796,14,13803,null,null,null,null,0,211]
[22,13914,14,13943,14,13948,null,null,null,null,0,211]
[22,14051,14,14065,14,14072,null,null,null,null,0,211]
[22,14175,14,14195,14,14203,null,null,null,null,0,211]
[22,14303,23,14313,14,14331,null,null,null,null,0,221]
[22,14430,23,14440,14,14452,null,null,null,null,0,221]
[11,14569,12,14575,14,14583,null,null,null,null,0,111]
[22,14684,23,14715,23,14725,null,null,null,null,0,222]
[22,14827,14,14841,14,14846,null,null,null,null,0,211]
[22,14950,14,14963,14,14971,null,null,null,null,0,211]
[22,15074,14,15089,14,15096,null,null,null,null,0,211]
[22,15196,14,15211,14,15217,null,null,null,null,0,211]
[22,15317,14,15329,14,15334,null,null,null,null,0,211]
[22,15462,14,15475,14,15483,null,null,null,null,0,211]
[22,15582,14,15597,14,15605,null,null,null,null,0,211]
[22,15705,23,15712,14,15728,null,null,null,null,0,221]
[22,15827,14,15855,14,15860,null,null,null,null,0,211]
[22,15969,14,16008,14,16016,null,null,null,null,0,211]
[22,16115,14,16137,14,16148,null,null,null,null,0,211]
[22,16247,14,16261,14,16265,null,null,null,null,0,211]
[22,16364,23,16373,14,16390,null,null,null,null,0,221]
[22,16488,14,16502,14,16507,null,null,null,null,0,211]
[22,16617,14,16637,14,16645,null,null,null,null,0,211]
[22,16744,23,16755,14,16768,null,null,null,null,0,221]
[22,16877,14,16891,14,16902,null,null,null,null,0,211]
[22,17011,23,17018,14,17037,null,null,null,null,0,221]
[22,17138,14,17156,14,17166,null,null,null,null,0,211]
[22,17281,14,17298,14,17304,null,null,null,null,0,211]
[22,17403,23,17411,14,17425,null,null,null,null,0,221]
[22,17525,14,17538,14,17553,null,null,null,null,0,211]
[22,17650,14,17666,14,17673,null,null,null,null,0,211]
[22,17774,14,17786,14,17793,null,null,null,null,0,211]
[11,17906,12,17912,14,17919,null,null,null,null,0,111]
[22,18019,14,18032,14,18037,null,null,null,null,0,211]
[22,18137,23,18143,14,18157,null,null,null,null,0,221]
[22,18256,23,18263,23,18273,null,null,null,null,0,222]
[22,18374,14,18404,14,18411,null,null,null,null,0,211]
[22,18510,23,18517,14,18535,null,null,null,null,0,221]
[22,18634,23,18653,14,18668,null,null,null,null,0,221]
[22,18767,14,18780,14,18791,null,null,null,null,0,211]
[22,18889,23,18898,14,18911,null,null,null,null,0,221]
[22,19009,23,19019,23,19026,null,null,null,null,0,222]
[22,19135,14,19149,14,19154,null,null,null,null,0,211]
[11,19274,12,19281,14,19288,null,null,null,null,0,111]
[22,19387,23,19395,14,19407,null,null,null,null,0,221]
[22,19505,23,19513,14,19530,null,null,null,null,0,221]
[22,19634,14,19647,14,19654,null,null,null,null,0,211]
[22,19758,23,19766,23,19779,null,null,null,null,0,222]
[22,19877,23,19886,14,19899,null,null,null,null,0,221]
[22,19998,14,20012,14,20019,null,null,null,null,0,211]
[11,20135,12,20141,14,20148,null,null,null,null,0,111]
[22,20249,14,20282,14,20290,null,null,null,null,0,211]
[11,20402,12,20407,14,20416,null,null,null,null,0,111]
[22,20514,23,20525,14,20541,null,null,null,null,0,221]
[22,20648,23,20657,14,20677,null,null,null,null,0,221]
[22,20776,23,20784,14,20799,null,null,null,null,0,221]
[22,20905,23,20913,14,20927,null,null,null,null,0,221]
[22,21027,23,21045,23,21058,null,null,null,null,0,222]
[22,21162,14,21177,14,21189,null,null,null,null,0,211]
[22,21291,23,21298,14,21324,null,null,null,null,0,221]
[22,21428,23,21437,14,21450,null,null,null,null,0,221]
[22,21552,23,21560,14,21573,null,null,null,null,0,221]
[22,21670,23,21677,14,21690,null,null,null,null,0,221]
[11,21810,12,21818,14,21825,null,null,null,null,0,111]
[22,21929,14,21941,14,21956,null,null,null,null,0,211]
[22,22063,14,22077,14,22086,null,null,null,null,0,211]
[22,22183,14,22199,14,22204,null,null,null,null,0,211]
[22,22329,14,22341,14,22347,null,null,null,null,0,211]
[22,22450,14,22480,14,22486,null,null,null,null,0,211]
[22,22585,14,22599,14,22606,null,null,null,null,0,211]
[22,22714,23,22722,14,22735,null,null,null,null,0,221]
[22,22836,14,22851,14,22858,null,null,null,null,0,211]
[22,22958,23,22966,14,22978,null,null,null,null,0,221]
[22,23079,23,23087,14,23101,null,null,null,null,0,221]
[22,23198,23,23207,14,23227,null,null,null,null,0,221]
[22,23333,14,23345,14,23352,null,null,null,null,0,211]
[22,23453,23,23466,14,23478,null,null,null,null,0,221]
[22,23578,23,23585,14,23600,null,null,null,null,0,221]
[22,23702,23,23713,14,23726,null,null,null,null,0,221]
[22,23828,23,23835,14,23849,null,null,null,null,0,221]
[22,23959,23,23968,14,23982,null,null,null,null,null,221]

{"sheet":"!M716850.104","index":4,"n_rows":162,"n_cols":48,"rows_kept":162,"cut":false,"hidden":false,"merged":[[4,39,4,42],[5,39,5,40],[4,44,4,47],[5,44,5,45],[4,24,4,27],[5,24,5,25],[4,29,4,32],[5,29,5,30],[4,34,4,37],[5,34,5,35],[1,1,1,2],[5,13,5,14],[18,13,18,14],[19,13,19,14],[4,19,4,22],[5,19,5,20]]}
["Report for:!M716850.104"]
["Date:","<date>"]
["Hen:","<hen>",null,null,null,"Correct Sequence",{"$f":"Start!J2","v":122},null,null,null,null,null,null,null,null,"Total Sequences in Data",{"$f":"4994-COUNTBLANK(L7:L5000)","v":156},null,null,null,null,"Total Sequences in Block Data",{"$f":"COUNTA(L7:L32)","v":26},null,null,null,"Total Sequences in Block Data",{"$f":"COUNTA(L33:L58)","v":26},null,null,null,"Total Sequences in Block Data",{"$f":"COUNTA(L59:L84)","v":26},null,null,null,"Total Sequences in Block Data",{"$f":"COUNTA(L85:L110)","v":26},null,null,null,"Total Sequences in Block Data",{"$f":"COUNTA(L111:L136)","v":26},null,null,null,"Total Sequences in Block Data",{"$f":"COUNTA(L137:L162)","v":26}]
[null,null,null,null,null,null,null,null,null,null,null,null,null,null,null,"Total Sequences in Summary",{"$f":"SUM(O7:O14)","v":156},null,null,null,null,"Total Sequences in Block Summary",{"$f":"SUM(U7:U14)","v":26},null,null,null,"Total Sequences in Block Summary",{"$f":"SUM(Z7:Z14)","v":26},null,null,null,"Total Sequences in Block Summary",{"$f":"SUM(AE7:AE14)","v":26},null,null,null,"Total Sequences in Block Summary",{"$f":"SUM(AJ7:AJ14)","v":26},null,null,null,"Total Sequences in Block Summary",{"$f":"SUM(AO7:AO14)","v":26},null,null,null,"Total Sequences in Block Summary",{"$f":"SUM(AT7:AT14)","v":26}]
[null,null,null,null,null,null,null,null,null,null,null,null,null,null,null,null,null,null,null,"Block 1",null,null,null,null,"Block 2",null,null,null,null,"Block 3",null,null,null,null,"Block 4",null,null,null,null,"Block 5",null,null,null,null,"Block 6"]
["Sequence\nComponent\n1","Time\n1","Sequence\nComponent\n2","Time\n2","Sequence\nComponent\n3","Time\n3","Sequence\nComponent\n4","Time\n4","Sequence\nComponent\n5","Time\n5","Correct?\n0=No 1=Yes","Sequence",null,"Frequency",null,"Relative Frequency","Variability",null,null,"Frequency",null,"Relative Frequency","Variability",null,"Frequency",null,"Relative Frequency","Variability",null,"Frequency",null,"Relative Frequency","Variability",null,"Frequency",null,"Relative Frequency","Variability",null,"Frequency",null,"Relative Frequency","Variability",null,"Frequency",null,"Relative Frequency","Variability"]
[11,19,12,24,14,31,null,null,null,null,0,111,null,111,{"$f":"COUNTIF($L$7:$L$500,N7)","v":72},{"$f":"O7/$Q$4","v":0.46153846153846156},{"$f":"IF(P7=0,0,(P7*((LOG(P7))/LOG(2))))","v":-0.51483563880920125},null,null,{"$f":"N7","v":111},{"$f":"COUNTIF(L7:L32,T7)","v":5},{"$f":"U7/(W4-U10)","v":0.19230769230769232},{"$f":"IF(V7=0,0,(V7*((LOG(V7))/LOG(2))))","v":-0.45740608139494804},null,{"$f":"N7","v":111},{"$f":"COUNTIF(L33:L58,Y7)","v":10},{"$f":"Z7/(AB4-Z10)","v":0.38461538461538464},{"$f":"IF(AA7=0,0,(AA7*((LOG(AA7))/LOG(2))))","v":-0.53019677817451139},null,{"$f":"N7","v":111},{"$f":"COUNTIF(L59:L84,AD7)","v":16},{"$f":"AE7/(AG4-AE10)","v":0.61538461538461542},{"$f":"IF(AF7=0,0,(AF7*((LOG(AF7))/LOG(2))))","v":-0.43103982654836437},null,{"$f":"N7","v":111},{"$f":"COUNTIF(L85:L110,AI7)","v":7},{"$f":"AJ7/(AL4-AJ10)","v":0.26923076923076922},{"$f":"IF(AK7=0,0,(AK7*((LOG(AK7))/LOG(2))))","v":-0.50967667586863141},null,{"$f":"N7","v":111},{"$f":"COUNTIF(L111:L136,AN7)","v":17},{"$f":"AO7/(AQ4-AO10)","v":0.65384615384615385},{"$f":"IF(AP7=0,0,(AP7*((LOG(AP7))/LOG(2))))","v":-0.40079257335164603},null,{"$f":"N7","v":111},{"$f":"COUNTIF(L137:L162,AS7)","v":17},{"$f":"AT7/(AV4-AT10)","v":0.65384615384615385},{"$f":"IF(AU7=0,0,(AU7*((LOG(AU7))/LOG(2))))","v":-0.40079257335164603}]
[11,132,12,140,14,148,null,null,null,null,0,111,null,112,{"$f":"COUNTIF($L$7:$L$500,N8)","v":1},{"$f":"O8/$Q$4","v":6.41025641025641E-3},{"$f":"IF(P8=0,0,(P8*((LOG(P8))/LOG(2))))","v":-4.6701296274758004E-2},null,null,{"$f":"N8","v":112},{"$f":"COUNTIF(L7:L32,T8)","v":0},{"$f":"U8/(W4-U10)","v":0},{"$f":"IF(V8=0,0,(V8*((LOG(V8))/LOG(2))))","v":0},null,{"$f":"N8","v":112},{"$f":"COUNTIF(L33:L58,Y8)","v":0},{"$f":"Z8/(AB4-Z10)","v":0},{"$f":"IF(AA8=0,0,(AA8*((LOG(AA8))/LOG(2))))","v":0},null,{"$f":"N8","v":112},{"$f":"COUNTIF(L59:L84,AD8)","v":0},{"$f":"AE8/(AG4-AE10)","v":0},{"$f":"IF(AF8=0,0,(AF8*((LOG(AF8))/LOG(2))))","v":0},null,{"$f":"N8","v":112},{"$f":"COUNTIF(L85:L110,AI8)","v":1},{"$f":"AJ8/(AL4-AJ10)","v":3.8461538461538464E-2},{"$f":"IF(AK8=0,0,(AK8*((LOG(AK8))/LOG(2))))","v":-0.18078614300542661},null,{"$f":"N8","v":112},{"$f":"COUNTIF(L111:L136,AN8)","v":0},{"$f":"AO8/(AQ4-AO10)","v":0},{"$f":"IF(AP8=0,0,(AP8*((LOG(AP8))/LOG(2))))","v":0},null,{"$f":"N8","v":112},{"$f":"COUNTIF(L137:L162,AS8)","v":0},{"$f":"AT8/(AV4-AT10)","v":0},{"$f":"IF(AU8=0,0,(AU8*((LOG(AU8))/LOG(2))))","v":0}]
[11,260,12,266,14,275,null,null,null,null,0,111,null,121,{"$f":"COUNTIF($L$7:$L$500,N9)","v":0},{"$f":"O9/$Q$4","v":0},{"$f":"IF(P9=0,0,(P9*((LOG(P9))/LOG(2))))","v":0},null,null,{"$f":"N9","v":121},{"$f":"COUNTIF(L7:L32,T9)","v":0},{"$f":"U9/(W4-U10)","v":0},{"$f":"IF(V9=0,0,(V9*((LOG(V9))/LOG(2))))","v":0},null,{"$f":"N9","v":121},{"$f":"COUNTIF(L33:L58,Y9)","v":0},{"$f":"Z9/(AB4-Z10)","v":0},{"$f":"IF(AA9=0,0,(AA9*((LOG(AA9))/LOG(2))))","v":0},null,{"$f":"N9","v":121},{"$f":"COUNTIF(L59:L84,AD9)","v":0},{"$f":"AE9/(AG4-AE10)","v":0},{"$f":"IF(AF9=0,0,(AF9*((LOG(AF9))/LOG(2))))","v":0},null,{"$f":"N9","v":121},{"$f":"COUNTIF(L85:L110,AI9)","v":0},{"$f":"AJ9/(AL4-AJ10)","v":0},{"$f":"IF(AK9=0,0,(AK9*((LOG(AK9))/LOG(2))))","v":0},null,{"$f":"N9","v":121},{"$f":"COUNTIF(L111:L136,AN9)","v":0},{"$f":"AO9/(AQ4-AO10)","v":0},{"$f":"IF(AP9=0,0,(AP9*((LOG(AP9))/LOG(2))))","v":0},null,{"$f":"N9","v":121},{"$f":"COUNTIF(L137:L162,AS9)","v":0},{"$f":"AT9/(AV4-AT10)","v":0},{"$f":"IF(AU9=0,0,(AU9*((LOG(AU9))/LOG(2))))","v":0}]
[22,379,14,393,14,398,null,null,null,null,0,211,null,122,{"$f":"COUNTIF($L$7:$L$500,N10)","v":0},{"$f":"O10/$Q$4","v":0},{"$f":"IF(P10=0,0,(P10*((LOG(P10))/LOG(2))))","v":0},null,null,{"$f":"N10","v":122},{"$f":"COUNTIF(L7:L32,T10)","v":0},null,null,null,{"$f":"N10","v":122},{"$f":"COUNTIF(L33:L58,Y10)","v":0},null,null,null,{"$f":"N10","v":122},{"$f":"COUNTIF(L59:L84,AD10)","v":0},null,null,null,{"$f":"N10","v":122},{"$f":"COUNTIF(L85:L110,AI10)","v":0},null,null,null,{"$f":"N10","v":122},{"$f":"COUNTIF(L111:L136,AN10)","v":0},null,null,null,{"$f":"N10","v":122},{"$f":"COUNTIF(L137:L162,AS10)","v":0}]
[22,496,14,517,14,527,null,null,null,null,0,211,null,211,{"$f":"COUNTIF($L$7:$L$500,N11)","v":37},{"$f":"O11/$Q$4","v":0.23717948717948717},{"$f":"IF(P11=0,0,(P11*((LOG(P11))/LOG(2))))","v":-0.49237248442071824},null,null,{"$f":"N11","v":211},{"$f":"COUNTIF(L7:L32,T11)","v":7},{"$f":"U11/(W4-U10)","v":0.26923076923076922},{"$f":"IF(V11=0,0,(V11*((LOG(V11))/LOG(2))))","v":-0.50967667586863141},null,{"$f":"N11","v":211},{"$f":"COUNTIF(L33:L58,Y11)","v":6},{"$f":"Z11/(AB4-Z10)","v":0.23076923076923078},{"$f":"IF(AA11=0,0,(AA11*((LOG(AA11))/LOG(2))))","v":-0.48818705017383146},null,{"$f":"N11","v":211},{"$f":"COUNTIF(L59:L84,AD11)","v":6},{"$f":"AE11/(AG4-AE10)","v":0.23076923076923078},{"$f":"IF(AF11=0,0,(AF11*((LOG(AF11))/LOG(2))))","v":-0.48818705017383146},null,{"$f":"N11","v":211},{"$f":"COUNTIF(L85:L110,AI11)","v":6},{"$f":"AJ11/(AL4-AJ10)","v":0.23076923076923078},{"$f":"IF(AK11=0,0,(AK11*((LOG(AK11))/LOG(2))))","v":-0.48818705017383146},null,{"$f":"N11","v":211},{"$f":"COUNTIF(L111:L136,AN11)","v":6},{"$f":"AO11/(AQ4-AO10)","v":0.23076923076923078},{"$f":"IF(AP11=0,0,(AP11*((LOG(AP11))/LOG(2))))","v":-0.48818705017383146},null,{"$f":"N11","v":211},{"$f":"COUNTIF(L137:L162,AS11)","v":6},{"$f":"AT11/(AV4-AT10)","v":0.23076923076923078},{"$f":"IF(AU11=0,0,(AU11*((LOG(AU11))/LOG(2))))","v":-0.48818705017383146}]
[22,635,23,643,14,654,null,null,null,null,0,221,null,212,{"$f":"COUNTIF($L$7:$L$500,N12)","v":1},{"$f":"O12/$Q$4","v":6.41025641025641E-3},{"$f":"IF(P12=0,0,(P12*((LOG(P12))/LOG(2))))","v":-4.6701296274758004E-2},null,null,{"$f":"N12","v":212},{"$f":"COUNTIF(L7:L32,T12)","v":0},{"$f":"U12/(W4-U10)","v":0},{"$f":"IF(V12=0,0,(V12*((LOG(V12))/LOG(2))))","v":0},null,{"$f":"N12","v":212},{"$f":"COUNTIF(L33:L58,Y12)","v":0},{"$f":"Z12/(AB4-Z10)","v":0},{"$f":"IF(AA12=0,0,(AA12*((LOG(AA12))/LOG(2))))","v":0},null,{"$f":"N12","v":212},{"$f":"COUNTIF(L59:L84,AD12)","v":0},{"$f":"AE12/(AG4-AE10)","v":0},{"$f":"IF(AF12=0,0,(AF12*((LOG(AF12))/LOG(2))))","v":0},null,{"$f":"N12","v":212},{"$f":"COUNTIF(L85:L110,AI12)","v":1},{"$f":"AJ12/(AL4-AJ10)","v":3.8461538461538464E-2},{"$f":"IF(AK12=0,0,(AK12*((LOG(AK12))/LOG(2))))","v":-0.18078614300542661},null,{"$f":"N12","v":212},{"$f":"COUNTIF(L111:L136,AN12)","v":0},{"$f":"AO12/(AQ4-AO10)","v":0},{"$f":"IF(AP12=0,0,(AP12*((LOG(AP12))/LOG(2))))","v":0},null,{"$f":"N12","v":212},{"$f":"COUNTIF(L137:L162,AS12)","v":0},{"$f":"AT12/(AV4-AT10)","v":0},{"$f":"IF(AU12=0,0,(AU12*((LOG(AU12))/LOG(2))))","v":0}]
[22,759,14,772,14,776,null,null,null,null,0,211,null,221,{"$f":"COUNTIF($L$7:$L$500,N13)","v":38},{"$f":"O13/$Q$4","v":0.24358974358974358},{"$f":"IF(P13=0,0,(P13*((LOG(P13))/LOG(2))))","v":-0.4963079410635205},null,null,{"$f":"N13","v":221},{"$f":"COUNTIF(L7:L32,T13)","v":13},{"$f":"U13/(W4-U10)","v":0.5},{"$f":"IF(V13=0,0,(V13*((LOG(V13))/LOG(2))))","v":-0.5},null,{"$f":"N13","v":221},{"$f":"COUNTIF(L33:L58,Y13)","v":8},{"$f":"Z13/(AB4-Z10)","v":0.30769230769230771},{"$f":"IF(AA13=0,0,(AA13*((LOG(AA13))/LOG(2))))","v":-0.52321222096648989},null,{"$f":"N13","v":221},{"$f":"COUNTIF(L59:L84,AD13)","v":4},{"$f":"AE13/(AG4-AE10)","v":0.15384615384615385},{"$f":"IF(AF13=0,0,(AF13*((LOG(AF13))/LOG(2))))","v":-0.4154522643293988},null,{"$f":"N13","v":221},{"$f":"COUNTIF(L85:L110,AI13)","v":9},{"$f":"AJ13/(AL4-AJ10)","v":0.34615384615384615},{"$f":"IF(AK13=0,0,(AK13*((LOG(AK13))/LOG(2))))","v":-0.52979355578034681},null,{"$f":"N13","v":221},{"$f":"COUNTIF(L111:L136,AN13)","v":3},{"$f":"AO13/(AQ4-AO10)","v":0.11538461538461539},{"$f":"IF(AP13=0,0,(AP13*((LOG(AP13))/LOG(2))))","v":-0.35947814047153104},null,{"$f":"N13","v":221},{"$f":"COUNTIF(L137:L162,AS13)","v":1},{"$f":"AT13/(AV4-AT10)","v":3.8461538461538464E-2},{"$f":"IF(AU13=0,0,(AU13*((LOG(AU13))/LOG(2))))","v":-0.18078614300542661}]
[22,878,23,886,14,896,null,null,null,null,0,221,null,222,{"$f":"COUNTIF($L$7:$L$500,N14)","v":7},{"$f":"O14/$Q$4","v":4.4871794871794872E-2},{"$f":"IF(P14=0,0,(P14*((LOG(P14))/LOG(2))))","v":-0.20093801972841352},null,null,{"$f":"N14","v":222},{"$f":"COUNTIF(L7:L32,T14)","v":1},{"$f":"U14/(W4-U10)","v":3.8461538461538464E-2},{"$f":"IF(V14=0,0,(V14*((LOG(V14))/LOG(2))))","v":-0.18078614300542661},null,{"$f":"N14","v":222},{"$f":"COUNTIF(L33:L58,Y14)","v":2},{"$f":"Z14/(AB4-Z10)","v":7.6923076923076927E-2},{"$f":"IF(AA14=0,0,(AA14*((LOG(AA14))/LOG(2))))","v":-0.28464920908777636},null,{"$f":"N14","v":222},{"$f":"COUNTIF(L59:L84,AD14)","v":0},{"$f":"AE14/(AG4-AE10)","v":0},{"$f":"IF(AF14=0,0,(AF14*((LOG(AF14))/LOG(2))))","v":0},null,{"$f":"N14","v":222},{"$f":"COUNTIF(L85:L110,AI14)","v":2},{"$f":"AJ14/(AL4-AJ10)","v":7.6923076923076927E-2},{"$f":"IF(AK14=0,0,(AK14*((LOG(AK14))/LOG(2))))","v":-0.28464920908777636},null,{"$f":"N14","v":222},{"$f":"COUNTIF(L111:L136,AN14)","v":0},{"$f":"AO14/(AQ4-AO10)","v":0},{"$f":"IF(AP14=0,0,(AP14*((LOG(AP14))/LOG(2))))","v":0},null,{"$f":"N14","v":222},{"$f":"COUNTIF(L137:L162,AS14)","v":2},{"$f":"AT14/(AV4-AT10)","v":7.6923076923076927E-2},{"$f":"IF(AU14=0,0,(AU14*((LOG(AU14))/LOG(2))))","v":-0.28464920908777636}]
[22,1001,23,1008,14,1021,null,null,null,null,0,221,null,null,null,{"$f":"SUM(P7:P14)","v":0.99999999999999989},{"$f":"-SUM(Q7:Q14)","v":1.7978566765713695},null,null,null,null,{"$f":"SUM(V7:V14)","v":1},{"$f":"-SUM(W7:W14)","v":1.6478689002690059},null,null,null,{"$f":"SUM(AA7:AA14)","v":1},{"$f":"-SUM(AB7:AB14)","v":1.8262452584026092},null,null,null,{"$f":"SUM(AF7:AF14)","v":1},{"$f":"-SUM(AG7:AG14)","v":1.3346791410515946},null,null,null,{"$f":"SUM(AK7:AK14)","v":1},{"$f":"-SUM(AL7:AL14)","v":2.1738787769214394},null,null,null,{"$f":"SUM(AP7:AP14)","v":1},{"$f":"-SUM(AQ7:AQ14)","v":1.2484577639970085},null,null,null,{"$f":"SUM(AU7:AU14)","v":1},{"$f":"-SUM(AV7:AV14)","v":1.3544149756186803}]
[22,1122,23,1134,23,1142,null,null,null,null,0,222,null,null,null,"U=",{"$f":"Q15/(LOG(Q4)/LOG(2))","v":0.24677521193224364},null,null,null,null,"U1=",{"$f":"W15/(LOG(W4)/LOG(2))","v":0.3505776053055516},null,null,null,"U2=",{"$f":"AB15/(LOG(AB4)/LOG(2))","v":0.38852647154569708},null,null,null,"U3=",{"$f":"AG15/(LOG(AG4)/LOG(2))","v":0.28394772001871932},null,null,null,"U4=",{"$f":"AL15/(LOG(AL4)/LOG(2))","v":0.46248413069344818},null,null,null,"U5=",{"$f":"AQ15/(LOG(AQ4)/LOG(2))","v":0.26560446231841961},null,null,null,"U6=",{"$f":"AV15/(LOG(AV4)/LOG(2))","v":0.28814644093644881}]
[22,1251,14,1265,14,1273,null,null,null,null,0,211]
[22,1370,23,1379,14,1391,null,null,null,null,0,221]
[22,1501,23,1509,14,1522,null,null,null,null,0,221,null,"Total Target Seq"]
[22,1622,23,1630,14,1643,null,null,null,null,0,221,null,{"$f":"COUNTIF(L7:L162,G3)","v":0},null,26,26,26,26,26,26]
[22,1744,23,1759,14,1774,null,null,null,null,0,221,null,null,null,"% of reinforcement given in 6 equal intervals based on number of trials "]
[22,1875,23,1882,14,1904,null,null,null,null,0,221,null,null,null,"%_1","%_2","%_3","%_4","%_5","%_6"]
[22,2004,14,2025,14,2032,null,null,null,null,0,211,null,null,"target sequence",{"$f":"$G$3","v":122},{"$f":"$G$3","v":122},{"$f":"$G$3","v":122},{"$f":"$G$3","v":122},{"$f":"$G$3","v":122},{"$f":"$G$3","v":122}]
[22,2130,23,2145,14,2157,null,null,null,null,0,221,null,null,"total reinforcement",{"$f":"U10","v":0},{"$f":"Z10","v":0},{"$f":"AE10","v":0},{"$f":"AJ10","v":0},{"$f":"AO10","v":0},{"$f":"AT10","v":0}]
[22,2259,23,2266,14,2279,null,null,null,null,0,221,null,null,"% target"]
[11,2378,12,2384,14,2424,null,null,null,null,0,111,null,null,"CCRF"]
[22,2524,23,2532,14,2544,null,null,null,null,0,221,null,null,"% CCRf"]
[22,2644,23,2651,14,2665,null,null,null,null,0,221,null,null,"average response rate",{"$f":"F32/P20","v":123.23076923076923},{"$f":"(F58-F32)/Q20","v":131.84615384615384},{"$f":"(F84-F58)/R20","v":141.26923076923077},{"$f":"(F110-F84)/S20","v":135.11538461538461},{"$f":"(F136-F110)/T20","v":205.26923076923077},{"$f":"(F162-F136)/U20","v":181.5}]
[22,2764,23,2774,14,2788,null,null,null,null,0,221]
[22,2890,14,2914,14,2919,null,null,null,null,0,211]
[11,3054,12,3061,14,3069,null,null,null,null,0,111]
[22,3174,14,3196,14,3204,null,null,null,null,0,211]
[11,3341,12,3348,14,3356,null,null,null,null,0,111]
[22,3459,23,3477,14,3492,null,null,null,null,0,221]
[11,3599,12,3607,14,3615,null,null,null,null,0,111]
[11,3737,12,3743,14,3750,null,null,null,null,0,111]
[11,3866,12,3873,14,3880,null,null,null,null,0,111]
[11,3978,12,3985,14,3992,null,null,null,null,0,111]
[11,4115,12,4121,14,4128,null,null,null,null,0,111]
[22,4228,23,4258,14,4271,null,null,null,null,0,221]
[22,4371,23,4377,23,4388,null,null,null,null,0,222]
[22,4498,23,4507,14,4519,null,null,null,null,0,221]
[22,4620,23,4628,14,4642,null,null,null,null,0,221]
[22,4742,14,4772,14,4778,null,null,null,null,0,211]
[22,4884,23,4890,23,4900,null,null,null,null,0,222]
[22,5013,23,5021,14,5037,null,null,null,null,0,221]
[22,5137,14,5166,14,5175,null,null,null,null,0,211]
[22,5280,23,5283,14,5297,null,null,null,null,0,221]
[22,5400,14,5414,14,5421,null,null,null,null,0,211]
[22,5529,14,5554,14,5562,null,null,null,null,0,211]
[22,5666,14,5680,14,5685,null,null,null,null,0,211]
[11,5812,12,5816,14,5825,null,null,null,null,0,111]
[22,5927,23,5935,14,5954,null,null,null,null,0,221]
[22,6053,23,6060,14,6074,null,null,null,null,0,221]
[22,6192,14,6206,14,6219,null,null,null,null,0,211]
[11,6360,12,6365,14,6372,null,null,null,null,0,111]
[11,6486,12,6491,14,6499,null,null,null,null,0,111]
[11,6621,12,6626,14,6632,null,null,null,null,0,111]
[11,6754,12,6761,14,6769,null,null,null,null,0,111]
[11,6894,12,6899,14,6906,null,null,null,null,0,111]
[11,7053,12,7062,14,7070,null,null,null,null,0,111]
[11,7186,12,7193,14,7201,null,null,null,null,0,111]
[22,7307,14,7320,14,7325,null,null,null,null,0,211]
[11,7451,12,7459,14,7467,null,null,null,null,0,111]
[11,7582,12,7586,14,7603,null,null,null,null,0,111]
[22,7704,23,7725,14,7738,null,null,null,null,0,221]
[22,7867,23,7875,14,7889,null,null,null,null,0,221]
[11,8025,12,8031,14,8039,null,null,null,null,0,111]
[11,8159,12,8166,14,8174,null,null,null,null,0,111]
[11,8314,12,8323,14,8330,null,null,null,null,0,111]
[11,8472,12,8479,14,8487,null,null,null,null,0,111]
[22,8587,14,8613,14,8620,null,null,null,null,0,211]
[22,8735,14,8760,14,8767,null,null,null,null,0,211]
[22,8867,14,8892,14,8899,null,null,null,null,0,211]
[22,9008,14,9021,14,9026,null,null,null,null,0,211]
[11,9174,12,9181,14,9188,null,null,null,null,0,111]
[11,9318,12,9325,14,9334,null,null,null,null,0,111]
[11,9457,12,9464,14,9472,null,null,null,null,0,111]
[22,9576,14,9607,14,9614,null,null,null,null,0,211]
[11,9745,12,9752,14,9760,null,null,null,null,0,111]
[11,9903,12,9907,14,9915,null,null,null,null,0,111]
[11,10045,12,10050,14,10059,null,null,null,null,0,111]
[22,10161,23,10170,14,10182,null,null,null,null,0,221]
[22,10285,23,10292,14,10305,null,null,null,null,0,221]
[11,10431,12,10441,14,10448,null,null,null,null,0,111]
[11,10566,12,10573,14,10581,null,null,null,null,0,111]
[22,10696,14,10714,14,10722,null,null,null,null,0,211]
[22,10868,23,10887,14,10901,null,null,null,null,0,221]
[11,11032,12,11037,14,11045,null,null,null,null,0,111]
[11,11145,12,11150,23,11167,null,null,null,null,0,112]
[22,11284,14,11295,14,11309,null,null,null,null,0,211]
[22,11411,23,11421,14,11434,null,null,null,null,0,221]
[22,11536,23,11543,14,11557,null,null,null,null,0,221]
[11,11694,12,11702,14,11710,null,null,null,null,0,111]
[22,11824,14,11849,14,11858,null,null,null,null,0,211]
[11,11965,12,11969,14,11977,null,null,null,null,0,111]
[22,12080,23,12087,14,12102,null,null,null,null,0,221]
[22,12204,23,12214,14,12228,null,null,null,null,0,221]
[22,12333,23,12340,23,12348,null,null,null,null,0,222]
[22,12449,23,12457,14,12470,null,null,null,null,0,221]
[22,12569,23,12579,23,12587,null,null,null,null,0,222]
[22,12687,23,12694,14,12710,null,null,null,null,0,221]
[22,12811,23,12818,14,12832,null,null,null,null,0,221]
[22,12934,14,12960,14,12968,null,null,null,null,0,211]
[22,13070,14,13088,14,13098,null,null,null,null,0,211]
[11,13261,12,13266,14,13281,null,null,null,null,0,111]
[11,13412,12,13421,14,13429,null,null,null,null,0,111]
[22,13539,14,13553,23,13571,null,null,null,null,0,212]
[22,13673,14,13686,14,13691,null,null,null,null,0,211]
[22,13798,23,13806,14,13818,null,null,null,null,0,221]
[22,13922,14,13936,14,13942,null,null,null,null,0,211]
[22,14064,14,14078,14,14086,null,null,null,null,0,211]
[22,14192,23,14203,14,14216,null,null,null,null,0,221]
[11,14357,12,14362,14,14377,null,null,null,null,0,111]
[22,14481,14,14497,14,14501,null,null,null,null,0,211]
[11,14636,12,14644,14,14653,null,null,null,null,0,111]
[22,14754,23,14760,14,14777,null,null,null,null,0,221]
[22,14883,23,14899,14,14919,null,null,null,null,0,221]
[22,15056,14,15075,14,15089,null,null,null,null,0,211]
[11,15320,12,15328,14,15336,null,null,null,null,0,111]
[11,15657,12,15698,14,15706,null,null,null,null,0,111]
[11,15929,12,15937,14,15952,null,null,null,null,0,111]
[11,16089,12,16146,14,16154,null,null,null,null,0,111]
[11,16395,12,16403,14,16411,null,null,null,null,0,111]
[11,16574,12,16579,14,16586,null,null,null,null,0,111]
[11,16716,12,16723,14,16731,null,null,null,null,0,111]
[11,16911,12,16985,14,16990,null,null,null,null,0,111]
[22,17115,14,17128,14,17133,null,null,null,null,0,211]
[11,17334,12,17343,14,17351,null,null,null,null,0,111]
[11,17614,12,17621,14,17628,null,null,null,null,0,111]
[11,17810,12,17816,14,17823,null,null,null,null,0,111]
[11,17957,12,17962,14,17976,null,null,null,null,0,111]
[22,18191,14,18205,14,18214,null,null,null,null,0,211]
[11,18517,12,18545,14,18562,null,null,null,null,0,111]
[11,18753,12,18763,14,18771,null,null,null,null,0,111]
[11,19136,12,19145,14,19155,null,null,null,null,0,111]
[11,19296,12,19308,14,19323,null,null,null,null,0,111]
[11,19521,12,19527,14,19542,null,null,null,null,0,111]
[11,19685,12,19692,14,19699,null,null,null,null,0,111]
[11,19852,12,19857,14,19865,null,null,null,null,0,111]
[11,20027,12,20035,14,20051,null,null,null,null,0,111]
[22,20185,14,20198,14,20202,null,null,null,null,0,211]
[11,20338,12,20347,14,20354,null,null,null,null,0,111]
[11,20491,12,20496,14,20501,null,null,null,null,0,111]
[11,20642,12,20670,14,20679,null,null,null,null,0,111]
[22,20905,14,20920,14,20925,null,null,null,null,0,211]
[22,21047,23,21067,23,21084,null,null,null,null,0,222]
[22,21271,14,21288,14,21293,null,null,null,null,0,211]
[22,21407,23,21431,14,21450,null,null,null,null,0,221]
[11,21607,12,21616,14,21623,null,null,null,null,0,111]
[22,21727,23,21741,23,21757,null,null,null,null,0,222]
[11,21889,12,21898,14,21906,null,null,null,null,0,111]
[11,22051,12,22055,14,22064,null,null,null,null,0,111]
[22,22220,14,22240,14,22245,null,null,null,null,0,211]
[22,22394,14,22409,14,22419,null,null,null,null,0,211]
[11,22674,12,22681,14,22690,null,null,null,null,0,111]
[11,22843,12,22850,14,22875,null,null,null,null,0,111]
[11,23079,12,23083,14,23095,null,null,null,null,0,111]
[22,23212,14,23225,14,23232,null,null,null,null,0,211]
[11,23431,12,23439,14,23459,null,null,null,null,0,111]
[11,23619,12,23625,14,23634,null,null,null,null,0,111]
[11,23859,12,23866,14,23874,null,null,null,null,0,111]

{"sheet":"!M717A20.104","index":5,"n_rows":158,"n_cols":48,"rows_kept":158,"cut":false,"hidden":false,"merged":[[4,39,4,42],[5,39,5,40],[4,44,4,47],[5,44,5,45],[4,24,4,27],[5,24,5,25],[4,29,4,32],[5,29,5,30],[4,34,4,37],[5,34,5,35],[1,1,1,2],[5,13,5,14],[18,13,18,14],[19,13,19,14],[4,19,4,22],[5,19,5,20]]}
["Report for:!M717A20.104"]
["Date:","<date>"]
["Hen:","<hen>",null,null,null,"Correct Sequence",{"$f":"Start!J2","v":122},null,null,null,null,null,null,null,null,"Total Sequences in Data",{"$f":"4994-COUNTBLANK(L7:L5000)","v":152},null,null,null,null,"Total Sequences in Block Data",{"$f":"COUNTA(L7:L31)","v":25},null,null,null,"Total Sequences in Block Data",{"$f":"COUNTA(L32:L57)","v":26},null,null,null,"Total Sequences in Block Data",{"$f":"COUNTA(L58:L82)","v":25},null,null,null,"Total Sequences in Block Data",{"$f":"COUNTA(L83:L107)","v":25},null,null,null,"Total Sequences in Block Data",{"$f":"COUNTA(L108:L133)","v":26},null,null,null,"Total Sequences in Block Data",{"$f":"COUNTA(L134:L158)","v":25}]
[null,null,null,null,null,null,null,null,null,null,null,null,null,null,null,"Total Sequences in Summary",{"$f":"SUM(O7:O14)","v":152},null,null,null,null,"Total Sequences in Block Summary",{"$f":"SUM(U7:U14)","v":25},null,null,null,"Total Sequences in Block Summary",{"$f":"SUM(Z7:Z14)","v":26},null,null,null,"Total Sequences in Block Summary",{"$f":"SUM(AE7:AE14)","v":25},null,null,null,"Total Sequences in Block Summary",{"$f":"SUM(AJ7:AJ14)","v":25},null,null,null,"Total Sequences in Block Summary",{"$f":"SUM(AO7:AO14)","v":26},null,null,null,"Total Sequences in Block Summary",{"$f":"SUM(AT7:AT14)","v":25}]
[null,null,null,null,null,null,null,null,null,null,null,null,null,null,null,null,null,null,null,"Block 1",null,null,null,null,"Block 2",null,null,null,null,"Block 3",null,null,null,null,"Block 4",null,null,null,null,"Block 5",null,null,null,null,"Block 6"]
["Sequence\nComponent\n1","Time\n1","Sequence\nComponent\n2","Time\n2","Sequence\nComponent\n3","Time\n3","Sequence\nComponent\n4","Time\n4","Sequence\nComponent\n5","Time\n5","Correct?\n0=No 1=Yes","Sequence",null,"Frequency",null,"Relative Frequency","Variability",null,null,"Frequency",null,"Relative Frequency","Variability",null,"Frequency",null,"Relative Frequency","Variability",null,"Frequency",null,"Relative Frequency","Variability",null,"Frequency",null,"Relative Frequency","Variability",null,"Frequency",null,"Relative Frequency","Variability",null,"Frequency",null,"Relative Frequency","Variability"]
[11,27,12,34,14,41,null,null,null,null,0,111,null,111,{"$f":"COUNTIF($L$7:$L$500,N7)","v":46},{"$f":"O7/$Q$4","v":0.30263157894736842},{"$f":"IF(P7=0,0,(P7*((LOG(P7))/LOG(2))))","v":-0.5218474713143576},null,null,{"$f":"N7","v":111},{"$f":"COUNTIF(L7:L31,T7)","v":1},{"$f":"U7/(W4-U10)","v":0.04},{"$f":"IF(V7=0,0,(V7*((LOG(V7))/LOG(2))))","v":-0.18575424759098899},null,{"$f":"N7","v":111},{"$f":"COUNTIF(L32:L57,Y7)","v":3},{"$f":"Z7/(AB4-Z10)","v":0.11538461538461539},{"$f":"IF(AA7=0,0,(AA7*((LOG(AA7))/LOG(2))))","v":-0.35947814047153104},null,{"$f":"N7","v":111},{"$f":"COUNTIF(L58:L82,AD7)","v":15},{"$f":"AE7/(AG4-AE10)","v":0.6},{"$f":"IF(AF7=0,0,(AF7*((LOG(AF7))/LOG(2))))","v":-0.44217935649972373},null,{"$f":"N7","v":111},{"$f":"COUNTIF(L83:L107,AI7)","v":11},{"$f":"AJ7/(AL4-AJ10)","v":0.44},{"$f":"IF(AK7=0,0,(AK7*((LOG(AK7))/LOG(2))))","v":-0.52114681130046814},null,{"$f":"N7","v":111},{"$f":"COUNTIF(L108:L133,AN7)","v":9},{"$f":"AO7/(AQ4-AO10)","v":0.34615384615384615},{"$f":"IF(AP7=0,0,(AP7*((LOG(AP7))/LOG(2))))","v":-0.52979355578034681},null,{"$f":"N7","v":111},{"$f":"COUNTIF(L134:L158,AS7)","v":7},{"$f":"AT7/(AV4-AT10)","v":0.28000000000000003},{"$f":"IF(AU7=0,0,(AU7*((LOG(AU7))/LOG(2))))","v":-0.51422035496079388}]
[22,139,14,153,14,160,null,null,null,null,0,211,null,112,{"$f":"COUNTIF($L$7:$L$500,N8)","v":1},{"$f":"O8/$Q$4","v":6.5789473684210523E-3},{"$f":"IF(P8=0,0,(P8*((LOG(P8))/LOG(2))))","v":-4.7683733641076219E-2},null,null,{"$f":"N8","v":112},{"$f":"COUNTIF(L7:L31,T8)","v":0},{"$f":"U8/(W4-U10)","v":0},{"$f":"IF(V8=0,0,(V8*((LOG(V8))/LOG(2))))","v":0},null,{"$f":"N8","v":112},{"$f":"COUNTIF(L32:L57,Y8)","v":0},{"$f":"Z8/(AB4-Z10)","v":0},{"$f":"IF(AA8=0,0,(AA8*((LOG(AA8))/LOG(2))))","v":0},null,{"$f":"N8","v":112},{"$f":"COUNTIF(L58:L82,AD8)","v":0},{"$f":"AE8/(AG4-AE10)","v":0},{"$f":"IF(AF8=0,0,(AF8*((LOG(AF8))/LOG(2))))","v":0},null,{"$f":"N8","v":112},{"$f":"COUNTIF(L83:L107,AI8)","v":1},{"$f":"AJ8/(AL4-AJ10)","v":0.04},{"$f":"IF(AK8=0,0,(AK8*((LOG(AK8))/LOG(2))))","v":-0.18575424759098899},null,{"$f":"N8","v":112},{"$f":"COUNTIF(L108:L133,AN8)","v":0},{"$f":"AO8/(AQ4-AO10)","v":0},{"$f":"IF(AP8=0,0,(AP8*((LOG(AP8))/LOG(2))))","v":0},null,{"$f":"N8","v":112},{"$f":"COUNTIF(L134:L158,AS8)","v":0},{"$f":"AT8/(AV4-AT10)","v":0},{"$f":"IF(AU8=0,0,(AU8*((LOG(AU8))/LOG(2))))","v":0}]
[22,257,14,270,14,274,null,null,null,null,0,211,null,121,{"$f":"COUNTIF($L$7:$L$500,N9)","v":1},{"$f":"O9/$Q$4","v":6.5789473684210523E-3},{"$f":"IF(P9=0,0,(P9*((LOG(P9))/LOG(2))))","v":-4.7683733641076219E-2},null,null,{"$f":"N9","v":121},{"$f":"COUNTIF(L7:L31,T9)","v":1},{"$f":"U9/(W4-U10)","v":0.04},{"$f":"IF(V9=0,0,(V9*((LOG(V9))/LOG(2))))","v":-0.18575424759098899},null,{"$f":"N9","v":121},{"$f":"COUNTIF(L32:L57,Y9)","v":0},{"$f":"Z9/(AB4-Z10)","v":0},{"$f":"IF(AA9=0,0,(AA9*((LOG(AA9))/LOG(2))))","v":0},null,{"$f":"N9","v":121},{"$f":"COUNTIF(L58:L82,AD9)","v":0},{"$f":"AE9/(AG4-AE10)","v":0},{"$f":"IF(AF9=0,0,(AF9*((LOG(AF9))/LOG(2))))","v":0},null,{"$f":"N9","v":121},{"$f":"COUNTIF(L83:L107,AI9)","v":0},{"$f":"AJ9/(AL4-AJ10)","v":0},{"$f":"IF(AK9=0,0,(AK9*((LOG(AK9))/LOG(2))))","v":0},null,{"$f":"N9","v":121},{"$f":"COUNTIF(L108:L133,AN9)","v":0},{"$f":"AO9/(AQ4-AO10)","v":0},{"$f":"IF(AP9=0,0,(AP9*((LOG(AP9))/LOG(2))))","v":0},null,{"$f":"N9","v":121},{"$f":"COUNTIF(L134:L158,AS9)","v":0},{"$f":"AT9/(AV4-AT10)","v":0},{"$f":"IF(AU9=0,0,(AU9*((LOG(AU9))/LOG(2))))","v":0}]
[22,374,14,391,14,396,null,null,null,null,0,211,null,122,{"$f":"COUNTIF($L$7:$L$500,N10)","v":0},{"$f":"O10/$Q$4","v":0},{"$f":"IF(P10=0,0,(P10*((LOG(P10))/LOG(2))))","v":0},null,null,{"$f":"N10","v":122},{"$f":"COUNTIF(L7:L31,T10)","v":0},null,null,null,{"$f":"N10","v":122},{"$f":"COUNTIF(L32:L57,Y10)","v":0},null,null,null,{"$f":"N10","v":122},{"$f":"COUNTIF(L58:L82,AD10)","v":0},null,null,null,{"$f":"N10","v":122},{"$f":"COUNTIF(L83:L107,AI10)","v":0},null,null,null,{"$f":"N10","v":122},{"$f":"COUNTIF(L108:L133,AN10)","v":0},null,null,null,{"$f":"N10","v":122},{"$f":"COUNTIF(L134:L158,AS10)","v":0}]
[11,489,21,502,12,522,null,null,null,null,0,121,null,211,{"$f":"COUNTIF($L$7:$L$500,N11)","v":57},{"$f":"O11/$Q$4","v":0.375},{"$f":"IF(P11=0,0,(P11*((LOG(P11))/LOG(2))))","v":-0.53063906222956647},null,null,{"$f":"N11","v":211},{"$f":"COUNTIF(L7:L31,T11)","v":10},{"$f":"U11/(W4-U10)","v":0.4},{"$f":"IF(V11=0,0,(V11*((LOG(V11))/LOG(2))))","v":-0.52877123795494496},null,{"$f":"N11","v":211},{"$f":"COUNTIF(L32:L57,Y11)","v":13},{"$f":"Z11/(AB4-Z10)","v":0.5},{"$f":"IF(AA11=0,0,(AA11*((LOG(AA11))/LOG(2))))","v":-0.5},null,{"$f":"N11","v":211},{"$f":"COUNTIF(L58:L82,AD11)","v":7},{"$f":"AE11/(AG4-AE10)","v":0.28000000000000003},{"$f":"IF(AF11=0,0,(AF11*((LOG(AF11))/LOG(2))))","v":-0.51422035496079388},null,{"$f":"N11","v":211},{"$f":"COUNTIF(L83:L107,AI11)","v":9},{"$f":"AJ11/(AL4-AJ10)","v":0.36},{"$f":"IF(AK11=0,0,(AK11*((LOG(AK11))/LOG(2))))","v":-0.53061522779966841},null,{"$f":"N11","v":211},{"$f":"COUNTIF(L108:L133,AN11)","v":11},{"$f":"AO11/(AQ4-AO10)","v":0.42307692307692307},{"$f":"IF(AP11=0,0,(AP11*((LOG(AP11))/LOG(2))))","v":-0.52504188825160547},null,{"$f":"N11","v":211},{"$f":"COUNTIF(L134:L158,AS11)","v":7},{"$f":"AT11/(AV4-AT10)","v":0.28000000000000003},{"$f":"IF(AU11=0,0,(AU11*((LOG(AU11))/LOG(2))))","v":-0.51422035496079388}]
[22,677,23,686,14,699,null,null,null,null,0,221,null,212,{"$f":"COUNTIF($L$7:$L$500,N12)","v":0},{"$f":"O12/$Q$4","v":0},{"$f":"IF(P12=0,0,(P12*((LOG(P12))/LOG(2))))","v":0},null,null,{"$f":"N12","v":212},{"$f":"COUNTIF(L7:L31,T12)","v":0},{"$f":"U12/(W4-U10)","v":0},{"$f":"IF(V12=0,0,(V12*((LOG(V12))/LOG(2))))","v":0},null,{"$f":"N12","v":212},{"$f":"COUNTIF(L32:L57,Y12)","v":0},{"$f":"Z12/(AB4-Z10)","v":0},{"$f":"IF(AA12=0,0,(AA12*((LOG(AA12))/LOG(2))))","v":0},null,{"$f":"N12","v":212},{"$f":"COUNTIF(L58:L82,AD12)","v":0},{"$f":"AE12/(AG4-AE10)","v":0},{"$f":"IF(AF12=0,0,(AF12*((LOG(AF12))/LOG(2))))","v":0},null,{"$f":"N12","v":212},{"$f":"COUNTIF(L83:L107,AI12)","v":0},{"$f":"AJ12/(AL4-AJ10)","v":0},{"$f":"IF(AK12=0,0,(AK12*((LOG(AK12))/LOG(2))))","v":0},null,{"$f":"N12","v":212},{"$f":"COUNTIF(L108:L133,AN12)","v":0},{"$f":"AO12/(AQ4-AO10)","v":0},{"$f":"IF(AP12=0,0,(AP12*((LOG(AP12))/LOG(2))))","v":0},null,{"$f":"N12","v":212},{"$f":"COUNTIF(L134:L158,AS12)","v":0},{"$f":"AT12/(AV4-AT10)","v":0},{"$f":"IF(AU12=0,0,(AU12*((LOG(AU12))/LOG(2))))","v":0}]
[22,797,14,817,14,825,null,null,null,null,0,211,null,221,{"$f":"COUNTIF($L$7:$L$500,N13)","v":35},{"$f":"O13/$Q$4","v":0.23026315789473684},{"$f":"IF(P13=0,0,(P13*((LOG(P13))/LOG(2))))","v":-0.4878457722200768},null,null,{"$f":"N13","v":221},{"$f":"COUNTIF(L7:L31,T13)","v":10},{"$f":"U13/(W4-U10)","v":0.4},{"$f":"IF(V13=0,0,(V13*((LOG(V13))/LOG(2))))","v":-0.52877123795494496},null,{"$f":"N13","v":221},{"$f":"COUNTIF(L32:L57,Y13)","v":7},{"$f":"Z13/(AB4-Z10)","v":0.26923076923076922},{"$f":"IF(AA13=0,0,(AA13*((LOG(AA13))/LOG(2))))","v":-0.50967667586863141},null,{"$f":"N13","v":221},{"$f":"COUNTIF(L58:L82,AD13)","v":3},{"$f":"AE13/(AG4-AE10)","v":0.12},{"$f":"IF(AF13=0,0,(AF13*((LOG(AF13))/LOG(2))))","v":-0.36706724268642821},null,{"$f":"N13","v":221},{"$f":"COUNTIF(L83:L107,AI13)","v":1},{"$f":"AJ13/(AL4-AJ10)","v":0.04},{"$f":"IF(AK13=0,0,(AK13*((LOG(AK13))/LOG(2))))","v":-0.18575424759098899},null,{"$f":"N13","v":221},{"$f":"COUNTIF(L108:L133,AN13)","v":5},{"$f":"AO13/(AQ4-AO10)","v":0.19230769230769232},{"$f":"IF(AP13=0,0,(AP13*((LOG(AP13))/LOG(2))))","v":-0.45740608139494804},null,{"$f":"N13","v":221},{"$f":"COUNTIF(L134:L158,AS13)","v":9},{"$f":"AT13/(AV4-AT10)","v":0.36},{"$f":"IF(AU13=0,0,(AU13*((LOG(AU13))/LOG(2))))","v":-0.53061522779966841}]
[22,929,14,950,14,956,null,null,null,null,0,211,null,222,{"$f":"COUNTIF($L$7:$L$500,N14)","v":12},{"$f":"O14/$Q$4","v":7.8947368421052627E-2},{"$f":"IF(P14=0,0,(P14*((LOG(P14))/LOG(2))))","v":-0.28918144837282334},null,null,{"$f":"N14","v":222},{"$f":"COUNTIF(L7:L31,T14)","v":3},{"$f":"U14/(W4-U10)","v":0.12},{"$f":"IF(V14=0,0,(V14*((LOG(V14))/LOG(2))))","v":-0.36706724268642821},null,{"$f":"N14","v":222},{"$f":"COUNTIF(L32:L57,Y14)","v":3},{"$f":"Z14/(AB4-Z10)","v":0.11538461538461539},{"$f":"IF(AA14=0,0,(AA14*((LOG(AA14))/LOG(2))))","v":-0.35947814047153104},null,{"$f":"N14","v":222},{"$f":"COUNTIF(L58:L82,AD14)","v":0},{"$f":"AE14/(AG4-AE10)","v":0},{"$f":"IF(AF14=0,0,(AF14*((LOG(AF14))/LOG(2))))","v":0},null,{"$f":"N14","v":222},{"$f":"COUNTIF(L83:L107,AI14)","v":3},{"$f":"AJ14/(AL4-AJ10)","v":0.12},{"$f":"IF(AK14=0,0,(AK14*((LOG(AK14))/LOG(2))))","v":-0.36706724268642821},null,{"$f":"N14","v":222},{"$f":"COUNTIF(L108:L133,AN14)","v":1},{"$f":"AO14/(AQ4-AO10)","v":3.8461538461538464E-2},{"$f":"IF(AP14=0,0,(AP14*((LOG(AP14))/LOG(2))))","v":-0.18078614300542661},null,{"$f":"N14","v":222},{"$f":"COUNTIF(L134:L158,AS14)","v":2},{"$f":"AT14/(AV4-AT10)","v":0.08},{"$f":"IF(AU14=0,0,(AU14*((LOG(AU14))/LOG(2))))","v":-0.29150849518197797}]
[22,1056,23,1065,14,1076,null,null,null,null,0,221,null,null,null,{"$f":"SUM(P7:P14)","v":1},{"$f":"-SUM(Q7:Q14)","v":1.924881221418977},null,null,null,null,{"$f":"SUM(V7:V14)","v":1},{"$f":"-SUM(W7:W14)","v":1.7961182137782963},null,null,null,{"$f":"SUM(AA7:AA14)","v":1},{"$f":"-SUM(AB7:AB14)","v":1.7286329568116936},null,null,null,{"$f":"SUM(AF7:AF14)","v":1},{"$f":"-SUM(AG7:AG14)","v":1.3234669541469457},null,null,null,{"$f":"SUM(AK7:AK14)","v":1},{"$f":"-SUM(AL7:AL14)","v":1.7903377769685429},null,null,null,{"$f":"SUM(AP7:AP14)","v":0.99999999999999989},{"$f":"-SUM(AQ7:AQ14)","v":1.6930276684323271},null,null,null,{"$f":"SUM(AU7:AU14)","v":1},{"$f":"-SUM(AV7:AV14)","v":1.850564432903234}]
[22,1177,14,1196,14,1203,null,null,null,null,0,211,null,null,null,"U=",{"$f":"Q15/(LOG(Q4)/LOG(2))","v":0.26557677596094509},null,null,null,null,"U1=",{"$f":"W15/(LOG(W4)/LOG(2))","v":0.38677300510148366},null,null,null,"U2=",{"$f":"AB15/(LOG(AB4)/LOG(2))","v":0.36775983960396907},null,null,null,"U3=",{"$f":"AG15/(LOG(AG4)/LOG(2))","v":0.28499309626794178},null,null,null,"U4=",{"$f":"AL15/(LOG(AL4)/LOG(2))","v":0.38552825578679101},null,null,null,"U5=",{"$f":"AQ15/(LOG(AQ4)/LOG(2))","v":0.36018495501562947},null,null,null,"U6=",{"$f":"AV15/(LOG(AV4)/LOG(2))","v":0.39849736022790261}]
[22,1315,14,1328,14,1335,null,null,null,null,0,211]
[22,1435,23,1442,14,1454,null,null,null,null,0,221]
[22,1554,14,1582,14,1588,null,null,null,null,0,211,null,"Total Target Seq"]
[22,1693,23,1700,14,1712,null,null,null,null,0,221,null,{"$f":"COUNTIF(L7:L158,G3)","v":0},null,25,26,25,25,26,25]
[22,1813,23,1833,14,1847,null,null,null,null,0,221,null,null,null,"% of reinforcement given in 6 equal intervals based on number of trials "]
[22,1954,23,1963,14,1975,null,null,null,null,0,221,null,null,null,"%_1","%_2","%_3","%_4","%_5","%_6"]
[22,2081,23,2088,23,2096,null,null,null,null,0,222,null,null,"target sequence",{"$f":"$G$3","v":122},{"$f":"$G$3","v":122},{"$f":"$G$3","v":122},{"$f":"$G$3","v":122},{"$f":"$G$3","v":122},{"$f":"$G$3","v":122}]
[22,2212,14,2225,14,2233,null,null,null,null,0,211,null,null,"total reinforcement",{"$f":"U10","v":0},{"$f":"Z10","v":0},{"$f":"AE10","v":0},{"$f":"AJ10","v":0},{"$f":"AO10","v":0},{"$f":"AT10","v":0}]
[22,2332,23,2340,14,2355,null,null,null,null,0,221,null,null,"% target"]
[22,2462,23,2470,14,2484,null,null,null,null,0,221,null,null,"CCRF"]
[22,2583,23,2594,14,2611,null,null,null,null,0,221,null,null,"% CCRf"]
[22,2711,23,2714,23,2722,null,null,null,null,0,222,null,null,"average response rate",{"$f":"F31/P20","v":123.8},{"$f":"(F57-F31)/Q20","v":143.73076923076923},{"$f":"(F82-F57)/R20","v":155.08000000000001},{"$f":"(F107-F82)/S20","v":166.12},{"$f":"(F133-F107)/T20","v":164.73076923076923},{"$f":"(F158-F133)/U20","v":188}]
[22,2821,23,2828,23,2837,null,null,null,null,0,222]
[22,2953,14,2967,14,2975,null,null,null,null,0,211]
[22,3075,23,3082,14,3095,null,null,null,null,0,221]
[22,3210,14,3224,14,3229,null,null,null,null,0,211]
[22,3339,14,3361,14,3368,null,null,null,null,0,211]
[22,3485,14,3498,14,3506,null,null,null,null,0,211]
[22,3625,23,3640,14,3656,null,null,null,null,0,221]
[22,3754,14,3791,14,3796,null,null,null,null,0,211]
[11,3937,12,3944,14,3957,null,null,null,null,0,111]
[22,4072,14,4086,14,4093,null,null,null,null,0,211]
[22,4193,23,4203,23,4218,null,null,null,null,0,222]
[22,4323,14,4355,14,4362,null,null,null,null,0,211]
[22,4492,14,4506,14,4511,null,null,null,null,0,211]
[22,4639,14,4661,14,4669,null,null,null,null,0,211]
[22,4809,14,4823,14,4830,null,null,null,null,0,211]
[22,4934,23,4942,14,4956,null,null,null,null,0,221]
[22,5069,23,5098,14,5112,null,null,null,null,0,221]
[22,5220,23,5228,23,5241,null,null,null,null,0,222]
[22,5344,23,5351,14,5364,null,null,null,null,0,221]
[11,5492,12,5498,14,5505,null,null,null,null,0,111]
[11,5647,12,5654,14,5660,null,null,null,null,0,111]
[22,5771,23,5792,14,5809,null,null,null,null,0,221]
[22,5912,23,5920,23,5928,null,null,null,null,0,222]
[22,6033,14,6081,14,6085,null,null,null,null,0,211]
[22,6203,23,6220,14,6236,null,null,null,null,0,221]
[22,6360,14,6374,14,6381,null,null,null,null,0,211]
[22,6493,14,6509,14,6517,null,null,null,null,0,211]
[22,6633,23,6661,14,6675,null,null,null,null,0,221]
[22,6795,14,6818,14,6832,null,null,null,null,0,211]
[22,6947,23,6956,14,6971,null,null,null,null,0,221]
[11,7111,12,7117,14,7133,null,null,null,null,0,111]
[22,7241,14,7255,14,7262,null,null,null,null,0,211]
[22,7370,14,7399,14,7406,null,null,null,null,0,211]
[11,7546,12,7553,14,7560,null,null,null,null,0,111]
[11,7689,12,7695,14,7702,null,null,null,null,0,111]
[11,7814,12,7821,14,7828,null,null,null,null,0,111]
[11,7960,12,7967,14,7974,null,null,null,null,0,111]
[11,8100,12,8130,14,8137,null,null,null,null,0,111]
[22,8253,23,8265,14,8284,null,null,null,null,0,221]
[22,8418,14,8440,14,8447,null,null,null,null,0,211]
[11,8553,12,8560,14,8568,null,null,null,null,0,111]
[11,8744,12,8754,14,8763,null,null,null,null,0,111]
[11,8917,12,8923,14,8932,null,null,null,null,0,111]
[11,9080,12,9084,14,9099,null,null,null,null,0,111]
[11,9239,12,9244,14,9253,null,null,null,null,0,111]
[22,9374,14,9388,14,9394,null,null,null,null,0,211]
[22,9553,14,9567,14,9572,null,null,null,null,0,211]
[22,9706,14,9728,14,9734,null,null,null,null,0,211]
[11,9870,12,9875,14,9884,null,null,null,null,0,111]
[11,10049,12,10055,14,10077,null,null,null,null,0,111]
[11,10220,12,10227,14,10235,null,null,null,null,0,111]
[11,10388,12,10397,14,10404,null,null,null,null,0,111]
[22,10542,14,10582,14,10588,null,null,null,null,0,211]
[22,10691,23,10696,14,10709,null,null,null,null,0,221]
[11,10845,12,10853,14,10860,null,null,null,null,0,111]
[22,11062,14,11076,14,11082,null,null,null,null,0,211]
[22,11198,14,11212,14,11218,null,null,null,null,0,211]
[11,11372,12,11380,14,11387,null,null,null,null,0,111]
[11,11566,12,11573,23,11633,null,null,null,null,0,112]
[11,11740,12,11808,14,11815,null,null,null,null,0,111]
[11,12001,12,12008,14,12016,null,null,null,null,0,111]
[11,12208,12,12216,14,12223,null,null,null,null,0,111]
[22,12364,14,12380,14,12388,null,null,null,null,0,211]
[11,12512,12,12519,14,12527,null,null,null,null,0,111]
[22,12703,14,12718,14,12725,null,null,null,null,0,211]
[11,12895,12,12904,14,12911,null,null,null,null,0,111]
[11,13055,12,13064,14,13071,null,null,null,null,0,111]
[22,13187,14,13201,14,13208,null,null,null,null,0,211]
[22,13323,23,13333,14,13349,null,null,null,null,0,221]
[22,13464,14,13482,14,13489,null,null,null,null,0,211]
[22,13591,23,13598,23,13606,null,null,null,null,0,222]
[22,13720,14,13744,14,13749,null,null,null,null,0,211]
[11,13893,12,13897,14,13906,null,null,null,null,0,111]
[11,14051,12,14058,14,14065,null,null,null,null,0,111]
[22,14185,23,14193,23,14201,null,null,null,null,0,222]
[11,14327,12,14332,14,14340,null,null,null,null,0,111]
[22,14477,14,14491,14,14499,null,null,null,null,0,211]
[22,14694,14,14709,14,14715,null,null,null,null,0,211]
[22,14837,23,14852,23,14862,null,null,null,null,0,222]
[22,14989,14,15003,14,15010,null,null,null,null,0,211]
[11,15154,12,15161,14,15169,null,null,null,null,0,111]
[11,15298,12,15306,14,15315,null,null,null,null,0,111]
[22,15450,14,15469,14,15474,null,null,null,null,0,211]
[11,15618,12,15642,14,15651,null,null,null,null,0,111]
[22,15782,14,15795,14,15800,null,null,null,null,0,211]
[22,15921,23,15933,14,15952,null,null,null,null,0,221]
[11,16137,12,16143,14,16152,null,null,null,null,0,111]
[22,16278,14,16301,14,16305,null,null,null,null,0,211]
[22,16438,14,16454,14,16459,null,null,null,null,0,211]
[22,16597,14,16612,14,16617,null,null,null,null,0,211]
[11,16766,12,16773,14,16788,null,null,null,null,0,111]
[11,16909,12,16918,14,16926,null,null,null,null,0,111]
[11,17066,12,17073,14,17081,null,null,null,null,0,111]
[22,17207,14,17225,14,17233,null,null,null,null,0,211]
[22,17378,14,17394,14,17405,null,null,null,null,0,211]
[22,17541,14,17555,14,17562,null,null,null,null,0,211]
[11,17736,12,17746,14,17754,null,null,null,null,0,111]
[22,17894,14,17908,14,17913,null,null,null,null,0,211]
[22,18094,14,18113,14,18121,null,null,null,null,0,211]
[22,18274,23,18285,14,18300,null,null,null,null,0,221]
[22,18403,23,18416,23,18435,null,null,null,null,0,222]
[11,18590,12,18597,14,18655,null,null,null,null,0,111]
[22,18775,23,18785,14,18799,null,null,null,null,0,221]
[22,18907,23,18925,14,18948,null,null,null,null,0,221]
[22,19093,23,19131,14,19145,null,null,null,null,0,221]
[22,19299,23,19317,14,19337,null,null,null,null,0,221]
[22,19456,23,19468,14,19481,null,null,null,null,0,221]
[22,19668,14,19696,14,19707,null,null,null,null,0,211]
[22,19857,23,19917,14,19945,null,null,null,null,0,221]
[22,20087,23,20094,23,20106,null,null,null,null,0,222]
[11,20297,12,20307,14,20317,null,null,null,null,0,111]
[22,20469,14,20483,14,20491,null,null,null,null,0,211]
[22,20600,14,20627,14,20636,null,null,null,null,0,211]
[22,20757,14,20771,14,20778,null,null,null,null,0,211]
[22,20960,23,20969,14,20982,null,null,null,null,0,221]
[22,21143,23,21157,14,21171,null,null,null,null,0,221]
[11,21312,12,21318,14,21330,null,null,null,null,0,111]
[11,21481,12,21489,14,21498,null,null,null,null,0,111]
[11,21672,12,21678,14,21685,null,null,null,null,0,111]
[11,21863,12,21872,14,21889,null,null,null,null,0,111]
[22,22008,14,22052,14,22059,null,null,null,null,0,211]
[22,22196,23,22208,14,22222,null,null,null,null,0,221]
[22,22374,14,22390,14,22395,null,null,null,null,0,211]
[11,22557,12,22572,14,22581,null,null,null,null,0,111]
[22,22814,14,22830,14,22850,null,null,null,null,0,211]
[22,23107,23,23114,14,23131,null,null,null,null,0,221]
[22,23275,23,23283,14,23299,null,null,null,null,0,221]
[22,23424,23,23440,14,23456,null,null,null,null,0,221]
[11,23676,12,23691,14,23699,null,null,null,null,0,111]
[22,23812,23,23820,23,23845,null,null,null,null,0,222]

{"sheet":"!M718820.104","index":6,"n_rows":138,"n_cols":48,"rows_kept":138,"cut":false,"hidden":false,"merged":[[4,39,4,42],[5,39,5,40],[4,44,4,47],[5,44,5,45],[4,24,4,27],[5,24,5,25],[4,29,4,32],[5,29,5,30],[4,34,4,37],[5,34,5,35],[1,1,1,2],[5,13,5,14],[18,13,18,14],[19,13,19,14],[4,19,4,22],[5,19,5,20]]}
["Report for:!M718820.104"]
["Date:","<date>"]
["Hen:","<hen>",null,null,null,"Correct Sequence",{"$f":"Start!J2","v":122},null,null,null,null,null,null,null,null,"Total Sequences in Data",{"$f":"4994-COUNTBLANK(L7:L5000)","v":132},null,null,null,null,"Total Sequences in Block Data",{"$f":"COUNTA(L7:L28)","v":22},null,null,null,"Total Sequences in Block Data",{"$f":"COUNTA(L29:L50)","v":22},null,null,null,"Total Sequences in Block Data",{"$f":"COUNTA(L51:L72)","v":22},null,null,null,"Total Sequences in Block Data",{"$f":"COUNTA(L73:L94)","v":22},null,null,null,"Total Sequences in Block Data",{"$f":"COUNTA(L95:L116)","v":22},null,null,null,"Total Sequences in Block Data",{"$f":"COUNTA(L117:L138)","v":22}]
[null,null,null,null,null,null,null,null,null,null,null,null,null,null,null,"Total Sequences in Summary",{"$f":"SUM(O7:O14)","v":132},null,null,null,null,"Total Sequences in Block Summary",{"$f":"SUM(U7:U14)","v":22},null,null,null,"Total Sequences in Block Summary",{"$f":"SUM(Z7:Z14)","v":22},null,null,null,"Total Sequences in Block Summary",{"$f":"SUM(AE7:AE14)","v":22},null,null,null,"Total Sequences in Block Summary",{"$f":"SUM(AJ7:AJ14)","v":22},null,null,null,"Total Sequences in Block Summary",{"$f":"SUM(AO7:AO14)","v":22},null,null,null,"Total Sequences in Block Summary",{"$f":"SUM(AT7:AT14)","v":22}]
[null,null,null,null,null,null,null,null,null,null,null,null,null,null,null,null,null,null,null,"Block 1",null,null,null,null,"Block 2",null,null,null,null,"Block 3",null,null,null,null,"Block 4",null,null,null,null,"Block 5",null,null,null,null,"Block 6"]
["Sequence\nComponent\n1","Time\n1","Sequence\nComponent\n2","Time\n2","Sequence\nComponent\n3","Time\n3","Sequence\nComponent\n4","Time\n4","Sequence\nComponent\n5","Time\n5","Correct?\n0=No 1=Yes","Sequence",null,"Frequency",null,"Relative Frequency","Variability",null,null,"Frequency",null,"Relative Frequency","Variability",null,"Frequency",null,"Relative Frequency","Variability",null,"Frequency",null,"Relative Frequency","Variability",null,"Frequency",null,"Relative Frequency","Variability",null,"Frequency",null,"Relative Frequency","Variability",null,"Frequency",null,"Relative Frequency","Variability"]
[11,24,12,29,14,36,null,null,null,null,0,111,null,111,{"$f":"COUNTIF($L$7:$L$500,N7)","v":27},{"$f":"O7/$Q$4","v":0.20454545454545456},{"$f":"IF(P7=0,0,(P7*((LOG(P7))/LOG(2))))","v":-0.46830817169897415},null,null,{"$f":"N7","v":111},{"$f":"COUNTIF(L7:L28,T7)","v":3},{"$f":"U7/(W4-U10)","v":0.13636363636363635},{"$f":"IF(V7=0,0,(V7*((LOG(V7))/LOG(2))))","v":-0.39197306153401923},null,{"$f":"N7","v":111},{"$f":"COUNTIF(L29:L50,Y7)","v":8},{"$f":"Z7/(AB4-Z10)","v":0.36363636363636365},{"$f":"IF(AA7=0,0,(AA7*((LOG(AA7))/LOG(2))))","v":-0.53070240677719893},null,{"$f":"N7","v":111},{"$f":"COUNTIF(L51:L72,AD7)","v":8},{"$f":"AE7/(AG4-AE10)","v":0.38095238095238093},{"$f":"IF(AF7=0,0,(AF7*((LOG(AF7))/LOG(2))))","v":-0.53040663724905157},null,{"$f":"N7","v":111},{"$f":"COUNTIF(L73:L94,AI7)","v":3},{"$f":"AJ7/(AL4-AJ10)","v":0.13636363636363635},{"$f":"IF(AK7=0,0,(AK7*((LOG(AK7))/LOG(2))))","v":-0.39197306153401923},null,{"$f":"N7","v":111},{"$f":"COUNTIF(L95:L116,AN7)","v":1},{"$f":"AO7/(AQ4-AO10)","v":4.5454545454545456E-2},{"$f":"IF(AP7=0,0,(AP7*((LOG(AP7))/LOG(2))))","v":-0.20270143721078623},null,{"$f":"N7","v":111},{"$f":"COUNTIF(L117:L138,AS7)","v":4},{"$f":"AT7/(AV4-AT10)","v":0.18181818181818182},{"$f":"IF(AU7=0,0,(AU7*((LOG(AU7))/LOG(2))))","v":-0.44716938520678134}]
[22,139,23,147,14,160,null,null,null,null,0,221,null,112,{"$f":"COUNTIF($L$7:$L$500,N8)","v":3},{"$f":"O8/$Q$4","v":2.2727272727272728E-2},{"$f":"IF(P8=0,0,(P8*((LOG(P8))/LOG(2))))","v":-0.12407799133266585},null,null,{"$f":"N8","v":112},{"$f":"COUNTIF(L7:L28,T8)","v":0},{"$f":"U8/(W4-U10)","v":0},{"$f":"IF(V8=0,0,(V8*((LOG(V8))/LOG(2))))","v":0},null,{"$f":"N8","v":112},{"$f":"COUNTIF(L29:L50,Y8)","v":0},{"$f":"Z8/(AB4-Z10)","v":0},{"$f":"IF(AA8=0,0,(AA8*((LOG(AA8))/LOG(2))))","v":0},null,{"$f":"N8","v":112},{"$f":"COUNTIF(L51:L72,AD8)","v":0},{"$f":"AE8/(AG4-AE10)","v":0},{"$f":"IF(AF8=0,0,(AF8*((LOG(AF8))/LOG(2))))","v":0},null,{"$f":"N8","v":112},{"$f":"COUNTIF(L73:L94,AI8)","v":0},{"$f":"AJ8/(AL4-AJ10)","v":0},{"$f":"IF(AK8=0,0,(AK8*((LOG(AK8))/LOG(2))))","v":0},null,{"$f":"N8","v":112},{"$f":"COUNTIF(L95:L116,AN8)","v":1},{"$f":"AO8/(AQ4-AO10)","v":4.5454545454545456E-2},{"$f":"IF(AP8=0,0,(AP8*((LOG(AP8))/LOG(2))))","v":-0.20270143721078623},null,{"$f":"N8","v":112},{"$f":"COUNTIF(L117:L138,AS8)","v":2},{"$f":"AT8/(AV4-AT10)","v":9.0909090909090912E-2},{"$f":"IF(AU8=0,0,(AU8*((LOG(AU8))/LOG(2))))","v":-0.31449378351248153}]
[22,262,23,274,14,288,null,null,null,null,0,221,null,121,{"$f":"COUNTIF($L$7:$L$500,N9)","v":0},{"$f":"O9/$Q$4","v":0},{"$f":"IF(P9=0,0,(P9*((LOG(P9))/LOG(2))))","v":0},null,null,{"$f":"N9","v":121},{"$f":"COUNTIF(L7:L28,T9)","v":0},{"$f":"U9/(W4-U10)","v":0},{"$f":"IF(V9=0,0,(V9*((LOG(V9))/LOG(2))))","v":0},null,{"$f":"N9","v":121},{"$f":"COUNTIF(L29:L50,Y9)","v":0},{"$f":"Z9/(AB4-Z10)","v":0},{"$f":"IF(AA9=0,0,(AA9*((LOG(AA9))/LOG(2))))","v":0},null,{"$f":"N9","v":121},{"$f":"COUNTIF(L51:L72,AD9)","v":0},{"$f":"AE9/(AG4-AE10)","v":0},{"$f":"IF(AF9=0,0,(AF9*((LOG(AF9))/LOG(2))))","v":0},null,{"$f":"N9","v":121},{"$f":"COUNTIF(L73:L94,AI9)","v":0},{"$f":"AJ9/(AL4-AJ10)","v":0},{"$f":"IF(AK9=0,0,(AK9*((LOG(AK9))/LOG(2))))","v":0},null,{"$f":"N9","v":121},{"$f":"COUNTIF(L95:L116,AN9)","v":0},{"$f":"AO9/(AQ4-AO10)","v":0},{"$f":"IF(AP9=0,0,(AP9*((LOG(AP9))/LOG(2))))","v":0},null,{"$f":"N9","v":121},{"$f":"COUNTIF(L117:L138,AS9)","v":0},{"$f":"AT9/(AV4-AT10)","v":0},{"$f":"IF(AU9=0,0,(AU9*((LOG(AU9))/LOG(2))))","v":0}]
[22,391,14,406,14,413,null,null,null,null,0,211,null,122,{"$f":"COUNTIF($L$7:$L$500,N10)","v":1},{"$f":"O10/$Q$4","v":7.575757575757576E-3},{"$f":"IF(P10=0,0,(P10*((LOG(P10))/LOG(2))))","v":-5.3366622116351931E-2},null,null,{"$f":"N10","v":122},{"$f":"COUNTIF(L7:L28,T10)","v":0},null,null,null,{"$f":"N10","v":122},{"$f":"COUNTIF(L29:L50,Y10)","v":0},null,null,null,{"$f":"N10","v":122},{"$f":"COUNTIF(L51:L72,AD10)","v":1},null,null,null,{"$f":"N10","v":122},{"$f":"COUNTIF(L73:L94,AI10)","v":0},null,null,null,{"$f":"N10","v":122},{"$f":"COUNTIF(L95:L116,AN10)","v":0},null,null,null,{"$f":"N10","v":122},{"$f":"COUNTIF(L117:L138,AS10)","v":0}]
[22,534,14,548,14,555,null,null,null,null,0,211,null,211,{"$f":"COUNTIF($L$7:$L$500,N11)","v":19},{"$f":"O11/$Q$4","v":0.14393939393939395},{"$f":"IF(P11=0,0,(P11*((LOG(P11))/LOG(2))))","v":-0.40252170842714008},null,null,{"$f":"N11","v":211},{"$f":"COUNTIF(L7:L28,T11)","v":4},{"$f":"U11/(W4-U10)","v":0.18181818181818182},{"$f":"IF(V11=0,0,(V11*((LOG(V11))/LOG(2))))","v":-0.44716938520678134},null,{"$f":"N11","v":211},{"$f":"COUNTIF(L29:L50,Y11)","v":6},{"$f":"Z11/(AB4-Z10)","v":0.27272727272727271},{"$f":"IF(AA11=0,0,(AA11*((LOG(AA11))/LOG(2))))","v":-0.51121885034076575},null,{"$f":"N11","v":211},{"$f":"COUNTIF(L51:L72,AD11)","v":2},{"$f":"AE11/(AG4-AE10)","v":9.5238095238095233E-2},{"$f":"IF(AF11=0,0,(AF11*((LOG(AF11))/LOG(2))))","v":-0.32307784978845333},null,{"$f":"N11","v":211},{"$f":"COUNTIF(L73:L94,AI11)","v":0},{"$f":"AJ11/(AL4-AJ10)","v":0},{"$f":"IF(AK11=0,0,(AK11*((LOG(AK11))/LOG(2))))","v":0},null,{"$f":"N11","v":211},{"$f":"COUNTIF(L95:L116,AN11)","v":5},{"$f":"AO11/(AQ4-AO10)","v":0.22727272727272727},{"$f":"IF(AP11=0,0,(AP11*((LOG(AP11))/LOG(2))))","v":-0.48579625539771243},null,{"$f":"N11","v":211},{"$f":"COUNTIF(L117:L138,AS11)","v":2},{"$f":"AT11/(AV4-AT10)","v":9.0909090909090912E-2},{"$f":"IF(AU11=0,0,(AU11*((LOG(AU11))/LOG(2))))","v":-0.31449378351248153}]
[11,677,12,683,14,691,null,null,null,null,0,111,null,212,{"$f":"COUNTIF($L$7:$L$500,N12)","v":3},{"$f":"O12/$Q$4","v":2.2727272727272728E-2},{"$f":"IF(P12=0,0,(P12*((LOG(P12))/LOG(2))))","v":-0.12407799133266585},null,null,{"$f":"N12","v":212},{"$f":"COUNTIF(L7:L28,T12)","v":0},{"$f":"U12/(W4-U10)","v":0},{"$f":"IF(V12=0,0,(V12*((LOG(V12))/LOG(2))))","v":0},null,{"$f":"N12","v":212},{"$f":"COUNTIF(L29:L50,Y12)","v":0},{"$f":"Z12/(AB4-Z10)","v":0},{"$f":"IF(AA12=0,0,(AA12*((LOG(AA12))/LOG(2))))","v":0},null,{"$f":"N12","v":212},{"$f":"COUNTIF(L51:L72,AD12)","v":0},{"$f":"AE12/(AG4-AE10)","v":0},{"$f":"IF(AF12=0,0,(AF12*((LOG(AF12))/LOG(2))))","v":0},null,{"$f":"N12","v":212},{"$f":"COUNTIF(L73:L94,AI12)","v":0},{"$f":"AJ12/(AL4-AJ10)","v":0},{"$f":"IF(AK12=0,0,(AK12*((LOG(AK12))/LOG(2))))","v":0},null,{"$f":"N12","v":212},{"$f":"COUNTIF(L95:L116,AN12)","v":1},{"$f":"AO12/(AQ4-AO10)","v":4.5454545454545456E-2},{"$f":"IF(AP12=0,0,(AP12*((LOG(AP12))/LOG(2))))","v":-0.20270143721078623},null,{"$f":"N12","v":212},{"$f":"COUNTIF(L117:L138,AS12)","v":2},{"$f":"AT12/(AV4-AT10)","v":9.0909090909090912E-2},{"$f":"IF(AU12=0,0,(AU12*((LOG(AU12))/LOG(2))))","v":-0.31449378351248153}]
[22,791,23,798,14,810,null,null,null,null,0,221,null,221,{"$f":"COUNTIF($L$7:$L$500,N13)","v":39},{"$f":"O13/$Q$4","v":0.29545454545454547},{"$f":"IF(P13=0,0,(P13*((LOG(P13))/LOG(2))))","v":-0.51970215241933326},null,null,{"$f":"N13","v":221},{"$f":"COUNTIF(L7:L28,T13)","v":9},{"$f":"U13/(W4-U10)","v":0.40909090909090912},{"$f":"IF(V13=0,0,(V13*((LOG(V13))/LOG(2))))","v":-0.52752543430703935},null,{"$f":"N13","v":221},{"$f":"COUNTIF(L29:L50,Y13)","v":4},{"$f":"Z13/(AB4-Z10)","v":0.18181818181818182},{"$f":"IF(AA13=0,0,(AA13*((LOG(AA13))/LOG(2))))","v":-0.44716938520678134},null,{"$f":"N13","v":221},{"$f":"COUNTIF(L51:L72,AD13)","v":6},{"$f":"AE13/(AG4-AE10)","v":0.2857142857142857},{"$f":"IF(AF13=0,0,(AF13*((LOG(AF13))/LOG(2))))","v":-0.51638712058788683},null,{"$f":"N13","v":221},{"$f":"COUNTIF(L73:L94,AI13)","v":8},{"$f":"AJ13/(AL4-AJ10)","v":0.36363636363636365},{"$f":"IF(AK13=0,0,(AK13*((LOG(AK13))/LOG(2))))","v":-0.53070240677719893},null,{"$f":"N13","v":221},{"$f":"COUNTIF(L95:L116,AN13)","v":9},{"$f":"AO13/(AQ4-AO10)","v":0.40909090909090912},{"$f":"IF(AP13=0,0,(AP13*((LOG(AP13))/LOG(2))))","v":-0.52752543430703935},null,{"$f":"N13","v":221},{"$f":"COUNTIF(L117:L138,AS13)","v":3},{"$f":"AT13/(AV4-AT10)","v":0.13636363636363635},{"$f":"IF(AU13=0,0,(AU13*((LOG(AU13))/LOG(2))))","v":-0.39197306153401923}]
[22,913,23,921,14,933,null,null,null,null,0,221,null,222,{"$f":"COUNTIF($L$7:$L$500,N14)","v":40},{"$f":"O14/$Q$4","v":0.30303030303030304},{"$f":"IF(P14=0,0,(P14*((LOG(P14))/LOG(2))))","v":-0.52195940135487617},null,null,{"$f":"N14","v":222},{"$f":"COUNTIF(L7:L28,T14)","v":6},{"$f":"U14/(W4-U10)","v":0.27272727272727271},{"$f":"IF(V14=0,0,(V14*((LOG(V14))/LOG(2))))","v":-0.51121885034076575},null,{"$f":"N14","v":222},{"$f":"COUNTIF(L29:L50,Y14)","v":4},{"$f":"Z14/(AB4-Z10)","v":0.18181818181818182},{"$f":"IF(AA14=0,0,(AA14*((LOG(AA14))/LOG(2))))","v":-0.44716938520678134},null,{"$f":"N14","v":222},{"$f":"COUNTIF(L51:L72,AD14)","v":5},{"$f":"AE14/(AG4-AE10)","v":0.23809523809523808},{"$f":"IF(AF14=0,0,(AF14*((LOG(AF14))/LOG(2))))","v":-0.49294983997414238},null,{"$f":"N14","v":222},{"$f":"COUNTIF(L73:L94,AI14)","v":11},{"$f":"AJ14/(AL4-AJ10)","v":0.5},{"$f":"IF(AK14=0,0,(AK14*((LOG(AK14))/LOG(2))))","v":-0.5},null,{"$f":"N14","v":222},{"$f":"COUNTIF(L95:L116,AN14)","v":5},{"$f":"AO14/(AQ4-AO10)","v":0.22727272727272727},{"$f":"IF(AP14=0,0,(AP14*((LOG(AP14))/LOG(2))))","v":-0.48579625539771243},null,{"$f":"N14","v":222},{"$f":"COUNTIF(L117:L138,AS14)","v":9},{"$f":"AT14/(AV4-AT10)","v":0.40909090909090912},{"$f":"IF(AU14=0,0,(AU14*((LOG(AU14))/LOG(2))))","v":-0.52752543430703935}]
[11,1065,12,1070,14,1078,null,null,null,null,0,111,null,null,null,{"$f":"SUM(P7:P14)","v":1},{"$f":"-SUM(Q7:Q14)","v":2.2140140386820075},null,null,null,null,{"$f":"SUM(V7:V14)","v":1},{"$f":"-SUM(W7:W14)","v":1.8778867313886058},null,null,null,{"$f":"SUM(AA7:AA14)","v":1},{"$f":"-SUM(AB7:AB14)","v":1.9362600275315272},null,null,null,{"$f":"SUM(AF7:AF14)","v":1},{"$f":"-SUM(AG7:AG14)","v":1.8628214475995339},null,null,null,{"$f":"SUM(AK7:AK14)","v":1},{"$f":"-SUM(AL7:AL14)","v":1.4226754683112182},null,null,null,{"$f":"SUM(AP7:AP14)","v":1},{"$f":"-SUM(AQ7:AQ14)","v":2.1072222567348229},null,null,null,{"$f":"SUM(AU7:AU14)","v":1},{"$f":"-SUM(AV7:AV14)","v":2.3101492315852847}]
[22,1178,14,1208,14,1214,null,null,null,null,0,211,null,null,null,"U=",{"$f":"Q15/(LOG(Q4)/LOG(2))","v":0.31429445899367736},null,null,null,null,"U1=",{"$f":"W15/(LOG(W4)/LOG(2))","v":0.42110450209402384},null,null,null,"U2=",{"$f":"AB15/(LOG(AB4)/LOG(2))","v":0.43419435325329753},null,null,null,"U3=",{"$f":"AG15/(LOG(AG4)/LOG(2))","v":0.41772620524423931},null,null,null,"U4=",{"$f":"AL15/(LOG(AL4)/LOG(2))","v":0.31902618763463764},null,null,null,"U5=",{"$f":"AQ15/(LOG(AQ4)/LOG(2))","v":0.47253157732660622},null,null,null,"U6=",{"$f":"AV15/(LOG(AV4)/LOG(2))","v":0.51803669820397757}]
[22,1314,23,1341,14,1354,null,null,null,null,0,221]
[22,1452,23,1465,23,1487,null,null,null,null,0,222]
[22,1616,14,1629,14,1637,null,null,null,null,0,211,null,"Total Target Seq"]
[22,1738,23,1746,14,1762,null,null,null,null,0,221,null,{"$f":"COUNTIF(L7:L138,G3)","v":1},null,22,22,22,22,22,22]
[22,1863,23,1878,14,1893,null,null,null,null,0,221,null,null,null,"% of reinforcement given in 6 equal intervals based on number of trials "]
[22,1993,23,2000,23,2017,null,null,null,null,0,222,null,null,null,"%_1","%_2","%_3","%_4","%_5","%_6"]
[22,2114,23,2133,14,2148,null,null,null,null,0,221,null,null,"target sequence",{"$f":"$G$3","v":122},{"$f":"$G$3","v":122},{"$f":"$G$3","v":122},{"$f":"$G$3","v":122},{"$f":"$G$3","v":122},{"$f":"$G$3","v":122}]
[22,2253,23,2266,23,2271,null,null,null,null,0,222,null,null,"total reinforcement",{"$f":"U10","v":0},{"$f":"Z10","v":0},{"$f":"AE10","v":1},{"$f":"AJ10","v":0},{"$f":"AO10","v":0},{"$f":"AT10","v":0}]
[22,2374,23,2381,23,2389,null,null,null,null,0,222,null,null,"% target"]
[22,2501,23,2509,14,2525,null,null,null,null,0,221,null,null,"CCRF"]
[22,2633,23,2639,23,2649,null,null,null,null,0,222,null,null,"% CCRf"]
[22,2752,23,2760,23,2768,null,null,null,null,0,222,null,null,"average response rate",{"$f":"F28/P20","v":125.81818181818181},{"$f":"(F50-F28)/Q20","v":170.95454545454547},{"$f":"(F72-F50)/R20","v":162.68181818181819},{"$f":"(F94-F72)/S20","v":149.77272727272728},{"$f":"(F116-F94)/T20","v":177.54545454545453},{"$f":"(F138-F116)/U20","v":289.95454545454544}]
[22,2882,14,2899,14,2907,null,null,null,null,0,211]
[11,3104,12,3111,14,3118,null,null,null,null,0,111]
[22,3250,14,3265,14,3273,null,null,null,null,0,211]
[22,3389,14,3403,14,3411,null,null,null,null,0,211]
[22,3522,23,3527,23,3535,null,null,null,null,0,222]
[22,3666,23,3670,14,3700,null,null,null,null,0,221]
[11,3835,12,3844,14,3852,null,null,null,null,0,111]
[22,3966,14,3988,14,3993,null,null,null,null,0,211]
[22,4131,23,4139,14,4154,null,null,null,null,0,221]
[11,4337,12,4344,14,4353,null,null,null,null,0,111]
[22,4480,23,4491,23,4499,null,null,null,null,0,222]
[22,4614,23,4628,23,4635,null,null,null,null,0,222]
[22,4778,14,4792,14,4799,null,null,null,null,0,211]
[11,4971,12,4978,14,4985,null,null,null,null,0,111]
[22,5155,14,5168,14,5175,null,null,null,null,0,211]
[22,5319,23,5350,14,5379,null,null,null,null,0,221]
[22,5518,23,5525,23,5534,null,null,null,null,0,222]
[11,5659,12,5667,14,5674,null,null,null,null,0,111]
[11,5823,12,5831,14,5839,null,null,null,null,0,111]
[22,6126,23,6136,14,6151,null,null,null,null,0,221]
[11,6343,12,6350,14,6359,null,null,null,null,0,111]
[11,6514,12,6521,14,6529,null,null,null,null,0,111]
[22,6676,23,6684,23,6695,null,null,null,null,0,222]
[22,6862,14,6878,14,6885,null,null,null,null,0,211]
[11,7070,12,7077,14,7085,null,null,null,null,0,111]
[22,7212,23,7253,14,7267,null,null,null,null,0,221]
[22,7365,23,7374,23,7382,null,null,null,null,0,222]
[11,7608,21,7630,21,7638,null,null,null,null,0,122]
[22,7771,23,7792,23,7806,null,null,null,null,0,222]
[11,8014,12,8022,14,8030,null,null,null,null,0,111]
[11,8172,12,8179,14,8186,null,null,null,null,0,111]
[11,8314,12,8321,14,8328,null,null,null,null,0,111]
[11,8585,12,8592,14,8599,null,null,null,null,0,111]
[11,8749,12,8756,14,8763,null,null,null,null,0,111]
[11,8906,12,8915,14,8922,null,null,null,null,0,111]
[22,9021,23,9029,14,9043,null,null,null,null,0,221]
[22,9154,23,9163,14,9186,null,null,null,null,0,221]
[22,9291,23,9299,14,9315,null,null,null,null,0,221]
[11,9446,12,9457,14,9464,null,null,null,null,0,111]
[22,9565,23,9572,14,9587,null,null,null,null,0,221]
[22,9688,14,9710,14,9716,null,null,null,null,0,211]
[22,9822,23,9830,14,9843,null,null,null,null,0,221]
[22,9952,23,9958,23,9966,null,null,null,null,0,222]
[22,10085,23,10100,23,10108,null,null,null,null,0,222]
[22,10213,23,10222,23,10230,null,null,null,null,0,222]
[22,10353,23,10363,23,10374,null,null,null,null,0,222]
[22,10485,23,10489,23,10497,null,null,null,null,0,222]
[22,10607,23,10618,23,10625,null,null,null,null,0,222]
[22,10739,23,10751,14,10766,null,null,null,null,0,221]
[22,10876,23,10881,23,10888,null,null,null,null,0,222]
[22,11002,23,11008,14,11025,null,null,null,null,0,221]
[22,11125,23,11148,14,11167,null,null,null,null,0,221]
[22,11266,23,11272,23,11288,null,null,null,null,0,222]
[22,11415,23,11424,23,11440,null,null,null,null,0,222]
[22,11559,23,11566,23,11582,null,null,null,null,0,222]
[11,11742,12,11755,14,11763,null,null,null,null,0,111]
[22,11890,23,11906,14,11921,null,null,null,null,0,221]
[22,12042,23,12049,14,12064,null,null,null,null,0,221]
[22,12178,23,12186,23,12195,null,null,null,null,0,222]
[11,12371,12,12380,14,12389,null,null,null,null,0,111]
[22,12499,23,12525,23,12534,null,null,null,null,0,222]
[11,12715,12,12723,14,12730,null,null,null,null,0,111]
[22,12858,23,12866,14,12890,null,null,null,null,0,221]
[22,13006,23,13014,14,13041,null,null,null,null,0,221]
[22,13171,23,13192,14,13208,null,null,null,null,0,221]
[22,13336,23,13385,23,13403,null,null,null,null,0,222]
[22,13536,23,13544,23,13553,null,null,null,null,0,222]
[22,13663,23,13679,23,13686,null,null,null,null,0,222]
[22,13811,23,13819,14,13832,null,null,null,null,0,221]
[22,14004,14,14032,14,14041,null,null,null,null,0,211]
[22,14174,14,14204,14,14212,null,null,null,null,0,211]
[22,14350,14,14383,14,14391,null,null,null,null,0,211]
[22,14552,23,14556,23,14560,null,null,null,null,0,222]
[22,14728,23,14738,23,14755,null,null,null,null,0,222]
[22,14867,14,14883,23,14895,null,null,null,null,0,212]
[22,15025,14,15041,14,15047,null,null,null,null,0,211]
[22,15174,23,15181,14,15195,null,null,null,null,0,221]
[22,15327,14,15347,14,15355,null,null,null,null,0,211]
[22,15479,23,15501,14,15516,null,null,null,null,0,221]
[11,15687,12,15693,14,15702,null,null,null,null,0,111]
[22,15840,23,15851,14,15866,null,null,null,null,0,221]
[22,16020,23,16027,14,16046,null,null,null,null,0,221]
[22,16163,23,16174,14,16201,null,null,null,null,0,221]
[11,16427,12,16435,23,16477,null,null,null,null,0,112]
[22,16635,23,16677,14,16705,null,null,null,null,0,221]
[22,16835,23,16844,14,16878,null,null,null,null,0,221]
[22,17079,23,17094,14,17111,null,null,null,null,0,221]
[22,17258,23,17296,23,17309,null,null,null,null,0,222]
[22,17475,23,17482,23,17490,null,null,null,null,0,222]
[22,17664,23,17671,23,17688,null,null,null,null,0,222]
[22,17910,23,17931,14,17947,null,null,null,null,0,221]
[11,18393,12,18418,14,18426,null,null,null,null,0,111]
[22,18591,14,18616,23,19106,null,null,null,null,0,212]
[11,19335,12,19343,14,19351,null,null,null,null,0,111]
[11,19609,12,19646,14,19698,null,null,null,null,0,111]
[11,19873,12,19883,23,20078,null,null,null,null,0,112]
[22,20400,23,20409,14,20428,null,null,null,null,0,221]
[11,20714,12,20722,23,21004,null,null,null,null,0,112]
[22,21146,23,21157,23,21180,null,null,null,null,0,222]
[22,21421,23,21447,23,21469,null,null,null,null,0,222]
[22,21615,23,21623,23,21634,null,null,null,null,0,222]
[22,21875,23,21882,14,21899,null,null,null,null,0,221]
[22,22038,23,22046,23,22057,null,null,null,null,0,222]
[22,22292,14,22329,14,22337,null,null,null,null,0,211]
[22,22460,14,22514,23,22539,null,null,null,null,0,212]
[22,22743,23,22778,23,22807,null,null,null,null,0,222]
[22,22991,14,23108,14,23119,null,null,null,null,0,211]
[22,23250,23,23258,23,23282,null,null,null,null,0,222]
[11,23463,12,23471,14,23480,null,null,null,null,0,111]
[22,23670,23,23676,23,23688,null,null,null,null,0,222]

{"sheet":"!M719950.104","index":7,"n_rows":161,"n_cols":48,"rows_kept":161,"cut":false,"hidden":false,"merged":[[4,39,4,42],[5,39,5,40],[4,44,4,47],[5,44,5,45],[4,24,4,27],[5,24,5,25],[4,29,4,32],[5,29,5,30],[4,34,4,37],[5,34,5,35],[1,1,1,2],[5,13,5,14],[18,13,18,14],[19,13,19,14],[4,19,4,22],[5,19,5,20]]}
["Report for:!M719950.104"]
["Date:","<date>"]
["Hen:","<hen>",null,null,null,"Correct Sequence",{"$f":"Start!J2","v":122},null,null,null,null,null,null,null,null,"Total Sequences in Data",{"$f":"4994-COUNTBLANK(L7:L5000)","v":155},null,null,null,null,"Total Sequences in Block Data",{"$f":"COUNTA(L7:L32)","v":26},null,null,null,"Total Sequences in Block Data",{"$f":"COUNTA(L33:L58)","v":26},null,null,null,"Total Sequences in Block Data",{"$f":"COUNTA(L59:L83)","v":25},null,null,null,"Total Sequences in Block Data",{"$f":"COUNTA(L84:L109)","v":26},null,null,null,"Total Sequences in Block Data",{"$f":"COUNTA(L110:L135)","v":26},null,null,null,"Total Sequences in Block Data",{"$f":"COUNTA(L136:L161)","v":26}]
[null,null,null,null,null,null,null,null,null,null,null,null,null,null,null,"Total Sequences in Summary",{"$f":"SUM(O7:O14)","v":155},null,null,null,null,"Total Sequences in Block Summary",{"$f":"SUM(U7:U14)","v":26},null,null,null,"Total Sequences in Block Summary",{"$f":"SUM(Z7:Z14)","v":26},null,null,null,"Total Sequences in Block Summary",{"$f":"SUM(AE7:AE14)","v":25},null,null,null,"Total Sequences in Block Summary",{"$f":"SUM(AJ7:AJ14)","v":26},null,null,null,"Total Sequences in Block Summary",{"$f":"SUM(AO7:AO14)","v":26},null,null,null,"Total Sequences in Block Summary",{"$f":"SUM(AT7:AT14)","v":26}]
[null,null,null,null,null,null,null,null,null,null,null,null,null,null,null,null,null,null,null,"Block 1",null,null,null,null,"Block 2",null,null,null,null,"Block 3",null,null,null,null,"Block 4",null,null,null,null,"Block 5",null,null,null,null,"Block 6"]
["Sequence\nComponent\n1","Time\n1","Sequence\nComponent\n2","Time\n2","Sequence\nComponent\n3","Time\n3","Sequence\nComponent\n4","Time\n4","Sequence\nComponent\n5","Time\n5","Correct?\n0=No 1=Yes","Sequence",null,"Frequency",null,"Relative Frequency","Variability",null,null,"Frequency",null,"Relative Frequency","Variability",null,"Frequency",null,"Relative Frequency","Variability",null,"Frequency",null,"Relative Frequency","Variability",null,"Frequency",null,"Relative Frequency","Variability",null,"Frequency",null,"Relative Frequency","Variability",null,"Frequency",null,"Relative Frequency","Variability"]
[11,12,12,20,23,34,null,null,null,null,0,112,null,111,{"$f":"COUNTIF($L$7:$L$500,N7)","v":15},{"$f":"O7/$Q$4","v":9.6774193548387094E-2},{"$f":"IF(P7=0,0,(P7*((LOG(P7))/LOG(2))))","v":-0.32605488480635986},null,null,{"$f":"N7","v":111},{"$f":"COUNTIF(L7:L32,T7)","v":3},{"$f":"U7/(W4-U10)","v":0.11538461538461539},{"$f":"IF(V7=0,0,(V7*((LOG(V7))/LOG(2))))","v":-0.35947814047153104},null,{"$f":"N7","v":111},{"$f":"COUNTIF(L33:L58,Y7)","v":5},{"$f":"Z7/(AB4-Z10)","v":0.2},{"$f":"IF(AA7=0,0,(AA7*((LOG(AA7))/LOG(2))))","v":-0.46438561897747244},null,{"$f":"N7","v":111},{"$f":"COUNTIF(L59:L83,AD7)","v":3},{"$f":"AE7/(AG4-AE10)","v":0.12},{"$f":"IF(AF7=0,0,(AF7*((LOG(AF7))/LOG(2))))","v":-0.36706724268642821},null,{"$f":"N7","v":111},{"$f":"COUNTIF(L84:L109,AI7)","v":2},{"$f":"AJ7/(AL4-AJ10)","v":8.3333333333333329E-2},{"$f":"IF(AK7=0,0,(AK7*((LOG(AK7))/LOG(2))))","v":-0.29874687506009634},null,{"$f":"N7","v":111},{"$f":"COUNTIF(L110:L135,AN7)","v":1},{"$f":"AO7/(AQ4-AO10)","v":4.1666666666666664E-2},{"$f":"IF(AP7=0,0,(AP7*((LOG(AP7))/LOG(2))))","v":-0.19104010419671485},null,{"$f":"N7","v":111},{"$f":"COUNTIF(L136:L161,AS7)","v":1},{"$f":"AT7/(AV4-AT10)","v":4.3478260869565216E-2},{"$f":"IF(AU7=0,0,(AU7*((LOG(AU7))/LOG(2))))","v":-0.19667660678508753}]
[22,142,23,150,23,159,null,null,null,null,0,222,null,112,{"$f":"COUNTIF($L$7:$L$500,N8)","v":3},{"$f":"O8/$Q$4","v":1.935483870967742E-2},{"$f":"IF(P8=0,0,(P8*((LOG(P8))/LOG(2))))","v":-0.11015152073328545},null,null,{"$f":"N8","v":112},{"$f":"COUNTIF(L7:L32,T8)","v":1},{"$f":"U8/(W4-U10)","v":3.8461538461538464E-2},{"$f":"IF(V8=0,0,(V8*((LOG(V8))/LOG(2))))","v":-0.18078614300542661},null,{"$f":"N8","v":112},{"$f":"COUNTIF(L33:L58,Y8)","v":0},{"$f":"Z8/(AB4-Z10)","v":0},{"$f":"IF(AA8=0,0,(AA8*((LOG(AA8))/LOG(2))))","v":0},null,{"$f":"N8","v":112},{"$f":"COUNTIF(L59:L83,AD8)","v":1},{"$f":"AE8/(AG4-AE10)","v":0.04},{"$f":"IF(AF8=0,0,(AF8*((LOG(AF8))/LOG(2))))","v":-0.18575424759098899},null,{"$f":"N8","v":112},{"$f":"COUNTIF(L84:L109,AI8)","v":0},{"$f":"AJ8/(AL4-AJ10)","v":0},{"$f":"IF(AK8=0,0,(AK8*((LOG(AK8))/LOG(2))))","v":0},null,{"$f":"N8","v":112},{"$f":"COUNTIF(L110:L135,AN8)","v":1},{"$f":"AO8/(AQ4-AO10)","v":4.1666666666666664E-2},{"$f":"IF(AP8=0,0,(AP8*((LOG(AP8))/LOG(2))))","v":-0.19104010419671485},null,{"$f":"N8","v":112},{"$f":"COUNTIF(L136:L161,AS8)","v":0},{"$f":"AT8/(AV4-AT10)","v":0},{"$f":"IF(AU8=0,0,(AU8*((LOG(AU8))/LOG(2))))","v":0}]
[22,260,23,268,23,277,null,null,null,null,0,222,null,121,{"$f":"COUNTIF($L$7:$L$500,N9)","v":1},{"$f":"O9/$Q$4","v":6.4516129032258064E-3},{"$f":"IF(P9=0,0,(P9*((LOG(P9))/LOG(2))))","v":-4.694273809854347E-2},null,null,{"$f":"N9","v":121},{"$f":"COUNTIF(L7:L32,T9)","v":0},{"$f":"U9/(W4-U10)","v":0},{"$f":"IF(V9=0,0,(V9*((LOG(V9))/LOG(2))))","v":0},null,{"$f":"N9","v":121},{"$f":"COUNTIF(L33:L58,Y9)","v":0},{"$f":"Z9/(AB4-Z10)","v":0},{"$f":"IF(AA9=0,0,(AA9*((LOG(AA9))/LOG(2))))","v":0},null,{"$f":"N9","v":121},{"$f":"COUNTIF(L59:L83,AD9)","v":1},{"$f":"AE9/(AG4-AE10)","v":0.04},{"$f":"IF(AF9=0,0,(AF9*((LOG(AF9))/LOG(2))))","v":-0.18575424759098899},null,{"$f":"N9","v":121},{"$f":"COUNTIF(L84:L109,AI9)","v":0},{"$f":"AJ9/(AL4-AJ10)","v":0},{"$f":"IF(AK9=0,0,(AK9*((LOG(AK9))/LOG(2))))","v":0},null,{"$f":"N9","v":121},{"$f":"COUNTIF(L110:L135,AN9)","v":0},{"$f":"AO9/(AQ4-AO10)","v":0},{"$f":"IF(AP9=0,0,(AP9*((LOG(AP9))/LOG(2))))","v":0},null,{"$f":"N9","v":121},{"$f":"COUNTIF(L136:L161,AS9)","v":0},{"$f":"AT9/(AV4-AT10)","v":0},{"$f":"IF(AU9=0,0,(AU9*((LOG(AU9))/LOG(2))))","v":0}]
[22,396,14,411,14,417,null,null,null,null,0,211,null,122,{"$f":"COUNTIF($L$7:$L$500,N10)","v":8},{"$f":"O10/$Q$4","v":5.1612903225806452E-2},{"$f":"IF(P10=0,0,(P10*((LOG(P10))/LOG(2))))","v":-0.2207031951109284},null,null,{"$f":"N10","v":122},{"$f":"COUNTIF(L7:L32,T10)","v":0},null,null,null,{"$f":"N10","v":122},{"$f":"COUNTIF(L33:L58,Y10)","v":1},null,null,null,{"$f":"N10","v":122},{"$f":"COUNTIF(L59:L83,AD10)","v":0},null,null,null,{"$f":"N10","v":122},{"$f":"COUNTIF(L84:L109,AI10)","v":2},null,null,null,{"$f":"N10","v":122},{"$f":"COUNTIF(L110:L135,AN10)","v":2},null,null,null,{"$f":"N10","v":122},{"$f":"COUNTIF(L136:L161,AS10)","v":3}]
[11,531,12,539,14,547,null,null,null,null,0,111,null,211,{"$f":"COUNTIF($L$7:$L$500,N11)","v":23},{"$f":"O11/$Q$4","v":0.14838709677419354},{"$f":"IF(P11=0,0,(P11*((LOG(P11))/LOG(2))))","v":-0.40844475052900753},null,null,{"$f":"N11","v":211},{"$f":"COUNTIF(L7:L32,T11)","v":6},{"$f":"U11/(W4-U10)","v":0.23076923076923078},{"$f":"IF(V11=0,0,(V11*((LOG(V11))/LOG(2))))","v":-0.48818705017383146},null,{"$f":"N11","v":211},{"$f":"COUNTIF(L33:L58,Y11)","v":3},{"$f":"Z11/(AB4-Z10)","v":0.12},{"$f":"IF(AA11=0,0,(AA11*((LOG(AA11))/LOG(2))))","v":-0.36706724268642821},null,{"$f":"N11","v":211},{"$f":"COUNTIF(L59:L83,AD11)","v":7},{"$f":"AE11/(AG4-AE10)","v":0.28000000000000003},{"$f":"IF(AF11=0,0,(AF11*((LOG(AF11))/LOG(2))))","v":-0.51422035496079388},null,{"$f":"N11","v":211},{"$f":"COUNTIF(L84:L109,AI11)","v":5},{"$f":"AJ11/(AL4-AJ10)","v":0.20833333333333334},{"$f":"IF(AK11=0,0,(AK11*((LOG(AK11))/LOG(2))))","v":-0.47146550121537367},null,{"$f":"N11","v":211},{"$f":"COUNTIF(L110:L135,AN11)","v":1},{"$f":"AO11/(AQ4-AO10)","v":4.1666666666666664E-2},{"$f":"IF(AP11=0,0,(AP11*((LOG(AP11))/LOG(2))))","v":-0.19104010419671485},null,{"$f":"N11","v":211},{"$f":"COUNTIF(L136:L161,AS11)","v":1},{"$f":"AT11/(AV4-AT10)","v":4.3478260869565216E-2},{"$f":"IF(AU11=0,0,(AU11*((LOG(AU11))/LOG(2))))","v":-0.19667660678508753}]
[22,650,14,663,14,670,null,null,null,null,0,211,null,212,{"$f":"COUNTIF($L$7:$L$500,N12)","v":5},{"$f":"O12/$Q$4","v":3.2258064516129031E-2},{"$f":"IF(P12=0,0,(P12*((LOG(P12))/LOG(2))))","v":-0.15981278420602821},null,null,{"$f":"N12","v":212},{"$f":"COUNTIF(L7:L32,T12)","v":2},{"$f":"U12/(W4-U10)","v":7.6923076923076927E-2},{"$f":"IF(V12=0,0,(V12*((LOG(V12))/LOG(2))))","v":-0.28464920908777636},null,{"$f":"N12","v":212},{"$f":"COUNTIF(L33:L58,Y12)","v":0},{"$f":"Z12/(AB4-Z10)","v":0},{"$f":"IF(AA12=0,0,(AA12*((LOG(AA12))/LOG(2))))","v":0},null,{"$f":"N12","v":212},{"$f":"COUNTIF(L59:L83,AD12)","v":1},{"$f":"AE12/(AG4-AE10)","v":0.04},{"$f":"IF(AF12=0,0,(AF12*((LOG(AF12))/LOG(2))))","v":-0.18575424759098899},null,{"$f":"N12","v":212},{"$f":"COUNTIF(L84:L109,AI12)","v":0},{"$f":"AJ12/(AL4-AJ10)","v":0},{"$f":"IF(AK12=0,0,(AK12*((LOG(AK12))/LOG(2))))","v":0},null,{"$f":"N12","v":212},{"$f":"COUNTIF(L110:L135,AN12)","v":1},{"$f":"AO12/(AQ4-AO10)","v":4.1666666666666664E-2},{"$f":"IF(AP12=0,0,(AP12*((LOG(AP12))/LOG(2))))","v":-0.19104010419671485},null,{"$f":"N12","v":212},{"$f":"COUNTIF(L136:L161,AS12)","v":1},{"$f":"AT12/(AV4-AT10)","v":4.3478260869565216E-2},{"$f":"IF(AU12=0,0,(AU12*((LOG(AU12))/LOG(2))))","v":-0.19667660678508753}]
[22,776,23,793,14,807,null,null,null,null,0,221,null,221,{"$f":"COUNTIF($L$7:$L$500,N13)","v":30},{"$f":"O13/$Q$4","v":0.19354838709677419},{"$f":"IF(P13=0,0,(P13*((LOG(P13))/LOG(2))))","v":-0.45856138251594558},null,null,{"$f":"N13","v":221},{"$f":"COUNTIF(L7:L32,T13)","v":6},{"$f":"U13/(W4-U10)","v":0.23076923076923078},{"$f":"IF(V13=0,0,(V13*((LOG(V13))/LOG(2))))","v":-0.48818705017383146},null,{"$f":"N13","v":221},{"$f":"COUNTIF(L33:L58,Y13)","v":6},{"$f":"Z13/(AB4-Z10)","v":0.24},{"$f":"IF(AA13=0,0,(AA13*((LOG(AA13))/LOG(2))))","v":-0.49413448537285637},null,{"$f":"N13","v":221},{"$f":"COUNTIF(L59:L83,AD13)","v":2},{"$f":"AE13/(AG4-AE10)","v":0.08},{"$f":"IF(AF13=0,0,(AF13*((LOG(AF13))/LOG(2))))","v":-0.29150849518197797},null,{"$f":"N13","v":221},{"$f":"COUNTIF(L84:L109,AI13)","v":4},{"$f":"AJ13/(AL4-AJ10)","v":0.16666666666666666},{"$f":"IF(AK13=0,0,(AK13*((LOG(AK13))/LOG(2))))","v":-0.43082708345352599},null,{"$f":"N13","v":221},{"$f":"COUNTIF(L110:L135,AN13)","v":2},{"$f":"AO13/(AQ4-AO10)","v":8.3333333333333329E-2},{"$f":"IF(AP13=0,0,(AP13*((LOG(AP13))/LOG(2))))","v":-0.29874687506009634},null,{"$f":"N13","v":221},{"$f":"COUNTIF(L136:L161,AS13)","v":10},{"$f":"AT13/(AV4-AT10)","v":0.43478260869565216},{"$f":"IF(AU13=0,0,(AU13*((LOG(AU13))/LOG(2))))","v":-0.52244950485636987}]
[22,914,14,929,14,936,null,null,null,null,0,211,null,222,{"$f":"COUNTIF($L$7:$L$500,N14)","v":70},{"$f":"O14/$Q$4","v":0.45161290322580644},{"$f":"IF(P14=0,0,(P14*((LOG(P14))/LOG(2))))","v":-0.51792836892289662},null,null,{"$f":"N14","v":222},{"$f":"COUNTIF(L7:L32,T14)","v":8},{"$f":"U14/(W4-U10)","v":0.30769230769230771},{"$f":"IF(V14=0,0,(V14*((LOG(V14))/LOG(2))))","v":-0.52321222096648989},null,{"$f":"N14","v":222},{"$f":"COUNTIF(L33:L58,Y14)","v":11},{"$f":"Z14/(AB4-Z10)","v":0.44},{"$f":"IF(AA14=0,0,(AA14*((LOG(AA14))/LOG(2))))","v":-0.52114681130046814},null,{"$f":"N14","v":222},{"$f":"COUNTIF(L59:L83,AD14)","v":10},{"$f":"AE14/(AG4-AE10)","v":0.4},{"$f":"IF(AF14=0,0,(AF14*((LOG(AF14))/LOG(2))))","v":-0.52877123795494496},null,{"$f":"N14","v":222},{"$f":"COUNTIF(L84:L109,AI14)","v":13},{"$f":"AJ14/(AL4-AJ10)","v":0.54166666666666663},{"$f":"IF(AK14=0,0,(AK14*((LOG(AK14))/LOG(2))))","v":-0.47911650723086807},null,{"$f":"N14","v":222},{"$f":"COUNTIF(L110:L135,AN14)","v":18},{"$f":"AO14/(AQ4-AO10)","v":0.75},{"$f":"IF(AP14=0,0,(AP14*((LOG(AP14))/LOG(2))))","v":-0.31127812445913283},null,{"$f":"N14","v":222},{"$f":"COUNTIF(L136:L161,AS14)","v":10},{"$f":"AT14/(AV4-AT10)","v":0.43478260869565216},{"$f":"IF(AU14=0,0,(AU14*((LOG(AU14))/LOG(2))))","v":-0.52244950485636987}]
[22,1047,23,1055,14,1069,null,null,null,null,0,221,null,null,null,{"$f":"SUM(P7:P14)","v":1},{"$f":"-SUM(Q7:Q14)","v":2.2485996249229951},null,null,null,null,{"$f":"SUM(V7:V14)","v":1},{"$f":"-SUM(W7:W14)","v":2.3244998138788868},null,null,null,{"$f":"SUM(AA7:AA14)","v":1},{"$f":"-SUM(AB7:AB14)","v":1.8467341583372252},null,null,null,{"$f":"SUM(AF7:AF14)","v":1},{"$f":"-SUM(AG7:AG14)","v":2.2588300735571121},null,null,null,{"$f":"SUM(AK7:AK14)","v":1},{"$f":"-SUM(AL7:AL14)","v":1.680155966959864},null,null,null,{"$f":"SUM(AP7:AP14)","v":1},{"$f":"-SUM(AQ7:AQ14)","v":1.3741854163060885},null,null,null,{"$f":"SUM(AU7:AU14)","v":1},{"$f":"-SUM(AV7:AV14)","v":1.6349288300680023}]
[11,1213,12,1219,14,1227,null,null,null,null,0,111,null,null,null,"U=",{"$f":"Q15/(LOG(Q4)/LOG(2))","v":0.30903809496344714},null,null,null,null,"U1=",{"$f":"W15/(LOG(W4)/LOG(2))","v":0.49452816188826038},null,null,null,"U2=",{"$f":"AB15/(LOG(AB4)/LOG(2))","v":0.39288540414843637},null,null,null,"U3=",{"$f":"AG15/(LOG(AG4)/LOG(2))","v":0.48641258067612309},null,null,null,"U4=",{"$f":"AL15/(LOG(AL4)/LOG(2))","v":0.35744655132484593},null,null,null,"U5=",{"$f":"AQ15/(LOG(AQ4)/LOG(2))","v":0.29235252416970575},null,null,null,"U6=",{"$f":"AV15/(LOG(AV4)/LOG(2))","v":0.34782465643758459}]
[22,1331,23,1353,23,1362,null,null,null,null,0,222]
[22,1528,14,1547,14,1553,null,null,null,null,0,211]
[22,1663,23,1670,23,1678,null,null,null,null,0,222,null,"Total Target Seq"]
[22,1797,23,1826,23,1834,null,null,null,null,0,222,null,{"$f":"COUNTIF(L7:L161,G3)","v":8},null,26,26,25,26,26,26]
[11,1969,12,1976,14,1985,null,null,null,null,0,111,null,null,null,"% of reinforcement given in 6 equal intervals based on number of trials "]
[22,2104,14,2129,14,2134,null,null,null,null,0,211,null,null,null,"%_1","%_2","%_3","%_4","%_5","%_6"]
[22,2270,23,2278,14,2292,null,null,null,null,0,221,null,null,"target sequence",{"$f":"$G$3","v":122},{"$f":"$G$3","v":122},{"$f":"$G$3","v":122},{"$f":"$G$3","v":122},{"$f":"$G$3","v":122},{"$f":"$G$3","v":122}]
[22,2417,23,2462,14,2481,null,null,null,null,0,221,null,null,"total reinforcement",{"$f":"U10","v":0},{"$f":"Z10","v":1},{"$f":"AE10","v":0},{"$f":"AJ10","v":2},{"$f":"AO10","v":2},{"$f":"AT10","v":3}]
[22,2624,14,2638,14,2663,null,null,null,null,0,211,null,null,"% target"]
[22,2777,23,2797,14,2817,null,null,null,null,0,221,null,null,"CCRF"]
[22,2948,23,2957,14,2971,null,null,null,null,0,221,null,null,"% CCRf"]
[22,3109,23,3118,23,3132,null,null,null,null,0,222,null,null,"average response rate",{"$f":"F32/P20","v":143.42307692307693},{"$f":"(F58-F32)/Q20","v":155.5},{"$f":"(F83-F58)/R20","v":156.04},{"$f":"(F109-F83)/S20","v":143.65384615384616},{"$f":"(F135-F109)/T20","v":156.92307692307693},{"$f":"(F161-F135)/U20","v":172.19230769230768}]
[22,3259,14,3284,23,3298,null,null,null,null,0,212]
[22,3415,23,3432,23,3440,null,null,null,null,0,222]
[22,3552,14,3571,23,3591,null,null,null,null,0,212]
[22,3714,23,3721,23,3729,null,null,null,null,0,222]
[22,3838,23,3846,23,3853,null,null,null,null,0,222]
[22,3969,23,3977,23,3985,null,null,null,null,0,222]
[22,4111,23,4135,23,4155,null,null,null,null,0,222]
[22,4266,23,4274,23,4282,null,null,null,null,0,222]
[22,4395,23,4409,14,4426,null,null,null,null,0,221]
[22,4570,14,4641,14,4652,null,null,null,null,0,211]
[11,4826,12,4834,14,4846,null,null,null,null,0,111]
[22,4975,23,4982,14,4999,null,null,null,null,0,221]
[22,5120,23,5129,23,5137,null,null,null,null,0,222]
[22,5283,23,5298,23,5318,null,null,null,null,0,222]
[22,5424,23,5445,23,5457,null,null,null,null,0,222]
[22,5599,23,5613,14,5627,null,null,null,null,0,221]
[11,5788,12,5797,14,5807,null,null,null,null,0,111]
[11,5939,12,5948,14,5955,null,null,null,null,0,111]
[11,6069,12,6146,14,6154,null,null,null,null,0,111]
[11,6295,21,6333,21,6345,null,null,null,null,0,122]
[22,6441,23,6449,23,6478,null,null,null,null,0,222]
[22,6609,23,6616,14,6628,null,null,null,null,0,221]
[11,6763,12,6777,14,6786,null,null,null,null,0,111]
[22,6893,23,6900,23,6907,null,null,null,null,0,222]
[22,7026,14,7039,14,7047,null,null,null,null,0,211]
[22,7172,23,7185,23,7192,null,null,null,null,0,222]
[22,7312,14,7329,14,7335,null,null,null,null,0,211]
[22,7486,23,7502,14,7516,null,null,null,null,0,221]
[22,7621,23,7627,23,7647,null,null,null,null,0,222]
[22,7748,23,7757,14,7772,null,null,null,null,0,221]
[22,7928,14,7942,14,7950,null,null,null,null,0,211]
[22,8069,14,8085,14,8092,null,null,null,null,0,211]
[22,8217,23,8239,14,8253,null,null,null,null,0,221]
[22,8363,23,8377,23,8384,null,null,null,null,0,222]
[22,8510,23,8517,23,8534,null,null,null,null,0,222]
[22,8642,23,8649,23,8657,null,null,null,null,0,222]
[11,8766,21,8790,12,8827,null,null,null,null,0,121]
[22,8930,23,8943,23,8950,null,null,null,null,0,222]
[11,9055,12,9060,14,9067,null,null,null,null,0,111]
[22,9172,23,9181,14,9197,null,null,null,null,0,221]
[22,9348,14,9361,14,9368,null,null,null,null,0,211]
[22,9480,23,9490,23,9497,null,null,null,null,0,222]
[22,9615,14,9629,14,9637,null,null,null,null,0,211]
[22,9790,14,9865,14,9873,null,null,null,null,0,211]
[22,10005,23,10025,23,10032,null,null,null,null,0,222]
[11,10147,12,10155,14,10162,null,null,null,null,0,111]
[22,10277,14,10315,14,10321,null,null,null,null,0,211]
[11,10449,12,10457,14,10465,null,null,null,null,0,111]
[22,10609,23,10616,23,10624,null,null,null,null,0,222]
[22,10777,14,10797,23,10833,null,null,null,null,0,212]
[22,10942,23,10950,23,10972,null,null,null,null,0,222]
[22,11102,14,11125,14,11132,null,null,null,null,0,211]
[22,11295,23,11319,23,11335,null,null,null,null,0,222]
[11,11463,12,11471,23,11491,null,null,null,null,0,112]
[22,11647,23,11654,23,11673,null,null,null,null,0,222]
[22,11840,14,11864,14,11870,null,null,null,null,0,211]
[11,12090,12,12097,14,12105,null,null,null,null,0,111]
[11,12239,21,12256,21,12263,null,null,null,null,0,122]
[22,12378,23,12400,14,12415,null,null,null,null,0,221]
[22,12515,23,12522,14,12550,null,null,null,null,0,221]
[22,12685,23,12709,23,12717,null,null,null,null,0,222]
[22,12816,23,12823,23,12842,null,null,null,null,0,222]
[22,12943,23,12973,23,12980,null,null,null,null,0,222]
[22,13094,23,13112,23,13119,null,null,null,null,0,222]
[11,13221,21,13241,21,13248,null,null,null,null,0,122]
[22,13340,14,13377,14,13386,null,null,null,null,0,211]
[22,13512,14,13528,14,13536,null,null,null,null,0,211]
[22,13675,23,13691,23,13714,null,null,null,null,0,222]
[22,13823,23,13854,23,13910,null,null,null,null,0,222]
[22,14012,23,14019,23,14026,null,null,null,null,0,222]
[22,14129,23,14137,23,14145,null,null,null,null,0,222]
[22,14244,23,14252,23,14261,null,null,null,null,0,222]
[22,14361,23,14368,23,14378,null,null,null,null,0,222]
[22,14514,14,14527,14,14534,null,null,null,null,0,211]
[22,14631,14,14656,14,14660,null,null,null,null,0,211]
[22,14759,23,14766,23,14784,null,null,null,null,0,222]
[22,14883,23,14892,14,14905,null,null,null,null,0,221]
[22,15005,23,15011,23,15030,null,null,null,null,0,222]
[22,15129,23,15136,14,15150,null,null,null,null,0,221]
[22,15254,23,15261,23,15269,null,null,null,null,0,222]
[11,15393,12,15400,14,15408,null,null,null,null,0,111]
[22,15508,14,15521,23,15533,null,null,null,null,0,212]
[22,15641,23,15648,23,15656,null,null,null,null,0,222]
[22,15767,23,15774,23,15781,null,null,null,null,0,222]
[22,15915,23,15923,14,15940,null,null,null,null,0,221]
[22,16059,23,16065,23,16072,null,null,null,null,0,222]
[22,16212,23,16220,14,16236,null,null,null,null,0,221]
[22,16366,23,16372,23,16385,null,null,null,null,0,222]
[22,16513,23,16520,23,16527,null,null,null,null,0,222]
[11,16660,12,16664,14,16676,null,null,null,null,0,111]
[22,16781,23,16789,23,16797,null,null,null,null,0,222]
[22,16925,14,16939,14,16950,null,null,null,null,0,211]
[22,17054,23,17068,23,17083,null,null,null,null,0,222]
[22,17230,23,17246,23,17253,null,null,null,null,0,222]
[22,17388,23,17409,23,17418,null,null,null,null,0,222]
[11,17540,12,17547,23,17570,null,null,null,null,0,112]
[22,17679,23,17686,23,17708,null,null,null,null,0,222]
[22,17821,23,17829,23,17870,null,null,null,null,0,222]
[11,17962,21,18017,21,18028,null,null,null,null,0,122]
[22,18185,23,18220,23,18243,null,null,null,null,0,222]
[11,18401,21,18413,21,18435,null,null,null,null,0,122]
[22,18551,23,18558,23,18626,null,null,null,null,0,222]
[22,18729,23,18737,23,18838,null,null,null,null,0,222]
[22,18945,23,18952,23,18964,null,null,null,null,0,222]
[22,19067,23,19108,23,19115,null,null,null,null,0,222]
[22,19215,23,19221,23,19229,null,null,null,null,0,222]
[22,19365,23,19447,23,19488,null,null,null,null,0,222]
[22,19587,23,19594,14,19607,null,null,null,null,0,221]
[22,19727,23,19734,14,19748,null,null,null,null,0,221]
[22,19868,23,19875,23,19888,null,null,null,null,0,222]
[22,20003,23,20009,23,20017,null,null,null,null,0,222]
[22,20146,23,20154,14,20183,null,null,null,null,0,221]
[22,20283,14,20303,14,20310,null,null,null,null,0,211]
[22,20409,23,20414,14,20427,null,null,null,null,0,221]
[22,20567,23,20618,23,20648,null,null,null,null,0,222]
[22,20786,23,20793,14,20811,null,null,null,null,0,221]
[11,20914,21,20926,21,20932,null,null,null,null,0,122]
[22,21040,23,21047,23,21096,null,null,null,null,0,222]
[22,21217,23,21279,23,21382,null,null,null,null,0,222]
[22,21484,23,21490,23,21498,null,null,null,null,0,222]
[22,21597,23,21604,14,21618,null,null,null,null,0,221]
[22,21760,14,21819,23,21837,null,null,null,null,0,212]
[22,21937,23,21944,14,21957,null,null,null,null,0,221]
[11,22091,21,22122,21,22138,null,null,null,null,0,122]
[22,22242,23,22251,14,22267,null,null,null,null,0,221]
[22,22366,23,22388,23,22397,null,null,null,null,0,222]
[22,22506,23,22514,14,22528,null,null,null,null,0,221]
[22,22629,23,22637,14,22649,null,null,null,null,0,221]
[22,22755,23,22763,23,22788,null,null,null,null,0,222]
[22,22956,23,22986,23,23004,null,null,null,null,0,222]
[11,23472,12,23480,14,23490,null,null,null,null,0,111]
[11,23716,21,23766,21,23776,null,null,null,null,0,122]
[22,23914,23,23940,23,23965,null,null,null,null,null,222]

{"sheet":"!M720830.104","index":8,"n_rows":134,"n_cols":48,"rows_kept":134,"cut":false,"hidden":false,"merged":[[4,39,4,42],[5,39,5,40],[4,44,4,47],[5,44,5,45],[4,24,4,27],[5,24,5,25],[4,29,4,32],[5,29,5,30],[4,34,4,37],[5,34,5,35],[1,1,1,2],[5,13,5,14],[18,13,18,14],[19,13,19,14],[4,19,4,22],[5,19,5,20]]}
["Report for:!M720830.104"]
["Date:","<date>"]
["Hen:","<hen>",null,null,null,"Correct Sequence",{"$f":"Start!J2","v":122},null,null,null,null,null,null,null,null,"Total Sequences in Data",{"$f":"4994-COUNTBLANK(L7:L5000)","v":128},null,null,null,null,"Total Sequences in Block Data",{"$f":"COUNTA(L7:L27)","v":21},null,null,null,"Total Sequences in Block Data",{"$f":"COUNTA(L28:L49)","v":22},null,null,null,"Total Sequences in Block Data",{"$f":"COUNTA(L50:L70)","v":21},null,null,null,"Total Sequences in Block Data",{"$f":"COUNTA(L71:L91)","v":21},null,null,null,"Total Sequences in Block Data",{"$f":"COUNTA(L92:L113)","v":22},null,null,null,"Total Sequences in Block Data",{"$f":"COUNTA(L114:L134)","v":21}]
[null,null,null,null,null,null,null,null,null,null,null,null,null,null,null,"Total Sequences in Summary",{"$f":"SUM(O7:O14)","v":128},null,null,null,null,"Total Sequences in Block Summary",{"$f":"SUM(U7:U14)","v":21},null,null,null,"Total Sequences in Block Summary",{"$f":"SUM(Z7:Z14)","v":22},null,null,null,"Total Sequences in Block Summary",{"$f":"SUM(AE7:AE14)","v":21},null,null,null,"Total Sequences in Block Summary",{"$f":"SUM(AJ7:AJ14)","v":21},null,null,null,"Total Sequences in Block Summary",{"$f":"SUM(AO7:AO14)","v":22},null,null,null,"Total Sequences in Block Summary",{"$f":"SUM(AT7:AT14)","v":21}]
[null,null,null,null,null,null,null,null,null,null,null,null,null,null,null,null,null,null,null,"Block 1",null,null,null,null,"Block 2",null,null,null,null,"Block 3",null,null,null,null,"Block 4",null,null,null,null,"Block 5",null,null,null,null,"Block 6"]
["Sequence\nComponent\n1","Time\n1","Sequence\nComponent\n2","Time\n2","Sequence\nComponent\n3","Time\n3","Sequence\nComponent\n4","Time\n4","Sequence\nComponent\n5","Time\n5","Correct?\n0=No 1=Yes","Sequence",null,"Frequency",null,"Relative Frequency","Variability",null,null,"Frequency",null,"Relative Frequency","Variability",null,"Frequency",null,"Relative Frequency","Variability",null,"Frequency",null,"Relative Frequency","Variability",null,"Frequency",null,"Relative Frequency","Variability",null,"Frequency",null,"Relative Frequency","Variability",null,"Frequency",null,"Relative Frequency","Variability"]
[22,11,23,26,23,36,null,null,null,null,0,222,null,111,{"$f":"COUNTIF($L$7:$L$500,N7)","v":8},{"$f":"O7/$Q$4","v":6.25E-2},{"$f":"IF(P7=0,0,(P7*((LOG(P7))/LOG(2))))","v":-0.25},null,null,{"$f":"N7","v":111},{"$f":"COUNTIF(L7:L27,T7)","v":3},{"$f":"U7/(W4-U10)","v":0.16666666666666666},{"$f":"IF(V7=0,0,(V7*((LOG(V7))/LOG(2))))","v":-0.43082708345352599},null,{"$f":"N7","v":111},{"$f":"COUNTIF(L28:L49,Y7)","v":0},{"$f":"Z7/(AB4-Z10)","v":0},{"$f":"IF(AA7=0,0,(AA7*((LOG(AA7))/LOG(2))))","v":0},null,{"$f":"N7","v":111},{"$f":"COUNTIF(L50:L70,AD7)","v":1},{"$f":"AE7/(AG4-AE10)","v":6.25E-2},{"$f":"IF(AF7=0,0,(AF7*((LOG(AF7))/LOG(2))))","v":-0.25},null,{"$f":"N7","v":111},{"$f":"COUNTIF(L71:L91,AI7)","v":2},{"$f":"AJ7/(AL4-AJ10)","v":0.15384615384615385},{"$f":"IF(AK7=0,0,(AK7*((LOG(AK7))/LOG(2))))","v":-0.4154522643293988},null,{"$f":"N7","v":111},{"$f":"COUNTIF(L92:L113,AN7)","v":2},{"$f":"AO7/(AQ4-AO10)","v":0.15384615384615385},{"$f":"IF(AP7=0,0,(AP7*((LOG(AP7))/LOG(2))))","v":-0.4154522643293988},null,{"$f":"N7","v":111},{"$f":"COUNTIF(L114:L134,AS7)","v":0},{"$f":"AT7/(AV4-AT10)","v":0},{"$f":"IF(AU7=0,0,(AU7*((LOG(AU7))/LOG(2))))","v":0}]
[22,179,23,187,23,194,null,null,null,null,0,222,null,112,{"$f":"COUNTIF($L$7:$L$500,N8)","v":9},{"$f":"O8/$Q$4","v":7.03125E-2},{"$f":"IF(P8=0,0,(P8*((LOG(P8))/LOG(2))))","v":-0.26930214833608745},null,null,{"$f":"N8","v":112},{"$f":"COUNTIF(L7:L27,T8)","v":0},{"$f":"U8/(W4-U10)","v":0},{"$f":"IF(V8=0,0,(V8*((LOG(V8))/LOG(2))))","v":0},null,{"$f":"N8","v":112},{"$f":"COUNTIF(L28:L49,Y8)","v":0},{"$f":"Z8/(AB4-Z10)","v":0},{"$f":"IF(AA8=0,0,(AA8*((LOG(AA8))/LOG(2))))","v":0},null,{"$f":"N8","v":112},{"$f":"COUNTIF(L50:L70,AD8)","v":1},{"$f":"AE8/(AG4-AE10)","v":6.25E-2},{"$f":"IF(AF8=0,0,(AF8*((LOG(AF8))/LOG(2))))","v":-0.25},null,{"$f":"N8","v":112},{"$f":"COUNTIF(L71:L91,AI8)","v":2},{"$f":"AJ8/(AL4-AJ10)","v":0.15384615384615385},{"$f":"IF(AK8=0,0,(AK8*((LOG(AK8))/LOG(2))))","v":-0.4154522643293988},null,{"$f":"N8","v":112},{"$f":"COUNTIF(L92:L113,AN8)","v":3},{"$f":"AO8/(AQ4-AO10)","v":0.23076923076923078},{"$f":"IF(AP8=0,0,(AP8*((LOG(AP8))/LOG(2))))","v":-0.48818705017383146},null,{"$f":"N8","v":112},{"$f":"COUNTIF(L114:L134,AS8)","v":3},{"$f":"AT8/(AV4-AT10)","v":0.375},{"$f":"IF(AU8=0,0,(AU8*((LOG(AU8))/LOG(2))))","v":-0.53063906222956647}]
[22,310,23,319,23,326,null,null,null,null,0,222,null,121,{"$f":"COUNTIF($L$7:$L$500,N9)","v":1},{"$f":"O9/$Q$4","v":7.8125E-3},{"$f":"IF(P9=0,0,(P9*((LOG(P9))/LOG(2))))","v":-5.46875E-2},null,null,{"$f":"N9","v":121},{"$f":"COUNTIF(L7:L27,T9)","v":0},{"$f":"U9/(W4-U10)","v":0},{"$f":"IF(V9=0,0,(V9*((LOG(V9))/LOG(2))))","v":0},null,{"$f":"N9","v":121},{"$f":"COUNTIF(L28:L49,Y9)","v":0},{"$f":"Z9/(AB4-Z10)","v":0},{"$f":"IF(AA9=0,0,(AA9*((LOG(AA9))/LOG(2))))","v":0},null,{"$f":"N9","v":121},{"$f":"COUNTIF(L50:L70,AD9)","v":0},{"$f":"AE9/(AG4-AE10)","v":0},{"$f":"IF(AF9=0,0,(AF9*((LOG(AF9))/LOG(2))))","v":0},null,{"$f":"N9","v":121},{"$f":"COUNTIF(L71:L91,AI9)","v":1},{"$f":"AJ9/(AL4-AJ10)","v":7.6923076923076927E-2},{"$f":"IF(AK9=0,0,(AK9*((LOG(AK9))/LOG(2))))","v":-0.28464920908777636},null,{"$f":"N9","v":121},{"$f":"COUNTIF(L92:L113,AN9)","v":0},{"$f":"AO9/(AQ4-AO10)","v":0},{"$f":"IF(AP9=0,0,(AP9*((LOG(AP9))/LOG(2))))","v":0},null,{"$f":"N9","v":121},{"$f":"COUNTIF(L114:L134,AS9)","v":0},{"$f":"AT9/(AV4-AT10)","v":0},{"$f":"IF(AU9=0,0,(AU9*((LOG(AU9))/LOG(2))))","v":0}]
[22,426,23,435,23,450,null,null,null,null,0,222,null,122,{"$f":"COUNTIF($L$7:$L$500,N10)","v":39},{"$f":"O10/$Q$4","v":0.3046875},{"$f":"IF(P10=0,0,(P10*((LOG(P10))/LOG(2))))","v":-0.52241651144040868},null,null,{"$f":"N10","v":122},{"$f":"COUNTIF(L7:L27,T10)","v":3},null,null,null,{"$f":"N10","v":122},{"$f":"COUNTIF(L28:L49,Y10)","v":1},null,null,null,{"$f":"N10","v":122},{"$f":"COUNTIF(L50:L70,AD10)","v":5},null,null,null,{"$f":"N10","v":122},{"$f":"COUNTIF(L71:L91,AI10)","v":8},null,null,null,{"$f":"N10","v":122},{"$f":"COUNTIF(L92:L113,AN10)","v":9},null,null,null,{"$f":"N10","v":122},{"$f":"COUNTIF(L114:L134,AS10)","v":13}]
[22,553,23,560,23,644,null,null,null,null,0,222,null,211,{"$f":"COUNTIF($L$7:$L$500,N11)","v":10},{"$f":"O11/$Q$4","v":7.8125E-2},{"$f":"IF(P11=0,0,(P11*((LOG(P11))/LOG(2))))","v":-0.28734936758692481},null,null,{"$f":"N11","v":211},{"$f":"COUNTIF(L7:L27,T11)","v":1},{"$f":"U11/(W4-U10)","v":5.5555555555555552E-2},{"$f":"IF(V11=0,0,(V11*((LOG(V11))/LOG(2))))","v":-0.23166250008012845},null,{"$f":"N11","v":211},{"$f":"COUNTIF(L28:L49,Y11)","v":3},{"$f":"Z11/(AB4-Z10)","v":0.14285714285714285},{"$f":"IF(AA11=0,0,(AA11*((LOG(AA11))/LOG(2))))","v":-0.40105070315108626},null,{"$f":"N11","v":211},{"$f":"COUNTIF(L50:L70,AD11)","v":2},{"$f":"AE11/(AG4-AE10)","v":0.125},{"$f":"IF(AF11=0,0,(AF11*((LOG(AF11))/LOG(2))))","v":-0.375},null,{"$f":"N11","v":211},{"$f":"COUNTIF(L71:L91,AI11)","v":3},{"$f":"AJ11/(AL4-AJ10)","v":0.23076923076923078},{"$f":"IF(AK11=0,0,(AK11*((LOG(AK11))/LOG(2))))","v":-0.48818705017383146},null,{"$f":"N11","v":211},{"$f":"COUNTIF(L92:L113,AN11)","v":1},{"$f":"AO11/(AQ4-AO10)","v":7.6923076923076927E-2},{"$f":"IF(AP11=0,0,(AP11*((LOG(AP11))/LOG(2))))","v":-0.28464920908777636},null,{"$f":"N11","v":211},{"$f":"COUNTIF(L114:L134,AS11)","v":0},{"$f":"AT11/(AV4-AT10)","v":0},{"$f":"IF(AU11=0,0,(AU11*((LOG(AU11))/LOG(2))))","v":0}]
[22,747,23,755,23,769,null,null,null,null,0,222,null,212,{"$f":"COUNTIF($L$7:$L$500,N12)","v":3},{"$f":"O12/$Q$4","v":2.34375E-2},{"$f":"IF(P12=0,0,(P12*((LOG(P12))/LOG(2))))","v":-0.12691494138934789},null,null,{"$f":"N12","v":212},{"$f":"COUNTIF(L7:L27,T12)","v":1},{"$f":"U12/(W4-U10)","v":5.5555555555555552E-2},{"$f":"IF(V12=0,0,(V12*((LOG(V12))/LOG(2))))","v":-0.23166250008012845},null,{"$f":"N12","v":212},{"$f":"COUNTIF(L28:L49,Y12)","v":0},{"$f":"Z12/(AB4-Z10)","v":0},{"$f":"IF(AA12=0,0,(AA12*((LOG(AA12))/LOG(2))))","v":0},null,{"$f":"N12","v":212},{"$f":"COUNTIF(L50:L70,AD12)","v":1},{"$f":"AE12/(AG4-AE10)","v":6.25E-2},{"$f":"IF(AF12=0,0,(AF12*((LOG(AF12))/LOG(2))))","v":-0.25},null,{"$f":"N12","v":212},{"$f":"COUNTIF(L71:L91,AI12)","v":0},{"$f":"AJ12/(AL4-AJ10)","v":0},{"$f":"IF(AK12=0,0,(AK12*((LOG(AK12))/LOG(2))))","v":0},null,{"$f":"N12","v":212},{"$f":"COUNTIF(L92:L113,AN12)","v":0},{"$f":"AO12/(AQ4-AO10)","v":0},{"$f":"IF(AP12=0,0,(AP12*((LOG(AP12))/LOG(2))))","v":0},null,{"$f":"N12","v":212},{"$f":"COUNTIF(L114:L134,AS12)","v":1},{"$f":"AT12/(AV4-AT10)","v":0.125},{"$f":"IF(AU12=0,0,(AU12*((LOG(AU12))/LOG(2))))","v":-0.375}]
[22,872,23,879,23,896,null,null,null,null,0,222,null,221,{"$f":"COUNTIF($L$7:$L$500,N13)","v":14},{"$f":"O13/$Q$4","v":0.109375},{"$f":"IF(P13=0,0,(P13*((LOG(P13))/LOG(2))))","v":-0.34919555539994956},null,null,{"$f":"N13","v":221},{"$f":"COUNTIF(L7:L27,T13)","v":3},{"$f":"U13/(W4-U10)","v":0.16666666666666666},{"$f":"IF(V13=0,0,(V13*((LOG(V13))/LOG(2))))","v":-0.43082708345352599},null,{"$f":"N13","v":221},{"$f":"COUNTIF(L28:L49,Y13)","v":6},{"$f":"Z13/(AB4-Z10)","v":0.2857142857142857},{"$f":"IF(AA13=0,0,(AA13*((LOG(AA13))/LOG(2))))","v":-0.51638712058788683},null,{"$f":"N13","v":221},{"$f":"COUNTIF(L50:L70,AD13)","v":2},{"$f":"AE13/(AG4-AE10)","v":0.125},{"$f":"IF(AF13=0,0,(AF13*((LOG(AF13))/LOG(2))))","v":-0.375},null,{"$f":"N13","v":221},{"$f":"COUNTIF(L71:L91,AI13)","v":2},{"$f":"AJ13/(AL4-AJ10)","v":0.15384615384615385},{"$f":"IF(AK13=0,0,(AK13*((LOG(AK13))/LOG(2))))","v":-0.4154522643293988},null,{"$f":"N13","v":221},{"$f":"COUNTIF(L92:L113,AN13)","v":0},{"$f":"AO13/(AQ4-AO10)","v":0},{"$f":"IF(AP13=0,0,(AP13*((LOG(AP13))/LOG(2))))","v":0},null,{"$f":"N13","v":221},{"$f":"COUNTIF(L114:L134,AS13)","v":1},{"$f":"AT13/(AV4-AT10)","v":0.125},{"$f":"IF(AU13=0,0,(AU13*((LOG(AU13))/LOG(2))))","v":-0.375}]
[22,1018,23,1026,23,1043,null,null,null,null,0,222,null,222,{"$f":"COUNTIF($L$7:$L$500,N14)","v":44},{"$f":"O14/$Q$4","v":0.34375},{"$f":"IF(P14=0,0,(P14*((LOG(P14))/LOG(2))))","v":-0.52957038109342913},null,null,{"$f":"N14","v":222},{"$f":"COUNTIF(L7:L27,T14)","v":10},{"$f":"U14/(W4-U10)","v":0.55555555555555558},{"$f":"IF(V14=0,0,(V14*((LOG(V14))/LOG(2))))","v":-0.4711093925305278},null,{"$f":"N14","v":222},{"$f":"COUNTIF(L28:L49,Y14)","v":12},{"$f":"Z14/(AB4-Z10)","v":0.5714285714285714},{"$f":"IF(AA14=0,0,(AA14*((LOG(AA14))/LOG(2))))","v":-0.46134566974720237},null,{"$f":"N14","v":222},{"$f":"COUNTIF(L50:L70,AD14)","v":9},{"$f":"AE14/(AG4-AE10)","v":0.5625},{"$f":"IF(AF14=0,0,(AF14*((LOG(AF14))/LOG(2))))","v":-0.4669171866886993},null,{"$f":"N14","v":222},{"$f":"COUNTIF(L71:L91,AI14)","v":3},{"$f":"AJ14/(AL4-AJ10)","v":0.23076923076923078},{"$f":"IF(AK14=0,0,(AK14*((LOG(AK14))/LOG(2))))","v":-0.48818705017383146},null,{"$f":"N14","v":222},{"$f":"COUNTIF(L92:L113,AN14)","v":7},{"$f":"AO14/(AQ4-AO10)","v":0.53846153846153844},{"$f":"IF(AP14=0,0,(AP14*((LOG(AP14))/LOG(2))))","v":-0.48089181327572433},null,{"$f":"N14","v":222},{"$f":"COUNTIF(L114:L134,AS14)","v":3},{"$f":"AT14/(AV4-AT10)","v":0.375},{"$f":"IF(AU14=0,0,(AU14*((LOG(AU14))/LOG(2))))","v":-0.53063906222956647}]
[22,1153,23,1161,14,1174,null,null,null,null,0,221,null,null,null,{"$f":"SUM(P7:P14)","v":1},{"$f":"-SUM(Q7:Q14)","v":2.3894364052461476},null,null,null,null,{"$f":"SUM(V7:V14)","v":1},{"$f":"-SUM(W7:W14)","v":1.7960885595978366},null,null,null,{"$f":"SUM(AA7:AA14)","v":1},{"$f":"-SUM(AB7:AB14)","v":1.3787834934861753},null,null,null,{"$f":"SUM(AF7:AF14)","v":1},{"$f":"-SUM(AG7:AG14)","v":1.9669171866886992},null,null,null,{"$f":"SUM(AK7:AK14)","v":1},{"$f":"-SUM(AL7:AL14)","v":2.5073801024236353},null,null,null,{"$f":"SUM(AP7:AP14)","v":1},{"$f":"-SUM(AQ7:AQ14)","v":1.6691803368667308},null,null,null,{"$f":"SUM(AU7:AU14)","v":1},{"$f":"-SUM(AV7:AV14)","v":1.8112781244591329}]
[22,1276,23,1283,23,1290,null,null,null,null,0,222,null,null,null,"U=",{"$f":"Q15/(LOG(Q4)/LOG(2))","v":0.34134805789230682},null,null,null,null,"U1=",{"$f":"W15/(LOG(W4)/LOG(2))","v":0.40891592904539154},null,null,null,"U2=",{"$f":"AB15/(LOG(AB4)/LOG(2))","v":0.30918368334740848},null,null,null,"U3=",{"$f":"AG15/(LOG(AG4)/LOG(2))","v":0.44780852505972724},null,null,null,"U4=",{"$f":"AL15/(LOG(AL4)/LOG(2))","v":0.57085585149658047},null,null,null,"U5=",{"$f":"AQ15/(LOG(AQ4)/LOG(2))","v":0.37430338204777652},null,null,null,"U6=",{"$f":"AV15/(LOG(AV4)/LOG(2))","v":0.41237414105496134}]
[11,1407,12,1416,14,1424,null,null,null,null,0,111]
[22,1545,23,1553,23,1575,null,null,null,null,0,222]
[22,1701,14,1715,23,1734,null,null,null,null,0,212,null,"Total Target Seq"]
[11,1862,12,1867,14,1874,null,null,null,null,0,111,null,{"$f":"COUNTIF(L7:L134,G3)","v":39},null,21,22,21,21,22,21]
[11,2000,21,2012,21,2044,null,null,null,null,0,122,null,null,null,"% of reinforcement given in 6 equal intervals based on number of trials "]
[22,2146,23,2156,14,2169,null,null,null,null,0,221,null,null,null,"%_1","%_2","%_3","%_4","%_5","%_6"]
[22,2282,14,2297,14,2305,null,null,null,null,0,211,null,null,"target sequence",{"$f":"$G$3","v":122},{"$f":"$G$3","v":122},{"$f":"$G$3","v":122},{"$f":"$G$3","v":122},{"$f":"$G$3","v":122},{"$f":"$G$3","v":122}]
[11,2420,21,2448,21,2467,null,null,null,null,0,122,null,null,"total reinforcement",{"$f":"U10","v":3},{"$f":"Z10","v":1},{"$f":"AE10","v":5},{"$f":"AJ10","v":8},{"$f":"AO10","v":9},{"$f":"AT10","v":13}]
[11,2584,21,2631,21,2639,null,null,null,null,0,122,null,null,"% target"]
[11,2773,12,2781,14,2787,null,null,null,null,0,111,null,null,"CCRF"]
[22,2892,23,2899,14,2911,null,null,null,null,0,221,null,null,"% CCRf"]
[22,3019,14,3038,14,3048,null,null,null,null,0,211,null,null,"average response rate",{"$f":"F27/P20","v":138.61904761904762},{"$f":"(F49-F27)/Q20","v":142.36363636363637},{"$f":"(F70-F49)/R20","v":148.42857142857142},{"$f":"(F91-F70)/S20","v":161.71428571428572},{"$f":"(F113-F91)/T20","v":131.09090909090909},{"$f":"(F134-F113)/U20","v":129.76190476190476}]
[22,3160,23,3177,23,3186,null,null,null,null,0,222]
[22,3301,23,3309,23,3346,null,null,null,null,0,222]
[22,3454,14,3467,14,3474,null,null,null,null,0,211]
[22,3578,23,3585,14,3607,null,null,null,null,0,221]
[22,3716,23,3728,14,3741,null,null,null,null,0,221]
[22,3874,23,3933,23,3941,null,null,null,null,0,222]
[22,4042,23,4048,14,4061,null,null,null,null,0,221]
[22,4160,23,4171,14,4183,null,null,null,null,0,221]
[22,4293,23,4301,23,4307,null,null,null,null,0,222]
[11,4400,21,4417,21,4438,null,null,null,null,0,122]
[22,4549,23,4555,14,4569,null,null,null,null,0,221]
[22,4680,23,4684,23,4700,null,null,null,null,0,222]
[22,4807,23,4835,23,4842,null,null,null,null,0,222]
[22,4956,23,4963,23,4978,null,null,null,null,0,222]
[22,5083,23,5091,14,5103,null,null,null,null,0,221]
[22,5272,23,5293,23,5309,null,null,null,null,0,222]
[22,5420,23,5432,23,5452,null,null,null,null,0,222]
[22,5554,23,5558,23,5566,null,null,null,null,0,222]
[22,5686,23,5736,23,5765,null,null,null,null,0,222]
[22,5874,14,5922,14,5931,null,null,null,null,0,211]
[22,6033,23,6037,23,6043,null,null,null,null,0,222]
[22,6154,14,6182,14,6190,null,null,null,null,0,211]
[22,6304,14,6318,23,6330,null,null,null,null,0,212]
[11,6442,21,6453,21,6482,null,null,null,null,0,122]
[11,6647,12,6658,14,6666,null,null,null,null,0,111]
[22,6802,23,6826,23,6841,null,null,null,null,0,222]
[22,6954,14,6976,14,6983,null,null,null,null,0,211]
[11,7081,21,7092,21,7104,null,null,null,null,0,122]
[11,7213,21,7239,21,7302,null,null,null,null,0,122]
[11,7400,12,7407,23,7423,null,null,null,null,0,112]
[22,7542,23,7546,23,7587,null,null,null,null,0,222]
[22,7687,23,7691,23,7698,null,null,null,null,0,222]
[22,7803,23,7815,23,7824,null,null,null,null,0,222]
[22,7933,23,7985,14,8026,null,null,null,null,0,221]
[11,8123,21,8133,21,8169,null,null,null,null,0,122]
[22,8285,23,8300,23,8315,null,null,null,null,0,222]
[22,8417,23,8423,23,8439,null,null,null,null,0,222]
[22,8539,23,8551,23,8568,null,null,null,null,0,222]
[22,8695,23,8728,14,8743,null,null,null,null,0,221]
[11,8841,21,8852,21,8858,null,null,null,null,0,122]
[22,8951,23,8987,23,9014,null,null,null,null,0,222]
[22,9115,23,9144,23,9160,null,null,null,null,0,222]
[11,9263,12,9267,14,9272,null,null,null,null,0,111]
[11,9374,21,9417,21,9442,null,null,null,null,0,122]
[11,9536,21,9547,21,9573,null,null,null,null,0,122]
[22,9670,23,9711,14,9744,null,null,null,null,0,221]
[11,9843,12,9848,23,9881,null,null,null,null,0,112]
[11,9978,21,9993,21,9999,null,null,null,null,0,122]
[11,10107,12,10112,23,10168,null,null,null,null,0,112]
[22,10278,14,10293,14,10297,null,null,null,null,0,211]
[22,10417,23,10427,23,10443,null,null,null,null,0,222]
[22,10558,14,10570,14,10575,null,null,null,null,0,211]
[11,10731,21,10746,21,10768,null,null,null,null,0,122]
[22,10884,14,10900,14,10907,null,null,null,null,0,211]
[11,11208,12,11215,14,11228,null,null,null,null,0,111]
[22,11339,23,11346,23,11358,null,null,null,null,0,222]
[11,11464,21,11474,21,11481,null,null,null,null,0,122]
[22,11576,23,11582,14,11595,null,null,null,null,0,221]
[22,11717,23,11781,23,11825,null,null,null,null,0,222]
[11,11923,21,11943,21,11984,null,null,null,null,0,122]
[11,12076,21,12110,21,12138,null,null,null,null,0,122]
[11,12228,21,12393,12,12437,null,null,null,null,0,121]
[11,12534,21,12544,21,12556,null,null,null,null,0,122]
[22,12653,23,12679,23,12686,null,null,null,null,0,222]
[11,12783,12,12789,14,12797,null,null,null,null,0,111]
[22,12899,23,12904,23,12911,null,null,null,null,0,222]
[22,13024,23,13029,23,13036,null,null,null,null,0,222]
[11,13136,21,13146,21,13158,null,null,null,null,0,122]
[11,13265,12,13272,23,13290,null,null,null,null,0,112]
[22,13396,23,13402,23,13410,null,null,null,null,0,222]
[11,13507,12,13514,23,13533,null,null,null,null,0,112]
[11,13637,21,13654,21,13663,null,null,null,null,0,122]
[11,13756,21,13766,21,13799,null,null,null,null,0,122]
[11,13889,21,13898,21,13972,null,null,null,null,0,122]
[11,14072,21,14081,21,14095,null,null,null,null,0,122]
[22,14229,14,14249,14,14278,null,null,null,null,0,211]
[11,14389,21,14400,21,14411,null,null,null,null,0,122]
[11,14501,12,14509,14,14527,null,null,null,null,0,111]
[11,14624,12,14628,23,14642,null,null,null,null,0,112]
[22,14749,23,14756,23,14767,null,null,null,null,0,222]
[11,14864,21,14909,21,14924,null,null,null,null,0,122]
[11,15018,21,15032,21,15047,null,null,null,null,0,122]
[22,15157,23,15161,23,15201,null,null,null,null,0,222]
[11,15307,21,15324,21,15332,null,null,null,null,0,122]
[22,15424,23,15431,23,15440,null,null,null,null,0,222]
[11,15537,21,15546,21,15553,null,null,null,null,0,122]
[11,15647,21,15657,21,15663,null,null,null,null,0,122]
[22,15818,14,15837,23,15853,null,null,null,null,0,212]
[11,15956,21,15969,21,16026,null,null,null,null,0,122]
[11,16115,21,16131,21,16146,null,null,null,null,0,122]
[22,16239,23,16250,23,16266,null,null,null,null,0,222]
[11,16363,21,16377,21,16391,null,null,null,null,0,122]
[11,16484,21,16494,21,16500,null,null,null,null,0,122]
[11,16591,21,16603,21,16610,null,null,null,null,0,122]
[11,16704,12,16708,23,16723,null,null,null,null,0,112]
[11,16820,21,16836,21,16862,null,null,null,null,0,122]
[22,16996,23,17003,14,17103,null,null,null,null,0,221]
[11,17202,21,17213,21,17233,null,null,null,null,0,122]
[11,17322,21,17331,21,17337,null,null,null,null,0,122]
[11,17428,12,17432,23,17443,null,null,null,null,0,112]
[11,17541,21,17564,21,17572,null,null,null,null,0,122]
[22,17667,23,17673,23,17684,null,null,null,null,0,222]
[11,17784,21,17794,21,17801,null,null,null,null,0,122]
[22,17897,23,17903,23,17910,null,null,null,null,0,222]
[11,18007,12,18015,23,18025,null,null,null,null,0,112]
[11,18122,21,18137,21,18165,null,null,null,null,1,122]

{"sheet":"!M721900.104","index":9,"n_rows":80,"n_cols":48,"rows_kept":80,"cut":false,"hidden":false,"merged":[[4,39,4,42],[5,39,5,40],[4,44,4,47],[5,44,5,45],[4,24,4,27],[5,24,5,25],[4,29,4,32],[5,29,5,30],[4,34,4,37],[5,34,5,35],[1,1,1,2],[5,13,5,14],[18,13,18,14],[19,13,19,14],[4,19,4,22],[5,19,5,20]]}
["Report for:!M721900.104"]
["Date:","<date>"]
["Hen:","<hen>",null,null,null,"Correct Sequence",{"$f":"Start!J2","v":122},null,null,null,null,null,null,null,null,"Total Sequences in Data",{"$f":"4994-COUNTBLANK(L7:L5000)","v":74},null,null,null,null,"Total Sequences in Block Data",{"$f":"COUNTA(L7:L18)","v":12},null,null,null,"Total Sequences in Block Data",{"$f":"COUNTA(L19:L31)","v":13},null,null,null,"Total Sequences in Block Data",{"$f":"COUNTA(L32:L43)","v":12},null,null,null,"Total Sequences in Block Data",{"$f":"COUNTA(L44:L55)","v":12},null,null,null,"Total Sequences in Block Data",{"$f":"COUNTA(L56:L68)","v":13},null,null,null,"Total Sequences in Block Data",{"$f":"COUNTA(L69:L80)","v":12}]
[null,null,null,null,null,null,null,null,null,null,null,null,null,null,null,"Total Sequences in Summary",{"$f":"SUM(O7:O14)","v":74},null,null,null,null,"Total Sequences in Block Summary",{"$f":"SUM(U7:U14)","v":12},null,null,null,"Total Sequences in Block Summary",{"$f":"SUM(Z7:Z14)","v":13},null,null,null,"Total Sequences in Block Summary",{"$f":"SUM(AE7:AE14)","v":12},null,null,null,"Total Sequences in Block Summary",{"$f":"SUM(AJ7:AJ14)","v":12},null,null,null,"Total Sequences in Block Summary",{"$f":"SUM(AO7:AO14)","v":13},null,null,null,"Total Sequences in Block Summary",{"$f":"SUM(AT7:AT14)","v":12}]
[null,null,null,null,null,null,null,null,null,null,null,null,null,null,null,null,null,null,null,"Block 1",null,null,null,null,"Block 2",null,null,null,null,"Block 3",null,null,null,null,"Block 4",null,null,null,null,"Block 5",null,null,null,null,"Block 6"]
["Sequence\nComponent\n1","Time\n1","Sequence\nComponent\n2","Time\n2","Sequence\nComponent\n3","Time\n3","Sequence\nComponent\n4","Time\n4","Sequence\nComponent\n5","Time\n5","Correct?\n0=No 1=Yes","Sequence",null,"Frequency",null,"Relative Frequency","Variability",null,null,"Frequency",null,"Relative Frequency","Variability",null,"Frequency",null,"Relative Frequency","Variability",null,"Frequency",null,"Relative Frequency","Variability",null,"Frequency",null,"Relative Frequency","Variability",null,"Frequency",null,"Relative Frequency","Variability",null,"Frequency",null,"Relative Frequency","Variability"]
[11,22,21,31,12,53,null,null,null,null,0,121,null,111,{"$f":"COUNTIF($L$7:$L$500,N7)","v":5},{"$f":"O7/$Q$4","v":6.7567567567567571E-2},{"$f":"IF(P7=0,0,(P7*((LOG(P7))/LOG(2))))","v":-0.26267062640145861},null,null,{"$f":"N7","v":111},{"$f":"COUNTIF(L7:L18,T7)","v":0},{"$f":"U7/(W4-U10)","v":0},{"$f":"IF(V7=0,0,(V7*((LOG(V7))/LOG(2))))","v":0},null,{"$f":"N7","v":111},{"$f":"COUNTIF(L19:L31,Y7)","v":1},{"$f":"Z7/(AB4-Z10)","v":0.14285714285714285},{"$f":"IF(AA7=0,0,(AA7*((LOG(AA7))/LOG(2))))","v":-0.40105070315108626},null,{"$f":"N7","v":111},{"$f":"COUNTIF(L32:L43,AD7)","v":0},{"$f":"AE7/(AG4-AE10)","v":0},{"$f":"IF(AF7=0,0,(AF7*((LOG(AF7))/LOG(2))))","v":0},null,{"$f":"N7","v":111},{"$f":"COUNTIF(L44:L55,AI7)","v":0},{"$f":"AJ7/(AL4-AJ10)","v":0},{"$f":"IF(AK7=0,0,(AK7*((LOG(AK7))/LOG(2))))","v":0},null,{"$f":"N7","v":111},{"$f":"COUNTIF(L56:L68,AN7)","v":1},{"$f":"AO7/(AQ4-AO10)","v":0.2},{"$f":"IF(AP7=0,0,(AP7*((LOG(AP7))/LOG(2))))","v":-0.46438561897747244},null,{"$f":"N7","v":111},{"$f":"COUNTIF(L69:L80,AS7)","v":3},{"$f":"AT7/(AV4-AT10)","v":0.33333333333333331},{"$f":"IF(AU7=0,0,(AU7*((LOG(AU7))/LOG(2))))","v":-0.52832083357371862}]
[22,160,14,179,14,194,null,null,null,null,0,211,null,112,{"$f":"COUNTIF($L$7:$L$500,N8)","v":1},{"$f":"O8/$Q$4","v":1.3513513513513514E-2},{"$f":"IF(P8=0,0,(P8*((LOG(P8))/LOG(2))))","v":-8.3911531967958794E-2},null,null,{"$f":"N8","v":112},{"$f":"COUNTIF(L7:L18,T8)","v":0},{"$f":"U8/(W4-U10)","v":0},{"$f":"IF(V8=0,0,(V8*((LOG(V8))/LOG(2))))","v":0},null,{"$f":"N8","v":112},{"$f":"COUNTIF(L19:L31,Y8)","v":0},{"$f":"Z8/(AB4-Z10)","v":0},{"$f":"IF(AA8=0,0,(AA8*((LOG(AA8))/LOG(2))))","v":0},null,{"$f":"N8","v":112},{"$f":"COUNTIF(L32:L43,AD8)","v":0},{"$f":"AE8/(AG4-AE10)","v":0},{"$f":"IF(AF8=0,0,(AF8*((LOG(AF8))/LOG(2))))","v":0},null,{"$f":"N8","v":112},{"$f":"COUNTIF(L44:L55,AI8)","v":0},{"$f":"AJ8/(AL4-AJ10)","v":0},{"$f":"IF(AK8=0,0,(AK8*((LOG(AK8))/LOG(2))))","v":0},null,{"$f":"N8","v":112},{"$f":"COUNTIF(L56:L68,AN8)","v":0},{"$f":"AO8/(AQ4-AO10)","v":0},{"$f":"IF(AP8=0,0,(AP8*((LOG(AP8))/LOG(2))))","v":0},null,{"$f":"N8","v":112},{"$f":"COUNTIF(L69:L80,AS8)","v":1},{"$f":"AT8/(AV4-AT10)","v":0.1111111111111111},{"$f":"IF(AU8=0,0,(AU8*((LOG(AU8))/LOG(2))))","v":-0.3522138890491458}]
[11,291,21,302,21,348,null,null,null,null,0,122,null,121,{"$f":"COUNTIF($L$7:$L$500,N9)","v":4},{"$f":"O9/$Q$4","v":5.4054054054054057E-2},{"$f":"IF(P9=0,0,(P9*((LOG(P9))/LOG(2))))","v":-0.22753801976372701},null,null,{"$f":"N9","v":121},{"$f":"COUNTIF(L7:L18,T9)","v":1},{"$f":"U9/(W4-U10)","v":0.1111111111111111},{"$f":"IF(V9=0,0,(V9*((LOG(V9))/LOG(2))))","v":-0.3522138890491458},null,{"$f":"N9","v":121},{"$f":"COUNTIF(L19:L31,Y9)","v":2},{"$f":"Z9/(AB4-Z10)","v":0.2857142857142857},{"$f":"IF(AA9=0,0,(AA9*((LOG(AA9))/LOG(2))))","v":-0.51638712058788683},null,{"$f":"N9","v":121},{"$f":"COUNTIF(L32:L43,AD9)","v":0},{"$f":"AE9/(AG4-AE10)","v":0},{"$f":"IF(AF9=0,0,(AF9*((LOG(AF9))/LOG(2))))","v":0},null,{"$f":"N9","v":121},{"$f":"COUNTIF(L44:L55,AI9)","v":0},{"$f":"AJ9/(AL4-AJ10)","v":0},{"$f":"IF(AK9=0,0,(AK9*((LOG(AK9))/LOG(2))))","v":0},null,{"$f":"N9","v":121},{"$f":"COUNTIF(L56:L68,AN9)","v":0},{"$f":"AO9/(AQ4-AO10)","v":0},{"$f":"IF(AP9=0,0,(AP9*((LOG(AP9))/LOG(2))))","v":0},null,{"$f":"N9","v":121},{"$f":"COUNTIF(L69:L80,AS9)","v":1},{"$f":"AT9/(AV4-AT10)","v":0.1111111111111111},{"$f":"IF(AU9=0,0,(AU9*((LOG(AU9))/LOG(2))))","v":-0.3522138890491458}]
[22,448,14,464,14,471,null,null,null,null,0,211,null,122,{"$f":"COUNTIF($L$7:$L$500,N10)","v":38},{"$f":"O10/$Q$4","v":0.51351351351351349},{"$f":"IF(P10=0,0,(P10*((LOG(P10))/LOG(2))))","v":-0.49375651868978165},null,null,{"$f":"N10","v":122},{"$f":"COUNTIF(L7:L18,T10)","v":3},null,null,null,{"$f":"N10","v":122},{"$f":"COUNTIF(L19:L31,Y10)","v":6},null,null,null,{"$f":"N10","v":122},{"$f":"COUNTIF(L32:L43,AD10)","v":8},null,null,null,{"$f":"N10","v":122},{"$f":"COUNTIF(L44:L55,AI10)","v":10},null,null,null,{"$f":"N10","v":122},{"$f":"COUNTIF(L56:L68,AN10)","v":8},null,null,null,{"$f":"N10","v":122},{"$f":"COUNTIF(L69:L80,AS10)","v":3}]
[22,580,14,619,14,627,null,null,null,null,0,211,null,211,{"$f":"COUNTIF($L$7:$L$500,N11)","v":4},{"$f":"O11/$Q$4","v":5.4054054054054057E-2},{"$f":"IF(P11=0,0,(P11*((LOG(P11))/LOG(2))))","v":-0.22753801976372701},null,null,{"$f":"N11","v":211},{"$f":"COUNTIF(L7:L18,T11)","v":3},{"$f":"U11/(W4-U10)","v":0.33333333333333331},{"$f":"IF(V11=0,0,(V11*((LOG(V11))/LOG(2))))","v":-0.52832083357371862},null,{"$f":"N11","v":211},{"$f":"COUNTIF(L19:L31,Y11)","v":0},{"$f":"Z11/(AB4-Z10)","v":0},{"$f":"IF(AA11=0,0,(AA11*((LOG(AA11))/LOG(2))))","v":0},null,{"$f":"N11","v":211},{"$f":"COUNTIF(L32:L43,AD11)","v":1},{"$f":"AE11/(AG4-AE10)","v":0.25},{"$f":"IF(AF11=0,0,(AF11*((LOG(AF11))/LOG(2))))","v":-0.5},null,{"$f":"N11","v":211},{"$f":"COUNTIF(L44:L55,AI11)","v":0},{"$f":"AJ11/(AL4-AJ10)","v":0},{"$f":"IF(AK11=0,0,(AK11*((LOG(AK11))/LOG(2))))","v":0},null,{"$f":"N11","v":211},{"$f":"COUNTIF(L56:L68,AN11)","v":0},{"$f":"AO11/(AQ4-AO10)","v":0},{"$f":"IF(AP11=0,0,(AP11*((LOG(AP11))/LOG(2))))","v":0},null,{"$f":"N11","v":211},{"$f":"COUNTIF(L69:L80,AS11)","v":0},{"$f":"AT11/(AV4-AT10)","v":0},{"$f":"IF(AU11=0,0,(AU11*((LOG(AU11))/LOG(2))))","v":0}]
[11,728,21,735,21,740,null,null,null,null,0,122,null,212,{"$f":"COUNTIF($L$7:$L$500,N12)","v":0},{"$f":"O12/$Q$4","v":0},{"$f":"IF(P12=0,0,(P12*((LOG(P12))/LOG(2))))","v":0},null,null,{"$f":"N12","v":212},{"$f":"COUNTIF(L7:L18,T12)","v":0},{"$f":"U12/(W4-U10)","v":0},{"$f":"IF(V12=0,0,(V12*((LOG(V12))/LOG(2))))","v":0},null,{"$f":"N12","v":212},{"$f":"COUNTIF(L19:L31,Y12)","v":0},{"$f":"Z12/(AB4-Z10)","v":0},{"$f":"IF(AA12=0,0,(AA12*((LOG(AA12))/LOG(2))))","v":0},null,{"$f":"N12","v":212},{"$f":"COUNTIF(L32:L43,AD12)","v":0},{"$f":"AE12/(AG4-AE10)","v":0},{"$f":"IF(AF12=0,0,(AF12*((LOG(AF12))/LOG(2))))","v":0},null,{"$f":"N12","v":212},{"$f":"COUNTIF(L44:L55,AI12)","v":0},{"$f":"AJ12/(AL4-AJ10)","v":0},{"$f":"IF(AK12=0,0,(AK12*((LOG(AK12))/LOG(2))))","v":0},null,{"$f":"N12","v":212},{"$f":"COUNTIF(L56:L68,AN12)","v":0},{"$f":"AO12/(AQ4-AO10)","v":0},{"$f":"IF(AP12=0,0,(AP12*((LOG(AP12))/LOG(2))))","v":0},null,{"$f":"N12","v":212},{"$f":"COUNTIF(L69:L80,AS12)","v":0},{"$f":"AT12/(AV4-AT10)","v":0},{"$f":"IF(AU12=0,0,(AU12*((LOG(AU12))/LOG(2))))","v":0}]
[22,850,23,872,14,919,null,null,null,null,0,221,null,221,{"$f":"COUNTIF($L$7:$L$500,N13)","v":4},{"$f":"O13/$Q$4","v":5.4054054054054057E-2},{"$f":"IF(P13=0,0,(P13*((LOG(P13))/LOG(2))))","v":-0.22753801976372701},null,null,{"$f":"N13","v":221},{"$f":"COUNTIF(L7:L18,T13)","v":1},{"$f":"U13/(W4-U10)","v":0.1111111111111111},{"$f":"IF(V13=0,0,(V13*((LOG(V13))/LOG(2))))","v":-0.3522138890491458},null,{"$f":"N13","v":221},{"$f":"COUNTIF(L19:L31,Y13)","v":0},{"$f":"Z13/(AB4-Z10)","v":0},{"$f":"IF(AA13=0,0,(AA13*((LOG(AA13))/LOG(2))))","v":0},null,{"$f":"N13","v":221},{"$f":"COUNTIF(L32:L43,AD13)","v":1},{"$f":"AE13/(AG4-AE10)","v":0.25},{"$f":"IF(AF13=0,0,(AF13*((LOG(AF13))/LOG(2))))","v":-0.5},null,{"$f":"N13","v":221},{"$f":"COUNTIF(L44:L55,AI13)","v":0},{"$f":"AJ13/(AL4-AJ10)","v":0},{"$f":"IF(AK13=0,0,(AK13*((LOG(AK13))/LOG(2))))","v":0},null,{"$f":"N13","v":221},{"$f":"COUNTIF(L56:L68,AN13)","v":0},{"$f":"AO13/(AQ4-AO10)","v":0},{"$f":"IF(AP13=0,0,(AP13*((LOG(AP13))/LOG(2))))","v":0},null,{"$f":"N13","v":221},{"$f":"COUNTIF(L69:L80,AS13)","v":2},{"$f":"AT13/(AV4-AT10)","v":0.22222222222222221},{"$f":"IF(AU13=0,0,(AU13*((LOG(AU13))/LOG(2))))","v":-0.48220555587606945}]
[22,1022,23,1055,23,1066,null,null,null,null,0,222,null,222,{"$f":"COUNTIF($L$7:$L$500,N14)","v":18},{"$f":"O14/$Q$4","v":0.24324324324324326},{"$f":"IF(P14=0,0,(P14*((LOG(P14))/LOG(2))))","v":-0.49610149399134429},null,null,{"$f":"N14","v":222},{"$f":"COUNTIF(L7:L18,T14)","v":4},{"$f":"U14/(W4-U10)","v":0.44444444444444442},{"$f":"IF(V14=0,0,(V14*((LOG(V14))/LOG(2))))","v":-0.51996666730769447},null,{"$f":"N14","v":222},{"$f":"COUNTIF(L19:L31,Y14)","v":4},{"$f":"Z14/(AB4-Z10)","v":0.5714285714285714},{"$f":"IF(AA14=0,0,(AA14*((LOG(AA14))/LOG(2))))","v":-0.46134566974720237},null,{"$f":"N14","v":222},{"$f":"COUNTIF(L32:L43,AD14)","v":2},{"$f":"AE14/(AG4-AE10)","v":0.5},{"$f":"IF(AF14=0,0,(AF14*((LOG(AF14))/LOG(2))))","v":-0.5},null,{"$f":"N14","v":222},{"$f":"COUNTIF(L44:L55,AI14)","v":2},{"$f":"AJ14/(AL4-AJ10)","v":1},{"$f":"IF(AK14=0,0,(AK14*((LOG(AK14))/LOG(2))))","v":0},null,{"$f":"N14","v":222},{"$f":"COUNTIF(L56:L68,AN14)","v":4},{"$f":"AO14/(AQ4-AO10)","v":0.8},{"$f":"IF(AP14=0,0,(AP14*((LOG(AP14))/LOG(2))))","v":-0.25754247590988982},null,{"$f":"N14","v":222},{"$f":"COUNTIF(L69:L80,AS14)","v":2},{"$f":"AT14/(AV4-AT10)","v":0.22222222222222221},{"$f":"IF(AU14=0,0,(AU14*((LOG(AU14))/LOG(2))))","v":-0.48220555587606945}]
[11,1166,21,1175,21,1182,null,null,null,null,0,122,null,null,null,{"$f":"SUM(P7:P14)","v":1},{"$f":"-SUM(Q7:Q14)","v":2.0190542303417245},null,null,null,null,{"$f":"SUM(V7:V14)","v":1},{"$f":"-SUM(W7:W14)","v":1.7527152789797045},null,null,null,{"$f":"SUM(AA7:AA14)","v":1},{"$f":"-SUM(AB7:AB14)","v":1.3787834934861753},null,null,null,{"$f":"SUM(AF7:AF14)","v":1},{"$f":"-SUM(AG7:AG14)","v":1.5},null,null,null,{"$f":"SUM(AK7:AK14)","v":1},{"$f":"-SUM(AL7:AL14)","v":0},null,null,null,{"$f":"SUM(AP7:AP14)","v":1},{"$f":"-SUM(AQ7:AQ14)","v":0.72192809488736231},null,null,null,{"$f":"SUM(AU7:AU14)","v":1},{"$f":"-SUM(AV7:AV14)","v":2.1971597234241491}]
[22,1281,23,1285,23,1305,null,null,null,null,0,222,null,null,null,"U=",{"$f":"Q15/(LOG(Q4)/LOG(2))","v":0.32515812768926661},null,null,null,null,"U1=",{"$f":"W15/(LOG(W4)/LOG(2))","v":0.48890756280634051},null,null,null,"U2=",{"$f":"AB15/(LOG(AB4)/LOG(2))","v":0.37259990663455644},null,null,null,"U3=",{"$f":"AG15/(LOG(AG4)/LOG(2))","v":0.41841441847669475},null,null,null,"U4=",{"$f":"AL15/(LOG(AL4)/LOG(2))","v":0},null,null,null,"U5=",{"$f":"AQ15/(LOG(AQ4)/LOG(2))","v":0.19509251599159175},null,null,null,"U6=",{"$f":"AV15/(LOG(AV4)/LOG(2))","v":0.6128822053179539}]
[22,1412,23,1417,23,1430,null,null,null,null,0,222]
[22,1540,23,1545,23,1552,null,null,null,null,0,222]
[11,1680,12,1688,14,1703,null,null,null,null,0,111,null,"Total Target Seq"]
[11,1809,21,1832,21,1860,null,null,null,null,0,122,null,{"$f":"COUNTIF(L7:L80,G3)","v":38},null,12,13,12,12,13,12]
[22,2013,23,2038,23,2044,null,null,null,null,0,222,null,null,null,"% of reinforcement given in 6 equal intervals based on number of trials "]
[11,2141,21,2165,12,2180,null,null,null,null,0,121,null,null,null,"%_1","%_2","%_3","%_4","%_5","%_6"]
[22,2294,23,2301,23,2338,null,null,null,null,0,222,null,null,"target sequence",{"$f":"$G$3","v":122},{"$f":"$G$3","v":122},{"$f":"$G$3","v":122},{"$f":"$G$3","v":122},{"$f":"$G$3","v":122},{"$f":"$G$3","v":122}]
[22,2492,23,2530,23,2602,null,null,null,null,0,222,null,null,"total reinforcement",{"$f":"U10","v":3},{"$f":"Z10","v":6},{"$f":"AE10","v":8},{"$f":"AJ10","v":10},{"$f":"AO10","v":8},{"$f":"AT10","v":3}]
[22,2703,23,2710,23,2736,null,null,null,null,0,222,null,null,"% target"]
[11,2836,21,2846,21,2853,null,null,null,null,0,122,null,null,"CCRF"]
[11,2948,21,2957,21,2962,null,null,null,null,0,122,null,null,"% CCRf"]
[11,3050,21,3061,21,3121,null,null,null,null,0,122,null,null,"average response rate",{"$f":"F18/P20","v":129.33333333333334},{"$f":"(F31-F18)/Q20","v":145.61538461538461},{"$f":"(F43-F31)/R20","v":189.75},{"$f":"(F55-F43)/S20","v":136.16666666666666},{"$f":"(F68-F55)/T20","v":123},{"$f":"(F80-F68)/U20","v":170.83333333333334}]
[11,3208,21,3218,21,3225,null,null,null,null,0,122]
[11,3313,21,3323,21,3327,null,null,null,null,0,122]
[11,3414,21,3422,12,3445,null,null,null,null,0,121]
[11,3545,21,3555,21,3559,null,null,null,null,0,122]
[11,3650,21,3661,21,3665,null,null,null,null,0,122]
[22,3765,14,3851,14,3860,null,null,null,null,0,211]
[11,3956,21,3965,21,4163,null,null,null,null,0,122]
[22,4292,23,4435,14,4466,null,null,null,null,0,221]
[11,4561,21,4578,21,4586,null,null,null,null,0,122]
[11,4673,21,4683,21,4705,null,null,null,null,0,122]
[11,4799,21,4966,21,4973,null,null,null,null,0,122]
[11,5066,21,5077,21,5084,null,null,null,null,0,122]
[22,5189,23,5196,23,5205,null,null,null,null,0,222]
[22,5344,23,5429,23,5436,null,null,null,null,0,222]
[11,5535,21,5545,21,5722,null,null,null,null,0,122]
[11,5813,21,5823,21,5831,null,null,null,null,0,122]
[11,5926,21,5936,21,5967,null,null,null,null,0,122]
[11,6060,21,6070,21,6076,null,null,null,null,0,122]
[11,6163,21,6194,21,6221,null,null,null,null,0,122]
[11,6310,21,6319,21,6335,null,null,null,null,0,122]
[11,6423,21,6455,21,6461,null,null,null,null,0,122]
[22,6587,23,6680,23,6695,null,null,null,null,0,222]
[11,6791,21,6801,21,6826,null,null,null,null,0,122]
[11,6918,21,6929,21,6943,null,null,null,null,0,122]
[22,7049,23,7086,23,7128,null,null,null,null,0,222]
[11,7224,21,7233,21,7239,null,null,null,null,0,122]
[11,7326,21,7335,21,7356,null,null,null,null,0,122]
[11,7444,21,7457,21,7464,null,null,null,null,0,122]
[11,7552,21,7561,21,7565,null,null,null,null,0,122]
[22,7664,23,7670,23,7679,null,null,null,null,0,222]
[11,7774,21,7783,21,7790,null,null,null,null,0,122]
[11,7878,21,7891,21,7898,null,null,null,null,0,122]
[22,7997,23,8005,23,8016,null,null,null,null,0,222]
[11,8112,21,8121,21,8129,null,null,null,null,0,122]
[11,8216,21,8223,21,8227,null,null,null,null,0,122]
[11,8315,21,8325,21,8331,null,null,null,null,0,122]
[11,8422,21,8433,21,8450,null,null,null,null,0,122]
[11,8544,12,8579,14,8695,null,null,null,null,0,111]
[22,8809,23,8817,23,8831,null,null,null,null,0,222]
[22,8940,23,8947,23,8955,null,null,null,null,0,222]
[11,9051,12,9212,14,9220,null,null,null,null,0,111]
[22,9350,23,9361,14,9501,null,null,null,null,0,221]
[22,9605,23,9610,23,9617,null,null,null,null,0,222]
[11,9713,21,9752,12,9851,null,null,null,null,0,121]
[11,9986,12,9993,14,10005,null,null,null,null,0,111]
[11,10109,12,10132,23,10143,null,null,null,null,0,112]
[22,10250,23,10261,23,10270,null,null,null,null,0,222]
[11,10502,12,10513,14,10520,null,null,null,null,0,111]
[22,10626,23,10632,14,10650,null,null,null,null,0,221]
[11,10746,21,10755,21,10759,null,null,null,null,0,122]
[11,10848,21,10857,21,10880,null,null,null,null,0,122]
[11,10991,21,11001,21,11005,null,null,null,null,1,122]

{"sheet":"!M722A00.104","index":10,"n_rows":81,"n_cols":48,"rows_kept":81,"cut":false,"hidden":false,"merged":[[4,39,4,42],[5,39,5,40],[4,44,4,47],[5,44,5,45],[4,24,4,27],[5,24,5,25],[4,29,4,32],[5,29,5,30],[4,34,4,37],[5,34,5,35],[1,1,1,2],[5,13,5,14],[18,13,18,14],[19,13,19,14],[4,19,4,22],[5,19,5,20]]}
["Report for:!M722A00.104"]
["Date:","<date>"]
["Hen:","<hen>",null,null,null,"Correct Sequence",{"$f":"Start!J2","v":122},null,null,null,null,null,null,null,null,"Total Sequences in Data",{"$f":"4994-COUNTBLANK(L7:L5000)","v":75},null,null,null,null,"Total Sequences in Block Data",{"$f":"COUNTA(L7:L19)","v":13},null,null,null,"Total Sequences in Block Data",{"$f":"COUNTA(L20:L31)","v":12},null,null,null,"Total Sequences in Block Data",{"$f":"COUNTA(L32:L44)","v":13},null,null,null,"Total Sequences in Block Data",{"$f":"COUNTA(L45:L56)","v":12},null,null,null,"Total Sequences in Block Data",{"$f":"COUNTA(L57:L69)","v":13},null,null,null,"Total Sequences in Block Data",{"$f":"COUNTA(L70:L81)","v":12}]
[null,null,null,null,null,null,null,null,null,null,null,null,null,null,null,"Total Sequences in Summary",{"$f":"SUM(O7:O14)","v":75},null,null,null,null,"Total Sequences in Block Summary",{"$f":"SUM(U7:U14)","v":13},null,null,null,"Total Sequences in Block Summary",{"$f":"SUM(Z7:Z14)","v":12},null,null,null,"Total Sequences in Block Summary",{"$f":"SUM(AE7:AE14)","v":13},null,null,null,"Total Sequences in Block Summary",{"$f":"SUM(AJ7:AJ14)","v":12},null,null,null,"Total Sequences in Block Summary",{"$f":"SUM(AO7:AO14)","v":13},null,null,null,"Total Sequences in Block Summary",{"$f":"SUM(AT7:AT14)","v":12}]
[null,null,null,null,null,null,null,null,null,null,null,null,null,null,null,null,null,null,null,"Block 1",null,null,null,null,"Block 2",null,null,null,null,"Block 3",null,null,null,null,"Block 4",null,null,null,null,"Block 5",null,null,null,null,"Block 6"]
["Sequence\nComponent\n1","Time\n1","Sequence\nComponent\n2","Time\n2","Sequence\nComponent\n3","Time\n3","Sequence\nComponent\n4","Time\n4","Sequence\nComponent\n5","Time\n5","Correct?\n0=No 1=Yes","Sequence",null,"Frequency",null,"Relative Frequency","Variability",null,null,"Frequency",null,"Relative Frequency","Variability",null,"Frequency",null,"Relative Frequency","Variability",null,"Frequency",null,"Relative Frequency","Variability",null,"Frequency",null,"Relative Frequency","Variability",null,"Frequency",null,"Relative Frequency","Variability",null,"Frequency",null,"Relative Frequency","Variability"]
[22,25,23,30,14,43,null,null,null,null,0,221,null,111,{"$f":"COUNTIF($L$7:$L$500,N7)","v":4},{"$f":"O7/$Q$4","v":5.3333333333333337E-2},{"$f":"IF(P7=0,0,(P7*((LOG(P7))/LOG(2))))","v":-0.22553699682644698},null,null,{"$f":"N7","v":111},{"$f":"COUNTIF(L7:L19,T7)","v":0},{"$f":"U7/(W4-U10)","v":0},{"$f":"IF(V7=0,0,(V7*((LOG(V7))/LOG(2))))","v":0},null,{"$f":"N7","v":111},{"$f":"COUNTIF(L20:L31,Y7)","v":2},{"$f":"Z7/(AB4-Z10)","v":0.66666666666666663},{"$f":"IF(AA7=0,0,(AA7*((LOG(AA7))/LOG(2))))","v":-0.38997500048077083},null,{"$f":"N7","v":111},{"$f":"COUNTIF(L32:L44,AD7)","v":1},{"$f":"AE7/(AG4-AE10)","v":0.1},{"$f":"IF(AF7=0,0,(AF7*((LOG(AF7))/LOG(2))))","v":-0.33219280948873625},null,{"$f":"N7","v":111},{"$f":"COUNTIF(L45:L56,AI7)","v":0},{"$f":"AJ7/(AL4-AJ10)","v":0},{"$f":"IF(AK7=0,0,(AK7*((LOG(AK7))/LOG(2))))","v":0},null,{"$f":"N7","v":111},{"$f":"COUNTIF(L57:L69,AN7)","v":0},{"$f":"AO7/(AQ4-AO10)","v":0},{"$f":"IF(AP7=0,0,(AP7*((LOG(AP7))/LOG(2))))","v":0},null,{"$f":"N7","v":111},{"$f":"COUNTIF(L70:L81,AS7)","v":1},{"$f":"AT7/(AV4-AT10)","v":0.25},{"$f":"IF(AU7=0,0,(AU7*((LOG(AU7))/LOG(2))))","v":-0.5}]
[11,166,21,178,21,263,null,null,null,null,0,122,null,112,{"$f":"COUNTIF($L$7:$L$500,N8)","v":2},{"$f":"O8/$Q$4","v":2.6666666666666668E-2},{"$f":"IF(P8=0,0,(P8*((LOG(P8))/LOG(2))))","v":-0.13943516507989015},null,null,{"$f":"N8","v":112},{"$f":"COUNTIF(L7:L19,T8)","v":0},{"$f":"U8/(W4-U10)","v":0},{"$f":"IF(V8=0,0,(V8*((LOG(V8))/LOG(2))))","v":0},null,{"$f":"N8","v":112},{"$f":"COUNTIF(L20:L31,Y8)","v":0},{"$f":"Z8/(AB4-Z10)","v":0},{"$f":"IF(AA8=0,0,(AA8*((LOG(AA8))/LOG(2))))","v":0},null,{"$f":"N8","v":112},{"$f":"COUNTIF(L32:L44,AD8)","v":0},{"$f":"AE8/(AG4-AE10)","v":0},{"$f":"IF(AF8=0,0,(AF8*((LOG(AF8))/LOG(2))))","v":0},null,{"$f":"N8","v":112},{"$f":"COUNTIF(L45:L56,AI8)","v":1},{"$f":"AJ8/(AL4-AJ10)","v":0.2},{"$f":"IF(AK8=0,0,(AK8*((LOG(AK8))/LOG(2))))","v":-0.46438561897747244},null,{"$f":"N8","v":112},{"$f":"COUNTIF(L57:L69,AN8)","v":0},{"$f":"AO8/(AQ4-AO10)","v":0},{"$f":"IF(AP8=0,0,(AP8*((LOG(AP8))/LOG(2))))","v":0},null,{"$f":"N8","v":112},{"$f":"COUNTIF(L70:L81,AS8)","v":1},{"$f":"AT8/(AV4-AT10)","v":0.25},{"$f":"IF(AU8=0,0,(AU8*((LOG(AU8))/LOG(2))))","v":-0.5}]
[22,359,23,365,14,378,null,null,null,null,0,221,null,121,{"$f":"COUNTIF($L$7:$L$500,N9)","v":4},{"$f":"O9/$Q$4","v":5.3333333333333337E-2},{"$f":"IF(P9=0,0,(P9*((LOG(P9))/LOG(2))))","v":-0.22553699682644698},null,null,{"$f":"N9","v":121},{"$f":"COUNTIF(L7:L19,T9)","v":0},{"$f":"U9/(W4-U10)","v":0},{"$f":"IF(V9=0,0,(V9*((LOG(V9))/LOG(2))))","v":0},null,{"$f":"N9","v":121},{"$f":"COUNTIF(L20:L31,Y9)","v":0},{"$f":"Z9/(AB4-Z10)","v":0},{"$f":"IF(AA9=0,0,(AA9*((LOG(AA9))/LOG(2))))","v":0},null,{"$f":"N9","v":121},{"$f":"COUNTIF(L32:L44,AD9)","v":2},{"$f":"AE9/(AG4-AE10)","v":0.2},{"$f":"IF(AF9=0,0,(AF9*((LOG(AF9))/LOG(2))))","v":-0.46438561897747244},null,{"$f":"N9","v":121},{"$f":"COUNTIF(L45:L56,AI9)","v":1},{"$f":"AJ9/(AL4-AJ10)","v":0.2},{"$f":"IF(AK9=0,0,(AK9*((LOG(AK9))/LOG(2))))","v":-0.46438561897747244},null,{"$f":"N9","v":121},{"$f":"COUNTIF(L57:L69,AN9)","v":1},{"$f":"AO9/(AQ4-AO10)","v":0.25},{"$f":"IF(AP9=0,0,(AP9*((LOG(AP9))/LOG(2))))","v":-0.5},null,{"$f":"N9","v":121},{"$f":"COUNTIF(L70:L81,AS9)","v":0},{"$f":"AT9/(AV4-AT10)","v":0},{"$f":"IF(AU9=0,0,(AU9*((LOG(AU9))/LOG(2))))","v":0}]
[22,488,23,512,23,527,null,null,null,null,0,222,null,122,{"$f":"COUNTIF($L$7:$L$500,N10)","v":39},{"$f":"O10/$Q$4","v":0.52},{"$f":"IF(P10=0,0,(P10*((LOG(P10))/LOG(2))))","v":-0.49057656524948895},null,null,{"$f":"N10","v":122},{"$f":"COUNTIF(L7:L19,T10)","v":3},null,null,null,{"$f":"N10","v":122},{"$f":"COUNTIF(L20:L31,Y10)","v":9},null,null,null,{"$f":"N10","v":122},{"$f":"COUNTIF(L32:L44,AD10)","v":3},null,null,null,{"$f":"N10","v":122},{"$f":"COUNTIF(L45:L56,AI10)","v":7},null,null,null,{"$f":"N10","v":122},{"$f":"COUNTIF(L57:L69,AN10)","v":9},null,null,null,{"$f":"N10","v":122},{"$f":"COUNTIF(L70:L81,AS10)","v":8}]
[11,623,21,632,21,649,null,null,null,null,0,122,null,211,{"$f":"COUNTIF($L$7:$L$500,N11)","v":1},{"$f":"O11/$Q$4","v":1.3333333333333334E-2},{"$f":"IF(P11=0,0,(P11*((LOG(P11))/LOG(2))))","v":-8.3050915873278425E-2},null,null,{"$f":"N11","v":211},{"$f":"COUNTIF(L7:L19,T11)","v":0},{"$f":"U11/(W4-U10)","v":0},{"$f":"IF(V11=0,0,(V11*((LOG(V11))/LOG(2))))","v":0},null,{"$f":"N11","v":211},{"$f":"COUNTIF(L20:L31,Y11)","v":0},{"$f":"Z11/(AB4-Z10)","v":0},{"$f":"IF(AA11=0,0,(AA11*((LOG(AA11))/LOG(2))))","v":0},null,{"$f":"N11","v":211},{"$f":"COUNTIF(L32:L44,AD11)","v":0},{"$f":"AE11/(AG4-AE10)","v":0},{"$f":"IF(AF11=0,0,(AF11*((LOG(AF11))/LOG(2))))","v":0},null,{"$f":"N11","v":211},{"$f":"COUNTIF(L45:L56,AI11)","v":0},{"$f":"AJ11/(AL4-AJ10)","v":0},{"$f":"IF(AK11=0,0,(AK11*((LOG(AK11))/LOG(2))))","v":0},null,{"$f":"N11","v":211},{"$f":"COUNTIF(L57:L69,AN11)","v":1},{"$f":"AO11/(AQ4-AO10)","v":0.25},{"$f":"IF(AP11=0,0,(AP11*((LOG(AP11))/LOG(2))))","v":-0.5},null,{"$f":"N11","v":211},{"$f":"COUNTIF(L70:L81,AS11)","v":0},{"$f":"AT11/(AV4-AT10)","v":0},{"$f":"IF(AU11=0,0,(AU11*((LOG(AU11))/LOG(2))))","v":0}]
[22,784,23,799,23,806,null,null,null,null,0,222,null,212,{"$f":"COUNTIF($L$7:$L$500,N12)","v":0},{"$f":"O12/$Q$4","v":0},{"$f":"IF(P12=0,0,(P12*((LOG(P12))/LOG(2))))","v":0},null,null,{"$f":"N12","v":212},{"$f":"COUNTIF(L7:L19,T12)","v":0},{"$f":"U12/(W4-U10)","v":0},{"$f":"IF(V12=0,0,(V12*((LOG(V12))/LOG(2))))","v":0},null,{"$f":"N12","v":212},{"$f":"COUNTIF(L20:L31,Y12)","v":0},{"$f":"Z12/(AB4-Z10)","v":0},{"$f":"IF(AA12=0,0,(AA12*((LOG(AA12))/LOG(2))))","v":0},null,{"$f":"N12","v":212},{"$f":"COUNTIF(L32:L44,AD12)","v":0},{"$f":"AE12/(AG4-AE10)","v":0},{"$f":"IF(AF12=0,0,(AF12*((LOG(AF12))/LOG(2))))","v":0},null,{"$f":"N12","v":212},{"$f":"COUNTIF(L45:L56,AI12)","v":0},{"$f":"AJ12/(AL4-AJ10)","v":0},{"$f":"IF(AK12=0,0,(AK12*((LOG(AK12))/LOG(2))))","v":0},null,{"$f":"N12","v":212},{"$f":"COUNTIF(L57:L69,AN12)","v":0},{"$f":"AO12/(AQ4-AO10)","v":0},{"$f":"IF(AP12=0,0,(AP12*((LOG(AP12))/LOG(2))))","v":0},null,{"$f":"N12","v":212},{"$f":"COUNTIF(L70:L81,AS12)","v":0},{"$f":"AT12/(AV4-AT10)","v":0},{"$f":"IF(AU12=0,0,(AU12*((LOG(AU12))/LOG(2))))","v":0}]
[22,914,23,921,23,929,null,null,null,null,0,222,null,221,{"$f":"COUNTIF($L$7:$L$500,N13)","v":5},{"$f":"O13/$Q$4","v":6.6666666666666666E-2},{"$f":"IF(P13=0,0,(P13*((LOG(P13))/LOG(2))))","v":-0.26045937304056793},null,null,{"$f":"N13","v":221},{"$f":"COUNTIF(L7:L19,T13)","v":3},{"$f":"U13/(W4-U10)","v":0.3},{"$f":"IF(V13=0,0,(V13*((LOG(V13))/LOG(2))))","v":-0.52108967824986185},null,{"$f":"N13","v":221},{"$f":"COUNTIF(L20:L31,Y13)","v":0},{"$f":"Z13/(AB4-Z10)","v":0},{"$f":"IF(AA13=0,0,(AA13*((LOG(AA13))/LOG(2))))","v":0},null,{"$f":"N13","v":221},{"$f":"COUNTIF(L32:L44,AD13)","v":0},{"$f":"AE13/(AG4-AE10)","v":0},{"$f":"IF(AF13=0,0,(AF13*((LOG(AF13))/LOG(2))))","v":0},null,{"$f":"N13","v":221},{"$f":"COUNTIF(L45:L56,AI13)","v":1},{"$f":"AJ13/(AL4-AJ10)","v":0.2},{"$f":"IF(AK13=0,0,(AK13*((LOG(AK13))/LOG(2))))","v":-0.46438561897747244},null,{"$f":"N13","v":221},{"$f":"COUNTIF(L57:L69,AN13)","v":1},{"$f":"AO13/(AQ4-AO10)","v":0.25},{"$f":"IF(AP13=0,0,(AP13*((LOG(AP13))/LOG(2))))","v":-0.5},null,{"$f":"N13","v":221},{"$f":"COUNTIF(L70:L81,AS13)","v":0},{"$f":"AT13/(AV4-AT10)","v":0},{"$f":"IF(AU13=0,0,(AU13*((LOG(AU13))/LOG(2))))","v":0}]
[22,1052,23,1062,23,1074,null,null,null,null,0,222,null,222,{"$f":"COUNTIF($L$7:$L$500,N14)","v":20},{"$f":"O14/$Q$4","v":0.26666666666666666},{"$f":"IF(P14=0,0,(P14*((LOG(P14))/LOG(2))))","v":-0.50850415882893829},null,null,{"$f":"N14","v":222},{"$f":"COUNTIF(L7:L19,T14)","v":7},{"$f":"U14/(W4-U10)","v":0.7},{"$f":"IF(V14=0,0,(V14*((LOG(V14))/LOG(2))))","v":-0.36020122098083079},null,{"$f":"N14","v":222},{"$f":"COUNTIF(L20:L31,Y14)","v":1},{"$f":"Z14/(AB4-Z10)","v":0.33333333333333331},{"$f":"IF(AA14=0,0,(AA14*((LOG(AA14))/LOG(2))))","v":-0.52832083357371862},null,{"$f":"N14","v":222},{"$f":"COUNTIF(L32:L44,AD14)","v":7},{"$f":"AE14/(AG4-AE10)","v":0.7},{"$f":"IF(AF14=0,0,(AF14*((LOG(AF14))/LOG(2))))","v":-0.36020122098083079},null,{"$f":"N14","v":222},{"$f":"COUNTIF(L45:L56,AI14)","v":2},{"$f":"AJ14/(AL4-AJ10)","v":0.4},{"$f":"IF(AK14=0,0,(AK14*((LOG(AK14))/LOG(2))))","v":-0.52877123795494496},null,{"$f":"N14","v":222},{"$f":"COUNTIF(L57:L69,AN14)","v":1},{"$f":"AO14/(AQ4-AO10)","v":0.25},{"$f":"IF(AP14=0,0,(AP14*((LOG(AP14))/LOG(2))))","v":-0.5},null,{"$f":"N14","v":222},{"$f":"COUNTIF(L70:L81,AS14)","v":2},{"$f":"AT14/(AV4-AT10)","v":0.5},{"$f":"IF(AU14=0,0,(AU14*((LOG(AU14))/LOG(2))))","v":-0.5}]
[22,1198,23,1218,23,1228,null,null,null,null,0,222,null,null,null,{"$f":"SUM(P7:P14)","v":1},{"$f":"-SUM(Q7:Q14)","v":1.9331001717250578},null,null,null,null,{"$f":"SUM(V7:V14)","v":1},{"$f":"-SUM(W7:W14)","v":0.8812908992306927},null,null,null,{"$f":"SUM(AA7:AA14)","v":1},{"$f":"-SUM(AB7:AB14)","v":0.91829583405448945},null,null,null,{"$f":"SUM(AF7:AF14)","v":1},{"$f":"-SUM(AG7:AG14)","v":1.1567796494470395},null,null,null,{"$f":"SUM(AK7:AK14)","v":1},{"$f":"-SUM(AL7:AL14)","v":1.9219280948873623},null,null,null,{"$f":"SUM(AP7:AP14)","v":1},{"$f":"-SUM(AQ7:AQ14)","v":2},null,null,null,{"$f":"SUM(AU7:AU14)","v":1},{"$f":"-SUM(AV7:AV14)","v":1.5}]
[22,1338,23,1345,23,1353,null,null,null,null,0,222,null,null,null,"U=",{"$f":"Q15/(LOG(Q4)/LOG(2))","v":0.3103477991219491},null,null,null,null,"U1=",{"$f":"W15/(LOG(W4)/LOG(2))","v":0.23815842612169541},null,null,null,"U2=",{"$f":"AB15/(LOG(AB4)/LOG(2))","v":0.2561521449303204},null,null,null,"U3=",{"$f":"AG15/(LOG(AG4)/LOG(2))","v":0.31260599754564983},null,null,null,"U4=",{"$f":"AL15/(LOG(AL4)/LOG(2))","v":0.53610828411754496},null,null,null,"U5=",{"$f":"AQ15/(LOG(AQ4)/LOG(2))","v":0.54047630885463949},null,null,null,"U6=",{"$f":"AV15/(LOG(AV4)/LOG(2))","v":0.41841441847669475}]
[11,1451,21,1459,21,1467,null,null,null,null,0,122]
[22,1575,23,1583,14,1599,null,null,null,null,0,221]
[22,1708,23,1731,23,1746,null,null,null,null,0,222,null,"Total Target Seq"]
[11,1843,21,1852,21,1867,null,null,null,null,0,122,null,{"$f":"COUNTIF(L7:L81,G3)","v":39},null,13,12,13,12,13,12]
[11,1997,12,2005,14,2012,null,null,null,null,0,111,null,null,null,"% of reinforcement given in 6 equal intervals based on number of trials "]
[11,2104,12,2111,14,2118,null,null,null,null,0,111,null,null,null,"%_1","%_2","%_3","%_4","%_5","%_6"]
[11,2214,21,2229,21,2244,null,null,null,null,0,122,null,null,"target sequence",{"$f":"$G$3","v":122},{"$f":"$G$3","v":122},{"$f":"$G$3","v":122},{"$f":"$G$3","v":122},{"$f":"$G$3","v":122},{"$f":"$G$3","v":122}]
[11,2342,21,2367,21,2408,null,null,null,null,0,122,null,null,"total reinforcement",{"$f":"U10","v":3},{"$f":"Z10","v":9},{"$f":"AE10","v":3},{"$f":"AJ10","v":7},{"$f":"AO10","v":9},{"$f":"AT10","v":8}]
[22,2506,23,2525,23,2556,null,null,null,null,0,222,null,null,"% target"]
[11,2654,21,2671,21,2681,null,null,null,null,0,122,null,null,"CCRF"]
[11,2768,21,2777,21,2806,null,null,null,null,0,122,null,null,"% CCRf"]
[11,2893,21,2903,21,2909,null,null,null,null,0,122,null,null,"average response rate",{"$f":"F19/P20","v":134.30769230769232},{"$f":"(F31-F19)/Q20","v":134.25},{"$f":"(F44-F31)/R20","v":139.23076923076923},{"$f":"(F56-F44)/S20","v":125.41666666666667},{"$f":"(F69-F56)/T20","v":144.30769230769232},{"$f":"(F81-F69)/U20","v":131.5}]
[11,3033,21,3071,21,3096,null,null,null,null,0,122]
[11,3189,21,3213,21,3227,null,null,null,null,0,122]
[11,3312,21,3328,21,3357,null,null,null,null,0,122]
[22,3454,23,3460,23,3476,null,null,null,null,0,222]
[22,3584,23,3617,23,3623,null,null,null,null,0,222]
[11,3719,21,3729,21,3733,null,null,null,null,0,122]
[22,3844,23,3880,23,3908,null,null,null,null,0,222]
[11,4004,21,4013,21,4021,null,null,null,null,0,122]
[22,4143,23,4151,23,4166,null,null,null,null,0,222]
[11,4262,21,4272,21,4286,null,null,null,null,0,122]
[22,4382,23,4387,23,4397,null,null,null,null,0,222]
[11,4522,12,4529,14,4535,null,null,null,null,0,111]
[22,4678,23,4688,23,4711,null,null,null,null,0,222]
[11,4810,21,4822,12,4848,null,null,null,null,0,121]
[22,4954,23,4977,23,5010,null,null,null,null,0,222]
[11,5105,21,5125,12,5167,null,null,null,null,0,121]
[11,5263,21,5273,21,5287,null,null,null,null,0,122]
[22,5383,23,5387,23,5401,null,null,null,null,0,222]
[11,5497,12,5501,23,5510,null,null,null,null,0,112]
[11,5606,21,5616,21,5628,null,null,null,null,0,122]
[11,5721,21,5734,21,5752,null,null,null,null,0,122]
[22,5852,23,5874,23,5909,null,null,null,null,0,222]
[11,6003,21,6014,21,6036,null,null,null,null,0,122]
[22,6133,23,6148,14,6161,null,null,null,null,0,221]
[11,6257,21,6268,21,6275,null,null,null,null,0,122]
[11,6363,21,6374,21,6388,null,null,null,null,0,122]
[11,6474,21,6487,21,6494,null,null,null,null,0,122]
[11,6583,21,6607,12,6672,null,null,null,null,0,121]
[22,6809,14,6826,14,6833,null,null,null,null,0,211]
[11,6928,21,6938,21,6945,null,null,null,null,0,122]
[11,7038,21,7049,21,7056,null,null,null,null,0,122]
[22,7155,23,7160,23,7174,null,null,null,null,0,222]
[22,7281,23,7367,14,7383,null,null,null,null,0,221]
[11,7479,21,7489,21,7503,null,null,null,null,0,122]
[11,7593,21,7604,21,7610,null,null,null,null,0,122]
[11,7697,21,7706,21,7713,null,null,null,null,0,122]
[11,7801,21,7814,21,7845,null,null,null,null,0,122]
[11,7933,21,7943,21,8081,null,null,null,null,0,122]
[11,8167,21,8181,21,8254,null,null,null,null,0,122]
[11,8373,21,8384,12,8424,null,null,null,null,0,121]
[11,8519,21,8531,21,8548,null,null,null,null,0,122]
[11,8637,12,8648,14,8652,null,null,null,null,0,111]
[11,8751,21,8760,21,8786,null,null,null,null,0,122]
[11,8876,21,8892,21,8900,null,null,null,null,0,122]
[22,9005,23,9013,23,9021,null,null,null,null,0,222]
[22,9136,23,9148,23,9159,null,null,null,null,0,222]
[11,9258,21,9275,21,9303,null,null,null,null,0,122]
[11,9389,21,9398,21,9413,null,null,null,null,0,122]
[11,9500,21,9510,21,9516,null,null,null,null,0,122]
[11,9610,21,9618,21,9622,null,null,null,null,0,122]
[11,9729,12,9869,23,9903,null,null,null,null,0,112]
[11,9998,21,10007,21,10013,null,null,null,null,0,122]
[11,10109,21,10120,21,10126,null,null,null,null,1,122]

{"sheet":"!M723A40.104","index":11,"n_rows":75,"n_cols":48,"rows_kept":75,"cut":false,"hidden":false,"merged":[[4,39,4,42],[5,39,5,40],[4,44,4,47],[5,44,5,45],[4,24,4,27],[5,24,5,25],[4,29,4,32],[5,29,5,30],[4,34,4,37],[5,34,5,35],[1,1,1,2],[5,13,5,14],[18,13,18,14],[19,13,19,14],[4,19,4,22],[5,19,5,20]]}
["Report for:!M723A40.104"]
["Date:","<date>"]
["Hen:","<hen>",null,null,null,"Correct Sequence",{"$f":"Start!J2","v":122},null,null,null,null,null,null,null,null,"Total Sequences in Data",{"$f":"4994-COUNTBLANK(L7:L5000)","v":69},null,null,null,null,"Total Sequences in Block Data",{"$f":"COUNTA(L7:L18)","v":12},null,null,null,"Total Sequences in Block Data",{"$f":"COUNTA(L19:L29)","v":11},null,null,null,"Total Sequences in Block Data",{"$f":"COUNTA(L30:L41)","v":12},null,null,null,"Total Sequences in Block Data",{"$f":"COUNTA(L42:L52)","v":11},null,null,null,"Total Sequences in Block Data",{"$f":"COUNTA(L53:L64)","v":12},null,null,null,"Total Sequences in Block Data",{"$f":"COUNTA(L65:L75)","v":11}]
[null,null,null,null,null,null,null,null,null,null,null,null,null,null,null,"Total Sequences in Summary",{"$f":"SUM(O7:O14)","v":69},null,null,null,null,"Total Sequences in Block Summary",{"$f":"SUM(U7:U14)","v":12},null,null,null,"Total Sequences in Block Summary",{"$f":"SUM(Z7:Z14)","v":11},null,null,null,"Total Sequences in Block Summary",{"$f":"SUM(AE7:AE14)","v":12},null,null,null,"Total Sequences in Block Summary",{"$f":"SUM(AJ7:AJ14)","v":11},null,null,null,"Total Sequences in Block Summary",{"$f":"SUM(AO7:AO14)","v":12},null,null,null,"Total Sequences in Block Summary",{"$f":"SUM(AT7:AT14)","v":11}]
[null,null,null,null,null,null,null,null,null,null,null,null,null,null,null,null,null,null,null,"Block 1",null,null,null,null,"Block 2",null,null,null,null,"Block 3",null,null,null,null,"Block 4",null,null,null,null,"Block 5",null,null,null,null,"Block 6"]
["Sequence\nComponent\n1","Time\n1","Sequence\nComponent\n2","Time\n2","Sequence\nComponent\n3","Time\n3","Sequence\nComponent\n4","Time\n4","Sequence\nComponent\n5","Time\n5","Correct?\n0=No 1=Yes","Sequence",null,"Frequency",null,"Relative Frequency","Variability",null,null,"Frequency",null,"Relative Frequency","Variability",null,"Frequency",null,"Relative Frequency","Variability",null,"Frequency",null,"Relative Frequency","Variability",null,"Frequency",null,"Relative Frequency","Variability",null,"Frequency",null,"Relative Frequency","Variability",null,"Frequency",null,"Relative Frequency","Variability"]
[22,17,23,24,23,62,null,null,null,null,0,222,null,111,{"$f":"COUNTIF($L$7:$L$500,N7)","v":3},{"$f":"O7/$Q$4","v":4.3478260869565216E-2},{"$f":"IF(P7=0,0,(P7*((LOG(P7))/LOG(2))))","v":-0.19667660678508753},null,null,{"$f":"N7","v":111},{"$f":"COUNTIF(L7:L18,T7)","v":0},{"$f":"U7/(W4-U10)","v":0},{"$f":"IF(V7=0,0,(V7*((LOG(V7))/LOG(2))))","v":0},null,{"$f":"N7","v":111},{"$f":"COUNTIF(L19:L29,Y7)","v":0},{"$f":"Z7/(AB4-Z10)","v":0},{"$f":"IF(AA7=0,0,(AA7*((LOG(AA7))/LOG(2))))","v":0},null,{"$f":"N7","v":111},{"$f":"COUNTIF(L30:L41,AD7)","v":1},{"$f":"AE7/(AG4-AE10)","v":0.125},{"$f":"IF(AF7=0,0,(AF7*((LOG(AF7))/LOG(2))))","v":-0.375},null,{"$f":"N7","v":111},{"$f":"COUNTIF(L42:L52,AI7)","v":1},{"$f":"AJ7/(AL4-AJ10)","v":0.5},{"$f":"IF(AK7=0,0,(AK7*((LOG(AK7))/LOG(2))))","v":-0.5},null,{"$f":"N7","v":111},{"$f":"COUNTIF(L53:L64,AN7)","v":0},{"$f":"AO7/(AQ4-AO10)","v":0},{"$f":"IF(AP7=0,0,(AP7*((LOG(AP7))/LOG(2))))","v":0},null,{"$f":"N7","v":111},{"$f":"COUNTIF(L65:L75,AS7)","v":1},{"$f":"AT7/(AV4-AT10)","v":0.33333333333333331},{"$f":"IF(AU7=0,0,(AU7*((LOG(AU7))/LOG(2))))","v":-0.52832083357371862}]
[22,172,23,181,23,197,null,null,null,null,0,222,null,112,{"$f":"COUNTIF($L$7:$L$500,N8)","v":9},{"$f":"O8/$Q$4","v":0.13043478260869565},{"$f":"IF(P8=0,0,(P8*((LOG(P8))/LOG(2))))","v":-0.3832955811307639},null,null,{"$f":"N8","v":112},{"$f":"COUNTIF(L7:L18,T8)","v":0},{"$f":"U8/(W4-U10)","v":0},{"$f":"IF(V8=0,0,(V8*((LOG(V8))/LOG(2))))","v":0},null,{"$f":"N8","v":112},{"$f":"COUNTIF(L19:L29,Y8)","v":1},{"$f":"Z8/(AB4-Z10)","v":0.25},{"$f":"IF(AA8=0,0,(AA8*((LOG(AA8))/LOG(2))))","v":-0.5},null,{"$f":"N8","v":112},{"$f":"COUNTIF(L30:L41,AD8)","v":5},{"$f":"AE8/(AG4-AE10)","v":0.625},{"$f":"IF(AF8=0,0,(AF8*((LOG(AF8))/LOG(2))))","v":-0.42379494069539858},null,{"$f":"N8","v":112},{"$f":"COUNTIF(L42:L52,AI8)","v":0},{"$f":"AJ8/(AL4-AJ10)","v":0},{"$f":"IF(AK8=0,0,(AK8*((LOG(AK8))/LOG(2))))","v":0},null,{"$f":"N8","v":112},{"$f":"COUNTIF(L53:L64,AN8)","v":3},{"$f":"AO8/(AQ4-AO10)","v":0.5},{"$f":"IF(AP8=0,0,(AP8*((LOG(AP8))/LOG(2))))","v":-0.5},null,{"$f":"N8","v":112},{"$f":"COUNTIF(L65:L75,AS8)","v":0},{"$f":"AT8/(AV4-AT10)","v":0},{"$f":"IF(AU8=0,0,(AU8*((LOG(AU8))/LOG(2))))","v":0}]
[22,311,23,316,23,338,null,null,null,null,0,222,null,121,{"$f":"COUNTIF($L$7:$L$500,N9)","v":0},{"$f":"O9/$Q$4","v":0},{"$f":"IF(P9=0,0,(P9*((LOG(P9))/LOG(2))))","v":0},null,null,{"$f":"N9","v":121},{"$f":"COUNTIF(L7:L18,T9)","v":0},{"$f":"U9/(W4-U10)","v":0},{"$f":"IF(V9=0,0,(V9*((LOG(V9))/LOG(2))))","v":0},null,{"$f":"N9","v":121},{"$f":"COUNTIF(L19:L29,Y9)","v":0},{"$f":"Z9/(AB4-Z10)","v":0},{"$f":"IF(AA9=0,0,(AA9*((LOG(AA9))/LOG(2))))","v":0},null,{"$f":"N9","v":121},{"$f":"COUNTIF(L30:L41,AD9)","v":0},{"$f":"AE9/(AG4-AE10)","v":0},{"$f":"IF(AF9=0,0,(AF9*((LOG(AF9))/LOG(2))))","v":0},null,{"$f":"N9","v":121},{"$f":"COUNTIF(L42:L52,AI9)","v":0},{"$f":"AJ9/(AL4-AJ10)","v":0},{"$f":"IF(AK9=0,0,(AK9*((LOG(AK9))/LOG(2))))","v":0},null,{"$f":"N9","v":121},{"$f":"COUNTIF(L53:L64,AN9)","v":0},{"$f":"AO9/(AQ4-AO10)","v":0},{"$f":"IF(AP9=0,0,(AP9*((LOG(AP9))/LOG(2))))","v":0},null,{"$f":"N9","v":121},{"$f":"COUNTIF(L65:L75,AS9)","v":0},{"$f":"AT9/(AV4-AT10)","v":0},{"$f":"IF(AU9=0,0,(AU9*((LOG(AU9))/LOG(2))))","v":0}]
[22,445,23,452,23,492,null,null,null,null,0,222,null,122,{"$f":"COUNTIF($L$7:$L$500,N10)","v":39},{"$f":"O10/$Q$4","v":0.56521739130434778},{"$f":"IF(P10=0,0,(P10*((LOG(P10))/LOG(2))))","v":-0.46524300403943353},null,null,{"$f":"N10","v":122},{"$f":"COUNTIF(L7:L18,T10)","v":5},null,null,null,{"$f":"N10","v":122},{"$f":"COUNTIF(L19:L29,Y10)","v":7},null,null,null,{"$f":"N10","v":122},{"$f":"COUNTIF(L30:L41,AD10)","v":4},null,null,null,{"$f":"N10","v":122},{"$f":"COUNTIF(L42:L52,AI10)","v":9},null,null,null,{"$f":"N10","v":122},{"$f":"COUNTIF(L53:L64,AN10)","v":6},null,null,null,{"$f":"N10","v":122},{"$f":"COUNTIF(L65:L75,AS10)","v":8}]
[22,597,23,604,23,636,null,null,null,null,0,222,null,211,{"$f":"COUNTIF($L$7:$L$500,N11)","v":1},{"$f":"O11/$Q$4","v":1.4492753623188406E-2},{"$f":"IF(P11=0,0,(P11*((LOG(P11))/LOG(2))))","v":-8.8529339953306793E-2},null,null,{"$f":"N11","v":211},{"$f":"COUNTIF(L7:L18,T11)","v":0},{"$f":"U11/(W4-U10)","v":0},{"$f":"IF(V11=0,0,(V11*((LOG(V11))/LOG(2))))","v":0},null,{"$f":"N11","v":211},{"$f":"COUNTIF(L19:L29,Y11)","v":1},{"$f":"Z11/(AB4-Z10)","v":0.25},{"$f":"IF(AA11=0,0,(AA11*((LOG(AA11))/LOG(2))))","v":-0.5},null,{"$f":"N11","v":211},{"$f":"COUNTIF(L30:L41,AD11)","v":0},{"$f":"AE11/(AG4-AE10)","v":0},{"$f":"IF(AF11=0,0,(AF11*((LOG(AF11))/LOG(2))))","v":0},null,{"$f":"N11","v":211},{"$f":"COUNTIF(L42:L52,AI11)","v":0},{"$f":"AJ11/(AL4-AJ10)","v":0},{"$f":"IF(AK11=0,0,(AK11*((LOG(AK11))/LOG(2))))","v":0},null,{"$f":"N11","v":211},{"$f":"COUNTIF(L53:L64,AN11)","v":0},{"$f":"AO11/(AQ4-AO10)","v":0},{"$f":"IF(AP11=0,0,(AP11*((LOG(AP11))/LOG(2))))","v":0},null,{"$f":"N11","v":211},{"$f":"COUNTIF(L65:L75,AS11)","v":0},{"$f":"AT11/(AV4-AT10)","v":0},{"$f":"IF(AU11=0,0,(AU11*((LOG(AU11))/LOG(2))))","v":0}]
[11,739,21,749,21,756,null,null,null,null,0,122,null,212,{"$f":"COUNTIF($L$7:$L$500,N12)","v":1},{"$f":"O12/$Q$4","v":1.4492753623188406E-2},{"$f":"IF(P12=0,0,(P12*((LOG(P12))/LOG(2))))","v":-8.8529339953306793E-2},null,null,{"$f":"N12","v":212},{"$f":"COUNTIF(L7:L18,T12)","v":0},{"$f":"U12/(W4-U10)","v":0},{"$f":"IF(V12=0,0,(V12*((LOG(V12))/LOG(2))))","v":0},null,{"$f":"N12","v":212},{"$f":"COUNTIF(L19:L29,Y12)","v":1},{"$f":"Z12/(AB4-Z10)","v":0.25},{"$f":"IF(AA12=0,0,(AA12*((LOG(AA12))/LOG(2))))","v":-0.5},null,{"$f":"N12","v":212},{"$f":"COUNTIF(L30:L41,AD12)","v":0},{"$f":"AE12/(AG4-AE10)","v":0},{"$f":"IF(AF12=0,0,(AF12*((LOG(AF12))/LOG(2))))","v":0},null,{"$f":"N12","v":212},{"$f":"COUNTIF(L42:L52,AI12)","v":0},{"$f":"AJ12/(AL4-AJ10)","v":0},{"$f":"IF(AK12=0,0,(AK12*((LOG(AK12))/LOG(2))))","v":0},null,{"$f":"N12","v":212},{"$f":"COUNTIF(L53:L64,AN12)","v":0},{"$f":"AO12/(AQ4-AO10)","v":0},{"$f":"IF(AP12=0,0,(AP12*((LOG(AP12))/LOG(2))))","v":0},null,{"$f":"N12","v":212},{"$f":"COUNTIF(L65:L75,AS12)","v":0},{"$f":"AT12/(AV4-AT10)","v":0},{"$f":"IF(AU12=0,0,(AU12*((LOG(AU12))/LOG(2))))","v":0}]
[22,858,23,864,23,880,null,null,null,null,0,222,null,221,{"$f":"COUNTIF($L$7:$L$500,N13)","v":0},{"$f":"O13/$Q$4","v":0},{"$f":"IF(P13=0,0,(P13*((LOG(P13))/LOG(2))))","v":0},null,null,{"$f":"N13","v":221},{"$f":"COUNTIF(L7:L18,T13)","v":0},{"$f":"U13/(W4-U10)","v":0},{"$f":"IF(V13=0,0,(V13*((LOG(V13))/LOG(2))))","v":0},null,{"$f":"N13","v":221},{"$f":"COUNTIF(L19:L29,Y13)","v":0},{"$f":"Z13/(AB4-Z10)","v":0},{"$f":"IF(AA13=0,0,(AA13*((LOG(AA13))/LOG(2))))","v":0},null,{"$f":"N13","v":221},{"$f":"COUNTIF(L30:L41,AD13)","v":0},{"$f":"AE13/(AG4-AE10)","v":0},{"$f":"IF(AF13=0,0,(AF13*((LOG(AF13))/LOG(2))))","v":0},null,{"$f":"N13","v":221},{"$f":"COUNTIF(L42:L52,AI13)","v":0},{"$f":"AJ13/(AL4-AJ10)","v":0},{"$f":"IF(AK13=0,0,(AK13*((LOG(AK13))/LOG(2))))","v":0},null,{"$f":"N13","v":221},{"$f":"COUNTIF(L53:L64,AN13)","v":0},{"$f":"AO13/(AQ4-AO10)","v":0},{"$f":"IF(AP13=0,0,(AP13*((LOG(AP13))/LOG(2))))","v":0},null,{"$f":"N13","v":221},{"$f":"COUNTIF(L65:L75,AS13)","v":0},{"$f":"AT13/(AV4-AT10)","v":0},{"$f":"IF(AU13=0,0,(AU13*((LOG(AU13))/LOG(2))))","v":0}]
[11,981,21,1000,21,1007,null,null,null,null,0,122,null,222,{"$f":"COUNTIF($L$7:$L$500,N14)","v":16},{"$f":"O14/$Q$4","v":0.2318840579710145},{"$f":"IF(P14=0,0,(P14*((LOG(P14))/LOG(2))))","v":-0.48893320736885082},null,null,{"$f":"N14","v":222},{"$f":"COUNTIF(L7:L18,T14)","v":7},{"$f":"U14/(W4-U10)","v":1},{"$f":"IF(V14=0,0,(V14*((LOG(V14))/LOG(2))))","v":0},null,{"$f":"N14","v":222},{"$f":"COUNTIF(L19:L29,Y14)","v":1},{"$f":"Z14/(AB4-Z10)","v":0.25},{"$f":"IF(AA14=0,0,(AA14*((LOG(AA14))/LOG(2))))","v":-0.5},null,{"$f":"N14","v":222},{"$f":"COUNTIF(L30:L41,AD14)","v":2},{"$f":"AE14/(AG4-AE10)","v":0.25},{"$f":"IF(AF14=0,0,(AF14*((LOG(AF14))/LOG(2))))","v":-0.5},null,{"$f":"N14","v":222},{"$f":"COUNTIF(L42:L52,AI14)","v":1},{"$f":"AJ14/(AL4-AJ10)","v":0.5},{"$f":"IF(AK14=0,0,(AK14*((LOG(AK14))/LOG(2))))","v":-0.5},null,{"$f":"N14","v":222},{"$f":"COUNTIF(L53:L64,AN14)","v":3},{"$f":"AO14/(AQ4-AO10)","v":0.5},{"$f":"IF(AP14=0,0,(AP14*((LOG(AP14))/LOG(2))))","v":-0.5},null,{"$f":"N14","v":222},{"$f":"COUNTIF(L65:L75,AS14)","v":2},{"$f":"AT14/(AV4-AT10)","v":0.66666666666666663},{"$f":"IF(AU14=0,0,(AU14*((LOG(AU14))/LOG(2))))","v":-0.38997500048077083}]
[11,1099,21,1110,21,1124,null,null,null,null,0,122,null,null,null,{"$f":"SUM(P7:P14)","v":0.99999999999999989},{"$f":"-SUM(Q7:Q14)","v":1.7112070792307492},null,null,null,null,{"$f":"SUM(V7:V14)","v":1},{"$f":"-SUM(W7:W14)","v":0},null,null,null,{"$f":"SUM(AA7:AA14)","v":1},{"$f":"-SUM(AB7:AB14)","v":2},null,null,null,{"$f":"SUM(AF7:AF14)","v":1},{"$f":"-SUM(AG7:AG14)","v":1.2987949406953985},null,null,null,{"$f":"SUM(AK7:AK14)","v":1},{"$f":"-SUM(AL7:AL14)","v":1},null,null,null,{"$f":"SUM(AP7:AP14)","v":1},{"$f":"-SUM(AQ7:AQ14)","v":1},null,null,null,{"$f":"SUM(AU7:AU14)","v":1},{"$f":"-SUM(AV7:AV14)","v":0.91829583405448945}]
[22,1254,23,1262,23,1277,null,null,null,null,0,222,null,null,null,"U=",{"$f":"Q15/(LOG(Q4)/LOG(2))","v":0.28013427650796291},null,null,null,null,"U1=",{"$f":"W15/(LOG(W4)/LOG(2))","v":0},null,null,null,"U2=",{"$f":"AB15/(LOG(AB4)/LOG(2))","v":0.57812965263577565},null,null,null,"U3=",{"$f":"AG15/(LOG(AG4)/LOG(2))","v":0.36228968655435889},null,null,null,"U4=",{"$f":"AL15/(LOG(AL4)/LOG(2))","v":0.28906482631788782},null,null,null,"U5=",{"$f":"AQ15/(LOG(AQ4)/LOG(2))","v":0.27894294565112981},null,null,null,"U6=",{"$f":"AV15/(LOG(AV4)/LOG(2))","v":0.26544702577940094}]
[11,1374,21,1385,21,1394,null,null,null,null,0,122]
[11,1482,21,1493,21,1515,null,null,null,null,0,122]
[11,1604,21,1614,21,1634,null,null,null,null,0,122,null,"Total Target Seq"]
[11,1724,21,1734,21,1741,null,null,null,null,0,122,null,{"$f":"COUNTIF(L7:L75,G3)","v":39},null,12,11,12,11,12,11]
[11,1829,12,1836,23,1847,null,null,null,null,0,112,null,null,null,"% of reinforcement given in 6 equal intervals based on number of trials "]
[22,1954,23,1975,23,1989,null,null,null,null,0,222,null,null,null,"%_1","%_2","%_3","%_4","%_5","%_6"]
[11,2085,21,2094,21,2101,null,null,null,null,0,122,null,null,"target sequence",{"$f":"$G$3","v":122},{"$f":"$G$3","v":122},{"$f":"$G$3","v":122},{"$f":"$G$3","v":122},{"$f":"$G$3","v":122},{"$f":"$G$3","v":122}]
[22,2219,14,2232,23,2249,null,null,null,null,0,212,null,null,"total reinforcement",{"$f":"U10","v":5},{"$f":"Z10","v":7},{"$f":"AE10","v":4},{"$f":"AJ10","v":9},{"$f":"AO10","v":6},{"$f":"AT10","v":8}]
[22,2374,14,2401,14,2408,null,null,null,null,0,211,null,null,"% target"]
[11,2504,21,2512,21,2541,null,null,null,null,0,122,null,null,"CCRF"]
[11,2629,21,2639,21,2696,null,null,null,null,0,122,null,null,"% CCRf"]
[11,2783,21,2793,21,2821,null,null,null,null,0,122,null,null,"average response rate",{"$f":"F18/P20","v":126.25},{"$f":"(F29-F18)/Q20","v":130.09090909090909},{"$f":"(F41-F29)/R20","v":115.83333333333333},{"$f":"(F52-F41)/S20","v":122.90909090909091},{"$f":"(F64-F52)/T20","v":116.25},{"$f":"(F75-F64)/U20","v":121.18181818181819}]
[11,2931,21,2939,21,2946,null,null,null,null,0,122]
[11,3051,12,3072,23,3082,null,null,null,null,0,112]
[11,3177,12,3184,14,3191,null,null,null,null,0,111]
[11,3287,21,3299,21,3307,null,null,null,null,0,122]
[11,3397,12,3406,23,3417,null,null,null,null,0,112]
[11,3512,21,3522,21,3529,null,null,null,null,0,122]
[11,3618,21,3626,21,3634,null,null,null,null,0,122]
[11,3724,12,3728,23,3739,null,null,null,null,0,112]
[22,3843,23,3857,23,3871,null,null,null,null,0,222]
[11,3967,21,3976,21,3998,null,null,null,null,0,122]
[11,4085,12,4093,23,4102,null,null,null,null,0,112]
[22,4213,23,4221,23,4229,null,null,null,null,0,222]
[11,4323,12,4326,23,4336,null,null,null,null,0,112]
[22,4440,23,4455,23,4486,null,null,null,null,0,222]
[11,4583,21,4592,21,4599,null,null,null,null,0,122]
[11,4688,21,4698,21,4705,null,null,null,null,0,122]
[11,4793,21,4801,21,4808,null,null,null,null,0,122]
[11,4899,21,4909,21,4916,null,null,null,null,0,122]
[11,5004,21,5014,21,5029,null,null,null,null,0,122]
[11,5118,21,5129,21,5144,null,null,null,null,0,122]
[11,5233,21,5241,21,5280,null,null,null,null,0,122]
[11,5445,12,5451,14,5459,null,null,null,null,0,111]
[11,5555,21,5563,21,5582,null,null,null,null,0,122]
[11,5671,21,5681,21,5688,null,null,null,null,0,122]
[11,5777,21,5787,21,5801,null,null,null,null,0,122]
[11,5894,12,5900,23,5941,null,null,null,null,0,112]
[11,6036,21,6046,21,6052,null,null,null,null,0,122]
[11,6138,12,6144,23,6154,null,null,null,null,0,112]
[22,6261,23,6268,23,6278,null,null,null,null,0,222]
[11,6374,21,6384,21,6391,null,null,null,null,0,122]
[22,6492,23,6498,23,6506,null,null,null,null,0,222]
[11,6601,12,6606,23,6616,null,null,null,null,0,112]
[11,6712,21,6722,21,6729,null,null,null,null,0,122]
[11,6820,21,6831,21,6837,null,null,null,null,0,122]
[22,6937,23,6950,23,6958,null,null,null,null,0,222]
[11,7053,21,7069,21,7083,null,null,null,null,0,122]
[11,7172,21,7184,21,7191,null,null,null,null,0,122]
[11,7280,21,7291,21,7315,null,null,null,null,0,122]
[11,7401,21,7417,21,7433,null,null,null,null,0,122]
[22,7532,23,7538,23,7571,null,null,null,null,0,222]
[22,7675,23,7681,23,7689,null,null,null,null,0,222]
[11,7790,12,7794,14,7802,null,null,null,null,0,111]
[11,7897,21,7906,21,7913,null,null,null,null,0,122]
[11,7999,21,8008,21,8029,null,null,null,null,0,122]
[11,8117,21,8150,21,8181,null,null,null,null,0,122]
[11,8271,21,8284,21,8311,null,null,null,null,0,122]
[11,8399,21,8409,21,8416,null,null,null,null,1,122]

{"sheet":"!M724930.104","index":12,"n_rows":78,"n_cols":48,"rows_kept":78,"cut":false,"hidden":false,"merged":[[4,39,4,42],[5,39,5,40],[4,44,4,47],[5,44,5,45],[4,24,4,27],[5,24,5,25],[4,29,4,32],[5,29,5,30],[4,34,4,37],[5,34,5,35],[1,1,1,2],[5,13,5,14],[18,13,18,14],[19,13,19,14],[4,19,4,22],[5,19,5,20]]}
["Report for:!M724930.104"]
["Date:","<date>"]
["Hen:","<hen>",null,null,null,"Correct Sequence",{"$f":"Start!J2","v":122},null,null,null,null,null,null,null,null,"Total Sequences in Data",{"$f":"4994-COUNTBLANK(L7:L5000)","v":72},null,null,null,null,"Total Sequences in Block Data",{"$f":"COUNTA(L7:L18)","v":12},null,null,null,"Total Sequences in Block Data",{"$f":"COUNTA(L19:L30)","v":12},null,null,null,"Total Sequences in Block Data",{"$f":"COUNTA(L31:L42)","v":12},null,null,null,"Total Sequences in Block Data",{"$f":"COUNTA(L43:L54)","v":12},null,null,null,"Total Sequences in Block Data",{"$f":"COUNTA(L55:L66)","v":12},null,null,null,"Total Sequences in Block Data",{"$f":"COUNTA(L67:L78)","v":12}]
[null,null,null,null,null,null,null,null,null,null,null,null,null,null,null,"Total Sequences in Summary",{"$f":"SUM(O7:O14)","v":72},null,null,null,null,"Total Sequences in Block Summary",{"$f":"SUM(U7:U14)","v":12},null,null,null,"Total Sequences in Block Summary",{"$f":"SUM(Z7:Z14)","v":12},null,null,null,"Total Sequences in Block Summary",{"$f":"SUM(AE7:AE14)","v":12},null,null,null,"Total Sequences in Block Summary",{"$f":"SUM(AJ7:AJ14)","v":12},null,null,null,"Total Sequences in Block Summary",{"$f":"SUM(AO7:AO14)","v":12},null,null,null,"Total Sequences in Block Summary",{"$f":"SUM(AT7:AT14)","v":12}]
[null,null,null,null,null,null,null,null,null,null,null,null,null,null,null,null,null,null,null,"Block 1",null,null,null,null,"Block 2",null,null,null,null,"Block 3",null,null,null,null,"Block 4",null,null,null,null,"Block 5",null,null,null,null,"Block 6"]
["Sequence\nComponent\n1","Time\n1","Sequence\nComponent\n2","Time\n2","Sequence\nComponent\n3","Time\n3","Sequence\nComponent\n4","Time\n4","Sequence\nComponent\n5","Time\n5","Correct?\n0=No 1=Yes","Sequence",null,"Frequency",null,"Relative Frequency","Variability",null,null,"Frequency",null,"Relative Frequency","Variability",null,"Frequency",null,"Relative Frequency","Variability",null,"Frequency",null,"Relative Frequency","Variability",null,"Frequency",null,"Relative Frequency","Variability",null,"Frequency",null,"Relative Frequency","Variability",null,"Frequency",null,"Relative Frequency","Variability"]
[22,15,23,29,23,40,null,null,null,null,0,222,null,111,{"$f":"COUNTIF($L$7:$L$500,N7)","v":3},{"$f":"O7/$Q$4","v":4.1666666666666664E-2},{"$f":"IF(P7=0,0,(P7*((LOG(P7))/LOG(2))))","v":-0.19104010419671485},null,null,{"$f":"N7","v":111},{"$f":"COUNTIF(L7:L18,T7)","v":0},{"$f":"U7/(W4-U10)","v":0},{"$f":"IF(V7=0,0,(V7*((LOG(V7))/LOG(2))))","v":0},null,{"$f":"N7","v":111},{"$f":"COUNTIF(L19:L30,Y7)","v":0},{"$f":"Z7/(AB4-Z10)","v":0},{"$f":"IF(AA7=0,0,(AA7*((LOG(AA7))/LOG(2))))","v":0},null,{"$f":"N7","v":111},{"$f":"COUNTIF(L31:L42,AD7)","v":1},{"$f":"AE7/(AG4-AE10)","v":0.33333333333333331},{"$f":"IF(AF7=0,0,(AF7*((LOG(AF7))/LOG(2))))","v":-0.52832083357371862},null,{"$f":"N7","v":111},{"$f":"COUNTIF(L43:L54,AI7)","v":0},{"$f":"AJ7/(AL4-AJ10)","v":0},{"$f":"IF(AK7=0,0,(AK7*((LOG(AK7))/LOG(2))))","v":0},null,{"$f":"N7","v":111},{"$f":"COUNTIF(L55:L66,AN7)","v":1},{"$f":"AO7/(AQ4-AO10)","v":0.14285714285714285},{"$f":"IF(AP7=0,0,(AP7*((LOG(AP7))/LOG(2))))","v":-0.40105070315108626},null,{"$f":"N7","v":111},{"$f":"COUNTIF(L67:L78,AS7)","v":1},{"$f":"AT7/(AV4-AT10)","v":0.14285714285714285},{"$f":"IF(AU7=0,0,(AU7*((LOG(AU7))/LOG(2))))","v":-0.40105070315108626}]
[22,150,23,158,23,165,null,null,null,null,0,222,null,112,{"$f":"COUNTIF($L$7:$L$500,N8)","v":18},{"$f":"O8/$Q$4","v":0.25},{"$f":"IF(P8=0,0,(P8*((LOG(P8))/LOG(2))))","v":-0.5},null,null,{"$f":"N8","v":112},{"$f":"COUNTIF(L7:L18,T8)","v":1},{"$f":"U8/(W4-U10)","v":0.16666666666666666},{"$f":"IF(V8=0,0,(V8*((LOG(V8))/LOG(2))))","v":-0.43082708345352599},null,{"$f":"N8","v":112},{"$f":"COUNTIF(L19:L30,Y8)","v":1},{"$f":"Z8/(AB4-Z10)","v":0.2},{"$f":"IF(AA8=0,0,(AA8*((LOG(AA8))/LOG(2))))","v":-0.46438561897747244},null,{"$f":"N8","v":112},{"$f":"COUNTIF(L31:L42,AD8)","v":2},{"$f":"AE8/(AG4-AE10)","v":0.66666666666666663},{"$f":"IF(AF8=0,0,(AF8*((LOG(AF8))/LOG(2))))","v":-0.38997500048077083},null,{"$f":"N8","v":112},{"$f":"COUNTIF(L43:L54,AI8)","v":3},{"$f":"AJ8/(AL4-AJ10)","v":0.6},{"$f":"IF(AK8=0,0,(AK8*((LOG(AK8))/LOG(2))))","v":-0.44217935649972373},null,{"$f":"N8","v":112},{"$f":"COUNTIF(L55:L66,AN8)","v":6},{"$f":"AO8/(AQ4-AO10)","v":0.8571428571428571},{"$f":"IF(AP8=0,0,(AP8*((LOG(AP8))/LOG(2))))","v":-0.19062207543124113},null,{"$f":"N8","v":112},{"$f":"COUNTIF(L67:L78,AS8)","v":5},{"$f":"AT8/(AV4-AT10)","v":0.7142857142857143},{"$f":"IF(AU8=0,0,(AU8*((LOG(AU8))/LOG(2))))","v":-0.34673344797874411}]
[22,267,23,274,23,282,null,null,null,null,0,222,null,121,{"$f":"COUNTIF($L$7:$L$500,N9)","v":0},{"$f":"O9/$Q$4","v":0},{"$f":"IF(P9=0,0,(P9*((LOG(P9))/LOG(2))))","v":0},null,null,{"$f":"N9","v":121},{"$f":"COUNTIF(L7:L18,T9)","v":0},{"$f":"U9/(W4-U10)","v":0},{"$f":"IF(V9=0,0,(V9*((LOG(V9))/LOG(2))))","v":0},null,{"$f":"N9","v":121},{"$f":"COUNTIF(L19:L30,Y9)","v":0},{"$f":"Z9/(AB4-Z10)","v":0},{"$f":"IF(AA9=0,0,(AA9*((LOG(AA9))/LOG(2))))","v":0},null,{"$f":"N9","v":121},{"$f":"COUNTIF(L31:L42,AD9)","v":0},{"$f":"AE9/(AG4-AE10)","v":0},{"$f":"IF(AF9=0,0,(AF9*((LOG(AF9))/LOG(2))))","v":0},null,{"$f":"N9","v":121},{"$f":"COUNTIF(L43:L54,AI9)","v":0},{"$f":"AJ9/(AL4-AJ10)","v":0},{"$f":"IF(AK9=0,0,(AK9*((LOG(AK9))/LOG(2))))","v":0},null,{"$f":"N9","v":121},{"$f":"COUNTIF(L55:L66,AN9)","v":0},{"$f":"AO9/(AQ4-AO10)","v":0},{"$f":"IF(AP9=0,0,(AP9*((LOG(AP9))/LOG(2))))","v":0},null,{"$f":"N9","v":121},{"$f":"COUNTIF(L67:L78,AS9)","v":0},{"$f":"AT9/(AV4-AT10)","v":0},{"$f":"IF(AU9=0,0,(AU9*((LOG(AU9))/LOG(2))))","v":0}]
[11,378,21,390,21,398,null,null,null,null,0,122,null,122,{"$f":"COUNTIF($L$7:$L$500,N10)","v":39},{"$f":"O10/$Q$4","v":0.54166666666666663},{"$f":"IF(P10=0,0,(P10*((LOG(P10))/LOG(2))))","v":-0.47911650723086807},null,null,{"$f":"N10","v":122},{"$f":"COUNTIF(L7:L18,T10)","v":6},null,null,null,{"$f":"N10","v":122},{"$f":"COUNTIF(L19:L30,Y10)","v":7},null,null,null,{"$f":"N10","v":122},{"$f":"COUNTIF(L31:L42,AD10)","v":9},null,null,null,{"$f":"N10","v":122},{"$f":"COUNTIF(L43:L54,AI10)","v":7},null,null,null,{"$f":"N10","v":122},{"$f":"COUNTIF(L55:L66,AN10)","v":5},null,null,null,{"$f":"N10","v":122},{"$f":"COUNTIF(L67:L78,AS10)","v":5}]
[11,487,21,495,21,502,null,null,null,null,0,122,null,211,{"$f":"COUNTIF($L$7:$L$500,N11)","v":0},{"$f":"O11/$Q$4","v":0},{"$f":"IF(P11=0,0,(P11*((LOG(P11))/LOG(2))))","v":0},null,null,{"$f":"N11","v":211},{"$f":"COUNTIF(L7:L18,T11)","v":0},{"$f":"U11/(W4-U10)","v":0},{"$f":"IF(V11=0,0,(V11*((LOG(V11))/LOG(2))))","v":0},null,{"$f":"N11","v":211},{"$f":"COUNTIF(L19:L30,Y11)","v":0},{"$f":"Z11/(AB4-Z10)","v":0},{"$f":"IF(AA11=0,0,(AA11*((LOG(AA11))/LOG(2))))","v":0},null,{"$f":"N11","v":211},{"$f":"COUNTIF(L31:L42,AD11)","v":0},{"$f":"AE11/(AG4-AE10)","v":0},{"$f":"IF(AF11=0,0,(AF11*((LOG(AF11))/LOG(2))))","v":0},null,{"$f":"N11","v":211},{"$f":"COUNTIF(L43:L54,AI11)","v":0},{"$f":"AJ11/(AL4-AJ10)","v":0},{"$f":"IF(AK11=0,0,(AK11*((LOG(AK11))/LOG(2))))","v":0},null,{"$f":"N11","v":211},{"$f":"COUNTIF(L55:L66,AN11)","v":0},{"$f":"AO11/(AQ4-AO10)","v":0},{"$f":"IF(AP11=0,0,(AP11*((LOG(AP11))/LOG(2))))","v":0},null,{"$f":"N11","v":211},{"$f":"COUNTIF(L67:L78,AS11)","v":0},{"$f":"AT11/(AV4-AT10)","v":0},{"$f":"IF(AU11=0,0,(AU11*((LOG(AU11))/LOG(2))))","v":0}]
[11,591,21,600,21,607,null,null,null,null,0,122,null,212,{"$f":"COUNTIF($L$7:$L$500,N12)","v":0},{"$f":"O12/$Q$4","v":0},{"$f":"IF(P12=0,0,(P12*((LOG(P12))/LOG(2))))","v":0},null,null,{"$f":"N12","v":212},{"$f":"COUNTIF(L7:L18,T12)","v":0},{"$f":"U12/(W4-U10)","v":0},{"$f":"IF(V12=0,0,(V12*((LOG(V12))/LOG(2))))","v":0},null,{"$f":"N12","v":212},{"$f":"COUNTIF(L19:L30,Y12)","v":0},{"$f":"Z12/(AB4-Z10)","v":0},{"$f":"IF(AA12=0,0,(AA12*((LOG(AA12))/LOG(2))))","v":0},null,{"$f":"N12","v":212},{"$f":"COUNTIF(L31:L42,AD12)","v":0},{"$f":"AE12/(AG4-AE10)","v":0},{"$f":"IF(AF12=0,0,(AF12*((LOG(AF12))/LOG(2))))","v":0},null,{"$f":"N12","v":212},{"$f":"COUNTIF(L43:L54,AI12)","v":0},{"$f":"AJ12/(AL4-AJ10)","v":0},{"$f":"IF(AK12=0,0,(AK12*((LOG(AK12))/LOG(2))))","v":0},null,{"$f":"N12","v":212},{"$f":"COUNTIF(L55:L66,AN12)","v":0},{"$f":"AO12/(AQ4-AO10)","v":0},{"$f":"IF(AP12=0,0,(AP12*((LOG(AP12))/LOG(2))))","v":0},null,{"$f":"N12","v":212},{"$f":"COUNTIF(L67:L78,AS12)","v":0},{"$f":"AT12/(AV4-AT10)","v":0},{"$f":"IF(AU12=0,0,(AU12*((LOG(AU12))/LOG(2))))","v":0}]
[11,717,12,723,23,738,null,null,null,null,0,112,null,221,{"$f":"COUNTIF($L$7:$L$500,N13)","v":0},{"$f":"O13/$Q$4","v":0},{"$f":"IF(P13=0,0,(P13*((LOG(P13))/LOG(2))))","v":0},null,null,{"$f":"N13","v":221},{"$f":"COUNTIF(L7:L18,T13)","v":0},{"$f":"U13/(W4-U10)","v":0},{"$f":"IF(V13=0,0,(V13*((LOG(V13))/LOG(2))))","v":0},null,{"$f":"N13","v":221},{"$f":"COUNTIF(L19:L30,Y13)","v":0},{"$f":"Z13/(AB4-Z10)","v":0},{"$f":"IF(AA13=0,0,(AA13*((LOG(AA13))/LOG(2))))","v":0},null,{"$f":"N13","v":221},{"$f":"COUNTIF(L31:L42,AD13)","v":0},{"$f":"AE13/(AG4-AE10)","v":0},{"$f":"IF(AF13=0,0,(AF13*((LOG(AF13))/LOG(2))))","v":0},null,{"$f":"N13","v":221},{"$f":"COUNTIF(L43:L54,AI13)","v":0},{"$f":"AJ13/(AL4-AJ10)","v":0},{"$f":"IF(AK13=0,0,(AK13*((LOG(AK13))/LOG(2))))","v":0},null,{"$f":"N13","v":221},{"$f":"COUNTIF(L55:L66,AN13)","v":0},{"$f":"AO13/(AQ4-AO10)","v":0},{"$f":"IF(AP13=0,0,(AP13*((LOG(AP13))/LOG(2))))","v":0},null,{"$f":"N13","v":221},{"$f":"COUNTIF(L67:L78,AS13)","v":0},{"$f":"AT13/(AV4-AT10)","v":0},{"$f":"IF(AU13=0,0,(AU13*((LOG(AU13))/LOG(2))))","v":0}]
[11,827,21,838,21,846,null,null,null,null,0,122,null,222,{"$f":"COUNTIF($L$7:$L$500,N14)","v":12},{"$f":"O14/$Q$4","v":0.16666666666666666},{"$f":"IF(P14=0,0,(P14*((LOG(P14))/LOG(2))))","v":-0.43082708345352599},null,null,{"$f":"N14","v":222},{"$f":"COUNTIF(L7:L18,T14)","v":5},{"$f":"U14/(W4-U10)","v":0.83333333333333337},{"$f":"IF(V14=0,0,(V14*((LOG(V14))/LOG(2))))","v":-0.21919533819482812},null,{"$f":"N14","v":222},{"$f":"COUNTIF(L19:L30,Y14)","v":4},{"$f":"Z14/(AB4-Z10)","v":0.8},{"$f":"IF(AA14=0,0,(AA14*((LOG(AA14))/LOG(2))))","v":-0.25754247590988982},null,{"$f":"N14","v":222},{"$f":"COUNTIF(L31:L42,AD14)","v":0},{"$f":"AE14/(AG4-AE10)","v":0},{"$f":"IF(AF14=0,0,(AF14*((LOG(AF14))/LOG(2))))","v":0},null,{"$f":"N14","v":222},{"$f":"COUNTIF(L43:L54,AI14)","v":2},{"$f":"AJ14/(AL4-AJ10)","v":0.4},{"$f":"IF(AK14=0,0,(AK14*((LOG(AK14))/LOG(2))))","v":-0.52877123795494496},null,{"$f":"N14","v":222},{"$f":"COUNTIF(L55:L66,AN14)","v":0},{"$f":"AO14/(AQ4-AO10)","v":0},{"$f":"IF(AP14=0,0,(AP14*((LOG(AP14))/LOG(2))))","v":0},null,{"$f":"N14","v":222},{"$f":"COUNTIF(L67:L78,AS14)","v":1},{"$f":"AT14/(AV4-AT10)","v":0.14285714285714285},{"$f":"IF(AU14=0,0,(AU14*((LOG(AU14))/LOG(2))))","v":-0.40105070315108626}]
[22,945,23,952,23,966,null,null,null,null,0,222,null,null,null,{"$f":"SUM(P7:P14)","v":0.99999999999999989},{"$f":"-SUM(Q7:Q14)","v":1.6009836948811089},null,null,null,null,{"$f":"SUM(V7:V14)","v":1},{"$f":"-SUM(W7:W14)","v":0.65002242164835411},null,null,null,{"$f":"SUM(AA7:AA14)","v":1},{"$f":"-SUM(AB7:AB14)","v":0.72192809488736231},null,null,null,{"$f":"SUM(AF7:AF14)","v":1},{"$f":"-SUM(AG7:AG14)","v":0.91829583405448945},null,null,null,{"$f":"SUM(AK7:AK14)","v":1},{"$f":"-SUM(AL7:AL14)","v":0.97095059445466869},null,null,null,{"$f":"SUM(AP7:AP14)","v":1},{"$f":"-SUM(AQ7:AQ14)","v":0.59167277858232736},null,null,null,{"$f":"SUM(AU7:AU14)","v":1},{"$f":"-SUM(AV7:AV14)","v":1.1488348542809166}]
[22,1071,23,1081,23,1092,null,null,null,null,0,222,null,null,null,"U=",{"$f":"Q15/(LOG(Q4)/LOG(2))","v":0.25948187287638913},null,null,null,null,"U1=",{"$f":"W15/(LOG(W4)/LOG(2))","v":0.18131916903387263},null,null,null,"U2=",{"$f":"AB15/(LOG(AB4)/LOG(2))","v":0.20137674933618921},null,null,null,"U3=",{"$f":"AG15/(LOG(AG4)/LOG(2))","v":0.2561521449303204},null,null,null,"U4=",{"$f":"AL15/(LOG(AL4)/LOG(2))","v":0.27083981889890085},null,null,null,"U5=",{"$f":"AQ15/(LOG(AQ4)/LOG(2))","v":0.16504294771934311},null,null,null,"U6=",{"$f":"AV15/(LOG(AV4)/LOG(2))","v":0.32045937831980537}]
[11,1189,21,1200,21,1206,null,null,null,null,0,122]
[11,1296,21,1307,21,1317,null,null,null,null,0,122]
[22,1416,23,1423,23,1431,null,null,null,null,0,222,null,"Total Target Seq"]
[22,1538,23,1545,23,1567,null,null,null,null,0,222,null,{"$f":"COUNTIF(L7:L78,G3)","v":39},null,12,12,12,12,12,12]
[11,1664,21,1675,21,1683,null,null,null,null,0,122,null,null,null,"% of reinforcement given in 6 equal intervals based on number of trials "]
[11,1771,21,1785,21,1795,null,null,null,null,0,122,null,null,null,"%_1","%_2","%_3","%_4","%_5","%_6"]
[11,1882,21,1894,21,1901,null,null,null,null,0,122,null,null,"target sequence",{"$f":"$G$3","v":122},{"$f":"$G$3","v":122},{"$f":"$G$3","v":122},{"$f":"$G$3","v":122},{"$f":"$G$3","v":122},{"$f":"$G$3","v":122}]
[11,2006,21,2018,21,2025,null,null,null,null,0,122,null,null,"total reinforcement",{"$f":"U10","v":6},{"$f":"Z10","v":7},{"$f":"AE10","v":9},{"$f":"AJ10","v":7},{"$f":"AO10","v":5},{"$f":"AT10","v":5}]
[11,2114,12,2121,23,2131,null,null,null,null,0,112,null,null,"% target"]
[11,2227,21,2237,21,2245,null,null,null,null,0,122,null,null,"CCRF"]
[11,2352,21,2362,21,2369,null,null,null,null,0,122,null,null,"% CCRf"]
[22,2469,23,2476,23,2486,null,null,null,null,0,222,null,null,"average response rate",{"$f":"F18/P20","v":109.75},{"$f":"(F30-F18)/Q20","v":117.25},{"$f":"(F42-F30)/R20","v":113.08333333333333},{"$f":"(F54-F42)/S20","v":114.66666666666667},{"$f":"(F66-F54)/T20","v":110.58333333333333},{"$f":"(F78-F66)/U20","v":113}]
[11,2583,21,2593,21,2600,null,null,null,null,0,122]
[22,2710,23,2716,23,2724,null,null,null,null,0,222]
[11,2820,21,2831,21,2838,null,null,null,null,0,122]
[11,2927,21,2937,21,2944,null,null,null,null,0,122]
[11,3044,21,3055,21,3062,null,null,null,null,0,122]
[11,3150,21,3162,21,3168,null,null,null,null,0,122]
[11,3254,12,3265,23,3276,null,null,null,null,0,112]
[11,3379,12,3387,14,3395,null,null,null,null,0,111]
[11,3491,21,3501,21,3509,null,null,null,null,0,122]
[11,3597,21,3608,21,3619,null,null,null,null,0,122]
[11,3730,21,3740,21,3748,null,null,null,null,0,122]
[11,3836,21,3846,21,3853,null,null,null,null,0,122]
[11,3940,21,3951,21,3958,null,null,null,null,0,122]
[11,4043,12,4070,23,4081,null,null,null,null,0,112]
[11,4177,21,4188,21,4195,null,null,null,null,0,122]
[11,4283,21,4297,21,4304,null,null,null,null,0,122]
[11,4392,21,4406,21,4412,null,null,null,null,0,122]
[11,4501,12,4507,23,4518,null,null,null,null,0,112]
[22,4627,23,4634,23,4642,null,null,null,null,0,222]
[11,4744,21,4774,21,4781,null,null,null,null,0,122]
[11,4868,21,4879,21,4886,null,null,null,null,0,122]
[11,4973,21,4983,21,4990,null,null,null,null,0,122]
[11,5078,12,5085,23,5096,null,null,null,null,0,112]
[22,5206,23,5214,23,5226,null,null,null,null,0,222]
[11,5325,12,5329,23,5343,null,null,null,null,0,112]
[11,5439,21,5450,21,5457,null,null,null,null,0,122]
[11,5548,12,5552,23,5566,null,null,null,null,0,112]
[11,5662,21,5673,21,5678,null,null,null,null,0,122]
[11,5767,12,5776,14,5784,null,null,null,null,0,111]
[11,5881,12,5885,23,5898,null,null,null,null,0,112]
[11,5994,21,6004,21,6011,null,null,null,null,0,122]
[11,6097,21,6108,21,6115,null,null,null,null,0,122]
[11,6203,21,6226,21,6237,null,null,null,null,0,122]
[11,6324,12,6328,23,6342,null,null,null,null,0,112]
[11,6438,21,6450,21,6457,null,null,null,null,0,122]
[11,6545,12,6549,23,6563,null,null,null,null,0,112]
[11,6659,12,6663,23,6674,null,null,null,null,0,112]
[11,6769,12,6773,23,6784,null,null,null,null,0,112]
[11,6880,12,6883,23,6897,null,null,null,null,0,112]
[22,7008,23,7016,23,7027,null,null,null,null,0,222]
[11,7123,21,7134,21,7140,null,null,null,null,0,122]
[11,7227,21,7240,21,7247,null,null,null,null,0,122]
[11,7334,21,7354,21,7361,null,null,null,null,0,122]
[11,7449,21,7460,21,7467,null,null,null,null,0,122]
[11,7561,12,7565,23,7580,null,null,null,null,0,112]
[11,7676,12,7682,14,7690,null,null,null,null,0,111]
[11,7788,12,7792,23,7803,null,null,null,null,0,112]
[11,7898,12,7903,23,7914,null,null,null,null,0,112]
[11,8010,12,8013,23,8023,null,null,null,null,0,112]
[11,8119,21,8133,21,8140,null,null,null,null,1,122]

{"sheet":"!M725A00.104","index":13,"n_rows":54,"n_cols":48,"rows_kept":54,"cut":false,"hidden":false,"merged":[[4,39,4,42],[5,39,5,40],[4,44,4,47],[5,44,5,45],[4,24,4,27],[5,24,5,25],[4,29,4,32],[5,29,5,30],[4,34,4,37],[5,34,5,35],[1,1,1,2],[5,13,5,14],[18,13,18,14],[19,13,19,14],[4,19,4,22],[5,19,5,20]]}
["Report for:!M725A00.104"]
["Date:","<date>"]
["Hen:","<hen>",null,null,null,"Correct Sequence",{"$f":"Start!J2","v":122},null,null,null,null,null,null,null,null,"Total Sequences in Data",{"$f":"4994-COUNTBLANK(L7:L5000)","v":48},null,null,null,null,"Total Sequences in Block Data",{"$f":"COUNTA(L7:L14)","v":8},null,null,null,"Total Sequences in Block Data",{"$f":"COUNTA(L15:L22)","v":8},null,null,null,"Total Sequences in Block Data",{"$f":"COUNTA(L23:L30)","v":8},null,null,null,"Total Sequences in Block Data",{"$f":"COUNTA(L31:L38)","v":8},null,null,null,"Total Sequences in Block Data",{"$f":"COUNTA(L39:L46)","v":8},null,null,null,"Total Sequences in Block Data",{"$f":"COUNTA(L47:L54)","v":8}]
[null,null,null,null,null,null,null,null,null,null,null,null,null,null,null,"Total Sequences in Summary",{"$f":"SUM(O7:O14)","v":48},null,null,null,null,"Total Sequences in Block Summary",{"$f":"SUM(U7:U14)","v":8},null,null,null,"Total Sequences in Block Summary",{"$f":"SUM(Z7:Z14)","v":8},null,null,null,"Total Sequences in Block Summary",{"$f":"SUM(AE7:AE14)","v":8},null,null,null,"Total Sequences in Block Summary",{"$f":"SUM(AJ7:AJ14)","v":8},null,null,null,"Total Sequences in Block Summary",{"$f":"SUM(AO7:AO14)","v":8},null,null,null,"Total Sequences in Block Summary",{"$f":"SUM(AT7:AT14)","v":8}]
[null,null,null,null,null,null,null,null,null,null,null,null,null,null,null,null,null,null,null,"Block 1",null,null,null,null,"Block 2",null,null,null,null,"Block 3",null,null,null,null,"Block 4",null,null,null,null,"Block 5",null,null,null,null,"Block 6"]
["Sequence\nComponent\n1","Time\n1","Sequence\nComponent\n2","Time\n2","Sequence\nComponent\n3","Time\n3","Sequence\nComponent\n4","Time\n4","Sequence\nComponent\n5","Time\n5","Correct?\n0=No 1=Yes","Sequence",null,"Frequency",null,"Relative Frequency","Variability",null,null,"Frequency",null,"Relative Frequency","Variability",null,"Frequency",null,"Relative Frequency","Variability",null,"Frequency",null,"Relative Frequency","Variability",null,"Frequency",null,"Relative Frequency","Variability",null,"Frequency",null,"Relative Frequency","Variability",null,"Frequency",null,"Relative Frequency","Variability"]
[22,11,23,36,23,44,null,null,null,null,0,222,null,111,{"$f":"COUNTIF($L$7:$L$500,N7)","v":2},{"$f":"O7/$Q$4","v":4.1666666666666664E-2},{"$f":"IF(P7=0,0,(P7*((LOG(P7))/LOG(2))))","v":-0.19104010419671485},null,null,{"$f":"N7","v":111},{"$f":"COUNTIF(L7:L14,T7)","v":0},{"$f":"U7/(W4-U10)","v":0},{"$f":"IF(V7=0,0,(V7*((LOG(V7))/LOG(2))))","v":0},null,{"$f":"N7","v":111},{"$f":"COUNTIF(L15:L22,Y7)","v":0},{"$f":"Z7/(AB4-Z10)","v":0},{"$f":"IF(AA7=0,0,(AA7*((LOG(AA7))/LOG(2))))","v":0},null,{"$f":"N7","v":111},{"$f":"COUNTIF(L23:L30,AD7)","v":2},{"$f":"AE7/(AG4-AE10)","v":0.66666666666666663},{"$f":"IF(AF7=0,0,(AF7*((LOG(AF7))/LOG(2))))","v":-0.38997500048077083},null,{"$f":"N7","v":111},{"$f":"COUNTIF(L31:L38,AI7)","v":0},{"$f":"AJ7/(AL4-AJ10)","v":0},{"$f":"IF(AK7=0,0,(AK7*((LOG(AK7))/LOG(2))))","v":0},null,{"$f":"N7","v":111},{"$f":"COUNTIF(L39:L46,AN7)","v":0},{"$f":"AO7/(AQ4-AO10)","v":0},{"$f":"IF(AP7=0,0,(AP7*((LOG(AP7))/LOG(2))))","v":0},null,{"$f":"N7","v":111},{"$f":"COUNTIF(L47:L54,AS7)","v":0},{"$f":"AT7/(AV4-AT10)","v":{"$error":"#DIV/0!"}},{"$f":"IF(AU7=0,0,(AU7*((LOG(AU7))/LOG(2))))","v":{"$error":"#DIV/0!"}}]
[11,146,21,154,21,161,null,null,null,null,0,122,null,112,{"$f":"COUNTIF($L$7:$L$500,N8)","v":4},{"$f":"O8/$Q$4","v":8.3333333333333329E-2},{"$f":"IF(P8=0,0,(P8*((LOG(P8))/LOG(2))))","v":-0.29874687506009634},null,null,{"$f":"N8","v":112},{"$f":"COUNTIF(L7:L14,T8)","v":0},{"$f":"U8/(W4-U10)","v":0},{"$f":"IF(V8=0,0,(V8*((LOG(V8))/LOG(2))))","v":0},null,{"$f":"N8","v":112},{"$f":"COUNTIF(L15:L22,Y8)","v":2},{"$f":"Z8/(AB4-Z10)","v":0.66666666666666663},{"$f":"IF(AA8=0,0,(AA8*((LOG(AA8))/LOG(2))))","v":-0.38997500048077083},null,{"$f":"N8","v":112},{"$f":"COUNTIF(L23:L30,AD8)","v":1},{"$f":"AE8/(AG4-AE10)","v":0.33333333333333331},{"$f":"IF(AF8=0,0,(AF8*((LOG(AF8))/LOG(2))))","v":-0.52832083357371862},null,{"$f":"N8","v":112},{"$f":"COUNTIF(L31:L38,AI8)","v":1},{"$f":"AJ8/(AL4-AJ10)","v":1},{"$f":"IF(AK8=0,0,(AK8*((LOG(AK8))/LOG(2))))","v":0},null,{"$f":"N8","v":112},{"$f":"COUNTIF(L39:L46,AN8)","v":0},{"$f":"AO8/(AQ4-AO10)","v":0},{"$f":"IF(AP8=0,0,(AP8*((LOG(AP8))/LOG(2))))","v":0},null,{"$f":"N8","v":112},{"$f":"COUNTIF(L47:L54,AS8)","v":0},{"$f":"AT8/(AV4-AT10)","v":{"$error":"#DIV/0!"}},{"$f":"IF(AU8=0,0,(AU8*((LOG(AU8))/LOG(2))))","v":{"$error":"#DIV/0!"}}]
[11,254,21,265,21,272,null,null,null,null,0,122,null,121,{"$f":"COUNTIF($L$7:$L$500,N9)","v":0},{"$f":"O9/$Q$4","v":0},{"$f":"IF(P9=0,0,(P9*((LOG(P9))/LOG(2))))","v":0},null,null,{"$f":"N9","v":121},{"$f":"COUNTIF(L7:L14,T9)","v":0},{"$f":"U9/(W4-U10)","v":0},{"$f":"IF(V9=0,0,(V9*((LOG(V9))/LOG(2))))","v":0},null,{"$f":"N9","v":121},{"$f":"COUNTIF(L15:L22,Y9)","v":0},{"$f":"Z9/(AB4-Z10)","v":0},{"$f":"IF(AA9=0,0,(AA9*((LOG(AA9))/LOG(2))))","v":0},null,{"$f":"N9","v":121},{"$f":"COUNTIF(L23:L30,AD9)","v":0},{"$f":"AE9/(AG4-AE10)","v":0},{"$f":"IF(AF9=0,0,(AF9*((LOG(AF9))/LOG(2))))","v":0},null,{"$f":"N9","v":121},{"$f":"COUNTIF(L31:L38,AI9)","v":0},{"$f":"AJ9/(AL4-AJ10)","v":0},{"$f":"IF(AK9=0,0,(AK9*((LOG(AK9))/LOG(2))))","v":0},null,{"$f":"N9","v":121},{"$f":"COUNTIF(L39:L46,AN9)","v":0},{"$f":"AO9/(AQ4-AO10)","v":0},{"$f":"IF(AP9=0,0,(AP9*((LOG(AP9))/LOG(2))))","v":0},null,{"$f":"N9","v":121},{"$f":"COUNTIF(L47:L54,AS9)","v":0},{"$f":"AT9/(AV4-AT10)","v":{"$error":"#DIV/0!"}},{"$f":"IF(AU9=0,0,(AU9*((LOG(AU9))/LOG(2))))","v":{"$error":"#DIV/0!"}}]
[11,367,21,386,21,393,null,null,null,null,0,122,null,122,{"$f":"COUNTIF($L$7:$L$500,N10)","v":39},{"$f":"O10/$Q$4","v":0.8125},{"$f":"IF(P10=0,0,(P10*((LOG(P10))/LOG(2))))","v":-0.24339272901036266},null,null,{"$f":"N10","v":122},{"$f":"COUNTIF(L7:L14,T10)","v":7},null,null,null,{"$f":"N10","v":122},{"$f":"COUNTIF(L15:L22,Y10)","v":5},null,null,null,{"$f":"N10","v":122},{"$f":"COUNTIF(L23:L30,AD10)","v":5},null,null,null,{"$f":"N10","v":122},{"$f":"COUNTIF(L31:L38,AI10)","v":7},null,null,null,{"$f":"N10","v":122},{"$f":"COUNTIF(L39:L46,AN10)","v":7},null,null,null,{"$f":"N10","v":122},{"$f":"COUNTIF(L47:L54,AS10)","v":8}]
[11,486,21,498,21,505,null,null,null,null,0,122,null,211,{"$f":"COUNTIF($L$7:$L$500,N11)","v":0},{"$f":"O11/$Q$4","v":0},{"$f":"IF(P11=0,0,(P11*((LOG(P11))/LOG(2))))","v":0},null,null,{"$f":"N11","v":211},{"$f":"COUNTIF(L7:L14,T11)","v":0},{"$f":"U11/(W4-U10)","v":0},{"$f":"IF(V11=0,0,(V11*((LOG(V11))/LOG(2))))","v":0},null,{"$f":"N11","v":211},{"$f":"COUNTIF(L15:L22,Y11)","v":0},{"$f":"Z11/(AB4-Z10)","v":0},{"$f":"IF(AA11=0,0,(AA11*((LOG(AA11))/LOG(2))))","v":0},null,{"$f":"N11","v":211},{"$f":"COUNTIF(L23:L30,AD11)","v":0},{"$f":"AE11/(AG4-AE10)","v":0},{"$f":"IF(AF11=0,0,(AF11*((LOG(AF11))/LOG(2))))","v":0},null,{"$f":"N11","v":211},{"$f":"COUNTIF(L31:L38,AI11)","v":0},{"$f":"AJ11/(AL4-AJ10)","v":0},{"$f":"IF(AK11=0,0,(AK11*((LOG(AK11))/LOG(2))))","v":0},null,{"$f":"N11","v":211},{"$f":"COUNTIF(L39:L46,AN11)","v":0},{"$f":"AO11/(AQ4-AO10)","v":0},{"$f":"IF(AP11=0,0,(AP11*((LOG(AP11))/LOG(2))))","v":0},null,{"$f":"N11","v":211},{"$f":"COUNTIF(L47:L54,AS11)","v":0},{"$f":"AT11/(AV4-AT10)","v":{"$error":"#DIV/0!"}},{"$f":"IF(AU11=0,0,(AU11*((LOG(AU11))/LOG(2))))","v":{"$error":"#DIV/0!"}}]
[11,598,21,610,21,617,null,null,null,null,0,122,null,212,{"$f":"COUNTIF($L$7:$L$500,N12)","v":0},{"$f":"O12/$Q$4","v":0},{"$f":"IF(P12=0,0,(P12*((LOG(P12))/LOG(2))))","v":0},null,null,{"$f":"N12","v":212},{"$f":"COUNTIF(L7:L14,T12)","v":0},{"$f":"U12/(W4-U10)","v":0},{"$f":"IF(V12=0,0,(V12*((LOG(V12))/LOG(2))))","v":0},null,{"$f":"N12","v":212},{"$f":"COUNTIF(L15:L22,Y12)","v":0},{"$f":"Z12/(AB4-Z10)","v":0},{"$f":"IF(AA12=0,0,(AA12*((LOG(AA12))/LOG(2))))","v":0},null,{"$f":"N12","v":212},{"$f":"COUNTIF(L23:L30,AD12)","v":0},{"$f":"AE12/(AG4-AE10)","v":0},{"$f":"IF(AF12=0,0,(AF12*((LOG(AF12))/LOG(2))))","v":0},null,{"$f":"N12","v":212},{"$f":"COUNTIF(L31:L38,AI12)","v":0},{"$f":"AJ12/(AL4-AJ10)","v":0},{"$f":"IF(AK12=0,0,(AK12*((LOG(AK12))/LOG(2))))","v":0},null,{"$f":"N12","v":212},{"$f":"COUNTIF(L39:L46,AN12)","v":0},{"$f":"AO12/(AQ4-AO10)","v":0},{"$f":"IF(AP12=0,0,(AP12*((LOG(AP12))/LOG(2))))","v":0},null,{"$f":"N12","v":212},{"$f":"COUNTIF(L47:L54,AS12)","v":0},{"$f":"AT12/(AV4-AT10)","v":{"$error":"#DIV/0!"}},{"$f":"IF(AU12=0,0,(AU12*((LOG(AU12))/LOG(2))))","v":{"$error":"#DIV/0!"}}]
[11,706,21,715,21,722,null,null,null,null,0,122,null,221,{"$f":"COUNTIF($L$7:$L$500,N13)","v":0},{"$f":"O13/$Q$4","v":0},{"$f":"IF(P13=0,0,(P13*((LOG(P13))/LOG(2))))","v":0},null,null,{"$f":"N13","v":221},{"$f":"COUNTIF(L7:L14,T13)","v":0},{"$f":"U13/(W4-U10)","v":0},{"$f":"IF(V13=0,0,(V13*((LOG(V13))/LOG(2))))","v":0},null,{"$f":"N13","v":221},{"$f":"COUNTIF(L15:L22,Y13)","v":0},{"$f":"Z13/(AB4-Z10)","v":0},{"$f":"IF(AA13=0,0,(AA13*((LOG(AA13))/LOG(2))))","v":0},null,{"$f":"N13","v":221},{"$f":"COUNTIF(L23:L30,AD13)","v":0},{"$f":"AE13/(AG4-AE10)","v":0},{"$f":"IF(AF13=0,0,(AF13*((LOG(AF13))/LOG(2))))","v":0},null,{"$f":"N13","v":221},{"$f":"COUNTIF(L31:L38,AI13)","v":0},{"$f":"AJ13/(AL4-AJ10)","v":0},{"$f":"IF(AK13=0,0,(AK13*((LOG(AK13))/LOG(2))))","v":0},null,{"$f":"N13","v":221},{"$f":"COUNTIF(L39:L46,AN13)","v":0},{"$f":"AO13/(AQ4-AO10)","v":0},{"$f":"IF(AP13=0,0,(AP13*((LOG(AP13))/LOG(2))))","v":0},null,{"$f":"N13","v":221},{"$f":"COUNTIF(L47:L54,AS13)","v":0},{"$f":"AT13/(AV4-AT10)","v":{"$error":"#DIV/0!"}},{"$f":"IF(AU13=0,0,(AU13*((LOG(AU13))/LOG(2))))","v":{"$error":"#DIV/0!"}}]
[11,812,21,824,21,831,null,null,null,null,0,122,null,222,{"$f":"COUNTIF($L$7:$L$500,N14)","v":3},{"$f":"O14/$Q$4","v":6.25E-2},{"$f":"IF(P14=0,0,(P14*((LOG(P14))/LOG(2))))","v":-0.25},null,null,{"$f":"N14","v":222},{"$f":"COUNTIF(L7:L14,T14)","v":1},{"$f":"U14/(W4-U10)","v":1},{"$f":"IF(V14=0,0,(V14*((LOG(V14))/LOG(2))))","v":0},null,{"$f":"N14","v":222},{"$f":"COUNTIF(L15:L22,Y14)","v":1},{"$f":"Z14/(AB4-Z10)","v":0.33333333333333331},{"$f":"IF(AA14=0,0,(AA14*((LOG(AA14))/LOG(2))))","v":-0.52832083357371862},null,{"$f":"N14","v":222},{"$f":"COUNTIF(L23:L30,AD14)","v":0},{"$f":"AE14/(AG4-AE10)","v":0},{"$f":"IF(AF14=0,0,(AF14*((LOG(AF14))/LOG(2))))","v":0},null,{"$f":"N14","v":222},{"$f":"COUNTIF(L31:L38,AI14)","v":0},{"$f":"AJ14/(AL4-AJ10)","v":0},{"$f":"IF(AK14=0,0,(AK14*((LOG(AK14))/LOG(2))))","v":0},null,{"$f":"N14","v":222},{"$f":"COUNTIF(L39:L46,AN14)","v":1},{"$f":"AO14/(AQ4-AO10)","v":1},{"$f":"IF(AP14=0,0,(AP14*((LOG(AP14))/LOG(2))))","v":0},null,{"$f":"N14","v":222},{"$f":"COUNTIF(L47:L54,AS14)","v":0},{"$f":"AT14/(AV4-AT10)","v":{"$error":"#DIV/0!"}},{"$f":"IF(AU14=0,0,(AU14*((LOG(AU14))/LOG(2))))","v":{"$error":"#DIV/0!"}}]
[11,919,21,930,21,938,null,null,null,null,0,122,null,null,null,{"$f":"SUM(P7:P14)","v":1},{"$f":"-SUM(Q7:Q14)","v":0.98317970826717382},null,null,null,null,{"$f":"SUM(V7:V14)","v":1},{"$f":"-SUM(W7:W14)","v":0},null,null,null,{"$f":"SUM(AA7:AA14)","v":1},{"$f":"-SUM(AB7:AB14)","v":0.91829583405448945},null,null,null,{"$f":"SUM(AF7:AF14)","v":1},{"$f":"-SUM(AG7:AG14)","v":0.91829583405448945},null,null,null,{"$f":"SUM(AK7:AK14)","v":1},{"$f":"-SUM(AL7:AL14)","v":0},null,null,null,{"$f":"SUM(AP7:AP14)","v":1},{"$f":"-SUM(AQ7:AQ14)","v":0},null,null,null,{"$f":"SUM(AU7:AU14)","v":{"$error":"#DIV/0!"}},{"$f":"-SUM(AV7:AV14)","v":{"$error":"#DIV/0!"}}]
[22,1039,23,1046,23,1058,null,null,null,null,0,222,null,null,null,"U=",{"$f":"Q15/(LOG(Q4)/LOG(2))","v":0.17604052097757525},null,null,null,null,"U1=",{"$f":"W15/(LOG(W4)/LOG(2))","v":0},null,null,null,"U2=",{"$f":"AB15/(LOG(AB4)/LOG(2))","v":0.30609861135149646},null,null,null,"U3=",{"$f":"AG15/(LOG(AG4)/LOG(2))","v":0.30609861135149646},null,null,null,"U4=",{"$f":"AL15/(LOG(AL4)/LOG(2))","v":0},null,null,null,"U5=",{"$f":"AQ15/(LOG(AQ4)/LOG(2))","v":0},null,null,null,"U6=",{"$f":"AV15/(LOG(AV4)/LOG(2))","v":{"$error":"#DIV/0!"}}]
[11,1154,21,1165,21,1173,null,null,null,null,0,122]
[11,1261,21,1272,21,1287,null,null,null,null,0,122]
[11,1381,12,1385,23,1401,null,null,null,null,0,112,null,"Total Target Seq"]
[11,1493,21,1504,21,1512,null,null,null,null,0,122,null,{"$f":"COUNTIF(L7:L54,G3)","v":39},null,8,8,8,8,8,8]
[11,1601,21,1612,21,1619,null,null,null,null,0,122,null,null,null,"% of reinforcement given in 6 equal intervals based on number of trials "]
[11,1708,12,1719,23,1735,null,null,null,null,0,112,null,null,null,"%_1","%_2","%_3","%_4","%_5","%_6"]
[11,1834,21,1844,21,1852,null,null,null,null,0,122,null,null,"target sequence",{"$f":"$G$3","v":122},{"$f":"$G$3","v":122},{"$f":"$G$3","v":122},{"$f":"$G$3","v":122},{"$f":"$G$3","v":122},{"$f":"$G$3","v":122}]
[11,1946,21,1960,21,1967,null,null,null,null,0,122,null,null,"total reinforcement",{"$f":"U10","v":7},{"$f":"Z10","v":5},{"$f":"AE10","v":5},{"$f":"AJ10","v":7},{"$f":"AO10","v":7},{"$f":"AT10","v":8}]
[11,2055,12,2062,14,2070,null,null,null,null,0,111,null,null,"% target"]
[11,2166,12,2171,14,2181,null,null,null,null,0,111,null,null,"CCRF"]
[11,2277,12,2281,23,2290,null,null,null,null,0,112,null,null,"% CCRf"]
[11,2386,21,2397,21,2402,null,null,null,null,0,122,null,null,"average response rate",{"$f":"F14/P20","v":103.875},{"$f":"(F22-F14)/Q20","v":113},{"$f":"(F30-F22)/R20","v":110.125},{"$f":"(F38-F30)/S20","v":110.75},{"$f":"(F46-F38)/T20","v":108.375},{"$f":"(F54-F46)/U20","v":105.875}]
[11,2492,21,2504,21,2511,null,null,null,null,0,122]
[11,2598,21,2609,21,2616,null,null,null,null,0,122]
[11,2704,21,2715,21,2722,null,null,null,null,0,122]
[11,2811,21,2823,21,2830,null,null,null,null,0,122]
[11,2919,12,2923,23,2935,null,null,null,null,0,112]
[11,3031,21,3041,21,3051,null,null,null,null,0,122]
[11,3144,21,3155,21,3163,null,null,null,null,0,122]
[11,3254,21,3265,21,3271,null,null,null,null,0,122]
[11,3365,21,3379,21,3390,null,null,null,null,0,122]
[11,3483,21,3495,21,3502,null,null,null,null,0,122]
[11,3589,21,3602,21,3611,null,null,null,null,0,122]
[11,3701,21,3711,21,3718,null,null,null,null,0,122]
[11,3806,21,3818,21,3825,null,null,null,null,0,122]
[11,3913,21,3924,21,3931,null,null,null,null,0,122]
[11,4018,21,4035,21,4042,null,null,null,null,0,122]
[11,4129,21,4141,21,4148,null,null,null,null,0,122]
[22,4241,23,4246,23,4256,null,null,null,null,0,222]
[11,4352,21,4363,21,4369,null,null,null,null,0,122]
[11,4458,21,4470,21,4477,null,null,null,null,0,122]
[11,4565,21,4576,21,4583,null,null,null,null,0,122]
[11,4670,21,4680,21,4687,null,null,null,null,0,122]
[11,4773,21,4786,21,4792,null,null,null,null,0,122]
[11,4882,21,4892,21,4899,null,null,null,null,0,122]
[11,4987,21,4998,21,5005,null,null,null,null,0,122]
[11,5092,21,5103,21,5110,null,null,null,null,0,122]
[11,5198,21,5209,21,5216,null,null,null,null,1,122]

{"sheet":"!M726840.104","index":14,"n_rows":56,"n_cols":48,"rows_kept":56,"cut":false,"hidden":false,"merged":[[4,39,4,42],[5,39,5,40],[4,44,4,47],[5,44,5,45],[4,24,4,27],[5,24,5,25],[4,29,4,32],[5,29,5,30],[4,34,4,37],[5,34,5,35],[1,1,1,2],[5,13,5,14],[18,13,18,14],[19,13,19,14],[4,19,4,22],[5,19,5,20]]}
["Report for:!M726840.104"]
["Date:","<date>"]
["Hen:","<hen>",null,null,null,"Correct Sequence",{"$f":"Start!J2","v":122},null,null,null,null,null,null,null,null,"Total Sequences in Data",{"$f":"4994-COUNTBLANK(L7:L5000)","v":50},null,null,null,null,"Total Sequences in Block Data",{"$f":"COUNTA(L7:L14)","v":8},null,null,null,"Total Sequences in Block Data",{"$f":"COUNTA(L15:L23)","v":9},null,null,null,"Total Sequences in Block Data",{"$f":"COUNTA(L24:L31)","v":8},null,null,null,"Total Sequences in Block Data",{"$f":"COUNTA(L32:L39)","v":8},null,null,null,"Total Sequences in Block Data",{"$f":"COUNTA(L40:L48)","v":9},null,null,null,"Total Sequences in Block Data",{"$f":"COUNTA(L49:L56)","v":8}]
[null,null,null,null,null,null,null,null,null,null,null,null,null,null,null,"Total Sequences in Summary",{"$f":"SUM(O7:O14)","v":50},null,null,null,null,"Total Sequences in Block Summary",{"$f":"SUM(U7:U14)","v":8},null,null,null,"Total Sequences in Block Summary",{"$f":"SUM(Z7:Z14)","v":9},null,null,null,"Total Sequences in Block Summary",{"$f":"SUM(AE7:AE14)","v":8},null,null,null,"Total Sequences in Block Summary",{"$f":"SUM(AJ7:AJ14)","v":8},null,null,null,"Total Sequences in Block Summary",{"$f":"SUM(AO7:AO14)","v":9},null,null,null,"Total Sequences in Block Summary",{"$f":"SUM(AT7:AT14)","v":8}]
[null,null,null,null,null,null,null,null,null,null,null,null,null,null,null,null,null,null,null,"Block 1",null,null,null,null,"Block 2",null,null,null,null,"Block 3",null,null,null,null,"Block 4",null,null,null,null,"Block 5",null,null,null,null,"Block 6"]
["Sequence\nComponent\n1","Time\n1","Sequence\nComponent\n2","Time\n2","Sequence\nComponent\n3","Time\n3","Sequence\nComponent\n4","Time\n4","Sequence\nComponent\n5","Time\n5","Correct?\n0=No 1=Yes","Sequence",null,"Frequency",null,"Relative Frequency","Variability",null,null,"Frequency",null,"Relative Frequency","Variability",null,"Frequency",null,"Relative Frequency","Variability",null,"Frequency",null,"Relative Frequency","Variability",null,"Frequency",null,"Relative Frequency","Variability",null,"Frequency",null,"Relative Frequency","Variability",null,"Frequency",null,"Relative Frequency","Variability"]
[22,24,23,32,23,40,null,null,null,null,0,222,null,111,{"$f":"COUNTIF($L$7:$L$500,N7)","v":0},{"$f":"O7/$Q$4","v":0},{"$f":"IF(P7=0,0,(P7*((LOG(P7))/LOG(2))))","v":0},null,null,{"$f":"N7","v":111},{"$f":"COUNTIF(L7:L14,T7)","v":0},{"$f":"U7/(W4-U10)","v":0},{"$f":"IF(V7=0,0,(V7*((LOG(V7))/LOG(2))))","v":0},null,{"$f":"N7","v":111},{"$f":"COUNTIF(L15:L23,Y7)","v":0},{"$f":"Z7/(AB4-Z10)","v":0},{"$f":"IF(AA7=0,0,(AA7*((LOG(AA7))/LOG(2))))","v":0},null,{"$f":"N7","v":111},{"$f":"COUNTIF(L24:L31,AD7)","v":0},{"$f":"AE7/(AG4-AE10)","v":0},{"$f":"IF(AF7=0,0,(AF7*((LOG(AF7))/LOG(2))))","v":0},null,{"$f":"N7","v":111},{"$f":"COUNTIF(L32:L39,AI7)","v":0},{"$f":"AJ7/(AL4-AJ10)","v":0},{"$f":"IF(AK7=0,0,(AK7*((LOG(AK7))/LOG(2))))","v":0},null,{"$f":"N7","v":111},{"$f":"COUNTIF(L40:L48,AN7)","v":0},{"$f":"AO7/(AQ4-AO10)","v":0},{"$f":"IF(AP7=0,0,(AP7*((LOG(AP7))/LOG(2))))","v":0},null,{"$f":"N7","v":111},{"$f":"COUNTIF(L49:L56,AS7)","v":0},{"$f":"AT7/(AV4-AT10)","v":0},{"$f":"IF(AU7=0,0,(AU7*((LOG(AU7))/LOG(2))))","v":0}]
[22,144,23,154,23,161,null,null,null,null,0,222,null,112,{"$f":"COUNTIF($L$7:$L$500,N8)","v":0},{"$f":"O8/$Q$4","v":0},{"$f":"IF(P8=0,0,(P8*((LOG(P8))/LOG(2))))","v":0},null,null,{"$f":"N8","v":112},{"$f":"COUNTIF(L7:L14,T8)","v":0},{"$f":"U8/(W4-U10)","v":0},{"$f":"IF(V8=0,0,(V8*((LOG(V8))/LOG(2))))","v":0},null,{"$f":"N8","v":112},{"$f":"COUNTIF(L15:L23,Y8)","v":0},{"$f":"Z8/(AB4-Z10)","v":0},{"$f":"IF(AA8=0,0,(AA8*((LOG(AA8))/LOG(2))))","v":0},null,{"$f":"N8","v":112},{"$f":"COUNTIF(L24:L31,AD8)","v":0},{"$f":"AE8/(AG4-AE10)","v":0},{"$f":"IF(AF8=0,0,(AF8*((LOG(AF8))/LOG(2))))","v":0},null,{"$f":"N8","v":112},{"$f":"COUNTIF(L32:L39,AI8)","v":0},{"$f":"AJ8/(AL4-AJ10)","v":0},{"$f":"IF(AK8=0,0,(AK8*((LOG(AK8))/LOG(2))))","v":0},null,{"$f":"N8","v":112},{"$f":"COUNTIF(L40:L48,AN8)","v":0},{"$f":"AO8/(AQ4-AO10)","v":0},{"$f":"IF(AP8=0,0,(AP8*((LOG(AP8))/LOG(2))))","v":0},null,{"$f":"N8","v":112},{"$f":"COUNTIF(L49:L56,AS8)","v":0},{"$f":"AT8/(AV4-AT10)","v":0},{"$f":"IF(AU8=0,0,(AU8*((LOG(AU8))/LOG(2))))","v":0}]
[11,259,21,270,21,279,null,null,null,null,0,122,null,121,{"$f":"COUNTIF($L$7:$L$500,N9)","v":0},{"$f":"O9/$Q$4","v":0},{"$f":"IF(P9=0,0,(P9*((LOG(P9))/LOG(2))))","v":0},null,null,{"$f":"N9","v":121},{"$f":"COUNTIF(L7:L14,T9)","v":0},{"$f":"U9/(W4-U10)","v":0},{"$f":"IF(V9=0,0,(V9*((LOG(V9))/LOG(2))))","v":0},null,{"$f":"N9","v":121},{"$f":"COUNTIF(L15:L23,Y9)","v":0},{"$f":"Z9/(AB4-Z10)","v":0},{"$f":"IF(AA9=0,0,(AA9*((LOG(AA9))/LOG(2))))","v":0},null,{"$f":"N9","v":121},{"$f":"COUNTIF(L24:L31,AD9)","v":0},{"$f":"AE9/(AG4-AE10)","v":0},{"$f":"IF(AF9=0,0,(AF9*((LOG(AF9))/LOG(2))))","v":0},null,{"$f":"N9","v":121},{"$f":"COUNTIF(L32:L39,AI9)","v":0},{"$f":"AJ9/(AL4-AJ10)","v":0},{"$f":"IF(AK9=0,0,(AK9*((LOG(AK9))/LOG(2))))","v":0},null,{"$f":"N9","v":121},{"$f":"COUNTIF(L40:L48,AN9)","v":0},{"$f":"AO9/(AQ4-AO10)","v":0},{"$f":"IF(AP9=0,0,(AP9*((LOG(AP9))/LOG(2))))","v":0},null,{"$f":"N9","v":121},{"$f":"COUNTIF(L49:L56,AS9)","v":0},{"$f":"AT9/(AV4-AT10)","v":0},{"$f":"IF(AU9=0,0,(AU9*((LOG(AU9))/LOG(2))))","v":0}]
[11,372,21,386,21,394,null,null,null,null,0,122,null,122,{"$f":"COUNTIF($L$7:$L$500,N10)","v":40},{"$f":"O10/$Q$4","v":0.8},{"$f":"IF(P10=0,0,(P10*((LOG(P10))/LOG(2))))","v":-0.25754247590988982},null,null,{"$f":"N10","v":122},{"$f":"COUNTIF(L7:L14,T10)","v":5},null,null,null,{"$f":"N10","v":122},{"$f":"COUNTIF(L15:L23,Y10)","v":7},null,null,null,{"$f":"N10","v":122},{"$f":"COUNTIF(L24:L31,AD10)","v":7},null,null,null,{"$f":"N10","v":122},{"$f":"COUNTIF(L32:L39,AI10)","v":7},null,null,null,{"$f":"N10","v":122},{"$f":"COUNTIF(L40:L48,AN10)","v":8},null,null,null,{"$f":"N10","v":122},{"$f":"COUNTIF(L49:L56,AS10)","v":6}]
[11,482,21,495,21,503,null,null,null,null,0,122,null,211,{"$f":"COUNTIF($L$7:$L$500,N11)","v":0},{"$f":"O11/$Q$4","v":0},{"$f":"IF(P11=0,0,(P11*((LOG(P11))/LOG(2))))","v":0},null,null,{"$f":"N11","v":211},{"$f":"COUNTIF(L7:L14,T11)","v":0},{"$f":"U11/(W4-U10)","v":0},{"$f":"IF(V11=0,0,(V11*((LOG(V11))/LOG(2))))","v":0},null,{"$f":"N11","v":211},{"$f":"COUNTIF(L15:L23,Y11)","v":0},{"$f":"Z11/(AB4-Z10)","v":0},{"$f":"IF(AA11=0,0,(AA11*((LOG(AA11))/LOG(2))))","v":0},null,{"$f":"N11","v":211},{"$f":"COUNTIF(L24:L31,AD11)","v":0},{"$f":"AE11/(AG4-AE10)","v":0},{"$f":"IF(AF11=0,0,(AF11*((LOG(AF11))/LOG(2))))","v":0},null,{"$f":"N11","v":211},{"$f":"COUNTIF(L32:L39,AI11)","v":0},{"$f":"AJ11/(AL4-AJ10)","v":0},{"$f":"IF(AK11=0,0,(AK11*((LOG(AK11))/LOG(2))))","v":0},null,{"$f":"N11","v":211},{"$f":"COUNTIF(L40:L48,AN11)","v":0},{"$f":"AO11/(AQ4-AO10)","v":0},{"$f":"IF(AP11=0,0,(AP11*((LOG(AP11))/LOG(2))))","v":0},null,{"$f":"N11","v":211},{"$f":"COUNTIF(L49:L56,AS11)","v":0},{"$f":"AT11/(AV4-AT10)","v":0},{"$f":"IF(AU11=0,0,(AU11*((LOG(AU11))/LOG(2))))","v":0}]
[11,591,21,602,21,610,null,null,null,null,0,122,null,212,{"$f":"COUNTIF($L$7:$L$500,N12)","v":0},{"$f":"O12/$Q$4","v":0},{"$f":"IF(P12=0,0,(P12*((LOG(P12))/LOG(2))))","v":0},null,null,{"$f":"N12","v":212},{"$f":"COUNTIF(L7:L14,T12)","v":0},{"$f":"U12/(W4-U10)","v":0},{"$f":"IF(V12=0,0,(V12*((LOG(V12))/LOG(2))))","v":0},null,{"$f":"N12","v":212},{"$f":"COUNTIF(L15:L23,Y12)","v":0},{"$f":"Z12/(AB4-Z10)","v":0},{"$f":"IF(AA12=0,0,(AA12*((LOG(AA12))/LOG(2))))","v":0},null,{"$f":"N12","v":212},{"$f":"COUNTIF(L24:L31,AD12)","v":0},{"$f":"AE12/(AG4-AE10)","v":0},{"$f":"IF(AF12=0,0,(AF12*((LOG(AF12))/LOG(2))))","v":0},null,{"$f":"N12","v":212},{"$f":"COUNTIF(L32:L39,AI12)","v":0},{"$f":"AJ12/(AL4-AJ10)","v":0},{"$f":"IF(AK12=0,0,(AK12*((LOG(AK12))/LOG(2))))","v":0},null,{"$f":"N12","v":212},{"$f":"COUNTIF(L40:L48,AN12)","v":0},{"$f":"AO12/(AQ4-AO10)","v":0},{"$f":"IF(AP12=0,0,(AP12*((LOG(AP12))/LOG(2))))","v":0},null,{"$f":"N12","v":212},{"$f":"COUNTIF(L49:L56,AS12)","v":0},{"$f":"AT12/(AV4-AT10)","v":0},{"$f":"IF(AU12=0,0,(AU12*((LOG(AU12))/LOG(2))))","v":0}]
[22,708,23,716,23,723,null,null,null,null,0,222,null,221,{"$f":"COUNTIF($L$7:$L$500,N13)","v":0},{"$f":"O13/$Q$4","v":0},{"$f":"IF(P13=0,0,(P13*((LOG(P13))/LOG(2))))","v":0},null,null,{"$f":"N13","v":221},{"$f":"COUNTIF(L7:L14,T13)","v":0},{"$f":"U13/(W4-U10)","v":0},{"$f":"IF(V13=0,0,(V13*((LOG(V13))/LOG(2))))","v":0},null,{"$f":"N13","v":221},{"$f":"COUNTIF(L15:L23,Y13)","v":0},{"$f":"Z13/(AB4-Z10)","v":0},{"$f":"IF(AA13=0,0,(AA13*((LOG(AA13))/LOG(2))))","v":0},null,{"$f":"N13","v":221},{"$f":"COUNTIF(L24:L31,AD13)","v":0},{"$f":"AE13/(AG4-AE10)","v":0},{"$f":"IF(AF13=0,0,(AF13*((LOG(AF13))/LOG(2))))","v":0},null,{"$f":"N13","v":221},{"$f":"COUNTIF(L32:L39,AI13)","v":0},{"$f":"AJ13/(AL4-AJ10)","v":0},{"$f":"IF(AK13=0,0,(AK13*((LOG(AK13))/LOG(2))))","v":0},null,{"$f":"N13","v":221},{"$f":"COUNTIF(L40:L48,AN13)","v":0},{"$f":"AO13/(AQ4-AO10)","v":0},{"$f":"IF(AP13=0,0,(AP13*((LOG(AP13))/LOG(2))))","v":0},null,{"$f":"N13","v":221},{"$f":"COUNTIF(L49:L56,AS13)","v":0},{"$f":"AT13/(AV4-AT10)","v":0},{"$f":"IF(AU13=0,0,(AU13*((LOG(AU13))/LOG(2))))","v":0}]
[11,820,21,831,21,839,null,null,null,null,0,122,null,222,{"$f":"COUNTIF($L$7:$L$500,N14)","v":10},{"$f":"O14/$Q$4","v":0.2},{"$f":"IF(P14=0,0,(P14*((LOG(P14))/LOG(2))))","v":-0.46438561897747244},null,null,{"$f":"N14","v":222},{"$f":"COUNTIF(L7:L14,T14)","v":3},{"$f":"U14/(W4-U10)","v":1},{"$f":"IF(V14=0,0,(V14*((LOG(V14))/LOG(2))))","v":0},null,{"$f":"N14","v":222},{"$f":"COUNTIF(L15:L23,Y14)","v":2},{"$f":"Z14/(AB4-Z10)","v":1},{"$f":"IF(AA14=0,0,(AA14*((LOG(AA14))/LOG(2))))","v":0},null,{"$f":"N14","v":222},{"$f":"COUNTIF(L24:L31,AD14)","v":1},{"$f":"AE14/(AG4-AE10)","v":1},{"$f":"IF(AF14=0,0,(AF14*((LOG(AF14))/LOG(2))))","v":0},null,{"$f":"N14","v":222},{"$f":"COUNTIF(L32:L39,AI14)","v":1},{"$f":"AJ14/(AL4-AJ10)","v":1},{"$f":"IF(AK14=0,0,(AK14*((LOG(AK14))/LOG(2))))","v":0},null,{"$f":"N14","v":222},{"$f":"COUNTIF(L40:L48,AN14)","v":1},{"$f":"AO14/(AQ4-AO10)","v":1},{"$f":"IF(AP14=0,0,(AP14*((LOG(AP14))/LOG(2))))","v":0},null,{"$f":"N14","v":222},{"$f":"COUNTIF(L49:L56,AS14)","v":2},{"$f":"AT14/(AV4-AT10)","v":1},{"$f":"IF(AU14=0,0,(AU14*((LOG(AU14))/LOG(2))))","v":0}]
[22,945,23,952,23,963,null,null,null,null,0,222,null,null,null,{"$f":"SUM(P7:P14)","v":1},{"$f":"-SUM(Q7:Q14)","v":0.72192809488736231},null,null,null,null,{"$f":"SUM(V7:V14)","v":1},{"$f":"-SUM(W7:W14)","v":0},null,null,null,{"$f":"SUM(AA7:AA14)","v":1},{"$f":"-SUM(AB7:AB14)","v":0},null,null,null,{"$f":"SUM(AF7:AF14)","v":1},{"$f":"-SUM(AG7:AG14)","v":0},null,null,null,{"$f":"SUM(AK7:AK14)","v":1},{"$f":"-SUM(AL7:AL14)","v":0},null,null,null,{"$f":"SUM(AP7:AP14)","v":1},{"$f":"-SUM(AQ7:AQ14)","v":0},null,null,null,{"$f":"SUM(AU7:AU14)","v":1},{"$f":"-SUM(AV7:AV14)","v":0}]
[11,1062,21,1073,21,1081,null,null,null,null,0,122,null,null,null,"U=",{"$f":"Q15/(LOG(Q4)/LOG(2))","v":0.12791397771532839},null,null,null,null,"U1=",{"$f":"W15/(LOG(W4)/LOG(2))","v":0},null,null,null,"U2=",{"$f":"AB15/(LOG(AB4)/LOG(2))","v":0},null,null,null,"U3=",{"$f":"AG15/(LOG(AG4)/LOG(2))","v":0},null,null,null,"U4=",{"$f":"AL15/(LOG(AL4)/LOG(2))","v":0},null,null,null,"U5=",{"$f":"AQ15/(LOG(AQ4)/LOG(2))","v":0},null,null,null,"U6=",{"$f":"AV15/(LOG(AV4)/LOG(2))","v":0}]
[11,1172,21,1184,21,1196,null,null,null,null,0,122]
[11,1288,21,1314,21,1322,null,null,null,null,0,122]
[11,1410,21,1421,21,1428,null,null,null,null,0,122,null,"Total Target Seq"]
[11,1518,21,1530,21,1537,null,null,null,null,0,122,null,{"$f":"COUNTIF(L7:L56,G3)","v":40},null,8,9,8,8,9,8]
[22,1639,23,1646,23,1654,null,null,null,null,0,222,null,null,null,"% of reinforcement given in 6 equal intervals based on number of trials "]
[11,1751,21,1763,21,1768,null,null,null,null,0,122,null,null,null,"%_1","%_2","%_3","%_4","%_5","%_6"]
[11,1857,21,1870,21,1877,null,null,null,null,0,122,null,null,"target sequence",{"$f":"$G$3","v":122},{"$f":"$G$3","v":122},{"$f":"$G$3","v":122},{"$f":"$G$3","v":122},{"$f":"$G$3","v":122},{"$f":"$G$3","v":122}]
[11,1965,21,1978,21,1987,null,null,null,null,0,122,null,null,"total reinforcement",{"$f":"U10","v":5},{"$f":"Z10","v":7},{"$f":"AE10","v":7},{"$f":"AJ10","v":7},{"$f":"AO10","v":8},{"$f":"AT10","v":6}]
[11,2077,21,2089,21,2100,null,null,null,null,0,122,null,null,"% target"]
[11,2189,21,2200,21,2208,null,null,null,null,0,122,null,null,"CCRF"]
[11,2296,21,2312,21,2319,null,null,null,null,0,122,null,null,"% CCRf"]
[11,2409,21,2420,21,2424,null,null,null,null,0,122,null,null,"average response rate",{"$f":"F14/P20","v":104.875},{"$f":"(F23-F14)/Q20","v":115.33333333333333},{"$f":"(F31-F23)/R20","v":111.875},{"$f":"(F39-F31)/S20","v":113.375},{"$f":"(F48-F39)/T20","v":108.22222222222223},{"$f":"(F56-F48)/U20","v":115.375}]
[11,2516,21,2528,21,2544,null,null,null,null,0,122]
[22,2644,23,2649,23,2656,null,null,null,null,0,222]
[11,2752,21,2763,21,2772,null,null,null,null,0,122]
[22,2873,23,2882,23,2896,null,null,null,null,0,222]
[11,2993,21,3002,21,3007,null,null,null,null,0,122]
[11,3097,21,3108,21,3118,null,null,null,null,0,122]
[11,3209,21,3218,21,3225,null,null,null,null,0,122]
[11,3315,21,3324,21,3337,null,null,null,null,0,122]
[11,3425,21,3437,21,3453,null,null,null,null,0,122]
[11,3541,21,3560,21,3567,null,null,null,null,0,122]
[11,3661,21,3672,21,3679,null,null,null,null,0,122]
[11,3768,21,3779,21,3784,null,null,null,null,0,122]
[11,3873,21,3884,21,3891,null,null,null,null,0,122]
[11,3979,21,3990,21,3998,null,null,null,null,0,122]
[11,4087,21,4098,21,4106,null,null,null,null,0,122]
[11,4194,21,4205,21,4210,null,null,null,null,0,122]
[11,4301,21,4312,21,4321,null,null,null,null,0,122]
[11,4414,21,4427,21,4434,null,null,null,null,0,122]
[11,4523,21,4533,21,4540,null,null,null,null,0,122]
[22,4634,23,4645,23,4653,null,null,null,null,0,222]
[11,4750,21,4758,21,4765,null,null,null,null,0,122]
[11,4858,21,4870,21,4876,null,null,null,null,0,122]
[11,4966,21,4984,21,4995,null,null,null,null,0,122]
[11,5084,21,5095,21,5103,null,null,null,null,0,122]
[22,5205,23,5212,23,5226,null,null,null,null,0,222]
[11,5321,21,5332,21,5339,null,null,null,null,0,122]
[22,5441,23,5448,23,5459,null,null,null,null,0,222]
[11,5555,21,5569,21,5576,null,null,null,null,1,122]

{"sheet":"!M727A30.104","index":15,"n_rows":62,"n_cols":48,"rows_kept":62,"cut":false,"hidden":false,"merged":[[4,39,4,42],[5,39,5,40],[4,44,4,47],[5,44,5,45],[4,24,4,27],[5,24,5,25],[4,29,4,32],[5,29,5,30],[4,34,4,37],[5,34,5,35],[1,1,1,2],[5,13,5,14],[18,13,18,14],[19,13,19,14],[4,19,4,22],[5,19,5,20]]}
["Report for:!M727A30.104"]
["Date:","<date>"]
["Hen:","<hen>",null,null,null,"Correct Sequence",{"$f":"Start!J2","v":122},null,null,null,null,null,null,null,null,"Total Sequences in Data",{"$f":"4994-COUNTBLANK(L7:L5000)","v":56},null,null,null,null,"Total Sequences in Block Data",{"$f":"COUNTA(L7:L15)","v":9},null,null,null,"Total Sequences in Block Data",{"$f":"COUNTA(L16:L25)","v":10},null,null,null,"Total Sequences in Block Data",{"$f":"COUNTA(L26:L34)","v":9},null,null,null,"Total Sequences in Block Data",{"$f":"COUNTA(L35:L43)","v":9},null,null,null,"Total Sequences in Block Data",{"$f":"COUNTA(L44:L53)","v":10},null,null,null,"Total Sequences in Block Data",{"$f":"COUNTA(L54:L62)","v":9}]
[null,null,null,null,null,null,null,null,null,null,null,null,null,null,null,"Total Sequences in Summary",{"$f":"SUM(O7:O14)","v":56},null,null,null,null,"Total Sequences in Block Summary",{"$f":"SUM(U7:U14)","v":9},null,null,null,"Total Sequences in Block Summary",{"$f":"SUM(Z7:Z14)","v":10},null,null,null,"Total Sequences in Block Summary",{"$f":"SUM(AE7:AE14)","v":9},null,null,null,"Total Sequences in Block Summary",{"$f":"SUM(AJ7:AJ14)","v":9},null,null,null,"Total Sequences in Block Summary",{"$f":"SUM(AO7:AO14)","v":10},null,null,null,"Total Sequences in Block Summary",{"$f":"SUM(AT7:AT14)","v":9}]
[null,null,null,null,null,null,null,null,null,null,null,null,null,null,null,null,null,null,null,"Block 1",null,null,null,null,"Block 2",null,null,null,null,"Block 3",null,null,null,null,"Block 4",null,null,null,null,"Block 5",null,null,null,null,"Block 6"]
["Sequence\nComponent\n1","Time\n1","Sequence\nComponent\n2","Time\n2","Sequence\nComponent\n3","Time\n3","Sequence\nComponent\n4","Time\n4","Sequence\nComponent\n5","Time\n5","Correct?\n0=No 1=Yes","Sequence",null,"Frequency",null,"Relative Frequency","Variability",null,null,"Frequency",null,"Relative Frequency","Variability",null,"Frequency",null,"Relative Frequency","Variability",null,"Frequency",null,"Relative Frequency","Variability",null,"Frequency",null,"Relative Frequency","Variability",null,"Frequency",null,"Relative Frequency","Variability",null,"Frequency",null,"Relative Frequency","Variability"]
[11,7,21,15,21,22,null,null,null,null,0,122,null,111,{"$f":"COUNTIF($L$7:$L$500,N7)","v":0},{"$f":"O7/$Q$4","v":0},{"$f":"IF(P7=0,0,(P7*((LOG(P7))/LOG(2))))","v":0},null,null,{"$f":"N7","v":111},{"$f":"COUNTIF(L7:L15,T7)","v":0},{"$f":"U7/(W4-U10)","v":0},{"$f":"IF(V7=0,0,(V7*((LOG(V7))/LOG(2))))","v":0},null,{"$f":"N7","v":111},{"$f":"COUNTIF(L16:L25,Y7)","v":0},{"$f":"Z7/(AB4-Z10)","v":0},{"$f":"IF(AA7=0,0,(AA7*((LOG(AA7))/LOG(2))))","v":0},null,{"$f":"N7","v":111},{"$f":"COUNTIF(L26:L34,AD7)","v":0},{"$f":"AE7/(AG4-AE10)","v":0},{"$f":"IF(AF7=0,0,(AF7*((LOG(AF7))/LOG(2))))","v":0},null,{"$f":"N7","v":111},{"$f":"COUNTIF(L35:L43,AI7)","v":0},{"$f":"AJ7/(AL4-AJ10)","v":0},{"$f":"IF(AK7=0,0,(AK7*((LOG(AK7))/LOG(2))))","v":0},null,{"$f":"N7","v":111},{"$f":"COUNTIF(L44:L53,AN7)","v":0},{"$f":"AO7/(AQ4-AO10)","v":0},{"$f":"IF(AP7=0,0,(AP7*((LOG(AP7))/LOG(2))))","v":0},null,{"$f":"N7","v":111},{"$f":"COUNTIF(L54:L62,AS7)","v":0},{"$f":"AT7/(AV4-AT10)","v":0},{"$f":"IF(AU7=0,0,(AU7*((LOG(AU7))/LOG(2))))","v":0}]
[11,111,21,119,21,127,null,null,null,null,0,122,null,112,{"$f":"COUNTIF($L$7:$L$500,N8)","v":1},{"$f":"O8/$Q$4","v":1.7857142857142856E-2},{"$f":"IF(P8=0,0,(P8*((LOG(P8))/LOG(2))))","v":-0.10370276646531436},null,null,{"$f":"N8","v":112},{"$f":"COUNTIF(L7:L15,T8)","v":0},{"$f":"U8/(W4-U10)","v":0},{"$f":"IF(V8=0,0,(V8*((LOG(V8))/LOG(2))))","v":0},null,{"$f":"N8","v":112},{"$f":"COUNTIF(L16:L25,Y8)","v":0},{"$f":"Z8/(AB4-Z10)","v":0},{"$f":"IF(AA8=0,0,(AA8*((LOG(AA8))/LOG(2))))","v":0},null,{"$f":"N8","v":112},{"$f":"COUNTIF(L26:L34,AD8)","v":0},{"$f":"AE8/(AG4-AE10)","v":0},{"$f":"IF(AF8=0,0,(AF8*((LOG(AF8))/LOG(2))))","v":0},null,{"$f":"N8","v":112},{"$f":"COUNTIF(L35:L43,AI8)","v":0},{"$f":"AJ8/(AL4-AJ10)","v":0},{"$f":"IF(AK8=0,0,(AK8*((LOG(AK8))/LOG(2))))","v":0},null,{"$f":"N8","v":112},{"$f":"COUNTIF(L44:L53,AN8)","v":1},{"$f":"AO8/(AQ4-AO10)","v":0.25},{"$f":"IF(AP8=0,0,(AP8*((LOG(AP8))/LOG(2))))","v":-0.5},null,{"$f":"N8","v":112},{"$f":"COUNTIF(L54:L62,AS8)","v":0},{"$f":"AT8/(AV4-AT10)","v":0},{"$f":"IF(AU8=0,0,(AU8*((LOG(AU8))/LOG(2))))","v":0}]
[22,218,23,226,23,233,null,null,null,null,0,222,null,121,{"$f":"COUNTIF($L$7:$L$500,N9)","v":1},{"$f":"O9/$Q$4","v":1.7857142857142856E-2},{"$f":"IF(P9=0,0,(P9*((LOG(P9))/LOG(2))))","v":-0.10370276646531436},null,null,{"$f":"N9","v":121},{"$f":"COUNTIF(L7:L15,T9)","v":0},{"$f":"U9/(W4-U10)","v":0},{"$f":"IF(V9=0,0,(V9*((LOG(V9))/LOG(2))))","v":0},null,{"$f":"N9","v":121},{"$f":"COUNTIF(L16:L25,Y9)","v":0},{"$f":"Z9/(AB4-Z10)","v":0},{"$f":"IF(AA9=0,0,(AA9*((LOG(AA9))/LOG(2))))","v":0},null,{"$f":"N9","v":121},{"$f":"COUNTIF(L26:L34,AD9)","v":1},{"$f":"AE9/(AG4-AE10)","v":0.33333333333333331},{"$f":"IF(AF9=0,0,(AF9*((LOG(AF9))/LOG(2))))","v":-0.52832083357371862},null,{"$f":"N9","v":121},{"$f":"COUNTIF(L35:L43,AI9)","v":0},{"$f":"AJ9/(AL4-AJ10)","v":0},{"$f":"IF(AK9=0,0,(AK9*((LOG(AK9))/LOG(2))))","v":0},null,{"$f":"N9","v":121},{"$f":"COUNTIF(L44:L53,AN9)","v":0},{"$f":"AO9/(AQ4-AO10)","v":0},{"$f":"IF(AP9=0,0,(AP9*((LOG(AP9))/LOG(2))))","v":0},null,{"$f":"N9","v":121},{"$f":"COUNTIF(L54:L62,AS9)","v":0},{"$f":"AT9/(AV4-AT10)","v":0},{"$f":"IF(AU9=0,0,(AU9*((LOG(AU9))/LOG(2))))","v":0}]
[11,330,21,340,21,347,null,null,null,null,0,122,null,122,{"$f":"COUNTIF($L$7:$L$500,N10)","v":39},{"$f":"O10/$Q$4","v":0.6964285714285714},{"$f":"IF(P10=0,0,(P10*((LOG(P10))/LOG(2))))","v":-0.36350277543962278},null,null,{"$f":"N10","v":122},{"$f":"COUNTIF(L7:L15,T10)","v":8},null,null,null,{"$f":"N10","v":122},{"$f":"COUNTIF(L16:L25,Y10)","v":9},null,null,null,{"$f":"N10","v":122},{"$f":"COUNTIF(L26:L34,AD10)","v":6},null,null,null,{"$f":"N10","v":122},{"$f":"COUNTIF(L35:L43,AI10)","v":5},null,null,null,{"$f":"N10","v":122},{"$f":"COUNTIF(L44:L53,AN10)","v":6},null,null,null,{"$f":"N10","v":122},{"$f":"COUNTIF(L54:L62,AS10)","v":5}]
[11,437,21,448,21,452,null,null,null,null,0,122,null,211,{"$f":"COUNTIF($L$7:$L$500,N11)","v":0},{"$f":"O11/$Q$4","v":0},{"$f":"IF(P11=0,0,(P11*((LOG(P11))/LOG(2))))","v":0},null,null,{"$f":"N11","v":211},{"$f":"COUNTIF(L7:L15,T11)","v":0},{"$f":"U11/(W4-U10)","v":0},{"$f":"IF(V11=0,0,(V11*((LOG(V11))/LOG(2))))","v":0},null,{"$f":"N11","v":211},{"$f":"COUNTIF(L16:L25,Y11)","v":0},{"$f":"Z11/(AB4-Z10)","v":0},{"$f":"IF(AA11=0,0,(AA11*((LOG(AA11))/LOG(2))))","v":0},null,{"$f":"N11","v":211},{"$f":"COUNTIF(L26:L34,AD11)","v":0},{"$f":"AE11/(AG4-AE10)","v":0},{"$f":"IF(AF11=0,0,(AF11*((LOG(AF11))/LOG(2))))","v":0},null,{"$f":"N11","v":211},{"$f":"COUNTIF(L35:L43,AI11)","v":0},{"$f":"AJ11/(AL4-AJ10)","v":0},{"$f":"IF(AK11=0,0,(AK11*((LOG(AK11))/LOG(2))))","v":0},null,{"$f":"N11","v":211},{"$f":"COUNTIF(L44:L53,AN11)","v":0},{"$f":"AO11/(AQ4-AO10)","v":0},{"$f":"IF(AP11=0,0,(AP11*((LOG(AP11))/LOG(2))))","v":0},null,{"$f":"N11","v":211},{"$f":"COUNTIF(L54:L62,AS11)","v":0},{"$f":"AT11/(AV4-AT10)","v":0},{"$f":"IF(AU11=0,0,(AU11*((LOG(AU11))/LOG(2))))","v":0}]
[11,541,21,552,21,561,null,null,null,null,0,122,null,212,{"$f":"COUNTIF($L$7:$L$500,N12)","v":0},{"$f":"O12/$Q$4","v":0},{"$f":"IF(P12=0,0,(P12*((LOG(P12))/LOG(2))))","v":0},null,null,{"$f":"N12","v":212},{"$f":"COUNTIF(L7:L15,T12)","v":0},{"$f":"U12/(W4-U10)","v":0},{"$f":"IF(V12=0,0,(V12*((LOG(V12))/LOG(2))))","v":0},null,{"$f":"N12","v":212},{"$f":"COUNTIF(L16:L25,Y12)","v":0},{"$f":"Z12/(AB4-Z10)","v":0},{"$f":"IF(AA12=0,0,(AA12*((LOG(AA12))/LOG(2))))","v":0},null,{"$f":"N12","v":212},{"$f":"COUNTIF(L26:L34,AD12)","v":0},{"$f":"AE12/(AG4-AE10)","v":0},{"$f":"IF(AF12=0,0,(AF12*((LOG(AF12))/LOG(2))))","v":0},null,{"$f":"N12","v":212},{"$f":"COUNTIF(L35:L43,AI12)","v":0},{"$f":"AJ12/(AL4-AJ10)","v":0},{"$f":"IF(AK12=0,0,(AK12*((LOG(AK12))/LOG(2))))","v":0},null,{"$f":"N12","v":212},{"$f":"COUNTIF(L44:L53,AN12)","v":0},{"$f":"AO12/(AQ4-AO10)","v":0},{"$f":"IF(AP12=0,0,(AP12*((LOG(AP12))/LOG(2))))","v":0},null,{"$f":"N12","v":212},{"$f":"COUNTIF(L54:L62,AS12)","v":0},{"$f":"AT12/(AV4-AT10)","v":0},{"$f":"IF(AU12=0,0,(AU12*((LOG(AU12))/LOG(2))))","v":0}]
[11,648,21,656,21,663,null,null,null,null,0,122,null,221,{"$f":"COUNTIF($L$7:$L$500,N13)","v":0},{"$f":"O13/$Q$4","v":0},{"$f":"IF(P13=0,0,(P13*((LOG(P13))/LOG(2))))","v":0},null,null,{"$f":"N13","v":221},{"$f":"COUNTIF(L7:L15,T13)","v":0},{"$f":"U13/(W4-U10)","v":0},{"$f":"IF(V13=0,0,(V13*((LOG(V13))/LOG(2))))","v":0},null,{"$f":"N13","v":221},{"$f":"COUNTIF(L16:L25,Y13)","v":0},{"$f":"Z13/(AB4-Z10)","v":0},{"$f":"IF(AA13=0,0,(AA13*((LOG(AA13))/LOG(2))))","v":0},null,{"$f":"N13","v":221},{"$f":"COUNTIF(L26:L34,AD13)","v":0},{"$f":"AE13/(AG4-AE10)","v":0},{"$f":"IF(AF13=0,0,(AF13*((LOG(AF13))/LOG(2))))","v":0},null,{"$f":"N13","v":221},{"$f":"COUNTIF(L35:L43,AI13)","v":0},{"$f":"AJ13/(AL4-AJ10)","v":0},{"$f":"IF(AK13=0,0,(AK13*((LOG(AK13))/LOG(2))))","v":0},null,{"$f":"N13","v":221},{"$f":"COUNTIF(L44:L53,AN13)","v":0},{"$f":"AO13/(AQ4-AO10)","v":0},{"$f":"IF(AP13=0,0,(AP13*((LOG(AP13))/LOG(2))))","v":0},null,{"$f":"N13","v":221},{"$f":"COUNTIF(L54:L62,AS13)","v":0},{"$f":"AT13/(AV4-AT10)","v":0},{"$f":"IF(AU13=0,0,(AU13*((LOG(AU13))/LOG(2))))","v":0}]
[11,751,21,760,21,767,null,null,null,null,0,122,null,222,{"$f":"COUNTIF($L$7:$L$500,N14)","v":15},{"$f":"O14/$Q$4","v":0.26785714285714285},{"$f":"IF(P14=0,0,(P14*((LOG(P14))/LOG(2))))","v":-0.50905294458457651},null,null,{"$f":"N14","v":222},{"$f":"COUNTIF(L7:L15,T14)","v":1},{"$f":"U14/(W4-U10)","v":1},{"$f":"IF(V14=0,0,(V14*((LOG(V14))/LOG(2))))","v":0},null,{"$f":"N14","v":222},{"$f":"COUNTIF(L16:L25,Y14)","v":1},{"$f":"Z14/(AB4-Z10)","v":1},{"$f":"IF(AA14=0,0,(AA14*((LOG(AA14))/LOG(2))))","v":0},null,{"$f":"N14","v":222},{"$f":"COUNTIF(L26:L34,AD14)","v":2},{"$f":"AE14/(AG4-AE10)","v":0.66666666666666663},{"$f":"IF(AF14=0,0,(AF14*((LOG(AF14))/LOG(2))))","v":-0.38997500048077083},null,{"$f":"N14","v":222},{"$f":"COUNTIF(L35:L43,AI14)","v":4},{"$f":"AJ14/(AL4-AJ10)","v":1},{"$f":"IF(AK14=0,0,(AK14*((LOG(AK14))/LOG(2))))","v":0},null,{"$f":"N14","v":222},{"$f":"COUNTIF(L44:L53,AN14)","v":3},{"$f":"AO14/(AQ4-AO10)","v":0.75},{"$f":"IF(AP14=0,0,(AP14*((LOG(AP14))/LOG(2))))","v":-0.31127812445913283},null,{"$f":"N14","v":222},{"$f":"COUNTIF(L54:L62,AS14)","v":4},{"$f":"AT14/(AV4-AT10)","v":1},{"$f":"IF(AU14=0,0,(AU14*((LOG(AU14))/LOG(2))))","v":0}]
[11,860,21,872,21,880,null,null,null,null,0,122,null,null,null,{"$f":"SUM(P7:P14)","v":1},{"$f":"-SUM(Q7:Q14)","v":1.0799612529548281},null,null,null,null,{"$f":"SUM(V7:V14)","v":1},{"$f":"-SUM(W7:W14)","v":0},null,null,null,{"$f":"SUM(AA7:AA14)","v":1},{"$f":"-SUM(AB7:AB14)","v":0},null,null,null,{"$f":"SUM(AF7:AF14)","v":1},{"$f":"-SUM(AG7:AG14)","v":0.91829583405448945},null,null,null,{"$f":"SUM(AK7:AK14)","v":1},{"$f":"-SUM(AL7:AL14)","v":0},null,null,null,{"$f":"SUM(AP7:AP14)","v":1},{"$f":"-SUM(AQ7:AQ14)","v":0.81127812445913283},null,null,null,{"$f":"SUM(AU7:AU14)","v":1},{"$f":"-SUM(AV7:AV14)","v":0}]
[11,969,21,979,21,986,null,null,null,null,0,122,null,null,null,"U=",{"$f":"Q15/(LOG(Q4)/LOG(2))","v":0.18596439643337434},null,null,null,null,"U1=",{"$f":"W15/(LOG(W4)/LOG(2))","v":0},null,null,null,"U2=",{"$f":"AB15/(LOG(AB4)/LOG(2))","v":0},null,null,null,"U3=",{"$f":"AG15/(LOG(AG4)/LOG(2))","v":0.28969008214284753},null,null,null,"U4=",{"$f":"AL15/(LOG(AL4)/LOG(2))","v":0},null,null,null,"U5=",{"$f":"AQ15/(LOG(AQ4)/LOG(2))","v":0.24421905028821556},null,null,null,"U6=",{"$f":"AV15/(LOG(AV4)/LOG(2))","v":0}]
[11,1075,21,1086,21,1094,null,null,null,null,0,122]
[11,1181,21,1191,21,1199,null,null,null,null,0,122]
[11,1287,21,1298,21,1306,null,null,null,null,0,122,null,"Total Target Seq"]
[11,1395,21,1406,21,1413,null,null,null,null,0,122,null,{"$f":"COUNTIF(L7:L62,G3)","v":39},null,9,10,9,9,10,9]
[11,1502,21,1510,21,1515,null,null,null,null,0,122,null,null,null,"% of reinforcement given in 6 equal intervals based on number of trials "]
[11,1603,21,1614,21,1622,null,null,null,null,0,122,null,null,null,"%_1","%_2","%_3","%_4","%_5","%_6"]
[11,1711,21,1722,21,1730,null,null,null,null,0,122,null,null,"target sequence",{"$f":"$G$3","v":122},{"$f":"$G$3","v":122},{"$f":"$G$3","v":122},{"$f":"$G$3","v":122},{"$f":"$G$3","v":122},{"$f":"$G$3","v":122}]
[22,1838,23,1842,23,1850,null,null,null,null,0,222,null,null,"total reinforcement",{"$f":"U10","v":8},{"$f":"Z10","v":9},{"$f":"AE10","v":6},{"$f":"AJ10","v":5},{"$f":"AO10","v":6},{"$f":"AT10","v":5}]
[11,1947,21,1957,21,1964,null,null,null,null,0,122,null,null,"% target"]
[11,2050,21,2059,21,2063,null,null,null,null,0,122,null,null,"CCRF"]
[22,2161,23,2168,23,2175,null,null,null,null,0,222,null,null,"% CCRf"]
[11,2272,21,2283,21,2291,null,null,null,null,0,122,null,null,"average response rate",{"$f":"F15/P20","v":97.777777777777771},{"$f":"(F25-F15)/Q20","v":108.4},{"$f":"(F34-F25)/R20","v":119.11111111111111},{"$f":"(F43-F34)/S20","v":112.11111111111111},{"$f":"(F53-F43)/T20","v":114.8},{"$f":"(F62-F53)/U20","v":113.33333333333333}]
[11,2379,21,2390,12,2450,null,null,null,null,0,121]
[11,2543,21,2564,21,2585,null,null,null,null,0,122]
[22,2690,23,2699,23,2711,null,null,null,null,0,222]
[11,2807,21,2816,21,2821,null,null,null,null,0,122]
[11,2910,21,2922,21,2929,null,null,null,null,0,122]
[11,3017,21,3028,21,3036,null,null,null,null,0,122]
[22,3132,23,3139,23,3147,null,null,null,null,0,222]
[11,3243,21,3253,21,3260,null,null,null,null,0,122]
[22,3356,23,3362,23,3370,null,null,null,null,0,222]
[11,3466,21,3475,21,3483,null,null,null,null,0,122]
[11,3570,21,3583,21,3590,null,null,null,null,0,122]
[22,3693,23,3700,23,3710,null,null,null,null,0,222]
[11,3809,21,3817,21,3825,null,null,null,null,0,122]
[11,3913,21,3924,21,3932,null,null,null,null,0,122]
[22,4029,23,4036,23,4045,null,null,null,null,0,222]
[22,4156,23,4164,23,4180,null,null,null,null,0,222]
[11,4276,21,4284,21,4288,null,null,null,null,0,122]
[11,4379,12,4383,23,4393,null,null,null,null,0,112]
[11,4489,21,4501,21,4509,null,null,null,null,0,122]
[22,4614,23,4622,23,4629,null,null,null,null,0,222]
[11,4725,21,4736,21,4744,null,null,null,null,0,122]
[11,4832,21,4843,21,4855,null,null,null,null,0,122]
[11,4941,21,4952,21,4958,null,null,null,null,0,122]
[22,5055,23,5062,23,5079,null,null,null,null,0,222]
[11,5174,21,5185,21,5193,null,null,null,null,0,122]
[22,5293,23,5301,23,5309,null,null,null,null,0,222]
[22,5413,23,5420,23,5429,null,null,null,null,0,222]
[11,5525,21,5533,21,5544,null,null,null,null,0,122]
[22,5647,23,5654,23,5663,null,null,null,null,0,222]
[22,5766,23,5770,23,5778,null,null,null,null,0,222]
[11,5880,21,5892,21,5899,null,null,null,null,0,122]
[11,5986,21,5996,21,6003,null,null,null,null,0,122]
[11,6088,21,6100,21,6104,null,null,null,null,0,122]
[11,6196,21,6206,21,6213,null,null,null,null,1,122]

{"sheet":"!M728730.104","index":16,"n_rows":64,"n_cols":48,"rows_kept":64,"cut":false,"hidden":false,"merged":[[4,39,4,42],[5,39,5,40],[4,44,4,47],[5,44,5,45],[4,24,4,27],[5,24,5,25],[4,29,4,32],[5,29,5,30],[4,34,4,37],[5,34,5,35],[1,1,1,2],[5,13,5,14],[18,13,18,14],[19,13,19,14],[4,19,4,22],[5,19,5,20]]}
["Report for:!M728730.104"]
["Date:","<date>"]
["Hen:","<hen>",null,null,null,"Correct Sequence",{"$f":"Start!J2","v":122},null,null,null,null,null,null,null,null,"Total Sequences in Data",{"$f":"4994-COUNTBLANK(L7:L5000)","v":58},null,null,null,null,"Total Sequences in Block Data",{"$f":"COUNTA(L7:L16)","v":10},null,null,null,"Total Sequences in Block Data",{"$f":"COUNTA(L17:L25)","v":9},null,null,null,"Total Sequences in Block Data",{"$f":"COUNTA(L26:L35)","v":10},null,null,null,"Total Sequences in Block Data",{"$f":"COUNTA(L36:L45)","v":10},null,null,null,"Total Sequences in Block Data",{"$f":"COUNTA(L46:L54)","v":9},null,null,null,"Total Sequences in Block Data",{"$f":"COUNTA(L55:L64)","v":10}]
[null,null,null,null,null,null,null,null,null,null,null,null,null,null,null,"Total Sequences in Summary",{"$f":"SUM(O7:O14)","v":58},null,null,null,null,"Total Sequences in Block Summary",{"$f":"SUM(U7:U14)","v":10},null,null,null,"Total Sequences in Block Summary",{"$f":"SUM(Z7:Z14)","v":9},null,null,null,"Total Sequences in Block Summary",{"$f":"SUM(AE7:AE14)","v":10},null,null,null,"Total Sequences in Block Summary",{"$f":"SUM(AJ7:AJ14)","v":10},null,null,null,"Total Sequences in Block Summary",{"$f":"SUM(AO7:AO14)","v":9},null,null,null,"Total Sequences in Block Summary",{"$f":"SUM(AT7:AT14)","v":10}]
[null,null,null,null,null,null,null,null,null,null,null,null,null,null,null,null,null,null,null,"Block 1",null,null,null,null,"Block 2",null,null,null,null,"Block 3",null,null,null,null,"Block 4",null,null,null,null,"Block 5",null,null,null,null,"Block 6"]
["Sequence\nComponent\n1","Time\n1","Sequence\nComponent\n2","Time\n2","Sequence\nComponent\n3","Time\n3","Sequence\nComponent\n4","Time\n4","Sequence\nComponent\n5","Time\n5","Correct?\n0=No 1=Yes","Sequence",null,"Frequency",null,"Relative Frequency","Variability",null,null,"Frequency",null,"Relative Frequency","Variability",null,"Frequency",null,"Relative Frequency","Variability",null,"Frequency",null,"Relative Frequency","Variability",null,"Frequency",null,"Relative Frequency","Variability",null,"Frequency",null,"Relative Frequency","Variability",null,"Frequency",null,"Relative Frequency","Variability"]
[22,15,14,28,23,39,null,null,null,null,0,212,null,111,{"$f":"COUNTIF($L$7:$L$500,N7)","v":1},{"$f":"O7/$Q$4","v":1.7241379310344827E-2},{"$f":"IF(P7=0,0,(P7*((LOG(P7))/LOG(2))))","v":-0.10099967232978573},null,null,{"$f":"N7","v":111},{"$f":"COUNTIF(L7:L16,T7)","v":0},{"$f":"U7/(W4-U10)","v":0},{"$f":"IF(V7=0,0,(V7*((LOG(V7))/LOG(2))))","v":0},null,{"$f":"N7","v":111},{"$f":"COUNTIF(L17:L25,Y7)","v":0},{"$f":"Z7/(AB4-Z10)","v":0},{"$f":"IF(AA7=0,0,(AA7*((LOG(AA7))/LOG(2))))","v":0},null,{"$f":"N7","v":111},{"$f":"COUNTIF(L26:L35,AD7)","v":1},{"$f":"AE7/(AG4-AE10)","v":1},{"$f":"IF(AF7=0,0,(AF7*((LOG(AF7))/LOG(2))))","v":0},null,{"$f":"N7","v":111},{"$f":"COUNTIF(L36:L45,AI7)","v":0},{"$f":"AJ7/(AL4-AJ10)","v":0},{"$f":"IF(AK7=0,0,(AK7*((LOG(AK7))/LOG(2))))","v":0},null,{"$f":"N7","v":111},{"$f":"COUNTIF(L46:L54,AN7)","v":0},{"$f":"AO7/(AQ4-AO10)","v":0},{"$f":"IF(AP7=0,0,(AP7*((LOG(AP7))/LOG(2))))","v":0},null,{"$f":"N7","v":111},{"$f":"COUNTIF(L55:L64,AS7)","v":0},{"$f":"AT7/(AV4-AT10)","v":0},{"$f":"IF(AU7=0,0,(AU7*((LOG(AU7))/LOG(2))))","v":0}]
[11,140,21,154,21,163,null,null,null,null,0,122,null,112,{"$f":"COUNTIF($L$7:$L$500,N8)","v":5},{"$f":"O8/$Q$4","v":8.6206896551724144E-2},{"$f":"IF(P8=0,0,(P8*((LOG(P8))/LOG(2))))","v":-0.30483214657243185},null,null,{"$f":"N8","v":112},{"$f":"COUNTIF(L7:L16,T8)","v":0},{"$f":"U8/(W4-U10)","v":0},{"$f":"IF(V8=0,0,(V8*((LOG(V8))/LOG(2))))","v":0},null,{"$f":"N8","v":112},{"$f":"COUNTIF(L17:L25,Y8)","v":1},{"$f":"Z8/(AB4-Z10)","v":0.25},{"$f":"IF(AA8=0,0,(AA8*((LOG(AA8))/LOG(2))))","v":-0.5},null,{"$f":"N8","v":112},{"$f":"COUNTIF(L26:L35,AD8)","v":0},{"$f":"AE8/(AG4-AE10)","v":0},{"$f":"IF(AF8=0,0,(AF8*((LOG(AF8))/LOG(2))))","v":0},null,{"$f":"N8","v":112},{"$f":"COUNTIF(L36:L45,AI8)","v":1},{"$f":"AJ8/(AL4-AJ10)","v":0.2},{"$f":"IF(AK8=0,0,(AK8*((LOG(AK8))/LOG(2))))","v":-0.46438561897747244},null,{"$f":"N8","v":112},{"$f":"COUNTIF(L46:L54,AN8)","v":2},{"$f":"AO8/(AQ4-AO10)","v":0.4},{"$f":"IF(AP8=0,0,(AP8*((LOG(AP8))/LOG(2))))","v":-0.52877123795494496},null,{"$f":"N8","v":112},{"$f":"COUNTIF(L55:L64,AS8)","v":1},{"$f":"AT8/(AV4-AT10)","v":0.33333333333333331},{"$f":"IF(AU8=0,0,(AU8*((LOG(AU8))/LOG(2))))","v":-0.52832083357371862}]
[11,255,21,267,21,276,null,null,null,null,0,122,null,121,{"$f":"COUNTIF($L$7:$L$500,N9)","v":0},{"$f":"O9/$Q$4","v":0},{"$f":"IF(P9=0,0,(P9*((LOG(P9))/LOG(2))))","v":0},null,null,{"$f":"N9","v":121},{"$f":"COUNTIF(L7:L16,T9)","v":0},{"$f":"U9/(W4-U10)","v":0},{"$f":"IF(V9=0,0,(V9*((LOG(V9))/LOG(2))))","v":0},null,{"$f":"N9","v":121},{"$f":"COUNTIF(L17:L25,Y9)","v":0},{"$f":"Z9/(AB4-Z10)","v":0},{"$f":"IF(AA9=0,0,(AA9*((LOG(AA9))/LOG(2))))","v":0},null,{"$f":"N9","v":121},{"$f":"COUNTIF(L26:L35,AD9)","v":0},{"$f":"AE9/(AG4-AE10)","v":0},{"$f":"IF(AF9=0,0,(AF9*((LOG(AF9))/LOG(2))))","v":0},null,{"$f":"N9","v":121},{"$f":"COUNTIF(L36:L45,AI9)","v":0},{"$f":"AJ9/(AL4-AJ10)","v":0},{"$f":"IF(AK9=0,0,(AK9*((LOG(AK9))/LOG(2))))","v":0},null,{"$f":"N9","v":121},{"$f":"COUNTIF(L46:L54,AN9)","v":0},{"$f":"AO9/(AQ4-AO10)","v":0},{"$f":"IF(AP9=0,0,(AP9*((LOG(AP9))/LOG(2))))","v":0},null,{"$f":"N9","v":121},{"$f":"COUNTIF(L55:L64,AS9)","v":0},{"$f":"AT9/(AV4-AT10)","v":0},{"$f":"IF(AU9=0,0,(AU9*((LOG(AU9))/LOG(2))))","v":0}]
[11,371,21,389,21,395,null,null,null,null,0,122,null,122,{"$f":"COUNTIF($L$7:$L$500,N10)","v":39},{"$f":"O10/$Q$4","v":0.67241379310344829},{"$f":"IF(P10=0,0,(P10*((LOG(P10))/LOG(2))))","v":-0.38500986679909699},null,null,{"$f":"N10","v":122},{"$f":"COUNTIF(L7:L16,T10)","v":9},null,null,null,{"$f":"N10","v":122},{"$f":"COUNTIF(L17:L25,Y10)","v":5},null,null,null,{"$f":"N10","v":122},{"$f":"COUNTIF(L26:L35,AD10)","v":9},null,null,null,{"$f":"N10","v":122},{"$f":"COUNTIF(L36:L45,AI10)","v":5},null,null,null,{"$f":"N10","v":122},{"$f":"COUNTIF(L46:L54,AN10)","v":4},null,null,null,{"$f":"N10","v":122},{"$f":"COUNTIF(L55:L64,AS10)","v":7}]
[11,485,21,494,21,500,null,null,null,null,0,122,null,211,{"$f":"COUNTIF($L$7:$L$500,N11)","v":0},{"$f":"O11/$Q$4","v":0},{"$f":"IF(P11=0,0,(P11*((LOG(P11))/LOG(2))))","v":0},null,null,{"$f":"N11","v":211},{"$f":"COUNTIF(L7:L16,T11)","v":0},{"$f":"U11/(W4-U10)","v":0},{"$f":"IF(V11=0,0,(V11*((LOG(V11))/LOG(2))))","v":0},null,{"$f":"N11","v":211},{"$f":"COUNTIF(L17:L25,Y11)","v":0},{"$f":"Z11/(AB4-Z10)","v":0},{"$f":"IF(AA11=0,0,(AA11*((LOG(AA11))/LOG(2))))","v":0},null,{"$f":"N11","v":211},{"$f":"COUNTIF(L26:L35,AD11)","v":0},{"$f":"AE11/(AG4-AE10)","v":0},{"$f":"IF(AF11=0,0,(AF11*((LOG(AF11))/LOG(2))))","v":0},null,{"$f":"N11","v":211},{"$f":"COUNTIF(L36:L45,AI11)","v":0},{"$f":"AJ11/(AL4-AJ10)","v":0},{"$f":"IF(AK11=0,0,(AK11*((LOG(AK11))/LOG(2))))","v":0},null,{"$f":"N11","v":211},{"$f":"COUNTIF(L46:L54,AN11)","v":0},{"$f":"AO11/(AQ4-AO10)","v":0},{"$f":"IF(AP11=0,0,(AP11*((LOG(AP11))/LOG(2))))","v":0},null,{"$f":"N11","v":211},{"$f":"COUNTIF(L55:L64,AS11)","v":0},{"$f":"AT11/(AV4-AT10)","v":0},{"$f":"IF(AU11=0,0,(AU11*((LOG(AU11))/LOG(2))))","v":0}]
[11,589,21,601,21,609,null,null,null,null,0,122,null,212,{"$f":"COUNTIF($L$7:$L$500,N12)","v":1},{"$f":"O12/$Q$4","v":1.7241379310344827E-2},{"$f":"IF(P12=0,0,(P12*((LOG(P12))/LOG(2))))","v":-0.10099967232978573},null,null,{"$f":"N12","v":212},{"$f":"COUNTIF(L7:L16,T12)","v":1},{"$f":"U12/(W4-U10)","v":1},{"$f":"IF(V12=0,0,(V12*((LOG(V12))/LOG(2))))","v":0},null,{"$f":"N12","v":212},{"$f":"COUNTIF(L17:L25,Y12)","v":0},{"$f":"Z12/(AB4-Z10)","v":0},{"$f":"IF(AA12=0,0,(AA12*((LOG(AA12))/LOG(2))))","v":0},null,{"$f":"N12","v":212},{"$f":"COUNTIF(L26:L35,AD12)","v":0},{"$f":"AE12/(AG4-AE10)","v":0},{"$f":"IF(AF12=0,0,(AF12*((LOG(AF12))/LOG(2))))","v":0},null,{"$f":"N12","v":212},{"$f":"COUNTIF(L36:L45,AI12)","v":0},{"$f":"AJ12/(AL4-AJ10)","v":0},{"$f":"IF(AK12=0,0,(AK12*((LOG(AK12))/LOG(2))))","v":0},null,{"$f":"N12","v":212},{"$f":"COUNTIF(L46:L54,AN12)","v":0},{"$f":"AO12/(AQ4-AO10)","v":0},{"$f":"IF(AP12=0,0,(AP12*((LOG(AP12))/LOG(2))))","v":0},null,{"$f":"N12","v":212},{"$f":"COUNTIF(L55:L64,AS12)","v":0},{"$f":"AT12/(AV4-AT10)","v":0},{"$f":"IF(AU12=0,0,(AU12*((LOG(AU12))/LOG(2))))","v":0}]
[11,702,21,714,21,722,null,null,null,null,0,122,null,221,{"$f":"COUNTIF($L$7:$L$500,N13)","v":0},{"$f":"O13/$Q$4","v":0},{"$f":"IF(P13=0,0,(P13*((LOG(P13))/LOG(2))))","v":0},null,null,{"$f":"N13","v":221},{"$f":"COUNTIF(L7:L16,T13)","v":0},{"$f":"U13/(W4-U10)","v":0},{"$f":"IF(V13=0,0,(V13*((LOG(V13))/LOG(2))))","v":0},null,{"$f":"N13","v":221},{"$f":"COUNTIF(L17:L25,Y13)","v":0},{"$f":"Z13/(AB4-Z10)","v":0},{"$f":"IF(AA13=0,0,(AA13*((LOG(AA13))/LOG(2))))","v":0},null,{"$f":"N13","v":221},{"$f":"COUNTIF(L26:L35,AD13)","v":0},{"$f":"AE13/(AG4-AE10)","v":0},{"$f":"IF(AF13=0,0,(AF13*((LOG(AF13))/LOG(2))))","v":0},null,{"$f":"N13","v":221},{"$f":"COUNTIF(L36:L45,AI13)","v":0},{"$f":"AJ13/(AL4-AJ10)","v":0},{"$f":"IF(AK13=0,0,(AK13*((LOG(AK13))/LOG(2))))","v":0},null,{"$f":"N13","v":221},{"$f":"COUNTIF(L46:L54,AN13)","v":0},{"$f":"AO13/(AQ4-AO10)","v":0},{"$f":"IF(AP13=0,0,(AP13*((LOG(AP13))/LOG(2))))","v":0},null,{"$f":"N13","v":221},{"$f":"COUNTIF(L55:L64,AS13)","v":0},{"$f":"AT13/(AV4-AT10)","v":0},{"$f":"IF(AU13=0,0,(AU13*((LOG(AU13))/LOG(2))))","v":0}]
[11,816,21,827,21,835,null,null,null,null,0,122,null,222,{"$f":"COUNTIF($L$7:$L$500,N14)","v":12},{"$f":"O14/$Q$4","v":0.20689655172413793},{"$f":"IF(P14=0,0,(P14*((LOG(P14))/LOG(2))))","v":-0.4702796884978791},null,null,{"$f":"N14","v":222},{"$f":"COUNTIF(L7:L16,T14)","v":0},{"$f":"U14/(W4-U10)","v":0},{"$f":"IF(V14=0,0,(V14*((LOG(V14))/LOG(2))))","v":0},null,{"$f":"N14","v":222},{"$f":"COUNTIF(L17:L25,Y14)","v":3},{"$f":"Z14/(AB4-Z10)","v":0.75},{"$f":"IF(AA14=0,0,(AA14*((LOG(AA14))/LOG(2))))","v":-0.31127812445913283},null,{"$f":"N14","v":222},{"$f":"COUNTIF(L26:L35,AD14)","v":0},{"$f":"AE14/(AG4-AE10)","v":0},{"$f":"IF(AF14=0,0,(AF14*((LOG(AF14))/LOG(2))))","v":0},null,{"$f":"N14","v":222},{"$f":"COUNTIF(L36:L45,AI14)","v":4},{"$f":"AJ14/(AL4-AJ10)","v":0.8},{"$f":"IF(AK14=0,0,(AK14*((LOG(AK14))/LOG(2))))","v":-0.25754247590988982},null,{"$f":"N14","v":222},{"$f":"COUNTIF(L46:L54,AN14)","v":3},{"$f":"AO14/(AQ4-AO10)","v":0.6},{"$f":"IF(AP14=0,0,(AP14*((LOG(AP14))/LOG(2))))","v":-0.44217935649972373},null,{"$f":"N14","v":222},{"$f":"COUNTIF(L55:L64,AS14)","v":2},{"$f":"AT14/(AV4-AT10)","v":0.66666666666666663},{"$f":"IF(AU14=0,0,(AU14*((LOG(AU14))/LOG(2))))","v":-0.38997500048077083}]
[11,925,21,937,21,945,null,null,null,null,0,122,null,null,null,{"$f":"SUM(P7:P14)","v":1},{"$f":"-SUM(Q7:Q14)","v":1.3621210465289793},null,null,null,null,{"$f":"SUM(V7:V14)","v":1},{"$f":"-SUM(W7:W14)","v":0},null,null,null,{"$f":"SUM(AA7:AA14)","v":1},{"$f":"-SUM(AB7:AB14)","v":0.81127812445913283},null,null,null,{"$f":"SUM(AF7:AF14)","v":1},{"$f":"-SUM(AG7:AG14)","v":0},null,null,null,{"$f":"SUM(AK7:AK14)","v":1},{"$f":"-SUM(AL7:AL14)","v":0.72192809488736231},null,null,null,{"$f":"SUM(AP7:AP14)","v":1},{"$f":"-SUM(AQ7:AQ14)","v":0.97095059445466869},null,null,null,{"$f":"SUM(AU7:AU14)","v":1},{"$f":"-SUM(AV7:AV14)","v":0.91829583405448945}]
[11,1034,21,1046,21,1053,null,null,null,null,0,122,null,null,null,"U=",{"$f":"Q15/(LOG(Q4)/LOG(2))","v":0.23252397842566161},null,null,null,null,"U1=",{"$f":"W15/(LOG(W4)/LOG(2))","v":0},null,null,null,"U2=",{"$f":"AB15/(LOG(AB4)/LOG(2))","v":0.25592975357145742},null,null,null,"U3=",{"$f":"AG15/(LOG(AG4)/LOG(2))","v":0},null,null,null,"U4=",{"$f":"AL15/(LOG(AL4)/LOG(2))","v":0.21732201127364889},null,null,null,"U5=",{"$f":"AQ15/(LOG(AQ4)/LOG(2))","v":0.30630080964467216},null,null,null,"U6=",{"$f":"AV15/(LOG(AV4)/LOG(2))","v":0.27643459094367495}]
[11,1147,21,1160,21,1167,null,null,null,null,0,122]
[11,1257,21,1269,21,1274,null,null,null,null,0,122]
[11,1366,21,1377,21,1386,null,null,null,null,0,122,null,"Total Target Seq"]
[22,1489,23,1497,23,1515,null,null,null,null,0,222,null,{"$f":"COUNTIF(L7:L64,G3)","v":39},null,10,9,10,10,9,10]
[11,1605,21,1618,21,1624,null,null,null,null,0,122,null,null,null,"% of reinforcement given in 6 equal intervals based on number of trials "]
[22,1729,23,1737,23,1745,null,null,null,null,0,222,null,null,null,"%_1","%_2","%_3","%_4","%_5","%_6"]
[22,1853,23,1860,23,1876,null,null,null,null,0,222,null,null,"target sequence",{"$f":"$G$3","v":122},{"$f":"$G$3","v":122},{"$f":"$G$3","v":122},{"$f":"$G$3","v":122},{"$f":"$G$3","v":122},{"$f":"$G$3","v":122}]
[11,1978,21,1990,21,1999,null,null,null,null,0,122,null,null,"total reinforcement",{"$f":"U10","v":9},{"$f":"Z10","v":5},{"$f":"AE10","v":9},{"$f":"AJ10","v":5},{"$f":"AO10","v":4},{"$f":"AT10","v":7}]
[11,2095,12,2105,23,2118,null,null,null,null,0,112,null,null,"% target"]
[11,2216,21,2234,21,2241,null,null,null,null,0,122,null,null,"CCRF"]
[11,2331,21,2343,21,2351,null,null,null,null,0,122,null,null,"% CCRf"]
[11,2440,21,2452,21,2457,null,null,null,null,0,122,null,null,"average response rate",{"$f":"F16/P20","v":105.3},{"$f":"(F25-F16)/Q20","v":118.33333333333333},{"$f":"(F35-F25)/R20","v":111.5},{"$f":"(F45-F35)/S20","v":118.8},{"$f":"(F54-F45)/T20","v":119.88888888888889},{"$f":"(F64-F54)/U20","v":114.2}]
[11,2552,12,2561,14,2573,null,null,null,null,0,111]
[11,2669,21,2680,21,2687,null,null,null,null,0,122]
[11,2775,21,2788,21,2796,null,null,null,null,0,122]
[11,2883,21,2893,21,2900,null,null,null,null,0,122]
[11,2989,21,3003,21,3012,null,null,null,null,0,122]
[11,3100,21,3111,21,3127,null,null,null,null,0,122]
[11,3213,21,3225,21,3233,null,null,null,null,0,122]
[22,3334,23,3342,23,3353,null,null,null,null,0,222]
[22,3463,23,3470,23,3484,null,null,null,null,0,222]
[11,3580,21,3592,21,3596,null,null,null,null,0,122]
[22,3705,23,3713,23,3723,null,null,null,null,0,222]
[11,3819,21,3831,21,3837,null,null,null,null,0,122]
[11,3926,12,3935,23,3947,null,null,null,null,0,112]
[11,4043,21,4055,21,4083,null,null,null,null,0,122]
[11,4176,21,4189,21,4196,null,null,null,null,0,122]
[11,4286,21,4298,21,4306,null,null,null,null,0,122]
[22,4405,23,4410,23,4421,null,null,null,null,0,222]
[22,4528,23,4534,23,4542,null,null,null,null,0,222]
[11,4639,21,4651,21,4659,null,null,null,null,0,122]
[11,4751,12,4757,23,4769,null,null,null,null,0,112]
[22,4879,23,4888,23,4912,null,null,null,null,0,222]
[11,5010,12,5014,23,5026,null,null,null,null,0,112]
[11,5125,21,5136,21,5141,null,null,null,null,0,122]
[22,5244,23,5252,23,5260,null,null,null,null,0,222]
[11,5357,21,5368,21,5387,null,null,null,null,0,122]
[11,5475,21,5486,21,5500,null,null,null,null,0,122]
[11,5587,12,5592,23,5604,null,null,null,null,0,112]
[22,5711,23,5719,23,5727,null,null,null,null,0,222]
[11,5823,21,5836,21,5851,null,null,null,null,0,122]
[11,5939,21,5950,21,5955,null,null,null,null,0,122]
[22,6057,23,6062,23,6072,null,null,null,null,0,222]
[11,6167,21,6179,21,6200,null,null,null,null,0,122]
[11,6289,21,6300,21,6307,null,null,null,null,0,122]
[11,6394,21,6404,21,6412,null,null,null,null,0,122]
[11,6503,21,6514,21,6523,null,null,null,null,0,122]
[11,6611,21,6625,21,6642,null,null,null,null,1,122]

{"sheet":"!M729A40.104","index":17,"n_rows":62,"n_cols":48,"rows_kept":62,"cut":false,"hidden":false,"merged":[[4,39,4,42],[5,39,5,40],[4,44,4,47],[5,44,5,45],[4,24,4,27],[5,24,5,25],[4,29,4,32],[5,29,5,30],[4,34,4,37],[5,34,5,35],[1,1,1,2],[5,13,5,14],[18,13,18,14],[19,13,19,14],[4,19,4,22],[5,19,5,20]]}
["Report for:!M729A40.104"]
["Date:","<date>"]
["Hen:","<hen>",null,null,null,"Correct Sequence",{"$f":"Start!J2","v":122},null,null,null,null,null,null,null,null,"Total Sequences in Data",{"$f":"4994-COUNTBLANK(L7:L5000)","v":56},null,null,null,null,"Total Sequences in Block Data",{"$f":"COUNTA(L7:L15)","v":9},null,null,null,"Total Sequences in Block Data",{"$f":"COUNTA(L16:L25)","v":10},null,null,null,"Total Sequences in Block Data",{"$f":"COUNTA(L26:L34)","v":9},null,null,null,"Total Sequences in Block Data",{"$f":"COUNTA(L35:L43)","v":9},null,null,null,"Total Sequences in Block Data",{"$f":"COUNTA(L44:L53)","v":10},null,null,null,"Total Sequences in Block Data",{"$f":"COUNTA(L54:L62)","v":9}]
[null,null,null,null,null,null,null,null,null,null,null,null,null,null,null,"Total Sequences in Summary",{"$f":"SUM(O7:O14)","v":56},null,null,null,null,"Total Sequences in Block Summary",{"$f":"SUM(U7:U14)","v":9},null,null,null,"Total Sequences in Block Summary",{"$f":"SUM(Z7:Z14)","v":10},null,null,null,"Total Sequences in Block Summary",{"$f":"SUM(AE7:AE14)","v":9},null,null,null,"Total Sequences in Block Summary",{"$f":"SUM(AJ7:AJ14)","v":9},null,null,null,"Total Sequences in Block Summary",{"$f":"SUM(AO7:AO14)","v":10},null,null,null,"Total Sequences in Block Summary",{"$f":"SUM(AT7:AT14)","v":9}]
[null,null,null,null,null,null,null,null,null,null,null,null,null,null,null,null,null,null,null,"Block 1",null,null,null,null,"Block 2",null,null,null,null,"Block 3",null,null,null,null,"Block 4",null,null,null,null,"Block 5",null,null,null,null,"Block 6"]
["Sequence\nComponent\n1","Time\n1","Sequence\nComponent\n2","Time\n2","Sequence\nComponent\n3","Time\n3","Sequence\nComponent\n4","Time\n4","Sequence\nComponent\n5","Time\n5","Correct?\n0=No 1=Yes","Sequence",null,"Frequency",null,"Relative Frequency","Variability",null,null,"Frequency",null,"Relative Frequency","Variability",null,"Frequency",null,"Relative Frequency","Variability",null,"Frequency",null,"Relative Frequency","Variability",null,"Frequency",null,"Relative Frequency","Variability",null,"Frequency",null,"Relative Frequency","Variability",null,"Frequency",null,"Relative Frequency","Variability"]
[11,11,21,23,21,30,null,null,null,null,0,122,null,111,{"$f":"COUNTIF($L$7:$L$500,N7)","v":1},{"$f":"O7/$Q$4","v":1.7857142857142856E-2},{"$f":"IF(P7=0,0,(P7*((LOG(P7))/LOG(2))))","v":-0.10370276646531436},null,null,{"$f":"N7","v":111},{"$f":"COUNTIF(L7:L15,T7)","v":0},{"$f":"U7/(W4-U10)","v":0},{"$f":"IF(V7=0,0,(V7*((LOG(V7))/LOG(2))))","v":0},null,{"$f":"N7","v":111},{"$f":"COUNTIF(L16:L25,Y7)","v":0},{"$f":"Z7/(AB4-Z10)","v":0},{"$f":"IF(AA7=0,0,(AA7*((LOG(AA7))/LOG(2))))","v":0},null,{"$f":"N7","v":111},{"$f":"COUNTIF(L26:L34,AD7)","v":0},{"$f":"AE7/(AG4-AE10)","v":0},{"$f":"IF(AF7=0,0,(AF7*((LOG(AF7))/LOG(2))))","v":0},null,{"$f":"N7","v":111},{"$f":"COUNTIF(L35:L43,AI7)","v":0},{"$f":"AJ7/(AL4-AJ10)","v":0},{"$f":"IF(AK7=0,0,(AK7*((LOG(AK7))/LOG(2))))","v":0},null,{"$f":"N7","v":111},{"$f":"COUNTIF(L44:L53,AN7)","v":1},{"$f":"AO7/(AQ4-AO10)","v":0.25},{"$f":"IF(AP7=0,0,(AP7*((LOG(AP7))/LOG(2))))","v":-0.5},null,{"$f":"N7","v":111},{"$f":"COUNTIF(L54:L62,AS7)","v":0},{"$f":"AT7/(AV4-AT10)","v":0},{"$f":"IF(AU7=0,0,(AU7*((LOG(AU7))/LOG(2))))","v":0}]
[11,119,21,131,21,138,null,null,null,null,0,122,null,112,{"$f":"COUNTIF($L$7:$L$500,N8)","v":2},{"$f":"O8/$Q$4","v":3.5714285714285712E-2},{"$f":"IF(P8=0,0,(P8*((LOG(P8))/LOG(2))))","v":-0.17169124721634299},null,null,{"$f":"N8","v":112},{"$f":"COUNTIF(L7:L15,T8)","v":0},{"$f":"U8/(W4-U10)","v":0},{"$f":"IF(V8=0,0,(V8*((LOG(V8))/LOG(2))))","v":0},null,{"$f":"N8","v":112},{"$f":"COUNTIF(L16:L25,Y8)","v":0},{"$f":"Z8/(AB4-Z10)","v":0},{"$f":"IF(AA8=0,0,(AA8*((LOG(AA8))/LOG(2))))","v":0},null,{"$f":"N8","v":112},{"$f":"COUNTIF(L26:L34,AD8)","v":0},{"$f":"AE8/(AG4-AE10)","v":0},{"$f":"IF(AF8=0,0,(AF8*((LOG(AF8))/LOG(2))))","v":0},null,{"$f":"N8","v":112},{"$f":"COUNTIF(L35:L43,AI8)","v":0},{"$f":"AJ8/(AL4-AJ10)","v":0},{"$f":"IF(AK8=0,0,(AK8*((LOG(AK8))/LOG(2))))","v":0},null,{"$f":"N8","v":112},{"$f":"COUNTIF(L44:L53,AN8)","v":0},{"$f":"AO8/(AQ4-AO10)","v":0},{"$f":"IF(AP8=0,0,(AP8*((LOG(AP8))/LOG(2))))","v":0},null,{"$f":"N8","v":112},{"$f":"COUNTIF(L54:L62,AS8)","v":2},{"$f":"AT8/(AV4-AT10)","v":0.5},{"$f":"IF(AU8=0,0,(AU8*((LOG(AU8))/LOG(2))))","v":-0.5}]
[11,225,21,234,21,241,null,null,null,null,0,122,null,121,{"$f":"COUNTIF($L$7:$L$500,N9)","v":0},{"$f":"O9/$Q$4","v":0},{"$f":"IF(P9=0,0,(P9*((LOG(P9))/LOG(2))))","v":0},null,null,{"$f":"N9","v":121},{"$f":"COUNTIF(L7:L15,T9)","v":0},{"$f":"U9/(W4-U10)","v":0},{"$f":"IF(V9=0,0,(V9*((LOG(V9))/LOG(2))))","v":0},null,{"$f":"N9","v":121},{"$f":"COUNTIF(L16:L25,Y9)","v":0},{"$f":"Z9/(AB4-Z10)","v":0},{"$f":"IF(AA9=0,0,(AA9*((LOG(AA9))/LOG(2))))","v":0},null,{"$f":"N9","v":121},{"$f":"COUNTIF(L26:L34,AD9)","v":0},{"$f":"AE9/(AG4-AE10)","v":0},{"$f":"IF(AF9=0,0,(AF9*((LOG(AF9))/LOG(2))))","v":0},null,{"$f":"N9","v":121},{"$f":"COUNTIF(L35:L43,AI9)","v":0},{"$f":"AJ9/(AL4-AJ10)","v":0},{"$f":"IF(AK9=0,0,(AK9*((LOG(AK9))/LOG(2))))","v":0},null,{"$f":"N9","v":121},{"$f":"COUNTIF(L44:L53,AN9)","v":0},{"$f":"AO9/(AQ4-AO10)","v":0},{"$f":"IF(AP9=0,0,(AP9*((LOG(AP9))/LOG(2))))","v":0},null,{"$f":"N9","v":121},{"$f":"COUNTIF(L54:L62,AS9)","v":0},{"$f":"AT9/(AV4-AT10)","v":0},{"$f":"IF(AU9=0,0,(AU9*((LOG(AU9))/LOG(2))))","v":0}]
[11,331,21,344,21,352,null,null,null,null,0,122,null,122,{"$f":"COUNTIF($L$7:$L$500,N10)","v":39},{"$f":"O10/$Q$4","v":0.6964285714285714},{"$f":"IF(P10=0,0,(P10*((LOG(P10))/LOG(2))))","v":-0.36350277543962278},null,null,{"$f":"N10","v":122},{"$f":"COUNTIF(L7:L15,T10)","v":8},null,null,null,{"$f":"N10","v":122},{"$f":"COUNTIF(L16:L25,Y10)","v":8},null,null,null,{"$f":"N10","v":122},{"$f":"COUNTIF(L26:L34,AD10)","v":5},null,null,null,{"$f":"N10","v":122},{"$f":"COUNTIF(L35:L43,AI10)","v":7},null,null,null,{"$f":"N10","v":122},{"$f":"COUNTIF(L44:L53,AN10)","v":6},null,null,null,{"$f":"N10","v":122},{"$f":"COUNTIF(L54:L62,AS10)","v":5}]
[11,450,21,461,21,469,null,null,null,null,0,122,null,211,{"$f":"COUNTIF($L$7:$L$500,N11)","v":0},{"$f":"O11/$Q$4","v":0},{"$f":"IF(P11=0,0,(P11*((LOG(P11))/LOG(2))))","v":0},null,null,{"$f":"N11","v":211},{"$f":"COUNTIF(L7:L15,T11)","v":0},{"$f":"U11/(W4-U10)","v":0},{"$f":"IF(V11=0,0,(V11*((LOG(V11))/LOG(2))))","v":0},null,{"$f":"N11","v":211},{"$f":"COUNTIF(L16:L25,Y11)","v":0},{"$f":"Z11/(AB4-Z10)","v":0},{"$f":"IF(AA11=0,0,(AA11*((LOG(AA11))/LOG(2))))","v":0},null,{"$f":"N11","v":211},{"$f":"COUNTIF(L26:L34,AD11)","v":0},{"$f":"AE11/(AG4-AE10)","v":0},{"$f":"IF(AF11=0,0,(AF11*((LOG(AF11))/LOG(2))))","v":0},null,{"$f":"N11","v":211},{"$f":"COUNTIF(L35:L43,AI11)","v":0},{"$f":"AJ11/(AL4-AJ10)","v":0},{"$f":"IF(AK11=0,0,(AK11*((LOG(AK11))/LOG(2))))","v":0},null,{"$f":"N11","v":211},{"$f":"COUNTIF(L44:L53,AN11)","v":0},{"$f":"AO11/(AQ4-AO10)","v":0},{"$f":"IF(AP11=0,0,(AP11*((LOG(AP11))/LOG(2))))","v":0},null,{"$f":"N11","v":211},{"$f":"COUNTIF(L54:L62,AS11)","v":0},{"$f":"AT11/(AV4-AT10)","v":0},{"$f":"IF(AU11=0,0,(AU11*((LOG(AU11))/LOG(2))))","v":0}]
[11,555,21,564,21,570,null,null,null,null,0,122,null,212,{"$f":"COUNTIF($L$7:$L$500,N12)","v":1},{"$f":"O12/$Q$4","v":1.7857142857142856E-2},{"$f":"IF(P12=0,0,(P12*((LOG(P12))/LOG(2))))","v":-0.10370276646531436},null,null,{"$f":"N12","v":212},{"$f":"COUNTIF(L7:L15,T12)","v":0},{"$f":"U12/(W4-U10)","v":0},{"$f":"IF(V12=0,0,(V12*((LOG(V12))/LOG(2))))","v":0},null,{"$f":"N12","v":212},{"$f":"COUNTIF(L16:L25,Y12)","v":0},{"$f":"Z12/(AB4-Z10)","v":0},{"$f":"IF(AA12=0,0,(AA12*((LOG(AA12))/LOG(2))))","v":0},null,{"$f":"N12","v":212},{"$f":"COUNTIF(L26:L34,AD12)","v":0},{"$f":"AE12/(AG4-AE10)","v":0},{"$f":"IF(AF12=0,0,(AF12*((LOG(AF12))/LOG(2))))","v":0},null,{"$f":"N12","v":212},{"$f":"COUNTIF(L35:L43,AI12)","v":0},{"$f":"AJ12/(AL4-AJ10)","v":0},{"$f":"IF(AK12=0,0,(AK12*((LOG(AK12))/LOG(2))))","v":0},null,{"$f":"N12","v":212},{"$f":"COUNTIF(L44:L53,AN12)","v":1},{"$f":"AO12/(AQ4-AO10)","v":0.25},{"$f":"IF(AP12=0,0,(AP12*((LOG(AP12))/LOG(2))))","v":-0.5},null,{"$f":"N12","v":212},{"$f":"COUNTIF(L54:L62,AS12)","v":0},{"$f":"AT12/(AV4-AT10)","v":0},{"$f":"IF(AU12=0,0,(AU12*((LOG(AU12))/LOG(2))))","v":0}]
[11,673,21,685,21,693,null,null,null,null,0,122,null,221,{"$f":"COUNTIF($L$7:$L$500,N13)","v":0},{"$f":"O13/$Q$4","v":0},{"$f":"IF(P13=0,0,(P13*((LOG(P13))/LOG(2))))","v":0},null,null,{"$f":"N13","v":221},{"$f":"COUNTIF(L7:L15,T13)","v":0},{"$f":"U13/(W4-U10)","v":0},{"$f":"IF(V13=0,0,(V13*((LOG(V13))/LOG(2))))","v":0},null,{"$f":"N13","v":221},{"$f":"COUNTIF(L16:L25,Y13)","v":0},{"$f":"Z13/(AB4-Z10)","v":0},{"$f":"IF(AA13=0,0,(AA13*((LOG(AA13))/LOG(2))))","v":0},null,{"$f":"N13","v":221},{"$f":"COUNTIF(L26:L34,AD13)","v":0},{"$f":"AE13/(AG4-AE10)","v":0},{"$f":"IF(AF13=0,0,(AF13*((LOG(AF13))/LOG(2))))","v":0},null,{"$f":"N13","v":221},{"$f":"COUNTIF(L35:L43,AI13)","v":0},{"$f":"AJ13/(AL4-AJ10)","v":0},{"$f":"IF(AK13=0,0,(AK13*((LOG(AK13))/LOG(2))))","v":0},null,{"$f":"N13","v":221},{"$f":"COUNTIF(L44:L53,AN13)","v":0},{"$f":"AO13/(AQ4-AO10)","v":0},{"$f":"IF(AP13=0,0,(AP13*((LOG(AP13))/LOG(2))))","v":0},null,{"$f":"N13","v":221},{"$f":"COUNTIF(L54:L62,AS13)","v":0},{"$f":"AT13/(AV4-AT10)","v":0},{"$f":"IF(AU13=0,0,(AU13*((LOG(AU13))/LOG(2))))","v":0}]
[11,781,21,791,21,810,null,null,null,null,0,122,null,222,{"$f":"COUNTIF($L$7:$L$500,N14)","v":13},{"$f":"O14/$Q$4","v":0.23214285714285715},{"$f":"IF(P14=0,0,(P14*((LOG(P14))/LOG(2))))","v":-0.48910531519490458},null,null,{"$f":"N14","v":222},{"$f":"COUNTIF(L7:L15,T14)","v":1},{"$f":"U14/(W4-U10)","v":1},{"$f":"IF(V14=0,0,(V14*((LOG(V14))/LOG(2))))","v":0},null,{"$f":"N14","v":222},{"$f":"COUNTIF(L16:L25,Y14)","v":2},{"$f":"Z14/(AB4-Z10)","v":1},{"$f":"IF(AA14=0,0,(AA14*((LOG(AA14))/LOG(2))))","v":0},null,{"$f":"N14","v":222},{"$f":"COUNTIF(L26:L34,AD14)","v":4},{"$f":"AE14/(AG4-AE10)","v":1},{"$f":"IF(AF14=0,0,(AF14*((LOG(AF14))/LOG(2))))","v":0},null,{"$f":"N14","v":222},{"$f":"COUNTIF(L35:L43,AI14)","v":2},{"$f":"AJ14/(AL4-AJ10)","v":1},{"$f":"IF(AK14=0,0,(AK14*((LOG(AK14))/LOG(2))))","v":0},null,{"$f":"N14","v":222},{"$f":"COUNTIF(L44:L53,AN14)","v":2},{"$f":"AO14/(AQ4-AO10)","v":0.5},{"$f":"IF(AP14=0,0,(AP14*((LOG(AP14))/LOG(2))))","v":-0.5},null,{"$f":"N14","v":222},{"$f":"COUNTIF(L54:L62,AS14)","v":2},{"$f":"AT14/(AV4-AT10)","v":0.5},{"$f":"IF(AU14=0,0,(AU14*((LOG(AU14))/LOG(2))))","v":-0.5}]
[22,913,23,921,23,928,null,null,null,null,0,222,null,null,null,{"$f":"SUM(P7:P14)","v":1},{"$f":"-SUM(Q7:Q14)","v":1.231704870781499},null,null,null,null,{"$f":"SUM(V7:V14)","v":1},{"$f":"-SUM(W7:W14)","v":0},null,null,null,{"$f":"SUM(AA7:AA14)","v":1},{"$f":"-SUM(AB7:AB14)","v":0},null,null,null,{"$f":"SUM(AF7:AF14)","v":1},{"$f":"-SUM(AG7:AG14)","v":0},null,null,null,{"$f":"SUM(AK7:AK14)","v":1},{"$f":"-SUM(AL7:AL14)","v":0},null,null,null,{"$f":"SUM(AP7:AP14)","v":1},{"$f":"-SUM(AQ7:AQ14)","v":1.5},null,null,null,{"$f":"SUM(AU7:AU14)","v":1},{"$f":"-SUM(AV7:AV14)","v":1}]
[11,1016,21,1029,21,1036,null,null,null,null,0,122,null,null,null,"U=",{"$f":"Q15/(LOG(Q4)/LOG(2))","v":0.21209395453052377},null,null,null,null,"U1=",{"$f":"W15/(LOG(W4)/LOG(2))","v":0},null,null,null,"U2=",{"$f":"AB15/(LOG(AB4)/LOG(2))","v":0},null,null,null,"U3=",{"$f":"AG15/(LOG(AG4)/LOG(2))","v":0},null,null,null,"U4=",{"$f":"AL15/(LOG(AL4)/LOG(2))","v":0},null,null,null,"U5=",{"$f":"AQ15/(LOG(AQ4)/LOG(2))","v":0.45154499349597182},null,null,null,"U6=",{"$f":"AV15/(LOG(AV4)/LOG(2))","v":0.31546487678572877}]
[11,1123,21,1134,21,1138,null,null,null,null,0,122]
[22,1236,23,1241,23,1252,null,null,null,null,0,222]
[22,1358,23,1363,23,1370,null,null,null,null,0,222,null,"Total Target Seq"]
[11,1467,21,1478,21,1484,null,null,null,null,0,122,null,{"$f":"COUNTIF(L7:L62,G3)","v":39},null,9,10,9,9,10,9]
[11,1572,21,1585,21,1595,null,null,null,null,0,122,null,null,null,"% of reinforcement given in 6 equal intervals based on number of trials "]
[11,1685,21,1696,21,1705,null,null,null,null,0,122,null,null,null,"%_1","%_2","%_3","%_4","%_5","%_6"]
[11,1793,21,1805,21,1833,null,null,null,null,0,122,null,null,"target sequence",{"$f":"$G$3","v":122},{"$f":"$G$3","v":122},{"$f":"$G$3","v":122},{"$f":"$G$3","v":122},{"$f":"$G$3","v":122},{"$f":"$G$3","v":122}]
[11,1921,21,1932,21,1940,null,null,null,null,0,122,null,null,"total reinforcement",{"$f":"U10","v":8},{"$f":"Z10","v":8},{"$f":"AE10","v":5},{"$f":"AJ10","v":7},{"$f":"AO10","v":6},{"$f":"AT10","v":5}]
[11,2026,21,2042,21,2050,null,null,null,null,0,122,null,null,"% target"]
[11,2140,21,2170,21,2177,null,null,null,null,0,122,null,null,"CCRF"]
[11,2263,21,2275,21,2282,null,null,null,null,0,122,null,null,"% CCRf"]
[11,2368,21,2379,21,2385,null,null,null,null,0,122,null,null,"average response rate",{"$f":"F15/P20","v":103.11111111111111},{"$f":"(F25-F15)/Q20","v":112.2},{"$f":"(F34-F25)/R20","v":117.33333333333333},{"$f":"(F43-F34)/S20","v":107.44444444444444},{"$f":"(F53-F43)/T20","v":122.4},{"$f":"(F62-F53)/U20","v":114.44444444444444}]
[22,2485,23,2493,23,2503,null,null,null,null,0,222]
[22,2610,23,2615,23,2632,null,null,null,null,0,222]
[22,2739,23,2747,23,2764,null,null,null,null,0,222]
[22,2870,23,2877,23,2885,null,null,null,null,0,222]
[11,2983,21,2992,21,3000,null,null,null,null,0,122]
[11,3090,21,3101,21,3106,null,null,null,null,0,122]
[11,3193,21,3204,21,3212,null,null,null,null,0,122]
[11,3298,21,3309,21,3316,null,null,null,null,0,122]
[11,3402,21,3410,21,3416,null,null,null,null,0,122]
[11,3506,21,3516,21,3521,null,null,null,null,0,122]
[22,3613,23,3621,23,3629,null,null,null,null,0,222]
[11,3727,21,3738,21,3746,null,null,null,null,0,122]
[11,3832,21,3843,21,3849,null,null,null,null,0,122]
[22,3947,23,3955,23,3963,null,null,null,null,0,222]
[11,4059,21,4069,21,4073,null,null,null,null,0,122]
[22,4179,14,4200,23,4215,null,null,null,null,0,212]
[22,4321,23,4326,23,4336,null,null,null,null,0,222]
[22,4444,23,4452,23,4503,null,null,null,null,0,222]
[11,4614,21,4624,21,4638,null,null,null,null,0,122]
[11,4727,21,4739,21,4747,null,null,null,null,0,122]
[11,4833,21,4845,21,4853,null,null,null,null,0,122]
[11,4942,21,4953,21,4961,null,null,null,null,0,122]
[11,5051,12,5059,14,5067,null,null,null,null,0,111]
[11,5165,21,5183,21,5191,null,null,null,null,0,122]
[11,5279,21,5292,21,5297,null,null,null,null,0,122]
[11,5385,21,5396,21,5413,null,null,null,null,0,122]
[11,5499,21,5510,21,5517,null,null,null,null,0,122]
[11,5602,12,5611,23,5623,null,null,null,null,0,112]
[22,5732,23,5740,23,5756,null,null,null,null,0,222]
[11,5851,21,5865,21,5872,null,null,null,null,0,122]
[11,5958,21,5970,21,5978,null,null,null,null,0,122]
[22,6077,23,6081,23,6089,null,null,null,null,0,222]
[11,6184,12,6188,23,6212,null,null,null,null,0,112]
[11,6308,21,6320,21,6327,null,null,null,null,1,122]

{"sheet":"!M730B00.104","index":18,"n_rows":61,"n_cols":48,"rows_kept":61,"cut":false,"hidden":false,"merged":[[4,39,4,42],[5,39,5,40],[4,44,4,47],[5,44,5,45],[4,24,4,27],[5,24,5,25],[4,29,4,32],[5,29,5,30],[4,34,4,37],[5,34,5,35],[1,1,1,2],[5,13,5,14],[18,13,18,14],[19,13,19,14],[4,19,4,22],[5,19,5,20]]}
["Report for:!M730B00.104"]
["Date:","<date>"]
["Hen:","<hen>",null,null,null,"Correct Sequence",{"$f":"Start!J2","v":122},null,null,null,null,null,null,null,null,"Total Sequences in Data",{"$f":"4994-COUNTBLANK(L7:L5000)","v":55},null,null,null,null,"Total Sequences in Block Data",{"$f":"COUNTA(L7:L15)","v":9},null,null,null,"Total Sequences in Block Data",{"$f":"COUNTA(L16:L24)","v":9},null,null,null,"Total Sequences in Block Data",{"$f":"COUNTA(L25:L34)","v":10},null,null,null,"Total Sequences in Block Data",{"$f":"COUNTA(L35:L43)","v":9},null,null,null,"Total Sequences in Block Data",{"$f":"COUNTA(L44:L52)","v":9},null,null,null,"Total Sequences in Block Data",{"$f":"COUNTA(L53:L61)","v":9}]
[null,null,null,null,null,null,null,null,null,null,null,null,null,null,null,"Total Sequences in Summary",{"$f":"SUM(O7:O14)","v":55},null,null,null,null,"Total Sequences in Block Summary",{"$f":"SUM(U7:U14)","v":9},null,null,null,"Total Sequences in Block Summary",{"$f":"SUM(Z7:Z14)","v":9},null,null,null,"Total Sequences in Block Summary",{"$f":"SUM(AE7:AE14)","v":10},null,null,null,"Total Sequences in Block Summary",{"$f":"SUM(AJ7:AJ14)","v":9},null,null,null,"Total Sequences in Block Summary",{"$f":"SUM(AO7:AO14)","v":9},null,null,null,"Total Sequences in Block Summary",{"$f":"SUM(AT7:AT14)","v":9}]
[null,null,null,null,null,null,null,null,null,null,null,null,null,null,null,null,null,null,null,"Block 1",null,null,null,null,"Block 2",null,null,null,null,"Block 3",null,null,null,null,"Block 4",null,null,null,null,"Block 5",null,null,null,null,"Block 6"]
["Sequence\nComponent\n1","Time\n1","Sequence\nComponent\n2","Time\n2","Sequence\nComponent\n3","Time\n3","Sequence\nComponent\n4","Time\n4","Sequence\nComponent\n5","Time\n5","Correct?\n0=No 1=Yes","Sequence",null,"Frequency",null,"Relative Frequency","Variability",null,null,"Frequency",null,"Relative Frequency","Variability",null,"Frequency",null,"Relative Frequency","Variability",null,"Frequency",null,"Relative Frequency","Variability",null,"Frequency",null,"Relative Frequency","Variability",null,"Frequency",null,"Relative Frequency","Variability",null,"Frequency",null,"Relative Frequency","Variability"]
[11,9,21,17,21,22,null,null,null,null,0,122,null,111,{"$f":"COUNTIF($L$7:$L$500,N7)","v":2},{"$f":"O7/$Q$4","v":3.6363636363636362E-2},{"$f":"IF(P7=0,0,(P7*((LOG(P7))/LOG(2))))","v":-0.17386762594635127},null,null,{"$f":"N7","v":111},{"$f":"COUNTIF(L7:L15,T7)","v":0},{"$f":"U7/(W4-U10)","v":0},{"$f":"IF(V7=0,0,(V7*((LOG(V7))/LOG(2))))","v":0},null,{"$f":"N7","v":111},{"$f":"COUNTIF(L16:L24,Y7)","v":0},{"$f":"Z7/(AB4-Z10)","v":0},{"$f":"IF(AA7=0,0,(AA7*((LOG(AA7))/LOG(2))))","v":0},null,{"$f":"N7","v":111},{"$f":"COUNTIF(L25:L34,AD7)","v":1},{"$f":"AE7/(AG4-AE10)","v":0.25},{"$f":"IF(AF7=0,0,(AF7*((LOG(AF7))/LOG(2))))","v":-0.5},null,{"$f":"N7","v":111},{"$f":"COUNTIF(L35:L43,AI7)","v":0},{"$f":"AJ7/(AL4-AJ10)","v":0},{"$f":"IF(AK7=0,0,(AK7*((LOG(AK7))/LOG(2))))","v":0},null,{"$f":"N7","v":111},{"$f":"COUNTIF(L44:L52,AN7)","v":0},{"$f":"AO7/(AQ4-AO10)","v":0},{"$f":"IF(AP7=0,0,(AP7*((LOG(AP7))/LOG(2))))","v":0},null,{"$f":"N7","v":111},{"$f":"COUNTIF(L53:L61,AS7)","v":1},{"$f":"AT7/(AV4-AT10)","v":0.5},{"$f":"IF(AU7=0,0,(AU7*((LOG(AU7))/LOG(2))))","v":-0.5}]
[22,121,23,128,23,148,null,null,null,null,0,222,null,112,{"$f":"COUNTIF($L$7:$L$500,N8)","v":5},{"$f":"O8/$Q$4","v":9.0909090909090912E-2},{"$f":"IF(P8=0,0,(P8*((LOG(P8))/LOG(2))))","v":-0.31449378351248153},null,null,{"$f":"N8","v":112},{"$f":"COUNTIF(L7:L15,T8)","v":0},{"$f":"U8/(W4-U10)","v":0},{"$f":"IF(V8=0,0,(V8*((LOG(V8))/LOG(2))))","v":0},null,{"$f":"N8","v":112},{"$f":"COUNTIF(L16:L24,Y8)","v":0},{"$f":"Z8/(AB4-Z10)","v":0},{"$f":"IF(AA8=0,0,(AA8*((LOG(AA8))/LOG(2))))","v":0},null,{"$f":"N8","v":112},{"$f":"COUNTIF(L25:L34,AD8)","v":1},{"$f":"AE8/(AG4-AE10)","v":0.25},{"$f":"IF(AF8=0,0,(AF8*((LOG(AF8))/LOG(2))))","v":-0.5},null,{"$f":"N8","v":112},{"$f":"COUNTIF(L35:L43,AI8)","v":3},{"$f":"AJ8/(AL4-AJ10)","v":0.6},{"$f":"IF(AK8=0,0,(AK8*((LOG(AK8))/LOG(2))))","v":-0.44217935649972373},null,{"$f":"N8","v":112},{"$f":"COUNTIF(L44:L52,AN8)","v":1},{"$f":"AO8/(AQ4-AO10)","v":0.33333333333333331},{"$f":"IF(AP8=0,0,(AP8*((LOG(AP8))/LOG(2))))","v":-0.52832083357371862},null,{"$f":"N8","v":112},{"$f":"COUNTIF(L53:L61,AS8)","v":0},{"$f":"AT8/(AV4-AT10)","v":0},{"$f":"IF(AU8=0,0,(AU8*((LOG(AU8))/LOG(2))))","v":0}]
[11,244,21,253,21,257,null,null,null,null,0,122,null,121,{"$f":"COUNTIF($L$7:$L$500,N9)","v":0},{"$f":"O9/$Q$4","v":0},{"$f":"IF(P9=0,0,(P9*((LOG(P9))/LOG(2))))","v":0},null,null,{"$f":"N9","v":121},{"$f":"COUNTIF(L7:L15,T9)","v":0},{"$f":"U9/(W4-U10)","v":0},{"$f":"IF(V9=0,0,(V9*((LOG(V9))/LOG(2))))","v":0},null,{"$f":"N9","v":121},{"$f":"COUNTIF(L16:L24,Y9)","v":0},{"$f":"Z9/(AB4-Z10)","v":0},{"$f":"IF(AA9=0,0,(AA9*((LOG(AA9))/LOG(2))))","v":0},null,{"$f":"N9","v":121},{"$f":"COUNTIF(L25:L34,AD9)","v":0},{"$f":"AE9/(AG4-AE10)","v":0},{"$f":"IF(AF9=0,0,(AF9*((LOG(AF9))/LOG(2))))","v":0},null,{"$f":"N9","v":121},{"$f":"COUNTIF(L35:L43,AI9)","v":0},{"$f":"AJ9/(AL4-AJ10)","v":0},{"$f":"IF(AK9=0,0,(AK9*((LOG(AK9))/LOG(2))))","v":0},null,{"$f":"N9","v":121},{"$f":"COUNTIF(L44:L52,AN9)","v":0},{"$f":"AO9/(AQ4-AO10)","v":0},{"$f":"IF(AP9=0,0,(AP9*((LOG(AP9))/LOG(2))))","v":0},null,{"$f":"N9","v":121},{"$f":"COUNTIF(L53:L61,AS9)","v":0},{"$f":"AT9/(AV4-AT10)","v":0},{"$f":"IF(AU9=0,0,(AU9*((LOG(AU9))/LOG(2))))","v":0}]
[11,345,21,357,21,364,null,null,null,null,0,122,null,122,{"$f":"COUNTIF($L$7:$L$500,N10)","v":39},{"$f":"O10/$Q$4","v":0.70909090909090911},{"$f":"IF(P10=0,0,(P10*((LOG(P10))/LOG(2))))","v":-0.35167895076061884},null,null,{"$f":"N10","v":122},{"$f":"COUNTIF(L7:L15,T10)","v":8},null,null,null,{"$f":"N10","v":122},{"$f":"COUNTIF(L16:L24,Y10)","v":8},null,null,null,{"$f":"N10","v":122},{"$f":"COUNTIF(L25:L34,AD10)","v":6},null,null,null,{"$f":"N10","v":122},{"$f":"COUNTIF(L35:L43,AI10)","v":4},null,null,null,{"$f":"N10","v":122},{"$f":"COUNTIF(L44:L52,AN10)","v":6},null,null,null,{"$f":"N10","v":122},{"$f":"COUNTIF(L53:L61,AS10)","v":7}]
[11,450,21,460,21,465,null,null,null,null,0,122,null,211,{"$f":"COUNTIF($L$7:$L$500,N11)","v":0},{"$f":"O11/$Q$4","v":0},{"$f":"IF(P11=0,0,(P11*((LOG(P11))/LOG(2))))","v":0},null,null,{"$f":"N11","v":211},{"$f":"COUNTIF(L7:L15,T11)","v":0},{"$f":"U11/(W4-U10)","v":0},{"$f":"IF(V11=0,0,(V11*((LOG(V11))/LOG(2))))","v":0},null,{"$f":"N11","v":211},{"$f":"COUNTIF(L16:L24,Y11)","v":0},{"$f":"Z11/(AB4-Z10)","v":0},{"$f":"IF(AA11=0,0,(AA11*((LOG(AA11))/LOG(2))))","v":0},null,{"$f":"N11","v":211},{"$f":"COUNTIF(L25:L34,AD11)","v":0},{"$f":"AE11/(AG4-AE10)","v":0},{"$f":"IF(AF11=0,0,(AF11*((LOG(AF11))/LOG(2))))","v":0},null,{"$f":"N11","v":211},{"$f":"COUNTIF(L35:L43,AI11)","v":0},{"$f":"AJ11/(AL4-AJ10)","v":0},{"$f":"IF(AK11=0,0,(AK11*((LOG(AK11))/LOG(2))))","v":0},null,{"$f":"N11","v":211},{"$f":"COUNTIF(L44:L52,AN11)","v":0},{"$f":"AO11/(AQ4-AO10)","v":0},{"$f":"IF(AP11=0,0,(AP11*((LOG(AP11))/LOG(2))))","v":0},null,{"$f":"N11","v":211},{"$f":"COUNTIF(L53:L61,AS11)","v":0},{"$f":"AT11/(AV4-AT10)","v":0},{"$f":"IF(AU11=0,0,(AU11*((LOG(AU11))/LOG(2))))","v":0}]
[11,550,21,559,21,568,null,null,null,null,0,122,null,212,{"$f":"COUNTIF($L$7:$L$500,N12)","v":0},{"$f":"O12/$Q$4","v":0},{"$f":"IF(P12=0,0,(P12*((LOG(P12))/LOG(2))))","v":0},null,null,{"$f":"N12","v":212},{"$f":"COUNTIF(L7:L15,T12)","v":0},{"$f":"U12/(W4-U10)","v":0},{"$f":"IF(V12=0,0,(V12*((LOG(V12))/LOG(2))))","v":0},null,{"$f":"N12","v":212},{"$f":"COUNTIF(L16:L24,Y12)","v":0},{"$f":"Z12/(AB4-Z10)","v":0},{"$f":"IF(AA12=0,0,(AA12*((LOG(AA12))/LOG(2))))","v":0},null,{"$f":"N12","v":212},{"$f":"COUNTIF(L25:L34,AD12)","v":0},{"$f":"AE12/(AG4-AE10)","v":0},{"$f":"IF(AF12=0,0,(AF12*((LOG(AF12))/LOG(2))))","v":0},null,{"$f":"N12","v":212},{"$f":"COUNTIF(L35:L43,AI12)","v":0},{"$f":"AJ12/(AL4-AJ10)","v":0},{"$f":"IF(AK12=0,0,(AK12*((LOG(AK12))/LOG(2))))","v":0},null,{"$f":"N12","v":212},{"$f":"COUNTIF(L44:L52,AN12)","v":0},{"$f":"AO12/(AQ4-AO10)","v":0},{"$f":"IF(AP12=0,0,(AP12*((LOG(AP12))/LOG(2))))","v":0},null,{"$f":"N12","v":212},{"$f":"COUNTIF(L53:L61,AS12)","v":0},{"$f":"AT12/(AV4-AT10)","v":0},{"$f":"IF(AU12=0,0,(AU12*((LOG(AU12))/LOG(2))))","v":0}]
[11,655,21,665,21,679,null,null,null,null,0,122,null,221,{"$f":"COUNTIF($L$7:$L$500,N13)","v":0},{"$f":"O13/$Q$4","v":0},{"$f":"IF(P13=0,0,(P13*((LOG(P13))/LOG(2))))","v":0},null,null,{"$f":"N13","v":221},{"$f":"COUNTIF(L7:L15,T13)","v":0},{"$f":"U13/(W4-U10)","v":0},{"$f":"IF(V13=0,0,(V13*((LOG(V13))/LOG(2))))","v":0},null,{"$f":"N13","v":221},{"$f":"COUNTIF(L16:L24,Y13)","v":0},{"$f":"Z13/(AB4-Z10)","v":0},{"$f":"IF(AA13=0,0,(AA13*((LOG(AA13))/LOG(2))))","v":0},null,{"$f":"N13","v":221},{"$f":"COUNTIF(L25:L34,AD13)","v":0},{"$f":"AE13/(AG4-AE10)","v":0},{"$f":"IF(AF13=0,0,(AF13*((LOG(AF13))/LOG(2))))","v":0},null,{"$f":"N13","v":221},{"$f":"COUNTIF(L35:L43,AI13)","v":0},{"$f":"AJ13/(AL4-AJ10)","v":0},{"$f":"IF(AK13=0,0,(AK13*((LOG(AK13))/LOG(2))))","v":0},null,{"$f":"N13","v":221},{"$f":"COUNTIF(L44:L52,AN13)","v":0},{"$f":"AO13/(AQ4-AO10)","v":0},{"$f":"IF(AP13=0,0,(AP13*((LOG(AP13))/LOG(2))))","v":0},null,{"$f":"N13","v":221},{"$f":"COUNTIF(L53:L61,AS13)","v":0},{"$f":"AT13/(AV4-AT10)","v":0},{"$f":"IF(AU13=0,0,(AU13*((LOG(AU13))/LOG(2))))","v":0}]
[11,765,21,773,21,781,null,null,null,null,0,122,null,222,{"$f":"COUNTIF($L$7:$L$500,N14)","v":9},{"$f":"O14/$Q$4","v":0.16363636363636364},{"$f":"IF(P14=0,0,(P14*((LOG(P14))/LOG(2))))","v":-0.42732568015892958},null,null,{"$f":"N14","v":222},{"$f":"COUNTIF(L7:L15,T14)","v":1},{"$f":"U14/(W4-U10)","v":1},{"$f":"IF(V14=0,0,(V14*((LOG(V14))/LOG(2))))","v":0},null,{"$f":"N14","v":222},{"$f":"COUNTIF(L16:L24,Y14)","v":1},{"$f":"Z14/(AB4-Z10)","v":1},{"$f":"IF(AA14=0,0,(AA14*((LOG(AA14))/LOG(2))))","v":0},null,{"$f":"N14","v":222},{"$f":"COUNTIF(L25:L34,AD14)","v":2},{"$f":"AE14/(AG4-AE10)","v":0.5},{"$f":"IF(AF14=0,0,(AF14*((LOG(AF14))/LOG(2))))","v":-0.5},null,{"$f":"N14","v":222},{"$f":"COUNTIF(L35:L43,AI14)","v":2},{"$f":"AJ14/(AL4-AJ10)","v":0.4},{"$f":"IF(AK14=0,0,(AK14*((LOG(AK14))/LOG(2))))","v":-0.52877123795494496},null,{"$f":"N14","v":222},{"$f":"COUNTIF(L44:L52,AN14)","v":2},{"$f":"AO14/(AQ4-AO10)","v":0.66666666666666663},{"$f":"IF(AP14=0,0,(AP14*((LOG(AP14))/LOG(2))))","v":-0.38997500048077083},null,{"$f":"N14","v":222},{"$f":"COUNTIF(L53:L61,AS14)","v":1},{"$f":"AT14/(AV4-AT10)","v":0.5},{"$f":"IF(AU14=0,0,(AU14*((LOG(AU14))/LOG(2))))","v":-0.5}]
[11,866,21,877,21,886,null,null,null,null,0,122,null,null,null,{"$f":"SUM(P7:P14)","v":1},{"$f":"-SUM(Q7:Q14)","v":1.2673660403783811},null,null,null,null,{"$f":"SUM(V7:V14)","v":1},{"$f":"-SUM(W7:W14)","v":0},null,null,null,{"$f":"SUM(AA7:AA14)","v":1},{"$f":"-SUM(AB7:AB14)","v":0},null,null,null,{"$f":"SUM(AF7:AF14)","v":1},{"$f":"-SUM(AG7:AG14)","v":1.5},null,null,null,{"$f":"SUM(AK7:AK14)","v":1},{"$f":"-SUM(AL7:AL14)","v":0.97095059445466869},null,null,null,{"$f":"SUM(AP7:AP14)","v":1},{"$f":"-SUM(AQ7:AQ14)","v":0.91829583405448945},null,null,null,{"$f":"SUM(AU7:AU14)","v":1},{"$f":"-SUM(AV7:AV14)","v":1}]
[11,974,21,985,21,1010,null,null,null,null,0,122,null,null,null,"U=",{"$f":"Q15/(LOG(Q4)/LOG(2))","v":0.21921591168485166},null,null,null,null,"U1=",{"$f":"W15/(LOG(W4)/LOG(2))","v":0},null,null,null,"U2=",{"$f":"AB15/(LOG(AB4)/LOG(2))","v":0},null,null,null,"U3=",{"$f":"AG15/(LOG(AG4)/LOG(2))","v":0.45154499349597182},null,null,null,"U4=",{"$f":"AL15/(LOG(AL4)/LOG(2))","v":0.30630080964467216},null,null,null,"U5=",{"$f":"AQ15/(LOG(AQ4)/LOG(2))","v":0.28969008214284753},null,null,null,"U6=",{"$f":"AV15/(LOG(AV4)/LOG(2))","v":0.31546487678572877}]
[11,1098,21,1108,21,1116,null,null,null,null,0,122]
[11,1202,21,1213,21,1218,null,null,null,null,0,122]
[22,1316,23,1325,23,1343,null,null,null,null,0,222,null,"Total Target Seq"]
[11,1439,21,1448,21,1455,null,null,null,null,0,122,null,{"$f":"COUNTIF(L7:L61,G3)","v":39},null,9,9,10,9,9,9]
[11,1543,21,1553,21,1561,null,null,null,null,0,122,null,null,null,"% of reinforcement given in 6 equal intervals based on number of trials "]
[11,1645,21,1654,21,1661,null,null,null,null,0,122,null,null,null,"%_1","%_2","%_3","%_4","%_5","%_6"]
[11,1747,21,1758,21,1804,null,null,null,null,0,122,null,null,"target sequence",{"$f":"$G$3","v":122},{"$f":"$G$3","v":122},{"$f":"$G$3","v":122},{"$f":"$G$3","v":122},{"$f":"$G$3","v":122},{"$f":"$G$3","v":122}]
[11,1891,21,1902,21,1910,null,null,null,null,0,122,null,null,"total reinforcement",{"$f":"U10","v":8},{"$f":"Z10","v":8},{"$f":"AE10","v":6},{"$f":"AJ10","v":4},{"$f":"AO10","v":6},{"$f":"AT10","v":7}]
[11,1995,21,2004,21,2009,null,null,null,null,0,122,null,null,"% target"]
[11,2099,12,2107,14,2115,null,null,null,null,0,111,null,null,"CCRF"]
[11,2204,21,2217,21,2225,null,null,null,null,0,122,null,null,"% CCRf"]
[11,2309,21,2320,21,2325,null,null,null,null,0,122,null,null,"average response rate",{"$f":"F15/P20","v":98.444444444444443},{"$f":"(F24-F15)/Q20","v":113.77777777777777},{"$f":"(F34-F24)/R20","v":108.4},{"$f":"(F43-F34)/S20","v":117.22222222222223},{"$f":"(F52-F43)/T20","v":110.44444444444444},{"$f":"(F61-F52)/U20","v":106.77777777777777}]
[22,2421,23,2444,23,2452,null,null,null,null,0,222]
[22,2555,23,2560,23,2571,null,null,null,null,0,222]
[11,2667,21,2677,21,2690,null,null,null,null,0,122]
[11,2775,21,2785,21,2790,null,null,null,null,0,122]
[11,2876,21,2888,21,2895,null,null,null,null,0,122]
[11,2979,12,2983,23,2994,null,null,null,null,0,112]
[11,3089,12,3093,23,3105,null,null,null,null,0,112]
[11,3201,21,3212,21,3221,null,null,null,null,0,122]
[11,3307,21,3319,21,3327,null,null,null,null,0,122]
[22,3427,23,3446,23,3455,null,null,null,null,0,222]
[11,3551,12,3555,23,3566,null,null,null,null,0,112]
[11,3662,12,3665,23,3675,null,null,null,null,0,112]
[22,3782,23,3789,23,3799,null,null,null,null,0,222]
[11,3894,21,3904,21,3919,null,null,null,null,0,122]
[11,4004,21,4014,21,4049,null,null,null,null,0,122]
[11,4137,21,4147,21,4154,null,null,null,null,0,122]
[22,4250,23,4258,23,4266,null,null,null,null,0,222]
[11,4363,12,4366,23,4379,null,null,null,null,0,112]
[11,4474,21,4484,21,4492,null,null,null,null,0,122]
[11,4577,21,4588,21,4594,null,null,null,null,0,122]
[11,4682,21,4692,21,4700,null,null,null,null,0,122]
[22,4798,23,4805,23,4817,null,null,null,null,0,222]
[11,4913,21,4924,21,4928,null,null,null,null,0,122]
[11,5015,21,5025,21,5043,null,null,null,null,0,122]
[11,5136,12,5143,14,5151,null,null,null,null,0,111]
[11,5246,21,5257,21,5264,null,null,null,null,0,122]
[11,5348,21,5358,21,5363,null,null,null,null,0,122]
[11,5450,21,5464,21,5471,null,null,null,null,0,122]
[11,5557,21,5567,21,5575,null,null,null,null,0,122]
[11,5661,21,5671,21,5676,null,null,null,null,0,122]
[11,5761,21,5769,21,5774,null,null,null,null,0,122]
[22,5874,23,5881,23,5894,null,null,null,null,0,222]
[11,5990,21,6000,21,6004,null,null,null,null,1,122]

{"sheet":"!M731A50.104","index":19,"n_rows":65,"n_cols":48,"rows_kept":65,"cut":false,"hidden":false,"merged":[[4,39,4,42],[5,39,5,40],[4,44,4,47],[5,44,5,45],[4,24,4,27],[5,24,5,25],[4,29,4,32],[5,29,5,30],[4,34,4,37],[5,34,5,35],[1,1,1,2],[5,13,5,14],[18,13,18,14],[19,13,19,14],[4,19,4,22],[5,19,5,20]]}
["Report for:!M731A50.104"]
["Date:","<date>"]
["Hen:","<hen>",null,null,null,"Correct Sequence",{"$f":"Start!J2","v":122},null,null,null,null,null,null,null,null,"Total Sequences in Data",{"$f":"4994-COUNTBLANK(L7:L5000)","v":59},null,null,null,null,"Total Sequences in Block Data",{"$f":"COUNTA(L7:L16)","v":10},null,null,null,"Total Sequences in Block Data",{"$f":"COUNTA(L17:L26)","v":10},null,null,null,"Total Sequences in Block Data",{"$f":"COUNTA(L27:L35)","v":9},null,null,null,"Total Sequences in Block Data",{"$f":"COUNTA(L36:L45)","v":10},null,null,null,"Total Sequences in Block Data",{"$f":"COUNTA(L46:L55)","v":10},null,null,null,"Total Sequences in Block Data",{"$f":"COUNTA(L56:L65)","v":10}]
[null,null,null,null,null,null,null,null,null,null,null,null,null,null,null,"Total Sequences in Summary",{"$f":"SUM(O7:O14)","v":59},null,null,null,null,"Total Sequences in Block Summary",{"$f":"SUM(U7:U14)","v":10},null,null,null,"Total Sequences in Block Summary",{"$f":"SUM(Z7:Z14)","v":10},null,null,null,"Total Sequences in Block Summary",{"$f":"SUM(AE7:AE14)","v":9},null,null,null,"Total Sequences in Block Summary",{"$f":"SUM(AJ7:AJ14)","v":10},null,null,null,"Total Sequences in Block Summary",{"$f":"SUM(AO7:AO14)","v":10},null,null,null,"Total Sequences in Block Summary",{"$f":"SUM(AT7:AT14)","v":10}]
[null,null,null,null,null,null,null,null,null,null,null,null,null,null,null,null,null,null,null,"Block 1",null,null,null,null,"Block 2",null,null,null,null,"Block 3",null,null,null,null,"Block 4",null,null,null,null,"Block 5",null,null,null,null,"Block 6"]
["Sequence\nComponent\n1","Time\n1","Sequence\nComponent\n2","Time\n2","Sequence\nComponent\n3","Time\n3","Sequence\nComponent\n4","Time\n4","Sequence\nComponent\n5","Time\n5","Correct?\n0=No 1=Yes","Sequence",null,"Frequency",null,"Relative Frequency","Variability",null,null,"Frequency",null,"Relative Frequency","Variability",null,"Frequency",null,"Relative Frequency","Variability",null,"Frequency",null,"Relative Frequency","Variability",null,"Frequency",null,"Relative Frequency","Variability",null,"Frequency",null,"Relative Frequency","Variability",null,"Frequency",null,"Relative Frequency","Variability"]
[11,9,12,33,23,41,null,null,null,null,0,112,null,111,{"$f":"COUNTIF($L$7:$L$500,N7)","v":2},{"$f":"O7/$Q$4","v":3.3898305084745763E-2},{"$f":"IF(P7=0,0,(P7*((LOG(P7))/LOG(2))))","v":-0.16551332370718108},null,null,{"$f":"N7","v":111},{"$f":"COUNTIF(L7:L16,T7)","v":0},{"$f":"U7/(W4-U10)","v":0},{"$f":"IF(V7=0,0,(V7*((LOG(V7))/LOG(2))))","v":0},null,{"$f":"N7","v":111},{"$f":"COUNTIF(L17:L26,Y7)","v":0},{"$f":"Z7/(AB4-Z10)","v":0},{"$f":"IF(AA7=0,0,(AA7*((LOG(AA7))/LOG(2))))","v":0},null,{"$f":"N7","v":111},{"$f":"COUNTIF(L27:L35,AD7)","v":0},{"$f":"AE7/(AG4-AE10)","v":0},{"$f":"IF(AF7=0,0,(AF7*((LOG(AF7))/LOG(2))))","v":0},null,{"$f":"N7","v":111},{"$f":"COUNTIF(L36:L45,AI7)","v":1},{"$f":"AJ7/(AL4-AJ10)","v":0.2},{"$f":"IF(AK7=0,0,(AK7*((LOG(AK7))/LOG(2))))","v":-0.46438561897747244},null,{"$f":"N7","v":111},{"$f":"COUNTIF(L46:L55,AN7)","v":0},{"$f":"AO7/(AQ4-AO10)","v":0},{"$f":"IF(AP7=0,0,(AP7*((LOG(AP7))/LOG(2))))","v":0},null,{"$f":"N7","v":111},{"$f":"COUNTIF(L56:L65,AS7)","v":1},{"$f":"AT7/(AV4-AT10)","v":0.25},{"$f":"IF(AU7=0,0,(AU7*((LOG(AU7))/LOG(2))))","v":-0.5}]
[22,152,23,159,23,179,null,null,null,null,0,222,null,112,{"$f":"COUNTIF($L$7:$L$500,N8)","v":3},{"$f":"O8/$Q$4","v":5.0847457627118647E-2},{"$f":"IF(P8=0,0,(P8*((LOG(P8))/LOG(2))))","v":-0.21852612959189924},null,null,{"$f":"N8","v":112},{"$f":"COUNTIF(L7:L16,T8)","v":1},{"$f":"U8/(W4-U10)","v":0.33333333333333331},{"$f":"IF(V8=0,0,(V8*((LOG(V8))/LOG(2))))","v":-0.52832083357371862},null,{"$f":"N8","v":112},{"$f":"COUNTIF(L17:L26,Y8)","v":0},{"$f":"Z8/(AB4-Z10)","v":0},{"$f":"IF(AA8=0,0,(AA8*((LOG(AA8))/LOG(2))))","v":0},null,{"$f":"N8","v":112},{"$f":"COUNTIF(L27:L35,AD8)","v":0},{"$f":"AE8/(AG4-AE10)","v":0},{"$f":"IF(AF8=0,0,(AF8*((LOG(AF8))/LOG(2))))","v":0},null,{"$f":"N8","v":112},{"$f":"COUNTIF(L36:L45,AI8)","v":0},{"$f":"AJ8/(AL4-AJ10)","v":0},{"$f":"IF(AK8=0,0,(AK8*((LOG(AK8))/LOG(2))))","v":0},null,{"$f":"N8","v":112},{"$f":"COUNTIF(L46:L55,AN8)","v":1},{"$f":"AO8/(AQ4-AO10)","v":0.5},{"$f":"IF(AP8=0,0,(AP8*((LOG(AP8))/LOG(2))))","v":-0.5},null,{"$f":"N8","v":112},{"$f":"COUNTIF(L56:L65,AS8)","v":1},{"$f":"AT8/(AV4-AT10)","v":0.25},{"$f":"IF(AU8=0,0,(AU8*((LOG(AU8))/LOG(2))))","v":-0.5}]
[11,280,21,291,21,299,null,null,null,null,0,122,null,121,{"$f":"COUNTIF($L$7:$L$500,N9)","v":0},{"$f":"O9/$Q$4","v":0},{"$f":"IF(P9=0,0,(P9*((LOG(P9))/LOG(2))))","v":0},null,null,{"$f":"N9","v":121},{"$f":"COUNTIF(L7:L16,T9)","v":0},{"$f":"U9/(W4-U10)","v":0},{"$f":"IF(V9=0,0,(V9*((LOG(V9))/LOG(2))))","v":0},null,{"$f":"N9","v":121},{"$f":"COUNTIF(L17:L26,Y9)","v":0},{"$f":"Z9/(AB4-Z10)","v":0},{"$f":"IF(AA9=0,0,(AA9*((LOG(AA9))/LOG(2))))","v":0},null,{"$f":"N9","v":121},{"$f":"COUNTIF(L27:L35,AD9)","v":0},{"$f":"AE9/(AG4-AE10)","v":0},{"$f":"IF(AF9=0,0,(AF9*((LOG(AF9))/LOG(2))))","v":0},null,{"$f":"N9","v":121},{"$f":"COUNTIF(L36:L45,AI9)","v":0},{"$f":"AJ9/(AL4-AJ10)","v":0},{"$f":"IF(AK9=0,0,(AK9*((LOG(AK9))/LOG(2))))","v":0},null,{"$f":"N9","v":121},{"$f":"COUNTIF(L46:L55,AN9)","v":0},{"$f":"AO9/(AQ4-AO10)","v":0},{"$f":"IF(AP9=0,0,(AP9*((LOG(AP9))/LOG(2))))","v":0},null,{"$f":"N9","v":121},{"$f":"COUNTIF(L56:L65,AS9)","v":0},{"$f":"AT9/(AV4-AT10)","v":0},{"$f":"IF(AU9=0,0,(AU9*((LOG(AU9))/LOG(2))))","v":0}]
[11,386,21,394,21,403,null,null,null,null,0,122,null,122,{"$f":"COUNTIF($L$7:$L$500,N10)","v":39},{"$f":"O10/$Q$4","v":0.66101694915254239},{"$f":"IF(P10=0,0,(P10*((LOG(P10))/LOG(2))))","v":-0.39478631168617156},null,null,{"$f":"N10","v":122},{"$f":"COUNTIF(L7:L16,T10)","v":7},null,null,null,{"$f":"N10","v":122},{"$f":"COUNTIF(L17:L26,Y10)","v":7},null,null,null,{"$f":"N10","v":122},{"$f":"COUNTIF(L27:L35,AD10)","v":6},null,null,null,{"$f":"N10","v":122},{"$f":"COUNTIF(L36:L45,AI10)","v":5},null,null,null,{"$f":"N10","v":122},{"$f":"COUNTIF(L46:L55,AN10)","v":8},null,null,null,{"$f":"N10","v":122},{"$f":"COUNTIF(L56:L65,AS10)","v":6}]
[11,488,21,496,21,505,null,null,null,null,0,122,null,211,{"$f":"COUNTIF($L$7:$L$500,N11)","v":0},{"$f":"O11/$Q$4","v":0},{"$f":"IF(P11=0,0,(P11*((LOG(P11))/LOG(2))))","v":0},null,null,{"$f":"N11","v":211},{"$f":"COUNTIF(L7:L16,T11)","v":0},{"$f":"U11/(W4-U10)","v":0},{"$f":"IF(V11=0,0,(V11*((LOG(V11))/LOG(2))))","v":0},null,{"$f":"N11","v":211},{"$f":"COUNTIF(L17:L26,Y11)","v":0},{"$f":"Z11/(AB4-Z10)","v":0},{"$f":"IF(AA11=0,0,(AA11*((LOG(AA11))/LOG(2))))","v":0},null,{"$f":"N11","v":211},{"$f":"COUNTIF(L27:L35,AD11)","v":0},{"$f":"AE11/(AG4-AE10)","v":0},{"$f":"IF(AF11=0,0,(AF11*((LOG(AF11))/LOG(2))))","v":0},null,{"$f":"N11","v":211},{"$f":"COUNTIF(L36:L45,AI11)","v":0},{"$f":"AJ11/(AL4-AJ10)","v":0},{"$f":"IF(AK11=0,0,(AK11*((LOG(AK11))/LOG(2))))","v":0},null,{"$f":"N11","v":211},{"$f":"COUNTIF(L46:L55,AN11)","v":0},{"$f":"AO11/(AQ4-AO10)","v":0},{"$f":"IF(AP11=0,0,(AP11*((LOG(AP11))/LOG(2))))","v":0},null,{"$f":"N11","v":211},{"$f":"COUNTIF(L56:L65,AS11)","v":0},{"$f":"AT11/(AV4-AT10)","v":0},{"$f":"IF(AU11=0,0,(AU11*((LOG(AU11))/LOG(2))))","v":0}]
[11,591,21,600,21,605,null,null,null,null,0,122,null,212,{"$f":"COUNTIF($L$7:$L$500,N12)","v":0},{"$f":"O12/$Q$4","v":0},{"$f":"IF(P12=0,0,(P12*((LOG(P12))/LOG(2))))","v":0},null,null,{"$f":"N12","v":212},{"$f":"COUNTIF(L7:L16,T12)","v":0},{"$f":"U12/(W4-U10)","v":0},{"$f":"IF(V12=0,0,(V12*((LOG(V12))/LOG(2))))","v":0},null,{"$f":"N12","v":212},{"$f":"COUNTIF(L17:L26,Y12)","v":0},{"$f":"Z12/(AB4-Z10)","v":0},{"$f":"IF(AA12=0,0,(AA12*((LOG(AA12))/LOG(2))))","v":0},null,{"$f":"N12","v":212},{"$f":"COUNTIF(L27:L35,AD12)","v":0},{"$f":"AE12/(AG4-AE10)","v":0},{"$f":"IF(AF12=0,0,(AF12*((LOG(AF12))/LOG(2))))","v":0},null,{"$f":"N12","v":212},{"$f":"COUNTIF(L36:L45,AI12)","v":0},{"$f":"AJ12/(AL4-AJ10)","v":0},{"$f":"IF(AK12=0,0,(AK12*((LOG(AK12))/LOG(2))))","v":0},null,{"$f":"N12","v":212},{"$f":"COUNTIF(L46:L55,AN12)","v":0},{"$f":"AO12/(AQ4-AO10)","v":0},{"$f":"IF(AP12=0,0,(AP12*((LOG(AP12))/LOG(2))))","v":0},null,{"$f":"N12","v":212},{"$f":"COUNTIF(L56:L65,AS12)","v":0},{"$f":"AT12/(AV4-AT10)","v":0},{"$f":"IF(AU12=0,0,(AU12*((LOG(AU12))/LOG(2))))","v":0}]
[11,693,21,703,21,738,null,null,null,null,0,122,null,221,{"$f":"COUNTIF($L$7:$L$500,N13)","v":1},{"$f":"O13/$Q$4","v":1.6949152542372881E-2},{"$f":"IF(P13=0,0,(P13*((LOG(P13))/LOG(2))))","v":-9.9705814395963419E-2},null,null,{"$f":"N13","v":221},{"$f":"COUNTIF(L7:L16,T13)","v":0},{"$f":"U13/(W4-U10)","v":0},{"$f":"IF(V13=0,0,(V13*((LOG(V13))/LOG(2))))","v":0},null,{"$f":"N13","v":221},{"$f":"COUNTIF(L17:L26,Y13)","v":0},{"$f":"Z13/(AB4-Z10)","v":0},{"$f":"IF(AA13=0,0,(AA13*((LOG(AA13))/LOG(2))))","v":0},null,{"$f":"N13","v":221},{"$f":"COUNTIF(L27:L35,AD13)","v":1},{"$f":"AE13/(AG4-AE10)","v":0.33333333333333331},{"$f":"IF(AF13=0,0,(AF13*((LOG(AF13))/LOG(2))))","v":-0.52832083357371862},null,{"$f":"N13","v":221},{"$f":"COUNTIF(L36:L45,AI13)","v":0},{"$f":"AJ13/(AL4-AJ10)","v":0},{"$f":"IF(AK13=0,0,(AK13*((LOG(AK13))/LOG(2))))","v":0},null,{"$f":"N13","v":221},{"$f":"COUNTIF(L46:L55,AN13)","v":0},{"$f":"AO13/(AQ4-AO10)","v":0},{"$f":"IF(AP13=0,0,(AP13*((LOG(AP13))/LOG(2))))","v":0},null,{"$f":"N13","v":221},{"$f":"COUNTIF(L56:L65,AS13)","v":0},{"$f":"AT13/(AV4-AT10)","v":0},{"$f":"IF(AU13=0,0,(AU13*((LOG(AU13))/LOG(2))))","v":0}]
[11,824,21,835,21,840,null,null,null,null,0,122,null,222,{"$f":"COUNTIF($L$7:$L$500,N14)","v":14},{"$f":"O14/$Q$4","v":0.23728813559322035},{"$f":"IF(P14=0,0,(P14*((LOG(P14))/LOG(2))))","v":-0.49244125054676813},null,null,{"$f":"N14","v":222},{"$f":"COUNTIF(L7:L16,T14)","v":2},{"$f":"U14/(W4-U10)","v":0.66666666666666663},{"$f":"IF(V14=0,0,(V14*((LOG(V14))/LOG(2))))","v":-0.38997500048077083},null,{"$f":"N14","v":222},{"$f":"COUNTIF(L17:L26,Y14)","v":3},{"$f":"Z14/(AB4-Z10)","v":1},{"$f":"IF(AA14=0,0,(AA14*((LOG(AA14))/LOG(2))))","v":0},null,{"$f":"N14","v":222},{"$f":"COUNTIF(L27:L35,AD14)","v":2},{"$f":"AE14/(AG4-AE10)","v":0.66666666666666663},{"$f":"IF(AF14=0,0,(AF14*((LOG(AF14))/LOG(2))))","v":-0.38997500048077083},null,{"$f":"N14","v":222},{"$f":"COUNTIF(L36:L45,AI14)","v":4},{"$f":"AJ14/(AL4-AJ10)","v":0.8},{"$f":"IF(AK14=0,0,(AK14*((LOG(AK14))/LOG(2))))","v":-0.25754247590988982},null,{"$f":"N14","v":222},{"$f":"COUNTIF(L46:L55,AN14)","v":1},{"$f":"AO14/(AQ4-AO10)","v":0.5},{"$f":"IF(AP14=0,0,(AP14*((LOG(AP14))/LOG(2))))","v":-0.5},null,{"$f":"N14","v":222},{"$f":"COUNTIF(L56:L65,AS14)","v":2},{"$f":"AT14/(AV4-AT10)","v":0.5},{"$f":"IF(AU14=0,0,(AU14*((LOG(AU14))/LOG(2))))","v":-0.5}]
[22,937,23,944,23,956,null,null,null,null,0,222,null,null,null,{"$f":"SUM(P7:P14)","v":1},{"$f":"-SUM(Q7:Q14)","v":1.3709728299279833},null,null,null,null,{"$f":"SUM(V7:V14)","v":1},{"$f":"-SUM(W7:W14)","v":0.91829583405448945},null,null,null,{"$f":"SUM(AA7:AA14)","v":1},{"$f":"-SUM(AB7:AB14)","v":0},null,null,null,{"$f":"SUM(AF7:AF14)","v":1},{"$f":"-SUM(AG7:AG14)","v":0.91829583405448945},null,null,null,{"$f":"SUM(AK7:AK14)","v":1},{"$f":"-SUM(AL7:AL14)","v":0.72192809488736231},null,null,null,{"$f":"SUM(AP7:AP14)","v":1},{"$f":"-SUM(AQ7:AQ14)","v":1},null,null,null,{"$f":"SUM(AU7:AU14)","v":1},{"$f":"-SUM(AV7:AV14)","v":1.5}]
[11,1052,21,1061,21,1066,null,null,null,null,0,122,null,null,null,"U=",{"$f":"Q15/(LOG(Q4)/LOG(2))","v":0.23305388724490236},null,null,null,null,"U1=",{"$f":"W15/(LOG(W4)/LOG(2))","v":0.27643459094367495},null,null,null,"U2=",{"$f":"AB15/(LOG(AB4)/LOG(2))","v":0},null,null,null,"U3=",{"$f":"AG15/(LOG(AG4)/LOG(2))","v":0.28969008214284753},null,null,null,"U4=",{"$f":"AL15/(LOG(AL4)/LOG(2))","v":0.21732201127364889},null,null,null,"U5=",{"$f":"AQ15/(LOG(AQ4)/LOG(2))","v":0.3010299956639812},null,null,null,"U6=",{"$f":"AV15/(LOG(AV4)/LOG(2))","v":0.45154499349597182}]
[11,1154,21,1164,21,1170,null,null,null,null,0,122]
[22,1268,23,1276,23,1287,null,null,null,null,0,222]
[11,1382,21,1392,21,1398,null,null,null,null,0,122,null,"Total Target Seq"]
[22,1496,23,1503,23,1514,null,null,null,null,0,222,null,{"$f":"COUNTIF(L7:L65,G3)","v":39},null,10,10,9,10,10,10]
[22,1625,23,1643,23,1651,null,null,null,null,0,222,null,null,null,"% of reinforcement given in 6 equal intervals based on number of trials "]
[11,1747,21,1758,21,1765,null,null,null,null,0,122,null,null,null,"%_1","%_2","%_3","%_4","%_5","%_6"]
[11,1857,21,1868,21,1875,null,null,null,null,0,122,null,null,"target sequence",{"$f":"$G$3","v":122},{"$f":"$G$3","v":122},{"$f":"$G$3","v":122},{"$f":"$G$3","v":122},{"$f":"$G$3","v":122},{"$f":"$G$3","v":122}]
[11,1960,21,1971,21,1986,null,null,null,null,0,122,null,null,"total reinforcement",{"$f":"U10","v":7},{"$f":"Z10","v":7},{"$f":"AE10","v":6},{"$f":"AJ10","v":5},{"$f":"AO10","v":8},{"$f":"AT10","v":6}]
[11,2074,21,2085,21,2093,null,null,null,null,0,122,null,null,"% target"]
[11,2179,21,2189,21,2197,null,null,null,null,0,122,null,null,"CCRF"]
[11,2286,21,2295,21,2302,null,null,null,null,0,122,null,null,"% CCRf"]
[11,2394,21,2416,21,2426,null,null,null,null,0,122,null,null,"average response rate",{"$f":"F16/P20","v":106.6},{"$f":"(F26-F16)/Q20","v":113.1},{"$f":"(F35-F26)/R20","v":114.66666666666667},{"$f":"(F45-F35)/S20","v":116.9},{"$f":"(F55-F45)/T20","v":107.9},{"$f":"(F65-F55)/U20","v":117}]
[22,2527,23,2534,23,2542,null,null,null,null,0,222]
[11,2637,21,2646,21,2654,null,null,null,null,0,122]
[11,2740,21,2749,21,2756,null,null,null,null,0,122]
[22,2855,23,2862,14,2882,null,null,null,null,0,221]
[11,2970,21,2979,21,2987,null,null,null,null,0,122]
[22,3091,23,3099,23,3118,null,null,null,null,0,222]
[11,3213,21,3223,21,3229,null,null,null,null,0,122]
[22,3327,23,3333,23,3352,null,null,null,null,0,222]
[11,3447,21,3457,21,3465,null,null,null,null,0,122]
[22,3564,23,3571,23,3580,null,null,null,null,0,222]
[22,3684,23,3692,23,3699,null,null,null,null,0,222]
[11,3795,21,3823,21,3839,null,null,null,null,0,122]
[11,3924,12,3937,14,3946,null,null,null,null,0,111]
[22,4052,23,4059,23,4067,null,null,null,null,0,222]
[11,4162,21,4173,21,4182,null,null,null,null,0,122]
[11,4269,21,4281,21,4288,null,null,null,null,0,122]
[11,4373,21,4391,21,4398,null,null,null,null,0,122]
[11,4486,21,4499,21,4507,null,null,null,null,0,122]
[11,4595,21,4606,21,4613,null,null,null,null,0,122]
[11,4702,21,4716,21,4725,null,null,null,null,0,122]
[11,4811,12,4815,23,4826,null,null,null,null,0,112]
[22,4932,23,4939,23,4946,null,null,null,null,0,222]
[11,5042,21,5052,21,5059,null,null,null,null,0,122]
[11,5146,21,5157,21,5164,null,null,null,null,0,122]
[11,5251,21,5263,21,5270,null,null,null,null,0,122]
[11,5354,21,5365,21,5372,null,null,null,null,0,122]
[11,5458,21,5470,21,5477,null,null,null,null,0,122]
[11,5562,21,5578,21,5584,null,null,null,null,0,122]
[22,5682,23,5689,23,5697,null,null,null,null,0,222]
[11,5793,21,5807,21,5814,null,null,null,null,0,122]
[11,5904,21,5920,21,5927,null,null,null,null,0,122]
[22,6026,23,6046,23,6053,null,null,null,null,0,222]
[11,6149,12,6154,23,6166,null,null,null,null,0,112]
[11,6262,21,6279,21,6286,null,null,null,null,0,122]
[11,6376,21,6388,21,6396,null,null,null,null,0,122]
[11,6493,12,6499,14,6506,null,null,null,null,0,111]
[11,6602,21,6633,21,6647,null,null,null,null,1,122]

{"sheet":"!M801B50.104","index":20,"n_rows":66,"n_cols":48,"rows_kept":66,"cut":false,"hidden":false,"merged":[[4,39,4,42],[5,39,5,40],[4,44,4,47],[5,44,5,45],[4,24,4,27],[5,24,5,25],[4,29,4,32],[5,29,5,30],[4,34,4,37],[5,34,5,35],[1,1,1,2],[5,13,5,14],[18,13,18,14],[19,13,19,14],[4,19,4,22],[5,19,5,20]]}
["Report for:!M801B50.104"]
["Date:","<date>"]
["Hen:","<hen>",null,null,null,"Correct Sequence",{"$f":"Start!J2","v":122},null,null,null,null,null,null,null,null,"Total Sequences in Data",{"$f":"4994-COUNTBLANK(L7:L5000)","v":60},null,null,null,null,"Total Sequences in Block Data",{"$f":"COUNTA(L7:L16)","v":10},null,null,null,"Total Sequences in Block Data",{"$f":"COUNTA(L17:L26)","v":10},null,null,null,"Total Sequences in Block Data",{"$f":"COUNTA(L27:L36)","v":10},null,null,null,"Total Sequences in Block Data",{"$f":"COUNTA(L37:L46)","v":10},null,null,null,"Total Sequences in Block Data",{"$f":"COUNTA(L47:L56)","v":10},null,null,null,"Total Sequences in Block Data",{"$f":"COUNTA(L57:L66)","v":10}]
[null,null,null,null,null,null,null,null,null,null,null,null,null,null,null,"Total Sequences in Summary",{"$f":"SUM(O7:O14)","v":60},null,null,null,null,"Total Sequences in Block Summary",{"$f":"SUM(U7:U14)","v":10},null,null,null,"Total Sequences in Block Summary",{"$f":"SUM(Z7:Z14)","v":10},null,null,null,"Total Sequences in Block Summary",{"$f":"SUM(AE7:AE14)","v":10},null,null,null,"Total Sequences in Block Summary",{"$f":"SUM(AJ7:AJ14)","v":10},null,null,null,"Total Sequences in Block Summary",{"$f":"SUM(AO7:AO14)","v":10},null,null,null,"Total Sequences in Block Summary",{"$f":"SUM(AT7:AT14)","v":10}]
[null,null,null,null,null,null,null,null,null,null,null,null,null,null,null,null,null,null,null,"Block 1",null,null,null,null,"Block 2",null,null,null,null,"Block 3",null,null,null,null,"Block 4",null,null,null,null,"Block 5",null,null,null,null,"Block 6"]
["Sequence\nComponent\n1","Time\n1","Sequence\nComponent\n2","Time\n2","Sequence\nComponent\n3","Time\n3","Sequence\nComponent\n4","Time\n4","Sequence\nComponent\n5","Time\n5","Correct?\n0=No 1=Yes","Sequence",null,"Frequency",null,"Relative Frequency","Variability",null,null,"Frequency",null,"Relative Frequency","Variability",null,"Frequency",null,"Relative Frequency","Variability",null,"Frequency",null,"Relative Frequency","Variability",null,"Frequency",null,"Relative Frequency","Variability",null,"Frequency",null,"Relative Frequency","Variability",null,"Frequency",null,"Relative Frequency","Variability"]
[22,15,14,28,14,35,null,null,null,null,0,211,null,111,{"$f":"COUNTIF($L$7:$L$500,N7)","v":5},{"$f":"O7/$Q$4","v":8.3333333333333329E-2},{"$f":"IF(P7=0,0,(P7*((LOG(P7))/LOG(2))))","v":-0.29874687506009634},null,null,{"$f":"N7","v":111},{"$f":"COUNTIF(L7:L16,T7)","v":1},{"$f":"U7/(W4-U10)","v":0.25},{"$f":"IF(V7=0,0,(V7*((LOG(V7))/LOG(2))))","v":-0.5},null,{"$f":"N7","v":111},{"$f":"COUNTIF(L17:L26,Y7)","v":1},{"$f":"Z7/(AB4-Z10)","v":0.33333333333333331},{"$f":"IF(AA7=0,0,(AA7*((LOG(AA7))/LOG(2))))","v":-0.52832083357371862},null,{"$f":"N7","v":111},{"$f":"COUNTIF(L27:L36,AD7)","v":0},{"$f":"AE7/(AG4-AE10)","v":0},{"$f":"IF(AF7=0,0,(AF7*((LOG(AF7))/LOG(2))))","v":0},null,{"$f":"N7","v":111},{"$f":"COUNTIF(L37:L46,AI7)","v":1},{"$f":"AJ7/(AL4-AJ10)","v":0.25},{"$f":"IF(AK7=0,0,(AK7*((LOG(AK7))/LOG(2))))","v":-0.5},null,{"$f":"N7","v":111},{"$f":"COUNTIF(L47:L56,AN7)","v":0},{"$f":"AO7/(AQ4-AO10)","v":0},{"$f":"IF(AP7=0,0,(AP7*((LOG(AP7))/LOG(2))))","v":0},null,{"$f":"N7","v":111},{"$f":"COUNTIF(L57:L66,AS7)","v":2},{"$f":"AT7/(AV4-AT10)","v":0.4},{"$f":"IF(AU7=0,0,(AU7*((LOG(AU7))/LOG(2))))","v":-0.52877123795494496}]
[11,134,21,143,21,150,null,null,null,null,0,122,null,112,{"$f":"COUNTIF($L$7:$L$500,N8)","v":12},{"$f":"O8/$Q$4","v":0.2},{"$f":"IF(P8=0,0,(P8*((LOG(P8))/LOG(2))))","v":-0.46438561897747244},null,null,{"$f":"N8","v":112},{"$f":"COUNTIF(L7:L16,T8)","v":0},{"$f":"U8/(W4-U10)","v":0},{"$f":"IF(V8=0,0,(V8*((LOG(V8))/LOG(2))))","v":0},null,{"$f":"N8","v":112},{"$f":"COUNTIF(L17:L26,Y8)","v":2},{"$f":"Z8/(AB4-Z10)","v":0.66666666666666663},{"$f":"IF(AA8=0,0,(AA8*((LOG(AA8))/LOG(2))))","v":-0.38997500048077083},null,{"$f":"N8","v":112},{"$f":"COUNTIF(L27:L36,AD8)","v":2},{"$f":"AE8/(AG4-AE10)","v":0.66666666666666663},{"$f":"IF(AF8=0,0,(AF8*((LOG(AF8))/LOG(2))))","v":-0.38997500048077083},null,{"$f":"N8","v":112},{"$f":"COUNTIF(L37:L46,AI8)","v":3},{"$f":"AJ8/(AL4-AJ10)","v":0.75},{"$f":"IF(AK8=0,0,(AK8*((LOG(AK8))/LOG(2))))","v":-0.31127812445913283},null,{"$f":"N8","v":112},{"$f":"COUNTIF(L47:L56,AN8)","v":2},{"$f":"AO8/(AQ4-AO10)","v":1},{"$f":"IF(AP8=0,0,(AP8*((LOG(AP8))/LOG(2))))","v":0},null,{"$f":"N8","v":112},{"$f":"COUNTIF(L57:L66,AS8)","v":3},{"$f":"AT8/(AV4-AT10)","v":0.6},{"$f":"IF(AU8=0,0,(AU8*((LOG(AU8))/LOG(2))))","v":-0.44217935649972373}]
[11,238,12,246,14,254,null,null,null,null,0,111,null,121,{"$f":"COUNTIF($L$7:$L$500,N9)","v":0},{"$f":"O9/$Q$4","v":0},{"$f":"IF(P9=0,0,(P9*((LOG(P9))/LOG(2))))","v":0},null,null,{"$f":"N9","v":121},{"$f":"COUNTIF(L7:L16,T9)","v":0},{"$f":"U9/(W4-U10)","v":0},{"$f":"IF(V9=0,0,(V9*((LOG(V9))/LOG(2))))","v":0},null,{"$f":"N9","v":121},{"$f":"COUNTIF(L17:L26,Y9)","v":0},{"$f":"Z9/(AB4-Z10)","v":0},{"$f":"IF(AA9=0,0,(AA9*((LOG(AA9))/LOG(2))))","v":0},null,{"$f":"N9","v":121},{"$f":"COUNTIF(L27:L36,AD9)","v":0},{"$f":"AE9/(AG4-AE10)","v":0},{"$f":"IF(AF9=0,0,(AF9*((LOG(AF9))/LOG(2))))","v":0},null,{"$f":"N9","v":121},{"$f":"COUNTIF(L37:L46,AI9)","v":0},{"$f":"AJ9/(AL4-AJ10)","v":0},{"$f":"IF(AK9=0,0,(AK9*((LOG(AK9))/LOG(2))))","v":0},null,{"$f":"N9","v":121},{"$f":"COUNTIF(L47:L56,AN9)","v":0},{"$f":"AO9/(AQ4-AO10)","v":0},{"$f":"IF(AP9=0,0,(AP9*((LOG(AP9))/LOG(2))))","v":0},null,{"$f":"N9","v":121},{"$f":"COUNTIF(L57:L66,AS9)","v":0},{"$f":"AT9/(AV4-AT10)","v":0},{"$f":"IF(AU9=0,0,(AU9*((LOG(AU9))/LOG(2))))","v":0}]
[22,359,23,367,23,381,null,null,null,null,0,222,null,122,{"$f":"COUNTIF($L$7:$L$500,N10)","v":39},{"$f":"O10/$Q$4","v":0.65},{"$f":"IF(P10=0,0,(P10*((LOG(P10))/LOG(2))))","v":-0.40396744488507563},null,null,{"$f":"N10","v":122},{"$f":"COUNTIF(L7:L16,T10)","v":6},null,null,null,{"$f":"N10","v":122},{"$f":"COUNTIF(L17:L26,Y10)","v":7},null,null,null,{"$f":"N10","v":122},{"$f":"COUNTIF(L27:L36,AD10)","v":7},null,null,null,{"$f":"N10","v":122},{"$f":"COUNTIF(L37:L46,AI10)","v":6},null,null,null,{"$f":"N10","v":122},{"$f":"COUNTIF(L47:L56,AN10)","v":8},null,null,null,{"$f":"N10","v":122},{"$f":"COUNTIF(L57:L66,AS10)","v":5}]
[11,477,21,485,21,493,null,null,null,null,0,122,null,211,{"$f":"COUNTIF($L$7:$L$500,N11)","v":1},{"$f":"O11/$Q$4","v":1.6666666666666666E-2},{"$f":"IF(P11=0,0,(P11*((LOG(P11))/LOG(2))))","v":-9.8448176593475309E-2},null,null,{"$f":"N11","v":211},{"$f":"COUNTIF(L7:L16,T11)","v":1},{"$f":"U11/(W4-U10)","v":0.25},{"$f":"IF(V11=0,0,(V11*((LOG(V11))/LOG(2))))","v":-0.5},null,{"$f":"N11","v":211},{"$f":"COUNTIF(L17:L26,Y11)","v":0},{"$f":"Z11/(AB4-Z10)","v":0},{"$f":"IF(AA11=0,0,(AA11*((LOG(AA11))/LOG(2))))","v":0},null,{"$f":"N11","v":211},{"$f":"COUNTIF(L27:L36,AD11)","v":0},{"$f":"AE11/(AG4-AE10)","v":0},{"$f":"IF(AF11=0,0,(AF11*((LOG(AF11))/LOG(2))))","v":0},null,{"$f":"N11","v":211},{"$f":"COUNTIF(L37:L46,AI11)","v":0},{"$f":"AJ11/(AL4-AJ10)","v":0},{"$f":"IF(AK11=0,0,(AK11*((LOG(AK11))/LOG(2))))","v":0},null,{"$f":"N11","v":211},{"$f":"COUNTIF(L47:L56,AN11)","v":0},{"$f":"AO11/(AQ4-AO10)","v":0},{"$f":"IF(AP11=0,0,(AP11*((LOG(AP11))/LOG(2))))","v":0},null,{"$f":"N11","v":211},{"$f":"COUNTIF(L57:L66,AS11)","v":0},{"$f":"AT11/(AV4-AT10)","v":0},{"$f":"IF(AU11=0,0,(AU11*((LOG(AU11))/LOG(2))))","v":0}]
[11,582,21,594,21,601,null,null,null,null,0,122,null,212,{"$f":"COUNTIF($L$7:$L$500,N12)","v":0},{"$f":"O12/$Q$4","v":0},{"$f":"IF(P12=0,0,(P12*((LOG(P12))/LOG(2))))","v":0},null,null,{"$f":"N12","v":212},{"$f":"COUNTIF(L7:L16,T12)","v":0},{"$f":"U12/(W4-U10)","v":0},{"$f":"IF(V12=0,0,(V12*((LOG(V12))/LOG(2))))","v":0},null,{"$f":"N12","v":212},{"$f":"COUNTIF(L17:L26,Y12)","v":0},{"$f":"Z12/(AB4-Z10)","v":0},{"$f":"IF(AA12=0,0,(AA12*((LOG(AA12))/LOG(2))))","v":0},null,{"$f":"N12","v":212},{"$f":"COUNTIF(L27:L36,AD12)","v":0},{"$f":"AE12/(AG4-AE10)","v":0},{"$f":"IF(AF12=0,0,(AF12*((LOG(AF12))/LOG(2))))","v":0},null,{"$f":"N12","v":212},{"$f":"COUNTIF(L37:L46,AI12)","v":0},{"$f":"AJ12/(AL4-AJ10)","v":0},{"$f":"IF(AK12=0,0,(AK12*((LOG(AK12))/LOG(2))))","v":0},null,{"$f":"N12","v":212},{"$f":"COUNTIF(L47:L56,AN12)","v":0},{"$f":"AO12/(AQ4-AO10)","v":0},{"$f":"IF(AP12=0,0,(AP12*((LOG(AP12))/LOG(2))))","v":0},null,{"$f":"N12","v":212},{"$f":"COUNTIF(L57:L66,AS12)","v":0},{"$f":"AT12/(AV4-AT10)","v":0},{"$f":"IF(AU12=0,0,(AU12*((LOG(AU12))/LOG(2))))","v":0}]
[11,687,21,700,21,708,null,null,null,null,0,122,null,221,{"$f":"COUNTIF($L$7:$L$500,N13)","v":0},{"$f":"O13/$Q$4","v":0},{"$f":"IF(P13=0,0,(P13*((LOG(P13))/LOG(2))))","v":0},null,null,{"$f":"N13","v":221},{"$f":"COUNTIF(L7:L16,T13)","v":0},{"$f":"U13/(W4-U10)","v":0},{"$f":"IF(V13=0,0,(V13*((LOG(V13))/LOG(2))))","v":0},null,{"$f":"N13","v":221},{"$f":"COUNTIF(L17:L26,Y13)","v":0},{"$f":"Z13/(AB4-Z10)","v":0},{"$f":"IF(AA13=0,0,(AA13*((LOG(AA13))/LOG(2))))","v":0},null,{"$f":"N13","v":221},{"$f":"COUNTIF(L27:L36,AD13)","v":0},{"$f":"AE13/(AG4-AE10)","v":0},{"$f":"IF(AF13=0,0,(AF13*((LOG(AF13))/LOG(2))))","v":0},null,{"$f":"N13","v":221},{"$f":"COUNTIF(L37:L46,AI13)","v":0},{"$f":"AJ13/(AL4-AJ10)","v":0},{"$f":"IF(AK13=0,0,(AK13*((LOG(AK13))/LOG(2))))","v":0},null,{"$f":"N13","v":221},{"$f":"COUNTIF(L47:L56,AN13)","v":0},{"$f":"AO13/(AQ4-AO10)","v":0},{"$f":"IF(AP13=0,0,(AP13*((LOG(AP13))/LOG(2))))","v":0},null,{"$f":"N13","v":221},{"$f":"COUNTIF(L57:L66,AS13)","v":0},{"$f":"AT13/(AV4-AT10)","v":0},{"$f":"IF(AU13=0,0,(AU13*((LOG(AU13))/LOG(2))))","v":0}]
[11,795,21,808,21,816,null,null,null,null,0,122,null,222,{"$f":"COUNTIF($L$7:$L$500,N14)","v":3},{"$f":"O14/$Q$4","v":0.05},{"$f":"IF(P14=0,0,(P14*((LOG(P14))/LOG(2))))","v":-0.21609640474436814},null,null,{"$f":"N14","v":222},{"$f":"COUNTIF(L7:L16,T14)","v":2},{"$f":"U14/(W4-U10)","v":0.5},{"$f":"IF(V14=0,0,(V14*((LOG(V14))/LOG(2))))","v":-0.5},null,{"$f":"N14","v":222},{"$f":"COUNTIF(L17:L26,Y14)","v":0},{"$f":"Z14/(AB4-Z10)","v":0},{"$f":"IF(AA14=0,0,(AA14*((LOG(AA14))/LOG(2))))","v":0},null,{"$f":"N14","v":222},{"$f":"COUNTIF(L27:L36,AD14)","v":1},{"$f":"AE14/(AG4-AE10)","v":0.33333333333333331},{"$f":"IF(AF14=0,0,(AF14*((LOG(AF14))/LOG(2))))","v":-0.52832083357371862},null,{"$f":"N14","v":222},{"$f":"COUNTIF(L37:L46,AI14)","v":0},{"$f":"AJ14/(AL4-AJ10)","v":0},{"$f":"IF(AK14=0,0,(AK14*((LOG(AK14))/LOG(2))))","v":0},null,{"$f":"N14","v":222},{"$f":"COUNTIF(L47:L56,AN14)","v":0},{"$f":"AO14/(AQ4-AO10)","v":0},{"$f":"IF(AP14=0,0,(AP14*((LOG(AP14))/LOG(2))))","v":0},null,{"$f":"N14","v":222},{"$f":"COUNTIF(L57:L66,AS14)","v":0},{"$f":"AT14/(AV4-AT10)","v":0},{"$f":"IF(AU14=0,0,(AU14*((LOG(AU14))/LOG(2))))","v":0}]
[11,902,21,915,21,922,null,null,null,null,0,122,null,null,null,{"$f":"SUM(P7:P14)","v":1},{"$f":"-SUM(Q7:Q14)","v":1.4816445202604878},null,null,null,null,{"$f":"SUM(V7:V14)","v":1},{"$f":"-SUM(W7:W14)","v":1.5},null,null,null,{"$f":"SUM(AA7:AA14)","v":1},{"$f":"-SUM(AB7:AB14)","v":0.91829583405448945},null,null,null,{"$f":"SUM(AF7:AF14)","v":1},{"$f":"-SUM(AG7:AG14)","v":0.91829583405448945},null,null,null,{"$f":"SUM(AK7:AK14)","v":1},{"$f":"-SUM(AL7:AL14)","v":0.81127812445913283},null,null,null,{"$f":"SUM(AP7:AP14)","v":1},{"$f":"-SUM(AQ7:AQ14)","v":0},null,null,null,{"$f":"SUM(AU7:AU14)","v":1},{"$f":"-SUM(AV7:AV14)","v":0.97095059445466869}]
[22,1016,23,1023,23,1031,null,null,null,null,0,222,null,null,null,"U=",{"$f":"Q15/(LOG(Q4)/LOG(2))","v":0.25083324234276783},null,null,null,null,"U1=",{"$f":"W15/(LOG(W4)/LOG(2))","v":0.45154499349597182},null,null,null,"U2=",{"$f":"AB15/(LOG(AB4)/LOG(2))","v":0.27643459094367495},null,null,null,"U3=",{"$f":"AG15/(LOG(AG4)/LOG(2))","v":0.27643459094367495},null,null,null,"U4=",{"$f":"AL15/(LOG(AL4)/LOG(2))","v":0.24421905028821556},null,null,null,"U5=",{"$f":"AQ15/(LOG(AQ4)/LOG(2))","v":0},null,null,null,"U6=",{"$f":"AV15/(LOG(AV4)/LOG(2))","v":0.29228525323862892}]
[11,1127,21,1138,21,1147,null,null,null,null,0,122]
[11,1234,21,1244,21,1249,null,null,null,null,0,122]
[11,1337,21,1345,21,1350,null,null,null,null,0,122,null,"Total Target Seq"]
[11,1449,12,1455,14,1462,null,null,null,null,0,111,null,{"$f":"COUNTIF(L7:L66,G3)","v":39},null,10,10,10,10,10,10]
[11,1559,21,1570,21,1575,null,null,null,null,0,122,null,null,null,"% of reinforcement given in 6 equal intervals based on number of trials "]
[11,1661,21,1671,21,1679,null,null,null,null,0,122,null,null,null,"%_1","%_2","%_3","%_4","%_5","%_6"]
[11,1765,21,1776,21,1783,null,null,null,null,0,122,null,null,"target sequence",{"$f":"$G$3","v":122},{"$f":"$G$3","v":122},{"$f":"$G$3","v":122},{"$f":"$G$3","v":122},{"$f":"$G$3","v":122},{"$f":"$G$3","v":122}]
[11,1868,12,1875,23,1886,null,null,null,null,0,112,null,null,"total reinforcement",{"$f":"U10","v":6},{"$f":"Z10","v":7},{"$f":"AE10","v":7},{"$f":"AJ10","v":6},{"$f":"AO10","v":8},{"$f":"AT10","v":5}]
[11,1980,12,1983,23,1995,null,null,null,null,0,112,null,null,"% target"]
[11,2091,21,2103,21,2110,null,null,null,null,0,122,null,null,"CCRF"]
[11,2195,12,2199,23,2211,null,null,null,null,0,112,null,null,"% CCRf"]
[11,2307,21,2317,21,2324,null,null,null,null,0,122,null,null,"average response rate",{"$f":"F16/P20","v":103.1},{"$f":"(F26-F16)/Q20","v":107.9},{"$f":"(F36-F26)/R20","v":106.8},{"$f":"(F46-F36)/S20","v":109.7},{"$f":"(F56-F46)/T20","v":108.2},{"$f":"(F66-F56)/U20","v":109.4}]
[11,2410,21,2421,21,2427,null,null,null,null,0,122]
[11,2514,12,2518,23,2529,null,null,null,null,0,112]
[11,2626,21,2637,21,2644,null,null,null,null,0,122]
[11,2737,21,2748,21,2756,null,null,null,null,0,122]
[11,2841,21,2852,21,2860,null,null,null,null,0,122]
[11,2946,21,2957,21,2964,null,null,null,null,0,122]
[11,3048,21,3060,21,3065,null,null,null,null,0,122]
[22,3163,23,3169,23,3178,null,null,null,null,0,222]
[11,3273,12,3277,23,3288,null,null,null,null,0,112]
[11,3385,12,3393,23,3404,null,null,null,null,0,112]
[11,3500,12,3505,23,3517,null,null,null,null,0,112]
[11,3612,21,3627,21,3635,null,null,null,null,0,122]
[11,3723,21,3734,21,3742,null,null,null,null,0,122]
[11,3828,21,3839,21,3846,null,null,null,null,0,122]
[11,3930,21,3943,21,3950,null,null,null,null,0,122]
[11,4040,12,4049,14,4057,null,null,null,null,0,111]
[11,4153,21,4164,21,4172,null,null,null,null,0,122]
[11,4258,21,4269,21,4275,null,null,null,null,0,122]
[11,4359,21,4370,21,4376,null,null,null,null,0,122]
[11,4463,21,4476,21,4485,null,null,null,null,0,122]
[11,4570,21,4581,21,4589,null,null,null,null,0,122]
[11,4674,21,4684,21,4697,null,null,null,null,0,122]
[11,4783,12,4790,23,4801,null,null,null,null,0,112]
[11,4896,12,4903,23,4914,null,null,null,null,0,112]
[11,5010,21,5030,21,5037,null,null,null,null,0,122]
[11,5125,21,5135,21,5142,null,null,null,null,0,122]
[11,5229,21,5245,21,5252,null,null,null,null,0,122]
[11,5339,21,5350,21,5357,null,null,null,null,0,122]
[11,5440,12,5455,14,5465,null,null,null,null,0,111]
[11,5561,12,5565,23,5577,null,null,null,null,0,112]
[11,5673,21,5683,21,5690,null,null,null,null,0,122]
[11,5777,21,5787,21,5792,null,null,null,null,0,122]
[11,5884,21,5895,21,5902,null,null,null,null,0,122]
[11,5988,12,5992,23,6002,null,null,null,null,0,112]
[11,6098,12,6111,14,6120,null,null,null,null,0,111]
[11,6216,12,6221,23,6231,null,null,null,null,0,112]
[11,6330,21,6342,21,6349,null,null,null,null,0,122]
[11,6434,21,6445,21,6451,null,null,null,null,1,122]

{"sheet":"!M802920.104","index":21,"n_rows":58,"n_cols":48,"rows_kept":58,"cut":false,"hidden":false,"merged":[[4,39,4,42],[5,39,5,40],[4,44,4,47],[5,44,5,45],[4,24,4,27],[5,24,5,25],[4,29,4,32],[5,29,5,30],[4,34,4,37],[5,34,5,35],[1,1,1,2],[5,13,5,14],[18,13,18,14],[19,13,19,14],[4,19,4,22],[5,19,5,20]]}
["Report for:!M802920.104"]
["Date:","<date>"]
["Hen:","<hen>",null,null,null,"Correct Sequence",{"$f":"Start!J2","v":122},null,null,null,null,null,null,null,null,"Total Sequences in Data",{"$f":"4994-COUNTBLANK(L7:L5000)","v":52},null,null,null,null,"Total Sequences in Block Data",{"$f":"COUNTA(L7:L15)","v":9},null,null,null,"Total Sequences in Block Data",{"$f":"COUNTA(L16:L23)","v":8},null,null,null,"Total Sequences in Block Data",{"$f":"COUNTA(L24:L32)","v":9},null,null,null,"Total Sequences in Block Data",{"$f":"COUNTA(L33:L41)","v":9},null,null,null,"Total Sequences in Block Data",{"$f":"COUNTA(L42:L49)","v":8},null,null,null,"Total Sequences in Block Data",{"$f":"COUNTA(L50:L58)","v":9}]
[null,null,null,null,null,null,null,null,null,null,null,null,null,null,null,"Total Sequences in Summary",{"$f":"SUM(O7:O14)","v":52},null,null,null,null,"Total Sequences in Block Summary",{"$f":"SUM(U7:U14)","v":9},null,null,null,"Total Sequences in Block Summary",{"$f":"SUM(Z7:Z14)","v":8},null,null,null,"Total Sequences in Block Summary",{"$f":"SUM(AE7:AE14)","v":9},null,null,null,"Total Sequences in Block Summary",{"$f":"SUM(AJ7:AJ14)","v":9},null,null,null,"Total Sequences in Block Summary",{"$f":"SUM(AO7:AO14)","v":8},null,null,null,"Total Sequences in Block Summary",{"$f":"SUM(AT7:AT14)","v":9}]
[null,null,null,null,null,null,null,null,null,null,null,null,null,null,null,null,null,null,null,"Block 1",null,null,null,null,"Block 2",null,null,null,null,"Block 3",null,null,null,null,"Block 4",null,null,null,null,"Block 5",null,null,null,null,"Block 6"]
["Sequence\nComponent\n1","Time\n1","Sequence\nComponent\n2","Time\n2","Sequence\nComponent\n3","Time\n3","Sequence\nComponent\n4","Time\n4","Sequence\nComponent\n5","Time\n5","Correct?\n0=No 1=Yes","Sequence",null,"Frequency",null,"Relative Frequency","Variability",null,null,"Frequency",null,"Relative Frequency","Variability",null,"Frequency",null,"Relative Frequency","Variability",null,"Frequency",null,"Relative Frequency","Variability",null,"Frequency",null,"Relative Frequency","Variability",null,"Frequency",null,"Relative Frequency","Variability",null,"Frequency",null,"Relative Frequency","Variability"]
[11,13,21,28,21,38,null,null,null,null,0,122,null,111,{"$f":"COUNTIF($L$7:$L$500,N7)","v":2},{"$f":"O7/$Q$4","v":3.8461538461538464E-2},{"$f":"IF(P7=0,0,(P7*((LOG(P7))/LOG(2))))","v":-0.18078614300542661},null,null,{"$f":"N7","v":111},{"$f":"COUNTIF(L7:L15,T7)","v":0},{"$f":"U7/(W4-U10)","v":0},{"$f":"IF(V7=0,0,(V7*((LOG(V7))/LOG(2))))","v":0},null,{"$f":"N7","v":111},{"$f":"COUNTIF(L16:L23,Y7)","v":2},{"$f":"Z7/(AB4-Z10)","v":0.66666666666666663},{"$f":"IF(AA7=0,0,(AA7*((LOG(AA7))/LOG(2))))","v":-0.38997500048077083},null,{"$f":"N7","v":111},{"$f":"COUNTIF(L24:L32,AD7)","v":0},{"$f":"AE7/(AG4-AE10)","v":0},{"$f":"IF(AF7=0,0,(AF7*((LOG(AF7))/LOG(2))))","v":0},null,{"$f":"N7","v":111},{"$f":"COUNTIF(L33:L41,AI7)","v":0},{"$f":"AJ7/(AL4-AJ10)","v":0},{"$f":"IF(AK7=0,0,(AK7*((LOG(AK7))/LOG(2))))","v":0},null,{"$f":"N7","v":111},{"$f":"COUNTIF(L42:L49,AN7)","v":0},{"$f":"AO7/(AQ4-AO10)","v":0},{"$f":"IF(AP7=0,0,(AP7*((LOG(AP7))/LOG(2))))","v":0},null,{"$f":"N7","v":111},{"$f":"COUNTIF(L50:L58,AS7)","v":0},{"$f":"AT7/(AV4-AT10)","v":0},{"$f":"IF(AU7=0,0,(AU7*((LOG(AU7))/LOG(2))))","v":0}]
[11,127,21,136,21,143,null,null,null,null,0,122,null,112,{"$f":"COUNTIF($L$7:$L$500,N8)","v":4},{"$f":"O8/$Q$4","v":7.6923076923076927E-2},{"$f":"IF(P8=0,0,(P8*((LOG(P8))/LOG(2))))","v":-0.28464920908777636},null,null,{"$f":"N8","v":112},{"$f":"COUNTIF(L7:L15,T8)","v":0},{"$f":"U8/(W4-U10)","v":0},{"$f":"IF(V8=0,0,(V8*((LOG(V8))/LOG(2))))","v":0},null,{"$f":"N8","v":112},{"$f":"COUNTIF(L16:L23,Y8)","v":0},{"$f":"Z8/(AB4-Z10)","v":0},{"$f":"IF(AA8=0,0,(AA8*((LOG(AA8))/LOG(2))))","v":0},null,{"$f":"N8","v":112},{"$f":"COUNTIF(L24:L32,AD8)","v":1},{"$f":"AE8/(AG4-AE10)","v":0.5},{"$f":"IF(AF8=0,0,(AF8*((LOG(AF8))/LOG(2))))","v":-0.5},null,{"$f":"N8","v":112},{"$f":"COUNTIF(L33:L41,AI8)","v":0},{"$f":"AJ8/(AL4-AJ10)","v":0},{"$f":"IF(AK8=0,0,(AK8*((LOG(AK8))/LOG(2))))","v":0},null,{"$f":"N8","v":112},{"$f":"COUNTIF(L42:L49,AN8)","v":2},{"$f":"AO8/(AQ4-AO10)","v":0.66666666666666663},{"$f":"IF(AP8=0,0,(AP8*((LOG(AP8))/LOG(2))))","v":-0.38997500048077083},null,{"$f":"N8","v":112},{"$f":"COUNTIF(L50:L58,AS8)","v":1},{"$f":"AT8/(AV4-AT10)","v":0.33333333333333331},{"$f":"IF(AU8=0,0,(AU8*((LOG(AU8))/LOG(2))))","v":-0.52832083357371862}]
[11,229,21,238,21,243,null,null,null,null,0,122,null,121,{"$f":"COUNTIF($L$7:$L$500,N9)","v":0},{"$f":"O9/$Q$4","v":0},{"$f":"IF(P9=0,0,(P9*((LOG(P9))/LOG(2))))","v":0},null,null,{"$f":"N9","v":121},{"$f":"COUNTIF(L7:L15,T9)","v":0},{"$f":"U9/(W4-U10)","v":0},{"$f":"IF(V9=0,0,(V9*((LOG(V9))/LOG(2))))","v":0},null,{"$f":"N9","v":121},{"$f":"COUNTIF(L16:L23,Y9)","v":0},{"$f":"Z9/(AB4-Z10)","v":0},{"$f":"IF(AA9=0,0,(AA9*((LOG(AA9))/LOG(2))))","v":0},null,{"$f":"N9","v":121},{"$f":"COUNTIF(L24:L32,AD9)","v":0},{"$f":"AE9/(AG4-AE10)","v":0},{"$f":"IF(AF9=0,0,(AF9*((LOG(AF9))/LOG(2))))","v":0},null,{"$f":"N9","v":121},{"$f":"COUNTIF(L33:L41,AI9)","v":0},{"$f":"AJ9/(AL4-AJ10)","v":0},{"$f":"IF(AK9=0,0,(AK9*((LOG(AK9))/LOG(2))))","v":0},null,{"$f":"N9","v":121},{"$f":"COUNTIF(L42:L49,AN9)","v":0},{"$f":"AO9/(AQ4-AO10)","v":0},{"$f":"IF(AP9=0,0,(AP9*((LOG(AP9))/LOG(2))))","v":0},null,{"$f":"N9","v":121},{"$f":"COUNTIF(L50:L58,AS9)","v":0},{"$f":"AT9/(AV4-AT10)","v":0},{"$f":"IF(AU9=0,0,(AU9*((LOG(AU9))/LOG(2))))","v":0}]
[11,331,21,341,21,346,null,null,null,null,0,122,null,122,{"$f":"COUNTIF($L$7:$L$500,N10)","v":38},{"$f":"O10/$Q$4","v":0.73076923076923073},{"$f":"IF(P10=0,0,(P10*((LOG(P10))/LOG(2))))","v":-0.33068199574048568},null,null,{"$f":"N10","v":122},{"$f":"COUNTIF(L7:L15,T10)","v":7},null,null,null,{"$f":"N10","v":122},{"$f":"COUNTIF(L16:L23,Y10)","v":5},null,null,null,{"$f":"N10","v":122},{"$f":"COUNTIF(L24:L32,AD10)","v":7},null,null,null,{"$f":"N10","v":122},{"$f":"COUNTIF(L33:L41,AI10)","v":8},null,null,null,{"$f":"N10","v":122},{"$f":"COUNTIF(L42:L49,AN10)","v":5},null,null,null,{"$f":"N10","v":122},{"$f":"COUNTIF(L50:L58,AS10)","v":6}]
[22,444,23,460,23,467,null,null,null,null,0,222,null,211,{"$f":"COUNTIF($L$7:$L$500,N11)","v":0},{"$f":"O11/$Q$4","v":0},{"$f":"IF(P11=0,0,(P11*((LOG(P11))/LOG(2))))","v":0},null,null,{"$f":"N11","v":211},{"$f":"COUNTIF(L7:L15,T11)","v":0},{"$f":"U11/(W4-U10)","v":0},{"$f":"IF(V11=0,0,(V11*((LOG(V11))/LOG(2))))","v":0},null,{"$f":"N11","v":211},{"$f":"COUNTIF(L16:L23,Y11)","v":0},{"$f":"Z11/(AB4-Z10)","v":0},{"$f":"IF(AA11=0,0,(AA11*((LOG(AA11))/LOG(2))))","v":0},null,{"$f":"N11","v":211},{"$f":"COUNTIF(L24:L32,AD11)","v":0},{"$f":"AE11/(AG4-AE10)","v":0},{"$f":"IF(AF11=0,0,(AF11*((LOG(AF11))/LOG(2))))","v":0},null,{"$f":"N11","v":211},{"$f":"COUNTIF(L33:L41,AI11)","v":0},{"$f":"AJ11/(AL4-AJ10)","v":0},{"$f":"IF(AK11=0,0,(AK11*((LOG(AK11))/LOG(2))))","v":0},null,{"$f":"N11","v":211},{"$f":"COUNTIF(L42:L49,AN11)","v":0},{"$f":"AO11/(AQ4-AO10)","v":0},{"$f":"IF(AP11=0,0,(AP11*((LOG(AP11))/LOG(2))))","v":0},null,{"$f":"N11","v":211},{"$f":"COUNTIF(L50:L58,AS11)","v":0},{"$f":"AT11/(AV4-AT10)","v":0},{"$f":"IF(AU11=0,0,(AU11*((LOG(AU11))/LOG(2))))","v":0}]
[11,557,21,572,21,585,null,null,null,null,0,122,null,212,{"$f":"COUNTIF($L$7:$L$500,N12)","v":0},{"$f":"O12/$Q$4","v":0},{"$f":"IF(P12=0,0,(P12*((LOG(P12))/LOG(2))))","v":0},null,null,{"$f":"N12","v":212},{"$f":"COUNTIF(L7:L15,T12)","v":0},{"$f":"U12/(W4-U10)","v":0},{"$f":"IF(V12=0,0,(V12*((LOG(V12))/LOG(2))))","v":0},null,{"$f":"N12","v":212},{"$f":"COUNTIF(L16:L23,Y12)","v":0},{"$f":"Z12/(AB4-Z10)","v":0},{"$f":"IF(AA12=0,0,(AA12*((LOG(AA12))/LOG(2))))","v":0},null,{"$f":"N12","v":212},{"$f":"COUNTIF(L24:L32,AD12)","v":0},{"$f":"AE12/(AG4-AE10)","v":0},{"$f":"IF(AF12=0,0,(AF12*((LOG(AF12))/LOG(2))))","v":0},null,{"$f":"N12","v":212},{"$f":"COUNTIF(L33:L41,AI12)","v":0},{"$f":"AJ12/(AL4-AJ10)","v":0},{"$f":"IF(AK12=0,0,(AK12*((LOG(AK12))/LOG(2))))","v":0},null,{"$f":"N12","v":212},{"$f":"COUNTIF(L42:L49,AN12)","v":0},{"$f":"AO12/(AQ4-AO10)","v":0},{"$f":"IF(AP12=0,0,(AP12*((LOG(AP12))/LOG(2))))","v":0},null,{"$f":"N12","v":212},{"$f":"COUNTIF(L50:L58,AS12)","v":0},{"$f":"AT12/(AV4-AT10)","v":0},{"$f":"IF(AU12=0,0,(AU12*((LOG(AU12))/LOG(2))))","v":0}]
[22,684,23,689,23,698,null,null,null,null,0,222,null,221,{"$f":"COUNTIF($L$7:$L$500,N13)","v":0},{"$f":"O13/$Q$4","v":0},{"$f":"IF(P13=0,0,(P13*((LOG(P13))/LOG(2))))","v":0},null,null,{"$f":"N13","v":221},{"$f":"COUNTIF(L7:L15,T13)","v":0},{"$f":"U13/(W4-U10)","v":0},{"$f":"IF(V13=0,0,(V13*((LOG(V13))/LOG(2))))","v":0},null,{"$f":"N13","v":221},{"$f":"COUNTIF(L16:L23,Y13)","v":0},{"$f":"Z13/(AB4-Z10)","v":0},{"$f":"IF(AA13=0,0,(AA13*((LOG(AA13))/LOG(2))))","v":0},null,{"$f":"N13","v":221},{"$f":"COUNTIF(L24:L32,AD13)","v":0},{"$f":"AE13/(AG4-AE10)","v":0},{"$f":"IF(AF13=0,0,(AF13*((LOG(AF13))/LOG(2))))","v":0},null,{"$f":"N13","v":221},{"$f":"COUNTIF(L33:L41,AI13)","v":0},{"$f":"AJ13/(AL4-AJ10)","v":0},{"$f":"IF(AK13=0,0,(AK13*((LOG(AK13))/LOG(2))))","v":0},null,{"$f":"N13","v":221},{"$f":"COUNTIF(L42:L49,AN13)","v":0},{"$f":"AO13/(AQ4-AO10)","v":0},{"$f":"IF(AP13=0,0,(AP13*((LOG(AP13))/LOG(2))))","v":0},null,{"$f":"N13","v":221},{"$f":"COUNTIF(L50:L58,AS13)","v":0},{"$f":"AT13/(AV4-AT10)","v":0},{"$f":"IF(AU13=0,0,(AU13*((LOG(AU13))/LOG(2))))","v":0}]
[11,794,21,805,21,810,null,null,null,null,0,122,null,222,{"$f":"COUNTIF($L$7:$L$500,N14)","v":8},{"$f":"O14/$Q$4","v":0.15384615384615385},{"$f":"IF(P14=0,0,(P14*((LOG(P14))/LOG(2))))","v":-0.4154522643293988},null,null,{"$f":"N14","v":222},{"$f":"COUNTIF(L7:L15,T14)","v":2},{"$f":"U14/(W4-U10)","v":1},{"$f":"IF(V14=0,0,(V14*((LOG(V14))/LOG(2))))","v":0},null,{"$f":"N14","v":222},{"$f":"COUNTIF(L16:L23,Y14)","v":1},{"$f":"Z14/(AB4-Z10)","v":0.33333333333333331},{"$f":"IF(AA14=0,0,(AA14*((LOG(AA14))/LOG(2))))","v":-0.52832083357371862},null,{"$f":"N14","v":222},{"$f":"COUNTIF(L24:L32,AD14)","v":1},{"$f":"AE14/(AG4-AE10)","v":0.5},{"$f":"IF(AF14=0,0,(AF14*((LOG(AF14))/LOG(2))))","v":-0.5},null,{"$f":"N14","v":222},{"$f":"COUNTIF(L33:L41,AI14)","v":1},{"$f":"AJ14/(AL4-AJ10)","v":1},{"$f":"IF(AK14=0,0,(AK14*((LOG(AK14))/LOG(2))))","v":0},null,{"$f":"N14","v":222},{"$f":"COUNTIF(L42:L49,AN14)","v":1},{"$f":"AO14/(AQ4-AO10)","v":0.33333333333333331},{"$f":"IF(AP14=0,0,(AP14*((LOG(AP14))/LOG(2))))","v":-0.52832083357371862},null,{"$f":"N14","v":222},{"$f":"COUNTIF(L50:L58,AS14)","v":2},{"$f":"AT14/(AV4-AT10)","v":0.66666666666666663},{"$f":"IF(AU14=0,0,(AU14*((LOG(AU14))/LOG(2))))","v":-0.38997500048077083}]
[11,899,21,911,21,918,null,null,null,null,0,122,null,null,null,{"$f":"SUM(P7:P14)","v":1},{"$f":"-SUM(Q7:Q14)","v":1.2115696121630875},null,null,null,null,{"$f":"SUM(V7:V14)","v":1},{"$f":"-SUM(W7:W14)","v":0},null,null,null,{"$f":"SUM(AA7:AA14)","v":1},{"$f":"-SUM(AB7:AB14)","v":0.91829583405448945},null,null,null,{"$f":"SUM(AF7:AF14)","v":1},{"$f":"-SUM(AG7:AG14)","v":1},null,null,null,{"$f":"SUM(AK7:AK14)","v":1},{"$f":"-SUM(AL7:AL14)","v":0},null,null,null,{"$f":"SUM(AP7:AP14)","v":1},{"$f":"-SUM(AQ7:AQ14)","v":0.91829583405448945},null,null,null,{"$f":"SUM(AU7:AU14)","v":1},{"$f":"-SUM(AV7:AV14)","v":0.91829583405448945}]
[11,1004,12,1014,14,1026,null,null,null,null,0,111,null,null,null,"U=",{"$f":"Q15/(LOG(Q4)/LOG(2))","v":0.21253967624767359},null,null,null,null,"U1=",{"$f":"W15/(LOG(W4)/LOG(2))","v":0},null,null,null,"U2=",{"$f":"AB15/(LOG(AB4)/LOG(2))","v":0.30609861135149646},null,null,null,"U3=",{"$f":"AG15/(LOG(AG4)/LOG(2))","v":0.31546487678572877},null,null,null,"U4=",{"$f":"AL15/(LOG(AL4)/LOG(2))","v":0},null,null,null,"U5=",{"$f":"AQ15/(LOG(AQ4)/LOG(2))","v":0.30609861135149646},null,null,null,"U6=",{"$f":"AV15/(LOG(AV4)/LOG(2))","v":0.28969008214284753}]
[11,1115,21,1126,21,1134,null,null,null,null,0,122]
[11,1222,21,1235,21,1242,null,null,null,null,0,122]
[11,1337,12,1347,14,1355,null,null,null,null,0,111,null,"Total Target Seq"]
[11,1452,21,1462,21,1469,null,null,null,null,0,122,null,{"$f":"COUNTIF(L7:L58,G3)","v":38},null,9,8,9,9,8,9]
[11,1559,21,1571,21,1576,null,null,null,null,0,122,null,null,null,"% of reinforcement given in 6 equal intervals based on number of trials "]
[22,1674,23,1678,23,1686,null,null,null,null,0,222,null,null,null,"%_1","%_2","%_3","%_4","%_5","%_6"]
[11,1783,21,1795,21,1801,null,null,null,null,0,122,null,null,"target sequence",{"$f":"$G$3","v":122},{"$f":"$G$3","v":122},{"$f":"$G$3","v":122},{"$f":"$G$3","v":122},{"$f":"$G$3","v":122},{"$f":"$G$3","v":122}]
[22,1897,23,1904,23,1911,null,null,null,null,0,222,null,null,"total reinforcement",{"$f":"U10","v":7},{"$f":"Z10","v":5},{"$f":"AE10","v":7},{"$f":"AJ10","v":8},{"$f":"AO10","v":5},{"$f":"AT10","v":6}]
[11,2007,21,2018,21,2030,null,null,null,null,0,122,null,null,"% target"]
[11,2122,21,2134,21,2141,null,null,null,null,0,122,null,null,"CCRF"]
[11,2229,21,2241,21,2248,null,null,null,null,0,122,null,null,"% CCRf"]
[11,2335,21,2346,21,2351,null,null,null,null,0,122,null,null,"average response rate",{"$f":"F15/P20","v":102},{"$f":"(F23-F15)/Q20","v":110.375},{"$f":"(F32-F23)/R20","v":111},{"$f":"(F41-F32)/S20","v":108.55555555555556},{"$f":"(F49-F41)/T20","v":119.25},{"$f":"(F58-F49)/U20","v":112.33333333333333}]
[11,2447,21,2459,21,2466,null,null,null,null,0,122]
[11,2553,21,2570,21,2577,null,null,null,null,0,122]
[11,2666,12,2675,23,2685,null,null,null,null,0,112]
[11,2781,21,2792,21,2800,null,null,null,null,0,122]
[11,2892,21,2904,21,2912,null,null,null,null,0,122]
[11,3000,21,3011,21,3018,null,null,null,null,0,122]
[11,3103,21,3116,21,3124,null,null,null,null,0,122]
[11,3209,21,3219,21,3226,null,null,null,null,0,122]
[11,3314,21,3326,21,3331,null,null,null,null,0,122]
[22,3427,23,3435,23,3447,null,null,null,null,0,222]
[11,3545,21,3556,21,3565,null,null,null,null,0,122]
[11,3653,21,3664,21,3671,null,null,null,null,0,122]
[11,3758,21,3770,21,3777,null,null,null,null,0,122]
[11,3862,12,3866,23,3877,null,null,null,null,0,112]
[11,3975,21,3988,21,3997,null,null,null,null,0,122]
[11,4088,21,4099,21,4159,null,null,null,null,0,122]
[22,4258,23,4266,23,4274,null,null,null,null,0,222]
[11,4373,21,4386,21,4402,null,null,null,null,0,122]
[11,4486,12,4490,23,4501,null,null,null,null,0,112]
[11,4596,21,4609,21,4616,null,null,null,null,0,122]
[11,4711,21,4723,21,4731,null,null,null,null,0,122]
[11,4818,21,4829,21,4834,null,null,null,null,0,122]
[11,4925,21,4936,21,4944,null,null,null,null,0,122]
[11,5030,21,5041,21,5046,null,null,null,null,0,122]
[11,5139,12,5145,23,5162,null,null,null,null,0,112]
[11,5258,21,5270,21,5277,null,null,null,null,0,122]
[22,5378,23,5386,23,5397,null,null,null,null,0,222]
[22,5505,23,5510,23,5518,null,null,null,null,0,222]
[11,5614,21,5629,21,5636,null,null,null,null,0,122]
[11,5724,21,5736,21,5742,null,null,null,null,1,122]

{"sheet":"!M803A20.104","index":22,"n_rows":51,"n_cols":48,"rows_kept":51,"cut":false,"hidden":false,"merged":[[4,39,4,42],[5,39,5,40],[4,44,4,47],[5,44,5,45],[4,24,4,27],[5,24,5,25],[4,29,4,32],[5,29,5,30],[4,34,4,37],[5,34,5,35],[1,1,1,2],[5,13,5,14],[18,13,18,14],[19,13,19,14],[4,19,4,22],[5,19,5,20]]}
["Report for:!M803A20.104"]
["Date:","<date>"]
["Hen:","<hen>",null,null,null,"Correct Sequence",{"$f":"Start!J2","v":122},null,null,null,null,null,null,null,null,"Total Sequences in Data",{"$f":"4994-COUNTBLANK(L7:L5000)","v":45},null,null,null,null,"Total Sequences in Block Data",{"$f":"COUNTA(L7:L14)","v":8},null,null,null,"Total Sequences in Block Data",{"$f":"COUNTA(L15:L21)","v":7},null,null,null,"Total Sequences in Block Data",{"$f":"COUNTA(L22:L29)","v":8},null,null,null,"Total Sequences in Block Data",{"$f":"COUNTA(L30:L36)","v":7},null,null,null,"Total Sequences in Block Data",{"$f":"COUNTA(L37:L44)","v":8},null,null,null,"Total Sequences in Block Data",{"$f":"COUNTA(L45:L51)","v":7}]
[null,null,null,null,null,null,null,null,null,null,null,null,null,null,null,"Total Sequences in Summary",{"$f":"SUM(O7:O14)","v":45},null,null,null,null,"Total Sequences in Block Summary",{"$f":"SUM(U7:U14)","v":8},null,null,null,"Total Sequences in Block Summary",{"$f":"SUM(Z7:Z14)","v":7},null,null,null,"Total Sequences in Block Summary",{"$f":"SUM(AE7:AE14)","v":8},null,null,null,"Total Sequences in Block Summary",{"$f":"SUM(AJ7:AJ14)","v":7},null,null,null,"Total Sequences in Block Summary",{"$f":"SUM(AO7:AO14)","v":8},null,null,null,"Total Sequences in Block Summary",{"$f":"SUM(AT7:AT14)","v":7}]
[null,null,null,null,null,null,null,null,null,null,null,null,null,null,null,null,null,null,null,"Block 1",null,null,null,null,"Block 2",null,null,null,null,"Block 3",null,null,null,null,"Block 4",null,null,null,null,"Block 5",null,null,null,null,"Block 6"]
["Sequence\nComponent\n1","Time\n1","Sequence\nComponent\n2","Time\n2","Sequence\nComponent\n3","Time\n3","Sequence\nComponent\n4","Time\n4","Sequence\nComponent\n5","Time\n5","Correct?\n0=No 1=Yes","Sequence",null,"Frequency",null,"Relative Frequency","Variability",null,null,"Frequency",null,"Relative Frequency","Variability",null,"Frequency",null,"Relative Frequency","Variability",null,"Frequency",null,"Relative Frequency","Variability",null,"Frequency",null,"Relative Frequency","Variability",null,"Frequency",null,"Relative Frequency","Variability",null,"Frequency",null,"Relative Frequency","Variability"]
[11,7,21,25,21,33,null,null,null,null,0,122,null,111,{"$f":"COUNTIF($L$7:$L$500,N7)","v":0},{"$f":"O7/$Q$4","v":0},{"$f":"IF(P7=0,0,(P7*((LOG(P7))/LOG(2))))","v":0},null,null,{"$f":"N7","v":111},{"$f":"COUNTIF(L7:L14,T7)","v":0},{"$f":"U7/(W4-U10)","v":0},{"$f":"IF(V7=0,0,(V7*((LOG(V7))/LOG(2))))","v":0},null,{"$f":"N7","v":111},{"$f":"COUNTIF(L15:L21,Y7)","v":0},{"$f":"Z7/(AB4-Z10)","v":{"$error":"#DIV/0!"}},{"$f":"IF(AA7=0,0,(AA7*((LOG(AA7))/LOG(2))))","v":{"$error":"#DIV/0!"}},null,{"$f":"N7","v":111},{"$f":"COUNTIF(L22:L29,AD7)","v":0},{"$f":"AE7/(AG4-AE10)","v":0},{"$f":"IF(AF7=0,0,(AF7*((LOG(AF7))/LOG(2))))","v":0},null,{"$f":"N7","v":111},{"$f":"COUNTIF(L30:L36,AI7)","v":0},{"$f":"AJ7/(AL4-AJ10)","v":0},{"$f":"IF(AK7=0,0,(AK7*((LOG(AK7))/LOG(2))))","v":0},null,{"$f":"N7","v":111},{"$f":"COUNTIF(L37:L44,AN7)","v":0},{"$f":"AO7/(AQ4-AO10)","v":0},{"$f":"IF(AP7=0,0,(AP7*((LOG(AP7))/LOG(2))))","v":0},null,{"$f":"N7","v":111},{"$f":"COUNTIF(L45:L51,AS7)","v":0},{"$f":"AT7/(AV4-AT10)","v":0},{"$f":"IF(AU7=0,0,(AU7*((LOG(AU7))/LOG(2))))","v":0}]
[11,121,21,132,21,139,null,null,null,null,0,122,null,112,{"$f":"COUNTIF($L$7:$L$500,N8)","v":0},{"$f":"O8/$Q$4","v":0},{"$f":"IF(P8=0,0,(P8*((LOG(P8))/LOG(2))))","v":0},null,null,{"$f":"N8","v":112},{"$f":"COUNTIF(L7:L14,T8)","v":0},{"$f":"U8/(W4-U10)","v":0},{"$f":"IF(V8=0,0,(V8*((LOG(V8))/LOG(2))))","v":0},null,{"$f":"N8","v":112},{"$f":"COUNTIF(L15:L21,Y8)","v":0},{"$f":"Z8/(AB4-Z10)","v":{"$error":"#DIV/0!"}},{"$f":"IF(AA8=0,0,(AA8*((LOG(AA8))/LOG(2))))","v":{"$error":"#DIV/0!"}},null,{"$f":"N8","v":112},{"$f":"COUNTIF(L22:L29,AD8)","v":0},{"$f":"AE8/(AG4-AE10)","v":0},{"$f":"IF(AF8=0,0,(AF8*((LOG(AF8))/LOG(2))))","v":0},null,{"$f":"N8","v":112},{"$f":"COUNTIF(L30:L36,AI8)","v":0},{"$f":"AJ8/(AL4-AJ10)","v":0},{"$f":"IF(AK8=0,0,(AK8*((LOG(AK8))/LOG(2))))","v":0},null,{"$f":"N8","v":112},{"$f":"COUNTIF(L37:L44,AN8)","v":0},{"$f":"AO8/(AQ4-AO10)","v":0},{"$f":"IF(AP8=0,0,(AP8*((LOG(AP8))/LOG(2))))","v":0},null,{"$f":"N8","v":112},{"$f":"COUNTIF(L45:L51,AS8)","v":0},{"$f":"AT8/(AV4-AT10)","v":0},{"$f":"IF(AU8=0,0,(AU8*((LOG(AU8))/LOG(2))))","v":0}]
[11,227,21,238,21,245,null,null,null,null,0,122,null,121,{"$f":"COUNTIF($L$7:$L$500,N9)","v":0},{"$f":"O9/$Q$4","v":0},{"$f":"IF(P9=0,0,(P9*((LOG(P9))/LOG(2))))","v":0},null,null,{"$f":"N9","v":121},{"$f":"COUNTIF(L7:L14,T9)","v":0},{"$f":"U9/(W4-U10)","v":0},{"$f":"IF(V9=0,0,(V9*((LOG(V9))/LOG(2))))","v":0},null,{"$f":"N9","v":121},{"$f":"COUNTIF(L15:L21,Y9)","v":0},{"$f":"Z9/(AB4-Z10)","v":{"$error":"#DIV/0!"}},{"$f":"IF(AA9=0,0,(AA9*((LOG(AA9))/LOG(2))))","v":{"$error":"#DIV/0!"}},null,{"$f":"N9","v":121},{"$f":"COUNTIF(L22:L29,AD9)","v":0},{"$f":"AE9/(AG4-AE10)","v":0},{"$f":"IF(AF9=0,0,(AF9*((LOG(AF9))/LOG(2))))","v":0},null,{"$f":"N9","v":121},{"$f":"COUNTIF(L30:L36,AI9)","v":0},{"$f":"AJ9/(AL4-AJ10)","v":0},{"$f":"IF(AK9=0,0,(AK9*((LOG(AK9))/LOG(2))))","v":0},null,{"$f":"N9","v":121},{"$f":"COUNTIF(L37:L44,AN9)","v":0},{"$f":"AO9/(AQ4-AO10)","v":0},{"$f":"IF(AP9=0,0,(AP9*((LOG(AP9))/LOG(2))))","v":0},null,{"$f":"N9","v":121},{"$f":"COUNTIF(L45:L51,AS9)","v":0},{"$f":"AT9/(AV4-AT10)","v":0},{"$f":"IF(AU9=0,0,(AU9*((LOG(AU9))/LOG(2))))","v":0}]
[22,340,23,347,23,361,null,null,null,null,0,222,null,122,{"$f":"COUNTIF($L$7:$L$500,N10)","v":39},{"$f":"O10/$Q$4","v":0.8666666666666667},{"$f":"IF(P10=0,0,(P10*((LOG(P10))/LOG(2))))","v":-0.17892409380510282},null,null,{"$f":"N10","v":122},{"$f":"COUNTIF(L7:L14,T10)","v":7},null,null,null,{"$f":"N10","v":122},{"$f":"COUNTIF(L15:L21,Y10)","v":7},null,null,null,{"$f":"N10","v":122},{"$f":"COUNTIF(L22:L29,AD10)","v":6},null,null,null,{"$f":"N10","v":122},{"$f":"COUNTIF(L30:L36,AI10)","v":6},null,null,null,{"$f":"N10","v":122},{"$f":"COUNTIF(L37:L44,AN10)","v":7},null,null,null,{"$f":"N10","v":122},{"$f":"COUNTIF(L45:L51,AS10)","v":6}]
[11,451,21,463,21,480,null,null,null,null,0,122,null,211,{"$f":"COUNTIF($L$7:$L$500,N11)","v":0},{"$f":"O11/$Q$4","v":0},{"$f":"IF(P11=0,0,(P11*((LOG(P11))/LOG(2))))","v":0},null,null,{"$f":"N11","v":211},{"$f":"COUNTIF(L7:L14,T11)","v":0},{"$f":"U11/(W4-U10)","v":0},{"$f":"IF(V11=0,0,(V11*((LOG(V11))/LOG(2))))","v":0},null,{"$f":"N11","v":211},{"$f":"COUNTIF(L15:L21,Y11)","v":0},{"$f":"Z11/(AB4-Z10)","v":{"$error":"#DIV/0!"}},{"$f":"IF(AA11=0,0,(AA11*((LOG(AA11))/LOG(2))))","v":{"$error":"#DIV/0!"}},null,{"$f":"N11","v":211},{"$f":"COUNTIF(L22:L29,AD11)","v":0},{"$f":"AE11/(AG4-AE10)","v":0},{"$f":"IF(AF11=0,0,(AF11*((LOG(AF11))/LOG(2))))","v":0},null,{"$f":"N11","v":211},{"$f":"COUNTIF(L30:L36,AI11)","v":0},{"$f":"AJ11/(AL4-AJ10)","v":0},{"$f":"IF(AK11=0,0,(AK11*((LOG(AK11))/LOG(2))))","v":0},null,{"$f":"N11","v":211},{"$f":"COUNTIF(L37:L44,AN11)","v":0},{"$f":"AO11/(AQ4-AO10)","v":0},{"$f":"IF(AP11=0,0,(AP11*((LOG(AP11))/LOG(2))))","v":0},null,{"$f":"N11","v":211},{"$f":"COUNTIF(L45:L51,AS11)","v":0},{"$f":"AT11/(AV4-AT10)","v":0},{"$f":"IF(AU11=0,0,(AU11*((LOG(AU11))/LOG(2))))","v":0}]
[11,567,21,575,21,582,null,null,null,null,0,122,null,212,{"$f":"COUNTIF($L$7:$L$500,N12)","v":0},{"$f":"O12/$Q$4","v":0},{"$f":"IF(P12=0,0,(P12*((LOG(P12))/LOG(2))))","v":0},null,null,{"$f":"N12","v":212},{"$f":"COUNTIF(L7:L14,T12)","v":0},{"$f":"U12/(W4-U10)","v":0},{"$f":"IF(V12=0,0,(V12*((LOG(V12))/LOG(2))))","v":0},null,{"$f":"N12","v":212},{"$f":"COUNTIF(L15:L21,Y12)","v":0},{"$f":"Z12/(AB4-Z10)","v":{"$error":"#DIV/0!"}},{"$f":"IF(AA12=0,0,(AA12*((LOG(AA12))/LOG(2))))","v":{"$error":"#DIV/0!"}},null,{"$f":"N12","v":212},{"$f":"COUNTIF(L22:L29,AD12)","v":0},{"$f":"AE12/(AG4-AE10)","v":0},{"$f":"IF(AF12=0,0,(AF12*((LOG(AF12))/LOG(2))))","v":0},null,{"$f":"N12","v":212},{"$f":"COUNTIF(L30:L36,AI12)","v":0},{"$f":"AJ12/(AL4-AJ10)","v":0},{"$f":"IF(AK12=0,0,(AK12*((LOG(AK12))/LOG(2))))","v":0},null,{"$f":"N12","v":212},{"$f":"COUNTIF(L37:L44,AN12)","v":0},{"$f":"AO12/(AQ4-AO10)","v":0},{"$f":"IF(AP12=0,0,(AP12*((LOG(AP12))/LOG(2))))","v":0},null,{"$f":"N12","v":212},{"$f":"COUNTIF(L45:L51,AS12)","v":0},{"$f":"AT12/(AV4-AT10)","v":0},{"$f":"IF(AU12=0,0,(AU12*((LOG(AU12))/LOG(2))))","v":0}]
[11,669,21,680,21,688,null,null,null,null,0,122,null,221,{"$f":"COUNTIF($L$7:$L$500,N13)","v":0},{"$f":"O13/$Q$4","v":0},{"$f":"IF(P13=0,0,(P13*((LOG(P13))/LOG(2))))","v":0},null,null,{"$f":"N13","v":221},{"$f":"COUNTIF(L7:L14,T13)","v":0},{"$f":"U13/(W4-U10)","v":0},{"$f":"IF(V13=0,0,(V13*((LOG(V13))/LOG(2))))","v":0},null,{"$f":"N13","v":221},{"$f":"COUNTIF(L15:L21,Y13)","v":0},{"$f":"Z13/(AB4-Z10)","v":{"$error":"#DIV/0!"}},{"$f":"IF(AA13=0,0,(AA13*((LOG(AA13))/LOG(2))))","v":{"$error":"#DIV/0!"}},null,{"$f":"N13","v":221},{"$f":"COUNTIF(L22:L29,AD13)","v":0},{"$f":"AE13/(AG4-AE10)","v":0},{"$f":"IF(AF13=0,0,(AF13*((LOG(AF13))/LOG(2))))","v":0},null,{"$f":"N13","v":221},{"$f":"COUNTIF(L30:L36,AI13)","v":0},{"$f":"AJ13/(AL4-AJ10)","v":0},{"$f":"IF(AK13=0,0,(AK13*((LOG(AK13))/LOG(2))))","v":0},null,{"$f":"N13","v":221},{"$f":"COUNTIF(L37:L44,AN13)","v":0},{"$f":"AO13/(AQ4-AO10)","v":0},{"$f":"IF(AP13=0,0,(AP13*((LOG(AP13))/LOG(2))))","v":0},null,{"$f":"N13","v":221},{"$f":"COUNTIF(L45:L51,AS13)","v":0},{"$f":"AT13/(AV4-AT10)","v":0},{"$f":"IF(AU13=0,0,(AU13*((LOG(AU13))/LOG(2))))","v":0}]
[11,775,21,783,21,788,null,null,null,null,0,122,null,222,{"$f":"COUNTIF($L$7:$L$500,N14)","v":6},{"$f":"O14/$Q$4","v":0.13333333333333333},{"$f":"IF(P14=0,0,(P14*((LOG(P14))/LOG(2))))","v":-0.3875854127478025},null,null,{"$f":"N14","v":222},{"$f":"COUNTIF(L7:L14,T14)","v":1},{"$f":"U14/(W4-U10)","v":1},{"$f":"IF(V14=0,0,(V14*((LOG(V14))/LOG(2))))","v":0},null,{"$f":"N14","v":222},{"$f":"COUNTIF(L15:L21,Y14)","v":0},{"$f":"Z14/(AB4-Z10)","v":{"$error":"#DIV/0!"}},{"$f":"IF(AA14=0,0,(AA14*((LOG(AA14))/LOG(2))))","v":{"$error":"#DIV/0!"}},null,{"$f":"N14","v":222},{"$f":"COUNTIF(L22:L29,AD14)","v":2},{"$f":"AE14/(AG4-AE10)","v":1},{"$f":"IF(AF14=0,0,(AF14*((LOG(AF14))/LOG(2))))","v":0},null,{"$f":"N14","v":222},{"$f":"COUNTIF(L30:L36,AI14)","v":1},{"$f":"AJ14/(AL4-AJ10)","v":1},{"$f":"IF(AK14=0,0,(AK14*((LOG(AK14))/LOG(2))))","v":0},null,{"$f":"N14","v":222},{"$f":"COUNTIF(L37:L44,AN14)","v":1},{"$f":"AO14/(AQ4-AO10)","v":1},{"$f":"IF(AP14=0,0,(AP14*((LOG(AP14))/LOG(2))))","v":0},null,{"$f":"N14","v":222},{"$f":"COUNTIF(L45:L51,AS14)","v":1},{"$f":"AT14/(AV4-AT10)","v":1},{"$f":"IF(AU14=0,0,(AU14*((LOG(AU14))/LOG(2))))","v":0}]
[11,874,21,884,21,888,null,null,null,null,0,122,null,null,null,{"$f":"SUM(P7:P14)","v":1},{"$f":"-SUM(Q7:Q14)","v":0.56650950655290533},null,null,null,null,{"$f":"SUM(V7:V14)","v":1},{"$f":"-SUM(W7:W14)","v":0},null,null,null,{"$f":"SUM(AA7:AA14)","v":{"$error":"#DIV/0!"}},{"$f":"-SUM(AB7:AB14)","v":{"$error":"#DIV/0!"}},null,null,null,{"$f":"SUM(AF7:AF14)","v":1},{"$f":"-SUM(AG7:AG14)","v":0},null,null,null,{"$f":"SUM(AK7:AK14)","v":1},{"$f":"-SUM(AL7:AL14)","v":0},null,null,null,{"$f":"SUM(AP7:AP14)","v":1},{"$f":"-SUM(AQ7:AQ14)","v":0},null,null,null,{"$f":"SUM(AU7:AU14)","v":1},{"$f":"-SUM(AV7:AV14)","v":0}]
[11,974,21,984,21,988,null,null,null,null,0,122,null,null,null,"U=",{"$f":"Q15/(LOG(Q4)/LOG(2))","v":0.10315452664447926},null,null,null,null,"U1=",{"$f":"W15/(LOG(W4)/LOG(2))","v":0},null,null,null,"U2=",{"$f":"AB15/(LOG(AB4)/LOG(2))","v":{"$error":"#DIV/0!"}},null,null,null,"U3=",{"$f":"AG15/(LOG(AG4)/LOG(2))","v":0},null,null,null,"U4=",{"$f":"AL15/(LOG(AL4)/LOG(2))","v":0},null,null,null,"U5=",{"$f":"AQ15/(LOG(AQ4)/LOG(2))","v":0},null,null,null,"U6=",{"$f":"AV15/(LOG(AV4)/LOG(2))","v":0}]
[11,1074,21,1085,21,1127,null,null,null,null,0,122]
[11,1214,21,1224,21,1229,null,null,null,null,0,122]
[11,1314,21,1325,21,1331,null,null,null,null,0,122,null,"Total Target Seq"]
[11,1421,21,1432,21,1440,null,null,null,null,0,122,null,{"$f":"COUNTIF(L7:L51,G3)","v":39},null,8,7,8,7,8,7]
[11,1527,21,1539,21,1544,null,null,null,null,0,122,null,null,null,"% of reinforcement given in 6 equal intervals based on number of trials "]
[22,1649,23,1657,23,1664,null,null,null,null,0,222,null,null,null,"%_1","%_2","%_3","%_4","%_5","%_6"]
[11,1760,21,1771,21,1778,null,null,null,null,0,122,null,null,"target sequence",{"$f":"$G$3","v":122},{"$f":"$G$3","v":122},{"$f":"$G$3","v":122},{"$f":"$G$3","v":122},{"$f":"$G$3","v":122},{"$f":"$G$3","v":122}]
[11,1865,21,1877,21,1885,null,null,null,null,0,122,null,null,"total reinforcement",{"$f":"U10","v":7},{"$f":"Z10","v":7},{"$f":"AE10","v":6},{"$f":"AJ10","v":6},{"$f":"AO10","v":7},{"$f":"AT10","v":6}]
[11,1968,21,1979,21,1983,null,null,null,null,0,122,null,null,"% target"]
[11,2074,21,2085,21,2096,null,null,null,null,0,122,null,null,"CCRF"]
[22,2194,23,2201,23,2212,null,null,null,null,0,222,null,null,"% CCRf"]
[11,2318,21,2329,21,2336,null,null,null,null,0,122,null,null,"average response rate",{"$f":"F14/P20","v":98.5},{"$f":"(F21-F14)/Q20","v":108},{"$f":"(F29-F21)/R20","v":112.625},{"$f":"(F36-F29)/S20","v":109.28571428571429},{"$f":"(F44-F36)/T20","v":106},{"$f":"(F51-F44)/U20","v":109.85714285714286}]
[11,2426,21,2438,21,2445,null,null,null,null,0,122]
[22,2542,23,2550,23,2561,null,null,null,null,0,222]
[11,2661,21,2674,21,2682,null,null,null,null,0,122]
[11,2768,21,2779,21,2785,null,null,null,null,0,122]
[11,2874,21,2886,21,2895,null,null,null,null,0,122]
[11,2980,21,2993,21,3001,null,null,null,null,0,122]
[11,3084,21,3094,21,3102,null,null,null,null,0,122]
[11,3191,21,3203,21,3210,null,null,null,null,0,122]
[11,3295,21,3306,21,3315,null,null,null,null,0,122]
[11,3397,21,3408,21,3413,null,null,null,null,0,122]
[11,3499,21,3511,21,3519,null,null,null,null,0,122]
[22,3614,23,3621,23,3633,null,null,null,null,0,222]
[11,3730,21,3742,21,3750,null,null,null,null,0,122]
[11,3837,21,3848,21,3855,null,null,null,null,0,122]
[11,3940,21,3950,21,3958,null,null,null,null,0,122]
[11,4043,21,4054,21,4058,null,null,null,null,0,122]
[11,4142,21,4152,21,4158,null,null,null,null,0,122]
[22,4261,23,4266,23,4290,null,null,null,null,0,222]
[11,4387,21,4396,21,4401,null,null,null,null,0,122]
[11,4487,21,4498,21,4515,null,null,null,null,0,122]
[11,4603,21,4614,21,4622,null,null,null,null,0,122]
[11,4708,21,4720,21,4728,null,null,null,null,0,122]
[11,4813,21,4822,21,4827,null,null,null,null,1,122]

{"sheet":"!M804B00.104","index":23,"n_rows":57,"n_cols":48,"rows_kept":57,"cut":false,"hidden":false,"merged":[[4,39,4,42],[5,39,5,40],[4,44,4,47],[5,44,5,45],[4,24,4,27],[5,24,5,25],[4,29,4,32],[5,29,5,30],[4,34,4,37],[5,34,5,35],[1,1,1,2],[5,13,5,14],[18,13,18,14],[19,13,19,14],[4,19,4,22],[5,19,5,20]]}
["Report for:!M804B00.104"]
["Date:","<date>"]
["Hen:","<hen>",null,null,null,"Correct Sequence",{"$f":"Start!J2","v":122},null,null,null,null,null,null,null,null,"Total Sequences in Data",{"$f":"4994-COUNTBLANK(L7:L5000)","v":51},null,null,null,null,"Total Sequences in Block Data",{"$f":"COUNTA(L7:L15)","v":9},null,null,null,"Total Sequences in Block Data",{"$f":"COUNTA(L16:L23)","v":8},null,null,null,"Total Sequences in Block Data",{"$f":"COUNTA(L24:L32)","v":9},null,null,null,"Total Sequences in Block Data",{"$f":"COUNTA(L33:L40)","v":8},null,null,null,"Total Sequences in Block Data",{"$f":"COUNTA(L41:L49)","v":9},null,null,null,"Total Sequences in Block Data",{"$f":"COUNTA(L50:L57)","v":8}]
[null,null,null,null,null,null,null,null,null,null,null,null,null,null,null,"Total Sequences in Summary",{"$f":"SUM(O7:O14)","v":51},null,null,null,null,"Total Sequences in Block Summary",{"$f":"SUM(U7:U14)","v":9},null,null,null,"Total Sequences in Block Summary",{"$f":"SUM(Z7:Z14)","v":8},null,null,null,"Total Sequences in Block Summary",{"$f":"SUM(AE7:AE14)","v":9},null,null,null,"Total Sequences in Block Summary",{"$f":"SUM(AJ7:AJ14)","v":8},null,null,null,"Total Sequences in Block Summary",{"$f":"SUM(AO7:AO14)","v":9},null,null,null,"Total Sequences in Block Summary",{"$f":"SUM(AT7:AT14)","v":8}]
[null,null,null,null,null,null,null,null,null,null,null,null,null,null,null,null,null,null,null,"Block 1",null,null,null,null,"Block 2",null,null,null,null,"Block 3",null,null,null,null,"Block 4",null,null,null,null,"Block 5",null,null,null,null,"Block 6"]
["Sequence\nComponent\n1","Time\n1","Sequence\nComponent\n2","Time\n2","Sequence\nComponent\n3","Time\n3","Sequence\nComponent\n4","Time\n4","Sequence\nComponent\n5","Time\n5","Correct?\n0=No 1=Yes","Sequence",null,"Frequency",null,"Relative Frequency","Variability",null,null,"Frequency",null,"Relative Frequency","Variability",null,"Frequency",null,"Relative Frequency","Variability",null,"Frequency",null,"Relative Frequency","Variability",null,"Frequency",null,"Relative Frequency","Variability",null,"Frequency",null,"Relative Frequency","Variability",null,"Frequency",null,"Relative Frequency","Variability"]
[11,11,21,19,21,26,null,null,null,null,0,122,null,111,{"$f":"COUNTIF($L$7:$L$500,N7)","v":0},{"$f":"O7/$Q$4","v":0},{"$f":"IF(P7=0,0,(P7*((LOG(P7))/LOG(2))))","v":0},null,null,{"$f":"N7","v":111},{"$f":"COUNTIF(L7:L15,T7)","v":0},{"$f":"U7/(W4-U10)","v":{"$error":"#DIV/0!"}},{"$f":"IF(V7=0,0,(V7*((LOG(V7))/LOG(2))))","v":{"$error":"#DIV/0!"}},null,{"$f":"N7","v":111},{"$f":"COUNTIF(L16:L23,Y7)","v":0},{"$f":"Z7/(AB4-Z10)","v":0},{"$f":"IF(AA7=0,0,(AA7*((LOG(AA7))/LOG(2))))","v":0},null,{"$f":"N7","v":111},{"$f":"COUNTIF(L24:L32,AD7)","v":0},{"$f":"AE7/(AG4-AE10)","v":0},{"$f":"IF(AF7=0,0,(AF7*((LOG(AF7))/LOG(2))))","v":0},null,{"$f":"N7","v":111},{"$f":"COUNTIF(L33:L40,AI7)","v":0},{"$f":"AJ7/(AL4-AJ10)","v":0},{"$f":"IF(AK7=0,0,(AK7*((LOG(AK7))/LOG(2))))","v":0},null,{"$f":"N7","v":111},{"$f":"COUNTIF(L41:L49,AN7)","v":0},{"$f":"AO7/(AQ4-AO10)","v":{"$error":"#DIV/0!"}},{"$f":"IF(AP7=0,0,(AP7*((LOG(AP7))/LOG(2))))","v":{"$error":"#DIV/0!"}},null,{"$f":"N7","v":111},{"$f":"COUNTIF(L50:L57,AS7)","v":0},{"$f":"AT7/(AV4-AT10)","v":0},{"$f":"IF(AU7=0,0,(AU7*((LOG(AU7))/LOG(2))))","v":0}]
[11,117,21,128,21,135,null,null,null,null,0,122,null,112,{"$f":"COUNTIF($L$7:$L$500,N8)","v":2},{"$f":"O8/$Q$4","v":3.9215686274509803E-2},{"$f":"IF(P8=0,0,(P8*((LOG(P8))/LOG(2))))","v":-0.18323236635182338},null,null,{"$f":"N8","v":112},{"$f":"COUNTIF(L7:L15,T8)","v":0},{"$f":"U8/(W4-U10)","v":{"$error":"#DIV/0!"}},{"$f":"IF(V8=0,0,(V8*((LOG(V8))/LOG(2))))","v":{"$error":"#DIV/0!"}},null,{"$f":"N8","v":112},{"$f":"COUNTIF(L16:L23,Y8)","v":0},{"$f":"Z8/(AB4-Z10)","v":0},{"$f":"IF(AA8=0,0,(AA8*((LOG(AA8))/LOG(2))))","v":0},null,{"$f":"N8","v":112},{"$f":"COUNTIF(L24:L32,AD8)","v":2},{"$f":"AE8/(AG4-AE10)","v":0.33333333333333331},{"$f":"IF(AF8=0,0,(AF8*((LOG(AF8))/LOG(2))))","v":-0.52832083357371862},null,{"$f":"N8","v":112},{"$f":"COUNTIF(L33:L40,AI8)","v":0},{"$f":"AJ8/(AL4-AJ10)","v":0},{"$f":"IF(AK8=0,0,(AK8*((LOG(AK8))/LOG(2))))","v":0},null,{"$f":"N8","v":112},{"$f":"COUNTIF(L41:L49,AN8)","v":0},{"$f":"AO8/(AQ4-AO10)","v":{"$error":"#DIV/0!"}},{"$f":"IF(AP8=0,0,(AP8*((LOG(AP8))/LOG(2))))","v":{"$error":"#DIV/0!"}},null,{"$f":"N8","v":112},{"$f":"COUNTIF(L50:L57,AS8)","v":0},{"$f":"AT8/(AV4-AT10)","v":0},{"$f":"IF(AU8=0,0,(AU8*((LOG(AU8))/LOG(2))))","v":0}]
[11,226,21,237,21,244,null,null,null,null,0,122,null,121,{"$f":"COUNTIF($L$7:$L$500,N9)","v":0},{"$f":"O9/$Q$4","v":0},{"$f":"IF(P9=0,0,(P9*((LOG(P9))/LOG(2))))","v":0},null,null,{"$f":"N9","v":121},{"$f":"COUNTIF(L7:L15,T9)","v":0},{"$f":"U9/(W4-U10)","v":{"$error":"#DIV/0!"}},{"$f":"IF(V9=0,0,(V9*((LOG(V9))/LOG(2))))","v":{"$error":"#DIV/0!"}},null,{"$f":"N9","v":121},{"$f":"COUNTIF(L16:L23,Y9)","v":0},{"$f":"Z9/(AB4-Z10)","v":0},{"$f":"IF(AA9=0,0,(AA9*((LOG(AA9))/LOG(2))))","v":0},null,{"$f":"N9","v":121},{"$f":"COUNTIF(L24:L32,AD9)","v":0},{"$f":"AE9/(AG4-AE10)","v":0},{"$f":"IF(AF9=0,0,(AF9*((LOG(AF9))/LOG(2))))","v":0},null,{"$f":"N9","v":121},{"$f":"COUNTIF(L33:L40,AI9)","v":0},{"$f":"AJ9/(AL4-AJ10)","v":0},{"$f":"IF(AK9=0,0,(AK9*((LOG(AK9))/LOG(2))))","v":0},null,{"$f":"N9","v":121},{"$f":"COUNTIF(L41:L49,AN9)","v":0},{"$f":"AO9/(AQ4-AO10)","v":{"$error":"#DIV/0!"}},{"$f":"IF(AP9=0,0,(AP9*((LOG(AP9))/LOG(2))))","v":{"$error":"#DIV/0!"}},null,{"$f":"N9","v":121},{"$f":"COUNTIF(L50:L57,AS9)","v":0},{"$f":"AT9/(AV4-AT10)","v":0},{"$f":"IF(AU9=0,0,(AU9*((LOG(AU9))/LOG(2))))","v":0}]
[11,330,21,338,21,345,null,null,null,null,0,122,null,122,{"$f":"COUNTIF($L$7:$L$500,N10)","v":39},{"$f":"O10/$Q$4","v":0.76470588235294112},{"$f":"IF(P10=0,0,(P10*((LOG(P10))/LOG(2))))","v":-0.29595885884824796},null,null,{"$f":"N10","v":122},{"$f":"COUNTIF(L7:L15,T10)","v":9},null,null,null,{"$f":"N10","v":122},{"$f":"COUNTIF(L16:L23,Y10)","v":6},null,null,null,{"$f":"N10","v":122},{"$f":"COUNTIF(L24:L32,AD10)","v":3},null,null,null,{"$f":"N10","v":122},{"$f":"COUNTIF(L33:L40,AI10)","v":6},null,null,null,{"$f":"N10","v":122},{"$f":"COUNTIF(L41:L49,AN10)","v":9},null,null,null,{"$f":"N10","v":122},{"$f":"COUNTIF(L50:L57,AS10)","v":6}]
[11,430,21,438,21,444,null,null,null,null,0,122,null,211,{"$f":"COUNTIF($L$7:$L$500,N11)","v":0},{"$f":"O11/$Q$4","v":0},{"$f":"IF(P11=0,0,(P11*((LOG(P11))/LOG(2))))","v":0},null,null,{"$f":"N11","v":211},{"$f":"COUNTIF(L7:L15,T11)","v":0},{"$f":"U11/(W4-U10)","v":{"$error":"#DIV/0!"}},{"$f":"IF(V11=0,0,(V11*((LOG(V11))/LOG(2))))","v":{"$error":"#DIV/0!"}},null,{"$f":"N11","v":211},{"$f":"COUNTIF(L16:L23,Y11)","v":0},{"$f":"Z11/(AB4-Z10)","v":0},{"$f":"IF(AA11=0,0,(AA11*((LOG(AA11))/LOG(2))))","v":0},null,{"$f":"N11","v":211},{"$f":"COUNTIF(L24:L32,AD11)","v":0},{"$f":"AE11/(AG4-AE10)","v":0},{"$f":"IF(AF11=0,0,(AF11*((LOG(AF11))/LOG(2))))","v":0},null,{"$f":"N11","v":211},{"$f":"COUNTIF(L33:L40,AI11)","v":0},{"$f":"AJ11/(AL4-AJ10)","v":0},{"$f":"IF(AK11=0,0,(AK11*((LOG(AK11))/LOG(2))))","v":0},null,{"$f":"N11","v":211},{"$f":"COUNTIF(L41:L49,AN11)","v":0},{"$f":"AO11/(AQ4-AO10)","v":{"$error":"#DIV/0!"}},{"$f":"IF(AP11=0,0,(AP11*((LOG(AP11))/LOG(2))))","v":{"$error":"#DIV/0!"}},null,{"$f":"N11","v":211},{"$f":"COUNTIF(L50:L57,AS11)","v":0},{"$f":"AT11/(AV4-AT10)","v":0},{"$f":"IF(AU11=0,0,(AU11*((LOG(AU11))/LOG(2))))","v":0}]
[11,532,21,544,21,552,null,null,null,null,0,122,null,212,{"$f":"COUNTIF($L$7:$L$500,N12)","v":0},{"$f":"O12/$Q$4","v":0},{"$f":"IF(P12=0,0,(P12*((LOG(P12))/LOG(2))))","v":0},null,null,{"$f":"N12","v":212},{"$f":"COUNTIF(L7:L15,T12)","v":0},{"$f":"U12/(W4-U10)","v":{"$error":"#DIV/0!"}},{"$f":"IF(V12=0,0,(V12*((LOG(V12))/LOG(2))))","v":{"$error":"#DIV/0!"}},null,{"$f":"N12","v":212},{"$f":"COUNTIF(L16:L23,Y12)","v":0},{"$f":"Z12/(AB4-Z10)","v":0},{"$f":"IF(AA12=0,0,(AA12*((LOG(AA12))/LOG(2))))","v":0},null,{"$f":"N12","v":212},{"$f":"COUNTIF(L24:L32,AD12)","v":0},{"$f":"AE12/(AG4-AE10)","v":0},{"$f":"IF(AF12=0,0,(AF12*((LOG(AF12))/LOG(2))))","v":0},null,{"$f":"N12","v":212},{"$f":"COUNTIF(L33:L40,AI12)","v":0},{"$f":"AJ12/(AL4-AJ10)","v":0},{"$f":"IF(AK12=0,0,(AK12*((LOG(AK12))/LOG(2))))","v":0},null,{"$f":"N12","v":212},{"$f":"COUNTIF(L41:L49,AN12)","v":0},{"$f":"AO12/(AQ4-AO10)","v":{"$error":"#DIV/0!"}},{"$f":"IF(AP12=0,0,(AP12*((LOG(AP12))/LOG(2))))","v":{"$error":"#DIV/0!"}},null,{"$f":"N12","v":212},{"$f":"COUNTIF(L50:L57,AS12)","v":0},{"$f":"AT12/(AV4-AT10)","v":0},{"$f":"IF(AU12=0,0,(AU12*((LOG(AU12))/LOG(2))))","v":0}]
[11,635,21,646,21,653,null,null,null,null,0,122,null,221,{"$f":"COUNTIF($L$7:$L$500,N13)","v":0},{"$f":"O13/$Q$4","v":0},{"$f":"IF(P13=0,0,(P13*((LOG(P13))/LOG(2))))","v":0},null,null,{"$f":"N13","v":221},{"$f":"COUNTIF(L7:L15,T13)","v":0},{"$f":"U13/(W4-U10)","v":{"$error":"#DIV/0!"}},{"$f":"IF(V13=0,0,(V13*((LOG(V13))/LOG(2))))","v":{"$error":"#DIV/0!"}},null,{"$f":"N13","v":221},{"$f":"COUNTIF(L16:L23,Y13)","v":0},{"$f":"Z13/(AB4-Z10)","v":0},{"$f":"IF(AA13=0,0,(AA13*((LOG(AA13))/LOG(2))))","v":0},null,{"$f":"N13","v":221},{"$f":"COUNTIF(L24:L32,AD13)","v":0},{"$f":"AE13/(AG4-AE10)","v":0},{"$f":"IF(AF13=0,0,(AF13*((LOG(AF13))/LOG(2))))","v":0},null,{"$f":"N13","v":221},{"$f":"COUNTIF(L33:L40,AI13)","v":0},{"$f":"AJ13/(AL4-AJ10)","v":0},{"$f":"IF(AK13=0,0,(AK13*((LOG(AK13))/LOG(2))))","v":0},null,{"$f":"N13","v":221},{"$f":"COUNTIF(L41:L49,AN13)","v":0},{"$f":"AO13/(AQ4-AO10)","v":{"$error":"#DIV/0!"}},{"$f":"IF(AP13=0,0,(AP13*((LOG(AP13))/LOG(2))))","v":{"$error":"#DIV/0!"}},null,{"$f":"N13","v":221},{"$f":"COUNTIF(L50:L57,AS13)","v":0},{"$f":"AT13/(AV4-AT10)","v":0},{"$f":"IF(AU13=0,0,(AU13*((LOG(AU13))/LOG(2))))","v":0}]
[11,738,21,748,21,760,null,null,null,null,0,122,null,222,{"$f":"COUNTIF($L$7:$L$500,N14)","v":10},{"$f":"O14/$Q$4","v":0.19607843137254902},{"$f":"IF(P14=0,0,(P14*((LOG(P14))/LOG(2))))","v":-0.46088181315375165},null,null,{"$f":"N14","v":222},{"$f":"COUNTIF(L7:L15,T14)","v":0},{"$f":"U14/(W4-U10)","v":{"$error":"#DIV/0!"}},{"$f":"IF(V14=0,0,(V14*((LOG(V14))/LOG(2))))","v":{"$error":"#DIV/0!"}},null,{"$f":"N14","v":222},{"$f":"COUNTIF(L16:L23,Y14)","v":2},{"$f":"Z14/(AB4-Z10)","v":1},{"$f":"IF(AA14=0,0,(AA14*((LOG(AA14))/LOG(2))))","v":0},null,{"$f":"N14","v":222},{"$f":"COUNTIF(L24:L32,AD14)","v":4},{"$f":"AE14/(AG4-AE10)","v":0.66666666666666663},{"$f":"IF(AF14=0,0,(AF14*((LOG(AF14))/LOG(2))))","v":-0.38997500048077083},null,{"$f":"N14","v":222},{"$f":"COUNTIF(L33:L40,AI14)","v":2},{"$f":"AJ14/(AL4-AJ10)","v":1},{"$f":"IF(AK14=0,0,(AK14*((LOG(AK14))/LOG(2))))","v":0},null,{"$f":"N14","v":222},{"$f":"COUNTIF(L41:L49,AN14)","v":0},{"$f":"AO14/(AQ4-AO10)","v":{"$error":"#DIV/0!"}},{"$f":"IF(AP14=0,0,(AP14*((LOG(AP14))/LOG(2))))","v":{"$error":"#DIV/0!"}},null,{"$f":"N14","v":222},{"$f":"COUNTIF(L50:L57,AS14)","v":2},{"$f":"AT14/(AV4-AT10)","v":1},{"$f":"IF(AU14=0,0,(AU14*((LOG(AU14))/LOG(2))))","v":0}]
[11,847,21,858,21,865,null,null,null,null,0,122,null,null,null,{"$f":"SUM(P7:P14)","v":0.99999999999999989},{"$f":"-SUM(Q7:Q14)","v":0.94007303835382294},null,null,null,null,{"$f":"SUM(V7:V14)","v":{"$error":"#DIV/0!"}},{"$f":"-SUM(W7:W14)","v":{"$error":"#DIV/0!"}},null,null,null,{"$f":"SUM(AA7:AA14)","v":1},{"$f":"-SUM(AB7:AB14)","v":0},null,null,null,{"$f":"SUM(AF7:AF14)","v":1},{"$f":"-SUM(AG7:AG14)","v":0.91829583405448945},null,null,null,{"$f":"SUM(AK7:AK14)","v":1},{"$f":"-SUM(AL7:AL14)","v":0},null,null,null,{"$f":"SUM(AP7:AP14)","v":{"$error":"#DIV/0!"}},{"$f":"-SUM(AQ7:AQ14)","v":{"$error":"#DIV/0!"}},null,null,null,{"$f":"SUM(AU7:AU14)","v":1},{"$f":"-SUM(AV7:AV14)","v":0}]
[22,961,23,968,23,976,null,null,null,null,0,222,null,null,null,"U=",{"$f":"Q15/(LOG(Q4)/LOG(2))","v":0.16572682436171002},null,null,null,null,"U1=",{"$f":"W15/(LOG(W4)/LOG(2))","v":{"$error":"#DIV/0!"}},null,null,null,"U2=",{"$f":"AB15/(LOG(AB4)/LOG(2))","v":0},null,null,null,"U3=",{"$f":"AG15/(LOG(AG4)/LOG(2))","v":0.28969008214284753},null,null,null,"U4=",{"$f":"AL15/(LOG(AL4)/LOG(2))","v":0},null,null,null,"U5=",{"$f":"AQ15/(LOG(AQ4)/LOG(2))","v":{"$error":"#DIV/0!"}},null,null,null,"U6=",{"$f":"AV15/(LOG(AV4)/LOG(2))","v":0}]
[22,1077,23,1085,23,1093,null,null,null,null,0,222]
[11,1190,21,1201,21,1238,null,null,null,null,0,122]
[11,1325,21,1335,21,1343,null,null,null,null,0,122,null,"Total Target Seq"]
[11,1431,21,1443,21,1455,null,null,null,null,0,122,null,{"$f":"COUNTIF(L7:L57,G3)","v":39},null,9,8,9,8,9,8]
[11,1542,21,1552,21,1561,null,null,null,null,0,122,null,null,null,"% of reinforcement given in 6 equal intervals based on number of trials "]
[11,1647,21,1656,21,1663,null,null,null,null,0,122,null,null,null,"%_1","%_2","%_3","%_4","%_5","%_6"]
[11,1750,21,1761,21,1768,null,null,null,null,0,122,null,null,"target sequence",{"$f":"$G$3","v":122},{"$f":"$G$3","v":122},{"$f":"$G$3","v":122},{"$f":"$G$3","v":122},{"$f":"$G$3","v":122},{"$f":"$G$3","v":122}]
[22,1863,23,1871,23,1882,null,null,null,null,0,222,null,null,"total reinforcement",{"$f":"U10","v":9},{"$f":"Z10","v":6},{"$f":"AE10","v":3},{"$f":"AJ10","v":6},{"$f":"AO10","v":9},{"$f":"AT10","v":6}]
[22,1990,23,1997,23,2008,null,null,null,null,0,222,null,null,"% target"]
[11,2105,12,2113,23,2124,null,null,null,null,0,112,null,null,"CCRF"]
[22,2231,23,2239,23,2253,null,null,null,null,0,222,null,null,"% CCRf"]
[11,2348,12,2353,23,2365,null,null,null,null,0,112,null,null,"average response rate",{"$f":"F15/P20","v":96.111111111111114},{"$f":"(F23-F15)/Q20","v":112.875},{"$f":"(F32-F23)/R20","v":118.33333333333333},{"$f":"(F40-F32)/S20","v":110},{"$f":"(F49-F40)/T20","v":106.22222222222223},{"$f":"(F57-F49)/U20","v":112.5}]
[11,2462,21,2474,21,2481,null,null,null,null,0,122]
[11,2570,21,2584,21,2591,null,null,null,null,0,122]
[22,2695,23,2705,23,2716,null,null,null,null,0,222]
[11,2811,21,2825,21,2833,null,null,null,null,0,122]
[11,2919,21,2931,21,2938,null,null,null,null,0,122]
[11,3024,21,3036,21,3049,null,null,null,null,0,122]
[22,3147,23,3155,23,3163,null,null,null,null,0,222]
[11,3260,21,3272,21,3280,null,null,null,null,0,122]
[11,3366,21,3378,21,3387,null,null,null,null,0,122]
[11,3472,21,3484,21,3491,null,null,null,null,0,122]
[11,3576,21,3588,21,3596,null,null,null,null,0,122]
[22,3695,23,3705,23,3713,null,null,null,null,0,222]
[11,3810,21,3822,21,3830,null,null,null,null,0,122]
[11,3915,21,3926,21,3933,null,null,null,null,0,122]
[11,4017,21,4029,21,4036,null,null,null,null,0,122]
[11,4122,21,4133,21,4140,null,null,null,null,0,122]
[11,4225,21,4236,21,4243,null,null,null,null,0,122]
[11,4328,21,4340,21,4348,null,null,null,null,0,122]
[11,4434,21,4448,21,4457,null,null,null,null,0,122]
[11,4544,21,4554,21,4562,null,null,null,null,0,122]
[11,4648,21,4661,21,4669,null,null,null,null,0,122]
[22,4767,23,4777,23,4788,null,null,null,null,0,222]
[11,4885,21,4896,21,4905,null,null,null,null,0,122]
[22,5008,23,5016,23,5025,null,null,null,null,0,222]
[11,5121,21,5132,21,5139,null,null,null,null,0,122]
[11,5227,21,5239,21,5247,null,null,null,null,0,122]
[11,5333,21,5345,21,5352,null,null,null,null,0,122]
[11,5444,21,5455,21,5462,null,null,null,null,0,122]
[11,5550,21,5561,21,5569,null,null,null,null,1,122]

{"sheet":"!M805A20.104","index":24,"n_rows":63,"n_cols":48,"rows_kept":63,"cut":false,"hidden":false,"merged":[[4,39,4,42],[5,39,5,40],[4,44,4,47],[5,44,5,45],[4,24,4,27],[5,24,5,25],[4,29,4,32],[5,29,5,30],[4,34,4,37],[5,34,5,35],[1,1,1,2],[5,13,5,14],[18,13,18,14],[19,13,19,14],[4,19,4,22],[5,19,5,20]]}
["Report for:!M805A20.104"]
["Date:","<date>"]
["Hen:","<hen>",null,null,null,"Correct Sequence",{"$f":"Start!J2","v":122},null,null,null,null,null,null,null,null,"Total Sequences in Data",{"$f":"4994-COUNTBLANK(L7:L5000)","v":57},null,null,null,null,"Total Sequences in Block Data",{"$f":"COUNTA(L7:L16)","v":10},null,null,null,"Total Sequences in Block Data",{"$f":"COUNTA(L17:L25)","v":9},null,null,null,"Total Sequences in Block Data",{"$f":"COUNTA(L26:L35)","v":10},null,null,null,"Total Sequences in Block Data",{"$f":"COUNTA(L36:L44)","v":9},null,null,null,"Total Sequences in Block Data",{"$f":"COUNTA(L45:L54)","v":10},null,null,null,"Total Sequences in Block Data",{"$f":"COUNTA(L55:L63)","v":9}]
[null,null,null,null,null,null,null,null,null,null,null,null,null,null,null,"Total Sequences in Summary",{"$f":"SUM(O7:O14)","v":57},null,null,null,null,"Total Sequences in Block Summary",{"$f":"SUM(U7:U14)","v":10},null,null,null,"Total Sequences in Block Summary",{"$f":"SUM(Z7:Z14)","v":9},null,null,null,"Total Sequences in Block Summary",{"$f":"SUM(AE7:AE14)","v":10},null,null,null,"Total Sequences in Block Summary",{"$f":"SUM(AJ7:AJ14)","v":9},null,null,null,"Total Sequences in Block Summary",{"$f":"SUM(AO7:AO14)","v":10},null,null,null,"Total Sequences in Block Summary",{"$f":"SUM(AT7:AT14)","v":9}]
[null,null,null,null,null,null,null,null,null,null,null,null,null,null,null,null,null,null,null,"Block 1",null,null,null,null,"Block 2",null,null,null,null,"Block 3",null,null,null,null,"Block 4",null,null,null,null,"Block 5",null,null,null,null,"Block 6"]
["Sequence\nComponent\n1","Time\n1","Sequence\nComponent\n2","Time\n2","Sequence\nComponent\n3","Time\n3","Sequence\nComponent\n4","Time\n4","Sequence\nComponent\n5","Time\n5","Correct?\n0=No 1=Yes","Sequence",null,"Frequency",null,"Relative Frequency","Variability",null,null,"Frequency",null,"Relative Frequency","Variability",null,"Frequency",null,"Relative Frequency","Variability",null,"Frequency",null,"Relative Frequency","Variability",null,"Frequency",null,"Relative Frequency","Variability",null,"Frequency",null,"Relative Frequency","Variability",null,"Frequency",null,"Relative Frequency","Variability"]
[22,24,23,35,23,44,null,null,null,null,0,222,null,111,{"$f":"COUNTIF($L$7:$L$500,N7)","v":0},{"$f":"O7/$Q$4","v":0},{"$f":"IF(P7=0,0,(P7*((LOG(P7))/LOG(2))))","v":0},null,null,{"$f":"N7","v":111},{"$f":"COUNTIF(L7:L16,T7)","v":0},{"$f":"U7/(W4-U10)","v":0},{"$f":"IF(V7=0,0,(V7*((LOG(V7))/LOG(2))))","v":0},null,{"$f":"N7","v":111},{"$f":"COUNTIF(L17:L25,Y7)","v":0},{"$f":"Z7/(AB4-Z10)","v":0},{"$f":"IF(AA7=0,0,(AA7*((LOG(AA7))/LOG(2))))","v":0},null,{"$f":"N7","v":111},{"$f":"COUNTIF(L26:L35,AD7)","v":0},{"$f":"AE7/(AG4-AE10)","v":{"$error":"#DIV/0!"}},{"$f":"IF(AF7=0,0,(AF7*((LOG(AF7))/LOG(2))))","v":{"$error":"#DIV/0!"}},null,{"$f":"N7","v":111},{"$f":"COUNTIF(L36:L44,AI7)","v":0},{"$f":"AJ7/(AL4-AJ10)","v":0},{"$f":"IF(AK7=0,0,(AK7*((LOG(AK7))/LOG(2))))","v":0},null,{"$f":"N7","v":111},{"$f":"COUNTIF(L45:L54,AN7)","v":0},{"$f":"AO7/(AQ4-AO10)","v":0},{"$f":"IF(AP7=0,0,(AP7*((LOG(AP7))/LOG(2))))","v":0},null,{"$f":"N7","v":111},{"$f":"COUNTIF(L55:L63,AS7)","v":0},{"$f":"AT7/(AV4-AT10)","v":0},{"$f":"IF(AU7=0,0,(AU7*((LOG(AU7))/LOG(2))))","v":0}]
[22,155,23,163,23,171,null,null,null,null,0,222,null,112,{"$f":"COUNTIF($L$7:$L$500,N8)","v":8},{"$f":"O8/$Q$4","v":0.14035087719298245},{"$f":"IF(P8=0,0,(P8*((LOG(P8))/LOG(2))))","v":-0.39759859847926199},null,null,{"$f":"N8","v":112},{"$f":"COUNTIF(L7:L16,T8)","v":4},{"$f":"U8/(W4-U10)","v":0.5},{"$f":"IF(V8=0,0,(V8*((LOG(V8))/LOG(2))))","v":-0.5},null,{"$f":"N8","v":112},{"$f":"COUNTIF(L17:L25,Y8)","v":0},{"$f":"Z8/(AB4-Z10)","v":0},{"$f":"IF(AA8=0,0,(AA8*((LOG(AA8))/LOG(2))))","v":0},null,{"$f":"N8","v":112},{"$f":"COUNTIF(L26:L35,AD8)","v":0},{"$f":"AE8/(AG4-AE10)","v":{"$error":"#DIV/0!"}},{"$f":"IF(AF8=0,0,(AF8*((LOG(AF8))/LOG(2))))","v":{"$error":"#DIV/0!"}},null,{"$f":"N8","v":112},{"$f":"COUNTIF(L36:L44,AI8)","v":1},{"$f":"AJ8/(AL4-AJ10)","v":0.33333333333333331},{"$f":"IF(AK8=0,0,(AK8*((LOG(AK8))/LOG(2))))","v":-0.52832083357371862},null,{"$f":"N8","v":112},{"$f":"COUNTIF(L45:L54,AN8)","v":2},{"$f":"AO8/(AQ4-AO10)","v":1},{"$f":"IF(AP8=0,0,(AP8*((LOG(AP8))/LOG(2))))","v":0},null,{"$f":"N8","v":112},{"$f":"COUNTIF(L55:L63,AS8)","v":1},{"$f":"AT8/(AV4-AT10)","v":0.33333333333333331},{"$f":"IF(AU8=0,0,(AU8*((LOG(AU8))/LOG(2))))","v":-0.52832083357371862}]
[22,284,23,292,23,300,null,null,null,null,0,222,null,121,{"$f":"COUNTIF($L$7:$L$500,N9)","v":0},{"$f":"O9/$Q$4","v":0},{"$f":"IF(P9=0,0,(P9*((LOG(P9))/LOG(2))))","v":0},null,null,{"$f":"N9","v":121},{"$f":"COUNTIF(L7:L16,T9)","v":0},{"$f":"U9/(W4-U10)","v":0},{"$f":"IF(V9=0,0,(V9*((LOG(V9))/LOG(2))))","v":0},null,{"$f":"N9","v":121},{"$f":"COUNTIF(L17:L25,Y9)","v":0},{"$f":"Z9/(AB4-Z10)","v":0},{"$f":"IF(AA9=0,0,(AA9*((LOG(AA9))/LOG(2))))","v":0},null,{"$f":"N9","v":121},{"$f":"COUNTIF(L26:L35,AD9)","v":0},{"$f":"AE9/(AG4-AE10)","v":{"$error":"#DIV/0!"}},{"$f":"IF(AF9=0,0,(AF9*((LOG(AF9))/LOG(2))))","v":{"$error":"#DIV/0!"}},null,{"$f":"N9","v":121},{"$f":"COUNTIF(L36:L44,AI9)","v":0},{"$f":"AJ9/(AL4-AJ10)","v":0},{"$f":"IF(AK9=0,0,(AK9*((LOG(AK9))/LOG(2))))","v":0},null,{"$f":"N9","v":121},{"$f":"COUNTIF(L45:L54,AN9)","v":0},{"$f":"AO9/(AQ4-AO10)","v":0},{"$f":"IF(AP9=0,0,(AP9*((LOG(AP9))/LOG(2))))","v":0},null,{"$f":"N9","v":121},{"$f":"COUNTIF(L55:L63,AS9)","v":0},{"$f":"AT9/(AV4-AT10)","v":0},{"$f":"IF(AU9=0,0,(AU9*((LOG(AU9))/LOG(2))))","v":0}]
[11,399,12,407,23,418,null,null,null,null,0,112,null,122,{"$f":"COUNTIF($L$7:$L$500,N10)","v":40},{"$f":"O10/$Q$4","v":0.70175438596491224},{"$f":"IF(P10=0,0,(P10*((LOG(P10))/LOG(2))))","v":-0.35856976791395045},null,null,{"$f":"N10","v":122},{"$f":"COUNTIF(L7:L16,T10)","v":2},null,null,null,{"$f":"N10","v":122},{"$f":"COUNTIF(L17:L25,Y10)","v":8},null,null,null,{"$f":"N10","v":122},{"$f":"COUNTIF(L26:L35,AD10)","v":10},null,null,null,{"$f":"N10","v":122},{"$f":"COUNTIF(L36:L44,AI10)","v":6},null,null,null,{"$f":"N10","v":122},{"$f":"COUNTIF(L45:L54,AN10)","v":8},null,null,null,{"$f":"N10","v":122},{"$f":"COUNTIF(L55:L63,AS10)","v":6}]
[22,529,23,537,23,548,null,null,null,null,0,222,null,211,{"$f":"COUNTIF($L$7:$L$500,N11)","v":0},{"$f":"O11/$Q$4","v":0},{"$f":"IF(P11=0,0,(P11*((LOG(P11))/LOG(2))))","v":0},null,null,{"$f":"N11","v":211},{"$f":"COUNTIF(L7:L16,T11)","v":0},{"$f":"U11/(W4-U10)","v":0},{"$f":"IF(V11=0,0,(V11*((LOG(V11))/LOG(2))))","v":0},null,{"$f":"N11","v":211},{"$f":"COUNTIF(L17:L25,Y11)","v":0},{"$f":"Z11/(AB4-Z10)","v":0},{"$f":"IF(AA11=0,0,(AA11*((LOG(AA11))/LOG(2))))","v":0},null,{"$f":"N11","v":211},{"$f":"COUNTIF(L26:L35,AD11)","v":0},{"$f":"AE11/(AG4-AE10)","v":{"$error":"#DIV/0!"}},{"$f":"IF(AF11=0,0,(AF11*((LOG(AF11))/LOG(2))))","v":{"$error":"#DIV/0!"}},null,{"$f":"N11","v":211},{"$f":"COUNTIF(L36:L44,AI11)","v":0},{"$f":"AJ11/(AL4-AJ10)","v":0},{"$f":"IF(AK11=0,0,(AK11*((LOG(AK11))/LOG(2))))","v":0},null,{"$f":"N11","v":211},{"$f":"COUNTIF(L45:L54,AN11)","v":0},{"$f":"AO11/(AQ4-AO10)","v":0},{"$f":"IF(AP11=0,0,(AP11*((LOG(AP11))/LOG(2))))","v":0},null,{"$f":"N11","v":211},{"$f":"COUNTIF(L55:L63,AS11)","v":0},{"$f":"AT11/(AV4-AT10)","v":0},{"$f":"IF(AU11=0,0,(AU11*((LOG(AU11))/LOG(2))))","v":0}]
[11,646,21,657,21,663,null,null,null,null,0,122,null,212,{"$f":"COUNTIF($L$7:$L$500,N12)","v":0},{"$f":"O12/$Q$4","v":0},{"$f":"IF(P12=0,0,(P12*((LOG(P12))/LOG(2))))","v":0},null,null,{"$f":"N12","v":212},{"$f":"COUNTIF(L7:L16,T12)","v":0},{"$f":"U12/(W4-U10)","v":0},{"$f":"IF(V12=0,0,(V12*((LOG(V12))/LOG(2))))","v":0},null,{"$f":"N12","v":212},{"$f":"COUNTIF(L17:L25,Y12)","v":0},{"$f":"Z12/(AB4-Z10)","v":0},{"$f":"IF(AA12=0,0,(AA12*((LOG(AA12))/LOG(2))))","v":0},null,{"$f":"N12","v":212},{"$f":"COUNTIF(L26:L35,AD12)","v":0},{"$f":"AE12/(AG4-AE10)","v":{"$error":"#DIV/0!"}},{"$f":"IF(AF12=0,0,(AF12*((LOG(AF12))/LOG(2))))","v":{"$error":"#DIV/0!"}},null,{"$f":"N12","v":212},{"$f":"COUNTIF(L36:L44,AI12)","v":0},{"$f":"AJ12/(AL4-AJ10)","v":0},{"$f":"IF(AK12=0,0,(AK12*((LOG(AK12))/LOG(2))))","v":0},null,{"$f":"N12","v":212},{"$f":"COUNTIF(L45:L54,AN12)","v":0},{"$f":"AO12/(AQ4-AO10)","v":0},{"$f":"IF(AP12=0,0,(AP12*((LOG(AP12))/LOG(2))))","v":0},null,{"$f":"N12","v":212},{"$f":"COUNTIF(L55:L63,AS12)","v":0},{"$f":"AT12/(AV4-AT10)","v":0},{"$f":"IF(AU12=0,0,(AU12*((LOG(AU12))/LOG(2))))","v":0}]
[11,749,12,761,23,774,null,null,null,null,0,112,null,221,{"$f":"COUNTIF($L$7:$L$500,N13)","v":0},{"$f":"O13/$Q$4","v":0},{"$f":"IF(P13=0,0,(P13*((LOG(P13))/LOG(2))))","v":0},null,null,{"$f":"N13","v":221},{"$f":"COUNTIF(L7:L16,T13)","v":0},{"$f":"U13/(W4-U10)","v":0},{"$f":"IF(V13=0,0,(V13*((LOG(V13))/LOG(2))))","v":0},null,{"$f":"N13","v":221},{"$f":"COUNTIF(L17:L25,Y13)","v":0},{"$f":"Z13/(AB4-Z10)","v":0},{"$f":"IF(AA13=0,0,(AA13*((LOG(AA13))/LOG(2))))","v":0},null,{"$f":"N13","v":221},{"$f":"COUNTIF(L26:L35,AD13)","v":0},{"$f":"AE13/(AG4-AE10)","v":{"$error":"#DIV/0!"}},{"$f":"IF(AF13=0,0,(AF13*((LOG(AF13))/LOG(2))))","v":{"$error":"#DIV/0!"}},null,{"$f":"N13","v":221},{"$f":"COUNTIF(L36:L44,AI13)","v":0},{"$f":"AJ13/(AL4-AJ10)","v":0},{"$f":"IF(AK13=0,0,(AK13*((LOG(AK13))/LOG(2))))","v":0},null,{"$f":"N13","v":221},{"$f":"COUNTIF(L45:L54,AN13)","v":0},{"$f":"AO13/(AQ4-AO10)","v":0},{"$f":"IF(AP13=0,0,(AP13*((LOG(AP13))/LOG(2))))","v":0},null,{"$f":"N13","v":221},{"$f":"COUNTIF(L55:L63,AS13)","v":0},{"$f":"AT13/(AV4-AT10)","v":0},{"$f":"IF(AU13=0,0,(AU13*((LOG(AU13))/LOG(2))))","v":0}]
[11,869,12,877,23,889,null,null,null,null,0,112,null,222,{"$f":"COUNTIF($L$7:$L$500,N14)","v":9},{"$f":"O14/$Q$4","v":0.15789473684210525},{"$f":"IF(P14=0,0,(P14*((LOG(P14))/LOG(2))))","v":-0.42046815990354147},null,null,{"$f":"N14","v":222},{"$f":"COUNTIF(L7:L16,T14)","v":4},{"$f":"U14/(W4-U10)","v":0.5},{"$f":"IF(V14=0,0,(V14*((LOG(V14))/LOG(2))))","v":-0.5},null,{"$f":"N14","v":222},{"$f":"COUNTIF(L17:L25,Y14)","v":1},{"$f":"Z14/(AB4-Z10)","v":1},{"$f":"IF(AA14=0,0,(AA14*((LOG(AA14))/LOG(2))))","v":0},null,{"$f":"N14","v":222},{"$f":"COUNTIF(L26:L35,AD14)","v":0},{"$f":"AE14/(AG4-AE10)","v":{"$error":"#DIV/0!"}},{"$f":"IF(AF14=0,0,(AF14*((LOG(AF14))/LOG(2))))","v":{"$error":"#DIV/0!"}},null,{"$f":"N14","v":222},{"$f":"COUNTIF(L36:L44,AI14)","v":2},{"$f":"AJ14/(AL4-AJ10)","v":0.66666666666666663},{"$f":"IF(AK14=0,0,(AK14*((LOG(AK14))/LOG(2))))","v":-0.38997500048077083},null,{"$f":"N14","v":222},{"$f":"COUNTIF(L45:L54,AN14)","v":0},{"$f":"AO14/(AQ4-AO10)","v":0},{"$f":"IF(AP14=0,0,(AP14*((LOG(AP14))/LOG(2))))","v":0},null,{"$f":"N14","v":222},{"$f":"COUNTIF(L55:L63,AS14)","v":2},{"$f":"AT14/(AV4-AT10)","v":0.66666666666666663},{"$f":"IF(AU14=0,0,(AU14*((LOG(AU14))/LOG(2))))","v":-0.38997500048077083}]
[11,988,21,1010,21,1022,null,null,null,null,0,122,null,null,null,{"$f":"SUM(P7:P14)","v":1},{"$f":"-SUM(Q7:Q14)","v":1.176636526296754},null,null,null,null,{"$f":"SUM(V7:V14)","v":1},{"$f":"-SUM(W7:W14)","v":1},null,null,null,{"$f":"SUM(AA7:AA14)","v":1},{"$f":"-SUM(AB7:AB14)","v":0},null,null,null,{"$f":"SUM(AF7:AF14)","v":{"$error":"#DIV/0!"}},{"$f":"-SUM(AG7:AG14)","v":{"$error":"#DIV/0!"}},null,null,null,{"$f":"SUM(AK7:AK14)","v":1},{"$f":"-SUM(AL7:AL14)","v":0.91829583405448945},null,null,null,{"$f":"SUM(AP7:AP14)","v":1},{"$f":"-SUM(AQ7:AQ14)","v":0},null,null,null,{"$f":"SUM(AU7:AU14)","v":1},{"$f":"-SUM(AV7:AV14)","v":0.91829583405448945}]
[11,1110,12,1119,23,1131,null,null,null,null,0,112,null,null,null,"U=",{"$f":"Q15/(LOG(Q4)/LOG(2))","v":0.20172444936204509},null,null,null,null,"U1=",{"$f":"W15/(LOG(W4)/LOG(2))","v":0.3010299956639812},null,null,null,"U2=",{"$f":"AB15/(LOG(AB4)/LOG(2))","v":0},null,null,null,"U3=",{"$f":"AG15/(LOG(AG4)/LOG(2))","v":{"$error":"#DIV/0!"}},null,null,null,"U4=",{"$f":"AL15/(LOG(AL4)/LOG(2))","v":0.28969008214284753},null,null,null,"U5=",{"$f":"AQ15/(LOG(AQ4)/LOG(2))","v":0},null,null,null,"U6=",{"$f":"AV15/(LOG(AV4)/LOG(2))","v":0.28969008214284753}]
[11,1225,21,1239,21,1249,null,null,null,null,0,122]
[11,1337,21,1348,21,1355,null,null,null,null,0,122]
[11,1442,21,1459,21,1466,null,null,null,null,0,122,null,"Total Target Seq"]
[11,1559,21,1573,21,1583,null,null,null,null,0,122,null,{"$f":"COUNTIF(L7:L63,G3)","v":40},null,10,9,10,9,10,9]
[11,1672,21,1684,21,1691,null,null,null,null,0,122,null,null,null,"% of reinforcement given in 6 equal intervals based on number of trials "]
[11,1778,21,1787,21,1794,null,null,null,null,0,122,null,null,null,"%_1","%_2","%_3","%_4","%_5","%_6"]
[11,1880,21,1891,21,1898,null,null,null,null,0,122,null,null,"target sequence",{"$f":"$G$3","v":122},{"$f":"$G$3","v":122},{"$f":"$G$3","v":122},{"$f":"$G$3","v":122},{"$f":"$G$3","v":122},{"$f":"$G$3","v":122}]
[22,1997,23,2004,23,2012,null,null,null,null,0,222,null,null,"total reinforcement",{"$f":"U10","v":2},{"$f":"Z10","v":8},{"$f":"AE10","v":10},{"$f":"AJ10","v":6},{"$f":"AO10","v":8},{"$f":"AT10","v":6}]
[11,2111,21,2122,21,2130,null,null,null,null,0,122,null,null,"% target"]
[11,2220,21,2230,21,2239,null,null,null,null,0,122,null,null,"CCRF"]
[11,2327,21,2338,21,2346,null,null,null,null,0,122,null,null,"% CCRf"]
[11,2433,21,2442,21,2449,null,null,null,null,0,122,null,null,"average response rate",{"$f":"F16/P20","v":113.1},{"$f":"(F25-F16)/Q20","v":111},{"$f":"(F35-F25)/R20","v":104.7},{"$f":"(F44-F35)/S20","v":114.33333333333333},{"$f":"(F54-F44)/T20","v":105.9},{"$f":"(F63-F54)/U20","v":110.88888888888889}]
[11,2538,21,2549,21,2557,null,null,null,null,0,122]
[11,2644,21,2653,21,2659,null,null,null,null,0,122]
[11,2747,21,2757,21,2766,null,null,null,null,0,122]
[11,2852,21,2861,21,2868,null,null,null,null,0,122]
[11,2953,21,2962,21,2969,null,null,null,null,0,122]
[11,3056,21,3067,21,3074,null,null,null,null,0,122]
[11,3160,21,3171,21,3177,null,null,null,null,0,122]
[11,3260,12,3264,23,3275,null,null,null,null,0,112]
[11,3378,21,3390,21,3399,null,null,null,null,0,122]
[22,3501,23,3509,23,3520,null,null,null,null,0,222]
[11,3616,21,3627,21,3635,null,null,null,null,0,122]
[11,3721,21,3733,21,3752,null,null,null,null,0,122]
[11,3840,21,3850,21,3858,null,null,null,null,0,122]
[22,3954,23,3962,23,3978,null,null,null,null,0,222]
[11,4075,21,4087,21,4096,null,null,null,null,0,122]
[11,4188,21,4199,21,4206,null,null,null,null,0,122]
[11,4292,21,4305,21,4310,null,null,null,null,0,122]
[11,4396,12,4404,23,4416,null,null,null,null,0,112]
[11,4511,21,4523,21,4528,null,null,null,null,0,122]
[11,4618,21,4629,21,4636,null,null,null,null,0,122]
[11,4720,21,4730,21,4737,null,null,null,null,0,122]
[11,4823,21,4833,21,4838,null,null,null,null,0,122]
[11,4922,12,4925,23,4936,null,null,null,null,0,112]
[11,5034,21,5046,21,5054,null,null,null,null,0,122]
[11,5142,21,5153,21,5161,null,null,null,null,0,122]
[11,5248,21,5258,21,5265,null,null,null,null,0,122]
[11,5351,21,5361,21,5366,null,null,null,null,0,122]
[11,5453,21,5464,21,5469,null,null,null,null,0,122]
[11,5559,21,5571,21,5578,null,null,null,null,0,122]
[22,5676,23,5684,23,5696,null,null,null,null,0,222]
[22,5805,23,5810,23,5818,null,null,null,null,0,222]
[11,5915,21,5925,21,5930,null,null,null,null,0,122]
[11,6017,12,6021,23,6031,null,null,null,null,0,112]
[11,6129,21,6140,21,6148,null,null,null,null,0,122]
[11,6244,21,6255,21,6263,null,null,null,null,1,122]

{"sheet":"!M806920.104","index":25,"n_rows":49,"n_cols":48,"rows_kept":49,"cut":false,"hidden":false,"merged":[[4,39,4,42],[5,39,5,40],[4,44,4,47],[5,44,5,45],[4,24,4,27],[5,24,5,25],[4,29,4,32],[5,29,5,30],[4,34,4,37],[5,34,5,35],[1,1,1,2],[5,13,5,14],[18,13,18,14],[19,13,19,14],[4,19,4,22],[5,19,5,20]]}
["Report for:!M806920.104"]
["Date:","<date>"]
["Hen:","<hen>",null,null,null,"Correct Sequence",{"$f":"Start!J2","v":122},null,null,null,null,null,null,null,null,"Total Sequences in Data",{"$f":"4994-COUNTBLANK(L7:L5000)","v":43},null,null,null,null,"Total Sequences in Block Data",{"$f":"COUNTA(L7:L13)","v":7},null,null,null,"Total Sequences in Block Data",{"$f":"COUNTA(L14:L20)","v":7},null,null,null,"Total Sequences in Block Data",{"$f":"COUNTA(L21:L28)","v":8},null,null,null,"Total Sequences in Block Data",{"$f":"COUNTA(L29:L35)","v":7},null,null,null,"Total Sequences in Block Data",{"$f":"COUNTA(L36:L42)","v":7},null,null,null,"Total Sequences in Block Data",{"$f":"COUNTA(L43:L49)","v":7}]
[null,null,null,null,null,null,null,null,null,null,null,null,null,null,null,"Total Sequences in Summary",{"$f":"SUM(O7:O14)","v":43},null,null,null,null,"Total Sequences in Block Summary",{"$f":"SUM(U7:U14)","v":7},null,null,null,"Total Sequences in Block Summary",{"$f":"SUM(Z7:Z14)","v":7},null,null,null,"Total Sequences in Block Summary",{"$f":"SUM(AE7:AE14)","v":8},null,null,null,"Total Sequences in Block Summary",{"$f":"SUM(AJ7:AJ14)","v":7},null,null,null,"Total Sequences in Block Summary",{"$f":"SUM(AO7:AO14)","v":7},null,null,null,"Total Sequences in Block Summary",{"$f":"SUM(AT7:AT14)","v":7}]
[null,null,null,null,null,null,null,null,null,null,null,null,null,null,null,null,null,null,null,"Block 1",null,null,null,null,"Block 2",null,null,null,null,"Block 3",null,null,null,null,"Block 4",null,null,null,null,"Block 5",null,null,null,null,"Block 6"]
["Sequence\nComponent\n1","Time\n1","Sequence\nComponent\n2","Time\n2","Sequence\nComponent\n3","Time\n3","Sequence\nComponent\n4","Time\n4","Sequence\nComponent\n5","Time\n5","Correct?\n0=No 1=Yes","Sequence",null,"Frequency",null,"Relative Frequency","Variability",null,null,"Frequency",null,"Relative Frequency","Variability",null,"Frequency",null,"Relative Frequency","Variability",null,"Frequency",null,"Relative Frequency","Variability",null,"Frequency",null,"Relative Frequency","Variability",null,"Frequency",null,"Relative Frequency","Variability",null,"Frequency",null,"Relative Frequency","Variability"]
[11,11,21,20,21,28,null,null,null,null,0,122,null,111,{"$f":"COUNTIF($L$7:$L$500,N7)","v":1},{"$f":"O7/$Q$4","v":2.3255813953488372E-2},{"$f":"IF(P7=0,0,(P7*((LOG(P7))/LOG(2))))","v":-0.12619220359772321},null,null,{"$f":"N7","v":111},{"$f":"COUNTIF(L7:L13,T7)","v":0},{"$f":"U7/(W4-U10)","v":0},{"$f":"IF(V7=0,0,(V7*((LOG(V7))/LOG(2))))","v":0},null,{"$f":"N7","v":111},{"$f":"COUNTIF(L14:L20,Y7)","v":0},{"$f":"Z7/(AB4-Z10)","v":{"$error":"#DIV/0!"}},{"$f":"IF(AA7=0,0,(AA7*((LOG(AA7))/LOG(2))))","v":{"$error":"#DIV/0!"}},null,{"$f":"N7","v":111},{"$f":"COUNTIF(L21:L28,AD7)","v":0},{"$f":"AE7/(AG4-AE10)","v":{"$error":"#DIV/0!"}},{"$f":"IF(AF7=0,0,(AF7*((LOG(AF7))/LOG(2))))","v":{"$error":"#DIV/0!"}},null,{"$f":"N7","v":111},{"$f":"COUNTIF(L29:L35,AI7)","v":0},{"$f":"AJ7/(AL4-AJ10)","v":{"$error":"#DIV/0!"}},{"$f":"IF(AK7=0,0,(AK7*((LOG(AK7))/LOG(2))))","v":{"$error":"#DIV/0!"}},null,{"$f":"N7","v":111},{"$f":"COUNTIF(L36:L42,AN7)","v":0},{"$f":"AO7/(AQ4-AO10)","v":0},{"$f":"IF(AP7=0,0,(AP7*((LOG(AP7))/LOG(2))))","v":0},null,{"$f":"N7","v":111},{"$f":"COUNTIF(L43:L49,AS7)","v":1},{"$f":"AT7/(AV4-AT10)","v":0.5},{"$f":"IF(AU7=0,0,(AU7*((LOG(AU7))/LOG(2))))","v":-0.5}]
[11,119,21,128,21,133,null,null,null,null,0,122,null,112,{"$f":"COUNTIF($L$7:$L$500,N8)","v":1},{"$f":"O8/$Q$4","v":2.3255813953488372E-2},{"$f":"IF(P8=0,0,(P8*((LOG(P8))/LOG(2))))","v":-0.12619220359772321},null,null,{"$f":"N8","v":112},{"$f":"COUNTIF(L7:L13,T8)","v":0},{"$f":"U8/(W4-U10)","v":0},{"$f":"IF(V8=0,0,(V8*((LOG(V8))/LOG(2))))","v":0},null,{"$f":"N8","v":112},{"$f":"COUNTIF(L14:L20,Y8)","v":0},{"$f":"Z8/(AB4-Z10)","v":{"$error":"#DIV/0!"}},{"$f":"IF(AA8=0,0,(AA8*((LOG(AA8))/LOG(2))))","v":{"$error":"#DIV/0!"}},null,{"$f":"N8","v":112},{"$f":"COUNTIF(L21:L28,AD8)","v":0},{"$f":"AE8/(AG4-AE10)","v":{"$error":"#DIV/0!"}},{"$f":"IF(AF8=0,0,(AF8*((LOG(AF8))/LOG(2))))","v":{"$error":"#DIV/0!"}},null,{"$f":"N8","v":112},{"$f":"COUNTIF(L29:L35,AI8)","v":0},{"$f":"AJ8/(AL4-AJ10)","v":{"$error":"#DIV/0!"}},{"$f":"IF(AK8=0,0,(AK8*((LOG(AK8))/LOG(2))))","v":{"$error":"#DIV/0!"}},null,{"$f":"N8","v":112},{"$f":"COUNTIF(L36:L42,AN8)","v":0},{"$f":"AO8/(AQ4-AO10)","v":0},{"$f":"IF(AP8=0,0,(AP8*((LOG(AP8))/LOG(2))))","v":0},null,{"$f":"N8","v":112},{"$f":"COUNTIF(L43:L49,AS8)","v":1},{"$f":"AT8/(AV4-AT10)","v":0.5},{"$f":"IF(AU8=0,0,(AU8*((LOG(AU8))/LOG(2))))","v":-0.5}]
[11,221,21,229,21,234,null,null,null,null,0,122,null,121,{"$f":"COUNTIF($L$7:$L$500,N9)","v":0},{"$f":"O9/$Q$4","v":0},{"$f":"IF(P9=0,0,(P9*((LOG(P9))/LOG(2))))","v":0},null,null,{"$f":"N9","v":121},{"$f":"COUNTIF(L7:L13,T9)","v":0},{"$f":"U9/(W4-U10)","v":0},{"$f":"IF(V9=0,0,(V9*((LOG(V9))/LOG(2))))","v":0},null,{"$f":"N9","v":121},{"$f":"COUNTIF(L14:L20,Y9)","v":0},{"$f":"Z9/(AB4-Z10)","v":{"$error":"#DIV/0!"}},{"$f":"IF(AA9=0,0,(AA9*((LOG(AA9))/LOG(2))))","v":{"$error":"#DIV/0!"}},null,{"$f":"N9","v":121},{"$f":"COUNTIF(L21:L28,AD9)","v":0},{"$f":"AE9/(AG4-AE10)","v":{"$error":"#DIV/0!"}},{"$f":"IF(AF9=0,0,(AF9*((LOG(AF9))/LOG(2))))","v":{"$error":"#DIV/0!"}},null,{"$f":"N9","v":121},{"$f":"COUNTIF(L29:L35,AI9)","v":0},{"$f":"AJ9/(AL4-AJ10)","v":{"$error":"#DIV/0!"}},{"$f":"IF(AK9=0,0,(AK9*((LOG(AK9))/LOG(2))))","v":{"$error":"#DIV/0!"}},null,{"$f":"N9","v":121},{"$f":"COUNTIF(L36:L42,AN9)","v":0},{"$f":"AO9/(AQ4-AO10)","v":0},{"$f":"IF(AP9=0,0,(AP9*((LOG(AP9))/LOG(2))))","v":0},null,{"$f":"N9","v":121},{"$f":"COUNTIF(L43:L49,AS9)","v":0},{"$f":"AT9/(AV4-AT10)","v":0},{"$f":"IF(AU9=0,0,(AU9*((LOG(AU9))/LOG(2))))","v":0}]
[11,322,21,333,21,337,null,null,null,null,0,122,null,122,{"$f":"COUNTIF($L$7:$L$500,N10)","v":39},{"$f":"O10/$Q$4","v":0.90697674418604646},{"$f":"IF(P10=0,0,(P10*((LOG(P10))/LOG(2))))","v":-0.12775904413381717},null,null,{"$f":"N10","v":122},{"$f":"COUNTIF(L7:L13,T10)","v":6},null,null,null,{"$f":"N10","v":122},{"$f":"COUNTIF(L14:L20,Y10)","v":7},null,null,null,{"$f":"N10","v":122},{"$f":"COUNTIF(L21:L28,AD10)","v":8},null,null,null,{"$f":"N10","v":122},{"$f":"COUNTIF(L29:L35,AI10)","v":7},null,null,null,{"$f":"N10","v":122},{"$f":"COUNTIF(L36:L42,AN10)","v":6},null,null,null,{"$f":"N10","v":122},{"$f":"COUNTIF(L43:L49,AS10)","v":5}]
[11,424,21,433,21,440,null,null,null,null,0,122,null,211,{"$f":"COUNTIF($L$7:$L$500,N11)","v":0},{"$f":"O11/$Q$4","v":0},{"$f":"IF(P11=0,0,(P11*((LOG(P11))/LOG(2))))","v":0},null,null,{"$f":"N11","v":211},{"$f":"COUNTIF(L7:L13,T11)","v":0},{"$f":"U11/(W4-U10)","v":0},{"$f":"IF(V11=0,0,(V11*((LOG(V11))/LOG(2))))","v":0},null,{"$f":"N11","v":211},{"$f":"COUNTIF(L14:L20,Y11)","v":0},{"$f":"Z11/(AB4-Z10)","v":{"$error":"#DIV/0!"}},{"$f":"IF(AA11=0,0,(AA11*((LOG(AA11))/LOG(2))))","v":{"$error":"#DIV/0!"}},null,{"$f":"N11","v":211},{"$f":"COUNTIF(L21:L28,AD11)","v":0},{"$f":"AE11/(AG4-AE10)","v":{"$error":"#DIV/0!"}},{"$f":"IF(AF11=0,0,(AF11*((LOG(AF11))/LOG(2))))","v":{"$error":"#DIV/0!"}},null,{"$f":"N11","v":211},{"$f":"COUNTIF(L29:L35,AI11)","v":0},{"$f":"AJ11/(AL4-AJ10)","v":{"$error":"#DIV/0!"}},{"$f":"IF(AK11=0,0,(AK11*((LOG(AK11))/LOG(2))))","v":{"$error":"#DIV/0!"}},null,{"$f":"N11","v":211},{"$f":"COUNTIF(L36:L42,AN11)","v":0},{"$f":"AO11/(AQ4-AO10)","v":0},{"$f":"IF(AP11=0,0,(AP11*((LOG(AP11))/LOG(2))))","v":0},null,{"$f":"N11","v":211},{"$f":"COUNTIF(L43:L49,AS11)","v":0},{"$f":"AT11/(AV4-AT10)","v":0},{"$f":"IF(AU11=0,0,(AU11*((LOG(AU11))/LOG(2))))","v":0}]
[11,527,21,545,21,553,null,null,null,null,0,122,null,212,{"$f":"COUNTIF($L$7:$L$500,N12)","v":0},{"$f":"O12/$Q$4","v":0},{"$f":"IF(P12=0,0,(P12*((LOG(P12))/LOG(2))))","v":0},null,null,{"$f":"N12","v":212},{"$f":"COUNTIF(L7:L13,T12)","v":0},{"$f":"U12/(W4-U10)","v":0},{"$f":"IF(V12=0,0,(V12*((LOG(V12))/LOG(2))))","v":0},null,{"$f":"N12","v":212},{"$f":"COUNTIF(L14:L20,Y12)","v":0},{"$f":"Z12/(AB4-Z10)","v":{"$error":"#DIV/0!"}},{"$f":"IF(AA12=0,0,(AA12*((LOG(AA12))/LOG(2))))","v":{"$error":"#DIV/0!"}},null,{"$f":"N12","v":212},{"$f":"COUNTIF(L21:L28,AD12)","v":0},{"$f":"AE12/(AG4-AE10)","v":{"$error":"#DIV/0!"}},{"$f":"IF(AF12=0,0,(AF12*((LOG(AF12))/LOG(2))))","v":{"$error":"#DIV/0!"}},null,{"$f":"N12","v":212},{"$f":"COUNTIF(L29:L35,AI12)","v":0},{"$f":"AJ12/(AL4-AJ10)","v":{"$error":"#DIV/0!"}},{"$f":"IF(AK12=0,0,(AK12*((LOG(AK12))/LOG(2))))","v":{"$error":"#DIV/0!"}},null,{"$f":"N12","v":212},{"$f":"COUNTIF(L36:L42,AN12)","v":0},{"$f":"AO12/(AQ4-AO10)","v":0},{"$f":"IF(AP12=0,0,(AP12*((LOG(AP12))/LOG(2))))","v":0},null,{"$f":"N12","v":212},{"$f":"COUNTIF(L43:L49,AS12)","v":0},{"$f":"AT12/(AV4-AT10)","v":0},{"$f":"IF(AU12=0,0,(AU12*((LOG(AU12))/LOG(2))))","v":0}]
[22,650,23,657,23,664,null,null,null,null,0,222,null,221,{"$f":"COUNTIF($L$7:$L$500,N13)","v":0},{"$f":"O13/$Q$4","v":0},{"$f":"IF(P13=0,0,(P13*((LOG(P13))/LOG(2))))","v":0},null,null,{"$f":"N13","v":221},{"$f":"COUNTIF(L7:L13,T13)","v":0},{"$f":"U13/(W4-U10)","v":0},{"$f":"IF(V13=0,0,(V13*((LOG(V13))/LOG(2))))","v":0},null,{"$f":"N13","v":221},{"$f":"COUNTIF(L14:L20,Y13)","v":0},{"$f":"Z13/(AB4-Z10)","v":{"$error":"#DIV/0!"}},{"$f":"IF(AA13=0,0,(AA13*((LOG(AA13))/LOG(2))))","v":{"$error":"#DIV/0!"}},null,{"$f":"N13","v":221},{"$f":"COUNTIF(L21:L28,AD13)","v":0},{"$f":"AE13/(AG4-AE10)","v":{"$error":"#DIV/0!"}},{"$f":"IF(AF13=0,0,(AF13*((LOG(AF13))/LOG(2))))","v":{"$error":"#DIV/0!"}},null,{"$f":"N13","v":221},{"$f":"COUNTIF(L29:L35,AI13)","v":0},{"$f":"AJ13/(AL4-AJ10)","v":{"$error":"#DIV/0!"}},{"$f":"IF(AK13=0,0,(AK13*((LOG(AK13))/LOG(2))))","v":{"$error":"#DIV/0!"}},null,{"$f":"N13","v":221},{"$f":"COUNTIF(L36:L42,AN13)","v":0},{"$f":"AO13/(AQ4-AO10)","v":0},{"$f":"IF(AP13=0,0,(AP13*((LOG(AP13))/LOG(2))))","v":0},null,{"$f":"N13","v":221},{"$f":"COUNTIF(L43:L49,AS13)","v":0},{"$f":"AT13/(AV4-AT10)","v":0},{"$f":"IF(AU13=0,0,(AU13*((LOG(AU13))/LOG(2))))","v":0}]
[11,760,21,769,21,776,null,null,null,null,0,122,null,222,{"$f":"COUNTIF($L$7:$L$500,N14)","v":2},{"$f":"O14/$Q$4","v":4.6511627906976744E-2},{"$f":"IF(P14=0,0,(P14*((LOG(P14))/LOG(2))))","v":-0.20587277928846967},null,null,{"$f":"N14","v":222},{"$f":"COUNTIF(L7:L13,T14)","v":1},{"$f":"U14/(W4-U10)","v":1},{"$f":"IF(V14=0,0,(V14*((LOG(V14))/LOG(2))))","v":0},null,{"$f":"N14","v":222},{"$f":"COUNTIF(L14:L20,Y14)","v":0},{"$f":"Z14/(AB4-Z10)","v":{"$error":"#DIV/0!"}},{"$f":"IF(AA14=0,0,(AA14*((LOG(AA14))/LOG(2))))","v":{"$error":"#DIV/0!"}},null,{"$f":"N14","v":222},{"$f":"COUNTIF(L21:L28,AD14)","v":0},{"$f":"AE14/(AG4-AE10)","v":{"$error":"#DIV/0!"}},{"$f":"IF(AF14=0,0,(AF14*((LOG(AF14))/LOG(2))))","v":{"$error":"#DIV/0!"}},null,{"$f":"N14","v":222},{"$f":"COUNTIF(L29:L35,AI14)","v":0},{"$f":"AJ14/(AL4-AJ10)","v":{"$error":"#DIV/0!"}},{"$f":"IF(AK14=0,0,(AK14*((LOG(AK14))/LOG(2))))","v":{"$error":"#DIV/0!"}},null,{"$f":"N14","v":222},{"$f":"COUNTIF(L36:L42,AN14)","v":1},{"$f":"AO14/(AQ4-AO10)","v":1},{"$f":"IF(AP14=0,0,(AP14*((LOG(AP14))/LOG(2))))","v":0},null,{"$f":"N14","v":222},{"$f":"COUNTIF(L43:L49,AS14)","v":0},{"$f":"AT14/(AV4-AT10)","v":0},{"$f":"IF(AU14=0,0,(AU14*((LOG(AU14))/LOG(2))))","v":0}]
[11,865,21,876,21,881,null,null,null,null,0,122,null,null,null,{"$f":"SUM(P7:P14)","v":0.99999999999999989},{"$f":"-SUM(Q7:Q14)","v":0.58601623061773322},null,null,null,null,{"$f":"SUM(V7:V14)","v":1},{"$f":"-SUM(W7:W14)","v":0},null,null,null,{"$f":"SUM(AA7:AA14)","v":{"$error":"#DIV/0!"}},{"$f":"-SUM(AB7:AB14)","v":{"$error":"#DIV/0!"}},null,null,null,{"$f":"SUM(AF7:AF14)","v":{"$error":"#DIV/0!"}},{"$f":"-SUM(AG7:AG14)","v":{"$error":"#DIV/0!"}},null,null,null,{"$f":"SUM(AK7:AK14)","v":{"$error":"#DIV/0!"}},{"$f":"-SUM(AL7:AL14)","v":{"$error":"#DIV/0!"}},null,null,null,{"$f":"SUM(AP7:AP14)","v":1},{"$f":"-SUM(AQ7:AQ14)","v":0},null,null,null,{"$f":"SUM(AU7:AU14)","v":1},{"$f":"-SUM(AV7:AV14)","v":1}]
[11,980,21,993,21,1000,null,null,null,null,0,122,null,null,null,"U=",{"$f":"Q15/(LOG(Q4)/LOG(2))","v":0.10799624734674516},null,null,null,null,"U1=",{"$f":"W15/(LOG(W4)/LOG(2))","v":0},null,null,null,"U2=",{"$f":"AB15/(LOG(AB4)/LOG(2))","v":{"$error":"#DIV/0!"}},null,null,null,"U3=",{"$f":"AG15/(LOG(AG4)/LOG(2))","v":{"$error":"#DIV/0!"}},null,null,null,"U4=",{"$f":"AL15/(LOG(AL4)/LOG(2))","v":{"$error":"#DIV/0!"}},null,null,null,"U5=",{"$f":"AQ15/(LOG(AQ4)/LOG(2))","v":0},null,null,null,"U6=",{"$f":"AV15/(LOG(AV4)/LOG(2))","v":0.35620718710802218}]
[11,1094,21,1103,21,1108,null,null,null,null,0,122]
[11,1198,21,1209,21,1218,null,null,null,null,0,122]
[11,1304,21,1314,21,1340,null,null,null,null,0,122,null,"Total Target Seq"]
[11,1430,21,1440,21,1445,null,null,null,null,0,122,null,{"$f":"COUNTIF(L7:L49,G3)","v":39},null,7,7,8,7,7,7]
[11,1531,21,1543,21,1547,null,null,null,null,0,122,null,null,null,"% of reinforcement given in 6 equal intervals based on number of trials "]
[11,1633,21,1644,21,1652,null,null,null,null,0,122,null,null,null,"%_1","%_2","%_3","%_4","%_5","%_6"]
[11,1740,21,1751,21,1756,null,null,null,null,0,122,null,null,"target sequence",{"$f":"$G$3","v":122},{"$f":"$G$3","v":122},{"$f":"$G$3","v":122},{"$f":"$G$3","v":122},{"$f":"$G$3","v":122},{"$f":"$G$3","v":122}]
[11,1842,21,1853,21,1859,null,null,null,null,0,122,null,null,"total reinforcement",{"$f":"U10","v":6},{"$f":"Z10","v":7},{"$f":"AE10","v":8},{"$f":"AJ10","v":7},{"$f":"AO10","v":6},{"$f":"AT10","v":5}]
[11,1947,21,1959,21,1967,null,null,null,null,0,122,null,null,"% target"]
[11,2053,21,2064,21,2072,null,null,null,null,0,122,null,null,"CCRF"]
[11,2157,21,2166,21,2171,null,null,null,null,0,122,null,null,"% CCRf"]
[11,2256,21,2268,21,2273,null,null,null,null,0,122,null,null,"average response rate",{"$f":"F13/P20","v":94.857142857142861},{"$f":"(F20-F13)/Q20","v":111.57142857142857},{"$f":"(F28-F20)/R20","v":103.5},{"$f":"(F35-F28)/S20","v":105.85714285714286},{"$f":"(F42-F35)/T20","v":106},{"$f":"(F49-F42)/U20","v":104}]
[11,2358,21,2370,21,2377,null,null,null,null,0,122]
[11,2471,21,2482,21,2490,null,null,null,null,0,122]
[11,2577,21,2588,21,2596,null,null,null,null,0,122]
[11,2685,21,2695,21,2703,null,null,null,null,0,122]
[11,2787,21,2798,21,2802,null,null,null,null,0,122]
[11,2894,21,2906,21,2913,null,null,null,null,0,122]
[11,2999,21,3010,21,3014,null,null,null,null,0,122]
[11,3098,21,3109,21,3116,null,null,null,null,0,122]
[11,3202,21,3213,21,3218,null,null,null,null,0,122]
[11,3304,21,3316,21,3323,null,null,null,null,0,122]
[11,3408,21,3419,21,3424,null,null,null,null,0,122]
[11,3515,21,3526,21,3534,null,null,null,null,0,122]
[22,3628,23,3633,23,3645,null,null,null,null,0,222]
[11,3741,21,3751,21,3756,null,null,null,null,0,122]
[11,3844,12,3849,23,3860,null,null,null,null,0,112]
[11,3948,12,3953,14,3963,null,null,null,null,0,111]
[11,4058,21,4069,21,4075,null,null,null,null,0,122]
[11,4160,21,4171,21,4176,null,null,null,null,0,122]
[11,4259,21,4270,21,4275,null,null,null,null,0,122]
[11,4364,21,4376,21,4384,null,null,null,null,0,122]
[11,4468,21,4479,21,4484,null,null,null,null,1,122]

{"sheet":"!M807A20.104","index":26,"n_rows":58,"n_cols":48,"rows_kept":58,"cut":false,"hidden":false,"merged":[[4,39,4,42],[5,39,5,40],[4,44,4,47],[5,44,5,45],[4,24,4,27],[5,24,5,25],[4,29,4,32],[5,29,5,30],[4,34,4,37],[5,34,5,35],[1,1,1,2],[5,13,5,14],[18,13,18,14],[19,13,19,14],[4,19,4,22],[5,19,5,20]]}
["Report for:!M807A20.104"]
["Date:","<date>"]
["Hen:","<hen>",null,null,null,"Correct Sequence",{"$f":"Start!J2","v":122},null,null,null,null,null,null,null,null,"Total Sequences in Data",{"$f":"4994-COUNTBLANK(L7:L5000)","v":52},null,null,null,null,"Total Sequences in Block Data",{"$f":"COUNTA(L7:L15)","v":9},null,null,null,"Total Sequences in Block Data",{"$f":"COUNTA(L16:L23)","v":8},null,null,null,"Total Sequences in Block Data",{"$f":"COUNTA(L24:L32)","v":9},null,null,null,"Total Sequences in Block Data",{"$f":"COUNTA(L33:L41)","v":9},null,null,null,"Total Sequences in Block Data",{"$f":"COUNTA(L42:L49)","v":8},null,null,null,"Total Sequences in Block Data",{"$f":"COUNTA(L50:L58)","v":9}]
[null,null,null,null,null,null,null,null,null,null,null,null,null,null,null,"Total Sequences in Summary",{"$f":"SUM(O7:O14)","v":52},null,null,null,null,"Total Sequences in Block Summary",{"$f":"SUM(U7:U14)","v":9},null,null,null,"Total Sequences in Block Summary",{"$f":"SUM(Z7:Z14)","v":8},null,null,null,"Total Sequences in Block Summary",{"$f":"SUM(AE7:AE14)","v":9},null,null,null,"Total Sequences in Block Summary",{"$f":"SUM(AJ7:AJ14)","v":9},null,null,null,"Total Sequences in Block Summary",{"$f":"SUM(AO7:AO14)","v":8},null,null,null,"Total Sequences in Block Summary",{"$f":"SUM(AT7:AT14)","v":9}]
[null,null,null,null,null,null,null,null,null,null,null,null,null,null,null,null,null,null,null,"Block 1",null,null,null,null,"Block 2",null,null,null,null,"Block 3",null,null,null,null,"Block 4",null,null,null,null,"Block 5",null,null,null,null,"Block 6"]
["Sequence\nComponent\n1","Time\n1","Sequence\nComponent\n2","Time\n2","Sequence\nComponent\n3","Time\n3","Sequence\nComponent\n4","Time\n4","Sequence\nComponent\n5","Time\n5","Correct?\n0=No 1=Yes","Sequence",null,"Frequency",null,"Relative Frequency","Variability",null,null,"Frequency",null,"Relative Frequency","Variability",null,"Frequency",null,"Relative Frequency","Variability",null,"Frequency",null,"Relative Frequency","Variability",null,"Frequency",null,"Relative Frequency","Variability",null,"Frequency",null,"Relative Frequency","Variability",null,"Frequency",null,"Relative Frequency","Variability"]
[22,13,23,18,23,30,null,null,null,null,0,222,null,111,{"$f":"COUNTIF($L$7:$L$500,N7)","v":0},{"$f":"O7/$Q$4","v":0},{"$f":"IF(P7=0,0,(P7*((LOG(P7))/LOG(2))))","v":0},null,null,{"$f":"N7","v":111},{"$f":"COUNTIF(L7:L15,T7)","v":0},{"$f":"U7/(W4-U10)","v":0},{"$f":"IF(V7=0,0,(V7*((LOG(V7))/LOG(2))))","v":0},null,{"$f":"N7","v":111},{"$f":"COUNTIF(L16:L23,Y7)","v":0},{"$f":"Z7/(AB4-Z10)","v":0},{"$f":"IF(AA7=0,0,(AA7*((LOG(AA7))/LOG(2))))","v":0},null,{"$f":"N7","v":111},{"$f":"COUNTIF(L24:L32,AD7)","v":0},{"$f":"AE7/(AG4-AE10)","v":0},{"$f":"IF(AF7=0,0,(AF7*((LOG(AF7))/LOG(2))))","v":0},null,{"$f":"N7","v":111},{"$f":"COUNTIF(L33:L41,AI7)","v":0},{"$f":"AJ7/(AL4-AJ10)","v":0},{"$f":"IF(AK7=0,0,(AK7*((LOG(AK7))/LOG(2))))","v":0},null,{"$f":"N7","v":111},{"$f":"COUNTIF(L42:L49,AN7)","v":0},{"$f":"AO7/(AQ4-AO10)","v":0},{"$f":"IF(AP7=0,0,(AP7*((LOG(AP7))/LOG(2))))","v":0},null,{"$f":"N7","v":111},{"$f":"COUNTIF(L50:L58,AS7)","v":0},{"$f":"AT7/(AV4-AT10)","v":0},{"$f":"IF(AU7=0,0,(AU7*((LOG(AU7))/LOG(2))))","v":0}]
[11,129,21,140,21,147,null,null,null,null,0,122,null,112,{"$f":"COUNTIF($L$7:$L$500,N8)","v":1},{"$f":"O8/$Q$4","v":1.9230769230769232E-2},{"$f":"IF(P8=0,0,(P8*((LOG(P8))/LOG(2))))","v":-0.10962384073348255},null,null,{"$f":"N8","v":112},{"$f":"COUNTIF(L7:L15,T8)","v":0},{"$f":"U8/(W4-U10)","v":0},{"$f":"IF(V8=0,0,(V8*((LOG(V8))/LOG(2))))","v":0},null,{"$f":"N8","v":112},{"$f":"COUNTIF(L16:L23,Y8)","v":0},{"$f":"Z8/(AB4-Z10)","v":0},{"$f":"IF(AA8=0,0,(AA8*((LOG(AA8))/LOG(2))))","v":0},null,{"$f":"N8","v":112},{"$f":"COUNTIF(L24:L32,AD8)","v":0},{"$f":"AE8/(AG4-AE10)","v":0},{"$f":"IF(AF8=0,0,(AF8*((LOG(AF8))/LOG(2))))","v":0},null,{"$f":"N8","v":112},{"$f":"COUNTIF(L33:L41,AI8)","v":0},{"$f":"AJ8/(AL4-AJ10)","v":0},{"$f":"IF(AK8=0,0,(AK8*((LOG(AK8))/LOG(2))))","v":0},null,{"$f":"N8","v":112},{"$f":"COUNTIF(L42:L49,AN8)","v":0},{"$f":"AO8/(AQ4-AO10)","v":0},{"$f":"IF(AP8=0,0,(AP8*((LOG(AP8))/LOG(2))))","v":0},null,{"$f":"N8","v":112},{"$f":"COUNTIF(L50:L58,AS8)","v":1},{"$f":"AT8/(AV4-AT10)","v":0.5},{"$f":"IF(AU8=0,0,(AU8*((LOG(AU8))/LOG(2))))","v":-0.5}]
[11,233,21,243,21,260,null,null,null,null,0,122,null,121,{"$f":"COUNTIF($L$7:$L$500,N9)","v":0},{"$f":"O9/$Q$4","v":0},{"$f":"IF(P9=0,0,(P9*((LOG(P9))/LOG(2))))","v":0},null,null,{"$f":"N9","v":121},{"$f":"COUNTIF(L7:L15,T9)","v":0},{"$f":"U9/(W4-U10)","v":0},{"$f":"IF(V9=0,0,(V9*((LOG(V9))/LOG(2))))","v":0},null,{"$f":"N9","v":121},{"$f":"COUNTIF(L16:L23,Y9)","v":0},{"$f":"Z9/(AB4-Z10)","v":0},{"$f":"IF(AA9=0,0,(AA9*((LOG(AA9))/LOG(2))))","v":0},null,{"$f":"N9","v":121},{"$f":"COUNTIF(L24:L32,AD9)","v":0},{"$f":"AE9/(AG4-AE10)","v":0},{"$f":"IF(AF9=0,0,(AF9*((LOG(AF9))/LOG(2))))","v":0},null,{"$f":"N9","v":121},{"$f":"COUNTIF(L33:L41,AI9)","v":0},{"$f":"AJ9/(AL4-AJ10)","v":0},{"$f":"IF(AK9=0,0,(AK9*((LOG(AK9))/LOG(2))))","v":0},null,{"$f":"N9","v":121},{"$f":"COUNTIF(L42:L49,AN9)","v":0},{"$f":"AO9/(AQ4-AO10)","v":0},{"$f":"IF(AP9=0,0,(AP9*((LOG(AP9))/LOG(2))))","v":0},null,{"$f":"N9","v":121},{"$f":"COUNTIF(L50:L58,AS9)","v":0},{"$f":"AT9/(AV4-AT10)","v":0},{"$f":"IF(AU9=0,0,(AU9*((LOG(AU9))/LOG(2))))","v":0}]
[11,351,21,363,21,370,null,null,null,null,0,122,null,122,{"$f":"COUNTIF($L$7:$L$500,N10)","v":39},{"$f":"O10/$Q$4","v":0.75},{"$f":"IF(P10=0,0,(P10*((LOG(P10))/LOG(2))))","v":-0.31127812445913283},null,null,{"$f":"N10","v":122},{"$f":"COUNTIF(L7:L15,T10)","v":8},null,null,null,{"$f":"N10","v":122},{"$f":"COUNTIF(L16:L23,Y10)","v":6},null,null,null,{"$f":"N10","v":122},{"$f":"COUNTIF(L24:L32,AD10)","v":7},null,null,null,{"$f":"N10","v":122},{"$f":"COUNTIF(L33:L41,AI10)","v":6},null,null,null,{"$f":"N10","v":122},{"$f":"COUNTIF(L42:L49,AN10)","v":5},null,null,null,{"$f":"N10","v":122},{"$f":"COUNTIF(L50:L58,AS10)","v":7}]
[11,456,21,464,21,471,null,null,null,null,0,122,null,211,{"$f":"COUNTIF($L$7:$L$500,N11)","v":0},{"$f":"O11/$Q$4","v":0},{"$f":"IF(P11=0,0,(P11*((LOG(P11))/LOG(2))))","v":0},null,null,{"$f":"N11","v":211},{"$f":"COUNTIF(L7:L15,T11)","v":0},{"$f":"U11/(W4-U10)","v":0},{"$f":"IF(V11=0,0,(V11*((LOG(V11))/LOG(2))))","v":0},null,{"$f":"N11","v":211},{"$f":"COUNTIF(L16:L23,Y11)","v":0},{"$f":"Z11/(AB4-Z10)","v":0},{"$f":"IF(AA11=0,0,(AA11*((LOG(AA11))/LOG(2))))","v":0},null,{"$f":"N11","v":211},{"$f":"COUNTIF(L24:L32,AD11)","v":0},{"$f":"AE11/(AG4-AE10)","v":0},{"$f":"IF(AF11=0,0,(AF11*((LOG(AF11))/LOG(2))))","v":0},null,{"$f":"N11","v":211},{"$f":"COUNTIF(L33:L41,AI11)","v":0},{"$f":"AJ11/(AL4-AJ10)","v":0},{"$f":"IF(AK11=0,0,(AK11*((LOG(AK11))/LOG(2))))","v":0},null,{"$f":"N11","v":211},{"$f":"COUNTIF(L42:L49,AN11)","v":0},{"$f":"AO11/(AQ4-AO10)","v":0},{"$f":"IF(AP11=0,0,(AP11*((LOG(AP11))/LOG(2))))","v":0},null,{"$f":"N11","v":211},{"$f":"COUNTIF(L50:L58,AS11)","v":0},{"$f":"AT11/(AV4-AT10)","v":0},{"$f":"IF(AU11=0,0,(AU11*((LOG(AU11))/LOG(2))))","v":0}]
[11,559,21,571,21,576,null,null,null,null,0,122,null,212,{"$f":"COUNTIF($L$7:$L$500,N12)","v":0},{"$f":"O12/$Q$4","v":0},{"$f":"IF(P12=0,0,(P12*((LOG(P12))/LOG(2))))","v":0},null,null,{"$f":"N12","v":212},{"$f":"COUNTIF(L7:L15,T12)","v":0},{"$f":"U12/(W4-U10)","v":0},{"$f":"IF(V12=0,0,(V12*((LOG(V12))/LOG(2))))","v":0},null,{"$f":"N12","v":212},{"$f":"COUNTIF(L16:L23,Y12)","v":0},{"$f":"Z12/(AB4-Z10)","v":0},{"$f":"IF(AA12=0,0,(AA12*((LOG(AA12))/LOG(2))))","v":0},null,{"$f":"N12","v":212},{"$f":"COUNTIF(L24:L32,AD12)","v":0},{"$f":"AE12/(AG4-AE10)","v":0},{"$f":"IF(AF12=0,0,(AF12*((LOG(AF12))/LOG(2))))","v":0},null,{"$f":"N12","v":212},{"$f":"COUNTIF(L33:L41,AI12)","v":0},{"$f":"AJ12/(AL4-AJ10)","v":0},{"$f":"IF(AK12=0,0,(AK12*((LOG(AK12))/LOG(2))))","v":0},null,{"$f":"N12","v":212},{"$f":"COUNTIF(L42:L49,AN12)","v":0},{"$f":"AO12/(AQ4-AO10)","v":0},{"$f":"IF(AP12=0,0,(AP12*((LOG(AP12))/LOG(2))))","v":0},null,{"$f":"N12","v":212},{"$f":"COUNTIF(L50:L58,AS12)","v":0},{"$f":"AT12/(AV4-AT10)","v":0},{"$f":"IF(AU12=0,0,(AU12*((LOG(AU12))/LOG(2))))","v":0}]
[11,671,21,682,21,689,null,null,null,null,0,122,null,221,{"$f":"COUNTIF($L$7:$L$500,N13)","v":1},{"$f":"O13/$Q$4","v":1.9230769230769232E-2},{"$f":"IF(P13=0,0,(P13*((LOG(P13))/LOG(2))))","v":-0.10962384073348255},null,null,{"$f":"N13","v":221},{"$f":"COUNTIF(L7:L15,T13)","v":0},{"$f":"U13/(W4-U10)","v":0},{"$f":"IF(V13=0,0,(V13*((LOG(V13))/LOG(2))))","v":0},null,{"$f":"N13","v":221},{"$f":"COUNTIF(L16:L23,Y13)","v":0},{"$f":"Z13/(AB4-Z10)","v":0},{"$f":"IF(AA13=0,0,(AA13*((LOG(AA13))/LOG(2))))","v":0},null,{"$f":"N13","v":221},{"$f":"COUNTIF(L24:L32,AD13)","v":0},{"$f":"AE13/(AG4-AE10)","v":0},{"$f":"IF(AF13=0,0,(AF13*((LOG(AF13))/LOG(2))))","v":0},null,{"$f":"N13","v":221},{"$f":"COUNTIF(L33:L41,AI13)","v":0},{"$f":"AJ13/(AL4-AJ10)","v":0},{"$f":"IF(AK13=0,0,(AK13*((LOG(AK13))/LOG(2))))","v":0},null,{"$f":"N13","v":221},{"$f":"COUNTIF(L42:L49,AN13)","v":1},{"$f":"AO13/(AQ4-AO10)","v":0.33333333333333331},{"$f":"IF(AP13=0,0,(AP13*((LOG(AP13))/LOG(2))))","v":-0.52832083357371862},null,{"$f":"N13","v":221},{"$f":"COUNTIF(L50:L58,AS13)","v":0},{"$f":"AT13/(AV4-AT10)","v":0},{"$f":"IF(AU13=0,0,(AU13*((LOG(AU13))/LOG(2))))","v":0}]
[11,775,21,787,21,791,null,null,null,null,0,122,null,222,{"$f":"COUNTIF($L$7:$L$500,N14)","v":11},{"$f":"O14/$Q$4","v":0.21153846153846154},{"$f":"IF(P14=0,0,(P14*((LOG(P14))/LOG(2))))","v":-0.4740594056642643},null,null,{"$f":"N14","v":222},{"$f":"COUNTIF(L7:L15,T14)","v":1},{"$f":"U14/(W4-U10)","v":1},{"$f":"IF(V14=0,0,(V14*((LOG(V14))/LOG(2))))","v":0},null,{"$f":"N14","v":222},{"$f":"COUNTIF(L16:L23,Y14)","v":2},{"$f":"Z14/(AB4-Z10)","v":1},{"$f":"IF(AA14=0,0,(AA14*((LOG(AA14))/LOG(2))))","v":0},null,{"$f":"N14","v":222},{"$f":"COUNTIF(L24:L32,AD14)","v":2},{"$f":"AE14/(AG4-AE10)","v":1},{"$f":"IF(AF14=0,0,(AF14*((LOG(AF14))/LOG(2))))","v":0},null,{"$f":"N14","v":222},{"$f":"COUNTIF(L33:L41,AI14)","v":3},{"$f":"AJ14/(AL4-AJ10)","v":1},{"$f":"IF(AK14=0,0,(AK14*((LOG(AK14))/LOG(2))))","v":0},null,{"$f":"N14","v":222},{"$f":"COUNTIF(L42:L49,AN14)","v":2},{"$f":"AO14/(AQ4-AO10)","v":0.66666666666666663},{"$f":"IF(AP14=0,0,(AP14*((LOG(AP14))/LOG(2))))","v":-0.38997500048077083},null,{"$f":"N14","v":222},{"$f":"COUNTIF(L50:L58,AS14)","v":1},{"$f":"AT14/(AV4-AT10)","v":0.5},{"$f":"IF(AU14=0,0,(AU14*((LOG(AU14))/LOG(2))))","v":-0.5}]
[11,878,21,889,21,894,null,null,null,null,0,122,null,null,null,{"$f":"SUM(P7:P14)","v":1},{"$f":"-SUM(Q7:Q14)","v":1.0045852115903622},null,null,null,null,{"$f":"SUM(V7:V14)","v":1},{"$f":"-SUM(W7:W14)","v":0},null,null,null,{"$f":"SUM(AA7:AA14)","v":1},{"$f":"-SUM(AB7:AB14)","v":0},null,null,null,{"$f":"SUM(AF7:AF14)","v":1},{"$f":"-SUM(AG7:AG14)","v":0},null,null,null,{"$f":"SUM(AK7:AK14)","v":1},{"$f":"-SUM(AL7:AL14)","v":0},null,null,null,{"$f":"SUM(AP7:AP14)","v":1},{"$f":"-SUM(AQ7:AQ14)","v":0.91829583405448945},null,null,null,{"$f":"SUM(AU7:AU14)","v":1},{"$f":"-SUM(AV7:AV14)","v":1}]
[22,988,23,995,23,1011,null,null,null,null,0,222,null,null,null,"U=",{"$f":"Q15/(LOG(Q4)/LOG(2))","v":0.1762294246167305},null,null,null,null,"U1=",{"$f":"W15/(LOG(W4)/LOG(2))","v":0},null,null,null,"U2=",{"$f":"AB15/(LOG(AB4)/LOG(2))","v":0},null,null,null,"U3=",{"$f":"AG15/(LOG(AG4)/LOG(2))","v":0},null,null,null,"U4=",{"$f":"AL15/(LOG(AL4)/LOG(2))","v":0},null,null,null,"U5=",{"$f":"AQ15/(LOG(AQ4)/LOG(2))","v":0.30609861135149646},null,null,null,"U6=",{"$f":"AV15/(LOG(AV4)/LOG(2))","v":0.31546487678572877}]
[11,1112,21,1123,21,1132,null,null,null,null,0,122]
[11,1216,21,1228,21,1236,null,null,null,null,0,122]
[11,1322,21,1333,21,1338,null,null,null,null,0,122,null,"Total Target Seq"]
[11,1422,21,1433,21,1441,null,null,null,null,0,122,null,{"$f":"COUNTIF(L7:L58,G3)","v":39},null,9,8,9,9,8,9]
[22,1534,23,1542,23,1557,null,null,null,null,0,222,null,null,null,"% of reinforcement given in 6 equal intervals based on number of trials "]
[11,1651,21,1662,21,1669,null,null,null,null,0,122,null,null,null,"%_1","%_2","%_3","%_4","%_5","%_6"]
[11,1754,21,1766,21,1771,null,null,null,null,0,122,null,null,"target sequence",{"$f":"$G$3","v":122},{"$f":"$G$3","v":122},{"$f":"$G$3","v":122},{"$f":"$G$3","v":122},{"$f":"$G$3","v":122},{"$f":"$G$3","v":122}]
[11,1857,21,1869,21,1874,null,null,null,null,0,122,null,null,"total reinforcement",{"$f":"U10","v":8},{"$f":"Z10","v":6},{"$f":"AE10","v":7},{"$f":"AJ10","v":6},{"$f":"AO10","v":5},{"$f":"AT10","v":7}]
[22,1970,23,1977,23,1989,null,null,null,null,0,222,null,null,"% target"]
[11,2083,21,2094,21,2098,null,null,null,null,0,122,null,null,"CCRF"]
[22,2199,23,2207,23,2217,null,null,null,null,0,222,null,null,"% CCRf"]
[11,2313,21,2325,21,2332,null,null,null,null,0,122,null,null,"average response rate",{"$f":"F15/P20","v":99.333333333333329},{"$f":"(F23-F15)/Q20","v":109.625},{"$f":"(F32-F23)/R20","v":107.88888888888889},{"$f":"(F41-F32)/S20","v":109.88888888888889},{"$f":"(F49-F41)/T20","v":110.5},{"$f":"(F58-F49)/U20","v":107.22222222222223}]
[11,2418,21,2428,21,2432,null,null,null,null,0,122]
[11,2522,21,2532,21,2540,null,null,null,null,0,122]
[11,2625,21,2636,21,2643,null,null,null,null,0,122]
[11,2726,21,2738,21,2742,null,null,null,null,0,122]
[22,2835,23,2840,23,2851,null,null,null,null,0,222]
[22,2956,23,2963,23,2974,null,null,null,null,0,222]
[11,3073,21,3085,21,3089,null,null,null,null,0,122]
[11,3176,21,3187,21,3191,null,null,null,null,0,122]
[22,3288,23,3296,23,3309,null,null,null,null,0,222]
[11,3403,21,3412,21,3417,null,null,null,null,0,122]
[11,3505,21,3516,21,3524,null,null,null,null,0,122]
[11,3608,21,3623,21,3628,null,null,null,null,0,122]
[11,3714,21,3726,21,3731,null,null,null,null,0,122]
[11,3824,21,3837,21,3844,null,null,null,null,0,122]
[22,3937,23,3942,14,3966,null,null,null,null,0,221]
[11,4053,21,4065,21,4073,null,null,null,null,0,122]
[22,4164,23,4169,23,4181,null,null,null,null,0,222]
[11,4277,21,4290,21,4297,null,null,null,null,0,122]
[11,4383,21,4394,21,4399,null,null,null,null,0,122]
[11,4484,21,4494,21,4499,null,null,null,null,0,122]
[22,4595,23,4602,23,4615,null,null,null,null,0,222]
[11,4711,21,4721,21,4728,null,null,null,null,0,122]
[11,4813,21,4824,21,4828,null,null,null,null,0,122]
[11,4917,21,4929,21,4934,null,null,null,null,0,122]
[11,5019,21,5034,21,5042,null,null,null,null,0,122]
[22,5136,23,5143,23,5155,null,null,null,null,0,222]
[11,5248,21,5259,21,5264,null,null,null,null,0,122]
[11,5351,21,5361,21,5367,null,null,null,null,0,122]
[11,5451,12,5458,23,5470,null,null,null,null,0,112]
[11,5564,21,5575,21,5580,null,null,null,null,1,122]

{"sheet":"!M808B50.104","index":27,"n_rows":65,"n_cols":48,"rows_kept":65,"cut":false,"hidden":false,"merged":[[4,39,4,42],[5,39,5,40],[4,44,4,47],[5,44,5,45],[4,24,4,27],[5,24,5,25],[4,29,4,32],[5,29,5,30],[4,34,4,37],[5,34,5,35],[1,1,1,2],[5,13,5,14],[18,13,18,14],[19,13,19,14],[4,19,4,22],[5,19,5,20]]}
["Report for:!M808B50.104"]
["Date:","<date>"]
["Hen:","<hen>",null,null,null,"Correct Sequence",{"$f":"Start!J2","v":122},null,null,null,null,null,null,null,null,"Total Sequences in Data",{"$f":"4994-COUNTBLANK(L7:L5000)","v":59},null,null,null,null,"Total Sequences in Block Data",{"$f":"COUNTA(L7:L16)","v":10},null,null,null,"Total Sequences in Block Data",{"$f":"COUNTA(L17:L26)","v":10},null,null,null,"Total Sequences in Block Data",{"$f":"COUNTA(L27:L35)","v":9},null,null,null,"Total Sequences in Block Data",{"$f":"COUNTA(L36:L45)","v":10},null,null,null,"Total Sequences in Block Data",{"$f":"COUNTA(L46:L55)","v":10},null,null,null,"Total Sequences in Block Data",{"$f":"COUNTA(L56:L65)","v":10}]
[null,null,null,null,null,null,null,null,null,null,null,null,null,null,null,"Total Sequences in Summary",{"$f":"SUM(O7:O14)","v":59},null,null,null,null,"Total Sequences in Block Summary",{"$f":"SUM(U7:U14)","v":10},null,null,null,"Total Sequences in Block Summary",{"$f":"SUM(Z7:Z14)","v":10},null,null,null,"Total Sequences in Block Summary",{"$f":"SUM(AE7:AE14)","v":9},null,null,null,"Total Sequences in Block Summary",{"$f":"SUM(AJ7:AJ14)","v":10},null,null,null,"Total Sequences in Block Summary",{"$f":"SUM(AO7:AO14)","v":10},null,null,null,"Total Sequences in Block Summary",{"$f":"SUM(AT7:AT14)","v":10}]
[null,null,null,null,null,null,null,null,null,null,null,null,null,null,null,null,null,null,null,"Block 1",null,null,null,null,"Block 2",null,null,null,null,"Block 3",null,null,null,null,"Block 4",null,null,null,null,"Block 5",null,null,null,null,"Block 6"]
["Sequence\nComponent\n1","Time\n1","Sequence\nComponent\n2","Time\n2","Sequence\nComponent\n3","Time\n3","Sequence\nComponent\n4","Time\n4","Sequence\nComponent\n5","Time\n5","Correct?\n0=No 1=Yes","Sequence",null,"Frequency",null,"Relative Frequency","Variability",null,null,"Frequency",null,"Relative Frequency","Variability",null,"Frequency",null,"Relative Frequency","Variability",null,"Frequency",null,"Relative Frequency","Variability",null,"Frequency",null,"Relative Frequency","Variability",null,"Frequency",null,"Relative Frequency","Variability",null,"Frequency",null,"Relative Frequency","Variability"]
[11,14,21,22,21,27,null,null,null,null,0,122,null,111,{"$f":"COUNTIF($L$7:$L$500,N7)","v":0},{"$f":"O7/$Q$4","v":0},{"$f":"IF(P7=0,0,(P7*((LOG(P7))/LOG(2))))","v":0},null,null,{"$f":"N7","v":111},{"$f":"COUNTIF(L7:L16,T7)","v":0},{"$f":"U7/(W4-U10)","v":0},{"$f":"IF(V7=0,0,(V7*((LOG(V7))/LOG(2))))","v":0},null,{"$f":"N7","v":111},{"$f":"COUNTIF(L17:L26,Y7)","v":0},{"$f":"Z7/(AB4-Z10)","v":0},{"$f":"IF(AA7=0,0,(AA7*((LOG(AA7))/LOG(2))))","v":0},null,{"$f":"N7","v":111},{"$f":"COUNTIF(L27:L35,AD7)","v":0},{"$f":"AE7/(AG4-AE10)","v":0},{"$f":"IF(AF7=0,0,(AF7*((LOG(AF7))/LOG(2))))","v":0},null,{"$f":"N7","v":111},{"$f":"COUNTIF(L36:L45,AI7)","v":0},{"$f":"AJ7/(AL4-AJ10)","v":0},{"$f":"IF(AK7=0,0,(AK7*((LOG(AK7))/LOG(2))))","v":0},null,{"$f":"N7","v":111},{"$f":"COUNTIF(L46:L55,AN7)","v":0},{"$f":"AO7/(AQ4-AO10)","v":0},{"$f":"IF(AP7=0,0,(AP7*((LOG(AP7))/LOG(2))))","v":0},null,{"$f":"N7","v":111},{"$f":"COUNTIF(L56:L65,AS7)","v":0},{"$f":"AT7/(AV4-AT10)","v":0},{"$f":"IF(AU7=0,0,(AU7*((LOG(AU7))/LOG(2))))","v":0}]
[11,121,21,128,21,133,null,null,null,null,0,122,null,112,{"$f":"COUNTIF($L$7:$L$500,N8)","v":4},{"$f":"O8/$Q$4","v":6.7796610169491525E-2},{"$f":"IF(P8=0,0,(P8*((LOG(P8))/LOG(2))))","v":-0.2632300372448706},null,null,{"$f":"N8","v":112},{"$f":"COUNTIF(L7:L16,T8)","v":1},{"$f":"U8/(W4-U10)","v":0.33333333333333331},{"$f":"IF(V8=0,0,(V8*((LOG(V8))/LOG(2))))","v":-0.52832083357371862},null,{"$f":"N8","v":112},{"$f":"COUNTIF(L17:L26,Y8)","v":0},{"$f":"Z8/(AB4-Z10)","v":0},{"$f":"IF(AA8=0,0,(AA8*((LOG(AA8))/LOG(2))))","v":0},null,{"$f":"N8","v":112},{"$f":"COUNTIF(L27:L35,AD8)","v":1},{"$f":"AE8/(AG4-AE10)","v":0.25},{"$f":"IF(AF8=0,0,(AF8*((LOG(AF8))/LOG(2))))","v":-0.5},null,{"$f":"N8","v":112},{"$f":"COUNTIF(L36:L45,AI8)","v":0},{"$f":"AJ8/(AL4-AJ10)","v":0},{"$f":"IF(AK8=0,0,(AK8*((LOG(AK8))/LOG(2))))","v":0},null,{"$f":"N8","v":112},{"$f":"COUNTIF(L46:L55,AN8)","v":1},{"$f":"AO8/(AQ4-AO10)","v":0.33333333333333331},{"$f":"IF(AP8=0,0,(AP8*((LOG(AP8))/LOG(2))))","v":-0.52832083357371862},null,{"$f":"N8","v":112},{"$f":"COUNTIF(L56:L65,AS8)","v":1},{"$f":"AT8/(AV4-AT10)","v":0.33333333333333331},{"$f":"IF(AU8=0,0,(AU8*((LOG(AU8))/LOG(2))))","v":-0.52832083357371862}]
[22,222,23,227,23,235,null,null,null,null,0,222,null,121,{"$f":"COUNTIF($L$7:$L$500,N9)","v":0},{"$f":"O9/$Q$4","v":0},{"$f":"IF(P9=0,0,(P9*((LOG(P9))/LOG(2))))","v":0},null,null,{"$f":"N9","v":121},{"$f":"COUNTIF(L7:L16,T9)","v":0},{"$f":"U9/(W4-U10)","v":0},{"$f":"IF(V9=0,0,(V9*((LOG(V9))/LOG(2))))","v":0},null,{"$f":"N9","v":121},{"$f":"COUNTIF(L17:L26,Y9)","v":0},{"$f":"Z9/(AB4-Z10)","v":0},{"$f":"IF(AA9=0,0,(AA9*((LOG(AA9))/LOG(2))))","v":0},null,{"$f":"N9","v":121},{"$f":"COUNTIF(L27:L35,AD9)","v":0},{"$f":"AE9/(AG4-AE10)","v":0},{"$f":"IF(AF9=0,0,(AF9*((LOG(AF9))/LOG(2))))","v":0},null,{"$f":"N9","v":121},{"$f":"COUNTIF(L36:L45,AI9)","v":0},{"$f":"AJ9/(AL4-AJ10)","v":0},{"$f":"IF(AK9=0,0,(AK9*((LOG(AK9))/LOG(2))))","v":0},null,{"$f":"N9","v":121},{"$f":"COUNTIF(L46:L55,AN9)","v":0},{"$f":"AO9/(AQ4-AO10)","v":0},{"$f":"IF(AP9=0,0,(AP9*((LOG(AP9))/LOG(2))))","v":0},null,{"$f":"N9","v":121},{"$f":"COUNTIF(L56:L65,AS9)","v":0},{"$f":"AT9/(AV4-AT10)","v":0},{"$f":"IF(AU9=0,0,(AU9*((LOG(AU9))/LOG(2))))","v":0}]
[11,331,21,342,21,346,null,null,null,null,0,122,null,122,{"$f":"COUNTIF($L$7:$L$500,N10)","v":39},{"$f":"O10/$Q$4","v":0.66101694915254239},{"$f":"IF(P10=0,0,(P10*((LOG(P10))/LOG(2))))","v":-0.39478631168617156},null,null,{"$f":"N10","v":122},{"$f":"COUNTIF(L7:L16,T10)","v":7},null,null,null,{"$f":"N10","v":122},{"$f":"COUNTIF(L17:L26,Y10)","v":8},null,null,null,{"$f":"N10","v":122},{"$f":"COUNTIF(L27:L35,AD10)","v":5},null,null,null,{"$f":"N10","v":122},{"$f":"COUNTIF(L36:L45,AI10)","v":5},null,null,null,{"$f":"N10","v":122},{"$f":"COUNTIF(L46:L55,AN10)","v":7},null,null,null,{"$f":"N10","v":122},{"$f":"COUNTIF(L56:L65,AS10)","v":7}]
[22,447,23,455,23,462,null,null,null,null,0,222,null,211,{"$f":"COUNTIF($L$7:$L$500,N11)","v":0},{"$f":"O11/$Q$4","v":0},{"$f":"IF(P11=0,0,(P11*((LOG(P11))/LOG(2))))","v":0},null,null,{"$f":"N11","v":211},{"$f":"COUNTIF(L7:L16,T11)","v":0},{"$f":"U11/(W4-U10)","v":0},{"$f":"IF(V11=0,0,(V11*((LOG(V11))/LOG(2))))","v":0},null,{"$f":"N11","v":211},{"$f":"COUNTIF(L17:L26,Y11)","v":0},{"$f":"Z11/(AB4-Z10)","v":0},{"$f":"IF(AA11=0,0,(AA11*((LOG(AA11))/LOG(2))))","v":0},null,{"$f":"N11","v":211},{"$f":"COUNTIF(L27:L35,AD11)","v":0},{"$f":"AE11/(AG4-AE10)","v":0},{"$f":"IF(AF11=0,0,(AF11*((LOG(AF11))/LOG(2))))","v":0},null,{"$f":"N11","v":211},{"$f":"COUNTIF(L36:L45,AI11)","v":0},{"$f":"AJ11/(AL4-AJ10)","v":0},{"$f":"IF(AK11=0,0,(AK11*((LOG(AK11))/LOG(2))))","v":0},null,{"$f":"N11","v":211},{"$f":"COUNTIF(L46:L55,AN11)","v":0},{"$f":"AO11/(AQ4-AO10)","v":0},{"$f":"IF(AP11=0,0,(AP11*((LOG(AP11))/LOG(2))))","v":0},null,{"$f":"N11","v":211},{"$f":"COUNTIF(L56:L65,AS11)","v":0},{"$f":"AT11/(AV4-AT10)","v":0},{"$f":"IF(AU11=0,0,(AU11*((LOG(AU11))/LOG(2))))","v":0}]
[11,558,12,565,23,574,null,null,null,null,0,112,null,212,{"$f":"COUNTIF($L$7:$L$500,N12)","v":0},{"$f":"O12/$Q$4","v":0},{"$f":"IF(P12=0,0,(P12*((LOG(P12))/LOG(2))))","v":0},null,null,{"$f":"N12","v":212},{"$f":"COUNTIF(L7:L16,T12)","v":0},{"$f":"U12/(W4-U10)","v":0},{"$f":"IF(V12=0,0,(V12*((LOG(V12))/LOG(2))))","v":0},null,{"$f":"N12","v":212},{"$f":"COUNTIF(L17:L26,Y12)","v":0},{"$f":"Z12/(AB4-Z10)","v":0},{"$f":"IF(AA12=0,0,(AA12*((LOG(AA12))/LOG(2))))","v":0},null,{"$f":"N12","v":212},{"$f":"COUNTIF(L27:L35,AD12)","v":0},{"$f":"AE12/(AG4-AE10)","v":0},{"$f":"IF(AF12=0,0,(AF12*((LOG(AF12))/LOG(2))))","v":0},null,{"$f":"N12","v":212},{"$f":"COUNTIF(L36:L45,AI12)","v":0},{"$f":"AJ12/(AL4-AJ10)","v":0},{"$f":"IF(AK12=0,0,(AK12*((LOG(AK12))/LOG(2))))","v":0},null,{"$f":"N12","v":212},{"$f":"COUNTIF(L46:L55,AN12)","v":0},{"$f":"AO12/(AQ4-AO10)","v":0},{"$f":"IF(AP12=0,0,(AP12*((LOG(AP12))/LOG(2))))","v":0},null,{"$f":"N12","v":212},{"$f":"COUNTIF(L56:L65,AS12)","v":0},{"$f":"AT12/(AV4-AT10)","v":0},{"$f":"IF(AU12=0,0,(AU12*((LOG(AU12))/LOG(2))))","v":0}]
[11,673,21,685,21,690,null,null,null,null,0,122,null,221,{"$f":"COUNTIF($L$7:$L$500,N13)","v":0},{"$f":"O13/$Q$4","v":0},{"$f":"IF(P13=0,0,(P13*((LOG(P13))/LOG(2))))","v":0},null,null,{"$f":"N13","v":221},{"$f":"COUNTIF(L7:L16,T13)","v":0},{"$f":"U13/(W4-U10)","v":0},{"$f":"IF(V13=0,0,(V13*((LOG(V13))/LOG(2))))","v":0},null,{"$f":"N13","v":221},{"$f":"COUNTIF(L17:L26,Y13)","v":0},{"$f":"Z13/(AB4-Z10)","v":0},{"$f":"IF(AA13=0,0,(AA13*((LOG(AA13))/LOG(2))))","v":0},null,{"$f":"N13","v":221},{"$f":"COUNTIF(L27:L35,AD13)","v":0},{"$f":"AE13/(AG4-AE10)","v":0},{"$f":"IF(AF13=0,0,(AF13*((LOG(AF13))/LOG(2))))","v":0},null,{"$f":"N13","v":221},{"$f":"COUNTIF(L36:L45,AI13)","v":0},{"$f":"AJ13/(AL4-AJ10)","v":0},{"$f":"IF(AK13=0,0,(AK13*((LOG(AK13))/LOG(2))))","v":0},null,{"$f":"N13","v":221},{"$f":"COUNTIF(L46:L55,AN13)","v":0},{"$f":"AO13/(AQ4-AO10)","v":0},{"$f":"IF(AP13=0,0,(AP13*((LOG(AP13))/LOG(2))))","v":0},null,{"$f":"N13","v":221},{"$f":"COUNTIF(L56:L65,AS13)","v":0},{"$f":"AT13/(AV4-AT10)","v":0},{"$f":"IF(AU13=0,0,(AU13*((LOG(AU13))/LOG(2))))","v":0}]
[11,775,21,786,21,791,null,null,null,null,0,122,null,222,{"$f":"COUNTIF($L$7:$L$500,N14)","v":16},{"$f":"O14/$Q$4","v":0.2711864406779661},{"$f":"IF(P14=0,0,(P14*((LOG(P14))/LOG(2))))","v":-0.51054726762355018},null,null,{"$f":"N14","v":222},{"$f":"COUNTIF(L7:L16,T14)","v":2},{"$f":"U14/(W4-U10)","v":0.66666666666666663},{"$f":"IF(V14=0,0,(V14*((LOG(V14))/LOG(2))))","v":-0.38997500048077083},null,{"$f":"N14","v":222},{"$f":"COUNTIF(L17:L26,Y14)","v":2},{"$f":"Z14/(AB4-Z10)","v":1},{"$f":"IF(AA14=0,0,(AA14*((LOG(AA14))/LOG(2))))","v":0},null,{"$f":"N14","v":222},{"$f":"COUNTIF(L27:L35,AD14)","v":3},{"$f":"AE14/(AG4-AE10)","v":0.75},{"$f":"IF(AF14=0,0,(AF14*((LOG(AF14))/LOG(2))))","v":-0.31127812445913283},null,{"$f":"N14","v":222},{"$f":"COUNTIF(L36:L45,AI14)","v":5},{"$f":"AJ14/(AL4-AJ10)","v":1},{"$f":"IF(AK14=0,0,(AK14*((LOG(AK14))/LOG(2))))","v":0},null,{"$f":"N14","v":222},{"$f":"COUNTIF(L46:L55,AN14)","v":2},{"$f":"AO14/(AQ4-AO10)","v":0.66666666666666663},{"$f":"IF(AP14=0,0,(AP14*((LOG(AP14))/LOG(2))))","v":-0.38997500048077083},null,{"$f":"N14","v":222},{"$f":"COUNTIF(L56:L65,AS14)","v":2},{"$f":"AT14/(AV4-AT10)","v":0.66666666666666663},{"$f":"IF(AU14=0,0,(AU14*((LOG(AU14))/LOG(2))))","v":-0.38997500048077083}]
[11,880,21,891,21,896,null,null,null,null,0,122,null,null,null,{"$f":"SUM(P7:P14)","v":1},{"$f":"-SUM(Q7:Q14)","v":1.1685636165545925},null,null,null,null,{"$f":"SUM(V7:V14)","v":1},{"$f":"-SUM(W7:W14)","v":0.91829583405448945},null,null,null,{"$f":"SUM(AA7:AA14)","v":1},{"$f":"-SUM(AB7:AB14)","v":0},null,null,null,{"$f":"SUM(AF7:AF14)","v":1},{"$f":"-SUM(AG7:AG14)","v":0.81127812445913283},null,null,null,{"$f":"SUM(AK7:AK14)","v":1},{"$f":"-SUM(AL7:AL14)","v":0},null,null,null,{"$f":"SUM(AP7:AP14)","v":1},{"$f":"-SUM(AQ7:AQ14)","v":0.91829583405448945},null,null,null,{"$f":"SUM(AU7:AU14)","v":1},{"$f":"-SUM(AV7:AV14)","v":0.91829583405448945}]
[11,981,21,992,21,999,null,null,null,null,0,122,null,null,null,"U=",{"$f":"Q15/(LOG(Q4)/LOG(2))","v":0.19864601791219683},null,null,null,null,"U1=",{"$f":"W15/(LOG(W4)/LOG(2))","v":0.27643459094367495},null,null,null,"U2=",{"$f":"AB15/(LOG(AB4)/LOG(2))","v":0},null,null,null,"U3=",{"$f":"AG15/(LOG(AG4)/LOG(2))","v":0.25592975357145742},null,null,null,"U4=",{"$f":"AL15/(LOG(AL4)/LOG(2))","v":0},null,null,null,"U5=",{"$f":"AQ15/(LOG(AQ4)/LOG(2))","v":0.27643459094367495},null,null,null,"U6=",{"$f":"AV15/(LOG(AV4)/LOG(2))","v":0.27643459094367495}]
[11,1085,21,1094,21,1101,null,null,null,null,0,122]
[11,1187,21,1195,21,1201,null,null,null,null,0,122]
[11,1286,21,1297,21,1301,null,null,null,null,0,122,null,"Total Target Seq"]
[11,1386,21,1396,21,1401,null,null,null,null,0,122,null,{"$f":"COUNTIF(L7:L65,G3)","v":39},null,10,10,9,10,10,10]
[11,1485,21,1494,21,1499,null,null,null,null,0,122,null,null,null,"% of reinforcement given in 6 equal intervals based on number of trials "]
[22,1594,23,1602,23,1622,null,null,null,null,0,222,null,null,null,"%_1","%_2","%_3","%_4","%_5","%_6"]
[22,1727,23,1733,23,1753,null,null,null,null,0,222,null,null,"target sequence",{"$f":"$G$3","v":122},{"$f":"$G$3","v":122},{"$f":"$G$3","v":122},{"$f":"$G$3","v":122},{"$f":"$G$3","v":122},{"$f":"$G$3","v":122}]
[11,1850,21,1858,21,1863,null,null,null,null,0,122,null,null,"total reinforcement",{"$f":"U10","v":7},{"$f":"Z10","v":8},{"$f":"AE10","v":5},{"$f":"AJ10","v":5},{"$f":"AO10","v":7},{"$f":"AT10","v":7}]
[11,1948,21,1958,21,1965,null,null,null,null,0,122,null,null,"% target"]
[11,2053,21,2063,21,2070,null,null,null,null,0,122,null,null,"CCRF"]
[22,2166,23,2170,23,2179,null,null,null,null,0,222,null,null,"% CCRf"]
[22,2287,23,2294,23,2306,null,null,null,null,0,222,null,null,"average response rate",{"$f":"F16/P20","v":99.9},{"$f":"(F26-F16)/Q20","v":107.1},{"$f":"(F35-F26)/R20","v":112.44444444444444},{"$f":"(F45-F35)/S20","v":117.4},{"$f":"(F55-F45)/T20","v":107.7},{"$f":"(F65-F55)/U20","v":113}]
[11,2401,21,2412,21,2417,null,null,null,null,0,122]
[22,2519,23,2529,23,2540,null,null,null,null,0,222]
[11,2633,21,2649,21,2656,null,null,null,null,0,122]
[11,2744,21,2756,21,2764,null,null,null,null,0,122]
[11,2849,21,2862,21,2870,null,null,null,null,0,122]
[11,2954,21,2966,21,2972,null,null,null,null,0,122]
[11,3057,12,3070,23,3082,null,null,null,null,0,112]
[22,3189,23,3207,23,3218,null,null,null,null,0,222]
[22,3324,23,3346,23,3361,null,null,null,null,0,222]
[11,3457,21,3468,21,3475,null,null,null,null,0,122]
[11,3561,21,3571,21,3579,null,null,null,null,0,122]
[11,3662,21,3672,21,3677,null,null,null,null,0,122]
[11,3763,21,3772,21,3781,null,null,null,null,0,122]
[11,3865,21,3876,21,3894,null,null,null,null,0,122]
[22,3991,23,3996,23,4007,null,null,null,null,0,222]
[22,4113,23,4120,23,4130,null,null,null,null,0,222]
[22,4236,23,4244,23,4256,null,null,null,null,0,222]
[11,4351,21,4362,21,4369,null,null,null,null,0,122]
[11,4455,21,4467,21,4474,null,null,null,null,0,122]
[11,4557,21,4568,21,4576,null,null,null,null,0,122]
[22,4670,23,4676,23,4683,null,null,null,null,0,222]
[11,4779,21,4791,21,4796,null,null,null,null,0,122]
[11,4882,12,4886,23,4898,null,null,null,null,0,112]
[11,4994,21,5006,21,5013,null,null,null,null,0,122]
[11,5103,21,5116,21,5124,null,null,null,null,0,122]
[11,5208,21,5219,21,5224,null,null,null,null,0,122]
[22,5317,23,5324,23,5333,null,null,null,null,0,222]
[11,5428,21,5439,21,5444,null,null,null,null,0,122]
[11,5528,21,5539,21,5545,null,null,null,null,0,122]
[11,5632,21,5650,21,5655,null,null,null,null,0,122]
[11,5740,12,5744,23,5755,null,null,null,null,0,112]
[11,5850,21,5861,21,5869,null,null,null,null,0,122]
[11,5957,21,5968,21,5976,null,null,null,null,0,122]
[11,6060,21,6070,21,6077,null,null,null,null,0,122]
[22,6170,23,6175,23,6194,null,null,null,null,0,222]
[22,6300,23,6318,23,6328,null,null,null,null,0,222]
[11,6423,21,6433,21,6463,null,null,null,null,1,122]

{"sheet":"!M809A30.104","index":28,"n_rows":57,"n_cols":48,"rows_kept":57,"cut":false,"hidden":false,"merged":[[4,39,4,42],[5,39,5,40],[4,44,4,47],[5,44,5,45],[4,24,4,27],[5,24,5,25],[4,29,4,32],[5,29,5,30],[4,34,4,37],[5,34,5,35],[1,1,1,2],[5,13,5,14],[18,13,18,14],[19,13,19,14],[4,19,4,22],[5,19,5,20]]}
["Report for:!M809A30.104"]
["Date:","<date>"]
["Hen:","<hen>",null,null,null,"Correct Sequence",{"$f":"Start!J2","v":122},null,null,null,null,null,null,null,null,"Total Sequences in Data",{"$f":"4994-COUNTBLANK(L7:L5000)","v":51},null,null,null,null,"Total Sequences in Block Data",{"$f":"COUNTA(L7:L15)","v":9},null,null,null,"Total Sequences in Block Data",{"$f":"COUNTA(L16:L23)","v":8},null,null,null,"Total Sequences in Block Data",{"$f":"COUNTA(L24:L32)","v":9},null,null,null,"Total Sequences in Block Data",{"$f":"COUNTA(L33:L40)","v":8},null,null,null,"Total Sequences in Block Data",{"$f":"COUNTA(L41:L49)","v":9},null,null,null,"Total Sequences in Block Data",{"$f":"COUNTA(L50:L57)","v":8}]
[null,null,null,null,null,null,null,null,null,null,null,null,null,null,null,"Total Sequences in Summary",{"$f":"SUM(O7:O14)","v":51},null,null,null,null,"Total Sequences in Block Summary",{"$f":"SUM(U7:U14)","v":9},null,null,null,"Total Sequences in Block Summary",{"$f":"SUM(Z7:Z14)","v":8},null,null,null,"Total Sequences in Block Summary",{"$f":"SUM(AE7:AE14)","v":9},null,null,null,"Total Sequences in Block Summary",{"$f":"SUM(AJ7:AJ14)","v":8},null,null,null,"Total Sequences in Block Summary",{"$f":"SUM(AO7:AO14)","v":9},null,null,null,"Total Sequences in Block Summary",{"$f":"SUM(AT7:AT14)","v":8}]
[null,null,null,null,null,null,null,null,null,null,null,null,null,null,null,null,null,null,null,"Block 1",null,null,null,null,"Block 2",null,null,null,null,"Block 3",null,null,null,null,"Block 4",null,null,null,null,"Block 5",null,null,null,null,"Block 6"]
["Sequence\nComponent\n1","Time\n1","Sequence\nComponent\n2","Time\n2","Sequence\nComponent\n3","Time\n3","Sequence\nComponent\n4","Time\n4","Sequence\nComponent\n5","Time\n5","Correct?\n0=No 1=Yes","Sequence",null,"Frequency",null,"Relative Frequency","Variability",null,null,"Frequency",null,"Relative Frequency","Variability",null,"Frequency",null,"Relative Frequency","Variability",null,"Frequency",null,"Relative Frequency","Variability",null,"Frequency",null,"Relative Frequency","Variability",null,"Frequency",null,"Relative Frequency","Variability",null,"Frequency",null,"Relative Frequency","Variability"]
[11,6,21,14,21,21,null,null,null,null,0,122,null,111,{"$f":"COUNTIF($L$7:$L$500,N7)","v":0},{"$f":"O7/$Q$4","v":0},{"$f":"IF(P7=0,0,(P7*((LOG(P7))/LOG(2))))","v":0},null,null,{"$f":"N7","v":111},{"$f":"COUNTIF(L7:L15,T7)","v":0},{"$f":"U7/(W4-U10)","v":0},{"$f":"IF(V7=0,0,(V7*((LOG(V7))/LOG(2))))","v":0},null,{"$f":"N7","v":111},{"$f":"COUNTIF(L16:L23,Y7)","v":0},{"$f":"Z7/(AB4-Z10)","v":0},{"$f":"IF(AA7=0,0,(AA7*((LOG(AA7))/LOG(2))))","v":0},null,{"$f":"N7","v":111},{"$f":"COUNTIF(L24:L32,AD7)","v":0},{"$f":"AE7/(AG4-AE10)","v":0},{"$f":"IF(AF7=0,0,(AF7*((LOG(AF7))/LOG(2))))","v":0},null,{"$f":"N7","v":111},{"$f":"COUNTIF(L33:L40,AI7)","v":0},{"$f":"AJ7/(AL4-AJ10)","v":0},{"$f":"IF(AK7=0,0,(AK7*((LOG(AK7))/LOG(2))))","v":0},null,{"$f":"N7","v":111},{"$f":"COUNTIF(L41:L49,AN7)","v":0},{"$f":"AO7/(AQ4-AO10)","v":0},{"$f":"IF(AP7=0,0,(AP7*((LOG(AP7))/LOG(2))))","v":0},null,{"$f":"N7","v":111},{"$f":"COUNTIF(L50:L57,AS7)","v":0},{"$f":"AT7/(AV4-AT10)","v":{"$error":"#DIV/0!"}},{"$f":"IF(AU7=0,0,(AU7*((LOG(AU7))/LOG(2))))","v":{"$error":"#DIV/0!"}}]
[11,109,21,121,12,132,null,null,null,null,0,121,null,112,{"$f":"COUNTIF($L$7:$L$500,N8)","v":3},{"$f":"O8/$Q$4","v":5.8823529411764705E-2},{"$f":"IF(P8=0,0,(P8*((LOG(P8))/LOG(2))))","v":-0.24043899066178465},null,null,{"$f":"N8","v":112},{"$f":"COUNTIF(L7:L15,T8)","v":2},{"$f":"U8/(W4-U10)","v":0.5},{"$f":"IF(V8=0,0,(V8*((LOG(V8))/LOG(2))))","v":-0.5},null,{"$f":"N8","v":112},{"$f":"COUNTIF(L16:L23,Y8)","v":1},{"$f":"Z8/(AB4-Z10)","v":0.5},{"$f":"IF(AA8=0,0,(AA8*((LOG(AA8))/LOG(2))))","v":-0.5},null,{"$f":"N8","v":112},{"$f":"COUNTIF(L24:L32,AD8)","v":0},{"$f":"AE8/(AG4-AE10)","v":0},{"$f":"IF(AF8=0,0,(AF8*((LOG(AF8))/LOG(2))))","v":0},null,{"$f":"N8","v":112},{"$f":"COUNTIF(L33:L40,AI8)","v":0},{"$f":"AJ8/(AL4-AJ10)","v":0},{"$f":"IF(AK8=0,0,(AK8*((LOG(AK8))/LOG(2))))","v":0},null,{"$f":"N8","v":112},{"$f":"COUNTIF(L41:L49,AN8)","v":0},{"$f":"AO8/(AQ4-AO10)","v":0},{"$f":"IF(AP8=0,0,(AP8*((LOG(AP8))/LOG(2))))","v":0},null,{"$f":"N8","v":112},{"$f":"COUNTIF(L50:L57,AS8)","v":0},{"$f":"AT8/(AV4-AT10)","v":{"$error":"#DIV/0!"}},{"$f":"IF(AU8=0,0,(AU8*((LOG(AU8))/LOG(2))))","v":{"$error":"#DIV/0!"}}]
[11,223,12,233,23,241,null,null,null,null,0,112,null,121,{"$f":"COUNTIF($L$7:$L$500,N9)","v":1},{"$f":"O9/$Q$4","v":1.9607843137254902E-2},{"$f":"IF(P9=0,0,(P9*((LOG(P9))/LOG(2))))","v":-0.11122402631316657},null,null,{"$f":"N9","v":121},{"$f":"COUNTIF(L7:L15,T9)","v":1},{"$f":"U9/(W4-U10)","v":0.25},{"$f":"IF(V9=0,0,(V9*((LOG(V9))/LOG(2))))","v":-0.5},null,{"$f":"N9","v":121},{"$f":"COUNTIF(L16:L23,Y9)","v":0},{"$f":"Z9/(AB4-Z10)","v":0},{"$f":"IF(AA9=0,0,(AA9*((LOG(AA9))/LOG(2))))","v":0},null,{"$f":"N9","v":121},{"$f":"COUNTIF(L24:L32,AD9)","v":0},{"$f":"AE9/(AG4-AE10)","v":0},{"$f":"IF(AF9=0,0,(AF9*((LOG(AF9))/LOG(2))))","v":0},null,{"$f":"N9","v":121},{"$f":"COUNTIF(L33:L40,AI9)","v":0},{"$f":"AJ9/(AL4-AJ10)","v":0},{"$f":"IF(AK9=0,0,(AK9*((LOG(AK9))/LOG(2))))","v":0},null,{"$f":"N9","v":121},{"$f":"COUNTIF(L41:L49,AN9)","v":0},{"$f":"AO9/(AQ4-AO10)","v":0},{"$f":"IF(AP9=0,0,(AP9*((LOG(AP9))/LOG(2))))","v":0},null,{"$f":"N9","v":121},{"$f":"COUNTIF(L50:L57,AS9)","v":0},{"$f":"AT9/(AV4-AT10)","v":{"$error":"#DIV/0!"}},{"$f":"IF(AU9=0,0,(AU9*((LOG(AU9))/LOG(2))))","v":{"$error":"#DIV/0!"}}]
[11,335,21,344,21,349,null,null,null,null,0,122,null,122,{"$f":"COUNTIF($L$7:$L$500,N10)","v":39},{"$f":"O10/$Q$4","v":0.76470588235294112},{"$f":"IF(P10=0,0,(P10*((LOG(P10))/LOG(2))))","v":-0.29595885884824796},null,null,{"$f":"N10","v":122},{"$f":"COUNTIF(L7:L15,T10)","v":5},null,null,null,{"$f":"N10","v":122},{"$f":"COUNTIF(L16:L23,Y10)","v":6},null,null,null,{"$f":"N10","v":122},{"$f":"COUNTIF(L24:L32,AD10)","v":5},null,null,null,{"$f":"N10","v":122},{"$f":"COUNTIF(L33:L40,AI10)","v":7},null,null,null,{"$f":"N10","v":122},{"$f":"COUNTIF(L41:L49,AN10)","v":8},null,null,null,{"$f":"N10","v":122},{"$f":"COUNTIF(L50:L57,AS10)","v":8}]
[11,439,12,449,23,459,null,null,null,null,0,112,null,211,{"$f":"COUNTIF($L$7:$L$500,N11)","v":0},{"$f":"O11/$Q$4","v":0},{"$f":"IF(P11=0,0,(P11*((LOG(P11))/LOG(2))))","v":0},null,null,{"$f":"N11","v":211},{"$f":"COUNTIF(L7:L15,T11)","v":0},{"$f":"U11/(W4-U10)","v":0},{"$f":"IF(V11=0,0,(V11*((LOG(V11))/LOG(2))))","v":0},null,{"$f":"N11","v":211},{"$f":"COUNTIF(L16:L23,Y11)","v":0},{"$f":"Z11/(AB4-Z10)","v":0},{"$f":"IF(AA11=0,0,(AA11*((LOG(AA11))/LOG(2))))","v":0},null,{"$f":"N11","v":211},{"$f":"COUNTIF(L24:L32,AD11)","v":0},{"$f":"AE11/(AG4-AE10)","v":0},{"$f":"IF(AF11=0,0,(AF11*((LOG(AF11))/LOG(2))))","v":0},null,{"$f":"N11","v":211},{"$f":"COUNTIF(L33:L40,AI11)","v":0},{"$f":"AJ11/(AL4-AJ10)","v":0},{"$f":"IF(AK11=0,0,(AK11*((LOG(AK11))/LOG(2))))","v":0},null,{"$f":"N11","v":211},{"$f":"COUNTIF(L41:L49,AN11)","v":0},{"$f":"AO11/(AQ4-AO10)","v":0},{"$f":"IF(AP11=0,0,(AP11*((LOG(AP11))/LOG(2))))","v":0},null,{"$f":"N11","v":211},{"$f":"COUNTIF(L50:L57,AS11)","v":0},{"$f":"AT11/(AV4-AT10)","v":{"$error":"#DIV/0!"}},{"$f":"IF(AU11=0,0,(AU11*((LOG(AU11))/LOG(2))))","v":{"$error":"#DIV/0!"}}]
[22,563,23,567,23,584,null,null,null,null,0,222,null,212,{"$f":"COUNTIF($L$7:$L$500,N12)","v":0},{"$f":"O12/$Q$4","v":0},{"$f":"IF(P12=0,0,(P12*((LOG(P12))/LOG(2))))","v":0},null,null,{"$f":"N12","v":212},{"$f":"COUNTIF(L7:L15,T12)","v":0},{"$f":"U12/(W4-U10)","v":0},{"$f":"IF(V12=0,0,(V12*((LOG(V12))/LOG(2))))","v":0},null,{"$f":"N12","v":212},{"$f":"COUNTIF(L16:L23,Y12)","v":0},{"$f":"Z12/(AB4-Z10)","v":0},{"$f":"IF(AA12=0,0,(AA12*((LOG(AA12))/LOG(2))))","v":0},null,{"$f":"N12","v":212},{"$f":"COUNTIF(L24:L32,AD12)","v":0},{"$f":"AE12/(AG4-AE10)","v":0},{"$f":"IF(AF12=0,0,(AF12*((LOG(AF12))/LOG(2))))","v":0},null,{"$f":"N12","v":212},{"$f":"COUNTIF(L33:L40,AI12)","v":0},{"$f":"AJ12/(AL4-AJ10)","v":0},{"$f":"IF(AK12=0,0,(AK12*((LOG(AK12))/LOG(2))))","v":0},null,{"$f":"N12","v":212},{"$f":"COUNTIF(L41:L49,AN12)","v":0},{"$f":"AO12/(AQ4-AO10)","v":0},{"$f":"IF(AP12=0,0,(AP12*((LOG(AP12))/LOG(2))))","v":0},null,{"$f":"N12","v":212},{"$f":"COUNTIF(L50:L57,AS12)","v":0},{"$f":"AT12/(AV4-AT10)","v":{"$error":"#DIV/0!"}},{"$f":"IF(AU12=0,0,(AU12*((LOG(AU12))/LOG(2))))","v":{"$error":"#DIV/0!"}}]
[11,680,21,690,21,694,null,null,null,null,0,122,null,221,{"$f":"COUNTIF($L$7:$L$500,N13)","v":1},{"$f":"O13/$Q$4","v":1.9607843137254902E-2},{"$f":"IF(P13=0,0,(P13*((LOG(P13))/LOG(2))))","v":-0.11122402631316657},null,null,{"$f":"N13","v":221},{"$f":"COUNTIF(L7:L15,T13)","v":0},{"$f":"U13/(W4-U10)","v":0},{"$f":"IF(V13=0,0,(V13*((LOG(V13))/LOG(2))))","v":0},null,{"$f":"N13","v":221},{"$f":"COUNTIF(L16:L23,Y13)","v":0},{"$f":"Z13/(AB4-Z10)","v":0},{"$f":"IF(AA13=0,0,(AA13*((LOG(AA13))/LOG(2))))","v":0},null,{"$f":"N13","v":221},{"$f":"COUNTIF(L24:L32,AD13)","v":0},{"$f":"AE13/(AG4-AE10)","v":0},{"$f":"IF(AF13=0,0,(AF13*((LOG(AF13))/LOG(2))))","v":0},null,{"$f":"N13","v":221},{"$f":"COUNTIF(L33:L40,AI13)","v":1},{"$f":"AJ13/(AL4-AJ10)","v":1},{"$f":"IF(AK13=0,0,(AK13*((LOG(AK13))/LOG(2))))","v":0},null,{"$f":"N13","v":221},{"$f":"COUNTIF(L41:L49,AN13)","v":0},{"$f":"AO13/(AQ4-AO10)","v":0},{"$f":"IF(AP13=0,0,(AP13*((LOG(AP13))/LOG(2))))","v":0},null,{"$f":"N13","v":221},{"$f":"COUNTIF(L50:L57,AS13)","v":0},{"$f":"AT13/(AV4-AT10)","v":{"$error":"#DIV/0!"}},{"$f":"IF(AU13=0,0,(AU13*((LOG(AU13))/LOG(2))))","v":{"$error":"#DIV/0!"}}]
[11,781,21,793,21,800,null,null,null,null,0,122,null,222,{"$f":"COUNTIF($L$7:$L$500,N14)","v":7},{"$f":"O14/$Q$4","v":0.13725490196078433},{"$f":"IF(P14=0,0,(P14*((LOG(P14))/LOG(2))))","v":-0.39324495959602429},null,null,{"$f":"N14","v":222},{"$f":"COUNTIF(L7:L15,T14)","v":1},{"$f":"U14/(W4-U10)","v":0.25},{"$f":"IF(V14=0,0,(V14*((LOG(V14))/LOG(2))))","v":-0.5},null,{"$f":"N14","v":222},{"$f":"COUNTIF(L16:L23,Y14)","v":1},{"$f":"Z14/(AB4-Z10)","v":0.5},{"$f":"IF(AA14=0,0,(AA14*((LOG(AA14))/LOG(2))))","v":-0.5},null,{"$f":"N14","v":222},{"$f":"COUNTIF(L24:L32,AD14)","v":4},{"$f":"AE14/(AG4-AE10)","v":1},{"$f":"IF(AF14=0,0,(AF14*((LOG(AF14))/LOG(2))))","v":0},null,{"$f":"N14","v":222},{"$f":"COUNTIF(L33:L40,AI14)","v":0},{"$f":"AJ14/(AL4-AJ10)","v":0},{"$f":"IF(AK14=0,0,(AK14*((LOG(AK14))/LOG(2))))","v":0},null,{"$f":"N14","v":222},{"$f":"COUNTIF(L41:L49,AN14)","v":1},{"$f":"AO14/(AQ4-AO10)","v":1},{"$f":"IF(AP14=0,0,(AP14*((LOG(AP14))/LOG(2))))","v":0},null,{"$f":"N14","v":222},{"$f":"COUNTIF(L50:L57,AS14)","v":0},{"$f":"AT14/(AV4-AT10)","v":{"$error":"#DIV/0!"}},{"$f":"IF(AU14=0,0,(AU14*((LOG(AU14))/LOG(2))))","v":{"$error":"#DIV/0!"}}]
[11,886,21,897,21,905,null,null,null,null,0,122,null,null,null,{"$f":"SUM(P7:P14)","v":1},{"$f":"-SUM(Q7:Q14)","v":1.1520908617323899},null,null,null,null,{"$f":"SUM(V7:V14)","v":1},{"$f":"-SUM(W7:W14)","v":1.5},null,null,null,{"$f":"SUM(AA7:AA14)","v":1},{"$f":"-SUM(AB7:AB14)","v":1},null,null,null,{"$f":"SUM(AF7:AF14)","v":1},{"$f":"-SUM(AG7:AG14)","v":0},null,null,null,{"$f":"SUM(AK7:AK14)","v":1},{"$f":"-SUM(AL7:AL14)","v":0},null,null,null,{"$f":"SUM(AP7:AP14)","v":1},{"$f":"-SUM(AQ7:AQ14)","v":0},null,null,null,{"$f":"SUM(AU7:AU14)","v":{"$error":"#DIV/0!"}},{"$f":"-SUM(AV7:AV14)","v":{"$error":"#DIV/0!"}}]
[11,986,12,991,23,1002,null,null,null,null,0,112,null,null,null,"U=",{"$f":"Q15/(LOG(Q4)/LOG(2))","v":0.20310375056112628},null,null,null,null,"U1=",{"$f":"W15/(LOG(W4)/LOG(2))","v":0.47319731517859309},null,null,null,"U2=",{"$f":"AB15/(LOG(AB4)/LOG(2))","v":0.33333333333333331},null,null,null,"U3=",{"$f":"AG15/(LOG(AG4)/LOG(2))","v":0},null,null,null,"U4=",{"$f":"AL15/(LOG(AL4)/LOG(2))","v":0},null,null,null,"U5=",{"$f":"AQ15/(LOG(AQ4)/LOG(2))","v":0},null,null,null,"U6=",{"$f":"AV15/(LOG(AV4)/LOG(2))","v":{"$error":"#DIV/0!"}}]
[11,1097,21,1108,21,1113,null,null,null,null,0,122]
[11,1199,21,1211,21,1215,null,null,null,null,0,122]
[11,1300,21,1311,21,1318,null,null,null,null,0,122,null,"Total Target Seq"]
[11,1403,21,1414,21,1419,null,null,null,null,0,122,null,{"$f":"COUNTIF(L7:L57,G3)","v":39},null,9,8,9,8,9,8]
[22,1514,23,1521,23,1529,null,null,null,null,0,222,null,null,null,"% of reinforcement given in 6 equal intervals based on number of trials "]
[11,1624,21,1636,21,1644,null,null,null,null,0,122,null,null,null,"%_1","%_2","%_3","%_4","%_5","%_6"]
[11,1730,21,1741,21,1749,null,null,null,null,0,122,null,null,"target sequence",{"$f":"$G$3","v":122},{"$f":"$G$3","v":122},{"$f":"$G$3","v":122},{"$f":"$G$3","v":122},{"$f":"$G$3","v":122},{"$f":"$G$3","v":122}]
[11,1841,21,1854,21,1890,null,null,null,null,0,122,null,null,"total reinforcement",{"$f":"U10","v":5},{"$f":"Z10","v":6},{"$f":"AE10","v":5},{"$f":"AJ10","v":7},{"$f":"AO10","v":8},{"$f":"AT10","v":8}]
[11,1978,21,1989,21,1999,null,null,null,null,0,122,null,null,"% target"]
[22,2096,23,2102,23,2113,null,null,null,null,0,222,null,null,"CCRF"]
[22,2217,23,2222,23,2229,null,null,null,null,0,222,null,null,"% CCRf"]
[11,2324,21,2335,21,2341,null,null,null,null,0,122,null,null,"average response rate",{"$f":"F15/P20","v":100.55555555555556},{"$f":"(F23-F15)/Q20","v":105.5},{"$f":"(F32-F23)/R20","v":115.66666666666667},{"$f":"(F40-F32)/S20","v":113.125},{"$f":"(F49-F40)/T20","v":104.44444444444444},{"$f":"(F57-F49)/U20","v":102.375}]
[22,2438,23,2443,23,2455,null,null,null,null,0,222]
[11,2550,21,2561,21,2569,null,null,null,null,0,122]
[11,2658,21,2669,21,2677,null,null,null,null,0,122]
[22,2772,23,2779,23,2790,null,null,null,null,0,222]
[11,2889,21,2898,21,2906,null,null,null,null,0,122]
[11,2996,21,3006,21,3013,null,null,null,null,0,122]
[11,3097,21,3107,21,3114,null,null,null,null,0,122]
[11,3199,21,3211,21,3264,null,null,null,null,0,122]
[11,3349,21,3359,21,3364,null,null,null,null,0,122]
[11,3448,21,3457,21,3462,null,null,null,null,0,122]
[22,3558,23,3565,14,3583,null,null,null,null,0,221]
[11,3678,21,3688,21,3695,null,null,null,null,0,122]
[22,3790,23,3795,23,3806,null,null,null,null,0,222]
[11,3901,21,3913,21,3920,null,null,null,null,0,122]
[11,4004,21,4015,21,4019,null,null,null,null,0,122]
[11,4103,21,4113,21,4118,null,null,null,null,0,122]
[11,4202,21,4214,21,4218,null,null,null,null,0,122]
[11,4305,21,4315,21,4320,null,null,null,null,0,122]
[11,4406,21,4416,21,4436,null,null,null,null,0,122]
[11,4520,21,4531,21,4535,null,null,null,null,0,122]
[11,4620,21,4631,21,4635,null,null,null,null,0,122]
[11,4719,21,4729,21,4736,null,null,null,null,0,122]
[11,4819,21,4830,21,4837,null,null,null,null,0,122]
[11,4921,21,4932,21,4939,null,null,null,null,0,122]
[11,5024,21,5035,21,5042,null,null,null,null,0,122]
[11,5127,21,5138,21,5146,null,null,null,null,0,122]
[11,5229,21,5241,21,5245,null,null,null,null,0,122]
[11,5336,21,5348,21,5353,null,null,null,null,0,122]
[11,5438,21,5449,21,5454,null,null,null,null,1,122]

{"sheet":"!M810B00.104","index":29,"n_rows":65,"n_cols":48,"rows_kept":65,"cut":false,"hidden":false,"merged":[[4,39,4,42],[5,39,5,40],[4,44,4,47],[5,44,5,45],[4,24,4,27],[5,24,5,25],[4,29,4,32],[5,29,5,30],[4,34,4,37],[5,34,5,35],[1,1,1,2],[5,13,5,14],[18,13,18,14],[19,13,19,14],[4,19,4,22],[5,19,5,20]]}
["Report for:!M810B00.104"]
["Date:","<date>"]
["Hen:","<hen>",null,null,null,"Correct Sequence",{"$f":"Start!J2","v":122},null,null,null,null,null,null,null,null,"Total Sequences in Data",{"$f":"4994-COUNTBLANK(L7:L5000)","v":59},null,null,null,null,"Total Sequences in Block Data",{"$f":"COUNTA(L7:L16)","v":10},null,null,null,"Total Sequences in Block Data",{"$f":"COUNTA(L17:L26)","v":10},null,null,null,"Total Sequences in Block Data",{"$f":"COUNTA(L27:L35)","v":9},null,null,null,"Total Sequences in Block Data",{"$f":"COUNTA(L36:L45)","v":10},null,null,null,"Total Sequences in Block Data",{"$f":"COUNTA(L46:L55)","v":10},null,null,null,"Total Sequences in Block Data",{"$f":"COUNTA(L56:L65)","v":10}]
[null,null,null,null,null,null,null,null,null,null,null,null,null,null,null,"Total Sequences in Summary",{"$f":"SUM(O7:O14)","v":59},null,null,null,null,"Total Sequences in Block Summary",{"$f":"SUM(U7:U14)","v":10},null,null,null,"Total Sequences in Block Summary",{"$f":"SUM(Z7:Z14)","v":10},null,null,null,"Total Sequences in Block Summary",{"$f":"SUM(AE7:AE14)","v":9},null,null,null,"Total Sequences in Block Summary",{"$f":"SUM(AJ7:AJ14)","v":10},null,null,null,"Total Sequences in Block Summary",{"$f":"SUM(AO7:AO14)","v":10},null,null,null,"Total Sequences in Block Summary",{"$f":"SUM(AT7:AT14)","v":10}]
[null,null,null,null,null,null,null,null,null,null,null,null,null,null,null,null,null,null,null,"Block 1",null,null,null,null,"Block 2",null,null,null,null,"Block 3",null,null,null,null,"Block 4",null,null,null,null,"Block 5",null,null,null,null,"Block 6"]
["Sequence\nComponent\n1","Time\n1","Sequence\nComponent\n2","Time\n2","Sequence\nComponent\n3","Time\n3","Sequence\nComponent\n4","Time\n4","Sequence\nComponent\n5","Time\n5","Correct?\n0=No 1=Yes","Sequence",null,"Frequency",null,"Relative Frequency","Variability",null,null,"Frequency",null,"Relative Frequency","Variability",null,"Frequency",null,"Relative Frequency","Variability",null,"Frequency",null,"Relative Frequency","Variability",null,"Frequency",null,"Relative Frequency","Variability",null,"Frequency",null,"Relative Frequency","Variability",null,"Frequency",null,"Relative Frequency","Variability"]
[11,15,12,20,23,28,null,null,null,null,0,112,null,111,{"$f":"COUNTIF($L$7:$L$500,N7)","v":0},{"$f":"O7/$Q$4","v":0},{"$f":"IF(P7=0,0,(P7*((LOG(P7))/LOG(2))))","v":0},null,null,{"$f":"N7","v":111},{"$f":"COUNTIF(L7:L16,T7)","v":0},{"$f":"U7/(W4-U10)","v":0},{"$f":"IF(V7=0,0,(V7*((LOG(V7))/LOG(2))))","v":0},null,{"$f":"N7","v":111},{"$f":"COUNTIF(L17:L26,Y7)","v":0},{"$f":"Z7/(AB4-Z10)","v":0},{"$f":"IF(AA7=0,0,(AA7*((LOG(AA7))/LOG(2))))","v":0},null,{"$f":"N7","v":111},{"$f":"COUNTIF(L27:L35,AD7)","v":0},{"$f":"AE7/(AG4-AE10)","v":0},{"$f":"IF(AF7=0,0,(AF7*((LOG(AF7))/LOG(2))))","v":0},null,{"$f":"N7","v":111},{"$f":"COUNTIF(L36:L45,AI7)","v":0},{"$f":"AJ7/(AL4-AJ10)","v":0},{"$f":"IF(AK7=0,0,(AK7*((LOG(AK7))/LOG(2))))","v":0},null,{"$f":"N7","v":111},{"$f":"COUNTIF(L46:L55,AN7)","v":0},{"$f":"AO7/(AQ4-AO10)","v":0},{"$f":"IF(AP7=0,0,(AP7*((LOG(AP7))/LOG(2))))","v":0},null,{"$f":"N7","v":111},{"$f":"COUNTIF(L56:L65,AS7)","v":0},{"$f":"AT7/(AV4-AT10)","v":0},{"$f":"IF(AU7=0,0,(AU7*((LOG(AU7))/LOG(2))))","v":0}]
[11,127,21,137,21,145,null,null,null,null,0,122,null,112,{"$f":"COUNTIF($L$7:$L$500,N8)","v":2},{"$f":"O8/$Q$4","v":3.3898305084745763E-2},{"$f":"IF(P8=0,0,(P8*((LOG(P8))/LOG(2))))","v":-0.16551332370718108},null,null,{"$f":"N8","v":112},{"$f":"COUNTIF(L7:L16,T8)","v":1},{"$f":"U8/(W4-U10)","v":0.33333333333333331},{"$f":"IF(V8=0,0,(V8*((LOG(V8))/LOG(2))))","v":-0.52832083357371862},null,{"$f":"N8","v":112},{"$f":"COUNTIF(L17:L26,Y8)","v":0},{"$f":"Z8/(AB4-Z10)","v":0},{"$f":"IF(AA8=0,0,(AA8*((LOG(AA8))/LOG(2))))","v":0},null,{"$f":"N8","v":112},{"$f":"COUNTIF(L27:L35,AD8)","v":0},{"$f":"AE8/(AG4-AE10)","v":0},{"$f":"IF(AF8=0,0,(AF8*((LOG(AF8))/LOG(2))))","v":0},null,{"$f":"N8","v":112},{"$f":"COUNTIF(L36:L45,AI8)","v":0},{"$f":"AJ8/(AL4-AJ10)","v":0},{"$f":"IF(AK8=0,0,(AK8*((LOG(AK8))/LOG(2))))","v":0},null,{"$f":"N8","v":112},{"$f":"COUNTIF(L46:L55,AN8)","v":0},{"$f":"AO8/(AQ4-AO10)","v":0},{"$f":"IF(AP8=0,0,(AP8*((LOG(AP8))/LOG(2))))","v":0},null,{"$f":"N8","v":112},{"$f":"COUNTIF(L56:L65,AS8)","v":1},{"$f":"AT8/(AV4-AT10)","v":0.25},{"$f":"IF(AU8=0,0,(AU8*((LOG(AU8))/LOG(2))))","v":-0.5}]
[11,233,21,244,21,248,null,null,null,null,0,122,null,121,{"$f":"COUNTIF($L$7:$L$500,N9)","v":0},{"$f":"O9/$Q$4","v":0},{"$f":"IF(P9=0,0,(P9*((LOG(P9))/LOG(2))))","v":0},null,null,{"$f":"N9","v":121},{"$f":"COUNTIF(L7:L16,T9)","v":0},{"$f":"U9/(W4-U10)","v":0},{"$f":"IF(V9=0,0,(V9*((LOG(V9))/LOG(2))))","v":0},null,{"$f":"N9","v":121},{"$f":"COUNTIF(L17:L26,Y9)","v":0},{"$f":"Z9/(AB4-Z10)","v":0},{"$f":"IF(AA9=0,0,(AA9*((LOG(AA9))/LOG(2))))","v":0},null,{"$f":"N9","v":121},{"$f":"COUNTIF(L27:L35,AD9)","v":0},{"$f":"AE9/(AG4-AE10)","v":0},{"$f":"IF(AF9=0,0,(AF9*((LOG(AF9))/LOG(2))))","v":0},null,{"$f":"N9","v":121},{"$f":"COUNTIF(L36:L45,AI9)","v":0},{"$f":"AJ9/(AL4-AJ10)","v":0},{"$f":"IF(AK9=0,0,(AK9*((LOG(AK9))/LOG(2))))","v":0},null,{"$f":"N9","v":121},{"$f":"COUNTIF(L46:L55,AN9)","v":0},{"$f":"AO9/(AQ4-AO10)","v":0},{"$f":"IF(AP9=0,0,(AP9*((LOG(AP9))/LOG(2))))","v":0},null,{"$f":"N9","v":121},{"$f":"COUNTIF(L56:L65,AS9)","v":0},{"$f":"AT9/(AV4-AT10)","v":0},{"$f":"IF(AU9=0,0,(AU9*((LOG(AU9))/LOG(2))))","v":0}]
[11,335,21,351,21,358,null,null,null,null,0,122,null,122,{"$f":"COUNTIF($L$7:$L$500,N10)","v":40},{"$f":"O10/$Q$4","v":0.67796610169491522},{"$f":"IF(P10=0,0,(P10*((LOG(P10))/LOG(2))))","v":-0.38014573184710437},null,null,{"$f":"N10","v":122},{"$f":"COUNTIF(L7:L16,T10)","v":7},null,null,null,{"$f":"N10","v":122},{"$f":"COUNTIF(L17:L26,Y10)","v":8},null,null,null,{"$f":"N10","v":122},{"$f":"COUNTIF(L27:L35,AD10)","v":8},null,null,null,{"$f":"N10","v":122},{"$f":"COUNTIF(L36:L45,AI10)","v":5},null,null,null,{"$f":"N10","v":122},{"$f":"COUNTIF(L46:L55,AN10)","v":6},null,null,null,{"$f":"N10","v":122},{"$f":"COUNTIF(L56:L65,AS10)","v":6}]
[11,443,21,455,21,462,null,null,null,null,0,122,null,211,{"$f":"COUNTIF($L$7:$L$500,N11)","v":0},{"$f":"O11/$Q$4","v":0},{"$f":"IF(P11=0,0,(P11*((LOG(P11))/LOG(2))))","v":0},null,null,{"$f":"N11","v":211},{"$f":"COUNTIF(L7:L16,T11)","v":0},{"$f":"U11/(W4-U10)","v":0},{"$f":"IF(V11=0,0,(V11*((LOG(V11))/LOG(2))))","v":0},null,{"$f":"N11","v":211},{"$f":"COUNTIF(L17:L26,Y11)","v":0},{"$f":"Z11/(AB4-Z10)","v":0},{"$f":"IF(AA11=0,0,(AA11*((LOG(AA11))/LOG(2))))","v":0},null,{"$f":"N11","v":211},{"$f":"COUNTIF(L27:L35,AD11)","v":0},{"$f":"AE11/(AG4-AE10)","v":0},{"$f":"IF(AF11=0,0,(AF11*((LOG(AF11))/LOG(2))))","v":0},null,{"$f":"N11","v":211},{"$f":"COUNTIF(L36:L45,AI11)","v":0},{"$f":"AJ11/(AL4-AJ10)","v":0},{"$f":"IF(AK11=0,0,(AK11*((LOG(AK11))/LOG(2))))","v":0},null,{"$f":"N11","v":211},{"$f":"COUNTIF(L46:L55,AN11)","v":0},{"$f":"AO11/(AQ4-AO10)","v":0},{"$f":"IF(AP11=0,0,(AP11*((LOG(AP11))/LOG(2))))","v":0},null,{"$f":"N11","v":211},{"$f":"COUNTIF(L56:L65,AS11)","v":0},{"$f":"AT11/(AV4-AT10)","v":0},{"$f":"IF(AU11=0,0,(AU11*((LOG(AU11))/LOG(2))))","v":0}]
[11,548,21,557,21,562,null,null,null,null,0,122,null,212,{"$f":"COUNTIF($L$7:$L$500,N12)","v":0},{"$f":"O12/$Q$4","v":0},{"$f":"IF(P12=0,0,(P12*((LOG(P12))/LOG(2))))","v":0},null,null,{"$f":"N12","v":212},{"$f":"COUNTIF(L7:L16,T12)","v":0},{"$f":"U12/(W4-U10)","v":0},{"$f":"IF(V12=0,0,(V12*((LOG(V12))/LOG(2))))","v":0},null,{"$f":"N12","v":212},{"$f":"COUNTIF(L17:L26,Y12)","v":0},{"$f":"Z12/(AB4-Z10)","v":0},{"$f":"IF(AA12=0,0,(AA12*((LOG(AA12))/LOG(2))))","v":0},null,{"$f":"N12","v":212},{"$f":"COUNTIF(L27:L35,AD12)","v":0},{"$f":"AE12/(AG4-AE10)","v":0},{"$f":"IF(AF12=0,0,(AF12*((LOG(AF12))/LOG(2))))","v":0},null,{"$f":"N12","v":212},{"$f":"COUNTIF(L36:L45,AI12)","v":0},{"$f":"AJ12/(AL4-AJ10)","v":0},{"$f":"IF(AK12=0,0,(AK12*((LOG(AK12))/LOG(2))))","v":0},null,{"$f":"N12","v":212},{"$f":"COUNTIF(L46:L55,AN12)","v":0},{"$f":"AO12/(AQ4-AO10)","v":0},{"$f":"IF(AP12=0,0,(AP12*((LOG(AP12))/LOG(2))))","v":0},null,{"$f":"N12","v":212},{"$f":"COUNTIF(L56:L65,AS12)","v":0},{"$f":"AT12/(AV4-AT10)","v":0},{"$f":"IF(AU12=0,0,(AU12*((LOG(AU12))/LOG(2))))","v":0}]
[22,654,23,661,23,676,null,null,null,null,0,222,null,221,{"$f":"COUNTIF($L$7:$L$500,N13)","v":0},{"$f":"O13/$Q$4","v":0},{"$f":"IF(P13=0,0,(P13*((LOG(P13))/LOG(2))))","v":0},null,null,{"$f":"N13","v":221},{"$f":"COUNTIF(L7:L16,T13)","v":0},{"$f":"U13/(W4-U10)","v":0},{"$f":"IF(V13=0,0,(V13*((LOG(V13))/LOG(2))))","v":0},null,{"$f":"N13","v":221},{"$f":"COUNTIF(L17:L26,Y13)","v":0},{"$f":"Z13/(AB4-Z10)","v":0},{"$f":"IF(AA13=0,0,(AA13*((LOG(AA13))/LOG(2))))","v":0},null,{"$f":"N13","v":221},{"$f":"COUNTIF(L27:L35,AD13)","v":0},{"$f":"AE13/(AG4-AE10)","v":0},{"$f":"IF(AF13=0,0,(AF13*((LOG(AF13))/LOG(2))))","v":0},null,{"$f":"N13","v":221},{"$f":"COUNTIF(L36:L45,AI13)","v":0},{"$f":"AJ13/(AL4-AJ10)","v":0},{"$f":"IF(AK13=0,0,(AK13*((LOG(AK13))/LOG(2))))","v":0},null,{"$f":"N13","v":221},{"$f":"COUNTIF(L46:L55,AN13)","v":0},{"$f":"AO13/(AQ4-AO10)","v":0},{"$f":"IF(AP13=0,0,(AP13*((LOG(AP13))/LOG(2))))","v":0},null,{"$f":"N13","v":221},{"$f":"COUNTIF(L56:L65,AS13)","v":0},{"$f":"AT13/(AV4-AT10)","v":0},{"$f":"IF(AU13=0,0,(AU13*((LOG(AU13))/LOG(2))))","v":0}]
[11,773,21,785,21,792,null,null,null,null,0,122,null,222,{"$f":"COUNTIF($L$7:$L$500,N14)","v":17},{"$f":"O14/$Q$4","v":0.28813559322033899},{"$f":"IF(P14=0,0,(P14*((LOG(P14))/LOG(2))))","v":-0.51725531420161919},null,null,{"$f":"N14","v":222},{"$f":"COUNTIF(L7:L16,T14)","v":2},{"$f":"U14/(W4-U10)","v":0.66666666666666663},{"$f":"IF(V14=0,0,(V14*((LOG(V14))/LOG(2))))","v":-0.38997500048077083},null,{"$f":"N14","v":222},{"$f":"COUNTIF(L17:L26,Y14)","v":2},{"$f":"Z14/(AB4-Z10)","v":1},{"$f":"IF(AA14=0,0,(AA14*((LOG(AA14))/LOG(2))))","v":0},null,{"$f":"N14","v":222},{"$f":"COUNTIF(L27:L35,AD14)","v":1},{"$f":"AE14/(AG4-AE10)","v":1},{"$f":"IF(AF14=0,0,(AF14*((LOG(AF14))/LOG(2))))","v":0},null,{"$f":"N14","v":222},{"$f":"COUNTIF(L36:L45,AI14)","v":5},{"$f":"AJ14/(AL4-AJ10)","v":1},{"$f":"IF(AK14=0,0,(AK14*((LOG(AK14))/LOG(2))))","v":0},null,{"$f":"N14","v":222},{"$f":"COUNTIF(L46:L55,AN14)","v":4},{"$f":"AO14/(AQ4-AO10)","v":1},{"$f":"IF(AP14=0,0,(AP14*((LOG(AP14))/LOG(2))))","v":0},null,{"$f":"N14","v":222},{"$f":"COUNTIF(L56:L65,AS14)","v":3},{"$f":"AT14/(AV4-AT10)","v":0.75},{"$f":"IF(AU14=0,0,(AU14*((LOG(AU14))/LOG(2))))","v":-0.31127812445913283}]
[11,877,21,888,21,892,null,null,null,null,0,122,null,null,null,{"$f":"SUM(P7:P14)","v":1},{"$f":"-SUM(Q7:Q14)","v":1.0629143697559047},null,null,null,null,{"$f":"SUM(V7:V14)","v":1},{"$f":"-SUM(W7:W14)","v":0.91829583405448945},null,null,null,{"$f":"SUM(AA7:AA14)","v":1},{"$f":"-SUM(AB7:AB14)","v":0},null,null,null,{"$f":"SUM(AF7:AF14)","v":1},{"$f":"-SUM(AG7:AG14)","v":0},null,null,null,{"$f":"SUM(AK7:AK14)","v":1},{"$f":"-SUM(AL7:AL14)","v":0},null,null,null,{"$f":"SUM(AP7:AP14)","v":1},{"$f":"-SUM(AQ7:AQ14)","v":0},null,null,null,{"$f":"SUM(AU7:AU14)","v":1},{"$f":"-SUM(AV7:AV14)","v":0.81127812445913283}]
[22,985,23,992,23,1002,null,null,null,null,0,222,null,null,null,"U=",{"$f":"Q15/(LOG(Q4)/LOG(2))","v":0.1806865316893928},null,null,null,null,"U1=",{"$f":"W15/(LOG(W4)/LOG(2))","v":0.27643459094367495},null,null,null,"U2=",{"$f":"AB15/(LOG(AB4)/LOG(2))","v":0},null,null,null,"U3=",{"$f":"AG15/(LOG(AG4)/LOG(2))","v":0},null,null,null,"U4=",{"$f":"AL15/(LOG(AL4)/LOG(2))","v":0},null,null,null,"U5=",{"$f":"AQ15/(LOG(AQ4)/LOG(2))","v":0},null,null,null,"U6=",{"$f":"AV15/(LOG(AV4)/LOG(2))","v":0.24421905028821556}]
[22,1110,23,1115,23,1126,null,null,null,null,0,222]
[11,1220,21,1231,21,1236,null,null,null,null,0,122]
[11,1321,21,1332,21,1340,null,null,null,null,0,122,null,"Total Target Seq"]
[11,1425,21,1436,21,1441,null,null,null,null,0,122,null,{"$f":"COUNTIF(L7:L65,G3)","v":40},null,10,10,9,10,10,10]
[11,1528,21,1537,21,1542,null,null,null,null,0,122,null,null,null,"% of reinforcement given in 6 equal intervals based on number of trials "]
[22,1638,23,1668,23,1678,null,null,null,null,0,222,null,null,null,"%_1","%_2","%_3","%_4","%_5","%_6"]
[11,1774,21,1786,21,1795,null,null,null,null,0,122,null,null,"target sequence",{"$f":"$G$3","v":122},{"$f":"$G$3","v":122},{"$f":"$G$3","v":122},{"$f":"$G$3","v":122},{"$f":"$G$3","v":122},{"$f":"$G$3","v":122}]
[11,1878,21,1888,21,1896,null,null,null,null,0,122,null,null,"total reinforcement",{"$f":"U10","v":7},{"$f":"Z10","v":8},{"$f":"AE10","v":8},{"$f":"AJ10","v":5},{"$f":"AO10","v":6},{"$f":"AT10","v":6}]
[11,1980,21,1991,21,2000,null,null,null,null,0,122,null,null,"% target"]
[11,2085,21,2096,21,2104,null,null,null,null,0,122,null,null,"CCRF"]
[22,2200,23,2207,23,2227,null,null,null,null,0,222,null,null,"% CCRf"]
[11,2322,21,2331,21,2335,null,null,null,null,0,122,null,null,"average response rate",{"$f":"F16/P20","v":100.2},{"$f":"(F26-F16)/Q20","v":110.2},{"$f":"(F35-F26)/R20","v":108.44444444444444},{"$f":"(F45-F35)/S20","v":117.2},{"$f":"(F55-F45)/T20","v":109.9},{"$f":"(F65-F55)/U20","v":110.2}]
[11,2418,21,2428,21,2445,null,null,null,null,0,122]
[11,2531,21,2542,21,2558,null,null,null,null,0,122]
[11,2644,21,2654,21,2661,null,null,null,null,0,122]
[11,2747,21,2756,21,2761,null,null,null,null,0,122]
[11,2848,21,2858,21,2863,null,null,null,null,0,122]
[11,2954,21,2973,21,2981,null,null,null,null,0,122]
[11,3065,21,3076,21,3080,null,null,null,null,0,122]
[22,3175,23,3180,23,3213,null,null,null,null,0,222]
[11,3309,21,3319,21,3324,null,null,null,null,0,122]
[11,3410,21,3420,21,3426,null,null,null,null,0,122]
[11,3511,21,3523,21,3528,null,null,null,null,0,122]
[11,3613,21,3623,21,3643,null,null,null,null,0,122]
[22,3739,23,3743,23,3755,null,null,null,null,0,222]
[22,3859,23,3876,23,3886,null,null,null,null,0,222]
[11,3982,21,3992,21,3997,null,null,null,null,0,122]
[22,4103,23,4121,23,4129,null,null,null,null,0,222]
[22,4234,23,4241,23,4252,null,null,null,null,0,222]
[22,4360,23,4365,23,4372,null,null,null,null,0,222]
[11,4467,21,4478,21,4484,null,null,null,null,0,122]
[22,4578,23,4584,23,4592,null,null,null,null,0,222]
[11,4686,21,4697,21,4704,null,null,null,null,0,122]
[11,4792,21,4803,21,4810,null,null,null,null,0,122]
[11,4896,21,4906,21,4921,null,null,null,null,0,122]
[11,5004,21,5014,21,5019,null,null,null,null,0,122]
[22,5117,23,5124,23,5131,null,null,null,null,0,222]
[11,5224,21,5234,21,5242,null,null,null,null,0,122]
[22,5337,23,5341,23,5351,null,null,null,null,0,222]
[11,5446,21,5457,21,5462,null,null,null,null,0,122]
[22,5557,23,5572,23,5580,null,null,null,null,0,222]
[11,5672,12,5675,23,5686,null,null,null,null,0,112]
[22,5793,23,5800,23,5817,null,null,null,null,0,222]
[11,5913,21,5924,21,5932,null,null,null,null,0,122]
[11,6014,21,6024,21,6028,null,null,null,null,0,122]
[22,6123,23,6130,23,6137,null,null,null,null,0,222]
[11,6232,21,6242,21,6249,null,null,null,null,0,122]
[11,6333,21,6343,21,6350,null,null,null,null,0,122]
[11,6437,21,6445,21,6453,null,null,null,null,1,122]

{"sheet":"!M811950.104","index":30,"n_rows":70,"n_cols":48,"rows_kept":70,"cut":false,"hidden":false,"merged":[[4,39,4,42],[5,39,5,40],[4,44,4,47],[5,44,5,45],[4,24,4,27],[5,24,5,25],[4,29,4,32],[5,29,5,30],[4,34,4,37],[5,34,5,35],[1,1,1,2],[5,13,5,14],[18,13,18,14],[19,13,19,14],[4,19,4,22],[5,19,5,20]]}
["Report for:!M811950.104"]
["Date:","<date>"]
["Hen:","<hen>",null,null,null,"Correct Sequence",{"$f":"Start!J2","v":122},null,null,null,null,null,null,null,null,"Total Sequences in Data",{"$f":"4994-COUNTBLANK(L7:L5000)","v":64},null,null,null,null,"Total Sequences in Block Data",{"$f":"COUNTA(L7:L17)","v":11},null,null,null,"Total Sequences in Block Data",{"$f":"COUNTA(L18:L27)","v":10},null,null,null,"Total Sequences in Block Data",{"$f":"COUNTA(L28:L38)","v":11},null,null,null,"Total Sequences in Block Data",{"$f":"COUNTA(L39:L49)","v":11},null,null,null,"Total Sequences in Block Data",{"$f":"COUNTA(L50:L59)","v":10},null,null,null,"Total Sequences in Block Data",{"$f":"COUNTA(L60:L70)","v":11}]
[null,null,null,null,null,null,null,null,null,null,null,null,null,null,null,"Total Sequences in Summary",{"$f":"SUM(O7:O14)","v":64},null,null,null,null,"Total Sequences in Block Summary",{"$f":"SUM(U7:U14)","v":11},null,null,null,"Total Sequences in Block Summary",{"$f":"SUM(Z7:Z14)","v":10},null,null,null,"Total Sequences in Block Summary",{"$f":"SUM(AE7:AE14)","v":11},null,null,null,"Total Sequences in Block Summary",{"$f":"SUM(AJ7:AJ14)","v":11},null,null,null,"Total Sequences in Block Summary",{"$f":"SUM(AO7:AO14)","v":10},null,null,null,"Total Sequences in Block Summary",{"$f":"SUM(AT7:AT14)","v":11}]
[null,null,null,null,null,null,null,null,null,null,null,null,null,null,null,null,null,null,null,"Block 1",null,null,null,null,"Block 2",null,null,null,null,"Block 3",null,null,null,null,"Block 4",null,null,null,null,"Block 5",null,null,null,null,"Block 6"]
["Sequence\nComponent\n1","Time\n1","Sequence\nComponent\n2","Time\n2","Sequence\nComponent\n3","Time\n3","Sequence\nComponent\n4","Time\n4","Sequence\nComponent\n5","Time\n5","Correct?\n0=No 1=Yes","Sequence",null,"Frequency",null,"Relative Frequency","Variability",null,null,"Frequency",null,"Relative Frequency","Variability",null,"Frequency",null,"Relative Frequency","Variability",null,"Frequency",null,"Relative Frequency","Variability",null,"Frequency",null,"Relative Frequency","Variability",null,"Frequency",null,"Relative Frequency","Variability",null,"Frequency",null,"Relative Frequency","Variability"]
[22,12,14,32,14,41,null,null,null,null,0,211,null,111,{"$f":"COUNTIF($L$7:$L$500,N7)","v":0},{"$f":"O7/$Q$4","v":0},{"$f":"IF(P7=0,0,(P7*((LOG(P7))/LOG(2))))","v":0},null,null,{"$f":"N7","v":111},{"$f":"COUNTIF(L7:L17,T7)","v":0},{"$f":"U7/(W4-U10)","v":0},{"$f":"IF(V7=0,0,(V7*((LOG(V7))/LOG(2))))","v":0},null,{"$f":"N7","v":111},{"$f":"COUNTIF(L18:L27,Y7)","v":0},{"$f":"Z7/(AB4-Z10)","v":0},{"$f":"IF(AA7=0,0,(AA7*((LOG(AA7))/LOG(2))))","v":0},null,{"$f":"N7","v":111},{"$f":"COUNTIF(L28:L38,AD7)","v":0},{"$f":"AE7/(AG4-AE10)","v":0},{"$f":"IF(AF7=0,0,(AF7*((LOG(AF7))/LOG(2))))","v":0},null,{"$f":"N7","v":111},{"$f":"COUNTIF(L39:L49,AI7)","v":0},{"$f":"AJ7/(AL4-AJ10)","v":0},{"$f":"IF(AK7=0,0,(AK7*((LOG(AK7))/LOG(2))))","v":0},null,{"$f":"N7","v":111},{"$f":"COUNTIF(L50:L59,AN7)","v":0},{"$f":"AO7/(AQ4-AO10)","v":0},{"$f":"IF(AP7=0,0,(AP7*((LOG(AP7))/LOG(2))))","v":0},null,{"$f":"N7","v":111},{"$f":"COUNTIF(L60:L70,AS7)","v":0},{"$f":"AT7/(AV4-AT10)","v":0},{"$f":"IF(AU7=0,0,(AU7*((LOG(AU7))/LOG(2))))","v":0}]
[22,146,23,151,23,164,null,null,null,null,0,222,null,112,{"$f":"COUNTIF($L$7:$L$500,N8)","v":0},{"$f":"O8/$Q$4","v":0},{"$f":"IF(P8=0,0,(P8*((LOG(P8))/LOG(2))))","v":0},null,null,{"$f":"N8","v":112},{"$f":"COUNTIF(L7:L17,T8)","v":0},{"$f":"U8/(W4-U10)","v":0},{"$f":"IF(V8=0,0,(V8*((LOG(V8))/LOG(2))))","v":0},null,{"$f":"N8","v":112},{"$f":"COUNTIF(L18:L27,Y8)","v":0},{"$f":"Z8/(AB4-Z10)","v":0},{"$f":"IF(AA8=0,0,(AA8*((LOG(AA8))/LOG(2))))","v":0},null,{"$f":"N8","v":112},{"$f":"COUNTIF(L28:L38,AD8)","v":0},{"$f":"AE8/(AG4-AE10)","v":0},{"$f":"IF(AF8=0,0,(AF8*((LOG(AF8))/LOG(2))))","v":0},null,{"$f":"N8","v":112},{"$f":"COUNTIF(L39:L49,AI8)","v":0},{"$f":"AJ8/(AL4-AJ10)","v":0},{"$f":"IF(AK8=0,0,(AK8*((LOG(AK8))/LOG(2))))","v":0},null,{"$f":"N8","v":112},{"$f":"COUNTIF(L50:L59,AN8)","v":0},{"$f":"AO8/(AQ4-AO10)","v":0},{"$f":"IF(AP8=0,0,(AP8*((LOG(AP8))/LOG(2))))","v":0},null,{"$f":"N8","v":112},{"$f":"COUNTIF(L60:L70,AS8)","v":0},{"$f":"AT8/(AV4-AT10)","v":0},{"$f":"IF(AU8=0,0,(AU8*((LOG(AU8))/LOG(2))))","v":0}]
[11,260,21,269,21,274,null,null,null,null,0,122,null,121,{"$f":"COUNTIF($L$7:$L$500,N9)","v":0},{"$f":"O9/$Q$4","v":0},{"$f":"IF(P9=0,0,(P9*((LOG(P9))/LOG(2))))","v":0},null,null,{"$f":"N9","v":121},{"$f":"COUNTIF(L7:L17,T9)","v":0},{"$f":"U9/(W4-U10)","v":0},{"$f":"IF(V9=0,0,(V9*((LOG(V9))/LOG(2))))","v":0},null,{"$f":"N9","v":121},{"$f":"COUNTIF(L18:L27,Y9)","v":0},{"$f":"Z9/(AB4-Z10)","v":0},{"$f":"IF(AA9=0,0,(AA9*((LOG(AA9))/LOG(2))))","v":0},null,{"$f":"N9","v":121},{"$f":"COUNTIF(L28:L38,AD9)","v":0},{"$f":"AE9/(AG4-AE10)","v":0},{"$f":"IF(AF9=0,0,(AF9*((LOG(AF9))/LOG(2))))","v":0},null,{"$f":"N9","v":121},{"$f":"COUNTIF(L39:L49,AI9)","v":0},{"$f":"AJ9/(AL4-AJ10)","v":0},{"$f":"IF(AK9=0,0,(AK9*((LOG(AK9))/LOG(2))))","v":0},null,{"$f":"N9","v":121},{"$f":"COUNTIF(L50:L59,AN9)","v":0},{"$f":"AO9/(AQ4-AO10)","v":0},{"$f":"IF(AP9=0,0,(AP9*((LOG(AP9))/LOG(2))))","v":0},null,{"$f":"N9","v":121},{"$f":"COUNTIF(L60:L70,AS9)","v":0},{"$f":"AT9/(AV4-AT10)","v":0},{"$f":"IF(AU9=0,0,(AU9*((LOG(AU9))/LOG(2))))","v":0}]
[11,360,21,369,21,376,null,null,null,null,0,122,null,122,{"$f":"COUNTIF($L$7:$L$500,N10)","v":39},{"$f":"O10/$Q$4","v":0.609375},{"$f":"IF(P10=0,0,(P10*((LOG(P10))/LOG(2))))","v":-0.43545802288081747},null,null,{"$f":"N10","v":122},{"$f":"COUNTIF(L7:L17,T10)","v":8},null,null,null,{"$f":"N10","v":122},{"$f":"COUNTIF(L18:L27,Y10)","v":6},null,null,null,{"$f":"N10","v":122},{"$f":"COUNTIF(L28:L38,AD10)","v":9},null,null,null,{"$f":"N10","v":122},{"$f":"COUNTIF(L39:L49,AI10)","v":5},null,null,null,{"$f":"N10","v":122},{"$f":"COUNTIF(L50:L59,AN10)","v":3},null,null,null,{"$f":"N10","v":122},{"$f":"COUNTIF(L60:L70,AS10)","v":8}]
[11,471,21,482,21,487,null,null,null,null,0,122,null,211,{"$f":"COUNTIF($L$7:$L$500,N11)","v":1},{"$f":"O11/$Q$4","v":1.5625E-2},{"$f":"IF(P11=0,0,(P11*((LOG(P11))/LOG(2))))","v":-9.375E-2},null,null,{"$f":"N11","v":211},{"$f":"COUNTIF(L7:L17,T11)","v":1},{"$f":"U11/(W4-U10)","v":0.33333333333333331},{"$f":"IF(V11=0,0,(V11*((LOG(V11))/LOG(2))))","v":-0.52832083357371862},null,{"$f":"N11","v":211},{"$f":"COUNTIF(L18:L27,Y11)","v":0},{"$f":"Z11/(AB4-Z10)","v":0},{"$f":"IF(AA11=0,0,(AA11*((LOG(AA11))/LOG(2))))","v":0},null,{"$f":"N11","v":211},{"$f":"COUNTIF(L28:L38,AD11)","v":0},{"$f":"AE11/(AG4-AE10)","v":0},{"$f":"IF(AF11=0,0,(AF11*((LOG(AF11))/LOG(2))))","v":0},null,{"$f":"N11","v":211},{"$f":"COUNTIF(L39:L49,AI11)","v":0},{"$f":"AJ11/(AL4-AJ10)","v":0},{"$f":"IF(AK11=0,0,(AK11*((LOG(AK11))/LOG(2))))","v":0},null,{"$f":"N11","v":211},{"$f":"COUNTIF(L50:L59,AN11)","v":0},{"$f":"AO11/(AQ4-AO10)","v":0},{"$f":"IF(AP11=0,0,(AP11*((LOG(AP11))/LOG(2))))","v":0},null,{"$f":"N11","v":211},{"$f":"COUNTIF(L60:L70,AS11)","v":0},{"$f":"AT11/(AV4-AT10)","v":0},{"$f":"IF(AU11=0,0,(AU11*((LOG(AU11))/LOG(2))))","v":0}]
[11,574,21,584,21,590,null,null,null,null,0,122,null,212,{"$f":"COUNTIF($L$7:$L$500,N12)","v":0},{"$f":"O12/$Q$4","v":0},{"$f":"IF(P12=0,0,(P12*((LOG(P12))/LOG(2))))","v":0},null,null,{"$f":"N12","v":212},{"$f":"COUNTIF(L7:L17,T12)","v":0},{"$f":"U12/(W4-U10)","v":0},{"$f":"IF(V12=0,0,(V12*((LOG(V12))/LOG(2))))","v":0},null,{"$f":"N12","v":212},{"$f":"COUNTIF(L18:L27,Y12)","v":0},{"$f":"Z12/(AB4-Z10)","v":0},{"$f":"IF(AA12=0,0,(AA12*((LOG(AA12))/LOG(2))))","v":0},null,{"$f":"N12","v":212},{"$f":"COUNTIF(L28:L38,AD12)","v":0},{"$f":"AE12/(AG4-AE10)","v":0},{"$f":"IF(AF12=0,0,(AF12*((LOG(AF12))/LOG(2))))","v":0},null,{"$f":"N12","v":212},{"$f":"COUNTIF(L39:L49,AI12)","v":0},{"$f":"AJ12/(AL4-AJ10)","v":0},{"$f":"IF(AK12=0,0,(AK12*((LOG(AK12))/LOG(2))))","v":0},null,{"$f":"N12","v":212},{"$f":"COUNTIF(L50:L59,AN12)","v":0},{"$f":"AO12/(AQ4-AO10)","v":0},{"$f":"IF(AP12=0,0,(AP12*((LOG(AP12))/LOG(2))))","v":0},null,{"$f":"N12","v":212},{"$f":"COUNTIF(L60:L70,AS12)","v":0},{"$f":"AT12/(AV4-AT10)","v":0},{"$f":"IF(AU12=0,0,(AU12*((LOG(AU12))/LOG(2))))","v":0}]
[11,679,21,688,21,696,null,null,null,null,0,122,null,221,{"$f":"COUNTIF($L$7:$L$500,N13)","v":5},{"$f":"O13/$Q$4","v":7.8125E-2},{"$f":"IF(P13=0,0,(P13*((LOG(P13))/LOG(2))))","v":-0.28734936758692481},null,null,{"$f":"N13","v":221},{"$f":"COUNTIF(L7:L17,T13)","v":0},{"$f":"U13/(W4-U10)","v":0},{"$f":"IF(V13=0,0,(V13*((LOG(V13))/LOG(2))))","v":0},null,{"$f":"N13","v":221},{"$f":"COUNTIF(L18:L27,Y13)","v":2},{"$f":"Z13/(AB4-Z10)","v":0.5},{"$f":"IF(AA13=0,0,(AA13*((LOG(AA13))/LOG(2))))","v":-0.5},null,{"$f":"N13","v":221},{"$f":"COUNTIF(L28:L38,AD13)","v":0},{"$f":"AE13/(AG4-AE10)","v":0},{"$f":"IF(AF13=0,0,(AF13*((LOG(AF13))/LOG(2))))","v":0},null,{"$f":"N13","v":221},{"$f":"COUNTIF(L39:L49,AI13)","v":2},{"$f":"AJ13/(AL4-AJ10)","v":0.33333333333333331},{"$f":"IF(AK13=0,0,(AK13*((LOG(AK13))/LOG(2))))","v":-0.52832083357371862},null,{"$f":"N13","v":221},{"$f":"COUNTIF(L50:L59,AN13)","v":1},{"$f":"AO13/(AQ4-AO10)","v":0.14285714285714285},{"$f":"IF(AP13=0,0,(AP13*((LOG(AP13))/LOG(2))))","v":-0.40105070315108626},null,{"$f":"N13","v":221},{"$f":"COUNTIF(L60:L70,AS13)","v":0},{"$f":"AT13/(AV4-AT10)","v":0},{"$f":"IF(AU13=0,0,(AU13*((LOG(AU13))/LOG(2))))","v":0}]
[11,783,21,792,21,797,null,null,null,null,0,122,null,222,{"$f":"COUNTIF($L$7:$L$500,N14)","v":19},{"$f":"O14/$Q$4","v":0.296875},{"$f":"IF(P14=0,0,(P14*((LOG(P14))/LOG(2))))","v":-0.52014651944643553},null,null,{"$f":"N14","v":222},{"$f":"COUNTIF(L7:L17,T14)","v":2},{"$f":"U14/(W4-U10)","v":0.66666666666666663},{"$f":"IF(V14=0,0,(V14*((LOG(V14))/LOG(2))))","v":-0.38997500048077083},null,{"$f":"N14","v":222},{"$f":"COUNTIF(L18:L27,Y14)","v":2},{"$f":"Z14/(AB4-Z10)","v":0.5},{"$f":"IF(AA14=0,0,(AA14*((LOG(AA14))/LOG(2))))","v":-0.5},null,{"$f":"N14","v":222},{"$f":"COUNTIF(L28:L38,AD14)","v":2},{"$f":"AE14/(AG4-AE10)","v":1},{"$f":"IF(AF14=0,0,(AF14*((LOG(AF14))/LOG(2))))","v":0},null,{"$f":"N14","v":222},{"$f":"COUNTIF(L39:L49,AI14)","v":4},{"$f":"AJ14/(AL4-AJ10)","v":0.66666666666666663},{"$f":"IF(AK14=0,0,(AK14*((LOG(AK14))/LOG(2))))","v":-0.38997500048077083},null,{"$f":"N14","v":222},{"$f":"COUNTIF(L50:L59,AN14)","v":6},{"$f":"AO14/(AQ4-AO10)","v":0.8571428571428571},{"$f":"IF(AP14=0,0,(AP14*((LOG(AP14))/LOG(2))))","v":-0.19062207543124113},null,{"$f":"N14","v":222},{"$f":"COUNTIF(L60:L70,AS14)","v":3},{"$f":"AT14/(AV4-AT10)","v":1},{"$f":"IF(AU14=0,0,(AU14*((LOG(AU14))/LOG(2))))","v":0}]
[22,889,23,894,23,904,null,null,null,null,0,222,null,null,null,{"$f":"SUM(P7:P14)","v":1},{"$f":"-SUM(Q7:Q14)","v":1.3367039099141778},null,null,null,null,{"$f":"SUM(V7:V14)","v":1},{"$f":"-SUM(W7:W14)","v":0.91829583405448945},null,null,null,{"$f":"SUM(AA7:AA14)","v":1},{"$f":"-SUM(AB7:AB14)","v":1},null,null,null,{"$f":"SUM(AF7:AF14)","v":1},{"$f":"-SUM(AG7:AG14)","v":0},null,null,null,{"$f":"SUM(AK7:AK14)","v":1},{"$f":"-SUM(AL7:AL14)","v":0.91829583405448945},null,null,null,{"$f":"SUM(AP7:AP14)","v":1},{"$f":"-SUM(AQ7:AQ14)","v":0.59167277858232736},null,null,null,{"$f":"SUM(AU7:AU14)","v":1},{"$f":"-SUM(AV7:AV14)","v":0}]
[11,1000,21,1010,21,1014,null,null,null,null,0,122,null,null,null,"U=",{"$f":"Q15/(LOG(Q4)/LOG(2))","v":0.22278398498569629},null,null,null,null,"U1=",{"$f":"W15/(LOG(W4)/LOG(2))","v":0.26544702577940094},null,null,null,"U2=",{"$f":"AB15/(LOG(AB4)/LOG(2))","v":0.3010299956639812},null,null,null,"U3=",{"$f":"AG15/(LOG(AG4)/LOG(2))","v":0},null,null,null,"U4=",{"$f":"AL15/(LOG(AL4)/LOG(2))","v":0.26544702577940094},null,null,null,"U5=",{"$f":"AQ15/(LOG(AQ4)/LOG(2))","v":0.17811125397113373},null,null,null,"U6=",{"$f":"AV15/(LOG(AV4)/LOG(2))","v":0}]
[11,1102,21,1111,21,1116,null,null,null,null,0,122]
[22,1210,23,1216,14,1235,null,null,null,null,0,221]
[11,1320,21,1331,21,1336,null,null,null,null,0,122,null,"Total Target Seq"]
[11,1422,21,1430,21,1435,null,null,null,null,0,122,null,{"$f":"COUNTIF(L7:L70,G3)","v":39},null,11,10,11,11,10,11]
[22,1527,23,1531,23,1555,null,null,null,null,0,222,null,null,null,"% of reinforcement given in 6 equal intervals based on number of trials "]
[11,1650,21,1659,21,1664,null,null,null,null,0,122,null,null,null,"%_1","%_2","%_3","%_4","%_5","%_6"]
[11,1749,21,1759,21,1763,null,null,null,null,0,122,null,null,"target sequence",{"$f":"$G$3","v":122},{"$f":"$G$3","v":122},{"$f":"$G$3","v":122},{"$f":"$G$3","v":122},{"$f":"$G$3","v":122},{"$f":"$G$3","v":122}]
[11,1852,21,1862,21,1867,null,null,null,null,0,122,null,null,"total reinforcement",{"$f":"U10","v":8},{"$f":"Z10","v":6},{"$f":"AE10","v":9},{"$f":"AJ10","v":5},{"$f":"AO10","v":3},{"$f":"AT10","v":8}]
[22,1964,23,1971,23,1990,null,null,null,null,0,222,null,null,"% target"]
[22,2092,23,2099,14,2117,null,null,null,null,0,221,null,null,"CCRF"]
[11,2214,21,2226,21,2233,null,null,null,null,0,122,null,null,"% CCRf"]
[11,2316,21,2327,21,2334,null,null,null,null,0,122,null,null,"average response rate",{"$f":"F17/P20","v":101.45454545454545},{"$f":"(F27-F17)/Q20","v":111.7},{"$f":"(F38-F27)/R20","v":108.72727272727273},{"$f":"(F49-F38)/S20","v":118.27272727272727},{"$f":"(F59-F49)/T20","v":121.7},{"$f":"(F70-F59)/U20","v":108.54545454545455}]
[22,2429,23,2436,23,2448,null,null,null,null,0,222]
[11,2541,21,2550,21,2555,null,null,null,null,0,122]
[11,2639,21,2649,21,2683,null,null,null,null,0,122]
[11,2770,21,2780,21,2788,null,null,null,null,0,122]
[11,2872,21,2882,21,2898,null,null,null,null,0,122]
[22,2993,23,3001,23,3012,null,null,null,null,0,222]
[11,3105,21,3114,21,3129,null,null,null,null,0,122]
[11,3214,21,3222,21,3228,null,null,null,null,0,122]
[11,3313,21,3322,21,3328,null,null,null,null,0,122]
[11,3413,21,3421,21,3429,null,null,null,null,0,122]
[22,3523,23,3538,23,3568,null,null,null,null,0,222]
[22,3672,23,3676,23,3694,null,null,null,null,0,222]
[22,3797,23,3801,14,3817,null,null,null,null,0,221]
[11,3912,21,3921,21,3926,null,null,null,null,0,122]
[22,4019,23,4026,23,4035,null,null,null,null,0,222]
[11,4132,21,4140,21,4157,null,null,null,null,0,122]
[11,4241,21,4251,21,4258,null,null,null,null,0,122]
[22,4353,23,4361,14,4379,null,null,null,null,0,221]
[11,4474,21,4484,21,4493,null,null,null,null,0,122]
[22,4585,23,4592,23,4619,null,null,null,null,0,222]
[11,4714,21,4724,21,4730,null,null,null,null,0,122]
[22,4826,23,4834,23,4845,null,null,null,null,0,222]
[22,4947,23,4953,23,4981,null,null,null,null,0,222]
[22,5085,23,5097,14,5111,null,null,null,null,0,221]
[11,5208,21,5220,21,5237,null,null,null,null,0,122]
[11,5321,21,5331,21,5347,null,null,null,null,0,122]
[22,5444,23,5453,23,5460,null,null,null,null,0,222]
[22,5574,23,5583,23,5593,null,null,null,null,0,222]
[22,5704,23,5709,23,5720,null,null,null,null,0,222]
[22,5823,23,5831,23,5838,null,null,null,null,0,222]
[11,5933,21,5942,21,5947,null,null,null,null,0,122]
[11,6033,21,6043,21,6048,null,null,null,null,0,122]
[22,6139,23,6143,23,6151,null,null,null,null,0,222]
[11,6247,21,6259,21,6272,null,null,null,null,0,122]
[11,6357,21,6368,21,6373,null,null,null,null,0,122]
[22,6465,23,6470,23,6480,null,null,null,null,0,222]
[11,6574,21,6585,21,6590,null,null,null,null,0,122]
[11,6675,21,6687,21,6695,null,null,null,null,0,122]
[11,6781,21,6791,21,6796,null,null,null,null,0,122]
[22,6891,23,6895,23,6916,null,null,null,null,0,222]
[11,7011,21,7022,21,7026,null,null,null,null,0,122]
[11,7126,21,7136,21,7141,null,null,null,null,1,122]

{"sheet":"!M812B00.104","index":31,"n_rows":56,"n_cols":48,"rows_kept":56,"cut":false,"hidden":false,"merged":[[4,39,4,42],[5,39,5,40],[4,44,4,47],[5,44,5,45],[4,24,4,27],[5,24,5,25],[4,29,4,32],[5,29,5,30],[4,34,4,37],[5,34,5,35],[1,1,1,2],[5,13,5,14],[18,13,18,14],[19,13,19,14],[4,19,4,22],[5,19,5,20]]}
["Report for:!M812B00.104"]
["Date:","<date>"]
["Hen:","<hen>",null,null,null,"Correct Sequence",{"$f":"Start!J2","v":122},null,null,null,null,null,null,null,null,"Total Sequences in Data",{"$f":"4994-COUNTBLANK(L7:L5000)","v":50},null,null,null,null,"Total Sequences in Block Data",{"$f":"COUNTA(L7:L14)","v":8},null,null,null,"Total Sequences in Block Data",{"$f":"COUNTA(L15:L23)","v":9},null,null,null,"Total Sequences in Block Data",{"$f":"COUNTA(L24:L31)","v":8},null,null,null,"Total Sequences in Block Data",{"$f":"COUNTA(L32:L39)","v":8},null,null,null,"Total Sequences in Block Data",{"$f":"COUNTA(L40:L48)","v":9},null,null,null,"Total Sequences in Block Data",{"$f":"COUNTA(L49:L56)","v":8}]
[null,null,null,null,null,null,null,null,null,null,null,null,null,null,null,"Total Sequences in Summary",{"$f":"SUM(O7:O14)","v":50},null,null,null,null,"Total Sequences in Block Summary",{"$f":"SUM(U7:U14)","v":8},null,null,null,"Total Sequences in Block Summary",{"$f":"SUM(Z7:Z14)","v":9},null,null,null,"Total Sequences in Block Summary",{"$f":"SUM(AE7:AE14)","v":8},null,null,null,"Total Sequences in Block Summary",{"$f":"SUM(AJ7:AJ14)","v":8},null,null,null,"Total Sequences in Block Summary",{"$f":"SUM(AO7:AO14)","v":9},null,null,null,"Total Sequences in Block Summary",{"$f":"SUM(AT7:AT14)","v":8}]
[null,null,null,null,null,null,null,null,null,null,null,null,null,null,null,null,null,null,null,"Block 1",null,null,null,null,"Block 2",null,null,null,null,"Block 3",null,null,null,null,"Block 4",null,null,null,null,"Block 5",null,null,null,null,"Block 6"]
["Sequence\nComponent\n1","Time\n1","Sequence\nComponent\n2","Time\n2","Sequence\nComponent\n3","Time\n3","Sequence\nComponent\n4","Time\n4","Sequence\nComponent\n5","Time\n5","Correct?\n0=No 1=Yes","Sequence",null,"Frequency",null,"Relative Frequency","Variability",null,null,"Frequency",null,"Relative Frequency","Variability",null,"Frequency",null,"Relative Frequency","Variability",null,"Frequency",null,"Relative Frequency","Variability",null,"Frequency",null,"Relative Frequency","Variability",null,"Frequency",null,"Relative Frequency","Variability",null,"Frequency",null,"Relative Frequency","Variability"]
[11,27,21,36,21,43,null,null,null,null,0,122,null,111,{"$f":"COUNTIF($L$7:$L$500,N7)","v":0},{"$f":"O7/$Q$4","v":0},{"$f":"IF(P7=0,0,(P7*((LOG(P7))/LOG(2))))","v":0},null,null,{"$f":"N7","v":111},{"$f":"COUNTIF(L7:L14,T7)","v":0},{"$f":"U7/(W4-U10)","v":0},{"$f":"IF(V7=0,0,(V7*((LOG(V7))/LOG(2))))","v":0},null,{"$f":"N7","v":111},{"$f":"COUNTIF(L15:L23,Y7)","v":0},{"$f":"Z7/(AB4-Z10)","v":0},{"$f":"IF(AA7=0,0,(AA7*((LOG(AA7))/LOG(2))))","v":0},null,{"$f":"N7","v":111},{"$f":"COUNTIF(L24:L31,AD7)","v":0},{"$f":"AE7/(AG4-AE10)","v":{"$error":"#DIV/0!"}},{"$f":"IF(AF7=0,0,(AF7*((LOG(AF7))/LOG(2))))","v":{"$error":"#DIV/0!"}},null,{"$f":"N7","v":111},{"$f":"COUNTIF(L32:L39,AI7)","v":0},{"$f":"AJ7/(AL4-AJ10)","v":0},{"$f":"IF(AK7=0,0,(AK7*((LOG(AK7))/LOG(2))))","v":0},null,{"$f":"N7","v":111},{"$f":"COUNTIF(L40:L48,AN7)","v":0},{"$f":"AO7/(AQ4-AO10)","v":0},{"$f":"IF(AP7=0,0,(AP7*((LOG(AP7))/LOG(2))))","v":0},null,{"$f":"N7","v":111},{"$f":"COUNTIF(L49:L56,AS7)","v":0},{"$f":"AT7/(AV4-AT10)","v":0},{"$f":"IF(AU7=0,0,(AU7*((LOG(AU7))/LOG(2))))","v":0}]
[11,133,21,142,12,173,null,null,null,null,0,121,null,112,{"$f":"COUNTIF($L$7:$L$500,N8)","v":0},{"$f":"O8/$Q$4","v":0},{"$f":"IF(P8=0,0,(P8*((LOG(P8))/LOG(2))))","v":0},null,null,{"$f":"N8","v":112},{"$f":"COUNTIF(L7:L14,T8)","v":0},{"$f":"U8/(W4-U10)","v":0},{"$f":"IF(V8=0,0,(V8*((LOG(V8))/LOG(2))))","v":0},null,{"$f":"N8","v":112},{"$f":"COUNTIF(L15:L23,Y8)","v":0},{"$f":"Z8/(AB4-Z10)","v":0},{"$f":"IF(AA8=0,0,(AA8*((LOG(AA8))/LOG(2))))","v":0},null,{"$f":"N8","v":112},{"$f":"COUNTIF(L24:L31,AD8)","v":0},{"$f":"AE8/(AG4-AE10)","v":{"$error":"#DIV/0!"}},{"$f":"IF(AF8=0,0,(AF8*((LOG(AF8))/LOG(2))))","v":{"$error":"#DIV/0!"}},null,{"$f":"N8","v":112},{"$f":"COUNTIF(L32:L39,AI8)","v":0},{"$f":"AJ8/(AL4-AJ10)","v":0},{"$f":"IF(AK8=0,0,(AK8*((LOG(AK8))/LOG(2))))","v":0},null,{"$f":"N8","v":112},{"$f":"COUNTIF(L40:L48,AN8)","v":0},{"$f":"AO8/(AQ4-AO10)","v":0},{"$f":"IF(AP8=0,0,(AP8*((LOG(AP8))/LOG(2))))","v":0},null,{"$f":"N8","v":112},{"$f":"COUNTIF(L49:L56,AS8)","v":0},{"$f":"AT8/(AV4-AT10)","v":0},{"$f":"IF(AU8=0,0,(AU8*((LOG(AU8))/LOG(2))))","v":0}]
[11,270,21,278,21,286,null,null,null,null,0,122,null,121,{"$f":"COUNTIF($L$7:$L$500,N9)","v":2},{"$f":"O9/$Q$4","v":0.04},{"$f":"IF(P9=0,0,(P9*((LOG(P9))/LOG(2))))","v":-0.18575424759098899},null,null,{"$f":"N9","v":121},{"$f":"COUNTIF(L7:L14,T9)","v":2},{"$f":"U9/(W4-U10)","v":0.66666666666666663},{"$f":"IF(V9=0,0,(V9*((LOG(V9))/LOG(2))))","v":-0.38997500048077083},null,{"$f":"N9","v":121},{"$f":"COUNTIF(L15:L23,Y9)","v":0},{"$f":"Z9/(AB4-Z10)","v":0},{"$f":"IF(AA9=0,0,(AA9*((LOG(AA9))/LOG(2))))","v":0},null,{"$f":"N9","v":121},{"$f":"COUNTIF(L24:L31,AD9)","v":0},{"$f":"AE9/(AG4-AE10)","v":{"$error":"#DIV/0!"}},{"$f":"IF(AF9=0,0,(AF9*((LOG(AF9))/LOG(2))))","v":{"$error":"#DIV/0!"}},null,{"$f":"N9","v":121},{"$f":"COUNTIF(L32:L39,AI9)","v":0},{"$f":"AJ9/(AL4-AJ10)","v":0},{"$f":"IF(AK9=0,0,(AK9*((LOG(AK9))/LOG(2))))","v":0},null,{"$f":"N9","v":121},{"$f":"COUNTIF(L40:L48,AN9)","v":0},{"$f":"AO9/(AQ4-AO10)","v":0},{"$f":"IF(AP9=0,0,(AP9*((LOG(AP9))/LOG(2))))","v":0},null,{"$f":"N9","v":121},{"$f":"COUNTIF(L49:L56,AS9)","v":0},{"$f":"AT9/(AV4-AT10)","v":0},{"$f":"IF(AU9=0,0,(AU9*((LOG(AU9))/LOG(2))))","v":0}]
[11,379,21,390,21,398,null,null,null,null,0,122,null,122,{"$f":"COUNTIF($L$7:$L$500,N10)","v":39},{"$f":"O10/$Q$4","v":0.78},{"$f":"IF(P10=0,0,(P10*((LOG(P10))/LOG(2))))","v":-0.27959409731173152},null,null,{"$f":"N10","v":122},{"$f":"COUNTIF(L7:L14,T10)","v":5},null,null,null,{"$f":"N10","v":122},{"$f":"COUNTIF(L15:L23,Y10)","v":7},null,null,null,{"$f":"N10","v":122},{"$f":"COUNTIF(L24:L31,AD10)","v":8},null,null,null,{"$f":"N10","v":122},{"$f":"COUNTIF(L32:L39,AI10)","v":7},null,null,null,{"$f":"N10","v":122},{"$f":"COUNTIF(L40:L48,AN10)","v":7},null,null,null,{"$f":"N10","v":122},{"$f":"COUNTIF(L49:L56,AS10)","v":5}]
[22,493,23,498,14,513,null,null,null,null,0,221,null,211,{"$f":"COUNTIF($L$7:$L$500,N11)","v":1},{"$f":"O11/$Q$4","v":0.02},{"$f":"IF(P11=0,0,(P11*((LOG(P11))/LOG(2))))","v":-0.11287712379549449},null,null,{"$f":"N11","v":211},{"$f":"COUNTIF(L7:L14,T11)","v":0},{"$f":"U11/(W4-U10)","v":0},{"$f":"IF(V11=0,0,(V11*((LOG(V11))/LOG(2))))","v":0},null,{"$f":"N11","v":211},{"$f":"COUNTIF(L15:L23,Y11)","v":0},{"$f":"Z11/(AB4-Z10)","v":0},{"$f":"IF(AA11=0,0,(AA11*((LOG(AA11))/LOG(2))))","v":0},null,{"$f":"N11","v":211},{"$f":"COUNTIF(L24:L31,AD11)","v":0},{"$f":"AE11/(AG4-AE10)","v":{"$error":"#DIV/0!"}},{"$f":"IF(AF11=0,0,(AF11*((LOG(AF11))/LOG(2))))","v":{"$error":"#DIV/0!"}},null,{"$f":"N11","v":211},{"$f":"COUNTIF(L32:L39,AI11)","v":1},{"$f":"AJ11/(AL4-AJ10)","v":1},{"$f":"IF(AK11=0,0,(AK11*((LOG(AK11))/LOG(2))))","v":0},null,{"$f":"N11","v":211},{"$f":"COUNTIF(L40:L48,AN11)","v":0},{"$f":"AO11/(AQ4-AO10)","v":0},{"$f":"IF(AP11=0,0,(AP11*((LOG(AP11))/LOG(2))))","v":0},null,{"$f":"N11","v":211},{"$f":"COUNTIF(L49:L56,AS11)","v":0},{"$f":"AT11/(AV4-AT10)","v":0},{"$f":"IF(AU11=0,0,(AU11*((LOG(AU11))/LOG(2))))","v":0}]
[11,611,21,621,21,629,null,null,null,null,0,122,null,212,{"$f":"COUNTIF($L$7:$L$500,N12)","v":0},{"$f":"O12/$Q$4","v":0},{"$f":"IF(P12=0,0,(P12*((LOG(P12))/LOG(2))))","v":0},null,null,{"$f":"N12","v":212},{"$f":"COUNTIF(L7:L14,T12)","v":0},{"$f":"U12/(W4-U10)","v":0},{"$f":"IF(V12=0,0,(V12*((LOG(V12))/LOG(2))))","v":0},null,{"$f":"N12","v":212},{"$f":"COUNTIF(L15:L23,Y12)","v":0},{"$f":"Z12/(AB4-Z10)","v":0},{"$f":"IF(AA12=0,0,(AA12*((LOG(AA12))/LOG(2))))","v":0},null,{"$f":"N12","v":212},{"$f":"COUNTIF(L24:L31,AD12)","v":0},{"$f":"AE12/(AG4-AE10)","v":{"$error":"#DIV/0!"}},{"$f":"IF(AF12=0,0,(AF12*((LOG(AF12))/LOG(2))))","v":{"$error":"#DIV/0!"}},null,{"$f":"N12","v":212},{"$f":"COUNTIF(L32:L39,AI12)","v":0},{"$f":"AJ12/(AL4-AJ10)","v":0},{"$f":"IF(AK12=0,0,(AK12*((LOG(AK12))/LOG(2))))","v":0},null,{"$f":"N12","v":212},{"$f":"COUNTIF(L40:L48,AN12)","v":0},{"$f":"AO12/(AQ4-AO10)","v":0},{"$f":"IF(AP12=0,0,(AP12*((LOG(AP12))/LOG(2))))","v":0},null,{"$f":"N12","v":212},{"$f":"COUNTIF(L49:L56,AS12)","v":0},{"$f":"AT12/(AV4-AT10)","v":0},{"$f":"IF(AU12=0,0,(AU12*((LOG(AU12))/LOG(2))))","v":0}]
[11,712,21,722,12,754,null,null,null,null,0,121,null,221,{"$f":"COUNTIF($L$7:$L$500,N13)","v":3},{"$f":"O13/$Q$4","v":0.06},{"$f":"IF(P13=0,0,(P13*((LOG(P13))/LOG(2))))","v":-0.2435336213432141},null,null,{"$f":"N13","v":221},{"$f":"COUNTIF(L7:L14,T13)","v":1},{"$f":"U13/(W4-U10)","v":0.33333333333333331},{"$f":"IF(V13=0,0,(V13*((LOG(V13))/LOG(2))))","v":-0.52832083357371862},null,{"$f":"N13","v":221},{"$f":"COUNTIF(L15:L23,Y13)","v":0},{"$f":"Z13/(AB4-Z10)","v":0},{"$f":"IF(AA13=0,0,(AA13*((LOG(AA13))/LOG(2))))","v":0},null,{"$f":"N13","v":221},{"$f":"COUNTIF(L24:L31,AD13)","v":0},{"$f":"AE13/(AG4-AE10)","v":{"$error":"#DIV/0!"}},{"$f":"IF(AF13=0,0,(AF13*((LOG(AF13))/LOG(2))))","v":{"$error":"#DIV/0!"}},null,{"$f":"N13","v":221},{"$f":"COUNTIF(L32:L39,AI13)","v":0},{"$f":"AJ13/(AL4-AJ10)","v":0},{"$f":"IF(AK13=0,0,(AK13*((LOG(AK13))/LOG(2))))","v":0},null,{"$f":"N13","v":221},{"$f":"COUNTIF(L40:L48,AN13)","v":1},{"$f":"AO13/(AQ4-AO10)","v":0.5},{"$f":"IF(AP13=0,0,(AP13*((LOG(AP13))/LOG(2))))","v":-0.5},null,{"$f":"N13","v":221},{"$f":"COUNTIF(L49:L56,AS13)","v":1},{"$f":"AT13/(AV4-AT10)","v":0.33333333333333331},{"$f":"IF(AU13=0,0,(AU13*((LOG(AU13))/LOG(2))))","v":-0.52832083357371862}]
[11,850,21,861,21,891,null,null,null,null,0,122,null,222,{"$f":"COUNTIF($L$7:$L$500,N14)","v":5},{"$f":"O14/$Q$4","v":0.1},{"$f":"IF(P14=0,0,(P14*((LOG(P14))/LOG(2))))","v":-0.33219280948873625},null,null,{"$f":"N14","v":222},{"$f":"COUNTIF(L7:L14,T14)","v":0},{"$f":"U14/(W4-U10)","v":0},{"$f":"IF(V14=0,0,(V14*((LOG(V14))/LOG(2))))","v":0},null,{"$f":"N14","v":222},{"$f":"COUNTIF(L15:L23,Y14)","v":2},{"$f":"Z14/(AB4-Z10)","v":1},{"$f":"IF(AA14=0,0,(AA14*((LOG(AA14))/LOG(2))))","v":0},null,{"$f":"N14","v":222},{"$f":"COUNTIF(L24:L31,AD14)","v":0},{"$f":"AE14/(AG4-AE10)","v":{"$error":"#DIV/0!"}},{"$f":"IF(AF14=0,0,(AF14*((LOG(AF14))/LOG(2))))","v":{"$error":"#DIV/0!"}},null,{"$f":"N14","v":222},{"$f":"COUNTIF(L32:L39,AI14)","v":0},{"$f":"AJ14/(AL4-AJ10)","v":0},{"$f":"IF(AK14=0,0,(AK14*((LOG(AK14))/LOG(2))))","v":0},null,{"$f":"N14","v":222},{"$f":"COUNTIF(L40:L48,AN14)","v":1},{"$f":"AO14/(AQ4-AO10)","v":0.5},{"$f":"IF(AP14=0,0,(AP14*((LOG(AP14))/LOG(2))))","v":-0.5},null,{"$f":"N14","v":222},{"$f":"COUNTIF(L49:L56,AS14)","v":2},{"$f":"AT14/(AV4-AT10)","v":0.66666666666666663},{"$f":"IF(AU14=0,0,(AU14*((LOG(AU14))/LOG(2))))","v":-0.38997500048077083}]
[11,978,21,989,21,997,null,null,null,null,0,122,null,null,null,{"$f":"SUM(P7:P14)","v":1.0000000000000002},{"$f":"-SUM(Q7:Q14)","v":1.1539518995301654},null,null,null,null,{"$f":"SUM(V7:V14)","v":1},{"$f":"-SUM(W7:W14)","v":0.91829583405448945},null,null,null,{"$f":"SUM(AA7:AA14)","v":1},{"$f":"-SUM(AB7:AB14)","v":0},null,null,null,{"$f":"SUM(AF7:AF14)","v":{"$error":"#DIV/0!"}},{"$f":"-SUM(AG7:AG14)","v":{"$error":"#DIV/0!"}},null,null,null,{"$f":"SUM(AK7:AK14)","v":1},{"$f":"-SUM(AL7:AL14)","v":0},null,null,null,{"$f":"SUM(AP7:AP14)","v":1},{"$f":"-SUM(AQ7:AQ14)","v":1},null,null,null,{"$f":"SUM(AU7:AU14)","v":1},{"$f":"-SUM(AV7:AV14)","v":0.91829583405448945}]
[11,1083,21,1092,21,1098,null,null,null,null,0,122,null,null,null,"U=",{"$f":"Q15/(LOG(Q4)/LOG(2))","v":0.20446160581143824},null,null,null,null,"U1=",{"$f":"W15/(LOG(W4)/LOG(2))","v":0.30609861135149646},null,null,null,"U2=",{"$f":"AB15/(LOG(AB4)/LOG(2))","v":0},null,null,null,"U3=",{"$f":"AG15/(LOG(AG4)/LOG(2))","v":{"$error":"#DIV/0!"}},null,null,null,"U4=",{"$f":"AL15/(LOG(AL4)/LOG(2))","v":0},null,null,null,"U5=",{"$f":"AQ15/(LOG(AQ4)/LOG(2))","v":0.31546487678572877},null,null,null,"U6=",{"$f":"AV15/(LOG(AV4)/LOG(2))","v":0.30609861135149646}]
[11,1183,21,1193,21,1215,null,null,null,null,0,122]
[11,1301,21,1310,21,1323,null,null,null,null,0,122]
[11,1412,21,1420,21,1425,null,null,null,null,0,122,null,"Total Target Seq"]
[22,1518,23,1525,23,1533,null,null,null,null,0,222,null,{"$f":"COUNTIF(L7:L56,G3)","v":39},null,8,9,8,8,9,8]
[11,1619,21,1628,21,1633,null,null,null,null,0,122,null,null,null,"% of reinforcement given in 6 equal intervals based on number of trials "]
[22,1729,23,1734,23,1747,null,null,null,null,0,222,null,null,null,"%_1","%_2","%_3","%_4","%_5","%_6"]
[11,1844,21,1856,21,1863,null,null,null,null,0,122,null,null,"target sequence",{"$f":"$G$3","v":122},{"$f":"$G$3","v":122},{"$f":"$G$3","v":122},{"$f":"$G$3","v":122},{"$f":"$G$3","v":122},{"$f":"$G$3","v":122}]
[11,1950,21,1961,21,1966,null,null,null,null,0,122,null,null,"total reinforcement",{"$f":"U10","v":5},{"$f":"Z10","v":7},{"$f":"AE10","v":8},{"$f":"AJ10","v":7},{"$f":"AO10","v":7},{"$f":"AT10","v":5}]
[11,2052,21,2064,21,2070,null,null,null,null,0,122,null,null,"% target"]
[11,2155,21,2166,21,2171,null,null,null,null,0,122,null,null,"CCRF"]
[11,2264,21,2272,21,2281,null,null,null,null,0,122,null,null,"% CCRf"]
[11,2365,21,2374,21,2380,null,null,null,null,0,122,null,null,"average response rate",{"$f":"F14/P20","v":111.375},{"$f":"(F23-F14)/Q20","v":108},{"$f":"(F31-F23)/R20","v":103.5},{"$f":"(F39-F31)/S20","v":105.375},{"$f":"(F48-F39)/T20","v":106.77777777777777},{"$f":"(F56-F48)/U20","v":117.5}]
[11,2464,21,2478,21,2483,null,null,null,null,0,122]
[11,2566,21,2575,21,2580,null,null,null,null,0,122]
[11,2664,21,2674,21,2691,null,null,null,null,0,122]
[11,2775,21,2783,21,2797,null,null,null,null,0,122]
[11,2885,21,2893,21,2898,null,null,null,null,0,122]
[11,2983,21,2993,21,2998,null,null,null,null,0,122]
[22,3092,14,3110,14,3117,null,null,null,null,0,211]
[11,3212,21,3221,21,3229,null,null,null,null,0,122]
[11,3313,21,3324,21,3328,null,null,null,null,0,122]
[11,3414,21,3423,21,3431,null,null,null,null,0,122]
[11,3516,21,3526,21,3534,null,null,null,null,0,122]
[11,3615,21,3626,21,3630,null,null,null,null,0,122]
[11,3715,21,3723,21,3728,null,null,null,null,0,122]
[11,3813,21,3824,21,3828,null,null,null,null,0,122]
[22,3922,23,3926,14,3943,null,null,null,null,0,221]
[11,4036,21,4048,21,4055,null,null,null,null,0,122]
[22,4149,23,4156,23,4168,null,null,null,null,0,222]
[11,4261,21,4271,21,4288,null,null,null,null,0,122]
[11,4376,21,4387,21,4395,null,null,null,null,0,122]
[11,4481,21,4489,21,4495,null,null,null,null,0,122]
[22,4591,23,4605,23,4613,null,null,null,null,0,222]
[22,4716,23,4720,23,4733,null,null,null,null,0,222]
[11,4828,21,4839,21,4844,null,null,null,null,0,122]
[11,4928,21,4939,21,4959,null,null,null,null,0,122]
[11,5041,21,5052,21,5057,null,null,null,null,0,122]
[22,5149,23,5155,14,5174,null,null,null,null,0,221]
[11,5316,21,5326,21,5330,null,null,null,null,0,122]
[11,5419,21,5429,21,5435,null,null,null,null,1,122]

{"sheet":"!M813A30.104","index":32,"n_rows":66,"n_cols":48,"rows_kept":66,"cut":false,"hidden":false,"merged":[[4,39,4,42],[5,39,5,40],[4,44,4,47],[5,44,5,45],[4,24,4,27],[5,24,5,25],[4,29,4,32],[5,29,5,30],[4,34,4,37],[5,34,5,35],[1,1,1,2],[5,13,5,14],[18,13,18,14],[19,13,19,14],[4,19,4,22],[5,19,5,20]]}
["Report for:!M813A30.104"]
["Date:","<date>"]
["Hen:","<hen>",null,null,null,"Correct Sequence",{"$f":"Start!J2","v":122},null,null,null,null,null,null,null,null,"Total Sequences in Data",{"$f":"4994-COUNTBLANK(L7:L5000)","v":60},null,null,null,null,"Total Sequences in Block Data",{"$f":"COUNTA(L7:L16)","v":10},null,null,null,"Total Sequences in Block Data",{"$f":"COUNTA(L17:L26)","v":10},null,null,null,"Total Sequences in Block Data",{"$f":"COUNTA(L27:L36)","v":10},null,null,null,"Total Sequences in Block Data",{"$f":"COUNTA(L37:L46)","v":10},null,null,null,"Total Sequences in Block Data",{"$f":"COUNTA(L47:L56)","v":10},null,null,null,"Total Sequences in Block Data",{"$f":"COUNTA(L57:L66)","v":10}]
[null,null,null,null,null,null,null,null,null,null,null,null,null,null,null,"Total Sequences in Summary",{"$f":"SUM(O7:O14)","v":60},null,null,null,null,"Total Sequences in Block Summary",{"$f":"SUM(U7:U14)","v":10},null,null,null,"Total Sequences in Block Summary",{"$f":"SUM(Z7:Z14)","v":10},null,null,null,"Total Sequences in Block Summary",{"$f":"SUM(AE7:AE14)","v":10},null,null,null,"Total Sequences in Block Summary",{"$f":"SUM(AJ7:AJ14)","v":10},null,null,null,"Total Sequences in Block Summary",{"$f":"SUM(AO7:AO14)","v":10},null,null,null,"Total Sequences in Block Summary",{"$f":"SUM(AT7:AT14)","v":10}]
[null,null,null,null,null,null,null,null,null,null,null,null,null,null,null,null,null,null,null,"Block 1",null,null,null,null,"Block 2",null,null,null,null,"Block 3",null,null,null,null,"Block 4",null,null,null,null,"Block 5",null,null,null,null,"Block 6"]
["Sequence\nComponent\n1","Time\n1","Sequence\nComponent\n2","Time\n2","Sequence\nComponent\n3","Time\n3","Sequence\nComponent\n4","Time\n4","Sequence\nComponent\n5","Time\n5","Correct?\n0=No 1=Yes","Sequence",null,"Frequency",null,"Relative Frequency","Variability",null,null,"Frequency",null,"Relative Frequency","Variability",null,"Frequency",null,"Relative Frequency","Variability",null,"Frequency",null,"Relative Frequency","Variability",null,"Frequency",null,"Relative Frequency","Variability",null,"Frequency",null,"Relative Frequency","Variability",null,"Frequency",null,"Relative Frequency","Variability"]
[11,22,21,30,12,48,null,null,null,null,0,121,null,111,{"$f":"COUNTIF($L$7:$L$500,N7)","v":0},{"$f":"O7/$Q$4","v":0},{"$f":"IF(P7=0,0,(P7*((LOG(P7))/LOG(2))))","v":0},null,null,{"$f":"N7","v":111},{"$f":"COUNTIF(L7:L16,T7)","v":0},{"$f":"U7/(W4-U10)","v":0},{"$f":"IF(V7=0,0,(V7*((LOG(V7))/LOG(2))))","v":0},null,{"$f":"N7","v":111},{"$f":"COUNTIF(L17:L26,Y7)","v":0},{"$f":"Z7/(AB4-Z10)","v":0},{"$f":"IF(AA7=0,0,(AA7*((LOG(AA7))/LOG(2))))","v":0},null,{"$f":"N7","v":111},{"$f":"COUNTIF(L27:L36,AD7)","v":0},{"$f":"AE7/(AG4-AE10)","v":0},{"$f":"IF(AF7=0,0,(AF7*((LOG(AF7))/LOG(2))))","v":0},null,{"$f":"N7","v":111},{"$f":"COUNTIF(L37:L46,AI7)","v":0},{"$f":"AJ7/(AL4-AJ10)","v":0},{"$f":"IF(AK7=0,0,(AK7*((LOG(AK7))/LOG(2))))","v":0},null,{"$f":"N7","v":111},{"$f":"COUNTIF(L47:L56,AN7)","v":0},{"$f":"AO7/(AQ4-AO10)","v":0},{"$f":"IF(AP7=0,0,(AP7*((LOG(AP7))/LOG(2))))","v":0},null,{"$f":"N7","v":111},{"$f":"COUNTIF(L57:L66,AS7)","v":0},{"$f":"AT7/(AV4-AT10)","v":0},{"$f":"IF(AU7=0,0,(AU7*((LOG(AU7))/LOG(2))))","v":0}]
[22,154,23,158,14,172,null,null,null,null,0,221,null,112,{"$f":"COUNTIF($L$7:$L$500,N8)","v":0},{"$f":"O8/$Q$4","v":0},{"$f":"IF(P8=0,0,(P8*((LOG(P8))/LOG(2))))","v":0},null,null,{"$f":"N8","v":112},{"$f":"COUNTIF(L7:L16,T8)","v":0},{"$f":"U8/(W4-U10)","v":0},{"$f":"IF(V8=0,0,(V8*((LOG(V8))/LOG(2))))","v":0},null,{"$f":"N8","v":112},{"$f":"COUNTIF(L17:L26,Y8)","v":0},{"$f":"Z8/(AB4-Z10)","v":0},{"$f":"IF(AA8=0,0,(AA8*((LOG(AA8))/LOG(2))))","v":0},null,{"$f":"N8","v":112},{"$f":"COUNTIF(L27:L36,AD8)","v":0},{"$f":"AE8/(AG4-AE10)","v":0},{"$f":"IF(AF8=0,0,(AF8*((LOG(AF8))/LOG(2))))","v":0},null,{"$f":"N8","v":112},{"$f":"COUNTIF(L37:L46,AI8)","v":0},{"$f":"AJ8/(AL4-AJ10)","v":0},{"$f":"IF(AK8=0,0,(AK8*((LOG(AK8))/LOG(2))))","v":0},null,{"$f":"N8","v":112},{"$f":"COUNTIF(L47:L56,AN8)","v":0},{"$f":"AO8/(AQ4-AO10)","v":0},{"$f":"IF(AP8=0,0,(AP8*((LOG(AP8))/LOG(2))))","v":0},null,{"$f":"N8","v":112},{"$f":"COUNTIF(L57:L66,AS8)","v":0},{"$f":"AT8/(AV4-AT10)","v":0},{"$f":"IF(AU8=0,0,(AU8*((LOG(AU8))/LOG(2))))","v":0}]
[11,268,21,276,21,281,null,null,null,null,0,122,null,121,{"$f":"COUNTIF($L$7:$L$500,N9)","v":2},{"$f":"O9/$Q$4","v":3.3333333333333333E-2},{"$f":"IF(P9=0,0,(P9*((LOG(P9))/LOG(2))))","v":-0.16356301985361729},null,null,{"$f":"N9","v":121},{"$f":"COUNTIF(L7:L16,T9)","v":1},{"$f":"U9/(W4-U10)","v":0.25},{"$f":"IF(V9=0,0,(V9*((LOG(V9))/LOG(2))))","v":-0.5},null,{"$f":"N9","v":121},{"$f":"COUNTIF(L17:L26,Y9)","v":1},{"$f":"Z9/(AB4-Z10)","v":1},{"$f":"IF(AA9=0,0,(AA9*((LOG(AA9))/LOG(2))))","v":0},null,{"$f":"N9","v":121},{"$f":"COUNTIF(L27:L36,AD9)","v":0},{"$f":"AE9/(AG4-AE10)","v":0},{"$f":"IF(AF9=0,0,(AF9*((LOG(AF9))/LOG(2))))","v":0},null,{"$f":"N9","v":121},{"$f":"COUNTIF(L37:L46,AI9)","v":0},{"$f":"AJ9/(AL4-AJ10)","v":0},{"$f":"IF(AK9=0,0,(AK9*((LOG(AK9))/LOG(2))))","v":0},null,{"$f":"N9","v":121},{"$f":"COUNTIF(L47:L56,AN9)","v":0},{"$f":"AO9/(AQ4-AO10)","v":0},{"$f":"IF(AP9=0,0,(AP9*((LOG(AP9))/LOG(2))))","v":0},null,{"$f":"N9","v":121},{"$f":"COUNTIF(L57:L66,AS9)","v":0},{"$f":"AT9/(AV4-AT10)","v":0},{"$f":"IF(AU9=0,0,(AU9*((LOG(AU9))/LOG(2))))","v":0}]
[22,373,14,386,23,395,null,null,null,null,0,212,null,122,{"$f":"COUNTIF($L$7:$L$500,N10)","v":39},{"$f":"O10/$Q$4","v":0.65},{"$f":"IF(P10=0,0,(P10*((LOG(P10))/LOG(2))))","v":-0.40396744488507563},null,null,{"$f":"N10","v":122},{"$f":"COUNTIF(L7:L16,T10)","v":6},null,null,null,{"$f":"N10","v":122},{"$f":"COUNTIF(L17:L26,Y10)","v":9},null,null,null,{"$f":"N10","v":122},{"$f":"COUNTIF(L27:L36,AD10)","v":5},null,null,null,{"$f":"N10","v":122},{"$f":"COUNTIF(L37:L46,AI10)","v":6},null,null,null,{"$f":"N10","v":122},{"$f":"COUNTIF(L47:L56,AN10)","v":7},null,null,null,{"$f":"N10","v":122},{"$f":"COUNTIF(L57:L66,AS10)","v":6}]
[22,498,23,503,14,523,null,null,null,null,0,221,null,211,{"$f":"COUNTIF($L$7:$L$500,N11)","v":1},{"$f":"O11/$Q$4","v":1.6666666666666666E-2},{"$f":"IF(P11=0,0,(P11*((LOG(P11))/LOG(2))))","v":-9.8448176593475309E-2},null,null,{"$f":"N11","v":211},{"$f":"COUNTIF(L7:L16,T11)","v":0},{"$f":"U11/(W4-U10)","v":0},{"$f":"IF(V11=0,0,(V11*((LOG(V11))/LOG(2))))","v":0},null,{"$f":"N11","v":211},{"$f":"COUNTIF(L17:L26,Y11)","v":0},{"$f":"Z11/(AB4-Z10)","v":0},{"$f":"IF(AA11=0,0,(AA11*((LOG(AA11))/LOG(2))))","v":0},null,{"$f":"N11","v":211},{"$f":"COUNTIF(L27:L36,AD11)","v":0},{"$f":"AE11/(AG4-AE10)","v":0},{"$f":"IF(AF11=0,0,(AF11*((LOG(AF11))/LOG(2))))","v":0},null,{"$f":"N11","v":211},{"$f":"COUNTIF(L37:L46,AI11)","v":0},{"$f":"AJ11/(AL4-AJ10)","v":0},{"$f":"IF(AK11=0,0,(AK11*((LOG(AK11))/LOG(2))))","v":0},null,{"$f":"N11","v":211},{"$f":"COUNTIF(L47:L56,AN11)","v":1},{"$f":"AO11/(AQ4-AO10)","v":0.33333333333333331},{"$f":"IF(AP11=0,0,(AP11*((LOG(AP11))/LOG(2))))","v":-0.52832083357371862},null,{"$f":"N11","v":211},{"$f":"COUNTIF(L57:L66,AS11)","v":0},{"$f":"AT11/(AV4-AT10)","v":0},{"$f":"IF(AU11=0,0,(AU11*((LOG(AU11))/LOG(2))))","v":0}]
[11,620,21,628,21,647,null,null,null,null,0,122,null,212,{"$f":"COUNTIF($L$7:$L$500,N12)","v":2},{"$f":"O12/$Q$4","v":3.3333333333333333E-2},{"$f":"IF(P12=0,0,(P12*((LOG(P12))/LOG(2))))","v":-0.16356301985361729},null,null,{"$f":"N12","v":212},{"$f":"COUNTIF(L7:L16,T12)","v":1},{"$f":"U12/(W4-U10)","v":0.25},{"$f":"IF(V12=0,0,(V12*((LOG(V12))/LOG(2))))","v":-0.5},null,{"$f":"N12","v":212},{"$f":"COUNTIF(L17:L26,Y12)","v":0},{"$f":"Z12/(AB4-Z10)","v":0},{"$f":"IF(AA12=0,0,(AA12*((LOG(AA12))/LOG(2))))","v":0},null,{"$f":"N12","v":212},{"$f":"COUNTIF(L27:L36,AD12)","v":1},{"$f":"AE12/(AG4-AE10)","v":0.2},{"$f":"IF(AF12=0,0,(AF12*((LOG(AF12))/LOG(2))))","v":-0.46438561897747244},null,{"$f":"N12","v":212},{"$f":"COUNTIF(L37:L46,AI12)","v":0},{"$f":"AJ12/(AL4-AJ10)","v":0},{"$f":"IF(AK12=0,0,(AK12*((LOG(AK12))/LOG(2))))","v":0},null,{"$f":"N12","v":212},{"$f":"COUNTIF(L47:L56,AN12)","v":0},{"$f":"AO12/(AQ4-AO10)","v":0},{"$f":"IF(AP12=0,0,(AP12*((LOG(AP12))/LOG(2))))","v":0},null,{"$f":"N12","v":212},{"$f":"COUNTIF(L57:L66,AS12)","v":0},{"$f":"AT12/(AV4-AT10)","v":0},{"$f":"IF(AU12=0,0,(AU12*((LOG(AU12))/LOG(2))))","v":0}]
[11,737,21,749,21,757,null,null,null,null,0,122,null,221,{"$f":"COUNTIF($L$7:$L$500,N13)","v":5},{"$f":"O13/$Q$4","v":8.3333333333333329E-2},{"$f":"IF(P13=0,0,(P13*((LOG(P13))/LOG(2))))","v":-0.29874687506009634},null,null,{"$f":"N13","v":221},{"$f":"COUNTIF(L7:L16,T13)","v":2},{"$f":"U13/(W4-U10)","v":0.5},{"$f":"IF(V13=0,0,(V13*((LOG(V13))/LOG(2))))","v":-0.5},null,{"$f":"N13","v":221},{"$f":"COUNTIF(L17:L26,Y13)","v":0},{"$f":"Z13/(AB4-Z10)","v":0},{"$f":"IF(AA13=0,0,(AA13*((LOG(AA13))/LOG(2))))","v":0},null,{"$f":"N13","v":221},{"$f":"COUNTIF(L27:L36,AD13)","v":2},{"$f":"AE13/(AG4-AE10)","v":0.4},{"$f":"IF(AF13=0,0,(AF13*((LOG(AF13))/LOG(2))))","v":-0.52877123795494496},null,{"$f":"N13","v":221},{"$f":"COUNTIF(L37:L46,AI13)","v":1},{"$f":"AJ13/(AL4-AJ10)","v":0.25},{"$f":"IF(AK13=0,0,(AK13*((LOG(AK13))/LOG(2))))","v":-0.5},null,{"$f":"N13","v":221},{"$f":"COUNTIF(L47:L56,AN13)","v":0},{"$f":"AO13/(AQ4-AO10)","v":0},{"$f":"IF(AP13=0,0,(AP13*((LOG(AP13))/LOG(2))))","v":0},null,{"$f":"N13","v":221},{"$f":"COUNTIF(L57:L66,AS13)","v":0},{"$f":"AT13/(AV4-AT10)","v":0},{"$f":"IF(AU13=0,0,(AU13*((LOG(AU13))/LOG(2))))","v":0}]
[11,843,21,852,21,860,null,null,null,null,0,122,null,222,{"$f":"COUNTIF($L$7:$L$500,N14)","v":11},{"$f":"O14/$Q$4","v":0.18333333333333332},{"$f":"IF(P14=0,0,(P14*((LOG(P14))/LOG(2))))","v":-0.44870081244472387},null,null,{"$f":"N14","v":222},{"$f":"COUNTIF(L7:L16,T14)","v":0},{"$f":"U14/(W4-U10)","v":0},{"$f":"IF(V14=0,0,(V14*((LOG(V14))/LOG(2))))","v":0},null,{"$f":"N14","v":222},{"$f":"COUNTIF(L17:L26,Y14)","v":0},{"$f":"Z14/(AB4-Z10)","v":0},{"$f":"IF(AA14=0,0,(AA14*((LOG(AA14))/LOG(2))))","v":0},null,{"$f":"N14","v":222},{"$f":"COUNTIF(L27:L36,AD14)","v":2},{"$f":"AE14/(AG4-AE10)","v":0.4},{"$f":"IF(AF14=0,0,(AF14*((LOG(AF14))/LOG(2))))","v":-0.52877123795494496},null,{"$f":"N14","v":222},{"$f":"COUNTIF(L37:L46,AI14)","v":3},{"$f":"AJ14/(AL4-AJ10)","v":0.75},{"$f":"IF(AK14=0,0,(AK14*((LOG(AK14))/LOG(2))))","v":-0.31127812445913283},null,{"$f":"N14","v":222},{"$f":"COUNTIF(L47:L56,AN14)","v":2},{"$f":"AO14/(AQ4-AO10)","v":0.66666666666666663},{"$f":"IF(AP14=0,0,(AP14*((LOG(AP14))/LOG(2))))","v":-0.38997500048077083},null,{"$f":"N14","v":222},{"$f":"COUNTIF(L57:L66,AS14)","v":4},{"$f":"AT14/(AV4-AT10)","v":1},{"$f":"IF(AU14=0,0,(AU14*((LOG(AU14))/LOG(2))))","v":0}]
[11,946,21,957,21,963,null,null,null,null,0,122,null,null,null,{"$f":"SUM(P7:P14)","v":1},{"$f":"-SUM(Q7:Q14)","v":1.5769893486906057},null,null,null,null,{"$f":"SUM(V7:V14)","v":1},{"$f":"-SUM(W7:W14)","v":1.5},null,null,null,{"$f":"SUM(AA7:AA14)","v":1},{"$f":"-SUM(AB7:AB14)","v":0},null,null,null,{"$f":"SUM(AF7:AF14)","v":1},{"$f":"-SUM(AG7:AG14)","v":1.5219280948873624},null,null,null,{"$f":"SUM(AK7:AK14)","v":1},{"$f":"-SUM(AL7:AL14)","v":0.81127812445913283},null,null,null,{"$f":"SUM(AP7:AP14)","v":1},{"$f":"-SUM(AQ7:AQ14)","v":0.91829583405448945},null,null,null,{"$f":"SUM(AU7:AU14)","v":1},{"$f":"-SUM(AV7:AV14)","v":0}]
[11,1046,21,1062,21,1066,null,null,null,null,0,122,null,null,null,"U=",{"$f":"Q15/(LOG(Q4)/LOG(2))","v":0.26697453138255506},null,null,null,null,"U1=",{"$f":"W15/(LOG(W4)/LOG(2))","v":0.45154499349597182},null,null,null,"U2=",{"$f":"AB15/(LOG(AB4)/LOG(2))","v":0},null,null,null,"U3=",{"$f":"AG15/(LOG(AG4)/LOG(2))","v":0.45814600780483389},null,null,null,"U4=",{"$f":"AL15/(LOG(AL4)/LOG(2))","v":0.24421905028821556},null,null,null,"U5=",{"$f":"AQ15/(LOG(AQ4)/LOG(2))","v":0.27643459094367495},null,null,null,"U6=",{"$f":"AV15/(LOG(AV4)/LOG(2))","v":0}]
[11,1153,21,1162,21,1168,null,null,null,null,0,122]
[11,1253,21,1263,21,1268,null,null,null,null,0,122]
[11,1353,21,1362,21,1367,null,null,null,null,0,122,null,"Total Target Seq"]
[11,1454,21,1464,21,1469,null,null,null,null,0,122,null,{"$f":"COUNTIF(L7:L66,G3)","v":39},null,10,10,10,10,10,10]
[11,1556,21,1565,21,1570,null,null,null,null,0,122,null,null,null,"% of reinforcement given in 6 equal intervals based on number of trials "]
[11,1655,21,1664,21,1669,null,null,null,null,0,122,null,null,null,"%_1","%_2","%_3","%_4","%_5","%_6"]
[11,1755,21,1764,21,1769,null,null,null,null,0,122,null,null,"target sequence",{"$f":"$G$3","v":122},{"$f":"$G$3","v":122},{"$f":"$G$3","v":122},{"$f":"$G$3","v":122},{"$f":"$G$3","v":122},{"$f":"$G$3","v":122}]
[11,1854,21,1864,21,1869,null,null,null,null,0,122,null,null,"total reinforcement",{"$f":"U10","v":6},{"$f":"Z10","v":9},{"$f":"AE10","v":5},{"$f":"AJ10","v":6},{"$f":"AO10","v":7},{"$f":"AT10","v":6}]
[11,1954,21,1963,21,1968,null,null,null,null,0,122,null,null,"% target"]
[11,2056,21,2065,12,2088,null,null,null,null,0,121,null,null,"CCRF"]
[22,2191,23,2196,14,2213,null,null,null,null,0,221,null,null,"% CCRf"]
[22,2316,23,2321,14,2339,null,null,null,null,0,221,null,null,"average response rate",{"$f":"F16/P20","v":106.6},{"$f":"(F26-F16)/Q20","v":102.2},{"$f":"(F36-F26)/R20","v":124},{"$f":"(F46-F36)/S20","v":112.1},{"$f":"(F56-F46)/T20","v":114},{"$f":"(F66-F56)/U20","v":115}]
[11,2434,21,2447,21,2457,null,null,null,null,0,122]
[22,2551,23,2558,23,2607,null,null,null,null,0,222]
[22,2706,14,2722,23,2732,null,null,null,null,0,212]
[22,2836,23,2860,23,2879,null,null,null,null,0,222]
[11,2974,21,2985,21,2992,null,null,null,null,0,122]
[11,3077,21,3087,21,3105,null,null,null,null,0,122]
[11,3195,21,3207,21,3212,null,null,null,null,0,122]
[11,3313,21,3323,21,3328,null,null,null,null,0,122]
[11,3412,21,3420,21,3425,null,null,null,null,0,122]
[11,3514,21,3523,21,3528,null,null,null,null,0,122]
[22,3623,23,3632,23,3665,null,null,null,null,0,222]
[22,3769,23,3774,14,3795,null,null,null,null,0,221]
[22,3898,23,3902,23,3914,null,null,null,null,0,222]
[11,4009,21,4019,21,4024,null,null,null,null,0,122]
[22,4119,23,4128,23,4136,null,null,null,null,0,222]
[11,4232,21,4242,21,4251,null,null,null,null,0,122]
[11,4336,21,4345,21,4349,null,null,null,null,0,122]
[11,4434,21,4444,21,4449,null,null,null,null,0,122]
[11,4532,21,4543,21,4560,null,null,null,null,0,122]
[22,4654,23,4659,23,4670,null,null,null,null,0,222]
[11,4763,21,4773,21,4778,null,null,null,null,0,122]
[11,4862,21,4871,21,4876,null,null,null,null,0,122]
[22,4973,23,5018,23,5026,null,null,null,null,0,222]
[11,5120,21,5130,21,5135,null,null,null,null,0,122]
[11,5221,21,5230,21,5234,null,null,null,null,0,122]
[11,5318,21,5328,21,5335,null,null,null,null,0,122]
[11,5418,21,5428,21,5459,null,null,null,null,0,122]
[22,5563,14,5580,14,5589,null,null,null,null,0,211]
[11,5683,21,5694,21,5699,null,null,null,null,0,122]
[22,5804,23,5809,23,5830,null,null,null,null,0,222]
[22,5939,23,5944,23,5955,null,null,null,null,0,222]
[11,6049,21,6060,21,6065,null,null,null,null,0,122]
[11,6172,21,6184,21,6192,null,null,null,null,0,122]
[11,6277,21,6287,21,6292,null,null,null,null,0,122]
[22,6385,23,6390,23,6397,null,null,null,null,0,222]
[22,6508,23,6519,23,6531,null,null,null,null,0,222]
[11,6625,21,6636,21,6641,null,null,null,null,0,122]
[11,6725,21,6735,21,6739,null,null,null,null,1,122]

{"sheet":"!M814950.104","index":33,"n_rows":57,"n_cols":48,"rows_kept":57,"cut":false,"hidden":false,"merged":[[4,39,4,42],[5,39,5,40],[4,44,4,47],[5,44,5,45],[4,24,4,27],[5,24,5,25],[4,29,4,32],[5,29,5,30],[4,34,4,37],[5,34,5,35],[1,1,1,2],[5,13,5,14],[18,13,18,14],[19,13,19,14],[4,19,4,22],[5,19,5,20]]}
["Report for:!M814950.104"]
["Date:","<date>"]
["Hen:","<hen>",null,null,null,"Correct Sequence",{"$f":"Start!J2","v":122},null,null,null,null,null,null,null,null,"Total Sequences in Data",{"$f":"4994-COUNTBLANK(L7:L5000)","v":51},null,null,null,null,"Total Sequences in Block Data",{"$f":"COUNTA(L7:L15)","v":9},null,null,null,"Total Sequences in Block Data",{"$f":"COUNTA(L16:L23)","v":8},null,null,null,"Total Sequences in Block Data",{"$f":"COUNTA(L24:L32)","v":9},null,null,null,"Total Sequences in Block Data",{"$f":"COUNTA(L33:L40)","v":8},null,null,null,"Total Sequences in Block Data",{"$f":"COUNTA(L41:L49)","v":9},null,null,null,"Total Sequences in Block Data",{"$f":"COUNTA(L50:L57)","v":8}]
[null,null,null,null,null,null,null,null,null,null,null,null,null,null,null,"Total Sequences in Summary",{"$f":"SUM(O7:O14)","v":51},null,null,null,null,"Total Sequences in Block Summary",{"$f":"SUM(U7:U14)","v":9},null,null,null,"Total Sequences in Block Summary",{"$f":"SUM(Z7:Z14)","v":8},null,null,null,"Total Sequences in Block Summary",{"$f":"SUM(AE7:AE14)","v":9},null,null,null,"Total Sequences in Block Summary",{"$f":"SUM(AJ7:AJ14)","v":8},null,null,null,"Total Sequences in Block Summary",{"$f":"SUM(AO7:AO14)","v":9},null,null,null,"Total Sequences in Block Summary",{"$f":"SUM(AT7:AT14)","v":8}]
[null,null,null,null,null,null,null,null,null,null,null,null,null,null,null,null,null,null,null,"Block 1",null,null,null,null,"Block 2",null,null,null,null,"Block 3",null,null,null,null,"Block 4",null,null,null,null,"Block 5",null,null,null,null,"Block 6"]
["Sequence\nComponent\n1","Time\n1","Sequence\nComponent\n2","Time\n2","Sequence\nComponent\n3","Time\n3","Sequence\nComponent\n4","Time\n4","Sequence\nComponent\n5","Time\n5","Correct?\n0=No 1=Yes","Sequence",null,"Frequency",null,"Relative Frequency","Variability",null,null,"Frequency",null,"Relative Frequency","Variability",null,"Frequency",null,"Relative Frequency","Variability",null,"Frequency",null,"Relative Frequency","Variability",null,"Frequency",null,"Relative Frequency","Variability",null,"Frequency",null,"Relative Frequency","Variability",null,"Frequency",null,"Relative Frequency","Variability"]
[22,29,23,52,23,59,null,null,null,null,0,222,null,111,{"$f":"COUNTIF($L$7:$L$500,N7)","v":0},{"$f":"O7/$Q$4","v":0},{"$f":"IF(P7=0,0,(P7*((LOG(P7))/LOG(2))))","v":0},null,null,{"$f":"N7","v":111},{"$f":"COUNTIF(L7:L15,T7)","v":0},{"$f":"U7/(W4-U10)","v":0},{"$f":"IF(V7=0,0,(V7*((LOG(V7))/LOG(2))))","v":0},null,{"$f":"N7","v":111},{"$f":"COUNTIF(L16:L23,Y7)","v":0},{"$f":"Z7/(AB4-Z10)","v":0},{"$f":"IF(AA7=0,0,(AA7*((LOG(AA7))/LOG(2))))","v":0},null,{"$f":"N7","v":111},{"$f":"COUNTIF(L24:L32,AD7)","v":0},{"$f":"AE7/(AG4-AE10)","v":0},{"$f":"IF(AF7=0,0,(AF7*((LOG(AF7))/LOG(2))))","v":0},null,{"$f":"N7","v":111},{"$f":"COUNTIF(L33:L40,AI7)","v":0},{"$f":"AJ7/(AL4-AJ10)","v":0},{"$f":"IF(AK7=0,0,(AK7*((LOG(AK7))/LOG(2))))","v":0},null,{"$f":"N7","v":111},{"$f":"COUNTIF(L41:L49,AN7)","v":0},{"$f":"AO7/(AQ4-AO10)","v":0},{"$f":"IF(AP7=0,0,(AP7*((LOG(AP7))/LOG(2))))","v":0},null,{"$f":"N7","v":111},{"$f":"COUNTIF(L50:L57,AS7)","v":0},{"$f":"AT7/(AV4-AT10)","v":0},{"$f":"IF(AU7=0,0,(AU7*((LOG(AU7))/LOG(2))))","v":0}]
[11,157,21,169,21,177,null,null,null,null,0,122,null,112,{"$f":"COUNTIF($L$7:$L$500,N8)","v":2},{"$f":"O8/$Q$4","v":3.9215686274509803E-2},{"$f":"IF(P8=0,0,(P8*((LOG(P8))/LOG(2))))","v":-0.18323236635182338},null,null,{"$f":"N8","v":112},{"$f":"COUNTIF(L7:L15,T8)","v":0},{"$f":"U8/(W4-U10)","v":0},{"$f":"IF(V8=0,0,(V8*((LOG(V8))/LOG(2))))","v":0},null,{"$f":"N8","v":112},{"$f":"COUNTIF(L16:L23,Y8)","v":0},{"$f":"Z8/(AB4-Z10)","v":0},{"$f":"IF(AA8=0,0,(AA8*((LOG(AA8))/LOG(2))))","v":0},null,{"$f":"N8","v":112},{"$f":"COUNTIF(L24:L32,AD8)","v":1},{"$f":"AE8/(AG4-AE10)","v":0.33333333333333331},{"$f":"IF(AF8=0,0,(AF8*((LOG(AF8))/LOG(2))))","v":-0.52832083357371862},null,{"$f":"N8","v":112},{"$f":"COUNTIF(L33:L40,AI8)","v":1},{"$f":"AJ8/(AL4-AJ10)","v":0.33333333333333331},{"$f":"IF(AK8=0,0,(AK8*((LOG(AK8))/LOG(2))))","v":-0.52832083357371862},null,{"$f":"N8","v":112},{"$f":"COUNTIF(L41:L49,AN8)","v":0},{"$f":"AO8/(AQ4-AO10)","v":0},{"$f":"IF(AP8=0,0,(AP8*((LOG(AP8))/LOG(2))))","v":0},null,{"$f":"N8","v":112},{"$f":"COUNTIF(L50:L57,AS8)","v":0},{"$f":"AT8/(AV4-AT10)","v":0},{"$f":"IF(AU8=0,0,(AU8*((LOG(AU8))/LOG(2))))","v":0}]
[22,280,14,295,14,304,null,null,null,null,0,211,null,121,{"$f":"COUNTIF($L$7:$L$500,N9)","v":1},{"$f":"O9/$Q$4","v":1.9607843137254902E-2},{"$f":"IF(P9=0,0,(P9*((LOG(P9))/LOG(2))))","v":-0.11122402631316657},null,null,{"$f":"N9","v":121},{"$f":"COUNTIF(L7:L15,T9)","v":0},{"$f":"U9/(W4-U10)","v":0},{"$f":"IF(V9=0,0,(V9*((LOG(V9))/LOG(2))))","v":0},null,{"$f":"N9","v":121},{"$f":"COUNTIF(L16:L23,Y9)","v":0},{"$f":"Z9/(AB4-Z10)","v":0},{"$f":"IF(AA9=0,0,(AA9*((LOG(AA9))/LOG(2))))","v":0},null,{"$f":"N9","v":121},{"$f":"COUNTIF(L24:L32,AD9)","v":1},{"$f":"AE9/(AG4-AE10)","v":0.33333333333333331},{"$f":"IF(AF9=0,0,(AF9*((LOG(AF9))/LOG(2))))","v":-0.52832083357371862},null,{"$f":"N9","v":121},{"$f":"COUNTIF(L33:L40,AI9)","v":0},{"$f":"AJ9/(AL4-AJ10)","v":0},{"$f":"IF(AK9=0,0,(AK9*((LOG(AK9))/LOG(2))))","v":0},null,{"$f":"N9","v":121},{"$f":"COUNTIF(L41:L49,AN9)","v":0},{"$f":"AO9/(AQ4-AO10)","v":0},{"$f":"IF(AP9=0,0,(AP9*((LOG(AP9))/LOG(2))))","v":0},null,{"$f":"N9","v":121},{"$f":"COUNTIF(L50:L57,AS9)","v":0},{"$f":"AT9/(AV4-AT10)","v":0},{"$f":"IF(AU9=0,0,(AU9*((LOG(AU9))/LOG(2))))","v":0}]
[11,400,21,407,21,414,null,null,null,null,0,122,null,122,{"$f":"COUNTIF($L$7:$L$500,N10)","v":39},{"$f":"O10/$Q$4","v":0.76470588235294112},{"$f":"IF(P10=0,0,(P10*((LOG(P10))/LOG(2))))","v":-0.29595885884824796},null,null,{"$f":"N10","v":122},{"$f":"COUNTIF(L7:L15,T10)","v":7},null,null,null,{"$f":"N10","v":122},{"$f":"COUNTIF(L16:L23,Y10)","v":7},null,null,null,{"$f":"N10","v":122},{"$f":"COUNTIF(L24:L32,AD10)","v":6},null,null,null,{"$f":"N10","v":122},{"$f":"COUNTIF(L33:L40,AI10)","v":5},null,null,null,{"$f":"N10","v":122},{"$f":"COUNTIF(L41:L49,AN10)","v":7},null,null,null,{"$f":"N10","v":122},{"$f":"COUNTIF(L50:L57,AS10)","v":7}]
[11,502,21,512,21,517,null,null,null,null,0,122,null,211,{"$f":"COUNTIF($L$7:$L$500,N11)","v":1},{"$f":"O11/$Q$4","v":1.9607843137254902E-2},{"$f":"IF(P11=0,0,(P11*((LOG(P11))/LOG(2))))","v":-0.11122402631316657},null,null,{"$f":"N11","v":211},{"$f":"COUNTIF(L7:L15,T11)","v":1},{"$f":"U11/(W4-U10)","v":0.5},{"$f":"IF(V11=0,0,(V11*((LOG(V11))/LOG(2))))","v":-0.5},null,{"$f":"N11","v":211},{"$f":"COUNTIF(L16:L23,Y11)","v":0},{"$f":"Z11/(AB4-Z10)","v":0},{"$f":"IF(AA11=0,0,(AA11*((LOG(AA11))/LOG(2))))","v":0},null,{"$f":"N11","v":211},{"$f":"COUNTIF(L24:L32,AD11)","v":0},{"$f":"AE11/(AG4-AE10)","v":0},{"$f":"IF(AF11=0,0,(AF11*((LOG(AF11))/LOG(2))))","v":0},null,{"$f":"N11","v":211},{"$f":"COUNTIF(L33:L40,AI11)","v":0},{"$f":"AJ11/(AL4-AJ10)","v":0},{"$f":"IF(AK11=0,0,(AK11*((LOG(AK11))/LOG(2))))","v":0},null,{"$f":"N11","v":211},{"$f":"COUNTIF(L41:L49,AN11)","v":0},{"$f":"AO11/(AQ4-AO10)","v":0},{"$f":"IF(AP11=0,0,(AP11*((LOG(AP11))/LOG(2))))","v":0},null,{"$f":"N11","v":211},{"$f":"COUNTIF(L50:L57,AS11)","v":0},{"$f":"AT11/(AV4-AT10)","v":0},{"$f":"IF(AU11=0,0,(AU11*((LOG(AU11))/LOG(2))))","v":0}]
[11,603,21,613,21,618,null,null,null,null,0,122,null,212,{"$f":"COUNTIF($L$7:$L$500,N12)","v":0},{"$f":"O12/$Q$4","v":0},{"$f":"IF(P12=0,0,(P12*((LOG(P12))/LOG(2))))","v":0},null,null,{"$f":"N12","v":212},{"$f":"COUNTIF(L7:L15,T12)","v":0},{"$f":"U12/(W4-U10)","v":0},{"$f":"IF(V12=0,0,(V12*((LOG(V12))/LOG(2))))","v":0},null,{"$f":"N12","v":212},{"$f":"COUNTIF(L16:L23,Y12)","v":0},{"$f":"Z12/(AB4-Z10)","v":0},{"$f":"IF(AA12=0,0,(AA12*((LOG(AA12))/LOG(2))))","v":0},null,{"$f":"N12","v":212},{"$f":"COUNTIF(L24:L32,AD12)","v":0},{"$f":"AE12/(AG4-AE10)","v":0},{"$f":"IF(AF12=0,0,(AF12*((LOG(AF12))/LOG(2))))","v":0},null,{"$f":"N12","v":212},{"$f":"COUNTIF(L33:L40,AI12)","v":0},{"$f":"AJ12/(AL4-AJ10)","v":0},{"$f":"IF(AK12=0,0,(AK12*((LOG(AK12))/LOG(2))))","v":0},null,{"$f":"N12","v":212},{"$f":"COUNTIF(L41:L49,AN12)","v":0},{"$f":"AO12/(AQ4-AO10)","v":0},{"$f":"IF(AP12=0,0,(AP12*((LOG(AP12))/LOG(2))))","v":0},null,{"$f":"N12","v":212},{"$f":"COUNTIF(L50:L57,AS12)","v":0},{"$f":"AT12/(AV4-AT10)","v":0},{"$f":"IF(AU12=0,0,(AU12*((LOG(AU12))/LOG(2))))","v":0}]
[11,704,21,712,21,719,null,null,null,null,0,122,null,221,{"$f":"COUNTIF($L$7:$L$500,N13)","v":4},{"$f":"O13/$Q$4","v":7.8431372549019607E-2},{"$f":"IF(P13=0,0,(P13*((LOG(P13))/LOG(2))))","v":-0.2880333601546271},null,null,{"$f":"N13","v":221},{"$f":"COUNTIF(L7:L15,T13)","v":0},{"$f":"U13/(W4-U10)","v":0},{"$f":"IF(V13=0,0,(V13*((LOG(V13))/LOG(2))))","v":0},null,{"$f":"N13","v":221},{"$f":"COUNTIF(L16:L23,Y13)","v":0},{"$f":"Z13/(AB4-Z10)","v":0},{"$f":"IF(AA13=0,0,(AA13*((LOG(AA13))/LOG(2))))","v":0},null,{"$f":"N13","v":221},{"$f":"COUNTIF(L24:L32,AD13)","v":0},{"$f":"AE13/(AG4-AE10)","v":0},{"$f":"IF(AF13=0,0,(AF13*((LOG(AF13))/LOG(2))))","v":0},null,{"$f":"N13","v":221},{"$f":"COUNTIF(L33:L40,AI13)","v":2},{"$f":"AJ13/(AL4-AJ10)","v":0.66666666666666663},{"$f":"IF(AK13=0,0,(AK13*((LOG(AK13))/LOG(2))))","v":-0.38997500048077083},null,{"$f":"N13","v":221},{"$f":"COUNTIF(L41:L49,AN13)","v":1},{"$f":"AO13/(AQ4-AO10)","v":0.5},{"$f":"IF(AP13=0,0,(AP13*((LOG(AP13))/LOG(2))))","v":-0.5},null,{"$f":"N13","v":221},{"$f":"COUNTIF(L50:L57,AS13)","v":1},{"$f":"AT13/(AV4-AT10)","v":1},{"$f":"IF(AU13=0,0,(AU13*((LOG(AU13))/LOG(2))))","v":0}]
[11,805,21,814,21,821,null,null,null,null,0,122,null,222,{"$f":"COUNTIF($L$7:$L$500,N14)","v":4},{"$f":"O14/$Q$4","v":7.8431372549019607E-2},{"$f":"IF(P14=0,0,(P14*((LOG(P14))/LOG(2))))","v":-0.2880333601546271},null,null,{"$f":"N14","v":222},{"$f":"COUNTIF(L7:L15,T14)","v":1},{"$f":"U14/(W4-U10)","v":0.5},{"$f":"IF(V14=0,0,(V14*((LOG(V14))/LOG(2))))","v":-0.5},null,{"$f":"N14","v":222},{"$f":"COUNTIF(L16:L23,Y14)","v":1},{"$f":"Z14/(AB4-Z10)","v":1},{"$f":"IF(AA14=0,0,(AA14*((LOG(AA14))/LOG(2))))","v":0},null,{"$f":"N14","v":222},{"$f":"COUNTIF(L24:L32,AD14)","v":1},{"$f":"AE14/(AG4-AE10)","v":0.33333333333333331},{"$f":"IF(AF14=0,0,(AF14*((LOG(AF14))/LOG(2))))","v":-0.52832083357371862},null,{"$f":"N14","v":222},{"$f":"COUNTIF(L33:L40,AI14)","v":0},{"$f":"AJ14/(AL4-AJ10)","v":0},{"$f":"IF(AK14=0,0,(AK14*((LOG(AK14))/LOG(2))))","v":0},null,{"$f":"N14","v":222},{"$f":"COUNTIF(L41:L49,AN14)","v":1},{"$f":"AO14/(AQ4-AO10)","v":0.5},{"$f":"IF(AP14=0,0,(AP14*((LOG(AP14))/LOG(2))))","v":-0.5},null,{"$f":"N14","v":222},{"$f":"COUNTIF(L50:L57,AS14)","v":0},{"$f":"AT14/(AV4-AT10)","v":0},{"$f":"IF(AU14=0,0,(AU14*((LOG(AU14))/LOG(2))))","v":0}]
[11,908,21,918,21,923,null,null,null,null,0,122,null,null,null,{"$f":"SUM(P7:P14)","v":1},{"$f":"-SUM(Q7:Q14)","v":1.2777059981356587},null,null,null,null,{"$f":"SUM(V7:V14)","v":1},{"$f":"-SUM(W7:W14)","v":1},null,null,null,{"$f":"SUM(AA7:AA14)","v":1},{"$f":"-SUM(AB7:AB14)","v":0},null,null,null,{"$f":"SUM(AF7:AF14)","v":1},{"$f":"-SUM(AG7:AG14)","v":1.5849625007211559},null,null,null,{"$f":"SUM(AK7:AK14)","v":1},{"$f":"-SUM(AL7:AL14)","v":0.91829583405448945},null,null,null,{"$f":"SUM(AP7:AP14)","v":1},{"$f":"-SUM(AQ7:AQ14)","v":1},null,null,null,{"$f":"SUM(AU7:AU14)","v":1},{"$f":"-SUM(AV7:AV14)","v":0}]
[22,1031,23,1038,23,1050,null,null,null,null,0,222,null,null,null,"U=",{"$f":"Q15/(LOG(Q4)/LOG(2))","v":0.2252486231386136},null,null,null,null,"U1=",{"$f":"W15/(LOG(W4)/LOG(2))","v":0.31546487678572877},null,null,null,"U2=",{"$f":"AB15/(LOG(AB4)/LOG(2))","v":0},null,null,null,"U3=",{"$f":"AG15/(LOG(AG4)/LOG(2))","v":0.49999999999999994},null,null,null,"U4=",{"$f":"AL15/(LOG(AL4)/LOG(2))","v":0.30609861135149646},null,null,null,"U5=",{"$f":"AQ15/(LOG(AQ4)/LOG(2))","v":0.31546487678572877},null,null,null,"U6=",{"$f":"AV15/(LOG(AV4)/LOG(2))","v":0}]
[11,1146,21,1156,21,1161,null,null,null,null,0,122]
[11,1250,21,1262,21,1270,null,null,null,null,0,122]
[11,1356,21,1366,21,1370,null,null,null,null,0,122,null,"Total Target Seq"]
[11,1453,21,1462,21,1467,null,null,null,null,0,122,null,{"$f":"COUNTIF(L7:L57,G3)","v":39},null,9,8,9,8,9,8]
[11,1553,21,1565,21,1573,null,null,null,null,0,122,null,null,null,"% of reinforcement given in 6 equal intervals based on number of trials "]
[11,1658,21,1670,21,1677,null,null,null,null,0,122,null,null,null,"%_1","%_2","%_3","%_4","%_5","%_6"]
[11,1762,21,1770,21,1774,null,null,null,null,0,122,null,null,"target sequence",{"$f":"$G$3","v":122},{"$f":"$G$3","v":122},{"$f":"$G$3","v":122},{"$f":"$G$3","v":122},{"$f":"$G$3","v":122},{"$f":"$G$3","v":122}]
[11,1860,21,1869,21,1902,null,null,null,null,0,122,null,null,"total reinforcement",{"$f":"U10","v":7},{"$f":"Z10","v":7},{"$f":"AE10","v":6},{"$f":"AJ10","v":5},{"$f":"AO10","v":7},{"$f":"AT10","v":7}]
[11,1990,21,2001,21,2010,null,null,null,null,0,122,null,null,"% target"]
[11,2095,21,2105,12,2123,null,null,null,null,0,121,null,null,"CCRF"]
[22,2227,23,2231,23,2261,null,null,null,null,0,222,null,null,"% CCRf"]
[11,2355,12,2377,23,2389,null,null,null,null,0,112,null,null,"average response rate",{"$f":"F15/P20","v":102.55555555555556},{"$f":"(F23-F15)/Q20","v":106.375},{"$f":"(F32-F23)/R20","v":114.55555555555556},{"$f":"(F40-F32)/S20","v":111.625},{"$f":"(F49-F40)/T20","v":111},{"$f":"(F57-F49)/U20","v":114.125}]
[11,2485,21,2495,21,2503,null,null,null,null,0,122]
[11,2589,21,2600,21,2606,null,null,null,null,0,122]
[11,2691,21,2700,21,2705,null,null,null,null,0,122]
[11,2789,21,2800,21,2805,null,null,null,null,0,122]
[11,2889,21,2900,21,2905,null,null,null,null,0,122]
[22,3002,23,3010,14,3030,null,null,null,null,0,221]
[11,3126,21,3137,21,3145,null,null,null,null,0,122]
[11,3230,12,3240,23,3251,null,null,null,null,0,112]
[11,3346,21,3357,21,3361,null,null,null,null,0,122]
[11,3445,21,3456,21,3464,null,null,null,null,0,122]
[11,3559,21,3572,21,3579,null,null,null,null,0,122]
[22,3674,23,3681,14,3698,null,null,null,null,0,221]
[11,3791,21,3801,21,3822,null,null,null,null,0,122]
[11,3907,21,3920,21,3924,null,null,null,null,0,122]
[11,4014,21,4026,21,4033,null,null,null,null,0,122]
[11,4119,21,4130,21,4135,null,null,null,null,0,122]
[11,4220,21,4231,21,4236,null,null,null,null,0,122]
[11,4321,21,4333,21,4338,null,null,null,null,0,122]
[22,4434,23,4442,23,4456,null,null,null,null,0,222]
[22,4561,23,4568,14,4586,null,null,null,null,0,221]
[11,4680,21,4692,21,4697,null,null,null,null,0,122]
[11,4793,21,4802,21,4807,null,null,null,null,0,122]
[11,4904,21,4919,21,4932,null,null,null,null,0,122]
[11,5017,21,5027,21,5035,null,null,null,null,0,122]
[22,5148,23,5156,14,5174,null,null,null,null,0,221]
[11,5267,21,5277,21,5285,null,null,null,null,0,122]
[11,5369,21,5380,21,5385,null,null,null,null,0,122]
[11,5487,21,5498,21,5503,null,null,null,null,0,122]
[11,5588,21,5596,21,5610,null,null,null,null,1,122]

{"sheet":"!M815B20.104","index":34,"n_rows":67,"n_cols":48,"rows_kept":67,"cut":false,"hidden":false,"merged":[[4,39,4,42],[5,39,5,40],[4,44,4,47],[5,44,5,45],[4,24,4,27],[5,24,5,25],[4,29,4,32],[5,29,5,30],[4,34,4,37],[5,34,5,35],[1,1,1,2],[5,13,5,14],[18,13,18,14],[19,13,19,14],[4,19,4,22],[5,19,5,20]]}
["Report for:!M815B20.104"]
["Date:","<date>"]
["Hen:","<hen>",null,null,null,"Correct Sequence",{"$f":"Start!J2","v":122},null,null,null,null,null,null,null,null,"Total Sequences in Data",{"$f":"4994-COUNTBLANK(L7:L5000)","v":61},null,null,null,null,"Total Sequences in Block Data",{"$f":"COUNTA(L7:L16)","v":10},null,null,null,"Total Sequences in Block Data",{"$f":"COUNTA(L17:L26)","v":10},null,null,null,"Total Sequences in Block Data",{"$f":"COUNTA(L27:L37)","v":11},null,null,null,"Total Sequences in Block Data",{"$f":"COUNTA(L38:L47)","v":10},null,null,null,"Total Sequences in Block Data",{"$f":"COUNTA(L48:L57)","v":10},null,null,null,"Total Sequences in Block Data",{"$f":"COUNTA(L58:L67)","v":10}]
[null,null,null,null,null,null,null,null,null,null,null,null,null,null,null,"Total Sequences in Summary",{"$f":"SUM(O7:O14)","v":61},null,null,null,null,"Total Sequences in Block Summary",{"$f":"SUM(U7:U14)","v":10},null,null,null,"Total Sequences in Block Summary",{"$f":"SUM(Z7:Z14)","v":10},null,null,null,"Total Sequences in Block Summary",{"$f":"SUM(AE7:AE14)","v":11},null,null,null,"Total Sequences in Block Summary",{"$f":"SUM(AJ7:AJ14)","v":10},null,null,null,"Total Sequences in Block Summary",{"$f":"SUM(AO7:AO14)","v":10},null,null,null,"Total Sequences in Block Summary",{"$f":"SUM(AT7:AT14)","v":10}]
[null,null,null,null,null,null,null,null,null,null,null,null,null,null,null,null,null,null,null,"Block 1",null,null,null,null,"Block 2",null,null,null,null,"Block 3",null,null,null,null,"Block 4",null,null,null,null,"Block 5",null,null,null,null,"Block 6"]
["Sequence\nComponent\n1","Time\n1","Sequence\nComponent\n2","Time\n2","Sequence\nComponent\n3","Time\n3","Sequence\nComponent\n4","Time\n4","Sequence\nComponent\n5","Time\n5","Correct?\n0=No 1=Yes","Sequence",null,"Frequency",null,"Relative Frequency","Variability",null,null,"Frequency",null,"Relative Frequency","Variability",null,"Frequency",null,"Relative Frequency","Variability",null,"Frequency",null,"Relative Frequency","Variability",null,"Frequency",null,"Relative Frequency","Variability",null,"Frequency",null,"Relative Frequency","Variability",null,"Frequency",null,"Relative Frequency","Variability"]
[11,9,21,18,21,26,null,null,null,null,0,122,null,111,{"$f":"COUNTIF($L$7:$L$500,N7)","v":0},{"$f":"O7/$Q$4","v":0},{"$f":"IF(P7=0,0,(P7*((LOG(P7))/LOG(2))))","v":0},null,null,{"$f":"N7","v":111},{"$f":"COUNTIF(L7:L16,T7)","v":0},{"$f":"U7/(W4-U10)","v":0},{"$f":"IF(V7=0,0,(V7*((LOG(V7))/LOG(2))))","v":0},null,{"$f":"N7","v":111},{"$f":"COUNTIF(L17:L26,Y7)","v":0},{"$f":"Z7/(AB4-Z10)","v":0},{"$f":"IF(AA7=0,0,(AA7*((LOG(AA7))/LOG(2))))","v":0},null,{"$f":"N7","v":111},{"$f":"COUNTIF(L27:L37,AD7)","v":0},{"$f":"AE7/(AG4-AE10)","v":0},{"$f":"IF(AF7=0,0,(AF7*((LOG(AF7))/LOG(2))))","v":0},null,{"$f":"N7","v":111},{"$f":"COUNTIF(L38:L47,AI7)","v":0},{"$f":"AJ7/(AL4-AJ10)","v":0},{"$f":"IF(AK7=0,0,(AK7*((LOG(AK7))/LOG(2))))","v":0},null,{"$f":"N7","v":111},{"$f":"COUNTIF(L48:L57,AN7)","v":0},{"$f":"AO7/(AQ4-AO10)","v":0},{"$f":"IF(AP7=0,0,(AP7*((LOG(AP7))/LOG(2))))","v":0},null,{"$f":"N7","v":111},{"$f":"COUNTIF(L58:L67,AS7)","v":0},{"$f":"AT7/(AV4-AT10)","v":0},{"$f":"IF(AU7=0,0,(AU7*((LOG(AU7))/LOG(2))))","v":0}]
[11,113,21,121,21,126,null,null,null,null,0,122,null,112,{"$f":"COUNTIF($L$7:$L$500,N8)","v":0},{"$f":"O8/$Q$4","v":0},{"$f":"IF(P8=0,0,(P8*((LOG(P8))/LOG(2))))","v":0},null,null,{"$f":"N8","v":112},{"$f":"COUNTIF(L7:L16,T8)","v":0},{"$f":"U8/(W4-U10)","v":0},{"$f":"IF(V8=0,0,(V8*((LOG(V8))/LOG(2))))","v":0},null,{"$f":"N8","v":112},{"$f":"COUNTIF(L17:L26,Y8)","v":0},{"$f":"Z8/(AB4-Z10)","v":0},{"$f":"IF(AA8=0,0,(AA8*((LOG(AA8))/LOG(2))))","v":0},null,{"$f":"N8","v":112},{"$f":"COUNTIF(L27:L37,AD8)","v":0},{"$f":"AE8/(AG4-AE10)","v":0},{"$f":"IF(AF8=0,0,(AF8*((LOG(AF8))/LOG(2))))","v":0},null,{"$f":"N8","v":112},{"$f":"COUNTIF(L38:L47,AI8)","v":0},{"$f":"AJ8/(AL4-AJ10)","v":0},{"$f":"IF(AK8=0,0,(AK8*((LOG(AK8))/LOG(2))))","v":0},null,{"$f":"N8","v":112},{"$f":"COUNTIF(L48:L57,AN8)","v":0},{"$f":"AO8/(AQ4-AO10)","v":0},{"$f":"IF(AP8=0,0,(AP8*((LOG(AP8))/LOG(2))))","v":0},null,{"$f":"N8","v":112},{"$f":"COUNTIF(L58:L67,AS8)","v":0},{"$f":"AT8/(AV4-AT10)","v":0},{"$f":"IF(AU8=0,0,(AU8*((LOG(AU8))/LOG(2))))","v":0}]
[22,220,23,225,23,246,null,null,null,null,0,222,null,121,{"$f":"COUNTIF($L$7:$L$500,N9)","v":0},{"$f":"O9/$Q$4","v":0},{"$f":"IF(P9=0,0,(P9*((LOG(P9))/LOG(2))))","v":0},null,null,{"$f":"N9","v":121},{"$f":"COUNTIF(L7:L16,T9)","v":0},{"$f":"U9/(W4-U10)","v":0},{"$f":"IF(V9=0,0,(V9*((LOG(V9))/LOG(2))))","v":0},null,{"$f":"N9","v":121},{"$f":"COUNTIF(L17:L26,Y9)","v":0},{"$f":"Z9/(AB4-Z10)","v":0},{"$f":"IF(AA9=0,0,(AA9*((LOG(AA9))/LOG(2))))","v":0},null,{"$f":"N9","v":121},{"$f":"COUNTIF(L27:L37,AD9)","v":0},{"$f":"AE9/(AG4-AE10)","v":0},{"$f":"IF(AF9=0,0,(AF9*((LOG(AF9))/LOG(2))))","v":0},null,{"$f":"N9","v":121},{"$f":"COUNTIF(L38:L47,AI9)","v":0},{"$f":"AJ9/(AL4-AJ10)","v":0},{"$f":"IF(AK9=0,0,(AK9*((LOG(AK9))/LOG(2))))","v":0},null,{"$f":"N9","v":121},{"$f":"COUNTIF(L48:L57,AN9)","v":0},{"$f":"AO9/(AQ4-AO10)","v":0},{"$f":"IF(AP9=0,0,(AP9*((LOG(AP9))/LOG(2))))","v":0},null,{"$f":"N9","v":121},{"$f":"COUNTIF(L58:L67,AS9)","v":0},{"$f":"AT9/(AV4-AT10)","v":0},{"$f":"IF(AU9=0,0,(AU9*((LOG(AU9))/LOG(2))))","v":0}]
[11,342,21,350,21,354,null,null,null,null,0,122,null,122,{"$f":"COUNTIF($L$7:$L$500,N10)","v":39},{"$f":"O10/$Q$4","v":0.63934426229508201},{"$f":"IF(P10=0,0,(P10*((LOG(P10))/LOG(2))))","v":-0.41259130539876843},null,null,{"$f":"N10","v":122},{"$f":"COUNTIF(L7:L16,T10)","v":7},null,null,null,{"$f":"N10","v":122},{"$f":"COUNTIF(L17:L26,Y10)","v":7},null,null,null,{"$f":"N10","v":122},{"$f":"COUNTIF(L27:L37,AD10)","v":8},null,null,null,{"$f":"N10","v":122},{"$f":"COUNTIF(L38:L47,AI10)","v":6},null,null,null,{"$f":"N10","v":122},{"$f":"COUNTIF(L48:L57,AN10)","v":5},null,null,null,{"$f":"N10","v":122},{"$f":"COUNTIF(L58:L67,AS10)","v":6}]
[11,441,21,452,21,457,null,null,null,null,0,122,null,211,{"$f":"COUNTIF($L$7:$L$500,N11)","v":2},{"$f":"O11/$Q$4","v":3.2786885245901641E-2},{"$f":"IF(P11=0,0,(P11*((LOG(P11))/LOG(2))))","v":-0.16166351926435696},null,null,{"$f":"N11","v":211},{"$f":"COUNTIF(L7:L16,T11)","v":0},{"$f":"U11/(W4-U10)","v":0},{"$f":"IF(V11=0,0,(V11*((LOG(V11))/LOG(2))))","v":0},null,{"$f":"N11","v":211},{"$f":"COUNTIF(L17:L26,Y11)","v":0},{"$f":"Z11/(AB4-Z10)","v":0},{"$f":"IF(AA11=0,0,(AA11*((LOG(AA11))/LOG(2))))","v":0},null,{"$f":"N11","v":211},{"$f":"COUNTIF(L27:L37,AD11)","v":1},{"$f":"AE11/(AG4-AE10)","v":0.33333333333333331},{"$f":"IF(AF11=0,0,(AF11*((LOG(AF11))/LOG(2))))","v":-0.52832083357371862},null,{"$f":"N11","v":211},{"$f":"COUNTIF(L38:L47,AI11)","v":1},{"$f":"AJ11/(AL4-AJ10)","v":0.25},{"$f":"IF(AK11=0,0,(AK11*((LOG(AK11))/LOG(2))))","v":-0.5},null,{"$f":"N11","v":211},{"$f":"COUNTIF(L48:L57,AN11)","v":0},{"$f":"AO11/(AQ4-AO10)","v":0},{"$f":"IF(AP11=0,0,(AP11*((LOG(AP11))/LOG(2))))","v":0},null,{"$f":"N11","v":211},{"$f":"COUNTIF(L58:L67,AS11)","v":0},{"$f":"AT11/(AV4-AT10)","v":0},{"$f":"IF(AU11=0,0,(AU11*((LOG(AU11))/LOG(2))))","v":0}]
[11,542,21,553,21,558,null,null,null,null,0,122,null,212,{"$f":"COUNTIF($L$7:$L$500,N12)","v":0},{"$f":"O12/$Q$4","v":0},{"$f":"IF(P12=0,0,(P12*((LOG(P12))/LOG(2))))","v":0},null,null,{"$f":"N12","v":212},{"$f":"COUNTIF(L7:L16,T12)","v":0},{"$f":"U12/(W4-U10)","v":0},{"$f":"IF(V12=0,0,(V12*((LOG(V12))/LOG(2))))","v":0},null,{"$f":"N12","v":212},{"$f":"COUNTIF(L17:L26,Y12)","v":0},{"$f":"Z12/(AB4-Z10)","v":0},{"$f":"IF(AA12=0,0,(AA12*((LOG(AA12))/LOG(2))))","v":0},null,{"$f":"N12","v":212},{"$f":"COUNTIF(L27:L37,AD12)","v":0},{"$f":"AE12/(AG4-AE10)","v":0},{"$f":"IF(AF12=0,0,(AF12*((LOG(AF12))/LOG(2))))","v":0},null,{"$f":"N12","v":212},{"$f":"COUNTIF(L38:L47,AI12)","v":0},{"$f":"AJ12/(AL4-AJ10)","v":0},{"$f":"IF(AK12=0,0,(AK12*((LOG(AK12))/LOG(2))))","v":0},null,{"$f":"N12","v":212},{"$f":"COUNTIF(L48:L57,AN12)","v":0},{"$f":"AO12/(AQ4-AO10)","v":0},{"$f":"IF(AP12=0,0,(AP12*((LOG(AP12))/LOG(2))))","v":0},null,{"$f":"N12","v":212},{"$f":"COUNTIF(L58:L67,AS12)","v":0},{"$f":"AT12/(AV4-AT10)","v":0},{"$f":"IF(AU12=0,0,(AU12*((LOG(AU12))/LOG(2))))","v":0}]
[22,656,23,664,23,687,null,null,null,null,0,222,null,221,{"$f":"COUNTIF($L$7:$L$500,N13)","v":5},{"$f":"O13/$Q$4","v":8.1967213114754092E-2},{"$f":"IF(P13=0,0,(P13*((LOG(P13))/LOG(2))))","v":-0.29580403628487895},null,null,{"$f":"N13","v":221},{"$f":"COUNTIF(L7:L16,T13)","v":1},{"$f":"U13/(W4-U10)","v":0.33333333333333331},{"$f":"IF(V13=0,0,(V13*((LOG(V13))/LOG(2))))","v":-0.52832083357371862},null,{"$f":"N13","v":221},{"$f":"COUNTIF(L17:L26,Y13)","v":2},{"$f":"Z13/(AB4-Z10)","v":0.66666666666666663},{"$f":"IF(AA13=0,0,(AA13*((LOG(AA13))/LOG(2))))","v":-0.38997500048077083},null,{"$f":"N13","v":221},{"$f":"COUNTIF(L27:L37,AD13)","v":0},{"$f":"AE13/(AG4-AE10)","v":0},{"$f":"IF(AF13=0,0,(AF13*((LOG(AF13))/LOG(2))))","v":0},null,{"$f":"N13","v":221},{"$f":"COUNTIF(L38:L47,AI13)","v":0},{"$f":"AJ13/(AL4-AJ10)","v":0},{"$f":"IF(AK13=0,0,(AK13*((LOG(AK13))/LOG(2))))","v":0},null,{"$f":"N13","v":221},{"$f":"COUNTIF(L48:L57,AN13)","v":2},{"$f":"AO13/(AQ4-AO10)","v":0.4},{"$f":"IF(AP13=0,0,(AP13*((LOG(AP13))/LOG(2))))","v":-0.52877123795494496},null,{"$f":"N13","v":221},{"$f":"COUNTIF(L58:L67,AS13)","v":0},{"$f":"AT13/(AV4-AT10)","v":0},{"$f":"IF(AU13=0,0,(AU13*((LOG(AU13))/LOG(2))))","v":0}]
[22,793,23,798,14,813,null,null,null,null,0,221,null,222,{"$f":"COUNTIF($L$7:$L$500,N14)","v":15},{"$f":"O14/$Q$4","v":0.24590163934426229},{"$f":"IF(P14=0,0,(P14*((LOG(P14))/LOG(2))))","v":-0.49766723162812315},null,null,{"$f":"N14","v":222},{"$f":"COUNTIF(L7:L16,T14)","v":2},{"$f":"U14/(W4-U10)","v":0.66666666666666663},{"$f":"IF(V14=0,0,(V14*((LOG(V14))/LOG(2))))","v":-0.38997500048077083},null,{"$f":"N14","v":222},{"$f":"COUNTIF(L17:L26,Y14)","v":1},{"$f":"Z14/(AB4-Z10)","v":0.33333333333333331},{"$f":"IF(AA14=0,0,(AA14*((LOG(AA14))/LOG(2))))","v":-0.52832083357371862},null,{"$f":"N14","v":222},{"$f":"COUNTIF(L27:L37,AD14)","v":2},{"$f":"AE14/(AG4-AE10)","v":0.66666666666666663},{"$f":"IF(AF14=0,0,(AF14*((LOG(AF14))/LOG(2))))","v":-0.38997500048077083},null,{"$f":"N14","v":222},{"$f":"COUNTIF(L38:L47,AI14)","v":3},{"$f":"AJ14/(AL4-AJ10)","v":0.75},{"$f":"IF(AK14=0,0,(AK14*((LOG(AK14))/LOG(2))))","v":-0.31127812445913283},null,{"$f":"N14","v":222},{"$f":"COUNTIF(L48:L57,AN14)","v":3},{"$f":"AO14/(AQ4-AO10)","v":0.6},{"$f":"IF(AP14=0,0,(AP14*((LOG(AP14))/LOG(2))))","v":-0.44217935649972373},null,{"$f":"N14","v":222},{"$f":"COUNTIF(L58:L67,AS14)","v":4},{"$f":"AT14/(AV4-AT10)","v":1},{"$f":"IF(AU14=0,0,(AU14*((LOG(AU14))/LOG(2))))","v":0}]
[11,925,21,935,21,943,null,null,null,null,0,122,null,null,null,{"$f":"SUM(P7:P14)","v":1},{"$f":"-SUM(Q7:Q14)","v":1.3677260925761274},null,null,null,null,{"$f":"SUM(V7:V14)","v":1},{"$f":"-SUM(W7:W14)","v":0.91829583405448945},null,null,null,{"$f":"SUM(AA7:AA14)","v":1},{"$f":"-SUM(AB7:AB14)","v":0.91829583405448945},null,null,null,{"$f":"SUM(AF7:AF14)","v":1},{"$f":"-SUM(AG7:AG14)","v":0.91829583405448945},null,null,null,{"$f":"SUM(AK7:AK14)","v":1},{"$f":"-SUM(AL7:AL14)","v":0.81127812445913283},null,null,null,{"$f":"SUM(AP7:AP14)","v":1},{"$f":"-SUM(AQ7:AQ14)","v":0.97095059445466869},null,null,null,{"$f":"SUM(AU7:AU14)","v":1},{"$f":"-SUM(AV7:AV14)","v":0}]
[11,1029,21,1039,21,1044,null,null,null,null,0,122,null,null,null,"U=",{"$f":"Q15/(LOG(Q4)/LOG(2))","v":0.23061653462774429},null,null,null,null,"U1=",{"$f":"W15/(LOG(W4)/LOG(2))","v":0.27643459094367495},null,null,null,"U2=",{"$f":"AB15/(LOG(AB4)/LOG(2))","v":0.27643459094367495},null,null,null,"U3=",{"$f":"AG15/(LOG(AG4)/LOG(2))","v":0.26544702577940094},null,null,null,"U4=",{"$f":"AL15/(LOG(AL4)/LOG(2))","v":0.24421905028821556},null,null,null,"U5=",{"$f":"AQ15/(LOG(AQ4)/LOG(2))","v":0.29228525323862892},null,null,null,"U6=",{"$f":"AV15/(LOG(AV4)/LOG(2))","v":0}]
[11,1128,21,1138,21,1143,null,null,null,null,0,122]
[11,1227,21,1237,21,1242,null,null,null,null,0,122]
[11,1329,21,1338,21,1344,null,null,null,null,0,122,null,"Total Target Seq"]
[11,1432,21,1442,21,1447,null,null,null,null,0,122,null,{"$f":"COUNTIF(L7:L67,G3)","v":39},null,10,10,11,10,10,10]
[11,1530,21,1541,21,1545,null,null,null,null,0,122,null,null,null,"% of reinforcement given in 6 equal intervals based on number of trials "]
[11,1630,21,1639,21,1643,null,null,null,null,0,122,null,null,null,"%_1","%_2","%_3","%_4","%_5","%_6"]
[22,1739,23,1743,14,1761,null,null,null,null,0,221,null,null,"target sequence",{"$f":"$G$3","v":122},{"$f":"$G$3","v":122},{"$f":"$G$3","v":122},{"$f":"$G$3","v":122},{"$f":"$G$3","v":122},{"$f":"$G$3","v":122}]
[11,1856,21,1868,21,1873,null,null,null,null,0,122,null,null,"total reinforcement",{"$f":"U10","v":7},{"$f":"Z10","v":7},{"$f":"AE10","v":8},{"$f":"AJ10","v":6},{"$f":"AO10","v":5},{"$f":"AT10","v":6}]
[22,1969,23,1977,14,1993,null,null,null,null,0,221,null,null,"% target"]
[22,2101,23,2106,23,2122,null,null,null,null,0,222,null,null,"CCRF"]
[11,2218,21,2230,21,2237,null,null,null,null,0,122,null,null,"% CCRf"]
[22,2330,23,2334,23,2364,null,null,null,null,0,222,null,null,"average response rate",{"$f":"F16/P20","v":104.4},{"$f":"(F26-F16)/Q20","v":107.8},{"$f":"(F37-F26)/R20","v":116.72727272727273},{"$f":"(F47-F37)/S20","v":114.7},{"$f":"(F57-F47)/T20","v":120.3},{"$f":"(F67-F57)/U20","v":115.8}]
[11,2459,21,2470,21,2476,null,null,null,null,0,122]
[11,2560,21,2571,21,2576,null,null,null,null,0,122]
[11,2660,21,2671,21,2678,null,null,null,null,0,122]
[11,2772,21,2781,21,2789,null,null,null,null,0,122]
[11,2874,21,2886,21,2922,null,null,null,null,0,122]
[22,3031,14,3054,14,3061,null,null,null,null,0,211]
[22,3160,23,3166,23,3175,null,null,null,null,0,222]
[11,3269,21,3279,21,3284,null,null,null,null,0,122]
[11,3370,21,3385,21,3406,null,null,null,null,0,122]
[22,3501,14,3512,14,3522,null,null,null,null,0,211]
[11,3617,21,3628,21,3633,null,null,null,null,0,122]
[11,3718,21,3731,21,3735,null,null,null,null,0,122]
[11,3818,21,3829,21,3852,null,null,null,null,0,122]
[22,3949,23,3956,23,3968,null,null,null,null,0,222]
[11,4063,21,4074,21,4079,null,null,null,null,0,122]
[11,4177,21,4188,21,4193,null,null,null,null,0,122]
[22,4290,23,4295,23,4313,null,null,null,null,0,222]
[11,4424,21,4436,21,4441,null,null,null,null,0,122]
[22,4536,23,4545,23,4553,null,null,null,null,0,222]
[22,4660,23,4666,14,4682,null,null,null,null,0,221]
[22,4790,23,4797,23,4810,null,null,null,null,0,222]
[11,4906,21,4918,21,4925,null,null,null,null,0,122]
[22,5021,23,5029,23,5041,null,null,null,null,0,222]
[11,5136,21,5147,21,5154,null,null,null,null,0,122]
[22,5250,23,5283,23,5290,null,null,null,null,0,222]
[22,5397,23,5404,14,5416,null,null,null,null,0,221]
[11,5511,21,5522,21,5540,null,null,null,null,0,122]
[11,5625,21,5640,21,5655,null,null,null,null,0,122]
[11,5740,21,5751,21,5756,null,null,null,null,0,122]
[11,5839,21,5873,21,5891,null,null,null,null,0,122]
[22,5986,23,5992,23,6001,null,null,null,null,0,222]
[22,6110,23,6135,23,6149,null,null,null,null,0,222]
[22,6256,23,6262,23,6275,null,null,null,null,0,222]
[11,6371,21,6383,21,6389,null,null,null,null,0,122]
[11,6475,21,6486,21,6495,null,null,null,null,0,122]
[22,6590,23,6594,23,6603,null,null,null,null,0,222]
[11,6696,21,6708,21,6712,null,null,null,null,0,122]
[11,6798,21,6809,21,6814,null,null,null,null,0,122]
[11,6899,21,6909,21,6914,null,null,null,null,1,122]