{"text_format":"1","workbook":"xlsx","n_sheets":34,"sheets":["Sample Report","Summary","Start","!M525A00.103","!M526A10.103","!M527A20.103","!M528930.103","!M529940.103","!M530A00.103","!M531930.103","!M601A10.103","!M602920.103","!M603B50.103","!M604A10.103","!M605930.103","!M606930.103","!M607940.103","!M608A20.103","!M609A20.103","!M610930.103","!M611940.103","!M612930.103","!M613A20.103","!M614A30.103","!M615830.103","!M616820.103","!M617B40.103","!M618B10.103","!M619B50.103","!M620B30.103","!M621B10.103","!M622C20.103","!M623C50.103","!M624C20.103"],"not_rendered":{"charts":0,"images":0,"macros":1,"external_links":0,"defined_names":0,"comments":0,"pivot_tables":0},"unopened":[],"bounds":{"document_bytes":16777216,"sheet_cells":100000,"rows_first":2000,"rows_last":500,"rows_between":2000,"halvings":0,"cell_chars":16384,"cell_head_chars":4096},"cells_cut":0,"cells_raw":0,"read":"whole","date_system":"1900"}

{"sheet":"Sample Report","index":0,"n_rows":12,"n_cols":11,"rows_kept":12,"cut":false,"hidden":true,"merged":[[7,0,7,6]]}
[]
["Date"]
["Hen"]
["Program"]
["Start at 999999"]
["Sequence component 1","Time 1","Seqeunce Component 2","Time 2","Seqeunce Component 3","Time 3","Correct   0 = No 1=Yes",null,null,"Seqeunce","Time"]
[12,7,12,42,13,18,"if 77 new line,                                  if 31 or 41 = yes new line on 77, ",null,null,"=string of Seqeunce compponent 1, 2 & 3","=time 3"]
["This continues until ther is a 1 on its own to indicate start of summary data"]
[null,null,null,null,null,null,null,null,null,"10-19 =1"]
["Summary Data ",null,null,null,null,null,null,null,null,"20-29 =2"]
["Correct","Incorrect","Rft","total","Av Correct","Av Incorrect","Percent correct","Time",null,"in this example the seqeunce would be 111"]
[40,33,40,73,23.95,15,54,806]

{"sheet":"Summary","index":1,"n_rows":33,"n_cols":24,"rows_kept":33,"cut":false,"hidden":false,"merged":[]}
[]
["Day","Date","Average Response Rate","Target %","RF for non correct sequence","U Value",null,null,null,null,"Block 1","Block 2","Block 3","Block 4","Block 5","Block 6"]
[1,{"$f":"'!M525A00.103'!B2:C2","v":"<date>"},{"$f":"('!M525A00.103'!F165/60)/'!M525A00.103'!Q3","v":2.4848958333333333},{"$f":"'!M525A00.103'!N20/'!M525A00.103'!Q3","v":0},{"$f":"SUM('!M525A00.103'!L20:Q20)/'!M525A00.103'!Q3","v":1.65},{"$f":"'!M525A00.103'!Q16","v":0.25218709906264986},null,null,null,"Average Response Rate",{"$f":"AVERAGE(C3:C7)","v":4.7603095453350734},{"$f":"AVERAGE(C8:C12)","v":4.1307711052523208},{"$f":"AVERAGE(C13:C17)","v":2.4616191546156294},{"$f":"AVERAGE(C18:C22)","v":2.2351940365190366},{"$f":"AVERAGE(C23:C27)","v":2.0761132047899546},{"$f":"AVERAGE(C28:C32)","v":2.0436320441593532}]
[2,{"$f":"'!M526A10.103'!B2:C2","v":"<date>"},{"$f":"('!M526A10.103'!F117/60)/'!M526A10.103'!Q3","v":3.5202702702702702},{"$f":"'!M526A10.103'!N20/'!M526A10.103'!Q3","v":0},{"$f":"SUM('!M526A10.103'!L20:Q20)/'!M526A10.103'!Q3","v":2.2432432432432434},{"$f":"'!M526A10.103'!Q16","v":0.35083332179259868},null,null,null,"Target %",{"$f":"AVERAGE(D3:D7)","v":5.1697772843960307E-2},{"$f":"AVERAGE(D8:D12)","v":0.20901661262343296},{"$f":"AVERAGE(D13:D17)","v":0.20152160721855444},{"$f":"AVERAGE(D18:D22)","v":0.12470046620046622},{"$f":"AVERAGE(D23:D27)","v":0.17647277318828247},{"$f":"AVERAGE(D28:D32)","v":0.17459548923302645}]
[3,{"$f":"'!M527A20.103'!B2:C2","v":"<date>"},{"$f":"('!M527A20.103'!F64/60)/'!M527A20.103'!Q3","v":6.4916666666666663},{"$f":"'!M527A20.103'!N20/'!M527A20.103'!Q3","v":1.7241379310344827E-2},{"$f":"SUM('!M527A20.103'!L20:Q20)/'!M527A20.103'!Q3","v":4},{"$f":"'!M527A20.103'!Q16","v":0.42245357548248358},null,null,null,"CCRF",{"$f":"AVERAGE(E3:E7)","v":2.7381657512643427},{"$f":"AVERAGE(E8:E12)","v":2.4967649274165771},{"$f":"AVERAGE(E13:E17)","v":1.749363093587841},{"$f":"AVERAGE(E18:E22)","v":2.067055944055944},{"$f":"AVERAGE(E23:E27)","v":2.3067853199291628},{"$f":"AVERAGE(E28:E32)","v":2.4526739848090395}]
[4,{"$f":"'!M528930.103'!B2:C2","v":"<date>"},{"$f":"('!M528930.103'!F77/60)/'!M528930.103'!Q3","v":5.603286384976526},{"$f":"'!M528930.103'!N20/'!M528930.103'!Q3","v":0.11267605633802817},{"$f":"SUM('!M528930.103'!L20:Q20)/'!M528930.103'!Q3","v":2.1690140845070425},{"$f":"'!M528930.103'!Q16","v":0.25857552638045128},null,null,null,"U Value",{"$f":"AVERAGE(F3:F7)","v":0.30816880076478392},{"$f":"AVERAGE(F8:F12)","v":0.30800136501094766},{"$f":"AVERAGE(F13:F17)","v":0.30566132584272304},{"$f":"AVERAGE(F18:F22)","v":0.2434977170968807},{"$f":"AVERAGE(F23:F27)","v":0.22853936790149926},{"$f":"AVERAGE(F28:F32)","v":0.20372845738878947}]
[5,{"$f":"'!M529940.103'!B2:C2","v":"<date>"},{"$f":"('!M529940.103'!F76/60)/'!M529940.103'!Q3","v":5.701428571428572},{"$f":"'!M529940.103'!N20/'!M529940.103'!Q3","v":0.12857142857142856},{"$f":"SUM('!M529940.103'!L20:Q20)/'!M529940.103'!Q3","v":3.6285714285714286},{"$f":"'!M529940.103'!Q16","v":0.25679448110573633}]
[6,{"$f":"'!M530A00.103'!B2:C2","v":"<date>"},{"$f":"('!M530A00.103'!F75/60)/'!M530A00.103'!Q3","v":5.7176328502415457},{"$f":"'!M530A00.103'!N20/'!M530A00.103'!Q3","v":0.24637681159420291},{"$f":"SUM('!M530A00.103'!L20:Q20)/'!M530A00.103'!Q3","v":3.7971014492753623},{"$f":"'!M530A00.103'!Q16","v":0.27128088144177592}]
[7,{"$f":"'!M531930.103'!B2:C2","v":"<date>"},{"$f":"('!M531930.103'!F108/60)/'!M531930.103'!Q3","v":3.9158496732026147},{"$f":"'!M531930.103'!N20/'!M531930.103'!Q3","v":0.13725490196078433},{"$f":"SUM('!M531930.103'!L20:Q20)/'!M531930.103'!Q3","v":2.6470588235294117},{"$f":"'!M531930.103'!Q16","v":0.20095188354245594},{"$f":"K3","v":4.7603095453350734},{"$f":"L3","v":4.1307711052523208},{"$f":"M3","v":2.4616191546156294},{"$f":"N3","v":2.2351940365190366},{"$f":"O3","v":2.0761132047899546},{"$f":"P3","v":2.0436320441593532},{"$f":"K4","v":5.1697772843960307E-2},{"$f":"L4","v":0.20901661262343296},{"$f":"M4","v":0.20152160721855444},{"$f":"N4","v":0.12470046620046622},{"$f":"O4","v":0.17647277318828247},{"$f":"P4","v":0.17459548923302645},{"$f":"K6","v":0.30816880076478392},{"$f":"L6","v":0.30800136501094766},{"$f":"M6","v":0.30566132584272304},{"$f":"N6","v":0.2434977170968807},{"$f":"O6","v":0.22853936790149926},{"$f":"P6","v":0.20372845738878947}]
[8,{"$f":"'!M601A10.103'!B2:C2","v":"<date>"},{"$f":"('!M601A10.103'!F104/60)/'!M601A10.103'!Q3","v":4.0818027210884349},{"$f":"'!M601A10.103'!N20/'!M601A10.103'!Q3","v":0.27551020408163263},{"$f":"SUM('!M601A10.103'!L20:Q20)/'!M601A10.103'!Q3","v":2.8775510204081631},{"$f":"'!M601A10.103'!Q16","v":0.36631109948058255}]
[9,{"$f":"'!M602920.103'!B2:C2","v":"<date>"},{"$f":"('!M602920.103'!F108/60)/'!M602920.103'!Q3","v":3.8522653721682851},{"$f":"'!M602920.103'!N20/'!M602920.103'!Q3","v":0.14563106796116504},{"$f":"SUM('!M602920.103'!L20:Q20)/'!M602920.103'!Q3","v":1.6504854368932038},{"$f":"'!M602920.103'!Q16","v":0.37397648865218003}]
[10,{"$f":"'!M603B50.103'!B2:C2","v":"<date>"},{"$f":"('!M603B50.103'!F134/60)/'!M603B50.103'!Q3","v":3.0863049095607233},{"$f":"'!M603B50.103'!N20/'!M603B50.103'!Q3","v":0.24031007751937986},{"$f":"SUM('!M603B50.103'!L20:Q20)/'!M603B50.103'!Q3","v":1.5116279069767442},{"$f":"'!M603B50.103'!Q16","v":0.32748647193774394}]
[11,{"$f":"'!M604A10.103'!B2:C2","v":"<date>"},{"$f":"('!M604A10.103'!F124/60)/'!M604A10.103'!Q3","v":2.7121468926553676},{"$f":"'!M604A10.103'!N20/'!M604A10.103'!Q3","v":0.1864406779661017},{"$f":"SUM('!M604A10.103'!L20:Q20)/'!M604A10.103'!Q3","v":1.4576271186440677},{"$f":"'!M604A10.103'!Q16","v":0.3443283849388753}]
[12,{"$f":"'!M605930.103'!B2:C2","v":"<date>"},{"$f":"('!M605930.103'!F87/60)/'!M605930.103'!Q3","v":2.1695473251028803},{"$f":"'!M605930.103'!N20/'!M605930.103'!Q3","v":0.22222222222222221},{"$f":"SUM('!M605930.103'!L20:Q20)/'!M605930.103'!Q3","v":2.0617283950617282},{"$f":"'!M605930.103'!Q16","v":0.31913915492259415}]
[13,{"$f":"'!M606930.103'!B2:C2","v":"<date>"},{"$f":"('!M606930.103'!F101/60)/'!M606930.103'!Q3","v":2.2466666666666666},{"$f":"'!M606930.103'!N20/'!M606930.103'!Q3","v":0.24210526315789474},{"$f":"SUM('!M606930.103'!L20:Q20)/'!M606930.103'!Q3","v":1.7578947368421052},{"$f":"'!M606930.103'!Q16","v":0.30443754253247307}]
[14,{"$f":"'!M607940.103'!B2:C2","v":"<date>"},{"$f":"('!M607940.103'!F88/60)/'!M607940.103'!Q3","v":2.0808943089430891},{"$f":"'!M607940.103'!N20/'!M607940.103'!Q3","v":0.18292682926829268},{"$f":"SUM('!M607940.103'!L20:Q20)/'!M607940.103'!Q3","v":2},{"$f":"'!M607940.103'!Q16","v":0.28935287562857104}]
[15,{"$f":"'!M608A20.103'!B2:C2","v":"<date>"},{"$f":"('!M608A20.103'!F121/60)/'!M608A20.103'!Q3","v":3.0988405797101448},{"$f":"'!M608A20.103'!N20/'!M608A20.103'!Q3","v":0.17391304347826086},{"$f":"SUM('!M608A20.103'!L20:Q20)/'!M608A20.103'!Q3","v":1.4695652173913043},{"$f":"'!M608A20.103'!Q16","v":0.27104867119110143}]
[16,{"$f":"'!M609A20.103'!B2:C2","v":"<date>"},{"$f":"('!M609A20.103'!F84/60)/'!M609A20.103'!Q3","v":2.2677350427350427},{"$f":"'!M609A20.103'!N20/'!M609A20.103'!Q3","v":0.16666666666666666},{"$f":"SUM('!M609A20.103'!L20:Q20)/'!M609A20.103'!Q3","v":1.9358974358974359},{"$f":"'!M609A20.103'!Q16","v":0.2970396129175728}]
[17,{"$f":"'!M610930.103'!B2:C2","v":"<date>"},{"$f":"('!M610930.103'!F81/60)/'!M610930.103'!Q3","v":2.6262222222222222},{"$f":"'!M610930.103'!N20/'!M610930.103'!Q3","v":0.14666666666666667},{"$f":"SUM('!M610930.103'!L20:Q20)/'!M610930.103'!Q3","v":2.1066666666666665},{"$f":"'!M610930.103'!Q16","v":0.26899076994730264}]
[18,{"$f":"'!M611940.103'!B2:C2","v":"<date>"},{"$f":"('!M611940.103'!F61/60)/'!M611940.103'!Q3","v":2.1657575757575755},{"$f":"'!M611940.103'!N20/'!M611940.103'!Q3","v":1.8181818181818181E-2},{"$f":"SUM('!M611940.103'!L20:Q20)/'!M611940.103'!Q3","v":2.3818181818181818},{"$f":"'!M611940.103'!Q16","v":0.16288930476900249}]
[19,{"$f":"'!M612930.103'!B2:C2","v":"<date>"},{"$f":"('!M612930.103'!F84/60)/'!M612930.103'!Q3","v":2.0918803418803416},{"$f":"'!M612930.103'!N20/'!M612930.103'!Q3","v":0.17948717948717949},{"$f":"SUM('!M612930.103'!L20:Q20)/'!M612930.103'!Q3","v":1.9358974358974359},{"$f":"'!M612930.103'!Q16","v":0.25695229458475949}]
[20,{"$f":"'!M613A20.103'!B2:C2","v":"<date>"},{"$f":"('!M613A20.103'!F86/60)/'!M613A20.103'!Q3","v":2.024375},{"$f":"'!M613A20.103'!N20/'!M613A20.103'!Q3","v":0.1125},{"$f":"SUM('!M613A20.103'!L20:Q20)/'!M613A20.103'!Q3","v":1.9750000000000001},{"$f":"'!M613A20.103'!Q16","v":0.23161660326576608}]
[21,{"$f":"'!M614A30.103'!B2:C2","v":"<date>"},{"$f":"('!M614A30.103'!F77/60)/'!M614A30.103'!Q3","v":2.0868544600938965},{"$f":"'!M614A30.103'!N20/'!M614A30.103'!Q3","v":0.3380281690140845},{"$f":"SUM('!M614A30.103'!L20:Q20)/'!M614A30.103'!Q3","v":2.2535211267605635},{"$f":"'!M614A30.103'!Q16","v":0.22491717610569811}]
[22,{"$f":"'!M615830.103'!B2:C2","v":"<date>"},{"$f":"('!M615830.103'!F91/60)/'!M615830.103'!Q3","v":1.97},{"$f":"'!M615830.103'!N20/'!M615830.103'!Q3","v":5.8823529411764705E-2},{"$f":"SUM('!M615830.103'!L20:Q20)/'!M615830.103'!Q3","v":1.8235294117647058},{"$f":"'!M615830.103'!Q16","v":0.23710965312023075}]
[23,{"$f":"'!M616820.103'!B2:C2","v":"<date>"},{"$f":"('!M616820.103'!F68/60)/'!M616820.103'!Q3","v":2.1026881720430111},{"$f":"'!M616820.103'!N20/'!M616820.103'!Q3","v":0.14516129032258066},{"$f":"SUM('!M616820.103'!L20:Q20)/'!M616820.103'!Q3","v":2.4516129032258065},{"$f":"'!M616820.103'!Q16","v":0.22953227088751771}]
[24,{"$f":"'!M617B40.103'!B2:C2","v":"<date>"},{"$f":"('!M617B40.103'!F63/60)/'!M617B40.103'!Q3","v":2.2926900584795322},{"$f":"'!M617B40.103'!N20/'!M617B40.103'!Q3","v":0.14035087719298245},{"$f":"SUM('!M617B40.103'!L20:Q20)/'!M617B40.103'!Q3","v":2.4385964912280702},{"$f":"'!M617B40.103'!Q16","v":0.24088396676968948}]
[25,{"$f":"'!M618B10.103'!B2:C2","v":"<date>"},{"$f":"('!M618B10.103'!F66/60)/'!M618B10.103'!Q3","v":1.9283333333333335},{"$f":"'!M618B10.103'!N20/'!M618B10.103'!Q3","v":0.2},{"$f":"SUM('!M618B10.103'!L20:Q20)/'!M618B10.103'!Q3","v":2.5666666666666669},{"$f":"'!M618B10.103'!Q16","v":0.21025377262436032}]
[26,{"$f":"'!M619B50.103'!B2:C2","v":"<date>"},{"$f":"('!M619B50.103'!F59/60)/'!M619B50.103'!Q3","v":2.0817610062893079},{"$f":"'!M619B50.103'!N20/'!M619B50.103'!Q3","v":9.4339622641509441E-2},{"$f":"SUM('!M619B50.103'!L20:Q20)/'!M619B50.103'!Q3","v":2.5471698113207548},{"$f":"'!M619B50.103'!Q16","v":0.18147789381538523}]
[27,{"$f":"'!M620B30.103'!B2:C2","v":"<date>"},{"$f":"('!M620B30.103'!F80/60)/'!M620B30.103'!Q3","v":2.1177927927927929},{"$f":"'!M620B30.103'!N20/'!M620B30.103'!Q3","v":0.20270270270270271},{"$f":"SUM('!M620B30.103'!L20:Q20)/'!M620B30.103'!Q3","v":2.189189189189189},{"$f":"'!M620B30.103'!Q16","v":0.25360677342324167}]
[28,{"$f":"'!M621B10.103'!B2:C2","v":"<date>"},{"$f":"('!M621B10.103'!F63/60)/'!M621B10.103'!Q3","v":1.9137426900584795},{"$f":"'!M621B10.103'!N20/'!M621B10.103'!Q3","v":0.21052631578947367},{"$f":"SUM('!M621B10.103'!L20:Q20)/'!M621B10.103'!Q3","v":2.5087719298245612},{"$f":"'!M621B10.103'!Q16","v":0.19540858449914106}]
[29,{"$f":"'!M622C20.103'!B2:C2","v":"<date>"},{"$f":"('!M622C20.103'!F66/60)/'!M622C20.103'!Q3","v":2.1322222222222225},{"$f":"'!M622C20.103'!N20/'!M622C20.103'!Q3","v":0.23333333333333334},{"$f":"SUM('!M622C20.103'!L20:Q20)/'!M622C20.103'!Q3","v":2.4333333333333331},{"$f":"'!M622C20.103'!Q16","v":0.20519416222682255}]
[30,{"$f":"'!M623C50.103'!B2:C2","v":"<date>"},{"$f":"('!M623C50.103'!F59/60)/'!M623C50.103'!Q3","v":1.9726415094339622},{"$f":"'!M623C50.103'!N20/'!M623C50.103'!Q3","v":0.13207547169811321},{"$f":"SUM('!M623C50.103'!L20:Q20)/'!M623C50.103'!Q3","v":2.5849056603773586},{"$f":"'!M623C50.103'!Q16","v":0.18295487297935678}]
[null,{"$f":"'!M624C20.103'!B2:C2","v":"<date>"},{"$f":"('!M624C20.103'!F94/60)/'!M624C20.103'!Q3","v":1.9488636363636365},{"$f":"'!M624C20.103'!N20/'!M624C20.103'!Q3","v":0.11363636363636363},{"$f":"SUM('!M624C20.103'!L20:Q20)/'!M624C20.103'!Q3","v":1.7159090909090908},{"$f":"'!M624C20.103'!Q16","v":0.2651583165516167}]

{"sheet":"Start","index":2,"n_rows":37,"n_cols":10,"rows_kept":37,"cut":false,"hidden":false,"merged":[]}
[null,null,null,null,null,"Use Folder 51",null,"Auto Clean Up",null,"Correct sequence"]
[null,null,null,null,null,false,null,true,null,122]
[]
["Working with Folder",null,null,null,null,null,"Process All/Or Pick A number: ALL or an integer"]
["E:\\Hen Data\\Raw Data\\103_183\\phase 2 con\\",null,null,null,null,null,"ALL"]
["Filenames:"]
["!M530A00.103",null,null,null,null,null,"Paint Cells"]
["!M525A00.103",null,null,null,null,null,false]
["!M526A10.103"]
["!M527A20.103"]
["!M528930.103"]
["!M529940.103"]
["!M612930.103"]
["!M613A20.103"]
["!M614A30.103"]
["!M615830.103"]
["!M616820.103"]
["!M617B40.103"]
["!M618B10.103"]
["!M619B50.103"]
["!M620B30.103"]
["!M621B10.103"]
["!M622C20.103"]
["!M623C50.103"]
["!M624C20.103"]
["!M531930.103"]
["!M601A10.103"]
["!M602920.103"]
["!M603B50.103"]
["!M604A10.103"]
["!M605930.103"]
["!M606930.103"]
["!M607940.103"]
["!M608A20.103"]
["!M609A20.103"]
["!M610930.103"]
["!M611940.103"]

{"sheet":"!M525A00.103","index":3,"n_rows":166,"n_cols":48,"rows_kept":166,"cut":false,"hidden":false,"merged":[[4,39,4,42],[5,39,5,40],[4,44,4,47],[5,44,5,45],[4,24,4,27],[5,24,5,25],[4,29,4,32],[5,29,5,30],[4,34,4,37],[5,34,5,35],[1,1,1,2],[5,13,5,14],[18,13,18,14],[19,13,19,14],[4,19,4,22],[5,19,5,20]]}
["Report for:!M525A00.103"]
["Date:","<date>"]
["Hen:","<hen>",null,null,null,"Correct Sequence",{"$f":"Start!J2","v":122},null,null,null,null,null,null,null,null,"Total Sequences in Data",{"$f":"4994-COUNTBLANK(L7:L5000)","v":160},null,null,null,null,"Total Sequences in Block Data",{"$f":"COUNTA(L7:L33)","v":27},null,null,null,"Total Sequences in Block Data",{"$f":"COUNTA(L34:L59)","v":26},null,null,null,"Total Sequences in Block Data",{"$f":"COUNTA(L60:L86)","v":27},null,null,null,"Total Sequences in Block Data",{"$f":"COUNTA(L87:L113)","v":27},null,null,null,"Total Sequences in Block Data",{"$f":"COUNTA(L114:L139)","v":26},null,null,null,"Total Sequences in Block Data",{"$f":"COUNTA(L140:L166)","v":27}]
[null,null,null,null,null,null,null,null,null,null,null,null,null,null,null,"Total Sequences in Summary",{"$f":"SUM(O7:O14)","v":159},null,null,null,null,"Total Sequences in Block Summary",{"$f":"SUM(U7:U14)","v":27},null,null,null,"Total Sequences in Block Summary",{"$f":"SUM(Z7:Z14)","v":26},null,null,null,"Total Sequences in Block Summary",{"$f":"SUM(AE7:AE14)","v":27},null,null,null,"Total Sequences in Block Summary",{"$f":"SUM(AJ7:AJ14)","v":27},null,null,null,"Total Sequences in Block Summary",{"$f":"SUM(AO7:AO14)","v":26},null,null,null,"Total Sequences in Block Summary",{"$f":"SUM(AT7:AT14)","v":26}]
[null,null,null,null,null,null,null,null,null,null,null,null,null,null,null,null,null,null,null,"Block 1",null,null,null,null,"Block 2",null,null,null,null,"Block 3",null,null,null,null,"Block 4",null,null,null,null,"Block 5",null,null,null,null,"Block 6"]
["Sequence\nComponent\n1","Time\n1","Sequence\nComponent\n2","Time\n2","Sequence\nComponent\n3","Time\n3","Sequence\nComponent\n4","Time\n4","Sequence\nComponent\n5","Time\n5","Correct?\n0=No 1=Yes","Sequence",null,"Frequency",null,"Relative Frequency","Variability",null,null,"Frequency",null,"Relative Frequency","Variability",null,"Frequency",null,"Relative Frequency","Variability",null,"Frequency",null,"Relative Frequency","Variability",null,"Frequency",null,"Relative Frequency","Variability",null,"Frequency",null,"Relative Frequency","Variability",null,"Frequency",null,"Relative Frequency","Variability"]
[22,5,13,13,14,17,null,null,null,null,0,211,null,111,{"$f":"COUNTIF($L$7:$L$500,N7)","v":21},{"$f":"O7/$Q$4","v":0.13207547169811321},{"$f":"IF(P7=0,0,(P7*((LOG(P7))/LOG(2))))","v":-0.38573507033092763},null,null,{"$f":"N7","v":111},{"$f":"COUNTIF(L7:L33,T7)","v":0},{"$f":"U7/(W4-U10)","v":0},{"$f":"IF(V7=0,0,(V7*((LOG(V7))/LOG(2))))","v":0},null,{"$f":"N7","v":111},{"$f":"COUNTIF(L34:L59,Y7)","v":1},{"$f":"Z7/(AB4-Z10)","v":3.8461538461538464E-2},{"$f":"IF(AA7=0,0,(AA7*((LOG(AA7))/LOG(2))))","v":-0.18078614300542661},null,{"$f":"N7","v":111},{"$f":"COUNTIF(L60:L86,AD7)","v":0},{"$f":"AE7/(AG4-AE10)","v":0},{"$f":"IF(AF7=0,0,(AF7*((LOG(AF7))/LOG(2))))","v":0},null,{"$f":"N7","v":111},{"$f":"COUNTIF(L87:L113,AI7)","v":1},{"$f":"AJ7/(AL4-AJ10)","v":3.7037037037037035E-2},{"$f":"IF(AK7=0,0,(AK7*((LOG(AK7))/LOG(2))))","v":-0.1761069445245729},null,{"$f":"N7","v":111},{"$f":"COUNTIF(L114:L139,AN7)","v":6},{"$f":"AO7/(AQ4-AO10)","v":0.23076923076923078},{"$f":"IF(AP7=0,0,(AP7*((LOG(AP7))/LOG(2))))","v":-0.48818705017383146},null,{"$f":"N7","v":111},{"$f":"COUNTIF(L140:L166,AS7)","v":13},{"$f":"AT7/(AV4-AT10)","v":0.5},{"$f":"IF(AU7=0,0,(AU7*((LOG(AU7))/LOG(2))))","v":-0.5}]
[22,115,24,131,14,147,null,null,null,null,0,221,null,112,{"$f":"COUNTIF($L$7:$L$500,N8)","v":2},{"$f":"O8/$Q$4","v":1.2578616352201259E-2},{"$f":"IF(P8=0,0,(P8*((LOG(P8))/LOG(2))))","v":-7.9407332770872405E-2},null,null,{"$f":"N8","v":112},{"$f":"COUNTIF(L7:L33,T8)","v":0},{"$f":"U8/(W4-U10)","v":0},{"$f":"IF(V8=0,0,(V8*((LOG(V8))/LOG(2))))","v":0},null,{"$f":"N8","v":112},{"$f":"COUNTIF(L34:L59,Y8)","v":0},{"$f":"Z8/(AB4-Z10)","v":0},{"$f":"IF(AA8=0,0,(AA8*((LOG(AA8))/LOG(2))))","v":0},null,{"$f":"N8","v":112},{"$f":"COUNTIF(L60:L86,AD8)","v":1},{"$f":"AE8/(AG4-AE10)","v":3.7037037037037035E-2},{"$f":"IF(AF8=0,0,(AF8*((LOG(AF8))/LOG(2))))","v":-0.1761069445245729},null,{"$f":"N8","v":112},{"$f":"COUNTIF(L87:L113,AI8)","v":1},{"$f":"AJ8/(AL4-AJ10)","v":3.7037037037037035E-2},{"$f":"IF(AK8=0,0,(AK8*((LOG(AK8))/LOG(2))))","v":-0.1761069445245729},null,{"$f":"N8","v":112},{"$f":"COUNTIF(L114:L139,AN8)","v":0},{"$f":"AO8/(AQ4-AO10)","v":0},{"$f":"IF(AP8=0,0,(AP8*((LOG(AP8))/LOG(2))))","v":0},null,{"$f":"N8","v":112},{"$f":"COUNTIF(L140:L166,AS8)","v":0},{"$f":"AT8/(AV4-AT10)","v":0},{"$f":"IF(AU8=0,0,(AU8*((LOG(AU8))/LOG(2))))","v":0}]
[22,248,13,301,23,319,null,null,null,null,0,212,null,121,{"$f":"COUNTIF($L$7:$L$500,N9)","v":1},{"$f":"O9/$Q$4","v":6.2893081761006293E-3},{"$f":"IF(P9=0,0,(P9*((LOG(P9))/LOG(2))))","v":-4.5992974561536823E-2},null,null,{"$f":"N9","v":121},{"$f":"COUNTIF(L7:L33,T9)","v":0},{"$f":"U9/(W4-U10)","v":0},{"$f":"IF(V9=0,0,(V9*((LOG(V9))/LOG(2))))","v":0},null,{"$f":"N9","v":121},{"$f":"COUNTIF(L34:L59,Y9)","v":0},{"$f":"Z9/(AB4-Z10)","v":0},{"$f":"IF(AA9=0,0,(AA9*((LOG(AA9))/LOG(2))))","v":0},null,{"$f":"N9","v":121},{"$f":"COUNTIF(L60:L86,AD9)","v":1},{"$f":"AE9/(AG4-AE10)","v":3.7037037037037035E-2},{"$f":"IF(AF9=0,0,(AF9*((LOG(AF9))/LOG(2))))","v":-0.1761069445245729},null,{"$f":"N9","v":121},{"$f":"COUNTIF(L87:L113,AI9)","v":0},{"$f":"AJ9/(AL4-AJ10)","v":0},{"$f":"IF(AK9=0,0,(AK9*((LOG(AK9))/LOG(2))))","v":0},null,{"$f":"N9","v":121},{"$f":"COUNTIF(L114:L139,AN9)","v":0},{"$f":"AO9/(AQ4-AO10)","v":0},{"$f":"IF(AP9=0,0,(AP9*((LOG(AP9))/LOG(2))))","v":0},null,{"$f":"N9","v":121},{"$f":"COUNTIF(L140:L166,AS9)","v":0},{"$f":"AT9/(AV4-AT10)","v":0},{"$f":"IF(AU9=0,0,(AU9*((LOG(AU9))/LOG(2))))","v":0}]
[22,416,24,422,14,434,null,null,null,null,0,221,null,122,{"$f":"COUNTIF($L$7:$L$500,N10)","v":0},{"$f":"O10/$Q$4","v":0},{"$f":"IF(P10=0,0,(P10*((LOG(P10))/LOG(2))))","v":0},null,null,{"$f":"N10","v":122},{"$f":"COUNTIF(L7:L33,T10)","v":0},null,null,null,{"$f":"N10","v":122},{"$f":"COUNTIF(L34:L59,Y10)","v":0},null,null,null,{"$f":"N10","v":122},{"$f":"COUNTIF(L60:L86,AD10)","v":0},null,null,null,{"$f":"N10","v":122},{"$f":"COUNTIF(L87:L113,AI10)","v":0},null,null,null,{"$f":"N10","v":122},{"$f":"COUNTIF(L114:L139,AN10)","v":0},null,null,null,{"$f":"N10","v":122},{"$f":"COUNTIF(L140:L166,AS10)","v":0}]
[22,529,24,541,14,556,null,null,null,null,0,221,null,211,{"$f":"COUNTIF($L$7:$L$500,N11)","v":89},{"$f":"O11/$Q$4","v":0.55974842767295596},{"$f":"IF(P11=0,0,(P11*((LOG(P11))/LOG(2))))","v":-0.46859312996413971},null,null,{"$f":"N11","v":211},{"$f":"COUNTIF(L7:L33,T11)","v":18},{"$f":"U11/(W4-U10)","v":0.66666666666666663},{"$f":"IF(V11=0,0,(V11*((LOG(V11))/LOG(2))))","v":-0.38997500048077083},null,{"$f":"N11","v":211},{"$f":"COUNTIF(L34:L59,Y11)","v":10},{"$f":"Z11/(AB4-Z10)","v":0.38461538461538464},{"$f":"IF(AA11=0,0,(AA11*((LOG(AA11))/LOG(2))))","v":-0.53019677817451139},null,{"$f":"N11","v":211},{"$f":"COUNTIF(L60:L86,AD11)","v":17},{"$f":"AE11/(AG4-AE10)","v":0.62962962962962965},{"$f":"IF(AF11=0,0,(AF11*((LOG(AF11))/LOG(2))))","v":-0.42023034205641457},null,{"$f":"N11","v":211},{"$f":"COUNTIF(L87:L113,AI11)","v":15},{"$f":"AJ11/(AL4-AJ10)","v":0.55555555555555558},{"$f":"IF(AK11=0,0,(AK11*((LOG(AK11))/LOG(2))))","v":-0.4711093925305278},null,{"$f":"N11","v":211},{"$f":"COUNTIF(L114:L139,AN11)","v":18},{"$f":"AO11/(AQ4-AO10)","v":0.69230769230769229},{"$f":"IF(AP11=0,0,(AP11*((LOG(AP11))/LOG(2))))","v":-0.36727941925300139},null,{"$f":"N11","v":211},{"$f":"COUNTIF(L140:L166,AS11)","v":11},{"$f":"AT11/(AV4-AT10)","v":0.42307692307692307},{"$f":"IF(AU11=0,0,(AU11*((LOG(AU11))/LOG(2))))","v":-0.52504188825160547}]
[22,658,24,667,14,678,null,null,null,null,0,221,null,212,{"$f":"COUNTIF($L$7:$L$500,N12)","v":14},{"$f":"O12/$Q$4","v":8.8050314465408799E-2},{"$f":"IF(P12=0,0,(P12*((LOG(P12))/LOG(2))))","v":-0.30866284569292152},null,null,{"$f":"N12","v":212},{"$f":"COUNTIF(L7:L33,T12)","v":3},{"$f":"U12/(W4-U10)","v":0.1111111111111111},{"$f":"IF(V12=0,0,(V12*((LOG(V12))/LOG(2))))","v":-0.3522138890491458},null,{"$f":"N12","v":212},{"$f":"COUNTIF(L34:L59,Y12)","v":2},{"$f":"Z12/(AB4-Z10)","v":7.6923076923076927E-2},{"$f":"IF(AA12=0,0,(AA12*((LOG(AA12))/LOG(2))))","v":-0.28464920908777636},null,{"$f":"N12","v":212},{"$f":"COUNTIF(L60:L86,AD12)","v":2},{"$f":"AE12/(AG4-AE10)","v":7.407407407407407E-2},{"$f":"IF(AF12=0,0,(AF12*((LOG(AF12))/LOG(2))))","v":-0.27813981497507173},null,{"$f":"N12","v":212},{"$f":"COUNTIF(L87:L113,AI12)","v":3},{"$f":"AJ12/(AL4-AJ10)","v":0.1111111111111111},{"$f":"IF(AK12=0,0,(AK12*((LOG(AK12))/LOG(2))))","v":-0.3522138890491458},null,{"$f":"N12","v":212},{"$f":"COUNTIF(L114:L139,AN12)","v":2},{"$f":"AO12/(AQ4-AO10)","v":7.6923076923076927E-2},{"$f":"IF(AP12=0,0,(AP12*((LOG(AP12))/LOG(2))))","v":-0.28464920908777636},null,{"$f":"N12","v":212},{"$f":"COUNTIF(L140:L166,AS12)","v":2},{"$f":"AT12/(AV4-AT10)","v":7.6923076923076927E-2},{"$f":"IF(AU12=0,0,(AU12*((LOG(AU12))/LOG(2))))","v":-0.28464920908777636}]
[22,777,24,784,14,796,null,null,null,null,0,221,null,221,{"$f":"COUNTIF($L$7:$L$500,N13)","v":29},{"$f":"O13/$Q$4","v":0.18238993710691823},{"$f":"IF(P13=0,0,(P13*((LOG(P13))/LOG(2))))","v":-0.44774941411664598},null,null,{"$f":"N13","v":221},{"$f":"COUNTIF(L7:L33,T13)","v":6},{"$f":"U13/(W4-U10)","v":0.22222222222222221},{"$f":"IF(V13=0,0,(V13*((LOG(V13))/LOG(2))))","v":-0.48220555587606945},null,{"$f":"N13","v":221},{"$f":"COUNTIF(L34:L59,Y13)","v":13},{"$f":"Z13/(AB4-Z10)","v":0.5},{"$f":"IF(AA13=0,0,(AA13*((LOG(AA13))/LOG(2))))","v":-0.5},null,{"$f":"N13","v":221},{"$f":"COUNTIF(L60:L86,AD13)","v":5},{"$f":"AE13/(AG4-AE10)","v":0.18518518518518517},{"$f":"IF(AF13=0,0,(AF13*((LOG(AF13))/LOG(2))))","v":-0.45054803838446406},null,{"$f":"N13","v":221},{"$f":"COUNTIF(L87:L113,AI13)","v":5},{"$f":"AJ13/(AL4-AJ10)","v":0.18518518518518517},{"$f":"IF(AK13=0,0,(AK13*((LOG(AK13))/LOG(2))))","v":-0.45054803838446406},null,{"$f":"N13","v":221},{"$f":"COUNTIF(L114:L139,AN13)","v":0},{"$f":"AO13/(AQ4-AO10)","v":0},{"$f":"IF(AP13=0,0,(AP13*((LOG(AP13))/LOG(2))))","v":0},null,{"$f":"N13","v":221},{"$f":"COUNTIF(L140:L166,AS13)","v":0},{"$f":"AT13/(AV4-AT10)","v":0},{"$f":"IF(AU13=0,0,(AU13*((LOG(AU13))/LOG(2))))","v":0}]
[22,891,13,907,14,915,null,null,null,null,0,211,null,222,{"$f":"COUNTIF($L$7:$L$500,N14)","v":3},{"$f":"O14/$Q$4","v":1.8867924528301886E-2},{"$f":"IF(P14=0,0,(P14*((LOG(P14))/LOG(2))))","v":-0.10807397084081509},null,null,{"$f":"N14","v":222},{"$f":"COUNTIF(L7:L33,T14)","v":0},{"$f":"U14/(W4-U10)","v":0},{"$f":"IF(V14=0,0,(V14*((LOG(V14))/LOG(2))))","v":0},null,{"$f":"N14","v":222},{"$f":"COUNTIF(L34:L59,Y14)","v":0},{"$f":"Z14/(AB4-Z10)","v":0},{"$f":"IF(AA14=0,0,(AA14*((LOG(AA14))/LOG(2))))","v":0},null,{"$f":"N14","v":222},{"$f":"COUNTIF(L60:L86,AD14)","v":1},{"$f":"AE14/(AG4-AE10)","v":3.7037037037037035E-2},{"$f":"IF(AF14=0,0,(AF14*((LOG(AF14))/LOG(2))))","v":-0.1761069445245729},null,{"$f":"N14","v":222},{"$f":"COUNTIF(L87:L113,AI14)","v":2},{"$f":"AJ14/(AL4-AJ10)","v":7.407407407407407E-2},{"$f":"IF(AK14=0,0,(AK14*((LOG(AK14))/LOG(2))))","v":-0.27813981497507173},null,{"$f":"N14","v":222},{"$f":"COUNTIF(L114:L139,AN14)","v":0},{"$f":"AO14/(AQ4-AO10)","v":0},{"$f":"IF(AP14=0,0,(AP14*((LOG(AP14))/LOG(2))))","v":0},null,{"$f":"N14","v":222},{"$f":"COUNTIF(L140:L166,AS14)","v":0},{"$f":"AT14/(AV4-AT10)","v":0},{"$f":"IF(AU14=0,0,(AU14*((LOG(AU14))/LOG(2))))","v":0}]
[22,1030,13,1041,14,1054,null,null,null,null,0,211,null,null,null,{"$f":"SUM(P7:P14)","v":0.99999999999999989},{"$f":"-SUM(Q7:Q14)","v":1.8442147382778593},null,null,null,null,{"$f":"SUM(V7:V14)","v":0.99999999999999989},{"$f":"-SUM(W7:W14)","v":1.2243944454059861},null,null,null,{"$f":"SUM(AA7:AA14)","v":1},{"$f":"-SUM(AB7:AB14)","v":1.4956321302677145},null,null,null,{"$f":"SUM(AF7:AF14)","v":1},{"$f":"-SUM(AG7:AG14)","v":1.677239028989669},null,null,null,{"$f":"SUM(AK7:AK14)","v":0.99999999999999989},{"$f":"-SUM(AL7:AL14)","v":1.9042250239883551},null,null,null,{"$f":"SUM(AP7:AP14)","v":1},{"$f":"-SUM(AQ7:AQ14)","v":1.1401156785146092},null,null,null,{"$f":"SUM(AU7:AU14)","v":1},{"$f":"-SUM(AV7:AV14)","v":1.3096910973393818}]
[22,1153,24,1167,14,1175,null,null,null,null,0,221,null,null,null,"U=",{"$f":"Q15/(LOG(Q4)/LOG(2))","v":0.25218709906264986},null,null,null,null,"U1=",{"$f":"W15/(LOG(W4)/LOG(2))","v":0.25750229523808671},null,null,null,"U2=",{"$f":"AB15/(LOG(AB4)/LOG(2))","v":0.31818983328206585},null,null,null,"U3=",{"$f":"AG15/(LOG(AG4)/LOG(2))","v":0.35274000241362752},null,null,null,"U4=",{"$f":"AL15/(LOG(AL4)/LOG(2))","v":0.40047740837652518},null,null,null,"U5=",{"$f":"AQ15/(LOG(AQ4)/LOG(2))","v":0.24255511119829803},null,null,null,"U6=",{"$f":"AV15/(LOG(AV4)/LOG(2))","v":0.2786316123329271}]
[22,1275,13,1289,23,1297,null,null,null,null,0,212]
[22,1393,13,1415,14,1430,null,null,null,null,0,211]
[22,1530,13,1542,14,1550,null,null,null,null,0,211,null,"Total Target Seq"]
[22,1648,13,1656,14,1660,null,null,null,null,0,211,null,{"$f":"COUNTIF(L7:L166,G3)","v":0},null,27,26,27,27,26,27]
[22,1760,13,1773,23,1782,null,null,null,null,0,212,null,null,null,"% of reinforcement given in 6 equal intervals based on number of trials "]
[22,1878,13,1888,14,1891,null,null,null,null,0,211,null,null,null,"%_1","%_2","%_3","%_4","%_5","%_6"]
[22,1989,13,2006,14,2015,null,null,null,null,0,211,null,null,"target sequence",{"$f":"$G$3","v":122},{"$f":"$G$3","v":122},{"$f":"$G$3","v":122},{"$f":"$G$3","v":122},{"$f":"$G$3","v":122},{"$f":"$G$3","v":122}]
[22,2124,13,2136,14,2152,null,null,null,null,0,211,null,null,"total reinforcement",{"$f":"U10","v":0},{"$f":"Z10","v":0},{"$f":"AE10","v":0},{"$f":"AJ10","v":0},{"$f":"AO10","v":0},{"$f":"AT10","v":0}]
[22,2248,13,2264,14,2272,null,null,null,null,0,211,null,null,"% target"]
[22,2371,13,2383,14,2392,null,null,null,null,0,211,null,null,"CCRF"]
[22,2488,13,2500,14,2516,null,null,null,null,0,211,null,null,"% CCRf"]
[22,2614,13,2627,14,2632,null,null,null,null,0,211,null,null,"average response rate",{"$f":"F33/P20","v":122.14814814814815},{"$f":"(F59-F33)/Q20","v":129.57692307692307},{"$f":"(F86-F59)/R20","v":126.51851851851852},{"$f":"(F113-F86)/S20","v":147.44444444444446},{"$f":"(F139-F113)/T20","v":150.46153846153845},{"$f":"(F166-F139)/U20","v":-665.77777777777783}]
[22,2755,13,2764,14,2768,null,null,null,null,0,211]
[22,2864,13,2885,14,2900,null,null,null,null,0,211]
[22,3014,13,3022,14,3026,null,null,null,null,0,211]
[22,3152,13,3162,14,3176,null,null,null,null,0,211]
[22,3279,13,3290,14,3298,null,null,null,null,0,211]
[22,3394,13,3412,14,3421,null,null,null,null,0,211]
[22,3517,24,3531,14,3553,null,null,null,null,0,221]
[22,3651,13,3659,14,3667,null,null,null,null,0,211]
[22,3766,13,3773,14,3784,null,null,null,null,0,211]
[22,3880,24,3887,14,3896,null,null,null,null,0,221]
[22,4018,13,4040,23,4052,null,null,null,null,0,212]
[22,4148,24,4162,14,4186,null,null,null,null,0,221]
[22,4284,24,4310,14,4319,null,null,null,null,0,221]
[22,4414,24,4421,14,4448,null,null,null,null,0,221]
[22,4561,13,4571,14,4577,null,null,null,null,0,211]
[22,4673,24,4686,14,4695,null,null,null,null,0,221]
[22,4800,13,4811,14,4824,null,null,null,null,0,211]
[22,4935,24,4942,14,4950,null,null,null,null,0,221]
[22,5046,24,5067,14,5075,null,null,null,null,0,221]
[22,5172,24,5181,14,5196,null,null,null,null,0,221]
[11,5322,11,5333,12,5340,null,null,null,null,0,111]
[22,5435,13,5445,23,5458,null,null,null,null,0,212]
[22,5578,13,5586,14,5591,null,null,null,null,0,211]
[22,5688,13,5698,14,5702,null,null,null,null,0,211]
[22,5809,24,5823,14,5831,null,null,null,null,0,221]
[22,5944,24,5959,14,5967,null,null,null,null,0,221]
[22,6139,13,6147,14,6153,null,null,null,null,0,211]
[22,6257,13,6265,14,6271,null,null,null,null,0,211]
[22,6376,24,6388,14,6396,null,null,null,null,0,221]
[22,6522,13,6530,14,6535,null,null,null,null,0,211]
[22,6636,24,6659,14,6667,null,null,null,null,0,221]
[11,6791,11,6799,21,6811,null,null,null,null,0,112]
[22,6904,24,6916,14,6925,null,null,null,null,0,221]
[22,7023,13,7037,14,7053,null,null,null,null,0,211]
[22,7151,24,7165,14,7174,null,null,null,null,0,221]
[22,7270,13,7283,23,7295,null,null,null,null,0,212]
[22,7393,13,7402,14,7407,null,null,null,null,0,211]
[22,7509,24,7524,14,7533,null,null,null,null,0,221]
[22,7629,24,7637,14,7650,null,null,null,null,0,221]
[22,7762,13,7776,14,7785,null,null,null,null,0,211]
[22,7882,13,7895,14,7904,null,null,null,null,0,211]
[22,8024,24,8042,23,8059,null,null,null,null,0,222]
[22,8164,13,8172,14,8180,null,null,null,null,0,211]
[22,8276,24,8283,14,8292,null,null,null,null,0,221]
[22,8401,13,8410,14,8417,null,null,null,null,0,211]
[22,8514,13,8523,14,8534,null,null,null,null,0,211]
[22,8629,13,8645,14,8656,null,null,null,null,0,211]
[22,8764,13,8772,14,8779,null,null,null,null,0,211]
[22,8889,13,8902,14,8907,null,null,null,null,0,211]
[22,9016,13,9026,14,9033,null,null,null,null,0,211]
[22,9133,13,9141,14,9148,null,null,null,null,0,211]
[11,9256,22,9274,14,9285,null,null,null,null,0,121]
[22,9404,13,9416,14,9428,null,null,null,null,0,211]
[22,9524,13,9537,23,9547,null,null,null,null,0,212]
[22,9642,13,9668,14,9681,null,null,null,null,0,211]
[22,9804,13,9813,14,9823,null,null,null,null,0,211]
[22,9918,13,9927,14,9937,null,null,null,null,0,211]
[22,10053,13,10070,14,10083,null,null,null,null,0,211]
[22,10192,13,10205,14,10213,null,null,null,null,0,211]
[22,10337,13,10346,14,10354,null,null,null,null,0,211]
[22,10461,13,10477,14,10485,null,null,null,null,0,211]
[22,10606,13,10616,14,10629,null,null,null,null,0,211]
[22,10731,13,10740,23,10915,null,null,null,null,0,212]
[11,11040,11,11048,12,11063,null,null,null,null,0,111]
[22,11166,13,11185,14,11198,null,null,null,null,0,211]
[22,11302,13,11316,14,11331,null,null,null,null,0,211]
[22,11437,13,11451,14,11461,null,null,null,null,0,211]
[22,11565,24,11578,14,11587,null,null,null,null,0,221]
[22,11745,24,11770,14,11785,null,null,null,null,0,221]
[22,11893,13,11909,23,11922,null,null,null,null,0,212]
[22,12028,13,12047,14,12059,null,null,null,null,0,211]
[22,12161,13,12170,14,12179,null,null,null,null,0,211]
[22,12318,13,12338,14,12353,null,null,null,null,0,211]
[22,12455,13,12465,14,12472,null,null,null,null,0,211]
[22,12613,24,12631,14,12645,null,null,null,null,0,221]
[22,12751,13,12760,14,12776,null,null,null,null,0,211]
[22,12894,13,12905,14,12913,null,null,null,null,0,211]
[22,13018,24,13034,23,13051,null,null,null,null,0,222]
[22,13239,13,13251,14,13262,null,null,null,null,0,211]
[11,13395,11,13411,21,13426,null,null,null,null,0,112]
[22,13522,24,13538,23,13552,null,null,null,null,0,222]
[22,13662,13,13671,23,13685,null,null,null,null,0,212]
[22,13789,24,13804,14,13816,null,null,null,null,0,221]
[22,13913,24,13921,14,13930,null,null,null,null,0,221]
[22,14042,13,14052,14,14064,null,null,null,null,0,211]
[22,14171,13,14183,14,14190,null,null,null,null,0,211]
[11,14301,11,14313,12,14324,null,null,null,null,0,111]
[22,14428,13,14440,14,14445,null,null,null,null,0,211]
[22,14549,13,14567,14,14575,null,null,null,null,0,211]
[22,14674,13,14689,14,14704,null,null,null,null,0,211]
[22,14831,13,14847,23,14862,null,null,null,null,0,212]
[11,14974,11,14992,12,15000,null,null,null,null,0,111]
[22,15117,13,15126,14,15140,null,null,null,null,0,211]
[22,15255,13,15263,14,15268,null,null,null,null,0,211]
[22,15381,13,15390,14,15397,null,null,null,null,0,211]
[11,15515,11,15519,12,15533,null,null,null,null,0,111]
[22,15648,13,15657,14,15661,null,null,null,null,0,211]
[22,15796,13,15805,14,15810,null,null,null,null,0,211]
[22,15946,13,15960,23,15976,null,null,null,null,0,212]
[11,16085,11,16106,12,16114,null,null,null,null,0,111]
[22,16214,13,16226,14,16231,null,null,null,null,0,211]
[22,16395,13,16409,14,16414,null,null,null,null,0,211]
[22,16531,13,16568,14,16576,null,null,null,null,0,211]
[22,16691,13,16702,14,16726,null,null,null,null,0,211]
[11,16870,11,16875,12,16883,null,null,null,null,0,111]
[11,17060,11,17064,12,17078,null,null,null,null,0,111]
[22,17238,13,17248,14,17253,null,null,null,null,0,211]
[22,17387,13,17397,14,17410,null,null,null,null,0,211]
[22,17536,13,17545,14,17550,null,null,null,null,0,211]
[22,17689,13,17706,14,17726,null,null,null,null,0,211]
[22,17960,13,17972,14,17976,null,null,null,null,0,211]
[22,18113,13,18156,23,18172,null,null,null,null,0,212]
[22,18431,13,18469,14,18490,null,null,null,null,0,211]
[11,18737,11,18765,12,18771,null,null,null,null,0,111]
[11,18945,11,18957,12,18972,null,null,null,null,0,111]
[22,19116,13,19132,14,19142,null,null,null,null,0,211]
[11,19455,11,19462,12,19476,null,null,null,null,0,111]
[11,19615,11,19622,12,19636,null,null,null,null,0,111]
[11,19757,11,19798,12,19813,null,null,null,null,0,111]
[11,19993,11,20007,12,20034,null,null,null,null,0,111]
[22,20289,13,20301,23,20317,null,null,null,null,0,212]
[22,20427,13,20437,14,20450,null,null,null,null,0,211]
[22,20606,13,20616,14,20627,null,null,null,null,0,211]
[22,20809,13,20821,14,20847,null,null,null,null,0,211]
[11,21127,11,21156,12,21163,null,null,null,null,0,111]
[11,21379,11,21389,12,21413,null,null,null,null,0,111]
[11,21572,11,21581,12,21597,null,null,null,null,0,111]
[22,21707,13,21863,14,21878,null,null,null,null,0,211]
[11,22047,11,22072,12,22081,null,null,null,null,0,111]
[22,22208,13,22218,14,22231,null,null,null,null,0,211]
[11,22446,11,22461,12,22487,null,null,null,null,0,111]
[22,22778,13,22788,14,22796,null,null,null,null,0,211]
[11,23021,11,23042,12,23070,null,null,null,null,0,111]
[11,23269,11,23285,12,23312,null,null,null,null,0,111]
[22,23486,13,23499,14,23512,null,null,null,null,0,211]
[22,23646,13,23659,14,23672,null,null,null,null,0,211]
[22,23823,13,23833,14,23855,null,null,null,null,0,211]
[22,23990,13,24000,null,null,null,null,null,null,null,21]

{"sheet":"!M526A10.103","index":4,"n_rows":117,"n_cols":48,"rows_kept":117,"cut":false,"hidden":false,"merged":[[4,39,4,42],[5,39,5,40],[4,44,4,47],[5,44,5,45],[4,24,4,27],[5,24,5,25],[4,29,4,32],[5,29,5,30],[4,34,4,37],[5,34,5,35],[1,1,1,2],[5,13,5,14],[18,13,18,14],[19,13,19,14],[4,19,4,22],[5,19,5,20]]}
["Report for:!M526A10.103"]
["Date:","<date>"]
["Hen:","<hen>",null,null,null,"Correct Sequence",{"$f":"Start!J2","v":122},null,null,null,null,null,null,null,null,"Total Sequences in Data",{"$f":"4994-COUNTBLANK(L7:L5000)","v":111},null,null,null,null,"Total Sequences in Block Data",{"$f":"COUNTA(L7:L25)","v":19},null,null,null,"Total Sequences in Block Data",{"$f":"COUNTA(L26:L43)","v":18},null,null,null,"Total Sequences in Block Data",{"$f":"COUNTA(L44:L62)","v":19},null,null,null,"Total Sequences in Block Data",{"$f":"COUNTA(L63:L80)","v":18},null,null,null,"Total Sequences in Block Data",{"$f":"COUNTA(L81:L99)","v":19},null,null,null,"Total Sequences in Block Data",{"$f":"COUNTA(L100:L117)","v":18}]
[null,null,null,null,null,null,null,null,null,null,null,null,null,null,null,"Total Sequences in Summary",{"$f":"SUM(O7:O14)","v":111},null,null,null,null,"Total Sequences in Block Summary",{"$f":"SUM(U7:U14)","v":19},null,null,null,"Total Sequences in Block Summary",{"$f":"SUM(Z7:Z14)","v":18},null,null,null,"Total Sequences in Block Summary",{"$f":"SUM(AE7:AE14)","v":19},null,null,null,"Total Sequences in Block Summary",{"$f":"SUM(AJ7:AJ14)","v":18},null,null,null,"Total Sequences in Block Summary",{"$f":"SUM(AO7:AO14)","v":19},null,null,null,"Total Sequences in Block Summary",{"$f":"SUM(AT7:AT14)","v":18}]
[null,null,null,null,null,null,null,null,null,null,null,null,null,null,null,null,null,null,null,"Block 1",null,null,null,null,"Block 2",null,null,null,null,"Block 3",null,null,null,null,"Block 4",null,null,null,null,"Block 5",null,null,null,null,"Block 6"]
["Sequence\nComponent\n1","Time\n1","Sequence\nComponent\n2","Time\n2","Sequence\nComponent\n3","Time\n3","Sequence\nComponent\n4","Time\n4","Sequence\nComponent\n5","Time\n5","Correct?\n0=No 1=Yes","Sequence",null,"Frequency",null,"Relative Frequency","Variability",null,null,"Frequency",null,"Relative Frequency","Variability",null,"Frequency",null,"Relative Frequency","Variability",null,"Frequency",null,"Relative Frequency","Variability",null,"Frequency",null,"Relative Frequency","Variability",null,"Frequency",null,"Relative Frequency","Variability",null,"Frequency",null,"Relative Frequency","Variability"]
[22,10,13,20,23,37,null,null,null,null,0,212,null,111,{"$f":"COUNTIF($L$7:$L$500,N7)","v":11},{"$f":"O7/$Q$4","v":9.90990990990991E-2},{"$f":"IF(P7=0,0,(P7*((LOG(P7))/LOG(2))))","v":-0.33049393445802611},null,null,{"$f":"N7","v":111},{"$f":"COUNTIF(L7:L25,T7)","v":0},{"$f":"U7/(W4-U10)","v":0},{"$f":"IF(V7=0,0,(V7*((LOG(V7))/LOG(2))))","v":0},null,{"$f":"N7","v":111},{"$f":"COUNTIF(L26:L43,Y7)","v":3},{"$f":"Z7/(AB4-Z10)","v":0.16666666666666666},{"$f":"IF(AA7=0,0,(AA7*((LOG(AA7))/LOG(2))))","v":-0.43082708345352599},null,{"$f":"N7","v":111},{"$f":"COUNTIF(L44:L62,AD7)","v":2},{"$f":"AE7/(AG4-AE10)","v":0.10526315789473684},{"$f":"IF(AF7=0,0,(AF7*((LOG(AF7))/LOG(2))))","v":-0.34188710667827216},null,{"$f":"N7","v":111},{"$f":"COUNTIF(L63:L80,AI7)","v":3},{"$f":"AJ7/(AL4-AJ10)","v":0.16666666666666666},{"$f":"IF(AK7=0,0,(AK7*((LOG(AK7))/LOG(2))))","v":-0.43082708345352599},null,{"$f":"N7","v":111},{"$f":"COUNTIF(L81:L99,AN7)","v":3},{"$f":"AO7/(AQ4-AO10)","v":0.15789473684210525},{"$f":"IF(AP7=0,0,(AP7*((LOG(AP7))/LOG(2))))","v":-0.42046815990354147},null,{"$f":"N7","v":111},{"$f":"COUNTIF(L100:L117,AS7)","v":0},{"$f":"AT7/(AV4-AT10)","v":0},{"$f":"IF(AU7=0,0,(AU7*((LOG(AU7))/LOG(2))))","v":0}]
[22,138,24,161,23,183,null,null,null,null,0,222,null,112,{"$f":"COUNTIF($L$7:$L$500,N8)","v":3},{"$f":"O8/$Q$4","v":2.7027027027027029E-2},{"$f":"IF(P8=0,0,(P8*((LOG(P8))/LOG(2))))","v":-0.14079603690889056},null,null,{"$f":"N8","v":112},{"$f":"COUNTIF(L7:L25,T8)","v":0},{"$f":"U8/(W4-U10)","v":0},{"$f":"IF(V8=0,0,(V8*((LOG(V8))/LOG(2))))","v":0},null,{"$f":"N8","v":112},{"$f":"COUNTIF(L26:L43,Y8)","v":1},{"$f":"Z8/(AB4-Z10)","v":5.5555555555555552E-2},{"$f":"IF(AA8=0,0,(AA8*((LOG(AA8))/LOG(2))))","v":-0.23166250008012845},null,{"$f":"N8","v":112},{"$f":"COUNTIF(L44:L62,AD8)","v":0},{"$f":"AE8/(AG4-AE10)","v":0},{"$f":"IF(AF8=0,0,(AF8*((LOG(AF8))/LOG(2))))","v":0},null,{"$f":"N8","v":112},{"$f":"COUNTIF(L63:L80,AI8)","v":1},{"$f":"AJ8/(AL4-AJ10)","v":5.5555555555555552E-2},{"$f":"IF(AK8=0,0,(AK8*((LOG(AK8))/LOG(2))))","v":-0.23166250008012845},null,{"$f":"N8","v":112},{"$f":"COUNTIF(L81:L99,AN8)","v":1},{"$f":"AO8/(AQ4-AO10)","v":5.2631578947368418E-2},{"$f":"IF(AP8=0,0,(AP8*((LOG(AP8))/LOG(2))))","v":-0.22357513228650452},null,{"$f":"N8","v":112},{"$f":"COUNTIF(L100:L117,AS8)","v":0},{"$f":"AT8/(AV4-AT10)","v":0},{"$f":"IF(AU8=0,0,(AU8*((LOG(AU8))/LOG(2))))","v":0}]
[22,294,24,309,23,321,null,null,null,null,0,222,null,121,{"$f":"COUNTIF($L$7:$L$500,N9)","v":4},{"$f":"O9/$Q$4","v":3.6036036036036036E-2},{"$f":"IF(P9=0,0,(P9*((LOG(P9))/LOG(2))))","v":-0.17277174293153535},null,null,{"$f":"N9","v":121},{"$f":"COUNTIF(L7:L25,T9)","v":0},{"$f":"U9/(W4-U10)","v":0},{"$f":"IF(V9=0,0,(V9*((LOG(V9))/LOG(2))))","v":0},null,{"$f":"N9","v":121},{"$f":"COUNTIF(L26:L43,Y9)","v":1},{"$f":"Z9/(AB4-Z10)","v":5.5555555555555552E-2},{"$f":"IF(AA9=0,0,(AA9*((LOG(AA9))/LOG(2))))","v":-0.23166250008012845},null,{"$f":"N9","v":121},{"$f":"COUNTIF(L44:L62,AD9)","v":0},{"$f":"AE9/(AG4-AE10)","v":0},{"$f":"IF(AF9=0,0,(AF9*((LOG(AF9))/LOG(2))))","v":0},null,{"$f":"N9","v":121},{"$f":"COUNTIF(L63:L80,AI9)","v":1},{"$f":"AJ9/(AL4-AJ10)","v":5.5555555555555552E-2},{"$f":"IF(AK9=0,0,(AK9*((LOG(AK9))/LOG(2))))","v":-0.23166250008012845},null,{"$f":"N9","v":121},{"$f":"COUNTIF(L81:L99,AN9)","v":1},{"$f":"AO9/(AQ4-AO10)","v":5.2631578947368418E-2},{"$f":"IF(AP9=0,0,(AP9*((LOG(AP9))/LOG(2))))","v":-0.22357513228650452},null,{"$f":"N9","v":121},{"$f":"COUNTIF(L100:L117,AS9)","v":1},{"$f":"AT9/(AV4-AT10)","v":5.5555555555555552E-2},{"$f":"IF(AU9=0,0,(AU9*((LOG(AU9))/LOG(2))))","v":-0.23166250008012845}]
[22,427,24,448,14,457,null,null,null,null,0,221,null,122,{"$f":"COUNTIF($L$7:$L$500,N10)","v":0},{"$f":"O10/$Q$4","v":0},{"$f":"IF(P10=0,0,(P10*((LOG(P10))/LOG(2))))","v":0},null,null,{"$f":"N10","v":122},{"$f":"COUNTIF(L7:L25,T10)","v":0},null,null,null,{"$f":"N10","v":122},{"$f":"COUNTIF(L26:L43,Y10)","v":0},null,null,null,{"$f":"N10","v":122},{"$f":"COUNTIF(L44:L62,AD10)","v":0},null,null,null,{"$f":"N10","v":122},{"$f":"COUNTIF(L63:L80,AI10)","v":0},null,null,null,{"$f":"N10","v":122},{"$f":"COUNTIF(L81:L99,AN10)","v":0},null,null,null,{"$f":"N10","v":122},{"$f":"COUNTIF(L100:L117,AS10)","v":0}]
[22,562,24,578,23,601,null,null,null,null,0,222,null,211,{"$f":"COUNTIF($L$7:$L$500,N11)","v":43},{"$f":"O11/$Q$4","v":0.38738738738738737},{"$f":"IF(P11=0,0,(P11*((LOG(P11))/LOG(2))))","v":-0.53000448469247152},null,null,{"$f":"N11","v":211},{"$f":"COUNTIF(L7:L25,T11)","v":11},{"$f":"U11/(W4-U10)","v":0.57894736842105265},{"$f":"IF(V11=0,0,(V11*((LOG(V11))/LOG(2))))","v":-0.45649762330890375},null,{"$f":"N11","v":211},{"$f":"COUNTIF(L26:L43,Y11)","v":8},{"$f":"Z11/(AB4-Z10)","v":0.44444444444444442},{"$f":"IF(AA11=0,0,(AA11*((LOG(AA11))/LOG(2))))","v":-0.51996666730769447},null,{"$f":"N11","v":211},{"$f":"COUNTIF(L44:L62,AD11)","v":4},{"$f":"AE11/(AG4-AE10)","v":0.21052631578947367},{"$f":"IF(AF11=0,0,(AF11*((LOG(AF11))/LOG(2))))","v":-0.47324789756707064},null,{"$f":"N11","v":211},{"$f":"COUNTIF(L63:L80,AI11)","v":7},{"$f":"AJ11/(AL4-AJ10)","v":0.3888888888888889},{"$f":"IF(AK11=0,0,(AK11*((LOG(AK11))/LOG(2))))","v":-0.52988836420516428},null,{"$f":"N11","v":211},{"$f":"COUNTIF(L81:L99,AN11)","v":8},{"$f":"AO11/(AQ4-AO10)","v":0.42105263157894735},{"$f":"IF(AP11=0,0,(AP11*((LOG(AP11))/LOG(2))))","v":-0.52544316355519383},null,{"$f":"N11","v":211},{"$f":"COUNTIF(L100:L117,AS11)","v":5},{"$f":"AT11/(AV4-AT10)","v":0.27777777777777779},{"$f":"IF(AU11=0,0,(AU11*((LOG(AU11))/LOG(2))))","v":-0.51333247404304172}]
[22,714,13,724,23,737,null,null,null,null,0,212,null,212,{"$f":"COUNTIF($L$7:$L$500,N12)","v":13},{"$f":"O12/$Q$4","v":0.11711711711711711},{"$f":"IF(P12=0,0,(P12*((LOG(P12))/LOG(2))))","v":-0.36235756690736193},null,null,{"$f":"N12","v":212},{"$f":"COUNTIF(L7:L25,T12)","v":3},{"$f":"U12/(W4-U10)","v":0.15789473684210525},{"$f":"IF(V12=0,0,(V12*((LOG(V12))/LOG(2))))","v":-0.42046815990354147},null,{"$f":"N12","v":212},{"$f":"COUNTIF(L26:L43,Y12)","v":2},{"$f":"Z12/(AB4-Z10)","v":0.1111111111111111},{"$f":"IF(AA12=0,0,(AA12*((LOG(AA12))/LOG(2))))","v":-0.3522138890491458},null,{"$f":"N12","v":212},{"$f":"COUNTIF(L44:L62,AD12)","v":7},{"$f":"AE12/(AG4-AE10)","v":0.36842105263157893},{"$f":"IF(AF12=0,0,(AF12*((LOG(AF12))/LOG(2))))","v":-0.53073727051062469},null,{"$f":"N12","v":212},{"$f":"COUNTIF(L63:L80,AI12)","v":1},{"$f":"AJ12/(AL4-AJ10)","v":5.5555555555555552E-2},{"$f":"IF(AK12=0,0,(AK12*((LOG(AK12))/LOG(2))))","v":-0.23166250008012845},null,{"$f":"N12","v":212},{"$f":"COUNTIF(L81:L99,AN12)","v":0},{"$f":"AO12/(AQ4-AO10)","v":0},{"$f":"IF(AP12=0,0,(AP12*((LOG(AP12))/LOG(2))))","v":0},null,{"$f":"N12","v":212},{"$f":"COUNTIF(L100:L117,AS12)","v":0},{"$f":"AT12/(AV4-AT10)","v":0},{"$f":"IF(AU12=0,0,(AU12*((LOG(AU12))/LOG(2))))","v":0}]
[22,846,13,860,14,897,null,null,null,null,0,211,null,221,{"$f":"COUNTIF($L$7:$L$500,N13)","v":23},{"$f":"O13/$Q$4","v":0.2072072072072072},{"$f":"IF(P13=0,0,(P13*((LOG(P13))/LOG(2))))","v":-0.47053729672739764},null,null,{"$f":"N13","v":221},{"$f":"COUNTIF(L7:L25,T13)","v":2},{"$f":"U13/(W4-U10)","v":0.10526315789473684},{"$f":"IF(V13=0,0,(V13*((LOG(V13))/LOG(2))))","v":-0.34188710667827216},null,{"$f":"N13","v":221},{"$f":"COUNTIF(L26:L43,Y13)","v":3},{"$f":"Z13/(AB4-Z10)","v":0.16666666666666666},{"$f":"IF(AA13=0,0,(AA13*((LOG(AA13))/LOG(2))))","v":-0.43082708345352599},null,{"$f":"N13","v":221},{"$f":"COUNTIF(L44:L62,AD13)","v":5},{"$f":"AE13/(AG4-AE10)","v":0.26315789473684209},{"$f":"IF(AF13=0,0,(AF13*((LOG(AF13))/LOG(2))))","v":-0.50684195225163764},null,{"$f":"N13","v":221},{"$f":"COUNTIF(L63:L80,AI13)","v":2},{"$f":"AJ13/(AL4-AJ10)","v":0.1111111111111111},{"$f":"IF(AK13=0,0,(AK13*((LOG(AK13))/LOG(2))))","v":-0.3522138890491458},null,{"$f":"N13","v":221},{"$f":"COUNTIF(L81:L99,AN13)","v":5},{"$f":"AO13/(AQ4-AO10)","v":0.26315789473684209},{"$f":"IF(AP13=0,0,(AP13*((LOG(AP13))/LOG(2))))","v":-0.50684195225163764},null,{"$f":"N13","v":221},{"$f":"COUNTIF(L100:L117,AS13)","v":6},{"$f":"AT13/(AV4-AT10)","v":0.33333333333333331},{"$f":"IF(AU13=0,0,(AU13*((LOG(AU13))/LOG(2))))","v":-0.52832083357371862}]
[22,1066,13,1078,14,1112,null,null,null,null,0,211,null,222,{"$f":"COUNTIF($L$7:$L$500,N14)","v":14},{"$f":"O14/$Q$4","v":0.12612612612612611},{"$f":"IF(P14=0,0,(P14*((LOG(P14))/LOG(2))))","v":-0.37674642540626146},null,null,{"$f":"N14","v":222},{"$f":"COUNTIF(L7:L25,T14)","v":3},{"$f":"U14/(W4-U10)","v":0.15789473684210525},{"$f":"IF(V14=0,0,(V14*((LOG(V14))/LOG(2))))","v":-0.42046815990354147},null,{"$f":"N14","v":222},{"$f":"COUNTIF(L26:L43,Y14)","v":0},{"$f":"Z14/(AB4-Z10)","v":0},{"$f":"IF(AA14=0,0,(AA14*((LOG(AA14))/LOG(2))))","v":0},null,{"$f":"N14","v":222},{"$f":"COUNTIF(L44:L62,AD14)","v":1},{"$f":"AE14/(AG4-AE10)","v":5.2631578947368418E-2},{"$f":"IF(AF14=0,0,(AF14*((LOG(AF14))/LOG(2))))","v":-0.22357513228650452},null,{"$f":"N14","v":222},{"$f":"COUNTIF(L63:L80,AI14)","v":3},{"$f":"AJ14/(AL4-AJ10)","v":0.16666666666666666},{"$f":"IF(AK14=0,0,(AK14*((LOG(AK14))/LOG(2))))","v":-0.43082708345352599},null,{"$f":"N14","v":222},{"$f":"COUNTIF(L81:L99,AN14)","v":1},{"$f":"AO14/(AQ4-AO10)","v":5.2631578947368418E-2},{"$f":"IF(AP14=0,0,(AP14*((LOG(AP14))/LOG(2))))","v":-0.22357513228650452},null,{"$f":"N14","v":222},{"$f":"COUNTIF(L100:L117,AS14)","v":6},{"$f":"AT14/(AV4-AT10)","v":0.33333333333333331},{"$f":"IF(AU14=0,0,(AU14*((LOG(AU14))/LOG(2))))","v":-0.52832083357371862}]
[22,1246,13,1261,14,1269,null,null,null,null,0,211,null,null,null,{"$f":"SUM(P7:P14)","v":1},{"$f":"-SUM(Q7:Q14)","v":2.3837074880319449},null,null,null,null,{"$f":"SUM(V7:V14)","v":1},{"$f":"-SUM(W7:W14)","v":1.6393210497942587},null,null,null,{"$f":"SUM(AA7:AA14)","v":0.99999999999999989},{"$f":"-SUM(AB7:AB14)","v":2.1971597234241491},null,null,null,{"$f":"SUM(AF7:AF14)","v":0.99999999999999978},{"$f":"-SUM(AG7:AG14)","v":2.0762893592941096},null,null,null,{"$f":"SUM(AK7:AK14)","v":1.0000000000000002},{"$f":"-SUM(AL7:AL14)","v":2.4387439204017474},null,null,null,{"$f":"SUM(AP7:AP14)","v":0.99999999999999978},{"$f":"-SUM(AQ7:AQ14)","v":2.1234786725698864},null,null,null,{"$f":"SUM(AU7:AU14)","v":1},{"$f":"-SUM(AV7:AV14)","v":1.8016366412706073}]
[22,1367,24,1383,14,1403,null,null,null,null,0,221,null,null,null,"U=",{"$f":"Q15/(LOG(Q4)/LOG(2))","v":0.35083332179259868},null,null,null,null,"U1=",{"$f":"W15/(LOG(W4)/LOG(2))","v":0.38591078699112313},null,null,null,"U2=",{"$f":"AB15/(LOG(AB4)/LOG(2))","v":0.52690629271849876},null,null,null,"U3=",{"$f":"AG15/(LOG(AG4)/LOG(2))","v":0.48877702190613992},null,null,null,"U4=",{"$f":"AL15/(LOG(AL4)/LOG(2))","v":0.58484119487957786},null,null,null,"U5=",{"$f":"AQ15/(LOG(AQ4)/LOG(2))","v":0.49988580686690837},null,null,null,"U6=",{"$f":"AV15/(LOG(AV4)/LOG(2))","v":0.43205492680262814}]
[22,1516,13,1526,14,1553,null,null,null,null,0,211]
[22,1677,13,1687,14,1696,null,null,null,null,0,211]
[22,1796,13,1825,14,1841,null,null,null,null,0,211,null,"Total Target Seq"]
[22,1947,13,1957,23,1972,null,null,null,null,0,212,null,{"$f":"COUNTIF(L7:L117,G3)","v":0},null,19,18,19,18,19,18]
[22,2102,13,2114,14,2127,null,null,null,null,0,211,null,null,null,"% of reinforcement given in 6 equal intervals based on number of trials "]
[22,2227,13,2266,14,2302,null,null,null,null,0,211,null,null,null,"%_1","%_2","%_3","%_4","%_5","%_6"]
[22,2405,13,2452,14,2470,null,null,null,null,0,211,null,null,"target sequence",{"$f":"$G$3","v":122},{"$f":"$G$3","v":122},{"$f":"$G$3","v":122},{"$f":"$G$3","v":122},{"$f":"$G$3","v":122},{"$f":"$G$3","v":122}]
[22,2587,13,2608,14,2638,null,null,null,null,0,211,null,null,"total reinforcement",{"$f":"U10","v":0},{"$f":"Z10","v":0},{"$f":"AE10","v":0},{"$f":"AJ10","v":0},{"$f":"AO10","v":0},{"$f":"AT10","v":0}]
[22,2799,13,2824,14,2852,null,null,null,null,0,211,null,null,"% target"]
[11,3117,11,3146,12,3160,null,null,null,null,0,111,null,null,"CCRF"]
[22,3276,24,3294,14,3311,null,null,null,null,0,221,null,null,"% CCRf"]
[11,3449,11,3464,12,3491,null,null,null,null,0,111,null,null,"average response rate",{"$f":"F25/P20","v":150.10526315789474},{"$f":"(F43-F25)/Q20","v":162.66666666666666},{"$f":"(F62-F43)/R20","v":196.89473684210526},{"$f":"(F80-F62)/S20","v":353.44444444444446},{"$f":"(F99-F80)/T20","v":200.26315789473685},{"$f":"(F117-F99)/U20","v":208.72222222222223}]
[22,3636,13,3646,14,3651,null,null,null,null,0,211]
[22,3796,13,3813,14,3824,null,null,null,null,0,211]
[22,3926,13,3940,14,3966,null,null,null,null,0,211]
[11,4106,11,4130,12,4157,null,null,null,null,0,111]
[22,4261,24,4277,14,4288,null,null,null,null,0,221]
[22,4389,13,4402,14,4420,null,null,null,null,0,211]
[22,4528,13,4537,14,4563,null,null,null,null,0,211]
[11,4749,11,4773,21,4790,null,null,null,null,0,112]
[22,4932,13,4941,14,4947,null,null,null,null,0,211]
[22,5046,24,5061,14,5076,null,null,null,null,0,221]
[22,5176,13,5195,23,5210,null,null,null,null,0,212]
[22,5315,13,5329,14,5342,null,null,null,null,0,211]
[22,5440,13,5455,23,5469,null,null,null,null,0,212]
[11,5627,22,5638,14,5648,null,null,null,null,0,121]
[22,5748,13,5769,14,5780,null,null,null,null,0,211]
[22,5888,13,5901,23,5920,null,null,null,null,0,212]
[22,6019,24,6036,14,6047,null,null,null,null,0,221]
[22,6148,24,6169,14,6186,null,null,null,null,0,221]
[22,6289,24,6306,14,6321,null,null,null,null,0,221]
[22,6489,13,6507,23,6522,null,null,null,null,0,212]
[22,6633,13,6641,23,6654,null,null,null,null,0,212]
[22,6761,24,6787,14,6796,null,null,null,null,0,221]
[22,6924,13,6938,23,6950,null,null,null,null,0,212]
[22,7085,13,7101,23,7117,null,null,null,null,0,212]
[22,7230,24,7264,14,7380,null,null,null,null,0,221]
[11,7585,11,7608,12,7613,null,null,null,null,0,111]
[22,7784,13,7838,23,7857,null,null,null,null,0,212]
[22,8028,13,8038,23,8052,null,null,null,null,0,212]
[22,8168,13,8209,14,8218,null,null,null,null,0,211]
[11,8451,11,8461,12,8493,null,null,null,null,0,111]
[22,8635,13,8705,14,8714,null,null,null,null,0,211]
[22,9024,24,9043,23,9062,null,null,null,null,0,222]
[22,9259,13,9272,14,9290,null,null,null,null,0,211]
[22,9486,13,9496,14,9521,null,null,null,null,0,211]
[11,9678,11,9707,12,9738,null,null,null,null,0,111]
[22,10266,24,10380,23,10395,null,null,null,null,0,222]
[11,10782,11,10805,12,10846,null,null,null,null,0,111]
[22,10963,24,11262,23,11541,null,null,null,null,0,222]
[22,11832,24,11848,23,11862,null,null,null,null,0,222]
[22,12431,13,12447,14,12476,null,null,null,null,0,211]
[22,14069,24,14107,14,14126,null,null,null,null,0,221]
[11,14281,22,14295,14,14310,null,null,null,null,0,121]
[11,14474,11,14500,12,14530,null,null,null,null,0,111]
[11,14713,11,14766,21,14781,null,null,null,null,0,112]
[22,14877,13,14897,14,14926,null,null,null,null,0,211]
[22,15032,13,15043,14,15056,null,null,null,null,0,211]
[22,15159,13,15171,14,15175,null,null,null,null,0,211]
[22,15272,13,15282,14,15286,null,null,null,null,0,211]
[22,15382,13,15419,14,15441,null,null,null,null,0,211]
[22,15543,24,15569,14,15586,null,null,null,null,0,221]
[22,15688,13,15731,23,15747,null,null,null,null,0,212]
[22,15845,13,15869,14,15883,null,null,null,null,0,211]
[22,15995,13,16030,14,16048,null,null,null,null,0,211]
[22,16149,24,16164,14,16180,null,null,null,null,0,221]
[22,16282,24,16305,14,16317,null,null,null,null,0,221]
[22,16449,24,16484,14,16499,null,null,null,null,0,221]
[22,16622,13,16636,14,16665,null,null,null,null,0,211]
[22,16812,24,16827,14,16838,null,null,null,null,0,221]
[22,16952,13,16984,14,16989,null,null,null,null,0,211]
[11,17124,22,17138,14,17150,null,null,null,null,0,121]
[22,17263,24,17284,14,17296,null,null,null,null,0,221]
[22,17537,13,17557,14,17562,null,null,null,null,0,211]
[11,17800,11,17841,12,17850,null,null,null,null,0,111]
[22,17995,13,18009,14,18035,null,null,null,null,0,211]
[22,18167,13,18184,14,18225,null,null,null,null,0,211]
[11,18404,11,18414,12,18501,null,null,null,null,0,111]
[22,18756,24,18798,23,18821,null,null,null,null,0,222]
[11,19050,11,19077,12,19081,null,null,null,null,0,111]
[22,19268,13,19284,14,19295,null,null,null,null,0,211]
[11,19458,11,19480,21,19496,null,null,null,null,0,112]
[22,19628,13,19681,14,19688,null,null,null,null,0,211]
[22,19787,24,19811,14,19828,null,null,null,null,0,221]
[22,20018,24,20037,14,20051,null,null,null,null,0,221]
[22,20192,13,20208,14,20213,null,null,null,null,0,211]
[22,20321,24,20336,14,20357,null,null,null,null,0,221]
[22,20458,24,20478,14,20529,null,null,null,null,0,221]
[22,20672,13,20706,14,20721,null,null,null,null,0,211]
[22,20856,13,20893,14,20898,null,null,null,null,0,211]
[22,21029,13,21058,14,21088,null,null,null,null,0,211]
[22,21245,13,21264,14,21292,null,null,null,null,0,211]
[22,21453,24,21469,23,21485,null,null,null,null,0,222]
[22,21669,24,21682,23,21699,null,null,null,null,0,222]
[22,21826,24,21838,23,21884,null,null,null,null,0,222]
[22,22003,24,22036,23,22061,null,null,null,null,0,222]
[22,22312,24,22331,14,22344,null,null,null,null,0,221]
[22,22474,24,22504,14,22517,null,null,null,null,0,221]
[22,22691,24,22705,23,22785,null,null,null,null,0,222]
[11,23115,22,23143,14,23163,null,null,null,null,0,121]
[22,23408,24,23423,23,23445,null,null,null,null,0,222]

{"sheet":"!M527A20.103","index":5,"n_rows":64,"n_cols":48,"rows_kept":64,"cut":false,"hidden":false,"merged":[[4,39,4,42],[5,39,5,40],[4,44,4,47],[5,44,5,45],[4,24,4,27],[5,24,5,25],[4,29,4,32],[5,29,5,30],[4,34,4,37],[5,34,5,35],[1,1,1,2],[5,13,5,14],[18,13,18,14],[19,13,19,14],[4,19,4,22],[5,19,5,20]]}
["Report for:!M527A20.103"]
["Date:","<date>"]
["Hen:","<hen>",null,null,null,"Correct Sequence",{"$f":"Start!J2","v":122},null,null,null,null,null,null,null,null,"Total Sequences in Data",{"$f":"4994-COUNTBLANK(L7:L5000)","v":58},null,null,null,null,"Total Sequences in Block Data",{"$f":"COUNTA(L7:L16)","v":10},null,null,null,"Total Sequences in Block Data",{"$f":"COUNTA(L17:L25)","v":9},null,null,null,"Total Sequences in Block Data",{"$f":"COUNTA(L26:L35)","v":10},null,null,null,"Total Sequences in Block Data",{"$f":"COUNTA(L36:L45)","v":10},null,null,null,"Total Sequences in Block Data",{"$f":"COUNTA(L46:L54)","v":9},null,null,null,"Total Sequences in Block Data",{"$f":"COUNTA(L55:L64)","v":10}]
[null,null,null,null,null,null,null,null,null,null,null,null,null,null,null,"Total Sequences in Summary",{"$f":"SUM(O7:O14)","v":58},null,null,null,null,"Total Sequences in Block Summary",{"$f":"SUM(U7:U14)","v":10},null,null,null,"Total Sequences in Block Summary",{"$f":"SUM(Z7:Z14)","v":9},null,null,null,"Total Sequences in Block Summary",{"$f":"SUM(AE7:AE14)","v":10},null,null,null,"Total Sequences in Block Summary",{"$f":"SUM(AJ7:AJ14)","v":10},null,null,null,"Total Sequences in Block Summary",{"$f":"SUM(AO7:AO14)","v":9},null,null,null,"Total Sequences in Block Summary",{"$f":"SUM(AT7:AT14)","v":10}]
[null,null,null,null,null,null,null,null,null,null,null,null,null,null,null,null,null,null,null,"Block 1",null,null,null,null,"Block 2",null,null,null,null,"Block 3",null,null,null,null,"Block 4",null,null,null,null,"Block 5",null,null,null,null,"Block 6"]
["Sequence\nComponent\n1","Time\n1","Sequence\nComponent\n2","Time\n2","Sequence\nComponent\n3","Time\n3","Sequence\nComponent\n4","Time\n4","Sequence\nComponent\n5","Time\n5","Correct?\n0=No 1=Yes","Sequence",null,"Frequency",null,"Relative Frequency","Variability",null,null,"Frequency",null,"Relative Frequency","Variability",null,"Frequency",null,"Relative Frequency","Variability",null,"Frequency",null,"Relative Frequency","Variability",null,"Frequency",null,"Relative Frequency","Variability",null,"Frequency",null,"Relative Frequency","Variability",null,"Frequency",null,"Relative Frequency","Variability"]
[22,33,13,74,23,87,null,null,null,null,0,212,null,111,{"$f":"COUNTIF($L$7:$L$500,N7)","v":1},{"$f":"O7/$Q$4","v":1.7241379310344827E-2},{"$f":"IF(P7=0,0,(P7*((LOG(P7))/LOG(2))))","v":-0.10099967232978573},null,null,{"$f":"N7","v":111},{"$f":"COUNTIF(L7:L16,T7)","v":0},{"$f":"U7/(W4-U10)","v":0},{"$f":"IF(V7=0,0,(V7*((LOG(V7))/LOG(2))))","v":0},null,{"$f":"N7","v":111},{"$f":"COUNTIF(L17:L25,Y7)","v":0},{"$f":"Z7/(AB4-Z10)","v":0},{"$f":"IF(AA7=0,0,(AA7*((LOG(AA7))/LOG(2))))","v":0},null,{"$f":"N7","v":111},{"$f":"COUNTIF(L26:L35,AD7)","v":1},{"$f":"AE7/(AG4-AE10)","v":0.1},{"$f":"IF(AF7=0,0,(AF7*((LOG(AF7))/LOG(2))))","v":-0.33219280948873625},null,{"$f":"N7","v":111},{"$f":"COUNTIF(L36:L45,AI7)","v":0},{"$f":"AJ7/(AL4-AJ10)","v":0},{"$f":"IF(AK7=0,0,(AK7*((LOG(AK7))/LOG(2))))","v":0},null,{"$f":"N7","v":111},{"$f":"COUNTIF(L46:L54,AN7)","v":0},{"$f":"AO7/(AQ4-AO10)","v":0},{"$f":"IF(AP7=0,0,(AP7*((LOG(AP7))/LOG(2))))","v":0},null,{"$f":"N7","v":111},{"$f":"COUNTIF(L55:L64,AS7)","v":0},{"$f":"AT7/(AV4-AT10)","v":0},{"$f":"IF(AU7=0,0,(AU7*((LOG(AU7))/LOG(2))))","v":0}]
[22,191,24,199,23,220,null,null,null,null,0,222,null,112,{"$f":"COUNTIF($L$7:$L$500,N8)","v":1},{"$f":"O8/$Q$4","v":1.7241379310344827E-2},{"$f":"IF(P8=0,0,(P8*((LOG(P8))/LOG(2))))","v":-0.10099967232978573},null,null,{"$f":"N8","v":112},{"$f":"COUNTIF(L7:L16,T8)","v":0},{"$f":"U8/(W4-U10)","v":0},{"$f":"IF(V8=0,0,(V8*((LOG(V8))/LOG(2))))","v":0},null,{"$f":"N8","v":112},{"$f":"COUNTIF(L17:L25,Y8)","v":1},{"$f":"Z8/(AB4-Z10)","v":0.1111111111111111},{"$f":"IF(AA8=0,0,(AA8*((LOG(AA8))/LOG(2))))","v":-0.3522138890491458},null,{"$f":"N8","v":112},{"$f":"COUNTIF(L26:L35,AD8)","v":0},{"$f":"AE8/(AG4-AE10)","v":0},{"$f":"IF(AF8=0,0,(AF8*((LOG(AF8))/LOG(2))))","v":0},null,{"$f":"N8","v":112},{"$f":"COUNTIF(L36:L45,AI8)","v":0},{"$f":"AJ8/(AL4-AJ10)","v":0},{"$f":"IF(AK8=0,0,(AK8*((LOG(AK8))/LOG(2))))","v":0},null,{"$f":"N8","v":112},{"$f":"COUNTIF(L46:L54,AN8)","v":0},{"$f":"AO8/(AQ4-AO10)","v":0},{"$f":"IF(AP8=0,0,(AP8*((LOG(AP8))/LOG(2))))","v":0},null,{"$f":"N8","v":112},{"$f":"COUNTIF(L55:L64,AS8)","v":0},{"$f":"AT8/(AV4-AT10)","v":0},{"$f":"IF(AU8=0,0,(AU8*((LOG(AU8))/LOG(2))))","v":0}]
[22,321,13,331,23,345,null,null,null,null,0,212,null,121,{"$f":"COUNTIF($L$7:$L$500,N9)","v":6},{"$f":"O9/$Q$4","v":0.10344827586206896},{"$f":"IF(P9=0,0,(P9*((LOG(P9))/LOG(2))))","v":-0.33858812011100858},null,null,{"$f":"N9","v":121},{"$f":"COUNTIF(L7:L16,T9)","v":1},{"$f":"U9/(W4-U10)","v":0.1},{"$f":"IF(V9=0,0,(V9*((LOG(V9))/LOG(2))))","v":-0.33219280948873625},null,{"$f":"N9","v":121},{"$f":"COUNTIF(L17:L25,Y9)","v":0},{"$f":"Z9/(AB4-Z10)","v":0},{"$f":"IF(AA9=0,0,(AA9*((LOG(AA9))/LOG(2))))","v":0},null,{"$f":"N9","v":121},{"$f":"COUNTIF(L26:L35,AD9)","v":0},{"$f":"AE9/(AG4-AE10)","v":0},{"$f":"IF(AF9=0,0,(AF9*((LOG(AF9))/LOG(2))))","v":0},null,{"$f":"N9","v":121},{"$f":"COUNTIF(L36:L45,AI9)","v":1},{"$f":"AJ9/(AL4-AJ10)","v":0.1},{"$f":"IF(AK9=0,0,(AK9*((LOG(AK9))/LOG(2))))","v":-0.33219280948873625},null,{"$f":"N9","v":121},{"$f":"COUNTIF(L46:L54,AN9)","v":0},{"$f":"AO9/(AQ4-AO10)","v":0},{"$f":"IF(AP9=0,0,(AP9*((LOG(AP9))/LOG(2))))","v":0},null,{"$f":"N9","v":121},{"$f":"COUNTIF(L55:L64,AS9)","v":4},{"$f":"AT9/(AV4-AT10)","v":0.44444444444444442},{"$f":"IF(AU9=0,0,(AU9*((LOG(AU9))/LOG(2))))","v":-0.51996666730769447}]
[22,443,24,461,14,474,null,null,null,null,0,221,null,122,{"$f":"COUNTIF($L$7:$L$500,N10)","v":1},{"$f":"O10/$Q$4","v":1.7241379310344827E-2},{"$f":"IF(P10=0,0,(P10*((LOG(P10))/LOG(2))))","v":-0.10099967232978573},null,null,{"$f":"N10","v":122},{"$f":"COUNTIF(L7:L16,T10)","v":0},null,null,null,{"$f":"N10","v":122},{"$f":"COUNTIF(L17:L25,Y10)","v":0},null,null,null,{"$f":"N10","v":122},{"$f":"COUNTIF(L26:L35,AD10)","v":0},null,null,null,{"$f":"N10","v":122},{"$f":"COUNTIF(L36:L45,AI10)","v":0},null,null,null,{"$f":"N10","v":122},{"$f":"COUNTIF(L46:L54,AN10)","v":0},null,null,null,{"$f":"N10","v":122},{"$f":"COUNTIF(L55:L64,AS10)","v":1}]
[22,576,24,589,14,602,null,null,null,null,0,221,null,211,{"$f":"COUNTIF($L$7:$L$500,N11)","v":6},{"$f":"O11/$Q$4","v":0.10344827586206896},{"$f":"IF(P11=0,0,(P11*((LOG(P11))/LOG(2))))","v":-0.33858812011100858},null,null,{"$f":"N11","v":211},{"$f":"COUNTIF(L7:L16,T11)","v":0},{"$f":"U11/(W4-U10)","v":0},{"$f":"IF(V11=0,0,(V11*((LOG(V11))/LOG(2))))","v":0},null,{"$f":"N11","v":211},{"$f":"COUNTIF(L17:L25,Y11)","v":1},{"$f":"Z11/(AB4-Z10)","v":0.1111111111111111},{"$f":"IF(AA11=0,0,(AA11*((LOG(AA11))/LOG(2))))","v":-0.3522138890491458},null,{"$f":"N11","v":211},{"$f":"COUNTIF(L26:L35,AD11)","v":3},{"$f":"AE11/(AG4-AE10)","v":0.3},{"$f":"IF(AF11=0,0,(AF11*((LOG(AF11))/LOG(2))))","v":-0.52108967824986185},null,{"$f":"N11","v":211},{"$f":"COUNTIF(L36:L45,AI11)","v":0},{"$f":"AJ11/(AL4-AJ10)","v":0},{"$f":"IF(AK11=0,0,(AK11*((LOG(AK11))/LOG(2))))","v":0},null,{"$f":"N11","v":211},{"$f":"COUNTIF(L46:L54,AN11)","v":0},{"$f":"AO11/(AQ4-AO10)","v":0},{"$f":"IF(AP11=0,0,(AP11*((LOG(AP11))/LOG(2))))","v":0},null,{"$f":"N11","v":211},{"$f":"COUNTIF(L55:L64,AS11)","v":2},{"$f":"AT11/(AV4-AT10)","v":0.22222222222222221},{"$f":"IF(AU11=0,0,(AU11*((LOG(AU11))/LOG(2))))","v":-0.48220555587606945}]
[22,703,24,716,14,729,null,null,null,null,0,221,null,212,{"$f":"COUNTIF($L$7:$L$500,N12)","v":14},{"$f":"O12/$Q$4","v":0.2413793103448276},{"$f":"IF(P12=0,0,(P12*((LOG(P12))/LOG(2))))","v":-0.49497870729275095},null,null,{"$f":"N12","v":212},{"$f":"COUNTIF(L7:L16,T12)","v":3},{"$f":"U12/(W4-U10)","v":0.3},{"$f":"IF(V12=0,0,(V12*((LOG(V12))/LOG(2))))","v":-0.52108967824986185},null,{"$f":"N12","v":212},{"$f":"COUNTIF(L17:L25,Y12)","v":2},{"$f":"Z12/(AB4-Z10)","v":0.22222222222222221},{"$f":"IF(AA12=0,0,(AA12*((LOG(AA12))/LOG(2))))","v":-0.48220555587606945},null,{"$f":"N12","v":212},{"$f":"COUNTIF(L26:L35,AD12)","v":1},{"$f":"AE12/(AG4-AE10)","v":0.1},{"$f":"IF(AF12=0,0,(AF12*((LOG(AF12))/LOG(2))))","v":-0.33219280948873625},null,{"$f":"N12","v":212},{"$f":"COUNTIF(L36:L45,AI12)","v":2},{"$f":"AJ12/(AL4-AJ10)","v":0.2},{"$f":"IF(AK12=0,0,(AK12*((LOG(AK12))/LOG(2))))","v":-0.46438561897747244},null,{"$f":"N12","v":212},{"$f":"COUNTIF(L46:L54,AN12)","v":4},{"$f":"AO12/(AQ4-AO10)","v":0.44444444444444442},{"$f":"IF(AP12=0,0,(AP12*((LOG(AP12))/LOG(2))))","v":-0.51996666730769447},null,{"$f":"N12","v":212},{"$f":"COUNTIF(L55:L64,AS12)","v":2},{"$f":"AT12/(AV4-AT10)","v":0.22222222222222221},{"$f":"IF(AU12=0,0,(AU12*((LOG(AU12))/LOG(2))))","v":-0.48220555587606945}]
[22,864,13,876,23,891,null,null,null,null,0,212,null,221,{"$f":"COUNTIF($L$7:$L$500,N13)","v":15},{"$f":"O13/$Q$4","v":0.25862068965517243},{"$f":"IF(P13=0,0,(P13*((LOG(P13))/LOG(2))))","v":-0.50459234470320347},null,null,{"$f":"N13","v":221},{"$f":"COUNTIF(L7:L16,T13)","v":5},{"$f":"U13/(W4-U10)","v":0.5},{"$f":"IF(V13=0,0,(V13*((LOG(V13))/LOG(2))))","v":-0.5},null,{"$f":"N13","v":221},{"$f":"COUNTIF(L17:L25,Y13)","v":4},{"$f":"Z13/(AB4-Z10)","v":0.44444444444444442},{"$f":"IF(AA13=0,0,(AA13*((LOG(AA13))/LOG(2))))","v":-0.51996666730769447},null,{"$f":"N13","v":221},{"$f":"COUNTIF(L26:L35,AD13)","v":3},{"$f":"AE13/(AG4-AE10)","v":0.3},{"$f":"IF(AF13=0,0,(AF13*((LOG(AF13))/LOG(2))))","v":-0.52108967824986185},null,{"$f":"N13","v":221},{"$f":"COUNTIF(L36:L45,AI13)","v":2},{"$f":"AJ13/(AL4-AJ10)","v":0.2},{"$f":"IF(AK13=0,0,(AK13*((LOG(AK13))/LOG(2))))","v":-0.46438561897747244},null,{"$f":"N13","v":221},{"$f":"COUNTIF(L46:L54,AN13)","v":1},{"$f":"AO13/(AQ4-AO10)","v":0.1111111111111111},{"$f":"IF(AP13=0,0,(AP13*((LOG(AP13))/LOG(2))))","v":-0.3522138890491458},null,{"$f":"N13","v":221},{"$f":"COUNTIF(L55:L64,AS13)","v":0},{"$f":"AT13/(AV4-AT10)","v":0},{"$f":"IF(AU13=0,0,(AU13*((LOG(AU13))/LOG(2))))","v":0}]
[22,998,24,1018,14,1032,null,null,null,null,0,221,null,222,{"$f":"COUNTIF($L$7:$L$500,N14)","v":14},{"$f":"O14/$Q$4","v":0.2413793103448276},{"$f":"IF(P14=0,0,(P14*((LOG(P14))/LOG(2))))","v":-0.49497870729275095},null,null,{"$f":"N14","v":222},{"$f":"COUNTIF(L7:L16,T14)","v":1},{"$f":"U14/(W4-U10)","v":0.1},{"$f":"IF(V14=0,0,(V14*((LOG(V14))/LOG(2))))","v":-0.33219280948873625},null,{"$f":"N14","v":222},{"$f":"COUNTIF(L17:L25,Y14)","v":1},{"$f":"Z14/(AB4-Z10)","v":0.1111111111111111},{"$f":"IF(AA14=0,0,(AA14*((LOG(AA14))/LOG(2))))","v":-0.3522138890491458},null,{"$f":"N14","v":222},{"$f":"COUNTIF(L26:L35,AD14)","v":2},{"$f":"AE14/(AG4-AE10)","v":0.2},{"$f":"IF(AF14=0,0,(AF14*((LOG(AF14))/LOG(2))))","v":-0.46438561897747244},null,{"$f":"N14","v":222},{"$f":"COUNTIF(L36:L45,AI14)","v":5},{"$f":"AJ14/(AL4-AJ10)","v":0.5},{"$f":"IF(AK14=0,0,(AK14*((LOG(AK14))/LOG(2))))","v":-0.5},null,{"$f":"N14","v":222},{"$f":"COUNTIF(L46:L54,AN14)","v":4},{"$f":"AO14/(AQ4-AO10)","v":0.44444444444444442},{"$f":"IF(AP14=0,0,(AP14*((LOG(AP14))/LOG(2))))","v":-0.51996666730769447},null,{"$f":"N14","v":222},{"$f":"COUNTIF(L55:L64,AS14)","v":1},{"$f":"AT14/(AV4-AT10)","v":0.1111111111111111},{"$f":"IF(AU14=0,0,(AU14*((LOG(AU14))/LOG(2))))","v":-0.3522138890491458}]
[22,1136,24,1162,14,1178,null,null,null,null,0,221,null,null,null,{"$f":"SUM(P7:P14)","v":1},{"$f":"-SUM(Q7:Q14)","v":2.4747250165000798},null,null,null,null,{"$f":"SUM(V7:V14)","v":1},{"$f":"-SUM(W7:W14)","v":1.6854752972273344},null,null,null,{"$f":"SUM(AA7:AA14)","v":1},{"$f":"-SUM(AB7:AB14)","v":2.0588138903312014},null,null,null,{"$f":"SUM(AF7:AF14)","v":1},{"$f":"-SUM(AG7:AG14)","v":2.1709505944546685},null,null,null,{"$f":"SUM(AK7:AK14)","v":1},{"$f":"-SUM(AL7:AL14)","v":1.7609640474436812},null,null,null,{"$f":"SUM(AP7:AP14)","v":1},{"$f":"-SUM(AQ7:AQ14)","v":1.3921472236645349},null,null,null,{"$f":"SUM(AU7:AU14)","v":1},{"$f":"-SUM(AV7:AV14)","v":1.8365916681089791}]
[11,1313,22,1328,14,1341,null,null,null,null,0,121,null,null,null,"U=",{"$f":"Q15/(LOG(Q4)/LOG(2))","v":0.42245357548248358},null,null,null,null,"U1=",{"$f":"W15/(LOG(W4)/LOG(2))","v":0.50737862141609191},null,null,null,"U2=",{"$f":"AB15/(LOG(AB4)/LOG(2))","v":0.64948347023807929},null,null,null,"U3=",{"$f":"AG15/(LOG(AG4)/LOG(2))","v":0.65352124803540634},null,null,null,"U4=",{"$f":"AL15/(LOG(AL4)/LOG(2))","v":0.53010299956639817},null,null,null,"U5=",{"$f":"AQ15/(LOG(AQ4)/LOG(2))","v":0.43917355238092687},null,null,null,"U6=",{"$f":"AV15/(LOG(AV4)/LOG(2))","v":0.55286918188735001}]
[22,1449,24,1462,14,1472,null,null,null,null,0,221]
[22,1586,24,1605,14,1614,null,null,null,null,0,221]
[22,1743,13,1754,23,1785,null,null,null,null,0,212,null,"Total Target Seq"]
[22,1951,13,2000,23,2028,null,null,null,null,0,212,null,{"$f":"COUNTIF(L7:L64,G3)","v":1},null,10,9,10,10,9,10]
[22,2133,24,2151,14,2188,null,null,null,null,0,221,null,null,null,"% of reinforcement given in 6 equal intervals based on number of trials "]
[22,2339,24,2441,14,2482,null,null,null,null,0,221,null,null,null,"%_1","%_2","%_3","%_4","%_5","%_6"]
[22,2638,13,2648,14,2680,null,null,null,null,0,211,null,null,"target sequence",{"$f":"$G$3","v":122},{"$f":"$G$3","v":122},{"$f":"$G$3","v":122},{"$f":"$G$3","v":122},{"$f":"$G$3","v":122},{"$f":"$G$3","v":122}]
[11,2854,11,2885,21,2915,null,null,null,null,0,112,null,null,"total reinforcement",{"$f":"U10","v":0},{"$f":"Z10","v":0},{"$f":"AE10","v":0},{"$f":"AJ10","v":0},{"$f":"AO10","v":0},{"$f":"AT10","v":1}]
[22,3019,24,3053,23,3068,null,null,null,null,0,222,null,null,"% target"]
[22,3166,24,3174,23,3188,null,null,null,null,0,222,null,null,"CCRF"]
[22,3290,24,3307,14,3335,null,null,null,null,0,221,null,null,"% CCRf"]
[22,3436,24,3525,23,3539,null,null,null,null,0,222,null,null,"average response rate",{"$f":"F16/P20","v":134.1},{"$f":"(F25-F16)/Q20","v":191.88888888888889},{"$f":"(F35-F25)/R20","v":183},{"$f":"(F45-F35)/S20","v":222},{"$f":"(F54-F45)/T20","v":935.44444444444446},{"$f":"(F64-F54)/U20","v":705.4}]
[22,3658,24,3681,14,3722,null,null,null,null,0,221]
[22,3846,24,3862,14,3877,null,null,null,null,0,221]
[22,4007,13,4022,14,4037,null,null,null,null,0,211]
[11,4168,11,4178,12,4226,null,null,null,null,0,111]
[22,4352,13,4378,14,4395,null,null,null,null,0,211]
[22,4633,13,4653,14,4688,null,null,null,null,0,211]
[22,4822,13,4843,23,4898,null,null,null,null,0,212]
[11,5092,22,5130,14,5150,null,null,null,null,0,121]
[22,5270,24,5297,23,5315,null,null,null,null,0,222]
[22,5500,13,5515,23,5543,null,null,null,null,0,212]
[22,5716,13,5731,23,5745,null,null,null,null,0,212]
[22,5965,24,6010,23,6061,null,null,null,null,0,222]
[22,6179,24,6207,23,6221,null,null,null,null,0,222]
[22,6348,24,6374,14,6389,null,null,null,null,0,221]
[22,6652,24,6669,23,6688,null,null,null,null,0,222]
[22,6825,24,6866,23,6882,null,null,null,null,0,222]
[22,7060,24,7105,14,7118,null,null,null,null,0,221]
[22,7409,24,7476,23,7509,null,null,null,null,0,222]
[22,7697,24,8111,14,8665,null,null,null,null,0,221]
[22,9122,24,9177,23,9194,null,null,null,null,0,222]
[22,9984,24,13012,23,13082,null,null,null,null,0,222]
[22,13445,24,13496,23,13512,null,null,null,null,0,222]
[22,13698,13,13717,23,13740,null,null,null,null,0,212]
[22,13964,13,13981,23,13998,null,null,null,null,0,212]
[22,15174,13,15200,23,15219,null,null,null,null,0,212]
[22,15486,13,15506,23,15537,null,null,null,null,0,212]
[22,15734,13,15749,14,15755,null,null,null,null,0,211]
[22,16163,13,16185,23,16215,null,null,null,null,0,212]
[11,16430,22,16445,14,16462,null,null,null,null,0,121]
[11,16700,22,16714,14,16768,null,null,null,null,0,121]
[22,17404,24,17428,23,17448,null,null,null,null,0,222]
[11,17739,22,17761,14,17777,null,null,null,null,0,121]
[11,18134,22,18160,23,18195,null,null,null,null,0,122]
[22,18612,13,18642,14,18673,null,null,null,null,0,211]
[11,20491,22,21927,14,21956,null,null,null,null,0,121]
[22,22553,13,22575,23,22591,null,null,null,null,0,212]

{"sheet":"!M528930.103","index":6,"n_rows":77,"n_cols":48,"rows_kept":77,"cut":false,"hidden":false,"merged":[[4,39,4,42],[5,39,5,40],[4,44,4,47],[5,44,5,45],[4,24,4,27],[5,24,5,25],[4,29,4,32],[5,29,5,30],[4,34,4,37],[5,34,5,35],[1,1,1,2],[5,13,5,14],[18,13,18,14],[19,13,19,14],[4,19,4,22],[5,19,5,20]]}
["Report for:!M528930.103"]
["Date:","<date>"]
["Hen:","<hen>",null,null,null,"Correct Sequence",{"$f":"Start!J2","v":122},null,null,null,null,null,null,null,null,"Total Sequences in Data",{"$f":"4994-COUNTBLANK(L7:L5000)","v":71},null,null,null,null,"Total Sequences in Block Data",{"$f":"COUNTA(L7:L18)","v":12},null,null,null,"Total Sequences in Block Data",{"$f":"COUNTA(L19:L30)","v":12},null,null,null,"Total Sequences in Block Data",{"$f":"COUNTA(L31:L41)","v":11},null,null,null,"Total Sequences in Block Data",{"$f":"COUNTA(L42:L53)","v":12},null,null,null,"Total Sequences in Block Data",{"$f":"COUNTA(L54:L65)","v":12},null,null,null,"Total Sequences in Block Data",{"$f":"COUNTA(L66:L77)","v":12}]
[null,null,null,null,null,null,null,null,null,null,null,null,null,null,null,"Total Sequences in Summary",{"$f":"SUM(O7:O14)","v":71},null,null,null,null,"Total Sequences in Block Summary",{"$f":"SUM(U7:U14)","v":12},null,null,null,"Total Sequences in Block Summary",{"$f":"SUM(Z7:Z14)","v":12},null,null,null,"Total Sequences in Block Summary",{"$f":"SUM(AE7:AE14)","v":11},null,null,null,"Total Sequences in Block Summary",{"$f":"SUM(AJ7:AJ14)","v":12},null,null,null,"Total Sequences in Block Summary",{"$f":"SUM(AO7:AO14)","v":12},null,null,null,"Total Sequences in Block Summary",{"$f":"SUM(AT7:AT14)","v":12}]
[null,null,null,null,null,null,null,null,null,null,null,null,null,null,null,null,null,null,null,"Block 1",null,null,null,null,"Block 2",null,null,null,null,"Block 3",null,null,null,null,"Block 4",null,null,null,null,"Block 5",null,null,null,null,"Block 6"]
["Sequence\nComponent\n1","Time\n1","Sequence\nComponent\n2","Time\n2","Sequence\nComponent\n3","Time\n3","Sequence\nComponent\n4","Time\n4","Sequence\nComponent\n5","Time\n5","Correct?\n0=No 1=Yes","Sequence",null,"Frequency",null,"Relative Frequency","Variability",null,null,"Frequency",null,"Relative Frequency","Variability",null,"Frequency",null,"Relative Frequency","Variability",null,"Frequency",null,"Relative Frequency","Variability",null,"Frequency",null,"Relative Frequency","Variability",null,"Frequency",null,"Relative Frequency","Variability",null,"Frequency",null,"Relative Frequency","Variability"]
[22,32,24,46,23,86,null,null,null,null,0,222,null,111,{"$f":"COUNTIF($L$7:$L$500,N7)","v":0},{"$f":"O7/$Q$4","v":0},{"$f":"IF(P7=0,0,(P7*((LOG(P7))/LOG(2))))","v":0},null,null,{"$f":"N7","v":111},{"$f":"COUNTIF(L7:L18,T7)","v":0},{"$f":"U7/(W4-U10)","v":0},{"$f":"IF(V7=0,0,(V7*((LOG(V7))/LOG(2))))","v":0},null,{"$f":"N7","v":111},{"$f":"COUNTIF(L19:L30,Y7)","v":0},{"$f":"Z7/(AB4-Z10)","v":0},{"$f":"IF(AA7=0,0,(AA7*((LOG(AA7))/LOG(2))))","v":0},null,{"$f":"N7","v":111},{"$f":"COUNTIF(L31:L41,AD7)","v":0},{"$f":"AE7/(AG4-AE10)","v":0},{"$f":"IF(AF7=0,0,(AF7*((LOG(AF7))/LOG(2))))","v":0},null,{"$f":"N7","v":111},{"$f":"COUNTIF(L42:L53,AI7)","v":0},{"$f":"AJ7/(AL4-AJ10)","v":0},{"$f":"IF(AK7=0,0,(AK7*((LOG(AK7))/LOG(2))))","v":0},null,{"$f":"N7","v":111},{"$f":"COUNTIF(L54:L65,AN7)","v":0},{"$f":"AO7/(AQ4-AO10)","v":0},{"$f":"IF(AP7=0,0,(AP7*((LOG(AP7))/LOG(2))))","v":0},null,{"$f":"N7","v":111},{"$f":"COUNTIF(L66:L77,AS7)","v":0},{"$f":"AT7/(AV4-AT10)","v":0},{"$f":"IF(AU7=0,0,(AU7*((LOG(AU7))/LOG(2))))","v":0}]
[22,202,24,232,23,249,null,null,null,null,0,222,null,112,{"$f":"COUNTIF($L$7:$L$500,N8)","v":2},{"$f":"O8/$Q$4","v":2.8169014084507043E-2},{"$f":"IF(P8=0,0,(P8*((LOG(P8))/LOG(2))))","v":-0.14506329914097693},null,null,{"$f":"N8","v":112},{"$f":"COUNTIF(L7:L18,T8)","v":0},{"$f":"U8/(W4-U10)","v":0},{"$f":"IF(V8=0,0,(V8*((LOG(V8))/LOG(2))))","v":0},null,{"$f":"N8","v":112},{"$f":"COUNTIF(L19:L30,Y8)","v":1},{"$f":"Z8/(AB4-Z10)","v":9.0909090909090912E-2},{"$f":"IF(AA8=0,0,(AA8*((LOG(AA8))/LOG(2))))","v":-0.31449378351248153},null,{"$f":"N8","v":112},{"$f":"COUNTIF(L31:L41,AD8)","v":0},{"$f":"AE8/(AG4-AE10)","v":0},{"$f":"IF(AF8=0,0,(AF8*((LOG(AF8))/LOG(2))))","v":0},null,{"$f":"N8","v":112},{"$f":"COUNTIF(L42:L53,AI8)","v":1},{"$f":"AJ8/(AL4-AJ10)","v":9.0909090909090912E-2},{"$f":"IF(AK8=0,0,(AK8*((LOG(AK8))/LOG(2))))","v":-0.31449378351248153},null,{"$f":"N8","v":112},{"$f":"COUNTIF(L54:L65,AN8)","v":0},{"$f":"AO8/(AQ4-AO10)","v":0},{"$f":"IF(AP8=0,0,(AP8*((LOG(AP8))/LOG(2))))","v":0},null,{"$f":"N8","v":112},{"$f":"COUNTIF(L66:L77,AS8)","v":0},{"$f":"AT8/(AV4-AT10)","v":0},{"$f":"IF(AU8=0,0,(AU8*((LOG(AU8))/LOG(2))))","v":0}]
[22,371,24,384,23,421,null,null,null,null,0,222,null,121,{"$f":"COUNTIF($L$7:$L$500,N9)","v":0},{"$f":"O9/$Q$4","v":0},{"$f":"IF(P9=0,0,(P9*((LOG(P9))/LOG(2))))","v":0},null,null,{"$f":"N9","v":121},{"$f":"COUNTIF(L7:L18,T9)","v":0},{"$f":"U9/(W4-U10)","v":0},{"$f":"IF(V9=0,0,(V9*((LOG(V9))/LOG(2))))","v":0},null,{"$f":"N9","v":121},{"$f":"COUNTIF(L19:L30,Y9)","v":0},{"$f":"Z9/(AB4-Z10)","v":0},{"$f":"IF(AA9=0,0,(AA9*((LOG(AA9))/LOG(2))))","v":0},null,{"$f":"N9","v":121},{"$f":"COUNTIF(L31:L41,AD9)","v":0},{"$f":"AE9/(AG4-AE10)","v":0},{"$f":"IF(AF9=0,0,(AF9*((LOG(AF9))/LOG(2))))","v":0},null,{"$f":"N9","v":121},{"$f":"COUNTIF(L42:L53,AI9)","v":0},{"$f":"AJ9/(AL4-AJ10)","v":0},{"$f":"IF(AK9=0,0,(AK9*((LOG(AK9))/LOG(2))))","v":0},null,{"$f":"N9","v":121},{"$f":"COUNTIF(L54:L65,AN9)","v":0},{"$f":"AO9/(AQ4-AO10)","v":0},{"$f":"IF(AP9=0,0,(AP9*((LOG(AP9))/LOG(2))))","v":0},null,{"$f":"N9","v":121},{"$f":"COUNTIF(L66:L77,AS9)","v":0},{"$f":"AT9/(AV4-AT10)","v":0},{"$f":"IF(AU9=0,0,(AU9*((LOG(AU9))/LOG(2))))","v":0}]
[22,544,24,559,23,578,null,null,null,null,0,222,null,122,{"$f":"COUNTIF($L$7:$L$500,N10)","v":8},{"$f":"O10/$Q$4","v":0.11267605633802817},{"$f":"IF(P10=0,0,(P10*((LOG(P10))/LOG(2))))","v":-0.35490108388785152},null,null,{"$f":"N10","v":122},{"$f":"COUNTIF(L7:L18,T10)","v":0},null,null,null,{"$f":"N10","v":122},{"$f":"COUNTIF(L19:L30,Y10)","v":1},null,null,null,{"$f":"N10","v":122},{"$f":"COUNTIF(L31:L41,AD10)","v":2},null,null,null,{"$f":"N10","v":122},{"$f":"COUNTIF(L42:L53,AI10)","v":1},null,null,null,{"$f":"N10","v":122},{"$f":"COUNTIF(L54:L65,AN10)","v":0},null,null,null,{"$f":"N10","v":122},{"$f":"COUNTIF(L66:L77,AS10)","v":4}]
[22,695,24,707,23,731,null,null,null,null,0,222,null,211,{"$f":"COUNTIF($L$7:$L$500,N11)","v":2},{"$f":"O11/$Q$4","v":2.8169014084507043E-2},{"$f":"IF(P11=0,0,(P11*((LOG(P11))/LOG(2))))","v":-0.14506329914097693},null,null,{"$f":"N11","v":211},{"$f":"COUNTIF(L7:L18,T11)","v":1},{"$f":"U11/(W4-U10)","v":8.3333333333333329E-2},{"$f":"IF(V11=0,0,(V11*((LOG(V11))/LOG(2))))","v":-0.29874687506009634},null,{"$f":"N11","v":211},{"$f":"COUNTIF(L19:L30,Y11)","v":1},{"$f":"Z11/(AB4-Z10)","v":9.0909090909090912E-2},{"$f":"IF(AA11=0,0,(AA11*((LOG(AA11))/LOG(2))))","v":-0.31449378351248153},null,{"$f":"N11","v":211},{"$f":"COUNTIF(L31:L41,AD11)","v":0},{"$f":"AE11/(AG4-AE10)","v":0},{"$f":"IF(AF11=0,0,(AF11*((LOG(AF11))/LOG(2))))","v":0},null,{"$f":"N11","v":211},{"$f":"COUNTIF(L42:L53,AI11)","v":0},{"$f":"AJ11/(AL4-AJ10)","v":0},{"$f":"IF(AK11=0,0,(AK11*((LOG(AK11))/LOG(2))))","v":0},null,{"$f":"N11","v":211},{"$f":"COUNTIF(L54:L65,AN11)","v":0},{"$f":"AO11/(AQ4-AO10)","v":0},{"$f":"IF(AP11=0,0,(AP11*((LOG(AP11))/LOG(2))))","v":0},null,{"$f":"N11","v":211},{"$f":"COUNTIF(L66:L77,AS11)","v":0},{"$f":"AT11/(AV4-AT10)","v":0},{"$f":"IF(AU11=0,0,(AU11*((LOG(AU11))/LOG(2))))","v":0}]
[22,882,13,896,14,897,null,null,null,null,0,211,null,212,{"$f":"COUNTIF($L$7:$L$500,N12)","v":4},{"$f":"O12/$Q$4","v":5.6338028169014086E-2},{"$f":"IF(P12=0,0,(P12*((LOG(P12))/LOG(2))))","v":-0.23378857011293985},null,null,{"$f":"N12","v":212},{"$f":"COUNTIF(L7:L18,T12)","v":2},{"$f":"U12/(W4-U10)","v":0.16666666666666666},{"$f":"IF(V12=0,0,(V12*((LOG(V12))/LOG(2))))","v":-0.43082708345352599},null,{"$f":"N12","v":212},{"$f":"COUNTIF(L19:L30,Y12)","v":1},{"$f":"Z12/(AB4-Z10)","v":9.0909090909090912E-2},{"$f":"IF(AA12=0,0,(AA12*((LOG(AA12))/LOG(2))))","v":-0.31449378351248153},null,{"$f":"N12","v":212},{"$f":"COUNTIF(L31:L41,AD12)","v":1},{"$f":"AE12/(AG4-AE10)","v":0.1111111111111111},{"$f":"IF(AF12=0,0,(AF12*((LOG(AF12))/LOG(2))))","v":-0.3522138890491458},null,{"$f":"N12","v":212},{"$f":"COUNTIF(L42:L53,AI12)","v":0},{"$f":"AJ12/(AL4-AJ10)","v":0},{"$f":"IF(AK12=0,0,(AK12*((LOG(AK12))/LOG(2))))","v":0},null,{"$f":"N12","v":212},{"$f":"COUNTIF(L54:L65,AN12)","v":0},{"$f":"AO12/(AQ4-AO10)","v":0},{"$f":"IF(AP12=0,0,(AP12*((LOG(AP12))/LOG(2))))","v":0},null,{"$f":"N12","v":212},{"$f":"COUNTIF(L66:L77,AS12)","v":0},{"$f":"AT12/(AV4-AT10)","v":0},{"$f":"IF(AU12=0,0,(AU12*((LOG(AU12))/LOG(2))))","v":0}]
[22,1009,24,1022,23,1051,null,null,null,null,0,222,null,221,{"$f":"COUNTIF($L$7:$L$500,N13)","v":7},{"$f":"O13/$Q$4","v":9.8591549295774641E-2},{"$f":"IF(P13=0,0,(P13*((LOG(P13))/LOG(2))))","v":-0.32953162510041611},null,null,{"$f":"N13","v":221},{"$f":"COUNTIF(L7:L18,T13)","v":1},{"$f":"U13/(W4-U10)","v":8.3333333333333329E-2},{"$f":"IF(V13=0,0,(V13*((LOG(V13))/LOG(2))))","v":-0.29874687506009634},null,{"$f":"N13","v":221},{"$f":"COUNTIF(L19:L30,Y13)","v":3},{"$f":"Z13/(AB4-Z10)","v":0.27272727272727271},{"$f":"IF(AA13=0,0,(AA13*((LOG(AA13))/LOG(2))))","v":-0.51121885034076575},null,{"$f":"N13","v":221},{"$f":"COUNTIF(L31:L41,AD13)","v":2},{"$f":"AE13/(AG4-AE10)","v":0.22222222222222221},{"$f":"IF(AF13=0,0,(AF13*((LOG(AF13))/LOG(2))))","v":-0.48220555587606945},null,{"$f":"N13","v":221},{"$f":"COUNTIF(L42:L53,AI13)","v":0},{"$f":"AJ13/(AL4-AJ10)","v":0},{"$f":"IF(AK13=0,0,(AK13*((LOG(AK13))/LOG(2))))","v":0},null,{"$f":"N13","v":221},{"$f":"COUNTIF(L54:L65,AN13)","v":1},{"$f":"AO13/(AQ4-AO10)","v":8.3333333333333329E-2},{"$f":"IF(AP13=0,0,(AP13*((LOG(AP13))/LOG(2))))","v":-0.29874687506009634},null,{"$f":"N13","v":221},{"$f":"COUNTIF(L66:L77,AS13)","v":0},{"$f":"AT13/(AV4-AT10)","v":0},{"$f":"IF(AU13=0,0,(AU13*((LOG(AU13))/LOG(2))))","v":0}]
[22,1166,13,1176,23,1187,null,null,null,null,0,212,null,222,{"$f":"COUNTIF($L$7:$L$500,N14)","v":48},{"$f":"O14/$Q$4","v":0.676056338028169},{"$f":"IF(P14=0,0,(P14*((LOG(P14))/LOG(2))))","v":-0.38182622114942599},null,null,{"$f":"N14","v":222},{"$f":"COUNTIF(L7:L18,T14)","v":8},{"$f":"U14/(W4-U10)","v":0.66666666666666663},{"$f":"IF(V14=0,0,(V14*((LOG(V14))/LOG(2))))","v":-0.38997500048077083},null,{"$f":"N14","v":222},{"$f":"COUNTIF(L19:L30,Y14)","v":5},{"$f":"Z14/(AB4-Z10)","v":0.45454545454545453},{"$f":"IF(AA14=0,0,(AA14*((LOG(AA14))/LOG(2))))","v":-0.51704705624997038},null,{"$f":"N14","v":222},{"$f":"COUNTIF(L31:L41,AD14)","v":6},{"$f":"AE14/(AG4-AE10)","v":0.66666666666666663},{"$f":"IF(AF14=0,0,(AF14*((LOG(AF14))/LOG(2))))","v":-0.38997500048077083},null,{"$f":"N14","v":222},{"$f":"COUNTIF(L42:L53,AI14)","v":10},{"$f":"AJ14/(AL4-AJ10)","v":0.90909090909090906},{"$f":"IF(AK14=0,0,(AK14*((LOG(AK14))/LOG(2))))","v":-0.12500320340903179},null,{"$f":"N14","v":222},{"$f":"COUNTIF(L54:L65,AN14)","v":11},{"$f":"AO14/(AQ4-AO10)","v":0.91666666666666663},{"$f":"IF(AP14=0,0,(AP14*((LOG(AP14))/LOG(2))))","v":-0.1150699752435374},null,{"$f":"N14","v":222},{"$f":"COUNTIF(L66:L77,AS14)","v":8},{"$f":"AT14/(AV4-AT10)","v":1},{"$f":"IF(AU14=0,0,(AU14*((LOG(AU14))/LOG(2))))","v":0}]
[22,1359,13,1381,23,1392,null,null,null,null,0,212,null,null,null,{"$f":"SUM(P7:P14)","v":1},{"$f":"-SUM(Q7:Q14)","v":1.5901740985325872},null,null,null,null,{"$f":"SUM(V7:V14)","v":1},{"$f":"-SUM(W7:W14)","v":1.4182958340544896},null,null,null,{"$f":"SUM(AA7:AA14)","v":1},{"$f":"-SUM(AB7:AB14)","v":1.9717472571281807},null,null,null,{"$f":"SUM(AF7:AF14)","v":1},{"$f":"-SUM(AG7:AG14)","v":1.2243944454059861},null,null,null,{"$f":"SUM(AK7:AK14)","v":1},{"$f":"-SUM(AL7:AL14)","v":0.43949698692151329},null,null,null,{"$f":"SUM(AP7:AP14)","v":1},{"$f":"-SUM(AQ7:AQ14)","v":0.41381685030363374},null,null,null,{"$f":"SUM(AU7:AU14)","v":1},{"$f":"-SUM(AV7:AV14)","v":0}]
[22,1562,24,1617,23,1645,null,null,null,null,0,222,null,null,null,"U=",{"$f":"Q15/(LOG(Q4)/LOG(2))","v":0.25857552638045128},null,null,null,null,"U1=",{"$f":"W15/(LOG(W4)/LOG(2))","v":0.39562361775588534},null,null,null,"U2=",{"$f":"AB15/(LOG(AB4)/LOG(2))","v":0.55000498798287034},null,null,null,"U3=",{"$f":"AG15/(LOG(AG4)/LOG(2))","v":0.35392936770586797},null,null,null,"U4=",{"$f":"AL15/(LOG(AL4)/LOG(2))","v":0.12259458413668299},null,null,null,"U5=",{"$f":"AQ15/(LOG(AQ4)/LOG(2))","v":0.11543129118376823},null,null,null,"U6=",{"$f":"AV15/(LOG(AV4)/LOG(2))","v":0}]
[22,1811,24,1848,14,1862,null,null,null,null,0,221]
[22,1972,24,1984,23,2009,null,null,null,null,0,222]
[11,2320,11,2322,21,2406,null,null,null,null,0,112,null,"Total Target Seq"]
[11,2625,22,2657,23,2674,null,null,null,null,0,122,null,{"$f":"COUNTIF(L7:L77,G3)","v":8},null,12,12,11,12,12,12]
[22,2840,24,2853,14,2870,null,null,null,null,0,221,null,null,null,"% of reinforcement given in 6 equal intervals based on number of trials "]
[22,2973,24,3008,23,3029,null,null,null,null,0,222,null,null,null,"%_1","%_2","%_3","%_4","%_5","%_6"]
[22,3142,24,3155,14,3172,null,null,null,null,0,221,null,null,"target sequence",{"$f":"$G$3","v":122},{"$f":"$G$3","v":122},{"$f":"$G$3","v":122},{"$f":"$G$3","v":122},{"$f":"$G$3","v":122},{"$f":"$G$3","v":122}]
[22,3323,24,3342,23,3394,null,null,null,null,0,222,null,null,"total reinforcement",{"$f":"U10","v":0},{"$f":"Z10","v":1},{"$f":"AE10","v":2},{"$f":"AJ10","v":1},{"$f":"AO10","v":0},{"$f":"AT10","v":4}]
[22,3495,24,3525,23,3548,null,null,null,null,0,222,null,null,"% target"]
[22,3662,24,3674,23,3691,null,null,null,null,0,222,null,null,"CCRF"]
[22,3848,24,3861,23,3890,null,null,null,null,0,222,null,null,"% CCRf"]
[22,4059,13,4081,23,4094,null,null,null,null,0,212,null,null,"average response rate",{"$f":"F18/P20","v":167.41666666666666},{"$f":"(F30-F18)/Q20","v":210.66666666666666},{"$f":"(F41-F30)/R20","v":317.18181818181819},{"$f":"(F53-F41)/S20","v":196.08333333333334},{"$f":"(F65-F53)/T20","v":358.83333333333331},{"$f":"(F77-F65)/U20","v":765.41666666666663}]
[22,4215,24,4261,14,4289,null,null,null,null,0,221]
[22,4489,13,4504,14,4537,null,null,null,null,0,211]
[22,4721,24,4740,14,4782,null,null,null,null,0,221]
[22,5037,24,5055,14,5073,null,null,null,null,0,221]
[22,5245,24,5269,23,5317,null,null,null,null,0,222]
[11,5487,22,5498,23,5514,null,null,null,null,0,122]
[22,5702,24,5754,23,5819,null,null,null,null,0,222]
[22,6016,24,6037,23,6051,null,null,null,null,0,222]
[22,6486,24,6503,23,6532,null,null,null,null,0,222]
[22,6730,24,6754,23,6774,null,null,null,null,0,222]
[11,7517,22,7534,23,7548,null,null,null,null,0,122]
[22,7785,24,7797,23,7810,null,null,null,null,0,222]
[22,7986,13,8008,23,8026,null,null,null,null,0,212]
[11,8241,11,8243,21,8261,null,null,null,null,0,112]
[22,8410,24,8422,23,8435,null,null,null,null,0,222]
[22,8554,24,8567,23,8580,null,null,null,null,0,222]
[22,8698,24,8712,23,8748,null,null,null,null,0,222]
[22,8903,24,8916,23,8926,null,null,null,null,0,222]
[22,9054,24,9065,23,9079,null,null,null,null,0,222]
[22,9278,24,9298,23,9311,null,null,null,null,0,222]
[22,9437,24,9450,23,9472,null,null,null,null,0,222]
[22,9678,24,9692,23,9756,null,null,null,null,0,222]
[22,9903,24,9922,23,9933,null,null,null,null,0,222]
[11,10190,22,10209,23,10222,null,null,null,null,0,122]
[22,10352,24,10366,23,10379,null,null,null,null,0,222]
[22,10530,24,10543,23,10555,null,null,null,null,0,222]
[22,10695,24,10707,23,10719,null,null,null,null,0,222]
[22,10934,24,10946,23,10958,null,null,null,null,0,222]
[22,11161,24,11180,14,11196,null,null,null,null,0,221]
[22,11392,24,11394,23,11419,null,null,null,null,0,222]
[22,11687,24,11702,23,11716,null,null,null,null,0,222]
[22,11991,24,12005,23,12018,null,null,null,null,0,222]
[22,12285,24,12301,23,12315,null,null,null,null,0,222]
[22,12700,24,12716,23,12734,null,null,null,null,0,222]
[22,12902,24,12914,23,12926,null,null,null,null,0,222]
[22,13128,24,13161,23,13175,null,null,null,null,0,222]
[22,14633,24,14670,23,14685,null,null,null,null,0,222]
[22,17177,24,17190,23,17209,null,null,null,null,0,222]
[22,17359,24,17439,23,17452,null,null,null,null,0,222]
[22,20813,24,20841,23,20859,null,null,null,null,0,222]
[22,21055,24,21092,23,21107,null,null,null,null,0,222]
[11,21237,22,21249,23,21264,null,null,null,null,0,122]
[22,21476,24,21496,23,21508,null,null,null,null,0,222]
[22,21698,24,21714,23,21726,null,null,null,null,0,222]
[11,21977,22,22006,23,22023,null,null,null,null,0,122]
[22,22507,24,22519,23,22549,null,null,null,null,0,222]
[11,22683,22,22714,23,22727,null,null,null,null,0,122]
[22,22923,24,22940,23,22970,null,null,null,null,0,222]
[11,23809,22,23838,23,23870,null,null,null,null,0,122]

{"sheet":"!M529940.103","index":7,"n_rows":76,"n_cols":48,"rows_kept":76,"cut":false,"hidden":false,"merged":[[4,39,4,42],[5,39,5,40],[4,44,4,47],[5,44,5,45],[4,24,4,27],[5,24,5,25],[4,29,4,32],[5,29,5,30],[4,34,4,37],[5,34,5,35],[1,1,1,2],[5,13,5,14],[18,13,18,14],[19,13,19,14],[4,19,4,22],[5,19,5,20]]}
["Report for:!M529940.103"]
["Date:","<date>"]
["Hen:","<hen>",null,null,null,"Correct Sequence",{"$f":"Start!J2","v":122},null,null,null,null,null,null,null,null,"Total Sequences in Data",{"$f":"4994-COUNTBLANK(L7:L5000)","v":70},null,null,null,null,"Total Sequences in Block Data",{"$f":"COUNTA(L7:L18)","v":12},null,null,null,"Total Sequences in Block Data",{"$f":"COUNTA(L19:L29)","v":11},null,null,null,"Total Sequences in Block Data",{"$f":"COUNTA(L30:L41)","v":12},null,null,null,"Total Sequences in Block Data",{"$f":"COUNTA(L42:L53)","v":12},null,null,null,"Total Sequences in Block Data",{"$f":"COUNTA(L54:L64)","v":11},null,null,null,"Total Sequences in Block Data",{"$f":"COUNTA(L65:L76)","v":12}]
[null,null,null,null,null,null,null,null,null,null,null,null,null,null,null,"Total Sequences in Summary",{"$f":"SUM(O7:O14)","v":70},null,null,null,null,"Total Sequences in Block Summary",{"$f":"SUM(U7:U14)","v":12},null,null,null,"Total Sequences in Block Summary",{"$f":"SUM(Z7:Z14)","v":11},null,null,null,"Total Sequences in Block Summary",{"$f":"SUM(AE7:AE14)","v":12},null,null,null,"Total Sequences in Block Summary",{"$f":"SUM(AJ7:AJ14)","v":12},null,null,null,"Total Sequences in Block Summary",{"$f":"SUM(AO7:AO14)","v":11},null,null,null,"Total Sequences in Block Summary",{"$f":"SUM(AT7:AT14)","v":12}]
[null,null,null,null,null,null,null,null,null,null,null,null,null,null,null,null,null,null,null,"Block 1",null,null,null,null,"Block 2",null,null,null,null,"Block 3",null,null,null,null,"Block 4",null,null,null,null,"Block 5",null,null,null,null,"Block 6"]
["Sequence\nComponent\n1","Time\n1","Sequence\nComponent\n2","Time\n2","Sequence\nComponent\n3","Time\n3","Sequence\nComponent\n4","Time\n4","Sequence\nComponent\n5","Time\n5","Correct?\n0=No 1=Yes","Sequence",null,"Frequency",null,"Relative Frequency","Variability",null,null,"Frequency",null,"Relative Frequency","Variability",null,"Frequency",null,"Relative Frequency","Variability",null,"Frequency",null,"Relative Frequency","Variability",null,"Frequency",null,"Relative Frequency","Variability",null,"Frequency",null,"Relative Frequency","Variability",null,"Frequency",null,"Relative Frequency","Variability"]
[22,42,24,67,23,96,null,null,null,null,0,222,null,111,{"$f":"COUNTIF($L$7:$L$500,N7)","v":3},{"$f":"O7/$Q$4","v":4.2857142857142858E-2},{"$f":"IF(P7=0,0,(P7*((LOG(P7))/LOG(2))))","v":-0.19475659355244901},null,null,{"$f":"N7","v":111},{"$f":"COUNTIF(L7:L18,T7)","v":0},{"$f":"U7/(W4-U10)","v":0},{"$f":"IF(V7=0,0,(V7*((LOG(V7))/LOG(2))))","v":0},null,{"$f":"N7","v":111},{"$f":"COUNTIF(L19:L29,Y7)","v":0},{"$f":"Z7/(AB4-Z10)","v":0},{"$f":"IF(AA7=0,0,(AA7*((LOG(AA7))/LOG(2))))","v":0},null,{"$f":"N7","v":111},{"$f":"COUNTIF(L30:L41,AD7)","v":0},{"$f":"AE7/(AG4-AE10)","v":0},{"$f":"IF(AF7=0,0,(AF7*((LOG(AF7))/LOG(2))))","v":0},null,{"$f":"N7","v":111},{"$f":"COUNTIF(L42:L53,AI7)","v":3},{"$f":"AJ7/(AL4-AJ10)","v":0.375},{"$f":"IF(AK7=0,0,(AK7*((LOG(AK7))/LOG(2))))","v":-0.53063906222956647},null,{"$f":"N7","v":111},{"$f":"COUNTIF(L54:L64,AN7)","v":0},{"$f":"AO7/(AQ4-AO10)","v":0},{"$f":"IF(AP7=0,0,(AP7*((LOG(AP7))/LOG(2))))","v":0},null,{"$f":"N7","v":111},{"$f":"COUNTIF(L65:L76,AS7)","v":0},{"$f":"AT7/(AV4-AT10)","v":0},{"$f":"IF(AU7=0,0,(AU7*((LOG(AU7))/LOG(2))))","v":0}]
[22,247,24,282,23,311,null,null,null,null,0,222,null,112,{"$f":"COUNTIF($L$7:$L$500,N8)","v":4},{"$f":"O8/$Q$4","v":5.7142857142857141E-2},{"$f":"IF(P8=0,0,(P8*((LOG(P8))/LOG(2))))","v":-0.23595902953971234},null,null,{"$f":"N8","v":112},{"$f":"COUNTIF(L7:L18,T8)","v":0},{"$f":"U8/(W4-U10)","v":0},{"$f":"IF(V8=0,0,(V8*((LOG(V8))/LOG(2))))","v":0},null,{"$f":"N8","v":112},{"$f":"COUNTIF(L19:L29,Y8)","v":1},{"$f":"Z8/(AB4-Z10)","v":9.0909090909090912E-2},{"$f":"IF(AA8=0,0,(AA8*((LOG(AA8))/LOG(2))))","v":-0.31449378351248153},null,{"$f":"N8","v":112},{"$f":"COUNTIF(L30:L41,AD8)","v":0},{"$f":"AE8/(AG4-AE10)","v":0},{"$f":"IF(AF8=0,0,(AF8*((LOG(AF8))/LOG(2))))","v":0},null,{"$f":"N8","v":112},{"$f":"COUNTIF(L42:L53,AI8)","v":1},{"$f":"AJ8/(AL4-AJ10)","v":0.125},{"$f":"IF(AK8=0,0,(AK8*((LOG(AK8))/LOG(2))))","v":-0.375},null,{"$f":"N8","v":112},{"$f":"COUNTIF(L54:L64,AN8)","v":1},{"$f":"AO8/(AQ4-AO10)","v":0.1},{"$f":"IF(AP8=0,0,(AP8*((LOG(AP8))/LOG(2))))","v":-0.33219280948873625},null,{"$f":"N8","v":112},{"$f":"COUNTIF(L65:L76,AS8)","v":1},{"$f":"AT8/(AV4-AT10)","v":9.0909090909090912E-2},{"$f":"IF(AU8=0,0,(AU8*((LOG(AU8))/LOG(2))))","v":-0.31449378351248153}]
[22,431,24,442,23,454,null,null,null,null,0,222,null,121,{"$f":"COUNTIF($L$7:$L$500,N9)","v":0},{"$f":"O9/$Q$4","v":0},{"$f":"IF(P9=0,0,(P9*((LOG(P9))/LOG(2))))","v":0},null,null,{"$f":"N9","v":121},{"$f":"COUNTIF(L7:L18,T9)","v":0},{"$f":"U9/(W4-U10)","v":0},{"$f":"IF(V9=0,0,(V9*((LOG(V9))/LOG(2))))","v":0},null,{"$f":"N9","v":121},{"$f":"COUNTIF(L19:L29,Y9)","v":0},{"$f":"Z9/(AB4-Z10)","v":0},{"$f":"IF(AA9=0,0,(AA9*((LOG(AA9))/LOG(2))))","v":0},null,{"$f":"N9","v":121},{"$f":"COUNTIF(L30:L41,AD9)","v":0},{"$f":"AE9/(AG4-AE10)","v":0},{"$f":"IF(AF9=0,0,(AF9*((LOG(AF9))/LOG(2))))","v":0},null,{"$f":"N9","v":121},{"$f":"COUNTIF(L42:L53,AI9)","v":0},{"$f":"AJ9/(AL4-AJ10)","v":0},{"$f":"IF(AK9=0,0,(AK9*((LOG(AK9))/LOG(2))))","v":0},null,{"$f":"N9","v":121},{"$f":"COUNTIF(L54:L64,AN9)","v":0},{"$f":"AO9/(AQ4-AO10)","v":0},{"$f":"IF(AP9=0,0,(AP9*((LOG(AP9))/LOG(2))))","v":0},null,{"$f":"N9","v":121},{"$f":"COUNTIF(L65:L76,AS9)","v":0},{"$f":"AT9/(AV4-AT10)","v":0},{"$f":"IF(AU9=0,0,(AU9*((LOG(AU9))/LOG(2))))","v":0}]
[22,612,24,624,23,651,null,null,null,null,0,222,null,122,{"$f":"COUNTIF($L$7:$L$500,N10)","v":9},{"$f":"O10/$Q$4","v":0.12857142857142856},{"$f":"IF(P10=0,0,(P10*((LOG(P10))/LOG(2))))","v":-0.38048888770748407},null,null,{"$f":"N10","v":122},{"$f":"COUNTIF(L7:L18,T10)","v":0},null,null,null,{"$f":"N10","v":122},{"$f":"COUNTIF(L19:L29,Y10)","v":0},null,null,null,{"$f":"N10","v":122},{"$f":"COUNTIF(L30:L41,AD10)","v":3},null,null,null,{"$f":"N10","v":122},{"$f":"COUNTIF(L42:L53,AI10)","v":4},null,null,null,{"$f":"N10","v":122},{"$f":"COUNTIF(L54:L64,AN10)","v":1},null,null,null,{"$f":"N10","v":122},{"$f":"COUNTIF(L65:L76,AS10)","v":1}]
[22,765,24,777,23,798,null,null,null,null,0,222,null,211,{"$f":"COUNTIF($L$7:$L$500,N11)","v":0},{"$f":"O11/$Q$4","v":0},{"$f":"IF(P11=0,0,(P11*((LOG(P11))/LOG(2))))","v":0},null,null,{"$f":"N11","v":211},{"$f":"COUNTIF(L7:L18,T11)","v":0},{"$f":"U11/(W4-U10)","v":0},{"$f":"IF(V11=0,0,(V11*((LOG(V11))/LOG(2))))","v":0},null,{"$f":"N11","v":211},{"$f":"COUNTIF(L19:L29,Y11)","v":0},{"$f":"Z11/(AB4-Z10)","v":0},{"$f":"IF(AA11=0,0,(AA11*((LOG(AA11))/LOG(2))))","v":0},null,{"$f":"N11","v":211},{"$f":"COUNTIF(L30:L41,AD11)","v":0},{"$f":"AE11/(AG4-AE10)","v":0},{"$f":"IF(AF11=0,0,(AF11*((LOG(AF11))/LOG(2))))","v":0},null,{"$f":"N11","v":211},{"$f":"COUNTIF(L42:L53,AI11)","v":0},{"$f":"AJ11/(AL4-AJ10)","v":0},{"$f":"IF(AK11=0,0,(AK11*((LOG(AK11))/LOG(2))))","v":0},null,{"$f":"N11","v":211},{"$f":"COUNTIF(L54:L64,AN11)","v":0},{"$f":"AO11/(AQ4-AO10)","v":0},{"$f":"IF(AP11=0,0,(AP11*((LOG(AP11))/LOG(2))))","v":0},null,{"$f":"N11","v":211},{"$f":"COUNTIF(L65:L76,AS11)","v":0},{"$f":"AT11/(AV4-AT10)","v":0},{"$f":"IF(AU11=0,0,(AU11*((LOG(AU11))/LOG(2))))","v":0}]
[22,939,24,980,23,1008,null,null,null,null,0,222,null,212,{"$f":"COUNTIF($L$7:$L$500,N12)","v":3},{"$f":"O12/$Q$4","v":4.2857142857142858E-2},{"$f":"IF(P12=0,0,(P12*((LOG(P12))/LOG(2))))","v":-0.19475659355244901},null,null,{"$f":"N12","v":212},{"$f":"COUNTIF(L7:L18,T12)","v":0},{"$f":"U12/(W4-U10)","v":0},{"$f":"IF(V12=0,0,(V12*((LOG(V12))/LOG(2))))","v":0},null,{"$f":"N12","v":212},{"$f":"COUNTIF(L19:L29,Y12)","v":0},{"$f":"Z12/(AB4-Z10)","v":0},{"$f":"IF(AA12=0,0,(AA12*((LOG(AA12))/LOG(2))))","v":0},null,{"$f":"N12","v":212},{"$f":"COUNTIF(L30:L41,AD12)","v":1},{"$f":"AE12/(AG4-AE10)","v":0.1111111111111111},{"$f":"IF(AF12=0,0,(AF12*((LOG(AF12))/LOG(2))))","v":-0.3522138890491458},null,{"$f":"N12","v":212},{"$f":"COUNTIF(L42:L53,AI12)","v":1},{"$f":"AJ12/(AL4-AJ10)","v":0.125},{"$f":"IF(AK12=0,0,(AK12*((LOG(AK12))/LOG(2))))","v":-0.375},null,{"$f":"N12","v":212},{"$f":"COUNTIF(L54:L64,AN12)","v":1},{"$f":"AO12/(AQ4-AO10)","v":0.1},{"$f":"IF(AP12=0,0,(AP12*((LOG(AP12))/LOG(2))))","v":-0.33219280948873625},null,{"$f":"N12","v":212},{"$f":"COUNTIF(L65:L76,AS12)","v":0},{"$f":"AT12/(AV4-AT10)","v":0},{"$f":"IF(AU12=0,0,(AU12*((LOG(AU12))/LOG(2))))","v":0}]
[22,1133,24,1146,23,1163,null,null,null,null,0,222,null,221,{"$f":"COUNTIF($L$7:$L$500,N13)","v":3},{"$f":"O13/$Q$4","v":4.2857142857142858E-2},{"$f":"IF(P13=0,0,(P13*((LOG(P13))/LOG(2))))","v":-0.19475659355244901},null,null,{"$f":"N13","v":221},{"$f":"COUNTIF(L7:L18,T13)","v":0},{"$f":"U13/(W4-U10)","v":0},{"$f":"IF(V13=0,0,(V13*((LOG(V13))/LOG(2))))","v":0},null,{"$f":"N13","v":221},{"$f":"COUNTIF(L19:L29,Y13)","v":0},{"$f":"Z13/(AB4-Z10)","v":0},{"$f":"IF(AA13=0,0,(AA13*((LOG(AA13))/LOG(2))))","v":0},null,{"$f":"N13","v":221},{"$f":"COUNTIF(L30:L41,AD13)","v":0},{"$f":"AE13/(AG4-AE10)","v":0},{"$f":"IF(AF13=0,0,(AF13*((LOG(AF13))/LOG(2))))","v":0},null,{"$f":"N13","v":221},{"$f":"COUNTIF(L42:L53,AI13)","v":1},{"$f":"AJ13/(AL4-AJ10)","v":0.125},{"$f":"IF(AK13=0,0,(AK13*((LOG(AK13))/LOG(2))))","v":-0.375},null,{"$f":"N13","v":221},{"$f":"COUNTIF(L54:L64,AN13)","v":0},{"$f":"AO13/(AQ4-AO10)","v":0},{"$f":"IF(AP13=0,0,(AP13*((LOG(AP13))/LOG(2))))","v":0},null,{"$f":"N13","v":221},{"$f":"COUNTIF(L65:L76,AS13)","v":2},{"$f":"AT13/(AV4-AT10)","v":0.18181818181818182},{"$f":"IF(AU13=0,0,(AU13*((LOG(AU13))/LOG(2))))","v":-0.44716938520678134}]
[22,1297,24,1312,23,1334,null,null,null,null,0,222,null,222,{"$f":"COUNTIF($L$7:$L$500,N14)","v":48},{"$f":"O14/$Q$4","v":0.68571428571428572},{"$f":"IF(P14=0,0,(P14*((LOG(P14))/LOG(2))))","v":-0.37324835398204131},null,null,{"$f":"N14","v":222},{"$f":"COUNTIF(L7:L18,T14)","v":12},{"$f":"U14/(W4-U10)","v":1},{"$f":"IF(V14=0,0,(V14*((LOG(V14))/LOG(2))))","v":0},null,{"$f":"N14","v":222},{"$f":"COUNTIF(L19:L29,Y14)","v":10},{"$f":"Z14/(AB4-Z10)","v":0.90909090909090906},{"$f":"IF(AA14=0,0,(AA14*((LOG(AA14))/LOG(2))))","v":-0.12500320340903179},null,{"$f":"N14","v":222},{"$f":"COUNTIF(L30:L41,AD14)","v":8},{"$f":"AE14/(AG4-AE10)","v":0.88888888888888884},{"$f":"IF(AF14=0,0,(AF14*((LOG(AF14))/LOG(2))))","v":-0.15104444572649992},null,{"$f":"N14","v":222},{"$f":"COUNTIF(L42:L53,AI14)","v":2},{"$f":"AJ14/(AL4-AJ10)","v":0.25},{"$f":"IF(AK14=0,0,(AK14*((LOG(AK14))/LOG(2))))","v":-0.5},null,{"$f":"N14","v":222},{"$f":"COUNTIF(L54:L64,AN14)","v":8},{"$f":"AO14/(AQ4-AO10)","v":0.8},{"$f":"IF(AP14=0,0,(AP14*((LOG(AP14))/LOG(2))))","v":-0.25754247590988982},null,{"$f":"N14","v":222},{"$f":"COUNTIF(L65:L76,AS14)","v":8},{"$f":"AT14/(AV4-AT10)","v":0.72727272727272729},{"$f":"IF(AU14=0,0,(AU14*((LOG(AU14))/LOG(2))))","v":-0.33413208628167068}]
[22,1472,24,1494,23,1529,null,null,null,null,0,222,null,null,null,{"$f":"SUM(P7:P14)","v":1},{"$f":"-SUM(Q7:Q14)","v":1.5739660518865848},null,null,null,null,{"$f":"SUM(V7:V14)","v":1},{"$f":"-SUM(W7:W14)","v":0},null,null,null,{"$f":"SUM(AA7:AA14)","v":1},{"$f":"-SUM(AB7:AB14)","v":0.43949698692151329},null,null,null,{"$f":"SUM(AF7:AF14)","v":1},{"$f":"-SUM(AG7:AG14)","v":0.50325833477564574},null,null,null,{"$f":"SUM(AK7:AK14)","v":1},{"$f":"-SUM(AL7:AL14)","v":2.1556390622295662},null,null,null,{"$f":"SUM(AP7:AP14)","v":1},{"$f":"-SUM(AQ7:AQ14)","v":0.92192809488736227},null,null,null,{"$f":"SUM(AU7:AU14)","v":1},{"$f":"-SUM(AV7:AV14)","v":1.0957952550009336}]
[22,1668,24,1684,23,1702,null,null,null,null,0,222,null,null,null,"U=",{"$f":"Q15/(LOG(Q4)/LOG(2))","v":0.25679448110573633},null,null,null,null,"U1=",{"$f":"W15/(LOG(W4)/LOG(2))","v":0},null,null,null,"U2=",{"$f":"AB15/(LOG(AB4)/LOG(2))","v":0.12704312019170225},null,null,null,"U3=",{"$f":"AG15/(LOG(AG4)/LOG(2))","v":0.14038036232580103},null,null,null,"U4=",{"$f":"AL15/(LOG(AL4)/LOG(2))","v":0.60130030977895432},null,null,null,"U5=",{"$f":"AQ15/(LOG(AQ4)/LOG(2))","v":0.26649698462619659},null,null,null,"U6=",{"$f":"AV15/(LOG(AV4)/LOG(2))","v":0.30566435626049132}]
[22,1828,24,1855,23,1867,null,null,null,null,0,222]
[22,2016,24,2061,23,2074,null,null,null,null,0,222]
[22,2250,24,2266,23,2285,null,null,null,null,0,222,null,"Total Target Seq"]
[22,2524,24,2564,23,2577,null,null,null,null,0,222,null,{"$f":"COUNTIF(L7:L76,G3)","v":9},null,12,11,12,12,11,12]
[22,2743,24,2759,23,2800,null,null,null,null,0,222,null,null,null,"% of reinforcement given in 6 equal intervals based on number of trials "]
[22,3190,24,3216,23,3241,null,null,null,null,0,222,null,null,null,"%_1","%_2","%_3","%_4","%_5","%_6"]
[22,3450,24,3466,23,3555,null,null,null,null,0,222,null,null,"target sequence",{"$f":"$G$3","v":122},{"$f":"$G$3","v":122},{"$f":"$G$3","v":122},{"$f":"$G$3","v":122},{"$f":"$G$3","v":122},{"$f":"$G$3","v":122}]
[22,4312,24,4326,23,4358,null,null,null,null,0,222,null,null,"total reinforcement",{"$f":"U10","v":0},{"$f":"Z10","v":0},{"$f":"AE10","v":3},{"$f":"AJ10","v":4},{"$f":"AO10","v":1},{"$f":"AT10","v":1}]
[11,4486,11,4598,21,4680,null,null,null,null,0,112,null,null,"% target"]
[22,4899,24,4962,23,5009,null,null,null,null,0,222,null,null,"CCRF"]
[22,5156,24,5169,23,5271,null,null,null,null,0,222,null,null,"% CCRf"]
[22,5463,24,5496,23,5533,null,null,null,null,0,222,null,null,"average response rate",{"$f":"F18/P20","v":172.83333333333334},{"$f":"(F29-F18)/Q20","v":333.18181818181819},{"$f":"(F41-F29)/R20","v":459.16666666666669},{"$f":"(F53-F41)/S20","v":626.58333333333337},{"$f":"(F64-F53)/T20","v":189.09090909090909},{"$f":"(F76-F64)/U20","v":258.16666666666669}]
[22,5686,24,5721,23,5739,null,null,null,null,0,222]
[22,5951,24,6009,23,6096,null,null,null,null,0,222]
[22,6349,24,6393,23,6409,null,null,null,null,0,222]
[22,6638,24,6651,23,6665,null,null,null,null,0,222]
[22,6955,24,6986,23,7000,null,null,null,null,0,222]
[22,7519,24,7530,23,7551,null,null,null,null,0,222]
[11,7793,22,7818,23,7835,null,null,null,null,0,122]
[22,8215,24,8230,23,8247,null,null,null,null,0,222]
[11,8381,22,8403,23,8433,null,null,null,null,0,122]
[22,10269,24,10289,23,10332,null,null,null,null,0,222]
[22,10523,24,10537,23,10587,null,null,null,null,0,222]
[22,10905,13,10938,23,10969,null,null,null,null,0,212]
[11,11174,22,11190,23,11249,null,null,null,null,0,122]
[11,11652,22,11682,23,11705,null,null,null,null,0,122]
[11,12023,22,12074,23,12093,null,null,null,null,0,122]
[22,13108,24,13132,23,13149,null,null,null,null,0,222]
[11,14096,11,14123,12,14189,null,null,null,null,0,111]
[11,15598,22,15642,23,15670,null,null,null,null,0,122]
[22,15904,24,15917,14,15930,null,null,null,null,0,221]
[11,16357,11,16367,12,16404,null,null,null,null,0,111]
[11,16783,22,16819,23,16835,null,null,null,null,0,122]
[22,17109,13,17157,23,17188,null,null,null,null,0,212]
[22,17529,24,17531,23,17547,null,null,null,null,0,222]
[11,17853,11,17862,12,17879,null,null,null,null,0,111]
[11,18717,11,18738,21,18768,null,null,null,null,0,112]
[22,18986,13,19010,23,19024,null,null,null,null,0,212]
[22,19163,24,19177,23,19200,null,null,null,null,0,222]
[11,19357,22,19373,23,19390,null,null,null,null,0,122]
[11,19635,11,19649,21,19678,null,null,null,null,0,112]
[22,19873,24,19956,23,19969,null,null,null,null,0,222]
[22,20103,24,20122,23,20136,null,null,null,null,0,222]
[22,20235,24,20246,23,20304,null,null,null,null,0,222]
[22,20409,24,20428,23,20439,null,null,null,null,0,222]
[22,20559,24,20561,23,20573,null,null,null,null,0,222]
[22,20672,24,20683,23,20719,null,null,null,null,0,222]
[22,20823,24,20836,23,20848,null,null,null,null,0,222]
[22,20975,24,21001,23,21012,null,null,null,null,0,222]
[22,21155,24,21169,23,21192,null,null,null,null,0,222]
[22,21304,24,21318,23,21334,null,null,null,null,0,222]
[22,21758,24,21878,23,21895,null,null,null,null,0,222]
[22,22150,24,22179,23,22195,null,null,null,null,0,222]
[22,22386,24,22399,23,22411,null,null,null,null,0,222]
[22,22519,24,22530,23,22559,null,null,null,null,0,222]
[22,23036,24,23052,23,23065,null,null,null,null,0,222]
[22,23240,24,23257,14,23282,null,null,null,null,0,221]
[22,23403,24,23421,14,23505,null,null,null,null,0,221]
[11,23663,22,23701,23,23714,null,null,null,null,0,122]
[11,23867,11,23918,21,23946,null,null,null,null,1,112]

{"sheet":"!M530A00.103","index":8,"n_rows":75,"n_cols":48,"rows_kept":75,"cut":false,"hidden":false,"merged":[[4,39,4,42],[5,39,5,40],[4,44,4,47],[5,44,5,45],[4,24,4,27],[5,24,5,25],[4,29,4,32],[5,29,5,30],[4,34,4,37],[5,34,5,35],[1,1,1,2],[5,13,5,14],[18,13,18,14],[19,13,19,14],[4,19,4,22],[5,19,5,20]]}
["Report for:!M530A00.103"]
["Date:","<date>"]
["Hen:","<hen>",null,null,null,"Correct Sequence",{"$f":"Start!J2","v":122},null,null,null,null,null,null,null,null,"Total Sequences in Data",{"$f":"4994-COUNTBLANK(L7:L5000)","v":69},null,null,null,null,"Total Sequences in Block Data",{"$f":"COUNTA(L7:L18)","v":12},null,null,null,"Total Sequences in Block Data",{"$f":"COUNTA(L19:L29)","v":11},null,null,null,"Total Sequences in Block Data",{"$f":"COUNTA(L30:L41)","v":12},null,null,null,"Total Sequences in Block Data",{"$f":"COUNTA(L42:L52)","v":11},null,null,null,"Total Sequences in Block Data",{"$f":"COUNTA(L53:L64)","v":12},null,null,null,"Total Sequences in Block Data",{"$f":"COUNTA(L65:L75)","v":11}]
[null,null,null,null,null,null,null,null,null,null,null,null,null,null,null,"Total Sequences in Summary",{"$f":"SUM(O7:O14)","v":69},null,null,null,null,"Total Sequences in Block Summary",{"$f":"SUM(U7:U14)","v":12},null,null,null,"Total Sequences in Block Summary",{"$f":"SUM(Z7:Z14)","v":11},null,null,null,"Total Sequences in Block Summary",{"$f":"SUM(AE7:AE14)","v":12},null,null,null,"Total Sequences in Block Summary",{"$f":"SUM(AJ7:AJ14)","v":11},null,null,null,"Total Sequences in Block Summary",{"$f":"SUM(AO7:AO14)","v":12},null,null,null,"Total Sequences in Block Summary",{"$f":"SUM(AT7:AT14)","v":11}]
[null,null,null,null,null,null,null,null,null,null,null,null,null,null,null,null,null,null,null,"Block 1",null,null,null,null,"Block 2",null,null,null,null,"Block 3",null,null,null,null,"Block 4",null,null,null,null,"Block 5",null,null,null,null,"Block 6"]
["Sequence\nComponent\n1","Time\n1","Sequence\nComponent\n2","Time\n2","Sequence\nComponent\n3","Time\n3","Sequence\nComponent\n4","Time\n4","Sequence\nComponent\n5","Time\n5","Correct?\n0=No 1=Yes","Sequence",null,"Frequency",null,"Relative Frequency","Variability",null,null,"Frequency",null,"Relative Frequency","Variability",null,"Frequency",null,"Relative Frequency","Variability",null,"Frequency",null,"Relative Frequency","Variability",null,"Frequency",null,"Relative Frequency","Variability",null,"Frequency",null,"Relative Frequency","Variability",null,"Frequency",null,"Relative Frequency","Variability"]
[22,13,24,91,23,104,null,null,null,null,0,222,null,111,{"$f":"COUNTIF($L$7:$L$500,N7)","v":0},{"$f":"O7/$Q$4","v":0},{"$f":"IF(P7=0,0,(P7*((LOG(P7))/LOG(2))))","v":0},null,null,{"$f":"N7","v":111},{"$f":"COUNTIF(L7:L18,T7)","v":0},{"$f":"U7/(W4-U10)","v":0},{"$f":"IF(V7=0,0,(V7*((LOG(V7))/LOG(2))))","v":0},null,{"$f":"N7","v":111},{"$f":"COUNTIF(L19:L29,Y7)","v":0},{"$f":"Z7/(AB4-Z10)","v":0},{"$f":"IF(AA7=0,0,(AA7*((LOG(AA7))/LOG(2))))","v":0},null,{"$f":"N7","v":111},{"$f":"COUNTIF(L30:L41,AD7)","v":0},{"$f":"AE7/(AG4-AE10)","v":0},{"$f":"IF(AF7=0,0,(AF7*((LOG(AF7))/LOG(2))))","v":0},null,{"$f":"N7","v":111},{"$f":"COUNTIF(L42:L52,AI7)","v":0},{"$f":"AJ7/(AL4-AJ10)","v":0},{"$f":"IF(AK7=0,0,(AK7*((LOG(AK7))/LOG(2))))","v":0},null,{"$f":"N7","v":111},{"$f":"COUNTIF(L53:L64,AN7)","v":0},{"$f":"AO7/(AQ4-AO10)","v":0},{"$f":"IF(AP7=0,0,(AP7*((LOG(AP7))/LOG(2))))","v":0},null,{"$f":"N7","v":111},{"$f":"COUNTIF(L65:L75,AS7)","v":0},{"$f":"AT7/(AV4-AT10)","v":0},{"$f":"IF(AU7=0,0,(AU7*((LOG(AU7))/LOG(2))))","v":0}]
[22,226,24,252,23,264,null,null,null,null,0,222,null,112,{"$f":"COUNTIF($L$7:$L$500,N8)","v":2},{"$f":"O8/$Q$4","v":2.8985507246376812E-2},{"$f":"IF(P8=0,0,(P8*((LOG(P8))/LOG(2))))","v":-0.14807317266023678},null,null,{"$f":"N8","v":112},{"$f":"COUNTIF(L7:L18,T8)","v":0},{"$f":"U8/(W4-U10)","v":0},{"$f":"IF(V8=0,0,(V8*((LOG(V8))/LOG(2))))","v":0},null,{"$f":"N8","v":112},{"$f":"COUNTIF(L19:L29,Y8)","v":0},{"$f":"Z8/(AB4-Z10)","v":0},{"$f":"IF(AA8=0,0,(AA8*((LOG(AA8))/LOG(2))))","v":0},null,{"$f":"N8","v":112},{"$f":"COUNTIF(L30:L41,AD8)","v":1},{"$f":"AE8/(AG4-AE10)","v":0.16666666666666666},{"$f":"IF(AF8=0,0,(AF8*((LOG(AF8))/LOG(2))))","v":-0.43082708345352599},null,{"$f":"N8","v":112},{"$f":"COUNTIF(L42:L52,AI8)","v":0},{"$f":"AJ8/(AL4-AJ10)","v":0},{"$f":"IF(AK8=0,0,(AK8*((LOG(AK8))/LOG(2))))","v":0},null,{"$f":"N8","v":112},{"$f":"COUNTIF(L53:L64,AN8)","v":1},{"$f":"AO8/(AQ4-AO10)","v":0.125},{"$f":"IF(AP8=0,0,(AP8*((LOG(AP8))/LOG(2))))","v":-0.375},null,{"$f":"N8","v":112},{"$f":"COUNTIF(L65:L75,AS8)","v":0},{"$f":"AT8/(AV4-AT10)","v":0},{"$f":"IF(AU8=0,0,(AU8*((LOG(AU8))/LOG(2))))","v":0}]
[22,378,24,393,23,406,null,null,null,null,0,222,null,121,{"$f":"COUNTIF($L$7:$L$500,N9)","v":1},{"$f":"O9/$Q$4","v":1.4492753623188406E-2},{"$f":"IF(P9=0,0,(P9*((LOG(P9))/LOG(2))))","v":-8.8529339953306793E-2},null,null,{"$f":"N9","v":121},{"$f":"COUNTIF(L7:L18,T9)","v":0},{"$f":"U9/(W4-U10)","v":0},{"$f":"IF(V9=0,0,(V9*((LOG(V9))/LOG(2))))","v":0},null,{"$f":"N9","v":121},{"$f":"COUNTIF(L19:L29,Y9)","v":0},{"$f":"Z9/(AB4-Z10)","v":0},{"$f":"IF(AA9=0,0,(AA9*((LOG(AA9))/LOG(2))))","v":0},null,{"$f":"N9","v":121},{"$f":"COUNTIF(L30:L41,AD9)","v":0},{"$f":"AE9/(AG4-AE10)","v":0},{"$f":"IF(AF9=0,0,(AF9*((LOG(AF9))/LOG(2))))","v":0},null,{"$f":"N9","v":121},{"$f":"COUNTIF(L42:L52,AI9)","v":0},{"$f":"AJ9/(AL4-AJ10)","v":0},{"$f":"IF(AK9=0,0,(AK9*((LOG(AK9))/LOG(2))))","v":0},null,{"$f":"N9","v":121},{"$f":"COUNTIF(L53:L64,AN9)","v":1},{"$f":"AO9/(AQ4-AO10)","v":0.125},{"$f":"IF(AP9=0,0,(AP9*((LOG(AP9))/LOG(2))))","v":-0.375},null,{"$f":"N9","v":121},{"$f":"COUNTIF(L65:L75,AS9)","v":0},{"$f":"AT9/(AV4-AT10)","v":0},{"$f":"IF(AU9=0,0,(AU9*((LOG(AU9))/LOG(2))))","v":0}]
[22,545,24,557,23,571,null,null,null,null,0,222,null,122,{"$f":"COUNTIF($L$7:$L$500,N10)","v":17},{"$f":"O10/$Q$4","v":0.24637681159420291},{"$f":"IF(P10=0,0,(P10*((LOG(P10))/LOG(2))))","v":-0.49794271686917541},null,null,{"$f":"N10","v":122},{"$f":"COUNTIF(L7:L18,T10)","v":0},null,null,null,{"$f":"N10","v":122},{"$f":"COUNTIF(L19:L29,Y10)","v":0},null,null,null,{"$f":"N10","v":122},{"$f":"COUNTIF(L30:L41,AD10)","v":6},null,null,null,{"$f":"N10","v":122},{"$f":"COUNTIF(L42:L52,AI10)","v":2},null,null,null,{"$f":"N10","v":122},{"$f":"COUNTIF(L53:L64,AN10)","v":4},null,null,null,{"$f":"N10","v":122},{"$f":"COUNTIF(L65:L75,AS10)","v":5}]
[22,718,24,732,23,748,null,null,null,null,0,222,null,211,{"$f":"COUNTIF($L$7:$L$500,N11)","v":0},{"$f":"O11/$Q$4","v":0},{"$f":"IF(P11=0,0,(P11*((LOG(P11))/LOG(2))))","v":0},null,null,{"$f":"N11","v":211},{"$f":"COUNTIF(L7:L18,T11)","v":0},{"$f":"U11/(W4-U10)","v":0},{"$f":"IF(V11=0,0,(V11*((LOG(V11))/LOG(2))))","v":0},null,{"$f":"N11","v":211},{"$f":"COUNTIF(L19:L29,Y11)","v":0},{"$f":"Z11/(AB4-Z10)","v":0},{"$f":"IF(AA11=0,0,(AA11*((LOG(AA11))/LOG(2))))","v":0},null,{"$f":"N11","v":211},{"$f":"COUNTIF(L30:L41,AD11)","v":0},{"$f":"AE11/(AG4-AE10)","v":0},{"$f":"IF(AF11=0,0,(AF11*((LOG(AF11))/LOG(2))))","v":0},null,{"$f":"N11","v":211},{"$f":"COUNTIF(L42:L52,AI11)","v":0},{"$f":"AJ11/(AL4-AJ10)","v":0},{"$f":"IF(AK11=0,0,(AK11*((LOG(AK11))/LOG(2))))","v":0},null,{"$f":"N11","v":211},{"$f":"COUNTIF(L53:L64,AN11)","v":0},{"$f":"AO11/(AQ4-AO10)","v":0},{"$f":"IF(AP11=0,0,(AP11*((LOG(AP11))/LOG(2))))","v":0},null,{"$f":"N11","v":211},{"$f":"COUNTIF(L65:L75,AS11)","v":0},{"$f":"AT11/(AV4-AT10)","v":0},{"$f":"IF(AU11=0,0,(AU11*((LOG(AU11))/LOG(2))))","v":0}]
[22,896,24,909,23,926,null,null,null,null,0,222,null,212,{"$f":"COUNTIF($L$7:$L$500,N12)","v":4},{"$f":"O12/$Q$4","v":5.7971014492753624E-2},{"$f":"IF(P12=0,0,(P12*((LOG(P12))/LOG(2))))","v":-0.23817533082771994},null,null,{"$f":"N12","v":212},{"$f":"COUNTIF(L7:L18,T12)","v":0},{"$f":"U12/(W4-U10)","v":0},{"$f":"IF(V12=0,0,(V12*((LOG(V12))/LOG(2))))","v":0},null,{"$f":"N12","v":212},{"$f":"COUNTIF(L19:L29,Y12)","v":0},{"$f":"Z12/(AB4-Z10)","v":0},{"$f":"IF(AA12=0,0,(AA12*((LOG(AA12))/LOG(2))))","v":0},null,{"$f":"N12","v":212},{"$f":"COUNTIF(L30:L41,AD12)","v":0},{"$f":"AE12/(AG4-AE10)","v":0},{"$f":"IF(AF12=0,0,(AF12*((LOG(AF12))/LOG(2))))","v":0},null,{"$f":"N12","v":212},{"$f":"COUNTIF(L42:L52,AI12)","v":1},{"$f":"AJ12/(AL4-AJ10)","v":0.1111111111111111},{"$f":"IF(AK12=0,0,(AK12*((LOG(AK12))/LOG(2))))","v":-0.3522138890491458},null,{"$f":"N12","v":212},{"$f":"COUNTIF(L53:L64,AN12)","v":3},{"$f":"AO12/(AQ4-AO10)","v":0.375},{"$f":"IF(AP12=0,0,(AP12*((LOG(AP12))/LOG(2))))","v":-0.53063906222956647},null,{"$f":"N12","v":212},{"$f":"COUNTIF(L65:L75,AS12)","v":0},{"$f":"AT12/(AV4-AT10)","v":0},{"$f":"IF(AU12=0,0,(AU12*((LOG(AU12))/LOG(2))))","v":0}]
[22,1063,24,1076,23,1089,null,null,null,null,0,222,null,221,{"$f":"COUNTIF($L$7:$L$500,N13)","v":4},{"$f":"O13/$Q$4","v":5.7971014492753624E-2},{"$f":"IF(P13=0,0,(P13*((LOG(P13))/LOG(2))))","v":-0.23817533082771994},null,null,{"$f":"N13","v":221},{"$f":"COUNTIF(L7:L18,T13)","v":0},{"$f":"U13/(W4-U10)","v":0},{"$f":"IF(V13=0,0,(V13*((LOG(V13))/LOG(2))))","v":0},null,{"$f":"N13","v":221},{"$f":"COUNTIF(L19:L29,Y13)","v":0},{"$f":"Z13/(AB4-Z10)","v":0},{"$f":"IF(AA13=0,0,(AA13*((LOG(AA13))/LOG(2))))","v":0},null,{"$f":"N13","v":221},{"$f":"COUNTIF(L30:L41,AD13)","v":0},{"$f":"AE13/(AG4-AE10)","v":0},{"$f":"IF(AF13=0,0,(AF13*((LOG(AF13))/LOG(2))))","v":0},null,{"$f":"N13","v":221},{"$f":"COUNTIF(L42:L52,AI13)","v":0},{"$f":"AJ13/(AL4-AJ10)","v":0},{"$f":"IF(AK13=0,0,(AK13*((LOG(AK13))/LOG(2))))","v":0},null,{"$f":"N13","v":221},{"$f":"COUNTIF(L53:L64,AN13)","v":2},{"$f":"AO13/(AQ4-AO10)","v":0.25},{"$f":"IF(AP13=0,0,(AP13*((LOG(AP13))/LOG(2))))","v":-0.5},null,{"$f":"N13","v":221},{"$f":"COUNTIF(L65:L75,AS13)","v":2},{"$f":"AT13/(AV4-AT10)","v":0.33333333333333331},{"$f":"IF(AU13=0,0,(AU13*((LOG(AU13))/LOG(2))))","v":-0.52832083357371862}]
[22,1222,24,1237,23,1264,null,null,null,null,0,222,null,222,{"$f":"COUNTIF($L$7:$L$500,N14)","v":41},{"$f":"O14/$Q$4","v":0.59420289855072461},{"$f":"IF(P14=0,0,(P14*((LOG(P14))/LOG(2))))","v":-0.44623000780526817},null,null,{"$f":"N14","v":222},{"$f":"COUNTIF(L7:L18,T14)","v":12},{"$f":"U14/(W4-U10)","v":1},{"$f":"IF(V14=0,0,(V14*((LOG(V14))/LOG(2))))","v":0},null,{"$f":"N14","v":222},{"$f":"COUNTIF(L19:L29,Y14)","v":11},{"$f":"Z14/(AB4-Z10)","v":1},{"$f":"IF(AA14=0,0,(AA14*((LOG(AA14))/LOG(2))))","v":0},null,{"$f":"N14","v":222},{"$f":"COUNTIF(L30:L41,AD14)","v":5},{"$f":"AE14/(AG4-AE10)","v":0.83333333333333337},{"$f":"IF(AF14=0,0,(AF14*((LOG(AF14))/LOG(2))))","v":-0.21919533819482812},null,{"$f":"N14","v":222},{"$f":"COUNTIF(L42:L52,AI14)","v":8},{"$f":"AJ14/(AL4-AJ10)","v":0.88888888888888884},{"$f":"IF(AK14=0,0,(AK14*((LOG(AK14))/LOG(2))))","v":-0.15104444572649992},null,{"$f":"N14","v":222},{"$f":"COUNTIF(L53:L64,AN14)","v":1},{"$f":"AO14/(AQ4-AO10)","v":0.125},{"$f":"IF(AP14=0,0,(AP14*((LOG(AP14))/LOG(2))))","v":-0.375},null,{"$f":"N14","v":222},{"$f":"COUNTIF(L65:L75,AS14)","v":4},{"$f":"AT14/(AV4-AT10)","v":0.66666666666666663},{"$f":"IF(AU14=0,0,(AU14*((LOG(AU14))/LOG(2))))","v":-0.38997500048077083}]
[22,1407,24,1421,23,1434,null,null,null,null,0,222,null,null,null,{"$f":"SUM(P7:P14)","v":1},{"$f":"-SUM(Q7:Q14)","v":1.657125898943427},null,null,null,null,{"$f":"SUM(V7:V14)","v":1},{"$f":"-SUM(W7:W14)","v":0},null,null,null,{"$f":"SUM(AA7:AA14)","v":1},{"$f":"-SUM(AB7:AB14)","v":0},null,null,null,{"$f":"SUM(AF7:AF14)","v":1},{"$f":"-SUM(AG7:AG14)","v":0.65002242164835411},null,null,null,{"$f":"SUM(AK7:AK14)","v":1},{"$f":"-SUM(AL7:AL14)","v":0.50325833477564574},null,null,null,{"$f":"SUM(AP7:AP14)","v":1},{"$f":"-SUM(AQ7:AQ14)","v":2.1556390622295662},null,null,null,{"$f":"SUM(AU7:AU14)","v":1},{"$f":"-SUM(AV7:AV14)","v":0.91829583405448945}]
[22,1618,24,1646,23,1660,null,null,null,null,0,222,null,null,null,"U=",{"$f":"Q15/(LOG(Q4)/LOG(2))","v":0.27128088144177592},null,null,null,null,"U1=",{"$f":"W15/(LOG(W4)/LOG(2))","v":0},null,null,null,"U2=",{"$f":"AB15/(LOG(AB4)/LOG(2))","v":0},null,null,null,"U3=",{"$f":"AG15/(LOG(AG4)/LOG(2))","v":0.18131916903387263},null,null,null,"U4=",{"$f":"AL15/(LOG(AL4)/LOG(2))","v":0.14547428313495148},null,null,null,"U5=",{"$f":"AQ15/(LOG(AQ4)/LOG(2))","v":0.60130030977895432},null,null,null,"U6=",{"$f":"AV15/(LOG(AV4)/LOG(2))","v":0.26544702577940094}]
[22,1809,24,1842,23,1855,null,null,null,null,0,222]
[22,2354,24,2368,23,2402,null,null,null,null,0,222]
[22,2572,24,2639,23,2702,null,null,null,null,0,222,null,"Total Target Seq"]
[22,3157,24,3227,23,3247,null,null,null,null,0,222,null,{"$f":"COUNTIF(L7:L75,G3)","v":17},null,12,11,12,11,12,11]
[22,3531,24,3564,23,3581,null,null,null,null,0,222,null,null,null,"% of reinforcement given in 6 equal intervals based on number of trials "]
[22,4072,24,4106,23,4132,null,null,null,null,0,222,null,null,null,"%_1","%_2","%_3","%_4","%_5","%_6"]
[22,4406,24,4442,23,4456,null,null,null,null,0,222,null,null,"target sequence",{"$f":"$G$3","v":122},{"$f":"$G$3","v":122},{"$f":"$G$3","v":122},{"$f":"$G$3","v":122},{"$f":"$G$3","v":122},{"$f":"$G$3","v":122}]
[22,4808,24,4834,23,4874,null,null,null,null,0,222,null,null,"total reinforcement",{"$f":"U10","v":0},{"$f":"Z10","v":0},{"$f":"AE10","v":6},{"$f":"AJ10","v":2},{"$f":"AO10","v":4},{"$f":"AT10","v":5}]
[22,5079,24,5118,23,5174,null,null,null,null,0,222,null,null,"% target"]
[22,5385,24,5423,23,5448,null,null,null,null,0,222,null,null,"CCRF"]
[22,5699,24,5748,23,5761,null,null,null,null,0,222,null,null,"% CCRf"]
[22,6152,24,6169,23,6195,null,null,null,null,0,222,null,null,"average response rate",{"$f":"F18/P20","v":200.16666666666666},{"$f":"(F29-F18)/Q20","v":369.63636363636363},{"$f":"(F41-F29)/R20","v":314.33333333333331},{"$f":"(F52-F41)/S20","v":217},{"$f":"(F64-F52)/T20","v":425.41666666666669},{"$f":"(F75-F64)/U20","v":539.90909090909088}]
[22,6442,24,6455,23,6468,null,null,null,null,0,222]
[11,6690,22,6709,23,6754,null,null,null,null,0,122]
[22,6943,24,7015,23,7028,null,null,null,null,0,222]
[22,7267,24,7280,23,7600,null,null,null,null,0,222]
[22,7784,24,7797,23,7823,null,null,null,null,0,222]
[11,8191,22,8239,23,8249,null,null,null,null,0,122]
[22,8670,24,8683,23,8700,null,null,null,null,0,222]
[11,8858,22,8904,23,8947,null,null,null,null,0,122]
[22,9269,24,9288,23,9301,null,null,null,null,0,222]
[11,9510,22,9525,23,9568,null,null,null,null,0,122]
[11,9717,22,9770,23,9784,null,null,null,null,0,122]
[11,9981,11,10012,21,10051,null,null,null,null,0,112]
[11,10204,22,10225,23,10240,null,null,null,null,0,122]
[11,10588,22,10606,23,10619,null,null,null,null,0,122]
[22,10743,24,10756,23,10768,null,null,null,null,0,222]
[22,10920,24,10934,23,10950,null,null,null,null,0,222]
[11,11081,22,11117,23,11152,null,null,null,null,0,122]
[22,11323,13,11378,23,11405,null,null,null,null,0,212]
[22,11550,24,11563,23,11576,null,null,null,null,0,222]
[22,11731,24,11749,23,11760,null,null,null,null,0,222]
[22,11940,24,11951,23,11966,null,null,null,null,0,222]
[22,12115,24,12168,23,12170,null,null,null,null,0,222]
[22,12289,24,12305,23,12319,null,null,null,null,0,222]
[22,12573,24,12599,23,12627,null,null,null,null,0,222]
[22,12932,13,12946,23,12973,null,null,null,null,0,212]
[11,13145,22,13175,23,13191,null,null,null,null,0,122]
[11,13533,22,13576,14,14423,null,null,null,null,0,121]
[22,14600,13,14686,23,14736,null,null,null,null,0,212]
[22,14969,13,15063,23,15095,null,null,null,null,0,212]
[11,15344,22,15362,23,15389,null,null,null,null,0,122]
[22,15830,24,15865,23,15930,null,null,null,null,0,222]
[22,16143,24,16165,14,16201,null,null,null,null,0,221]
[22,16632,24,16647,14,16684,null,null,null,null,0,221]
[11,16903,11,16911,21,16966,null,null,null,null,0,112]
[11,17156,22,17187,23,17200,null,null,null,null,0,122]
[11,17674,22,17696,23,17732,null,null,null,null,0,122]
[11,17968,22,17993,23,18006,null,null,null,null,0,122]
[11,18293,22,18346,23,18363,null,null,null,null,0,122]
[22,18672,24,18686,23,18700,null,null,null,null,0,222]
[11,18821,22,18862,23,18892,null,null,null,null,0,122]
[22,19131,24,19144,14,19185,null,null,null,null,0,221]
[22,19418,24,19432,23,19446,null,null,null,null,0,222]
[22,19610,24,19704,23,19729,null,null,null,null,0,222]
[11,20155,22,20186,23,20203,null,null,null,null,0,122]
[22,22943,24,22945,23,22992,null,null,null,null,0,222]
[22,23365,24,23380,14,23401,null,null,null,null,0,221]
[11,23608,22,23637,23,23671,null,null,null,null,0,122]

{"sheet":"!M531930.103","index":9,"n_rows":108,"n_cols":48,"rows_kept":108,"cut":false,"hidden":false,"merged":[[4,39,4,42],[5,39,5,40],[4,44,4,47],[5,44,5,45],[4,24,4,27],[5,24,5,25],[4,29,4,32],[5,29,5,30],[4,34,4,37],[5,34,5,35],[1,1,1,2],[5,13,5,14],[18,13,18,14],[19,13,19,14],[4,19,4,22],[5,19,5,20]]}
["Report for:!M531930.103"]
["Date:","<date>"]
["Hen:","<hen>",null,null,null,"Correct Sequence",{"$f":"Start!J2","v":122},null,null,null,null,null,null,null,null,"Total Sequences in Data",{"$f":"4994-COUNTBLANK(L7:L5000)","v":102},null,null,null,null,"Total Sequences in Block Data",{"$f":"COUNTA(L7:L23)","v":17},null,null,null,"Total Sequences in Block Data",{"$f":"COUNTA(L24:L40)","v":17},null,null,null,"Total Sequences in Block Data",{"$f":"COUNTA(L41:L57)","v":17},null,null,null,"Total Sequences in Block Data",{"$f":"COUNTA(L58:L74)","v":17},null,null,null,"Total Sequences in Block Data",{"$f":"COUNTA(L75:L91)","v":17},null,null,null,"Total Sequences in Block Data",{"$f":"COUNTA(L92:L108)","v":17}]
[null,null,null,null,null,null,null,null,null,null,null,null,null,null,null,"Total Sequences in Summary",{"$f":"SUM(O7:O14)","v":102},null,null,null,null,"Total Sequences in Block Summary",{"$f":"SUM(U7:U14)","v":17},null,null,null,"Total Sequences in Block Summary",{"$f":"SUM(Z7:Z14)","v":17},null,null,null,"Total Sequences in Block Summary",{"$f":"SUM(AE7:AE14)","v":17},null,null,null,"Total Sequences in Block Summary",{"$f":"SUM(AJ7:AJ14)","v":17},null,null,null,"Total Sequences in Block Summary",{"$f":"SUM(AO7:AO14)","v":17},null,null,null,"Total Sequences in Block Summary",{"$f":"SUM(AT7:AT14)","v":17}]
[null,null,null,null,null,null,null,null,null,null,null,null,null,null,null,null,null,null,null,"Block 1",null,null,null,null,"Block 2",null,null,null,null,"Block 3",null,null,null,null,"Block 4",null,null,null,null,"Block 5",null,null,null,null,"Block 6"]
["Sequence\nComponent\n1","Time\n1","Sequence\nComponent\n2","Time\n2","Sequence\nComponent\n3","Time\n3","Sequence\nComponent\n4","Time\n4","Sequence\nComponent\n5","Time\n5","Correct?\n0=No 1=Yes","Sequence",null,"Frequency",null,"Relative Frequency","Variability",null,null,"Frequency",null,"Relative Frequency","Variability",null,"Frequency",null,"Relative Frequency","Variability",null,"Frequency",null,"Relative Frequency","Variability",null,"Frequency",null,"Relative Frequency","Variability",null,"Frequency",null,"Relative Frequency","Variability",null,"Frequency",null,"Relative Frequency","Variability"]
[11,20,11,34,21,44,null,null,null,null,0,112,null,111,{"$f":"COUNTIF($L$7:$L$500,N7)","v":1},{"$f":"O7/$Q$4","v":9.8039215686274508E-3},{"$f":"IF(P7=0,0,(P7*((LOG(P7))/LOG(2))))","v":-6.5415934725210734E-2},null,null,{"$f":"N7","v":111},{"$f":"COUNTIF(L7:L23,T7)","v":0},{"$f":"U7/(W4-U10)","v":0},{"$f":"IF(V7=0,0,(V7*((LOG(V7))/LOG(2))))","v":0},null,{"$f":"N7","v":111},{"$f":"COUNTIF(L24:L40,Y7)","v":0},{"$f":"Z7/(AB4-Z10)","v":0},{"$f":"IF(AA7=0,0,(AA7*((LOG(AA7))/LOG(2))))","v":0},null,{"$f":"N7","v":111},{"$f":"COUNTIF(L41:L57,AD7)","v":0},{"$f":"AE7/(AG4-AE10)","v":0},{"$f":"IF(AF7=0,0,(AF7*((LOG(AF7))/LOG(2))))","v":0},null,{"$f":"N7","v":111},{"$f":"COUNTIF(L58:L74,AI7)","v":0},{"$f":"AJ7/(AL4-AJ10)","v":0},{"$f":"IF(AK7=0,0,(AK7*((LOG(AK7))/LOG(2))))","v":0},null,{"$f":"N7","v":111},{"$f":"COUNTIF(L75:L91,AN7)","v":1},{"$f":"AO7/(AQ4-AO10)","v":6.6666666666666666E-2},{"$f":"IF(AP7=0,0,(AP7*((LOG(AP7))/LOG(2))))","v":-0.26045937304056793},null,{"$f":"N7","v":111},{"$f":"COUNTIF(L92:L108,AS7)","v":0},{"$f":"AT7/(AV4-AT10)","v":0},{"$f":"IF(AU7=0,0,(AU7*((LOG(AU7))/LOG(2))))","v":0}]
[22,147,24,172,23,213,null,null,null,null,0,222,null,112,{"$f":"COUNTIF($L$7:$L$500,N8)","v":6},{"$f":"O8/$Q$4","v":5.8823529411764705E-2},{"$f":"IF(P8=0,0,(P8*((LOG(P8))/LOG(2))))","v":-0.24043899066178465},null,null,{"$f":"N8","v":112},{"$f":"COUNTIF(L7:L23,T8)","v":1},{"$f":"U8/(W4-U10)","v":5.8823529411764705E-2},{"$f":"IF(V8=0,0,(V8*((LOG(V8))/LOG(2))))","v":-0.24043899066178465},null,{"$f":"N8","v":112},{"$f":"COUNTIF(L24:L40,Y8)","v":1},{"$f":"Z8/(AB4-Z10)","v":8.3333333333333329E-2},{"$f":"IF(AA8=0,0,(AA8*((LOG(AA8))/LOG(2))))","v":-0.29874687506009634},null,{"$f":"N8","v":112},{"$f":"COUNTIF(L41:L57,AD8)","v":2},{"$f":"AE8/(AG4-AE10)","v":0.13333333333333333},{"$f":"IF(AF8=0,0,(AF8*((LOG(AF8))/LOG(2))))","v":-0.3875854127478025},null,{"$f":"N8","v":112},{"$f":"COUNTIF(L58:L74,AI8)","v":1},{"$f":"AJ8/(AL4-AJ10)","v":6.25E-2},{"$f":"IF(AK8=0,0,(AK8*((LOG(AK8))/LOG(2))))","v":-0.25},null,{"$f":"N8","v":112},{"$f":"COUNTIF(L75:L91,AN8)","v":0},{"$f":"AO8/(AQ4-AO10)","v":0},{"$f":"IF(AP8=0,0,(AP8*((LOG(AP8))/LOG(2))))","v":0},null,{"$f":"N8","v":112},{"$f":"COUNTIF(L92:L108,AS8)","v":1},{"$f":"AT8/(AV4-AT10)","v":7.6923076923076927E-2},{"$f":"IF(AU8=0,0,(AU8*((LOG(AU8))/LOG(2))))","v":-0.28464920908777636}]
[22,312,24,328,14,338,null,null,null,null,0,221,null,121,{"$f":"COUNTIF($L$7:$L$500,N9)","v":0},{"$f":"O9/$Q$4","v":0},{"$f":"IF(P9=0,0,(P9*((LOG(P9))/LOG(2))))","v":0},null,null,{"$f":"N9","v":121},{"$f":"COUNTIF(L7:L23,T9)","v":0},{"$f":"U9/(W4-U10)","v":0},{"$f":"IF(V9=0,0,(V9*((LOG(V9))/LOG(2))))","v":0},null,{"$f":"N9","v":121},{"$f":"COUNTIF(L24:L40,Y9)","v":0},{"$f":"Z9/(AB4-Z10)","v":0},{"$f":"IF(AA9=0,0,(AA9*((LOG(AA9))/LOG(2))))","v":0},null,{"$f":"N9","v":121},{"$f":"COUNTIF(L41:L57,AD9)","v":0},{"$f":"AE9/(AG4-AE10)","v":0},{"$f":"IF(AF9=0,0,(AF9*((LOG(AF9))/LOG(2))))","v":0},null,{"$f":"N9","v":121},{"$f":"COUNTIF(L58:L74,AI9)","v":0},{"$f":"AJ9/(AL4-AJ10)","v":0},{"$f":"IF(AK9=0,0,(AK9*((LOG(AK9))/LOG(2))))","v":0},null,{"$f":"N9","v":121},{"$f":"COUNTIF(L75:L91,AN9)","v":0},{"$f":"AO9/(AQ4-AO10)","v":0},{"$f":"IF(AP9=0,0,(AP9*((LOG(AP9))/LOG(2))))","v":0},null,{"$f":"N9","v":121},{"$f":"COUNTIF(L92:L108,AS9)","v":0},{"$f":"AT9/(AV4-AT10)","v":0},{"$f":"IF(AU9=0,0,(AU9*((LOG(AU9))/LOG(2))))","v":0}]
[22,438,24,447,23,465,null,null,null,null,0,222,null,122,{"$f":"COUNTIF($L$7:$L$500,N10)","v":14},{"$f":"O10/$Q$4","v":0.13725490196078433},{"$f":"IF(P10=0,0,(P10*((LOG(P10))/LOG(2))))","v":-0.39324495959602429},null,null,{"$f":"N10","v":122},{"$f":"COUNTIF(L7:L23,T10)","v":0},null,null,null,{"$f":"N10","v":122},{"$f":"COUNTIF(L24:L40,Y10)","v":5},null,null,null,{"$f":"N10","v":122},{"$f":"COUNTIF(L41:L57,AD10)","v":2},null,null,null,{"$f":"N10","v":122},{"$f":"COUNTIF(L58:L74,AI10)","v":1},null,null,null,{"$f":"N10","v":122},{"$f":"COUNTIF(L75:L91,AN10)","v":2},null,null,null,{"$f":"N10","v":122},{"$f":"COUNTIF(L92:L108,AS10)","v":4}]
[22,566,24,586,23,597,null,null,null,null,0,222,null,211,{"$f":"COUNTIF($L$7:$L$500,N11)","v":1},{"$f":"O11/$Q$4","v":9.8039215686274508E-3},{"$f":"IF(P11=0,0,(P11*((LOG(P11))/LOG(2))))","v":-6.5415934725210734E-2},null,null,{"$f":"N11","v":211},{"$f":"COUNTIF(L7:L23,T11)","v":0},{"$f":"U11/(W4-U10)","v":0},{"$f":"IF(V11=0,0,(V11*((LOG(V11))/LOG(2))))","v":0},null,{"$f":"N11","v":211},{"$f":"COUNTIF(L24:L40,Y11)","v":0},{"$f":"Z11/(AB4-Z10)","v":0},{"$f":"IF(AA11=0,0,(AA11*((LOG(AA11))/LOG(2))))","v":0},null,{"$f":"N11","v":211},{"$f":"COUNTIF(L41:L57,AD11)","v":1},{"$f":"AE11/(AG4-AE10)","v":6.6666666666666666E-2},{"$f":"IF(AF11=0,0,(AF11*((LOG(AF11))/LOG(2))))","v":-0.26045937304056793},null,{"$f":"N11","v":211},{"$f":"COUNTIF(L58:L74,AI11)","v":0},{"$f":"AJ11/(AL4-AJ10)","v":0},{"$f":"IF(AK11=0,0,(AK11*((LOG(AK11))/LOG(2))))","v":0},null,{"$f":"N11","v":211},{"$f":"COUNTIF(L75:L91,AN11)","v":0},{"$f":"AO11/(AQ4-AO10)","v":0},{"$f":"IF(AP11=0,0,(AP11*((LOG(AP11))/LOG(2))))","v":0},null,{"$f":"N11","v":211},{"$f":"COUNTIF(L92:L108,AS11)","v":0},{"$f":"AT11/(AV4-AT10)","v":0},{"$f":"IF(AU11=0,0,(AU11*((LOG(AU11))/LOG(2))))","v":0}]
[22,695,24,707,23,718,null,null,null,null,0,222,null,212,{"$f":"COUNTIF($L$7:$L$500,N12)","v":0},{"$f":"O12/$Q$4","v":0},{"$f":"IF(P12=0,0,(P12*((LOG(P12))/LOG(2))))","v":0},null,null,{"$f":"N12","v":212},{"$f":"COUNTIF(L7:L23,T12)","v":0},{"$f":"U12/(W4-U10)","v":0},{"$f":"IF(V12=0,0,(V12*((LOG(V12))/LOG(2))))","v":0},null,{"$f":"N12","v":212},{"$f":"COUNTIF(L24:L40,Y12)","v":0},{"$f":"Z12/(AB4-Z10)","v":0},{"$f":"IF(AA12=0,0,(AA12*((LOG(AA12))/LOG(2))))","v":0},null,{"$f":"N12","v":212},{"$f":"COUNTIF(L41:L57,AD12)","v":0},{"$f":"AE12/(AG4-AE10)","v":0},{"$f":"IF(AF12=0,0,(AF12*((LOG(AF12))/LOG(2))))","v":0},null,{"$f":"N12","v":212},{"$f":"COUNTIF(L58:L74,AI12)","v":0},{"$f":"AJ12/(AL4-AJ10)","v":0},{"$f":"IF(AK12=0,0,(AK12*((LOG(AK12))/LOG(2))))","v":0},null,{"$f":"N12","v":212},{"$f":"COUNTIF(L75:L91,AN12)","v":0},{"$f":"AO12/(AQ4-AO10)","v":0},{"$f":"IF(AP12=0,0,(AP12*((LOG(AP12))/LOG(2))))","v":0},null,{"$f":"N12","v":212},{"$f":"COUNTIF(L92:L108,AS12)","v":0},{"$f":"AT12/(AV4-AT10)","v":0},{"$f":"IF(AU12=0,0,(AU12*((LOG(AU12))/LOG(2))))","v":0}]
[22,818,24,826,23,838,null,null,null,null,0,222,null,221,{"$f":"COUNTIF($L$7:$L$500,N13)","v":6},{"$f":"O13/$Q$4","v":5.8823529411764705E-2},{"$f":"IF(P13=0,0,(P13*((LOG(P13))/LOG(2))))","v":-0.24043899066178465},null,null,{"$f":"N13","v":221},{"$f":"COUNTIF(L7:L23,T13)","v":1},{"$f":"U13/(W4-U10)","v":5.8823529411764705E-2},{"$f":"IF(V13=0,0,(V13*((LOG(V13))/LOG(2))))","v":-0.24043899066178465},null,{"$f":"N13","v":221},{"$f":"COUNTIF(L24:L40,Y13)","v":0},{"$f":"Z13/(AB4-Z10)","v":0},{"$f":"IF(AA13=0,0,(AA13*((LOG(AA13))/LOG(2))))","v":0},null,{"$f":"N13","v":221},{"$f":"COUNTIF(L41:L57,AD13)","v":0},{"$f":"AE13/(AG4-AE10)","v":0},{"$f":"IF(AF13=0,0,(AF13*((LOG(AF13))/LOG(2))))","v":0},null,{"$f":"N13","v":221},{"$f":"COUNTIF(L58:L74,AI13)","v":2},{"$f":"AJ13/(AL4-AJ10)","v":0.125},{"$f":"IF(AK13=0,0,(AK13*((LOG(AK13))/LOG(2))))","v":-0.375},null,{"$f":"N13","v":221},{"$f":"COUNTIF(L75:L91,AN13)","v":1},{"$f":"AO13/(AQ4-AO10)","v":6.6666666666666666E-2},{"$f":"IF(AP13=0,0,(AP13*((LOG(AP13))/LOG(2))))","v":-0.26045937304056793},null,{"$f":"N13","v":221},{"$f":"COUNTIF(L92:L108,AS13)","v":2},{"$f":"AT13/(AV4-AT10)","v":0.15384615384615385},{"$f":"IF(AU13=0,0,(AU13*((LOG(AU13))/LOG(2))))","v":-0.4154522643293988}]
[22,951,24,963,23,988,null,null,null,null,0,222,null,222,{"$f":"COUNTIF($L$7:$L$500,N14)","v":74},{"$f":"O14/$Q$4","v":0.72549019607843135},{"$f":"IF(P14=0,0,(P14*((LOG(P14))/LOG(2))))","v":-0.33588162989557252},null,null,{"$f":"N14","v":222},{"$f":"COUNTIF(L7:L23,T14)","v":15},{"$f":"U14/(W4-U10)","v":0.88235294117647056},{"$f":"IF(V14=0,0,(V14*((LOG(V14))/LOG(2))))","v":-0.1593284520369008},null,{"$f":"N14","v":222},{"$f":"COUNTIF(L24:L40,Y14)","v":11},{"$f":"Z14/(AB4-Z10)","v":0.91666666666666663},{"$f":"IF(AA14=0,0,(AA14*((LOG(AA14))/LOG(2))))","v":-0.1150699752435374},null,{"$f":"N14","v":222},{"$f":"COUNTIF(L41:L57,AD14)","v":12},{"$f":"AE14/(AG4-AE10)","v":0.8},{"$f":"IF(AF14=0,0,(AF14*((LOG(AF14))/LOG(2))))","v":-0.25754247590988982},null,{"$f":"N14","v":222},{"$f":"COUNTIF(L58:L74,AI14)","v":13},{"$f":"AJ14/(AL4-AJ10)","v":0.8125},{"$f":"IF(AK14=0,0,(AK14*((LOG(AK14))/LOG(2))))","v":-0.24339272901036266},null,{"$f":"N14","v":222},{"$f":"COUNTIF(L75:L91,AN14)","v":13},{"$f":"AO14/(AQ4-AO10)","v":0.8666666666666667},{"$f":"IF(AP14=0,0,(AP14*((LOG(AP14))/LOG(2))))","v":-0.17892409380510282},null,{"$f":"N14","v":222},{"$f":"COUNTIF(L92:L108,AS14)","v":10},{"$f":"AT14/(AV4-AT10)","v":0.76923076923076927},{"$f":"IF(AU14=0,0,(AU14*((LOG(AU14))/LOG(2))))","v":-0.29116278711825366}]
[22,1090,24,1115,23,1127,null,null,null,null,0,222,null,null,null,{"$f":"SUM(P7:P14)","v":1},{"$f":"-SUM(Q7:Q14)","v":1.3408364402655877},null,null,null,null,{"$f":"SUM(V7:V14)","v":1},{"$f":"-SUM(W7:W14)","v":0.64020643336047012},null,null,null,{"$f":"SUM(AA7:AA14)","v":1},{"$f":"-SUM(AB7:AB14)","v":0.41381685030363374},null,null,null,{"$f":"SUM(AF7:AF14)","v":1},{"$f":"-SUM(AG7:AG14)","v":0.90558726169826032},null,null,null,{"$f":"SUM(AK7:AK14)","v":1},{"$f":"-SUM(AL7:AL14)","v":0.86839272901036269},null,null,null,{"$f":"SUM(AP7:AP14)","v":1},{"$f":"-SUM(AQ7:AQ14)","v":0.69984283988623863},null,null,null,{"$f":"SUM(AU7:AU14)","v":1},{"$f":"-SUM(AV7:AV14)","v":0.99126426053542871}]
[22,1231,24,1241,23,1253,null,null,null,null,0,222,null,null,null,"U=",{"$f":"Q15/(LOG(Q4)/LOG(2))","v":0.20095188354245594},null,null,null,null,"U1=",{"$f":"W15/(LOG(W4)/LOG(2))","v":0.15662685098921497},null,null,null,"U2=",{"$f":"AB15/(LOG(AB4)/LOG(2))","v":0.10124051676444079},null,null,null,"U3=",{"$f":"AG15/(LOG(AG4)/LOG(2))","v":0.22155241450983923},null,null,null,"U4=",{"$f":"AL15/(LOG(AL4)/LOG(2))","v":0.212452751923911},null,null,null,"U5=",{"$f":"AQ15/(LOG(AQ4)/LOG(2))","v":0.17121693017572714},null,null,null,"U6=",{"$f":"AV15/(LOG(AV4)/LOG(2))","v":0.24251333872241509}]
[22,1379,24,1421,23,1435,null,null,null,null,0,222]
[22,1573,24,1601,23,1633,null,null,null,null,0,222]
[22,1766,24,1804,23,1816,null,null,null,null,0,222,null,"Total Target Seq"]
[22,2022,24,2034,23,2114,null,null,null,null,0,222,null,{"$f":"COUNTIF(L7:L108,G3)","v":14},null,17,17,17,17,17,17]
[22,2273,24,2315,23,2342,null,null,null,null,0,222,null,null,null,"% of reinforcement given in 6 equal intervals based on number of trials "]
[22,2502,24,2516,23,2544,null,null,null,null,0,222,null,null,null,"%_1","%_2","%_3","%_4","%_5","%_6"]
[22,2761,24,2777,23,2801,null,null,null,null,0,222,null,null,"target sequence",{"$f":"$G$3","v":122},{"$f":"$G$3","v":122},{"$f":"$G$3","v":122},{"$f":"$G$3","v":122},{"$f":"$G$3","v":122},{"$f":"$G$3","v":122}]
[22,2957,24,3005,23,3018,null,null,null,null,0,222,null,null,"total reinforcement",{"$f":"U10","v":0},{"$f":"Z10","v":5},{"$f":"AE10","v":2},{"$f":"AJ10","v":1},{"$f":"AO10","v":2},{"$f":"AT10","v":4}]
[22,3334,24,3347,23,3360,null,null,null,null,0,222,null,null,"% target"]
[11,3707,22,3750,23,3792,null,null,null,null,0,122,null,null,"CCRF"]
[22,3903,24,3918,23,3976,null,null,null,null,0,222,null,null,"% CCRf"]
[22,5661,24,5730,23,5744,null,null,null,null,0,222,null,null,"average response rate",{"$f":"F23/P20","v":164.76470588235293},{"$f":"(F40-F23)/Q20","v":337.64705882352939},{"$f":"(F57-F40)/R20","v":194.8235294117647},{"$f":"(F74-F57)/S20","v":250.1764705882353},{"$f":"(F91-F74)/T20","v":246.35294117647058},{"$f":"(F108-F91)/U20","v":215.94117647058823}]
[22,5893,24,5908,23,5923,null,null,null,null,0,222]
[11,6233,22,6267,23,6285,null,null,null,null,0,122]
[11,6469,22,6511,23,6527,null,null,null,null,0,122]
[22,6713,24,6728,23,6743,null,null,null,null,0,222]
[22,6903,24,6939,23,6954,null,null,null,null,0,222]
[11,7168,22,7197,23,7244,null,null,null,null,0,122]
[11,7353,22,7382,23,7402,null,null,null,null,0,122]
[11,7542,11,7626,21,7682,null,null,null,null,0,112]
[22,7842,24,7857,23,7896,null,null,null,null,0,222]
[22,8025,24,8079,23,8110,null,null,null,null,0,222]
[22,8282,24,8310,23,8321,null,null,null,null,0,222]
[22,8516,24,8528,23,8541,null,null,null,null,0,222]
[11,8755,22,8814,23,8847,null,null,null,null,0,122]
[11,8974,22,8992,23,9048,null,null,null,null,0,122]
[11,9187,11,9250,21,9325,null,null,null,null,0,112]
[22,9509,13,9530,14,9537,null,null,null,null,0,211]
[11,9720,11,9748,21,9802,null,null,null,null,0,112]
[22,10037,24,10050,23,10078,null,null,null,null,0,222]
[22,10199,24,10238,23,10254,null,null,null,null,0,222]
[22,10352,24,10363,23,10377,null,null,null,null,0,222]
[22,10473,24,10495,23,10521,null,null,null,null,0,222]
[22,10618,24,10630,23,10669,null,null,null,null,0,222]
[22,10771,24,10785,23,10797,null,null,null,null,0,222]
[22,10893,24,10905,23,10928,null,null,null,null,0,222]
[22,11024,24,11061,23,11090,null,null,null,null,0,222]
[22,11189,24,11201,23,11212,null,null,null,null,0,222]
[22,11327,24,11367,23,11379,null,null,null,null,0,222]
[22,11558,24,11571,23,11596,null,null,null,null,0,222]
[22,11713,24,11729,23,11853,null,null,null,null,0,222]
[22,11959,24,11972,14,12002,null,null,null,null,0,221]
[22,12102,24,12120,23,12153,null,null,null,null,0,222]
[22,12332,24,12348,14,12368,null,null,null,null,0,221]
[22,12481,24,12545,23,12558,null,null,null,null,0,222]
[22,12840,24,12856,23,12869,null,null,null,null,0,222]
[22,13026,24,13037,23,13049,null,null,null,null,0,222]
[22,13227,24,13239,23,13253,null,null,null,null,0,222]
[22,13373,24,13438,23,13446,null,null,null,null,0,222]
[22,13578,24,13634,23,13647,null,null,null,null,0,222]
[22,13832,24,13843,23,13856,null,null,null,null,0,222]
[22,14123,24,14149,23,14162,null,null,null,null,0,222]
[22,14463,24,14514,23,14527,null,null,null,null,0,222]
[22,14839,24,14855,23,14866,null,null,null,null,0,222]
[22,15126,24,15128,23,15140,null,null,null,null,0,222]
[22,15446,24,15460,23,15476,null,null,null,null,0,222]
[11,15736,11,15741,21,15767,null,null,null,null,0,112]
[11,16058,22,16093,23,16106,null,null,null,null,0,122]
[22,16433,24,16477,23,16479,null,null,null,null,0,222]
[22,16648,24,16662,23,16676,null,null,null,null,0,222]
[22,16848,24,16861,14,16894,null,null,null,null,0,221]
[22,17108,24,17121,23,17135,null,null,null,null,0,222]
[22,17364,24,17379,23,17397,null,null,null,null,0,222]
[11,17628,22,17645,23,17657,null,null,null,null,0,122]
[22,17941,24,17987,23,18000,null,null,null,null,0,222]
[22,18170,24,18185,23,18199,null,null,null,null,0,222]
[11,18376,22,18397,23,18410,null,null,null,null,0,122]
[22,18606,24,18619,23,18633,null,null,null,null,0,222]
[22,18803,24,18817,23,18830,null,null,null,null,0,222]
[22,18993,24,19006,23,19019,null,null,null,null,0,222]
[22,19210,24,19219,23,19326,null,null,null,null,0,222]
[22,19496,24,19570,23,19612,null,null,null,null,0,222]
[22,19793,24,19818,23,19902,null,null,null,null,0,222]
[11,20076,11,20112,12,20114,null,null,null,null,0,111]
[22,20271,24,20280,23,20294,null,null,null,null,0,222]
[22,20483,24,20491,14,20514,null,null,null,null,0,221]
[11,20654,11,20659,21,20673,null,null,null,null,0,112]
[11,20861,22,20918,23,20941,null,null,null,null,0,122]
[22,21093,24,21106,23,21119,null,null,null,null,0,222]
[22,21291,24,21303,23,21316,null,null,null,null,0,222]
[22,21564,24,21586,23,21598,null,null,null,null,0,222]
[22,21762,24,21780,23,21792,null,null,null,null,0,222]
[22,21977,24,21988,14,22006,null,null,null,null,0,221]
[22,22171,24,22195,23,22207,null,null,null,null,0,222]
[22,22362,24,22372,23,22384,null,null,null,null,0,222]
[22,22573,24,22603,23,22616,null,null,null,null,0,222]
[11,22735,22,22754,23,22776,null,null,null,null,0,122]
[11,23011,22,23030,23,23043,null,null,null,null,0,122]
[22,23203,24,23223,23,23236,null,null,null,null,0,222]
[22,23418,24,23448,23,23473,null,null,null,null,0,222]
[22,23630,24,23711,23,23724,null,null,null,null,0,222]
[11,23934,22,23951,23,23965,null,null,null,null,null,122]

{"sheet":"!M601A10.103","index":10,"n_rows":104,"n_cols":48,"rows_kept":104,"cut":false,"hidden":false,"merged":[[4,39,4,42],[5,39,5,40],[4,44,4,47],[5,44,5,45],[4,24,4,27],[5,24,5,25],[4,29,4,32],[5,29,5,30],[4,34,4,37],[5,34,5,35],[1,1,1,2],[5,13,5,14],[18,13,18,14],[19,13,19,14],[4,19,4,22],[5,19,5,20]]}
["Report for:!M601A10.103"]
["Date:","<date>"]
["Hen:","<hen>",null,null,null,"Correct Sequence",{"$f":"Start!J2","v":122},null,null,null,null,null,null,null,null,"Total Sequences in Data",{"$f":"4994-COUNTBLANK(L7:L5000)","v":98},null,null,null,null,"Total Sequences in Block Data",{"$f":"COUNTA(L7:L22)","v":16},null,null,null,"Total Sequences in Block Data",{"$f":"COUNTA(L23:L39)","v":17},null,null,null,"Total Sequences in Block Data",{"$f":"COUNTA(L40:L55)","v":16},null,null,null,"Total Sequences in Block Data",{"$f":"COUNTA(L56:L71)","v":16},null,null,null,"Total Sequences in Block Data",{"$f":"COUNTA(L72:L88)","v":17},null,null,null,"Total Sequences in Block Data",{"$f":"COUNTA(L89:L104)","v":16}]
[null,null,null,null,null,null,null,null,null,null,null,null,null,null,null,"Total Sequences in Summary",{"$f":"SUM(O7:O14)","v":98},null,null,null,null,"Total Sequences in Block Summary",{"$f":"SUM(U7:U14)","v":16},null,null,null,"Total Sequences in Block Summary",{"$f":"SUM(Z7:Z14)","v":17},null,null,null,"Total Sequences in Block Summary",{"$f":"SUM(AE7:AE14)","v":16},null,null,null,"Total Sequences in Block Summary",{"$f":"SUM(AJ7:AJ14)","v":16},null,null,null,"Total Sequences in Block Summary",{"$f":"SUM(AO7:AO14)","v":17},null,null,null,"Total Sequences in Block Summary",{"$f":"SUM(AT7:AT14)","v":16}]
[null,null,null,null,null,null,null,null,null,null,null,null,null,null,null,null,null,null,null,"Block 1",null,null,null,null,"Block 2",null,null,null,null,"Block 3",null,null,null,null,"Block 4",null,null,null,null,"Block 5",null,null,null,null,"Block 6"]
["Sequence\nComponent\n1","Time\n1","Sequence\nComponent\n2","Time\n2","Sequence\nComponent\n3","Time\n3","Sequence\nComponent\n4","Time\n4","Sequence\nComponent\n5","Time\n5","Correct?\n0=No 1=Yes","Sequence",null,"Frequency",null,"Relative Frequency","Variability",null,null,"Frequency",null,"Relative Frequency","Variability",null,"Frequency",null,"Relative Frequency","Variability",null,"Frequency",null,"Relative Frequency","Variability",null,"Frequency",null,"Relative Frequency","Variability",null,"Frequency",null,"Relative Frequency","Variability",null,"Frequency",null,"Relative Frequency","Variability"]
[22,18,24,70,23,101,null,null,null,null,0,222,null,111,{"$f":"COUNTIF($L$7:$L$500,N7)","v":4},{"$f":"O7/$Q$4","v":4.0816326530612242E-2},{"$f":"IF(P7=0,0,(P7*((LOG(P7))/LOG(2))))","v":-0.18835550384143707},null,null,{"$f":"N7","v":111},{"$f":"COUNTIF(L7:L22,T7)","v":0},{"$f":"U7/(W4-U10)","v":0},{"$f":"IF(V7=0,0,(V7*((LOG(V7))/LOG(2))))","v":0},null,{"$f":"N7","v":111},{"$f":"COUNTIF(L23:L39,Y7)","v":0},{"$f":"Z7/(AB4-Z10)","v":0},{"$f":"IF(AA7=0,0,(AA7*((LOG(AA7))/LOG(2))))","v":0},null,{"$f":"N7","v":111},{"$f":"COUNTIF(L40:L55,AD7)","v":0},{"$f":"AE7/(AG4-AE10)","v":0},{"$f":"IF(AF7=0,0,(AF7*((LOG(AF7))/LOG(2))))","v":0},null,{"$f":"N7","v":111},{"$f":"COUNTIF(L56:L71,AI7)","v":1},{"$f":"AJ7/(AL4-AJ10)","v":0.1},{"$f":"IF(AK7=0,0,(AK7*((LOG(AK7))/LOG(2))))","v":-0.33219280948873625},null,{"$f":"N7","v":111},{"$f":"COUNTIF(L72:L88,AN7)","v":2},{"$f":"AO7/(AQ4-AO10)","v":0.16666666666666666},{"$f":"IF(AP7=0,0,(AP7*((LOG(AP7))/LOG(2))))","v":-0.43082708345352599},null,{"$f":"N7","v":111},{"$f":"COUNTIF(L89:L104,AS7)","v":1},{"$f":"AT7/(AV4-AT10)","v":9.0909090909090912E-2},{"$f":"IF(AU7=0,0,(AU7*((LOG(AU7))/LOG(2))))","v":-0.31449378351248153}]
[22,207,24,283,14,335,null,null,null,null,0,221,null,112,{"$f":"COUNTIF($L$7:$L$500,N8)","v":13},{"$f":"O8/$Q$4","v":0.1326530612244898},{"$f":"IF(P8=0,0,(P8*((LOG(P8))/LOG(2))))","v":-0.386586853445546},null,null,{"$f":"N8","v":112},{"$f":"COUNTIF(L7:L22,T8)","v":0},{"$f":"U8/(W4-U10)","v":0},{"$f":"IF(V8=0,0,(V8*((LOG(V8))/LOG(2))))","v":0},null,{"$f":"N8","v":112},{"$f":"COUNTIF(L23:L39,Y8)","v":1},{"$f":"Z8/(AB4-Z10)","v":7.6923076923076927E-2},{"$f":"IF(AA8=0,0,(AA8*((LOG(AA8))/LOG(2))))","v":-0.28464920908777636},null,{"$f":"N8","v":112},{"$f":"COUNTIF(L40:L55,AD8)","v":3},{"$f":"AE8/(AG4-AE10)","v":0.3},{"$f":"IF(AF8=0,0,(AF8*((LOG(AF8))/LOG(2))))","v":-0.52108967824986185},null,{"$f":"N8","v":112},{"$f":"COUNTIF(L56:L71,AI8)","v":1},{"$f":"AJ8/(AL4-AJ10)","v":0.1},{"$f":"IF(AK8=0,0,(AK8*((LOG(AK8))/LOG(2))))","v":-0.33219280948873625},null,{"$f":"N8","v":112},{"$f":"COUNTIF(L72:L88,AN8)","v":3},{"$f":"AO8/(AQ4-AO10)","v":0.25},{"$f":"IF(AP8=0,0,(AP8*((LOG(AP8))/LOG(2))))","v":-0.5},null,{"$f":"N8","v":112},{"$f":"COUNTIF(L89:L104,AS8)","v":5},{"$f":"AT8/(AV4-AT10)","v":0.45454545454545453},{"$f":"IF(AU8=0,0,(AU8*((LOG(AU8))/LOG(2))))","v":-0.51704705624997038}]
[22,463,24,475,23,488,null,null,null,null,0,222,null,121,{"$f":"COUNTIF($L$7:$L$500,N9)","v":7},{"$f":"O9/$Q$4","v":7.1428571428571425E-2},{"$f":"IF(P9=0,0,(P9*((LOG(P9))/LOG(2))))","v":-0.27195392300411453},null,null,{"$f":"N9","v":121},{"$f":"COUNTIF(L7:L22,T9)","v":0},{"$f":"U9/(W4-U10)","v":0},{"$f":"IF(V9=0,0,(V9*((LOG(V9))/LOG(2))))","v":0},null,{"$f":"N9","v":121},{"$f":"COUNTIF(L23:L39,Y9)","v":3},{"$f":"Z9/(AB4-Z10)","v":0.23076923076923078},{"$f":"IF(AA9=0,0,(AA9*((LOG(AA9))/LOG(2))))","v":-0.48818705017383146},null,{"$f":"N9","v":121},{"$f":"COUNTIF(L40:L55,AD9)","v":1},{"$f":"AE9/(AG4-AE10)","v":0.1},{"$f":"IF(AF9=0,0,(AF9*((LOG(AF9))/LOG(2))))","v":-0.33219280948873625},null,{"$f":"N9","v":121},{"$f":"COUNTIF(L56:L71,AI9)","v":0},{"$f":"AJ9/(AL4-AJ10)","v":0},{"$f":"IF(AK9=0,0,(AK9*((LOG(AK9))/LOG(2))))","v":0},null,{"$f":"N9","v":121},{"$f":"COUNTIF(L72:L88,AN9)","v":2},{"$f":"AO9/(AQ4-AO10)","v":0.16666666666666666},{"$f":"IF(AP9=0,0,(AP9*((LOG(AP9))/LOG(2))))","v":-0.43082708345352599},null,{"$f":"N9","v":121},{"$f":"COUNTIF(L89:L104,AS9)","v":1},{"$f":"AT9/(AV4-AT10)","v":9.0909090909090912E-2},{"$f":"IF(AU9=0,0,(AU9*((LOG(AU9))/LOG(2))))","v":-0.31449378351248153}]
[22,662,24,725,23,738,null,null,null,null,0,222,null,122,{"$f":"COUNTIF($L$7:$L$500,N10)","v":27},{"$f":"O10/$Q$4","v":0.27551020408163263},{"$f":"IF(P10=0,0,(P10*((LOG(P10))/LOG(2))))","v":-0.51240003298670378},null,null,{"$f":"N10","v":122},{"$f":"COUNTIF(L7:L22,T10)","v":1},null,null,null,{"$f":"N10","v":122},{"$f":"COUNTIF(L23:L39,Y10)","v":4},null,null,null,{"$f":"N10","v":122},{"$f":"COUNTIF(L40:L55,AD10)","v":6},null,null,null,{"$f":"N10","v":122},{"$f":"COUNTIF(L56:L71,AI10)","v":6},null,null,null,{"$f":"N10","v":122},{"$f":"COUNTIF(L72:L88,AN10)","v":5},null,null,null,{"$f":"N10","v":122},{"$f":"COUNTIF(L89:L104,AS10)","v":5}]
[22,903,24,932,23,958,null,null,null,null,0,222,null,211,{"$f":"COUNTIF($L$7:$L$500,N11)","v":1},{"$f":"O11/$Q$4","v":1.020408163265306E-2},{"$f":"IF(P11=0,0,(P11*((LOG(P11))/LOG(2))))","v":-6.7497039225665384E-2},null,null,{"$f":"N11","v":211},{"$f":"COUNTIF(L7:L22,T11)","v":0},{"$f":"U11/(W4-U10)","v":0},{"$f":"IF(V11=0,0,(V11*((LOG(V11))/LOG(2))))","v":0},null,{"$f":"N11","v":211},{"$f":"COUNTIF(L23:L39,Y11)","v":0},{"$f":"Z11/(AB4-Z10)","v":0},{"$f":"IF(AA11=0,0,(AA11*((LOG(AA11))/LOG(2))))","v":0},null,{"$f":"N11","v":211},{"$f":"COUNTIF(L40:L55,AD11)","v":0},{"$f":"AE11/(AG4-AE10)","v":0},{"$f":"IF(AF11=0,0,(AF11*((LOG(AF11))/LOG(2))))","v":0},null,{"$f":"N11","v":211},{"$f":"COUNTIF(L56:L71,AI11)","v":0},{"$f":"AJ11/(AL4-AJ10)","v":0},{"$f":"IF(AK11=0,0,(AK11*((LOG(AK11))/LOG(2))))","v":0},null,{"$f":"N11","v":211},{"$f":"COUNTIF(L72:L88,AN11)","v":0},{"$f":"AO11/(AQ4-AO10)","v":0},{"$f":"IF(AP11=0,0,(AP11*((LOG(AP11))/LOG(2))))","v":0},null,{"$f":"N11","v":211},{"$f":"COUNTIF(L89:L104,AS11)","v":1},{"$f":"AT11/(AV4-AT10)","v":9.0909090909090912E-2},{"$f":"IF(AU11=0,0,(AU11*((LOG(AU11))/LOG(2))))","v":-0.31449378351248153}]
[22,1110,24,1124,23,1137,null,null,null,null,0,222,null,212,{"$f":"COUNTIF($L$7:$L$500,N12)","v":6},{"$f":"O12/$Q$4","v":6.1224489795918366E-2},{"$f":"IF(P12=0,0,(P12*((LOG(P12))/LOG(2))))","v":-0.24671922510575831},null,null,{"$f":"N12","v":212},{"$f":"COUNTIF(L7:L22,T12)","v":1},{"$f":"U12/(W4-U10)","v":6.6666666666666666E-2},{"$f":"IF(V12=0,0,(V12*((LOG(V12))/LOG(2))))","v":-0.26045937304056793},null,{"$f":"N12","v":212},{"$f":"COUNTIF(L23:L39,Y12)","v":2},{"$f":"Z12/(AB4-Z10)","v":0.15384615384615385},{"$f":"IF(AA12=0,0,(AA12*((LOG(AA12))/LOG(2))))","v":-0.4154522643293988},null,{"$f":"N12","v":212},{"$f":"COUNTIF(L40:L55,AD12)","v":1},{"$f":"AE12/(AG4-AE10)","v":0.1},{"$f":"IF(AF12=0,0,(AF12*((LOG(AF12))/LOG(2))))","v":-0.33219280948873625},null,{"$f":"N12","v":212},{"$f":"COUNTIF(L56:L71,AI12)","v":0},{"$f":"AJ12/(AL4-AJ10)","v":0},{"$f":"IF(AK12=0,0,(AK12*((LOG(AK12))/LOG(2))))","v":0},null,{"$f":"N12","v":212},{"$f":"COUNTIF(L72:L88,AN12)","v":1},{"$f":"AO12/(AQ4-AO10)","v":8.3333333333333329E-2},{"$f":"IF(AP12=0,0,(AP12*((LOG(AP12))/LOG(2))))","v":-0.29874687506009634},null,{"$f":"N12","v":212},{"$f":"COUNTIF(L89:L104,AS12)","v":1},{"$f":"AT12/(AV4-AT10)","v":9.0909090909090912E-2},{"$f":"IF(AU12=0,0,(AU12*((LOG(AU12))/LOG(2))))","v":-0.31449378351248153}]
[22,1314,24,1344,23,1392,null,null,null,null,0,222,null,221,{"$f":"COUNTIF($L$7:$L$500,N13)","v":5},{"$f":"O13/$Q$4","v":5.1020408163265307E-2},{"$f":"IF(P13=0,0,(P13*((LOG(P13))/LOG(2))))","v":-0.21901947700142071},null,null,{"$f":"N13","v":221},{"$f":"COUNTIF(L7:L22,T13)","v":1},{"$f":"U13/(W4-U10)","v":6.6666666666666666E-2},{"$f":"IF(V13=0,0,(V13*((LOG(V13))/LOG(2))))","v":-0.26045937304056793},null,{"$f":"N13","v":221},{"$f":"COUNTIF(L23:L39,Y13)","v":1},{"$f":"Z13/(AB4-Z10)","v":7.6923076923076927E-2},{"$f":"IF(AA13=0,0,(AA13*((LOG(AA13))/LOG(2))))","v":-0.28464920908777636},null,{"$f":"N13","v":221},{"$f":"COUNTIF(L40:L55,AD13)","v":0},{"$f":"AE13/(AG4-AE10)","v":0},{"$f":"IF(AF13=0,0,(AF13*((LOG(AF13))/LOG(2))))","v":0},null,{"$f":"N13","v":221},{"$f":"COUNTIF(L56:L71,AI13)","v":1},{"$f":"AJ13/(AL4-AJ10)","v":0.1},{"$f":"IF(AK13=0,0,(AK13*((LOG(AK13))/LOG(2))))","v":-0.33219280948873625},null,{"$f":"N13","v":221},{"$f":"COUNTIF(L72:L88,AN13)","v":1},{"$f":"AO13/(AQ4-AO10)","v":8.3333333333333329E-2},{"$f":"IF(AP13=0,0,(AP13*((LOG(AP13))/LOG(2))))","v":-0.29874687506009634},null,{"$f":"N13","v":221},{"$f":"COUNTIF(L89:L104,AS13)","v":1},{"$f":"AT13/(AV4-AT10)","v":9.0909090909090912E-2},{"$f":"IF(AU13=0,0,(AU13*((LOG(AU13))/LOG(2))))","v":-0.31449378351248153}]
[22,1579,24,1643,23,1657,null,null,null,null,0,222,null,222,{"$f":"COUNTIF($L$7:$L$500,N14)","v":35},{"$f":"O14/$Q$4","v":0.35714285714285715},{"$f":"IF(P14=0,0,(P14*((LOG(P14))/LOG(2))))","v":-0.53050958113222924},null,null,{"$f":"N14","v":222},{"$f":"COUNTIF(L7:L22,T14)","v":13},{"$f":"U14/(W4-U10)","v":0.8666666666666667},{"$f":"IF(V14=0,0,(V14*((LOG(V14))/LOG(2))))","v":-0.17892409380510282},null,{"$f":"N14","v":222},{"$f":"COUNTIF(L23:L39,Y14)","v":6},{"$f":"Z14/(AB4-Z10)","v":0.46153846153846156},{"$f":"IF(AA14=0,0,(AA14*((LOG(AA14))/LOG(2))))","v":-0.51483563880920125},null,{"$f":"N14","v":222},{"$f":"COUNTIF(L40:L55,AD14)","v":5},{"$f":"AE14/(AG4-AE10)","v":0.5},{"$f":"IF(AF14=0,0,(AF14*((LOG(AF14))/LOG(2))))","v":-0.5},null,{"$f":"N14","v":222},{"$f":"COUNTIF(L56:L71,AI14)","v":7},{"$f":"AJ14/(AL4-AJ10)","v":0.7},{"$f":"IF(AK14=0,0,(AK14*((LOG(AK14))/LOG(2))))","v":-0.36020122098083079},null,{"$f":"N14","v":222},{"$f":"COUNTIF(L72:L88,AN14)","v":3},{"$f":"AO14/(AQ4-AO10)","v":0.25},{"$f":"IF(AP14=0,0,(AP14*((LOG(AP14))/LOG(2))))","v":-0.5},null,{"$f":"N14","v":222},{"$f":"COUNTIF(L89:L104,AS14)","v":1},{"$f":"AT14/(AV4-AT10)","v":9.0909090909090912E-2},{"$f":"IF(AU14=0,0,(AU14*((LOG(AU14))/LOG(2))))","v":-0.31449378351248153}]
[11,1807,22,1870,23,1885,null,null,null,null,0,122,null,null,null,{"$f":"SUM(P7:P14)","v":1},{"$f":"-SUM(Q7:Q14)","v":2.4230416357428748},null,null,null,null,{"$f":"SUM(V7:V14)","v":1},{"$f":"-SUM(W7:W14)","v":0.69984283988623863},null,null,null,{"$f":"SUM(AA7:AA14)","v":1},{"$f":"-SUM(AB7:AB14)","v":1.9877733714879842},null,null,null,{"$f":"SUM(AF7:AF14)","v":1},{"$f":"-SUM(AG7:AG14)","v":1.6854752972273344},null,null,null,{"$f":"SUM(AK7:AK14)","v":1},{"$f":"-SUM(AL7:AL14)","v":1.3567796494470394},null,null,null,{"$f":"SUM(AP7:AP14)","v":1},{"$f":"-SUM(AQ7:AQ14)","v":2.4591479170272446},null,null,null,{"$f":"SUM(AU7:AU14)","v":1},{"$f":"-SUM(AV7:AV14)","v":2.4040097573248596}]
[22,2100,24,2116,23,2129,null,null,null,null,0,222,null,null,null,"U=",{"$f":"Q15/(LOG(Q4)/LOG(2))","v":0.36631109948058255},null,null,null,null,"U1=",{"$f":"W15/(LOG(W4)/LOG(2))","v":0.17496070997155966},null,null,null,"U2=",{"$f":"AB15/(LOG(AB4)/LOG(2))","v":0.48630983294270924},null,null,null,"U3=",{"$f":"AG15/(LOG(AG4)/LOG(2))","v":0.42136882430683359},null,null,null,"U4=",{"$f":"AL15/(LOG(AL4)/LOG(2))","v":0.33919491236175986},null,null,null,"U5=",{"$f":"AQ15/(LOG(AQ4)/LOG(2))","v":0.60163187104962179},null,null,null,"U6=",{"$f":"AV15/(LOG(AV4)/LOG(2))","v":0.60100243933121489}]
[22,2394,24,2408,23,2421,null,null,null,null,0,222]
[22,2638,13,2726,23,2773,null,null,null,null,0,212]
[22,3113,24,3132,23,3150,null,null,null,null,0,222,null,"Total Target Seq"]
[22,3356,24,3397,23,3410,null,null,null,null,0,222,null,{"$f":"COUNTIF(L7:L104,G3)","v":27},null,16,17,16,16,17,16]
[22,3622,24,3638,23,3653,null,null,null,null,0,222,null,null,null,"% of reinforcement given in 6 equal intervals based on number of trials "]
[22,3892,24,3991,23,4005,null,null,null,null,0,222,null,null,null,"%_1","%_2","%_3","%_4","%_5","%_6"]
[11,4220,22,4359,23,4374,null,null,null,null,0,122,null,null,"target sequence",{"$f":"$G$3","v":122},{"$f":"$G$3","v":122},{"$f":"$G$3","v":122},{"$f":"$G$3","v":122},{"$f":"$G$3","v":122},{"$f":"$G$3","v":122}]
[22,4739,24,4756,23,4768,null,null,null,null,0,222,null,null,"total reinforcement",{"$f":"U10","v":1},{"$f":"Z10","v":4},{"$f":"AE10","v":6},{"$f":"AJ10","v":6},{"$f":"AO10","v":5},{"$f":"AT10","v":5}]
[11,4942,22,5122,23,5136,null,null,null,null,0,122,null,null,"% target"]
[22,5450,13,5499,23,5517,null,null,null,null,0,212,null,null,"CCRF"]
[22,5769,24,5808,23,6291,null,null,null,null,0,222,null,null,"% CCRf"]
[11,6464,11,6466,21,6509,null,null,null,null,0,112,null,null,"average response rate",{"$f":"F22/P20","v":250.3125},{"$f":"(F39-F22)/Q20","v":311.35294117647061},{"$f":"(F55-F39)/R20","v":228.6875},{"$f":"(F71-F55)/S20","v":198.1875},{"$f":"(F88-F71)/T20","v":233.47058823529412},{"$f":"(F104-F88)/U20","v":244}]
[11,6696,22,6745,14,6771,null,null,null,null,0,121]
[22,7003,24,7037,23,7038,null,null,null,null,0,222]
[22,7257,24,7272,23,7285,null,null,null,null,0,222]
[11,7484,22,7500,23,7531,null,null,null,null,0,122]
[11,7642,22,7685,23,7698,null,null,null,null,0,122]
[22,7963,13,7976,23,8001,null,null,null,null,0,212]
[22,8164,24,8181,23,8195,null,null,null,null,0,222]
[22,8357,24,8430,14,8448,null,null,null,null,0,221]
[11,8620,22,8657,14,8700,null,null,null,null,0,121]
[11,8868,22,8901,14,9033,null,null,null,null,0,121]
[22,9274,24,9286,23,9298,null,null,null,null,0,222]
[11,9478,22,9516,23,9528,null,null,null,null,0,122]
[22,9753,24,9766,23,9780,null,null,null,null,0,222]
[22,10025,24,10038,23,10051,null,null,null,null,0,222]
[11,10160,22,10231,23,10243,null,null,null,null,0,122]
[11,10414,11,10447,21,10473,null,null,null,null,0,112]
[11,10666,22,10678,14,10767,null,null,null,null,0,121]
[11,11000,11,11040,21,11060,null,null,null,null,0,112]
[11,11226,22,11250,23,11252,null,null,null,null,0,122]
[22,11443,24,11477,23,11490,null,null,null,null,0,222]
[22,11706,24,11725,23,11738,null,null,null,null,0,222]
[22,11869,13,11882,23,11893,null,null,null,null,0,212]
[11,12074,22,12123,23,12125,null,null,null,null,0,122]
[11,12265,22,12326,23,12336,null,null,null,null,0,122]
[11,12447,22,12537,23,12549,null,null,null,null,0,122]
[11,12671,11,12673,21,12696,null,null,null,null,0,112]
[22,12902,24,12928,23,12957,null,null,null,null,0,222]
[11,13127,22,13140,23,13152,null,null,null,null,0,122]
[22,13281,24,13331,23,13350,null,null,null,null,0,222]
[11,13480,11,13483,21,13501,null,null,null,null,0,112]
[22,13678,24,13696,23,13711,null,null,null,null,0,222]
[22,13826,24,13839,23,13922,null,null,null,null,0,222]
[22,14061,24,14076,23,14139,null,null,null,null,0,222]
[22,14329,24,14357,23,14370,null,null,null,null,0,222]
[11,14523,22,14534,23,14546,null,null,null,null,0,122]
[11,14674,22,14699,23,14712,null,null,null,null,0,122]
[11,14861,22,14872,23,14899,null,null,null,null,0,122]
[22,15032,24,15044,23,15057,null,null,null,null,0,222]
[22,15207,24,15220,23,15235,null,null,null,null,0,222]
[22,15385,24,15397,14,15408,null,null,null,null,0,221]
[11,15554,22,15592,23,15635,null,null,null,null,0,122]
[11,15893,11,15930,12,15977,null,null,null,null,0,111]
[11,16102,22,16126,23,16128,null,null,null,null,0,122]
[11,16313,11,16314,21,16342,null,null,null,null,0,112]
[11,16564,22,16579,23,16624,null,null,null,null,0,122]
[22,16792,13,16818,23,16853,null,null,null,null,0,212]
[11,17034,22,17046,14,17057,null,null,null,null,0,121]
[11,17217,11,17238,21,17250,null,null,null,null,0,112]
[11,17369,22,17424,23,17438,null,null,null,null,0,122]
[11,17571,22,17603,23,17629,null,null,null,null,0,122]
[11,17765,11,17887,12,17903,null,null,null,null,0,111]
[22,18101,24,18126,14,18143,null,null,null,null,0,221]
[22,18331,24,18333,23,18344,null,null,null,null,0,222]
[11,18498,22,18510,23,18526,null,null,null,null,0,122]
[22,18849,24,18860,23,18899,null,null,null,null,0,222]
[11,19034,11,19036,12,19076,null,null,null,null,0,111]
[22,19271,24,19297,23,19353,null,null,null,null,0,222]
[11,19499,11,19573,21,19596,null,null,null,null,0,112]
[11,19834,22,19877,14,19892,null,null,null,null,0,121]
[11,20073,22,20084,23,20097,null,null,null,null,0,122]
[22,20253,13,20386,14,20388,null,null,null,null,0,211]
[11,20683,11,20746,21,20763,null,null,null,null,0,112]
[22,20929,24,20947,23,20980,null,null,null,null,0,222]
[11,21120,11,21139,21,21152,null,null,null,null,0,112]
[11,21265,11,21295,12,21388,null,null,null,null,0,111]
[11,21501,11,21502,21,21530,null,null,null,null,0,112]
[11,21633,22,21650,14,21663,null,null,null,null,0,121]
[11,21767,11,21824,21,21858,null,null,null,null,0,112]
[11,21978,22,22025,23,22040,null,null,null,null,0,122]
[11,22251,22,22301,23,22318,null,null,null,null,0,122]
[11,22524,11,22600,21,22630,null,null,null,null,0,112]
[22,22831,13,22857,23,22990,null,null,null,null,0,212]
[11,23094,22,23155,23,23171,null,null,null,null,0,122]
[11,23314,22,23371,23,23438,null,null,null,null,0,122]
[11,23560,22,23622,23,23665,null,null,null,null,0,122]
[22,23962,24,23988,14,24001,null,null,null,null,null,221]

{"sheet":"!M602920.103","index":11,"n_rows":109,"n_cols":48,"rows_kept":109,"cut":false,"hidden":false,"merged":[[4,39,4,42],[5,39,5,40],[4,44,4,47],[5,44,5,45],[4,24,4,27],[5,24,5,25],[4,29,4,32],[5,29,5,30],[4,34,4,37],[5,34,5,35],[1,1,1,2],[5,13,5,14],[18,13,18,14],[19,13,19,14],[4,19,4,22],[5,19,5,20]]}
["Report for:!M602920.103"]
["Date:","<date>"]
["Hen:","<hen>",null,null,null,"Correct Sequence",{"$f":"Start!J2","v":122},null,null,null,null,null,null,null,null,"Total Sequences in Data",{"$f":"4994-COUNTBLANK(L7:L5000)","v":103},null,null,null,null,"Total Sequences in Block Data",{"$f":"COUNTA(L7:L23)","v":17},null,null,null,"Total Sequences in Block Data",{"$f":"COUNTA(L24:L40)","v":17},null,null,null,"Total Sequences in Block Data",{"$f":"COUNTA(L41:L58)","v":18},null,null,null,"Total Sequences in Block Data",{"$f":"COUNTA(L59:L75)","v":17},null,null,null,"Total Sequences in Block Data",{"$f":"COUNTA(L76:L92)","v":17},null,null,null,"Total Sequences in Block Data",{"$f":"COUNTA(L93:L109)","v":17}]
[null,null,null,null,null,null,null,null,null,null,null,null,null,null,null,"Total Sequences in Summary",{"$f":"SUM(O7:O14)","v":102},null,null,null,null,"Total Sequences in Block Summary",{"$f":"SUM(U7:U14)","v":17},null,null,null,"Total Sequences in Block Summary",{"$f":"SUM(Z7:Z14)","v":17},null,null,null,"Total Sequences in Block Summary",{"$f":"SUM(AE7:AE14)","v":18},null,null,null,"Total Sequences in Block Summary",{"$f":"SUM(AJ7:AJ14)","v":17},null,null,null,"Total Sequences in Block Summary",{"$f":"SUM(AO7:AO14)","v":17},null,null,null,"Total Sequences in Block Summary",{"$f":"SUM(AT7:AT14)","v":16}]
[null,null,null,null,null,null,null,null,null,null,null,null,null,null,null,null,null,null,null,"Block 1",null,null,null,null,"Block 2",null,null,null,null,"Block 3",null,null,null,null,"Block 4",null,null,null,null,"Block 5",null,null,null,null,"Block 6"]
["Sequence\nComponent\n1","Time\n1","Sequence\nComponent\n2","Time\n2","Sequence\nComponent\n3","Time\n3","Sequence\nComponent\n4","Time\n4","Sequence\nComponent\n5","Time\n5","Correct?\n0=No 1=Yes","Sequence",null,"Frequency",null,"Relative Frequency","Variability",null,null,"Frequency",null,"Relative Frequency","Variability",null,"Frequency",null,"Relative Frequency","Variability",null,"Frequency",null,"Relative Frequency","Variability",null,"Frequency",null,"Relative Frequency","Variability",null,"Frequency",null,"Relative Frequency","Variability",null,"Frequency",null,"Relative Frequency","Variability"]
[22,70,24,211,23,246,null,null,null,null,0,222,null,111,{"$f":"COUNTIF($L$7:$L$500,N7)","v":38},{"$f":"O7/$Q$4","v":0.37254901960784315},{"$f":"IF(P7=0,0,(P7*((LOG(P7))/LOG(2))))","v":-0.53069526945157441},null,null,{"$f":"N7","v":111},{"$f":"COUNTIF(L7:L23,T7)","v":7},{"$f":"U7/(W4-U10)","v":0.41176470588235292},{"$f":"IF(V7=0,0,(V7*((LOG(V7))/LOG(2))))","v":-0.52710326084406744},null,{"$f":"N7","v":111},{"$f":"COUNTIF(L24:L40,Y7)","v":5},{"$f":"Z7/(AB4-Z10)","v":0.38461538461538464},{"$f":"IF(AA7=0,0,(AA7*((LOG(AA7))/LOG(2))))","v":-0.53019677817451139},null,{"$f":"N7","v":111},{"$f":"COUNTIF(L41:L58,AD7)","v":7},{"$f":"AE7/(AG4-AE10)","v":0.58333333333333337},{"$f":"IF(AF7=0,0,(AF7*((LOG(AF7))/LOG(2))))","v":-0.45360442088707198},null,{"$f":"N7","v":111},{"$f":"COUNTIF(L59:L75,AI7)","v":7},{"$f":"AJ7/(AL4-AJ10)","v":0.46666666666666667},{"$f":"IF(AK7=0,0,(AK7*((LOG(AK7))/LOG(2))))","v":-0.51311664765709342},null,{"$f":"N7","v":111},{"$f":"COUNTIF(L76:L92,AN7)","v":2},{"$f":"AO7/(AQ4-AO10)","v":0.14285714285714285},{"$f":"IF(AP7=0,0,(AP7*((LOG(AP7))/LOG(2))))","v":-0.40105070315108626},null,{"$f":"N7","v":111},{"$f":"COUNTIF(L93:L109,AS7)","v":10},{"$f":"AT7/(AV4-AT10)","v":0.625},{"$f":"IF(AU7=0,0,(AU7*((LOG(AU7))/LOG(2))))","v":-0.42379494069539858}]
[22,365,24,378,23,396,null,null,null,null,0,222,null,112,{"$f":"COUNTIF($L$7:$L$500,N8)","v":16},{"$f":"O8/$Q$4","v":0.15686274509803921},{"$f":"IF(P8=0,0,(P8*((LOG(P8))/LOG(2))))","v":-0.419203975211215},null,null,{"$f":"N8","v":112},{"$f":"COUNTIF(L7:L23,T8)","v":0},{"$f":"U8/(W4-U10)","v":0},{"$f":"IF(V8=0,0,(V8*((LOG(V8))/LOG(2))))","v":0},null,{"$f":"N8","v":112},{"$f":"COUNTIF(L24:L40,Y8)","v":4},{"$f":"Z8/(AB4-Z10)","v":0.30769230769230771},{"$f":"IF(AA8=0,0,(AA8*((LOG(AA8))/LOG(2))))","v":-0.52321222096648989},null,{"$f":"N8","v":112},{"$f":"COUNTIF(L41:L58,AD8)","v":0},{"$f":"AE8/(AG4-AE10)","v":0},{"$f":"IF(AF8=0,0,(AF8*((LOG(AF8))/LOG(2))))","v":0},null,{"$f":"N8","v":112},{"$f":"COUNTIF(L59:L75,AI8)","v":4},{"$f":"AJ8/(AL4-AJ10)","v":0.26666666666666666},{"$f":"IF(AK8=0,0,(AK8*((LOG(AK8))/LOG(2))))","v":-0.50850415882893829},null,{"$f":"N8","v":112},{"$f":"COUNTIF(L76:L92,AN8)","v":5},{"$f":"AO8/(AQ4-AO10)","v":0.35714285714285715},{"$f":"IF(AP8=0,0,(AP8*((LOG(AP8))/LOG(2))))","v":-0.53050958113222924},null,{"$f":"N8","v":112},{"$f":"COUNTIF(L93:L109,AS8)","v":3},{"$f":"AT8/(AV4-AT10)","v":0.1875},{"$f":"IF(AU8=0,0,(AU8*((LOG(AU8))/LOG(2))))","v":-0.45281953111478312}]
[22,535,24,583,23,607,null,null,null,null,0,222,null,121,{"$f":"COUNTIF($L$7:$L$500,N9)","v":9},{"$f":"O9/$Q$4","v":8.8235294117647065E-2},{"$f":"IF(P9=0,0,(P9*((LOG(P9))/LOG(2))))","v":-0.30904414769375149},null,null,{"$f":"N9","v":121},{"$f":"COUNTIF(L7:L23,T9)","v":2},{"$f":"U9/(W4-U10)","v":0.11764705882352941},{"$f":"IF(V9=0,0,(V9*((LOG(V9))/LOG(2))))","v":-0.36323092250003997},null,{"$f":"N9","v":121},{"$f":"COUNTIF(L24:L40,Y9)","v":1},{"$f":"Z9/(AB4-Z10)","v":7.6923076923076927E-2},{"$f":"IF(AA9=0,0,(AA9*((LOG(AA9))/LOG(2))))","v":-0.28464920908777636},null,{"$f":"N9","v":121},{"$f":"COUNTIF(L41:L58,AD9)","v":2},{"$f":"AE9/(AG4-AE10)","v":0.16666666666666666},{"$f":"IF(AF9=0,0,(AF9*((LOG(AF9))/LOG(2))))","v":-0.43082708345352599},null,{"$f":"N9","v":121},{"$f":"COUNTIF(L59:L75,AI9)","v":2},{"$f":"AJ9/(AL4-AJ10)","v":0.13333333333333333},{"$f":"IF(AK9=0,0,(AK9*((LOG(AK9))/LOG(2))))","v":-0.3875854127478025},null,{"$f":"N9","v":121},{"$f":"COUNTIF(L76:L92,AN9)","v":1},{"$f":"AO9/(AQ4-AO10)","v":7.1428571428571425E-2},{"$f":"IF(AP9=0,0,(AP9*((LOG(AP9))/LOG(2))))","v":-0.27195392300411453},null,{"$f":"N9","v":121},{"$f":"COUNTIF(L93:L109,AS9)","v":1},{"$f":"AT9/(AV4-AT10)","v":6.25E-2},{"$f":"IF(AU9=0,0,(AU9*((LOG(AU9))/LOG(2))))","v":-0.25}]
[11,757,11,790,12,930,null,null,null,null,0,111,null,122,{"$f":"COUNTIF($L$7:$L$500,N10)","v":15},{"$f":"O10/$Q$4","v":0.14705882352941177},{"$f":"IF(P10=0,0,(P10*((LOG(P10))/LOG(2))))","v":-0.40669628622984955},null,null,{"$f":"N10","v":122},{"$f":"COUNTIF(L7:L23,T10)","v":0},null,null,null,{"$f":"N10","v":122},{"$f":"COUNTIF(L24:L40,Y10)","v":4},null,null,null,{"$f":"N10","v":122},{"$f":"COUNTIF(L41:L58,AD10)","v":6},null,null,null,{"$f":"N10","v":122},{"$f":"COUNTIF(L59:L75,AI10)","v":2},null,null,null,{"$f":"N10","v":122},{"$f":"COUNTIF(L76:L92,AN10)","v":3},null,null,null,{"$f":"N10","v":122},{"$f":"COUNTIF(L93:L109,AS10)","v":0}]
[22,1166,24,1184,23,1226,null,null,null,null,0,222,null,211,{"$f":"COUNTIF($L$7:$L$500,N11)","v":3},{"$f":"O11/$Q$4","v":2.9411764705882353E-2},{"$f":"IF(P11=0,0,(P11*((LOG(P11))/LOG(2))))","v":-0.14963126003677468},null,null,{"$f":"N11","v":211},{"$f":"COUNTIF(L7:L23,T11)","v":0},{"$f":"U11/(W4-U10)","v":0},{"$f":"IF(V11=0,0,(V11*((LOG(V11))/LOG(2))))","v":0},null,{"$f":"N11","v":211},{"$f":"COUNTIF(L24:L40,Y11)","v":0},{"$f":"Z11/(AB4-Z10)","v":0},{"$f":"IF(AA11=0,0,(AA11*((LOG(AA11))/LOG(2))))","v":0},null,{"$f":"N11","v":211},{"$f":"COUNTIF(L41:L58,AD11)","v":0},{"$f":"AE11/(AG4-AE10)","v":0},{"$f":"IF(AF11=0,0,(AF11*((LOG(AF11))/LOG(2))))","v":0},null,{"$f":"N11","v":211},{"$f":"COUNTIF(L59:L75,AI11)","v":1},{"$f":"AJ11/(AL4-AJ10)","v":6.6666666666666666E-2},{"$f":"IF(AK11=0,0,(AK11*((LOG(AK11))/LOG(2))))","v":-0.26045937304056793},null,{"$f":"N11","v":211},{"$f":"COUNTIF(L76:L92,AN11)","v":2},{"$f":"AO11/(AQ4-AO10)","v":0.14285714285714285},{"$f":"IF(AP11=0,0,(AP11*((LOG(AP11))/LOG(2))))","v":-0.40105070315108626},null,{"$f":"N11","v":211},{"$f":"COUNTIF(L93:L109,AS11)","v":0},{"$f":"AT11/(AV4-AT10)","v":0},{"$f":"IF(AU11=0,0,(AU11*((LOG(AU11))/LOG(2))))","v":0}]
[22,1477,24,1692,23,1757,null,null,null,null,0,222,null,212,{"$f":"COUNTIF($L$7:$L$500,N12)","v":3},{"$f":"O12/$Q$4","v":2.9411764705882353E-2},{"$f":"IF(P12=0,0,(P12*((LOG(P12))/LOG(2))))","v":-0.14963126003677468},null,null,{"$f":"N12","v":212},{"$f":"COUNTIF(L7:L23,T12)","v":0},{"$f":"U12/(W4-U10)","v":0},{"$f":"IF(V12=0,0,(V12*((LOG(V12))/LOG(2))))","v":0},null,{"$f":"N12","v":212},{"$f":"COUNTIF(L24:L40,Y12)","v":3},{"$f":"Z12/(AB4-Z10)","v":0.23076923076923078},{"$f":"IF(AA12=0,0,(AA12*((LOG(AA12))/LOG(2))))","v":-0.48818705017383146},null,{"$f":"N12","v":212},{"$f":"COUNTIF(L41:L58,AD12)","v":0},{"$f":"AE12/(AG4-AE10)","v":0},{"$f":"IF(AF12=0,0,(AF12*((LOG(AF12))/LOG(2))))","v":0},null,{"$f":"N12","v":212},{"$f":"COUNTIF(L59:L75,AI12)","v":0},{"$f":"AJ12/(AL4-AJ10)","v":0},{"$f":"IF(AK12=0,0,(AK12*((LOG(AK12))/LOG(2))))","v":0},null,{"$f":"N12","v":212},{"$f":"COUNTIF(L76:L92,AN12)","v":0},{"$f":"AO12/(AQ4-AO10)","v":0},{"$f":"IF(AP12=0,0,(AP12*((LOG(AP12))/LOG(2))))","v":0},null,{"$f":"N12","v":212},{"$f":"COUNTIF(L93:L109,AS12)","v":0},{"$f":"AT12/(AV4-AT10)","v":0},{"$f":"IF(AU12=0,0,(AU12*((LOG(AU12))/LOG(2))))","v":0}]
[22,2012,24,2072,14,2144,null,null,null,null,0,221,null,221,{"$f":"COUNTIF($L$7:$L$500,N13)","v":2},{"$f":"O13/$Q$4","v":1.9607843137254902E-2},{"$f":"IF(P13=0,0,(P13*((LOG(P13))/LOG(2))))","v":-0.11122402631316657},null,null,{"$f":"N13","v":221},{"$f":"COUNTIF(L7:L23,T13)","v":1},{"$f":"U13/(W4-U10)","v":5.8823529411764705E-2},{"$f":"IF(V13=0,0,(V13*((LOG(V13))/LOG(2))))","v":-0.24043899066178465},null,{"$f":"N13","v":221},{"$f":"COUNTIF(L24:L40,Y13)","v":0},{"$f":"Z13/(AB4-Z10)","v":0},{"$f":"IF(AA13=0,0,(AA13*((LOG(AA13))/LOG(2))))","v":0},null,{"$f":"N13","v":221},{"$f":"COUNTIF(L41:L58,AD13)","v":1},{"$f":"AE13/(AG4-AE10)","v":8.3333333333333329E-2},{"$f":"IF(AF13=0,0,(AF13*((LOG(AF13))/LOG(2))))","v":-0.29874687506009634},null,{"$f":"N13","v":221},{"$f":"COUNTIF(L59:L75,AI13)","v":0},{"$f":"AJ13/(AL4-AJ10)","v":0},{"$f":"IF(AK13=0,0,(AK13*((LOG(AK13))/LOG(2))))","v":0},null,{"$f":"N13","v":221},{"$f":"COUNTIF(L76:L92,AN13)","v":0},{"$f":"AO13/(AQ4-AO10)","v":0},{"$f":"IF(AP13=0,0,(AP13*((LOG(AP13))/LOG(2))))","v":0},null,{"$f":"N13","v":221},{"$f":"COUNTIF(L93:L109,AS13)","v":0},{"$f":"AT13/(AV4-AT10)","v":0},{"$f":"IF(AU13=0,0,(AU13*((LOG(AU13))/LOG(2))))","v":0}]
[22,2364,24,2394,23,2465,null,null,null,null,0,222,null,222,{"$f":"COUNTIF($L$7:$L$500,N14)","v":16},{"$f":"O14/$Q$4","v":0.15686274509803921},{"$f":"IF(P14=0,0,(P14*((LOG(P14))/LOG(2))))","v":-0.419203975211215},null,null,{"$f":"N14","v":222},{"$f":"COUNTIF(L7:L23,T14)","v":7},{"$f":"U14/(W4-U10)","v":0.41176470588235292},{"$f":"IF(V14=0,0,(V14*((LOG(V14))/LOG(2))))","v":-0.52710326084406744},null,{"$f":"N14","v":222},{"$f":"COUNTIF(L24:L40,Y14)","v":0},{"$f":"Z14/(AB4-Z10)","v":0},{"$f":"IF(AA14=0,0,(AA14*((LOG(AA14))/LOG(2))))","v":0},null,{"$f":"N14","v":222},{"$f":"COUNTIF(L41:L58,AD14)","v":2},{"$f":"AE14/(AG4-AE10)","v":0.16666666666666666},{"$f":"IF(AF14=0,0,(AF14*((LOG(AF14))/LOG(2))))","v":-0.43082708345352599},null,{"$f":"N14","v":222},{"$f":"COUNTIF(L59:L75,AI14)","v":1},{"$f":"AJ14/(AL4-AJ10)","v":6.6666666666666666E-2},{"$f":"IF(AK14=0,0,(AK14*((LOG(AK14))/LOG(2))))","v":-0.26045937304056793},null,{"$f":"N14","v":222},{"$f":"COUNTIF(L76:L92,AN14)","v":4},{"$f":"AO14/(AQ4-AO10)","v":0.2857142857142857},{"$f":"IF(AP14=0,0,(AP14*((LOG(AP14))/LOG(2))))","v":-0.51638712058788683},null,{"$f":"N14","v":222},{"$f":"COUNTIF(L93:L109,AS14)","v":2},{"$f":"AT14/(AV4-AT10)","v":0.125},{"$f":"IF(AU14=0,0,(AU14*((LOG(AU14))/LOG(2))))","v":-0.375}]
[22,2710,24,2864,23,2881,null,null,null,null,0,222,null,null,null,{"$f":"SUM(P7:P14)","v":1},{"$f":"-SUM(Q7:Q14)","v":2.4953302001843212},null,null,null,null,{"$f":"SUM(V7:V14)","v":1},{"$f":"-SUM(W7:W14)","v":1.6578764348499595},null,null,null,{"$f":"SUM(AA7:AA14)","v":1},{"$f":"-SUM(AB7:AB14)","v":1.826245258402609},null,null,null,{"$f":"SUM(AF7:AF14)","v":1},{"$f":"-SUM(AG7:AG14)","v":1.6140054628542202},null,null,null,{"$f":"SUM(AK7:AK14)","v":1},{"$f":"-SUM(AL7:AL14)","v":1.9301249653149701},null,null,null,{"$f":"SUM(AP7:AP14)","v":0.99999999999999989},{"$f":"-SUM(AQ7:AQ14)","v":2.1209520310264032},null,null,null,{"$f":"SUM(AU7:AU14)","v":1},{"$f":"-SUM(AV7:AV14)","v":1.5016144718101816}]
[11,3122,11,3126,12,3128,null,null,null,null,0,111,null,null,null,"U=",{"$f":"Q15/(LOG(Q4)/LOG(2))","v":0.37397648865218003},null,null,null,null,"U1=",{"$f":"W15/(LOG(W4)/LOG(2))","v":0.40560036855107445},null,null,null,"U2=",{"$f":"AB15/(LOG(AB4)/LOG(2))","v":0.44679189250903811},null,null,null,"U3=",{"$f":"AG15/(LOG(AG4)/LOG(2))","v":0.38705863110150923},null,null,null,"U4=",{"$f":"AL15/(LOG(AL4)/LOG(2))","v":0.47220611912022969},null,null,null,"U5=",{"$f":"AQ15/(LOG(AQ4)/LOG(2))","v":0.51889206419736211},null,null,null,"U6=",{"$f":"AV15/(LOG(AV4)/LOG(2))","v":0.3754036179525454}]
[11,3265,22,3379,14,3420,null,null,null,null,0,121]
[11,3648,11,3651,12,3653,null,null,null,null,0,111]
[11,3834,11,3866,12,3868,null,null,null,null,0,111,null,"Total Target Seq"]
[11,4026,22,4084,14,4124,null,null,null,null,0,121,null,{"$f":"COUNTIF(L7:L109,G3)","v":15},null,17,17,18,17,17,17]
[11,4512,11,4513,12,4571,null,null,null,null,0,111,null,null,null,"% of reinforcement given in 6 equal intervals based on number of trials "]
[11,4774,11,4775,12,4813,null,null,null,null,0,111,null,null,null,"%_1","%_2","%_3","%_4","%_5","%_6"]
[11,4986,11,5061,12,5074,null,null,null,null,0,111,null,null,"target sequence",{"$f":"$G$3","v":122},{"$f":"$G$3","v":122},{"$f":"$G$3","v":122},{"$f":"$G$3","v":122},{"$f":"$G$3","v":122},{"$f":"$G$3","v":122}]
[11,5196,11,5210,12,5258,null,null,null,null,0,111,null,null,"total reinforcement",{"$f":"U10","v":0},{"$f":"Z10","v":4},{"$f":"AE10","v":6},{"$f":"AJ10","v":2},{"$f":"AO10","v":3},{"$f":"AT10","v":0}]
[11,5420,11,5422,12,5493,null,null,null,null,0,111,null,null,"% target"]
[11,5676,11,5781,12,5782,null,null,null,null,0,111,null,null,"CCRF"]
[11,6024,11,6025,12,6096,null,null,null,null,0,111,null,null,"% CCRf"]
[11,6234,11,6251,12,6270,null,null,null,null,0,111,null,null,"average response rate",{"$f":"F23/P20","v":298.47058823529414},{"$f":"(F40-F23)/Q20","v":208.29411764705881},{"$f":"(F58-F40)/R20","v":242.66666666666666},{"$f":"(F75-F58)/S20","v":223},{"$f":"(F92-F75)/T20","v":233.35294117647058},{"$f":"(F109-F92)/U20","v":-1220.0588235294117}]
[11,6405,11,6434,21,6451,null,null,null,null,0,112]
[11,6591,11,6624,21,6662,null,null,null,null,0,112]
[11,6824,11,6846,21,6866,null,null,null,null,0,112]
[22,6981,13,7005,23,7049,null,null,null,null,0,212]
[11,7172,22,7216,14,7315,null,null,null,null,0,121]
[11,7444,22,7459,23,7473,null,null,null,null,0,122]
[22,7572,13,7590,23,7602,null,null,null,null,0,212]
[11,7732,11,7734,21,7826,null,null,null,null,0,112]
[11,7968,22,7994,23,8006,null,null,null,null,0,122]
[11,8149,22,8235,23,8248,null,null,null,null,0,122]
[22,8352,13,8370,23,8420,null,null,null,null,0,212]
[11,8590,22,8603,23,8615,null,null,null,null,0,122]
[11,8772,22,8786,23,8798,null,null,null,null,0,122]
[11,8949,22,8978,23,9007,null,null,null,null,0,122]
[22,9258,24,9284,23,9307,null,null,null,null,0,222]
[11,9478,11,9496,12,9512,null,null,null,null,0,111]
[11,9630,22,9680,23,9691,null,null,null,null,0,122]
[22,9863,24,9932,23,9966,null,null,null,null,0,222]
[11,10245,22,10274,14,10338,null,null,null,null,0,121]
[11,10465,11,10492,12,10506,null,null,null,null,0,111]
[11,10742,22,10758,23,10774,null,null,null,null,0,122]
[11,10899,11,10913,12,10930,null,null,null,null,0,111]
[11,11051,11,11060,12,11074,null,null,null,null,0,111]
[11,11251,11,11273,12,11341,null,null,null,null,0,111]
[11,11543,22,11561,14,11591,null,null,null,null,0,121]
[22,11779,24,11906,14,11923,null,null,null,null,0,221]
[11,12112,11,12134,12,12151,null,null,null,null,0,111]
[11,12360,22,12375,23,12418,null,null,null,null,0,122]
[11,12667,22,12695,23,12770,null,null,null,null,0,122]
[11,12926,11,12982,12,12983,null,null,null,null,0,111]
[11,13263,11,13265,12,13267,null,null,null,null,0,111]
[22,13484,13,13514,14,13523,null,null,null,null,0,211]
[11,13712,11,13748,12,13762,null,null,null,null,0,111]
[11,13917,22,13934,23,14032,null,null,null,null,0,122]
[11,14168,11,14187,12,14189,null,null,null,null,0,111]
[11,14297,11,14298,12,14310,null,null,null,null,0,111]
[11,14444,22,14507,14,14565,null,null,null,null,0,121]
[11,14716,22,14751,23,14795,null,null,null,null,0,122]
[11,14898,11,14916,12,14954,null,null,null,null,0,111]
[11,15061,11,15063,12,15116,null,null,null,null,0,111]
[11,15304,11,15306,12,15328,null,null,null,null,0,111]
[11,15454,11,15456,21,15507,null,null,null,null,0,112]
[11,15616,11,15646,21,15825,null,null,null,null,0,112]
[11,15974,11,15994,21,16007,null,null,null,null,0,112]
[11,16140,22,16185,14,16292,null,null,null,null,0,121]
[22,16463,24,16493,23,16539,null,null,null,null,0,222]
[11,16648,11,16754,21,16774,null,null,null,null,0,112]
[11,16932,11,16963,12,16967,null,null,null,null,0,111]
[22,17069,13,17088,14,17109,null,null,null,null,0,211]
[11,17232,11,17235,21,17250,null,null,null,null,0,112]
[22,17349,13,17360,14,17375,null,null,null,null,0,211]
[22,17518,24,17592,23,17623,null,null,null,null,0,222]
[11,17752,22,17767,23,17780,null,null,null,null,0,122]
[11,17933,22,17958,23,17972,null,null,null,null,0,122]
[11,18086,11,18102,21,18119,null,null,null,null,0,112]
[11,18276,22,18300,14,18599,null,null,null,null,0,121]
[11,18806,11,18850,21,18886,null,null,null,null,0,112]
[11,19052,22,19065,23,19077,null,null,null,null,0,122]
[11,19220,11,19277,21,19288,null,null,null,null,0,112]
[22,19506,24,19634,23,19672,null,null,null,null,0,222]
[22,19844,24,19873,23,19906,null,null,null,null,0,222]
[11,20168,11,20202,21,20216,null,null,null,null,0,112]
[11,20339,11,20384,12,20429,null,null,null,null,0,111]
[22,20603,24,20666,23,20741,null,null,null,null,0,222]
[11,20884,11,20908,21,20978,null,null,null,null,0,112]
[11,21163,11,21221,12,21275,null,null,null,null,0,111]
[11,21442,11,21444,21,21461,null,null,null,null,0,112]
[11,21606,11,21621,21,21653,null,null,null,null,0,112]
[11,21796,11,21870,12,21900,null,null,null,null,0,111]
[11,22067,22,22112,14,22125,null,null,null,null,0,121]
[22,22265,24,22279,23,22308,null,null,null,null,0,222]
[22,22476,24,22503,23,22523,null,null,null,null,0,222]
[11,22649,11,22661,12,22688,null,null,null,null,0,111]
[11,22790,11,22801,12,22810,null,null,null,null,0,111]
[11,22910,11,23076,12,23103,null,null,null,null,0,111]
[11,23221,11,23232,12,23243,null,null,null,null,0,111]
[11,23344,11,23356,12,23370,null,null,null,null,0,111]
[11,23476,11,23479,12,23506,null,null,null,null,0,111]
[11,23606,11,23629,12,23640,null,null,null,null,0,111]
[11,23764,11,23779,12,23807,null,null,null,null,0,111]
[11,23910,11,23991,null,null,null,null,null,null,null,11]

{"sheet":"!M603B50.103","index":12,"n_rows":135,"n_cols":48,"rows_kept":135,"cut":false,"hidden":false,"merged":[[4,39,4,42],[5,39,5,40],[4,44,4,47],[5,44,5,45],[4,24,4,27],[5,24,5,25],[4,29,4,32],[5,29,5,30],[4,34,4,37],[5,34,5,35],[1,1,1,2],[5,13,5,14],[18,13,18,14],[19,13,19,14],[4,19,4,22],[5,19,5,20]]}
["Report for:!M603B50.103"]
["Date:","<date>"]
["Hen:","<hen>",null,null,null,"Correct Sequence",{"$f":"Start!J2","v":122},null,null,null,null,null,null,null,null,"Total Sequences in Data",{"$f":"4994-COUNTBLANK(L7:L5000)","v":129},null,null,null,null,"Total Sequences in Block Data",{"$f":"COUNTA(L7:L28)","v":22},null,null,null,"Total Sequences in Block Data",{"$f":"COUNTA(L29:L49)","v":21},null,null,null,"Total Sequences in Block Data",{"$f":"COUNTA(L50:L71)","v":22},null,null,null,"Total Sequences in Block Data",{"$f":"COUNTA(L72:L92)","v":21},null,null,null,"Total Sequences in Block Data",{"$f":"COUNTA(L93:L114)","v":22},null,null,null,"Total Sequences in Block Data",{"$f":"COUNTA(L115:L135)","v":21}]
[null,null,null,null,null,null,null,null,null,null,null,null,null,null,null,"Total Sequences in Summary",{"$f":"SUM(O7:O14)","v":128},null,null,null,null,"Total Sequences in Block Summary",{"$f":"SUM(U7:U14)","v":22},null,null,null,"Total Sequences in Block Summary",{"$f":"SUM(Z7:Z14)","v":21},null,null,null,"Total Sequences in Block Summary",{"$f":"SUM(AE7:AE14)","v":22},null,null,null,"Total Sequences in Block Summary",{"$f":"SUM(AJ7:AJ14)","v":21},null,null,null,"Total Sequences in Block Summary",{"$f":"SUM(AO7:AO14)","v":22},null,null,null,"Total Sequences in Block Summary",{"$f":"SUM(AT7:AT14)","v":20}]
[null,null,null,null,null,null,null,null,null,null,null,null,null,null,null,null,null,null,null,"Block 1",null,null,null,null,"Block 2",null,null,null,null,"Block 3",null,null,null,null,"Block 4",null,null,null,null,"Block 5",null,null,null,null,"Block 6"]
["Sequence\nComponent\n1","Time\n1","Sequence\nComponent\n2","Time\n2","Sequence\nComponent\n3","Time\n3","Sequence\nComponent\n4","Time\n4","Sequence\nComponent\n5","Time\n5","Correct?\n0=No 1=Yes","Sequence",null,"Frequency",null,"Relative Frequency","Variability",null,null,"Frequency",null,"Relative Frequency","Variability",null,"Frequency",null,"Relative Frequency","Variability",null,"Frequency",null,"Relative Frequency","Variability",null,"Frequency",null,"Relative Frequency","Variability",null,"Frequency",null,"Relative Frequency","Variability",null,"Frequency",null,"Relative Frequency","Variability"]
[22,15,13,36,23,50,null,null,null,null,0,212,null,111,{"$f":"COUNTIF($L$7:$L$500,N7)","v":27},{"$f":"O7/$Q$4","v":0.2109375},{"$f":"IF(P7=0,0,(P7*((LOG(P7))/LOG(2))))","v":-0.47357841751239332},null,null,{"$f":"N7","v":111},{"$f":"COUNTIF(L7:L28,T7)","v":4},{"$f":"U7/(W4-U10)","v":0.19047619047619047},{"$f":"IF(V7=0,0,(V7*((LOG(V7))/LOG(2))))","v":-0.4556795091007162},null,{"$f":"N7","v":111},{"$f":"COUNTIF(L29:L49,Y7)","v":2},{"$f":"Z7/(AB4-Z10)","v":0.15384615384615385},{"$f":"IF(AA7=0,0,(AA7*((LOG(AA7))/LOG(2))))","v":-0.4154522643293988},null,{"$f":"N7","v":111},{"$f":"COUNTIF(L50:L71,AD7)","v":6},{"$f":"AE7/(AG4-AE10)","v":0.35294117647058826},{"$f":"IF(AF7=0,0,(AF7*((LOG(AF7))/LOG(2))))","v":-0.53029423783382934},null,{"$f":"N7","v":111},{"$f":"COUNTIF(L72:L92,AI7)","v":5},{"$f":"AJ7/(AL4-AJ10)","v":0.38461538461538464},{"$f":"IF(AK7=0,0,(AK7*((LOG(AK7))/LOG(2))))","v":-0.53019677817451139},null,{"$f":"N7","v":111},{"$f":"COUNTIF(L93:L114,AN7)","v":6},{"$f":"AO7/(AQ4-AO10)","v":0.33333333333333331},{"$f":"IF(AP7=0,0,(AP7*((LOG(AP7))/LOG(2))))","v":-0.52832083357371862},null,{"$f":"N7","v":111},{"$f":"COUNTIF(L115:L135,AS7)","v":4},{"$f":"AT7/(AV4-AT10)","v":0.26666666666666666},{"$f":"IF(AU7=0,0,(AU7*((LOG(AU7))/LOG(2))))","v":-0.50850415882893829}]
[11,214,22,242,14,303,null,null,null,null,0,121,null,112,{"$f":"COUNTIF($L$7:$L$500,N8)","v":34},{"$f":"O8/$Q$4","v":0.265625},{"$f":"IF(P8=0,0,(P8*((LOG(P8))/LOG(2))))","v":-0.50801768279287851},null,null,{"$f":"N8","v":112},{"$f":"COUNTIF(L7:L28,T8)","v":6},{"$f":"U8/(W4-U10)","v":0.2857142857142857},{"$f":"IF(V8=0,0,(V8*((LOG(V8))/LOG(2))))","v":-0.51638712058788683},null,{"$f":"N8","v":112},{"$f":"COUNTIF(L29:L49,Y8)","v":6},{"$f":"Z8/(AB4-Z10)","v":0.46153846153846156},{"$f":"IF(AA8=0,0,(AA8*((LOG(AA8))/LOG(2))))","v":-0.51483563880920125},null,{"$f":"N8","v":112},{"$f":"COUNTIF(L50:L71,AD8)","v":5},{"$f":"AE8/(AG4-AE10)","v":0.29411764705882354},{"$f":"IF(AF8=0,0,(AF8*((LOG(AF8))/LOG(2))))","v":-0.51927492540087561},null,{"$f":"N8","v":112},{"$f":"COUNTIF(L72:L92,AI8)","v":6},{"$f":"AJ8/(AL4-AJ10)","v":0.46153846153846156},{"$f":"IF(AK8=0,0,(AK8*((LOG(AK8))/LOG(2))))","v":-0.51483563880920125},null,{"$f":"N8","v":112},{"$f":"COUNTIF(L93:L114,AN8)","v":8},{"$f":"AO8/(AQ4-AO10)","v":0.44444444444444442},{"$f":"IF(AP8=0,0,(AP8*((LOG(AP8))/LOG(2))))","v":-0.51996666730769447},null,{"$f":"N8","v":112},{"$f":"COUNTIF(L115:L135,AS8)","v":3},{"$f":"AT8/(AV4-AT10)","v":0.2},{"$f":"IF(AU8=0,0,(AU8*((LOG(AU8))/LOG(2))))","v":-0.46438561897747244}]
[11,448,11,484,12,486,null,null,null,null,0,111,null,121,{"$f":"COUNTIF($L$7:$L$500,N9)","v":29},{"$f":"O9/$Q$4","v":0.2265625},{"$f":"IF(P9=0,0,(P9*((LOG(P9))/LOG(2))))","v":-0.48530118079140938},null,null,{"$f":"N9","v":121},{"$f":"COUNTIF(L7:L28,T9)","v":8},{"$f":"U9/(W4-U10)","v":0.38095238095238093},{"$f":"IF(V9=0,0,(V9*((LOG(V9))/LOG(2))))","v":-0.53040663724905157},null,{"$f":"N9","v":121},{"$f":"COUNTIF(L29:L49,Y9)","v":4},{"$f":"Z9/(AB4-Z10)","v":0.30769230769230771},{"$f":"IF(AA9=0,0,(AA9*((LOG(AA9))/LOG(2))))","v":-0.52321222096648989},null,{"$f":"N9","v":121},{"$f":"COUNTIF(L50:L71,AD9)","v":5},{"$f":"AE9/(AG4-AE10)","v":0.29411764705882354},{"$f":"IF(AF9=0,0,(AF9*((LOG(AF9))/LOG(2))))","v":-0.51927492540087561},null,{"$f":"N9","v":121},{"$f":"COUNTIF(L72:L92,AI9)","v":1},{"$f":"AJ9/(AL4-AJ10)","v":7.6923076923076927E-2},{"$f":"IF(AK9=0,0,(AK9*((LOG(AK9))/LOG(2))))","v":-0.28464920908777636},null,{"$f":"N9","v":121},{"$f":"COUNTIF(L93:L114,AN9)","v":4},{"$f":"AO9/(AQ4-AO10)","v":0.22222222222222221},{"$f":"IF(AP9=0,0,(AP9*((LOG(AP9))/LOG(2))))","v":-0.48220555587606945},null,{"$f":"N9","v":121},{"$f":"COUNTIF(L115:L135,AS9)","v":7},{"$f":"AT9/(AV4-AT10)","v":0.46666666666666667},{"$f":"IF(AU9=0,0,(AU9*((LOG(AU9))/LOG(2))))","v":-0.51311664765709342}]
[11,608,22,622,14,644,null,null,null,null,0,121,null,122,{"$f":"COUNTIF($L$7:$L$500,N10)","v":31},{"$f":"O10/$Q$4","v":0.2421875},{"$f":"IF(P10=0,0,(P10*((LOG(P10))/LOG(2))))","v":-0.49546808107817863},null,null,{"$f":"N10","v":122},{"$f":"COUNTIF(L7:L28,T10)","v":1},null,null,null,{"$f":"N10","v":122},{"$f":"COUNTIF(L29:L49,Y10)","v":8},null,null,null,{"$f":"N10","v":122},{"$f":"COUNTIF(L50:L71,AD10)","v":5},null,null,null,{"$f":"N10","v":122},{"$f":"COUNTIF(L72:L92,AI10)","v":8},null,null,null,{"$f":"N10","v":122},{"$f":"COUNTIF(L93:L114,AN10)","v":4},null,null,null,{"$f":"N10","v":122},{"$f":"COUNTIF(L115:L135,AS10)","v":5}]
[11,781,11,784,21,797,null,null,null,null,0,112,null,211,{"$f":"COUNTIF($L$7:$L$500,N11)","v":3},{"$f":"O11/$Q$4","v":2.34375E-2},{"$f":"IF(P11=0,0,(P11*((LOG(P11))/LOG(2))))","v":-0.12691494138934789},null,null,{"$f":"N11","v":211},{"$f":"COUNTIF(L7:L28,T11)","v":1},{"$f":"U11/(W4-U10)","v":4.7619047619047616E-2},{"$f":"IF(V11=0,0,(V11*((LOG(V11))/LOG(2))))","v":-0.20915797251327431},null,{"$f":"N11","v":211},{"$f":"COUNTIF(L29:L49,Y11)","v":1},{"$f":"Z11/(AB4-Z10)","v":7.6923076923076927E-2},{"$f":"IF(AA11=0,0,(AA11*((LOG(AA11))/LOG(2))))","v":-0.28464920908777636},null,{"$f":"N11","v":211},{"$f":"COUNTIF(L50:L71,AD11)","v":0},{"$f":"AE11/(AG4-AE10)","v":0},{"$f":"IF(AF11=0,0,(AF11*((LOG(AF11))/LOG(2))))","v":0},null,{"$f":"N11","v":211},{"$f":"COUNTIF(L72:L92,AI11)","v":0},{"$f":"AJ11/(AL4-AJ10)","v":0},{"$f":"IF(AK11=0,0,(AK11*((LOG(AK11))/LOG(2))))","v":0},null,{"$f":"N11","v":211},{"$f":"COUNTIF(L93:L114,AN11)","v":0},{"$f":"AO11/(AQ4-AO10)","v":0},{"$f":"IF(AP11=0,0,(AP11*((LOG(AP11))/LOG(2))))","v":0},null,{"$f":"N11","v":211},{"$f":"COUNTIF(L115:L135,AS11)","v":1},{"$f":"AT11/(AV4-AT10)","v":6.6666666666666666E-2},{"$f":"IF(AU11=0,0,(AU11*((LOG(AU11))/LOG(2))))","v":-0.26045937304056793}]
[22,1004,13,1048,14,1051,null,null,null,null,0,211,null,212,{"$f":"COUNTIF($L$7:$L$500,N12)","v":2},{"$f":"O12/$Q$4","v":1.5625E-2},{"$f":"IF(P12=0,0,(P12*((LOG(P12))/LOG(2))))","v":-9.375E-2},null,null,{"$f":"N12","v":212},{"$f":"COUNTIF(L7:L28,T12)","v":1},{"$f":"U12/(W4-U10)","v":4.7619047619047616E-2},{"$f":"IF(V12=0,0,(V12*((LOG(V12))/LOG(2))))","v":-0.20915797251327431},null,{"$f":"N12","v":212},{"$f":"COUNTIF(L29:L49,Y12)","v":0},{"$f":"Z12/(AB4-Z10)","v":0},{"$f":"IF(AA12=0,0,(AA12*((LOG(AA12))/LOG(2))))","v":0},null,{"$f":"N12","v":212},{"$f":"COUNTIF(L50:L71,AD12)","v":0},{"$f":"AE12/(AG4-AE10)","v":0},{"$f":"IF(AF12=0,0,(AF12*((LOG(AF12))/LOG(2))))","v":0},null,{"$f":"N12","v":212},{"$f":"COUNTIF(L72:L92,AI12)","v":1},{"$f":"AJ12/(AL4-AJ10)","v":7.6923076923076927E-2},{"$f":"IF(AK12=0,0,(AK12*((LOG(AK12))/LOG(2))))","v":-0.28464920908777636},null,{"$f":"N12","v":212},{"$f":"COUNTIF(L93:L114,AN12)","v":0},{"$f":"AO12/(AQ4-AO10)","v":0},{"$f":"IF(AP12=0,0,(AP12*((LOG(AP12))/LOG(2))))","v":0},null,{"$f":"N12","v":212},{"$f":"COUNTIF(L115:L135,AS12)","v":0},{"$f":"AT12/(AV4-AT10)","v":0},{"$f":"IF(AU12=0,0,(AU12*((LOG(AU12))/LOG(2))))","v":0}]
[11,1163,22,1227,14,1254,null,null,null,null,0,121,null,221,{"$f":"COUNTIF($L$7:$L$500,N13)","v":1},{"$f":"O13/$Q$4","v":7.8125E-3},{"$f":"IF(P13=0,0,(P13*((LOG(P13))/LOG(2))))","v":-5.46875E-2},null,null,{"$f":"N13","v":221},{"$f":"COUNTIF(L7:L28,T13)","v":0},{"$f":"U13/(W4-U10)","v":0},{"$f":"IF(V13=0,0,(V13*((LOG(V13))/LOG(2))))","v":0},null,{"$f":"N13","v":221},{"$f":"COUNTIF(L29:L49,Y13)","v":0},{"$f":"Z13/(AB4-Z10)","v":0},{"$f":"IF(AA13=0,0,(AA13*((LOG(AA13))/LOG(2))))","v":0},null,{"$f":"N13","v":221},{"$f":"COUNTIF(L50:L71,AD13)","v":1},{"$f":"AE13/(AG4-AE10)","v":5.8823529411764705E-2},{"$f":"IF(AF13=0,0,(AF13*((LOG(AF13))/LOG(2))))","v":-0.24043899066178465},null,{"$f":"N13","v":221},{"$f":"COUNTIF(L72:L92,AI13)","v":0},{"$f":"AJ13/(AL4-AJ10)","v":0},{"$f":"IF(AK13=0,0,(AK13*((LOG(AK13))/LOG(2))))","v":0},null,{"$f":"N13","v":221},{"$f":"COUNTIF(L93:L114,AN13)","v":0},{"$f":"AO13/(AQ4-AO10)","v":0},{"$f":"IF(AP13=0,0,(AP13*((LOG(AP13))/LOG(2))))","v":0},null,{"$f":"N13","v":221},{"$f":"COUNTIF(L115:L135,AS13)","v":0},{"$f":"AT13/(AV4-AT10)","v":0},{"$f":"IF(AU13=0,0,(AU13*((LOG(AU13))/LOG(2))))","v":0}]
[11,1426,22,1437,14,1450,null,null,null,null,0,121,null,222,{"$f":"COUNTIF($L$7:$L$500,N14)","v":1},{"$f":"O14/$Q$4","v":7.8125E-3},{"$f":"IF(P14=0,0,(P14*((LOG(P14))/LOG(2))))","v":-5.46875E-2},null,null,{"$f":"N14","v":222},{"$f":"COUNTIF(L7:L28,T14)","v":1},{"$f":"U14/(W4-U10)","v":4.7619047619047616E-2},{"$f":"IF(V14=0,0,(V14*((LOG(V14))/LOG(2))))","v":-0.20915797251327431},null,{"$f":"N14","v":222},{"$f":"COUNTIF(L29:L49,Y14)","v":0},{"$f":"Z14/(AB4-Z10)","v":0},{"$f":"IF(AA14=0,0,(AA14*((LOG(AA14))/LOG(2))))","v":0},null,{"$f":"N14","v":222},{"$f":"COUNTIF(L50:L71,AD14)","v":0},{"$f":"AE14/(AG4-AE10)","v":0},{"$f":"IF(AF14=0,0,(AF14*((LOG(AF14))/LOG(2))))","v":0},null,{"$f":"N14","v":222},{"$f":"COUNTIF(L72:L92,AI14)","v":0},{"$f":"AJ14/(AL4-AJ10)","v":0},{"$f":"IF(AK14=0,0,(AK14*((LOG(AK14))/LOG(2))))","v":0},null,{"$f":"N14","v":222},{"$f":"COUNTIF(L93:L114,AN14)","v":0},{"$f":"AO14/(AQ4-AO10)","v":0},{"$f":"IF(AP14=0,0,(AP14*((LOG(AP14))/LOG(2))))","v":0},null,{"$f":"N14","v":222},{"$f":"COUNTIF(L115:L135,AS14)","v":0},{"$f":"AT14/(AV4-AT10)","v":0},{"$f":"IF(AU14=0,0,(AU14*((LOG(AU14))/LOG(2))))","v":0}]
[11,1656,22,1669,14,1685,null,null,null,null,0,121,null,null,null,{"$f":"SUM(P7:P14)","v":1},{"$f":"-SUM(Q7:Q14)","v":2.2924053035642076},null,null,null,null,{"$f":"SUM(V7:V14)","v":1},{"$f":"-SUM(W7:W14)","v":2.1299471844774778},null,null,null,{"$f":"SUM(AA7:AA14)","v":1},{"$f":"-SUM(AB7:AB14)","v":1.7381493331928661},null,null,null,{"$f":"SUM(AF7:AF14)","v":1},{"$f":"-SUM(AG7:AG14)","v":1.8092830792973653},null,null,null,{"$f":"SUM(AK7:AK14)","v":1},{"$f":"-SUM(AL7:AL14)","v":1.6143308351592653},null,null,null,{"$f":"SUM(AP7:AP14)","v":0.99999999999999989},{"$f":"-SUM(AQ7:AQ14)","v":1.5304930567574824},null,null,null,{"$f":"SUM(AU7:AU14)","v":1},{"$f":"-SUM(AV7:AV14)","v":1.7464657985040721}]
[11,1886,22,1899,23,1919,null,null,null,null,0,122,null,null,null,"U=",{"$f":"Q15/(LOG(Q4)/LOG(2))","v":0.32748647193774394},null,null,null,null,"U1=",{"$f":"W15/(LOG(W4)/LOG(2))","v":0.47762750202868726},null,null,null,"U2=",{"$f":"AB15/(LOG(AB4)/LOG(2))","v":0.39572489096046282},null,null,null,"U3=",{"$f":"AG15/(LOG(AG4)/LOG(2))","v":0.40572055679379199},null,null,null,"U4=",{"$f":"AL15/(LOG(AL4)/LOG(2))","v":0.36753510271986972},null,null,null,"U5=",{"$f":"AQ15/(LOG(AQ4)/LOG(2))","v":0.34320361598574456},null,null,null,"U6=",{"$f":"AV15/(LOG(AV4)/LOG(2))","v":0.4040941358025042}]
[11,2028,11,2065,21,2082,null,null,null,null,0,112]
[11,2236,11,2257,21,2269,null,null,null,null,0,112]
[11,2473,22,2487,14,2533,null,null,null,null,0,121,null,"Total Target Seq"]
[11,2679,22,2694,14,2706,null,null,null,null,0,121,null,{"$f":"COUNTIF(L7:L135,G3)","v":31},null,22,21,22,21,22,21]
[11,2859,11,2933,12,2967,null,null,null,null,0,111,null,null,null,"% of reinforcement given in 6 equal intervals based on number of trials "]
[11,3140,11,3156,21,3172,null,null,null,null,0,112,null,null,null,"%_1","%_2","%_3","%_4","%_5","%_6"]
[11,3308,11,3321,12,3323,null,null,null,null,0,111,null,null,"target sequence",{"$f":"$G$3","v":122},{"$f":"$G$3","v":122},{"$f":"$G$3","v":122},{"$f":"$G$3","v":122},{"$f":"$G$3","v":122},{"$f":"$G$3","v":122}]
[11,3439,11,3466,12,3494,null,null,null,null,0,111,null,null,"total reinforcement",{"$f":"U10","v":1},{"$f":"Z10","v":8},{"$f":"AE10","v":5},{"$f":"AJ10","v":8},{"$f":"AO10","v":4},{"$f":"AT10","v":5}]
[11,3627,11,3642,21,3685,null,null,null,null,0,112,null,null,"% target"]
[11,3818,22,3873,14,3915,null,null,null,null,0,121,null,null,"CCRF"]
[22,4065,24,4090,23,4102,null,null,null,null,0,222,null,null,"% CCRf"]
[11,4226,11,4246,21,4285,null,null,null,null,0,112,null,null,"average response rate",{"$f":"F28/P20","v":194.77272727272728},{"$f":"(F49-F28)/Q20","v":187.57142857142858},{"$f":"(F71-F49)/R20","v":180.63636363636363},{"$f":"(F92-F71)/S20","v":180.42857142857142},{"$f":"(F114-F92)/T20","v":182.72727272727272},{"$f":"(F135-F114)/U20","v":-952.71428571428567}]
[11,4404,22,4440,23,4466,null,null,null,null,0,122]
[11,4589,22,4601,14,4616,null,null,null,null,0,121]
[22,4823,13,4890,14,4902,null,null,null,null,0,211]
[11,5032,11,5089,21,5115,null,null,null,null,0,112]
[11,5208,22,5292,14,5320,null,null,null,null,0,121]
[11,5448,22,5463,23,5488,null,null,null,null,0,122]
[11,5604,22,5617,23,5653,null,null,null,null,0,122]
[11,5772,22,5809,23,5831,null,null,null,null,0,122]
[11,5980,11,5982,21,6015,null,null,null,null,0,112]
[11,6124,11,6170,21,6180,null,null,null,null,0,112]
[11,6336,22,6382,14,6414,null,null,null,null,0,121]
[11,6562,22,6576,23,6616,null,null,null,null,0,122]
[11,6716,11,6728,12,6732,null,null,null,null,0,111]
[11,6834,11,6873,21,6914,null,null,null,null,0,112]
[11,7050,11,7070,12,7095,null,null,null,null,0,111]
[11,7236,22,7273,14,7323,null,null,null,null,0,121]
[11,7466,22,7541,23,7561,null,null,null,null,0,122]
[11,7717,22,7729,23,7752,null,null,null,null,0,122]
[11,7887,22,7910,23,7925,null,null,null,null,0,122]
[11,8036,11,8045,21,8064,null,null,null,null,0,112]
[11,8198,11,8213,21,8224,null,null,null,null,0,112]
[11,8384,22,8451,14,8497,null,null,null,null,0,121]
[11,8666,22,8679,23,8698,null,null,null,null,0,122]
[22,8833,24,8844,14,8856,null,null,null,null,0,221]
[11,8971,11,8983,12,8995,null,null,null,null,0,111]
[11,9127,11,9153,21,9167,null,null,null,null,0,112]
[11,9274,22,9287,23,9299,null,null,null,null,0,122]
[11,9416,11,9419,21,9431,null,null,null,null,0,112]
[11,9540,11,9552,12,9573,null,null,null,null,0,111]
[11,9693,11,9704,12,9752,null,null,null,null,0,111]
[11,9912,22,9925,14,9967,null,null,null,null,0,121]
[11,10074,22,10144,14,10164,null,null,null,null,0,121]
[11,10331,22,10348,23,10362,null,null,null,null,0,122]
[11,10561,22,10576,14,10593,null,null,null,null,0,121]
[11,10712,11,10738,12,10768,null,null,null,null,0,111]
[11,10867,11,10889,12,10908,null,null,null,null,0,111]
[11,11069,22,11080,23,11111,null,null,null,null,0,122]
[11,11233,11,11237,21,11248,null,null,null,null,0,112]
[11,11403,11,11486,21,11538,null,null,null,null,0,112]
[11,11679,22,11691,14,11748,null,null,null,null,0,121]
[11,11868,11,11878,12,11888,null,null,null,null,0,111]
[11,12008,11,12011,21,12023,null,null,null,null,0,112]
[11,12156,22,12170,23,12198,null,null,null,null,0,122]
[11,12417,11,12468,21,12484,null,null,null,null,0,112]
[11,12617,11,12657,21,12669,null,null,null,null,0,112]
[11,12779,11,12793,12,12882,null,null,null,null,0,111]
[22,13028,13,13041,23,13052,null,null,null,null,0,212]
[11,13196,22,13207,23,13218,null,null,null,null,0,122]
[11,13357,22,13369,23,13397,null,null,null,null,0,122]
[11,13575,22,13586,23,13618,null,null,null,null,0,122]
[11,13736,11,13747,21,13757,null,null,null,null,0,112]
[11,13897,22,13953,23,13955,null,null,null,null,0,122]
[11,14052,11,14075,21,14102,null,null,null,null,0,112]
[11,14220,22,14233,23,14254,null,null,null,null,0,122]
[11,14414,11,14469,12,14471,null,null,null,null,0,111]
[11,14567,11,14586,12,14619,null,null,null,null,0,111]
[11,14749,22,14759,23,14804,null,null,null,null,0,122]
[11,14903,11,14913,21,14975,null,null,null,null,0,112]
[11,15095,22,15107,14,15127,null,null,null,null,0,121]
[11,15225,11,15236,12,15247,null,null,null,null,0,111]
[11,15429,22,15466,23,15488,null,null,null,null,0,122]
[11,15587,11,15619,12,15657,null,null,null,null,0,111]
[11,15758,22,15795,23,15811,null,null,null,null,0,122]
[11,15917,11,15942,21,15987,null,null,null,null,0,112]
[11,16092,11,16111,12,16161,null,null,null,null,0,111]
[11,16272,11,16275,21,16288,null,null,null,null,0,112]
[11,16386,22,16451,14,16470,null,null,null,null,0,121]
[11,16589,11,16622,12,16638,null,null,null,null,0,111]
[11,16831,11,16880,12,16883,null,null,null,null,0,111]
[11,17099,11,17101,21,17111,null,null,null,null,0,112]
[11,17230,22,17246,14,17259,null,null,null,null,0,121]
[11,17357,11,17589,21,17605,null,null,null,null,0,112]
[11,17760,11,17774,21,17788,null,null,null,null,0,112]
[11,17904,11,17925,12,17950,null,null,null,null,0,111]
[11,18057,11,18068,21,18092,null,null,null,null,0,112]
[11,18210,22,18221,23,18246,null,null,null,null,0,122]
[11,18344,11,18352,12,18425,null,null,null,null,0,111]
[11,18524,11,18567,21,18578,null,null,null,null,0,112]
[11,18725,22,18736,14,18754,null,null,null,null,0,121]
[11,18895,11,18906,12,18922,null,null,null,null,0,111]
[11,19050,22,19095,23,19097,null,null,null,null,0,122]
[11,19223,22,19297,23,19321,null,null,null,null,0,122]
[11,19434,11,19445,21,19456,null,null,null,null,0,112]
[11,19569,22,19646,23,19672,null,null,null,null,0,122]
[11,19779,22,19827,14,19846,null,null,null,null,0,121]
[11,19968,11,19971,21,20007,null,null,null,null,0,112]
[11,20151,22,20166,23,20181,null,null,null,null,0,122]
[11,20297,11,20324,12,20366,null,null,null,null,0,111]
[11,20473,22,20533,14,20546,null,null,null,null,0,121]
[11,20646,11,20673,21,20786,null,null,null,null,0,112]
[11,20897,22,20910,23,20937,null,null,null,null,0,122]
[11,21036,11,21065,12,21084,null,null,null,null,0,111]
[11,21191,22,21204,23,21236,null,null,null,null,0,122]
[11,21345,11,21354,12,21356,null,null,null,null,0,111]
[11,21484,22,21512,14,21537,null,null,null,null,0,121]
[11,21649,22,21685,23,21732,null,null,null,null,0,122]
[11,21863,11,21891,12,21911,null,null,null,null,0,111]
[11,22069,22,22082,14,22096,null,null,null,null,0,121]
[11,22232,22,22256,23,22297,null,null,null,null,0,122]
[22,22514,13,22569,14,22646,null,null,null,null,0,211]
[11,22821,22,22832,14,22849,null,null,null,null,0,121]
[11,22988,22,23014,14,23043,null,null,null,null,0,121]
[11,23168,11,23222,21,23235,null,null,null,null,0,112]
[11,23348,11,23351,21,23364,null,null,null,null,0,112]
[11,23507,22,23521,14,23550,null,null,null,null,0,121]
[11,23704,22,23860,14,23888,null,null,null,null,0,121]
[11,23997,null,null,null,null,null,null,null,null,null,1]

{"sheet":"!M604A10.103","index":13,"n_rows":124,"n_cols":48,"rows_kept":124,"cut":false,"hidden":false,"merged":[[4,39,4,42],[5,39,5,40],[4,44,4,47],[5,44,5,45],[4,24,4,27],[5,24,5,25],[4,29,4,32],[5,29,5,30],[4,34,4,37],[5,34,5,35],[1,1,1,2],[5,13,5,14],[18,13,18,14],[19,13,19,14],[4,19,4,22],[5,19,5,20]]}
["Report for:!M604A10.103"]
["Date:","<date>"]
["Hen:","<hen>",null,null,null,"Correct Sequence",{"$f":"Start!J2","v":122},null,null,null,null,null,null,null,null,"Total Sequences in Data",{"$f":"4994-COUNTBLANK(L7:L5000)","v":118},null,null,null,null,"Total Sequences in Block Data",{"$f":"COUNTA(L7:L26)","v":20},null,null,null,"Total Sequences in Block Data",{"$f":"COUNTA(L27:L45)","v":19},null,null,null,"Total Sequences in Block Data",{"$f":"COUNTA(L46:L65)","v":20},null,null,null,"Total Sequences in Block Data",{"$f":"COUNTA(L66:L85)","v":20},null,null,null,"Total Sequences in Block Data",{"$f":"COUNTA(L86:L104)","v":19},null,null,null,"Total Sequences in Block Data",{"$f":"COUNTA(L105:L124)","v":20}]
[null,null,null,null,null,null,null,null,null,null,null,null,null,null,null,"Total Sequences in Summary",{"$f":"SUM(O7:O14)","v":118},null,null,null,null,"Total Sequences in Block Summary",{"$f":"SUM(U7:U14)","v":20},null,null,null,"Total Sequences in Block Summary",{"$f":"SUM(Z7:Z14)","v":19},null,null,null,"Total Sequences in Block Summary",{"$f":"SUM(AE7:AE14)","v":20},null,null,null,"Total Sequences in Block Summary",{"$f":"SUM(AJ7:AJ14)","v":20},null,null,null,"Total Sequences in Block Summary",{"$f":"SUM(AO7:AO14)","v":19},null,null,null,"Total Sequences in Block Summary",{"$f":"SUM(AT7:AT14)","v":20}]
[null,null,null,null,null,null,null,null,null,null,null,null,null,null,null,null,null,null,null,"Block 1",null,null,null,null,"Block 2",null,null,null,null,"Block 3",null,null,null,null,"Block 4",null,null,null,null,"Block 5",null,null,null,null,"Block 6"]
["Sequence\nComponent\n1","Time\n1","Sequence\nComponent\n2","Time\n2","Sequence\nComponent\n3","Time\n3","Sequence\nComponent\n4","Time\n4","Sequence\nComponent\n5","Time\n5","Correct?\n0=No 1=Yes","Sequence",null,"Frequency",null,"Relative Frequency","Variability",null,null,"Frequency",null,"Relative Frequency","Variability",null,"Frequency",null,"Relative Frequency","Variability",null,"Frequency",null,"Relative Frequency","Variability",null,"Frequency",null,"Relative Frequency","Variability",null,"Frequency",null,"Relative Frequency","Variability",null,"Frequency",null,"Relative Frequency","Variability"]
[11,17,11,30,12,39,null,null,null,null,0,111,null,111,{"$f":"COUNTIF($L$7:$L$500,N7)","v":17},{"$f":"O7/$Q$4","v":0.1440677966101695},{"$f":"IF(P7=0,0,(P7*((LOG(P7))/LOG(2))))","v":-0.40269545371097915},null,null,{"$f":"N7","v":111},{"$f":"COUNTIF(L7:L26,T7)","v":6},{"$f":"U7/(W4-U10)","v":0.3},{"$f":"IF(V7=0,0,(V7*((LOG(V7))/LOG(2))))","v":-0.52108967824986185},null,{"$f":"N7","v":111},{"$f":"COUNTIF(L27:L45,Y7)","v":1},{"$f":"Z7/(AB4-Z10)","v":7.1428571428571425E-2},{"$f":"IF(AA7=0,0,(AA7*((LOG(AA7))/LOG(2))))","v":-0.27195392300411453},null,{"$f":"N7","v":111},{"$f":"COUNTIF(L46:L65,AD7)","v":1},{"$f":"AE7/(AG4-AE10)","v":7.6923076923076927E-2},{"$f":"IF(AF7=0,0,(AF7*((LOG(AF7))/LOG(2))))","v":-0.28464920908777636},null,{"$f":"N7","v":111},{"$f":"COUNTIF(L66:L85,AI7)","v":2},{"$f":"AJ7/(AL4-AJ10)","v":0.18181818181818182},{"$f":"IF(AK7=0,0,(AK7*((LOG(AK7))/LOG(2))))","v":-0.44716938520678134},null,{"$f":"N7","v":111},{"$f":"COUNTIF(L86:L104,AN7)","v":5},{"$f":"AO7/(AQ4-AO10)","v":0.27777777777777779},{"$f":"IF(AP7=0,0,(AP7*((LOG(AP7))/LOG(2))))","v":-0.51333247404304172},null,{"$f":"N7","v":111},{"$f":"COUNTIF(L105:L124,AS7)","v":2},{"$f":"AT7/(AV4-AT10)","v":0.1},{"$f":"IF(AU7=0,0,(AU7*((LOG(AU7))/LOG(2))))","v":-0.33219280948873625}]
[22,146,24,166,14,178,null,null,null,null,0,221,null,112,{"$f":"COUNTIF($L$7:$L$500,N8)","v":40},{"$f":"O8/$Q$4","v":0.33898305084745761},{"$f":"IF(P8=0,0,(P8*((LOG(P8))/LOG(2))))","v":-0.52905591677100983},null,null,{"$f":"N8","v":112},{"$f":"COUNTIF(L7:L26,T8)","v":6},{"$f":"U8/(W4-U10)","v":0.3},{"$f":"IF(V8=0,0,(V8*((LOG(V8))/LOG(2))))","v":-0.52108967824986185},null,{"$f":"N8","v":112},{"$f":"COUNTIF(L27:L45,Y8)","v":4},{"$f":"Z8/(AB4-Z10)","v":0.2857142857142857},{"$f":"IF(AA8=0,0,(AA8*((LOG(AA8))/LOG(2))))","v":-0.51638712058788683},null,{"$f":"N8","v":112},{"$f":"COUNTIF(L46:L65,AD8)","v":9},{"$f":"AE8/(AG4-AE10)","v":0.69230769230769229},{"$f":"IF(AF8=0,0,(AF8*((LOG(AF8))/LOG(2))))","v":-0.36727941925300139},null,{"$f":"N8","v":112},{"$f":"COUNTIF(L66:L85,AI8)","v":5},{"$f":"AJ8/(AL4-AJ10)","v":0.45454545454545453},{"$f":"IF(AK8=0,0,(AK8*((LOG(AK8))/LOG(2))))","v":-0.51704705624997038},null,{"$f":"N8","v":112},{"$f":"COUNTIF(L86:L104,AN8)","v":6},{"$f":"AO8/(AQ4-AO10)","v":0.33333333333333331},{"$f":"IF(AP8=0,0,(AP8*((LOG(AP8))/LOG(2))))","v":-0.52832083357371862},null,{"$f":"N8","v":112},{"$f":"COUNTIF(L105:L124,AS8)","v":10},{"$f":"AT8/(AV4-AT10)","v":0.5},{"$f":"IF(AU8=0,0,(AU8*((LOG(AU8))/LOG(2))))","v":-0.5}]
[11,307,22,322,14,333,null,null,null,null,0,121,null,121,{"$f":"COUNTIF($L$7:$L$500,N9)","v":27},{"$f":"O9/$Q$4","v":0.2288135593220339},{"$f":"IF(P9=0,0,(P9*((LOG(P9))/LOG(2))))","v":-0.48685932012166161},null,null,{"$f":"N9","v":121},{"$f":"COUNTIF(L7:L26,T9)","v":4},{"$f":"U9/(W4-U10)","v":0.2},{"$f":"IF(V9=0,0,(V9*((LOG(V9))/LOG(2))))","v":-0.46438561897747244},null,{"$f":"N9","v":121},{"$f":"COUNTIF(L27:L45,Y9)","v":7},{"$f":"Z9/(AB4-Z10)","v":0.5},{"$f":"IF(AA9=0,0,(AA9*((LOG(AA9))/LOG(2))))","v":-0.5},null,{"$f":"N9","v":121},{"$f":"COUNTIF(L46:L65,AD9)","v":2},{"$f":"AE9/(AG4-AE10)","v":0.15384615384615385},{"$f":"IF(AF9=0,0,(AF9*((LOG(AF9))/LOG(2))))","v":-0.4154522643293988},null,{"$f":"N9","v":121},{"$f":"COUNTIF(L66:L85,AI9)","v":4},{"$f":"AJ9/(AL4-AJ10)","v":0.36363636363636365},{"$f":"IF(AK9=0,0,(AK9*((LOG(AK9))/LOG(2))))","v":-0.53070240677719893},null,{"$f":"N9","v":121},{"$f":"COUNTIF(L86:L104,AN9)","v":3},{"$f":"AO9/(AQ4-AO10)","v":0.16666666666666666},{"$f":"IF(AP9=0,0,(AP9*((LOG(AP9))/LOG(2))))","v":-0.43082708345352599},null,{"$f":"N9","v":121},{"$f":"COUNTIF(L105:L124,AS9)","v":7},{"$f":"AT9/(AV4-AT10)","v":0.35},{"$f":"IF(AU9=0,0,(AU9*((LOG(AU9))/LOG(2))))","v":-0.53010061049041535}]
[22,452,24,476,14,486,null,null,null,null,0,221,null,122,{"$f":"COUNTIF($L$7:$L$500,N10)","v":22},{"$f":"O10/$Q$4","v":0.1864406779661017},{"$f":"IF(P10=0,0,(P10*((LOG(P10))/LOG(2))))","v":-0.45178518199949125},null,null,{"$f":"N10","v":122},{"$f":"COUNTIF(L7:L26,T10)","v":0},null,null,null,{"$f":"N10","v":122},{"$f":"COUNTIF(L27:L45,Y10)","v":5},null,null,null,{"$f":"N10","v":122},{"$f":"COUNTIF(L46:L65,AD10)","v":7},null,null,null,{"$f":"N10","v":122},{"$f":"COUNTIF(L66:L85,AI10)","v":9},null,null,null,{"$f":"N10","v":122},{"$f":"COUNTIF(L86:L104,AN10)","v":1},null,null,null,{"$f":"N10","v":122},{"$f":"COUNTIF(L105:L124,AS10)","v":0}]
[11,604,11,606,21,618,null,null,null,null,0,112,null,211,{"$f":"COUNTIF($L$7:$L$500,N11)","v":1},{"$f":"O11/$Q$4","v":8.4745762711864406E-3},{"$f":"IF(P11=0,0,(P11*((LOG(P11))/LOG(2))))","v":-5.8327483469168148E-2},null,null,{"$f":"N11","v":211},{"$f":"COUNTIF(L7:L26,T11)","v":0},{"$f":"U11/(W4-U10)","v":0},{"$f":"IF(V11=0,0,(V11*((LOG(V11))/LOG(2))))","v":0},null,{"$f":"N11","v":211},{"$f":"COUNTIF(L27:L45,Y11)","v":0},{"$f":"Z11/(AB4-Z10)","v":0},{"$f":"IF(AA11=0,0,(AA11*((LOG(AA11))/LOG(2))))","v":0},null,{"$f":"N11","v":211},{"$f":"COUNTIF(L46:L65,AD11)","v":0},{"$f":"AE11/(AG4-AE10)","v":0},{"$f":"IF(AF11=0,0,(AF11*((LOG(AF11))/LOG(2))))","v":0},null,{"$f":"N11","v":211},{"$f":"COUNTIF(L66:L85,AI11)","v":0},{"$f":"AJ11/(AL4-AJ10)","v":0},{"$f":"IF(AK11=0,0,(AK11*((LOG(AK11))/LOG(2))))","v":0},null,{"$f":"N11","v":211},{"$f":"COUNTIF(L86:L104,AN11)","v":1},{"$f":"AO11/(AQ4-AO10)","v":5.5555555555555552E-2},{"$f":"IF(AP11=0,0,(AP11*((LOG(AP11))/LOG(2))))","v":-0.23166250008012845},null,{"$f":"N11","v":211},{"$f":"COUNTIF(L105:L124,AS11)","v":0},{"$f":"AT11/(AV4-AT10)","v":0},{"$f":"IF(AU11=0,0,(AU11*((LOG(AU11))/LOG(2))))","v":0}]
[22,730,13,767,23,778,null,null,null,null,0,212,null,212,{"$f":"COUNTIF($L$7:$L$500,N12)","v":7},{"$f":"O12/$Q$4","v":5.9322033898305086E-2},{"$f":"IF(P12=0,0,(P12*((LOG(P12))/LOG(2))))","v":-0.24175438043330219},null,null,{"$f":"N12","v":212},{"$f":"COUNTIF(L7:L26,T12)","v":2},{"$f":"U12/(W4-U10)","v":0.1},{"$f":"IF(V12=0,0,(V12*((LOG(V12))/LOG(2))))","v":-0.33219280948873625},null,{"$f":"N12","v":212},{"$f":"COUNTIF(L27:L45,Y12)","v":1},{"$f":"Z12/(AB4-Z10)","v":7.1428571428571425E-2},{"$f":"IF(AA12=0,0,(AA12*((LOG(AA12))/LOG(2))))","v":-0.27195392300411453},null,{"$f":"N12","v":212},{"$f":"COUNTIF(L46:L65,AD12)","v":0},{"$f":"AE12/(AG4-AE10)","v":0},{"$f":"IF(AF12=0,0,(AF12*((LOG(AF12))/LOG(2))))","v":0},null,{"$f":"N12","v":212},{"$f":"COUNTIF(L66:L85,AI12)","v":0},{"$f":"AJ12/(AL4-AJ10)","v":0},{"$f":"IF(AK12=0,0,(AK12*((LOG(AK12))/LOG(2))))","v":0},null,{"$f":"N12","v":212},{"$f":"COUNTIF(L86:L104,AN12)","v":3},{"$f":"AO12/(AQ4-AO10)","v":0.16666666666666666},{"$f":"IF(AP12=0,0,(AP12*((LOG(AP12))/LOG(2))))","v":-0.43082708345352599},null,{"$f":"N12","v":212},{"$f":"COUNTIF(L105:L124,AS12)","v":1},{"$f":"AT12/(AV4-AT10)","v":0.05},{"$f":"IF(AU12=0,0,(AU12*((LOG(AU12))/LOG(2))))","v":-0.21609640474436814}]
[22,881,13,934,23,983,null,null,null,null,0,212,null,221,{"$f":"COUNTIF($L$7:$L$500,N13)","v":2},{"$f":"O13/$Q$4","v":1.6949152542372881E-2},{"$f":"IF(P13=0,0,(P13*((LOG(P13))/LOG(2))))","v":-9.9705814395963419E-2},null,null,{"$f":"N13","v":221},{"$f":"COUNTIF(L7:L26,T13)","v":2},{"$f":"U13/(W4-U10)","v":0.1},{"$f":"IF(V13=0,0,(V13*((LOG(V13))/LOG(2))))","v":-0.33219280948873625},null,{"$f":"N13","v":221},{"$f":"COUNTIF(L27:L45,Y13)","v":0},{"$f":"Z13/(AB4-Z10)","v":0},{"$f":"IF(AA13=0,0,(AA13*((LOG(AA13))/LOG(2))))","v":0},null,{"$f":"N13","v":221},{"$f":"COUNTIF(L46:L65,AD13)","v":0},{"$f":"AE13/(AG4-AE10)","v":0},{"$f":"IF(AF13=0,0,(AF13*((LOG(AF13))/LOG(2))))","v":0},null,{"$f":"N13","v":221},{"$f":"COUNTIF(L66:L85,AI13)","v":0},{"$f":"AJ13/(AL4-AJ10)","v":0},{"$f":"IF(AK13=0,0,(AK13*((LOG(AK13))/LOG(2))))","v":0},null,{"$f":"N13","v":221},{"$f":"COUNTIF(L86:L104,AN13)","v":0},{"$f":"AO13/(AQ4-AO10)","v":0},{"$f":"IF(AP13=0,0,(AP13*((LOG(AP13))/LOG(2))))","v":0},null,{"$f":"N13","v":221},{"$f":"COUNTIF(L105:L124,AS13)","v":0},{"$f":"AT13/(AV4-AT10)","v":0},{"$f":"IF(AU13=0,0,(AU13*((LOG(AU13))/LOG(2))))","v":0}]
[11,1126,22,1138,14,1150,null,null,null,null,0,121,null,222,{"$f":"COUNTIF($L$7:$L$500,N14)","v":2},{"$f":"O14/$Q$4","v":1.6949152542372881E-2},{"$f":"IF(P14=0,0,(P14*((LOG(P14))/LOG(2))))","v":-9.9705814395963419E-2},null,null,{"$f":"N14","v":222},{"$f":"COUNTIF(L7:L26,T14)","v":0},{"$f":"U14/(W4-U10)","v":0},{"$f":"IF(V14=0,0,(V14*((LOG(V14))/LOG(2))))","v":0},null,{"$f":"N14","v":222},{"$f":"COUNTIF(L27:L45,Y14)","v":1},{"$f":"Z14/(AB4-Z10)","v":7.1428571428571425E-2},{"$f":"IF(AA14=0,0,(AA14*((LOG(AA14))/LOG(2))))","v":-0.27195392300411453},null,{"$f":"N14","v":222},{"$f":"COUNTIF(L46:L65,AD14)","v":1},{"$f":"AE14/(AG4-AE10)","v":7.6923076923076927E-2},{"$f":"IF(AF14=0,0,(AF14*((LOG(AF14))/LOG(2))))","v":-0.28464920908777636},null,{"$f":"N14","v":222},{"$f":"COUNTIF(L66:L85,AI14)","v":0},{"$f":"AJ14/(AL4-AJ10)","v":0},{"$f":"IF(AK14=0,0,(AK14*((LOG(AK14))/LOG(2))))","v":0},null,{"$f":"N14","v":222},{"$f":"COUNTIF(L86:L104,AN14)","v":0},{"$f":"AO14/(AQ4-AO10)","v":0},{"$f":"IF(AP14=0,0,(AP14*((LOG(AP14))/LOG(2))))","v":0},null,{"$f":"N14","v":222},{"$f":"COUNTIF(L105:L124,AS14)","v":0},{"$f":"AT14/(AV4-AT10)","v":0},{"$f":"IF(AU14=0,0,(AU14*((LOG(AU14))/LOG(2))))","v":0}]
[11,1262,11,1264,21,1276,null,null,null,null,0,112,null,null,null,{"$f":"SUM(P7:P14)","v":0.99999999999999989},{"$f":"-SUM(Q7:Q14)","v":2.3698893652975386},null,null,null,null,{"$f":"SUM(V7:V14)","v":1},{"$f":"-SUM(W7:W14)","v":2.1709505944546685},null,null,null,{"$f":"SUM(AA7:AA14)","v":0.99999999999999989},{"$f":"-SUM(AB7:AB14)","v":1.8322488896002305},null,null,null,{"$f":"SUM(AF7:AF14)","v":1},{"$f":"-SUM(AG7:AG14)","v":1.3520301017579528},null,null,null,{"$f":"SUM(AK7:AK14)","v":1},{"$f":"-SUM(AL7:AL14)","v":1.4949188482339508},null,null,null,{"$f":"SUM(AP7:AP14)","v":1},{"$f":"-SUM(AQ7:AQ14)","v":2.1349699746039406},null,null,null,{"$f":"SUM(AU7:AU14)","v":1},{"$f":"-SUM(AV7:AV14)","v":1.5783898247235197}]
[11,1376,11,1393,21,1406,null,null,null,null,0,112,null,null,null,"U=",{"$f":"Q15/(LOG(Q4)/LOG(2))","v":0.3443283849388753},null,null,null,null,"U1=",{"$f":"W15/(LOG(W4)/LOG(2))","v":0.50231066940303815},null,null,null,"U2=",{"$f":"AB15/(LOG(AB4)/LOG(2))","v":0.43132772011801979},null,null,null,"U3=",{"$f":"AG15/(LOG(AG4)/LOG(2))","v":0.31283030908296244},null,null,null,"U4=",{"$f":"AL15/(LOG(AL4)/LOG(2))","v":0.34589165192321675},null,null,null,"U5=",{"$f":"AQ15/(LOG(AQ4)/LOG(2))","v":0.50259096179191287},null,null,null,"U6=",{"$f":"AV15/(LOG(AV4)/LOG(2))","v":0.36520501731407345}]
[11,1525,22,1541,14,1556,null,null,null,null,0,121]
[11,1678,22,1689,14,1701,null,null,null,null,0,121]
[11,1840,11,1858,12,1870,null,null,null,null,0,111,null,"Total Target Seq"]
[11,1973,11,1974,12,1984,null,null,null,null,0,111,null,{"$f":"COUNTIF(L7:L124,G3)","v":22},null,20,19,20,20,19,20]
[11,2086,11,2103,21,2115,null,null,null,null,0,112,null,null,null,"% of reinforcement given in 6 equal intervals based on number of trials "]
[11,2232,11,2243,21,2255,null,null,null,null,0,112,null,null,null,"%_1","%_2","%_3","%_4","%_5","%_6"]
[11,2349,11,2358,12,2371,null,null,null,null,0,111,null,null,"target sequence",{"$f":"$G$3","v":122},{"$f":"$G$3","v":122},{"$f":"$G$3","v":122},{"$f":"$G$3","v":122},{"$f":"$G$3","v":122},{"$f":"$G$3","v":122}]
[11,2475,11,2490,21,2513,null,null,null,null,0,112,null,null,"total reinforcement",{"$f":"U10","v":0},{"$f":"Z10","v":5},{"$f":"AE10","v":7},{"$f":"AJ10","v":9},{"$f":"AO10","v":1},{"$f":"AT10","v":0}]
[11,2625,11,2634,12,2674,null,null,null,null,0,111,null,null,"% target"]
[11,2774,11,2789,12,2802,null,null,null,null,0,111,null,null,"CCRF"]
[22,2921,13,2933,23,2945,null,null,null,null,0,212,null,null,"% CCRf"]
[11,3046,11,3060,21,3073,null,null,null,null,0,112,null,null,"average response rate",{"$f":"F26/P20","v":140.1},{"$f":"(F45-F26)/Q20","v":151.68421052631578},{"$f":"(F65-F45)/R20","v":153.25},{"$f":"(F85-F65)/S20","v":150.9},{"$f":"(F104-F85)/T20","v":207.68421052631578},{"$f":"(F124-F104)/U20","v":174.45}]
[11,3186,11,3198,21,3210,null,null,null,null,0,112]
[11,3325,22,3339,14,3348,null,null,null,null,0,121]
[22,3489,24,3512,23,3528,null,null,null,null,0,222]
[11,3640,11,3641,21,3655,null,null,null,null,0,112]
[11,3754,11,3764,12,3775,null,null,null,null,0,111]
[11,3909,22,3922,14,3938,null,null,null,null,0,121]
[11,4063,22,4097,23,4114,null,null,null,null,0,122]
[11,4263,22,4280,14,4301,null,null,null,null,0,121]
[11,4404,22,4417,14,4429,null,null,null,null,0,121]
[11,4545,11,4557,21,4569,null,null,null,null,0,112]
[11,4688,22,4700,14,4725,null,null,null,null,0,121]
[11,4859,22,4872,14,4888,null,null,null,null,0,121]
[11,5000,22,5022,23,5046,null,null,null,null,0,122]
[11,5158,22,5170,23,5199,null,null,null,null,0,122]
[11,5338,22,5347,23,5370,null,null,null,null,0,122]
[11,5491,22,5504,14,5531,null,null,null,null,0,121]
[11,5652,22,5663,23,5684,null,null,null,null,0,122]
[22,5822,24,5872,23,5894,null,null,null,null,0,222]
[11,6052,11,6072,21,6083,null,null,null,null,0,112]
[11,6193,22,6208,14,6219,null,null,null,null,0,121]
[11,6378,22,6389,23,6426,null,null,null,null,0,122]
[11,6578,22,6589,23,6601,null,null,null,null,0,122]
[11,6714,11,6726,21,6739,null,null,null,null,0,112]
[11,6837,22,6861,23,6874,null,null,null,null,0,122]
[11,6992,11,7007,21,7019,null,null,null,null,0,112]
[11,7138,11,7154,12,7171,null,null,null,null,0,111]
[11,7310,22,7321,23,7333,null,null,null,null,0,122]
[11,7456,11,7470,21,7490,null,null,null,null,0,112]
[11,7607,22,7619,23,7635,null,null,null,null,0,122]
[11,7744,11,7781,21,7790,null,null,null,null,0,112]
[11,7911,11,7913,21,7926,null,null,null,null,0,112]
[11,8025,11,8037,21,8048,null,null,null,null,0,112]
[11,8148,11,8170,21,8185,null,null,null,null,0,112]
[11,8318,22,8331,14,8348,null,null,null,null,0,121]
[11,8462,11,8464,21,8475,null,null,null,null,0,112]
[11,8571,22,8582,23,8601,null,null,null,null,0,122]
[11,8701,22,8730,23,8749,null,null,null,null,0,122]
[11,8865,22,8877,23,8893,null,null,null,null,0,122]
[11,8995,11,9003,21,9021,null,null,null,null,0,112]
[11,9128,22,9139,23,9154,null,null,null,null,0,122]
[11,9254,22,9276,23,9292,null,null,null,null,0,122]
[11,9421,22,9432,23,9446,null,null,null,null,0,122]
[11,9548,22,9559,23,9570,null,null,null,null,0,122]
[11,9692,22,9703,23,9724,null,null,null,null,0,122]
[11,9831,22,9843,23,9853,null,null,null,null,0,122]
[11,9955,11,9969,21,9981,null,null,null,null,0,112]
[11,10080,11,10097,21,10112,null,null,null,null,0,112]
[11,10212,11,10228,12,10248,null,null,null,null,0,111]
[11,10372,11,10384,21,10397,null,null,null,null,0,112]
[11,10511,22,10522,14,10534,null,null,null,null,0,121]
[11,10637,11,10653,21,10670,null,null,null,null,0,112]
[11,10763,11,10780,12,10809,null,null,null,null,0,111]
[11,10940,22,10959,14,10996,null,null,null,null,0,121]
[11,11096,22,11110,14,11123,null,null,null,null,0,121]
[11,11310,22,11322,23,11348,null,null,null,null,0,122]
[11,11518,22,11530,23,11563,null,null,null,null,0,122]
[11,11730,22,11741,14,11767,null,null,null,null,0,121]
[11,11901,22,11912,14,11936,null,null,null,null,0,121]
[22,12109,13,12132,23,12141,null,null,null,null,0,212]
[22,12412,13,12438,23,12453,null,null,null,null,0,212]
[11,12566,11,12589,21,12600,null,null,null,null,0,112]
[11,12698,11,12719,12,12743,null,null,null,null,0,111]
[11,13080,11,13159,21,13170,null,null,null,null,0,112]
[11,13278,22,13289,23,13314,null,null,null,null,0,122]
[22,13528,13,13549,14,13552,null,null,null,null,0,211]
[11,13823,22,13835,14,13852,null,null,null,null,0,121]
[11,14041,11,14065,21,14077,null,null,null,null,0,112]
[11,14182,11,14200,12,14235,null,null,null,null,0,111]
[22,14565,13,14588,23,14599,null,null,null,null,0,212]
[11,14713,11,14733,12,14774,null,null,null,null,0,111]
[11,14889,11,14907,12,14942,null,null,null,null,0,111]
[11,15054,11,15066,21,15079,null,null,null,null,0,112]
[11,15186,11,15207,21,15253,null,null,null,null,0,112]
[11,15356,11,15376,21,15389,null,null,null,null,0,112]
[11,15487,11,15531,12,15547,null,null,null,null,0,111]
[11,15667,22,15693,14,15713,null,null,null,null,0,121]
[11,15856,11,15871,21,15902,null,null,null,null,0,112]
[11,16019,11,16041,21,16053,null,null,null,null,0,112]
[11,16159,11,16180,12,16214,null,null,null,null,0,111]
[11,16370,11,16371,21,16447,null,null,null,null,0,112]
[11,16558,22,16570,14,16583,null,null,null,null,0,121]
[11,16749,22,16781,14,16820,null,null,null,null,0,121]
[11,16953,11,16979,12,16994,null,null,null,null,0,111]
[11,17122,22,17157,14,17175,null,null,null,null,0,121]
[11,17317,11,17319,21,17360,null,null,null,null,0,112]
[11,17457,11,17489,21,17519,null,null,null,null,0,112]
[11,17622,11,17642,21,17653,null,null,null,null,0,112]
[11,17771,22,17782,14,17807,null,null,null,null,0,121]
[22,17967,13,17998,23,18009,null,null,null,null,0,212]
[11,18132,11,18157,21,18168,null,null,null,null,0,112]
[11,18340,22,18355,14,18383,null,null,null,null,0,121]
[11,18567,22,18584,14,18603,null,null,null,null,0,121]
[11,18751,22,18763,14,18776,null,null,null,null,0,121]
[11,18886,11,18909,21,18921,null,null,null,null,0,112]
[11,19018,11,19040,21,19052,null,null,null,null,0,112]
[11,19158,11,19191,21,19202,null,null,null,null,1,112]

{"sheet":"!M605930.103","index":14,"n_rows":87,"n_cols":48,"rows_kept":87,"cut":false,"hidden":false,"merged":[[4,39,4,42],[5,39,5,40],[4,44,4,47],[5,44,5,45],[4,24,4,27],[5,24,5,25],[4,29,4,32],[5,29,5,30],[4,34,4,37],[5,34,5,35],[1,1,1,2],[5,13,5,14],[18,13,18,14],[19,13,19,14],[4,19,4,22],[5,19,5,20]]}
["Report for:!M605930.103"]
["Date:","<date>"]
["Hen:","<hen>",null,null,null,"Correct Sequence",{"$f":"Start!J2","v":122},null,null,null,null,null,null,null,null,"Total Sequences in Data",{"$f":"4994-COUNTBLANK(L7:L5000)","v":81},null,null,null,null,"Total Sequences in Block Data",{"$f":"COUNTA(L7:L20)","v":14},null,null,null,"Total Sequences in Block Data",{"$f":"COUNTA(L21:L33)","v":13},null,null,null,"Total Sequences in Block Data",{"$f":"COUNTA(L34:L47)","v":14},null,null,null,"Total Sequences in Block Data",{"$f":"COUNTA(L48:L60)","v":13},null,null,null,"Total Sequences in Block Data",{"$f":"COUNTA(L61:L74)","v":14},null,null,null,"Total Sequences in Block Data",{"$f":"COUNTA(L75:L87)","v":13}]
[null,null,null,null,null,null,null,null,null,null,null,null,null,null,null,"Total Sequences in Summary",{"$f":"SUM(O7:O14)","v":81},null,null,null,null,"Total Sequences in Block Summary",{"$f":"SUM(U7:U14)","v":14},null,null,null,"Total Sequences in Block Summary",{"$f":"SUM(Z7:Z14)","v":13},null,null,null,"Total Sequences in Block Summary",{"$f":"SUM(AE7:AE14)","v":14},null,null,null,"Total Sequences in Block Summary",{"$f":"SUM(AJ7:AJ14)","v":13},null,null,null,"Total Sequences in Block Summary",{"$f":"SUM(AO7:AO14)","v":14},null,null,null,"Total Sequences in Block Summary",{"$f":"SUM(AT7:AT14)","v":13}]
[null,null,null,null,null,null,null,null,null,null,null,null,null,null,null,null,null,null,null,"Block 1",null,null,null,null,"Block 2",null,null,null,null,"Block 3",null,null,null,null,"Block 4",null,null,null,null,"Block 5",null,null,null,null,"Block 6"]
["Sequence\nComponent\n1","Time\n1","Sequence\nComponent\n2","Time\n2","Sequence\nComponent\n3","Time\n3","Sequence\nComponent\n4","Time\n4","Sequence\nComponent\n5","Time\n5","Correct?\n0=No 1=Yes","Sequence",null,"Frequency",null,"Relative Frequency","Variability",null,null,"Frequency",null,"Relative Frequency","Variability",null,"Frequency",null,"Relative Frequency","Variability",null,"Frequency",null,"Relative Frequency","Variability",null,"Frequency",null,"Relative Frequency","Variability",null,"Frequency",null,"Relative Frequency","Variability",null,"Frequency",null,"Relative Frequency","Variability"]
[22,11,24,28,23,44,null,null,null,null,0,222,null,111,{"$f":"COUNTIF($L$7:$L$500,N7)","v":11},{"$f":"O7/$Q$4","v":0.13580246913580246},{"$f":"IF(P7=0,0,(P7*((LOG(P7))/LOG(2))))","v":-0.39116792872494566},null,null,{"$f":"N7","v":111},{"$f":"COUNTIF(L7:L20,T7)","v":1},{"$f":"U7/(W4-U10)","v":0.1},{"$f":"IF(V7=0,0,(V7*((LOG(V7))/LOG(2))))","v":-0.33219280948873625},null,{"$f":"N7","v":111},{"$f":"COUNTIF(L21:L33,Y7)","v":1},{"$f":"Z7/(AB4-Z10)","v":9.0909090909090912E-2},{"$f":"IF(AA7=0,0,(AA7*((LOG(AA7))/LOG(2))))","v":-0.31449378351248153},null,{"$f":"N7","v":111},{"$f":"COUNTIF(L34:L47,AD7)","v":1},{"$f":"AE7/(AG4-AE10)","v":0.1},{"$f":"IF(AF7=0,0,(AF7*((LOG(AF7))/LOG(2))))","v":-0.33219280948873625},null,{"$f":"N7","v":111},{"$f":"COUNTIF(L48:L60,AI7)","v":4},{"$f":"AJ7/(AL4-AJ10)","v":0.33333333333333331},{"$f":"IF(AK7=0,0,(AK7*((LOG(AK7))/LOG(2))))","v":-0.52832083357371862},null,{"$f":"N7","v":111},{"$f":"COUNTIF(L61:L74,AN7)","v":2},{"$f":"AO7/(AQ4-AO10)","v":0.2},{"$f":"IF(AP7=0,0,(AP7*((LOG(AP7))/LOG(2))))","v":-0.46438561897747244},null,{"$f":"N7","v":111},{"$f":"COUNTIF(L75:L87,AS7)","v":2},{"$f":"AT7/(AV4-AT10)","v":0.2},{"$f":"IF(AU7=0,0,(AU7*((LOG(AU7))/LOG(2))))","v":-0.46438561897747244}]
[22,146,24,163,23,176,null,null,null,null,0,222,null,112,{"$f":"COUNTIF($L$7:$L$500,N8)","v":40},{"$f":"O8/$Q$4","v":0.49382716049382713},{"$f":"IF(P8=0,0,(P8*((LOG(P8))/LOG(2))))","v":-0.50267748543074697},null,null,{"$f":"N8","v":112},{"$f":"COUNTIF(L7:L20,T8)","v":2},{"$f":"U8/(W4-U10)","v":0.2},{"$f":"IF(V8=0,0,(V8*((LOG(V8))/LOG(2))))","v":-0.46438561897747244},null,{"$f":"N8","v":112},{"$f":"COUNTIF(L21:L33,Y8)","v":9},{"$f":"Z8/(AB4-Z10)","v":0.81818181818181823},{"$f":"IF(AA8=0,0,(AA8*((LOG(AA8))/LOG(2))))","v":-0.23686905043226034},null,{"$f":"N8","v":112},{"$f":"COUNTIF(L34:L47,AD8)","v":7},{"$f":"AE8/(AG4-AE10)","v":0.7},{"$f":"IF(AF8=0,0,(AF8*((LOG(AF8))/LOG(2))))","v":-0.36020122098083079},null,{"$f":"N8","v":112},{"$f":"COUNTIF(L48:L60,AI8)","v":7},{"$f":"AJ8/(AL4-AJ10)","v":0.58333333333333337},{"$f":"IF(AK8=0,0,(AK8*((LOG(AK8))/LOG(2))))","v":-0.45360442088707198},null,{"$f":"N8","v":112},{"$f":"COUNTIF(L61:L74,AN8)","v":8},{"$f":"AO8/(AQ4-AO10)","v":0.8},{"$f":"IF(AP8=0,0,(AP8*((LOG(AP8))/LOG(2))))","v":-0.25754247590988982},null,{"$f":"N8","v":112},{"$f":"COUNTIF(L75:L87,AS8)","v":7},{"$f":"AT8/(AV4-AT10)","v":0.7},{"$f":"IF(AU8=0,0,(AU8*((LOG(AU8))/LOG(2))))","v":-0.36020122098083079}]
[22,280,13,289,23,299,null,null,null,null,0,212,null,121,{"$f":"COUNTIF($L$7:$L$500,N9)","v":7},{"$f":"O9/$Q$4","v":8.6419753086419748E-2},{"$f":"IF(P9=0,0,(P9*((LOG(P9))/LOG(2))))","v":-0.30527735266406353},null,null,{"$f":"N9","v":121},{"$f":"COUNTIF(L7:L20,T9)","v":4},{"$f":"U9/(W4-U10)","v":0.4},{"$f":"IF(V9=0,0,(V9*((LOG(V9))/LOG(2))))","v":-0.52877123795494496},null,{"$f":"N9","v":121},{"$f":"COUNTIF(L21:L33,Y9)","v":0},{"$f":"Z9/(AB4-Z10)","v":0},{"$f":"IF(AA9=0,0,(AA9*((LOG(AA9))/LOG(2))))","v":0},null,{"$f":"N9","v":121},{"$f":"COUNTIF(L34:L47,AD9)","v":1},{"$f":"AE9/(AG4-AE10)","v":0.1},{"$f":"IF(AF9=0,0,(AF9*((LOG(AF9))/LOG(2))))","v":-0.33219280948873625},null,{"$f":"N9","v":121},{"$f":"COUNTIF(L48:L60,AI9)","v":1},{"$f":"AJ9/(AL4-AJ10)","v":8.3333333333333329E-2},{"$f":"IF(AK9=0,0,(AK9*((LOG(AK9))/LOG(2))))","v":-0.29874687506009634},null,{"$f":"N9","v":121},{"$f":"COUNTIF(L61:L74,AN9)","v":0},{"$f":"AO9/(AQ4-AO10)","v":0},{"$f":"IF(AP9=0,0,(AP9*((LOG(AP9))/LOG(2))))","v":0},null,{"$f":"N9","v":121},{"$f":"COUNTIF(L75:L87,AS9)","v":1},{"$f":"AT9/(AV4-AT10)","v":0.1},{"$f":"IF(AU9=0,0,(AU9*((LOG(AU9))/LOG(2))))","v":-0.33219280948873625}]
[11,409,22,420,14,433,null,null,null,null,0,121,null,122,{"$f":"COUNTIF($L$7:$L$500,N10)","v":18},{"$f":"O10/$Q$4","v":0.22222222222222221},{"$f":"IF(P10=0,0,(P10*((LOG(P10))/LOG(2))))","v":-0.48220555587606945},null,null,{"$f":"N10","v":122},{"$f":"COUNTIF(L7:L20,T10)","v":4},null,null,null,{"$f":"N10","v":122},{"$f":"COUNTIF(L21:L33,Y10)","v":2},null,null,null,{"$f":"N10","v":122},{"$f":"COUNTIF(L34:L47,AD10)","v":4},null,null,null,{"$f":"N10","v":122},{"$f":"COUNTIF(L48:L60,AI10)","v":1},null,null,null,{"$f":"N10","v":122},{"$f":"COUNTIF(L61:L74,AN10)","v":4},null,null,null,{"$f":"N10","v":122},{"$f":"COUNTIF(L75:L87,AS10)","v":3}]
[11,552,11,565,21,578,null,null,null,null,0,112,null,211,{"$f":"COUNTIF($L$7:$L$500,N11)","v":1},{"$f":"O11/$Q$4","v":1.2345679012345678E-2},{"$f":"IF(P11=0,0,(P11*((LOG(P11))/LOG(2))))","v":-7.8269753122032396E-2},null,null,{"$f":"N11","v":211},{"$f":"COUNTIF(L7:L20,T11)","v":0},{"$f":"U11/(W4-U10)","v":0},{"$f":"IF(V11=0,0,(V11*((LOG(V11))/LOG(2))))","v":0},null,{"$f":"N11","v":211},{"$f":"COUNTIF(L21:L33,Y11)","v":0},{"$f":"Z11/(AB4-Z10)","v":0},{"$f":"IF(AA11=0,0,(AA11*((LOG(AA11))/LOG(2))))","v":0},null,{"$f":"N11","v":211},{"$f":"COUNTIF(L34:L47,AD11)","v":1},{"$f":"AE11/(AG4-AE10)","v":0.1},{"$f":"IF(AF11=0,0,(AF11*((LOG(AF11))/LOG(2))))","v":-0.33219280948873625},null,{"$f":"N11","v":211},{"$f":"COUNTIF(L48:L60,AI11)","v":0},{"$f":"AJ11/(AL4-AJ10)","v":0},{"$f":"IF(AK11=0,0,(AK11*((LOG(AK11))/LOG(2))))","v":0},null,{"$f":"N11","v":211},{"$f":"COUNTIF(L61:L74,AN11)","v":0},{"$f":"AO11/(AQ4-AO10)","v":0},{"$f":"IF(AP11=0,0,(AP11*((LOG(AP11))/LOG(2))))","v":0},null,{"$f":"N11","v":211},{"$f":"COUNTIF(L75:L87,AS11)","v":0},{"$f":"AT11/(AV4-AT10)","v":0},{"$f":"IF(AU11=0,0,(AU11*((LOG(AU11))/LOG(2))))","v":0}]
[11,683,22,695,23,720,null,null,null,null,0,122,null,212,{"$f":"COUNTIF($L$7:$L$500,N12)","v":2},{"$f":"O12/$Q$4","v":2.4691358024691357E-2},{"$f":"IF(P12=0,0,(P12*((LOG(P12))/LOG(2))))","v":-0.13184814821937343},null,null,{"$f":"N12","v":212},{"$f":"COUNTIF(L7:L20,T12)","v":1},{"$f":"U12/(W4-U10)","v":0.1},{"$f":"IF(V12=0,0,(V12*((LOG(V12))/LOG(2))))","v":-0.33219280948873625},null,{"$f":"N12","v":212},{"$f":"COUNTIF(L21:L33,Y12)","v":1},{"$f":"Z12/(AB4-Z10)","v":9.0909090909090912E-2},{"$f":"IF(AA12=0,0,(AA12*((LOG(AA12))/LOG(2))))","v":-0.31449378351248153},null,{"$f":"N12","v":212},{"$f":"COUNTIF(L34:L47,AD12)","v":0},{"$f":"AE12/(AG4-AE10)","v":0},{"$f":"IF(AF12=0,0,(AF12*((LOG(AF12))/LOG(2))))","v":0},null,{"$f":"N12","v":212},{"$f":"COUNTIF(L48:L60,AI12)","v":0},{"$f":"AJ12/(AL4-AJ10)","v":0},{"$f":"IF(AK12=0,0,(AK12*((LOG(AK12))/LOG(2))))","v":0},null,{"$f":"N12","v":212},{"$f":"COUNTIF(L61:L74,AN12)","v":0},{"$f":"AO12/(AQ4-AO10)","v":0},{"$f":"IF(AP12=0,0,(AP12*((LOG(AP12))/LOG(2))))","v":0},null,{"$f":"N12","v":212},{"$f":"COUNTIF(L75:L87,AS12)","v":0},{"$f":"AT12/(AV4-AT10)","v":0},{"$f":"IF(AU12=0,0,(AU12*((LOG(AU12))/LOG(2))))","v":0}]
[11,821,11,834,12,848,null,null,null,null,0,111,null,221,{"$f":"COUNTIF($L$7:$L$500,N13)","v":0},{"$f":"O13/$Q$4","v":0},{"$f":"IF(P13=0,0,(P13*((LOG(P13))/LOG(2))))","v":0},null,null,{"$f":"N13","v":221},{"$f":"COUNTIF(L7:L20,T13)","v":0},{"$f":"U13/(W4-U10)","v":0},{"$f":"IF(V13=0,0,(V13*((LOG(V13))/LOG(2))))","v":0},null,{"$f":"N13","v":221},{"$f":"COUNTIF(L21:L33,Y13)","v":0},{"$f":"Z13/(AB4-Z10)","v":0},{"$f":"IF(AA13=0,0,(AA13*((LOG(AA13))/LOG(2))))","v":0},null,{"$f":"N13","v":221},{"$f":"COUNTIF(L34:L47,AD13)","v":0},{"$f":"AE13/(AG4-AE10)","v":0},{"$f":"IF(AF13=0,0,(AF13*((LOG(AF13))/LOG(2))))","v":0},null,{"$f":"N13","v":221},{"$f":"COUNTIF(L48:L60,AI13)","v":0},{"$f":"AJ13/(AL4-AJ10)","v":0},{"$f":"IF(AK13=0,0,(AK13*((LOG(AK13))/LOG(2))))","v":0},null,{"$f":"N13","v":221},{"$f":"COUNTIF(L61:L74,AN13)","v":0},{"$f":"AO13/(AQ4-AO10)","v":0},{"$f":"IF(AP13=0,0,(AP13*((LOG(AP13))/LOG(2))))","v":0},null,{"$f":"N13","v":221},{"$f":"COUNTIF(L75:L87,AS13)","v":0},{"$f":"AT13/(AV4-AT10)","v":0},{"$f":"IF(AU13=0,0,(AU13*((LOG(AU13))/LOG(2))))","v":0}]
[11,951,22,964,23,981,null,null,null,null,0,122,null,222,{"$f":"COUNTIF($L$7:$L$500,N14)","v":2},{"$f":"O14/$Q$4","v":2.4691358024691357E-2},{"$f":"IF(P14=0,0,(P14*((LOG(P14))/LOG(2))))","v":-0.13184814821937343},null,null,{"$f":"N14","v":222},{"$f":"COUNTIF(L7:L20,T14)","v":2},{"$f":"U14/(W4-U10)","v":0.2},{"$f":"IF(V14=0,0,(V14*((LOG(V14))/LOG(2))))","v":-0.46438561897747244},null,{"$f":"N14","v":222},{"$f":"COUNTIF(L21:L33,Y14)","v":0},{"$f":"Z14/(AB4-Z10)","v":0},{"$f":"IF(AA14=0,0,(AA14*((LOG(AA14))/LOG(2))))","v":0},null,{"$f":"N14","v":222},{"$f":"COUNTIF(L34:L47,AD14)","v":0},{"$f":"AE14/(AG4-AE10)","v":0},{"$f":"IF(AF14=0,0,(AF14*((LOG(AF14))/LOG(2))))","v":0},null,{"$f":"N14","v":222},{"$f":"COUNTIF(L48:L60,AI14)","v":0},{"$f":"AJ14/(AL4-AJ10)","v":0},{"$f":"IF(AK14=0,0,(AK14*((LOG(AK14))/LOG(2))))","v":0},null,{"$f":"N14","v":222},{"$f":"COUNTIF(L61:L74,AN14)","v":0},{"$f":"AO14/(AQ4-AO10)","v":0},{"$f":"IF(AP14=0,0,(AP14*((LOG(AP14))/LOG(2))))","v":0},null,{"$f":"N14","v":222},{"$f":"COUNTIF(L75:L87,AS14)","v":0},{"$f":"AT14/(AV4-AT10)","v":0},{"$f":"IF(AU14=0,0,(AU14*((LOG(AU14))/LOG(2))))","v":0}]
[11,1088,22,1102,14,1126,null,null,null,null,0,121,null,null,null,{"$f":"SUM(P7:P14)","v":0.99999999999999978},{"$f":"-SUM(Q7:Q14)","v":2.023294372256605},null,null,null,null,{"$f":"SUM(V7:V14)","v":1},{"$f":"-SUM(W7:W14)","v":2.1219280948873624},null,null,null,{"$f":"SUM(AA7:AA14)","v":1},{"$f":"-SUM(AB7:AB14)","v":0.86585661745722331},null,null,null,{"$f":"SUM(AF7:AF14)","v":0.99999999999999989},{"$f":"-SUM(AG7:AG14)","v":1.3567796494470397},null,null,null,{"$f":"SUM(AK7:AK14)","v":1},{"$f":"-SUM(AL7:AL14)","v":1.2806721295208869},null,null,null,{"$f":"SUM(AP7:AP14)","v":1},{"$f":"-SUM(AQ7:AQ14)","v":0.72192809488736231},null,null,null,{"$f":"SUM(AU7:AU14)","v":0.99999999999999989},{"$f":"-SUM(AV7:AV14)","v":1.1567796494470395}]
[11,1227,22,1239,14,1266,null,null,null,null,0,121,null,null,null,"U=",{"$f":"Q15/(LOG(Q4)/LOG(2))","v":0.31913915492259415},null,null,null,null,"U1=",{"$f":"W15/(LOG(W4)/LOG(2))","v":0.55732342750452368},null,null,null,"U2=",{"$f":"AB15/(LOG(AB4)/LOG(2))","v":0.23398749430032181},null,null,null,"U3=",{"$f":"AG15/(LOG(AG4)/LOG(2))","v":0.35635754407519143},null,null,null,"U4=",{"$f":"AL15/(LOG(AL4)/LOG(2))","v":0.3460864727082299},null,null,null,"U5=",{"$f":"AQ15/(LOG(AQ4)/LOG(2))","v":0.18961407845245268},null,null,null,"U6=",{"$f":"AV15/(LOG(AV4)/LOG(2))","v":0.31260599754564983}]
[11,1380,22,1392,14,1406,null,null,null,null,0,121]
[11,1505,11,1518,21,1543,null,null,null,null,0,112]
[11,1642,22,1655,23,1683,null,null,null,null,0,122,null,"Total Target Seq"]
[11,1792,22,1817,23,1829,null,null,null,null,0,122,null,{"$f":"COUNTIF(L7:L87,G3)","v":18},null,14,13,14,13,14,13]
[11,1943,22,1955,23,1967,null,null,null,null,0,122,null,null,null,"% of reinforcement given in 6 equal intervals based on number of trials "]
[11,2071,22,2084,23,2109,null,null,null,null,0,122,null,null,null,"%_1","%_2","%_3","%_4","%_5","%_6"]
[22,2236,13,2263,23,2276,null,null,null,null,0,212,null,null,"target sequence",{"$f":"$G$3","v":122},{"$f":"$G$3","v":122},{"$f":"$G$3","v":122},{"$f":"$G$3","v":122},{"$f":"$G$3","v":122},{"$f":"$G$3","v":122}]
[11,2374,11,2388,21,2400,null,null,null,null,0,112,null,null,"total reinforcement",{"$f":"U10","v":4},{"$f":"Z10","v":2},{"$f":"AE10","v":4},{"$f":"AJ10","v":1},{"$f":"AO10","v":4},{"$f":"AT10","v":3}]
[11,2492,11,2505,21,2518,null,null,null,null,0,112,null,null,"% target"]
[11,2614,11,2633,21,2646,null,null,null,null,0,112,null,null,"CCRF"]
[11,2739,11,2752,21,2765,null,null,null,null,0,112,null,null,"% CCRf"]
[11,2861,11,2874,21,2888,null,null,null,null,0,112,null,null,"average response rate",{"$f":"F20/P20","v":130.64285714285714},{"$f":"(F33-F20)/Q20","v":130.84615384615384},{"$f":"(F47-F33)/R20","v":127.85714285714286},{"$f":"(F60-F47)/S20","v":128.38461538461539},{"$f":"(F74-F60)/T20","v":132.28571428571428},{"$f":"(F87-F74)/U20","v":131}]
[11,2984,11,2993,12,3004,null,null,null,null,0,111]
[11,3103,11,3116,21,3128,null,null,null,null,0,112]
[11,3226,11,3248,21,3260,null,null,null,null,0,112]
[11,3353,11,3374,21,3389,null,null,null,null,0,112]
[11,3486,11,3516,21,3530,null,null,null,null,0,112]
[11,3624,11,3636,12,3649,null,null,null,null,0,111]
[11,3747,11,3763,21,3788,null,null,null,null,0,112]
[11,3893,22,3906,23,3943,null,null,null,null,0,122]
[11,4041,22,4054,23,4065,null,null,null,null,0,122]
[11,4163,11,4175,21,4187,null,null,null,null,0,112]
[11,4281,22,4292,23,4303,null,null,null,null,0,122]
[11,4401,11,4422,21,4434,null,null,null,null,0,112]
[11,4542,22,4566,14,4578,null,null,null,null,0,121]
[22,4676,13,4684,14,4693,null,null,null,null,0,211]
[11,4791,11,4806,21,4820,null,null,null,null,0,112]
[11,4916,11,4923,21,4936,null,null,null,null,0,112]
[11,5044,22,5056,23,5076,null,null,null,null,0,122]
[11,5182,11,5184,21,5196,null,null,null,null,0,112]
[11,5292,11,5307,21,5320,null,null,null,null,0,112]
[11,5411,11,5431,21,5445,null,null,null,null,0,112]
[11,5537,11,5550,21,5562,null,null,null,null,0,112]
[11,5656,11,5664,12,5689,null,null,null,null,0,111]
[11,5801,22,5814,14,5829,null,null,null,null,0,121]
[11,5928,11,5937,21,5950,null,null,null,null,0,112]
[11,6045,11,6054,12,6069,null,null,null,null,0,111]
[11,6181,22,6194,23,6205,null,null,null,null,0,122]
[11,6301,11,6310,12,6322,null,null,null,null,0,111]
[11,6420,11,6428,21,6460,null,null,null,null,0,112]
[11,6561,11,6573,12,6613,null,null,null,null,0,111]
[11,6712,11,6726,21,6739,null,null,null,null,0,112]
[11,6837,11,6849,21,6873,null,null,null,null,0,112]
[11,6967,11,6975,21,6989,null,null,null,null,0,112]
[11,7086,11,7094,21,7106,null,null,null,null,0,112]
[11,7200,11,7211,21,7224,null,null,null,null,0,112]
[11,7325,22,7337,23,7384,null,null,null,null,0,122]
[11,7485,11,7494,21,7540,null,null,null,null,0,112]
[11,7634,11,7643,21,7656,null,null,null,null,0,112]
[11,7752,11,7760,21,7771,null,null,null,null,0,112]
[11,7876,11,7885,21,7899,null,null,null,null,0,112]
[11,7996,11,8003,12,8005,null,null,null,null,0,111]
[11,8101,22,8136,23,8148,null,null,null,null,0,122]
[11,8253,22,8265,23,8297,null,null,null,null,0,122]
[11,8397,11,8405,21,8419,null,null,null,null,0,112]
[11,8515,22,8529,23,8541,null,null,null,null,0,122]
[11,8661,11,8674,21,8685,null,null,null,null,0,112]
[11,8779,11,8787,12,8841,null,null,null,null,0,111]
[11,8948,22,8975,23,9018,null,null,null,null,0,122]
[11,9119,22,9156,23,9167,null,null,null,null,0,122]
[11,9264,11,9272,21,9284,null,null,null,null,0,112]
[11,9385,11,9406,21,9418,null,null,null,null,0,112]
[11,9511,22,9522,23,9538,null,null,null,null,0,122]
[11,9649,11,9661,12,9690,null,null,null,null,0,111]
[11,9787,11,9794,21,9804,null,null,null,null,0,112]
[11,9908,11,9915,12,9933,null,null,null,null,0,111]
[11,10032,11,10040,21,10054,null,null,null,null,0,112]
[11,10154,11,10162,21,10174,null,null,null,null,0,112]
[11,10265,11,10277,21,10290,null,null,null,null,0,112]
[11,10389,22,10400,14,10412,null,null,null,null,0,121]
[11,10511,11,10519,21,10544,null,null,null,null,1,112]

{"sheet":"!M606930.103","index":15,"n_rows":101,"n_cols":48,"rows_kept":101,"cut":false,"hidden":false,"merged":[[4,39,4,42],[5,39,5,40],[4,44,4,47],[5,44,5,45],[4,24,4,27],[5,24,5,25],[4,29,4,32],[5,29,5,30],[4,34,4,37],[5,34,5,35],[1,1,1,2],[5,13,5,14],[18,13,18,14],[19,13,19,14],[4,19,4,22],[5,19,5,20]]}
["Report for:!M606930.103"]
["Date:","<date>"]
["Hen:","<hen>",null,null,null,"Correct Sequence",{"$f":"Start!J2","v":122},null,null,null,null,null,null,null,null,"Total Sequences in Data",{"$f":"4994-COUNTBLANK(L7:L5000)","v":95},null,null,null,null,"Total Sequences in Block Data",{"$f":"COUNTA(L7:L22)","v":16},null,null,null,"Total Sequences in Block Data",{"$f":"COUNTA(L23:L38)","v":16},null,null,null,"Total Sequences in Block Data",{"$f":"COUNTA(L39:L53)","v":15},null,null,null,"Total Sequences in Block Data",{"$f":"COUNTA(L54:L69)","v":16},null,null,null,"Total Sequences in Block Data",{"$f":"COUNTA(L70:L85)","v":16},null,null,null,"Total Sequences in Block Data",{"$f":"COUNTA(L86:L101)","v":16}]
[null,null,null,null,null,null,null,null,null,null,null,null,null,null,null,"Total Sequences in Summary",{"$f":"SUM(O7:O14)","v":95},null,null,null,null,"Total Sequences in Block Summary",{"$f":"SUM(U7:U14)","v":16},null,null,null,"Total Sequences in Block Summary",{"$f":"SUM(Z7:Z14)","v":16},null,null,null,"Total Sequences in Block Summary",{"$f":"SUM(AE7:AE14)","v":15},null,null,null,"Total Sequences in Block Summary",{"$f":"SUM(AJ7:AJ14)","v":16},null,null,null,"Total Sequences in Block Summary",{"$f":"SUM(AO7:AO14)","v":16},null,null,null,"Total Sequences in Block Summary",{"$f":"SUM(AT7:AT14)","v":16}]
[null,null,null,null,null,null,null,null,null,null,null,null,null,null,null,null,null,null,null,"Block 1",null,null,null,null,"Block 2",null,null,null,null,"Block 3",null,null,null,null,"Block 4",null,null,null,null,"Block 5",null,null,null,null,"Block 6"]
["Sequence\nComponent\n1","Time\n1","Sequence\nComponent\n2","Time\n2","Sequence\nComponent\n3","Time\n3","Sequence\nComponent\n4","Time\n4","Sequence\nComponent\n5","Time\n5","Correct?\n0=No 1=Yes","Sequence",null,"Frequency",null,"Relative Frequency","Variability",null,null,"Frequency",null,"Relative Frequency","Variability",null,"Frequency",null,"Relative Frequency","Variability",null,"Frequency",null,"Relative Frequency","Variability",null,"Frequency",null,"Relative Frequency","Variability",null,"Frequency",null,"Relative Frequency","Variability",null,"Frequency",null,"Relative Frequency","Variability"]
[22,32,13,45,23,58,null,null,null,null,0,212,null,111,{"$f":"COUNTIF($L$7:$L$500,N7)","v":15},{"$f":"O7/$Q$4","v":0.15789473684210525},{"$f":"IF(P7=0,0,(P7*((LOG(P7))/LOG(2))))","v":-0.42046815990354147},null,null,{"$f":"N7","v":111},{"$f":"COUNTIF(L7:L22,T7)","v":0},{"$f":"U7/(W4-U10)","v":0},{"$f":"IF(V7=0,0,(V7*((LOG(V7))/LOG(2))))","v":0},null,{"$f":"N7","v":111},{"$f":"COUNTIF(L23:L38,Y7)","v":1},{"$f":"Z7/(AB4-Z10)","v":7.6923076923076927E-2},{"$f":"IF(AA7=0,0,(AA7*((LOG(AA7))/LOG(2))))","v":-0.28464920908777636},null,{"$f":"N7","v":111},{"$f":"COUNTIF(L39:L53,AD7)","v":3},{"$f":"AE7/(AG4-AE10)","v":0.25},{"$f":"IF(AF7=0,0,(AF7*((LOG(AF7))/LOG(2))))","v":-0.5},null,{"$f":"N7","v":111},{"$f":"COUNTIF(L54:L69,AI7)","v":6},{"$f":"AJ7/(AL4-AJ10)","v":0.4},{"$f":"IF(AK7=0,0,(AK7*((LOG(AK7))/LOG(2))))","v":-0.52877123795494496},null,{"$f":"N7","v":111},{"$f":"COUNTIF(L70:L85,AN7)","v":4},{"$f":"AO7/(AQ4-AO10)","v":0.33333333333333331},{"$f":"IF(AP7=0,0,(AP7*((LOG(AP7))/LOG(2))))","v":-0.52832083357371862},null,{"$f":"N7","v":111},{"$f":"COUNTIF(L86:L101,AS7)","v":1},{"$f":"AT7/(AV4-AT10)","v":0.1111111111111111},{"$f":"IF(AU7=0,0,(AU7*((LOG(AU7))/LOG(2))))","v":-0.3522138890491458}]
[11,165,22,175,14,188,null,null,null,null,0,121,null,112,{"$f":"COUNTIF($L$7:$L$500,N8)","v":40},{"$f":"O8/$Q$4","v":0.42105263157894735},{"$f":"IF(P8=0,0,(P8*((LOG(P8))/LOG(2))))","v":-0.52544316355519383},null,null,{"$f":"N8","v":112},{"$f":"COUNTIF(L7:L22,T8)","v":5},{"$f":"U8/(W4-U10)","v":0.45454545454545453},{"$f":"IF(V8=0,0,(V8*((LOG(V8))/LOG(2))))","v":-0.51704705624997038},null,{"$f":"N8","v":112},{"$f":"COUNTIF(L23:L38,Y8)","v":11},{"$f":"Z8/(AB4-Z10)","v":0.84615384615384615},{"$f":"IF(AA8=0,0,(AA8*((LOG(AA8))/LOG(2))))","v":-0.20392993034936494},null,{"$f":"N8","v":112},{"$f":"COUNTIF(L39:L53,AD8)","v":9},{"$f":"AE8/(AG4-AE10)","v":0.75},{"$f":"IF(AF8=0,0,(AF8*((LOG(AF8))/LOG(2))))","v":-0.31127812445913283},null,{"$f":"N8","v":112},{"$f":"COUNTIF(L54:L69,AI8)","v":8},{"$f":"AJ8/(AL4-AJ10)","v":0.53333333333333333},{"$f":"IF(AK8=0,0,(AK8*((LOG(AK8))/LOG(2))))","v":-0.4836749843245432},null,{"$f":"N8","v":112},{"$f":"COUNTIF(L70:L85,AN8)","v":1},{"$f":"AO8/(AQ4-AO10)","v":8.3333333333333329E-2},{"$f":"IF(AP8=0,0,(AP8*((LOG(AP8))/LOG(2))))","v":-0.29874687506009634},null,{"$f":"N8","v":112},{"$f":"COUNTIF(L86:L101,AS8)","v":6},{"$f":"AT8/(AV4-AT10)","v":0.66666666666666663},{"$f":"IF(AU8=0,0,(AU8*((LOG(AU8))/LOG(2))))","v":-0.38997500048077083}]
[11,294,22,308,14,321,null,null,null,null,0,121,null,121,{"$f":"COUNTIF($L$7:$L$500,N9)","v":15},{"$f":"O9/$Q$4","v":0.15789473684210525},{"$f":"IF(P9=0,0,(P9*((LOG(P9))/LOG(2))))","v":-0.42046815990354147},null,null,{"$f":"N9","v":121},{"$f":"COUNTIF(L7:L22,T9)","v":4},{"$f":"U9/(W4-U10)","v":0.36363636363636365},{"$f":"IF(V9=0,0,(V9*((LOG(V9))/LOG(2))))","v":-0.53070240677719893},null,{"$f":"N9","v":121},{"$f":"COUNTIF(L23:L38,Y9)","v":1},{"$f":"Z9/(AB4-Z10)","v":7.6923076923076927E-2},{"$f":"IF(AA9=0,0,(AA9*((LOG(AA9))/LOG(2))))","v":-0.28464920908777636},null,{"$f":"N9","v":121},{"$f":"COUNTIF(L39:L53,AD9)","v":0},{"$f":"AE9/(AG4-AE10)","v":0},{"$f":"IF(AF9=0,0,(AF9*((LOG(AF9))/LOG(2))))","v":0},null,{"$f":"N9","v":121},{"$f":"COUNTIF(L54:L69,AI9)","v":1},{"$f":"AJ9/(AL4-AJ10)","v":6.6666666666666666E-2},{"$f":"IF(AK9=0,0,(AK9*((LOG(AK9))/LOG(2))))","v":-0.26045937304056793},null,{"$f":"N9","v":121},{"$f":"COUNTIF(L70:L85,AN9)","v":7},{"$f":"AO9/(AQ4-AO10)","v":0.58333333333333337},{"$f":"IF(AP9=0,0,(AP9*((LOG(AP9))/LOG(2))))","v":-0.45360442088707198},null,{"$f":"N9","v":121},{"$f":"COUNTIF(L86:L101,AS9)","v":2},{"$f":"AT9/(AV4-AT10)","v":0.22222222222222221},{"$f":"IF(AU9=0,0,(AU9*((LOG(AU9))/LOG(2))))","v":-0.48220555587606945}]
[11,422,22,435,23,452,null,null,null,null,0,122,null,122,{"$f":"COUNTIF($L$7:$L$500,N10)","v":23},{"$f":"O10/$Q$4","v":0.24210526315789474},{"$f":"IF(P10=0,0,(P10*((LOG(P10))/LOG(2))))","v":-0.49541846318211052},null,null,{"$f":"N10","v":122},{"$f":"COUNTIF(L7:L22,T10)","v":5},null,null,null,{"$f":"N10","v":122},{"$f":"COUNTIF(L23:L38,Y10)","v":3},null,null,null,{"$f":"N10","v":122},{"$f":"COUNTIF(L39:L53,AD10)","v":3},null,null,null,{"$f":"N10","v":122},{"$f":"COUNTIF(L54:L69,AI10)","v":1},null,null,null,{"$f":"N10","v":122},{"$f":"COUNTIF(L70:L85,AN10)","v":4},null,null,null,{"$f":"N10","v":122},{"$f":"COUNTIF(L86:L101,AS10)","v":7}]
[11,554,22,566,23,579,null,null,null,null,0,122,null,211,{"$f":"COUNTIF($L$7:$L$500,N11)","v":0},{"$f":"O11/$Q$4","v":0},{"$f":"IF(P11=0,0,(P11*((LOG(P11))/LOG(2))))","v":0},null,null,{"$f":"N11","v":211},{"$f":"COUNTIF(L7:L22,T11)","v":0},{"$f":"U11/(W4-U10)","v":0},{"$f":"IF(V11=0,0,(V11*((LOG(V11))/LOG(2))))","v":0},null,{"$f":"N11","v":211},{"$f":"COUNTIF(L23:L38,Y11)","v":0},{"$f":"Z11/(AB4-Z10)","v":0},{"$f":"IF(AA11=0,0,(AA11*((LOG(AA11))/LOG(2))))","v":0},null,{"$f":"N11","v":211},{"$f":"COUNTIF(L39:L53,AD11)","v":0},{"$f":"AE11/(AG4-AE10)","v":0},{"$f":"IF(AF11=0,0,(AF11*((LOG(AF11))/LOG(2))))","v":0},null,{"$f":"N11","v":211},{"$f":"COUNTIF(L54:L69,AI11)","v":0},{"$f":"AJ11/(AL4-AJ10)","v":0},{"$f":"IF(AK11=0,0,(AK11*((LOG(AK11))/LOG(2))))","v":0},null,{"$f":"N11","v":211},{"$f":"COUNTIF(L70:L85,AN11)","v":0},{"$f":"AO11/(AQ4-AO10)","v":0},{"$f":"IF(AP11=0,0,(AP11*((LOG(AP11))/LOG(2))))","v":0},null,{"$f":"N11","v":211},{"$f":"COUNTIF(L86:L101,AS11)","v":0},{"$f":"AT11/(AV4-AT10)","v":0},{"$f":"IF(AU11=0,0,(AU11*((LOG(AU11))/LOG(2))))","v":0}]
[11,686,22,700,14,712,null,null,null,null,0,121,null,212,{"$f":"COUNTIF($L$7:$L$500,N12)","v":1},{"$f":"O12/$Q$4","v":1.0526315789473684E-2},{"$f":"IF(P12=0,0,(P12*((LOG(P12))/LOG(2))))","v":-6.9156374824536293E-2},null,null,{"$f":"N12","v":212},{"$f":"COUNTIF(L7:L22,T12)","v":1},{"$f":"U12/(W4-U10)","v":9.0909090909090912E-2},{"$f":"IF(V12=0,0,(V12*((LOG(V12))/LOG(2))))","v":-0.31449378351248153},null,{"$f":"N12","v":212},{"$f":"COUNTIF(L23:L38,Y12)","v":0},{"$f":"Z12/(AB4-Z10)","v":0},{"$f":"IF(AA12=0,0,(AA12*((LOG(AA12))/LOG(2))))","v":0},null,{"$f":"N12","v":212},{"$f":"COUNTIF(L39:L53,AD12)","v":0},{"$f":"AE12/(AG4-AE10)","v":0},{"$f":"IF(AF12=0,0,(AF12*((LOG(AF12))/LOG(2))))","v":0},null,{"$f":"N12","v":212},{"$f":"COUNTIF(L54:L69,AI12)","v":0},{"$f":"AJ12/(AL4-AJ10)","v":0},{"$f":"IF(AK12=0,0,(AK12*((LOG(AK12))/LOG(2))))","v":0},null,{"$f":"N12","v":212},{"$f":"COUNTIF(L70:L85,AN12)","v":0},{"$f":"AO12/(AQ4-AO10)","v":0},{"$f":"IF(AP12=0,0,(AP12*((LOG(AP12))/LOG(2))))","v":0},null,{"$f":"N12","v":212},{"$f":"COUNTIF(L86:L101,AS12)","v":0},{"$f":"AT12/(AV4-AT10)","v":0},{"$f":"IF(AU12=0,0,(AU12*((LOG(AU12))/LOG(2))))","v":0}]
[11,812,22,826,14,853,null,null,null,null,0,121,null,221,{"$f":"COUNTIF($L$7:$L$500,N13)","v":0},{"$f":"O13/$Q$4","v":0},{"$f":"IF(P13=0,0,(P13*((LOG(P13))/LOG(2))))","v":0},null,null,{"$f":"N13","v":221},{"$f":"COUNTIF(L7:L22,T13)","v":0},{"$f":"U13/(W4-U10)","v":0},{"$f":"IF(V13=0,0,(V13*((LOG(V13))/LOG(2))))","v":0},null,{"$f":"N13","v":221},{"$f":"COUNTIF(L23:L38,Y13)","v":0},{"$f":"Z13/(AB4-Z10)","v":0},{"$f":"IF(AA13=0,0,(AA13*((LOG(AA13))/LOG(2))))","v":0},null,{"$f":"N13","v":221},{"$f":"COUNTIF(L39:L53,AD13)","v":0},{"$f":"AE13/(AG4-AE10)","v":0},{"$f":"IF(AF13=0,0,(AF13*((LOG(AF13))/LOG(2))))","v":0},null,{"$f":"N13","v":221},{"$f":"COUNTIF(L54:L69,AI13)","v":0},{"$f":"AJ13/(AL4-AJ10)","v":0},{"$f":"IF(AK13=0,0,(AK13*((LOG(AK13))/LOG(2))))","v":0},null,{"$f":"N13","v":221},{"$f":"COUNTIF(L70:L85,AN13)","v":0},{"$f":"AO13/(AQ4-AO10)","v":0},{"$f":"IF(AP13=0,0,(AP13*((LOG(AP13))/LOG(2))))","v":0},null,{"$f":"N13","v":221},{"$f":"COUNTIF(L86:L101,AS13)","v":0},{"$f":"AT13/(AV4-AT10)","v":0},{"$f":"IF(AU13=0,0,(AU13*((LOG(AU13))/LOG(2))))","v":0}]
[11,971,22,983,23,996,null,null,null,null,0,122,null,222,{"$f":"COUNTIF($L$7:$L$500,N14)","v":1},{"$f":"O14/$Q$4","v":1.0526315789473684E-2},{"$f":"IF(P14=0,0,(P14*((LOG(P14))/LOG(2))))","v":-6.9156374824536293E-2},null,null,{"$f":"N14","v":222},{"$f":"COUNTIF(L7:L22,T14)","v":1},{"$f":"U14/(W4-U10)","v":9.0909090909090912E-2},{"$f":"IF(V14=0,0,(V14*((LOG(V14))/LOG(2))))","v":-0.31449378351248153},null,{"$f":"N14","v":222},{"$f":"COUNTIF(L23:L38,Y14)","v":0},{"$f":"Z14/(AB4-Z10)","v":0},{"$f":"IF(AA14=0,0,(AA14*((LOG(AA14))/LOG(2))))","v":0},null,{"$f":"N14","v":222},{"$f":"COUNTIF(L39:L53,AD14)","v":0},{"$f":"AE14/(AG4-AE10)","v":0},{"$f":"IF(AF14=0,0,(AF14*((LOG(AF14))/LOG(2))))","v":0},null,{"$f":"N14","v":222},{"$f":"COUNTIF(L54:L69,AI14)","v":0},{"$f":"AJ14/(AL4-AJ10)","v":0},{"$f":"IF(AK14=0,0,(AK14*((LOG(AK14))/LOG(2))))","v":0},null,{"$f":"N14","v":222},{"$f":"COUNTIF(L70:L85,AN14)","v":0},{"$f":"AO14/(AQ4-AO10)","v":0},{"$f":"IF(AP14=0,0,(AP14*((LOG(AP14))/LOG(2))))","v":0},null,{"$f":"N14","v":222},{"$f":"COUNTIF(L86:L101,AS14)","v":0},{"$f":"AT14/(AV4-AT10)","v":0},{"$f":"IF(AU14=0,0,(AU14*((LOG(AU14))/LOG(2))))","v":0}]
[11,1094,11,1113,21,1126,null,null,null,null,0,112,null,null,null,{"$f":"SUM(P7:P14)","v":1},{"$f":"-SUM(Q7:Q14)","v":2.0001106961934596},null,null,null,null,{"$f":"SUM(V7:V14)","v":1},{"$f":"-SUM(W7:W14)","v":1.6767370300521323},null,null,null,{"$f":"SUM(AA7:AA14)","v":1},{"$f":"-SUM(AB7:AB14)","v":0.77322834852491762},null,null,null,{"$f":"SUM(AF7:AF14)","v":1},{"$f":"-SUM(AG7:AG14)","v":0.81127812445913283},null,null,null,{"$f":"SUM(AK7:AK14)","v":1},{"$f":"-SUM(AL7:AL14)","v":1.2729055953200561},null,null,null,{"$f":"SUM(AP7:AP14)","v":1},{"$f":"-SUM(AQ7:AQ14)","v":1.2806721295208869},null,null,null,{"$f":"SUM(AU7:AU14)","v":0.99999999999999989},{"$f":"-SUM(AV7:AV14)","v":1.2243944454059861}]
[11,1221,11,1235,21,1248,null,null,null,null,0,112,null,null,null,"U=",{"$f":"Q15/(LOG(Q4)/LOG(2))","v":0.30443754253247307},null,null,null,null,"U1=",{"$f":"W15/(LOG(W4)/LOG(2))","v":0.41918425751303307},null,null,null,"U2=",{"$f":"AB15/(LOG(AB4)/LOG(2))","v":0.1933070871312294},null,null,null,"U3=",{"$f":"AG15/(LOG(AG4)/LOG(2))","v":0.2076531463079713},null,null,null,"U4=",{"$f":"AL15/(LOG(AL4)/LOG(2))","v":0.31822639883001402},null,null,null,"U5=",{"$f":"AQ15/(LOG(AQ4)/LOG(2))","v":0.32016803238022173},null,null,null,"U6=",{"$f":"AV15/(LOG(AV4)/LOG(2))","v":0.30609861135149652}]
[11,1347,22,1360,23,1372,null,null,null,null,0,122]
[22,1478,24,1558,23,1578,null,null,null,null,0,222]
[11,1678,11,1690,21,1729,null,null,null,null,0,112,null,"Total Target Seq"]
[11,1824,11,1837,21,1870,null,null,null,null,0,112,null,{"$f":"COUNTIF(L7:L101,G3)","v":23},null,16,16,15,16,16,16]
[11,1965,11,1978,21,1990,null,null,null,null,0,112,null,null,null,"% of reinforcement given in 6 equal intervals based on number of trials "]
[11,2083,22,2104,23,2121,null,null,null,null,0,122,null,null,null,"%_1","%_2","%_3","%_4","%_5","%_6"]
[11,2233,22,2246,23,2257,null,null,null,null,0,122,null,null,"target sequence",{"$f":"$G$3","v":122},{"$f":"$G$3","v":122},{"$f":"$G$3","v":122},{"$f":"$G$3","v":122},{"$f":"$G$3","v":122},{"$f":"$G$3","v":122}]
[11,2355,11,2363,21,2376,null,null,null,null,0,112,null,null,"total reinforcement",{"$f":"U10","v":5},{"$f":"Z10","v":3},{"$f":"AE10","v":3},{"$f":"AJ10","v":1},{"$f":"AO10","v":4},{"$f":"AT10","v":7}]
[11,2470,11,2481,21,2495,null,null,null,null,0,112,null,null,"% target"]
[11,2592,11,2601,21,2613,null,null,null,null,0,112,null,null,"CCRF"]
[11,2714,22,2728,23,2740,null,null,null,null,0,122,null,null,"% CCRf"]
[11,2837,11,2854,21,2867,null,null,null,null,0,112,null,null,"average response rate",{"$f":"F22/P20","v":132.5625},{"$f":"(F38-F22)/Q20","v":130.375},{"$f":"(F53-F38)/R20","v":140.19999999999999},{"$f":"(F69-F53)/S20","v":125.5625},{"$f":"(F85-F69)/T20","v":135.125},{"$f":"(F101-F85)/U20","v":145.3125}]
[11,2970,22,3007,14,3039,null,null,null,null,0,121]
[11,3140,11,3152,21,3165,null,null,null,null,0,112]
[11,3260,11,3281,21,3304,null,null,null,null,0,112]
[11,3395,11,3403,21,3415,null,null,null,null,0,112]
[11,3510,11,3518,21,3531,null,null,null,null,0,112]
[11,3625,11,3633,21,3645,null,null,null,null,0,112]
[11,3736,11,3762,21,3787,null,null,null,null,0,112]
[11,3894,22,3908,23,3919,null,null,null,null,0,122]
[11,4016,11,4024,21,4036,null,null,null,null,0,112]
[11,4137,11,4144,12,4207,null,null,null,null,0,111]
[11,4310,22,4324,23,4388,null,null,null,null,0,122]
[11,4497,11,4509,21,4521,null,null,null,null,0,112]
[11,4621,11,4628,21,4640,null,null,null,null,0,112]
[11,4736,11,4743,21,4765,null,null,null,null,0,112]
[11,4861,11,4869,12,4941,null,null,null,null,0,111]
[11,5040,11,5048,21,5060,null,null,null,null,0,112]
[11,5157,11,5181,12,5190,null,null,null,null,0,111]
[11,5293,11,5301,21,5325,null,null,null,null,0,112]
[11,5419,11,5426,21,5438,null,null,null,null,0,112]
[11,5534,11,5541,21,5554,null,null,null,null,0,112]
[11,5662,22,5675,23,5686,null,null,null,null,0,122]
[11,5790,22,5803,23,5834,null,null,null,null,0,122]
[11,5947,11,6003,21,6015,null,null,null,null,0,112]
[11,6114,11,6121,21,6134,null,null,null,null,0,112]
[11,6230,11,6238,12,6310,null,null,null,null,0,111]
[11,6417,11,6424,21,6455,null,null,null,null,0,112]
[11,6550,11,6558,12,6594,null,null,null,null,0,111]
[11,6694,11,6702,12,6708,null,null,null,null,0,111]
[11,6805,11,6817,21,6830,null,null,null,null,0,112]
[11,6922,11,6930,12,6940,null,null,null,null,0,111]
[11,7041,22,7053,14,7077,null,null,null,null,0,121]
[11,7173,11,7185,21,7198,null,null,null,null,0,112]
[11,7294,11,7301,21,7313,null,null,null,null,0,112]
[11,7406,11,7413,12,7418,null,null,null,null,0,111]
[11,7520,11,7528,21,7540,null,null,null,null,0,112]
[11,7636,11,7644,21,7655,null,null,null,null,0,112]
[11,7749,11,7758,12,7786,null,null,null,null,0,111]
[11,7895,11,7902,21,7914,null,null,null,null,0,112]
[11,8012,11,8020,12,8054,null,null,null,null,0,111]
[11,8150,11,8158,21,8172,null,null,null,null,0,112]
[11,8286,22,8302,23,8319,null,null,null,null,0,122]
[11,8421,22,8433,14,8452,null,null,null,null,0,121]
[11,8549,11,8556,21,8566,null,null,null,null,0,112]
[11,8670,22,8682,14,8698,null,null,null,null,0,121]
[11,8810,22,8823,14,8841,null,null,null,null,0,121]
[11,8938,22,8951,23,8965,null,null,null,null,0,122]
[11,9064,11,9071,12,9103,null,null,null,null,0,111]
[11,9201,11,9208,12,9215,null,null,null,null,0,111]
[11,9321,22,9334,14,9350,null,null,null,null,0,121]
[11,9456,22,9467,23,9482,null,null,null,null,0,122]
[11,9632,22,9644,23,9654,null,null,null,null,0,122]
[11,9760,22,9771,14,9786,null,null,null,null,0,121]
[11,9892,22,9903,23,9913,null,null,null,null,0,122]
[11,10036,22,10047,14,10107,null,null,null,null,0,121]
[11,10209,22,10220,14,10232,null,null,null,null,0,121]
[11,10335,11,10350,12,10364,null,null,null,null,0,111]
[11,10463,11,10470,12,10481,null,null,null,null,0,111]
[11,10606,22,10617,23,10636,null,null,null,null,0,122]
[11,10744,22,10762,23,10776,null,null,null,null,0,122]
[11,10909,11,10932,21,10954,null,null,null,null,0,112]
[11,11054,22,11078,23,11095,null,null,null,null,0,122]
[11,11240,22,11255,23,11270,null,null,null,null,0,122]
[11,11378,22,11390,23,11401,null,null,null,null,0,122]
[11,11501,22,11524,14,11545,null,null,null,null,0,121]
[11,11661,11,11663,21,11673,null,null,null,null,0,112]
[11,11772,11,11781,21,11792,null,null,null,null,0,112]
[11,11891,11,11899,21,11911,null,null,null,null,0,112]
[11,12003,22,12018,14,12062,null,null,null,null,0,121]
[11,12165,11,12173,12,12186,null,null,null,null,0,111]
[11,12283,11,12291,21,12317,null,null,null,null,0,112]
[11,12492,22,12507,23,12524,null,null,null,null,0,122]
[11,12650,22,12662,23,12680,null,null,null,null,0,122]
[11,12782,11,12791,21,12806,null,null,null,null,1,112]

{"sheet":"!M607940.103","index":16,"n_rows":88,"n_cols":48,"rows_kept":88,"cut":false,"hidden":false,"merged":[[4,39,4,42],[5,39,5,40],[4,44,4,47],[5,44,5,45],[4,24,4,27],[5,24,5,25],[4,29,4,32],[5,29,5,30],[4,34,4,37],[5,34,5,35],[1,1,1,2],[5,13,5,14],[18,13,18,14],[19,13,19,14],[4,19,4,22],[5,19,5,20]]}
["Report for:!M607940.103"]
["Date:","<date>"]
["Hen:","<hen>",null,null,null,"Correct Sequence",{"$f":"Start!J2","v":122},null,null,null,null,null,null,null,null,"Total Sequences in Data",{"$f":"4994-COUNTBLANK(L7:L5000)","v":82},null,null,null,null,"Total Sequences in Block Data",{"$f":"COUNTA(L7:L20)","v":14},null,null,null,"Total Sequences in Block Data",{"$f":"COUNTA(L21:L33)","v":13},null,null,null,"Total Sequences in Block Data",{"$f":"COUNTA(L34:L47)","v":14},null,null,null,"Total Sequences in Block Data",{"$f":"COUNTA(L48:L61)","v":14},null,null,null,"Total Sequences in Block Data",{"$f":"COUNTA(L62:L74)","v":13},null,null,null,"Total Sequences in Block Data",{"$f":"COUNTA(L75:L88)","v":14}]
[null,null,null,null,null,null,null,null,null,null,null,null,null,null,null,"Total Sequences in Summary",{"$f":"SUM(O7:O14)","v":82},null,null,null,null,"Total Sequences in Block Summary",{"$f":"SUM(U7:U14)","v":14},null,null,null,"Total Sequences in Block Summary",{"$f":"SUM(Z7:Z14)","v":13},null,null,null,"Total Sequences in Block Summary",{"$f":"SUM(AE7:AE14)","v":14},null,null,null,"Total Sequences in Block Summary",{"$f":"SUM(AJ7:AJ14)","v":14},null,null,null,"Total Sequences in Block Summary",{"$f":"SUM(AO7:AO14)","v":13},null,null,null,"Total Sequences in Block Summary",{"$f":"SUM(AT7:AT14)","v":14}]
[null,null,null,null,null,null,null,null,null,null,null,null,null,null,null,null,null,null,null,"Block 1",null,null,null,null,"Block 2",null,null,null,null,"Block 3",null,null,null,null,"Block 4",null,null,null,null,"Block 5",null,null,null,null,"Block 6"]
["Sequence\nComponent\n1","Time\n1","Sequence\nComponent\n2","Time\n2","Sequence\nComponent\n3","Time\n3","Sequence\nComponent\n4","Time\n4","Sequence\nComponent\n5","Time\n5","Correct?\n0=No 1=Yes","Sequence",null,"Frequency",null,"Relative Frequency","Variability",null,null,"Frequency",null,"Relative Frequency","Variability",null,"Frequency",null,"Relative Frequency","Variability",null,"Frequency",null,"Relative Frequency","Variability",null,"Frequency",null,"Relative Frequency","Variability",null,"Frequency",null,"Relative Frequency","Variability",null,"Frequency",null,"Relative Frequency","Variability"]
[22,14,13,27,23,39,null,null,null,null,0,212,null,111,{"$f":"COUNTIF($L$7:$L$500,N7)","v":21},{"$f":"O7/$Q$4","v":0.25609756097560976},{"$f":"IF(P7=0,0,(P7*((LOG(P7))/LOG(2))))","v":-0.50329178315397305},null,null,{"$f":"N7","v":111},{"$f":"COUNTIF(L7:L20,T7)","v":3},{"$f":"U7/(W4-U10)","v":0.25},{"$f":"IF(V7=0,0,(V7*((LOG(V7))/LOG(2))))","v":-0.5},null,{"$f":"N7","v":111},{"$f":"COUNTIF(L21:L33,Y7)","v":0},{"$f":"Z7/(AB4-Z10)","v":0},{"$f":"IF(AA7=0,0,(AA7*((LOG(AA7))/LOG(2))))","v":0},null,{"$f":"N7","v":111},{"$f":"COUNTIF(L34:L47,AD7)","v":3},{"$f":"AE7/(AG4-AE10)","v":0.27272727272727271},{"$f":"IF(AF7=0,0,(AF7*((LOG(AF7))/LOG(2))))","v":-0.51121885034076575},null,{"$f":"N7","v":111},{"$f":"COUNTIF(L48:L61,AI7)","v":4},{"$f":"AJ7/(AL4-AJ10)","v":0.36363636363636365},{"$f":"IF(AK7=0,0,(AK7*((LOG(AK7))/LOG(2))))","v":-0.53070240677719893},null,{"$f":"N7","v":111},{"$f":"COUNTIF(L62:L74,AN7)","v":4},{"$f":"AO7/(AQ4-AO10)","v":0.36363636363636365},{"$f":"IF(AP7=0,0,(AP7*((LOG(AP7))/LOG(2))))","v":-0.53070240677719893},null,{"$f":"N7","v":111},{"$f":"COUNTIF(L75:L88,AS7)","v":7},{"$f":"AT7/(AV4-AT10)","v":0.53846153846153844},{"$f":"IF(AU7=0,0,(AU7*((LOG(AU7))/LOG(2))))","v":-0.48089181327572433}]
[11,148,11,168,12,194,null,null,null,null,0,111,null,112,{"$f":"COUNTIF($L$7:$L$500,N8)","v":40},{"$f":"O8/$Q$4","v":0.48780487804878048},{"$f":"IF(P8=0,0,(P8*((LOG(P8))/LOG(2))))","v":-0.50518239499059581},null,null,{"$f":"N8","v":112},{"$f":"COUNTIF(L7:L20,T8)","v":6},{"$f":"U8/(W4-U10)","v":0.5},{"$f":"IF(V8=0,0,(V8*((LOG(V8))/LOG(2))))","v":-0.5},null,{"$f":"N8","v":112},{"$f":"COUNTIF(L21:L33,Y8)","v":7},{"$f":"Z8/(AB4-Z10)","v":0.77777777777777779},{"$f":"IF(AA8=0,0,(AA8*((LOG(AA8))/LOG(2))))","v":-0.28199895063255082},null,{"$f":"N8","v":112},{"$f":"COUNTIF(L34:L47,AD8)","v":8},{"$f":"AE8/(AG4-AE10)","v":0.72727272727272729},{"$f":"IF(AF8=0,0,(AF8*((LOG(AF8))/LOG(2))))","v":-0.33413208628167068},null,{"$f":"N8","v":112},{"$f":"COUNTIF(L48:L61,AI8)","v":6},{"$f":"AJ8/(AL4-AJ10)","v":0.54545454545454541},{"$f":"IF(AK8=0,0,(AK8*((LOG(AK8))/LOG(2))))","v":-0.47698315522698609},null,{"$f":"N8","v":112},{"$f":"COUNTIF(L62:L74,AN8)","v":7},{"$f":"AO8/(AQ4-AO10)","v":0.63636363636363635},{"$f":"IF(AP8=0,0,(AP8*((LOG(AP8))/LOG(2))))","v":-0.41495789782344106},null,{"$f":"N8","v":112},{"$f":"COUNTIF(L75:L88,AS8)","v":6},{"$f":"AT8/(AV4-AT10)","v":0.46153846153846156},{"$f":"IF(AU8=0,0,(AU8*((LOG(AU8))/LOG(2))))","v":-0.51483563880920125}]
[11,300,22,313,14,324,null,null,null,null,0,121,null,121,{"$f":"COUNTIF($L$7:$L$500,N9)","v":3},{"$f":"O9/$Q$4","v":3.6585365853658534E-2},{"$f":"IF(P9=0,0,(P9*((LOG(P9))/LOG(2))))","v":-0.17460693306939978},null,null,{"$f":"N9","v":121},{"$f":"COUNTIF(L7:L20,T9)","v":2},{"$f":"U9/(W4-U10)","v":0.16666666666666666},{"$f":"IF(V9=0,0,(V9*((LOG(V9))/LOG(2))))","v":-0.43082708345352599},null,{"$f":"N9","v":121},{"$f":"COUNTIF(L21:L33,Y9)","v":1},{"$f":"Z9/(AB4-Z10)","v":0.1111111111111111},{"$f":"IF(AA9=0,0,(AA9*((LOG(AA9))/LOG(2))))","v":-0.3522138890491458},null,{"$f":"N9","v":121},{"$f":"COUNTIF(L34:L47,AD9)","v":0},{"$f":"AE9/(AG4-AE10)","v":0},{"$f":"IF(AF9=0,0,(AF9*((LOG(AF9))/LOG(2))))","v":0},null,{"$f":"N9","v":121},{"$f":"COUNTIF(L48:L61,AI9)","v":0},{"$f":"AJ9/(AL4-AJ10)","v":0},{"$f":"IF(AK9=0,0,(AK9*((LOG(AK9))/LOG(2))))","v":0},null,{"$f":"N9","v":121},{"$f":"COUNTIF(L62:L74,AN9)","v":0},{"$f":"AO9/(AQ4-AO10)","v":0},{"$f":"IF(AP9=0,0,(AP9*((LOG(AP9))/LOG(2))))","v":0},null,{"$f":"N9","v":121},{"$f":"COUNTIF(L75:L88,AS9)","v":0},{"$f":"AT9/(AV4-AT10)","v":0},{"$f":"IF(AU9=0,0,(AU9*((LOG(AU9))/LOG(2))))","v":0}]
[11,428,11,451,12,473,null,null,null,null,0,111,null,122,{"$f":"COUNTIF($L$7:$L$500,N10)","v":15},{"$f":"O10/$Q$4","v":0.18292682926829268},{"$f":"IF(P10=0,0,(P10*((LOG(P10))/LOG(2))))","v":-0.44829172116028626},null,null,{"$f":"N10","v":122},{"$f":"COUNTIF(L7:L20,T10)","v":2},null,null,null,{"$f":"N10","v":122},{"$f":"COUNTIF(L21:L33,Y10)","v":4},null,null,null,{"$f":"N10","v":122},{"$f":"COUNTIF(L34:L47,AD10)","v":3},null,null,null,{"$f":"N10","v":122},{"$f":"COUNTIF(L48:L61,AI10)","v":3},null,null,null,{"$f":"N10","v":122},{"$f":"COUNTIF(L62:L74,AN10)","v":2},null,null,null,{"$f":"N10","v":122},{"$f":"COUNTIF(L75:L88,AS10)","v":1}]
[11,571,11,579,21,592,null,null,null,null,0,112,null,211,{"$f":"COUNTIF($L$7:$L$500,N11)","v":0},{"$f":"O11/$Q$4","v":0},{"$f":"IF(P11=0,0,(P11*((LOG(P11))/LOG(2))))","v":0},null,null,{"$f":"N11","v":211},{"$f":"COUNTIF(L7:L20,T11)","v":0},{"$f":"U11/(W4-U10)","v":0},{"$f":"IF(V11=0,0,(V11*((LOG(V11))/LOG(2))))","v":0},null,{"$f":"N11","v":211},{"$f":"COUNTIF(L21:L33,Y11)","v":0},{"$f":"Z11/(AB4-Z10)","v":0},{"$f":"IF(AA11=0,0,(AA11*((LOG(AA11))/LOG(2))))","v":0},null,{"$f":"N11","v":211},{"$f":"COUNTIF(L34:L47,AD11)","v":0},{"$f":"AE11/(AG4-AE10)","v":0},{"$f":"IF(AF11=0,0,(AF11*((LOG(AF11))/LOG(2))))","v":0},null,{"$f":"N11","v":211},{"$f":"COUNTIF(L48:L61,AI11)","v":0},{"$f":"AJ11/(AL4-AJ10)","v":0},{"$f":"IF(AK11=0,0,(AK11*((LOG(AK11))/LOG(2))))","v":0},null,{"$f":"N11","v":211},{"$f":"COUNTIF(L62:L74,AN11)","v":0},{"$f":"AO11/(AQ4-AO10)","v":0},{"$f":"IF(AP11=0,0,(AP11*((LOG(AP11))/LOG(2))))","v":0},null,{"$f":"N11","v":211},{"$f":"COUNTIF(L75:L88,AS11)","v":0},{"$f":"AT11/(AV4-AT10)","v":0},{"$f":"IF(AU11=0,0,(AU11*((LOG(AU11))/LOG(2))))","v":0}]
[11,684,11,696,21,708,null,null,null,null,0,112,null,212,{"$f":"COUNTIF($L$7:$L$500,N12)","v":2},{"$f":"O12/$Q$4","v":2.4390243902439025E-2},{"$f":"IF(P12=0,0,(P12*((LOG(P12))/LOG(2))))","v":-0.13067200011263619},null,null,{"$f":"N12","v":212},{"$f":"COUNTIF(L7:L20,T12)","v":1},{"$f":"U12/(W4-U10)","v":8.3333333333333329E-2},{"$f":"IF(V12=0,0,(V12*((LOG(V12))/LOG(2))))","v":-0.29874687506009634},null,{"$f":"N12","v":212},{"$f":"COUNTIF(L21:L33,Y12)","v":0},{"$f":"Z12/(AB4-Z10)","v":0},{"$f":"IF(AA12=0,0,(AA12*((LOG(AA12))/LOG(2))))","v":0},null,{"$f":"N12","v":212},{"$f":"COUNTIF(L34:L47,AD12)","v":0},{"$f":"AE12/(AG4-AE10)","v":0},{"$f":"IF(AF12=0,0,(AF12*((LOG(AF12))/LOG(2))))","v":0},null,{"$f":"N12","v":212},{"$f":"COUNTIF(L48:L61,AI12)","v":1},{"$f":"AJ12/(AL4-AJ10)","v":9.0909090909090912E-2},{"$f":"IF(AK12=0,0,(AK12*((LOG(AK12))/LOG(2))))","v":-0.31449378351248153},null,{"$f":"N12","v":212},{"$f":"COUNTIF(L62:L74,AN12)","v":0},{"$f":"AO12/(AQ4-AO10)","v":0},{"$f":"IF(AP12=0,0,(AP12*((LOG(AP12))/LOG(2))))","v":0},null,{"$f":"N12","v":212},{"$f":"COUNTIF(L75:L88,AS12)","v":0},{"$f":"AT12/(AV4-AT10)","v":0},{"$f":"IF(AU12=0,0,(AU12*((LOG(AU12))/LOG(2))))","v":0}]
[11,809,11,817,21,847,null,null,null,null,0,112,null,221,{"$f":"COUNTIF($L$7:$L$500,N13)","v":1},{"$f":"O13/$Q$4","v":1.2195121951219513E-2},{"$f":"IF(P13=0,0,(P13*((LOG(P13))/LOG(2))))","v":-7.7531122007537603E-2},null,null,{"$f":"N13","v":221},{"$f":"COUNTIF(L7:L20,T13)","v":0},{"$f":"U13/(W4-U10)","v":0},{"$f":"IF(V13=0,0,(V13*((LOG(V13))/LOG(2))))","v":0},null,{"$f":"N13","v":221},{"$f":"COUNTIF(L21:L33,Y13)","v":1},{"$f":"Z13/(AB4-Z10)","v":0.1111111111111111},{"$f":"IF(AA13=0,0,(AA13*((LOG(AA13))/LOG(2))))","v":-0.3522138890491458},null,{"$f":"N13","v":221},{"$f":"COUNTIF(L34:L47,AD13)","v":0},{"$f":"AE13/(AG4-AE10)","v":0},{"$f":"IF(AF13=0,0,(AF13*((LOG(AF13))/LOG(2))))","v":0},null,{"$f":"N13","v":221},{"$f":"COUNTIF(L48:L61,AI13)","v":0},{"$f":"AJ13/(AL4-AJ10)","v":0},{"$f":"IF(AK13=0,0,(AK13*((LOG(AK13))/LOG(2))))","v":0},null,{"$f":"N13","v":221},{"$f":"COUNTIF(L62:L74,AN13)","v":0},{"$f":"AO13/(AQ4-AO10)","v":0},{"$f":"IF(AP13=0,0,(AP13*((LOG(AP13))/LOG(2))))","v":0},null,{"$f":"N13","v":221},{"$f":"COUNTIF(L75:L88,AS13)","v":0},{"$f":"AT13/(AV4-AT10)","v":0},{"$f":"IF(AU13=0,0,(AU13*((LOG(AU13))/LOG(2))))","v":0}]
[11,944,11,950,21,973,null,null,null,null,0,112,null,222,{"$f":"COUNTIF($L$7:$L$500,N14)","v":0},{"$f":"O14/$Q$4","v":0},{"$f":"IF(P14=0,0,(P14*((LOG(P14))/LOG(2))))","v":0},null,null,{"$f":"N14","v":222},{"$f":"COUNTIF(L7:L20,T14)","v":0},{"$f":"U14/(W4-U10)","v":0},{"$f":"IF(V14=0,0,(V14*((LOG(V14))/LOG(2))))","v":0},null,{"$f":"N14","v":222},{"$f":"COUNTIF(L21:L33,Y14)","v":0},{"$f":"Z14/(AB4-Z10)","v":0},{"$f":"IF(AA14=0,0,(AA14*((LOG(AA14))/LOG(2))))","v":0},null,{"$f":"N14","v":222},{"$f":"COUNTIF(L34:L47,AD14)","v":0},{"$f":"AE14/(AG4-AE10)","v":0},{"$f":"IF(AF14=0,0,(AF14*((LOG(AF14))/LOG(2))))","v":0},null,{"$f":"N14","v":222},{"$f":"COUNTIF(L48:L61,AI14)","v":0},{"$f":"AJ14/(AL4-AJ10)","v":0},{"$f":"IF(AK14=0,0,(AK14*((LOG(AK14))/LOG(2))))","v":0},null,{"$f":"N14","v":222},{"$f":"COUNTIF(L62:L74,AN14)","v":0},{"$f":"AO14/(AQ4-AO10)","v":0},{"$f":"IF(AP14=0,0,(AP14*((LOG(AP14))/LOG(2))))","v":0},null,{"$f":"N14","v":222},{"$f":"COUNTIF(L75:L88,AS14)","v":0},{"$f":"AT14/(AV4-AT10)","v":0},{"$f":"IF(AU14=0,0,(AU14*((LOG(AU14))/LOG(2))))","v":0}]
[11,1084,22,1098,14,1117,null,null,null,null,0,121,null,null,null,{"$f":"SUM(P7:P14)","v":1},{"$f":"-SUM(Q7:Q14)","v":1.839575954494429},null,null,null,null,{"$f":"SUM(V7:V14)","v":1},{"$f":"-SUM(W7:W14)","v":1.7295739585136223},null,null,null,{"$f":"SUM(AA7:AA14)","v":1},{"$f":"-SUM(AB7:AB14)","v":0.98642672873084236},null,null,null,{"$f":"SUM(AF7:AF14)","v":1},{"$f":"-SUM(AG7:AG14)","v":0.84535093662243643},null,null,null,{"$f":"SUM(AK7:AK14)","v":1},{"$f":"-SUM(AL7:AL14)","v":1.3221793455166664},null,null,null,{"$f":"SUM(AP7:AP14)","v":1},{"$f":"-SUM(AQ7:AQ14)","v":0.94566030460063999},null,null,null,{"$f":"SUM(AU7:AU14)","v":1},{"$f":"-SUM(AV7:AV14)","v":0.99572745208492552}]
[11,1214,11,1222,21,1233,null,null,null,null,0,112,null,null,null,"U=",{"$f":"Q15/(LOG(Q4)/LOG(2))","v":0.28935287562857104},null,null,null,null,"U1=",{"$f":"W15/(LOG(W4)/LOG(2))","v":0.45427179601604123},null,null,null,"U2=",{"$f":"AB15/(LOG(AB4)/LOG(2))","v":0.26657013865000123},null,null,null,"U3=",{"$f":"AG15/(LOG(AG4)/LOG(2))","v":0.22203103044713901},null,null,null,"U4=",{"$f":"AL15/(LOG(AL4)/LOG(2))","v":0.34726979033573335},null,null,null,"U5=",{"$f":"AQ15/(LOG(AQ4)/LOG(2))","v":0.25555349543045397},null,null,null,"U6=",{"$f":"AV15/(LOG(AV4)/LOG(2))","v":0.26152735231387514}]
[11,1328,11,1335,21,1348,null,null,null,null,0,112]
[11,1454,22,1466,23,1485,null,null,null,null,0,122]
[11,1583,11,1595,12,1596,null,null,null,null,0,111,null,"Total Target Seq"]
[11,1695,22,1707,23,1718,null,null,null,null,0,122,null,{"$f":"COUNTIF(L7:L88,G3)","v":15},null,14,13,14,14,13,14]
[11,1814,22,1855,23,1866,null,null,null,null,0,122,null,null,null,"% of reinforcement given in 6 equal intervals based on number of trials "]
[11,1964,11,1971,21,1993,null,null,null,null,0,112,null,null,null,"%_1","%_2","%_3","%_4","%_5","%_6"]
[11,2087,11,2096,21,2107,null,null,null,null,0,112,null,null,"target sequence",{"$f":"$G$3","v":122},{"$f":"$G$3","v":122},{"$f":"$G$3","v":122},{"$f":"$G$3","v":122},{"$f":"$G$3","v":122},{"$f":"$G$3","v":122}]
[22,2217,24,2228,14,2262,null,null,null,null,0,221,null,null,"total reinforcement",{"$f":"U10","v":2},{"$f":"Z10","v":4},{"$f":"AE10","v":3},{"$f":"AJ10","v":3},{"$f":"AO10","v":2},{"$f":"AT10","v":1}]
[11,2356,22,2370,23,2381,null,null,null,null,0,122,null,null,"% target"]
[11,2481,11,2488,21,2501,null,null,null,null,0,112,null,null,"CCRF"]
[11,2599,11,2607,21,2618,null,null,null,null,0,112,null,null,"% CCRf"]
[11,2714,11,2734,21,2760,null,null,null,null,0,112,null,null,"average response rate",{"$f":"F20/P20","v":122.71428571428571},{"$f":"(F33-F20)/Q20","v":132.84615384615384},{"$f":"(F47-F33)/R20","v":123.57142857142857},{"$f":"(F61-F47)/S20","v":123.5},{"$f":"(F74-F61)/T20","v":122.15384615384616},{"$f":"(F88-F74)/U20","v":124.71428571428571}]
[11,2861,11,2868,21,2906,null,null,null,null,0,112]
[11,3009,22,3022,14,3042,null,null,null,null,0,121]
[11,3150,22,3161,23,3170,null,null,null,null,0,122]
[11,3289,22,3303,23,3324,null,null,null,null,0,122]
[11,3425,11,3433,21,3445,null,null,null,null,0,112]
[11,3540,11,3548,21,3561,null,null,null,null,0,112]
[11,3662,22,3696,23,3706,null,null,null,null,0,122]
[11,3803,11,3811,21,3822,null,null,null,null,0,112]
[11,3926,11,3933,21,3958,null,null,null,null,0,112]
[11,4052,11,4061,21,4081,null,null,null,null,0,112]
[11,4174,11,4184,21,4209,null,null,null,null,0,112]
[11,4312,22,4331,23,4350,null,null,null,null,0,122]
[11,4458,11,4466,21,4478,null,null,null,null,0,112]
[11,4568,11,4576,12,4584,null,null,null,null,0,111]
[11,4697,22,4709,23,4716,null,null,null,null,0,122]
[11,4816,11,4823,21,4834,null,null,null,null,0,112]
[11,4928,11,4935,12,4940,null,null,null,null,0,111]
[11,5039,11,5046,21,5055,null,null,null,null,0,112]
[11,5153,11,5160,12,5175,null,null,null,null,0,111]
[11,5273,11,5280,12,5287,null,null,null,null,0,111]
[11,5398,22,5410,23,5417,null,null,null,null,0,122]
[11,5518,11,5527,12,5539,null,null,null,null,0,111]
[11,5636,11,5659,21,5670,null,null,null,null,0,112]
[11,5762,11,5768,12,5774,null,null,null,null,0,111]
[11,5878,22,5900,23,5955,null,null,null,null,0,122]
[11,6058,11,6069,21,6083,null,null,null,null,0,112]
[22,6179,13,6199,23,6210,null,null,null,null,0,212]
[11,6308,11,6315,21,6327,null,null,null,null,0,112]
[11,6421,11,6427,21,6437,null,null,null,null,0,112]
[11,6542,11,6550,21,6559,null,null,null,null,0,112]
[11,6649,11,6653,12,6660,null,null,null,null,0,111]
[11,6760,11,6768,21,6784,null,null,null,null,0,112]
[11,6885,22,6896,23,6904,null,null,null,null,0,122]
[11,7020,22,7031,23,7038,null,null,null,null,0,122]
[11,7144,22,7155,23,7161,null,null,null,null,0,122]
[11,7270,11,7275,21,7286,null,null,null,null,0,112]
[11,7380,11,7391,21,7403,null,null,null,null,0,112]
[11,7500,11,7513,21,7525,null,null,null,null,0,112]
[11,7633,11,7641,21,7650,null,null,null,null,0,112]
[11,7741,11,7749,12,7754,null,null,null,null,0,111]
[11,7855,11,7861,12,7873,null,null,null,null,0,111]
[11,7972,11,7984,12,7992,null,null,null,null,0,111]
[11,8120,11,8125,21,8138,null,null,null,null,0,112]
[11,8244,11,8251,12,8258,null,null,null,null,0,111]
[11,8354,11,8361,21,8373,null,null,null,null,0,112]
[11,8469,11,8481,21,8492,null,null,null,null,0,112]
[11,8597,11,8605,12,8632,null,null,null,null,0,111]
[11,8730,11,8736,21,8751,null,null,null,null,0,112]
[11,8844,11,8855,12,8862,null,null,null,null,0,111]
[11,8958,11,8965,12,8972,null,null,null,null,0,111]
[11,9072,11,9077,21,9089,null,null,null,null,0,112]
[11,9183,11,9191,12,9196,null,null,null,null,0,111]
[11,9293,11,9303,12,9362,null,null,null,null,0,111]
[11,9461,11,9475,21,9488,null,null,null,null,0,112]
[11,9587,11,9595,12,9620,null,null,null,null,0,111]
[11,9732,11,9741,21,9753,null,null,null,null,0,112]
[11,9849,11,9853,12,9860,null,null,null,null,0,111]
[11,9961,11,9968,21,9980,null,null,null,null,0,112]
[11,10087,22,10097,23,10113,null,null,null,null,0,122]
[11,10218,11,10226,21,10238,null,null,null,null,1,112]

{"sheet":"!M608A20.103","index":17,"n_rows":121,"n_cols":48,"rows_kept":121,"cut":false,"hidden":false,"merged":[[4,39,4,42],[5,39,5,40],[4,44,4,47],[5,44,5,45],[4,24,4,27],[5,24,5,25],[4,29,4,32],[5,29,5,30],[4,34,4,37],[5,34,5,35],[1,1,1,2],[5,13,5,14],[18,13,18,14],[19,13,19,14],[4,19,4,22],[5,19,5,20]]}
["Report for:!M608A20.103"]
["Date:","<date>"]
["Hen:","<hen>",null,null,null,"Correct Sequence",{"$f":"Start!J2","v":122},null,null,null,null,null,null,null,null,"Total Sequences in Data",{"$f":"4994-COUNTBLANK(L7:L5000)","v":115},null,null,null,null,"Total Sequences in Block Data",{"$f":"COUNTA(L7:L25)","v":19},null,null,null,"Total Sequences in Block Data",{"$f":"COUNTA(L26:L44)","v":19},null,null,null,"Total Sequences in Block Data",{"$f":"COUNTA(L45:L64)","v":20},null,null,null,"Total Sequences in Block Data",{"$f":"COUNTA(L65:L83)","v":19},null,null,null,"Total Sequences in Block Data",{"$f":"COUNTA(L84:L102)","v":19},null,null,null,"Total Sequences in Block Data",{"$f":"COUNTA(L103:L121)","v":19}]
[null,null,null,null,null,null,null,null,null,null,null,null,null,null,null,"Total Sequences in Summary",{"$f":"SUM(O7:O14)","v":115},null,null,null,null,"Total Sequences in Block Summary",{"$f":"SUM(U7:U14)","v":19},null,null,null,"Total Sequences in Block Summary",{"$f":"SUM(Z7:Z14)","v":19},null,null,null,"Total Sequences in Block Summary",{"$f":"SUM(AE7:AE14)","v":20},null,null,null,"Total Sequences in Block Summary",{"$f":"SUM(AJ7:AJ14)","v":19},null,null,null,"Total Sequences in Block Summary",{"$f":"SUM(AO7:AO14)","v":19},null,null,null,"Total Sequences in Block Summary",{"$f":"SUM(AT7:AT14)","v":19}]
[null,null,null,null,null,null,null,null,null,null,null,null,null,null,null,null,null,null,null,"Block 1",null,null,null,null,"Block 2",null,null,null,null,"Block 3",null,null,null,null,"Block 4",null,null,null,null,"Block 5",null,null,null,null,"Block 6"]
["Sequence\nComponent\n1","Time\n1","Sequence\nComponent\n2","Time\n2","Sequence\nComponent\n3","Time\n3","Sequence\nComponent\n4","Time\n4","Sequence\nComponent\n5","Time\n5","Correct?\n0=No 1=Yes","Sequence",null,"Frequency",null,"Relative Frequency","Variability",null,null,"Frequency",null,"Relative Frequency","Variability",null,"Frequency",null,"Relative Frequency","Variability",null,"Frequency",null,"Relative Frequency","Variability",null,"Frequency",null,"Relative Frequency","Variability",null,"Frequency",null,"Relative Frequency","Variability",null,"Frequency",null,"Relative Frequency","Variability"]
[11,36,11,208,21,220,null,null,null,null,0,112,null,111,{"$f":"COUNTIF($L$7:$L$500,N7)","v":48},{"$f":"O7/$Q$4","v":0.41739130434782606},{"$f":"IF(P7=0,0,(P7*((LOG(P7))/LOG(2))))","v":-0.52613323835403913},null,null,{"$f":"N7","v":111},{"$f":"COUNTIF(L7:L25,T7)","v":10},{"$f":"U7/(W4-U10)","v":0.52631578947368418},{"$f":"IF(V7=0,0,(V7*((LOG(V7))/LOG(2))))","v":-0.4873681150295911},null,{"$f":"N7","v":111},{"$f":"COUNTIF(L26:L44,Y7)","v":15},{"$f":"Z7/(AB4-Z10)","v":0.83333333333333337},{"$f":"IF(AA7=0,0,(AA7*((LOG(AA7))/LOG(2))))","v":-0.21919533819482812},null,{"$f":"N7","v":111},{"$f":"COUNTIF(L45:L64,AD7)","v":7},{"$f":"AE7/(AG4-AE10)","v":0.41176470588235292},{"$f":"IF(AF7=0,0,(AF7*((LOG(AF7))/LOG(2))))","v":-0.52710326084406744},null,{"$f":"N7","v":111},{"$f":"COUNTIF(L65:L83,AI7)","v":6},{"$f":"AJ7/(AL4-AJ10)","v":0.42857142857142855},{"$f":"IF(AK7=0,0,(AK7*((LOG(AK7))/LOG(2))))","v":-0.52388246628704915},null,{"$f":"N7","v":111},{"$f":"COUNTIF(L84:L102,AN7)","v":6},{"$f":"AO7/(AQ4-AO10)","v":0.46153846153846156},{"$f":"IF(AP7=0,0,(AP7*((LOG(AP7))/LOG(2))))","v":-0.51483563880920125},null,{"$f":"N7","v":111},{"$f":"COUNTIF(L103:L121,AS7)","v":4},{"$f":"AT7/(AV4-AT10)","v":0.2857142857142857},{"$f":"IF(AU7=0,0,(AU7*((LOG(AU7))/LOG(2))))","v":-0.51638712058788683}]
[11,372,22,408,14,692,null,null,null,null,0,121,null,112,{"$f":"COUNTIF($L$7:$L$500,N8)","v":36},{"$f":"O8/$Q$4","v":0.31304347826086959},{"$f":"IF(P8=0,0,(P8*((LOG(P8))/LOG(2))))","v":-0.52452471114847188},null,null,{"$f":"N8","v":112},{"$f":"COUNTIF(L7:L25,T8)","v":6},{"$f":"U8/(W4-U10)","v":0.31578947368421051},{"$f":"IF(V8=0,0,(V8*((LOG(V8))/LOG(2))))","v":-0.52514684612287243},null,{"$f":"N8","v":112},{"$f":"COUNTIF(L26:L44,Y8)","v":1},{"$f":"Z8/(AB4-Z10)","v":5.5555555555555552E-2},{"$f":"IF(AA8=0,0,(AA8*((LOG(AA8))/LOG(2))))","v":-0.23166250008012845},null,{"$f":"N8","v":112},{"$f":"COUNTIF(L45:L64,AD8)","v":7},{"$f":"AE8/(AG4-AE10)","v":0.41176470588235292},{"$f":"IF(AF8=0,0,(AF8*((LOG(AF8))/LOG(2))))","v":-0.52710326084406744},null,{"$f":"N8","v":112},{"$f":"COUNTIF(L65:L83,AI8)","v":6},{"$f":"AJ8/(AL4-AJ10)","v":0.42857142857142855},{"$f":"IF(AK8=0,0,(AK8*((LOG(AK8))/LOG(2))))","v":-0.52388246628704915},null,{"$f":"N8","v":112},{"$f":"COUNTIF(L84:L102,AN8)","v":7},{"$f":"AO8/(AQ4-AO10)","v":0.53846153846153844},{"$f":"IF(AP8=0,0,(AP8*((LOG(AP8))/LOG(2))))","v":-0.48089181327572433},null,{"$f":"N8","v":112},{"$f":"COUNTIF(L103:L121,AS8)","v":9},{"$f":"AT8/(AV4-AT10)","v":0.6428571428571429},{"$f":"IF(AU8=0,0,(AU8*((LOG(AU8))/LOG(2))))","v":-0.40977637753840174}]
[22,888,24,900,14,924,null,null,null,null,0,221,null,121,{"$f":"COUNTIF($L$7:$L$500,N9)","v":10},{"$f":"O9/$Q$4","v":8.6956521739130432E-2},{"$f":"IF(P9=0,0,(P9*((LOG(P9))/LOG(2))))","v":-0.30639669183104457},null,null,{"$f":"N9","v":121},{"$f":"COUNTIF(L7:L25,T9)","v":2},{"$f":"U9/(W4-U10)","v":0.10526315789473684},{"$f":"IF(V9=0,0,(V9*((LOG(V9))/LOG(2))))","v":-0.34188710667827216},null,{"$f":"N9","v":121},{"$f":"COUNTIF(L26:L44,Y9)","v":2},{"$f":"Z9/(AB4-Z10)","v":0.1111111111111111},{"$f":"IF(AA9=0,0,(AA9*((LOG(AA9))/LOG(2))))","v":-0.3522138890491458},null,{"$f":"N9","v":121},{"$f":"COUNTIF(L45:L64,AD9)","v":3},{"$f":"AE9/(AG4-AE10)","v":0.17647058823529413},{"$f":"IF(AF9=0,0,(AF9*((LOG(AF9))/LOG(2))))","v":-0.44161770715220888},null,{"$f":"N9","v":121},{"$f":"COUNTIF(L65:L83,AI9)","v":2},{"$f":"AJ9/(AL4-AJ10)","v":0.14285714285714285},{"$f":"IF(AK9=0,0,(AK9*((LOG(AK9))/LOG(2))))","v":-0.40105070315108626},null,{"$f":"N9","v":121},{"$f":"COUNTIF(L84:L102,AN9)","v":0},{"$f":"AO9/(AQ4-AO10)","v":0},{"$f":"IF(AP9=0,0,(AP9*((LOG(AP9))/LOG(2))))","v":0},null,{"$f":"N9","v":121},{"$f":"COUNTIF(L103:L121,AS9)","v":1},{"$f":"AT9/(AV4-AT10)","v":7.1428571428571425E-2},{"$f":"IF(AU9=0,0,(AU9*((LOG(AU9))/LOG(2))))","v":-0.27195392300411453}]
[11,1031,11,1033,12,1063,null,null,null,null,0,111,null,122,{"$f":"COUNTIF($L$7:$L$500,N10)","v":20},{"$f":"O10/$Q$4","v":0.17391304347826086},{"$f":"IF(P10=0,0,(P10*((LOG(P10))/LOG(2))))","v":-0.43888034018382832},null,null,{"$f":"N10","v":122},{"$f":"COUNTIF(L7:L25,T10)","v":0},null,null,null,{"$f":"N10","v":122},{"$f":"COUNTIF(L26:L44,Y10)","v":1},null,null,null,{"$f":"N10","v":122},{"$f":"COUNTIF(L45:L64,AD10)","v":3},null,null,null,{"$f":"N10","v":122},{"$f":"COUNTIF(L65:L83,AI10)","v":5},null,null,null,{"$f":"N10","v":122},{"$f":"COUNTIF(L84:L102,AN10)","v":6},null,null,null,{"$f":"N10","v":122},{"$f":"COUNTIF(L103:L121,AS10)","v":5}]
[11,1164,22,1188,14,1223,null,null,null,null,0,121,null,211,{"$f":"COUNTIF($L$7:$L$500,N11)","v":0},{"$f":"O11/$Q$4","v":0},{"$f":"IF(P11=0,0,(P11*((LOG(P11))/LOG(2))))","v":0},null,null,{"$f":"N11","v":211},{"$f":"COUNTIF(L7:L25,T11)","v":0},{"$f":"U11/(W4-U10)","v":0},{"$f":"IF(V11=0,0,(V11*((LOG(V11))/LOG(2))))","v":0},null,{"$f":"N11","v":211},{"$f":"COUNTIF(L26:L44,Y11)","v":0},{"$f":"Z11/(AB4-Z10)","v":0},{"$f":"IF(AA11=0,0,(AA11*((LOG(AA11))/LOG(2))))","v":0},null,{"$f":"N11","v":211},{"$f":"COUNTIF(L45:L64,AD11)","v":0},{"$f":"AE11/(AG4-AE10)","v":0},{"$f":"IF(AF11=0,0,(AF11*((LOG(AF11))/LOG(2))))","v":0},null,{"$f":"N11","v":211},{"$f":"COUNTIF(L65:L83,AI11)","v":0},{"$f":"AJ11/(AL4-AJ10)","v":0},{"$f":"IF(AK11=0,0,(AK11*((LOG(AK11))/LOG(2))))","v":0},null,{"$f":"N11","v":211},{"$f":"COUNTIF(L84:L102,AN11)","v":0},{"$f":"AO11/(AQ4-AO10)","v":0},{"$f":"IF(AP11=0,0,(AP11*((LOG(AP11))/LOG(2))))","v":0},null,{"$f":"N11","v":211},{"$f":"COUNTIF(L103:L121,AS11)","v":0},{"$f":"AT11/(AV4-AT10)","v":0},{"$f":"IF(AU11=0,0,(AU11*((LOG(AU11))/LOG(2))))","v":0}]
[11,1320,11,1328,21,1340,null,null,null,null,0,112,null,212,{"$f":"COUNTIF($L$7:$L$500,N12)","v":0},{"$f":"O12/$Q$4","v":0},{"$f":"IF(P12=0,0,(P12*((LOG(P12))/LOG(2))))","v":0},null,null,{"$f":"N12","v":212},{"$f":"COUNTIF(L7:L25,T12)","v":0},{"$f":"U12/(W4-U10)","v":0},{"$f":"IF(V12=0,0,(V12*((LOG(V12))/LOG(2))))","v":0},null,{"$f":"N12","v":212},{"$f":"COUNTIF(L26:L44,Y12)","v":0},{"$f":"Z12/(AB4-Z10)","v":0},{"$f":"IF(AA12=0,0,(AA12*((LOG(AA12))/LOG(2))))","v":0},null,{"$f":"N12","v":212},{"$f":"COUNTIF(L45:L64,AD12)","v":0},{"$f":"AE12/(AG4-AE10)","v":0},{"$f":"IF(AF12=0,0,(AF12*((LOG(AF12))/LOG(2))))","v":0},null,{"$f":"N12","v":212},{"$f":"COUNTIF(L65:L83,AI12)","v":0},{"$f":"AJ12/(AL4-AJ10)","v":0},{"$f":"IF(AK12=0,0,(AK12*((LOG(AK12))/LOG(2))))","v":0},null,{"$f":"N12","v":212},{"$f":"COUNTIF(L84:L102,AN12)","v":0},{"$f":"AO12/(AQ4-AO10)","v":0},{"$f":"IF(AP12=0,0,(AP12*((LOG(AP12))/LOG(2))))","v":0},null,{"$f":"N12","v":212},{"$f":"COUNTIF(L103:L121,AS12)","v":0},{"$f":"AT12/(AV4-AT10)","v":0},{"$f":"IF(AU12=0,0,(AU12*((LOG(AU12))/LOG(2))))","v":0}]
[11,1437,11,1448,21,1461,null,null,null,null,0,112,null,221,{"$f":"COUNTIF($L$7:$L$500,N13)","v":1},{"$f":"O13/$Q$4","v":8.6956521739130436E-3},{"$f":"IF(P13=0,0,(P13*((LOG(P13))/LOG(2))))","v":-5.9526000442994574E-2},null,null,{"$f":"N13","v":221},{"$f":"COUNTIF(L7:L25,T13)","v":1},{"$f":"U13/(W4-U10)","v":5.2631578947368418E-2},{"$f":"IF(V13=0,0,(V13*((LOG(V13))/LOG(2))))","v":-0.22357513228650452},null,{"$f":"N13","v":221},{"$f":"COUNTIF(L26:L44,Y13)","v":0},{"$f":"Z13/(AB4-Z10)","v":0},{"$f":"IF(AA13=0,0,(AA13*((LOG(AA13))/LOG(2))))","v":0},null,{"$f":"N13","v":221},{"$f":"COUNTIF(L45:L64,AD13)","v":0},{"$f":"AE13/(AG4-AE10)","v":0},{"$f":"IF(AF13=0,0,(AF13*((LOG(AF13))/LOG(2))))","v":0},null,{"$f":"N13","v":221},{"$f":"COUNTIF(L65:L83,AI13)","v":0},{"$f":"AJ13/(AL4-AJ10)","v":0},{"$f":"IF(AK13=0,0,(AK13*((LOG(AK13))/LOG(2))))","v":0},null,{"$f":"N13","v":221},{"$f":"COUNTIF(L84:L102,AN13)","v":0},{"$f":"AO13/(AQ4-AO10)","v":0},{"$f":"IF(AP13=0,0,(AP13*((LOG(AP13))/LOG(2))))","v":0},null,{"$f":"N13","v":221},{"$f":"COUNTIF(L103:L121,AS13)","v":0},{"$f":"AT13/(AV4-AT10)","v":0},{"$f":"IF(AU13=0,0,(AU13*((LOG(AU13))/LOG(2))))","v":0}]
[11,1560,11,1572,21,1587,null,null,null,null,0,112,null,222,{"$f":"COUNTIF($L$7:$L$500,N14)","v":0},{"$f":"O14/$Q$4","v":0},{"$f":"IF(P14=0,0,(P14*((LOG(P14))/LOG(2))))","v":0},null,null,{"$f":"N14","v":222},{"$f":"COUNTIF(L7:L25,T14)","v":0},{"$f":"U14/(W4-U10)","v":0},{"$f":"IF(V14=0,0,(V14*((LOG(V14))/LOG(2))))","v":0},null,{"$f":"N14","v":222},{"$f":"COUNTIF(L26:L44,Y14)","v":0},{"$f":"Z14/(AB4-Z10)","v":0},{"$f":"IF(AA14=0,0,(AA14*((LOG(AA14))/LOG(2))))","v":0},null,{"$f":"N14","v":222},{"$f":"COUNTIF(L45:L64,AD14)","v":0},{"$f":"AE14/(AG4-AE10)","v":0},{"$f":"IF(AF14=0,0,(AF14*((LOG(AF14))/LOG(2))))","v":0},null,{"$f":"N14","v":222},{"$f":"COUNTIF(L65:L83,AI14)","v":0},{"$f":"AJ14/(AL4-AJ10)","v":0},{"$f":"IF(AK14=0,0,(AK14*((LOG(AK14))/LOG(2))))","v":0},null,{"$f":"N14","v":222},{"$f":"COUNTIF(L84:L102,AN14)","v":0},{"$f":"AO14/(AQ4-AO10)","v":0},{"$f":"IF(AP14=0,0,(AP14*((LOG(AP14))/LOG(2))))","v":0},null,{"$f":"N14","v":222},{"$f":"COUNTIF(L103:L121,AS14)","v":0},{"$f":"AT14/(AV4-AT10)","v":0},{"$f":"IF(AU14=0,0,(AU14*((LOG(AU14))/LOG(2))))","v":0}]
[11,1702,11,1769,12,1782,null,null,null,null,0,111,null,null,null,{"$f":"SUM(P7:P14)","v":0.99999999999999989},{"$f":"-SUM(Q7:Q14)","v":1.8554609819603785},null,null,null,null,{"$f":"SUM(V7:V14)","v":1},{"$f":"-SUM(W7:W14)","v":1.5779772001172401},null,null,null,{"$f":"SUM(AA7:AA14)","v":1},{"$f":"-SUM(AB7:AB14)","v":0.80307172732410237},null,null,null,{"$f":"SUM(AF7:AF14)","v":1},{"$f":"-SUM(AG7:AG14)","v":1.4958242288403438},null,null,null,{"$f":"SUM(AK7:AK14)","v":1},{"$f":"-SUM(AL7:AL14)","v":1.4488156357251847},null,null,null,{"$f":"SUM(AP7:AP14)","v":1},{"$f":"-SUM(AQ7:AQ14)","v":0.99572745208492552},null,null,null,{"$f":"SUM(AU7:AU14)","v":1},{"$f":"-SUM(AV7:AV14)","v":1.1981174211304031}]
[11,1911,11,2133,12,2153,null,null,null,null,0,111,null,null,null,"U=",{"$f":"Q15/(LOG(Q4)/LOG(2))","v":0.27104867119110143},null,null,null,null,"U1=",{"$f":"W15/(LOG(W4)/LOG(2))","v":0.37146989799692975},null,null,null,"U2=",{"$f":"AB15/(LOG(AB4)/LOG(2))","v":0.18905024268483614},null,null,null,"U3=",{"$f":"AG15/(LOG(AG4)/LOG(2))","v":0.34610113727015346},null,null,null,"U4=",{"$f":"AL15/(LOG(AL4)/LOG(2))","v":0.34106411447466095},null,null,null,"U5=",{"$f":"AQ15/(LOG(AQ4)/LOG(2))","v":0.23440311750464368},null,null,null,"U6=",{"$f":"AV15/(LOG(AV4)/LOG(2))","v":0.28204752019394708}]
[11,2253,11,2265,21,2277,null,null,null,null,0,112]
[11,2378,11,2389,12,2421,null,null,null,null,0,111]
[11,2544,11,2577,12,2625,null,null,null,null,0,111,null,"Total Target Seq"]
[11,2722,11,2723,12,2729,null,null,null,null,0,111,null,{"$f":"COUNTIF(L7:L121,G3)","v":20},null,19,19,20,19,19,19]
[11,2839,11,2888,12,2985,null,null,null,null,0,111,null,null,null,"% of reinforcement given in 6 equal intervals based on number of trials "]
[11,3095,11,3150,12,3235,null,null,null,null,0,111,null,null,null,"%_1","%_2","%_3","%_4","%_5","%_6"]
[11,3345,11,3348,12,3365,null,null,null,null,0,111,null,null,"target sequence",{"$f":"$G$3","v":122},{"$f":"$G$3","v":122},{"$f":"$G$3","v":122},{"$f":"$G$3","v":122},{"$f":"$G$3","v":122},{"$f":"$G$3","v":122}]
[11,3463,11,3478,21,3490,null,null,null,null,0,112,null,null,"total reinforcement",{"$f":"U10","v":0},{"$f":"Z10","v":1},{"$f":"AE10","v":3},{"$f":"AJ10","v":5},{"$f":"AO10","v":6},{"$f":"AT10","v":5}]
[11,3605,11,3624,12,3676,null,null,null,null,0,111,null,null,"% target"]
[11,3796,11,3978,12,4014,null,null,null,null,0,111,null,null,"CCRF"]
[11,4112,11,4132,12,4143,null,null,null,null,0,111,null,null,"% CCRf"]
[11,4236,11,4258,12,4261,null,null,null,null,0,111,null,null,"average response rate",{"$f":"F25/P20","v":193.47368421052633},{"$f":"(F44-F25)/Q20","v":206.26315789473685},{"$f":"(F64-F44)/R20","v":167.6},{"$f":"(F83-F64)/S20","v":158.84210526315789},{"$f":"(F102-F83)/T20","v":229.15789473684211},{"$f":"(F121-F102)/U20","v":161.21052631578948}]
[11,4409,11,4449,12,4482,null,null,null,null,0,111]
[11,4580,11,4593,12,4630,null,null,null,null,0,111]
[11,4728,11,4745,12,4771,null,null,null,null,0,111]
[11,4869,11,4876,12,4889,null,null,null,null,0,111]
[11,5009,22,5038,14,5061,null,null,null,null,0,121]
[11,5159,11,5166,12,5181,null,null,null,null,0,111]
[11,5282,11,5294,12,5298,null,null,null,null,0,111]
[11,5400,11,5412,12,5414,null,null,null,null,0,111]
[11,5537,11,5576,12,5634,null,null,null,null,0,111]
[11,5739,11,5750,12,5761,null,null,null,null,0,111]
[11,5863,11,5887,12,5890,null,null,null,null,0,111]
[11,6031,11,6449,12,6451,null,null,null,null,0,111]
[11,6556,11,6596,12,6721,null,null,null,null,0,111]
[11,6865,11,7171,21,7189,null,null,null,null,0,112]
[11,7299,22,7311,23,7337,null,null,null,null,0,122]
[11,7451,22,7501,14,7595,null,null,null,null,0,121]
[11,7801,22,7845,14,7903,null,null,null,null,0,121]
[11,8021,11,8033,21,8069,null,null,null,null,0,112]
[11,8187,11,8222,21,8240,null,null,null,null,0,112]
[11,8350,22,8371,23,8378,null,null,null,null,0,122]
[11,8485,22,8503,14,8525,null,null,null,null,0,121]
[11,8628,11,8690,21,8709,null,null,null,null,0,112]
[11,8816,11,8864,12,8928,null,null,null,null,0,111]
[11,9047,11,9049,21,9067,null,null,null,null,0,112]
[11,9174,22,9200,23,9207,null,null,null,null,0,122]
[11,9314,11,9327,12,9373,null,null,null,null,0,111]
[11,9493,22,9517,23,9540,null,null,null,null,0,122]
[11,9655,11,9699,12,9748,null,null,null,null,0,111]
[11,9850,11,9871,12,9918,null,null,null,null,0,111]
[11,10026,11,10069,21,10086,null,null,null,null,0,112]
[11,10180,11,10193,21,10217,null,null,null,null,0,112]
[11,10320,11,10330,12,10342,null,null,null,null,0,111]
[11,10439,11,10450,12,10490,null,null,null,null,0,111]
[11,10621,22,10634,14,10656,null,null,null,null,0,121]
[11,10762,11,10773,12,10797,null,null,null,null,0,111]
[11,10916,11,10929,21,10947,null,null,null,null,0,112]
[11,11060,22,11086,23,11092,null,null,null,null,0,122]
[11,11188,11,11199,21,11212,null,null,null,null,0,112]
[11,11317,11,11331,21,11350,null,null,null,null,0,112]
[11,11456,11,11473,21,11487,null,null,null,null,0,112]
[11,11597,11,11609,21,11625,null,null,null,null,0,112]
[11,11748,22,11775,14,11829,null,null,null,null,0,121]
[11,11931,11,11943,12,11952,null,null,null,null,0,111]
[11,12086,22,12106,23,12113,null,null,null,null,0,122]
[11,12245,22,12283,23,12299,null,null,null,null,0,122]
[11,12409,11,12429,12,12432,null,null,null,null,0,111]
[11,12554,11,12558,21,12577,null,null,null,null,0,112]
[11,12697,22,12714,14,12753,null,null,null,null,0,121]
[11,12862,22,12883,23,12892,null,null,null,null,0,122]
[11,12996,11,13006,12,13066,null,null,null,null,0,111]
[11,13164,11,13183,21,13201,null,null,null,null,0,112]
[11,13304,11,13306,12,13372,null,null,null,null,0,111]
[11,13519,11,13574,12,13617,null,null,null,null,0,111]
[11,13759,22,13804,23,13810,null,null,null,null,0,122]
[11,13937,11,13957,12,13965,null,null,null,null,0,111]
[11,14114,11,14125,21,14143,null,null,null,null,0,112]
[11,14233,11,14241,21,14267,null,null,null,null,0,112]
[11,14376,22,14391,23,14397,null,null,null,null,0,122]
[11,14514,11,14535,21,14548,null,null,null,null,0,112]
[11,14660,11,14669,21,14690,null,null,null,null,0,112]
[11,14786,11,14795,12,14802,null,null,null,null,0,111]
[11,14934,11,14946,12,14957,null,null,null,null,0,111]
[11,15061,11,15072,21,15095,null,null,null,null,0,112]
[11,15224,11,15257,12,15261,null,null,null,null,0,111]
[11,15360,11,15363,12,15380,null,null,null,null,0,111]
[11,15504,22,15530,23,15541,null,null,null,null,0,122]
[11,15704,22,15714,23,15735,null,null,null,null,0,122]
[11,15891,22,15911,23,15976,null,null,null,null,0,122]
[11,16116,11,16127,21,16146,null,null,null,null,0,112]
[11,16236,11,16249,12,16259,null,null,null,null,0,111]
[11,17829,11,17890,12,17939,null,null,null,null,0,111]
[11,18040,11,18059,21,18083,null,null,null,null,0,112]
[11,18183,22,18194,23,18201,null,null,null,null,0,122]
[11,18300,22,18312,23,18319,null,null,null,null,0,122]
[11,18420,22,18448,23,18455,null,null,null,null,0,122]
[11,18998,11,19011,21,19032,null,null,null,null,0,112]
[11,19125,22,19137,14,19176,null,null,null,null,0,121]
[11,19275,11,19314,12,19317,null,null,null,null,0,111]
[11,19415,11,19422,12,19433,null,null,null,null,0,111]
[11,19537,11,19538,12,19545,null,null,null,null,0,111]
[11,19657,11,19669,21,19705,null,null,null,null,0,112]
[11,19800,11,19819,21,19839,null,null,null,null,0,112]
[11,19949,11,19965,21,19988,null,null,null,null,0,112]
[11,20086,11,20097,21,20110,null,null,null,null,0,112]
[11,20219,11,20234,21,20255,null,null,null,null,0,112]
[11,20361,11,20378,21,20389,null,null,null,null,0,112]
[11,20519,11,20541,12,20550,null,null,null,null,0,111]
[11,20672,22,20688,23,20702,null,null,null,null,0,122]
[11,20823,22,20835,23,20842,null,null,null,null,0,122]
[11,20977,22,20991,23,20997,null,null,null,null,0,122]
[11,21105,11,21107,21,21119,null,null,null,null,0,112]
[11,21215,11,21234,21,21254,null,null,null,null,0,112]
[11,21365,22,21376,23,21382,null,null,null,null,0,122]

{"sheet":"!M609A20.103","index":18,"n_rows":84,"n_cols":48,"rows_kept":84,"cut":false,"hidden":false,"merged":[[4,39,4,42],[5,39,5,40],[4,44,4,47],[5,44,5,45],[4,24,4,27],[5,24,5,25],[4,29,4,32],[5,29,5,30],[4,34,4,37],[5,34,5,35],[1,1,1,2],[5,13,5,14],[18,13,18,14],[19,13,19,14],[4,19,4,22],[5,19,5,20]]}
["Report for:!M609A20.103"]
["Date:","<date>"]
["Hen:","<hen>",null,null,null,"Correct Sequence",{"$f":"Start!J2","v":122},null,null,null,null,null,null,null,null,"Total Sequences in Data",{"$f":"4994-COUNTBLANK(L7:L5000)","v":78},null,null,null,null,"Total Sequences in Block Data",{"$f":"COUNTA(L7:L19)","v":13},null,null,null,"Total Sequences in Block Data",{"$f":"COUNTA(L20:L32)","v":13},null,null,null,"Total Sequences in Block Data",{"$f":"COUNTA(L33:L45)","v":13},null,null,null,"Total Sequences in Block Data",{"$f":"COUNTA(L46:L58)","v":13},null,null,null,"Total Sequences in Block Data",{"$f":"COUNTA(L59:L71)","v":13},null,null,null,"Total Sequences in Block Data",{"$f":"COUNTA(L72:L84)","v":13}]
[null,null,null,null,null,null,null,null,null,null,null,null,null,null,null,"Total Sequences in Summary",{"$f":"SUM(O7:O14)","v":78},null,null,null,null,"Total Sequences in Block Summary",{"$f":"SUM(U7:U14)","v":13},null,null,null,"Total Sequences in Block Summary",{"$f":"SUM(Z7:Z14)","v":13},null,null,null,"Total Sequences in Block Summary",{"$f":"SUM(AE7:AE14)","v":13},null,null,null,"Total Sequences in Block Summary",{"$f":"SUM(AJ7:AJ14)","v":13},null,null,null,"Total Sequences in Block Summary",{"$f":"SUM(AO7:AO14)","v":13},null,null,null,"Total Sequences in Block Summary",{"$f":"SUM(AT7:AT14)","v":13}]
[null,null,null,null,null,null,null,null,null,null,null,null,null,null,null,null,null,null,null,"Block 1",null,null,null,null,"Block 2",null,null,null,null,"Block 3",null,null,null,null,"Block 4",null,null,null,null,"Block 5",null,null,null,null,"Block 6"]
["Sequence\nComponent\n1","Time\n1","Sequence\nComponent\n2","Time\n2","Sequence\nComponent\n3","Time\n3","Sequence\nComponent\n4","Time\n4","Sequence\nComponent\n5","Time\n5","Correct?\n0=No 1=Yes","Sequence",null,"Frequency",null,"Relative Frequency","Variability",null,null,"Frequency",null,"Relative Frequency","Variability",null,"Frequency",null,"Relative Frequency","Variability",null,"Frequency",null,"Relative Frequency","Variability",null,"Frequency",null,"Relative Frequency","Variability",null,"Frequency",null,"Relative Frequency","Variability",null,"Frequency",null,"Relative Frequency","Variability"]
[22,36,24,49,23,64,null,null,null,null,0,222,null,111,{"$f":"COUNTIF($L$7:$L$500,N7)","v":16},{"$f":"O7/$Q$4","v":0.20512820512820512},{"$f":"IF(P7=0,0,(P7*((LOG(P7))/LOG(2))))","v":-0.46880045515123048},null,null,{"$f":"N7","v":111},{"$f":"COUNTIF(L7:L19,T7)","v":0},{"$f":"U7/(W4-U10)","v":0},{"$f":"IF(V7=0,0,(V7*((LOG(V7))/LOG(2))))","v":0},null,{"$f":"N7","v":111},{"$f":"COUNTIF(L20:L32,Y7)","v":1},{"$f":"Z7/(AB4-Z10)","v":9.0909090909090912E-2},{"$f":"IF(AA7=0,0,(AA7*((LOG(AA7))/LOG(2))))","v":-0.31449378351248153},null,{"$f":"N7","v":111},{"$f":"COUNTIF(L33:L45,AD7)","v":5},{"$f":"AE7/(AG4-AE10)","v":0.45454545454545453},{"$f":"IF(AF7=0,0,(AF7*((LOG(AF7))/LOG(2))))","v":-0.51704705624997038},null,{"$f":"N7","v":111},{"$f":"COUNTIF(L46:L58,AI7)","v":3},{"$f":"AJ7/(AL4-AJ10)","v":0.27272727272727271},{"$f":"IF(AK7=0,0,(AK7*((LOG(AK7))/LOG(2))))","v":-0.51121885034076575},null,{"$f":"N7","v":111},{"$f":"COUNTIF(L59:L71,AN7)","v":4},{"$f":"AO7/(AQ4-AO10)","v":0.33333333333333331},{"$f":"IF(AP7=0,0,(AP7*((LOG(AP7))/LOG(2))))","v":-0.52832083357371862},null,{"$f":"N7","v":111},{"$f":"COUNTIF(L72:L84,AS7)","v":3},{"$f":"AT7/(AV4-AT10)","v":0.3},{"$f":"IF(AU7=0,0,(AU7*((LOG(AU7))/LOG(2))))","v":-0.52108967824986185}]
[22,178,13,224,23,234,null,null,null,null,0,212,null,112,{"$f":"COUNTIF($L$7:$L$500,N8)","v":40},{"$f":"O8/$Q$4","v":0.51282051282051277},{"$f":"IF(P8=0,0,(P8*((LOG(P8))/LOG(2))))","v":-0.49408929434609544},null,null,{"$f":"N8","v":112},{"$f":"COUNTIF(L7:L19,T8)","v":3},{"$f":"U8/(W4-U10)","v":0.3},{"$f":"IF(V8=0,0,(V8*((LOG(V8))/LOG(2))))","v":-0.52108967824986185},null,{"$f":"N8","v":112},{"$f":"COUNTIF(L20:L32,Y8)","v":8},{"$f":"Z8/(AB4-Z10)","v":0.72727272727272729},{"$f":"IF(AA8=0,0,(AA8*((LOG(AA8))/LOG(2))))","v":-0.33413208628167068},null,{"$f":"N8","v":112},{"$f":"COUNTIF(L33:L45,AD8)","v":6},{"$f":"AE8/(AG4-AE10)","v":0.54545454545454541},{"$f":"IF(AF8=0,0,(AF8*((LOG(AF8))/LOG(2))))","v":-0.47698315522698609},null,{"$f":"N8","v":112},{"$f":"COUNTIF(L46:L58,AI8)","v":8},{"$f":"AJ8/(AL4-AJ10)","v":0.72727272727272729},{"$f":"IF(AK8=0,0,(AK8*((LOG(AK8))/LOG(2))))","v":-0.33413208628167068},null,{"$f":"N8","v":112},{"$f":"COUNTIF(L59:L71,AN8)","v":8},{"$f":"AO8/(AQ4-AO10)","v":0.66666666666666663},{"$f":"IF(AP8=0,0,(AP8*((LOG(AP8))/LOG(2))))","v":-0.38997500048077083},null,{"$f":"N8","v":112},{"$f":"COUNTIF(L72:L84,AS8)","v":7},{"$f":"AT8/(AV4-AT10)","v":0.7},{"$f":"IF(AU8=0,0,(AU8*((LOG(AU8))/LOG(2))))","v":-0.36020122098083079}]
[11,333,22,342,14,367,null,null,null,null,0,121,null,121,{"$f":"COUNTIF($L$7:$L$500,N9)","v":7},{"$f":"O9/$Q$4","v":8.9743589743589744E-2},{"$f":"IF(P9=0,0,(P9*((LOG(P9))/LOG(2))))","v":-0.31213244971323734},null,null,{"$f":"N9","v":121},{"$f":"COUNTIF(L7:L19,T9)","v":5},{"$f":"U9/(W4-U10)","v":0.5},{"$f":"IF(V9=0,0,(V9*((LOG(V9))/LOG(2))))","v":-0.5},null,{"$f":"N9","v":121},{"$f":"COUNTIF(L20:L32,Y9)","v":2},{"$f":"Z9/(AB4-Z10)","v":0.18181818181818182},{"$f":"IF(AA9=0,0,(AA9*((LOG(AA9))/LOG(2))))","v":-0.44716938520678134},null,{"$f":"N9","v":121},{"$f":"COUNTIF(L33:L45,AD9)","v":0},{"$f":"AE9/(AG4-AE10)","v":0},{"$f":"IF(AF9=0,0,(AF9*((LOG(AF9))/LOG(2))))","v":0},null,{"$f":"N9","v":121},{"$f":"COUNTIF(L46:L58,AI9)","v":0},{"$f":"AJ9/(AL4-AJ10)","v":0},{"$f":"IF(AK9=0,0,(AK9*((LOG(AK9))/LOG(2))))","v":0},null,{"$f":"N9","v":121},{"$f":"COUNTIF(L59:L71,AN9)","v":0},{"$f":"AO9/(AQ4-AO10)","v":0},{"$f":"IF(AP9=0,0,(AP9*((LOG(AP9))/LOG(2))))","v":0},null,{"$f":"N9","v":121},{"$f":"COUNTIF(L72:L84,AS9)","v":0},{"$f":"AT9/(AV4-AT10)","v":0},{"$f":"IF(AU9=0,0,(AU9*((LOG(AU9))/LOG(2))))","v":0}]
[11,477,22,488,23,495,null,null,null,null,0,122,null,122,{"$f":"COUNTIF($L$7:$L$500,N10)","v":13},{"$f":"O10/$Q$4","v":0.16666666666666666},{"$f":"IF(P10=0,0,(P10*((LOG(P10))/LOG(2))))","v":-0.43082708345352599},null,null,{"$f":"N10","v":122},{"$f":"COUNTIF(L7:L19,T10)","v":3},null,null,null,{"$f":"N10","v":122},{"$f":"COUNTIF(L20:L32,Y10)","v":2},null,null,null,{"$f":"N10","v":122},{"$f":"COUNTIF(L33:L45,AD10)","v":2},null,null,null,{"$f":"N10","v":122},{"$f":"COUNTIF(L46:L58,AI10)","v":2},null,null,null,{"$f":"N10","v":122},{"$f":"COUNTIF(L59:L71,AN10)","v":1},null,null,null,{"$f":"N10","v":122},{"$f":"COUNTIF(L72:L84,AS10)","v":3}]
[11,601,22,620,14,637,null,null,null,null,0,121,null,211,{"$f":"COUNTIF($L$7:$L$500,N11)","v":0},{"$f":"O11/$Q$4","v":0},{"$f":"IF(P11=0,0,(P11*((LOG(P11))/LOG(2))))","v":0},null,null,{"$f":"N11","v":211},{"$f":"COUNTIF(L7:L19,T11)","v":0},{"$f":"U11/(W4-U10)","v":0},{"$f":"IF(V11=0,0,(V11*((LOG(V11))/LOG(2))))","v":0},null,{"$f":"N11","v":211},{"$f":"COUNTIF(L20:L32,Y11)","v":0},{"$f":"Z11/(AB4-Z10)","v":0},{"$f":"IF(AA11=0,0,(AA11*((LOG(AA11))/LOG(2))))","v":0},null,{"$f":"N11","v":211},{"$f":"COUNTIF(L33:L45,AD11)","v":0},{"$f":"AE11/(AG4-AE10)","v":0},{"$f":"IF(AF11=0,0,(AF11*((LOG(AF11))/LOG(2))))","v":0},null,{"$f":"N11","v":211},{"$f":"COUNTIF(L46:L58,AI11)","v":0},{"$f":"AJ11/(AL4-AJ10)","v":0},{"$f":"IF(AK11=0,0,(AK11*((LOG(AK11))/LOG(2))))","v":0},null,{"$f":"N11","v":211},{"$f":"COUNTIF(L59:L71,AN11)","v":0},{"$f":"AO11/(AQ4-AO10)","v":0},{"$f":"IF(AP11=0,0,(AP11*((LOG(AP11))/LOG(2))))","v":0},null,{"$f":"N11","v":211},{"$f":"COUNTIF(L72:L84,AS11)","v":0},{"$f":"AT11/(AV4-AT10)","v":0},{"$f":"IF(AU11=0,0,(AU11*((LOG(AU11))/LOG(2))))","v":0}]
[11,741,11,749,21,763,null,null,null,null,0,112,null,212,{"$f":"COUNTIF($L$7:$L$500,N12)","v":1},{"$f":"O12/$Q$4","v":1.282051282051282E-2},{"$f":"IF(P12=0,0,(P12*((LOG(P12))/LOG(2))))","v":-8.0582079729003178E-2},null,null,{"$f":"N12","v":212},{"$f":"COUNTIF(L7:L19,T12)","v":1},{"$f":"U12/(W4-U10)","v":0.1},{"$f":"IF(V12=0,0,(V12*((LOG(V12))/LOG(2))))","v":-0.33219280948873625},null,{"$f":"N12","v":212},{"$f":"COUNTIF(L20:L32,Y12)","v":0},{"$f":"Z12/(AB4-Z10)","v":0},{"$f":"IF(AA12=0,0,(AA12*((LOG(AA12))/LOG(2))))","v":0},null,{"$f":"N12","v":212},{"$f":"COUNTIF(L33:L45,AD12)","v":0},{"$f":"AE12/(AG4-AE10)","v":0},{"$f":"IF(AF12=0,0,(AF12*((LOG(AF12))/LOG(2))))","v":0},null,{"$f":"N12","v":212},{"$f":"COUNTIF(L46:L58,AI12)","v":0},{"$f":"AJ12/(AL4-AJ10)","v":0},{"$f":"IF(AK12=0,0,(AK12*((LOG(AK12))/LOG(2))))","v":0},null,{"$f":"N12","v":212},{"$f":"COUNTIF(L59:L71,AN12)","v":0},{"$f":"AO12/(AQ4-AO10)","v":0},{"$f":"IF(AP12=0,0,(AP12*((LOG(AP12))/LOG(2))))","v":0},null,{"$f":"N12","v":212},{"$f":"COUNTIF(L72:L84,AS12)","v":0},{"$f":"AT12/(AV4-AT10)","v":0},{"$f":"IF(AU12=0,0,(AU12*((LOG(AU12))/LOG(2))))","v":0}]
[11,882,22,896,14,928,null,null,null,null,0,121,null,221,{"$f":"COUNTIF($L$7:$L$500,N13)","v":0},{"$f":"O13/$Q$4","v":0},{"$f":"IF(P13=0,0,(P13*((LOG(P13))/LOG(2))))","v":0},null,null,{"$f":"N13","v":221},{"$f":"COUNTIF(L7:L19,T13)","v":0},{"$f":"U13/(W4-U10)","v":0},{"$f":"IF(V13=0,0,(V13*((LOG(V13))/LOG(2))))","v":0},null,{"$f":"N13","v":221},{"$f":"COUNTIF(L20:L32,Y13)","v":0},{"$f":"Z13/(AB4-Z10)","v":0},{"$f":"IF(AA13=0,0,(AA13*((LOG(AA13))/LOG(2))))","v":0},null,{"$f":"N13","v":221},{"$f":"COUNTIF(L33:L45,AD13)","v":0},{"$f":"AE13/(AG4-AE10)","v":0},{"$f":"IF(AF13=0,0,(AF13*((LOG(AF13))/LOG(2))))","v":0},null,{"$f":"N13","v":221},{"$f":"COUNTIF(L46:L58,AI13)","v":0},{"$f":"AJ13/(AL4-AJ10)","v":0},{"$f":"IF(AK13=0,0,(AK13*((LOG(AK13))/LOG(2))))","v":0},null,{"$f":"N13","v":221},{"$f":"COUNTIF(L59:L71,AN13)","v":0},{"$f":"AO13/(AQ4-AO10)","v":0},{"$f":"IF(AP13=0,0,(AP13*((LOG(AP13))/LOG(2))))","v":0},null,{"$f":"N13","v":221},{"$f":"COUNTIF(L72:L84,AS13)","v":0},{"$f":"AT13/(AV4-AT10)","v":0},{"$f":"IF(AU13=0,0,(AU13*((LOG(AU13))/LOG(2))))","v":0}]
[11,1030,11,1042,21,1056,null,null,null,null,0,112,null,222,{"$f":"COUNTIF($L$7:$L$500,N14)","v":1},{"$f":"O14/$Q$4","v":1.282051282051282E-2},{"$f":"IF(P14=0,0,(P14*((LOG(P14))/LOG(2))))","v":-8.0582079729003178E-2},null,null,{"$f":"N14","v":222},{"$f":"COUNTIF(L7:L19,T14)","v":1},{"$f":"U14/(W4-U10)","v":0.1},{"$f":"IF(V14=0,0,(V14*((LOG(V14))/LOG(2))))","v":-0.33219280948873625},null,{"$f":"N14","v":222},{"$f":"COUNTIF(L20:L32,Y14)","v":0},{"$f":"Z14/(AB4-Z10)","v":0},{"$f":"IF(AA14=0,0,(AA14*((LOG(AA14))/LOG(2))))","v":0},null,{"$f":"N14","v":222},{"$f":"COUNTIF(L33:L45,AD14)","v":0},{"$f":"AE14/(AG4-AE10)","v":0},{"$f":"IF(AF14=0,0,(AF14*((LOG(AF14))/LOG(2))))","v":0},null,{"$f":"N14","v":222},{"$f":"COUNTIF(L46:L58,AI14)","v":0},{"$f":"AJ14/(AL4-AJ10)","v":0},{"$f":"IF(AK14=0,0,(AK14*((LOG(AK14))/LOG(2))))","v":0},null,{"$f":"N14","v":222},{"$f":"COUNTIF(L59:L71,AN14)","v":0},{"$f":"AO14/(AQ4-AO10)","v":0},{"$f":"IF(AP14=0,0,(AP14*((LOG(AP14))/LOG(2))))","v":0},null,{"$f":"N14","v":222},{"$f":"COUNTIF(L72:L84,AS14)","v":0},{"$f":"AT14/(AV4-AT10)","v":0},{"$f":"IF(AU14=0,0,(AU14*((LOG(AU14))/LOG(2))))","v":0}]
[11,1149,11,1156,21,1179,null,null,null,null,0,112,null,null,null,{"$f":"SUM(P7:P14)","v":0.99999999999999978},{"$f":"-SUM(Q7:Q14)","v":1.8670134421220954},null,null,null,null,{"$f":"SUM(V7:V14)","v":1},{"$f":"-SUM(W7:W14)","v":1.6854752972273346},null,null,null,{"$f":"SUM(AA7:AA14)","v":1},{"$f":"-SUM(AB7:AB14)","v":1.0957952550009336},null,null,null,{"$f":"SUM(AF7:AF14)","v":1},{"$f":"-SUM(AG7:AG14)","v":0.99403021147695647},null,null,null,{"$f":"SUM(AK7:AK14)","v":1},{"$f":"-SUM(AL7:AL14)","v":0.84535093662243643},null,null,null,{"$f":"SUM(AP7:AP14)","v":1},{"$f":"-SUM(AQ7:AQ14)","v":0.91829583405448945},null,null,null,{"$f":"SUM(AU7:AU14)","v":1},{"$f":"-SUM(AV7:AV14)","v":0.8812908992306927}]
[11,1277,22,1293,23,1300,null,null,null,null,0,122,null,null,null,"U=",{"$f":"Q15/(LOG(Q4)/LOG(2))","v":0.2970396129175728},null,null,null,null,"U1=",{"$f":"W15/(LOG(W4)/LOG(2))","v":0.45547973365555305},null,null,null,"U2=",{"$f":"AB15/(LOG(AB4)/LOG(2))","v":0.2961256873416665},null,null,null,"U3=",{"$f":"AG15/(LOG(AG4)/LOG(2))","v":0.26862488979453109},null,null,null,"U4=",{"$f":"AL15/(LOG(AL4)/LOG(2))","v":0.22844607695625335},null,null,null,"U5=",{"$f":"AQ15/(LOG(AQ4)/LOG(2))","v":0.24815857141318151},null,null,null,"U6=",{"$f":"AV15/(LOG(AV4)/LOG(2))","v":0.23815842612169541}]
[11,1444,22,1459,14,1519,null,null,null,null,0,121]
[11,1637,22,1658,14,1704,null,null,null,null,0,121]
[11,1826,22,1840,23,1847,null,null,null,null,0,122,null,"Total Target Seq"]
[11,1946,11,1966,21,1978,null,null,null,null,0,112,null,{"$f":"COUNTIF(L7:L84,G3)","v":13},null,13,13,13,13,13,13]
[11,2077,11,2107,21,2141,null,null,null,null,0,112,null,null,null,"% of reinforcement given in 6 equal intervals based on number of trials "]
[11,2245,22,2257,23,2264,null,null,null,null,0,122,null,null,null,"%_1","%_2","%_3","%_4","%_5","%_6"]
[11,2367,11,2388,21,2406,null,null,null,null,0,112,null,null,"target sequence",{"$f":"$G$3","v":122},{"$f":"$G$3","v":122},{"$f":"$G$3","v":122},{"$f":"$G$3","v":122},{"$f":"$G$3","v":122},{"$f":"$G$3","v":122}]
[11,2515,22,2528,23,2534,null,null,null,null,0,122,null,null,"total reinforcement",{"$f":"U10","v":3},{"$f":"Z10","v":2},{"$f":"AE10","v":2},{"$f":"AJ10","v":2},{"$f":"AO10","v":1},{"$f":"AT10","v":3}]
[11,2647,11,2659,21,2673,null,null,null,null,0,112,null,null,"% target"]
[11,2766,11,2777,12,2786,null,null,null,null,0,111,null,null,"CCRF"]
[11,2891,11,2901,21,2918,null,null,null,null,0,112,null,null,"% CCRf"]
[11,3017,11,3024,21,3037,null,null,null,null,0,112,null,null,"average response rate",{"$f":"F19/P20","v":142.07692307692307},{"$f":"(F32-F19)/Q20","v":148.53846153846155},{"$f":"(F45-F32)/R20","v":134.23076923076923},{"$f":"(F58-F45)/S20","v":127.38461538461539},{"$f":"(F71-F58)/T20","v":131.53846153846155},{"$f":"(F84-F71)/U20","v":132.61538461538461}]
[11,3138,11,3144,21,3165,null,null,null,null,0,112]
[11,3274,22,3301,14,3323,null,null,null,null,0,121]
[11,3446,22,3468,14,3648,null,null,null,null,0,121]
[11,3752,11,3764,21,3778,null,null,null,null,0,112]
[11,3874,11,3883,21,3894,null,null,null,null,0,112]
[11,4002,11,4007,21,4021,null,null,null,null,0,112]
[11,4123,11,4136,21,4150,null,null,null,null,0,112]
[11,4244,11,4260,12,4267,null,null,null,null,0,111]
[11,4375,11,4384,12,4400,null,null,null,null,0,111]
[11,4516,11,4525,12,4534,null,null,null,null,0,111]
[11,4648,11,4655,12,4665,null,null,null,null,0,111]
[11,4786,22,4808,23,4839,null,null,null,null,0,122]
[11,4939,11,4955,21,5005,null,null,null,null,0,112]
[11,5101,11,5109,21,5123,null,null,null,null,0,112]
[11,5226,22,5243,23,5277,null,null,null,null,0,122]
[11,5375,11,5390,12,5397,null,null,null,null,0,111]
[11,5495,11,5501,21,5523,null,null,null,null,0,112]
[11,5624,11,5632,21,5646,null,null,null,null,0,112]
[11,5741,11,5753,12,5760,null,null,null,null,0,111]
[11,5878,22,5892,23,5898,null,null,null,null,0,122]
[11,6003,11,6016,21,6030,null,null,null,null,0,112]
[11,6124,11,6132,21,6148,null,null,null,null,0,112]
[11,6247,11,6253,21,6269,null,null,null,null,0,112]
[11,6363,11,6378,12,6385,null,null,null,null,0,111]
[11,6493,11,6501,21,6515,null,null,null,null,0,112]
[11,6609,11,6625,21,6638,null,null,null,null,0,112]
[11,6742,11,6748,12,6762,null,null,null,null,0,111]
[11,6876,22,6893,23,6902,null,null,null,null,0,122]
[11,7000,11,7022,21,7049,null,null,null,null,0,112]
[11,7152,11,7161,21,7179,null,null,null,null,0,112]
[11,7286,11,7299,12,7307,null,null,null,null,0,111]
[11,7408,11,7425,12,7433,null,null,null,null,0,111]
[11,7534,11,7541,21,7598,null,null,null,null,0,112]
[11,7711,11,7720,12,7728,null,null,null,null,0,111]
[11,7830,11,7838,21,7851,null,null,null,null,0,112]
[11,7956,11,7964,21,7981,null,null,null,null,0,112]
[11,8077,11,8094,12,8101,null,null,null,null,0,111]
[11,8199,11,8215,21,8258,null,null,null,null,0,112]
[11,8353,11,8359,21,8378,null,null,null,null,0,112]
[11,8474,11,8481,21,8497,null,null,null,null,0,112]
[11,8596,22,8609,23,8616,null,null,null,null,0,122]
[11,8724,11,8731,21,8751,null,null,null,null,0,112]
[11,8858,11,8869,21,8889,null,null,null,null,0,112]
[11,8982,11,8991,12,8996,null,null,null,null,0,111]
[11,9098,11,9104,12,9113,null,null,null,null,0,111]
[11,9223,22,9240,23,9271,null,null,null,null,0,122]
[11,9391,22,9427,23,9457,null,null,null,null,0,122]
[11,9560,11,9572,21,9585,null,null,null,null,0,112]
[11,9677,11,9686,21,9700,null,null,null,null,0,112]
[11,9793,11,9804,21,9816,null,null,null,null,0,112]
[11,9917,11,9958,21,9970,null,null,null,null,0,112]
[11,10069,11,10077,21,10096,null,null,null,null,0,112]
[11,10189,11,10195,21,10214,null,null,null,null,0,112]
[11,10314,11,10321,12,10333,null,null,null,null,0,111]
[11,10448,22,10466,23,10473,null,null,null,null,0,122]
[11,10580,11,10592,21,10613,null,null,null,null,1,112]

{"sheet":"!M610930.103","index":19,"n_rows":81,"n_cols":48,"rows_kept":81,"cut":false,"hidden":false,"merged":[[4,39,4,42],[5,39,5,40],[4,44,4,47],[5,44,5,45],[4,24,4,27],[5,24,5,25],[4,29,4,32],[5,29,5,30],[4,34,4,37],[5,34,5,35],[1,1,1,2],[5,13,5,14],[18,13,18,14],[19,13,19,14],[4,19,4,22],[5,19,5,20]]}
["Report for:!M610930.103"]
["Date:","<date>"]
["Hen:","<hen>",null,null,null,"Correct Sequence",{"$f":"Start!J2","v":122},null,null,null,null,null,null,null,null,"Total Sequences in Data",{"$f":"4994-COUNTBLANK(L7:L5000)","v":75},null,null,null,null,"Total Sequences in Block Data",{"$f":"COUNTA(L7:L19)","v":13},null,null,null,"Total Sequences in Block Data",{"$f":"COUNTA(L20:L31)","v":12},null,null,null,"Total Sequences in Block Data",{"$f":"COUNTA(L32:L44)","v":13},null,null,null,"Total Sequences in Block Data",{"$f":"COUNTA(L45:L56)","v":12},null,null,null,"Total Sequences in Block Data",{"$f":"COUNTA(L57:L69)","v":13},null,null,null,"Total Sequences in Block Data",{"$f":"COUNTA(L70:L81)","v":12}]
[null,null,null,null,null,null,null,null,null,null,null,null,null,null,null,"Total Sequences in Summary",{"$f":"SUM(O7:O14)","v":75},null,null,null,null,"Total Sequences in Block Summary",{"$f":"SUM(U7:U14)","v":13},null,null,null,"Total Sequences in Block Summary",{"$f":"SUM(Z7:Z14)","v":12},null,null,null,"Total Sequences in Block Summary",{"$f":"SUM(AE7:AE14)","v":13},null,null,null,"Total Sequences in Block Summary",{"$f":"SUM(AJ7:AJ14)","v":12},null,null,null,"Total Sequences in Block Summary",{"$f":"SUM(AO7:AO14)","v":13},null,null,null,"Total Sequences in Block Summary",{"$f":"SUM(AT7:AT14)","v":12}]
[null,null,null,null,null,null,null,null,null,null,null,null,null,null,null,null,null,null,null,"Block 1",null,null,null,null,"Block 2",null,null,null,null,"Block 3",null,null,null,null,"Block 4",null,null,null,null,"Block 5",null,null,null,null,"Block 6"]
["Sequence\nComponent\n1","Time\n1","Sequence\nComponent\n2","Time\n2","Sequence\nComponent\n3","Time\n3","Sequence\nComponent\n4","Time\n4","Sequence\nComponent\n5","Time\n5","Correct?\n0=No 1=Yes","Sequence",null,"Frequency",null,"Relative Frequency","Variability",null,null,"Frequency",null,"Relative Frequency","Variability",null,"Frequency",null,"Relative Frequency","Variability",null,"Frequency",null,"Relative Frequency","Variability",null,"Frequency",null,"Relative Frequency","Variability",null,"Frequency",null,"Relative Frequency","Variability",null,"Frequency",null,"Relative Frequency","Variability"]
[11,19,11,51,12,113,null,null,null,null,0,111,null,111,{"$f":"COUNTIF($L$7:$L$500,N7)","v":18},{"$f":"O7/$Q$4","v":0.24},{"$f":"IF(P7=0,0,(P7*((LOG(P7))/LOG(2))))","v":-0.49413448537285637},null,null,{"$f":"N7","v":111},{"$f":"COUNTIF(L7:L19,T7)","v":5},{"$f":"U7/(W4-U10)","v":0.41666666666666669},{"$f":"IF(V7=0,0,(V7*((LOG(V7))/LOG(2))))","v":-0.52626433576408083},null,{"$f":"N7","v":111},{"$f":"COUNTIF(L20:L31,Y7)","v":4},{"$f":"Z7/(AB4-Z10)","v":0.36363636363636365},{"$f":"IF(AA7=0,0,(AA7*((LOG(AA7))/LOG(2))))","v":-0.53070240677719893},null,{"$f":"N7","v":111},{"$f":"COUNTIF(L32:L44,AD7)","v":2},{"$f":"AE7/(AG4-AE10)","v":0.16666666666666666},{"$f":"IF(AF7=0,0,(AF7*((LOG(AF7))/LOG(2))))","v":-0.43082708345352599},null,{"$f":"N7","v":111},{"$f":"COUNTIF(L45:L56,AI7)","v":2},{"$f":"AJ7/(AL4-AJ10)","v":0.25},{"$f":"IF(AK7=0,0,(AK7*((LOG(AK7))/LOG(2))))","v":-0.5},null,{"$f":"N7","v":111},{"$f":"COUNTIF(L57:L69,AN7)","v":3},{"$f":"AO7/(AQ4-AO10)","v":0.27272727272727271},{"$f":"IF(AP7=0,0,(AP7*((LOG(AP7))/LOG(2))))","v":-0.51121885034076575},null,{"$f":"N7","v":111},{"$f":"COUNTIF(L70:L81,AS7)","v":2},{"$f":"AT7/(AV4-AT10)","v":0.2},{"$f":"IF(AU7=0,0,(AU7*((LOG(AU7))/LOG(2))))","v":-0.46438561897747244}]
[11,247,22,263,23,276,null,null,null,null,0,122,null,112,{"$f":"COUNTIF($L$7:$L$500,N8)","v":40},{"$f":"O8/$Q$4","v":0.53333333333333333},{"$f":"IF(P8=0,0,(P8*((LOG(P8))/LOG(2))))","v":-0.4836749843245432},null,null,{"$f":"N8","v":112},{"$f":"COUNTIF(L7:L19,T8)","v":6},{"$f":"U8/(W4-U10)","v":0.5},{"$f":"IF(V8=0,0,(V8*((LOG(V8))/LOG(2))))","v":-0.5},null,{"$f":"N8","v":112},{"$f":"COUNTIF(L20:L31,Y8)","v":6},{"$f":"Z8/(AB4-Z10)","v":0.54545454545454541},{"$f":"IF(AA8=0,0,(AA8*((LOG(AA8))/LOG(2))))","v":-0.47698315522698609},null,{"$f":"N8","v":112},{"$f":"COUNTIF(L32:L44,AD8)","v":8},{"$f":"AE8/(AG4-AE10)","v":0.66666666666666663},{"$f":"IF(AF8=0,0,(AF8*((LOG(AF8))/LOG(2))))","v":-0.38997500048077083},null,{"$f":"N8","v":112},{"$f":"COUNTIF(L45:L56,AI8)","v":4},{"$f":"AJ8/(AL4-AJ10)","v":0.5},{"$f":"IF(AK8=0,0,(AK8*((LOG(AK8))/LOG(2))))","v":-0.5},null,{"$f":"N8","v":112},{"$f":"COUNTIF(L57:L69,AN8)","v":8},{"$f":"AO8/(AQ4-AO10)","v":0.72727272727272729},{"$f":"IF(AP8=0,0,(AP8*((LOG(AP8))/LOG(2))))","v":-0.33413208628167068},null,{"$f":"N8","v":112},{"$f":"COUNTIF(L70:L81,AS8)","v":8},{"$f":"AT8/(AV4-AT10)","v":0.8},{"$f":"IF(AU8=0,0,(AU8*((LOG(AU8))/LOG(2))))","v":-0.25754247590988982}]
[11,390,22,413,14,451,null,null,null,null,0,121,null,121,{"$f":"COUNTIF($L$7:$L$500,N9)","v":6},{"$f":"O9/$Q$4","v":0.08},{"$f":"IF(P9=0,0,(P9*((LOG(P9))/LOG(2))))","v":-0.29150849518197797},null,null,{"$f":"N9","v":121},{"$f":"COUNTIF(L7:L19,T9)","v":1},{"$f":"U9/(W4-U10)","v":8.3333333333333329E-2},{"$f":"IF(V9=0,0,(V9*((LOG(V9))/LOG(2))))","v":-0.29874687506009634},null,{"$f":"N9","v":121},{"$f":"COUNTIF(L20:L31,Y9)","v":1},{"$f":"Z9/(AB4-Z10)","v":9.0909090909090912E-2},{"$f":"IF(AA9=0,0,(AA9*((LOG(AA9))/LOG(2))))","v":-0.31449378351248153},null,{"$f":"N9","v":121},{"$f":"COUNTIF(L32:L44,AD9)","v":2},{"$f":"AE9/(AG4-AE10)","v":0.16666666666666666},{"$f":"IF(AF9=0,0,(AF9*((LOG(AF9))/LOG(2))))","v":-0.43082708345352599},null,{"$f":"N9","v":121},{"$f":"COUNTIF(L45:L56,AI9)","v":2},{"$f":"AJ9/(AL4-AJ10)","v":0.25},{"$f":"IF(AK9=0,0,(AK9*((LOG(AK9))/LOG(2))))","v":-0.5},null,{"$f":"N9","v":121},{"$f":"COUNTIF(L57:L69,AN9)","v":0},{"$f":"AO9/(AQ4-AO10)","v":0},{"$f":"IF(AP9=0,0,(AP9*((LOG(AP9))/LOG(2))))","v":0},null,{"$f":"N9","v":121},{"$f":"COUNTIF(L70:L81,AS9)","v":0},{"$f":"AT9/(AV4-AT10)","v":0},{"$f":"IF(AU9=0,0,(AU9*((LOG(AU9))/LOG(2))))","v":0}]
[11,581,11,634,12,669,null,null,null,null,0,111,null,122,{"$f":"COUNTIF($L$7:$L$500,N10)","v":11},{"$f":"O10/$Q$4","v":0.14666666666666667},{"$f":"IF(P10=0,0,(P10*((LOG(P10))/LOG(2))))","v":-0.40617677053925894},null,null,{"$f":"N10","v":122},{"$f":"COUNTIF(L7:L19,T10)","v":1},null,null,null,{"$f":"N10","v":122},{"$f":"COUNTIF(L20:L31,Y10)","v":1},null,null,null,{"$f":"N10","v":122},{"$f":"COUNTIF(L32:L44,AD10)","v":1},null,null,null,{"$f":"N10","v":122},{"$f":"COUNTIF(L45:L56,AI10)","v":4},null,null,null,{"$f":"N10","v":122},{"$f":"COUNTIF(L57:L69,AN10)","v":2},null,null,null,{"$f":"N10","v":122},{"$f":"COUNTIF(L70:L81,AS10)","v":2}]
[11,771,11,791,21,812,null,null,null,null,0,112,null,211,{"$f":"COUNTIF($L$7:$L$500,N11)","v":0},{"$f":"O11/$Q$4","v":0},{"$f":"IF(P11=0,0,(P11*((LOG(P11))/LOG(2))))","v":0},null,null,{"$f":"N11","v":211},{"$f":"COUNTIF(L7:L19,T11)","v":0},{"$f":"U11/(W4-U10)","v":0},{"$f":"IF(V11=0,0,(V11*((LOG(V11))/LOG(2))))","v":0},null,{"$f":"N11","v":211},{"$f":"COUNTIF(L20:L31,Y11)","v":0},{"$f":"Z11/(AB4-Z10)","v":0},{"$f":"IF(AA11=0,0,(AA11*((LOG(AA11))/LOG(2))))","v":0},null,{"$f":"N11","v":211},{"$f":"COUNTIF(L32:L44,AD11)","v":0},{"$f":"AE11/(AG4-AE10)","v":0},{"$f":"IF(AF11=0,0,(AF11*((LOG(AF11))/LOG(2))))","v":0},null,{"$f":"N11","v":211},{"$f":"COUNTIF(L45:L56,AI11)","v":0},{"$f":"AJ11/(AL4-AJ10)","v":0},{"$f":"IF(AK11=0,0,(AK11*((LOG(AK11))/LOG(2))))","v":0},null,{"$f":"N11","v":211},{"$f":"COUNTIF(L57:L69,AN11)","v":0},{"$f":"AO11/(AQ4-AO10)","v":0},{"$f":"IF(AP11=0,0,(AP11*((LOG(AP11))/LOG(2))))","v":0},null,{"$f":"N11","v":211},{"$f":"COUNTIF(L70:L81,AS11)","v":0},{"$f":"AT11/(AV4-AT10)","v":0},{"$f":"IF(AU11=0,0,(AU11*((LOG(AU11))/LOG(2))))","v":0}]
[11,912,11,924,21,944,null,null,null,null,0,112,null,212,{"$f":"COUNTIF($L$7:$L$500,N12)","v":0},{"$f":"O12/$Q$4","v":0},{"$f":"IF(P12=0,0,(P12*((LOG(P12))/LOG(2))))","v":0},null,null,{"$f":"N12","v":212},{"$f":"COUNTIF(L7:L19,T12)","v":0},{"$f":"U12/(W4-U10)","v":0},{"$f":"IF(V12=0,0,(V12*((LOG(V12))/LOG(2))))","v":0},null,{"$f":"N12","v":212},{"$f":"COUNTIF(L20:L31,Y12)","v":0},{"$f":"Z12/(AB4-Z10)","v":0},{"$f":"IF(AA12=0,0,(AA12*((LOG(AA12))/LOG(2))))","v":0},null,{"$f":"N12","v":212},{"$f":"COUNTIF(L32:L44,AD12)","v":0},{"$f":"AE12/(AG4-AE10)","v":0},{"$f":"IF(AF12=0,0,(AF12*((LOG(AF12))/LOG(2))))","v":0},null,{"$f":"N12","v":212},{"$f":"COUNTIF(L45:L56,AI12)","v":0},{"$f":"AJ12/(AL4-AJ10)","v":0},{"$f":"IF(AK12=0,0,(AK12*((LOG(AK12))/LOG(2))))","v":0},null,{"$f":"N12","v":212},{"$f":"COUNTIF(L57:L69,AN12)","v":0},{"$f":"AO12/(AQ4-AO10)","v":0},{"$f":"IF(AP12=0,0,(AP12*((LOG(AP12))/LOG(2))))","v":0},null,{"$f":"N12","v":212},{"$f":"COUNTIF(L70:L81,AS12)","v":0},{"$f":"AT12/(AV4-AT10)","v":0},{"$f":"IF(AU12=0,0,(AU12*((LOG(AU12))/LOG(2))))","v":0}]
[11,1039,11,1050,21,1093,null,null,null,null,0,112,null,221,{"$f":"COUNTIF($L$7:$L$500,N13)","v":0},{"$f":"O13/$Q$4","v":0},{"$f":"IF(P13=0,0,(P13*((LOG(P13))/LOG(2))))","v":0},null,null,{"$f":"N13","v":221},{"$f":"COUNTIF(L7:L19,T13)","v":0},{"$f":"U13/(W4-U10)","v":0},{"$f":"IF(V13=0,0,(V13*((LOG(V13))/LOG(2))))","v":0},null,{"$f":"N13","v":221},{"$f":"COUNTIF(L20:L31,Y13)","v":0},{"$f":"Z13/(AB4-Z10)","v":0},{"$f":"IF(AA13=0,0,(AA13*((LOG(AA13))/LOG(2))))","v":0},null,{"$f":"N13","v":221},{"$f":"COUNTIF(L32:L44,AD13)","v":0},{"$f":"AE13/(AG4-AE10)","v":0},{"$f":"IF(AF13=0,0,(AF13*((LOG(AF13))/LOG(2))))","v":0},null,{"$f":"N13","v":221},{"$f":"COUNTIF(L45:L56,AI13)","v":0},{"$f":"AJ13/(AL4-AJ10)","v":0},{"$f":"IF(AK13=0,0,(AK13*((LOG(AK13))/LOG(2))))","v":0},null,{"$f":"N13","v":221},{"$f":"COUNTIF(L57:L69,AN13)","v":0},{"$f":"AO13/(AQ4-AO10)","v":0},{"$f":"IF(AP13=0,0,(AP13*((LOG(AP13))/LOG(2))))","v":0},null,{"$f":"N13","v":221},{"$f":"COUNTIF(L70:L81,AS13)","v":0},{"$f":"AT13/(AV4-AT10)","v":0},{"$f":"IF(AU13=0,0,(AU13*((LOG(AU13))/LOG(2))))","v":0}]
[11,1192,11,1205,12,1213,null,null,null,null,0,111,null,222,{"$f":"COUNTIF($L$7:$L$500,N14)","v":0},{"$f":"O14/$Q$4","v":0},{"$f":"IF(P14=0,0,(P14*((LOG(P14))/LOG(2))))","v":0},null,null,{"$f":"N14","v":222},{"$f":"COUNTIF(L7:L19,T14)","v":0},{"$f":"U14/(W4-U10)","v":0},{"$f":"IF(V14=0,0,(V14*((LOG(V14))/LOG(2))))","v":0},null,{"$f":"N14","v":222},{"$f":"COUNTIF(L20:L31,Y14)","v":0},{"$f":"Z14/(AB4-Z10)","v":0},{"$f":"IF(AA14=0,0,(AA14*((LOG(AA14))/LOG(2))))","v":0},null,{"$f":"N14","v":222},{"$f":"COUNTIF(L32:L44,AD14)","v":0},{"$f":"AE14/(AG4-AE10)","v":0},{"$f":"IF(AF14=0,0,(AF14*((LOG(AF14))/LOG(2))))","v":0},null,{"$f":"N14","v":222},{"$f":"COUNTIF(L45:L56,AI14)","v":0},{"$f":"AJ14/(AL4-AJ10)","v":0},{"$f":"IF(AK14=0,0,(AK14*((LOG(AK14))/LOG(2))))","v":0},null,{"$f":"N14","v":222},{"$f":"COUNTIF(L57:L69,AN14)","v":0},{"$f":"AO14/(AQ4-AO10)","v":0},{"$f":"IF(AP14=0,0,(AP14*((LOG(AP14))/LOG(2))))","v":0},null,{"$f":"N14","v":222},{"$f":"COUNTIF(L70:L81,AS14)","v":0},{"$f":"AT14/(AV4-AT10)","v":0},{"$f":"IF(AU14=0,0,(AU14*((LOG(AU14))/LOG(2))))","v":0}]
[11,1312,11,1324,21,1348,null,null,null,null,0,112,null,null,null,{"$f":"SUM(P7:P14)","v":1},{"$f":"-SUM(Q7:Q14)","v":1.6754947354186365},null,null,null,null,{"$f":"SUM(V7:V14)","v":1},{"$f":"-SUM(W7:W14)","v":1.3250112108241772},null,null,null,{"$f":"SUM(AA7:AA14)","v":1},{"$f":"-SUM(AB7:AB14)","v":1.3221793455166664},null,null,null,{"$f":"SUM(AF7:AF14)","v":0.99999999999999989},{"$f":"-SUM(AG7:AG14)","v":1.2516291673878228},null,null,null,{"$f":"SUM(AK7:AK14)","v":1},{"$f":"-SUM(AL7:AL14)","v":1.5},null,null,null,{"$f":"SUM(AP7:AP14)","v":1},{"$f":"-SUM(AQ7:AQ14)","v":0.84535093662243643},null,null,null,{"$f":"SUM(AU7:AU14)","v":1},{"$f":"-SUM(AV7:AV14)","v":0.72192809488736231}]
[11,1450,11,1471,21,1515,null,null,null,null,0,112,null,null,null,"U=",{"$f":"Q15/(LOG(Q4)/LOG(2))","v":0.26899076994730264},null,null,null,null,"U1=",{"$f":"W15/(LOG(W4)/LOG(2))","v":0.35806858420863391},null,null,null,"U2=",{"$f":"AB15/(LOG(AB4)/LOG(2))","v":0.36881260131750188},null,null,null,"U3=",{"$f":"AG15/(LOG(AG4)/LOG(2))","v":0.33823795622228808},null,null,null,"U4=",{"$f":"AL15/(LOG(AL4)/LOG(2))","v":0.41841441847669475},null,null,null,"U5=",{"$f":"AQ15/(LOG(AQ4)/LOG(2))","v":0.22844607695625335},null,null,null,"U6=",{"$f":"AV15/(LOG(AV4)/LOG(2))","v":0.20137674933618921}]
[11,1607,11,1621,12,1626,null,null,null,null,0,111]
[11,1724,11,1729,12,1748,null,null,null,null,0,111]
[11,1877,11,2182,21,2196,null,null,null,null,0,112,null,"Total Target Seq"]
[11,2339,22,2417,23,2437,null,null,null,null,0,122,null,{"$f":"COUNTIF(L7:L81,G3)","v":11},null,13,12,13,12,13,12]
[11,2538,11,2550,21,2571,null,null,null,null,0,112,null,null,null,"% of reinforcement given in 6 equal intervals based on number of trials "]
[11,2686,11,2761,12,2780,null,null,null,null,0,111,null,null,null,"%_1","%_2","%_3","%_4","%_5","%_6"]
[11,2880,11,2889,21,2904,null,null,null,null,0,112,null,null,"target sequence",{"$f":"$G$3","v":122},{"$f":"$G$3","v":122},{"$f":"$G$3","v":122},{"$f":"$G$3","v":122},{"$f":"$G$3","v":122},{"$f":"$G$3","v":122}]
[11,3014,22,3037,14,3092,null,null,null,null,0,121,null,null,"total reinforcement",{"$f":"U10","v":1},{"$f":"Z10","v":1},{"$f":"AE10","v":1},{"$f":"AJ10","v":4},{"$f":"AO10","v":2},{"$f":"AT10","v":2}]
[11,3192,11,3200,21,3215,null,null,null,null,0,112,null,null,"% target"]
[11,3312,11,3320,21,3370,null,null,null,null,0,112,null,null,"CCRF"]
[11,3463,11,3471,12,3553,null,null,null,null,0,111,null,null,"% CCRf"]
[11,3652,11,3671,12,3682,null,null,null,null,0,111,null,null,"average response rate",{"$f":"F19/P20","v":168.92307692307693},{"$f":"(F31-F19)/Q20","v":160.41666666666666},{"$f":"(F44-F31)/R20","v":182.76923076923077},{"$f":"(F56-F44)/S20","v":158.16666666666666},{"$f":"(F69-F56)/T20","v":138.92307692307693},{"$f":"(F81-F69)/U20","v":134.75}]
[11,3785,11,3826,21,3847,null,null,null,null,0,112]
[11,3944,11,3951,12,3966,null,null,null,null,0,111]
[11,4068,11,4079,21,4121,null,null,null,null,0,112]
[11,4246,22,4276,14,4369,null,null,null,null,0,121]
[11,4481,11,4505,21,4525,null,null,null,null,0,112]
[11,4629,11,4641,21,4688,null,null,null,null,0,112]
[11,4782,11,4808,12,4826,null,null,null,null,0,111]
[11,4931,11,4952,21,4999,null,null,null,null,0,112]
[11,5106,11,5124,21,5145,null,null,null,null,0,112]
[11,5239,11,5262,21,5275,null,null,null,null,0,112]
[11,5369,11,5387,21,5430,null,null,null,null,0,112]
[11,5524,11,5549,21,5582,null,null,null,null,0,112]
[11,5684,11,5691,12,5710,null,null,null,null,0,111]
[11,5815,22,5871,23,5895,null,null,null,null,0,122]
[11,5995,11,6006,21,6044,null,null,null,null,0,112]
[11,6173,22,6256,14,6497,null,null,null,null,0,121]
[11,6611,11,6620,21,6668,null,null,null,null,0,112]
[11,6774,22,6793,23,6815,null,null,null,null,0,122]
[11,6914,11,6925,12,6942,null,null,null,null,0,111]
[11,7052,22,7083,14,7143,null,null,null,null,0,121]
[11,7245,11,7273,21,7320,null,null,null,null,0,112]
[11,7432,22,7444,23,7449,null,null,null,null,0,122]
[11,7586,22,7603,14,7685,null,null,null,null,0,121]
[11,7783,11,7796,21,7825,null,null,null,null,0,112]
[11,7921,11,7936,21,8001,null,null,null,null,0,112]
[11,8104,22,8122,23,8129,null,null,null,null,0,122]
[11,8229,11,8243,12,8252,null,null,null,null,0,111]
[11,8362,22,8375,23,8395,null,null,null,null,0,122]
[11,8501,11,8513,21,8545,null,null,null,null,0,112]
[11,8643,11,8652,21,8665,null,null,null,null,0,112]
[11,8758,11,8781,21,8798,null,null,null,null,0,112]
[11,8911,11,8928,21,8938,null,null,null,null,0,112]
[11,9054,22,9070,23,9084,null,null,null,null,0,122]
[11,9183,11,9197,21,9219,null,null,null,null,0,112]
[11,9311,11,9339,21,9351,null,null,null,null,0,112]
[11,9452,11,9462,21,9490,null,null,null,null,0,112]
[11,9587,11,9594,12,9607,null,null,null,null,0,111]
[11,9704,11,9716,12,9732,null,null,null,null,0,111]
[11,9850,22,9924,23,9930,null,null,null,null,0,122]
[11,10038,11,10056,21,10083,null,null,null,null,0,112]
[11,10176,11,10183,12,10201,null,null,null,null,0,111]
[11,10298,11,10313,12,10322,null,null,null,null,0,111]
[11,10432,22,10457,23,10464,null,null,null,null,0,122]
[11,10564,11,10571,21,10585,null,null,null,null,0,112]
[11,10700,22,10742,23,10750,null,null,null,null,0,122]
[11,10850,11,10857,21,10870,null,null,null,null,0,112]
[11,10964,11,10972,21,10985,null,null,null,null,0,112]
[11,11079,11,11087,21,11101,null,null,null,null,0,112]
[11,11201,11,11220,21,11268,null,null,null,null,0,112]
[11,11368,11,11379,12,11391,null,null,null,null,0,111]
[11,11488,11,11492,21,11544,null,null,null,null,0,112]
[11,11642,11,11648,21,11703,null,null,null,null,0,112]
[11,11795,11,11800,21,11818,null,null,null,null,1,112]

{"sheet":"!M611940.103","index":20,"n_rows":61,"n_cols":48,"rows_kept":61,"cut":false,"hidden":false,"merged":[[4,39,4,42],[5,39,5,40],[4,44,4,47],[5,44,5,45],[4,24,4,27],[5,24,5,25],[4,29,4,32],[5,29,5,30],[4,34,4,37],[5,34,5,35],[1,1,1,2],[5,13,5,14],[18,13,18,14],[19,13,19,14],[4,19,4,22],[5,19,5,20]]}
["Report for:!M611940.103"]
["Date:","<date>"]
["Hen:","<hen>",null,null,null,"Correct Sequence",{"$f":"Start!J2","v":122},null,null,null,null,null,null,null,null,"Total Sequences in Data",{"$f":"4994-COUNTBLANK(L7:L5000)","v":55},null,null,null,null,"Total Sequences in Block Data",{"$f":"COUNTA(L7:L15)","v":9},null,null,null,"Total Sequences in Block Data",{"$f":"COUNTA(L16:L24)","v":9},null,null,null,"Total Sequences in Block Data",{"$f":"COUNTA(L25:L34)","v":10},null,null,null,"Total Sequences in Block Data",{"$f":"COUNTA(L35:L43)","v":9},null,null,null,"Total Sequences in Block Data",{"$f":"COUNTA(L44:L52)","v":9},null,null,null,"Total Sequences in Block Data",{"$f":"COUNTA(L53:L61)","v":9}]
[null,null,null,null,null,null,null,null,null,null,null,null,null,null,null,"Total Sequences in Summary",{"$f":"SUM(O7:O14)","v":55},null,null,null,null,"Total Sequences in Block Summary",{"$f":"SUM(U7:U14)","v":9},null,null,null,"Total Sequences in Block Summary",{"$f":"SUM(Z7:Z14)","v":9},null,null,null,"Total Sequences in Block Summary",{"$f":"SUM(AE7:AE14)","v":10},null,null,null,"Total Sequences in Block Summary",{"$f":"SUM(AJ7:AJ14)","v":9},null,null,null,"Total Sequences in Block Summary",{"$f":"SUM(AO7:AO14)","v":9},null,null,null,"Total Sequences in Block Summary",{"$f":"SUM(AT7:AT14)","v":9}]
[null,null,null,null,null,null,null,null,null,null,null,null,null,null,null,null,null,null,null,"Block 1",null,null,null,null,"Block 2",null,null,null,null,"Block 3",null,null,null,null,"Block 4",null,null,null,null,"Block 5",null,null,null,null,"Block 6"]
["Sequence\nComponent\n1","Time\n1","Sequence\nComponent\n2","Time\n2","Sequence\nComponent\n3","Time\n3","Sequence\nComponent\n4","Time\n4","Sequence\nComponent\n5","Time\n5","Correct?\n0=No 1=Yes","Sequence",null,"Frequency",null,"Relative Frequency","Variability",null,null,"Frequency",null,"Relative Frequency","Variability",null,"Frequency",null,"Relative Frequency","Variability",null,"Frequency",null,"Relative Frequency","Variability",null,"Frequency",null,"Relative Frequency","Variability",null,"Frequency",null,"Relative Frequency","Variability",null,"Frequency",null,"Relative Frequency","Variability"]
[11,10,11,24,21,38,null,null,null,null,0,112,null,111,{"$f":"COUNTIF($L$7:$L$500,N7)","v":14},{"$f":"O7/$Q$4","v":0.25454545454545452},{"$f":"IF(P7=0,0,(P7*((LOG(P7))/LOG(2))))","v":-0.5024739469188868},null,null,{"$f":"N7","v":111},{"$f":"COUNTIF(L7:L15,T7)","v":2},{"$f":"U7/(W4-U10)","v":0.25},{"$f":"IF(V7=0,0,(V7*((LOG(V7))/LOG(2))))","v":-0.5},null,{"$f":"N7","v":111},{"$f":"COUNTIF(L16:L24,Y7)","v":2},{"$f":"Z7/(AB4-Z10)","v":0.22222222222222221},{"$f":"IF(AA7=0,0,(AA7*((LOG(AA7))/LOG(2))))","v":-0.48220555587606945},null,{"$f":"N7","v":111},{"$f":"COUNTIF(L25:L34,AD7)","v":2},{"$f":"AE7/(AG4-AE10)","v":0.2},{"$f":"IF(AF7=0,0,(AF7*((LOG(AF7))/LOG(2))))","v":-0.46438561897747244},null,{"$f":"N7","v":111},{"$f":"COUNTIF(L35:L43,AI7)","v":3},{"$f":"AJ7/(AL4-AJ10)","v":0.33333333333333331},{"$f":"IF(AK7=0,0,(AK7*((LOG(AK7))/LOG(2))))","v":-0.52832083357371862},null,{"$f":"N7","v":111},{"$f":"COUNTIF(L44:L52,AN7)","v":2},{"$f":"AO7/(AQ4-AO10)","v":0.22222222222222221},{"$f":"IF(AP7=0,0,(AP7*((LOG(AP7))/LOG(2))))","v":-0.48220555587606945},null,{"$f":"N7","v":111},{"$f":"COUNTIF(L53:L61,AS7)","v":3},{"$f":"AT7/(AV4-AT10)","v":0.33333333333333331},{"$f":"IF(AU7=0,0,(AU7*((LOG(AU7))/LOG(2))))","v":-0.52832083357371862}]
[11,142,11,155,21,165,null,null,null,null,0,112,null,112,{"$f":"COUNTIF($L$7:$L$500,N8)","v":40},{"$f":"O8/$Q$4","v":0.72727272727272729},{"$f":"IF(P8=0,0,(P8*((LOG(P8))/LOG(2))))","v":-0.33413208628167068},null,null,{"$f":"N8","v":112},{"$f":"COUNTIF(L7:L15,T8)","v":6},{"$f":"U8/(W4-U10)","v":0.75},{"$f":"IF(V8=0,0,(V8*((LOG(V8))/LOG(2))))","v":-0.31127812445913283},null,{"$f":"N8","v":112},{"$f":"COUNTIF(L16:L24,Y8)","v":7},{"$f":"Z8/(AB4-Z10)","v":0.77777777777777779},{"$f":"IF(AA8=0,0,(AA8*((LOG(AA8))/LOG(2))))","v":-0.28199895063255082},null,{"$f":"N8","v":112},{"$f":"COUNTIF(L25:L34,AD8)","v":8},{"$f":"AE8/(AG4-AE10)","v":0.8},{"$f":"IF(AF8=0,0,(AF8*((LOG(AF8))/LOG(2))))","v":-0.25754247590988982},null,{"$f":"N8","v":112},{"$f":"COUNTIF(L35:L43,AI8)","v":6},{"$f":"AJ8/(AL4-AJ10)","v":0.66666666666666663},{"$f":"IF(AK8=0,0,(AK8*((LOG(AK8))/LOG(2))))","v":-0.38997500048077083},null,{"$f":"N8","v":112},{"$f":"COUNTIF(L44:L52,AN8)","v":7},{"$f":"AO8/(AQ4-AO10)","v":0.77777777777777779},{"$f":"IF(AP8=0,0,(AP8*((LOG(AP8))/LOG(2))))","v":-0.28199895063255082},null,{"$f":"N8","v":112},{"$f":"COUNTIF(L53:L61,AS8)","v":6},{"$f":"AT8/(AV4-AT10)","v":0.66666666666666663},{"$f":"IF(AU8=0,0,(AU8*((LOG(AU8))/LOG(2))))","v":-0.38997500048077083}]
[11,278,22,288,23,295,null,null,null,null,0,122,null,121,{"$f":"COUNTIF($L$7:$L$500,N9)","v":0},{"$f":"O9/$Q$4","v":0},{"$f":"IF(P9=0,0,(P9*((LOG(P9))/LOG(2))))","v":0},null,null,{"$f":"N9","v":121},{"$f":"COUNTIF(L7:L15,T9)","v":0},{"$f":"U9/(W4-U10)","v":0},{"$f":"IF(V9=0,0,(V9*((LOG(V9))/LOG(2))))","v":0},null,{"$f":"N9","v":121},{"$f":"COUNTIF(L16:L24,Y9)","v":0},{"$f":"Z9/(AB4-Z10)","v":0},{"$f":"IF(AA9=0,0,(AA9*((LOG(AA9))/LOG(2))))","v":0},null,{"$f":"N9","v":121},{"$f":"COUNTIF(L25:L34,AD9)","v":0},{"$f":"AE9/(AG4-AE10)","v":0},{"$f":"IF(AF9=0,0,(AF9*((LOG(AF9))/LOG(2))))","v":0},null,{"$f":"N9","v":121},{"$f":"COUNTIF(L35:L43,AI9)","v":0},{"$f":"AJ9/(AL4-AJ10)","v":0},{"$f":"IF(AK9=0,0,(AK9*((LOG(AK9))/LOG(2))))","v":0},null,{"$f":"N9","v":121},{"$f":"COUNTIF(L44:L52,AN9)","v":0},{"$f":"AO9/(AQ4-AO10)","v":0},{"$f":"IF(AP9=0,0,(AP9*((LOG(AP9))/LOG(2))))","v":0},null,{"$f":"N9","v":121},{"$f":"COUNTIF(L53:L61,AS9)","v":0},{"$f":"AT9/(AV4-AT10)","v":0},{"$f":"IF(AU9=0,0,(AU9*((LOG(AU9))/LOG(2))))","v":0}]
[11,396,11,405,21,419,null,null,null,null,0,112,null,122,{"$f":"COUNTIF($L$7:$L$500,N10)","v":1},{"$f":"O10/$Q$4","v":1.8181818181818181E-2},{"$f":"IF(P10=0,0,(P10*((LOG(P10))/LOG(2))))","v":-0.10511563115499381},null,null,{"$f":"N10","v":122},{"$f":"COUNTIF(L7:L15,T10)","v":1},null,null,null,{"$f":"N10","v":122},{"$f":"COUNTIF(L16:L24,Y10)","v":0},null,null,null,{"$f":"N10","v":122},{"$f":"COUNTIF(L25:L34,AD10)","v":0},null,null,null,{"$f":"N10","v":122},{"$f":"COUNTIF(L35:L43,AI10)","v":0},null,null,null,{"$f":"N10","v":122},{"$f":"COUNTIF(L44:L52,AN10)","v":0},null,null,null,{"$f":"N10","v":122},{"$f":"COUNTIF(L53:L61,AS10)","v":0}]
[11,516,11,529,21,561,null,null,null,null,0,112,null,211,{"$f":"COUNTIF($L$7:$L$500,N11)","v":0},{"$f":"O11/$Q$4","v":0},{"$f":"IF(P11=0,0,(P11*((LOG(P11))/LOG(2))))","v":0},null,null,{"$f":"N11","v":211},{"$f":"COUNTIF(L7:L15,T11)","v":0},{"$f":"U11/(W4-U10)","v":0},{"$f":"IF(V11=0,0,(V11*((LOG(V11))/LOG(2))))","v":0},null,{"$f":"N11","v":211},{"$f":"COUNTIF(L16:L24,Y11)","v":0},{"$f":"Z11/(AB4-Z10)","v":0},{"$f":"IF(AA11=0,0,(AA11*((LOG(AA11))/LOG(2))))","v":0},null,{"$f":"N11","v":211},{"$f":"COUNTIF(L25:L34,AD11)","v":0},{"$f":"AE11/(AG4-AE10)","v":0},{"$f":"IF(AF11=0,0,(AF11*((LOG(AF11))/LOG(2))))","v":0},null,{"$f":"N11","v":211},{"$f":"COUNTIF(L35:L43,AI11)","v":0},{"$f":"AJ11/(AL4-AJ10)","v":0},{"$f":"IF(AK11=0,0,(AK11*((LOG(AK11))/LOG(2))))","v":0},null,{"$f":"N11","v":211},{"$f":"COUNTIF(L44:L52,AN11)","v":0},{"$f":"AO11/(AQ4-AO10)","v":0},{"$f":"IF(AP11=0,0,(AP11*((LOG(AP11))/LOG(2))))","v":0},null,{"$f":"N11","v":211},{"$f":"COUNTIF(L53:L61,AS11)","v":0},{"$f":"AT11/(AV4-AT10)","v":0},{"$f":"IF(AU11=0,0,(AU11*((LOG(AU11))/LOG(2))))","v":0}]
[11,655,11,664,12,674,null,null,null,null,0,111,null,212,{"$f":"COUNTIF($L$7:$L$500,N12)","v":0},{"$f":"O12/$Q$4","v":0},{"$f":"IF(P12=0,0,(P12*((LOG(P12))/LOG(2))))","v":0},null,null,{"$f":"N12","v":212},{"$f":"COUNTIF(L7:L15,T12)","v":0},{"$f":"U12/(W4-U10)","v":0},{"$f":"IF(V12=0,0,(V12*((LOG(V12))/LOG(2))))","v":0},null,{"$f":"N12","v":212},{"$f":"COUNTIF(L16:L24,Y12)","v":0},{"$f":"Z12/(AB4-Z10)","v":0},{"$f":"IF(AA12=0,0,(AA12*((LOG(AA12))/LOG(2))))","v":0},null,{"$f":"N12","v":212},{"$f":"COUNTIF(L25:L34,AD12)","v":0},{"$f":"AE12/(AG4-AE10)","v":0},{"$f":"IF(AF12=0,0,(AF12*((LOG(AF12))/LOG(2))))","v":0},null,{"$f":"N12","v":212},{"$f":"COUNTIF(L35:L43,AI12)","v":0},{"$f":"AJ12/(AL4-AJ10)","v":0},{"$f":"IF(AK12=0,0,(AK12*((LOG(AK12))/LOG(2))))","v":0},null,{"$f":"N12","v":212},{"$f":"COUNTIF(L44:L52,AN12)","v":0},{"$f":"AO12/(AQ4-AO10)","v":0},{"$f":"IF(AP12=0,0,(AP12*((LOG(AP12))/LOG(2))))","v":0},null,{"$f":"N12","v":212},{"$f":"COUNTIF(L53:L61,AS12)","v":0},{"$f":"AT12/(AV4-AT10)","v":0},{"$f":"IF(AU12=0,0,(AU12*((LOG(AU12))/LOG(2))))","v":0}]
[11,778,11,795,21,809,null,null,null,null,0,112,null,221,{"$f":"COUNTIF($L$7:$L$500,N13)","v":0},{"$f":"O13/$Q$4","v":0},{"$f":"IF(P13=0,0,(P13*((LOG(P13))/LOG(2))))","v":0},null,null,{"$f":"N13","v":221},{"$f":"COUNTIF(L7:L15,T13)","v":0},{"$f":"U13/(W4-U10)","v":0},{"$f":"IF(V13=0,0,(V13*((LOG(V13))/LOG(2))))","v":0},null,{"$f":"N13","v":221},{"$f":"COUNTIF(L16:L24,Y13)","v":0},{"$f":"Z13/(AB4-Z10)","v":0},{"$f":"IF(AA13=0,0,(AA13*((LOG(AA13))/LOG(2))))","v":0},null,{"$f":"N13","v":221},{"$f":"COUNTIF(L25:L34,AD13)","v":0},{"$f":"AE13/(AG4-AE10)","v":0},{"$f":"IF(AF13=0,0,(AF13*((LOG(AF13))/LOG(2))))","v":0},null,{"$f":"N13","v":221},{"$f":"COUNTIF(L35:L43,AI13)","v":0},{"$f":"AJ13/(AL4-AJ10)","v":0},{"$f":"IF(AK13=0,0,(AK13*((LOG(AK13))/LOG(2))))","v":0},null,{"$f":"N13","v":221},{"$f":"COUNTIF(L44:L52,AN13)","v":0},{"$f":"AO13/(AQ4-AO10)","v":0},{"$f":"IF(AP13=0,0,(AP13*((LOG(AP13))/LOG(2))))","v":0},null,{"$f":"N13","v":221},{"$f":"COUNTIF(L53:L61,AS13)","v":0},{"$f":"AT13/(AV4-AT10)","v":0},{"$f":"IF(AU13=0,0,(AU13*((LOG(AU13))/LOG(2))))","v":0}]
[11,902,11,909,21,927,null,null,null,null,0,112,null,222,{"$f":"COUNTIF($L$7:$L$500,N14)","v":0},{"$f":"O14/$Q$4","v":0},{"$f":"IF(P14=0,0,(P14*((LOG(P14))/LOG(2))))","v":0},null,null,{"$f":"N14","v":222},{"$f":"COUNTIF(L7:L15,T14)","v":0},{"$f":"U14/(W4-U10)","v":0},{"$f":"IF(V14=0,0,(V14*((LOG(V14))/LOG(2))))","v":0},null,{"$f":"N14","v":222},{"$f":"COUNTIF(L16:L24,Y14)","v":0},{"$f":"Z14/(AB4-Z10)","v":0},{"$f":"IF(AA14=0,0,(AA14*((LOG(AA14))/LOG(2))))","v":0},null,{"$f":"N14","v":222},{"$f":"COUNTIF(L25:L34,AD14)","v":0},{"$f":"AE14/(AG4-AE10)","v":0},{"$f":"IF(AF14=0,0,(AF14*((LOG(AF14))/LOG(2))))","v":0},null,{"$f":"N14","v":222},{"$f":"COUNTIF(L35:L43,AI14)","v":0},{"$f":"AJ14/(AL4-AJ10)","v":0},{"$f":"IF(AK14=0,0,(AK14*((LOG(AK14))/LOG(2))))","v":0},null,{"$f":"N14","v":222},{"$f":"COUNTIF(L44:L52,AN14)","v":0},{"$f":"AO14/(AQ4-AO10)","v":0},{"$f":"IF(AP14=0,0,(AP14*((LOG(AP14))/LOG(2))))","v":0},null,{"$f":"N14","v":222},{"$f":"COUNTIF(L53:L61,AS14)","v":0},{"$f":"AT14/(AV4-AT10)","v":0},{"$f":"IF(AU14=0,0,(AU14*((LOG(AU14))/LOG(2))))","v":0}]
[11,1020,11,1033,12,1041,null,null,null,null,0,111,null,null,null,{"$f":"SUM(P7:P14)","v":1},{"$f":"-SUM(Q7:Q14)","v":0.94172166435555127},null,null,null,null,{"$f":"SUM(V7:V14)","v":1},{"$f":"-SUM(W7:W14)","v":0.81127812445913283},null,null,null,{"$f":"SUM(AA7:AA14)","v":1},{"$f":"-SUM(AB7:AB14)","v":0.76420450650862026},null,null,null,{"$f":"SUM(AF7:AF14)","v":1},{"$f":"-SUM(AG7:AG14)","v":0.72192809488736231},null,null,null,{"$f":"SUM(AK7:AK14)","v":1},{"$f":"-SUM(AL7:AL14)","v":0.91829583405448945},null,null,null,{"$f":"SUM(AP7:AP14)","v":1},{"$f":"-SUM(AQ7:AQ14)","v":0.76420450650862026},null,null,null,{"$f":"SUM(AU7:AU14)","v":1},{"$f":"-SUM(AV7:AV14)","v":0.91829583405448945}]
[11,1144,11,1152,12,1234,null,null,null,null,0,111,null,null,null,"U=",{"$f":"Q15/(LOG(Q4)/LOG(2))","v":0.16288930476900249},null,null,null,null,"U1=",{"$f":"W15/(LOG(W4)/LOG(2))","v":0.25592975357145742},null,null,null,"U2=",{"$f":"AB15/(LOG(AB4)/LOG(2))","v":0.24107968048484052},null,null,null,"U3=",{"$f":"AG15/(LOG(AG4)/LOG(2))","v":0.21732201127364889},null,null,null,"U4=",{"$f":"AL15/(LOG(AL4)/LOG(2))","v":0.28969008214284753},null,null,null,"U5=",{"$f":"AQ15/(LOG(AQ4)/LOG(2))","v":0.24107968048484052},null,null,null,"U6=",{"$f":"AV15/(LOG(AV4)/LOG(2))","v":0.28969008214284753}]
[11,1333,11,1347,21,1362,null,null,null,null,0,112]
[11,1454,11,1460,21,1478,null,null,null,null,0,112]
[11,1576,11,1585,12,1593,null,null,null,null,0,111,null,"Total Target Seq"]
[11,1693,11,1704,21,1747,null,null,null,null,0,112,null,{"$f":"COUNTIF(L7:L61,G3)","v":1},null,9,9,10,9,9,9]
[11,1844,11,1861,21,1874,null,null,null,null,0,112,null,null,null,"% of reinforcement given in 6 equal intervals based on number of trials "]
[11,1969,11,1984,21,2021,null,null,null,null,0,112,null,null,null,"%_1","%_2","%_3","%_4","%_5","%_6"]
[11,2118,11,2133,21,2147,null,null,null,null,0,112,null,null,"target sequence",{"$f":"$G$3","v":122},{"$f":"$G$3","v":122},{"$f":"$G$3","v":122},{"$f":"$G$3","v":122},{"$f":"$G$3","v":122},{"$f":"$G$3","v":122}]
[11,2245,11,2265,21,2277,null,null,null,null,0,112,null,null,"total reinforcement",{"$f":"U10","v":1},{"$f":"Z10","v":0},{"$f":"AE10","v":0},{"$f":"AJ10","v":0},{"$f":"AO10","v":0},{"$f":"AT10","v":0}]
[11,2376,11,2479,21,2495,null,null,null,null,0,112,null,null,"% target"]
[11,2589,11,2601,21,2643,null,null,null,null,0,112,null,null,"CCRF"]
[11,2736,11,2740,21,2753,null,null,null,null,0,112,null,null,"% CCRf"]
[11,2845,11,2854,12,2859,null,null,null,null,0,111,null,null,"average response rate",{"$f":"F15/P20","v":115.66666666666667},{"$f":"(F24-F15)/Q20","v":137.33333333333334},{"$f":"(F34-F24)/R20","v":138.1},{"$f":"(F43-F34)/S20","v":133.88888888888889},{"$f":"(F52-F43)/T20","v":120.44444444444444},{"$f":"(F61-F52)/U20","v":133.33333333333334}]
[11,2956,11,2963,21,2975,null,null,null,null,0,112]
[11,3073,11,3080,21,3168,null,null,null,null,0,112]
[11,3259,11,3264,12,3274,null,null,null,null,0,111]
[11,3378,11,3385,21,3423,null,null,null,null,0,112]
[11,3516,11,3533,21,3545,null,null,null,null,0,112]
[11,3641,11,3646,21,3658,null,null,null,null,0,112]
[11,3758,11,3770,21,3802,null,null,null,null,0,112]
[11,3897,11,3905,21,3950,null,null,null,null,0,112]
[11,4044,11,4054,21,4081,null,null,null,null,0,112]
[11,4172,11,4178,21,4201,null,null,null,null,0,112]
[11,4290,11,4296,12,4306,null,null,null,null,0,111]
[11,4422,11,4484,21,4510,null,null,null,null,0,112]
[11,4607,11,4615,12,4620,null,null,null,null,0,111]
[11,4720,11,4730,12,4737,null,null,null,null,0,111]
[11,4834,11,4840,21,4863,null,null,null,null,0,112]
[11,4954,11,4958,21,4981,null,null,null,null,0,112]
[11,5071,11,5087,12,5094,null,null,null,null,0,111]
[11,5198,11,5206,21,5219,null,null,null,null,0,112]
[11,5313,11,5320,21,5334,null,null,null,null,0,112]
[11,5425,11,5444,12,5453,null,null,null,null,0,111]
[11,5550,11,5558,21,5576,null,null,null,null,0,112]
[11,5668,11,5677,21,5693,null,null,null,null,0,112]
[11,5784,11,5788,21,5840,null,null,null,null,0,112]
[11,5931,11,5936,21,5947,null,null,null,null,0,112]
[11,6040,11,6045,12,6054,null,null,null,null,0,111]
[11,6158,11,6166,21,6207,null,null,null,null,0,112]
[11,6302,11,6310,12,6317,null,null,null,null,0,111]
[11,6413,11,6417,21,6431,null,null,null,null,0,112]
[11,6529,11,6534,21,6590,null,null,null,null,0,112]
[11,6685,11,6693,21,6770,null,null,null,null,0,112]
[11,6862,11,6870,12,6877,null,null,null,null,0,111]
[11,6973,11,6977,21,7018,null,null,null,null,0,112]
[11,7123,11,7131,21,7147,null,null,null,null,1,112]

{"sheet":"!M612930.103","index":21,"n_rows":84,"n_cols":48,"rows_kept":84,"cut":false,"hidden":false,"merged":[[4,39,4,42],[5,39,5,40],[4,44,4,47],[5,44,5,45],[4,24,4,27],[5,24,5,25],[4,29,4,32],[5,29,5,30],[4,34,4,37],[5,34,5,35],[1,1,1,2],[5,13,5,14],[18,13,18,14],[19,13,19,14],[4,19,4,22],[5,19,5,20]]}
["Report for:!M612930.103"]
["Date:","<date>"]
["Hen:","<hen>",null,null,null,"Correct Sequence",{"$f":"Start!J2","v":122},null,null,null,null,null,null,null,null,"Total Sequences in Data",{"$f":"4994-COUNTBLANK(L7:L5000)","v":78},null,null,null,null,"Total Sequences in Block Data",{"$f":"COUNTA(L7:L19)","v":13},null,null,null,"Total Sequences in Block Data",{"$f":"COUNTA(L20:L32)","v":13},null,null,null,"Total Sequences in Block Data",{"$f":"COUNTA(L33:L45)","v":13},null,null,null,"Total Sequences in Block Data",{"$f":"COUNTA(L46:L58)","v":13},null,null,null,"Total Sequences in Block Data",{"$f":"COUNTA(L59:L71)","v":13},null,null,null,"Total Sequences in Block Data",{"$f":"COUNTA(L72:L84)","v":13}]
[null,null,null,null,null,null,null,null,null,null,null,null,null,null,null,"Total Sequences in Summary",{"$f":"SUM(O7:O14)","v":78},null,null,null,null,"Total Sequences in Block Summary",{"$f":"SUM(U7:U14)","v":13},null,null,null,"Total Sequences in Block Summary",{"$f":"SUM(Z7:Z14)","v":13},null,null,null,"Total Sequences in Block Summary",{"$f":"SUM(AE7:AE14)","v":13},null,null,null,"Total Sequences in Block Summary",{"$f":"SUM(AJ7:AJ14)","v":13},null,null,null,"Total Sequences in Block Summary",{"$f":"SUM(AO7:AO14)","v":13},null,null,null,"Total Sequences in Block Summary",{"$f":"SUM(AT7:AT14)","v":13}]
[null,null,null,null,null,null,null,null,null,null,null,null,null,null,null,null,null,null,null,"Block 1",null,null,null,null,"Block 2",null,null,null,null,"Block 3",null,null,null,null,"Block 4",null,null,null,null,"Block 5",null,null,null,null,"Block 6"]
["Sequence\nComponent\n1","Time\n1","Sequence\nComponent\n2","Time\n2","Sequence\nComponent\n3","Time\n3","Sequence\nComponent\n4","Time\n4","Sequence\nComponent\n5","Time\n5","Correct?\n0=No 1=Yes","Sequence",null,"Frequency",null,"Relative Frequency","Variability",null,null,"Frequency",null,"Relative Frequency","Variability",null,"Frequency",null,"Relative Frequency","Variability",null,"Frequency",null,"Relative Frequency","Variability",null,"Frequency",null,"Relative Frequency","Variability",null,"Frequency",null,"Relative Frequency","Variability",null,"Frequency",null,"Relative Frequency","Variability"]
[11,7,11,20,21,32,null,null,null,null,0,112,null,111,{"$f":"COUNTIF($L$7:$L$500,N7)","v":22},{"$f":"O7/$Q$4","v":0.28205128205128205},{"$f":"IF(P7=0,0,(P7*((LOG(P7))/LOG(2))))","v":-0.51501734878139649},null,null,{"$f":"N7","v":111},{"$f":"COUNTIF(L7:L19,T7)","v":3},{"$f":"U7/(W4-U10)","v":0.3},{"$f":"IF(V7=0,0,(V7*((LOG(V7))/LOG(2))))","v":-0.52108967824986185},null,{"$f":"N7","v":111},{"$f":"COUNTIF(L20:L32,Y7)","v":1},{"$f":"Z7/(AB4-Z10)","v":0.125},{"$f":"IF(AA7=0,0,(AA7*((LOG(AA7))/LOG(2))))","v":-0.375},null,{"$f":"N7","v":111},{"$f":"COUNTIF(L33:L45,AD7)","v":3},{"$f":"AE7/(AG4-AE10)","v":0.25},{"$f":"IF(AF7=0,0,(AF7*((LOG(AF7))/LOG(2))))","v":-0.5},null,{"$f":"N7","v":111},{"$f":"COUNTIF(L46:L58,AI7)","v":3},{"$f":"AJ7/(AL4-AJ10)","v":0.27272727272727271},{"$f":"IF(AK7=0,0,(AK7*((LOG(AK7))/LOG(2))))","v":-0.51121885034076575},null,{"$f":"N7","v":111},{"$f":"COUNTIF(L59:L71,AN7)","v":6},{"$f":"AO7/(AQ4-AO10)","v":0.46153846153846156},{"$f":"IF(AP7=0,0,(AP7*((LOG(AP7))/LOG(2))))","v":-0.51483563880920125},null,{"$f":"N7","v":111},{"$f":"COUNTIF(L72:L84,AS7)","v":6},{"$f":"AT7/(AV4-AT10)","v":0.6},{"$f":"IF(AU7=0,0,(AU7*((LOG(AU7))/LOG(2))))","v":-0.44217935649972373}]
[11,138,22,153,23,171,null,null,null,null,0,122,null,112,{"$f":"COUNTIF($L$7:$L$500,N8)","v":40},{"$f":"O8/$Q$4","v":0.51282051282051277},{"$f":"IF(P8=0,0,(P8*((LOG(P8))/LOG(2))))","v":-0.49408929434609544},null,null,{"$f":"N8","v":112},{"$f":"COUNTIF(L7:L19,T8)","v":6},{"$f":"U8/(W4-U10)","v":0.6},{"$f":"IF(V8=0,0,(V8*((LOG(V8))/LOG(2))))","v":-0.44217935649972373},null,{"$f":"N8","v":112},{"$f":"COUNTIF(L20:L32,Y8)","v":7},{"$f":"Z8/(AB4-Z10)","v":0.875},{"$f":"IF(AA8=0,0,(AA8*((LOG(AA8))/LOG(2))))","v":-0.1685644431995964},null,{"$f":"N8","v":112},{"$f":"COUNTIF(L33:L45,AD8)","v":9},{"$f":"AE8/(AG4-AE10)","v":0.75},{"$f":"IF(AF8=0,0,(AF8*((LOG(AF8))/LOG(2))))","v":-0.31127812445913283},null,{"$f":"N8","v":112},{"$f":"COUNTIF(L46:L58,AI8)","v":8},{"$f":"AJ8/(AL4-AJ10)","v":0.72727272727272729},{"$f":"IF(AK8=0,0,(AK8*((LOG(AK8))/LOG(2))))","v":-0.33413208628167068},null,{"$f":"N8","v":112},{"$f":"COUNTIF(L59:L71,AN8)","v":6},{"$f":"AO8/(AQ4-AO10)","v":0.46153846153846156},{"$f":"IF(AP8=0,0,(AP8*((LOG(AP8))/LOG(2))))","v":-0.51483563880920125},null,{"$f":"N8","v":112},{"$f":"COUNTIF(L72:L84,AS8)","v":4},{"$f":"AT8/(AV4-AT10)","v":0.4},{"$f":"IF(AU8=0,0,(AU8*((LOG(AU8))/LOG(2))))","v":-0.52877123795494496}]
[11,281,22,293,14,318,null,null,null,null,0,121,null,121,{"$f":"COUNTIF($L$7:$L$500,N9)","v":1},{"$f":"O9/$Q$4","v":1.282051282051282E-2},{"$f":"IF(P9=0,0,(P9*((LOG(P9))/LOG(2))))","v":-8.0582079729003178E-2},null,null,{"$f":"N9","v":121},{"$f":"COUNTIF(L7:L19,T9)","v":1},{"$f":"U9/(W4-U10)","v":0.1},{"$f":"IF(V9=0,0,(V9*((LOG(V9))/LOG(2))))","v":-0.33219280948873625},null,{"$f":"N9","v":121},{"$f":"COUNTIF(L20:L32,Y9)","v":0},{"$f":"Z9/(AB4-Z10)","v":0},{"$f":"IF(AA9=0,0,(AA9*((LOG(AA9))/LOG(2))))","v":0},null,{"$f":"N9","v":121},{"$f":"COUNTIF(L33:L45,AD9)","v":0},{"$f":"AE9/(AG4-AE10)","v":0},{"$f":"IF(AF9=0,0,(AF9*((LOG(AF9))/LOG(2))))","v":0},null,{"$f":"N9","v":121},{"$f":"COUNTIF(L46:L58,AI9)","v":0},{"$f":"AJ9/(AL4-AJ10)","v":0},{"$f":"IF(AK9=0,0,(AK9*((LOG(AK9))/LOG(2))))","v":0},null,{"$f":"N9","v":121},{"$f":"COUNTIF(L59:L71,AN9)","v":0},{"$f":"AO9/(AQ4-AO10)","v":0},{"$f":"IF(AP9=0,0,(AP9*((LOG(AP9))/LOG(2))))","v":0},null,{"$f":"N9","v":121},{"$f":"COUNTIF(L72:L84,AS9)","v":0},{"$f":"AT9/(AV4-AT10)","v":0},{"$f":"IF(AU9=0,0,(AU9*((LOG(AU9))/LOG(2))))","v":0}]
[11,415,11,422,21,435,null,null,null,null,0,112,null,122,{"$f":"COUNTIF($L$7:$L$500,N10)","v":14},{"$f":"O10/$Q$4","v":0.17948717948717949},{"$f":"IF(P10=0,0,(P10*((LOG(P10))/LOG(2))))","v":-0.4447777199392951},null,null,{"$f":"N10","v":122},{"$f":"COUNTIF(L7:L19,T10)","v":3},null,null,null,{"$f":"N10","v":122},{"$f":"COUNTIF(L20:L32,Y10)","v":5},null,null,null,{"$f":"N10","v":122},{"$f":"COUNTIF(L33:L45,AD10)","v":1},null,null,null,{"$f":"N10","v":122},{"$f":"COUNTIF(L46:L58,AI10)","v":2},null,null,null,{"$f":"N10","v":122},{"$f":"COUNTIF(L59:L71,AN10)","v":0},null,null,null,{"$f":"N10","v":122},{"$f":"COUNTIF(L72:L84,AS10)","v":3}]
[11,529,11,535,21,549,null,null,null,null,0,112,null,211,{"$f":"COUNTIF($L$7:$L$500,N11)","v":0},{"$f":"O11/$Q$4","v":0},{"$f":"IF(P11=0,0,(P11*((LOG(P11))/LOG(2))))","v":0},null,null,{"$f":"N11","v":211},{"$f":"COUNTIF(L7:L19,T11)","v":0},{"$f":"U11/(W4-U10)","v":0},{"$f":"IF(V11=0,0,(V11*((LOG(V11))/LOG(2))))","v":0},null,{"$f":"N11","v":211},{"$f":"COUNTIF(L20:L32,Y11)","v":0},{"$f":"Z11/(AB4-Z10)","v":0},{"$f":"IF(AA11=0,0,(AA11*((LOG(AA11))/LOG(2))))","v":0},null,{"$f":"N11","v":211},{"$f":"COUNTIF(L33:L45,AD11)","v":0},{"$f":"AE11/(AG4-AE10)","v":0},{"$f":"IF(AF11=0,0,(AF11*((LOG(AF11))/LOG(2))))","v":0},null,{"$f":"N11","v":211},{"$f":"COUNTIF(L46:L58,AI11)","v":0},{"$f":"AJ11/(AL4-AJ10)","v":0},{"$f":"IF(AK11=0,0,(AK11*((LOG(AK11))/LOG(2))))","v":0},null,{"$f":"N11","v":211},{"$f":"COUNTIF(L59:L71,AN11)","v":0},{"$f":"AO11/(AQ4-AO10)","v":0},{"$f":"IF(AP11=0,0,(AP11*((LOG(AP11))/LOG(2))))","v":0},null,{"$f":"N11","v":211},{"$f":"COUNTIF(L72:L84,AS11)","v":0},{"$f":"AT11/(AV4-AT10)","v":0},{"$f":"IF(AU11=0,0,(AU11*((LOG(AU11))/LOG(2))))","v":0}]
[11,639,11,646,21,661,null,null,null,null,0,112,null,212,{"$f":"COUNTIF($L$7:$L$500,N12)","v":0},{"$f":"O12/$Q$4","v":0},{"$f":"IF(P12=0,0,(P12*((LOG(P12))/LOG(2))))","v":0},null,null,{"$f":"N12","v":212},{"$f":"COUNTIF(L7:L19,T12)","v":0},{"$f":"U12/(W4-U10)","v":0},{"$f":"IF(V12=0,0,(V12*((LOG(V12))/LOG(2))))","v":0},null,{"$f":"N12","v":212},{"$f":"COUNTIF(L20:L32,Y12)","v":0},{"$f":"Z12/(AB4-Z10)","v":0},{"$f":"IF(AA12=0,0,(AA12*((LOG(AA12))/LOG(2))))","v":0},null,{"$f":"N12","v":212},{"$f":"COUNTIF(L33:L45,AD12)","v":0},{"$f":"AE12/(AG4-AE10)","v":0},{"$f":"IF(AF12=0,0,(AF12*((LOG(AF12))/LOG(2))))","v":0},null,{"$f":"N12","v":212},{"$f":"COUNTIF(L46:L58,AI12)","v":0},{"$f":"AJ12/(AL4-AJ10)","v":0},{"$f":"IF(AK12=0,0,(AK12*((LOG(AK12))/LOG(2))))","v":0},null,{"$f":"N12","v":212},{"$f":"COUNTIF(L59:L71,AN12)","v":0},{"$f":"AO12/(AQ4-AO10)","v":0},{"$f":"IF(AP12=0,0,(AP12*((LOG(AP12))/LOG(2))))","v":0},null,{"$f":"N12","v":212},{"$f":"COUNTIF(L72:L84,AS12)","v":0},{"$f":"AT12/(AV4-AT10)","v":0},{"$f":"IF(AU12=0,0,(AU12*((LOG(AU12))/LOG(2))))","v":0}]
[11,755,11,762,21,778,null,null,null,null,0,112,null,221,{"$f":"COUNTIF($L$7:$L$500,N13)","v":0},{"$f":"O13/$Q$4","v":0},{"$f":"IF(P13=0,0,(P13*((LOG(P13))/LOG(2))))","v":0},null,null,{"$f":"N13","v":221},{"$f":"COUNTIF(L7:L19,T13)","v":0},{"$f":"U13/(W4-U10)","v":0},{"$f":"IF(V13=0,0,(V13*((LOG(V13))/LOG(2))))","v":0},null,{"$f":"N13","v":221},{"$f":"COUNTIF(L20:L32,Y13)","v":0},{"$f":"Z13/(AB4-Z10)","v":0},{"$f":"IF(AA13=0,0,(AA13*((LOG(AA13))/LOG(2))))","v":0},null,{"$f":"N13","v":221},{"$f":"COUNTIF(L33:L45,AD13)","v":0},{"$f":"AE13/(AG4-AE10)","v":0},{"$f":"IF(AF13=0,0,(AF13*((LOG(AF13))/LOG(2))))","v":0},null,{"$f":"N13","v":221},{"$f":"COUNTIF(L46:L58,AI13)","v":0},{"$f":"AJ13/(AL4-AJ10)","v":0},{"$f":"IF(AK13=0,0,(AK13*((LOG(AK13))/LOG(2))))","v":0},null,{"$f":"N13","v":221},{"$f":"COUNTIF(L59:L71,AN13)","v":0},{"$f":"AO13/(AQ4-AO10)","v":0},{"$f":"IF(AP13=0,0,(AP13*((LOG(AP13))/LOG(2))))","v":0},null,{"$f":"N13","v":221},{"$f":"COUNTIF(L72:L84,AS13)","v":0},{"$f":"AT13/(AV4-AT10)","v":0},{"$f":"IF(AU13=0,0,(AU13*((LOG(AU13))/LOG(2))))","v":0}]
[11,867,11,878,12,885,null,null,null,null,0,111,null,222,{"$f":"COUNTIF($L$7:$L$500,N14)","v":1},{"$f":"O14/$Q$4","v":1.282051282051282E-2},{"$f":"IF(P14=0,0,(P14*((LOG(P14))/LOG(2))))","v":-8.0582079729003178E-2},null,null,{"$f":"N14","v":222},{"$f":"COUNTIF(L7:L19,T14)","v":0},{"$f":"U14/(W4-U10)","v":0},{"$f":"IF(V14=0,0,(V14*((LOG(V14))/LOG(2))))","v":0},null,{"$f":"N14","v":222},{"$f":"COUNTIF(L20:L32,Y14)","v":0},{"$f":"Z14/(AB4-Z10)","v":0},{"$f":"IF(AA14=0,0,(AA14*((LOG(AA14))/LOG(2))))","v":0},null,{"$f":"N14","v":222},{"$f":"COUNTIF(L33:L45,AD14)","v":0},{"$f":"AE14/(AG4-AE10)","v":0},{"$f":"IF(AF14=0,0,(AF14*((LOG(AF14))/LOG(2))))","v":0},null,{"$f":"N14","v":222},{"$f":"COUNTIF(L46:L58,AI14)","v":0},{"$f":"AJ14/(AL4-AJ10)","v":0},{"$f":"IF(AK14=0,0,(AK14*((LOG(AK14))/LOG(2))))","v":0},null,{"$f":"N14","v":222},{"$f":"COUNTIF(L59:L71,AN14)","v":1},{"$f":"AO14/(AQ4-AO10)","v":7.6923076923076927E-2},{"$f":"IF(AP14=0,0,(AP14*((LOG(AP14))/LOG(2))))","v":-0.28464920908777636},null,{"$f":"N14","v":222},{"$f":"COUNTIF(L72:L84,AS14)","v":0},{"$f":"AT14/(AV4-AT10)","v":0},{"$f":"IF(AU14=0,0,(AU14*((LOG(AU14))/LOG(2))))","v":0}]
[11,983,11,993,12,1001,null,null,null,null,0,111,null,null,null,{"$f":"SUM(P7:P14)","v":0.99999999999999989},{"$f":"-SUM(Q7:Q14)","v":1.6150485225247933},null,null,null,null,{"$f":"SUM(V7:V14)","v":0.99999999999999989},{"$f":"-SUM(W7:W14)","v":1.2954618442383219},null,null,null,{"$f":"SUM(AA7:AA14)","v":1},{"$f":"-SUM(AB7:AB14)","v":0.5435644431995964},null,null,null,{"$f":"SUM(AF7:AF14)","v":1},{"$f":"-SUM(AG7:AG14)","v":0.81127812445913283},null,null,null,{"$f":"SUM(AK7:AK14)","v":1},{"$f":"-SUM(AL7:AL14)","v":0.84535093662243643},null,null,null,{"$f":"SUM(AP7:AP14)","v":1},{"$f":"-SUM(AQ7:AQ14)","v":1.3143204867061788},null,null,null,{"$f":"SUM(AU7:AU14)","v":1},{"$f":"-SUM(AV7:AV14)","v":0.97095059445466869}]
[11,1100,11,1106,21,1144,null,null,null,null,0,112,null,null,null,"U=",{"$f":"Q15/(LOG(Q4)/LOG(2))","v":0.25695229458475949},null,null,null,null,"U1=",{"$f":"W15/(LOG(W4)/LOG(2))","v":0.35008321791797609},null,null,null,"U2=",{"$f":"AB15/(LOG(AB4)/LOG(2))","v":0.14689185194257259},null,null,null,"U3=",{"$f":"AG15/(LOG(AG4)/LOG(2))","v":0.21923830308109346},null,null,null,"U4=",{"$f":"AL15/(LOG(AL4)/LOG(2))","v":0.22844607695625335},null,null,null,"U5=",{"$f":"AQ15/(LOG(AQ4)/LOG(2))","v":0.35517954265349438},null,null,null,"U6=",{"$f":"AV15/(LOG(AV4)/LOG(2))","v":0.26238789668553864}]
[11,1232,11,1250,12,1322,null,null,null,null,0,111]
[11,1428,22,1440,23,1464,null,null,null,null,0,122]
[11,1571,22,1582,23,1587,null,null,null,null,0,122,null,"Total Target Seq"]
[11,1686,11,1696,12,1704,null,null,null,null,0,111,null,{"$f":"COUNTIF(L7:L84,G3)","v":14},null,13,13,13,13,13,13]
[11,1810,22,1820,23,1854,null,null,null,null,0,122,null,null,null,"% of reinforcement given in 6 equal intervals based on number of trials "]
[11,1957,22,1974,23,1979,null,null,null,null,0,122,null,null,null,"%_1","%_2","%_3","%_4","%_5","%_6"]
[11,2081,22,2090,23,2097,null,null,null,null,0,122,null,null,"target sequence",{"$f":"$G$3","v":122},{"$f":"$G$3","v":122},{"$f":"$G$3","v":122},{"$f":"$G$3","v":122},{"$f":"$G$3","v":122},{"$f":"$G$3","v":122}]
[11,2194,11,2200,21,2211,null,null,null,null,0,112,null,null,"total reinforcement",{"$f":"U10","v":3},{"$f":"Z10","v":5},{"$f":"AE10","v":1},{"$f":"AJ10","v":2},{"$f":"AO10","v":0},{"$f":"AT10","v":3}]
[11,2310,22,2321,23,2335,null,null,null,null,0,122,null,null,"% target"]
[11,2436,11,2449,21,2460,null,null,null,null,0,112,null,null,"CCRF"]
[11,2552,11,2559,21,2570,null,null,null,null,0,112,null,null,"% CCRf"]
[11,2662,11,2683,21,2695,null,null,null,null,0,112,null,null,"average response rate",{"$f":"F19/P20","v":122.07692307692308},{"$f":"(F32-F19)/Q20","v":124.46153846153847},{"$f":"(F45-F32)/R20","v":119.53846153846153},{"$f":"(F58-F45)/S20","v":131.69230769230768},{"$f":"(F71-F58)/T20","v":119.07692307692308},{"$f":"(F84-F71)/U20","v":136.23076923076923}]
[11,2787,11,2792,21,2804,null,null,null,null,0,112]
[11,2900,11,2907,21,2962,null,null,null,null,0,112]
[11,3056,11,3062,21,3073,null,null,null,null,0,112]
[11,3169,22,3182,23,3205,null,null,null,null,0,122]
[11,3308,11,3320,12,3326,null,null,null,null,0,111]
[11,3445,22,3478,23,3492,null,null,null,null,0,122]
[11,3589,11,3595,21,3606,null,null,null,null,0,112]
[11,3702,11,3711,21,3723,null,null,null,null,0,112]
[11,3812,11,3817,12,3826,null,null,null,null,0,111]
[11,3922,11,3928,12,3937,null,null,null,null,0,111]
[11,4034,11,4040,21,4053,null,null,null,null,0,112]
[11,4149,11,4157,21,4169,null,null,null,null,0,112]
[11,4263,11,4267,21,4278,null,null,null,null,0,112]
[11,4370,11,4377,21,4389,null,null,null,null,0,112]
[11,4478,11,4484,21,4496,null,null,null,null,0,112]
[11,4586,11,4592,21,4603,null,null,null,null,0,112]
[11,4694,11,4712,21,4759,null,null,null,null,0,112]
[11,4867,22,4897,23,4932,null,null,null,null,0,122]
[11,5029,11,5045,21,5100,null,null,null,null,0,112]
[11,5193,11,5202,21,5215,null,null,null,null,0,112]
[11,5304,11,5309,21,5339,null,null,null,null,0,112]
[11,5429,11,5449,21,5459,null,null,null,null,0,112]
[11,5549,11,5565,12,5570,null,null,null,null,0,111]
[11,5671,22,5701,23,5721,null,null,null,null,0,122]
[11,5818,11,5821,12,5826,null,null,null,null,0,111]
[11,5928,11,5938,21,5951,null,null,null,null,0,112]
[11,6043,11,6059,12,6066,null,null,null,null,0,111]
[11,6162,11,6168,21,6179,null,null,null,null,0,112]
[11,6269,11,6287,21,6339,null,null,null,null,0,112]
[11,6432,11,6438,21,6471,null,null,null,null,0,112]
[11,6563,11,6579,21,6606,null,null,null,null,0,112]
[11,6695,11,6699,21,6710,null,null,null,null,0,112]
[11,6799,11,6806,21,6865,null,null,null,null,0,112]
[11,6955,11,6971,21,7003,null,null,null,null,0,112]
[11,7092,11,7096,12,7105,null,null,null,null,0,111]
[11,7202,11,7206,12,7221,null,null,null,null,0,111]
[11,7317,11,7328,12,7332,null,null,null,null,0,111]
[11,7429,11,7435,12,7442,null,null,null,null,0,111]
[11,7538,11,7542,12,7546,null,null,null,null,0,111]
[11,7642,11,7647,21,7658,null,null,null,null,0,112]
[11,7754,11,7760,21,7773,null,null,null,null,0,112]
[11,7862,11,7866,12,7875,null,null,null,null,0,111]
[22,7972,24,7978,23,8019,null,null,null,null,0,222]
[11,8116,11,8122,12,8131,null,null,null,null,0,111]
[11,8227,11,8237,12,8241,null,null,null,null,0,111]
[11,8349,11,8357,21,8415,null,null,null,null,0,112]
[11,8507,11,8516,12,8520,null,null,null,null,0,111]
[11,8616,11,8620,12,8630,null,null,null,null,0,111]
[11,8726,11,8737,12,8743,null,null,null,null,0,111]
[11,8839,11,8843,12,8857,null,null,null,null,0,111]
[11,8954,11,8959,21,8975,null,null,null,null,0,112]
[11,9232,22,9246,23,9255,null,null,null,null,0,122]
[11,9403,22,9414,23,9421,null,null,null,null,0,122]
[11,9520,22,9528,23,9552,null,null,null,null,0,122]
[11,9650,11,9655,21,9665,null,null,null,null,0,112]
[11,9755,11,9767,21,9790,null,null,null,null,1,112]

{"sheet":"!M613A20.103","index":22,"n_rows":86,"n_cols":48,"rows_kept":86,"cut":false,"hidden":false,"merged":[[4,39,4,42],[5,39,5,40],[4,44,4,47],[5,44,5,45],[4,24,4,27],[5,24,5,25],[4,29,4,32],[5,29,5,30],[4,34,4,37],[5,34,5,35],[1,1,1,2],[5,13,5,14],[18,13,18,14],[19,13,19,14],[4,19,4,22],[5,19,5,20]]}
["Report for:!M613A20.103"]
["Date:","<date>"]
["Hen:","<hen>",null,null,null,"Correct Sequence",{"$f":"Start!J2","v":122},null,null,null,null,null,null,null,null,"Total Sequences in Data",{"$f":"4994-COUNTBLANK(L7:L5000)","v":80},null,null,null,null,"Total Sequences in Block Data",{"$f":"COUNTA(L7:L19)","v":13},null,null,null,"Total Sequences in Block Data",{"$f":"COUNTA(L20:L33)","v":14},null,null,null,"Total Sequences in Block Data",{"$f":"COUNTA(L34:L46)","v":13},null,null,null,"Total Sequences in Block Data",{"$f":"COUNTA(L47:L59)","v":13},null,null,null,"Total Sequences in Block Data",{"$f":"COUNTA(L60:L73)","v":14},null,null,null,"Total Sequences in Block Data",{"$f":"COUNTA(L74:L86)","v":13}]
[null,null,null,null,null,null,null,null,null,null,null,null,null,null,null,"Total Sequences in Summary",{"$f":"SUM(O7:O14)","v":80},null,null,null,null,"Total Sequences in Block Summary",{"$f":"SUM(U7:U14)","v":13},null,null,null,"Total Sequences in Block Summary",{"$f":"SUM(Z7:Z14)","v":14},null,null,null,"Total Sequences in Block Summary",{"$f":"SUM(AE7:AE14)","v":13},null,null,null,"Total Sequences in Block Summary",{"$f":"SUM(AJ7:AJ14)","v":13},null,null,null,"Total Sequences in Block Summary",{"$f":"SUM(AO7:AO14)","v":14},null,null,null,"Total Sequences in Block Summary",{"$f":"SUM(AT7:AT14)","v":13}]
[null,null,null,null,null,null,null,null,null,null,null,null,null,null,null,null,null,null,null,"Block 1",null,null,null,null,"Block 2",null,null,null,null,"Block 3",null,null,null,null,"Block 4",null,null,null,null,"Block 5",null,null,null,null,"Block 6"]
["Sequence\nComponent\n1","Time\n1","Sequence\nComponent\n2","Time\n2","Sequence\nComponent\n3","Time\n3","Sequence\nComponent\n4","Time\n4","Sequence\nComponent\n5","Time\n5","Correct?\n0=No 1=Yes","Sequence",null,"Frequency",null,"Relative Frequency","Variability",null,null,"Frequency",null,"Relative Frequency","Variability",null,"Frequency",null,"Relative Frequency","Variability",null,"Frequency",null,"Relative Frequency","Variability",null,"Frequency",null,"Relative Frequency","Variability",null,"Frequency",null,"Relative Frequency","Variability",null,"Frequency",null,"Relative Frequency","Variability"]
[11,10,11,16,21,29,null,null,null,null,0,112,null,111,{"$f":"COUNTIF($L$7:$L$500,N7)","v":30},{"$f":"O7/$Q$4","v":0.375},{"$f":"IF(P7=0,0,(P7*((LOG(P7))/LOG(2))))","v":-0.53063906222956647},null,null,{"$f":"N7","v":111},{"$f":"COUNTIF(L7:L19,T7)","v":2},{"$f":"U7/(W4-U10)","v":0.2},{"$f":"IF(V7=0,0,(V7*((LOG(V7))/LOG(2))))","v":-0.46438561897747244},null,{"$f":"N7","v":111},{"$f":"COUNTIF(L20:L33,Y7)","v":3},{"$f":"Z7/(AB4-Z10)","v":0.27272727272727271},{"$f":"IF(AA7=0,0,(AA7*((LOG(AA7))/LOG(2))))","v":-0.51121885034076575},null,{"$f":"N7","v":111},{"$f":"COUNTIF(L34:L46,AD7)","v":5},{"$f":"AE7/(AG4-AE10)","v":0.45454545454545453},{"$f":"IF(AF7=0,0,(AF7*((LOG(AF7))/LOG(2))))","v":-0.51704705624997038},null,{"$f":"N7","v":111},{"$f":"COUNTIF(L47:L59,AI7)","v":6},{"$f":"AJ7/(AL4-AJ10)","v":0.46153846153846156},{"$f":"IF(AK7=0,0,(AK7*((LOG(AK7))/LOG(2))))","v":-0.51483563880920125},null,{"$f":"N7","v":111},{"$f":"COUNTIF(L60:L73,AN7)","v":9},{"$f":"AO7/(AQ4-AO10)","v":0.6428571428571429},{"$f":"IF(AP7=0,0,(AP7*((LOG(AP7))/LOG(2))))","v":-0.40977637753840174},null,{"$f":"N7","v":111},{"$f":"COUNTIF(L74:L86,AS7)","v":5},{"$f":"AT7/(AV4-AT10)","v":0.41666666666666669},{"$f":"IF(AU7=0,0,(AU7*((LOG(AU7))/LOG(2))))","v":-0.52626433576408083}]
[11,127,22,137,23,152,null,null,null,null,0,122,null,112,{"$f":"COUNTIF($L$7:$L$500,N8)","v":40},{"$f":"O8/$Q$4","v":0.5},{"$f":"IF(P8=0,0,(P8*((LOG(P8))/LOG(2))))","v":-0.5},null,null,{"$f":"N8","v":112},{"$f":"COUNTIF(L7:L19,T8)","v":7},{"$f":"U8/(W4-U10)","v":0.7},{"$f":"IF(V8=0,0,(V8*((LOG(V8))/LOG(2))))","v":-0.36020122098083079},null,{"$f":"N8","v":112},{"$f":"COUNTIF(L20:L33,Y8)","v":8},{"$f":"Z8/(AB4-Z10)","v":0.72727272727272729},{"$f":"IF(AA8=0,0,(AA8*((LOG(AA8))/LOG(2))))","v":-0.33413208628167068},null,{"$f":"N8","v":112},{"$f":"COUNTIF(L34:L46,AD8)","v":6},{"$f":"AE8/(AG4-AE10)","v":0.54545454545454541},{"$f":"IF(AF8=0,0,(AF8*((LOG(AF8))/LOG(2))))","v":-0.47698315522698609},null,{"$f":"N8","v":112},{"$f":"COUNTIF(L47:L59,AI8)","v":7},{"$f":"AJ8/(AL4-AJ10)","v":0.53846153846153844},{"$f":"IF(AK8=0,0,(AK8*((LOG(AK8))/LOG(2))))","v":-0.48089181327572433},null,{"$f":"N8","v":112},{"$f":"COUNTIF(L60:L73,AN8)","v":5},{"$f":"AO8/(AQ4-AO10)","v":0.35714285714285715},{"$f":"IF(AP8=0,0,(AP8*((LOG(AP8))/LOG(2))))","v":-0.53050958113222924},null,{"$f":"N8","v":112},{"$f":"COUNTIF(L74:L86,AS8)","v":7},{"$f":"AT8/(AV4-AT10)","v":0.58333333333333337},{"$f":"IF(AU8=0,0,(AU8*((LOG(AU8))/LOG(2))))","v":-0.45360442088707198}]
[11,256,11,263,21,276,null,null,null,null,0,112,null,121,{"$f":"COUNTIF($L$7:$L$500,N9)","v":0},{"$f":"O9/$Q$4","v":0},{"$f":"IF(P9=0,0,(P9*((LOG(P9))/LOG(2))))","v":0},null,null,{"$f":"N9","v":121},{"$f":"COUNTIF(L7:L19,T9)","v":0},{"$f":"U9/(W4-U10)","v":0},{"$f":"IF(V9=0,0,(V9*((LOG(V9))/LOG(2))))","v":0},null,{"$f":"N9","v":121},{"$f":"COUNTIF(L20:L33,Y9)","v":0},{"$f":"Z9/(AB4-Z10)","v":0},{"$f":"IF(AA9=0,0,(AA9*((LOG(AA9))/LOG(2))))","v":0},null,{"$f":"N9","v":121},{"$f":"COUNTIF(L34:L46,AD9)","v":0},{"$f":"AE9/(AG4-AE10)","v":0},{"$f":"IF(AF9=0,0,(AF9*((LOG(AF9))/LOG(2))))","v":0},null,{"$f":"N9","v":121},{"$f":"COUNTIF(L47:L59,AI9)","v":0},{"$f":"AJ9/(AL4-AJ10)","v":0},{"$f":"IF(AK9=0,0,(AK9*((LOG(AK9))/LOG(2))))","v":0},null,{"$f":"N9","v":121},{"$f":"COUNTIF(L60:L73,AN9)","v":0},{"$f":"AO9/(AQ4-AO10)","v":0},{"$f":"IF(AP9=0,0,(AP9*((LOG(AP9))/LOG(2))))","v":0},null,{"$f":"N9","v":121},{"$f":"COUNTIF(L74:L86,AS9)","v":0},{"$f":"AT9/(AV4-AT10)","v":0},{"$f":"IF(AU9=0,0,(AU9*((LOG(AU9))/LOG(2))))","v":0}]
[11,371,11,378,21,417,null,null,null,null,0,112,null,122,{"$f":"COUNTIF($L$7:$L$500,N10)","v":9},{"$f":"O10/$Q$4","v":0.1125},{"$f":"IF(P10=0,0,(P10*((LOG(P10))/LOG(2))))","v":-0.35460034801256812},null,null,{"$f":"N10","v":122},{"$f":"COUNTIF(L7:L19,T10)","v":3},null,null,null,{"$f":"N10","v":122},{"$f":"COUNTIF(L20:L33,Y10)","v":3},null,null,null,{"$f":"N10","v":122},{"$f":"COUNTIF(L34:L46,AD10)","v":2},null,null,null,{"$f":"N10","v":122},{"$f":"COUNTIF(L47:L59,AI10)","v":0},null,null,null,{"$f":"N10","v":122},{"$f":"COUNTIF(L60:L73,AN10)","v":0},null,null,null,{"$f":"N10","v":122},{"$f":"COUNTIF(L74:L86,AS10)","v":1}]
[11,509,11,519,12,526,null,null,null,null,0,111,null,211,{"$f":"COUNTIF($L$7:$L$500,N11)","v":0},{"$f":"O11/$Q$4","v":0},{"$f":"IF(P11=0,0,(P11*((LOG(P11))/LOG(2))))","v":0},null,null,{"$f":"N11","v":211},{"$f":"COUNTIF(L7:L19,T11)","v":0},{"$f":"U11/(W4-U10)","v":0},{"$f":"IF(V11=0,0,(V11*((LOG(V11))/LOG(2))))","v":0},null,{"$f":"N11","v":211},{"$f":"COUNTIF(L20:L33,Y11)","v":0},{"$f":"Z11/(AB4-Z10)","v":0},{"$f":"IF(AA11=0,0,(AA11*((LOG(AA11))/LOG(2))))","v":0},null,{"$f":"N11","v":211},{"$f":"COUNTIF(L34:L46,AD11)","v":0},{"$f":"AE11/(AG4-AE10)","v":0},{"$f":"IF(AF11=0,0,(AF11*((LOG(AF11))/LOG(2))))","v":0},null,{"$f":"N11","v":211},{"$f":"COUNTIF(L47:L59,AI11)","v":0},{"$f":"AJ11/(AL4-AJ10)","v":0},{"$f":"IF(AK11=0,0,(AK11*((LOG(AK11))/LOG(2))))","v":0},null,{"$f":"N11","v":211},{"$f":"COUNTIF(L60:L73,AN11)","v":0},{"$f":"AO11/(AQ4-AO10)","v":0},{"$f":"IF(AP11=0,0,(AP11*((LOG(AP11))/LOG(2))))","v":0},null,{"$f":"N11","v":211},{"$f":"COUNTIF(L74:L86,AS11)","v":0},{"$f":"AT11/(AV4-AT10)","v":0},{"$f":"IF(AU11=0,0,(AU11*((LOG(AU11))/LOG(2))))","v":0}]
[11,624,11,634,12,643,null,null,null,null,0,111,null,212,{"$f":"COUNTIF($L$7:$L$500,N12)","v":0},{"$f":"O12/$Q$4","v":0},{"$f":"IF(P12=0,0,(P12*((LOG(P12))/LOG(2))))","v":0},null,null,{"$f":"N12","v":212},{"$f":"COUNTIF(L7:L19,T12)","v":0},{"$f":"U12/(W4-U10)","v":0},{"$f":"IF(V12=0,0,(V12*((LOG(V12))/LOG(2))))","v":0},null,{"$f":"N12","v":212},{"$f":"COUNTIF(L20:L33,Y12)","v":0},{"$f":"Z12/(AB4-Z10)","v":0},{"$f":"IF(AA12=0,0,(AA12*((LOG(AA12))/LOG(2))))","v":0},null,{"$f":"N12","v":212},{"$f":"COUNTIF(L34:L46,AD12)","v":0},{"$f":"AE12/(AG4-AE10)","v":0},{"$f":"IF(AF12=0,0,(AF12*((LOG(AF12))/LOG(2))))","v":0},null,{"$f":"N12","v":212},{"$f":"COUNTIF(L47:L59,AI12)","v":0},{"$f":"AJ12/(AL4-AJ10)","v":0},{"$f":"IF(AK12=0,0,(AK12*((LOG(AK12))/LOG(2))))","v":0},null,{"$f":"N12","v":212},{"$f":"COUNTIF(L60:L73,AN12)","v":0},{"$f":"AO12/(AQ4-AO10)","v":0},{"$f":"IF(AP12=0,0,(AP12*((LOG(AP12))/LOG(2))))","v":0},null,{"$f":"N12","v":212},{"$f":"COUNTIF(L74:L86,AS12)","v":0},{"$f":"AT12/(AV4-AT10)","v":0},{"$f":"IF(AU12=0,0,(AU12*((LOG(AU12))/LOG(2))))","v":0}]
[11,744,11,752,21,774,null,null,null,null,0,112,null,221,{"$f":"COUNTIF($L$7:$L$500,N13)","v":0},{"$f":"O13/$Q$4","v":0},{"$f":"IF(P13=0,0,(P13*((LOG(P13))/LOG(2))))","v":0},null,null,{"$f":"N13","v":221},{"$f":"COUNTIF(L7:L19,T13)","v":0},{"$f":"U13/(W4-U10)","v":0},{"$f":"IF(V13=0,0,(V13*((LOG(V13))/LOG(2))))","v":0},null,{"$f":"N13","v":221},{"$f":"COUNTIF(L20:L33,Y13)","v":0},{"$f":"Z13/(AB4-Z10)","v":0},{"$f":"IF(AA13=0,0,(AA13*((LOG(AA13))/LOG(2))))","v":0},null,{"$f":"N13","v":221},{"$f":"COUNTIF(L34:L46,AD13)","v":0},{"$f":"AE13/(AG4-AE10)","v":0},{"$f":"IF(AF13=0,0,(AF13*((LOG(AF13))/LOG(2))))","v":0},null,{"$f":"N13","v":221},{"$f":"COUNTIF(L47:L59,AI13)","v":0},{"$f":"AJ13/(AL4-AJ10)","v":0},{"$f":"IF(AK13=0,0,(AK13*((LOG(AK13))/LOG(2))))","v":0},null,{"$f":"N13","v":221},{"$f":"COUNTIF(L60:L73,AN13)","v":0},{"$f":"AO13/(AQ4-AO10)","v":0},{"$f":"IF(AP13=0,0,(AP13*((LOG(AP13))/LOG(2))))","v":0},null,{"$f":"N13","v":221},{"$f":"COUNTIF(L74:L86,AS13)","v":0},{"$f":"AT13/(AV4-AT10)","v":0},{"$f":"IF(AU13=0,0,(AU13*((LOG(AU13))/LOG(2))))","v":0}]
[11,869,11,881,21,906,null,null,null,null,0,112,null,222,{"$f":"COUNTIF($L$7:$L$500,N14)","v":1},{"$f":"O14/$Q$4","v":1.2500000000000001E-2},{"$f":"IF(P14=0,0,(P14*((LOG(P14))/LOG(2))))","v":-7.902410118609203E-2},null,null,{"$f":"N14","v":222},{"$f":"COUNTIF(L7:L19,T14)","v":1},{"$f":"U14/(W4-U10)","v":0.1},{"$f":"IF(V14=0,0,(V14*((LOG(V14))/LOG(2))))","v":-0.33219280948873625},null,{"$f":"N14","v":222},{"$f":"COUNTIF(L20:L33,Y14)","v":0},{"$f":"Z14/(AB4-Z10)","v":0},{"$f":"IF(AA14=0,0,(AA14*((LOG(AA14))/LOG(2))))","v":0},null,{"$f":"N14","v":222},{"$f":"COUNTIF(L34:L46,AD14)","v":0},{"$f":"AE14/(AG4-AE10)","v":0},{"$f":"IF(AF14=0,0,(AF14*((LOG(AF14))/LOG(2))))","v":0},null,{"$f":"N14","v":222},{"$f":"COUNTIF(L47:L59,AI14)","v":0},{"$f":"AJ14/(AL4-AJ10)","v":0},{"$f":"IF(AK14=0,0,(AK14*((LOG(AK14))/LOG(2))))","v":0},null,{"$f":"N14","v":222},{"$f":"COUNTIF(L60:L73,AN14)","v":0},{"$f":"AO14/(AQ4-AO10)","v":0},{"$f":"IF(AP14=0,0,(AP14*((LOG(AP14))/LOG(2))))","v":0},null,{"$f":"N14","v":222},{"$f":"COUNTIF(L74:L86,AS14)","v":0},{"$f":"AT14/(AV4-AT10)","v":0},{"$f":"IF(AU14=0,0,(AU14*((LOG(AU14))/LOG(2))))","v":0}]
[11,1003,11,1011,21,1054,null,null,null,null,0,112,null,null,null,{"$f":"SUM(P7:P14)","v":1},{"$f":"-SUM(Q7:Q14)","v":1.4642635114282265},null,null,null,null,{"$f":"SUM(V7:V14)","v":0.99999999999999989},{"$f":"-SUM(W7:W14)","v":1.1567796494470395},null,null,null,{"$f":"SUM(AA7:AA14)","v":1},{"$f":"-SUM(AB7:AB14)","v":0.84535093662243643},null,null,null,{"$f":"SUM(AF7:AF14)","v":1},{"$f":"-SUM(AG7:AG14)","v":0.99403021147695647},null,null,null,{"$f":"SUM(AK7:AK14)","v":1},{"$f":"-SUM(AL7:AL14)","v":0.99572745208492552},null,null,null,{"$f":"SUM(AP7:AP14)","v":1},{"$f":"-SUM(AQ7:AQ14)","v":0.94028595867063092},null,null,null,{"$f":"SUM(AU7:AU14)","v":1},{"$f":"-SUM(AV7:AV14)","v":0.97986875665115281}]
[11,1150,22,1165,23,1173,null,null,null,null,0,122,null,null,null,"U=",{"$f":"Q15/(LOG(Q4)/LOG(2))","v":0.23161660326576608},null,null,null,null,"U1=",{"$f":"W15/(LOG(W4)/LOG(2))","v":0.31260599754564983},null,null,null,"U2=",{"$f":"AB15/(LOG(AB4)/LOG(2))","v":0.22203103044713901},null,null,null,"U3=",{"$f":"AG15/(LOG(AG4)/LOG(2))","v":0.26862488979453109},null,null,null,"U4=",{"$f":"AL15/(LOG(AL4)/LOG(2))","v":0.26908354896404774},null,null,null,"U5=",{"$f":"AQ15/(LOG(AQ4)/LOG(2))","v":0.24696566984684301},null,null,null,"U6=",{"$f":"AV15/(LOG(AV4)/LOG(2))","v":0.2647979243784}]
[22,1298,24,1311,23,1318,null,null,null,null,0,222]
[11,1434,22,1450,23,1481,null,null,null,null,0,122]
[11,1579,11,1584,21,1606,null,null,null,null,0,112,null,"Total Target Seq"]
[11,1702,22,1716,23,1721,null,null,null,null,0,122,null,{"$f":"COUNTIF(L7:L86,G3)","v":9},null,13,14,13,13,14,13]
[11,1818,11,1845,21,1857,null,null,null,null,0,112,null,null,null,"% of reinforcement given in 6 equal intervals based on number of trials "]
[11,1971,22,2006,23,2021,null,null,null,null,0,122,null,null,null,"%_1","%_2","%_3","%_4","%_5","%_6"]
[11,2130,22,2139,23,2146,null,null,null,null,0,122,null,null,"target sequence",{"$f":"$G$3","v":122},{"$f":"$G$3","v":122},{"$f":"$G$3","v":122},{"$f":"$G$3","v":122},{"$f":"$G$3","v":122},{"$f":"$G$3","v":122}]
[11,2242,11,2248,21,2259,null,null,null,null,0,112,null,null,"total reinforcement",{"$f":"U10","v":3},{"$f":"Z10","v":3},{"$f":"AE10","v":2},{"$f":"AJ10","v":0},{"$f":"AO10","v":0},{"$f":"AT10","v":1}]
[11,2353,11,2363,21,2398,null,null,null,null,0,112,null,null,"% target"]
[11,2491,11,2501,21,2512,null,null,null,null,0,112,null,null,"CCRF"]
[11,2606,11,2610,21,2622,null,null,null,null,0,112,null,null,"% CCRf"]
[11,2712,11,2716,12,2722,null,null,null,null,0,111,null,null,"average response rate",{"$f":"F19/P20","v":123.53846153846153},{"$f":"(F33-F19)/Q20","v":124.78571428571429},{"$f":"(F46-F33)/R20","v":128.07692307692307},{"$f":"(F59-F46)/S20","v":118.46153846153847},{"$f":"(F73-F59)/T20","v":113.71428571428571},{"$f":"(F86-F73)/U20","v":120.53846153846153}]
[11,2820,11,2824,21,2835,null,null,null,null,0,112]
[11,2931,11,2936,21,2980,null,null,null,null,0,112]
[11,3074,11,3077,12,3088,null,null,null,null,0,111]
[11,3186,11,3206,21,3251,null,null,null,null,0,112]
[11,3345,11,3349,12,3353,null,null,null,null,0,111]
[11,3450,11,3455,12,3467,null,null,null,null,0,111]
[11,3583,22,3598,23,3627,null,null,null,null,0,122]
[11,3725,11,3729,12,3737,null,null,null,null,0,111]
[11,3833,11,3853,21,3882,null,null,null,null,0,112]
[11,3977,11,3998,21,4009,null,null,null,null,0,112]
[11,4101,11,4106,12,4110,null,null,null,null,0,111]
[11,4208,11,4221,21,4288,null,null,null,null,0,112]
[11,4381,11,4386,21,4398,null,null,null,null,0,112]
[11,4493,11,4501,12,4505,null,null,null,null,0,111]
[11,4602,22,4630,23,4667,null,null,null,null,0,122]
[11,4763,11,4767,12,4772,null,null,null,null,0,111]
[11,4868,11,4891,21,4903,null,null,null,null,0,112]
[11,5001,11,5006,21,5018,null,null,null,null,0,112]
[11,5111,11,5115,12,5121,null,null,null,null,0,111]
[11,5218,11,5223,21,5236,null,null,null,null,0,112]
[11,5327,11,5331,12,5336,null,null,null,null,0,111]
[11,5438,11,5478,21,5492,null,null,null,null,0,112]
[11,5594,11,5597,12,5605,null,null,null,null,0,111]
[11,5701,11,5740,21,5754,null,null,null,null,0,112]
[11,5847,11,5852,21,5891,null,null,null,null,0,112]
[11,5984,11,5987,12,5994,null,null,null,null,0,111]
[11,6090,11,6104,21,6122,null,null,null,null,0,112]
[11,6214,11,6218,12,6223,null,null,null,null,0,111]
[11,6322,11,6326,12,6331,null,null,null,null,0,111]
[11,6428,11,6430,21,6445,null,null,null,null,0,112]
[11,6539,11,6544,21,6558,null,null,null,null,0,112]
[11,6650,11,6654,12,6662,null,null,null,null,0,111]
[11,6759,11,6763,12,6767,null,null,null,null,0,111]
[11,6867,11,6872,21,6885,null,null,null,null,0,112]
[11,6975,11,6980,12,6986,null,null,null,null,0,111]
[11,7098,11,7109,21,7167,null,null,null,null,0,112]
[11,7261,11,7264,12,7269,null,null,null,null,0,111]
[11,7370,11,7374,12,7381,null,null,null,null,0,111]
[11,7478,11,7481,21,7499,null,null,null,null,0,112]
[11,7592,11,7595,12,7600,null,null,null,null,0,111]
[11,7697,11,7701,12,7711,null,null,null,null,0,111]
[11,7809,11,7812,12,7820,null,null,null,null,0,111]
[11,7916,11,7927,21,7939,null,null,null,null,0,112]
[11,8032,11,8036,21,8048,null,null,null,null,0,112]
[11,8138,11,8141,12,8150,null,null,null,null,0,111]
[11,8245,11,8249,21,8261,null,null,null,null,0,112]
[11,8353,11,8362,21,8426,null,null,null,null,0,112]
[11,8517,11,8520,12,8528,null,null,null,null,0,111]
[11,8627,11,8632,21,8644,null,null,null,null,0,112]
[11,8738,11,8742,12,8749,null,null,null,null,0,111]
[11,8850,11,8868,12,8874,null,null,null,null,0,111]
[11,8970,11,8974,21,8990,null,null,null,null,0,112]
[11,9085,11,9088,21,9102,null,null,null,null,0,112]
[11,9195,11,9201,12,9207,null,null,null,null,0,111]
[11,9313,22,9326,23,9360,null,null,null,null,0,122]
[11,9456,11,9475,21,9491,null,null,null,null,0,112]
[11,9594,11,9598,12,9603,null,null,null,null,0,111]
[11,9699,11,9704,21,9717,null,null,null,null,1,112]

{"sheet":"!M614A30.103","index":23,"n_rows":77,"n_cols":48,"rows_kept":77,"cut":false,"hidden":false,"merged":[[4,39,4,42],[5,39,5,40],[4,44,4,47],[5,44,5,45],[4,24,4,27],[5,24,5,25],[4,29,4,32],[5,29,5,30],[4,34,4,37],[5,34,5,35],[1,1,1,2],[5,13,5,14],[18,13,18,14],[19,13,19,14],[4,19,4,22],[5,19,5,20]]}
["Report for:!M614A30.103"]
["Date:","<date>"]
["Hen:","<hen>",null,null,null,"Correct Sequence",{"$f":"Start!J2","v":122},null,null,null,null,null,null,null,null,"Total Sequences in Data",{"$f":"4994-COUNTBLANK(L7:L5000)","v":71},null,null,null,null,"Total Sequences in Block Data",{"$f":"COUNTA(L7:L18)","v":12},null,null,null,"Total Sequences in Block Data",{"$f":"COUNTA(L19:L30)","v":12},null,null,null,"Total Sequences in Block Data",{"$f":"COUNTA(L31:L41)","v":11},null,null,null,"Total Sequences in Block Data",{"$f":"COUNTA(L42:L53)","v":12},null,null,null,"Total Sequences in Block Data",{"$f":"COUNTA(L54:L65)","v":12},null,null,null,"Total Sequences in Block Data",{"$f":"COUNTA(L66:L77)","v":12}]
[null,null,null,null,null,null,null,null,null,null,null,null,null,null,null,"Total Sequences in Summary",{"$f":"SUM(O7:O14)","v":71},null,null,null,null,"Total Sequences in Block Summary",{"$f":"SUM(U7:U14)","v":12},null,null,null,"Total Sequences in Block Summary",{"$f":"SUM(Z7:Z14)","v":12},null,null,null,"Total Sequences in Block Summary",{"$f":"SUM(AE7:AE14)","v":11},null,null,null,"Total Sequences in Block Summary",{"$f":"SUM(AJ7:AJ14)","v":12},null,null,null,"Total Sequences in Block Summary",{"$f":"SUM(AO7:AO14)","v":12},null,null,null,"Total Sequences in Block Summary",{"$f":"SUM(AT7:AT14)","v":12}]
[null,null,null,null,null,null,null,null,null,null,null,null,null,null,null,null,null,null,null,"Block 1",null,null,null,null,"Block 2",null,null,null,null,"Block 3",null,null,null,null,"Block 4",null,null,null,null,"Block 5",null,null,null,null,"Block 6"]
["Sequence\nComponent\n1","Time\n1","Sequence\nComponent\n2","Time\n2","Sequence\nComponent\n3","Time\n3","Sequence\nComponent\n4","Time\n4","Sequence\nComponent\n5","Time\n5","Correct?\n0=No 1=Yes","Sequence",null,"Frequency",null,"Relative Frequency","Variability",null,null,"Frequency",null,"Relative Frequency","Variability",null,"Frequency",null,"Relative Frequency","Variability",null,"Frequency",null,"Relative Frequency","Variability",null,"Frequency",null,"Relative Frequency","Variability",null,"Frequency",null,"Relative Frequency","Variability",null,"Frequency",null,"Relative Frequency","Variability"]
[11,7,11,12,21,23,null,null,null,null,0,112,null,111,{"$f":"COUNTIF($L$7:$L$500,N7)","v":6},{"$f":"O7/$Q$4","v":8.4507042253521125E-2},{"$f":"IF(P7=0,0,(P7*((LOG(P7))/LOG(2))))","v":-0.30124940440424158},null,null,{"$f":"N7","v":111},{"$f":"COUNTIF(L7:L18,T7)","v":0},{"$f":"U7/(W4-U10)","v":0},{"$f":"IF(V7=0,0,(V7*((LOG(V7))/LOG(2))))","v":0},null,{"$f":"N7","v":111},{"$f":"COUNTIF(L19:L30,Y7)","v":2},{"$f":"Z7/(AB4-Z10)","v":0.22222222222222221},{"$f":"IF(AA7=0,0,(AA7*((LOG(AA7))/LOG(2))))","v":-0.48220555587606945},null,{"$f":"N7","v":111},{"$f":"COUNTIF(L31:L41,AD7)","v":1},{"$f":"AE7/(AG4-AE10)","v":0.14285714285714285},{"$f":"IF(AF7=0,0,(AF7*((LOG(AF7))/LOG(2))))","v":-0.40105070315108626},null,{"$f":"N7","v":111},{"$f":"COUNTIF(L42:L53,AI7)","v":1},{"$f":"AJ7/(AL4-AJ10)","v":0.16666666666666666},{"$f":"IF(AK7=0,0,(AK7*((LOG(AK7))/LOG(2))))","v":-0.43082708345352599},null,{"$f":"N7","v":111},{"$f":"COUNTIF(L54:L65,AN7)","v":1},{"$f":"AO7/(AQ4-AO10)","v":9.0909090909090912E-2},{"$f":"IF(AP7=0,0,(AP7*((LOG(AP7))/LOG(2))))","v":-0.31449378351248153},null,{"$f":"N7","v":111},{"$f":"COUNTIF(L66:L77,AS7)","v":1},{"$f":"AT7/(AV4-AT10)","v":0.125},{"$f":"IF(AU7=0,0,(AU7*((LOG(AU7))/LOG(2))))","v":-0.375}]
[11,114,22,124,23,138,null,null,null,null,0,122,null,112,{"$f":"COUNTIF($L$7:$L$500,N8)","v":40},{"$f":"O8/$Q$4","v":0.56338028169014087},{"$f":"IF(P8=0,0,(P8*((LOG(P8))/LOG(2))))","v":-0.46637691527736319},null,null,{"$f":"N8","v":112},{"$f":"COUNTIF(L7:L18,T8)","v":6},{"$f":"U8/(W4-U10)","v":1},{"$f":"IF(V8=0,0,(V8*((LOG(V8))/LOG(2))))","v":0},null,{"$f":"N8","v":112},{"$f":"COUNTIF(L19:L30,Y8)","v":7},{"$f":"Z8/(AB4-Z10)","v":0.77777777777777779},{"$f":"IF(AA8=0,0,(AA8*((LOG(AA8))/LOG(2))))","v":-0.28199895063255082},null,{"$f":"N8","v":112},{"$f":"COUNTIF(L31:L41,AD8)","v":6},{"$f":"AE8/(AG4-AE10)","v":0.8571428571428571},{"$f":"IF(AF8=0,0,(AF8*((LOG(AF8))/LOG(2))))","v":-0.19062207543124113},null,{"$f":"N8","v":112},{"$f":"COUNTIF(L42:L53,AI8)","v":4},{"$f":"AJ8/(AL4-AJ10)","v":0.66666666666666663},{"$f":"IF(AK8=0,0,(AK8*((LOG(AK8))/LOG(2))))","v":-0.38997500048077083},null,{"$f":"N8","v":112},{"$f":"COUNTIF(L54:L65,AN8)","v":10},{"$f":"AO8/(AQ4-AO10)","v":0.90909090909090906},{"$f":"IF(AP8=0,0,(AP8*((LOG(AP8))/LOG(2))))","v":-0.12500320340903179},null,{"$f":"N8","v":112},{"$f":"COUNTIF(L66:L77,AS8)","v":7},{"$f":"AT8/(AV4-AT10)","v":0.875},{"$f":"IF(AU8=0,0,(AU8*((LOG(AU8))/LOG(2))))","v":-0.1685644431995964}]
[11,235,22,247,23,265,null,null,null,null,0,122,null,121,{"$f":"COUNTIF($L$7:$L$500,N9)","v":1},{"$f":"O9/$Q$4","v":1.4084507042253521E-2},{"$f":"IF(P9=0,0,(P9*((LOG(P9))/LOG(2))))","v":-8.661615661274201E-2},null,null,{"$f":"N9","v":121},{"$f":"COUNTIF(L7:L18,T9)","v":0},{"$f":"U9/(W4-U10)","v":0},{"$f":"IF(V9=0,0,(V9*((LOG(V9))/LOG(2))))","v":0},null,{"$f":"N9","v":121},{"$f":"COUNTIF(L19:L30,Y9)","v":0},{"$f":"Z9/(AB4-Z10)","v":0},{"$f":"IF(AA9=0,0,(AA9*((LOG(AA9))/LOG(2))))","v":0},null,{"$f":"N9","v":121},{"$f":"COUNTIF(L31:L41,AD9)","v":0},{"$f":"AE9/(AG4-AE10)","v":0},{"$f":"IF(AF9=0,0,(AF9*((LOG(AF9))/LOG(2))))","v":0},null,{"$f":"N9","v":121},{"$f":"COUNTIF(L42:L53,AI9)","v":1},{"$f":"AJ9/(AL4-AJ10)","v":0.16666666666666666},{"$f":"IF(AK9=0,0,(AK9*((LOG(AK9))/LOG(2))))","v":-0.43082708345352599},null,{"$f":"N9","v":121},{"$f":"COUNTIF(L54:L65,AN9)","v":0},{"$f":"AO9/(AQ4-AO10)","v":0},{"$f":"IF(AP9=0,0,(AP9*((LOG(AP9))/LOG(2))))","v":0},null,{"$f":"N9","v":121},{"$f":"COUNTIF(L66:L77,AS9)","v":0},{"$f":"AT9/(AV4-AT10)","v":0},{"$f":"IF(AU9=0,0,(AU9*((LOG(AU9))/LOG(2))))","v":0}]
[11,369,11,375,21,387,null,null,null,null,0,112,null,122,{"$f":"COUNTIF($L$7:$L$500,N10)","v":24},{"$f":"O10/$Q$4","v":0.3380281690140845},{"$f":"IF(P10=0,0,(P10*((LOG(P10))/LOG(2))))","v":-0.52894127958879744},null,null,{"$f":"N10","v":122},{"$f":"COUNTIF(L7:L18,T10)","v":6},null,null,null,{"$f":"N10","v":122},{"$f":"COUNTIF(L19:L30,Y10)","v":3},null,null,null,{"$f":"N10","v":122},{"$f":"COUNTIF(L31:L41,AD10)","v":4},null,null,null,{"$f":"N10","v":122},{"$f":"COUNTIF(L42:L53,AI10)","v":6},null,null,null,{"$f":"N10","v":122},{"$f":"COUNTIF(L54:L65,AN10)","v":1},null,null,null,{"$f":"N10","v":122},{"$f":"COUNTIF(L66:L77,AS10)","v":4}]
[11,480,11,512,21,521,null,null,null,null,0,112,null,211,{"$f":"COUNTIF($L$7:$L$500,N11)","v":0},{"$f":"O11/$Q$4","v":0},{"$f":"IF(P11=0,0,(P11*((LOG(P11))/LOG(2))))","v":0},null,null,{"$f":"N11","v":211},{"$f":"COUNTIF(L7:L18,T11)","v":0},{"$f":"U11/(W4-U10)","v":0},{"$f":"IF(V11=0,0,(V11*((LOG(V11))/LOG(2))))","v":0},null,{"$f":"N11","v":211},{"$f":"COUNTIF(L19:L30,Y11)","v":0},{"$f":"Z11/(AB4-Z10)","v":0},{"$f":"IF(AA11=0,0,(AA11*((LOG(AA11))/LOG(2))))","v":0},null,{"$f":"N11","v":211},{"$f":"COUNTIF(L31:L41,AD11)","v":0},{"$f":"AE11/(AG4-AE10)","v":0},{"$f":"IF(AF11=0,0,(AF11*((LOG(AF11))/LOG(2))))","v":0},null,{"$f":"N11","v":211},{"$f":"COUNTIF(L42:L53,AI11)","v":0},{"$f":"AJ11/(AL4-AJ10)","v":0},{"$f":"IF(AK11=0,0,(AK11*((LOG(AK11))/LOG(2))))","v":0},null,{"$f":"N11","v":211},{"$f":"COUNTIF(L54:L65,AN11)","v":0},{"$f":"AO11/(AQ4-AO10)","v":0},{"$f":"IF(AP11=0,0,(AP11*((LOG(AP11))/LOG(2))))","v":0},null,{"$f":"N11","v":211},{"$f":"COUNTIF(L66:L77,AS11)","v":0},{"$f":"AT11/(AV4-AT10)","v":0},{"$f":"IF(AU11=0,0,(AU11*((LOG(AU11))/LOG(2))))","v":0}]
[11,625,22,634,23,659,null,null,null,null,0,122,null,212,{"$f":"COUNTIF($L$7:$L$500,N12)","v":0},{"$f":"O12/$Q$4","v":0},{"$f":"IF(P12=0,0,(P12*((LOG(P12))/LOG(2))))","v":0},null,null,{"$f":"N12","v":212},{"$f":"COUNTIF(L7:L18,T12)","v":0},{"$f":"U12/(W4-U10)","v":0},{"$f":"IF(V12=0,0,(V12*((LOG(V12))/LOG(2))))","v":0},null,{"$f":"N12","v":212},{"$f":"COUNTIF(L19:L30,Y12)","v":0},{"$f":"Z12/(AB4-Z10)","v":0},{"$f":"IF(AA12=0,0,(AA12*((LOG(AA12))/LOG(2))))","v":0},null,{"$f":"N12","v":212},{"$f":"COUNTIF(L31:L41,AD12)","v":0},{"$f":"AE12/(AG4-AE10)","v":0},{"$f":"IF(AF12=0,0,(AF12*((LOG(AF12))/LOG(2))))","v":0},null,{"$f":"N12","v":212},{"$f":"COUNTIF(L42:L53,AI12)","v":0},{"$f":"AJ12/(AL4-AJ10)","v":0},{"$f":"IF(AK12=0,0,(AK12*((LOG(AK12))/LOG(2))))","v":0},null,{"$f":"N12","v":212},{"$f":"COUNTIF(L54:L65,AN12)","v":0},{"$f":"AO12/(AQ4-AO10)","v":0},{"$f":"IF(AP12=0,0,(AP12*((LOG(AP12))/LOG(2))))","v":0},null,{"$f":"N12","v":212},{"$f":"COUNTIF(L66:L77,AS12)","v":0},{"$f":"AT12/(AV4-AT10)","v":0},{"$f":"IF(AU12=0,0,(AU12*((LOG(AU12))/LOG(2))))","v":0}]
[11,759,11,768,21,778,null,null,null,null,0,112,null,221,{"$f":"COUNTIF($L$7:$L$500,N13)","v":0},{"$f":"O13/$Q$4","v":0},{"$f":"IF(P13=0,0,(P13*((LOG(P13))/LOG(2))))","v":0},null,null,{"$f":"N13","v":221},{"$f":"COUNTIF(L7:L18,T13)","v":0},{"$f":"U13/(W4-U10)","v":0},{"$f":"IF(V13=0,0,(V13*((LOG(V13))/LOG(2))))","v":0},null,{"$f":"N13","v":221},{"$f":"COUNTIF(L19:L30,Y13)","v":0},{"$f":"Z13/(AB4-Z10)","v":0},{"$f":"IF(AA13=0,0,(AA13*((LOG(AA13))/LOG(2))))","v":0},null,{"$f":"N13","v":221},{"$f":"COUNTIF(L31:L41,AD13)","v":0},{"$f":"AE13/(AG4-AE10)","v":0},{"$f":"IF(AF13=0,0,(AF13*((LOG(AF13))/LOG(2))))","v":0},null,{"$f":"N13","v":221},{"$f":"COUNTIF(L42:L53,AI13)","v":0},{"$f":"AJ13/(AL4-AJ10)","v":0},{"$f":"IF(AK13=0,0,(AK13*((LOG(AK13))/LOG(2))))","v":0},null,{"$f":"N13","v":221},{"$f":"COUNTIF(L54:L65,AN13)","v":0},{"$f":"AO13/(AQ4-AO10)","v":0},{"$f":"IF(AP13=0,0,(AP13*((LOG(AP13))/LOG(2))))","v":0},null,{"$f":"N13","v":221},{"$f":"COUNTIF(L66:L77,AS13)","v":0},{"$f":"AT13/(AV4-AT10)","v":0},{"$f":"IF(AU13=0,0,(AU13*((LOG(AU13))/LOG(2))))","v":0}]
[11,869,11,887,21,899,null,null,null,null,0,112,null,222,{"$f":"COUNTIF($L$7:$L$500,N14)","v":0},{"$f":"O14/$Q$4","v":0},{"$f":"IF(P14=0,0,(P14*((LOG(P14))/LOG(2))))","v":0},null,null,{"$f":"N14","v":222},{"$f":"COUNTIF(L7:L18,T14)","v":0},{"$f":"U14/(W4-U10)","v":0},{"$f":"IF(V14=0,0,(V14*((LOG(V14))/LOG(2))))","v":0},null,{"$f":"N14","v":222},{"$f":"COUNTIF(L19:L30,Y14)","v":0},{"$f":"Z14/(AB4-Z10)","v":0},{"$f":"IF(AA14=0,0,(AA14*((LOG(AA14))/LOG(2))))","v":0},null,{"$f":"N14","v":222},{"$f":"COUNTIF(L31:L41,AD14)","v":0},{"$f":"AE14/(AG4-AE10)","v":0},{"$f":"IF(AF14=0,0,(AF14*((LOG(AF14))/LOG(2))))","v":0},null,{"$f":"N14","v":222},{"$f":"COUNTIF(L42:L53,AI14)","v":0},{"$f":"AJ14/(AL4-AJ10)","v":0},{"$f":"IF(AK14=0,0,(AK14*((LOG(AK14))/LOG(2))))","v":0},null,{"$f":"N14","v":222},{"$f":"COUNTIF(L54:L65,AN14)","v":0},{"$f":"AO14/(AQ4-AO10)","v":0},{"$f":"IF(AP14=0,0,(AP14*((LOG(AP14))/LOG(2))))","v":0},null,{"$f":"N14","v":222},{"$f":"COUNTIF(L66:L77,AS14)","v":0},{"$f":"AT14/(AV4-AT10)","v":0},{"$f":"IF(AU14=0,0,(AU14*((LOG(AU14))/LOG(2))))","v":0}]
[11,992,22,1005,23,1015,null,null,null,null,0,122,null,null,null,{"$f":"SUM(P7:P14)","v":1},{"$f":"-SUM(Q7:Q14)","v":1.3831837558831444},null,null,null,null,{"$f":"SUM(V7:V14)","v":1},{"$f":"-SUM(W7:W14)","v":0},null,null,null,{"$f":"SUM(AA7:AA14)","v":1},{"$f":"-SUM(AB7:AB14)","v":0.76420450650862026},null,null,null,{"$f":"SUM(AF7:AF14)","v":1},{"$f":"-SUM(AG7:AG14)","v":0.59167277858232736},null,null,null,{"$f":"SUM(AK7:AK14)","v":0.99999999999999989},{"$f":"-SUM(AL7:AL14)","v":1.2516291673878228},null,null,null,{"$f":"SUM(AP7:AP14)","v":1},{"$f":"-SUM(AQ7:AQ14)","v":0.43949698692151329},null,null,null,{"$f":"SUM(AU7:AU14)","v":1},{"$f":"-SUM(AV7:AV14)","v":0.5435644431995964}]
[11,1113,22,1130,23,1137,null,null,null,null,0,122,null,null,null,"U=",{"$f":"Q15/(LOG(Q4)/LOG(2))","v":0.22491717610569811},null,null,null,null,"U1=",{"$f":"W15/(LOG(W4)/LOG(2))","v":0},null,null,null,"U2=",{"$f":"AB15/(LOG(AB4)/LOG(2))","v":0.21316945612538254},null,null,null,"U3=",{"$f":"AG15/(LOG(AG4)/LOG(2))","v":0.17103178897792257},null,null,null,"U4=",{"$f":"AL15/(LOG(AL4)/LOG(2))","v":0.3491331268140303},null,null,null,"U5=",{"$f":"AQ15/(LOG(AQ4)/LOG(2))","v":0.12259458413668299},null,null,null,"U6=",{"$f":"AV15/(LOG(AV4)/LOG(2))","v":0.15162346693731166}]
[11,1234,11,1238,21,1249,null,null,null,null,0,112]
[11,1340,22,1356,23,1369,null,null,null,null,0,122]
[11,1471,11,1486,21,1498,null,null,null,null,0,112,null,"Total Target Seq"]
[11,1596,11,1601,21,1612,null,null,null,null,0,112,null,{"$f":"COUNTIF(L7:L77,G3)","v":24},null,12,12,11,12,12,12]
[11,1708,11,1722,21,1734,null,null,null,null,0,112,null,null,null,"% of reinforcement given in 6 equal intervals based on number of trials "]
[11,1826,11,1837,21,1865,null,null,null,null,0,112,null,null,null,"%_1","%_2","%_3","%_4","%_5","%_6"]
[11,1958,11,1968,12,1978,null,null,null,null,0,111,null,null,"target sequence",{"$f":"$G$3","v":122},{"$f":"$G$3","v":122},{"$f":"$G$3","v":122},{"$f":"$G$3","v":122},{"$f":"$G$3","v":122},{"$f":"$G$3","v":122}]
[11,2072,11,2076,21,2123,null,null,null,null,0,112,null,null,"total reinforcement",{"$f":"U10","v":6},{"$f":"Z10","v":3},{"$f":"AE10","v":4},{"$f":"AJ10","v":6},{"$f":"AO10","v":1},{"$f":"AT10","v":4}]
[11,2219,11,2236,21,2254,null,null,null,null,0,112,null,null,"% target"]
[11,2349,22,2359,23,2372,null,null,null,null,0,122,null,null,"CCRF"]
[11,2471,11,2475,12,2482,null,null,null,null,0,111,null,null,"% CCRf"]
[11,2579,22,2591,23,2607,null,null,null,null,0,122,null,null,"average response rate",{"$f":"F18/P20","v":114.08333333333333},{"$f":"(F30-F18)/Q20","v":124.16666666666667},{"$f":"(F41-F30)/R20","v":130.90909090909091},{"$f":"(F53-F41)/S20","v":127},{"$f":"(F65-F53)/T20","v":114.41666666666667},{"$f":"(F77-F65)/U20","v":141.16666666666666}]
[11,2716,22,2728,23,2735,null,null,null,null,0,122]
[11,2831,11,2848,21,2859,null,null,null,null,0,112]
[11,2955,11,2961,21,2971,null,null,null,null,0,112]
[11,3071,11,3076,21,3088,null,null,null,null,0,112]
[11,3182,11,3195,21,3204,null,null,null,null,0,112]
[11,3295,22,3305,23,3330,null,null,null,null,0,122]
[11,3427,11,3438,21,3505,null,null,null,null,0,112]
[11,3597,11,3601,12,3609,null,null,null,null,0,111]
[11,3705,11,3710,21,3735,null,null,null,null,0,112]
[11,3832,11,3854,21,3886,null,null,null,null,0,112]
[11,3989,22,4000,23,4009,null,null,null,null,0,122]
[11,4121,22,4133,23,4156,null,null,null,null,0,122]
[11,4274,22,4285,23,4299,null,null,null,null,0,122]
[11,4400,22,4411,23,4418,null,null,null,null,0,122]
[11,4517,22,4528,23,4533,null,null,null,null,0,122]
[11,4629,11,4640,12,4653,null,null,null,null,0,111]
[11,4753,11,4761,21,4777,null,null,null,null,0,112]
[11,4866,11,4879,21,4890,null,null,null,null,0,112]
[11,4995,22,5006,23,5032,null,null,null,null,0,122]
[11,5128,22,5141,23,5150,null,null,null,null,0,122]
[11,5249,11,5256,21,5278,null,null,null,null,0,112]
[11,5367,11,5373,21,5385,null,null,null,null,0,112]
[11,5476,22,5511,23,5529,null,null,null,null,0,122]
[11,5626,22,5637,14,5696,null,null,null,null,0,121]
[11,5792,22,5808,23,5823,null,null,null,null,0,122]
[11,5919,11,5924,21,5943,null,null,null,null,0,112]
[11,6036,11,6040,21,6051,null,null,null,null,0,112]
[11,6154,22,6164,23,6171,null,null,null,null,0,122]
[11,6270,11,6282,21,6293,null,null,null,null,0,112]
[11,6384,11,6388,21,6400,null,null,null,null,0,112]
[11,6490,11,6495,21,6507,null,null,null,null,0,112]
[11,6600,11,6609,21,6620,null,null,null,null,0,112]
[11,6717,11,6723,21,6733,null,null,null,null,0,112]
[11,6823,11,6827,21,6839,null,null,null,null,0,112]
[11,6928,11,6952,12,6954,null,null,null,null,0,111]
[11,7055,11,7064,21,7073,null,null,null,null,0,112]
[11,7175,11,7182,21,7196,null,null,null,null,0,112]
[11,7296,11,7316,21,7328,null,null,null,null,0,112]
[11,7434,11,7501,21,7519,null,null,null,null,0,112]
[11,7622,22,7665,23,7680,null,null,null,null,0,122]
[11,7790,22,7800,23,7816,null,null,null,null,0,122]
[11,7914,11,7919,21,7952,null,null,null,null,0,112]
[11,8050,22,8101,23,8141,null,null,null,null,0,122]
[11,8238,11,8246,12,8248,null,null,null,null,0,111]
[11,8346,11,8370,21,8389,null,null,null,null,0,112]
[11,8483,11,8488,21,8509,null,null,null,null,0,112]
[11,8614,22,8646,23,8653,null,null,null,null,0,122]
[11,8755,11,8759,21,8782,null,null,null,null,0,112]
[11,8875,11,8879,21,8890,null,null,null,null,1,112]

{"sheet":"!M615830.103","index":24,"n_rows":91,"n_cols":48,"rows_kept":91,"cut":false,"hidden":false,"merged":[[4,39,4,42],[5,39,5,40],[4,44,4,47],[5,44,5,45],[4,24,4,27],[5,24,5,25],[4,29,4,32],[5,29,5,30],[4,34,4,37],[5,34,5,35],[1,1,1,2],[5,13,5,14],[18,13,18,14],[19,13,19,14],[4,19,4,22],[5,19,5,20]]}
["Report for:!M615830.103"]
["Date:","<date>"]
["Hen:","<hen>",null,null,null,"Correct Sequence",{"$f":"Start!J2","v":122},null,null,null,null,null,null,null,null,"Total Sequences in Data",{"$f":"4994-COUNTBLANK(L7:L5000)","v":85},null,null,null,null,"Total Sequences in Block Data",{"$f":"COUNTA(L7:L20)","v":14},null,null,null,"Total Sequences in Block Data",{"$f":"COUNTA(L21:L34)","v":14},null,null,null,"Total Sequences in Block Data",{"$f":"COUNTA(L35:L49)","v":15},null,null,null,"Total Sequences in Block Data",{"$f":"COUNTA(L50:L63)","v":14},null,null,null,"Total Sequences in Block Data",{"$f":"COUNTA(L64:L77)","v":14},null,null,null,"Total Sequences in Block Data",{"$f":"COUNTA(L78:L91)","v":14}]
[null,null,null,null,null,null,null,null,null,null,null,null,null,null,null,"Total Sequences in Summary",{"$f":"SUM(O7:O14)","v":85},null,null,null,null,"Total Sequences in Block Summary",{"$f":"SUM(U7:U14)","v":14},null,null,null,"Total Sequences in Block Summary",{"$f":"SUM(Z7:Z14)","v":14},null,null,null,"Total Sequences in Block Summary",{"$f":"SUM(AE7:AE14)","v":15},null,null,null,"Total Sequences in Block Summary",{"$f":"SUM(AJ7:AJ14)","v":14},null,null,null,"Total Sequences in Block Summary",{"$f":"SUM(AO7:AO14)","v":14},null,null,null,"Total Sequences in Block Summary",{"$f":"SUM(AT7:AT14)","v":14}]
[null,null,null,null,null,null,null,null,null,null,null,null,null,null,null,null,null,null,null,"Block 1",null,null,null,null,"Block 2",null,null,null,null,"Block 3",null,null,null,null,"Block 4",null,null,null,null,"Block 5",null,null,null,null,"Block 6"]
["Sequence\nComponent\n1","Time\n1","Sequence\nComponent\n2","Time\n2","Sequence\nComponent\n3","Time\n3","Sequence\nComponent\n4","Time\n4","Sequence\nComponent\n5","Time\n5","Correct?\n0=No 1=Yes","Sequence",null,"Frequency",null,"Relative Frequency","Variability",null,null,"Frequency",null,"Relative Frequency","Variability",null,"Frequency",null,"Relative Frequency","Variability",null,"Frequency",null,"Relative Frequency","Variability",null,"Frequency",null,"Relative Frequency","Variability",null,"Frequency",null,"Relative Frequency","Variability",null,"Frequency",null,"Relative Frequency","Variability"]
[11,10,11,14,21,26,null,null,null,null,0,112,null,111,{"$f":"COUNTIF($L$7:$L$500,N7)","v":35},{"$f":"O7/$Q$4","v":0.41176470588235292},{"$f":"IF(P7=0,0,(P7*((LOG(P7))/LOG(2))))","v":-0.52710326084406744},null,null,{"$f":"N7","v":111},{"$f":"COUNTIF(L7:L20,T7)","v":2},{"$f":"U7/(W4-U10)","v":0.15384615384615385},{"$f":"IF(V7=0,0,(V7*((LOG(V7))/LOG(2))))","v":-0.4154522643293988},null,{"$f":"N7","v":111},{"$f":"COUNTIF(L21:L34,Y7)","v":7},{"$f":"Z7/(AB4-Z10)","v":0.53846153846153844},{"$f":"IF(AA7=0,0,(AA7*((LOG(AA7))/LOG(2))))","v":-0.48089181327572433},null,{"$f":"N7","v":111},{"$f":"COUNTIF(L35:L49,AD7)","v":5},{"$f":"AE7/(AG4-AE10)","v":0.35714285714285715},{"$f":"IF(AF7=0,0,(AF7*((LOG(AF7))/LOG(2))))","v":-0.53050958113222924},null,{"$f":"N7","v":111},{"$f":"COUNTIF(L50:L63,AI7)","v":8},{"$f":"AJ7/(AL4-AJ10)","v":0.61538461538461542},{"$f":"IF(AK7=0,0,(AK7*((LOG(AK7))/LOG(2))))","v":-0.43103982654836437},null,{"$f":"N7","v":111},{"$f":"COUNTIF(L64:L77,AN7)","v":4},{"$f":"AO7/(AQ4-AO10)","v":0.2857142857142857},{"$f":"IF(AP7=0,0,(AP7*((LOG(AP7))/LOG(2))))","v":-0.51638712058788683},null,{"$f":"N7","v":111},{"$f":"COUNTIF(L78:L91,AS7)","v":9},{"$f":"AT7/(AV4-AT10)","v":0.69230769230769229},{"$f":"IF(AU7=0,0,(AU7*((LOG(AU7))/LOG(2))))","v":-0.36727941925300139}]
[11,119,11,124,21,139,null,null,null,null,0,112,null,112,{"$f":"COUNTIF($L$7:$L$500,N8)","v":40},{"$f":"O8/$Q$4","v":0.47058823529411764},{"$f":"IF(P8=0,0,(P8*((LOG(P8))/LOG(2))))","v":-0.51174721941192436},null,null,{"$f":"N8","v":112},{"$f":"COUNTIF(L7:L20,T8)","v":10},{"$f":"U8/(W4-U10)","v":0.76923076923076927},{"$f":"IF(V8=0,0,(V8*((LOG(V8))/LOG(2))))","v":-0.29116278711825366},null,{"$f":"N8","v":112},{"$f":"COUNTIF(L21:L34,Y8)","v":6},{"$f":"Z8/(AB4-Z10)","v":0.46153846153846156},{"$f":"IF(AA8=0,0,(AA8*((LOG(AA8))/LOG(2))))","v":-0.51483563880920125},null,{"$f":"N8","v":112},{"$f":"COUNTIF(L35:L49,AD8)","v":9},{"$f":"AE8/(AG4-AE10)","v":0.6428571428571429},{"$f":"IF(AF8=0,0,(AF8*((LOG(AF8))/LOG(2))))","v":-0.40977637753840174},null,{"$f":"N8","v":112},{"$f":"COUNTIF(L50:L63,AI8)","v":4},{"$f":"AJ8/(AL4-AJ10)","v":0.30769230769230771},{"$f":"IF(AK8=0,0,(AK8*((LOG(AK8))/LOG(2))))","v":-0.52321222096648989},null,{"$f":"N8","v":112},{"$f":"COUNTIF(L64:L77,AN8)","v":8},{"$f":"AO8/(AQ4-AO10)","v":0.5714285714285714},{"$f":"IF(AP8=0,0,(AP8*((LOG(AP8))/LOG(2))))","v":-0.46134566974720237},null,{"$f":"N8","v":112},{"$f":"COUNTIF(L78:L91,AS8)","v":3},{"$f":"AT8/(AV4-AT10)","v":0.23076923076923078},{"$f":"IF(AU8=0,0,(AU8*((LOG(AU8))/LOG(2))))","v":-0.48818705017383146}]
[11,231,11,236,12,244,null,null,null,null,0,111,null,121,{"$f":"COUNTIF($L$7:$L$500,N9)","v":0},{"$f":"O9/$Q$4","v":0},{"$f":"IF(P9=0,0,(P9*((LOG(P9))/LOG(2))))","v":0},null,null,{"$f":"N9","v":121},{"$f":"COUNTIF(L7:L20,T9)","v":0},{"$f":"U9/(W4-U10)","v":0},{"$f":"IF(V9=0,0,(V9*((LOG(V9))/LOG(2))))","v":0},null,{"$f":"N9","v":121},{"$f":"COUNTIF(L21:L34,Y9)","v":0},{"$f":"Z9/(AB4-Z10)","v":0},{"$f":"IF(AA9=0,0,(AA9*((LOG(AA9))/LOG(2))))","v":0},null,{"$f":"N9","v":121},{"$f":"COUNTIF(L35:L49,AD9)","v":0},{"$f":"AE9/(AG4-AE10)","v":0},{"$f":"IF(AF9=0,0,(AF9*((LOG(AF9))/LOG(2))))","v":0},null,{"$f":"N9","v":121},{"$f":"COUNTIF(L50:L63,AI9)","v":0},{"$f":"AJ9/(AL4-AJ10)","v":0},{"$f":"IF(AK9=0,0,(AK9*((LOG(AK9))/LOG(2))))","v":0},null,{"$f":"N9","v":121},{"$f":"COUNTIF(L64:L77,AN9)","v":0},{"$f":"AO9/(AQ4-AO10)","v":0},{"$f":"IF(AP9=0,0,(AP9*((LOG(AP9))/LOG(2))))","v":0},null,{"$f":"N9","v":121},{"$f":"COUNTIF(L78:L91,AS9)","v":0},{"$f":"AT9/(AV4-AT10)","v":0},{"$f":"IF(AU9=0,0,(AU9*((LOG(AU9))/LOG(2))))","v":0}]
[11,341,11,345,12,353,null,null,null,null,0,111,null,122,{"$f":"COUNTIF($L$7:$L$500,N10)","v":5},{"$f":"O10/$Q$4","v":5.8823529411764705E-2},{"$f":"IF(P10=0,0,(P10*((LOG(P10))/LOG(2))))","v":-0.24043899066178465},null,null,{"$f":"N10","v":122},{"$f":"COUNTIF(L7:L20,T10)","v":1},null,null,null,{"$f":"N10","v":122},{"$f":"COUNTIF(L21:L34,Y10)","v":1},null,null,null,{"$f":"N10","v":122},{"$f":"COUNTIF(L35:L49,AD10)","v":1},null,null,null,{"$f":"N10","v":122},{"$f":"COUNTIF(L50:L63,AI10)","v":1},null,null,null,{"$f":"N10","v":122},{"$f":"COUNTIF(L64:L77,AN10)","v":0},null,null,null,{"$f":"N10","v":122},{"$f":"COUNTIF(L78:L91,AS10)","v":1}]
[11,453,11,457,21,472,null,null,null,null,0,112,null,211,{"$f":"COUNTIF($L$7:$L$500,N11)","v":0},{"$f":"O11/$Q$4","v":0},{"$f":"IF(P11=0,0,(P11*((LOG(P11))/LOG(2))))","v":0},null,null,{"$f":"N11","v":211},{"$f":"COUNTIF(L7:L20,T11)","v":0},{"$f":"U11/(W4-U10)","v":0},{"$f":"IF(V11=0,0,(V11*((LOG(V11))/LOG(2))))","v":0},null,{"$f":"N11","v":211},{"$f":"COUNTIF(L21:L34,Y11)","v":0},{"$f":"Z11/(AB4-Z10)","v":0},{"$f":"IF(AA11=0,0,(AA11*((LOG(AA11))/LOG(2))))","v":0},null,{"$f":"N11","v":211},{"$f":"COUNTIF(L35:L49,AD11)","v":0},{"$f":"AE11/(AG4-AE10)","v":0},{"$f":"IF(AF11=0,0,(AF11*((LOG(AF11))/LOG(2))))","v":0},null,{"$f":"N11","v":211},{"$f":"COUNTIF(L50:L63,AI11)","v":0},{"$f":"AJ11/(AL4-AJ10)","v":0},{"$f":"IF(AK11=0,0,(AK11*((LOG(AK11))/LOG(2))))","v":0},null,{"$f":"N11","v":211},{"$f":"COUNTIF(L64:L77,AN11)","v":0},{"$f":"AO11/(AQ4-AO10)","v":0},{"$f":"IF(AP11=0,0,(AP11*((LOG(AP11))/LOG(2))))","v":0},null,{"$f":"N11","v":211},{"$f":"COUNTIF(L78:L91,AS11)","v":0},{"$f":"AT11/(AV4-AT10)","v":0},{"$f":"IF(AU11=0,0,(AU11*((LOG(AU11))/LOG(2))))","v":0}]
[11,565,11,570,21,590,null,null,null,null,0,112,null,212,{"$f":"COUNTIF($L$7:$L$500,N12)","v":0},{"$f":"O12/$Q$4","v":0},{"$f":"IF(P12=0,0,(P12*((LOG(P12))/LOG(2))))","v":0},null,null,{"$f":"N12","v":212},{"$f":"COUNTIF(L7:L20,T12)","v":0},{"$f":"U12/(W4-U10)","v":0},{"$f":"IF(V12=0,0,(V12*((LOG(V12))/LOG(2))))","v":0},null,{"$f":"N12","v":212},{"$f":"COUNTIF(L21:L34,Y12)","v":0},{"$f":"Z12/(AB4-Z10)","v":0},{"$f":"IF(AA12=0,0,(AA12*((LOG(AA12))/LOG(2))))","v":0},null,{"$f":"N12","v":212},{"$f":"COUNTIF(L35:L49,AD12)","v":0},{"$f":"AE12/(AG4-AE10)","v":0},{"$f":"IF(AF12=0,0,(AF12*((LOG(AF12))/LOG(2))))","v":0},null,{"$f":"N12","v":212},{"$f":"COUNTIF(L50:L63,AI12)","v":0},{"$f":"AJ12/(AL4-AJ10)","v":0},{"$f":"IF(AK12=0,0,(AK12*((LOG(AK12))/LOG(2))))","v":0},null,{"$f":"N12","v":212},{"$f":"COUNTIF(L64:L77,AN12)","v":0},{"$f":"AO12/(AQ4-AO10)","v":0},{"$f":"IF(AP12=0,0,(AP12*((LOG(AP12))/LOG(2))))","v":0},null,{"$f":"N12","v":212},{"$f":"COUNTIF(L78:L91,AS12)","v":0},{"$f":"AT12/(AV4-AT10)","v":0},{"$f":"IF(AU12=0,0,(AU12*((LOG(AU12))/LOG(2))))","v":0}]
[11,683,11,688,21,700,null,null,null,null,0,112,null,221,{"$f":"COUNTIF($L$7:$L$500,N13)","v":0},{"$f":"O13/$Q$4","v":0},{"$f":"IF(P13=0,0,(P13*((LOG(P13))/LOG(2))))","v":0},null,null,{"$f":"N13","v":221},{"$f":"COUNTIF(L7:L20,T13)","v":0},{"$f":"U13/(W4-U10)","v":0},{"$f":"IF(V13=0,0,(V13*((LOG(V13))/LOG(2))))","v":0},null,{"$f":"N13","v":221},{"$f":"COUNTIF(L21:L34,Y13)","v":0},{"$f":"Z13/(AB4-Z10)","v":0},{"$f":"IF(AA13=0,0,(AA13*((LOG(AA13))/LOG(2))))","v":0},null,{"$f":"N13","v":221},{"$f":"COUNTIF(L35:L49,AD13)","v":0},{"$f":"AE13/(AG4-AE10)","v":0},{"$f":"IF(AF13=0,0,(AF13*((LOG(AF13))/LOG(2))))","v":0},null,{"$f":"N13","v":221},{"$f":"COUNTIF(L50:L63,AI13)","v":0},{"$f":"AJ13/(AL4-AJ10)","v":0},{"$f":"IF(AK13=0,0,(AK13*((LOG(AK13))/LOG(2))))","v":0},null,{"$f":"N13","v":221},{"$f":"COUNTIF(L64:L77,AN13)","v":0},{"$f":"AO13/(AQ4-AO10)","v":0},{"$f":"IF(AP13=0,0,(AP13*((LOG(AP13))/LOG(2))))","v":0},null,{"$f":"N13","v":221},{"$f":"COUNTIF(L78:L91,AS13)","v":0},{"$f":"AT13/(AV4-AT10)","v":0},{"$f":"IF(AU13=0,0,(AU13*((LOG(AU13))/LOG(2))))","v":0}]
[11,795,11,799,21,815,null,null,null,null,0,112,null,222,{"$f":"COUNTIF($L$7:$L$500,N14)","v":5},{"$f":"O14/$Q$4","v":5.8823529411764705E-2},{"$f":"IF(P14=0,0,(P14*((LOG(P14))/LOG(2))))","v":-0.24043899066178465},null,null,{"$f":"N14","v":222},{"$f":"COUNTIF(L7:L20,T14)","v":1},{"$f":"U14/(W4-U10)","v":7.6923076923076927E-2},{"$f":"IF(V14=0,0,(V14*((LOG(V14))/LOG(2))))","v":-0.28464920908777636},null,{"$f":"N14","v":222},{"$f":"COUNTIF(L21:L34,Y14)","v":0},{"$f":"Z14/(AB4-Z10)","v":0},{"$f":"IF(AA14=0,0,(AA14*((LOG(AA14))/LOG(2))))","v":0},null,{"$f":"N14","v":222},{"$f":"COUNTIF(L35:L49,AD14)","v":0},{"$f":"AE14/(AG4-AE10)","v":0},{"$f":"IF(AF14=0,0,(AF14*((LOG(AF14))/LOG(2))))","v":0},null,{"$f":"N14","v":222},{"$f":"COUNTIF(L50:L63,AI14)","v":1},{"$f":"AJ14/(AL4-AJ10)","v":7.6923076923076927E-2},{"$f":"IF(AK14=0,0,(AK14*((LOG(AK14))/LOG(2))))","v":-0.28464920908777636},null,{"$f":"N14","v":222},{"$f":"COUNTIF(L64:L77,AN14)","v":2},{"$f":"AO14/(AQ4-AO10)","v":0.14285714285714285},{"$f":"IF(AP14=0,0,(AP14*((LOG(AP14))/LOG(2))))","v":-0.40105070315108626},null,{"$f":"N14","v":222},{"$f":"COUNTIF(L78:L91,AS14)","v":1},{"$f":"AT14/(AV4-AT10)","v":7.6923076923076927E-2},{"$f":"IF(AU14=0,0,(AU14*((LOG(AU14))/LOG(2))))","v":-0.28464920908777636}]
[11,912,11,918,21,929,null,null,null,null,0,112,null,null,null,{"$f":"SUM(P7:P14)","v":1},{"$f":"-SUM(Q7:Q14)","v":1.5197284615795614},null,null,null,null,{"$f":"SUM(V7:V14)","v":1},{"$f":"-SUM(W7:W14)","v":0.99126426053542882},null,null,null,{"$f":"SUM(AA7:AA14)","v":1},{"$f":"-SUM(AB7:AB14)","v":0.99572745208492552},null,null,null,{"$f":"SUM(AF7:AF14)","v":1},{"$f":"-SUM(AG7:AG14)","v":0.94028595867063092},null,null,null,{"$f":"SUM(AK7:AK14)","v":1},{"$f":"-SUM(AL7:AL14)","v":1.2389012566026305},null,null,null,{"$f":"SUM(AP7:AP14)","v":1},{"$f":"-SUM(AQ7:AQ14)","v":1.3787834934861753},null,null,null,{"$f":"SUM(AU7:AU14)","v":1},{"$f":"-SUM(AV7:AV14)","v":1.1401156785146092}]
[11,1021,11,1026,21,1039,null,null,null,null,0,112,null,null,null,"U=",{"$f":"Q15/(LOG(Q4)/LOG(2))","v":0.23710965312023075},null,null,null,null,"U1=",{"$f":"W15/(LOG(W4)/LOG(2))","v":0.26035509712861787},null,null,null,"U2=",{"$f":"AB15/(LOG(AB4)/LOG(2))","v":0.26152735231387514},null,null,null,"U3=",{"$f":"AG15/(LOG(AG4)/LOG(2))","v":0.24067373673773848},null,null,null,"U4=",{"$f":"AL15/(LOG(AL4)/LOG(2))","v":0.32539683900367578},null,null,null,"U5=",{"$f":"AQ15/(LOG(AQ4)/LOG(2))","v":0.36213684348110137},null,null,null,"U6=",{"$f":"AV15/(LOG(AV4)/LOG(2))","v":0.29945085285047657}]
[11,1131,11,1135,21,1148,null,null,null,null,0,112]
[11,1242,11,1246,21,1315,null,null,null,null,0,112]
[22,1430,24,1438,23,1444,null,null,null,null,0,222,null,"Total Target Seq"]
[11,1555,22,1576,23,1581,null,null,null,null,0,122,null,{"$f":"COUNTIF(L7:L91,G3)","v":5},null,14,14,15,14,14,14]
[11,1681,11,1695,21,1716,null,null,null,null,0,112,null,null,null,"% of reinforcement given in 6 equal intervals based on number of trials "]
[11,1815,11,1819,21,1831,null,null,null,null,0,112,null,null,null,"%_1","%_2","%_3","%_4","%_5","%_6"]
[11,1928,11,1938,12,1943,null,null,null,null,0,111,null,null,"target sequence",{"$f":"$G$3","v":122},{"$f":"$G$3","v":122},{"$f":"$G$3","v":122},{"$f":"$G$3","v":122},{"$f":"$G$3","v":122},{"$f":"$G$3","v":122}]
[11,2042,11,2046,21,2059,null,null,null,null,0,112,null,null,"total reinforcement",{"$f":"U10","v":1},{"$f":"Z10","v":1},{"$f":"AE10","v":1},{"$f":"AJ10","v":1},{"$f":"AO10","v":0},{"$f":"AT10","v":1}]
[11,2151,11,2169,12,2174,null,null,null,null,0,111,null,null,"% target"]
[11,2274,11,2277,12,2281,null,null,null,null,0,111,null,null,"CCRF"]
[11,2378,11,2381,12,2390,null,null,null,null,0,111,null,null,"% CCRf"]
[11,2488,11,2496,21,2593,null,null,null,null,0,112,null,null,"average response rate",{"$f":"F20/P20","v":112.92857142857143},{"$f":"(F34-F20)/Q20","v":123.92857142857143},{"$f":"(F49-F34)/R20","v":120.26666666666667},{"$f":"(F63-F49)/S20","v":117.85714285714286},{"$f":"(F77-F63)/T20","v":118.35714285714286},{"$f":"(F91-F77)/U20","v":115.71428571428571}]
[11,2692,11,2696,21,2709,null,null,null,null,0,112]
[11,2799,11,2803,12,2811,null,null,null,null,0,111]
[11,2910,11,2919,12,2927,null,null,null,null,0,111]
[11,3024,11,3029,21,3078,null,null,null,null,0,112]
[11,3172,11,3176,12,3190,null,null,null,null,0,111]
[11,3289,22,3308,23,3316,null,null,null,null,0,122]
[11,3413,11,3417,21,3433,null,null,null,null,0,112]
[11,3524,11,3528,21,3540,null,null,null,null,0,112]
[11,3631,11,3636,21,3646,null,null,null,null,0,112]
[11,3742,11,3745,12,3764,null,null,null,null,0,111]
[11,3860,11,3863,21,3872,null,null,null,null,0,112]
[11,3965,11,3969,21,4025,null,null,null,null,0,112]
[11,4115,11,4120,21,4137,null,null,null,null,0,112]
[11,4230,11,4233,21,4290,null,null,null,null,0,112]
[11,4393,22,4448,23,4469,null,null,null,null,0,122]
[11,4565,11,4569,21,4580,null,null,null,null,0,112]
[11,4672,11,4676,12,4680,null,null,null,null,0,111]
[11,4776,11,4783,12,4788,null,null,null,null,0,111]
[11,4884,11,4888,12,4893,null,null,null,null,0,111]
[11,4991,11,4994,12,4999,null,null,null,null,0,111]
[11,5098,11,5104,21,5120,null,null,null,null,0,112]
[11,5220,11,5223,12,5237,null,null,null,null,0,111]
[11,5334,11,5338,21,5349,null,null,null,null,0,112]
[11,5439,11,5448,12,5452,null,null,null,null,0,111]
[11,5551,11,5556,21,5570,null,null,null,null,0,112]
[11,5667,11,5674,12,5680,null,null,null,null,0,111]
[11,5778,11,5781,21,5793,null,null,null,null,0,112]
[11,5881,11,5885,12,5892,null,null,null,null,0,111]
[11,5990,11,5994,12,6002,null,null,null,null,0,111]
[11,6098,11,6102,12,6108,null,null,null,null,0,111]
[11,6216,22,6230,23,6267,null,null,null,null,0,122]
[11,6374,11,6393,21,6446,null,null,null,null,0,112]
[11,6535,11,6538,12,6552,null,null,null,null,0,111]
[11,6647,11,6650,12,6654,null,null,null,null,0,111]
[22,6751,24,6759,23,6770,null,null,null,null,0,222]
[11,6873,11,6877,12,6882,null,null,null,null,0,111]
[11,6978,11,6982,21,6995,null,null,null,null,0,112]
[11,7087,11,7094,21,7177,null,null,null,null,0,112]
[11,7275,11,7281,21,7318,null,null,null,null,0,112]
[11,7410,11,7414,21,7427,null,null,null,null,0,112]
[11,7517,11,7520,12,7524,null,null,null,null,0,111]
[11,7620,11,7624,21,7648,null,null,null,null,0,112]
[11,7739,11,7743,12,7747,null,null,null,null,0,111]
[11,7843,11,7846,12,7854,null,null,null,null,0,111]
[22,7953,24,7959,23,7966,null,null,null,null,0,222]
[22,8063,24,8069,23,8076,null,null,null,null,0,222]
[11,8180,11,8188,21,8206,null,null,null,null,0,112]
[11,8302,11,8305,21,8317,null,null,null,null,0,112]
[11,8408,11,8415,21,8427,null,null,null,null,0,112]
[11,8520,11,8524,21,8535,null,null,null,null,0,112]
[11,8624,11,8628,12,8631,null,null,null,null,0,111]
[22,8734,24,8747,23,8760,null,null,null,null,0,222]
[11,8856,11,8860,12,8866,null,null,null,null,0,111]
[11,8962,11,8965,12,8969,null,null,null,null,0,111]
[11,9077,22,9096,23,9109,null,null,null,null,0,122]
[11,9207,11,9211,12,9215,null,null,null,null,0,111]
[11,9318,11,9325,21,9365,null,null,null,null,0,112]
[11,9456,11,9460,12,9468,null,null,null,null,0,111]
[11,9563,11,9566,12,9570,null,null,null,null,0,111]
[11,9668,11,9671,12,9675,null,null,null,null,0,111]
[11,9772,11,9780,12,9786,null,null,null,null,0,111]
[11,9882,11,9885,12,9890,null,null,null,null,0,111]
[11,9996,11,10004,21,10047,null,null,null,null,1,112]

{"sheet":"!M616820.103","index":25,"n_rows":68,"n_cols":48,"rows_kept":68,"cut":false,"hidden":false,"merged":[[4,39,4,42],[5,39,5,40],[4,44,4,47],[5,44,5,45],[4,24,4,27],[5,24,5,25],[4,29,4,32],[5,29,5,30],[4,34,4,37],[5,34,5,35],[1,1,1,2],[5,13,5,14],[18,13,18,14],[19,13,19,14],[4,19,4,22],[5,19,5,20]]}
["Report for:!M616820.103"]
["Date:","<date>"]
["Hen:","<hen>",null,null,null,"Correct Sequence",{"$f":"Start!J2","v":122},null,null,null,null,null,null,null,null,"Total Sequences in Data",{"$f":"4994-COUNTBLANK(L7:L5000)","v":62},null,null,null,null,"Total Sequences in Block Data",{"$f":"COUNTA(L7:L16)","v":10},null,null,null,"Total Sequences in Block Data",{"$f":"COUNTA(L17:L27)","v":11},null,null,null,"Total Sequences in Block Data",{"$f":"COUNTA(L28:L37)","v":10},null,null,null,"Total Sequences in Block Data",{"$f":"COUNTA(L38:L47)","v":10},null,null,null,"Total Sequences in Block Data",{"$f":"COUNTA(L48:L58)","v":11},null,null,null,"Total Sequences in Block Data",{"$f":"COUNTA(L59:L68)","v":10}]
[null,null,null,null,null,null,null,null,null,null,null,null,null,null,null,"Total Sequences in Summary",{"$f":"SUM(O7:O14)","v":62},null,null,null,null,"Total Sequences in Block Summary",{"$f":"SUM(U7:U14)","v":10},null,null,null,"Total Sequences in Block Summary",{"$f":"SUM(Z7:Z14)","v":11},null,null,null,"Total Sequences in Block Summary",{"$f":"SUM(AE7:AE14)","v":10},null,null,null,"Total Sequences in Block Summary",{"$f":"SUM(AJ7:AJ14)","v":10},null,null,null,"Total Sequences in Block Summary",{"$f":"SUM(AO7:AO14)","v":11},null,null,null,"Total Sequences in Block Summary",{"$f":"SUM(AT7:AT14)","v":10}]
[null,null,null,null,null,null,null,null,null,null,null,null,null,null,null,null,null,null,null,"Block 1",null,null,null,null,"Block 2",null,null,null,null,"Block 3",null,null,null,null,"Block 4",null,null,null,null,"Block 5",null,null,null,null,"Block 6"]
["Sequence\nComponent\n1","Time\n1","Sequence\nComponent\n2","Time\n2","Sequence\nComponent\n3","Time\n3","Sequence\nComponent\n4","Time\n4","Sequence\nComponent\n5","Time\n5","Correct?\n0=No 1=Yes","Sequence",null,"Frequency",null,"Relative Frequency","Variability",null,null,"Frequency",null,"Relative Frequency","Variability",null,"Frequency",null,"Relative Frequency","Variability",null,"Frequency",null,"Relative Frequency","Variability",null,"Frequency",null,"Relative Frequency","Variability",null,"Frequency",null,"Relative Frequency","Variability",null,"Frequency",null,"Relative Frequency","Variability"]
[11,8,11,13,21,25,null,null,null,null,0,112,null,111,{"$f":"COUNTIF($L$7:$L$500,N7)","v":12},{"$f":"O7/$Q$4","v":0.19354838709677419},{"$f":"IF(P7=0,0,(P7*((LOG(P7))/LOG(2))))","v":-0.45856138251594558},null,null,{"$f":"N7","v":111},{"$f":"COUNTIF(L7:L16,T7)","v":0},{"$f":"U7/(W4-U10)","v":0},{"$f":"IF(V7=0,0,(V7*((LOG(V7))/LOG(2))))","v":0},null,{"$f":"N7","v":111},{"$f":"COUNTIF(L17:L27,Y7)","v":2},{"$f":"Z7/(AB4-Z10)","v":0.2},{"$f":"IF(AA7=0,0,(AA7*((LOG(AA7))/LOG(2))))","v":-0.46438561897747244},null,{"$f":"N7","v":111},{"$f":"COUNTIF(L28:L37,AD7)","v":2},{"$f":"AE7/(AG4-AE10)","v":0.22222222222222221},{"$f":"IF(AF7=0,0,(AF7*((LOG(AF7))/LOG(2))))","v":-0.48220555587606945},null,{"$f":"N7","v":111},{"$f":"COUNTIF(L38:L47,AI7)","v":0},{"$f":"AJ7/(AL4-AJ10)","v":0},{"$f":"IF(AK7=0,0,(AK7*((LOG(AK7))/LOG(2))))","v":0},null,{"$f":"N7","v":111},{"$f":"COUNTIF(L48:L58,AN7)","v":4},{"$f":"AO7/(AQ4-AO10)","v":0.4},{"$f":"IF(AP7=0,0,(AP7*((LOG(AP7))/LOG(2))))","v":-0.52877123795494496},null,{"$f":"N7","v":111},{"$f":"COUNTIF(L59:L68,AS7)","v":4},{"$f":"AT7/(AV4-AT10)","v":0.5},{"$f":"IF(AU7=0,0,(AU7*((LOG(AU7))/LOG(2))))","v":-0.5}]
[11,118,22,140,23,162,null,null,null,null,0,122,null,112,{"$f":"COUNTIF($L$7:$L$500,N8)","v":40},{"$f":"O8/$Q$4","v":0.64516129032258063},{"$f":"IF(P8=0,0,(P8*((LOG(P8))/LOG(2))))","v":-0.40791497774162117},null,null,{"$f":"N8","v":112},{"$f":"COUNTIF(L7:L16,T8)","v":7},{"$f":"U8/(W4-U10)","v":1},{"$f":"IF(V8=0,0,(V8*((LOG(V8))/LOG(2))))","v":0},null,{"$f":"N8","v":112},{"$f":"COUNTIF(L17:L27,Y8)","v":8},{"$f":"Z8/(AB4-Z10)","v":0.8},{"$f":"IF(AA8=0,0,(AA8*((LOG(AA8))/LOG(2))))","v":-0.25754247590988982},null,{"$f":"N8","v":112},{"$f":"COUNTIF(L28:L37,AD8)","v":7},{"$f":"AE8/(AG4-AE10)","v":0.77777777777777779},{"$f":"IF(AF8=0,0,(AF8*((LOG(AF8))/LOG(2))))","v":-0.28199895063255082},null,{"$f":"N8","v":112},{"$f":"COUNTIF(L38:L47,AI8)","v":9},{"$f":"AJ8/(AL4-AJ10)","v":1},{"$f":"IF(AK8=0,0,(AK8*((LOG(AK8))/LOG(2))))","v":0},null,{"$f":"N8","v":112},{"$f":"COUNTIF(L48:L58,AN8)","v":6},{"$f":"AO8/(AQ4-AO10)","v":0.6},{"$f":"IF(AP8=0,0,(AP8*((LOG(AP8))/LOG(2))))","v":-0.44217935649972373},null,{"$f":"N8","v":112},{"$f":"COUNTIF(L59:L68,AS8)","v":3},{"$f":"AT8/(AV4-AT10)","v":0.375},{"$f":"IF(AU8=0,0,(AU8*((LOG(AU8))/LOG(2))))","v":-0.53063906222956647}]
[11,259,11,272,21,281,null,null,null,null,0,112,null,121,{"$f":"COUNTIF($L$7:$L$500,N9)","v":0},{"$f":"O9/$Q$4","v":0},{"$f":"IF(P9=0,0,(P9*((LOG(P9))/LOG(2))))","v":0},null,null,{"$f":"N9","v":121},{"$f":"COUNTIF(L7:L16,T9)","v":0},{"$f":"U9/(W4-U10)","v":0},{"$f":"IF(V9=0,0,(V9*((LOG(V9))/LOG(2))))","v":0},null,{"$f":"N9","v":121},{"$f":"COUNTIF(L17:L27,Y9)","v":0},{"$f":"Z9/(AB4-Z10)","v":0},{"$f":"IF(AA9=0,0,(AA9*((LOG(AA9))/LOG(2))))","v":0},null,{"$f":"N9","v":121},{"$f":"COUNTIF(L28:L37,AD9)","v":0},{"$f":"AE9/(AG4-AE10)","v":0},{"$f":"IF(AF9=0,0,(AF9*((LOG(AF9))/LOG(2))))","v":0},null,{"$f":"N9","v":121},{"$f":"COUNTIF(L38:L47,AI9)","v":0},{"$f":"AJ9/(AL4-AJ10)","v":0},{"$f":"IF(AK9=0,0,(AK9*((LOG(AK9))/LOG(2))))","v":0},null,{"$f":"N9","v":121},{"$f":"COUNTIF(L48:L58,AN9)","v":0},{"$f":"AO9/(AQ4-AO10)","v":0},{"$f":"IF(AP9=0,0,(AP9*((LOG(AP9))/LOG(2))))","v":0},null,{"$f":"N9","v":121},{"$f":"COUNTIF(L59:L68,AS9)","v":0},{"$f":"AT9/(AV4-AT10)","v":0},{"$f":"IF(AU9=0,0,(AU9*((LOG(AU9))/LOG(2))))","v":0}]
[11,381,22,421,23,428,null,null,null,null,0,122,null,122,{"$f":"COUNTIF($L$7:$L$500,N10)","v":9},{"$f":"O10/$Q$4","v":0.14516129032258066},{"$f":"IF(P10=0,0,(P10*((LOG(P10))/LOG(2))))","v":-0.40416841581453333},null,null,{"$f":"N10","v":122},{"$f":"COUNTIF(L7:L16,T10)","v":3},null,null,null,{"$f":"N10","v":122},{"$f":"COUNTIF(L17:L27,Y10)","v":1},null,null,null,{"$f":"N10","v":122},{"$f":"COUNTIF(L28:L37,AD10)","v":1},null,null,null,{"$f":"N10","v":122},{"$f":"COUNTIF(L38:L47,AI10)","v":1},null,null,null,{"$f":"N10","v":122},{"$f":"COUNTIF(L48:L58,AN10)","v":1},null,null,null,{"$f":"N10","v":122},{"$f":"COUNTIF(L59:L68,AS10)","v":2}]
[11,535,22,545,23,551,null,null,null,null,0,122,null,211,{"$f":"COUNTIF($L$7:$L$500,N11)","v":0},{"$f":"O11/$Q$4","v":0},{"$f":"IF(P11=0,0,(P11*((LOG(P11))/LOG(2))))","v":0},null,null,{"$f":"N11","v":211},{"$f":"COUNTIF(L7:L16,T11)","v":0},{"$f":"U11/(W4-U10)","v":0},{"$f":"IF(V11=0,0,(V11*((LOG(V11))/LOG(2))))","v":0},null,{"$f":"N11","v":211},{"$f":"COUNTIF(L17:L27,Y11)","v":0},{"$f":"Z11/(AB4-Z10)","v":0},{"$f":"IF(AA11=0,0,(AA11*((LOG(AA11))/LOG(2))))","v":0},null,{"$f":"N11","v":211},{"$f":"COUNTIF(L28:L37,AD11)","v":0},{"$f":"AE11/(AG4-AE10)","v":0},{"$f":"IF(AF11=0,0,(AF11*((LOG(AF11))/LOG(2))))","v":0},null,{"$f":"N11","v":211},{"$f":"COUNTIF(L38:L47,AI11)","v":0},{"$f":"AJ11/(AL4-AJ10)","v":0},{"$f":"IF(AK11=0,0,(AK11*((LOG(AK11))/LOG(2))))","v":0},null,{"$f":"N11","v":211},{"$f":"COUNTIF(L48:L58,AN11)","v":0},{"$f":"AO11/(AQ4-AO10)","v":0},{"$f":"IF(AP11=0,0,(AP11*((LOG(AP11))/LOG(2))))","v":0},null,{"$f":"N11","v":211},{"$f":"COUNTIF(L59:L68,AS11)","v":0},{"$f":"AT11/(AV4-AT10)","v":0},{"$f":"IF(AU11=0,0,(AU11*((LOG(AU11))/LOG(2))))","v":0}]
[11,660,11,665,21,676,null,null,null,null,0,112,null,212,{"$f":"COUNTIF($L$7:$L$500,N12)","v":0},{"$f":"O12/$Q$4","v":0},{"$f":"IF(P12=0,0,(P12*((LOG(P12))/LOG(2))))","v":0},null,null,{"$f":"N12","v":212},{"$f":"COUNTIF(L7:L16,T12)","v":0},{"$f":"U12/(W4-U10)","v":0},{"$f":"IF(V12=0,0,(V12*((LOG(V12))/LOG(2))))","v":0},null,{"$f":"N12","v":212},{"$f":"COUNTIF(L17:L27,Y12)","v":0},{"$f":"Z12/(AB4-Z10)","v":0},{"$f":"IF(AA12=0,0,(AA12*((LOG(AA12))/LOG(2))))","v":0},null,{"$f":"N12","v":212},{"$f":"COUNTIF(L28:L37,AD12)","v":0},{"$f":"AE12/(AG4-AE10)","v":0},{"$f":"IF(AF12=0,0,(AF12*((LOG(AF12))/LOG(2))))","v":0},null,{"$f":"N12","v":212},{"$f":"COUNTIF(L38:L47,AI12)","v":0},{"$f":"AJ12/(AL4-AJ10)","v":0},{"$f":"IF(AK12=0,0,(AK12*((LOG(AK12))/LOG(2))))","v":0},null,{"$f":"N12","v":212},{"$f":"COUNTIF(L48:L58,AN12)","v":0},{"$f":"AO12/(AQ4-AO10)","v":0},{"$f":"IF(AP12=0,0,(AP12*((LOG(AP12))/LOG(2))))","v":0},null,{"$f":"N12","v":212},{"$f":"COUNTIF(L59:L68,AS12)","v":0},{"$f":"AT12/(AV4-AT10)","v":0},{"$f":"IF(AU12=0,0,(AU12*((LOG(AU12))/LOG(2))))","v":0}]
[11,768,11,777,21,802,null,null,null,null,0,112,null,221,{"$f":"COUNTIF($L$7:$L$500,N13)","v":0},{"$f":"O13/$Q$4","v":0},{"$f":"IF(P13=0,0,(P13*((LOG(P13))/LOG(2))))","v":0},null,null,{"$f":"N13","v":221},{"$f":"COUNTIF(L7:L16,T13)","v":0},{"$f":"U13/(W4-U10)","v":0},{"$f":"IF(V13=0,0,(V13*((LOG(V13))/LOG(2))))","v":0},null,{"$f":"N13","v":221},{"$f":"COUNTIF(L17:L27,Y13)","v":0},{"$f":"Z13/(AB4-Z10)","v":0},{"$f":"IF(AA13=0,0,(AA13*((LOG(AA13))/LOG(2))))","v":0},null,{"$f":"N13","v":221},{"$f":"COUNTIF(L28:L37,AD13)","v":0},{"$f":"AE13/(AG4-AE10)","v":0},{"$f":"IF(AF13=0,0,(AF13*((LOG(AF13))/LOG(2))))","v":0},null,{"$f":"N13","v":221},{"$f":"COUNTIF(L38:L47,AI13)","v":0},{"$f":"AJ13/(AL4-AJ10)","v":0},{"$f":"IF(AK13=0,0,(AK13*((LOG(AK13))/LOG(2))))","v":0},null,{"$f":"N13","v":221},{"$f":"COUNTIF(L48:L58,AN13)","v":0},{"$f":"AO13/(AQ4-AO10)","v":0},{"$f":"IF(AP13=0,0,(AP13*((LOG(AP13))/LOG(2))))","v":0},null,{"$f":"N13","v":221},{"$f":"COUNTIF(L59:L68,AS13)","v":0},{"$f":"AT13/(AV4-AT10)","v":0},{"$f":"IF(AU13=0,0,(AU13*((LOG(AU13))/LOG(2))))","v":0}]
[11,898,11,906,21,919,null,null,null,null,0,112,null,222,{"$f":"COUNTIF($L$7:$L$500,N14)","v":1},{"$f":"O14/$Q$4","v":1.6129032258064516E-2},{"$f":"IF(P14=0,0,(P14*((LOG(P14))/LOG(2))))","v":-9.603542436107862E-2},null,null,{"$f":"N14","v":222},{"$f":"COUNTIF(L7:L16,T14)","v":0},{"$f":"U14/(W4-U10)","v":0},{"$f":"IF(V14=0,0,(V14*((LOG(V14))/LOG(2))))","v":0},null,{"$f":"N14","v":222},{"$f":"COUNTIF(L17:L27,Y14)","v":0},{"$f":"Z14/(AB4-Z10)","v":0},{"$f":"IF(AA14=0,0,(AA14*((LOG(AA14))/LOG(2))))","v":0},null,{"$f":"N14","v":222},{"$f":"COUNTIF(L28:L37,AD14)","v":0},{"$f":"AE14/(AG4-AE10)","v":0},{"$f":"IF(AF14=0,0,(AF14*((LOG(AF14))/LOG(2))))","v":0},null,{"$f":"N14","v":222},{"$f":"COUNTIF(L38:L47,AI14)","v":0},{"$f":"AJ14/(AL4-AJ10)","v":0},{"$f":"IF(AK14=0,0,(AK14*((LOG(AK14))/LOG(2))))","v":0},null,{"$f":"N14","v":222},{"$f":"COUNTIF(L48:L58,AN14)","v":0},{"$f":"AO14/(AQ4-AO10)","v":0},{"$f":"IF(AP14=0,0,(AP14*((LOG(AP14))/LOG(2))))","v":0},null,{"$f":"N14","v":222},{"$f":"COUNTIF(L59:L68,AS14)","v":1},{"$f":"AT14/(AV4-AT10)","v":0.125},{"$f":"IF(AU14=0,0,(AU14*((LOG(AU14))/LOG(2))))","v":-0.375}]
[11,1013,11,1021,21,1035,null,null,null,null,0,112,null,null,null,{"$f":"SUM(P7:P14)","v":0.99999999999999989},{"$f":"-SUM(Q7:Q14)","v":1.3666802004331786},null,null,null,null,{"$f":"SUM(V7:V14)","v":1},{"$f":"-SUM(W7:W14)","v":0},null,null,null,{"$f":"SUM(AA7:AA14)","v":1},{"$f":"-SUM(AB7:AB14)","v":0.72192809488736231},null,null,null,{"$f":"SUM(AF7:AF14)","v":1},{"$f":"-SUM(AG7:AG14)","v":0.76420450650862026},null,null,null,{"$f":"SUM(AK7:AK14)","v":1},{"$f":"-SUM(AL7:AL14)","v":0},null,null,null,{"$f":"SUM(AP7:AP14)","v":1},{"$f":"-SUM(AQ7:AQ14)","v":0.97095059445466869},null,null,null,{"$f":"SUM(AU7:AU14)","v":1},{"$f":"-SUM(AV7:AV14)","v":1.4056390622295665}]
[11,1125,11,1136,21,1149,null,null,null,null,0,112,null,null,null,"U=",{"$f":"Q15/(LOG(Q4)/LOG(2))","v":0.22953227088751771},null,null,null,null,"U1=",{"$f":"W15/(LOG(W4)/LOG(2))","v":0},null,null,null,"U2=",{"$f":"AB15/(LOG(AB4)/LOG(2))","v":0.20868401936261902},null,null,null,"U3=",{"$f":"AG15/(LOG(AG4)/LOG(2))","v":0.23004847928068486},null,null,null,"U4=",{"$f":"AL15/(LOG(AL4)/LOG(2))","v":0},null,null,null,"U5=",{"$f":"AQ15/(LOG(AQ4)/LOG(2))","v":0.28066766494928874},null,null,null,"U6=",{"$f":"AV15/(LOG(AV4)/LOG(2))","v":0.42313952080808903}]
[11,1242,11,1249,12,1263,null,null,null,null,0,111]
[11,1359,11,1373,21,1385,null,null,null,null,0,112]
[11,1478,11,1500,21,1547,null,null,null,null,0,112,null,"Total Target Seq"]
[11,1643,22,1654,23,1662,null,null,null,null,0,122,null,{"$f":"COUNTIF(L7:L68,G3)","v":9},null,10,11,10,10,11,10]
[11,1758,11,1762,21,1835,null,null,null,null,0,112,null,null,null,"% of reinforcement given in 6 equal intervals based on number of trials "]
[11,1925,11,1931,12,1940,null,null,null,null,0,111,null,null,null,"%_1","%_2","%_3","%_4","%_5","%_6"]
[11,2037,11,2041,21,2052,null,null,null,null,0,112,null,null,"target sequence",{"$f":"$G$3","v":122},{"$f":"$G$3","v":122},{"$f":"$G$3","v":122},{"$f":"$G$3","v":122},{"$f":"$G$3","v":122},{"$f":"$G$3","v":122}]
[11,2144,11,2148,21,2159,null,null,null,null,0,112,null,null,"total reinforcement",{"$f":"U10","v":3},{"$f":"Z10","v":1},{"$f":"AE10","v":1},{"$f":"AJ10","v":1},{"$f":"AO10","v":1},{"$f":"AT10","v":2}]
[11,2248,11,2259,21,2272,null,null,null,null,0,112,null,null,"% target"]
[11,2365,11,2369,21,2383,null,null,null,null,0,112,null,null,"CCRF"]
[11,2476,11,2485,21,2532,null,null,null,null,0,112,null,null,"% CCRf"]
[11,2633,22,2690,23,2708,null,null,null,null,0,122,null,null,"average response rate",{"$f":"F16/P20","v":114.9},{"$f":"(F27-F16)/Q20","v":125.72727272727273},{"$f":"(F37-F27)/R20","v":127.6},{"$f":"(F47-F37)/S20","v":135.1},{"$f":"(F58-F47)/T20","v":129.72727272727272},{"$f":"(F68-F58)/U20","v":123.6}]
[11,2806,11,2820,21,2835,null,null,null,null,0,112]
[11,2930,11,2933,21,2945,null,null,null,null,0,112]
[11,3035,11,3038,12,3043,null,null,null,null,0,111]
[11,3138,11,3146,12,3154,null,null,null,null,0,111]
[11,3250,11,3258,21,3303,null,null,null,null,0,112]
[11,3399,11,3403,21,3432,null,null,null,null,0,112]
[11,3521,11,3528,21,3551,null,null,null,null,0,112]
[11,3648,11,3656,21,3677,null,null,null,null,0,112]
[11,3777,11,3786,21,3808,null,null,null,null,0,112]
[11,3915,22,4000,23,4011,null,null,null,null,0,122]
[11,4107,11,4111,21,4132,null,null,null,null,0,112]
[11,4229,11,4233,21,4258,null,null,null,null,0,112]
[11,4360,11,4367,21,4403,null,null,null,null,0,112]
[11,4496,11,4504,21,4550,null,null,null,null,0,112]
[11,4642,11,4647,21,4684,null,null,null,null,0,112]
[11,4777,11,4781,21,4813,null,null,null,null,0,112]
[11,4907,11,4911,21,4928,null,null,null,null,0,112]
[11,5033,11,5040,21,5054,null,null,null,null,0,112]
[11,5147,11,5151,21,5159,null,null,null,null,0,112]
[11,5249,11,5253,21,5264,null,null,null,null,0,112]
[11,5353,11,5363,21,5391,null,null,null,null,0,112]
[11,5491,22,5536,23,5589,null,null,null,null,0,122]
[11,5684,11,5688,12,5692,null,null,null,null,0,111]
[11,5790,11,5796,21,5844,null,null,null,null,0,112]
[11,5934,11,5938,12,5941,null,null,null,null,0,111]
[11,6039,11,6043,12,6047,null,null,null,null,0,111]
[11,6143,11,6149,12,6153,null,null,null,null,0,111]
[11,6252,11,6269,21,6306,null,null,null,null,0,112]
[11,6398,11,6411,21,6444,null,null,null,null,0,112]
[11,6543,11,6547,21,6586,null,null,null,null,0,112]
[11,6677,11,6684,21,6709,null,null,null,null,0,112]
[11,6802,11,6805,12,6809,null,null,null,null,0,111]
[11,6905,11,6908,12,6914,null,null,null,null,0,111]
[11,7024,22,7035,23,7064,null,null,null,null,0,122]
[11,7165,11,7171,12,7178,null,null,null,null,0,111]
[11,7275,11,7289,12,7294,null,null,null,null,0,111]
[22,7393,24,7399,23,7405,null,null,null,null,0,222]
[11,7516,22,7547,23,7557,null,null,null,null,0,122]
[11,7675,11,7679,21,7701,null,null,null,null,0,112]
[11,7799,11,7811,21,7822,null,null,null,null,1,112]

{"sheet":"!M617B40.103","index":26,"n_rows":63,"n_cols":48,"rows_kept":63,"cut":false,"hidden":false,"merged":[[4,39,4,42],[5,39,5,40],[4,44,4,47],[5,44,5,45],[4,24,4,27],[5,24,5,25],[4,29,4,32],[5,29,5,30],[4,34,4,37],[5,34,5,35],[1,1,1,2],[5,13,5,14],[18,13,18,14],[19,13,19,14],[4,19,4,22],[5,19,5,20]]}
["Report for:!M617B40.103"]
["Date:","<date>"]
["Hen:","<hen>",null,null,null,"Correct Sequence",{"$f":"Start!J2","v":122},null,null,null,null,null,null,null,null,"Total Sequences in Data",{"$f":"4994-COUNTBLANK(L7:L5000)","v":57},null,null,null,null,"Total Sequences in Block Data",{"$f":"COUNTA(L7:L16)","v":10},null,null,null,"Total Sequences in Block Data",{"$f":"COUNTA(L17:L25)","v":9},null,null,null,"Total Sequences in Block Data",{"$f":"COUNTA(L26:L35)","v":10},null,null,null,"Total Sequences in Block Data",{"$f":"COUNTA(L36:L44)","v":9},null,null,null,"Total Sequences in Block Data",{"$f":"COUNTA(L45:L54)","v":10},null,null,null,"Total Sequences in Block Data",{"$f":"COUNTA(L55:L63)","v":9}]
[null,null,null,null,null,null,null,null,null,null,null,null,null,null,null,"Total Sequences in Summary",{"$f":"SUM(O7:O14)","v":57},null,null,null,null,"Total Sequences in Block Summary",{"$f":"SUM(U7:U14)","v":10},null,null,null,"Total Sequences in Block Summary",{"$f":"SUM(Z7:Z14)","v":9},null,null,null,"Total Sequences in Block Summary",{"$f":"SUM(AE7:AE14)","v":10},null,null,null,"Total Sequences in Block Summary",{"$f":"SUM(AJ7:AJ14)","v":9},null,null,null,"Total Sequences in Block Summary",{"$f":"SUM(AO7:AO14)","v":10},null,null,null,"Total Sequences in Block Summary",{"$f":"SUM(AT7:AT14)","v":9}]
[null,null,null,null,null,null,null,null,null,null,null,null,null,null,null,null,null,null,null,"Block 1",null,null,null,null,"Block 2",null,null,null,null,"Block 3",null,null,null,null,"Block 4",null,null,null,null,"Block 5",null,null,null,null,"Block 6"]
["Sequence\nComponent\n1","Time\n1","Sequence\nComponent\n2","Time\n2","Sequence\nComponent\n3","Time\n3","Sequence\nComponent\n4","Time\n4","Sequence\nComponent\n5","Time\n5","Correct?\n0=No 1=Yes","Sequence",null,"Frequency",null,"Relative Frequency","Variability",null,null,"Frequency",null,"Relative Frequency","Variability",null,"Frequency",null,"Relative Frequency","Variability",null,"Frequency",null,"Relative Frequency","Variability",null,"Frequency",null,"Relative Frequency","Variability",null,"Frequency",null,"Relative Frequency","Variability",null,"Frequency",null,"Relative Frequency","Variability"]
[11,10,11,14,21,23,null,null,null,null,0,112,null,111,{"$f":"COUNTIF($L$7:$L$500,N7)","v":6},{"$f":"O7/$Q$4","v":0.10526315789473684},{"$f":"IF(P7=0,0,(P7*((LOG(P7))/LOG(2))))","v":-0.34188710667827216},null,null,{"$f":"N7","v":111},{"$f":"COUNTIF(L7:L16,T7)","v":1},{"$f":"U7/(W4-U10)","v":0.1111111111111111},{"$f":"IF(V7=0,0,(V7*((LOG(V7))/LOG(2))))","v":-0.3522138890491458},null,{"$f":"N7","v":111},{"$f":"COUNTIF(L17:L25,Y7)","v":1},{"$f":"Z7/(AB4-Z10)","v":0.125},{"$f":"IF(AA7=0,0,(AA7*((LOG(AA7))/LOG(2))))","v":-0.375},null,{"$f":"N7","v":111},{"$f":"COUNTIF(L26:L35,AD7)","v":1},{"$f":"AE7/(AG4-AE10)","v":0.125},{"$f":"IF(AF7=0,0,(AF7*((LOG(AF7))/LOG(2))))","v":-0.375},null,{"$f":"N7","v":111},{"$f":"COUNTIF(L36:L44,AI7)","v":0},{"$f":"AJ7/(AL4-AJ10)","v":0},{"$f":"IF(AK7=0,0,(AK7*((LOG(AK7))/LOG(2))))","v":0},null,{"$f":"N7","v":111},{"$f":"COUNTIF(L45:L54,AN7)","v":1},{"$f":"AO7/(AQ4-AO10)","v":0.125},{"$f":"IF(AP7=0,0,(AP7*((LOG(AP7))/LOG(2))))","v":-0.375},null,{"$f":"N7","v":111},{"$f":"COUNTIF(L55:L63,AS7)","v":2},{"$f":"AT7/(AV4-AT10)","v":0.22222222222222221},{"$f":"IF(AU7=0,0,(AU7*((LOG(AU7))/LOG(2))))","v":-0.48220555587606945}]
[11,116,11,125,21,145,null,null,null,null,0,112,null,112,{"$f":"COUNTIF($L$7:$L$500,N8)","v":40},{"$f":"O8/$Q$4","v":0.70175438596491224},{"$f":"IF(P8=0,0,(P8*((LOG(P8))/LOG(2))))","v":-0.35856976791395045},null,null,{"$f":"N8","v":112},{"$f":"COUNTIF(L7:L16,T8)","v":8},{"$f":"U8/(W4-U10)","v":0.88888888888888884},{"$f":"IF(V8=0,0,(V8*((LOG(V8))/LOG(2))))","v":-0.15104444572649992},null,{"$f":"N8","v":112},{"$f":"COUNTIF(L17:L25,Y8)","v":5},{"$f":"Z8/(AB4-Z10)","v":0.625},{"$f":"IF(AA8=0,0,(AA8*((LOG(AA8))/LOG(2))))","v":-0.42379494069539858},null,{"$f":"N8","v":112},{"$f":"COUNTIF(L26:L35,AD8)","v":7},{"$f":"AE8/(AG4-AE10)","v":0.875},{"$f":"IF(AF8=0,0,(AF8*((LOG(AF8))/LOG(2))))","v":-0.1685644431995964},null,{"$f":"N8","v":112},{"$f":"COUNTIF(L36:L44,AI8)","v":6},{"$f":"AJ8/(AL4-AJ10)","v":0.8571428571428571},{"$f":"IF(AK8=0,0,(AK8*((LOG(AK8))/LOG(2))))","v":-0.19062207543124113},null,{"$f":"N8","v":112},{"$f":"COUNTIF(L45:L54,AN8)","v":7},{"$f":"AO8/(AQ4-AO10)","v":0.875},{"$f":"IF(AP8=0,0,(AP8*((LOG(AP8))/LOG(2))))","v":-0.1685644431995964},null,{"$f":"N8","v":112},{"$f":"COUNTIF(L55:L63,AS8)","v":7},{"$f":"AT8/(AV4-AT10)","v":0.77777777777777779},{"$f":"IF(AU8=0,0,(AU8*((LOG(AU8))/LOG(2))))","v":-0.28199895063255082}]
[11,243,22,263,23,271,null,null,null,null,0,122,null,121,{"$f":"COUNTIF($L$7:$L$500,N9)","v":1},{"$f":"O9/$Q$4","v":1.7543859649122806E-2},{"$f":"IF(P9=0,0,(P9*((LOG(P9))/LOG(2))))","v":-0.10233140375727617},null,null,{"$f":"N9","v":121},{"$f":"COUNTIF(L7:L16,T9)","v":0},{"$f":"U9/(W4-U10)","v":0},{"$f":"IF(V9=0,0,(V9*((LOG(V9))/LOG(2))))","v":0},null,{"$f":"N9","v":121},{"$f":"COUNTIF(L17:L25,Y9)","v":0},{"$f":"Z9/(AB4-Z10)","v":0},{"$f":"IF(AA9=0,0,(AA9*((LOG(AA9))/LOG(2))))","v":0},null,{"$f":"N9","v":121},{"$f":"COUNTIF(L26:L35,AD9)","v":0},{"$f":"AE9/(AG4-AE10)","v":0},{"$f":"IF(AF9=0,0,(AF9*((LOG(AF9))/LOG(2))))","v":0},null,{"$f":"N9","v":121},{"$f":"COUNTIF(L36:L44,AI9)","v":1},{"$f":"AJ9/(AL4-AJ10)","v":0.14285714285714285},{"$f":"IF(AK9=0,0,(AK9*((LOG(AK9))/LOG(2))))","v":-0.40105070315108626},null,{"$f":"N9","v":121},{"$f":"COUNTIF(L45:L54,AN9)","v":0},{"$f":"AO9/(AQ4-AO10)","v":0},{"$f":"IF(AP9=0,0,(AP9*((LOG(AP9))/LOG(2))))","v":0},null,{"$f":"N9","v":121},{"$f":"COUNTIF(L55:L63,AS9)","v":0},{"$f":"AT9/(AV4-AT10)","v":0},{"$f":"IF(AU9=0,0,(AU9*((LOG(AU9))/LOG(2))))","v":0}]
[11,368,11,377,21,396,null,null,null,null,0,112,null,122,{"$f":"COUNTIF($L$7:$L$500,N10)","v":8},{"$f":"O10/$Q$4","v":0.14035087719298245},{"$f":"IF(P10=0,0,(P10*((LOG(P10))/LOG(2))))","v":-0.39759859847926199},null,null,{"$f":"N10","v":122},{"$f":"COUNTIF(L7:L16,T10)","v":1},null,null,null,{"$f":"N10","v":122},{"$f":"COUNTIF(L17:L25,Y10)","v":1},null,null,null,{"$f":"N10","v":122},{"$f":"COUNTIF(L26:L35,AD10)","v":2},null,null,null,{"$f":"N10","v":122},{"$f":"COUNTIF(L36:L44,AI10)","v":2},null,null,null,{"$f":"N10","v":122},{"$f":"COUNTIF(L45:L54,AN10)","v":2},null,null,null,{"$f":"N10","v":122},{"$f":"COUNTIF(L55:L63,AS10)","v":0}]
[11,491,11,496,21,508,null,null,null,null,0,112,null,211,{"$f":"COUNTIF($L$7:$L$500,N11)","v":0},{"$f":"O11/$Q$4","v":0},{"$f":"IF(P11=0,0,(P11*((LOG(P11))/LOG(2))))","v":0},null,null,{"$f":"N11","v":211},{"$f":"COUNTIF(L7:L16,T11)","v":0},{"$f":"U11/(W4-U10)","v":0},{"$f":"IF(V11=0,0,(V11*((LOG(V11))/LOG(2))))","v":0},null,{"$f":"N11","v":211},{"$f":"COUNTIF(L17:L25,Y11)","v":0},{"$f":"Z11/(AB4-Z10)","v":0},{"$f":"IF(AA11=0,0,(AA11*((LOG(AA11))/LOG(2))))","v":0},null,{"$f":"N11","v":211},{"$f":"COUNTIF(L26:L35,AD11)","v":0},{"$f":"AE11/(AG4-AE10)","v":0},{"$f":"IF(AF11=0,0,(AF11*((LOG(AF11))/LOG(2))))","v":0},null,{"$f":"N11","v":211},{"$f":"COUNTIF(L36:L44,AI11)","v":0},{"$f":"AJ11/(AL4-AJ10)","v":0},{"$f":"IF(AK11=0,0,(AK11*((LOG(AK11))/LOG(2))))","v":0},null,{"$f":"N11","v":211},{"$f":"COUNTIF(L45:L54,AN11)","v":0},{"$f":"AO11/(AQ4-AO10)","v":0},{"$f":"IF(AP11=0,0,(AP11*((LOG(AP11))/LOG(2))))","v":0},null,{"$f":"N11","v":211},{"$f":"COUNTIF(L55:L63,AS11)","v":0},{"$f":"AT11/(AV4-AT10)","v":0},{"$f":"IF(AU11=0,0,(AU11*((LOG(AU11))/LOG(2))))","v":0}]
[11,600,11,613,12,617,null,null,null,null,0,111,null,212,{"$f":"COUNTIF($L$7:$L$500,N12)","v":0},{"$f":"O12/$Q$4","v":0},{"$f":"IF(P12=0,0,(P12*((LOG(P12))/LOG(2))))","v":0},null,null,{"$f":"N12","v":212},{"$f":"COUNTIF(L7:L16,T12)","v":0},{"$f":"U12/(W4-U10)","v":0},{"$f":"IF(V12=0,0,(V12*((LOG(V12))/LOG(2))))","v":0},null,{"$f":"N12","v":212},{"$f":"COUNTIF(L17:L25,Y12)","v":0},{"$f":"Z12/(AB4-Z10)","v":0},{"$f":"IF(AA12=0,0,(AA12*((LOG(AA12))/LOG(2))))","v":0},null,{"$f":"N12","v":212},{"$f":"COUNTIF(L26:L35,AD12)","v":0},{"$f":"AE12/(AG4-AE10)","v":0},{"$f":"IF(AF12=0,0,(AF12*((LOG(AF12))/LOG(2))))","v":0},null,{"$f":"N12","v":212},{"$f":"COUNTIF(L36:L44,AI12)","v":0},{"$f":"AJ12/(AL4-AJ10)","v":0},{"$f":"IF(AK12=0,0,(AK12*((LOG(AK12))/LOG(2))))","v":0},null,{"$f":"N12","v":212},{"$f":"COUNTIF(L45:L54,AN12)","v":0},{"$f":"AO12/(AQ4-AO10)","v":0},{"$f":"IF(AP12=0,0,(AP12*((LOG(AP12))/LOG(2))))","v":0},null,{"$f":"N12","v":212},{"$f":"COUNTIF(L55:L63,AS12)","v":0},{"$f":"AT12/(AV4-AT10)","v":0},{"$f":"IF(AU12=0,0,(AU12*((LOG(AU12))/LOG(2))))","v":0}]
[11,735,11,736,21,774,null,null,null,null,0,112,null,221,{"$f":"COUNTIF($L$7:$L$500,N13)","v":1},{"$f":"O13/$Q$4","v":1.7543859649122806E-2},{"$f":"IF(P13=0,0,(P13*((LOG(P13))/LOG(2))))","v":-0.10233140375727617},null,null,{"$f":"N13","v":221},{"$f":"COUNTIF(L7:L16,T13)","v":0},{"$f":"U13/(W4-U10)","v":0},{"$f":"IF(V13=0,0,(V13*((LOG(V13))/LOG(2))))","v":0},null,{"$f":"N13","v":221},{"$f":"COUNTIF(L17:L25,Y13)","v":1},{"$f":"Z13/(AB4-Z10)","v":0.125},{"$f":"IF(AA13=0,0,(AA13*((LOG(AA13))/LOG(2))))","v":-0.375},null,{"$f":"N13","v":221},{"$f":"COUNTIF(L26:L35,AD13)","v":0},{"$f":"AE13/(AG4-AE10)","v":0},{"$f":"IF(AF13=0,0,(AF13*((LOG(AF13))/LOG(2))))","v":0},null,{"$f":"N13","v":221},{"$f":"COUNTIF(L36:L44,AI13)","v":0},{"$f":"AJ13/(AL4-AJ10)","v":0},{"$f":"IF(AK13=0,0,(AK13*((LOG(AK13))/LOG(2))))","v":0},null,{"$f":"N13","v":221},{"$f":"COUNTIF(L45:L54,AN13)","v":0},{"$f":"AO13/(AQ4-AO10)","v":0},{"$f":"IF(AP13=0,0,(AP13*((LOG(AP13))/LOG(2))))","v":0},null,{"$f":"N13","v":221},{"$f":"COUNTIF(L55:L63,AS13)","v":0},{"$f":"AT13/(AV4-AT10)","v":0},{"$f":"IF(AU13=0,0,(AU13*((LOG(AU13))/LOG(2))))","v":0}]
[11,866,11,871,21,899,null,null,null,null,0,112,null,222,{"$f":"COUNTIF($L$7:$L$500,N14)","v":1},{"$f":"O14/$Q$4","v":1.7543859649122806E-2},{"$f":"IF(P14=0,0,(P14*((LOG(P14))/LOG(2))))","v":-0.10233140375727617},null,null,{"$f":"N14","v":222},{"$f":"COUNTIF(L7:L16,T14)","v":0},{"$f":"U14/(W4-U10)","v":0},{"$f":"IF(V14=0,0,(V14*((LOG(V14))/LOG(2))))","v":0},null,{"$f":"N14","v":222},{"$f":"COUNTIF(L17:L25,Y14)","v":1},{"$f":"Z14/(AB4-Z10)","v":0.125},{"$f":"IF(AA14=0,0,(AA14*((LOG(AA14))/LOG(2))))","v":-0.375},null,{"$f":"N14","v":222},{"$f":"COUNTIF(L26:L35,AD14)","v":0},{"$f":"AE14/(AG4-AE10)","v":0},{"$f":"IF(AF14=0,0,(AF14*((LOG(AF14))/LOG(2))))","v":0},null,{"$f":"N14","v":222},{"$f":"COUNTIF(L36:L44,AI14)","v":0},{"$f":"AJ14/(AL4-AJ10)","v":0},{"$f":"IF(AK14=0,0,(AK14*((LOG(AK14))/LOG(2))))","v":0},null,{"$f":"N14","v":222},{"$f":"COUNTIF(L45:L54,AN14)","v":0},{"$f":"AO14/(AQ4-AO10)","v":0},{"$f":"IF(AP14=0,0,(AP14*((LOG(AP14))/LOG(2))))","v":0},null,{"$f":"N14","v":222},{"$f":"COUNTIF(L55:L63,AS14)","v":0},{"$f":"AT14/(AV4-AT10)","v":0},{"$f":"IF(AU14=0,0,(AU14*((LOG(AU14))/LOG(2))))","v":0}]
[11,991,11,999,21,1012,null,null,null,null,0,112,null,null,null,{"$f":"SUM(P7:P14)","v":1},{"$f":"-SUM(Q7:Q14)","v":1.4050496843433133},null,null,null,null,{"$f":"SUM(V7:V14)","v":1},{"$f":"-SUM(W7:W14)","v":0.50325833477564574},null,null,null,{"$f":"SUM(AA7:AA14)","v":1},{"$f":"-SUM(AB7:AB14)","v":1.5487949406953985},null,null,null,{"$f":"SUM(AF7:AF14)","v":1},{"$f":"-SUM(AG7:AG14)","v":0.5435644431995964},null,null,null,{"$f":"SUM(AK7:AK14)","v":1},{"$f":"-SUM(AL7:AL14)","v":0.59167277858232736},null,null,null,{"$f":"SUM(AP7:AP14)","v":1},{"$f":"-SUM(AQ7:AQ14)","v":0.5435644431995964},null,null,null,{"$f":"SUM(AU7:AU14)","v":1},{"$f":"-SUM(AV7:AV14)","v":0.76420450650862026}]
[11,1104,11,1121,21,1159,null,null,null,null,0,112,null,null,null,"U=",{"$f":"Q15/(LOG(Q4)/LOG(2))","v":0.24088396676968948},null,null,null,null,"U1=",{"$f":"W15/(LOG(W4)/LOG(2))","v":0.15149585433537505},null,null,null,"U2=",{"$f":"AB15/(LOG(AB4)/LOG(2))","v":0.48859040513283392},null,null,null,"U3=",{"$f":"AG15/(LOG(AG4)/LOG(2))","v":0.16362920197946887},null,null,null,"U4=",{"$f":"AL15/(LOG(AL4)/LOG(2))","v":0.18665198019294366},null,null,null,"U5=",{"$f":"AQ15/(LOG(AQ4)/LOG(2))","v":0.16362920197946887},null,null,null,"U6=",{"$f":"AV15/(LOG(AV4)/LOG(2))","v":0.24107968048484052}]
[11,1249,11,1256,12,1273,null,null,null,null,0,111]
[11,1377,11,1387,21,1401,null,null,null,null,0,112]
[11,1491,11,1495,21,1508,null,null,null,null,0,112,null,"Total Target Seq"]
[11,1598,11,1609,21,1619,null,null,null,null,0,112,null,{"$f":"COUNTIF(L7:L63,G3)","v":8},null,10,9,10,9,10,9]
[11,1718,11,1730,21,1762,null,null,null,null,0,112,null,null,null,"% of reinforcement given in 6 equal intervals based on number of trials "]
[11,1872,22,1885,23,1900,null,null,null,null,0,122,null,null,null,"%_1","%_2","%_3","%_4","%_5","%_6"]
[11,1997,11,2021,21,2035,null,null,null,null,0,112,null,null,"target sequence",{"$f":"$G$3","v":122},{"$f":"$G$3","v":122},{"$f":"$G$3","v":122},{"$f":"$G$3","v":122},{"$f":"$G$3","v":122},{"$f":"$G$3","v":122}]
[22,2173,24,2179,23,2204,null,null,null,null,0,222,null,null,"total reinforcement",{"$f":"U10","v":1},{"$f":"Z10","v":1},{"$f":"AE10","v":2},{"$f":"AJ10","v":2},{"$f":"AO10","v":2},{"$f":"AT10","v":0}]
[22,2395,24,2411,14,2425,null,null,null,null,0,221,null,null,"% target"]
[11,2522,11,2526,12,2540,null,null,null,null,0,111,null,null,"CCRF"]
[11,2639,11,2663,21,2684,null,null,null,null,0,112,null,null,"% CCRf"]
[11,2782,22,2813,23,2833,null,null,null,null,0,122,null,null,"average response rate",{"$f":"F16/P20","v":115.9},{"$f":"(F25-F16)/Q20","v":140.66666666666666},{"$f":"(F35-F25)/R20","v":144.69999999999999},{"$f":"(F44-F35)/S20","v":157.44444444444446},{"$f":"(F54-F44)/T20","v":129.1},{"$f":"(F63-F54)/U20","v":140.11111111111111}]
[11,2929,11,2938,21,2949,null,null,null,null,0,112]
[11,3047,11,3059,21,3077,null,null,null,null,0,112]
[11,3178,11,3189,21,3231,null,null,null,null,0,112]
[11,3367,22,3376,23,3389,null,null,null,null,0,122]
[11,3485,11,3501,21,3593,null,null,null,null,0,112]
[11,3683,11,3702,21,3752,null,null,null,null,0,112]
[11,3843,11,3854,21,3872,null,null,null,null,0,112]
[11,3962,11,3966,21,3991,null,null,null,null,0,112]
[11,4087,11,4091,21,4104,null,null,null,null,0,112]
[11,4205,22,4218,23,4245,null,null,null,null,0,122]
[11,4365,22,4379,23,4431,null,null,null,null,0,122]
[11,4527,11,4551,21,4571,null,null,null,null,0,112]
[11,4666,11,4671,21,4737,null,null,null,null,0,112]
[11,4844,22,4867,14,4984,null,null,null,null,0,121]
[11,5083,11,5086,21,5157,null,null,null,null,0,112]
[11,5253,11,5268,21,5289,null,null,null,null,0,112]
[11,5385,11,5391,21,5422,null,null,null,null,0,112]
[11,5517,11,5526,21,5542,null,null,null,null,0,112]
[11,5640,11,5644,21,5658,null,null,null,null,0,112]
[11,5749,11,5752,21,5792,null,null,null,null,0,112]
[11,5883,11,5888,21,5951,null,null,null,null,0,112]
[11,6043,11,6051,21,6070,null,null,null,null,0,112]
[11,6164,11,6171,12,6178,null,null,null,null,0,111]
[11,6282,11,6287,21,6312,null,null,null,null,0,112]
[11,6417,22,6433,23,6440,null,null,null,null,0,122]
[11,6546,22,6563,23,6580,null,null,null,null,0,122]
[11,6676,11,6680,21,6785,null,null,null,null,0,112]
[11,6883,11,6896,21,6932,null,null,null,null,0,112]
[11,7023,11,7027,12,7042,null,null,null,null,0,111]
[11,7140,11,7144,12,7146,null,null,null,null,0,111]
[11,7242,11,7259,21,7278,null,null,null,null,0,112]
[11,7380,11,7389,21,7426,null,null,null,null,0,112]
[11,7524,11,7532,21,7594,null,null,null,null,0,112]
[11,7686,11,7689,21,7726,null,null,null,null,0,112]
[11,7817,11,7824,21,7841,null,null,null,null,1,112]

{"sheet":"!M618B10.103","index":27,"n_rows":66,"n_cols":48,"rows_kept":66,"cut":false,"hidden":false,"merged":[[4,39,4,42],[5,39,5,40],[4,44,4,47],[5,44,5,45],[4,24,4,27],[5,24,5,25],[4,29,4,32],[5,29,5,30],[4,34,4,37],[5,34,5,35],[1,1,1,2],[5,13,5,14],[18,13,18,14],[19,13,19,14],[4,19,4,22],[5,19,5,20]]}
["Report for:!M618B10.103"]
["Date:","<date>"]
["Hen:","<hen>",null,null,null,"Correct Sequence",{"$f":"Start!J2","v":122},null,null,null,null,null,null,null,null,"Total Sequences in Data",{"$f":"4994-COUNTBLANK(L7:L5000)","v":60},null,null,null,null,"Total Sequences in Block Data",{"$f":"COUNTA(L7:L16)","v":10},null,null,null,"Total Sequences in Block Data",{"$f":"COUNTA(L17:L26)","v":10},null,null,null,"Total Sequences in Block Data",{"$f":"COUNTA(L27:L36)","v":10},null,null,null,"Total Sequences in Block Data",{"$f":"COUNTA(L37:L46)","v":10},null,null,null,"Total Sequences in Block Data",{"$f":"COUNTA(L47:L56)","v":10},null,null,null,"Total Sequences in Block Data",{"$f":"COUNTA(L57:L66)","v":10}]
[null,null,null,null,null,null,null,null,null,null,null,null,null,null,null,"Total Sequences in Summary",{"$f":"SUM(O7:O14)","v":60},null,null,null,null,"Total Sequences in Block Summary",{"$f":"SUM(U7:U14)","v":10},null,null,null,"Total Sequences in Block Summary",{"$f":"SUM(Z7:Z14)","v":10},null,null,null,"Total Sequences in Block Summary",{"$f":"SUM(AE7:AE14)","v":10},null,null,null,"Total Sequences in Block Summary",{"$f":"SUM(AJ7:AJ14)","v":10},null,null,null,"Total Sequences in Block Summary",{"$f":"SUM(AO7:AO14)","v":10},null,null,null,"Total Sequences in Block Summary",{"$f":"SUM(AT7:AT14)","v":10}]
[null,null,null,null,null,null,null,null,null,null,null,null,null,null,null,null,null,null,null,"Block 1",null,null,null,null,"Block 2",null,null,null,null,"Block 3",null,null,null,null,"Block 4",null,null,null,null,"Block 5",null,null,null,null,"Block 6"]
["Sequence\nComponent\n1","Time\n1","Sequence\nComponent\n2","Time\n2","Sequence\nComponent\n3","Time\n3","Sequence\nComponent\n4","Time\n4","Sequence\nComponent\n5","Time\n5","Correct?\n0=No 1=Yes","Sequence",null,"Frequency",null,"Relative Frequency","Variability",null,null,"Frequency",null,"Relative Frequency","Variability",null,"Frequency",null,"Relative Frequency","Variability",null,"Frequency",null,"Relative Frequency","Variability",null,"Frequency",null,"Relative Frequency","Variability",null,"Frequency",null,"Relative Frequency","Variability",null,"Frequency",null,"Relative Frequency","Variability"]
[11,9,11,13,21,24,null,null,null,null,0,112,null,111,{"$f":"COUNTIF($L$7:$L$500,N7)","v":8},{"$f":"O7/$Q$4","v":0.13333333333333333},{"$f":"IF(P7=0,0,(P7*((LOG(P7))/LOG(2))))","v":-0.3875854127478025},null,null,{"$f":"N7","v":111},{"$f":"COUNTIF(L7:L16,T7)","v":0},{"$f":"U7/(W4-U10)","v":0},{"$f":"IF(V7=0,0,(V7*((LOG(V7))/LOG(2))))","v":0},null,{"$f":"N7","v":111},{"$f":"COUNTIF(L17:L26,Y7)","v":0},{"$f":"Z7/(AB4-Z10)","v":0},{"$f":"IF(AA7=0,0,(AA7*((LOG(AA7))/LOG(2))))","v":0},null,{"$f":"N7","v":111},{"$f":"COUNTIF(L27:L36,AD7)","v":0},{"$f":"AE7/(AG4-AE10)","v":0},{"$f":"IF(AF7=0,0,(AF7*((LOG(AF7))/LOG(2))))","v":0},null,{"$f":"N7","v":111},{"$f":"COUNTIF(L37:L46,AI7)","v":0},{"$f":"AJ7/(AL4-AJ10)","v":0},{"$f":"IF(AK7=0,0,(AK7*((LOG(AK7))/LOG(2))))","v":0},null,{"$f":"N7","v":111},{"$f":"COUNTIF(L47:L56,AN7)","v":5},{"$f":"AO7/(AQ4-AO10)","v":0.625},{"$f":"IF(AP7=0,0,(AP7*((LOG(AP7))/LOG(2))))","v":-0.42379494069539858},null,{"$f":"N7","v":111},{"$f":"COUNTIF(L57:L66,AS7)","v":3},{"$f":"AT7/(AV4-AT10)","v":0.33333333333333331},{"$f":"IF(AU7=0,0,(AU7*((LOG(AU7))/LOG(2))))","v":-0.52832083357371862}]
[11,117,11,121,21,134,null,null,null,null,0,112,null,112,{"$f":"COUNTIF($L$7:$L$500,N8)","v":40},{"$f":"O8/$Q$4","v":0.66666666666666663},{"$f":"IF(P8=0,0,(P8*((LOG(P8))/LOG(2))))","v":-0.38997500048077083},null,null,{"$f":"N8","v":112},{"$f":"COUNTIF(L7:L16,T8)","v":8},{"$f":"U8/(W4-U10)","v":1},{"$f":"IF(V8=0,0,(V8*((LOG(V8))/LOG(2))))","v":0},null,{"$f":"N8","v":112},{"$f":"COUNTIF(L17:L26,Y8)","v":6},{"$f":"Z8/(AB4-Z10)","v":1},{"$f":"IF(AA8=0,0,(AA8*((LOG(AA8))/LOG(2))))","v":0},null,{"$f":"N8","v":112},{"$f":"COUNTIF(L27:L36,AD8)","v":7},{"$f":"AE8/(AG4-AE10)","v":1},{"$f":"IF(AF8=0,0,(AF8*((LOG(AF8))/LOG(2))))","v":0},null,{"$f":"N8","v":112},{"$f":"COUNTIF(L37:L46,AI8)","v":10},{"$f":"AJ8/(AL4-AJ10)","v":1},{"$f":"IF(AK8=0,0,(AK8*((LOG(AK8))/LOG(2))))","v":0},null,{"$f":"N8","v":112},{"$f":"COUNTIF(L47:L56,AN8)","v":3},{"$f":"AO8/(AQ4-AO10)","v":0.375},{"$f":"IF(AP8=0,0,(AP8*((LOG(AP8))/LOG(2))))","v":-0.53063906222956647},null,{"$f":"N8","v":112},{"$f":"COUNTIF(L57:L66,AS8)","v":6},{"$f":"AT8/(AV4-AT10)","v":0.66666666666666663},{"$f":"IF(AU8=0,0,(AU8*((LOG(AU8))/LOG(2))))","v":-0.38997500048077083}]
[11,228,11,232,21,243,null,null,null,null,0,112,null,121,{"$f":"COUNTIF($L$7:$L$500,N9)","v":0},{"$f":"O9/$Q$4","v":0},{"$f":"IF(P9=0,0,(P9*((LOG(P9))/LOG(2))))","v":0},null,null,{"$f":"N9","v":121},{"$f":"COUNTIF(L7:L16,T9)","v":0},{"$f":"U9/(W4-U10)","v":0},{"$f":"IF(V9=0,0,(V9*((LOG(V9))/LOG(2))))","v":0},null,{"$f":"N9","v":121},{"$f":"COUNTIF(L17:L26,Y9)","v":0},{"$f":"Z9/(AB4-Z10)","v":0},{"$f":"IF(AA9=0,0,(AA9*((LOG(AA9))/LOG(2))))","v":0},null,{"$f":"N9","v":121},{"$f":"COUNTIF(L27:L36,AD9)","v":0},{"$f":"AE9/(AG4-AE10)","v":0},{"$f":"IF(AF9=0,0,(AF9*((LOG(AF9))/LOG(2))))","v":0},null,{"$f":"N9","v":121},{"$f":"COUNTIF(L37:L46,AI9)","v":0},{"$f":"AJ9/(AL4-AJ10)","v":0},{"$f":"IF(AK9=0,0,(AK9*((LOG(AK9))/LOG(2))))","v":0},null,{"$f":"N9","v":121},{"$f":"COUNTIF(L47:L56,AN9)","v":0},{"$f":"AO9/(AQ4-AO10)","v":0},{"$f":"IF(AP9=0,0,(AP9*((LOG(AP9))/LOG(2))))","v":0},null,{"$f":"N9","v":121},{"$f":"COUNTIF(L57:L66,AS9)","v":0},{"$f":"AT9/(AV4-AT10)","v":0},{"$f":"IF(AU9=0,0,(AU9*((LOG(AU9))/LOG(2))))","v":0}]
[11,342,22,354,23,365,null,null,null,null,0,122,null,122,{"$f":"COUNTIF($L$7:$L$500,N10)","v":12},{"$f":"O10/$Q$4","v":0.2},{"$f":"IF(P10=0,0,(P10*((LOG(P10))/LOG(2))))","v":-0.46438561897747244},null,null,{"$f":"N10","v":122},{"$f":"COUNTIF(L7:L16,T10)","v":2},null,null,null,{"$f":"N10","v":122},{"$f":"COUNTIF(L17:L26,Y10)","v":4},null,null,null,{"$f":"N10","v":122},{"$f":"COUNTIF(L27:L36,AD10)","v":3},null,null,null,{"$f":"N10","v":122},{"$f":"COUNTIF(L37:L46,AI10)","v":0},null,null,null,{"$f":"N10","v":122},{"$f":"COUNTIF(L47:L56,AN10)","v":2},null,null,null,{"$f":"N10","v":122},{"$f":"COUNTIF(L57:L66,AS10)","v":1}]
[11,461,11,465,21,475,null,null,null,null,0,112,null,211,{"$f":"COUNTIF($L$7:$L$500,N11)","v":0},{"$f":"O11/$Q$4","v":0},{"$f":"IF(P11=0,0,(P11*((LOG(P11))/LOG(2))))","v":0},null,null,{"$f":"N11","v":211},{"$f":"COUNTIF(L7:L16,T11)","v":0},{"$f":"U11/(W4-U10)","v":0},{"$f":"IF(V11=0,0,(V11*((LOG(V11))/LOG(2))))","v":0},null,{"$f":"N11","v":211},{"$f":"COUNTIF(L17:L26,Y11)","v":0},{"$f":"Z11/(AB4-Z10)","v":0},{"$f":"IF(AA11=0,0,(AA11*((LOG(AA11))/LOG(2))))","v":0},null,{"$f":"N11","v":211},{"$f":"COUNTIF(L27:L36,AD11)","v":0},{"$f":"AE11/(AG4-AE10)","v":0},{"$f":"IF(AF11=0,0,(AF11*((LOG(AF11))/LOG(2))))","v":0},null,{"$f":"N11","v":211},{"$f":"COUNTIF(L37:L46,AI11)","v":0},{"$f":"AJ11/(AL4-AJ10)","v":0},{"$f":"IF(AK11=0,0,(AK11*((LOG(AK11))/LOG(2))))","v":0},null,{"$f":"N11","v":211},{"$f":"COUNTIF(L47:L56,AN11)","v":0},{"$f":"AO11/(AQ4-AO10)","v":0},{"$f":"IF(AP11=0,0,(AP11*((LOG(AP11))/LOG(2))))","v":0},null,{"$f":"N11","v":211},{"$f":"COUNTIF(L57:L66,AS11)","v":0},{"$f":"AT11/(AV4-AT10)","v":0},{"$f":"IF(AU11=0,0,(AU11*((LOG(AU11))/LOG(2))))","v":0}]
[11,570,11,582,21,593,null,null,null,null,0,112,null,212,{"$f":"COUNTIF($L$7:$L$500,N12)","v":0},{"$f":"O12/$Q$4","v":0},{"$f":"IF(P12=0,0,(P12*((LOG(P12))/LOG(2))))","v":0},null,null,{"$f":"N12","v":212},{"$f":"COUNTIF(L7:L16,T12)","v":0},{"$f":"U12/(W4-U10)","v":0},{"$f":"IF(V12=0,0,(V12*((LOG(V12))/LOG(2))))","v":0},null,{"$f":"N12","v":212},{"$f":"COUNTIF(L17:L26,Y12)","v":0},{"$f":"Z12/(AB4-Z10)","v":0},{"$f":"IF(AA12=0,0,(AA12*((LOG(AA12))/LOG(2))))","v":0},null,{"$f":"N12","v":212},{"$f":"COUNTIF(L27:L36,AD12)","v":0},{"$f":"AE12/(AG4-AE10)","v":0},{"$f":"IF(AF12=0,0,(AF12*((LOG(AF12))/LOG(2))))","v":0},null,{"$f":"N12","v":212},{"$f":"COUNTIF(L37:L46,AI12)","v":0},{"$f":"AJ12/(AL4-AJ10)","v":0},{"$f":"IF(AK12=0,0,(AK12*((LOG(AK12))/LOG(2))))","v":0},null,{"$f":"N12","v":212},{"$f":"COUNTIF(L47:L56,AN12)","v":0},{"$f":"AO12/(AQ4-AO10)","v":0},{"$f":"IF(AP12=0,0,(AP12*((LOG(AP12))/LOG(2))))","v":0},null,{"$f":"N12","v":212},{"$f":"COUNTIF(L57:L66,AS12)","v":0},{"$f":"AT12/(AV4-AT10)","v":0},{"$f":"IF(AU12=0,0,(AU12*((LOG(AU12))/LOG(2))))","v":0}]
[11,682,22,693,23,700,null,null,null,null,0,122,null,221,{"$f":"COUNTIF($L$7:$L$500,N13)","v":0},{"$f":"O13/$Q$4","v":0},{"$f":"IF(P13=0,0,(P13*((LOG(P13))/LOG(2))))","v":0},null,null,{"$f":"N13","v":221},{"$f":"COUNTIF(L7:L16,T13)","v":0},{"$f":"U13/(W4-U10)","v":0},{"$f":"IF(V13=0,0,(V13*((LOG(V13))/LOG(2))))","v":0},null,{"$f":"N13","v":221},{"$f":"COUNTIF(L17:L26,Y13)","v":0},{"$f":"Z13/(AB4-Z10)","v":0},{"$f":"IF(AA13=0,0,(AA13*((LOG(AA13))/LOG(2))))","v":0},null,{"$f":"N13","v":221},{"$f":"COUNTIF(L27:L36,AD13)","v":0},{"$f":"AE13/(AG4-AE10)","v":0},{"$f":"IF(AF13=0,0,(AF13*((LOG(AF13))/LOG(2))))","v":0},null,{"$f":"N13","v":221},{"$f":"COUNTIF(L37:L46,AI13)","v":0},{"$f":"AJ13/(AL4-AJ10)","v":0},{"$f":"IF(AK13=0,0,(AK13*((LOG(AK13))/LOG(2))))","v":0},null,{"$f":"N13","v":221},{"$f":"COUNTIF(L47:L56,AN13)","v":0},{"$f":"AO13/(AQ4-AO10)","v":0},{"$f":"IF(AP13=0,0,(AP13*((LOG(AP13))/LOG(2))))","v":0},null,{"$f":"N13","v":221},{"$f":"COUNTIF(L57:L66,AS13)","v":0},{"$f":"AT13/(AV4-AT10)","v":0},{"$f":"IF(AU13=0,0,(AU13*((LOG(AU13))/LOG(2))))","v":0}]
[11,798,11,805,21,816,null,null,null,null,0,112,null,222,{"$f":"COUNTIF($L$7:$L$500,N14)","v":0},{"$f":"O14/$Q$4","v":0},{"$f":"IF(P14=0,0,(P14*((LOG(P14))/LOG(2))))","v":0},null,null,{"$f":"N14","v":222},{"$f":"COUNTIF(L7:L16,T14)","v":0},{"$f":"U14/(W4-U10)","v":0},{"$f":"IF(V14=0,0,(V14*((LOG(V14))/LOG(2))))","v":0},null,{"$f":"N14","v":222},{"$f":"COUNTIF(L17:L26,Y14)","v":0},{"$f":"Z14/(AB4-Z10)","v":0},{"$f":"IF(AA14=0,0,(AA14*((LOG(AA14))/LOG(2))))","v":0},null,{"$f":"N14","v":222},{"$f":"COUNTIF(L27:L36,AD14)","v":0},{"$f":"AE14/(AG4-AE10)","v":0},{"$f":"IF(AF14=0,0,(AF14*((LOG(AF14))/LOG(2))))","v":0},null,{"$f":"N14","v":222},{"$f":"COUNTIF(L37:L46,AI14)","v":0},{"$f":"AJ14/(AL4-AJ10)","v":0},{"$f":"IF(AK14=0,0,(AK14*((LOG(AK14))/LOG(2))))","v":0},null,{"$f":"N14","v":222},{"$f":"COUNTIF(L47:L56,AN14)","v":0},{"$f":"AO14/(AQ4-AO10)","v":0},{"$f":"IF(AP14=0,0,(AP14*((LOG(AP14))/LOG(2))))","v":0},null,{"$f":"N14","v":222},{"$f":"COUNTIF(L57:L66,AS14)","v":0},{"$f":"AT14/(AV4-AT10)","v":0},{"$f":"IF(AU14=0,0,(AU14*((LOG(AU14))/LOG(2))))","v":0}]
[11,908,11,912,21,921,null,null,null,null,0,112,null,null,null,{"$f":"SUM(P7:P14)","v":1},{"$f":"-SUM(Q7:Q14)","v":1.2419460322060458},null,null,null,null,{"$f":"SUM(V7:V14)","v":1},{"$f":"-SUM(W7:W14)","v":0},null,null,null,{"$f":"SUM(AA7:AA14)","v":1},{"$f":"-SUM(AB7:AB14)","v":0},null,null,null,{"$f":"SUM(AF7:AF14)","v":1},{"$f":"-SUM(AG7:AG14)","v":0},null,null,null,{"$f":"SUM(AK7:AK14)","v":1},{"$f":"-SUM(AL7:AL14)","v":0},null,null,null,{"$f":"SUM(AP7:AP14)","v":1},{"$f":"-SUM(AQ7:AQ14)","v":0.95443400292496505},null,null,null,{"$f":"SUM(AU7:AU14)","v":1},{"$f":"-SUM(AV7:AV14)","v":0.91829583405448945}]
[11,1012,11,1017,21,1068,null,null,null,null,0,112,null,null,null,"U=",{"$f":"Q15/(LOG(Q4)/LOG(2))","v":0.21025377262436032},null,null,null,null,"U1=",{"$f":"W15/(LOG(W4)/LOG(2))","v":0},null,null,null,"U2=",{"$f":"AB15/(LOG(AB4)/LOG(2))","v":0},null,null,null,"U3=",{"$f":"AG15/(LOG(AG4)/LOG(2))","v":0},null,null,null,"U4=",{"$f":"AL15/(LOG(AL4)/LOG(2))","v":0},null,null,null,"U5=",{"$f":"AQ15/(LOG(AQ4)/LOG(2))","v":0.28731326376205846},null,null,null,"U6=",{"$f":"AV15/(LOG(AV4)/LOG(2))","v":0.27643459094367495}]
[11,1163,22,1179,23,1185,null,null,null,null,0,122]
[11,1281,11,1286,21,1294,null,null,null,null,0,112]
[11,1387,11,1390,21,1415,null,null,null,null,0,112,null,"Total Target Seq"]
[11,1508,22,1519,23,1525,null,null,null,null,0,122,null,{"$f":"COUNTIF(L7:L66,G3)","v":12},null,10,10,10,10,10,10]
[11,1632,22,1646,23,1652,null,null,null,null,0,122,null,null,null,"% of reinforcement given in 6 equal intervals based on number of trials "]
[11,1758,11,1760,21,1771,null,null,null,null,0,112,null,null,null,"%_1","%_2","%_3","%_4","%_5","%_6"]
[11,1861,11,1865,21,1876,null,null,null,null,0,112,null,null,"target sequence",{"$f":"$G$3","v":122},{"$f":"$G$3","v":122},{"$f":"$G$3","v":122},{"$f":"$G$3","v":122},{"$f":"$G$3","v":122},{"$f":"$G$3","v":122}]
[11,1971,22,1986,23,2006,null,null,null,null,0,122,null,null,"total reinforcement",{"$f":"U10","v":2},{"$f":"Z10","v":4},{"$f":"AE10","v":3},{"$f":"AJ10","v":0},{"$f":"AO10","v":2},{"$f":"AT10","v":1}]
[11,2102,11,2106,21,2116,null,null,null,null,0,112,null,null,"% target"]
[11,2209,11,2213,21,2225,null,null,null,null,0,112,null,null,"CCRF"]
[11,2314,11,2318,21,2328,null,null,null,null,0,112,null,null,"% CCRf"]
[11,2431,22,2444,23,2470,null,null,null,null,0,122,null,null,"average response rate",{"$f":"F16/P20","v":106.8},{"$f":"(F26-F16)/Q20","v":115.7},{"$f":"(F36-F26)/R20","v":122},{"$f":"(F46-F36)/S20","v":117.4},{"$f":"(F56-F46)/T20","v":115.1},{"$f":"(F66-F56)/U20","v":117.2}]
[11,2571,22,2582,23,2591,null,null,null,null,0,122]
[11,2703,22,2718,23,2733,null,null,null,null,0,122]
[11,2845,11,2846,21,2858,null,null,null,null,0,112]
[11,2953,11,2958,21,2974,null,null,null,null,0,112]
[11,3068,11,3074,21,3114,null,null,null,null,0,112]
[11,3208,11,3212,21,3224,null,null,null,null,0,112]
[11,3314,11,3318,21,3329,null,null,null,null,0,112]
[11,3429,11,3433,21,3445,null,null,null,null,0,112]
[11,3543,11,3548,21,3560,null,null,null,null,0,112]
[11,3652,11,3657,21,3669,null,null,null,null,0,112]
[11,3762,11,3769,21,3793,null,null,null,null,0,112]
[11,3884,11,3891,21,3914,null,null,null,null,0,112]
[11,4004,11,4007,21,4019,null,null,null,null,0,112]
[11,4110,11,4123,21,4150,null,null,null,null,0,112]
[11,4241,11,4261,21,4278,null,null,null,null,0,112]
[11,4370,11,4373,21,4402,null,null,null,null,0,112]
[11,4494,11,4501,21,4513,null,null,null,null,0,112]
[11,4603,11,4606,21,4619,null,null,null,null,0,112]
[11,4708,11,4712,12,4715,null,null,null,null,0,111]
[11,4812,11,4815,12,4819,null,null,null,null,0,111]
[11,4918,11,4921,12,4925,null,null,null,null,0,111]
[11,5021,11,5026,21,5037,null,null,null,null,0,112]
[11,5130,11,5136,21,5167,null,null,null,null,0,112]
[11,5258,11,5261,12,5265,null,null,null,null,0,111]
[11,5371,22,5394,23,5417,null,null,null,null,0,122]
[11,5515,11,5519,21,5541,null,null,null,null,0,112]
[11,5634,22,5660,23,5666,null,null,null,null,0,122]
[11,5762,11,5765,12,5770,null,null,null,null,0,111]
[11,5869,22,5880,23,5885,null,null,null,null,0,122]
[11,5982,11,5985,12,5989,null,null,null,null,0,111]
[11,6086,11,6090,21,6102,null,null,null,null,0,112]
[11,6196,11,6213,12,6218,null,null,null,null,0,111]
[11,6317,11,6320,21,6371,null,null,null,null,0,112]
[11,6463,11,6466,12,6471,null,null,null,null,0,111]
[11,6567,11,6570,21,6583,null,null,null,null,0,112]
[11,6674,11,6678,21,6694,null,null,null,null,0,112]
[11,6783,11,6787,21,6801,null,null,null,null,0,112]
[11,6898,11,6902,21,6942,null,null,null,null,1,112]

{"sheet":"!M619B50.103","index":28,"n_rows":59,"n_cols":48,"rows_kept":59,"cut":false,"hidden":false,"merged":[[4,39,4,42],[5,39,5,40],[4,44,4,47],[5,44,5,45],[4,24,4,27],[5,24,5,25],[4,29,4,32],[5,29,5,30],[4,34,4,37],[5,34,5,35],[1,1,1,2],[5,13,5,14],[18,13,18,14],[19,13,19,14],[4,19,4,22],[5,19,5,20]]}
["Report for:!M619B50.103"]
["Date:","<date>"]
["Hen:","<hen>",null,null,null,"Correct Sequence",{"$f":"Start!J2","v":122},null,null,null,null,null,null,null,null,"Total Sequences in Data",{"$f":"4994-COUNTBLANK(L7:L5000)","v":53},null,null,null,null,"Total Sequences in Block Data",{"$f":"COUNTA(L7:L15)","v":9},null,null,null,"Total Sequences in Block Data",{"$f":"COUNTA(L16:L24)","v":9},null,null,null,"Total Sequences in Block Data",{"$f":"COUNTA(L25:L32)","v":8},null,null,null,"Total Sequences in Block Data",{"$f":"COUNTA(L33:L41)","v":9},null,null,null,"Total Sequences in Block Data",{"$f":"COUNTA(L42:L50)","v":9},null,null,null,"Total Sequences in Block Data",{"$f":"COUNTA(L51:L59)","v":9}]
[null,null,null,null,null,null,null,null,null,null,null,null,null,null,null,"Total Sequences in Summary",{"$f":"SUM(O7:O14)","v":53},null,null,null,null,"Total Sequences in Block Summary",{"$f":"SUM(U7:U14)","v":9},null,null,null,"Total Sequences in Block Summary",{"$f":"SUM(Z7:Z14)","v":9},null,null,null,"Total Sequences in Block Summary",{"$f":"SUM(AE7:AE14)","v":8},null,null,null,"Total Sequences in Block Summary",{"$f":"SUM(AJ7:AJ14)","v":9},null,null,null,"Total Sequences in Block Summary",{"$f":"SUM(AO7:AO14)","v":9},null,null,null,"Total Sequences in Block Summary",{"$f":"SUM(AT7:AT14)","v":9}]
[null,null,null,null,null,null,null,null,null,null,null,null,null,null,null,null,null,null,null,"Block 1",null,null,null,null,"Block 2",null,null,null,null,"Block 3",null,null,null,null,"Block 4",null,null,null,null,"Block 5",null,null,null,null,"Block 6"]
["Sequence\nComponent\n1","Time\n1","Sequence\nComponent\n2","Time\n2","Sequence\nComponent\n3","Time\n3","Sequence\nComponent\n4","Time\n4","Sequence\nComponent\n5","Time\n5","Correct?\n0=No 1=Yes","Sequence",null,"Frequency",null,"Relative Frequency","Variability",null,null,"Frequency",null,"Relative Frequency","Variability",null,"Frequency",null,"Relative Frequency","Variability",null,"Frequency",null,"Relative Frequency","Variability",null,"Frequency",null,"Relative Frequency","Variability",null,"Frequency",null,"Relative Frequency","Variability",null,"Frequency",null,"Relative Frequency","Variability"]
[11,10,11,14,21,27,null,null,null,null,0,112,null,111,{"$f":"COUNTIF($L$7:$L$500,N7)","v":8},{"$f":"O7/$Q$4","v":0.15094339622641509},{"$f":"IF(P7=0,0,(P7*((LOG(P7))/LOG(2))))","v":-0.41176157804727531},null,null,{"$f":"N7","v":111},{"$f":"COUNTIF(L7:L15,T7)","v":1},{"$f":"U7/(W4-U10)","v":0.1111111111111111},{"$f":"IF(V7=0,0,(V7*((LOG(V7))/LOG(2))))","v":-0.3522138890491458},null,{"$f":"N7","v":111},{"$f":"COUNTIF(L16:L24,Y7)","v":1},{"$f":"Z7/(AB4-Z10)","v":0.125},{"$f":"IF(AA7=0,0,(AA7*((LOG(AA7))/LOG(2))))","v":-0.375},null,{"$f":"N7","v":111},{"$f":"COUNTIF(L25:L32,AD7)","v":0},{"$f":"AE7/(AG4-AE10)","v":0},{"$f":"IF(AF7=0,0,(AF7*((LOG(AF7))/LOG(2))))","v":0},null,{"$f":"N7","v":111},{"$f":"COUNTIF(L33:L41,AI7)","v":3},{"$f":"AJ7/(AL4-AJ10)","v":0.375},{"$f":"IF(AK7=0,0,(AK7*((LOG(AK7))/LOG(2))))","v":-0.53063906222956647},null,{"$f":"N7","v":111},{"$f":"COUNTIF(L42:L50,AN7)","v":0},{"$f":"AO7/(AQ4-AO10)","v":0},{"$f":"IF(AP7=0,0,(AP7*((LOG(AP7))/LOG(2))))","v":0},null,{"$f":"N7","v":111},{"$f":"COUNTIF(L51:L59,AS7)","v":3},{"$f":"AT7/(AV4-AT10)","v":0.375},{"$f":"IF(AU7=0,0,(AU7*((LOG(AU7))/LOG(2))))","v":-0.53063906222956647}]
[11,118,11,121,21,133,null,null,null,null,0,112,null,112,{"$f":"COUNTIF($L$7:$L$500,N8)","v":40},{"$f":"O8/$Q$4","v":0.75471698113207553},{"$f":"IF(P8=0,0,(P8*((LOG(P8))/LOG(2))))","v":-0.30640932805723531},null,null,{"$f":"N8","v":112},{"$f":"COUNTIF(L7:L15,T8)","v":8},{"$f":"U8/(W4-U10)","v":0.88888888888888884},{"$f":"IF(V8=0,0,(V8*((LOG(V8))/LOG(2))))","v":-0.15104444572649992},null,{"$f":"N8","v":112},{"$f":"COUNTIF(L16:L24,Y8)","v":7},{"$f":"Z8/(AB4-Z10)","v":0.875},{"$f":"IF(AA8=0,0,(AA8*((LOG(AA8))/LOG(2))))","v":-0.1685644431995964},null,{"$f":"N8","v":112},{"$f":"COUNTIF(L25:L32,AD8)","v":8},{"$f":"AE8/(AG4-AE10)","v":1},{"$f":"IF(AF8=0,0,(AF8*((LOG(AF8))/LOG(2))))","v":0},null,{"$f":"N8","v":112},{"$f":"COUNTIF(L33:L41,AI8)","v":5},{"$f":"AJ8/(AL4-AJ10)","v":0.625},{"$f":"IF(AK8=0,0,(AK8*((LOG(AK8))/LOG(2))))","v":-0.42379494069539858},null,{"$f":"N8","v":112},{"$f":"COUNTIF(L42:L50,AN8)","v":7},{"$f":"AO8/(AQ4-AO10)","v":1},{"$f":"IF(AP8=0,0,(AP8*((LOG(AP8))/LOG(2))))","v":0},null,{"$f":"N8","v":112},{"$f":"COUNTIF(L51:L59,AS8)","v":5},{"$f":"AT8/(AV4-AT10)","v":0.625},{"$f":"IF(AU8=0,0,(AU8*((LOG(AU8))/LOG(2))))","v":-0.42379494069539858}]
[11,225,11,230,21,262,null,null,null,null,0,112,null,121,{"$f":"COUNTIF($L$7:$L$500,N9)","v":0},{"$f":"O9/$Q$4","v":0},{"$f":"IF(P9=0,0,(P9*((LOG(P9))/LOG(2))))","v":0},null,null,{"$f":"N9","v":121},{"$f":"COUNTIF(L7:L15,T9)","v":0},{"$f":"U9/(W4-U10)","v":0},{"$f":"IF(V9=0,0,(V9*((LOG(V9))/LOG(2))))","v":0},null,{"$f":"N9","v":121},{"$f":"COUNTIF(L16:L24,Y9)","v":0},{"$f":"Z9/(AB4-Z10)","v":0},{"$f":"IF(AA9=0,0,(AA9*((LOG(AA9))/LOG(2))))","v":0},null,{"$f":"N9","v":121},{"$f":"COUNTIF(L25:L32,AD9)","v":0},{"$f":"AE9/(AG4-AE10)","v":0},{"$f":"IF(AF9=0,0,(AF9*((LOG(AF9))/LOG(2))))","v":0},null,{"$f":"N9","v":121},{"$f":"COUNTIF(L33:L41,AI9)","v":0},{"$f":"AJ9/(AL4-AJ10)","v":0},{"$f":"IF(AK9=0,0,(AK9*((LOG(AK9))/LOG(2))))","v":0},null,{"$f":"N9","v":121},{"$f":"COUNTIF(L42:L50,AN9)","v":0},{"$f":"AO9/(AQ4-AO10)","v":0},{"$f":"IF(AP9=0,0,(AP9*((LOG(AP9))/LOG(2))))","v":0},null,{"$f":"N9","v":121},{"$f":"COUNTIF(L51:L59,AS9)","v":0},{"$f":"AT9/(AV4-AT10)","v":0},{"$f":"IF(AU9=0,0,(AU9*((LOG(AU9))/LOG(2))))","v":0}]
[11,356,11,359,12,368,null,null,null,null,0,111,null,122,{"$f":"COUNTIF($L$7:$L$500,N10)","v":5},{"$f":"O10/$Q$4","v":9.4339622641509441E-2},{"$f":"IF(P10=0,0,(P10*((LOG(P10))/LOG(2))))","v":-0.32132003393168274},null,null,{"$f":"N10","v":122},{"$f":"COUNTIF(L7:L15,T10)","v":0},null,null,null,{"$f":"N10","v":122},{"$f":"COUNTIF(L16:L24,Y10)","v":1},null,null,null,{"$f":"N10","v":122},{"$f":"COUNTIF(L25:L32,AD10)","v":0},null,null,null,{"$f":"N10","v":122},{"$f":"COUNTIF(L33:L41,AI10)","v":1},null,null,null,{"$f":"N10","v":122},{"$f":"COUNTIF(L42:L50,AN10)","v":2},null,null,null,{"$f":"N10","v":122},{"$f":"COUNTIF(L51:L59,AS10)","v":1}]
[11,464,11,467,21,484,null,null,null,null,0,112,null,211,{"$f":"COUNTIF($L$7:$L$500,N11)","v":0},{"$f":"O11/$Q$4","v":0},{"$f":"IF(P11=0,0,(P11*((LOG(P11))/LOG(2))))","v":0},null,null,{"$f":"N11","v":211},{"$f":"COUNTIF(L7:L15,T11)","v":0},{"$f":"U11/(W4-U10)","v":0},{"$f":"IF(V11=0,0,(V11*((LOG(V11))/LOG(2))))","v":0},null,{"$f":"N11","v":211},{"$f":"COUNTIF(L16:L24,Y11)","v":0},{"$f":"Z11/(AB4-Z10)","v":0},{"$f":"IF(AA11=0,0,(AA11*((LOG(AA11))/LOG(2))))","v":0},null,{"$f":"N11","v":211},{"$f":"COUNTIF(L25:L32,AD11)","v":0},{"$f":"AE11/(AG4-AE10)","v":0},{"$f":"IF(AF11=0,0,(AF11*((LOG(AF11))/LOG(2))))","v":0},null,{"$f":"N11","v":211},{"$f":"COUNTIF(L33:L41,AI11)","v":0},{"$f":"AJ11/(AL4-AJ10)","v":0},{"$f":"IF(AK11=0,0,(AK11*((LOG(AK11))/LOG(2))))","v":0},null,{"$f":"N11","v":211},{"$f":"COUNTIF(L42:L50,AN11)","v":0},{"$f":"AO11/(AQ4-AO10)","v":0},{"$f":"IF(AP11=0,0,(AP11*((LOG(AP11))/LOG(2))))","v":0},null,{"$f":"N11","v":211},{"$f":"COUNTIF(L51:L59,AS11)","v":0},{"$f":"AT11/(AV4-AT10)","v":0},{"$f":"IF(AU11=0,0,(AU11*((LOG(AU11))/LOG(2))))","v":0}]
[11,577,11,582,21,604,null,null,null,null,0,112,null,212,{"$f":"COUNTIF($L$7:$L$500,N12)","v":0},{"$f":"O12/$Q$4","v":0},{"$f":"IF(P12=0,0,(P12*((LOG(P12))/LOG(2))))","v":0},null,null,{"$f":"N12","v":212},{"$f":"COUNTIF(L7:L15,T12)","v":0},{"$f":"U12/(W4-U10)","v":0},{"$f":"IF(V12=0,0,(V12*((LOG(V12))/LOG(2))))","v":0},null,{"$f":"N12","v":212},{"$f":"COUNTIF(L16:L24,Y12)","v":0},{"$f":"Z12/(AB4-Z10)","v":0},{"$f":"IF(AA12=0,0,(AA12*((LOG(AA12))/LOG(2))))","v":0},null,{"$f":"N12","v":212},{"$f":"COUNTIF(L25:L32,AD12)","v":0},{"$f":"AE12/(AG4-AE10)","v":0},{"$f":"IF(AF12=0,0,(AF12*((LOG(AF12))/LOG(2))))","v":0},null,{"$f":"N12","v":212},{"$f":"COUNTIF(L33:L41,AI12)","v":0},{"$f":"AJ12/(AL4-AJ10)","v":0},{"$f":"IF(AK12=0,0,(AK12*((LOG(AK12))/LOG(2))))","v":0},null,{"$f":"N12","v":212},{"$f":"COUNTIF(L42:L50,AN12)","v":0},{"$f":"AO12/(AQ4-AO10)","v":0},{"$f":"IF(AP12=0,0,(AP12*((LOG(AP12))/LOG(2))))","v":0},null,{"$f":"N12","v":212},{"$f":"COUNTIF(L51:L59,AS12)","v":0},{"$f":"AT12/(AV4-AT10)","v":0},{"$f":"IF(AU12=0,0,(AU12*((LOG(AU12))/LOG(2))))","v":0}]
[11,705,11,709,21,722,null,null,null,null,0,112,null,221,{"$f":"COUNTIF($L$7:$L$500,N13)","v":0},{"$f":"O13/$Q$4","v":0},{"$f":"IF(P13=0,0,(P13*((LOG(P13))/LOG(2))))","v":0},null,null,{"$f":"N13","v":221},{"$f":"COUNTIF(L7:L15,T13)","v":0},{"$f":"U13/(W4-U10)","v":0},{"$f":"IF(V13=0,0,(V13*((LOG(V13))/LOG(2))))","v":0},null,{"$f":"N13","v":221},{"$f":"COUNTIF(L16:L24,Y13)","v":0},{"$f":"Z13/(AB4-Z10)","v":0},{"$f":"IF(AA13=0,0,(AA13*((LOG(AA13))/LOG(2))))","v":0},null,{"$f":"N13","v":221},{"$f":"COUNTIF(L25:L32,AD13)","v":0},{"$f":"AE13/(AG4-AE10)","v":0},{"$f":"IF(AF13=0,0,(AF13*((LOG(AF13))/LOG(2))))","v":0},null,{"$f":"N13","v":221},{"$f":"COUNTIF(L33:L41,AI13)","v":0},{"$f":"AJ13/(AL4-AJ10)","v":0},{"$f":"IF(AK13=0,0,(AK13*((LOG(AK13))/LOG(2))))","v":0},null,{"$f":"N13","v":221},{"$f":"COUNTIF(L42:L50,AN13)","v":0},{"$f":"AO13/(AQ4-AO10)","v":0},{"$f":"IF(AP13=0,0,(AP13*((LOG(AP13))/LOG(2))))","v":0},null,{"$f":"N13","v":221},{"$f":"COUNTIF(L51:L59,AS13)","v":0},{"$f":"AT13/(AV4-AT10)","v":0},{"$f":"IF(AU13=0,0,(AU13*((LOG(AU13))/LOG(2))))","v":0}]
[11,815,11,820,21,844,null,null,null,null,0,112,null,222,{"$f":"COUNTIF($L$7:$L$500,N14)","v":0},{"$f":"O14/$Q$4","v":0},{"$f":"IF(P14=0,0,(P14*((LOG(P14))/LOG(2))))","v":0},null,null,{"$f":"N14","v":222},{"$f":"COUNTIF(L7:L15,T14)","v":0},{"$f":"U14/(W4-U10)","v":0},{"$f":"IF(V14=0,0,(V14*((LOG(V14))/LOG(2))))","v":0},null,{"$f":"N14","v":222},{"$f":"COUNTIF(L16:L24,Y14)","v":0},{"$f":"Z14/(AB4-Z10)","v":0},{"$f":"IF(AA14=0,0,(AA14*((LOG(AA14))/LOG(2))))","v":0},null,{"$f":"N14","v":222},{"$f":"COUNTIF(L25:L32,AD14)","v":0},{"$f":"AE14/(AG4-AE10)","v":0},{"$f":"IF(AF14=0,0,(AF14*((LOG(AF14))/LOG(2))))","v":0},null,{"$f":"N14","v":222},{"$f":"COUNTIF(L33:L41,AI14)","v":0},{"$f":"AJ14/(AL4-AJ10)","v":0},{"$f":"IF(AK14=0,0,(AK14*((LOG(AK14))/LOG(2))))","v":0},null,{"$f":"N14","v":222},{"$f":"COUNTIF(L42:L50,AN14)","v":0},{"$f":"AO14/(AQ4-AO10)","v":0},{"$f":"IF(AP14=0,0,(AP14*((LOG(AP14))/LOG(2))))","v":0},null,{"$f":"N14","v":222},{"$f":"COUNTIF(L51:L59,AS14)","v":0},{"$f":"AT14/(AV4-AT10)","v":0},{"$f":"IF(AU14=0,0,(AU14*((LOG(AU14))/LOG(2))))","v":0}]
[11,936,11,940,21,960,null,null,null,null,0,112,null,null,null,{"$f":"SUM(P7:P14)","v":1},{"$f":"-SUM(Q7:Q14)","v":1.0394909400361934},null,null,null,null,{"$f":"SUM(V7:V14)","v":1},{"$f":"-SUM(W7:W14)","v":0.50325833477564574},null,null,null,{"$f":"SUM(AA7:AA14)","v":1},{"$f":"-SUM(AB7:AB14)","v":0.5435644431995964},null,null,null,{"$f":"SUM(AF7:AF14)","v":1},{"$f":"-SUM(AG7:AG14)","v":0},null,null,null,{"$f":"SUM(AK7:AK14)","v":1},{"$f":"-SUM(AL7:AL14)","v":0.95443400292496505},null,null,null,{"$f":"SUM(AP7:AP14)","v":1},{"$f":"-SUM(AQ7:AQ14)","v":0},null,null,null,{"$f":"SUM(AU7:AU14)","v":1},{"$f":"-SUM(AV7:AV14)","v":0.95443400292496505}]
[11,1049,11,1056,21,1110,null,null,null,null,0,112,null,null,null,"U=",{"$f":"Q15/(LOG(Q4)/LOG(2))","v":0.18147789381538523},null,null,null,null,"U1=",{"$f":"W15/(LOG(W4)/LOG(2))","v":0.15876032857139011},null,null,null,"U2=",{"$f":"AB15/(LOG(AB4)/LOG(2))","v":0.17147549009906393},null,null,null,"U3=",{"$f":"AG15/(LOG(AG4)/LOG(2))","v":0},null,null,null,"U4=",{"$f":"AL15/(LOG(AL4)/LOG(2))","v":0.30109040513283397},null,null,null,"U5=",{"$f":"AQ15/(LOG(AQ4)/LOG(2))","v":0},null,null,null,"U6=",{"$f":"AV15/(LOG(AV4)/LOG(2))","v":0.30109040513283397}]
[11,1202,11,1206,21,1262,null,null,null,null,0,112]
[11,1367,22,1376,23,1386,null,null,null,null,0,122]
[11,1482,11,1495,21,1513,null,null,null,null,0,112,null,"Total Target Seq"]
[11,1605,11,1614,21,1632,null,null,null,null,0,112,null,{"$f":"COUNTIF(L7:L59,G3)","v":5},null,9,9,8,9,9,9]
[11,1722,11,1726,21,1743,null,null,null,null,0,112,null,null,null,"% of reinforcement given in 6 equal intervals based on number of trials "]
[11,1839,11,1846,21,1891,null,null,null,null,0,112,null,null,null,"%_1","%_2","%_3","%_4","%_5","%_6"]
[11,1987,11,1992,21,2010,null,null,null,null,0,112,null,null,"target sequence",{"$f":"$G$3","v":122},{"$f":"$G$3","v":122},{"$f":"$G$3","v":122},{"$f":"$G$3","v":122},{"$f":"$G$3","v":122},{"$f":"$G$3","v":122}]
[11,2102,11,2114,12,2121,null,null,null,null,0,111,null,null,"total reinforcement",{"$f":"U10","v":0},{"$f":"Z10","v":1},{"$f":"AE10","v":0},{"$f":"AJ10","v":1},{"$f":"AO10","v":2},{"$f":"AT10","v":1}]
[11,2219,11,2223,21,2248,null,null,null,null,0,112,null,null,"% target"]
[11,2338,11,2345,21,2357,null,null,null,null,0,112,null,null,"CCRF"]
[11,2449,11,2452,21,2497,null,null,null,null,0,112,null,null,"% CCRf"]
[11,2593,11,2600,21,2672,null,null,null,null,0,112,null,null,"average response rate",{"$f":"F15/P20","v":106.66666666666667},{"$f":"(F24-F15)/Q20","v":129},{"$f":"(F32-F24)/R20","v":132},{"$f":"(F41-F32)/S20","v":126.66666666666667},{"$f":"(F50-F41)/T20","v":135.55555555555554},{"$f":"(F59-F50)/U20","v":120.33333333333333}]
[11,2766,11,2777,21,2799,null,null,null,null,0,112]
[11,2892,11,2896,21,2924,null,null,null,null,0,112]
[11,3016,11,3029,21,3040,null,null,null,null,0,112]
[11,3130,11,3145,21,3177,null,null,null,null,0,112]
[11,3266,11,3274,21,3300,null,null,null,null,0,112]
[11,3394,11,3398,12,3407,null,null,null,null,0,111]
[11,3505,11,3509,21,3519,null,null,null,null,0,112]
[11,3609,11,3613,21,3648,null,null,null,null,0,112]
[11,3740,11,3745,21,3774,null,null,null,null,0,112]
[11,3869,11,3883,21,3914,null,null,null,null,0,112]
[11,4013,22,4074,23,4092,null,null,null,null,0,122]
[11,4188,11,4201,12,4206,null,null,null,null,0,111]
[11,4307,11,4311,12,4317,null,null,null,null,0,111]
[11,4413,11,4432,21,4452,null,null,null,null,0,112]
[11,4545,11,4548,21,4587,null,null,null,null,0,112]
[11,4684,22,4718,23,4734,null,null,null,null,0,122]
[11,4841,22,4869,23,4887,null,null,null,null,0,122]
[11,4984,11,4991,21,4999,null,null,null,null,0,112]
[11,5089,11,5106,21,5128,null,null,null,null,0,112]
[11,5222,11,5227,21,5269,null,null,null,null,0,112]
[11,5360,11,5374,21,5417,null,null,null,null,0,112]
[11,5506,11,5516,21,5537,null,null,null,null,0,112]
[11,5629,11,5636,21,5648,null,null,null,null,0,112]
[11,5736,11,5740,21,5784,null,null,null,null,0,112]
[11,5877,11,5883,21,5920,null,null,null,null,0,112]
[11,6022,22,6038,23,6047,null,null,null,null,0,122]
[11,6144,11,6156,21,6170,null,null,null,null,0,112]
[11,6264,11,6268,12,6271,null,null,null,null,0,111]
[11,6368,11,6371,12,6377,null,null,null,null,0,111]
[11,6474,11,6493,12,6500,null,null,null,null,0,111]
[11,6598,11,6608,21,6620,null,null,null,null,1,112]

{"sheet":"!M620B30.103","index":29,"n_rows":80,"n_cols":48,"rows_kept":80,"cut":false,"hidden":false,"merged":[[4,39,4,42],[5,39,5,40],[4,44,4,47],[5,44,5,45],[4,24,4,27],[5,24,5,25],[4,29,4,32],[5,29,5,30],[4,34,4,37],[5,34,5,35],[1,1,1,2],[5,13,5,14],[18,13,18,14],[19,13,19,14],[4,19,4,22],[5,19,5,20]]}
["Report for:!M620B30.103"]
["Date:","<date>"]
["Hen:","<hen>",null,null,null,"Correct Sequence",{"$f":"Start!J2","v":122},null,null,null,null,null,null,null,null,"Total Sequences in Data",{"$f":"4994-COUNTBLANK(L7:L5000)","v":74},null,null,null,null,"Total Sequences in Block Data",{"$f":"COUNTA(L7:L18)","v":12},null,null,null,"Total Sequences in Block Data",{"$f":"COUNTA(L19:L31)","v":13},null,null,null,"Total Sequences in Block Data",{"$f":"COUNTA(L32:L43)","v":12},null,null,null,"Total Sequences in Block Data",{"$f":"COUNTA(L44:L55)","v":12},null,null,null,"Total Sequences in Block Data",{"$f":"COUNTA(L56:L68)","v":13},null,null,null,"Total Sequences in Block Data",{"$f":"COUNTA(L69:L80)","v":12}]
[null,null,null,null,null,null,null,null,null,null,null,null,null,null,null,"Total Sequences in Summary",{"$f":"SUM(O7:O14)","v":74},null,null,null,null,"Total Sequences in Block Summary",{"$f":"SUM(U7:U14)","v":12},null,null,null,"Total Sequences in Block Summary",{"$f":"SUM(Z7:Z14)","v":13},null,null,null,"Total Sequences in Block Summary",{"$f":"SUM(AE7:AE14)","v":12},null,null,null,"Total Sequences in Block Summary",{"$f":"SUM(AJ7:AJ14)","v":12},null,null,null,"Total Sequences in Block Summary",{"$f":"SUM(AO7:AO14)","v":13},null,null,null,"Total Sequences in Block Summary",{"$f":"SUM(AT7:AT14)","v":12}]
[null,null,null,null,null,null,null,null,null,null,null,null,null,null,null,null,null,null,null,"Block 1",null,null,null,null,"Block 2",null,null,null,null,"Block 3",null,null,null,null,"Block 4",null,null,null,null,"Block 5",null,null,null,null,"Block 6"]
["Sequence\nComponent\n1","Time\n1","Sequence\nComponent\n2","Time\n2","Sequence\nComponent\n3","Time\n3","Sequence\nComponent\n4","Time\n4","Sequence\nComponent\n5","Time\n5","Correct?\n0=No 1=Yes","Sequence",null,"Frequency",null,"Relative Frequency","Variability",null,null,"Frequency",null,"Relative Frequency","Variability",null,"Frequency",null,"Relative Frequency","Variability",null,"Frequency",null,"Relative Frequency","Variability",null,"Frequency",null,"Relative Frequency","Variability",null,"Frequency",null,"Relative Frequency","Variability",null,"Frequency",null,"Relative Frequency","Variability"]
[11,15,22,29,23,39,null,null,null,null,0,122,null,111,{"$f":"COUNTIF($L$7:$L$500,N7)","v":17},{"$f":"O7/$Q$4","v":0.22972972972972974},{"$f":"IF(P7=0,0,(P7*((LOG(P7))/LOG(2))))","v":-0.48748430965454559},null,null,{"$f":"N7","v":111},{"$f":"COUNTIF(L7:L18,T7)","v":1},{"$f":"U7/(W4-U10)","v":0.14285714285714285},{"$f":"IF(V7=0,0,(V7*((LOG(V7))/LOG(2))))","v":-0.40105070315108626},null,{"$f":"N7","v":111},{"$f":"COUNTIF(L19:L31,Y7)","v":3},{"$f":"Z7/(AB4-Z10)","v":0.3},{"$f":"IF(AA7=0,0,(AA7*((LOG(AA7))/LOG(2))))","v":-0.52108967824986185},null,{"$f":"N7","v":111},{"$f":"COUNTIF(L32:L43,AD7)","v":4},{"$f":"AE7/(AG4-AE10)","v":0.36363636363636365},{"$f":"IF(AF7=0,0,(AF7*((LOG(AF7))/LOG(2))))","v":-0.53070240677719893},null,{"$f":"N7","v":111},{"$f":"COUNTIF(L44:L55,AI7)","v":2},{"$f":"AJ7/(AL4-AJ10)","v":0.18181818181818182},{"$f":"IF(AK7=0,0,(AK7*((LOG(AK7))/LOG(2))))","v":-0.44716938520678134},null,{"$f":"N7","v":111},{"$f":"COUNTIF(L56:L68,AN7)","v":5},{"$f":"AO7/(AQ4-AO10)","v":0.45454545454545453},{"$f":"IF(AP7=0,0,(AP7*((LOG(AP7))/LOG(2))))","v":-0.51704705624997038},null,{"$f":"N7","v":111},{"$f":"COUNTIF(L69:L80,AS7)","v":2},{"$f":"AT7/(AV4-AT10)","v":0.22222222222222221},{"$f":"IF(AU7=0,0,(AU7*((LOG(AU7))/LOG(2))))","v":-0.48220555587606945}]
[11,141,22,151,23,156,null,null,null,null,0,122,null,112,{"$f":"COUNTIF($L$7:$L$500,N8)","v":40},{"$f":"O8/$Q$4","v":0.54054054054054057},{"$f":"IF(P8=0,0,(P8*((LOG(P8))/LOG(2))))","v":-0.47974338959004725},null,null,{"$f":"N8","v":112},{"$f":"COUNTIF(L7:L18,T8)","v":6},{"$f":"U8/(W4-U10)","v":0.8571428571428571},{"$f":"IF(V8=0,0,(V8*((LOG(V8))/LOG(2))))","v":-0.19062207543124113},null,{"$f":"N8","v":112},{"$f":"COUNTIF(L19:L31,Y8)","v":7},{"$f":"Z8/(AB4-Z10)","v":0.7},{"$f":"IF(AA8=0,0,(AA8*((LOG(AA8))/LOG(2))))","v":-0.36020122098083079},null,{"$f":"N8","v":112},{"$f":"COUNTIF(L32:L43,AD8)","v":7},{"$f":"AE8/(AG4-AE10)","v":0.63636363636363635},{"$f":"IF(AF8=0,0,(AF8*((LOG(AF8))/LOG(2))))","v":-0.41495789782344106},null,{"$f":"N8","v":112},{"$f":"COUNTIF(L44:L55,AI8)","v":9},{"$f":"AJ8/(AL4-AJ10)","v":0.81818181818181823},{"$f":"IF(AK8=0,0,(AK8*((LOG(AK8))/LOG(2))))","v":-0.23686905043226034},null,{"$f":"N8","v":112},{"$f":"COUNTIF(L56:L68,AN8)","v":5},{"$f":"AO8/(AQ4-AO10)","v":0.45454545454545453},{"$f":"IF(AP8=0,0,(AP8*((LOG(AP8))/LOG(2))))","v":-0.51704705624997038},null,{"$f":"N8","v":112},{"$f":"COUNTIF(L69:L80,AS8)","v":6},{"$f":"AT8/(AV4-AT10)","v":0.66666666666666663},{"$f":"IF(AU8=0,0,(AU8*((LOG(AU8))/LOG(2))))","v":-0.38997500048077083}]
[11,255,22,267,23,273,null,null,null,null,0,122,null,121,{"$f":"COUNTIF($L$7:$L$500,N9)","v":0},{"$f":"O9/$Q$4","v":0},{"$f":"IF(P9=0,0,(P9*((LOG(P9))/LOG(2))))","v":0},null,null,{"$f":"N9","v":121},{"$f":"COUNTIF(L7:L18,T9)","v":0},{"$f":"U9/(W4-U10)","v":0},{"$f":"IF(V9=0,0,(V9*((LOG(V9))/LOG(2))))","v":0},null,{"$f":"N9","v":121},{"$f":"COUNTIF(L19:L31,Y9)","v":0},{"$f":"Z9/(AB4-Z10)","v":0},{"$f":"IF(AA9=0,0,(AA9*((LOG(AA9))/LOG(2))))","v":0},null,{"$f":"N9","v":121},{"$f":"COUNTIF(L32:L43,AD9)","v":0},{"$f":"AE9/(AG4-AE10)","v":0},{"$f":"IF(AF9=0,0,(AF9*((LOG(AF9))/LOG(2))))","v":0},null,{"$f":"N9","v":121},{"$f":"COUNTIF(L44:L55,AI9)","v":0},{"$f":"AJ9/(AL4-AJ10)","v":0},{"$f":"IF(AK9=0,0,(AK9*((LOG(AK9))/LOG(2))))","v":0},null,{"$f":"N9","v":121},{"$f":"COUNTIF(L56:L68,AN9)","v":0},{"$f":"AO9/(AQ4-AO10)","v":0},{"$f":"IF(AP9=0,0,(AP9*((LOG(AP9))/LOG(2))))","v":0},null,{"$f":"N9","v":121},{"$f":"COUNTIF(L69:L80,AS9)","v":0},{"$f":"AT9/(AV4-AT10)","v":0},{"$f":"IF(AU9=0,0,(AU9*((LOG(AU9))/LOG(2))))","v":0}]
[11,373,11,376,21,389,null,null,null,null,0,112,null,122,{"$f":"COUNTIF($L$7:$L$500,N10)","v":15},{"$f":"O10/$Q$4","v":0.20270270270270271},{"$f":"IF(P10=0,0,(P10*((LOG(P10))/LOG(2))))","v":-0.46673569662576309},null,null,{"$f":"N10","v":122},{"$f":"COUNTIF(L7:L18,T10)","v":5},null,null,null,{"$f":"N10","v":122},{"$f":"COUNTIF(L19:L31,Y10)","v":3},null,null,null,{"$f":"N10","v":122},{"$f":"COUNTIF(L32:L43,AD10)","v":1},null,null,null,{"$f":"N10","v":122},{"$f":"COUNTIF(L44:L55,AI10)","v":1},null,null,null,{"$f":"N10","v":122},{"$f":"COUNTIF(L56:L68,AN10)","v":2},null,null,null,{"$f":"N10","v":122},{"$f":"COUNTIF(L69:L80,AS10)","v":3}]
[11,487,11,491,21,514,null,null,null,null,0,112,null,211,{"$f":"COUNTIF($L$7:$L$500,N11)","v":0},{"$f":"O11/$Q$4","v":0},{"$f":"IF(P11=0,0,(P11*((LOG(P11))/LOG(2))))","v":0},null,null,{"$f":"N11","v":211},{"$f":"COUNTIF(L7:L18,T11)","v":0},{"$f":"U11/(W4-U10)","v":0},{"$f":"IF(V11=0,0,(V11*((LOG(V11))/LOG(2))))","v":0},null,{"$f":"N11","v":211},{"$f":"COUNTIF(L19:L31,Y11)","v":0},{"$f":"Z11/(AB4-Z10)","v":0},{"$f":"IF(AA11=0,0,(AA11*((LOG(AA11))/LOG(2))))","v":0},null,{"$f":"N11","v":211},{"$f":"COUNTIF(L32:L43,AD11)","v":0},{"$f":"AE11/(AG4-AE10)","v":0},{"$f":"IF(AF11=0,0,(AF11*((LOG(AF11))/LOG(2))))","v":0},null,{"$f":"N11","v":211},{"$f":"COUNTIF(L44:L55,AI11)","v":0},{"$f":"AJ11/(AL4-AJ10)","v":0},{"$f":"IF(AK11=0,0,(AK11*((LOG(AK11))/LOG(2))))","v":0},null,{"$f":"N11","v":211},{"$f":"COUNTIF(L56:L68,AN11)","v":0},{"$f":"AO11/(AQ4-AO10)","v":0},{"$f":"IF(AP11=0,0,(AP11*((LOG(AP11))/LOG(2))))","v":0},null,{"$f":"N11","v":211},{"$f":"COUNTIF(L69:L80,AS11)","v":0},{"$f":"AT11/(AV4-AT10)","v":0},{"$f":"IF(AU11=0,0,(AU11*((LOG(AU11))/LOG(2))))","v":0}]
[11,613,22,624,23,633,null,null,null,null,0,122,null,212,{"$f":"COUNTIF($L$7:$L$500,N12)","v":0},{"$f":"O12/$Q$4","v":0},{"$f":"IF(P12=0,0,(P12*((LOG(P12))/LOG(2))))","v":0},null,null,{"$f":"N12","v":212},{"$f":"COUNTIF(L7:L18,T12)","v":0},{"$f":"U12/(W4-U10)","v":0},{"$f":"IF(V12=0,0,(V12*((LOG(V12))/LOG(2))))","v":0},null,{"$f":"N12","v":212},{"$f":"COUNTIF(L19:L31,Y12)","v":0},{"$f":"Z12/(AB4-Z10)","v":0},{"$f":"IF(AA12=0,0,(AA12*((LOG(AA12))/LOG(2))))","v":0},null,{"$f":"N12","v":212},{"$f":"COUNTIF(L32:L43,AD12)","v":0},{"$f":"AE12/(AG4-AE10)","v":0},{"$f":"IF(AF12=0,0,(AF12*((LOG(AF12))/LOG(2))))","v":0},null,{"$f":"N12","v":212},{"$f":"COUNTIF(L44:L55,AI12)","v":0},{"$f":"AJ12/(AL4-AJ10)","v":0},{"$f":"IF(AK12=0,0,(AK12*((LOG(AK12))/LOG(2))))","v":0},null,{"$f":"N12","v":212},{"$f":"COUNTIF(L56:L68,AN12)","v":0},{"$f":"AO12/(AQ4-AO10)","v":0},{"$f":"IF(AP12=0,0,(AP12*((LOG(AP12))/LOG(2))))","v":0},null,{"$f":"N12","v":212},{"$f":"COUNTIF(L69:L80,AS12)","v":0},{"$f":"AT12/(AV4-AT10)","v":0},{"$f":"IF(AU12=0,0,(AU12*((LOG(AU12))/LOG(2))))","v":0}]
[11,730,11,742,21,761,null,null,null,null,0,112,null,221,{"$f":"COUNTIF($L$7:$L$500,N13)","v":0},{"$f":"O13/$Q$4","v":0},{"$f":"IF(P13=0,0,(P13*((LOG(P13))/LOG(2))))","v":0},null,null,{"$f":"N13","v":221},{"$f":"COUNTIF(L7:L18,T13)","v":0},{"$f":"U13/(W4-U10)","v":0},{"$f":"IF(V13=0,0,(V13*((LOG(V13))/LOG(2))))","v":0},null,{"$f":"N13","v":221},{"$f":"COUNTIF(L19:L31,Y13)","v":0},{"$f":"Z13/(AB4-Z10)","v":0},{"$f":"IF(AA13=0,0,(AA13*((LOG(AA13))/LOG(2))))","v":0},null,{"$f":"N13","v":221},{"$f":"COUNTIF(L32:L43,AD13)","v":0},{"$f":"AE13/(AG4-AE10)","v":0},{"$f":"IF(AF13=0,0,(AF13*((LOG(AF13))/LOG(2))))","v":0},null,{"$f":"N13","v":221},{"$f":"COUNTIF(L44:L55,AI13)","v":0},{"$f":"AJ13/(AL4-AJ10)","v":0},{"$f":"IF(AK13=0,0,(AK13*((LOG(AK13))/LOG(2))))","v":0},null,{"$f":"N13","v":221},{"$f":"COUNTIF(L56:L68,AN13)","v":0},{"$f":"AO13/(AQ4-AO10)","v":0},{"$f":"IF(AP13=0,0,(AP13*((LOG(AP13))/LOG(2))))","v":0},null,{"$f":"N13","v":221},{"$f":"COUNTIF(L69:L80,AS13)","v":0},{"$f":"AT13/(AV4-AT10)","v":0},{"$f":"IF(AU13=0,0,(AU13*((LOG(AU13))/LOG(2))))","v":0}]
[11,862,22,880,23,893,null,null,null,null,0,122,null,222,{"$f":"COUNTIF($L$7:$L$500,N14)","v":2},{"$f":"O14/$Q$4","v":2.7027027027027029E-2},{"$f":"IF(P14=0,0,(P14*((LOG(P14))/LOG(2))))","v":-0.14079603690889056},null,null,{"$f":"N14","v":222},{"$f":"COUNTIF(L7:L18,T14)","v":0},{"$f":"U14/(W4-U10)","v":0},{"$f":"IF(V14=0,0,(V14*((LOG(V14))/LOG(2))))","v":0},null,{"$f":"N14","v":222},{"$f":"COUNTIF(L19:L31,Y14)","v":0},{"$f":"Z14/(AB4-Z10)","v":0},{"$f":"IF(AA14=0,0,(AA14*((LOG(AA14))/LOG(2))))","v":0},null,{"$f":"N14","v":222},{"$f":"COUNTIF(L32:L43,AD14)","v":0},{"$f":"AE14/(AG4-AE10)","v":0},{"$f":"IF(AF14=0,0,(AF14*((LOG(AF14))/LOG(2))))","v":0},null,{"$f":"N14","v":222},{"$f":"COUNTIF(L44:L55,AI14)","v":0},{"$f":"AJ14/(AL4-AJ10)","v":0},{"$f":"IF(AK14=0,0,(AK14*((LOG(AK14))/LOG(2))))","v":0},null,{"$f":"N14","v":222},{"$f":"COUNTIF(L56:L68,AN14)","v":1},{"$f":"AO14/(AQ4-AO10)","v":9.0909090909090912E-2},{"$f":"IF(AP14=0,0,(AP14*((LOG(AP14))/LOG(2))))","v":-0.31449378351248153},null,{"$f":"N14","v":222},{"$f":"COUNTIF(L69:L80,AS14)","v":1},{"$f":"AT14/(AV4-AT10)","v":0.1111111111111111},{"$f":"IF(AU14=0,0,(AU14*((LOG(AU14))/LOG(2))))","v":-0.3522138890491458}]
[11,996,11,1008,21,1049,null,null,null,null,0,112,null,null,null,{"$f":"SUM(P7:P14)","v":1},{"$f":"-SUM(Q7:Q14)","v":1.5747594327792465},null,null,null,null,{"$f":"SUM(V7:V14)","v":1},{"$f":"-SUM(W7:W14)","v":0.59167277858232736},null,null,null,{"$f":"SUM(AA7:AA14)","v":1},{"$f":"-SUM(AB7:AB14)","v":0.8812908992306927},null,null,null,{"$f":"SUM(AF7:AF14)","v":1},{"$f":"-SUM(AG7:AG14)","v":0.94566030460063999},null,null,null,{"$f":"SUM(AK7:AK14)","v":1},{"$f":"-SUM(AL7:AL14)","v":0.68403843563904165},null,null,null,{"$f":"SUM(AP7:AP14)","v":1},{"$f":"-SUM(AQ7:AQ14)","v":1.3485878960124222},null,null,null,{"$f":"SUM(AU7:AU14)","v":1},{"$f":"-SUM(AV7:AV14)","v":1.2243944454059861}]
[11,1142,11,1147,21,1156,null,null,null,null,0,112,null,null,null,"U=",{"$f":"Q15/(LOG(Q4)/LOG(2))","v":0.25360677342324167},null,null,null,null,"U1=",{"$f":"W15/(LOG(W4)/LOG(2))","v":0.16504294771934311},null,null,null,"U2=",{"$f":"AB15/(LOG(AB4)/LOG(2))","v":0.23815842612169541},null,null,null,"U3=",{"$f":"AG15/(LOG(AG4)/LOG(2))","v":0.26378527095064719},null,null,null,"U4=",{"$f":"AL15/(LOG(AL4)/LOG(2))","v":0.19080769617574506},null,null,null,"U5=",{"$f":"AQ15/(LOG(AQ4)/LOG(2))","v":0.36443990410141919},null,null,null,"U6=",{"$f":"AV15/(LOG(AV4)/LOG(2))","v":0.34153619324042722}]
[11,1263,11,1278,21,1304,null,null,null,null,0,112]
[11,1397,11,1401,12,1412,null,null,null,null,0,111]
[11,1512,22,1560,23,1567,null,null,null,null,0,122,null,"Total Target Seq"]
[11,1669,22,1693,23,1699,null,null,null,null,0,122,null,{"$f":"COUNTIF(L7:L80,G3)","v":15},null,12,13,12,12,13,12]
[11,1796,11,1813,21,1834,null,null,null,null,0,112,null,null,null,"% of reinforcement given in 6 equal intervals based on number of trials "]
[11,1945,11,1948,21,1968,null,null,null,null,0,112,null,null,null,"%_1","%_2","%_3","%_4","%_5","%_6"]
[11,2076,11,2082,21,2106,null,null,null,null,0,112,null,null,"target sequence",{"$f":"$G$3","v":122},{"$f":"$G$3","v":122},{"$f":"$G$3","v":122},{"$f":"$G$3","v":122},{"$f":"$G$3","v":122},{"$f":"$G$3","v":122}]
[11,2198,11,2202,21,2242,null,null,null,null,0,112,null,null,"total reinforcement",{"$f":"U10","v":5},{"$f":"Z10","v":3},{"$f":"AE10","v":1},{"$f":"AJ10","v":1},{"$f":"AO10","v":2},{"$f":"AT10","v":3}]
[11,2341,11,2358,21,2370,null,null,null,null,0,112,null,null,"% target"]
[11,2459,11,2463,12,2468,null,null,null,null,0,111,null,null,"CCRF"]
[11,2565,11,2576,12,2580,null,null,null,null,0,111,null,null,"% CCRf"]
[11,2676,11,2696,21,2712,null,null,null,null,0,112,null,null,"average response rate",{"$f":"F18/P20","v":117.66666666666667},{"$f":"(F31-F18)/Q20","v":135.15384615384616},{"$f":"(F43-F31)/R20","v":130.58333333333334},{"$f":"(F55-F43)/S20","v":127},{"$f":"(F68-F55)/T20","v":127.46153846153847},{"$f":"(F80-F68)/U20","v":123.83333333333333}]
[11,2810,11,2817,12,2828,null,null,null,null,0,111]
[11,2940,22,2983,23,2989,null,null,null,null,0,122]
[11,3086,11,3111,21,3169,null,null,null,null,0,112]
[11,3259,11,3281,12,3296,null,null,null,null,0,111]
[11,3391,11,3395,12,3397,null,null,null,null,0,111]
[11,3492,11,3510,12,3520,null,null,null,null,0,111]
[11,3618,11,3634,21,3664,null,null,null,null,0,112]
[11,3755,11,3772,21,3810,null,null,null,null,0,112]
[11,3902,11,3914,21,3928,null,null,null,null,0,112]
[11,4017,11,4030,21,4088,null,null,null,null,0,112]
[11,4188,11,4193,21,4204,null,null,null,null,0,112]
[11,4297,11,4316,21,4328,null,null,null,null,0,112]
[11,4418,11,4429,12,4437,null,null,null,null,0,111]
[11,4556,22,4590,23,4607,null,null,null,null,0,122]
[11,4707,11,4713,21,4736,null,null,null,null,0,112]
[11,4827,11,4831,21,4842,null,null,null,null,0,112]
[11,4941,22,4963,23,4977,null,null,null,null,0,122]
[11,5073,11,5095,21,5108,null,null,null,null,0,112]
[11,5196,11,5206,12,5219,null,null,null,null,0,111]
[11,5315,11,5334,12,5348,null,null,null,null,0,111]
[11,5445,11,5470,21,5496,null,null,null,null,0,112]
[11,5585,11,5607,21,5633,null,null,null,null,0,112]
[11,5730,11,5742,21,5786,null,null,null,null,0,112]
[11,5880,11,5894,21,5905,null,null,null,null,0,112]
[11,5999,11,6002,21,6030,null,null,null,null,0,112]
[11,6129,11,6135,21,6146,null,null,null,null,0,112]
[11,6242,11,6248,21,6260,null,null,null,null,0,112]
[11,6375,22,6420,23,6429,null,null,null,null,0,122]
[11,6532,11,6551,21,6565,null,null,null,null,0,112]
[11,6658,11,6669,21,6682,null,null,null,null,0,112]
[11,6771,11,6774,12,6789,null,null,null,null,0,111]
[22,6892,24,6898,23,6913,null,null,null,null,0,222]
[11,7010,11,7032,21,7066,null,null,null,null,0,112]
[11,7158,11,7161,12,7168,null,null,null,null,0,111]
[11,7267,11,7282,21,7307,null,null,null,null,0,112]
[11,7410,22,7433,23,7450,null,null,null,null,0,122]
[11,7546,11,7549,12,7553,null,null,null,null,0,111]
[11,7651,11,7670,12,7673,null,null,null,null,0,111]
[11,7770,11,7776,21,7813,null,null,null,null,0,112]
[11,7904,11,7910,12,7917,null,null,null,null,0,111]
[11,8016,11,8031,12,8041,null,null,null,null,0,111]
[11,8137,11,8151,21,8163,null,null,null,null,0,112]
[11,8254,11,8265,21,8280,null,null,null,null,0,112]
[11,8369,11,8378,12,8385,null,null,null,null,0,111]
[11,8483,11,8497,21,8509,null,null,null,null,0,112]
[11,8617,22,8633,23,8643,null,null,null,null,0,122]
[11,8745,11,8749,21,8764,null,null,null,null,0,112]
[22,8854,24,8861,23,8865,null,null,null,null,0,222]
[11,8983,22,8994,23,9007,null,null,null,null,0,122]
[11,9116,22,9140,23,9150,null,null,null,null,0,122]
[11,9247,11,9263,21,9274,null,null,null,null,0,112]
[11,9367,11,9380,21,9403,null,null,null,null,1,112]

{"sheet":"!M621B10.103","index":30,"n_rows":63,"n_cols":48,"rows_kept":63,"cut":false,"hidden":false,"merged":[[4,39,4,42],[5,39,5,40],[4,44,4,47],[5,44,5,45],[4,24,4,27],[5,24,5,25],[4,29,4,32],[5,29,5,30],[4,34,4,37],[5,34,5,35],[1,1,1,2],[5,13,5,14],[18,13,18,14],[19,13,19,14],[4,19,4,22],[5,19,5,20]]}
["Report for:!M621B10.103"]
["Date:","<date>"]
["Hen:","<hen>",null,null,null,"Correct Sequence",{"$f":"Start!J2","v":122},null,null,null,null,null,null,null,null,"Total Sequences in Data",{"$f":"4994-COUNTBLANK(L7:L5000)","v":57},null,null,null,null,"Total Sequences in Block Data",{"$f":"COUNTA(L7:L16)","v":10},null,null,null,"Total Sequences in Block Data",{"$f":"COUNTA(L17:L25)","v":9},null,null,null,"Total Sequences in Block Data",{"$f":"COUNTA(L26:L35)","v":10},null,null,null,"Total Sequences in Block Data",{"$f":"COUNTA(L36:L44)","v":9},null,null,null,"Total Sequences in Block Data",{"$f":"COUNTA(L45:L54)","v":10},null,null,null,"Total Sequences in Block Data",{"$f":"COUNTA(L55:L63)","v":9}]
[null,null,null,null,null,null,null,null,null,null,null,null,null,null,null,"Total Sequences in Summary",{"$f":"SUM(O7:O14)","v":57},null,null,null,null,"Total Sequences in Block Summary",{"$f":"SUM(U7:U14)","v":10},null,null,null,"Total Sequences in Block Summary",{"$f":"SUM(Z7:Z14)","v":9},null,null,null,"Total Sequences in Block Summary",{"$f":"SUM(AE7:AE14)","v":10},null,null,null,"Total Sequences in Block Summary",{"$f":"SUM(AJ7:AJ14)","v":9},null,null,null,"Total Sequences in Block Summary",{"$f":"SUM(AO7:AO14)","v":10},null,null,null,"Total Sequences in Block Summary",{"$f":"SUM(AT7:AT14)","v":9}]
[null,null,null,null,null,null,null,null,null,null,null,null,null,null,null,null,null,null,null,"Block 1",null,null,null,null,"Block 2",null,null,null,null,"Block 3",null,null,null,null,"Block 4",null,null,null,null,"Block 5",null,null,null,null,"Block 6"]
["Sequence\nComponent\n1","Time\n1","Sequence\nComponent\n2","Time\n2","Sequence\nComponent\n3","Time\n3","Sequence\nComponent\n4","Time\n4","Sequence\nComponent\n5","Time\n5","Correct?\n0=No 1=Yes","Sequence",null,"Frequency",null,"Relative Frequency","Variability",null,null,"Frequency",null,"Relative Frequency","Variability",null,"Frequency",null,"Relative Frequency","Variability",null,"Frequency",null,"Relative Frequency","Variability",null,"Frequency",null,"Relative Frequency","Variability",null,"Frequency",null,"Relative Frequency","Variability",null,"Frequency",null,"Relative Frequency","Variability"]
[11,11,11,15,21,30,null,null,null,null,0,112,null,111,{"$f":"COUNTIF($L$7:$L$500,N7)","v":5},{"$f":"O7/$Q$4","v":8.771929824561403E-2},{"$f":"IF(P7=0,0,(P7*((LOG(P7))/LOG(2))))","v":-0.30797911572608588},null,null,{"$f":"N7","v":111},{"$f":"COUNTIF(L7:L16,T7)","v":0},{"$f":"U7/(W4-U10)","v":0},{"$f":"IF(V7=0,0,(V7*((LOG(V7))/LOG(2))))","v":0},null,{"$f":"N7","v":111},{"$f":"COUNTIF(L17:L25,Y7)","v":0},{"$f":"Z7/(AB4-Z10)","v":0},{"$f":"IF(AA7=0,0,(AA7*((LOG(AA7))/LOG(2))))","v":0},null,{"$f":"N7","v":111},{"$f":"COUNTIF(L26:L35,AD7)","v":2},{"$f":"AE7/(AG4-AE10)","v":0.25},{"$f":"IF(AF7=0,0,(AF7*((LOG(AF7))/LOG(2))))","v":-0.5},null,{"$f":"N7","v":111},{"$f":"COUNTIF(L36:L44,AI7)","v":2},{"$f":"AJ7/(AL4-AJ10)","v":0.33333333333333331},{"$f":"IF(AK7=0,0,(AK7*((LOG(AK7))/LOG(2))))","v":-0.52832083357371862},null,{"$f":"N7","v":111},{"$f":"COUNTIF(L45:L54,AN7)","v":0},{"$f":"AO7/(AQ4-AO10)","v":0},{"$f":"IF(AP7=0,0,(AP7*((LOG(AP7))/LOG(2))))","v":0},null,{"$f":"N7","v":111},{"$f":"COUNTIF(L55:L63,AS7)","v":1},{"$f":"AT7/(AV4-AT10)","v":0.14285714285714285},{"$f":"IF(AU7=0,0,(AU7*((LOG(AU7))/LOG(2))))","v":-0.40105070315108626}]
[11,122,11,126,21,140,null,null,null,null,0,112,null,112,{"$f":"COUNTIF($L$7:$L$500,N8)","v":40},{"$f":"O8/$Q$4","v":0.70175438596491224},{"$f":"IF(P8=0,0,(P8*((LOG(P8))/LOG(2))))","v":-0.35856976791395045},null,null,{"$f":"N8","v":112},{"$f":"COUNTIF(L7:L16,T8)","v":8},{"$f":"U8/(W4-U10)","v":1},{"$f":"IF(V8=0,0,(V8*((LOG(V8))/LOG(2))))","v":0},null,{"$f":"N8","v":112},{"$f":"COUNTIF(L17:L25,Y8)","v":7},{"$f":"Z8/(AB4-Z10)","v":1},{"$f":"IF(AA8=0,0,(AA8*((LOG(AA8))/LOG(2))))","v":0},null,{"$f":"N8","v":112},{"$f":"COUNTIF(L26:L35,AD8)","v":6},{"$f":"AE8/(AG4-AE10)","v":0.75},{"$f":"IF(AF8=0,0,(AF8*((LOG(AF8))/LOG(2))))","v":-0.31127812445913283},null,{"$f":"N8","v":112},{"$f":"COUNTIF(L36:L44,AI8)","v":4},{"$f":"AJ8/(AL4-AJ10)","v":0.66666666666666663},{"$f":"IF(AK8=0,0,(AK8*((LOG(AK8))/LOG(2))))","v":-0.38997500048077083},null,{"$f":"N8","v":112},{"$f":"COUNTIF(L45:L54,AN8)","v":9},{"$f":"AO8/(AQ4-AO10)","v":1},{"$f":"IF(AP8=0,0,(AP8*((LOG(AP8))/LOG(2))))","v":0},null,{"$f":"N8","v":112},{"$f":"COUNTIF(L55:L63,AS8)","v":6},{"$f":"AT8/(AV4-AT10)","v":0.8571428571428571},{"$f":"IF(AU8=0,0,(AU8*((LOG(AU8))/LOG(2))))","v":-0.19062207543124113}]
[11,238,11,247,21,258,null,null,null,null,0,112,null,121,{"$f":"COUNTIF($L$7:$L$500,N9)","v":0},{"$f":"O9/$Q$4","v":0},{"$f":"IF(P9=0,0,(P9*((LOG(P9))/LOG(2))))","v":0},null,null,{"$f":"N9","v":121},{"$f":"COUNTIF(L7:L16,T9)","v":0},{"$f":"U9/(W4-U10)","v":0},{"$f":"IF(V9=0,0,(V9*((LOG(V9))/LOG(2))))","v":0},null,{"$f":"N9","v":121},{"$f":"COUNTIF(L17:L25,Y9)","v":0},{"$f":"Z9/(AB4-Z10)","v":0},{"$f":"IF(AA9=0,0,(AA9*((LOG(AA9))/LOG(2))))","v":0},null,{"$f":"N9","v":121},{"$f":"COUNTIF(L26:L35,AD9)","v":0},{"$f":"AE9/(AG4-AE10)","v":0},{"$f":"IF(AF9=0,0,(AF9*((LOG(AF9))/LOG(2))))","v":0},null,{"$f":"N9","v":121},{"$f":"COUNTIF(L36:L44,AI9)","v":0},{"$f":"AJ9/(AL4-AJ10)","v":0},{"$f":"IF(AK9=0,0,(AK9*((LOG(AK9))/LOG(2))))","v":0},null,{"$f":"N9","v":121},{"$f":"COUNTIF(L45:L54,AN9)","v":0},{"$f":"AO9/(AQ4-AO10)","v":0},{"$f":"IF(AP9=0,0,(AP9*((LOG(AP9))/LOG(2))))","v":0},null,{"$f":"N9","v":121},{"$f":"COUNTIF(L55:L63,AS9)","v":0},{"$f":"AT9/(AV4-AT10)","v":0},{"$f":"IF(AU9=0,0,(AU9*((LOG(AU9))/LOG(2))))","v":0}]
[11,352,11,356,21,368,null,null,null,null,0,112,null,122,{"$f":"COUNTIF($L$7:$L$500,N10)","v":12},{"$f":"O10/$Q$4","v":0.21052631578947367},{"$f":"IF(P10=0,0,(P10*((LOG(P10))/LOG(2))))","v":-0.47324789756707064},null,null,{"$f":"N10","v":122},{"$f":"COUNTIF(L7:L16,T10)","v":2},null,null,null,{"$f":"N10","v":122},{"$f":"COUNTIF(L17:L25,Y10)","v":2},null,null,null,{"$f":"N10","v":122},{"$f":"COUNTIF(L26:L35,AD10)","v":2},null,null,null,{"$f":"N10","v":122},{"$f":"COUNTIF(L36:L44,AI10)","v":3},null,null,null,{"$f":"N10","v":122},{"$f":"COUNTIF(L45:L54,AN10)","v":1},null,null,null,{"$f":"N10","v":122},{"$f":"COUNTIF(L55:L63,AS10)","v":2}]
[11,459,11,463,21,492,null,null,null,null,0,112,null,211,{"$f":"COUNTIF($L$7:$L$500,N11)","v":0},{"$f":"O11/$Q$4","v":0},{"$f":"IF(P11=0,0,(P11*((LOG(P11))/LOG(2))))","v":0},null,null,{"$f":"N11","v":211},{"$f":"COUNTIF(L7:L16,T11)","v":0},{"$f":"U11/(W4-U10)","v":0},{"$f":"IF(V11=0,0,(V11*((LOG(V11))/LOG(2))))","v":0},null,{"$f":"N11","v":211},{"$f":"COUNTIF(L17:L25,Y11)","v":0},{"$f":"Z11/(AB4-Z10)","v":0},{"$f":"IF(AA11=0,0,(AA11*((LOG(AA11))/LOG(2))))","v":0},null,{"$f":"N11","v":211},{"$f":"COUNTIF(L26:L35,AD11)","v":0},{"$f":"AE11/(AG4-AE10)","v":0},{"$f":"IF(AF11=0,0,(AF11*((LOG(AF11))/LOG(2))))","v":0},null,{"$f":"N11","v":211},{"$f":"COUNTIF(L36:L44,AI11)","v":0},{"$f":"AJ11/(AL4-AJ10)","v":0},{"$f":"IF(AK11=0,0,(AK11*((LOG(AK11))/LOG(2))))","v":0},null,{"$f":"N11","v":211},{"$f":"COUNTIF(L45:L54,AN11)","v":0},{"$f":"AO11/(AQ4-AO10)","v":0},{"$f":"IF(AP11=0,0,(AP11*((LOG(AP11))/LOG(2))))","v":0},null,{"$f":"N11","v":211},{"$f":"COUNTIF(L55:L63,AS11)","v":0},{"$f":"AT11/(AV4-AT10)","v":0},{"$f":"IF(AU11=0,0,(AU11*((LOG(AU11))/LOG(2))))","v":0}]
[11,584,11,588,21,612,null,null,null,null,0,112,null,212,{"$f":"COUNTIF($L$7:$L$500,N12)","v":0},{"$f":"O12/$Q$4","v":0},{"$f":"IF(P12=0,0,(P12*((LOG(P12))/LOG(2))))","v":0},null,null,{"$f":"N12","v":212},{"$f":"COUNTIF(L7:L16,T12)","v":0},{"$f":"U12/(W4-U10)","v":0},{"$f":"IF(V12=0,0,(V12*((LOG(V12))/LOG(2))))","v":0},null,{"$f":"N12","v":212},{"$f":"COUNTIF(L17:L25,Y12)","v":0},{"$f":"Z12/(AB4-Z10)","v":0},{"$f":"IF(AA12=0,0,(AA12*((LOG(AA12))/LOG(2))))","v":0},null,{"$f":"N12","v":212},{"$f":"COUNTIF(L26:L35,AD12)","v":0},{"$f":"AE12/(AG4-AE10)","v":0},{"$f":"IF(AF12=0,0,(AF12*((LOG(AF12))/LOG(2))))","v":0},null,{"$f":"N12","v":212},{"$f":"COUNTIF(L36:L44,AI12)","v":0},{"$f":"AJ12/(AL4-AJ10)","v":0},{"$f":"IF(AK12=0,0,(AK12*((LOG(AK12))/LOG(2))))","v":0},null,{"$f":"N12","v":212},{"$f":"COUNTIF(L45:L54,AN12)","v":0},{"$f":"AO12/(AQ4-AO10)","v":0},{"$f":"IF(AP12=0,0,(AP12*((LOG(AP12))/LOG(2))))","v":0},null,{"$f":"N12","v":212},{"$f":"COUNTIF(L55:L63,AS12)","v":0},{"$f":"AT12/(AV4-AT10)","v":0},{"$f":"IF(AU12=0,0,(AU12*((LOG(AU12))/LOG(2))))","v":0}]
[11,709,22,727,23,734,null,null,null,null,0,122,null,221,{"$f":"COUNTIF($L$7:$L$500,N13)","v":0},{"$f":"O13/$Q$4","v":0},{"$f":"IF(P13=0,0,(P13*((LOG(P13))/LOG(2))))","v":0},null,null,{"$f":"N13","v":221},{"$f":"COUNTIF(L7:L16,T13)","v":0},{"$f":"U13/(W4-U10)","v":0},{"$f":"IF(V13=0,0,(V13*((LOG(V13))/LOG(2))))","v":0},null,{"$f":"N13","v":221},{"$f":"COUNTIF(L17:L25,Y13)","v":0},{"$f":"Z13/(AB4-Z10)","v":0},{"$f":"IF(AA13=0,0,(AA13*((LOG(AA13))/LOG(2))))","v":0},null,{"$f":"N13","v":221},{"$f":"COUNTIF(L26:L35,AD13)","v":0},{"$f":"AE13/(AG4-AE10)","v":0},{"$f":"IF(AF13=0,0,(AF13*((LOG(AF13))/LOG(2))))","v":0},null,{"$f":"N13","v":221},{"$f":"COUNTIF(L36:L44,AI13)","v":0},{"$f":"AJ13/(AL4-AJ10)","v":0},{"$f":"IF(AK13=0,0,(AK13*((LOG(AK13))/LOG(2))))","v":0},null,{"$f":"N13","v":221},{"$f":"COUNTIF(L45:L54,AN13)","v":0},{"$f":"AO13/(AQ4-AO10)","v":0},{"$f":"IF(AP13=0,0,(AP13*((LOG(AP13))/LOG(2))))","v":0},null,{"$f":"N13","v":221},{"$f":"COUNTIF(L55:L63,AS13)","v":0},{"$f":"AT13/(AV4-AT10)","v":0},{"$f":"IF(AU13=0,0,(AU13*((LOG(AU13))/LOG(2))))","v":0}]
[11,833,11,837,21,849,null,null,null,null,0,112,null,222,{"$f":"COUNTIF($L$7:$L$500,N14)","v":0},{"$f":"O14/$Q$4","v":0},{"$f":"IF(P14=0,0,(P14*((LOG(P14))/LOG(2))))","v":0},null,null,{"$f":"N14","v":222},{"$f":"COUNTIF(L7:L16,T14)","v":0},{"$f":"U14/(W4-U10)","v":0},{"$f":"IF(V14=0,0,(V14*((LOG(V14))/LOG(2))))","v":0},null,{"$f":"N14","v":222},{"$f":"COUNTIF(L17:L25,Y14)","v":0},{"$f":"Z14/(AB4-Z10)","v":0},{"$f":"IF(AA14=0,0,(AA14*((LOG(AA14))/LOG(2))))","v":0},null,{"$f":"N14","v":222},{"$f":"COUNTIF(L26:L35,AD14)","v":0},{"$f":"AE14/(AG4-AE10)","v":0},{"$f":"IF(AF14=0,0,(AF14*((LOG(AF14))/LOG(2))))","v":0},null,{"$f":"N14","v":222},{"$f":"COUNTIF(L36:L44,AI14)","v":0},{"$f":"AJ14/(AL4-AJ10)","v":0},{"$f":"IF(AK14=0,0,(AK14*((LOG(AK14))/LOG(2))))","v":0},null,{"$f":"N14","v":222},{"$f":"COUNTIF(L45:L54,AN14)","v":0},{"$f":"AO14/(AQ4-AO10)","v":0},{"$f":"IF(AP14=0,0,(AP14*((LOG(AP14))/LOG(2))))","v":0},null,{"$f":"N14","v":222},{"$f":"COUNTIF(L55:L63,AS14)","v":0},{"$f":"AT14/(AV4-AT10)","v":0},{"$f":"IF(AU14=0,0,(AU14*((LOG(AU14))/LOG(2))))","v":0}]
[11,941,11,946,21,956,null,null,null,null,0,112,null,null,null,{"$f":"SUM(P7:P14)","v":1},{"$f":"-SUM(Q7:Q14)","v":1.139796781207107},null,null,null,null,{"$f":"SUM(V7:V14)","v":1},{"$f":"-SUM(W7:W14)","v":0},null,null,null,{"$f":"SUM(AA7:AA14)","v":1},{"$f":"-SUM(AB7:AB14)","v":0},null,null,null,{"$f":"SUM(AF7:AF14)","v":1},{"$f":"-SUM(AG7:AG14)","v":0.81127812445913283},null,null,null,{"$f":"SUM(AK7:AK14)","v":1},{"$f":"-SUM(AL7:AL14)","v":0.91829583405448945},null,null,null,{"$f":"SUM(AP7:AP14)","v":1},{"$f":"-SUM(AQ7:AQ14)","v":0},null,null,null,{"$f":"SUM(AU7:AU14)","v":1},{"$f":"-SUM(AV7:AV14)","v":0.59167277858232736}]
[11,1059,22,1071,23,1099,null,null,null,null,0,122,null,null,null,"U=",{"$f":"Q15/(LOG(Q4)/LOG(2))","v":0.19540858449914106},null,null,null,null,"U1=",{"$f":"W15/(LOG(W4)/LOG(2))","v":0},null,null,null,"U2=",{"$f":"AB15/(LOG(AB4)/LOG(2))","v":0},null,null,null,"U3=",{"$f":"AG15/(LOG(AG4)/LOG(2))","v":0.24421905028821556},null,null,null,"U4=",{"$f":"AL15/(LOG(AL4)/LOG(2))","v":0.28969008214284753},null,null,null,"U5=",{"$f":"AQ15/(LOG(AQ4)/LOG(2))","v":0},null,null,null,"U6=",{"$f":"AV15/(LOG(AV4)/LOG(2))","v":0.18665198019294366}]
[11,1195,22,1214,23,1224,null,null,null,null,0,122]
[11,1321,11,1325,21,1341,null,null,null,null,0,112]
[11,1439,11,1445,21,1469,null,null,null,null,0,112,null,"Total Target Seq"]
[11,1560,11,1564,21,1575,null,null,null,null,0,112,null,{"$f":"COUNTIF(L7:L63,G3)","v":12},null,10,9,10,9,10,9]
[11,1667,11,1671,21,1691,null,null,null,null,0,112,null,null,null,"% of reinforcement given in 6 equal intervals based on number of trials "]
[11,1783,22,1794,23,1799,null,null,null,null,0,122,null,null,null,"%_1","%_2","%_3","%_4","%_5","%_6"]
[11,1896,11,1900,21,1912,null,null,null,null,0,112,null,null,"target sequence",{"$f":"$G$3","v":122},{"$f":"$G$3","v":122},{"$f":"$G$3","v":122},{"$f":"$G$3","v":122},{"$f":"$G$3","v":122},{"$f":"$G$3","v":122}]
[11,2004,11,2008,21,2020,null,null,null,null,0,112,null,null,"total reinforcement",{"$f":"U10","v":2},{"$f":"Z10","v":2},{"$f":"AE10","v":2},{"$f":"AJ10","v":3},{"$f":"AO10","v":1},{"$f":"AT10","v":2}]
[11,2112,11,2115,21,2152,null,null,null,null,0,112,null,null,"% target"]
[11,2246,22,2256,23,2263,null,null,null,null,0,122,null,null,"CCRF"]
[11,2359,11,2362,21,2373,null,null,null,null,0,112,null,null,"% CCRf"]
[11,2467,11,2470,21,2482,null,null,null,null,0,112,null,null,"average response rate",{"$f":"F16/P20","v":109.9},{"$f":"(F25-F16)/Q20","v":117},{"$f":"(F35-F25)/R20","v":111.8},{"$f":"(F44-F35)/S20","v":122.55555555555556},{"$f":"(F54-F44)/T20","v":113.1},{"$f":"(F63-F54)/U20","v":115.66666666666667}]
[11,2574,22,2585,23,2592,null,null,null,null,0,122]
[11,2693,11,2700,21,2720,null,null,null,null,0,112]
[11,2819,11,2823,12,2832,null,null,null,null,0,111]
[11,2928,11,2931,21,2952,null,null,null,null,0,112]
[11,3046,11,3050,21,3061,null,null,null,null,0,112]
[11,3157,11,3161,21,3172,null,null,null,null,0,112]
[11,3263,11,3266,12,3270,null,null,null,null,0,111]
[11,3373,11,3385,12,3390,null,null,null,null,0,111]
[11,3490,22,3526,23,3533,null,null,null,null,0,122]
[11,3633,22,3659,23,3669,null,null,null,null,0,122]
[11,3766,11,3770,21,3788,null,null,null,null,0,112]
[11,3879,11,3882,21,3901,null,null,null,null,0,112]
[11,3994,11,3997,21,4025,null,null,null,null,0,112]
[11,4115,11,4119,12,4126,null,null,null,null,0,111]
[11,4222,22,4236,23,4247,null,null,null,null,0,122]
[11,4343,11,4354,21,4373,null,null,null,null,0,112]
[11,4472,11,4481,21,4492,null,null,null,null,0,112]
[11,4584,11,4588,21,4600,null,null,null,null,0,112]
[11,4693,11,4696,21,4730,null,null,null,null,0,112]
[11,4827,11,4832,21,4846,null,null,null,null,0,112]
[11,4936,11,4940,21,4951,null,null,null,null,0,112]
[11,5042,11,5046,21,5057,null,null,null,null,0,112]
[11,5147,11,5151,21,5161,null,null,null,null,0,112]
[11,5255,22,5272,23,5282,null,null,null,null,0,122]
[11,5378,11,5385,21,5397,null,null,null,null,0,112]
[11,5488,11,5491,21,5504,null,null,null,null,0,112]
[11,5594,11,5598,21,5610,null,null,null,null,0,112]
[11,5706,22,5727,23,5744,null,null,null,null,0,122]
[11,5840,11,5846,21,5854,null,null,null,null,0,112]
[11,5945,11,5948,21,5961,null,null,null,null,0,112]
[11,6050,11,6053,21,6064,null,null,null,null,0,112]
[11,6154,11,6157,21,6175,null,null,null,null,0,112]
[11,6265,11,6276,12,6285,null,null,null,null,0,111]
[11,6390,22,6422,23,6431,null,null,null,null,0,122]
[11,6528,11,6532,21,6545,null,null,null,null,1,112]

{"sheet":"!M622C20.103","index":31,"n_rows":66,"n_cols":48,"rows_kept":66,"cut":false,"hidden":false,"merged":[[4,39,4,42],[5,39,5,40],[4,44,4,47],[5,44,5,45],[4,24,4,27],[5,24,5,25],[4,29,4,32],[5,29,5,30],[4,34,4,37],[5,34,5,35],[1,1,1,2],[5,13,5,14],[18,13,18,14],[19,13,19,14],[4,19,4,22],[5,19,5,20]]}
["Report for:!M622C20.103"]
["Date:","<date>"]
["Hen:","<hen>",null,null,null,"Correct Sequence",{"$f":"Start!J2","v":122},null,null,null,null,null,null,null,null,"Total Sequences in Data",{"$f":"4994-COUNTBLANK(L7:L5000)","v":60},null,null,null,null,"Total Sequences in Block Data",{"$f":"COUNTA(L7:L16)","v":10},null,null,null,"Total Sequences in Block Data",{"$f":"COUNTA(L17:L26)","v":10},null,null,null,"Total Sequences in Block Data",{"$f":"COUNTA(L27:L36)","v":10},null,null,null,"Total Sequences in Block Data",{"$f":"COUNTA(L37:L46)","v":10},null,null,null,"Total Sequences in Block Data",{"$f":"COUNTA(L47:L56)","v":10},null,null,null,"Total Sequences in Block Data",{"$f":"COUNTA(L57:L66)","v":10}]
[null,null,null,null,null,null,null,null,null,null,null,null,null,null,null,"Total Sequences in Summary",{"$f":"SUM(O7:O14)","v":60},null,null,null,null,"Total Sequences in Block Summary",{"$f":"SUM(U7:U14)","v":10},null,null,null,"Total Sequences in Block Summary",{"$f":"SUM(Z7:Z14)","v":10},null,null,null,"Total Sequences in Block Summary",{"$f":"SUM(AE7:AE14)","v":10},null,null,null,"Total Sequences in Block Summary",{"$f":"SUM(AJ7:AJ14)","v":10},null,null,null,"Total Sequences in Block Summary",{"$f":"SUM(AO7:AO14)","v":10},null,null,null,"Total Sequences in Block Summary",{"$f":"SUM(AT7:AT14)","v":10}]
[null,null,null,null,null,null,null,null,null,null,null,null,null,null,null,null,null,null,null,"Block 1",null,null,null,null,"Block 2",null,null,null,null,"Block 3",null,null,null,null,"Block 4",null,null,null,null,"Block 5",null,null,null,null,"Block 6"]
["Sequence\nComponent\n1","Time\n1","Sequence\nComponent\n2","Time\n2","Sequence\nComponent\n3","Time\n3","Sequence\nComponent\n4","Time\n4","Sequence\nComponent\n5","Time\n5","Correct?\n0=No 1=Yes","Sequence",null,"Frequency",null,"Relative Frequency","Variability",null,null,"Frequency",null,"Relative Frequency","Variability",null,"Frequency",null,"Relative Frequency","Variability",null,"Frequency",null,"Relative Frequency","Variability",null,"Frequency",null,"Relative Frequency","Variability",null,"Frequency",null,"Relative Frequency","Variability",null,"Frequency",null,"Relative Frequency","Variability"]
[11,16,22,37,23,45,null,null,null,null,0,122,null,111,{"$f":"COUNTIF($L$7:$L$500,N7)","v":6},{"$f":"O7/$Q$4","v":0.1},{"$f":"IF(P7=0,0,(P7*((LOG(P7))/LOG(2))))","v":-0.33219280948873625},null,null,{"$f":"N7","v":111},{"$f":"COUNTIF(L7:L16,T7)","v":2},{"$f":"U7/(W4-U10)","v":0.22222222222222221},{"$f":"IF(V7=0,0,(V7*((LOG(V7))/LOG(2))))","v":-0.48220555587606945},null,{"$f":"N7","v":111},{"$f":"COUNTIF(L17:L26,Y7)","v":0},{"$f":"Z7/(AB4-Z10)","v":0},{"$f":"IF(AA7=0,0,(AA7*((LOG(AA7))/LOG(2))))","v":0},null,{"$f":"N7","v":111},{"$f":"COUNTIF(L27:L36,AD7)","v":0},{"$f":"AE7/(AG4-AE10)","v":0},{"$f":"IF(AF7=0,0,(AF7*((LOG(AF7))/LOG(2))))","v":0},null,{"$f":"N7","v":111},{"$f":"COUNTIF(L37:L46,AI7)","v":1},{"$f":"AJ7/(AL4-AJ10)","v":0.14285714285714285},{"$f":"IF(AK7=0,0,(AK7*((LOG(AK7))/LOG(2))))","v":-0.40105070315108626},null,{"$f":"N7","v":111},{"$f":"COUNTIF(L47:L56,AN7)","v":2},{"$f":"AO7/(AQ4-AO10)","v":0.25},{"$f":"IF(AP7=0,0,(AP7*((LOG(AP7))/LOG(2))))","v":-0.5},null,{"$f":"N7","v":111},{"$f":"COUNTIF(L57:L66,AS7)","v":1},{"$f":"AT7/(AV4-AT10)","v":0.14285714285714285},{"$f":"IF(AU7=0,0,(AU7*((LOG(AU7))/LOG(2))))","v":-0.40105070315108626}]
[11,145,11,167,21,176,null,null,null,null,0,112,null,112,{"$f":"COUNTIF($L$7:$L$500,N8)","v":40},{"$f":"O8/$Q$4","v":0.66666666666666663},{"$f":"IF(P8=0,0,(P8*((LOG(P8))/LOG(2))))","v":-0.38997500048077083},null,null,{"$f":"N8","v":112},{"$f":"COUNTIF(L7:L16,T8)","v":7},{"$f":"U8/(W4-U10)","v":0.77777777777777779},{"$f":"IF(V8=0,0,(V8*((LOG(V8))/LOG(2))))","v":-0.28199895063255082},null,{"$f":"N8","v":112},{"$f":"COUNTIF(L17:L26,Y8)","v":8},{"$f":"Z8/(AB4-Z10)","v":1},{"$f":"IF(AA8=0,0,(AA8*((LOG(AA8))/LOG(2))))","v":0},null,{"$f":"N8","v":112},{"$f":"COUNTIF(L27:L36,AD8)","v":7},{"$f":"AE8/(AG4-AE10)","v":1},{"$f":"IF(AF8=0,0,(AF8*((LOG(AF8))/LOG(2))))","v":0},null,{"$f":"N8","v":112},{"$f":"COUNTIF(L37:L46,AI8)","v":6},{"$f":"AJ8/(AL4-AJ10)","v":0.8571428571428571},{"$f":"IF(AK8=0,0,(AK8*((LOG(AK8))/LOG(2))))","v":-0.19062207543124113},null,{"$f":"N8","v":112},{"$f":"COUNTIF(L47:L56,AN8)","v":6},{"$f":"AO8/(AQ4-AO10)","v":0.75},{"$f":"IF(AP8=0,0,(AP8*((LOG(AP8))/LOG(2))))","v":-0.31127812445913283},null,{"$f":"N8","v":112},{"$f":"COUNTIF(L57:L66,AS8)","v":6},{"$f":"AT8/(AV4-AT10)","v":0.8571428571428571},{"$f":"IF(AU8=0,0,(AU8*((LOG(AU8))/LOG(2))))","v":-0.19062207543124113}]
[11,268,11,278,12,289,null,null,null,null,0,111,null,121,{"$f":"COUNTIF($L$7:$L$500,N9)","v":0},{"$f":"O9/$Q$4","v":0},{"$f":"IF(P9=0,0,(P9*((LOG(P9))/LOG(2))))","v":0},null,null,{"$f":"N9","v":121},{"$f":"COUNTIF(L7:L16,T9)","v":0},{"$f":"U9/(W4-U10)","v":0},{"$f":"IF(V9=0,0,(V9*((LOG(V9))/LOG(2))))","v":0},null,{"$f":"N9","v":121},{"$f":"COUNTIF(L17:L26,Y9)","v":0},{"$f":"Z9/(AB4-Z10)","v":0},{"$f":"IF(AA9=0,0,(AA9*((LOG(AA9))/LOG(2))))","v":0},null,{"$f":"N9","v":121},{"$f":"COUNTIF(L27:L36,AD9)","v":0},{"$f":"AE9/(AG4-AE10)","v":0},{"$f":"IF(AF9=0,0,(AF9*((LOG(AF9))/LOG(2))))","v":0},null,{"$f":"N9","v":121},{"$f":"COUNTIF(L37:L46,AI9)","v":0},{"$f":"AJ9/(AL4-AJ10)","v":0},{"$f":"IF(AK9=0,0,(AK9*((LOG(AK9))/LOG(2))))","v":0},null,{"$f":"N9","v":121},{"$f":"COUNTIF(L47:L56,AN9)","v":0},{"$f":"AO9/(AQ4-AO10)","v":0},{"$f":"IF(AP9=0,0,(AP9*((LOG(AP9))/LOG(2))))","v":0},null,{"$f":"N9","v":121},{"$f":"COUNTIF(L57:L66,AS9)","v":0},{"$f":"AT9/(AV4-AT10)","v":0},{"$f":"IF(AU9=0,0,(AU9*((LOG(AU9))/LOG(2))))","v":0}]
[11,391,11,396,21,415,null,null,null,null,0,112,null,122,{"$f":"COUNTIF($L$7:$L$500,N10)","v":14},{"$f":"O10/$Q$4","v":0.23333333333333334},{"$f":"IF(P10=0,0,(P10*((LOG(P10))/LOG(2))))","v":-0.48989165716187993},null,null,{"$f":"N10","v":122},{"$f":"COUNTIF(L7:L16,T10)","v":1},null,null,null,{"$f":"N10","v":122},{"$f":"COUNTIF(L17:L26,Y10)","v":2},null,null,null,{"$f":"N10","v":122},{"$f":"COUNTIF(L27:L36,AD10)","v":3},null,null,null,{"$f":"N10","v":122},{"$f":"COUNTIF(L37:L46,AI10)","v":3},null,null,null,{"$f":"N10","v":122},{"$f":"COUNTIF(L47:L56,AN10)","v":2},null,null,null,{"$f":"N10","v":122},{"$f":"COUNTIF(L57:L66,AS10)","v":3}]
[11,509,11,516,21,539,null,null,null,null,0,112,null,211,{"$f":"COUNTIF($L$7:$L$500,N11)","v":0},{"$f":"O11/$Q$4","v":0},{"$f":"IF(P11=0,0,(P11*((LOG(P11))/LOG(2))))","v":0},null,null,{"$f":"N11","v":211},{"$f":"COUNTIF(L7:L16,T11)","v":0},{"$f":"U11/(W4-U10)","v":0},{"$f":"IF(V11=0,0,(V11*((LOG(V11))/LOG(2))))","v":0},null,{"$f":"N11","v":211},{"$f":"COUNTIF(L17:L26,Y11)","v":0},{"$f":"Z11/(AB4-Z10)","v":0},{"$f":"IF(AA11=0,0,(AA11*((LOG(AA11))/LOG(2))))","v":0},null,{"$f":"N11","v":211},{"$f":"COUNTIF(L27:L36,AD11)","v":0},{"$f":"AE11/(AG4-AE10)","v":0},{"$f":"IF(AF11=0,0,(AF11*((LOG(AF11))/LOG(2))))","v":0},null,{"$f":"N11","v":211},{"$f":"COUNTIF(L37:L46,AI11)","v":0},{"$f":"AJ11/(AL4-AJ10)","v":0},{"$f":"IF(AK11=0,0,(AK11*((LOG(AK11))/LOG(2))))","v":0},null,{"$f":"N11","v":211},{"$f":"COUNTIF(L47:L56,AN11)","v":0},{"$f":"AO11/(AQ4-AO10)","v":0},{"$f":"IF(AP11=0,0,(AP11*((LOG(AP11))/LOG(2))))","v":0},null,{"$f":"N11","v":211},{"$f":"COUNTIF(L57:L66,AS11)","v":0},{"$f":"AT11/(AV4-AT10)","v":0},{"$f":"IF(AU11=0,0,(AU11*((LOG(AU11))/LOG(2))))","v":0}]
[11,632,11,636,21,679,null,null,null,null,0,112,null,212,{"$f":"COUNTIF($L$7:$L$500,N12)","v":0},{"$f":"O12/$Q$4","v":0},{"$f":"IF(P12=0,0,(P12*((LOG(P12))/LOG(2))))","v":0},null,null,{"$f":"N12","v":212},{"$f":"COUNTIF(L7:L16,T12)","v":0},{"$f":"U12/(W4-U10)","v":0},{"$f":"IF(V12=0,0,(V12*((LOG(V12))/LOG(2))))","v":0},null,{"$f":"N12","v":212},{"$f":"COUNTIF(L17:L26,Y12)","v":0},{"$f":"Z12/(AB4-Z10)","v":0},{"$f":"IF(AA12=0,0,(AA12*((LOG(AA12))/LOG(2))))","v":0},null,{"$f":"N12","v":212},{"$f":"COUNTIF(L27:L36,AD12)","v":0},{"$f":"AE12/(AG4-AE10)","v":0},{"$f":"IF(AF12=0,0,(AF12*((LOG(AF12))/LOG(2))))","v":0},null,{"$f":"N12","v":212},{"$f":"COUNTIF(L37:L46,AI12)","v":0},{"$f":"AJ12/(AL4-AJ10)","v":0},{"$f":"IF(AK12=0,0,(AK12*((LOG(AK12))/LOG(2))))","v":0},null,{"$f":"N12","v":212},{"$f":"COUNTIF(L47:L56,AN12)","v":0},{"$f":"AO12/(AQ4-AO10)","v":0},{"$f":"IF(AP12=0,0,(AP12*((LOG(AP12))/LOG(2))))","v":0},null,{"$f":"N12","v":212},{"$f":"COUNTIF(L57:L66,AS12)","v":0},{"$f":"AT12/(AV4-AT10)","v":0},{"$f":"IF(AU12=0,0,(AU12*((LOG(AU12))/LOG(2))))","v":0}]
[11,782,11,790,21,840,null,null,null,null,0,112,null,221,{"$f":"COUNTIF($L$7:$L$500,N13)","v":0},{"$f":"O13/$Q$4","v":0},{"$f":"IF(P13=0,0,(P13*((LOG(P13))/LOG(2))))","v":0},null,null,{"$f":"N13","v":221},{"$f":"COUNTIF(L7:L16,T13)","v":0},{"$f":"U13/(W4-U10)","v":0},{"$f":"IF(V13=0,0,(V13*((LOG(V13))/LOG(2))))","v":0},null,{"$f":"N13","v":221},{"$f":"COUNTIF(L17:L26,Y13)","v":0},{"$f":"Z13/(AB4-Z10)","v":0},{"$f":"IF(AA13=0,0,(AA13*((LOG(AA13))/LOG(2))))","v":0},null,{"$f":"N13","v":221},{"$f":"COUNTIF(L27:L36,AD13)","v":0},{"$f":"AE13/(AG4-AE10)","v":0},{"$f":"IF(AF13=0,0,(AF13*((LOG(AF13))/LOG(2))))","v":0},null,{"$f":"N13","v":221},{"$f":"COUNTIF(L37:L46,AI13)","v":0},{"$f":"AJ13/(AL4-AJ10)","v":0},{"$f":"IF(AK13=0,0,(AK13*((LOG(AK13))/LOG(2))))","v":0},null,{"$f":"N13","v":221},{"$f":"COUNTIF(L47:L56,AN13)","v":0},{"$f":"AO13/(AQ4-AO10)","v":0},{"$f":"IF(AP13=0,0,(AP13*((LOG(AP13))/LOG(2))))","v":0},null,{"$f":"N13","v":221},{"$f":"COUNTIF(L57:L66,AS13)","v":0},{"$f":"AT13/(AV4-AT10)","v":0},{"$f":"IF(AU13=0,0,(AU13*((LOG(AU13))/LOG(2))))","v":0}]
[11,933,11,937,21,949,null,null,null,null,0,112,null,222,{"$f":"COUNTIF($L$7:$L$500,N14)","v":0},{"$f":"O14/$Q$4","v":0},{"$f":"IF(P14=0,0,(P14*((LOG(P14))/LOG(2))))","v":0},null,null,{"$f":"N14","v":222},{"$f":"COUNTIF(L7:L16,T14)","v":0},{"$f":"U14/(W4-U10)","v":0},{"$f":"IF(V14=0,0,(V14*((LOG(V14))/LOG(2))))","v":0},null,{"$f":"N14","v":222},{"$f":"COUNTIF(L17:L26,Y14)","v":0},{"$f":"Z14/(AB4-Z10)","v":0},{"$f":"IF(AA14=0,0,(AA14*((LOG(AA14))/LOG(2))))","v":0},null,{"$f":"N14","v":222},{"$f":"COUNTIF(L27:L36,AD14)","v":0},{"$f":"AE14/(AG4-AE10)","v":0},{"$f":"IF(AF14=0,0,(AF14*((LOG(AF14))/LOG(2))))","v":0},null,{"$f":"N14","v":222},{"$f":"COUNTIF(L37:L46,AI14)","v":0},{"$f":"AJ14/(AL4-AJ10)","v":0},{"$f":"IF(AK14=0,0,(AK14*((LOG(AK14))/LOG(2))))","v":0},null,{"$f":"N14","v":222},{"$f":"COUNTIF(L47:L56,AN14)","v":0},{"$f":"AO14/(AQ4-AO10)","v":0},{"$f":"IF(AP14=0,0,(AP14*((LOG(AP14))/LOG(2))))","v":0},null,{"$f":"N14","v":222},{"$f":"COUNTIF(L57:L66,AS14)","v":0},{"$f":"AT14/(AV4-AT10)","v":0},{"$f":"IF(AU14=0,0,(AU14*((LOG(AU14))/LOG(2))))","v":0}]
[11,1041,11,1044,12,1065,null,null,null,null,0,111,null,null,null,{"$f":"SUM(P7:P14)","v":1},{"$f":"-SUM(Q7:Q14)","v":1.2120594671313869},null,null,null,null,{"$f":"SUM(V7:V14)","v":1},{"$f":"-SUM(W7:W14)","v":0.76420450650862026},null,null,null,{"$f":"SUM(AA7:AA14)","v":1},{"$f":"-SUM(AB7:AB14)","v":0},null,null,null,{"$f":"SUM(AF7:AF14)","v":1},{"$f":"-SUM(AG7:AG14)","v":0},null,null,null,{"$f":"SUM(AK7:AK14)","v":1},{"$f":"-SUM(AL7:AL14)","v":0.59167277858232736},null,null,null,{"$f":"SUM(AP7:AP14)","v":1},{"$f":"-SUM(AQ7:AQ14)","v":0.81127812445913283},null,null,null,{"$f":"SUM(AU7:AU14)","v":1},{"$f":"-SUM(AV7:AV14)","v":0.59167277858232736}]
[11,1163,11,1167,21,1185,null,null,null,null,0,112,null,null,null,"U=",{"$f":"Q15/(LOG(Q4)/LOG(2))","v":0.20519416222682255},null,null,null,null,"U1=",{"$f":"W15/(LOG(W4)/LOG(2))","v":0.23004847928068486},null,null,null,"U2=",{"$f":"AB15/(LOG(AB4)/LOG(2))","v":0},null,null,null,"U3=",{"$f":"AG15/(LOG(AG4)/LOG(2))","v":0},null,null,null,"U4=",{"$f":"AL15/(LOG(AL4)/LOG(2))","v":0.17811125397113373},null,null,null,"U5=",{"$f":"AQ15/(LOG(AQ4)/LOG(2))","v":0.24421905028821556},null,null,null,"U6=",{"$f":"AV15/(LOG(AV4)/LOG(2))","v":0.17811125397113373}]
[11,1281,11,1291,21,1306,null,null,null,null,0,112]
[11,1407,22,1419,23,1441,null,null,null,null,0,122]
[11,1544,11,1548,21,1568,null,null,null,null,0,112,null,"Total Target Seq"]
[11,1660,11,1672,21,1700,null,null,null,null,0,112,null,{"$f":"COUNTIF(L7:L66,G3)","v":14},null,10,10,10,10,10,10]
[11,1793,11,1796,21,1817,null,null,null,null,0,112,null,null,null,"% of reinforcement given in 6 equal intervals based on number of trials "]
[11,1910,11,1914,21,1930,null,null,null,null,0,112,null,null,null,"%_1","%_2","%_3","%_4","%_5","%_6"]
[11,2026,11,2033,21,2056,null,null,null,null,0,112,null,null,"target sequence",{"$f":"$G$3","v":122},{"$f":"$G$3","v":122},{"$f":"$G$3","v":122},{"$f":"$G$3","v":122},{"$f":"$G$3","v":122},{"$f":"$G$3","v":122}]
[11,2149,11,2157,21,2196,null,null,null,null,0,112,null,null,"total reinforcement",{"$f":"U10","v":1},{"$f":"Z10","v":2},{"$f":"AE10","v":3},{"$f":"AJ10","v":3},{"$f":"AO10","v":2},{"$f":"AT10","v":3}]
[11,2290,22,2309,23,2332,null,null,null,null,0,122,null,null,"% target"]
[11,2433,11,2440,21,2479,null,null,null,null,0,112,null,null,"CCRF"]
[11,2577,11,2580,21,2618,null,null,null,null,0,112,null,null,"% CCRf"]
[11,2721,22,2745,23,2759,null,null,null,null,0,122,null,null,"average response rate",{"$f":"F16/P20","v":118.5},{"$f":"(F26-F16)/Q20","v":129.4},{"$f":"(F36-F26)/R20","v":136.1},{"$f":"(F46-F36)/S20","v":127.7},{"$f":"(F56-F46)/T20","v":129.4},{"$f":"(F66-F56)/U20","v":126.5}]
[11,2872,22,2898,23,2908,null,null,null,null,0,122]
[11,3012,11,3027,21,3056,null,null,null,null,0,112]
[11,3152,11,3155,21,3180,null,null,null,null,0,112]
[11,3277,11,3281,21,3320,null,null,null,null,0,112]
[11,3420,22,3445,23,3456,null,null,null,null,0,122]
[11,3555,11,3558,21,3569,null,null,null,null,0,112]
[11,3659,11,3669,21,3707,null,null,null,null,0,112]
[11,3797,11,3808,21,3840,null,null,null,null,0,112]
[11,3932,11,3936,21,3963,null,null,null,null,0,112]
[11,4062,22,4077,23,4102,null,null,null,null,0,122]
[11,4198,11,4204,21,4249,null,null,null,null,0,112]
[11,4343,11,4346,21,4357,null,null,null,null,0,112]
[11,4450,11,4457,21,4468,null,null,null,null,0,112]
[11,4569,22,4593,23,4602,null,null,null,null,0,122]
[11,4701,11,4709,12,4717,null,null,null,null,0,111]
[11,4825,11,4832,21,4843,null,null,null,null,0,112]
[11,4936,11,4939,21,4972,null,null,null,null,0,112]
[11,5070,22,5108,23,5117,null,null,null,null,0,122]
[11,5216,11,5225,21,5240,null,null,null,null,0,112]
[11,5331,11,5334,21,5379,null,null,null,null,0,112]
[11,5478,22,5499,23,5509,null,null,null,null,0,122]
[11,5605,11,5627,21,5647,null,null,null,null,0,112]
[11,5745,11,5753,21,5781,null,null,null,null,0,112]
[11,5875,11,5892,12,5899,null,null,null,null,0,111]
[11,6009,22,6047,23,6053,null,null,null,null,0,122]
[11,6150,11,6153,21,6178,null,null,null,null,0,112]
[11,6268,11,6274,21,6299,null,null,null,null,0,112]
[11,6391,11,6401,12,6411,null,null,null,null,0,111]
[11,6524,22,6536,23,6543,null,null,null,null,0,122]
[11,6651,11,6655,21,6677,null,null,null,null,0,112]
[11,6769,11,6773,12,6778,null,null,null,null,0,111]
[11,6890,22,6911,23,6922,null,null,null,null,0,122]
[11,7019,11,7022,21,7034,null,null,null,null,0,112]
[11,7123,11,7133,21,7167,null,null,null,null,0,112]
[11,7259,22,7290,23,7297,null,null,null,null,0,122]
[11,7396,11,7403,21,7415,null,null,null,null,0,112]
[11,7507,11,7520,21,7546,null,null,null,null,0,112]
[11,7637,11,7646,21,7676,null,null,null,null,1,112]

{"sheet":"!M623C50.103","index":32,"n_rows":59,"n_cols":48,"rows_kept":59,"cut":false,"hidden":false,"merged":[[4,39,4,42],[5,39,5,40],[4,44,4,47],[5,44,5,45],[4,24,4,27],[5,24,5,25],[4,29,4,32],[5,29,5,30],[4,34,4,37],[5,34,5,35],[1,1,1,2],[5,13,5,14],[18,13,18,14],[19,13,19,14],[4,19,4,22],[5,19,5,20]]}
["Report for:!M623C50.103"]
["Date:","<date>"]
["Hen:","<hen>",null,null,null,"Correct Sequence",{"$f":"Start!J2","v":122},null,null,null,null,null,null,null,null,"Total Sequences in Data",{"$f":"4994-COUNTBLANK(L7:L5000)","v":53},null,null,null,null,"Total Sequences in Block Data",{"$f":"COUNTA(L7:L15)","v":9},null,null,null,"Total Sequences in Block Data",{"$f":"COUNTA(L16:L24)","v":9},null,null,null,"Total Sequences in Block Data",{"$f":"COUNTA(L25:L32)","v":8},null,null,null,"Total Sequences in Block Data",{"$f":"COUNTA(L33:L41)","v":9},null,null,null,"Total Sequences in Block Data",{"$f":"COUNTA(L42:L50)","v":9},null,null,null,"Total Sequences in Block Data",{"$f":"COUNTA(L51:L59)","v":9}]
[null,null,null,null,null,null,null,null,null,null,null,null,null,null,null,"Total Sequences in Summary",{"$f":"SUM(O7:O14)","v":53},null,null,null,null,"Total Sequences in Block Summary",{"$f":"SUM(U7:U14)","v":9},null,null,null,"Total Sequences in Block Summary",{"$f":"SUM(Z7:Z14)","v":9},null,null,null,"Total Sequences in Block Summary",{"$f":"SUM(AE7:AE14)","v":8},null,null,null,"Total Sequences in Block Summary",{"$f":"SUM(AJ7:AJ14)","v":9},null,null,null,"Total Sequences in Block Summary",{"$f":"SUM(AO7:AO14)","v":9},null,null,null,"Total Sequences in Block Summary",{"$f":"SUM(AT7:AT14)","v":9}]
[null,null,null,null,null,null,null,null,null,null,null,null,null,null,null,null,null,null,null,"Block 1",null,null,null,null,"Block 2",null,null,null,null,"Block 3",null,null,null,null,"Block 4",null,null,null,null,"Block 5",null,null,null,null,"Block 6"]
["Sequence\nComponent\n1","Time\n1","Sequence\nComponent\n2","Time\n2","Sequence\nComponent\n3","Time\n3","Sequence\nComponent\n4","Time\n4","Sequence\nComponent\n5","Time\n5","Correct?\n0=No 1=Yes","Sequence",null,"Frequency",null,"Relative Frequency","Variability",null,null,"Frequency",null,"Relative Frequency","Variability",null,"Frequency",null,"Relative Frequency","Variability",null,"Frequency",null,"Relative Frequency","Variability",null,"Frequency",null,"Relative Frequency","Variability",null,"Frequency",null,"Relative Frequency","Variability",null,"Frequency",null,"Relative Frequency","Variability"]
[11,9,11,13,21,25,null,null,null,null,0,112,null,111,{"$f":"COUNTIF($L$7:$L$500,N7)","v":6},{"$f":"O7/$Q$4","v":0.11320754716981132},{"$f":"IF(P7=0,0,(P7*((LOG(P7))/LOG(2))))","v":-0.35580656081230677},null,null,{"$f":"N7","v":111},{"$f":"COUNTIF(L7:L15,T7)","v":0},{"$f":"U7/(W4-U10)","v":0},{"$f":"IF(V7=0,0,(V7*((LOG(V7))/LOG(2))))","v":0},null,{"$f":"N7","v":111},{"$f":"COUNTIF(L16:L24,Y7)","v":2},{"$f":"Z7/(AB4-Z10)","v":0.22222222222222221},{"$f":"IF(AA7=0,0,(AA7*((LOG(AA7))/LOG(2))))","v":-0.48220555587606945},null,{"$f":"N7","v":111},{"$f":"COUNTIF(L25:L32,AD7)","v":0},{"$f":"AE7/(AG4-AE10)","v":0},{"$f":"IF(AF7=0,0,(AF7*((LOG(AF7))/LOG(2))))","v":0},null,{"$f":"N7","v":111},{"$f":"COUNTIF(L33:L41,AI7)","v":0},{"$f":"AJ7/(AL4-AJ10)","v":0},{"$f":"IF(AK7=0,0,(AK7*((LOG(AK7))/LOG(2))))","v":0},null,{"$f":"N7","v":111},{"$f":"COUNTIF(L42:L50,AN7)","v":2},{"$f":"AO7/(AQ4-AO10)","v":0.22222222222222221},{"$f":"IF(AP7=0,0,(AP7*((LOG(AP7))/LOG(2))))","v":-0.48220555587606945},null,{"$f":"N7","v":111},{"$f":"COUNTIF(L51:L59,AS7)","v":2},{"$f":"AT7/(AV4-AT10)","v":0.2857142857142857},{"$f":"IF(AU7=0,0,(AU7*((LOG(AU7))/LOG(2))))","v":-0.51638712058788683}]
[11,122,11,130,21,140,null,null,null,null,0,112,null,112,{"$f":"COUNTIF($L$7:$L$500,N8)","v":40},{"$f":"O8/$Q$4","v":0.75471698113207553},{"$f":"IF(P8=0,0,(P8*((LOG(P8))/LOG(2))))","v":-0.30640932805723531},null,null,{"$f":"N8","v":112},{"$f":"COUNTIF(L7:L15,T8)","v":7},{"$f":"U8/(W4-U10)","v":1},{"$f":"IF(V8=0,0,(V8*((LOG(V8))/LOG(2))))","v":0},null,{"$f":"N8","v":112},{"$f":"COUNTIF(L16:L24,Y8)","v":7},{"$f":"Z8/(AB4-Z10)","v":0.77777777777777779},{"$f":"IF(AA8=0,0,(AA8*((LOG(AA8))/LOG(2))))","v":-0.28199895063255082},null,{"$f":"N8","v":112},{"$f":"COUNTIF(L25:L32,AD8)","v":7},{"$f":"AE8/(AG4-AE10)","v":1},{"$f":"IF(AF8=0,0,(AF8*((LOG(AF8))/LOG(2))))","v":0},null,{"$f":"N8","v":112},{"$f":"COUNTIF(L33:L41,AI8)","v":7},{"$f":"AJ8/(AL4-AJ10)","v":1},{"$f":"IF(AK8=0,0,(AK8*((LOG(AK8))/LOG(2))))","v":0},null,{"$f":"N8","v":112},{"$f":"COUNTIF(L42:L50,AN8)","v":7},{"$f":"AO8/(AQ4-AO10)","v":0.77777777777777779},{"$f":"IF(AP8=0,0,(AP8*((LOG(AP8))/LOG(2))))","v":-0.28199895063255082},null,{"$f":"N8","v":112},{"$f":"COUNTIF(L51:L59,AS8)","v":5},{"$f":"AT8/(AV4-AT10)","v":0.7142857142857143},{"$f":"IF(AU8=0,0,(AU8*((LOG(AU8))/LOG(2))))","v":-0.34673344797874411}]
[11,235,11,244,21,256,null,null,null,null,0,112,null,121,{"$f":"COUNTIF($L$7:$L$500,N9)","v":0},{"$f":"O9/$Q$4","v":0},{"$f":"IF(P9=0,0,(P9*((LOG(P9))/LOG(2))))","v":0},null,null,{"$f":"N9","v":121},{"$f":"COUNTIF(L7:L15,T9)","v":0},{"$f":"U9/(W4-U10)","v":0},{"$f":"IF(V9=0,0,(V9*((LOG(V9))/LOG(2))))","v":0},null,{"$f":"N9","v":121},{"$f":"COUNTIF(L16:L24,Y9)","v":0},{"$f":"Z9/(AB4-Z10)","v":0},{"$f":"IF(AA9=0,0,(AA9*((LOG(AA9))/LOG(2))))","v":0},null,{"$f":"N9","v":121},{"$f":"COUNTIF(L25:L32,AD9)","v":0},{"$f":"AE9/(AG4-AE10)","v":0},{"$f":"IF(AF9=0,0,(AF9*((LOG(AF9))/LOG(2))))","v":0},null,{"$f":"N9","v":121},{"$f":"COUNTIF(L33:L41,AI9)","v":0},{"$f":"AJ9/(AL4-AJ10)","v":0},{"$f":"IF(AK9=0,0,(AK9*((LOG(AK9))/LOG(2))))","v":0},null,{"$f":"N9","v":121},{"$f":"COUNTIF(L42:L50,AN9)","v":0},{"$f":"AO9/(AQ4-AO10)","v":0},{"$f":"IF(AP9=0,0,(AP9*((LOG(AP9))/LOG(2))))","v":0},null,{"$f":"N9","v":121},{"$f":"COUNTIF(L51:L59,AS9)","v":0},{"$f":"AT9/(AV4-AT10)","v":0},{"$f":"IF(AU9=0,0,(AU9*((LOG(AU9))/LOG(2))))","v":0}]
[11,349,11,355,21,380,null,null,null,null,0,112,null,122,{"$f":"COUNTIF($L$7:$L$500,N10)","v":7},{"$f":"O10/$Q$4","v":0.13207547169811321},{"$f":"IF(P10=0,0,(P10*((LOG(P10))/LOG(2))))","v":-0.38573507033092763},null,null,{"$f":"N10","v":122},{"$f":"COUNTIF(L7:L15,T10)","v":2},null,null,null,{"$f":"N10","v":122},{"$f":"COUNTIF(L16:L24,Y10)","v":0},null,null,null,{"$f":"N10","v":122},{"$f":"COUNTIF(L25:L32,AD10)","v":1},null,null,null,{"$f":"N10","v":122},{"$f":"COUNTIF(L33:L41,AI10)","v":2},null,null,null,{"$f":"N10","v":122},{"$f":"COUNTIF(L42:L50,AN10)","v":0},null,null,null,{"$f":"N10","v":122},{"$f":"COUNTIF(L51:L59,AS10)","v":2}]
[11,479,22,496,23,516,null,null,null,null,0,122,null,211,{"$f":"COUNTIF($L$7:$L$500,N11)","v":0},{"$f":"O11/$Q$4","v":0},{"$f":"IF(P11=0,0,(P11*((LOG(P11))/LOG(2))))","v":0},null,null,{"$f":"N11","v":211},{"$f":"COUNTIF(L7:L15,T11)","v":0},{"$f":"U11/(W4-U10)","v":0},{"$f":"IF(V11=0,0,(V11*((LOG(V11))/LOG(2))))","v":0},null,{"$f":"N11","v":211},{"$f":"COUNTIF(L16:L24,Y11)","v":0},{"$f":"Z11/(AB4-Z10)","v":0},{"$f":"IF(AA11=0,0,(AA11*((LOG(AA11))/LOG(2))))","v":0},null,{"$f":"N11","v":211},{"$f":"COUNTIF(L25:L32,AD11)","v":0},{"$f":"AE11/(AG4-AE10)","v":0},{"$f":"IF(AF11=0,0,(AF11*((LOG(AF11))/LOG(2))))","v":0},null,{"$f":"N11","v":211},{"$f":"COUNTIF(L33:L41,AI11)","v":0},{"$f":"AJ11/(AL4-AJ10)","v":0},{"$f":"IF(AK11=0,0,(AK11*((LOG(AK11))/LOG(2))))","v":0},null,{"$f":"N11","v":211},{"$f":"COUNTIF(L42:L50,AN11)","v":0},{"$f":"AO11/(AQ4-AO10)","v":0},{"$f":"IF(AP11=0,0,(AP11*((LOG(AP11))/LOG(2))))","v":0},null,{"$f":"N11","v":211},{"$f":"COUNTIF(L51:L59,AS11)","v":0},{"$f":"AT11/(AV4-AT10)","v":0},{"$f":"IF(AU11=0,0,(AU11*((LOG(AU11))/LOG(2))))","v":0}]
[11,624,22,635,23,641,null,null,null,null,0,122,null,212,{"$f":"COUNTIF($L$7:$L$500,N12)","v":0},{"$f":"O12/$Q$4","v":0},{"$f":"IF(P12=0,0,(P12*((LOG(P12))/LOG(2))))","v":0},null,null,{"$f":"N12","v":212},{"$f":"COUNTIF(L7:L15,T12)","v":0},{"$f":"U12/(W4-U10)","v":0},{"$f":"IF(V12=0,0,(V12*((LOG(V12))/LOG(2))))","v":0},null,{"$f":"N12","v":212},{"$f":"COUNTIF(L16:L24,Y12)","v":0},{"$f":"Z12/(AB4-Z10)","v":0},{"$f":"IF(AA12=0,0,(AA12*((LOG(AA12))/LOG(2))))","v":0},null,{"$f":"N12","v":212},{"$f":"COUNTIF(L25:L32,AD12)","v":0},{"$f":"AE12/(AG4-AE10)","v":0},{"$f":"IF(AF12=0,0,(AF12*((LOG(AF12))/LOG(2))))","v":0},null,{"$f":"N12","v":212},{"$f":"COUNTIF(L33:L41,AI12)","v":0},{"$f":"AJ12/(AL4-AJ10)","v":0},{"$f":"IF(AK12=0,0,(AK12*((LOG(AK12))/LOG(2))))","v":0},null,{"$f":"N12","v":212},{"$f":"COUNTIF(L42:L50,AN12)","v":0},{"$f":"AO12/(AQ4-AO10)","v":0},{"$f":"IF(AP12=0,0,(AP12*((LOG(AP12))/LOG(2))))","v":0},null,{"$f":"N12","v":212},{"$f":"COUNTIF(L51:L59,AS12)","v":0},{"$f":"AT12/(AV4-AT10)","v":0},{"$f":"IF(AU12=0,0,(AU12*((LOG(AU12))/LOG(2))))","v":0}]
[11,740,11,746,21,762,null,null,null,null,0,112,null,221,{"$f":"COUNTIF($L$7:$L$500,N13)","v":0},{"$f":"O13/$Q$4","v":0},{"$f":"IF(P13=0,0,(P13*((LOG(P13))/LOG(2))))","v":0},null,null,{"$f":"N13","v":221},{"$f":"COUNTIF(L7:L15,T13)","v":0},{"$f":"U13/(W4-U10)","v":0},{"$f":"IF(V13=0,0,(V13*((LOG(V13))/LOG(2))))","v":0},null,{"$f":"N13","v":221},{"$f":"COUNTIF(L16:L24,Y13)","v":0},{"$f":"Z13/(AB4-Z10)","v":0},{"$f":"IF(AA13=0,0,(AA13*((LOG(AA13))/LOG(2))))","v":0},null,{"$f":"N13","v":221},{"$f":"COUNTIF(L25:L32,AD13)","v":0},{"$f":"AE13/(AG4-AE10)","v":0},{"$f":"IF(AF13=0,0,(AF13*((LOG(AF13))/LOG(2))))","v":0},null,{"$f":"N13","v":221},{"$f":"COUNTIF(L33:L41,AI13)","v":0},{"$f":"AJ13/(AL4-AJ10)","v":0},{"$f":"IF(AK13=0,0,(AK13*((LOG(AK13))/LOG(2))))","v":0},null,{"$f":"N13","v":221},{"$f":"COUNTIF(L42:L50,AN13)","v":0},{"$f":"AO13/(AQ4-AO10)","v":0},{"$f":"IF(AP13=0,0,(AP13*((LOG(AP13))/LOG(2))))","v":0},null,{"$f":"N13","v":221},{"$f":"COUNTIF(L51:L59,AS13)","v":0},{"$f":"AT13/(AV4-AT10)","v":0},{"$f":"IF(AU13=0,0,(AU13*((LOG(AU13))/LOG(2))))","v":0}]
[11,861,11,870,21,893,null,null,null,null,0,112,null,222,{"$f":"COUNTIF($L$7:$L$500,N14)","v":0},{"$f":"O14/$Q$4","v":0},{"$f":"IF(P14=0,0,(P14*((LOG(P14))/LOG(2))))","v":0},null,null,{"$f":"N14","v":222},{"$f":"COUNTIF(L7:L15,T14)","v":0},{"$f":"U14/(W4-U10)","v":0},{"$f":"IF(V14=0,0,(V14*((LOG(V14))/LOG(2))))","v":0},null,{"$f":"N14","v":222},{"$f":"COUNTIF(L16:L24,Y14)","v":0},{"$f":"Z14/(AB4-Z10)","v":0},{"$f":"IF(AA14=0,0,(AA14*((LOG(AA14))/LOG(2))))","v":0},null,{"$f":"N14","v":222},{"$f":"COUNTIF(L25:L32,AD14)","v":0},{"$f":"AE14/(AG4-AE10)","v":0},{"$f":"IF(AF14=0,0,(AF14*((LOG(AF14))/LOG(2))))","v":0},null,{"$f":"N14","v":222},{"$f":"COUNTIF(L33:L41,AI14)","v":0},{"$f":"AJ14/(AL4-AJ10)","v":0},{"$f":"IF(AK14=0,0,(AK14*((LOG(AK14))/LOG(2))))","v":0},null,{"$f":"N14","v":222},{"$f":"COUNTIF(L42:L50,AN14)","v":0},{"$f":"AO14/(AQ4-AO10)","v":0},{"$f":"IF(AP14=0,0,(AP14*((LOG(AP14))/LOG(2))))","v":0},null,{"$f":"N14","v":222},{"$f":"COUNTIF(L51:L59,AS14)","v":0},{"$f":"AT14/(AV4-AT10)","v":0},{"$f":"IF(AU14=0,0,(AU14*((LOG(AU14))/LOG(2))))","v":0}]
[11,987,11,991,21,1004,null,null,null,null,0,112,null,null,null,{"$f":"SUM(P7:P14)","v":1},{"$f":"-SUM(Q7:Q14)","v":1.0479509592004697},null,null,null,null,{"$f":"SUM(V7:V14)","v":1},{"$f":"-SUM(W7:W14)","v":0},null,null,null,{"$f":"SUM(AA7:AA14)","v":1},{"$f":"-SUM(AB7:AB14)","v":0.76420450650862026},null,null,null,{"$f":"SUM(AF7:AF14)","v":1},{"$f":"-SUM(AG7:AG14)","v":0},null,null,null,{"$f":"SUM(AK7:AK14)","v":1},{"$f":"-SUM(AL7:AL14)","v":0},null,null,null,{"$f":"SUM(AP7:AP14)","v":1},{"$f":"-SUM(AQ7:AQ14)","v":0.76420450650862026},null,null,null,{"$f":"SUM(AU7:AU14)","v":1},{"$f":"-SUM(AV7:AV14)","v":0.863120568566631}]
[11,1102,11,1110,12,1117,null,null,null,null,0,111,null,null,null,"U=",{"$f":"Q15/(LOG(Q4)/LOG(2))","v":0.18295487297935678},null,null,null,null,"U1=",{"$f":"W15/(LOG(W4)/LOG(2))","v":0},null,null,null,"U2=",{"$f":"AB15/(LOG(AB4)/LOG(2))","v":0.24107968048484052},null,null,null,"U3=",{"$f":"AG15/(LOG(AG4)/LOG(2))","v":0},null,null,null,"U4=",{"$f":"AL15/(LOG(AL4)/LOG(2))","v":0},null,null,null,"U5=",{"$f":"AQ15/(LOG(AQ4)/LOG(2))","v":0.24107968048484052},null,null,null,"U6=",{"$f":"AV15/(LOG(AV4)/LOG(2))","v":0.27228422381410039}]
[11,1217,11,1222,21,1236,null,null,null,null,0,112]
[11,1330,11,1334,21,1360,null,null,null,null,0,112]
[11,1455,11,1468,21,1482,null,null,null,null,0,112,null,"Total Target Seq"]
[11,1576,11,1585,21,1621,null,null,null,null,0,112,null,{"$f":"COUNTIF(L7:L59,G3)","v":7},null,9,9,8,9,9,9]
[11,1717,11,1725,21,1737,null,null,null,null,0,112,null,null,null,"% of reinforcement given in 6 equal intervals based on number of trials "]
[11,1831,11,1840,21,1852,null,null,null,null,0,112,null,null,null,"%_1","%_2","%_3","%_4","%_5","%_6"]
[11,1946,11,1953,12,1957,null,null,null,null,0,111,null,null,"target sequence",{"$f":"$G$3","v":122},{"$f":"$G$3","v":122},{"$f":"$G$3","v":122},{"$f":"$G$3","v":122},{"$f":"$G$3","v":122},{"$f":"$G$3","v":122}]
[11,2061,11,2068,21,2080,null,null,null,null,0,112,null,null,"total reinforcement",{"$f":"U10","v":2},{"$f":"Z10","v":0},{"$f":"AE10","v":1},{"$f":"AJ10","v":2},{"$f":"AO10","v":0},{"$f":"AT10","v":2}]
[11,2189,22,2215,23,2222,null,null,null,null,0,122,null,null,"% target"]
[11,2317,11,2322,21,2336,null,null,null,null,0,112,null,null,"CCRF"]
[11,2427,11,2431,21,2444,null,null,null,null,0,112,null,null,"% CCRf"]
[11,2537,11,2542,21,2556,null,null,null,null,0,112,null,null,"average response rate",{"$f":"F15/P20","v":111.55555555555556},{"$f":"(F24-F15)/Q20","v":119.55555555555556},{"$f":"(F32-F24)/R20","v":119.125},{"$f":"(F41-F32)/S20","v":122.77777777777777},{"$f":"(F50-F41)/T20","v":113.77777777777777},{"$f":"(F59-F50)/U20","v":123.44444444444444}]
[11,2651,11,2665,21,2677,null,null,null,null,0,112]
[11,2766,11,2770,21,2790,null,null,null,null,0,112]
[11,2890,11,2895,21,2907,null,null,null,null,0,112]
[11,2996,11,3003,21,3033,null,null,null,null,0,112]
[11,3130,11,3137,21,3165,null,null,null,null,0,112]
[11,3257,11,3263,21,3278,null,null,null,null,0,112]
[11,3373,22,3384,23,3396,null,null,null,null,0,122]
[11,3494,22,3525,23,3532,null,null,null,null,0,122]
[11,3629,11,3632,21,3653,null,null,null,null,0,112]
[11,3746,11,3753,21,3777,null,null,null,null,0,112]
[11,3870,11,3885,21,3902,null,null,null,null,0,112]
[11,3995,11,4001,21,4020,null,null,null,null,0,112]
[11,4111,11,4118,21,4138,null,null,null,null,0,112]
[11,4227,11,4235,12,4242,null,null,null,null,0,111]
[11,4338,11,4343,21,4354,null,null,null,null,0,112]
[11,4447,11,4453,21,4465,null,null,null,null,0,112]
[11,4559,11,4567,21,4579,null,null,null,null,0,112]
[11,4674,11,4682,21,4707,null,null,null,null,0,112]
[11,4802,11,4808,21,4819,null,null,null,null,0,112]
[11,4916,11,4922,21,4942,null,null,null,null,0,112]
[11,5033,11,5040,21,5058,null,null,null,null,0,112]
[11,5147,11,5156,12,5162,null,null,null,null,0,111]
[11,5262,11,5268,21,5290,null,null,null,null,0,112]
[11,5390,22,5426,23,5438,null,null,null,null,0,122]
[11,5539,22,5561,23,5567,null,null,null,null,0,122]
[11,5663,11,5669,21,5691,null,null,null,null,0,112]
[11,5779,11,5795,12,5801,null,null,null,null,0,111]
[11,5896,11,5910,12,5913,null,null,null,null,0,111]
[11,6012,11,6015,21,6036,null,null,null,null,0,112]
[11,6125,11,6129,21,6165,null,null,null,null,0,112]
[11,6253,11,6257,21,6273,null,null,null,null,1,112]

{"sheet":"!M624C20.103","index":33,"n_rows":94,"n_cols":48,"rows_kept":94,"cut":false,"hidden":false,"merged":[[4,39,4,42],[5,39,5,40],[4,44,4,47],[5,44,5,45],[4,24,4,27],[5,24,5,25],[4,29,4,32],[5,29,5,30],[4,34,4,37],[5,34,5,35],[1,1,1,2],[5,13,5,14],[18,13,18,14],[19,13,19,14],[4,19,4,22],[5,19,5,20]]}
["Report for:!M624C20.103"]
["Date:","<date>"]
["Hen:","<hen>",null,null,null,"Correct Sequence",{"$f":"Start!J2","v":122},null,null,null,null,null,null,null,null,"Total Sequences in Data",{"$f":"4994-COUNTBLANK(L7:L5000)","v":88},null,null,null,null,"Total Sequences in Block Data",{"$f":"COUNTA(L7:L21)","v":15},null,null,null,"Total Sequences in Block Data",{"$f":"COUNTA(L22:L35)","v":14},null,null,null,"Total Sequences in Block Data",{"$f":"COUNTA(L36:L50)","v":15},null,null,null,"Total Sequences in Block Data",{"$f":"COUNTA(L51:L65)","v":15},null,null,null,"Total Sequences in Block Data",{"$f":"COUNTA(L66:L79)","v":14},null,null,null,"Total Sequences in Block Data",{"$f":"COUNTA(L80:L94)","v":15}]
[null,null,null,null,null,null,null,null,null,null,null,null,null,null,null,"Total Sequences in Summary",{"$f":"SUM(O7:O14)","v":88},null,null,null,null,"Total Sequences in Block Summary",{"$f":"SUM(U7:U14)","v":15},null,null,null,"Total Sequences in Block Summary",{"$f":"SUM(Z7:Z14)","v":14},null,null,null,"Total Sequences in Block Summary",{"$f":"SUM(AE7:AE14)","v":15},null,null,null,"Total Sequences in Block Summary",{"$f":"SUM(AJ7:AJ14)","v":15},null,null,null,"Total Sequences in Block Summary",{"$f":"SUM(AO7:AO14)","v":14},null,null,null,"Total Sequences in Block Summary",{"$f":"SUM(AT7:AT14)","v":15}]
[null,null,null,null,null,null,null,null,null,null,null,null,null,null,null,null,null,null,null,"Block 1",null,null,null,null,"Block 2",null,null,null,null,"Block 3",null,null,null,null,"Block 4",null,null,null,null,"Block 5",null,null,null,null,"Block 6"]
["Sequence\nComponent\n1","Time\n1","Sequence\nComponent\n2","Time\n2","Sequence\nComponent\n3","Time\n3","Sequence\nComponent\n4","Time\n4","Sequence\nComponent\n5","Time\n5","Correct?\n0=No 1=Yes","Sequence",null,"Frequency",null,"Relative Frequency","Variability",null,null,"Frequency",null,"Relative Frequency","Variability",null,"Frequency",null,"Relative Frequency","Variability",null,"Frequency",null,"Relative Frequency","Variability",null,"Frequency",null,"Relative Frequency","Variability",null,"Frequency",null,"Relative Frequency","Variability",null,"Frequency",null,"Relative Frequency","Variability"]
[11,8,11,12,12,20,null,null,null,null,0,111,null,111,{"$f":"COUNTIF($L$7:$L$500,N7)","v":32},{"$f":"O7/$Q$4","v":0.36363636363636365},{"$f":"IF(P7=0,0,(P7*((LOG(P7))/LOG(2))))","v":-0.53070240677719893},null,null,{"$f":"N7","v":111},{"$f":"COUNTIF(L7:L21,T7)","v":4},{"$f":"U7/(W4-U10)","v":0.33333333333333331},{"$f":"IF(V7=0,0,(V7*((LOG(V7))/LOG(2))))","v":-0.52832083357371862},null,{"$f":"N7","v":111},{"$f":"COUNTIF(L22:L35,Y7)","v":3},{"$f":"Z7/(AB4-Z10)","v":0.27272727272727271},{"$f":"IF(AA7=0,0,(AA7*((LOG(AA7))/LOG(2))))","v":-0.51121885034076575},null,{"$f":"N7","v":111},{"$f":"COUNTIF(L36:L50,AD7)","v":2},{"$f":"AE7/(AG4-AE10)","v":0.14285714285714285},{"$f":"IF(AF7=0,0,(AF7*((LOG(AF7))/LOG(2))))","v":-0.40105070315108626},null,{"$f":"N7","v":111},{"$f":"COUNTIF(L51:L65,AI7)","v":10},{"$f":"AJ7/(AL4-AJ10)","v":0.66666666666666663},{"$f":"IF(AK7=0,0,(AK7*((LOG(AK7))/LOG(2))))","v":-0.38997500048077083},null,{"$f":"N7","v":111},{"$f":"COUNTIF(L66:L79,AN7)","v":6},{"$f":"AO7/(AQ4-AO10)","v":0.5},{"$f":"IF(AP7=0,0,(AP7*((LOG(AP7))/LOG(2))))","v":-0.5},null,{"$f":"N7","v":111},{"$f":"COUNTIF(L80:L94,AS7)","v":7},{"$f":"AT7/(AV4-AT10)","v":0.5},{"$f":"IF(AU7=0,0,(AU7*((LOG(AU7))/LOG(2))))","v":-0.5}]
[11,119,11,128,21,140,null,null,null,null,0,112,null,112,{"$f":"COUNTIF($L$7:$L$500,N8)","v":40},{"$f":"O8/$Q$4","v":0.45454545454545453},{"$f":"IF(P8=0,0,(P8*((LOG(P8))/LOG(2))))","v":-0.51704705624997038},null,null,{"$f":"N8","v":112},{"$f":"COUNTIF(L7:L21,T8)","v":8},{"$f":"U8/(W4-U10)","v":0.66666666666666663},{"$f":"IF(V8=0,0,(V8*((LOG(V8))/LOG(2))))","v":-0.38997500048077083},null,{"$f":"N8","v":112},{"$f":"COUNTIF(L22:L35,Y8)","v":8},{"$f":"Z8/(AB4-Z10)","v":0.72727272727272729},{"$f":"IF(AA8=0,0,(AA8*((LOG(AA8))/LOG(2))))","v":-0.33413208628167068},null,{"$f":"N8","v":112},{"$f":"COUNTIF(L36:L50,AD8)","v":9},{"$f":"AE8/(AG4-AE10)","v":0.6428571428571429},{"$f":"IF(AF8=0,0,(AF8*((LOG(AF8))/LOG(2))))","v":-0.40977637753840174},null,{"$f":"N8","v":112},{"$f":"COUNTIF(L51:L65,AI8)","v":3},{"$f":"AJ8/(AL4-AJ10)","v":0.2},{"$f":"IF(AK8=0,0,(AK8*((LOG(AK8))/LOG(2))))","v":-0.46438561897747244},null,{"$f":"N8","v":112},{"$f":"COUNTIF(L66:L79,AN8)","v":6},{"$f":"AO8/(AQ4-AO10)","v":0.5},{"$f":"IF(AP8=0,0,(AP8*((LOG(AP8))/LOG(2))))","v":-0.5},null,{"$f":"N8","v":112},{"$f":"COUNTIF(L80:L94,AS8)","v":6},{"$f":"AT8/(AV4-AT10)","v":0.42857142857142855},{"$f":"IF(AU8=0,0,(AU8*((LOG(AU8))/LOG(2))))","v":-0.52388246628704915}]
[11,231,11,238,21,258,null,null,null,null,0,112,null,121,{"$f":"COUNTIF($L$7:$L$500,N9)","v":0},{"$f":"O9/$Q$4","v":0},{"$f":"IF(P9=0,0,(P9*((LOG(P9))/LOG(2))))","v":0},null,null,{"$f":"N9","v":121},{"$f":"COUNTIF(L7:L21,T9)","v":0},{"$f":"U9/(W4-U10)","v":0},{"$f":"IF(V9=0,0,(V9*((LOG(V9))/LOG(2))))","v":0},null,{"$f":"N9","v":121},{"$f":"COUNTIF(L22:L35,Y9)","v":0},{"$f":"Z9/(AB4-Z10)","v":0},{"$f":"IF(AA9=0,0,(AA9*((LOG(AA9))/LOG(2))))","v":0},null,{"$f":"N9","v":121},{"$f":"COUNTIF(L36:L50,AD9)","v":0},{"$f":"AE9/(AG4-AE10)","v":0},{"$f":"IF(AF9=0,0,(AF9*((LOG(AF9))/LOG(2))))","v":0},null,{"$f":"N9","v":121},{"$f":"COUNTIF(L51:L65,AI9)","v":0},{"$f":"AJ9/(AL4-AJ10)","v":0},{"$f":"IF(AK9=0,0,(AK9*((LOG(AK9))/LOG(2))))","v":0},null,{"$f":"N9","v":121},{"$f":"COUNTIF(L66:L79,AN9)","v":0},{"$f":"AO9/(AQ4-AO10)","v":0},{"$f":"IF(AP9=0,0,(AP9*((LOG(AP9))/LOG(2))))","v":0},null,{"$f":"N9","v":121},{"$f":"COUNTIF(L80:L94,AS9)","v":0},{"$f":"AT9/(AV4-AT10)","v":0},{"$f":"IF(AU9=0,0,(AU9*((LOG(AU9))/LOG(2))))","v":0}]
[11,356,11,363,12,371,null,null,null,null,0,111,null,122,{"$f":"COUNTIF($L$7:$L$500,N10)","v":10},{"$f":"O10/$Q$4","v":0.11363636363636363},{"$f":"IF(P10=0,0,(P10*((LOG(P10))/LOG(2))))","v":-0.35653449133521992},null,null,{"$f":"N10","v":122},{"$f":"COUNTIF(L7:L21,T10)","v":3},null,null,null,{"$f":"N10","v":122},{"$f":"COUNTIF(L22:L35,Y10)","v":3},null,null,null,{"$f":"N10","v":122},{"$f":"COUNTIF(L36:L50,AD10)","v":1},null,null,null,{"$f":"N10","v":122},{"$f":"COUNTIF(L51:L65,AI10)","v":0},null,null,null,{"$f":"N10","v":122},{"$f":"COUNTIF(L66:L79,AN10)","v":2},null,null,null,{"$f":"N10","v":122},{"$f":"COUNTIF(L80:L94,AS10)","v":1}]
[11,474,11,481,12,486,null,null,null,null,0,111,null,211,{"$f":"COUNTIF($L$7:$L$500,N11)","v":0},{"$f":"O11/$Q$4","v":0},{"$f":"IF(P11=0,0,(P11*((LOG(P11))/LOG(2))))","v":0},null,null,{"$f":"N11","v":211},{"$f":"COUNTIF(L7:L21,T11)","v":0},{"$f":"U11/(W4-U10)","v":0},{"$f":"IF(V11=0,0,(V11*((LOG(V11))/LOG(2))))","v":0},null,{"$f":"N11","v":211},{"$f":"COUNTIF(L22:L35,Y11)","v":0},{"$f":"Z11/(AB4-Z10)","v":0},{"$f":"IF(AA11=0,0,(AA11*((LOG(AA11))/LOG(2))))","v":0},null,{"$f":"N11","v":211},{"$f":"COUNTIF(L36:L50,AD11)","v":0},{"$f":"AE11/(AG4-AE10)","v":0},{"$f":"IF(AF11=0,0,(AF11*((LOG(AF11))/LOG(2))))","v":0},null,{"$f":"N11","v":211},{"$f":"COUNTIF(L51:L65,AI11)","v":0},{"$f":"AJ11/(AL4-AJ10)","v":0},{"$f":"IF(AK11=0,0,(AK11*((LOG(AK11))/LOG(2))))","v":0},null,{"$f":"N11","v":211},{"$f":"COUNTIF(L66:L79,AN11)","v":0},{"$f":"AO11/(AQ4-AO10)","v":0},{"$f":"IF(AP11=0,0,(AP11*((LOG(AP11))/LOG(2))))","v":0},null,{"$f":"N11","v":211},{"$f":"COUNTIF(L80:L94,AS11)","v":0},{"$f":"AT11/(AV4-AT10)","v":0},{"$f":"IF(AU11=0,0,(AU11*((LOG(AU11))/LOG(2))))","v":0}]
[11,584,11,591,21,607,null,null,null,null,0,112,null,212,{"$f":"COUNTIF($L$7:$L$500,N12)","v":1},{"$f":"O12/$Q$4","v":1.1363636363636364E-2},{"$f":"IF(P12=0,0,(P12*((LOG(P12))/LOG(2))))","v":-7.3402632029969286E-2},null,null,{"$f":"N12","v":212},{"$f":"COUNTIF(L7:L21,T12)","v":0},{"$f":"U12/(W4-U10)","v":0},{"$f":"IF(V12=0,0,(V12*((LOG(V12))/LOG(2))))","v":0},null,{"$f":"N12","v":212},{"$f":"COUNTIF(L22:L35,Y12)","v":0},{"$f":"Z12/(AB4-Z10)","v":0},{"$f":"IF(AA12=0,0,(AA12*((LOG(AA12))/LOG(2))))","v":0},null,{"$f":"N12","v":212},{"$f":"COUNTIF(L36:L50,AD12)","v":0},{"$f":"AE12/(AG4-AE10)","v":0},{"$f":"IF(AF12=0,0,(AF12*((LOG(AF12))/LOG(2))))","v":0},null,{"$f":"N12","v":212},{"$f":"COUNTIF(L51:L65,AI12)","v":0},{"$f":"AJ12/(AL4-AJ10)","v":0},{"$f":"IF(AK12=0,0,(AK12*((LOG(AK12))/LOG(2))))","v":0},null,{"$f":"N12","v":212},{"$f":"COUNTIF(L66:L79,AN12)","v":0},{"$f":"AO12/(AQ4-AO10)","v":0},{"$f":"IF(AP12=0,0,(AP12*((LOG(AP12))/LOG(2))))","v":0},null,{"$f":"N12","v":212},{"$f":"COUNTIF(L80:L94,AS12)","v":1},{"$f":"AT12/(AV4-AT10)","v":7.1428571428571425E-2},{"$f":"IF(AU12=0,0,(AU12*((LOG(AU12))/LOG(2))))","v":-0.27195392300411453}]
[11,699,11,706,21,758,null,null,null,null,0,112,null,221,{"$f":"COUNTIF($L$7:$L$500,N13)","v":0},{"$f":"O13/$Q$4","v":0},{"$f":"IF(P13=0,0,(P13*((LOG(P13))/LOG(2))))","v":0},null,null,{"$f":"N13","v":221},{"$f":"COUNTIF(L7:L21,T13)","v":0},{"$f":"U13/(W4-U10)","v":0},{"$f":"IF(V13=0,0,(V13*((LOG(V13))/LOG(2))))","v":0},null,{"$f":"N13","v":221},{"$f":"COUNTIF(L22:L35,Y13)","v":0},{"$f":"Z13/(AB4-Z10)","v":0},{"$f":"IF(AA13=0,0,(AA13*((LOG(AA13))/LOG(2))))","v":0},null,{"$f":"N13","v":221},{"$f":"COUNTIF(L36:L50,AD13)","v":0},{"$f":"AE13/(AG4-AE10)","v":0},{"$f":"IF(AF13=0,0,(AF13*((LOG(AF13))/LOG(2))))","v":0},null,{"$f":"N13","v":221},{"$f":"COUNTIF(L51:L65,AI13)","v":0},{"$f":"AJ13/(AL4-AJ10)","v":0},{"$f":"IF(AK13=0,0,(AK13*((LOG(AK13))/LOG(2))))","v":0},null,{"$f":"N13","v":221},{"$f":"COUNTIF(L66:L79,AN13)","v":0},{"$f":"AO13/(AQ4-AO10)","v":0},{"$f":"IF(AP13=0,0,(AP13*((LOG(AP13))/LOG(2))))","v":0},null,{"$f":"N13","v":221},{"$f":"COUNTIF(L80:L94,AS13)","v":0},{"$f":"AT13/(AV4-AT10)","v":0},{"$f":"IF(AU13=0,0,(AU13*((LOG(AU13))/LOG(2))))","v":0}]
[11,850,11,855,12,860,null,null,null,null,0,111,null,222,{"$f":"COUNTIF($L$7:$L$500,N14)","v":5},{"$f":"O14/$Q$4","v":5.6818181818181816E-2},{"$f":"IF(P14=0,0,(P14*((LOG(P14))/LOG(2))))","v":-0.23508542748579178},null,null,{"$f":"N14","v":222},{"$f":"COUNTIF(L7:L21,T14)","v":0},{"$f":"U14/(W4-U10)","v":0},{"$f":"IF(V14=0,0,(V14*((LOG(V14))/LOG(2))))","v":0},null,{"$f":"N14","v":222},{"$f":"COUNTIF(L22:L35,Y14)","v":0},{"$f":"Z14/(AB4-Z10)","v":0},{"$f":"IF(AA14=0,0,(AA14*((LOG(AA14))/LOG(2))))","v":0},null,{"$f":"N14","v":222},{"$f":"COUNTIF(L36:L50,AD14)","v":3},{"$f":"AE14/(AG4-AE10)","v":0.21428571428571427},{"$f":"IF(AF14=0,0,(AF14*((LOG(AF14))/LOG(2))))","v":-0.47622694742923877},null,{"$f":"N14","v":222},{"$f":"COUNTIF(L51:L65,AI14)","v":2},{"$f":"AJ14/(AL4-AJ10)","v":0.13333333333333333},{"$f":"IF(AK14=0,0,(AK14*((LOG(AK14))/LOG(2))))","v":-0.3875854127478025},null,{"$f":"N14","v":222},{"$f":"COUNTIF(L66:L79,AN14)","v":0},{"$f":"AO14/(AQ4-AO10)","v":0},{"$f":"IF(AP14=0,0,(AP14*((LOG(AP14))/LOG(2))))","v":0},null,{"$f":"N14","v":222},{"$f":"COUNTIF(L80:L94,AS14)","v":0},{"$f":"AT14/(AV4-AT10)","v":0},{"$f":"IF(AU14=0,0,(AU14*((LOG(AU14))/LOG(2))))","v":0}]
[11,958,11,964,21,976,null,null,null,null,0,112,null,null,null,{"$f":"SUM(P7:P14)","v":0.99999999999999989},{"$f":"-SUM(Q7:Q14)","v":1.7127720138781504},null,null,null,null,{"$f":"SUM(V7:V14)","v":1},{"$f":"-SUM(W7:W14)","v":0.91829583405448945},null,null,null,{"$f":"SUM(AA7:AA14)","v":1},{"$f":"-SUM(AB7:AB14)","v":0.84535093662243643},null,null,null,{"$f":"SUM(AF7:AF14)","v":1},{"$f":"-SUM(AG7:AG14)","v":1.2870540281187268},null,null,null,{"$f":"SUM(AK7:AK14)","v":1},{"$f":"-SUM(AL7:AL14)","v":1.2419460322060458},null,null,null,{"$f":"SUM(AP7:AP14)","v":1},{"$f":"-SUM(AQ7:AQ14)","v":1},null,null,null,{"$f":"SUM(AU7:AU14)","v":1},{"$f":"-SUM(AV7:AV14)","v":1.2958363892911637}]
[11,1067,11,1070,21,1098,null,null,null,null,0,112,null,null,null,"U=",{"$f":"Q15/(LOG(Q4)/LOG(2))","v":0.2651583165516167},null,null,null,null,"U1=",{"$f":"W15/(LOG(W4)/LOG(2))","v":0.23504518787566922},null,null,null,"U2=",{"$f":"AB15/(LOG(AB4)/LOG(2))","v":0.22203103044713901},null,null,null,"U3=",{"$f":"AG15/(LOG(AG4)/LOG(2))","v":0.32943180686078605},null,null,null,"U4=",{"$f":"AL15/(LOG(AL4)/LOG(2))","v":0.31788605332384695},null,null,null,"U5=",{"$f":"AQ15/(LOG(AQ4)/LOG(2))","v":0.26264953503719357},null,null,null,"U6=",{"$f":"AV15/(LOG(AV4)/LOG(2))","v":0.3316797226796494}]
[11,1193,22,1222,23,1233,null,null,null,null,0,122]
[11,1330,11,1340,21,1353,null,null,null,null,0,112]
[11,1450,22,1477,23,1483,null,null,null,null,0,122,null,"Total Target Seq"]
[11,1583,11,1595,21,1610,null,null,null,null,0,112,null,{"$f":"COUNTIF(L7:L94,G3)","v":10},null,15,14,15,15,14,15]
[11,1706,22,1727,23,1733,null,null,null,null,0,122,null,null,null,"% of reinforcement given in 6 equal intervals based on number of trials "]
[11,1829,11,1842,12,1851,null,null,null,null,0,111,null,null,null,"%_1","%_2","%_3","%_4","%_5","%_6"]
[11,1951,11,1965,21,1989,null,null,null,null,0,112,null,null,"target sequence",{"$f":"$G$3","v":122},{"$f":"$G$3","v":122},{"$f":"$G$3","v":122},{"$f":"$G$3","v":122},{"$f":"$G$3","v":122},{"$f":"$G$3","v":122}]
[11,2084,11,2090,21,2106,null,null,null,null,0,112,null,null,"total reinforcement",{"$f":"U10","v":3},{"$f":"Z10","v":3},{"$f":"AE10","v":1},{"$f":"AJ10","v":0},{"$f":"AO10","v":2},{"$f":"AT10","v":1}]
[11,2204,22,2224,23,2231,null,null,null,null,0,122,null,null,"% target"]
[11,2333,22,2357,23,2389,null,null,null,null,0,122,null,null,"CCRF"]
[11,2495,11,2503,21,2515,null,null,null,null,0,112,null,null,"% CCRf"]
[11,2606,11,2610,21,2621,null,null,null,null,0,112,null,null,"average response rate",{"$f":"F21/P20","v":115.53333333333333},{"$f":"(F35-F21)/Q20","v":123.78571428571429},{"$f":"(F50-F35)/R20","v":119.13333333333334},{"$f":"(F65-F50)/S20","v":112.73333333333333},{"$f":"(F79-F65)/T20","v":114.42857142857143},{"$f":"(F94-F79)/U20","v":116.26666666666667}]
[11,2720,11,2728,21,2748,null,null,null,null,0,112]
[11,2845,11,2853,21,2875,null,null,null,null,0,112]
[11,2966,11,2970,12,2975,null,null,null,null,0,111]
[11,3073,11,3078,21,3095,null,null,null,null,0,112]
[11,3195,22,3222,23,3235,null,null,null,null,0,122]
[11,3332,11,3338,21,3359,null,null,null,null,0,112]
[11,3451,11,3462,12,3466,null,null,null,null,0,111]
[11,3566,11,3574,21,3618,null,null,null,null,0,112]
[11,3711,11,3715,21,3729,null,null,null,null,0,112]
[11,3830,11,3834,21,3851,null,null,null,null,0,112]
[11,3941,11,3945,21,3961,null,null,null,null,0,112]
[11,4051,11,4055,12,4058,null,null,null,null,0,111]
[11,4155,11,4158,12,4165,null,null,null,null,0,111]
[11,4267,11,4275,21,4294,null,null,null,null,0,112]
[11,4385,11,4388,21,4399,null,null,null,null,0,112]
[11,4489,11,4495,21,4523,null,null,null,null,0,112]
[11,4610,11,4613,21,4644,null,null,null,null,0,112]
[22,4738,24,4745,23,4750,null,null,null,null,0,222]
[11,4849,22,4867,23,4874,null,null,null,null,0,122]
[22,4979,24,4984,23,4995,null,null,null,null,0,222]
[22,5097,24,5122,23,5128,null,null,null,null,0,222]
[11,5233,11,5238,21,5253,null,null,null,null,0,112]
[11,5345,11,5348,12,5351,null,null,null,null,0,111]
[22,5447,24,5453,23,5468,null,null,null,null,0,222]
[11,5566,11,5571,12,5575,null,null,null,null,0,111]
[22,5672,24,5679,23,5685,null,null,null,null,0,222]
[11,5791,11,5798,21,5821,null,null,null,null,0,112]
[11,5912,11,5917,12,5923,null,null,null,null,0,111]
[11,6020,11,6023,12,6026,null,null,null,null,0,111]
[11,6122,11,6128,12,6135,null,null,null,null,0,111]
[11,6231,11,6234,12,6238,null,null,null,null,0,111]
[11,6341,11,6346,21,6382,null,null,null,null,0,112]
[11,6477,11,6481,12,6491,null,null,null,null,0,111]
[11,6587,11,6593,21,6620,null,null,null,null,0,112]
[11,6714,11,6718,12,6721,null,null,null,null,0,111]
[11,6817,11,6823,12,6828,null,null,null,null,0,111]
[11,6929,11,6940,12,6944,null,null,null,null,0,111]
[11,7045,11,7057,12,7061,null,null,null,null,0,111]
[11,7159,11,7162,12,7168,null,null,null,null,0,111]
[11,7264,11,7270,12,7276,null,null,null,null,0,111]
[11,7381,11,7395,21,7414,null,null,null,null,0,112]
[11,7508,11,7511,12,7515,null,null,null,null,0,111]
[11,7611,11,7615,12,7623,null,null,null,null,0,111]
[11,7720,11,7724,12,7727,null,null,null,null,0,111]
[11,7835,22,7855,23,7873,null,null,null,null,0,122]
[11,7969,11,7975,21,7986,null,null,null,null,0,112]
[11,8077,11,8083,21,8095,null,null,null,null,0,112]
[11,8185,11,8190,21,8211,null,null,null,null,0,112]
[11,8303,11,8306,21,8320,null,null,null,null,0,112]
[11,8414,22,8426,23,8432,null,null,null,null,0,122]
[11,8531,11,8535,21,8546,null,null,null,null,0,112]
[11,8638,11,8644,21,8658,null,null,null,null,0,112]
[11,8752,11,8764,12,8769,null,null,null,null,0,111]
[11,8868,11,8872,21,8895,null,null,null,null,0,112]
[11,8990,11,8993,12,8998,null,null,null,null,0,111]
[11,9097,11,9100,21,9127,null,null,null,null,0,112]
[11,9237,22,9267,23,9273,null,null,null,null,0,122]
[11,9369,11,9375,21,9391,null,null,null,null,0,112]
[11,9485,11,9490,12,9495,null,null,null,null,0,111]
[11,9591,11,9594,12,9598,null,null,null,null,0,111]
[11,9706,11,9709,12,9713,null,null,null,null,0,111]
[11,9809,11,9812,12,9817,null,null,null,null,0,111]
[11,9916,11,9920,12,9925,null,null,null,null,0,111]
[22,10025,13,10041,23,10060,null,null,null,null,0,212]
[11,10159,11,10163,21,10176,null,null,null,null,0,112]
[11,10271,11,10277,21,10290,null,null,null,null,1,112]