{"text_format":"1","workbook":"xlsx","n_sheets":32,"sheets":["Sample Report","Summary","Start","!N102920.010","!N103930.010","!N104A20.010","!N105910.010","!N106740.010","!N107800.010","!N108850.010","!N109740.010","!N110900.010","!N111930.010","!N112750.010","!N113900.010","!N114830.010","!N115840.010","!N116820.010","!N117A40.010","!N118950.010","!N119830.010","!N120940.010","!N121930.010","!N122820.010","!N123950.010","!N124850.010","!N125850.010","!N126820.010","!N127950.010","!N128810.010","!N129940.010","!N130950.010"],"not_rendered":{"charts":0,"images":0,"macros":1,"external_links":0,"defined_names":0,"comments":0,"pivot_tables":0},"unopened":[],"bounds":{"document_bytes":16777216,"sheet_cells":100000,"rows_first":2000,"rows_last":500,"rows_between":2000,"halvings":0,"cell_chars":16384,"cell_head_chars":4096},"cells_cut":0,"cells_raw":0,"read":"whole","date_system":"1900"}

{"sheet":"Sample Report","index":0,"n_rows":12,"n_cols":11,"rows_kept":12,"cut":false,"hidden":true,"merged":[[7,0,7,6]]}
[]
["Date"]
["Hen"]
["Program"]
["Start at 999999"]
["Sequence component 1","Time 1","Seqeunce Component 2","Time 2","Seqeunce Component 3","Time 3","Correct   0 = No 1=Yes",null,null,"Seqeunce","Time"]
[12,7,12,42,13,18,"if 77 new line,                                  if 31 or 41 = yes new line on 77, ",null,null,"=string of Seqeunce compponent 1, 2 & 3","=time 3"]
["This continues until ther is a 1 on its own to indicate start of summary data"]
[null,null,null,null,null,null,null,null,null,"10-19 =1"]
["Summary Data ",null,null,null,null,null,null,null,null,"20-29 =2"]
["Correct","Incorrect","Rft","total","Av Correct","Av Incorrect","Percent correct","Time",null,"in this example the seqeunce would be 111"]
[40,33,40,73,23.95,15,54,806]

{"sheet":"Summary","index":1,"n_rows":32,"n_cols":24,"rows_kept":32,"cut":false,"hidden":false,"merged":[]}
[]
["Day","Date","Average Response Rate","Target %","RF for non correct sequence","U Value",null,null,null,null,"Block 1","Block 2","Block 3","Block 4","Block 5","Block 6"]
[1,{"$f":"'!N102920.010'!B2:C2","v":"<date>"},{"$f":"('!N102920.010'!F194/60)/'!N102920.010'!Q3","v":2.1062610229276895},{"$f":"'!N102920.010'!N20/'!N102920.010'!Q3","v":0},{"$f":"SUM('!N102920.010'!L20:Q20)/'!N102920.010'!Q3","v":0.92063492063492058},{"$f":"'!N102920.010'!Q16","v":9.0267694754204403E-2},null,null,null,"Average Response Rate",{"$f":"AVERAGE(C3:C7)","v":7.543356819280878},{"$f":"AVERAGE(C8:C12)","v":22.99379074927462},{"$f":"AVERAGE(C13:C17)","v":39.356974358974362},{"$f":"AVERAGE(C18:C22)","v":39.404000000000003},{"$f":"AVERAGE(C23:C27)","v":22.840913105413104},{"$f":"AVERAGE(C28:C32)","v":19.47425595238095}]
[2,{"$f":"'!N103930.010'!B2:C2","v":"<date>"},{"$f":"('!N103930.010'!F99/60)/'!N103930.010'!Q3","v":4.2922939068100359},{"$f":"'!N103930.010'!N20/'!N103930.010'!Q3","v":0},{"$f":"SUM('!N103930.010'!L20:Q20)/'!N103930.010'!Q3","v":1.5268817204301075},{"$f":"'!N103930.010'!Q16","v":8.0193072899464701E-2},null,null,null,"Target %",{"$f":"AVERAGE(D3:D7)","v":0},{"$f":"AVERAGE(D8:D12)","v":0},{"$f":"AVERAGE(D13:D17)","v":0},{"$f":"AVERAGE(D18:D22)","v":0},{"$f":"AVERAGE(D23:D27)","v":0},{"$f":"AVERAGE(D28:D32)","v":9.2592592592592587E-3}]
[3,{"$f":"'!N104A20.010'!B2:C2","v":"<date>"},{"$f":"('!N104A20.010'!F38/60)/'!N104A20.010'!Q3","v":7.4276041666666668},{"$f":"'!N104A20.010'!N20/'!N104A20.010'!Q3","v":0},{"$f":"SUM('!N104A20.010'!L20:Q20)/'!N104A20.010'!Q3","v":3.8125},{"$f":"'!N104A20.010'!Q16","v":8.9772897744605867E-2},null,null,null,"CCRF",{"$f":"AVERAGE(E3:E7)","v":2.8716461853558628},{"$f":"AVERAGE(E8:E12)","v":3.447250384024577},{"$f":"AVERAGE(E13:E17)","v":3.3215384615384616},{"$f":"AVERAGE(E18:E22)","v":2.6465789473684214},{"$f":"AVERAGE(E23:E27)","v":4.0415384615384609},{"$f":"AVERAGE(E28:E32)","v":2.3862433862433869}]
[4,{"$f":"'!N105910.010'!B2:C2","v":"<date>"},{"$f":"('!N105910.010'!F38/60)/'!N105910.010'!Q3","v":11.178125},{"$f":"'!N105910.010'!N20/'!N105910.010'!Q3","v":0},{"$f":"SUM('!N105910.010'!L20:Q20)/'!N105910.010'!Q3","v":3.8125},{"$f":"'!N105910.010'!Q16","v":0.16225562489182657},null,null,null,"U Value",{"$f":"AVERAGE(F3:F7)","v":0.10493476566267364},{"$f":"AVERAGE(F8:F12)","v":0.26430645456891388},{"$f":"AVERAGE(F13:F17)","v":0.19528500243728045},{"$f":"AVERAGE(F18:F22)","v":0.18939866704235414},{"$f":"AVERAGE(F23:F27)","v":0.29165349634316634},{"$f":"AVERAGE(F28:F32)","v":0.26351010102468064}]
[5,{"$f":"'!N106740.010'!B2:C2","v":"<date>"},{"$f":"('!N106740.010'!F34/60)/'!N106740.010'!Q3","v":12.7125},{"$f":"'!N106740.010'!N20/'!N106740.010'!Q3","v":0},{"$f":"SUM('!N106740.010'!L20:Q20)/'!N106740.010'!Q3","v":4.2857142857142856},{"$f":"'!N106740.010'!Q16","v":0.10218453802326662}]
[6,{"$f":"'!N107800.010'!B2:C2","v":"<date>"},{"$f":"('!N107800.010'!F41/60)/'!N107800.010'!Q3","v":11.297619047619047},{"$f":"'!N107800.010'!N20/'!N107800.010'!Q3","v":0},{"$f":"SUM('!N107800.010'!L20:Q20)/'!N107800.010'!Q3","v":3.5142857142857142},{"$f":"'!N107800.010'!Q16","v":0.1407463952568847}]
[7,{"$f":"'!N108850.010'!B2:C2","v":"<date>"},{"$f":"('!N108850.010'!F37/60)/'!N108850.010'!Q3","v":9.3774193548387093},{"$f":"'!N108850.010'!N20/'!N108850.010'!Q3","v":0},{"$f":"SUM('!N108850.010'!L20:Q20)/'!N108850.010'!Q3","v":7.4838709677419351},{"$f":"'!N108850.010'!Q16","v":0.15555077374472506},{"$f":"K3","v":7.543356819280878},22.99379074927462,39.356974358974362,39.404000000000003,22.840913105413104,19.47425595238095,{"$f":"K4","v":0},0,0,0,0,9.2592592592592587E-3,{"$f":"K6","v":0.10493476566267364},0.26430645456891388,0.19528500243728045,0.18939866704235414,0.29165349634316634,0.26351010102468064]
[8,{"$f":"'!N109740.010'!B2:C2","v":"<date>"},{"$f":"('!N109740.010'!F15/60)/'!N109740.010'!Q3","v":30.951851851851853},{"$f":"'!N109740.010'!N20/'!N109740.010'!Q3","v":0},{"$f":"SUM('!N109740.010'!L20:Q20)/'!N109740.010'!Q3","v":0.33333333333333331},{"$f":"'!N109740.010'!Q16","v":0.3126496871021503}]
[9,{"$f":"'!N110900.010'!B2:C2","v":"<date>"},{"$f":"('!N110900.010'!F27/60)/'!N110900.010'!Q3","v":6.4992063492063483},{"$f":"'!N110900.010'!N20/'!N110900.010'!Q3","v":0},{"$f":"SUM('!N110900.010'!L20:Q20)/'!N110900.010'!Q3","v":5.6190476190476186},{"$f":"'!N110900.010'!Q16","v":0.19650687450102033}]
[10,{"$f":"'!N111930.010'!B2:C2","v":"<date>"},{"$f":"('!N111930.010'!F13/60)/'!N111930.010'!Q3","v":56.842857142857142},{"$f":"'!N111930.010'!N20/'!N111930.010'!Q3","v":0},{"$f":"SUM('!N111930.010'!L20:Q20)/'!N111930.010'!Q3","v":0.2857142857142857},{"$f":"'!N111930.010'!Q16","v":0.516078542239789}]
[11,{"$f":"'!N112750.010'!B2:C2","v":"<date>"},{"$f":"('!N112750.010'!F15/60)/'!N112750.010'!Q3","v":20.829629629629629},{"$f":"'!N112750.010'!N20/'!N112750.010'!Q3","v":0},{"$f":"SUM('!N112750.010'!L20:Q20)/'!N112750.010'!Q3","v":0.33333333333333331},{"$f":"'!N112750.010'!Q16","v":0.24107968048484052}]
[12,{"$f":"'!N113900.010'!B2:C2","v":"<date>"},{"$f":"('!N113900.010'!F21/60)/'!N113900.010'!Q3","v":24.006666666666668},{"$f":"'!N113900.010'!N20/'!N113900.010'!Q3","v":0},{"$f":"SUM('!N113900.010'!L20:Q20)/'!N113900.010'!Q3","v":15.133333333333333},{"$f":"'!N113900.010'!Q16","v":0.23504518787566922}]
[13,{"$f":"'!N114830.010'!B2:C2","v":"<date>"},{"$f":"('!N114830.010'!F8/60)/'!N114830.010'!Q3","v":89.85},{"$f":"'!N114830.010'!N20/'!N114830.010'!Q3","v":0},{"$f":"SUM('!N114830.010'!L20:Q20)/'!N114830.010'!Q3","v":0.5},{"$f":"'!N114830.010'!Q16","v":0}]
[14,{"$f":"'!N115840.010'!B2:C2","v":"<date>"},{"$f":"('!N115840.010'!F15/60)/'!N115840.010'!Q3","v":35.470370370370375},{"$f":"'!N115840.010'!N20/'!N115840.010'!Q3","v":0},{"$f":"SUM('!N115840.010'!L20:Q20)/'!N115840.010'!Q3","v":0.33333333333333331},{"$f":"'!N115840.010'!Q16","v":0.28969008214284753}]
[15,{"$f":"'!N116820.010'!B2:C2","v":"<date>"},{"$f":"('!N116820.010'!F19/60)/'!N116820.010'!Q3","v":26.628205128205131},{"$f":"'!N116820.010'!N20/'!N116820.010'!Q3","v":0},{"$f":"SUM('!N116820.010'!L20:Q20)/'!N116820.010'!Q3","v":0.30769230769230771},{"$f":"'!N116820.010'!Q16","v":0.210610061683045}]
[16,{"$f":"'!N117A40.010'!B2:C2","v":"<date>"},{"$f":"('!N117A40.010'!F26/60)/'!N117A40.010'!Q3","v":18.830000000000002},{"$f":"'!N117A40.010'!N20/'!N117A40.010'!Q3","v":0},{"$f":"SUM('!N117A40.010'!L20:Q20)/'!N117A40.010'!Q3","v":5.9},{"$f":"'!N117A40.010'!Q16","v":0.23137821315975915}]
[17,{"$f":"'!N118950.010'!B2:C2","v":"<date>"},{"$f":"('!N118950.010'!F11/60)/'!N118950.010'!Q3","v":62.96},{"$f":"'!N118950.010'!N20/'!N118950.010'!Q3","v":0},{"$f":"SUM('!N118950.010'!L20:Q20)/'!N118950.010'!Q3","v":0.4},{"$f":"'!N118950.010'!Q16","v":0}]
[18,{"$f":"'!N119830.010'!B2:C2","v":"<date>"},{"$f":"('!N119830.010'!F25/60)/'!N119830.010'!Q3","v":9.5333333333333332},{"$f":"'!N119830.010'!N20/'!N119830.010'!Q3","v":0},{"$f":"SUM('!N119830.010'!L20:Q20)/'!N119830.010'!Q3","v":6.1578947368421053},{"$f":"'!N119830.010'!Q16","v":0.22350946723624165}]
[19,{"$f":"'!N120940.010'!B2:C2","v":"<date>"},{"$f":"('!N120940.010'!F11/60)/'!N120940.010'!Q3","v":56.696666666666673},{"$f":"'!N120940.010'!N20/'!N120940.010'!Q3","v":0},{"$f":"SUM('!N120940.010'!L20:Q20)/'!N120940.010'!Q3","v":0.4},{"$f":"'!N120940.010'!Q16","v":0.31091750708257104}]
[20,{"$f":"'!N121930.010'!B2:C2","v":"<date>"},{"$f":"('!N121930.010'!F14/60)/'!N121930.010'!Q3","v":49},{"$f":"'!N121930.010'!N20/'!N121930.010'!Q3","v":0},{"$f":"SUM('!N121930.010'!L20:Q20)/'!N121930.010'!Q3","v":0.375},{"$f":"'!N121930.010'!Q16","v":0.1811881477331988}]
[21,{"$f":"'!N122820.010'!B2:C2","v":"<date>"},{"$f":"('!N122820.010'!F11/60)/'!N122820.010'!Q3","v":42.406666666666666},{"$f":"'!N122820.010'!N20/'!N122820.010'!Q3","v":0},{"$f":"SUM('!N122820.010'!L20:Q20)/'!N122820.010'!Q3","v":0.4},{"$f":"'!N122820.010'!Q16","v":0.41816566007905159}]
[22,{"$f":"'!N123950.010'!B2:C2","v":"<date>"},{"$f":"('!N123950.010'!F24/60)/'!N123950.010'!Q3","v":17.05740740740741},{"$f":"'!N123950.010'!N20/'!N123950.010'!Q3","v":0},{"$f":"SUM('!N123950.010'!L20:Q20)/'!N123950.010'!Q3","v":12.666666666666666},{"$f":"'!N123950.010'!Q16","v":0.23767239446642913}]
[23,{"$f":"'!N124850.010'!B2:C2","v":"<date>"},{"$f":"('!N124850.010'!F15/60)/'!N124850.010'!Q3","v":35.379629629629633},{"$f":"'!N124850.010'!N20/'!N124850.010'!Q3","v":0},{"$f":"SUM('!N124850.010'!L20:Q20)/'!N124850.010'!Q3","v":0.33333333333333331},{"$f":"'!N124850.010'!Q16","v":0.3126496871021503}]
[24,{"$f":"'!N125850.010'!B2:C2","v":"<date>"},{"$f":"('!N125850.010'!F42/60)/'!N125850.010'!Q3","v":7.4467592592592586},{"$f":"'!N125850.010'!N20/'!N125850.010'!Q3","v":0},{"$f":"SUM('!N125850.010'!L20:Q20)/'!N125850.010'!Q3","v":6.5},{"$f":"'!N125850.010'!Q16","v":0.22069619110415292}]
[25,{"$f":"'!N126820.010'!B2:C2","v":"<date>"},{"$f":"('!N126820.010'!F19/60)/'!N126820.010'!Q3","v":11.914102564102564},{"$f":"'!N126820.010'!N20/'!N126820.010'!Q3","v":0},{"$f":"SUM('!N126820.010'!L20:Q20)/'!N126820.010'!Q3","v":0.30769230769230771},{"$f":"'!N126820.010'!Q16","v":0.26908354896404774}]
[26,{"$f":"'!N127950.010'!B2:C2","v":"<date>"},{"$f":"('!N127950.010'!F33/60)/'!N127950.010'!Q3","v":9.2956790123456781},{"$f":"'!N127950.010'!N20/'!N127950.010'!Q3","v":3.7037037037037035E-2},{"$f":"SUM('!N127950.010'!L20:Q20)/'!N127950.010'!Q3","v":4.4814814814814818},{"$f":"'!N127950.010'!Q16","v":0.20589828297968416}]
[27,{"$f":"'!N128810.010'!B2:C2","v":"<date>"},{"$f":"('!N128810.010'!F33/60)/'!N128810.010'!Q3","v":11.576543209876544},{"$f":"'!N128810.010'!N20/'!N128810.010'!Q3","v":0},{"$f":"SUM('!N128810.010'!L20:Q20)/'!N128810.010'!Q3","v":4.4444444444444446},{"$f":"'!N128810.010'!Q16","v":0.21825383247146807}]
[28,{"$f":"'!N129940.010'!B2:C2","v":"<date>"},{"$f":"('!N129940.010'!F18/60)/'!N129940.010'!Q3","v":10.14861111111111},{"$f":"'!N129940.010'!N20/'!N129940.010'!Q3","v":0},{"$f":"SUM('!N129940.010'!L20:Q20)/'!N129940.010'!Q3","v":0.33333333333333331},{"$f":"'!N129940.010'!Q16","v":0.27894294565112981}]
[29,{"$f":"'!N130950.010'!B2:C2","v":"<date>"},{"$f":"('!N130950.010'!F13/60)/'!N130950.010'!Q3","v":46.876190476190473},{"$f":"'!N130950.010'!N20/'!N130950.010'!Q3","v":0},{"$f":"SUM('!N130950.010'!L20:Q20)/'!N130950.010'!Q3","v":0.2857142857142857},{"$f":"'!N130950.010'!Q16","v":0.35094534299644053}]
[30]

{"sheet":"Start","index":2,"n_rows":35,"n_cols":10,"rows_kept":35,"cut":false,"hidden":false,"merged":[]}
[null,null,null,null,null,"Use Folder 51",null,"Auto Clean Up",null,"Correct sequence"]
[null,null,null,null,null,false,null,true,null,211]
[]
["Working with Folder",null,null,null,null,null,"Process All/Or Pick A number: ALL or an integer"]
["E:\\Hen Data\\Raw Data\\102_182\\phase 1 repeat\\",null,null,null,null,null,"ALL"]
["Filenames:"]
["!N102920.010",null,null,null,null,null,"Paint Cells"]
["!N103930.010",null,null,null,null,null,false]
["!N104A20.010"]
["!N105910.010"]
["!N106740.010"]
["!N107800.010"]
["!N108850.010"]
["!N109740.010"]
["!N110900.010"]
["!N111930.010"]
["!N112750.010"]
["!N113900.010"]
["!N114830.010"]
["!N115840.010"]
["!N116820.010"]
["!N117A40.010"]
["!N118950.010"]
["!N119830.010"]
["!N120940.010"]
["!N121930.010"]
["!N122820.010"]
["!N123950.010"]
["!N124850.010"]
["!N125850.010"]
["!N126820.010"]
["!N127950.010"]
["!N128810.010"]
["!N129940.010"]
["!N130950.010"]

{"sheet":"!N102920.010","index":3,"n_rows":195,"n_cols":48,"rows_kept":195,"cut":false,"hidden":false,"merged":[[4,39,4,42],[5,39,5,40],[4,44,4,47],[5,44,5,45],[4,24,4,27],[5,24,5,25],[4,29,4,32],[5,29,5,30],[4,34,4,37],[5,34,5,35],[1,1,1,2],[5,13,5,14],[18,13,18,14],[19,13,19,14],[4,19,4,22],[5,19,5,20]]}
["Report for:!N102920.010"]
["Date:","<date>"]
["Hen:","<hen>",null,null,null,"Correct Sequence",{"$f":"Start!J2","v":211},null,null,null,null,null,null,null,null,"Total Sequences in Data",{"$f":"4994-COUNTBLANK(L7:L5000)","v":189},null,null,null,null,"Total Sequences in Block Data",{"$f":"COUNTA(L7:L38)","v":32},null,null,null,"Total Sequences in Block Data",{"$f":"COUNTA(L39:L69)","v":31},null,null,null,"Total Sequences in Block Data",{"$f":"COUNTA(L70:L101)","v":32},null,null,null,"Total Sequences in Block Data",{"$f":"COUNTA(L102:L132)","v":31},null,null,null,"Total Sequences in Block Data",{"$f":"COUNTA(L133:L164)","v":32},null,null,null,"Total Sequences in Block Data",{"$f":"COUNTA(L165:L195)","v":31}]
[null,null,null,null,null,null,null,null,null,null,null,null,null,null,null,"Total Sequences in Summary",{"$f":"SUM(O7:O14)","v":188},null,null,null,null,"Total Sequences in Block Summary",{"$f":"SUM(U7:U14)","v":32},null,null,null,"Total Sequences in Block Summary",{"$f":"SUM(Z7:Z14)","v":31},null,null,null,"Total Sequences in Block Summary",{"$f":"SUM(AE7:AE14)","v":32},null,null,null,"Total Sequences in Block Summary",{"$f":"SUM(AJ7:AJ14)","v":31},null,null,null,"Total Sequences in Block Summary",{"$f":"SUM(AO7:AO14)","v":32},null,null,null,"Total Sequences in Block Summary",{"$f":"SUM(AT7:AT14)","v":30}]
[null,null,null,null,null,null,null,null,null,null,null,null,null,null,null,null,null,null,null,"Block 1",null,null,null,null,"Block 2",null,null,null,null,"Block 3",null,null,null,null,"Block 4",null,null,null,null,"Block 5",null,null,null,null,"Block 6"]
["Sequence\nComponent\n1","Time\n1","Sequence\nComponent\n2","Time\n2","Sequence\nComponent\n3","Time\n3","Sequence\nComponent\n4","Time\n4","Sequence\nComponent\n5","Time\n5","Correct?\n0=No 1=Yes","Sequence",null,"Frequency",null,"Relative Frequency","Variability",null,null,"Frequency",null,"Relative Frequency","Variability",null,"Frequency",null,"Relative Frequency","Variability",null,"Frequency",null,"Relative Frequency","Variability",null,"Frequency",null,"Relative Frequency","Variability",null,"Frequency",null,"Relative Frequency","Variability",null,"Frequency",null,"Relative Frequency","Variability"]
[12,18,13,24,13,29,null,null,null,null,0,111,null,111,{"$f":"COUNTIF($L$7:$L$500,N7)","v":154},{"$f":"O7/$Q$4","v":0.81914893617021278},{"$f":"IF(P7=0,0,(P7*((LOG(P7))/LOG(2))))","v":-0.23575295686883696},null,null,{"$f":"N7","v":111},{"$f":"COUNTIF(L7:L38,T7)","v":29},{"$f":"U7/(W4-U11)","v":0.90625},{"$f":"IF(V7=0,0,(V7*((LOG(V7))/LOG(2))))","v":-0.12870472316563777},null,{"$f":"N7","v":111},{"$f":"COUNTIF(L39:L69,Y7)","v":28},{"$f":"Z7/(AB4-Z11)","v":0.90322580645161288},{"$f":"IF(AA7=0,0,(AA7*((LOG(AA7))/LOG(2))))","v":-0.13263093139418039},null,{"$f":"N7","v":111},{"$f":"COUNTIF(L70:L101,AD7)","v":28},{"$f":"AE7/(AG4-AE11)","v":0.875},{"$f":"IF(AF7=0,0,(AF7*((LOG(AF7))/LOG(2))))","v":-0.1685644431995964},null,{"$f":"N7","v":111},{"$f":"COUNTIF(L102:L132,AI7)","v":24},{"$f":"AJ7/(AL4-AJ11)","v":0.77419354838709675},{"$f":"IF(AK7=0,0,(AK7*((LOG(AK7))/LOG(2))))","v":-0.28585843328958893},null,{"$f":"N7","v":111},{"$f":"COUNTIF(L133:L164,AN7)","v":24},{"$f":"AO7/(AQ4-AO11)","v":0.75},{"$f":"IF(AP7=0,0,(AP7*((LOG(AP7))/LOG(2))))","v":-0.31127812445913283},null,{"$f":"N7","v":111},{"$f":"COUNTIF(L165:L195,AS7)","v":21},{"$f":"AT7/(AV4-AT11)","v":0.7},{"$f":"IF(AU7=0,0,(AU7*((LOG(AU7))/LOG(2))))","v":-0.36020122098083079}]
[12,137,13,141,13,146,null,null,null,null,0,111,null,112,{"$f":"COUNTIF($L$7:$L$500,N8)","v":0},{"$f":"O8/$Q$4","v":0},{"$f":"IF(P8=0,0,(P8*((LOG(P8))/LOG(2))))","v":0},null,null,{"$f":"N8","v":112},{"$f":"COUNTIF(L7:L38,T8)","v":0},{"$f":"U8/(W4-U11)","v":0},{"$f":"IF(V8=0,0,(V8*((LOG(V8))/LOG(2))))","v":0},null,{"$f":"N8","v":112},{"$f":"COUNTIF(L39:L69,Y8)","v":0},{"$f":"Z8/(AB4-Z11)","v":0},{"$f":"IF(AA8=0,0,(AA8*((LOG(AA8))/LOG(2))))","v":0},null,{"$f":"N8","v":112},{"$f":"COUNTIF(L70:L101,AD8)","v":0},{"$f":"AE8/(AG4-AE11)","v":0},{"$f":"IF(AF8=0,0,(AF8*((LOG(AF8))/LOG(2))))","v":0},null,{"$f":"N8","v":112},{"$f":"COUNTIF(L102:L132,AI8)","v":0},{"$f":"AJ8/(AL4-AJ11)","v":0},{"$f":"IF(AK8=0,0,(AK8*((LOG(AK8))/LOG(2))))","v":0},null,{"$f":"N8","v":112},{"$f":"COUNTIF(L133:L164,AN8)","v":0},{"$f":"AO8/(AQ4-AO11)","v":0},{"$f":"IF(AP8=0,0,(AP8*((LOG(AP8))/LOG(2))))","v":0},null,{"$f":"N8","v":112},{"$f":"COUNTIF(L165:L195,AS8)","v":0},{"$f":"AT8/(AV4-AT11)","v":0},{"$f":"IF(AU8=0,0,(AU8*((LOG(AU8))/LOG(2))))","v":0}]
[12,251,13,255,13,260,null,null,null,null,0,111,null,121,{"$f":"COUNTIF($L$7:$L$500,N9)","v":0},{"$f":"O9/$Q$4","v":0},{"$f":"IF(P9=0,0,(P9*((LOG(P9))/LOG(2))))","v":0},null,null,{"$f":"N9","v":121},{"$f":"COUNTIF(L7:L38,T9)","v":0},{"$f":"U9/(W4-U11)","v":0},{"$f":"IF(V9=0,0,(V9*((LOG(V9))/LOG(2))))","v":0},null,{"$f":"N9","v":121},{"$f":"COUNTIF(L39:L69,Y9)","v":0},{"$f":"Z9/(AB4-Z11)","v":0},{"$f":"IF(AA9=0,0,(AA9*((LOG(AA9))/LOG(2))))","v":0},null,{"$f":"N9","v":121},{"$f":"COUNTIF(L70:L101,AD9)","v":0},{"$f":"AE9/(AG4-AE11)","v":0},{"$f":"IF(AF9=0,0,(AF9*((LOG(AF9))/LOG(2))))","v":0},null,{"$f":"N9","v":121},{"$f":"COUNTIF(L102:L132,AI9)","v":0},{"$f":"AJ9/(AL4-AJ11)","v":0},{"$f":"IF(AK9=0,0,(AK9*((LOG(AK9))/LOG(2))))","v":0},null,{"$f":"N9","v":121},{"$f":"COUNTIF(L133:L164,AN9)","v":0},{"$f":"AO9/(AQ4-AO11)","v":0},{"$f":"IF(AP9=0,0,(AP9*((LOG(AP9))/LOG(2))))","v":0},null,{"$f":"N9","v":121},{"$f":"COUNTIF(L165:L195,AS9)","v":0},{"$f":"AT9/(AV4-AT11)","v":0},{"$f":"IF(AU9=0,0,(AU9*((LOG(AU9))/LOG(2))))","v":0}]
[12,368,13,380,13,394,null,null,null,null,0,111,null,122,{"$f":"COUNTIF($L$7:$L$500,N10)","v":0},{"$f":"O10/$Q$4","v":0},{"$f":"IF(P10=0,0,(P10*((LOG(P10))/LOG(2))))","v":0},null,null,{"$f":"N10","v":122},{"$f":"COUNTIF(L7:L38,T10)","v":0},{"$f":"U10/(W4-U11)","v":0},{"$f":"IF(V10=0,0,(V10*((LOG(V10))/LOG(2))))","v":0},null,{"$f":"N10","v":122},{"$f":"COUNTIF(L39:L69,Y10)","v":0},{"$f":"Z10/(AB4-Z11)","v":0},{"$f":"IF(AA10=0,0,(AA10*((LOG(AA10))/LOG(2))))","v":0},null,{"$f":"N10","v":122},{"$f":"COUNTIF(L70:L101,AD10)","v":0},{"$f":"AE10/(AG4-AE11)","v":0},{"$f":"IF(AF10=0,0,(AF10*((LOG(AF10))/LOG(2))))","v":0},null,{"$f":"N10","v":122},{"$f":"COUNTIF(L102:L132,AI10)","v":0},{"$f":"AJ10/(AL4-AJ11)","v":0},{"$f":"IF(AK10=0,0,(AK10*((LOG(AK10))/LOG(2))))","v":0},null,{"$f":"N10","v":122},{"$f":"COUNTIF(L133:L164,AN10)","v":0},{"$f":"AO10/(AQ4-AO11)","v":0},{"$f":"IF(AP10=0,0,(AP10*((LOG(AP10))/LOG(2))))","v":0},null,{"$f":"N10","v":122},{"$f":"COUNTIF(L165:L195,AS10)","v":0},{"$f":"AT10/(AV4-AT11)","v":0},{"$f":"IF(AU10=0,0,(AU10*((LOG(AU10))/LOG(2))))","v":0}]
[12,517,13,521,13,526,null,null,null,null,0,111,null,211,{"$f":"COUNTIF($L$7:$L$500,N11)","v":0},{"$f":"O11/$Q$4","v":0},{"$f":"IF(P11=0,0,(P11*((LOG(P11))/LOG(2))))","v":0},null,null,{"$f":"N11","v":211},{"$f":"COUNTIF(L7:L38,T11)","v":0},null,null,null,{"$f":"N11","v":211},{"$f":"COUNTIF(L39:L69,Y11)","v":0},null,null,null,{"$f":"N11","v":211},{"$f":"COUNTIF(L70:L101,AD11)","v":0},null,null,null,{"$f":"N11","v":211},{"$f":"COUNTIF(L102:L132,AI11)","v":0},null,null,null,{"$f":"N11","v":211},{"$f":"COUNTIF(L133:L164,AN11)","v":0},null,null,null,{"$f":"N11","v":211},{"$f":"COUNTIF(L165:L195,AS11)","v":0}]
[12,631,13,635,13,639,null,null,null,null,0,111,null,212,{"$f":"COUNTIF($L$7:$L$500,N12)","v":0},{"$f":"O12/$Q$4","v":0},{"$f":"IF(P12=0,0,(P12*((LOG(P12))/LOG(2))))","v":0},null,null,{"$f":"N12","v":212},{"$f":"COUNTIF(L7:L38,T12)","v":0},{"$f":"U12/(W4-U11)","v":0},{"$f":"IF(V12=0,0,(V12*((LOG(V12))/LOG(2))))","v":0},null,{"$f":"N12","v":212},{"$f":"COUNTIF(L39:L69,Y12)","v":0},{"$f":"Z12/(AB4-Z11)","v":0},{"$f":"IF(AA12=0,0,(AA12*((LOG(AA12))/LOG(2))))","v":0},null,{"$f":"N12","v":212},{"$f":"COUNTIF(L70:L101,AD12)","v":0},{"$f":"AE12/(AG4-AE11)","v":0},{"$f":"IF(AF12=0,0,(AF12*((LOG(AF12))/LOG(2))))","v":0},null,{"$f":"N12","v":212},{"$f":"COUNTIF(L102:L132,AI12)","v":0},{"$f":"AJ12/(AL4-AJ11)","v":0},{"$f":"IF(AK12=0,0,(AK12*((LOG(AK12))/LOG(2))))","v":0},null,{"$f":"N12","v":212},{"$f":"COUNTIF(L133:L164,AN12)","v":0},{"$f":"AO12/(AQ4-AO11)","v":0},{"$f":"IF(AP12=0,0,(AP12*((LOG(AP12))/LOG(2))))","v":0},null,{"$f":"N12","v":212},{"$f":"COUNTIF(L165:L195,AS12)","v":0},{"$f":"AT12/(AV4-AT11)","v":0},{"$f":"IF(AU12=0,0,(AU12*((LOG(AU12))/LOG(2))))","v":0}]
[12,746,13,750,13,754,null,null,null,null,0,111,null,221,{"$f":"COUNTIF($L$7:$L$500,N13)","v":0},{"$f":"O13/$Q$4","v":0},{"$f":"IF(P13=0,0,(P13*((LOG(P13))/LOG(2))))","v":0},null,null,{"$f":"N13","v":221},{"$f":"COUNTIF(L7:L38,T13)","v":0},{"$f":"U13/(W4-U11)","v":0},{"$f":"IF(V13=0,0,(V13*((LOG(V13))/LOG(2))))","v":0},null,{"$f":"N13","v":221},{"$f":"COUNTIF(L39:L69,Y13)","v":0},{"$f":"Z13/(AB4-Z11)","v":0},{"$f":"IF(AA13=0,0,(AA13*((LOG(AA13))/LOG(2))))","v":0},null,{"$f":"N13","v":221},{"$f":"COUNTIF(L70:L101,AD13)","v":0},{"$f":"AE13/(AG4-AE11)","v":0},{"$f":"IF(AF13=0,0,(AF13*((LOG(AF13))/LOG(2))))","v":0},null,{"$f":"N13","v":221},{"$f":"COUNTIF(L102:L132,AI13)","v":0},{"$f":"AJ13/(AL4-AJ11)","v":0},{"$f":"IF(AK13=0,0,(AK13*((LOG(AK13))/LOG(2))))","v":0},null,{"$f":"N13","v":221},{"$f":"COUNTIF(L133:L164,AN13)","v":0},{"$f":"AO13/(AQ4-AO11)","v":0},{"$f":"IF(AP13=0,0,(AP13*((LOG(AP13))/LOG(2))))","v":0},null,{"$f":"N13","v":221},{"$f":"COUNTIF(L165:L195,AS13)","v":0},{"$f":"AT13/(AV4-AT11)","v":0},{"$f":"IF(AU13=0,0,(AU13*((LOG(AU13))/LOG(2))))","v":0}]
[12,857,13,861,13,865,null,null,null,null,0,111,null,222,{"$f":"COUNTIF($L$7:$L$500,N14)","v":34},{"$f":"O14/$Q$4","v":0.18085106382978725},{"$f":"IF(P14=0,0,(P14*((LOG(P14))/LOG(2))))","v":-0.44618236358791558},null,null,{"$f":"N14","v":222},{"$f":"COUNTIF(L7:L38,T14)","v":3},{"$f":"U14/(W4-U11)","v":9.375E-2},{"$f":"IF(V14=0,0,(V14*((LOG(V14))/LOG(2))))","v":-0.32015976555739156},null,{"$f":"N14","v":222},{"$f":"COUNTIF(L39:L69,Y14)","v":3},{"$f":"Z14/(AB4-Z11)","v":9.6774193548387094E-2},{"$f":"IF(AA14=0,0,(AA14*((LOG(AA14))/LOG(2))))","v":-0.32605488480635986},null,{"$f":"N14","v":222},{"$f":"COUNTIF(L70:L101,AD14)","v":4},{"$f":"AE14/(AG4-AE11)","v":0.125},{"$f":"IF(AF14=0,0,(AF14*((LOG(AF14))/LOG(2))))","v":-0.375},null,{"$f":"N14","v":222},{"$f":"COUNTIF(L102:L132,AI14)","v":7},{"$f":"AJ14/(AL4-AJ11)","v":0.22580645161290322},{"$f":"IF(AK14=0,0,(AK14*((LOG(AK14))/LOG(2))))","v":-0.48477063607435156},null,{"$f":"N14","v":222},{"$f":"COUNTIF(L133:L164,AN14)","v":8},{"$f":"AO14/(AQ4-AO11)","v":0.25},{"$f":"IF(AP14=0,0,(AP14*((LOG(AP14))/LOG(2))))","v":-0.5},null,{"$f":"N14","v":222},{"$f":"COUNTIF(L165:L195,AS14)","v":9},{"$f":"AT14/(AV4-AT11)","v":0.3},{"$f":"IF(AU14=0,0,(AU14*((LOG(AU14))/LOG(2))))","v":-0.52108967824986185}]
[12,969,13,977,13,985,null,null,null,null,0,111,null,null,null,{"$f":"SUM(P7:P14)","v":1},{"$f":"-SUM(Q7:Q14)","v":0.68193532045675254},null,null,null,null,{"$f":"SUM(V7:V14)","v":1},{"$f":"-SUM(W7:W14)","v":0.44886448872302931},null,null,null,{"$f":"SUM(AA7:AA14)","v":1},{"$f":"-SUM(AB7:AB14)","v":0.45868581620054028},null,null,null,{"$f":"SUM(AF7:AF14)","v":1},{"$f":"-SUM(AG7:AG14)","v":0.5435644431995964},null,null,null,{"$f":"SUM(AK7:AK14)","v":1},{"$f":"-SUM(AL7:AL14)","v":0.77062906936394049},null,null,null,{"$f":"SUM(AP7:AP14)","v":1},{"$f":"-SUM(AQ7:AQ14)","v":0.81127812445913283},null,null,null,{"$f":"SUM(AU7:AU14)","v":1},{"$f":"-SUM(AV7:AV14)","v":0.8812908992306927}]
[12,1099,13,1109,13,1118,null,null,null,null,0,111,null,null,null,"U=",{"$f":"Q15/(LOG(Q4)/LOG(2))","v":9.0267694754204403E-2},null,null,null,null,"U1=",{"$f":"W15/(LOG(W4)/LOG(2))","v":8.9772897744605867E-2},null,null,null,"U2=",{"$f":"AB15/(LOG(AB4)/LOG(2))","v":9.2585313028243993E-2},null,null,null,"U3=",{"$f":"AG15/(LOG(AG4)/LOG(2))","v":0.10871288863991928},null,null,null,"U4=",{"$f":"AL15/(LOG(AL4)/LOG(2))","v":0.15555077374472506},null,null,null,"U5=",{"$f":"AQ15/(LOG(AQ4)/LOG(2))","v":0.16225562489182657},null,null,null,"U6=",{"$f":"AV15/(LOG(AV4)/LOG(2))","v":0.17960272030915356}]
[12,1233,13,1237,13,1241,null,null,null,null,0,111]
[12,1346,13,1350,13,1354,null,null,null,null,0,111]
[12,1458,13,1462,13,1488,null,null,null,null,0,111,null,"Total Target Seq"]
[12,1593,13,1600,13,1604,null,null,null,null,0,111,null,{"$f":"COUNTIF(L7:L195,G3)","v":0},null,32,31,32,31,32,31]
[12,1713,13,1721,13,1728,null,null,null,null,0,111,null,null,null,"% of reinforcement given in 6 equal intervals based on number of trials "]
[12,1833,13,1837,13,1841,null,null,null,null,0,111,null,null,null,"%_1","%_2","%_3","%_4","%_5","%_6"]
[12,1943,13,1947,13,1955,null,null,null,null,0,111,null,null,"target sequence",{"$f":"$G$3","v":211},{"$f":"$G$3","v":211},{"$f":"$G$3","v":211},{"$f":"$G$3","v":211},{"$f":"$G$3","v":211},{"$f":"$G$3","v":211}]
[12,2055,13,2061,13,2065,null,null,null,null,0,111,null,null,"total reinforcement",{"$f":"U11","v":0},{"$f":"Z11","v":0},{"$f":"AE11","v":0},{"$f":"AJ11","v":0},{"$f":"AO11","v":0},{"$f":"AT11","v":0}]
[12,2171,13,2175,13,2179,null,null,null,null,0,111,null,null,"% target"]
[12,2287,13,2296,13,2313,null,null,null,null,0,111,null,null,"CCRF"]
[12,2427,13,2439,13,2449,null,null,null,null,0,111,null,null,"% CCRf"]
[12,2561,13,2568,13,2576,null,null,null,null,0,111,null,null,"average response rate",{"$f":"F38/P20","v":119.90625},{"$f":"(F69-F38)/Q20","v":124.38709677419355},{"$f":"(F101-F69)/R20","v":122.40625},{"$f":"(F132-F101)/S20","v":119.38709677419355},{"$f":"(F164-F132)/T20","v":125.3125},{"$f":"(F195-F164)/U20","v":-623.25806451612902}]
[12,2680,13,2685,13,2705,null,null,null,null,0,111]
[12,2810,13,2814,13,2818,null,null,null,null,0,111]
[12,2930,13,2941,13,2947,null,null,null,null,0,111]
[21,3059,22,3064,24,3070,null,null,null,null,0,222]
[21,3181,22,3193,24,3200,null,null,null,null,0,222]
[12,3312,13,3318,13,3330,null,null,null,null,0,111]
[12,3436,13,3445,13,3462,null,null,null,null,0,111]
[12,3563,13,3572,13,3584,null,null,null,null,0,111]
[12,3689,13,3709,13,3720,null,null,null,null,0,111]
[21,3826,22,3830,24,3837,null,null,null,null,0,222]
[12,3941,13,3944,13,3948,null,null,null,null,0,111]
[12,4053,13,4061,13,4069,null,null,null,null,0,111]
[12,4173,13,4177,13,4207,null,null,null,null,0,111]
[21,4310,22,4314,24,4320,null,null,null,null,0,222]
[12,4425,13,4430,13,4433,null,null,null,null,0,111]
[12,4537,13,4541,13,4557,null,null,null,null,0,111]
[12,4657,13,4661,13,4672,null,null,null,null,0,111]
[12,4774,13,4778,13,4782,null,null,null,null,0,111]
[12,4887,13,4895,13,4916,null,null,null,null,0,111]
[12,5026,13,5046,13,5059,null,null,null,null,0,111]
[12,5159,13,5166,13,5170,null,null,null,null,0,111]
[12,5271,13,5275,13,5279,null,null,null,null,0,111]
[12,5388,13,5396,13,5413,null,null,null,null,0,111]
[12,5520,13,5524,13,5528,null,null,null,null,0,111]
[12,5629,13,5633,13,5637,null,null,null,null,0,111]
[12,5748,13,5780,13,5798,null,null,null,null,0,111]
[12,5913,13,5921,13,5926,null,null,null,null,0,111]
[12,6028,13,6032,13,6040,null,null,null,null,0,111]
[12,6141,13,6145,13,6149,null,null,null,null,0,111]
[12,6263,13,6268,13,6272,null,null,null,null,0,111]
[21,6448,22,6453,24,6457,null,null,null,null,0,222]
[21,6566,22,6570,24,6574,null,null,null,null,0,222]
[12,6687,13,6714,13,6726,null,null,null,null,0,111]
[12,6830,13,6836,13,6841,null,null,null,null,0,111]
[12,6944,13,6949,13,6967,null,null,null,null,0,111]
[12,7068,13,7079,13,7083,null,null,null,null,0,111]
[12,7189,13,7197,13,7201,null,null,null,null,0,111]
[12,7314,13,7322,13,7336,null,null,null,null,0,111]
[12,7448,13,7451,13,7460,null,null,null,null,0,111]
[12,7565,13,7570,13,7580,null,null,null,null,0,111]
[12,7681,13,7689,13,7693,null,null,null,null,0,111]
[21,7799,22,7806,24,7811,null,null,null,null,0,222]
[12,7920,13,7927,13,7944,null,null,null,null,0,111]
[12,8047,13,8055,13,8059,null,null,null,null,0,111]
[12,8160,13,8164,13,8169,null,null,null,null,0,111]
[12,8272,13,8281,13,8285,null,null,null,null,0,111]
[21,8398,22,8404,24,8411,null,null,null,null,0,222]
[12,8516,13,8524,13,8537,null,null,null,null,0,111]
[12,8646,13,8652,13,8660,null,null,null,null,0,111]
[12,8769,13,8773,13,8778,null,null,null,null,0,111]
[12,8887,13,8894,13,8908,null,null,null,null,0,111]
[12,9011,13,9018,13,9026,null,null,null,null,0,111]
[12,9133,13,9136,13,9140,null,null,null,null,0,111]
[12,9249,13,9262,13,9271,null,null,null,null,0,111]
[12,9372,13,9376,13,9383,null,null,null,null,0,111]
[12,9489,13,9494,13,9508,null,null,null,null,0,111]
[12,9612,13,9616,13,9621,null,null,null,null,0,111]
[12,9729,13,9733,13,9747,null,null,null,null,0,111]
[12,9850,13,9860,13,9870,null,null,null,null,0,111]
[12,9974,13,9983,13,10001,null,null,null,null,0,111]
[12,10110,13,10124,13,10139,null,null,null,null,0,111]
[12,10239,13,10243,13,10247,null,null,null,null,0,111]
[12,10359,13,10368,13,10374,null,null,null,null,0,111]
[12,10491,13,10495,13,10499,null,null,null,null,0,111]
[12,10610,13,10614,13,10618,null,null,null,null,0,111]
[12,10728,13,10737,13,10745,null,null,null,null,0,111]
[12,10855,13,10875,13,10880,null,null,null,null,0,111]
[12,10980,13,10985,13,10989,null,null,null,null,0,111]
[12,11099,13,11111,13,11127,null,null,null,null,0,111]
[21,11229,22,11237,24,11245,null,null,null,null,0,222]
[12,11349,13,11355,13,11376,null,null,null,null,0,111]
[12,11484,13,11488,13,11491,null,null,null,null,0,111]
[21,11598,22,11605,24,11610,null,null,null,null,0,222]
[21,11712,22,11720,24,11728,null,null,null,null,0,222]
[21,11834,22,11839,24,11844,null,null,null,null,0,222]
[12,11948,13,11952,13,11960,null,null,null,null,0,111]
[12,12073,13,12088,13,12094,null,null,null,null,0,111]
[12,12204,13,12214,13,12226,null,null,null,null,0,111]
[12,12335,13,12339,13,12343,null,null,null,null,0,111]
[21,12450,22,12454,24,12465,null,null,null,null,0,222]
[12,12569,13,12573,13,12578,null,null,null,null,0,111]
[12,12692,13,12700,13,12710,null,null,null,null,0,111]
[21,12814,22,12818,24,12823,null,null,null,null,0,222]
[12,12927,13,12932,13,12936,null,null,null,null,0,111]
[12,13048,13,13052,13,13061,null,null,null,null,0,111]
[12,13168,13,13176,13,13192,null,null,null,null,0,111]
[12,13292,13,13300,13,13305,null,null,null,null,0,111]
[12,13404,13,13408,13,13412,null,null,null,null,0,111]
[21,13524,22,13533,24,13537,null,null,null,null,0,222]
[12,13647,13,13652,13,13657,null,null,null,null,0,111]
[12,13757,13,13761,13,13776,null,null,null,null,0,111]
[12,13879,13,13886,13,13894,null,null,null,null,0,111]
[12,13998,13,14006,13,14014,null,null,null,null,0,111]
[12,14118,13,14122,13,14126,null,null,null,null,0,111]
[12,14225,13,14233,13,14237,null,null,null,null,0,111]
[12,14342,13,14346,13,14354,null,null,null,null,0,111]
[12,14463,13,14471,13,14491,null,null,null,null,0,111]
[12,14595,13,14599,13,14604,null,null,null,null,0,111]
[21,14705,22,14714,24,14718,null,null,null,null,0,222]
[12,14818,13,14822,13,14830,null,null,null,null,0,111]
[12,14945,13,14958,13,14970,null,null,null,null,0,111]
[21,15073,22,15077,24,15081,null,null,null,null,0,222]
[12,15182,13,15189,13,15197,null,null,null,null,0,111]
[12,15302,13,15306,13,15311,null,null,null,null,0,111]
[12,15415,13,15423,13,15439,null,null,null,null,0,111]
[21,15566,22,15571,24,15576,null,null,null,null,0,222]
[12,15676,13,15684,13,15688,null,null,null,null,0,111]
[12,15796,13,15805,13,15820,null,null,null,null,0,111]
[12,15930,13,15934,13,15961,null,null,null,null,0,111]
[12,16081,13,16094,13,16102,null,null,null,null,0,111]
[12,16209,13,16215,13,16219,null,null,null,null,0,111]
[12,16323,13,16327,13,16339,null,null,null,null,0,111]
[12,16438,13,16443,13,16447,null,null,null,null,0,111]
[12,16548,13,16552,13,16560,null,null,null,null,0,111]
[12,16662,13,16666,13,16671,null,null,null,null,0,111]
[21,16778,22,16783,24,16786,null,null,null,null,0,222]
[12,16886,13,16897,13,16901,null,null,null,null,0,111]
[12,17021,13,17025,13,17030,null,null,null,null,0,111]
[12,17130,13,17134,13,17141,null,null,null,null,0,111]
[21,17245,22,17257,24,17262,null,null,null,null,0,222]
[21,17365,22,17370,24,17374,null,null,null,null,0,222]
[12,17477,13,17482,13,17486,null,null,null,null,0,111]
[12,17590,13,17594,13,17598,null,null,null,null,0,111]
[12,17703,13,17707,13,17711,null,null,null,null,0,111]
[12,17822,13,17826,13,17830,null,null,null,null,0,111]
[21,17962,22,17967,24,17974,null,null,null,null,0,222]
[21,18091,22,18096,24,18100,null,null,null,null,0,222]
[12,18202,13,18207,13,18212,null,null,null,null,0,111]
[12,18332,13,18338,13,18347,null,null,null,null,0,111]
[12,18453,13,18458,13,18463,null,null,null,null,0,111]
[12,18565,13,18569,13,18573,null,null,null,null,0,111]
[21,18704,22,18709,24,18716,null,null,null,null,0,222]
[12,18831,13,18840,13,18843,null,null,null,null,0,111]
[21,18959,22,18963,24,18968,null,null,null,null,0,222]
[12,19190,13,19194,13,19204,null,null,null,null,0,111]
[12,19312,13,19317,13,19321,null,null,null,null,0,111]
[12,19431,13,19439,13,19446,null,null,null,null,0,111]
[12,19695,13,19705,13,19709,null,null,null,null,0,111]
[12,19816,13,19822,13,19826,null,null,null,null,0,111]
[12,19935,13,19939,13,19943,null,null,null,null,0,111]
[12,20086,13,20090,13,20094,null,null,null,null,0,111]
[12,20208,13,20212,13,20216,null,null,null,null,0,111]
[12,20324,13,20328,13,20333,null,null,null,null,0,111]
[12,20440,13,20445,13,20449,null,null,null,null,0,111]
[21,20559,22,20563,24,20569,null,null,null,null,0,222]
[21,20694,22,20699,24,20703,null,null,null,null,0,222]
[12,20861,13,20865,13,20874,null,null,null,null,0,111]
[12,21029,13,21034,13,21039,null,null,null,null,0,111]
[12,21303,13,21311,13,21324,null,null,null,null,0,111]
[21,21465,22,21476,24,21485,null,null,null,null,0,222]
[21,21602,22,21608,24,21614,null,null,null,null,0,222]
[12,21737,13,21741,13,21746,null,null,null,null,0,111]
[12,21883,13,21887,13,21892,null,null,null,null,0,111]
[21,22057,22,22061,24,22070,null,null,null,null,0,222]
[12,22302,13,22307,13,22311,null,null,null,null,0,111]
[21,22622,22,22628,24,22639,null,null,null,null,0,222]
[12,22758,13,22763,13,22768,null,null,null,null,0,111]
[12,22877,13,22882,13,22886,null,null,null,null,0,111]
[21,23000,22,23006,24,23016,null,null,null,null,0,222]
[21,23136,22,23140,24,23144,null,null,null,null,0,222]
[21,23255,22,23260,24,23265,null,null,null,null,0,222]
[12,23372,13,23376,13,23380,null,null,null,null,0,111]
[12,23494,13,23498,13,23502,null,null,null,null,0,111]
[12,23617,13,23621,13,23633,null,null,null,null,0,111]
[12,23740,13,23747,13,23756,null,null,null,null,0,111]
[12,23859,13,23867,13,23885,null,null,null,null,0,111]
[21,23993,22,23998,null,null,null,null,null,null,null,22]

{"sheet":"!N103930.010","index":4,"n_rows":99,"n_cols":48,"rows_kept":99,"cut":false,"hidden":false,"merged":[[4,39,4,42],[5,39,5,40],[4,44,4,47],[5,44,5,45],[4,24,4,27],[5,24,5,25],[4,29,4,32],[5,29,5,30],[4,34,4,37],[5,34,5,35],[1,1,1,2],[5,13,5,14],[18,13,18,14],[19,13,19,14],[4,19,4,22],[5,19,5,20]]}
["Report for:!N103930.010"]
["Date:","<date>"]
["Hen:","<hen>",null,null,null,"Correct Sequence",{"$f":"Start!J2","v":211},null,null,null,null,null,null,null,null,"Total Sequences in Data",{"$f":"4994-COUNTBLANK(L7:L5000)","v":93},null,null,null,null,"Total Sequences in Block Data",{"$f":"COUNTA(L7:L22)","v":16},null,null,null,"Total Sequences in Block Data",{"$f":"COUNTA(L23:L37)","v":15},null,null,null,"Total Sequences in Block Data",{"$f":"COUNTA(L38:L53)","v":16},null,null,null,"Total Sequences in Block Data",{"$f":"COUNTA(L54:L68)","v":15},null,null,null,"Total Sequences in Block Data",{"$f":"COUNTA(L69:L84)","v":16},null,null,null,"Total Sequences in Block Data",{"$f":"COUNTA(L85:L99)","v":15}]
[null,null,null,null,null,null,null,null,null,null,null,null,null,null,null,"Total Sequences in Summary",{"$f":"SUM(O7:O14)","v":93},null,null,null,null,"Total Sequences in Block Summary",{"$f":"SUM(U7:U14)","v":16},null,null,null,"Total Sequences in Block Summary",{"$f":"SUM(Z7:Z14)","v":15},null,null,null,"Total Sequences in Block Summary",{"$f":"SUM(AE7:AE14)","v":16},null,null,null,"Total Sequences in Block Summary",{"$f":"SUM(AJ7:AJ14)","v":15},null,null,null,"Total Sequences in Block Summary",{"$f":"SUM(AO7:AO14)","v":16},null,null,null,"Total Sequences in Block Summary",{"$f":"SUM(AT7:AT14)","v":15}]
[null,null,null,null,null,null,null,null,null,null,null,null,null,null,null,null,null,null,null,"Block 1",null,null,null,null,"Block 2",null,null,null,null,"Block 3",null,null,null,null,"Block 4",null,null,null,null,"Block 5",null,null,null,null,"Block 6"]
["Sequence\nComponent\n1","Time\n1","Sequence\nComponent\n2","Time\n2","Sequence\nComponent\n3","Time\n3","Sequence\nComponent\n4","Time\n4","Sequence\nComponent\n5","Time\n5","Correct?\n0=No 1=Yes","Sequence",null,"Frequency",null,"Relative Frequency","Variability",null,null,"Frequency",null,"Relative Frequency","Variability",null,"Frequency",null,"Relative Frequency","Variability",null,"Frequency",null,"Relative Frequency","Variability",null,"Frequency",null,"Relative Frequency","Variability",null,"Frequency",null,"Relative Frequency","Variability",null,"Frequency",null,"Relative Frequency","Variability"]
[12,126,13,130,13,135,null,null,null,null,0,111,null,111,{"$f":"COUNTIF($L$7:$L$500,N7)","v":82},{"$f":"O7/$Q$4","v":0.88172043010752688},{"$f":"IF(P7=0,0,(P7*((LOG(P7))/LOG(2))))","v":-0.1601264315287711},null,null,{"$f":"N7","v":111},{"$f":"COUNTIF(L7:L22,T7)","v":15},{"$f":"U7/(W4-U11)","v":0.9375},{"$f":"IF(V7=0,0,(V7*((LOG(V7))/LOG(2))))","v":-8.729006661701387E-2},null,{"$f":"N7","v":111},{"$f":"COUNTIF(L23:L37,Y7)","v":12},{"$f":"Z7/(AB4-Z11)","v":0.8},{"$f":"IF(AA7=0,0,(AA7*((LOG(AA7))/LOG(2))))","v":-0.25754247590988982},null,{"$f":"N7","v":111},{"$f":"COUNTIF(L38:L53,AD7)","v":14},{"$f":"AE7/(AG4-AE11)","v":0.875},{"$f":"IF(AF7=0,0,(AF7*((LOG(AF7))/LOG(2))))","v":-0.1685644431995964},null,{"$f":"N7","v":111},{"$f":"COUNTIF(L54:L68,AI7)","v":15},{"$f":"AJ7/(AL4-AJ11)","v":1},{"$f":"IF(AK7=0,0,(AK7*((LOG(AK7))/LOG(2))))","v":0},null,{"$f":"N7","v":111},{"$f":"COUNTIF(L69:L84,AN7)","v":13},{"$f":"AO7/(AQ4-AO11)","v":0.8125},{"$f":"IF(AP7=0,0,(AP7*((LOG(AP7))/LOG(2))))","v":-0.24339272901036266},null,{"$f":"N7","v":111},{"$f":"COUNTIF(L85:L99,AS7)","v":13},{"$f":"AT7/(AV4-AT11)","v":0.8666666666666667},{"$f":"IF(AU7=0,0,(AU7*((LOG(AU7))/LOG(2))))","v":-0.17892409380510282}]
[12,239,13,247,13,252,null,null,null,null,0,111,null,112,{"$f":"COUNTIF($L$7:$L$500,N8)","v":0},{"$f":"O8/$Q$4","v":0},{"$f":"IF(P8=0,0,(P8*((LOG(P8))/LOG(2))))","v":0},null,null,{"$f":"N8","v":112},{"$f":"COUNTIF(L7:L22,T8)","v":0},{"$f":"U8/(W4-U11)","v":0},{"$f":"IF(V8=0,0,(V8*((LOG(V8))/LOG(2))))","v":0},null,{"$f":"N8","v":112},{"$f":"COUNTIF(L23:L37,Y8)","v":0},{"$f":"Z8/(AB4-Z11)","v":0},{"$f":"IF(AA8=0,0,(AA8*((LOG(AA8))/LOG(2))))","v":0},null,{"$f":"N8","v":112},{"$f":"COUNTIF(L38:L53,AD8)","v":0},{"$f":"AE8/(AG4-AE11)","v":0},{"$f":"IF(AF8=0,0,(AF8*((LOG(AF8))/LOG(2))))","v":0},null,{"$f":"N8","v":112},{"$f":"COUNTIF(L54:L68,AI8)","v":0},{"$f":"AJ8/(AL4-AJ11)","v":0},{"$f":"IF(AK8=0,0,(AK8*((LOG(AK8))/LOG(2))))","v":0},null,{"$f":"N8","v":112},{"$f":"COUNTIF(L69:L84,AN8)","v":0},{"$f":"AO8/(AQ4-AO11)","v":0},{"$f":"IF(AP8=0,0,(AP8*((LOG(AP8))/LOG(2))))","v":0},null,{"$f":"N8","v":112},{"$f":"COUNTIF(L85:L99,AS8)","v":0},{"$f":"AT8/(AV4-AT11)","v":0},{"$f":"IF(AU8=0,0,(AU8*((LOG(AU8))/LOG(2))))","v":0}]
[21,369,22,383,24,388,null,null,null,null,0,222,null,121,{"$f":"COUNTIF($L$7:$L$500,N9)","v":0},{"$f":"O9/$Q$4","v":0},{"$f":"IF(P9=0,0,(P9*((LOG(P9))/LOG(2))))","v":0},null,null,{"$f":"N9","v":121},{"$f":"COUNTIF(L7:L22,T9)","v":0},{"$f":"U9/(W4-U11)","v":0},{"$f":"IF(V9=0,0,(V9*((LOG(V9))/LOG(2))))","v":0},null,{"$f":"N9","v":121},{"$f":"COUNTIF(L23:L37,Y9)","v":0},{"$f":"Z9/(AB4-Z11)","v":0},{"$f":"IF(AA9=0,0,(AA9*((LOG(AA9))/LOG(2))))","v":0},null,{"$f":"N9","v":121},{"$f":"COUNTIF(L38:L53,AD9)","v":0},{"$f":"AE9/(AG4-AE11)","v":0},{"$f":"IF(AF9=0,0,(AF9*((LOG(AF9))/LOG(2))))","v":0},null,{"$f":"N9","v":121},{"$f":"COUNTIF(L54:L68,AI9)","v":0},{"$f":"AJ9/(AL4-AJ11)","v":0},{"$f":"IF(AK9=0,0,(AK9*((LOG(AK9))/LOG(2))))","v":0},null,{"$f":"N9","v":121},{"$f":"COUNTIF(L69:L84,AN9)","v":0},{"$f":"AO9/(AQ4-AO11)","v":0},{"$f":"IF(AP9=0,0,(AP9*((LOG(AP9))/LOG(2))))","v":0},null,{"$f":"N9","v":121},{"$f":"COUNTIF(L85:L99,AS9)","v":0},{"$f":"AT9/(AV4-AT11)","v":0},{"$f":"IF(AU9=0,0,(AU9*((LOG(AU9))/LOG(2))))","v":0}]
[12,497,13,502,13,507,null,null,null,null,0,111,null,122,{"$f":"COUNTIF($L$7:$L$500,N10)","v":0},{"$f":"O10/$Q$4","v":0},{"$f":"IF(P10=0,0,(P10*((LOG(P10))/LOG(2))))","v":0},null,null,{"$f":"N10","v":122},{"$f":"COUNTIF(L7:L22,T10)","v":0},{"$f":"U10/(W4-U11)","v":0},{"$f":"IF(V10=0,0,(V10*((LOG(V10))/LOG(2))))","v":0},null,{"$f":"N10","v":122},{"$f":"COUNTIF(L23:L37,Y10)","v":0},{"$f":"Z10/(AB4-Z11)","v":0},{"$f":"IF(AA10=0,0,(AA10*((LOG(AA10))/LOG(2))))","v":0},null,{"$f":"N10","v":122},{"$f":"COUNTIF(L38:L53,AD10)","v":0},{"$f":"AE10/(AG4-AE11)","v":0},{"$f":"IF(AF10=0,0,(AF10*((LOG(AF10))/LOG(2))))","v":0},null,{"$f":"N10","v":122},{"$f":"COUNTIF(L54:L68,AI10)","v":0},{"$f":"AJ10/(AL4-AJ11)","v":0},{"$f":"IF(AK10=0,0,(AK10*((LOG(AK10))/LOG(2))))","v":0},null,{"$f":"N10","v":122},{"$f":"COUNTIF(L69:L84,AN10)","v":0},{"$f":"AO10/(AQ4-AO11)","v":0},{"$f":"IF(AP10=0,0,(AP10*((LOG(AP10))/LOG(2))))","v":0},null,{"$f":"N10","v":122},{"$f":"COUNTIF(L85:L99,AS10)","v":0},{"$f":"AT10/(AV4-AT11)","v":0},{"$f":"IF(AU10=0,0,(AU10*((LOG(AU10))/LOG(2))))","v":0}]
[12,611,13,621,13,625,null,null,null,null,0,111,null,211,{"$f":"COUNTIF($L$7:$L$500,N11)","v":0},{"$f":"O11/$Q$4","v":0},{"$f":"IF(P11=0,0,(P11*((LOG(P11))/LOG(2))))","v":0},null,null,{"$f":"N11","v":211},{"$f":"COUNTIF(L7:L22,T11)","v":0},null,null,null,{"$f":"N11","v":211},{"$f":"COUNTIF(L23:L37,Y11)","v":0},null,null,null,{"$f":"N11","v":211},{"$f":"COUNTIF(L38:L53,AD11)","v":0},null,null,null,{"$f":"N11","v":211},{"$f":"COUNTIF(L54:L68,AI11)","v":0},null,null,null,{"$f":"N11","v":211},{"$f":"COUNTIF(L69:L84,AN11)","v":0},null,null,null,{"$f":"N11","v":211},{"$f":"COUNTIF(L85:L99,AS11)","v":0}]
[12,730,13,735,13,740,null,null,null,null,0,111,null,212,{"$f":"COUNTIF($L$7:$L$500,N12)","v":0},{"$f":"O12/$Q$4","v":0},{"$f":"IF(P12=0,0,(P12*((LOG(P12))/LOG(2))))","v":0},null,null,{"$f":"N12","v":212},{"$f":"COUNTIF(L7:L22,T12)","v":0},{"$f":"U12/(W4-U11)","v":0},{"$f":"IF(V12=0,0,(V12*((LOG(V12))/LOG(2))))","v":0},null,{"$f":"N12","v":212},{"$f":"COUNTIF(L23:L37,Y12)","v":0},{"$f":"Z12/(AB4-Z11)","v":0},{"$f":"IF(AA12=0,0,(AA12*((LOG(AA12))/LOG(2))))","v":0},null,{"$f":"N12","v":212},{"$f":"COUNTIF(L38:L53,AD12)","v":0},{"$f":"AE12/(AG4-AE11)","v":0},{"$f":"IF(AF12=0,0,(AF12*((LOG(AF12))/LOG(2))))","v":0},null,{"$f":"N12","v":212},{"$f":"COUNTIF(L54:L68,AI12)","v":0},{"$f":"AJ12/(AL4-AJ11)","v":0},{"$f":"IF(AK12=0,0,(AK12*((LOG(AK12))/LOG(2))))","v":0},null,{"$f":"N12","v":212},{"$f":"COUNTIF(L69:L84,AN12)","v":0},{"$f":"AO12/(AQ4-AO11)","v":0},{"$f":"IF(AP12=0,0,(AP12*((LOG(AP12))/LOG(2))))","v":0},null,{"$f":"N12","v":212},{"$f":"COUNTIF(L85:L99,AS12)","v":0},{"$f":"AT12/(AV4-AT11)","v":0},{"$f":"IF(AU12=0,0,(AU12*((LOG(AU12))/LOG(2))))","v":0}]
[12,848,13,854,13,858,null,null,null,null,0,111,null,221,{"$f":"COUNTIF($L$7:$L$500,N13)","v":0},{"$f":"O13/$Q$4","v":0},{"$f":"IF(P13=0,0,(P13*((LOG(P13))/LOG(2))))","v":0},null,null,{"$f":"N13","v":221},{"$f":"COUNTIF(L7:L22,T13)","v":0},{"$f":"U13/(W4-U11)","v":0},{"$f":"IF(V13=0,0,(V13*((LOG(V13))/LOG(2))))","v":0},null,{"$f":"N13","v":221},{"$f":"COUNTIF(L23:L37,Y13)","v":0},{"$f":"Z13/(AB4-Z11)","v":0},{"$f":"IF(AA13=0,0,(AA13*((LOG(AA13))/LOG(2))))","v":0},null,{"$f":"N13","v":221},{"$f":"COUNTIF(L38:L53,AD13)","v":0},{"$f":"AE13/(AG4-AE11)","v":0},{"$f":"IF(AF13=0,0,(AF13*((LOG(AF13))/LOG(2))))","v":0},null,{"$f":"N13","v":221},{"$f":"COUNTIF(L54:L68,AI13)","v":0},{"$f":"AJ13/(AL4-AJ11)","v":0},{"$f":"IF(AK13=0,0,(AK13*((LOG(AK13))/LOG(2))))","v":0},null,{"$f":"N13","v":221},{"$f":"COUNTIF(L69:L84,AN13)","v":0},{"$f":"AO13/(AQ4-AO11)","v":0},{"$f":"IF(AP13=0,0,(AP13*((LOG(AP13))/LOG(2))))","v":0},null,{"$f":"N13","v":221},{"$f":"COUNTIF(L85:L99,AS13)","v":0},{"$f":"AT13/(AV4-AT11)","v":0},{"$f":"IF(AU13=0,0,(AU13*((LOG(AU13))/LOG(2))))","v":0}]
[12,977,13,1001,13,1007,null,null,null,null,0,111,null,222,{"$f":"COUNTIF($L$7:$L$500,N14)","v":11},{"$f":"O14/$Q$4","v":0.11827956989247312},{"$f":"IF(P14=0,0,(P14*((LOG(P14))/LOG(2))))","v":-0.3642688077115922},null,null,{"$f":"N14","v":222},{"$f":"COUNTIF(L7:L22,T14)","v":1},{"$f":"U14/(W4-U11)","v":6.25E-2},{"$f":"IF(V14=0,0,(V14*((LOG(V14))/LOG(2))))","v":-0.25},null,{"$f":"N14","v":222},{"$f":"COUNTIF(L23:L37,Y14)","v":3},{"$f":"Z14/(AB4-Z11)","v":0.2},{"$f":"IF(AA14=0,0,(AA14*((LOG(AA14))/LOG(2))))","v":-0.46438561897747244},null,{"$f":"N14","v":222},{"$f":"COUNTIF(L38:L53,AD14)","v":2},{"$f":"AE14/(AG4-AE11)","v":0.125},{"$f":"IF(AF14=0,0,(AF14*((LOG(AF14))/LOG(2))))","v":-0.375},null,{"$f":"N14","v":222},{"$f":"COUNTIF(L54:L68,AI14)","v":0},{"$f":"AJ14/(AL4-AJ11)","v":0},{"$f":"IF(AK14=0,0,(AK14*((LOG(AK14))/LOG(2))))","v":0},null,{"$f":"N14","v":222},{"$f":"COUNTIF(L69:L84,AN14)","v":3},{"$f":"AO14/(AQ4-AO11)","v":0.1875},{"$f":"IF(AP14=0,0,(AP14*((LOG(AP14))/LOG(2))))","v":-0.45281953111478312},null,{"$f":"N14","v":222},{"$f":"COUNTIF(L85:L99,AS14)","v":2},{"$f":"AT14/(AV4-AT11)","v":0.13333333333333333},{"$f":"IF(AU14=0,0,(AU14*((LOG(AU14))/LOG(2))))","v":-0.3875854127478025}]
[12,1115,13,1120,13,1124,null,null,null,null,0,111,null,null,null,{"$f":"SUM(P7:P14)","v":1},{"$f":"-SUM(Q7:Q14)","v":0.52439523924036324},null,null,null,null,{"$f":"SUM(V7:V14)","v":1},{"$f":"-SUM(W7:W14)","v":0.33729006661701388},null,null,null,{"$f":"SUM(AA7:AA14)","v":1},{"$f":"-SUM(AB7:AB14)","v":0.72192809488736231},null,null,null,{"$f":"SUM(AF7:AF14)","v":1},{"$f":"-SUM(AG7:AG14)","v":0.5435644431995964},null,null,null,{"$f":"SUM(AK7:AK14)","v":1},{"$f":"-SUM(AL7:AL14)","v":0},null,null,null,{"$f":"SUM(AP7:AP14)","v":1},{"$f":"-SUM(AQ7:AQ14)","v":0.69621226012514581},null,null,null,{"$f":"SUM(AU7:AU14)","v":1},{"$f":"-SUM(AV7:AV14)","v":0.56650950655290533}]
[12,1236,13,1242,13,1248,null,null,null,null,0,111,null,null,null,"U=",{"$f":"Q15/(LOG(Q4)/LOG(2))","v":8.0193072899464701E-2},null,null,null,null,"U1=",{"$f":"W15/(LOG(W4)/LOG(2))","v":8.4322516654253471E-2},null,null,null,"U2=",{"$f":"AB15/(LOG(AB4)/LOG(2))","v":0.18478328922208231},null,null,null,"U3=",{"$f":"AG15/(LOG(AG4)/LOG(2))","v":0.1358911107998991},null,null,null,"U4=",{"$f":"AL15/(LOG(AL4)/LOG(2))","v":0},null,null,null,"U5=",{"$f":"AQ15/(LOG(AQ4)/LOG(2))","v":0.17405306503128645},null,null,null,"U6=",{"$f":"AV15/(LOG(AV4)/LOG(2))","v":0.14500265433326487}]
[12,1358,13,1364,13,1369,null,null,null,null,0,111]
[12,1482,13,1487,13,1493,null,null,null,null,0,111]
[12,1601,13,1607,13,1612,null,null,null,null,0,111,null,"Total Target Seq"]
[12,1723,13,1728,13,1737,null,null,null,null,0,111,null,{"$f":"COUNTIF(L7:L99,G3)","v":0},null,16,15,16,15,16,15]
[12,1900,13,1905,13,1910,null,null,null,null,0,111,null,null,null,"% of reinforcement given in 6 equal intervals based on number of trials "]
[12,2024,13,2031,13,2046,null,null,null,null,0,111,null,null,null,"%_1","%_2","%_3","%_4","%_5","%_6"]
[12,2155,13,2160,13,2165,null,null,null,null,0,111,null,null,"target sequence",{"$f":"$G$3","v":211},{"$f":"$G$3","v":211},{"$f":"$G$3","v":211},{"$f":"$G$3","v":211},{"$f":"$G$3","v":211},{"$f":"$G$3","v":211}]
[21,2378,22,2382,24,2388,null,null,null,null,0,222,null,null,"total reinforcement",{"$f":"U11","v":0},{"$f":"Z11","v":0},{"$f":"AE11","v":0},{"$f":"AJ11","v":0},{"$f":"AO11","v":0},{"$f":"AT11","v":0}]
[12,2496,13,2500,13,2508,null,null,null,null,0,111,null,null,"% target"]
[21,2666,22,2675,24,2681,null,null,null,null,0,222,null,null,"CCRF"]
[21,3083,22,3089,24,3106,null,null,null,null,0,222,null,null,"% CCRf"]
[12,3711,13,3716,13,3724,null,null,null,null,0,111,null,null,"average response rate",{"$f":"F22/P20","v":127.875},{"$f":"(F37-F22)/Q20","v":397.73333333333335},{"$f":"(F53-F37)/R20","v":234.8125},{"$f":"(F68-F53)/S20","v":133.06666666666666},{"$f":"(F84-F68)/T20","v":145.3125},{"$f":"(F99-F84)/U20","v":524.06666666666672}]
[12,5024,13,5029,13,5034,null,null,null,null,0,111]
[12,6468,13,6475,13,6481,null,null,null,null,0,111]
[12,6590,13,6595,13,6600,null,null,null,null,0,111]
[12,6761,13,6766,13,6774,null,null,null,null,0,111]
[12,7419,13,7425,13,7431,null,null,null,null,0,111]
[12,7588,13,7594,13,7599,null,null,null,null,0,111]
[12,7720,13,7725,13,7730,null,null,null,null,0,111]
[12,7855,13,7863,13,7868,null,null,null,null,0,111]
[12,8002,13,8007,13,8012,null,null,null,null,0,111]
[12,8163,13,8168,13,8173,null,null,null,null,0,111]
[12,8317,13,8331,13,8336,null,null,null,null,0,111]
[21,8981,22,8987,24,8993,null,null,null,null,0,222]
[21,9250,22,9256,24,9268,null,null,null,null,0,222]
[12,9398,13,9403,13,9409,null,null,null,null,0,111]
[12,9525,13,9529,13,9535,null,null,null,null,0,111]
[12,9644,13,9649,13,9654,null,null,null,null,0,111]
[12,10531,13,10536,13,10541,null,null,null,null,0,111]
[12,10686,13,10691,13,10696,null,null,null,null,0,111]
[12,10825,13,10830,13,10835,null,null,null,null,0,111]
[12,10968,13,10978,13,10987,null,null,null,null,0,111]
[12,11225,13,11231,13,11236,null,null,null,null,0,111]
[12,11346,13,11351,13,11356,null,null,null,null,0,111]
[12,11479,13,11492,13,11500,null,null,null,null,0,111]
[12,11612,13,11620,13,11625,null,null,null,null,0,111]
[12,11750,13,11755,13,11769,null,null,null,null,0,111]
[12,11886,13,11891,13,11896,null,null,null,null,0,111]
[12,12164,13,12169,13,12173,null,null,null,null,0,111]
[12,12279,13,12284,13,12289,null,null,null,null,0,111]
[12,12403,13,12412,13,12419,null,null,null,null,0,111]
[12,12563,13,12567,13,12572,null,null,null,null,0,111]
[12,12680,13,12685,13,12689,null,null,null,null,0,111]
[12,12797,13,12802,13,12807,null,null,null,null,0,111]
[12,12909,13,12913,13,12918,null,null,null,null,0,111]
[12,13029,13,13034,13,13039,null,null,null,null,0,111]
[12,13142,13,13146,13,13151,null,null,null,null,0,111]
[12,13258,13,13262,13,13267,null,null,null,null,0,111]
[12,13374,13,13379,13,13401,null,null,null,null,0,111]
[12,13511,13,13519,13,13524,null,null,null,null,0,111]
[12,13633,13,13638,13,13642,null,null,null,null,0,111]
[12,13756,13,13760,13,13765,null,null,null,null,0,111]
[12,13867,13,13872,13,13876,null,null,null,null,0,111]
[12,13980,13,13984,13,13989,null,null,null,null,0,111]
[12,14092,13,14096,13,14101,null,null,null,null,0,111]
[12,14201,13,14206,13,14215,null,null,null,null,0,111]
[12,14325,13,14334,13,14338,null,null,null,null,0,111]
[12,14439,13,14443,13,14449,null,null,null,null,0,111]
[12,14556,13,14561,13,14566,null,null,null,null,0,111]
[12,14668,13,14673,13,14677,null,null,null,null,0,111]
[12,14779,13,14784,13,14788,null,null,null,null,0,111]
[12,14921,13,14926,13,14931,null,null,null,null,0,111]
[21,15095,22,15101,24,15107,null,null,null,null,0,222]
[12,15351,13,15361,13,15367,null,null,null,null,0,111]
[12,15477,13,15486,13,15490,null,null,null,null,0,111]
[21,15646,22,15652,24,15658,null,null,null,null,0,222]
[12,15799,13,15808,13,15813,null,null,null,null,0,111]
[21,16074,22,16083,24,16090,null,null,null,null,0,222]
[12,16273,13,16279,13,16289,null,null,null,null,0,111]
[12,16751,13,16757,13,16768,null,null,null,null,0,111]
[12,16895,13,16901,13,16906,null,null,null,null,0,111]
[12,19666,13,19676,13,19681,null,null,null,null,0,111]
[12,20492,13,20501,13,20506,null,null,null,null,0,111]
[12,20677,13,20682,13,20687,null,null,null,null,0,111]
[12,21688,13,21696,13,21701,null,null,null,null,0,111]
[12,22323,13,22328,13,22334,null,null,null,null,0,111]
[21,22479,22,22484,24,22489,null,null,null,null,0,222]
[12,22718,13,22723,13,22733,null,null,null,null,0,111]
[12,22840,13,22845,13,22850,null,null,null,null,0,111]
[21,22975,22,22979,24,22985,null,null,null,null,0,222]
[12,23217,13,23225,13,23230,null,null,null,null,0,111]
[12,23367,13,23376,13,23381,null,null,null,null,0,111]
[12,23942,13,23947,13,23951,null,null,null,null,null,111]

{"sheet":"!N104A20.010","index":5,"n_rows":38,"n_cols":48,"rows_kept":38,"cut":false,"hidden":false,"merged":[[4,39,4,42],[5,39,5,40],[4,44,4,47],[5,44,5,45],[4,24,4,27],[5,24,5,25],[4,29,4,32],[5,29,5,30],[4,34,4,37],[5,34,5,35],[1,1,1,2],[5,13,5,14],[18,13,18,14],[19,13,19,14],[4,19,4,22],[5,19,5,20]]}
["Report for:!N104A20.010"]
["Date:","<date>"]
["Hen:","<hen>",null,null,null,"Correct Sequence",{"$f":"Start!J2","v":211},null,null,null,null,null,null,null,null,"Total Sequences in Data",{"$f":"4994-COUNTBLANK(L7:L5000)","v":32},null,null,null,null,"Total Sequences in Block Data",{"$f":"COUNTA(L7:L11)","v":5},null,null,null,"Total Sequences in Block Data",{"$f":"COUNTA(L12:L17)","v":6},null,null,null,"Total Sequences in Block Data",{"$f":"COUNTA(L18:L22)","v":5},null,null,null,"Total Sequences in Block Data",{"$f":"COUNTA(L23:L27)","v":5},null,null,null,"Total Sequences in Block Data",{"$f":"COUNTA(L28:L33)","v":6},null,null,null,"Total Sequences in Block Data",{"$f":"COUNTA(L34:L38)","v":5}]
[null,null,null,null,null,null,null,null,null,null,null,null,null,null,null,"Total Sequences in Summary",{"$f":"SUM(O7:O14)","v":32},null,null,null,null,"Total Sequences in Block Summary",{"$f":"SUM(U7:U14)","v":5},null,null,null,"Total Sequences in Block Summary",{"$f":"SUM(Z7:Z14)","v":6},null,null,null,"Total Sequences in Block Summary",{"$f":"SUM(AE7:AE14)","v":5},null,null,null,"Total Sequences in Block Summary",{"$f":"SUM(AJ7:AJ14)","v":5},null,null,null,"Total Sequences in Block Summary",{"$f":"SUM(AO7:AO14)","v":6},null,null,null,"Total Sequences in Block Summary",{"$f":"SUM(AT7:AT14)","v":5}]
[null,null,null,null,null,null,null,null,null,null,null,null,null,null,null,null,null,null,null,"Block 1",null,null,null,null,"Block 2",null,null,null,null,"Block 3",null,null,null,null,"Block 4",null,null,null,null,"Block 5",null,null,null,null,"Block 6"]
["Sequence\nComponent\n1","Time\n1","Sequence\nComponent\n2","Time\n2","Sequence\nComponent\n3","Time\n3","Sequence\nComponent\n4","Time\n4","Sequence\nComponent\n5","Time\n5","Correct?\n0=No 1=Yes","Sequence",null,"Frequency",null,"Relative Frequency","Variability",null,null,"Frequency",null,"Relative Frequency","Variability",null,"Frequency",null,"Relative Frequency","Variability",null,"Frequency",null,"Relative Frequency","Variability",null,"Frequency",null,"Relative Frequency","Variability",null,"Frequency",null,"Relative Frequency","Variability",null,"Frequency",null,"Relative Frequency","Variability"]
[12,30,13,36,13,55,null,null,null,null,0,111,null,111,{"$f":"COUNTIF($L$7:$L$500,N7)","v":29},{"$f":"O7/$Q$4","v":0.90625},{"$f":"IF(P7=0,0,(P7*((LOG(P7))/LOG(2))))","v":-0.12870472316563777},null,null,{"$f":"N7","v":111},{"$f":"COUNTIF(L7:L11,T7)","v":5},{"$f":"U7/(W4-U11)","v":1},{"$f":"IF(V7=0,0,(V7*((LOG(V7))/LOG(2))))","v":0},null,{"$f":"N7","v":111},{"$f":"COUNTIF(L12:L17,Y7)","v":4},{"$f":"Z7/(AB4-Z11)","v":0.66666666666666663},{"$f":"IF(AA7=0,0,(AA7*((LOG(AA7))/LOG(2))))","v":-0.38997500048077083},null,{"$f":"N7","v":111},{"$f":"COUNTIF(L18:L22,AD7)","v":5},{"$f":"AE7/(AG4-AE11)","v":1},{"$f":"IF(AF7=0,0,(AF7*((LOG(AF7))/LOG(2))))","v":0},null,{"$f":"N7","v":111},{"$f":"COUNTIF(L23:L27,AI7)","v":4},{"$f":"AJ7/(AL4-AJ11)","v":0.8},{"$f":"IF(AK7=0,0,(AK7*((LOG(AK7))/LOG(2))))","v":-0.25754247590988982},null,{"$f":"N7","v":111},{"$f":"COUNTIF(L28:L33,AN7)","v":6},{"$f":"AO7/(AQ4-AO11)","v":1},{"$f":"IF(AP7=0,0,(AP7*((LOG(AP7))/LOG(2))))","v":0},null,{"$f":"N7","v":111},{"$f":"COUNTIF(L34:L38,AS7)","v":5},{"$f":"AT7/(AV4-AT11)","v":1},{"$f":"IF(AU7=0,0,(AU7*((LOG(AU7))/LOG(2))))","v":0}]
[12,163,13,168,13,172,null,null,null,null,0,111,null,112,{"$f":"COUNTIF($L$7:$L$500,N8)","v":0},{"$f":"O8/$Q$4","v":0},{"$f":"IF(P8=0,0,(P8*((LOG(P8))/LOG(2))))","v":0},null,null,{"$f":"N8","v":112},{"$f":"COUNTIF(L7:L11,T8)","v":0},{"$f":"U8/(W4-U11)","v":0},{"$f":"IF(V8=0,0,(V8*((LOG(V8))/LOG(2))))","v":0},null,{"$f":"N8","v":112},{"$f":"COUNTIF(L12:L17,Y8)","v":0},{"$f":"Z8/(AB4-Z11)","v":0},{"$f":"IF(AA8=0,0,(AA8*((LOG(AA8))/LOG(2))))","v":0},null,{"$f":"N8","v":112},{"$f":"COUNTIF(L18:L22,AD8)","v":0},{"$f":"AE8/(AG4-AE11)","v":0},{"$f":"IF(AF8=0,0,(AF8*((LOG(AF8))/LOG(2))))","v":0},null,{"$f":"N8","v":112},{"$f":"COUNTIF(L23:L27,AI8)","v":0},{"$f":"AJ8/(AL4-AJ11)","v":0},{"$f":"IF(AK8=0,0,(AK8*((LOG(AK8))/LOG(2))))","v":0},null,{"$f":"N8","v":112},{"$f":"COUNTIF(L28:L33,AN8)","v":0},{"$f":"AO8/(AQ4-AO11)","v":0},{"$f":"IF(AP8=0,0,(AP8*((LOG(AP8))/LOG(2))))","v":0},null,{"$f":"N8","v":112},{"$f":"COUNTIF(L34:L38,AS8)","v":0},{"$f":"AT8/(AV4-AT11)","v":0},{"$f":"IF(AU8=0,0,(AU8*((LOG(AU8))/LOG(2))))","v":0}]
[12,301,13,305,13,310,null,null,null,null,0,111,null,121,{"$f":"COUNTIF($L$7:$L$500,N9)","v":0},{"$f":"O9/$Q$4","v":0},{"$f":"IF(P9=0,0,(P9*((LOG(P9))/LOG(2))))","v":0},null,null,{"$f":"N9","v":121},{"$f":"COUNTIF(L7:L11,T9)","v":0},{"$f":"U9/(W4-U11)","v":0},{"$f":"IF(V9=0,0,(V9*((LOG(V9))/LOG(2))))","v":0},null,{"$f":"N9","v":121},{"$f":"COUNTIF(L12:L17,Y9)","v":0},{"$f":"Z9/(AB4-Z11)","v":0},{"$f":"IF(AA9=0,0,(AA9*((LOG(AA9))/LOG(2))))","v":0},null,{"$f":"N9","v":121},{"$f":"COUNTIF(L18:L22,AD9)","v":0},{"$f":"AE9/(AG4-AE11)","v":0},{"$f":"IF(AF9=0,0,(AF9*((LOG(AF9))/LOG(2))))","v":0},null,{"$f":"N9","v":121},{"$f":"COUNTIF(L23:L27,AI9)","v":0},{"$f":"AJ9/(AL4-AJ11)","v":0},{"$f":"IF(AK9=0,0,(AK9*((LOG(AK9))/LOG(2))))","v":0},null,{"$f":"N9","v":121},{"$f":"COUNTIF(L28:L33,AN9)","v":0},{"$f":"AO9/(AQ4-AO11)","v":0},{"$f":"IF(AP9=0,0,(AP9*((LOG(AP9))/LOG(2))))","v":0},null,{"$f":"N9","v":121},{"$f":"COUNTIF(L34:L38,AS9)","v":0},{"$f":"AT9/(AV4-AT11)","v":0},{"$f":"IF(AU9=0,0,(AU9*((LOG(AU9))/LOG(2))))","v":0}]
[12,410,13,415,13,419,null,null,null,null,0,111,null,122,{"$f":"COUNTIF($L$7:$L$500,N10)","v":0},{"$f":"O10/$Q$4","v":0},{"$f":"IF(P10=0,0,(P10*((LOG(P10))/LOG(2))))","v":0},null,null,{"$f":"N10","v":122},{"$f":"COUNTIF(L7:L11,T10)","v":0},{"$f":"U10/(W4-U11)","v":0},{"$f":"IF(V10=0,0,(V10*((LOG(V10))/LOG(2))))","v":0},null,{"$f":"N10","v":122},{"$f":"COUNTIF(L12:L17,Y10)","v":0},{"$f":"Z10/(AB4-Z11)","v":0},{"$f":"IF(AA10=0,0,(AA10*((LOG(AA10))/LOG(2))))","v":0},null,{"$f":"N10","v":122},{"$f":"COUNTIF(L18:L22,AD10)","v":0},{"$f":"AE10/(AG4-AE11)","v":0},{"$f":"IF(AF10=0,0,(AF10*((LOG(AF10))/LOG(2))))","v":0},null,{"$f":"N10","v":122},{"$f":"COUNTIF(L23:L27,AI10)","v":0},{"$f":"AJ10/(AL4-AJ11)","v":0},{"$f":"IF(AK10=0,0,(AK10*((LOG(AK10))/LOG(2))))","v":0},null,{"$f":"N10","v":122},{"$f":"COUNTIF(L28:L33,AN10)","v":0},{"$f":"AO10/(AQ4-AO11)","v":0},{"$f":"IF(AP10=0,0,(AP10*((LOG(AP10))/LOG(2))))","v":0},null,{"$f":"N10","v":122},{"$f":"COUNTIF(L34:L38,AS10)","v":0},{"$f":"AT10/(AV4-AT11)","v":0},{"$f":"IF(AU10=0,0,(AU10*((LOG(AU10))/LOG(2))))","v":0}]
[12,516,13,520,13,525,null,null,null,null,0,111,null,211,{"$f":"COUNTIF($L$7:$L$500,N11)","v":0},{"$f":"O11/$Q$4","v":0},{"$f":"IF(P11=0,0,(P11*((LOG(P11))/LOG(2))))","v":0},null,null,{"$f":"N11","v":211},{"$f":"COUNTIF(L7:L11,T11)","v":0},null,null,null,{"$f":"N11","v":211},{"$f":"COUNTIF(L12:L17,Y11)","v":0},null,null,null,{"$f":"N11","v":211},{"$f":"COUNTIF(L18:L22,AD11)","v":0},null,null,null,{"$f":"N11","v":211},{"$f":"COUNTIF(L23:L27,AI11)","v":0},null,null,null,{"$f":"N11","v":211},{"$f":"COUNTIF(L28:L33,AN11)","v":0},null,null,null,{"$f":"N11","v":211},{"$f":"COUNTIF(L34:L38,AS11)","v":0}]
[12,628,13,635,13,656,null,null,null,null,0,111,null,212,{"$f":"COUNTIF($L$7:$L$500,N12)","v":0},{"$f":"O12/$Q$4","v":0},{"$f":"IF(P12=0,0,(P12*((LOG(P12))/LOG(2))))","v":0},null,null,{"$f":"N12","v":212},{"$f":"COUNTIF(L7:L11,T12)","v":0},{"$f":"U12/(W4-U11)","v":0},{"$f":"IF(V12=0,0,(V12*((LOG(V12))/LOG(2))))","v":0},null,{"$f":"N12","v":212},{"$f":"COUNTIF(L12:L17,Y12)","v":0},{"$f":"Z12/(AB4-Z11)","v":0},{"$f":"IF(AA12=0,0,(AA12*((LOG(AA12))/LOG(2))))","v":0},null,{"$f":"N12","v":212},{"$f":"COUNTIF(L18:L22,AD12)","v":0},{"$f":"AE12/(AG4-AE11)","v":0},{"$f":"IF(AF12=0,0,(AF12*((LOG(AF12))/LOG(2))))","v":0},null,{"$f":"N12","v":212},{"$f":"COUNTIF(L23:L27,AI12)","v":0},{"$f":"AJ12/(AL4-AJ11)","v":0},{"$f":"IF(AK12=0,0,(AK12*((LOG(AK12))/LOG(2))))","v":0},null,{"$f":"N12","v":212},{"$f":"COUNTIF(L28:L33,AN12)","v":0},{"$f":"AO12/(AQ4-AO11)","v":0},{"$f":"IF(AP12=0,0,(AP12*((LOG(AP12))/LOG(2))))","v":0},null,{"$f":"N12","v":212},{"$f":"COUNTIF(L34:L38,AS12)","v":0},{"$f":"AT12/(AV4-AT11)","v":0},{"$f":"IF(AU12=0,0,(AU12*((LOG(AU12))/LOG(2))))","v":0}]
[12,773,13,778,13,782,null,null,null,null,0,111,null,221,{"$f":"COUNTIF($L$7:$L$500,N13)","v":0},{"$f":"O13/$Q$4","v":0},{"$f":"IF(P13=0,0,(P13*((LOG(P13))/LOG(2))))","v":0},null,null,{"$f":"N13","v":221},{"$f":"COUNTIF(L7:L11,T13)","v":0},{"$f":"U13/(W4-U11)","v":0},{"$f":"IF(V13=0,0,(V13*((LOG(V13))/LOG(2))))","v":0},null,{"$f":"N13","v":221},{"$f":"COUNTIF(L12:L17,Y13)","v":0},{"$f":"Z13/(AB4-Z11)","v":0},{"$f":"IF(AA13=0,0,(AA13*((LOG(AA13))/LOG(2))))","v":0},null,{"$f":"N13","v":221},{"$f":"COUNTIF(L18:L22,AD13)","v":0},{"$f":"AE13/(AG4-AE11)","v":0},{"$f":"IF(AF13=0,0,(AF13*((LOG(AF13))/LOG(2))))","v":0},null,{"$f":"N13","v":221},{"$f":"COUNTIF(L23:L27,AI13)","v":0},{"$f":"AJ13/(AL4-AJ11)","v":0},{"$f":"IF(AK13=0,0,(AK13*((LOG(AK13))/LOG(2))))","v":0},null,{"$f":"N13","v":221},{"$f":"COUNTIF(L28:L33,AN13)","v":0},{"$f":"AO13/(AQ4-AO11)","v":0},{"$f":"IF(AP13=0,0,(AP13*((LOG(AP13))/LOG(2))))","v":0},null,{"$f":"N13","v":221},{"$f":"COUNTIF(L34:L38,AS13)","v":0},{"$f":"AT13/(AV4-AT11)","v":0},{"$f":"IF(AU13=0,0,(AU13*((LOG(AU13))/LOG(2))))","v":0}]
[21,1002,22,1007,24,1011,null,null,null,null,0,222,null,222,{"$f":"COUNTIF($L$7:$L$500,N14)","v":3},{"$f":"O14/$Q$4","v":9.375E-2},{"$f":"IF(P14=0,0,(P14*((LOG(P14))/LOG(2))))","v":-0.32015976555739156},null,null,{"$f":"N14","v":222},{"$f":"COUNTIF(L7:L11,T14)","v":0},{"$f":"U14/(W4-U11)","v":0},{"$f":"IF(V14=0,0,(V14*((LOG(V14))/LOG(2))))","v":0},null,{"$f":"N14","v":222},{"$f":"COUNTIF(L12:L17,Y14)","v":2},{"$f":"Z14/(AB4-Z11)","v":0.33333333333333331},{"$f":"IF(AA14=0,0,(AA14*((LOG(AA14))/LOG(2))))","v":-0.52832083357371862},null,{"$f":"N14","v":222},{"$f":"COUNTIF(L18:L22,AD14)","v":0},{"$f":"AE14/(AG4-AE11)","v":0},{"$f":"IF(AF14=0,0,(AF14*((LOG(AF14))/LOG(2))))","v":0},null,{"$f":"N14","v":222},{"$f":"COUNTIF(L23:L27,AI14)","v":1},{"$f":"AJ14/(AL4-AJ11)","v":0.2},{"$f":"IF(AK14=0,0,(AK14*((LOG(AK14))/LOG(2))))","v":-0.46438561897747244},null,{"$f":"N14","v":222},{"$f":"COUNTIF(L28:L33,AN14)","v":0},{"$f":"AO14/(AQ4-AO11)","v":0},{"$f":"IF(AP14=0,0,(AP14*((LOG(AP14))/LOG(2))))","v":0},null,{"$f":"N14","v":222},{"$f":"COUNTIF(L34:L38,AS14)","v":0},{"$f":"AT14/(AV4-AT11)","v":0},{"$f":"IF(AU14=0,0,(AU14*((LOG(AU14))/LOG(2))))","v":0}]
[21,1171,22,1177,24,1182,null,null,null,null,0,222,null,null,null,{"$f":"SUM(P7:P14)","v":1},{"$f":"-SUM(Q7:Q14)","v":0.44886448872302931},null,null,null,null,{"$f":"SUM(V7:V14)","v":1},{"$f":"-SUM(W7:W14)","v":0},null,null,null,{"$f":"SUM(AA7:AA14)","v":1},{"$f":"-SUM(AB7:AB14)","v":0.91829583405448945},null,null,null,{"$f":"SUM(AF7:AF14)","v":1},{"$f":"-SUM(AG7:AG14)","v":0},null,null,null,{"$f":"SUM(AK7:AK14)","v":1},{"$f":"-SUM(AL7:AL14)","v":0.72192809488736231},null,null,null,{"$f":"SUM(AP7:AP14)","v":1},{"$f":"-SUM(AQ7:AQ14)","v":0},null,null,null,{"$f":"SUM(AU7:AU14)","v":1},{"$f":"-SUM(AV7:AV14)","v":0}]
[12,1283,13,1288,13,1292,null,null,null,null,0,111,null,null,null,"U=",{"$f":"Q15/(LOG(Q4)/LOG(2))","v":8.9772897744605867E-2},null,null,null,null,"U1=",{"$f":"W15/(LOG(W4)/LOG(2))","v":0},null,null,null,"U2=",{"$f":"AB15/(LOG(AB4)/LOG(2))","v":0.35524532127576403},null,null,null,"U3=",{"$f":"AG15/(LOG(AG4)/LOG(2))","v":0},null,null,null,"U4=",{"$f":"AL15/(LOG(AL4)/LOG(2))","v":0.31091750708257104},null,null,null,"U5=",{"$f":"AQ15/(LOG(AQ4)/LOG(2))","v":0},null,null,null,"U6=",{"$f":"AV15/(LOG(AV4)/LOG(2))","v":0}]
[12,1421,13,1426,13,1437,null,null,null,null,0,111]
[12,1555,13,1559,13,1564,null,null,null,null,0,111]
[12,1694,13,1699,13,1704,null,null,null,null,0,111,null,"Total Target Seq"]
[12,1919,13,1924,13,1929,null,null,null,null,0,111,null,{"$f":"COUNTIF(L7:L38,G3)","v":0},null,5,6,5,5,6,5]
[12,2684,13,2691,13,2697,null,null,null,null,0,111,null,null,null,"% of reinforcement given in 6 equal intervals based on number of trials "]
[12,2863,13,2871,13,2882,null,null,null,null,0,111,null,null,null,"%_1","%_2","%_3","%_4","%_5","%_6"]
[12,3976,13,3981,13,3986,null,null,null,null,0,111,null,null,"target sequence",{"$f":"$G$3","v":211},{"$f":"$G$3","v":211},{"$f":"$G$3","v":211},{"$f":"$G$3","v":211},{"$f":"$G$3","v":211},{"$f":"$G$3","v":211}]
[12,4103,13,4110,13,4115,null,null,null,null,0,111,null,null,"total reinforcement",{"$f":"U11","v":0},{"$f":"Z11","v":0},{"$f":"AE11","v":0},{"$f":"AJ11","v":0},{"$f":"AO11","v":0},{"$f":"AT11","v":0}]
[21,4722,22,4727,24,4732,null,null,null,null,0,222,null,null,"% target"]
[12,4888,13,4893,13,4898,null,null,null,null,0,111,null,null,"CCRF"]
[12,5207,13,5211,13,5216,null,null,null,null,0,111,null,null,"% CCRf"]
[12,5331,13,5339,13,5344,null,null,null,null,0,111,null,null,"average response rate",{"$f":"F11/P20","v":105},{"$f":"(F17-F11)/Q20","v":152},{"$f":"(F22-F17)/R20","v":289},{"$f":"(F27-F22)/S20","v":466.8},{"$f":"(F33-F27)/T20","v":156.33333333333334},{"$f":"(F38-F33)/U20","v":1621.4}]
[12,5476,13,5481,13,5486,null,null,null,null,0,111]
[12,5596,13,5600,13,5606,null,null,null,null,0,111]
[12,5727,13,5734,13,5740,null,null,null,null,0,111]
[12,5995,13,6000,13,6006,null,null,null,null,0,111]
[12,6144,13,6149,13,6154,null,null,null,null,0,111]
[12,8603,13,8608,13,8612,null,null,null,null,0,111]
[12,11730,13,11739,13,11744,null,null,null,null,0,111]
[12,12520,13,12531,13,12536,null,null,null,null,0,111]
[12,14128,13,14133,13,14139,null,null,null,null,0,111]
[12,14251,13,14256,13,14261,null,null,null,null,0,111]

{"sheet":"!N105910.010","index":6,"n_rows":38,"n_cols":48,"rows_kept":38,"cut":false,"hidden":false,"merged":[[4,39,4,42],[5,39,5,40],[4,44,4,47],[5,44,5,45],[4,24,4,27],[5,24,5,25],[4,29,4,32],[5,29,5,30],[4,34,4,37],[5,34,5,35],[1,1,1,2],[5,13,5,14],[18,13,18,14],[19,13,19,14],[4,19,4,22],[5,19,5,20]]}
["Report for:!N105910.010"]
["Date:","<date>"]
["Hen:","<hen>",null,null,null,"Correct Sequence",{"$f":"Start!J2","v":211},null,null,null,null,null,null,null,null,"Total Sequences in Data",{"$f":"4994-COUNTBLANK(L7:L5000)","v":32},null,null,null,null,"Total Sequences in Block Data",{"$f":"COUNTA(L7:L11)","v":5},null,null,null,"Total Sequences in Block Data",{"$f":"COUNTA(L12:L17)","v":6},null,null,null,"Total Sequences in Block Data",{"$f":"COUNTA(L18:L22)","v":5},null,null,null,"Total Sequences in Block Data",{"$f":"COUNTA(L23:L27)","v":5},null,null,null,"Total Sequences in Block Data",{"$f":"COUNTA(L28:L33)","v":6},null,null,null,"Total Sequences in Block Data",{"$f":"COUNTA(L34:L38)","v":5}]
[null,null,null,null,null,null,null,null,null,null,null,null,null,null,null,"Total Sequences in Summary",{"$f":"SUM(O7:O14)","v":32},null,null,null,null,"Total Sequences in Block Summary",{"$f":"SUM(U7:U14)","v":5},null,null,null,"Total Sequences in Block Summary",{"$f":"SUM(Z7:Z14)","v":6},null,null,null,"Total Sequences in Block Summary",{"$f":"SUM(AE7:AE14)","v":5},null,null,null,"Total Sequences in Block Summary",{"$f":"SUM(AJ7:AJ14)","v":5},null,null,null,"Total Sequences in Block Summary",{"$f":"SUM(AO7:AO14)","v":6},null,null,null,"Total Sequences in Block Summary",{"$f":"SUM(AT7:AT14)","v":5}]
[null,null,null,null,null,null,null,null,null,null,null,null,null,null,null,null,null,null,null,"Block 1",null,null,null,null,"Block 2",null,null,null,null,"Block 3",null,null,null,null,"Block 4",null,null,null,null,"Block 5",null,null,null,null,"Block 6"]
["Sequence\nComponent\n1","Time\n1","Sequence\nComponent\n2","Time\n2","Sequence\nComponent\n3","Time\n3","Sequence\nComponent\n4","Time\n4","Sequence\nComponent\n5","Time\n5","Correct?\n0=No 1=Yes","Sequence",null,"Frequency",null,"Relative Frequency","Variability",null,null,"Frequency",null,"Relative Frequency","Variability",null,"Frequency",null,"Relative Frequency","Variability",null,"Frequency",null,"Relative Frequency","Variability",null,"Frequency",null,"Relative Frequency","Variability",null,"Frequency",null,"Relative Frequency","Variability",null,"Frequency",null,"Relative Frequency","Variability"]
[12,176,13,181,13,186,null,null,null,null,0,111,null,111,{"$f":"COUNTIF($L$7:$L$500,N7)","v":24},{"$f":"O7/$Q$4","v":0.75},{"$f":"IF(P7=0,0,(P7*((LOG(P7))/LOG(2))))","v":-0.31127812445913283},null,null,{"$f":"N7","v":111},{"$f":"COUNTIF(L7:L11,T7)","v":5},{"$f":"U7/(W4-U11)","v":1},{"$f":"IF(V7=0,0,(V7*((LOG(V7))/LOG(2))))","v":0},null,{"$f":"N7","v":111},{"$f":"COUNTIF(L12:L17,Y7)","v":4},{"$f":"Z7/(AB4-Z11)","v":0.66666666666666663},{"$f":"IF(AA7=0,0,(AA7*((LOG(AA7))/LOG(2))))","v":-0.38997500048077083},null,{"$f":"N7","v":111},{"$f":"COUNTIF(L18:L22,AD7)","v":4},{"$f":"AE7/(AG4-AE11)","v":0.8},{"$f":"IF(AF7=0,0,(AF7*((LOG(AF7))/LOG(2))))","v":-0.25754247590988982},null,{"$f":"N7","v":111},{"$f":"COUNTIF(L23:L27,AI7)","v":5},{"$f":"AJ7/(AL4-AJ11)","v":1},{"$f":"IF(AK7=0,0,(AK7*((LOG(AK7))/LOG(2))))","v":0},null,{"$f":"N7","v":111},{"$f":"COUNTIF(L28:L33,AN7)","v":3},{"$f":"AO7/(AQ4-AO11)","v":0.5},{"$f":"IF(AP7=0,0,(AP7*((LOG(AP7))/LOG(2))))","v":-0.5},null,{"$f":"N7","v":111},{"$f":"COUNTIF(L34:L38,AS7)","v":3},{"$f":"AT7/(AV4-AT11)","v":0.6},{"$f":"IF(AU7=0,0,(AU7*((LOG(AU7))/LOG(2))))","v":-0.44217935649972373}]
[12,292,13,296,13,300,null,null,null,null,0,111,null,112,{"$f":"COUNTIF($L$7:$L$500,N8)","v":0},{"$f":"O8/$Q$4","v":0},{"$f":"IF(P8=0,0,(P8*((LOG(P8))/LOG(2))))","v":0},null,null,{"$f":"N8","v":112},{"$f":"COUNTIF(L7:L11,T8)","v":0},{"$f":"U8/(W4-U11)","v":0},{"$f":"IF(V8=0,0,(V8*((LOG(V8))/LOG(2))))","v":0},null,{"$f":"N8","v":112},{"$f":"COUNTIF(L12:L17,Y8)","v":0},{"$f":"Z8/(AB4-Z11)","v":0},{"$f":"IF(AA8=0,0,(AA8*((LOG(AA8))/LOG(2))))","v":0},null,{"$f":"N8","v":112},{"$f":"COUNTIF(L18:L22,AD8)","v":0},{"$f":"AE8/(AG4-AE11)","v":0},{"$f":"IF(AF8=0,0,(AF8*((LOG(AF8))/LOG(2))))","v":0},null,{"$f":"N8","v":112},{"$f":"COUNTIF(L23:L27,AI8)","v":0},{"$f":"AJ8/(AL4-AJ11)","v":0},{"$f":"IF(AK8=0,0,(AK8*((LOG(AK8))/LOG(2))))","v":0},null,{"$f":"N8","v":112},{"$f":"COUNTIF(L28:L33,AN8)","v":0},{"$f":"AO8/(AQ4-AO11)","v":0},{"$f":"IF(AP8=0,0,(AP8*((LOG(AP8))/LOG(2))))","v":0},null,{"$f":"N8","v":112},{"$f":"COUNTIF(L34:L38,AS8)","v":0},{"$f":"AT8/(AV4-AT11)","v":0},{"$f":"IF(AU8=0,0,(AU8*((LOG(AU8))/LOG(2))))","v":0}]
[12,406,13,410,13,415,null,null,null,null,0,111,null,121,{"$f":"COUNTIF($L$7:$L$500,N9)","v":0},{"$f":"O9/$Q$4","v":0},{"$f":"IF(P9=0,0,(P9*((LOG(P9))/LOG(2))))","v":0},null,null,{"$f":"N9","v":121},{"$f":"COUNTIF(L7:L11,T9)","v":0},{"$f":"U9/(W4-U11)","v":0},{"$f":"IF(V9=0,0,(V9*((LOG(V9))/LOG(2))))","v":0},null,{"$f":"N9","v":121},{"$f":"COUNTIF(L12:L17,Y9)","v":0},{"$f":"Z9/(AB4-Z11)","v":0},{"$f":"IF(AA9=0,0,(AA9*((LOG(AA9))/LOG(2))))","v":0},null,{"$f":"N9","v":121},{"$f":"COUNTIF(L18:L22,AD9)","v":0},{"$f":"AE9/(AG4-AE11)","v":0},{"$f":"IF(AF9=0,0,(AF9*((LOG(AF9))/LOG(2))))","v":0},null,{"$f":"N9","v":121},{"$f":"COUNTIF(L23:L27,AI9)","v":0},{"$f":"AJ9/(AL4-AJ11)","v":0},{"$f":"IF(AK9=0,0,(AK9*((LOG(AK9))/LOG(2))))","v":0},null,{"$f":"N9","v":121},{"$f":"COUNTIF(L28:L33,AN9)","v":0},{"$f":"AO9/(AQ4-AO11)","v":0},{"$f":"IF(AP9=0,0,(AP9*((LOG(AP9))/LOG(2))))","v":0},null,{"$f":"N9","v":121},{"$f":"COUNTIF(L34:L38,AS9)","v":0},{"$f":"AT9/(AV4-AT11)","v":0},{"$f":"IF(AU9=0,0,(AU9*((LOG(AU9))/LOG(2))))","v":0}]
[12,524,13,529,13,541,null,null,null,null,0,111,null,122,{"$f":"COUNTIF($L$7:$L$500,N10)","v":0},{"$f":"O10/$Q$4","v":0},{"$f":"IF(P10=0,0,(P10*((LOG(P10))/LOG(2))))","v":0},null,null,{"$f":"N10","v":122},{"$f":"COUNTIF(L7:L11,T10)","v":0},{"$f":"U10/(W4-U11)","v":0},{"$f":"IF(V10=0,0,(V10*((LOG(V10))/LOG(2))))","v":0},null,{"$f":"N10","v":122},{"$f":"COUNTIF(L12:L17,Y10)","v":0},{"$f":"Z10/(AB4-Z11)","v":0},{"$f":"IF(AA10=0,0,(AA10*((LOG(AA10))/LOG(2))))","v":0},null,{"$f":"N10","v":122},{"$f":"COUNTIF(L18:L22,AD10)","v":0},{"$f":"AE10/(AG4-AE11)","v":0},{"$f":"IF(AF10=0,0,(AF10*((LOG(AF10))/LOG(2))))","v":0},null,{"$f":"N10","v":122},{"$f":"COUNTIF(L23:L27,AI10)","v":0},{"$f":"AJ10/(AL4-AJ11)","v":0},{"$f":"IF(AK10=0,0,(AK10*((LOG(AK10))/LOG(2))))","v":0},null,{"$f":"N10","v":122},{"$f":"COUNTIF(L28:L33,AN10)","v":0},{"$f":"AO10/(AQ4-AO11)","v":0},{"$f":"IF(AP10=0,0,(AP10*((LOG(AP10))/LOG(2))))","v":0},null,{"$f":"N10","v":122},{"$f":"COUNTIF(L34:L38,AS10)","v":0},{"$f":"AT10/(AV4-AT11)","v":0},{"$f":"IF(AU10=0,0,(AU10*((LOG(AU10))/LOG(2))))","v":0}]
[12,642,13,646,13,650,null,null,null,null,0,111,null,211,{"$f":"COUNTIF($L$7:$L$500,N11)","v":0},{"$f":"O11/$Q$4","v":0},{"$f":"IF(P11=0,0,(P11*((LOG(P11))/LOG(2))))","v":0},null,null,{"$f":"N11","v":211},{"$f":"COUNTIF(L7:L11,T11)","v":0},null,null,null,{"$f":"N11","v":211},{"$f":"COUNTIF(L12:L17,Y11)","v":0},null,null,null,{"$f":"N11","v":211},{"$f":"COUNTIF(L18:L22,AD11)","v":0},null,null,null,{"$f":"N11","v":211},{"$f":"COUNTIF(L23:L27,AI11)","v":0},null,null,null,{"$f":"N11","v":211},{"$f":"COUNTIF(L28:L33,AN11)","v":0},null,null,null,{"$f":"N11","v":211},{"$f":"COUNTIF(L34:L38,AS11)","v":0}]
[12,754,13,758,13,767,null,null,null,null,0,111,null,212,{"$f":"COUNTIF($L$7:$L$500,N12)","v":0},{"$f":"O12/$Q$4","v":0},{"$f":"IF(P12=0,0,(P12*((LOG(P12))/LOG(2))))","v":0},null,null,{"$f":"N12","v":212},{"$f":"COUNTIF(L7:L11,T12)","v":0},{"$f":"U12/(W4-U11)","v":0},{"$f":"IF(V12=0,0,(V12*((LOG(V12))/LOG(2))))","v":0},null,{"$f":"N12","v":212},{"$f":"COUNTIF(L12:L17,Y12)","v":0},{"$f":"Z12/(AB4-Z11)","v":0},{"$f":"IF(AA12=0,0,(AA12*((LOG(AA12))/LOG(2))))","v":0},null,{"$f":"N12","v":212},{"$f":"COUNTIF(L18:L22,AD12)","v":0},{"$f":"AE12/(AG4-AE11)","v":0},{"$f":"IF(AF12=0,0,(AF12*((LOG(AF12))/LOG(2))))","v":0},null,{"$f":"N12","v":212},{"$f":"COUNTIF(L23:L27,AI12)","v":0},{"$f":"AJ12/(AL4-AJ11)","v":0},{"$f":"IF(AK12=0,0,(AK12*((LOG(AK12))/LOG(2))))","v":0},null,{"$f":"N12","v":212},{"$f":"COUNTIF(L28:L33,AN12)","v":0},{"$f":"AO12/(AQ4-AO11)","v":0},{"$f":"IF(AP12=0,0,(AP12*((LOG(AP12))/LOG(2))))","v":0},null,{"$f":"N12","v":212},{"$f":"COUNTIF(L34:L38,AS12)","v":0},{"$f":"AT12/(AV4-AT11)","v":0},{"$f":"IF(AU12=0,0,(AU12*((LOG(AU12))/LOG(2))))","v":0}]
[12,880,13,885,13,889,null,null,null,null,0,111,null,221,{"$f":"COUNTIF($L$7:$L$500,N13)","v":0},{"$f":"O13/$Q$4","v":0},{"$f":"IF(P13=0,0,(P13*((LOG(P13))/LOG(2))))","v":0},null,null,{"$f":"N13","v":221},{"$f":"COUNTIF(L7:L11,T13)","v":0},{"$f":"U13/(W4-U11)","v":0},{"$f":"IF(V13=0,0,(V13*((LOG(V13))/LOG(2))))","v":0},null,{"$f":"N13","v":221},{"$f":"COUNTIF(L12:L17,Y13)","v":0},{"$f":"Z13/(AB4-Z11)","v":0},{"$f":"IF(AA13=0,0,(AA13*((LOG(AA13))/LOG(2))))","v":0},null,{"$f":"N13","v":221},{"$f":"COUNTIF(L18:L22,AD13)","v":0},{"$f":"AE13/(AG4-AE11)","v":0},{"$f":"IF(AF13=0,0,(AF13*((LOG(AF13))/LOG(2))))","v":0},null,{"$f":"N13","v":221},{"$f":"COUNTIF(L23:L27,AI13)","v":0},{"$f":"AJ13/(AL4-AJ11)","v":0},{"$f":"IF(AK13=0,0,(AK13*((LOG(AK13))/LOG(2))))","v":0},null,{"$f":"N13","v":221},{"$f":"COUNTIF(L28:L33,AN13)","v":0},{"$f":"AO13/(AQ4-AO11)","v":0},{"$f":"IF(AP13=0,0,(AP13*((LOG(AP13))/LOG(2))))","v":0},null,{"$f":"N13","v":221},{"$f":"COUNTIF(L34:L38,AS13)","v":0},{"$f":"AT13/(AV4-AT11)","v":0},{"$f":"IF(AU13=0,0,(AU13*((LOG(AU13))/LOG(2))))","v":0}]
[12,1144,13,1148,13,1152,null,null,null,null,0,111,null,222,{"$f":"COUNTIF($L$7:$L$500,N14)","v":8},{"$f":"O14/$Q$4","v":0.25},{"$f":"IF(P14=0,0,(P14*((LOG(P14))/LOG(2))))","v":-0.5},null,null,{"$f":"N14","v":222},{"$f":"COUNTIF(L7:L11,T14)","v":0},{"$f":"U14/(W4-U11)","v":0},{"$f":"IF(V14=0,0,(V14*((LOG(V14))/LOG(2))))","v":0},null,{"$f":"N14","v":222},{"$f":"COUNTIF(L12:L17,Y14)","v":2},{"$f":"Z14/(AB4-Z11)","v":0.33333333333333331},{"$f":"IF(AA14=0,0,(AA14*((LOG(AA14))/LOG(2))))","v":-0.52832083357371862},null,{"$f":"N14","v":222},{"$f":"COUNTIF(L18:L22,AD14)","v":1},{"$f":"AE14/(AG4-AE11)","v":0.2},{"$f":"IF(AF14=0,0,(AF14*((LOG(AF14))/LOG(2))))","v":-0.46438561897747244},null,{"$f":"N14","v":222},{"$f":"COUNTIF(L23:L27,AI14)","v":0},{"$f":"AJ14/(AL4-AJ11)","v":0},{"$f":"IF(AK14=0,0,(AK14*((LOG(AK14))/LOG(2))))","v":0},null,{"$f":"N14","v":222},{"$f":"COUNTIF(L28:L33,AN14)","v":3},{"$f":"AO14/(AQ4-AO11)","v":0.5},{"$f":"IF(AP14=0,0,(AP14*((LOG(AP14))/LOG(2))))","v":-0.5},null,{"$f":"N14","v":222},{"$f":"COUNTIF(L34:L38,AS14)","v":2},{"$f":"AT14/(AV4-AT11)","v":0.4},{"$f":"IF(AU14=0,0,(AU14*((LOG(AU14))/LOG(2))))","v":-0.52877123795494496}]
[12,1287,13,1292,13,1296,null,null,null,null,0,111,null,null,null,{"$f":"SUM(P7:P14)","v":1},{"$f":"-SUM(Q7:Q14)","v":0.81127812445913283},null,null,null,null,{"$f":"SUM(V7:V14)","v":1},{"$f":"-SUM(W7:W14)","v":0},null,null,null,{"$f":"SUM(AA7:AA14)","v":1},{"$f":"-SUM(AB7:AB14)","v":0.91829583405448945},null,null,null,{"$f":"SUM(AF7:AF14)","v":1},{"$f":"-SUM(AG7:AG14)","v":0.72192809488736231},null,null,null,{"$f":"SUM(AK7:AK14)","v":1},{"$f":"-SUM(AL7:AL14)","v":0},null,null,null,{"$f":"SUM(AP7:AP14)","v":1},{"$f":"-SUM(AQ7:AQ14)","v":1},null,null,null,{"$f":"SUM(AU7:AU14)","v":1},{"$f":"-SUM(AV7:AV14)","v":0.97095059445466869}]
[21,1726,22,1734,24,1750,null,null,null,null,0,222,null,null,null,"U=",{"$f":"Q15/(LOG(Q4)/LOG(2))","v":0.16225562489182657},null,null,null,null,"U1=",{"$f":"W15/(LOG(W4)/LOG(2))","v":0},null,null,null,"U2=",{"$f":"AB15/(LOG(AB4)/LOG(2))","v":0.35524532127576403},null,null,null,"U3=",{"$f":"AG15/(LOG(AG4)/LOG(2))","v":0.31091750708257104},null,null,null,"U4=",{"$f":"AL15/(LOG(AL4)/LOG(2))","v":0},null,null,null,"U5=",{"$f":"AQ15/(LOG(AQ4)/LOG(2))","v":0.38685280723454163},null,null,null,"U6=",{"$f":"AV15/(LOG(AV4)/LOG(2))","v":0.41816566007905159}]
[21,3139,22,3147,24,3152,null,null,null,null,0,222]
[12,4914,13,4919,13,4925,null,null,null,null,0,111]
[12,5069,13,5082,13,5088,null,null,null,null,0,111,null,"Total Target Seq"]
[12,5239,13,5244,13,5250,null,null,null,null,0,111,null,{"$f":"COUNTIF(L7:L38,G3)","v":0},null,5,6,5,5,6,5]
[12,5371,13,5378,13,5383,null,null,null,null,0,111,null,null,null,"% of reinforcement given in 6 equal intervals based on number of trials "]
[21,5557,22,5564,24,5575,null,null,null,null,0,222,null,null,null,"%_1","%_2","%_3","%_4","%_5","%_6"]
[12,5714,13,5719,13,5724,null,null,null,null,0,111,null,null,"target sequence",{"$f":"$G$3","v":211},{"$f":"$G$3","v":211},{"$f":"$G$3","v":211},{"$f":"$G$3","v":211},{"$f":"$G$3","v":211},{"$f":"$G$3","v":211}]
[12,5850,13,5855,13,5860,null,null,null,null,0,111,null,null,"total reinforcement",{"$f":"U11","v":0},{"$f":"Z11","v":0},{"$f":"AE11","v":0},{"$f":"AJ11","v":0},{"$f":"AO11","v":0},{"$f":"AT11","v":0}]
[12,6006,13,6016,13,6021,null,null,null,null,0,111,null,null,"% target"]
[12,6334,13,6340,13,6346,null,null,null,null,0,111,null,null,"CCRF"]
[12,6465,13,6470,13,6478,null,null,null,null,0,111,null,null,"% CCRf"]
[12,6785,13,6792,13,6798,null,null,null,null,0,111,null,null,"average response rate",{"$f":"F11/P20","v":130},{"$f":"(F17-F11)/Q20","v":417},{"$f":"(F22-F17)/R20","v":484.6},{"$f":"(F27-F22)/S20","v":180.6},{"$f":"(F33-F27)/T20","v":416.5},{"$f":"(F38-F33)/U20","v":2497}]
[12,7489,13,7494,13,7516,null,null,null,null,0,111]
[21,8429,22,8435,24,8440,null,null,null,null,0,222]
[21,8549,22,8557,24,8562,null,null,null,null,0,222]
[21,8674,22,8679,24,8685,null,null,null,null,0,222]
[12,8966,13,8971,13,8977,null,null,null,null,0,111]
[12,10178,13,10183,13,10191,null,null,null,null,0,111]
[21,10372,22,10381,24,10386,null,null,null,null,0,222]
[12,10890,13,10901,13,10906,null,null,null,null,0,111]
[21,14986,22,15021,24,15031,null,null,null,null,0,222]
[12,21451,13,21456,13,21462,null,null,null,null,0,111]

{"sheet":"!N106740.010","index":7,"n_rows":34,"n_cols":48,"rows_kept":34,"cut":false,"hidden":false,"merged":[[4,39,4,42],[5,39,5,40],[4,44,4,47],[5,44,5,45],[4,24,4,27],[5,24,5,25],[4,29,4,32],[5,29,5,30],[4,34,4,37],[5,34,5,35],[1,1,1,2],[5,13,5,14],[18,13,18,14],[19,13,19,14],[4,19,4,22],[5,19,5,20]]}
["Report for:!N106740.010"]
["Date:","<date>"]
["Hen:","<hen>",null,null,null,"Correct Sequence",{"$f":"Start!J2","v":211},null,null,null,null,null,null,null,null,"Total Sequences in Data",{"$f":"4994-COUNTBLANK(L7:L5000)","v":28},null,null,null,null,"Total Sequences in Block Data",{"$f":"COUNTA(L7:L11)","v":5},null,null,null,"Total Sequences in Block Data",{"$f":"COUNTA(L12:L15)","v":4},null,null,null,"Total Sequences in Block Data",{"$f":"COUNTA(L16:L20)","v":5},null,null,null,"Total Sequences in Block Data",{"$f":"COUNTA(L21:L25)","v":5},null,null,null,"Total Sequences in Block Data",{"$f":"COUNTA(L26:L29)","v":4},null,null,null,"Total Sequences in Block Data",{"$f":"COUNTA(L30:L34)","v":5}]
[null,null,null,null,null,null,null,null,null,null,null,null,null,null,null,"Total Sequences in Summary",{"$f":"SUM(O7:O14)","v":28},null,null,null,null,"Total Sequences in Block Summary",{"$f":"SUM(U7:U14)","v":5},null,null,null,"Total Sequences in Block Summary",{"$f":"SUM(Z7:Z14)","v":4},null,null,null,"Total Sequences in Block Summary",{"$f":"SUM(AE7:AE14)","v":5},null,null,null,"Total Sequences in Block Summary",{"$f":"SUM(AJ7:AJ14)","v":5},null,null,null,"Total Sequences in Block Summary",{"$f":"SUM(AO7:AO14)","v":4},null,null,null,"Total Sequences in Block Summary",{"$f":"SUM(AT7:AT14)","v":5}]
[null,null,null,null,null,null,null,null,null,null,null,null,null,null,null,null,null,null,null,"Block 1",null,null,null,null,"Block 2",null,null,null,null,"Block 3",null,null,null,null,"Block 4",null,null,null,null,"Block 5",null,null,null,null,"Block 6"]
["Sequence\nComponent\n1","Time\n1","Sequence\nComponent\n2","Time\n2","Sequence\nComponent\n3","Time\n3","Sequence\nComponent\n4","Time\n4","Sequence\nComponent\n5","Time\n5","Correct?\n0=No 1=Yes","Sequence",null,"Frequency",null,"Relative Frequency","Variability",null,null,"Frequency",null,"Relative Frequency","Variability",null,"Frequency",null,"Relative Frequency","Variability",null,"Frequency",null,"Relative Frequency","Variability",null,"Frequency",null,"Relative Frequency","Variability",null,"Frequency",null,"Relative Frequency","Variability",null,"Frequency",null,"Relative Frequency","Variability"]
[12,22,13,27,13,31,null,null,null,null,0,111,null,111,{"$f":"COUNTIF($L$7:$L$500,N7)","v":25},{"$f":"O7/$Q$4","v":0.8928571428571429},{"$f":"IF(P7=0,0,(P7*((LOG(P7))/LOG(2))))","v":-0.14598101096685656},null,null,{"$f":"N7","v":111},{"$f":"COUNTIF(L7:L11,T7)","v":5},{"$f":"U7/(W4-U11)","v":1},{"$f":"IF(V7=0,0,(V7*((LOG(V7))/LOG(2))))","v":0},null,{"$f":"N7","v":111},{"$f":"COUNTIF(L12:L15,Y7)","v":4},{"$f":"Z7/(AB4-Z11)","v":1},{"$f":"IF(AA7=0,0,(AA7*((LOG(AA7))/LOG(2))))","v":0},null,{"$f":"N7","v":111},{"$f":"COUNTIF(L16:L20,AD7)","v":4},{"$f":"AE7/(AG4-AE11)","v":0.8},{"$f":"IF(AF7=0,0,(AF7*((LOG(AF7))/LOG(2))))","v":-0.25754247590988982},null,{"$f":"N7","v":111},{"$f":"COUNTIF(L21:L25,AI7)","v":5},{"$f":"AJ7/(AL4-AJ11)","v":1},{"$f":"IF(AK7=0,0,(AK7*((LOG(AK7))/LOG(2))))","v":0},null,{"$f":"N7","v":111},{"$f":"COUNTIF(L26:L29,AN7)","v":4},{"$f":"AO7/(AQ4-AO11)","v":1},{"$f":"IF(AP7=0,0,(AP7*((LOG(AP7))/LOG(2))))","v":0},null,{"$f":"N7","v":111},{"$f":"COUNTIF(L30:L34,AS7)","v":3},{"$f":"AT7/(AV4-AT11)","v":0.6},{"$f":"IF(AU7=0,0,(AU7*((LOG(AU7))/LOG(2))))","v":-0.44217935649972373}]
[12,135,13,144,13,149,null,null,null,null,0,111,null,112,{"$f":"COUNTIF($L$7:$L$500,N8)","v":0},{"$f":"O8/$Q$4","v":0},{"$f":"IF(P8=0,0,(P8*((LOG(P8))/LOG(2))))","v":0},null,null,{"$f":"N8","v":112},{"$f":"COUNTIF(L7:L11,T8)","v":0},{"$f":"U8/(W4-U11)","v":0},{"$f":"IF(V8=0,0,(V8*((LOG(V8))/LOG(2))))","v":0},null,{"$f":"N8","v":112},{"$f":"COUNTIF(L12:L15,Y8)","v":0},{"$f":"Z8/(AB4-Z11)","v":0},{"$f":"IF(AA8=0,0,(AA8*((LOG(AA8))/LOG(2))))","v":0},null,{"$f":"N8","v":112},{"$f":"COUNTIF(L16:L20,AD8)","v":0},{"$f":"AE8/(AG4-AE11)","v":0},{"$f":"IF(AF8=0,0,(AF8*((LOG(AF8))/LOG(2))))","v":0},null,{"$f":"N8","v":112},{"$f":"COUNTIF(L21:L25,AI8)","v":0},{"$f":"AJ8/(AL4-AJ11)","v":0},{"$f":"IF(AK8=0,0,(AK8*((LOG(AK8))/LOG(2))))","v":0},null,{"$f":"N8","v":112},{"$f":"COUNTIF(L26:L29,AN8)","v":0},{"$f":"AO8/(AQ4-AO11)","v":0},{"$f":"IF(AP8=0,0,(AP8*((LOG(AP8))/LOG(2))))","v":0},null,{"$f":"N8","v":112},{"$f":"COUNTIF(L30:L34,AS8)","v":0},{"$f":"AT8/(AV4-AT11)","v":0},{"$f":"IF(AU8=0,0,(AU8*((LOG(AU8))/LOG(2))))","v":0}]
[12,276,13,282,13,286,null,null,null,null,0,111,null,121,{"$f":"COUNTIF($L$7:$L$500,N9)","v":0},{"$f":"O9/$Q$4","v":0},{"$f":"IF(P9=0,0,(P9*((LOG(P9))/LOG(2))))","v":0},null,null,{"$f":"N9","v":121},{"$f":"COUNTIF(L7:L11,T9)","v":0},{"$f":"U9/(W4-U11)","v":0},{"$f":"IF(V9=0,0,(V9*((LOG(V9))/LOG(2))))","v":0},null,{"$f":"N9","v":121},{"$f":"COUNTIF(L12:L15,Y9)","v":0},{"$f":"Z9/(AB4-Z11)","v":0},{"$f":"IF(AA9=0,0,(AA9*((LOG(AA9))/LOG(2))))","v":0},null,{"$f":"N9","v":121},{"$f":"COUNTIF(L16:L20,AD9)","v":0},{"$f":"AE9/(AG4-AE11)","v":0},{"$f":"IF(AF9=0,0,(AF9*((LOG(AF9))/LOG(2))))","v":0},null,{"$f":"N9","v":121},{"$f":"COUNTIF(L21:L25,AI9)","v":0},{"$f":"AJ9/(AL4-AJ11)","v":0},{"$f":"IF(AK9=0,0,(AK9*((LOG(AK9))/LOG(2))))","v":0},null,{"$f":"N9","v":121},{"$f":"COUNTIF(L26:L29,AN9)","v":0},{"$f":"AO9/(AQ4-AO11)","v":0},{"$f":"IF(AP9=0,0,(AP9*((LOG(AP9))/LOG(2))))","v":0},null,{"$f":"N9","v":121},{"$f":"COUNTIF(L30:L34,AS9)","v":0},{"$f":"AT9/(AV4-AT11)","v":0},{"$f":"IF(AU9=0,0,(AU9*((LOG(AU9))/LOG(2))))","v":0}]
[12,391,13,395,13,400,null,null,null,null,0,111,null,122,{"$f":"COUNTIF($L$7:$L$500,N10)","v":0},{"$f":"O10/$Q$4","v":0},{"$f":"IF(P10=0,0,(P10*((LOG(P10))/LOG(2))))","v":0},null,null,{"$f":"N10","v":122},{"$f":"COUNTIF(L7:L11,T10)","v":0},{"$f":"U10/(W4-U11)","v":0},{"$f":"IF(V10=0,0,(V10*((LOG(V10))/LOG(2))))","v":0},null,{"$f":"N10","v":122},{"$f":"COUNTIF(L12:L15,Y10)","v":0},{"$f":"Z10/(AB4-Z11)","v":0},{"$f":"IF(AA10=0,0,(AA10*((LOG(AA10))/LOG(2))))","v":0},null,{"$f":"N10","v":122},{"$f":"COUNTIF(L16:L20,AD10)","v":0},{"$f":"AE10/(AG4-AE11)","v":0},{"$f":"IF(AF10=0,0,(AF10*((LOG(AF10))/LOG(2))))","v":0},null,{"$f":"N10","v":122},{"$f":"COUNTIF(L21:L25,AI10)","v":0},{"$f":"AJ10/(AL4-AJ11)","v":0},{"$f":"IF(AK10=0,0,(AK10*((LOG(AK10))/LOG(2))))","v":0},null,{"$f":"N10","v":122},{"$f":"COUNTIF(L26:L29,AN10)","v":0},{"$f":"AO10/(AQ4-AO11)","v":0},{"$f":"IF(AP10=0,0,(AP10*((LOG(AP10))/LOG(2))))","v":0},null,{"$f":"N10","v":122},{"$f":"COUNTIF(L30:L34,AS10)","v":0},{"$f":"AT10/(AV4-AT11)","v":0},{"$f":"IF(AU10=0,0,(AU10*((LOG(AU10))/LOG(2))))","v":0}]
[12,509,13,514,13,519,null,null,null,null,0,111,null,211,{"$f":"COUNTIF($L$7:$L$500,N11)","v":0},{"$f":"O11/$Q$4","v":0},{"$f":"IF(P11=0,0,(P11*((LOG(P11))/LOG(2))))","v":0},null,null,{"$f":"N11","v":211},{"$f":"COUNTIF(L7:L11,T11)","v":0},null,null,null,{"$f":"N11","v":211},{"$f":"COUNTIF(L12:L15,Y11)","v":0},null,null,null,{"$f":"N11","v":211},{"$f":"COUNTIF(L16:L20,AD11)","v":0},null,null,null,{"$f":"N11","v":211},{"$f":"COUNTIF(L21:L25,AI11)","v":0},null,null,null,{"$f":"N11","v":211},{"$f":"COUNTIF(L26:L29,AN11)","v":0},null,null,null,{"$f":"N11","v":211},{"$f":"COUNTIF(L30:L34,AS11)","v":0}]
[12,626,13,632,13,637,null,null,null,null,0,111,null,212,{"$f":"COUNTIF($L$7:$L$500,N12)","v":0},{"$f":"O12/$Q$4","v":0},{"$f":"IF(P12=0,0,(P12*((LOG(P12))/LOG(2))))","v":0},null,null,{"$f":"N12","v":212},{"$f":"COUNTIF(L7:L11,T12)","v":0},{"$f":"U12/(W4-U11)","v":0},{"$f":"IF(V12=0,0,(V12*((LOG(V12))/LOG(2))))","v":0},null,{"$f":"N12","v":212},{"$f":"COUNTIF(L12:L15,Y12)","v":0},{"$f":"Z12/(AB4-Z11)","v":0},{"$f":"IF(AA12=0,0,(AA12*((LOG(AA12))/LOG(2))))","v":0},null,{"$f":"N12","v":212},{"$f":"COUNTIF(L16:L20,AD12)","v":0},{"$f":"AE12/(AG4-AE11)","v":0},{"$f":"IF(AF12=0,0,(AF12*((LOG(AF12))/LOG(2))))","v":0},null,{"$f":"N12","v":212},{"$f":"COUNTIF(L21:L25,AI12)","v":0},{"$f":"AJ12/(AL4-AJ11)","v":0},{"$f":"IF(AK12=0,0,(AK12*((LOG(AK12))/LOG(2))))","v":0},null,{"$f":"N12","v":212},{"$f":"COUNTIF(L26:L29,AN12)","v":0},{"$f":"AO12/(AQ4-AO11)","v":0},{"$f":"IF(AP12=0,0,(AP12*((LOG(AP12))/LOG(2))))","v":0},null,{"$f":"N12","v":212},{"$f":"COUNTIF(L30:L34,AS12)","v":0},{"$f":"AT12/(AV4-AT11)","v":0},{"$f":"IF(AU12=0,0,(AU12*((LOG(AU12))/LOG(2))))","v":0}]
[12,910,13,915,13,920,null,null,null,null,0,111,null,221,{"$f":"COUNTIF($L$7:$L$500,N13)","v":0},{"$f":"O13/$Q$4","v":0},{"$f":"IF(P13=0,0,(P13*((LOG(P13))/LOG(2))))","v":0},null,null,{"$f":"N13","v":221},{"$f":"COUNTIF(L7:L11,T13)","v":0},{"$f":"U13/(W4-U11)","v":0},{"$f":"IF(V13=0,0,(V13*((LOG(V13))/LOG(2))))","v":0},null,{"$f":"N13","v":221},{"$f":"COUNTIF(L12:L15,Y13)","v":0},{"$f":"Z13/(AB4-Z11)","v":0},{"$f":"IF(AA13=0,0,(AA13*((LOG(AA13))/LOG(2))))","v":0},null,{"$f":"N13","v":221},{"$f":"COUNTIF(L16:L20,AD13)","v":0},{"$f":"AE13/(AG4-AE11)","v":0},{"$f":"IF(AF13=0,0,(AF13*((LOG(AF13))/LOG(2))))","v":0},null,{"$f":"N13","v":221},{"$f":"COUNTIF(L21:L25,AI13)","v":0},{"$f":"AJ13/(AL4-AJ11)","v":0},{"$f":"IF(AK13=0,0,(AK13*((LOG(AK13))/LOG(2))))","v":0},null,{"$f":"N13","v":221},{"$f":"COUNTIF(L26:L29,AN13)","v":0},{"$f":"AO13/(AQ4-AO11)","v":0},{"$f":"IF(AP13=0,0,(AP13*((LOG(AP13))/LOG(2))))","v":0},null,{"$f":"N13","v":221},{"$f":"COUNTIF(L30:L34,AS13)","v":0},{"$f":"AT13/(AV4-AT11)","v":0},{"$f":"IF(AU13=0,0,(AU13*((LOG(AU13))/LOG(2))))","v":0}]
[12,1188,13,1194,13,1198,null,null,null,null,0,111,null,222,{"$f":"COUNTIF($L$7:$L$500,N14)","v":3},{"$f":"O14/$Q$4","v":0.10714285714285714},{"$f":"IF(P14=0,0,(P14*((LOG(P14))/LOG(2))))","v":-0.34525633085747659},null,null,{"$f":"N14","v":222},{"$f":"COUNTIF(L7:L11,T14)","v":0},{"$f":"U14/(W4-U11)","v":0},{"$f":"IF(V14=0,0,(V14*((LOG(V14))/LOG(2))))","v":0},null,{"$f":"N14","v":222},{"$f":"COUNTIF(L12:L15,Y14)","v":0},{"$f":"Z14/(AB4-Z11)","v":0},{"$f":"IF(AA14=0,0,(AA14*((LOG(AA14))/LOG(2))))","v":0},null,{"$f":"N14","v":222},{"$f":"COUNTIF(L16:L20,AD14)","v":1},{"$f":"AE14/(AG4-AE11)","v":0.2},{"$f":"IF(AF14=0,0,(AF14*((LOG(AF14))/LOG(2))))","v":-0.46438561897747244},null,{"$f":"N14","v":222},{"$f":"COUNTIF(L21:L25,AI14)","v":0},{"$f":"AJ14/(AL4-AJ11)","v":0},{"$f":"IF(AK14=0,0,(AK14*((LOG(AK14))/LOG(2))))","v":0},null,{"$f":"N14","v":222},{"$f":"COUNTIF(L26:L29,AN14)","v":0},{"$f":"AO14/(AQ4-AO11)","v":0},{"$f":"IF(AP14=0,0,(AP14*((LOG(AP14))/LOG(2))))","v":0},null,{"$f":"N14","v":222},{"$f":"COUNTIF(L30:L34,AS14)","v":2},{"$f":"AT14/(AV4-AT11)","v":0.4},{"$f":"IF(AU14=0,0,(AU14*((LOG(AU14))/LOG(2))))","v":-0.52877123795494496}]
[12,1360,13,1365,13,1369,null,null,null,null,0,111,null,null,null,{"$f":"SUM(P7:P14)","v":1},{"$f":"-SUM(Q7:Q14)","v":0.49123734182433315},null,null,null,null,{"$f":"SUM(V7:V14)","v":1},{"$f":"-SUM(W7:W14)","v":0},null,null,null,{"$f":"SUM(AA7:AA14)","v":1},{"$f":"-SUM(AB7:AB14)","v":0},null,null,null,{"$f":"SUM(AF7:AF14)","v":1},{"$f":"-SUM(AG7:AG14)","v":0.72192809488736231},null,null,null,{"$f":"SUM(AK7:AK14)","v":1},{"$f":"-SUM(AL7:AL14)","v":0},null,null,null,{"$f":"SUM(AP7:AP14)","v":1},{"$f":"-SUM(AQ7:AQ14)","v":0},null,null,null,{"$f":"SUM(AU7:AU14)","v":1},{"$f":"-SUM(AV7:AV14)","v":0.97095059445466869}]
[12,1604,13,1609,13,1615,null,null,null,null,0,111,null,null,null,"U=",{"$f":"Q15/(LOG(Q4)/LOG(2))","v":0.10218453802326662},null,null,null,null,"U1=",{"$f":"W15/(LOG(W4)/LOG(2))","v":0},null,null,null,"U2=",{"$f":"AB15/(LOG(AB4)/LOG(2))","v":0},null,null,null,"U3=",{"$f":"AG15/(LOG(AG4)/LOG(2))","v":0.31091750708257104},null,null,null,"U4=",{"$f":"AL15/(LOG(AL4)/LOG(2))","v":0},null,null,null,"U5=",{"$f":"AQ15/(LOG(AQ4)/LOG(2))","v":0},null,null,null,"U6=",{"$f":"AV15/(LOG(AV4)/LOG(2))","v":0.41816566007905159}]
[21,2641,22,2647,24,2652,null,null,null,null,0,222]
[12,2782,13,2789,13,2794,null,null,null,null,0,111]
[12,6428,13,6433,13,6446,null,null,null,null,0,111,null,"Total Target Seq"]
[12,6867,13,6876,13,6881,null,null,null,null,0,111,null,{"$f":"COUNTIF(L7:L34,G3)","v":0},null,5,4,5,5,4,5]
[12,7068,13,7074,13,7080,null,null,null,null,0,111,null,null,null,"% of reinforcement given in 6 equal intervals based on number of trials "]
[12,9285,13,9298,13,9306,null,null,null,null,0,111,null,null,null,"%_1","%_2","%_3","%_4","%_5","%_6"]
[12,9431,13,9456,13,9461,null,null,null,null,0,111,null,null,"target sequence",{"$f":"$G$3","v":211},{"$f":"$G$3","v":211},{"$f":"$G$3","v":211},{"$f":"$G$3","v":211},{"$f":"$G$3","v":211},{"$f":"$G$3","v":211}]
[12,9601,13,9608,13,9613,null,null,null,null,0,111,null,null,"total reinforcement",{"$f":"U11","v":0},{"$f":"Z11","v":0},{"$f":"AE11","v":0},{"$f":"AJ11","v":0},{"$f":"AO11","v":0},{"$f":"AT11","v":0}]
[12,9818,13,9823,13,9828,null,null,null,null,0,111,null,null,"% target"]
[12,10256,13,10267,13,10272,null,null,null,null,0,111,null,null,"CCRF"]
[12,10437,13,10442,13,10446,null,null,null,null,0,111,null,null,"% CCRf"]
[12,10811,13,10821,13,10826,null,null,null,null,0,111,null,null,"average response rate",{"$f":"F11/P20","v":103.8},{"$f":"(F15-F11)/Q20","v":212.5},{"$f":"(F20-F15)/R20","v":1102.4000000000001},{"$f":"(F25-F20)/S20","v":589.4},{"$f":"(F29-F25)/T20","v":884},{"$f":"(F34-F29)/U20","v":1598.6}]
[12,13352,13,13358,13,13364,null,null,null,null,0,111]
[21,17412,22,17420,24,17426,null,null,null,null,0,222]
[12,18118,13,18125,13,18139,null,null,null,null,0,111]
[12,20474,13,20480,13,20487,null,null,null,null,0,111]
[12,20647,13,20652,13,20661,null,null,null,null,0,111]
[21,21345,22,21351,24,21357,null,null,null,null,0,222]

{"sheet":"!N107800.010","index":8,"n_rows":41,"n_cols":48,"rows_kept":41,"cut":false,"hidden":false,"merged":[[4,39,4,42],[5,39,5,40],[4,44,4,47],[5,44,5,45],[4,24,4,27],[5,24,5,25],[4,29,4,32],[5,29,5,30],[4,34,4,37],[5,34,5,35],[1,1,1,2],[5,13,5,14],[18,13,18,14],[19,13,19,14],[4,19,4,22],[5,19,5,20]]}
["Report for:!N107800.010"]
["Date:","<date>"]
["Hen:","<hen>",null,null,null,"Correct Sequence",{"$f":"Start!J2","v":211},null,null,null,null,null,null,null,null,"Total Sequences in Data",{"$f":"4994-COUNTBLANK(L7:L5000)","v":35},null,null,null,null,"Total Sequences in Block Data",{"$f":"COUNTA(L7:L12)","v":6},null,null,null,"Total Sequences in Block Data",{"$f":"COUNTA(L13:L18)","v":6},null,null,null,"Total Sequences in Block Data",{"$f":"COUNTA(L19:L23)","v":5},null,null,null,"Total Sequences in Block Data",{"$f":"COUNTA(L24:L29)","v":6},null,null,null,"Total Sequences in Block Data",{"$f":"COUNTA(L30:L35)","v":6},null,null,null,"Total Sequences in Block Data",{"$f":"COUNTA(L36:L41)","v":6}]
[null,null,null,null,null,null,null,null,null,null,null,null,null,null,null,"Total Sequences in Summary",{"$f":"SUM(O7:O14)","v":35},null,null,null,null,"Total Sequences in Block Summary",{"$f":"SUM(U7:U14)","v":6},null,null,null,"Total Sequences in Block Summary",{"$f":"SUM(Z7:Z14)","v":6},null,null,null,"Total Sequences in Block Summary",{"$f":"SUM(AE7:AE14)","v":5},null,null,null,"Total Sequences in Block Summary",{"$f":"SUM(AJ7:AJ14)","v":6},null,null,null,"Total Sequences in Block Summary",{"$f":"SUM(AO7:AO14)","v":6},null,null,null,"Total Sequences in Block Summary",{"$f":"SUM(AT7:AT14)","v":6}]
[null,null,null,null,null,null,null,null,null,null,null,null,null,null,null,null,null,null,null,"Block 1",null,null,null,null,"Block 2",null,null,null,null,"Block 3",null,null,null,null,"Block 4",null,null,null,null,"Block 5",null,null,null,null,"Block 6"]
["Sequence\nComponent\n1","Time\n1","Sequence\nComponent\n2","Time\n2","Sequence\nComponent\n3","Time\n3","Sequence\nComponent\n4","Time\n4","Sequence\nComponent\n5","Time\n5","Correct?\n0=No 1=Yes","Sequence",null,"Frequency",null,"Relative Frequency","Variability",null,null,"Frequency",null,"Relative Frequency","Variability",null,"Frequency",null,"Relative Frequency","Variability",null,"Frequency",null,"Relative Frequency","Variability",null,"Frequency",null,"Relative Frequency","Variability",null,"Frequency",null,"Relative Frequency","Variability",null,"Frequency",null,"Relative Frequency","Variability"]
[12,125,13,129,13,134,null,null,null,null,0,111,null,111,{"$f":"COUNTIF($L$7:$L$500,N7)","v":28},{"$f":"O7/$Q$4","v":0.8},{"$f":"IF(P7=0,0,(P7*((LOG(P7))/LOG(2))))","v":-0.25754247590988982},null,null,{"$f":"N7","v":111},{"$f":"COUNTIF(L7:L12,T7)","v":4},{"$f":"U7/(W4-U11)","v":0.66666666666666663},{"$f":"IF(V7=0,0,(V7*((LOG(V7))/LOG(2))))","v":-0.38997500048077083},null,{"$f":"N7","v":111},{"$f":"COUNTIF(L13:L18,Y7)","v":6},{"$f":"Z7/(AB4-Z11)","v":1},{"$f":"IF(AA7=0,0,(AA7*((LOG(AA7))/LOG(2))))","v":0},null,{"$f":"N7","v":111},{"$f":"COUNTIF(L19:L23,AD7)","v":5},{"$f":"AE7/(AG4-AE11)","v":1},{"$f":"IF(AF7=0,0,(AF7*((LOG(AF7))/LOG(2))))","v":0},null,{"$f":"N7","v":111},{"$f":"COUNTIF(L24:L29,AI7)","v":5},{"$f":"AJ7/(AL4-AJ11)","v":0.83333333333333337},{"$f":"IF(AK7=0,0,(AK7*((LOG(AK7))/LOG(2))))","v":-0.21919533819482812},null,{"$f":"N7","v":111},{"$f":"COUNTIF(L30:L35,AN7)","v":3},{"$f":"AO7/(AQ4-AO11)","v":0.5},{"$f":"IF(AP7=0,0,(AP7*((LOG(AP7))/LOG(2))))","v":-0.5},null,{"$f":"N7","v":111},{"$f":"COUNTIF(L36:L41,AS7)","v":5},{"$f":"AT7/(AV4-AT11)","v":0.83333333333333337},{"$f":"IF(AU7=0,0,(AU7*((LOG(AU7))/LOG(2))))","v":-0.21919533819482812}]
[12,252,13,257,13,261,null,null,null,null,0,111,null,112,{"$f":"COUNTIF($L$7:$L$500,N8)","v":0},{"$f":"O8/$Q$4","v":0},{"$f":"IF(P8=0,0,(P8*((LOG(P8))/LOG(2))))","v":0},null,null,{"$f":"N8","v":112},{"$f":"COUNTIF(L7:L12,T8)","v":0},{"$f":"U8/(W4-U11)","v":0},{"$f":"IF(V8=0,0,(V8*((LOG(V8))/LOG(2))))","v":0},null,{"$f":"N8","v":112},{"$f":"COUNTIF(L13:L18,Y8)","v":0},{"$f":"Z8/(AB4-Z11)","v":0},{"$f":"IF(AA8=0,0,(AA8*((LOG(AA8))/LOG(2))))","v":0},null,{"$f":"N8","v":112},{"$f":"COUNTIF(L19:L23,AD8)","v":0},{"$f":"AE8/(AG4-AE11)","v":0},{"$f":"IF(AF8=0,0,(AF8*((LOG(AF8))/LOG(2))))","v":0},null,{"$f":"N8","v":112},{"$f":"COUNTIF(L24:L29,AI8)","v":0},{"$f":"AJ8/(AL4-AJ11)","v":0},{"$f":"IF(AK8=0,0,(AK8*((LOG(AK8))/LOG(2))))","v":0},null,{"$f":"N8","v":112},{"$f":"COUNTIF(L30:L35,AN8)","v":0},{"$f":"AO8/(AQ4-AO11)","v":0},{"$f":"IF(AP8=0,0,(AP8*((LOG(AP8))/LOG(2))))","v":0},null,{"$f":"N8","v":112},{"$f":"COUNTIF(L36:L41,AS8)","v":0},{"$f":"AT8/(AV4-AT11)","v":0},{"$f":"IF(AU8=0,0,(AU8*((LOG(AU8))/LOG(2))))","v":0}]
[12,368,13,373,13,378,null,null,null,null,0,111,null,121,{"$f":"COUNTIF($L$7:$L$500,N9)","v":0},{"$f":"O9/$Q$4","v":0},{"$f":"IF(P9=0,0,(P9*((LOG(P9))/LOG(2))))","v":0},null,null,{"$f":"N9","v":121},{"$f":"COUNTIF(L7:L12,T9)","v":0},{"$f":"U9/(W4-U11)","v":0},{"$f":"IF(V9=0,0,(V9*((LOG(V9))/LOG(2))))","v":0},null,{"$f":"N9","v":121},{"$f":"COUNTIF(L13:L18,Y9)","v":0},{"$f":"Z9/(AB4-Z11)","v":0},{"$f":"IF(AA9=0,0,(AA9*((LOG(AA9))/LOG(2))))","v":0},null,{"$f":"N9","v":121},{"$f":"COUNTIF(L19:L23,AD9)","v":0},{"$f":"AE9/(AG4-AE11)","v":0},{"$f":"IF(AF9=0,0,(AF9*((LOG(AF9))/LOG(2))))","v":0},null,{"$f":"N9","v":121},{"$f":"COUNTIF(L24:L29,AI9)","v":0},{"$f":"AJ9/(AL4-AJ11)","v":0},{"$f":"IF(AK9=0,0,(AK9*((LOG(AK9))/LOG(2))))","v":0},null,{"$f":"N9","v":121},{"$f":"COUNTIF(L30:L35,AN9)","v":0},{"$f":"AO9/(AQ4-AO11)","v":0},{"$f":"IF(AP9=0,0,(AP9*((LOG(AP9))/LOG(2))))","v":0},null,{"$f":"N9","v":121},{"$f":"COUNTIF(L36:L41,AS9)","v":0},{"$f":"AT9/(AV4-AT11)","v":0},{"$f":"IF(AU9=0,0,(AU9*((LOG(AU9))/LOG(2))))","v":0}]
[12,624,13,629,13,634,null,null,null,null,0,111,null,122,{"$f":"COUNTIF($L$7:$L$500,N10)","v":0},{"$f":"O10/$Q$4","v":0},{"$f":"IF(P10=0,0,(P10*((LOG(P10))/LOG(2))))","v":0},null,null,{"$f":"N10","v":122},{"$f":"COUNTIF(L7:L12,T10)","v":0},{"$f":"U10/(W4-U11)","v":0},{"$f":"IF(V10=0,0,(V10*((LOG(V10))/LOG(2))))","v":0},null,{"$f":"N10","v":122},{"$f":"COUNTIF(L13:L18,Y10)","v":0},{"$f":"Z10/(AB4-Z11)","v":0},{"$f":"IF(AA10=0,0,(AA10*((LOG(AA10))/LOG(2))))","v":0},null,{"$f":"N10","v":122},{"$f":"COUNTIF(L19:L23,AD10)","v":0},{"$f":"AE10/(AG4-AE11)","v":0},{"$f":"IF(AF10=0,0,(AF10*((LOG(AF10))/LOG(2))))","v":0},null,{"$f":"N10","v":122},{"$f":"COUNTIF(L24:L29,AI10)","v":0},{"$f":"AJ10/(AL4-AJ11)","v":0},{"$f":"IF(AK10=0,0,(AK10*((LOG(AK10))/LOG(2))))","v":0},null,{"$f":"N10","v":122},{"$f":"COUNTIF(L30:L35,AN10)","v":0},{"$f":"AO10/(AQ4-AO11)","v":0},{"$f":"IF(AP10=0,0,(AP10*((LOG(AP10))/LOG(2))))","v":0},null,{"$f":"N10","v":122},{"$f":"COUNTIF(L36:L41,AS10)","v":0},{"$f":"AT10/(AV4-AT11)","v":0},{"$f":"IF(AU10=0,0,(AU10*((LOG(AU10))/LOG(2))))","v":0}]
[21,759,22,765,24,771,null,null,null,null,0,222,null,211,{"$f":"COUNTIF($L$7:$L$500,N11)","v":0},{"$f":"O11/$Q$4","v":0},{"$f":"IF(P11=0,0,(P11*((LOG(P11))/LOG(2))))","v":0},null,null,{"$f":"N11","v":211},{"$f":"COUNTIF(L7:L12,T11)","v":0},null,null,null,{"$f":"N11","v":211},{"$f":"COUNTIF(L13:L18,Y11)","v":0},null,null,null,{"$f":"N11","v":211},{"$f":"COUNTIF(L19:L23,AD11)","v":0},null,null,null,{"$f":"N11","v":211},{"$f":"COUNTIF(L24:L29,AI11)","v":0},null,null,null,{"$f":"N11","v":211},{"$f":"COUNTIF(L30:L35,AN11)","v":0},null,null,null,{"$f":"N11","v":211},{"$f":"COUNTIF(L36:L41,AS11)","v":0}]
[21,1014,22,1019,24,1024,null,null,null,null,0,222,null,212,{"$f":"COUNTIF($L$7:$L$500,N12)","v":0},{"$f":"O12/$Q$4","v":0},{"$f":"IF(P12=0,0,(P12*((LOG(P12))/LOG(2))))","v":0},null,null,{"$f":"N12","v":212},{"$f":"COUNTIF(L7:L12,T12)","v":0},{"$f":"U12/(W4-U11)","v":0},{"$f":"IF(V12=0,0,(V12*((LOG(V12))/LOG(2))))","v":0},null,{"$f":"N12","v":212},{"$f":"COUNTIF(L13:L18,Y12)","v":0},{"$f":"Z12/(AB4-Z11)","v":0},{"$f":"IF(AA12=0,0,(AA12*((LOG(AA12))/LOG(2))))","v":0},null,{"$f":"N12","v":212},{"$f":"COUNTIF(L19:L23,AD12)","v":0},{"$f":"AE12/(AG4-AE11)","v":0},{"$f":"IF(AF12=0,0,(AF12*((LOG(AF12))/LOG(2))))","v":0},null,{"$f":"N12","v":212},{"$f":"COUNTIF(L24:L29,AI12)","v":0},{"$f":"AJ12/(AL4-AJ11)","v":0},{"$f":"IF(AK12=0,0,(AK12*((LOG(AK12))/LOG(2))))","v":0},null,{"$f":"N12","v":212},{"$f":"COUNTIF(L30:L35,AN12)","v":0},{"$f":"AO12/(AQ4-AO11)","v":0},{"$f":"IF(AP12=0,0,(AP12*((LOG(AP12))/LOG(2))))","v":0},null,{"$f":"N12","v":212},{"$f":"COUNTIF(L36:L41,AS12)","v":0},{"$f":"AT12/(AV4-AT11)","v":0},{"$f":"IF(AU12=0,0,(AU12*((LOG(AU12))/LOG(2))))","v":0}]
[12,1266,13,1271,13,1276,null,null,null,null,0,111,null,221,{"$f":"COUNTIF($L$7:$L$500,N13)","v":0},{"$f":"O13/$Q$4","v":0},{"$f":"IF(P13=0,0,(P13*((LOG(P13))/LOG(2))))","v":0},null,null,{"$f":"N13","v":221},{"$f":"COUNTIF(L7:L12,T13)","v":0},{"$f":"U13/(W4-U11)","v":0},{"$f":"IF(V13=0,0,(V13*((LOG(V13))/LOG(2))))","v":0},null,{"$f":"N13","v":221},{"$f":"COUNTIF(L13:L18,Y13)","v":0},{"$f":"Z13/(AB4-Z11)","v":0},{"$f":"IF(AA13=0,0,(AA13*((LOG(AA13))/LOG(2))))","v":0},null,{"$f":"N13","v":221},{"$f":"COUNTIF(L19:L23,AD13)","v":0},{"$f":"AE13/(AG4-AE11)","v":0},{"$f":"IF(AF13=0,0,(AF13*((LOG(AF13))/LOG(2))))","v":0},null,{"$f":"N13","v":221},{"$f":"COUNTIF(L24:L29,AI13)","v":0},{"$f":"AJ13/(AL4-AJ11)","v":0},{"$f":"IF(AK13=0,0,(AK13*((LOG(AK13))/LOG(2))))","v":0},null,{"$f":"N13","v":221},{"$f":"COUNTIF(L30:L35,AN13)","v":0},{"$f":"AO13/(AQ4-AO11)","v":0},{"$f":"IF(AP13=0,0,(AP13*((LOG(AP13))/LOG(2))))","v":0},null,{"$f":"N13","v":221},{"$f":"COUNTIF(L36:L41,AS13)","v":0},{"$f":"AT13/(AV4-AT11)","v":0},{"$f":"IF(AU13=0,0,(AU13*((LOG(AU13))/LOG(2))))","v":0}]
[12,1469,13,1475,13,1504,null,null,null,null,0,111,null,222,{"$f":"COUNTIF($L$7:$L$500,N14)","v":7},{"$f":"O14/$Q$4","v":0.2},{"$f":"IF(P14=0,0,(P14*((LOG(P14))/LOG(2))))","v":-0.46438561897747244},null,null,{"$f":"N14","v":222},{"$f":"COUNTIF(L7:L12,T14)","v":2},{"$f":"U14/(W4-U11)","v":0.33333333333333331},{"$f":"IF(V14=0,0,(V14*((LOG(V14))/LOG(2))))","v":-0.52832083357371862},null,{"$f":"N14","v":222},{"$f":"COUNTIF(L13:L18,Y14)","v":0},{"$f":"Z14/(AB4-Z11)","v":0},{"$f":"IF(AA14=0,0,(AA14*((LOG(AA14))/LOG(2))))","v":0},null,{"$f":"N14","v":222},{"$f":"COUNTIF(L19:L23,AD14)","v":0},{"$f":"AE14/(AG4-AE11)","v":0},{"$f":"IF(AF14=0,0,(AF14*((LOG(AF14))/LOG(2))))","v":0},null,{"$f":"N14","v":222},{"$f":"COUNTIF(L24:L29,AI14)","v":1},{"$f":"AJ14/(AL4-AJ11)","v":0.16666666666666666},{"$f":"IF(AK14=0,0,(AK14*((LOG(AK14))/LOG(2))))","v":-0.43082708345352599},null,{"$f":"N14","v":222},{"$f":"COUNTIF(L30:L35,AN14)","v":3},{"$f":"AO14/(AQ4-AO11)","v":0.5},{"$f":"IF(AP14=0,0,(AP14*((LOG(AP14))/LOG(2))))","v":-0.5},null,{"$f":"N14","v":222},{"$f":"COUNTIF(L36:L41,AS14)","v":1},{"$f":"AT14/(AV4-AT11)","v":0.16666666666666666},{"$f":"IF(AU14=0,0,(AU14*((LOG(AU14))/LOG(2))))","v":-0.43082708345352599}]
[12,2058,13,2064,13,2069,null,null,null,null,0,111,null,null,null,{"$f":"SUM(P7:P14)","v":1},{"$f":"-SUM(Q7:Q14)","v":0.72192809488736231},null,null,null,null,{"$f":"SUM(V7:V14)","v":1},{"$f":"-SUM(W7:W14)","v":0.91829583405448945},null,null,null,{"$f":"SUM(AA7:AA14)","v":1},{"$f":"-SUM(AB7:AB14)","v":0},null,null,null,{"$f":"SUM(AF7:AF14)","v":1},{"$f":"-SUM(AG7:AG14)","v":0},null,null,null,{"$f":"SUM(AK7:AK14)","v":1},{"$f":"-SUM(AL7:AL14)","v":0.65002242164835411},null,null,null,{"$f":"SUM(AP7:AP14)","v":1},{"$f":"-SUM(AQ7:AQ14)","v":1},null,null,null,{"$f":"SUM(AU7:AU14)","v":1},{"$f":"-SUM(AV7:AV14)","v":0.65002242164835411}]
[12,2486,13,2494,13,2512,null,null,null,null,0,111,null,null,null,"U=",{"$f":"Q15/(LOG(Q4)/LOG(2))","v":0.1407463952568847},null,null,null,null,"U1=",{"$f":"W15/(LOG(W4)/LOG(2))","v":0.35524532127576403},null,null,null,"U2=",{"$f":"AB15/(LOG(AB4)/LOG(2))","v":0},null,null,null,"U3=",{"$f":"AG15/(LOG(AG4)/LOG(2))","v":0},null,null,null,"U4=",{"$f":"AL15/(LOG(AL4)/LOG(2))","v":0.25146299858006066},null,null,null,"U5=",{"$f":"AQ15/(LOG(AQ4)/LOG(2))","v":0.38685280723454163},null,null,null,"U6=",{"$f":"AV15/(LOG(AV4)/LOG(2))","v":0.25146299858006066}]
[12,3003,13,3016,13,3027,null,null,null,null,0,111]
[12,3281,13,3286,13,3296,null,null,null,null,0,111]
[12,4556,13,4563,13,4573,null,null,null,null,0,111,null,"Total Target Seq"]
[12,5771,13,5776,13,5783,null,null,null,null,0,111,null,{"$f":"COUNTIF(L7:L41,G3)","v":0},null,6,6,5,6,6,6]
[12,7404,13,7417,13,7428,null,null,null,null,0,111,null,null,null,"% of reinforcement given in 6 equal intervals based on number of trials "]
[12,8129,13,8144,13,8154,null,null,null,null,0,111,null,null,null,"%_1","%_2","%_3","%_4","%_5","%_6"]
[12,8762,13,8768,13,8773,null,null,null,null,0,111,null,null,"target sequence",{"$f":"$G$3","v":211},{"$f":"$G$3","v":211},{"$f":"$G$3","v":211},{"$f":"$G$3","v":211},{"$f":"$G$3","v":211},{"$f":"$G$3","v":211}]
[12,8979,13,8987,13,8991,null,null,null,null,0,111,null,null,"total reinforcement",{"$f":"U11","v":0},{"$f":"Z11","v":0},{"$f":"AE11","v":0},{"$f":"AJ11","v":0},{"$f":"AO11","v":0},{"$f":"AT11","v":0}]
[12,9100,13,9105,13,9110,null,null,null,null,0,111,null,null,"% target"]
[12,18585,13,18660,13,18666,null,null,null,null,0,111,null,null,"CCRF"]
[12,18870,13,18876,13,18881,null,null,null,null,0,111,null,null,"% CCRf"]
[21,19046,22,19055,24,19061,null,null,null,null,0,222,null,null,"average response rate",{"$f":"F12/P20","v":170.66666666666666},{"$f":"(F18-F12)/Q20","v":378.66666666666669},{"$f":"(F23-F18)/R20","v":1095.4000000000001},{"$f":"(F29-F23)/S20","v":1746.8333333333333},{"$f":"(F35-F29)/T20","v":570.83333333333337},{"$f":"(F41-F35)/U20","v":174.33333333333334}]
[12,19239,13,19248,13,19254,null,null,null,null,0,111]
[21,21707,22,21714,24,21719,null,null,null,null,0,222]
[12,21968,13,21974,13,21983,null,null,null,null,0,111]
[12,22110,13,22116,13,22121,null,null,null,null,0,111]
[21,22261,22,22266,24,22273,null,null,null,null,0,222]
[12,22530,13,22536,13,22547,null,null,null,null,0,111]
[21,22668,22,22674,24,22679,null,null,null,null,0,222]
[12,22978,13,22984,13,22989,null,null,null,null,0,111]
[12,23166,13,23175,13,23180,null,null,null,null,0,111]
[12,23300,13,23306,13,23311,null,null,null,null,0,111]
[12,23429,13,23437,13,23443,null,null,null,null,0,111]
[21,23562,22,23574,24,23579,null,null,null,null,0,222]
[12,23710,13,23719,13,23725,null,null,null,null,0,111]

{"sheet":"!N108850.010","index":9,"n_rows":37,"n_cols":48,"rows_kept":37,"cut":false,"hidden":false,"merged":[[4,39,4,42],[5,39,5,40],[4,44,4,47],[5,44,5,45],[4,24,4,27],[5,24,5,25],[4,29,4,32],[5,29,5,30],[4,34,4,37],[5,34,5,35],[1,1,1,2],[5,13,5,14],[18,13,18,14],[19,13,19,14],[4,19,4,22],[5,19,5,20]]}
["Report for:!N108850.010"]
["Date:","<date>"]
["Hen:","<hen>",null,null,null,"Correct Sequence",{"$f":"Start!J2","v":211},null,null,null,null,null,null,null,null,"Total Sequences in Data",{"$f":"4994-COUNTBLANK(L7:L5000)","v":31},null,null,null,null,"Total Sequences in Block Data",{"$f":"COUNTA(L7:L11)","v":5},null,null,null,"Total Sequences in Block Data",{"$f":"COUNTA(L12:L16)","v":5},null,null,null,"Total Sequences in Block Data",{"$f":"COUNTA(L17:L22)","v":6},null,null,null,"Total Sequences in Block Data",{"$f":"COUNTA(L23:L27)","v":5},null,null,null,"Total Sequences in Block Data",{"$f":"COUNTA(L28:L32)","v":5},null,null,null,"Total Sequences in Block Data",{"$f":"COUNTA(L33:L37)","v":5}]
[null,null,null,null,null,null,null,null,null,null,null,null,null,null,null,"Total Sequences in Summary",{"$f":"SUM(O7:O14)","v":31},null,null,null,null,"Total Sequences in Block Summary",{"$f":"SUM(U7:U14)","v":5},null,null,null,"Total Sequences in Block Summary",{"$f":"SUM(Z7:Z14)","v":5},null,null,null,"Total Sequences in Block Summary",{"$f":"SUM(AE7:AE14)","v":6},null,null,null,"Total Sequences in Block Summary",{"$f":"SUM(AJ7:AJ14)","v":5},null,null,null,"Total Sequences in Block Summary",{"$f":"SUM(AO7:AO14)","v":5},null,null,null,"Total Sequences in Block Summary",{"$f":"SUM(AT7:AT14)","v":5}]
[null,null,null,null,null,null,null,null,null,null,null,null,null,null,null,null,null,null,null,"Block 1",null,null,null,null,"Block 2",null,null,null,null,"Block 3",null,null,null,null,"Block 4",null,null,null,null,"Block 5",null,null,null,null,"Block 6"]
["Sequence\nComponent\n1","Time\n1","Sequence\nComponent\n2","Time\n2","Sequence\nComponent\n3","Time\n3","Sequence\nComponent\n4","Time\n4","Sequence\nComponent\n5","Time\n5","Correct?\n0=No 1=Yes","Sequence",null,"Frequency",null,"Relative Frequency","Variability",null,null,"Frequency",null,"Relative Frequency","Variability",null,"Frequency",null,"Relative Frequency","Variability",null,"Frequency",null,"Relative Frequency","Variability",null,"Frequency",null,"Relative Frequency","Variability",null,"Frequency",null,"Relative Frequency","Variability",null,"Frequency",null,"Relative Frequency","Variability"]
[12,97,13,104,13,108,null,null,null,null,0,111,null,111,{"$f":"COUNTIF($L$7:$L$500,N7)","v":24},{"$f":"O7/$Q$4","v":0.77419354838709675},{"$f":"IF(P7=0,0,(P7*((LOG(P7))/LOG(2))))","v":-0.28585843328958893},null,null,{"$f":"N7","v":111},{"$f":"COUNTIF(L7:L11,T7)","v":5},{"$f":"U7/(W4-U11)","v":1},{"$f":"IF(V7=0,0,(V7*((LOG(V7))/LOG(2))))","v":0},null,{"$f":"N7","v":111},{"$f":"COUNTIF(L12:L16,Y7)","v":5},{"$f":"Z7/(AB4-Z11)","v":1},{"$f":"IF(AA7=0,0,(AA7*((LOG(AA7))/LOG(2))))","v":0},null,{"$f":"N7","v":111},{"$f":"COUNTIF(L17:L22,AD7)","v":2},{"$f":"AE7/(AG4-AE11)","v":0.33333333333333331},{"$f":"IF(AF7=0,0,(AF7*((LOG(AF7))/LOG(2))))","v":-0.52832083357371862},null,{"$f":"N7","v":111},{"$f":"COUNTIF(L23:L27,AI7)","v":4},{"$f":"AJ7/(AL4-AJ11)","v":0.8},{"$f":"IF(AK7=0,0,(AK7*((LOG(AK7))/LOG(2))))","v":-0.25754247590988982},null,{"$f":"N7","v":111},{"$f":"COUNTIF(L28:L32,AN7)","v":4},{"$f":"AO7/(AQ4-AO11)","v":0.8},{"$f":"IF(AP7=0,0,(AP7*((LOG(AP7))/LOG(2))))","v":-0.25754247590988982},null,{"$f":"N7","v":111},{"$f":"COUNTIF(L33:L37,AS7)","v":4},{"$f":"AT7/(AV4-AT11)","v":0.8},{"$f":"IF(AU7=0,0,(AU7*((LOG(AU7))/LOG(2))))","v":-0.25754247590988982}]
[12,208,13,214,13,220,null,null,null,null,0,111,null,112,{"$f":"COUNTIF($L$7:$L$500,N8)","v":0},{"$f":"O8/$Q$4","v":0},{"$f":"IF(P8=0,0,(P8*((LOG(P8))/LOG(2))))","v":0},null,null,{"$f":"N8","v":112},{"$f":"COUNTIF(L7:L11,T8)","v":0},{"$f":"U8/(W4-U11)","v":0},{"$f":"IF(V8=0,0,(V8*((LOG(V8))/LOG(2))))","v":0},null,{"$f":"N8","v":112},{"$f":"COUNTIF(L12:L16,Y8)","v":0},{"$f":"Z8/(AB4-Z11)","v":0},{"$f":"IF(AA8=0,0,(AA8*((LOG(AA8))/LOG(2))))","v":0},null,{"$f":"N8","v":112},{"$f":"COUNTIF(L17:L22,AD8)","v":0},{"$f":"AE8/(AG4-AE11)","v":0},{"$f":"IF(AF8=0,0,(AF8*((LOG(AF8))/LOG(2))))","v":0},null,{"$f":"N8","v":112},{"$f":"COUNTIF(L23:L27,AI8)","v":0},{"$f":"AJ8/(AL4-AJ11)","v":0},{"$f":"IF(AK8=0,0,(AK8*((LOG(AK8))/LOG(2))))","v":0},null,{"$f":"N8","v":112},{"$f":"COUNTIF(L28:L32,AN8)","v":0},{"$f":"AO8/(AQ4-AO11)","v":0},{"$f":"IF(AP8=0,0,(AP8*((LOG(AP8))/LOG(2))))","v":0},null,{"$f":"N8","v":112},{"$f":"COUNTIF(L33:L37,AS8)","v":0},{"$f":"AT8/(AV4-AT11)","v":0},{"$f":"IF(AU8=0,0,(AU8*((LOG(AU8))/LOG(2))))","v":0}]
[12,330,13,335,13,340,null,null,null,null,0,111,null,121,{"$f":"COUNTIF($L$7:$L$500,N9)","v":0},{"$f":"O9/$Q$4","v":0},{"$f":"IF(P9=0,0,(P9*((LOG(P9))/LOG(2))))","v":0},null,null,{"$f":"N9","v":121},{"$f":"COUNTIF(L7:L11,T9)","v":0},{"$f":"U9/(W4-U11)","v":0},{"$f":"IF(V9=0,0,(V9*((LOG(V9))/LOG(2))))","v":0},null,{"$f":"N9","v":121},{"$f":"COUNTIF(L12:L16,Y9)","v":0},{"$f":"Z9/(AB4-Z11)","v":0},{"$f":"IF(AA9=0,0,(AA9*((LOG(AA9))/LOG(2))))","v":0},null,{"$f":"N9","v":121},{"$f":"COUNTIF(L17:L22,AD9)","v":0},{"$f":"AE9/(AG4-AE11)","v":0},{"$f":"IF(AF9=0,0,(AF9*((LOG(AF9))/LOG(2))))","v":0},null,{"$f":"N9","v":121},{"$f":"COUNTIF(L23:L27,AI9)","v":0},{"$f":"AJ9/(AL4-AJ11)","v":0},{"$f":"IF(AK9=0,0,(AK9*((LOG(AK9))/LOG(2))))","v":0},null,{"$f":"N9","v":121},{"$f":"COUNTIF(L28:L32,AN9)","v":0},{"$f":"AO9/(AQ4-AO11)","v":0},{"$f":"IF(AP9=0,0,(AP9*((LOG(AP9))/LOG(2))))","v":0},null,{"$f":"N9","v":121},{"$f":"COUNTIF(L33:L37,AS9)","v":0},{"$f":"AT9/(AV4-AT11)","v":0},{"$f":"IF(AU9=0,0,(AU9*((LOG(AU9))/LOG(2))))","v":0}]
[12,441,13,445,13,450,null,null,null,null,0,111,null,122,{"$f":"COUNTIF($L$7:$L$500,N10)","v":0},{"$f":"O10/$Q$4","v":0},{"$f":"IF(P10=0,0,(P10*((LOG(P10))/LOG(2))))","v":0},null,null,{"$f":"N10","v":122},{"$f":"COUNTIF(L7:L11,T10)","v":0},{"$f":"U10/(W4-U11)","v":0},{"$f":"IF(V10=0,0,(V10*((LOG(V10))/LOG(2))))","v":0},null,{"$f":"N10","v":122},{"$f":"COUNTIF(L12:L16,Y10)","v":0},{"$f":"Z10/(AB4-Z11)","v":0},{"$f":"IF(AA10=0,0,(AA10*((LOG(AA10))/LOG(2))))","v":0},null,{"$f":"N10","v":122},{"$f":"COUNTIF(L17:L22,AD10)","v":0},{"$f":"AE10/(AG4-AE11)","v":0},{"$f":"IF(AF10=0,0,(AF10*((LOG(AF10))/LOG(2))))","v":0},null,{"$f":"N10","v":122},{"$f":"COUNTIF(L23:L27,AI10)","v":0},{"$f":"AJ10/(AL4-AJ11)","v":0},{"$f":"IF(AK10=0,0,(AK10*((LOG(AK10))/LOG(2))))","v":0},null,{"$f":"N10","v":122},{"$f":"COUNTIF(L28:L32,AN10)","v":0},{"$f":"AO10/(AQ4-AO11)","v":0},{"$f":"IF(AP10=0,0,(AP10*((LOG(AP10))/LOG(2))))","v":0},null,{"$f":"N10","v":122},{"$f":"COUNTIF(L33:L37,AS10)","v":0},{"$f":"AT10/(AV4-AT11)","v":0},{"$f":"IF(AU10=0,0,(AU10*((LOG(AU10))/LOG(2))))","v":0}]
[12,790,13,795,13,804,null,null,null,null,0,111,null,211,{"$f":"COUNTIF($L$7:$L$500,N11)","v":0},{"$f":"O11/$Q$4","v":0},{"$f":"IF(P11=0,0,(P11*((LOG(P11))/LOG(2))))","v":0},null,null,{"$f":"N11","v":211},{"$f":"COUNTIF(L7:L11,T11)","v":0},null,null,null,{"$f":"N11","v":211},{"$f":"COUNTIF(L12:L16,Y11)","v":0},null,null,null,{"$f":"N11","v":211},{"$f":"COUNTIF(L17:L22,AD11)","v":0},null,null,null,{"$f":"N11","v":211},{"$f":"COUNTIF(L23:L27,AI11)","v":0},null,null,null,{"$f":"N11","v":211},{"$f":"COUNTIF(L28:L32,AN11)","v":0},null,null,null,{"$f":"N11","v":211},{"$f":"COUNTIF(L33:L37,AS11)","v":0}]
[12,913,13,918,13,923,null,null,null,null,0,111,null,212,{"$f":"COUNTIF($L$7:$L$500,N12)","v":0},{"$f":"O12/$Q$4","v":0},{"$f":"IF(P12=0,0,(P12*((LOG(P12))/LOG(2))))","v":0},null,null,{"$f":"N12","v":212},{"$f":"COUNTIF(L7:L11,T12)","v":0},{"$f":"U12/(W4-U11)","v":0},{"$f":"IF(V12=0,0,(V12*((LOG(V12))/LOG(2))))","v":0},null,{"$f":"N12","v":212},{"$f":"COUNTIF(L12:L16,Y12)","v":0},{"$f":"Z12/(AB4-Z11)","v":0},{"$f":"IF(AA12=0,0,(AA12*((LOG(AA12))/LOG(2))))","v":0},null,{"$f":"N12","v":212},{"$f":"COUNTIF(L17:L22,AD12)","v":0},{"$f":"AE12/(AG4-AE11)","v":0},{"$f":"IF(AF12=0,0,(AF12*((LOG(AF12))/LOG(2))))","v":0},null,{"$f":"N12","v":212},{"$f":"COUNTIF(L23:L27,AI12)","v":0},{"$f":"AJ12/(AL4-AJ11)","v":0},{"$f":"IF(AK12=0,0,(AK12*((LOG(AK12))/LOG(2))))","v":0},null,{"$f":"N12","v":212},{"$f":"COUNTIF(L28:L32,AN12)","v":0},{"$f":"AO12/(AQ4-AO11)","v":0},{"$f":"IF(AP12=0,0,(AP12*((LOG(AP12))/LOG(2))))","v":0},null,{"$f":"N12","v":212},{"$f":"COUNTIF(L33:L37,AS12)","v":0},{"$f":"AT12/(AV4-AT11)","v":0},{"$f":"IF(AU12=0,0,(AU12*((LOG(AU12))/LOG(2))))","v":0}]
[12,1068,13,1073,13,1077,null,null,null,null,0,111,null,221,{"$f":"COUNTIF($L$7:$L$500,N13)","v":0},{"$f":"O13/$Q$4","v":0},{"$f":"IF(P13=0,0,(P13*((LOG(P13))/LOG(2))))","v":0},null,null,{"$f":"N13","v":221},{"$f":"COUNTIF(L7:L11,T13)","v":0},{"$f":"U13/(W4-U11)","v":0},{"$f":"IF(V13=0,0,(V13*((LOG(V13))/LOG(2))))","v":0},null,{"$f":"N13","v":221},{"$f":"COUNTIF(L12:L16,Y13)","v":0},{"$f":"Z13/(AB4-Z11)","v":0},{"$f":"IF(AA13=0,0,(AA13*((LOG(AA13))/LOG(2))))","v":0},null,{"$f":"N13","v":221},{"$f":"COUNTIF(L17:L22,AD13)","v":0},{"$f":"AE13/(AG4-AE11)","v":0},{"$f":"IF(AF13=0,0,(AF13*((LOG(AF13))/LOG(2))))","v":0},null,{"$f":"N13","v":221},{"$f":"COUNTIF(L23:L27,AI13)","v":0},{"$f":"AJ13/(AL4-AJ11)","v":0},{"$f":"IF(AK13=0,0,(AK13*((LOG(AK13))/LOG(2))))","v":0},null,{"$f":"N13","v":221},{"$f":"COUNTIF(L28:L32,AN13)","v":0},{"$f":"AO13/(AQ4-AO11)","v":0},{"$f":"IF(AP13=0,0,(AP13*((LOG(AP13))/LOG(2))))","v":0},null,{"$f":"N13","v":221},{"$f":"COUNTIF(L33:L37,AS13)","v":0},{"$f":"AT13/(AV4-AT11)","v":0},{"$f":"IF(AU13=0,0,(AU13*((LOG(AU13))/LOG(2))))","v":0}]
[12,1335,13,1342,13,1347,null,null,null,null,0,111,null,222,{"$f":"COUNTIF($L$7:$L$500,N14)","v":7},{"$f":"O14/$Q$4","v":0.22580645161290322},{"$f":"IF(P14=0,0,(P14*((LOG(P14))/LOG(2))))","v":-0.48477063607435156},null,null,{"$f":"N14","v":222},{"$f":"COUNTIF(L7:L11,T14)","v":0},{"$f":"U14/(W4-U11)","v":0},{"$f":"IF(V14=0,0,(V14*((LOG(V14))/LOG(2))))","v":0},null,{"$f":"N14","v":222},{"$f":"COUNTIF(L12:L16,Y14)","v":0},{"$f":"Z14/(AB4-Z11)","v":0},{"$f":"IF(AA14=0,0,(AA14*((LOG(AA14))/LOG(2))))","v":0},null,{"$f":"N14","v":222},{"$f":"COUNTIF(L17:L22,AD14)","v":4},{"$f":"AE14/(AG4-AE11)","v":0.66666666666666663},{"$f":"IF(AF14=0,0,(AF14*((LOG(AF14))/LOG(2))))","v":-0.38997500048077083},null,{"$f":"N14","v":222},{"$f":"COUNTIF(L23:L27,AI14)","v":1},{"$f":"AJ14/(AL4-AJ11)","v":0.2},{"$f":"IF(AK14=0,0,(AK14*((LOG(AK14))/LOG(2))))","v":-0.46438561897747244},null,{"$f":"N14","v":222},{"$f":"COUNTIF(L28:L32,AN14)","v":1},{"$f":"AO14/(AQ4-AO11)","v":0.2},{"$f":"IF(AP14=0,0,(AP14*((LOG(AP14))/LOG(2))))","v":-0.46438561897747244},null,{"$f":"N14","v":222},{"$f":"COUNTIF(L33:L37,AS14)","v":1},{"$f":"AT14/(AV4-AT11)","v":0.2},{"$f":"IF(AU14=0,0,(AU14*((LOG(AU14))/LOG(2))))","v":-0.46438561897747244}]
[12,1452,13,1459,13,1464,null,null,null,null,0,111,null,null,null,{"$f":"SUM(P7:P14)","v":1},{"$f":"-SUM(Q7:Q14)","v":0.77062906936394049},null,null,null,null,{"$f":"SUM(V7:V14)","v":1},{"$f":"-SUM(W7:W14)","v":0},null,null,null,{"$f":"SUM(AA7:AA14)","v":1},{"$f":"-SUM(AB7:AB14)","v":0},null,null,null,{"$f":"SUM(AF7:AF14)","v":1},{"$f":"-SUM(AG7:AG14)","v":0.91829583405448945},null,null,null,{"$f":"SUM(AK7:AK14)","v":1},{"$f":"-SUM(AL7:AL14)","v":0.72192809488736231},null,null,null,{"$f":"SUM(AP7:AP14)","v":1},{"$f":"-SUM(AQ7:AQ14)","v":0.72192809488736231},null,null,null,{"$f":"SUM(AU7:AU14)","v":1},{"$f":"-SUM(AV7:AV14)","v":0.72192809488736231}]
[12,2294,13,2299,13,2305,null,null,null,null,0,111,null,null,null,"U=",{"$f":"Q15/(LOG(Q4)/LOG(2))","v":0.15555077374472506},null,null,null,null,"U1=",{"$f":"W15/(LOG(W4)/LOG(2))","v":0},null,null,null,"U2=",{"$f":"AB15/(LOG(AB4)/LOG(2))","v":0},null,null,null,"U3=",{"$f":"AG15/(LOG(AG4)/LOG(2))","v":0.35524532127576403},null,null,null,"U4=",{"$f":"AL15/(LOG(AL4)/LOG(2))","v":0.31091750708257104},null,null,null,"U5=",{"$f":"AQ15/(LOG(AQ4)/LOG(2))","v":0.31091750708257104},null,null,null,"U6=",{"$f":"AV15/(LOG(AV4)/LOG(2))","v":0.31091750708257104}]
[12,2440,13,2445,13,2449,null,null,null,null,0,111]
[12,3390,13,3396,13,3412,null,null,null,null,0,111]
[21,3582,22,3588,24,3594,null,null,null,null,0,222,null,"Total Target Seq"]
[21,3737,22,3743,24,3749,null,null,null,null,0,222,null,{"$f":"COUNTIF(L7:L37,G3)","v":0},null,5,5,6,5,5,5]
[21,3912,22,3922,24,3928,null,null,null,null,0,222,null,null,null,"% of reinforcement given in 6 equal intervals based on number of trials "]
[21,4048,22,4054,24,4060,null,null,null,null,0,222,null,null,null,"%_1","%_2","%_3","%_4","%_5","%_6"]
[12,4209,13,4215,13,4221,null,null,null,null,0,111,null,null,"target sequence",{"$f":"$G$3","v":211},{"$f":"$G$3","v":211},{"$f":"$G$3","v":211},{"$f":"$G$3","v":211},{"$f":"$G$3","v":211},{"$f":"$G$3","v":211}]
[12,9745,13,9750,13,9755,null,null,null,null,0,111,null,null,"total reinforcement",{"$f":"U11","v":0},{"$f":"Z11","v":0},{"$f":"AE11","v":0},{"$f":"AJ11","v":0},{"$f":"AO11","v":0},{"$f":"AT11","v":0}]
[12,9981,13,9993,13,9999,null,null,null,null,0,111,null,null,"% target"]
[21,10385,22,10392,24,10398,null,null,null,null,0,222,null,null,"CCRF"]
[12,14791,13,14801,13,14807,null,null,null,null,0,111,null,null,"% CCRf"]
[12,15010,13,15026,13,15032,null,null,null,null,0,111,null,null,"average response rate",{"$f":"F11/P20","v":160.80000000000001},{"$f":"(F16-F11)/Q20","v":300.2},{"$f":"(F22-F16)/R20","v":292.5},{"$f":"(F27-F22)/S20","v":2149.4},{"$f":"(F32-F27)/T20","v":307.2},{"$f":"(F37-F32)/U20","v":219.8}]
[12,15621,13,15626,13,15631,null,null,null,null,0,111]
[12,15784,13,15789,13,15794,null,null,null,null,0,111]
[12,16185,13,16195,13,16200,null,null,null,null,0,111]
[21,16331,22,16335,24,16343,null,null,null,null,0,222]
[12,16903,13,16908,13,16913,null,null,null,null,0,111]
[21,17050,22,17055,24,17061,null,null,null,null,0,222]
[12,17183,13,17189,13,17193,null,null,null,null,0,111]
[12,17314,13,17319,13,17328,null,null,null,null,0,111]
[12,17430,13,17437,13,17442,null,null,null,null,0,111]

{"sheet":"!N109740.010","index":10,"n_rows":28,"n_cols":48,"rows_kept":28,"cut":false,"hidden":false,"merged":[[4,39,4,42],[5,39,5,40],[4,44,4,47],[5,44,5,45],[4,24,4,27],[5,24,5,25],[4,29,4,32],[5,29,5,30],[4,34,4,37],[5,34,5,35],[1,1,1,2],[5,13,5,14],[18,13,18,14],[19,13,19,14],[4,19,4,22],[5,19,5,20]]}
["Report for:!N109740.010"]
["Date:","<date>"]
["Hen:","<hen>",null,null,null,"Correct Sequence",{"$f":"Start!J2","v":211},null,null,null,null,null,null,null,null,"Total Sequences in Data",{"$f":"4994-COUNTBLANK(L7:L5000)","v":9},null,null,null,null,"Total Sequences in Block Data",{"$f":"COUNTA(L7:L8)","v":2},null,null,null,"Total Sequences in Block Data",{"$f":"COUNTA(L9:L9)","v":1},null,null,null,"Total Sequences in Block Data",{"$f":"COUNTA(L10:L11)","v":2},null,null,null,"Total Sequences in Block Data",{"$f":"COUNTA(L12:L12)","v":1},null,null,null,"Total Sequences in Block Data",{"$f":"COUNTA(L13:L14)","v":2},null,null,null,"Total Sequences in Block Data",{"$f":"COUNTA(L15:L15)","v":1}]
[null,null,null,null,null,null,null,null,null,null,null,null,null,null,null,"Total Sequences in Summary",{"$f":"SUM(O7:O14)","v":9},null,null,null,null,"Total Sequences in Block Summary",{"$f":"SUM(U7:U14)","v":2},null,null,null,"Total Sequences in Block Summary",{"$f":"SUM(Z7:Z14)","v":1},null,null,null,"Total Sequences in Block Summary",{"$f":"SUM(AE7:AE14)","v":2},null,null,null,"Total Sequences in Block Summary",{"$f":"SUM(AJ7:AJ14)","v":1},null,null,null,"Total Sequences in Block Summary",{"$f":"SUM(AO7:AO14)","v":2},null,null,null,"Total Sequences in Block Summary",{"$f":"SUM(AT7:AT14)","v":1}]
[null,null,null,null,null,null,null,null,null,null,null,null,null,null,null,null,null,null,null,"Block 1",null,null,null,null,"Block 2",null,null,null,null,"Block 3",null,null,null,null,"Block 4",null,null,null,null,"Block 5",null,null,null,null,"Block 6"]
["Sequence\nComponent\n1","Time\n1","Sequence\nComponent\n2","Time\n2","Sequence\nComponent\n3","Time\n3","Sequence\nComponent\n4","Time\n4","Sequence\nComponent\n5","Time\n5","Correct?\n0=No 1=Yes","Sequence",null,"Frequency",null,"Relative Frequency","Variability",null,null,"Frequency",null,"Relative Frequency","Variability",null,"Frequency",null,"Relative Frequency","Variability",null,"Frequency",null,"Relative Frequency","Variability",null,"Frequency",null,"Relative Frequency","Variability",null,"Frequency",null,"Relative Frequency","Variability",null,"Frequency",null,"Relative Frequency","Variability"]
[21,32,22,37,24,42,null,null,null,null,0,222,null,111,{"$f":"COUNTIF($L$7:$L$500,N7)","v":5},{"$f":"O7/$Q$4","v":0.55555555555555558},{"$f":"IF(P7=0,0,(P7*((LOG(P7))/LOG(2))))","v":-0.4711093925305278},null,null,{"$f":"N7","v":111},{"$f":"COUNTIF(L7:L8,T7)","v":1},{"$f":"U7/(W4-U11)","v":0.5},{"$f":"IF(V7=0,0,(V7*((LOG(V7))/LOG(2))))","v":-0.5},null,{"$f":"N7","v":111},{"$f":"COUNTIF(L9:L9,Y7)","v":0},{"$f":"Z7/(AB4-Z11)","v":0},{"$f":"IF(AA7=0,0,(AA7*((LOG(AA7))/LOG(2))))","v":0},null,{"$f":"N7","v":111},{"$f":"COUNTIF(L10:L11,AD7)","v":1},{"$f":"AE7/(AG4-AE11)","v":0.5},{"$f":"IF(AF7=0,0,(AF7*((LOG(AF7))/LOG(2))))","v":-0.5},null,{"$f":"N7","v":111},{"$f":"COUNTIF(L12:L12,AI7)","v":1},{"$f":"AJ7/(AL4-AJ11)","v":1},{"$f":"IF(AK7=0,0,(AK7*((LOG(AK7))/LOG(2))))","v":0},null,{"$f":"N7","v":111},{"$f":"COUNTIF(L13:L14,AN7)","v":1},{"$f":"AO7/(AQ4-AO11)","v":0.5},{"$f":"IF(AP7=0,0,(AP7*((LOG(AP7))/LOG(2))))","v":-0.5},null,{"$f":"N7","v":111},{"$f":"COUNTIF(L15:L15,AS7)","v":1},{"$f":"AT7/(AV4-AT11)","v":1},{"$f":"IF(AU7=0,0,(AU7*((LOG(AU7))/LOG(2))))","v":0}]
[12,173,13,179,13,184,null,null,null,null,0,111,null,112,{"$f":"COUNTIF($L$7:$L$500,N8)","v":0},{"$f":"O8/$Q$4","v":0},{"$f":"IF(P8=0,0,(P8*((LOG(P8))/LOG(2))))","v":0},null,null,{"$f":"N8","v":112},{"$f":"COUNTIF(L7:L8,T8)","v":0},{"$f":"U8/(W4-U11)","v":0},{"$f":"IF(V8=0,0,(V8*((LOG(V8))/LOG(2))))","v":0},null,{"$f":"N8","v":112},{"$f":"COUNTIF(L9:L9,Y8)","v":0},{"$f":"Z8/(AB4-Z11)","v":0},{"$f":"IF(AA8=0,0,(AA8*((LOG(AA8))/LOG(2))))","v":0},null,{"$f":"N8","v":112},{"$f":"COUNTIF(L10:L11,AD8)","v":0},{"$f":"AE8/(AG4-AE11)","v":0},{"$f":"IF(AF8=0,0,(AF8*((LOG(AF8))/LOG(2))))","v":0},null,{"$f":"N8","v":112},{"$f":"COUNTIF(L12:L12,AI8)","v":0},{"$f":"AJ8/(AL4-AJ11)","v":0},{"$f":"IF(AK8=0,0,(AK8*((LOG(AK8))/LOG(2))))","v":0},null,{"$f":"N8","v":112},{"$f":"COUNTIF(L13:L14,AN8)","v":0},{"$f":"AO8/(AQ4-AO11)","v":0},{"$f":"IF(AP8=0,0,(AP8*((LOG(AP8))/LOG(2))))","v":0},null,{"$f":"N8","v":112},{"$f":"COUNTIF(L15:L15,AS8)","v":0},{"$f":"AT8/(AV4-AT11)","v":0},{"$f":"IF(AU8=0,0,(AU8*((LOG(AU8))/LOG(2))))","v":0}]
[21,468,22,473,24,478,null,null,null,null,0,222,null,121,{"$f":"COUNTIF($L$7:$L$500,N9)","v":0},{"$f":"O9/$Q$4","v":0},{"$f":"IF(P9=0,0,(P9*((LOG(P9))/LOG(2))))","v":0},null,null,{"$f":"N9","v":121},{"$f":"COUNTIF(L7:L8,T9)","v":0},{"$f":"U9/(W4-U11)","v":0},{"$f":"IF(V9=0,0,(V9*((LOG(V9))/LOG(2))))","v":0},null,{"$f":"N9","v":121},{"$f":"COUNTIF(L9:L9,Y9)","v":0},{"$f":"Z9/(AB4-Z11)","v":0},{"$f":"IF(AA9=0,0,(AA9*((LOG(AA9))/LOG(2))))","v":0},null,{"$f":"N9","v":121},{"$f":"COUNTIF(L10:L11,AD9)","v":0},{"$f":"AE9/(AG4-AE11)","v":0},{"$f":"IF(AF9=0,0,(AF9*((LOG(AF9))/LOG(2))))","v":0},null,{"$f":"N9","v":121},{"$f":"COUNTIF(L12:L12,AI9)","v":0},{"$f":"AJ9/(AL4-AJ11)","v":0},{"$f":"IF(AK9=0,0,(AK9*((LOG(AK9))/LOG(2))))","v":0},null,{"$f":"N9","v":121},{"$f":"COUNTIF(L13:L14,AN9)","v":0},{"$f":"AO9/(AQ4-AO11)","v":0},{"$f":"IF(AP9=0,0,(AP9*((LOG(AP9))/LOG(2))))","v":0},null,{"$f":"N9","v":121},{"$f":"COUNTIF(L15:L15,AS9)","v":0},{"$f":"AT9/(AV4-AT11)","v":0},{"$f":"IF(AU9=0,0,(AU9*((LOG(AU9))/LOG(2))))","v":0}]
[12,616,13,621,13,627,null,null,null,null,0,111,null,122,{"$f":"COUNTIF($L$7:$L$500,N10)","v":0},{"$f":"O10/$Q$4","v":0},{"$f":"IF(P10=0,0,(P10*((LOG(P10))/LOG(2))))","v":0},null,null,{"$f":"N10","v":122},{"$f":"COUNTIF(L7:L8,T10)","v":0},{"$f":"U10/(W4-U11)","v":0},{"$f":"IF(V10=0,0,(V10*((LOG(V10))/LOG(2))))","v":0},null,{"$f":"N10","v":122},{"$f":"COUNTIF(L9:L9,Y10)","v":0},{"$f":"Z10/(AB4-Z11)","v":0},{"$f":"IF(AA10=0,0,(AA10*((LOG(AA10))/LOG(2))))","v":0},null,{"$f":"N10","v":122},{"$f":"COUNTIF(L10:L11,AD10)","v":0},{"$f":"AE10/(AG4-AE11)","v":0},{"$f":"IF(AF10=0,0,(AF10*((LOG(AF10))/LOG(2))))","v":0},null,{"$f":"N10","v":122},{"$f":"COUNTIF(L12:L12,AI10)","v":0},{"$f":"AJ10/(AL4-AJ11)","v":0},{"$f":"IF(AK10=0,0,(AK10*((LOG(AK10))/LOG(2))))","v":0},null,{"$f":"N10","v":122},{"$f":"COUNTIF(L13:L14,AN10)","v":0},{"$f":"AO10/(AQ4-AO11)","v":0},{"$f":"IF(AP10=0,0,(AP10*((LOG(AP10))/LOG(2))))","v":0},null,{"$f":"N10","v":122},{"$f":"COUNTIF(L15:L15,AS10)","v":0},{"$f":"AT10/(AV4-AT11)","v":0},{"$f":"IF(AU10=0,0,(AU10*((LOG(AU10))/LOG(2))))","v":0}]
[21,1027,22,1033,24,1043,null,null,null,null,0,222,null,211,{"$f":"COUNTIF($L$7:$L$500,N11)","v":0},{"$f":"O11/$Q$4","v":0},{"$f":"IF(P11=0,0,(P11*((LOG(P11))/LOG(2))))","v":0},null,null,{"$f":"N11","v":211},{"$f":"COUNTIF(L7:L8,T11)","v":0},null,null,null,{"$f":"N11","v":211},{"$f":"COUNTIF(L9:L9,Y11)","v":0},null,null,null,{"$f":"N11","v":211},{"$f":"COUNTIF(L10:L11,AD11)","v":0},null,null,null,{"$f":"N11","v":211},{"$f":"COUNTIF(L12:L12,AI11)","v":0},null,null,null,{"$f":"N11","v":211},{"$f":"COUNTIF(L13:L14,AN11)","v":0},null,null,null,{"$f":"N11","v":211},{"$f":"COUNTIF(L15:L15,AS11)","v":0}]
[12,1181,13,1186,13,1191,null,null,null,null,0,111,null,212,{"$f":"COUNTIF($L$7:$L$500,N12)","v":0},{"$f":"O12/$Q$4","v":0},{"$f":"IF(P12=0,0,(P12*((LOG(P12))/LOG(2))))","v":0},null,null,{"$f":"N12","v":212},{"$f":"COUNTIF(L7:L8,T12)","v":0},{"$f":"U12/(W4-U11)","v":0},{"$f":"IF(V12=0,0,(V12*((LOG(V12))/LOG(2))))","v":0},null,{"$f":"N12","v":212},{"$f":"COUNTIF(L9:L9,Y12)","v":0},{"$f":"Z12/(AB4-Z11)","v":0},{"$f":"IF(AA12=0,0,(AA12*((LOG(AA12))/LOG(2))))","v":0},null,{"$f":"N12","v":212},{"$f":"COUNTIF(L10:L11,AD12)","v":0},{"$f":"AE12/(AG4-AE11)","v":0},{"$f":"IF(AF12=0,0,(AF12*((LOG(AF12))/LOG(2))))","v":0},null,{"$f":"N12","v":212},{"$f":"COUNTIF(L12:L12,AI12)","v":0},{"$f":"AJ12/(AL4-AJ11)","v":0},{"$f":"IF(AK12=0,0,(AK12*((LOG(AK12))/LOG(2))))","v":0},null,{"$f":"N12","v":212},{"$f":"COUNTIF(L13:L14,AN12)","v":0},{"$f":"AO12/(AQ4-AO11)","v":0},{"$f":"IF(AP12=0,0,(AP12*((LOG(AP12))/LOG(2))))","v":0},null,{"$f":"N12","v":212},{"$f":"COUNTIF(L15:L15,AS12)","v":0},{"$f":"AT12/(AV4-AT11)","v":0},{"$f":"IF(AU12=0,0,(AU12*((LOG(AU12))/LOG(2))))","v":0}]
[12,5932,13,5948,13,5955,null,null,null,null,0,111,null,221,{"$f":"COUNTIF($L$7:$L$500,N13)","v":0},{"$f":"O13/$Q$4","v":0},{"$f":"IF(P13=0,0,(P13*((LOG(P13))/LOG(2))))","v":0},null,null,{"$f":"N13","v":221},{"$f":"COUNTIF(L7:L8,T13)","v":0},{"$f":"U13/(W4-U11)","v":0},{"$f":"IF(V13=0,0,(V13*((LOG(V13))/LOG(2))))","v":0},null,{"$f":"N13","v":221},{"$f":"COUNTIF(L9:L9,Y13)","v":0},{"$f":"Z13/(AB4-Z11)","v":0},{"$f":"IF(AA13=0,0,(AA13*((LOG(AA13))/LOG(2))))","v":0},null,{"$f":"N13","v":221},{"$f":"COUNTIF(L10:L11,AD13)","v":0},{"$f":"AE13/(AG4-AE11)","v":0},{"$f":"IF(AF13=0,0,(AF13*((LOG(AF13))/LOG(2))))","v":0},null,{"$f":"N13","v":221},{"$f":"COUNTIF(L12:L12,AI13)","v":0},{"$f":"AJ13/(AL4-AJ11)","v":0},{"$f":"IF(AK13=0,0,(AK13*((LOG(AK13))/LOG(2))))","v":0},null,{"$f":"N13","v":221},{"$f":"COUNTIF(L13:L14,AN13)","v":0},{"$f":"AO13/(AQ4-AO11)","v":0},{"$f":"IF(AP13=0,0,(AP13*((LOG(AP13))/LOG(2))))","v":0},null,{"$f":"N13","v":221},{"$f":"COUNTIF(L15:L15,AS13)","v":0},{"$f":"AT13/(AV4-AT11)","v":0},{"$f":"IF(AU13=0,0,(AU13*((LOG(AU13))/LOG(2))))","v":0}]
[21,6759,22,6770,24,6778,null,null,null,null,0,222,null,222,{"$f":"COUNTIF($L$7:$L$500,N14)","v":4},{"$f":"O14/$Q$4","v":0.44444444444444442},{"$f":"IF(P14=0,0,(P14*((LOG(P14))/LOG(2))))","v":-0.51996666730769447},null,null,{"$f":"N14","v":222},{"$f":"COUNTIF(L7:L8,T14)","v":1},{"$f":"U14/(W4-U11)","v":0.5},{"$f":"IF(V14=0,0,(V14*((LOG(V14))/LOG(2))))","v":-0.5},null,{"$f":"N14","v":222},{"$f":"COUNTIF(L9:L9,Y14)","v":1},{"$f":"Z14/(AB4-Z11)","v":1},{"$f":"IF(AA14=0,0,(AA14*((LOG(AA14))/LOG(2))))","v":0},null,{"$f":"N14","v":222},{"$f":"COUNTIF(L10:L11,AD14)","v":1},{"$f":"AE14/(AG4-AE11)","v":0.5},{"$f":"IF(AF14=0,0,(AF14*((LOG(AF14))/LOG(2))))","v":-0.5},null,{"$f":"N14","v":222},{"$f":"COUNTIF(L12:L12,AI14)","v":0},{"$f":"AJ14/(AL4-AJ11)","v":0},{"$f":"IF(AK14=0,0,(AK14*((LOG(AK14))/LOG(2))))","v":0},null,{"$f":"N14","v":222},{"$f":"COUNTIF(L13:L14,AN14)","v":1},{"$f":"AO14/(AQ4-AO11)","v":0.5},{"$f":"IF(AP14=0,0,(AP14*((LOG(AP14))/LOG(2))))","v":-0.5},null,{"$f":"N14","v":222},{"$f":"COUNTIF(L15:L15,AS14)","v":0},{"$f":"AT14/(AV4-AT11)","v":0},{"$f":"IF(AU14=0,0,(AU14*((LOG(AU14))/LOG(2))))","v":0}]
[12,16675,13,16707,13,16714,null,null,null,null,0,111,null,null,null,{"$f":"SUM(P7:P14)","v":1},{"$f":"-SUM(Q7:Q14)","v":0.99107605983822222},null,null,null,null,{"$f":"SUM(V7:V14)","v":1},{"$f":"-SUM(W7:W14)","v":1},null,null,null,{"$f":"SUM(AA7:AA14)","v":1},{"$f":"-SUM(AB7:AB14)","v":0},null,null,null,{"$f":"SUM(AF7:AF14)","v":1},{"$f":"-SUM(AG7:AG14)","v":1},null,null,null,{"$f":"SUM(AK7:AK14)","v":1},{"$f":"-SUM(AL7:AL14)","v":0},null,null,null,{"$f":"SUM(AP7:AP14)","v":1},{"$f":"-SUM(AQ7:AQ14)","v":1},null,null,null,{"$f":"SUM(AU7:AU14)","v":1},{"$f":"-SUM(AV7:AV14)","v":0}]
[null,null,null,null,null,null,null,null,null,null,null,null,null,null,null,"U=",{"$f":"Q15/(LOG(Q4)/LOG(2))","v":0.3126496871021503},null,null,null,null,"U1=",{"$f":"W15/(LOG(W4)/LOG(2))","v":1},null,null,null,"U2=",{"$f":"AB15/(LOG(AB4)/LOG(2))","v":{"$error":"#DIV/0!"}},null,null,null,"U3=",{"$f":"AG15/(LOG(AG4)/LOG(2))","v":1},null,null,null,"U4=",{"$f":"AL15/(LOG(AL4)/LOG(2))","v":{"$error":"#DIV/0!"}},null,null,null,"U5=",{"$f":"AQ15/(LOG(AQ4)/LOG(2))","v":1},null,null,null,"U6=",{"$f":"AV15/(LOG(AV4)/LOG(2))","v":{"$error":"#DIV/0!"}}]
[]
[]
[null,null,null,null,null,null,null,null,null,null,null,null,null,"Total Target Seq"]
[null,null,null,null,null,null,null,null,null,null,null,null,null,{"$f":"COUNTIF(L7:L15,G3)","v":0},null,2,1,2,1,2,1]
[null,null,null,null,null,null,null,null,null,null,null,null,null,null,null,"% of reinforcement given in 6 equal intervals based on number of trials "]
[null,null,null,null,null,null,null,null,null,null,null,null,null,null,null,"%_1","%_2","%_3","%_4","%_5","%_6"]
[null,null,null,null,null,null,null,null,null,null,null,null,null,null,"target sequence",{"$f":"$G$3","v":211},{"$f":"$G$3","v":211},{"$f":"$G$3","v":211},{"$f":"$G$3","v":211},{"$f":"$G$3","v":211},{"$f":"$G$3","v":211}]
[null,null,null,null,null,null,null,null,null,null,null,null,null,null,"total reinforcement",{"$f":"U11","v":0},{"$f":"Z11","v":0},{"$f":"AE11","v":0},{"$f":"AJ11","v":0},{"$f":"AO11","v":0},{"$f":"AT11","v":0}]
[null,null,null,null,null,null,null,null,null,null,null,null,null,null,"% target"]
[null,null,null,null,null,null,null,null,null,null,null,null,null,null,"CCRF"]
[null,null,null,null,null,null,null,null,null,null,null,null,null,null,"% CCRf"]
[null,null,null,null,null,null,null,null,null,null,null,null,null,null,"average response rate",{"$f":"F8/P20","v":92},{"$f":"(F9-F8)/Q20","v":294},{"$f":"(F11-F9)/R20","v":282.5},{"$f":"(F12-F11)/S20","v":148},{"$f":"(F14-F12)/T20","v":2793.5},{"$f":"(F15-F14)/U20","v":9936}]

{"sheet":"!N110900.010","index":11,"n_rows":28,"n_cols":48,"rows_kept":28,"cut":false,"hidden":false,"merged":[[4,39,4,42],[5,39,5,40],[4,44,4,47],[5,44,5,45],[4,24,4,27],[5,24,5,25],[4,29,4,32],[5,29,5,30],[4,34,4,37],[5,34,5,35],[1,1,1,2],[5,13,5,14],[18,13,18,14],[19,13,19,14],[4,19,4,22],[5,19,5,20]]}
["Report for:!N110900.010"]
["Date:","<date>"]
["Hen:","<hen>",null,null,null,"Correct Sequence",{"$f":"Start!J2","v":211},null,null,null,null,null,null,null,null,"Total Sequences in Data",{"$f":"4994-COUNTBLANK(L7:L5000)","v":21},null,null,null,null,"Total Sequences in Block Data",{"$f":"COUNTA(L7:L10)","v":4},null,null,null,"Total Sequences in Block Data",{"$f":"COUNTA(L11:L13)","v":3},null,null,null,"Total Sequences in Block Data",{"$f":"COUNTA(L14:L17)","v":4},null,null,null,"Total Sequences in Block Data",{"$f":"COUNTA(L18:L20)","v":3},null,null,null,"Total Sequences in Block Data",{"$f":"COUNTA(L21:L24)","v":4},null,null,null,"Total Sequences in Block Data",{"$f":"COUNTA(L25:L27)","v":3}]
[null,null,null,null,null,null,null,null,null,null,null,null,null,null,null,"Total Sequences in Summary",{"$f":"SUM(O7:O14)","v":21},null,null,null,null,"Total Sequences in Block Summary",{"$f":"SUM(U7:U14)","v":4},null,null,null,"Total Sequences in Block Summary",{"$f":"SUM(Z7:Z14)","v":3},null,null,null,"Total Sequences in Block Summary",{"$f":"SUM(AE7:AE14)","v":4},null,null,null,"Total Sequences in Block Summary",{"$f":"SUM(AJ7:AJ14)","v":3},null,null,null,"Total Sequences in Block Summary",{"$f":"SUM(AO7:AO14)","v":4},null,null,null,"Total Sequences in Block Summary",{"$f":"SUM(AT7:AT14)","v":3}]
[null,null,null,null,null,null,null,null,null,null,null,null,null,null,null,null,null,null,null,"Block 1",null,null,null,null,"Block 2",null,null,null,null,"Block 3",null,null,null,null,"Block 4",null,null,null,null,"Block 5",null,null,null,null,"Block 6"]
["Sequence\nComponent\n1","Time\n1","Sequence\nComponent\n2","Time\n2","Sequence\nComponent\n3","Time\n3","Sequence\nComponent\n4","Time\n4","Sequence\nComponent\n5","Time\n5","Correct?\n0=No 1=Yes","Sequence",null,"Frequency",null,"Relative Frequency","Variability",null,null,"Frequency",null,"Relative Frequency","Variability",null,"Frequency",null,"Relative Frequency","Variability",null,"Frequency",null,"Relative Frequency","Variability",null,"Frequency",null,"Relative Frequency","Variability",null,"Frequency",null,"Relative Frequency","Variability",null,"Frequency",null,"Relative Frequency","Variability"]
[12,47,13,52,13,57,null,null,null,null,0,111,null,111,{"$f":"COUNTIF($L$7:$L$500,N7)","v":15},{"$f":"O7/$Q$4","v":0.7142857142857143},{"$f":"IF(P7=0,0,(P7*((LOG(P7))/LOG(2))))","v":-0.34673344797874411},null,null,{"$f":"N7","v":111},{"$f":"COUNTIF(L7:L10,T7)","v":4},{"$f":"U7/(W4-U11)","v":1},{"$f":"IF(V7=0,0,(V7*((LOG(V7))/LOG(2))))","v":0},null,{"$f":"N7","v":111},{"$f":"COUNTIF(L11:L13,Y7)","v":3},{"$f":"Z7/(AB4-Z11)","v":1},{"$f":"IF(AA7=0,0,(AA7*((LOG(AA7))/LOG(2))))","v":0},null,{"$f":"N7","v":111},{"$f":"COUNTIF(L14:L17,AD7)","v":3},{"$f":"AE7/(AG4-AE11)","v":0.75},{"$f":"IF(AF7=0,0,(AF7*((LOG(AF7))/LOG(2))))","v":-0.31127812445913283},null,{"$f":"N7","v":111},{"$f":"COUNTIF(L18:L20,AI7)","v":1},{"$f":"AJ7/(AL4-AJ11)","v":0.33333333333333331},{"$f":"IF(AK7=0,0,(AK7*((LOG(AK7))/LOG(2))))","v":-0.52832083357371862},null,{"$f":"N7","v":111},{"$f":"COUNTIF(L21:L24,AN7)","v":2},{"$f":"AO7/(AQ4-AO11)","v":0.5},{"$f":"IF(AP7=0,0,(AP7*((LOG(AP7))/LOG(2))))","v":-0.5},null,{"$f":"N7","v":111},{"$f":"COUNTIF(L25:L27,AS7)","v":2},{"$f":"AT7/(AV4-AT11)","v":0.66666666666666663},{"$f":"IF(AU7=0,0,(AU7*((LOG(AU7))/LOG(2))))","v":-0.38997500048077083}]
[12,167,13,172,13,177,null,null,null,null,0,111,null,112,{"$f":"COUNTIF($L$7:$L$500,N8)","v":0},{"$f":"O8/$Q$4","v":0},{"$f":"IF(P8=0,0,(P8*((LOG(P8))/LOG(2))))","v":0},null,null,{"$f":"N8","v":112},{"$f":"COUNTIF(L7:L10,T8)","v":0},{"$f":"U8/(W4-U11)","v":0},{"$f":"IF(V8=0,0,(V8*((LOG(V8))/LOG(2))))","v":0},null,{"$f":"N8","v":112},{"$f":"COUNTIF(L11:L13,Y8)","v":0},{"$f":"Z8/(AB4-Z11)","v":0},{"$f":"IF(AA8=0,0,(AA8*((LOG(AA8))/LOG(2))))","v":0},null,{"$f":"N8","v":112},{"$f":"COUNTIF(L14:L17,AD8)","v":0},{"$f":"AE8/(AG4-AE11)","v":0},{"$f":"IF(AF8=0,0,(AF8*((LOG(AF8))/LOG(2))))","v":0},null,{"$f":"N8","v":112},{"$f":"COUNTIF(L18:L20,AI8)","v":0},{"$f":"AJ8/(AL4-AJ11)","v":0},{"$f":"IF(AK8=0,0,(AK8*((LOG(AK8))/LOG(2))))","v":0},null,{"$f":"N8","v":112},{"$f":"COUNTIF(L21:L24,AN8)","v":0},{"$f":"AO8/(AQ4-AO11)","v":0},{"$f":"IF(AP8=0,0,(AP8*((LOG(AP8))/LOG(2))))","v":0},null,{"$f":"N8","v":112},{"$f":"COUNTIF(L25:L27,AS8)","v":0},{"$f":"AT8/(AV4-AT11)","v":0},{"$f":"IF(AU8=0,0,(AU8*((LOG(AU8))/LOG(2))))","v":0}]
[12,317,13,322,13,326,null,null,null,null,0,111,null,121,{"$f":"COUNTIF($L$7:$L$500,N9)","v":0},{"$f":"O9/$Q$4","v":0},{"$f":"IF(P9=0,0,(P9*((LOG(P9))/LOG(2))))","v":0},null,null,{"$f":"N9","v":121},{"$f":"COUNTIF(L7:L10,T9)","v":0},{"$f":"U9/(W4-U11)","v":0},{"$f":"IF(V9=0,0,(V9*((LOG(V9))/LOG(2))))","v":0},null,{"$f":"N9","v":121},{"$f":"COUNTIF(L11:L13,Y9)","v":0},{"$f":"Z9/(AB4-Z11)","v":0},{"$f":"IF(AA9=0,0,(AA9*((LOG(AA9))/LOG(2))))","v":0},null,{"$f":"N9","v":121},{"$f":"COUNTIF(L14:L17,AD9)","v":0},{"$f":"AE9/(AG4-AE11)","v":0},{"$f":"IF(AF9=0,0,(AF9*((LOG(AF9))/LOG(2))))","v":0},null,{"$f":"N9","v":121},{"$f":"COUNTIF(L18:L20,AI9)","v":0},{"$f":"AJ9/(AL4-AJ11)","v":0},{"$f":"IF(AK9=0,0,(AK9*((LOG(AK9))/LOG(2))))","v":0},null,{"$f":"N9","v":121},{"$f":"COUNTIF(L21:L24,AN9)","v":0},{"$f":"AO9/(AQ4-AO11)","v":0},{"$f":"IF(AP9=0,0,(AP9*((LOG(AP9))/LOG(2))))","v":0},null,{"$f":"N9","v":121},{"$f":"COUNTIF(L25:L27,AS9)","v":0},{"$f":"AT9/(AV4-AT11)","v":0},{"$f":"IF(AU9=0,0,(AU9*((LOG(AU9))/LOG(2))))","v":0}]
[12,441,13,446,13,451,null,null,null,null,0,111,null,122,{"$f":"COUNTIF($L$7:$L$500,N10)","v":0},{"$f":"O10/$Q$4","v":0},{"$f":"IF(P10=0,0,(P10*((LOG(P10))/LOG(2))))","v":0},null,null,{"$f":"N10","v":122},{"$f":"COUNTIF(L7:L10,T10)","v":0},{"$f":"U10/(W4-U11)","v":0},{"$f":"IF(V10=0,0,(V10*((LOG(V10))/LOG(2))))","v":0},null,{"$f":"N10","v":122},{"$f":"COUNTIF(L11:L13,Y10)","v":0},{"$f":"Z10/(AB4-Z11)","v":0},{"$f":"IF(AA10=0,0,(AA10*((LOG(AA10))/LOG(2))))","v":0},null,{"$f":"N10","v":122},{"$f":"COUNTIF(L14:L17,AD10)","v":0},{"$f":"AE10/(AG4-AE11)","v":0},{"$f":"IF(AF10=0,0,(AF10*((LOG(AF10))/LOG(2))))","v":0},null,{"$f":"N10","v":122},{"$f":"COUNTIF(L18:L20,AI10)","v":0},{"$f":"AJ10/(AL4-AJ11)","v":0},{"$f":"IF(AK10=0,0,(AK10*((LOG(AK10))/LOG(2))))","v":0},null,{"$f":"N10","v":122},{"$f":"COUNTIF(L21:L24,AN10)","v":0},{"$f":"AO10/(AQ4-AO11)","v":0},{"$f":"IF(AP10=0,0,(AP10*((LOG(AP10))/LOG(2))))","v":0},null,{"$f":"N10","v":122},{"$f":"COUNTIF(L25:L27,AS10)","v":0},{"$f":"AT10/(AV4-AT11)","v":0},{"$f":"IF(AU10=0,0,(AU10*((LOG(AU10))/LOG(2))))","v":0}]
[12,667,13,674,13,683,null,null,null,null,0,111,null,211,{"$f":"COUNTIF($L$7:$L$500,N11)","v":0},{"$f":"O11/$Q$4","v":0},{"$f":"IF(P11=0,0,(P11*((LOG(P11))/LOG(2))))","v":0},null,null,{"$f":"N11","v":211},{"$f":"COUNTIF(L7:L10,T11)","v":0},null,null,null,{"$f":"N11","v":211},{"$f":"COUNTIF(L11:L13,Y11)","v":0},null,null,null,{"$f":"N11","v":211},{"$f":"COUNTIF(L14:L17,AD11)","v":0},null,null,null,{"$f":"N11","v":211},{"$f":"COUNTIF(L18:L20,AI11)","v":0},null,null,null,{"$f":"N11","v":211},{"$f":"COUNTIF(L21:L24,AN11)","v":0},null,null,null,{"$f":"N11","v":211},{"$f":"COUNTIF(L25:L27,AS11)","v":0}]
[12,919,13,925,13,938,null,null,null,null,0,111,null,212,{"$f":"COUNTIF($L$7:$L$500,N12)","v":0},{"$f":"O12/$Q$4","v":0},{"$f":"IF(P12=0,0,(P12*((LOG(P12))/LOG(2))))","v":0},null,null,{"$f":"N12","v":212},{"$f":"COUNTIF(L7:L10,T12)","v":0},{"$f":"U12/(W4-U11)","v":0},{"$f":"IF(V12=0,0,(V12*((LOG(V12))/LOG(2))))","v":0},null,{"$f":"N12","v":212},{"$f":"COUNTIF(L11:L13,Y12)","v":0},{"$f":"Z12/(AB4-Z11)","v":0},{"$f":"IF(AA12=0,0,(AA12*((LOG(AA12))/LOG(2))))","v":0},null,{"$f":"N12","v":212},{"$f":"COUNTIF(L14:L17,AD12)","v":0},{"$f":"AE12/(AG4-AE11)","v":0},{"$f":"IF(AF12=0,0,(AF12*((LOG(AF12))/LOG(2))))","v":0},null,{"$f":"N12","v":212},{"$f":"COUNTIF(L18:L20,AI12)","v":0},{"$f":"AJ12/(AL4-AJ11)","v":0},{"$f":"IF(AK12=0,0,(AK12*((LOG(AK12))/LOG(2))))","v":0},null,{"$f":"N12","v":212},{"$f":"COUNTIF(L21:L24,AN12)","v":0},{"$f":"AO12/(AQ4-AO11)","v":0},{"$f":"IF(AP12=0,0,(AP12*((LOG(AP12))/LOG(2))))","v":0},null,{"$f":"N12","v":212},{"$f":"COUNTIF(L25:L27,AS12)","v":0},{"$f":"AT12/(AV4-AT11)","v":0},{"$f":"IF(AU12=0,0,(AU12*((LOG(AU12))/LOG(2))))","v":0}]
[12,1080,13,1092,13,1098,null,null,null,null,0,111,null,221,{"$f":"COUNTIF($L$7:$L$500,N13)","v":0},{"$f":"O13/$Q$4","v":0},{"$f":"IF(P13=0,0,(P13*((LOG(P13))/LOG(2))))","v":0},null,null,{"$f":"N13","v":221},{"$f":"COUNTIF(L7:L10,T13)","v":0},{"$f":"U13/(W4-U11)","v":0},{"$f":"IF(V13=0,0,(V13*((LOG(V13))/LOG(2))))","v":0},null,{"$f":"N13","v":221},{"$f":"COUNTIF(L11:L13,Y13)","v":0},{"$f":"Z13/(AB4-Z11)","v":0},{"$f":"IF(AA13=0,0,(AA13*((LOG(AA13))/LOG(2))))","v":0},null,{"$f":"N13","v":221},{"$f":"COUNTIF(L14:L17,AD13)","v":0},{"$f":"AE13/(AG4-AE11)","v":0},{"$f":"IF(AF13=0,0,(AF13*((LOG(AF13))/LOG(2))))","v":0},null,{"$f":"N13","v":221},{"$f":"COUNTIF(L18:L20,AI13)","v":0},{"$f":"AJ13/(AL4-AJ11)","v":0},{"$f":"IF(AK13=0,0,(AK13*((LOG(AK13))/LOG(2))))","v":0},null,{"$f":"N13","v":221},{"$f":"COUNTIF(L21:L24,AN13)","v":0},{"$f":"AO13/(AQ4-AO11)","v":0},{"$f":"IF(AP13=0,0,(AP13*((LOG(AP13))/LOG(2))))","v":0},null,{"$f":"N13","v":221},{"$f":"COUNTIF(L25:L27,AS13)","v":0},{"$f":"AT13/(AV4-AT11)","v":0},{"$f":"IF(AU13=0,0,(AU13*((LOG(AU13))/LOG(2))))","v":0}]
[12,4657,13,4663,13,4673,null,null,null,null,0,111,null,222,{"$f":"COUNTIF($L$7:$L$500,N14)","v":6},{"$f":"O14/$Q$4","v":0.2857142857142857},{"$f":"IF(P14=0,0,(P14*((LOG(P14))/LOG(2))))","v":-0.51638712058788683},null,null,{"$f":"N14","v":222},{"$f":"COUNTIF(L7:L10,T14)","v":0},{"$f":"U14/(W4-U11)","v":0},{"$f":"IF(V14=0,0,(V14*((LOG(V14))/LOG(2))))","v":0},null,{"$f":"N14","v":222},{"$f":"COUNTIF(L11:L13,Y14)","v":0},{"$f":"Z14/(AB4-Z11)","v":0},{"$f":"IF(AA14=0,0,(AA14*((LOG(AA14))/LOG(2))))","v":0},null,{"$f":"N14","v":222},{"$f":"COUNTIF(L14:L17,AD14)","v":1},{"$f":"AE14/(AG4-AE11)","v":0.25},{"$f":"IF(AF14=0,0,(AF14*((LOG(AF14))/LOG(2))))","v":-0.5},null,{"$f":"N14","v":222},{"$f":"COUNTIF(L18:L20,AI14)","v":2},{"$f":"AJ14/(AL4-AJ11)","v":0.66666666666666663},{"$f":"IF(AK14=0,0,(AK14*((LOG(AK14))/LOG(2))))","v":-0.38997500048077083},null,{"$f":"N14","v":222},{"$f":"COUNTIF(L21:L24,AN14)","v":2},{"$f":"AO14/(AQ4-AO11)","v":0.5},{"$f":"IF(AP14=0,0,(AP14*((LOG(AP14))/LOG(2))))","v":-0.5},null,{"$f":"N14","v":222},{"$f":"COUNTIF(L25:L27,AS14)","v":1},{"$f":"AT14/(AV4-AT11)","v":0.33333333333333331},{"$f":"IF(AU14=0,0,(AU14*((LOG(AU14))/LOG(2))))","v":-0.52832083357371862}]
[12,5951,13,5964,13,5989,null,null,null,null,0,111,null,null,null,{"$f":"SUM(P7:P14)","v":1},{"$f":"-SUM(Q7:Q14)","v":0.863120568566631},null,null,null,null,{"$f":"SUM(V7:V14)","v":1},{"$f":"-SUM(W7:W14)","v":0},null,null,null,{"$f":"SUM(AA7:AA14)","v":1},{"$f":"-SUM(AB7:AB14)","v":0},null,null,null,{"$f":"SUM(AF7:AF14)","v":1},{"$f":"-SUM(AG7:AG14)","v":0.81127812445913283},null,null,null,{"$f":"SUM(AK7:AK14)","v":1},{"$f":"-SUM(AL7:AL14)","v":0.91829583405448945},null,null,null,{"$f":"SUM(AP7:AP14)","v":1},{"$f":"-SUM(AQ7:AQ14)","v":1},null,null,null,{"$f":"SUM(AU7:AU14)","v":1},{"$f":"-SUM(AV7:AV14)","v":0.91829583405448945}]
[21,6161,22,6170,24,6176,null,null,null,null,0,222,null,null,null,"U=",{"$f":"Q15/(LOG(Q4)/LOG(2))","v":0.19650687450102033},null,null,null,null,"U1=",{"$f":"W15/(LOG(W4)/LOG(2))","v":0},null,null,null,"U2=",{"$f":"AB15/(LOG(AB4)/LOG(2))","v":0},null,null,null,"U3=",{"$f":"AG15/(LOG(AG4)/LOG(2))","v":0.40563906222956642},null,null,null,"U4=",{"$f":"AL15/(LOG(AL4)/LOG(2))","v":0.57938016428569505},null,null,null,"U5=",{"$f":"AQ15/(LOG(AQ4)/LOG(2))","v":0.5},null,null,null,"U6=",{"$f":"AV15/(LOG(AV4)/LOG(2))","v":0.57938016428569505}]
[12,6445,13,6458,13,6462,null,null,null,null,0,111]
[21,6597,22,6608,24,6617,null,null,null,null,0,222]
[21,7189,22,7199,24,7204,null,null,null,null,0,222,null,"Total Target Seq"]
[12,7310,13,7320,13,7325,null,null,null,null,0,111,null,{"$f":"COUNTIF(L7:L27,G3)","v":0},null,4,3,4,3,4,3]
[12,7438,13,7443,13,7447,null,null,null,null,0,111,null,null,null,"% of reinforcement given in 6 equal intervals based on number of trials "]
[21,7550,22,7555,24,7560,null,null,null,null,0,222,null,null,null,"%_1","%_2","%_3","%_4","%_5","%_6"]
[12,7659,13,7664,13,7668,null,null,null,null,0,111,null,null,"target sequence",{"$f":"$G$3","v":211},{"$f":"$G$3","v":211},{"$f":"$G$3","v":211},{"$f":"$G$3","v":211},{"$f":"$G$3","v":211},{"$f":"$G$3","v":211}]
[21,7773,22,7779,24,7787,null,null,null,null,0,222,null,null,"total reinforcement",{"$f":"U11","v":0},{"$f":"Z11","v":0},{"$f":"AE11","v":0},{"$f":"AJ11","v":0},{"$f":"AO11","v":0},{"$f":"AT11","v":0}]
[12,7886,13,7891,13,7897,null,null,null,null,0,111,null,null,"% target"]
[12,8040,13,8045,13,8055,null,null,null,null,0,111,null,null,"CCRF"]
[21,8179,22,8184,24,8189,null,null,null,null,0,222,null,null,"% CCRf"]
[null,null,null,null,null,null,null,null,null,null,null,null,null,null,"average response rate",{"$f":"F10/P20","v":112.75},{"$f":"(F13-F10)/Q20","v":215.66666666666666},{"$f":"(F17-F13)/R20","v":1341},{"$f":"(F20-F17)/S20","v":287.66666666666669},{"$f":"(F24-F20)/T20","v":115.5},{"$f":"(F27-F24)/U20","v":134}]

{"sheet":"!N111930.010","index":12,"n_rows":28,"n_cols":48,"rows_kept":28,"cut":false,"hidden":false,"merged":[[4,39,4,42],[5,39,5,40],[4,44,4,47],[5,44,5,45],[4,24,4,27],[5,24,5,25],[4,29,4,32],[5,29,5,30],[4,34,4,37],[5,34,5,35],[1,1,1,2],[5,13,5,14],[18,13,18,14],[19,13,19,14],[4,19,4,22],[5,19,5,20]]}
["Report for:!N111930.010"]
["Date:","<date>"]
["Hen:","<hen>",null,null,null,"Correct Sequence",{"$f":"Start!J2","v":211},null,null,null,null,null,null,null,null,"Total Sequences in Data",{"$f":"4994-COUNTBLANK(L7:L5000)","v":7},null,null,null,null,"Total Sequences in Block Data",{"$f":"COUNTA(L7:L7)","v":1},null,null,null,"Total Sequences in Block Data",{"$f":"COUNTA(L8:L8)","v":1},null,null,null,"Total Sequences in Block Data",{"$f":"COUNTA(L9:L10)","v":2},null,null,null,"Total Sequences in Block Data",{"$f":"COUNTA(L11:L11)","v":1},null,null,null,"Total Sequences in Block Data",{"$f":"COUNTA(L12:L12)","v":1},null,null,null,"Total Sequences in Block Data",{"$f":"COUNTA(L13:L13)","v":1}]
[null,null,null,null,null,null,null,null,null,null,null,null,null,null,null,"Total Sequences in Summary",{"$f":"SUM(O7:O14)","v":7},null,null,null,null,"Total Sequences in Block Summary",{"$f":"SUM(U7:U14)","v":1},null,null,null,"Total Sequences in Block Summary",{"$f":"SUM(Z7:Z14)","v":1},null,null,null,"Total Sequences in Block Summary",{"$f":"SUM(AE7:AE14)","v":2},null,null,null,"Total Sequences in Block Summary",{"$f":"SUM(AJ7:AJ14)","v":1},null,null,null,"Total Sequences in Block Summary",{"$f":"SUM(AO7:AO14)","v":1},null,null,null,"Total Sequences in Block Summary",{"$f":"SUM(AT7:AT14)","v":1}]
[null,null,null,null,null,null,null,null,null,null,null,null,null,null,null,null,null,null,null,"Block 1",null,null,null,null,"Block 2",null,null,null,null,"Block 3",null,null,null,null,"Block 4",null,null,null,null,"Block 5",null,null,null,null,"Block 6"]
["Sequence\nComponent\n1","Time\n1","Sequence\nComponent\n2","Time\n2","Sequence\nComponent\n3","Time\n3","Sequence\nComponent\n4","Time\n4","Sequence\nComponent\n5","Time\n5","Correct?\n0=No 1=Yes","Sequence",null,"Frequency",null,"Relative Frequency","Variability",null,null,"Frequency",null,"Relative Frequency","Variability",null,"Frequency",null,"Relative Frequency","Variability",null,"Frequency",null,"Relative Frequency","Variability",null,"Frequency",null,"Relative Frequency","Variability",null,"Frequency",null,"Relative Frequency","Variability",null,"Frequency",null,"Relative Frequency","Variability"]
[12,71,13,81,13,87,null,null,null,null,0,111,null,111,{"$f":"COUNTIF($L$7:$L$500,N7)","v":3},{"$f":"O7/$Q$4","v":0.42857142857142855},{"$f":"IF(P7=0,0,(P7*((LOG(P7))/LOG(2))))","v":-0.52388246628704915},null,null,{"$f":"N7","v":111},{"$f":"COUNTIF(L7:L7,T7)","v":1},{"$f":"U7/(W4-U11)","v":1},{"$f":"IF(V7=0,0,(V7*((LOG(V7))/LOG(2))))","v":0},null,{"$f":"N7","v":111},{"$f":"COUNTIF(L8:L8,Y7)","v":0},{"$f":"Z7/(AB4-Z11)","v":0},{"$f":"IF(AA7=0,0,(AA7*((LOG(AA7))/LOG(2))))","v":0},null,{"$f":"N7","v":111},{"$f":"COUNTIF(L9:L10,AD7)","v":0},{"$f":"AE7/(AG4-AE11)","v":0},{"$f":"IF(AF7=0,0,(AF7*((LOG(AF7))/LOG(2))))","v":0},null,{"$f":"N7","v":111},{"$f":"COUNTIF(L11:L11,AI7)","v":1},{"$f":"AJ7/(AL4-AJ11)","v":1},{"$f":"IF(AK7=0,0,(AK7*((LOG(AK7))/LOG(2))))","v":0},null,{"$f":"N7","v":111},{"$f":"COUNTIF(L12:L12,AN7)","v":1},{"$f":"AO7/(AQ4-AO11)","v":1},{"$f":"IF(AP7=0,0,(AP7*((LOG(AP7))/LOG(2))))","v":0},null,{"$f":"N7","v":111},{"$f":"COUNTIF(L13:L13,AS7)","v":0},{"$f":"AT7/(AV4-AT11)","v":0},{"$f":"IF(AU7=0,0,(AU7*((LOG(AU7))/LOG(2))))","v":0}]
[21,226,22,232,13,254,null,null,null,null,0,221,null,112,{"$f":"COUNTIF($L$7:$L$500,N8)","v":0},{"$f":"O8/$Q$4","v":0},{"$f":"IF(P8=0,0,(P8*((LOG(P8))/LOG(2))))","v":0},null,null,{"$f":"N8","v":112},{"$f":"COUNTIF(L7:L7,T8)","v":0},{"$f":"U8/(W4-U11)","v":0},{"$f":"IF(V8=0,0,(V8*((LOG(V8))/LOG(2))))","v":0},null,{"$f":"N8","v":112},{"$f":"COUNTIF(L8:L8,Y8)","v":0},{"$f":"Z8/(AB4-Z11)","v":0},{"$f":"IF(AA8=0,0,(AA8*((LOG(AA8))/LOG(2))))","v":0},null,{"$f":"N8","v":112},{"$f":"COUNTIF(L9:L10,AD8)","v":0},{"$f":"AE8/(AG4-AE11)","v":0},{"$f":"IF(AF8=0,0,(AF8*((LOG(AF8))/LOG(2))))","v":0},null,{"$f":"N8","v":112},{"$f":"COUNTIF(L11:L11,AI8)","v":0},{"$f":"AJ8/(AL4-AJ11)","v":0},{"$f":"IF(AK8=0,0,(AK8*((LOG(AK8))/LOG(2))))","v":0},null,{"$f":"N8","v":112},{"$f":"COUNTIF(L12:L12,AN8)","v":0},{"$f":"AO8/(AQ4-AO11)","v":0},{"$f":"IF(AP8=0,0,(AP8*((LOG(AP8))/LOG(2))))","v":0},null,{"$f":"N8","v":112},{"$f":"COUNTIF(L13:L13,AS8)","v":0},{"$f":"AT8/(AV4-AT11)","v":0},{"$f":"IF(AU8=0,0,(AU8*((LOG(AU8))/LOG(2))))","v":0}]
[21,604,22,610,24,616,null,null,null,null,0,222,null,121,{"$f":"COUNTIF($L$7:$L$500,N9)","v":0},{"$f":"O9/$Q$4","v":0},{"$f":"IF(P9=0,0,(P9*((LOG(P9))/LOG(2))))","v":0},null,null,{"$f":"N9","v":121},{"$f":"COUNTIF(L7:L7,T9)","v":0},{"$f":"U9/(W4-U11)","v":0},{"$f":"IF(V9=0,0,(V9*((LOG(V9))/LOG(2))))","v":0},null,{"$f":"N9","v":121},{"$f":"COUNTIF(L8:L8,Y9)","v":0},{"$f":"Z9/(AB4-Z11)","v":0},{"$f":"IF(AA9=0,0,(AA9*((LOG(AA9))/LOG(2))))","v":0},null,{"$f":"N9","v":121},{"$f":"COUNTIF(L9:L10,AD9)","v":0},{"$f":"AE9/(AG4-AE11)","v":0},{"$f":"IF(AF9=0,0,(AF9*((LOG(AF9))/LOG(2))))","v":0},null,{"$f":"N9","v":121},{"$f":"COUNTIF(L11:L11,AI9)","v":0},{"$f":"AJ9/(AL4-AJ11)","v":0},{"$f":"IF(AK9=0,0,(AK9*((LOG(AK9))/LOG(2))))","v":0},null,{"$f":"N9","v":121},{"$f":"COUNTIF(L12:L12,AN9)","v":0},{"$f":"AO9/(AQ4-AO11)","v":0},{"$f":"IF(AP9=0,0,(AP9*((LOG(AP9))/LOG(2))))","v":0},null,{"$f":"N9","v":121},{"$f":"COUNTIF(L13:L13,AS9)","v":0},{"$f":"AT9/(AV4-AT11)","v":0},{"$f":"IF(AU9=0,0,(AU9*((LOG(AU9))/LOG(2))))","v":0}]
[21,740,22,746,24,755,null,null,null,null,0,222,null,122,{"$f":"COUNTIF($L$7:$L$500,N10)","v":0},{"$f":"O10/$Q$4","v":0},{"$f":"IF(P10=0,0,(P10*((LOG(P10))/LOG(2))))","v":0},null,null,{"$f":"N10","v":122},{"$f":"COUNTIF(L7:L7,T10)","v":0},{"$f":"U10/(W4-U11)","v":0},{"$f":"IF(V10=0,0,(V10*((LOG(V10))/LOG(2))))","v":0},null,{"$f":"N10","v":122},{"$f":"COUNTIF(L8:L8,Y10)","v":0},{"$f":"Z10/(AB4-Z11)","v":0},{"$f":"IF(AA10=0,0,(AA10*((LOG(AA10))/LOG(2))))","v":0},null,{"$f":"N10","v":122},{"$f":"COUNTIF(L9:L10,AD10)","v":0},{"$f":"AE10/(AG4-AE11)","v":0},{"$f":"IF(AF10=0,0,(AF10*((LOG(AF10))/LOG(2))))","v":0},null,{"$f":"N10","v":122},{"$f":"COUNTIF(L11:L11,AI10)","v":0},{"$f":"AJ10/(AL4-AJ11)","v":0},{"$f":"IF(AK10=0,0,(AK10*((LOG(AK10))/LOG(2))))","v":0},null,{"$f":"N10","v":122},{"$f":"COUNTIF(L12:L12,AN10)","v":0},{"$f":"AO10/(AQ4-AO11)","v":0},{"$f":"IF(AP10=0,0,(AP10*((LOG(AP10))/LOG(2))))","v":0},null,{"$f":"N10","v":122},{"$f":"COUNTIF(L13:L13,AS10)","v":0},{"$f":"AT10/(AV4-AT11)","v":0},{"$f":"IF(AU10=0,0,(AU10*((LOG(AU10))/LOG(2))))","v":0}]
[12,928,13,936,13,948,null,null,null,null,0,111,null,211,{"$f":"COUNTIF($L$7:$L$500,N11)","v":0},{"$f":"O11/$Q$4","v":0},{"$f":"IF(P11=0,0,(P11*((LOG(P11))/LOG(2))))","v":0},null,null,{"$f":"N11","v":211},{"$f":"COUNTIF(L7:L7,T11)","v":0},null,null,null,{"$f":"N11","v":211},{"$f":"COUNTIF(L8:L8,Y11)","v":0},null,null,null,{"$f":"N11","v":211},{"$f":"COUNTIF(L9:L10,AD11)","v":0},null,null,null,{"$f":"N11","v":211},{"$f":"COUNTIF(L11:L11,AI11)","v":0},null,null,null,{"$f":"N11","v":211},{"$f":"COUNTIF(L12:L12,AN11)","v":0},null,null,null,{"$f":"N11","v":211},{"$f":"COUNTIF(L13:L13,AS11)","v":0}]
[12,1060,13,1066,13,1070,null,null,null,null,0,111,null,212,{"$f":"COUNTIF($L$7:$L$500,N12)","v":0},{"$f":"O12/$Q$4","v":0},{"$f":"IF(P12=0,0,(P12*((LOG(P12))/LOG(2))))","v":0},null,null,{"$f":"N12","v":212},{"$f":"COUNTIF(L7:L7,T12)","v":0},{"$f":"U12/(W4-U11)","v":0},{"$f":"IF(V12=0,0,(V12*((LOG(V12))/LOG(2))))","v":0},null,{"$f":"N12","v":212},{"$f":"COUNTIF(L8:L8,Y12)","v":0},{"$f":"Z12/(AB4-Z11)","v":0},{"$f":"IF(AA12=0,0,(AA12*((LOG(AA12))/LOG(2))))","v":0},null,{"$f":"N12","v":212},{"$f":"COUNTIF(L9:L10,AD12)","v":0},{"$f":"AE12/(AG4-AE11)","v":0},{"$f":"IF(AF12=0,0,(AF12*((LOG(AF12))/LOG(2))))","v":0},null,{"$f":"N12","v":212},{"$f":"COUNTIF(L11:L11,AI12)","v":0},{"$f":"AJ12/(AL4-AJ11)","v":0},{"$f":"IF(AK12=0,0,(AK12*((LOG(AK12))/LOG(2))))","v":0},null,{"$f":"N12","v":212},{"$f":"COUNTIF(L12:L12,AN12)","v":0},{"$f":"AO12/(AQ4-AO11)","v":0},{"$f":"IF(AP12=0,0,(AP12*((LOG(AP12))/LOG(2))))","v":0},null,{"$f":"N12","v":212},{"$f":"COUNTIF(L13:L13,AS12)","v":0},{"$f":"AT12/(AV4-AT11)","v":0},{"$f":"IF(AU12=0,0,(AU12*((LOG(AU12))/LOG(2))))","v":0}]
[21,23843,22,23865,24,23874,null,null,null,null,0,222,null,221,{"$f":"COUNTIF($L$7:$L$500,N13)","v":1},{"$f":"O13/$Q$4","v":0.14285714285714285},{"$f":"IF(P13=0,0,(P13*((LOG(P13))/LOG(2))))","v":-0.40105070315108626},null,null,{"$f":"N13","v":221},{"$f":"COUNTIF(L7:L7,T13)","v":0},{"$f":"U13/(W4-U11)","v":0},{"$f":"IF(V13=0,0,(V13*((LOG(V13))/LOG(2))))","v":0},null,{"$f":"N13","v":221},{"$f":"COUNTIF(L8:L8,Y13)","v":1},{"$f":"Z13/(AB4-Z11)","v":1},{"$f":"IF(AA13=0,0,(AA13*((LOG(AA13))/LOG(2))))","v":0},null,{"$f":"N13","v":221},{"$f":"COUNTIF(L9:L10,AD13)","v":0},{"$f":"AE13/(AG4-AE11)","v":0},{"$f":"IF(AF13=0,0,(AF13*((LOG(AF13))/LOG(2))))","v":0},null,{"$f":"N13","v":221},{"$f":"COUNTIF(L11:L11,AI13)","v":0},{"$f":"AJ13/(AL4-AJ11)","v":0},{"$f":"IF(AK13=0,0,(AK13*((LOG(AK13))/LOG(2))))","v":0},null,{"$f":"N13","v":221},{"$f":"COUNTIF(L12:L12,AN13)","v":0},{"$f":"AO13/(AQ4-AO11)","v":0},{"$f":"IF(AP13=0,0,(AP13*((LOG(AP13))/LOG(2))))","v":0},null,{"$f":"N13","v":221},{"$f":"COUNTIF(L13:L13,AS13)","v":0},{"$f":"AT13/(AV4-AT11)","v":0},{"$f":"IF(AU13=0,0,(AU13*((LOG(AU13))/LOG(2))))","v":0}]
[null,null,null,null,null,null,null,null,null,null,null,null,null,222,{"$f":"COUNTIF($L$7:$L$500,N14)","v":3},{"$f":"O14/$Q$4","v":0.42857142857142855},{"$f":"IF(P14=0,0,(P14*((LOG(P14))/LOG(2))))","v":-0.52388246628704915},null,null,{"$f":"N14","v":222},{"$f":"COUNTIF(L7:L7,T14)","v":0},{"$f":"U14/(W4-U11)","v":0},{"$f":"IF(V14=0,0,(V14*((LOG(V14))/LOG(2))))","v":0},null,{"$f":"N14","v":222},{"$f":"COUNTIF(L8:L8,Y14)","v":0},{"$f":"Z14/(AB4-Z11)","v":0},{"$f":"IF(AA14=0,0,(AA14*((LOG(AA14))/LOG(2))))","v":0},null,{"$f":"N14","v":222},{"$f":"COUNTIF(L9:L10,AD14)","v":2},{"$f":"AE14/(AG4-AE11)","v":1},{"$f":"IF(AF14=0,0,(AF14*((LOG(AF14))/LOG(2))))","v":0},null,{"$f":"N14","v":222},{"$f":"COUNTIF(L11:L11,AI14)","v":0},{"$f":"AJ14/(AL4-AJ11)","v":0},{"$f":"IF(AK14=0,0,(AK14*((LOG(AK14))/LOG(2))))","v":0},null,{"$f":"N14","v":222},{"$f":"COUNTIF(L12:L12,AN14)","v":0},{"$f":"AO14/(AQ4-AO11)","v":0},{"$f":"IF(AP14=0,0,(AP14*((LOG(AP14))/LOG(2))))","v":0},null,{"$f":"N14","v":222},{"$f":"COUNTIF(L13:L13,AS14)","v":1},{"$f":"AT14/(AV4-AT11)","v":1},{"$f":"IF(AU14=0,0,(AU14*((LOG(AU14))/LOG(2))))","v":0}]
[null,null,null,null,null,null,null,null,null,null,null,null,null,null,null,{"$f":"SUM(P7:P14)","v":1},{"$f":"-SUM(Q7:Q14)","v":1.4488156357251847},null,null,null,null,{"$f":"SUM(V7:V14)","v":1},{"$f":"-SUM(W7:W14)","v":0},null,null,null,{"$f":"SUM(AA7:AA14)","v":1},{"$f":"-SUM(AB7:AB14)","v":0},null,null,null,{"$f":"SUM(AF7:AF14)","v":1},{"$f":"-SUM(AG7:AG14)","v":0},null,null,null,{"$f":"SUM(AK7:AK14)","v":1},{"$f":"-SUM(AL7:AL14)","v":0},null,null,null,{"$f":"SUM(AP7:AP14)","v":1},{"$f":"-SUM(AQ7:AQ14)","v":0},null,null,null,{"$f":"SUM(AU7:AU14)","v":1},{"$f":"-SUM(AV7:AV14)","v":0}]
[null,null,null,null,null,null,null,null,null,null,null,null,null,null,null,"U=",{"$f":"Q15/(LOG(Q4)/LOG(2))","v":0.516078542239789},null,null,null,null,"U1=",{"$f":"W15/(LOG(W4)/LOG(2))","v":{"$error":"#DIV/0!"}},null,null,null,"U2=",{"$f":"AB15/(LOG(AB4)/LOG(2))","v":{"$error":"#DIV/0!"}},null,null,null,"U3=",{"$f":"AG15/(LOG(AG4)/LOG(2))","v":0},null,null,null,"U4=",{"$f":"AL15/(LOG(AL4)/LOG(2))","v":{"$error":"#DIV/0!"}},null,null,null,"U5=",{"$f":"AQ15/(LOG(AQ4)/LOG(2))","v":{"$error":"#DIV/0!"}},null,null,null,"U6=",{"$f":"AV15/(LOG(AV4)/LOG(2))","v":{"$error":"#DIV/0!"}}]
[]
[]
[null,null,null,null,null,null,null,null,null,null,null,null,null,"Total Target Seq"]
[null,null,null,null,null,null,null,null,null,null,null,null,null,{"$f":"COUNTIF(L7:L13,G3)","v":0},null,1,1,2,1,1,1]
[null,null,null,null,null,null,null,null,null,null,null,null,null,null,null,"% of reinforcement given in 6 equal intervals based on number of trials "]
[null,null,null,null,null,null,null,null,null,null,null,null,null,null,null,"%_1","%_2","%_3","%_4","%_5","%_6"]
[null,null,null,null,null,null,null,null,null,null,null,null,null,null,"target sequence",{"$f":"$G$3","v":211},{"$f":"$G$3","v":211},{"$f":"$G$3","v":211},{"$f":"$G$3","v":211},{"$f":"$G$3","v":211},{"$f":"$G$3","v":211}]
[null,null,null,null,null,null,null,null,null,null,null,null,null,null,"total reinforcement",{"$f":"U11","v":0},{"$f":"Z11","v":0},{"$f":"AE11","v":0},{"$f":"AJ11","v":0},{"$f":"AO11","v":0},{"$f":"AT11","v":0}]
[null,null,null,null,null,null,null,null,null,null,null,null,null,null,"% target"]
[null,null,null,null,null,null,null,null,null,null,null,null,null,null,"CCRF"]
[null,null,null,null,null,null,null,null,null,null,null,null,null,null,"% CCRf"]
[null,null,null,null,null,null,null,null,null,null,null,null,null,null,"average response rate",{"$f":"F7/P20","v":87},{"$f":"(F8-F7)/Q20","v":167},{"$f":"(F10-F8)/R20","v":250.5},{"$f":"(F11-F10)/S20","v":193},{"$f":"(F12-F11)/T20","v":122},{"$f":"(F13-F12)/U20","v":22804}]

{"sheet":"!N112750.010","index":13,"n_rows":28,"n_cols":48,"rows_kept":28,"cut":false,"hidden":false,"merged":[[4,39,4,42],[5,39,5,40],[4,44,4,47],[5,44,5,45],[4,24,4,27],[5,24,5,25],[4,29,4,32],[5,29,5,30],[4,34,4,37],[5,34,5,35],[1,1,1,2],[5,13,5,14],[18,13,18,14],[19,13,19,14],[4,19,4,22],[5,19,5,20]]}
["Report for:!N112750.010"]
["Date:","<date>"]
["Hen:","<hen>",null,null,null,"Correct Sequence",{"$f":"Start!J2","v":211},null,null,null,null,null,null,null,null,"Total Sequences in Data",{"$f":"4994-COUNTBLANK(L7:L5000)","v":9},null,null,null,null,"Total Sequences in Block Data",{"$f":"COUNTA(L7:L8)","v":2},null,null,null,"Total Sequences in Block Data",{"$f":"COUNTA(L9:L9)","v":1},null,null,null,"Total Sequences in Block Data",{"$f":"COUNTA(L10:L11)","v":2},null,null,null,"Total Sequences in Block Data",{"$f":"COUNTA(L12:L12)","v":1},null,null,null,"Total Sequences in Block Data",{"$f":"COUNTA(L13:L14)","v":2},null,null,null,"Total Sequences in Block Data",{"$f":"COUNTA(L15:L15)","v":1}]
[null,null,null,null,null,null,null,null,null,null,null,null,null,null,null,"Total Sequences in Summary",{"$f":"SUM(O7:O14)","v":9},null,null,null,null,"Total Sequences in Block Summary",{"$f":"SUM(U7:U14)","v":2},null,null,null,"Total Sequences in Block Summary",{"$f":"SUM(Z7:Z14)","v":1},null,null,null,"Total Sequences in Block Summary",{"$f":"SUM(AE7:AE14)","v":2},null,null,null,"Total Sequences in Block Summary",{"$f":"SUM(AJ7:AJ14)","v":1},null,null,null,"Total Sequences in Block Summary",{"$f":"SUM(AO7:AO14)","v":2},null,null,null,"Total Sequences in Block Summary",{"$f":"SUM(AT7:AT14)","v":1}]
[null,null,null,null,null,null,null,null,null,null,null,null,null,null,null,null,null,null,null,"Block 1",null,null,null,null,"Block 2",null,null,null,null,"Block 3",null,null,null,null,"Block 4",null,null,null,null,"Block 5",null,null,null,null,"Block 6"]
["Sequence\nComponent\n1","Time\n1","Sequence\nComponent\n2","Time\n2","Sequence\nComponent\n3","Time\n3","Sequence\nComponent\n4","Time\n4","Sequence\nComponent\n5","Time\n5","Correct?\n0=No 1=Yes","Sequence",null,"Frequency",null,"Relative Frequency","Variability",null,null,"Frequency",null,"Relative Frequency","Variability",null,"Frequency",null,"Relative Frequency","Variability",null,"Frequency",null,"Relative Frequency","Variability",null,"Frequency",null,"Relative Frequency","Variability",null,"Frequency",null,"Relative Frequency","Variability",null,"Frequency",null,"Relative Frequency","Variability"]
[21,237,22,246,24,254,null,null,null,null,0,222,null,111,{"$f":"COUNTIF($L$7:$L$500,N7)","v":7},{"$f":"O7/$Q$4","v":0.77777777777777779},{"$f":"IF(P7=0,0,(P7*((LOG(P7))/LOG(2))))","v":-0.28199895063255082},null,null,{"$f":"N7","v":111},{"$f":"COUNTIF(L7:L8,T7)","v":1},{"$f":"U7/(W4-U11)","v":0.5},{"$f":"IF(V7=0,0,(V7*((LOG(V7))/LOG(2))))","v":-0.5},null,{"$f":"N7","v":111},{"$f":"COUNTIF(L9:L9,Y7)","v":1},{"$f":"Z7/(AB4-Z11)","v":1},{"$f":"IF(AA7=0,0,(AA7*((LOG(AA7))/LOG(2))))","v":0},null,{"$f":"N7","v":111},{"$f":"COUNTIF(L10:L11,AD7)","v":2},{"$f":"AE7/(AG4-AE11)","v":1},{"$f":"IF(AF7=0,0,(AF7*((LOG(AF7))/LOG(2))))","v":0},null,{"$f":"N7","v":111},{"$f":"COUNTIF(L12:L12,AI7)","v":1},{"$f":"AJ7/(AL4-AJ11)","v":1},{"$f":"IF(AK7=0,0,(AK7*((LOG(AK7))/LOG(2))))","v":0},null,{"$f":"N7","v":111},{"$f":"COUNTIF(L13:L14,AN7)","v":2},{"$f":"AO7/(AQ4-AO11)","v":1},{"$f":"IF(AP7=0,0,(AP7*((LOG(AP7))/LOG(2))))","v":0},null,{"$f":"N7","v":111},{"$f":"COUNTIF(L15:L15,AS7)","v":0},{"$f":"AT7/(AV4-AT11)","v":0},{"$f":"IF(AU7=0,0,(AU7*((LOG(AU7))/LOG(2))))","v":0}]
[12,394,13,398,13,403,null,null,null,null,0,111,null,112,{"$f":"COUNTIF($L$7:$L$500,N8)","v":0},{"$f":"O8/$Q$4","v":0},{"$f":"IF(P8=0,0,(P8*((LOG(P8))/LOG(2))))","v":0},null,null,{"$f":"N8","v":112},{"$f":"COUNTIF(L7:L8,T8)","v":0},{"$f":"U8/(W4-U11)","v":0},{"$f":"IF(V8=0,0,(V8*((LOG(V8))/LOG(2))))","v":0},null,{"$f":"N8","v":112},{"$f":"COUNTIF(L9:L9,Y8)","v":0},{"$f":"Z8/(AB4-Z11)","v":0},{"$f":"IF(AA8=0,0,(AA8*((LOG(AA8))/LOG(2))))","v":0},null,{"$f":"N8","v":112},{"$f":"COUNTIF(L10:L11,AD8)","v":0},{"$f":"AE8/(AG4-AE11)","v":0},{"$f":"IF(AF8=0,0,(AF8*((LOG(AF8))/LOG(2))))","v":0},null,{"$f":"N8","v":112},{"$f":"COUNTIF(L12:L12,AI8)","v":0},{"$f":"AJ8/(AL4-AJ11)","v":0},{"$f":"IF(AK8=0,0,(AK8*((LOG(AK8))/LOG(2))))","v":0},null,{"$f":"N8","v":112},{"$f":"COUNTIF(L13:L14,AN8)","v":0},{"$f":"AO8/(AQ4-AO11)","v":0},{"$f":"IF(AP8=0,0,(AP8*((LOG(AP8))/LOG(2))))","v":0},null,{"$f":"N8","v":112},{"$f":"COUNTIF(L15:L15,AS8)","v":0},{"$f":"AT8/(AV4-AT11)","v":0},{"$f":"IF(AU8=0,0,(AU8*((LOG(AU8))/LOG(2))))","v":0}]
[12,667,13,672,13,677,null,null,null,null,0,111,null,121,{"$f":"COUNTIF($L$7:$L$500,N9)","v":0},{"$f":"O9/$Q$4","v":0},{"$f":"IF(P9=0,0,(P9*((LOG(P9))/LOG(2))))","v":0},null,null,{"$f":"N9","v":121},{"$f":"COUNTIF(L7:L8,T9)","v":0},{"$f":"U9/(W4-U11)","v":0},{"$f":"IF(V9=0,0,(V9*((LOG(V9))/LOG(2))))","v":0},null,{"$f":"N9","v":121},{"$f":"COUNTIF(L9:L9,Y9)","v":0},{"$f":"Z9/(AB4-Z11)","v":0},{"$f":"IF(AA9=0,0,(AA9*((LOG(AA9))/LOG(2))))","v":0},null,{"$f":"N9","v":121},{"$f":"COUNTIF(L10:L11,AD9)","v":0},{"$f":"AE9/(AG4-AE11)","v":0},{"$f":"IF(AF9=0,0,(AF9*((LOG(AF9))/LOG(2))))","v":0},null,{"$f":"N9","v":121},{"$f":"COUNTIF(L12:L12,AI9)","v":0},{"$f":"AJ9/(AL4-AJ11)","v":0},{"$f":"IF(AK9=0,0,(AK9*((LOG(AK9))/LOG(2))))","v":0},null,{"$f":"N9","v":121},{"$f":"COUNTIF(L13:L14,AN9)","v":0},{"$f":"AO9/(AQ4-AO11)","v":0},{"$f":"IF(AP9=0,0,(AP9*((LOG(AP9))/LOG(2))))","v":0},null,{"$f":"N9","v":121},{"$f":"COUNTIF(L15:L15,AS9)","v":0},{"$f":"AT9/(AV4-AT11)","v":0},{"$f":"IF(AU9=0,0,(AU9*((LOG(AU9))/LOG(2))))","v":0}]
[12,1159,13,1164,13,1169,null,null,null,null,0,111,null,122,{"$f":"COUNTIF($L$7:$L$500,N10)","v":0},{"$f":"O10/$Q$4","v":0},{"$f":"IF(P10=0,0,(P10*((LOG(P10))/LOG(2))))","v":0},null,null,{"$f":"N10","v":122},{"$f":"COUNTIF(L7:L8,T10)","v":0},{"$f":"U10/(W4-U11)","v":0},{"$f":"IF(V10=0,0,(V10*((LOG(V10))/LOG(2))))","v":0},null,{"$f":"N10","v":122},{"$f":"COUNTIF(L9:L9,Y10)","v":0},{"$f":"Z10/(AB4-Z11)","v":0},{"$f":"IF(AA10=0,0,(AA10*((LOG(AA10))/LOG(2))))","v":0},null,{"$f":"N10","v":122},{"$f":"COUNTIF(L10:L11,AD10)","v":0},{"$f":"AE10/(AG4-AE11)","v":0},{"$f":"IF(AF10=0,0,(AF10*((LOG(AF10))/LOG(2))))","v":0},null,{"$f":"N10","v":122},{"$f":"COUNTIF(L12:L12,AI10)","v":0},{"$f":"AJ10/(AL4-AJ11)","v":0},{"$f":"IF(AK10=0,0,(AK10*((LOG(AK10))/LOG(2))))","v":0},null,{"$f":"N10","v":122},{"$f":"COUNTIF(L13:L14,AN10)","v":0},{"$f":"AO10/(AQ4-AO11)","v":0},{"$f":"IF(AP10=0,0,(AP10*((LOG(AP10))/LOG(2))))","v":0},null,{"$f":"N10","v":122},{"$f":"COUNTIF(L15:L15,AS10)","v":0},{"$f":"AT10/(AV4-AT11)","v":0},{"$f":"IF(AU10=0,0,(AU10*((LOG(AU10))/LOG(2))))","v":0}]
[12,1309,13,1314,13,1319,null,null,null,null,0,111,null,211,{"$f":"COUNTIF($L$7:$L$500,N11)","v":0},{"$f":"O11/$Q$4","v":0},{"$f":"IF(P11=0,0,(P11*((LOG(P11))/LOG(2))))","v":0},null,null,{"$f":"N11","v":211},{"$f":"COUNTIF(L7:L8,T11)","v":0},null,null,null,{"$f":"N11","v":211},{"$f":"COUNTIF(L9:L9,Y11)","v":0},null,null,null,{"$f":"N11","v":211},{"$f":"COUNTIF(L10:L11,AD11)","v":0},null,null,null,{"$f":"N11","v":211},{"$f":"COUNTIF(L12:L12,AI11)","v":0},null,null,null,{"$f":"N11","v":211},{"$f":"COUNTIF(L13:L14,AN11)","v":0},null,null,null,{"$f":"N11","v":211},{"$f":"COUNTIF(L15:L15,AS11)","v":0}]
[12,2028,13,2047,13,2056,null,null,null,null,0,111,null,212,{"$f":"COUNTIF($L$7:$L$500,N12)","v":0},{"$f":"O12/$Q$4","v":0},{"$f":"IF(P12=0,0,(P12*((LOG(P12))/LOG(2))))","v":0},null,null,{"$f":"N12","v":212},{"$f":"COUNTIF(L7:L8,T12)","v":0},{"$f":"U12/(W4-U11)","v":0},{"$f":"IF(V12=0,0,(V12*((LOG(V12))/LOG(2))))","v":0},null,{"$f":"N12","v":212},{"$f":"COUNTIF(L9:L9,Y12)","v":0},{"$f":"Z12/(AB4-Z11)","v":0},{"$f":"IF(AA12=0,0,(AA12*((LOG(AA12))/LOG(2))))","v":0},null,{"$f":"N12","v":212},{"$f":"COUNTIF(L10:L11,AD12)","v":0},{"$f":"AE12/(AG4-AE11)","v":0},{"$f":"IF(AF12=0,0,(AF12*((LOG(AF12))/LOG(2))))","v":0},null,{"$f":"N12","v":212},{"$f":"COUNTIF(L12:L12,AI12)","v":0},{"$f":"AJ12/(AL4-AJ11)","v":0},{"$f":"IF(AK12=0,0,(AK12*((LOG(AK12))/LOG(2))))","v":0},null,{"$f":"N12","v":212},{"$f":"COUNTIF(L13:L14,AN12)","v":0},{"$f":"AO12/(AQ4-AO11)","v":0},{"$f":"IF(AP12=0,0,(AP12*((LOG(AP12))/LOG(2))))","v":0},null,{"$f":"N12","v":212},{"$f":"COUNTIF(L15:L15,AS12)","v":0},{"$f":"AT12/(AV4-AT11)","v":0},{"$f":"IF(AU12=0,0,(AU12*((LOG(AU12))/LOG(2))))","v":0}]
[12,2173,13,2187,13,2192,null,null,null,null,0,111,null,221,{"$f":"COUNTIF($L$7:$L$500,N13)","v":0},{"$f":"O13/$Q$4","v":0},{"$f":"IF(P13=0,0,(P13*((LOG(P13))/LOG(2))))","v":0},null,null,{"$f":"N13","v":221},{"$f":"COUNTIF(L7:L8,T13)","v":0},{"$f":"U13/(W4-U11)","v":0},{"$f":"IF(V13=0,0,(V13*((LOG(V13))/LOG(2))))","v":0},null,{"$f":"N13","v":221},{"$f":"COUNTIF(L9:L9,Y13)","v":0},{"$f":"Z13/(AB4-Z11)","v":0},{"$f":"IF(AA13=0,0,(AA13*((LOG(AA13))/LOG(2))))","v":0},null,{"$f":"N13","v":221},{"$f":"COUNTIF(L10:L11,AD13)","v":0},{"$f":"AE13/(AG4-AE11)","v":0},{"$f":"IF(AF13=0,0,(AF13*((LOG(AF13))/LOG(2))))","v":0},null,{"$f":"N13","v":221},{"$f":"COUNTIF(L12:L12,AI13)","v":0},{"$f":"AJ13/(AL4-AJ11)","v":0},{"$f":"IF(AK13=0,0,(AK13*((LOG(AK13))/LOG(2))))","v":0},null,{"$f":"N13","v":221},{"$f":"COUNTIF(L13:L14,AN13)","v":0},{"$f":"AO13/(AQ4-AO11)","v":0},{"$f":"IF(AP13=0,0,(AP13*((LOG(AP13))/LOG(2))))","v":0},null,{"$f":"N13","v":221},{"$f":"COUNTIF(L15:L15,AS13)","v":0},{"$f":"AT13/(AV4-AT11)","v":0},{"$f":"IF(AU13=0,0,(AU13*((LOG(AU13))/LOG(2))))","v":0}]
[12,4695,13,4705,13,4712,null,null,null,null,0,111,null,222,{"$f":"COUNTIF($L$7:$L$500,N14)","v":2},{"$f":"O14/$Q$4","v":0.22222222222222221},{"$f":"IF(P14=0,0,(P14*((LOG(P14))/LOG(2))))","v":-0.48220555587606945},null,null,{"$f":"N14","v":222},{"$f":"COUNTIF(L7:L8,T14)","v":1},{"$f":"U14/(W4-U11)","v":0.5},{"$f":"IF(V14=0,0,(V14*((LOG(V14))/LOG(2))))","v":-0.5},null,{"$f":"N14","v":222},{"$f":"COUNTIF(L9:L9,Y14)","v":0},{"$f":"Z14/(AB4-Z11)","v":0},{"$f":"IF(AA14=0,0,(AA14*((LOG(AA14))/LOG(2))))","v":0},null,{"$f":"N14","v":222},{"$f":"COUNTIF(L10:L11,AD14)","v":0},{"$f":"AE14/(AG4-AE11)","v":0},{"$f":"IF(AF14=0,0,(AF14*((LOG(AF14))/LOG(2))))","v":0},null,{"$f":"N14","v":222},{"$f":"COUNTIF(L12:L12,AI14)","v":0},{"$f":"AJ14/(AL4-AJ11)","v":0},{"$f":"IF(AK14=0,0,(AK14*((LOG(AK14))/LOG(2))))","v":0},null,{"$f":"N14","v":222},{"$f":"COUNTIF(L13:L14,AN14)","v":0},{"$f":"AO14/(AQ4-AO11)","v":0},{"$f":"IF(AP14=0,0,(AP14*((LOG(AP14))/LOG(2))))","v":0},null,{"$f":"N14","v":222},{"$f":"COUNTIF(L15:L15,AS14)","v":1},{"$f":"AT14/(AV4-AT11)","v":1},{"$f":"IF(AU14=0,0,(AU14*((LOG(AU14))/LOG(2))))","v":0}]
[21,11232,22,11241,24,11248,null,null,null,null,0,222,null,null,null,{"$f":"SUM(P7:P14)","v":1},{"$f":"-SUM(Q7:Q14)","v":0.76420450650862026},null,null,null,null,{"$f":"SUM(V7:V14)","v":1},{"$f":"-SUM(W7:W14)","v":1},null,null,null,{"$f":"SUM(AA7:AA14)","v":1},{"$f":"-SUM(AB7:AB14)","v":0},null,null,null,{"$f":"SUM(AF7:AF14)","v":1},{"$f":"-SUM(AG7:AG14)","v":0},null,null,null,{"$f":"SUM(AK7:AK14)","v":1},{"$f":"-SUM(AL7:AL14)","v":0},null,null,null,{"$f":"SUM(AP7:AP14)","v":1},{"$f":"-SUM(AQ7:AQ14)","v":0},null,null,null,{"$f":"SUM(AU7:AU14)","v":1},{"$f":"-SUM(AV7:AV14)","v":0}]
[null,null,null,null,null,null,null,null,null,null,null,null,null,null,null,"U=",{"$f":"Q15/(LOG(Q4)/LOG(2))","v":0.24107968048484052},null,null,null,null,"U1=",{"$f":"W15/(LOG(W4)/LOG(2))","v":1},null,null,null,"U2=",{"$f":"AB15/(LOG(AB4)/LOG(2))","v":{"$error":"#DIV/0!"}},null,null,null,"U3=",{"$f":"AG15/(LOG(AG4)/LOG(2))","v":0},null,null,null,"U4=",{"$f":"AL15/(LOG(AL4)/LOG(2))","v":{"$error":"#DIV/0!"}},null,null,null,"U5=",{"$f":"AQ15/(LOG(AQ4)/LOG(2))","v":0},null,null,null,"U6=",{"$f":"AV15/(LOG(AV4)/LOG(2))","v":{"$error":"#DIV/0!"}}]
[]
[]
[null,null,null,null,null,null,null,null,null,null,null,null,null,"Total Target Seq"]
[null,null,null,null,null,null,null,null,null,null,null,null,null,{"$f":"COUNTIF(L7:L15,G3)","v":0},null,2,1,2,1,2,1]
[null,null,null,null,null,null,null,null,null,null,null,null,null,null,null,"% of reinforcement given in 6 equal intervals based on number of trials "]
[null,null,null,null,null,null,null,null,null,null,null,null,null,null,null,"%_1","%_2","%_3","%_4","%_5","%_6"]
[null,null,null,null,null,null,null,null,null,null,null,null,null,null,"target sequence",{"$f":"$G$3","v":211},{"$f":"$G$3","v":211},{"$f":"$G$3","v":211},{"$f":"$G$3","v":211},{"$f":"$G$3","v":211},{"$f":"$G$3","v":211}]
[null,null,null,null,null,null,null,null,null,null,null,null,null,null,"total reinforcement",{"$f":"U11","v":0},{"$f":"Z11","v":0},{"$f":"AE11","v":0},{"$f":"AJ11","v":0},{"$f":"AO11","v":0},{"$f":"AT11","v":0}]
[null,null,null,null,null,null,null,null,null,null,null,null,null,null,"% target"]
[null,null,null,null,null,null,null,null,null,null,null,null,null,null,"CCRF"]
[null,null,null,null,null,null,null,null,null,null,null,null,null,null,"% CCRf"]
[null,null,null,null,null,null,null,null,null,null,null,null,null,null,"average response rate",{"$f":"F8/P20","v":201.5},{"$f":"(F9-F8)/Q20","v":274},{"$f":"(F11-F9)/R20","v":321},{"$f":"(F12-F11)/S20","v":737},{"$f":"(F14-F12)/T20","v":1328},{"$f":"(F15-F14)/U20","v":6536}]

{"sheet":"!N113900.010","index":14,"n_rows":28,"n_cols":48,"rows_kept":28,"cut":false,"hidden":false,"merged":[[4,39,4,42],[5,39,5,40],[4,44,4,47],[5,44,5,45],[4,24,4,27],[5,24,5,25],[4,29,4,32],[5,29,5,30],[4,34,4,37],[5,34,5,35],[1,1,1,2],[5,13,5,14],[18,13,18,14],[19,13,19,14],[4,19,4,22],[5,19,5,20]]}
["Report for:!N113900.010"]
["Date:","<date>"]
["Hen:","<hen>",null,null,null,"Correct Sequence",{"$f":"Start!J2","v":211},null,null,null,null,null,null,null,null,"Total Sequences in Data",{"$f":"4994-COUNTBLANK(L7:L5000)","v":15},null,null,null,null,"Total Sequences in Block Data",{"$f":"COUNTA(L7:L9)","v":3},null,null,null,"Total Sequences in Block Data",{"$f":"COUNTA(L10:L11)","v":2},null,null,null,"Total Sequences in Block Data",{"$f":"COUNTA(L12:L14)","v":3},null,null,null,"Total Sequences in Block Data",{"$f":"COUNTA(L15:L16)","v":2},null,null,null,"Total Sequences in Block Data",{"$f":"COUNTA(L17:L19)","v":3},null,null,null,"Total Sequences in Block Data",{"$f":"COUNTA(L20:L21)","v":2}]
[null,null,null,null,null,null,null,null,null,null,null,null,null,null,null,"Total Sequences in Summary",{"$f":"SUM(O7:O14)","v":15},null,null,null,null,"Total Sequences in Block Summary",{"$f":"SUM(U7:U14)","v":3},null,null,null,"Total Sequences in Block Summary",{"$f":"SUM(Z7:Z14)","v":2},null,null,null,"Total Sequences in Block Summary",{"$f":"SUM(AE7:AE14)","v":3},null,null,null,"Total Sequences in Block Summary",{"$f":"SUM(AJ7:AJ14)","v":2},null,null,null,"Total Sequences in Block Summary",{"$f":"SUM(AO7:AO14)","v":3},null,null,null,"Total Sequences in Block Summary",{"$f":"SUM(AT7:AT14)","v":2}]
[null,null,null,null,null,null,null,null,null,null,null,null,null,null,null,null,null,null,null,"Block 1",null,null,null,null,"Block 2",null,null,null,null,"Block 3",null,null,null,null,"Block 4",null,null,null,null,"Block 5",null,null,null,null,"Block 6"]
["Sequence\nComponent\n1","Time\n1","Sequence\nComponent\n2","Time\n2","Sequence\nComponent\n3","Time\n3","Sequence\nComponent\n4","Time\n4","Sequence\nComponent\n5","Time\n5","Correct?\n0=No 1=Yes","Sequence",null,"Frequency",null,"Relative Frequency","Variability",null,null,"Frequency",null,"Relative Frequency","Variability",null,"Frequency",null,"Relative Frequency","Variability",null,"Frequency",null,"Relative Frequency","Variability",null,"Frequency",null,"Relative Frequency","Variability",null,"Frequency",null,"Relative Frequency","Variability",null,"Frequency",null,"Relative Frequency","Variability"]
[12,47,13,53,13,59,null,null,null,null,0,111,null,111,{"$f":"COUNTIF($L$7:$L$500,N7)","v":10},{"$f":"O7/$Q$4","v":0.66666666666666663},{"$f":"IF(P7=0,0,(P7*((LOG(P7))/LOG(2))))","v":-0.38997500048077083},null,null,{"$f":"N7","v":111},{"$f":"COUNTIF(L7:L9,T7)","v":3},{"$f":"U7/(W4-U11)","v":1},{"$f":"IF(V7=0,0,(V7*((LOG(V7))/LOG(2))))","v":0},null,{"$f":"N7","v":111},{"$f":"COUNTIF(L10:L11,Y7)","v":2},{"$f":"Z7/(AB4-Z11)","v":1},{"$f":"IF(AA7=0,0,(AA7*((LOG(AA7))/LOG(2))))","v":0},null,{"$f":"N7","v":111},{"$f":"COUNTIF(L12:L14,AD7)","v":3},{"$f":"AE7/(AG4-AE11)","v":1},{"$f":"IF(AF7=0,0,(AF7*((LOG(AF7))/LOG(2))))","v":0},null,{"$f":"N7","v":111},{"$f":"COUNTIF(L15:L16,AI7)","v":1},{"$f":"AJ7/(AL4-AJ11)","v":0.5},{"$f":"IF(AK7=0,0,(AK7*((LOG(AK7))/LOG(2))))","v":-0.5},null,{"$f":"N7","v":111},{"$f":"COUNTIF(L17:L19,AN7)","v":0},{"$f":"AO7/(AQ4-AO11)","v":0},{"$f":"IF(AP7=0,0,(AP7*((LOG(AP7))/LOG(2))))","v":0},null,{"$f":"N7","v":111},{"$f":"COUNTIF(L20:L21,AS7)","v":1},{"$f":"AT7/(AV4-AT11)","v":0.5},{"$f":"IF(AU7=0,0,(AU7*((LOG(AU7))/LOG(2))))","v":-0.5}]
[12,313,13,317,13,326,null,null,null,null,0,111,null,112,{"$f":"COUNTIF($L$7:$L$500,N8)","v":0},{"$f":"O8/$Q$4","v":0},{"$f":"IF(P8=0,0,(P8*((LOG(P8))/LOG(2))))","v":0},null,null,{"$f":"N8","v":112},{"$f":"COUNTIF(L7:L9,T8)","v":0},{"$f":"U8/(W4-U11)","v":0},{"$f":"IF(V8=0,0,(V8*((LOG(V8))/LOG(2))))","v":0},null,{"$f":"N8","v":112},{"$f":"COUNTIF(L10:L11,Y8)","v":0},{"$f":"Z8/(AB4-Z11)","v":0},{"$f":"IF(AA8=0,0,(AA8*((LOG(AA8))/LOG(2))))","v":0},null,{"$f":"N8","v":112},{"$f":"COUNTIF(L12:L14,AD8)","v":0},{"$f":"AE8/(AG4-AE11)","v":0},{"$f":"IF(AF8=0,0,(AF8*((LOG(AF8))/LOG(2))))","v":0},null,{"$f":"N8","v":112},{"$f":"COUNTIF(L15:L16,AI8)","v":0},{"$f":"AJ8/(AL4-AJ11)","v":0},{"$f":"IF(AK8=0,0,(AK8*((LOG(AK8))/LOG(2))))","v":0},null,{"$f":"N8","v":112},{"$f":"COUNTIF(L17:L19,AN8)","v":0},{"$f":"AO8/(AQ4-AO11)","v":0},{"$f":"IF(AP8=0,0,(AP8*((LOG(AP8))/LOG(2))))","v":0},null,{"$f":"N8","v":112},{"$f":"COUNTIF(L20:L21,AS8)","v":0},{"$f":"AT8/(AV4-AT11)","v":0},{"$f":"IF(AU8=0,0,(AU8*((LOG(AU8))/LOG(2))))","v":0}]
[12,432,13,439,13,444,null,null,null,null,0,111,null,121,{"$f":"COUNTIF($L$7:$L$500,N9)","v":0},{"$f":"O9/$Q$4","v":0},{"$f":"IF(P9=0,0,(P9*((LOG(P9))/LOG(2))))","v":0},null,null,{"$f":"N9","v":121},{"$f":"COUNTIF(L7:L9,T9)","v":0},{"$f":"U9/(W4-U11)","v":0},{"$f":"IF(V9=0,0,(V9*((LOG(V9))/LOG(2))))","v":0},null,{"$f":"N9","v":121},{"$f":"COUNTIF(L10:L11,Y9)","v":0},{"$f":"Z9/(AB4-Z11)","v":0},{"$f":"IF(AA9=0,0,(AA9*((LOG(AA9))/LOG(2))))","v":0},null,{"$f":"N9","v":121},{"$f":"COUNTIF(L12:L14,AD9)","v":0},{"$f":"AE9/(AG4-AE11)","v":0},{"$f":"IF(AF9=0,0,(AF9*((LOG(AF9))/LOG(2))))","v":0},null,{"$f":"N9","v":121},{"$f":"COUNTIF(L15:L16,AI9)","v":0},{"$f":"AJ9/(AL4-AJ11)","v":0},{"$f":"IF(AK9=0,0,(AK9*((LOG(AK9))/LOG(2))))","v":0},null,{"$f":"N9","v":121},{"$f":"COUNTIF(L17:L19,AN9)","v":0},{"$f":"AO9/(AQ4-AO11)","v":0},{"$f":"IF(AP9=0,0,(AP9*((LOG(AP9))/LOG(2))))","v":0},null,{"$f":"N9","v":121},{"$f":"COUNTIF(L20:L21,AS9)","v":0},{"$f":"AT9/(AV4-AT11)","v":0},{"$f":"IF(AU9=0,0,(AU9*((LOG(AU9))/LOG(2))))","v":0}]
[12,550,13,554,13,560,null,null,null,null,0,111,null,122,{"$f":"COUNTIF($L$7:$L$500,N10)","v":0},{"$f":"O10/$Q$4","v":0},{"$f":"IF(P10=0,0,(P10*((LOG(P10))/LOG(2))))","v":0},null,null,{"$f":"N10","v":122},{"$f":"COUNTIF(L7:L9,T10)","v":0},{"$f":"U10/(W4-U11)","v":0},{"$f":"IF(V10=0,0,(V10*((LOG(V10))/LOG(2))))","v":0},null,{"$f":"N10","v":122},{"$f":"COUNTIF(L10:L11,Y10)","v":0},{"$f":"Z10/(AB4-Z11)","v":0},{"$f":"IF(AA10=0,0,(AA10*((LOG(AA10))/LOG(2))))","v":0},null,{"$f":"N10","v":122},{"$f":"COUNTIF(L12:L14,AD10)","v":0},{"$f":"AE10/(AG4-AE11)","v":0},{"$f":"IF(AF10=0,0,(AF10*((LOG(AF10))/LOG(2))))","v":0},null,{"$f":"N10","v":122},{"$f":"COUNTIF(L15:L16,AI10)","v":0},{"$f":"AJ10/(AL4-AJ11)","v":0},{"$f":"IF(AK10=0,0,(AK10*((LOG(AK10))/LOG(2))))","v":0},null,{"$f":"N10","v":122},{"$f":"COUNTIF(L17:L19,AN10)","v":0},{"$f":"AO10/(AQ4-AO11)","v":0},{"$f":"IF(AP10=0,0,(AP10*((LOG(AP10))/LOG(2))))","v":0},null,{"$f":"N10","v":122},{"$f":"COUNTIF(L20:L21,AS10)","v":0},{"$f":"AT10/(AV4-AT11)","v":0},{"$f":"IF(AU10=0,0,(AU10*((LOG(AU10))/LOG(2))))","v":0}]
[12,668,13,673,13,678,null,null,null,null,0,111,null,211,{"$f":"COUNTIF($L$7:$L$500,N11)","v":0},{"$f":"O11/$Q$4","v":0},{"$f":"IF(P11=0,0,(P11*((LOG(P11))/LOG(2))))","v":0},null,null,{"$f":"N11","v":211},{"$f":"COUNTIF(L7:L9,T11)","v":0},null,null,null,{"$f":"N11","v":211},{"$f":"COUNTIF(L10:L11,Y11)","v":0},null,null,null,{"$f":"N11","v":211},{"$f":"COUNTIF(L12:L14,AD11)","v":0},null,null,null,{"$f":"N11","v":211},{"$f":"COUNTIF(L15:L16,AI11)","v":0},null,null,null,{"$f":"N11","v":211},{"$f":"COUNTIF(L17:L19,AN11)","v":0},null,null,null,{"$f":"N11","v":211},{"$f":"COUNTIF(L20:L21,AS11)","v":0}]
[12,822,13,831,13,836,null,null,null,null,0,111,null,212,{"$f":"COUNTIF($L$7:$L$500,N12)","v":0},{"$f":"O12/$Q$4","v":0},{"$f":"IF(P12=0,0,(P12*((LOG(P12))/LOG(2))))","v":0},null,null,{"$f":"N12","v":212},{"$f":"COUNTIF(L7:L9,T12)","v":0},{"$f":"U12/(W4-U11)","v":0},{"$f":"IF(V12=0,0,(V12*((LOG(V12))/LOG(2))))","v":0},null,{"$f":"N12","v":212},{"$f":"COUNTIF(L10:L11,Y12)","v":0},{"$f":"Z12/(AB4-Z11)","v":0},{"$f":"IF(AA12=0,0,(AA12*((LOG(AA12))/LOG(2))))","v":0},null,{"$f":"N12","v":212},{"$f":"COUNTIF(L12:L14,AD12)","v":0},{"$f":"AE12/(AG4-AE11)","v":0},{"$f":"IF(AF12=0,0,(AF12*((LOG(AF12))/LOG(2))))","v":0},null,{"$f":"N12","v":212},{"$f":"COUNTIF(L15:L16,AI12)","v":0},{"$f":"AJ12/(AL4-AJ11)","v":0},{"$f":"IF(AK12=0,0,(AK12*((LOG(AK12))/LOG(2))))","v":0},null,{"$f":"N12","v":212},{"$f":"COUNTIF(L17:L19,AN12)","v":0},{"$f":"AO12/(AQ4-AO11)","v":0},{"$f":"IF(AP12=0,0,(AP12*((LOG(AP12))/LOG(2))))","v":0},null,{"$f":"N12","v":212},{"$f":"COUNTIF(L20:L21,AS12)","v":0},{"$f":"AT12/(AV4-AT11)","v":0},{"$f":"IF(AU12=0,0,(AU12*((LOG(AU12))/LOG(2))))","v":0}]
[12,1156,13,1161,13,1167,null,null,null,null,0,111,null,221,{"$f":"COUNTIF($L$7:$L$500,N13)","v":0},{"$f":"O13/$Q$4","v":0},{"$f":"IF(P13=0,0,(P13*((LOG(P13))/LOG(2))))","v":0},null,null,{"$f":"N13","v":221},{"$f":"COUNTIF(L7:L9,T13)","v":0},{"$f":"U13/(W4-U11)","v":0},{"$f":"IF(V13=0,0,(V13*((LOG(V13))/LOG(2))))","v":0},null,{"$f":"N13","v":221},{"$f":"COUNTIF(L10:L11,Y13)","v":0},{"$f":"Z13/(AB4-Z11)","v":0},{"$f":"IF(AA13=0,0,(AA13*((LOG(AA13))/LOG(2))))","v":0},null,{"$f":"N13","v":221},{"$f":"COUNTIF(L12:L14,AD13)","v":0},{"$f":"AE13/(AG4-AE11)","v":0},{"$f":"IF(AF13=0,0,(AF13*((LOG(AF13))/LOG(2))))","v":0},null,{"$f":"N13","v":221},{"$f":"COUNTIF(L15:L16,AI13)","v":0},{"$f":"AJ13/(AL4-AJ11)","v":0},{"$f":"IF(AK13=0,0,(AK13*((LOG(AK13))/LOG(2))))","v":0},null,{"$f":"N13","v":221},{"$f":"COUNTIF(L17:L19,AN13)","v":0},{"$f":"AO13/(AQ4-AO11)","v":0},{"$f":"IF(AP13=0,0,(AP13*((LOG(AP13))/LOG(2))))","v":0},null,{"$f":"N13","v":221},{"$f":"COUNTIF(L20:L21,AS13)","v":0},{"$f":"AT13/(AV4-AT11)","v":0},{"$f":"IF(AU13=0,0,(AU13*((LOG(AU13))/LOG(2))))","v":0}]
[12,4068,13,4074,13,4082,null,null,null,null,0,111,null,222,{"$f":"COUNTIF($L$7:$L$500,N14)","v":5},{"$f":"O14/$Q$4","v":0.33333333333333331},{"$f":"IF(P14=0,0,(P14*((LOG(P14))/LOG(2))))","v":-0.52832083357371862},null,null,{"$f":"N14","v":222},{"$f":"COUNTIF(L7:L9,T14)","v":0},{"$f":"U14/(W4-U11)","v":0},{"$f":"IF(V14=0,0,(V14*((LOG(V14))/LOG(2))))","v":0},null,{"$f":"N14","v":222},{"$f":"COUNTIF(L10:L11,Y14)","v":0},{"$f":"Z14/(AB4-Z11)","v":0},{"$f":"IF(AA14=0,0,(AA14*((LOG(AA14))/LOG(2))))","v":0},null,{"$f":"N14","v":222},{"$f":"COUNTIF(L12:L14,AD14)","v":0},{"$f":"AE14/(AG4-AE11)","v":0},{"$f":"IF(AF14=0,0,(AF14*((LOG(AF14))/LOG(2))))","v":0},null,{"$f":"N14","v":222},{"$f":"COUNTIF(L15:L16,AI14)","v":1},{"$f":"AJ14/(AL4-AJ11)","v":0.5},{"$f":"IF(AK14=0,0,(AK14*((LOG(AK14))/LOG(2))))","v":-0.5},null,{"$f":"N14","v":222},{"$f":"COUNTIF(L17:L19,AN14)","v":3},{"$f":"AO14/(AQ4-AO11)","v":1},{"$f":"IF(AP14=0,0,(AP14*((LOG(AP14))/LOG(2))))","v":0},null,{"$f":"N14","v":222},{"$f":"COUNTIF(L20:L21,AS14)","v":1},{"$f":"AT14/(AV4-AT11)","v":0.5},{"$f":"IF(AU14=0,0,(AU14*((LOG(AU14))/LOG(2))))","v":-0.5}]
[21,9963,22,9969,24,9983,null,null,null,null,0,222,null,null,null,{"$f":"SUM(P7:P14)","v":1},{"$f":"-SUM(Q7:Q14)","v":0.91829583405448945},null,null,null,null,{"$f":"SUM(V7:V14)","v":1},{"$f":"-SUM(W7:W14)","v":0},null,null,null,{"$f":"SUM(AA7:AA14)","v":1},{"$f":"-SUM(AB7:AB14)","v":0},null,null,null,{"$f":"SUM(AF7:AF14)","v":1},{"$f":"-SUM(AG7:AG14)","v":0},null,null,null,{"$f":"SUM(AK7:AK14)","v":1},{"$f":"-SUM(AL7:AL14)","v":1},null,null,null,{"$f":"SUM(AP7:AP14)","v":1},{"$f":"-SUM(AQ7:AQ14)","v":0},null,null,null,{"$f":"SUM(AU7:AU14)","v":1},{"$f":"-SUM(AV7:AV14)","v":1}]
[12,14940,13,14947,13,14952,null,null,null,null,0,111,null,null,null,"U=",{"$f":"Q15/(LOG(Q4)/LOG(2))","v":0.23504518787566922},null,null,null,null,"U1=",{"$f":"W15/(LOG(W4)/LOG(2))","v":0},null,null,null,"U2=",{"$f":"AB15/(LOG(AB4)/LOG(2))","v":0},null,null,null,"U3=",{"$f":"AG15/(LOG(AG4)/LOG(2))","v":0},null,null,null,"U4=",{"$f":"AL15/(LOG(AL4)/LOG(2))","v":1},null,null,null,"U5=",{"$f":"AQ15/(LOG(AQ4)/LOG(2))","v":0},null,null,null,"U6=",{"$f":"AV15/(LOG(AV4)/LOG(2))","v":1}]
[21,15735,22,15747,24,15757,null,null,null,null,0,222]
[21,15875,22,15885,24,15890,null,null,null,null,0,222]
[21,16883,22,16899,24,16907,null,null,null,null,0,222,null,"Total Target Seq"]
[21,17110,22,17116,24,17125,null,null,null,null,0,222,null,{"$f":"COUNTIF(L7:L21,G3)","v":0},null,3,2,3,2,3,2]
[12,21595,13,21601,13,21606,null,null,null,null,0,111,null,null,null,"% of reinforcement given in 6 equal intervals based on number of trials "]
[null,null,null,null,null,null,null,null,null,null,null,null,null,null,null,"%_1","%_2","%_3","%_4","%_5","%_6"]
[null,null,null,null,null,null,null,null,null,null,null,null,null,null,"target sequence",{"$f":"$G$3","v":211},{"$f":"$G$3","v":211},{"$f":"$G$3","v":211},{"$f":"$G$3","v":211},{"$f":"$G$3","v":211},{"$f":"$G$3","v":211}]
[null,null,null,null,null,null,null,null,null,null,null,null,null,null,"total reinforcement",{"$f":"U11","v":0},{"$f":"Z11","v":0},{"$f":"AE11","v":0},{"$f":"AJ11","v":0},{"$f":"AO11","v":0},{"$f":"AT11","v":0}]
[null,null,null,null,null,null,null,null,null,null,null,null,null,null,"% target"]
[null,null,null,null,null,null,null,null,null,null,null,null,null,null,"CCRF"]
[null,null,null,null,null,null,null,null,null,null,null,null,null,null,"% CCRf"]
[null,null,null,null,null,null,null,null,null,null,null,null,null,null,"average response rate",{"$f":"F9/P20","v":148},{"$f":"(F11-F9)/Q20","v":117},{"$f":"(F14-F11)/R20","v":1134.6666666666667},{"$f":"(F16-F14)/S20","v":5435},{"$f":"(F19-F16)/T20","v":651.66666666666663},{"$f":"(F21-F19)/U20","v":2349.5}]

{"sheet":"!N114830.010","index":15,"n_rows":28,"n_cols":48,"rows_kept":28,"cut":false,"hidden":false,"merged":[[4,39,4,42],[5,39,5,40],[4,44,4,47],[5,44,5,45],[4,24,4,27],[5,24,5,25],[4,29,4,32],[5,29,5,30],[4,34,4,37],[5,34,5,35],[1,1,1,2],[5,13,5,14],[18,13,18,14],[19,13,19,14],[4,19,4,22],[5,19,5,20]]}
["Report for:!N114830.010"]
["Date:","<date>"]
["Hen:","<hen>",null,null,null,"Correct Sequence",{"$f":"Start!J2","v":211},null,null,null,null,null,null,null,null,"Total Sequences in Data",{"$f":"4994-COUNTBLANK(L7:L5000)","v":2},null,null,null,null,"Total Sequences in Block Data",{"$f":"COUNTA(L6:L7)","v":2},null,null,null,"Total Sequences in Block Data",{"$f":"COUNTA(L7:L7)","v":1},null,null,null,"Total Sequences in Block Data",{"$f":"COUNTA(L7:L8)","v":2},null,null,null,"Total Sequences in Block Data",{"$f":"COUNTA(L7:L8)","v":2},null,null,null,"Total Sequences in Block Data",{"$f":"COUNTA(L8:L8)","v":1},null,null,null,"Total Sequences in Block Data",{"$f":"COUNTA(L8:L9)","v":1}]
[null,null,null,null,null,null,null,null,null,null,null,null,null,null,null,"Total Sequences in Summary",{"$f":"SUM(O7:O14)","v":2},null,null,null,null,"Total Sequences in Block Summary",{"$f":"SUM(U7:U14)","v":1},null,null,null,"Total Sequences in Block Summary",{"$f":"SUM(Z7:Z14)","v":1},null,null,null,"Total Sequences in Block Summary",{"$f":"SUM(AE7:AE14)","v":2},null,null,null,"Total Sequences in Block Summary",{"$f":"SUM(AJ7:AJ14)","v":2},null,null,null,"Total Sequences in Block Summary",{"$f":"SUM(AO7:AO14)","v":1},null,null,null,"Total Sequences in Block Summary",{"$f":"SUM(AT7:AT14)","v":1}]
[null,null,null,null,null,null,null,null,null,null,null,null,null,null,null,null,null,null,null,"Block 1",null,null,null,null,"Block 2",null,null,null,null,"Block 3",null,null,null,null,"Block 4",null,null,null,null,"Block 5",null,null,null,null,"Block 6"]
["Sequence\nComponent\n1","Time\n1","Sequence\nComponent\n2","Time\n2","Sequence\nComponent\n3","Time\n3","Sequence\nComponent\n4","Time\n4","Sequence\nComponent\n5","Time\n5","Correct?\n0=No 1=Yes","Sequence",null,"Frequency",null,"Relative Frequency","Variability",null,null,"Frequency",null,"Relative Frequency","Variability",null,"Frequency",null,"Relative Frequency","Variability",null,"Frequency",null,"Relative Frequency","Variability",null,"Frequency",null,"Relative Frequency","Variability",null,"Frequency",null,"Relative Frequency","Variability",null,"Frequency",null,"Relative Frequency","Variability"]
[12,127,13,134,13,141,null,null,null,null,0,111,null,111,{"$f":"COUNTIF($L$7:$L$500,N7)","v":2},{"$f":"O7/$Q$4","v":1},{"$f":"IF(P7=0,0,(P7*((LOG(P7))/LOG(2))))","v":0},null,null,{"$f":"N7","v":111},{"$f":"COUNTIF(L6:L7,T7)","v":1},{"$f":"U7/(W4-U11)","v":1},{"$f":"IF(V7=0,0,(V7*((LOG(V7))/LOG(2))))","v":0},null,{"$f":"N7","v":111},{"$f":"COUNTIF(L7:L7,Y7)","v":1},{"$f":"Z7/(AB4-Z11)","v":1},{"$f":"IF(AA7=0,0,(AA7*((LOG(AA7))/LOG(2))))","v":0},null,{"$f":"N7","v":111},{"$f":"COUNTIF(L7:L8,AD7)","v":2},{"$f":"AE7/(AG4-AE11)","v":1},{"$f":"IF(AF7=0,0,(AF7*((LOG(AF7))/LOG(2))))","v":0},null,{"$f":"N7","v":111},{"$f":"COUNTIF(L7:L8,AI7)","v":2},{"$f":"AJ7/(AL4-AJ11)","v":1},{"$f":"IF(AK7=0,0,(AK7*((LOG(AK7))/LOG(2))))","v":0},null,{"$f":"N7","v":111},{"$f":"COUNTIF(L8:L8,AN7)","v":1},{"$f":"AO7/(AQ4-AO11)","v":1},{"$f":"IF(AP7=0,0,(AP7*((LOG(AP7))/LOG(2))))","v":0},null,{"$f":"N7","v":111},{"$f":"COUNTIF(L8:L9,AS7)","v":1},{"$f":"AT7/(AV4-AT11)","v":1},{"$f":"IF(AU7=0,0,(AU7*((LOG(AU7))/LOG(2))))","v":0}]
[12,10763,13,10775,13,10782,null,null,null,null,0,111,null,112,{"$f":"COUNTIF($L$7:$L$500,N8)","v":0},{"$f":"O8/$Q$4","v":0},{"$f":"IF(P8=0,0,(P8*((LOG(P8))/LOG(2))))","v":0},null,null,{"$f":"N8","v":112},{"$f":"COUNTIF(L6:L7,T8)","v":0},{"$f":"U8/(W4-U11)","v":0},{"$f":"IF(V8=0,0,(V8*((LOG(V8))/LOG(2))))","v":0},null,{"$f":"N8","v":112},{"$f":"COUNTIF(L7:L7,Y8)","v":0},{"$f":"Z8/(AB4-Z11)","v":0},{"$f":"IF(AA8=0,0,(AA8*((LOG(AA8))/LOG(2))))","v":0},null,{"$f":"N8","v":112},{"$f":"COUNTIF(L7:L8,AD8)","v":0},{"$f":"AE8/(AG4-AE11)","v":0},{"$f":"IF(AF8=0,0,(AF8*((LOG(AF8))/LOG(2))))","v":0},null,{"$f":"N8","v":112},{"$f":"COUNTIF(L7:L8,AI8)","v":0},{"$f":"AJ8/(AL4-AJ11)","v":0},{"$f":"IF(AK8=0,0,(AK8*((LOG(AK8))/LOG(2))))","v":0},null,{"$f":"N8","v":112},{"$f":"COUNTIF(L8:L8,AN8)","v":0},{"$f":"AO8/(AQ4-AO11)","v":0},{"$f":"IF(AP8=0,0,(AP8*((LOG(AP8))/LOG(2))))","v":0},null,{"$f":"N8","v":112},{"$f":"COUNTIF(L8:L9,AS8)","v":0},{"$f":"AT8/(AV4-AT11)","v":0},{"$f":"IF(AU8=0,0,(AU8*((LOG(AU8))/LOG(2))))","v":0}]
[null,null,null,null,null,null,null,null,null,null,null,null,null,121,{"$f":"COUNTIF($L$7:$L$500,N9)","v":0},{"$f":"O9/$Q$4","v":0},{"$f":"IF(P9=0,0,(P9*((LOG(P9))/LOG(2))))","v":0},null,null,{"$f":"N9","v":121},{"$f":"COUNTIF(L6:L7,T9)","v":0},{"$f":"U9/(W4-U11)","v":0},{"$f":"IF(V9=0,0,(V9*((LOG(V9))/LOG(2))))","v":0},null,{"$f":"N9","v":121},{"$f":"COUNTIF(L7:L7,Y9)","v":0},{"$f":"Z9/(AB4-Z11)","v":0},{"$f":"IF(AA9=0,0,(AA9*((LOG(AA9))/LOG(2))))","v":0},null,{"$f":"N9","v":121},{"$f":"COUNTIF(L7:L8,AD9)","v":0},{"$f":"AE9/(AG4-AE11)","v":0},{"$f":"IF(AF9=0,0,(AF9*((LOG(AF9))/LOG(2))))","v":0},null,{"$f":"N9","v":121},{"$f":"COUNTIF(L7:L8,AI9)","v":0},{"$f":"AJ9/(AL4-AJ11)","v":0},{"$f":"IF(AK9=0,0,(AK9*((LOG(AK9))/LOG(2))))","v":0},null,{"$f":"N9","v":121},{"$f":"COUNTIF(L8:L8,AN9)","v":0},{"$f":"AO9/(AQ4-AO11)","v":0},{"$f":"IF(AP9=0,0,(AP9*((LOG(AP9))/LOG(2))))","v":0},null,{"$f":"N9","v":121},{"$f":"COUNTIF(L8:L9,AS9)","v":0},{"$f":"AT9/(AV4-AT11)","v":0},{"$f":"IF(AU9=0,0,(AU9*((LOG(AU9))/LOG(2))))","v":0}]
[null,null,null,null,null,null,null,null,null,null,null,null,null,122,{"$f":"COUNTIF($L$7:$L$500,N10)","v":0},{"$f":"O10/$Q$4","v":0},{"$f":"IF(P10=0,0,(P10*((LOG(P10))/LOG(2))))","v":0},null,null,{"$f":"N10","v":122},{"$f":"COUNTIF(L6:L7,T10)","v":0},{"$f":"U10/(W4-U11)","v":0},{"$f":"IF(V10=0,0,(V10*((LOG(V10))/LOG(2))))","v":0},null,{"$f":"N10","v":122},{"$f":"COUNTIF(L7:L7,Y10)","v":0},{"$f":"Z10/(AB4-Z11)","v":0},{"$f":"IF(AA10=0,0,(AA10*((LOG(AA10))/LOG(2))))","v":0},null,{"$f":"N10","v":122},{"$f":"COUNTIF(L7:L8,AD10)","v":0},{"$f":"AE10/(AG4-AE11)","v":0},{"$f":"IF(AF10=0,0,(AF10*((LOG(AF10))/LOG(2))))","v":0},null,{"$f":"N10","v":122},{"$f":"COUNTIF(L7:L8,AI10)","v":0},{"$f":"AJ10/(AL4-AJ11)","v":0},{"$f":"IF(AK10=0,0,(AK10*((LOG(AK10))/LOG(2))))","v":0},null,{"$f":"N10","v":122},{"$f":"COUNTIF(L8:L8,AN10)","v":0},{"$f":"AO10/(AQ4-AO11)","v":0},{"$f":"IF(AP10=0,0,(AP10*((LOG(AP10))/LOG(2))))","v":0},null,{"$f":"N10","v":122},{"$f":"COUNTIF(L8:L9,AS10)","v":0},{"$f":"AT10/(AV4-AT11)","v":0},{"$f":"IF(AU10=0,0,(AU10*((LOG(AU10))/LOG(2))))","v":0}]
[null,null,null,null,null,null,null,null,null,null,null,null,null,211,{"$f":"COUNTIF($L$7:$L$500,N11)","v":0},{"$f":"O11/$Q$4","v":0},{"$f":"IF(P11=0,0,(P11*((LOG(P11))/LOG(2))))","v":0},null,null,{"$f":"N11","v":211},{"$f":"COUNTIF(L6:L7,T11)","v":0},null,null,null,{"$f":"N11","v":211},{"$f":"COUNTIF(L7:L7,Y11)","v":0},null,null,null,{"$f":"N11","v":211},{"$f":"COUNTIF(L7:L8,AD11)","v":0},null,null,null,{"$f":"N11","v":211},{"$f":"COUNTIF(L7:L8,AI11)","v":0},null,null,null,{"$f":"N11","v":211},{"$f":"COUNTIF(L8:L8,AN11)","v":0},null,null,null,{"$f":"N11","v":211},{"$f":"COUNTIF(L8:L9,AS11)","v":0}]
[null,null,null,null,null,null,null,null,null,null,null,null,null,212,{"$f":"COUNTIF($L$7:$L$500,N12)","v":0},{"$f":"O12/$Q$4","v":0},{"$f":"IF(P12=0,0,(P12*((LOG(P12))/LOG(2))))","v":0},null,null,{"$f":"N12","v":212},{"$f":"COUNTIF(L6:L7,T12)","v":0},{"$f":"U12/(W4-U11)","v":0},{"$f":"IF(V12=0,0,(V12*((LOG(V12))/LOG(2))))","v":0},null,{"$f":"N12","v":212},{"$f":"COUNTIF(L7:L7,Y12)","v":0},{"$f":"Z12/(AB4-Z11)","v":0},{"$f":"IF(AA12=0,0,(AA12*((LOG(AA12))/LOG(2))))","v":0},null,{"$f":"N12","v":212},{"$f":"COUNTIF(L7:L8,AD12)","v":0},{"$f":"AE12/(AG4-AE11)","v":0},{"$f":"IF(AF12=0,0,(AF12*((LOG(AF12))/LOG(2))))","v":0},null,{"$f":"N12","v":212},{"$f":"COUNTIF(L7:L8,AI12)","v":0},{"$f":"AJ12/(AL4-AJ11)","v":0},{"$f":"IF(AK12=0,0,(AK12*((LOG(AK12))/LOG(2))))","v":0},null,{"$f":"N12","v":212},{"$f":"COUNTIF(L8:L8,AN12)","v":0},{"$f":"AO12/(AQ4-AO11)","v":0},{"$f":"IF(AP12=0,0,(AP12*((LOG(AP12))/LOG(2))))","v":0},null,{"$f":"N12","v":212},{"$f":"COUNTIF(L8:L9,AS12)","v":0},{"$f":"AT12/(AV4-AT11)","v":0},{"$f":"IF(AU12=0,0,(AU12*((LOG(AU12))/LOG(2))))","v":0}]
[null,null,null,null,null,null,null,null,null,null,null,null,null,221,{"$f":"COUNTIF($L$7:$L$500,N13)","v":0},{"$f":"O13/$Q$4","v":0},{"$f":"IF(P13=0,0,(P13*((LOG(P13))/LOG(2))))","v":0},null,null,{"$f":"N13","v":221},{"$f":"COUNTIF(L6:L7,T13)","v":0},{"$f":"U13/(W4-U11)","v":0},{"$f":"IF(V13=0,0,(V13*((LOG(V13))/LOG(2))))","v":0},null,{"$f":"N13","v":221},{"$f":"COUNTIF(L7:L7,Y13)","v":0},{"$f":"Z13/(AB4-Z11)","v":0},{"$f":"IF(AA13=0,0,(AA13*((LOG(AA13))/LOG(2))))","v":0},null,{"$f":"N13","v":221},{"$f":"COUNTIF(L7:L8,AD13)","v":0},{"$f":"AE13/(AG4-AE11)","v":0},{"$f":"IF(AF13=0,0,(AF13*((LOG(AF13))/LOG(2))))","v":0},null,{"$f":"N13","v":221},{"$f":"COUNTIF(L7:L8,AI13)","v":0},{"$f":"AJ13/(AL4-AJ11)","v":0},{"$f":"IF(AK13=0,0,(AK13*((LOG(AK13))/LOG(2))))","v":0},null,{"$f":"N13","v":221},{"$f":"COUNTIF(L8:L8,AN13)","v":0},{"$f":"AO13/(AQ4-AO11)","v":0},{"$f":"IF(AP13=0,0,(AP13*((LOG(AP13))/LOG(2))))","v":0},null,{"$f":"N13","v":221},{"$f":"COUNTIF(L8:L9,AS13)","v":0},{"$f":"AT13/(AV4-AT11)","v":0},{"$f":"IF(AU13=0,0,(AU13*((LOG(AU13))/LOG(2))))","v":0}]
[null,null,null,null,null,null,null,null,null,null,null,null,null,222,{"$f":"COUNTIF($L$7:$L$500,N14)","v":0},{"$f":"O14/$Q$4","v":0},{"$f":"IF(P14=0,0,(P14*((LOG(P14))/LOG(2))))","v":0},null,null,{"$f":"N14","v":222},{"$f":"COUNTIF(L6:L7,T14)","v":0},{"$f":"U14/(W4-U11)","v":0},{"$f":"IF(V14=0,0,(V14*((LOG(V14))/LOG(2))))","v":0},null,{"$f":"N14","v":222},{"$f":"COUNTIF(L7:L7,Y14)","v":0},{"$f":"Z14/(AB4-Z11)","v":0},{"$f":"IF(AA14=0,0,(AA14*((LOG(AA14))/LOG(2))))","v":0},null,{"$f":"N14","v":222},{"$f":"COUNTIF(L7:L8,AD14)","v":0},{"$f":"AE14/(AG4-AE11)","v":0},{"$f":"IF(AF14=0,0,(AF14*((LOG(AF14))/LOG(2))))","v":0},null,{"$f":"N14","v":222},{"$f":"COUNTIF(L7:L8,AI14)","v":0},{"$f":"AJ14/(AL4-AJ11)","v":0},{"$f":"IF(AK14=0,0,(AK14*((LOG(AK14))/LOG(2))))","v":0},null,{"$f":"N14","v":222},{"$f":"COUNTIF(L8:L8,AN14)","v":0},{"$f":"AO14/(AQ4-AO11)","v":0},{"$f":"IF(AP14=0,0,(AP14*((LOG(AP14))/LOG(2))))","v":0},null,{"$f":"N14","v":222},{"$f":"COUNTIF(L8:L9,AS14)","v":0},{"$f":"AT14/(AV4-AT11)","v":0},{"$f":"IF(AU14=0,0,(AU14*((LOG(AU14))/LOG(2))))","v":0}]
[null,null,null,null,null,null,null,null,null,null,null,null,null,null,null,{"$f":"SUM(P7:P14)","v":1},{"$f":"-SUM(Q7:Q14)","v":0},null,null,null,null,{"$f":"SUM(V7:V14)","v":1},{"$f":"-SUM(W7:W14)","v":0},null,null,null,{"$f":"SUM(AA7:AA14)","v":1},{"$f":"-SUM(AB7:AB14)","v":0},null,null,null,{"$f":"SUM(AF7:AF14)","v":1},{"$f":"-SUM(AG7:AG14)","v":0},null,null,null,{"$f":"SUM(AK7:AK14)","v":1},{"$f":"-SUM(AL7:AL14)","v":0},null,null,null,{"$f":"SUM(AP7:AP14)","v":1},{"$f":"-SUM(AQ7:AQ14)","v":0},null,null,null,{"$f":"SUM(AU7:AU14)","v":1},{"$f":"-SUM(AV7:AV14)","v":0}]
[null,null,null,null,null,null,null,null,null,null,null,null,null,null,null,"U=",{"$f":"Q15/(LOG(Q4)/LOG(2))","v":0},null,null,null,null,"U1=",{"$f":"W15/(LOG(W4)/LOG(2))","v":{"$error":"#DIV/0!"}},null,null,null,"U2=",{"$f":"AB15/(LOG(AB4)/LOG(2))","v":{"$error":"#DIV/0!"}},null,null,null,"U3=",{"$f":"AG15/(LOG(AG4)/LOG(2))","v":0},null,null,null,"U4=",{"$f":"AL15/(LOG(AL4)/LOG(2))","v":0},null,null,null,"U5=",{"$f":"AQ15/(LOG(AQ4)/LOG(2))","v":{"$error":"#DIV/0!"}},null,null,null,"U6=",{"$f":"AV15/(LOG(AV4)/LOG(2))","v":{"$error":"#DIV/0!"}}]
[]
[]
[null,null,null,null,null,null,null,null,null,null,null,null,null,"Total Target Seq"]
[null,null,null,null,null,null,null,null,null,null,null,null,null,{"$f":"COUNTIF(L7:L8,G3)","v":0},null,0,1,0,0,1,0]
[null,null,null,null,null,null,null,null,null,null,null,null,null,null,null,"% of reinforcement given in 6 equal intervals based on number of trials "]
[null,null,null,null,null,null,null,null,null,null,null,null,null,null,null,"%_1","%_2","%_3","%_4","%_5","%_6"]
[null,null,null,null,null,null,null,null,null,null,null,null,null,null,"target sequence",{"$f":"$G$3","v":211},{"$f":"$G$3","v":211},{"$f":"$G$3","v":211},{"$f":"$G$3","v":211},{"$f":"$G$3","v":211},{"$f":"$G$3","v":211}]
[null,null,null,null,null,null,null,null,null,null,null,null,null,null,"total reinforcement",{"$f":"U11","v":0},{"$f":"Z11","v":0},{"$f":"AE11","v":0},{"$f":"AJ11","v":0},{"$f":"AO11","v":0},{"$f":"AT11","v":0}]
[null,null,null,null,null,null,null,null,null,null,null,null,null,null,"% target"]
[null,null,null,null,null,null,null,null,null,null,null,null,null,null,"CCRF"]
[null,null,null,null,null,null,null,null,null,null,null,null,null,null,"% CCRf"]
[null,null,null,null,null,null,null,null,null,null,null,null,null,null,"average response rate",{"$f":"F6/P20","v":{"$error":"#VALUE!"}},{"$f":"(F7-F6)/Q20","v":{"$error":"#VALUE!"}},{"$f":"(F7-F7)/R20","v":{"$error":"#DIV/0!"}},{"$f":"(F7-F7)/S20","v":{"$error":"#DIV/0!"}},{"$f":"(F8-F7)/T20","v":10641},{"$f":"(F8-F8)/U20","v":{"$error":"#DIV/0!"}}]

{"sheet":"!N115840.010","index":16,"n_rows":28,"n_cols":48,"rows_kept":28,"cut":false,"hidden":false,"merged":[[4,39,4,42],[5,39,5,40],[4,44,4,47],[5,44,5,45],[4,24,4,27],[5,24,5,25],[4,29,4,32],[5,29,5,30],[4,34,4,37],[5,34,5,35],[1,1,1,2],[5,13,5,14],[18,13,18,14],[19,13,19,14],[4,19,4,22],[5,19,5,20]]}
["Report for:!N115840.010"]
["Date:","<date>"]
["Hen:","<hen>",null,null,null,"Correct Sequence",{"$f":"Start!J2","v":211},null,null,null,null,null,null,null,null,"Total Sequences in Data",{"$f":"4994-COUNTBLANK(L7:L5000)","v":9},null,null,null,null,"Total Sequences in Block Data",{"$f":"COUNTA(L7:L8)","v":2},null,null,null,"Total Sequences in Block Data",{"$f":"COUNTA(L9:L9)","v":1},null,null,null,"Total Sequences in Block Data",{"$f":"COUNTA(L10:L11)","v":2},null,null,null,"Total Sequences in Block Data",{"$f":"COUNTA(L12:L12)","v":1},null,null,null,"Total Sequences in Block Data",{"$f":"COUNTA(L13:L14)","v":2},null,null,null,"Total Sequences in Block Data",{"$f":"COUNTA(L15:L15)","v":1}]
[null,null,null,null,null,null,null,null,null,null,null,null,null,null,null,"Total Sequences in Summary",{"$f":"SUM(O7:O14)","v":9},null,null,null,null,"Total Sequences in Block Summary",{"$f":"SUM(U7:U14)","v":2},null,null,null,"Total Sequences in Block Summary",{"$f":"SUM(Z7:Z14)","v":1},null,null,null,"Total Sequences in Block Summary",{"$f":"SUM(AE7:AE14)","v":2},null,null,null,"Total Sequences in Block Summary",{"$f":"SUM(AJ7:AJ14)","v":1},null,null,null,"Total Sequences in Block Summary",{"$f":"SUM(AO7:AO14)","v":2},null,null,null,"Total Sequences in Block Summary",{"$f":"SUM(AT7:AT14)","v":1}]
[null,null,null,null,null,null,null,null,null,null,null,null,null,null,null,null,null,null,null,"Block 1",null,null,null,null,"Block 2",null,null,null,null,"Block 3",null,null,null,null,"Block 4",null,null,null,null,"Block 5",null,null,null,null,"Block 6"]
["Sequence\nComponent\n1","Time\n1","Sequence\nComponent\n2","Time\n2","Sequence\nComponent\n3","Time\n3","Sequence\nComponent\n4","Time\n4","Sequence\nComponent\n5","Time\n5","Correct?\n0=No 1=Yes","Sequence",null,"Frequency",null,"Relative Frequency","Variability",null,null,"Frequency",null,"Relative Frequency","Variability",null,"Frequency",null,"Relative Frequency","Variability",null,"Frequency",null,"Relative Frequency","Variability",null,"Frequency",null,"Relative Frequency","Variability",null,"Frequency",null,"Relative Frequency","Variability",null,"Frequency",null,"Relative Frequency","Variability"]
[21,71,22,76,24,82,null,null,null,null,0,222,null,111,{"$f":"COUNTIF($L$7:$L$500,N7)","v":6},{"$f":"O7/$Q$4","v":0.66666666666666663},{"$f":"IF(P7=0,0,(P7*((LOG(P7))/LOG(2))))","v":-0.38997500048077083},null,null,{"$f":"N7","v":111},{"$f":"COUNTIF(L7:L8,T7)","v":1},{"$f":"U7/(W4-U11)","v":0.5},{"$f":"IF(V7=0,0,(V7*((LOG(V7))/LOG(2))))","v":-0.5},null,{"$f":"N7","v":111},{"$f":"COUNTIF(L9:L9,Y7)","v":0},{"$f":"Z7/(AB4-Z11)","v":0},{"$f":"IF(AA7=0,0,(AA7*((LOG(AA7))/LOG(2))))","v":0},null,{"$f":"N7","v":111},{"$f":"COUNTIF(L10:L11,AD7)","v":2},{"$f":"AE7/(AG4-AE11)","v":1},{"$f":"IF(AF7=0,0,(AF7*((LOG(AF7))/LOG(2))))","v":0},null,{"$f":"N7","v":111},{"$f":"COUNTIF(L12:L12,AI7)","v":0},{"$f":"AJ7/(AL4-AJ11)","v":0},{"$f":"IF(AK7=0,0,(AK7*((LOG(AK7))/LOG(2))))","v":0},null,{"$f":"N7","v":111},{"$f":"COUNTIF(L13:L14,AN7)","v":2},{"$f":"AO7/(AQ4-AO11)","v":1},{"$f":"IF(AP7=0,0,(AP7*((LOG(AP7))/LOG(2))))","v":0},null,{"$f":"N7","v":111},{"$f":"COUNTIF(L15:L15,AS7)","v":1},{"$f":"AT7/(AV4-AT11)","v":1},{"$f":"IF(AU7=0,0,(AU7*((LOG(AU7))/LOG(2))))","v":0}]
[12,640,13,646,13,650,null,null,null,null,0,111,null,112,{"$f":"COUNTIF($L$7:$L$500,N8)","v":0},{"$f":"O8/$Q$4","v":0},{"$f":"IF(P8=0,0,(P8*((LOG(P8))/LOG(2))))","v":0},null,null,{"$f":"N8","v":112},{"$f":"COUNTIF(L7:L8,T8)","v":0},{"$f":"U8/(W4-U11)","v":0},{"$f":"IF(V8=0,0,(V8*((LOG(V8))/LOG(2))))","v":0},null,{"$f":"N8","v":112},{"$f":"COUNTIF(L9:L9,Y8)","v":0},{"$f":"Z8/(AB4-Z11)","v":0},{"$f":"IF(AA8=0,0,(AA8*((LOG(AA8))/LOG(2))))","v":0},null,{"$f":"N8","v":112},{"$f":"COUNTIF(L10:L11,AD8)","v":0},{"$f":"AE8/(AG4-AE11)","v":0},{"$f":"IF(AF8=0,0,(AF8*((LOG(AF8))/LOG(2))))","v":0},null,{"$f":"N8","v":112},{"$f":"COUNTIF(L12:L12,AI8)","v":0},{"$f":"AJ8/(AL4-AJ11)","v":0},{"$f":"IF(AK8=0,0,(AK8*((LOG(AK8))/LOG(2))))","v":0},null,{"$f":"N8","v":112},{"$f":"COUNTIF(L13:L14,AN8)","v":0},{"$f":"AO8/(AQ4-AO11)","v":0},{"$f":"IF(AP8=0,0,(AP8*((LOG(AP8))/LOG(2))))","v":0},null,{"$f":"N8","v":112},{"$f":"COUNTIF(L15:L15,AS8)","v":0},{"$f":"AT8/(AV4-AT11)","v":0},{"$f":"IF(AU8=0,0,(AU8*((LOG(AU8))/LOG(2))))","v":0}]
[21,910,22,920,24,928,null,null,null,null,0,222,null,121,{"$f":"COUNTIF($L$7:$L$500,N9)","v":0},{"$f":"O9/$Q$4","v":0},{"$f":"IF(P9=0,0,(P9*((LOG(P9))/LOG(2))))","v":0},null,null,{"$f":"N9","v":121},{"$f":"COUNTIF(L7:L8,T9)","v":0},{"$f":"U9/(W4-U11)","v":0},{"$f":"IF(V9=0,0,(V9*((LOG(V9))/LOG(2))))","v":0},null,{"$f":"N9","v":121},{"$f":"COUNTIF(L9:L9,Y9)","v":0},{"$f":"Z9/(AB4-Z11)","v":0},{"$f":"IF(AA9=0,0,(AA9*((LOG(AA9))/LOG(2))))","v":0},null,{"$f":"N9","v":121},{"$f":"COUNTIF(L10:L11,AD9)","v":0},{"$f":"AE9/(AG4-AE11)","v":0},{"$f":"IF(AF9=0,0,(AF9*((LOG(AF9))/LOG(2))))","v":0},null,{"$f":"N9","v":121},{"$f":"COUNTIF(L12:L12,AI9)","v":0},{"$f":"AJ9/(AL4-AJ11)","v":0},{"$f":"IF(AK9=0,0,(AK9*((LOG(AK9))/LOG(2))))","v":0},null,{"$f":"N9","v":121},{"$f":"COUNTIF(L13:L14,AN9)","v":0},{"$f":"AO9/(AQ4-AO11)","v":0},{"$f":"IF(AP9=0,0,(AP9*((LOG(AP9))/LOG(2))))","v":0},null,{"$f":"N9","v":121},{"$f":"COUNTIF(L15:L15,AS9)","v":0},{"$f":"AT9/(AV4-AT11)","v":0},{"$f":"IF(AU9=0,0,(AU9*((LOG(AU9))/LOG(2))))","v":0}]
[12,7257,13,7263,13,7268,null,null,null,null,0,111,null,122,{"$f":"COUNTIF($L$7:$L$500,N10)","v":0},{"$f":"O10/$Q$4","v":0},{"$f":"IF(P10=0,0,(P10*((LOG(P10))/LOG(2))))","v":0},null,null,{"$f":"N10","v":122},{"$f":"COUNTIF(L7:L8,T10)","v":0},{"$f":"U10/(W4-U11)","v":0},{"$f":"IF(V10=0,0,(V10*((LOG(V10))/LOG(2))))","v":0},null,{"$f":"N10","v":122},{"$f":"COUNTIF(L9:L9,Y10)","v":0},{"$f":"Z10/(AB4-Z11)","v":0},{"$f":"IF(AA10=0,0,(AA10*((LOG(AA10))/LOG(2))))","v":0},null,{"$f":"N10","v":122},{"$f":"COUNTIF(L10:L11,AD10)","v":0},{"$f":"AE10/(AG4-AE11)","v":0},{"$f":"IF(AF10=0,0,(AF10*((LOG(AF10))/LOG(2))))","v":0},null,{"$f":"N10","v":122},{"$f":"COUNTIF(L12:L12,AI10)","v":0},{"$f":"AJ10/(AL4-AJ11)","v":0},{"$f":"IF(AK10=0,0,(AK10*((LOG(AK10))/LOG(2))))","v":0},null,{"$f":"N10","v":122},{"$f":"COUNTIF(L13:L14,AN10)","v":0},{"$f":"AO10/(AQ4-AO11)","v":0},{"$f":"IF(AP10=0,0,(AP10*((LOG(AP10))/LOG(2))))","v":0},null,{"$f":"N10","v":122},{"$f":"COUNTIF(L15:L15,AS10)","v":0},{"$f":"AT10/(AV4-AT11)","v":0},{"$f":"IF(AU10=0,0,(AU10*((LOG(AU10))/LOG(2))))","v":0}]
[12,7405,13,7414,13,7418,null,null,null,null,0,111,null,211,{"$f":"COUNTIF($L$7:$L$500,N11)","v":0},{"$f":"O11/$Q$4","v":0},{"$f":"IF(P11=0,0,(P11*((LOG(P11))/LOG(2))))","v":0},null,null,{"$f":"N11","v":211},{"$f":"COUNTIF(L7:L8,T11)","v":0},null,null,null,{"$f":"N11","v":211},{"$f":"COUNTIF(L9:L9,Y11)","v":0},null,null,null,{"$f":"N11","v":211},{"$f":"COUNTIF(L10:L11,AD11)","v":0},null,null,null,{"$f":"N11","v":211},{"$f":"COUNTIF(L12:L12,AI11)","v":0},null,null,null,{"$f":"N11","v":211},{"$f":"COUNTIF(L13:L14,AN11)","v":0},null,null,null,{"$f":"N11","v":211},{"$f":"COUNTIF(L15:L15,AS11)","v":0}]
[21,14918,22,14925,24,14935,null,null,null,null,0,222,null,212,{"$f":"COUNTIF($L$7:$L$500,N12)","v":0},{"$f":"O12/$Q$4","v":0},{"$f":"IF(P12=0,0,(P12*((LOG(P12))/LOG(2))))","v":0},null,null,{"$f":"N12","v":212},{"$f":"COUNTIF(L7:L8,T12)","v":0},{"$f":"U12/(W4-U11)","v":0},{"$f":"IF(V12=0,0,(V12*((LOG(V12))/LOG(2))))","v":0},null,{"$f":"N12","v":212},{"$f":"COUNTIF(L9:L9,Y12)","v":0},{"$f":"Z12/(AB4-Z11)","v":0},{"$f":"IF(AA12=0,0,(AA12*((LOG(AA12))/LOG(2))))","v":0},null,{"$f":"N12","v":212},{"$f":"COUNTIF(L10:L11,AD12)","v":0},{"$f":"AE12/(AG4-AE11)","v":0},{"$f":"IF(AF12=0,0,(AF12*((LOG(AF12))/LOG(2))))","v":0},null,{"$f":"N12","v":212},{"$f":"COUNTIF(L12:L12,AI12)","v":0},{"$f":"AJ12/(AL4-AJ11)","v":0},{"$f":"IF(AK12=0,0,(AK12*((LOG(AK12))/LOG(2))))","v":0},null,{"$f":"N12","v":212},{"$f":"COUNTIF(L13:L14,AN12)","v":0},{"$f":"AO12/(AQ4-AO11)","v":0},{"$f":"IF(AP12=0,0,(AP12*((LOG(AP12))/LOG(2))))","v":0},null,{"$f":"N12","v":212},{"$f":"COUNTIF(L15:L15,AS12)","v":0},{"$f":"AT12/(AV4-AT11)","v":0},{"$f":"IF(AU12=0,0,(AU12*((LOG(AU12))/LOG(2))))","v":0}]
[12,17893,13,17901,13,17905,null,null,null,null,0,111,null,221,{"$f":"COUNTIF($L$7:$L$500,N13)","v":0},{"$f":"O13/$Q$4","v":0},{"$f":"IF(P13=0,0,(P13*((LOG(P13))/LOG(2))))","v":0},null,null,{"$f":"N13","v":221},{"$f":"COUNTIF(L7:L8,T13)","v":0},{"$f":"U13/(W4-U11)","v":0},{"$f":"IF(V13=0,0,(V13*((LOG(V13))/LOG(2))))","v":0},null,{"$f":"N13","v":221},{"$f":"COUNTIF(L9:L9,Y13)","v":0},{"$f":"Z13/(AB4-Z11)","v":0},{"$f":"IF(AA13=0,0,(AA13*((LOG(AA13))/LOG(2))))","v":0},null,{"$f":"N13","v":221},{"$f":"COUNTIF(L10:L11,AD13)","v":0},{"$f":"AE13/(AG4-AE11)","v":0},{"$f":"IF(AF13=0,0,(AF13*((LOG(AF13))/LOG(2))))","v":0},null,{"$f":"N13","v":221},{"$f":"COUNTIF(L12:L12,AI13)","v":0},{"$f":"AJ13/(AL4-AJ11)","v":0},{"$f":"IF(AK13=0,0,(AK13*((LOG(AK13))/LOG(2))))","v":0},null,{"$f":"N13","v":221},{"$f":"COUNTIF(L13:L14,AN13)","v":0},{"$f":"AO13/(AQ4-AO11)","v":0},{"$f":"IF(AP13=0,0,(AP13*((LOG(AP13))/LOG(2))))","v":0},null,{"$f":"N13","v":221},{"$f":"COUNTIF(L15:L15,AS13)","v":0},{"$f":"AT13/(AV4-AT11)","v":0},{"$f":"IF(AU13=0,0,(AU13*((LOG(AU13))/LOG(2))))","v":0}]
[12,18021,13,18087,13,18134,null,null,null,null,0,111,null,222,{"$f":"COUNTIF($L$7:$L$500,N14)","v":3},{"$f":"O14/$Q$4","v":0.33333333333333331},{"$f":"IF(P14=0,0,(P14*((LOG(P14))/LOG(2))))","v":-0.52832083357371862},null,null,{"$f":"N14","v":222},{"$f":"COUNTIF(L7:L8,T14)","v":1},{"$f":"U14/(W4-U11)","v":0.5},{"$f":"IF(V14=0,0,(V14*((LOG(V14))/LOG(2))))","v":-0.5},null,{"$f":"N14","v":222},{"$f":"COUNTIF(L9:L9,Y14)","v":1},{"$f":"Z14/(AB4-Z11)","v":1},{"$f":"IF(AA14=0,0,(AA14*((LOG(AA14))/LOG(2))))","v":0},null,{"$f":"N14","v":222},{"$f":"COUNTIF(L10:L11,AD14)","v":0},{"$f":"AE14/(AG4-AE11)","v":0},{"$f":"IF(AF14=0,0,(AF14*((LOG(AF14))/LOG(2))))","v":0},null,{"$f":"N14","v":222},{"$f":"COUNTIF(L12:L12,AI14)","v":1},{"$f":"AJ14/(AL4-AJ11)","v":1},{"$f":"IF(AK14=0,0,(AK14*((LOG(AK14))/LOG(2))))","v":0},null,{"$f":"N14","v":222},{"$f":"COUNTIF(L13:L14,AN14)","v":0},{"$f":"AO14/(AQ4-AO11)","v":0},{"$f":"IF(AP14=0,0,(AP14*((LOG(AP14))/LOG(2))))","v":0},null,{"$f":"N14","v":222},{"$f":"COUNTIF(L15:L15,AS14)","v":0},{"$f":"AT14/(AV4-AT11)","v":0},{"$f":"IF(AU14=0,0,(AU14*((LOG(AU14))/LOG(2))))","v":0}]
[12,19139,13,19145,13,19154,null,null,null,null,0,111,null,null,null,{"$f":"SUM(P7:P14)","v":1},{"$f":"-SUM(Q7:Q14)","v":0.91829583405448945},null,null,null,null,{"$f":"SUM(V7:V14)","v":1},{"$f":"-SUM(W7:W14)","v":1},null,null,null,{"$f":"SUM(AA7:AA14)","v":1},{"$f":"-SUM(AB7:AB14)","v":0},null,null,null,{"$f":"SUM(AF7:AF14)","v":1},{"$f":"-SUM(AG7:AG14)","v":0},null,null,null,{"$f":"SUM(AK7:AK14)","v":1},{"$f":"-SUM(AL7:AL14)","v":0},null,null,null,{"$f":"SUM(AP7:AP14)","v":1},{"$f":"-SUM(AQ7:AQ14)","v":0},null,null,null,{"$f":"SUM(AU7:AU14)","v":1},{"$f":"-SUM(AV7:AV14)","v":0}]
[null,null,null,null,null,null,null,null,null,null,null,null,null,null,null,"U=",{"$f":"Q15/(LOG(Q4)/LOG(2))","v":0.28969008214284753},null,null,null,null,"U1=",{"$f":"W15/(LOG(W4)/LOG(2))","v":1},null,null,null,"U2=",{"$f":"AB15/(LOG(AB4)/LOG(2))","v":{"$error":"#DIV/0!"}},null,null,null,"U3=",{"$f":"AG15/(LOG(AG4)/LOG(2))","v":0},null,null,null,"U4=",{"$f":"AL15/(LOG(AL4)/LOG(2))","v":{"$error":"#DIV/0!"}},null,null,null,"U5=",{"$f":"AQ15/(LOG(AQ4)/LOG(2))","v":0},null,null,null,"U6=",{"$f":"AV15/(LOG(AV4)/LOG(2))","v":{"$error":"#DIV/0!"}}]
[]
[]
[null,null,null,null,null,null,null,null,null,null,null,null,null,"Total Target Seq"]
[null,null,null,null,null,null,null,null,null,null,null,null,null,{"$f":"COUNTIF(L7:L15,G3)","v":0},null,2,1,2,1,2,1]
[null,null,null,null,null,null,null,null,null,null,null,null,null,null,null,"% of reinforcement given in 6 equal intervals based on number of trials "]
[null,null,null,null,null,null,null,null,null,null,null,null,null,null,null,"%_1","%_2","%_3","%_4","%_5","%_6"]
[null,null,null,null,null,null,null,null,null,null,null,null,null,null,"target sequence",{"$f":"$G$3","v":211},{"$f":"$G$3","v":211},{"$f":"$G$3","v":211},{"$f":"$G$3","v":211},{"$f":"$G$3","v":211},{"$f":"$G$3","v":211}]
[null,null,null,null,null,null,null,null,null,null,null,null,null,null,"total reinforcement",{"$f":"U11","v":0},{"$f":"Z11","v":0},{"$f":"AE11","v":0},{"$f":"AJ11","v":0},{"$f":"AO11","v":0},{"$f":"AT11","v":0}]
[null,null,null,null,null,null,null,null,null,null,null,null,null,null,"% target"]
[null,null,null,null,null,null,null,null,null,null,null,null,null,null,"CCRF"]
[null,null,null,null,null,null,null,null,null,null,null,null,null,null,"% CCRf"]
[null,null,null,null,null,null,null,null,null,null,null,null,null,null,"average response rate",{"$f":"F8/P20","v":325},{"$f":"(F9-F8)/Q20","v":278},{"$f":"(F11-F9)/R20","v":3245},{"$f":"(F12-F11)/S20","v":7517},{"$f":"(F14-F12)/T20","v":1599.5},{"$f":"(F15-F14)/U20","v":1020}]

{"sheet":"!N116820.010","index":17,"n_rows":28,"n_cols":48,"rows_kept":28,"cut":false,"hidden":false,"merged":[[4,39,4,42],[5,39,5,40],[4,44,4,47],[5,44,5,45],[4,24,4,27],[5,24,5,25],[4,29,4,32],[5,29,5,30],[4,34,4,37],[5,34,5,35],[1,1,1,2],[5,13,5,14],[18,13,18,14],[19,13,19,14],[4,19,4,22],[5,19,5,20]]}
["Report for:!N116820.010"]
["Date:","<date>"]
["Hen:","<hen>",null,null,null,"Correct Sequence",{"$f":"Start!J2","v":211},null,null,null,null,null,null,null,null,"Total Sequences in Data",{"$f":"4994-COUNTBLANK(L7:L5000)","v":13},null,null,null,null,"Total Sequences in Block Data",{"$f":"COUNTA(L7:L8)","v":2},null,null,null,"Total Sequences in Block Data",{"$f":"COUNTA(L9:L10)","v":2},null,null,null,"Total Sequences in Block Data",{"$f":"COUNTA(L11:L13)","v":3},null,null,null,"Total Sequences in Block Data",{"$f":"COUNTA(L14:L15)","v":2},null,null,null,"Total Sequences in Block Data",{"$f":"COUNTA(L16:L17)","v":2},null,null,null,"Total Sequences in Block Data",{"$f":"COUNTA(L18:L19)","v":2}]
[null,null,null,null,null,null,null,null,null,null,null,null,null,null,null,"Total Sequences in Summary",{"$f":"SUM(O7:O14)","v":13},null,null,null,null,"Total Sequences in Block Summary",{"$f":"SUM(U7:U14)","v":2},null,null,null,"Total Sequences in Block Summary",{"$f":"SUM(Z7:Z14)","v":2},null,null,null,"Total Sequences in Block Summary",{"$f":"SUM(AE7:AE14)","v":3},null,null,null,"Total Sequences in Block Summary",{"$f":"SUM(AJ7:AJ14)","v":2},null,null,null,"Total Sequences in Block Summary",{"$f":"SUM(AO7:AO14)","v":2},null,null,null,"Total Sequences in Block Summary",{"$f":"SUM(AT7:AT14)","v":2}]
[null,null,null,null,null,null,null,null,null,null,null,null,null,null,null,null,null,null,null,"Block 1",null,null,null,null,"Block 2",null,null,null,null,"Block 3",null,null,null,null,"Block 4",null,null,null,null,"Block 5",null,null,null,null,"Block 6"]
["Sequence\nComponent\n1","Time\n1","Sequence\nComponent\n2","Time\n2","Sequence\nComponent\n3","Time\n3","Sequence\nComponent\n4","Time\n4","Sequence\nComponent\n5","Time\n5","Correct?\n0=No 1=Yes","Sequence",null,"Frequency",null,"Relative Frequency","Variability",null,null,"Frequency",null,"Relative Frequency","Variability",null,"Frequency",null,"Relative Frequency","Variability",null,"Frequency",null,"Relative Frequency","Variability",null,"Frequency",null,"Relative Frequency","Variability",null,"Frequency",null,"Relative Frequency","Variability",null,"Frequency",null,"Relative Frequency","Variability"]
[12,165,13,171,13,175,null,null,null,null,0,111,null,111,{"$f":"COUNTIF($L$7:$L$500,N7)","v":10},{"$f":"O7/$Q$4","v":0.76923076923076927},{"$f":"IF(P7=0,0,(P7*((LOG(P7))/LOG(2))))","v":-0.29116278711825366},null,null,{"$f":"N7","v":111},{"$f":"COUNTIF(L7:L8,T7)","v":2},{"$f":"U7/(W4-U11)","v":1},{"$f":"IF(V7=0,0,(V7*((LOG(V7))/LOG(2))))","v":0},null,{"$f":"N7","v":111},{"$f":"COUNTIF(L9:L10,Y7)","v":1},{"$f":"Z7/(AB4-Z11)","v":0.5},{"$f":"IF(AA7=0,0,(AA7*((LOG(AA7))/LOG(2))))","v":-0.5},null,{"$f":"N7","v":111},{"$f":"COUNTIF(L11:L13,AD7)","v":3},{"$f":"AE7/(AG4-AE11)","v":1},{"$f":"IF(AF7=0,0,(AF7*((LOG(AF7))/LOG(2))))","v":0},null,{"$f":"N7","v":111},{"$f":"COUNTIF(L14:L15,AI7)","v":1},{"$f":"AJ7/(AL4-AJ11)","v":0.5},{"$f":"IF(AK7=0,0,(AK7*((LOG(AK7))/LOG(2))))","v":-0.5},null,{"$f":"N7","v":111},{"$f":"COUNTIF(L16:L17,AN7)","v":2},{"$f":"AO7/(AQ4-AO11)","v":1},{"$f":"IF(AP7=0,0,(AP7*((LOG(AP7))/LOG(2))))","v":0},null,{"$f":"N7","v":111},{"$f":"COUNTIF(L18:L19,AS7)","v":1},{"$f":"AT7/(AV4-AT11)","v":0.5},{"$f":"IF(AU7=0,0,(AU7*((LOG(AU7))/LOG(2))))","v":-0.5}]
[12,555,13,560,13,566,null,null,null,null,0,111,null,112,{"$f":"COUNTIF($L$7:$L$500,N8)","v":0},{"$f":"O8/$Q$4","v":0},{"$f":"IF(P8=0,0,(P8*((LOG(P8))/LOG(2))))","v":0},null,null,{"$f":"N8","v":112},{"$f":"COUNTIF(L7:L8,T8)","v":0},{"$f":"U8/(W4-U11)","v":0},{"$f":"IF(V8=0,0,(V8*((LOG(V8))/LOG(2))))","v":0},null,{"$f":"N8","v":112},{"$f":"COUNTIF(L9:L10,Y8)","v":0},{"$f":"Z8/(AB4-Z11)","v":0},{"$f":"IF(AA8=0,0,(AA8*((LOG(AA8))/LOG(2))))","v":0},null,{"$f":"N8","v":112},{"$f":"COUNTIF(L11:L13,AD8)","v":0},{"$f":"AE8/(AG4-AE11)","v":0},{"$f":"IF(AF8=0,0,(AF8*((LOG(AF8))/LOG(2))))","v":0},null,{"$f":"N8","v":112},{"$f":"COUNTIF(L14:L15,AI8)","v":0},{"$f":"AJ8/(AL4-AJ11)","v":0},{"$f":"IF(AK8=0,0,(AK8*((LOG(AK8))/LOG(2))))","v":0},null,{"$f":"N8","v":112},{"$f":"COUNTIF(L16:L17,AN8)","v":0},{"$f":"AO8/(AQ4-AO11)","v":0},{"$f":"IF(AP8=0,0,(AP8*((LOG(AP8))/LOG(2))))","v":0},null,{"$f":"N8","v":112},{"$f":"COUNTIF(L18:L19,AS8)","v":0},{"$f":"AT8/(AV4-AT11)","v":0},{"$f":"IF(AU8=0,0,(AU8*((LOG(AU8))/LOG(2))))","v":0}]
[12,716,13,722,13,728,null,null,null,null,0,111,null,121,{"$f":"COUNTIF($L$7:$L$500,N9)","v":0},{"$f":"O9/$Q$4","v":0},{"$f":"IF(P9=0,0,(P9*((LOG(P9))/LOG(2))))","v":0},null,null,{"$f":"N9","v":121},{"$f":"COUNTIF(L7:L8,T9)","v":0},{"$f":"U9/(W4-U11)","v":0},{"$f":"IF(V9=0,0,(V9*((LOG(V9))/LOG(2))))","v":0},null,{"$f":"N9","v":121},{"$f":"COUNTIF(L9:L10,Y9)","v":0},{"$f":"Z9/(AB4-Z11)","v":0},{"$f":"IF(AA9=0,0,(AA9*((LOG(AA9))/LOG(2))))","v":0},null,{"$f":"N9","v":121},{"$f":"COUNTIF(L11:L13,AD9)","v":0},{"$f":"AE9/(AG4-AE11)","v":0},{"$f":"IF(AF9=0,0,(AF9*((LOG(AF9))/LOG(2))))","v":0},null,{"$f":"N9","v":121},{"$f":"COUNTIF(L14:L15,AI9)","v":0},{"$f":"AJ9/(AL4-AJ11)","v":0},{"$f":"IF(AK9=0,0,(AK9*((LOG(AK9))/LOG(2))))","v":0},null,{"$f":"N9","v":121},{"$f":"COUNTIF(L16:L17,AN9)","v":0},{"$f":"AO9/(AQ4-AO11)","v":0},{"$f":"IF(AP9=0,0,(AP9*((LOG(AP9))/LOG(2))))","v":0},null,{"$f":"N9","v":121},{"$f":"COUNTIF(L18:L19,AS9)","v":0},{"$f":"AT9/(AV4-AT11)","v":0},{"$f":"IF(AU9=0,0,(AU9*((LOG(AU9))/LOG(2))))","v":0}]
[21,4937,22,4946,24,4952,null,null,null,null,0,222,null,122,{"$f":"COUNTIF($L$7:$L$500,N10)","v":0},{"$f":"O10/$Q$4","v":0},{"$f":"IF(P10=0,0,(P10*((LOG(P10))/LOG(2))))","v":0},null,null,{"$f":"N10","v":122},{"$f":"COUNTIF(L7:L8,T10)","v":0},{"$f":"U10/(W4-U11)","v":0},{"$f":"IF(V10=0,0,(V10*((LOG(V10))/LOG(2))))","v":0},null,{"$f":"N10","v":122},{"$f":"COUNTIF(L9:L10,Y10)","v":0},{"$f":"Z10/(AB4-Z11)","v":0},{"$f":"IF(AA10=0,0,(AA10*((LOG(AA10))/LOG(2))))","v":0},null,{"$f":"N10","v":122},{"$f":"COUNTIF(L11:L13,AD10)","v":0},{"$f":"AE10/(AG4-AE11)","v":0},{"$f":"IF(AF10=0,0,(AF10*((LOG(AF10))/LOG(2))))","v":0},null,{"$f":"N10","v":122},{"$f":"COUNTIF(L14:L15,AI10)","v":0},{"$f":"AJ10/(AL4-AJ11)","v":0},{"$f":"IF(AK10=0,0,(AK10*((LOG(AK10))/LOG(2))))","v":0},null,{"$f":"N10","v":122},{"$f":"COUNTIF(L16:L17,AN10)","v":0},{"$f":"AO10/(AQ4-AO11)","v":0},{"$f":"IF(AP10=0,0,(AP10*((LOG(AP10))/LOG(2))))","v":0},null,{"$f":"N10","v":122},{"$f":"COUNTIF(L18:L19,AS10)","v":0},{"$f":"AT10/(AV4-AT11)","v":0},{"$f":"IF(AU10=0,0,(AU10*((LOG(AU10))/LOG(2))))","v":0}]
[12,5081,13,5088,13,5093,null,null,null,null,0,111,null,211,{"$f":"COUNTIF($L$7:$L$500,N11)","v":0},{"$f":"O11/$Q$4","v":0},{"$f":"IF(P11=0,0,(P11*((LOG(P11))/LOG(2))))","v":0},null,null,{"$f":"N11","v":211},{"$f":"COUNTIF(L7:L8,T11)","v":0},null,null,null,{"$f":"N11","v":211},{"$f":"COUNTIF(L9:L10,Y11)","v":0},null,null,null,{"$f":"N11","v":211},{"$f":"COUNTIF(L11:L13,AD11)","v":0},null,null,null,{"$f":"N11","v":211},{"$f":"COUNTIF(L14:L15,AI11)","v":0},null,null,null,{"$f":"N11","v":211},{"$f":"COUNTIF(L16:L17,AN11)","v":0},null,null,null,{"$f":"N11","v":211},{"$f":"COUNTIF(L18:L19,AS11)","v":0}]
[12,11372,13,11399,13,11404,null,null,null,null,0,111,null,212,{"$f":"COUNTIF($L$7:$L$500,N12)","v":0},{"$f":"O12/$Q$4","v":0},{"$f":"IF(P12=0,0,(P12*((LOG(P12))/LOG(2))))","v":0},null,null,{"$f":"N12","v":212},{"$f":"COUNTIF(L7:L8,T12)","v":0},{"$f":"U12/(W4-U11)","v":0},{"$f":"IF(V12=0,0,(V12*((LOG(V12))/LOG(2))))","v":0},null,{"$f":"N12","v":212},{"$f":"COUNTIF(L9:L10,Y12)","v":0},{"$f":"Z12/(AB4-Z11)","v":0},{"$f":"IF(AA12=0,0,(AA12*((LOG(AA12))/LOG(2))))","v":0},null,{"$f":"N12","v":212},{"$f":"COUNTIF(L11:L13,AD12)","v":0},{"$f":"AE12/(AG4-AE11)","v":0},{"$f":"IF(AF12=0,0,(AF12*((LOG(AF12))/LOG(2))))","v":0},null,{"$f":"N12","v":212},{"$f":"COUNTIF(L14:L15,AI12)","v":0},{"$f":"AJ12/(AL4-AJ11)","v":0},{"$f":"IF(AK12=0,0,(AK12*((LOG(AK12))/LOG(2))))","v":0},null,{"$f":"N12","v":212},{"$f":"COUNTIF(L16:L17,AN12)","v":0},{"$f":"AO12/(AQ4-AO11)","v":0},{"$f":"IF(AP12=0,0,(AP12*((LOG(AP12))/LOG(2))))","v":0},null,{"$f":"N12","v":212},{"$f":"COUNTIF(L18:L19,AS12)","v":0},{"$f":"AT12/(AV4-AT11)","v":0},{"$f":"IF(AU12=0,0,(AU12*((LOG(AU12))/LOG(2))))","v":0}]
[12,12817,13,12823,13,12833,null,null,null,null,0,111,null,221,{"$f":"COUNTIF($L$7:$L$500,N13)","v":0},{"$f":"O13/$Q$4","v":0},{"$f":"IF(P13=0,0,(P13*((LOG(P13))/LOG(2))))","v":0},null,null,{"$f":"N13","v":221},{"$f":"COUNTIF(L7:L8,T13)","v":0},{"$f":"U13/(W4-U11)","v":0},{"$f":"IF(V13=0,0,(V13*((LOG(V13))/LOG(2))))","v":0},null,{"$f":"N13","v":221},{"$f":"COUNTIF(L9:L10,Y13)","v":0},{"$f":"Z13/(AB4-Z11)","v":0},{"$f":"IF(AA13=0,0,(AA13*((LOG(AA13))/LOG(2))))","v":0},null,{"$f":"N13","v":221},{"$f":"COUNTIF(L11:L13,AD13)","v":0},{"$f":"AE13/(AG4-AE11)","v":0},{"$f":"IF(AF13=0,0,(AF13*((LOG(AF13))/LOG(2))))","v":0},null,{"$f":"N13","v":221},{"$f":"COUNTIF(L14:L15,AI13)","v":0},{"$f":"AJ13/(AL4-AJ11)","v":0},{"$f":"IF(AK13=0,0,(AK13*((LOG(AK13))/LOG(2))))","v":0},null,{"$f":"N13","v":221},{"$f":"COUNTIF(L16:L17,AN13)","v":0},{"$f":"AO13/(AQ4-AO11)","v":0},{"$f":"IF(AP13=0,0,(AP13*((LOG(AP13))/LOG(2))))","v":0},null,{"$f":"N13","v":221},{"$f":"COUNTIF(L18:L19,AS13)","v":0},{"$f":"AT13/(AV4-AT11)","v":0},{"$f":"IF(AU13=0,0,(AU13*((LOG(AU13))/LOG(2))))","v":0}]
[12,17954,13,17962,13,17967,null,null,null,null,0,111,null,222,{"$f":"COUNTIF($L$7:$L$500,N14)","v":3},{"$f":"O14/$Q$4","v":0.23076923076923078},{"$f":"IF(P14=0,0,(P14*((LOG(P14))/LOG(2))))","v":-0.48818705017383146},null,null,{"$f":"N14","v":222},{"$f":"COUNTIF(L7:L8,T14)","v":0},{"$f":"U14/(W4-U11)","v":0},{"$f":"IF(V14=0,0,(V14*((LOG(V14))/LOG(2))))","v":0},null,{"$f":"N14","v":222},{"$f":"COUNTIF(L9:L10,Y14)","v":1},{"$f":"Z14/(AB4-Z11)","v":0.5},{"$f":"IF(AA14=0,0,(AA14*((LOG(AA14))/LOG(2))))","v":-0.5},null,{"$f":"N14","v":222},{"$f":"COUNTIF(L11:L13,AD14)","v":0},{"$f":"AE14/(AG4-AE11)","v":0},{"$f":"IF(AF14=0,0,(AF14*((LOG(AF14))/LOG(2))))","v":0},null,{"$f":"N14","v":222},{"$f":"COUNTIF(L14:L15,AI14)","v":1},{"$f":"AJ14/(AL4-AJ11)","v":0.5},{"$f":"IF(AK14=0,0,(AK14*((LOG(AK14))/LOG(2))))","v":-0.5},null,{"$f":"N14","v":222},{"$f":"COUNTIF(L16:L17,AN14)","v":0},{"$f":"AO14/(AQ4-AO11)","v":0},{"$f":"IF(AP14=0,0,(AP14*((LOG(AP14))/LOG(2))))","v":0},null,{"$f":"N14","v":222},{"$f":"COUNTIF(L18:L19,AS14)","v":1},{"$f":"AT14/(AV4-AT11)","v":0.5},{"$f":"IF(AU14=0,0,(AU14*((LOG(AU14))/LOG(2))))","v":-0.5}]
[21,18293,22,18303,24,18309,null,null,null,null,0,222,null,null,null,{"$f":"SUM(P7:P14)","v":1},{"$f":"-SUM(Q7:Q14)","v":0.77934983729208507},null,null,null,null,{"$f":"SUM(V7:V14)","v":1},{"$f":"-SUM(W7:W14)","v":0},null,null,null,{"$f":"SUM(AA7:AA14)","v":1},{"$f":"-SUM(AB7:AB14)","v":1},null,null,null,{"$f":"SUM(AF7:AF14)","v":1},{"$f":"-SUM(AG7:AG14)","v":0},null,null,null,{"$f":"SUM(AK7:AK14)","v":1},{"$f":"-SUM(AL7:AL14)","v":1},null,null,null,{"$f":"SUM(AP7:AP14)","v":1},{"$f":"-SUM(AQ7:AQ14)","v":0},null,null,null,{"$f":"SUM(AU7:AU14)","v":1},{"$f":"-SUM(AV7:AV14)","v":1}]
[12,19818,13,19823,13,19833,null,null,null,null,0,111,null,null,null,"U=",{"$f":"Q15/(LOG(Q4)/LOG(2))","v":0.210610061683045},null,null,null,null,"U1=",{"$f":"W15/(LOG(W4)/LOG(2))","v":0},null,null,null,"U2=",{"$f":"AB15/(LOG(AB4)/LOG(2))","v":1},null,null,null,"U3=",{"$f":"AG15/(LOG(AG4)/LOG(2))","v":0},null,null,null,"U4=",{"$f":"AL15/(LOG(AL4)/LOG(2))","v":1},null,null,null,"U5=",{"$f":"AQ15/(LOG(AQ4)/LOG(2))","v":0},null,null,null,"U6=",{"$f":"AV15/(LOG(AV4)/LOG(2))","v":1}]
[12,19971,13,19975,13,19980,null,null,null,null,0,111]
[21,20581,22,20586,24,20591,null,null,null,null,0,222]
[12,20753,13,20758,13,20770,null,null,null,null,0,111,null,"Total Target Seq"]
[null,null,null,null,null,null,null,null,null,null,null,null,null,{"$f":"COUNTIF(L7:L19,G3)","v":0},null,2,2,3,2,2,2]
[null,null,null,null,null,null,null,null,null,null,null,null,null,null,null,"% of reinforcement given in 6 equal intervals based on number of trials "]
[null,null,null,null,null,null,null,null,null,null,null,null,null,null,null,"%_1","%_2","%_3","%_4","%_5","%_6"]
[null,null,null,null,null,null,null,null,null,null,null,null,null,null,"target sequence",{"$f":"$G$3","v":211},{"$f":"$G$3","v":211},{"$f":"$G$3","v":211},{"$f":"$G$3","v":211},{"$f":"$G$3","v":211},{"$f":"$G$3","v":211}]
[null,null,null,null,null,null,null,null,null,null,null,null,null,null,"total reinforcement",{"$f":"U11","v":0},{"$f":"Z11","v":0},{"$f":"AE11","v":0},{"$f":"AJ11","v":0},{"$f":"AO11","v":0},{"$f":"AT11","v":0}]
[null,null,null,null,null,null,null,null,null,null,null,null,null,null,"% target"]
[null,null,null,null,null,null,null,null,null,null,null,null,null,null,"CCRF"]
[null,null,null,null,null,null,null,null,null,null,null,null,null,null,"% CCRf"]
[null,null,null,null,null,null,null,null,null,null,null,null,null,null,"average response rate",{"$f":"F8/P20","v":283},{"$f":"(F10-F8)/Q20","v":2193},{"$f":"(F13-F10)/R20","v":2627},{"$f":"(F15-F13)/S20","v":2738},{"$f":"(F17-F15)/T20","v":835.5},{"$f":"(F19-F17)/U20","v":395}]

{"sheet":"!N117A40.010","index":18,"n_rows":28,"n_cols":48,"rows_kept":28,"cut":false,"hidden":false,"merged":[[4,39,4,42],[5,39,5,40],[4,44,4,47],[5,44,5,45],[4,24,4,27],[5,24,5,25],[4,29,4,32],[5,29,5,30],[4,34,4,37],[5,34,5,35],[1,1,1,2],[5,13,5,14],[18,13,18,14],[19,13,19,14],[4,19,4,22],[5,19,5,20]]}
["Report for:!N117A40.010"]
["Date:","<date>"]
["Hen:","<hen>",null,null,null,"Correct Sequence",{"$f":"Start!J2","v":211},null,null,null,null,null,null,null,null,"Total Sequences in Data",{"$f":"4994-COUNTBLANK(L7:L5000)","v":20},null,null,null,null,"Total Sequences in Block Data",{"$f":"COUNTA(L7:L9)","v":3},null,null,null,"Total Sequences in Block Data",{"$f":"COUNTA(L10:L13)","v":4},null,null,null,"Total Sequences in Block Data",{"$f":"COUNTA(L14:L16)","v":3},null,null,null,"Total Sequences in Block Data",{"$f":"COUNTA(L17:L19)","v":3},null,null,null,"Total Sequences in Block Data",{"$f":"COUNTA(L20:L23)","v":4},null,null,null,"Total Sequences in Block Data",{"$f":"COUNTA(L24:L26)","v":3}]
[null,null,null,null,null,null,null,null,null,null,null,null,null,null,null,"Total Sequences in Summary",{"$f":"SUM(O7:O14)","v":20},null,null,null,null,"Total Sequences in Block Summary",{"$f":"SUM(U7:U14)","v":3},null,null,null,"Total Sequences in Block Summary",{"$f":"SUM(Z7:Z14)","v":4},null,null,null,"Total Sequences in Block Summary",{"$f":"SUM(AE7:AE14)","v":3},null,null,null,"Total Sequences in Block Summary",{"$f":"SUM(AJ7:AJ14)","v":3},null,null,null,"Total Sequences in Block Summary",{"$f":"SUM(AO7:AO14)","v":4},null,null,null,"Total Sequences in Block Summary",{"$f":"SUM(AT7:AT14)","v":3}]
[null,null,null,null,null,null,null,null,null,null,null,null,null,null,null,null,null,null,null,"Block 1",null,null,null,null,"Block 2",null,null,null,null,"Block 3",null,null,null,null,"Block 4",null,null,null,null,"Block 5",null,null,null,null,"Block 6"]
["Sequence\nComponent\n1","Time\n1","Sequence\nComponent\n2","Time\n2","Sequence\nComponent\n3","Time\n3","Sequence\nComponent\n4","Time\n4","Sequence\nComponent\n5","Time\n5","Correct?\n0=No 1=Yes","Sequence",null,"Frequency",null,"Relative Frequency","Variability",null,null,"Frequency",null,"Relative Frequency","Variability",null,"Frequency",null,"Relative Frequency","Variability",null,"Frequency",null,"Relative Frequency","Variability",null,"Frequency",null,"Relative Frequency","Variability",null,"Frequency",null,"Relative Frequency","Variability",null,"Frequency",null,"Relative Frequency","Variability"]
[21,175,22,181,24,186,null,null,null,null,0,222,null,111,{"$f":"COUNTIF($L$7:$L$500,N7)","v":10},{"$f":"O7/$Q$4","v":0.5},{"$f":"IF(P7=0,0,(P7*((LOG(P7))/LOG(2))))","v":-0.5},null,null,{"$f":"N7","v":111},{"$f":"COUNTIF(L7:L9,T7)","v":1},{"$f":"U7/(W4-U11)","v":0.33333333333333331},{"$f":"IF(V7=0,0,(V7*((LOG(V7))/LOG(2))))","v":-0.52832083357371862},null,{"$f":"N7","v":111},{"$f":"COUNTIF(L10:L13,Y7)","v":4},{"$f":"Z7/(AB4-Z11)","v":1},{"$f":"IF(AA7=0,0,(AA7*((LOG(AA7))/LOG(2))))","v":0},null,{"$f":"N7","v":111},{"$f":"COUNTIF(L14:L16,AD7)","v":2},{"$f":"AE7/(AG4-AE11)","v":0.66666666666666663},{"$f":"IF(AF7=0,0,(AF7*((LOG(AF7))/LOG(2))))","v":-0.38997500048077083},null,{"$f":"N7","v":111},{"$f":"COUNTIF(L17:L19,AI7)","v":1},{"$f":"AJ7/(AL4-AJ11)","v":0.33333333333333331},{"$f":"IF(AK7=0,0,(AK7*((LOG(AK7))/LOG(2))))","v":-0.52832083357371862},null,{"$f":"N7","v":111},{"$f":"COUNTIF(L20:L23,AN7)","v":2},{"$f":"AO7/(AQ4-AO11)","v":0.5},{"$f":"IF(AP7=0,0,(AP7*((LOG(AP7))/LOG(2))))","v":-0.5},null,{"$f":"N7","v":111},{"$f":"COUNTIF(L24:L26,AS7)","v":0},{"$f":"AT7/(AV4-AT11)","v":0},{"$f":"IF(AU7=0,0,(AU7*((LOG(AU7))/LOG(2))))","v":0}]
[21,295,22,309,24,317,null,null,null,null,0,222,null,112,{"$f":"COUNTIF($L$7:$L$500,N8)","v":0},{"$f":"O8/$Q$4","v":0},{"$f":"IF(P8=0,0,(P8*((LOG(P8))/LOG(2))))","v":0},null,null,{"$f":"N8","v":112},{"$f":"COUNTIF(L7:L9,T8)","v":0},{"$f":"U8/(W4-U11)","v":0},{"$f":"IF(V8=0,0,(V8*((LOG(V8))/LOG(2))))","v":0},null,{"$f":"N8","v":112},{"$f":"COUNTIF(L10:L13,Y8)","v":0},{"$f":"Z8/(AB4-Z11)","v":0},{"$f":"IF(AA8=0,0,(AA8*((LOG(AA8))/LOG(2))))","v":0},null,{"$f":"N8","v":112},{"$f":"COUNTIF(L14:L16,AD8)","v":0},{"$f":"AE8/(AG4-AE11)","v":0},{"$f":"IF(AF8=0,0,(AF8*((LOG(AF8))/LOG(2))))","v":0},null,{"$f":"N8","v":112},{"$f":"COUNTIF(L17:L19,AI8)","v":0},{"$f":"AJ8/(AL4-AJ11)","v":0},{"$f":"IF(AK8=0,0,(AK8*((LOG(AK8))/LOG(2))))","v":0},null,{"$f":"N8","v":112},{"$f":"COUNTIF(L20:L23,AN8)","v":0},{"$f":"AO8/(AQ4-AO11)","v":0},{"$f":"IF(AP8=0,0,(AP8*((LOG(AP8))/LOG(2))))","v":0},null,{"$f":"N8","v":112},{"$f":"COUNTIF(L24:L26,AS8)","v":0},{"$f":"AT8/(AV4-AT11)","v":0},{"$f":"IF(AU8=0,0,(AU8*((LOG(AU8))/LOG(2))))","v":0}]
[12,424,13,429,13,433,null,null,null,null,0,111,null,121,{"$f":"COUNTIF($L$7:$L$500,N9)","v":0},{"$f":"O9/$Q$4","v":0},{"$f":"IF(P9=0,0,(P9*((LOG(P9))/LOG(2))))","v":0},null,null,{"$f":"N9","v":121},{"$f":"COUNTIF(L7:L9,T9)","v":0},{"$f":"U9/(W4-U11)","v":0},{"$f":"IF(V9=0,0,(V9*((LOG(V9))/LOG(2))))","v":0},null,{"$f":"N9","v":121},{"$f":"COUNTIF(L10:L13,Y9)","v":0},{"$f":"Z9/(AB4-Z11)","v":0},{"$f":"IF(AA9=0,0,(AA9*((LOG(AA9))/LOG(2))))","v":0},null,{"$f":"N9","v":121},{"$f":"COUNTIF(L14:L16,AD9)","v":0},{"$f":"AE9/(AG4-AE11)","v":0},{"$f":"IF(AF9=0,0,(AF9*((LOG(AF9))/LOG(2))))","v":0},null,{"$f":"N9","v":121},{"$f":"COUNTIF(L17:L19,AI9)","v":0},{"$f":"AJ9/(AL4-AJ11)","v":0},{"$f":"IF(AK9=0,0,(AK9*((LOG(AK9))/LOG(2))))","v":0},null,{"$f":"N9","v":121},{"$f":"COUNTIF(L20:L23,AN9)","v":0},{"$f":"AO9/(AQ4-AO11)","v":0},{"$f":"IF(AP9=0,0,(AP9*((LOG(AP9))/LOG(2))))","v":0},null,{"$f":"N9","v":121},{"$f":"COUNTIF(L24:L26,AS9)","v":0},{"$f":"AT9/(AV4-AT11)","v":0},{"$f":"IF(AU9=0,0,(AU9*((LOG(AU9))/LOG(2))))","v":0}]
[12,539,13,543,13,548,null,null,null,null,0,111,null,122,{"$f":"COUNTIF($L$7:$L$500,N10)","v":0},{"$f":"O10/$Q$4","v":0},{"$f":"IF(P10=0,0,(P10*((LOG(P10))/LOG(2))))","v":0},null,null,{"$f":"N10","v":122},{"$f":"COUNTIF(L7:L9,T10)","v":0},{"$f":"U10/(W4-U11)","v":0},{"$f":"IF(V10=0,0,(V10*((LOG(V10))/LOG(2))))","v":0},null,{"$f":"N10","v":122},{"$f":"COUNTIF(L10:L13,Y10)","v":0},{"$f":"Z10/(AB4-Z11)","v":0},{"$f":"IF(AA10=0,0,(AA10*((LOG(AA10))/LOG(2))))","v":0},null,{"$f":"N10","v":122},{"$f":"COUNTIF(L14:L16,AD10)","v":0},{"$f":"AE10/(AG4-AE11)","v":0},{"$f":"IF(AF10=0,0,(AF10*((LOG(AF10))/LOG(2))))","v":0},null,{"$f":"N10","v":122},{"$f":"COUNTIF(L17:L19,AI10)","v":0},{"$f":"AJ10/(AL4-AJ11)","v":0},{"$f":"IF(AK10=0,0,(AK10*((LOG(AK10))/LOG(2))))","v":0},null,{"$f":"N10","v":122},{"$f":"COUNTIF(L20:L23,AN10)","v":0},{"$f":"AO10/(AQ4-AO11)","v":0},{"$f":"IF(AP10=0,0,(AP10*((LOG(AP10))/LOG(2))))","v":0},null,{"$f":"N10","v":122},{"$f":"COUNTIF(L24:L26,AS10)","v":0},{"$f":"AT10/(AV4-AT11)","v":0},{"$f":"IF(AU10=0,0,(AU10*((LOG(AU10))/LOG(2))))","v":0}]
[12,655,13,660,13,664,null,null,null,null,0,111,null,211,{"$f":"COUNTIF($L$7:$L$500,N11)","v":0},{"$f":"O11/$Q$4","v":0},{"$f":"IF(P11=0,0,(P11*((LOG(P11))/LOG(2))))","v":0},null,null,{"$f":"N11","v":211},{"$f":"COUNTIF(L7:L9,T11)","v":0},null,null,null,{"$f":"N11","v":211},{"$f":"COUNTIF(L10:L13,Y11)","v":0},null,null,null,{"$f":"N11","v":211},{"$f":"COUNTIF(L14:L16,AD11)","v":0},null,null,null,{"$f":"N11","v":211},{"$f":"COUNTIF(L17:L19,AI11)","v":0},null,null,null,{"$f":"N11","v":211},{"$f":"COUNTIF(L20:L23,AN11)","v":0},null,null,null,{"$f":"N11","v":211},{"$f":"COUNTIF(L24:L26,AS11)","v":0}]
[12,769,13,774,13,779,null,null,null,null,0,111,null,212,{"$f":"COUNTIF($L$7:$L$500,N12)","v":0},{"$f":"O12/$Q$4","v":0},{"$f":"IF(P12=0,0,(P12*((LOG(P12))/LOG(2))))","v":0},null,null,{"$f":"N12","v":212},{"$f":"COUNTIF(L7:L9,T12)","v":0},{"$f":"U12/(W4-U11)","v":0},{"$f":"IF(V12=0,0,(V12*((LOG(V12))/LOG(2))))","v":0},null,{"$f":"N12","v":212},{"$f":"COUNTIF(L10:L13,Y12)","v":0},{"$f":"Z12/(AB4-Z11)","v":0},{"$f":"IF(AA12=0,0,(AA12*((LOG(AA12))/LOG(2))))","v":0},null,{"$f":"N12","v":212},{"$f":"COUNTIF(L14:L16,AD12)","v":0},{"$f":"AE12/(AG4-AE11)","v":0},{"$f":"IF(AF12=0,0,(AF12*((LOG(AF12))/LOG(2))))","v":0},null,{"$f":"N12","v":212},{"$f":"COUNTIF(L17:L19,AI12)","v":0},{"$f":"AJ12/(AL4-AJ11)","v":0},{"$f":"IF(AK12=0,0,(AK12*((LOG(AK12))/LOG(2))))","v":0},null,{"$f":"N12","v":212},{"$f":"COUNTIF(L20:L23,AN12)","v":0},{"$f":"AO12/(AQ4-AO11)","v":0},{"$f":"IF(AP12=0,0,(AP12*((LOG(AP12))/LOG(2))))","v":0},null,{"$f":"N12","v":212},{"$f":"COUNTIF(L24:L26,AS12)","v":0},{"$f":"AT12/(AV4-AT11)","v":0},{"$f":"IF(AU12=0,0,(AU12*((LOG(AU12))/LOG(2))))","v":0}]
[12,874,13,879,13,883,null,null,null,null,0,111,null,221,{"$f":"COUNTIF($L$7:$L$500,N13)","v":0},{"$f":"O13/$Q$4","v":0},{"$f":"IF(P13=0,0,(P13*((LOG(P13))/LOG(2))))","v":0},null,null,{"$f":"N13","v":221},{"$f":"COUNTIF(L7:L9,T13)","v":0},{"$f":"U13/(W4-U11)","v":0},{"$f":"IF(V13=0,0,(V13*((LOG(V13))/LOG(2))))","v":0},null,{"$f":"N13","v":221},{"$f":"COUNTIF(L10:L13,Y13)","v":0},{"$f":"Z13/(AB4-Z11)","v":0},{"$f":"IF(AA13=0,0,(AA13*((LOG(AA13))/LOG(2))))","v":0},null,{"$f":"N13","v":221},{"$f":"COUNTIF(L14:L16,AD13)","v":0},{"$f":"AE13/(AG4-AE11)","v":0},{"$f":"IF(AF13=0,0,(AF13*((LOG(AF13))/LOG(2))))","v":0},null,{"$f":"N13","v":221},{"$f":"COUNTIF(L17:L19,AI13)","v":0},{"$f":"AJ13/(AL4-AJ11)","v":0},{"$f":"IF(AK13=0,0,(AK13*((LOG(AK13))/LOG(2))))","v":0},null,{"$f":"N13","v":221},{"$f":"COUNTIF(L20:L23,AN13)","v":0},{"$f":"AO13/(AQ4-AO11)","v":0},{"$f":"IF(AP13=0,0,(AP13*((LOG(AP13))/LOG(2))))","v":0},null,{"$f":"N13","v":221},{"$f":"COUNTIF(L24:L26,AS13)","v":0},{"$f":"AT13/(AV4-AT11)","v":0},{"$f":"IF(AU13=0,0,(AU13*((LOG(AU13))/LOG(2))))","v":0}]
[12,1164,13,1168,13,1173,null,null,null,null,0,111,null,222,{"$f":"COUNTIF($L$7:$L$500,N14)","v":10},{"$f":"O14/$Q$4","v":0.5},{"$f":"IF(P14=0,0,(P14*((LOG(P14))/LOG(2))))","v":-0.5},null,null,{"$f":"N14","v":222},{"$f":"COUNTIF(L7:L9,T14)","v":2},{"$f":"U14/(W4-U11)","v":0.66666666666666663},{"$f":"IF(V14=0,0,(V14*((LOG(V14))/LOG(2))))","v":-0.38997500048077083},null,{"$f":"N14","v":222},{"$f":"COUNTIF(L10:L13,Y14)","v":0},{"$f":"Z14/(AB4-Z11)","v":0},{"$f":"IF(AA14=0,0,(AA14*((LOG(AA14))/LOG(2))))","v":0},null,{"$f":"N14","v":222},{"$f":"COUNTIF(L14:L16,AD14)","v":1},{"$f":"AE14/(AG4-AE11)","v":0.33333333333333331},{"$f":"IF(AF14=0,0,(AF14*((LOG(AF14))/LOG(2))))","v":-0.52832083357371862},null,{"$f":"N14","v":222},{"$f":"COUNTIF(L17:L19,AI14)","v":2},{"$f":"AJ14/(AL4-AJ11)","v":0.66666666666666663},{"$f":"IF(AK14=0,0,(AK14*((LOG(AK14))/LOG(2))))","v":-0.38997500048077083},null,{"$f":"N14","v":222},{"$f":"COUNTIF(L20:L23,AN14)","v":2},{"$f":"AO14/(AQ4-AO11)","v":0.5},{"$f":"IF(AP14=0,0,(AP14*((LOG(AP14))/LOG(2))))","v":-0.5},null,{"$f":"N14","v":222},{"$f":"COUNTIF(L24:L26,AS14)","v":3},{"$f":"AT14/(AV4-AT11)","v":1},{"$f":"IF(AU14=0,0,(AU14*((LOG(AU14))/LOG(2))))","v":0}]
[12,1275,13,1280,13,1285,null,null,null,null,0,111,null,null,null,{"$f":"SUM(P7:P14)","v":1},{"$f":"-SUM(Q7:Q14)","v":1},null,null,null,null,{"$f":"SUM(V7:V14)","v":1},{"$f":"-SUM(W7:W14)","v":0.91829583405448945},null,null,null,{"$f":"SUM(AA7:AA14)","v":1},{"$f":"-SUM(AB7:AB14)","v":0},null,null,null,{"$f":"SUM(AF7:AF14)","v":1},{"$f":"-SUM(AG7:AG14)","v":0.91829583405448945},null,null,null,{"$f":"SUM(AK7:AK14)","v":1},{"$f":"-SUM(AL7:AL14)","v":0.91829583405448945},null,null,null,{"$f":"SUM(AP7:AP14)","v":1},{"$f":"-SUM(AQ7:AQ14)","v":1},null,null,null,{"$f":"SUM(AU7:AU14)","v":1},{"$f":"-SUM(AV7:AV14)","v":0}]
[21,2502,22,2508,24,2514,null,null,null,null,0,222,null,null,null,"U=",{"$f":"Q15/(LOG(Q4)/LOG(2))","v":0.23137821315975915},null,null,null,null,"U1=",{"$f":"W15/(LOG(W4)/LOG(2))","v":0.57938016428569505},null,null,null,"U2=",{"$f":"AB15/(LOG(AB4)/LOG(2))","v":0},null,null,null,"U3=",{"$f":"AG15/(LOG(AG4)/LOG(2))","v":0.57938016428569505},null,null,null,"U4=",{"$f":"AL15/(LOG(AL4)/LOG(2))","v":0.57938016428569505},null,null,null,"U5=",{"$f":"AQ15/(LOG(AQ4)/LOG(2))","v":0.5},null,null,null,"U6=",{"$f":"AV15/(LOG(AV4)/LOG(2))","v":0}]
[21,2625,22,2636,24,2644,null,null,null,null,0,222]
[12,2776,13,2781,13,2795,null,null,null,null,0,111]
[21,3765,22,3779,24,3789,null,null,null,null,0,222,null,"Total Target Seq"]
[12,4561,13,4571,13,4577,null,null,null,null,0,111,null,{"$f":"COUNTIF(L7:L26,G3)","v":0},null,3,4,3,3,4,3]
[12,9259,13,9270,13,9280,null,null,null,null,0,111,null,null,null,"% of reinforcement given in 6 equal intervals based on number of trials "]
[21,10680,22,10687,24,10692,null,null,null,null,0,222,null,null,null,"%_1","%_2","%_3","%_4","%_5","%_6"]
[21,16956,22,16966,24,16985,null,null,null,null,0,222,null,null,"target sequence",{"$f":"$G$3","v":211},{"$f":"$G$3","v":211},{"$f":"$G$3","v":211},{"$f":"$G$3","v":211},{"$f":"$G$3","v":211},{"$f":"$G$3","v":211}]
[21,17256,22,17268,24,17274,null,null,null,null,0,222,null,null,"total reinforcement",{"$f":"U11","v":0},{"$f":"Z11","v":0},{"$f":"AE11","v":0},{"$f":"AJ11","v":0},{"$f":"AO11","v":0},{"$f":"AT11","v":0}]
[21,17495,22,17500,24,17505,null,null,null,null,0,222,null,null,"% target"]
[21,22584,22,22590,24,22596,null,null,null,null,0,222,null,null,"CCRF"]
[null,null,null,null,null,null,null,null,null,null,null,null,null,null,"% CCRf"]
[null,null,null,null,null,null,null,null,null,null,null,null,null,null,"average response rate",{"$f":"F9/P20","v":144.33333333333334},{"$f":"(F13-F9)/Q20","v":112.5},{"$f":"(F16-F13)/R20","v":543.66666666666663},{"$f":"(F19-F16)/S20","v":425},{"$f":"(F23-F19)/T20","v":3299},{"$f":"(F26-F23)/U20","v":1870.3333333333333}]

{"sheet":"!N118950.010","index":19,"n_rows":28,"n_cols":48,"rows_kept":28,"cut":false,"hidden":false,"merged":[[4,39,4,42],[5,39,5,40],[4,44,4,47],[5,44,5,45],[4,24,4,27],[5,24,5,25],[4,29,4,32],[5,29,5,30],[4,34,4,37],[5,34,5,35],[1,1,1,2],[5,13,5,14],[18,13,18,14],[19,13,19,14],[4,19,4,22],[5,19,5,20]]}
["Report for:!N118950.010"]
["Date:","<date>"]
["Hen:","<hen>",null,null,null,"Correct Sequence",{"$f":"Start!J2","v":211},null,null,null,null,null,null,null,null,"Total Sequences in Data",{"$f":"4994-COUNTBLANK(L7:L5000)","v":5},null,null,null,null,"Total Sequences in Block Data",{"$f":"COUNTA(L7:L7)","v":1},null,null,null,"Total Sequences in Block Data",{"$f":"COUNTA(L8:L8)","v":1},null,null,null,"Total Sequences in Block Data",{"$f":"COUNTA(L8:L9)","v":2},null,null,null,"Total Sequences in Block Data",{"$f":"COUNTA(L9:L9)","v":1},null,null,null,"Total Sequences in Block Data",{"$f":"COUNTA(L10:L10)","v":1},null,null,null,"Total Sequences in Block Data",{"$f":"COUNTA(L11:L11)","v":1}]
[null,null,null,null,null,null,null,null,null,null,null,null,null,null,null,"Total Sequences in Summary",{"$f":"SUM(O7:O14)","v":5},null,null,null,null,"Total Sequences in Block Summary",{"$f":"SUM(U7:U14)","v":1},null,null,null,"Total Sequences in Block Summary",{"$f":"SUM(Z7:Z14)","v":1},null,null,null,"Total Sequences in Block Summary",{"$f":"SUM(AE7:AE14)","v":2},null,null,null,"Total Sequences in Block Summary",{"$f":"SUM(AJ7:AJ14)","v":1},null,null,null,"Total Sequences in Block Summary",{"$f":"SUM(AO7:AO14)","v":1},null,null,null,"Total Sequences in Block Summary",{"$f":"SUM(AT7:AT14)","v":1}]
[null,null,null,null,null,null,null,null,null,null,null,null,null,null,null,null,null,null,null,"Block 1",null,null,null,null,"Block 2",null,null,null,null,"Block 3",null,null,null,null,"Block 4",null,null,null,null,"Block 5",null,null,null,null,"Block 6"]
["Sequence\nComponent\n1","Time\n1","Sequence\nComponent\n2","Time\n2","Sequence\nComponent\n3","Time\n3","Sequence\nComponent\n4","Time\n4","Sequence\nComponent\n5","Time\n5","Correct?\n0=No 1=Yes","Sequence",null,"Frequency",null,"Relative Frequency","Variability",null,null,"Frequency",null,"Relative Frequency","Variability",null,"Frequency",null,"Relative Frequency","Variability",null,"Frequency",null,"Relative Frequency","Variability",null,"Frequency",null,"Relative Frequency","Variability",null,"Frequency",null,"Relative Frequency","Variability",null,"Frequency",null,"Relative Frequency","Variability"]
[12,183,13,189,13,195,null,null,null,null,0,111,null,111,{"$f":"COUNTIF($L$7:$L$500,N7)","v":5},{"$f":"O7/$Q$4","v":1},{"$f":"IF(P7=0,0,(P7*((LOG(P7))/LOG(2))))","v":0},null,null,{"$f":"N7","v":111},{"$f":"COUNTIF(L7:L7,T7)","v":1},{"$f":"U7/(W4-U11)","v":1},{"$f":"IF(V7=0,0,(V7*((LOG(V7))/LOG(2))))","v":0},null,{"$f":"N7","v":111},{"$f":"COUNTIF(L8:L8,Y7)","v":1},{"$f":"Z7/(AB4-Z11)","v":1},{"$f":"IF(AA7=0,0,(AA7*((LOG(AA7))/LOG(2))))","v":0},null,{"$f":"N7","v":111},{"$f":"COUNTIF(L8:L9,AD7)","v":2},{"$f":"AE7/(AG4-AE11)","v":1},{"$f":"IF(AF7=0,0,(AF7*((LOG(AF7))/LOG(2))))","v":0},null,{"$f":"N7","v":111},{"$f":"COUNTIF(L9:L9,AI7)","v":1},{"$f":"AJ7/(AL4-AJ11)","v":1},{"$f":"IF(AK7=0,0,(AK7*((LOG(AK7))/LOG(2))))","v":0},null,{"$f":"N7","v":111},{"$f":"COUNTIF(L10:L10,AN7)","v":1},{"$f":"AO7/(AQ4-AO11)","v":1},{"$f":"IF(AP7=0,0,(AP7*((LOG(AP7))/LOG(2))))","v":0},null,{"$f":"N7","v":111},{"$f":"COUNTIF(L11:L11,AS7)","v":1},{"$f":"AT7/(AV4-AT11)","v":1},{"$f":"IF(AU7=0,0,(AU7*((LOG(AU7))/LOG(2))))","v":0}]
[12,310,13,319,13,323,null,null,null,null,0,111,null,112,{"$f":"COUNTIF($L$7:$L$500,N8)","v":0},{"$f":"O8/$Q$4","v":0},{"$f":"IF(P8=0,0,(P8*((LOG(P8))/LOG(2))))","v":0},null,null,{"$f":"N8","v":112},{"$f":"COUNTIF(L7:L7,T8)","v":0},{"$f":"U8/(W4-U11)","v":0},{"$f":"IF(V8=0,0,(V8*((LOG(V8))/LOG(2))))","v":0},null,{"$f":"N8","v":112},{"$f":"COUNTIF(L8:L8,Y8)","v":0},{"$f":"Z8/(AB4-Z11)","v":0},{"$f":"IF(AA8=0,0,(AA8*((LOG(AA8))/LOG(2))))","v":0},null,{"$f":"N8","v":112},{"$f":"COUNTIF(L8:L9,AD8)","v":0},{"$f":"AE8/(AG4-AE11)","v":0},{"$f":"IF(AF8=0,0,(AF8*((LOG(AF8))/LOG(2))))","v":0},null,{"$f":"N8","v":112},{"$f":"COUNTIF(L9:L9,AI8)","v":0},{"$f":"AJ8/(AL4-AJ11)","v":0},{"$f":"IF(AK8=0,0,(AK8*((LOG(AK8))/LOG(2))))","v":0},null,{"$f":"N8","v":112},{"$f":"COUNTIF(L10:L10,AN8)","v":0},{"$f":"AO8/(AQ4-AO11)","v":0},{"$f":"IF(AP8=0,0,(AP8*((LOG(AP8))/LOG(2))))","v":0},null,{"$f":"N8","v":112},{"$f":"COUNTIF(L11:L11,AS8)","v":0},{"$f":"AT8/(AV4-AT11)","v":0},{"$f":"IF(AU8=0,0,(AU8*((LOG(AU8))/LOG(2))))","v":0}]
[12,662,13,687,13,698,null,null,null,null,0,111,null,121,{"$f":"COUNTIF($L$7:$L$500,N9)","v":0},{"$f":"O9/$Q$4","v":0},{"$f":"IF(P9=0,0,(P9*((LOG(P9))/LOG(2))))","v":0},null,null,{"$f":"N9","v":121},{"$f":"COUNTIF(L7:L7,T9)","v":0},{"$f":"U9/(W4-U11)","v":0},{"$f":"IF(V9=0,0,(V9*((LOG(V9))/LOG(2))))","v":0},null,{"$f":"N9","v":121},{"$f":"COUNTIF(L8:L8,Y9)","v":0},{"$f":"Z9/(AB4-Z11)","v":0},{"$f":"IF(AA9=0,0,(AA9*((LOG(AA9))/LOG(2))))","v":0},null,{"$f":"N9","v":121},{"$f":"COUNTIF(L8:L9,AD9)","v":0},{"$f":"AE9/(AG4-AE11)","v":0},{"$f":"IF(AF9=0,0,(AF9*((LOG(AF9))/LOG(2))))","v":0},null,{"$f":"N9","v":121},{"$f":"COUNTIF(L9:L9,AI9)","v":0},{"$f":"AJ9/(AL4-AJ11)","v":0},{"$f":"IF(AK9=0,0,(AK9*((LOG(AK9))/LOG(2))))","v":0},null,{"$f":"N9","v":121},{"$f":"COUNTIF(L10:L10,AN9)","v":0},{"$f":"AO9/(AQ4-AO11)","v":0},{"$f":"IF(AP9=0,0,(AP9*((LOG(AP9))/LOG(2))))","v":0},null,{"$f":"N9","v":121},{"$f":"COUNTIF(L11:L11,AS9)","v":0},{"$f":"AT9/(AV4-AT11)","v":0},{"$f":"IF(AU9=0,0,(AU9*((LOG(AU9))/LOG(2))))","v":0}]
[12,877,13,882,13,886,null,null,null,null,0,111,null,122,{"$f":"COUNTIF($L$7:$L$500,N10)","v":0},{"$f":"O10/$Q$4","v":0},{"$f":"IF(P10=0,0,(P10*((LOG(P10))/LOG(2))))","v":0},null,null,{"$f":"N10","v":122},{"$f":"COUNTIF(L7:L7,T10)","v":0},{"$f":"U10/(W4-U11)","v":0},{"$f":"IF(V10=0,0,(V10*((LOG(V10))/LOG(2))))","v":0},null,{"$f":"N10","v":122},{"$f":"COUNTIF(L8:L8,Y10)","v":0},{"$f":"Z10/(AB4-Z11)","v":0},{"$f":"IF(AA10=0,0,(AA10*((LOG(AA10))/LOG(2))))","v":0},null,{"$f":"N10","v":122},{"$f":"COUNTIF(L8:L9,AD10)","v":0},{"$f":"AE10/(AG4-AE11)","v":0},{"$f":"IF(AF10=0,0,(AF10*((LOG(AF10))/LOG(2))))","v":0},null,{"$f":"N10","v":122},{"$f":"COUNTIF(L9:L9,AI10)","v":0},{"$f":"AJ10/(AL4-AJ11)","v":0},{"$f":"IF(AK10=0,0,(AK10*((LOG(AK10))/LOG(2))))","v":0},null,{"$f":"N10","v":122},{"$f":"COUNTIF(L10:L10,AN10)","v":0},{"$f":"AO10/(AQ4-AO11)","v":0},{"$f":"IF(AP10=0,0,(AP10*((LOG(AP10))/LOG(2))))","v":0},null,{"$f":"N10","v":122},{"$f":"COUNTIF(L11:L11,AS10)","v":0},{"$f":"AT10/(AV4-AT11)","v":0},{"$f":"IF(AU10=0,0,(AU10*((LOG(AU10))/LOG(2))))","v":0}]
[12,18872,13,18883,13,18888,null,null,null,null,0,111,null,211,{"$f":"COUNTIF($L$7:$L$500,N11)","v":0},{"$f":"O11/$Q$4","v":0},{"$f":"IF(P11=0,0,(P11*((LOG(P11))/LOG(2))))","v":0},null,null,{"$f":"N11","v":211},{"$f":"COUNTIF(L7:L7,T11)","v":0},null,null,null,{"$f":"N11","v":211},{"$f":"COUNTIF(L8:L8,Y11)","v":0},null,null,null,{"$f":"N11","v":211},{"$f":"COUNTIF(L8:L9,AD11)","v":0},null,null,null,{"$f":"N11","v":211},{"$f":"COUNTIF(L9:L9,AI11)","v":0},null,null,null,{"$f":"N11","v":211},{"$f":"COUNTIF(L10:L10,AN11)","v":0},null,null,null,{"$f":"N11","v":211},{"$f":"COUNTIF(L11:L11,AS11)","v":0}]
[null,null,null,null,null,null,null,null,null,null,null,null,null,212,{"$f":"COUNTIF($L$7:$L$500,N12)","v":0},{"$f":"O12/$Q$4","v":0},{"$f":"IF(P12=0,0,(P12*((LOG(P12))/LOG(2))))","v":0},null,null,{"$f":"N12","v":212},{"$f":"COUNTIF(L7:L7,T12)","v":0},{"$f":"U12/(W4-U11)","v":0},{"$f":"IF(V12=0,0,(V12*((LOG(V12))/LOG(2))))","v":0},null,{"$f":"N12","v":212},{"$f":"COUNTIF(L8:L8,Y12)","v":0},{"$f":"Z12/(AB4-Z11)","v":0},{"$f":"IF(AA12=0,0,(AA12*((LOG(AA12))/LOG(2))))","v":0},null,{"$f":"N12","v":212},{"$f":"COUNTIF(L8:L9,AD12)","v":0},{"$f":"AE12/(AG4-AE11)","v":0},{"$f":"IF(AF12=0,0,(AF12*((LOG(AF12))/LOG(2))))","v":0},null,{"$f":"N12","v":212},{"$f":"COUNTIF(L9:L9,AI12)","v":0},{"$f":"AJ12/(AL4-AJ11)","v":0},{"$f":"IF(AK12=0,0,(AK12*((LOG(AK12))/LOG(2))))","v":0},null,{"$f":"N12","v":212},{"$f":"COUNTIF(L10:L10,AN12)","v":0},{"$f":"AO12/(AQ4-AO11)","v":0},{"$f":"IF(AP12=0,0,(AP12*((LOG(AP12))/LOG(2))))","v":0},null,{"$f":"N12","v":212},{"$f":"COUNTIF(L11:L11,AS12)","v":0},{"$f":"AT12/(AV4-AT11)","v":0},{"$f":"IF(AU12=0,0,(AU12*((LOG(AU12))/LOG(2))))","v":0}]
[null,null,null,null,null,null,null,null,null,null,null,null,null,221,{"$f":"COUNTIF($L$7:$L$500,N13)","v":0},{"$f":"O13/$Q$4","v":0},{"$f":"IF(P13=0,0,(P13*((LOG(P13))/LOG(2))))","v":0},null,null,{"$f":"N13","v":221},{"$f":"COUNTIF(L7:L7,T13)","v":0},{"$f":"U13/(W4-U11)","v":0},{"$f":"IF(V13=0,0,(V13*((LOG(V13))/LOG(2))))","v":0},null,{"$f":"N13","v":221},{"$f":"COUNTIF(L8:L8,Y13)","v":0},{"$f":"Z13/(AB4-Z11)","v":0},{"$f":"IF(AA13=0,0,(AA13*((LOG(AA13))/LOG(2))))","v":0},null,{"$f":"N13","v":221},{"$f":"COUNTIF(L8:L9,AD13)","v":0},{"$f":"AE13/(AG4-AE11)","v":0},{"$f":"IF(AF13=0,0,(AF13*((LOG(AF13))/LOG(2))))","v":0},null,{"$f":"N13","v":221},{"$f":"COUNTIF(L9:L9,AI13)","v":0},{"$f":"AJ13/(AL4-AJ11)","v":0},{"$f":"IF(AK13=0,0,(AK13*((LOG(AK13))/LOG(2))))","v":0},null,{"$f":"N13","v":221},{"$f":"COUNTIF(L10:L10,AN13)","v":0},{"$f":"AO13/(AQ4-AO11)","v":0},{"$f":"IF(AP13=0,0,(AP13*((LOG(AP13))/LOG(2))))","v":0},null,{"$f":"N13","v":221},{"$f":"COUNTIF(L11:L11,AS13)","v":0},{"$f":"AT13/(AV4-AT11)","v":0},{"$f":"IF(AU13=0,0,(AU13*((LOG(AU13))/LOG(2))))","v":0}]
[null,null,null,null,null,null,null,null,null,null,null,null,null,222,{"$f":"COUNTIF($L$7:$L$500,N14)","v":0},{"$f":"O14/$Q$4","v":0},{"$f":"IF(P14=0,0,(P14*((LOG(P14))/LOG(2))))","v":0},null,null,{"$f":"N14","v":222},{"$f":"COUNTIF(L7:L7,T14)","v":0},{"$f":"U14/(W4-U11)","v":0},{"$f":"IF(V14=0,0,(V14*((LOG(V14))/LOG(2))))","v":0},null,{"$f":"N14","v":222},{"$f":"COUNTIF(L8:L8,Y14)","v":0},{"$f":"Z14/(AB4-Z11)","v":0},{"$f":"IF(AA14=0,0,(AA14*((LOG(AA14))/LOG(2))))","v":0},null,{"$f":"N14","v":222},{"$f":"COUNTIF(L8:L9,AD14)","v":0},{"$f":"AE14/(AG4-AE11)","v":0},{"$f":"IF(AF14=0,0,(AF14*((LOG(AF14))/LOG(2))))","v":0},null,{"$f":"N14","v":222},{"$f":"COUNTIF(L9:L9,AI14)","v":0},{"$f":"AJ14/(AL4-AJ11)","v":0},{"$f":"IF(AK14=0,0,(AK14*((LOG(AK14))/LOG(2))))","v":0},null,{"$f":"N14","v":222},{"$f":"COUNTIF(L10:L10,AN14)","v":0},{"$f":"AO14/(AQ4-AO11)","v":0},{"$f":"IF(AP14=0,0,(AP14*((LOG(AP14))/LOG(2))))","v":0},null,{"$f":"N14","v":222},{"$f":"COUNTIF(L11:L11,AS14)","v":0},{"$f":"AT14/(AV4-AT11)","v":0},{"$f":"IF(AU14=0,0,(AU14*((LOG(AU14))/LOG(2))))","v":0}]
[null,null,null,null,null,null,null,null,null,null,null,null,null,null,null,{"$f":"SUM(P7:P14)","v":1},{"$f":"-SUM(Q7:Q14)","v":0},null,null,null,null,{"$f":"SUM(V7:V14)","v":1},{"$f":"-SUM(W7:W14)","v":0},null,null,null,{"$f":"SUM(AA7:AA14)","v":1},{"$f":"-SUM(AB7:AB14)","v":0},null,null,null,{"$f":"SUM(AF7:AF14)","v":1},{"$f":"-SUM(AG7:AG14)","v":0},null,null,null,{"$f":"SUM(AK7:AK14)","v":1},{"$f":"-SUM(AL7:AL14)","v":0},null,null,null,{"$f":"SUM(AP7:AP14)","v":1},{"$f":"-SUM(AQ7:AQ14)","v":0},null,null,null,{"$f":"SUM(AU7:AU14)","v":1},{"$f":"-SUM(AV7:AV14)","v":0}]
[null,null,null,null,null,null,null,null,null,null,null,null,null,null,null,"U=",{"$f":"Q15/(LOG(Q4)/LOG(2))","v":0},null,null,null,null,"U1=",{"$f":"W15/(LOG(W4)/LOG(2))","v":{"$error":"#DIV/0!"}},null,null,null,"U2=",{"$f":"AB15/(LOG(AB4)/LOG(2))","v":{"$error":"#DIV/0!"}},null,null,null,"U3=",{"$f":"AG15/(LOG(AG4)/LOG(2))","v":0},null,null,null,"U4=",{"$f":"AL15/(LOG(AL4)/LOG(2))","v":{"$error":"#DIV/0!"}},null,null,null,"U5=",{"$f":"AQ15/(LOG(AQ4)/LOG(2))","v":{"$error":"#DIV/0!"}},null,null,null,"U6=",{"$f":"AV15/(LOG(AV4)/LOG(2))","v":{"$error":"#DIV/0!"}}]
[]
[]
[null,null,null,null,null,null,null,null,null,null,null,null,null,"Total Target Seq"]
[null,null,null,null,null,null,null,null,null,null,null,null,null,{"$f":"COUNTIF(L7:L11,G3)","v":0},null,1,1,0,1,1,1]
[null,null,null,null,null,null,null,null,null,null,null,null,null,null,null,"% of reinforcement given in 6 equal intervals based on number of trials "]
[null,null,null,null,null,null,null,null,null,null,null,null,null,null,null,"%_1","%_2","%_3","%_4","%_5","%_6"]
[null,null,null,null,null,null,null,null,null,null,null,null,null,null,"target sequence",{"$f":"$G$3","v":211},{"$f":"$G$3","v":211},{"$f":"$G$3","v":211},{"$f":"$G$3","v":211},{"$f":"$G$3","v":211},{"$f":"$G$3","v":211}]
[null,null,null,null,null,null,null,null,null,null,null,null,null,null,"total reinforcement",{"$f":"U11","v":0},{"$f":"Z11","v":0},{"$f":"AE11","v":0},{"$f":"AJ11","v":0},{"$f":"AO11","v":0},{"$f":"AT11","v":0}]
[null,null,null,null,null,null,null,null,null,null,null,null,null,null,"% target"]
[null,null,null,null,null,null,null,null,null,null,null,null,null,null,"CCRF"]
[null,null,null,null,null,null,null,null,null,null,null,null,null,null,"% CCRf"]
[null,null,null,null,null,null,null,null,null,null,null,null,null,null,"average response rate",{"$f":"F7/P20","v":195},{"$f":"(F8-F7)/Q20","v":128},{"$f":"(F8-F8)/R20","v":{"$error":"#DIV/0!"}},{"$f":"(F9-F8)/S20","v":375},{"$f":"(F10-F9)/T20","v":188},{"$f":"(F11-F10)/U20","v":18002}]

{"sheet":"!N119830.010","index":20,"n_rows":28,"n_cols":48,"rows_kept":28,"cut":false,"hidden":false,"merged":[[4,39,4,42],[5,39,5,40],[4,44,4,47],[5,44,5,45],[4,24,4,27],[5,24,5,25],[4,29,4,32],[5,29,5,30],[4,34,4,37],[5,34,5,35],[1,1,1,2],[5,13,5,14],[18,13,18,14],[19,13,19,14],[4,19,4,22],[5,19,5,20]]}
["Report for:!N119830.010"]
["Date:","<date>"]
["Hen:","<hen>",null,null,null,"Correct Sequence",{"$f":"Start!J2","v":211},null,null,null,null,null,null,null,null,"Total Sequences in Data",{"$f":"4994-COUNTBLANK(L7:L5000)","v":19},null,null,null,null,"Total Sequences in Block Data",{"$f":"COUNTA(L7:L9)","v":3},null,null,null,"Total Sequences in Block Data",{"$f":"COUNTA(L10:L12)","v":3},null,null,null,"Total Sequences in Block Data",{"$f":"COUNTA(L13:L16)","v":4},null,null,null,"Total Sequences in Block Data",{"$f":"COUNTA(L17:L19)","v":3},null,null,null,"Total Sequences in Block Data",{"$f":"COUNTA(L20:L22)","v":3},null,null,null,"Total Sequences in Block Data",{"$f":"COUNTA(L23:L25)","v":3}]
[null,null,null,null,null,null,null,null,null,null,null,null,null,null,null,"Total Sequences in Summary",{"$f":"SUM(O7:O14)","v":19},null,null,null,null,"Total Sequences in Block Summary",{"$f":"SUM(U7:U14)","v":3},null,null,null,"Total Sequences in Block Summary",{"$f":"SUM(Z7:Z14)","v":3},null,null,null,"Total Sequences in Block Summary",{"$f":"SUM(AE7:AE14)","v":4},null,null,null,"Total Sequences in Block Summary",{"$f":"SUM(AJ7:AJ14)","v":3},null,null,null,"Total Sequences in Block Summary",{"$f":"SUM(AO7:AO14)","v":3},null,null,null,"Total Sequences in Block Summary",{"$f":"SUM(AT7:AT14)","v":3}]
[null,null,null,null,null,null,null,null,null,null,null,null,null,null,null,null,null,null,null,"Block 1",null,null,null,null,"Block 2",null,null,null,null,"Block 3",null,null,null,null,"Block 4",null,null,null,null,"Block 5",null,null,null,null,"Block 6"]
["Sequence\nComponent\n1","Time\n1","Sequence\nComponent\n2","Time\n2","Sequence\nComponent\n3","Time\n3","Sequence\nComponent\n4","Time\n4","Sequence\nComponent\n5","Time\n5","Correct?\n0=No 1=Yes","Sequence",null,"Frequency",null,"Relative Frequency","Variability",null,null,"Frequency",null,"Relative Frequency","Variability",null,"Frequency",null,"Relative Frequency","Variability",null,"Frequency",null,"Relative Frequency","Variability",null,"Frequency",null,"Relative Frequency","Variability",null,"Frequency",null,"Relative Frequency","Variability",null,"Frequency",null,"Relative Frequency","Variability"]
[21,42,22,48,24,58,null,null,null,null,0,222,null,111,{"$f":"COUNTIF($L$7:$L$500,N7)","v":12},{"$f":"O7/$Q$4","v":0.63157894736842102},{"$f":"IF(P7=0,0,(P7*((LOG(P7))/LOG(2))))","v":-0.41871474487732385},null,null,{"$f":"N7","v":111},{"$f":"COUNTIF(L7:L9,T7)","v":1},{"$f":"U7/(W4-U11)","v":0.33333333333333331},{"$f":"IF(V7=0,0,(V7*((LOG(V7))/LOG(2))))","v":-0.52832083357371862},null,{"$f":"N7","v":111},{"$f":"COUNTIF(L10:L12,Y7)","v":2},{"$f":"Z7/(AB4-Z11)","v":0.66666666666666663},{"$f":"IF(AA7=0,0,(AA7*((LOG(AA7))/LOG(2))))","v":-0.38997500048077083},null,{"$f":"N7","v":111},{"$f":"COUNTIF(L13:L16,AD7)","v":4},{"$f":"AE7/(AG4-AE11)","v":1},{"$f":"IF(AF7=0,0,(AF7*((LOG(AF7))/LOG(2))))","v":0},null,{"$f":"N7","v":111},{"$f":"COUNTIF(L17:L19,AI7)","v":1},{"$f":"AJ7/(AL4-AJ11)","v":0.33333333333333331},{"$f":"IF(AK7=0,0,(AK7*((LOG(AK7))/LOG(2))))","v":-0.52832083357371862},null,{"$f":"N7","v":111},{"$f":"COUNTIF(L20:L22,AN7)","v":2},{"$f":"AO7/(AQ4-AO11)","v":0.66666666666666663},{"$f":"IF(AP7=0,0,(AP7*((LOG(AP7))/LOG(2))))","v":-0.38997500048077083},null,{"$f":"N7","v":111},{"$f":"COUNTIF(L23:L25,AS7)","v":2},{"$f":"AT7/(AV4-AT11)","v":0.66666666666666663},{"$f":"IF(AU7=0,0,(AU7*((LOG(AU7))/LOG(2))))","v":-0.38997500048077083}]
[21,212,22,245,24,254,null,null,null,null,0,222,null,112,{"$f":"COUNTIF($L$7:$L$500,N8)","v":0},{"$f":"O8/$Q$4","v":0},{"$f":"IF(P8=0,0,(P8*((LOG(P8))/LOG(2))))","v":0},null,null,{"$f":"N8","v":112},{"$f":"COUNTIF(L7:L9,T8)","v":0},{"$f":"U8/(W4-U11)","v":0},{"$f":"IF(V8=0,0,(V8*((LOG(V8))/LOG(2))))","v":0},null,{"$f":"N8","v":112},{"$f":"COUNTIF(L10:L12,Y8)","v":0},{"$f":"Z8/(AB4-Z11)","v":0},{"$f":"IF(AA8=0,0,(AA8*((LOG(AA8))/LOG(2))))","v":0},null,{"$f":"N8","v":112},{"$f":"COUNTIF(L13:L16,AD8)","v":0},{"$f":"AE8/(AG4-AE11)","v":0},{"$f":"IF(AF8=0,0,(AF8*((LOG(AF8))/LOG(2))))","v":0},null,{"$f":"N8","v":112},{"$f":"COUNTIF(L17:L19,AI8)","v":0},{"$f":"AJ8/(AL4-AJ11)","v":0},{"$f":"IF(AK8=0,0,(AK8*((LOG(AK8))/LOG(2))))","v":0},null,{"$f":"N8","v":112},{"$f":"COUNTIF(L20:L22,AN8)","v":0},{"$f":"AO8/(AQ4-AO11)","v":0},{"$f":"IF(AP8=0,0,(AP8*((LOG(AP8))/LOG(2))))","v":0},null,{"$f":"N8","v":112},{"$f":"COUNTIF(L23:L25,AS8)","v":0},{"$f":"AT8/(AV4-AT11)","v":0},{"$f":"IF(AU8=0,0,(AU8*((LOG(AU8))/LOG(2))))","v":0}]
[12,458,13,464,13,469,null,null,null,null,0,111,null,121,{"$f":"COUNTIF($L$7:$L$500,N9)","v":0},{"$f":"O9/$Q$4","v":0},{"$f":"IF(P9=0,0,(P9*((LOG(P9))/LOG(2))))","v":0},null,null,{"$f":"N9","v":121},{"$f":"COUNTIF(L7:L9,T9)","v":0},{"$f":"U9/(W4-U11)","v":0},{"$f":"IF(V9=0,0,(V9*((LOG(V9))/LOG(2))))","v":0},null,{"$f":"N9","v":121},{"$f":"COUNTIF(L10:L12,Y9)","v":0},{"$f":"Z9/(AB4-Z11)","v":0},{"$f":"IF(AA9=0,0,(AA9*((LOG(AA9))/LOG(2))))","v":0},null,{"$f":"N9","v":121},{"$f":"COUNTIF(L13:L16,AD9)","v":0},{"$f":"AE9/(AG4-AE11)","v":0},{"$f":"IF(AF9=0,0,(AF9*((LOG(AF9))/LOG(2))))","v":0},null,{"$f":"N9","v":121},{"$f":"COUNTIF(L17:L19,AI9)","v":0},{"$f":"AJ9/(AL4-AJ11)","v":0},{"$f":"IF(AK9=0,0,(AK9*((LOG(AK9))/LOG(2))))","v":0},null,{"$f":"N9","v":121},{"$f":"COUNTIF(L20:L22,AN9)","v":0},{"$f":"AO9/(AQ4-AO11)","v":0},{"$f":"IF(AP9=0,0,(AP9*((LOG(AP9))/LOG(2))))","v":0},null,{"$f":"N9","v":121},{"$f":"COUNTIF(L23:L25,AS9)","v":0},{"$f":"AT9/(AV4-AT11)","v":0},{"$f":"IF(AU9=0,0,(AU9*((LOG(AU9))/LOG(2))))","v":0}]
[12,584,13,589,13,635,null,null,null,null,0,111,null,122,{"$f":"COUNTIF($L$7:$L$500,N10)","v":0},{"$f":"O10/$Q$4","v":0},{"$f":"IF(P10=0,0,(P10*((LOG(P10))/LOG(2))))","v":0},null,null,{"$f":"N10","v":122},{"$f":"COUNTIF(L7:L9,T10)","v":0},{"$f":"U10/(W4-U11)","v":0},{"$f":"IF(V10=0,0,(V10*((LOG(V10))/LOG(2))))","v":0},null,{"$f":"N10","v":122},{"$f":"COUNTIF(L10:L12,Y10)","v":0},{"$f":"Z10/(AB4-Z11)","v":0},{"$f":"IF(AA10=0,0,(AA10*((LOG(AA10))/LOG(2))))","v":0},null,{"$f":"N10","v":122},{"$f":"COUNTIF(L13:L16,AD10)","v":0},{"$f":"AE10/(AG4-AE11)","v":0},{"$f":"IF(AF10=0,0,(AF10*((LOG(AF10))/LOG(2))))","v":0},null,{"$f":"N10","v":122},{"$f":"COUNTIF(L17:L19,AI10)","v":0},{"$f":"AJ10/(AL4-AJ11)","v":0},{"$f":"IF(AK10=0,0,(AK10*((LOG(AK10))/LOG(2))))","v":0},null,{"$f":"N10","v":122},{"$f":"COUNTIF(L20:L22,AN10)","v":0},{"$f":"AO10/(AQ4-AO11)","v":0},{"$f":"IF(AP10=0,0,(AP10*((LOG(AP10))/LOG(2))))","v":0},null,{"$f":"N10","v":122},{"$f":"COUNTIF(L23:L25,AS10)","v":0},{"$f":"AT10/(AV4-AT11)","v":0},{"$f":"IF(AU10=0,0,(AU10*((LOG(AU10))/LOG(2))))","v":0}]
[12,765,13,771,13,784,null,null,null,null,0,111,null,211,{"$f":"COUNTIF($L$7:$L$500,N11)","v":0},{"$f":"O11/$Q$4","v":0},{"$f":"IF(P11=0,0,(P11*((LOG(P11))/LOG(2))))","v":0},null,null,{"$f":"N11","v":211},{"$f":"COUNTIF(L7:L9,T11)","v":0},null,null,null,{"$f":"N11","v":211},{"$f":"COUNTIF(L10:L12,Y11)","v":0},null,null,null,{"$f":"N11","v":211},{"$f":"COUNTIF(L13:L16,AD11)","v":0},null,null,null,{"$f":"N11","v":211},{"$f":"COUNTIF(L17:L19,AI11)","v":0},null,null,null,{"$f":"N11","v":211},{"$f":"COUNTIF(L20:L22,AN11)","v":0},null,null,null,{"$f":"N11","v":211},{"$f":"COUNTIF(L23:L25,AS11)","v":0}]
[21,1072,22,1090,24,1100,null,null,null,null,0,222,null,212,{"$f":"COUNTIF($L$7:$L$500,N12)","v":0},{"$f":"O12/$Q$4","v":0},{"$f":"IF(P12=0,0,(P12*((LOG(P12))/LOG(2))))","v":0},null,null,{"$f":"N12","v":212},{"$f":"COUNTIF(L7:L9,T12)","v":0},{"$f":"U12/(W4-U11)","v":0},{"$f":"IF(V12=0,0,(V12*((LOG(V12))/LOG(2))))","v":0},null,{"$f":"N12","v":212},{"$f":"COUNTIF(L10:L12,Y12)","v":0},{"$f":"Z12/(AB4-Z11)","v":0},{"$f":"IF(AA12=0,0,(AA12*((LOG(AA12))/LOG(2))))","v":0},null,{"$f":"N12","v":212},{"$f":"COUNTIF(L13:L16,AD12)","v":0},{"$f":"AE12/(AG4-AE11)","v":0},{"$f":"IF(AF12=0,0,(AF12*((LOG(AF12))/LOG(2))))","v":0},null,{"$f":"N12","v":212},{"$f":"COUNTIF(L17:L19,AI12)","v":0},{"$f":"AJ12/(AL4-AJ11)","v":0},{"$f":"IF(AK12=0,0,(AK12*((LOG(AK12))/LOG(2))))","v":0},null,{"$f":"N12","v":212},{"$f":"COUNTIF(L20:L22,AN12)","v":0},{"$f":"AO12/(AQ4-AO11)","v":0},{"$f":"IF(AP12=0,0,(AP12*((LOG(AP12))/LOG(2))))","v":0},null,{"$f":"N12","v":212},{"$f":"COUNTIF(L23:L25,AS12)","v":0},{"$f":"AT12/(AV4-AT11)","v":0},{"$f":"IF(AU12=0,0,(AU12*((LOG(AU12))/LOG(2))))","v":0}]
[12,3302,13,3335,13,3341,null,null,null,null,0,111,null,221,{"$f":"COUNTIF($L$7:$L$500,N13)","v":0},{"$f":"O13/$Q$4","v":0},{"$f":"IF(P13=0,0,(P13*((LOG(P13))/LOG(2))))","v":0},null,null,{"$f":"N13","v":221},{"$f":"COUNTIF(L7:L9,T13)","v":0},{"$f":"U13/(W4-U11)","v":0},{"$f":"IF(V13=0,0,(V13*((LOG(V13))/LOG(2))))","v":0},null,{"$f":"N13","v":221},{"$f":"COUNTIF(L10:L12,Y13)","v":0},{"$f":"Z13/(AB4-Z11)","v":0},{"$f":"IF(AA13=0,0,(AA13*((LOG(AA13))/LOG(2))))","v":0},null,{"$f":"N13","v":221},{"$f":"COUNTIF(L13:L16,AD13)","v":0},{"$f":"AE13/(AG4-AE11)","v":0},{"$f":"IF(AF13=0,0,(AF13*((LOG(AF13))/LOG(2))))","v":0},null,{"$f":"N13","v":221},{"$f":"COUNTIF(L17:L19,AI13)","v":0},{"$f":"AJ13/(AL4-AJ11)","v":0},{"$f":"IF(AK13=0,0,(AK13*((LOG(AK13))/LOG(2))))","v":0},null,{"$f":"N13","v":221},{"$f":"COUNTIF(L20:L22,AN13)","v":0},{"$f":"AO13/(AQ4-AO11)","v":0},{"$f":"IF(AP13=0,0,(AP13*((LOG(AP13))/LOG(2))))","v":0},null,{"$f":"N13","v":221},{"$f":"COUNTIF(L23:L25,AS13)","v":0},{"$f":"AT13/(AV4-AT11)","v":0},{"$f":"IF(AU13=0,0,(AU13*((LOG(AU13))/LOG(2))))","v":0}]
[12,3527,13,3543,13,3555,null,null,null,null,0,111,null,222,{"$f":"COUNTIF($L$7:$L$500,N14)","v":7},{"$f":"O14/$Q$4","v":0.36842105263157893},{"$f":"IF(P14=0,0,(P14*((LOG(P14))/LOG(2))))","v":-0.53073727051062469},null,null,{"$f":"N14","v":222},{"$f":"COUNTIF(L7:L9,T14)","v":2},{"$f":"U14/(W4-U11)","v":0.66666666666666663},{"$f":"IF(V14=0,0,(V14*((LOG(V14))/LOG(2))))","v":-0.38997500048077083},null,{"$f":"N14","v":222},{"$f":"COUNTIF(L10:L12,Y14)","v":1},{"$f":"Z14/(AB4-Z11)","v":0.33333333333333331},{"$f":"IF(AA14=0,0,(AA14*((LOG(AA14))/LOG(2))))","v":-0.52832083357371862},null,{"$f":"N14","v":222},{"$f":"COUNTIF(L13:L16,AD14)","v":0},{"$f":"AE14/(AG4-AE11)","v":0},{"$f":"IF(AF14=0,0,(AF14*((LOG(AF14))/LOG(2))))","v":0},null,{"$f":"N14","v":222},{"$f":"COUNTIF(L17:L19,AI14)","v":2},{"$f":"AJ14/(AL4-AJ11)","v":0.66666666666666663},{"$f":"IF(AK14=0,0,(AK14*((LOG(AK14))/LOG(2))))","v":-0.38997500048077083},null,{"$f":"N14","v":222},{"$f":"COUNTIF(L20:L22,AN14)","v":1},{"$f":"AO14/(AQ4-AO11)","v":0.33333333333333331},{"$f":"IF(AP14=0,0,(AP14*((LOG(AP14))/LOG(2))))","v":-0.52832083357371862},null,{"$f":"N14","v":222},{"$f":"COUNTIF(L23:L25,AS14)","v":1},{"$f":"AT14/(AV4-AT11)","v":0.33333333333333331},{"$f":"IF(AU14=0,0,(AU14*((LOG(AU14))/LOG(2))))","v":-0.52832083357371862}]
[12,3785,13,3791,13,3802,null,null,null,null,0,111,null,null,null,{"$f":"SUM(P7:P14)","v":1},{"$f":"-SUM(Q7:Q14)","v":0.94945201538794854},null,null,null,null,{"$f":"SUM(V7:V14)","v":1},{"$f":"-SUM(W7:W14)","v":0.91829583405448945},null,null,null,{"$f":"SUM(AA7:AA14)","v":1},{"$f":"-SUM(AB7:AB14)","v":0.91829583405448945},null,null,null,{"$f":"SUM(AF7:AF14)","v":1},{"$f":"-SUM(AG7:AG14)","v":0},null,null,null,{"$f":"SUM(AK7:AK14)","v":1},{"$f":"-SUM(AL7:AL14)","v":0.91829583405448945},null,null,null,{"$f":"SUM(AP7:AP14)","v":1},{"$f":"-SUM(AQ7:AQ14)","v":0.91829583405448945},null,null,null,{"$f":"SUM(AU7:AU14)","v":1},{"$f":"-SUM(AV7:AV14)","v":0.91829583405448945}]
[12,3946,13,3950,13,3961,null,null,null,null,0,111,null,null,null,"U=",{"$f":"Q15/(LOG(Q4)/LOG(2))","v":0.22350946723624165},null,null,null,null,"U1=",{"$f":"W15/(LOG(W4)/LOG(2))","v":0.57938016428569505},null,null,null,"U2=",{"$f":"AB15/(LOG(AB4)/LOG(2))","v":0.57938016428569505},null,null,null,"U3=",{"$f":"AG15/(LOG(AG4)/LOG(2))","v":0},null,null,null,"U4=",{"$f":"AL15/(LOG(AL4)/LOG(2))","v":0.57938016428569505},null,null,null,"U5=",{"$f":"AQ15/(LOG(AQ4)/LOG(2))","v":0.57938016428569505},null,null,null,"U6=",{"$f":"AV15/(LOG(AV4)/LOG(2))","v":0.57938016428569505}]
[12,4102,13,4122,13,4136,null,null,null,null,0,111]
[21,4257,22,4265,24,4274,null,null,null,null,0,222]
[21,4402,22,4412,24,4419,null,null,null,null,0,222,null,"Total Target Seq"]
[12,4518,13,4523,13,4539,null,null,null,null,0,111,null,{"$f":"COUNTIF(L7:L25,G3)","v":0},null,3,3,4,3,3,3]
[21,4830,22,4839,24,4847,null,null,null,null,0,222,null,null,null,"% of reinforcement given in 6 equal intervals based on number of trials "]
[12,4949,13,4954,13,4967,null,null,null,null,0,111,null,null,null,"%_1","%_2","%_3","%_4","%_5","%_6"]
[12,5286,13,5315,13,5332,null,null,null,null,0,111,null,null,"target sequence",{"$f":"$G$3","v":211},{"$f":"$G$3","v":211},{"$f":"$G$3","v":211},{"$f":"$G$3","v":211},{"$f":"$G$3","v":211},{"$f":"$G$3","v":211}]
[21,9174,22,9180,24,9189,null,null,null,null,0,222,null,null,"total reinforcement",{"$f":"U11","v":0},{"$f":"Z11","v":0},{"$f":"AE11","v":0},{"$f":"AJ11","v":0},{"$f":"AO11","v":0},{"$f":"AT11","v":0}]
[12,10853,13,10859,13,10868,null,null,null,null,0,111,null,null,"% target"]
[null,null,null,null,null,null,null,null,null,null,null,null,null,null,"CCRF"]
[null,null,null,null,null,null,null,null,null,null,null,null,null,null,"% CCRf"]
[null,null,null,null,null,null,null,null,null,null,null,null,null,null,"average response rate",{"$f":"F9/P20","v":156.33333333333334},{"$f":"(F12-F9)/Q20","v":210.33333333333334},{"$f":"(F16-F12)/R20","v":715.25},{"$f":"(F19-F16)/S20","v":152.66666666666666},{"$f":"(F22-F19)/T20","v":182.66666666666666},{"$f":"(F25-F22)/U20","v":1967}]

{"sheet":"!N120940.010","index":21,"n_rows":28,"n_cols":48,"rows_kept":28,"cut":false,"hidden":false,"merged":[[4,39,4,42],[5,39,5,40],[4,44,4,47],[5,44,5,45],[4,24,4,27],[5,24,5,25],[4,29,4,32],[5,29,5,30],[4,34,4,37],[5,34,5,35],[1,1,1,2],[5,13,5,14],[18,13,18,14],[19,13,19,14],[4,19,4,22],[5,19,5,20]]}
["Report for:!N120940.010"]
["Date:","<date>"]
["Hen:","<hen>",null,null,null,"Correct Sequence",{"$f":"Start!J2","v":211},null,null,null,null,null,null,null,null,"Total Sequences in Data",{"$f":"4994-COUNTBLANK(L7:L5000)","v":5},null,null,null,null,"Total Sequences in Block Data",{"$f":"COUNTA(L7:L7)","v":1},null,null,null,"Total Sequences in Block Data",{"$f":"COUNTA(L8:L8)","v":1},null,null,null,"Total Sequences in Block Data",{"$f":"COUNTA(L8:L9)","v":2},null,null,null,"Total Sequences in Block Data",{"$f":"COUNTA(L9:L9)","v":1},null,null,null,"Total Sequences in Block Data",{"$f":"COUNTA(L10:L10)","v":1},null,null,null,"Total Sequences in Block Data",{"$f":"COUNTA(L11:L11)","v":1}]
[null,null,null,null,null,null,null,null,null,null,null,null,null,null,null,"Total Sequences in Summary",{"$f":"SUM(O7:O14)","v":5},null,null,null,null,"Total Sequences in Block Summary",{"$f":"SUM(U7:U14)","v":1},null,null,null,"Total Sequences in Block Summary",{"$f":"SUM(Z7:Z14)","v":1},null,null,null,"Total Sequences in Block Summary",{"$f":"SUM(AE7:AE14)","v":2},null,null,null,"Total Sequences in Block Summary",{"$f":"SUM(AJ7:AJ14)","v":1},null,null,null,"Total Sequences in Block Summary",{"$f":"SUM(AO7:AO14)","v":1},null,null,null,"Total Sequences in Block Summary",{"$f":"SUM(AT7:AT14)","v":1}]
[null,null,null,null,null,null,null,null,null,null,null,null,null,null,null,null,null,null,null,"Block 1",null,null,null,null,"Block 2",null,null,null,null,"Block 3",null,null,null,null,"Block 4",null,null,null,null,"Block 5",null,null,null,null,"Block 6"]
["Sequence\nComponent\n1","Time\n1","Sequence\nComponent\n2","Time\n2","Sequence\nComponent\n3","Time\n3","Sequence\nComponent\n4","Time\n4","Sequence\nComponent\n5","Time\n5","Correct?\n0=No 1=Yes","Sequence",null,"Frequency",null,"Relative Frequency","Variability",null,null,"Frequency",null,"Relative Frequency","Variability",null,"Frequency",null,"Relative Frequency","Variability",null,"Frequency",null,"Relative Frequency","Variability",null,"Frequency",null,"Relative Frequency","Variability",null,"Frequency",null,"Relative Frequency","Variability",null,"Frequency",null,"Relative Frequency","Variability"]
[12,178,13,184,13,194,null,null,null,null,0,111,null,111,{"$f":"COUNTIF($L$7:$L$500,N7)","v":4},{"$f":"O7/$Q$4","v":0.8},{"$f":"IF(P7=0,0,(P7*((LOG(P7))/LOG(2))))","v":-0.25754247590988982},null,null,{"$f":"N7","v":111},{"$f":"COUNTIF(L7:L7,T7)","v":1},{"$f":"U7/(W4-U11)","v":1},{"$f":"IF(V7=0,0,(V7*((LOG(V7))/LOG(2))))","v":0},null,{"$f":"N7","v":111},{"$f":"COUNTIF(L8:L8,Y7)","v":0},{"$f":"Z7/(AB4-Z11)","v":0},{"$f":"IF(AA7=0,0,(AA7*((LOG(AA7))/LOG(2))))","v":0},null,{"$f":"N7","v":111},{"$f":"COUNTIF(L8:L9,AD7)","v":1},{"$f":"AE7/(AG4-AE11)","v":0.5},{"$f":"IF(AF7=0,0,(AF7*((LOG(AF7))/LOG(2))))","v":-0.5},null,{"$f":"N7","v":111},{"$f":"COUNTIF(L9:L9,AI7)","v":1},{"$f":"AJ7/(AL4-AJ11)","v":1},{"$f":"IF(AK7=0,0,(AK7*((LOG(AK7))/LOG(2))))","v":0},null,{"$f":"N7","v":111},{"$f":"COUNTIF(L10:L10,AN7)","v":1},{"$f":"AO7/(AQ4-AO11)","v":1},{"$f":"IF(AP7=0,0,(AP7*((LOG(AP7))/LOG(2))))","v":0},null,{"$f":"N7","v":111},{"$f":"COUNTIF(L11:L11,AS7)","v":1},{"$f":"AT7/(AV4-AT11)","v":1},{"$f":"IF(AU7=0,0,(AU7*((LOG(AU7))/LOG(2))))","v":0}]
[21,680,22,695,24,700,null,null,null,null,0,222,null,112,{"$f":"COUNTIF($L$7:$L$500,N8)","v":0},{"$f":"O8/$Q$4","v":0},{"$f":"IF(P8=0,0,(P8*((LOG(P8))/LOG(2))))","v":0},null,null,{"$f":"N8","v":112},{"$f":"COUNTIF(L7:L7,T8)","v":0},{"$f":"U8/(W4-U11)","v":0},{"$f":"IF(V8=0,0,(V8*((LOG(V8))/LOG(2))))","v":0},null,{"$f":"N8","v":112},{"$f":"COUNTIF(L8:L8,Y8)","v":0},{"$f":"Z8/(AB4-Z11)","v":0},{"$f":"IF(AA8=0,0,(AA8*((LOG(AA8))/LOG(2))))","v":0},null,{"$f":"N8","v":112},{"$f":"COUNTIF(L8:L9,AD8)","v":0},{"$f":"AE8/(AG4-AE11)","v":0},{"$f":"IF(AF8=0,0,(AF8*((LOG(AF8))/LOG(2))))","v":0},null,{"$f":"N8","v":112},{"$f":"COUNTIF(L9:L9,AI8)","v":0},{"$f":"AJ8/(AL4-AJ11)","v":0},{"$f":"IF(AK8=0,0,(AK8*((LOG(AK8))/LOG(2))))","v":0},null,{"$f":"N8","v":112},{"$f":"COUNTIF(L10:L10,AN8)","v":0},{"$f":"AO8/(AQ4-AO11)","v":0},{"$f":"IF(AP8=0,0,(AP8*((LOG(AP8))/LOG(2))))","v":0},null,{"$f":"N8","v":112},{"$f":"COUNTIF(L11:L11,AS8)","v":0},{"$f":"AT8/(AV4-AT11)","v":0},{"$f":"IF(AU8=0,0,(AU8*((LOG(AU8))/LOG(2))))","v":0}]
[12,875,13,880,13,886,null,null,null,null,0,111,null,121,{"$f":"COUNTIF($L$7:$L$500,N9)","v":0},{"$f":"O9/$Q$4","v":0},{"$f":"IF(P9=0,0,(P9*((LOG(P9))/LOG(2))))","v":0},null,null,{"$f":"N9","v":121},{"$f":"COUNTIF(L7:L7,T9)","v":0},{"$f":"U9/(W4-U11)","v":0},{"$f":"IF(V9=0,0,(V9*((LOG(V9))/LOG(2))))","v":0},null,{"$f":"N9","v":121},{"$f":"COUNTIF(L8:L8,Y9)","v":0},{"$f":"Z9/(AB4-Z11)","v":0},{"$f":"IF(AA9=0,0,(AA9*((LOG(AA9))/LOG(2))))","v":0},null,{"$f":"N9","v":121},{"$f":"COUNTIF(L8:L9,AD9)","v":0},{"$f":"AE9/(AG4-AE11)","v":0},{"$f":"IF(AF9=0,0,(AF9*((LOG(AF9))/LOG(2))))","v":0},null,{"$f":"N9","v":121},{"$f":"COUNTIF(L9:L9,AI9)","v":0},{"$f":"AJ9/(AL4-AJ11)","v":0},{"$f":"IF(AK9=0,0,(AK9*((LOG(AK9))/LOG(2))))","v":0},null,{"$f":"N9","v":121},{"$f":"COUNTIF(L10:L10,AN9)","v":0},{"$f":"AO9/(AQ4-AO11)","v":0},{"$f":"IF(AP9=0,0,(AP9*((LOG(AP9))/LOG(2))))","v":0},null,{"$f":"N9","v":121},{"$f":"COUNTIF(L11:L11,AS9)","v":0},{"$f":"AT9/(AV4-AT11)","v":0},{"$f":"IF(AU9=0,0,(AU9*((LOG(AU9))/LOG(2))))","v":0}]
[12,5216,13,5227,13,5235,null,null,null,null,0,111,null,122,{"$f":"COUNTIF($L$7:$L$500,N10)","v":0},{"$f":"O10/$Q$4","v":0},{"$f":"IF(P10=0,0,(P10*((LOG(P10))/LOG(2))))","v":0},null,null,{"$f":"N10","v":122},{"$f":"COUNTIF(L7:L7,T10)","v":0},{"$f":"U10/(W4-U11)","v":0},{"$f":"IF(V10=0,0,(V10*((LOG(V10))/LOG(2))))","v":0},null,{"$f":"N10","v":122},{"$f":"COUNTIF(L8:L8,Y10)","v":0},{"$f":"Z10/(AB4-Z11)","v":0},{"$f":"IF(AA10=0,0,(AA10*((LOG(AA10))/LOG(2))))","v":0},null,{"$f":"N10","v":122},{"$f":"COUNTIF(L8:L9,AD10)","v":0},{"$f":"AE10/(AG4-AE11)","v":0},{"$f":"IF(AF10=0,0,(AF10*((LOG(AF10))/LOG(2))))","v":0},null,{"$f":"N10","v":122},{"$f":"COUNTIF(L9:L9,AI10)","v":0},{"$f":"AJ10/(AL4-AJ11)","v":0},{"$f":"IF(AK10=0,0,(AK10*((LOG(AK10))/LOG(2))))","v":0},null,{"$f":"N10","v":122},{"$f":"COUNTIF(L10:L10,AN10)","v":0},{"$f":"AO10/(AQ4-AO11)","v":0},{"$f":"IF(AP10=0,0,(AP10*((LOG(AP10))/LOG(2))))","v":0},null,{"$f":"N10","v":122},{"$f":"COUNTIF(L11:L11,AS10)","v":0},{"$f":"AT10/(AV4-AT11)","v":0},{"$f":"IF(AU10=0,0,(AU10*((LOG(AU10))/LOG(2))))","v":0}]
[12,16999,13,17004,13,17009,null,null,null,null,0,111,null,211,{"$f":"COUNTIF($L$7:$L$500,N11)","v":0},{"$f":"O11/$Q$4","v":0},{"$f":"IF(P11=0,0,(P11*((LOG(P11))/LOG(2))))","v":0},null,null,{"$f":"N11","v":211},{"$f":"COUNTIF(L7:L7,T11)","v":0},null,null,null,{"$f":"N11","v":211},{"$f":"COUNTIF(L8:L8,Y11)","v":0},null,null,null,{"$f":"N11","v":211},{"$f":"COUNTIF(L8:L9,AD11)","v":0},null,null,null,{"$f":"N11","v":211},{"$f":"COUNTIF(L9:L9,AI11)","v":0},null,null,null,{"$f":"N11","v":211},{"$f":"COUNTIF(L10:L10,AN11)","v":0},null,null,null,{"$f":"N11","v":211},{"$f":"COUNTIF(L11:L11,AS11)","v":0}]
[null,null,null,null,null,null,null,null,null,null,null,null,null,212,{"$f":"COUNTIF($L$7:$L$500,N12)","v":0},{"$f":"O12/$Q$4","v":0},{"$f":"IF(P12=0,0,(P12*((LOG(P12))/LOG(2))))","v":0},null,null,{"$f":"N12","v":212},{"$f":"COUNTIF(L7:L7,T12)","v":0},{"$f":"U12/(W4-U11)","v":0},{"$f":"IF(V12=0,0,(V12*((LOG(V12))/LOG(2))))","v":0},null,{"$f":"N12","v":212},{"$f":"COUNTIF(L8:L8,Y12)","v":0},{"$f":"Z12/(AB4-Z11)","v":0},{"$f":"IF(AA12=0,0,(AA12*((LOG(AA12))/LOG(2))))","v":0},null,{"$f":"N12","v":212},{"$f":"COUNTIF(L8:L9,AD12)","v":0},{"$f":"AE12/(AG4-AE11)","v":0},{"$f":"IF(AF12=0,0,(AF12*((LOG(AF12))/LOG(2))))","v":0},null,{"$f":"N12","v":212},{"$f":"COUNTIF(L9:L9,AI12)","v":0},{"$f":"AJ12/(AL4-AJ11)","v":0},{"$f":"IF(AK12=0,0,(AK12*((LOG(AK12))/LOG(2))))","v":0},null,{"$f":"N12","v":212},{"$f":"COUNTIF(L10:L10,AN12)","v":0},{"$f":"AO12/(AQ4-AO11)","v":0},{"$f":"IF(AP12=0,0,(AP12*((LOG(AP12))/LOG(2))))","v":0},null,{"$f":"N12","v":212},{"$f":"COUNTIF(L11:L11,AS12)","v":0},{"$f":"AT12/(AV4-AT11)","v":0},{"$f":"IF(AU12=0,0,(AU12*((LOG(AU12))/LOG(2))))","v":0}]
[null,null,null,null,null,null,null,null,null,null,null,null,null,221,{"$f":"COUNTIF($L$7:$L$500,N13)","v":0},{"$f":"O13/$Q$4","v":0},{"$f":"IF(P13=0,0,(P13*((LOG(P13))/LOG(2))))","v":0},null,null,{"$f":"N13","v":221},{"$f":"COUNTIF(L7:L7,T13)","v":0},{"$f":"U13/(W4-U11)","v":0},{"$f":"IF(V13=0,0,(V13*((LOG(V13))/LOG(2))))","v":0},null,{"$f":"N13","v":221},{"$f":"COUNTIF(L8:L8,Y13)","v":0},{"$f":"Z13/(AB4-Z11)","v":0},{"$f":"IF(AA13=0,0,(AA13*((LOG(AA13))/LOG(2))))","v":0},null,{"$f":"N13","v":221},{"$f":"COUNTIF(L8:L9,AD13)","v":0},{"$f":"AE13/(AG4-AE11)","v":0},{"$f":"IF(AF13=0,0,(AF13*((LOG(AF13))/LOG(2))))","v":0},null,{"$f":"N13","v":221},{"$f":"COUNTIF(L9:L9,AI13)","v":0},{"$f":"AJ13/(AL4-AJ11)","v":0},{"$f":"IF(AK13=0,0,(AK13*((LOG(AK13))/LOG(2))))","v":0},null,{"$f":"N13","v":221},{"$f":"COUNTIF(L10:L10,AN13)","v":0},{"$f":"AO13/(AQ4-AO11)","v":0},{"$f":"IF(AP13=0,0,(AP13*((LOG(AP13))/LOG(2))))","v":0},null,{"$f":"N13","v":221},{"$f":"COUNTIF(L11:L11,AS13)","v":0},{"$f":"AT13/(AV4-AT11)","v":0},{"$f":"IF(AU13=0,0,(AU13*((LOG(AU13))/LOG(2))))","v":0}]
[null,null,null,null,null,null,null,null,null,null,null,null,null,222,{"$f":"COUNTIF($L$7:$L$500,N14)","v":1},{"$f":"O14/$Q$4","v":0.2},{"$f":"IF(P14=0,0,(P14*((LOG(P14))/LOG(2))))","v":-0.46438561897747244},null,null,{"$f":"N14","v":222},{"$f":"COUNTIF(L7:L7,T14)","v":0},{"$f":"U14/(W4-U11)","v":0},{"$f":"IF(V14=0,0,(V14*((LOG(V14))/LOG(2))))","v":0},null,{"$f":"N14","v":222},{"$f":"COUNTIF(L8:L8,Y14)","v":1},{"$f":"Z14/(AB4-Z11)","v":1},{"$f":"IF(AA14=0,0,(AA14*((LOG(AA14))/LOG(2))))","v":0},null,{"$f":"N14","v":222},{"$f":"COUNTIF(L8:L9,AD14)","v":1},{"$f":"AE14/(AG4-AE11)","v":0.5},{"$f":"IF(AF14=0,0,(AF14*((LOG(AF14))/LOG(2))))","v":-0.5},null,{"$f":"N14","v":222},{"$f":"COUNTIF(L9:L9,AI14)","v":0},{"$f":"AJ14/(AL4-AJ11)","v":0},{"$f":"IF(AK14=0,0,(AK14*((LOG(AK14))/LOG(2))))","v":0},null,{"$f":"N14","v":222},{"$f":"COUNTIF(L10:L10,AN14)","v":0},{"$f":"AO14/(AQ4-AO11)","v":0},{"$f":"IF(AP14=0,0,(AP14*((LOG(AP14))/LOG(2))))","v":0},null,{"$f":"N14","v":222},{"$f":"COUNTIF(L11:L11,AS14)","v":0},{"$f":"AT14/(AV4-AT11)","v":0},{"$f":"IF(AU14=0,0,(AU14*((LOG(AU14))/LOG(2))))","v":0}]
[null,null,null,null,null,null,null,null,null,null,null,null,null,null,null,{"$f":"SUM(P7:P14)","v":1},{"$f":"-SUM(Q7:Q14)","v":0.72192809488736231},null,null,null,null,{"$f":"SUM(V7:V14)","v":1},{"$f":"-SUM(W7:W14)","v":0},null,null,null,{"$f":"SUM(AA7:AA14)","v":1},{"$f":"-SUM(AB7:AB14)","v":0},null,null,null,{"$f":"SUM(AF7:AF14)","v":1},{"$f":"-SUM(AG7:AG14)","v":1},null,null,null,{"$f":"SUM(AK7:AK14)","v":1},{"$f":"-SUM(AL7:AL14)","v":0},null,null,null,{"$f":"SUM(AP7:AP14)","v":1},{"$f":"-SUM(AQ7:AQ14)","v":0},null,null,null,{"$f":"SUM(AU7:AU14)","v":1},{"$f":"-SUM(AV7:AV14)","v":0}]
[null,null,null,null,null,null,null,null,null,null,null,null,null,null,null,"U=",{"$f":"Q15/(LOG(Q4)/LOG(2))","v":0.31091750708257104},null,null,null,null,"U1=",{"$f":"W15/(LOG(W4)/LOG(2))","v":{"$error":"#DIV/0!"}},null,null,null,"U2=",{"$f":"AB15/(LOG(AB4)/LOG(2))","v":{"$error":"#DIV/0!"}},null,null,null,"U3=",{"$f":"AG15/(LOG(AG4)/LOG(2))","v":1},null,null,null,"U4=",{"$f":"AL15/(LOG(AL4)/LOG(2))","v":{"$error":"#DIV/0!"}},null,null,null,"U5=",{"$f":"AQ15/(LOG(AQ4)/LOG(2))","v":{"$error":"#DIV/0!"}},null,null,null,"U6=",{"$f":"AV15/(LOG(AV4)/LOG(2))","v":{"$error":"#DIV/0!"}}]
[]
[]
[null,null,null,null,null,null,null,null,null,null,null,null,null,"Total Target Seq"]
[null,null,null,null,null,null,null,null,null,null,null,null,null,{"$f":"COUNTIF(L7:L11,G3)","v":0},null,1,1,0,1,1,1]
[null,null,null,null,null,null,null,null,null,null,null,null,null,null,null,"% of reinforcement given in 6 equal intervals based on number of trials "]
[null,null,null,null,null,null,null,null,null,null,null,null,null,null,null,"%_1","%_2","%_3","%_4","%_5","%_6"]
[null,null,null,null,null,null,null,null,null,null,null,null,null,null,"target sequence",{"$f":"$G$3","v":211},{"$f":"$G$3","v":211},{"$f":"$G$3","v":211},{"$f":"$G$3","v":211},{"$f":"$G$3","v":211},{"$f":"$G$3","v":211}]
[null,null,null,null,null,null,null,null,null,null,null,null,null,null,"total reinforcement",{"$f":"U11","v":0},{"$f":"Z11","v":0},{"$f":"AE11","v":0},{"$f":"AJ11","v":0},{"$f":"AO11","v":0},{"$f":"AT11","v":0}]
[null,null,null,null,null,null,null,null,null,null,null,null,null,null,"% target"]
[null,null,null,null,null,null,null,null,null,null,null,null,null,null,"CCRF"]
[null,null,null,null,null,null,null,null,null,null,null,null,null,null,"% CCRf"]
[null,null,null,null,null,null,null,null,null,null,null,null,null,null,"average response rate",{"$f":"F7/P20","v":194},{"$f":"(F8-F7)/Q20","v":506},{"$f":"(F8-F8)/R20","v":{"$error":"#DIV/0!"}},{"$f":"(F9-F8)/S20","v":186},{"$f":"(F10-F9)/T20","v":4349},{"$f":"(F11-F10)/U20","v":11774}]

{"sheet":"!N121930.010","index":22,"n_rows":28,"n_cols":48,"rows_kept":28,"cut":false,"hidden":false,"merged":[[4,39,4,42],[5,39,5,40],[4,44,4,47],[5,44,5,45],[4,24,4,27],[5,24,5,25],[4,29,4,32],[5,29,5,30],[4,34,4,37],[5,34,5,35],[1,1,1,2],[5,13,5,14],[18,13,18,14],[19,13,19,14],[4,19,4,22],[5,19,5,20]]}
["Report for:!N121930.010"]
["Date:","<date>"]
["Hen:","<hen>",null,null,null,"Correct Sequence",{"$f":"Start!J2","v":211},null,null,null,null,null,null,null,null,"Total Sequences in Data",{"$f":"4994-COUNTBLANK(L7:L5000)","v":8},null,null,null,null,"Total Sequences in Block Data",{"$f":"COUNTA(L7:L7)","v":1},null,null,null,"Total Sequences in Block Data",{"$f":"COUNTA(L8:L9)","v":2},null,null,null,"Total Sequences in Block Data",{"$f":"COUNTA(L10:L10)","v":1},null,null,null,"Total Sequences in Block Data",{"$f":"COUNTA(L11:L11)","v":1},null,null,null,"Total Sequences in Block Data",{"$f":"COUNTA(L12:L13)","v":2},null,null,null,"Total Sequences in Block Data",{"$f":"COUNTA(L14:L14)","v":1}]
[null,null,null,null,null,null,null,null,null,null,null,null,null,null,null,"Total Sequences in Summary",{"$f":"SUM(O7:O14)","v":8},null,null,null,null,"Total Sequences in Block Summary",{"$f":"SUM(U7:U14)","v":1},null,null,null,"Total Sequences in Block Summary",{"$f":"SUM(Z7:Z14)","v":2},null,null,null,"Total Sequences in Block Summary",{"$f":"SUM(AE7:AE14)","v":1},null,null,null,"Total Sequences in Block Summary",{"$f":"SUM(AJ7:AJ14)","v":1},null,null,null,"Total Sequences in Block Summary",{"$f":"SUM(AO7:AO14)","v":2},null,null,null,"Total Sequences in Block Summary",{"$f":"SUM(AT7:AT14)","v":1}]
[null,null,null,null,null,null,null,null,null,null,null,null,null,null,null,null,null,null,null,"Block 1",null,null,null,null,"Block 2",null,null,null,null,"Block 3",null,null,null,null,"Block 4",null,null,null,null,"Block 5",null,null,null,null,"Block 6"]
["Sequence\nComponent\n1","Time\n1","Sequence\nComponent\n2","Time\n2","Sequence\nComponent\n3","Time\n3","Sequence\nComponent\n4","Time\n4","Sequence\nComponent\n5","Time\n5","Correct?\n0=No 1=Yes","Sequence",null,"Frequency",null,"Relative Frequency","Variability",null,null,"Frequency",null,"Relative Frequency","Variability",null,"Frequency",null,"Relative Frequency","Variability",null,"Frequency",null,"Relative Frequency","Variability",null,"Frequency",null,"Relative Frequency","Variability",null,"Frequency",null,"Relative Frequency","Variability",null,"Frequency",null,"Relative Frequency","Variability"]
[12,156,13,161,13,166,null,null,null,null,0,111,null,111,{"$f":"COUNTIF($L$7:$L$500,N7)","v":7},{"$f":"O7/$Q$4","v":0.875},{"$f":"IF(P7=0,0,(P7*((LOG(P7))/LOG(2))))","v":-0.1685644431995964},null,null,{"$f":"N7","v":111},{"$f":"COUNTIF(L7:L7,T7)","v":1},{"$f":"U7/(W4-U11)","v":1},{"$f":"IF(V7=0,0,(V7*((LOG(V7))/LOG(2))))","v":0},null,{"$f":"N7","v":111},{"$f":"COUNTIF(L8:L9,Y7)","v":2},{"$f":"Z7/(AB4-Z11)","v":1},{"$f":"IF(AA7=0,0,(AA7*((LOG(AA7))/LOG(2))))","v":0},null,{"$f":"N7","v":111},{"$f":"COUNTIF(L10:L10,AD7)","v":1},{"$f":"AE7/(AG4-AE11)","v":1},{"$f":"IF(AF7=0,0,(AF7*((LOG(AF7))/LOG(2))))","v":0},null,{"$f":"N7","v":111},{"$f":"COUNTIF(L11:L11,AI7)","v":1},{"$f":"AJ7/(AL4-AJ11)","v":1},{"$f":"IF(AK7=0,0,(AK7*((LOG(AK7))/LOG(2))))","v":0},null,{"$f":"N7","v":111},{"$f":"COUNTIF(L12:L13,AN7)","v":2},{"$f":"AO7/(AQ4-AO11)","v":1},{"$f":"IF(AP7=0,0,(AP7*((LOG(AP7))/LOG(2))))","v":0},null,{"$f":"N7","v":111},{"$f":"COUNTIF(L14:L14,AS7)","v":0},{"$f":"AT7/(AV4-AT11)","v":0},{"$f":"IF(AU7=0,0,(AU7*((LOG(AU7))/LOG(2))))","v":0}]
[12,306,13,311,13,316,null,null,null,null,0,111,null,112,{"$f":"COUNTIF($L$7:$L$500,N8)","v":0},{"$f":"O8/$Q$4","v":0},{"$f":"IF(P8=0,0,(P8*((LOG(P8))/LOG(2))))","v":0},null,null,{"$f":"N8","v":112},{"$f":"COUNTIF(L7:L7,T8)","v":0},{"$f":"U8/(W4-U11)","v":0},{"$f":"IF(V8=0,0,(V8*((LOG(V8))/LOG(2))))","v":0},null,{"$f":"N8","v":112},{"$f":"COUNTIF(L8:L9,Y8)","v":0},{"$f":"Z8/(AB4-Z11)","v":0},{"$f":"IF(AA8=0,0,(AA8*((LOG(AA8))/LOG(2))))","v":0},null,{"$f":"N8","v":112},{"$f":"COUNTIF(L10:L10,AD8)","v":0},{"$f":"AE8/(AG4-AE11)","v":0},{"$f":"IF(AF8=0,0,(AF8*((LOG(AF8))/LOG(2))))","v":0},null,{"$f":"N8","v":112},{"$f":"COUNTIF(L11:L11,AI8)","v":0},{"$f":"AJ8/(AL4-AJ11)","v":0},{"$f":"IF(AK8=0,0,(AK8*((LOG(AK8))/LOG(2))))","v":0},null,{"$f":"N8","v":112},{"$f":"COUNTIF(L12:L13,AN8)","v":0},{"$f":"AO8/(AQ4-AO11)","v":0},{"$f":"IF(AP8=0,0,(AP8*((LOG(AP8))/LOG(2))))","v":0},null,{"$f":"N8","v":112},{"$f":"COUNTIF(L14:L14,AS8)","v":0},{"$f":"AT8/(AV4-AT11)","v":0},{"$f":"IF(AU8=0,0,(AU8*((LOG(AU8))/LOG(2))))","v":0}]
[12,443,13,448,13,453,null,null,null,null,0,111,null,121,{"$f":"COUNTIF($L$7:$L$500,N9)","v":0},{"$f":"O9/$Q$4","v":0},{"$f":"IF(P9=0,0,(P9*((LOG(P9))/LOG(2))))","v":0},null,null,{"$f":"N9","v":121},{"$f":"COUNTIF(L7:L7,T9)","v":0},{"$f":"U9/(W4-U11)","v":0},{"$f":"IF(V9=0,0,(V9*((LOG(V9))/LOG(2))))","v":0},null,{"$f":"N9","v":121},{"$f":"COUNTIF(L8:L9,Y9)","v":0},{"$f":"Z9/(AB4-Z11)","v":0},{"$f":"IF(AA9=0,0,(AA9*((LOG(AA9))/LOG(2))))","v":0},null,{"$f":"N9","v":121},{"$f":"COUNTIF(L10:L10,AD9)","v":0},{"$f":"AE9/(AG4-AE11)","v":0},{"$f":"IF(AF9=0,0,(AF9*((LOG(AF9))/LOG(2))))","v":0},null,{"$f":"N9","v":121},{"$f":"COUNTIF(L11:L11,AI9)","v":0},{"$f":"AJ9/(AL4-AJ11)","v":0},{"$f":"IF(AK9=0,0,(AK9*((LOG(AK9))/LOG(2))))","v":0},null,{"$f":"N9","v":121},{"$f":"COUNTIF(L12:L13,AN9)","v":0},{"$f":"AO9/(AQ4-AO11)","v":0},{"$f":"IF(AP9=0,0,(AP9*((LOG(AP9))/LOG(2))))","v":0},null,{"$f":"N9","v":121},{"$f":"COUNTIF(L14:L14,AS9)","v":0},{"$f":"AT9/(AV4-AT11)","v":0},{"$f":"IF(AU9=0,0,(AU9*((LOG(AU9))/LOG(2))))","v":0}]
[12,813,13,818,13,822,null,null,null,null,0,111,null,122,{"$f":"COUNTIF($L$7:$L$500,N10)","v":0},{"$f":"O10/$Q$4","v":0},{"$f":"IF(P10=0,0,(P10*((LOG(P10))/LOG(2))))","v":0},null,null,{"$f":"N10","v":122},{"$f":"COUNTIF(L7:L7,T10)","v":0},{"$f":"U10/(W4-U11)","v":0},{"$f":"IF(V10=0,0,(V10*((LOG(V10))/LOG(2))))","v":0},null,{"$f":"N10","v":122},{"$f":"COUNTIF(L8:L9,Y10)","v":0},{"$f":"Z10/(AB4-Z11)","v":0},{"$f":"IF(AA10=0,0,(AA10*((LOG(AA10))/LOG(2))))","v":0},null,{"$f":"N10","v":122},{"$f":"COUNTIF(L10:L10,AD10)","v":0},{"$f":"AE10/(AG4-AE11)","v":0},{"$f":"IF(AF10=0,0,(AF10*((LOG(AF10))/LOG(2))))","v":0},null,{"$f":"N10","v":122},{"$f":"COUNTIF(L11:L11,AI10)","v":0},{"$f":"AJ10/(AL4-AJ11)","v":0},{"$f":"IF(AK10=0,0,(AK10*((LOG(AK10))/LOG(2))))","v":0},null,{"$f":"N10","v":122},{"$f":"COUNTIF(L12:L13,AN10)","v":0},{"$f":"AO10/(AQ4-AO11)","v":0},{"$f":"IF(AP10=0,0,(AP10*((LOG(AP10))/LOG(2))))","v":0},null,{"$f":"N10","v":122},{"$f":"COUNTIF(L14:L14,AS10)","v":0},{"$f":"AT10/(AV4-AT11)","v":0},{"$f":"IF(AU10=0,0,(AU10*((LOG(AU10))/LOG(2))))","v":0}]
[12,6358,13,6369,13,6374,null,null,null,null,0,111,null,211,{"$f":"COUNTIF($L$7:$L$500,N11)","v":0},{"$f":"O11/$Q$4","v":0},{"$f":"IF(P11=0,0,(P11*((LOG(P11))/LOG(2))))","v":0},null,null,{"$f":"N11","v":211},{"$f":"COUNTIF(L7:L7,T11)","v":0},null,null,null,{"$f":"N11","v":211},{"$f":"COUNTIF(L8:L9,Y11)","v":0},null,null,null,{"$f":"N11","v":211},{"$f":"COUNTIF(L10:L10,AD11)","v":0},null,null,null,{"$f":"N11","v":211},{"$f":"COUNTIF(L11:L11,AI11)","v":0},null,null,null,{"$f":"N11","v":211},{"$f":"COUNTIF(L12:L13,AN11)","v":0},null,null,null,{"$f":"N11","v":211},{"$f":"COUNTIF(L14:L14,AS11)","v":0}]
[12,9572,13,9579,13,9584,null,null,null,null,0,111,null,212,{"$f":"COUNTIF($L$7:$L$500,N12)","v":0},{"$f":"O12/$Q$4","v":0},{"$f":"IF(P12=0,0,(P12*((LOG(P12))/LOG(2))))","v":0},null,null,{"$f":"N12","v":212},{"$f":"COUNTIF(L7:L7,T12)","v":0},{"$f":"U12/(W4-U11)","v":0},{"$f":"IF(V12=0,0,(V12*((LOG(V12))/LOG(2))))","v":0},null,{"$f":"N12","v":212},{"$f":"COUNTIF(L8:L9,Y12)","v":0},{"$f":"Z12/(AB4-Z11)","v":0},{"$f":"IF(AA12=0,0,(AA12*((LOG(AA12))/LOG(2))))","v":0},null,{"$f":"N12","v":212},{"$f":"COUNTIF(L10:L10,AD12)","v":0},{"$f":"AE12/(AG4-AE11)","v":0},{"$f":"IF(AF12=0,0,(AF12*((LOG(AF12))/LOG(2))))","v":0},null,{"$f":"N12","v":212},{"$f":"COUNTIF(L11:L11,AI12)","v":0},{"$f":"AJ12/(AL4-AJ11)","v":0},{"$f":"IF(AK12=0,0,(AK12*((LOG(AK12))/LOG(2))))","v":0},null,{"$f":"N12","v":212},{"$f":"COUNTIF(L12:L13,AN12)","v":0},{"$f":"AO12/(AQ4-AO11)","v":0},{"$f":"IF(AP12=0,0,(AP12*((LOG(AP12))/LOG(2))))","v":0},null,{"$f":"N12","v":212},{"$f":"COUNTIF(L14:L14,AS12)","v":0},{"$f":"AT12/(AV4-AT11)","v":0},{"$f":"IF(AU12=0,0,(AU12*((LOG(AU12))/LOG(2))))","v":0}]
[12,13167,13,13172,13,13178,null,null,null,null,0,111,null,221,{"$f":"COUNTIF($L$7:$L$500,N13)","v":0},{"$f":"O13/$Q$4","v":0},{"$f":"IF(P13=0,0,(P13*((LOG(P13))/LOG(2))))","v":0},null,null,{"$f":"N13","v":221},{"$f":"COUNTIF(L7:L7,T13)","v":0},{"$f":"U13/(W4-U11)","v":0},{"$f":"IF(V13=0,0,(V13*((LOG(V13))/LOG(2))))","v":0},null,{"$f":"N13","v":221},{"$f":"COUNTIF(L8:L9,Y13)","v":0},{"$f":"Z13/(AB4-Z11)","v":0},{"$f":"IF(AA13=0,0,(AA13*((LOG(AA13))/LOG(2))))","v":0},null,{"$f":"N13","v":221},{"$f":"COUNTIF(L10:L10,AD13)","v":0},{"$f":"AE13/(AG4-AE11)","v":0},{"$f":"IF(AF13=0,0,(AF13*((LOG(AF13))/LOG(2))))","v":0},null,{"$f":"N13","v":221},{"$f":"COUNTIF(L11:L11,AI13)","v":0},{"$f":"AJ13/(AL4-AJ11)","v":0},{"$f":"IF(AK13=0,0,(AK13*((LOG(AK13))/LOG(2))))","v":0},null,{"$f":"N13","v":221},{"$f":"COUNTIF(L12:L13,AN13)","v":0},{"$f":"AO13/(AQ4-AO11)","v":0},{"$f":"IF(AP13=0,0,(AP13*((LOG(AP13))/LOG(2))))","v":0},null,{"$f":"N13","v":221},{"$f":"COUNTIF(L14:L14,AS13)","v":0},{"$f":"AT13/(AV4-AT11)","v":0},{"$f":"IF(AU13=0,0,(AU13*((LOG(AU13))/LOG(2))))","v":0}]
[21,23509,22,23514,24,23520,null,null,null,null,0,222,null,222,{"$f":"COUNTIF($L$7:$L$500,N14)","v":1},{"$f":"O14/$Q$4","v":0.125},{"$f":"IF(P14=0,0,(P14*((LOG(P14))/LOG(2))))","v":-0.375},null,null,{"$f":"N14","v":222},{"$f":"COUNTIF(L7:L7,T14)","v":0},{"$f":"U14/(W4-U11)","v":0},{"$f":"IF(V14=0,0,(V14*((LOG(V14))/LOG(2))))","v":0},null,{"$f":"N14","v":222},{"$f":"COUNTIF(L8:L9,Y14)","v":0},{"$f":"Z14/(AB4-Z11)","v":0},{"$f":"IF(AA14=0,0,(AA14*((LOG(AA14))/LOG(2))))","v":0},null,{"$f":"N14","v":222},{"$f":"COUNTIF(L10:L10,AD14)","v":0},{"$f":"AE14/(AG4-AE11)","v":0},{"$f":"IF(AF14=0,0,(AF14*((LOG(AF14))/LOG(2))))","v":0},null,{"$f":"N14","v":222},{"$f":"COUNTIF(L11:L11,AI14)","v":0},{"$f":"AJ14/(AL4-AJ11)","v":0},{"$f":"IF(AK14=0,0,(AK14*((LOG(AK14))/LOG(2))))","v":0},null,{"$f":"N14","v":222},{"$f":"COUNTIF(L12:L13,AN14)","v":0},{"$f":"AO14/(AQ4-AO11)","v":0},{"$f":"IF(AP14=0,0,(AP14*((LOG(AP14))/LOG(2))))","v":0},null,{"$f":"N14","v":222},{"$f":"COUNTIF(L14:L14,AS14)","v":1},{"$f":"AT14/(AV4-AT11)","v":1},{"$f":"IF(AU14=0,0,(AU14*((LOG(AU14))/LOG(2))))","v":0}]
[null,null,null,null,null,null,null,null,null,null,null,null,null,null,null,{"$f":"SUM(P7:P14)","v":1},{"$f":"-SUM(Q7:Q14)","v":0.5435644431995964},null,null,null,null,{"$f":"SUM(V7:V14)","v":1},{"$f":"-SUM(W7:W14)","v":0},null,null,null,{"$f":"SUM(AA7:AA14)","v":1},{"$f":"-SUM(AB7:AB14)","v":0},null,null,null,{"$f":"SUM(AF7:AF14)","v":1},{"$f":"-SUM(AG7:AG14)","v":0},null,null,null,{"$f":"SUM(AK7:AK14)","v":1},{"$f":"-SUM(AL7:AL14)","v":0},null,null,null,{"$f":"SUM(AP7:AP14)","v":1},{"$f":"-SUM(AQ7:AQ14)","v":0},null,null,null,{"$f":"SUM(AU7:AU14)","v":1},{"$f":"-SUM(AV7:AV14)","v":0}]
[null,null,null,null,null,null,null,null,null,null,null,null,null,null,null,"U=",{"$f":"Q15/(LOG(Q4)/LOG(2))","v":0.1811881477331988},null,null,null,null,"U1=",{"$f":"W15/(LOG(W4)/LOG(2))","v":{"$error":"#DIV/0!"}},null,null,null,"U2=",{"$f":"AB15/(LOG(AB4)/LOG(2))","v":0},null,null,null,"U3=",{"$f":"AG15/(LOG(AG4)/LOG(2))","v":{"$error":"#DIV/0!"}},null,null,null,"U4=",{"$f":"AL15/(LOG(AL4)/LOG(2))","v":{"$error":"#DIV/0!"}},null,null,null,"U5=",{"$f":"AQ15/(LOG(AQ4)/LOG(2))","v":0},null,null,null,"U6=",{"$f":"AV15/(LOG(AV4)/LOG(2))","v":{"$error":"#DIV/0!"}}]
[]
[]
[null,null,null,null,null,null,null,null,null,null,null,null,null,"Total Target Seq"]
[null,null,null,null,null,null,null,null,null,null,null,null,null,{"$f":"COUNTIF(L7:L14,G3)","v":0},null,1,2,1,1,2,1]
[null,null,null,null,null,null,null,null,null,null,null,null,null,null,null,"% of reinforcement given in 6 equal intervals based on number of trials "]
[null,null,null,null,null,null,null,null,null,null,null,null,null,null,null,"%_1","%_2","%_3","%_4","%_5","%_6"]
[null,null,null,null,null,null,null,null,null,null,null,null,null,null,"target sequence",{"$f":"$G$3","v":211},{"$f":"$G$3","v":211},{"$f":"$G$3","v":211},{"$f":"$G$3","v":211},{"$f":"$G$3","v":211},{"$f":"$G$3","v":211}]
[null,null,null,null,null,null,null,null,null,null,null,null,null,null,"total reinforcement",{"$f":"U11","v":0},{"$f":"Z11","v":0},{"$f":"AE11","v":0},{"$f":"AJ11","v":0},{"$f":"AO11","v":0},{"$f":"AT11","v":0}]
[null,null,null,null,null,null,null,null,null,null,null,null,null,null,"% target"]
[null,null,null,null,null,null,null,null,null,null,null,null,null,null,"CCRF"]
[null,null,null,null,null,null,null,null,null,null,null,null,null,null,"% CCRf"]
[null,null,null,null,null,null,null,null,null,null,null,null,null,null,"average response rate",{"$f":"F7/P20","v":166},{"$f":"(F9-F7)/Q20","v":143.5},{"$f":"(F10-F9)/R20","v":369},{"$f":"(F11-F10)/S20","v":5552},{"$f":"(F13-F11)/T20","v":3402},{"$f":"(F14-F13)/U20","v":10342}]

{"sheet":"!N122820.010","index":23,"n_rows":28,"n_cols":48,"rows_kept":28,"cut":false,"hidden":false,"merged":[[4,39,4,42],[5,39,5,40],[4,44,4,47],[5,44,5,45],[4,24,4,27],[5,24,5,25],[4,29,4,32],[5,29,5,30],[4,34,4,37],[5,34,5,35],[1,1,1,2],[5,13,5,14],[18,13,18,14],[19,13,19,14],[4,19,4,22],[5,19,5,20]]}
["Report for:!N122820.010"]
["Date:","<date>"]
["Hen:","<hen>",null,null,null,"Correct Sequence",{"$f":"Start!J2","v":211},null,null,null,null,null,null,null,null,"Total Sequences in Data",{"$f":"4994-COUNTBLANK(L7:L5000)","v":5},null,null,null,null,"Total Sequences in Block Data",{"$f":"COUNTA(L7:L7)","v":1},null,null,null,"Total Sequences in Block Data",{"$f":"COUNTA(L8:L8)","v":1},null,null,null,"Total Sequences in Block Data",{"$f":"COUNTA(L8:L9)","v":2},null,null,null,"Total Sequences in Block Data",{"$f":"COUNTA(L9:L9)","v":1},null,null,null,"Total Sequences in Block Data",{"$f":"COUNTA(L10:L10)","v":1},null,null,null,"Total Sequences in Block Data",{"$f":"COUNTA(L11:L11)","v":1}]
[null,null,null,null,null,null,null,null,null,null,null,null,null,null,null,"Total Sequences in Summary",{"$f":"SUM(O7:O14)","v":5},null,null,null,null,"Total Sequences in Block Summary",{"$f":"SUM(U7:U14)","v":1},null,null,null,"Total Sequences in Block Summary",{"$f":"SUM(Z7:Z14)","v":1},null,null,null,"Total Sequences in Block Summary",{"$f":"SUM(AE7:AE14)","v":2},null,null,null,"Total Sequences in Block Summary",{"$f":"SUM(AJ7:AJ14)","v":1},null,null,null,"Total Sequences in Block Summary",{"$f":"SUM(AO7:AO14)","v":1},null,null,null,"Total Sequences in Block Summary",{"$f":"SUM(AT7:AT14)","v":1}]
[null,null,null,null,null,null,null,null,null,null,null,null,null,null,null,null,null,null,null,"Block 1",null,null,null,null,"Block 2",null,null,null,null,"Block 3",null,null,null,null,"Block 4",null,null,null,null,"Block 5",null,null,null,null,"Block 6"]
["Sequence\nComponent\n1","Time\n1","Sequence\nComponent\n2","Time\n2","Sequence\nComponent\n3","Time\n3","Sequence\nComponent\n4","Time\n4","Sequence\nComponent\n5","Time\n5","Correct?\n0=No 1=Yes","Sequence",null,"Frequency",null,"Relative Frequency","Variability",null,null,"Frequency",null,"Relative Frequency","Variability",null,"Frequency",null,"Relative Frequency","Variability",null,"Frequency",null,"Relative Frequency","Variability",null,"Frequency",null,"Relative Frequency","Variability",null,"Frequency",null,"Relative Frequency","Variability",null,"Frequency",null,"Relative Frequency","Variability"]
[12,225,13,229,13,234,null,null,null,null,0,111,null,111,{"$f":"COUNTIF($L$7:$L$500,N7)","v":3},{"$f":"O7/$Q$4","v":0.6},{"$f":"IF(P7=0,0,(P7*((LOG(P7))/LOG(2))))","v":-0.44217935649972373},null,null,{"$f":"N7","v":111},{"$f":"COUNTIF(L7:L7,T7)","v":1},{"$f":"U7/(W4-U11)","v":1},{"$f":"IF(V7=0,0,(V7*((LOG(V7))/LOG(2))))","v":0},null,{"$f":"N7","v":111},{"$f":"COUNTIF(L8:L8,Y7)","v":1},{"$f":"Z7/(AB4-Z11)","v":1},{"$f":"IF(AA7=0,0,(AA7*((LOG(AA7))/LOG(2))))","v":0},null,{"$f":"N7","v":111},{"$f":"COUNTIF(L8:L9,AD7)","v":1},{"$f":"AE7/(AG4-AE11)","v":0.5},{"$f":"IF(AF7=0,0,(AF7*((LOG(AF7))/LOG(2))))","v":-0.5},null,{"$f":"N7","v":111},{"$f":"COUNTIF(L9:L9,AI7)","v":0},{"$f":"AJ7/(AL4-AJ11)","v":0},{"$f":"IF(AK7=0,0,(AK7*((LOG(AK7))/LOG(2))))","v":0},null,{"$f":"N7","v":111},{"$f":"COUNTIF(L10:L10,AN7)","v":0},{"$f":"AO7/(AQ4-AO11)","v":0},{"$f":"IF(AP7=0,0,(AP7*((LOG(AP7))/LOG(2))))","v":0},null,{"$f":"N7","v":111},{"$f":"COUNTIF(L11:L11,AS7)","v":1},{"$f":"AT7/(AV4-AT11)","v":1},{"$f":"IF(AU7=0,0,(AU7*((LOG(AU7))/LOG(2))))","v":0}]
[12,395,13,400,13,405,null,null,null,null,0,111,null,112,{"$f":"COUNTIF($L$7:$L$500,N8)","v":0},{"$f":"O8/$Q$4","v":0},{"$f":"IF(P8=0,0,(P8*((LOG(P8))/LOG(2))))","v":0},null,null,{"$f":"N8","v":112},{"$f":"COUNTIF(L7:L7,T8)","v":0},{"$f":"U8/(W4-U11)","v":0},{"$f":"IF(V8=0,0,(V8*((LOG(V8))/LOG(2))))","v":0},null,{"$f":"N8","v":112},{"$f":"COUNTIF(L8:L8,Y8)","v":0},{"$f":"Z8/(AB4-Z11)","v":0},{"$f":"IF(AA8=0,0,(AA8*((LOG(AA8))/LOG(2))))","v":0},null,{"$f":"N8","v":112},{"$f":"COUNTIF(L8:L9,AD8)","v":0},{"$f":"AE8/(AG4-AE11)","v":0},{"$f":"IF(AF8=0,0,(AF8*((LOG(AF8))/LOG(2))))","v":0},null,{"$f":"N8","v":112},{"$f":"COUNTIF(L9:L9,AI8)","v":0},{"$f":"AJ8/(AL4-AJ11)","v":0},{"$f":"IF(AK8=0,0,(AK8*((LOG(AK8))/LOG(2))))","v":0},null,{"$f":"N8","v":112},{"$f":"COUNTIF(L10:L10,AN8)","v":0},{"$f":"AO8/(AQ4-AO11)","v":0},{"$f":"IF(AP8=0,0,(AP8*((LOG(AP8))/LOG(2))))","v":0},null,{"$f":"N8","v":112},{"$f":"COUNTIF(L11:L11,AS8)","v":0},{"$f":"AT8/(AV4-AT11)","v":0},{"$f":"IF(AU8=0,0,(AU8*((LOG(AU8))/LOG(2))))","v":0}]
[21,5421,22,5428,24,5438,null,null,null,null,0,222,null,121,{"$f":"COUNTIF($L$7:$L$500,N9)","v":0},{"$f":"O9/$Q$4","v":0},{"$f":"IF(P9=0,0,(P9*((LOG(P9))/LOG(2))))","v":0},null,null,{"$f":"N9","v":121},{"$f":"COUNTIF(L7:L7,T9)","v":0},{"$f":"U9/(W4-U11)","v":0},{"$f":"IF(V9=0,0,(V9*((LOG(V9))/LOG(2))))","v":0},null,{"$f":"N9","v":121},{"$f":"COUNTIF(L8:L8,Y9)","v":0},{"$f":"Z9/(AB4-Z11)","v":0},{"$f":"IF(AA9=0,0,(AA9*((LOG(AA9))/LOG(2))))","v":0},null,{"$f":"N9","v":121},{"$f":"COUNTIF(L8:L9,AD9)","v":0},{"$f":"AE9/(AG4-AE11)","v":0},{"$f":"IF(AF9=0,0,(AF9*((LOG(AF9))/LOG(2))))","v":0},null,{"$f":"N9","v":121},{"$f":"COUNTIF(L9:L9,AI9)","v":0},{"$f":"AJ9/(AL4-AJ11)","v":0},{"$f":"IF(AK9=0,0,(AK9*((LOG(AK9))/LOG(2))))","v":0},null,{"$f":"N9","v":121},{"$f":"COUNTIF(L10:L10,AN9)","v":0},{"$f":"AO9/(AQ4-AO11)","v":0},{"$f":"IF(AP9=0,0,(AP9*((LOG(AP9))/LOG(2))))","v":0},null,{"$f":"N9","v":121},{"$f":"COUNTIF(L11:L11,AS9)","v":0},{"$f":"AT9/(AV4-AT11)","v":0},{"$f":"IF(AU9=0,0,(AU9*((LOG(AU9))/LOG(2))))","v":0}]
[21,6012,22,6017,24,6027,null,null,null,null,0,222,null,122,{"$f":"COUNTIF($L$7:$L$500,N10)","v":0},{"$f":"O10/$Q$4","v":0},{"$f":"IF(P10=0,0,(P10*((LOG(P10))/LOG(2))))","v":0},null,null,{"$f":"N10","v":122},{"$f":"COUNTIF(L7:L7,T10)","v":0},{"$f":"U10/(W4-U11)","v":0},{"$f":"IF(V10=0,0,(V10*((LOG(V10))/LOG(2))))","v":0},null,{"$f":"N10","v":122},{"$f":"COUNTIF(L8:L8,Y10)","v":0},{"$f":"Z10/(AB4-Z11)","v":0},{"$f":"IF(AA10=0,0,(AA10*((LOG(AA10))/LOG(2))))","v":0},null,{"$f":"N10","v":122},{"$f":"COUNTIF(L8:L9,AD10)","v":0},{"$f":"AE10/(AG4-AE11)","v":0},{"$f":"IF(AF10=0,0,(AF10*((LOG(AF10))/LOG(2))))","v":0},null,{"$f":"N10","v":122},{"$f":"COUNTIF(L9:L9,AI10)","v":0},{"$f":"AJ10/(AL4-AJ11)","v":0},{"$f":"IF(AK10=0,0,(AK10*((LOG(AK10))/LOG(2))))","v":0},null,{"$f":"N10","v":122},{"$f":"COUNTIF(L10:L10,AN10)","v":0},{"$f":"AO10/(AQ4-AO11)","v":0},{"$f":"IF(AP10=0,0,(AP10*((LOG(AP10))/LOG(2))))","v":0},null,{"$f":"N10","v":122},{"$f":"COUNTIF(L11:L11,AS10)","v":0},{"$f":"AT10/(AV4-AT11)","v":0},{"$f":"IF(AU10=0,0,(AU10*((LOG(AU10))/LOG(2))))","v":0}]
[12,12711,13,12717,13,12722,null,null,null,null,0,111,null,211,{"$f":"COUNTIF($L$7:$L$500,N11)","v":0},{"$f":"O11/$Q$4","v":0},{"$f":"IF(P11=0,0,(P11*((LOG(P11))/LOG(2))))","v":0},null,null,{"$f":"N11","v":211},{"$f":"COUNTIF(L7:L7,T11)","v":0},null,null,null,{"$f":"N11","v":211},{"$f":"COUNTIF(L8:L8,Y11)","v":0},null,null,null,{"$f":"N11","v":211},{"$f":"COUNTIF(L8:L9,AD11)","v":0},null,null,null,{"$f":"N11","v":211},{"$f":"COUNTIF(L9:L9,AI11)","v":0},null,null,null,{"$f":"N11","v":211},{"$f":"COUNTIF(L10:L10,AN11)","v":0},null,null,null,{"$f":"N11","v":211},{"$f":"COUNTIF(L11:L11,AS11)","v":0}]
[null,null,null,null,null,null,null,null,null,null,null,null,null,212,{"$f":"COUNTIF($L$7:$L$500,N12)","v":0},{"$f":"O12/$Q$4","v":0},{"$f":"IF(P12=0,0,(P12*((LOG(P12))/LOG(2))))","v":0},null,null,{"$f":"N12","v":212},{"$f":"COUNTIF(L7:L7,T12)","v":0},{"$f":"U12/(W4-U11)","v":0},{"$f":"IF(V12=0,0,(V12*((LOG(V12))/LOG(2))))","v":0},null,{"$f":"N12","v":212},{"$f":"COUNTIF(L8:L8,Y12)","v":0},{"$f":"Z12/(AB4-Z11)","v":0},{"$f":"IF(AA12=0,0,(AA12*((LOG(AA12))/LOG(2))))","v":0},null,{"$f":"N12","v":212},{"$f":"COUNTIF(L8:L9,AD12)","v":0},{"$f":"AE12/(AG4-AE11)","v":0},{"$f":"IF(AF12=0,0,(AF12*((LOG(AF12))/LOG(2))))","v":0},null,{"$f":"N12","v":212},{"$f":"COUNTIF(L9:L9,AI12)","v":0},{"$f":"AJ12/(AL4-AJ11)","v":0},{"$f":"IF(AK12=0,0,(AK12*((LOG(AK12))/LOG(2))))","v":0},null,{"$f":"N12","v":212},{"$f":"COUNTIF(L10:L10,AN12)","v":0},{"$f":"AO12/(AQ4-AO11)","v":0},{"$f":"IF(AP12=0,0,(AP12*((LOG(AP12))/LOG(2))))","v":0},null,{"$f":"N12","v":212},{"$f":"COUNTIF(L11:L11,AS12)","v":0},{"$f":"AT12/(AV4-AT11)","v":0},{"$f":"IF(AU12=0,0,(AU12*((LOG(AU12))/LOG(2))))","v":0}]
[null,null,null,null,null,null,null,null,null,null,null,null,null,221,{"$f":"COUNTIF($L$7:$L$500,N13)","v":0},{"$f":"O13/$Q$4","v":0},{"$f":"IF(P13=0,0,(P13*((LOG(P13))/LOG(2))))","v":0},null,null,{"$f":"N13","v":221},{"$f":"COUNTIF(L7:L7,T13)","v":0},{"$f":"U13/(W4-U11)","v":0},{"$f":"IF(V13=0,0,(V13*((LOG(V13))/LOG(2))))","v":0},null,{"$f":"N13","v":221},{"$f":"COUNTIF(L8:L8,Y13)","v":0},{"$f":"Z13/(AB4-Z11)","v":0},{"$f":"IF(AA13=0,0,(AA13*((LOG(AA13))/LOG(2))))","v":0},null,{"$f":"N13","v":221},{"$f":"COUNTIF(L8:L9,AD13)","v":0},{"$f":"AE13/(AG4-AE11)","v":0},{"$f":"IF(AF13=0,0,(AF13*((LOG(AF13))/LOG(2))))","v":0},null,{"$f":"N13","v":221},{"$f":"COUNTIF(L9:L9,AI13)","v":0},{"$f":"AJ13/(AL4-AJ11)","v":0},{"$f":"IF(AK13=0,0,(AK13*((LOG(AK13))/LOG(2))))","v":0},null,{"$f":"N13","v":221},{"$f":"COUNTIF(L10:L10,AN13)","v":0},{"$f":"AO13/(AQ4-AO11)","v":0},{"$f":"IF(AP13=0,0,(AP13*((LOG(AP13))/LOG(2))))","v":0},null,{"$f":"N13","v":221},{"$f":"COUNTIF(L11:L11,AS13)","v":0},{"$f":"AT13/(AV4-AT11)","v":0},{"$f":"IF(AU13=0,0,(AU13*((LOG(AU13))/LOG(2))))","v":0}]
[null,null,null,null,null,null,null,null,null,null,null,null,null,222,{"$f":"COUNTIF($L$7:$L$500,N14)","v":2},{"$f":"O14/$Q$4","v":0.4},{"$f":"IF(P14=0,0,(P14*((LOG(P14))/LOG(2))))","v":-0.52877123795494496},null,null,{"$f":"N14","v":222},{"$f":"COUNTIF(L7:L7,T14)","v":0},{"$f":"U14/(W4-U11)","v":0},{"$f":"IF(V14=0,0,(V14*((LOG(V14))/LOG(2))))","v":0},null,{"$f":"N14","v":222},{"$f":"COUNTIF(L8:L8,Y14)","v":0},{"$f":"Z14/(AB4-Z11)","v":0},{"$f":"IF(AA14=0,0,(AA14*((LOG(AA14))/LOG(2))))","v":0},null,{"$f":"N14","v":222},{"$f":"COUNTIF(L8:L9,AD14)","v":1},{"$f":"AE14/(AG4-AE11)","v":0.5},{"$f":"IF(AF14=0,0,(AF14*((LOG(AF14))/LOG(2))))","v":-0.5},null,{"$f":"N14","v":222},{"$f":"COUNTIF(L9:L9,AI14)","v":1},{"$f":"AJ14/(AL4-AJ11)","v":1},{"$f":"IF(AK14=0,0,(AK14*((LOG(AK14))/LOG(2))))","v":0},null,{"$f":"N14","v":222},{"$f":"COUNTIF(L10:L10,AN14)","v":1},{"$f":"AO14/(AQ4-AO11)","v":1},{"$f":"IF(AP14=0,0,(AP14*((LOG(AP14))/LOG(2))))","v":0},null,{"$f":"N14","v":222},{"$f":"COUNTIF(L11:L11,AS14)","v":0},{"$f":"AT14/(AV4-AT11)","v":0},{"$f":"IF(AU14=0,0,(AU14*((LOG(AU14))/LOG(2))))","v":0}]
[null,null,null,null,null,null,null,null,null,null,null,null,null,null,null,{"$f":"SUM(P7:P14)","v":1},{"$f":"-SUM(Q7:Q14)","v":0.97095059445466869},null,null,null,null,{"$f":"SUM(V7:V14)","v":1},{"$f":"-SUM(W7:W14)","v":0},null,null,null,{"$f":"SUM(AA7:AA14)","v":1},{"$f":"-SUM(AB7:AB14)","v":0},null,null,null,{"$f":"SUM(AF7:AF14)","v":1},{"$f":"-SUM(AG7:AG14)","v":1},null,null,null,{"$f":"SUM(AK7:AK14)","v":1},{"$f":"-SUM(AL7:AL14)","v":0},null,null,null,{"$f":"SUM(AP7:AP14)","v":1},{"$f":"-SUM(AQ7:AQ14)","v":0},null,null,null,{"$f":"SUM(AU7:AU14)","v":1},{"$f":"-SUM(AV7:AV14)","v":0}]
[null,null,null,null,null,null,null,null,null,null,null,null,null,null,null,"U=",{"$f":"Q15/(LOG(Q4)/LOG(2))","v":0.41816566007905159},null,null,null,null,"U1=",{"$f":"W15/(LOG(W4)/LOG(2))","v":{"$error":"#DIV/0!"}},null,null,null,"U2=",{"$f":"AB15/(LOG(AB4)/LOG(2))","v":{"$error":"#DIV/0!"}},null,null,null,"U3=",{"$f":"AG15/(LOG(AG4)/LOG(2))","v":1},null,null,null,"U4=",{"$f":"AL15/(LOG(AL4)/LOG(2))","v":{"$error":"#DIV/0!"}},null,null,null,"U5=",{"$f":"AQ15/(LOG(AQ4)/LOG(2))","v":{"$error":"#DIV/0!"}},null,null,null,"U6=",{"$f":"AV15/(LOG(AV4)/LOG(2))","v":{"$error":"#DIV/0!"}}]
[]
[]
[null,null,null,null,null,null,null,null,null,null,null,null,null,"Total Target Seq"]
[null,null,null,null,null,null,null,null,null,null,null,null,null,{"$f":"COUNTIF(L7:L11,G3)","v":0},null,1,1,0,1,1,1]
[null,null,null,null,null,null,null,null,null,null,null,null,null,null,null,"% of reinforcement given in 6 equal intervals based on number of trials "]
[null,null,null,null,null,null,null,null,null,null,null,null,null,null,null,"%_1","%_2","%_3","%_4","%_5","%_6"]
[null,null,null,null,null,null,null,null,null,null,null,null,null,null,"target sequence",{"$f":"$G$3","v":211},{"$f":"$G$3","v":211},{"$f":"$G$3","v":211},{"$f":"$G$3","v":211},{"$f":"$G$3","v":211},{"$f":"$G$3","v":211}]
[null,null,null,null,null,null,null,null,null,null,null,null,null,null,"total reinforcement",{"$f":"U11","v":0},{"$f":"Z11","v":0},{"$f":"AE11","v":0},{"$f":"AJ11","v":0},{"$f":"AO11","v":0},{"$f":"AT11","v":0}]
[null,null,null,null,null,null,null,null,null,null,null,null,null,null,"% target"]
[null,null,null,null,null,null,null,null,null,null,null,null,null,null,"CCRF"]
[null,null,null,null,null,null,null,null,null,null,null,null,null,null,"% CCRf"]
[null,null,null,null,null,null,null,null,null,null,null,null,null,null,"average response rate",{"$f":"F7/P20","v":234},{"$f":"(F8-F7)/Q20","v":171},{"$f":"(F8-F8)/R20","v":{"$error":"#DIV/0!"}},{"$f":"(F9-F8)/S20","v":5033},{"$f":"(F10-F9)/T20","v":589},{"$f":"(F11-F10)/U20","v":6695}]

{"sheet":"!N123950.010","index":24,"n_rows":28,"n_cols":48,"rows_kept":28,"cut":false,"hidden":false,"merged":[[4,39,4,42],[5,39,5,40],[4,44,4,47],[5,44,5,45],[4,24,4,27],[5,24,5,25],[4,29,4,32],[5,29,5,30],[4,34,4,37],[5,34,5,35],[1,1,1,2],[5,13,5,14],[18,13,18,14],[19,13,19,14],[4,19,4,22],[5,19,5,20]]}
["Report for:!N123950.010"]
["Date:","<date>"]
["Hen:","<hen>",null,null,null,"Correct Sequence",{"$f":"Start!J2","v":211},null,null,null,null,null,null,null,null,"Total Sequences in Data",{"$f":"4994-COUNTBLANK(L7:L5000)","v":18},null,null,null,null,"Total Sequences in Block Data",{"$f":"COUNTA(L7:L9)","v":3},null,null,null,"Total Sequences in Block Data",{"$f":"COUNTA(L10:L12)","v":3},null,null,null,"Total Sequences in Block Data",{"$f":"COUNTA(L13:L15)","v":3},null,null,null,"Total Sequences in Block Data",{"$f":"COUNTA(L16:L18)","v":3},null,null,null,"Total Sequences in Block Data",{"$f":"COUNTA(L19:L21)","v":3},null,null,null,"Total Sequences in Block Data",{"$f":"COUNTA(L22:L24)","v":3}]
[null,null,null,null,null,null,null,null,null,null,null,null,null,null,null,"Total Sequences in Summary",{"$f":"SUM(O7:O14)","v":18},null,null,null,null,"Total Sequences in Block Summary",{"$f":"SUM(U7:U14)","v":3},null,null,null,"Total Sequences in Block Summary",{"$f":"SUM(Z7:Z14)","v":3},null,null,null,"Total Sequences in Block Summary",{"$f":"SUM(AE7:AE14)","v":3},null,null,null,"Total Sequences in Block Summary",{"$f":"SUM(AJ7:AJ14)","v":3},null,null,null,"Total Sequences in Block Summary",{"$f":"SUM(AO7:AO14)","v":3},null,null,null,"Total Sequences in Block Summary",{"$f":"SUM(AT7:AT14)","v":3}]
[null,null,null,null,null,null,null,null,null,null,null,null,null,null,null,null,null,null,null,"Block 1",null,null,null,null,"Block 2",null,null,null,null,"Block 3",null,null,null,null,"Block 4",null,null,null,null,"Block 5",null,null,null,null,"Block 6"]
["Sequence\nComponent\n1","Time\n1","Sequence\nComponent\n2","Time\n2","Sequence\nComponent\n3","Time\n3","Sequence\nComponent\n4","Time\n4","Sequence\nComponent\n5","Time\n5","Correct?\n0=No 1=Yes","Sequence",null,"Frequency",null,"Relative Frequency","Variability",null,null,"Frequency",null,"Relative Frequency","Variability",null,"Frequency",null,"Relative Frequency","Variability",null,"Frequency",null,"Relative Frequency","Variability",null,"Frequency",null,"Relative Frequency","Variability",null,"Frequency",null,"Relative Frequency","Variability",null,"Frequency",null,"Relative Frequency","Variability"]
[21,37,22,43,24,47,null,null,null,null,0,222,null,111,{"$f":"COUNTIF($L$7:$L$500,N7)","v":10},{"$f":"O7/$Q$4","v":0.55555555555555558},{"$f":"IF(P7=0,0,(P7*((LOG(P7))/LOG(2))))","v":-0.4711093925305278},null,null,{"$f":"N7","v":111},{"$f":"COUNTIF(L7:L9,T7)","v":0},{"$f":"U7/(W4-U11)","v":0},{"$f":"IF(V7=0,0,(V7*((LOG(V7))/LOG(2))))","v":0},null,{"$f":"N7","v":111},{"$f":"COUNTIF(L10:L12,Y7)","v":3},{"$f":"Z7/(AB4-Z11)","v":1},{"$f":"IF(AA7=0,0,(AA7*((LOG(AA7))/LOG(2))))","v":0},null,{"$f":"N7","v":111},{"$f":"COUNTIF(L13:L15,AD7)","v":3},{"$f":"AE7/(AG4-AE11)","v":1},{"$f":"IF(AF7=0,0,(AF7*((LOG(AF7))/LOG(2))))","v":0},null,{"$f":"N7","v":111},{"$f":"COUNTIF(L16:L18,AI7)","v":3},{"$f":"AJ7/(AL4-AJ11)","v":1},{"$f":"IF(AK7=0,0,(AK7*((LOG(AK7))/LOG(2))))","v":0},null,{"$f":"N7","v":111},{"$f":"COUNTIF(L19:L21,AN7)","v":1},{"$f":"AO7/(AQ4-AO11)","v":0.33333333333333331},{"$f":"IF(AP7=0,0,(AP7*((LOG(AP7))/LOG(2))))","v":-0.52832083357371862},null,{"$f":"N7","v":111},{"$f":"COUNTIF(L22:L24,AS7)","v":0},{"$f":"AT7/(AV4-AT11)","v":0},{"$f":"IF(AU7=0,0,(AU7*((LOG(AU7))/LOG(2))))","v":0}]
[21,165,22,181,24,185,null,null,null,null,0,222,null,112,{"$f":"COUNTIF($L$7:$L$500,N8)","v":0},{"$f":"O8/$Q$4","v":0},{"$f":"IF(P8=0,0,(P8*((LOG(P8))/LOG(2))))","v":0},null,null,{"$f":"N8","v":112},{"$f":"COUNTIF(L7:L9,T8)","v":0},{"$f":"U8/(W4-U11)","v":0},{"$f":"IF(V8=0,0,(V8*((LOG(V8))/LOG(2))))","v":0},null,{"$f":"N8","v":112},{"$f":"COUNTIF(L10:L12,Y8)","v":0},{"$f":"Z8/(AB4-Z11)","v":0},{"$f":"IF(AA8=0,0,(AA8*((LOG(AA8))/LOG(2))))","v":0},null,{"$f":"N8","v":112},{"$f":"COUNTIF(L13:L15,AD8)","v":0},{"$f":"AE8/(AG4-AE11)","v":0},{"$f":"IF(AF8=0,0,(AF8*((LOG(AF8))/LOG(2))))","v":0},null,{"$f":"N8","v":112},{"$f":"COUNTIF(L16:L18,AI8)","v":0},{"$f":"AJ8/(AL4-AJ11)","v":0},{"$f":"IF(AK8=0,0,(AK8*((LOG(AK8))/LOG(2))))","v":0},null,{"$f":"N8","v":112},{"$f":"COUNTIF(L19:L21,AN8)","v":0},{"$f":"AO8/(AQ4-AO11)","v":0},{"$f":"IF(AP8=0,0,(AP8*((LOG(AP8))/LOG(2))))","v":0},null,{"$f":"N8","v":112},{"$f":"COUNTIF(L22:L24,AS8)","v":0},{"$f":"AT8/(AV4-AT11)","v":0},{"$f":"IF(AU8=0,0,(AU8*((LOG(AU8))/LOG(2))))","v":0}]
[21,388,22,393,24,398,null,null,null,null,0,222,null,121,{"$f":"COUNTIF($L$7:$L$500,N9)","v":0},{"$f":"O9/$Q$4","v":0},{"$f":"IF(P9=0,0,(P9*((LOG(P9))/LOG(2))))","v":0},null,null,{"$f":"N9","v":121},{"$f":"COUNTIF(L7:L9,T9)","v":0},{"$f":"U9/(W4-U11)","v":0},{"$f":"IF(V9=0,0,(V9*((LOG(V9))/LOG(2))))","v":0},null,{"$f":"N9","v":121},{"$f":"COUNTIF(L10:L12,Y9)","v":0},{"$f":"Z9/(AB4-Z11)","v":0},{"$f":"IF(AA9=0,0,(AA9*((LOG(AA9))/LOG(2))))","v":0},null,{"$f":"N9","v":121},{"$f":"COUNTIF(L13:L15,AD9)","v":0},{"$f":"AE9/(AG4-AE11)","v":0},{"$f":"IF(AF9=0,0,(AF9*((LOG(AF9))/LOG(2))))","v":0},null,{"$f":"N9","v":121},{"$f":"COUNTIF(L16:L18,AI9)","v":0},{"$f":"AJ9/(AL4-AJ11)","v":0},{"$f":"IF(AK9=0,0,(AK9*((LOG(AK9))/LOG(2))))","v":0},null,{"$f":"N9","v":121},{"$f":"COUNTIF(L19:L21,AN9)","v":0},{"$f":"AO9/(AQ4-AO11)","v":0},{"$f":"IF(AP9=0,0,(AP9*((LOG(AP9))/LOG(2))))","v":0},null,{"$f":"N9","v":121},{"$f":"COUNTIF(L22:L24,AS9)","v":0},{"$f":"AT9/(AV4-AT11)","v":0},{"$f":"IF(AU9=0,0,(AU9*((LOG(AU9))/LOG(2))))","v":0}]
[12,506,13,511,13,516,null,null,null,null,0,111,null,122,{"$f":"COUNTIF($L$7:$L$500,N10)","v":0},{"$f":"O10/$Q$4","v":0},{"$f":"IF(P10=0,0,(P10*((LOG(P10))/LOG(2))))","v":0},null,null,{"$f":"N10","v":122},{"$f":"COUNTIF(L7:L9,T10)","v":0},{"$f":"U10/(W4-U11)","v":0},{"$f":"IF(V10=0,0,(V10*((LOG(V10))/LOG(2))))","v":0},null,{"$f":"N10","v":122},{"$f":"COUNTIF(L10:L12,Y10)","v":0},{"$f":"Z10/(AB4-Z11)","v":0},{"$f":"IF(AA10=0,0,(AA10*((LOG(AA10))/LOG(2))))","v":0},null,{"$f":"N10","v":122},{"$f":"COUNTIF(L13:L15,AD10)","v":0},{"$f":"AE10/(AG4-AE11)","v":0},{"$f":"IF(AF10=0,0,(AF10*((LOG(AF10))/LOG(2))))","v":0},null,{"$f":"N10","v":122},{"$f":"COUNTIF(L16:L18,AI10)","v":0},{"$f":"AJ10/(AL4-AJ11)","v":0},{"$f":"IF(AK10=0,0,(AK10*((LOG(AK10))/LOG(2))))","v":0},null,{"$f":"N10","v":122},{"$f":"COUNTIF(L19:L21,AN10)","v":0},{"$f":"AO10/(AQ4-AO11)","v":0},{"$f":"IF(AP10=0,0,(AP10*((LOG(AP10))/LOG(2))))","v":0},null,{"$f":"N10","v":122},{"$f":"COUNTIF(L22:L24,AS10)","v":0},{"$f":"AT10/(AV4-AT11)","v":0},{"$f":"IF(AU10=0,0,(AU10*((LOG(AU10))/LOG(2))))","v":0}]
[12,619,13,624,13,629,null,null,null,null,0,111,null,211,{"$f":"COUNTIF($L$7:$L$500,N11)","v":0},{"$f":"O11/$Q$4","v":0},{"$f":"IF(P11=0,0,(P11*((LOG(P11))/LOG(2))))","v":0},null,null,{"$f":"N11","v":211},{"$f":"COUNTIF(L7:L9,T11)","v":0},null,null,null,{"$f":"N11","v":211},{"$f":"COUNTIF(L10:L12,Y11)","v":0},null,null,null,{"$f":"N11","v":211},{"$f":"COUNTIF(L13:L15,AD11)","v":0},null,null,null,{"$f":"N11","v":211},{"$f":"COUNTIF(L16:L18,AI11)","v":0},null,null,null,{"$f":"N11","v":211},{"$f":"COUNTIF(L19:L21,AN11)","v":0},null,null,null,{"$f":"N11","v":211},{"$f":"COUNTIF(L22:L24,AS11)","v":0}]
[12,732,13,737,13,742,null,null,null,null,0,111,null,212,{"$f":"COUNTIF($L$7:$L$500,N12)","v":0},{"$f":"O12/$Q$4","v":0},{"$f":"IF(P12=0,0,(P12*((LOG(P12))/LOG(2))))","v":0},null,null,{"$f":"N12","v":212},{"$f":"COUNTIF(L7:L9,T12)","v":0},{"$f":"U12/(W4-U11)","v":0},{"$f":"IF(V12=0,0,(V12*((LOG(V12))/LOG(2))))","v":0},null,{"$f":"N12","v":212},{"$f":"COUNTIF(L10:L12,Y12)","v":0},{"$f":"Z12/(AB4-Z11)","v":0},{"$f":"IF(AA12=0,0,(AA12*((LOG(AA12))/LOG(2))))","v":0},null,{"$f":"N12","v":212},{"$f":"COUNTIF(L13:L15,AD12)","v":0},{"$f":"AE12/(AG4-AE11)","v":0},{"$f":"IF(AF12=0,0,(AF12*((LOG(AF12))/LOG(2))))","v":0},null,{"$f":"N12","v":212},{"$f":"COUNTIF(L16:L18,AI12)","v":0},{"$f":"AJ12/(AL4-AJ11)","v":0},{"$f":"IF(AK12=0,0,(AK12*((LOG(AK12))/LOG(2))))","v":0},null,{"$f":"N12","v":212},{"$f":"COUNTIF(L19:L21,AN12)","v":0},{"$f":"AO12/(AQ4-AO11)","v":0},{"$f":"IF(AP12=0,0,(AP12*((LOG(AP12))/LOG(2))))","v":0},null,{"$f":"N12","v":212},{"$f":"COUNTIF(L22:L24,AS12)","v":0},{"$f":"AT12/(AV4-AT11)","v":0},{"$f":"IF(AU12=0,0,(AU12*((LOG(AU12))/LOG(2))))","v":0}]
[12,839,13,846,13,850,null,null,null,null,0,111,null,221,{"$f":"COUNTIF($L$7:$L$500,N13)","v":0},{"$f":"O13/$Q$4","v":0},{"$f":"IF(P13=0,0,(P13*((LOG(P13))/LOG(2))))","v":0},null,null,{"$f":"N13","v":221},{"$f":"COUNTIF(L7:L9,T13)","v":0},{"$f":"U13/(W4-U11)","v":0},{"$f":"IF(V13=0,0,(V13*((LOG(V13))/LOG(2))))","v":0},null,{"$f":"N13","v":221},{"$f":"COUNTIF(L10:L12,Y13)","v":0},{"$f":"Z13/(AB4-Z11)","v":0},{"$f":"IF(AA13=0,0,(AA13*((LOG(AA13))/LOG(2))))","v":0},null,{"$f":"N13","v":221},{"$f":"COUNTIF(L13:L15,AD13)","v":0},{"$f":"AE13/(AG4-AE11)","v":0},{"$f":"IF(AF13=0,0,(AF13*((LOG(AF13))/LOG(2))))","v":0},null,{"$f":"N13","v":221},{"$f":"COUNTIF(L16:L18,AI13)","v":0},{"$f":"AJ13/(AL4-AJ11)","v":0},{"$f":"IF(AK13=0,0,(AK13*((LOG(AK13))/LOG(2))))","v":0},null,{"$f":"N13","v":221},{"$f":"COUNTIF(L19:L21,AN13)","v":0},{"$f":"AO13/(AQ4-AO11)","v":0},{"$f":"IF(AP13=0,0,(AP13*((LOG(AP13))/LOG(2))))","v":0},null,{"$f":"N13","v":221},{"$f":"COUNTIF(L22:L24,AS13)","v":0},{"$f":"AT13/(AV4-AT11)","v":0},{"$f":"IF(AU13=0,0,(AU13*((LOG(AU13))/LOG(2))))","v":0}]
[12,950,13,954,13,959,null,null,null,null,0,111,null,222,{"$f":"COUNTIF($L$7:$L$500,N14)","v":8},{"$f":"O14/$Q$4","v":0.44444444444444442},{"$f":"IF(P14=0,0,(P14*((LOG(P14))/LOG(2))))","v":-0.51996666730769447},null,null,{"$f":"N14","v":222},{"$f":"COUNTIF(L7:L9,T14)","v":3},{"$f":"U14/(W4-U11)","v":1},{"$f":"IF(V14=0,0,(V14*((LOG(V14))/LOG(2))))","v":0},null,{"$f":"N14","v":222},{"$f":"COUNTIF(L10:L12,Y14)","v":0},{"$f":"Z14/(AB4-Z11)","v":0},{"$f":"IF(AA14=0,0,(AA14*((LOG(AA14))/LOG(2))))","v":0},null,{"$f":"N14","v":222},{"$f":"COUNTIF(L13:L15,AD14)","v":0},{"$f":"AE14/(AG4-AE11)","v":0},{"$f":"IF(AF14=0,0,(AF14*((LOG(AF14))/LOG(2))))","v":0},null,{"$f":"N14","v":222},{"$f":"COUNTIF(L16:L18,AI14)","v":0},{"$f":"AJ14/(AL4-AJ11)","v":0},{"$f":"IF(AK14=0,0,(AK14*((LOG(AK14))/LOG(2))))","v":0},null,{"$f":"N14","v":222},{"$f":"COUNTIF(L19:L21,AN14)","v":2},{"$f":"AO14/(AQ4-AO11)","v":0.66666666666666663},{"$f":"IF(AP14=0,0,(AP14*((LOG(AP14))/LOG(2))))","v":-0.38997500048077083},null,{"$f":"N14","v":222},{"$f":"COUNTIF(L22:L24,AS14)","v":3},{"$f":"AT14/(AV4-AT11)","v":1},{"$f":"IF(AU14=0,0,(AU14*((LOG(AU14))/LOG(2))))","v":0}]
[12,1069,13,1074,13,1083,null,null,null,null,0,111,null,null,null,{"$f":"SUM(P7:P14)","v":1},{"$f":"-SUM(Q7:Q14)","v":0.99107605983822222},null,null,null,null,{"$f":"SUM(V7:V14)","v":1},{"$f":"-SUM(W7:W14)","v":0},null,null,null,{"$f":"SUM(AA7:AA14)","v":1},{"$f":"-SUM(AB7:AB14)","v":0},null,null,null,{"$f":"SUM(AF7:AF14)","v":1},{"$f":"-SUM(AG7:AG14)","v":0},null,null,null,{"$f":"SUM(AK7:AK14)","v":1},{"$f":"-SUM(AL7:AL14)","v":0},null,null,null,{"$f":"SUM(AP7:AP14)","v":1},{"$f":"-SUM(AQ7:AQ14)","v":0.91829583405448945},null,null,null,{"$f":"SUM(AU7:AU14)","v":1},{"$f":"-SUM(AV7:AV14)","v":0}]
[12,1185,13,1190,13,1195,null,null,null,null,0,111,null,null,null,"U=",{"$f":"Q15/(LOG(Q4)/LOG(2))","v":0.23767239446642913},null,null,null,null,"U1=",{"$f":"W15/(LOG(W4)/LOG(2))","v":0},null,null,null,"U2=",{"$f":"AB15/(LOG(AB4)/LOG(2))","v":0},null,null,null,"U3=",{"$f":"AG15/(LOG(AG4)/LOG(2))","v":0},null,null,null,"U4=",{"$f":"AL15/(LOG(AL4)/LOG(2))","v":0},null,null,null,"U5=",{"$f":"AQ15/(LOG(AQ4)/LOG(2))","v":0.57938016428569505},null,null,null,"U6=",{"$f":"AV15/(LOG(AV4)/LOG(2))","v":0}]
[12,1296,13,1300,13,1305,null,null,null,null,0,111]
[12,1408,13,1413,13,1417,null,null,null,null,0,111]
[21,1532,22,1538,24,1544,null,null,null,null,0,222,null,"Total Target Seq"]
[21,2006,22,2011,24,2018,null,null,null,null,0,222,null,{"$f":"COUNTIF(L7:L24,G3)","v":0},null,3,3,3,3,3,3]
[12,12430,13,12435,13,12441,null,null,null,null,0,111,null,null,null,"% of reinforcement given in 6 equal intervals based on number of trials "]
[21,16486,22,16505,24,16516,null,null,null,null,0,222,null,null,null,"%_1","%_2","%_3","%_4","%_5","%_6"]
[21,18256,22,18267,24,18276,null,null,null,null,0,222,null,null,"target sequence",{"$f":"$G$3","v":211},{"$f":"$G$3","v":211},{"$f":"$G$3","v":211},{"$f":"$G$3","v":211},{"$f":"$G$3","v":211},{"$f":"$G$3","v":211}]
[21,18407,22,18417,24,18422,null,null,null,null,0,222,null,null,"total reinforcement",{"$f":"U11","v":0},{"$f":"Z11","v":0},{"$f":"AE11","v":0},{"$f":"AJ11","v":0},{"$f":"AO11","v":0},{"$f":"AT11","v":0}]
[null,null,null,null,null,null,null,null,null,null,null,null,null,null,"% target"]
[null,null,null,null,null,null,null,null,null,null,null,null,null,null,"CCRF"]
[null,null,null,null,null,null,null,null,null,null,null,null,null,null,"% CCRf"]
[null,null,null,null,null,null,null,null,null,null,null,null,null,null,"average response rate",{"$f":"F9/P20","v":132.66666666666666},{"$f":"(F12-F9)/Q20","v":114.66666666666667},{"$f":"(F15-F12)/R20","v":113.66666666666667},{"$f":"(F18-F15)/S20","v":111.33333333333333},{"$f":"(F21-F18)/T20","v":3674.6666666666665},{"$f":"(F24-F21)/U20","v":1993.6666666666667}]

{"sheet":"!N124850.010","index":25,"n_rows":28,"n_cols":48,"rows_kept":28,"cut":false,"hidden":false,"merged":[[4,39,4,42],[5,39,5,40],[4,44,4,47],[5,44,5,45],[4,24,4,27],[5,24,5,25],[4,29,4,32],[5,29,5,30],[4,34,4,37],[5,34,5,35],[1,1,1,2],[5,13,5,14],[18,13,18,14],[19,13,19,14],[4,19,4,22],[5,19,5,20]]}
["Report for:!N124850.010"]
["Date:","<date>"]
["Hen:","<hen>",null,null,null,"Correct Sequence",{"$f":"Start!J2","v":211},null,null,null,null,null,null,null,null,"Total Sequences in Data",{"$f":"4994-COUNTBLANK(L7:L5000)","v":9},null,null,null,null,"Total Sequences in Block Data",{"$f":"COUNTA(L7:L8)","v":2},null,null,null,"Total Sequences in Block Data",{"$f":"COUNTA(L9:L9)","v":1},null,null,null,"Total Sequences in Block Data",{"$f":"COUNTA(L10:L11)","v":2},null,null,null,"Total Sequences in Block Data",{"$f":"COUNTA(L12:L12)","v":1},null,null,null,"Total Sequences in Block Data",{"$f":"COUNTA(L13:L14)","v":2},null,null,null,"Total Sequences in Block Data",{"$f":"COUNTA(L15:L15)","v":1}]
[null,null,null,null,null,null,null,null,null,null,null,null,null,null,null,"Total Sequences in Summary",{"$f":"SUM(O7:O14)","v":9},null,null,null,null,"Total Sequences in Block Summary",{"$f":"SUM(U7:U14)","v":2},null,null,null,"Total Sequences in Block Summary",{"$f":"SUM(Z7:Z14)","v":1},null,null,null,"Total Sequences in Block Summary",{"$f":"SUM(AE7:AE14)","v":2},null,null,null,"Total Sequences in Block Summary",{"$f":"SUM(AJ7:AJ14)","v":1},null,null,null,"Total Sequences in Block Summary",{"$f":"SUM(AO7:AO14)","v":2},null,null,null,"Total Sequences in Block Summary",{"$f":"SUM(AT7:AT14)","v":1}]
[null,null,null,null,null,null,null,null,null,null,null,null,null,null,null,null,null,null,null,"Block 1",null,null,null,null,"Block 2",null,null,null,null,"Block 3",null,null,null,null,"Block 4",null,null,null,null,"Block 5",null,null,null,null,"Block 6"]
["Sequence\nComponent\n1","Time\n1","Sequence\nComponent\n2","Time\n2","Sequence\nComponent\n3","Time\n3","Sequence\nComponent\n4","Time\n4","Sequence\nComponent\n5","Time\n5","Correct?\n0=No 1=Yes","Sequence",null,"Frequency",null,"Relative Frequency","Variability",null,null,"Frequency",null,"Relative Frequency","Variability",null,"Frequency",null,"Relative Frequency","Variability",null,"Frequency",null,"Relative Frequency","Variability",null,"Frequency",null,"Relative Frequency","Variability",null,"Frequency",null,"Relative Frequency","Variability",null,"Frequency",null,"Relative Frequency","Variability"]
[21,16,22,21,24,25,null,null,null,null,0,222,null,111,{"$f":"COUNTIF($L$7:$L$500,N7)","v":5},{"$f":"O7/$Q$4","v":0.55555555555555558},{"$f":"IF(P7=0,0,(P7*((LOG(P7))/LOG(2))))","v":-0.4711093925305278},null,null,{"$f":"N7","v":111},{"$f":"COUNTIF(L7:L8,T7)","v":1},{"$f":"U7/(W4-U11)","v":0.5},{"$f":"IF(V7=0,0,(V7*((LOG(V7))/LOG(2))))","v":-0.5},null,{"$f":"N7","v":111},{"$f":"COUNTIF(L9:L9,Y7)","v":1},{"$f":"Z7/(AB4-Z11)","v":1},{"$f":"IF(AA7=0,0,(AA7*((LOG(AA7))/LOG(2))))","v":0},null,{"$f":"N7","v":111},{"$f":"COUNTIF(L10:L11,AD7)","v":2},{"$f":"AE7/(AG4-AE11)","v":1},{"$f":"IF(AF7=0,0,(AF7*((LOG(AF7))/LOG(2))))","v":0},null,{"$f":"N7","v":111},{"$f":"COUNTIF(L12:L12,AI7)","v":0},{"$f":"AJ7/(AL4-AJ11)","v":0},{"$f":"IF(AK7=0,0,(AK7*((LOG(AK7))/LOG(2))))","v":0},null,{"$f":"N7","v":111},{"$f":"COUNTIF(L13:L14,AN7)","v":0},{"$f":"AO7/(AQ4-AO11)","v":0},{"$f":"IF(AP7=0,0,(AP7*((LOG(AP7))/LOG(2))))","v":0},null,{"$f":"N7","v":111},{"$f":"COUNTIF(L15:L15,AS7)","v":1},{"$f":"AT7/(AV4-AT11)","v":1},{"$f":"IF(AU7=0,0,(AU7*((LOG(AU7))/LOG(2))))","v":0}]
[12,140,13,144,13,149,null,null,null,null,0,111,null,112,{"$f":"COUNTIF($L$7:$L$500,N8)","v":0},{"$f":"O8/$Q$4","v":0},{"$f":"IF(P8=0,0,(P8*((LOG(P8))/LOG(2))))","v":0},null,null,{"$f":"N8","v":112},{"$f":"COUNTIF(L7:L8,T8)","v":0},{"$f":"U8/(W4-U11)","v":0},{"$f":"IF(V8=0,0,(V8*((LOG(V8))/LOG(2))))","v":0},null,{"$f":"N8","v":112},{"$f":"COUNTIF(L9:L9,Y8)","v":0},{"$f":"Z8/(AB4-Z11)","v":0},{"$f":"IF(AA8=0,0,(AA8*((LOG(AA8))/LOG(2))))","v":0},null,{"$f":"N8","v":112},{"$f":"COUNTIF(L10:L11,AD8)","v":0},{"$f":"AE8/(AG4-AE11)","v":0},{"$f":"IF(AF8=0,0,(AF8*((LOG(AF8))/LOG(2))))","v":0},null,{"$f":"N8","v":112},{"$f":"COUNTIF(L12:L12,AI8)","v":0},{"$f":"AJ8/(AL4-AJ11)","v":0},{"$f":"IF(AK8=0,0,(AK8*((LOG(AK8))/LOG(2))))","v":0},null,{"$f":"N8","v":112},{"$f":"COUNTIF(L13:L14,AN8)","v":0},{"$f":"AO8/(AQ4-AO11)","v":0},{"$f":"IF(AP8=0,0,(AP8*((LOG(AP8))/LOG(2))))","v":0},null,{"$f":"N8","v":112},{"$f":"COUNTIF(L15:L15,AS8)","v":0},{"$f":"AT8/(AV4-AT11)","v":0},{"$f":"IF(AU8=0,0,(AU8*((LOG(AU8))/LOG(2))))","v":0}]
[12,400,13,405,13,409,null,null,null,null,0,111,null,121,{"$f":"COUNTIF($L$7:$L$500,N9)","v":0},{"$f":"O9/$Q$4","v":0},{"$f":"IF(P9=0,0,(P9*((LOG(P9))/LOG(2))))","v":0},null,null,{"$f":"N9","v":121},{"$f":"COUNTIF(L7:L8,T9)","v":0},{"$f":"U9/(W4-U11)","v":0},{"$f":"IF(V9=0,0,(V9*((LOG(V9))/LOG(2))))","v":0},null,{"$f":"N9","v":121},{"$f":"COUNTIF(L9:L9,Y9)","v":0},{"$f":"Z9/(AB4-Z11)","v":0},{"$f":"IF(AA9=0,0,(AA9*((LOG(AA9))/LOG(2))))","v":0},null,{"$f":"N9","v":121},{"$f":"COUNTIF(L10:L11,AD9)","v":0},{"$f":"AE9/(AG4-AE11)","v":0},{"$f":"IF(AF9=0,0,(AF9*((LOG(AF9))/LOG(2))))","v":0},null,{"$f":"N9","v":121},{"$f":"COUNTIF(L12:L12,AI9)","v":0},{"$f":"AJ9/(AL4-AJ11)","v":0},{"$f":"IF(AK9=0,0,(AK9*((LOG(AK9))/LOG(2))))","v":0},null,{"$f":"N9","v":121},{"$f":"COUNTIF(L13:L14,AN9)","v":0},{"$f":"AO9/(AQ4-AO11)","v":0},{"$f":"IF(AP9=0,0,(AP9*((LOG(AP9))/LOG(2))))","v":0},null,{"$f":"N9","v":121},{"$f":"COUNTIF(L15:L15,AS9)","v":0},{"$f":"AT9/(AV4-AT11)","v":0},{"$f":"IF(AU9=0,0,(AU9*((LOG(AU9))/LOG(2))))","v":0}]
[12,518,13,523,13,528,null,null,null,null,0,111,null,122,{"$f":"COUNTIF($L$7:$L$500,N10)","v":0},{"$f":"O10/$Q$4","v":0},{"$f":"IF(P10=0,0,(P10*((LOG(P10))/LOG(2))))","v":0},null,null,{"$f":"N10","v":122},{"$f":"COUNTIF(L7:L8,T10)","v":0},{"$f":"U10/(W4-U11)","v":0},{"$f":"IF(V10=0,0,(V10*((LOG(V10))/LOG(2))))","v":0},null,{"$f":"N10","v":122},{"$f":"COUNTIF(L9:L9,Y10)","v":0},{"$f":"Z10/(AB4-Z11)","v":0},{"$f":"IF(AA10=0,0,(AA10*((LOG(AA10))/LOG(2))))","v":0},null,{"$f":"N10","v":122},{"$f":"COUNTIF(L10:L11,AD10)","v":0},{"$f":"AE10/(AG4-AE11)","v":0},{"$f":"IF(AF10=0,0,(AF10*((LOG(AF10))/LOG(2))))","v":0},null,{"$f":"N10","v":122},{"$f":"COUNTIF(L12:L12,AI10)","v":0},{"$f":"AJ10/(AL4-AJ11)","v":0},{"$f":"IF(AK10=0,0,(AK10*((LOG(AK10))/LOG(2))))","v":0},null,{"$f":"N10","v":122},{"$f":"COUNTIF(L13:L14,AN10)","v":0},{"$f":"AO10/(AQ4-AO11)","v":0},{"$f":"IF(AP10=0,0,(AP10*((LOG(AP10))/LOG(2))))","v":0},null,{"$f":"N10","v":122},{"$f":"COUNTIF(L15:L15,AS10)","v":0},{"$f":"AT10/(AV4-AT11)","v":0},{"$f":"IF(AU10=0,0,(AU10*((LOG(AU10))/LOG(2))))","v":0}]
[12,655,13,660,13,664,null,null,null,null,0,111,null,211,{"$f":"COUNTIF($L$7:$L$500,N11)","v":0},{"$f":"O11/$Q$4","v":0},{"$f":"IF(P11=0,0,(P11*((LOG(P11))/LOG(2))))","v":0},null,null,{"$f":"N11","v":211},{"$f":"COUNTIF(L7:L8,T11)","v":0},null,null,null,{"$f":"N11","v":211},{"$f":"COUNTIF(L9:L9,Y11)","v":0},null,null,null,{"$f":"N11","v":211},{"$f":"COUNTIF(L10:L11,AD11)","v":0},null,null,null,{"$f":"N11","v":211},{"$f":"COUNTIF(L12:L12,AI11)","v":0},null,null,null,{"$f":"N11","v":211},{"$f":"COUNTIF(L13:L14,AN11)","v":0},null,null,null,{"$f":"N11","v":211},{"$f":"COUNTIF(L15:L15,AS11)","v":0}]
[21,15633,22,15639,24,15646,null,null,null,null,0,222,null,212,{"$f":"COUNTIF($L$7:$L$500,N12)","v":0},{"$f":"O12/$Q$4","v":0},{"$f":"IF(P12=0,0,(P12*((LOG(P12))/LOG(2))))","v":0},null,null,{"$f":"N12","v":212},{"$f":"COUNTIF(L7:L8,T12)","v":0},{"$f":"U12/(W4-U11)","v":0},{"$f":"IF(V12=0,0,(V12*((LOG(V12))/LOG(2))))","v":0},null,{"$f":"N12","v":212},{"$f":"COUNTIF(L9:L9,Y12)","v":0},{"$f":"Z12/(AB4-Z11)","v":0},{"$f":"IF(AA12=0,0,(AA12*((LOG(AA12))/LOG(2))))","v":0},null,{"$f":"N12","v":212},{"$f":"COUNTIF(L10:L11,AD12)","v":0},{"$f":"AE12/(AG4-AE11)","v":0},{"$f":"IF(AF12=0,0,(AF12*((LOG(AF12))/LOG(2))))","v":0},null,{"$f":"N12","v":212},{"$f":"COUNTIF(L12:L12,AI12)","v":0},{"$f":"AJ12/(AL4-AJ11)","v":0},{"$f":"IF(AK12=0,0,(AK12*((LOG(AK12))/LOG(2))))","v":0},null,{"$f":"N12","v":212},{"$f":"COUNTIF(L13:L14,AN12)","v":0},{"$f":"AO12/(AQ4-AO11)","v":0},{"$f":"IF(AP12=0,0,(AP12*((LOG(AP12))/LOG(2))))","v":0},null,{"$f":"N12","v":212},{"$f":"COUNTIF(L15:L15,AS12)","v":0},{"$f":"AT12/(AV4-AT11)","v":0},{"$f":"IF(AU12=0,0,(AU12*((LOG(AU12))/LOG(2))))","v":0}]
[21,15779,22,15785,24,15791,null,null,null,null,0,222,null,221,{"$f":"COUNTIF($L$7:$L$500,N13)","v":0},{"$f":"O13/$Q$4","v":0},{"$f":"IF(P13=0,0,(P13*((LOG(P13))/LOG(2))))","v":0},null,null,{"$f":"N13","v":221},{"$f":"COUNTIF(L7:L8,T13)","v":0},{"$f":"U13/(W4-U11)","v":0},{"$f":"IF(V13=0,0,(V13*((LOG(V13))/LOG(2))))","v":0},null,{"$f":"N13","v":221},{"$f":"COUNTIF(L9:L9,Y13)","v":0},{"$f":"Z13/(AB4-Z11)","v":0},{"$f":"IF(AA13=0,0,(AA13*((LOG(AA13))/LOG(2))))","v":0},null,{"$f":"N13","v":221},{"$f":"COUNTIF(L10:L11,AD13)","v":0},{"$f":"AE13/(AG4-AE11)","v":0},{"$f":"IF(AF13=0,0,(AF13*((LOG(AF13))/LOG(2))))","v":0},null,{"$f":"N13","v":221},{"$f":"COUNTIF(L12:L12,AI13)","v":0},{"$f":"AJ13/(AL4-AJ11)","v":0},{"$f":"IF(AK13=0,0,(AK13*((LOG(AK13))/LOG(2))))","v":0},null,{"$f":"N13","v":221},{"$f":"COUNTIF(L13:L14,AN13)","v":0},{"$f":"AO13/(AQ4-AO11)","v":0},{"$f":"IF(AP13=0,0,(AP13*((LOG(AP13))/LOG(2))))","v":0},null,{"$f":"N13","v":221},{"$f":"COUNTIF(L15:L15,AS13)","v":0},{"$f":"AT13/(AV4-AT11)","v":0},{"$f":"IF(AU13=0,0,(AU13*((LOG(AU13))/LOG(2))))","v":0}]
[21,18856,22,18863,24,18870,null,null,null,null,0,222,null,222,{"$f":"COUNTIF($L$7:$L$500,N14)","v":4},{"$f":"O14/$Q$4","v":0.44444444444444442},{"$f":"IF(P14=0,0,(P14*((LOG(P14))/LOG(2))))","v":-0.51996666730769447},null,null,{"$f":"N14","v":222},{"$f":"COUNTIF(L7:L8,T14)","v":1},{"$f":"U14/(W4-U11)","v":0.5},{"$f":"IF(V14=0,0,(V14*((LOG(V14))/LOG(2))))","v":-0.5},null,{"$f":"N14","v":222},{"$f":"COUNTIF(L9:L9,Y14)","v":0},{"$f":"Z14/(AB4-Z11)","v":0},{"$f":"IF(AA14=0,0,(AA14*((LOG(AA14))/LOG(2))))","v":0},null,{"$f":"N14","v":222},{"$f":"COUNTIF(L10:L11,AD14)","v":0},{"$f":"AE14/(AG4-AE11)","v":0},{"$f":"IF(AF14=0,0,(AF14*((LOG(AF14))/LOG(2))))","v":0},null,{"$f":"N14","v":222},{"$f":"COUNTIF(L12:L12,AI14)","v":1},{"$f":"AJ14/(AL4-AJ11)","v":1},{"$f":"IF(AK14=0,0,(AK14*((LOG(AK14))/LOG(2))))","v":0},null,{"$f":"N14","v":222},{"$f":"COUNTIF(L13:L14,AN14)","v":2},{"$f":"AO14/(AQ4-AO11)","v":1},{"$f":"IF(AP14=0,0,(AP14*((LOG(AP14))/LOG(2))))","v":0},null,{"$f":"N14","v":222},{"$f":"COUNTIF(L15:L15,AS14)","v":0},{"$f":"AT14/(AV4-AT11)","v":0},{"$f":"IF(AU14=0,0,(AU14*((LOG(AU14))/LOG(2))))","v":0}]
[12,19081,13,19100,13,19105,null,null,null,null,0,111,null,null,null,{"$f":"SUM(P7:P14)","v":1},{"$f":"-SUM(Q7:Q14)","v":0.99107605983822222},null,null,null,null,{"$f":"SUM(V7:V14)","v":1},{"$f":"-SUM(W7:W14)","v":1},null,null,null,{"$f":"SUM(AA7:AA14)","v":1},{"$f":"-SUM(AB7:AB14)","v":0},null,null,null,{"$f":"SUM(AF7:AF14)","v":1},{"$f":"-SUM(AG7:AG14)","v":0},null,null,null,{"$f":"SUM(AK7:AK14)","v":1},{"$f":"-SUM(AL7:AL14)","v":0},null,null,null,{"$f":"SUM(AP7:AP14)","v":1},{"$f":"-SUM(AQ7:AQ14)","v":0},null,null,null,{"$f":"SUM(AU7:AU14)","v":1},{"$f":"-SUM(AV7:AV14)","v":0}]
[null,null,null,null,null,null,null,null,null,null,null,null,null,null,null,"U=",{"$f":"Q15/(LOG(Q4)/LOG(2))","v":0.3126496871021503},null,null,null,null,"U1=",{"$f":"W15/(LOG(W4)/LOG(2))","v":1},null,null,null,"U2=",{"$f":"AB15/(LOG(AB4)/LOG(2))","v":{"$error":"#DIV/0!"}},null,null,null,"U3=",{"$f":"AG15/(LOG(AG4)/LOG(2))","v":0},null,null,null,"U4=",{"$f":"AL15/(LOG(AL4)/LOG(2))","v":{"$error":"#DIV/0!"}},null,null,null,"U5=",{"$f":"AQ15/(LOG(AQ4)/LOG(2))","v":0},null,null,null,"U6=",{"$f":"AV15/(LOG(AV4)/LOG(2))","v":{"$error":"#DIV/0!"}}]
[]
[]
[null,null,null,null,null,null,null,null,null,null,null,null,null,"Total Target Seq"]
[null,null,null,null,null,null,null,null,null,null,null,null,null,{"$f":"COUNTIF(L7:L15,G3)","v":0},null,2,1,2,1,2,1]
[null,null,null,null,null,null,null,null,null,null,null,null,null,null,null,"% of reinforcement given in 6 equal intervals based on number of trials "]
[null,null,null,null,null,null,null,null,null,null,null,null,null,null,null,"%_1","%_2","%_3","%_4","%_5","%_6"]
[null,null,null,null,null,null,null,null,null,null,null,null,null,null,"target sequence",{"$f":"$G$3","v":211},{"$f":"$G$3","v":211},{"$f":"$G$3","v":211},{"$f":"$G$3","v":211},{"$f":"$G$3","v":211},{"$f":"$G$3","v":211}]
[null,null,null,null,null,null,null,null,null,null,null,null,null,null,"total reinforcement",{"$f":"U11","v":0},{"$f":"Z11","v":0},{"$f":"AE11","v":0},{"$f":"AJ11","v":0},{"$f":"AO11","v":0},{"$f":"AT11","v":0}]
[null,null,null,null,null,null,null,null,null,null,null,null,null,null,"% target"]
[null,null,null,null,null,null,null,null,null,null,null,null,null,null,"CCRF"]
[null,null,null,null,null,null,null,null,null,null,null,null,null,null,"% CCRf"]
[null,null,null,null,null,null,null,null,null,null,null,null,null,null,"average response rate",{"$f":"F8/P20","v":74.5},{"$f":"(F9-F8)/Q20","v":260},{"$f":"(F11-F9)/R20","v":127.5},{"$f":"(F12-F11)/S20","v":14982},{"$f":"(F14-F12)/T20","v":1612},{"$f":"(F15-F14)/U20","v":235}]

{"sheet":"!N125850.010","index":26,"n_rows":42,"n_cols":48,"rows_kept":42,"cut":false,"hidden":false,"merged":[[4,39,4,42],[5,39,5,40],[4,44,4,47],[5,44,5,45],[4,24,4,27],[5,24,5,25],[4,29,4,32],[5,29,5,30],[4,34,4,37],[5,34,5,35],[1,1,1,2],[5,13,5,14],[18,13,18,14],[19,13,19,14],[4,19,4,22],[5,19,5,20]]}
["Report for:!N125850.010"]
["Date:","<date>"]
["Hen:","<hen>",null,null,null,"Correct Sequence",{"$f":"Start!J2","v":211},null,null,null,null,null,null,null,null,"Total Sequences in Data",{"$f":"4994-COUNTBLANK(L7:L5000)","v":36},null,null,null,null,"Total Sequences in Block Data",{"$f":"COUNTA(L7:L12)","v":6},null,null,null,"Total Sequences in Block Data",{"$f":"COUNTA(L13:L18)","v":6},null,null,null,"Total Sequences in Block Data",{"$f":"COUNTA(L19:L24)","v":6},null,null,null,"Total Sequences in Block Data",{"$f":"COUNTA(L25:L30)","v":6},null,null,null,"Total Sequences in Block Data",{"$f":"COUNTA(L31:L36)","v":6},null,null,null,"Total Sequences in Block Data",{"$f":"COUNTA(L37:L42)","v":6}]
[null,null,null,null,null,null,null,null,null,null,null,null,null,null,null,"Total Sequences in Summary",{"$f":"SUM(O7:O14)","v":36},null,null,null,null,"Total Sequences in Block Summary",{"$f":"SUM(U7:U14)","v":6},null,null,null,"Total Sequences in Block Summary",{"$f":"SUM(Z7:Z14)","v":6},null,null,null,"Total Sequences in Block Summary",{"$f":"SUM(AE7:AE14)","v":6},null,null,null,"Total Sequences in Block Summary",{"$f":"SUM(AJ7:AJ14)","v":6},null,null,null,"Total Sequences in Block Summary",{"$f":"SUM(AO7:AO14)","v":6},null,null,null,"Total Sequences in Block Summary",{"$f":"SUM(AT7:AT14)","v":6}]
[null,null,null,null,null,null,null,null,null,null,null,null,null,null,null,null,null,null,null,"Block 1",null,null,null,null,"Block 2",null,null,null,null,"Block 3",null,null,null,null,"Block 4",null,null,null,null,"Block 5",null,null,null,null,"Block 6"]
["Sequence\nComponent\n1","Time\n1","Sequence\nComponent\n2","Time\n2","Sequence\nComponent\n3","Time\n3","Sequence\nComponent\n4","Time\n4","Sequence\nComponent\n5","Time\n5","Correct?\n0=No 1=Yes","Sequence",null,"Frequency",null,"Relative Frequency","Variability",null,null,"Frequency",null,"Relative Frequency","Variability",null,"Frequency",null,"Relative Frequency","Variability",null,"Frequency",null,"Relative Frequency","Variability",null,"Frequency",null,"Relative Frequency","Variability",null,"Frequency",null,"Relative Frequency","Variability",null,"Frequency",null,"Relative Frequency","Variability"]
[12,252,13,257,13,262,null,null,null,null,0,111,null,111,{"$f":"COUNTIF($L$7:$L$500,N7)","v":15},{"$f":"O7/$Q$4","v":0.41666666666666669},{"$f":"IF(P7=0,0,(P7*((LOG(P7))/LOG(2))))","v":-0.52626433576408083},null,null,{"$f":"N7","v":111},{"$f":"COUNTIF(L7:L12,T7)","v":3},{"$f":"U7/(W4-U11)","v":0.5},{"$f":"IF(V7=0,0,(V7*((LOG(V7))/LOG(2))))","v":-0.5},null,{"$f":"N7","v":111},{"$f":"COUNTIF(L13:L18,Y7)","v":3},{"$f":"Z7/(AB4-Z11)","v":0.5},{"$f":"IF(AA7=0,0,(AA7*((LOG(AA7))/LOG(2))))","v":-0.5},null,{"$f":"N7","v":111},{"$f":"COUNTIF(L19:L24,AD7)","v":0},{"$f":"AE7/(AG4-AE11)","v":0},{"$f":"IF(AF7=0,0,(AF7*((LOG(AF7))/LOG(2))))","v":0},null,{"$f":"N7","v":111},{"$f":"COUNTIF(L25:L30,AI7)","v":4},{"$f":"AJ7/(AL4-AJ11)","v":0.66666666666666663},{"$f":"IF(AK7=0,0,(AK7*((LOG(AK7))/LOG(2))))","v":-0.38997500048077083},null,{"$f":"N7","v":111},{"$f":"COUNTIF(L31:L36,AN7)","v":2},{"$f":"AO7/(AQ4-AO11)","v":0.33333333333333331},{"$f":"IF(AP7=0,0,(AP7*((LOG(AP7))/LOG(2))))","v":-0.52832083357371862},null,{"$f":"N7","v":111},{"$f":"COUNTIF(L37:L42,AS7)","v":3},{"$f":"AT7/(AV4-AT11)","v":0.5},{"$f":"IF(AU7=0,0,(AU7*((LOG(AU7))/LOG(2))))","v":-0.5}]
[21,403,22,408,24,416,null,null,null,null,0,222,null,112,{"$f":"COUNTIF($L$7:$L$500,N8)","v":0},{"$f":"O8/$Q$4","v":0},{"$f":"IF(P8=0,0,(P8*((LOG(P8))/LOG(2))))","v":0},null,null,{"$f":"N8","v":112},{"$f":"COUNTIF(L7:L12,T8)","v":0},{"$f":"U8/(W4-U11)","v":0},{"$f":"IF(V8=0,0,(V8*((LOG(V8))/LOG(2))))","v":0},null,{"$f":"N8","v":112},{"$f":"COUNTIF(L13:L18,Y8)","v":0},{"$f":"Z8/(AB4-Z11)","v":0},{"$f":"IF(AA8=0,0,(AA8*((LOG(AA8))/LOG(2))))","v":0},null,{"$f":"N8","v":112},{"$f":"COUNTIF(L19:L24,AD8)","v":0},{"$f":"AE8/(AG4-AE11)","v":0},{"$f":"IF(AF8=0,0,(AF8*((LOG(AF8))/LOG(2))))","v":0},null,{"$f":"N8","v":112},{"$f":"COUNTIF(L25:L30,AI8)","v":0},{"$f":"AJ8/(AL4-AJ11)","v":0},{"$f":"IF(AK8=0,0,(AK8*((LOG(AK8))/LOG(2))))","v":0},null,{"$f":"N8","v":112},{"$f":"COUNTIF(L31:L36,AN8)","v":0},{"$f":"AO8/(AQ4-AO11)","v":0},{"$f":"IF(AP8=0,0,(AP8*((LOG(AP8))/LOG(2))))","v":0},null,{"$f":"N8","v":112},{"$f":"COUNTIF(L37:L42,AS8)","v":0},{"$f":"AT8/(AV4-AT11)","v":0},{"$f":"IF(AU8=0,0,(AU8*((LOG(AU8))/LOG(2))))","v":0}]
[21,523,22,528,24,533,null,null,null,null,0,222,null,121,{"$f":"COUNTIF($L$7:$L$500,N9)","v":0},{"$f":"O9/$Q$4","v":0},{"$f":"IF(P9=0,0,(P9*((LOG(P9))/LOG(2))))","v":0},null,null,{"$f":"N9","v":121},{"$f":"COUNTIF(L7:L12,T9)","v":0},{"$f":"U9/(W4-U11)","v":0},{"$f":"IF(V9=0,0,(V9*((LOG(V9))/LOG(2))))","v":0},null,{"$f":"N9","v":121},{"$f":"COUNTIF(L13:L18,Y9)","v":0},{"$f":"Z9/(AB4-Z11)","v":0},{"$f":"IF(AA9=0,0,(AA9*((LOG(AA9))/LOG(2))))","v":0},null,{"$f":"N9","v":121},{"$f":"COUNTIF(L19:L24,AD9)","v":0},{"$f":"AE9/(AG4-AE11)","v":0},{"$f":"IF(AF9=0,0,(AF9*((LOG(AF9))/LOG(2))))","v":0},null,{"$f":"N9","v":121},{"$f":"COUNTIF(L25:L30,AI9)","v":0},{"$f":"AJ9/(AL4-AJ11)","v":0},{"$f":"IF(AK9=0,0,(AK9*((LOG(AK9))/LOG(2))))","v":0},null,{"$f":"N9","v":121},{"$f":"COUNTIF(L31:L36,AN9)","v":0},{"$f":"AO9/(AQ4-AO11)","v":0},{"$f":"IF(AP9=0,0,(AP9*((LOG(AP9))/LOG(2))))","v":0},null,{"$f":"N9","v":121},{"$f":"COUNTIF(L37:L42,AS9)","v":0},{"$f":"AT9/(AV4-AT11)","v":0},{"$f":"IF(AU9=0,0,(AU9*((LOG(AU9))/LOG(2))))","v":0}]
[12,636,13,641,13,646,null,null,null,null,0,111,null,122,{"$f":"COUNTIF($L$7:$L$500,N10)","v":1},{"$f":"O10/$Q$4","v":2.7777777777777776E-2},{"$f":"IF(P10=0,0,(P10*((LOG(P10))/LOG(2))))","v":-0.14360902781784199},null,null,{"$f":"N10","v":122},{"$f":"COUNTIF(L7:L12,T10)","v":0},{"$f":"U10/(W4-U11)","v":0},{"$f":"IF(V10=0,0,(V10*((LOG(V10))/LOG(2))))","v":0},null,{"$f":"N10","v":122},{"$f":"COUNTIF(L13:L18,Y10)","v":0},{"$f":"Z10/(AB4-Z11)","v":0},{"$f":"IF(AA10=0,0,(AA10*((LOG(AA10))/LOG(2))))","v":0},null,{"$f":"N10","v":122},{"$f":"COUNTIF(L19:L24,AD10)","v":1},{"$f":"AE10/(AG4-AE11)","v":0.16666666666666666},{"$f":"IF(AF10=0,0,(AF10*((LOG(AF10))/LOG(2))))","v":-0.43082708345352599},null,{"$f":"N10","v":122},{"$f":"COUNTIF(L25:L30,AI10)","v":0},{"$f":"AJ10/(AL4-AJ11)","v":0},{"$f":"IF(AK10=0,0,(AK10*((LOG(AK10))/LOG(2))))","v":0},null,{"$f":"N10","v":122},{"$f":"COUNTIF(L31:L36,AN10)","v":0},{"$f":"AO10/(AQ4-AO11)","v":0},{"$f":"IF(AP10=0,0,(AP10*((LOG(AP10))/LOG(2))))","v":0},null,{"$f":"N10","v":122},{"$f":"COUNTIF(L37:L42,AS10)","v":0},{"$f":"AT10/(AV4-AT11)","v":0},{"$f":"IF(AU10=0,0,(AU10*((LOG(AU10))/LOG(2))))","v":0}]
[21,759,22,764,24,769,null,null,null,null,0,222,null,211,{"$f":"COUNTIF($L$7:$L$500,N11)","v":0},{"$f":"O11/$Q$4","v":0},{"$f":"IF(P11=0,0,(P11*((LOG(P11))/LOG(2))))","v":0},null,null,{"$f":"N11","v":211},{"$f":"COUNTIF(L7:L12,T11)","v":0},null,null,null,{"$f":"N11","v":211},{"$f":"COUNTIF(L13:L18,Y11)","v":0},null,null,null,{"$f":"N11","v":211},{"$f":"COUNTIF(L19:L24,AD11)","v":0},null,null,null,{"$f":"N11","v":211},{"$f":"COUNTIF(L25:L30,AI11)","v":0},null,null,null,{"$f":"N11","v":211},{"$f":"COUNTIF(L31:L36,AN11)","v":0},null,null,null,{"$f":"N11","v":211},{"$f":"COUNTIF(L37:L42,AS11)","v":0}]
[12,881,13,885,13,890,null,null,null,null,0,111,null,212,{"$f":"COUNTIF($L$7:$L$500,N12)","v":0},{"$f":"O12/$Q$4","v":0},{"$f":"IF(P12=0,0,(P12*((LOG(P12))/LOG(2))))","v":0},null,null,{"$f":"N12","v":212},{"$f":"COUNTIF(L7:L12,T12)","v":0},{"$f":"U12/(W4-U11)","v":0},{"$f":"IF(V12=0,0,(V12*((LOG(V12))/LOG(2))))","v":0},null,{"$f":"N12","v":212},{"$f":"COUNTIF(L13:L18,Y12)","v":0},{"$f":"Z12/(AB4-Z11)","v":0},{"$f":"IF(AA12=0,0,(AA12*((LOG(AA12))/LOG(2))))","v":0},null,{"$f":"N12","v":212},{"$f":"COUNTIF(L19:L24,AD12)","v":0},{"$f":"AE12/(AG4-AE11)","v":0},{"$f":"IF(AF12=0,0,(AF12*((LOG(AF12))/LOG(2))))","v":0},null,{"$f":"N12","v":212},{"$f":"COUNTIF(L25:L30,AI12)","v":0},{"$f":"AJ12/(AL4-AJ11)","v":0},{"$f":"IF(AK12=0,0,(AK12*((LOG(AK12))/LOG(2))))","v":0},null,{"$f":"N12","v":212},{"$f":"COUNTIF(L31:L36,AN12)","v":0},{"$f":"AO12/(AQ4-AO11)","v":0},{"$f":"IF(AP12=0,0,(AP12*((LOG(AP12))/LOG(2))))","v":0},null,{"$f":"N12","v":212},{"$f":"COUNTIF(L37:L42,AS12)","v":0},{"$f":"AT12/(AV4-AT11)","v":0},{"$f":"IF(AU12=0,0,(AU12*((LOG(AU12))/LOG(2))))","v":0}]
[21,1004,22,1014,24,1024,null,null,null,null,0,222,null,221,{"$f":"COUNTIF($L$7:$L$500,N13)","v":0},{"$f":"O13/$Q$4","v":0},{"$f":"IF(P13=0,0,(P13*((LOG(P13))/LOG(2))))","v":0},null,null,{"$f":"N13","v":221},{"$f":"COUNTIF(L7:L12,T13)","v":0},{"$f":"U13/(W4-U11)","v":0},{"$f":"IF(V13=0,0,(V13*((LOG(V13))/LOG(2))))","v":0},null,{"$f":"N13","v":221},{"$f":"COUNTIF(L13:L18,Y13)","v":0},{"$f":"Z13/(AB4-Z11)","v":0},{"$f":"IF(AA13=0,0,(AA13*((LOG(AA13))/LOG(2))))","v":0},null,{"$f":"N13","v":221},{"$f":"COUNTIF(L19:L24,AD13)","v":0},{"$f":"AE13/(AG4-AE11)","v":0},{"$f":"IF(AF13=0,0,(AF13*((LOG(AF13))/LOG(2))))","v":0},null,{"$f":"N13","v":221},{"$f":"COUNTIF(L25:L30,AI13)","v":0},{"$f":"AJ13/(AL4-AJ11)","v":0},{"$f":"IF(AK13=0,0,(AK13*((LOG(AK13))/LOG(2))))","v":0},null,{"$f":"N13","v":221},{"$f":"COUNTIF(L31:L36,AN13)","v":0},{"$f":"AO13/(AQ4-AO11)","v":0},{"$f":"IF(AP13=0,0,(AP13*((LOG(AP13))/LOG(2))))","v":0},null,{"$f":"N13","v":221},{"$f":"COUNTIF(L37:L42,AS13)","v":0},{"$f":"AT13/(AV4-AT11)","v":0},{"$f":"IF(AU13=0,0,(AU13*((LOG(AU13))/LOG(2))))","v":0}]
[12,1146,13,1150,13,1154,null,null,null,null,0,111,null,222,{"$f":"COUNTIF($L$7:$L$500,N14)","v":20},{"$f":"O14/$Q$4","v":0.55555555555555558},{"$f":"IF(P14=0,0,(P14*((LOG(P14))/LOG(2))))","v":-0.4711093925305278},null,null,{"$f":"N14","v":222},{"$f":"COUNTIF(L7:L12,T14)","v":3},{"$f":"U14/(W4-U11)","v":0.5},{"$f":"IF(V14=0,0,(V14*((LOG(V14))/LOG(2))))","v":-0.5},null,{"$f":"N14","v":222},{"$f":"COUNTIF(L13:L18,Y14)","v":3},{"$f":"Z14/(AB4-Z11)","v":0.5},{"$f":"IF(AA14=0,0,(AA14*((LOG(AA14))/LOG(2))))","v":-0.5},null,{"$f":"N14","v":222},{"$f":"COUNTIF(L19:L24,AD14)","v":5},{"$f":"AE14/(AG4-AE11)","v":0.83333333333333337},{"$f":"IF(AF14=0,0,(AF14*((LOG(AF14))/LOG(2))))","v":-0.21919533819482812},null,{"$f":"N14","v":222},{"$f":"COUNTIF(L25:L30,AI14)","v":2},{"$f":"AJ14/(AL4-AJ11)","v":0.33333333333333331},{"$f":"IF(AK14=0,0,(AK14*((LOG(AK14))/LOG(2))))","v":-0.52832083357371862},null,{"$f":"N14","v":222},{"$f":"COUNTIF(L31:L36,AN14)","v":4},{"$f":"AO14/(AQ4-AO11)","v":0.66666666666666663},{"$f":"IF(AP14=0,0,(AP14*((LOG(AP14))/LOG(2))))","v":-0.38997500048077083},null,{"$f":"N14","v":222},{"$f":"COUNTIF(L37:L42,AS14)","v":3},{"$f":"AT14/(AV4-AT11)","v":0.5},{"$f":"IF(AU14=0,0,(AU14*((LOG(AU14))/LOG(2))))","v":-0.5}]
[12,1356,13,1361,13,1365,null,null,null,null,0,111,null,null,null,{"$f":"SUM(P7:P14)","v":1},{"$f":"-SUM(Q7:Q14)","v":1.1409827561124506},null,null,null,null,{"$f":"SUM(V7:V14)","v":1},{"$f":"-SUM(W7:W14)","v":1},null,null,null,{"$f":"SUM(AA7:AA14)","v":1},{"$f":"-SUM(AB7:AB14)","v":1},null,null,null,{"$f":"SUM(AF7:AF14)","v":1},{"$f":"-SUM(AG7:AG14)","v":0.65002242164835411},null,null,null,{"$f":"SUM(AK7:AK14)","v":1},{"$f":"-SUM(AL7:AL14)","v":0.91829583405448945},null,null,null,{"$f":"SUM(AP7:AP14)","v":1},{"$f":"-SUM(AQ7:AQ14)","v":0.91829583405448945},null,null,null,{"$f":"SUM(AU7:AU14)","v":1},{"$f":"-SUM(AV7:AV14)","v":1}]
[21,1688,22,1697,24,1702,null,null,null,null,0,222,null,null,null,"U=",{"$f":"Q15/(LOG(Q4)/LOG(2))","v":0.22069619110415292},null,null,null,null,"U1=",{"$f":"W15/(LOG(W4)/LOG(2))","v":0.38685280723454163},null,null,null,"U2=",{"$f":"AB15/(LOG(AB4)/LOG(2))","v":0.38685280723454163},null,null,null,"U3=",{"$f":"AG15/(LOG(AG4)/LOG(2))","v":0.25146299858006066},null,null,null,"U4=",{"$f":"AL15/(LOG(AL4)/LOG(2))","v":0.35524532127576403},null,null,null,"U5=",{"$f":"AQ15/(LOG(AQ4)/LOG(2))","v":0.35524532127576403},null,null,null,"U6=",{"$f":"AV15/(LOG(AV4)/LOG(2))","v":0.38685280723454163}]
[12,1804,13,1809,13,1813,null,null,null,null,0,111]
[21,1921,22,1927,24,1931,null,null,null,null,0,222]
[21,2039,22,2047,24,2052,null,null,null,null,0,222,null,"Total Target Seq"]
[21,2186,22,2191,24,2207,null,null,null,null,0,222,null,{"$f":"COUNTIF(L7:L42,G3)","v":0},null,6,6,6,6,6,6]
[21,2317,22,2323,24,2327,null,null,null,null,0,222,null,null,null,"% of reinforcement given in 6 equal intervals based on number of trials "]
[12,2446,24,2460,24,2476,null,null,null,null,0,122,null,null,null,"%_1","%_2","%_3","%_4","%_5","%_6"]
[21,2619,22,2626,24,2630,null,null,null,null,0,222,null,null,"target sequence",{"$f":"$G$3","v":211},{"$f":"$G$3","v":211},{"$f":"$G$3","v":211},{"$f":"$G$3","v":211},{"$f":"$G$3","v":211},{"$f":"$G$3","v":211}]
[21,2744,22,2749,24,2753,null,null,null,null,0,222,null,null,"total reinforcement",{"$f":"U11","v":0},{"$f":"Z11","v":0},{"$f":"AE11","v":0},{"$f":"AJ11","v":0},{"$f":"AO11","v":0},{"$f":"AT11","v":0}]
[12,2894,13,2899,13,2904,null,null,null,null,0,111,null,null,"% target"]
[12,3020,13,3025,13,3029,null,null,null,null,0,111,null,null,"CCRF"]
[21,3154,22,3164,24,3192,null,null,null,null,0,222,null,null,"% CCRf"]
[21,3315,22,3322,24,3327,null,null,null,null,0,222,null,null,"average response rate",{"$f":"F12/P20","v":148.33333333333334},{"$f":"(F18-F12)/Q20","v":173.5},{"$f":"(F24-F18)/R20","v":137},{"$f":"(F30-F24)/S20","v":161.83333333333334},{"$f":"(F36-F30)/T20","v":190},{"$f":"(F42-F36)/U20","v":1870.1666666666667}]
[12,3472,13,3477,13,3482,null,null,null,null,0,111]
[12,3711,13,3716,13,3724,null,null,null,null,0,111]
[21,3865,22,3873,24,3882,null,null,null,null,0,222]
[21,4026,22,4037,24,4043,null,null,null,null,0,222]
[21,4170,22,4176,24,4182,null,null,null,null,0,222]
[12,4350,13,4355,13,4365,null,null,null,null,0,111]
[12,4489,13,4494,13,4499,null,null,null,null,0,111]
[21,4841,22,4853,24,4864,null,null,null,null,0,222]
[21,9665,22,9685,24,9697,null,null,null,null,0,222]
[21,9818,22,9825,24,9835,null,null,null,null,0,222]
[12,12096,13,12121,13,12129,null,null,null,null,0,111]
[21,14537,22,14548,24,14554,null,null,null,null,0,222]
[12,15122,13,15128,13,15134,null,null,null,null,0,111]
[12,16072,13,16080,13,16085,null,null,null,null,0,111]

{"sheet":"!N126820.010","index":27,"n_rows":28,"n_cols":48,"rows_kept":28,"cut":false,"hidden":false,"merged":[[4,39,4,42],[5,39,5,40],[4,44,4,47],[5,44,5,45],[4,24,4,27],[5,24,5,25],[4,29,4,32],[5,29,5,30],[4,34,4,37],[5,34,5,35],[1,1,1,2],[5,13,5,14],[18,13,18,14],[19,13,19,14],[4,19,4,22],[5,19,5,20]]}
["Report for:!N126820.010"]
["Date:","<date>"]
["Hen:","<hen>",null,null,null,"Correct Sequence",{"$f":"Start!J2","v":211},null,null,null,null,null,null,null,null,"Total Sequences in Data",{"$f":"4994-COUNTBLANK(L7:L5000)","v":13},null,null,null,null,"Total Sequences in Block Data",{"$f":"COUNTA(L7:L8)","v":2},null,null,null,"Total Sequences in Block Data",{"$f":"COUNTA(L9:L10)","v":2},null,null,null,"Total Sequences in Block Data",{"$f":"COUNTA(L11:L13)","v":3},null,null,null,"Total Sequences in Block Data",{"$f":"COUNTA(L14:L15)","v":2},null,null,null,"Total Sequences in Block Data",{"$f":"COUNTA(L16:L17)","v":2},null,null,null,"Total Sequences in Block Data",{"$f":"COUNTA(L18:L19)","v":2}]
[null,null,null,null,null,null,null,null,null,null,null,null,null,null,null,"Total Sequences in Summary",{"$f":"SUM(O7:O14)","v":13},null,null,null,null,"Total Sequences in Block Summary",{"$f":"SUM(U7:U14)","v":2},null,null,null,"Total Sequences in Block Summary",{"$f":"SUM(Z7:Z14)","v":2},null,null,null,"Total Sequences in Block Summary",{"$f":"SUM(AE7:AE14)","v":3},null,null,null,"Total Sequences in Block Summary",{"$f":"SUM(AJ7:AJ14)","v":2},null,null,null,"Total Sequences in Block Summary",{"$f":"SUM(AO7:AO14)","v":2},null,null,null,"Total Sequences in Block Summary",{"$f":"SUM(AT7:AT14)","v":2}]
[null,null,null,null,null,null,null,null,null,null,null,null,null,null,null,null,null,null,null,"Block 1",null,null,null,null,"Block 2",null,null,null,null,"Block 3",null,null,null,null,"Block 4",null,null,null,null,"Block 5",null,null,null,null,"Block 6"]
["Sequence\nComponent\n1","Time\n1","Sequence\nComponent\n2","Time\n2","Sequence\nComponent\n3","Time\n3","Sequence\nComponent\n4","Time\n4","Sequence\nComponent\n5","Time\n5","Correct?\n0=No 1=Yes","Sequence",null,"Frequency",null,"Relative Frequency","Variability",null,null,"Frequency",null,"Relative Frequency","Variability",null,"Frequency",null,"Relative Frequency","Variability",null,"Frequency",null,"Relative Frequency","Variability",null,"Frequency",null,"Relative Frequency","Variability",null,"Frequency",null,"Relative Frequency","Variability",null,"Frequency",null,"Relative Frequency","Variability"]
[21,25,22,34,24,91,null,null,null,null,0,222,null,111,{"$f":"COUNTIF($L$7:$L$500,N7)","v":7},{"$f":"O7/$Q$4","v":0.53846153846153844},{"$f":"IF(P7=0,0,(P7*((LOG(P7))/LOG(2))))","v":-0.48089181327572433},null,null,{"$f":"N7","v":111},{"$f":"COUNTIF(L7:L8,T7)","v":0},{"$f":"U7/(W4-U11)","v":0},{"$f":"IF(V7=0,0,(V7*((LOG(V7))/LOG(2))))","v":0},null,{"$f":"N7","v":111},{"$f":"COUNTIF(L9:L10,Y7)","v":2},{"$f":"Z7/(AB4-Z11)","v":1},{"$f":"IF(AA7=0,0,(AA7*((LOG(AA7))/LOG(2))))","v":0},null,{"$f":"N7","v":111},{"$f":"COUNTIF(L11:L13,AD7)","v":1},{"$f":"AE7/(AG4-AE11)","v":0.33333333333333331},{"$f":"IF(AF7=0,0,(AF7*((LOG(AF7))/LOG(2))))","v":-0.52832083357371862},null,{"$f":"N7","v":111},{"$f":"COUNTIF(L14:L15,AI7)","v":1},{"$f":"AJ7/(AL4-AJ11)","v":0.5},{"$f":"IF(AK7=0,0,(AK7*((LOG(AK7))/LOG(2))))","v":-0.5},null,{"$f":"N7","v":111},{"$f":"COUNTIF(L16:L17,AN7)","v":2},{"$f":"AO7/(AQ4-AO11)","v":1},{"$f":"IF(AP7=0,0,(AP7*((LOG(AP7))/LOG(2))))","v":0},null,{"$f":"N7","v":111},{"$f":"COUNTIF(L18:L19,AS7)","v":1},{"$f":"AT7/(AV4-AT11)","v":0.5},{"$f":"IF(AU7=0,0,(AU7*((LOG(AU7))/LOG(2))))","v":-0.5}]
[21,208,22,214,24,224,null,null,null,null,0,222,null,112,{"$f":"COUNTIF($L$7:$L$500,N8)","v":0},{"$f":"O8/$Q$4","v":0},{"$f":"IF(P8=0,0,(P8*((LOG(P8))/LOG(2))))","v":0},null,null,{"$f":"N8","v":112},{"$f":"COUNTIF(L7:L8,T8)","v":0},{"$f":"U8/(W4-U11)","v":0},{"$f":"IF(V8=0,0,(V8*((LOG(V8))/LOG(2))))","v":0},null,{"$f":"N8","v":112},{"$f":"COUNTIF(L9:L10,Y8)","v":0},{"$f":"Z8/(AB4-Z11)","v":0},{"$f":"IF(AA8=0,0,(AA8*((LOG(AA8))/LOG(2))))","v":0},null,{"$f":"N8","v":112},{"$f":"COUNTIF(L11:L13,AD8)","v":0},{"$f":"AE8/(AG4-AE11)","v":0},{"$f":"IF(AF8=0,0,(AF8*((LOG(AF8))/LOG(2))))","v":0},null,{"$f":"N8","v":112},{"$f":"COUNTIF(L14:L15,AI8)","v":0},{"$f":"AJ8/(AL4-AJ11)","v":0},{"$f":"IF(AK8=0,0,(AK8*((LOG(AK8))/LOG(2))))","v":0},null,{"$f":"N8","v":112},{"$f":"COUNTIF(L16:L17,AN8)","v":0},{"$f":"AO8/(AQ4-AO11)","v":0},{"$f":"IF(AP8=0,0,(AP8*((LOG(AP8))/LOG(2))))","v":0},null,{"$f":"N8","v":112},{"$f":"COUNTIF(L18:L19,AS8)","v":0},{"$f":"AT8/(AV4-AT11)","v":0},{"$f":"IF(AU8=0,0,(AU8*((LOG(AU8))/LOG(2))))","v":0}]
[12,337,13,342,13,347,null,null,null,null,0,111,null,121,{"$f":"COUNTIF($L$7:$L$500,N9)","v":0},{"$f":"O9/$Q$4","v":0},{"$f":"IF(P9=0,0,(P9*((LOG(P9))/LOG(2))))","v":0},null,null,{"$f":"N9","v":121},{"$f":"COUNTIF(L7:L8,T9)","v":0},{"$f":"U9/(W4-U11)","v":0},{"$f":"IF(V9=0,0,(V9*((LOG(V9))/LOG(2))))","v":0},null,{"$f":"N9","v":121},{"$f":"COUNTIF(L9:L10,Y9)","v":0},{"$f":"Z9/(AB4-Z11)","v":0},{"$f":"IF(AA9=0,0,(AA9*((LOG(AA9))/LOG(2))))","v":0},null,{"$f":"N9","v":121},{"$f":"COUNTIF(L11:L13,AD9)","v":0},{"$f":"AE9/(AG4-AE11)","v":0},{"$f":"IF(AF9=0,0,(AF9*((LOG(AF9))/LOG(2))))","v":0},null,{"$f":"N9","v":121},{"$f":"COUNTIF(L14:L15,AI9)","v":0},{"$f":"AJ9/(AL4-AJ11)","v":0},{"$f":"IF(AK9=0,0,(AK9*((LOG(AK9))/LOG(2))))","v":0},null,{"$f":"N9","v":121},{"$f":"COUNTIF(L16:L17,AN9)","v":0},{"$f":"AO9/(AQ4-AO11)","v":0},{"$f":"IF(AP9=0,0,(AP9*((LOG(AP9))/LOG(2))))","v":0},null,{"$f":"N9","v":121},{"$f":"COUNTIF(L18:L19,AS9)","v":0},{"$f":"AT9/(AV4-AT11)","v":0},{"$f":"IF(AU9=0,0,(AU9*((LOG(AU9))/LOG(2))))","v":0}]
[12,467,13,472,13,477,null,null,null,null,0,111,null,122,{"$f":"COUNTIF($L$7:$L$500,N10)","v":0},{"$f":"O10/$Q$4","v":0},{"$f":"IF(P10=0,0,(P10*((LOG(P10))/LOG(2))))","v":0},null,null,{"$f":"N10","v":122},{"$f":"COUNTIF(L7:L8,T10)","v":0},{"$f":"U10/(W4-U11)","v":0},{"$f":"IF(V10=0,0,(V10*((LOG(V10))/LOG(2))))","v":0},null,{"$f":"N10","v":122},{"$f":"COUNTIF(L9:L10,Y10)","v":0},{"$f":"Z10/(AB4-Z11)","v":0},{"$f":"IF(AA10=0,0,(AA10*((LOG(AA10))/LOG(2))))","v":0},null,{"$f":"N10","v":122},{"$f":"COUNTIF(L11:L13,AD10)","v":0},{"$f":"AE10/(AG4-AE11)","v":0},{"$f":"IF(AF10=0,0,(AF10*((LOG(AF10))/LOG(2))))","v":0},null,{"$f":"N10","v":122},{"$f":"COUNTIF(L14:L15,AI10)","v":0},{"$f":"AJ10/(AL4-AJ11)","v":0},{"$f":"IF(AK10=0,0,(AK10*((LOG(AK10))/LOG(2))))","v":0},null,{"$f":"N10","v":122},{"$f":"COUNTIF(L16:L17,AN10)","v":0},{"$f":"AO10/(AQ4-AO11)","v":0},{"$f":"IF(AP10=0,0,(AP10*((LOG(AP10))/LOG(2))))","v":0},null,{"$f":"N10","v":122},{"$f":"COUNTIF(L18:L19,AS10)","v":0},{"$f":"AT10/(AV4-AT11)","v":0},{"$f":"IF(AU10=0,0,(AU10*((LOG(AU10))/LOG(2))))","v":0}]
[21,581,22,585,24,592,null,null,null,null,0,222,null,211,{"$f":"COUNTIF($L$7:$L$500,N11)","v":0},{"$f":"O11/$Q$4","v":0},{"$f":"IF(P11=0,0,(P11*((LOG(P11))/LOG(2))))","v":0},null,null,{"$f":"N11","v":211},{"$f":"COUNTIF(L7:L8,T11)","v":0},null,null,null,{"$f":"N11","v":211},{"$f":"COUNTIF(L9:L10,Y11)","v":0},null,null,null,{"$f":"N11","v":211},{"$f":"COUNTIF(L11:L13,AD11)","v":0},null,null,null,{"$f":"N11","v":211},{"$f":"COUNTIF(L14:L15,AI11)","v":0},null,null,null,{"$f":"N11","v":211},{"$f":"COUNTIF(L16:L17,AN11)","v":0},null,null,null,{"$f":"N11","v":211},{"$f":"COUNTIF(L18:L19,AS11)","v":0}]
[12,737,13,742,13,747,null,null,null,null,0,111,null,212,{"$f":"COUNTIF($L$7:$L$500,N12)","v":0},{"$f":"O12/$Q$4","v":0},{"$f":"IF(P12=0,0,(P12*((LOG(P12))/LOG(2))))","v":0},null,null,{"$f":"N12","v":212},{"$f":"COUNTIF(L7:L8,T12)","v":0},{"$f":"U12/(W4-U11)","v":0},{"$f":"IF(V12=0,0,(V12*((LOG(V12))/LOG(2))))","v":0},null,{"$f":"N12","v":212},{"$f":"COUNTIF(L9:L10,Y12)","v":0},{"$f":"Z12/(AB4-Z11)","v":0},{"$f":"IF(AA12=0,0,(AA12*((LOG(AA12))/LOG(2))))","v":0},null,{"$f":"N12","v":212},{"$f":"COUNTIF(L11:L13,AD12)","v":0},{"$f":"AE12/(AG4-AE11)","v":0},{"$f":"IF(AF12=0,0,(AF12*((LOG(AF12))/LOG(2))))","v":0},null,{"$f":"N12","v":212},{"$f":"COUNTIF(L14:L15,AI12)","v":0},{"$f":"AJ12/(AL4-AJ11)","v":0},{"$f":"IF(AK12=0,0,(AK12*((LOG(AK12))/LOG(2))))","v":0},null,{"$f":"N12","v":212},{"$f":"COUNTIF(L16:L17,AN12)","v":0},{"$f":"AO12/(AQ4-AO11)","v":0},{"$f":"IF(AP12=0,0,(AP12*((LOG(AP12))/LOG(2))))","v":0},null,{"$f":"N12","v":212},{"$f":"COUNTIF(L18:L19,AS12)","v":0},{"$f":"AT12/(AV4-AT11)","v":0},{"$f":"IF(AU12=0,0,(AU12*((LOG(AU12))/LOG(2))))","v":0}]
[21,862,22,868,24,877,null,null,null,null,0,222,null,221,{"$f":"COUNTIF($L$7:$L$500,N13)","v":0},{"$f":"O13/$Q$4","v":0},{"$f":"IF(P13=0,0,(P13*((LOG(P13))/LOG(2))))","v":0},null,null,{"$f":"N13","v":221},{"$f":"COUNTIF(L7:L8,T13)","v":0},{"$f":"U13/(W4-U11)","v":0},{"$f":"IF(V13=0,0,(V13*((LOG(V13))/LOG(2))))","v":0},null,{"$f":"N13","v":221},{"$f":"COUNTIF(L9:L10,Y13)","v":0},{"$f":"Z13/(AB4-Z11)","v":0},{"$f":"IF(AA13=0,0,(AA13*((LOG(AA13))/LOG(2))))","v":0},null,{"$f":"N13","v":221},{"$f":"COUNTIF(L11:L13,AD13)","v":0},{"$f":"AE13/(AG4-AE11)","v":0},{"$f":"IF(AF13=0,0,(AF13*((LOG(AF13))/LOG(2))))","v":0},null,{"$f":"N13","v":221},{"$f":"COUNTIF(L14:L15,AI13)","v":0},{"$f":"AJ13/(AL4-AJ11)","v":0},{"$f":"IF(AK13=0,0,(AK13*((LOG(AK13))/LOG(2))))","v":0},null,{"$f":"N13","v":221},{"$f":"COUNTIF(L16:L17,AN13)","v":0},{"$f":"AO13/(AQ4-AO11)","v":0},{"$f":"IF(AP13=0,0,(AP13*((LOG(AP13))/LOG(2))))","v":0},null,{"$f":"N13","v":221},{"$f":"COUNTIF(L18:L19,AS13)","v":0},{"$f":"AT13/(AV4-AT11)","v":0},{"$f":"IF(AU13=0,0,(AU13*((LOG(AU13))/LOG(2))))","v":0}]
[21,1171,22,1179,24,1185,null,null,null,null,0,222,null,222,{"$f":"COUNTIF($L$7:$L$500,N14)","v":6},{"$f":"O14/$Q$4","v":0.46153846153846156},{"$f":"IF(P14=0,0,(P14*((LOG(P14))/LOG(2))))","v":-0.51483563880920125},null,null,{"$f":"N14","v":222},{"$f":"COUNTIF(L7:L8,T14)","v":2},{"$f":"U14/(W4-U11)","v":1},{"$f":"IF(V14=0,0,(V14*((LOG(V14))/LOG(2))))","v":0},null,{"$f":"N14","v":222},{"$f":"COUNTIF(L9:L10,Y14)","v":0},{"$f":"Z14/(AB4-Z11)","v":0},{"$f":"IF(AA14=0,0,(AA14*((LOG(AA14))/LOG(2))))","v":0},null,{"$f":"N14","v":222},{"$f":"COUNTIF(L11:L13,AD14)","v":2},{"$f":"AE14/(AG4-AE11)","v":0.66666666666666663},{"$f":"IF(AF14=0,0,(AF14*((LOG(AF14))/LOG(2))))","v":-0.38997500048077083},null,{"$f":"N14","v":222},{"$f":"COUNTIF(L14:L15,AI14)","v":1},{"$f":"AJ14/(AL4-AJ11)","v":0.5},{"$f":"IF(AK14=0,0,(AK14*((LOG(AK14))/LOG(2))))","v":-0.5},null,{"$f":"N14","v":222},{"$f":"COUNTIF(L16:L17,AN14)","v":0},{"$f":"AO14/(AQ4-AO11)","v":0},{"$f":"IF(AP14=0,0,(AP14*((LOG(AP14))/LOG(2))))","v":0},null,{"$f":"N14","v":222},{"$f":"COUNTIF(L18:L19,AS14)","v":1},{"$f":"AT14/(AV4-AT11)","v":0.5},{"$f":"IF(AU14=0,0,(AU14*((LOG(AU14))/LOG(2))))","v":-0.5}]
[12,1692,13,1702,13,1708,null,null,null,null,0,111,null,null,null,{"$f":"SUM(P7:P14)","v":1},{"$f":"-SUM(Q7:Q14)","v":0.99572745208492552},null,null,null,null,{"$f":"SUM(V7:V14)","v":1},{"$f":"-SUM(W7:W14)","v":0},null,null,null,{"$f":"SUM(AA7:AA14)","v":1},{"$f":"-SUM(AB7:AB14)","v":0},null,null,null,{"$f":"SUM(AF7:AF14)","v":1},{"$f":"-SUM(AG7:AG14)","v":0.91829583405448945},null,null,null,{"$f":"SUM(AK7:AK14)","v":1},{"$f":"-SUM(AL7:AL14)","v":1},null,null,null,{"$f":"SUM(AP7:AP14)","v":1},{"$f":"-SUM(AQ7:AQ14)","v":0},null,null,null,{"$f":"SUM(AU7:AU14)","v":1},{"$f":"-SUM(AV7:AV14)","v":1}]
[12,8574,13,8581,13,8588,null,null,null,null,0,111,null,null,null,"U=",{"$f":"Q15/(LOG(Q4)/LOG(2))","v":0.26908354896404774},null,null,null,null,"U1=",{"$f":"W15/(LOG(W4)/LOG(2))","v":0},null,null,null,"U2=",{"$f":"AB15/(LOG(AB4)/LOG(2))","v":0},null,null,null,"U3=",{"$f":"AG15/(LOG(AG4)/LOG(2))","v":0.57938016428569505},null,null,null,"U4=",{"$f":"AL15/(LOG(AL4)/LOG(2))","v":1},null,null,null,"U5=",{"$f":"AQ15/(LOG(AQ4)/LOG(2))","v":0},null,null,null,"U6=",{"$f":"AV15/(LOG(AV4)/LOG(2))","v":1}]
[12,8724,13,8731,13,8737,null,null,null,null,0,111]
[12,9041,13,9046,13,9052,null,null,null,null,0,111]
[21,9280,22,9286,24,9293,null,null,null,null,0,222,null,"Total Target Seq"]
[null,null,null,null,null,null,null,null,null,null,null,null,null,{"$f":"COUNTIF(L7:L19,G3)","v":0},null,2,2,3,2,2,2]
[null,null,null,null,null,null,null,null,null,null,null,null,null,null,null,"% of reinforcement given in 6 equal intervals based on number of trials "]
[null,null,null,null,null,null,null,null,null,null,null,null,null,null,null,"%_1","%_2","%_3","%_4","%_5","%_6"]
[null,null,null,null,null,null,null,null,null,null,null,null,null,null,"target sequence",{"$f":"$G$3","v":211},{"$f":"$G$3","v":211},{"$f":"$G$3","v":211},{"$f":"$G$3","v":211},{"$f":"$G$3","v":211},{"$f":"$G$3","v":211}]
[null,null,null,null,null,null,null,null,null,null,null,null,null,null,"total reinforcement",{"$f":"U11","v":0},{"$f":"Z11","v":0},{"$f":"AE11","v":0},{"$f":"AJ11","v":0},{"$f":"AO11","v":0},{"$f":"AT11","v":0}]
[null,null,null,null,null,null,null,null,null,null,null,null,null,null,"% target"]
[null,null,null,null,null,null,null,null,null,null,null,null,null,null,"CCRF"]
[null,null,null,null,null,null,null,null,null,null,null,null,null,null,"% CCRf"]
[null,null,null,null,null,null,null,null,null,null,null,null,null,null,"average response rate",{"$f":"F8/P20","v":112},{"$f":"(F10-F8)/Q20","v":126.5},{"$f":"(F13-F10)/R20","v":133.33333333333334},{"$f":"(F15-F13)/S20","v":415.5},{"$f":"(F17-F15)/T20","v":3514.5},{"$f":"(F19-F17)/U20","v":278}]

{"sheet":"!N127950.010","index":28,"n_rows":33,"n_cols":48,"rows_kept":33,"cut":false,"hidden":false,"merged":[[4,39,4,42],[5,39,5,40],[4,44,4,47],[5,44,5,45],[4,24,4,27],[5,24,5,25],[4,29,4,32],[5,29,5,30],[4,34,4,37],[5,34,5,35],[1,1,1,2],[5,13,5,14],[18,13,18,14],[19,13,19,14],[4,19,4,22],[5,19,5,20]]}
["Report for:!N127950.010"]
["Date:","<date>"]
["Hen:","<hen>",null,null,null,"Correct Sequence",{"$f":"Start!J2","v":211},null,null,null,null,null,null,null,null,"Total Sequences in Data",{"$f":"4994-COUNTBLANK(L7:L5000)","v":27},null,null,null,null,"Total Sequences in Block Data",{"$f":"COUNTA(L7:L11)","v":5},null,null,null,"Total Sequences in Block Data",{"$f":"COUNTA(L12:L15)","v":4},null,null,null,"Total Sequences in Block Data",{"$f":"COUNTA(L16:L20)","v":5},null,null,null,"Total Sequences in Block Data",{"$f":"COUNTA(L21:L24)","v":4},null,null,null,"Total Sequences in Block Data",{"$f":"COUNTA(L25:L29)","v":5},null,null,null,"Total Sequences in Block Data",{"$f":"COUNTA(L30:L33)","v":4}]
[null,null,null,null,null,null,null,null,null,null,null,null,null,null,null,"Total Sequences in Summary",{"$f":"SUM(O7:O14)","v":27},null,null,null,null,"Total Sequences in Block Summary",{"$f":"SUM(U7:U14)","v":5},null,null,null,"Total Sequences in Block Summary",{"$f":"SUM(Z7:Z14)","v":4},null,null,null,"Total Sequences in Block Summary",{"$f":"SUM(AE7:AE14)","v":5},null,null,null,"Total Sequences in Block Summary",{"$f":"SUM(AJ7:AJ14)","v":4},null,null,null,"Total Sequences in Block Summary",{"$f":"SUM(AO7:AO14)","v":5},null,null,null,"Total Sequences in Block Summary",{"$f":"SUM(AT7:AT14)","v":4}]
[null,null,null,null,null,null,null,null,null,null,null,null,null,null,null,null,null,null,null,"Block 1",null,null,null,null,"Block 2",null,null,null,null,"Block 3",null,null,null,null,"Block 4",null,null,null,null,"Block 5",null,null,null,null,"Block 6"]
["Sequence\nComponent\n1","Time\n1","Sequence\nComponent\n2","Time\n2","Sequence\nComponent\n3","Time\n3","Sequence\nComponent\n4","Time\n4","Sequence\nComponent\n5","Time\n5","Correct?\n0=No 1=Yes","Sequence",null,"Frequency",null,"Relative Frequency","Variability",null,null,"Frequency",null,"Relative Frequency","Variability",null,"Frequency",null,"Relative Frequency","Variability",null,"Frequency",null,"Relative Frequency","Variability",null,"Frequency",null,"Relative Frequency","Variability",null,"Frequency",null,"Relative Frequency","Variability",null,"Frequency",null,"Relative Frequency","Variability"]
[21,45,11,654,11,659,null,null,null,null,0,211,null,111,{"$f":"COUNTIF($L$7:$L$500,N7)","v":20},{"$f":"O7/$Q$4","v":0.7407407407407407},{"$f":"IF(P7=0,0,(P7*((LOG(P7))/LOG(2))))","v":-0.32071067205637499},null,null,{"$f":"N7","v":111},{"$f":"COUNTIF(L7:L11,T7)","v":3},{"$f":"U7/(W4-U11)","v":0.75},{"$f":"IF(V7=0,0,(V7*((LOG(V7))/LOG(2))))","v":-0.31127812445913283},null,{"$f":"N7","v":111},{"$f":"COUNTIF(L12:L15,Y7)","v":4},{"$f":"Z7/(AB4-Z11)","v":1},{"$f":"IF(AA7=0,0,(AA7*((LOG(AA7))/LOG(2))))","v":0},null,{"$f":"N7","v":111},{"$f":"COUNTIF(L16:L20,AD7)","v":4},{"$f":"AE7/(AG4-AE11)","v":0.8},{"$f":"IF(AF7=0,0,(AF7*((LOG(AF7))/LOG(2))))","v":-0.25754247590988982},null,{"$f":"N7","v":111},{"$f":"COUNTIF(L21:L24,AI7)","v":2},{"$f":"AJ7/(AL4-AJ11)","v":0.5},{"$f":"IF(AK7=0,0,(AK7*((LOG(AK7))/LOG(2))))","v":-0.5},null,{"$f":"N7","v":111},{"$f":"COUNTIF(L25:L29,AN7)","v":4},{"$f":"AO7/(AQ4-AO11)","v":0.8},{"$f":"IF(AP7=0,0,(AP7*((LOG(AP7))/LOG(2))))","v":-0.25754247590988982},null,{"$f":"N7","v":111},{"$f":"COUNTIF(L30:L33,AS7)","v":3},{"$f":"AT7/(AV4-AT11)","v":0.75},{"$f":"IF(AU7=0,0,(AU7*((LOG(AU7))/LOG(2))))","v":-0.31127812445913283}]
[21,764,22,784,24,798,null,null,null,null,0,222,null,112,{"$f":"COUNTIF($L$7:$L$500,N8)","v":0},{"$f":"O8/$Q$4","v":0},{"$f":"IF(P8=0,0,(P8*((LOG(P8))/LOG(2))))","v":0},null,null,{"$f":"N8","v":112},{"$f":"COUNTIF(L7:L11,T8)","v":0},{"$f":"U8/(W4-U11)","v":0},{"$f":"IF(V8=0,0,(V8*((LOG(V8))/LOG(2))))","v":0},null,{"$f":"N8","v":112},{"$f":"COUNTIF(L12:L15,Y8)","v":0},{"$f":"Z8/(AB4-Z11)","v":0},{"$f":"IF(AA8=0,0,(AA8*((LOG(AA8))/LOG(2))))","v":0},null,{"$f":"N8","v":112},{"$f":"COUNTIF(L16:L20,AD8)","v":0},{"$f":"AE8/(AG4-AE11)","v":0},{"$f":"IF(AF8=0,0,(AF8*((LOG(AF8))/LOG(2))))","v":0},null,{"$f":"N8","v":112},{"$f":"COUNTIF(L21:L24,AI8)","v":0},{"$f":"AJ8/(AL4-AJ11)","v":0},{"$f":"IF(AK8=0,0,(AK8*((LOG(AK8))/LOG(2))))","v":0},null,{"$f":"N8","v":112},{"$f":"COUNTIF(L25:L29,AN8)","v":0},{"$f":"AO8/(AQ4-AO11)","v":0},{"$f":"IF(AP8=0,0,(AP8*((LOG(AP8))/LOG(2))))","v":0},null,{"$f":"N8","v":112},{"$f":"COUNTIF(L30:L33,AS8)","v":0},{"$f":"AT8/(AV4-AT11)","v":0},{"$f":"IF(AU8=0,0,(AU8*((LOG(AU8))/LOG(2))))","v":0}]
[12,904,13,910,13,919,null,null,null,null,0,111,null,121,{"$f":"COUNTIF($L$7:$L$500,N9)","v":0},{"$f":"O9/$Q$4","v":0},{"$f":"IF(P9=0,0,(P9*((LOG(P9))/LOG(2))))","v":0},null,null,{"$f":"N9","v":121},{"$f":"COUNTIF(L7:L11,T9)","v":0},{"$f":"U9/(W4-U11)","v":0},{"$f":"IF(V9=0,0,(V9*((LOG(V9))/LOG(2))))","v":0},null,{"$f":"N9","v":121},{"$f":"COUNTIF(L12:L15,Y9)","v":0},{"$f":"Z9/(AB4-Z11)","v":0},{"$f":"IF(AA9=0,0,(AA9*((LOG(AA9))/LOG(2))))","v":0},null,{"$f":"N9","v":121},{"$f":"COUNTIF(L16:L20,AD9)","v":0},{"$f":"AE9/(AG4-AE11)","v":0},{"$f":"IF(AF9=0,0,(AF9*((LOG(AF9))/LOG(2))))","v":0},null,{"$f":"N9","v":121},{"$f":"COUNTIF(L21:L24,AI9)","v":0},{"$f":"AJ9/(AL4-AJ11)","v":0},{"$f":"IF(AK9=0,0,(AK9*((LOG(AK9))/LOG(2))))","v":0},null,{"$f":"N9","v":121},{"$f":"COUNTIF(L25:L29,AN9)","v":0},{"$f":"AO9/(AQ4-AO11)","v":0},{"$f":"IF(AP9=0,0,(AP9*((LOG(AP9))/LOG(2))))","v":0},null,{"$f":"N9","v":121},{"$f":"COUNTIF(L30:L33,AS9)","v":0},{"$f":"AT9/(AV4-AT11)","v":0},{"$f":"IF(AU9=0,0,(AU9*((LOG(AU9))/LOG(2))))","v":0}]
[12,1025,13,1031,13,1036,null,null,null,null,0,111,null,122,{"$f":"COUNTIF($L$7:$L$500,N10)","v":0},{"$f":"O10/$Q$4","v":0},{"$f":"IF(P10=0,0,(P10*((LOG(P10))/LOG(2))))","v":0},null,null,{"$f":"N10","v":122},{"$f":"COUNTIF(L7:L11,T10)","v":0},{"$f":"U10/(W4-U11)","v":0},{"$f":"IF(V10=0,0,(V10*((LOG(V10))/LOG(2))))","v":0},null,{"$f":"N10","v":122},{"$f":"COUNTIF(L12:L15,Y10)","v":0},{"$f":"Z10/(AB4-Z11)","v":0},{"$f":"IF(AA10=0,0,(AA10*((LOG(AA10))/LOG(2))))","v":0},null,{"$f":"N10","v":122},{"$f":"COUNTIF(L16:L20,AD10)","v":0},{"$f":"AE10/(AG4-AE11)","v":0},{"$f":"IF(AF10=0,0,(AF10*((LOG(AF10))/LOG(2))))","v":0},null,{"$f":"N10","v":122},{"$f":"COUNTIF(L21:L24,AI10)","v":0},{"$f":"AJ10/(AL4-AJ11)","v":0},{"$f":"IF(AK10=0,0,(AK10*((LOG(AK10))/LOG(2))))","v":0},null,{"$f":"N10","v":122},{"$f":"COUNTIF(L25:L29,AN10)","v":0},{"$f":"AO10/(AQ4-AO11)","v":0},{"$f":"IF(AP10=0,0,(AP10*((LOG(AP10))/LOG(2))))","v":0},null,{"$f":"N10","v":122},{"$f":"COUNTIF(L30:L33,AS10)","v":0},{"$f":"AT10/(AV4-AT11)","v":0},{"$f":"IF(AU10=0,0,(AU10*((LOG(AU10))/LOG(2))))","v":0}]
[12,1136,13,1141,13,1147,null,null,null,null,0,111,null,211,{"$f":"COUNTIF($L$7:$L$500,N11)","v":1},{"$f":"O11/$Q$4","v":3.7037037037037035E-2},{"$f":"IF(P11=0,0,(P11*((LOG(P11))/LOG(2))))","v":-0.1761069445245729},null,null,{"$f":"N11","v":211},{"$f":"COUNTIF(L7:L11,T11)","v":1},null,null,null,{"$f":"N11","v":211},{"$f":"COUNTIF(L12:L15,Y11)","v":0},null,null,null,{"$f":"N11","v":211},{"$f":"COUNTIF(L16:L20,AD11)","v":0},null,null,null,{"$f":"N11","v":211},{"$f":"COUNTIF(L21:L24,AI11)","v":0},null,null,null,{"$f":"N11","v":211},{"$f":"COUNTIF(L25:L29,AN11)","v":0},null,null,null,{"$f":"N11","v":211},{"$f":"COUNTIF(L30:L33,AS11)","v":0}]
[12,1251,13,1256,13,1262,null,null,null,null,0,111,null,212,{"$f":"COUNTIF($L$7:$L$500,N12)","v":0},{"$f":"O12/$Q$4","v":0},{"$f":"IF(P12=0,0,(P12*((LOG(P12))/LOG(2))))","v":0},null,null,{"$f":"N12","v":212},{"$f":"COUNTIF(L7:L11,T12)","v":0},{"$f":"U12/(W4-U11)","v":0},{"$f":"IF(V12=0,0,(V12*((LOG(V12))/LOG(2))))","v":0},null,{"$f":"N12","v":212},{"$f":"COUNTIF(L12:L15,Y12)","v":0},{"$f":"Z12/(AB4-Z11)","v":0},{"$f":"IF(AA12=0,0,(AA12*((LOG(AA12))/LOG(2))))","v":0},null,{"$f":"N12","v":212},{"$f":"COUNTIF(L16:L20,AD12)","v":0},{"$f":"AE12/(AG4-AE11)","v":0},{"$f":"IF(AF12=0,0,(AF12*((LOG(AF12))/LOG(2))))","v":0},null,{"$f":"N12","v":212},{"$f":"COUNTIF(L21:L24,AI12)","v":0},{"$f":"AJ12/(AL4-AJ11)","v":0},{"$f":"IF(AK12=0,0,(AK12*((LOG(AK12))/LOG(2))))","v":0},null,{"$f":"N12","v":212},{"$f":"COUNTIF(L25:L29,AN12)","v":0},{"$f":"AO12/(AQ4-AO11)","v":0},{"$f":"IF(AP12=0,0,(AP12*((LOG(AP12))/LOG(2))))","v":0},null,{"$f":"N12","v":212},{"$f":"COUNTIF(L30:L33,AS12)","v":0},{"$f":"AT12/(AV4-AT11)","v":0},{"$f":"IF(AU12=0,0,(AU12*((LOG(AU12))/LOG(2))))","v":0}]
[12,1362,13,1367,13,1377,null,null,null,null,0,111,null,221,{"$f":"COUNTIF($L$7:$L$500,N13)","v":0},{"$f":"O13/$Q$4","v":0},{"$f":"IF(P13=0,0,(P13*((LOG(P13))/LOG(2))))","v":0},null,null,{"$f":"N13","v":221},{"$f":"COUNTIF(L7:L11,T13)","v":0},{"$f":"U13/(W4-U11)","v":0},{"$f":"IF(V13=0,0,(V13*((LOG(V13))/LOG(2))))","v":0},null,{"$f":"N13","v":221},{"$f":"COUNTIF(L12:L15,Y13)","v":0},{"$f":"Z13/(AB4-Z11)","v":0},{"$f":"IF(AA13=0,0,(AA13*((LOG(AA13))/LOG(2))))","v":0},null,{"$f":"N13","v":221},{"$f":"COUNTIF(L16:L20,AD13)","v":0},{"$f":"AE13/(AG4-AE11)","v":0},{"$f":"IF(AF13=0,0,(AF13*((LOG(AF13))/LOG(2))))","v":0},null,{"$f":"N13","v":221},{"$f":"COUNTIF(L21:L24,AI13)","v":0},{"$f":"AJ13/(AL4-AJ11)","v":0},{"$f":"IF(AK13=0,0,(AK13*((LOG(AK13))/LOG(2))))","v":0},null,{"$f":"N13","v":221},{"$f":"COUNTIF(L25:L29,AN13)","v":0},{"$f":"AO13/(AQ4-AO11)","v":0},{"$f":"IF(AP13=0,0,(AP13*((LOG(AP13))/LOG(2))))","v":0},null,{"$f":"N13","v":221},{"$f":"COUNTIF(L30:L33,AS13)","v":0},{"$f":"AT13/(AV4-AT11)","v":0},{"$f":"IF(AU13=0,0,(AU13*((LOG(AU13))/LOG(2))))","v":0}]
[12,1480,13,1485,13,1490,null,null,null,null,0,111,null,222,{"$f":"COUNTIF($L$7:$L$500,N14)","v":6},{"$f":"O14/$Q$4","v":0.22222222222222221},{"$f":"IF(P14=0,0,(P14*((LOG(P14))/LOG(2))))","v":-0.48220555587606945},null,null,{"$f":"N14","v":222},{"$f":"COUNTIF(L7:L11,T14)","v":1},{"$f":"U14/(W4-U11)","v":0.25},{"$f":"IF(V14=0,0,(V14*((LOG(V14))/LOG(2))))","v":-0.5},null,{"$f":"N14","v":222},{"$f":"COUNTIF(L12:L15,Y14)","v":0},{"$f":"Z14/(AB4-Z11)","v":0},{"$f":"IF(AA14=0,0,(AA14*((LOG(AA14))/LOG(2))))","v":0},null,{"$f":"N14","v":222},{"$f":"COUNTIF(L16:L20,AD14)","v":1},{"$f":"AE14/(AG4-AE11)","v":0.2},{"$f":"IF(AF14=0,0,(AF14*((LOG(AF14))/LOG(2))))","v":-0.46438561897747244},null,{"$f":"N14","v":222},{"$f":"COUNTIF(L21:L24,AI14)","v":2},{"$f":"AJ14/(AL4-AJ11)","v":0.5},{"$f":"IF(AK14=0,0,(AK14*((LOG(AK14))/LOG(2))))","v":-0.5},null,{"$f":"N14","v":222},{"$f":"COUNTIF(L25:L29,AN14)","v":1},{"$f":"AO14/(AQ4-AO11)","v":0.2},{"$f":"IF(AP14=0,0,(AP14*((LOG(AP14))/LOG(2))))","v":-0.46438561897747244},null,{"$f":"N14","v":222},{"$f":"COUNTIF(L30:L33,AS14)","v":1},{"$f":"AT14/(AV4-AT11)","v":0.25},{"$f":"IF(AU14=0,0,(AU14*((LOG(AU14))/LOG(2))))","v":-0.5}]
[12,1597,13,1607,13,1624,null,null,null,null,0,111,null,null,null,{"$f":"SUM(P7:P14)","v":0.99999999999999989},{"$f":"-SUM(Q7:Q14)","v":0.97902317245701731},null,null,null,null,{"$f":"SUM(V7:V14)","v":1},{"$f":"-SUM(W7:W14)","v":0.81127812445913283},null,null,null,{"$f":"SUM(AA7:AA14)","v":1},{"$f":"-SUM(AB7:AB14)","v":0},null,null,null,{"$f":"SUM(AF7:AF14)","v":1},{"$f":"-SUM(AG7:AG14)","v":0.72192809488736231},null,null,null,{"$f":"SUM(AK7:AK14)","v":1},{"$f":"-SUM(AL7:AL14)","v":1},null,null,null,{"$f":"SUM(AP7:AP14)","v":1},{"$f":"-SUM(AQ7:AQ14)","v":0.72192809488736231},null,null,null,{"$f":"SUM(AU7:AU14)","v":1},{"$f":"-SUM(AV7:AV14)","v":0.81127812445913283}]
[12,1724,13,1729,13,1733,null,null,null,null,0,111,null,null,null,"U=",{"$f":"Q15/(LOG(Q4)/LOG(2))","v":0.20589828297968416},null,null,null,null,"U1=",{"$f":"W15/(LOG(W4)/LOG(2))","v":0.34939847028229709},null,null,null,"U2=",{"$f":"AB15/(LOG(AB4)/LOG(2))","v":0},null,null,null,"U3=",{"$f":"AG15/(LOG(AG4)/LOG(2))","v":0.31091750708257104},null,null,null,"U4=",{"$f":"AL15/(LOG(AL4)/LOG(2))","v":0.5},null,null,null,"U5=",{"$f":"AQ15/(LOG(AQ4)/LOG(2))","v":0.31091750708257104},null,null,null,"U6=",{"$f":"AV15/(LOG(AV4)/LOG(2))","v":0.40563906222956642}]
[12,1847,13,1852,13,1863,null,null,null,null,0,111]
[21,1980,22,1995,24,2011,null,null,null,null,0,222]
[12,2113,13,2117,13,2122,null,null,null,null,0,111,null,"Total Target Seq"]
[12,2223,13,2228,13,2232,null,null,null,null,0,111,null,{"$f":"COUNTIF(L7:L33,G3)","v":1},null,5,4,5,4,5,4]
[12,2369,13,2376,13,2381,null,null,null,null,0,111,null,null,null,"% of reinforcement given in 6 equal intervals based on number of trials "]
[21,2510,22,2520,24,2529,null,null,null,null,0,222,null,null,null,"%_1","%_2","%_3","%_4","%_5","%_6"]
[12,2640,13,2645,13,2650,null,null,null,null,0,111,null,null,"target sequence",{"$f":"$G$3","v":211},{"$f":"$G$3","v":211},{"$f":"$G$3","v":211},{"$f":"$G$3","v":211},{"$f":"$G$3","v":211},{"$f":"$G$3","v":211}]
[21,2814,22,2819,24,2825,null,null,null,null,0,222,null,null,"total reinforcement",{"$f":"U11","v":1},{"$f":"Z11","v":0},{"$f":"AE11","v":0},{"$f":"AJ11","v":0},{"$f":"AO11","v":0},{"$f":"AT11","v":0}]
[12,3038,13,3050,13,3058,null,null,null,null,0,111,null,null,"% target"]
[12,3175,13,3180,13,3186,null,null,null,null,0,111,null,null,"CCRF"]
[21,3418,22,3424,24,3429,null,null,null,null,0,222,null,null,"% CCRf"]
[12,3760,13,3767,13,3774,null,null,null,null,0,111,null,null,"average response rate",{"$f":"F11/P20","v":229.4},{"$f":"(F15-F11)/Q20","v":119.25},{"$f":"(F20-F15)/R20","v":121.6},{"$f":"(F24-F20)/S20","v":148.25},{"$f":"(F29-F24)/T20","v":494.4},{"$f":"(F33-F29)/U20","v":2440.5}]
[12,5277,13,5291,13,5297,null,null,null,null,0,111]
[21,14426,22,14438,24,14445,null,null,null,null,0,222]
[12,14636,13,14647,13,14652,null,null,null,null,0,111]
[12,14785,13,14792,13,14798,null,null,null,null,0,111]
[12,15045,13,15053,13,15059,null,null,null,null,0,111]

{"sheet":"!N128810.010","index":29,"n_rows":33,"n_cols":48,"rows_kept":33,"cut":false,"hidden":false,"merged":[[4,39,4,42],[5,39,5,40],[4,44,4,47],[5,44,5,45],[4,24,4,27],[5,24,5,25],[4,29,4,32],[5,29,5,30],[4,34,4,37],[5,34,5,35],[1,1,1,2],[5,13,5,14],[18,13,18,14],[19,13,19,14],[4,19,4,22],[5,19,5,20]]}
["Report for:!N128810.010"]
["Date:","<date>"]
["Hen:","<hen>",null,null,null,"Correct Sequence",{"$f":"Start!J2","v":211},null,null,null,null,null,null,null,null,"Total Sequences in Data",{"$f":"4994-COUNTBLANK(L7:L5000)","v":27},null,null,null,null,"Total Sequences in Block Data",{"$f":"COUNTA(L7:L11)","v":5},null,null,null,"Total Sequences in Block Data",{"$f":"COUNTA(L12:L15)","v":4},null,null,null,"Total Sequences in Block Data",{"$f":"COUNTA(L16:L20)","v":5},null,null,null,"Total Sequences in Block Data",{"$f":"COUNTA(L21:L24)","v":4},null,null,null,"Total Sequences in Block Data",{"$f":"COUNTA(L25:L29)","v":5},null,null,null,"Total Sequences in Block Data",{"$f":"COUNTA(L30:L33)","v":4}]
[null,null,null,null,null,null,null,null,null,null,null,null,null,null,null,"Total Sequences in Summary",{"$f":"SUM(O7:O14)","v":27},null,null,null,null,"Total Sequences in Block Summary",{"$f":"SUM(U7:U14)","v":5},null,null,null,"Total Sequences in Block Summary",{"$f":"SUM(Z7:Z14)","v":4},null,null,null,"Total Sequences in Block Summary",{"$f":"SUM(AE7:AE14)","v":5},null,null,null,"Total Sequences in Block Summary",{"$f":"SUM(AJ7:AJ14)","v":4},null,null,null,"Total Sequences in Block Summary",{"$f":"SUM(AO7:AO14)","v":5},null,null,null,"Total Sequences in Block Summary",{"$f":"SUM(AT7:AT14)","v":4}]
[null,null,null,null,null,null,null,null,null,null,null,null,null,null,null,null,null,null,null,"Block 1",null,null,null,null,"Block 2",null,null,null,null,"Block 3",null,null,null,null,"Block 4",null,null,null,null,"Block 5",null,null,null,null,"Block 6"]
["Sequence\nComponent\n1","Time\n1","Sequence\nComponent\n2","Time\n2","Sequence\nComponent\n3","Time\n3","Sequence\nComponent\n4","Time\n4","Sequence\nComponent\n5","Time\n5","Correct?\n0=No 1=Yes","Sequence",null,"Frequency",null,"Relative Frequency","Variability",null,null,"Frequency",null,"Relative Frequency","Variability",null,"Frequency",null,"Relative Frequency","Variability",null,"Frequency",null,"Relative Frequency","Variability",null,"Frequency",null,"Relative Frequency","Variability",null,"Frequency",null,"Relative Frequency","Variability",null,"Frequency",null,"Relative Frequency","Variability"]
[12,39,13,44,13,50,null,null,null,null,0,111,null,111,{"$f":"COUNTIF($L$7:$L$500,N7)","v":19},{"$f":"O7/$Q$4","v":0.70370370370370372},{"$f":"IF(P7=0,0,(P7*((LOG(P7))/LOG(2))))","v":-0.35674962169176955},null,null,{"$f":"N7","v":111},{"$f":"COUNTIF(L7:L11,T7)","v":3},{"$f":"U7/(W4-U11)","v":0.6},{"$f":"IF(V7=0,0,(V7*((LOG(V7))/LOG(2))))","v":-0.44217935649972373},null,{"$f":"N7","v":111},{"$f":"COUNTIF(L12:L15,Y7)","v":2},{"$f":"Z7/(AB4-Z11)","v":0.5},{"$f":"IF(AA7=0,0,(AA7*((LOG(AA7))/LOG(2))))","v":-0.5},null,{"$f":"N7","v":111},{"$f":"COUNTIF(L16:L20,AD7)","v":4},{"$f":"AE7/(AG4-AE11)","v":0.8},{"$f":"IF(AF7=0,0,(AF7*((LOG(AF7))/LOG(2))))","v":-0.25754247590988982},null,{"$f":"N7","v":111},{"$f":"COUNTIF(L21:L24,AI7)","v":3},{"$f":"AJ7/(AL4-AJ11)","v":0.75},{"$f":"IF(AK7=0,0,(AK7*((LOG(AK7))/LOG(2))))","v":-0.31127812445913283},null,{"$f":"N7","v":111},{"$f":"COUNTIF(L25:L29,AN7)","v":4},{"$f":"AO7/(AQ4-AO11)","v":0.8},{"$f":"IF(AP7=0,0,(AP7*((LOG(AP7))/LOG(2))))","v":-0.25754247590988982},null,{"$f":"N7","v":111},{"$f":"COUNTIF(L30:L33,AS7)","v":3},{"$f":"AT7/(AV4-AT11)","v":0.75},{"$f":"IF(AU7=0,0,(AU7*((LOG(AU7))/LOG(2))))","v":-0.31127812445913283}]
[21,163,22,168,13,211,null,null,null,null,0,221,null,112,{"$f":"COUNTIF($L$7:$L$500,N8)","v":0},{"$f":"O8/$Q$4","v":0},{"$f":"IF(P8=0,0,(P8*((LOG(P8))/LOG(2))))","v":0},null,null,{"$f":"N8","v":112},{"$f":"COUNTIF(L7:L11,T8)","v":0},{"$f":"U8/(W4-U11)","v":0},{"$f":"IF(V8=0,0,(V8*((LOG(V8))/LOG(2))))","v":0},null,{"$f":"N8","v":112},{"$f":"COUNTIF(L12:L15,Y8)","v":0},{"$f":"Z8/(AB4-Z11)","v":0},{"$f":"IF(AA8=0,0,(AA8*((LOG(AA8))/LOG(2))))","v":0},null,{"$f":"N8","v":112},{"$f":"COUNTIF(L16:L20,AD8)","v":0},{"$f":"AE8/(AG4-AE11)","v":0},{"$f":"IF(AF8=0,0,(AF8*((LOG(AF8))/LOG(2))))","v":0},null,{"$f":"N8","v":112},{"$f":"COUNTIF(L21:L24,AI8)","v":0},{"$f":"AJ8/(AL4-AJ11)","v":0},{"$f":"IF(AK8=0,0,(AK8*((LOG(AK8))/LOG(2))))","v":0},null,{"$f":"N8","v":112},{"$f":"COUNTIF(L25:L29,AN8)","v":0},{"$f":"AO8/(AQ4-AO11)","v":0},{"$f":"IF(AP8=0,0,(AP8*((LOG(AP8))/LOG(2))))","v":0},null,{"$f":"N8","v":112},{"$f":"COUNTIF(L30:L33,AS8)","v":0},{"$f":"AT8/(AV4-AT11)","v":0},{"$f":"IF(AU8=0,0,(AU8*((LOG(AU8))/LOG(2))))","v":0}]
[12,319,13,325,13,330,null,null,null,null,0,111,null,121,{"$f":"COUNTIF($L$7:$L$500,N9)","v":0},{"$f":"O9/$Q$4","v":0},{"$f":"IF(P9=0,0,(P9*((LOG(P9))/LOG(2))))","v":0},null,null,{"$f":"N9","v":121},{"$f":"COUNTIF(L7:L11,T9)","v":0},{"$f":"U9/(W4-U11)","v":0},{"$f":"IF(V9=0,0,(V9*((LOG(V9))/LOG(2))))","v":0},null,{"$f":"N9","v":121},{"$f":"COUNTIF(L12:L15,Y9)","v":0},{"$f":"Z9/(AB4-Z11)","v":0},{"$f":"IF(AA9=0,0,(AA9*((LOG(AA9))/LOG(2))))","v":0},null,{"$f":"N9","v":121},{"$f":"COUNTIF(L16:L20,AD9)","v":0},{"$f":"AE9/(AG4-AE11)","v":0},{"$f":"IF(AF9=0,0,(AF9*((LOG(AF9))/LOG(2))))","v":0},null,{"$f":"N9","v":121},{"$f":"COUNTIF(L21:L24,AI9)","v":0},{"$f":"AJ9/(AL4-AJ11)","v":0},{"$f":"IF(AK9=0,0,(AK9*((LOG(AK9))/LOG(2))))","v":0},null,{"$f":"N9","v":121},{"$f":"COUNTIF(L25:L29,AN9)","v":0},{"$f":"AO9/(AQ4-AO11)","v":0},{"$f":"IF(AP9=0,0,(AP9*((LOG(AP9))/LOG(2))))","v":0},null,{"$f":"N9","v":121},{"$f":"COUNTIF(L30:L33,AS9)","v":0},{"$f":"AT9/(AV4-AT11)","v":0},{"$f":"IF(AU9=0,0,(AU9*((LOG(AU9))/LOG(2))))","v":0}]
[12,441,13,446,13,451,null,null,null,null,0,111,null,122,{"$f":"COUNTIF($L$7:$L$500,N10)","v":0},{"$f":"O10/$Q$4","v":0},{"$f":"IF(P10=0,0,(P10*((LOG(P10))/LOG(2))))","v":0},null,null,{"$f":"N10","v":122},{"$f":"COUNTIF(L7:L11,T10)","v":0},{"$f":"U10/(W4-U11)","v":0},{"$f":"IF(V10=0,0,(V10*((LOG(V10))/LOG(2))))","v":0},null,{"$f":"N10","v":122},{"$f":"COUNTIF(L12:L15,Y10)","v":0},{"$f":"Z10/(AB4-Z11)","v":0},{"$f":"IF(AA10=0,0,(AA10*((LOG(AA10))/LOG(2))))","v":0},null,{"$f":"N10","v":122},{"$f":"COUNTIF(L16:L20,AD10)","v":0},{"$f":"AE10/(AG4-AE11)","v":0},{"$f":"IF(AF10=0,0,(AF10*((LOG(AF10))/LOG(2))))","v":0},null,{"$f":"N10","v":122},{"$f":"COUNTIF(L21:L24,AI10)","v":0},{"$f":"AJ10/(AL4-AJ11)","v":0},{"$f":"IF(AK10=0,0,(AK10*((LOG(AK10))/LOG(2))))","v":0},null,{"$f":"N10","v":122},{"$f":"COUNTIF(L25:L29,AN10)","v":0},{"$f":"AO10/(AQ4-AO11)","v":0},{"$f":"IF(AP10=0,0,(AP10*((LOG(AP10))/LOG(2))))","v":0},null,{"$f":"N10","v":122},{"$f":"COUNTIF(L30:L33,AS10)","v":0},{"$f":"AT10/(AV4-AT11)","v":0},{"$f":"IF(AU10=0,0,(AU10*((LOG(AU10))/LOG(2))))","v":0}]
[21,585,22,591,24,603,null,null,null,null,0,222,null,211,{"$f":"COUNTIF($L$7:$L$500,N11)","v":0},{"$f":"O11/$Q$4","v":0},{"$f":"IF(P11=0,0,(P11*((LOG(P11))/LOG(2))))","v":0},null,null,{"$f":"N11","v":211},{"$f":"COUNTIF(L7:L11,T11)","v":0},null,null,null,{"$f":"N11","v":211},{"$f":"COUNTIF(L12:L15,Y11)","v":0},null,null,null,{"$f":"N11","v":211},{"$f":"COUNTIF(L16:L20,AD11)","v":0},null,null,null,{"$f":"N11","v":211},{"$f":"COUNTIF(L21:L24,AI11)","v":0},null,null,null,{"$f":"N11","v":211},{"$f":"COUNTIF(L25:L29,AN11)","v":0},null,null,null,{"$f":"N11","v":211},{"$f":"COUNTIF(L30:L33,AS11)","v":0}]
[12,705,13,710,13,716,null,null,null,null,0,111,null,212,{"$f":"COUNTIF($L$7:$L$500,N12)","v":0},{"$f":"O12/$Q$4","v":0},{"$f":"IF(P12=0,0,(P12*((LOG(P12))/LOG(2))))","v":0},null,null,{"$f":"N12","v":212},{"$f":"COUNTIF(L7:L11,T12)","v":0},{"$f":"U12/(W4-U11)","v":0},{"$f":"IF(V12=0,0,(V12*((LOG(V12))/LOG(2))))","v":0},null,{"$f":"N12","v":212},{"$f":"COUNTIF(L12:L15,Y12)","v":0},{"$f":"Z12/(AB4-Z11)","v":0},{"$f":"IF(AA12=0,0,(AA12*((LOG(AA12))/LOG(2))))","v":0},null,{"$f":"N12","v":212},{"$f":"COUNTIF(L16:L20,AD12)","v":0},{"$f":"AE12/(AG4-AE11)","v":0},{"$f":"IF(AF12=0,0,(AF12*((LOG(AF12))/LOG(2))))","v":0},null,{"$f":"N12","v":212},{"$f":"COUNTIF(L21:L24,AI12)","v":0},{"$f":"AJ12/(AL4-AJ11)","v":0},{"$f":"IF(AK12=0,0,(AK12*((LOG(AK12))/LOG(2))))","v":0},null,{"$f":"N12","v":212},{"$f":"COUNTIF(L25:L29,AN12)","v":0},{"$f":"AO12/(AQ4-AO11)","v":0},{"$f":"IF(AP12=0,0,(AP12*((LOG(AP12))/LOG(2))))","v":0},null,{"$f":"N12","v":212},{"$f":"COUNTIF(L30:L33,AS12)","v":0},{"$f":"AT12/(AV4-AT11)","v":0},{"$f":"IF(AU12=0,0,(AU12*((LOG(AU12))/LOG(2))))","v":0}]
[12,824,13,829,13,834,null,null,null,null,0,111,null,221,{"$f":"COUNTIF($L$7:$L$500,N13)","v":1},{"$f":"O13/$Q$4","v":3.7037037037037035E-2},{"$f":"IF(P13=0,0,(P13*((LOG(P13))/LOG(2))))","v":-0.1761069445245729},null,null,{"$f":"N13","v":221},{"$f":"COUNTIF(L7:L11,T13)","v":1},{"$f":"U13/(W4-U11)","v":0.2},{"$f":"IF(V13=0,0,(V13*((LOG(V13))/LOG(2))))","v":-0.46438561897747244},null,{"$f":"N13","v":221},{"$f":"COUNTIF(L12:L15,Y13)","v":0},{"$f":"Z13/(AB4-Z11)","v":0},{"$f":"IF(AA13=0,0,(AA13*((LOG(AA13))/LOG(2))))","v":0},null,{"$f":"N13","v":221},{"$f":"COUNTIF(L16:L20,AD13)","v":0},{"$f":"AE13/(AG4-AE11)","v":0},{"$f":"IF(AF13=0,0,(AF13*((LOG(AF13))/LOG(2))))","v":0},null,{"$f":"N13","v":221},{"$f":"COUNTIF(L21:L24,AI13)","v":0},{"$f":"AJ13/(AL4-AJ11)","v":0},{"$f":"IF(AK13=0,0,(AK13*((LOG(AK13))/LOG(2))))","v":0},null,{"$f":"N13","v":221},{"$f":"COUNTIF(L25:L29,AN13)","v":0},{"$f":"AO13/(AQ4-AO11)","v":0},{"$f":"IF(AP13=0,0,(AP13*((LOG(AP13))/LOG(2))))","v":0},null,{"$f":"N13","v":221},{"$f":"COUNTIF(L30:L33,AS13)","v":0},{"$f":"AT13/(AV4-AT11)","v":0},{"$f":"IF(AU13=0,0,(AU13*((LOG(AU13))/LOG(2))))","v":0}]
[21,1143,22,1153,24,1164,null,null,null,null,0,222,null,222,{"$f":"COUNTIF($L$7:$L$500,N14)","v":7},{"$f":"O14/$Q$4","v":0.25925925925925924},{"$f":"IF(P14=0,0,(P14*((LOG(P14))/LOG(2))))","v":-0.5049158541015204},null,null,{"$f":"N14","v":222},{"$f":"COUNTIF(L7:L11,T14)","v":1},{"$f":"U14/(W4-U11)","v":0.2},{"$f":"IF(V14=0,0,(V14*((LOG(V14))/LOG(2))))","v":-0.46438561897747244},null,{"$f":"N14","v":222},{"$f":"COUNTIF(L12:L15,Y14)","v":2},{"$f":"Z14/(AB4-Z11)","v":0.5},{"$f":"IF(AA14=0,0,(AA14*((LOG(AA14))/LOG(2))))","v":-0.5},null,{"$f":"N14","v":222},{"$f":"COUNTIF(L16:L20,AD14)","v":1},{"$f":"AE14/(AG4-AE11)","v":0.2},{"$f":"IF(AF14=0,0,(AF14*((LOG(AF14))/LOG(2))))","v":-0.46438561897747244},null,{"$f":"N14","v":222},{"$f":"COUNTIF(L21:L24,AI14)","v":1},{"$f":"AJ14/(AL4-AJ11)","v":0.25},{"$f":"IF(AK14=0,0,(AK14*((LOG(AK14))/LOG(2))))","v":-0.5},null,{"$f":"N14","v":222},{"$f":"COUNTIF(L25:L29,AN14)","v":1},{"$f":"AO14/(AQ4-AO11)","v":0.2},{"$f":"IF(AP14=0,0,(AP14*((LOG(AP14))/LOG(2))))","v":-0.46438561897747244},null,{"$f":"N14","v":222},{"$f":"COUNTIF(L30:L33,AS14)","v":1},{"$f":"AT14/(AV4-AT11)","v":0.25},{"$f":"IF(AU14=0,0,(AU14*((LOG(AU14))/LOG(2))))","v":-0.5}]
[21,1288,22,1296,24,1301,null,null,null,null,0,222,null,null,null,{"$f":"SUM(P7:P14)","v":1},{"$f":"-SUM(Q7:Q14)","v":1.0377724203178629},null,null,null,null,{"$f":"SUM(V7:V14)","v":1},{"$f":"-SUM(W7:W14)","v":1.3709505944546687},null,null,null,{"$f":"SUM(AA7:AA14)","v":1},{"$f":"-SUM(AB7:AB14)","v":1},null,null,null,{"$f":"SUM(AF7:AF14)","v":1},{"$f":"-SUM(AG7:AG14)","v":0.72192809488736231},null,null,null,{"$f":"SUM(AK7:AK14)","v":1},{"$f":"-SUM(AL7:AL14)","v":0.81127812445913283},null,null,null,{"$f":"SUM(AP7:AP14)","v":1},{"$f":"-SUM(AQ7:AQ14)","v":0.72192809488736231},null,null,null,{"$f":"SUM(AU7:AU14)","v":1},{"$f":"-SUM(AV7:AV14)","v":0.81127812445913283}]
[12,1858,13,1863,13,1869,null,null,null,null,0,111,null,null,null,"U=",{"$f":"Q15/(LOG(Q4)/LOG(2))","v":0.21825383247146807},null,null,null,null,"U1=",{"$f":"W15/(LOG(W4)/LOG(2))","v":0.5904362833084088},null,null,null,"U2=",{"$f":"AB15/(LOG(AB4)/LOG(2))","v":0.5},null,null,null,"U3=",{"$f":"AG15/(LOG(AG4)/LOG(2))","v":0.31091750708257104},null,null,null,"U4=",{"$f":"AL15/(LOG(AL4)/LOG(2))","v":0.40563906222956642},null,null,null,"U5=",{"$f":"AQ15/(LOG(AQ4)/LOG(2))","v":0.31091750708257104},null,null,null,"U6=",{"$f":"AV15/(LOG(AV4)/LOG(2))","v":0.40563906222956642}]
[12,1986,13,1994,13,1999,null,null,null,null,0,111]
[12,2110,13,2118,13,2125,null,null,null,null,0,111]
[21,2251,22,2259,24,2264,null,null,null,null,0,222,null,"Total Target Seq"]
[12,2441,13,2446,13,2452,null,null,null,null,0,111,null,{"$f":"COUNTIF(L7:L33,G3)","v":0},null,5,4,5,4,5,4]
[12,2572,13,2579,13,2584,null,null,null,null,0,111,null,null,null,"% of reinforcement given in 6 equal intervals based on number of trials "]
[12,2737,13,2741,13,2747,null,null,null,null,0,111,null,null,null,"%_1","%_2","%_3","%_4","%_5","%_6"]
[21,3172,22,3182,24,3187,null,null,null,null,0,222,null,null,"target sequence",{"$f":"$G$3","v":211},{"$f":"$G$3","v":211},{"$f":"$G$3","v":211},{"$f":"$G$3","v":211},{"$f":"$G$3","v":211},{"$f":"$G$3","v":211}]
[12,6292,13,6299,13,6304,null,null,null,null,0,111,null,null,"total reinforcement",{"$f":"U11","v":0},{"$f":"Z11","v":0},{"$f":"AE11","v":0},{"$f":"AJ11","v":0},{"$f":"AO11","v":0},{"$f":"AT11","v":0}]
[21,12008,22,12017,24,12027,null,null,null,null,0,222,null,null,"% target"]
[12,16544,13,16550,13,16556,null,null,null,null,0,111,null,null,"CCRF"]
[12,16790,13,16795,13,16800,null,null,null,null,0,111,null,null,"% CCRf"]
[12,16909,13,16915,13,16921,null,null,null,null,0,111,null,null,"average response rate",{"$f":"F11/P20","v":120.6},{"$f":"(F15-F11)/Q20","v":174.5},{"$f":"(F20-F15)/R20","v":230.2},{"$f":"(F24-F20)/S20","v":963},{"$f":"(F29-F24)/T20","v":2150.4},{"$f":"(F33-F29)/U20","v":424.5}]
[12,17046,13,17051,13,17056,null,null,null,null,0,111]
[12,17496,13,17502,13,17510,null,null,null,null,0,111]
[12,18180,13,18190,13,18196,null,null,null,null,0,111]
[21,18506,22,18514,24,18524,null,null,null,null,0,222]
[12,18737,13,18743,13,18754,null,null,null,null,0,111]

{"sheet":"!N129940.010","index":30,"n_rows":28,"n_cols":48,"rows_kept":28,"cut":false,"hidden":false,"merged":[[4,39,4,42],[5,39,5,40],[4,44,4,47],[5,44,5,45],[4,24,4,27],[5,24,5,25],[4,29,4,32],[5,29,5,30],[4,34,4,37],[5,34,5,35],[1,1,1,2],[5,13,5,14],[18,13,18,14],[19,13,19,14],[4,19,4,22],[5,19,5,20]]}
["Report for:!N129940.010"]
["Date:","<date>"]
["Hen:","<hen>",null,null,null,"Correct Sequence",{"$f":"Start!J2","v":211},null,null,null,null,null,null,null,null,"Total Sequences in Data",{"$f":"4994-COUNTBLANK(L7:L5000)","v":12},null,null,null,null,"Total Sequences in Block Data",{"$f":"COUNTA(L7:L8)","v":2},null,null,null,"Total Sequences in Block Data",{"$f":"COUNTA(L9:L10)","v":2},null,null,null,"Total Sequences in Block Data",{"$f":"COUNTA(L11:L12)","v":2},null,null,null,"Total Sequences in Block Data",{"$f":"COUNTA(L13:L14)","v":2},null,null,null,"Total Sequences in Block Data",{"$f":"COUNTA(L15:L16)","v":2},null,null,null,"Total Sequences in Block Data",{"$f":"COUNTA(L17:L18)","v":2}]
[null,null,null,null,null,null,null,null,null,null,null,null,null,null,null,"Total Sequences in Summary",{"$f":"SUM(O7:O14)","v":12},null,null,null,null,"Total Sequences in Block Summary",{"$f":"SUM(U7:U14)","v":2},null,null,null,"Total Sequences in Block Summary",{"$f":"SUM(Z7:Z14)","v":2},null,null,null,"Total Sequences in Block Summary",{"$f":"SUM(AE7:AE14)","v":2},null,null,null,"Total Sequences in Block Summary",{"$f":"SUM(AJ7:AJ14)","v":2},null,null,null,"Total Sequences in Block Summary",{"$f":"SUM(AO7:AO14)","v":2},null,null,null,"Total Sequences in Block Summary",{"$f":"SUM(AT7:AT14)","v":2}]
[null,null,null,null,null,null,null,null,null,null,null,null,null,null,null,null,null,null,null,"Block 1",null,null,null,null,"Block 2",null,null,null,null,"Block 3",null,null,null,null,"Block 4",null,null,null,null,"Block 5",null,null,null,null,"Block 6"]
["Sequence\nComponent\n1","Time\n1","Sequence\nComponent\n2","Time\n2","Sequence\nComponent\n3","Time\n3","Sequence\nComponent\n4","Time\n4","Sequence\nComponent\n5","Time\n5","Correct?\n0=No 1=Yes","Sequence",null,"Frequency",null,"Relative Frequency","Variability",null,null,"Frequency",null,"Relative Frequency","Variability",null,"Frequency",null,"Relative Frequency","Variability",null,"Frequency",null,"Relative Frequency","Variability",null,"Frequency",null,"Relative Frequency","Variability",null,"Frequency",null,"Relative Frequency","Variability",null,"Frequency",null,"Relative Frequency","Variability"]
[21,83,22,94,24,103,null,null,null,null,0,222,null,111,{"$f":"COUNTIF($L$7:$L$500,N7)","v":6},{"$f":"O7/$Q$4","v":0.5},{"$f":"IF(P7=0,0,(P7*((LOG(P7))/LOG(2))))","v":-0.5},null,null,{"$f":"N7","v":111},{"$f":"COUNTIF(L7:L8,T7)","v":1},{"$f":"U7/(W4-U11)","v":0.5},{"$f":"IF(V7=0,0,(V7*((LOG(V7))/LOG(2))))","v":-0.5},null,{"$f":"N7","v":111},{"$f":"COUNTIF(L9:L10,Y7)","v":2},{"$f":"Z7/(AB4-Z11)","v":1},{"$f":"IF(AA7=0,0,(AA7*((LOG(AA7))/LOG(2))))","v":0},null,{"$f":"N7","v":111},{"$f":"COUNTIF(L11:L12,AD7)","v":2},{"$f":"AE7/(AG4-AE11)","v":1},{"$f":"IF(AF7=0,0,(AF7*((LOG(AF7))/LOG(2))))","v":0},null,{"$f":"N7","v":111},{"$f":"COUNTIF(L13:L14,AI7)","v":0},{"$f":"AJ7/(AL4-AJ11)","v":0},{"$f":"IF(AK7=0,0,(AK7*((LOG(AK7))/LOG(2))))","v":0},null,{"$f":"N7","v":111},{"$f":"COUNTIF(L15:L16,AN7)","v":0},{"$f":"AO7/(AQ4-AO11)","v":0},{"$f":"IF(AP7=0,0,(AP7*((LOG(AP7))/LOG(2))))","v":0},null,{"$f":"N7","v":111},{"$f":"COUNTIF(L17:L18,AS7)","v":1},{"$f":"AT7/(AV4-AT11)","v":0.5},{"$f":"IF(AU7=0,0,(AU7*((LOG(AU7))/LOG(2))))","v":-0.5}]
[12,204,13,210,13,215,null,null,null,null,0,111,null,112,{"$f":"COUNTIF($L$7:$L$500,N8)","v":0},{"$f":"O8/$Q$4","v":0},{"$f":"IF(P8=0,0,(P8*((LOG(P8))/LOG(2))))","v":0},null,null,{"$f":"N8","v":112},{"$f":"COUNTIF(L7:L8,T8)","v":0},{"$f":"U8/(W4-U11)","v":0},{"$f":"IF(V8=0,0,(V8*((LOG(V8))/LOG(2))))","v":0},null,{"$f":"N8","v":112},{"$f":"COUNTIF(L9:L10,Y8)","v":0},{"$f":"Z8/(AB4-Z11)","v":0},{"$f":"IF(AA8=0,0,(AA8*((LOG(AA8))/LOG(2))))","v":0},null,{"$f":"N8","v":112},{"$f":"COUNTIF(L11:L12,AD8)","v":0},{"$f":"AE8/(AG4-AE11)","v":0},{"$f":"IF(AF8=0,0,(AF8*((LOG(AF8))/LOG(2))))","v":0},null,{"$f":"N8","v":112},{"$f":"COUNTIF(L13:L14,AI8)","v":0},{"$f":"AJ8/(AL4-AJ11)","v":0},{"$f":"IF(AK8=0,0,(AK8*((LOG(AK8))/LOG(2))))","v":0},null,{"$f":"N8","v":112},{"$f":"COUNTIF(L15:L16,AN8)","v":0},{"$f":"AO8/(AQ4-AO11)","v":0},{"$f":"IF(AP8=0,0,(AP8*((LOG(AP8))/LOG(2))))","v":0},null,{"$f":"N8","v":112},{"$f":"COUNTIF(L17:L18,AS8)","v":0},{"$f":"AT8/(AV4-AT11)","v":0},{"$f":"IF(AU8=0,0,(AU8*((LOG(AU8))/LOG(2))))","v":0}]
[12,318,13,323,13,344,null,null,null,null,0,111,null,121,{"$f":"COUNTIF($L$7:$L$500,N9)","v":0},{"$f":"O9/$Q$4","v":0},{"$f":"IF(P9=0,0,(P9*((LOG(P9))/LOG(2))))","v":0},null,null,{"$f":"N9","v":121},{"$f":"COUNTIF(L7:L8,T9)","v":0},{"$f":"U9/(W4-U11)","v":0},{"$f":"IF(V9=0,0,(V9*((LOG(V9))/LOG(2))))","v":0},null,{"$f":"N9","v":121},{"$f":"COUNTIF(L9:L10,Y9)","v":0},{"$f":"Z9/(AB4-Z11)","v":0},{"$f":"IF(AA9=0,0,(AA9*((LOG(AA9))/LOG(2))))","v":0},null,{"$f":"N9","v":121},{"$f":"COUNTIF(L11:L12,AD9)","v":0},{"$f":"AE9/(AG4-AE11)","v":0},{"$f":"IF(AF9=0,0,(AF9*((LOG(AF9))/LOG(2))))","v":0},null,{"$f":"N9","v":121},{"$f":"COUNTIF(L13:L14,AI9)","v":0},{"$f":"AJ9/(AL4-AJ11)","v":0},{"$f":"IF(AK9=0,0,(AK9*((LOG(AK9))/LOG(2))))","v":0},null,{"$f":"N9","v":121},{"$f":"COUNTIF(L15:L16,AN9)","v":0},{"$f":"AO9/(AQ4-AO11)","v":0},{"$f":"IF(AP9=0,0,(AP9*((LOG(AP9))/LOG(2))))","v":0},null,{"$f":"N9","v":121},{"$f":"COUNTIF(L17:L18,AS9)","v":0},{"$f":"AT9/(AV4-AT11)","v":0},{"$f":"IF(AU9=0,0,(AU9*((LOG(AU9))/LOG(2))))","v":0}]
[12,449,13,454,13,459,null,null,null,null,0,111,null,122,{"$f":"COUNTIF($L$7:$L$500,N10)","v":0},{"$f":"O10/$Q$4","v":0},{"$f":"IF(P10=0,0,(P10*((LOG(P10))/LOG(2))))","v":0},null,null,{"$f":"N10","v":122},{"$f":"COUNTIF(L7:L8,T10)","v":0},{"$f":"U10/(W4-U11)","v":0},{"$f":"IF(V10=0,0,(V10*((LOG(V10))/LOG(2))))","v":0},null,{"$f":"N10","v":122},{"$f":"COUNTIF(L9:L10,Y10)","v":0},{"$f":"Z10/(AB4-Z11)","v":0},{"$f":"IF(AA10=0,0,(AA10*((LOG(AA10))/LOG(2))))","v":0},null,{"$f":"N10","v":122},{"$f":"COUNTIF(L11:L12,AD10)","v":0},{"$f":"AE10/(AG4-AE11)","v":0},{"$f":"IF(AF10=0,0,(AF10*((LOG(AF10))/LOG(2))))","v":0},null,{"$f":"N10","v":122},{"$f":"COUNTIF(L13:L14,AI10)","v":0},{"$f":"AJ10/(AL4-AJ11)","v":0},{"$f":"IF(AK10=0,0,(AK10*((LOG(AK10))/LOG(2))))","v":0},null,{"$f":"N10","v":122},{"$f":"COUNTIF(L15:L16,AN10)","v":0},{"$f":"AO10/(AQ4-AO11)","v":0},{"$f":"IF(AP10=0,0,(AP10*((LOG(AP10))/LOG(2))))","v":0},null,{"$f":"N10","v":122},{"$f":"COUNTIF(L17:L18,AS10)","v":0},{"$f":"AT10/(AV4-AT11)","v":0},{"$f":"IF(AU10=0,0,(AU10*((LOG(AU10))/LOG(2))))","v":0}]
[12,561,13,566,13,571,null,null,null,null,0,111,null,211,{"$f":"COUNTIF($L$7:$L$500,N11)","v":0},{"$f":"O11/$Q$4","v":0},{"$f":"IF(P11=0,0,(P11*((LOG(P11))/LOG(2))))","v":0},null,null,{"$f":"N11","v":211},{"$f":"COUNTIF(L7:L8,T11)","v":0},null,null,null,{"$f":"N11","v":211},{"$f":"COUNTIF(L9:L10,Y11)","v":0},null,null,null,{"$f":"N11","v":211},{"$f":"COUNTIF(L11:L12,AD11)","v":0},null,null,null,{"$f":"N11","v":211},{"$f":"COUNTIF(L13:L14,AI11)","v":0},null,null,null,{"$f":"N11","v":211},{"$f":"COUNTIF(L15:L16,AN11)","v":0},null,null,null,{"$f":"N11","v":211},{"$f":"COUNTIF(L17:L18,AS11)","v":0}]
[12,688,13,693,13,697,null,null,null,null,0,111,null,212,{"$f":"COUNTIF($L$7:$L$500,N12)","v":0},{"$f":"O12/$Q$4","v":0},{"$f":"IF(P12=0,0,(P12*((LOG(P12))/LOG(2))))","v":0},null,null,{"$f":"N12","v":212},{"$f":"COUNTIF(L7:L8,T12)","v":0},{"$f":"U12/(W4-U11)","v":0},{"$f":"IF(V12=0,0,(V12*((LOG(V12))/LOG(2))))","v":0},null,{"$f":"N12","v":212},{"$f":"COUNTIF(L9:L10,Y12)","v":0},{"$f":"Z12/(AB4-Z11)","v":0},{"$f":"IF(AA12=0,0,(AA12*((LOG(AA12))/LOG(2))))","v":0},null,{"$f":"N12","v":212},{"$f":"COUNTIF(L11:L12,AD12)","v":0},{"$f":"AE12/(AG4-AE11)","v":0},{"$f":"IF(AF12=0,0,(AF12*((LOG(AF12))/LOG(2))))","v":0},null,{"$f":"N12","v":212},{"$f":"COUNTIF(L13:L14,AI12)","v":0},{"$f":"AJ12/(AL4-AJ11)","v":0},{"$f":"IF(AK12=0,0,(AK12*((LOG(AK12))/LOG(2))))","v":0},null,{"$f":"N12","v":212},{"$f":"COUNTIF(L15:L16,AN12)","v":0},{"$f":"AO12/(AQ4-AO11)","v":0},{"$f":"IF(AP12=0,0,(AP12*((LOG(AP12))/LOG(2))))","v":0},null,{"$f":"N12","v":212},{"$f":"COUNTIF(L17:L18,AS12)","v":0},{"$f":"AT12/(AV4-AT11)","v":0},{"$f":"IF(AU12=0,0,(AU12*((LOG(AU12))/LOG(2))))","v":0}]
[21,829,22,838,24,844,null,null,null,null,0,222,null,221,{"$f":"COUNTIF($L$7:$L$500,N13)","v":0},{"$f":"O13/$Q$4","v":0},{"$f":"IF(P13=0,0,(P13*((LOG(P13))/LOG(2))))","v":0},null,null,{"$f":"N13","v":221},{"$f":"COUNTIF(L7:L8,T13)","v":0},{"$f":"U13/(W4-U11)","v":0},{"$f":"IF(V13=0,0,(V13*((LOG(V13))/LOG(2))))","v":0},null,{"$f":"N13","v":221},{"$f":"COUNTIF(L9:L10,Y13)","v":0},{"$f":"Z13/(AB4-Z11)","v":0},{"$f":"IF(AA13=0,0,(AA13*((LOG(AA13))/LOG(2))))","v":0},null,{"$f":"N13","v":221},{"$f":"COUNTIF(L11:L12,AD13)","v":0},{"$f":"AE13/(AG4-AE11)","v":0},{"$f":"IF(AF13=0,0,(AF13*((LOG(AF13))/LOG(2))))","v":0},null,{"$f":"N13","v":221},{"$f":"COUNTIF(L13:L14,AI13)","v":0},{"$f":"AJ13/(AL4-AJ11)","v":0},{"$f":"IF(AK13=0,0,(AK13*((LOG(AK13))/LOG(2))))","v":0},null,{"$f":"N13","v":221},{"$f":"COUNTIF(L15:L16,AN13)","v":0},{"$f":"AO13/(AQ4-AO11)","v":0},{"$f":"IF(AP13=0,0,(AP13*((LOG(AP13))/LOG(2))))","v":0},null,{"$f":"N13","v":221},{"$f":"COUNTIF(L17:L18,AS13)","v":0},{"$f":"AT13/(AV4-AT11)","v":0},{"$f":"IF(AU13=0,0,(AU13*((LOG(AU13))/LOG(2))))","v":0}]
[21,962,22,969,24,977,null,null,null,null,0,222,null,222,{"$f":"COUNTIF($L$7:$L$500,N14)","v":6},{"$f":"O14/$Q$4","v":0.5},{"$f":"IF(P14=0,0,(P14*((LOG(P14))/LOG(2))))","v":-0.5},null,null,{"$f":"N14","v":222},{"$f":"COUNTIF(L7:L8,T14)","v":1},{"$f":"U14/(W4-U11)","v":0.5},{"$f":"IF(V14=0,0,(V14*((LOG(V14))/LOG(2))))","v":-0.5},null,{"$f":"N14","v":222},{"$f":"COUNTIF(L9:L10,Y14)","v":0},{"$f":"Z14/(AB4-Z11)","v":0},{"$f":"IF(AA14=0,0,(AA14*((LOG(AA14))/LOG(2))))","v":0},null,{"$f":"N14","v":222},{"$f":"COUNTIF(L11:L12,AD14)","v":0},{"$f":"AE14/(AG4-AE11)","v":0},{"$f":"IF(AF14=0,0,(AF14*((LOG(AF14))/LOG(2))))","v":0},null,{"$f":"N14","v":222},{"$f":"COUNTIF(L13:L14,AI14)","v":2},{"$f":"AJ14/(AL4-AJ11)","v":1},{"$f":"IF(AK14=0,0,(AK14*((LOG(AK14))/LOG(2))))","v":0},null,{"$f":"N14","v":222},{"$f":"COUNTIF(L15:L16,AN14)","v":2},{"$f":"AO14/(AQ4-AO11)","v":1},{"$f":"IF(AP14=0,0,(AP14*((LOG(AP14))/LOG(2))))","v":0},null,{"$f":"N14","v":222},{"$f":"COUNTIF(L17:L18,AS14)","v":1},{"$f":"AT14/(AV4-AT11)","v":0.5},{"$f":"IF(AU14=0,0,(AU14*((LOG(AU14))/LOG(2))))","v":-0.5}]
[21,1103,22,1108,24,1112,null,null,null,null,0,222,null,null,null,{"$f":"SUM(P7:P14)","v":1},{"$f":"-SUM(Q7:Q14)","v":1},null,null,null,null,{"$f":"SUM(V7:V14)","v":1},{"$f":"-SUM(W7:W14)","v":1},null,null,null,{"$f":"SUM(AA7:AA14)","v":1},{"$f":"-SUM(AB7:AB14)","v":0},null,null,null,{"$f":"SUM(AF7:AF14)","v":1},{"$f":"-SUM(AG7:AG14)","v":0},null,null,null,{"$f":"SUM(AK7:AK14)","v":1},{"$f":"-SUM(AL7:AL14)","v":0},null,null,null,{"$f":"SUM(AP7:AP14)","v":1},{"$f":"-SUM(AQ7:AQ14)","v":0},null,null,null,{"$f":"SUM(AU7:AU14)","v":1},{"$f":"-SUM(AV7:AV14)","v":1}]
[21,1329,22,1335,24,1344,null,null,null,null,0,222,null,null,null,"U=",{"$f":"Q15/(LOG(Q4)/LOG(2))","v":0.27894294565112981},null,null,null,null,"U1=",{"$f":"W15/(LOG(W4)/LOG(2))","v":1},null,null,null,"U2=",{"$f":"AB15/(LOG(AB4)/LOG(2))","v":0},null,null,null,"U3=",{"$f":"AG15/(LOG(AG4)/LOG(2))","v":0},null,null,null,"U4=",{"$f":"AL15/(LOG(AL4)/LOG(2))","v":0},null,null,null,"U5=",{"$f":"AQ15/(LOG(AQ4)/LOG(2))","v":0},null,null,null,"U6=",{"$f":"AV15/(LOG(AV4)/LOG(2))","v":1}]
[12,1580,13,1586,13,1591,null,null,null,null,0,111]
[21,7297,22,7302,24,7307,null,null,null,null,0,222]
[null,null,null,null,null,null,null,null,null,null,null,null,null,"Total Target Seq"]
[null,null,null,null,null,null,null,null,null,null,null,null,null,{"$f":"COUNTIF(L7:L18,G3)","v":0},null,2,2,2,2,2,2]
[null,null,null,null,null,null,null,null,null,null,null,null,null,null,null,"% of reinforcement given in 6 equal intervals based on number of trials "]
[null,null,null,null,null,null,null,null,null,null,null,null,null,null,null,"%_1","%_2","%_3","%_4","%_5","%_6"]
[null,null,null,null,null,null,null,null,null,null,null,null,null,null,"target sequence",{"$f":"$G$3","v":211},{"$f":"$G$3","v":211},{"$f":"$G$3","v":211},{"$f":"$G$3","v":211},{"$f":"$G$3","v":211},{"$f":"$G$3","v":211}]
[null,null,null,null,null,null,null,null,null,null,null,null,null,null,"total reinforcement",{"$f":"U11","v":0},{"$f":"Z11","v":0},{"$f":"AE11","v":0},{"$f":"AJ11","v":0},{"$f":"AO11","v":0},{"$f":"AT11","v":0}]
[null,null,null,null,null,null,null,null,null,null,null,null,null,null,"% target"]
[null,null,null,null,null,null,null,null,null,null,null,null,null,null,"CCRF"]
[null,null,null,null,null,null,null,null,null,null,null,null,null,null,"% CCRf"]
[null,null,null,null,null,null,null,null,null,null,null,null,null,null,"average response rate",{"$f":"F8/P20","v":107.5},{"$f":"(F10-F8)/Q20","v":122},{"$f":"(F12-F10)/R20","v":119},{"$f":"(F14-F12)/S20","v":140},{"$f":"(F16-F14)/T20","v":183.5},{"$f":"(F18-F16)/U20","v":2981.5}]

{"sheet":"!N130950.010","index":31,"n_rows":28,"n_cols":48,"rows_kept":28,"cut":false,"hidden":false,"merged":[[4,39,4,42],[5,39,5,40],[4,44,4,47],[5,44,5,45],[4,24,4,27],[5,24,5,25],[4,29,4,32],[5,29,5,30],[4,34,4,37],[5,34,5,35],[1,1,1,2],[5,13,5,14],[18,13,18,14],[19,13,19,14],[4,19,4,22],[5,19,5,20]]}
["Report for:!N130950.010"]
["Date:","<date>"]
["Hen:","<hen>",null,null,null,"Correct Sequence",{"$f":"Start!J2","v":211},null,null,null,null,null,null,null,null,"Total Sequences in Data",{"$f":"4994-COUNTBLANK(L7:L5000)","v":7},null,null,null,null,"Total Sequences in Block Data",{"$f":"COUNTA(L7:L7)","v":1},null,null,null,"Total Sequences in Block Data",{"$f":"COUNTA(L8:L8)","v":1},null,null,null,"Total Sequences in Block Data",{"$f":"COUNTA(L9:L10)","v":2},null,null,null,"Total Sequences in Block Data",{"$f":"COUNTA(L11:L11)","v":1},null,null,null,"Total Sequences in Block Data",{"$f":"COUNTA(L12:L12)","v":1},null,null,null,"Total Sequences in Block Data",{"$f":"COUNTA(L13:L13)","v":1}]
[null,null,null,null,null,null,null,null,null,null,null,null,null,null,null,"Total Sequences in Summary",{"$f":"SUM(O7:O14)","v":7},null,null,null,null,"Total Sequences in Block Summary",{"$f":"SUM(U7:U14)","v":1},null,null,null,"Total Sequences in Block Summary",{"$f":"SUM(Z7:Z14)","v":1},null,null,null,"Total Sequences in Block Summary",{"$f":"SUM(AE7:AE14)","v":2},null,null,null,"Total Sequences in Block Summary",{"$f":"SUM(AJ7:AJ14)","v":1},null,null,null,"Total Sequences in Block Summary",{"$f":"SUM(AO7:AO14)","v":1},null,null,null,"Total Sequences in Block Summary",{"$f":"SUM(AT7:AT14)","v":1}]
[null,null,null,null,null,null,null,null,null,null,null,null,null,null,null,null,null,null,null,"Block 1",null,null,null,null,"Block 2",null,null,null,null,"Block 3",null,null,null,null,"Block 4",null,null,null,null,"Block 5",null,null,null,null,"Block 6"]
["Sequence\nComponent\n1","Time\n1","Sequence\nComponent\n2","Time\n2","Sequence\nComponent\n3","Time\n3","Sequence\nComponent\n4","Time\n4","Sequence\nComponent\n5","Time\n5","Correct?\n0=No 1=Yes","Sequence",null,"Frequency",null,"Relative Frequency","Variability",null,null,"Frequency",null,"Relative Frequency","Variability",null,"Frequency",null,"Relative Frequency","Variability",null,"Frequency",null,"Relative Frequency","Variability",null,"Frequency",null,"Relative Frequency","Variability",null,"Frequency",null,"Relative Frequency","Variability",null,"Frequency",null,"Relative Frequency","Variability"]
[12,29,13,33,13,39,null,null,null,null,0,111,null,111,{"$f":"COUNTIF($L$7:$L$500,N7)","v":4},{"$f":"O7/$Q$4","v":0.5714285714285714},{"$f":"IF(P7=0,0,(P7*((LOG(P7))/LOG(2))))","v":-0.46134566974720237},null,null,{"$f":"N7","v":111},{"$f":"COUNTIF(L7:L7,T7)","v":1},{"$f":"U7/(W4-U11)","v":1},{"$f":"IF(V7=0,0,(V7*((LOG(V7))/LOG(2))))","v":0},null,{"$f":"N7","v":111},{"$f":"COUNTIF(L8:L8,Y7)","v":0},{"$f":"Z7/(AB4-Z11)","v":0},{"$f":"IF(AA7=0,0,(AA7*((LOG(AA7))/LOG(2))))","v":0},null,{"$f":"N7","v":111},{"$f":"COUNTIF(L9:L10,AD7)","v":0},{"$f":"AE7/(AG4-AE11)","v":0},{"$f":"IF(AF7=0,0,(AF7*((LOG(AF7))/LOG(2))))","v":0},null,{"$f":"N7","v":111},{"$f":"COUNTIF(L11:L11,AI7)","v":1},{"$f":"AJ7/(AL4-AJ11)","v":1},{"$f":"IF(AK7=0,0,(AK7*((LOG(AK7))/LOG(2))))","v":0},null,{"$f":"N7","v":111},{"$f":"COUNTIF(L12:L12,AN7)","v":1},{"$f":"AO7/(AQ4-AO11)","v":1},{"$f":"IF(AP7=0,0,(AP7*((LOG(AP7))/LOG(2))))","v":0},null,{"$f":"N7","v":111},{"$f":"COUNTIF(L13:L13,AS7)","v":1},{"$f":"AT7/(AV4-AT11)","v":1},{"$f":"IF(AU7=0,0,(AU7*((LOG(AU7))/LOG(2))))","v":0}]
[21,357,22,368,24,378,null,null,null,null,0,222,null,112,{"$f":"COUNTIF($L$7:$L$500,N8)","v":0},{"$f":"O8/$Q$4","v":0},{"$f":"IF(P8=0,0,(P8*((LOG(P8))/LOG(2))))","v":0},null,null,{"$f":"N8","v":112},{"$f":"COUNTIF(L7:L7,T8)","v":0},{"$f":"U8/(W4-U11)","v":0},{"$f":"IF(V8=0,0,(V8*((LOG(V8))/LOG(2))))","v":0},null,{"$f":"N8","v":112},{"$f":"COUNTIF(L8:L8,Y8)","v":0},{"$f":"Z8/(AB4-Z11)","v":0},{"$f":"IF(AA8=0,0,(AA8*((LOG(AA8))/LOG(2))))","v":0},null,{"$f":"N8","v":112},{"$f":"COUNTIF(L9:L10,AD8)","v":0},{"$f":"AE8/(AG4-AE11)","v":0},{"$f":"IF(AF8=0,0,(AF8*((LOG(AF8))/LOG(2))))","v":0},null,{"$f":"N8","v":112},{"$f":"COUNTIF(L11:L11,AI8)","v":0},{"$f":"AJ8/(AL4-AJ11)","v":0},{"$f":"IF(AK8=0,0,(AK8*((LOG(AK8))/LOG(2))))","v":0},null,{"$f":"N8","v":112},{"$f":"COUNTIF(L12:L12,AN8)","v":0},{"$f":"AO8/(AQ4-AO11)","v":0},{"$f":"IF(AP8=0,0,(AP8*((LOG(AP8))/LOG(2))))","v":0},null,{"$f":"N8","v":112},{"$f":"COUNTIF(L13:L13,AS8)","v":0},{"$f":"AT8/(AV4-AT11)","v":0},{"$f":"IF(AU8=0,0,(AU8*((LOG(AU8))/LOG(2))))","v":0}]
[21,587,22,594,24,600,null,null,null,null,0,222,null,121,{"$f":"COUNTIF($L$7:$L$500,N9)","v":0},{"$f":"O9/$Q$4","v":0},{"$f":"IF(P9=0,0,(P9*((LOG(P9))/LOG(2))))","v":0},null,null,{"$f":"N9","v":121},{"$f":"COUNTIF(L7:L7,T9)","v":0},{"$f":"U9/(W4-U11)","v":0},{"$f":"IF(V9=0,0,(V9*((LOG(V9))/LOG(2))))","v":0},null,{"$f":"N9","v":121},{"$f":"COUNTIF(L8:L8,Y9)","v":0},{"$f":"Z9/(AB4-Z11)","v":0},{"$f":"IF(AA9=0,0,(AA9*((LOG(AA9))/LOG(2))))","v":0},null,{"$f":"N9","v":121},{"$f":"COUNTIF(L9:L10,AD9)","v":0},{"$f":"AE9/(AG4-AE11)","v":0},{"$f":"IF(AF9=0,0,(AF9*((LOG(AF9))/LOG(2))))","v":0},null,{"$f":"N9","v":121},{"$f":"COUNTIF(L11:L11,AI9)","v":0},{"$f":"AJ9/(AL4-AJ11)","v":0},{"$f":"IF(AK9=0,0,(AK9*((LOG(AK9))/LOG(2))))","v":0},null,{"$f":"N9","v":121},{"$f":"COUNTIF(L12:L12,AN9)","v":0},{"$f":"AO9/(AQ4-AO11)","v":0},{"$f":"IF(AP9=0,0,(AP9*((LOG(AP9))/LOG(2))))","v":0},null,{"$f":"N9","v":121},{"$f":"COUNTIF(L13:L13,AS9)","v":0},{"$f":"AT9/(AV4-AT11)","v":0},{"$f":"IF(AU9=0,0,(AU9*((LOG(AU9))/LOG(2))))","v":0}]
[21,1073,22,1079,24,1084,null,null,null,null,0,222,null,122,{"$f":"COUNTIF($L$7:$L$500,N10)","v":0},{"$f":"O10/$Q$4","v":0},{"$f":"IF(P10=0,0,(P10*((LOG(P10))/LOG(2))))","v":0},null,null,{"$f":"N10","v":122},{"$f":"COUNTIF(L7:L7,T10)","v":0},{"$f":"U10/(W4-U11)","v":0},{"$f":"IF(V10=0,0,(V10*((LOG(V10))/LOG(2))))","v":0},null,{"$f":"N10","v":122},{"$f":"COUNTIF(L8:L8,Y10)","v":0},{"$f":"Z10/(AB4-Z11)","v":0},{"$f":"IF(AA10=0,0,(AA10*((LOG(AA10))/LOG(2))))","v":0},null,{"$f":"N10","v":122},{"$f":"COUNTIF(L9:L10,AD10)","v":0},{"$f":"AE10/(AG4-AE11)","v":0},{"$f":"IF(AF10=0,0,(AF10*((LOG(AF10))/LOG(2))))","v":0},null,{"$f":"N10","v":122},{"$f":"COUNTIF(L11:L11,AI10)","v":0},{"$f":"AJ10/(AL4-AJ11)","v":0},{"$f":"IF(AK10=0,0,(AK10*((LOG(AK10))/LOG(2))))","v":0},null,{"$f":"N10","v":122},{"$f":"COUNTIF(L12:L12,AN10)","v":0},{"$f":"AO10/(AQ4-AO11)","v":0},{"$f":"IF(AP10=0,0,(AP10*((LOG(AP10))/LOG(2))))","v":0},null,{"$f":"N10","v":122},{"$f":"COUNTIF(L13:L13,AS10)","v":0},{"$f":"AT10/(AV4-AT11)","v":0},{"$f":"IF(AU10=0,0,(AU10*((LOG(AU10))/LOG(2))))","v":0}]
[12,16671,13,16678,13,16682,null,null,null,null,0,111,null,211,{"$f":"COUNTIF($L$7:$L$500,N11)","v":0},{"$f":"O11/$Q$4","v":0},{"$f":"IF(P11=0,0,(P11*((LOG(P11))/LOG(2))))","v":0},null,null,{"$f":"N11","v":211},{"$f":"COUNTIF(L7:L7,T11)","v":0},null,null,null,{"$f":"N11","v":211},{"$f":"COUNTIF(L8:L8,Y11)","v":0},null,null,null,{"$f":"N11","v":211},{"$f":"COUNTIF(L9:L10,AD11)","v":0},null,null,null,{"$f":"N11","v":211},{"$f":"COUNTIF(L11:L11,AI11)","v":0},null,null,null,{"$f":"N11","v":211},{"$f":"COUNTIF(L12:L12,AN11)","v":0},null,null,null,{"$f":"N11","v":211},{"$f":"COUNTIF(L13:L13,AS11)","v":0}]
[12,16807,13,16813,13,16819,null,null,null,null,0,111,null,212,{"$f":"COUNTIF($L$7:$L$500,N12)","v":0},{"$f":"O12/$Q$4","v":0},{"$f":"IF(P12=0,0,(P12*((LOG(P12))/LOG(2))))","v":0},null,null,{"$f":"N12","v":212},{"$f":"COUNTIF(L7:L7,T12)","v":0},{"$f":"U12/(W4-U11)","v":0},{"$f":"IF(V12=0,0,(V12*((LOG(V12))/LOG(2))))","v":0},null,{"$f":"N12","v":212},{"$f":"COUNTIF(L8:L8,Y12)","v":0},{"$f":"Z12/(AB4-Z11)","v":0},{"$f":"IF(AA12=0,0,(AA12*((LOG(AA12))/LOG(2))))","v":0},null,{"$f":"N12","v":212},{"$f":"COUNTIF(L9:L10,AD12)","v":0},{"$f":"AE12/(AG4-AE11)","v":0},{"$f":"IF(AF12=0,0,(AF12*((LOG(AF12))/LOG(2))))","v":0},null,{"$f":"N12","v":212},{"$f":"COUNTIF(L11:L11,AI12)","v":0},{"$f":"AJ12/(AL4-AJ11)","v":0},{"$f":"IF(AK12=0,0,(AK12*((LOG(AK12))/LOG(2))))","v":0},null,{"$f":"N12","v":212},{"$f":"COUNTIF(L12:L12,AN12)","v":0},{"$f":"AO12/(AQ4-AO11)","v":0},{"$f":"IF(AP12=0,0,(AP12*((LOG(AP12))/LOG(2))))","v":0},null,{"$f":"N12","v":212},{"$f":"COUNTIF(L13:L13,AS12)","v":0},{"$f":"AT12/(AV4-AT11)","v":0},{"$f":"IF(AU12=0,0,(AU12*((LOG(AU12))/LOG(2))))","v":0}]
[12,19665,13,19678,13,19688,null,null,null,null,0,111,null,221,{"$f":"COUNTIF($L$7:$L$500,N13)","v":0},{"$f":"O13/$Q$4","v":0},{"$f":"IF(P13=0,0,(P13*((LOG(P13))/LOG(2))))","v":0},null,null,{"$f":"N13","v":221},{"$f":"COUNTIF(L7:L7,T13)","v":0},{"$f":"U13/(W4-U11)","v":0},{"$f":"IF(V13=0,0,(V13*((LOG(V13))/LOG(2))))","v":0},null,{"$f":"N13","v":221},{"$f":"COUNTIF(L8:L8,Y13)","v":0},{"$f":"Z13/(AB4-Z11)","v":0},{"$f":"IF(AA13=0,0,(AA13*((LOG(AA13))/LOG(2))))","v":0},null,{"$f":"N13","v":221},{"$f":"COUNTIF(L9:L10,AD13)","v":0},{"$f":"AE13/(AG4-AE11)","v":0},{"$f":"IF(AF13=0,0,(AF13*((LOG(AF13))/LOG(2))))","v":0},null,{"$f":"N13","v":221},{"$f":"COUNTIF(L11:L11,AI13)","v":0},{"$f":"AJ13/(AL4-AJ11)","v":0},{"$f":"IF(AK13=0,0,(AK13*((LOG(AK13))/LOG(2))))","v":0},null,{"$f":"N13","v":221},{"$f":"COUNTIF(L12:L12,AN13)","v":0},{"$f":"AO13/(AQ4-AO11)","v":0},{"$f":"IF(AP13=0,0,(AP13*((LOG(AP13))/LOG(2))))","v":0},null,{"$f":"N13","v":221},{"$f":"COUNTIF(L13:L13,AS13)","v":0},{"$f":"AT13/(AV4-AT11)","v":0},{"$f":"IF(AU13=0,0,(AU13*((LOG(AU13))/LOG(2))))","v":0}]
[null,null,null,null,null,null,null,null,null,null,null,null,null,222,{"$f":"COUNTIF($L$7:$L$500,N14)","v":3},{"$f":"O14/$Q$4","v":0.42857142857142855},{"$f":"IF(P14=0,0,(P14*((LOG(P14))/LOG(2))))","v":-0.52388246628704915},null,null,{"$f":"N14","v":222},{"$f":"COUNTIF(L7:L7,T14)","v":0},{"$f":"U14/(W4-U11)","v":0},{"$f":"IF(V14=0,0,(V14*((LOG(V14))/LOG(2))))","v":0},null,{"$f":"N14","v":222},{"$f":"COUNTIF(L8:L8,Y14)","v":1},{"$f":"Z14/(AB4-Z11)","v":1},{"$f":"IF(AA14=0,0,(AA14*((LOG(AA14))/LOG(2))))","v":0},null,{"$f":"N14","v":222},{"$f":"COUNTIF(L9:L10,AD14)","v":2},{"$f":"AE14/(AG4-AE11)","v":1},{"$f":"IF(AF14=0,0,(AF14*((LOG(AF14))/LOG(2))))","v":0},null,{"$f":"N14","v":222},{"$f":"COUNTIF(L11:L11,AI14)","v":0},{"$f":"AJ14/(AL4-AJ11)","v":0},{"$f":"IF(AK14=0,0,(AK14*((LOG(AK14))/LOG(2))))","v":0},null,{"$f":"N14","v":222},{"$f":"COUNTIF(L12:L12,AN14)","v":0},{"$f":"AO14/(AQ4-AO11)","v":0},{"$f":"IF(AP14=0,0,(AP14*((LOG(AP14))/LOG(2))))","v":0},null,{"$f":"N14","v":222},{"$f":"COUNTIF(L13:L13,AS14)","v":0},{"$f":"AT14/(AV4-AT11)","v":0},{"$f":"IF(AU14=0,0,(AU14*((LOG(AU14))/LOG(2))))","v":0}]
[null,null,null,null,null,null,null,null,null,null,null,null,null,null,null,{"$f":"SUM(P7:P14)","v":1},{"$f":"-SUM(Q7:Q14)","v":0.98522813603425152},null,null,null,null,{"$f":"SUM(V7:V14)","v":1},{"$f":"-SUM(W7:W14)","v":0},null,null,null,{"$f":"SUM(AA7:AA14)","v":1},{"$f":"-SUM(AB7:AB14)","v":0},null,null,null,{"$f":"SUM(AF7:AF14)","v":1},{"$f":"-SUM(AG7:AG14)","v":0},null,null,null,{"$f":"SUM(AK7:AK14)","v":1},{"$f":"-SUM(AL7:AL14)","v":0},null,null,null,{"$f":"SUM(AP7:AP14)","v":1},{"$f":"-SUM(AQ7:AQ14)","v":0},null,null,null,{"$f":"SUM(AU7:AU14)","v":1},{"$f":"-SUM(AV7:AV14)","v":0}]
[null,null,null,null,null,null,null,null,null,null,null,null,null,null,null,"U=",{"$f":"Q15/(LOG(Q4)/LOG(2))","v":0.35094534299644053},null,null,null,null,"U1=",{"$f":"W15/(LOG(W4)/LOG(2))","v":{"$error":"#DIV/0!"}},null,null,null,"U2=",{"$f":"AB15/(LOG(AB4)/LOG(2))","v":{"$error":"#DIV/0!"}},null,null,null,"U3=",{"$f":"AG15/(LOG(AG4)/LOG(2))","v":0},null,null,null,"U4=",{"$f":"AL15/(LOG(AL4)/LOG(2))","v":{"$error":"#DIV/0!"}},null,null,null,"U5=",{"$f":"AQ15/(LOG(AQ4)/LOG(2))","v":{"$error":"#DIV/0!"}},null,null,null,"U6=",{"$f":"AV15/(LOG(AV4)/LOG(2))","v":{"$error":"#DIV/0!"}}]
[]
[]
[null,null,null,null,null,null,null,null,null,null,null,null,null,"Total Target Seq"]
[null,null,null,null,null,null,null,null,null,null,null,null,null,{"$f":"COUNTIF(L7:L13,G3)","v":0},null,1,1,2,1,1,1]
[null,null,null,null,null,null,null,null,null,null,null,null,null,null,null,"% of reinforcement given in 6 equal intervals based on number of trials "]
[null,null,null,null,null,null,null,null,null,null,null,null,null,null,null,"%_1","%_2","%_3","%_4","%_5","%_6"]
[null,null,null,null,null,null,null,null,null,null,null,null,null,null,"target sequence",{"$f":"$G$3","v":211},{"$f":"$G$3","v":211},{"$f":"$G$3","v":211},{"$f":"$G$3","v":211},{"$f":"$G$3","v":211},{"$f":"$G$3","v":211}]
[null,null,null,null,null,null,null,null,null,null,null,null,null,null,"total reinforcement",{"$f":"U11","v":0},{"$f":"Z11","v":0},{"$f":"AE11","v":0},{"$f":"AJ11","v":0},{"$f":"AO11","v":0},{"$f":"AT11","v":0}]
[null,null,null,null,null,null,null,null,null,null,null,null,null,null,"% target"]
[null,null,null,null,null,null,null,null,null,null,null,null,null,null,"CCRF"]
[null,null,null,null,null,null,null,null,null,null,null,null,null,null,"% CCRf"]
[null,null,null,null,null,null,null,null,null,null,null,null,null,null,"average response rate",{"$f":"F7/P20","v":39},{"$f":"(F8-F7)/Q20","v":339},{"$f":"(F10-F8)/R20","v":353},{"$f":"(F11-F10)/S20","v":15598},{"$f":"(F12-F11)/T20","v":137},{"$f":"(F13-F12)/U20","v":2869}]