{"text_format":"1","workbook":"xlsx","n_sheets":34,"sheets":["Sample Report","Summary","Start","!M830900.102","!M831940.102","!M901820.102","!M902940.102","!M903900.102","!M904A00.102","!M905910.102","!M906910.102","!M907940.102","!M908900.102","!M909940.102","!M910900.102","!M911910.102","!M912A10.102","!M913830.102","!M914A10.102","!M915840.102","!M916A10.102","!M917840.102","!M918B00.102","!M919950.102","!M920A00.102","!M921930.102","!M922900.102","!M923A10.102","!M924950.102","!M925720.102","!M926740.102","!M926B20.102","!M927830.102","!M928930.102"],"not_rendered":{"charts":0,"images":0,"macros":1,"external_links":0,"defined_names":0,"comments":0,"pivot_tables":0},"unopened":[],"bounds":{"document_bytes":16777216,"sheet_cells":100000,"rows_first":2000,"rows_last":500,"rows_between":2000,"halvings":0,"cell_chars":16384,"cell_head_chars":4096},"cells_cut":0,"cells_raw":0,"read":"whole","date_system":"1900"}

{"sheet":"Sample Report","index":0,"n_rows":12,"n_cols":11,"rows_kept":12,"cut":false,"hidden":true,"merged":[[7,0,7,6]]}
[]
["Date"]
["Hen"]
["Program"]
["Start at 999999"]
["Sequence component 1","Time 1","Seqeunce Component 2","Time 2","Seqeunce Component 3","Time 3","Correct   0 = No 1=Yes",null,null,"Seqeunce","Time"]
[12,7,12,42,13,18,"if 77 new line,                                  if 31 or 41 = yes new line on 77, ",null,null,"=string of Seqeunce compponent 1, 2 & 3","=time 3"]
["This continues until ther is a 1 on its own to indicate start of summary data"]
[null,null,null,null,null,null,null,null,null,"10-19 =1"]
["Summary Data ",null,null,null,null,null,null,null,null,"20-29 =2"]
["Correct","Incorrect","Rft","total","Av Correct","Av Incorrect","Percent correct","Time",null,"in this example the seqeunce would be 111"]
[40,33,40,73,23.95,15,54,806]

{"sheet":"Summary","index":1,"n_rows":33,"n_cols":24,"rows_kept":33,"cut":false,"hidden":false,"merged":[]}
[]
["Day","Date","Average Response Rate","Target %","RF for non correct sequence","U Value",null,null,null,null,"Block 1","Block 2","Block 3","Block 4","Block 5","Block 6"]
[1,{"$f":"'!M830900.102'!B2:C2","v":"<date>"},{"$f":"('!M830900.102'!H203/60)/'!M830900.102'!Q3","v":2.02580372250423},{"$f":"'!M830900.102'!N28/'!M830900.102'!Q3","v":0},{"$f":"SUM('!M830900.102'!L28:Q28)/'!M830900.102'!Q3","v":5.9746192893401018},{"$f":"'!M830900.102'!Q24","v":0.1360700862478772},null,null,null,"Average Response Rate",{"$f":"AVERAGE(C3:C7)","v":5.6641249062519794},{"$f":"AVERAGE(C8:C12)","v":11.873014070529859},{"$f":"AVERAGE(C13:C17)","v":21.568129759129761},{"$f":"AVERAGE(C18:C22)","v":17.222683473389353},{"$f":"AVERAGE(C23:C27)","v":16.864746498599441},{"$f":"AVERAGE(C28:C32)","v":13.345648148148149}]
[2,{"$f":"'!M831940.102'!B2:C2","v":"<date>"},{"$f":"('!M831940.102'!H150/60)/'!M831940.102'!Q3","v":2.7714120370370368},{"$f":"'!M831940.102'!N28/'!M831940.102'!Q3","v":0},{"$f":"SUM('!M831940.102'!L28:Q28)/'!M831940.102'!Q3","v":8.8194444444444446},{"$f":"'!M831940.102'!Q24","v":0.26752448224254127},null,null,null,"Target %",{"$f":"AVERAGE(D3:D7)","v":0},{"$f":"AVERAGE(D8:D12)","v":0},{"$f":"AVERAGE(D13:D17)","v":0},{"$f":"AVERAGE(D18:D22)","v":0},{"$f":"AVERAGE(D23:D27)","v":0},{"$f":"AVERAGE(D28:D32)","v":0}]
[3,{"$f":"'!M901820.102'!B2:C2","v":"<date>"},{"$f":"('!M901820.102'!H77/60)/'!M901820.102'!Q3","v":4.9633802816901404},{"$f":"'!M901820.102'!N28/'!M901820.102'!Q3","v":0},{"$f":"SUM('!M901820.102'!L28:Q28)/'!M901820.102'!Q3","v":16.140845070422536},{"$f":"'!M901820.102'!Q24","v":0.26132466618577366},null,null,null,"CCRF",{"$f":"AVERAGE(E3:E7)","v":19.806810820670478},{"$f":"AVERAGE(E8:E12)","v":30.459997265892003},{"$f":"AVERAGE(E13:E17)","v":0.35593240093240092},{"$f":"AVERAGE(E18:E22)","v":0.32773109243697479},{"$f":"AVERAGE(E23:E27)","v":0.34725490196078435},{"$f":"AVERAGE(E28:E32)","v":0.32487179487179485}]
[4,{"$f":"'!M902940.102'!B2:C2","v":"<date>"},{"$f":"('!M902940.102'!H32/60)/'!M902940.102'!Q3","v":12.947435897435897},{"$f":"'!M902940.102'!N28/'!M902940.102'!Q3","v":0},{"$f":"SUM('!M902940.102'!L28:Q28)/'!M902940.102'!Q3","v":43.07692307692308},{"$f":"'!M902940.102'!Q24","v":0.43762171467339617},null,null,null,"U Value",{"$f":"AVERAGE(F3:F7)","v":0.26793526112045857},{"$f":"AVERAGE(F8:F12)","v":0.33959210549272362},{"$f":"AVERAGE(F13:F17)","v":0.33634132528459004},{"$f":"AVERAGE(F18:F22)","v":0.44649969151938701},{"$f":"AVERAGE(F23:F27)","v":0.15378055962321185},{"$f":"AVERAGE(F28:F32)","v":0.27718442925917686}]
[5,{"$f":"'!M903900.102'!B2:C2","v":"<date>"},{"$f":"('!M903900.102'!H51/60)/'!M903900.102'!Q3","v":5.6125925925925921},{"$f":"'!M903900.102'!N28/'!M903900.102'!Q3","v":0},{"$f":"SUM('!M903900.102'!L28:Q28)/'!M903900.102'!Q3","v":25.022222222222222},{"$f":"'!M903900.102'!Q24","v":0.23713535625270471}]
[6,{"$f":"'!M904A00.102'!B2:C2","v":"<date>"},{"$f":"('!M904A00.102'!H48/60)/'!M904A00.102'!Q3","v":0},{"$f":"'!M904A00.102'!N28/'!M904A00.102'!Q3","v":0},{"$f":"SUM('!M904A00.102'!L28:Q28)/'!M904A00.102'!Q3","v":26.80952380952381},{"$f":"'!M904A00.102'!Q24","v":0.32076568648976561}]
[7,{"$f":"'!M905910.102'!B2:C2","v":"<date>"},{"$f":"('!M905910.102'!H44/60)/'!M905910.102'!Q3","v":7.5464912280701748},{"$f":"'!M905910.102'!N28/'!M905910.102'!Q3","v":0},{"$f":"SUM('!M905910.102'!L28:Q28)/'!M905910.102'!Q3","v":29.578947368421051},{"$f":"'!M905910.102'!Q24","v":0.34109364826963295},{"$f":"K3","v":5.6641249062519794},11.873014070529859,21.568129759129761,17.222683473389353,16.864746498599441,13.345648148148149,{"$f":"K4","v":0},0,0,0,0,0,{"$f":"K6","v":0.26793526112045857},0.33959210549272362,0.33634132528459004,0.44649969151938701,0.15378055962321185,0.27718442925917686]
[8,{"$f":"'!M906910.102'!B2:C2","v":"<date>"},{"$f":"('!M906910.102'!H31/60)/'!M906910.102'!Q3","v":14.010666666666665},{"$f":"'!M906910.102'!N28/'!M906910.102'!Q3","v":0},{"$f":"SUM('!M906910.102'!L28:Q28)/'!M906910.102'!Q3","v":44.76},{"$f":"'!M906910.102'!Q24","v":0.44513117418706699}]
[9,{"$f":"'!M907940.102'!B2:C2","v":"<date>"},{"$f":"('!M907940.102'!H24/60)/'!M907940.102'!Q3","v":19.776851851851852},{"$f":"'!M907940.102'!N28/'!M907940.102'!Q3","v":0},{"$f":"SUM('!M907940.102'!L28:Q28)/'!M907940.102'!Q3","v":0.33333333333333331},{"$f":"'!M907940.102'!Q24","v":0.26909684867737116}]
[10,{"$f":"'!M908900.102'!B2:C2","v":"<date>"},{"$f":"('!M908900.102'!H28/60)/'!M908900.102'!Q3","v":18.031060606060606},{"$f":"'!M908900.102'!N28/'!M908900.102'!Q3","v":0},{"$f":"SUM('!M908900.102'!L28:Q28)/'!M908900.102'!Q3","v":50.81818181818182},{"$f":"'!M908900.102'!Q24","v":0.3218731698397812}]
[11,{"$f":"'!M909940.102'!B2:C2","v":"<date>"},{"$f":"('!M909940.102'!H18/60)/'!M909940.102'!Q3","v":2.6628205128205127},{"$f":"'!M909940.102'!N28/'!M909940.102'!Q3","v":0},{"$f":"SUM('!M909940.102'!L28:Q28)/'!M909940.102'!Q3","v":0.30769230769230771},{"$f":"'!M909940.102'!Q24","v":0.29033834601153452}]
[12,{"$f":"'!M910900.102'!B2:C2","v":"<date>"},{"$f":"('!M910900.102'!H16/60)/'!M910900.102'!Q3","v":5.5772727272727272},{"$f":"'!M910900.102'!N28/'!M910900.102'!Q3","v":0},{"$f":"SUM('!M910900.102'!L28:Q28)/'!M910900.102'!Q3","v":0.36363636363636365},{"$f":"'!M910900.102'!Q24","v":0.44717262228329568}]
[13,{"$f":"'!M911910.102'!B2:C2","v":"<date>"},{"$f":"('!M911910.102'!H10/60)/'!M911910.102'!Q3","v":79.38666666666667},{"$f":"'!M911910.102'!N28/'!M911910.102'!Q3","v":0},{"$f":"SUM('!M911910.102'!L28:Q28)/'!M911910.102'!Q3","v":0.4},{"$f":"'!M911910.102'!Q24","v":0}]
[14,{"$f":"'!M912A10.102'!B2:C2","v":"<date>"},{"$f":"('!M912A10.102'!H14/60)/'!M912A10.102'!Q3","v":18.091666666666665},{"$f":"'!M912A10.102'!N28/'!M912A10.102'!Q3","v":0},{"$f":"SUM('!M912A10.102'!L28:Q28)/'!M912A10.102'!Q3","v":0.375},{"$f":"'!M912A10.102'!Q24","v":0.35375937481971098}]
[15,{"$f":"'!M913830.102'!B2:C2","v":"<date>"},{"$f":"('!M913830.102'!H11/60)/'!M913830.102'!Q3","v":2.1222222222222222},{"$f":"'!M913830.102'!N28/'!M913830.102'!Q3","v":0},{"$f":"SUM('!M913830.102'!L28:Q28)/'!M913830.102'!Q3","v":0.33333333333333331},{"$f":"'!M913830.102'!Q24","v":0.5904362833084088}]
[16,{"$f":"'!M914A10.102'!B2:C2","v":"<date>"},{"$f":"('!M914A10.102'!H21/60)/'!M914A10.102'!Q3","v":17.675555555555555},{"$f":"'!M914A10.102'!N28/'!M914A10.102'!Q3","v":0},{"$f":"SUM('!M914A10.102'!L28:Q28)/'!M914A10.102'!Q3","v":0.33333333333333331},{"$f":"'!M914A10.102'!Q24","v":0.39791484384359327}]
[17,{"$f":"'!M915840.102'!B2:C2","v":"<date>"},{"$f":"('!M915840.102'!H9/60)/'!M915840.102'!Q3","v":4.5777777777777775},{"$f":"'!M915840.102'!N28/'!M915840.102'!Q3","v":0},{"$f":"SUM('!M915840.102'!L28:Q28)/'!M915840.102'!Q3","v":0.33333333333333331},{"$f":"'!M915840.102'!Q24","v":0}]
[18,{"$f":"'!M916A10.102'!B2:C2","v":"<date>"},{"$f":"('!M916A10.102'!H9/60)/'!M916A10.102'!Q3","v":4.7666666666666666},{"$f":"'!M916A10.102'!N28/'!M916A10.102'!Q3","v":0},{"$f":"SUM('!M916A10.102'!L28:Q28)/'!M916A10.102'!Q3","v":0.33333333333333331},{"$f":"'!M916A10.102'!Q24","v":0.57938016428569505}]
[19,{"$f":"'!M917840.102'!B2:C2","v":"<date>"},{"$f":"('!M917840.102'!H12/60)/'!M917840.102'!Q3","v":56.790476190476191},{"$f":"'!M917840.102'!N28/'!M917840.102'!Q3","v":0},{"$f":"SUM('!M917840.102'!L28:Q28)/'!M917840.102'!Q3","v":0.2857142857142857},{"$f":"'!M917840.102'!Q24","v":0.74209812851030543}]
[20,{"$f":"'!M918B00.102'!B2:C2","v":"<date>"},{"$f":"('!M918B00.102'!H22/60)/'!M918B00.102'!Q3","v":2.302941176470588},{"$f":"'!M918B00.102'!N28/'!M918B00.102'!Q3","v":0},{"$f":"SUM('!M918B00.102'!L28:Q28)/'!M918B00.102'!Q3","v":0.35294117647058826},{"$f":"'!M918B00.102'!Q24","v":0.51310532095734107}]
[21,{"$f":"'!M919950.102'!B2:C2","v":"<date>"},{"$f":"('!M919950.102'!H27/60)/'!M919950.102'!Q3","v":15.104761904761904},{"$f":"'!M919950.102'!N28/'!M919950.102'!Q3","v":0},{"$f":"SUM('!M919950.102'!L28:Q28)/'!M919950.102'!Q3","v":0.33333333333333331},{"$f":"'!M919950.102'!Q24","v":0.26541434500367922}]
[22,{"$f":"'!M920A00.102'!B2:C2","v":"<date>"},{"$f":"('!M920A00.102'!H23/60)/'!M920A00.102'!Q3","v":19.226470588235294},{"$f":"'!M920A00.102'!N28/'!M920A00.102'!Q3","v":0},{"$f":"SUM('!M920A00.102'!L28:Q28)/'!M920A00.102'!Q3","v":0.35294117647058826},{"$f":"'!M920A00.102'!Q24","v":0.19257094602980901}]
[23,{"$f":"'!M921930.102'!B2:C2","v":"<date>"},{"$f":"('!M921930.102'!H11/60)/'!M921930.102'!Q3","v":44.656666666666666},{"$f":"'!M921930.102'!N28/'!M921930.102'!Q3","v":0},{"$f":"SUM('!M921930.102'!L28:Q28)/'!M921930.102'!Q3","v":0.4},{"$f":"'!M921930.102'!Q24","v":0.31091750708257104}]
[24,{"$f":"'!M922900.102'!B2:C2","v":"<date>"},{"$f":"('!M922900.102'!H10/60)/'!M922900.102'!Q3","v":2.5625},{"$f":"'!M922900.102'!N28/'!M922900.102'!Q3","v":0},{"$f":"SUM('!M922900.102'!L28:Q28)/'!M922900.102'!Q3","v":0.25},{"$f":"'!M922900.102'!Q24","v":0}]
[25,{"$f":"'!M923A10.102'!B2:C2","v":"<date>"},{"$f":"('!M923A10.102'!H10/60)/'!M923A10.102'!Q3","v":2.7733333333333334},{"$f":"'!M923A10.102'!N28/'!M923A10.102'!Q3","v":0},{"$f":"SUM('!M923A10.102'!L28:Q28)/'!M923A10.102'!Q3","v":0.4},{"$f":"'!M923A10.102'!Q24","v":0}]
[26,{"$f":"'!M924950.102'!B2:C2","v":"<date>"},{"$f":"('!M924950.102'!H10/60)/'!M924950.102'!Q3","v":3.2875000000000001},{"$f":"'!M924950.102'!N28/'!M924950.102'!Q3","v":0},{"$f":"SUM('!M924950.102'!L28:Q28)/'!M924950.102'!Q3","v":0.25},{"$f":"'!M924950.102'!Q24","v":0.40563906222956642}]
[27,{"$f":"'!M925720.102'!B2:C2","v":"<date>"},{"$f":"('!M925720.102'!H18/60)/'!M925720.102'!Q3","v":2.536111111111111},{"$f":"'!M925720.102'!N28/'!M925720.102'!Q3","v":0},{"$f":"SUM('!M925720.102'!L28:Q28)/'!M925720.102'!Q3","v":0.33333333333333331},{"$f":"'!M925720.102'!Q24","v":0.38617740187299132}]
[28,{"$f":"'!M926740.102'!B2:C2","v":"<date>"},{"$f":"('!M926740.102'!H24/60)/'!M926740.102'!Q3","v":2.9546296296296295},{"$f":"'!M926740.102'!N28/'!M926740.102'!Q3","v":0},{"$f":"SUM('!M926740.102'!L28:Q28)/'!M926740.102'!Q3","v":0.33333333333333331},{"$f":"'!M926740.102'!Q24","v":7.4232373254497122E-2}]
[29,{"$f":"'!M926B20.102'!B2:C2","v":"<date>"},21.483333333333334,0,0.30769230769230771,0.20895580185625809]
[30,{"$f":"'!M927830.102'!B2:C2","v":"<date>"},36.466666666666669,0,0.4,0.31091750708257104]
[null,{"$f":"'!M928930.102'!B2:C2","v":"<date>"},{"$f":"('!M928930.102'!H11/60)/'!M928930.102'!Q3","v":36.466666666666669},{"$f":"'!M928930.102'!N28/'!M928930.102'!Q3","v":0},{"$f":"SUM('!M928930.102'!L28:Q28)/'!M928930.102'!Q3","v":0.4},{"$f":"'!M928930.102'!Q24","v":0.31091750708257104}]

{"sheet":"Start","index":2,"n_rows":37,"n_cols":10,"rows_kept":37,"cut":false,"hidden":false,"merged":[]}
[null,null,null,null,null,"Use Folder 51",null,"Auto Clean Up",null,"Correct sequence"]
[null,null,null,null,null,false,null,true,null,2212]
[]
["Working with Folder",null,null,null,null,null,"Process All/Or Pick A number: ALL or an integer"]
["E:\\Hen Data\\Raw Data\\102_182\\phase 3 var\\",null,null,null,null,null,"ALL"]
["Filenames:"]
["!M911910.102",null,null,null,null,null,"Paint Cells"]
["!M912A10.102",null,null,null,null,null,false]
["!M913830.102"]
["!M914A10.102"]
["!M915840.102"]
["!M916A10.102"]
["!M917840.102"]
["!M918B00.102"]
["!M919950.102"]
["!M920A00.102"]
["!M921930.102"]
["!M922900.102"]
["!M923A10.102"]
["!M924950.102"]
["!M925720.102"]
["!M926740.102"]
["!M926B20.102"]
["!M927830.102"]
["!M928930.102"]
["!M830900.102"]
["!M831940.102"]
["!M901820.102"]
["!M902940.102"]
["!M903900.102"]
["!M904A00.102"]
["!M905910.102"]
["!M906910.102"]
["!M907940.102"]
["!M908900.102"]
["!M909940.102"]
["!M910900.102"]

{"sheet":"!M830900.102","index":3,"n_rows":203,"n_cols":48,"rows_kept":203,"cut":false,"hidden":false,"merged":[[4,39,4,42],[5,39,5,40],[4,44,4,47],[5,44,5,45],[4,24,4,27],[5,24,5,25],[4,29,4,32],[5,29,5,30],[4,34,4,37],[5,34,5,35],[1,1,1,2],[5,13,5,14],[26,13,26,14],[27,13,27,14],[4,19,4,22],[5,19,5,20]]}
["Report for:!M830900.102"]
["Date:","<date>"]
["Hen:","<hen>",null,null,null,"Correct Sequence",{"$f":"Start!J2","v":2212},null,null,null,null,null,null,null,null,"Total Sequences in Data",{"$f":"4994-COUNTBLANK(L7:L5000)","v":197},null,null,null,null,"Total Sequences in Block Data",{"$f":"COUNTA(L7:L39)","v":33},null,null,null,"Total Sequences in Block Data",{"$f":"COUNTA(L40:L72)","v":33},null,null,null,"Total Sequences in Block Data",{"$f":"COUNTA(L73:L104)","v":32},null,null,null,"Total Sequences in Block Data",{"$f":"COUNTA(L105:L137)","v":33},null,null,null,"Total Sequences in Block Data",{"$f":"COUNTA(L138:L170)","v":33},null,null,null,"Total Sequences in Block Data",{"$f":"COUNTA(L171:L203)","v":33}]
[null,null,null,null,null,null,null,null,null,null,null,null,null,null,null,"Total Sequences in Summary",{"$f":"SUM(O7:O22)","v":197},null,null,null,null,"Total Sequences in Block Summary",{"$f":"SUM(U7:U22)","v":33},null,null,null,"Total Sequences in Block Summary",{"$f":"SUM(Z7:Z22)","v":33},null,null,null,"Total Sequences in Block Summary",{"$f":"SUM(AE7:AE22)","v":32},null,null,null,"Total Sequences in Block Summary",{"$f":"SUM(AJ7:AJ22)","v":33},null,null,null,"Total Sequences in Block Summary",{"$f":"SUM(AO7:AO22)","v":33},null,null,null,"Total Sequences in Block Summary",{"$f":"SUM(AT7:AT22)","v":33}]
[null,null,null,null,null,null,null,null,null,null,null,null,null,null,null,null,null,null,null,"Block 1",null,null,null,null,"Block 2",null,null,null,null,"Block 3",null,null,null,null,"Block 4",null,null,null,null,"Block 5",null,null,null,null,"Block 6"]
["Sequence\nComponent\n1","Time\n1","Sequence\nComponent\n2","Time\n2","Sequence\nComponent\n3","Time\n3","Sequence\nComponent\n4","Time\n4","Sequence\nComponent\n5","Time\n5","Correct?\n0=No 1=Yes","Sequence",null,"Frequency",null,"Relative Frequency","Variability",null,null,"Frequency",null,"Relative Frequency","Variability",null,"Frequency",null,"Relative Frequency","Variability",null,"Frequency",null,"Relative Frequency","Variability",null,"Frequency",null,"Relative Frequency","Variability",null,"Frequency",null,"Relative Frequency","Variability",null,"Frequency",null,"Relative Frequency","Variability"]
[12,9,23,21,24,36,23,54,null,null,0,1222,null,1111,{"$f":"COUNTIF($L$7:$L$500,N7)","v":147},{"$f":"O7/$Q$4","v":0.74619289340101524},{"$f":"IF(P7=0,0,(P7*((LOG(P7))/LOG(2))))","v":-0.31517656227990731},null,null,{"$f":"N7","v":1111},{"$f":"COUNTIF(L7:L39,T7)","v":11},{"$f":"U7/(W4-U20)","v":0.33333333333333331},{"$f":"IF(V7=0,0,(V7*((LOG(V7))/LOG(2))))","v":-0.52832083357371862},null,{"$f":"N7","v":1111},{"$f":"COUNTIF(L40:L72,Y7)","v":23},{"$f":"Z7/(AB4-Z20)","v":0.69696969696969702},{"$f":"IF(AA7=0,0,(AA7*((LOG(AA7))/LOG(2))))","v":-0.36300423502827672},null,{"$f":"N7","v":1111},{"$f":"COUNTIF(L73:L104,AD7)","v":26},{"$f":"AE7/(AG4-AE20)","v":0.8125},{"$f":"IF(AF7=0,0,(AF7*((LOG(AF7))/LOG(2))))","v":-0.24339272901036266},null,{"$f":"N7","v":1111},{"$f":"COUNTIF(L105:L137,AI7)","v":28},{"$f":"AJ7/(AL4-AJ20)","v":0.84848484848484851},{"$f":"IF(AK7=0,0,(AK7*((LOG(AK7))/LOG(2))))","v":-0.20112416740678121},null,{"$f":"N7","v":1111},{"$f":"COUNTIF(L138:L170,AN7)","v":30},{"$f":"AO7/(AQ4-AO20)","v":0.90909090909090906},{"$f":"IF(AP7=0,0,(AP7*((LOG(AP7))/LOG(2))))","v":-0.12500320340903179},null,{"$f":"N7","v":1111},{"$f":"COUNTIF(L171:L203,AS7)","v":29},{"$f":"AT7/(AV4-AT20)","v":0.87878787878787878},{"$f":"IF(AU7=0,0,(AU7*((LOG(AU7))/LOG(2))))","v":-0.16381759402107751}]
[12,155,14,160,13,168,23,195,null,null,0,1112,null,1112,{"$f":"COUNTIF($L$7:$L$500,N8)","v":40},{"$f":"O8/$Q$4","v":0.20304568527918782},{"$f":"IF(P8=0,0,(P8*((LOG(P8))/LOG(2))))","v":-0.46703019788203326},null,null,{"$f":"N8","v":1112},{"$f":"COUNTIF(L7:L39,T8)","v":17},{"$f":"U8/(W4-U20)","v":0.51515151515151514},{"$f":"IF(V8=0,0,(V8*((LOG(V8))/LOG(2))))","v":-0.49296459781327084},null,{"$f":"N8","v":1112},{"$f":"COUNTIF(L40:L72,Y8)","v":10},{"$f":"Z8/(AB4-Z20)","v":0.30303030303030304},{"$f":"IF(AA8=0,0,(AA8*((LOG(AA8))/LOG(2))))","v":-0.52195940135487617},null,{"$f":"N8","v":1112},{"$f":"COUNTIF(L73:L104,AD8)","v":5},{"$f":"AE8/(AG4-AE20)","v":0.15625},{"$f":"IF(AF8=0,0,(AF8*((LOG(AF8))/LOG(2))))","v":-0.41844873517384967},null,{"$f":"N8","v":1112},{"$f":"COUNTIF(L105:L137,AI8)","v":4},{"$f":"AJ8/(AL4-AJ20)","v":0.12121212121212122},{"$f":"IF(AK8=0,0,(AK8*((LOG(AK8))/LOG(2))))","v":-0.36901746901314586},null,{"$f":"N8","v":1112},{"$f":"COUNTIF(L138:L170,AN8)","v":1},{"$f":"AO8/(AQ4-AO20)","v":3.0303030303030304E-2},{"$f":"IF(AP8=0,0,(AP8*((LOG(AP8))/LOG(2))))","v":-0.15286042785934709},null,{"$f":"N8","v":1112},{"$f":"COUNTIF(L171:L203,AS8)","v":3},{"$f":"AT8/(AV4-AT20)","v":9.0909090909090912E-2},{"$f":"IF(AU8=0,0,(AU8*((LOG(AU8))/LOG(2))))","v":-0.31449378351248153}]
[12,295,23,319,24,330,23,335,null,null,0,1222,null,1121,{"$f":"COUNTIF($L$7:$L$500,N9)","v":0},{"$f":"O9/$Q$4","v":0},{"$f":"IF(P9=0,0,(P9*((LOG(P9))/LOG(2))))","v":0},null,null,{"$f":"N9","v":1121},{"$f":"COUNTIF(L7:L39,T9)","v":0},{"$f":"U9/(W4-U20)","v":0},{"$f":"IF(V9=0,0,(V9*((LOG(V9))/LOG(2))))","v":0},null,{"$f":"N9","v":1121},{"$f":"COUNTIF(L40:L72,Y9)","v":0},{"$f":"Z9/(AB4-Z20)","v":0},{"$f":"IF(AA9=0,0,(AA9*((LOG(AA9))/LOG(2))))","v":0},null,{"$f":"N9","v":1121},{"$f":"COUNTIF(L73:L104,AD9)","v":0},{"$f":"AE9/(AG4-AE20)","v":0},{"$f":"IF(AF9=0,0,(AF9*((LOG(AF9))/LOG(2))))","v":0},null,{"$f":"N9","v":1121},{"$f":"COUNTIF(L105:L137,AI9)","v":0},{"$f":"AJ9/(AL4-AJ20)","v":0},{"$f":"IF(AK9=0,0,(AK9*((LOG(AK9))/LOG(2))))","v":0},null,{"$f":"N9","v":1121},{"$f":"COUNTIF(L138:L170,AN9)","v":0},{"$f":"AO9/(AQ4-AO20)","v":0},{"$f":"IF(AP9=0,0,(AP9*((LOG(AP9))/LOG(2))))","v":0},null,{"$f":"N9","v":1121},{"$f":"COUNTIF(L171:L203,AS9)","v":0},{"$f":"AT9/(AV4-AT20)","v":0},{"$f":"IF(AU9=0,0,(AU9*((LOG(AU9))/LOG(2))))","v":0}]
[12,434,14,439,13,445,23,456,null,null,0,1112,null,1122,{"$f":"COUNTIF($L$7:$L$500,N10)","v":8},{"$f":"O10/$Q$4","v":4.060913705583756E-2},{"$f":"IF(P10=0,0,(P10*((LOG(P10))/LOG(2))))","v":-0.18769753581548734},null,null,{"$f":"N10","v":1122},{"$f":"COUNTIF(L7:L39,T10)","v":3},{"$f":"U10/(W4-U20)","v":9.0909090909090912E-2},{"$f":"IF(V10=0,0,(V10*((LOG(V10))/LOG(2))))","v":-0.31449378351248153},null,{"$f":"N10","v":1122},{"$f":"COUNTIF(L40:L72,Y10)","v":0},{"$f":"Z10/(AB4-Z20)","v":0},{"$f":"IF(AA10=0,0,(AA10*((LOG(AA10))/LOG(2))))","v":0},null,{"$f":"N10","v":1122},{"$f":"COUNTIF(L73:L104,AD10)","v":1},{"$f":"AE10/(AG4-AE20)","v":3.125E-2},{"$f":"IF(AF10=0,0,(AF10*((LOG(AF10))/LOG(2))))","v":-0.15625},null,{"$f":"N10","v":1122},{"$f":"COUNTIF(L105:L137,AI10)","v":1},{"$f":"AJ10/(AL4-AJ20)","v":3.0303030303030304E-2},{"$f":"IF(AK10=0,0,(AK10*((LOG(AK10))/LOG(2))))","v":-0.15286042785934709},null,{"$f":"N10","v":1122},{"$f":"COUNTIF(L138:L170,AN10)","v":2},{"$f":"AO10/(AQ4-AO20)","v":6.0606060606060608E-2},{"$f":"IF(AP10=0,0,(AP10*((LOG(AP10))/LOG(2))))","v":-0.24511479511263354},null,{"$f":"N10","v":1122},{"$f":"COUNTIF(L171:L203,AS10)","v":1},{"$f":"AT10/(AV4-AT20)","v":3.0303030303030304E-2},{"$f":"IF(AU10=0,0,(AU10*((LOG(AU10))/LOG(2))))","v":-0.15286042785934709}]
[12,560,14,565,24,575,23,586,null,null,0,1122,null,1211,{"$f":"COUNTIF($L$7:$L$500,N11)","v":0},{"$f":"O11/$Q$4","v":0},{"$f":"IF(P11=0,0,(P11*((LOG(P11))/LOG(2))))","v":0},null,null,{"$f":"N11","v":1211},{"$f":"COUNTIF(L7:L39,T11)","v":0},{"$f":"U11/(W4-U20)","v":0},{"$f":"IF(V11=0,0,(V11*((LOG(V11))/LOG(2))))","v":0},null,{"$f":"N11","v":1211},{"$f":"COUNTIF(L40:L72,Y11)","v":0},{"$f":"Z11/(AB4-Z20)","v":0},{"$f":"IF(AA11=0,0,(AA11*((LOG(AA11))/LOG(2))))","v":0},null,{"$f":"N11","v":1211},{"$f":"COUNTIF(L73:L104,AD11)","v":0},{"$f":"AE11/(AG4-AE20)","v":0},{"$f":"IF(AF11=0,0,(AF11*((LOG(AF11))/LOG(2))))","v":0},null,{"$f":"N11","v":1211},{"$f":"COUNTIF(L105:L137,AI11)","v":0},{"$f":"AJ11/(AL4-AJ20)","v":0},{"$f":"IF(AK11=0,0,(AK11*((LOG(AK11))/LOG(2))))","v":0},null,{"$f":"N11","v":1211},{"$f":"COUNTIF(L138:L170,AN11)","v":0},{"$f":"AO11/(AQ4-AO20)","v":0},{"$f":"IF(AP11=0,0,(AP11*((LOG(AP11))/LOG(2))))","v":0},null,{"$f":"N11","v":1211},{"$f":"COUNTIF(L171:L203,AS11)","v":0},{"$f":"AT11/(AV4-AT20)","v":0},{"$f":"IF(AU11=0,0,(AU11*((LOG(AU11))/LOG(2))))","v":0}]
[12,685,14,690,13,695,23,706,null,null,0,1112,null,1212,{"$f":"COUNTIF($L$7:$L$500,N12)","v":0},{"$f":"O12/$Q$4","v":0},{"$f":"IF(P12=0,0,(P12*((LOG(P12))/LOG(2))))","v":0},null,null,{"$f":"N12","v":1212},{"$f":"COUNTIF(L7:L39,T12)","v":0},{"$f":"U12/(W4-U20)","v":0},{"$f":"IF(V12=0,0,(V12*((LOG(V12))/LOG(2))))","v":0},null,{"$f":"N12","v":1212},{"$f":"COUNTIF(L40:L72,Y12)","v":0},{"$f":"Z12/(AB4-Z20)","v":0},{"$f":"IF(AA12=0,0,(AA12*((LOG(AA12))/LOG(2))))","v":0},null,{"$f":"N12","v":1212},{"$f":"COUNTIF(L73:L104,AD12)","v":0},{"$f":"AE12/(AG4-AE20)","v":0},{"$f":"IF(AF12=0,0,(AF12*((LOG(AF12))/LOG(2))))","v":0},null,{"$f":"N12","v":1212},{"$f":"COUNTIF(L105:L137,AI12)","v":0},{"$f":"AJ12/(AL4-AJ20)","v":0},{"$f":"IF(AK12=0,0,(AK12*((LOG(AK12))/LOG(2))))","v":0},null,{"$f":"N12","v":1212},{"$f":"COUNTIF(L138:L170,AN12)","v":0},{"$f":"AO12/(AQ4-AO20)","v":0},{"$f":"IF(AP12=0,0,(AP12*((LOG(AP12))/LOG(2))))","v":0},null,{"$f":"N12","v":1212},{"$f":"COUNTIF(L171:L203,AS12)","v":0},{"$f":"AT12/(AV4-AT20)","v":0},{"$f":"IF(AU12=0,0,(AU12*((LOG(AU12))/LOG(2))))","v":0}]
[12,809,14,813,13,818,23,828,null,null,0,1112,null,1221,{"$f":"COUNTIF($L$7:$L$500,N13)","v":0},{"$f":"O13/$Q$4","v":0},{"$f":"IF(P13=0,0,(P13*((LOG(P13))/LOG(2))))","v":0},null,null,{"$f":"N13","v":1221},{"$f":"COUNTIF(L7:L39,T13)","v":0},{"$f":"U13/(W4-U20)","v":0},{"$f":"IF(V13=0,0,(V13*((LOG(V13))/LOG(2))))","v":0},null,{"$f":"N13","v":1221},{"$f":"COUNTIF(L40:L72,Y13)","v":0},{"$f":"Z13/(AB4-Z20)","v":0},{"$f":"IF(AA13=0,0,(AA13*((LOG(AA13))/LOG(2))))","v":0},null,{"$f":"N13","v":1221},{"$f":"COUNTIF(L73:L104,AD13)","v":0},{"$f":"AE13/(AG4-AE20)","v":0},{"$f":"IF(AF13=0,0,(AF13*((LOG(AF13))/LOG(2))))","v":0},null,{"$f":"N13","v":1221},{"$f":"COUNTIF(L105:L137,AI13)","v":0},{"$f":"AJ13/(AL4-AJ20)","v":0},{"$f":"IF(AK13=0,0,(AK13*((LOG(AK13))/LOG(2))))","v":0},null,{"$f":"N13","v":1221},{"$f":"COUNTIF(L138:L170,AN13)","v":0},{"$f":"AO13/(AQ4-AO20)","v":0},{"$f":"IF(AP13=0,0,(AP13*((LOG(AP13))/LOG(2))))","v":0},null,{"$f":"N13","v":1221},{"$f":"COUNTIF(L171:L203,AS13)","v":0},{"$f":"AT13/(AV4-AT20)","v":0},{"$f":"IF(AU13=0,0,(AU13*((LOG(AU13))/LOG(2))))","v":0}]
[12,927,14,932,13,938,23,951,null,null,0,1112,null,1222,{"$f":"COUNTIF($L$7:$L$500,N14)","v":2},{"$f":"O14/$Q$4","v":1.015228426395939E-2},{"$f":"IF(P14=0,0,(P14*((LOG(P14))/LOG(2))))","v":-6.7228952481790616E-2},null,null,{"$f":"N14","v":1222},{"$f":"COUNTIF(L7:L39,T14)","v":2},{"$f":"U14/(W4-U20)","v":6.0606060606060608E-2},{"$f":"IF(V14=0,0,(V14*((LOG(V14))/LOG(2))))","v":-0.24511479511263354},null,{"$f":"N14","v":1222},{"$f":"COUNTIF(L40:L72,Y14)","v":0},{"$f":"Z14/(AB4-Z20)","v":0},{"$f":"IF(AA14=0,0,(AA14*((LOG(AA14))/LOG(2))))","v":0},null,{"$f":"N14","v":1222},{"$f":"COUNTIF(L73:L104,AD14)","v":0},{"$f":"AE14/(AG4-AE20)","v":0},{"$f":"IF(AF14=0,0,(AF14*((LOG(AF14))/LOG(2))))","v":0},null,{"$f":"N14","v":1222},{"$f":"COUNTIF(L105:L137,AI14)","v":0},{"$f":"AJ14/(AL4-AJ20)","v":0},{"$f":"IF(AK14=0,0,(AK14*((LOG(AK14))/LOG(2))))","v":0},null,{"$f":"N14","v":1222},{"$f":"COUNTIF(L138:L170,AN14)","v":0},{"$f":"AO14/(AQ4-AO20)","v":0},{"$f":"IF(AP14=0,0,(AP14*((LOG(AP14))/LOG(2))))","v":0},null,{"$f":"N14","v":1222},{"$f":"COUNTIF(L171:L203,AS14)","v":0},{"$f":"AT14/(AV4-AT20)","v":0},{"$f":"IF(AU14=0,0,(AU14*((LOG(AU14))/LOG(2))))","v":0}]
[12,1050,14,1054,13,1059,14,1065,null,null,0,1111,null,2111,{"$f":"COUNTIF($L$7:$L$500,N15)","v":0},{"$f":"O15/$Q$4","v":0},{"$f":"IF(P15=0,0,(P15*((LOG(P15))/LOG(2))))","v":0},null,null,{"$f":"N15","v":2111},{"$f":"COUNTIF(L7:L39,T15)","v":0},{"$f":"U15/(W4-U20)","v":0},{"$f":"IF(V15=0,0,(V15*((LOG(V15))/LOG(2))))","v":0},null,{"$f":"N15","v":2111},{"$f":"COUNTIF(L40:L72,Y15)","v":0},{"$f":"Z15/(AB4-Z20)","v":0},{"$f":"IF(AA15=0,0,(AA15*((LOG(AA15))/LOG(2))))","v":0},null,{"$f":"N15","v":2111},{"$f":"COUNTIF(L73:L104,AD15)","v":0},{"$f":"AE15/(AG4-AE20)","v":0},{"$f":"IF(AF15=0,0,(AF15*((LOG(AF15))/LOG(2))))","v":0},null,{"$f":"N15","v":2111},{"$f":"COUNTIF(L105:L137,AI15)","v":0},{"$f":"AJ15/(AL4-AJ20)","v":0},{"$f":"IF(AK15=0,0,(AK15*((LOG(AK15))/LOG(2))))","v":0},null,{"$f":"N15","v":2111},{"$f":"COUNTIF(L138:L170,AN15)","v":0},{"$f":"AO15/(AQ4-AO20)","v":0},{"$f":"IF(AP15=0,0,(AP15*((LOG(AP15))/LOG(2))))","v":0},null,{"$f":"N15","v":2111},{"$f":"COUNTIF(L171:L203,AS15)","v":0},{"$f":"AT15/(AV4-AT20)","v":0},{"$f":"IF(AU15=0,0,(AU15*((LOG(AU15))/LOG(2))))","v":0}]
[12,1165,14,1170,13,1179,23,1189,null,null,0,1112,null,2112,{"$f":"COUNTIF($L$7:$L$500,N16)","v":0},{"$f":"O16/$Q$4","v":0},{"$f":"IF(P16=0,0,(P16*((LOG(P16))/LOG(2))))","v":0},null,null,{"$f":"N16","v":2112},{"$f":"COUNTIF(L7:L39,T16)","v":0},{"$f":"U16/(W4-U20)","v":0},{"$f":"IF(V16=0,0,(V16*((LOG(V16))/LOG(2))))","v":0},null,{"$f":"N16","v":2112},{"$f":"COUNTIF(L40:L72,Y16)","v":0},{"$f":"Z16/(AB4-Z20)","v":0},{"$f":"IF(AA16=0,0,(AA16*((LOG(AA16))/LOG(2))))","v":0},null,{"$f":"N16","v":2112},{"$f":"COUNTIF(L73:L104,AD16)","v":0},{"$f":"AE16/(AG4-AE20)","v":0},{"$f":"IF(AF16=0,0,(AF16*((LOG(AF16))/LOG(2))))","v":0},null,{"$f":"N16","v":2112},{"$f":"COUNTIF(L105:L137,AI16)","v":0},{"$f":"AJ16/(AL4-AJ20)","v":0},{"$f":"IF(AK16=0,0,(AK16*((LOG(AK16))/LOG(2))))","v":0},null,{"$f":"N16","v":2112},{"$f":"COUNTIF(L138:L170,AN16)","v":0},{"$f":"AO16/(AQ4-AO20)","v":0},{"$f":"IF(AP16=0,0,(AP16*((LOG(AP16))/LOG(2))))","v":0},null,{"$f":"N16","v":2112},{"$f":"COUNTIF(L171:L203,AS16)","v":0},{"$f":"AT16/(AV4-AT20)","v":0},{"$f":"IF(AU16=0,0,(AU16*((LOG(AU16))/LOG(2))))","v":0}]
[12,1288,14,1292,13,1298,23,1316,null,null,0,1112,null,2121,{"$f":"COUNTIF($L$7:$L$500,N17)","v":0},{"$f":"O17/$Q$4","v":0},{"$f":"IF(P17=0,0,(P17*((LOG(P17))/LOG(2))))","v":0},null,null,{"$f":"N17","v":2121},{"$f":"COUNTIF(L7:L39,T17)","v":0},{"$f":"U17/(W4-U20)","v":0},{"$f":"IF(V17=0,0,(V17*((LOG(V17))/LOG(2))))","v":0},null,{"$f":"N17","v":2121},{"$f":"COUNTIF(L40:L72,Y17)","v":0},{"$f":"Z17/(AB4-Z20)","v":0},{"$f":"IF(AA17=0,0,(AA17*((LOG(AA17))/LOG(2))))","v":0},null,{"$f":"N17","v":2121},{"$f":"COUNTIF(L73:L104,AD17)","v":0},{"$f":"AE17/(AG4-AE20)","v":0},{"$f":"IF(AF17=0,0,(AF17*((LOG(AF17))/LOG(2))))","v":0},null,{"$f":"N17","v":2121},{"$f":"COUNTIF(L105:L137,AI17)","v":0},{"$f":"AJ17/(AL4-AJ20)","v":0},{"$f":"IF(AK17=0,0,(AK17*((LOG(AK17))/LOG(2))))","v":0},null,{"$f":"N17","v":2121},{"$f":"COUNTIF(L138:L170,AN17)","v":0},{"$f":"AO17/(AQ4-AO20)","v":0},{"$f":"IF(AP17=0,0,(AP17*((LOG(AP17))/LOG(2))))","v":0},null,{"$f":"N17","v":2121},{"$f":"COUNTIF(L171:L203,AS17)","v":0},{"$f":"AT17/(AV4-AT20)","v":0},{"$f":"IF(AU17=0,0,(AU17*((LOG(AU17))/LOG(2))))","v":0}]
[12,1417,14,1422,13,1428,14,1434,null,null,0,1111,null,2122,{"$f":"COUNTIF($L$7:$L$500,N18)","v":0},{"$f":"O18/$Q$4","v":0},{"$f":"IF(P18=0,0,(P18*((LOG(P18))/LOG(2))))","v":0},null,null,{"$f":"N18","v":2122},{"$f":"COUNTIF(L7:L39,T18)","v":0},{"$f":"U18/(W4-U20)","v":0},{"$f":"IF(V18=0,0,(V18*((LOG(V18))/LOG(2))))","v":0},null,{"$f":"N18","v":2122},{"$f":"COUNTIF(L40:L72,Y18)","v":0},{"$f":"Z18/(AB4-Z20)","v":0},{"$f":"IF(AA18=0,0,(AA18*((LOG(AA18))/LOG(2))))","v":0},null,{"$f":"N18","v":2122},{"$f":"COUNTIF(L73:L104,AD18)","v":0},{"$f":"AE18/(AG4-AE20)","v":0},{"$f":"IF(AF18=0,0,(AF18*((LOG(AF18))/LOG(2))))","v":0},null,{"$f":"N18","v":2122},{"$f":"COUNTIF(L105:L137,AI18)","v":0},{"$f":"AJ18/(AL4-AJ20)","v":0},{"$f":"IF(AK18=0,0,(AK18*((LOG(AK18))/LOG(2))))","v":0},null,{"$f":"N18","v":2122},{"$f":"COUNTIF(L138:L170,AN18)","v":0},{"$f":"AO18/(AQ4-AO20)","v":0},{"$f":"IF(AP18=0,0,(AP18*((LOG(AP18))/LOG(2))))","v":0},null,{"$f":"N18","v":2122},{"$f":"COUNTIF(L171:L203,AS18)","v":0},{"$f":"AT18/(AV4-AT20)","v":0},{"$f":"IF(AU18=0,0,(AU18*((LOG(AU18))/LOG(2))))","v":0}]
[12,1530,14,1534,13,1540,23,1553,null,null,0,1112,null,2211,{"$f":"COUNTIF($L$7:$L$500,N19)","v":0},{"$f":"O19/$Q$4","v":0},{"$f":"IF(P19=0,0,(P19*((LOG(P19))/LOG(2))))","v":0},null,null,{"$f":"N19","v":2211},{"$f":"COUNTIF(L7:L39,T19)","v":0},{"$f":"U19/(W4-U20)","v":0},{"$f":"IF(V19=0,0,(V19*((LOG(V19))/LOG(2))))","v":0},null,{"$f":"N19","v":2211},{"$f":"COUNTIF(L40:L72,Y19)","v":0},{"$f":"Z19/(AB4-Z20)","v":0},{"$f":"IF(AA19=0,0,(AA19*((LOG(AA19))/LOG(2))))","v":0},null,{"$f":"N19","v":2211},{"$f":"COUNTIF(L73:L104,AD19)","v":0},{"$f":"AE19/(AG4-AE20)","v":0},{"$f":"IF(AF19=0,0,(AF19*((LOG(AF19))/LOG(2))))","v":0},null,{"$f":"N19","v":2211},{"$f":"COUNTIF(L105:L137,AI19)","v":0},{"$f":"AJ19/(AL4-AJ20)","v":0},{"$f":"IF(AK19=0,0,(AK19*((LOG(AK19))/LOG(2))))","v":0},null,{"$f":"N19","v":2211},{"$f":"COUNTIF(L138:L170,AN19)","v":0},{"$f":"AO19/(AQ4-AO20)","v":0},{"$f":"IF(AP19=0,0,(AP19*((LOG(AP19))/LOG(2))))","v":0},null,{"$f":"N19","v":2211},{"$f":"COUNTIF(L171:L203,AS19)","v":0},{"$f":"AT19/(AV4-AT20)","v":0},{"$f":"IF(AU19=0,0,(AU19*((LOG(AU19))/LOG(2))))","v":0}]
[12,1654,14,1658,13,1662,14,1667,null,null,0,1111,null,2212,{"$f":"COUNTIF($L$7:$L$500,N20)","v":0},{"$f":"O20/$Q$4","v":0},{"$f":"IF(P20=0,0,(P20*((LOG(P20))/LOG(2))))","v":0},null,null,{"$f":"N20","v":2212},{"$f":"COUNTIF(L7:L39,T20)","v":0},null,null,null,{"$f":"N20","v":2212},{"$f":"COUNTIF(L40:L72,Y20)","v":0},null,null,null,{"$f":"N20","v":2212},{"$f":"COUNTIF(L73:L104,AD20)","v":0},null,null,null,{"$f":"N20","v":2212},{"$f":"COUNTIF(L105:L137,AI20)","v":0},null,null,null,{"$f":"N20","v":2212},{"$f":"COUNTIF(L138:L170,AN20)","v":0},null,null,null,{"$f":"N20","v":2212},{"$f":"COUNTIF(L171:L203,AS20)","v":0}]
[12,1769,14,1773,13,1778,14,1784,null,null,0,1111,null,2221,{"$f":"COUNTIF($L$7:$L$500,N21)","v":0},{"$f":"O21/$Q$4","v":0},{"$f":"IF(P21=0,0,(P21*((LOG(P21))/LOG(2))))","v":0},null,null,{"$f":"N21","v":2221},{"$f":"COUNTIF(L7:L39,T21)","v":0},{"$f":"U21/(W4-U20)","v":0},{"$f":"IF(V21=0,0,(V21*((LOG(V21))/LOG(2))))","v":0},null,{"$f":"N21","v":2221},{"$f":"COUNTIF(L40:L72,Y21)","v":0},{"$f":"Z21/(AB4-Z20)","v":0},{"$f":"IF(AA21=0,0,(AA21*((LOG(AA21))/LOG(2))))","v":0},null,{"$f":"N21","v":2221},{"$f":"COUNTIF(L73:L104,AD21)","v":0},{"$f":"AE21/(AG4-AE20)","v":0},{"$f":"IF(AF21=0,0,(AF21*((LOG(AF21))/LOG(2))))","v":0},null,{"$f":"N21","v":2221},{"$f":"COUNTIF(L105:L137,AI21)","v":0},{"$f":"AJ21/(AL4-AJ20)","v":0},{"$f":"IF(AK21=0,0,(AK21*((LOG(AK21))/LOG(2))))","v":0},null,{"$f":"N21","v":2221},{"$f":"COUNTIF(L138:L170,AN21)","v":0},{"$f":"AO21/(AQ4-AO20)","v":0},{"$f":"IF(AP21=0,0,(AP21*((LOG(AP21))/LOG(2))))","v":0},null,{"$f":"N21","v":2221},{"$f":"COUNTIF(L171:L203,AS21)","v":0},{"$f":"AT21/(AV4-AT20)","v":0},{"$f":"IF(AU21=0,0,(AU21*((LOG(AU21))/LOG(2))))","v":0}]
[12,1888,14,1894,24,1907,23,1918,null,null,0,1122,null,2222,{"$f":"COUNTIF($L$7:$L$500,N22)","v":0},{"$f":"O22/$Q$4","v":0},{"$f":"IF(P22=0,0,(P22*((LOG(P22))/LOG(2))))","v":0},null,null,{"$f":"N22","v":2222},{"$f":"COUNTIF(L7:L39,T22)","v":0},{"$f":"U22/(W4-U20)","v":0},{"$f":"IF(V22=0,0,(V22*((LOG(V22))/LOG(2))))","v":0},null,{"$f":"N22","v":2222},{"$f":"COUNTIF(L40:L72,Y22)","v":0},{"$f":"Z22/(AB4-Z20)","v":0},{"$f":"IF(AA22=0,0,(AA22*((LOG(AA22))/LOG(2))))","v":0},null,{"$f":"N22","v":2222},{"$f":"COUNTIF(L73:L104,AD22)","v":0},{"$f":"AE22/(AG4-AE20)","v":0},{"$f":"IF(AF22=0,0,(AF22*((LOG(AF22))/LOG(2))))","v":0},null,{"$f":"N22","v":2222},{"$f":"COUNTIF(L105:L137,AI22)","v":0},{"$f":"AJ22/(AL4-AJ20)","v":0},{"$f":"IF(AK22=0,0,(AK22*((LOG(AK22))/LOG(2))))","v":0},null,{"$f":"N22","v":2222},{"$f":"COUNTIF(L138:L170,AN22)","v":0},{"$f":"AO22/(AQ4-AO20)","v":0},{"$f":"IF(AP22=0,0,(AP22*((LOG(AP22))/LOG(2))))","v":0},null,{"$f":"N22","v":2222},{"$f":"COUNTIF(L171:L203,AS22)","v":0},{"$f":"AT22/(AV4-AT20)","v":0},{"$f":"IF(AU22=0,0,(AU22*((LOG(AU22))/LOG(2))))","v":0}]
[12,2018,14,2024,13,2029,23,2049,null,null,0,1112,null,null,null,{"$f":"SUM(P7:P22)","v":1},{"$f":"-SUM(Q7:Q22)","v":1.0371332484592184},null,null,null,null,{"$f":"SUM(V7:V22)","v":1},{"$f":"-SUM(W7:W22)","v":1.5808940100121045},null,null,null,{"$f":"SUM(AA7:AA22)","v":1},{"$f":"-SUM(AB7:AB22)","v":0.8849636363831529},null,null,null,{"$f":"SUM(AF7:AF22)","v":1},{"$f":"-SUM(AG7:AG22)","v":0.8180914641842123},null,null,null,{"$f":"SUM(AK7:AK22)","v":1},{"$f":"-SUM(AL7:AL22)","v":0.72300206427927416},null,null,null,{"$f":"SUM(AP7:AP22)","v":1},{"$f":"-SUM(AQ7:AQ22)","v":0.52297842638101244},null,null,null,{"$f":"SUM(AU7:AU22)","v":1},{"$f":"-SUM(AV7:AV22)","v":0.63117180539290607}]
[12,2154,14,2159,13,2165,23,2176,null,null,0,1112,null,null,null,"U=",{"$f":"Q23/(LOG(Q4)/LOG(2))","v":0.1360700862478772},null,null,null,null,"U1=",{"$f":"W23/(LOG(W4)/LOG(2))","v":0.31339621223195835},null,null,null,"U2=",{"$f":"AB23/(LOG(AB4)/LOG(2))","v":0.17543507018751792},null,null,null,"U3=",{"$f":"AG23/(LOG(AG4)/LOG(2))","v":0.16361829283684245},null,null,null,"U4=",{"$f":"AL23/(LOG(AL4)/LOG(2))","v":0.14332783029475613},null,null,null,"U5=",{"$f":"AQ23/(LOG(AQ4)/LOG(2))","v":0.10367517168692697},null,null,null,"U6=",{"$f":"AV23/(LOG(AV4)/LOG(2))","v":0.12512341233820537}]
[12,2280,14,2286,24,2299,23,2310,null,null,0,1122]
[12,2414,14,2424,13,2429,23,2443,null,null,0,1112]
[12,2548,14,2553,13,2564,23,2578,null,null,0,1112,null,"Total Target Seq"]
[12,2678,14,2683,13,2688,14,2693,null,null,0,1111,null,{"$f":"COUNTIF(L7:L203,G3)","v":0},null,33,33,32,33,33,33]
[12,2792,14,2796,13,2801,23,2811,null,null,0,1112,null,null,null,"% of reinforcement given in 6 equal intervals based on number of trials "]
[12,2914,14,2919,13,2927,23,2938,null,null,0,1112,null,null,null,"%_1","%_2","%_3","%_4","%_5","%_6"]
[12,3039,14,3044,13,3049,14,3056,null,null,0,1111,null,null,"target sequence",{"$f":"$G$3","v":2212},{"$f":"$G$3","v":2212},{"$f":"$G$3","v":2212},{"$f":"$G$3","v":2212},{"$f":"$G$3","v":2212},{"$f":"$G$3","v":2212}]
[12,3158,14,3162,13,3169,23,3188,null,null,0,1112,null,null,"total reinforcement",{"$f":"U20","v":0},{"$f":"Z20","v":0},{"$f":"AE20","v":0},{"$f":"AJ20","v":0},{"$f":"AO20","v":0},{"$f":"AT20","v":0}]
[12,3286,14,3291,13,3295,14,3306,null,null,0,1111,null,null,"% target"]
[12,3405,14,3410,13,3415,14,3424,null,null,0,1111,null,null,"CCRF"]
[12,3530,14,3535,13,3540,23,3556,null,null,0,1112,null,null,"% CCRf"]
[12,3658,14,3663,13,3669,14,3673,null,null,0,1111,null,null,"average response rate",{"$f":"H39/P28","v":122.12121212121212},{"$f":"(H72-H39)/Q28","v":122.12121212121212},{"$f":"(H104-H72)/R28","v":121.78125},{"$f":"(H137-H104)/S28","v":121.27272727272727},{"$f":"(H170-H137)/T28","v":119.18181818181819},{"$f":"(H203-H170)/U28","v":122.81818181818181}]
[12,3774,14,3779,13,3785,23,3799,null,null,0,1112]
[12,3899,14,3903,13,3908,14,3913,null,null,0,1111]
[12,4014,14,4018,13,4022,14,4030,null,null,0,1111]
[12,4132,14,4136,13,4141,23,4156,null,null,0,1112]
[12,4256,14,4261,13,4265,14,4275,null,null,0,1111]
[12,4374,14,4379,13,4384,23,4402,null,null,0,1112]
[12,4505,14,4510,13,4515,14,4521,null,null,0,1111]
[12,4621,14,4626,13,4631,14,4641,null,null,0,1111]
[12,4743,14,4748,13,4752,23,4770,null,null,0,1112]
[12,4870,14,4875,13,4879,14,4886,null,null,0,1111]
[12,4991,14,4996,13,5003,23,5016,null,null,0,1112]
[12,5123,14,5129,13,5133,23,5147,null,null,0,1112]
[12,5249,14,5261,13,5272,23,5292,null,null,0,1112]
[12,5392,14,5401,13,5411,23,5424,null,null,0,1112]
[12,5525,14,5530,13,5534,14,5540,null,null,0,1111]
[12,5643,14,5650,13,5658,14,5663,null,null,0,1111]
[12,5765,14,5770,13,5776,14,5781,null,null,0,1111]
[12,5883,14,5887,13,5892,14,5902,null,null,0,1111]
[12,6004,14,6008,13,6013,14,6020,null,null,0,1111]
[12,6116,14,6121,13,6126,14,6131,null,null,0,1111]
[12,6236,14,6240,13,6249,23,6264,null,null,0,1112]
[12,6364,14,6369,13,6375,14,6379,null,null,0,1111]
[12,6480,14,6484,13,6491,14,6496,null,null,0,1111]
[12,6594,14,6598,13,6603,14,6608,null,null,0,1111]
[12,6709,14,6715,13,6720,14,6726,null,null,0,1111]
[12,6826,14,6831,13,6840,14,6846,null,null,0,1111]
[12,6945,14,6950,13,6954,14,6960,null,null,0,1111]
[12,7061,14,7066,13,7071,23,7095,null,null,0,1112]
[12,7197,14,7203,13,7213,14,7218,null,null,0,1111]
[12,7318,14,7322,13,7327,14,7332,null,null,0,1111]
[12,7426,14,7430,13,7435,14,7440,null,null,0,1111]
[12,7541,14,7545,13,7549,14,7556,null,null,0,1111]
[12,7656,14,7660,13,7667,14,7672,null,null,0,1111]
[12,7778,14,7785,13,7791,23,7806,null,null,0,1112]
[12,7920,14,7927,13,7933,14,7944,null,null,0,1111]
[12,8044,14,8049,13,8053,14,8060,null,null,0,1111]
[12,8160,14,8165,13,8170,14,8174,null,null,0,1111]
[12,8274,14,8279,13,8285,14,8291,null,null,0,1111]
[12,8394,14,8406,13,8410,14,8415,null,null,0,1111]
[12,8518,14,8522,13,8527,14,8532,null,null,0,1111]
[12,8632,14,8637,13,8644,14,8650,null,null,0,1111]
[12,8746,14,8752,13,8758,14,8769,null,null,0,1111]
[12,8869,14,8873,13,8878,14,8883,null,null,0,1111]
[12,8983,14,8988,13,8992,14,8997,null,null,0,1111]
[12,9099,14,9104,13,9109,14,9114,null,null,0,1111]
[12,9214,14,9218,13,9223,14,9229,null,null,0,1111]
[12,9331,14,9336,13,9341,23,9365,null,null,0,1112]
[12,9469,14,9474,13,9478,14,9498,null,null,0,1111]
[12,9603,14,9608,13,9615,23,9631,null,null,0,1112]
[12,9733,14,9737,13,9745,14,9767,null,null,0,1111]
[12,9870,14,9874,13,9879,14,9885,null,null,0,1111]
[12,9987,14,9993,24,10009,23,10017,null,null,0,1122]
[12,10117,14,10122,13,10126,14,10131,null,null,0,1111]
[12,10236,14,10241,13,10247,23,10269,null,null,0,1112]
[12,10370,14,10374,13,10380,23,10405,null,null,0,1112]
[12,10507,14,10511,13,10516,14,10526,null,null,0,1111]
[12,10626,14,10630,13,10636,14,10641,null,null,0,1111]
[12,10746,14,10751,13,10756,14,10766,null,null,0,1111]
[12,10867,14,10872,13,10878,14,10884,null,null,0,1111]
[12,10989,14,10994,13,10999,14,11004,null,null,0,1111]
[12,11105,14,11111,13,11116,14,11124,null,null,0,1111]
[12,11226,14,11230,13,11235,14,11241,null,null,0,1111]
[12,11346,14,11353,13,11358,23,11380,null,null,0,1112]
[12,11482,14,11486,13,11494,14,11501,null,null,0,1111]
[12,11598,14,11602,13,11608,14,11613,null,null,0,1111]
[12,11713,14,11718,13,11722,14,11728,null,null,0,1111]
[12,11829,14,11833,13,11839,14,11844,null,null,0,1111]
[12,11944,14,11948,13,11953,14,11957,null,null,0,1111]
[12,12058,14,12063,13,12067,14,12072,null,null,0,1111]
[12,12168,14,12173,13,12178,14,12183,null,null,0,1111]
[12,12285,14,12291,13,12300,14,12310,null,null,0,1111]
[12,12410,14,12414,13,12419,14,12428,null,null,0,1111]
[12,12527,14,12531,13,12539,14,12544,null,null,0,1111]
[12,12645,14,12650,13,12656,14,12662,null,null,0,1111]
[12,12760,14,12765,13,12770,14,12775,null,null,0,1111]
[12,12877,14,12882,13,12887,14,12895,null,null,0,1111]
[12,12997,14,13002,13,13007,14,13016,null,null,0,1111]
[12,13118,14,13122,13,13129,14,13134,null,null,0,1111]
[12,13233,14,13237,13,13242,14,13247,null,null,0,1111]
[12,13355,14,13361,13,13368,14,13374,null,null,0,1111]
[12,13479,14,13485,13,13490,23,13507,null,null,0,1112]
[12,13608,14,13612,13,13617,14,13621,null,null,0,1111]
[12,13723,14,13727,13,13732,14,13737,null,null,0,1111]
[12,13836,14,13844,13,13848,14,13855,null,null,0,1111]
[12,13956,14,13962,13,13967,14,13973,null,null,0,1111]
[12,14077,14,14081,13,14086,14,14091,null,null,0,1111]
[12,14192,14,14197,13,14204,23,14219,null,null,0,1112]
[12,14323,14,14328,13,14333,14,14342,null,null,0,1111]
[12,14443,14,14447,13,14452,14,14457,null,null,0,1111]
[12,14560,14,14565,13,14571,14,14577,null,null,0,1111]
[12,14677,14,14683,13,14689,23,14704,null,null,0,1112]
[12,14805,14,14810,13,14817,14,14823,null,null,0,1111]
[12,14928,14,14934,13,14944,14,14955,null,null,0,1111]
[12,15056,14,15060,13,15065,14,15071,null,null,0,1111]
[12,15183,14,15188,13,15194,14,15203,null,null,0,1111]
[12,15303,14,15307,13,15311,14,15317,null,null,0,1111]
[12,15417,14,15422,13,15427,14,15431,null,null,0,1111]
[12,15523,14,15534,13,15540,14,15545,null,null,0,1111]
[12,15657,14,15663,24,15688,23,15696,null,null,0,1122]
[12,15796,14,15802,13,15813,23,15828,null,null,0,1112]
[12,15929,14,15934,13,15941,14,15959,null,null,0,1111]
[12,16059,14,16064,13,16069,14,16074,null,null,0,1111]
[12,16172,14,16177,13,16182,14,16187,null,null,0,1111]
[12,16285,14,16290,13,16295,14,16300,null,null,0,1111]
[12,16399,14,16404,13,16408,14,16413,null,null,0,1111]
[12,16514,14,16519,13,16526,14,16532,null,null,0,1111]
[12,16634,14,16639,13,16644,14,16650,null,null,0,1111]
[12,16751,14,16756,13,16760,14,16766,null,null,0,1111]
[12,16866,14,16870,13,16881,14,16886,null,null,0,1111]
[12,16987,14,16992,13,16998,14,17003,null,null,0,1111]
[12,17104,14,17109,24,17123,23,17128,null,null,0,1122]
[12,17228,14,17232,13,17238,14,17247,null,null,0,1111]
[12,17347,14,17352,13,17358,23,17372,null,null,0,1112]
[12,17472,14,17476,13,17481,14,17486,null,null,0,1111]
[12,17585,14,17589,13,17595,14,17599,null,null,0,1111]
[12,17707,14,17712,13,17717,14,17731,null,null,0,1111]
[12,17833,14,17843,13,17847,14,17858,null,null,0,1111]
[12,17958,14,17962,13,17968,14,17975,null,null,0,1111]
[12,18076,14,18081,13,18086,14,18090,null,null,0,1111]
[12,18192,14,18197,13,18203,14,18208,null,null,0,1111]
[12,18309,14,18314,13,18319,14,18324,null,null,0,1111]
[12,18427,14,18431,13,18435,14,18441,null,null,0,1111]
[12,18543,14,18548,13,18554,14,18560,null,null,0,1111]
[12,18665,14,18670,13,18676,14,18682,null,null,0,1111]
[12,18787,14,18791,13,18796,14,18801,null,null,0,1111]
[12,18901,14,18907,13,18912,14,18918,null,null,0,1111]
[12,19028,14,19033,24,19053,23,19063,null,null,0,1122]
[12,19166,14,19172,13,19176,14,19182,null,null,0,1111]
[12,19282,14,19286,13,19291,14,19297,null,null,0,1111]
[12,19397,14,19402,13,19407,14,19412,null,null,0,1111]
[12,19515,14,19520,13,19525,14,19530,null,null,0,1111]
[12,19630,14,19634,13,19638,14,19650,null,null,0,1111]
[12,19756,14,19761,13,19766,14,19772,null,null,0,1111]
[12,19875,14,19880,13,19886,14,19892,null,null,0,1111]
[12,19992,14,19997,13,20002,14,20010,null,null,0,1111]
[12,20111,14,20115,13,20120,14,20127,null,null,0,1111]
[12,20228,14,20234,24,20250,23,20257,null,null,0,1122]
[12,20358,14,20363,13,20368,14,20374,null,null,0,1111]
[12,20478,14,20482,13,20488,14,20493,null,null,0,1111]
[12,20596,14,20600,13,20605,14,20609,null,null,0,1111]
[12,20756,14,20761,13,20768,23,20785,null,null,0,1112]
[12,20885,14,20890,13,20895,14,20902,null,null,0,1111]
[12,21002,14,21007,13,21012,14,21018,null,null,0,1111]
[12,21120,14,21125,13,21131,14,21140,null,null,0,1111]
[12,21242,14,21248,13,21253,14,21262,null,null,0,1111]
[12,21367,14,21373,13,21377,14,21382,null,null,0,1111]
[12,21493,14,21498,13,21503,14,21513,null,null,0,1111]
[12,21616,14,21623,13,21628,14,21634,null,null,0,1111]
[12,21733,14,21738,13,21743,14,21749,null,null,0,1111]
[12,21851,14,21856,13,21861,23,21891,null,null,0,1112]
[12,21997,14,22003,13,22008,23,22039,null,null,0,1112]
[12,22148,14,22155,13,22161,14,22166,null,null,0,1111]
[12,22267,14,22272,13,22277,14,22282,null,null,0,1111]
[12,22383,14,22388,13,22392,14,22398,null,null,0,1111]
[12,22497,14,22503,13,22509,14,22515,null,null,0,1111]
[12,22617,14,22623,13,22628,14,22633,null,null,0,1111]
[12,22733,14,22738,13,22752,14,22758,null,null,0,1111]
[12,22860,14,22865,13,22869,14,22877,null,null,0,1111]
[12,22978,14,22983,13,22988,14,22996,null,null,0,1111]
[12,23096,14,23100,13,23104,14,23109,null,null,0,1111]
[12,23207,14,23212,13,23217,14,23221,null,null,0,1111]
[12,23322,14,23327,13,23332,14,23337,null,null,0,1111]
[12,23435,14,23439,13,23444,14,23449,null,null,0,1111]
[12,23553,14,23559,13,23564,14,23573,null,null,0,1111]
[12,23678,14,23683,13,23689,14,23695,null,null,0,1111]
[12,23809,14,23814,13,23820,14,23825,null,null,0,1111]
[12,23926,14,23933,13,23937,14,23945,null,null,null,1111]

{"sheet":"!M831940.102","index":4,"n_rows":150,"n_cols":48,"rows_kept":150,"cut":false,"hidden":false,"merged":[[4,39,4,42],[5,39,5,40],[4,44,4,47],[5,44,5,45],[4,24,4,27],[5,24,5,25],[4,29,4,32],[5,29,5,30],[4,34,4,37],[5,34,5,35],[1,1,1,2],[5,13,5,14],[26,13,26,14],[27,13,27,14],[4,19,4,22],[5,19,5,20]]}
["Report for:!M831940.102"]
["Date:","<date>"]
["Hen:","<hen>",null,null,null,"Correct Sequence",{"$f":"Start!J2","v":2212},null,null,null,null,null,null,null,null,"Total Sequences in Data",{"$f":"4994-COUNTBLANK(L7:L5000)","v":144},null,null,null,null,"Total Sequences in Block Data",{"$f":"COUNTA(L7:L30)","v":24},null,null,null,"Total Sequences in Block Data",{"$f":"COUNTA(L31:L54)","v":24},null,null,null,"Total Sequences in Block Data",{"$f":"COUNTA(L55:L78)","v":24},null,null,null,"Total Sequences in Block Data",{"$f":"COUNTA(L79:L102)","v":24},null,null,null,"Total Sequences in Block Data",{"$f":"COUNTA(L103:L126)","v":24},null,null,null,"Total Sequences in Block Data",{"$f":"COUNTA(L127:L150)","v":24}]
[null,null,null,null,null,null,null,null,null,null,null,null,null,null,null,"Total Sequences in Summary",{"$f":"SUM(O7:O22)","v":144},null,null,null,null,"Total Sequences in Block Summary",{"$f":"SUM(U7:U22)","v":24},null,null,null,"Total Sequences in Block Summary",{"$f":"SUM(Z7:Z22)","v":24},null,null,null,"Total Sequences in Block Summary",{"$f":"SUM(AE7:AE22)","v":24},null,null,null,"Total Sequences in Block Summary",{"$f":"SUM(AJ7:AJ22)","v":24},null,null,null,"Total Sequences in Block Summary",{"$f":"SUM(AO7:AO22)","v":24},null,null,null,"Total Sequences in Block Summary",{"$f":"SUM(AT7:AT22)","v":24}]
[null,null,null,null,null,null,null,null,null,null,null,null,null,null,null,null,null,null,null,"Block 1",null,null,null,null,"Block 2",null,null,null,null,"Block 3",null,null,null,null,"Block 4",null,null,null,null,"Block 5",null,null,null,null,"Block 6"]
["Sequence\nComponent\n1","Time\n1","Sequence\nComponent\n2","Time\n2","Sequence\nComponent\n3","Time\n3","Sequence\nComponent\n4","Time\n4","Sequence\nComponent\n5","Time\n5","Correct?\n0=No 1=Yes","Sequence",null,"Frequency",null,"Relative Frequency","Variability",null,null,"Frequency",null,"Relative Frequency","Variability",null,"Frequency",null,"Relative Frequency","Variability",null,"Frequency",null,"Relative Frequency","Variability",null,"Frequency",null,"Relative Frequency","Variability",null,"Frequency",null,"Relative Frequency","Variability",null,"Frequency",null,"Relative Frequency","Variability"]
[12,9,14,24,13,38,23,54,null,null,0,1112,null,1111,{"$f":"COUNTIF($L$7:$L$500,N7)","v":67},{"$f":"O7/$Q$4","v":0.46527777777777779},{"$f":"IF(P7=0,0,(P7*((LOG(P7))/LOG(2))))","v":-0.51359027316641792},null,null,{"$f":"N7","v":1111},{"$f":"COUNTIF(L7:L30,T7)","v":7},{"$f":"U7/(W4-U20)","v":0.29166666666666669},{"$f":"IF(V7=0,0,(V7*((LOG(V7))/LOG(2))))","v":-0.51846887711020273},null,{"$f":"N7","v":1111},{"$f":"COUNTIF(L31:L54,Y7)","v":16},{"$f":"Z7/(AB4-Z20)","v":0.66666666666666663},{"$f":"IF(AA7=0,0,(AA7*((LOG(AA7))/LOG(2))))","v":-0.38997500048077083},null,{"$f":"N7","v":1111},{"$f":"COUNTIF(L55:L78,AD7)","v":18},{"$f":"AE7/(AG4-AE20)","v":0.75},{"$f":"IF(AF7=0,0,(AF7*((LOG(AF7))/LOG(2))))","v":-0.31127812445913283},null,{"$f":"N7","v":1111},{"$f":"COUNTIF(L79:L102,AI7)","v":11},{"$f":"AJ7/(AL4-AJ20)","v":0.45833333333333331},{"$f":"IF(AK7=0,0,(AK7*((LOG(AK7))/LOG(2))))","v":-0.51586832095510204},null,{"$f":"N7","v":1111},{"$f":"COUNTIF(L103:L126,AN7)","v":7},{"$f":"AO7/(AQ4-AO20)","v":0.29166666666666669},{"$f":"IF(AP7=0,0,(AP7*((LOG(AP7))/LOG(2))))","v":-0.51846887711020273},null,{"$f":"N7","v":1111},{"$f":"COUNTIF(L127:L150,AS7)","v":8},{"$f":"AT7/(AV4-AT20)","v":0.33333333333333331},{"$f":"IF(AU7=0,0,(AU7*((LOG(AU7))/LOG(2))))","v":-0.52832083357371862}]
[12,153,14,158,13,163,23,177,null,null,0,1112,null,1112,{"$f":"COUNTIF($L$7:$L$500,N8)","v":27},{"$f":"O8/$Q$4","v":0.1875},{"$f":"IF(P8=0,0,(P8*((LOG(P8))/LOG(2))))","v":-0.45281953111478312},null,null,{"$f":"N8","v":1112},{"$f":"COUNTIF(L7:L30,T8)","v":11},{"$f":"U8/(W4-U20)","v":0.45833333333333331},{"$f":"IF(V8=0,0,(V8*((LOG(V8))/LOG(2))))","v":-0.51586832095510204},null,{"$f":"N8","v":1112},{"$f":"COUNTIF(L31:L54,Y8)","v":6},{"$f":"Z8/(AB4-Z20)","v":0.25},{"$f":"IF(AA8=0,0,(AA8*((LOG(AA8))/LOG(2))))","v":-0.5},null,{"$f":"N8","v":1112},{"$f":"COUNTIF(L55:L78,AD8)","v":5},{"$f":"AE8/(AG4-AE20)","v":0.20833333333333334},{"$f":"IF(AF8=0,0,(AF8*((LOG(AF8))/LOG(2))))","v":-0.47146550121537367},null,{"$f":"N8","v":1112},{"$f":"COUNTIF(L79:L102,AI8)","v":2},{"$f":"AJ8/(AL4-AJ20)","v":8.3333333333333329E-2},{"$f":"IF(AK8=0,0,(AK8*((LOG(AK8))/LOG(2))))","v":-0.29874687506009634},null,{"$f":"N8","v":1112},{"$f":"COUNTIF(L103:L126,AN8)","v":3},{"$f":"AO8/(AQ4-AO20)","v":0.125},{"$f":"IF(AP8=0,0,(AP8*((LOG(AP8))/LOG(2))))","v":-0.375},null,{"$f":"N8","v":1112},{"$f":"COUNTIF(L127:L150,AS8)","v":0},{"$f":"AT8/(AV4-AT20)","v":0},{"$f":"IF(AU8=0,0,(AU8*((LOG(AU8))/LOG(2))))","v":0}]
[12,276,14,281,13,285,14,303,null,null,0,1111,null,1121,{"$f":"COUNTIF($L$7:$L$500,N9)","v":0},{"$f":"O9/$Q$4","v":0},{"$f":"IF(P9=0,0,(P9*((LOG(P9))/LOG(2))))","v":0},null,null,{"$f":"N9","v":1121},{"$f":"COUNTIF(L7:L30,T9)","v":0},{"$f":"U9/(W4-U20)","v":0},{"$f":"IF(V9=0,0,(V9*((LOG(V9))/LOG(2))))","v":0},null,{"$f":"N9","v":1121},{"$f":"COUNTIF(L31:L54,Y9)","v":0},{"$f":"Z9/(AB4-Z20)","v":0},{"$f":"IF(AA9=0,0,(AA9*((LOG(AA9))/LOG(2))))","v":0},null,{"$f":"N9","v":1121},{"$f":"COUNTIF(L55:L78,AD9)","v":0},{"$f":"AE9/(AG4-AE20)","v":0},{"$f":"IF(AF9=0,0,(AF9*((LOG(AF9))/LOG(2))))","v":0},null,{"$f":"N9","v":1121},{"$f":"COUNTIF(L79:L102,AI9)","v":0},{"$f":"AJ9/(AL4-AJ20)","v":0},{"$f":"IF(AK9=0,0,(AK9*((LOG(AK9))/LOG(2))))","v":0},null,{"$f":"N9","v":1121},{"$f":"COUNTIF(L103:L126,AN9)","v":0},{"$f":"AO9/(AQ4-AO20)","v":0},{"$f":"IF(AP9=0,0,(AP9*((LOG(AP9))/LOG(2))))","v":0},null,{"$f":"N9","v":1121},{"$f":"COUNTIF(L127:L150,AS9)","v":0},{"$f":"AT9/(AV4-AT20)","v":0},{"$f":"IF(AU9=0,0,(AU9*((LOG(AU9))/LOG(2))))","v":0}]
[12,411,14,416,13,420,23,432,null,null,0,1112,null,1122,{"$f":"COUNTIF($L$7:$L$500,N10)","v":17},{"$f":"O10/$Q$4","v":0.11805555555555555},{"$f":"IF(P10=0,0,(P10*((LOG(P10))/LOG(2))))","v":-0.36390178280044128},null,null,{"$f":"N10","v":1122},{"$f":"COUNTIF(L7:L30,T10)","v":4},{"$f":"U10/(W4-U20)","v":0.16666666666666666},{"$f":"IF(V10=0,0,(V10*((LOG(V10))/LOG(2))))","v":-0.43082708345352599},null,{"$f":"N10","v":1122},{"$f":"COUNTIF(L31:L54,Y10)","v":2},{"$f":"Z10/(AB4-Z20)","v":8.3333333333333329E-2},{"$f":"IF(AA10=0,0,(AA10*((LOG(AA10))/LOG(2))))","v":-0.29874687506009634},null,{"$f":"N10","v":1122},{"$f":"COUNTIF(L55:L78,AD10)","v":1},{"$f":"AE10/(AG4-AE20)","v":4.1666666666666664E-2},{"$f":"IF(AF10=0,0,(AF10*((LOG(AF10))/LOG(2))))","v":-0.19104010419671485},null,{"$f":"N10","v":1122},{"$f":"COUNTIF(L79:L102,AI10)","v":5},{"$f":"AJ10/(AL4-AJ20)","v":0.20833333333333334},{"$f":"IF(AK10=0,0,(AK10*((LOG(AK10))/LOG(2))))","v":-0.47146550121537367},null,{"$f":"N10","v":1122},{"$f":"COUNTIF(L103:L126,AN10)","v":3},{"$f":"AO10/(AQ4-AO20)","v":0.125},{"$f":"IF(AP10=0,0,(AP10*((LOG(AP10))/LOG(2))))","v":-0.375},null,{"$f":"N10","v":1122},{"$f":"COUNTIF(L127:L150,AS10)","v":2},{"$f":"AT10/(AV4-AT20)","v":8.3333333333333329E-2},{"$f":"IF(AU10=0,0,(AU10*((LOG(AU10))/LOG(2))))","v":-0.29874687506009634}]
[12,531,14,537,24,546,23,553,null,null,0,1122,null,1211,{"$f":"COUNTIF($L$7:$L$500,N11)","v":0},{"$f":"O11/$Q$4","v":0},{"$f":"IF(P11=0,0,(P11*((LOG(P11))/LOG(2))))","v":0},null,null,{"$f":"N11","v":1211},{"$f":"COUNTIF(L7:L30,T11)","v":0},{"$f":"U11/(W4-U20)","v":0},{"$f":"IF(V11=0,0,(V11*((LOG(V11))/LOG(2))))","v":0},null,{"$f":"N11","v":1211},{"$f":"COUNTIF(L31:L54,Y11)","v":0},{"$f":"Z11/(AB4-Z20)","v":0},{"$f":"IF(AA11=0,0,(AA11*((LOG(AA11))/LOG(2))))","v":0},null,{"$f":"N11","v":1211},{"$f":"COUNTIF(L55:L78,AD11)","v":0},{"$f":"AE11/(AG4-AE20)","v":0},{"$f":"IF(AF11=0,0,(AF11*((LOG(AF11))/LOG(2))))","v":0},null,{"$f":"N11","v":1211},{"$f":"COUNTIF(L79:L102,AI11)","v":0},{"$f":"AJ11/(AL4-AJ20)","v":0},{"$f":"IF(AK11=0,0,(AK11*((LOG(AK11))/LOG(2))))","v":0},null,{"$f":"N11","v":1211},{"$f":"COUNTIF(L103:L126,AN11)","v":0},{"$f":"AO11/(AQ4-AO20)","v":0},{"$f":"IF(AP11=0,0,(AP11*((LOG(AP11))/LOG(2))))","v":0},null,{"$f":"N11","v":1211},{"$f":"COUNTIF(L127:L150,AS11)","v":0},{"$f":"AT11/(AV4-AT20)","v":0},{"$f":"IF(AU11=0,0,(AU11*((LOG(AU11))/LOG(2))))","v":0}]
[12,655,14,660,13,667,23,677,null,null,0,1112,null,1212,{"$f":"COUNTIF($L$7:$L$500,N12)","v":0},{"$f":"O12/$Q$4","v":0},{"$f":"IF(P12=0,0,(P12*((LOG(P12))/LOG(2))))","v":0},null,null,{"$f":"N12","v":1212},{"$f":"COUNTIF(L7:L30,T12)","v":0},{"$f":"U12/(W4-U20)","v":0},{"$f":"IF(V12=0,0,(V12*((LOG(V12))/LOG(2))))","v":0},null,{"$f":"N12","v":1212},{"$f":"COUNTIF(L31:L54,Y12)","v":0},{"$f":"Z12/(AB4-Z20)","v":0},{"$f":"IF(AA12=0,0,(AA12*((LOG(AA12))/LOG(2))))","v":0},null,{"$f":"N12","v":1212},{"$f":"COUNTIF(L55:L78,AD12)","v":0},{"$f":"AE12/(AG4-AE20)","v":0},{"$f":"IF(AF12=0,0,(AF12*((LOG(AF12))/LOG(2))))","v":0},null,{"$f":"N12","v":1212},{"$f":"COUNTIF(L79:L102,AI12)","v":0},{"$f":"AJ12/(AL4-AJ20)","v":0},{"$f":"IF(AK12=0,0,(AK12*((LOG(AK12))/LOG(2))))","v":0},null,{"$f":"N12","v":1212},{"$f":"COUNTIF(L103:L126,AN12)","v":0},{"$f":"AO12/(AQ4-AO20)","v":0},{"$f":"IF(AP12=0,0,(AP12*((LOG(AP12))/LOG(2))))","v":0},null,{"$f":"N12","v":1212},{"$f":"COUNTIF(L127:L150,AS12)","v":0},{"$f":"AT12/(AV4-AT20)","v":0},{"$f":"IF(AU12=0,0,(AU12*((LOG(AU12))/LOG(2))))","v":0}]
[12,775,14,780,13,789,14,794,null,null,0,1111,null,1221,{"$f":"COUNTIF($L$7:$L$500,N13)","v":0},{"$f":"O13/$Q$4","v":0},{"$f":"IF(P13=0,0,(P13*((LOG(P13))/LOG(2))))","v":0},null,null,{"$f":"N13","v":1221},{"$f":"COUNTIF(L7:L30,T13)","v":0},{"$f":"U13/(W4-U20)","v":0},{"$f":"IF(V13=0,0,(V13*((LOG(V13))/LOG(2))))","v":0},null,{"$f":"N13","v":1221},{"$f":"COUNTIF(L31:L54,Y13)","v":0},{"$f":"Z13/(AB4-Z20)","v":0},{"$f":"IF(AA13=0,0,(AA13*((LOG(AA13))/LOG(2))))","v":0},null,{"$f":"N13","v":1221},{"$f":"COUNTIF(L55:L78,AD13)","v":0},{"$f":"AE13/(AG4-AE20)","v":0},{"$f":"IF(AF13=0,0,(AF13*((LOG(AF13))/LOG(2))))","v":0},null,{"$f":"N13","v":1221},{"$f":"COUNTIF(L79:L102,AI13)","v":0},{"$f":"AJ13/(AL4-AJ20)","v":0},{"$f":"IF(AK13=0,0,(AK13*((LOG(AK13))/LOG(2))))","v":0},null,{"$f":"N13","v":1221},{"$f":"COUNTIF(L103:L126,AN13)","v":0},{"$f":"AO13/(AQ4-AO20)","v":0},{"$f":"IF(AP13=0,0,(AP13*((LOG(AP13))/LOG(2))))","v":0},null,{"$f":"N13","v":1221},{"$f":"COUNTIF(L127:L150,AS13)","v":0},{"$f":"AT13/(AV4-AT20)","v":0},{"$f":"IF(AU13=0,0,(AU13*((LOG(AU13))/LOG(2))))","v":0}]
[12,890,14,895,13,900,14,904,null,null,0,1111,null,1222,{"$f":"COUNTIF($L$7:$L$500,N14)","v":3},{"$f":"O14/$Q$4","v":2.0833333333333332E-2},{"$f":"IF(P14=0,0,(P14*((LOG(P14))/LOG(2))))","v":-0.11635338543169074},null,null,{"$f":"N14","v":1222},{"$f":"COUNTIF(L7:L30,T14)","v":1},{"$f":"U14/(W4-U20)","v":4.1666666666666664E-2},{"$f":"IF(V14=0,0,(V14*((LOG(V14))/LOG(2))))","v":-0.19104010419671485},null,{"$f":"N14","v":1222},{"$f":"COUNTIF(L31:L54,Y14)","v":0},{"$f":"Z14/(AB4-Z20)","v":0},{"$f":"IF(AA14=0,0,(AA14*((LOG(AA14))/LOG(2))))","v":0},null,{"$f":"N14","v":1222},{"$f":"COUNTIF(L55:L78,AD14)","v":0},{"$f":"AE14/(AG4-AE20)","v":0},{"$f":"IF(AF14=0,0,(AF14*((LOG(AF14))/LOG(2))))","v":0},null,{"$f":"N14","v":1222},{"$f":"COUNTIF(L79:L102,AI14)","v":0},{"$f":"AJ14/(AL4-AJ20)","v":0},{"$f":"IF(AK14=0,0,(AK14*((LOG(AK14))/LOG(2))))","v":0},null,{"$f":"N14","v":1222},{"$f":"COUNTIF(L103:L126,AN14)","v":1},{"$f":"AO14/(AQ4-AO20)","v":4.1666666666666664E-2},{"$f":"IF(AP14=0,0,(AP14*((LOG(AP14))/LOG(2))))","v":-0.19104010419671485},null,{"$f":"N14","v":1222},{"$f":"COUNTIF(L127:L150,AS14)","v":1},{"$f":"AT14/(AV4-AT20)","v":4.1666666666666664E-2},{"$f":"IF(AU14=0,0,(AU14*((LOG(AU14))/LOG(2))))","v":-0.19104010419671485}]
[12,1003,14,1009,13,1014,23,1036,null,null,0,1112,null,2111,{"$f":"COUNTIF($L$7:$L$500,N15)","v":0},{"$f":"O15/$Q$4","v":0},{"$f":"IF(P15=0,0,(P15*((LOG(P15))/LOG(2))))","v":0},null,null,{"$f":"N15","v":2111},{"$f":"COUNTIF(L7:L30,T15)","v":0},{"$f":"U15/(W4-U20)","v":0},{"$f":"IF(V15=0,0,(V15*((LOG(V15))/LOG(2))))","v":0},null,{"$f":"N15","v":2111},{"$f":"COUNTIF(L31:L54,Y15)","v":0},{"$f":"Z15/(AB4-Z20)","v":0},{"$f":"IF(AA15=0,0,(AA15*((LOG(AA15))/LOG(2))))","v":0},null,{"$f":"N15","v":2111},{"$f":"COUNTIF(L55:L78,AD15)","v":0},{"$f":"AE15/(AG4-AE20)","v":0},{"$f":"IF(AF15=0,0,(AF15*((LOG(AF15))/LOG(2))))","v":0},null,{"$f":"N15","v":2111},{"$f":"COUNTIF(L79:L102,AI15)","v":0},{"$f":"AJ15/(AL4-AJ20)","v":0},{"$f":"IF(AK15=0,0,(AK15*((LOG(AK15))/LOG(2))))","v":0},null,{"$f":"N15","v":2111},{"$f":"COUNTIF(L103:L126,AN15)","v":0},{"$f":"AO15/(AQ4-AO20)","v":0},{"$f":"IF(AP15=0,0,(AP15*((LOG(AP15))/LOG(2))))","v":0},null,{"$f":"N15","v":2111},{"$f":"COUNTIF(L127:L150,AS15)","v":0},{"$f":"AT15/(AV4-AT20)","v":0},{"$f":"IF(AU15=0,0,(AU15*((LOG(AU15))/LOG(2))))","v":0}]
[12,1138,14,1143,13,1148,14,1156,null,null,0,1111,null,2112,{"$f":"COUNTIF($L$7:$L$500,N16)","v":0},{"$f":"O16/$Q$4","v":0},{"$f":"IF(P16=0,0,(P16*((LOG(P16))/LOG(2))))","v":0},null,null,{"$f":"N16","v":2112},{"$f":"COUNTIF(L7:L30,T16)","v":0},{"$f":"U16/(W4-U20)","v":0},{"$f":"IF(V16=0,0,(V16*((LOG(V16))/LOG(2))))","v":0},null,{"$f":"N16","v":2112},{"$f":"COUNTIF(L31:L54,Y16)","v":0},{"$f":"Z16/(AB4-Z20)","v":0},{"$f":"IF(AA16=0,0,(AA16*((LOG(AA16))/LOG(2))))","v":0},null,{"$f":"N16","v":2112},{"$f":"COUNTIF(L55:L78,AD16)","v":0},{"$f":"AE16/(AG4-AE20)","v":0},{"$f":"IF(AF16=0,0,(AF16*((LOG(AF16))/LOG(2))))","v":0},null,{"$f":"N16","v":2112},{"$f":"COUNTIF(L79:L102,AI16)","v":0},{"$f":"AJ16/(AL4-AJ20)","v":0},{"$f":"IF(AK16=0,0,(AK16*((LOG(AK16))/LOG(2))))","v":0},null,{"$f":"N16","v":2112},{"$f":"COUNTIF(L103:L126,AN16)","v":0},{"$f":"AO16/(AQ4-AO20)","v":0},{"$f":"IF(AP16=0,0,(AP16*((LOG(AP16))/LOG(2))))","v":0},null,{"$f":"N16","v":2112},{"$f":"COUNTIF(L127:L150,AS16)","v":0},{"$f":"AT16/(AV4-AT20)","v":0},{"$f":"IF(AU16=0,0,(AU16*((LOG(AU16))/LOG(2))))","v":0}]
[12,1252,14,1256,13,1261,14,1265,null,null,0,1111,null,2121,{"$f":"COUNTIF($L$7:$L$500,N17)","v":0},{"$f":"O17/$Q$4","v":0},{"$f":"IF(P17=0,0,(P17*((LOG(P17))/LOG(2))))","v":0},null,null,{"$f":"N17","v":2121},{"$f":"COUNTIF(L7:L30,T17)","v":0},{"$f":"U17/(W4-U20)","v":0},{"$f":"IF(V17=0,0,(V17*((LOG(V17))/LOG(2))))","v":0},null,{"$f":"N17","v":2121},{"$f":"COUNTIF(L31:L54,Y17)","v":0},{"$f":"Z17/(AB4-Z20)","v":0},{"$f":"IF(AA17=0,0,(AA17*((LOG(AA17))/LOG(2))))","v":0},null,{"$f":"N17","v":2121},{"$f":"COUNTIF(L55:L78,AD17)","v":0},{"$f":"AE17/(AG4-AE20)","v":0},{"$f":"IF(AF17=0,0,(AF17*((LOG(AF17))/LOG(2))))","v":0},null,{"$f":"N17","v":2121},{"$f":"COUNTIF(L79:L102,AI17)","v":0},{"$f":"AJ17/(AL4-AJ20)","v":0},{"$f":"IF(AK17=0,0,(AK17*((LOG(AK17))/LOG(2))))","v":0},null,{"$f":"N17","v":2121},{"$f":"COUNTIF(L103:L126,AN17)","v":0},{"$f":"AO17/(AQ4-AO20)","v":0},{"$f":"IF(AP17=0,0,(AP17*((LOG(AP17))/LOG(2))))","v":0},null,{"$f":"N17","v":2121},{"$f":"COUNTIF(L127:L150,AS17)","v":0},{"$f":"AT17/(AV4-AT20)","v":0},{"$f":"IF(AU17=0,0,(AU17*((LOG(AU17))/LOG(2))))","v":0}]
[12,1364,14,1369,13,1374,23,1387,null,null,0,1112,null,2122,{"$f":"COUNTIF($L$7:$L$500,N18)","v":0},{"$f":"O18/$Q$4","v":0},{"$f":"IF(P18=0,0,(P18*((LOG(P18))/LOG(2))))","v":0},null,null,{"$f":"N18","v":2122},{"$f":"COUNTIF(L7:L30,T18)","v":0},{"$f":"U18/(W4-U20)","v":0},{"$f":"IF(V18=0,0,(V18*((LOG(V18))/LOG(2))))","v":0},null,{"$f":"N18","v":2122},{"$f":"COUNTIF(L31:L54,Y18)","v":0},{"$f":"Z18/(AB4-Z20)","v":0},{"$f":"IF(AA18=0,0,(AA18*((LOG(AA18))/LOG(2))))","v":0},null,{"$f":"N18","v":2122},{"$f":"COUNTIF(L55:L78,AD18)","v":0},{"$f":"AE18/(AG4-AE20)","v":0},{"$f":"IF(AF18=0,0,(AF18*((LOG(AF18))/LOG(2))))","v":0},null,{"$f":"N18","v":2122},{"$f":"COUNTIF(L79:L102,AI18)","v":0},{"$f":"AJ18/(AL4-AJ20)","v":0},{"$f":"IF(AK18=0,0,(AK18*((LOG(AK18))/LOG(2))))","v":0},null,{"$f":"N18","v":2122},{"$f":"COUNTIF(L103:L126,AN18)","v":0},{"$f":"AO18/(AQ4-AO20)","v":0},{"$f":"IF(AP18=0,0,(AP18*((LOG(AP18))/LOG(2))))","v":0},null,{"$f":"N18","v":2122},{"$f":"COUNTIF(L127:L150,AS18)","v":0},{"$f":"AT18/(AV4-AT20)","v":0},{"$f":"IF(AU18=0,0,(AU18*((LOG(AU18))/LOG(2))))","v":0}]
[12,1482,14,1487,13,1494,14,1511,null,null,0,1111,null,2211,{"$f":"COUNTIF($L$7:$L$500,N19)","v":0},{"$f":"O19/$Q$4","v":0},{"$f":"IF(P19=0,0,(P19*((LOG(P19))/LOG(2))))","v":0},null,null,{"$f":"N19","v":2211},{"$f":"COUNTIF(L7:L30,T19)","v":0},{"$f":"U19/(W4-U20)","v":0},{"$f":"IF(V19=0,0,(V19*((LOG(V19))/LOG(2))))","v":0},null,{"$f":"N19","v":2211},{"$f":"COUNTIF(L31:L54,Y19)","v":0},{"$f":"Z19/(AB4-Z20)","v":0},{"$f":"IF(AA19=0,0,(AA19*((LOG(AA19))/LOG(2))))","v":0},null,{"$f":"N19","v":2211},{"$f":"COUNTIF(L55:L78,AD19)","v":0},{"$f":"AE19/(AG4-AE20)","v":0},{"$f":"IF(AF19=0,0,(AF19*((LOG(AF19))/LOG(2))))","v":0},null,{"$f":"N19","v":2211},{"$f":"COUNTIF(L79:L102,AI19)","v":0},{"$f":"AJ19/(AL4-AJ20)","v":0},{"$f":"IF(AK19=0,0,(AK19*((LOG(AK19))/LOG(2))))","v":0},null,{"$f":"N19","v":2211},{"$f":"COUNTIF(L103:L126,AN19)","v":0},{"$f":"AO19/(AQ4-AO20)","v":0},{"$f":"IF(AP19=0,0,(AP19*((LOG(AP19))/LOG(2))))","v":0},null,{"$f":"N19","v":2211},{"$f":"COUNTIF(L127:L150,AS19)","v":0},{"$f":"AT19/(AV4-AT20)","v":0},{"$f":"IF(AU19=0,0,(AU19*((LOG(AU19))/LOG(2))))","v":0}]
[12,1612,14,1617,24,1630,23,1638,null,null,0,1122,null,2212,{"$f":"COUNTIF($L$7:$L$500,N20)","v":0},{"$f":"O20/$Q$4","v":0},{"$f":"IF(P20=0,0,(P20*((LOG(P20))/LOG(2))))","v":0},null,null,{"$f":"N20","v":2212},{"$f":"COUNTIF(L7:L30,T20)","v":0},null,null,null,{"$f":"N20","v":2212},{"$f":"COUNTIF(L31:L54,Y20)","v":0},null,null,null,{"$f":"N20","v":2212},{"$f":"COUNTIF(L55:L78,AD20)","v":0},null,null,null,{"$f":"N20","v":2212},{"$f":"COUNTIF(L79:L102,AI20)","v":0},null,null,null,{"$f":"N20","v":2212},{"$f":"COUNTIF(L103:L126,AN20)","v":0},null,null,null,{"$f":"N20","v":2212},{"$f":"COUNTIF(L127:L150,AS20)","v":0}]
[12,1736,14,1741,13,1746,23,1759,null,null,0,1112,null,2221,{"$f":"COUNTIF($L$7:$L$500,N21)","v":0},{"$f":"O21/$Q$4","v":0},{"$f":"IF(P21=0,0,(P21*((LOG(P21))/LOG(2))))","v":0},null,null,{"$f":"N21","v":2221},{"$f":"COUNTIF(L7:L30,T21)","v":0},{"$f":"U21/(W4-U20)","v":0},{"$f":"IF(V21=0,0,(V21*((LOG(V21))/LOG(2))))","v":0},null,{"$f":"N21","v":2221},{"$f":"COUNTIF(L31:L54,Y21)","v":0},{"$f":"Z21/(AB4-Z20)","v":0},{"$f":"IF(AA21=0,0,(AA21*((LOG(AA21))/LOG(2))))","v":0},null,{"$f":"N21","v":2221},{"$f":"COUNTIF(L55:L78,AD21)","v":0},{"$f":"AE21/(AG4-AE20)","v":0},{"$f":"IF(AF21=0,0,(AF21*((LOG(AF21))/LOG(2))))","v":0},null,{"$f":"N21","v":2221},{"$f":"COUNTIF(L79:L102,AI21)","v":0},{"$f":"AJ21/(AL4-AJ20)","v":0},{"$f":"IF(AK21=0,0,(AK21*((LOG(AK21))/LOG(2))))","v":0},null,{"$f":"N21","v":2221},{"$f":"COUNTIF(L103:L126,AN21)","v":0},{"$f":"AO21/(AQ4-AO20)","v":0},{"$f":"IF(AP21=0,0,(AP21*((LOG(AP21))/LOG(2))))","v":0},null,{"$f":"N21","v":2221},{"$f":"COUNTIF(L127:L150,AS21)","v":0},{"$f":"AT21/(AV4-AT20)","v":0},{"$f":"IF(AU21=0,0,(AU21*((LOG(AU21))/LOG(2))))","v":0}]
[12,1859,14,1863,13,1870,23,1883,null,null,0,1112,null,2222,{"$f":"COUNTIF($L$7:$L$500,N22)","v":30},{"$f":"O22/$Q$4","v":0.20833333333333334},{"$f":"IF(P22=0,0,(P22*((LOG(P22))/LOG(2))))","v":-0.47146550121537367},null,null,{"$f":"N22","v":2222},{"$f":"COUNTIF(L7:L30,T22)","v":1},{"$f":"U22/(W4-U20)","v":4.1666666666666664E-2},{"$f":"IF(V22=0,0,(V22*((LOG(V22))/LOG(2))))","v":-0.19104010419671485},null,{"$f":"N22","v":2222},{"$f":"COUNTIF(L31:L54,Y22)","v":0},{"$f":"Z22/(AB4-Z20)","v":0},{"$f":"IF(AA22=0,0,(AA22*((LOG(AA22))/LOG(2))))","v":0},null,{"$f":"N22","v":2222},{"$f":"COUNTIF(L55:L78,AD22)","v":0},{"$f":"AE22/(AG4-AE20)","v":0},{"$f":"IF(AF22=0,0,(AF22*((LOG(AF22))/LOG(2))))","v":0},null,{"$f":"N22","v":2222},{"$f":"COUNTIF(L79:L102,AI22)","v":6},{"$f":"AJ22/(AL4-AJ20)","v":0.25},{"$f":"IF(AK22=0,0,(AK22*((LOG(AK22))/LOG(2))))","v":-0.5},null,{"$f":"N22","v":2222},{"$f":"COUNTIF(L103:L126,AN22)","v":10},{"$f":"AO22/(AQ4-AO20)","v":0.41666666666666669},{"$f":"IF(AP22=0,0,(AP22*((LOG(AP22))/LOG(2))))","v":-0.52626433576408083},null,{"$f":"N22","v":2222},{"$f":"COUNTIF(L127:L150,AS22)","v":13},{"$f":"AT22/(AV4-AT20)","v":0.54166666666666663},{"$f":"IF(AU22=0,0,(AU22*((LOG(AU22))/LOG(2))))","v":-0.47911650723086807}]
[12,1992,14,1997,24,2010,23,2017,null,null,0,1122,null,null,null,{"$f":"SUM(P7:P22)","v":1},{"$f":"-SUM(Q7:Q22)","v":1.9181304737287068},null,null,null,null,{"$f":"SUM(V7:V22)","v":0.99999999999999989},{"$f":"-SUM(W7:W22)","v":1.8472444899122606},null,null,null,{"$f":"SUM(AA7:AA22)","v":1},{"$f":"-SUM(AB7:AB22)","v":1.1887218755408671},null,null,null,{"$f":"SUM(AF7:AF22)","v":1},{"$f":"-SUM(AG7:AG22)","v":0.9737837298712213},null,null,null,{"$f":"SUM(AK7:AK22)","v":1},{"$f":"-SUM(AL7:AL22)","v":1.7860806972305721},null,null,null,{"$f":"SUM(AP7:AP22)","v":1},{"$f":"-SUM(AQ7:AQ22)","v":1.9857733170709984},null,null,null,{"$f":"SUM(AU7:AU22)","v":1},{"$f":"-SUM(AV7:AV22)","v":1.4972243200613979}]
[12,2117,14,2122,13,2126,14,2132,null,null,0,1111,null,null,null,"U=",{"$f":"Q23/(LOG(Q4)/LOG(2))","v":0.26752448224254127},null,null,null,null,"U1=",{"$f":"W23/(LOG(W4)/LOG(2))","v":0.402891951596488},null,null,null,"U2=",{"$f":"AB23/(LOG(AB4)/LOG(2))","v":0.259265343032554},null,null,null,"U3=",{"$f":"AG23/(LOG(AG4)/LOG(2))","v":0.21238641095059285},null,null,null,"U4=",{"$f":"AL23/(LOG(AL4)/LOG(2))","v":0.38955186589849849},null,null,null,"U5=",{"$f":"AQ23/(LOG(AQ4)/LOG(2))","v":0.43310568336353056},null,null,null,"U6=",{"$f":"AV23/(LOG(AV4)/LOG(2))","v":0.32655105027051012}]
[12,2234,14,2238,24,2253,23,2261,null,null,0,1122]
[12,2360,14,2365,13,2372,23,2386,null,null,0,1112]
[12,2485,14,2490,13,2497,23,2514,null,null,0,1112,null,"Total Target Seq"]
[12,2626,23,2730,24,2741,23,2754,null,null,0,1222,null,{"$f":"COUNTIF(L7:L150,G3)","v":0},null,24,24,24,24,24,24]
[12,2857,14,2862,13,2867,23,2886,null,null,0,1112,null,null,null,"% of reinforcement given in 6 equal intervals based on number of trials "]
[21,2994,21,3002,22,3012,23,3019,null,null,0,2222,null,null,null,"%_1","%_2","%_3","%_4","%_5","%_6"]
[12,3119,14,3124,13,3129,14,3133,null,null,0,1111,null,null,"target sequence",{"$f":"$G$3","v":2212},{"$f":"$G$3","v":2212},{"$f":"$G$3","v":2212},{"$f":"$G$3","v":2212},{"$f":"$G$3","v":2212},{"$f":"$G$3","v":2212}]
[12,3241,14,3247,13,3252,23,3273,null,null,0,1112,null,null,"total reinforcement",{"$f":"U20","v":0},{"$f":"Z20","v":0},{"$f":"AE20","v":0},{"$f":"AJ20","v":0},{"$f":"AO20","v":0},{"$f":"AT20","v":0}]
[12,3373,14,3377,13,3388,23,3411,null,null,0,1112,null,null,"% target"]
[12,3511,14,3515,13,3520,14,3527,null,null,0,1111,null,null,"CCRF"]
[12,3625,14,3629,13,3635,14,3640,null,null,0,1111,null,null,"% CCRf"]
[12,3743,14,3747,13,3757,23,3779,null,null,0,1112,null,null,"average response rate",{"$f":"H30/P28","v":125.79166666666667},{"$f":"(H54-H30)/Q28","v":123.70833333333333},{"$f":"(H78-H54)/R28","v":119.54166666666667},{"$f":"(H102-H78)/S28","v":158},{"$f":"(H126-H102)/T28","v":155.79166666666666},{"$f":"(H150-H126)/U28","v":314.875}]
[12,3880,14,3886,13,3891,14,3903,null,null,0,1111]
[12,4007,14,4011,13,4017,23,4030,null,null,0,1112]
[12,4129,14,4133,13,4140,14,4148,null,null,0,1111]
[12,4247,14,4252,13,4258,23,4279,null,null,0,1112]
[12,4378,14,4382,13,4388,14,4394,null,null,0,1111]
[12,4497,14,4501,13,4505,14,4511,null,null,0,1111]
[12,4621,14,4631,24,4642,23,4648,null,null,0,1122]
[12,4750,14,4756,13,4762,14,4766,null,null,0,1111]
[12,4879,14,4884,13,4890,23,4908,null,null,0,1112]
[12,5009,14,5014,13,5019,14,5027,null,null,0,1111]
[12,5128,14,5132,13,5136,14,5143,null,null,0,1111]
[12,5244,14,5250,13,5254,14,5263,null,null,0,1111]
[12,5365,14,5369,13,5373,14,5381,null,null,0,1111]
[12,5479,14,5483,13,5490,14,5498,null,null,0,1111]
[12,5600,14,5605,13,5609,14,5615,null,null,0,1111]
[12,5720,14,5725,13,5729,14,5734,null,null,0,1111]
[12,5837,14,5843,24,5862,23,5869,null,null,0,1122]
[12,5965,14,5978,13,5983,14,5988,null,null,0,1111]
[12,6090,14,6096,13,6102,14,6107,null,null,0,1111]
[12,6209,14,6213,13,6218,23,6231,null,null,0,1112]
[12,6333,14,6337,13,6342,14,6346,null,null,0,1111]
[12,6446,14,6450,13,6456,14,6460,null,null,0,1111]
[12,6561,14,6565,13,6569,14,6578,null,null,0,1111]
[12,6676,14,6681,13,6686,14,6692,null,null,0,1111]
[12,6790,14,6796,13,6801,14,6806,null,null,0,1111]
[12,6907,14,6912,13,6918,23,6931,null,null,0,1112]
[12,7034,14,7038,13,7044,14,7048,null,null,0,1111]
[12,7151,14,7156,13,7169,23,7185,null,null,0,1112]
[12,7284,14,7288,13,7292,14,7298,null,null,0,1111]
[12,7399,14,7403,13,7412,14,7417,null,null,0,1111]
[12,7515,14,7520,13,7524,14,7528,null,null,0,1111]
[12,7625,14,7632,13,7637,14,7642,null,null,0,1111]
[12,7741,14,7746,13,7752,14,7757,null,null,0,1111]
[12,7859,14,7864,24,7892,23,7898,null,null,0,1122]
[12,7997,14,8001,13,8007,14,8013,null,null,0,1111]
[12,8113,14,8127,13,8135,23,8151,null,null,0,1112]
[12,8251,14,8256,13,8260,14,8264,null,null,0,1111]
[12,8361,14,8365,13,8370,14,8376,null,null,0,1111]
[12,8475,14,8481,13,8486,14,8492,null,null,0,1111]
[12,8590,14,8595,13,8600,14,8605,null,null,0,1111]
[12,8707,14,8712,13,8717,14,8723,null,null,0,1111]
[12,8829,14,8835,13,8841,23,8857,null,null,0,1112]
[12,8957,14,8961,13,8966,14,8971,null,null,0,1111]
[12,9073,14,9078,13,9082,14,9089,null,null,0,1111]
[12,9187,14,9191,13,9196,14,9207,null,null,0,1111]
[12,9309,14,9317,13,9325,14,9339,null,null,0,1111]
[12,9442,14,9451,13,9455,14,9464,null,null,0,1111]
[21,9614,21,9620,22,9625,23,9633,null,null,0,2222]
[21,9737,21,9745,22,9753,23,9759,null,null,0,2222]
[12,9870,14,9874,24,9888,23,9892,null,null,0,1122]
[12,10021,14,10025,13,10030,23,10043,null,null,0,1112]
[12,10145,14,10150,13,10166,23,10183,null,null,0,1112]
[12,10285,14,10291,13,10295,14,10299,null,null,0,1111]
[12,10420,14,10425,13,10430,14,10435,null,null,0,1111]
[12,10548,14,10558,24,10572,23,10576,null,null,0,1122]
[12,10702,14,10711,13,10715,14,10721,null,null,0,1111]
[12,10826,14,10830,24,10849,23,10856,null,null,0,1122]
[12,10966,14,10972,13,10979,14,10984,null,null,0,1111]
[21,11103,21,11109,22,11113,23,11120,null,null,0,2222]
[12,11264,14,11273,24,11287,23,11291,null,null,0,1122]
[21,11432,21,11438,22,11442,23,11451,null,null,0,2222]
[21,11739,21,11749,22,11759,23,11768,null,null,0,2222]
[12,11881,14,11885,13,11890,14,11900,null,null,0,1111]
[12,12018,14,12022,24,12038,23,12042,null,null,0,1122]
[12,12167,14,12173,13,12179,14,12184,null,null,0,1111]
[21,12589,21,12594,22,12639,23,12649,null,null,0,2222]
[12,12775,14,12779,13,12784,14,12793,null,null,0,1111]
[12,12908,14,12913,13,12917,14,12922,null,null,0,1111]
[12,13043,14,13052,24,13071,23,13078,null,null,0,1122]
[21,13282,21,13289,22,13297,23,13303,null,null,0,2222]
[12,13520,14,13545,24,13563,23,13569,null,null,0,1122]
[12,13673,14,13677,13,13682,14,13687,null,null,0,1111]
[12,13795,14,13800,13,13806,23,13824,null,null,0,1112]
[12,13927,14,13933,13,13938,14,13944,null,null,0,1111]
[12,14050,14,14054,13,14061,23,14074,null,null,0,1112]
[12,14177,14,14181,13,14188,14,14194,null,null,0,1111]
[12,14382,14,14387,13,14392,14,14396,null,null,0,1111]
[21,14503,21,14508,22,14520,23,14524,null,null,0,2222]
[21,14637,21,14642,22,14647,23,14660,null,null,0,2222]
[21,14762,21,14767,22,14774,23,14781,null,null,0,2222]
[21,14884,21,14890,22,14895,23,14900,null,null,0,2222]
[21,15145,21,15153,22,15164,23,15177,null,null,0,2222]
[21,15308,21,15314,22,15321,23,15327,null,null,0,2222]
[12,15435,14,15440,13,15446,14,15450,null,null,0,1111]
[21,15554,21,15563,22,15573,23,15578,null,null,0,2222]
[21,15757,21,15762,22,15768,23,15773,null,null,0,2222]
[21,15897,21,15902,22,15907,23,15912,null,null,0,2222]
[12,16040,14,16045,13,16051,23,16065,null,null,0,1112]
[12,16176,14,16187,24,16201,23,16205,null,null,0,1122]
[12,16340,23,16379,24,16383,23,16388,null,null,0,1222]
[12,16506,23,16527,24,16531,23,16546,null,null,0,1222]
[12,16654,14,16672,13,16677,14,16682,null,null,0,1111]
[12,16792,14,16798,13,16804,14,16810,null,null,0,1111]
[12,16943,14,16953,13,16960,14,16965,null,null,0,1111]
[21,17081,21,17085,22,17090,23,17094,null,null,0,2222]
[21,17210,21,17214,22,17218,23,17223,null,null,0,2222]
[21,17708,21,17716,22,17726,23,17734,null,null,0,2222]
[12,18368,14,18374,13,18378,14,18390,null,null,0,1111]
[21,19179,21,19188,22,19197,23,19205,null,null,0,2222]
[21,19316,21,19322,22,19326,23,19331,null,null,0,2222]
[21,21493,21,21501,22,21506,23,21511,null,null,0,2222]
[21,22012,21,22023,22,22029,23,22034,null,null,0,2222]
[12,22210,14,22223,24,22236,23,22244,null,null,0,1122]
[12,22347,14,22351,24,22367,23,22372,null,null,0,1122]
[21,22498,21,22504,22,22511,23,22516,null,null,0,2222]
[12,22626,14,22633,13,22639,14,22647,null,null,0,1111]
[12,22761,14,22766,13,22772,14,22778,null,null,0,1111]
[12,22917,14,22933,13,22938,14,22948,null,null,0,1111]
[21,23083,21,23095,22,23100,23,23108,null,null,0,2222]
[21,23262,21,23266,22,23271,23,23276,null,null,0,2222]
[12,23384,14,23392,13,23397,14,23407,null,null,0,1111]
[21,23517,21,23526,22,23532,23,23541,null,null,0,2222]
[21,23753,21,23760,22,23766,23,23771,null,null,0,2222]
[21,23926,21,23932,22,23939,23,23945,null,null,null,2222]

{"sheet":"!M901820.102","index":5,"n_rows":77,"n_cols":48,"rows_kept":77,"cut":false,"hidden":false,"merged":[[4,39,4,42],[5,39,5,40],[4,44,4,47],[5,44,5,45],[4,24,4,27],[5,24,5,25],[4,29,4,32],[5,29,5,30],[4,34,4,37],[5,34,5,35],[1,1,1,2],[5,13,5,14],[26,13,26,14],[27,13,27,14],[4,19,4,22],[5,19,5,20]]}
["Report for:!M901820.102"]
["Date:","<date>"]
["Hen:","<hen>",null,null,null,"Correct Sequence",{"$f":"Start!J2","v":2212},null,null,null,null,null,null,null,null,"Total Sequences in Data",{"$f":"4994-COUNTBLANK(L7:L5000)","v":71},null,null,null,null,"Total Sequences in Block Data",{"$f":"COUNTA(L7:L18)","v":12},null,null,null,"Total Sequences in Block Data",{"$f":"COUNTA(L19:L30)","v":12},null,null,null,"Total Sequences in Block Data",{"$f":"COUNTA(L31:L41)","v":11},null,null,null,"Total Sequences in Block Data",{"$f":"COUNTA(L42:L53)","v":12},null,null,null,"Total Sequences in Block Data",{"$f":"COUNTA(L54:L65)","v":12},null,null,null,"Total Sequences in Block Data",{"$f":"COUNTA(L66:L77)","v":12}]
[null,null,null,null,null,null,null,null,null,null,null,null,null,null,null,"Total Sequences in Summary",{"$f":"SUM(O7:O22)","v":71},null,null,null,null,"Total Sequences in Block Summary",{"$f":"SUM(U7:U22)","v":12},null,null,null,"Total Sequences in Block Summary",{"$f":"SUM(Z7:Z22)","v":12},null,null,null,"Total Sequences in Block Summary",{"$f":"SUM(AE7:AE22)","v":11},null,null,null,"Total Sequences in Block Summary",{"$f":"SUM(AJ7:AJ22)","v":12},null,null,null,"Total Sequences in Block Summary",{"$f":"SUM(AO7:AO22)","v":12},null,null,null,"Total Sequences in Block Summary",{"$f":"SUM(AT7:AT22)","v":12}]
[null,null,null,null,null,null,null,null,null,null,null,null,null,null,null,null,null,null,null,"Block 1",null,null,null,null,"Block 2",null,null,null,null,"Block 3",null,null,null,null,"Block 4",null,null,null,null,"Block 5",null,null,null,null,"Block 6"]
["Sequence\nComponent\n1","Time\n1","Sequence\nComponent\n2","Time\n2","Sequence\nComponent\n3","Time\n3","Sequence\nComponent\n4","Time\n4","Sequence\nComponent\n5","Time\n5","Correct?\n0=No 1=Yes","Sequence",null,"Frequency",null,"Relative Frequency","Variability",null,null,"Frequency",null,"Relative Frequency","Variability",null,"Frequency",null,"Relative Frequency","Variability",null,"Frequency",null,"Relative Frequency","Variability",null,"Frequency",null,"Relative Frequency","Variability",null,"Frequency",null,"Relative Frequency","Variability",null,"Frequency",null,"Relative Frequency","Variability"]
[12,16,14,22,13,43,14,58,null,null,0,1111,null,1111,{"$f":"COUNTIF($L$7:$L$500,N7)","v":46},{"$f":"O7/$Q$4","v":0.647887323943662},{"$f":"IF(P7=0,0,(P7*((LOG(P7))/LOG(2))))","v":-0.40569742983933499},null,null,{"$f":"N7","v":1111},{"$f":"COUNTIF(L7:L18,T7)","v":9},{"$f":"U7/(W4-U20)","v":0.75},{"$f":"IF(V7=0,0,(V7*((LOG(V7))/LOG(2))))","v":-0.31127812445913283},null,{"$f":"N7","v":1111},{"$f":"COUNTIF(L19:L30,Y7)","v":4},{"$f":"Z7/(AB4-Z20)","v":0.33333333333333331},{"$f":"IF(AA7=0,0,(AA7*((LOG(AA7))/LOG(2))))","v":-0.52832083357371862},null,{"$f":"N7","v":1111},{"$f":"COUNTIF(L31:L41,AD7)","v":6},{"$f":"AE7/(AG4-AE20)","v":0.54545454545454541},{"$f":"IF(AF7=0,0,(AF7*((LOG(AF7))/LOG(2))))","v":-0.47698315522698609},null,{"$f":"N7","v":1111},{"$f":"COUNTIF(L42:L53,AI7)","v":10},{"$f":"AJ7/(AL4-AJ20)","v":0.83333333333333337},{"$f":"IF(AK7=0,0,(AK7*((LOG(AK7))/LOG(2))))","v":-0.21919533819482812},null,{"$f":"N7","v":1111},{"$f":"COUNTIF(L54:L65,AN7)","v":8},{"$f":"AO7/(AQ4-AO20)","v":0.66666666666666663},{"$f":"IF(AP7=0,0,(AP7*((LOG(AP7))/LOG(2))))","v":-0.38997500048077083},null,{"$f":"N7","v":1111},{"$f":"COUNTIF(L66:L77,AS7)","v":9},{"$f":"AT7/(AV4-AT20)","v":0.75},{"$f":"IF(AU7=0,0,(AU7*((LOG(AU7))/LOG(2))))","v":-0.31127812445913283}]
[12,156,14,161,13,171,14,177,null,null,0,1111,null,1112,{"$f":"COUNTIF($L$7:$L$500,N8)","v":9},{"$f":"O8/$Q$4","v":0.12676056338028169},{"$f":"IF(P8=0,0,(P8*((LOG(P8))/LOG(2))))","v":-0.37772393045861025},null,null,{"$f":"N8","v":1112},{"$f":"COUNTIF(L7:L18,T8)","v":2},{"$f":"U8/(W4-U20)","v":0.16666666666666666},{"$f":"IF(V8=0,0,(V8*((LOG(V8))/LOG(2))))","v":-0.43082708345352599},null,{"$f":"N8","v":1112},{"$f":"COUNTIF(L19:L30,Y8)","v":1},{"$f":"Z8/(AB4-Z20)","v":8.3333333333333329E-2},{"$f":"IF(AA8=0,0,(AA8*((LOG(AA8))/LOG(2))))","v":-0.29874687506009634},null,{"$f":"N8","v":1112},{"$f":"COUNTIF(L31:L41,AD8)","v":4},{"$f":"AE8/(AG4-AE20)","v":0.36363636363636365},{"$f":"IF(AF8=0,0,(AF8*((LOG(AF8))/LOG(2))))","v":-0.53070240677719893},null,{"$f":"N8","v":1112},{"$f":"COUNTIF(L42:L53,AI8)","v":0},{"$f":"AJ8/(AL4-AJ20)","v":0},{"$f":"IF(AK8=0,0,(AK8*((LOG(AK8))/LOG(2))))","v":0},null,{"$f":"N8","v":1112},{"$f":"COUNTIF(L54:L65,AN8)","v":2},{"$f":"AO8/(AQ4-AO20)","v":0.16666666666666666},{"$f":"IF(AP8=0,0,(AP8*((LOG(AP8))/LOG(2))))","v":-0.43082708345352599},null,{"$f":"N8","v":1112},{"$f":"COUNTIF(L66:L77,AS8)","v":0},{"$f":"AT8/(AV4-AT20)","v":0},{"$f":"IF(AU8=0,0,(AU8*((LOG(AU8))/LOG(2))))","v":0}]
[12,276,14,283,13,287,14,294,null,null,0,1111,null,1121,{"$f":"COUNTIF($L$7:$L$500,N9)","v":0},{"$f":"O9/$Q$4","v":0},{"$f":"IF(P9=0,0,(P9*((LOG(P9))/LOG(2))))","v":0},null,null,{"$f":"N9","v":1121},{"$f":"COUNTIF(L7:L18,T9)","v":0},{"$f":"U9/(W4-U20)","v":0},{"$f":"IF(V9=0,0,(V9*((LOG(V9))/LOG(2))))","v":0},null,{"$f":"N9","v":1121},{"$f":"COUNTIF(L19:L30,Y9)","v":0},{"$f":"Z9/(AB4-Z20)","v":0},{"$f":"IF(AA9=0,0,(AA9*((LOG(AA9))/LOG(2))))","v":0},null,{"$f":"N9","v":1121},{"$f":"COUNTIF(L31:L41,AD9)","v":0},{"$f":"AE9/(AG4-AE20)","v":0},{"$f":"IF(AF9=0,0,(AF9*((LOG(AF9))/LOG(2))))","v":0},null,{"$f":"N9","v":1121},{"$f":"COUNTIF(L42:L53,AI9)","v":0},{"$f":"AJ9/(AL4-AJ20)","v":0},{"$f":"IF(AK9=0,0,(AK9*((LOG(AK9))/LOG(2))))","v":0},null,{"$f":"N9","v":1121},{"$f":"COUNTIF(L54:L65,AN9)","v":0},{"$f":"AO9/(AQ4-AO20)","v":0},{"$f":"IF(AP9=0,0,(AP9*((LOG(AP9))/LOG(2))))","v":0},null,{"$f":"N9","v":1121},{"$f":"COUNTIF(L66:L77,AS9)","v":0},{"$f":"AT9/(AV4-AT20)","v":0},{"$f":"IF(AU9=0,0,(AU9*((LOG(AU9))/LOG(2))))","v":0}]
[12,392,14,396,13,402,23,418,null,null,0,1112,null,1122,{"$f":"COUNTIF($L$7:$L$500,N10)","v":6},{"$f":"O10/$Q$4","v":8.4507042253521125E-2},{"$f":"IF(P10=0,0,(P10*((LOG(P10))/LOG(2))))","v":-0.30124940440424158},null,null,{"$f":"N10","v":1122},{"$f":"COUNTIF(L7:L18,T10)","v":0},{"$f":"U10/(W4-U20)","v":0},{"$f":"IF(V10=0,0,(V10*((LOG(V10))/LOG(2))))","v":0},null,{"$f":"N10","v":1122},{"$f":"COUNTIF(L19:L30,Y10)","v":4},{"$f":"Z10/(AB4-Z20)","v":0.33333333333333331},{"$f":"IF(AA10=0,0,(AA10*((LOG(AA10))/LOG(2))))","v":-0.52832083357371862},null,{"$f":"N10","v":1122},{"$f":"COUNTIF(L31:L41,AD10)","v":0},{"$f":"AE10/(AG4-AE20)","v":0},{"$f":"IF(AF10=0,0,(AF10*((LOG(AF10))/LOG(2))))","v":0},null,{"$f":"N10","v":1122},{"$f":"COUNTIF(L42:L53,AI10)","v":0},{"$f":"AJ10/(AL4-AJ20)","v":0},{"$f":"IF(AK10=0,0,(AK10*((LOG(AK10))/LOG(2))))","v":0},null,{"$f":"N10","v":1122},{"$f":"COUNTIF(L54:L65,AN10)","v":1},{"$f":"AO10/(AQ4-AO20)","v":8.3333333333333329E-2},{"$f":"IF(AP10=0,0,(AP10*((LOG(AP10))/LOG(2))))","v":-0.29874687506009634},null,{"$f":"N10","v":1122},{"$f":"COUNTIF(L66:L77,AS10)","v":1},{"$f":"AT10/(AV4-AT20)","v":8.3333333333333329E-2},{"$f":"IF(AU10=0,0,(AU10*((LOG(AU10))/LOG(2))))","v":-0.29874687506009634}]
[12,520,14,524,13,529,14,536,null,null,0,1111,null,1211,{"$f":"COUNTIF($L$7:$L$500,N11)","v":0},{"$f":"O11/$Q$4","v":0},{"$f":"IF(P11=0,0,(P11*((LOG(P11))/LOG(2))))","v":0},null,null,{"$f":"N11","v":1211},{"$f":"COUNTIF(L7:L18,T11)","v":0},{"$f":"U11/(W4-U20)","v":0},{"$f":"IF(V11=0,0,(V11*((LOG(V11))/LOG(2))))","v":0},null,{"$f":"N11","v":1211},{"$f":"COUNTIF(L19:L30,Y11)","v":0},{"$f":"Z11/(AB4-Z20)","v":0},{"$f":"IF(AA11=0,0,(AA11*((LOG(AA11))/LOG(2))))","v":0},null,{"$f":"N11","v":1211},{"$f":"COUNTIF(L31:L41,AD11)","v":0},{"$f":"AE11/(AG4-AE20)","v":0},{"$f":"IF(AF11=0,0,(AF11*((LOG(AF11))/LOG(2))))","v":0},null,{"$f":"N11","v":1211},{"$f":"COUNTIF(L42:L53,AI11)","v":0},{"$f":"AJ11/(AL4-AJ20)","v":0},{"$f":"IF(AK11=0,0,(AK11*((LOG(AK11))/LOG(2))))","v":0},null,{"$f":"N11","v":1211},{"$f":"COUNTIF(L54:L65,AN11)","v":0},{"$f":"AO11/(AQ4-AO20)","v":0},{"$f":"IF(AP11=0,0,(AP11*((LOG(AP11))/LOG(2))))","v":0},null,{"$f":"N11","v":1211},{"$f":"COUNTIF(L66:L77,AS11)","v":0},{"$f":"AT11/(AV4-AT20)","v":0},{"$f":"IF(AU11=0,0,(AU11*((LOG(AU11))/LOG(2))))","v":0}]
[12,643,14,647,13,654,14,660,null,null,0,1111,null,1212,{"$f":"COUNTIF($L$7:$L$500,N12)","v":0},{"$f":"O12/$Q$4","v":0},{"$f":"IF(P12=0,0,(P12*((LOG(P12))/LOG(2))))","v":0},null,null,{"$f":"N12","v":1212},{"$f":"COUNTIF(L7:L18,T12)","v":0},{"$f":"U12/(W4-U20)","v":0},{"$f":"IF(V12=0,0,(V12*((LOG(V12))/LOG(2))))","v":0},null,{"$f":"N12","v":1212},{"$f":"COUNTIF(L19:L30,Y12)","v":0},{"$f":"Z12/(AB4-Z20)","v":0},{"$f":"IF(AA12=0,0,(AA12*((LOG(AA12))/LOG(2))))","v":0},null,{"$f":"N12","v":1212},{"$f":"COUNTIF(L31:L41,AD12)","v":0},{"$f":"AE12/(AG4-AE20)","v":0},{"$f":"IF(AF12=0,0,(AF12*((LOG(AF12))/LOG(2))))","v":0},null,{"$f":"N12","v":1212},{"$f":"COUNTIF(L42:L53,AI12)","v":0},{"$f":"AJ12/(AL4-AJ20)","v":0},{"$f":"IF(AK12=0,0,(AK12*((LOG(AK12))/LOG(2))))","v":0},null,{"$f":"N12","v":1212},{"$f":"COUNTIF(L54:L65,AN12)","v":0},{"$f":"AO12/(AQ4-AO20)","v":0},{"$f":"IF(AP12=0,0,(AP12*((LOG(AP12))/LOG(2))))","v":0},null,{"$f":"N12","v":1212},{"$f":"COUNTIF(L66:L77,AS12)","v":0},{"$f":"AT12/(AV4-AT20)","v":0},{"$f":"IF(AU12=0,0,(AU12*((LOG(AU12))/LOG(2))))","v":0}]
[12,760,14,766,13,771,14,776,null,null,0,1111,null,1221,{"$f":"COUNTIF($L$7:$L$500,N13)","v":0},{"$f":"O13/$Q$4","v":0},{"$f":"IF(P13=0,0,(P13*((LOG(P13))/LOG(2))))","v":0},null,null,{"$f":"N13","v":1221},{"$f":"COUNTIF(L7:L18,T13)","v":0},{"$f":"U13/(W4-U20)","v":0},{"$f":"IF(V13=0,0,(V13*((LOG(V13))/LOG(2))))","v":0},null,{"$f":"N13","v":1221},{"$f":"COUNTIF(L19:L30,Y13)","v":0},{"$f":"Z13/(AB4-Z20)","v":0},{"$f":"IF(AA13=0,0,(AA13*((LOG(AA13))/LOG(2))))","v":0},null,{"$f":"N13","v":1221},{"$f":"COUNTIF(L31:L41,AD13)","v":0},{"$f":"AE13/(AG4-AE20)","v":0},{"$f":"IF(AF13=0,0,(AF13*((LOG(AF13))/LOG(2))))","v":0},null,{"$f":"N13","v":1221},{"$f":"COUNTIF(L42:L53,AI13)","v":0},{"$f":"AJ13/(AL4-AJ20)","v":0},{"$f":"IF(AK13=0,0,(AK13*((LOG(AK13))/LOG(2))))","v":0},null,{"$f":"N13","v":1221},{"$f":"COUNTIF(L54:L65,AN13)","v":0},{"$f":"AO13/(AQ4-AO20)","v":0},{"$f":"IF(AP13=0,0,(AP13*((LOG(AP13))/LOG(2))))","v":0},null,{"$f":"N13","v":1221},{"$f":"COUNTIF(L66:L77,AS13)","v":0},{"$f":"AT13/(AV4-AT20)","v":0},{"$f":"IF(AU13=0,0,(AU13*((LOG(AU13))/LOG(2))))","v":0}]
[12,882,14,887,13,892,14,897,null,null,0,1111,null,1222,{"$f":"COUNTIF($L$7:$L$500,N14)","v":3},{"$f":"O14/$Q$4","v":4.2253521126760563E-2},{"$f":"IF(P14=0,0,(P14*((LOG(P14))/LOG(2))))","v":-0.19287822332888138},null,null,{"$f":"N14","v":1222},{"$f":"COUNTIF(L7:L18,T14)","v":0},{"$f":"U14/(W4-U20)","v":0},{"$f":"IF(V14=0,0,(V14*((LOG(V14))/LOG(2))))","v":0},null,{"$f":"N14","v":1222},{"$f":"COUNTIF(L19:L30,Y14)","v":3},{"$f":"Z14/(AB4-Z20)","v":0.25},{"$f":"IF(AA14=0,0,(AA14*((LOG(AA14))/LOG(2))))","v":-0.5},null,{"$f":"N14","v":1222},{"$f":"COUNTIF(L31:L41,AD14)","v":0},{"$f":"AE14/(AG4-AE20)","v":0},{"$f":"IF(AF14=0,0,(AF14*((LOG(AF14))/LOG(2))))","v":0},null,{"$f":"N14","v":1222},{"$f":"COUNTIF(L42:L53,AI14)","v":0},{"$f":"AJ14/(AL4-AJ20)","v":0},{"$f":"IF(AK14=0,0,(AK14*((LOG(AK14))/LOG(2))))","v":0},null,{"$f":"N14","v":1222},{"$f":"COUNTIF(L54:L65,AN14)","v":0},{"$f":"AO14/(AQ4-AO20)","v":0},{"$f":"IF(AP14=0,0,(AP14*((LOG(AP14))/LOG(2))))","v":0},null,{"$f":"N14","v":1222},{"$f":"COUNTIF(L66:L77,AS14)","v":0},{"$f":"AT14/(AV4-AT20)","v":0},{"$f":"IF(AU14=0,0,(AU14*((LOG(AU14))/LOG(2))))","v":0}]
[21,1006,21,1011,22,1017,23,1031,null,null,0,2222,null,2111,{"$f":"COUNTIF($L$7:$L$500,N15)","v":0},{"$f":"O15/$Q$4","v":0},{"$f":"IF(P15=0,0,(P15*((LOG(P15))/LOG(2))))","v":0},null,null,{"$f":"N15","v":2111},{"$f":"COUNTIF(L7:L18,T15)","v":0},{"$f":"U15/(W4-U20)","v":0},{"$f":"IF(V15=0,0,(V15*((LOG(V15))/LOG(2))))","v":0},null,{"$f":"N15","v":2111},{"$f":"COUNTIF(L19:L30,Y15)","v":0},{"$f":"Z15/(AB4-Z20)","v":0},{"$f":"IF(AA15=0,0,(AA15*((LOG(AA15))/LOG(2))))","v":0},null,{"$f":"N15","v":2111},{"$f":"COUNTIF(L31:L41,AD15)","v":0},{"$f":"AE15/(AG4-AE20)","v":0},{"$f":"IF(AF15=0,0,(AF15*((LOG(AF15))/LOG(2))))","v":0},null,{"$f":"N15","v":2111},{"$f":"COUNTIF(L42:L53,AI15)","v":0},{"$f":"AJ15/(AL4-AJ20)","v":0},{"$f":"IF(AK15=0,0,(AK15*((LOG(AK15))/LOG(2))))","v":0},null,{"$f":"N15","v":2111},{"$f":"COUNTIF(L54:L65,AN15)","v":0},{"$f":"AO15/(AQ4-AO20)","v":0},{"$f":"IF(AP15=0,0,(AP15*((LOG(AP15))/LOG(2))))","v":0},null,{"$f":"N15","v":2111},{"$f":"COUNTIF(L66:L77,AS15)","v":0},{"$f":"AT15/(AV4-AT20)","v":0},{"$f":"IF(AU15=0,0,(AU15*((LOG(AU15))/LOG(2))))","v":0}]
[12,1135,14,1140,13,1145,14,1150,null,null,0,1111,null,2112,{"$f":"COUNTIF($L$7:$L$500,N16)","v":0},{"$f":"O16/$Q$4","v":0},{"$f":"IF(P16=0,0,(P16*((LOG(P16))/LOG(2))))","v":0},null,null,{"$f":"N16","v":2112},{"$f":"COUNTIF(L7:L18,T16)","v":0},{"$f":"U16/(W4-U20)","v":0},{"$f":"IF(V16=0,0,(V16*((LOG(V16))/LOG(2))))","v":0},null,{"$f":"N16","v":2112},{"$f":"COUNTIF(L19:L30,Y16)","v":0},{"$f":"Z16/(AB4-Z20)","v":0},{"$f":"IF(AA16=0,0,(AA16*((LOG(AA16))/LOG(2))))","v":0},null,{"$f":"N16","v":2112},{"$f":"COUNTIF(L31:L41,AD16)","v":0},{"$f":"AE16/(AG4-AE20)","v":0},{"$f":"IF(AF16=0,0,(AF16*((LOG(AF16))/LOG(2))))","v":0},null,{"$f":"N16","v":2112},{"$f":"COUNTIF(L42:L53,AI16)","v":0},{"$f":"AJ16/(AL4-AJ20)","v":0},{"$f":"IF(AK16=0,0,(AK16*((LOG(AK16))/LOG(2))))","v":0},null,{"$f":"N16","v":2112},{"$f":"COUNTIF(L54:L65,AN16)","v":0},{"$f":"AO16/(AQ4-AO20)","v":0},{"$f":"IF(AP16=0,0,(AP16*((LOG(AP16))/LOG(2))))","v":0},null,{"$f":"N16","v":2112},{"$f":"COUNTIF(L66:L77,AS16)","v":0},{"$f":"AT16/(AV4-AT20)","v":0},{"$f":"IF(AU16=0,0,(AU16*((LOG(AU16))/LOG(2))))","v":0}]
[12,1256,14,1267,13,1273,14,1278,null,null,0,1111,null,2121,{"$f":"COUNTIF($L$7:$L$500,N17)","v":0},{"$f":"O17/$Q$4","v":0},{"$f":"IF(P17=0,0,(P17*((LOG(P17))/LOG(2))))","v":0},null,null,{"$f":"N17","v":2121},{"$f":"COUNTIF(L7:L18,T17)","v":0},{"$f":"U17/(W4-U20)","v":0},{"$f":"IF(V17=0,0,(V17*((LOG(V17))/LOG(2))))","v":0},null,{"$f":"N17","v":2121},{"$f":"COUNTIF(L19:L30,Y17)","v":0},{"$f":"Z17/(AB4-Z20)","v":0},{"$f":"IF(AA17=0,0,(AA17*((LOG(AA17))/LOG(2))))","v":0},null,{"$f":"N17","v":2121},{"$f":"COUNTIF(L31:L41,AD17)","v":0},{"$f":"AE17/(AG4-AE20)","v":0},{"$f":"IF(AF17=0,0,(AF17*((LOG(AF17))/LOG(2))))","v":0},null,{"$f":"N17","v":2121},{"$f":"COUNTIF(L42:L53,AI17)","v":0},{"$f":"AJ17/(AL4-AJ20)","v":0},{"$f":"IF(AK17=0,0,(AK17*((LOG(AK17))/LOG(2))))","v":0},null,{"$f":"N17","v":2121},{"$f":"COUNTIF(L54:L65,AN17)","v":0},{"$f":"AO17/(AQ4-AO20)","v":0},{"$f":"IF(AP17=0,0,(AP17*((LOG(AP17))/LOG(2))))","v":0},null,{"$f":"N17","v":2121},{"$f":"COUNTIF(L66:L77,AS17)","v":0},{"$f":"AT17/(AV4-AT20)","v":0},{"$f":"IF(AU17=0,0,(AU17*((LOG(AU17))/LOG(2))))","v":0}]
[12,1391,14,1397,13,1411,23,1425,null,null,0,1112,null,2122,{"$f":"COUNTIF($L$7:$L$500,N18)","v":0},{"$f":"O18/$Q$4","v":0},{"$f":"IF(P18=0,0,(P18*((LOG(P18))/LOG(2))))","v":0},null,null,{"$f":"N18","v":2122},{"$f":"COUNTIF(L7:L18,T18)","v":0},{"$f":"U18/(W4-U20)","v":0},{"$f":"IF(V18=0,0,(V18*((LOG(V18))/LOG(2))))","v":0},null,{"$f":"N18","v":2122},{"$f":"COUNTIF(L19:L30,Y18)","v":0},{"$f":"Z18/(AB4-Z20)","v":0},{"$f":"IF(AA18=0,0,(AA18*((LOG(AA18))/LOG(2))))","v":0},null,{"$f":"N18","v":2122},{"$f":"COUNTIF(L31:L41,AD18)","v":0},{"$f":"AE18/(AG4-AE20)","v":0},{"$f":"IF(AF18=0,0,(AF18*((LOG(AF18))/LOG(2))))","v":0},null,{"$f":"N18","v":2122},{"$f":"COUNTIF(L42:L53,AI18)","v":0},{"$f":"AJ18/(AL4-AJ20)","v":0},{"$f":"IF(AK18=0,0,(AK18*((LOG(AK18))/LOG(2))))","v":0},null,{"$f":"N18","v":2122},{"$f":"COUNTIF(L54:L65,AN18)","v":0},{"$f":"AO18/(AQ4-AO20)","v":0},{"$f":"IF(AP18=0,0,(AP18*((LOG(AP18))/LOG(2))))","v":0},null,{"$f":"N18","v":2122},{"$f":"COUNTIF(L66:L77,AS18)","v":0},{"$f":"AT18/(AV4-AT20)","v":0},{"$f":"IF(AU18=0,0,(AU18*((LOG(AU18))/LOG(2))))","v":0}]
[12,1524,14,1529,13,1533,14,1539,null,null,0,1111,null,2211,{"$f":"COUNTIF($L$7:$L$500,N19)","v":0},{"$f":"O19/$Q$4","v":0},{"$f":"IF(P19=0,0,(P19*((LOG(P19))/LOG(2))))","v":0},null,null,{"$f":"N19","v":2211},{"$f":"COUNTIF(L7:L18,T19)","v":0},{"$f":"U19/(W4-U20)","v":0},{"$f":"IF(V19=0,0,(V19*((LOG(V19))/LOG(2))))","v":0},null,{"$f":"N19","v":2211},{"$f":"COUNTIF(L19:L30,Y19)","v":0},{"$f":"Z19/(AB4-Z20)","v":0},{"$f":"IF(AA19=0,0,(AA19*((LOG(AA19))/LOG(2))))","v":0},null,{"$f":"N19","v":2211},{"$f":"COUNTIF(L31:L41,AD19)","v":0},{"$f":"AE19/(AG4-AE20)","v":0},{"$f":"IF(AF19=0,0,(AF19*((LOG(AF19))/LOG(2))))","v":0},null,{"$f":"N19","v":2211},{"$f":"COUNTIF(L42:L53,AI19)","v":0},{"$f":"AJ19/(AL4-AJ20)","v":0},{"$f":"IF(AK19=0,0,(AK19*((LOG(AK19))/LOG(2))))","v":0},null,{"$f":"N19","v":2211},{"$f":"COUNTIF(L54:L65,AN19)","v":0},{"$f":"AO19/(AQ4-AO20)","v":0},{"$f":"IF(AP19=0,0,(AP19*((LOG(AP19))/LOG(2))))","v":0},null,{"$f":"N19","v":2211},{"$f":"COUNTIF(L66:L77,AS19)","v":0},{"$f":"AT19/(AV4-AT20)","v":0},{"$f":"IF(AU19=0,0,(AU19*((LOG(AU19))/LOG(2))))","v":0}]
[12,1645,14,1650,13,1655,14,1661,null,null,0,1111,null,2212,{"$f":"COUNTIF($L$7:$L$500,N20)","v":0},{"$f":"O20/$Q$4","v":0},{"$f":"IF(P20=0,0,(P20*((LOG(P20))/LOG(2))))","v":0},null,null,{"$f":"N20","v":2212},{"$f":"COUNTIF(L7:L18,T20)","v":0},null,null,null,{"$f":"N20","v":2212},{"$f":"COUNTIF(L19:L30,Y20)","v":0},null,null,null,{"$f":"N20","v":2212},{"$f":"COUNTIF(L31:L41,AD20)","v":0},null,null,null,{"$f":"N20","v":2212},{"$f":"COUNTIF(L42:L53,AI20)","v":0},null,null,null,{"$f":"N20","v":2212},{"$f":"COUNTIF(L54:L65,AN20)","v":0},null,null,null,{"$f":"N20","v":2212},{"$f":"COUNTIF(L66:L77,AS20)","v":0}]
[12,1908,14,1913,13,1918,14,1932,null,null,0,1111,null,2221,{"$f":"COUNTIF($L$7:$L$500,N21)","v":0},{"$f":"O21/$Q$4","v":0},{"$f":"IF(P21=0,0,(P21*((LOG(P21))/LOG(2))))","v":0},null,null,{"$f":"N21","v":2221},{"$f":"COUNTIF(L7:L18,T21)","v":0},{"$f":"U21/(W4-U20)","v":0},{"$f":"IF(V21=0,0,(V21*((LOG(V21))/LOG(2))))","v":0},null,{"$f":"N21","v":2221},{"$f":"COUNTIF(L19:L30,Y21)","v":0},{"$f":"Z21/(AB4-Z20)","v":0},{"$f":"IF(AA21=0,0,(AA21*((LOG(AA21))/LOG(2))))","v":0},null,{"$f":"N21","v":2221},{"$f":"COUNTIF(L31:L41,AD21)","v":0},{"$f":"AE21/(AG4-AE20)","v":0},{"$f":"IF(AF21=0,0,(AF21*((LOG(AF21))/LOG(2))))","v":0},null,{"$f":"N21","v":2221},{"$f":"COUNTIF(L42:L53,AI21)","v":0},{"$f":"AJ21/(AL4-AJ20)","v":0},{"$f":"IF(AK21=0,0,(AK21*((LOG(AK21))/LOG(2))))","v":0},null,{"$f":"N21","v":2221},{"$f":"COUNTIF(L54:L65,AN21)","v":0},{"$f":"AO21/(AQ4-AO20)","v":0},{"$f":"IF(AP21=0,0,(AP21*((LOG(AP21))/LOG(2))))","v":0},null,{"$f":"N21","v":2221},{"$f":"COUNTIF(L66:L77,AS21)","v":0},{"$f":"AT21/(AV4-AT20)","v":0},{"$f":"IF(AU21=0,0,(AU21*((LOG(AU21))/LOG(2))))","v":0}]
[12,2044,14,2049,24,2069,23,2077,null,null,0,1122,null,2222,{"$f":"COUNTIF($L$7:$L$500,N22)","v":7},{"$f":"O22/$Q$4","v":9.8591549295774641E-2},{"$f":"IF(P22=0,0,(P22*((LOG(P22))/LOG(2))))","v":-0.32953162510041611},null,null,{"$f":"N22","v":2222},{"$f":"COUNTIF(L7:L18,T22)","v":1},{"$f":"U22/(W4-U20)","v":8.3333333333333329E-2},{"$f":"IF(V22=0,0,(V22*((LOG(V22))/LOG(2))))","v":-0.29874687506009634},null,{"$f":"N22","v":2222},{"$f":"COUNTIF(L19:L30,Y22)","v":0},{"$f":"Z22/(AB4-Z20)","v":0},{"$f":"IF(AA22=0,0,(AA22*((LOG(AA22))/LOG(2))))","v":0},null,{"$f":"N22","v":2222},{"$f":"COUNTIF(L31:L41,AD22)","v":1},{"$f":"AE22/(AG4-AE20)","v":9.0909090909090912E-2},{"$f":"IF(AF22=0,0,(AF22*((LOG(AF22))/LOG(2))))","v":-0.31449378351248153},null,{"$f":"N22","v":2222},{"$f":"COUNTIF(L42:L53,AI22)","v":2},{"$f":"AJ22/(AL4-AJ20)","v":0.16666666666666666},{"$f":"IF(AK22=0,0,(AK22*((LOG(AK22))/LOG(2))))","v":-0.43082708345352599},null,{"$f":"N22","v":2222},{"$f":"COUNTIF(L54:L65,AN22)","v":1},{"$f":"AO22/(AQ4-AO20)","v":8.3333333333333329E-2},{"$f":"IF(AP22=0,0,(AP22*((LOG(AP22))/LOG(2))))","v":-0.29874687506009634},null,{"$f":"N22","v":2222},{"$f":"COUNTIF(L66:L77,AS22)","v":2},{"$f":"AT22/(AV4-AT20)","v":0.16666666666666666},{"$f":"IF(AU22=0,0,(AU22*((LOG(AU22))/LOG(2))))","v":-0.43082708345352599}]
[12,2200,23,2212,24,2216,23,2221,null,null,0,1222,null,null,null,{"$f":"SUM(P7:P22)","v":1.0000000000000002},{"$f":"-SUM(Q7:Q22)","v":1.6070806131314841},null,null,null,null,{"$f":"SUM(V7:V22)","v":1},{"$f":"-SUM(W7:W22)","v":1.0408520829727552},null,null,null,{"$f":"SUM(AA7:AA22)","v":1},{"$f":"-SUM(AB7:AB22)","v":1.8553885422075336},null,null,null,{"$f":"SUM(AF7:AF22)","v":1},{"$f":"-SUM(AG7:AG22)","v":1.3221793455166664},null,null,null,{"$f":"SUM(AK7:AK22)","v":1},{"$f":"-SUM(AL7:AL22)","v":0.65002242164835411},null,null,null,{"$f":"SUM(AP7:AP22)","v":1},{"$f":"-SUM(AQ7:AQ22)","v":1.4182958340544896},null,null,null,{"$f":"SUM(AU7:AU22)","v":1},{"$f":"-SUM(AV7:AV22)","v":1.0408520829727552}]
[12,2344,23,2359,24,2364,23,2369,null,null,0,1222,null,null,null,"U=",{"$f":"Q23/(LOG(Q4)/LOG(2))","v":0.26132466618577366},null,null,null,null,"U1=",{"$f":"W23/(LOG(W4)/LOG(2))","v":0.29033834601153452},null,null,null,"U2=",{"$f":"AB23/(LOG(AB4)/LOG(2))","v":0.517547545290725},null,null,null,"U3=",{"$f":"AG23/(LOG(AG4)/LOG(2))","v":0.38219554287287377},null,null,null,"U4=",{"$f":"AL23/(LOG(AL4)/LOG(2))","v":0.18131916903387263},null,null,null,"U5=",{"$f":"AQ23/(LOG(AQ4)/LOG(2))","v":0.39562361775588534},null,null,null,"U6=",{"$f":"AV23/(LOG(AV4)/LOG(2))","v":0.29033834601153452}]
[12,2476,14,2481,24,2496,23,2502,null,null,0,1122]
[12,2839,23,2857,24,2864,23,2878,null,null,0,1222]
[12,2994,14,3003,24,3016,23,3027,null,null,0,1122,null,"Total Target Seq"]
[12,3134,14,3144,24,3159,23,3164,null,null,0,1122,null,{"$f":"COUNTIF(L7:L77,G3)","v":0},null,12,12,11,12,12,12]
[12,3314,14,3320,13,3329,23,3344,null,null,0,1112,null,null,null,"% of reinforcement given in 6 equal intervals based on number of trials "]
[12,3450,14,3456,13,3463,14,3473,null,null,0,1111,null,null,null,"%_1","%_2","%_3","%_4","%_5","%_6"]
[12,3578,14,3583,13,3592,23,3621,null,null,0,1112,null,null,"target sequence",{"$f":"$G$3","v":2212},{"$f":"$G$3","v":2212},{"$f":"$G$3","v":2212},{"$f":"$G$3","v":2212},{"$f":"$G$3","v":2212},{"$f":"$G$3","v":2212}]
[12,3725,14,3730,13,3737,23,3758,null,null,0,1112,null,null,"total reinforcement",{"$f":"U20","v":0},{"$f":"Z20","v":0},{"$f":"AE20","v":0},{"$f":"AJ20","v":0},{"$f":"AO20","v":0},{"$f":"AT20","v":0}]
[12,3900,14,3906,13,3915,14,3920,null,null,0,1111,null,null,"% target"]
[21,4082,21,4089,22,4093,23,4100,null,null,0,2222,null,null,"CCRF"]
[12,4251,14,4264,13,4270,14,4280,null,null,0,1111,null,null,"% CCRf"]
[12,4423,14,4429,13,4436,14,4445,null,null,0,1111,null,null,"average response rate",{"$f":"H18/P28","v":118.75},{"$f":"(H30-H18)/Q28","v":170.66666666666666},{"$f":"(H41-H30)/R28","v":159.18181818181819},{"$f":"(H53-H41)/S28","v":339.08333333333331},{"$f":"(H65-H53)/T28","v":133.08333333333334},{"$f":"(H77-H65)/U28","v":854.5}]
[12,4584,14,4589,13,4594,14,4600,null,null,0,1111]
[12,4728,14,4736,13,4750,23,4770,null,null,0,1112]
[12,4894,14,4900,13,4907,14,4913,null,null,0,1111]
[12,5046,14,5057,13,5063,14,5069,null,null,0,1111]
[12,5185,14,5192,13,5204,23,5224,null,null,0,1112]
[12,5332,14,5341,13,5369,14,5381,null,null,0,1111]
[12,5544,14,5554,13,5560,14,5565,null,null,0,1111]
[21,5831,21,5836,22,5842,23,5848,null,null,0,2222]
[21,6063,21,6074,22,6083,23,6091,null,null,0,2222]
[12,6206,14,6212,13,6217,14,6223,null,null,0,1111]
[12,6332,14,6339,13,6349,14,6359,null,null,0,1111]
[12,7051,14,7057,13,7066,14,7081,null,null,0,1111]
[12,7197,14,7211,13,7223,14,7231,null,null,0,1111]
[12,7330,14,7335,13,7341,14,7346,null,null,0,1111]
[12,7501,14,7532,13,7537,14,7546,null,null,0,1111]
[12,9140,14,9146,13,9155,14,9161,null,null,0,1111]
[12,9277,14,9282,13,9287,14,9293,null,null,0,1111]
[12,9407,14,9413,13,9418,14,9423,null,null,0,1111]
[21,9556,21,9561,22,9566,23,9571,null,null,0,2222]
[12,9681,14,9686,13,9693,23,9706,null,null,0,1112]
[12,9808,14,9815,13,9820,14,9825,null,null,0,1111]
[12,9928,14,9934,13,9941,14,9945,null,null,0,1111]
[12,10108,14,10113,13,10123,23,10145,null,null,0,1112]
[12,10248,14,10253,13,10258,14,10265,null,null,0,1111]
[12,10366,14,10371,13,10377,14,10383,null,null,0,1111]
[12,10488,14,10493,13,10498,14,10503,null,null,0,1111]
[12,10609,14,10614,13,10619,14,10625,null,null,0,1111]
[12,10750,14,10757,24,10768,23,10775,null,null,0,1122]
[12,10876,14,10880,13,10884,14,10890,null,null,0,1111]
[12,10992,14,10997,13,11001,14,11006,null,null,0,1111]
[12,11105,14,11110,13,11115,14,11120,null,null,0,1111]
[12,11220,14,11225,13,11229,14,11237,null,null,0,1111]
[12,11357,14,11365,13,11445,14,11454,null,null,0,1111]
[12,14741,14,14747,13,14752,14,14767,null,null,0,1111]
[21,17044,21,17050,22,17059,23,17064,null,null,0,2222]
[12,17218,14,17242,13,17252,14,17259,null,null,0,1111]
[12,18775,14,18791,13,18800,14,18806,null,null,0,1111]
[21,20599,21,20606,22,20615,23,20620,null,null,0,2222]
[12,20848,14,20853,13,20859,14,20866,null,null,0,1111]
[12,20983,14,20989,13,20995,14,21006,null,null,0,1111]
[12,21110,14,21120,24,21139,23,21144,null,null,0,1122]

{"sheet":"!M902940.102","index":6,"n_rows":36,"n_cols":48,"rows_kept":36,"cut":false,"hidden":false,"merged":[[4,39,4,42],[5,39,5,40],[4,44,4,47],[5,44,5,45],[4,24,4,27],[5,24,5,25],[4,29,4,32],[5,29,5,30],[4,34,4,37],[5,34,5,35],[1,1,1,2],[5,13,5,14],[26,13,26,14],[27,13,27,14],[4,19,4,22],[5,19,5,20]]}
["Report for:!M902940.102"]
["Date:","<date>"]
["Hen:","<hen>",null,null,null,"Correct Sequence",{"$f":"Start!J2","v":2212},null,null,null,null,null,null,null,null,"Total Sequences in Data",{"$f":"4994-COUNTBLANK(L7:L5000)","v":26},null,null,null,null,"Total Sequences in Block Data",{"$f":"COUNTA(L7:L10)","v":4},null,null,null,"Total Sequences in Block Data",{"$f":"COUNTA(L11:L15)","v":5},null,null,null,"Total Sequences in Block Data",{"$f":"COUNTA(L16:L19)","v":4},null,null,null,"Total Sequences in Block Data",{"$f":"COUNTA(L20:L23)","v":4},null,null,null,"Total Sequences in Block Data",{"$f":"COUNTA(L24:L28)","v":5},null,null,null,"Total Sequences in Block Data",{"$f":"COUNTA(L29:L32)","v":4}]
[null,null,null,null,null,null,null,null,null,null,null,null,null,null,null,"Total Sequences in Summary",{"$f":"SUM(O7:O22)","v":26},null,null,null,null,"Total Sequences in Block Summary",{"$f":"SUM(U7:U22)","v":4},null,null,null,"Total Sequences in Block Summary",{"$f":"SUM(Z7:Z22)","v":5},null,null,null,"Total Sequences in Block Summary",{"$f":"SUM(AE7:AE22)","v":4},null,null,null,"Total Sequences in Block Summary",{"$f":"SUM(AJ7:AJ22)","v":4},null,null,null,"Total Sequences in Block Summary",{"$f":"SUM(AO7:AO22)","v":5},null,null,null,"Total Sequences in Block Summary",{"$f":"SUM(AT7:AT22)","v":4}]
[null,null,null,null,null,null,null,null,null,null,null,null,null,null,null,null,null,null,null,"Block 1",null,null,null,null,"Block 2",null,null,null,null,"Block 3",null,null,null,null,"Block 4",null,null,null,null,"Block 5",null,null,null,null,"Block 6"]
["Sequence\nComponent\n1","Time\n1","Sequence\nComponent\n2","Time\n2","Sequence\nComponent\n3","Time\n3","Sequence\nComponent\n4","Time\n4","Sequence\nComponent\n5","Time\n5","Correct?\n0=No 1=Yes","Sequence",null,"Frequency",null,"Relative Frequency","Variability",null,null,"Frequency",null,"Relative Frequency","Variability",null,"Frequency",null,"Relative Frequency","Variability",null,"Frequency",null,"Relative Frequency","Variability",null,"Frequency",null,"Relative Frequency","Variability",null,"Frequency",null,"Relative Frequency","Variability",null,"Frequency",null,"Relative Frequency","Variability"]
[21,116,21,122,22,193,23,216,null,null,0,2222,null,1111,{"$f":"COUNTIF($L$7:$L$500,N7)","v":10},{"$f":"O7/$Q$4","v":0.38461538461538464},{"$f":"IF(P7=0,0,(P7*((LOG(P7))/LOG(2))))","v":-0.53019677817451139},null,null,{"$f":"N7","v":1111},{"$f":"COUNTIF(L7:L10,T7)","v":0},{"$f":"U7/(W4-U20)","v":0},{"$f":"IF(V7=0,0,(V7*((LOG(V7))/LOG(2))))","v":0},null,{"$f":"N7","v":1111},{"$f":"COUNTIF(L11:L15,Y7)","v":1},{"$f":"Z7/(AB4-Z20)","v":0.2},{"$f":"IF(AA7=0,0,(AA7*((LOG(AA7))/LOG(2))))","v":-0.46438561897747244},null,{"$f":"N7","v":1111},{"$f":"COUNTIF(L16:L19,AD7)","v":2},{"$f":"AE7/(AG4-AE20)","v":0.5},{"$f":"IF(AF7=0,0,(AF7*((LOG(AF7))/LOG(2))))","v":-0.5},null,{"$f":"N7","v":1111},{"$f":"COUNTIF(L20:L23,AI7)","v":2},{"$f":"AJ7/(AL4-AJ20)","v":0.5},{"$f":"IF(AK7=0,0,(AK7*((LOG(AK7))/LOG(2))))","v":-0.5},null,{"$f":"N7","v":1111},{"$f":"COUNTIF(L24:L28,AN7)","v":3},{"$f":"AO7/(AQ4-AO20)","v":0.6},{"$f":"IF(AP7=0,0,(AP7*((LOG(AP7))/LOG(2))))","v":-0.44217935649972373},null,{"$f":"N7","v":1111},{"$f":"COUNTIF(L29:L32,AS7)","v":2},{"$f":"AT7/(AV4-AT20)","v":0.5},{"$f":"IF(AU7=0,0,(AU7*((LOG(AU7))/LOG(2))))","v":-0.5}]
[12,361,14,371,24,392,23,398,null,null,0,1122,null,1112,{"$f":"COUNTIF($L$7:$L$500,N8)","v":3},{"$f":"O8/$Q$4","v":0.11538461538461539},{"$f":"IF(P8=0,0,(P8*((LOG(P8))/LOG(2))))","v":-0.35947814047153104},null,null,{"$f":"N8","v":1112},{"$f":"COUNTIF(L7:L10,T8)","v":0},{"$f":"U8/(W4-U20)","v":0},{"$f":"IF(V8=0,0,(V8*((LOG(V8))/LOG(2))))","v":0},null,{"$f":"N8","v":1112},{"$f":"COUNTIF(L11:L15,Y8)","v":0},{"$f":"Z8/(AB4-Z20)","v":0},{"$f":"IF(AA8=0,0,(AA8*((LOG(AA8))/LOG(2))))","v":0},null,{"$f":"N8","v":1112},{"$f":"COUNTIF(L16:L19,AD8)","v":1},{"$f":"AE8/(AG4-AE20)","v":0.25},{"$f":"IF(AF8=0,0,(AF8*((LOG(AF8))/LOG(2))))","v":-0.5},null,{"$f":"N8","v":1112},{"$f":"COUNTIF(L20:L23,AI8)","v":0},{"$f":"AJ8/(AL4-AJ20)","v":0},{"$f":"IF(AK8=0,0,(AK8*((LOG(AK8))/LOG(2))))","v":0},null,{"$f":"N8","v":1112},{"$f":"COUNTIF(L24:L28,AN8)","v":1},{"$f":"AO8/(AQ4-AO20)","v":0.2},{"$f":"IF(AP8=0,0,(AP8*((LOG(AP8))/LOG(2))))","v":-0.46438561897747244},null,{"$f":"N8","v":1112},{"$f":"COUNTIF(L29:L32,AS8)","v":1},{"$f":"AT8/(AV4-AT20)","v":0.25},{"$f":"IF(AU8=0,0,(AU8*((LOG(AU8))/LOG(2))))","v":-0.5}]
[12,514,23,534,24,540,23,545,null,null,0,1222,null,1121,{"$f":"COUNTIF($L$7:$L$500,N9)","v":0},{"$f":"O9/$Q$4","v":0},{"$f":"IF(P9=0,0,(P9*((LOG(P9))/LOG(2))))","v":0},null,null,{"$f":"N9","v":1121},{"$f":"COUNTIF(L7:L10,T9)","v":0},{"$f":"U9/(W4-U20)","v":0},{"$f":"IF(V9=0,0,(V9*((LOG(V9))/LOG(2))))","v":0},null,{"$f":"N9","v":1121},{"$f":"COUNTIF(L11:L15,Y9)","v":0},{"$f":"Z9/(AB4-Z20)","v":0},{"$f":"IF(AA9=0,0,(AA9*((LOG(AA9))/LOG(2))))","v":0},null,{"$f":"N9","v":1121},{"$f":"COUNTIF(L16:L19,AD9)","v":0},{"$f":"AE9/(AG4-AE20)","v":0},{"$f":"IF(AF9=0,0,(AF9*((LOG(AF9))/LOG(2))))","v":0},null,{"$f":"N9","v":1121},{"$f":"COUNTIF(L20:L23,AI9)","v":0},{"$f":"AJ9/(AL4-AJ20)","v":0},{"$f":"IF(AK9=0,0,(AK9*((LOG(AK9))/LOG(2))))","v":0},null,{"$f":"N9","v":1121},{"$f":"COUNTIF(L24:L28,AN9)","v":0},{"$f":"AO9/(AQ4-AO20)","v":0},{"$f":"IF(AP9=0,0,(AP9*((LOG(AP9))/LOG(2))))","v":0},null,{"$f":"N9","v":1121},{"$f":"COUNTIF(L29:L32,AS9)","v":0},{"$f":"AT9/(AV4-AT20)","v":0},{"$f":"IF(AU9=0,0,(AU9*((LOG(AU9))/LOG(2))))","v":0}]
[12,686,14,696,24,711,23,717,null,null,0,1122,null,1122,{"$f":"COUNTIF($L$7:$L$500,N10)","v":8},{"$f":"O10/$Q$4","v":0.30769230769230771},{"$f":"IF(P10=0,0,(P10*((LOG(P10))/LOG(2))))","v":-0.52321222096648989},null,null,{"$f":"N10","v":1122},{"$f":"COUNTIF(L7:L10,T10)","v":2},{"$f":"U10/(W4-U20)","v":0.5},{"$f":"IF(V10=0,0,(V10*((LOG(V10))/LOG(2))))","v":-0.5},null,{"$f":"N10","v":1122},{"$f":"COUNTIF(L11:L15,Y10)","v":3},{"$f":"Z10/(AB4-Z20)","v":0.6},{"$f":"IF(AA10=0,0,(AA10*((LOG(AA10))/LOG(2))))","v":-0.44217935649972373},null,{"$f":"N10","v":1122},{"$f":"COUNTIF(L16:L19,AD10)","v":1},{"$f":"AE10/(AG4-AE20)","v":0.25},{"$f":"IF(AF10=0,0,(AF10*((LOG(AF10))/LOG(2))))","v":-0.5},null,{"$f":"N10","v":1122},{"$f":"COUNTIF(L20:L23,AI10)","v":1},{"$f":"AJ10/(AL4-AJ20)","v":0.25},{"$f":"IF(AK10=0,0,(AK10*((LOG(AK10))/LOG(2))))","v":-0.5},null,{"$f":"N10","v":1122},{"$f":"COUNTIF(L24:L28,AN10)","v":0},{"$f":"AO10/(AQ4-AO20)","v":0},{"$f":"IF(AP10=0,0,(AP10*((LOG(AP10))/LOG(2))))","v":0},null,{"$f":"N10","v":1122},{"$f":"COUNTIF(L29:L32,AS10)","v":1},{"$f":"AT10/(AV4-AT20)","v":0.25},{"$f":"IF(AU10=0,0,(AU10*((LOG(AU10))/LOG(2))))","v":-0.5}]
[21,8283,21,8295,22,8309,23,8321,null,null,0,2222,null,1211,{"$f":"COUNTIF($L$7:$L$500,N11)","v":0},{"$f":"O11/$Q$4","v":0},{"$f":"IF(P11=0,0,(P11*((LOG(P11))/LOG(2))))","v":0},null,null,{"$f":"N11","v":1211},{"$f":"COUNTIF(L7:L10,T11)","v":0},{"$f":"U11/(W4-U20)","v":0},{"$f":"IF(V11=0,0,(V11*((LOG(V11))/LOG(2))))","v":0},null,{"$f":"N11","v":1211},{"$f":"COUNTIF(L11:L15,Y11)","v":0},{"$f":"Z11/(AB4-Z20)","v":0},{"$f":"IF(AA11=0,0,(AA11*((LOG(AA11))/LOG(2))))","v":0},null,{"$f":"N11","v":1211},{"$f":"COUNTIF(L16:L19,AD11)","v":0},{"$f":"AE11/(AG4-AE20)","v":0},{"$f":"IF(AF11=0,0,(AF11*((LOG(AF11))/LOG(2))))","v":0},null,{"$f":"N11","v":1211},{"$f":"COUNTIF(L20:L23,AI11)","v":0},{"$f":"AJ11/(AL4-AJ20)","v":0},{"$f":"IF(AK11=0,0,(AK11*((LOG(AK11))/LOG(2))))","v":0},null,{"$f":"N11","v":1211},{"$f":"COUNTIF(L24:L28,AN11)","v":0},{"$f":"AO11/(AQ4-AO20)","v":0},{"$f":"IF(AP11=0,0,(AP11*((LOG(AP11))/LOG(2))))","v":0},null,{"$f":"N11","v":1211},{"$f":"COUNTIF(L29:L32,AS11)","v":0},{"$f":"AT11/(AV4-AT20)","v":0},{"$f":"IF(AU11=0,0,(AU11*((LOG(AU11))/LOG(2))))","v":0}]
[12,10830,14,10860,24,10881,23,10888,null,null,0,1122,null,1212,{"$f":"COUNTIF($L$7:$L$500,N12)","v":0},{"$f":"O12/$Q$4","v":0},{"$f":"IF(P12=0,0,(P12*((LOG(P12))/LOG(2))))","v":0},null,null,{"$f":"N12","v":1212},{"$f":"COUNTIF(L7:L10,T12)","v":0},{"$f":"U12/(W4-U20)","v":0},{"$f":"IF(V12=0,0,(V12*((LOG(V12))/LOG(2))))","v":0},null,{"$f":"N12","v":1212},{"$f":"COUNTIF(L11:L15,Y12)","v":0},{"$f":"Z12/(AB4-Z20)","v":0},{"$f":"IF(AA12=0,0,(AA12*((LOG(AA12))/LOG(2))))","v":0},null,{"$f":"N12","v":1212},{"$f":"COUNTIF(L16:L19,AD12)","v":0},{"$f":"AE12/(AG4-AE20)","v":0},{"$f":"IF(AF12=0,0,(AF12*((LOG(AF12))/LOG(2))))","v":0},null,{"$f":"N12","v":1212},{"$f":"COUNTIF(L20:L23,AI12)","v":0},{"$f":"AJ12/(AL4-AJ20)","v":0},{"$f":"IF(AK12=0,0,(AK12*((LOG(AK12))/LOG(2))))","v":0},null,{"$f":"N12","v":1212},{"$f":"COUNTIF(L24:L28,AN12)","v":0},{"$f":"AO12/(AQ4-AO20)","v":0},{"$f":"IF(AP12=0,0,(AP12*((LOG(AP12))/LOG(2))))","v":0},null,{"$f":"N12","v":1212},{"$f":"COUNTIF(L29:L32,AS12)","v":0},{"$f":"AT12/(AV4-AT20)","v":0},{"$f":"IF(AU12=0,0,(AU12*((LOG(AU12))/LOG(2))))","v":0}]
[12,12319,14,12332,13,12359,14,12371,null,null,0,1111,null,1221,{"$f":"COUNTIF($L$7:$L$500,N13)","v":0},{"$f":"O13/$Q$4","v":0},{"$f":"IF(P13=0,0,(P13*((LOG(P13))/LOG(2))))","v":0},null,null,{"$f":"N13","v":1221},{"$f":"COUNTIF(L7:L10,T13)","v":0},{"$f":"U13/(W4-U20)","v":0},{"$f":"IF(V13=0,0,(V13*((LOG(V13))/LOG(2))))","v":0},null,{"$f":"N13","v":1221},{"$f":"COUNTIF(L11:L15,Y13)","v":0},{"$f":"Z13/(AB4-Z20)","v":0},{"$f":"IF(AA13=0,0,(AA13*((LOG(AA13))/LOG(2))))","v":0},null,{"$f":"N13","v":1221},{"$f":"COUNTIF(L16:L19,AD13)","v":0},{"$f":"AE13/(AG4-AE20)","v":0},{"$f":"IF(AF13=0,0,(AF13*((LOG(AF13))/LOG(2))))","v":0},null,{"$f":"N13","v":1221},{"$f":"COUNTIF(L20:L23,AI13)","v":0},{"$f":"AJ13/(AL4-AJ20)","v":0},{"$f":"IF(AK13=0,0,(AK13*((LOG(AK13))/LOG(2))))","v":0},null,{"$f":"N13","v":1221},{"$f":"COUNTIF(L24:L28,AN13)","v":0},{"$f":"AO13/(AQ4-AO20)","v":0},{"$f":"IF(AP13=0,0,(AP13*((LOG(AP13))/LOG(2))))","v":0},null,{"$f":"N13","v":1221},{"$f":"COUNTIF(L29:L32,AS13)","v":0},{"$f":"AT13/(AV4-AT20)","v":0},{"$f":"IF(AU13=0,0,(AU13*((LOG(AU13))/LOG(2))))","v":0}]
[12,12500,14,12506,24,12524,23,12530,null,null,0,1122,null,1222,{"$f":"COUNTIF($L$7:$L$500,N14)","v":2},{"$f":"O14/$Q$4","v":7.6923076923076927E-2},{"$f":"IF(P14=0,0,(P14*((LOG(P14))/LOG(2))))","v":-0.28464920908777636},null,null,{"$f":"N14","v":1222},{"$f":"COUNTIF(L7:L10,T14)","v":1},{"$f":"U14/(W4-U20)","v":0.25},{"$f":"IF(V14=0,0,(V14*((LOG(V14))/LOG(2))))","v":-0.5},null,{"$f":"N14","v":1222},{"$f":"COUNTIF(L11:L15,Y14)","v":0},{"$f":"Z14/(AB4-Z20)","v":0},{"$f":"IF(AA14=0,0,(AA14*((LOG(AA14))/LOG(2))))","v":0},null,{"$f":"N14","v":1222},{"$f":"COUNTIF(L16:L19,AD14)","v":0},{"$f":"AE14/(AG4-AE20)","v":0},{"$f":"IF(AF14=0,0,(AF14*((LOG(AF14))/LOG(2))))","v":0},null,{"$f":"N14","v":1222},{"$f":"COUNTIF(L20:L23,AI14)","v":1},{"$f":"AJ14/(AL4-AJ20)","v":0.25},{"$f":"IF(AK14=0,0,(AK14*((LOG(AK14))/LOG(2))))","v":-0.5},null,{"$f":"N14","v":1222},{"$f":"COUNTIF(L24:L28,AN14)","v":0},{"$f":"AO14/(AQ4-AO20)","v":0},{"$f":"IF(AP14=0,0,(AP14*((LOG(AP14))/LOG(2))))","v":0},null,{"$f":"N14","v":1222},{"$f":"COUNTIF(L29:L32,AS14)","v":0},{"$f":"AT14/(AV4-AT20)","v":0},{"$f":"IF(AU14=0,0,(AU14*((LOG(AU14))/LOG(2))))","v":0}]
[12,12644,14,12653,24,12668,23,12673,null,null,0,1122,null,2111,{"$f":"COUNTIF($L$7:$L$500,N15)","v":0},{"$f":"O15/$Q$4","v":0},{"$f":"IF(P15=0,0,(P15*((LOG(P15))/LOG(2))))","v":0},null,null,{"$f":"N15","v":2111},{"$f":"COUNTIF(L7:L10,T15)","v":0},{"$f":"U15/(W4-U20)","v":0},{"$f":"IF(V15=0,0,(V15*((LOG(V15))/LOG(2))))","v":0},null,{"$f":"N15","v":2111},{"$f":"COUNTIF(L11:L15,Y15)","v":0},{"$f":"Z15/(AB4-Z20)","v":0},{"$f":"IF(AA15=0,0,(AA15*((LOG(AA15))/LOG(2))))","v":0},null,{"$f":"N15","v":2111},{"$f":"COUNTIF(L16:L19,AD15)","v":0},{"$f":"AE15/(AG4-AE20)","v":0},{"$f":"IF(AF15=0,0,(AF15*((LOG(AF15))/LOG(2))))","v":0},null,{"$f":"N15","v":2111},{"$f":"COUNTIF(L20:L23,AI15)","v":0},{"$f":"AJ15/(AL4-AJ20)","v":0},{"$f":"IF(AK15=0,0,(AK15*((LOG(AK15))/LOG(2))))","v":0},null,{"$f":"N15","v":2111},{"$f":"COUNTIF(L24:L28,AN15)","v":0},{"$f":"AO15/(AQ4-AO20)","v":0},{"$f":"IF(AP15=0,0,(AP15*((LOG(AP15))/LOG(2))))","v":0},null,{"$f":"N15","v":2111},{"$f":"COUNTIF(L29:L32,AS15)","v":0},{"$f":"AT15/(AV4-AT20)","v":0},{"$f":"IF(AU15=0,0,(AU15*((LOG(AU15))/LOG(2))))","v":0}]
[12,12784,14,12797,24,12812,23,12817,null,null,0,1122,null,2112,{"$f":"COUNTIF($L$7:$L$500,N16)","v":0},{"$f":"O16/$Q$4","v":0},{"$f":"IF(P16=0,0,(P16*((LOG(P16))/LOG(2))))","v":0},null,null,{"$f":"N16","v":2112},{"$f":"COUNTIF(L7:L10,T16)","v":0},{"$f":"U16/(W4-U20)","v":0},{"$f":"IF(V16=0,0,(V16*((LOG(V16))/LOG(2))))","v":0},null,{"$f":"N16","v":2112},{"$f":"COUNTIF(L11:L15,Y16)","v":0},{"$f":"Z16/(AB4-Z20)","v":0},{"$f":"IF(AA16=0,0,(AA16*((LOG(AA16))/LOG(2))))","v":0},null,{"$f":"N16","v":2112},{"$f":"COUNTIF(L16:L19,AD16)","v":0},{"$f":"AE16/(AG4-AE20)","v":0},{"$f":"IF(AF16=0,0,(AF16*((LOG(AF16))/LOG(2))))","v":0},null,{"$f":"N16","v":2112},{"$f":"COUNTIF(L20:L23,AI16)","v":0},{"$f":"AJ16/(AL4-AJ20)","v":0},{"$f":"IF(AK16=0,0,(AK16*((LOG(AK16))/LOG(2))))","v":0},null,{"$f":"N16","v":2112},{"$f":"COUNTIF(L24:L28,AN16)","v":0},{"$f":"AO16/(AQ4-AO20)","v":0},{"$f":"IF(AP16=0,0,(AP16*((LOG(AP16))/LOG(2))))","v":0},null,{"$f":"N16","v":2112},{"$f":"COUNTIF(L29:L32,AS16)","v":0},{"$f":"AT16/(AV4-AT20)","v":0},{"$f":"IF(AU16=0,0,(AU16*((LOG(AU16))/LOG(2))))","v":0}]
[12,12920,14,12928,13,12934,14,12939,null,null,0,1111,null,2121,{"$f":"COUNTIF($L$7:$L$500,N17)","v":0},{"$f":"O17/$Q$4","v":0},{"$f":"IF(P17=0,0,(P17*((LOG(P17))/LOG(2))))","v":0},null,null,{"$f":"N17","v":2121},{"$f":"COUNTIF(L7:L10,T17)","v":0},{"$f":"U17/(W4-U20)","v":0},{"$f":"IF(V17=0,0,(V17*((LOG(V17))/LOG(2))))","v":0},null,{"$f":"N17","v":2121},{"$f":"COUNTIF(L11:L15,Y17)","v":0},{"$f":"Z17/(AB4-Z20)","v":0},{"$f":"IF(AA17=0,0,(AA17*((LOG(AA17))/LOG(2))))","v":0},null,{"$f":"N17","v":2121},{"$f":"COUNTIF(L16:L19,AD17)","v":0},{"$f":"AE17/(AG4-AE20)","v":0},{"$f":"IF(AF17=0,0,(AF17*((LOG(AF17))/LOG(2))))","v":0},null,{"$f":"N17","v":2121},{"$f":"COUNTIF(L20:L23,AI17)","v":0},{"$f":"AJ17/(AL4-AJ20)","v":0},{"$f":"IF(AK17=0,0,(AK17*((LOG(AK17))/LOG(2))))","v":0},null,{"$f":"N17","v":2121},{"$f":"COUNTIF(L24:L28,AN17)","v":0},{"$f":"AO17/(AQ4-AO20)","v":0},{"$f":"IF(AP17=0,0,(AP17*((LOG(AP17))/LOG(2))))","v":0},null,{"$f":"N17","v":2121},{"$f":"COUNTIF(L29:L32,AS17)","v":0},{"$f":"AT17/(AV4-AT20)","v":0},{"$f":"IF(AU17=0,0,(AU17*((LOG(AU17))/LOG(2))))","v":0}]
[12,13039,14,13044,13,13050,14,13062,null,null,0,1111,null,2122,{"$f":"COUNTIF($L$7:$L$500,N18)","v":0},{"$f":"O18/$Q$4","v":0},{"$f":"IF(P18=0,0,(P18*((LOG(P18))/LOG(2))))","v":0},null,null,{"$f":"N18","v":2122},{"$f":"COUNTIF(L7:L10,T18)","v":0},{"$f":"U18/(W4-U20)","v":0},{"$f":"IF(V18=0,0,(V18*((LOG(V18))/LOG(2))))","v":0},null,{"$f":"N18","v":2122},{"$f":"COUNTIF(L11:L15,Y18)","v":0},{"$f":"Z18/(AB4-Z20)","v":0},{"$f":"IF(AA18=0,0,(AA18*((LOG(AA18))/LOG(2))))","v":0},null,{"$f":"N18","v":2122},{"$f":"COUNTIF(L16:L19,AD18)","v":0},{"$f":"AE18/(AG4-AE20)","v":0},{"$f":"IF(AF18=0,0,(AF18*((LOG(AF18))/LOG(2))))","v":0},null,{"$f":"N18","v":2122},{"$f":"COUNTIF(L20:L23,AI18)","v":0},{"$f":"AJ18/(AL4-AJ20)","v":0},{"$f":"IF(AK18=0,0,(AK18*((LOG(AK18))/LOG(2))))","v":0},null,{"$f":"N18","v":2122},{"$f":"COUNTIF(L24:L28,AN18)","v":0},{"$f":"AO18/(AQ4-AO20)","v":0},{"$f":"IF(AP18=0,0,(AP18*((LOG(AP18))/LOG(2))))","v":0},null,{"$f":"N18","v":2122},{"$f":"COUNTIF(L29:L32,AS18)","v":0},{"$f":"AT18/(AV4-AT20)","v":0},{"$f":"IF(AU18=0,0,(AU18*((LOG(AU18))/LOG(2))))","v":0}]
[12,13165,14,13172,13,13181,23,13206,null,null,0,1112,null,2211,{"$f":"COUNTIF($L$7:$L$500,N19)","v":0},{"$f":"O19/$Q$4","v":0},{"$f":"IF(P19=0,0,(P19*((LOG(P19))/LOG(2))))","v":0},null,null,{"$f":"N19","v":2211},{"$f":"COUNTIF(L7:L10,T19)","v":0},{"$f":"U19/(W4-U20)","v":0},{"$f":"IF(V19=0,0,(V19*((LOG(V19))/LOG(2))))","v":0},null,{"$f":"N19","v":2211},{"$f":"COUNTIF(L11:L15,Y19)","v":0},{"$f":"Z19/(AB4-Z20)","v":0},{"$f":"IF(AA19=0,0,(AA19*((LOG(AA19))/LOG(2))))","v":0},null,{"$f":"N19","v":2211},{"$f":"COUNTIF(L16:L19,AD19)","v":0},{"$f":"AE19/(AG4-AE20)","v":0},{"$f":"IF(AF19=0,0,(AF19*((LOG(AF19))/LOG(2))))","v":0},null,{"$f":"N19","v":2211},{"$f":"COUNTIF(L20:L23,AI19)","v":0},{"$f":"AJ19/(AL4-AJ20)","v":0},{"$f":"IF(AK19=0,0,(AK19*((LOG(AK19))/LOG(2))))","v":0},null,{"$f":"N19","v":2211},{"$f":"COUNTIF(L24:L28,AN19)","v":0},{"$f":"AO19/(AQ4-AO20)","v":0},{"$f":"IF(AP19=0,0,(AP19*((LOG(AP19))/LOG(2))))","v":0},null,{"$f":"N19","v":2211},{"$f":"COUNTIF(L29:L32,AS19)","v":0},{"$f":"AT19/(AV4-AT20)","v":0},{"$f":"IF(AU19=0,0,(AU19*((LOG(AU19))/LOG(2))))","v":0}]
[12,13316,23,13334,24,13339,23,13347,null,null,0,1222,null,2212,{"$f":"COUNTIF($L$7:$L$500,N20)","v":0},{"$f":"O20/$Q$4","v":0},{"$f":"IF(P20=0,0,(P20*((LOG(P20))/LOG(2))))","v":0},null,null,{"$f":"N20","v":2212},{"$f":"COUNTIF(L7:L10,T20)","v":0},null,null,null,{"$f":"N20","v":2212},{"$f":"COUNTIF(L11:L15,Y20)","v":0},null,null,null,{"$f":"N20","v":2212},{"$f":"COUNTIF(L16:L19,AD20)","v":0},null,null,null,{"$f":"N20","v":2212},{"$f":"COUNTIF(L20:L23,AI20)","v":0},null,null,null,{"$f":"N20","v":2212},{"$f":"COUNTIF(L24:L28,AN20)","v":0},null,null,null,{"$f":"N20","v":2212},{"$f":"COUNTIF(L29:L32,AS20)","v":0}]
[12,13449,14,13462,13,13473,14,13483,null,null,0,1111,null,2221,{"$f":"COUNTIF($L$7:$L$500,N21)","v":0},{"$f":"O21/$Q$4","v":0},{"$f":"IF(P21=0,0,(P21*((LOG(P21))/LOG(2))))","v":0},null,null,{"$f":"N21","v":2221},{"$f":"COUNTIF(L7:L10,T21)","v":0},{"$f":"U21/(W4-U20)","v":0},{"$f":"IF(V21=0,0,(V21*((LOG(V21))/LOG(2))))","v":0},null,{"$f":"N21","v":2221},{"$f":"COUNTIF(L11:L15,Y21)","v":0},{"$f":"Z21/(AB4-Z20)","v":0},{"$f":"IF(AA21=0,0,(AA21*((LOG(AA21))/LOG(2))))","v":0},null,{"$f":"N21","v":2221},{"$f":"COUNTIF(L16:L19,AD21)","v":0},{"$f":"AE21/(AG4-AE20)","v":0},{"$f":"IF(AF21=0,0,(AF21*((LOG(AF21))/LOG(2))))","v":0},null,{"$f":"N21","v":2221},{"$f":"COUNTIF(L20:L23,AI21)","v":0},{"$f":"AJ21/(AL4-AJ20)","v":0},{"$f":"IF(AK21=0,0,(AK21*((LOG(AK21))/LOG(2))))","v":0},null,{"$f":"N21","v":2221},{"$f":"COUNTIF(L24:L28,AN21)","v":0},{"$f":"AO21/(AQ4-AO20)","v":0},{"$f":"IF(AP21=0,0,(AP21*((LOG(AP21))/LOG(2))))","v":0},null,{"$f":"N21","v":2221},{"$f":"COUNTIF(L29:L32,AS21)","v":0},{"$f":"AT21/(AV4-AT20)","v":0},{"$f":"IF(AU21=0,0,(AU21*((LOG(AU21))/LOG(2))))","v":0}]
[12,13590,14,13596,24,13618,23,13625,null,null,0,1122,null,2222,{"$f":"COUNTIF($L$7:$L$500,N22)","v":3},{"$f":"O22/$Q$4","v":0.11538461538461539},{"$f":"IF(P22=0,0,(P22*((LOG(P22))/LOG(2))))","v":-0.35947814047153104},null,null,{"$f":"N22","v":2222},{"$f":"COUNTIF(L7:L10,T22)","v":1},{"$f":"U22/(W4-U20)","v":0.25},{"$f":"IF(V22=0,0,(V22*((LOG(V22))/LOG(2))))","v":-0.5},null,{"$f":"N22","v":2222},{"$f":"COUNTIF(L11:L15,Y22)","v":1},{"$f":"Z22/(AB4-Z20)","v":0.2},{"$f":"IF(AA22=0,0,(AA22*((LOG(AA22))/LOG(2))))","v":-0.46438561897747244},null,{"$f":"N22","v":2222},{"$f":"COUNTIF(L16:L19,AD22)","v":0},{"$f":"AE22/(AG4-AE20)","v":0},{"$f":"IF(AF22=0,0,(AF22*((LOG(AF22))/LOG(2))))","v":0},null,{"$f":"N22","v":2222},{"$f":"COUNTIF(L20:L23,AI22)","v":0},{"$f":"AJ22/(AL4-AJ20)","v":0},{"$f":"IF(AK22=0,0,(AK22*((LOG(AK22))/LOG(2))))","v":0},null,{"$f":"N22","v":2222},{"$f":"COUNTIF(L24:L28,AN22)","v":1},{"$f":"AO22/(AQ4-AO20)","v":0.2},{"$f":"IF(AP22=0,0,(AP22*((LOG(AP22))/LOG(2))))","v":-0.46438561897747244},null,{"$f":"N22","v":2222},{"$f":"COUNTIF(L29:L32,AS22)","v":0},{"$f":"AT22/(AV4-AT20)","v":0},{"$f":"IF(AU22=0,0,(AU22*((LOG(AU22))/LOG(2))))","v":0}]
[12,13727,14,13735,13,13743,14,13754,null,null,0,1111,null,null,null,{"$f":"SUM(P7:P22)","v":1},{"$f":"-SUM(Q7:Q22)","v":2.0570144891718396},null,null,null,null,{"$f":"SUM(V7:V22)","v":1},{"$f":"-SUM(W7:W22)","v":1.5},null,null,null,{"$f":"SUM(AA7:AA22)","v":1},{"$f":"-SUM(AB7:AB22)","v":1.3709505944546687},null,null,null,{"$f":"SUM(AF7:AF22)","v":1},{"$f":"-SUM(AG7:AG22)","v":1.5},null,null,null,{"$f":"SUM(AK7:AK22)","v":1},{"$f":"-SUM(AL7:AL22)","v":1.5},null,null,null,{"$f":"SUM(AP7:AP22)","v":1},{"$f":"-SUM(AQ7:AQ22)","v":1.3709505944546687},null,null,null,{"$f":"SUM(AU7:AU22)","v":1},{"$f":"-SUM(AV7:AV22)","v":1.5}]
[12,13852,14,13857,13,13864,23,13889,null,null,0,1112,null,null,null,"U=",{"$f":"Q23/(LOG(Q4)/LOG(2))","v":0.43762171467339617},null,null,null,null,"U1=",{"$f":"W23/(LOG(W4)/LOG(2))","v":0.75},null,null,null,"U2=",{"$f":"AB23/(LOG(AB4)/LOG(2))","v":0.5904362833084088},null,null,null,"U3=",{"$f":"AG23/(LOG(AG4)/LOG(2))","v":0.75},null,null,null,"U4=",{"$f":"AL23/(LOG(AL4)/LOG(2))","v":0.75},null,null,null,"U5=",{"$f":"AQ23/(LOG(AQ4)/LOG(2))","v":0.5904362833084088},null,null,null,"U6=",{"$f":"AV23/(LOG(AV4)/LOG(2))","v":0.75}]
[21,14041,21,14051,22,14064,23,14087,null,null,0,2222]
[12,14197,14,14251,13,14263,14,14278,null,null,0,1111]
[12,15387,14,15410,13,15421,14,15430,null,null,0,1111,null,"Total Target Seq"]
[12,19378,14,19399,13,19408,14,19415,null,null,0,1111,null,{"$f":"COUNTIF(L7:L32,G3)","v":0},null,4,5,4,4,5,4]
[12,19575,14,19587,13,19597,14,19609,null,null,0,1111,null,null,null,"% of reinforcement given in 6 equal intervals based on number of trials "]
[12,19742,14,19757,24,19785,23,19791,null,null,0,1122,null,null,null,"%_1","%_2","%_3","%_4","%_5","%_6"]
[12,19934,14,19944,13,19951,14,19960,null,null,0,1111,null,null,"target sequence",{"$f":"$G$3","v":2212},{"$f":"$G$3","v":2212},{"$f":"$G$3","v":2212},{"$f":"$G$3","v":2212},{"$f":"$G$3","v":2212},{"$f":"$G$3","v":2212}]
[12,20143,14,20151,13,20161,23,20198,null,null,0,1112,null,null,"total reinforcement",{"$f":"U20","v":0},{"$f":"Z20","v":0},{"$f":"AE20","v":0},{"$f":"AJ20","v":0},{"$f":"AO20","v":0},{"$f":"AT20","v":0}]
[null,null,null,null,null,null,null,null,null,null,null,null,null,null,"% target"]
[null,null,null,null,null,null,null,null,null,null,null,null,null,null,"CCRF"]
[null,null,null,null,null,null,null,null,null,null,null,null,null,null,"% CCRf"]
[null,null,null,null,null,null,null,null,null,null,null,null,null,null,"average response rate",{"$f":"H10/P28","v":179.25},{"$f":"(H15-H10)/Q28","v":2391.1999999999998},{"$f":"(H19-H15)/R28","v":133.25},{"$f":"(H23-H19)/S28","v":137},{"$f":"(H28-H23)/T28","v":1132.2},{"$f":"(H32-H28)/U28","v":195.75}]

{"sheet":"!M903900.102","index":7,"n_rows":51,"n_cols":48,"rows_kept":51,"cut":false,"hidden":false,"merged":[[4,39,4,42],[5,39,5,40],[4,44,4,47],[5,44,5,45],[4,24,4,27],[5,24,5,25],[4,29,4,32],[5,29,5,30],[4,34,4,37],[5,34,5,35],[1,1,1,2],[5,13,5,14],[26,13,26,14],[27,13,27,14],[4,19,4,22],[5,19,5,20]]}
["Report for:!M903900.102"]
["Date:","<date>"]
["Hen:","<hen>",null,null,null,"Correct Sequence",{"$f":"Start!J2","v":2212},null,null,null,null,null,null,null,null,"Total Sequences in Data",{"$f":"4994-COUNTBLANK(L7:L5000)","v":45},null,null,null,null,"Total Sequences in Block Data",{"$f":"COUNTA(L7:L14)","v":8},null,null,null,"Total Sequences in Block Data",{"$f":"COUNTA(L15:L21)","v":7},null,null,null,"Total Sequences in Block Data",{"$f":"COUNTA(L22:L29)","v":8},null,null,null,"Total Sequences in Block Data",{"$f":"COUNTA(L30:L36)","v":7},null,null,null,"Total Sequences in Block Data",{"$f":"COUNTA(L37:L44)","v":8},null,null,null,"Total Sequences in Block Data",{"$f":"COUNTA(L45:L51)","v":7}]
[null,null,null,null,null,null,null,null,null,null,null,null,null,null,null,"Total Sequences in Summary",{"$f":"SUM(O7:O22)","v":45},null,null,null,null,"Total Sequences in Block Summary",{"$f":"SUM(U7:U22)","v":8},null,null,null,"Total Sequences in Block Summary",{"$f":"SUM(Z7:Z22)","v":7},null,null,null,"Total Sequences in Block Summary",{"$f":"SUM(AE7:AE22)","v":8},null,null,null,"Total Sequences in Block Summary",{"$f":"SUM(AJ7:AJ22)","v":7},null,null,null,"Total Sequences in Block Summary",{"$f":"SUM(AO7:AO22)","v":8},null,null,null,"Total Sequences in Block Summary",{"$f":"SUM(AT7:AT22)","v":7}]
[null,null,null,null,null,null,null,null,null,null,null,null,null,null,null,null,null,null,null,"Block 1",null,null,null,null,"Block 2",null,null,null,null,"Block 3",null,null,null,null,"Block 4",null,null,null,null,"Block 5",null,null,null,null,"Block 6"]
["Sequence\nComponent\n1","Time\n1","Sequence\nComponent\n2","Time\n2","Sequence\nComponent\n3","Time\n3","Sequence\nComponent\n4","Time\n4","Sequence\nComponent\n5","Time\n5","Correct?\n0=No 1=Yes","Sequence",null,"Frequency",null,"Relative Frequency","Variability",null,null,"Frequency",null,"Relative Frequency","Variability",null,"Frequency",null,"Relative Frequency","Variability",null,"Frequency",null,"Relative Frequency","Variability",null,"Frequency",null,"Relative Frequency","Variability",null,"Frequency",null,"Relative Frequency","Variability",null,"Frequency",null,"Relative Frequency","Variability"]
[12,29,14,43,13,50,23,69,null,null,0,1112,null,1111,{"$f":"COUNTIF($L$7:$L$500,N7)","v":32},{"$f":"O7/$Q$4","v":0.71111111111111114},{"$f":"IF(P7=0,0,(P7*((LOG(P7))/LOG(2))))","v":-0.34976220183443529},null,null,{"$f":"N7","v":1111},{"$f":"COUNTIF(L7:L14,T7)","v":3},{"$f":"U7/(W4-U20)","v":0.375},{"$f":"IF(V7=0,0,(V7*((LOG(V7))/LOG(2))))","v":-0.53063906222956647},null,{"$f":"N7","v":1111},{"$f":"COUNTIF(L15:L21,Y7)","v":3},{"$f":"Z7/(AB4-Z20)","v":0.42857142857142855},{"$f":"IF(AA7=0,0,(AA7*((LOG(AA7))/LOG(2))))","v":-0.52388246628704915},null,{"$f":"N7","v":1111},{"$f":"COUNTIF(L22:L29,AD7)","v":7},{"$f":"AE7/(AG4-AE20)","v":0.875},{"$f":"IF(AF7=0,0,(AF7*((LOG(AF7))/LOG(2))))","v":-0.1685644431995964},null,{"$f":"N7","v":1111},{"$f":"COUNTIF(L30:L36,AI7)","v":6},{"$f":"AJ7/(AL4-AJ20)","v":0.8571428571428571},{"$f":"IF(AK7=0,0,(AK7*((LOG(AK7))/LOG(2))))","v":-0.19062207543124113},null,{"$f":"N7","v":1111},{"$f":"COUNTIF(L37:L44,AN7)","v":7},{"$f":"AO7/(AQ4-AO20)","v":0.875},{"$f":"IF(AP7=0,0,(AP7*((LOG(AP7))/LOG(2))))","v":-0.1685644431995964},null,{"$f":"N7","v":1111},{"$f":"COUNTIF(L45:L51,AS7)","v":6},{"$f":"AT7/(AV4-AT20)","v":0.8571428571428571},{"$f":"IF(AU7=0,0,(AU7*((LOG(AU7))/LOG(2))))","v":-0.19062207543124113}]
[12,173,14,185,13,192,14,197,null,null,0,1111,null,1112,{"$f":"COUNTIF($L$7:$L$500,N8)","v":9},{"$f":"O8/$Q$4","v":0.2},{"$f":"IF(P8=0,0,(P8*((LOG(P8))/LOG(2))))","v":-0.46438561897747244},null,null,{"$f":"N8","v":1112},{"$f":"COUNTIF(L7:L14,T8)","v":4},{"$f":"U8/(W4-U20)","v":0.5},{"$f":"IF(V8=0,0,(V8*((LOG(V8))/LOG(2))))","v":-0.5},null,{"$f":"N8","v":1112},{"$f":"COUNTIF(L15:L21,Y8)","v":2},{"$f":"Z8/(AB4-Z20)","v":0.2857142857142857},{"$f":"IF(AA8=0,0,(AA8*((LOG(AA8))/LOG(2))))","v":-0.51638712058788683},null,{"$f":"N8","v":1112},{"$f":"COUNTIF(L22:L29,AD8)","v":1},{"$f":"AE8/(AG4-AE20)","v":0.125},{"$f":"IF(AF8=0,0,(AF8*((LOG(AF8))/LOG(2))))","v":-0.375},null,{"$f":"N8","v":1112},{"$f":"COUNTIF(L30:L36,AI8)","v":1},{"$f":"AJ8/(AL4-AJ20)","v":0.14285714285714285},{"$f":"IF(AK8=0,0,(AK8*((LOG(AK8))/LOG(2))))","v":-0.40105070315108626},null,{"$f":"N8","v":1112},{"$f":"COUNTIF(L37:L44,AN8)","v":0},{"$f":"AO8/(AQ4-AO20)","v":0},{"$f":"IF(AP8=0,0,(AP8*((LOG(AP8))/LOG(2))))","v":0},null,{"$f":"N8","v":1112},{"$f":"COUNTIF(L45:L51,AS8)","v":1},{"$f":"AT8/(AV4-AT20)","v":0.14285714285714285},{"$f":"IF(AU8=0,0,(AU8*((LOG(AU8))/LOG(2))))","v":-0.40105070315108626}]
[12,297,14,302,13,307,23,326,null,null,0,1112,null,1121,{"$f":"COUNTIF($L$7:$L$500,N9)","v":0},{"$f":"O9/$Q$4","v":0},{"$f":"IF(P9=0,0,(P9*((LOG(P9))/LOG(2))))","v":0},null,null,{"$f":"N9","v":1121},{"$f":"COUNTIF(L7:L14,T9)","v":0},{"$f":"U9/(W4-U20)","v":0},{"$f":"IF(V9=0,0,(V9*((LOG(V9))/LOG(2))))","v":0},null,{"$f":"N9","v":1121},{"$f":"COUNTIF(L15:L21,Y9)","v":0},{"$f":"Z9/(AB4-Z20)","v":0},{"$f":"IF(AA9=0,0,(AA9*((LOG(AA9))/LOG(2))))","v":0},null,{"$f":"N9","v":1121},{"$f":"COUNTIF(L22:L29,AD9)","v":0},{"$f":"AE9/(AG4-AE20)","v":0},{"$f":"IF(AF9=0,0,(AF9*((LOG(AF9))/LOG(2))))","v":0},null,{"$f":"N9","v":1121},{"$f":"COUNTIF(L30:L36,AI9)","v":0},{"$f":"AJ9/(AL4-AJ20)","v":0},{"$f":"IF(AK9=0,0,(AK9*((LOG(AK9))/LOG(2))))","v":0},null,{"$f":"N9","v":1121},{"$f":"COUNTIF(L37:L44,AN9)","v":0},{"$f":"AO9/(AQ4-AO20)","v":0},{"$f":"IF(AP9=0,0,(AP9*((LOG(AP9))/LOG(2))))","v":0},null,{"$f":"N9","v":1121},{"$f":"COUNTIF(L45:L51,AS9)","v":0},{"$f":"AT9/(AV4-AT20)","v":0},{"$f":"IF(AU9=0,0,(AU9*((LOG(AU9))/LOG(2))))","v":0}]
[21,484,12,519,13,526,14,569,null,null,0,2111,null,1122,{"$f":"COUNTIF($L$7:$L$500,N10)","v":1},{"$f":"O10/$Q$4","v":2.2222222222222223E-2},{"$f":"IF(P10=0,0,(P10*((LOG(P10))/LOG(2))))","v":-0.12204117991843723},null,null,{"$f":"N10","v":1122},{"$f":"COUNTIF(L7:L14,T10)","v":0},{"$f":"U10/(W4-U20)","v":0},{"$f":"IF(V10=0,0,(V10*((LOG(V10))/LOG(2))))","v":0},null,{"$f":"N10","v":1122},{"$f":"COUNTIF(L15:L21,Y10)","v":1},{"$f":"Z10/(AB4-Z20)","v":0.14285714285714285},{"$f":"IF(AA10=0,0,(AA10*((LOG(AA10))/LOG(2))))","v":-0.40105070315108626},null,{"$f":"N10","v":1122},{"$f":"COUNTIF(L22:L29,AD10)","v":0},{"$f":"AE10/(AG4-AE20)","v":0},{"$f":"IF(AF10=0,0,(AF10*((LOG(AF10))/LOG(2))))","v":0},null,{"$f":"N10","v":1122},{"$f":"COUNTIF(L30:L36,AI10)","v":0},{"$f":"AJ10/(AL4-AJ20)","v":0},{"$f":"IF(AK10=0,0,(AK10*((LOG(AK10))/LOG(2))))","v":0},null,{"$f":"N10","v":1122},{"$f":"COUNTIF(L37:L44,AN10)","v":0},{"$f":"AO10/(AQ4-AO20)","v":0},{"$f":"IF(AP10=0,0,(AP10*((LOG(AP10))/LOG(2))))","v":0},null,{"$f":"N10","v":1122},{"$f":"COUNTIF(L45:L51,AS10)","v":0},{"$f":"AT10/(AV4-AT20)","v":0},{"$f":"IF(AU10=0,0,(AU10*((LOG(AU10))/LOG(2))))","v":0}]
[12,664,14,670,13,691,14,697,null,null,0,1111,null,1211,{"$f":"COUNTIF($L$7:$L$500,N11)","v":0},{"$f":"O11/$Q$4","v":0},{"$f":"IF(P11=0,0,(P11*((LOG(P11))/LOG(2))))","v":0},null,null,{"$f":"N11","v":1211},{"$f":"COUNTIF(L7:L14,T11)","v":0},{"$f":"U11/(W4-U20)","v":0},{"$f":"IF(V11=0,0,(V11*((LOG(V11))/LOG(2))))","v":0},null,{"$f":"N11","v":1211},{"$f":"COUNTIF(L15:L21,Y11)","v":0},{"$f":"Z11/(AB4-Z20)","v":0},{"$f":"IF(AA11=0,0,(AA11*((LOG(AA11))/LOG(2))))","v":0},null,{"$f":"N11","v":1211},{"$f":"COUNTIF(L22:L29,AD11)","v":0},{"$f":"AE11/(AG4-AE20)","v":0},{"$f":"IF(AF11=0,0,(AF11*((LOG(AF11))/LOG(2))))","v":0},null,{"$f":"N11","v":1211},{"$f":"COUNTIF(L30:L36,AI11)","v":0},{"$f":"AJ11/(AL4-AJ20)","v":0},{"$f":"IF(AK11=0,0,(AK11*((LOG(AK11))/LOG(2))))","v":0},null,{"$f":"N11","v":1211},{"$f":"COUNTIF(L37:L44,AN11)","v":0},{"$f":"AO11/(AQ4-AO20)","v":0},{"$f":"IF(AP11=0,0,(AP11*((LOG(AP11))/LOG(2))))","v":0},null,{"$f":"N11","v":1211},{"$f":"COUNTIF(L45:L51,AS11)","v":0},{"$f":"AT11/(AV4-AT20)","v":0},{"$f":"IF(AU11=0,0,(AU11*((LOG(AU11))/LOG(2))))","v":0}]
[12,791,14,797,13,802,23,831,null,null,0,1112,null,1212,{"$f":"COUNTIF($L$7:$L$500,N12)","v":0},{"$f":"O12/$Q$4","v":0},{"$f":"IF(P12=0,0,(P12*((LOG(P12))/LOG(2))))","v":0},null,null,{"$f":"N12","v":1212},{"$f":"COUNTIF(L7:L14,T12)","v":0},{"$f":"U12/(W4-U20)","v":0},{"$f":"IF(V12=0,0,(V12*((LOG(V12))/LOG(2))))","v":0},null,{"$f":"N12","v":1212},{"$f":"COUNTIF(L15:L21,Y12)","v":0},{"$f":"Z12/(AB4-Z20)","v":0},{"$f":"IF(AA12=0,0,(AA12*((LOG(AA12))/LOG(2))))","v":0},null,{"$f":"N12","v":1212},{"$f":"COUNTIF(L22:L29,AD12)","v":0},{"$f":"AE12/(AG4-AE20)","v":0},{"$f":"IF(AF12=0,0,(AF12*((LOG(AF12))/LOG(2))))","v":0},null,{"$f":"N12","v":1212},{"$f":"COUNTIF(L30:L36,AI12)","v":0},{"$f":"AJ12/(AL4-AJ20)","v":0},{"$f":"IF(AK12=0,0,(AK12*((LOG(AK12))/LOG(2))))","v":0},null,{"$f":"N12","v":1212},{"$f":"COUNTIF(L37:L44,AN12)","v":0},{"$f":"AO12/(AQ4-AO20)","v":0},{"$f":"IF(AP12=0,0,(AP12*((LOG(AP12))/LOG(2))))","v":0},null,{"$f":"N12","v":1212},{"$f":"COUNTIF(L45:L51,AS12)","v":0},{"$f":"AT12/(AV4-AT20)","v":0},{"$f":"IF(AU12=0,0,(AU12*((LOG(AU12))/LOG(2))))","v":0}]
[12,933,14,940,13,946,23,961,null,null,0,1112,null,1221,{"$f":"COUNTIF($L$7:$L$500,N13)","v":0},{"$f":"O13/$Q$4","v":0},{"$f":"IF(P13=0,0,(P13*((LOG(P13))/LOG(2))))","v":0},null,null,{"$f":"N13","v":1221},{"$f":"COUNTIF(L7:L14,T13)","v":0},{"$f":"U13/(W4-U20)","v":0},{"$f":"IF(V13=0,0,(V13*((LOG(V13))/LOG(2))))","v":0},null,{"$f":"N13","v":1221},{"$f":"COUNTIF(L15:L21,Y13)","v":0},{"$f":"Z13/(AB4-Z20)","v":0},{"$f":"IF(AA13=0,0,(AA13*((LOG(AA13))/LOG(2))))","v":0},null,{"$f":"N13","v":1221},{"$f":"COUNTIF(L22:L29,AD13)","v":0},{"$f":"AE13/(AG4-AE20)","v":0},{"$f":"IF(AF13=0,0,(AF13*((LOG(AF13))/LOG(2))))","v":0},null,{"$f":"N13","v":1221},{"$f":"COUNTIF(L30:L36,AI13)","v":0},{"$f":"AJ13/(AL4-AJ20)","v":0},{"$f":"IF(AK13=0,0,(AK13*((LOG(AK13))/LOG(2))))","v":0},null,{"$f":"N13","v":1221},{"$f":"COUNTIF(L37:L44,AN13)","v":0},{"$f":"AO13/(AQ4-AO20)","v":0},{"$f":"IF(AP13=0,0,(AP13*((LOG(AP13))/LOG(2))))","v":0},null,{"$f":"N13","v":1221},{"$f":"COUNTIF(L45:L51,AS13)","v":0},{"$f":"AT13/(AV4-AT20)","v":0},{"$f":"IF(AU13=0,0,(AU13*((LOG(AU13))/LOG(2))))","v":0}]
[12,1077,14,1086,13,1093,14,1099,null,null,0,1111,null,1222,{"$f":"COUNTIF($L$7:$L$500,N14)","v":1},{"$f":"O14/$Q$4","v":2.2222222222222223E-2},{"$f":"IF(P14=0,0,(P14*((LOG(P14))/LOG(2))))","v":-0.12204117991843723},null,null,{"$f":"N14","v":1222},{"$f":"COUNTIF(L7:L14,T14)","v":0},{"$f":"U14/(W4-U20)","v":0},{"$f":"IF(V14=0,0,(V14*((LOG(V14))/LOG(2))))","v":0},null,{"$f":"N14","v":1222},{"$f":"COUNTIF(L15:L21,Y14)","v":0},{"$f":"Z14/(AB4-Z20)","v":0},{"$f":"IF(AA14=0,0,(AA14*((LOG(AA14))/LOG(2))))","v":0},null,{"$f":"N14","v":1222},{"$f":"COUNTIF(L22:L29,AD14)","v":0},{"$f":"AE14/(AG4-AE20)","v":0},{"$f":"IF(AF14=0,0,(AF14*((LOG(AF14))/LOG(2))))","v":0},null,{"$f":"N14","v":1222},{"$f":"COUNTIF(L30:L36,AI14)","v":0},{"$f":"AJ14/(AL4-AJ20)","v":0},{"$f":"IF(AK14=0,0,(AK14*((LOG(AK14))/LOG(2))))","v":0},null,{"$f":"N14","v":1222},{"$f":"COUNTIF(L37:L44,AN14)","v":1},{"$f":"AO14/(AQ4-AO20)","v":0.125},{"$f":"IF(AP14=0,0,(AP14*((LOG(AP14))/LOG(2))))","v":-0.375},null,{"$f":"N14","v":1222},{"$f":"COUNTIF(L45:L51,AS14)","v":0},{"$f":"AT14/(AV4-AT20)","v":0},{"$f":"IF(AU14=0,0,(AU14*((LOG(AU14))/LOG(2))))","v":0}]
[12,1197,14,1203,13,1209,23,1229,null,null,0,1112,null,2111,{"$f":"COUNTIF($L$7:$L$500,N15)","v":1},{"$f":"O15/$Q$4","v":2.2222222222222223E-2},{"$f":"IF(P15=0,0,(P15*((LOG(P15))/LOG(2))))","v":-0.12204117991843723},null,null,{"$f":"N15","v":2111},{"$f":"COUNTIF(L7:L14,T15)","v":1},{"$f":"U15/(W4-U20)","v":0.125},{"$f":"IF(V15=0,0,(V15*((LOG(V15))/LOG(2))))","v":-0.375},null,{"$f":"N15","v":2111},{"$f":"COUNTIF(L15:L21,Y15)","v":0},{"$f":"Z15/(AB4-Z20)","v":0},{"$f":"IF(AA15=0,0,(AA15*((LOG(AA15))/LOG(2))))","v":0},null,{"$f":"N15","v":2111},{"$f":"COUNTIF(L22:L29,AD15)","v":0},{"$f":"AE15/(AG4-AE20)","v":0},{"$f":"IF(AF15=0,0,(AF15*((LOG(AF15))/LOG(2))))","v":0},null,{"$f":"N15","v":2111},{"$f":"COUNTIF(L30:L36,AI15)","v":0},{"$f":"AJ15/(AL4-AJ20)","v":0},{"$f":"IF(AK15=0,0,(AK15*((LOG(AK15))/LOG(2))))","v":0},null,{"$f":"N15","v":2111},{"$f":"COUNTIF(L37:L44,AN15)","v":0},{"$f":"AO15/(AQ4-AO20)","v":0},{"$f":"IF(AP15=0,0,(AP15*((LOG(AP15))/LOG(2))))","v":0},null,{"$f":"N15","v":2111},{"$f":"COUNTIF(L45:L51,AS15)","v":0},{"$f":"AT15/(AV4-AT20)","v":0},{"$f":"IF(AU15=0,0,(AU15*((LOG(AU15))/LOG(2))))","v":0}]
[12,1329,14,1335,13,1343,14,1353,null,null,0,1111,null,2112,{"$f":"COUNTIF($L$7:$L$500,N16)","v":0},{"$f":"O16/$Q$4","v":0},{"$f":"IF(P16=0,0,(P16*((LOG(P16))/LOG(2))))","v":0},null,null,{"$f":"N16","v":2112},{"$f":"COUNTIF(L7:L14,T16)","v":0},{"$f":"U16/(W4-U20)","v":0},{"$f":"IF(V16=0,0,(V16*((LOG(V16))/LOG(2))))","v":0},null,{"$f":"N16","v":2112},{"$f":"COUNTIF(L15:L21,Y16)","v":0},{"$f":"Z16/(AB4-Z20)","v":0},{"$f":"IF(AA16=0,0,(AA16*((LOG(AA16))/LOG(2))))","v":0},null,{"$f":"N16","v":2112},{"$f":"COUNTIF(L22:L29,AD16)","v":0},{"$f":"AE16/(AG4-AE20)","v":0},{"$f":"IF(AF16=0,0,(AF16*((LOG(AF16))/LOG(2))))","v":0},null,{"$f":"N16","v":2112},{"$f":"COUNTIF(L30:L36,AI16)","v":0},{"$f":"AJ16/(AL4-AJ20)","v":0},{"$f":"IF(AK16=0,0,(AK16*((LOG(AK16))/LOG(2))))","v":0},null,{"$f":"N16","v":2112},{"$f":"COUNTIF(L37:L44,AN16)","v":0},{"$f":"AO16/(AQ4-AO20)","v":0},{"$f":"IF(AP16=0,0,(AP16*((LOG(AP16))/LOG(2))))","v":0},null,{"$f":"N16","v":2112},{"$f":"COUNTIF(L45:L51,AS16)","v":0},{"$f":"AT16/(AV4-AT20)","v":0},{"$f":"IF(AU16=0,0,(AU16*((LOG(AU16))/LOG(2))))","v":0}]
[21,1471,21,1480,22,1497,23,1503,null,null,0,2222,null,2121,{"$f":"COUNTIF($L$7:$L$500,N17)","v":0},{"$f":"O17/$Q$4","v":0},{"$f":"IF(P17=0,0,(P17*((LOG(P17))/LOG(2))))","v":0},null,null,{"$f":"N17","v":2121},{"$f":"COUNTIF(L7:L14,T17)","v":0},{"$f":"U17/(W4-U20)","v":0},{"$f":"IF(V17=0,0,(V17*((LOG(V17))/LOG(2))))","v":0},null,{"$f":"N17","v":2121},{"$f":"COUNTIF(L15:L21,Y17)","v":0},{"$f":"Z17/(AB4-Z20)","v":0},{"$f":"IF(AA17=0,0,(AA17*((LOG(AA17))/LOG(2))))","v":0},null,{"$f":"N17","v":2121},{"$f":"COUNTIF(L22:L29,AD17)","v":0},{"$f":"AE17/(AG4-AE20)","v":0},{"$f":"IF(AF17=0,0,(AF17*((LOG(AF17))/LOG(2))))","v":0},null,{"$f":"N17","v":2121},{"$f":"COUNTIF(L30:L36,AI17)","v":0},{"$f":"AJ17/(AL4-AJ20)","v":0},{"$f":"IF(AK17=0,0,(AK17*((LOG(AK17))/LOG(2))))","v":0},null,{"$f":"N17","v":2121},{"$f":"COUNTIF(L37:L44,AN17)","v":0},{"$f":"AO17/(AQ4-AO20)","v":0},{"$f":"IF(AP17=0,0,(AP17*((LOG(AP17))/LOG(2))))","v":0},null,{"$f":"N17","v":2121},{"$f":"COUNTIF(L45:L51,AS17)","v":0},{"$f":"AT17/(AV4-AT20)","v":0},{"$f":"IF(AU17=0,0,(AU17*((LOG(AU17))/LOG(2))))","v":0}]
[12,1617,14,1632,24,1660,23,1669,null,null,0,1122,null,2122,{"$f":"COUNTIF($L$7:$L$500,N18)","v":0},{"$f":"O18/$Q$4","v":0},{"$f":"IF(P18=0,0,(P18*((LOG(P18))/LOG(2))))","v":0},null,null,{"$f":"N18","v":2122},{"$f":"COUNTIF(L7:L14,T18)","v":0},{"$f":"U18/(W4-U20)","v":0},{"$f":"IF(V18=0,0,(V18*((LOG(V18))/LOG(2))))","v":0},null,{"$f":"N18","v":2122},{"$f":"COUNTIF(L15:L21,Y18)","v":0},{"$f":"Z18/(AB4-Z20)","v":0},{"$f":"IF(AA18=0,0,(AA18*((LOG(AA18))/LOG(2))))","v":0},null,{"$f":"N18","v":2122},{"$f":"COUNTIF(L22:L29,AD18)","v":0},{"$f":"AE18/(AG4-AE20)","v":0},{"$f":"IF(AF18=0,0,(AF18*((LOG(AF18))/LOG(2))))","v":0},null,{"$f":"N18","v":2122},{"$f":"COUNTIF(L30:L36,AI18)","v":0},{"$f":"AJ18/(AL4-AJ20)","v":0},{"$f":"IF(AK18=0,0,(AK18*((LOG(AK18))/LOG(2))))","v":0},null,{"$f":"N18","v":2122},{"$f":"COUNTIF(L37:L44,AN18)","v":0},{"$f":"AO18/(AQ4-AO20)","v":0},{"$f":"IF(AP18=0,0,(AP18*((LOG(AP18))/LOG(2))))","v":0},null,{"$f":"N18","v":2122},{"$f":"COUNTIF(L45:L51,AS18)","v":0},{"$f":"AT18/(AV4-AT20)","v":0},{"$f":"IF(AU18=0,0,(AU18*((LOG(AU18))/LOG(2))))","v":0}]
[12,1782,14,1790,13,1795,23,1810,null,null,0,1112,null,2211,{"$f":"COUNTIF($L$7:$L$500,N19)","v":0},{"$f":"O19/$Q$4","v":0},{"$f":"IF(P19=0,0,(P19*((LOG(P19))/LOG(2))))","v":0},null,null,{"$f":"N19","v":2211},{"$f":"COUNTIF(L7:L14,T19)","v":0},{"$f":"U19/(W4-U20)","v":0},{"$f":"IF(V19=0,0,(V19*((LOG(V19))/LOG(2))))","v":0},null,{"$f":"N19","v":2211},{"$f":"COUNTIF(L15:L21,Y19)","v":0},{"$f":"Z19/(AB4-Z20)","v":0},{"$f":"IF(AA19=0,0,(AA19*((LOG(AA19))/LOG(2))))","v":0},null,{"$f":"N19","v":2211},{"$f":"COUNTIF(L22:L29,AD19)","v":0},{"$f":"AE19/(AG4-AE20)","v":0},{"$f":"IF(AF19=0,0,(AF19*((LOG(AF19))/LOG(2))))","v":0},null,{"$f":"N19","v":2211},{"$f":"COUNTIF(L30:L36,AI19)","v":0},{"$f":"AJ19/(AL4-AJ20)","v":0},{"$f":"IF(AK19=0,0,(AK19*((LOG(AK19))/LOG(2))))","v":0},null,{"$f":"N19","v":2211},{"$f":"COUNTIF(L37:L44,AN19)","v":0},{"$f":"AO19/(AQ4-AO20)","v":0},{"$f":"IF(AP19=0,0,(AP19*((LOG(AP19))/LOG(2))))","v":0},null,{"$f":"N19","v":2211},{"$f":"COUNTIF(L45:L51,AS19)","v":0},{"$f":"AT19/(AV4-AT20)","v":0},{"$f":"IF(AU19=0,0,(AU19*((LOG(AU19))/LOG(2))))","v":0}]
[12,1920,14,1932,13,1943,14,1948,null,null,0,1111,null,2212,{"$f":"COUNTIF($L$7:$L$500,N20)","v":0},{"$f":"O20/$Q$4","v":0},{"$f":"IF(P20=0,0,(P20*((LOG(P20))/LOG(2))))","v":0},null,null,{"$f":"N20","v":2212},{"$f":"COUNTIF(L7:L14,T20)","v":0},null,null,null,{"$f":"N20","v":2212},{"$f":"COUNTIF(L15:L21,Y20)","v":0},null,null,null,{"$f":"N20","v":2212},{"$f":"COUNTIF(L22:L29,AD20)","v":0},null,null,null,{"$f":"N20","v":2212},{"$f":"COUNTIF(L30:L36,AI20)","v":0},null,null,null,{"$f":"N20","v":2212},{"$f":"COUNTIF(L37:L44,AN20)","v":0},null,null,null,{"$f":"N20","v":2212},{"$f":"COUNTIF(L45:L51,AS20)","v":0}]
[12,2051,14,2057,13,2062,14,2073,null,null,0,1111,null,2221,{"$f":"COUNTIF($L$7:$L$500,N21)","v":0},{"$f":"O21/$Q$4","v":0},{"$f":"IF(P21=0,0,(P21*((LOG(P21))/LOG(2))))","v":0},null,null,{"$f":"N21","v":2221},{"$f":"COUNTIF(L7:L14,T21)","v":0},{"$f":"U21/(W4-U20)","v":0},{"$f":"IF(V21=0,0,(V21*((LOG(V21))/LOG(2))))","v":0},null,{"$f":"N21","v":2221},{"$f":"COUNTIF(L15:L21,Y21)","v":0},{"$f":"Z21/(AB4-Z20)","v":0},{"$f":"IF(AA21=0,0,(AA21*((LOG(AA21))/LOG(2))))","v":0},null,{"$f":"N21","v":2221},{"$f":"COUNTIF(L22:L29,AD21)","v":0},{"$f":"AE21/(AG4-AE20)","v":0},{"$f":"IF(AF21=0,0,(AF21*((LOG(AF21))/LOG(2))))","v":0},null,{"$f":"N21","v":2221},{"$f":"COUNTIF(L30:L36,AI21)","v":0},{"$f":"AJ21/(AL4-AJ20)","v":0},{"$f":"IF(AK21=0,0,(AK21*((LOG(AK21))/LOG(2))))","v":0},null,{"$f":"N21","v":2221},{"$f":"COUNTIF(L37:L44,AN21)","v":0},{"$f":"AO21/(AQ4-AO20)","v":0},{"$f":"IF(AP21=0,0,(AP21*((LOG(AP21))/LOG(2))))","v":0},null,{"$f":"N21","v":2221},{"$f":"COUNTIF(L45:L51,AS21)","v":0},{"$f":"AT21/(AV4-AT20)","v":0},{"$f":"IF(AU21=0,0,(AU21*((LOG(AU21))/LOG(2))))","v":0}]
[12,2203,14,2209,13,2215,14,2225,null,null,0,1111,null,2222,{"$f":"COUNTIF($L$7:$L$500,N22)","v":1},{"$f":"O22/$Q$4","v":2.2222222222222223E-2},{"$f":"IF(P22=0,0,(P22*((LOG(P22))/LOG(2))))","v":-0.12204117991843723},null,null,{"$f":"N22","v":2222},{"$f":"COUNTIF(L7:L14,T22)","v":0},{"$f":"U22/(W4-U20)","v":0},{"$f":"IF(V22=0,0,(V22*((LOG(V22))/LOG(2))))","v":0},null,{"$f":"N22","v":2222},{"$f":"COUNTIF(L15:L21,Y22)","v":1},{"$f":"Z22/(AB4-Z20)","v":0.14285714285714285},{"$f":"IF(AA22=0,0,(AA22*((LOG(AA22))/LOG(2))))","v":-0.40105070315108626},null,{"$f":"N22","v":2222},{"$f":"COUNTIF(L22:L29,AD22)","v":0},{"$f":"AE22/(AG4-AE20)","v":0},{"$f":"IF(AF22=0,0,(AF22*((LOG(AF22))/LOG(2))))","v":0},null,{"$f":"N22","v":2222},{"$f":"COUNTIF(L30:L36,AI22)","v":0},{"$f":"AJ22/(AL4-AJ20)","v":0},{"$f":"IF(AK22=0,0,(AK22*((LOG(AK22))/LOG(2))))","v":0},null,{"$f":"N22","v":2222},{"$f":"COUNTIF(L37:L44,AN22)","v":0},{"$f":"AO22/(AQ4-AO20)","v":0},{"$f":"IF(AP22=0,0,(AP22*((LOG(AP22))/LOG(2))))","v":0},null,{"$f":"N22","v":2222},{"$f":"COUNTIF(L45:L51,AS22)","v":0},{"$f":"AT22/(AV4-AT20)","v":0},{"$f":"IF(AU22=0,0,(AU22*((LOG(AU22))/LOG(2))))","v":0}]
[12,2330,14,2337,13,2342,14,2351,null,null,0,1111,null,null,null,{"$f":"SUM(P7:P22)","v":1.0000000000000002},{"$f":"-SUM(Q7:Q22)","v":1.3023125404856568},null,null,null,null,{"$f":"SUM(V7:V22)","v":1},{"$f":"-SUM(W7:W22)","v":1.4056390622295665},null,null,null,{"$f":"SUM(AA7:AA22)","v":0.99999999999999978},{"$f":"-SUM(AB7:AB22)","v":1.8423709931771088},null,null,null,{"$f":"SUM(AF7:AF22)","v":1},{"$f":"-SUM(AG7:AG22)","v":0.5435644431995964},null,null,null,{"$f":"SUM(AK7:AK22)","v":1},{"$f":"-SUM(AL7:AL22)","v":0.59167277858232736},null,null,null,{"$f":"SUM(AP7:AP22)","v":1},{"$f":"-SUM(AQ7:AQ22)","v":0.5435644431995964},null,null,null,{"$f":"SUM(AU7:AU22)","v":1},{"$f":"-SUM(AV7:AV22)","v":0.59167277858232736}]
[12,2483,14,2495,13,2506,23,2538,null,null,0,1112,null,null,null,"U=",{"$f":"Q23/(LOG(Q4)/LOG(2))","v":0.23713535625270471},null,null,null,null,"U1=",{"$f":"W23/(LOG(W4)/LOG(2))","v":0.46854635407652218},null,null,null,"U2=",{"$f":"AB23/(LOG(AB4)/LOG(2))","v":0.65626578908903099},null,null,null,"U3=",{"$f":"AG23/(LOG(AG4)/LOG(2))","v":0.1811881477331988},null,null,null,"U4=",{"$f":"AL23/(LOG(AL4)/LOG(2))","v":0.21075809614719845},null,null,null,"U5=",{"$f":"AQ23/(LOG(AQ4)/LOG(2))","v":0.1811881477331988},null,null,null,"U6=",{"$f":"AV23/(LOG(AV4)/LOG(2))","v":0.21075809614719845}]
[12,2663,14,2669,13,2677,14,2683,null,null,0,1111]
[12,3356,14,3366,13,3377,14,3615,null,null,0,1111]
[12,7616,14,7626,13,7631,14,7639,null,null,0,1111,null,"Total Target Seq"]
[12,7784,14,7798,13,7813,14,7822,null,null,0,1111,null,{"$f":"COUNTIF(L7:L51,G3)","v":0},null,8,7,8,7,8,7]
[12,8064,14,8071,13,8079,14,8084,null,null,0,1111,null,null,null,"% of reinforcement given in 6 equal intervals based on number of trials "]
[12,8191,14,8200,13,8211,14,8232,null,null,0,1111,null,null,null,"%_1","%_2","%_3","%_4","%_5","%_6"]
[12,8354,14,8364,13,8373,23,8398,null,null,0,1112,null,null,"target sequence",{"$f":"$G$3","v":2212},{"$f":"$G$3","v":2212},{"$f":"$G$3","v":2212},{"$f":"$G$3","v":2212},{"$f":"$G$3","v":2212},{"$f":"$G$3","v":2212}]
[12,8521,14,8528,13,8534,14,8542,null,null,0,1111,null,null,"total reinforcement",{"$f":"U20","v":0},{"$f":"Z20","v":0},{"$f":"AE20","v":0},{"$f":"AJ20","v":0},{"$f":"AO20","v":0},{"$f":"AT20","v":0}]
[12,8795,14,8811,13,8821,14,8829,null,null,0,1111,null,null,"% target"]
[12,8968,14,8982,13,8987,14,8994,null,null,0,1111,null,null,"CCRF"]
[12,12681,14,12691,13,12698,14,12703,null,null,0,1111,null,null,"% CCRf"]
[12,12834,14,12842,13,12852,14,12857,null,null,0,1111,null,null,"average response rate",{"$f":"H14/P28","v":137.375},{"$f":"(H21-H14)/Q28","v":139.14285714285714},{"$f":"(H29-H21)/R28","v":751.375},{"$f":"(H36-H29)/S28","v":681.85714285714289},{"$f":"(H44-H36)/T28","v":144},{"$f":"(H51-H44)/U28","v":163.57142857142858}]
[12,13045,23,13066,24,13073,23,13078,null,null,0,1222]
[12,13204,14,13214,13,13220,14,13227,null,null,0,1111]
[12,13327,14,13333,13,13339,14,13345,null,null,0,1111]
[12,13445,14,13451,13,13457,14,13462,null,null,0,1111]
[12,13566,14,13571,13,13578,14,13584,null,null,0,1111]
[12,13685,14,13693,13,13700,14,13711,null,null,0,1111]
[12,13829,14,13840,13,13847,14,13853,null,null,0,1111]
[12,13979,14,13990,13,14000,14,14009,null,null,0,1111]
[12,14115,14,14124,13,14130,14,14135,null,null,0,1111]
[12,14264,14,14269,13,14274,14,14279,null,null,0,1111]
[12,14375,14,14381,13,14387,14,14397,null,null,0,1111]
[12,14512,14,14525,13,14534,23,14562,null,null,0,1112]
[12,14807,14,14813,13,14823,14,14829,null,null,0,1111]
[12,14972,14,14986,13,15001,14,15010,null,null,0,1111]
[12,15133,14,15141,13,15148,14,15154,null,null,0,1111]

{"sheet":"!M904A00.102","index":8,"n_rows":48,"n_cols":48,"rows_kept":48,"cut":false,"hidden":false,"merged":[[4,39,4,42],[5,39,5,40],[4,44,4,47],[5,44,5,45],[4,24,4,27],[5,24,5,25],[4,29,4,32],[5,29,5,30],[4,34,4,37],[5,34,5,35],[1,1,1,2],[5,13,5,14],[26,13,26,14],[27,13,27,14],[4,19,4,22],[5,19,5,20]]}
["Report for:!M904A00.102"]
["Date:","<date>"]
["Hen:","<hen>",null,null,null,"Correct Sequence",{"$f":"Start!J2","v":2212},null,null,null,null,null,null,null,null,"Total Sequences in Data",{"$f":"4994-COUNTBLANK(L7:L5000)","v":42},null,null,null,null,"Total Sequences in Block Data",{"$f":"COUNTA(L7:L13)","v":7},null,null,null,"Total Sequences in Block Data",{"$f":"COUNTA(L14:L20)","v":7},null,null,null,"Total Sequences in Block Data",{"$f":"COUNTA(L21:L27)","v":7},null,null,null,"Total Sequences in Block Data",{"$f":"COUNTA(L28:L34)","v":7},null,null,null,"Total Sequences in Block Data",{"$f":"COUNTA(L35:L41)","v":7},null,null,null,"Total Sequences in Block Data",{"$f":"COUNTA(L42:L48)","v":7}]
[null,null,null,null,null,null,null,null,null,null,null,null,null,null,null,"Total Sequences in Summary",{"$f":"SUM(O7:O22)","v":41},null,null,null,null,"Total Sequences in Block Summary",{"$f":"SUM(U7:U22)","v":7},null,null,null,"Total Sequences in Block Summary",{"$f":"SUM(Z7:Z22)","v":7},null,null,null,"Total Sequences in Block Summary",{"$f":"SUM(AE7:AE22)","v":7},null,null,null,"Total Sequences in Block Summary",{"$f":"SUM(AJ7:AJ22)","v":7},null,null,null,"Total Sequences in Block Summary",{"$f":"SUM(AO7:AO22)","v":7},null,null,null,"Total Sequences in Block Summary",{"$f":"SUM(AT7:AT22)","v":6}]
[null,null,null,null,null,null,null,null,null,null,null,null,null,null,null,null,null,null,null,"Block 1",null,null,null,null,"Block 2",null,null,null,null,"Block 3",null,null,null,null,"Block 4",null,null,null,null,"Block 5",null,null,null,null,"Block 6"]
["Sequence\nComponent\n1","Time\n1","Sequence\nComponent\n2","Time\n2","Sequence\nComponent\n3","Time\n3","Sequence\nComponent\n4","Time\n4","Sequence\nComponent\n5","Time\n5","Correct?\n0=No 1=Yes","Sequence",null,"Frequency",null,"Relative Frequency","Variability",null,null,"Frequency",null,"Relative Frequency","Variability",null,"Frequency",null,"Relative Frequency","Variability",null,"Frequency",null,"Relative Frequency","Variability",null,"Frequency",null,"Relative Frequency","Variability",null,"Frequency",null,"Relative Frequency","Variability",null,"Frequency",null,"Relative Frequency","Variability"]
[12,40,14,47,24,64,23,69,null,null,0,1122,null,1111,{"$f":"COUNTIF($L$7:$L$500,N7)","v":24},{"$f":"O7/$Q$4","v":0.58536585365853655},{"$f":"IF(P7=0,0,(P7*((LOG(P7))/LOG(2))))","v":-0.45224751447625028},null,null,{"$f":"N7","v":1111},{"$f":"COUNTIF(L7:L13,T7)","v":0},{"$f":"U7/(W4-U20)","v":0},{"$f":"IF(V7=0,0,(V7*((LOG(V7))/LOG(2))))","v":0},null,{"$f":"N7","v":1111},{"$f":"COUNTIF(L14:L20,Y7)","v":4},{"$f":"Z7/(AB4-Z20)","v":0.5714285714285714},{"$f":"IF(AA7=0,0,(AA7*((LOG(AA7))/LOG(2))))","v":-0.46134566974720237},null,{"$f":"N7","v":1111},{"$f":"COUNTIF(L21:L27,AD7)","v":4},{"$f":"AE7/(AG4-AE20)","v":0.5714285714285714},{"$f":"IF(AF7=0,0,(AF7*((LOG(AF7))/LOG(2))))","v":-0.46134566974720237},null,{"$f":"N7","v":1111},{"$f":"COUNTIF(L28:L34,AI7)","v":5},{"$f":"AJ7/(AL4-AJ20)","v":0.7142857142857143},{"$f":"IF(AK7=0,0,(AK7*((LOG(AK7))/LOG(2))))","v":-0.34673344797874411},null,{"$f":"N7","v":1111},{"$f":"COUNTIF(L35:L41,AN7)","v":7},{"$f":"AO7/(AQ4-AO20)","v":1},{"$f":"IF(AP7=0,0,(AP7*((LOG(AP7))/LOG(2))))","v":0},null,{"$f":"N7","v":1111},{"$f":"COUNTIF(L42:L48,AS7)","v":4},{"$f":"AT7/(AV4-AT20)","v":0.66666666666666663},{"$f":"IF(AU7=0,0,(AU7*((LOG(AU7))/LOG(2))))","v":-0.38997500048077083}]
[12,230,14,237,24,256,23,265,null,null,0,1122,null,1112,{"$f":"COUNTIF($L$7:$L$500,N8)","v":6},{"$f":"O8/$Q$4","v":0.14634146341463414},{"$f":"IF(P8=0,0,(P8*((LOG(P8))/LOG(2))))","v":-0.40574480544833086},null,null,{"$f":"N8","v":1112},{"$f":"COUNTIF(L7:L13,T8)","v":3},{"$f":"U8/(W4-U20)","v":0.42857142857142855},{"$f":"IF(V8=0,0,(V8*((LOG(V8))/LOG(2))))","v":-0.52388246628704915},null,{"$f":"N8","v":1112},{"$f":"COUNTIF(L14:L20,Y8)","v":1},{"$f":"Z8/(AB4-Z20)","v":0.14285714285714285},{"$f":"IF(AA8=0,0,(AA8*((LOG(AA8))/LOG(2))))","v":-0.40105070315108626},null,{"$f":"N8","v":1112},{"$f":"COUNTIF(L21:L27,AD8)","v":1},{"$f":"AE8/(AG4-AE20)","v":0.14285714285714285},{"$f":"IF(AF8=0,0,(AF8*((LOG(AF8))/LOG(2))))","v":-0.40105070315108626},null,{"$f":"N8","v":1112},{"$f":"COUNTIF(L28:L34,AI8)","v":1},{"$f":"AJ8/(AL4-AJ20)","v":0.14285714285714285},{"$f":"IF(AK8=0,0,(AK8*((LOG(AK8))/LOG(2))))","v":-0.40105070315108626},null,{"$f":"N8","v":1112},{"$f":"COUNTIF(L35:L41,AN8)","v":0},{"$f":"AO8/(AQ4-AO20)","v":0},{"$f":"IF(AP8=0,0,(AP8*((LOG(AP8))/LOG(2))))","v":0},null,{"$f":"N8","v":1112},{"$f":"COUNTIF(L42:L48,AS8)","v":0},{"$f":"AT8/(AV4-AT20)","v":0},{"$f":"IF(AU8=0,0,(AU8*((LOG(AU8))/LOG(2))))","v":0}]
[12,373,14,378,13,384,23,395,null,null,0,1112,null,1121,{"$f":"COUNTIF($L$7:$L$500,N9)","v":0},{"$f":"O9/$Q$4","v":0},{"$f":"IF(P9=0,0,(P9*((LOG(P9))/LOG(2))))","v":0},null,null,{"$f":"N9","v":1121},{"$f":"COUNTIF(L7:L13,T9)","v":0},{"$f":"U9/(W4-U20)","v":0},{"$f":"IF(V9=0,0,(V9*((LOG(V9))/LOG(2))))","v":0},null,{"$f":"N9","v":1121},{"$f":"COUNTIF(L14:L20,Y9)","v":0},{"$f":"Z9/(AB4-Z20)","v":0},{"$f":"IF(AA9=0,0,(AA9*((LOG(AA9))/LOG(2))))","v":0},null,{"$f":"N9","v":1121},{"$f":"COUNTIF(L21:L27,AD9)","v":0},{"$f":"AE9/(AG4-AE20)","v":0},{"$f":"IF(AF9=0,0,(AF9*((LOG(AF9))/LOG(2))))","v":0},null,{"$f":"N9","v":1121},{"$f":"COUNTIF(L28:L34,AI9)","v":0},{"$f":"AJ9/(AL4-AJ20)","v":0},{"$f":"IF(AK9=0,0,(AK9*((LOG(AK9))/LOG(2))))","v":0},null,{"$f":"N9","v":1121},{"$f":"COUNTIF(L35:L41,AN9)","v":0},{"$f":"AO9/(AQ4-AO20)","v":0},{"$f":"IF(AP9=0,0,(AP9*((LOG(AP9))/LOG(2))))","v":0},null,{"$f":"N9","v":1121},{"$f":"COUNTIF(L42:L48,AS9)","v":0},{"$f":"AT9/(AV4-AT20)","v":0},{"$f":"IF(AU9=0,0,(AU9*((LOG(AU9))/LOG(2))))","v":0}]
[12,500,23,512,24,517,23,521,null,null,0,1222,null,1122,{"$f":"COUNTIF($L$7:$L$500,N10)","v":7},{"$f":"O10/$Q$4","v":0.17073170731707318},{"$f":"IF(P10=0,0,(P10*((LOG(P10))/LOG(2))))","v":-0.4353995019005697},null,null,{"$f":"N10","v":1122},{"$f":"COUNTIF(L7:L13,T10)","v":3},{"$f":"U10/(W4-U20)","v":0.42857142857142855},{"$f":"IF(V10=0,0,(V10*((LOG(V10))/LOG(2))))","v":-0.52388246628704915},null,{"$f":"N10","v":1122},{"$f":"COUNTIF(L14:L20,Y10)","v":2},{"$f":"Z10/(AB4-Z20)","v":0.2857142857142857},{"$f":"IF(AA10=0,0,(AA10*((LOG(AA10))/LOG(2))))","v":-0.51638712058788683},null,{"$f":"N10","v":1122},{"$f":"COUNTIF(L21:L27,AD10)","v":1},{"$f":"AE10/(AG4-AE20)","v":0.14285714285714285},{"$f":"IF(AF10=0,0,(AF10*((LOG(AF10))/LOG(2))))","v":-0.40105070315108626},null,{"$f":"N10","v":1122},{"$f":"COUNTIF(L28:L34,AI10)","v":1},{"$f":"AJ10/(AL4-AJ20)","v":0.14285714285714285},{"$f":"IF(AK10=0,0,(AK10*((LOG(AK10))/LOG(2))))","v":-0.40105070315108626},null,{"$f":"N10","v":1122},{"$f":"COUNTIF(L35:L41,AN10)","v":0},{"$f":"AO10/(AQ4-AO20)","v":0},{"$f":"IF(AP10=0,0,(AP10*((LOG(AP10))/LOG(2))))","v":0},null,{"$f":"N10","v":1122},{"$f":"COUNTIF(L42:L48,AS10)","v":0},{"$f":"AT10/(AV4-AT20)","v":0},{"$f":"IF(AU10=0,0,(AU10*((LOG(AU10))/LOG(2))))","v":0}]
[12,627,14,634,13,640,23,655,null,null,0,1112,null,1211,{"$f":"COUNTIF($L$7:$L$500,N11)","v":0},{"$f":"O11/$Q$4","v":0},{"$f":"IF(P11=0,0,(P11*((LOG(P11))/LOG(2))))","v":0},null,null,{"$f":"N11","v":1211},{"$f":"COUNTIF(L7:L13,T11)","v":0},{"$f":"U11/(W4-U20)","v":0},{"$f":"IF(V11=0,0,(V11*((LOG(V11))/LOG(2))))","v":0},null,{"$f":"N11","v":1211},{"$f":"COUNTIF(L14:L20,Y11)","v":0},{"$f":"Z11/(AB4-Z20)","v":0},{"$f":"IF(AA11=0,0,(AA11*((LOG(AA11))/LOG(2))))","v":0},null,{"$f":"N11","v":1211},{"$f":"COUNTIF(L21:L27,AD11)","v":0},{"$f":"AE11/(AG4-AE20)","v":0},{"$f":"IF(AF11=0,0,(AF11*((LOG(AF11))/LOG(2))))","v":0},null,{"$f":"N11","v":1211},{"$f":"COUNTIF(L28:L34,AI11)","v":0},{"$f":"AJ11/(AL4-AJ20)","v":0},{"$f":"IF(AK11=0,0,(AK11*((LOG(AK11))/LOG(2))))","v":0},null,{"$f":"N11","v":1211},{"$f":"COUNTIF(L35:L41,AN11)","v":0},{"$f":"AO11/(AQ4-AO20)","v":0},{"$f":"IF(AP11=0,0,(AP11*((LOG(AP11))/LOG(2))))","v":0},null,{"$f":"N11","v":1211},{"$f":"COUNTIF(L42:L48,AS11)","v":0},{"$f":"AT11/(AV4-AT20)","v":0},{"$f":"IF(AU11=0,0,(AU11*((LOG(AU11))/LOG(2))))","v":0}]
[12,775,14,782,13,792,23,827,null,null,0,1112,null,1212,{"$f":"COUNTIF($L$7:$L$500,N12)","v":0},{"$f":"O12/$Q$4","v":0},{"$f":"IF(P12=0,0,(P12*((LOG(P12))/LOG(2))))","v":0},null,null,{"$f":"N12","v":1212},{"$f":"COUNTIF(L7:L13,T12)","v":0},{"$f":"U12/(W4-U20)","v":0},{"$f":"IF(V12=0,0,(V12*((LOG(V12))/LOG(2))))","v":0},null,{"$f":"N12","v":1212},{"$f":"COUNTIF(L14:L20,Y12)","v":0},{"$f":"Z12/(AB4-Z20)","v":0},{"$f":"IF(AA12=0,0,(AA12*((LOG(AA12))/LOG(2))))","v":0},null,{"$f":"N12","v":1212},{"$f":"COUNTIF(L21:L27,AD12)","v":0},{"$f":"AE12/(AG4-AE20)","v":0},{"$f":"IF(AF12=0,0,(AF12*((LOG(AF12))/LOG(2))))","v":0},null,{"$f":"N12","v":1212},{"$f":"COUNTIF(L28:L34,AI12)","v":0},{"$f":"AJ12/(AL4-AJ20)","v":0},{"$f":"IF(AK12=0,0,(AK12*((LOG(AK12))/LOG(2))))","v":0},null,{"$f":"N12","v":1212},{"$f":"COUNTIF(L35:L41,AN12)","v":0},{"$f":"AO12/(AQ4-AO20)","v":0},{"$f":"IF(AP12=0,0,(AP12*((LOG(AP12))/LOG(2))))","v":0},null,{"$f":"N12","v":1212},{"$f":"COUNTIF(L42:L48,AS12)","v":0},{"$f":"AT12/(AV4-AT20)","v":0},{"$f":"IF(AU12=0,0,(AU12*((LOG(AU12))/LOG(2))))","v":0}]
[12,927,14,933,24,948,23,954,null,null,0,1122,null,1221,{"$f":"COUNTIF($L$7:$L$500,N13)","v":0},{"$f":"O13/$Q$4","v":0},{"$f":"IF(P13=0,0,(P13*((LOG(P13))/LOG(2))))","v":0},null,null,{"$f":"N13","v":1221},{"$f":"COUNTIF(L7:L13,T13)","v":0},{"$f":"U13/(W4-U20)","v":0},{"$f":"IF(V13=0,0,(V13*((LOG(V13))/LOG(2))))","v":0},null,{"$f":"N13","v":1221},{"$f":"COUNTIF(L14:L20,Y13)","v":0},{"$f":"Z13/(AB4-Z20)","v":0},{"$f":"IF(AA13=0,0,(AA13*((LOG(AA13))/LOG(2))))","v":0},null,{"$f":"N13","v":1221},{"$f":"COUNTIF(L21:L27,AD13)","v":0},{"$f":"AE13/(AG4-AE20)","v":0},{"$f":"IF(AF13=0,0,(AF13*((LOG(AF13))/LOG(2))))","v":0},null,{"$f":"N13","v":1221},{"$f":"COUNTIF(L28:L34,AI13)","v":0},{"$f":"AJ13/(AL4-AJ20)","v":0},{"$f":"IF(AK13=0,0,(AK13*((LOG(AK13))/LOG(2))))","v":0},null,{"$f":"N13","v":1221},{"$f":"COUNTIF(L35:L41,AN13)","v":0},{"$f":"AO13/(AQ4-AO20)","v":0},{"$f":"IF(AP13=0,0,(AP13*((LOG(AP13))/LOG(2))))","v":0},null,{"$f":"N13","v":1221},{"$f":"COUNTIF(L42:L48,AS13)","v":0},{"$f":"AT13/(AV4-AT20)","v":0},{"$f":"IF(AU13=0,0,(AU13*((LOG(AU13))/LOG(2))))","v":0}]
[12,1052,14,1061,13,1066,14,1071,null,null,0,1111,null,1222,{"$f":"COUNTIF($L$7:$L$500,N14)","v":2},{"$f":"O14/$Q$4","v":4.878048780487805E-2},{"$f":"IF(P14=0,0,(P14*((LOG(P14))/LOG(2))))","v":-0.21256351242039428},null,null,{"$f":"N14","v":1222},{"$f":"COUNTIF(L7:L13,T14)","v":1},{"$f":"U14/(W4-U20)","v":0.14285714285714285},{"$f":"IF(V14=0,0,(V14*((LOG(V14))/LOG(2))))","v":-0.40105070315108626},null,{"$f":"N14","v":1222},{"$f":"COUNTIF(L14:L20,Y14)","v":0},{"$f":"Z14/(AB4-Z20)","v":0},{"$f":"IF(AA14=0,0,(AA14*((LOG(AA14))/LOG(2))))","v":0},null,{"$f":"N14","v":1222},{"$f":"COUNTIF(L21:L27,AD14)","v":1},{"$f":"AE14/(AG4-AE20)","v":0.14285714285714285},{"$f":"IF(AF14=0,0,(AF14*((LOG(AF14))/LOG(2))))","v":-0.40105070315108626},null,{"$f":"N14","v":1222},{"$f":"COUNTIF(L28:L34,AI14)","v":0},{"$f":"AJ14/(AL4-AJ20)","v":0},{"$f":"IF(AK14=0,0,(AK14*((LOG(AK14))/LOG(2))))","v":0},null,{"$f":"N14","v":1222},{"$f":"COUNTIF(L35:L41,AN14)","v":0},{"$f":"AO14/(AQ4-AO20)","v":0},{"$f":"IF(AP14=0,0,(AP14*((LOG(AP14))/LOG(2))))","v":0},null,{"$f":"N14","v":1222},{"$f":"COUNTIF(L42:L48,AS14)","v":0},{"$f":"AT14/(AV4-AT20)","v":0},{"$f":"IF(AU14=0,0,(AU14*((LOG(AU14))/LOG(2))))","v":0}]
[12,1171,14,1176,24,1193,23,1202,null,null,0,1122,null,2111,{"$f":"COUNTIF($L$7:$L$500,N15)","v":0},{"$f":"O15/$Q$4","v":0},{"$f":"IF(P15=0,0,(P15*((LOG(P15))/LOG(2))))","v":0},null,null,{"$f":"N15","v":2111},{"$f":"COUNTIF(L7:L13,T15)","v":0},{"$f":"U15/(W4-U20)","v":0},{"$f":"IF(V15=0,0,(V15*((LOG(V15))/LOG(2))))","v":0},null,{"$f":"N15","v":2111},{"$f":"COUNTIF(L14:L20,Y15)","v":0},{"$f":"Z15/(AB4-Z20)","v":0},{"$f":"IF(AA15=0,0,(AA15*((LOG(AA15))/LOG(2))))","v":0},null,{"$f":"N15","v":2111},{"$f":"COUNTIF(L21:L27,AD15)","v":0},{"$f":"AE15/(AG4-AE20)","v":0},{"$f":"IF(AF15=0,0,(AF15*((LOG(AF15))/LOG(2))))","v":0},null,{"$f":"N15","v":2111},{"$f":"COUNTIF(L28:L34,AI15)","v":0},{"$f":"AJ15/(AL4-AJ20)","v":0},{"$f":"IF(AK15=0,0,(AK15*((LOG(AK15))/LOG(2))))","v":0},null,{"$f":"N15","v":2111},{"$f":"COUNTIF(L35:L41,AN15)","v":0},{"$f":"AO15/(AQ4-AO20)","v":0},{"$f":"IF(AP15=0,0,(AP15*((LOG(AP15))/LOG(2))))","v":0},null,{"$f":"N15","v":2111},{"$f":"COUNTIF(L42:L48,AS15)","v":0},{"$f":"AT15/(AV4-AT20)","v":0},{"$f":"IF(AU15=0,0,(AU15*((LOG(AU15))/LOG(2))))","v":0}]
[12,1302,14,1308,13,1318,23,1336,null,null,0,1112,null,2112,{"$f":"COUNTIF($L$7:$L$500,N16)","v":0},{"$f":"O16/$Q$4","v":0},{"$f":"IF(P16=0,0,(P16*((LOG(P16))/LOG(2))))","v":0},null,null,{"$f":"N16","v":2112},{"$f":"COUNTIF(L7:L13,T16)","v":0},{"$f":"U16/(W4-U20)","v":0},{"$f":"IF(V16=0,0,(V16*((LOG(V16))/LOG(2))))","v":0},null,{"$f":"N16","v":2112},{"$f":"COUNTIF(L14:L20,Y16)","v":0},{"$f":"Z16/(AB4-Z20)","v":0},{"$f":"IF(AA16=0,0,(AA16*((LOG(AA16))/LOG(2))))","v":0},null,{"$f":"N16","v":2112},{"$f":"COUNTIF(L21:L27,AD16)","v":0},{"$f":"AE16/(AG4-AE20)","v":0},{"$f":"IF(AF16=0,0,(AF16*((LOG(AF16))/LOG(2))))","v":0},null,{"$f":"N16","v":2112},{"$f":"COUNTIF(L28:L34,AI16)","v":0},{"$f":"AJ16/(AL4-AJ20)","v":0},{"$f":"IF(AK16=0,0,(AK16*((LOG(AK16))/LOG(2))))","v":0},null,{"$f":"N16","v":2112},{"$f":"COUNTIF(L35:L41,AN16)","v":0},{"$f":"AO16/(AQ4-AO20)","v":0},{"$f":"IF(AP16=0,0,(AP16*((LOG(AP16))/LOG(2))))","v":0},null,{"$f":"N16","v":2112},{"$f":"COUNTIF(L42:L48,AS16)","v":0},{"$f":"AT16/(AV4-AT20)","v":0},{"$f":"IF(AU16=0,0,(AU16*((LOG(AU16))/LOG(2))))","v":0}]
[12,1438,14,1443,24,1463,23,1473,null,null,0,1122,null,2121,{"$f":"COUNTIF($L$7:$L$500,N17)","v":0},{"$f":"O17/$Q$4","v":0},{"$f":"IF(P17=0,0,(P17*((LOG(P17))/LOG(2))))","v":0},null,null,{"$f":"N17","v":2121},{"$f":"COUNTIF(L7:L13,T17)","v":0},{"$f":"U17/(W4-U20)","v":0},{"$f":"IF(V17=0,0,(V17*((LOG(V17))/LOG(2))))","v":0},null,{"$f":"N17","v":2121},{"$f":"COUNTIF(L14:L20,Y17)","v":0},{"$f":"Z17/(AB4-Z20)","v":0},{"$f":"IF(AA17=0,0,(AA17*((LOG(AA17))/LOG(2))))","v":0},null,{"$f":"N17","v":2121},{"$f":"COUNTIF(L21:L27,AD17)","v":0},{"$f":"AE17/(AG4-AE20)","v":0},{"$f":"IF(AF17=0,0,(AF17*((LOG(AF17))/LOG(2))))","v":0},null,{"$f":"N17","v":2121},{"$f":"COUNTIF(L28:L34,AI17)","v":0},{"$f":"AJ17/(AL4-AJ20)","v":0},{"$f":"IF(AK17=0,0,(AK17*((LOG(AK17))/LOG(2))))","v":0},null,{"$f":"N17","v":2121},{"$f":"COUNTIF(L35:L41,AN17)","v":0},{"$f":"AO17/(AQ4-AO20)","v":0},{"$f":"IF(AP17=0,0,(AP17*((LOG(AP17))/LOG(2))))","v":0},null,{"$f":"N17","v":2121},{"$f":"COUNTIF(L42:L48,AS17)","v":0},{"$f":"AT17/(AV4-AT20)","v":0},{"$f":"IF(AU17=0,0,(AU17*((LOG(AU17))/LOG(2))))","v":0}]
[12,1589,14,1594,13,1603,14,1610,null,null,0,1111,null,2122,{"$f":"COUNTIF($L$7:$L$500,N18)","v":0},{"$f":"O18/$Q$4","v":0},{"$f":"IF(P18=0,0,(P18*((LOG(P18))/LOG(2))))","v":0},null,null,{"$f":"N18","v":2122},{"$f":"COUNTIF(L7:L13,T18)","v":0},{"$f":"U18/(W4-U20)","v":0},{"$f":"IF(V18=0,0,(V18*((LOG(V18))/LOG(2))))","v":0},null,{"$f":"N18","v":2122},{"$f":"COUNTIF(L14:L20,Y18)","v":0},{"$f":"Z18/(AB4-Z20)","v":0},{"$f":"IF(AA18=0,0,(AA18*((LOG(AA18))/LOG(2))))","v":0},null,{"$f":"N18","v":2122},{"$f":"COUNTIF(L21:L27,AD18)","v":0},{"$f":"AE18/(AG4-AE20)","v":0},{"$f":"IF(AF18=0,0,(AF18*((LOG(AF18))/LOG(2))))","v":0},null,{"$f":"N18","v":2122},{"$f":"COUNTIF(L28:L34,AI18)","v":0},{"$f":"AJ18/(AL4-AJ20)","v":0},{"$f":"IF(AK18=0,0,(AK18*((LOG(AK18))/LOG(2))))","v":0},null,{"$f":"N18","v":2122},{"$f":"COUNTIF(L35:L41,AN18)","v":0},{"$f":"AO18/(AQ4-AO20)","v":0},{"$f":"IF(AP18=0,0,(AP18*((LOG(AP18))/LOG(2))))","v":0},null,{"$f":"N18","v":2122},{"$f":"COUNTIF(L42:L48,AS18)","v":0},{"$f":"AT18/(AV4-AT20)","v":0},{"$f":"IF(AU18=0,0,(AU18*((LOG(AU18))/LOG(2))))","v":0}]
[12,1715,14,1721,13,1727,14,1733,null,null,0,1111,null,2211,{"$f":"COUNTIF($L$7:$L$500,N19)","v":0},{"$f":"O19/$Q$4","v":0},{"$f":"IF(P19=0,0,(P19*((LOG(P19))/LOG(2))))","v":0},null,null,{"$f":"N19","v":2211},{"$f":"COUNTIF(L7:L13,T19)","v":0},{"$f":"U19/(W4-U20)","v":0},{"$f":"IF(V19=0,0,(V19*((LOG(V19))/LOG(2))))","v":0},null,{"$f":"N19","v":2211},{"$f":"COUNTIF(L14:L20,Y19)","v":0},{"$f":"Z19/(AB4-Z20)","v":0},{"$f":"IF(AA19=0,0,(AA19*((LOG(AA19))/LOG(2))))","v":0},null,{"$f":"N19","v":2211},{"$f":"COUNTIF(L21:L27,AD19)","v":0},{"$f":"AE19/(AG4-AE20)","v":0},{"$f":"IF(AF19=0,0,(AF19*((LOG(AF19))/LOG(2))))","v":0},null,{"$f":"N19","v":2211},{"$f":"COUNTIF(L28:L34,AI19)","v":0},{"$f":"AJ19/(AL4-AJ20)","v":0},{"$f":"IF(AK19=0,0,(AK19*((LOG(AK19))/LOG(2))))","v":0},null,{"$f":"N19","v":2211},{"$f":"COUNTIF(L35:L41,AN19)","v":0},{"$f":"AO19/(AQ4-AO20)","v":0},{"$f":"IF(AP19=0,0,(AP19*((LOG(AP19))/LOG(2))))","v":0},null,{"$f":"N19","v":2211},{"$f":"COUNTIF(L42:L48,AS19)","v":0},{"$f":"AT19/(AV4-AT20)","v":0},{"$f":"IF(AU19=0,0,(AU19*((LOG(AU19))/LOG(2))))","v":0}]
[12,1836,14,1843,13,1848,14,1854,null,null,0,1111,null,2212,{"$f":"COUNTIF($L$7:$L$500,N20)","v":0},{"$f":"O20/$Q$4","v":0},{"$f":"IF(P20=0,0,(P20*((LOG(P20))/LOG(2))))","v":0},null,null,{"$f":"N20","v":2212},{"$f":"COUNTIF(L7:L13,T20)","v":0},null,null,null,{"$f":"N20","v":2212},{"$f":"COUNTIF(L14:L20,Y20)","v":0},null,null,null,{"$f":"N20","v":2212},{"$f":"COUNTIF(L21:L27,AD20)","v":0},null,null,null,{"$f":"N20","v":2212},{"$f":"COUNTIF(L28:L34,AI20)","v":0},null,null,null,{"$f":"N20","v":2212},{"$f":"COUNTIF(L35:L41,AN20)","v":0},null,null,null,{"$f":"N20","v":2212},{"$f":"COUNTIF(L42:L48,AS20)","v":0}]
[12,1964,14,1970,13,1982,14,1993,null,null,0,1111,null,2221,{"$f":"COUNTIF($L$7:$L$500,N21)","v":0},{"$f":"O21/$Q$4","v":0},{"$f":"IF(P21=0,0,(P21*((LOG(P21))/LOG(2))))","v":0},null,null,{"$f":"N21","v":2221},{"$f":"COUNTIF(L7:L13,T21)","v":0},{"$f":"U21/(W4-U20)","v":0},{"$f":"IF(V21=0,0,(V21*((LOG(V21))/LOG(2))))","v":0},null,{"$f":"N21","v":2221},{"$f":"COUNTIF(L14:L20,Y21)","v":0},{"$f":"Z21/(AB4-Z20)","v":0},{"$f":"IF(AA21=0,0,(AA21*((LOG(AA21))/LOG(2))))","v":0},null,{"$f":"N21","v":2221},{"$f":"COUNTIF(L21:L27,AD21)","v":0},{"$f":"AE21/(AG4-AE20)","v":0},{"$f":"IF(AF21=0,0,(AF21*((LOG(AF21))/LOG(2))))","v":0},null,{"$f":"N21","v":2221},{"$f":"COUNTIF(L28:L34,AI21)","v":0},{"$f":"AJ21/(AL4-AJ20)","v":0},{"$f":"IF(AK21=0,0,(AK21*((LOG(AK21))/LOG(2))))","v":0},null,{"$f":"N21","v":2221},{"$f":"COUNTIF(L35:L41,AN21)","v":0},{"$f":"AO21/(AQ4-AO20)","v":0},{"$f":"IF(AP21=0,0,(AP21*((LOG(AP21))/LOG(2))))","v":0},null,{"$f":"N21","v":2221},{"$f":"COUNTIF(L42:L48,AS21)","v":0},{"$f":"AT21/(AV4-AT20)","v":0},{"$f":"IF(AU21=0,0,(AU21*((LOG(AU21))/LOG(2))))","v":0}]
[12,2099,14,2104,13,2110,14,2116,null,null,0,1111,null,2222,{"$f":"COUNTIF($L$7:$L$500,N22)","v":2},{"$f":"O22/$Q$4","v":4.878048780487805E-2},{"$f":"IF(P22=0,0,(P22*((LOG(P22))/LOG(2))))","v":-0.21256351242039428},null,null,{"$f":"N22","v":2222},{"$f":"COUNTIF(L7:L13,T22)","v":0},{"$f":"U22/(W4-U20)","v":0},{"$f":"IF(V22=0,0,(V22*((LOG(V22))/LOG(2))))","v":0},null,{"$f":"N22","v":2222},{"$f":"COUNTIF(L14:L20,Y22)","v":0},{"$f":"Z22/(AB4-Z20)","v":0},{"$f":"IF(AA22=0,0,(AA22*((LOG(AA22))/LOG(2))))","v":0},null,{"$f":"N22","v":2222},{"$f":"COUNTIF(L21:L27,AD22)","v":0},{"$f":"AE22/(AG4-AE20)","v":0},{"$f":"IF(AF22=0,0,(AF22*((LOG(AF22))/LOG(2))))","v":0},null,{"$f":"N22","v":2222},{"$f":"COUNTIF(L28:L34,AI22)","v":0},{"$f":"AJ22/(AL4-AJ20)","v":0},{"$f":"IF(AK22=0,0,(AK22*((LOG(AK22))/LOG(2))))","v":0},null,{"$f":"N22","v":2222},{"$f":"COUNTIF(L35:L41,AN22)","v":0},{"$f":"AO22/(AQ4-AO20)","v":0},{"$f":"IF(AP22=0,0,(AP22*((LOG(AP22))/LOG(2))))","v":0},null,{"$f":"N22","v":2222},{"$f":"COUNTIF(L42:L48,AS22)","v":2},{"$f":"AT22/(AV4-AT20)","v":0.33333333333333331},{"$f":"IF(AU22=0,0,(AU22*((LOG(AU22))/LOG(2))))","v":-0.52832083357371862}]
[12,2217,14,2223,13,2229,23,2266,null,null,0,1112,null,null,null,{"$f":"SUM(P7:P22)","v":1},{"$f":"-SUM(Q7:Q22)","v":1.7185188466659396},null,null,null,null,{"$f":"SUM(V7:V22)","v":1},{"$f":"-SUM(W7:W22)","v":1.4488156357251847},null,null,null,{"$f":"SUM(AA7:AA22)","v":0.99999999999999989},{"$f":"-SUM(AB7:AB22)","v":1.3787834934861753},null,null,null,{"$f":"SUM(AF7:AF22)","v":0.99999999999999978},{"$f":"-SUM(AG7:AG22)","v":1.6644977792004614},null,null,null,{"$f":"SUM(AK7:AK22)","v":1},{"$f":"-SUM(AL7:AL22)","v":1.1488348542809166},null,null,null,{"$f":"SUM(AP7:AP22)","v":1},{"$f":"-SUM(AQ7:AQ22)","v":0},null,null,null,{"$f":"SUM(AU7:AU22)","v":1},{"$f":"-SUM(AV7:AV22)","v":0.91829583405448945}]
[12,2369,14,2375,13,2381,14,2386,null,null,0,1111,null,null,null,"U=",{"$f":"Q23/(LOG(Q4)/LOG(2))","v":0.32076568648976561},null,null,null,null,"U1=",{"$f":"W23/(LOG(W4)/LOG(2))","v":0.516078542239789},null,null,null,"U2=",{"$f":"AB23/(LOG(AB4)/LOG(2))","v":0.49113258984568253},null,null,null,"U3=",{"$f":"AG23/(LOG(AG4)/LOG(2))","v":0.59290607187654609},null,null,null,"U4=",{"$f":"AL23/(LOG(AL4)/LOG(2))","v":0.40922323189505982},null,null,null,"U5=",{"$f":"AQ23/(LOG(AQ4)/LOG(2))","v":0},null,null,null,"U6=",{"$f":"AV23/(LOG(AV4)/LOG(2))","v":0.35524532127576403}]
[12,2497,14,2502,13,2507,14,2513,null,null,0,1111]
[12,2640,23,2661,24,2666,23,2673,null,null,0,1222]
[12,2819,14,2824,24,2843,23,2853,null,null,0,1122,null,"Total Target Seq"]
[12,2966,14,2971,13,2976,23,2992,null,null,0,1112,null,{"$f":"COUNTIF(L7:L48,G3)","v":0},null,7,7,7,7,7,7]
[12,3091,14,3097,13,3103,14,3113,null,null,0,1111,null,null,null,"% of reinforcement given in 6 equal intervals based on number of trials "]
[12,3234,14,3241,13,3248,14,3254,null,null,0,1111,null,null,null,"%_1","%_2","%_3","%_4","%_5","%_6"]
[12,3381,14,3389,13,3400,14,3406,null,null,0,1111,null,null,"target sequence",{"$f":"$G$3","v":2212},{"$f":"$G$3","v":2212},{"$f":"$G$3","v":2212},{"$f":"$G$3","v":2212},{"$f":"$G$3","v":2212},{"$f":"$G$3","v":2212}]
[12,5203,14,5214,24,5242,23,5247,null,null,0,1122,null,null,"total reinforcement",{"$f":"U20","v":0},{"$f":"Z20","v":0},{"$f":"AE20","v":0},{"$f":"AJ20","v":0},{"$f":"AO20","v":0},{"$f":"AT20","v":0}]
[12,5401,14,5407,13,5414,14,5431,null,null,0,1111,null,null,"% target"]
[12,5538,14,5547,13,5555,14,5563,null,null,0,1111,null,null,"CCRF"]
[12,5761,14,5769,13,5787,14,5798,null,null,0,1111,null,null,"% CCRf"]
[12,5915,14,5927,13,5936,14,5947,null,null,0,1111,null,null,"average response rate",{"$f":"H13/P28","v":136.28571428571428},{"$f":"(H20-H13)/Q28","v":128.57142857142858},{"$f":"(H27-H20)/R28","v":142.71428571428572},{"$f":"(H34-H27)/S28","v":387.14285714285717},{"$f":"(H41-H34)/T28","v":738.85714285714289},{"$f":"(H48-H41)/U28","v":-1533.5714285714287}]
[12,6063,14,6077,13,6086,14,6092,null,null,0,1111]
[12,6341,14,6351,13,6375,14,6392,null,null,0,1111]
[12,6538,14,6546,13,6555,14,6561,null,null,0,1111]
[12,10543,14,10564,13,10571,14,10577,null,null,0,1111]
[12,10687,14,10717,13,10725,14,10735,null,null,0,1111]
[12,10831,14,10841,13,10848,14,10859,null,null,0,1111]
[12,10993,14,10999,13,11005,14,11012,null,null,0,1111]
[21,11139,21,11145,22,11151,23,11157,null,null,0,2222]
[12,11389,14,11396,13,11411,14,11422,null,null,0,1111]
[21,21623,21,21639,22,21646,23,21652,null,null,0,2222]
[12,22025,14,22069,13,22079,14,22084,null,null,0,1111]
[12,22255,14,22262,13,22272,null,null,null,null,null,111]

{"sheet":"!M905910.102","index":9,"n_rows":44,"n_cols":48,"rows_kept":44,"cut":false,"hidden":false,"merged":[[4,39,4,42],[5,39,5,40],[4,44,4,47],[5,44,5,45],[4,24,4,27],[5,24,5,25],[4,29,4,32],[5,29,5,30],[4,34,4,37],[5,34,5,35],[1,1,1,2],[5,13,5,14],[26,13,26,14],[27,13,27,14],[4,19,4,22],[5,19,5,20]]}
["Report for:!M905910.102"]
["Date:","<date>"]
["Hen:","<hen>",null,null,null,"Correct Sequence",{"$f":"Start!J2","v":2212},null,null,null,null,null,null,null,null,"Total Sequences in Data",{"$f":"4994-COUNTBLANK(L7:L5000)","v":38},null,null,null,null,"Total Sequences in Block Data",{"$f":"COUNTA(L7:L12)","v":6},null,null,null,"Total Sequences in Block Data",{"$f":"COUNTA(L13:L19)","v":7},null,null,null,"Total Sequences in Block Data",{"$f":"COUNTA(L20:L25)","v":6},null,null,null,"Total Sequences in Block Data",{"$f":"COUNTA(L26:L31)","v":6},null,null,null,"Total Sequences in Block Data",{"$f":"COUNTA(L32:L38)","v":7},null,null,null,"Total Sequences in Block Data",{"$f":"COUNTA(L39:L44)","v":6}]
[null,null,null,null,null,null,null,null,null,null,null,null,null,null,null,"Total Sequences in Summary",{"$f":"SUM(O7:O22)","v":38},null,null,null,null,"Total Sequences in Block Summary",{"$f":"SUM(U7:U22)","v":6},null,null,null,"Total Sequences in Block Summary",{"$f":"SUM(Z7:Z22)","v":7},null,null,null,"Total Sequences in Block Summary",{"$f":"SUM(AE7:AE22)","v":6},null,null,null,"Total Sequences in Block Summary",{"$f":"SUM(AJ7:AJ22)","v":6},null,null,null,"Total Sequences in Block Summary",{"$f":"SUM(AO7:AO22)","v":7},null,null,null,"Total Sequences in Block Summary",{"$f":"SUM(AT7:AT22)","v":6}]
[null,null,null,null,null,null,null,null,null,null,null,null,null,null,null,null,null,null,null,"Block 1",null,null,null,null,"Block 2",null,null,null,null,"Block 3",null,null,null,null,"Block 4",null,null,null,null,"Block 5",null,null,null,null,"Block 6"]
["Sequence\nComponent\n1","Time\n1","Sequence\nComponent\n2","Time\n2","Sequence\nComponent\n3","Time\n3","Sequence\nComponent\n4","Time\n4","Sequence\nComponent\n5","Time\n5","Correct?\n0=No 1=Yes","Sequence",null,"Frequency",null,"Relative Frequency","Variability",null,null,"Frequency",null,"Relative Frequency","Variability",null,"Frequency",null,"Relative Frequency","Variability",null,"Frequency",null,"Relative Frequency","Variability",null,"Frequency",null,"Relative Frequency","Variability",null,"Frequency",null,"Relative Frequency","Variability",null,"Frequency",null,"Relative Frequency","Variability"]
[12,77,14,88,24,142,23,148,null,null,0,1122,null,1111,{"$f":"COUNTIF($L$7:$L$500,N7)","v":21},{"$f":"O7/$Q$4","v":0.55263157894736847},{"$f":"IF(P7=0,0,(P7*((LOG(P7))/LOG(2))))","v":-0.47283715536740339},null,null,{"$f":"N7","v":1111},{"$f":"COUNTIF(L7:L12,T7)","v":1},{"$f":"U7/(W4-U20)","v":0.16666666666666666},{"$f":"IF(V7=0,0,(V7*((LOG(V7))/LOG(2))))","v":-0.43082708345352599},null,{"$f":"N7","v":1111},{"$f":"COUNTIF(L13:L19,Y7)","v":4},{"$f":"Z7/(AB4-Z20)","v":0.5714285714285714},{"$f":"IF(AA7=0,0,(AA7*((LOG(AA7))/LOG(2))))","v":-0.46134566974720237},null,{"$f":"N7","v":1111},{"$f":"COUNTIF(L20:L25,AD7)","v":4},{"$f":"AE7/(AG4-AE20)","v":0.66666666666666663},{"$f":"IF(AF7=0,0,(AF7*((LOG(AF7))/LOG(2))))","v":-0.38997500048077083},null,{"$f":"N7","v":1111},{"$f":"COUNTIF(L26:L31,AI7)","v":6},{"$f":"AJ7/(AL4-AJ20)","v":1},{"$f":"IF(AK7=0,0,(AK7*((LOG(AK7))/LOG(2))))","v":0},null,{"$f":"N7","v":1111},{"$f":"COUNTIF(L32:L38,AN7)","v":2},{"$f":"AO7/(AQ4-AO20)","v":0.2857142857142857},{"$f":"IF(AP7=0,0,(AP7*((LOG(AP7))/LOG(2))))","v":-0.51638712058788683},null,{"$f":"N7","v":1111},{"$f":"COUNTIF(L39:L44,AS7)","v":4},{"$f":"AT7/(AV4-AT20)","v":0.66666666666666663},{"$f":"IF(AU7=0,0,(AU7*((LOG(AU7))/LOG(2))))","v":-0.38997500048077083}]
[12,255,23,272,24,276,23,281,null,null,0,1222,null,1112,{"$f":"COUNTIF($L$7:$L$500,N8)","v":6},{"$f":"O8/$Q$4","v":0.15789473684210525},{"$f":"IF(P8=0,0,(P8*((LOG(P8))/LOG(2))))","v":-0.42046815990354147},null,null,{"$f":"N8","v":1112},{"$f":"COUNTIF(L7:L12,T8)","v":1},{"$f":"U8/(W4-U20)","v":0.16666666666666666},{"$f":"IF(V8=0,0,(V8*((LOG(V8))/LOG(2))))","v":-0.43082708345352599},null,{"$f":"N8","v":1112},{"$f":"COUNTIF(L13:L19,Y8)","v":2},{"$f":"Z8/(AB4-Z20)","v":0.2857142857142857},{"$f":"IF(AA8=0,0,(AA8*((LOG(AA8))/LOG(2))))","v":-0.51638712058788683},null,{"$f":"N8","v":1112},{"$f":"COUNTIF(L20:L25,AD8)","v":1},{"$f":"AE8/(AG4-AE20)","v":0.16666666666666666},{"$f":"IF(AF8=0,0,(AF8*((LOG(AF8))/LOG(2))))","v":-0.43082708345352599},null,{"$f":"N8","v":1112},{"$f":"COUNTIF(L26:L31,AI8)","v":0},{"$f":"AJ8/(AL4-AJ20)","v":0},{"$f":"IF(AK8=0,0,(AK8*((LOG(AK8))/LOG(2))))","v":0},null,{"$f":"N8","v":1112},{"$f":"COUNTIF(L32:L38,AN8)","v":1},{"$f":"AO8/(AQ4-AO20)","v":0.14285714285714285},{"$f":"IF(AP8=0,0,(AP8*((LOG(AP8))/LOG(2))))","v":-0.40105070315108626},null,{"$f":"N8","v":1112},{"$f":"COUNTIF(L39:L44,AS8)","v":1},{"$f":"AT8/(AV4-AT20)","v":0.16666666666666666},{"$f":"IF(AU8=0,0,(AU8*((LOG(AU8))/LOG(2))))","v":-0.43082708345352599}]
[21,385,21,391,22,396,23,402,null,null,0,2222,null,1121,{"$f":"COUNTIF($L$7:$L$500,N9)","v":0},{"$f":"O9/$Q$4","v":0},{"$f":"IF(P9=0,0,(P9*((LOG(P9))/LOG(2))))","v":0},null,null,{"$f":"N9","v":1121},{"$f":"COUNTIF(L7:L12,T9)","v":0},{"$f":"U9/(W4-U20)","v":0},{"$f":"IF(V9=0,0,(V9*((LOG(V9))/LOG(2))))","v":0},null,{"$f":"N9","v":1121},{"$f":"COUNTIF(L13:L19,Y9)","v":0},{"$f":"Z9/(AB4-Z20)","v":0},{"$f":"IF(AA9=0,0,(AA9*((LOG(AA9))/LOG(2))))","v":0},null,{"$f":"N9","v":1121},{"$f":"COUNTIF(L20:L25,AD9)","v":0},{"$f":"AE9/(AG4-AE20)","v":0},{"$f":"IF(AF9=0,0,(AF9*((LOG(AF9))/LOG(2))))","v":0},null,{"$f":"N9","v":1121},{"$f":"COUNTIF(L26:L31,AI9)","v":0},{"$f":"AJ9/(AL4-AJ20)","v":0},{"$f":"IF(AK9=0,0,(AK9*((LOG(AK9))/LOG(2))))","v":0},null,{"$f":"N9","v":1121},{"$f":"COUNTIF(L32:L38,AN9)","v":0},{"$f":"AO9/(AQ4-AO20)","v":0},{"$f":"IF(AP9=0,0,(AP9*((LOG(AP9))/LOG(2))))","v":0},null,{"$f":"N9","v":1121},{"$f":"COUNTIF(L39:L44,AS9)","v":0},{"$f":"AT9/(AV4-AT20)","v":0},{"$f":"IF(AU9=0,0,(AU9*((LOG(AU9))/LOG(2))))","v":0}]
[12,503,14,511,13,517,14,523,null,null,0,1111,null,1122,{"$f":"COUNTIF($L$7:$L$500,N10)","v":7},{"$f":"O10/$Q$4","v":0.18421052631578946},{"$f":"IF(P10=0,0,(P10*((LOG(P10))/LOG(2))))","v":-0.44957916157110184},null,null,{"$f":"N10","v":1122},{"$f":"COUNTIF(L7:L12,T10)","v":2},{"$f":"U10/(W4-U20)","v":0.33333333333333331},{"$f":"IF(V10=0,0,(V10*((LOG(V10))/LOG(2))))","v":-0.52832083357371862},null,{"$f":"N10","v":1122},{"$f":"COUNTIF(L13:L19,Y10)","v":1},{"$f":"Z10/(AB4-Z20)","v":0.14285714285714285},{"$f":"IF(AA10=0,0,(AA10*((LOG(AA10))/LOG(2))))","v":-0.40105070315108626},null,{"$f":"N10","v":1122},{"$f":"COUNTIF(L20:L25,AD10)","v":1},{"$f":"AE10/(AG4-AE20)","v":0.16666666666666666},{"$f":"IF(AF10=0,0,(AF10*((LOG(AF10))/LOG(2))))","v":-0.43082708345352599},null,{"$f":"N10","v":1122},{"$f":"COUNTIF(L26:L31,AI10)","v":0},{"$f":"AJ10/(AL4-AJ20)","v":0},{"$f":"IF(AK10=0,0,(AK10*((LOG(AK10))/LOG(2))))","v":0},null,{"$f":"N10","v":1122},{"$f":"COUNTIF(L32:L38,AN10)","v":2},{"$f":"AO10/(AQ4-AO20)","v":0.2857142857142857},{"$f":"IF(AP10=0,0,(AP10*((LOG(AP10))/LOG(2))))","v":-0.51638712058788683},null,{"$f":"N10","v":1122},{"$f":"COUNTIF(L39:L44,AS10)","v":1},{"$f":"AT10/(AV4-AT20)","v":0.16666666666666666},{"$f":"IF(AU10=0,0,(AU10*((LOG(AU10))/LOG(2))))","v":-0.43082708345352599}]
[12,616,14,622,13,629,23,654,null,null,0,1112,null,1211,{"$f":"COUNTIF($L$7:$L$500,N11)","v":0},{"$f":"O11/$Q$4","v":0},{"$f":"IF(P11=0,0,(P11*((LOG(P11))/LOG(2))))","v":0},null,null,{"$f":"N11","v":1211},{"$f":"COUNTIF(L7:L12,T11)","v":0},{"$f":"U11/(W4-U20)","v":0},{"$f":"IF(V11=0,0,(V11*((LOG(V11))/LOG(2))))","v":0},null,{"$f":"N11","v":1211},{"$f":"COUNTIF(L13:L19,Y11)","v":0},{"$f":"Z11/(AB4-Z20)","v":0},{"$f":"IF(AA11=0,0,(AA11*((LOG(AA11))/LOG(2))))","v":0},null,{"$f":"N11","v":1211},{"$f":"COUNTIF(L20:L25,AD11)","v":0},{"$f":"AE11/(AG4-AE20)","v":0},{"$f":"IF(AF11=0,0,(AF11*((LOG(AF11))/LOG(2))))","v":0},null,{"$f":"N11","v":1211},{"$f":"COUNTIF(L26:L31,AI11)","v":0},{"$f":"AJ11/(AL4-AJ20)","v":0},{"$f":"IF(AK11=0,0,(AK11*((LOG(AK11))/LOG(2))))","v":0},null,{"$f":"N11","v":1211},{"$f":"COUNTIF(L32:L38,AN11)","v":0},{"$f":"AO11/(AQ4-AO20)","v":0},{"$f":"IF(AP11=0,0,(AP11*((LOG(AP11))/LOG(2))))","v":0},null,{"$f":"N11","v":1211},{"$f":"COUNTIF(L39:L44,AS11)","v":0},{"$f":"AT11/(AV4-AT20)","v":0},{"$f":"IF(AU11=0,0,(AU11*((LOG(AU11))/LOG(2))))","v":0}]
[12,762,14,769,24,791,23,801,null,null,0,1122,null,1212,{"$f":"COUNTIF($L$7:$L$500,N12)","v":0},{"$f":"O12/$Q$4","v":0},{"$f":"IF(P12=0,0,(P12*((LOG(P12))/LOG(2))))","v":0},null,null,{"$f":"N12","v":1212},{"$f":"COUNTIF(L7:L12,T12)","v":0},{"$f":"U12/(W4-U20)","v":0},{"$f":"IF(V12=0,0,(V12*((LOG(V12))/LOG(2))))","v":0},null,{"$f":"N12","v":1212},{"$f":"COUNTIF(L13:L19,Y12)","v":0},{"$f":"Z12/(AB4-Z20)","v":0},{"$f":"IF(AA12=0,0,(AA12*((LOG(AA12))/LOG(2))))","v":0},null,{"$f":"N12","v":1212},{"$f":"COUNTIF(L20:L25,AD12)","v":0},{"$f":"AE12/(AG4-AE20)","v":0},{"$f":"IF(AF12=0,0,(AF12*((LOG(AF12))/LOG(2))))","v":0},null,{"$f":"N12","v":1212},{"$f":"COUNTIF(L26:L31,AI12)","v":0},{"$f":"AJ12/(AL4-AJ20)","v":0},{"$f":"IF(AK12=0,0,(AK12*((LOG(AK12))/LOG(2))))","v":0},null,{"$f":"N12","v":1212},{"$f":"COUNTIF(L32:L38,AN12)","v":0},{"$f":"AO12/(AQ4-AO20)","v":0},{"$f":"IF(AP12=0,0,(AP12*((LOG(AP12))/LOG(2))))","v":0},null,{"$f":"N12","v":1212},{"$f":"COUNTIF(L39:L44,AS12)","v":0},{"$f":"AT12/(AV4-AT20)","v":0},{"$f":"IF(AU12=0,0,(AU12*((LOG(AU12))/LOG(2))))","v":0}]
[12,903,14,909,13,917,23,934,null,null,0,1112,null,1221,{"$f":"COUNTIF($L$7:$L$500,N13)","v":0},{"$f":"O13/$Q$4","v":0},{"$f":"IF(P13=0,0,(P13*((LOG(P13))/LOG(2))))","v":0},null,null,{"$f":"N13","v":1221},{"$f":"COUNTIF(L7:L12,T13)","v":0},{"$f":"U13/(W4-U20)","v":0},{"$f":"IF(V13=0,0,(V13*((LOG(V13))/LOG(2))))","v":0},null,{"$f":"N13","v":1221},{"$f":"COUNTIF(L13:L19,Y13)","v":0},{"$f":"Z13/(AB4-Z20)","v":0},{"$f":"IF(AA13=0,0,(AA13*((LOG(AA13))/LOG(2))))","v":0},null,{"$f":"N13","v":1221},{"$f":"COUNTIF(L20:L25,AD13)","v":0},{"$f":"AE13/(AG4-AE20)","v":0},{"$f":"IF(AF13=0,0,(AF13*((LOG(AF13))/LOG(2))))","v":0},null,{"$f":"N13","v":1221},{"$f":"COUNTIF(L26:L31,AI13)","v":0},{"$f":"AJ13/(AL4-AJ20)","v":0},{"$f":"IF(AK13=0,0,(AK13*((LOG(AK13))/LOG(2))))","v":0},null,{"$f":"N13","v":1221},{"$f":"COUNTIF(L32:L38,AN13)","v":0},{"$f":"AO13/(AQ4-AO20)","v":0},{"$f":"IF(AP13=0,0,(AP13*((LOG(AP13))/LOG(2))))","v":0},null,{"$f":"N13","v":1221},{"$f":"COUNTIF(L39:L44,AS13)","v":0},{"$f":"AT13/(AV4-AT20)","v":0},{"$f":"IF(AU13=0,0,(AU13*((LOG(AU13))/LOG(2))))","v":0}]
[12,1034,14,1040,24,1065,23,1079,null,null,0,1122,null,1222,{"$f":"COUNTIF($L$7:$L$500,N14)","v":2},{"$f":"O14/$Q$4","v":5.2631578947368418E-2},{"$f":"IF(P14=0,0,(P14*((LOG(P14))/LOG(2))))","v":-0.22357513228650452},null,null,{"$f":"N14","v":1222},{"$f":"COUNTIF(L7:L12,T14)","v":1},{"$f":"U14/(W4-U20)","v":0.16666666666666666},{"$f":"IF(V14=0,0,(V14*((LOG(V14))/LOG(2))))","v":-0.43082708345352599},null,{"$f":"N14","v":1222},{"$f":"COUNTIF(L13:L19,Y14)","v":0},{"$f":"Z14/(AB4-Z20)","v":0},{"$f":"IF(AA14=0,0,(AA14*((LOG(AA14))/LOG(2))))","v":0},null,{"$f":"N14","v":1222},{"$f":"COUNTIF(L20:L25,AD14)","v":0},{"$f":"AE14/(AG4-AE20)","v":0},{"$f":"IF(AF14=0,0,(AF14*((LOG(AF14))/LOG(2))))","v":0},null,{"$f":"N14","v":1222},{"$f":"COUNTIF(L26:L31,AI14)","v":0},{"$f":"AJ14/(AL4-AJ20)","v":0},{"$f":"IF(AK14=0,0,(AK14*((LOG(AK14))/LOG(2))))","v":0},null,{"$f":"N14","v":1222},{"$f":"COUNTIF(L32:L38,AN14)","v":1},{"$f":"AO14/(AQ4-AO20)","v":0.14285714285714285},{"$f":"IF(AP14=0,0,(AP14*((LOG(AP14))/LOG(2))))","v":-0.40105070315108626},null,{"$f":"N14","v":1222},{"$f":"COUNTIF(L39:L44,AS14)","v":0},{"$f":"AT14/(AV4-AT20)","v":0},{"$f":"IF(AU14=0,0,(AU14*((LOG(AU14))/LOG(2))))","v":0}]
[12,1180,14,1185,13,1194,23,1208,null,null,0,1112,null,2111,{"$f":"COUNTIF($L$7:$L$500,N15)","v":0},{"$f":"O15/$Q$4","v":0},{"$f":"IF(P15=0,0,(P15*((LOG(P15))/LOG(2))))","v":0},null,null,{"$f":"N15","v":2111},{"$f":"COUNTIF(L7:L12,T15)","v":0},{"$f":"U15/(W4-U20)","v":0},{"$f":"IF(V15=0,0,(V15*((LOG(V15))/LOG(2))))","v":0},null,{"$f":"N15","v":2111},{"$f":"COUNTIF(L13:L19,Y15)","v":0},{"$f":"Z15/(AB4-Z20)","v":0},{"$f":"IF(AA15=0,0,(AA15*((LOG(AA15))/LOG(2))))","v":0},null,{"$f":"N15","v":2111},{"$f":"COUNTIF(L20:L25,AD15)","v":0},{"$f":"AE15/(AG4-AE20)","v":0},{"$f":"IF(AF15=0,0,(AF15*((LOG(AF15))/LOG(2))))","v":0},null,{"$f":"N15","v":2111},{"$f":"COUNTIF(L26:L31,AI15)","v":0},{"$f":"AJ15/(AL4-AJ20)","v":0},{"$f":"IF(AK15=0,0,(AK15*((LOG(AK15))/LOG(2))))","v":0},null,{"$f":"N15","v":2111},{"$f":"COUNTIF(L32:L38,AN15)","v":0},{"$f":"AO15/(AQ4-AO20)","v":0},{"$f":"IF(AP15=0,0,(AP15*((LOG(AP15))/LOG(2))))","v":0},null,{"$f":"N15","v":2111},{"$f":"COUNTIF(L39:L44,AS15)","v":0},{"$f":"AT15/(AV4-AT20)","v":0},{"$f":"IF(AU15=0,0,(AU15*((LOG(AU15))/LOG(2))))","v":0}]
[12,1314,14,1326,13,1331,14,1346,null,null,0,1111,null,2112,{"$f":"COUNTIF($L$7:$L$500,N16)","v":0},{"$f":"O16/$Q$4","v":0},{"$f":"IF(P16=0,0,(P16*((LOG(P16))/LOG(2))))","v":0},null,null,{"$f":"N16","v":2112},{"$f":"COUNTIF(L7:L12,T16)","v":0},{"$f":"U16/(W4-U20)","v":0},{"$f":"IF(V16=0,0,(V16*((LOG(V16))/LOG(2))))","v":0},null,{"$f":"N16","v":2112},{"$f":"COUNTIF(L13:L19,Y16)","v":0},{"$f":"Z16/(AB4-Z20)","v":0},{"$f":"IF(AA16=0,0,(AA16*((LOG(AA16))/LOG(2))))","v":0},null,{"$f":"N16","v":2112},{"$f":"COUNTIF(L20:L25,AD16)","v":0},{"$f":"AE16/(AG4-AE20)","v":0},{"$f":"IF(AF16=0,0,(AF16*((LOG(AF16))/LOG(2))))","v":0},null,{"$f":"N16","v":2112},{"$f":"COUNTIF(L26:L31,AI16)","v":0},{"$f":"AJ16/(AL4-AJ20)","v":0},{"$f":"IF(AK16=0,0,(AK16*((LOG(AK16))/LOG(2))))","v":0},null,{"$f":"N16","v":2112},{"$f":"COUNTIF(L32:L38,AN16)","v":0},{"$f":"AO16/(AQ4-AO20)","v":0},{"$f":"IF(AP16=0,0,(AP16*((LOG(AP16))/LOG(2))))","v":0},null,{"$f":"N16","v":2112},{"$f":"COUNTIF(L39:L44,AS16)","v":0},{"$f":"AT16/(AV4-AT20)","v":0},{"$f":"IF(AU16=0,0,(AU16*((LOG(AU16))/LOG(2))))","v":0}]
[12,1448,14,1455,13,1460,14,1470,null,null,0,1111,null,2121,{"$f":"COUNTIF($L$7:$L$500,N17)","v":0},{"$f":"O17/$Q$4","v":0},{"$f":"IF(P17=0,0,(P17*((LOG(P17))/LOG(2))))","v":0},null,null,{"$f":"N17","v":2121},{"$f":"COUNTIF(L7:L12,T17)","v":0},{"$f":"U17/(W4-U20)","v":0},{"$f":"IF(V17=0,0,(V17*((LOG(V17))/LOG(2))))","v":0},null,{"$f":"N17","v":2121},{"$f":"COUNTIF(L13:L19,Y17)","v":0},{"$f":"Z17/(AB4-Z20)","v":0},{"$f":"IF(AA17=0,0,(AA17*((LOG(AA17))/LOG(2))))","v":0},null,{"$f":"N17","v":2121},{"$f":"COUNTIF(L20:L25,AD17)","v":0},{"$f":"AE17/(AG4-AE20)","v":0},{"$f":"IF(AF17=0,0,(AF17*((LOG(AF17))/LOG(2))))","v":0},null,{"$f":"N17","v":2121},{"$f":"COUNTIF(L26:L31,AI17)","v":0},{"$f":"AJ17/(AL4-AJ20)","v":0},{"$f":"IF(AK17=0,0,(AK17*((LOG(AK17))/LOG(2))))","v":0},null,{"$f":"N17","v":2121},{"$f":"COUNTIF(L32:L38,AN17)","v":0},{"$f":"AO17/(AQ4-AO20)","v":0},{"$f":"IF(AP17=0,0,(AP17*((LOG(AP17))/LOG(2))))","v":0},null,{"$f":"N17","v":2121},{"$f":"COUNTIF(L39:L44,AS17)","v":0},{"$f":"AT17/(AV4-AT20)","v":0},{"$f":"IF(AU17=0,0,(AU17*((LOG(AU17))/LOG(2))))","v":0}]
[12,1573,14,1579,13,1585,14,1589,null,null,0,1111,null,2122,{"$f":"COUNTIF($L$7:$L$500,N18)","v":0},{"$f":"O18/$Q$4","v":0},{"$f":"IF(P18=0,0,(P18*((LOG(P18))/LOG(2))))","v":0},null,null,{"$f":"N18","v":2122},{"$f":"COUNTIF(L7:L12,T18)","v":0},{"$f":"U18/(W4-U20)","v":0},{"$f":"IF(V18=0,0,(V18*((LOG(V18))/LOG(2))))","v":0},null,{"$f":"N18","v":2122},{"$f":"COUNTIF(L13:L19,Y18)","v":0},{"$f":"Z18/(AB4-Z20)","v":0},{"$f":"IF(AA18=0,0,(AA18*((LOG(AA18))/LOG(2))))","v":0},null,{"$f":"N18","v":2122},{"$f":"COUNTIF(L20:L25,AD18)","v":0},{"$f":"AE18/(AG4-AE20)","v":0},{"$f":"IF(AF18=0,0,(AF18*((LOG(AF18))/LOG(2))))","v":0},null,{"$f":"N18","v":2122},{"$f":"COUNTIF(L26:L31,AI18)","v":0},{"$f":"AJ18/(AL4-AJ20)","v":0},{"$f":"IF(AK18=0,0,(AK18*((LOG(AK18))/LOG(2))))","v":0},null,{"$f":"N18","v":2122},{"$f":"COUNTIF(L32:L38,AN18)","v":0},{"$f":"AO18/(AQ4-AO20)","v":0},{"$f":"IF(AP18=0,0,(AP18*((LOG(AP18))/LOG(2))))","v":0},null,{"$f":"N18","v":2122},{"$f":"COUNTIF(L39:L44,AS18)","v":0},{"$f":"AT18/(AV4-AT20)","v":0},{"$f":"IF(AU18=0,0,(AU18*((LOG(AU18))/LOG(2))))","v":0}]
[12,1695,14,1702,13,1707,14,1719,null,null,0,1111,null,2211,{"$f":"COUNTIF($L$7:$L$500,N19)","v":0},{"$f":"O19/$Q$4","v":0},{"$f":"IF(P19=0,0,(P19*((LOG(P19))/LOG(2))))","v":0},null,null,{"$f":"N19","v":2211},{"$f":"COUNTIF(L7:L12,T19)","v":0},{"$f":"U19/(W4-U20)","v":0},{"$f":"IF(V19=0,0,(V19*((LOG(V19))/LOG(2))))","v":0},null,{"$f":"N19","v":2211},{"$f":"COUNTIF(L13:L19,Y19)","v":0},{"$f":"Z19/(AB4-Z20)","v":0},{"$f":"IF(AA19=0,0,(AA19*((LOG(AA19))/LOG(2))))","v":0},null,{"$f":"N19","v":2211},{"$f":"COUNTIF(L20:L25,AD19)","v":0},{"$f":"AE19/(AG4-AE20)","v":0},{"$f":"IF(AF19=0,0,(AF19*((LOG(AF19))/LOG(2))))","v":0},null,{"$f":"N19","v":2211},{"$f":"COUNTIF(L26:L31,AI19)","v":0},{"$f":"AJ19/(AL4-AJ20)","v":0},{"$f":"IF(AK19=0,0,(AK19*((LOG(AK19))/LOG(2))))","v":0},null,{"$f":"N19","v":2211},{"$f":"COUNTIF(L32:L38,AN19)","v":0},{"$f":"AO19/(AQ4-AO20)","v":0},{"$f":"IF(AP19=0,0,(AP19*((LOG(AP19))/LOG(2))))","v":0},null,{"$f":"N19","v":2211},{"$f":"COUNTIF(L39:L44,AS19)","v":0},{"$f":"AT19/(AV4-AT20)","v":0},{"$f":"IF(AU19=0,0,(AU19*((LOG(AU19))/LOG(2))))","v":0}]
[12,1828,14,1837,24,1852,23,1858,null,null,0,1122,null,2212,{"$f":"COUNTIF($L$7:$L$500,N20)","v":0},{"$f":"O20/$Q$4","v":0},{"$f":"IF(P20=0,0,(P20*((LOG(P20))/LOG(2))))","v":0},null,null,{"$f":"N20","v":2212},{"$f":"COUNTIF(L7:L12,T20)","v":0},null,null,null,{"$f":"N20","v":2212},{"$f":"COUNTIF(L13:L19,Y20)","v":0},null,null,null,{"$f":"N20","v":2212},{"$f":"COUNTIF(L20:L25,AD20)","v":0},null,null,null,{"$f":"N20","v":2212},{"$f":"COUNTIF(L26:L31,AI20)","v":0},null,null,null,{"$f":"N20","v":2212},{"$f":"COUNTIF(L32:L38,AN20)","v":0},null,null,null,{"$f":"N20","v":2212},{"$f":"COUNTIF(L39:L44,AS20)","v":0}]
[12,1959,14,1964,13,1970,23,1990,null,null,0,1112,null,2221,{"$f":"COUNTIF($L$7:$L$500,N21)","v":0},{"$f":"O21/$Q$4","v":0},{"$f":"IF(P21=0,0,(P21*((LOG(P21))/LOG(2))))","v":0},null,null,{"$f":"N21","v":2221},{"$f":"COUNTIF(L7:L12,T21)","v":0},{"$f":"U21/(W4-U20)","v":0},{"$f":"IF(V21=0,0,(V21*((LOG(V21))/LOG(2))))","v":0},null,{"$f":"N21","v":2221},{"$f":"COUNTIF(L13:L19,Y21)","v":0},{"$f":"Z21/(AB4-Z20)","v":0},{"$f":"IF(AA21=0,0,(AA21*((LOG(AA21))/LOG(2))))","v":0},null,{"$f":"N21","v":2221},{"$f":"COUNTIF(L20:L25,AD21)","v":0},{"$f":"AE21/(AG4-AE20)","v":0},{"$f":"IF(AF21=0,0,(AF21*((LOG(AF21))/LOG(2))))","v":0},null,{"$f":"N21","v":2221},{"$f":"COUNTIF(L26:L31,AI21)","v":0},{"$f":"AJ21/(AL4-AJ20)","v":0},{"$f":"IF(AK21=0,0,(AK21*((LOG(AK21))/LOG(2))))","v":0},null,{"$f":"N21","v":2221},{"$f":"COUNTIF(L32:L38,AN21)","v":0},{"$f":"AO21/(AQ4-AO20)","v":0},{"$f":"IF(AP21=0,0,(AP21*((LOG(AP21))/LOG(2))))","v":0},null,{"$f":"N21","v":2221},{"$f":"COUNTIF(L39:L44,AS21)","v":0},{"$f":"AT21/(AV4-AT20)","v":0},{"$f":"IF(AU21=0,0,(AU21*((LOG(AU21))/LOG(2))))","v":0}]
[12,2098,14,2109,13,2118,14,2128,null,null,0,1111,null,2222,{"$f":"COUNTIF($L$7:$L$500,N22)","v":2},{"$f":"O22/$Q$4","v":5.2631578947368418E-2},{"$f":"IF(P22=0,0,(P22*((LOG(P22))/LOG(2))))","v":-0.22357513228650452},null,null,{"$f":"N22","v":2222},{"$f":"COUNTIF(L7:L12,T22)","v":1},{"$f":"U22/(W4-U20)","v":0.16666666666666666},{"$f":"IF(V22=0,0,(V22*((LOG(V22))/LOG(2))))","v":-0.43082708345352599},null,{"$f":"N22","v":2222},{"$f":"COUNTIF(L13:L19,Y22)","v":0},{"$f":"Z22/(AB4-Z20)","v":0},{"$f":"IF(AA22=0,0,(AA22*((LOG(AA22))/LOG(2))))","v":0},null,{"$f":"N22","v":2222},{"$f":"COUNTIF(L20:L25,AD22)","v":0},{"$f":"AE22/(AG4-AE20)","v":0},{"$f":"IF(AF22=0,0,(AF22*((LOG(AF22))/LOG(2))))","v":0},null,{"$f":"N22","v":2222},{"$f":"COUNTIF(L26:L31,AI22)","v":0},{"$f":"AJ22/(AL4-AJ20)","v":0},{"$f":"IF(AK22=0,0,(AK22*((LOG(AK22))/LOG(2))))","v":0},null,{"$f":"N22","v":2222},{"$f":"COUNTIF(L32:L38,AN22)","v":1},{"$f":"AO22/(AQ4-AO20)","v":0.14285714285714285},{"$f":"IF(AP22=0,0,(AP22*((LOG(AP22))/LOG(2))))","v":-0.40105070315108626},null,{"$f":"N22","v":2222},{"$f":"COUNTIF(L39:L44,AS22)","v":0},{"$f":"AT22/(AV4-AT20)","v":0},{"$f":"IF(AU22=0,0,(AU22*((LOG(AU22))/LOG(2))))","v":0}]
[12,2227,14,2233,13,2241,14,2250,null,null,0,1111,null,null,null,{"$f":"SUM(P7:P22)","v":1},{"$f":"-SUM(Q7:Q22)","v":1.7900347414150557},null,null,null,null,{"$f":"SUM(V7:V22)","v":0.99999999999999989},{"$f":"-SUM(W7:W22)","v":2.2516291673878226},null,null,null,{"$f":"SUM(AA7:AA22)","v":1},{"$f":"-SUM(AB7:AB22)","v":1.3787834934861753},null,null,null,{"$f":"SUM(AF7:AF22)","v":0.99999999999999989},{"$f":"-SUM(AG7:AG22)","v":1.2516291673878228},null,null,null,{"$f":"SUM(AK7:AK22)","v":1},{"$f":"-SUM(AL7:AL22)","v":0},null,null,null,{"$f":"SUM(AP7:AP22)","v":0.99999999999999978},{"$f":"-SUM(AQ7:AQ22)","v":2.2359263506290326},null,null,null,{"$f":"SUM(AU7:AU22)","v":0.99999999999999989},{"$f":"-SUM(AV7:AV22)","v":1.2516291673878228}]
[12,2361,14,2367,13,2373,14,2384,null,null,0,1111,null,null,null,"U=",{"$f":"Q23/(LOG(Q4)/LOG(2))","v":0.34109364826963295},null,null,null,null,"U1=",{"$f":"W23/(LOG(W4)/LOG(2))","v":0.87104906425515272},null,null,null,"U2=",{"$f":"AB23/(LOG(AB4)/LOG(2))","v":0.49113258984568253},null,null,null,"U3=",{"$f":"AG23/(LOG(AG4)/LOG(2))","v":0.4841962570206112},null,null,null,"U4=",{"$f":"AL23/(LOG(AL4)/LOG(2))","v":0},null,null,null,"U5=",{"$f":"AQ23/(LOG(AQ4)/LOG(2))","v":0.79645303593827299},null,null,null,"U6=",{"$f":"AV23/(LOG(AV4)/LOG(2))","v":0.4841962570206112}]
[12,2488,14,2493,13,2497,14,2503,null,null,0,1111]
[12,2601,14,2607,13,2613,14,2618,null,null,0,1111]
[12,2720,14,2725,13,2729,14,2734,null,null,0,1111,null,"Total Target Seq"]
[12,2833,14,2847,13,2856,14,2862,null,null,0,1111,null,{"$f":"COUNTIF(L7:L44,G3)","v":0},null,6,7,6,6,7,6]
[12,2959,14,2964,13,2970,14,2978,null,null,0,1111,null,null,null,"% of reinforcement given in 6 equal intervals based on number of trials "]
[12,3075,14,3079,13,3087,14,3092,null,null,0,1111,null,null,null,"%_1","%_2","%_3","%_4","%_5","%_6"]
[12,3199,14,3205,13,3215,14,3222,null,null,0,1111,null,null,"target sequence",{"$f":"$G$3","v":2212},{"$f":"$G$3","v":2212},{"$f":"$G$3","v":2212},{"$f":"$G$3","v":2212},{"$f":"$G$3","v":2212},{"$f":"$G$3","v":2212}]
[12,3325,14,3330,13,3336,14,3343,null,null,0,1111,null,null,"total reinforcement",{"$f":"U20","v":0},{"$f":"Z20","v":0},{"$f":"AE20","v":0},{"$f":"AJ20","v":0},{"$f":"AO20","v":0},{"$f":"AT20","v":0}]
[12,3449,14,3455,13,3462,23,3477,null,null,0,1112,null,null,"% target"]
[12,3630,14,3636,13,3651,14,3657,null,null,0,1111,null,null,"CCRF"]
[21,4008,21,4014,22,4021,23,4032,null,null,0,2222,null,null,"% CCRf"]
[12,10927,14,10938,24,10954,23,10961,null,null,0,1122,null,null,"average response rate",{"$f":"H12/P28","v":133.5},{"$f":"(H19-H12)/Q28","v":131.14285714285714},{"$f":"(H25-H19)/R28","v":130.66666666666666},{"$f":"(H31-H25)/S28","v":119.83333333333333},{"$f":"(H38-H31)/T28","v":1153.5714285714287},{"$f":"(H44-H38)/U28","v":984.83333333333337}]
[12,11070,14,11080,24,11123,23,11134,null,null,0,1122]
[12,11249,23,11286,24,11292,23,11297,null,null,0,1222]
[12,11410,14,11419,24,11445,23,11450,null,null,0,1122]
[12,11547,14,11552,13,11558,14,11565,null,null,0,1111]
[12,11660,14,11669,13,11677,14,11693,null,null,0,1111]
[12,11827,14,11837,13,11844,23,11867,null,null,0,1112]
[12,11982,14,11993,13,12005,14,12021,null,null,0,1111]
[12,17139,14,17162,13,17187,14,17206,null,null,0,1111]

{"sheet":"!M906910.102","index":10,"n_rows":36,"n_cols":48,"rows_kept":36,"cut":false,"hidden":false,"merged":[[4,39,4,42],[5,39,5,40],[4,44,4,47],[5,44,5,45],[4,24,4,27],[5,24,5,25],[4,29,4,32],[5,29,5,30],[4,34,4,37],[5,34,5,35],[1,1,1,2],[5,13,5,14],[26,13,26,14],[27,13,27,14],[4,19,4,22],[5,19,5,20]]}
["Report for:!M906910.102"]
["Date:","<date>"]
["Hen:","<hen>",null,null,null,"Correct Sequence",{"$f":"Start!J2","v":2212},null,null,null,null,null,null,null,null,"Total Sequences in Data",{"$f":"4994-COUNTBLANK(L7:L5000)","v":25},null,null,null,null,"Total Sequences in Block Data",{"$f":"COUNTA(L7:L10)","v":4},null,null,null,"Total Sequences in Block Data",{"$f":"COUNTA(L11:L14)","v":4},null,null,null,"Total Sequences in Block Data",{"$f":"COUNTA(L15:L19)","v":5},null,null,null,"Total Sequences in Block Data",{"$f":"COUNTA(L20:L23)","v":4},null,null,null,"Total Sequences in Block Data",{"$f":"COUNTA(L24:L27)","v":4},null,null,null,"Total Sequences in Block Data",{"$f":"COUNTA(L28:L31)","v":4}]
[null,null,null,null,null,null,null,null,null,null,null,null,null,null,null,"Total Sequences in Summary",{"$f":"SUM(O7:O22)","v":25},null,null,null,null,"Total Sequences in Block Summary",{"$f":"SUM(U7:U22)","v":4},null,null,null,"Total Sequences in Block Summary",{"$f":"SUM(Z7:Z22)","v":4},null,null,null,"Total Sequences in Block Summary",{"$f":"SUM(AE7:AE22)","v":5},null,null,null,"Total Sequences in Block Summary",{"$f":"SUM(AJ7:AJ22)","v":4},null,null,null,"Total Sequences in Block Summary",{"$f":"SUM(AO7:AO22)","v":4},null,null,null,"Total Sequences in Block Summary",{"$f":"SUM(AT7:AT22)","v":4}]
[null,null,null,null,null,null,null,null,null,null,null,null,null,null,null,null,null,null,null,"Block 1",null,null,null,null,"Block 2",null,null,null,null,"Block 3",null,null,null,null,"Block 4",null,null,null,null,"Block 5",null,null,null,null,"Block 6"]
["Sequence\nComponent\n1","Time\n1","Sequence\nComponent\n2","Time\n2","Sequence\nComponent\n3","Time\n3","Sequence\nComponent\n4","Time\n4","Sequence\nComponent\n5","Time\n5","Correct?\n0=No 1=Yes","Sequence",null,"Frequency",null,"Relative Frequency","Variability",null,null,"Frequency",null,"Relative Frequency","Variability",null,"Frequency",null,"Relative Frequency","Variability",null,"Frequency",null,"Relative Frequency","Variability",null,"Frequency",null,"Relative Frequency","Variability",null,"Frequency",null,"Relative Frequency","Variability",null,"Frequency",null,"Relative Frequency","Variability"]
[12,32,14,59,13,71,14,78,null,null,0,1111,null,1111,{"$f":"COUNTIF($L$7:$L$500,N7)","v":11},{"$f":"O7/$Q$4","v":0.44},{"$f":"IF(P7=0,0,(P7*((LOG(P7))/LOG(2))))","v":-0.52114681130046814},null,null,{"$f":"N7","v":1111},{"$f":"COUNTIF(L7:L10,T7)","v":1},{"$f":"U7/(W4-U20)","v":0.25},{"$f":"IF(V7=0,0,(V7*((LOG(V7))/LOG(2))))","v":-0.5},null,{"$f":"N7","v":1111},{"$f":"COUNTIF(L11:L14,Y7)","v":4},{"$f":"Z7/(AB4-Z20)","v":1},{"$f":"IF(AA7=0,0,(AA7*((LOG(AA7))/LOG(2))))","v":0},null,{"$f":"N7","v":1111},{"$f":"COUNTIF(L15:L19,AD7)","v":3},{"$f":"AE7/(AG4-AE20)","v":0.6},{"$f":"IF(AF7=0,0,(AF7*((LOG(AF7))/LOG(2))))","v":-0.44217935649972373},null,{"$f":"N7","v":1111},{"$f":"COUNTIF(L20:L23,AI7)","v":2},{"$f":"AJ7/(AL4-AJ20)","v":0.5},{"$f":"IF(AK7=0,0,(AK7*((LOG(AK7))/LOG(2))))","v":-0.5},null,{"$f":"N7","v":1111},{"$f":"COUNTIF(L24:L27,AN7)","v":0},{"$f":"AO7/(AQ4-AO20)","v":0},{"$f":"IF(AP7=0,0,(AP7*((LOG(AP7))/LOG(2))))","v":0},null,{"$f":"N7","v":1111},{"$f":"COUNTIF(L28:L31,AS7)","v":1},{"$f":"AT7/(AV4-AT20)","v":0.25},{"$f":"IF(AU7=0,0,(AU7*((LOG(AU7))/LOG(2))))","v":-0.5}]
[12,185,14,191,13,201,23,216,null,null,0,1112,null,1112,{"$f":"COUNTIF($L$7:$L$500,N8)","v":4},{"$f":"O8/$Q$4","v":0.16},{"$f":"IF(P8=0,0,(P8*((LOG(P8))/LOG(2))))","v":-0.42301699036395596},null,null,{"$f":"N8","v":1112},{"$f":"COUNTIF(L7:L10,T8)","v":2},{"$f":"U8/(W4-U20)","v":0.5},{"$f":"IF(V8=0,0,(V8*((LOG(V8))/LOG(2))))","v":-0.5},null,{"$f":"N8","v":1112},{"$f":"COUNTIF(L11:L14,Y8)","v":0},{"$f":"Z8/(AB4-Z20)","v":0},{"$f":"IF(AA8=0,0,(AA8*((LOG(AA8))/LOG(2))))","v":0},null,{"$f":"N8","v":1112},{"$f":"COUNTIF(L15:L19,AD8)","v":1},{"$f":"AE8/(AG4-AE20)","v":0.2},{"$f":"IF(AF8=0,0,(AF8*((LOG(AF8))/LOG(2))))","v":-0.46438561897747244},null,{"$f":"N8","v":1112},{"$f":"COUNTIF(L20:L23,AI8)","v":0},{"$f":"AJ8/(AL4-AJ20)","v":0},{"$f":"IF(AK8=0,0,(AK8*((LOG(AK8))/LOG(2))))","v":0},null,{"$f":"N8","v":1112},{"$f":"COUNTIF(L24:L27,AN8)","v":1},{"$f":"AO8/(AQ4-AO20)","v":0.25},{"$f":"IF(AP8=0,0,(AP8*((LOG(AP8))/LOG(2))))","v":-0.5},null,{"$f":"N8","v":1112},{"$f":"COUNTIF(L28:L31,AS8)","v":0},{"$f":"AT8/(AV4-AT20)","v":0},{"$f":"IF(AU8=0,0,(AU8*((LOG(AU8))/LOG(2))))","v":0}]
[12,321,23,340,24,346,23,351,null,null,0,1222,null,1121,{"$f":"COUNTIF($L$7:$L$500,N9)","v":0},{"$f":"O9/$Q$4","v":0},{"$f":"IF(P9=0,0,(P9*((LOG(P9))/LOG(2))))","v":0},null,null,{"$f":"N9","v":1121},{"$f":"COUNTIF(L7:L10,T9)","v":0},{"$f":"U9/(W4-U20)","v":0},{"$f":"IF(V9=0,0,(V9*((LOG(V9))/LOG(2))))","v":0},null,{"$f":"N9","v":1121},{"$f":"COUNTIF(L11:L14,Y9)","v":0},{"$f":"Z9/(AB4-Z20)","v":0},{"$f":"IF(AA9=0,0,(AA9*((LOG(AA9))/LOG(2))))","v":0},null,{"$f":"N9","v":1121},{"$f":"COUNTIF(L15:L19,AD9)","v":0},{"$f":"AE9/(AG4-AE20)","v":0},{"$f":"IF(AF9=0,0,(AF9*((LOG(AF9))/LOG(2))))","v":0},null,{"$f":"N9","v":1121},{"$f":"COUNTIF(L20:L23,AI9)","v":0},{"$f":"AJ9/(AL4-AJ20)","v":0},{"$f":"IF(AK9=0,0,(AK9*((LOG(AK9))/LOG(2))))","v":0},null,{"$f":"N9","v":1121},{"$f":"COUNTIF(L24:L27,AN9)","v":0},{"$f":"AO9/(AQ4-AO20)","v":0},{"$f":"IF(AP9=0,0,(AP9*((LOG(AP9))/LOG(2))))","v":0},null,{"$f":"N9","v":1121},{"$f":"COUNTIF(L28:L31,AS9)","v":0},{"$f":"AT9/(AV4-AT20)","v":0},{"$f":"IF(AU9=0,0,(AU9*((LOG(AU9))/LOG(2))))","v":0}]
[12,456,14,463,13,474,23,493,null,null,0,1112,null,1122,{"$f":"COUNTIF($L$7:$L$500,N10)","v":3},{"$f":"O10/$Q$4","v":0.12},{"$f":"IF(P10=0,0,(P10*((LOG(P10))/LOG(2))))","v":-0.36706724268642821},null,null,{"$f":"N10","v":1122},{"$f":"COUNTIF(L7:L10,T10)","v":0},{"$f":"U10/(W4-U20)","v":0},{"$f":"IF(V10=0,0,(V10*((LOG(V10))/LOG(2))))","v":0},null,{"$f":"N10","v":1122},{"$f":"COUNTIF(L11:L14,Y10)","v":0},{"$f":"Z10/(AB4-Z20)","v":0},{"$f":"IF(AA10=0,0,(AA10*((LOG(AA10))/LOG(2))))","v":0},null,{"$f":"N10","v":1122},{"$f":"COUNTIF(L15:L19,AD10)","v":0},{"$f":"AE10/(AG4-AE20)","v":0},{"$f":"IF(AF10=0,0,(AF10*((LOG(AF10))/LOG(2))))","v":0},null,{"$f":"N10","v":1122},{"$f":"COUNTIF(L20:L23,AI10)","v":1},{"$f":"AJ10/(AL4-AJ20)","v":0.25},{"$f":"IF(AK10=0,0,(AK10*((LOG(AK10))/LOG(2))))","v":-0.5},null,{"$f":"N10","v":1122},{"$f":"COUNTIF(L24:L27,AN10)","v":2},{"$f":"AO10/(AQ4-AO20)","v":0.5},{"$f":"IF(AP10=0,0,(AP10*((LOG(AP10))/LOG(2))))","v":-0.5},null,{"$f":"N10","v":1122},{"$f":"COUNTIF(L28:L31,AS10)","v":0},{"$f":"AT10/(AV4-AT20)","v":0},{"$f":"IF(AU10=0,0,(AU10*((LOG(AU10))/LOG(2))))","v":0}]
[12,598,14,604,13,615,14,625,null,null,0,1111,null,1211,{"$f":"COUNTIF($L$7:$L$500,N11)","v":0},{"$f":"O11/$Q$4","v":0},{"$f":"IF(P11=0,0,(P11*((LOG(P11))/LOG(2))))","v":0},null,null,{"$f":"N11","v":1211},{"$f":"COUNTIF(L7:L10,T11)","v":0},{"$f":"U11/(W4-U20)","v":0},{"$f":"IF(V11=0,0,(V11*((LOG(V11))/LOG(2))))","v":0},null,{"$f":"N11","v":1211},{"$f":"COUNTIF(L11:L14,Y11)","v":0},{"$f":"Z11/(AB4-Z20)","v":0},{"$f":"IF(AA11=0,0,(AA11*((LOG(AA11))/LOG(2))))","v":0},null,{"$f":"N11","v":1211},{"$f":"COUNTIF(L15:L19,AD11)","v":0},{"$f":"AE11/(AG4-AE20)","v":0},{"$f":"IF(AF11=0,0,(AF11*((LOG(AF11))/LOG(2))))","v":0},null,{"$f":"N11","v":1211},{"$f":"COUNTIF(L20:L23,AI11)","v":0},{"$f":"AJ11/(AL4-AJ20)","v":0},{"$f":"IF(AK11=0,0,(AK11*((LOG(AK11))/LOG(2))))","v":0},null,{"$f":"N11","v":1211},{"$f":"COUNTIF(L24:L27,AN11)","v":0},{"$f":"AO11/(AQ4-AO20)","v":0},{"$f":"IF(AP11=0,0,(AP11*((LOG(AP11))/LOG(2))))","v":0},null,{"$f":"N11","v":1211},{"$f":"COUNTIF(L28:L31,AS11)","v":0},{"$f":"AT11/(AV4-AT20)","v":0},{"$f":"IF(AU11=0,0,(AU11*((LOG(AU11))/LOG(2))))","v":0}]
[12,730,14,736,13,741,14,751,null,null,0,1111,null,1212,{"$f":"COUNTIF($L$7:$L$500,N12)","v":0},{"$f":"O12/$Q$4","v":0},{"$f":"IF(P12=0,0,(P12*((LOG(P12))/LOG(2))))","v":0},null,null,{"$f":"N12","v":1212},{"$f":"COUNTIF(L7:L10,T12)","v":0},{"$f":"U12/(W4-U20)","v":0},{"$f":"IF(V12=0,0,(V12*((LOG(V12))/LOG(2))))","v":0},null,{"$f":"N12","v":1212},{"$f":"COUNTIF(L11:L14,Y12)","v":0},{"$f":"Z12/(AB4-Z20)","v":0},{"$f":"IF(AA12=0,0,(AA12*((LOG(AA12))/LOG(2))))","v":0},null,{"$f":"N12","v":1212},{"$f":"COUNTIF(L15:L19,AD12)","v":0},{"$f":"AE12/(AG4-AE20)","v":0},{"$f":"IF(AF12=0,0,(AF12*((LOG(AF12))/LOG(2))))","v":0},null,{"$f":"N12","v":1212},{"$f":"COUNTIF(L20:L23,AI12)","v":0},{"$f":"AJ12/(AL4-AJ20)","v":0},{"$f":"IF(AK12=0,0,(AK12*((LOG(AK12))/LOG(2))))","v":0},null,{"$f":"N12","v":1212},{"$f":"COUNTIF(L24:L27,AN12)","v":0},{"$f":"AO12/(AQ4-AO20)","v":0},{"$f":"IF(AP12=0,0,(AP12*((LOG(AP12))/LOG(2))))","v":0},null,{"$f":"N12","v":1212},{"$f":"COUNTIF(L28:L31,AS12)","v":0},{"$f":"AT12/(AV4-AT20)","v":0},{"$f":"IF(AU12=0,0,(AU12*((LOG(AU12))/LOG(2))))","v":0}]
[12,852,14,860,13,877,14,883,null,null,0,1111,null,1221,{"$f":"COUNTIF($L$7:$L$500,N13)","v":0},{"$f":"O13/$Q$4","v":0},{"$f":"IF(P13=0,0,(P13*((LOG(P13))/LOG(2))))","v":0},null,null,{"$f":"N13","v":1221},{"$f":"COUNTIF(L7:L10,T13)","v":0},{"$f":"U13/(W4-U20)","v":0},{"$f":"IF(V13=0,0,(V13*((LOG(V13))/LOG(2))))","v":0},null,{"$f":"N13","v":1221},{"$f":"COUNTIF(L11:L14,Y13)","v":0},{"$f":"Z13/(AB4-Z20)","v":0},{"$f":"IF(AA13=0,0,(AA13*((LOG(AA13))/LOG(2))))","v":0},null,{"$f":"N13","v":1221},{"$f":"COUNTIF(L15:L19,AD13)","v":0},{"$f":"AE13/(AG4-AE20)","v":0},{"$f":"IF(AF13=0,0,(AF13*((LOG(AF13))/LOG(2))))","v":0},null,{"$f":"N13","v":1221},{"$f":"COUNTIF(L20:L23,AI13)","v":0},{"$f":"AJ13/(AL4-AJ20)","v":0},{"$f":"IF(AK13=0,0,(AK13*((LOG(AK13))/LOG(2))))","v":0},null,{"$f":"N13","v":1221},{"$f":"COUNTIF(L24:L27,AN13)","v":0},{"$f":"AO13/(AQ4-AO20)","v":0},{"$f":"IF(AP13=0,0,(AP13*((LOG(AP13))/LOG(2))))","v":0},null,{"$f":"N13","v":1221},{"$f":"COUNTIF(L28:L31,AS13)","v":0},{"$f":"AT13/(AV4-AT20)","v":0},{"$f":"IF(AU13=0,0,(AU13*((LOG(AU13))/LOG(2))))","v":0}]
[12,984,14,990,13,1011,14,1024,null,null,0,1111,null,1222,{"$f":"COUNTIF($L$7:$L$500,N14)","v":2},{"$f":"O14/$Q$4","v":0.08},{"$f":"IF(P14=0,0,(P14*((LOG(P14))/LOG(2))))","v":-0.29150849518197797},null,null,{"$f":"N14","v":1222},{"$f":"COUNTIF(L7:L10,T14)","v":1},{"$f":"U14/(W4-U20)","v":0.25},{"$f":"IF(V14=0,0,(V14*((LOG(V14))/LOG(2))))","v":-0.5},null,{"$f":"N14","v":1222},{"$f":"COUNTIF(L11:L14,Y14)","v":0},{"$f":"Z14/(AB4-Z20)","v":0},{"$f":"IF(AA14=0,0,(AA14*((LOG(AA14))/LOG(2))))","v":0},null,{"$f":"N14","v":1222},{"$f":"COUNTIF(L15:L19,AD14)","v":0},{"$f":"AE14/(AG4-AE20)","v":0},{"$f":"IF(AF14=0,0,(AF14*((LOG(AF14))/LOG(2))))","v":0},null,{"$f":"N14","v":1222},{"$f":"COUNTIF(L20:L23,AI14)","v":0},{"$f":"AJ14/(AL4-AJ20)","v":0},{"$f":"IF(AK14=0,0,(AK14*((LOG(AK14))/LOG(2))))","v":0},null,{"$f":"N14","v":1222},{"$f":"COUNTIF(L24:L27,AN14)","v":1},{"$f":"AO14/(AQ4-AO20)","v":0.25},{"$f":"IF(AP14=0,0,(AP14*((LOG(AP14))/LOG(2))))","v":-0.5},null,{"$f":"N14","v":1222},{"$f":"COUNTIF(L28:L31,AS14)","v":0},{"$f":"AT14/(AV4-AT20)","v":0},{"$f":"IF(AU14=0,0,(AU14*((LOG(AU14))/LOG(2))))","v":0}]
[12,1132,14,1141,13,1147,23,1168,null,null,0,1112,null,2111,{"$f":"COUNTIF($L$7:$L$500,N15)","v":0},{"$f":"O15/$Q$4","v":0},{"$f":"IF(P15=0,0,(P15*((LOG(P15))/LOG(2))))","v":0},null,null,{"$f":"N15","v":2111},{"$f":"COUNTIF(L7:L10,T15)","v":0},{"$f":"U15/(W4-U20)","v":0},{"$f":"IF(V15=0,0,(V15*((LOG(V15))/LOG(2))))","v":0},null,{"$f":"N15","v":2111},{"$f":"COUNTIF(L11:L14,Y15)","v":0},{"$f":"Z15/(AB4-Z20)","v":0},{"$f":"IF(AA15=0,0,(AA15*((LOG(AA15))/LOG(2))))","v":0},null,{"$f":"N15","v":2111},{"$f":"COUNTIF(L15:L19,AD15)","v":0},{"$f":"AE15/(AG4-AE20)","v":0},{"$f":"IF(AF15=0,0,(AF15*((LOG(AF15))/LOG(2))))","v":0},null,{"$f":"N15","v":2111},{"$f":"COUNTIF(L20:L23,AI15)","v":0},{"$f":"AJ15/(AL4-AJ20)","v":0},{"$f":"IF(AK15=0,0,(AK15*((LOG(AK15))/LOG(2))))","v":0},null,{"$f":"N15","v":2111},{"$f":"COUNTIF(L24:L27,AN15)","v":0},{"$f":"AO15/(AQ4-AO20)","v":0},{"$f":"IF(AP15=0,0,(AP15*((LOG(AP15))/LOG(2))))","v":0},null,{"$f":"N15","v":2111},{"$f":"COUNTIF(L28:L31,AS15)","v":0},{"$f":"AT15/(AV4-AT20)","v":0},{"$f":"IF(AU15=0,0,(AU15*((LOG(AU15))/LOG(2))))","v":0}]
[12,1265,14,1272,13,1278,14,1285,null,null,0,1111,null,2112,{"$f":"COUNTIF($L$7:$L$500,N16)","v":0},{"$f":"O16/$Q$4","v":0},{"$f":"IF(P16=0,0,(P16*((LOG(P16))/LOG(2))))","v":0},null,null,{"$f":"N16","v":2112},{"$f":"COUNTIF(L7:L10,T16)","v":0},{"$f":"U16/(W4-U20)","v":0},{"$f":"IF(V16=0,0,(V16*((LOG(V16))/LOG(2))))","v":0},null,{"$f":"N16","v":2112},{"$f":"COUNTIF(L11:L14,Y16)","v":0},{"$f":"Z16/(AB4-Z20)","v":0},{"$f":"IF(AA16=0,0,(AA16*((LOG(AA16))/LOG(2))))","v":0},null,{"$f":"N16","v":2112},{"$f":"COUNTIF(L15:L19,AD16)","v":0},{"$f":"AE16/(AG4-AE20)","v":0},{"$f":"IF(AF16=0,0,(AF16*((LOG(AF16))/LOG(2))))","v":0},null,{"$f":"N16","v":2112},{"$f":"COUNTIF(L20:L23,AI16)","v":0},{"$f":"AJ16/(AL4-AJ20)","v":0},{"$f":"IF(AK16=0,0,(AK16*((LOG(AK16))/LOG(2))))","v":0},null,{"$f":"N16","v":2112},{"$f":"COUNTIF(L24:L27,AN16)","v":0},{"$f":"AO16/(AQ4-AO20)","v":0},{"$f":"IF(AP16=0,0,(AP16*((LOG(AP16))/LOG(2))))","v":0},null,{"$f":"N16","v":2112},{"$f":"COUNTIF(L28:L31,AS16)","v":0},{"$f":"AT16/(AV4-AT20)","v":0},{"$f":"IF(AU16=0,0,(AU16*((LOG(AU16))/LOG(2))))","v":0}]
[12,1382,14,1387,13,1393,14,1399,null,null,0,1111,null,2121,{"$f":"COUNTIF($L$7:$L$500,N17)","v":0},{"$f":"O17/$Q$4","v":0},{"$f":"IF(P17=0,0,(P17*((LOG(P17))/LOG(2))))","v":0},null,null,{"$f":"N17","v":2121},{"$f":"COUNTIF(L7:L10,T17)","v":0},{"$f":"U17/(W4-U20)","v":0},{"$f":"IF(V17=0,0,(V17*((LOG(V17))/LOG(2))))","v":0},null,{"$f":"N17","v":2121},{"$f":"COUNTIF(L11:L14,Y17)","v":0},{"$f":"Z17/(AB4-Z20)","v":0},{"$f":"IF(AA17=0,0,(AA17*((LOG(AA17))/LOG(2))))","v":0},null,{"$f":"N17","v":2121},{"$f":"COUNTIF(L15:L19,AD17)","v":0},{"$f":"AE17/(AG4-AE20)","v":0},{"$f":"IF(AF17=0,0,(AF17*((LOG(AF17))/LOG(2))))","v":0},null,{"$f":"N17","v":2121},{"$f":"COUNTIF(L20:L23,AI17)","v":0},{"$f":"AJ17/(AL4-AJ20)","v":0},{"$f":"IF(AK17=0,0,(AK17*((LOG(AK17))/LOG(2))))","v":0},null,{"$f":"N17","v":2121},{"$f":"COUNTIF(L24:L27,AN17)","v":0},{"$f":"AO17/(AQ4-AO20)","v":0},{"$f":"IF(AP17=0,0,(AP17*((LOG(AP17))/LOG(2))))","v":0},null,{"$f":"N17","v":2121},{"$f":"COUNTIF(L28:L31,AS17)","v":0},{"$f":"AT17/(AV4-AT20)","v":0},{"$f":"IF(AU17=0,0,(AU17*((LOG(AU17))/LOG(2))))","v":0}]
[12,1505,14,1511,13,1517,14,1526,null,null,0,1111,null,2122,{"$f":"COUNTIF($L$7:$L$500,N18)","v":0},{"$f":"O18/$Q$4","v":0},{"$f":"IF(P18=0,0,(P18*((LOG(P18))/LOG(2))))","v":0},null,null,{"$f":"N18","v":2122},{"$f":"COUNTIF(L7:L10,T18)","v":0},{"$f":"U18/(W4-U20)","v":0},{"$f":"IF(V18=0,0,(V18*((LOG(V18))/LOG(2))))","v":0},null,{"$f":"N18","v":2122},{"$f":"COUNTIF(L11:L14,Y18)","v":0},{"$f":"Z18/(AB4-Z20)","v":0},{"$f":"IF(AA18=0,0,(AA18*((LOG(AA18))/LOG(2))))","v":0},null,{"$f":"N18","v":2122},{"$f":"COUNTIF(L15:L19,AD18)","v":0},{"$f":"AE18/(AG4-AE20)","v":0},{"$f":"IF(AF18=0,0,(AF18*((LOG(AF18))/LOG(2))))","v":0},null,{"$f":"N18","v":2122},{"$f":"COUNTIF(L20:L23,AI18)","v":0},{"$f":"AJ18/(AL4-AJ20)","v":0},{"$f":"IF(AK18=0,0,(AK18*((LOG(AK18))/LOG(2))))","v":0},null,{"$f":"N18","v":2122},{"$f":"COUNTIF(L24:L27,AN18)","v":0},{"$f":"AO18/(AQ4-AO20)","v":0},{"$f":"IF(AP18=0,0,(AP18*((LOG(AP18))/LOG(2))))","v":0},null,{"$f":"N18","v":2122},{"$f":"COUNTIF(L28:L31,AS18)","v":0},{"$f":"AT18/(AV4-AT20)","v":0},{"$f":"IF(AU18=0,0,(AU18*((LOG(AU18))/LOG(2))))","v":0}]
[21,1643,21,1647,22,1653,23,1658,null,null,0,2222,null,2211,{"$f":"COUNTIF($L$7:$L$500,N19)","v":0},{"$f":"O19/$Q$4","v":0},{"$f":"IF(P19=0,0,(P19*((LOG(P19))/LOG(2))))","v":0},null,null,{"$f":"N19","v":2211},{"$f":"COUNTIF(L7:L10,T19)","v":0},{"$f":"U19/(W4-U20)","v":0},{"$f":"IF(V19=0,0,(V19*((LOG(V19))/LOG(2))))","v":0},null,{"$f":"N19","v":2211},{"$f":"COUNTIF(L11:L14,Y19)","v":0},{"$f":"Z19/(AB4-Z20)","v":0},{"$f":"IF(AA19=0,0,(AA19*((LOG(AA19))/LOG(2))))","v":0},null,{"$f":"N19","v":2211},{"$f":"COUNTIF(L15:L19,AD19)","v":0},{"$f":"AE19/(AG4-AE20)","v":0},{"$f":"IF(AF19=0,0,(AF19*((LOG(AF19))/LOG(2))))","v":0},null,{"$f":"N19","v":2211},{"$f":"COUNTIF(L20:L23,AI19)","v":0},{"$f":"AJ19/(AL4-AJ20)","v":0},{"$f":"IF(AK19=0,0,(AK19*((LOG(AK19))/LOG(2))))","v":0},null,{"$f":"N19","v":2211},{"$f":"COUNTIF(L24:L27,AN19)","v":0},{"$f":"AO19/(AQ4-AO20)","v":0},{"$f":"IF(AP19=0,0,(AP19*((LOG(AP19))/LOG(2))))","v":0},null,{"$f":"N19","v":2211},{"$f":"COUNTIF(L28:L31,AS19)","v":0},{"$f":"AT19/(AV4-AT20)","v":0},{"$f":"IF(AU19=0,0,(AU19*((LOG(AU19))/LOG(2))))","v":0}]
[12,1790,14,1801,13,1831,14,1837,null,null,0,1111,null,2212,{"$f":"COUNTIF($L$7:$L$500,N20)","v":0},{"$f":"O20/$Q$4","v":0},{"$f":"IF(P20=0,0,(P20*((LOG(P20))/LOG(2))))","v":0},null,null,{"$f":"N20","v":2212},{"$f":"COUNTIF(L7:L10,T20)","v":0},null,null,null,{"$f":"N20","v":2212},{"$f":"COUNTIF(L11:L14,Y20)","v":0},null,null,null,{"$f":"N20","v":2212},{"$f":"COUNTIF(L15:L19,AD20)","v":0},null,null,null,{"$f":"N20","v":2212},{"$f":"COUNTIF(L20:L23,AI20)","v":0},null,null,null,{"$f":"N20","v":2212},{"$f":"COUNTIF(L24:L27,AN20)","v":0},null,null,null,{"$f":"N20","v":2212},{"$f":"COUNTIF(L28:L31,AS20)","v":0}]
[12,1951,14,1961,13,1974,14,1993,null,null,0,1111,null,2221,{"$f":"COUNTIF($L$7:$L$500,N21)","v":0},{"$f":"O21/$Q$4","v":0},{"$f":"IF(P21=0,0,(P21*((LOG(P21))/LOG(2))))","v":0},null,null,{"$f":"N21","v":2221},{"$f":"COUNTIF(L7:L10,T21)","v":0},{"$f":"U21/(W4-U20)","v":0},{"$f":"IF(V21=0,0,(V21*((LOG(V21))/LOG(2))))","v":0},null,{"$f":"N21","v":2221},{"$f":"COUNTIF(L11:L14,Y21)","v":0},{"$f":"Z21/(AB4-Z20)","v":0},{"$f":"IF(AA21=0,0,(AA21*((LOG(AA21))/LOG(2))))","v":0},null,{"$f":"N21","v":2221},{"$f":"COUNTIF(L15:L19,AD21)","v":0},{"$f":"AE21/(AG4-AE20)","v":0},{"$f":"IF(AF21=0,0,(AF21*((LOG(AF21))/LOG(2))))","v":0},null,{"$f":"N21","v":2221},{"$f":"COUNTIF(L20:L23,AI21)","v":0},{"$f":"AJ21/(AL4-AJ20)","v":0},{"$f":"IF(AK21=0,0,(AK21*((LOG(AK21))/LOG(2))))","v":0},null,{"$f":"N21","v":2221},{"$f":"COUNTIF(L24:L27,AN21)","v":0},{"$f":"AO21/(AQ4-AO20)","v":0},{"$f":"IF(AP21=0,0,(AP21*((LOG(AP21))/LOG(2))))","v":0},null,{"$f":"N21","v":2221},{"$f":"COUNTIF(L28:L31,AS21)","v":0},{"$f":"AT21/(AV4-AT20)","v":0},{"$f":"IF(AU21=0,0,(AU21*((LOG(AU21))/LOG(2))))","v":0}]
[21,14853,21,14863,22,14872,23,14881,null,null,0,2222,null,2222,{"$f":"COUNTIF($L$7:$L$500,N22)","v":5},{"$f":"O22/$Q$4","v":0.2},{"$f":"IF(P22=0,0,(P22*((LOG(P22))/LOG(2))))","v":-0.46438561897747244},null,null,{"$f":"N22","v":2222},{"$f":"COUNTIF(L7:L10,T22)","v":0},{"$f":"U22/(W4-U20)","v":0},{"$f":"IF(V22=0,0,(V22*((LOG(V22))/LOG(2))))","v":0},null,{"$f":"N22","v":2222},{"$f":"COUNTIF(L11:L14,Y22)","v":0},{"$f":"Z22/(AB4-Z20)","v":0},{"$f":"IF(AA22=0,0,(AA22*((LOG(AA22))/LOG(2))))","v":0},null,{"$f":"N22","v":2222},{"$f":"COUNTIF(L15:L19,AD22)","v":1},{"$f":"AE22/(AG4-AE20)","v":0.2},{"$f":"IF(AF22=0,0,(AF22*((LOG(AF22))/LOG(2))))","v":-0.46438561897747244},null,{"$f":"N22","v":2222},{"$f":"COUNTIF(L20:L23,AI22)","v":1},{"$f":"AJ22/(AL4-AJ20)","v":0.25},{"$f":"IF(AK22=0,0,(AK22*((LOG(AK22))/LOG(2))))","v":-0.5},null,{"$f":"N22","v":2222},{"$f":"COUNTIF(L24:L27,AN22)","v":0},{"$f":"AO22/(AQ4-AO20)","v":0},{"$f":"IF(AP22=0,0,(AP22*((LOG(AP22))/LOG(2))))","v":0},null,{"$f":"N22","v":2222},{"$f":"COUNTIF(L28:L31,AS22)","v":3},{"$f":"AT22/(AV4-AT20)","v":0.75},{"$f":"IF(AU22=0,0,(AU22*((LOG(AU22))/LOG(2))))","v":-0.31127812445913283}]
[12,15457,14,15468,24,15489,23,15495,null,null,0,1122,null,null,null,{"$f":"SUM(P7:P22)","v":1},{"$f":"-SUM(Q7:Q22)","v":2.0671251585103025},null,null,null,null,{"$f":"SUM(V7:V22)","v":1},{"$f":"-SUM(W7:W22)","v":1.5},null,null,null,{"$f":"SUM(AA7:AA22)","v":1},{"$f":"-SUM(AB7:AB22)","v":0},null,null,null,{"$f":"SUM(AF7:AF22)","v":1},{"$f":"-SUM(AG7:AG22)","v":1.3709505944546687},null,null,null,{"$f":"SUM(AK7:AK22)","v":1},{"$f":"-SUM(AL7:AL22)","v":1.5},null,null,null,{"$f":"SUM(AP7:AP22)","v":1},{"$f":"-SUM(AQ7:AQ22)","v":1.5},null,null,null,{"$f":"SUM(AU7:AU22)","v":1},{"$f":"-SUM(AV7:AV22)","v":0.81127812445913283}]
[12,15610,14,15621,13,15640,23,15654,null,null,0,1112,null,null,null,"U=",{"$f":"Q23/(LOG(Q4)/LOG(2))","v":0.44513117418706699},null,null,null,null,"U1=",{"$f":"W23/(LOG(W4)/LOG(2))","v":0.75},null,null,null,"U2=",{"$f":"AB23/(LOG(AB4)/LOG(2))","v":0},null,null,null,"U3=",{"$f":"AG23/(LOG(AG4)/LOG(2))","v":0.5904362833084088},null,null,null,"U4=",{"$f":"AL23/(LOG(AL4)/LOG(2))","v":0.75},null,null,null,"U5=",{"$f":"AQ23/(LOG(AQ4)/LOG(2))","v":0.75},null,null,null,"U6=",{"$f":"AV23/(LOG(AV4)/LOG(2))","v":0.40563906222956642}]
[12,15766,14,15774,24,15805,23,15814,null,null,0,1122]
[12,15930,14,15940,24,15966,23,15972,null,null,0,1122]
[12,16181,23,16207,24,16214,23,16220,null,null,0,1222,null,"Total Target Seq"]
[12,16372,14,16380,13,16392,14,16399,null,null,0,1111,null,{"$f":"COUNTIF(L7:L31,G3)","v":0},null,4,4,5,4,4,4]
[21,16611,21,16630,22,16637,23,16646,null,null,0,2222,null,null,null,"% of reinforcement given in 6 equal intervals based on number of trials "]
[21,20805,21,20814,22,20837,23,20851,null,null,0,2222,null,null,null,"%_1","%_2","%_3","%_4","%_5","%_6"]
[21,20994,21,21002,22,21010,23,21016,null,null,0,2222,null,null,"target sequence",{"$f":"$G$3","v":2212},{"$f":"$G$3","v":2212},{"$f":"$G$3","v":2212},{"$f":"$G$3","v":2212},{"$f":"$G$3","v":2212},{"$f":"$G$3","v":2212}]
[null,null,null,null,null,null,null,null,null,null,null,null,null,null,"total reinforcement",{"$f":"U20","v":0},{"$f":"Z20","v":0},{"$f":"AE20","v":0},{"$f":"AJ20","v":0},{"$f":"AO20","v":0},{"$f":"AT20","v":0}]
[null,null,null,null,null,null,null,null,null,null,null,null,null,null,"% target"]
[null,null,null,null,null,null,null,null,null,null,null,null,null,null,"CCRF"]
[null,null,null,null,null,null,null,null,null,null,null,null,null,null,"% CCRf"]
[null,null,null,null,null,null,null,null,null,null,null,null,null,null,"average response rate",{"$f":"H10/P28","v":123.25},{"$f":"(H14-H10)/Q28","v":132.75},{"$f":"(H19-H14)/R28","v":126.8},{"$f":"(H23-H19)/S28","v":3459.25},{"$f":"(H27-H23)/T28","v":181.25},{"$f":"(H31-H27)/U28","v":1199}]

{"sheet":"!M907940.102","index":11,"n_rows":36,"n_cols":48,"rows_kept":36,"cut":false,"hidden":false,"merged":[[4,39,4,42],[5,39,5,40],[4,44,4,47],[5,44,5,45],[4,24,4,27],[5,24,5,25],[4,29,4,32],[5,29,5,30],[4,34,4,37],[5,34,5,35],[1,1,1,2],[5,13,5,14],[26,13,26,14],[27,13,27,14],[4,19,4,22],[5,19,5,20]]}
["Report for:!M907940.102"]
["Date:","<date>"]
["Hen:","<hen>",null,null,null,"Correct Sequence",{"$f":"Start!J2","v":2212},null,null,null,null,null,null,null,null,"Total Sequences in Data",{"$f":"4994-COUNTBLANK(L7:L5000)","v":18},null,null,null,null,"Total Sequences in Block Data",{"$f":"COUNTA(L7:L9)","v":3},null,null,null,"Total Sequences in Block Data",{"$f":"COUNTA(L10:L12)","v":3},null,null,null,"Total Sequences in Block Data",{"$f":"COUNTA(L13:L15)","v":3},null,null,null,"Total Sequences in Block Data",{"$f":"COUNTA(L16:L18)","v":3},null,null,null,"Total Sequences in Block Data",{"$f":"COUNTA(L19:L21)","v":3},null,null,null,"Total Sequences in Block Data",{"$f":"COUNTA(L22:L24)","v":3}]
[null,null,null,null,null,null,null,null,null,null,null,null,null,null,null,"Total Sequences in Summary",{"$f":"SUM(O7:O22)","v":18},null,null,null,null,"Total Sequences in Block Summary",{"$f":"SUM(U7:U22)","v":3},null,null,null,"Total Sequences in Block Summary",{"$f":"SUM(Z7:Z22)","v":3},null,null,null,"Total Sequences in Block Summary",{"$f":"SUM(AE7:AE22)","v":3},null,null,null,"Total Sequences in Block Summary",{"$f":"SUM(AJ7:AJ22)","v":3},null,null,null,"Total Sequences in Block Summary",{"$f":"SUM(AO7:AO22)","v":3},null,null,null,"Total Sequences in Block Summary",{"$f":"SUM(AT7:AT22)","v":3}]
[null,null,null,null,null,null,null,null,null,null,null,null,null,null,null,null,null,null,null,"Block 1",null,null,null,null,"Block 2",null,null,null,null,"Block 3",null,null,null,null,"Block 4",null,null,null,null,"Block 5",null,null,null,null,"Block 6"]
["Sequence\nComponent\n1","Time\n1","Sequence\nComponent\n2","Time\n2","Sequence\nComponent\n3","Time\n3","Sequence\nComponent\n4","Time\n4","Sequence\nComponent\n5","Time\n5","Correct?\n0=No 1=Yes","Sequence",null,"Frequency",null,"Relative Frequency","Variability",null,null,"Frequency",null,"Relative Frequency","Variability",null,"Frequency",null,"Relative Frequency","Variability",null,"Frequency",null,"Relative Frequency","Variability",null,"Frequency",null,"Relative Frequency","Variability",null,"Frequency",null,"Relative Frequency","Variability",null,"Frequency",null,"Relative Frequency","Variability"]
[12,39,14,80,13,86,14,97,null,null,0,1111,null,1111,{"$f":"COUNTIF($L$7:$L$500,N7)","v":13},{"$f":"O7/$Q$4","v":0.72222222222222221},{"$f":"IF(P7=0,0,(P7*((LOG(P7))/LOG(2))))","v":-0.33907270460643685},null,null,{"$f":"N7","v":1111},{"$f":"COUNTIF(L7:L9,T7)","v":3},{"$f":"U7/(W4-U20)","v":1},{"$f":"IF(V7=0,0,(V7*((LOG(V7))/LOG(2))))","v":0},null,{"$f":"N7","v":1111},{"$f":"COUNTIF(L10:L12,Y7)","v":2},{"$f":"Z7/(AB4-Z20)","v":0.66666666666666663},{"$f":"IF(AA7=0,0,(AA7*((LOG(AA7))/LOG(2))))","v":-0.38997500048077083},null,{"$f":"N7","v":1111},{"$f":"COUNTIF(L13:L15,AD7)","v":3},{"$f":"AE7/(AG4-AE20)","v":1},{"$f":"IF(AF7=0,0,(AF7*((LOG(AF7))/LOG(2))))","v":0},null,{"$f":"N7","v":1111},{"$f":"COUNTIF(L16:L18,AI7)","v":3},{"$f":"AJ7/(AL4-AJ20)","v":1},{"$f":"IF(AK7=0,0,(AK7*((LOG(AK7))/LOG(2))))","v":0},null,{"$f":"N7","v":1111},{"$f":"COUNTIF(L19:L21,AN7)","v":1},{"$f":"AO7/(AQ4-AO20)","v":0.33333333333333331},{"$f":"IF(AP7=0,0,(AP7*((LOG(AP7))/LOG(2))))","v":-0.52832083357371862},null,{"$f":"N7","v":1111},{"$f":"COUNTIF(L22:L24,AS7)","v":1},{"$f":"AT7/(AV4-AT20)","v":0.33333333333333331},{"$f":"IF(AU7=0,0,(AU7*((LOG(AU7))/LOG(2))))","v":-0.52832083357371862}]
[12,194,14,200,13,221,14,228,null,null,0,1111,null,1112,{"$f":"COUNTIF($L$7:$L$500,N8)","v":0},{"$f":"O8/$Q$4","v":0},{"$f":"IF(P8=0,0,(P8*((LOG(P8))/LOG(2))))","v":0},null,null,{"$f":"N8","v":1112},{"$f":"COUNTIF(L7:L9,T8)","v":0},{"$f":"U8/(W4-U20)","v":0},{"$f":"IF(V8=0,0,(V8*((LOG(V8))/LOG(2))))","v":0},null,{"$f":"N8","v":1112},{"$f":"COUNTIF(L10:L12,Y8)","v":0},{"$f":"Z8/(AB4-Z20)","v":0},{"$f":"IF(AA8=0,0,(AA8*((LOG(AA8))/LOG(2))))","v":0},null,{"$f":"N8","v":1112},{"$f":"COUNTIF(L13:L15,AD8)","v":0},{"$f":"AE8/(AG4-AE20)","v":0},{"$f":"IF(AF8=0,0,(AF8*((LOG(AF8))/LOG(2))))","v":0},null,{"$f":"N8","v":1112},{"$f":"COUNTIF(L16:L18,AI8)","v":0},{"$f":"AJ8/(AL4-AJ20)","v":0},{"$f":"IF(AK8=0,0,(AK8*((LOG(AK8))/LOG(2))))","v":0},null,{"$f":"N8","v":1112},{"$f":"COUNTIF(L19:L21,AN8)","v":0},{"$f":"AO8/(AQ4-AO20)","v":0},{"$f":"IF(AP8=0,0,(AP8*((LOG(AP8))/LOG(2))))","v":0},null,{"$f":"N8","v":1112},{"$f":"COUNTIF(L22:L24,AS8)","v":0},{"$f":"AT8/(AV4-AT20)","v":0},{"$f":"IF(AU8=0,0,(AU8*((LOG(AU8))/LOG(2))))","v":0}]
[12,327,14,339,13,375,14,385,null,null,0,1111,null,1121,{"$f":"COUNTIF($L$7:$L$500,N9)","v":0},{"$f":"O9/$Q$4","v":0},{"$f":"IF(P9=0,0,(P9*((LOG(P9))/LOG(2))))","v":0},null,null,{"$f":"N9","v":1121},{"$f":"COUNTIF(L7:L9,T9)","v":0},{"$f":"U9/(W4-U20)","v":0},{"$f":"IF(V9=0,0,(V9*((LOG(V9))/LOG(2))))","v":0},null,{"$f":"N9","v":1121},{"$f":"COUNTIF(L10:L12,Y9)","v":0},{"$f":"Z9/(AB4-Z20)","v":0},{"$f":"IF(AA9=0,0,(AA9*((LOG(AA9))/LOG(2))))","v":0},null,{"$f":"N9","v":1121},{"$f":"COUNTIF(L13:L15,AD9)","v":0},{"$f":"AE9/(AG4-AE20)","v":0},{"$f":"IF(AF9=0,0,(AF9*((LOG(AF9))/LOG(2))))","v":0},null,{"$f":"N9","v":1121},{"$f":"COUNTIF(L16:L18,AI9)","v":0},{"$f":"AJ9/(AL4-AJ20)","v":0},{"$f":"IF(AK9=0,0,(AK9*((LOG(AK9))/LOG(2))))","v":0},null,{"$f":"N9","v":1121},{"$f":"COUNTIF(L19:L21,AN9)","v":0},{"$f":"AO9/(AQ4-AO20)","v":0},{"$f":"IF(AP9=0,0,(AP9*((LOG(AP9))/LOG(2))))","v":0},null,{"$f":"N9","v":1121},{"$f":"COUNTIF(L22:L24,AS9)","v":0},{"$f":"AT9/(AV4-AT20)","v":0},{"$f":"IF(AU9=0,0,(AU9*((LOG(AU9))/LOG(2))))","v":0}]
[12,488,14,494,13,502,14,510,null,null,0,1111,null,1122,{"$f":"COUNTIF($L$7:$L$500,N10)","v":2},{"$f":"O10/$Q$4","v":0.1111111111111111},{"$f":"IF(P10=0,0,(P10*((LOG(P10))/LOG(2))))","v":-0.3522138890491458},null,null,{"$f":"N10","v":1122},{"$f":"COUNTIF(L7:L9,T10)","v":0},{"$f":"U10/(W4-U20)","v":0},{"$f":"IF(V10=0,0,(V10*((LOG(V10))/LOG(2))))","v":0},null,{"$f":"N10","v":1122},{"$f":"COUNTIF(L10:L12,Y10)","v":1},{"$f":"Z10/(AB4-Z20)","v":0.33333333333333331},{"$f":"IF(AA10=0,0,(AA10*((LOG(AA10))/LOG(2))))","v":-0.52832083357371862},null,{"$f":"N10","v":1122},{"$f":"COUNTIF(L13:L15,AD10)","v":0},{"$f":"AE10/(AG4-AE20)","v":0},{"$f":"IF(AF10=0,0,(AF10*((LOG(AF10))/LOG(2))))","v":0},null,{"$f":"N10","v":1122},{"$f":"COUNTIF(L16:L18,AI10)","v":0},{"$f":"AJ10/(AL4-AJ20)","v":0},{"$f":"IF(AK10=0,0,(AK10*((LOG(AK10))/LOG(2))))","v":0},null,{"$f":"N10","v":1122},{"$f":"COUNTIF(L19:L21,AN10)","v":0},{"$f":"AO10/(AQ4-AO20)","v":0},{"$f":"IF(AP10=0,0,(AP10*((LOG(AP10))/LOG(2))))","v":0},null,{"$f":"N10","v":1122},{"$f":"COUNTIF(L22:L24,AS10)","v":1},{"$f":"AT10/(AV4-AT20)","v":0.33333333333333331},{"$f":"IF(AU10=0,0,(AU10*((LOG(AU10))/LOG(2))))","v":-0.52832083357371862}]
[12,614,14,623,13,632,14,641,null,null,0,1111,null,1211,{"$f":"COUNTIF($L$7:$L$500,N11)","v":0},{"$f":"O11/$Q$4","v":0},{"$f":"IF(P11=0,0,(P11*((LOG(P11))/LOG(2))))","v":0},null,null,{"$f":"N11","v":1211},{"$f":"COUNTIF(L7:L9,T11)","v":0},{"$f":"U11/(W4-U20)","v":0},{"$f":"IF(V11=0,0,(V11*((LOG(V11))/LOG(2))))","v":0},null,{"$f":"N11","v":1211},{"$f":"COUNTIF(L10:L12,Y11)","v":0},{"$f":"Z11/(AB4-Z20)","v":0},{"$f":"IF(AA11=0,0,(AA11*((LOG(AA11))/LOG(2))))","v":0},null,{"$f":"N11","v":1211},{"$f":"COUNTIF(L13:L15,AD11)","v":0},{"$f":"AE11/(AG4-AE20)","v":0},{"$f":"IF(AF11=0,0,(AF11*((LOG(AF11))/LOG(2))))","v":0},null,{"$f":"N11","v":1211},{"$f":"COUNTIF(L16:L18,AI11)","v":0},{"$f":"AJ11/(AL4-AJ20)","v":0},{"$f":"IF(AK11=0,0,(AK11*((LOG(AK11))/LOG(2))))","v":0},null,{"$f":"N11","v":1211},{"$f":"COUNTIF(L19:L21,AN11)","v":0},{"$f":"AO11/(AQ4-AO20)","v":0},{"$f":"IF(AP11=0,0,(AP11*((LOG(AP11))/LOG(2))))","v":0},null,{"$f":"N11","v":1211},{"$f":"COUNTIF(L22:L24,AS11)","v":0},{"$f":"AT11/(AV4-AT20)","v":0},{"$f":"IF(AU11=0,0,(AU11*((LOG(AU11))/LOG(2))))","v":0}]
[12,753,14,763,24,789,23,797,null,null,0,1122,null,1212,{"$f":"COUNTIF($L$7:$L$500,N12)","v":0},{"$f":"O12/$Q$4","v":0},{"$f":"IF(P12=0,0,(P12*((LOG(P12))/LOG(2))))","v":0},null,null,{"$f":"N12","v":1212},{"$f":"COUNTIF(L7:L9,T12)","v":0},{"$f":"U12/(W4-U20)","v":0},{"$f":"IF(V12=0,0,(V12*((LOG(V12))/LOG(2))))","v":0},null,{"$f":"N12","v":1212},{"$f":"COUNTIF(L10:L12,Y12)","v":0},{"$f":"Z12/(AB4-Z20)","v":0},{"$f":"IF(AA12=0,0,(AA12*((LOG(AA12))/LOG(2))))","v":0},null,{"$f":"N12","v":1212},{"$f":"COUNTIF(L13:L15,AD12)","v":0},{"$f":"AE12/(AG4-AE20)","v":0},{"$f":"IF(AF12=0,0,(AF12*((LOG(AF12))/LOG(2))))","v":0},null,{"$f":"N12","v":1212},{"$f":"COUNTIF(L16:L18,AI12)","v":0},{"$f":"AJ12/(AL4-AJ20)","v":0},{"$f":"IF(AK12=0,0,(AK12*((LOG(AK12))/LOG(2))))","v":0},null,{"$f":"N12","v":1212},{"$f":"COUNTIF(L19:L21,AN12)","v":0},{"$f":"AO12/(AQ4-AO20)","v":0},{"$f":"IF(AP12=0,0,(AP12*((LOG(AP12))/LOG(2))))","v":0},null,{"$f":"N12","v":1212},{"$f":"COUNTIF(L22:L24,AS12)","v":0},{"$f":"AT12/(AV4-AT20)","v":0},{"$f":"IF(AU12=0,0,(AU12*((LOG(AU12))/LOG(2))))","v":0}]
[12,898,14,903,13,910,14,921,null,null,0,1111,null,1221,{"$f":"COUNTIF($L$7:$L$500,N13)","v":0},{"$f":"O13/$Q$4","v":0},{"$f":"IF(P13=0,0,(P13*((LOG(P13))/LOG(2))))","v":0},null,null,{"$f":"N13","v":1221},{"$f":"COUNTIF(L7:L9,T13)","v":0},{"$f":"U13/(W4-U20)","v":0},{"$f":"IF(V13=0,0,(V13*((LOG(V13))/LOG(2))))","v":0},null,{"$f":"N13","v":1221},{"$f":"COUNTIF(L10:L12,Y13)","v":0},{"$f":"Z13/(AB4-Z20)","v":0},{"$f":"IF(AA13=0,0,(AA13*((LOG(AA13))/LOG(2))))","v":0},null,{"$f":"N13","v":1221},{"$f":"COUNTIF(L13:L15,AD13)","v":0},{"$f":"AE13/(AG4-AE20)","v":0},{"$f":"IF(AF13=0,0,(AF13*((LOG(AF13))/LOG(2))))","v":0},null,{"$f":"N13","v":1221},{"$f":"COUNTIF(L16:L18,AI13)","v":0},{"$f":"AJ13/(AL4-AJ20)","v":0},{"$f":"IF(AK13=0,0,(AK13*((LOG(AK13))/LOG(2))))","v":0},null,{"$f":"N13","v":1221},{"$f":"COUNTIF(L19:L21,AN13)","v":0},{"$f":"AO13/(AQ4-AO20)","v":0},{"$f":"IF(AP13=0,0,(AP13*((LOG(AP13))/LOG(2))))","v":0},null,{"$f":"N13","v":1221},{"$f":"COUNTIF(L22:L24,AS13)","v":0},{"$f":"AT13/(AV4-AT20)","v":0},{"$f":"IF(AU13=0,0,(AU13*((LOG(AU13))/LOG(2))))","v":0}]
[12,1020,14,1026,13,1032,14,1039,null,null,0,1111,null,1222,{"$f":"COUNTIF($L$7:$L$500,N14)","v":0},{"$f":"O14/$Q$4","v":0},{"$f":"IF(P14=0,0,(P14*((LOG(P14))/LOG(2))))","v":0},null,null,{"$f":"N14","v":1222},{"$f":"COUNTIF(L7:L9,T14)","v":0},{"$f":"U14/(W4-U20)","v":0},{"$f":"IF(V14=0,0,(V14*((LOG(V14))/LOG(2))))","v":0},null,{"$f":"N14","v":1222},{"$f":"COUNTIF(L10:L12,Y14)","v":0},{"$f":"Z14/(AB4-Z20)","v":0},{"$f":"IF(AA14=0,0,(AA14*((LOG(AA14))/LOG(2))))","v":0},null,{"$f":"N14","v":1222},{"$f":"COUNTIF(L13:L15,AD14)","v":0},{"$f":"AE14/(AG4-AE20)","v":0},{"$f":"IF(AF14=0,0,(AF14*((LOG(AF14))/LOG(2))))","v":0},null,{"$f":"N14","v":1222},{"$f":"COUNTIF(L16:L18,AI14)","v":0},{"$f":"AJ14/(AL4-AJ20)","v":0},{"$f":"IF(AK14=0,0,(AK14*((LOG(AK14))/LOG(2))))","v":0},null,{"$f":"N14","v":1222},{"$f":"COUNTIF(L19:L21,AN14)","v":0},{"$f":"AO14/(AQ4-AO20)","v":0},{"$f":"IF(AP14=0,0,(AP14*((LOG(AP14))/LOG(2))))","v":0},null,{"$f":"N14","v":1222},{"$f":"COUNTIF(L22:L24,AS14)","v":0},{"$f":"AT14/(AV4-AT20)","v":0},{"$f":"IF(AU14=0,0,(AU14*((LOG(AU14))/LOG(2))))","v":0}]
[12,1141,14,1147,13,1153,14,1163,null,null,0,1111,null,2111,{"$f":"COUNTIF($L$7:$L$500,N15)","v":0},{"$f":"O15/$Q$4","v":0},{"$f":"IF(P15=0,0,(P15*((LOG(P15))/LOG(2))))","v":0},null,null,{"$f":"N15","v":2111},{"$f":"COUNTIF(L7:L9,T15)","v":0},{"$f":"U15/(W4-U20)","v":0},{"$f":"IF(V15=0,0,(V15*((LOG(V15))/LOG(2))))","v":0},null,{"$f":"N15","v":2111},{"$f":"COUNTIF(L10:L12,Y15)","v":0},{"$f":"Z15/(AB4-Z20)","v":0},{"$f":"IF(AA15=0,0,(AA15*((LOG(AA15))/LOG(2))))","v":0},null,{"$f":"N15","v":2111},{"$f":"COUNTIF(L13:L15,AD15)","v":0},{"$f":"AE15/(AG4-AE20)","v":0},{"$f":"IF(AF15=0,0,(AF15*((LOG(AF15))/LOG(2))))","v":0},null,{"$f":"N15","v":2111},{"$f":"COUNTIF(L16:L18,AI15)","v":0},{"$f":"AJ15/(AL4-AJ20)","v":0},{"$f":"IF(AK15=0,0,(AK15*((LOG(AK15))/LOG(2))))","v":0},null,{"$f":"N15","v":2111},{"$f":"COUNTIF(L19:L21,AN15)","v":0},{"$f":"AO15/(AQ4-AO20)","v":0},{"$f":"IF(AP15=0,0,(AP15*((LOG(AP15))/LOG(2))))","v":0},null,{"$f":"N15","v":2111},{"$f":"COUNTIF(L22:L24,AS15)","v":0},{"$f":"AT15/(AV4-AT20)","v":0},{"$f":"IF(AU15=0,0,(AU15*((LOG(AU15))/LOG(2))))","v":0}]
[12,1284,14,1290,13,1296,14,1305,null,null,0,1111,null,2112,{"$f":"COUNTIF($L$7:$L$500,N16)","v":0},{"$f":"O16/$Q$4","v":0},{"$f":"IF(P16=0,0,(P16*((LOG(P16))/LOG(2))))","v":0},null,null,{"$f":"N16","v":2112},{"$f":"COUNTIF(L7:L9,T16)","v":0},{"$f":"U16/(W4-U20)","v":0},{"$f":"IF(V16=0,0,(V16*((LOG(V16))/LOG(2))))","v":0},null,{"$f":"N16","v":2112},{"$f":"COUNTIF(L10:L12,Y16)","v":0},{"$f":"Z16/(AB4-Z20)","v":0},{"$f":"IF(AA16=0,0,(AA16*((LOG(AA16))/LOG(2))))","v":0},null,{"$f":"N16","v":2112},{"$f":"COUNTIF(L13:L15,AD16)","v":0},{"$f":"AE16/(AG4-AE20)","v":0},{"$f":"IF(AF16=0,0,(AF16*((LOG(AF16))/LOG(2))))","v":0},null,{"$f":"N16","v":2112},{"$f":"COUNTIF(L16:L18,AI16)","v":0},{"$f":"AJ16/(AL4-AJ20)","v":0},{"$f":"IF(AK16=0,0,(AK16*((LOG(AK16))/LOG(2))))","v":0},null,{"$f":"N16","v":2112},{"$f":"COUNTIF(L19:L21,AN16)","v":0},{"$f":"AO16/(AQ4-AO20)","v":0},{"$f":"IF(AP16=0,0,(AP16*((LOG(AP16))/LOG(2))))","v":0},null,{"$f":"N16","v":2112},{"$f":"COUNTIF(L22:L24,AS16)","v":0},{"$f":"AT16/(AV4-AT20)","v":0},{"$f":"IF(AU16=0,0,(AU16*((LOG(AU16))/LOG(2))))","v":0}]
[12,1404,14,1409,13,1418,14,1429,null,null,0,1111,null,2121,{"$f":"COUNTIF($L$7:$L$500,N17)","v":0},{"$f":"O17/$Q$4","v":0},{"$f":"IF(P17=0,0,(P17*((LOG(P17))/LOG(2))))","v":0},null,null,{"$f":"N17","v":2121},{"$f":"COUNTIF(L7:L9,T17)","v":0},{"$f":"U17/(W4-U20)","v":0},{"$f":"IF(V17=0,0,(V17*((LOG(V17))/LOG(2))))","v":0},null,{"$f":"N17","v":2121},{"$f":"COUNTIF(L10:L12,Y17)","v":0},{"$f":"Z17/(AB4-Z20)","v":0},{"$f":"IF(AA17=0,0,(AA17*((LOG(AA17))/LOG(2))))","v":0},null,{"$f":"N17","v":2121},{"$f":"COUNTIF(L13:L15,AD17)","v":0},{"$f":"AE17/(AG4-AE20)","v":0},{"$f":"IF(AF17=0,0,(AF17*((LOG(AF17))/LOG(2))))","v":0},null,{"$f":"N17","v":2121},{"$f":"COUNTIF(L16:L18,AI17)","v":0},{"$f":"AJ17/(AL4-AJ20)","v":0},{"$f":"IF(AK17=0,0,(AK17*((LOG(AK17))/LOG(2))))","v":0},null,{"$f":"N17","v":2121},{"$f":"COUNTIF(L19:L21,AN17)","v":0},{"$f":"AO17/(AQ4-AO20)","v":0},{"$f":"IF(AP17=0,0,(AP17*((LOG(AP17))/LOG(2))))","v":0},null,{"$f":"N17","v":2121},{"$f":"COUNTIF(L22:L24,AS17)","v":0},{"$f":"AT17/(AV4-AT20)","v":0},{"$f":"IF(AU17=0,0,(AU17*((LOG(AU17))/LOG(2))))","v":0}]
[12,1541,14,1555,13,1562,14,1568,null,null,0,1111,null,2122,{"$f":"COUNTIF($L$7:$L$500,N18)","v":0},{"$f":"O18/$Q$4","v":0},{"$f":"IF(P18=0,0,(P18*((LOG(P18))/LOG(2))))","v":0},null,null,{"$f":"N18","v":2122},{"$f":"COUNTIF(L7:L9,T18)","v":0},{"$f":"U18/(W4-U20)","v":0},{"$f":"IF(V18=0,0,(V18*((LOG(V18))/LOG(2))))","v":0},null,{"$f":"N18","v":2122},{"$f":"COUNTIF(L10:L12,Y18)","v":0},{"$f":"Z18/(AB4-Z20)","v":0},{"$f":"IF(AA18=0,0,(AA18*((LOG(AA18))/LOG(2))))","v":0},null,{"$f":"N18","v":2122},{"$f":"COUNTIF(L13:L15,AD18)","v":0},{"$f":"AE18/(AG4-AE20)","v":0},{"$f":"IF(AF18=0,0,(AF18*((LOG(AF18))/LOG(2))))","v":0},null,{"$f":"N18","v":2122},{"$f":"COUNTIF(L16:L18,AI18)","v":0},{"$f":"AJ18/(AL4-AJ20)","v":0},{"$f":"IF(AK18=0,0,(AK18*((LOG(AK18))/LOG(2))))","v":0},null,{"$f":"N18","v":2122},{"$f":"COUNTIF(L19:L21,AN18)","v":0},{"$f":"AO18/(AQ4-AO20)","v":0},{"$f":"IF(AP18=0,0,(AP18*((LOG(AP18))/LOG(2))))","v":0},null,{"$f":"N18","v":2122},{"$f":"COUNTIF(L22:L24,AS18)","v":0},{"$f":"AT18/(AV4-AT20)","v":0},{"$f":"IF(AU18=0,0,(AU18*((LOG(AU18))/LOG(2))))","v":0}]
[12,1690,14,1699,13,1705,14,1716,null,null,0,1111,null,2211,{"$f":"COUNTIF($L$7:$L$500,N19)","v":0},{"$f":"O19/$Q$4","v":0},{"$f":"IF(P19=0,0,(P19*((LOG(P19))/LOG(2))))","v":0},null,null,{"$f":"N19","v":2211},{"$f":"COUNTIF(L7:L9,T19)","v":0},{"$f":"U19/(W4-U20)","v":0},{"$f":"IF(V19=0,0,(V19*((LOG(V19))/LOG(2))))","v":0},null,{"$f":"N19","v":2211},{"$f":"COUNTIF(L10:L12,Y19)","v":0},{"$f":"Z19/(AB4-Z20)","v":0},{"$f":"IF(AA19=0,0,(AA19*((LOG(AA19))/LOG(2))))","v":0},null,{"$f":"N19","v":2211},{"$f":"COUNTIF(L13:L15,AD19)","v":0},{"$f":"AE19/(AG4-AE20)","v":0},{"$f":"IF(AF19=0,0,(AF19*((LOG(AF19))/LOG(2))))","v":0},null,{"$f":"N19","v":2211},{"$f":"COUNTIF(L16:L18,AI19)","v":0},{"$f":"AJ19/(AL4-AJ20)","v":0},{"$f":"IF(AK19=0,0,(AK19*((LOG(AK19))/LOG(2))))","v":0},null,{"$f":"N19","v":2211},{"$f":"COUNTIF(L19:L21,AN19)","v":0},{"$f":"AO19/(AQ4-AO20)","v":0},{"$f":"IF(AP19=0,0,(AP19*((LOG(AP19))/LOG(2))))","v":0},null,{"$f":"N19","v":2211},{"$f":"COUNTIF(L22:L24,AS19)","v":0},{"$f":"AT19/(AV4-AT20)","v":0},{"$f":"IF(AU19=0,0,(AU19*((LOG(AU19))/LOG(2))))","v":0}]
[21,2269,21,2277,22,2286,23,2294,null,null,0,2222,null,2212,{"$f":"COUNTIF($L$7:$L$500,N20)","v":0},{"$f":"O20/$Q$4","v":0},{"$f":"IF(P20=0,0,(P20*((LOG(P20))/LOG(2))))","v":0},null,null,{"$f":"N20","v":2212},{"$f":"COUNTIF(L7:L9,T20)","v":0},null,null,null,{"$f":"N20","v":2212},{"$f":"COUNTIF(L10:L12,Y20)","v":0},null,null,null,{"$f":"N20","v":2212},{"$f":"COUNTIF(L13:L15,AD20)","v":0},null,null,null,{"$f":"N20","v":2212},{"$f":"COUNTIF(L16:L18,AI20)","v":0},null,null,null,{"$f":"N20","v":2212},{"$f":"COUNTIF(L19:L21,AN20)","v":0},null,null,null,{"$f":"N20","v":2212},{"$f":"COUNTIF(L22:L24,AS20)","v":0}]
[21,12490,21,12500,22,12506,23,12520,null,null,0,2222,null,2221,{"$f":"COUNTIF($L$7:$L$500,N21)","v":0},{"$f":"O21/$Q$4","v":0},{"$f":"IF(P21=0,0,(P21*((LOG(P21))/LOG(2))))","v":0},null,null,{"$f":"N21","v":2221},{"$f":"COUNTIF(L7:L9,T21)","v":0},{"$f":"U21/(W4-U20)","v":0},{"$f":"IF(V21=0,0,(V21*((LOG(V21))/LOG(2))))","v":0},null,{"$f":"N21","v":2221},{"$f":"COUNTIF(L10:L12,Y21)","v":0},{"$f":"Z21/(AB4-Z20)","v":0},{"$f":"IF(AA21=0,0,(AA21*((LOG(AA21))/LOG(2))))","v":0},null,{"$f":"N21","v":2221},{"$f":"COUNTIF(L13:L15,AD21)","v":0},{"$f":"AE21/(AG4-AE20)","v":0},{"$f":"IF(AF21=0,0,(AF21*((LOG(AF21))/LOG(2))))","v":0},null,{"$f":"N21","v":2221},{"$f":"COUNTIF(L16:L18,AI21)","v":0},{"$f":"AJ21/(AL4-AJ20)","v":0},{"$f":"IF(AK21=0,0,(AK21*((LOG(AK21))/LOG(2))))","v":0},null,{"$f":"N21","v":2221},{"$f":"COUNTIF(L19:L21,AN21)","v":0},{"$f":"AO21/(AQ4-AO20)","v":0},{"$f":"IF(AP21=0,0,(AP21*((LOG(AP21))/LOG(2))))","v":0},null,{"$f":"N21","v":2221},{"$f":"COUNTIF(L22:L24,AS21)","v":0},{"$f":"AT21/(AV4-AT20)","v":0},{"$f":"IF(AU21=0,0,(AU21*((LOG(AU21))/LOG(2))))","v":0}]
[12,12641,14,12652,13,12663,14,12676,null,null,0,1111,null,2222,{"$f":"COUNTIF($L$7:$L$500,N22)","v":3},{"$f":"O22/$Q$4","v":0.16666666666666666},{"$f":"IF(P22=0,0,(P22*((LOG(P22))/LOG(2))))","v":-0.43082708345352599},null,null,{"$f":"N22","v":2222},{"$f":"COUNTIF(L7:L9,T22)","v":0},{"$f":"U22/(W4-U20)","v":0},{"$f":"IF(V22=0,0,(V22*((LOG(V22))/LOG(2))))","v":0},null,{"$f":"N22","v":2222},{"$f":"COUNTIF(L10:L12,Y22)","v":0},{"$f":"Z22/(AB4-Z20)","v":0},{"$f":"IF(AA22=0,0,(AA22*((LOG(AA22))/LOG(2))))","v":0},null,{"$f":"N22","v":2222},{"$f":"COUNTIF(L13:L15,AD22)","v":0},{"$f":"AE22/(AG4-AE20)","v":0},{"$f":"IF(AF22=0,0,(AF22*((LOG(AF22))/LOG(2))))","v":0},null,{"$f":"N22","v":2222},{"$f":"COUNTIF(L16:L18,AI22)","v":0},{"$f":"AJ22/(AL4-AJ20)","v":0},{"$f":"IF(AK22=0,0,(AK22*((LOG(AK22))/LOG(2))))","v":0},null,{"$f":"N22","v":2222},{"$f":"COUNTIF(L19:L21,AN22)","v":2},{"$f":"AO22/(AQ4-AO20)","v":0.66666666666666663},{"$f":"IF(AP22=0,0,(AP22*((LOG(AP22))/LOG(2))))","v":-0.38997500048077083},null,{"$f":"N22","v":2222},{"$f":"COUNTIF(L22:L24,AS22)","v":1},{"$f":"AT22/(AV4-AT20)","v":0.33333333333333331},{"$f":"IF(AU22=0,0,(AU22*((LOG(AU22))/LOG(2))))","v":-0.52832083357371862}]
[21,21139,21,21147,22,21160,23,21165,null,null,0,2222,null,null,null,{"$f":"SUM(P7:P22)","v":0.99999999999999989},{"$f":"-SUM(Q7:Q22)","v":1.1221136771091087},null,null,null,null,{"$f":"SUM(V7:V22)","v":1},{"$f":"-SUM(W7:W22)","v":0},null,null,null,{"$f":"SUM(AA7:AA22)","v":1},{"$f":"-SUM(AB7:AB22)","v":0.91829583405448945},null,null,null,{"$f":"SUM(AF7:AF22)","v":1},{"$f":"-SUM(AG7:AG22)","v":0},null,null,null,{"$f":"SUM(AK7:AK22)","v":1},{"$f":"-SUM(AL7:AL22)","v":0},null,null,null,{"$f":"SUM(AP7:AP22)","v":1},{"$f":"-SUM(AQ7:AQ22)","v":0.91829583405448945},null,null,null,{"$f":"SUM(AU7:AU22)","v":1},{"$f":"-SUM(AV7:AV22)","v":1.5849625007211559}]
[12,21277,14,21288,24,21352,23,21359,null,null,0,1122,null,null,null,"U=",{"$f":"Q23/(LOG(Q4)/LOG(2))","v":0.26909684867737116},null,null,null,null,"U1=",{"$f":"W23/(LOG(W4)/LOG(2))","v":0},null,null,null,"U2=",{"$f":"AB23/(LOG(AB4)/LOG(2))","v":0.57938016428569505},null,null,null,"U3=",{"$f":"AG23/(LOG(AG4)/LOG(2))","v":0},null,null,null,"U4=",{"$f":"AL23/(LOG(AL4)/LOG(2))","v":0},null,null,null,"U5=",{"$f":"AQ23/(LOG(AQ4)/LOG(2))","v":0.57938016428569505},null,null,null,"U6=",{"$f":"AV23/(LOG(AV4)/LOG(2))","v":0.99999999999999989}]
[]
[]
[null,null,null,null,null,null,null,null,null,null,null,null,null,"Total Target Seq"]
[null,null,null,null,null,null,null,null,null,null,null,null,null,{"$f":"COUNTIF(L7:L24,G3)","v":0},null,3,3,3,3,3,3]
[null,null,null,null,null,null,null,null,null,null,null,null,null,null,null,"% of reinforcement given in 6 equal intervals based on number of trials "]
[null,null,null,null,null,null,null,null,null,null,null,null,null,null,null,"%_1","%_2","%_3","%_4","%_5","%_6"]
[null,null,null,null,null,null,null,null,null,null,null,null,null,null,"target sequence",{"$f":"$G$3","v":2212},{"$f":"$G$3","v":2212},{"$f":"$G$3","v":2212},{"$f":"$G$3","v":2212},{"$f":"$G$3","v":2212},{"$f":"$G$3","v":2212}]
[null,null,null,null,null,null,null,null,null,null,null,null,null,null,"total reinforcement",{"$f":"U20","v":0},{"$f":"Z20","v":0},{"$f":"AE20","v":0},{"$f":"AJ20","v":0},{"$f":"AO20","v":0},{"$f":"AT20","v":0}]
[null,null,null,null,null,null,null,null,null,null,null,null,null,null,"% target"]
[null,null,null,null,null,null,null,null,null,null,null,null,null,null,"CCRF"]
[null,null,null,null,null,null,null,null,null,null,null,null,null,null,"% CCRf"]
[null,null,null,null,null,null,null,null,null,null,null,null,null,null,"average response rate",{"$f":"H9/P28","v":128.33333333333334},{"$f":"(H12-H9)/Q28","v":137.33333333333334},{"$f":"(H15-H12)/R28","v":122},{"$f":"(H18-H15)/S28","v":135},{"$f":"(H21-H18)/T28","v":3650.6666666666665},{"$f":"(H24-H21)/U28","v":2946.3333333333335}]

{"sheet":"!M908900.102","index":12,"n_rows":36,"n_cols":48,"rows_kept":36,"cut":false,"hidden":false,"merged":[[4,39,4,42],[5,39,5,40],[4,44,4,47],[5,44,5,45],[4,24,4,27],[5,24,5,25],[4,29,4,32],[5,29,5,30],[4,34,4,37],[5,34,5,35],[1,1,1,2],[5,13,5,14],[26,13,26,14],[27,13,27,14],[4,19,4,22],[5,19,5,20]]}
["Report for:!M908900.102"]
["Date:","<date>"]
["Hen:","<hen>",null,null,null,"Correct Sequence",{"$f":"Start!J2","v":2212},null,null,null,null,null,null,null,null,"Total Sequences in Data",{"$f":"4994-COUNTBLANK(L7:L5000)","v":22},null,null,null,null,"Total Sequences in Block Data",{"$f":"COUNTA(L7:L10)","v":4},null,null,null,"Total Sequences in Block Data",{"$f":"COUNTA(L11:L13)","v":3},null,null,null,"Total Sequences in Block Data",{"$f":"COUNTA(L14:L17)","v":4},null,null,null,"Total Sequences in Block Data",{"$f":"COUNTA(L18:L21)","v":4},null,null,null,"Total Sequences in Block Data",{"$f":"COUNTA(L22:L24)","v":3},null,null,null,"Total Sequences in Block Data",{"$f":"COUNTA(L25:L28)","v":4}]
[null,null,null,null,null,null,null,null,null,null,null,null,null,null,null,"Total Sequences in Summary",{"$f":"SUM(O7:O22)","v":22},null,null,null,null,"Total Sequences in Block Summary",{"$f":"SUM(U7:U22)","v":4},null,null,null,"Total Sequences in Block Summary",{"$f":"SUM(Z7:Z22)","v":3},null,null,null,"Total Sequences in Block Summary",{"$f":"SUM(AE7:AE22)","v":4},null,null,null,"Total Sequences in Block Summary",{"$f":"SUM(AJ7:AJ22)","v":4},null,null,null,"Total Sequences in Block Summary",{"$f":"SUM(AO7:AO22)","v":3},null,null,null,"Total Sequences in Block Summary",{"$f":"SUM(AT7:AT22)","v":4}]
[null,null,null,null,null,null,null,null,null,null,null,null,null,null,null,null,null,null,null,"Block 1",null,null,null,null,"Block 2",null,null,null,null,"Block 3",null,null,null,null,"Block 4",null,null,null,null,"Block 5",null,null,null,null,"Block 6"]
["Sequence\nComponent\n1","Time\n1","Sequence\nComponent\n2","Time\n2","Sequence\nComponent\n3","Time\n3","Sequence\nComponent\n4","Time\n4","Sequence\nComponent\n5","Time\n5","Correct?\n0=No 1=Yes","Sequence",null,"Frequency",null,"Relative Frequency","Variability",null,null,"Frequency",null,"Relative Frequency","Variability",null,"Frequency",null,"Relative Frequency","Variability",null,"Frequency",null,"Relative Frequency","Variability",null,"Frequency",null,"Relative Frequency","Variability",null,"Frequency",null,"Relative Frequency","Variability",null,"Frequency",null,"Relative Frequency","Variability"]
[12,99,14,108,13,130,14,141,null,null,0,1111,null,1111,{"$f":"COUNTIF($L$7:$L$500,N7)","v":12},{"$f":"O7/$Q$4","v":0.54545454545454541},{"$f":"IF(P7=0,0,(P7*((LOG(P7))/LOG(2))))","v":-0.47698315522698609},null,null,{"$f":"N7","v":1111},{"$f":"COUNTIF(L7:L10,T7)","v":2},{"$f":"U7/(W4-U20)","v":0.5},{"$f":"IF(V7=0,0,(V7*((LOG(V7))/LOG(2))))","v":-0.5},null,{"$f":"N7","v":1111},{"$f":"COUNTIF(L11:L13,Y7)","v":1},{"$f":"Z7/(AB4-Z20)","v":0.33333333333333331},{"$f":"IF(AA7=0,0,(AA7*((LOG(AA7))/LOG(2))))","v":-0.52832083357371862},null,{"$f":"N7","v":1111},{"$f":"COUNTIF(L14:L17,AD7)","v":2},{"$f":"AE7/(AG4-AE20)","v":0.5},{"$f":"IF(AF7=0,0,(AF7*((LOG(AF7))/LOG(2))))","v":-0.5},null,{"$f":"N7","v":1111},{"$f":"COUNTIF(L18:L21,AI7)","v":3},{"$f":"AJ7/(AL4-AJ20)","v":0.75},{"$f":"IF(AK7=0,0,(AK7*((LOG(AK7))/LOG(2))))","v":-0.31127812445913283},null,{"$f":"N7","v":1111},{"$f":"COUNTIF(L22:L24,AN7)","v":2},{"$f":"AO7/(AQ4-AO20)","v":0.66666666666666663},{"$f":"IF(AP7=0,0,(AP7*((LOG(AP7))/LOG(2))))","v":-0.38997500048077083},null,{"$f":"N7","v":1111},{"$f":"COUNTIF(L25:L28,AS7)","v":2},{"$f":"AT7/(AV4-AT20)","v":0.5},{"$f":"IF(AU7=0,0,(AU7*((LOG(AU7))/LOG(2))))","v":-0.5}]
[12,244,14,252,13,258,14,267,null,null,0,1111,null,1112,{"$f":"COUNTIF($L$7:$L$500,N8)","v":6},{"$f":"O8/$Q$4","v":0.27272727272727271},{"$f":"IF(P8=0,0,(P8*((LOG(P8))/LOG(2))))","v":-0.51121885034076575},null,null,{"$f":"N8","v":1112},{"$f":"COUNTIF(L7:L10,T8)","v":1},{"$f":"U8/(W4-U20)","v":0.25},{"$f":"IF(V8=0,0,(V8*((LOG(V8))/LOG(2))))","v":-0.5},null,{"$f":"N8","v":1112},{"$f":"COUNTIF(L11:L13,Y8)","v":2},{"$f":"Z8/(AB4-Z20)","v":0.66666666666666663},{"$f":"IF(AA8=0,0,(AA8*((LOG(AA8))/LOG(2))))","v":-0.38997500048077083},null,{"$f":"N8","v":1112},{"$f":"COUNTIF(L14:L17,AD8)","v":2},{"$f":"AE8/(AG4-AE20)","v":0.5},{"$f":"IF(AF8=0,0,(AF8*((LOG(AF8))/LOG(2))))","v":-0.5},null,{"$f":"N8","v":1112},{"$f":"COUNTIF(L18:L21,AI8)","v":1},{"$f":"AJ8/(AL4-AJ20)","v":0.25},{"$f":"IF(AK8=0,0,(AK8*((LOG(AK8))/LOG(2))))","v":-0.5},null,{"$f":"N8","v":1112},{"$f":"COUNTIF(L22:L24,AN8)","v":0},{"$f":"AO8/(AQ4-AO20)","v":0},{"$f":"IF(AP8=0,0,(AP8*((LOG(AP8))/LOG(2))))","v":0},null,{"$f":"N8","v":1112},{"$f":"COUNTIF(L25:L28,AS8)","v":0},{"$f":"AT8/(AV4-AT20)","v":0},{"$f":"IF(AU8=0,0,(AU8*((LOG(AU8))/LOG(2))))","v":0}]
[21,430,21,439,22,448,23,453,null,null,0,2222,null,1121,{"$f":"COUNTIF($L$7:$L$500,N9)","v":0},{"$f":"O9/$Q$4","v":0},{"$f":"IF(P9=0,0,(P9*((LOG(P9))/LOG(2))))","v":0},null,null,{"$f":"N9","v":1121},{"$f":"COUNTIF(L7:L10,T9)","v":0},{"$f":"U9/(W4-U20)","v":0},{"$f":"IF(V9=0,0,(V9*((LOG(V9))/LOG(2))))","v":0},null,{"$f":"N9","v":1121},{"$f":"COUNTIF(L11:L13,Y9)","v":0},{"$f":"Z9/(AB4-Z20)","v":0},{"$f":"IF(AA9=0,0,(AA9*((LOG(AA9))/LOG(2))))","v":0},null,{"$f":"N9","v":1121},{"$f":"COUNTIF(L14:L17,AD9)","v":0},{"$f":"AE9/(AG4-AE20)","v":0},{"$f":"IF(AF9=0,0,(AF9*((LOG(AF9))/LOG(2))))","v":0},null,{"$f":"N9","v":1121},{"$f":"COUNTIF(L18:L21,AI9)","v":0},{"$f":"AJ9/(AL4-AJ20)","v":0},{"$f":"IF(AK9=0,0,(AK9*((LOG(AK9))/LOG(2))))","v":0},null,{"$f":"N9","v":1121},{"$f":"COUNTIF(L22:L24,AN9)","v":0},{"$f":"AO9/(AQ4-AO20)","v":0},{"$f":"IF(AP9=0,0,(AP9*((LOG(AP9))/LOG(2))))","v":0},null,{"$f":"N9","v":1121},{"$f":"COUNTIF(L25:L28,AS9)","v":0},{"$f":"AT9/(AV4-AT20)","v":0},{"$f":"IF(AU9=0,0,(AU9*((LOG(AU9))/LOG(2))))","v":0}]
[12,593,14,602,13,620,23,648,null,null,0,1112,null,1122,{"$f":"COUNTIF($L$7:$L$500,N10)","v":0},{"$f":"O10/$Q$4","v":0},{"$f":"IF(P10=0,0,(P10*((LOG(P10))/LOG(2))))","v":0},null,null,{"$f":"N10","v":1122},{"$f":"COUNTIF(L7:L10,T10)","v":0},{"$f":"U10/(W4-U20)","v":0},{"$f":"IF(V10=0,0,(V10*((LOG(V10))/LOG(2))))","v":0},null,{"$f":"N10","v":1122},{"$f":"COUNTIF(L11:L13,Y10)","v":0},{"$f":"Z10/(AB4-Z20)","v":0},{"$f":"IF(AA10=0,0,(AA10*((LOG(AA10))/LOG(2))))","v":0},null,{"$f":"N10","v":1122},{"$f":"COUNTIF(L14:L17,AD10)","v":0},{"$f":"AE10/(AG4-AE20)","v":0},{"$f":"IF(AF10=0,0,(AF10*((LOG(AF10))/LOG(2))))","v":0},null,{"$f":"N10","v":1122},{"$f":"COUNTIF(L18:L21,AI10)","v":0},{"$f":"AJ10/(AL4-AJ20)","v":0},{"$f":"IF(AK10=0,0,(AK10*((LOG(AK10))/LOG(2))))","v":0},null,{"$f":"N10","v":1122},{"$f":"COUNTIF(L22:L24,AN10)","v":0},{"$f":"AO10/(AQ4-AO20)","v":0},{"$f":"IF(AP10=0,0,(AP10*((LOG(AP10))/LOG(2))))","v":0},null,{"$f":"N10","v":1122},{"$f":"COUNTIF(L25:L28,AS10)","v":0},{"$f":"AT10/(AV4-AT20)","v":0},{"$f":"IF(AU10=0,0,(AU10*((LOG(AU10))/LOG(2))))","v":0}]
[12,746,14,756,13,769,23,794,null,null,0,1112,null,1211,{"$f":"COUNTIF($L$7:$L$500,N11)","v":0},{"$f":"O11/$Q$4","v":0},{"$f":"IF(P11=0,0,(P11*((LOG(P11))/LOG(2))))","v":0},null,null,{"$f":"N11","v":1211},{"$f":"COUNTIF(L7:L10,T11)","v":0},{"$f":"U11/(W4-U20)","v":0},{"$f":"IF(V11=0,0,(V11*((LOG(V11))/LOG(2))))","v":0},null,{"$f":"N11","v":1211},{"$f":"COUNTIF(L11:L13,Y11)","v":0},{"$f":"Z11/(AB4-Z20)","v":0},{"$f":"IF(AA11=0,0,(AA11*((LOG(AA11))/LOG(2))))","v":0},null,{"$f":"N11","v":1211},{"$f":"COUNTIF(L14:L17,AD11)","v":0},{"$f":"AE11/(AG4-AE20)","v":0},{"$f":"IF(AF11=0,0,(AF11*((LOG(AF11))/LOG(2))))","v":0},null,{"$f":"N11","v":1211},{"$f":"COUNTIF(L18:L21,AI11)","v":0},{"$f":"AJ11/(AL4-AJ20)","v":0},{"$f":"IF(AK11=0,0,(AK11*((LOG(AK11))/LOG(2))))","v":0},null,{"$f":"N11","v":1211},{"$f":"COUNTIF(L22:L24,AN11)","v":0},{"$f":"AO11/(AQ4-AO20)","v":0},{"$f":"IF(AP11=0,0,(AP11*((LOG(AP11))/LOG(2))))","v":0},null,{"$f":"N11","v":1211},{"$f":"COUNTIF(L25:L28,AS11)","v":0},{"$f":"AT11/(AV4-AT20)","v":0},{"$f":"IF(AU11=0,0,(AU11*((LOG(AU11))/LOG(2))))","v":0}]
[12,953,14,969,13,980,23,1001,null,null,0,1112,null,1212,{"$f":"COUNTIF($L$7:$L$500,N12)","v":0},{"$f":"O12/$Q$4","v":0},{"$f":"IF(P12=0,0,(P12*((LOG(P12))/LOG(2))))","v":0},null,null,{"$f":"N12","v":1212},{"$f":"COUNTIF(L7:L10,T12)","v":0},{"$f":"U12/(W4-U20)","v":0},{"$f":"IF(V12=0,0,(V12*((LOG(V12))/LOG(2))))","v":0},null,{"$f":"N12","v":1212},{"$f":"COUNTIF(L11:L13,Y12)","v":0},{"$f":"Z12/(AB4-Z20)","v":0},{"$f":"IF(AA12=0,0,(AA12*((LOG(AA12))/LOG(2))))","v":0},null,{"$f":"N12","v":1212},{"$f":"COUNTIF(L14:L17,AD12)","v":0},{"$f":"AE12/(AG4-AE20)","v":0},{"$f":"IF(AF12=0,0,(AF12*((LOG(AF12))/LOG(2))))","v":0},null,{"$f":"N12","v":1212},{"$f":"COUNTIF(L18:L21,AI12)","v":0},{"$f":"AJ12/(AL4-AJ20)","v":0},{"$f":"IF(AK12=0,0,(AK12*((LOG(AK12))/LOG(2))))","v":0},null,{"$f":"N12","v":1212},{"$f":"COUNTIF(L22:L24,AN12)","v":0},{"$f":"AO12/(AQ4-AO20)","v":0},{"$f":"IF(AP12=0,0,(AP12*((LOG(AP12))/LOG(2))))","v":0},null,{"$f":"N12","v":1212},{"$f":"COUNTIF(L25:L28,AS12)","v":0},{"$f":"AT12/(AV4-AT20)","v":0},{"$f":"IF(AU12=0,0,(AU12*((LOG(AU12))/LOG(2))))","v":0}]
[12,1100,14,1110,13,1123,14,1138,null,null,0,1111,null,1221,{"$f":"COUNTIF($L$7:$L$500,N13)","v":0},{"$f":"O13/$Q$4","v":0},{"$f":"IF(P13=0,0,(P13*((LOG(P13))/LOG(2))))","v":0},null,null,{"$f":"N13","v":1221},{"$f":"COUNTIF(L7:L10,T13)","v":0},{"$f":"U13/(W4-U20)","v":0},{"$f":"IF(V13=0,0,(V13*((LOG(V13))/LOG(2))))","v":0},null,{"$f":"N13","v":1221},{"$f":"COUNTIF(L11:L13,Y13)","v":0},{"$f":"Z13/(AB4-Z20)","v":0},{"$f":"IF(AA13=0,0,(AA13*((LOG(AA13))/LOG(2))))","v":0},null,{"$f":"N13","v":1221},{"$f":"COUNTIF(L14:L17,AD13)","v":0},{"$f":"AE13/(AG4-AE20)","v":0},{"$f":"IF(AF13=0,0,(AF13*((LOG(AF13))/LOG(2))))","v":0},null,{"$f":"N13","v":1221},{"$f":"COUNTIF(L18:L21,AI13)","v":0},{"$f":"AJ13/(AL4-AJ20)","v":0},{"$f":"IF(AK13=0,0,(AK13*((LOG(AK13))/LOG(2))))","v":0},null,{"$f":"N13","v":1221},{"$f":"COUNTIF(L22:L24,AN13)","v":0},{"$f":"AO13/(AQ4-AO20)","v":0},{"$f":"IF(AP13=0,0,(AP13*((LOG(AP13))/LOG(2))))","v":0},null,{"$f":"N13","v":1221},{"$f":"COUNTIF(L25:L28,AS13)","v":0},{"$f":"AT13/(AV4-AT20)","v":0},{"$f":"IF(AU13=0,0,(AU13*((LOG(AU13))/LOG(2))))","v":0}]
[12,1275,14,1287,13,1299,14,1309,null,null,0,1111,null,1222,{"$f":"COUNTIF($L$7:$L$500,N14)","v":0},{"$f":"O14/$Q$4","v":0},{"$f":"IF(P14=0,0,(P14*((LOG(P14))/LOG(2))))","v":0},null,null,{"$f":"N14","v":1222},{"$f":"COUNTIF(L7:L10,T14)","v":0},{"$f":"U14/(W4-U20)","v":0},{"$f":"IF(V14=0,0,(V14*((LOG(V14))/LOG(2))))","v":0},null,{"$f":"N14","v":1222},{"$f":"COUNTIF(L11:L13,Y14)","v":0},{"$f":"Z14/(AB4-Z20)","v":0},{"$f":"IF(AA14=0,0,(AA14*((LOG(AA14))/LOG(2))))","v":0},null,{"$f":"N14","v":1222},{"$f":"COUNTIF(L14:L17,AD14)","v":0},{"$f":"AE14/(AG4-AE20)","v":0},{"$f":"IF(AF14=0,0,(AF14*((LOG(AF14))/LOG(2))))","v":0},null,{"$f":"N14","v":1222},{"$f":"COUNTIF(L18:L21,AI14)","v":0},{"$f":"AJ14/(AL4-AJ20)","v":0},{"$f":"IF(AK14=0,0,(AK14*((LOG(AK14))/LOG(2))))","v":0},null,{"$f":"N14","v":1222},{"$f":"COUNTIF(L22:L24,AN14)","v":0},{"$f":"AO14/(AQ4-AO20)","v":0},{"$f":"IF(AP14=0,0,(AP14*((LOG(AP14))/LOG(2))))","v":0},null,{"$f":"N14","v":1222},{"$f":"COUNTIF(L25:L28,AS14)","v":0},{"$f":"AT14/(AV4-AT20)","v":0},{"$f":"IF(AU14=0,0,(AU14*((LOG(AU14))/LOG(2))))","v":0}]
[12,1427,14,1433,13,1439,23,1489,null,null,0,1112,null,2111,{"$f":"COUNTIF($L$7:$L$500,N15)","v":0},{"$f":"O15/$Q$4","v":0},{"$f":"IF(P15=0,0,(P15*((LOG(P15))/LOG(2))))","v":0},null,null,{"$f":"N15","v":2111},{"$f":"COUNTIF(L7:L10,T15)","v":0},{"$f":"U15/(W4-U20)","v":0},{"$f":"IF(V15=0,0,(V15*((LOG(V15))/LOG(2))))","v":0},null,{"$f":"N15","v":2111},{"$f":"COUNTIF(L11:L13,Y15)","v":0},{"$f":"Z15/(AB4-Z20)","v":0},{"$f":"IF(AA15=0,0,(AA15*((LOG(AA15))/LOG(2))))","v":0},null,{"$f":"N15","v":2111},{"$f":"COUNTIF(L14:L17,AD15)","v":0},{"$f":"AE15/(AG4-AE20)","v":0},{"$f":"IF(AF15=0,0,(AF15*((LOG(AF15))/LOG(2))))","v":0},null,{"$f":"N15","v":2111},{"$f":"COUNTIF(L18:L21,AI15)","v":0},{"$f":"AJ15/(AL4-AJ20)","v":0},{"$f":"IF(AK15=0,0,(AK15*((LOG(AK15))/LOG(2))))","v":0},null,{"$f":"N15","v":2111},{"$f":"COUNTIF(L22:L24,AN15)","v":0},{"$f":"AO15/(AQ4-AO20)","v":0},{"$f":"IF(AP15=0,0,(AP15*((LOG(AP15))/LOG(2))))","v":0},null,{"$f":"N15","v":2111},{"$f":"COUNTIF(L25:L28,AS15)","v":0},{"$f":"AT15/(AV4-AT20)","v":0},{"$f":"IF(AU15=0,0,(AU15*((LOG(AU15))/LOG(2))))","v":0}]
[12,1587,14,1594,13,1605,14,1611,null,null,0,1111,null,2112,{"$f":"COUNTIF($L$7:$L$500,N16)","v":0},{"$f":"O16/$Q$4","v":0},{"$f":"IF(P16=0,0,(P16*((LOG(P16))/LOG(2))))","v":0},null,null,{"$f":"N16","v":2112},{"$f":"COUNTIF(L7:L10,T16)","v":0},{"$f":"U16/(W4-U20)","v":0},{"$f":"IF(V16=0,0,(V16*((LOG(V16))/LOG(2))))","v":0},null,{"$f":"N16","v":2112},{"$f":"COUNTIF(L11:L13,Y16)","v":0},{"$f":"Z16/(AB4-Z20)","v":0},{"$f":"IF(AA16=0,0,(AA16*((LOG(AA16))/LOG(2))))","v":0},null,{"$f":"N16","v":2112},{"$f":"COUNTIF(L14:L17,AD16)","v":0},{"$f":"AE16/(AG4-AE20)","v":0},{"$f":"IF(AF16=0,0,(AF16*((LOG(AF16))/LOG(2))))","v":0},null,{"$f":"N16","v":2112},{"$f":"COUNTIF(L18:L21,AI16)","v":0},{"$f":"AJ16/(AL4-AJ20)","v":0},{"$f":"IF(AK16=0,0,(AK16*((LOG(AK16))/LOG(2))))","v":0},null,{"$f":"N16","v":2112},{"$f":"COUNTIF(L22:L24,AN16)","v":0},{"$f":"AO16/(AQ4-AO20)","v":0},{"$f":"IF(AP16=0,0,(AP16*((LOG(AP16))/LOG(2))))","v":0},null,{"$f":"N16","v":2112},{"$f":"COUNTIF(L25:L28,AS16)","v":0},{"$f":"AT16/(AV4-AT20)","v":0},{"$f":"IF(AU16=0,0,(AU16*((LOG(AU16))/LOG(2))))","v":0}]
[12,1726,14,1735,13,1747,23,1760,null,null,0,1112,null,2121,{"$f":"COUNTIF($L$7:$L$500,N17)","v":0},{"$f":"O17/$Q$4","v":0},{"$f":"IF(P17=0,0,(P17*((LOG(P17))/LOG(2))))","v":0},null,null,{"$f":"N17","v":2121},{"$f":"COUNTIF(L7:L10,T17)","v":0},{"$f":"U17/(W4-U20)","v":0},{"$f":"IF(V17=0,0,(V17*((LOG(V17))/LOG(2))))","v":0},null,{"$f":"N17","v":2121},{"$f":"COUNTIF(L11:L13,Y17)","v":0},{"$f":"Z17/(AB4-Z20)","v":0},{"$f":"IF(AA17=0,0,(AA17*((LOG(AA17))/LOG(2))))","v":0},null,{"$f":"N17","v":2121},{"$f":"COUNTIF(L14:L17,AD17)","v":0},{"$f":"AE17/(AG4-AE20)","v":0},{"$f":"IF(AF17=0,0,(AF17*((LOG(AF17))/LOG(2))))","v":0},null,{"$f":"N17","v":2121},{"$f":"COUNTIF(L18:L21,AI17)","v":0},{"$f":"AJ17/(AL4-AJ20)","v":0},{"$f":"IF(AK17=0,0,(AK17*((LOG(AK17))/LOG(2))))","v":0},null,{"$f":"N17","v":2121},{"$f":"COUNTIF(L22:L24,AN17)","v":0},{"$f":"AO17/(AQ4-AO20)","v":0},{"$f":"IF(AP17=0,0,(AP17*((LOG(AP17))/LOG(2))))","v":0},null,{"$f":"N17","v":2121},{"$f":"COUNTIF(L25:L28,AS17)","v":0},{"$f":"AT17/(AV4-AT20)","v":0},{"$f":"IF(AU17=0,0,(AU17*((LOG(AU17))/LOG(2))))","v":0}]
[12,1864,14,1869,13,1884,14,1894,null,null,0,1111,null,2122,{"$f":"COUNTIF($L$7:$L$500,N18)","v":0},{"$f":"O18/$Q$4","v":0},{"$f":"IF(P18=0,0,(P18*((LOG(P18))/LOG(2))))","v":0},null,null,{"$f":"N18","v":2122},{"$f":"COUNTIF(L7:L10,T18)","v":0},{"$f":"U18/(W4-U20)","v":0},{"$f":"IF(V18=0,0,(V18*((LOG(V18))/LOG(2))))","v":0},null,{"$f":"N18","v":2122},{"$f":"COUNTIF(L11:L13,Y18)","v":0},{"$f":"Z18/(AB4-Z20)","v":0},{"$f":"IF(AA18=0,0,(AA18*((LOG(AA18))/LOG(2))))","v":0},null,{"$f":"N18","v":2122},{"$f":"COUNTIF(L14:L17,AD18)","v":0},{"$f":"AE18/(AG4-AE20)","v":0},{"$f":"IF(AF18=0,0,(AF18*((LOG(AF18))/LOG(2))))","v":0},null,{"$f":"N18","v":2122},{"$f":"COUNTIF(L18:L21,AI18)","v":0},{"$f":"AJ18/(AL4-AJ20)","v":0},{"$f":"IF(AK18=0,0,(AK18*((LOG(AK18))/LOG(2))))","v":0},null,{"$f":"N18","v":2122},{"$f":"COUNTIF(L22:L24,AN18)","v":0},{"$f":"AO18/(AQ4-AO20)","v":0},{"$f":"IF(AP18=0,0,(AP18*((LOG(AP18))/LOG(2))))","v":0},null,{"$f":"N18","v":2122},{"$f":"COUNTIF(L25:L28,AS18)","v":0},{"$f":"AT18/(AV4-AT20)","v":0},{"$f":"IF(AU18=0,0,(AU18*((LOG(AU18))/LOG(2))))","v":0}]
[12,2006,14,2014,13,2019,14,2025,null,null,0,1111,null,2211,{"$f":"COUNTIF($L$7:$L$500,N19)","v":0},{"$f":"O19/$Q$4","v":0},{"$f":"IF(P19=0,0,(P19*((LOG(P19))/LOG(2))))","v":0},null,null,{"$f":"N19","v":2211},{"$f":"COUNTIF(L7:L10,T19)","v":0},{"$f":"U19/(W4-U20)","v":0},{"$f":"IF(V19=0,0,(V19*((LOG(V19))/LOG(2))))","v":0},null,{"$f":"N19","v":2211},{"$f":"COUNTIF(L11:L13,Y19)","v":0},{"$f":"Z19/(AB4-Z20)","v":0},{"$f":"IF(AA19=0,0,(AA19*((LOG(AA19))/LOG(2))))","v":0},null,{"$f":"N19","v":2211},{"$f":"COUNTIF(L14:L17,AD19)","v":0},{"$f":"AE19/(AG4-AE20)","v":0},{"$f":"IF(AF19=0,0,(AF19*((LOG(AF19))/LOG(2))))","v":0},null,{"$f":"N19","v":2211},{"$f":"COUNTIF(L18:L21,AI19)","v":0},{"$f":"AJ19/(AL4-AJ20)","v":0},{"$f":"IF(AK19=0,0,(AK19*((LOG(AK19))/LOG(2))))","v":0},null,{"$f":"N19","v":2211},{"$f":"COUNTIF(L22:L24,AN19)","v":0},{"$f":"AO19/(AQ4-AO20)","v":0},{"$f":"IF(AP19=0,0,(AP19*((LOG(AP19))/LOG(2))))","v":0},null,{"$f":"N19","v":2211},{"$f":"COUNTIF(L25:L28,AS19)","v":0},{"$f":"AT19/(AV4-AT20)","v":0},{"$f":"IF(AU19=0,0,(AU19*((LOG(AU19))/LOG(2))))","v":0}]
[12,2132,14,2138,13,2144,14,2153,null,null,0,1111,null,2212,{"$f":"COUNTIF($L$7:$L$500,N20)","v":0},{"$f":"O20/$Q$4","v":0},{"$f":"IF(P20=0,0,(P20*((LOG(P20))/LOG(2))))","v":0},null,null,{"$f":"N20","v":2212},{"$f":"COUNTIF(L7:L10,T20)","v":0},null,null,null,{"$f":"N20","v":2212},{"$f":"COUNTIF(L11:L13,Y20)","v":0},null,null,null,{"$f":"N20","v":2212},{"$f":"COUNTIF(L14:L17,AD20)","v":0},null,null,null,{"$f":"N20","v":2212},{"$f":"COUNTIF(L18:L21,AI20)","v":0},null,null,null,{"$f":"N20","v":2212},{"$f":"COUNTIF(L22:L24,AN20)","v":0},null,null,null,{"$f":"N20","v":2212},{"$f":"COUNTIF(L25:L28,AS20)","v":0}]
[12,2284,14,2294,13,2311,23,2326,null,null,0,1112,null,2221,{"$f":"COUNTIF($L$7:$L$500,N21)","v":0},{"$f":"O21/$Q$4","v":0},{"$f":"IF(P21=0,0,(P21*((LOG(P21))/LOG(2))))","v":0},null,null,{"$f":"N21","v":2221},{"$f":"COUNTIF(L7:L10,T21)","v":0},{"$f":"U21/(W4-U20)","v":0},{"$f":"IF(V21=0,0,(V21*((LOG(V21))/LOG(2))))","v":0},null,{"$f":"N21","v":2221},{"$f":"COUNTIF(L11:L13,Y21)","v":0},{"$f":"Z21/(AB4-Z20)","v":0},{"$f":"IF(AA21=0,0,(AA21*((LOG(AA21))/LOG(2))))","v":0},null,{"$f":"N21","v":2221},{"$f":"COUNTIF(L14:L17,AD21)","v":0},{"$f":"AE21/(AG4-AE20)","v":0},{"$f":"IF(AF21=0,0,(AF21*((LOG(AF21))/LOG(2))))","v":0},null,{"$f":"N21","v":2221},{"$f":"COUNTIF(L18:L21,AI21)","v":0},{"$f":"AJ21/(AL4-AJ20)","v":0},{"$f":"IF(AK21=0,0,(AK21*((LOG(AK21))/LOG(2))))","v":0},null,{"$f":"N21","v":2221},{"$f":"COUNTIF(L22:L24,AN21)","v":0},{"$f":"AO21/(AQ4-AO20)","v":0},{"$f":"IF(AP21=0,0,(AP21*((LOG(AP21))/LOG(2))))","v":0},null,{"$f":"N21","v":2221},{"$f":"COUNTIF(L25:L28,AS21)","v":0},{"$f":"AT21/(AV4-AT20)","v":0},{"$f":"IF(AU21=0,0,(AU21*((LOG(AU21))/LOG(2))))","v":0}]
[12,2452,14,2457,13,2466,14,2475,null,null,0,1111,null,2222,{"$f":"COUNTIF($L$7:$L$500,N22)","v":4},{"$f":"O22/$Q$4","v":0.18181818181818182},{"$f":"IF(P22=0,0,(P22*((LOG(P22))/LOG(2))))","v":-0.44716938520678134},null,null,{"$f":"N22","v":2222},{"$f":"COUNTIF(L7:L10,T22)","v":1},{"$f":"U22/(W4-U20)","v":0.25},{"$f":"IF(V22=0,0,(V22*((LOG(V22))/LOG(2))))","v":-0.5},null,{"$f":"N22","v":2222},{"$f":"COUNTIF(L11:L13,Y22)","v":0},{"$f":"Z22/(AB4-Z20)","v":0},{"$f":"IF(AA22=0,0,(AA22*((LOG(AA22))/LOG(2))))","v":0},null,{"$f":"N22","v":2222},{"$f":"COUNTIF(L14:L17,AD22)","v":0},{"$f":"AE22/(AG4-AE20)","v":0},{"$f":"IF(AF22=0,0,(AF22*((LOG(AF22))/LOG(2))))","v":0},null,{"$f":"N22","v":2222},{"$f":"COUNTIF(L18:L21,AI22)","v":0},{"$f":"AJ22/(AL4-AJ20)","v":0},{"$f":"IF(AK22=0,0,(AK22*((LOG(AK22))/LOG(2))))","v":0},null,{"$f":"N22","v":2222},{"$f":"COUNTIF(L22:L24,AN22)","v":1},{"$f":"AO22/(AQ4-AO20)","v":0.33333333333333331},{"$f":"IF(AP22=0,0,(AP22*((LOG(AP22))/LOG(2))))","v":-0.52832083357371862},null,{"$f":"N22","v":2222},{"$f":"COUNTIF(L25:L28,AS22)","v":2},{"$f":"AT22/(AV4-AT20)","v":0.5},{"$f":"IF(AU22=0,0,(AU22*((LOG(AU22))/LOG(2))))","v":-0.5}]
[12,2581,14,2587,13,2599,14,2609,null,null,0,1111,null,null,null,{"$f":"SUM(P7:P22)","v":1},{"$f":"-SUM(Q7:Q22)","v":1.4353713907745331},null,null,null,null,{"$f":"SUM(V7:V22)","v":1},{"$f":"-SUM(W7:W22)","v":1.5},null,null,null,{"$f":"SUM(AA7:AA22)","v":1},{"$f":"-SUM(AB7:AB22)","v":0.91829583405448945},null,null,null,{"$f":"SUM(AF7:AF22)","v":1},{"$f":"-SUM(AG7:AG22)","v":1},null,null,null,{"$f":"SUM(AK7:AK22)","v":1},{"$f":"-SUM(AL7:AL22)","v":0.81127812445913283},null,null,null,{"$f":"SUM(AP7:AP22)","v":1},{"$f":"-SUM(AQ7:AQ22)","v":0.91829583405448945},null,null,null,{"$f":"SUM(AU7:AU22)","v":1},{"$f":"-SUM(AV7:AV22)","v":1}]
[21,2753,21,2758,22,2763,23,2768,null,null,0,2222,null,null,null,"U=",{"$f":"Q23/(LOG(Q4)/LOG(2))","v":0.3218731698397812},null,null,null,null,"U1=",{"$f":"W23/(LOG(W4)/LOG(2))","v":0.75},null,null,null,"U2=",{"$f":"AB23/(LOG(AB4)/LOG(2))","v":0.57938016428569505},null,null,null,"U3=",{"$f":"AG23/(LOG(AG4)/LOG(2))","v":0.5},null,null,null,"U4=",{"$f":"AL23/(LOG(AL4)/LOG(2))","v":0.40563906222956642},null,null,null,"U5=",{"$f":"AQ23/(LOG(AQ4)/LOG(2))","v":0.57938016428569505},null,null,null,"U6=",{"$f":"AV23/(LOG(AV4)/LOG(2))","v":0.5}]
[21,13494,21,13504,22,13513,23,13519,null,null,0,2222]
[21,13712,21,13728,22,13737,23,13745,null,null,0,2222]
[12,23462,14,23483,13,23509,14,23522,null,null,0,1111,null,"Total Target Seq"]
[12,23684,14,23708,13,23720,14,23801,null,null,0,1111,null,{"$f":"COUNTIF(L7:L28,G3)","v":0},null,4,3,4,4,3,4]
[null,null,null,null,null,null,null,null,null,null,null,null,null,null,null,"% of reinforcement given in 6 equal intervals based on number of trials "]
[null,null,null,null,null,null,null,null,null,null,null,null,null,null,null,"%_1","%_2","%_3","%_4","%_5","%_6"]
[null,null,null,null,null,null,null,null,null,null,null,null,null,null,"target sequence",{"$f":"$G$3","v":2212},{"$f":"$G$3","v":2212},{"$f":"$G$3","v":2212},{"$f":"$G$3","v":2212},{"$f":"$G$3","v":2212},{"$f":"$G$3","v":2212}]
[null,null,null,null,null,null,null,null,null,null,null,null,null,null,"total reinforcement",{"$f":"U20","v":0},{"$f":"Z20","v":0},{"$f":"AE20","v":0},{"$f":"AJ20","v":0},{"$f":"AO20","v":0},{"$f":"AT20","v":0}]
[null,null,null,null,null,null,null,null,null,null,null,null,null,null,"% target"]
[null,null,null,null,null,null,null,null,null,null,null,null,null,null,"CCRF"]
[null,null,null,null,null,null,null,null,null,null,null,null,null,null,"% CCRf"]
[null,null,null,null,null,null,null,null,null,null,null,null,null,null,"average response rate",{"$f":"H10/P28","v":162},{"$f":"(H13-H10)/Q28","v":163.33333333333334},{"$f":"(H17-H13)/R28","v":155.5},{"$f":"(H21-H17)/S28","v":141.5},{"$f":"(H24-H21)/T28","v":147.33333333333334},{"$f":"(H28-H24)/U28","v":5258.25}]

{"sheet":"!M909940.102","index":13,"n_rows":36,"n_cols":48,"rows_kept":36,"cut":false,"hidden":false,"merged":[[4,39,4,42],[5,39,5,40],[4,44,4,47],[5,44,5,45],[4,24,4,27],[5,24,5,25],[4,29,4,32],[5,29,5,30],[4,34,4,37],[5,34,5,35],[1,1,1,2],[5,13,5,14],[26,13,26,14],[27,13,27,14],[4,19,4,22],[5,19,5,20]]}
["Report for:!M909940.102"]
["Date:","<date>"]
["Hen:","<hen>",null,null,null,"Correct Sequence",{"$f":"Start!J2","v":2212},null,null,null,null,null,null,null,null,"Total Sequences in Data",{"$f":"4994-COUNTBLANK(L7:L5000)","v":13},null,null,null,null,"Total Sequences in Block Data",{"$f":"COUNTA(L7:L8)","v":2},null,null,null,"Total Sequences in Block Data",{"$f":"COUNTA(L9:L10)","v":2},null,null,null,"Total Sequences in Block Data",{"$f":"COUNTA(L11:L13)","v":3},null,null,null,"Total Sequences in Block Data",{"$f":"COUNTA(L14:L15)","v":2},null,null,null,"Total Sequences in Block Data",{"$f":"COUNTA(L16:L17)","v":2},null,null,null,"Total Sequences in Block Data",{"$f":"COUNTA(L18:L19)","v":2}]
[null,null,null,null,null,null,null,null,null,null,null,null,null,null,null,"Total Sequences in Summary",{"$f":"SUM(O7:O22)","v":12},null,null,null,null,"Total Sequences in Block Summary",{"$f":"SUM(U7:U22)","v":2},null,null,null,"Total Sequences in Block Summary",{"$f":"SUM(Z7:Z22)","v":2},null,null,null,"Total Sequences in Block Summary",{"$f":"SUM(AE7:AE22)","v":3},null,null,null,"Total Sequences in Block Summary",{"$f":"SUM(AJ7:AJ22)","v":2},null,null,null,"Total Sequences in Block Summary",{"$f":"SUM(AO7:AO22)","v":2},null,null,null,"Total Sequences in Block Summary",{"$f":"SUM(AT7:AT22)","v":1}]
[null,null,null,null,null,null,null,null,null,null,null,null,null,null,null,null,null,null,null,"Block 1",null,null,null,null,"Block 2",null,null,null,null,"Block 3",null,null,null,null,"Block 4",null,null,null,null,"Block 5",null,null,null,null,"Block 6"]
["Sequence\nComponent\n1","Time\n1","Sequence\nComponent\n2","Time\n2","Sequence\nComponent\n3","Time\n3","Sequence\nComponent\n4","Time\n4","Sequence\nComponent\n5","Time\n5","Correct?\n0=No 1=Yes","Sequence",null,"Frequency",null,"Relative Frequency","Variability",null,null,"Frequency",null,"Relative Frequency","Variability",null,"Frequency",null,"Relative Frequency","Variability",null,"Frequency",null,"Relative Frequency","Variability",null,"Frequency",null,"Relative Frequency","Variability",null,"Frequency",null,"Relative Frequency","Variability",null,"Frequency",null,"Relative Frequency","Variability"]
[12,244,14,253,13,499,14,507,null,null,0,1111,null,1111,{"$f":"COUNTIF($L$7:$L$500,N7)","v":9},{"$f":"O7/$Q$4","v":0.75},{"$f":"IF(P7=0,0,(P7*((LOG(P7))/LOG(2))))","v":-0.31127812445913283},null,null,{"$f":"N7","v":1111},{"$f":"COUNTIF(L7:L8,T7)","v":2},{"$f":"U7/(W4-U20)","v":1},{"$f":"IF(V7=0,0,(V7*((LOG(V7))/LOG(2))))","v":0},null,{"$f":"N7","v":1111},{"$f":"COUNTIF(L9:L10,Y7)","v":2},{"$f":"Z7/(AB4-Z20)","v":1},{"$f":"IF(AA7=0,0,(AA7*((LOG(AA7))/LOG(2))))","v":0},null,{"$f":"N7","v":1111},{"$f":"COUNTIF(L11:L13,AD7)","v":1},{"$f":"AE7/(AG4-AE20)","v":0.33333333333333331},{"$f":"IF(AF7=0,0,(AF7*((LOG(AF7))/LOG(2))))","v":-0.52832083357371862},null,{"$f":"N7","v":1111},{"$f":"COUNTIF(L14:L15,AI7)","v":2},{"$f":"AJ7/(AL4-AJ20)","v":1},{"$f":"IF(AK7=0,0,(AK7*((LOG(AK7))/LOG(2))))","v":0},null,{"$f":"N7","v":1111},{"$f":"COUNTIF(L16:L17,AN7)","v":1},{"$f":"AO7/(AQ4-AO20)","v":0.5},{"$f":"IF(AP7=0,0,(AP7*((LOG(AP7))/LOG(2))))","v":-0.5},null,{"$f":"N7","v":1111},{"$f":"COUNTIF(L18:L19,AS7)","v":1},{"$f":"AT7/(AV4-AT20)","v":1},{"$f":"IF(AU7=0,0,(AU7*((LOG(AU7))/LOG(2))))","v":0}]
[12,613,14,619,13,628,14,638,null,null,0,1111,null,1112,{"$f":"COUNTIF($L$7:$L$500,N8)","v":2},{"$f":"O8/$Q$4","v":0.16666666666666666},{"$f":"IF(P8=0,0,(P8*((LOG(P8))/LOG(2))))","v":-0.43082708345352599},null,null,{"$f":"N8","v":1112},{"$f":"COUNTIF(L7:L8,T8)","v":0},{"$f":"U8/(W4-U20)","v":0},{"$f":"IF(V8=0,0,(V8*((LOG(V8))/LOG(2))))","v":0},null,{"$f":"N8","v":1112},{"$f":"COUNTIF(L9:L10,Y8)","v":0},{"$f":"Z8/(AB4-Z20)","v":0},{"$f":"IF(AA8=0,0,(AA8*((LOG(AA8))/LOG(2))))","v":0},null,{"$f":"N8","v":1112},{"$f":"COUNTIF(L11:L13,AD8)","v":2},{"$f":"AE8/(AG4-AE20)","v":0.66666666666666663},{"$f":"IF(AF8=0,0,(AF8*((LOG(AF8))/LOG(2))))","v":-0.38997500048077083},null,{"$f":"N8","v":1112},{"$f":"COUNTIF(L14:L15,AI8)","v":0},{"$f":"AJ8/(AL4-AJ20)","v":0},{"$f":"IF(AK8=0,0,(AK8*((LOG(AK8))/LOG(2))))","v":0},null,{"$f":"N8","v":1112},{"$f":"COUNTIF(L16:L17,AN8)","v":0},{"$f":"AO8/(AQ4-AO20)","v":0},{"$f":"IF(AP8=0,0,(AP8*((LOG(AP8))/LOG(2))))","v":0},null,{"$f":"N8","v":1112},{"$f":"COUNTIF(L18:L19,AS8)","v":0},{"$f":"AT8/(AV4-AT20)","v":0},{"$f":"IF(AU8=0,0,(AU8*((LOG(AU8))/LOG(2))))","v":0}]
[12,754,14,763,13,773,14,782,null,null,0,1111,null,1121,{"$f":"COUNTIF($L$7:$L$500,N9)","v":0},{"$f":"O9/$Q$4","v":0},{"$f":"IF(P9=0,0,(P9*((LOG(P9))/LOG(2))))","v":0},null,null,{"$f":"N9","v":1121},{"$f":"COUNTIF(L7:L8,T9)","v":0},{"$f":"U9/(W4-U20)","v":0},{"$f":"IF(V9=0,0,(V9*((LOG(V9))/LOG(2))))","v":0},null,{"$f":"N9","v":1121},{"$f":"COUNTIF(L9:L10,Y9)","v":0},{"$f":"Z9/(AB4-Z20)","v":0},{"$f":"IF(AA9=0,0,(AA9*((LOG(AA9))/LOG(2))))","v":0},null,{"$f":"N9","v":1121},{"$f":"COUNTIF(L11:L13,AD9)","v":0},{"$f":"AE9/(AG4-AE20)","v":0},{"$f":"IF(AF9=0,0,(AF9*((LOG(AF9))/LOG(2))))","v":0},null,{"$f":"N9","v":1121},{"$f":"COUNTIF(L14:L15,AI9)","v":0},{"$f":"AJ9/(AL4-AJ20)","v":0},{"$f":"IF(AK9=0,0,(AK9*((LOG(AK9))/LOG(2))))","v":0},null,{"$f":"N9","v":1121},{"$f":"COUNTIF(L16:L17,AN9)","v":0},{"$f":"AO9/(AQ4-AO20)","v":0},{"$f":"IF(AP9=0,0,(AP9*((LOG(AP9))/LOG(2))))","v":0},null,{"$f":"N9","v":1121},{"$f":"COUNTIF(L18:L19,AS9)","v":0},{"$f":"AT9/(AV4-AT20)","v":0},{"$f":"IF(AU9=0,0,(AU9*((LOG(AU9))/LOG(2))))","v":0}]
[12,887,14,894,13,902,14,912,null,null,0,1111,null,1122,{"$f":"COUNTIF($L$7:$L$500,N10)","v":0},{"$f":"O10/$Q$4","v":0},{"$f":"IF(P10=0,0,(P10*((LOG(P10))/LOG(2))))","v":0},null,null,{"$f":"N10","v":1122},{"$f":"COUNTIF(L7:L8,T10)","v":0},{"$f":"U10/(W4-U20)","v":0},{"$f":"IF(V10=0,0,(V10*((LOG(V10))/LOG(2))))","v":0},null,{"$f":"N10","v":1122},{"$f":"COUNTIF(L9:L10,Y10)","v":0},{"$f":"Z10/(AB4-Z20)","v":0},{"$f":"IF(AA10=0,0,(AA10*((LOG(AA10))/LOG(2))))","v":0},null,{"$f":"N10","v":1122},{"$f":"COUNTIF(L11:L13,AD10)","v":0},{"$f":"AE10/(AG4-AE20)","v":0},{"$f":"IF(AF10=0,0,(AF10*((LOG(AF10))/LOG(2))))","v":0},null,{"$f":"N10","v":1122},{"$f":"COUNTIF(L14:L15,AI10)","v":0},{"$f":"AJ10/(AL4-AJ20)","v":0},{"$f":"IF(AK10=0,0,(AK10*((LOG(AK10))/LOG(2))))","v":0},null,{"$f":"N10","v":1122},{"$f":"COUNTIF(L16:L17,AN10)","v":0},{"$f":"AO10/(AQ4-AO20)","v":0},{"$f":"IF(AP10=0,0,(AP10*((LOG(AP10))/LOG(2))))","v":0},null,{"$f":"N10","v":1122},{"$f":"COUNTIF(L18:L19,AS10)","v":0},{"$f":"AT10/(AV4-AT20)","v":0},{"$f":"IF(AU10=0,0,(AU10*((LOG(AU10))/LOG(2))))","v":0}]
[12,1014,14,1019,13,1027,23,1054,null,null,0,1112,null,1211,{"$f":"COUNTIF($L$7:$L$500,N11)","v":0},{"$f":"O11/$Q$4","v":0},{"$f":"IF(P11=0,0,(P11*((LOG(P11))/LOG(2))))","v":0},null,null,{"$f":"N11","v":1211},{"$f":"COUNTIF(L7:L8,T11)","v":0},{"$f":"U11/(W4-U20)","v":0},{"$f":"IF(V11=0,0,(V11*((LOG(V11))/LOG(2))))","v":0},null,{"$f":"N11","v":1211},{"$f":"COUNTIF(L9:L10,Y11)","v":0},{"$f":"Z11/(AB4-Z20)","v":0},{"$f":"IF(AA11=0,0,(AA11*((LOG(AA11))/LOG(2))))","v":0},null,{"$f":"N11","v":1211},{"$f":"COUNTIF(L11:L13,AD11)","v":0},{"$f":"AE11/(AG4-AE20)","v":0},{"$f":"IF(AF11=0,0,(AF11*((LOG(AF11))/LOG(2))))","v":0},null,{"$f":"N11","v":1211},{"$f":"COUNTIF(L14:L15,AI11)","v":0},{"$f":"AJ11/(AL4-AJ20)","v":0},{"$f":"IF(AK11=0,0,(AK11*((LOG(AK11))/LOG(2))))","v":0},null,{"$f":"N11","v":1211},{"$f":"COUNTIF(L16:L17,AN11)","v":0},{"$f":"AO11/(AQ4-AO20)","v":0},{"$f":"IF(AP11=0,0,(AP11*((LOG(AP11))/LOG(2))))","v":0},null,{"$f":"N11","v":1211},{"$f":"COUNTIF(L18:L19,AS11)","v":0},{"$f":"AT11/(AV4-AT20)","v":0},{"$f":"IF(AU11=0,0,(AU11*((LOG(AU11))/LOG(2))))","v":0}]
[12,1182,14,1200,13,1207,14,1218,null,null,0,1111,null,1212,{"$f":"COUNTIF($L$7:$L$500,N12)","v":0},{"$f":"O12/$Q$4","v":0},{"$f":"IF(P12=0,0,(P12*((LOG(P12))/LOG(2))))","v":0},null,null,{"$f":"N12","v":1212},{"$f":"COUNTIF(L7:L8,T12)","v":0},{"$f":"U12/(W4-U20)","v":0},{"$f":"IF(V12=0,0,(V12*((LOG(V12))/LOG(2))))","v":0},null,{"$f":"N12","v":1212},{"$f":"COUNTIF(L9:L10,Y12)","v":0},{"$f":"Z12/(AB4-Z20)","v":0},{"$f":"IF(AA12=0,0,(AA12*((LOG(AA12))/LOG(2))))","v":0},null,{"$f":"N12","v":1212},{"$f":"COUNTIF(L11:L13,AD12)","v":0},{"$f":"AE12/(AG4-AE20)","v":0},{"$f":"IF(AF12=0,0,(AF12*((LOG(AF12))/LOG(2))))","v":0},null,{"$f":"N12","v":1212},{"$f":"COUNTIF(L14:L15,AI12)","v":0},{"$f":"AJ12/(AL4-AJ20)","v":0},{"$f":"IF(AK12=0,0,(AK12*((LOG(AK12))/LOG(2))))","v":0},null,{"$f":"N12","v":1212},{"$f":"COUNTIF(L16:L17,AN12)","v":0},{"$f":"AO12/(AQ4-AO20)","v":0},{"$f":"IF(AP12=0,0,(AP12*((LOG(AP12))/LOG(2))))","v":0},null,{"$f":"N12","v":1212},{"$f":"COUNTIF(L18:L19,AS12)","v":0},{"$f":"AT12/(AV4-AT20)","v":0},{"$f":"IF(AU12=0,0,(AU12*((LOG(AU12))/LOG(2))))","v":0}]
[12,1330,14,1335,13,1344,23,1364,null,null,0,1112,null,1221,{"$f":"COUNTIF($L$7:$L$500,N13)","v":0},{"$f":"O13/$Q$4","v":0},{"$f":"IF(P13=0,0,(P13*((LOG(P13))/LOG(2))))","v":0},null,null,{"$f":"N13","v":1221},{"$f":"COUNTIF(L7:L8,T13)","v":0},{"$f":"U13/(W4-U20)","v":0},{"$f":"IF(V13=0,0,(V13*((LOG(V13))/LOG(2))))","v":0},null,{"$f":"N13","v":1221},{"$f":"COUNTIF(L9:L10,Y13)","v":0},{"$f":"Z13/(AB4-Z20)","v":0},{"$f":"IF(AA13=0,0,(AA13*((LOG(AA13))/LOG(2))))","v":0},null,{"$f":"N13","v":1221},{"$f":"COUNTIF(L11:L13,AD13)","v":0},{"$f":"AE13/(AG4-AE20)","v":0},{"$f":"IF(AF13=0,0,(AF13*((LOG(AF13))/LOG(2))))","v":0},null,{"$f":"N13","v":1221},{"$f":"COUNTIF(L14:L15,AI13)","v":0},{"$f":"AJ13/(AL4-AJ20)","v":0},{"$f":"IF(AK13=0,0,(AK13*((LOG(AK13))/LOG(2))))","v":0},null,{"$f":"N13","v":1221},{"$f":"COUNTIF(L16:L17,AN13)","v":0},{"$f":"AO13/(AQ4-AO20)","v":0},{"$f":"IF(AP13=0,0,(AP13*((LOG(AP13))/LOG(2))))","v":0},null,{"$f":"N13","v":1221},{"$f":"COUNTIF(L18:L19,AS13)","v":0},{"$f":"AT13/(AV4-AT20)","v":0},{"$f":"IF(AU13=0,0,(AU13*((LOG(AU13))/LOG(2))))","v":0}]
[12,1465,14,1470,13,1480,14,1490,null,null,0,1111,null,1222,{"$f":"COUNTIF($L$7:$L$500,N14)","v":0},{"$f":"O14/$Q$4","v":0},{"$f":"IF(P14=0,0,(P14*((LOG(P14))/LOG(2))))","v":0},null,null,{"$f":"N14","v":1222},{"$f":"COUNTIF(L7:L8,T14)","v":0},{"$f":"U14/(W4-U20)","v":0},{"$f":"IF(V14=0,0,(V14*((LOG(V14))/LOG(2))))","v":0},null,{"$f":"N14","v":1222},{"$f":"COUNTIF(L9:L10,Y14)","v":0},{"$f":"Z14/(AB4-Z20)","v":0},{"$f":"IF(AA14=0,0,(AA14*((LOG(AA14))/LOG(2))))","v":0},null,{"$f":"N14","v":1222},{"$f":"COUNTIF(L11:L13,AD14)","v":0},{"$f":"AE14/(AG4-AE20)","v":0},{"$f":"IF(AF14=0,0,(AF14*((LOG(AF14))/LOG(2))))","v":0},null,{"$f":"N14","v":1222},{"$f":"COUNTIF(L14:L15,AI14)","v":0},{"$f":"AJ14/(AL4-AJ20)","v":0},{"$f":"IF(AK14=0,0,(AK14*((LOG(AK14))/LOG(2))))","v":0},null,{"$f":"N14","v":1222},{"$f":"COUNTIF(L16:L17,AN14)","v":0},{"$f":"AO14/(AQ4-AO20)","v":0},{"$f":"IF(AP14=0,0,(AP14*((LOG(AP14))/LOG(2))))","v":0},null,{"$f":"N14","v":1222},{"$f":"COUNTIF(L18:L19,AS14)","v":0},{"$f":"AT14/(AV4-AT20)","v":0},{"$f":"IF(AU14=0,0,(AU14*((LOG(AU14))/LOG(2))))","v":0}]
[12,1589,14,1597,13,1607,14,1619,null,null,0,1111,null,2111,{"$f":"COUNTIF($L$7:$L$500,N15)","v":0},{"$f":"O15/$Q$4","v":0},{"$f":"IF(P15=0,0,(P15*((LOG(P15))/LOG(2))))","v":0},null,null,{"$f":"N15","v":2111},{"$f":"COUNTIF(L7:L8,T15)","v":0},{"$f":"U15/(W4-U20)","v":0},{"$f":"IF(V15=0,0,(V15*((LOG(V15))/LOG(2))))","v":0},null,{"$f":"N15","v":2111},{"$f":"COUNTIF(L9:L10,Y15)","v":0},{"$f":"Z15/(AB4-Z20)","v":0},{"$f":"IF(AA15=0,0,(AA15*((LOG(AA15))/LOG(2))))","v":0},null,{"$f":"N15","v":2111},{"$f":"COUNTIF(L11:L13,AD15)","v":0},{"$f":"AE15/(AG4-AE20)","v":0},{"$f":"IF(AF15=0,0,(AF15*((LOG(AF15))/LOG(2))))","v":0},null,{"$f":"N15","v":2111},{"$f":"COUNTIF(L14:L15,AI15)","v":0},{"$f":"AJ15/(AL4-AJ20)","v":0},{"$f":"IF(AK15=0,0,(AK15*((LOG(AK15))/LOG(2))))","v":0},null,{"$f":"N15","v":2111},{"$f":"COUNTIF(L16:L17,AN15)","v":0},{"$f":"AO15/(AQ4-AO20)","v":0},{"$f":"IF(AP15=0,0,(AP15*((LOG(AP15))/LOG(2))))","v":0},null,{"$f":"N15","v":2111},{"$f":"COUNTIF(L18:L19,AS15)","v":0},{"$f":"AT15/(AV4-AT20)","v":0},{"$f":"IF(AU15=0,0,(AU15*((LOG(AU15))/LOG(2))))","v":0}]
[21,1761,21,1770,22,1778,23,1792,null,null,0,2222,null,2112,{"$f":"COUNTIF($L$7:$L$500,N16)","v":0},{"$f":"O16/$Q$4","v":0},{"$f":"IF(P16=0,0,(P16*((LOG(P16))/LOG(2))))","v":0},null,null,{"$f":"N16","v":2112},{"$f":"COUNTIF(L7:L8,T16)","v":0},{"$f":"U16/(W4-U20)","v":0},{"$f":"IF(V16=0,0,(V16*((LOG(V16))/LOG(2))))","v":0},null,{"$f":"N16","v":2112},{"$f":"COUNTIF(L9:L10,Y16)","v":0},{"$f":"Z16/(AB4-Z20)","v":0},{"$f":"IF(AA16=0,0,(AA16*((LOG(AA16))/LOG(2))))","v":0},null,{"$f":"N16","v":2112},{"$f":"COUNTIF(L11:L13,AD16)","v":0},{"$f":"AE16/(AG4-AE20)","v":0},{"$f":"IF(AF16=0,0,(AF16*((LOG(AF16))/LOG(2))))","v":0},null,{"$f":"N16","v":2112},{"$f":"COUNTIF(L14:L15,AI16)","v":0},{"$f":"AJ16/(AL4-AJ20)","v":0},{"$f":"IF(AK16=0,0,(AK16*((LOG(AK16))/LOG(2))))","v":0},null,{"$f":"N16","v":2112},{"$f":"COUNTIF(L16:L17,AN16)","v":0},{"$f":"AO16/(AQ4-AO20)","v":0},{"$f":"IF(AP16=0,0,(AP16*((LOG(AP16))/LOG(2))))","v":0},null,{"$f":"N16","v":2112},{"$f":"COUNTIF(L18:L19,AS16)","v":0},{"$f":"AT16/(AV4-AT20)","v":0},{"$f":"IF(AU16=0,0,(AU16*((LOG(AU16))/LOG(2))))","v":0}]
[12,1901,14,1911,13,1921,14,1933,null,null,0,1111,null,2121,{"$f":"COUNTIF($L$7:$L$500,N17)","v":0},{"$f":"O17/$Q$4","v":0},{"$f":"IF(P17=0,0,(P17*((LOG(P17))/LOG(2))))","v":0},null,null,{"$f":"N17","v":2121},{"$f":"COUNTIF(L7:L8,T17)","v":0},{"$f":"U17/(W4-U20)","v":0},{"$f":"IF(V17=0,0,(V17*((LOG(V17))/LOG(2))))","v":0},null,{"$f":"N17","v":2121},{"$f":"COUNTIF(L9:L10,Y17)","v":0},{"$f":"Z17/(AB4-Z20)","v":0},{"$f":"IF(AA17=0,0,(AA17*((LOG(AA17))/LOG(2))))","v":0},null,{"$f":"N17","v":2121},{"$f":"COUNTIF(L11:L13,AD17)","v":0},{"$f":"AE17/(AG4-AE20)","v":0},{"$f":"IF(AF17=0,0,(AF17*((LOG(AF17))/LOG(2))))","v":0},null,{"$f":"N17","v":2121},{"$f":"COUNTIF(L14:L15,AI17)","v":0},{"$f":"AJ17/(AL4-AJ20)","v":0},{"$f":"IF(AK17=0,0,(AK17*((LOG(AK17))/LOG(2))))","v":0},null,{"$f":"N17","v":2121},{"$f":"COUNTIF(L16:L17,AN17)","v":0},{"$f":"AO17/(AQ4-AO20)","v":0},{"$f":"IF(AP17=0,0,(AP17*((LOG(AP17))/LOG(2))))","v":0},null,{"$f":"N17","v":2121},{"$f":"COUNTIF(L18:L19,AS17)","v":0},{"$f":"AT17/(AV4-AT20)","v":0},{"$f":"IF(AU17=0,0,(AU17*((LOG(AU17))/LOG(2))))","v":0}]
[12,2051,14,2058,13,2067,14,2077,null,null,0,1111,null,2122,{"$f":"COUNTIF($L$7:$L$500,N18)","v":0},{"$f":"O18/$Q$4","v":0},{"$f":"IF(P18=0,0,(P18*((LOG(P18))/LOG(2))))","v":0},null,null,{"$f":"N18","v":2122},{"$f":"COUNTIF(L7:L8,T18)","v":0},{"$f":"U18/(W4-U20)","v":0},{"$f":"IF(V18=0,0,(V18*((LOG(V18))/LOG(2))))","v":0},null,{"$f":"N18","v":2122},{"$f":"COUNTIF(L9:L10,Y18)","v":0},{"$f":"Z18/(AB4-Z20)","v":0},{"$f":"IF(AA18=0,0,(AA18*((LOG(AA18))/LOG(2))))","v":0},null,{"$f":"N18","v":2122},{"$f":"COUNTIF(L11:L13,AD18)","v":0},{"$f":"AE18/(AG4-AE20)","v":0},{"$f":"IF(AF18=0,0,(AF18*((LOG(AF18))/LOG(2))))","v":0},null,{"$f":"N18","v":2122},{"$f":"COUNTIF(L14:L15,AI18)","v":0},{"$f":"AJ18/(AL4-AJ20)","v":0},{"$f":"IF(AK18=0,0,(AK18*((LOG(AK18))/LOG(2))))","v":0},null,{"$f":"N18","v":2122},{"$f":"COUNTIF(L16:L17,AN18)","v":0},{"$f":"AO18/(AQ4-AO20)","v":0},{"$f":"IF(AP18=0,0,(AP18*((LOG(AP18))/LOG(2))))","v":0},null,{"$f":"N18","v":2122},{"$f":"COUNTIF(L18:L19,AS18)","v":0},{"$f":"AT18/(AV4-AT20)","v":0},{"$f":"IF(AU18=0,0,(AU18*((LOG(AU18))/LOG(2))))","v":0}]
[12,13084,null,null,null,null,null,null,null,null,null,1,null,2211,{"$f":"COUNTIF($L$7:$L$500,N19)","v":0},{"$f":"O19/$Q$4","v":0},{"$f":"IF(P19=0,0,(P19*((LOG(P19))/LOG(2))))","v":0},null,null,{"$f":"N19","v":2211},{"$f":"COUNTIF(L7:L8,T19)","v":0},{"$f":"U19/(W4-U20)","v":0},{"$f":"IF(V19=0,0,(V19*((LOG(V19))/LOG(2))))","v":0},null,{"$f":"N19","v":2211},{"$f":"COUNTIF(L9:L10,Y19)","v":0},{"$f":"Z19/(AB4-Z20)","v":0},{"$f":"IF(AA19=0,0,(AA19*((LOG(AA19))/LOG(2))))","v":0},null,{"$f":"N19","v":2211},{"$f":"COUNTIF(L11:L13,AD19)","v":0},{"$f":"AE19/(AG4-AE20)","v":0},{"$f":"IF(AF19=0,0,(AF19*((LOG(AF19))/LOG(2))))","v":0},null,{"$f":"N19","v":2211},{"$f":"COUNTIF(L14:L15,AI19)","v":0},{"$f":"AJ19/(AL4-AJ20)","v":0},{"$f":"IF(AK19=0,0,(AK19*((LOG(AK19))/LOG(2))))","v":0},null,{"$f":"N19","v":2211},{"$f":"COUNTIF(L16:L17,AN19)","v":0},{"$f":"AO19/(AQ4-AO20)","v":0},{"$f":"IF(AP19=0,0,(AP19*((LOG(AP19))/LOG(2))))","v":0},null,{"$f":"N19","v":2211},{"$f":"COUNTIF(L18:L19,AS19)","v":0},{"$f":"AT19/(AV4-AT20)","v":0},{"$f":"IF(AU19=0,0,(AU19*((LOG(AU19))/LOG(2))))","v":0}]
[null,null,null,null,null,null,null,null,null,null,null,null,null,2212,{"$f":"COUNTIF($L$7:$L$500,N20)","v":0},{"$f":"O20/$Q$4","v":0},{"$f":"IF(P20=0,0,(P20*((LOG(P20))/LOG(2))))","v":0},null,null,{"$f":"N20","v":2212},{"$f":"COUNTIF(L7:L8,T20)","v":0},null,null,null,{"$f":"N20","v":2212},{"$f":"COUNTIF(L9:L10,Y20)","v":0},null,null,null,{"$f":"N20","v":2212},{"$f":"COUNTIF(L11:L13,AD20)","v":0},null,null,null,{"$f":"N20","v":2212},{"$f":"COUNTIF(L14:L15,AI20)","v":0},null,null,null,{"$f":"N20","v":2212},{"$f":"COUNTIF(L16:L17,AN20)","v":0},null,null,null,{"$f":"N20","v":2212},{"$f":"COUNTIF(L18:L19,AS20)","v":0}]
[null,null,null,null,null,null,null,null,null,null,null,null,null,2221,{"$f":"COUNTIF($L$7:$L$500,N21)","v":0},{"$f":"O21/$Q$4","v":0},{"$f":"IF(P21=0,0,(P21*((LOG(P21))/LOG(2))))","v":0},null,null,{"$f":"N21","v":2221},{"$f":"COUNTIF(L7:L8,T21)","v":0},{"$f":"U21/(W4-U20)","v":0},{"$f":"IF(V21=0,0,(V21*((LOG(V21))/LOG(2))))","v":0},null,{"$f":"N21","v":2221},{"$f":"COUNTIF(L9:L10,Y21)","v":0},{"$f":"Z21/(AB4-Z20)","v":0},{"$f":"IF(AA21=0,0,(AA21*((LOG(AA21))/LOG(2))))","v":0},null,{"$f":"N21","v":2221},{"$f":"COUNTIF(L11:L13,AD21)","v":0},{"$f":"AE21/(AG4-AE20)","v":0},{"$f":"IF(AF21=0,0,(AF21*((LOG(AF21))/LOG(2))))","v":0},null,{"$f":"N21","v":2221},{"$f":"COUNTIF(L14:L15,AI21)","v":0},{"$f":"AJ21/(AL4-AJ20)","v":0},{"$f":"IF(AK21=0,0,(AK21*((LOG(AK21))/LOG(2))))","v":0},null,{"$f":"N21","v":2221},{"$f":"COUNTIF(L16:L17,AN21)","v":0},{"$f":"AO21/(AQ4-AO20)","v":0},{"$f":"IF(AP21=0,0,(AP21*((LOG(AP21))/LOG(2))))","v":0},null,{"$f":"N21","v":2221},{"$f":"COUNTIF(L18:L19,AS21)","v":0},{"$f":"AT21/(AV4-AT20)","v":0},{"$f":"IF(AU21=0,0,(AU21*((LOG(AU21))/LOG(2))))","v":0}]
[null,null,null,null,null,null,null,null,null,null,null,null,null,2222,{"$f":"COUNTIF($L$7:$L$500,N22)","v":1},{"$f":"O22/$Q$4","v":8.3333333333333329E-2},{"$f":"IF(P22=0,0,(P22*((LOG(P22))/LOG(2))))","v":-0.29874687506009634},null,null,{"$f":"N22","v":2222},{"$f":"COUNTIF(L7:L8,T22)","v":0},{"$f":"U22/(W4-U20)","v":0},{"$f":"IF(V22=0,0,(V22*((LOG(V22))/LOG(2))))","v":0},null,{"$f":"N22","v":2222},{"$f":"COUNTIF(L9:L10,Y22)","v":0},{"$f":"Z22/(AB4-Z20)","v":0},{"$f":"IF(AA22=0,0,(AA22*((LOG(AA22))/LOG(2))))","v":0},null,{"$f":"N22","v":2222},{"$f":"COUNTIF(L11:L13,AD22)","v":0},{"$f":"AE22/(AG4-AE20)","v":0},{"$f":"IF(AF22=0,0,(AF22*((LOG(AF22))/LOG(2))))","v":0},null,{"$f":"N22","v":2222},{"$f":"COUNTIF(L14:L15,AI22)","v":0},{"$f":"AJ22/(AL4-AJ20)","v":0},{"$f":"IF(AK22=0,0,(AK22*((LOG(AK22))/LOG(2))))","v":0},null,{"$f":"N22","v":2222},{"$f":"COUNTIF(L16:L17,AN22)","v":1},{"$f":"AO22/(AQ4-AO20)","v":0.5},{"$f":"IF(AP22=0,0,(AP22*((LOG(AP22))/LOG(2))))","v":-0.5},null,{"$f":"N22","v":2222},{"$f":"COUNTIF(L18:L19,AS22)","v":0},{"$f":"AT22/(AV4-AT20)","v":0},{"$f":"IF(AU22=0,0,(AU22*((LOG(AU22))/LOG(2))))","v":0}]
[null,null,null,null,null,null,null,null,null,null,null,null,null,null,null,{"$f":"SUM(P7:P22)","v":1},{"$f":"-SUM(Q7:Q22)","v":1.0408520829727552},null,null,null,null,{"$f":"SUM(V7:V22)","v":1},{"$f":"-SUM(W7:W22)","v":0},null,null,null,{"$f":"SUM(AA7:AA22)","v":1},{"$f":"-SUM(AB7:AB22)","v":0},null,null,null,{"$f":"SUM(AF7:AF22)","v":1},{"$f":"-SUM(AG7:AG22)","v":0.91829583405448945},null,null,null,{"$f":"SUM(AK7:AK22)","v":1},{"$f":"-SUM(AL7:AL22)","v":0},null,null,null,{"$f":"SUM(AP7:AP22)","v":1},{"$f":"-SUM(AQ7:AQ22)","v":1},null,null,null,{"$f":"SUM(AU7:AU22)","v":1},{"$f":"-SUM(AV7:AV22)","v":0}]
[null,null,null,null,null,null,null,null,null,null,null,null,null,null,null,"U=",{"$f":"Q23/(LOG(Q4)/LOG(2))","v":0.29033834601153452},null,null,null,null,"U1=",{"$f":"W23/(LOG(W4)/LOG(2))","v":0},null,null,null,"U2=",{"$f":"AB23/(LOG(AB4)/LOG(2))","v":0},null,null,null,"U3=",{"$f":"AG23/(LOG(AG4)/LOG(2))","v":0.57938016428569505},null,null,null,"U4=",{"$f":"AL23/(LOG(AL4)/LOG(2))","v":0},null,null,null,"U5=",{"$f":"AQ23/(LOG(AQ4)/LOG(2))","v":1},null,null,null,"U6=",{"$f":"AV23/(LOG(AV4)/LOG(2))","v":{"$error":"#DIV/0!"}}]
[]
[]
[null,null,null,null,null,null,null,null,null,null,null,null,null,"Total Target Seq"]
[null,null,null,null,null,null,null,null,null,null,null,null,null,{"$f":"COUNTIF(L7:L19,G3)","v":0},null,2,2,3,2,2,2]
[null,null,null,null,null,null,null,null,null,null,null,null,null,null,null,"% of reinforcement given in 6 equal intervals based on number of trials "]
[null,null,null,null,null,null,null,null,null,null,null,null,null,null,null,"%_1","%_2","%_3","%_4","%_5","%_6"]
[null,null,null,null,null,null,null,null,null,null,null,null,null,null,"target sequence",{"$f":"$G$3","v":2212},{"$f":"$G$3","v":2212},{"$f":"$G$3","v":2212},{"$f":"$G$3","v":2212},{"$f":"$G$3","v":2212},{"$f":"$G$3","v":2212}]
[null,null,null,null,null,null,null,null,null,null,null,null,null,null,"total reinforcement",{"$f":"U20","v":0},{"$f":"Z20","v":0},{"$f":"AE20","v":0},{"$f":"AJ20","v":0},{"$f":"AO20","v":0},{"$f":"AT20","v":0}]
[null,null,null,null,null,null,null,null,null,null,null,null,null,null,"% target"]
[null,null,null,null,null,null,null,null,null,null,null,null,null,null,"CCRF"]
[null,null,null,null,null,null,null,null,null,null,null,null,null,null,"% CCRf"]
[null,null,null,null,null,null,null,null,null,null,null,null,null,null,"average response rate",{"$f":"H8/P28","v":319},{"$f":"(H10-H8)/Q28","v":137},{"$f":"(H13-H10)/R28","v":150.66666666666666},{"$f":"(H15-H13)/S28","v":127.5},{"$f":"(H17-H15)/T28","v":157},{"$f":"(H19-H17)/U28","v":-966.5}]

{"sheet":"!M910900.102","index":14,"n_rows":36,"n_cols":48,"rows_kept":36,"cut":false,"hidden":false,"merged":[[4,39,4,42],[5,39,5,40],[4,44,4,47],[5,44,5,45],[4,24,4,27],[5,24,5,25],[4,29,4,32],[5,29,5,30],[4,34,4,37],[5,34,5,35],[1,1,1,2],[5,13,5,14],[26,13,26,14],[27,13,27,14],[4,19,4,22],[5,19,5,20]]}
["Report for:!M910900.102"]
["Date:","<date>"]
["Hen:","<hen>",null,null,null,"Correct Sequence",{"$f":"Start!J2","v":2212},null,null,null,null,null,null,null,null,"Total Sequences in Data",{"$f":"4994-COUNTBLANK(L7:L5000)","v":11},null,null,null,null,"Total Sequences in Block Data",{"$f":"COUNTA(L7:L8)","v":2},null,null,null,"Total Sequences in Block Data",{"$f":"COUNTA(L9:L10)","v":2},null,null,null,"Total Sequences in Block Data",{"$f":"COUNTA(L11:L11)","v":1},null,null,null,"Total Sequences in Block Data",{"$f":"COUNTA(L12:L13)","v":2},null,null,null,"Total Sequences in Block Data",{"$f":"COUNTA(L14:L15)","v":2},null,null,null,"Total Sequences in Block Data",{"$f":"COUNTA(L16:L17)","v":2}]
[null,null,null,null,null,null,null,null,null,null,null,null,null,null,null,"Total Sequences in Summary",{"$f":"SUM(O7:O22)","v":10},null,null,null,null,"Total Sequences in Block Summary",{"$f":"SUM(U7:U22)","v":2},null,null,null,"Total Sequences in Block Summary",{"$f":"SUM(Z7:Z22)","v":2},null,null,null,"Total Sequences in Block Summary",{"$f":"SUM(AE7:AE22)","v":1},null,null,null,"Total Sequences in Block Summary",{"$f":"SUM(AJ7:AJ22)","v":2},null,null,null,"Total Sequences in Block Summary",{"$f":"SUM(AO7:AO22)","v":2},null,null,null,"Total Sequences in Block Summary",{"$f":"SUM(AT7:AT22)","v":1}]
[null,null,null,null,null,null,null,null,null,null,null,null,null,null,null,null,null,null,null,"Block 1",null,null,null,null,"Block 2",null,null,null,null,"Block 3",null,null,null,null,"Block 4",null,null,null,null,"Block 5",null,null,null,null,"Block 6"]
["Sequence\nComponent\n1","Time\n1","Sequence\nComponent\n2","Time\n2","Sequence\nComponent\n3","Time\n3","Sequence\nComponent\n4","Time\n4","Sequence\nComponent\n5","Time\n5","Correct?\n0=No 1=Yes","Sequence",null,"Frequency",null,"Relative Frequency","Variability",null,null,"Frequency",null,"Relative Frequency","Variability",null,"Frequency",null,"Relative Frequency","Variability",null,"Frequency",null,"Relative Frequency","Variability",null,"Frequency",null,"Relative Frequency","Variability",null,"Frequency",null,"Relative Frequency","Variability",null,"Frequency",null,"Relative Frequency","Variability"]
[12,320,14,332,13,342,14,352,null,null,0,1111,null,1111,{"$f":"COUNTIF($L$7:$L$500,N7)","v":5},{"$f":"O7/$Q$4","v":0.5},{"$f":"IF(P7=0,0,(P7*((LOG(P7))/LOG(2))))","v":-0.5},null,null,{"$f":"N7","v":1111},{"$f":"COUNTIF(L7:L8,T7)","v":2},{"$f":"U7/(W4-U20)","v":1},{"$f":"IF(V7=0,0,(V7*((LOG(V7))/LOG(2))))","v":0},null,{"$f":"N7","v":1111},{"$f":"COUNTIF(L9:L10,Y7)","v":1},{"$f":"Z7/(AB4-Z20)","v":0.5},{"$f":"IF(AA7=0,0,(AA7*((LOG(AA7))/LOG(2))))","v":-0.5},null,{"$f":"N7","v":1111},{"$f":"COUNTIF(L11:L11,AD7)","v":0},{"$f":"AE7/(AG4-AE20)","v":0},{"$f":"IF(AF7=0,0,(AF7*((LOG(AF7))/LOG(2))))","v":0},null,{"$f":"N7","v":1111},{"$f":"COUNTIF(L12:L13,AI7)","v":1},{"$f":"AJ7/(AL4-AJ20)","v":0.5},{"$f":"IF(AK7=0,0,(AK7*((LOG(AK7))/LOG(2))))","v":-0.5},null,{"$f":"N7","v":1111},{"$f":"COUNTIF(L14:L15,AN7)","v":1},{"$f":"AO7/(AQ4-AO20)","v":0.5},{"$f":"IF(AP7=0,0,(AP7*((LOG(AP7))/LOG(2))))","v":-0.5},null,{"$f":"N7","v":1111},{"$f":"COUNTIF(L16:L17,AS7)","v":0},{"$f":"AT7/(AV4-AT20)","v":0},{"$f":"IF(AU7=0,0,(AU7*((LOG(AU7))/LOG(2))))","v":0}]
[12,513,14,523,13,534,14,543,null,null,0,1111,null,1112,{"$f":"COUNTIF($L$7:$L$500,N8)","v":3},{"$f":"O8/$Q$4","v":0.3},{"$f":"IF(P8=0,0,(P8*((LOG(P8))/LOG(2))))","v":-0.52108967824986185},null,null,{"$f":"N8","v":1112},{"$f":"COUNTIF(L7:L8,T8)","v":0},{"$f":"U8/(W4-U20)","v":0},{"$f":"IF(V8=0,0,(V8*((LOG(V8))/LOG(2))))","v":0},null,{"$f":"N8","v":1112},{"$f":"COUNTIF(L9:L10,Y8)","v":1},{"$f":"Z8/(AB4-Z20)","v":0.5},{"$f":"IF(AA8=0,0,(AA8*((LOG(AA8))/LOG(2))))","v":-0.5},null,{"$f":"N8","v":1112},{"$f":"COUNTIF(L11:L11,AD8)","v":1},{"$f":"AE8/(AG4-AE20)","v":1},{"$f":"IF(AF8=0,0,(AF8*((LOG(AF8))/LOG(2))))","v":0},null,{"$f":"N8","v":1112},{"$f":"COUNTIF(L12:L13,AI8)","v":0},{"$f":"AJ8/(AL4-AJ20)","v":0},{"$f":"IF(AK8=0,0,(AK8*((LOG(AK8))/LOG(2))))","v":0},null,{"$f":"N8","v":1112},{"$f":"COUNTIF(L14:L15,AN8)","v":1},{"$f":"AO8/(AQ4-AO20)","v":0.5},{"$f":"IF(AP8=0,0,(AP8*((LOG(AP8))/LOG(2))))","v":-0.5},null,{"$f":"N8","v":1112},{"$f":"COUNTIF(L16:L17,AS8)","v":0},{"$f":"AT8/(AV4-AT20)","v":0},{"$f":"IF(AU8=0,0,(AU8*((LOG(AU8))/LOG(2))))","v":0}]
[12,672,14,678,13,683,23,698,null,null,0,1112,null,1121,{"$f":"COUNTIF($L$7:$L$500,N9)","v":0},{"$f":"O9/$Q$4","v":0},{"$f":"IF(P9=0,0,(P9*((LOG(P9))/LOG(2))))","v":0},null,null,{"$f":"N9","v":1121},{"$f":"COUNTIF(L7:L8,T9)","v":0},{"$f":"U9/(W4-U20)","v":0},{"$f":"IF(V9=0,0,(V9*((LOG(V9))/LOG(2))))","v":0},null,{"$f":"N9","v":1121},{"$f":"COUNTIF(L9:L10,Y9)","v":0},{"$f":"Z9/(AB4-Z20)","v":0},{"$f":"IF(AA9=0,0,(AA9*((LOG(AA9))/LOG(2))))","v":0},null,{"$f":"N9","v":1121},{"$f":"COUNTIF(L11:L11,AD9)","v":0},{"$f":"AE9/(AG4-AE20)","v":0},{"$f":"IF(AF9=0,0,(AF9*((LOG(AF9))/LOG(2))))","v":0},null,{"$f":"N9","v":1121},{"$f":"COUNTIF(L12:L13,AI9)","v":0},{"$f":"AJ9/(AL4-AJ20)","v":0},{"$f":"IF(AK9=0,0,(AK9*((LOG(AK9))/LOG(2))))","v":0},null,{"$f":"N9","v":1121},{"$f":"COUNTIF(L14:L15,AN9)","v":0},{"$f":"AO9/(AQ4-AO20)","v":0},{"$f":"IF(AP9=0,0,(AP9*((LOG(AP9))/LOG(2))))","v":0},null,{"$f":"N9","v":1121},{"$f":"COUNTIF(L16:L17,AS9)","v":0},{"$f":"AT9/(AV4-AT20)","v":0},{"$f":"IF(AU9=0,0,(AU9*((LOG(AU9))/LOG(2))))","v":0}]
[12,796,14,802,13,808,14,814,null,null,0,1111,null,1122,{"$f":"COUNTIF($L$7:$L$500,N10)","v":0},{"$f":"O10/$Q$4","v":0},{"$f":"IF(P10=0,0,(P10*((LOG(P10))/LOG(2))))","v":0},null,null,{"$f":"N10","v":1122},{"$f":"COUNTIF(L7:L8,T10)","v":0},{"$f":"U10/(W4-U20)","v":0},{"$f":"IF(V10=0,0,(V10*((LOG(V10))/LOG(2))))","v":0},null,{"$f":"N10","v":1122},{"$f":"COUNTIF(L9:L10,Y10)","v":0},{"$f":"Z10/(AB4-Z20)","v":0},{"$f":"IF(AA10=0,0,(AA10*((LOG(AA10))/LOG(2))))","v":0},null,{"$f":"N10","v":1122},{"$f":"COUNTIF(L11:L11,AD10)","v":0},{"$f":"AE10/(AG4-AE20)","v":0},{"$f":"IF(AF10=0,0,(AF10*((LOG(AF10))/LOG(2))))","v":0},null,{"$f":"N10","v":1122},{"$f":"COUNTIF(L12:L13,AI10)","v":0},{"$f":"AJ10/(AL4-AJ20)","v":0},{"$f":"IF(AK10=0,0,(AK10*((LOG(AK10))/LOG(2))))","v":0},null,{"$f":"N10","v":1122},{"$f":"COUNTIF(L14:L15,AN10)","v":0},{"$f":"AO10/(AQ4-AO20)","v":0},{"$f":"IF(AP10=0,0,(AP10*((LOG(AP10))/LOG(2))))","v":0},null,{"$f":"N10","v":1122},{"$f":"COUNTIF(L16:L17,AS10)","v":0},{"$f":"AT10/(AV4-AT20)","v":0},{"$f":"IF(AU10=0,0,(AU10*((LOG(AU10))/LOG(2))))","v":0}]
[12,977,14,989,13,999,23,1014,null,null,0,1112,null,1211,{"$f":"COUNTIF($L$7:$L$500,N11)","v":0},{"$f":"O11/$Q$4","v":0},{"$f":"IF(P11=0,0,(P11*((LOG(P11))/LOG(2))))","v":0},null,null,{"$f":"N11","v":1211},{"$f":"COUNTIF(L7:L8,T11)","v":0},{"$f":"U11/(W4-U20)","v":0},{"$f":"IF(V11=0,0,(V11*((LOG(V11))/LOG(2))))","v":0},null,{"$f":"N11","v":1211},{"$f":"COUNTIF(L9:L10,Y11)","v":0},{"$f":"Z11/(AB4-Z20)","v":0},{"$f":"IF(AA11=0,0,(AA11*((LOG(AA11))/LOG(2))))","v":0},null,{"$f":"N11","v":1211},{"$f":"COUNTIF(L11:L11,AD11)","v":0},{"$f":"AE11/(AG4-AE20)","v":0},{"$f":"IF(AF11=0,0,(AF11*((LOG(AF11))/LOG(2))))","v":0},null,{"$f":"N11","v":1211},{"$f":"COUNTIF(L12:L13,AI11)","v":0},{"$f":"AJ11/(AL4-AJ20)","v":0},{"$f":"IF(AK11=0,0,(AK11*((LOG(AK11))/LOG(2))))","v":0},null,{"$f":"N11","v":1211},{"$f":"COUNTIF(L14:L15,AN11)","v":0},{"$f":"AO11/(AQ4-AO20)","v":0},{"$f":"IF(AP11=0,0,(AP11*((LOG(AP11))/LOG(2))))","v":0},null,{"$f":"N11","v":1211},{"$f":"COUNTIF(L16:L17,AS11)","v":0},{"$f":"AT11/(AV4-AT20)","v":0},{"$f":"IF(AU11=0,0,(AU11*((LOG(AU11))/LOG(2))))","v":0}]
[21,1153,21,1160,22,1174,23,1182,null,null,0,2222,null,1212,{"$f":"COUNTIF($L$7:$L$500,N12)","v":0},{"$f":"O12/$Q$4","v":0},{"$f":"IF(P12=0,0,(P12*((LOG(P12))/LOG(2))))","v":0},null,null,{"$f":"N12","v":1212},{"$f":"COUNTIF(L7:L8,T12)","v":0},{"$f":"U12/(W4-U20)","v":0},{"$f":"IF(V12=0,0,(V12*((LOG(V12))/LOG(2))))","v":0},null,{"$f":"N12","v":1212},{"$f":"COUNTIF(L9:L10,Y12)","v":0},{"$f":"Z12/(AB4-Z20)","v":0},{"$f":"IF(AA12=0,0,(AA12*((LOG(AA12))/LOG(2))))","v":0},null,{"$f":"N12","v":1212},{"$f":"COUNTIF(L11:L11,AD12)","v":0},{"$f":"AE12/(AG4-AE20)","v":0},{"$f":"IF(AF12=0,0,(AF12*((LOG(AF12))/LOG(2))))","v":0},null,{"$f":"N12","v":1212},{"$f":"COUNTIF(L12:L13,AI12)","v":0},{"$f":"AJ12/(AL4-AJ20)","v":0},{"$f":"IF(AK12=0,0,(AK12*((LOG(AK12))/LOG(2))))","v":0},null,{"$f":"N12","v":1212},{"$f":"COUNTIF(L14:L15,AN12)","v":0},{"$f":"AO12/(AQ4-AO20)","v":0},{"$f":"IF(AP12=0,0,(AP12*((LOG(AP12))/LOG(2))))","v":0},null,{"$f":"N12","v":1212},{"$f":"COUNTIF(L16:L17,AS12)","v":0},{"$f":"AT12/(AV4-AT20)","v":0},{"$f":"IF(AU12=0,0,(AU12*((LOG(AU12))/LOG(2))))","v":0}]
[12,1291,14,1328,13,1337,14,1343,null,null,0,1111,null,1221,{"$f":"COUNTIF($L$7:$L$500,N13)","v":0},{"$f":"O13/$Q$4","v":0},{"$f":"IF(P13=0,0,(P13*((LOG(P13))/LOG(2))))","v":0},null,null,{"$f":"N13","v":1221},{"$f":"COUNTIF(L7:L8,T13)","v":0},{"$f":"U13/(W4-U20)","v":0},{"$f":"IF(V13=0,0,(V13*((LOG(V13))/LOG(2))))","v":0},null,{"$f":"N13","v":1221},{"$f":"COUNTIF(L9:L10,Y13)","v":0},{"$f":"Z13/(AB4-Z20)","v":0},{"$f":"IF(AA13=0,0,(AA13*((LOG(AA13))/LOG(2))))","v":0},null,{"$f":"N13","v":1221},{"$f":"COUNTIF(L11:L11,AD13)","v":0},{"$f":"AE13/(AG4-AE20)","v":0},{"$f":"IF(AF13=0,0,(AF13*((LOG(AF13))/LOG(2))))","v":0},null,{"$f":"N13","v":1221},{"$f":"COUNTIF(L12:L13,AI13)","v":0},{"$f":"AJ13/(AL4-AJ20)","v":0},{"$f":"IF(AK13=0,0,(AK13*((LOG(AK13))/LOG(2))))","v":0},null,{"$f":"N13","v":1221},{"$f":"COUNTIF(L14:L15,AN13)","v":0},{"$f":"AO13/(AQ4-AO20)","v":0},{"$f":"IF(AP13=0,0,(AP13*((LOG(AP13))/LOG(2))))","v":0},null,{"$f":"N13","v":1221},{"$f":"COUNTIF(L16:L17,AS13)","v":0},{"$f":"AT13/(AV4-AT20)","v":0},{"$f":"IF(AU13=0,0,(AU13*((LOG(AU13))/LOG(2))))","v":0}]
[12,1623,14,1637,13,1646,23,1662,null,null,0,1112,null,1222,{"$f":"COUNTIF($L$7:$L$500,N14)","v":0},{"$f":"O14/$Q$4","v":0},{"$f":"IF(P14=0,0,(P14*((LOG(P14))/LOG(2))))","v":0},null,null,{"$f":"N14","v":1222},{"$f":"COUNTIF(L7:L8,T14)","v":0},{"$f":"U14/(W4-U20)","v":0},{"$f":"IF(V14=0,0,(V14*((LOG(V14))/LOG(2))))","v":0},null,{"$f":"N14","v":1222},{"$f":"COUNTIF(L9:L10,Y14)","v":0},{"$f":"Z14/(AB4-Z20)","v":0},{"$f":"IF(AA14=0,0,(AA14*((LOG(AA14))/LOG(2))))","v":0},null,{"$f":"N14","v":1222},{"$f":"COUNTIF(L11:L11,AD14)","v":0},{"$f":"AE14/(AG4-AE20)","v":0},{"$f":"IF(AF14=0,0,(AF14*((LOG(AF14))/LOG(2))))","v":0},null,{"$f":"N14","v":1222},{"$f":"COUNTIF(L12:L13,AI14)","v":0},{"$f":"AJ14/(AL4-AJ20)","v":0},{"$f":"IF(AK14=0,0,(AK14*((LOG(AK14))/LOG(2))))","v":0},null,{"$f":"N14","v":1222},{"$f":"COUNTIF(L14:L15,AN14)","v":0},{"$f":"AO14/(AQ4-AO20)","v":0},{"$f":"IF(AP14=0,0,(AP14*((LOG(AP14))/LOG(2))))","v":0},null,{"$f":"N14","v":1222},{"$f":"COUNTIF(L16:L17,AS14)","v":0},{"$f":"AT14/(AV4-AT20)","v":0},{"$f":"IF(AU14=0,0,(AU14*((LOG(AU14))/LOG(2))))","v":0}]
[12,1763,14,1770,13,1779,14,1787,null,null,0,1111,null,2111,{"$f":"COUNTIF($L$7:$L$500,N15)","v":0},{"$f":"O15/$Q$4","v":0},{"$f":"IF(P15=0,0,(P15*((LOG(P15))/LOG(2))))","v":0},null,null,{"$f":"N15","v":2111},{"$f":"COUNTIF(L7:L8,T15)","v":0},{"$f":"U15/(W4-U20)","v":0},{"$f":"IF(V15=0,0,(V15*((LOG(V15))/LOG(2))))","v":0},null,{"$f":"N15","v":2111},{"$f":"COUNTIF(L9:L10,Y15)","v":0},{"$f":"Z15/(AB4-Z20)","v":0},{"$f":"IF(AA15=0,0,(AA15*((LOG(AA15))/LOG(2))))","v":0},null,{"$f":"N15","v":2111},{"$f":"COUNTIF(L11:L11,AD15)","v":0},{"$f":"AE15/(AG4-AE20)","v":0},{"$f":"IF(AF15=0,0,(AF15*((LOG(AF15))/LOG(2))))","v":0},null,{"$f":"N15","v":2111},{"$f":"COUNTIF(L12:L13,AI15)","v":0},{"$f":"AJ15/(AL4-AJ20)","v":0},{"$f":"IF(AK15=0,0,(AK15*((LOG(AK15))/LOG(2))))","v":0},null,{"$f":"N15","v":2111},{"$f":"COUNTIF(L14:L15,AN15)","v":0},{"$f":"AO15/(AQ4-AO20)","v":0},{"$f":"IF(AP15=0,0,(AP15*((LOG(AP15))/LOG(2))))","v":0},null,{"$f":"N15","v":2111},{"$f":"COUNTIF(L16:L17,AS15)","v":0},{"$f":"AT15/(AV4-AT20)","v":0},{"$f":"IF(AU15=0,0,(AU15*((LOG(AU15))/LOG(2))))","v":0}]
[21,3655,21,3666,22,3671,23,3681,null,null,0,2222,null,2112,{"$f":"COUNTIF($L$7:$L$500,N16)","v":0},{"$f":"O16/$Q$4","v":0},{"$f":"IF(P16=0,0,(P16*((LOG(P16))/LOG(2))))","v":0},null,null,{"$f":"N16","v":2112},{"$f":"COUNTIF(L7:L8,T16)","v":0},{"$f":"U16/(W4-U20)","v":0},{"$f":"IF(V16=0,0,(V16*((LOG(V16))/LOG(2))))","v":0},null,{"$f":"N16","v":2112},{"$f":"COUNTIF(L9:L10,Y16)","v":0},{"$f":"Z16/(AB4-Z20)","v":0},{"$f":"IF(AA16=0,0,(AA16*((LOG(AA16))/LOG(2))))","v":0},null,{"$f":"N16","v":2112},{"$f":"COUNTIF(L11:L11,AD16)","v":0},{"$f":"AE16/(AG4-AE20)","v":0},{"$f":"IF(AF16=0,0,(AF16*((LOG(AF16))/LOG(2))))","v":0},null,{"$f":"N16","v":2112},{"$f":"COUNTIF(L12:L13,AI16)","v":0},{"$f":"AJ16/(AL4-AJ20)","v":0},{"$f":"IF(AK16=0,0,(AK16*((LOG(AK16))/LOG(2))))","v":0},null,{"$f":"N16","v":2112},{"$f":"COUNTIF(L14:L15,AN16)","v":0},{"$f":"AO16/(AQ4-AO20)","v":0},{"$f":"IF(AP16=0,0,(AP16*((LOG(AP16))/LOG(2))))","v":0},null,{"$f":"N16","v":2112},{"$f":"COUNTIF(L16:L17,AS16)","v":0},{"$f":"AT16/(AV4-AT20)","v":0},{"$f":"IF(AU16=0,0,(AU16*((LOG(AU16))/LOG(2))))","v":0}]
[21,4409,null,null,null,null,null,null,null,null,null,2,null,2121,{"$f":"COUNTIF($L$7:$L$500,N17)","v":0},{"$f":"O17/$Q$4","v":0},{"$f":"IF(P17=0,0,(P17*((LOG(P17))/LOG(2))))","v":0},null,null,{"$f":"N17","v":2121},{"$f":"COUNTIF(L7:L8,T17)","v":0},{"$f":"U17/(W4-U20)","v":0},{"$f":"IF(V17=0,0,(V17*((LOG(V17))/LOG(2))))","v":0},null,{"$f":"N17","v":2121},{"$f":"COUNTIF(L9:L10,Y17)","v":0},{"$f":"Z17/(AB4-Z20)","v":0},{"$f":"IF(AA17=0,0,(AA17*((LOG(AA17))/LOG(2))))","v":0},null,{"$f":"N17","v":2121},{"$f":"COUNTIF(L11:L11,AD17)","v":0},{"$f":"AE17/(AG4-AE20)","v":0},{"$f":"IF(AF17=0,0,(AF17*((LOG(AF17))/LOG(2))))","v":0},null,{"$f":"N17","v":2121},{"$f":"COUNTIF(L12:L13,AI17)","v":0},{"$f":"AJ17/(AL4-AJ20)","v":0},{"$f":"IF(AK17=0,0,(AK17*((LOG(AK17))/LOG(2))))","v":0},null,{"$f":"N17","v":2121},{"$f":"COUNTIF(L14:L15,AN17)","v":0},{"$f":"AO17/(AQ4-AO20)","v":0},{"$f":"IF(AP17=0,0,(AP17*((LOG(AP17))/LOG(2))))","v":0},null,{"$f":"N17","v":2121},{"$f":"COUNTIF(L16:L17,AS17)","v":0},{"$f":"AT17/(AV4-AT20)","v":0},{"$f":"IF(AU17=0,0,(AU17*((LOG(AU17))/LOG(2))))","v":0}]
[null,null,null,null,null,null,null,null,null,null,null,null,null,2122,{"$f":"COUNTIF($L$7:$L$500,N18)","v":0},{"$f":"O18/$Q$4","v":0},{"$f":"IF(P18=0,0,(P18*((LOG(P18))/LOG(2))))","v":0},null,null,{"$f":"N18","v":2122},{"$f":"COUNTIF(L7:L8,T18)","v":0},{"$f":"U18/(W4-U20)","v":0},{"$f":"IF(V18=0,0,(V18*((LOG(V18))/LOG(2))))","v":0},null,{"$f":"N18","v":2122},{"$f":"COUNTIF(L9:L10,Y18)","v":0},{"$f":"Z18/(AB4-Z20)","v":0},{"$f":"IF(AA18=0,0,(AA18*((LOG(AA18))/LOG(2))))","v":0},null,{"$f":"N18","v":2122},{"$f":"COUNTIF(L11:L11,AD18)","v":0},{"$f":"AE18/(AG4-AE20)","v":0},{"$f":"IF(AF18=0,0,(AF18*((LOG(AF18))/LOG(2))))","v":0},null,{"$f":"N18","v":2122},{"$f":"COUNTIF(L12:L13,AI18)","v":0},{"$f":"AJ18/(AL4-AJ20)","v":0},{"$f":"IF(AK18=0,0,(AK18*((LOG(AK18))/LOG(2))))","v":0},null,{"$f":"N18","v":2122},{"$f":"COUNTIF(L14:L15,AN18)","v":0},{"$f":"AO18/(AQ4-AO20)","v":0},{"$f":"IF(AP18=0,0,(AP18*((LOG(AP18))/LOG(2))))","v":0},null,{"$f":"N18","v":2122},{"$f":"COUNTIF(L16:L17,AS18)","v":0},{"$f":"AT18/(AV4-AT20)","v":0},{"$f":"IF(AU18=0,0,(AU18*((LOG(AU18))/LOG(2))))","v":0}]
[null,null,null,null,null,null,null,null,null,null,null,null,null,2211,{"$f":"COUNTIF($L$7:$L$500,N19)","v":0},{"$f":"O19/$Q$4","v":0},{"$f":"IF(P19=0,0,(P19*((LOG(P19))/LOG(2))))","v":0},null,null,{"$f":"N19","v":2211},{"$f":"COUNTIF(L7:L8,T19)","v":0},{"$f":"U19/(W4-U20)","v":0},{"$f":"IF(V19=0,0,(V19*((LOG(V19))/LOG(2))))","v":0},null,{"$f":"N19","v":2211},{"$f":"COUNTIF(L9:L10,Y19)","v":0},{"$f":"Z19/(AB4-Z20)","v":0},{"$f":"IF(AA19=0,0,(AA19*((LOG(AA19))/LOG(2))))","v":0},null,{"$f":"N19","v":2211},{"$f":"COUNTIF(L11:L11,AD19)","v":0},{"$f":"AE19/(AG4-AE20)","v":0},{"$f":"IF(AF19=0,0,(AF19*((LOG(AF19))/LOG(2))))","v":0},null,{"$f":"N19","v":2211},{"$f":"COUNTIF(L12:L13,AI19)","v":0},{"$f":"AJ19/(AL4-AJ20)","v":0},{"$f":"IF(AK19=0,0,(AK19*((LOG(AK19))/LOG(2))))","v":0},null,{"$f":"N19","v":2211},{"$f":"COUNTIF(L14:L15,AN19)","v":0},{"$f":"AO19/(AQ4-AO20)","v":0},{"$f":"IF(AP19=0,0,(AP19*((LOG(AP19))/LOG(2))))","v":0},null,{"$f":"N19","v":2211},{"$f":"COUNTIF(L16:L17,AS19)","v":0},{"$f":"AT19/(AV4-AT20)","v":0},{"$f":"IF(AU19=0,0,(AU19*((LOG(AU19))/LOG(2))))","v":0}]
[null,null,null,null,null,null,null,null,null,null,null,null,null,2212,{"$f":"COUNTIF($L$7:$L$500,N20)","v":0},{"$f":"O20/$Q$4","v":0},{"$f":"IF(P20=0,0,(P20*((LOG(P20))/LOG(2))))","v":0},null,null,{"$f":"N20","v":2212},{"$f":"COUNTIF(L7:L8,T20)","v":0},null,null,null,{"$f":"N20","v":2212},{"$f":"COUNTIF(L9:L10,Y20)","v":0},null,null,null,{"$f":"N20","v":2212},{"$f":"COUNTIF(L11:L11,AD20)","v":0},null,null,null,{"$f":"N20","v":2212},{"$f":"COUNTIF(L12:L13,AI20)","v":0},null,null,null,{"$f":"N20","v":2212},{"$f":"COUNTIF(L14:L15,AN20)","v":0},null,null,null,{"$f":"N20","v":2212},{"$f":"COUNTIF(L16:L17,AS20)","v":0}]
[null,null,null,null,null,null,null,null,null,null,null,null,null,2221,{"$f":"COUNTIF($L$7:$L$500,N21)","v":0},{"$f":"O21/$Q$4","v":0},{"$f":"IF(P21=0,0,(P21*((LOG(P21))/LOG(2))))","v":0},null,null,{"$f":"N21","v":2221},{"$f":"COUNTIF(L7:L8,T21)","v":0},{"$f":"U21/(W4-U20)","v":0},{"$f":"IF(V21=0,0,(V21*((LOG(V21))/LOG(2))))","v":0},null,{"$f":"N21","v":2221},{"$f":"COUNTIF(L9:L10,Y21)","v":0},{"$f":"Z21/(AB4-Z20)","v":0},{"$f":"IF(AA21=0,0,(AA21*((LOG(AA21))/LOG(2))))","v":0},null,{"$f":"N21","v":2221},{"$f":"COUNTIF(L11:L11,AD21)","v":0},{"$f":"AE21/(AG4-AE20)","v":0},{"$f":"IF(AF21=0,0,(AF21*((LOG(AF21))/LOG(2))))","v":0},null,{"$f":"N21","v":2221},{"$f":"COUNTIF(L12:L13,AI21)","v":0},{"$f":"AJ21/(AL4-AJ20)","v":0},{"$f":"IF(AK21=0,0,(AK21*((LOG(AK21))/LOG(2))))","v":0},null,{"$f":"N21","v":2221},{"$f":"COUNTIF(L14:L15,AN21)","v":0},{"$f":"AO21/(AQ4-AO20)","v":0},{"$f":"IF(AP21=0,0,(AP21*((LOG(AP21))/LOG(2))))","v":0},null,{"$f":"N21","v":2221},{"$f":"COUNTIF(L16:L17,AS21)","v":0},{"$f":"AT21/(AV4-AT20)","v":0},{"$f":"IF(AU21=0,0,(AU21*((LOG(AU21))/LOG(2))))","v":0}]
[null,null,null,null,null,null,null,null,null,null,null,null,null,2222,{"$f":"COUNTIF($L$7:$L$500,N22)","v":2},{"$f":"O22/$Q$4","v":0.2},{"$f":"IF(P22=0,0,(P22*((LOG(P22))/LOG(2))))","v":-0.46438561897747244},null,null,{"$f":"N22","v":2222},{"$f":"COUNTIF(L7:L8,T22)","v":0},{"$f":"U22/(W4-U20)","v":0},{"$f":"IF(V22=0,0,(V22*((LOG(V22))/LOG(2))))","v":0},null,{"$f":"N22","v":2222},{"$f":"COUNTIF(L9:L10,Y22)","v":0},{"$f":"Z22/(AB4-Z20)","v":0},{"$f":"IF(AA22=0,0,(AA22*((LOG(AA22))/LOG(2))))","v":0},null,{"$f":"N22","v":2222},{"$f":"COUNTIF(L11:L11,AD22)","v":0},{"$f":"AE22/(AG4-AE20)","v":0},{"$f":"IF(AF22=0,0,(AF22*((LOG(AF22))/LOG(2))))","v":0},null,{"$f":"N22","v":2222},{"$f":"COUNTIF(L12:L13,AI22)","v":1},{"$f":"AJ22/(AL4-AJ20)","v":0.5},{"$f":"IF(AK22=0,0,(AK22*((LOG(AK22))/LOG(2))))","v":-0.5},null,{"$f":"N22","v":2222},{"$f":"COUNTIF(L14:L15,AN22)","v":0},{"$f":"AO22/(AQ4-AO20)","v":0},{"$f":"IF(AP22=0,0,(AP22*((LOG(AP22))/LOG(2))))","v":0},null,{"$f":"N22","v":2222},{"$f":"COUNTIF(L16:L17,AS22)","v":1},{"$f":"AT22/(AV4-AT20)","v":1},{"$f":"IF(AU22=0,0,(AU22*((LOG(AU22))/LOG(2))))","v":0}]
[null,null,null,null,null,null,null,null,null,null,null,null,null,null,null,{"$f":"SUM(P7:P22)","v":1},{"$f":"-SUM(Q7:Q22)","v":1.4854752972273344},null,null,null,null,{"$f":"SUM(V7:V22)","v":1},{"$f":"-SUM(W7:W22)","v":0},null,null,null,{"$f":"SUM(AA7:AA22)","v":1},{"$f":"-SUM(AB7:AB22)","v":1},null,null,null,{"$f":"SUM(AF7:AF22)","v":1},{"$f":"-SUM(AG7:AG22)","v":0},null,null,null,{"$f":"SUM(AK7:AK22)","v":1},{"$f":"-SUM(AL7:AL22)","v":1},null,null,null,{"$f":"SUM(AP7:AP22)","v":1},{"$f":"-SUM(AQ7:AQ22)","v":1},null,null,null,{"$f":"SUM(AU7:AU22)","v":1},{"$f":"-SUM(AV7:AV22)","v":0}]
[null,null,null,null,null,null,null,null,null,null,null,null,null,null,null,"U=",{"$f":"Q23/(LOG(Q4)/LOG(2))","v":0.44717262228329568},null,null,null,null,"U1=",{"$f":"W23/(LOG(W4)/LOG(2))","v":0},null,null,null,"U2=",{"$f":"AB23/(LOG(AB4)/LOG(2))","v":1},null,null,null,"U3=",{"$f":"AG23/(LOG(AG4)/LOG(2))","v":{"$error":"#DIV/0!"}},null,null,null,"U4=",{"$f":"AL23/(LOG(AL4)/LOG(2))","v":1},null,null,null,"U5=",{"$f":"AQ23/(LOG(AQ4)/LOG(2))","v":1},null,null,null,"U6=",{"$f":"AV23/(LOG(AV4)/LOG(2))","v":{"$error":"#DIV/0!"}}]
[]
[]
[null,null,null,null,null,null,null,null,null,null,null,null,null,"Total Target Seq"]
[null,null,null,null,null,null,null,null,null,null,null,null,null,{"$f":"COUNTIF(L7:L17,G3)","v":0},null,2,2,1,2,2,2]
[null,null,null,null,null,null,null,null,null,null,null,null,null,null,null,"% of reinforcement given in 6 equal intervals based on number of trials "]
[null,null,null,null,null,null,null,null,null,null,null,null,null,null,null,"%_1","%_2","%_3","%_4","%_5","%_6"]
[null,null,null,null,null,null,null,null,null,null,null,null,null,null,"target sequence",{"$f":"$G$3","v":2212},{"$f":"$G$3","v":2212},{"$f":"$G$3","v":2212},{"$f":"$G$3","v":2212},{"$f":"$G$3","v":2212},{"$f":"$G$3","v":2212}]
[null,null,null,null,null,null,null,null,null,null,null,null,null,null,"total reinforcement",{"$f":"U20","v":0},{"$f":"Z20","v":0},{"$f":"AE20","v":0},{"$f":"AJ20","v":0},{"$f":"AO20","v":0},{"$f":"AT20","v":0}]
[null,null,null,null,null,null,null,null,null,null,null,null,null,null,"% target"]
[null,null,null,null,null,null,null,null,null,null,null,null,null,null,"CCRF"]
[null,null,null,null,null,null,null,null,null,null,null,null,null,null,"% CCRf"]
[null,null,null,null,null,null,null,null,null,null,null,null,null,null,"average response rate",{"$f":"H8/P28","v":271.5},{"$f":"(H10-H8)/Q28","v":135.5},{"$f":"(H11-H10)/R28","v":200},{"$f":"(H13-H11)/S28","v":164.5},{"$f":"(H15-H13)/T28","v":222},{"$f":"(H17-H15)/U28","v":-893.5}]

{"sheet":"!M911910.102","index":15,"n_rows":36,"n_cols":48,"rows_kept":36,"cut":false,"hidden":false,"merged":[[4,39,4,42],[5,39,5,40],[4,44,4,47],[5,44,5,45],[4,24,4,27],[5,24,5,25],[4,29,4,32],[5,29,5,30],[4,34,4,37],[5,34,5,35],[1,1,1,2],[5,13,5,14],[26,13,26,14],[27,13,27,14],[4,19,4,22],[5,19,5,20]]}
["Report for:!M911910.102"]
["Date:","<date>"]
["Hen:","<hen>",null,null,null,"Correct Sequence",{"$f":"Start!J2","v":2212},null,null,null,null,null,null,null,null,"Total Sequences in Data",{"$f":"4994-COUNTBLANK(L7:L5000)","v":5},null,null,null,null,"Total Sequences in Block Data",{"$f":"COUNTA(L7:L7)","v":1},null,null,null,"Total Sequences in Block Data",{"$f":"COUNTA(L8:L8)","v":1},null,null,null,"Total Sequences in Block Data",{"$f":"COUNTA(L8:L9)","v":2},null,null,null,"Total Sequences in Block Data",{"$f":"COUNTA(L9:L9)","v":1},null,null,null,"Total Sequences in Block Data",{"$f":"COUNTA(L10:L10)","v":1},null,null,null,"Total Sequences in Block Data",{"$f":"COUNTA(L11:L11)","v":1}]
[null,null,null,null,null,null,null,null,null,null,null,null,null,null,null,"Total Sequences in Summary",{"$f":"SUM(O7:O22)","v":4},null,null,null,null,"Total Sequences in Block Summary",{"$f":"SUM(U7:U22)","v":1},null,null,null,"Total Sequences in Block Summary",{"$f":"SUM(Z7:Z22)","v":1},null,null,null,"Total Sequences in Block Summary",{"$f":"SUM(AE7:AE22)","v":2},null,null,null,"Total Sequences in Block Summary",{"$f":"SUM(AJ7:AJ22)","v":1},null,null,null,"Total Sequences in Block Summary",{"$f":"SUM(AO7:AO22)","v":1},null,null,null,"Total Sequences in Block Summary",{"$f":"SUM(AT7:AT22)","v":0}]
[null,null,null,null,null,null,null,null,null,null,null,null,null,null,null,null,null,null,null,"Block 1",null,null,null,null,"Block 2",null,null,null,null,"Block 3",null,null,null,null,"Block 4",null,null,null,null,"Block 5",null,null,null,null,"Block 6"]
["Sequence\nComponent\n1","Time\n1","Sequence\nComponent\n2","Time\n2","Sequence\nComponent\n3","Time\n3","Sequence\nComponent\n4","Time\n4","Sequence\nComponent\n5","Time\n5","Correct?\n0=No 1=Yes","Sequence",null,"Frequency",null,"Relative Frequency","Variability",null,null,"Frequency",null,"Relative Frequency","Variability",null,"Frequency",null,"Relative Frequency","Variability",null,"Frequency",null,"Relative Frequency","Variability",null,"Frequency",null,"Relative Frequency","Variability",null,"Frequency",null,"Relative Frequency","Variability",null,"Frequency",null,"Relative Frequency","Variability"]
[12,61,14,70,13,78,14,85,null,null,0,1111,null,1111,{"$f":"COUNTIF($L$7:$L$500,N7)","v":4},{"$f":"O7/$Q$4","v":1},{"$f":"IF(P7=0,0,(P7*((LOG(P7))/LOG(2))))","v":0},null,null,{"$f":"N7","v":1111},{"$f":"COUNTIF(L7:L7,T7)","v":1},{"$f":"U7/(W4-U20)","v":1},{"$f":"IF(V7=0,0,(V7*((LOG(V7))/LOG(2))))","v":0},null,{"$f":"N7","v":1111},{"$f":"COUNTIF(L8:L8,Y7)","v":1},{"$f":"Z7/(AB4-Z20)","v":1},{"$f":"IF(AA7=0,0,(AA7*((LOG(AA7))/LOG(2))))","v":0},null,{"$f":"N7","v":1111},{"$f":"COUNTIF(L8:L9,AD7)","v":2},{"$f":"AE7/(AG4-AE20)","v":1},{"$f":"IF(AF7=0,0,(AF7*((LOG(AF7))/LOG(2))))","v":0},null,{"$f":"N7","v":1111},{"$f":"COUNTIF(L9:L9,AI7)","v":1},{"$f":"AJ7/(AL4-AJ20)","v":1},{"$f":"IF(AK7=0,0,(AK7*((LOG(AK7))/LOG(2))))","v":0},null,{"$f":"N7","v":1111},{"$f":"COUNTIF(L10:L10,AN7)","v":1},{"$f":"AO7/(AQ4-AO20)","v":1},{"$f":"IF(AP7=0,0,(AP7*((LOG(AP7))/LOG(2))))","v":0},null,{"$f":"N7","v":1111},{"$f":"COUNTIF(L11:L11,AS7)","v":0},{"$f":"AT7/(AV4-AT20)","v":{"$error":"#DIV/0!"}},{"$f":"IF(AU7=0,0,(AU7*((LOG(AU7))/LOG(2))))","v":{"$error":"#DIV/0!"}}]
[12,247,14,257,13,267,14,276,null,null,0,1111,null,1112,{"$f":"COUNTIF($L$7:$L$500,N8)","v":0},{"$f":"O8/$Q$4","v":0},{"$f":"IF(P8=0,0,(P8*((LOG(P8))/LOG(2))))","v":0},null,null,{"$f":"N8","v":1112},{"$f":"COUNTIF(L7:L7,T8)","v":0},{"$f":"U8/(W4-U20)","v":0},{"$f":"IF(V8=0,0,(V8*((LOG(V8))/LOG(2))))","v":0},null,{"$f":"N8","v":1112},{"$f":"COUNTIF(L8:L8,Y8)","v":0},{"$f":"Z8/(AB4-Z20)","v":0},{"$f":"IF(AA8=0,0,(AA8*((LOG(AA8))/LOG(2))))","v":0},null,{"$f":"N8","v":1112},{"$f":"COUNTIF(L8:L9,AD8)","v":0},{"$f":"AE8/(AG4-AE20)","v":0},{"$f":"IF(AF8=0,0,(AF8*((LOG(AF8))/LOG(2))))","v":0},null,{"$f":"N8","v":1112},{"$f":"COUNTIF(L9:L9,AI8)","v":0},{"$f":"AJ8/(AL4-AJ20)","v":0},{"$f":"IF(AK8=0,0,(AK8*((LOG(AK8))/LOG(2))))","v":0},null,{"$f":"N8","v":1112},{"$f":"COUNTIF(L10:L10,AN8)","v":0},{"$f":"AO8/(AQ4-AO20)","v":0},{"$f":"IF(AP8=0,0,(AP8*((LOG(AP8))/LOG(2))))","v":0},null,{"$f":"N8","v":1112},{"$f":"COUNTIF(L11:L11,AS8)","v":0},{"$f":"AT8/(AV4-AT20)","v":{"$error":"#DIV/0!"}},{"$f":"IF(AU8=0,0,(AU8*((LOG(AU8))/LOG(2))))","v":{"$error":"#DIV/0!"}}]
[12,390,14,402,13,427,14,445,null,null,0,1111,null,1121,{"$f":"COUNTIF($L$7:$L$500,N9)","v":0},{"$f":"O9/$Q$4","v":0},{"$f":"IF(P9=0,0,(P9*((LOG(P9))/LOG(2))))","v":0},null,null,{"$f":"N9","v":1121},{"$f":"COUNTIF(L7:L7,T9)","v":0},{"$f":"U9/(W4-U20)","v":0},{"$f":"IF(V9=0,0,(V9*((LOG(V9))/LOG(2))))","v":0},null,{"$f":"N9","v":1121},{"$f":"COUNTIF(L8:L8,Y9)","v":0},{"$f":"Z9/(AB4-Z20)","v":0},{"$f":"IF(AA9=0,0,(AA9*((LOG(AA9))/LOG(2))))","v":0},null,{"$f":"N9","v":1121},{"$f":"COUNTIF(L8:L9,AD9)","v":0},{"$f":"AE9/(AG4-AE20)","v":0},{"$f":"IF(AF9=0,0,(AF9*((LOG(AF9))/LOG(2))))","v":0},null,{"$f":"N9","v":1121},{"$f":"COUNTIF(L9:L9,AI9)","v":0},{"$f":"AJ9/(AL4-AJ20)","v":0},{"$f":"IF(AK9=0,0,(AK9*((LOG(AK9))/LOG(2))))","v":0},null,{"$f":"N9","v":1121},{"$f":"COUNTIF(L10:L10,AN9)","v":0},{"$f":"AO9/(AQ4-AO20)","v":0},{"$f":"IF(AP9=0,0,(AP9*((LOG(AP9))/LOG(2))))","v":0},null,{"$f":"N9","v":1121},{"$f":"COUNTIF(L11:L11,AS9)","v":0},{"$f":"AT9/(AV4-AT20)","v":{"$error":"#DIV/0!"}},{"$f":"IF(AU9=0,0,(AU9*((LOG(AU9))/LOG(2))))","v":{"$error":"#DIV/0!"}}]
[12,1703,14,23791,13,23802,14,23816,null,null,0,1111,null,1122,{"$f":"COUNTIF($L$7:$L$500,N10)","v":0},{"$f":"O10/$Q$4","v":0},{"$f":"IF(P10=0,0,(P10*((LOG(P10))/LOG(2))))","v":0},null,null,{"$f":"N10","v":1122},{"$f":"COUNTIF(L7:L7,T10)","v":0},{"$f":"U10/(W4-U20)","v":0},{"$f":"IF(V10=0,0,(V10*((LOG(V10))/LOG(2))))","v":0},null,{"$f":"N10","v":1122},{"$f":"COUNTIF(L8:L8,Y10)","v":0},{"$f":"Z10/(AB4-Z20)","v":0},{"$f":"IF(AA10=0,0,(AA10*((LOG(AA10))/LOG(2))))","v":0},null,{"$f":"N10","v":1122},{"$f":"COUNTIF(L8:L9,AD10)","v":0},{"$f":"AE10/(AG4-AE20)","v":0},{"$f":"IF(AF10=0,0,(AF10*((LOG(AF10))/LOG(2))))","v":0},null,{"$f":"N10","v":1122},{"$f":"COUNTIF(L9:L9,AI10)","v":0},{"$f":"AJ10/(AL4-AJ20)","v":0},{"$f":"IF(AK10=0,0,(AK10*((LOG(AK10))/LOG(2))))","v":0},null,{"$f":"N10","v":1122},{"$f":"COUNTIF(L10:L10,AN10)","v":0},{"$f":"AO10/(AQ4-AO20)","v":0},{"$f":"IF(AP10=0,0,(AP10*((LOG(AP10))/LOG(2))))","v":0},null,{"$f":"N10","v":1122},{"$f":"COUNTIF(L11:L11,AS10)","v":0},{"$f":"AT10/(AV4-AT20)","v":{"$error":"#DIV/0!"}},{"$f":"IF(AU10=0,0,(AU10*((LOG(AU10))/LOG(2))))","v":{"$error":"#DIV/0!"}}]
[21,24001,null,null,null,null,null,null,null,null,null,2,null,1211,{"$f":"COUNTIF($L$7:$L$500,N11)","v":0},{"$f":"O11/$Q$4","v":0},{"$f":"IF(P11=0,0,(P11*((LOG(P11))/LOG(2))))","v":0},null,null,{"$f":"N11","v":1211},{"$f":"COUNTIF(L7:L7,T11)","v":0},{"$f":"U11/(W4-U20)","v":0},{"$f":"IF(V11=0,0,(V11*((LOG(V11))/LOG(2))))","v":0},null,{"$f":"N11","v":1211},{"$f":"COUNTIF(L8:L8,Y11)","v":0},{"$f":"Z11/(AB4-Z20)","v":0},{"$f":"IF(AA11=0,0,(AA11*((LOG(AA11))/LOG(2))))","v":0},null,{"$f":"N11","v":1211},{"$f":"COUNTIF(L8:L9,AD11)","v":0},{"$f":"AE11/(AG4-AE20)","v":0},{"$f":"IF(AF11=0,0,(AF11*((LOG(AF11))/LOG(2))))","v":0},null,{"$f":"N11","v":1211},{"$f":"COUNTIF(L9:L9,AI11)","v":0},{"$f":"AJ11/(AL4-AJ20)","v":0},{"$f":"IF(AK11=0,0,(AK11*((LOG(AK11))/LOG(2))))","v":0},null,{"$f":"N11","v":1211},{"$f":"COUNTIF(L10:L10,AN11)","v":0},{"$f":"AO11/(AQ4-AO20)","v":0},{"$f":"IF(AP11=0,0,(AP11*((LOG(AP11))/LOG(2))))","v":0},null,{"$f":"N11","v":1211},{"$f":"COUNTIF(L11:L11,AS11)","v":0},{"$f":"AT11/(AV4-AT20)","v":{"$error":"#DIV/0!"}},{"$f":"IF(AU11=0,0,(AU11*((LOG(AU11))/LOG(2))))","v":{"$error":"#DIV/0!"}}]
[null,null,null,null,null,null,null,null,null,null,null,null,null,1212,{"$f":"COUNTIF($L$7:$L$500,N12)","v":0},{"$f":"O12/$Q$4","v":0},{"$f":"IF(P12=0,0,(P12*((LOG(P12))/LOG(2))))","v":0},null,null,{"$f":"N12","v":1212},{"$f":"COUNTIF(L7:L7,T12)","v":0},{"$f":"U12/(W4-U20)","v":0},{"$f":"IF(V12=0,0,(V12*((LOG(V12))/LOG(2))))","v":0},null,{"$f":"N12","v":1212},{"$f":"COUNTIF(L8:L8,Y12)","v":0},{"$f":"Z12/(AB4-Z20)","v":0},{"$f":"IF(AA12=0,0,(AA12*((LOG(AA12))/LOG(2))))","v":0},null,{"$f":"N12","v":1212},{"$f":"COUNTIF(L8:L9,AD12)","v":0},{"$f":"AE12/(AG4-AE20)","v":0},{"$f":"IF(AF12=0,0,(AF12*((LOG(AF12))/LOG(2))))","v":0},null,{"$f":"N12","v":1212},{"$f":"COUNTIF(L9:L9,AI12)","v":0},{"$f":"AJ12/(AL4-AJ20)","v":0},{"$f":"IF(AK12=0,0,(AK12*((LOG(AK12))/LOG(2))))","v":0},null,{"$f":"N12","v":1212},{"$f":"COUNTIF(L10:L10,AN12)","v":0},{"$f":"AO12/(AQ4-AO20)","v":0},{"$f":"IF(AP12=0,0,(AP12*((LOG(AP12))/LOG(2))))","v":0},null,{"$f":"N12","v":1212},{"$f":"COUNTIF(L11:L11,AS12)","v":0},{"$f":"AT12/(AV4-AT20)","v":{"$error":"#DIV/0!"}},{"$f":"IF(AU12=0,0,(AU12*((LOG(AU12))/LOG(2))))","v":{"$error":"#DIV/0!"}}]
[null,null,null,null,null,null,null,null,null,null,null,null,null,1221,{"$f":"COUNTIF($L$7:$L$500,N13)","v":0},{"$f":"O13/$Q$4","v":0},{"$f":"IF(P13=0,0,(P13*((LOG(P13))/LOG(2))))","v":0},null,null,{"$f":"N13","v":1221},{"$f":"COUNTIF(L7:L7,T13)","v":0},{"$f":"U13/(W4-U20)","v":0},{"$f":"IF(V13=0,0,(V13*((LOG(V13))/LOG(2))))","v":0},null,{"$f":"N13","v":1221},{"$f":"COUNTIF(L8:L8,Y13)","v":0},{"$f":"Z13/(AB4-Z20)","v":0},{"$f":"IF(AA13=0,0,(AA13*((LOG(AA13))/LOG(2))))","v":0},null,{"$f":"N13","v":1221},{"$f":"COUNTIF(L8:L9,AD13)","v":0},{"$f":"AE13/(AG4-AE20)","v":0},{"$f":"IF(AF13=0,0,(AF13*((LOG(AF13))/LOG(2))))","v":0},null,{"$f":"N13","v":1221},{"$f":"COUNTIF(L9:L9,AI13)","v":0},{"$f":"AJ13/(AL4-AJ20)","v":0},{"$f":"IF(AK13=0,0,(AK13*((LOG(AK13))/LOG(2))))","v":0},null,{"$f":"N13","v":1221},{"$f":"COUNTIF(L10:L10,AN13)","v":0},{"$f":"AO13/(AQ4-AO20)","v":0},{"$f":"IF(AP13=0,0,(AP13*((LOG(AP13))/LOG(2))))","v":0},null,{"$f":"N13","v":1221},{"$f":"COUNTIF(L11:L11,AS13)","v":0},{"$f":"AT13/(AV4-AT20)","v":{"$error":"#DIV/0!"}},{"$f":"IF(AU13=0,0,(AU13*((LOG(AU13))/LOG(2))))","v":{"$error":"#DIV/0!"}}]
[null,null,null,null,null,null,null,null,null,null,null,null,null,1222,{"$f":"COUNTIF($L$7:$L$500,N14)","v":0},{"$f":"O14/$Q$4","v":0},{"$f":"IF(P14=0,0,(P14*((LOG(P14))/LOG(2))))","v":0},null,null,{"$f":"N14","v":1222},{"$f":"COUNTIF(L7:L7,T14)","v":0},{"$f":"U14/(W4-U20)","v":0},{"$f":"IF(V14=0,0,(V14*((LOG(V14))/LOG(2))))","v":0},null,{"$f":"N14","v":1222},{"$f":"COUNTIF(L8:L8,Y14)","v":0},{"$f":"Z14/(AB4-Z20)","v":0},{"$f":"IF(AA14=0,0,(AA14*((LOG(AA14))/LOG(2))))","v":0},null,{"$f":"N14","v":1222},{"$f":"COUNTIF(L8:L9,AD14)","v":0},{"$f":"AE14/(AG4-AE20)","v":0},{"$f":"IF(AF14=0,0,(AF14*((LOG(AF14))/LOG(2))))","v":0},null,{"$f":"N14","v":1222},{"$f":"COUNTIF(L9:L9,AI14)","v":0},{"$f":"AJ14/(AL4-AJ20)","v":0},{"$f":"IF(AK14=0,0,(AK14*((LOG(AK14))/LOG(2))))","v":0},null,{"$f":"N14","v":1222},{"$f":"COUNTIF(L10:L10,AN14)","v":0},{"$f":"AO14/(AQ4-AO20)","v":0},{"$f":"IF(AP14=0,0,(AP14*((LOG(AP14))/LOG(2))))","v":0},null,{"$f":"N14","v":1222},{"$f":"COUNTIF(L11:L11,AS14)","v":0},{"$f":"AT14/(AV4-AT20)","v":{"$error":"#DIV/0!"}},{"$f":"IF(AU14=0,0,(AU14*((LOG(AU14))/LOG(2))))","v":{"$error":"#DIV/0!"}}]
[null,null,null,null,null,null,null,null,null,null,null,null,null,2111,{"$f":"COUNTIF($L$7:$L$500,N15)","v":0},{"$f":"O15/$Q$4","v":0},{"$f":"IF(P15=0,0,(P15*((LOG(P15))/LOG(2))))","v":0},null,null,{"$f":"N15","v":2111},{"$f":"COUNTIF(L7:L7,T15)","v":0},{"$f":"U15/(W4-U20)","v":0},{"$f":"IF(V15=0,0,(V15*((LOG(V15))/LOG(2))))","v":0},null,{"$f":"N15","v":2111},{"$f":"COUNTIF(L8:L8,Y15)","v":0},{"$f":"Z15/(AB4-Z20)","v":0},{"$f":"IF(AA15=0,0,(AA15*((LOG(AA15))/LOG(2))))","v":0},null,{"$f":"N15","v":2111},{"$f":"COUNTIF(L8:L9,AD15)","v":0},{"$f":"AE15/(AG4-AE20)","v":0},{"$f":"IF(AF15=0,0,(AF15*((LOG(AF15))/LOG(2))))","v":0},null,{"$f":"N15","v":2111},{"$f":"COUNTIF(L9:L9,AI15)","v":0},{"$f":"AJ15/(AL4-AJ20)","v":0},{"$f":"IF(AK15=0,0,(AK15*((LOG(AK15))/LOG(2))))","v":0},null,{"$f":"N15","v":2111},{"$f":"COUNTIF(L10:L10,AN15)","v":0},{"$f":"AO15/(AQ4-AO20)","v":0},{"$f":"IF(AP15=0,0,(AP15*((LOG(AP15))/LOG(2))))","v":0},null,{"$f":"N15","v":2111},{"$f":"COUNTIF(L11:L11,AS15)","v":0},{"$f":"AT15/(AV4-AT20)","v":{"$error":"#DIV/0!"}},{"$f":"IF(AU15=0,0,(AU15*((LOG(AU15))/LOG(2))))","v":{"$error":"#DIV/0!"}}]
[null,null,null,null,null,null,null,null,null,null,null,null,null,2112,{"$f":"COUNTIF($L$7:$L$500,N16)","v":0},{"$f":"O16/$Q$4","v":0},{"$f":"IF(P16=0,0,(P16*((LOG(P16))/LOG(2))))","v":0},null,null,{"$f":"N16","v":2112},{"$f":"COUNTIF(L7:L7,T16)","v":0},{"$f":"U16/(W4-U20)","v":0},{"$f":"IF(V16=0,0,(V16*((LOG(V16))/LOG(2))))","v":0},null,{"$f":"N16","v":2112},{"$f":"COUNTIF(L8:L8,Y16)","v":0},{"$f":"Z16/(AB4-Z20)","v":0},{"$f":"IF(AA16=0,0,(AA16*((LOG(AA16))/LOG(2))))","v":0},null,{"$f":"N16","v":2112},{"$f":"COUNTIF(L8:L9,AD16)","v":0},{"$f":"AE16/(AG4-AE20)","v":0},{"$f":"IF(AF16=0,0,(AF16*((LOG(AF16))/LOG(2))))","v":0},null,{"$f":"N16","v":2112},{"$f":"COUNTIF(L9:L9,AI16)","v":0},{"$f":"AJ16/(AL4-AJ20)","v":0},{"$f":"IF(AK16=0,0,(AK16*((LOG(AK16))/LOG(2))))","v":0},null,{"$f":"N16","v":2112},{"$f":"COUNTIF(L10:L10,AN16)","v":0},{"$f":"AO16/(AQ4-AO20)","v":0},{"$f":"IF(AP16=0,0,(AP16*((LOG(AP16))/LOG(2))))","v":0},null,{"$f":"N16","v":2112},{"$f":"COUNTIF(L11:L11,AS16)","v":0},{"$f":"AT16/(AV4-AT20)","v":{"$error":"#DIV/0!"}},{"$f":"IF(AU16=0,0,(AU16*((LOG(AU16))/LOG(2))))","v":{"$error":"#DIV/0!"}}]
[null,null,null,null,null,null,null,null,null,null,null,null,null,2121,{"$f":"COUNTIF($L$7:$L$500,N17)","v":0},{"$f":"O17/$Q$4","v":0},{"$f":"IF(P17=0,0,(P17*((LOG(P17))/LOG(2))))","v":0},null,null,{"$f":"N17","v":2121},{"$f":"COUNTIF(L7:L7,T17)","v":0},{"$f":"U17/(W4-U20)","v":0},{"$f":"IF(V17=0,0,(V17*((LOG(V17))/LOG(2))))","v":0},null,{"$f":"N17","v":2121},{"$f":"COUNTIF(L8:L8,Y17)","v":0},{"$f":"Z17/(AB4-Z20)","v":0},{"$f":"IF(AA17=0,0,(AA17*((LOG(AA17))/LOG(2))))","v":0},null,{"$f":"N17","v":2121},{"$f":"COUNTIF(L8:L9,AD17)","v":0},{"$f":"AE17/(AG4-AE20)","v":0},{"$f":"IF(AF17=0,0,(AF17*((LOG(AF17))/LOG(2))))","v":0},null,{"$f":"N17","v":2121},{"$f":"COUNTIF(L9:L9,AI17)","v":0},{"$f":"AJ17/(AL4-AJ20)","v":0},{"$f":"IF(AK17=0,0,(AK17*((LOG(AK17))/LOG(2))))","v":0},null,{"$f":"N17","v":2121},{"$f":"COUNTIF(L10:L10,AN17)","v":0},{"$f":"AO17/(AQ4-AO20)","v":0},{"$f":"IF(AP17=0,0,(AP17*((LOG(AP17))/LOG(2))))","v":0},null,{"$f":"N17","v":2121},{"$f":"COUNTIF(L11:L11,AS17)","v":0},{"$f":"AT17/(AV4-AT20)","v":{"$error":"#DIV/0!"}},{"$f":"IF(AU17=0,0,(AU17*((LOG(AU17))/LOG(2))))","v":{"$error":"#DIV/0!"}}]
[null,null,null,null,null,null,null,null,null,null,null,null,null,2122,{"$f":"COUNTIF($L$7:$L$500,N18)","v":0},{"$f":"O18/$Q$4","v":0},{"$f":"IF(P18=0,0,(P18*((LOG(P18))/LOG(2))))","v":0},null,null,{"$f":"N18","v":2122},{"$f":"COUNTIF(L7:L7,T18)","v":0},{"$f":"U18/(W4-U20)","v":0},{"$f":"IF(V18=0,0,(V18*((LOG(V18))/LOG(2))))","v":0},null,{"$f":"N18","v":2122},{"$f":"COUNTIF(L8:L8,Y18)","v":0},{"$f":"Z18/(AB4-Z20)","v":0},{"$f":"IF(AA18=0,0,(AA18*((LOG(AA18))/LOG(2))))","v":0},null,{"$f":"N18","v":2122},{"$f":"COUNTIF(L8:L9,AD18)","v":0},{"$f":"AE18/(AG4-AE20)","v":0},{"$f":"IF(AF18=0,0,(AF18*((LOG(AF18))/LOG(2))))","v":0},null,{"$f":"N18","v":2122},{"$f":"COUNTIF(L9:L9,AI18)","v":0},{"$f":"AJ18/(AL4-AJ20)","v":0},{"$f":"IF(AK18=0,0,(AK18*((LOG(AK18))/LOG(2))))","v":0},null,{"$f":"N18","v":2122},{"$f":"COUNTIF(L10:L10,AN18)","v":0},{"$f":"AO18/(AQ4-AO20)","v":0},{"$f":"IF(AP18=0,0,(AP18*((LOG(AP18))/LOG(2))))","v":0},null,{"$f":"N18","v":2122},{"$f":"COUNTIF(L11:L11,AS18)","v":0},{"$f":"AT18/(AV4-AT20)","v":{"$error":"#DIV/0!"}},{"$f":"IF(AU18=0,0,(AU18*((LOG(AU18))/LOG(2))))","v":{"$error":"#DIV/0!"}}]
[null,null,null,null,null,null,null,null,null,null,null,null,null,2211,{"$f":"COUNTIF($L$7:$L$500,N19)","v":0},{"$f":"O19/$Q$4","v":0},{"$f":"IF(P19=0,0,(P19*((LOG(P19))/LOG(2))))","v":0},null,null,{"$f":"N19","v":2211},{"$f":"COUNTIF(L7:L7,T19)","v":0},{"$f":"U19/(W4-U20)","v":0},{"$f":"IF(V19=0,0,(V19*((LOG(V19))/LOG(2))))","v":0},null,{"$f":"N19","v":2211},{"$f":"COUNTIF(L8:L8,Y19)","v":0},{"$f":"Z19/(AB4-Z20)","v":0},{"$f":"IF(AA19=0,0,(AA19*((LOG(AA19))/LOG(2))))","v":0},null,{"$f":"N19","v":2211},{"$f":"COUNTIF(L8:L9,AD19)","v":0},{"$f":"AE19/(AG4-AE20)","v":0},{"$f":"IF(AF19=0,0,(AF19*((LOG(AF19))/LOG(2))))","v":0},null,{"$f":"N19","v":2211},{"$f":"COUNTIF(L9:L9,AI19)","v":0},{"$f":"AJ19/(AL4-AJ20)","v":0},{"$f":"IF(AK19=0,0,(AK19*((LOG(AK19))/LOG(2))))","v":0},null,{"$f":"N19","v":2211},{"$f":"COUNTIF(L10:L10,AN19)","v":0},{"$f":"AO19/(AQ4-AO20)","v":0},{"$f":"IF(AP19=0,0,(AP19*((LOG(AP19))/LOG(2))))","v":0},null,{"$f":"N19","v":2211},{"$f":"COUNTIF(L11:L11,AS19)","v":0},{"$f":"AT19/(AV4-AT20)","v":{"$error":"#DIV/0!"}},{"$f":"IF(AU19=0,0,(AU19*((LOG(AU19))/LOG(2))))","v":{"$error":"#DIV/0!"}}]
[null,null,null,null,null,null,null,null,null,null,null,null,null,2212,{"$f":"COUNTIF($L$7:$L$500,N20)","v":0},{"$f":"O20/$Q$4","v":0},{"$f":"IF(P20=0,0,(P20*((LOG(P20))/LOG(2))))","v":0},null,null,{"$f":"N20","v":2212},{"$f":"COUNTIF(L7:L7,T20)","v":0},null,null,null,{"$f":"N20","v":2212},{"$f":"COUNTIF(L8:L8,Y20)","v":0},null,null,null,{"$f":"N20","v":2212},{"$f":"COUNTIF(L8:L9,AD20)","v":0},null,null,null,{"$f":"N20","v":2212},{"$f":"COUNTIF(L9:L9,AI20)","v":0},null,null,null,{"$f":"N20","v":2212},{"$f":"COUNTIF(L10:L10,AN20)","v":0},null,null,null,{"$f":"N20","v":2212},{"$f":"COUNTIF(L11:L11,AS20)","v":0}]
[null,null,null,null,null,null,null,null,null,null,null,null,null,2221,{"$f":"COUNTIF($L$7:$L$500,N21)","v":0},{"$f":"O21/$Q$4","v":0},{"$f":"IF(P21=0,0,(P21*((LOG(P21))/LOG(2))))","v":0},null,null,{"$f":"N21","v":2221},{"$f":"COUNTIF(L7:L7,T21)","v":0},{"$f":"U21/(W4-U20)","v":0},{"$f":"IF(V21=0,0,(V21*((LOG(V21))/LOG(2))))","v":0},null,{"$f":"N21","v":2221},{"$f":"COUNTIF(L8:L8,Y21)","v":0},{"$f":"Z21/(AB4-Z20)","v":0},{"$f":"IF(AA21=0,0,(AA21*((LOG(AA21))/LOG(2))))","v":0},null,{"$f":"N21","v":2221},{"$f":"COUNTIF(L8:L9,AD21)","v":0},{"$f":"AE21/(AG4-AE20)","v":0},{"$f":"IF(AF21=0,0,(AF21*((LOG(AF21))/LOG(2))))","v":0},null,{"$f":"N21","v":2221},{"$f":"COUNTIF(L9:L9,AI21)","v":0},{"$f":"AJ21/(AL4-AJ20)","v":0},{"$f":"IF(AK21=0,0,(AK21*((LOG(AK21))/LOG(2))))","v":0},null,{"$f":"N21","v":2221},{"$f":"COUNTIF(L10:L10,AN21)","v":0},{"$f":"AO21/(AQ4-AO20)","v":0},{"$f":"IF(AP21=0,0,(AP21*((LOG(AP21))/LOG(2))))","v":0},null,{"$f":"N21","v":2221},{"$f":"COUNTIF(L11:L11,AS21)","v":0},{"$f":"AT21/(AV4-AT20)","v":{"$error":"#DIV/0!"}},{"$f":"IF(AU21=0,0,(AU21*((LOG(AU21))/LOG(2))))","v":{"$error":"#DIV/0!"}}]
[null,null,null,null,null,null,null,null,null,null,null,null,null,2222,{"$f":"COUNTIF($L$7:$L$500,N22)","v":0},{"$f":"O22/$Q$4","v":0},{"$f":"IF(P22=0,0,(P22*((LOG(P22))/LOG(2))))","v":0},null,null,{"$f":"N22","v":2222},{"$f":"COUNTIF(L7:L7,T22)","v":0},{"$f":"U22/(W4-U20)","v":0},{"$f":"IF(V22=0,0,(V22*((LOG(V22))/LOG(2))))","v":0},null,{"$f":"N22","v":2222},{"$f":"COUNTIF(L8:L8,Y22)","v":0},{"$f":"Z22/(AB4-Z20)","v":0},{"$f":"IF(AA22=0,0,(AA22*((LOG(AA22))/LOG(2))))","v":0},null,{"$f":"N22","v":2222},{"$f":"COUNTIF(L8:L9,AD22)","v":0},{"$f":"AE22/(AG4-AE20)","v":0},{"$f":"IF(AF22=0,0,(AF22*((LOG(AF22))/LOG(2))))","v":0},null,{"$f":"N22","v":2222},{"$f":"COUNTIF(L9:L9,AI22)","v":0},{"$f":"AJ22/(AL4-AJ20)","v":0},{"$f":"IF(AK22=0,0,(AK22*((LOG(AK22))/LOG(2))))","v":0},null,{"$f":"N22","v":2222},{"$f":"COUNTIF(L10:L10,AN22)","v":0},{"$f":"AO22/(AQ4-AO20)","v":0},{"$f":"IF(AP22=0,0,(AP22*((LOG(AP22))/LOG(2))))","v":0},null,{"$f":"N22","v":2222},{"$f":"COUNTIF(L11:L11,AS22)","v":0},{"$f":"AT22/(AV4-AT20)","v":{"$error":"#DIV/0!"}},{"$f":"IF(AU22=0,0,(AU22*((LOG(AU22))/LOG(2))))","v":{"$error":"#DIV/0!"}}]
[null,null,null,null,null,null,null,null,null,null,null,null,null,null,null,{"$f":"SUM(P7:P22)","v":1},{"$f":"-SUM(Q7:Q22)","v":0},null,null,null,null,{"$f":"SUM(V7:V22)","v":1},{"$f":"-SUM(W7:W22)","v":0},null,null,null,{"$f":"SUM(AA7:AA22)","v":1},{"$f":"-SUM(AB7:AB22)","v":0},null,null,null,{"$f":"SUM(AF7:AF22)","v":1},{"$f":"-SUM(AG7:AG22)","v":0},null,null,null,{"$f":"SUM(AK7:AK22)","v":1},{"$f":"-SUM(AL7:AL22)","v":0},null,null,null,{"$f":"SUM(AP7:AP22)","v":1},{"$f":"-SUM(AQ7:AQ22)","v":0},null,null,null,{"$f":"SUM(AU7:AU22)","v":{"$error":"#DIV/0!"}},{"$f":"-SUM(AV7:AV22)","v":{"$error":"#DIV/0!"}}]
[null,null,null,null,null,null,null,null,null,null,null,null,null,null,null,"U=",{"$f":"Q23/(LOG(Q4)/LOG(2))","v":0},null,null,null,null,"U1=",{"$f":"W23/(LOG(W4)/LOG(2))","v":{"$error":"#DIV/0!"}},null,null,null,"U2=",{"$f":"AB23/(LOG(AB4)/LOG(2))","v":{"$error":"#DIV/0!"}},null,null,null,"U3=",{"$f":"AG23/(LOG(AG4)/LOG(2))","v":0},null,null,null,"U4=",{"$f":"AL23/(LOG(AL4)/LOG(2))","v":{"$error":"#DIV/0!"}},null,null,null,"U5=",{"$f":"AQ23/(LOG(AQ4)/LOG(2))","v":{"$error":"#DIV/0!"}},null,null,null,"U6=",{"$f":"AV23/(LOG(AV4)/LOG(2))","v":{"$error":"#DIV/0!"}}]
[]
[]
[null,null,null,null,null,null,null,null,null,null,null,null,null,"Total Target Seq"]
[null,null,null,null,null,null,null,null,null,null,null,null,null,{"$f":"COUNTIF(L7:L11,G3)","v":0},null,1,1,0,1,1,1]
[null,null,null,null,null,null,null,null,null,null,null,null,null,null,null,"% of reinforcement given in 6 equal intervals based on number of trials "]
[null,null,null,null,null,null,null,null,null,null,null,null,null,null,null,"%_1","%_2","%_3","%_4","%_5","%_6"]
[null,null,null,null,null,null,null,null,null,null,null,null,null,null,"target sequence",{"$f":"$G$3","v":2212},{"$f":"$G$3","v":2212},{"$f":"$G$3","v":2212},{"$f":"$G$3","v":2212},{"$f":"$G$3","v":2212},{"$f":"$G$3","v":2212}]
[null,null,null,null,null,null,null,null,null,null,null,null,null,null,"total reinforcement",{"$f":"U20","v":0},{"$f":"Z20","v":0},{"$f":"AE20","v":0},{"$f":"AJ20","v":0},{"$f":"AO20","v":0},{"$f":"AT20","v":0}]
[null,null,null,null,null,null,null,null,null,null,null,null,null,null,"% target"]
[null,null,null,null,null,null,null,null,null,null,null,null,null,null,"CCRF"]
[null,null,null,null,null,null,null,null,null,null,null,null,null,null,"% CCRf"]
[null,null,null,null,null,null,null,null,null,null,null,null,null,null,"average response rate",{"$f":"H7/P28","v":85},{"$f":"(H8-H7)/Q28","v":191},{"$f":"(H8-H8)/R28","v":{"$error":"#DIV/0!"}},{"$f":"(H9-H8)/S28","v":169},{"$f":"(H10-H9)/T28","v":23371},{"$f":"(H11-H10)/U28","v":-23816}]

{"sheet":"!M912A10.102","index":16,"n_rows":36,"n_cols":48,"rows_kept":36,"cut":false,"hidden":false,"merged":[[4,39,4,42],[5,39,5,40],[4,44,4,47],[5,44,5,45],[4,24,4,27],[5,24,5,25],[4,29,4,32],[5,29,5,30],[4,34,4,37],[5,34,5,35],[1,1,1,2],[5,13,5,14],[26,13,26,14],[27,13,27,14],[4,19,4,22],[5,19,5,20]]}
["Report for:!M912A10.102"]
["Date:","<date>"]
["Hen:","<hen>",null,null,null,"Correct Sequence",{"$f":"Start!J2","v":2212},null,null,null,null,null,null,null,null,"Total Sequences in Data",{"$f":"4994-COUNTBLANK(L7:L5000)","v":8},null,null,null,null,"Total Sequences in Block Data",{"$f":"COUNTA(L7:L7)","v":1},null,null,null,"Total Sequences in Block Data",{"$f":"COUNTA(L8:L9)","v":2},null,null,null,"Total Sequences in Block Data",{"$f":"COUNTA(L10:L10)","v":1},null,null,null,"Total Sequences in Block Data",{"$f":"COUNTA(L11:L11)","v":1},null,null,null,"Total Sequences in Block Data",{"$f":"COUNTA(L12:L13)","v":2},null,null,null,"Total Sequences in Block Data",{"$f":"COUNTA(L14:L14)","v":1}]
[null,null,null,null,null,null,null,null,null,null,null,null,null,null,null,"Total Sequences in Summary",{"$f":"SUM(O7:O22)","v":8},null,null,null,null,"Total Sequences in Block Summary",{"$f":"SUM(U7:U22)","v":1},null,null,null,"Total Sequences in Block Summary",{"$f":"SUM(Z7:Z22)","v":2},null,null,null,"Total Sequences in Block Summary",{"$f":"SUM(AE7:AE22)","v":1},null,null,null,"Total Sequences in Block Summary",{"$f":"SUM(AJ7:AJ22)","v":1},null,null,null,"Total Sequences in Block Summary",{"$f":"SUM(AO7:AO22)","v":2},null,null,null,"Total Sequences in Block Summary",{"$f":"SUM(AT7:AT22)","v":1}]
[null,null,null,null,null,null,null,null,null,null,null,null,null,null,null,null,null,null,null,"Block 1",null,null,null,null,"Block 2",null,null,null,null,"Block 3",null,null,null,null,"Block 4",null,null,null,null,"Block 5",null,null,null,null,"Block 6"]
["Sequence\nComponent\n1","Time\n1","Sequence\nComponent\n2","Time\n2","Sequence\nComponent\n3","Time\n3","Sequence\nComponent\n4","Time\n4","Sequence\nComponent\n5","Time\n5","Correct?\n0=No 1=Yes","Sequence",null,"Frequency",null,"Relative Frequency","Variability",null,null,"Frequency",null,"Relative Frequency","Variability",null,"Frequency",null,"Relative Frequency","Variability",null,"Frequency",null,"Relative Frequency","Variability",null,"Frequency",null,"Relative Frequency","Variability",null,"Frequency",null,"Relative Frequency","Variability",null,"Frequency",null,"Relative Frequency","Variability"]
[12,28,14,36,13,49,14,54,null,null,0,1111,null,1111,{"$f":"COUNTIF($L$7:$L$500,N7)","v":6},{"$f":"O7/$Q$4","v":0.75},{"$f":"IF(P7=0,0,(P7*((LOG(P7))/LOG(2))))","v":-0.31127812445913283},null,null,{"$f":"N7","v":1111},{"$f":"COUNTIF(L7:L7,T7)","v":1},{"$f":"U7/(W4-U20)","v":1},{"$f":"IF(V7=0,0,(V7*((LOG(V7))/LOG(2))))","v":0},null,{"$f":"N7","v":1111},{"$f":"COUNTIF(L8:L9,Y7)","v":1},{"$f":"Z7/(AB4-Z20)","v":0.5},{"$f":"IF(AA7=0,0,(AA7*((LOG(AA7))/LOG(2))))","v":-0.5},null,{"$f":"N7","v":1111},{"$f":"COUNTIF(L10:L10,AD7)","v":1},{"$f":"AE7/(AG4-AE20)","v":1},{"$f":"IF(AF7=0,0,(AF7*((LOG(AF7))/LOG(2))))","v":0},null,{"$f":"N7","v":1111},{"$f":"COUNTIF(L11:L11,AI7)","v":1},{"$f":"AJ7/(AL4-AJ20)","v":1},{"$f":"IF(AK7=0,0,(AK7*((LOG(AK7))/LOG(2))))","v":0},null,{"$f":"N7","v":1111},{"$f":"COUNTIF(L12:L13,AN7)","v":1},{"$f":"AO7/(AQ4-AO20)","v":0.5},{"$f":"IF(AP7=0,0,(AP7*((LOG(AP7))/LOG(2))))","v":-0.5},null,{"$f":"N7","v":1111},{"$f":"COUNTIF(L14:L14,AS7)","v":1},{"$f":"AT7/(AV4-AT20)","v":1},{"$f":"IF(AU7=0,0,(AU7*((LOG(AU7))/LOG(2))))","v":0}]
[12,172,14,180,24,226,23,232,null,null,0,1122,null,1112,{"$f":"COUNTIF($L$7:$L$500,N8)","v":1},{"$f":"O8/$Q$4","v":0.125},{"$f":"IF(P8=0,0,(P8*((LOG(P8))/LOG(2))))","v":-0.375},null,null,{"$f":"N8","v":1112},{"$f":"COUNTIF(L7:L7,T8)","v":0},{"$f":"U8/(W4-U20)","v":0},{"$f":"IF(V8=0,0,(V8*((LOG(V8))/LOG(2))))","v":0},null,{"$f":"N8","v":1112},{"$f":"COUNTIF(L8:L9,Y8)","v":0},{"$f":"Z8/(AB4-Z20)","v":0},{"$f":"IF(AA8=0,0,(AA8*((LOG(AA8))/LOG(2))))","v":0},null,{"$f":"N8","v":1112},{"$f":"COUNTIF(L10:L10,AD8)","v":0},{"$f":"AE8/(AG4-AE20)","v":0},{"$f":"IF(AF8=0,0,(AF8*((LOG(AF8))/LOG(2))))","v":0},null,{"$f":"N8","v":1112},{"$f":"COUNTIF(L11:L11,AI8)","v":0},{"$f":"AJ8/(AL4-AJ20)","v":0},{"$f":"IF(AK8=0,0,(AK8*((LOG(AK8))/LOG(2))))","v":0},null,{"$f":"N8","v":1112},{"$f":"COUNTIF(L12:L13,AN8)","v":1},{"$f":"AO8/(AQ4-AO20)","v":0.5},{"$f":"IF(AP8=0,0,(AP8*((LOG(AP8))/LOG(2))))","v":-0.5},null,{"$f":"N8","v":1112},{"$f":"COUNTIF(L14:L14,AS8)","v":0},{"$f":"AT8/(AV4-AT20)","v":0},{"$f":"IF(AU8=0,0,(AU8*((LOG(AU8))/LOG(2))))","v":0}]
[12,345,14,377,13,383,14,391,null,null,0,1111,null,1121,{"$f":"COUNTIF($L$7:$L$500,N9)","v":0},{"$f":"O9/$Q$4","v":0},{"$f":"IF(P9=0,0,(P9*((LOG(P9))/LOG(2))))","v":0},null,null,{"$f":"N9","v":1121},{"$f":"COUNTIF(L7:L7,T9)","v":0},{"$f":"U9/(W4-U20)","v":0},{"$f":"IF(V9=0,0,(V9*((LOG(V9))/LOG(2))))","v":0},null,{"$f":"N9","v":1121},{"$f":"COUNTIF(L8:L9,Y9)","v":0},{"$f":"Z9/(AB4-Z20)","v":0},{"$f":"IF(AA9=0,0,(AA9*((LOG(AA9))/LOG(2))))","v":0},null,{"$f":"N9","v":1121},{"$f":"COUNTIF(L10:L10,AD9)","v":0},{"$f":"AE9/(AG4-AE20)","v":0},{"$f":"IF(AF9=0,0,(AF9*((LOG(AF9))/LOG(2))))","v":0},null,{"$f":"N9","v":1121},{"$f":"COUNTIF(L11:L11,AI9)","v":0},{"$f":"AJ9/(AL4-AJ20)","v":0},{"$f":"IF(AK9=0,0,(AK9*((LOG(AK9))/LOG(2))))","v":0},null,{"$f":"N9","v":1121},{"$f":"COUNTIF(L12:L13,AN9)","v":0},{"$f":"AO9/(AQ4-AO20)","v":0},{"$f":"IF(AP9=0,0,(AP9*((LOG(AP9))/LOG(2))))","v":0},null,{"$f":"N9","v":1121},{"$f":"COUNTIF(L14:L14,AS9)","v":0},{"$f":"AT9/(AV4-AT20)","v":0},{"$f":"IF(AU9=0,0,(AU9*((LOG(AU9))/LOG(2))))","v":0}]
[12,495,14,501,13,506,14,513,null,null,0,1111,null,1122,{"$f":"COUNTIF($L$7:$L$500,N10)","v":1},{"$f":"O10/$Q$4","v":0.125},{"$f":"IF(P10=0,0,(P10*((LOG(P10))/LOG(2))))","v":-0.375},null,null,{"$f":"N10","v":1122},{"$f":"COUNTIF(L7:L7,T10)","v":0},{"$f":"U10/(W4-U20)","v":0},{"$f":"IF(V10=0,0,(V10*((LOG(V10))/LOG(2))))","v":0},null,{"$f":"N10","v":1122},{"$f":"COUNTIF(L8:L9,Y10)","v":1},{"$f":"Z10/(AB4-Z20)","v":0.5},{"$f":"IF(AA10=0,0,(AA10*((LOG(AA10))/LOG(2))))","v":-0.5},null,{"$f":"N10","v":1122},{"$f":"COUNTIF(L10:L10,AD10)","v":0},{"$f":"AE10/(AG4-AE20)","v":0},{"$f":"IF(AF10=0,0,(AF10*((LOG(AF10))/LOG(2))))","v":0},null,{"$f":"N10","v":1122},{"$f":"COUNTIF(L11:L11,AI10)","v":0},{"$f":"AJ10/(AL4-AJ20)","v":0},{"$f":"IF(AK10=0,0,(AK10*((LOG(AK10))/LOG(2))))","v":0},null,{"$f":"N10","v":1122},{"$f":"COUNTIF(L12:L13,AN10)","v":0},{"$f":"AO10/(AQ4-AO20)","v":0},{"$f":"IF(AP10=0,0,(AP10*((LOG(AP10))/LOG(2))))","v":0},null,{"$f":"N10","v":1122},{"$f":"COUNTIF(L14:L14,AS10)","v":0},{"$f":"AT10/(AV4-AT20)","v":0},{"$f":"IF(AU10=0,0,(AU10*((LOG(AU10))/LOG(2))))","v":0}]
[12,613,14,619,13,627,14,633,null,null,0,1111,null,1211,{"$f":"COUNTIF($L$7:$L$500,N11)","v":0},{"$f":"O11/$Q$4","v":0},{"$f":"IF(P11=0,0,(P11*((LOG(P11))/LOG(2))))","v":0},null,null,{"$f":"N11","v":1211},{"$f":"COUNTIF(L7:L7,T11)","v":0},{"$f":"U11/(W4-U20)","v":0},{"$f":"IF(V11=0,0,(V11*((LOG(V11))/LOG(2))))","v":0},null,{"$f":"N11","v":1211},{"$f":"COUNTIF(L8:L9,Y11)","v":0},{"$f":"Z11/(AB4-Z20)","v":0},{"$f":"IF(AA11=0,0,(AA11*((LOG(AA11))/LOG(2))))","v":0},null,{"$f":"N11","v":1211},{"$f":"COUNTIF(L10:L10,AD11)","v":0},{"$f":"AE11/(AG4-AE20)","v":0},{"$f":"IF(AF11=0,0,(AF11*((LOG(AF11))/LOG(2))))","v":0},null,{"$f":"N11","v":1211},{"$f":"COUNTIF(L11:L11,AI11)","v":0},{"$f":"AJ11/(AL4-AJ20)","v":0},{"$f":"IF(AK11=0,0,(AK11*((LOG(AK11))/LOG(2))))","v":0},null,{"$f":"N11","v":1211},{"$f":"COUNTIF(L12:L13,AN11)","v":0},{"$f":"AO11/(AQ4-AO20)","v":0},{"$f":"IF(AP11=0,0,(AP11*((LOG(AP11))/LOG(2))))","v":0},null,{"$f":"N11","v":1211},{"$f":"COUNTIF(L14:L14,AS11)","v":0},{"$f":"AT11/(AV4-AT20)","v":0},{"$f":"IF(AU11=0,0,(AU11*((LOG(AU11))/LOG(2))))","v":0}]
[12,772,14,787,13,811,23,837,null,null,0,1112,null,1212,{"$f":"COUNTIF($L$7:$L$500,N12)","v":0},{"$f":"O12/$Q$4","v":0},{"$f":"IF(P12=0,0,(P12*((LOG(P12))/LOG(2))))","v":0},null,null,{"$f":"N12","v":1212},{"$f":"COUNTIF(L7:L7,T12)","v":0},{"$f":"U12/(W4-U20)","v":0},{"$f":"IF(V12=0,0,(V12*((LOG(V12))/LOG(2))))","v":0},null,{"$f":"N12","v":1212},{"$f":"COUNTIF(L8:L9,Y12)","v":0},{"$f":"Z12/(AB4-Z20)","v":0},{"$f":"IF(AA12=0,0,(AA12*((LOG(AA12))/LOG(2))))","v":0},null,{"$f":"N12","v":1212},{"$f":"COUNTIF(L10:L10,AD12)","v":0},{"$f":"AE12/(AG4-AE20)","v":0},{"$f":"IF(AF12=0,0,(AF12*((LOG(AF12))/LOG(2))))","v":0},null,{"$f":"N12","v":1212},{"$f":"COUNTIF(L11:L11,AI12)","v":0},{"$f":"AJ12/(AL4-AJ20)","v":0},{"$f":"IF(AK12=0,0,(AK12*((LOG(AK12))/LOG(2))))","v":0},null,{"$f":"N12","v":1212},{"$f":"COUNTIF(L12:L13,AN12)","v":0},{"$f":"AO12/(AQ4-AO20)","v":0},{"$f":"IF(AP12=0,0,(AP12*((LOG(AP12))/LOG(2))))","v":0},null,{"$f":"N12","v":1212},{"$f":"COUNTIF(L14:L14,AS12)","v":0},{"$f":"AT12/(AV4-AT20)","v":0},{"$f":"IF(AU12=0,0,(AU12*((LOG(AU12))/LOG(2))))","v":0}]
[12,8338,14,8357,13,8366,14,8382,null,null,0,1111,null,1221,{"$f":"COUNTIF($L$7:$L$500,N13)","v":0},{"$f":"O13/$Q$4","v":0},{"$f":"IF(P13=0,0,(P13*((LOG(P13))/LOG(2))))","v":0},null,null,{"$f":"N13","v":1221},{"$f":"COUNTIF(L7:L7,T13)","v":0},{"$f":"U13/(W4-U20)","v":0},{"$f":"IF(V13=0,0,(V13*((LOG(V13))/LOG(2))))","v":0},null,{"$f":"N13","v":1221},{"$f":"COUNTIF(L8:L9,Y13)","v":0},{"$f":"Z13/(AB4-Z20)","v":0},{"$f":"IF(AA13=0,0,(AA13*((LOG(AA13))/LOG(2))))","v":0},null,{"$f":"N13","v":1221},{"$f":"COUNTIF(L10:L10,AD13)","v":0},{"$f":"AE13/(AG4-AE20)","v":0},{"$f":"IF(AF13=0,0,(AF13*((LOG(AF13))/LOG(2))))","v":0},null,{"$f":"N13","v":1221},{"$f":"COUNTIF(L11:L11,AI13)","v":0},{"$f":"AJ13/(AL4-AJ20)","v":0},{"$f":"IF(AK13=0,0,(AK13*((LOG(AK13))/LOG(2))))","v":0},null,{"$f":"N13","v":1221},{"$f":"COUNTIF(L12:L13,AN13)","v":0},{"$f":"AO13/(AQ4-AO20)","v":0},{"$f":"IF(AP13=0,0,(AP13*((LOG(AP13))/LOG(2))))","v":0},null,{"$f":"N13","v":1221},{"$f":"COUNTIF(L14:L14,AS13)","v":0},{"$f":"AT13/(AV4-AT20)","v":0},{"$f":"IF(AU13=0,0,(AU13*((LOG(AU13))/LOG(2))))","v":0}]
[12,8659,14,8672,13,8678,14,8684,null,null,0,1111,null,1222,{"$f":"COUNTIF($L$7:$L$500,N14)","v":0},{"$f":"O14/$Q$4","v":0},{"$f":"IF(P14=0,0,(P14*((LOG(P14))/LOG(2))))","v":0},null,null,{"$f":"N14","v":1222},{"$f":"COUNTIF(L7:L7,T14)","v":0},{"$f":"U14/(W4-U20)","v":0},{"$f":"IF(V14=0,0,(V14*((LOG(V14))/LOG(2))))","v":0},null,{"$f":"N14","v":1222},{"$f":"COUNTIF(L8:L9,Y14)","v":0},{"$f":"Z14/(AB4-Z20)","v":0},{"$f":"IF(AA14=0,0,(AA14*((LOG(AA14))/LOG(2))))","v":0},null,{"$f":"N14","v":1222},{"$f":"COUNTIF(L10:L10,AD14)","v":0},{"$f":"AE14/(AG4-AE20)","v":0},{"$f":"IF(AF14=0,0,(AF14*((LOG(AF14))/LOG(2))))","v":0},null,{"$f":"N14","v":1222},{"$f":"COUNTIF(L11:L11,AI14)","v":0},{"$f":"AJ14/(AL4-AJ20)","v":0},{"$f":"IF(AK14=0,0,(AK14*((LOG(AK14))/LOG(2))))","v":0},null,{"$f":"N14","v":1222},{"$f":"COUNTIF(L12:L13,AN14)","v":0},{"$f":"AO14/(AQ4-AO20)","v":0},{"$f":"IF(AP14=0,0,(AP14*((LOG(AP14))/LOG(2))))","v":0},null,{"$f":"N14","v":1222},{"$f":"COUNTIF(L14:L14,AS14)","v":0},{"$f":"AT14/(AV4-AT20)","v":0},{"$f":"IF(AU14=0,0,(AU14*((LOG(AU14))/LOG(2))))","v":0}]
[null,null,null,null,null,null,null,null,null,null,null,null,null,2111,{"$f":"COUNTIF($L$7:$L$500,N15)","v":0},{"$f":"O15/$Q$4","v":0},{"$f":"IF(P15=0,0,(P15*((LOG(P15))/LOG(2))))","v":0},null,null,{"$f":"N15","v":2111},{"$f":"COUNTIF(L7:L7,T15)","v":0},{"$f":"U15/(W4-U20)","v":0},{"$f":"IF(V15=0,0,(V15*((LOG(V15))/LOG(2))))","v":0},null,{"$f":"N15","v":2111},{"$f":"COUNTIF(L8:L9,Y15)","v":0},{"$f":"Z15/(AB4-Z20)","v":0},{"$f":"IF(AA15=0,0,(AA15*((LOG(AA15))/LOG(2))))","v":0},null,{"$f":"N15","v":2111},{"$f":"COUNTIF(L10:L10,AD15)","v":0},{"$f":"AE15/(AG4-AE20)","v":0},{"$f":"IF(AF15=0,0,(AF15*((LOG(AF15))/LOG(2))))","v":0},null,{"$f":"N15","v":2111},{"$f":"COUNTIF(L11:L11,AI15)","v":0},{"$f":"AJ15/(AL4-AJ20)","v":0},{"$f":"IF(AK15=0,0,(AK15*((LOG(AK15))/LOG(2))))","v":0},null,{"$f":"N15","v":2111},{"$f":"COUNTIF(L12:L13,AN15)","v":0},{"$f":"AO15/(AQ4-AO20)","v":0},{"$f":"IF(AP15=0,0,(AP15*((LOG(AP15))/LOG(2))))","v":0},null,{"$f":"N15","v":2111},{"$f":"COUNTIF(L14:L14,AS15)","v":0},{"$f":"AT15/(AV4-AT20)","v":0},{"$f":"IF(AU15=0,0,(AU15*((LOG(AU15))/LOG(2))))","v":0}]
[null,null,null,null,null,null,null,null,null,null,null,null,null,2112,{"$f":"COUNTIF($L$7:$L$500,N16)","v":0},{"$f":"O16/$Q$4","v":0},{"$f":"IF(P16=0,0,(P16*((LOG(P16))/LOG(2))))","v":0},null,null,{"$f":"N16","v":2112},{"$f":"COUNTIF(L7:L7,T16)","v":0},{"$f":"U16/(W4-U20)","v":0},{"$f":"IF(V16=0,0,(V16*((LOG(V16))/LOG(2))))","v":0},null,{"$f":"N16","v":2112},{"$f":"COUNTIF(L8:L9,Y16)","v":0},{"$f":"Z16/(AB4-Z20)","v":0},{"$f":"IF(AA16=0,0,(AA16*((LOG(AA16))/LOG(2))))","v":0},null,{"$f":"N16","v":2112},{"$f":"COUNTIF(L10:L10,AD16)","v":0},{"$f":"AE16/(AG4-AE20)","v":0},{"$f":"IF(AF16=0,0,(AF16*((LOG(AF16))/LOG(2))))","v":0},null,{"$f":"N16","v":2112},{"$f":"COUNTIF(L11:L11,AI16)","v":0},{"$f":"AJ16/(AL4-AJ20)","v":0},{"$f":"IF(AK16=0,0,(AK16*((LOG(AK16))/LOG(2))))","v":0},null,{"$f":"N16","v":2112},{"$f":"COUNTIF(L12:L13,AN16)","v":0},{"$f":"AO16/(AQ4-AO20)","v":0},{"$f":"IF(AP16=0,0,(AP16*((LOG(AP16))/LOG(2))))","v":0},null,{"$f":"N16","v":2112},{"$f":"COUNTIF(L14:L14,AS16)","v":0},{"$f":"AT16/(AV4-AT20)","v":0},{"$f":"IF(AU16=0,0,(AU16*((LOG(AU16))/LOG(2))))","v":0}]
[null,null,null,null,null,null,null,null,null,null,null,null,null,2121,{"$f":"COUNTIF($L$7:$L$500,N17)","v":0},{"$f":"O17/$Q$4","v":0},{"$f":"IF(P17=0,0,(P17*((LOG(P17))/LOG(2))))","v":0},null,null,{"$f":"N17","v":2121},{"$f":"COUNTIF(L7:L7,T17)","v":0},{"$f":"U17/(W4-U20)","v":0},{"$f":"IF(V17=0,0,(V17*((LOG(V17))/LOG(2))))","v":0},null,{"$f":"N17","v":2121},{"$f":"COUNTIF(L8:L9,Y17)","v":0},{"$f":"Z17/(AB4-Z20)","v":0},{"$f":"IF(AA17=0,0,(AA17*((LOG(AA17))/LOG(2))))","v":0},null,{"$f":"N17","v":2121},{"$f":"COUNTIF(L10:L10,AD17)","v":0},{"$f":"AE17/(AG4-AE20)","v":0},{"$f":"IF(AF17=0,0,(AF17*((LOG(AF17))/LOG(2))))","v":0},null,{"$f":"N17","v":2121},{"$f":"COUNTIF(L11:L11,AI17)","v":0},{"$f":"AJ17/(AL4-AJ20)","v":0},{"$f":"IF(AK17=0,0,(AK17*((LOG(AK17))/LOG(2))))","v":0},null,{"$f":"N17","v":2121},{"$f":"COUNTIF(L12:L13,AN17)","v":0},{"$f":"AO17/(AQ4-AO20)","v":0},{"$f":"IF(AP17=0,0,(AP17*((LOG(AP17))/LOG(2))))","v":0},null,{"$f":"N17","v":2121},{"$f":"COUNTIF(L14:L14,AS17)","v":0},{"$f":"AT17/(AV4-AT20)","v":0},{"$f":"IF(AU17=0,0,(AU17*((LOG(AU17))/LOG(2))))","v":0}]
[null,null,null,null,null,null,null,null,null,null,null,null,null,2122,{"$f":"COUNTIF($L$7:$L$500,N18)","v":0},{"$f":"O18/$Q$4","v":0},{"$f":"IF(P18=0,0,(P18*((LOG(P18))/LOG(2))))","v":0},null,null,{"$f":"N18","v":2122},{"$f":"COUNTIF(L7:L7,T18)","v":0},{"$f":"U18/(W4-U20)","v":0},{"$f":"IF(V18=0,0,(V18*((LOG(V18))/LOG(2))))","v":0},null,{"$f":"N18","v":2122},{"$f":"COUNTIF(L8:L9,Y18)","v":0},{"$f":"Z18/(AB4-Z20)","v":0},{"$f":"IF(AA18=0,0,(AA18*((LOG(AA18))/LOG(2))))","v":0},null,{"$f":"N18","v":2122},{"$f":"COUNTIF(L10:L10,AD18)","v":0},{"$f":"AE18/(AG4-AE20)","v":0},{"$f":"IF(AF18=0,0,(AF18*((LOG(AF18))/LOG(2))))","v":0},null,{"$f":"N18","v":2122},{"$f":"COUNTIF(L11:L11,AI18)","v":0},{"$f":"AJ18/(AL4-AJ20)","v":0},{"$f":"IF(AK18=0,0,(AK18*((LOG(AK18))/LOG(2))))","v":0},null,{"$f":"N18","v":2122},{"$f":"COUNTIF(L12:L13,AN18)","v":0},{"$f":"AO18/(AQ4-AO20)","v":0},{"$f":"IF(AP18=0,0,(AP18*((LOG(AP18))/LOG(2))))","v":0},null,{"$f":"N18","v":2122},{"$f":"COUNTIF(L14:L14,AS18)","v":0},{"$f":"AT18/(AV4-AT20)","v":0},{"$f":"IF(AU18=0,0,(AU18*((LOG(AU18))/LOG(2))))","v":0}]
[null,null,null,null,null,null,null,null,null,null,null,null,null,2211,{"$f":"COUNTIF($L$7:$L$500,N19)","v":0},{"$f":"O19/$Q$4","v":0},{"$f":"IF(P19=0,0,(P19*((LOG(P19))/LOG(2))))","v":0},null,null,{"$f":"N19","v":2211},{"$f":"COUNTIF(L7:L7,T19)","v":0},{"$f":"U19/(W4-U20)","v":0},{"$f":"IF(V19=0,0,(V19*((LOG(V19))/LOG(2))))","v":0},null,{"$f":"N19","v":2211},{"$f":"COUNTIF(L8:L9,Y19)","v":0},{"$f":"Z19/(AB4-Z20)","v":0},{"$f":"IF(AA19=0,0,(AA19*((LOG(AA19))/LOG(2))))","v":0},null,{"$f":"N19","v":2211},{"$f":"COUNTIF(L10:L10,AD19)","v":0},{"$f":"AE19/(AG4-AE20)","v":0},{"$f":"IF(AF19=0,0,(AF19*((LOG(AF19))/LOG(2))))","v":0},null,{"$f":"N19","v":2211},{"$f":"COUNTIF(L11:L11,AI19)","v":0},{"$f":"AJ19/(AL4-AJ20)","v":0},{"$f":"IF(AK19=0,0,(AK19*((LOG(AK19))/LOG(2))))","v":0},null,{"$f":"N19","v":2211},{"$f":"COUNTIF(L12:L13,AN19)","v":0},{"$f":"AO19/(AQ4-AO20)","v":0},{"$f":"IF(AP19=0,0,(AP19*((LOG(AP19))/LOG(2))))","v":0},null,{"$f":"N19","v":2211},{"$f":"COUNTIF(L14:L14,AS19)","v":0},{"$f":"AT19/(AV4-AT20)","v":0},{"$f":"IF(AU19=0,0,(AU19*((LOG(AU19))/LOG(2))))","v":0}]
[null,null,null,null,null,null,null,null,null,null,null,null,null,2212,{"$f":"COUNTIF($L$7:$L$500,N20)","v":0},{"$f":"O20/$Q$4","v":0},{"$f":"IF(P20=0,0,(P20*((LOG(P20))/LOG(2))))","v":0},null,null,{"$f":"N20","v":2212},{"$f":"COUNTIF(L7:L7,T20)","v":0},null,null,null,{"$f":"N20","v":2212},{"$f":"COUNTIF(L8:L9,Y20)","v":0},null,null,null,{"$f":"N20","v":2212},{"$f":"COUNTIF(L10:L10,AD20)","v":0},null,null,null,{"$f":"N20","v":2212},{"$f":"COUNTIF(L11:L11,AI20)","v":0},null,null,null,{"$f":"N20","v":2212},{"$f":"COUNTIF(L12:L13,AN20)","v":0},null,null,null,{"$f":"N20","v":2212},{"$f":"COUNTIF(L14:L14,AS20)","v":0}]
[null,null,null,null,null,null,null,null,null,null,null,null,null,2221,{"$f":"COUNTIF($L$7:$L$500,N21)","v":0},{"$f":"O21/$Q$4","v":0},{"$f":"IF(P21=0,0,(P21*((LOG(P21))/LOG(2))))","v":0},null,null,{"$f":"N21","v":2221},{"$f":"COUNTIF(L7:L7,T21)","v":0},{"$f":"U21/(W4-U20)","v":0},{"$f":"IF(V21=0,0,(V21*((LOG(V21))/LOG(2))))","v":0},null,{"$f":"N21","v":2221},{"$f":"COUNTIF(L8:L9,Y21)","v":0},{"$f":"Z21/(AB4-Z20)","v":0},{"$f":"IF(AA21=0,0,(AA21*((LOG(AA21))/LOG(2))))","v":0},null,{"$f":"N21","v":2221},{"$f":"COUNTIF(L10:L10,AD21)","v":0},{"$f":"AE21/(AG4-AE20)","v":0},{"$f":"IF(AF21=0,0,(AF21*((LOG(AF21))/LOG(2))))","v":0},null,{"$f":"N21","v":2221},{"$f":"COUNTIF(L11:L11,AI21)","v":0},{"$f":"AJ21/(AL4-AJ20)","v":0},{"$f":"IF(AK21=0,0,(AK21*((LOG(AK21))/LOG(2))))","v":0},null,{"$f":"N21","v":2221},{"$f":"COUNTIF(L12:L13,AN21)","v":0},{"$f":"AO21/(AQ4-AO20)","v":0},{"$f":"IF(AP21=0,0,(AP21*((LOG(AP21))/LOG(2))))","v":0},null,{"$f":"N21","v":2221},{"$f":"COUNTIF(L14:L14,AS21)","v":0},{"$f":"AT21/(AV4-AT20)","v":0},{"$f":"IF(AU21=0,0,(AU21*((LOG(AU21))/LOG(2))))","v":0}]
[null,null,null,null,null,null,null,null,null,null,null,null,null,2222,{"$f":"COUNTIF($L$7:$L$500,N22)","v":0},{"$f":"O22/$Q$4","v":0},{"$f":"IF(P22=0,0,(P22*((LOG(P22))/LOG(2))))","v":0},null,null,{"$f":"N22","v":2222},{"$f":"COUNTIF(L7:L7,T22)","v":0},{"$f":"U22/(W4-U20)","v":0},{"$f":"IF(V22=0,0,(V22*((LOG(V22))/LOG(2))))","v":0},null,{"$f":"N22","v":2222},{"$f":"COUNTIF(L8:L9,Y22)","v":0},{"$f":"Z22/(AB4-Z20)","v":0},{"$f":"IF(AA22=0,0,(AA22*((LOG(AA22))/LOG(2))))","v":0},null,{"$f":"N22","v":2222},{"$f":"COUNTIF(L10:L10,AD22)","v":0},{"$f":"AE22/(AG4-AE20)","v":0},{"$f":"IF(AF22=0,0,(AF22*((LOG(AF22))/LOG(2))))","v":0},null,{"$f":"N22","v":2222},{"$f":"COUNTIF(L11:L11,AI22)","v":0},{"$f":"AJ22/(AL4-AJ20)","v":0},{"$f":"IF(AK22=0,0,(AK22*((LOG(AK22))/LOG(2))))","v":0},null,{"$f":"N22","v":2222},{"$f":"COUNTIF(L12:L13,AN22)","v":0},{"$f":"AO22/(AQ4-AO20)","v":0},{"$f":"IF(AP22=0,0,(AP22*((LOG(AP22))/LOG(2))))","v":0},null,{"$f":"N22","v":2222},{"$f":"COUNTIF(L14:L14,AS22)","v":0},{"$f":"AT22/(AV4-AT20)","v":0},{"$f":"IF(AU22=0,0,(AU22*((LOG(AU22))/LOG(2))))","v":0}]
[null,null,null,null,null,null,null,null,null,null,null,null,null,null,null,{"$f":"SUM(P7:P22)","v":1},{"$f":"-SUM(Q7:Q22)","v":1.0612781244591329},null,null,null,null,{"$f":"SUM(V7:V22)","v":1},{"$f":"-SUM(W7:W22)","v":0},null,null,null,{"$f":"SUM(AA7:AA22)","v":1},{"$f":"-SUM(AB7:AB22)","v":1},null,null,null,{"$f":"SUM(AF7:AF22)","v":1},{"$f":"-SUM(AG7:AG22)","v":0},null,null,null,{"$f":"SUM(AK7:AK22)","v":1},{"$f":"-SUM(AL7:AL22)","v":0},null,null,null,{"$f":"SUM(AP7:AP22)","v":1},{"$f":"-SUM(AQ7:AQ22)","v":1},null,null,null,{"$f":"SUM(AU7:AU22)","v":1},{"$f":"-SUM(AV7:AV22)","v":0}]
[null,null,null,null,null,null,null,null,null,null,null,null,null,null,null,"U=",{"$f":"Q23/(LOG(Q4)/LOG(2))","v":0.35375937481971098},null,null,null,null,"U1=",{"$f":"W23/(LOG(W4)/LOG(2))","v":{"$error":"#DIV/0!"}},null,null,null,"U2=",{"$f":"AB23/(LOG(AB4)/LOG(2))","v":1},null,null,null,"U3=",{"$f":"AG23/(LOG(AG4)/LOG(2))","v":{"$error":"#DIV/0!"}},null,null,null,"U4=",{"$f":"AL23/(LOG(AL4)/LOG(2))","v":{"$error":"#DIV/0!"}},null,null,null,"U5=",{"$f":"AQ23/(LOG(AQ4)/LOG(2))","v":1},null,null,null,"U6=",{"$f":"AV23/(LOG(AV4)/LOG(2))","v":{"$error":"#DIV/0!"}}]
[]
[]
[null,null,null,null,null,null,null,null,null,null,null,null,null,"Total Target Seq"]
[null,null,null,null,null,null,null,null,null,null,null,null,null,{"$f":"COUNTIF(L7:L14,G3)","v":0},null,1,2,1,1,2,1]
[null,null,null,null,null,null,null,null,null,null,null,null,null,null,null,"% of reinforcement given in 6 equal intervals based on number of trials "]
[null,null,null,null,null,null,null,null,null,null,null,null,null,null,null,"%_1","%_2","%_3","%_4","%_5","%_6"]
[null,null,null,null,null,null,null,null,null,null,null,null,null,null,"target sequence",{"$f":"$G$3","v":2212},{"$f":"$G$3","v":2212},{"$f":"$G$3","v":2212},{"$f":"$G$3","v":2212},{"$f":"$G$3","v":2212},{"$f":"$G$3","v":2212}]
[null,null,null,null,null,null,null,null,null,null,null,null,null,null,"total reinforcement",{"$f":"U20","v":0},{"$f":"Z20","v":0},{"$f":"AE20","v":0},{"$f":"AJ20","v":0},{"$f":"AO20","v":0},{"$f":"AT20","v":0}]
[null,null,null,null,null,null,null,null,null,null,null,null,null,null,"% target"]
[null,null,null,null,null,null,null,null,null,null,null,null,null,null,"CCRF"]
[null,null,null,null,null,null,null,null,null,null,null,null,null,null,"% CCRf"]
[null,null,null,null,null,null,null,null,null,null,null,null,null,null,"average response rate",{"$f":"H7/P28","v":54},{"$f":"(H9-H7)/Q28","v":168.5},{"$f":"(H10-H9)/R28","v":122},{"$f":"(H11-H10)/S28","v":120},{"$f":"(H13-H11)/T28","v":3874.5},{"$f":"(H14-H13)/U28","v":302}]

{"sheet":"!M913830.102","index":17,"n_rows":36,"n_cols":48,"rows_kept":36,"cut":false,"hidden":false,"merged":[[4,39,4,42],[5,39,5,40],[4,44,4,47],[5,44,5,45],[4,24,4,27],[5,24,5,25],[4,29,4,32],[5,29,5,30],[4,34,4,37],[5,34,5,35],[1,1,1,2],[5,13,5,14],[26,13,26,14],[27,13,27,14],[4,19,4,22],[5,19,5,20]]}
["Report for:!M913830.102"]
["Date:","<date>"]
["Hen:","<hen>",null,null,null,"Correct Sequence",{"$f":"Start!J2","v":2212},null,null,null,null,null,null,null,null,"Total Sequences in Data",{"$f":"4994-COUNTBLANK(L7:L5000)","v":6},null,null,null,null,"Total Sequences in Block Data",{"$f":"COUNTA(L7:L7)","v":1},null,null,null,"Total Sequences in Block Data",{"$f":"COUNTA(L8:L8)","v":1},null,null,null,"Total Sequences in Block Data",{"$f":"COUNTA(L9:L9)","v":1},null,null,null,"Total Sequences in Block Data",{"$f":"COUNTA(L10:L10)","v":1},null,null,null,"Total Sequences in Block Data",{"$f":"COUNTA(L11:L11)","v":1},null,null,null,"Total Sequences in Block Data",{"$f":"COUNTA(L12:L12)","v":1}]
[null,null,null,null,null,null,null,null,null,null,null,null,null,null,null,"Total Sequences in Summary",{"$f":"SUM(O7:O22)","v":5},null,null,null,null,"Total Sequences in Block Summary",{"$f":"SUM(U7:U22)","v":1},null,null,null,"Total Sequences in Block Summary",{"$f":"SUM(Z7:Z22)","v":1},null,null,null,"Total Sequences in Block Summary",{"$f":"SUM(AE7:AE22)","v":1},null,null,null,"Total Sequences in Block Summary",{"$f":"SUM(AJ7:AJ22)","v":1},null,null,null,"Total Sequences in Block Summary",{"$f":"SUM(AO7:AO22)","v":1},null,null,null,"Total Sequences in Block Summary",{"$f":"SUM(AT7:AT22)","v":0}]
[null,null,null,null,null,null,null,null,null,null,null,null,null,null,null,null,null,null,null,"Block 1",null,null,null,null,"Block 2",null,null,null,null,"Block 3",null,null,null,null,"Block 4",null,null,null,null,"Block 5",null,null,null,null,"Block 6"]
["Sequence\nComponent\n1","Time\n1","Sequence\nComponent\n2","Time\n2","Sequence\nComponent\n3","Time\n3","Sequence\nComponent\n4","Time\n4","Sequence\nComponent\n5","Time\n5","Correct?\n0=No 1=Yes","Sequence",null,"Frequency",null,"Relative Frequency","Variability",null,null,"Frequency",null,"Relative Frequency","Variability",null,"Frequency",null,"Relative Frequency","Variability",null,"Frequency",null,"Relative Frequency","Variability",null,"Frequency",null,"Relative Frequency","Variability",null,"Frequency",null,"Relative Frequency","Variability",null,"Frequency",null,"Relative Frequency","Variability"]
[12,55,14,65,13,107,14,120,null,null,0,1111,null,1111,{"$f":"COUNTIF($L$7:$L$500,N7)","v":3},{"$f":"O7/$Q$4","v":0.6},{"$f":"IF(P7=0,0,(P7*((LOG(P7))/LOG(2))))","v":-0.44217935649972373},null,null,{"$f":"N7","v":1111},{"$f":"COUNTIF(L7:L7,T7)","v":1},{"$f":"U7/(W4-U20)","v":1},{"$f":"IF(V7=0,0,(V7*((LOG(V7))/LOG(2))))","v":0},null,{"$f":"N7","v":1111},{"$f":"COUNTIF(L8:L8,Y7)","v":0},{"$f":"Z7/(AB4-Z20)","v":0},{"$f":"IF(AA7=0,0,(AA7*((LOG(AA7))/LOG(2))))","v":0},null,{"$f":"N7","v":1111},{"$f":"COUNTIF(L9:L9,AD7)","v":0},{"$f":"AE7/(AG4-AE20)","v":0},{"$f":"IF(AF7=0,0,(AF7*((LOG(AF7))/LOG(2))))","v":0},null,{"$f":"N7","v":1111},{"$f":"COUNTIF(L10:L10,AI7)","v":1},{"$f":"AJ7/(AL4-AJ20)","v":1},{"$f":"IF(AK7=0,0,(AK7*((LOG(AK7))/LOG(2))))","v":0},null,{"$f":"N7","v":1111},{"$f":"COUNTIF(L11:L11,AN7)","v":1},{"$f":"AO7/(AQ4-AO20)","v":1},{"$f":"IF(AP7=0,0,(AP7*((LOG(AP7))/LOG(2))))","v":0},null,{"$f":"N7","v":1111},{"$f":"COUNTIF(L12:L12,AS7)","v":0},{"$f":"AT7/(AV4-AT20)","v":{"$error":"#DIV/0!"}},{"$f":"IF(AU7=0,0,(AU7*((LOG(AU7))/LOG(2))))","v":{"$error":"#DIV/0!"}}]
[21,274,21,279,22,288,23,296,null,null,0,2222,null,1112,{"$f":"COUNTIF($L$7:$L$500,N8)","v":0},{"$f":"O8/$Q$4","v":0},{"$f":"IF(P8=0,0,(P8*((LOG(P8))/LOG(2))))","v":0},null,null,{"$f":"N8","v":1112},{"$f":"COUNTIF(L7:L7,T8)","v":0},{"$f":"U8/(W4-U20)","v":0},{"$f":"IF(V8=0,0,(V8*((LOG(V8))/LOG(2))))","v":0},null,{"$f":"N8","v":1112},{"$f":"COUNTIF(L8:L8,Y8)","v":0},{"$f":"Z8/(AB4-Z20)","v":0},{"$f":"IF(AA8=0,0,(AA8*((LOG(AA8))/LOG(2))))","v":0},null,{"$f":"N8","v":1112},{"$f":"COUNTIF(L9:L9,AD8)","v":0},{"$f":"AE8/(AG4-AE20)","v":0},{"$f":"IF(AF8=0,0,(AF8*((LOG(AF8))/LOG(2))))","v":0},null,{"$f":"N8","v":1112},{"$f":"COUNTIF(L10:L10,AI8)","v":0},{"$f":"AJ8/(AL4-AJ20)","v":0},{"$f":"IF(AK8=0,0,(AK8*((LOG(AK8))/LOG(2))))","v":0},null,{"$f":"N8","v":1112},{"$f":"COUNTIF(L11:L11,AN8)","v":0},{"$f":"AO8/(AQ4-AO20)","v":0},{"$f":"IF(AP8=0,0,(AP8*((LOG(AP8))/LOG(2))))","v":0},null,{"$f":"N8","v":1112},{"$f":"COUNTIF(L12:L12,AS8)","v":0},{"$f":"AT8/(AV4-AT20)","v":{"$error":"#DIV/0!"}},{"$f":"IF(AU8=0,0,(AU8*((LOG(AU8))/LOG(2))))","v":{"$error":"#DIV/0!"}}]
[12,413,14,432,24,469,23,478,null,null,0,1122,null,1121,{"$f":"COUNTIF($L$7:$L$500,N9)","v":0},{"$f":"O9/$Q$4","v":0},{"$f":"IF(P9=0,0,(P9*((LOG(P9))/LOG(2))))","v":0},null,null,{"$f":"N9","v":1121},{"$f":"COUNTIF(L7:L7,T9)","v":0},{"$f":"U9/(W4-U20)","v":0},{"$f":"IF(V9=0,0,(V9*((LOG(V9))/LOG(2))))","v":0},null,{"$f":"N9","v":1121},{"$f":"COUNTIF(L8:L8,Y9)","v":0},{"$f":"Z9/(AB4-Z20)","v":0},{"$f":"IF(AA9=0,0,(AA9*((LOG(AA9))/LOG(2))))","v":0},null,{"$f":"N9","v":1121},{"$f":"COUNTIF(L9:L9,AD9)","v":0},{"$f":"AE9/(AG4-AE20)","v":0},{"$f":"IF(AF9=0,0,(AF9*((LOG(AF9))/LOG(2))))","v":0},null,{"$f":"N9","v":1121},{"$f":"COUNTIF(L10:L10,AI9)","v":0},{"$f":"AJ9/(AL4-AJ20)","v":0},{"$f":"IF(AK9=0,0,(AK9*((LOG(AK9))/LOG(2))))","v":0},null,{"$f":"N9","v":1121},{"$f":"COUNTIF(L11:L11,AN9)","v":0},{"$f":"AO9/(AQ4-AO20)","v":0},{"$f":"IF(AP9=0,0,(AP9*((LOG(AP9))/LOG(2))))","v":0},null,{"$f":"N9","v":1121},{"$f":"COUNTIF(L12:L12,AS9)","v":0},{"$f":"AT9/(AV4-AT20)","v":{"$error":"#DIV/0!"}},{"$f":"IF(AU9=0,0,(AU9*((LOG(AU9))/LOG(2))))","v":{"$error":"#DIV/0!"}}]
[12,593,14,611,13,618,14,628,null,null,0,1111,null,1122,{"$f":"COUNTIF($L$7:$L$500,N10)","v":1},{"$f":"O10/$Q$4","v":0.2},{"$f":"IF(P10=0,0,(P10*((LOG(P10))/LOG(2))))","v":-0.46438561897747244},null,null,{"$f":"N10","v":1122},{"$f":"COUNTIF(L7:L7,T10)","v":0},{"$f":"U10/(W4-U20)","v":0},{"$f":"IF(V10=0,0,(V10*((LOG(V10))/LOG(2))))","v":0},null,{"$f":"N10","v":1122},{"$f":"COUNTIF(L8:L8,Y10)","v":0},{"$f":"Z10/(AB4-Z20)","v":0},{"$f":"IF(AA10=0,0,(AA10*((LOG(AA10))/LOG(2))))","v":0},null,{"$f":"N10","v":1122},{"$f":"COUNTIF(L9:L9,AD10)","v":1},{"$f":"AE10/(AG4-AE20)","v":1},{"$f":"IF(AF10=0,0,(AF10*((LOG(AF10))/LOG(2))))","v":0},null,{"$f":"N10","v":1122},{"$f":"COUNTIF(L10:L10,AI10)","v":0},{"$f":"AJ10/(AL4-AJ20)","v":0},{"$f":"IF(AK10=0,0,(AK10*((LOG(AK10))/LOG(2))))","v":0},null,{"$f":"N10","v":1122},{"$f":"COUNTIF(L11:L11,AN10)","v":0},{"$f":"AO10/(AQ4-AO20)","v":0},{"$f":"IF(AP10=0,0,(AP10*((LOG(AP10))/LOG(2))))","v":0},null,{"$f":"N10","v":1122},{"$f":"COUNTIF(L12:L12,AS10)","v":0},{"$f":"AT10/(AV4-AT20)","v":{"$error":"#DIV/0!"}},{"$f":"IF(AU10=0,0,(AU10*((LOG(AU10))/LOG(2))))","v":{"$error":"#DIV/0!"}}]
[12,740,14,747,13,756,14,764,null,null,0,1111,null,1211,{"$f":"COUNTIF($L$7:$L$500,N11)","v":0},{"$f":"O11/$Q$4","v":0},{"$f":"IF(P11=0,0,(P11*((LOG(P11))/LOG(2))))","v":0},null,null,{"$f":"N11","v":1211},{"$f":"COUNTIF(L7:L7,T11)","v":0},{"$f":"U11/(W4-U20)","v":0},{"$f":"IF(V11=0,0,(V11*((LOG(V11))/LOG(2))))","v":0},null,{"$f":"N11","v":1211},{"$f":"COUNTIF(L8:L8,Y11)","v":0},{"$f":"Z11/(AB4-Z20)","v":0},{"$f":"IF(AA11=0,0,(AA11*((LOG(AA11))/LOG(2))))","v":0},null,{"$f":"N11","v":1211},{"$f":"COUNTIF(L9:L9,AD11)","v":0},{"$f":"AE11/(AG4-AE20)","v":0},{"$f":"IF(AF11=0,0,(AF11*((LOG(AF11))/LOG(2))))","v":0},null,{"$f":"N11","v":1211},{"$f":"COUNTIF(L10:L10,AI11)","v":0},{"$f":"AJ11/(AL4-AJ20)","v":0},{"$f":"IF(AK11=0,0,(AK11*((LOG(AK11))/LOG(2))))","v":0},null,{"$f":"N11","v":1211},{"$f":"COUNTIF(L11:L11,AN11)","v":0},{"$f":"AO11/(AQ4-AO20)","v":0},{"$f":"IF(AP11=0,0,(AP11*((LOG(AP11))/LOG(2))))","v":0},null,{"$f":"N11","v":1211},{"$f":"COUNTIF(L12:L12,AS11)","v":0},{"$f":"AT11/(AV4-AT20)","v":{"$error":"#DIV/0!"}},{"$f":"IF(AU11=0,0,(AU11*((LOG(AU11))/LOG(2))))","v":{"$error":"#DIV/0!"}}]
[12,1089,null,null,null,null,null,null,null,null,null,1,null,1212,{"$f":"COUNTIF($L$7:$L$500,N12)","v":0},{"$f":"O12/$Q$4","v":0},{"$f":"IF(P12=0,0,(P12*((LOG(P12))/LOG(2))))","v":0},null,null,{"$f":"N12","v":1212},{"$f":"COUNTIF(L7:L7,T12)","v":0},{"$f":"U12/(W4-U20)","v":0},{"$f":"IF(V12=0,0,(V12*((LOG(V12))/LOG(2))))","v":0},null,{"$f":"N12","v":1212},{"$f":"COUNTIF(L8:L8,Y12)","v":0},{"$f":"Z12/(AB4-Z20)","v":0},{"$f":"IF(AA12=0,0,(AA12*((LOG(AA12))/LOG(2))))","v":0},null,{"$f":"N12","v":1212},{"$f":"COUNTIF(L9:L9,AD12)","v":0},{"$f":"AE12/(AG4-AE20)","v":0},{"$f":"IF(AF12=0,0,(AF12*((LOG(AF12))/LOG(2))))","v":0},null,{"$f":"N12","v":1212},{"$f":"COUNTIF(L10:L10,AI12)","v":0},{"$f":"AJ12/(AL4-AJ20)","v":0},{"$f":"IF(AK12=0,0,(AK12*((LOG(AK12))/LOG(2))))","v":0},null,{"$f":"N12","v":1212},{"$f":"COUNTIF(L11:L11,AN12)","v":0},{"$f":"AO12/(AQ4-AO20)","v":0},{"$f":"IF(AP12=0,0,(AP12*((LOG(AP12))/LOG(2))))","v":0},null,{"$f":"N12","v":1212},{"$f":"COUNTIF(L12:L12,AS12)","v":0},{"$f":"AT12/(AV4-AT20)","v":{"$error":"#DIV/0!"}},{"$f":"IF(AU12=0,0,(AU12*((LOG(AU12))/LOG(2))))","v":{"$error":"#DIV/0!"}}]
[null,null,null,null,null,null,null,null,null,null,null,null,null,1221,{"$f":"COUNTIF($L$7:$L$500,N13)","v":0},{"$f":"O13/$Q$4","v":0},{"$f":"IF(P13=0,0,(P13*((LOG(P13))/LOG(2))))","v":0},null,null,{"$f":"N13","v":1221},{"$f":"COUNTIF(L7:L7,T13)","v":0},{"$f":"U13/(W4-U20)","v":0},{"$f":"IF(V13=0,0,(V13*((LOG(V13))/LOG(2))))","v":0},null,{"$f":"N13","v":1221},{"$f":"COUNTIF(L8:L8,Y13)","v":0},{"$f":"Z13/(AB4-Z20)","v":0},{"$f":"IF(AA13=0,0,(AA13*((LOG(AA13))/LOG(2))))","v":0},null,{"$f":"N13","v":1221},{"$f":"COUNTIF(L9:L9,AD13)","v":0},{"$f":"AE13/(AG4-AE20)","v":0},{"$f":"IF(AF13=0,0,(AF13*((LOG(AF13))/LOG(2))))","v":0},null,{"$f":"N13","v":1221},{"$f":"COUNTIF(L10:L10,AI13)","v":0},{"$f":"AJ13/(AL4-AJ20)","v":0},{"$f":"IF(AK13=0,0,(AK13*((LOG(AK13))/LOG(2))))","v":0},null,{"$f":"N13","v":1221},{"$f":"COUNTIF(L11:L11,AN13)","v":0},{"$f":"AO13/(AQ4-AO20)","v":0},{"$f":"IF(AP13=0,0,(AP13*((LOG(AP13))/LOG(2))))","v":0},null,{"$f":"N13","v":1221},{"$f":"COUNTIF(L12:L12,AS13)","v":0},{"$f":"AT13/(AV4-AT20)","v":{"$error":"#DIV/0!"}},{"$f":"IF(AU13=0,0,(AU13*((LOG(AU13))/LOG(2))))","v":{"$error":"#DIV/0!"}}]
[null,null,null,null,null,null,null,null,null,null,null,null,null,1222,{"$f":"COUNTIF($L$7:$L$500,N14)","v":0},{"$f":"O14/$Q$4","v":0},{"$f":"IF(P14=0,0,(P14*((LOG(P14))/LOG(2))))","v":0},null,null,{"$f":"N14","v":1222},{"$f":"COUNTIF(L7:L7,T14)","v":0},{"$f":"U14/(W4-U20)","v":0},{"$f":"IF(V14=0,0,(V14*((LOG(V14))/LOG(2))))","v":0},null,{"$f":"N14","v":1222},{"$f":"COUNTIF(L8:L8,Y14)","v":0},{"$f":"Z14/(AB4-Z20)","v":0},{"$f":"IF(AA14=0,0,(AA14*((LOG(AA14))/LOG(2))))","v":0},null,{"$f":"N14","v":1222},{"$f":"COUNTIF(L9:L9,AD14)","v":0},{"$f":"AE14/(AG4-AE20)","v":0},{"$f":"IF(AF14=0,0,(AF14*((LOG(AF14))/LOG(2))))","v":0},null,{"$f":"N14","v":1222},{"$f":"COUNTIF(L10:L10,AI14)","v":0},{"$f":"AJ14/(AL4-AJ20)","v":0},{"$f":"IF(AK14=0,0,(AK14*((LOG(AK14))/LOG(2))))","v":0},null,{"$f":"N14","v":1222},{"$f":"COUNTIF(L11:L11,AN14)","v":0},{"$f":"AO14/(AQ4-AO20)","v":0},{"$f":"IF(AP14=0,0,(AP14*((LOG(AP14))/LOG(2))))","v":0},null,{"$f":"N14","v":1222},{"$f":"COUNTIF(L12:L12,AS14)","v":0},{"$f":"AT14/(AV4-AT20)","v":{"$error":"#DIV/0!"}},{"$f":"IF(AU14=0,0,(AU14*((LOG(AU14))/LOG(2))))","v":{"$error":"#DIV/0!"}}]
[null,null,null,null,null,null,null,null,null,null,null,null,null,2111,{"$f":"COUNTIF($L$7:$L$500,N15)","v":0},{"$f":"O15/$Q$4","v":0},{"$f":"IF(P15=0,0,(P15*((LOG(P15))/LOG(2))))","v":0},null,null,{"$f":"N15","v":2111},{"$f":"COUNTIF(L7:L7,T15)","v":0},{"$f":"U15/(W4-U20)","v":0},{"$f":"IF(V15=0,0,(V15*((LOG(V15))/LOG(2))))","v":0},null,{"$f":"N15","v":2111},{"$f":"COUNTIF(L8:L8,Y15)","v":0},{"$f":"Z15/(AB4-Z20)","v":0},{"$f":"IF(AA15=0,0,(AA15*((LOG(AA15))/LOG(2))))","v":0},null,{"$f":"N15","v":2111},{"$f":"COUNTIF(L9:L9,AD15)","v":0},{"$f":"AE15/(AG4-AE20)","v":0},{"$f":"IF(AF15=0,0,(AF15*((LOG(AF15))/LOG(2))))","v":0},null,{"$f":"N15","v":2111},{"$f":"COUNTIF(L10:L10,AI15)","v":0},{"$f":"AJ15/(AL4-AJ20)","v":0},{"$f":"IF(AK15=0,0,(AK15*((LOG(AK15))/LOG(2))))","v":0},null,{"$f":"N15","v":2111},{"$f":"COUNTIF(L11:L11,AN15)","v":0},{"$f":"AO15/(AQ4-AO20)","v":0},{"$f":"IF(AP15=0,0,(AP15*((LOG(AP15))/LOG(2))))","v":0},null,{"$f":"N15","v":2111},{"$f":"COUNTIF(L12:L12,AS15)","v":0},{"$f":"AT15/(AV4-AT20)","v":{"$error":"#DIV/0!"}},{"$f":"IF(AU15=0,0,(AU15*((LOG(AU15))/LOG(2))))","v":{"$error":"#DIV/0!"}}]
[null,null,null,null,null,null,null,null,null,null,null,null,null,2112,{"$f":"COUNTIF($L$7:$L$500,N16)","v":0},{"$f":"O16/$Q$4","v":0},{"$f":"IF(P16=0,0,(P16*((LOG(P16))/LOG(2))))","v":0},null,null,{"$f":"N16","v":2112},{"$f":"COUNTIF(L7:L7,T16)","v":0},{"$f":"U16/(W4-U20)","v":0},{"$f":"IF(V16=0,0,(V16*((LOG(V16))/LOG(2))))","v":0},null,{"$f":"N16","v":2112},{"$f":"COUNTIF(L8:L8,Y16)","v":0},{"$f":"Z16/(AB4-Z20)","v":0},{"$f":"IF(AA16=0,0,(AA16*((LOG(AA16))/LOG(2))))","v":0},null,{"$f":"N16","v":2112},{"$f":"COUNTIF(L9:L9,AD16)","v":0},{"$f":"AE16/(AG4-AE20)","v":0},{"$f":"IF(AF16=0,0,(AF16*((LOG(AF16))/LOG(2))))","v":0},null,{"$f":"N16","v":2112},{"$f":"COUNTIF(L10:L10,AI16)","v":0},{"$f":"AJ16/(AL4-AJ20)","v":0},{"$f":"IF(AK16=0,0,(AK16*((LOG(AK16))/LOG(2))))","v":0},null,{"$f":"N16","v":2112},{"$f":"COUNTIF(L11:L11,AN16)","v":0},{"$f":"AO16/(AQ4-AO20)","v":0},{"$f":"IF(AP16=0,0,(AP16*((LOG(AP16))/LOG(2))))","v":0},null,{"$f":"N16","v":2112},{"$f":"COUNTIF(L12:L12,AS16)","v":0},{"$f":"AT16/(AV4-AT20)","v":{"$error":"#DIV/0!"}},{"$f":"IF(AU16=0,0,(AU16*((LOG(AU16))/LOG(2))))","v":{"$error":"#DIV/0!"}}]
[null,null,null,null,null,null,null,null,null,null,null,null,null,2121,{"$f":"COUNTIF($L$7:$L$500,N17)","v":0},{"$f":"O17/$Q$4","v":0},{"$f":"IF(P17=0,0,(P17*((LOG(P17))/LOG(2))))","v":0},null,null,{"$f":"N17","v":2121},{"$f":"COUNTIF(L7:L7,T17)","v":0},{"$f":"U17/(W4-U20)","v":0},{"$f":"IF(V17=0,0,(V17*((LOG(V17))/LOG(2))))","v":0},null,{"$f":"N17","v":2121},{"$f":"COUNTIF(L8:L8,Y17)","v":0},{"$f":"Z17/(AB4-Z20)","v":0},{"$f":"IF(AA17=0,0,(AA17*((LOG(AA17))/LOG(2))))","v":0},null,{"$f":"N17","v":2121},{"$f":"COUNTIF(L9:L9,AD17)","v":0},{"$f":"AE17/(AG4-AE20)","v":0},{"$f":"IF(AF17=0,0,(AF17*((LOG(AF17))/LOG(2))))","v":0},null,{"$f":"N17","v":2121},{"$f":"COUNTIF(L10:L10,AI17)","v":0},{"$f":"AJ17/(AL4-AJ20)","v":0},{"$f":"IF(AK17=0,0,(AK17*((LOG(AK17))/LOG(2))))","v":0},null,{"$f":"N17","v":2121},{"$f":"COUNTIF(L11:L11,AN17)","v":0},{"$f":"AO17/(AQ4-AO20)","v":0},{"$f":"IF(AP17=0,0,(AP17*((LOG(AP17))/LOG(2))))","v":0},null,{"$f":"N17","v":2121},{"$f":"COUNTIF(L12:L12,AS17)","v":0},{"$f":"AT17/(AV4-AT20)","v":{"$error":"#DIV/0!"}},{"$f":"IF(AU17=0,0,(AU17*((LOG(AU17))/LOG(2))))","v":{"$error":"#DIV/0!"}}]
[null,null,null,null,null,null,null,null,null,null,null,null,null,2122,{"$f":"COUNTIF($L$7:$L$500,N18)","v":0},{"$f":"O18/$Q$4","v":0},{"$f":"IF(P18=0,0,(P18*((LOG(P18))/LOG(2))))","v":0},null,null,{"$f":"N18","v":2122},{"$f":"COUNTIF(L7:L7,T18)","v":0},{"$f":"U18/(W4-U20)","v":0},{"$f":"IF(V18=0,0,(V18*((LOG(V18))/LOG(2))))","v":0},null,{"$f":"N18","v":2122},{"$f":"COUNTIF(L8:L8,Y18)","v":0},{"$f":"Z18/(AB4-Z20)","v":0},{"$f":"IF(AA18=0,0,(AA18*((LOG(AA18))/LOG(2))))","v":0},null,{"$f":"N18","v":2122},{"$f":"COUNTIF(L9:L9,AD18)","v":0},{"$f":"AE18/(AG4-AE20)","v":0},{"$f":"IF(AF18=0,0,(AF18*((LOG(AF18))/LOG(2))))","v":0},null,{"$f":"N18","v":2122},{"$f":"COUNTIF(L10:L10,AI18)","v":0},{"$f":"AJ18/(AL4-AJ20)","v":0},{"$f":"IF(AK18=0,0,(AK18*((LOG(AK18))/LOG(2))))","v":0},null,{"$f":"N18","v":2122},{"$f":"COUNTIF(L11:L11,AN18)","v":0},{"$f":"AO18/(AQ4-AO20)","v":0},{"$f":"IF(AP18=0,0,(AP18*((LOG(AP18))/LOG(2))))","v":0},null,{"$f":"N18","v":2122},{"$f":"COUNTIF(L12:L12,AS18)","v":0},{"$f":"AT18/(AV4-AT20)","v":{"$error":"#DIV/0!"}},{"$f":"IF(AU18=0,0,(AU18*((LOG(AU18))/LOG(2))))","v":{"$error":"#DIV/0!"}}]
[null,null,null,null,null,null,null,null,null,null,null,null,null,2211,{"$f":"COUNTIF($L$7:$L$500,N19)","v":0},{"$f":"O19/$Q$4","v":0},{"$f":"IF(P19=0,0,(P19*((LOG(P19))/LOG(2))))","v":0},null,null,{"$f":"N19","v":2211},{"$f":"COUNTIF(L7:L7,T19)","v":0},{"$f":"U19/(W4-U20)","v":0},{"$f":"IF(V19=0,0,(V19*((LOG(V19))/LOG(2))))","v":0},null,{"$f":"N19","v":2211},{"$f":"COUNTIF(L8:L8,Y19)","v":0},{"$f":"Z19/(AB4-Z20)","v":0},{"$f":"IF(AA19=0,0,(AA19*((LOG(AA19))/LOG(2))))","v":0},null,{"$f":"N19","v":2211},{"$f":"COUNTIF(L9:L9,AD19)","v":0},{"$f":"AE19/(AG4-AE20)","v":0},{"$f":"IF(AF19=0,0,(AF19*((LOG(AF19))/LOG(2))))","v":0},null,{"$f":"N19","v":2211},{"$f":"COUNTIF(L10:L10,AI19)","v":0},{"$f":"AJ19/(AL4-AJ20)","v":0},{"$f":"IF(AK19=0,0,(AK19*((LOG(AK19))/LOG(2))))","v":0},null,{"$f":"N19","v":2211},{"$f":"COUNTIF(L11:L11,AN19)","v":0},{"$f":"AO19/(AQ4-AO20)","v":0},{"$f":"IF(AP19=0,0,(AP19*((LOG(AP19))/LOG(2))))","v":0},null,{"$f":"N19","v":2211},{"$f":"COUNTIF(L12:L12,AS19)","v":0},{"$f":"AT19/(AV4-AT20)","v":{"$error":"#DIV/0!"}},{"$f":"IF(AU19=0,0,(AU19*((LOG(AU19))/LOG(2))))","v":{"$error":"#DIV/0!"}}]
[null,null,null,null,null,null,null,null,null,null,null,null,null,2212,{"$f":"COUNTIF($L$7:$L$500,N20)","v":0},{"$f":"O20/$Q$4","v":0},{"$f":"IF(P20=0,0,(P20*((LOG(P20))/LOG(2))))","v":0},null,null,{"$f":"N20","v":2212},{"$f":"COUNTIF(L7:L7,T20)","v":0},null,null,null,{"$f":"N20","v":2212},{"$f":"COUNTIF(L8:L8,Y20)","v":0},null,null,null,{"$f":"N20","v":2212},{"$f":"COUNTIF(L9:L9,AD20)","v":0},null,null,null,{"$f":"N20","v":2212},{"$f":"COUNTIF(L10:L10,AI20)","v":0},null,null,null,{"$f":"N20","v":2212},{"$f":"COUNTIF(L11:L11,AN20)","v":0},null,null,null,{"$f":"N20","v":2212},{"$f":"COUNTIF(L12:L12,AS20)","v":0}]
[null,null,null,null,null,null,null,null,null,null,null,null,null,2221,{"$f":"COUNTIF($L$7:$L$500,N21)","v":0},{"$f":"O21/$Q$4","v":0},{"$f":"IF(P21=0,0,(P21*((LOG(P21))/LOG(2))))","v":0},null,null,{"$f":"N21","v":2221},{"$f":"COUNTIF(L7:L7,T21)","v":0},{"$f":"U21/(W4-U20)","v":0},{"$f":"IF(V21=0,0,(V21*((LOG(V21))/LOG(2))))","v":0},null,{"$f":"N21","v":2221},{"$f":"COUNTIF(L8:L8,Y21)","v":0},{"$f":"Z21/(AB4-Z20)","v":0},{"$f":"IF(AA21=0,0,(AA21*((LOG(AA21))/LOG(2))))","v":0},null,{"$f":"N21","v":2221},{"$f":"COUNTIF(L9:L9,AD21)","v":0},{"$f":"AE21/(AG4-AE20)","v":0},{"$f":"IF(AF21=0,0,(AF21*((LOG(AF21))/LOG(2))))","v":0},null,{"$f":"N21","v":2221},{"$f":"COUNTIF(L10:L10,AI21)","v":0},{"$f":"AJ21/(AL4-AJ20)","v":0},{"$f":"IF(AK21=0,0,(AK21*((LOG(AK21))/LOG(2))))","v":0},null,{"$f":"N21","v":2221},{"$f":"COUNTIF(L11:L11,AN21)","v":0},{"$f":"AO21/(AQ4-AO20)","v":0},{"$f":"IF(AP21=0,0,(AP21*((LOG(AP21))/LOG(2))))","v":0},null,{"$f":"N21","v":2221},{"$f":"COUNTIF(L12:L12,AS21)","v":0},{"$f":"AT21/(AV4-AT20)","v":{"$error":"#DIV/0!"}},{"$f":"IF(AU21=0,0,(AU21*((LOG(AU21))/LOG(2))))","v":{"$error":"#DIV/0!"}}]
[null,null,null,null,null,null,null,null,null,null,null,null,null,2222,{"$f":"COUNTIF($L$7:$L$500,N22)","v":1},{"$f":"O22/$Q$4","v":0.2},{"$f":"IF(P22=0,0,(P22*((LOG(P22))/LOG(2))))","v":-0.46438561897747244},null,null,{"$f":"N22","v":2222},{"$f":"COUNTIF(L7:L7,T22)","v":0},{"$f":"U22/(W4-U20)","v":0},{"$f":"IF(V22=0,0,(V22*((LOG(V22))/LOG(2))))","v":0},null,{"$f":"N22","v":2222},{"$f":"COUNTIF(L8:L8,Y22)","v":1},{"$f":"Z22/(AB4-Z20)","v":1},{"$f":"IF(AA22=0,0,(AA22*((LOG(AA22))/LOG(2))))","v":0},null,{"$f":"N22","v":2222},{"$f":"COUNTIF(L9:L9,AD22)","v":0},{"$f":"AE22/(AG4-AE20)","v":0},{"$f":"IF(AF22=0,0,(AF22*((LOG(AF22))/LOG(2))))","v":0},null,{"$f":"N22","v":2222},{"$f":"COUNTIF(L10:L10,AI22)","v":0},{"$f":"AJ22/(AL4-AJ20)","v":0},{"$f":"IF(AK22=0,0,(AK22*((LOG(AK22))/LOG(2))))","v":0},null,{"$f":"N22","v":2222},{"$f":"COUNTIF(L11:L11,AN22)","v":0},{"$f":"AO22/(AQ4-AO20)","v":0},{"$f":"IF(AP22=0,0,(AP22*((LOG(AP22))/LOG(2))))","v":0},null,{"$f":"N22","v":2222},{"$f":"COUNTIF(L12:L12,AS22)","v":0},{"$f":"AT22/(AV4-AT20)","v":{"$error":"#DIV/0!"}},{"$f":"IF(AU22=0,0,(AU22*((LOG(AU22))/LOG(2))))","v":{"$error":"#DIV/0!"}}]
[null,null,null,null,null,null,null,null,null,null,null,null,null,null,null,{"$f":"SUM(P7:P22)","v":1},{"$f":"-SUM(Q7:Q22)","v":1.3709505944546687},null,null,null,null,{"$f":"SUM(V7:V22)","v":1},{"$f":"-SUM(W7:W22)","v":0},null,null,null,{"$f":"SUM(AA7:AA22)","v":1},{"$f":"-SUM(AB7:AB22)","v":0},null,null,null,{"$f":"SUM(AF7:AF22)","v":1},{"$f":"-SUM(AG7:AG22)","v":0},null,null,null,{"$f":"SUM(AK7:AK22)","v":1},{"$f":"-SUM(AL7:AL22)","v":0},null,null,null,{"$f":"SUM(AP7:AP22)","v":1},{"$f":"-SUM(AQ7:AQ22)","v":0},null,null,null,{"$f":"SUM(AU7:AU22)","v":{"$error":"#DIV/0!"}},{"$f":"-SUM(AV7:AV22)","v":{"$error":"#DIV/0!"}}]
[null,null,null,null,null,null,null,null,null,null,null,null,null,null,null,"U=",{"$f":"Q23/(LOG(Q4)/LOG(2))","v":0.5904362833084088},null,null,null,null,"U1=",{"$f":"W23/(LOG(W4)/LOG(2))","v":{"$error":"#DIV/0!"}},null,null,null,"U2=",{"$f":"AB23/(LOG(AB4)/LOG(2))","v":{"$error":"#DIV/0!"}},null,null,null,"U3=",{"$f":"AG23/(LOG(AG4)/LOG(2))","v":{"$error":"#DIV/0!"}},null,null,null,"U4=",{"$f":"AL23/(LOG(AL4)/LOG(2))","v":{"$error":"#DIV/0!"}},null,null,null,"U5=",{"$f":"AQ23/(LOG(AQ4)/LOG(2))","v":{"$error":"#DIV/0!"}},null,null,null,"U6=",{"$f":"AV23/(LOG(AV4)/LOG(2))","v":{"$error":"#DIV/0!"}}]
[]
[]
[null,null,null,null,null,null,null,null,null,null,null,null,null,"Total Target Seq"]
[null,null,null,null,null,null,null,null,null,null,null,null,null,{"$f":"COUNTIF(L7:L12,G3)","v":0},null,1,1,1,1,1,1]
[null,null,null,null,null,null,null,null,null,null,null,null,null,null,null,"% of reinforcement given in 6 equal intervals based on number of trials "]
[null,null,null,null,null,null,null,null,null,null,null,null,null,null,null,"%_1","%_2","%_3","%_4","%_5","%_6"]
[null,null,null,null,null,null,null,null,null,null,null,null,null,null,"target sequence",{"$f":"$G$3","v":2212},{"$f":"$G$3","v":2212},{"$f":"$G$3","v":2212},{"$f":"$G$3","v":2212},{"$f":"$G$3","v":2212},{"$f":"$G$3","v":2212}]
[null,null,null,null,null,null,null,null,null,null,null,null,null,null,"total reinforcement",{"$f":"U20","v":0},{"$f":"Z20","v":0},{"$f":"AE20","v":0},{"$f":"AJ20","v":0},{"$f":"AO20","v":0},{"$f":"AT20","v":0}]
[null,null,null,null,null,null,null,null,null,null,null,null,null,null,"% target"]
[null,null,null,null,null,null,null,null,null,null,null,null,null,null,"CCRF"]
[null,null,null,null,null,null,null,null,null,null,null,null,null,null,"% CCRf"]
[null,null,null,null,null,null,null,null,null,null,null,null,null,null,"average response rate",{"$f":"H7/P28","v":120},{"$f":"(H8-H7)/Q28","v":176},{"$f":"(H9-H8)/R28","v":182},{"$f":"(H10-H9)/S28","v":150},{"$f":"(H11-H10)/T28","v":136},{"$f":"(H12-H11)/U28","v":-764}]

{"sheet":"!M914A10.102","index":18,"n_rows":36,"n_cols":48,"rows_kept":36,"cut":false,"hidden":false,"merged":[[4,39,4,42],[5,39,5,40],[4,44,4,47],[5,44,5,45],[4,24,4,27],[5,24,5,25],[4,29,4,32],[5,29,5,30],[4,34,4,37],[5,34,5,35],[1,1,1,2],[5,13,5,14],[26,13,26,14],[27,13,27,14],[4,19,4,22],[5,19,5,20]]}
["Report for:!M914A10.102"]
["Date:","<date>"]
["Hen:","<hen>",null,null,null,"Correct Sequence",{"$f":"Start!J2","v":2212},null,null,null,null,null,null,null,null,"Total Sequences in Data",{"$f":"4994-COUNTBLANK(L7:L5000)","v":15},null,null,null,null,"Total Sequences in Block Data",{"$f":"COUNTA(L7:L9)","v":3},null,null,null,"Total Sequences in Block Data",{"$f":"COUNTA(L10:L11)","v":2},null,null,null,"Total Sequences in Block Data",{"$f":"COUNTA(L12:L14)","v":3},null,null,null,"Total Sequences in Block Data",{"$f":"COUNTA(L15:L16)","v":2},null,null,null,"Total Sequences in Block Data",{"$f":"COUNTA(L17:L19)","v":3},null,null,null,"Total Sequences in Block Data",{"$f":"COUNTA(L20:L21)","v":2}]
[null,null,null,null,null,null,null,null,null,null,null,null,null,null,null,"Total Sequences in Summary",{"$f":"SUM(O7:O22)","v":15},null,null,null,null,"Total Sequences in Block Summary",{"$f":"SUM(U7:U22)","v":3},null,null,null,"Total Sequences in Block Summary",{"$f":"SUM(Z7:Z22)","v":2},null,null,null,"Total Sequences in Block Summary",{"$f":"SUM(AE7:AE22)","v":3},null,null,null,"Total Sequences in Block Summary",{"$f":"SUM(AJ7:AJ22)","v":2},null,null,null,"Total Sequences in Block Summary",{"$f":"SUM(AO7:AO22)","v":3},null,null,null,"Total Sequences in Block Summary",{"$f":"SUM(AT7:AT22)","v":2}]
[null,null,null,null,null,null,null,null,null,null,null,null,null,null,null,null,null,null,null,"Block 1",null,null,null,null,"Block 2",null,null,null,null,"Block 3",null,null,null,null,"Block 4",null,null,null,null,"Block 5",null,null,null,null,"Block 6"]
["Sequence\nComponent\n1","Time\n1","Sequence\nComponent\n2","Time\n2","Sequence\nComponent\n3","Time\n3","Sequence\nComponent\n4","Time\n4","Sequence\nComponent\n5","Time\n5","Correct?\n0=No 1=Yes","Sequence",null,"Frequency",null,"Relative Frequency","Variability",null,null,"Frequency",null,"Relative Frequency","Variability",null,"Frequency",null,"Relative Frequency","Variability",null,"Frequency",null,"Relative Frequency","Variability",null,"Frequency",null,"Relative Frequency","Variability",null,"Frequency",null,"Relative Frequency","Variability",null,"Frequency",null,"Relative Frequency","Variability"]
[12,108,14,132,13,167,14,181,null,null,0,1111,null,1111,{"$f":"COUNTIF($L$7:$L$500,N7)","v":9},{"$f":"O7/$Q$4","v":0.6},{"$f":"IF(P7=0,0,(P7*((LOG(P7))/LOG(2))))","v":-0.44217935649972373},null,null,{"$f":"N7","v":1111},{"$f":"COUNTIF(L7:L9,T7)","v":2},{"$f":"U7/(W4-U20)","v":0.66666666666666663},{"$f":"IF(V7=0,0,(V7*((LOG(V7))/LOG(2))))","v":-0.38997500048077083},null,{"$f":"N7","v":1111},{"$f":"COUNTIF(L10:L11,Y7)","v":0},{"$f":"Z7/(AB4-Z20)","v":0},{"$f":"IF(AA7=0,0,(AA7*((LOG(AA7))/LOG(2))))","v":0},null,{"$f":"N7","v":1111},{"$f":"COUNTIF(L12:L14,AD7)","v":3},{"$f":"AE7/(AG4-AE20)","v":1},{"$f":"IF(AF7=0,0,(AF7*((LOG(AF7))/LOG(2))))","v":0},null,{"$f":"N7","v":1111},{"$f":"COUNTIF(L15:L16,AI7)","v":0},{"$f":"AJ7/(AL4-AJ20)","v":0},{"$f":"IF(AK7=0,0,(AK7*((LOG(AK7))/LOG(2))))","v":0},null,{"$f":"N7","v":1111},{"$f":"COUNTIF(L17:L19,AN7)","v":3},{"$f":"AO7/(AQ4-AO20)","v":1},{"$f":"IF(AP7=0,0,(AP7*((LOG(AP7))/LOG(2))))","v":0},null,{"$f":"N7","v":1111},{"$f":"COUNTIF(L20:L21,AS7)","v":1},{"$f":"AT7/(AV4-AT20)","v":0.5},{"$f":"IF(AU7=0,0,(AU7*((LOG(AU7))/LOG(2))))","v":-0.5}]
[12,273,14,300,13,307,14,315,null,null,0,1111,null,1112,{"$f":"COUNTIF($L$7:$L$500,N8)","v":3},{"$f":"O8/$Q$4","v":0.2},{"$f":"IF(P8=0,0,(P8*((LOG(P8))/LOG(2))))","v":-0.46438561897747244},null,null,{"$f":"N8","v":1112},{"$f":"COUNTIF(L7:L9,T8)","v":1},{"$f":"U8/(W4-U20)","v":0.33333333333333331},{"$f":"IF(V8=0,0,(V8*((LOG(V8))/LOG(2))))","v":-0.52832083357371862},null,{"$f":"N8","v":1112},{"$f":"COUNTIF(L10:L11,Y8)","v":1},{"$f":"Z8/(AB4-Z20)","v":0.5},{"$f":"IF(AA8=0,0,(AA8*((LOG(AA8))/LOG(2))))","v":-0.5},null,{"$f":"N8","v":1112},{"$f":"COUNTIF(L12:L14,AD8)","v":0},{"$f":"AE8/(AG4-AE20)","v":0},{"$f":"IF(AF8=0,0,(AF8*((LOG(AF8))/LOG(2))))","v":0},null,{"$f":"N8","v":1112},{"$f":"COUNTIF(L15:L16,AI8)","v":1},{"$f":"AJ8/(AL4-AJ20)","v":0.5},{"$f":"IF(AK8=0,0,(AK8*((LOG(AK8))/LOG(2))))","v":-0.5},null,{"$f":"N8","v":1112},{"$f":"COUNTIF(L17:L19,AN8)","v":0},{"$f":"AO8/(AQ4-AO20)","v":0},{"$f":"IF(AP8=0,0,(AP8*((LOG(AP8))/LOG(2))))","v":0},null,{"$f":"N8","v":1112},{"$f":"COUNTIF(L20:L21,AS8)","v":0},{"$f":"AT8/(AV4-AT20)","v":0},{"$f":"IF(AU8=0,0,(AU8*((LOG(AU8))/LOG(2))))","v":0}]
[12,419,14,428,13,439,23,475,null,null,0,1112,null,1121,{"$f":"COUNTIF($L$7:$L$500,N9)","v":0},{"$f":"O9/$Q$4","v":0},{"$f":"IF(P9=0,0,(P9*((LOG(P9))/LOG(2))))","v":0},null,null,{"$f":"N9","v":1121},{"$f":"COUNTIF(L7:L9,T9)","v":0},{"$f":"U9/(W4-U20)","v":0},{"$f":"IF(V9=0,0,(V9*((LOG(V9))/LOG(2))))","v":0},null,{"$f":"N9","v":1121},{"$f":"COUNTIF(L10:L11,Y9)","v":0},{"$f":"Z9/(AB4-Z20)","v":0},{"$f":"IF(AA9=0,0,(AA9*((LOG(AA9))/LOG(2))))","v":0},null,{"$f":"N9","v":1121},{"$f":"COUNTIF(L12:L14,AD9)","v":0},{"$f":"AE9/(AG4-AE20)","v":0},{"$f":"IF(AF9=0,0,(AF9*((LOG(AF9))/LOG(2))))","v":0},null,{"$f":"N9","v":1121},{"$f":"COUNTIF(L15:L16,AI9)","v":0},{"$f":"AJ9/(AL4-AJ20)","v":0},{"$f":"IF(AK9=0,0,(AK9*((LOG(AK9))/LOG(2))))","v":0},null,{"$f":"N9","v":1121},{"$f":"COUNTIF(L17:L19,AN9)","v":0},{"$f":"AO9/(AQ4-AO20)","v":0},{"$f":"IF(AP9=0,0,(AP9*((LOG(AP9))/LOG(2))))","v":0},null,{"$f":"N9","v":1121},{"$f":"COUNTIF(L20:L21,AS9)","v":0},{"$f":"AT9/(AV4-AT20)","v":0},{"$f":"IF(AU9=0,0,(AU9*((LOG(AU9))/LOG(2))))","v":0}]
[12,580,14,590,24,611,23,637,null,null,0,1122,null,1122,{"$f":"COUNTIF($L$7:$L$500,N10)","v":2},{"$f":"O10/$Q$4","v":0.13333333333333333},{"$f":"IF(P10=0,0,(P10*((LOG(P10))/LOG(2))))","v":-0.3875854127478025},null,null,{"$f":"N10","v":1122},{"$f":"COUNTIF(L7:L9,T10)","v":0},{"$f":"U10/(W4-U20)","v":0},{"$f":"IF(V10=0,0,(V10*((LOG(V10))/LOG(2))))","v":0},null,{"$f":"N10","v":1122},{"$f":"COUNTIF(L10:L11,Y10)","v":1},{"$f":"Z10/(AB4-Z20)","v":0.5},{"$f":"IF(AA10=0,0,(AA10*((LOG(AA10))/LOG(2))))","v":-0.5},null,{"$f":"N10","v":1122},{"$f":"COUNTIF(L12:L14,AD10)","v":0},{"$f":"AE10/(AG4-AE20)","v":0},{"$f":"IF(AF10=0,0,(AF10*((LOG(AF10))/LOG(2))))","v":0},null,{"$f":"N10","v":1122},{"$f":"COUNTIF(L15:L16,AI10)","v":1},{"$f":"AJ10/(AL4-AJ20)","v":0.5},{"$f":"IF(AK10=0,0,(AK10*((LOG(AK10))/LOG(2))))","v":-0.5},null,{"$f":"N10","v":1122},{"$f":"COUNTIF(L17:L19,AN10)","v":0},{"$f":"AO10/(AQ4-AO20)","v":0},{"$f":"IF(AP10=0,0,(AP10*((LOG(AP10))/LOG(2))))","v":0},null,{"$f":"N10","v":1122},{"$f":"COUNTIF(L20:L21,AS10)","v":0},{"$f":"AT10/(AV4-AT20)","v":0},{"$f":"IF(AU10=0,0,(AU10*((LOG(AU10))/LOG(2))))","v":0}]
[12,738,14,746,13,754,23,768,null,null,0,1112,null,1211,{"$f":"COUNTIF($L$7:$L$500,N11)","v":0},{"$f":"O11/$Q$4","v":0},{"$f":"IF(P11=0,0,(P11*((LOG(P11))/LOG(2))))","v":0},null,null,{"$f":"N11","v":1211},{"$f":"COUNTIF(L7:L9,T11)","v":0},{"$f":"U11/(W4-U20)","v":0},{"$f":"IF(V11=0,0,(V11*((LOG(V11))/LOG(2))))","v":0},null,{"$f":"N11","v":1211},{"$f":"COUNTIF(L10:L11,Y11)","v":0},{"$f":"Z11/(AB4-Z20)","v":0},{"$f":"IF(AA11=0,0,(AA11*((LOG(AA11))/LOG(2))))","v":0},null,{"$f":"N11","v":1211},{"$f":"COUNTIF(L12:L14,AD11)","v":0},{"$f":"AE11/(AG4-AE20)","v":0},{"$f":"IF(AF11=0,0,(AF11*((LOG(AF11))/LOG(2))))","v":0},null,{"$f":"N11","v":1211},{"$f":"COUNTIF(L15:L16,AI11)","v":0},{"$f":"AJ11/(AL4-AJ20)","v":0},{"$f":"IF(AK11=0,0,(AK11*((LOG(AK11))/LOG(2))))","v":0},null,{"$f":"N11","v":1211},{"$f":"COUNTIF(L17:L19,AN11)","v":0},{"$f":"AO11/(AQ4-AO20)","v":0},{"$f":"IF(AP11=0,0,(AP11*((LOG(AP11))/LOG(2))))","v":0},null,{"$f":"N11","v":1211},{"$f":"COUNTIF(L20:L21,AS11)","v":0},{"$f":"AT11/(AV4-AT20)","v":0},{"$f":"IF(AU11=0,0,(AU11*((LOG(AU11))/LOG(2))))","v":0}]
[12,890,14,896,13,907,14,925,null,null,0,1111,null,1212,{"$f":"COUNTIF($L$7:$L$500,N12)","v":0},{"$f":"O12/$Q$4","v":0},{"$f":"IF(P12=0,0,(P12*((LOG(P12))/LOG(2))))","v":0},null,null,{"$f":"N12","v":1212},{"$f":"COUNTIF(L7:L9,T12)","v":0},{"$f":"U12/(W4-U20)","v":0},{"$f":"IF(V12=0,0,(V12*((LOG(V12))/LOG(2))))","v":0},null,{"$f":"N12","v":1212},{"$f":"COUNTIF(L10:L11,Y12)","v":0},{"$f":"Z12/(AB4-Z20)","v":0},{"$f":"IF(AA12=0,0,(AA12*((LOG(AA12))/LOG(2))))","v":0},null,{"$f":"N12","v":1212},{"$f":"COUNTIF(L12:L14,AD12)","v":0},{"$f":"AE12/(AG4-AE20)","v":0},{"$f":"IF(AF12=0,0,(AF12*((LOG(AF12))/LOG(2))))","v":0},null,{"$f":"N12","v":1212},{"$f":"COUNTIF(L15:L16,AI12)","v":0},{"$f":"AJ12/(AL4-AJ20)","v":0},{"$f":"IF(AK12=0,0,(AK12*((LOG(AK12))/LOG(2))))","v":0},null,{"$f":"N12","v":1212},{"$f":"COUNTIF(L17:L19,AN12)","v":0},{"$f":"AO12/(AQ4-AO20)","v":0},{"$f":"IF(AP12=0,0,(AP12*((LOG(AP12))/LOG(2))))","v":0},null,{"$f":"N12","v":1212},{"$f":"COUNTIF(L20:L21,AS12)","v":0},{"$f":"AT12/(AV4-AT20)","v":0},{"$f":"IF(AU12=0,0,(AU12*((LOG(AU12))/LOG(2))))","v":0}]
[12,1030,14,1035,13,1041,14,1047,null,null,0,1111,null,1221,{"$f":"COUNTIF($L$7:$L$500,N13)","v":0},{"$f":"O13/$Q$4","v":0},{"$f":"IF(P13=0,0,(P13*((LOG(P13))/LOG(2))))","v":0},null,null,{"$f":"N13","v":1221},{"$f":"COUNTIF(L7:L9,T13)","v":0},{"$f":"U13/(W4-U20)","v":0},{"$f":"IF(V13=0,0,(V13*((LOG(V13))/LOG(2))))","v":0},null,{"$f":"N13","v":1221},{"$f":"COUNTIF(L10:L11,Y13)","v":0},{"$f":"Z13/(AB4-Z20)","v":0},{"$f":"IF(AA13=0,0,(AA13*((LOG(AA13))/LOG(2))))","v":0},null,{"$f":"N13","v":1221},{"$f":"COUNTIF(L12:L14,AD13)","v":0},{"$f":"AE13/(AG4-AE20)","v":0},{"$f":"IF(AF13=0,0,(AF13*((LOG(AF13))/LOG(2))))","v":0},null,{"$f":"N13","v":1221},{"$f":"COUNTIF(L15:L16,AI13)","v":0},{"$f":"AJ13/(AL4-AJ20)","v":0},{"$f":"IF(AK13=0,0,(AK13*((LOG(AK13))/LOG(2))))","v":0},null,{"$f":"N13","v":1221},{"$f":"COUNTIF(L17:L19,AN13)","v":0},{"$f":"AO13/(AQ4-AO20)","v":0},{"$f":"IF(AP13=0,0,(AP13*((LOG(AP13))/LOG(2))))","v":0},null,{"$f":"N13","v":1221},{"$f":"COUNTIF(L20:L21,AS13)","v":0},{"$f":"AT13/(AV4-AT20)","v":0},{"$f":"IF(AU13=0,0,(AU13*((LOG(AU13))/LOG(2))))","v":0}]
[12,1152,14,1156,13,1161,14,1167,null,null,0,1111,null,1222,{"$f":"COUNTIF($L$7:$L$500,N14)","v":0},{"$f":"O14/$Q$4","v":0},{"$f":"IF(P14=0,0,(P14*((LOG(P14))/LOG(2))))","v":0},null,null,{"$f":"N14","v":1222},{"$f":"COUNTIF(L7:L9,T14)","v":0},{"$f":"U14/(W4-U20)","v":0},{"$f":"IF(V14=0,0,(V14*((LOG(V14))/LOG(2))))","v":0},null,{"$f":"N14","v":1222},{"$f":"COUNTIF(L10:L11,Y14)","v":0},{"$f":"Z14/(AB4-Z20)","v":0},{"$f":"IF(AA14=0,0,(AA14*((LOG(AA14))/LOG(2))))","v":0},null,{"$f":"N14","v":1222},{"$f":"COUNTIF(L12:L14,AD14)","v":0},{"$f":"AE14/(AG4-AE20)","v":0},{"$f":"IF(AF14=0,0,(AF14*((LOG(AF14))/LOG(2))))","v":0},null,{"$f":"N14","v":1222},{"$f":"COUNTIF(L15:L16,AI14)","v":0},{"$f":"AJ14/(AL4-AJ20)","v":0},{"$f":"IF(AK14=0,0,(AK14*((LOG(AK14))/LOG(2))))","v":0},null,{"$f":"N14","v":1222},{"$f":"COUNTIF(L17:L19,AN14)","v":0},{"$f":"AO14/(AQ4-AO20)","v":0},{"$f":"IF(AP14=0,0,(AP14*((LOG(AP14))/LOG(2))))","v":0},null,{"$f":"N14","v":1222},{"$f":"COUNTIF(L20:L21,AS14)","v":0},{"$f":"AT14/(AV4-AT20)","v":0},{"$f":"IF(AU14=0,0,(AU14*((LOG(AU14))/LOG(2))))","v":0}]
[12,1267,14,1272,13,1277,23,1311,null,null,0,1112,null,2111,{"$f":"COUNTIF($L$7:$L$500,N15)","v":0},{"$f":"O15/$Q$4","v":0},{"$f":"IF(P15=0,0,(P15*((LOG(P15))/LOG(2))))","v":0},null,null,{"$f":"N15","v":2111},{"$f":"COUNTIF(L7:L9,T15)","v":0},{"$f":"U15/(W4-U20)","v":0},{"$f":"IF(V15=0,0,(V15*((LOG(V15))/LOG(2))))","v":0},null,{"$f":"N15","v":2111},{"$f":"COUNTIF(L10:L11,Y15)","v":0},{"$f":"Z15/(AB4-Z20)","v":0},{"$f":"IF(AA15=0,0,(AA15*((LOG(AA15))/LOG(2))))","v":0},null,{"$f":"N15","v":2111},{"$f":"COUNTIF(L12:L14,AD15)","v":0},{"$f":"AE15/(AG4-AE20)","v":0},{"$f":"IF(AF15=0,0,(AF15*((LOG(AF15))/LOG(2))))","v":0},null,{"$f":"N15","v":2111},{"$f":"COUNTIF(L15:L16,AI15)","v":0},{"$f":"AJ15/(AL4-AJ20)","v":0},{"$f":"IF(AK15=0,0,(AK15*((LOG(AK15))/LOG(2))))","v":0},null,{"$f":"N15","v":2111},{"$f":"COUNTIF(L17:L19,AN15)","v":0},{"$f":"AO15/(AQ4-AO20)","v":0},{"$f":"IF(AP15=0,0,(AP15*((LOG(AP15))/LOG(2))))","v":0},null,{"$f":"N15","v":2111},{"$f":"COUNTIF(L20:L21,AS15)","v":0},{"$f":"AT15/(AV4-AT20)","v":0},{"$f":"IF(AU15=0,0,(AU15*((LOG(AU15))/LOG(2))))","v":0}]
[12,1432,14,1443,24,1460,23,1465,null,null,0,1122,null,2112,{"$f":"COUNTIF($L$7:$L$500,N16)","v":0},{"$f":"O16/$Q$4","v":0},{"$f":"IF(P16=0,0,(P16*((LOG(P16))/LOG(2))))","v":0},null,null,{"$f":"N16","v":2112},{"$f":"COUNTIF(L7:L9,T16)","v":0},{"$f":"U16/(W4-U20)","v":0},{"$f":"IF(V16=0,0,(V16*((LOG(V16))/LOG(2))))","v":0},null,{"$f":"N16","v":2112},{"$f":"COUNTIF(L10:L11,Y16)","v":0},{"$f":"Z16/(AB4-Z20)","v":0},{"$f":"IF(AA16=0,0,(AA16*((LOG(AA16))/LOG(2))))","v":0},null,{"$f":"N16","v":2112},{"$f":"COUNTIF(L12:L14,AD16)","v":0},{"$f":"AE16/(AG4-AE20)","v":0},{"$f":"IF(AF16=0,0,(AF16*((LOG(AF16))/LOG(2))))","v":0},null,{"$f":"N16","v":2112},{"$f":"COUNTIF(L15:L16,AI16)","v":0},{"$f":"AJ16/(AL4-AJ20)","v":0},{"$f":"IF(AK16=0,0,(AK16*((LOG(AK16))/LOG(2))))","v":0},null,{"$f":"N16","v":2112},{"$f":"COUNTIF(L17:L19,AN16)","v":0},{"$f":"AO16/(AQ4-AO20)","v":0},{"$f":"IF(AP16=0,0,(AP16*((LOG(AP16))/LOG(2))))","v":0},null,{"$f":"N16","v":2112},{"$f":"COUNTIF(L20:L21,AS16)","v":0},{"$f":"AT16/(AV4-AT20)","v":0},{"$f":"IF(AU16=0,0,(AU16*((LOG(AU16))/LOG(2))))","v":0}]
[12,1565,14,1572,13,1579,14,1611,null,null,0,1111,null,2121,{"$f":"COUNTIF($L$7:$L$500,N17)","v":0},{"$f":"O17/$Q$4","v":0},{"$f":"IF(P17=0,0,(P17*((LOG(P17))/LOG(2))))","v":0},null,null,{"$f":"N17","v":2121},{"$f":"COUNTIF(L7:L9,T17)","v":0},{"$f":"U17/(W4-U20)","v":0},{"$f":"IF(V17=0,0,(V17*((LOG(V17))/LOG(2))))","v":0},null,{"$f":"N17","v":2121},{"$f":"COUNTIF(L10:L11,Y17)","v":0},{"$f":"Z17/(AB4-Z20)","v":0},{"$f":"IF(AA17=0,0,(AA17*((LOG(AA17))/LOG(2))))","v":0},null,{"$f":"N17","v":2121},{"$f":"COUNTIF(L12:L14,AD17)","v":0},{"$f":"AE17/(AG4-AE20)","v":0},{"$f":"IF(AF17=0,0,(AF17*((LOG(AF17))/LOG(2))))","v":0},null,{"$f":"N17","v":2121},{"$f":"COUNTIF(L15:L16,AI17)","v":0},{"$f":"AJ17/(AL4-AJ20)","v":0},{"$f":"IF(AK17=0,0,(AK17*((LOG(AK17))/LOG(2))))","v":0},null,{"$f":"N17","v":2121},{"$f":"COUNTIF(L17:L19,AN17)","v":0},{"$f":"AO17/(AQ4-AO20)","v":0},{"$f":"IF(AP17=0,0,(AP17*((LOG(AP17))/LOG(2))))","v":0},null,{"$f":"N17","v":2121},{"$f":"COUNTIF(L20:L21,AS17)","v":0},{"$f":"AT17/(AV4-AT20)","v":0},{"$f":"IF(AU17=0,0,(AU17*((LOG(AU17))/LOG(2))))","v":0}]
[12,1731,14,1742,13,1757,14,1766,null,null,0,1111,null,2122,{"$f":"COUNTIF($L$7:$L$500,N18)","v":0},{"$f":"O18/$Q$4","v":0},{"$f":"IF(P18=0,0,(P18*((LOG(P18))/LOG(2))))","v":0},null,null,{"$f":"N18","v":2122},{"$f":"COUNTIF(L7:L9,T18)","v":0},{"$f":"U18/(W4-U20)","v":0},{"$f":"IF(V18=0,0,(V18*((LOG(V18))/LOG(2))))","v":0},null,{"$f":"N18","v":2122},{"$f":"COUNTIF(L10:L11,Y18)","v":0},{"$f":"Z18/(AB4-Z20)","v":0},{"$f":"IF(AA18=0,0,(AA18*((LOG(AA18))/LOG(2))))","v":0},null,{"$f":"N18","v":2122},{"$f":"COUNTIF(L12:L14,AD18)","v":0},{"$f":"AE18/(AG4-AE20)","v":0},{"$f":"IF(AF18=0,0,(AF18*((LOG(AF18))/LOG(2))))","v":0},null,{"$f":"N18","v":2122},{"$f":"COUNTIF(L15:L16,AI18)","v":0},{"$f":"AJ18/(AL4-AJ20)","v":0},{"$f":"IF(AK18=0,0,(AK18*((LOG(AK18))/LOG(2))))","v":0},null,{"$f":"N18","v":2122},{"$f":"COUNTIF(L17:L19,AN18)","v":0},{"$f":"AO18/(AQ4-AO20)","v":0},{"$f":"IF(AP18=0,0,(AP18*((LOG(AP18))/LOG(2))))","v":0},null,{"$f":"N18","v":2122},{"$f":"COUNTIF(L20:L21,AS18)","v":0},{"$f":"AT18/(AV4-AT20)","v":0},{"$f":"IF(AU18=0,0,(AU18*((LOG(AU18))/LOG(2))))","v":0}]
[12,1883,14,1891,13,1896,14,1902,null,null,0,1111,null,2211,{"$f":"COUNTIF($L$7:$L$500,N19)","v":0},{"$f":"O19/$Q$4","v":0},{"$f":"IF(P19=0,0,(P19*((LOG(P19))/LOG(2))))","v":0},null,null,{"$f":"N19","v":2211},{"$f":"COUNTIF(L7:L9,T19)","v":0},{"$f":"U19/(W4-U20)","v":0},{"$f":"IF(V19=0,0,(V19*((LOG(V19))/LOG(2))))","v":0},null,{"$f":"N19","v":2211},{"$f":"COUNTIF(L10:L11,Y19)","v":0},{"$f":"Z19/(AB4-Z20)","v":0},{"$f":"IF(AA19=0,0,(AA19*((LOG(AA19))/LOG(2))))","v":0},null,{"$f":"N19","v":2211},{"$f":"COUNTIF(L12:L14,AD19)","v":0},{"$f":"AE19/(AG4-AE20)","v":0},{"$f":"IF(AF19=0,0,(AF19*((LOG(AF19))/LOG(2))))","v":0},null,{"$f":"N19","v":2211},{"$f":"COUNTIF(L15:L16,AI19)","v":0},{"$f":"AJ19/(AL4-AJ20)","v":0},{"$f":"IF(AK19=0,0,(AK19*((LOG(AK19))/LOG(2))))","v":0},null,{"$f":"N19","v":2211},{"$f":"COUNTIF(L17:L19,AN19)","v":0},{"$f":"AO19/(AQ4-AO20)","v":0},{"$f":"IF(AP19=0,0,(AP19*((LOG(AP19))/LOG(2))))","v":0},null,{"$f":"N19","v":2211},{"$f":"COUNTIF(L20:L21,AS19)","v":0},{"$f":"AT19/(AV4-AT20)","v":0},{"$f":"IF(AU19=0,0,(AU19*((LOG(AU19))/LOG(2))))","v":0}]
[21,14989,21,14999,22,15013,23,15018,null,null,0,2222,null,2212,{"$f":"COUNTIF($L$7:$L$500,N20)","v":0},{"$f":"O20/$Q$4","v":0},{"$f":"IF(P20=0,0,(P20*((LOG(P20))/LOG(2))))","v":0},null,null,{"$f":"N20","v":2212},{"$f":"COUNTIF(L7:L9,T20)","v":0},null,null,null,{"$f":"N20","v":2212},{"$f":"COUNTIF(L10:L11,Y20)","v":0},null,null,null,{"$f":"N20","v":2212},{"$f":"COUNTIF(L12:L14,AD20)","v":0},null,null,null,{"$f":"N20","v":2212},{"$f":"COUNTIF(L15:L16,AI20)","v":0},null,null,null,{"$f":"N20","v":2212},{"$f":"COUNTIF(L17:L19,AN20)","v":0},null,null,null,{"$f":"N20","v":2212},{"$f":"COUNTIF(L20:L21,AS20)","v":0}]
[12,15886,14,15896,13,15902,14,15908,null,null,0,1111,null,2221,{"$f":"COUNTIF($L$7:$L$500,N21)","v":0},{"$f":"O21/$Q$4","v":0},{"$f":"IF(P21=0,0,(P21*((LOG(P21))/LOG(2))))","v":0},null,null,{"$f":"N21","v":2221},{"$f":"COUNTIF(L7:L9,T21)","v":0},{"$f":"U21/(W4-U20)","v":0},{"$f":"IF(V21=0,0,(V21*((LOG(V21))/LOG(2))))","v":0},null,{"$f":"N21","v":2221},{"$f":"COUNTIF(L10:L11,Y21)","v":0},{"$f":"Z21/(AB4-Z20)","v":0},{"$f":"IF(AA21=0,0,(AA21*((LOG(AA21))/LOG(2))))","v":0},null,{"$f":"N21","v":2221},{"$f":"COUNTIF(L12:L14,AD21)","v":0},{"$f":"AE21/(AG4-AE20)","v":0},{"$f":"IF(AF21=0,0,(AF21*((LOG(AF21))/LOG(2))))","v":0},null,{"$f":"N21","v":2221},{"$f":"COUNTIF(L15:L16,AI21)","v":0},{"$f":"AJ21/(AL4-AJ20)","v":0},{"$f":"IF(AK21=0,0,(AK21*((LOG(AK21))/LOG(2))))","v":0},null,{"$f":"N21","v":2221},{"$f":"COUNTIF(L17:L19,AN21)","v":0},{"$f":"AO21/(AQ4-AO20)","v":0},{"$f":"IF(AP21=0,0,(AP21*((LOG(AP21))/LOG(2))))","v":0},null,{"$f":"N21","v":2221},{"$f":"COUNTIF(L20:L21,AS21)","v":0},{"$f":"AT21/(AV4-AT20)","v":0},{"$f":"IF(AU21=0,0,(AU21*((LOG(AU21))/LOG(2))))","v":0}]
[null,null,null,null,null,null,null,null,null,null,null,null,null,2222,{"$f":"COUNTIF($L$7:$L$500,N22)","v":1},{"$f":"O22/$Q$4","v":6.6666666666666666E-2},{"$f":"IF(P22=0,0,(P22*((LOG(P22))/LOG(2))))","v":-0.26045937304056793},null,null,{"$f":"N22","v":2222},{"$f":"COUNTIF(L7:L9,T22)","v":0},{"$f":"U22/(W4-U20)","v":0},{"$f":"IF(V22=0,0,(V22*((LOG(V22))/LOG(2))))","v":0},null,{"$f":"N22","v":2222},{"$f":"COUNTIF(L10:L11,Y22)","v":0},{"$f":"Z22/(AB4-Z20)","v":0},{"$f":"IF(AA22=0,0,(AA22*((LOG(AA22))/LOG(2))))","v":0},null,{"$f":"N22","v":2222},{"$f":"COUNTIF(L12:L14,AD22)","v":0},{"$f":"AE22/(AG4-AE20)","v":0},{"$f":"IF(AF22=0,0,(AF22*((LOG(AF22))/LOG(2))))","v":0},null,{"$f":"N22","v":2222},{"$f":"COUNTIF(L15:L16,AI22)","v":0},{"$f":"AJ22/(AL4-AJ20)","v":0},{"$f":"IF(AK22=0,0,(AK22*((LOG(AK22))/LOG(2))))","v":0},null,{"$f":"N22","v":2222},{"$f":"COUNTIF(L17:L19,AN22)","v":0},{"$f":"AO22/(AQ4-AO20)","v":0},{"$f":"IF(AP22=0,0,(AP22*((LOG(AP22))/LOG(2))))","v":0},null,{"$f":"N22","v":2222},{"$f":"COUNTIF(L20:L21,AS22)","v":1},{"$f":"AT22/(AV4-AT20)","v":0.5},{"$f":"IF(AU22=0,0,(AU22*((LOG(AU22))/LOG(2))))","v":-0.5}]
[null,null,null,null,null,null,null,null,null,null,null,null,null,null,null,{"$f":"SUM(P7:P22)","v":1},{"$f":"-SUM(Q7:Q22)","v":1.5546097612655667},null,null,null,null,{"$f":"SUM(V7:V22)","v":1},{"$f":"-SUM(W7:W22)","v":0.91829583405448945},null,null,null,{"$f":"SUM(AA7:AA22)","v":1},{"$f":"-SUM(AB7:AB22)","v":1},null,null,null,{"$f":"SUM(AF7:AF22)","v":1},{"$f":"-SUM(AG7:AG22)","v":0},null,null,null,{"$f":"SUM(AK7:AK22)","v":1},{"$f":"-SUM(AL7:AL22)","v":1},null,null,null,{"$f":"SUM(AP7:AP22)","v":1},{"$f":"-SUM(AQ7:AQ22)","v":0},null,null,null,{"$f":"SUM(AU7:AU22)","v":1},{"$f":"-SUM(AV7:AV22)","v":1}]
[null,null,null,null,null,null,null,null,null,null,null,null,null,null,null,"U=",{"$f":"Q23/(LOG(Q4)/LOG(2))","v":0.39791484384359327},null,null,null,null,"U1=",{"$f":"W23/(LOG(W4)/LOG(2))","v":0.57938016428569505},null,null,null,"U2=",{"$f":"AB23/(LOG(AB4)/LOG(2))","v":1},null,null,null,"U3=",{"$f":"AG23/(LOG(AG4)/LOG(2))","v":0},null,null,null,"U4=",{"$f":"AL23/(LOG(AL4)/LOG(2))","v":1},null,null,null,"U5=",{"$f":"AQ23/(LOG(AQ4)/LOG(2))","v":0},null,null,null,"U6=",{"$f":"AV23/(LOG(AV4)/LOG(2))","v":1}]
[]
[]
[null,null,null,null,null,null,null,null,null,null,null,null,null,"Total Target Seq"]
[null,null,null,null,null,null,null,null,null,null,null,null,null,{"$f":"COUNTIF(L7:L21,G3)","v":0},null,3,2,3,2,3,2]
[null,null,null,null,null,null,null,null,null,null,null,null,null,null,null,"% of reinforcement given in 6 equal intervals based on number of trials "]
[null,null,null,null,null,null,null,null,null,null,null,null,null,null,null,"%_1","%_2","%_3","%_4","%_5","%_6"]
[null,null,null,null,null,null,null,null,null,null,null,null,null,null,"target sequence",{"$f":"$G$3","v":2212},{"$f":"$G$3","v":2212},{"$f":"$G$3","v":2212},{"$f":"$G$3","v":2212},{"$f":"$G$3","v":2212},{"$f":"$G$3","v":2212}]
[null,null,null,null,null,null,null,null,null,null,null,null,null,null,"total reinforcement",{"$f":"U20","v":0},{"$f":"Z20","v":0},{"$f":"AE20","v":0},{"$f":"AJ20","v":0},{"$f":"AO20","v":0},{"$f":"AT20","v":0}]
[null,null,null,null,null,null,null,null,null,null,null,null,null,null,"% target"]
[null,null,null,null,null,null,null,null,null,null,null,null,null,null,"CCRF"]
[null,null,null,null,null,null,null,null,null,null,null,null,null,null,"% CCRf"]
[null,null,null,null,null,null,null,null,null,null,null,null,null,null,"average response rate",{"$f":"H9/P28","v":158.33333333333334},{"$f":"(H11-H9)/Q28","v":146.5},{"$f":"(H14-H11)/R28","v":133},{"$f":"(H16-H14)/S28","v":149},{"$f":"(H19-H16)/T28","v":145.66666666666666},{"$f":"(H21-H19)/U28","v":7003}]

{"sheet":"!M915840.102","index":19,"n_rows":36,"n_cols":48,"rows_kept":36,"cut":false,"hidden":false,"merged":[[4,39,4,42],[5,39,5,40],[4,44,4,47],[5,44,5,45],[4,24,4,27],[5,24,5,25],[4,29,4,32],[5,29,5,30],[4,34,4,37],[5,34,5,35],[1,1,1,2],[5,13,5,14],[26,13,26,14],[27,13,27,14],[4,19,4,22],[5,19,5,20]]}
["Report for:!M915840.102"]
["Date:","<date>"]
["Hen:","<hen>",null,null,null,"Correct Sequence",{"$f":"Start!J2","v":2212},null,null,null,null,null,null,null,null,"Total Sequences in Data",{"$f":"4994-COUNTBLANK(L7:L5000)","v":3},null,null,null,null,"Total Sequences in Block Data",{"$f":"COUNTA(L7:L7)","v":1},null,null,null,"Total Sequences in Block Data",{"$f":"COUNTA(L7:L8)","v":2},null,null,null,"Total Sequences in Block Data",{"$f":"COUNTA(L8:L8)","v":1},null,null,null,"Total Sequences in Block Data",{"$f":"COUNTA(L8:L9)","v":2},null,null,null,"Total Sequences in Block Data",{"$f":"COUNTA(L9:L9)","v":1},null,null,null,"Total Sequences in Block Data",{"$f":"COUNTA(L9:L10)","v":1}]
[null,null,null,null,null,null,null,null,null,null,null,null,null,null,null,"Total Sequences in Summary",{"$f":"SUM(O7:O22)","v":3},null,null,null,null,"Total Sequences in Block Summary",{"$f":"SUM(U7:U22)","v":1},null,null,null,"Total Sequences in Block Summary",{"$f":"SUM(Z7:Z22)","v":2},null,null,null,"Total Sequences in Block Summary",{"$f":"SUM(AE7:AE22)","v":1},null,null,null,"Total Sequences in Block Summary",{"$f":"SUM(AJ7:AJ22)","v":2},null,null,null,"Total Sequences in Block Summary",{"$f":"SUM(AO7:AO22)","v":1},null,null,null,"Total Sequences in Block Summary",{"$f":"SUM(AT7:AT22)","v":1}]
[null,null,null,null,null,null,null,null,null,null,null,null,null,null,null,null,null,null,null,"Block 1",null,null,null,null,"Block 2",null,null,null,null,"Block 3",null,null,null,null,"Block 4",null,null,null,null,"Block 5",null,null,null,null,"Block 6"]
["Sequence\nComponent\n1","Time\n1","Sequence\nComponent\n2","Time\n2","Sequence\nComponent\n3","Time\n3","Sequence\nComponent\n4","Time\n4","Sequence\nComponent\n5","Time\n5","Correct?\n0=No 1=Yes","Sequence",null,"Frequency",null,"Relative Frequency","Variability",null,null,"Frequency",null,"Relative Frequency","Variability",null,"Frequency",null,"Relative Frequency","Variability",null,"Frequency",null,"Relative Frequency","Variability",null,"Frequency",null,"Relative Frequency","Variability",null,"Frequency",null,"Relative Frequency","Variability",null,"Frequency",null,"Relative Frequency","Variability"]
[12,102,14,111,13,230,14,242,null,null,0,1111,null,1111,{"$f":"COUNTIF($L$7:$L$500,N7)","v":3},{"$f":"O7/$Q$4","v":1},{"$f":"IF(P7=0,0,(P7*((LOG(P7))/LOG(2))))","v":0},null,null,{"$f":"N7","v":1111},{"$f":"COUNTIF(L7:L7,T7)","v":1},{"$f":"U7/(W4-U20)","v":1},{"$f":"IF(V7=0,0,(V7*((LOG(V7))/LOG(2))))","v":0},null,{"$f":"N7","v":1111},{"$f":"COUNTIF(L7:L8,Y7)","v":2},{"$f":"Z7/(AB4-Z20)","v":1},{"$f":"IF(AA7=0,0,(AA7*((LOG(AA7))/LOG(2))))","v":0},null,{"$f":"N7","v":1111},{"$f":"COUNTIF(L8:L8,AD7)","v":1},{"$f":"AE7/(AG4-AE20)","v":1},{"$f":"IF(AF7=0,0,(AF7*((LOG(AF7))/LOG(2))))","v":0},null,{"$f":"N7","v":1111},{"$f":"COUNTIF(L8:L9,AI7)","v":2},{"$f":"AJ7/(AL4-AJ20)","v":1},{"$f":"IF(AK7=0,0,(AK7*((LOG(AK7))/LOG(2))))","v":0},null,{"$f":"N7","v":1111},{"$f":"COUNTIF(L9:L9,AN7)","v":1},{"$f":"AO7/(AQ4-AO20)","v":1},{"$f":"IF(AP7=0,0,(AP7*((LOG(AP7))/LOG(2))))","v":0},null,{"$f":"N7","v":1111},{"$f":"COUNTIF(L9:L10,AS7)","v":1},{"$f":"AT7/(AV4-AT20)","v":1},{"$f":"IF(AU7=0,0,(AU7*((LOG(AU7))/LOG(2))))","v":0}]
[12,548,14,562,13,574,14,587,null,null,0,1111,null,1112,{"$f":"COUNTIF($L$7:$L$500,N8)","v":0},{"$f":"O8/$Q$4","v":0},{"$f":"IF(P8=0,0,(P8*((LOG(P8))/LOG(2))))","v":0},null,null,{"$f":"N8","v":1112},{"$f":"COUNTIF(L7:L7,T8)","v":0},{"$f":"U8/(W4-U20)","v":0},{"$f":"IF(V8=0,0,(V8*((LOG(V8))/LOG(2))))","v":0},null,{"$f":"N8","v":1112},{"$f":"COUNTIF(L7:L8,Y8)","v":0},{"$f":"Z8/(AB4-Z20)","v":0},{"$f":"IF(AA8=0,0,(AA8*((LOG(AA8))/LOG(2))))","v":0},null,{"$f":"N8","v":1112},{"$f":"COUNTIF(L8:L8,AD8)","v":0},{"$f":"AE8/(AG4-AE20)","v":0},{"$f":"IF(AF8=0,0,(AF8*((LOG(AF8))/LOG(2))))","v":0},null,{"$f":"N8","v":1112},{"$f":"COUNTIF(L8:L9,AI8)","v":0},{"$f":"AJ8/(AL4-AJ20)","v":0},{"$f":"IF(AK8=0,0,(AK8*((LOG(AK8))/LOG(2))))","v":0},null,{"$f":"N8","v":1112},{"$f":"COUNTIF(L9:L9,AN8)","v":0},{"$f":"AO8/(AQ4-AO20)","v":0},{"$f":"IF(AP8=0,0,(AP8*((LOG(AP8))/LOG(2))))","v":0},null,{"$f":"N8","v":1112},{"$f":"COUNTIF(L9:L10,AS8)","v":0},{"$f":"AT8/(AV4-AT20)","v":0},{"$f":"IF(AU8=0,0,(AU8*((LOG(AU8))/LOG(2))))","v":0}]
[12,783,14,798,13,818,14,824,null,null,0,1111,null,1121,{"$f":"COUNTIF($L$7:$L$500,N9)","v":0},{"$f":"O9/$Q$4","v":0},{"$f":"IF(P9=0,0,(P9*((LOG(P9))/LOG(2))))","v":0},null,null,{"$f":"N9","v":1121},{"$f":"COUNTIF(L7:L7,T9)","v":0},{"$f":"U9/(W4-U20)","v":0},{"$f":"IF(V9=0,0,(V9*((LOG(V9))/LOG(2))))","v":0},null,{"$f":"N9","v":1121},{"$f":"COUNTIF(L7:L8,Y9)","v":0},{"$f":"Z9/(AB4-Z20)","v":0},{"$f":"IF(AA9=0,0,(AA9*((LOG(AA9))/LOG(2))))","v":0},null,{"$f":"N9","v":1121},{"$f":"COUNTIF(L8:L8,AD9)","v":0},{"$f":"AE9/(AG4-AE20)","v":0},{"$f":"IF(AF9=0,0,(AF9*((LOG(AF9))/LOG(2))))","v":0},null,{"$f":"N9","v":1121},{"$f":"COUNTIF(L8:L9,AI9)","v":0},{"$f":"AJ9/(AL4-AJ20)","v":0},{"$f":"IF(AK9=0,0,(AK9*((LOG(AK9))/LOG(2))))","v":0},null,{"$f":"N9","v":1121},{"$f":"COUNTIF(L9:L9,AN9)","v":0},{"$f":"AO9/(AQ4-AO20)","v":0},{"$f":"IF(AP9=0,0,(AP9*((LOG(AP9))/LOG(2))))","v":0},null,{"$f":"N9","v":1121},{"$f":"COUNTIF(L9:L10,AS9)","v":0},{"$f":"AT9/(AV4-AT20)","v":0},{"$f":"IF(AU9=0,0,(AU9*((LOG(AU9))/LOG(2))))","v":0}]
[null,null,null,null,null,null,null,null,null,null,null,null,null,1122,{"$f":"COUNTIF($L$7:$L$500,N10)","v":0},{"$f":"O10/$Q$4","v":0},{"$f":"IF(P10=0,0,(P10*((LOG(P10))/LOG(2))))","v":0},null,null,{"$f":"N10","v":1122},{"$f":"COUNTIF(L7:L7,T10)","v":0},{"$f":"U10/(W4-U20)","v":0},{"$f":"IF(V10=0,0,(V10*((LOG(V10))/LOG(2))))","v":0},null,{"$f":"N10","v":1122},{"$f":"COUNTIF(L7:L8,Y10)","v":0},{"$f":"Z10/(AB4-Z20)","v":0},{"$f":"IF(AA10=0,0,(AA10*((LOG(AA10))/LOG(2))))","v":0},null,{"$f":"N10","v":1122},{"$f":"COUNTIF(L8:L8,AD10)","v":0},{"$f":"AE10/(AG4-AE20)","v":0},{"$f":"IF(AF10=0,0,(AF10*((LOG(AF10))/LOG(2))))","v":0},null,{"$f":"N10","v":1122},{"$f":"COUNTIF(L8:L9,AI10)","v":0},{"$f":"AJ10/(AL4-AJ20)","v":0},{"$f":"IF(AK10=0,0,(AK10*((LOG(AK10))/LOG(2))))","v":0},null,{"$f":"N10","v":1122},{"$f":"COUNTIF(L9:L9,AN10)","v":0},{"$f":"AO10/(AQ4-AO20)","v":0},{"$f":"IF(AP10=0,0,(AP10*((LOG(AP10))/LOG(2))))","v":0},null,{"$f":"N10","v":1122},{"$f":"COUNTIF(L9:L10,AS10)","v":0},{"$f":"AT10/(AV4-AT20)","v":0},{"$f":"IF(AU10=0,0,(AU10*((LOG(AU10))/LOG(2))))","v":0}]
[null,null,null,null,null,null,null,null,null,null,null,null,null,1211,{"$f":"COUNTIF($L$7:$L$500,N11)","v":0},{"$f":"O11/$Q$4","v":0},{"$f":"IF(P11=0,0,(P11*((LOG(P11))/LOG(2))))","v":0},null,null,{"$f":"N11","v":1211},{"$f":"COUNTIF(L7:L7,T11)","v":0},{"$f":"U11/(W4-U20)","v":0},{"$f":"IF(V11=0,0,(V11*((LOG(V11))/LOG(2))))","v":0},null,{"$f":"N11","v":1211},{"$f":"COUNTIF(L7:L8,Y11)","v":0},{"$f":"Z11/(AB4-Z20)","v":0},{"$f":"IF(AA11=0,0,(AA11*((LOG(AA11))/LOG(2))))","v":0},null,{"$f":"N11","v":1211},{"$f":"COUNTIF(L8:L8,AD11)","v":0},{"$f":"AE11/(AG4-AE20)","v":0},{"$f":"IF(AF11=0,0,(AF11*((LOG(AF11))/LOG(2))))","v":0},null,{"$f":"N11","v":1211},{"$f":"COUNTIF(L8:L9,AI11)","v":0},{"$f":"AJ11/(AL4-AJ20)","v":0},{"$f":"IF(AK11=0,0,(AK11*((LOG(AK11))/LOG(2))))","v":0},null,{"$f":"N11","v":1211},{"$f":"COUNTIF(L9:L9,AN11)","v":0},{"$f":"AO11/(AQ4-AO20)","v":0},{"$f":"IF(AP11=0,0,(AP11*((LOG(AP11))/LOG(2))))","v":0},null,{"$f":"N11","v":1211},{"$f":"COUNTIF(L9:L10,AS11)","v":0},{"$f":"AT11/(AV4-AT20)","v":0},{"$f":"IF(AU11=0,0,(AU11*((LOG(AU11))/LOG(2))))","v":0}]
[null,null,null,null,null,null,null,null,null,null,null,null,null,1212,{"$f":"COUNTIF($L$7:$L$500,N12)","v":0},{"$f":"O12/$Q$4","v":0},{"$f":"IF(P12=0,0,(P12*((LOG(P12))/LOG(2))))","v":0},null,null,{"$f":"N12","v":1212},{"$f":"COUNTIF(L7:L7,T12)","v":0},{"$f":"U12/(W4-U20)","v":0},{"$f":"IF(V12=0,0,(V12*((LOG(V12))/LOG(2))))","v":0},null,{"$f":"N12","v":1212},{"$f":"COUNTIF(L7:L8,Y12)","v":0},{"$f":"Z12/(AB4-Z20)","v":0},{"$f":"IF(AA12=0,0,(AA12*((LOG(AA12))/LOG(2))))","v":0},null,{"$f":"N12","v":1212},{"$f":"COUNTIF(L8:L8,AD12)","v":0},{"$f":"AE12/(AG4-AE20)","v":0},{"$f":"IF(AF12=0,0,(AF12*((LOG(AF12))/LOG(2))))","v":0},null,{"$f":"N12","v":1212},{"$f":"COUNTIF(L8:L9,AI12)","v":0},{"$f":"AJ12/(AL4-AJ20)","v":0},{"$f":"IF(AK12=0,0,(AK12*((LOG(AK12))/LOG(2))))","v":0},null,{"$f":"N12","v":1212},{"$f":"COUNTIF(L9:L9,AN12)","v":0},{"$f":"AO12/(AQ4-AO20)","v":0},{"$f":"IF(AP12=0,0,(AP12*((LOG(AP12))/LOG(2))))","v":0},null,{"$f":"N12","v":1212},{"$f":"COUNTIF(L9:L10,AS12)","v":0},{"$f":"AT12/(AV4-AT20)","v":0},{"$f":"IF(AU12=0,0,(AU12*((LOG(AU12))/LOG(2))))","v":0}]
[null,null,null,null,null,null,null,null,null,null,null,null,null,1221,{"$f":"COUNTIF($L$7:$L$500,N13)","v":0},{"$f":"O13/$Q$4","v":0},{"$f":"IF(P13=0,0,(P13*((LOG(P13))/LOG(2))))","v":0},null,null,{"$f":"N13","v":1221},{"$f":"COUNTIF(L7:L7,T13)","v":0},{"$f":"U13/(W4-U20)","v":0},{"$f":"IF(V13=0,0,(V13*((LOG(V13))/LOG(2))))","v":0},null,{"$f":"N13","v":1221},{"$f":"COUNTIF(L7:L8,Y13)","v":0},{"$f":"Z13/(AB4-Z20)","v":0},{"$f":"IF(AA13=0,0,(AA13*((LOG(AA13))/LOG(2))))","v":0},null,{"$f":"N13","v":1221},{"$f":"COUNTIF(L8:L8,AD13)","v":0},{"$f":"AE13/(AG4-AE20)","v":0},{"$f":"IF(AF13=0,0,(AF13*((LOG(AF13))/LOG(2))))","v":0},null,{"$f":"N13","v":1221},{"$f":"COUNTIF(L8:L9,AI13)","v":0},{"$f":"AJ13/(AL4-AJ20)","v":0},{"$f":"IF(AK13=0,0,(AK13*((LOG(AK13))/LOG(2))))","v":0},null,{"$f":"N13","v":1221},{"$f":"COUNTIF(L9:L9,AN13)","v":0},{"$f":"AO13/(AQ4-AO20)","v":0},{"$f":"IF(AP13=0,0,(AP13*((LOG(AP13))/LOG(2))))","v":0},null,{"$f":"N13","v":1221},{"$f":"COUNTIF(L9:L10,AS13)","v":0},{"$f":"AT13/(AV4-AT20)","v":0},{"$f":"IF(AU13=0,0,(AU13*((LOG(AU13))/LOG(2))))","v":0}]
[null,null,null,null,null,null,null,null,null,null,null,null,null,1222,{"$f":"COUNTIF($L$7:$L$500,N14)","v":0},{"$f":"O14/$Q$4","v":0},{"$f":"IF(P14=0,0,(P14*((LOG(P14))/LOG(2))))","v":0},null,null,{"$f":"N14","v":1222},{"$f":"COUNTIF(L7:L7,T14)","v":0},{"$f":"U14/(W4-U20)","v":0},{"$f":"IF(V14=0,0,(V14*((LOG(V14))/LOG(2))))","v":0},null,{"$f":"N14","v":1222},{"$f":"COUNTIF(L7:L8,Y14)","v":0},{"$f":"Z14/(AB4-Z20)","v":0},{"$f":"IF(AA14=0,0,(AA14*((LOG(AA14))/LOG(2))))","v":0},null,{"$f":"N14","v":1222},{"$f":"COUNTIF(L8:L8,AD14)","v":0},{"$f":"AE14/(AG4-AE20)","v":0},{"$f":"IF(AF14=0,0,(AF14*((LOG(AF14))/LOG(2))))","v":0},null,{"$f":"N14","v":1222},{"$f":"COUNTIF(L8:L9,AI14)","v":0},{"$f":"AJ14/(AL4-AJ20)","v":0},{"$f":"IF(AK14=0,0,(AK14*((LOG(AK14))/LOG(2))))","v":0},null,{"$f":"N14","v":1222},{"$f":"COUNTIF(L9:L9,AN14)","v":0},{"$f":"AO14/(AQ4-AO20)","v":0},{"$f":"IF(AP14=0,0,(AP14*((LOG(AP14))/LOG(2))))","v":0},null,{"$f":"N14","v":1222},{"$f":"COUNTIF(L9:L10,AS14)","v":0},{"$f":"AT14/(AV4-AT20)","v":0},{"$f":"IF(AU14=0,0,(AU14*((LOG(AU14))/LOG(2))))","v":0}]
[null,null,null,null,null,null,null,null,null,null,null,null,null,2111,{"$f":"COUNTIF($L$7:$L$500,N15)","v":0},{"$f":"O15/$Q$4","v":0},{"$f":"IF(P15=0,0,(P15*((LOG(P15))/LOG(2))))","v":0},null,null,{"$f":"N15","v":2111},{"$f":"COUNTIF(L7:L7,T15)","v":0},{"$f":"U15/(W4-U20)","v":0},{"$f":"IF(V15=0,0,(V15*((LOG(V15))/LOG(2))))","v":0},null,{"$f":"N15","v":2111},{"$f":"COUNTIF(L7:L8,Y15)","v":0},{"$f":"Z15/(AB4-Z20)","v":0},{"$f":"IF(AA15=0,0,(AA15*((LOG(AA15))/LOG(2))))","v":0},null,{"$f":"N15","v":2111},{"$f":"COUNTIF(L8:L8,AD15)","v":0},{"$f":"AE15/(AG4-AE20)","v":0},{"$f":"IF(AF15=0,0,(AF15*((LOG(AF15))/LOG(2))))","v":0},null,{"$f":"N15","v":2111},{"$f":"COUNTIF(L8:L9,AI15)","v":0},{"$f":"AJ15/(AL4-AJ20)","v":0},{"$f":"IF(AK15=0,0,(AK15*((LOG(AK15))/LOG(2))))","v":0},null,{"$f":"N15","v":2111},{"$f":"COUNTIF(L9:L9,AN15)","v":0},{"$f":"AO15/(AQ4-AO20)","v":0},{"$f":"IF(AP15=0,0,(AP15*((LOG(AP15))/LOG(2))))","v":0},null,{"$f":"N15","v":2111},{"$f":"COUNTIF(L9:L10,AS15)","v":0},{"$f":"AT15/(AV4-AT20)","v":0},{"$f":"IF(AU15=0,0,(AU15*((LOG(AU15))/LOG(2))))","v":0}]
[null,null,null,null,null,null,null,null,null,null,null,null,null,2112,{"$f":"COUNTIF($L$7:$L$500,N16)","v":0},{"$f":"O16/$Q$4","v":0},{"$f":"IF(P16=0,0,(P16*((LOG(P16))/LOG(2))))","v":0},null,null,{"$f":"N16","v":2112},{"$f":"COUNTIF(L7:L7,T16)","v":0},{"$f":"U16/(W4-U20)","v":0},{"$f":"IF(V16=0,0,(V16*((LOG(V16))/LOG(2))))","v":0},null,{"$f":"N16","v":2112},{"$f":"COUNTIF(L7:L8,Y16)","v":0},{"$f":"Z16/(AB4-Z20)","v":0},{"$f":"IF(AA16=0,0,(AA16*((LOG(AA16))/LOG(2))))","v":0},null,{"$f":"N16","v":2112},{"$f":"COUNTIF(L8:L8,AD16)","v":0},{"$f":"AE16/(AG4-AE20)","v":0},{"$f":"IF(AF16=0,0,(AF16*((LOG(AF16))/LOG(2))))","v":0},null,{"$f":"N16","v":2112},{"$f":"COUNTIF(L8:L9,AI16)","v":0},{"$f":"AJ16/(AL4-AJ20)","v":0},{"$f":"IF(AK16=0,0,(AK16*((LOG(AK16))/LOG(2))))","v":0},null,{"$f":"N16","v":2112},{"$f":"COUNTIF(L9:L9,AN16)","v":0},{"$f":"AO16/(AQ4-AO20)","v":0},{"$f":"IF(AP16=0,0,(AP16*((LOG(AP16))/LOG(2))))","v":0},null,{"$f":"N16","v":2112},{"$f":"COUNTIF(L9:L10,AS16)","v":0},{"$f":"AT16/(AV4-AT20)","v":0},{"$f":"IF(AU16=0,0,(AU16*((LOG(AU16))/LOG(2))))","v":0}]
[null,null,null,null,null,null,null,null,null,null,null,null,null,2121,{"$f":"COUNTIF($L$7:$L$500,N17)","v":0},{"$f":"O17/$Q$4","v":0},{"$f":"IF(P17=0,0,(P17*((LOG(P17))/LOG(2))))","v":0},null,null,{"$f":"N17","v":2121},{"$f":"COUNTIF(L7:L7,T17)","v":0},{"$f":"U17/(W4-U20)","v":0},{"$f":"IF(V17=0,0,(V17*((LOG(V17))/LOG(2))))","v":0},null,{"$f":"N17","v":2121},{"$f":"COUNTIF(L7:L8,Y17)","v":0},{"$f":"Z17/(AB4-Z20)","v":0},{"$f":"IF(AA17=0,0,(AA17*((LOG(AA17))/LOG(2))))","v":0},null,{"$f":"N17","v":2121},{"$f":"COUNTIF(L8:L8,AD17)","v":0},{"$f":"AE17/(AG4-AE20)","v":0},{"$f":"IF(AF17=0,0,(AF17*((LOG(AF17))/LOG(2))))","v":0},null,{"$f":"N17","v":2121},{"$f":"COUNTIF(L8:L9,AI17)","v":0},{"$f":"AJ17/(AL4-AJ20)","v":0},{"$f":"IF(AK17=0,0,(AK17*((LOG(AK17))/LOG(2))))","v":0},null,{"$f":"N17","v":2121},{"$f":"COUNTIF(L9:L9,AN17)","v":0},{"$f":"AO17/(AQ4-AO20)","v":0},{"$f":"IF(AP17=0,0,(AP17*((LOG(AP17))/LOG(2))))","v":0},null,{"$f":"N17","v":2121},{"$f":"COUNTIF(L9:L10,AS17)","v":0},{"$f":"AT17/(AV4-AT20)","v":0},{"$f":"IF(AU17=0,0,(AU17*((LOG(AU17))/LOG(2))))","v":0}]
[null,null,null,null,null,null,null,null,null,null,null,null,null,2122,{"$f":"COUNTIF($L$7:$L$500,N18)","v":0},{"$f":"O18/$Q$4","v":0},{"$f":"IF(P18=0,0,(P18*((LOG(P18))/LOG(2))))","v":0},null,null,{"$f":"N18","v":2122},{"$f":"COUNTIF(L7:L7,T18)","v":0},{"$f":"U18/(W4-U20)","v":0},{"$f":"IF(V18=0,0,(V18*((LOG(V18))/LOG(2))))","v":0},null,{"$f":"N18","v":2122},{"$f":"COUNTIF(L7:L8,Y18)","v":0},{"$f":"Z18/(AB4-Z20)","v":0},{"$f":"IF(AA18=0,0,(AA18*((LOG(AA18))/LOG(2))))","v":0},null,{"$f":"N18","v":2122},{"$f":"COUNTIF(L8:L8,AD18)","v":0},{"$f":"AE18/(AG4-AE20)","v":0},{"$f":"IF(AF18=0,0,(AF18*((LOG(AF18))/LOG(2))))","v":0},null,{"$f":"N18","v":2122},{"$f":"COUNTIF(L8:L9,AI18)","v":0},{"$f":"AJ18/(AL4-AJ20)","v":0},{"$f":"IF(AK18=0,0,(AK18*((LOG(AK18))/LOG(2))))","v":0},null,{"$f":"N18","v":2122},{"$f":"COUNTIF(L9:L9,AN18)","v":0},{"$f":"AO18/(AQ4-AO20)","v":0},{"$f":"IF(AP18=0,0,(AP18*((LOG(AP18))/LOG(2))))","v":0},null,{"$f":"N18","v":2122},{"$f":"COUNTIF(L9:L10,AS18)","v":0},{"$f":"AT18/(AV4-AT20)","v":0},{"$f":"IF(AU18=0,0,(AU18*((LOG(AU18))/LOG(2))))","v":0}]
[null,null,null,null,null,null,null,null,null,null,null,null,null,2211,{"$f":"COUNTIF($L$7:$L$500,N19)","v":0},{"$f":"O19/$Q$4","v":0},{"$f":"IF(P19=0,0,(P19*((LOG(P19))/LOG(2))))","v":0},null,null,{"$f":"N19","v":2211},{"$f":"COUNTIF(L7:L7,T19)","v":0},{"$f":"U19/(W4-U20)","v":0},{"$f":"IF(V19=0,0,(V19*((LOG(V19))/LOG(2))))","v":0},null,{"$f":"N19","v":2211},{"$f":"COUNTIF(L7:L8,Y19)","v":0},{"$f":"Z19/(AB4-Z20)","v":0},{"$f":"IF(AA19=0,0,(AA19*((LOG(AA19))/LOG(2))))","v":0},null,{"$f":"N19","v":2211},{"$f":"COUNTIF(L8:L8,AD19)","v":0},{"$f":"AE19/(AG4-AE20)","v":0},{"$f":"IF(AF19=0,0,(AF19*((LOG(AF19))/LOG(2))))","v":0},null,{"$f":"N19","v":2211},{"$f":"COUNTIF(L8:L9,AI19)","v":0},{"$f":"AJ19/(AL4-AJ20)","v":0},{"$f":"IF(AK19=0,0,(AK19*((LOG(AK19))/LOG(2))))","v":0},null,{"$f":"N19","v":2211},{"$f":"COUNTIF(L9:L9,AN19)","v":0},{"$f":"AO19/(AQ4-AO20)","v":0},{"$f":"IF(AP19=0,0,(AP19*((LOG(AP19))/LOG(2))))","v":0},null,{"$f":"N19","v":2211},{"$f":"COUNTIF(L9:L10,AS19)","v":0},{"$f":"AT19/(AV4-AT20)","v":0},{"$f":"IF(AU19=0,0,(AU19*((LOG(AU19))/LOG(2))))","v":0}]
[null,null,null,null,null,null,null,null,null,null,null,null,null,2212,{"$f":"COUNTIF($L$7:$L$500,N20)","v":0},{"$f":"O20/$Q$4","v":0},{"$f":"IF(P20=0,0,(P20*((LOG(P20))/LOG(2))))","v":0},null,null,{"$f":"N20","v":2212},{"$f":"COUNTIF(L7:L7,T20)","v":0},null,null,null,{"$f":"N20","v":2212},{"$f":"COUNTIF(L7:L8,Y20)","v":0},null,null,null,{"$f":"N20","v":2212},{"$f":"COUNTIF(L8:L8,AD20)","v":0},null,null,null,{"$f":"N20","v":2212},{"$f":"COUNTIF(L8:L9,AI20)","v":0},null,null,null,{"$f":"N20","v":2212},{"$f":"COUNTIF(L9:L9,AN20)","v":0},null,null,null,{"$f":"N20","v":2212},{"$f":"COUNTIF(L9:L10,AS20)","v":0}]
[null,null,null,null,null,null,null,null,null,null,null,null,null,2221,{"$f":"COUNTIF($L$7:$L$500,N21)","v":0},{"$f":"O21/$Q$4","v":0},{"$f":"IF(P21=0,0,(P21*((LOG(P21))/LOG(2))))","v":0},null,null,{"$f":"N21","v":2221},{"$f":"COUNTIF(L7:L7,T21)","v":0},{"$f":"U21/(W4-U20)","v":0},{"$f":"IF(V21=0,0,(V21*((LOG(V21))/LOG(2))))","v":0},null,{"$f":"N21","v":2221},{"$f":"COUNTIF(L7:L8,Y21)","v":0},{"$f":"Z21/(AB4-Z20)","v":0},{"$f":"IF(AA21=0,0,(AA21*((LOG(AA21))/LOG(2))))","v":0},null,{"$f":"N21","v":2221},{"$f":"COUNTIF(L8:L8,AD21)","v":0},{"$f":"AE21/(AG4-AE20)","v":0},{"$f":"IF(AF21=0,0,(AF21*((LOG(AF21))/LOG(2))))","v":0},null,{"$f":"N21","v":2221},{"$f":"COUNTIF(L8:L9,AI21)","v":0},{"$f":"AJ21/(AL4-AJ20)","v":0},{"$f":"IF(AK21=0,0,(AK21*((LOG(AK21))/LOG(2))))","v":0},null,{"$f":"N21","v":2221},{"$f":"COUNTIF(L9:L9,AN21)","v":0},{"$f":"AO21/(AQ4-AO20)","v":0},{"$f":"IF(AP21=0,0,(AP21*((LOG(AP21))/LOG(2))))","v":0},null,{"$f":"N21","v":2221},{"$f":"COUNTIF(L9:L10,AS21)","v":0},{"$f":"AT21/(AV4-AT20)","v":0},{"$f":"IF(AU21=0,0,(AU21*((LOG(AU21))/LOG(2))))","v":0}]
[null,null,null,null,null,null,null,null,null,null,null,null,null,2222,{"$f":"COUNTIF($L$7:$L$500,N22)","v":0},{"$f":"O22/$Q$4","v":0},{"$f":"IF(P22=0,0,(P22*((LOG(P22))/LOG(2))))","v":0},null,null,{"$f":"N22","v":2222},{"$f":"COUNTIF(L7:L7,T22)","v":0},{"$f":"U22/(W4-U20)","v":0},{"$f":"IF(V22=0,0,(V22*((LOG(V22))/LOG(2))))","v":0},null,{"$f":"N22","v":2222},{"$f":"COUNTIF(L7:L8,Y22)","v":0},{"$f":"Z22/(AB4-Z20)","v":0},{"$f":"IF(AA22=0,0,(AA22*((LOG(AA22))/LOG(2))))","v":0},null,{"$f":"N22","v":2222},{"$f":"COUNTIF(L8:L8,AD22)","v":0},{"$f":"AE22/(AG4-AE20)","v":0},{"$f":"IF(AF22=0,0,(AF22*((LOG(AF22))/LOG(2))))","v":0},null,{"$f":"N22","v":2222},{"$f":"COUNTIF(L8:L9,AI22)","v":0},{"$f":"AJ22/(AL4-AJ20)","v":0},{"$f":"IF(AK22=0,0,(AK22*((LOG(AK22))/LOG(2))))","v":0},null,{"$f":"N22","v":2222},{"$f":"COUNTIF(L9:L9,AN22)","v":0},{"$f":"AO22/(AQ4-AO20)","v":0},{"$f":"IF(AP22=0,0,(AP22*((LOG(AP22))/LOG(2))))","v":0},null,{"$f":"N22","v":2222},{"$f":"COUNTIF(L9:L10,AS22)","v":0},{"$f":"AT22/(AV4-AT20)","v":0},{"$f":"IF(AU22=0,0,(AU22*((LOG(AU22))/LOG(2))))","v":0}]
[null,null,null,null,null,null,null,null,null,null,null,null,null,null,null,{"$f":"SUM(P7:P22)","v":1},{"$f":"-SUM(Q7:Q22)","v":0},null,null,null,null,{"$f":"SUM(V7:V22)","v":1},{"$f":"-SUM(W7:W22)","v":0},null,null,null,{"$f":"SUM(AA7:AA22)","v":1},{"$f":"-SUM(AB7:AB22)","v":0},null,null,null,{"$f":"SUM(AF7:AF22)","v":1},{"$f":"-SUM(AG7:AG22)","v":0},null,null,null,{"$f":"SUM(AK7:AK22)","v":1},{"$f":"-SUM(AL7:AL22)","v":0},null,null,null,{"$f":"SUM(AP7:AP22)","v":1},{"$f":"-SUM(AQ7:AQ22)","v":0},null,null,null,{"$f":"SUM(AU7:AU22)","v":1},{"$f":"-SUM(AV7:AV22)","v":0}]
[null,null,null,null,null,null,null,null,null,null,null,null,null,null,null,"U=",{"$f":"Q23/(LOG(Q4)/LOG(2))","v":0},null,null,null,null,"U1=",{"$f":"W23/(LOG(W4)/LOG(2))","v":{"$error":"#DIV/0!"}},null,null,null,"U2=",{"$f":"AB23/(LOG(AB4)/LOG(2))","v":0},null,null,null,"U3=",{"$f":"AG23/(LOG(AG4)/LOG(2))","v":{"$error":"#DIV/0!"}},null,null,null,"U4=",{"$f":"AL23/(LOG(AL4)/LOG(2))","v":0},null,null,null,"U5=",{"$f":"AQ23/(LOG(AQ4)/LOG(2))","v":{"$error":"#DIV/0!"}},null,null,null,"U6=",{"$f":"AV23/(LOG(AV4)/LOG(2))","v":{"$error":"#DIV/0!"}}]
[]
[]
[null,null,null,null,null,null,null,null,null,null,null,null,null,"Total Target Seq"]
[null,null,null,null,null,null,null,null,null,null,null,null,null,{"$f":"COUNTIF(L7:L9,G3)","v":0},null,1,0,1,0,1,0]
[null,null,null,null,null,null,null,null,null,null,null,null,null,null,null,"% of reinforcement given in 6 equal intervals based on number of trials "]
[null,null,null,null,null,null,null,null,null,null,null,null,null,null,null,"%_1","%_2","%_3","%_4","%_5","%_6"]
[null,null,null,null,null,null,null,null,null,null,null,null,null,null,"target sequence",{"$f":"$G$3","v":2212},{"$f":"$G$3","v":2212},{"$f":"$G$3","v":2212},{"$f":"$G$3","v":2212},{"$f":"$G$3","v":2212},{"$f":"$G$3","v":2212}]
[null,null,null,null,null,null,null,null,null,null,null,null,null,null,"total reinforcement",{"$f":"U20","v":0},{"$f":"Z20","v":0},{"$f":"AE20","v":0},{"$f":"AJ20","v":0},{"$f":"AO20","v":0},{"$f":"AT20","v":0}]
[null,null,null,null,null,null,null,null,null,null,null,null,null,null,"% target"]
[null,null,null,null,null,null,null,null,null,null,null,null,null,null,"CCRF"]
[null,null,null,null,null,null,null,null,null,null,null,null,null,null,"% CCRf"]
[null,null,null,null,null,null,null,null,null,null,null,null,null,null,"average response rate",{"$f":"H7/P28","v":242},{"$f":"(H7-H7)/Q28","v":{"$error":"#DIV/0!"}},{"$f":"(H8-H7)/R28","v":345},{"$f":"(H8-H8)/S28","v":{"$error":"#DIV/0!"}},{"$f":"(H9-H8)/T28","v":237},{"$f":"(H9-H9)/U28","v":{"$error":"#DIV/0!"}}]

{"sheet":"!M916A10.102","index":20,"n_rows":36,"n_cols":48,"rows_kept":36,"cut":false,"hidden":false,"merged":[[4,39,4,42],[5,39,5,40],[4,44,4,47],[5,44,5,45],[4,24,4,27],[5,24,5,25],[4,29,4,32],[5,29,5,30],[4,34,4,37],[5,34,5,35],[1,1,1,2],[5,13,5,14],[26,13,26,14],[27,13,27,14],[4,19,4,22],[5,19,5,20]]}
["Report for:!M916A10.102"]
["Date:","<date>"]
["Hen:","<hen>",null,null,null,"Correct Sequence",{"$f":"Start!J2","v":2212},null,null,null,null,null,null,null,null,"Total Sequences in Data",{"$f":"4994-COUNTBLANK(L7:L5000)","v":3},null,null,null,null,"Total Sequences in Block Data",{"$f":"COUNTA(L7:L7)","v":1},null,null,null,"Total Sequences in Block Data",{"$f":"COUNTA(L7:L8)","v":2},null,null,null,"Total Sequences in Block Data",{"$f":"COUNTA(L8:L8)","v":1},null,null,null,"Total Sequences in Block Data",{"$f":"COUNTA(L8:L9)","v":2},null,null,null,"Total Sequences in Block Data",{"$f":"COUNTA(L9:L9)","v":1},null,null,null,"Total Sequences in Block Data",{"$f":"COUNTA(L9:L10)","v":1}]
[null,null,null,null,null,null,null,null,null,null,null,null,null,null,null,"Total Sequences in Summary",{"$f":"SUM(O7:O22)","v":3},null,null,null,null,"Total Sequences in Block Summary",{"$f":"SUM(U7:U22)","v":1},null,null,null,"Total Sequences in Block Summary",{"$f":"SUM(Z7:Z22)","v":2},null,null,null,"Total Sequences in Block Summary",{"$f":"SUM(AE7:AE22)","v":1},null,null,null,"Total Sequences in Block Summary",{"$f":"SUM(AJ7:AJ22)","v":2},null,null,null,"Total Sequences in Block Summary",{"$f":"SUM(AO7:AO22)","v":1},null,null,null,"Total Sequences in Block Summary",{"$f":"SUM(AT7:AT22)","v":1}]
[null,null,null,null,null,null,null,null,null,null,null,null,null,null,null,null,null,null,null,"Block 1",null,null,null,null,"Block 2",null,null,null,null,"Block 3",null,null,null,null,"Block 4",null,null,null,null,"Block 5",null,null,null,null,"Block 6"]
["Sequence\nComponent\n1","Time\n1","Sequence\nComponent\n2","Time\n2","Sequence\nComponent\n3","Time\n3","Sequence\nComponent\n4","Time\n4","Sequence\nComponent\n5","Time\n5","Correct?\n0=No 1=Yes","Sequence",null,"Frequency",null,"Relative Frequency","Variability",null,null,"Frequency",null,"Relative Frequency","Variability",null,"Frequency",null,"Relative Frequency","Variability",null,"Frequency",null,"Relative Frequency","Variability",null,"Frequency",null,"Relative Frequency","Variability",null,"Frequency",null,"Relative Frequency","Variability",null,"Frequency",null,"Relative Frequency","Variability"]
[21,218,21,260,22,275,23,285,null,null,0,2222,null,1111,{"$f":"COUNTIF($L$7:$L$500,N7)","v":2},{"$f":"O7/$Q$4","v":0.66666666666666663},{"$f":"IF(P7=0,0,(P7*((LOG(P7))/LOG(2))))","v":-0.38997500048077083},null,null,{"$f":"N7","v":1111},{"$f":"COUNTIF(L7:L7,T7)","v":0},{"$f":"U7/(W4-U20)","v":0},{"$f":"IF(V7=0,0,(V7*((LOG(V7))/LOG(2))))","v":0},null,{"$f":"N7","v":1111},{"$f":"COUNTIF(L7:L8,Y7)","v":1},{"$f":"Z7/(AB4-Z20)","v":0.5},{"$f":"IF(AA7=0,0,(AA7*((LOG(AA7))/LOG(2))))","v":-0.5},null,{"$f":"N7","v":1111},{"$f":"COUNTIF(L8:L8,AD7)","v":1},{"$f":"AE7/(AG4-AE20)","v":1},{"$f":"IF(AF7=0,0,(AF7*((LOG(AF7))/LOG(2))))","v":0},null,{"$f":"N7","v":1111},{"$f":"COUNTIF(L8:L9,AI7)","v":2},{"$f":"AJ7/(AL4-AJ20)","v":1},{"$f":"IF(AK7=0,0,(AK7*((LOG(AK7))/LOG(2))))","v":0},null,{"$f":"N7","v":1111},{"$f":"COUNTIF(L9:L9,AN7)","v":1},{"$f":"AO7/(AQ4-AO20)","v":1},{"$f":"IF(AP7=0,0,(AP7*((LOG(AP7))/LOG(2))))","v":0},null,{"$f":"N7","v":1111},{"$f":"COUNTIF(L9:L10,AS7)","v":1},{"$f":"AT7/(AV4-AT20)","v":1},{"$f":"IF(AU7=0,0,(AU7*((LOG(AU7))/LOG(2))))","v":0}]
[12,410,14,415,13,437,14,448,null,null,0,1111,null,1112,{"$f":"COUNTIF($L$7:$L$500,N8)","v":0},{"$f":"O8/$Q$4","v":0},{"$f":"IF(P8=0,0,(P8*((LOG(P8))/LOG(2))))","v":0},null,null,{"$f":"N8","v":1112},{"$f":"COUNTIF(L7:L7,T8)","v":0},{"$f":"U8/(W4-U20)","v":0},{"$f":"IF(V8=0,0,(V8*((LOG(V8))/LOG(2))))","v":0},null,{"$f":"N8","v":1112},{"$f":"COUNTIF(L7:L8,Y8)","v":0},{"$f":"Z8/(AB4-Z20)","v":0},{"$f":"IF(AA8=0,0,(AA8*((LOG(AA8))/LOG(2))))","v":0},null,{"$f":"N8","v":1112},{"$f":"COUNTIF(L8:L8,AD8)","v":0},{"$f":"AE8/(AG4-AE20)","v":0},{"$f":"IF(AF8=0,0,(AF8*((LOG(AF8))/LOG(2))))","v":0},null,{"$f":"N8","v":1112},{"$f":"COUNTIF(L8:L9,AI8)","v":0},{"$f":"AJ8/(AL4-AJ20)","v":0},{"$f":"IF(AK8=0,0,(AK8*((LOG(AK8))/LOG(2))))","v":0},null,{"$f":"N8","v":1112},{"$f":"COUNTIF(L9:L9,AN8)","v":0},{"$f":"AO8/(AQ4-AO20)","v":0},{"$f":"IF(AP8=0,0,(AP8*((LOG(AP8))/LOG(2))))","v":0},null,{"$f":"N8","v":1112},{"$f":"COUNTIF(L9:L10,AS8)","v":0},{"$f":"AT8/(AV4-AT20)","v":0},{"$f":"IF(AU8=0,0,(AU8*((LOG(AU8))/LOG(2))))","v":0}]
[12,836,14,841,13,852,14,858,null,null,0,1111,null,1121,{"$f":"COUNTIF($L$7:$L$500,N9)","v":0},{"$f":"O9/$Q$4","v":0},{"$f":"IF(P9=0,0,(P9*((LOG(P9))/LOG(2))))","v":0},null,null,{"$f":"N9","v":1121},{"$f":"COUNTIF(L7:L7,T9)","v":0},{"$f":"U9/(W4-U20)","v":0},{"$f":"IF(V9=0,0,(V9*((LOG(V9))/LOG(2))))","v":0},null,{"$f":"N9","v":1121},{"$f":"COUNTIF(L7:L8,Y9)","v":0},{"$f":"Z9/(AB4-Z20)","v":0},{"$f":"IF(AA9=0,0,(AA9*((LOG(AA9))/LOG(2))))","v":0},null,{"$f":"N9","v":1121},{"$f":"COUNTIF(L8:L8,AD9)","v":0},{"$f":"AE9/(AG4-AE20)","v":0},{"$f":"IF(AF9=0,0,(AF9*((LOG(AF9))/LOG(2))))","v":0},null,{"$f":"N9","v":1121},{"$f":"COUNTIF(L8:L9,AI9)","v":0},{"$f":"AJ9/(AL4-AJ20)","v":0},{"$f":"IF(AK9=0,0,(AK9*((LOG(AK9))/LOG(2))))","v":0},null,{"$f":"N9","v":1121},{"$f":"COUNTIF(L9:L9,AN9)","v":0},{"$f":"AO9/(AQ4-AO20)","v":0},{"$f":"IF(AP9=0,0,(AP9*((LOG(AP9))/LOG(2))))","v":0},null,{"$f":"N9","v":1121},{"$f":"COUNTIF(L9:L10,AS9)","v":0},{"$f":"AT9/(AV4-AT20)","v":0},{"$f":"IF(AU9=0,0,(AU9*((LOG(AU9))/LOG(2))))","v":0}]
[null,null,null,null,null,null,null,null,null,null,null,null,null,1122,{"$f":"COUNTIF($L$7:$L$500,N10)","v":0},{"$f":"O10/$Q$4","v":0},{"$f":"IF(P10=0,0,(P10*((LOG(P10))/LOG(2))))","v":0},null,null,{"$f":"N10","v":1122},{"$f":"COUNTIF(L7:L7,T10)","v":0},{"$f":"U10/(W4-U20)","v":0},{"$f":"IF(V10=0,0,(V10*((LOG(V10))/LOG(2))))","v":0},null,{"$f":"N10","v":1122},{"$f":"COUNTIF(L7:L8,Y10)","v":0},{"$f":"Z10/(AB4-Z20)","v":0},{"$f":"IF(AA10=0,0,(AA10*((LOG(AA10))/LOG(2))))","v":0},null,{"$f":"N10","v":1122},{"$f":"COUNTIF(L8:L8,AD10)","v":0},{"$f":"AE10/(AG4-AE20)","v":0},{"$f":"IF(AF10=0,0,(AF10*((LOG(AF10))/LOG(2))))","v":0},null,{"$f":"N10","v":1122},{"$f":"COUNTIF(L8:L9,AI10)","v":0},{"$f":"AJ10/(AL4-AJ20)","v":0},{"$f":"IF(AK10=0,0,(AK10*((LOG(AK10))/LOG(2))))","v":0},null,{"$f":"N10","v":1122},{"$f":"COUNTIF(L9:L9,AN10)","v":0},{"$f":"AO10/(AQ4-AO20)","v":0},{"$f":"IF(AP10=0,0,(AP10*((LOG(AP10))/LOG(2))))","v":0},null,{"$f":"N10","v":1122},{"$f":"COUNTIF(L9:L10,AS10)","v":0},{"$f":"AT10/(AV4-AT20)","v":0},{"$f":"IF(AU10=0,0,(AU10*((LOG(AU10))/LOG(2))))","v":0}]
[null,null,null,null,null,null,null,null,null,null,null,null,null,1211,{"$f":"COUNTIF($L$7:$L$500,N11)","v":0},{"$f":"O11/$Q$4","v":0},{"$f":"IF(P11=0,0,(P11*((LOG(P11))/LOG(2))))","v":0},null,null,{"$f":"N11","v":1211},{"$f":"COUNTIF(L7:L7,T11)","v":0},{"$f":"U11/(W4-U20)","v":0},{"$f":"IF(V11=0,0,(V11*((LOG(V11))/LOG(2))))","v":0},null,{"$f":"N11","v":1211},{"$f":"COUNTIF(L7:L8,Y11)","v":0},{"$f":"Z11/(AB4-Z20)","v":0},{"$f":"IF(AA11=0,0,(AA11*((LOG(AA11))/LOG(2))))","v":0},null,{"$f":"N11","v":1211},{"$f":"COUNTIF(L8:L8,AD11)","v":0},{"$f":"AE11/(AG4-AE20)","v":0},{"$f":"IF(AF11=0,0,(AF11*((LOG(AF11))/LOG(2))))","v":0},null,{"$f":"N11","v":1211},{"$f":"COUNTIF(L8:L9,AI11)","v":0},{"$f":"AJ11/(AL4-AJ20)","v":0},{"$f":"IF(AK11=0,0,(AK11*((LOG(AK11))/LOG(2))))","v":0},null,{"$f":"N11","v":1211},{"$f":"COUNTIF(L9:L9,AN11)","v":0},{"$f":"AO11/(AQ4-AO20)","v":0},{"$f":"IF(AP11=0,0,(AP11*((LOG(AP11))/LOG(2))))","v":0},null,{"$f":"N11","v":1211},{"$f":"COUNTIF(L9:L10,AS11)","v":0},{"$f":"AT11/(AV4-AT20)","v":0},{"$f":"IF(AU11=0,0,(AU11*((LOG(AU11))/LOG(2))))","v":0}]
[null,null,null,null,null,null,null,null,null,null,null,null,null,1212,{"$f":"COUNTIF($L$7:$L$500,N12)","v":0},{"$f":"O12/$Q$4","v":0},{"$f":"IF(P12=0,0,(P12*((LOG(P12))/LOG(2))))","v":0},null,null,{"$f":"N12","v":1212},{"$f":"COUNTIF(L7:L7,T12)","v":0},{"$f":"U12/(W4-U20)","v":0},{"$f":"IF(V12=0,0,(V12*((LOG(V12))/LOG(2))))","v":0},null,{"$f":"N12","v":1212},{"$f":"COUNTIF(L7:L8,Y12)","v":0},{"$f":"Z12/(AB4-Z20)","v":0},{"$f":"IF(AA12=0,0,(AA12*((LOG(AA12))/LOG(2))))","v":0},null,{"$f":"N12","v":1212},{"$f":"COUNTIF(L8:L8,AD12)","v":0},{"$f":"AE12/(AG4-AE20)","v":0},{"$f":"IF(AF12=0,0,(AF12*((LOG(AF12))/LOG(2))))","v":0},null,{"$f":"N12","v":1212},{"$f":"COUNTIF(L8:L9,AI12)","v":0},{"$f":"AJ12/(AL4-AJ20)","v":0},{"$f":"IF(AK12=0,0,(AK12*((LOG(AK12))/LOG(2))))","v":0},null,{"$f":"N12","v":1212},{"$f":"COUNTIF(L9:L9,AN12)","v":0},{"$f":"AO12/(AQ4-AO20)","v":0},{"$f":"IF(AP12=0,0,(AP12*((LOG(AP12))/LOG(2))))","v":0},null,{"$f":"N12","v":1212},{"$f":"COUNTIF(L9:L10,AS12)","v":0},{"$f":"AT12/(AV4-AT20)","v":0},{"$f":"IF(AU12=0,0,(AU12*((LOG(AU12))/LOG(2))))","v":0}]
[null,null,null,null,null,null,null,null,null,null,null,null,null,1221,{"$f":"COUNTIF($L$7:$L$500,N13)","v":0},{"$f":"O13/$Q$4","v":0},{"$f":"IF(P13=0,0,(P13*((LOG(P13))/LOG(2))))","v":0},null,null,{"$f":"N13","v":1221},{"$f":"COUNTIF(L7:L7,T13)","v":0},{"$f":"U13/(W4-U20)","v":0},{"$f":"IF(V13=0,0,(V13*((LOG(V13))/LOG(2))))","v":0},null,{"$f":"N13","v":1221},{"$f":"COUNTIF(L7:L8,Y13)","v":0},{"$f":"Z13/(AB4-Z20)","v":0},{"$f":"IF(AA13=0,0,(AA13*((LOG(AA13))/LOG(2))))","v":0},null,{"$f":"N13","v":1221},{"$f":"COUNTIF(L8:L8,AD13)","v":0},{"$f":"AE13/(AG4-AE20)","v":0},{"$f":"IF(AF13=0,0,(AF13*((LOG(AF13))/LOG(2))))","v":0},null,{"$f":"N13","v":1221},{"$f":"COUNTIF(L8:L9,AI13)","v":0},{"$f":"AJ13/(AL4-AJ20)","v":0},{"$f":"IF(AK13=0,0,(AK13*((LOG(AK13))/LOG(2))))","v":0},null,{"$f":"N13","v":1221},{"$f":"COUNTIF(L9:L9,AN13)","v":0},{"$f":"AO13/(AQ4-AO20)","v":0},{"$f":"IF(AP13=0,0,(AP13*((LOG(AP13))/LOG(2))))","v":0},null,{"$f":"N13","v":1221},{"$f":"COUNTIF(L9:L10,AS13)","v":0},{"$f":"AT13/(AV4-AT20)","v":0},{"$f":"IF(AU13=0,0,(AU13*((LOG(AU13))/LOG(2))))","v":0}]
[null,null,null,null,null,null,null,null,null,null,null,null,null,1222,{"$f":"COUNTIF($L$7:$L$500,N14)","v":0},{"$f":"O14/$Q$4","v":0},{"$f":"IF(P14=0,0,(P14*((LOG(P14))/LOG(2))))","v":0},null,null,{"$f":"N14","v":1222},{"$f":"COUNTIF(L7:L7,T14)","v":0},{"$f":"U14/(W4-U20)","v":0},{"$f":"IF(V14=0,0,(V14*((LOG(V14))/LOG(2))))","v":0},null,{"$f":"N14","v":1222},{"$f":"COUNTIF(L7:L8,Y14)","v":0},{"$f":"Z14/(AB4-Z20)","v":0},{"$f":"IF(AA14=0,0,(AA14*((LOG(AA14))/LOG(2))))","v":0},null,{"$f":"N14","v":1222},{"$f":"COUNTIF(L8:L8,AD14)","v":0},{"$f":"AE14/(AG4-AE20)","v":0},{"$f":"IF(AF14=0,0,(AF14*((LOG(AF14))/LOG(2))))","v":0},null,{"$f":"N14","v":1222},{"$f":"COUNTIF(L8:L9,AI14)","v":0},{"$f":"AJ14/(AL4-AJ20)","v":0},{"$f":"IF(AK14=0,0,(AK14*((LOG(AK14))/LOG(2))))","v":0},null,{"$f":"N14","v":1222},{"$f":"COUNTIF(L9:L9,AN14)","v":0},{"$f":"AO14/(AQ4-AO20)","v":0},{"$f":"IF(AP14=0,0,(AP14*((LOG(AP14))/LOG(2))))","v":0},null,{"$f":"N14","v":1222},{"$f":"COUNTIF(L9:L10,AS14)","v":0},{"$f":"AT14/(AV4-AT20)","v":0},{"$f":"IF(AU14=0,0,(AU14*((LOG(AU14))/LOG(2))))","v":0}]
[null,null,null,null,null,null,null,null,null,null,null,null,null,2111,{"$f":"COUNTIF($L$7:$L$500,N15)","v":0},{"$f":"O15/$Q$4","v":0},{"$f":"IF(P15=0,0,(P15*((LOG(P15))/LOG(2))))","v":0},null,null,{"$f":"N15","v":2111},{"$f":"COUNTIF(L7:L7,T15)","v":0},{"$f":"U15/(W4-U20)","v":0},{"$f":"IF(V15=0,0,(V15*((LOG(V15))/LOG(2))))","v":0},null,{"$f":"N15","v":2111},{"$f":"COUNTIF(L7:L8,Y15)","v":0},{"$f":"Z15/(AB4-Z20)","v":0},{"$f":"IF(AA15=0,0,(AA15*((LOG(AA15))/LOG(2))))","v":0},null,{"$f":"N15","v":2111},{"$f":"COUNTIF(L8:L8,AD15)","v":0},{"$f":"AE15/(AG4-AE20)","v":0},{"$f":"IF(AF15=0,0,(AF15*((LOG(AF15))/LOG(2))))","v":0},null,{"$f":"N15","v":2111},{"$f":"COUNTIF(L8:L9,AI15)","v":0},{"$f":"AJ15/(AL4-AJ20)","v":0},{"$f":"IF(AK15=0,0,(AK15*((LOG(AK15))/LOG(2))))","v":0},null,{"$f":"N15","v":2111},{"$f":"COUNTIF(L9:L9,AN15)","v":0},{"$f":"AO15/(AQ4-AO20)","v":0},{"$f":"IF(AP15=0,0,(AP15*((LOG(AP15))/LOG(2))))","v":0},null,{"$f":"N15","v":2111},{"$f":"COUNTIF(L9:L10,AS15)","v":0},{"$f":"AT15/(AV4-AT20)","v":0},{"$f":"IF(AU15=0,0,(AU15*((LOG(AU15))/LOG(2))))","v":0}]
[null,null,null,null,null,null,null,null,null,null,null,null,null,2112,{"$f":"COUNTIF($L$7:$L$500,N16)","v":0},{"$f":"O16/$Q$4","v":0},{"$f":"IF(P16=0,0,(P16*((LOG(P16))/LOG(2))))","v":0},null,null,{"$f":"N16","v":2112},{"$f":"COUNTIF(L7:L7,T16)","v":0},{"$f":"U16/(W4-U20)","v":0},{"$f":"IF(V16=0,0,(V16*((LOG(V16))/LOG(2))))","v":0},null,{"$f":"N16","v":2112},{"$f":"COUNTIF(L7:L8,Y16)","v":0},{"$f":"Z16/(AB4-Z20)","v":0},{"$f":"IF(AA16=0,0,(AA16*((LOG(AA16))/LOG(2))))","v":0},null,{"$f":"N16","v":2112},{"$f":"COUNTIF(L8:L8,AD16)","v":0},{"$f":"AE16/(AG4-AE20)","v":0},{"$f":"IF(AF16=0,0,(AF16*((LOG(AF16))/LOG(2))))","v":0},null,{"$f":"N16","v":2112},{"$f":"COUNTIF(L8:L9,AI16)","v":0},{"$f":"AJ16/(AL4-AJ20)","v":0},{"$f":"IF(AK16=0,0,(AK16*((LOG(AK16))/LOG(2))))","v":0},null,{"$f":"N16","v":2112},{"$f":"COUNTIF(L9:L9,AN16)","v":0},{"$f":"AO16/(AQ4-AO20)","v":0},{"$f":"IF(AP16=0,0,(AP16*((LOG(AP16))/LOG(2))))","v":0},null,{"$f":"N16","v":2112},{"$f":"COUNTIF(L9:L10,AS16)","v":0},{"$f":"AT16/(AV4-AT20)","v":0},{"$f":"IF(AU16=0,0,(AU16*((LOG(AU16))/LOG(2))))","v":0}]
[null,null,null,null,null,null,null,null,null,null,null,null,null,2121,{"$f":"COUNTIF($L$7:$L$500,N17)","v":0},{"$f":"O17/$Q$4","v":0},{"$f":"IF(P17=0,0,(P17*((LOG(P17))/LOG(2))))","v":0},null,null,{"$f":"N17","v":2121},{"$f":"COUNTIF(L7:L7,T17)","v":0},{"$f":"U17/(W4-U20)","v":0},{"$f":"IF(V17=0,0,(V17*((LOG(V17))/LOG(2))))","v":0},null,{"$f":"N17","v":2121},{"$f":"COUNTIF(L7:L8,Y17)","v":0},{"$f":"Z17/(AB4-Z20)","v":0},{"$f":"IF(AA17=0,0,(AA17*((LOG(AA17))/LOG(2))))","v":0},null,{"$f":"N17","v":2121},{"$f":"COUNTIF(L8:L8,AD17)","v":0},{"$f":"AE17/(AG4-AE20)","v":0},{"$f":"IF(AF17=0,0,(AF17*((LOG(AF17))/LOG(2))))","v":0},null,{"$f":"N17","v":2121},{"$f":"COUNTIF(L8:L9,AI17)","v":0},{"$f":"AJ17/(AL4-AJ20)","v":0},{"$f":"IF(AK17=0,0,(AK17*((LOG(AK17))/LOG(2))))","v":0},null,{"$f":"N17","v":2121},{"$f":"COUNTIF(L9:L9,AN17)","v":0},{"$f":"AO17/(AQ4-AO20)","v":0},{"$f":"IF(AP17=0,0,(AP17*((LOG(AP17))/LOG(2))))","v":0},null,{"$f":"N17","v":2121},{"$f":"COUNTIF(L9:L10,AS17)","v":0},{"$f":"AT17/(AV4-AT20)","v":0},{"$f":"IF(AU17=0,0,(AU17*((LOG(AU17))/LOG(2))))","v":0}]
[null,null,null,null,null,null,null,null,null,null,null,null,null,2122,{"$f":"COUNTIF($L$7:$L$500,N18)","v":0},{"$f":"O18/$Q$4","v":0},{"$f":"IF(P18=0,0,(P18*((LOG(P18))/LOG(2))))","v":0},null,null,{"$f":"N18","v":2122},{"$f":"COUNTIF(L7:L7,T18)","v":0},{"$f":"U18/(W4-U20)","v":0},{"$f":"IF(V18=0,0,(V18*((LOG(V18))/LOG(2))))","v":0},null,{"$f":"N18","v":2122},{"$f":"COUNTIF(L7:L8,Y18)","v":0},{"$f":"Z18/(AB4-Z20)","v":0},{"$f":"IF(AA18=0,0,(AA18*((LOG(AA18))/LOG(2))))","v":0},null,{"$f":"N18","v":2122},{"$f":"COUNTIF(L8:L8,AD18)","v":0},{"$f":"AE18/(AG4-AE20)","v":0},{"$f":"IF(AF18=0,0,(AF18*((LOG(AF18))/LOG(2))))","v":0},null,{"$f":"N18","v":2122},{"$f":"COUNTIF(L8:L9,AI18)","v":0},{"$f":"AJ18/(AL4-AJ20)","v":0},{"$f":"IF(AK18=0,0,(AK18*((LOG(AK18))/LOG(2))))","v":0},null,{"$f":"N18","v":2122},{"$f":"COUNTIF(L9:L9,AN18)","v":0},{"$f":"AO18/(AQ4-AO20)","v":0},{"$f":"IF(AP18=0,0,(AP18*((LOG(AP18))/LOG(2))))","v":0},null,{"$f":"N18","v":2122},{"$f":"COUNTIF(L9:L10,AS18)","v":0},{"$f":"AT18/(AV4-AT20)","v":0},{"$f":"IF(AU18=0,0,(AU18*((LOG(AU18))/LOG(2))))","v":0}]
[null,null,null,null,null,null,null,null,null,null,null,null,null,2211,{"$f":"COUNTIF($L$7:$L$500,N19)","v":0},{"$f":"O19/$Q$4","v":0},{"$f":"IF(P19=0,0,(P19*((LOG(P19))/LOG(2))))","v":0},null,null,{"$f":"N19","v":2211},{"$f":"COUNTIF(L7:L7,T19)","v":0},{"$f":"U19/(W4-U20)","v":0},{"$f":"IF(V19=0,0,(V19*((LOG(V19))/LOG(2))))","v":0},null,{"$f":"N19","v":2211},{"$f":"COUNTIF(L7:L8,Y19)","v":0},{"$f":"Z19/(AB4-Z20)","v":0},{"$f":"IF(AA19=0,0,(AA19*((LOG(AA19))/LOG(2))))","v":0},null,{"$f":"N19","v":2211},{"$f":"COUNTIF(L8:L8,AD19)","v":0},{"$f":"AE19/(AG4-AE20)","v":0},{"$f":"IF(AF19=0,0,(AF19*((LOG(AF19))/LOG(2))))","v":0},null,{"$f":"N19","v":2211},{"$f":"COUNTIF(L8:L9,AI19)","v":0},{"$f":"AJ19/(AL4-AJ20)","v":0},{"$f":"IF(AK19=0,0,(AK19*((LOG(AK19))/LOG(2))))","v":0},null,{"$f":"N19","v":2211},{"$f":"COUNTIF(L9:L9,AN19)","v":0},{"$f":"AO19/(AQ4-AO20)","v":0},{"$f":"IF(AP19=0,0,(AP19*((LOG(AP19))/LOG(2))))","v":0},null,{"$f":"N19","v":2211},{"$f":"COUNTIF(L9:L10,AS19)","v":0},{"$f":"AT19/(AV4-AT20)","v":0},{"$f":"IF(AU19=0,0,(AU19*((LOG(AU19))/LOG(2))))","v":0}]
[null,null,null,null,null,null,null,null,null,null,null,null,null,2212,{"$f":"COUNTIF($L$7:$L$500,N20)","v":0},{"$f":"O20/$Q$4","v":0},{"$f":"IF(P20=0,0,(P20*((LOG(P20))/LOG(2))))","v":0},null,null,{"$f":"N20","v":2212},{"$f":"COUNTIF(L7:L7,T20)","v":0},null,null,null,{"$f":"N20","v":2212},{"$f":"COUNTIF(L7:L8,Y20)","v":0},null,null,null,{"$f":"N20","v":2212},{"$f":"COUNTIF(L8:L8,AD20)","v":0},null,null,null,{"$f":"N20","v":2212},{"$f":"COUNTIF(L8:L9,AI20)","v":0},null,null,null,{"$f":"N20","v":2212},{"$f":"COUNTIF(L9:L9,AN20)","v":0},null,null,null,{"$f":"N20","v":2212},{"$f":"COUNTIF(L9:L10,AS20)","v":0}]
[null,null,null,null,null,null,null,null,null,null,null,null,null,2221,{"$f":"COUNTIF($L$7:$L$500,N21)","v":0},{"$f":"O21/$Q$4","v":0},{"$f":"IF(P21=0,0,(P21*((LOG(P21))/LOG(2))))","v":0},null,null,{"$f":"N21","v":2221},{"$f":"COUNTIF(L7:L7,T21)","v":0},{"$f":"U21/(W4-U20)","v":0},{"$f":"IF(V21=0,0,(V21*((LOG(V21))/LOG(2))))","v":0},null,{"$f":"N21","v":2221},{"$f":"COUNTIF(L7:L8,Y21)","v":0},{"$f":"Z21/(AB4-Z20)","v":0},{"$f":"IF(AA21=0,0,(AA21*((LOG(AA21))/LOG(2))))","v":0},null,{"$f":"N21","v":2221},{"$f":"COUNTIF(L8:L8,AD21)","v":0},{"$f":"AE21/(AG4-AE20)","v":0},{"$f":"IF(AF21=0,0,(AF21*((LOG(AF21))/LOG(2))))","v":0},null,{"$f":"N21","v":2221},{"$f":"COUNTIF(L8:L9,AI21)","v":0},{"$f":"AJ21/(AL4-AJ20)","v":0},{"$f":"IF(AK21=0,0,(AK21*((LOG(AK21))/LOG(2))))","v":0},null,{"$f":"N21","v":2221},{"$f":"COUNTIF(L9:L9,AN21)","v":0},{"$f":"AO21/(AQ4-AO20)","v":0},{"$f":"IF(AP21=0,0,(AP21*((LOG(AP21))/LOG(2))))","v":0},null,{"$f":"N21","v":2221},{"$f":"COUNTIF(L9:L10,AS21)","v":0},{"$f":"AT21/(AV4-AT20)","v":0},{"$f":"IF(AU21=0,0,(AU21*((LOG(AU21))/LOG(2))))","v":0}]
[null,null,null,null,null,null,null,null,null,null,null,null,null,2222,{"$f":"COUNTIF($L$7:$L$500,N22)","v":1},{"$f":"O22/$Q$4","v":0.33333333333333331},{"$f":"IF(P22=0,0,(P22*((LOG(P22))/LOG(2))))","v":-0.52832083357371862},null,null,{"$f":"N22","v":2222},{"$f":"COUNTIF(L7:L7,T22)","v":1},{"$f":"U22/(W4-U20)","v":1},{"$f":"IF(V22=0,0,(V22*((LOG(V22))/LOG(2))))","v":0},null,{"$f":"N22","v":2222},{"$f":"COUNTIF(L7:L8,Y22)","v":1},{"$f":"Z22/(AB4-Z20)","v":0.5},{"$f":"IF(AA22=0,0,(AA22*((LOG(AA22))/LOG(2))))","v":-0.5},null,{"$f":"N22","v":2222},{"$f":"COUNTIF(L8:L8,AD22)","v":0},{"$f":"AE22/(AG4-AE20)","v":0},{"$f":"IF(AF22=0,0,(AF22*((LOG(AF22))/LOG(2))))","v":0},null,{"$f":"N22","v":2222},{"$f":"COUNTIF(L8:L9,AI22)","v":0},{"$f":"AJ22/(AL4-AJ20)","v":0},{"$f":"IF(AK22=0,0,(AK22*((LOG(AK22))/LOG(2))))","v":0},null,{"$f":"N22","v":2222},{"$f":"COUNTIF(L9:L9,AN22)","v":0},{"$f":"AO22/(AQ4-AO20)","v":0},{"$f":"IF(AP22=0,0,(AP22*((LOG(AP22))/LOG(2))))","v":0},null,{"$f":"N22","v":2222},{"$f":"COUNTIF(L9:L10,AS22)","v":0},{"$f":"AT22/(AV4-AT20)","v":0},{"$f":"IF(AU22=0,0,(AU22*((LOG(AU22))/LOG(2))))","v":0}]
[null,null,null,null,null,null,null,null,null,null,null,null,null,null,null,{"$f":"SUM(P7:P22)","v":1},{"$f":"-SUM(Q7:Q22)","v":0.91829583405448945},null,null,null,null,{"$f":"SUM(V7:V22)","v":1},{"$f":"-SUM(W7:W22)","v":0},null,null,null,{"$f":"SUM(AA7:AA22)","v":1},{"$f":"-SUM(AB7:AB22)","v":1},null,null,null,{"$f":"SUM(AF7:AF22)","v":1},{"$f":"-SUM(AG7:AG22)","v":0},null,null,null,{"$f":"SUM(AK7:AK22)","v":1},{"$f":"-SUM(AL7:AL22)","v":0},null,null,null,{"$f":"SUM(AP7:AP22)","v":1},{"$f":"-SUM(AQ7:AQ22)","v":0},null,null,null,{"$f":"SUM(AU7:AU22)","v":1},{"$f":"-SUM(AV7:AV22)","v":0}]
[null,null,null,null,null,null,null,null,null,null,null,null,null,null,null,"U=",{"$f":"Q23/(LOG(Q4)/LOG(2))","v":0.57938016428569505},null,null,null,null,"U1=",{"$f":"W23/(LOG(W4)/LOG(2))","v":{"$error":"#DIV/0!"}},null,null,null,"U2=",{"$f":"AB23/(LOG(AB4)/LOG(2))","v":1},null,null,null,"U3=",{"$f":"AG23/(LOG(AG4)/LOG(2))","v":{"$error":"#DIV/0!"}},null,null,null,"U4=",{"$f":"AL23/(LOG(AL4)/LOG(2))","v":0},null,null,null,"U5=",{"$f":"AQ23/(LOG(AQ4)/LOG(2))","v":{"$error":"#DIV/0!"}},null,null,null,"U6=",{"$f":"AV23/(LOG(AV4)/LOG(2))","v":{"$error":"#DIV/0!"}}]
[]
[]
[null,null,null,null,null,null,null,null,null,null,null,null,null,"Total Target Seq"]
[null,null,null,null,null,null,null,null,null,null,null,null,null,{"$f":"COUNTIF(L7:L9,G3)","v":0},null,1,0,1,0,1,0]
[null,null,null,null,null,null,null,null,null,null,null,null,null,null,null,"% of reinforcement given in 6 equal intervals based on number of trials "]
[null,null,null,null,null,null,null,null,null,null,null,null,null,null,null,"%_1","%_2","%_3","%_4","%_5","%_6"]
[null,null,null,null,null,null,null,null,null,null,null,null,null,null,"target sequence",{"$f":"$G$3","v":2212},{"$f":"$G$3","v":2212},{"$f":"$G$3","v":2212},{"$f":"$G$3","v":2212},{"$f":"$G$3","v":2212},{"$f":"$G$3","v":2212}]
[null,null,null,null,null,null,null,null,null,null,null,null,null,null,"total reinforcement",{"$f":"U20","v":0},{"$f":"Z20","v":0},{"$f":"AE20","v":0},{"$f":"AJ20","v":0},{"$f":"AO20","v":0},{"$f":"AT20","v":0}]
[null,null,null,null,null,null,null,null,null,null,null,null,null,null,"% target"]
[null,null,null,null,null,null,null,null,null,null,null,null,null,null,"CCRF"]
[null,null,null,null,null,null,null,null,null,null,null,null,null,null,"% CCRf"]
[null,null,null,null,null,null,null,null,null,null,null,null,null,null,"average response rate",{"$f":"H7/P28","v":285},{"$f":"(H7-H7)/Q28","v":{"$error":"#DIV/0!"}},{"$f":"(H8-H7)/R28","v":163},{"$f":"(H8-H8)/S28","v":{"$error":"#DIV/0!"}},{"$f":"(H9-H8)/T28","v":410},{"$f":"(H9-H9)/U28","v":{"$error":"#DIV/0!"}}]

{"sheet":"!M917840.102","index":21,"n_rows":36,"n_cols":48,"rows_kept":36,"cut":false,"hidden":false,"merged":[[4,39,4,42],[5,39,5,40],[4,44,4,47],[5,44,5,45],[4,24,4,27],[5,24,5,25],[4,29,4,32],[5,29,5,30],[4,34,4,37],[5,34,5,35],[1,1,1,2],[5,13,5,14],[26,13,26,14],[27,13,27,14],[4,19,4,22],[5,19,5,20]]}
["Report for:!M917840.102"]
["Date:","<date>"]
["Hen:","<hen>",null,null,null,"Correct Sequence",{"$f":"Start!J2","v":2212},null,null,null,null,null,null,null,null,"Total Sequences in Data",{"$f":"4994-COUNTBLANK(L7:L5000)","v":7},null,null,null,null,"Total Sequences in Block Data",{"$f":"COUNTA(L7:L7)","v":1},null,null,null,"Total Sequences in Block Data",{"$f":"COUNTA(L8:L8)","v":1},null,null,null,"Total Sequences in Block Data",{"$f":"COUNTA(L9:L10)","v":2},null,null,null,"Total Sequences in Block Data",{"$f":"COUNTA(L11:L11)","v":1},null,null,null,"Total Sequences in Block Data",{"$f":"COUNTA(L12:L12)","v":1},null,null,null,"Total Sequences in Block Data",{"$f":"COUNTA(L13:L13)","v":1}]
[null,null,null,null,null,null,null,null,null,null,null,null,null,null,null,"Total Sequences in Summary",{"$f":"SUM(O7:O22)","v":6},null,null,null,null,"Total Sequences in Block Summary",{"$f":"SUM(U7:U22)","v":1},null,null,null,"Total Sequences in Block Summary",{"$f":"SUM(Z7:Z22)","v":1},null,null,null,"Total Sequences in Block Summary",{"$f":"SUM(AE7:AE22)","v":2},null,null,null,"Total Sequences in Block Summary",{"$f":"SUM(AJ7:AJ22)","v":1},null,null,null,"Total Sequences in Block Summary",{"$f":"SUM(AO7:AO22)","v":1},null,null,null,"Total Sequences in Block Summary",{"$f":"SUM(AT7:AT22)","v":0}]
[null,null,null,null,null,null,null,null,null,null,null,null,null,null,null,null,null,null,null,"Block 1",null,null,null,null,"Block 2",null,null,null,null,"Block 3",null,null,null,null,"Block 4",null,null,null,null,"Block 5",null,null,null,null,"Block 6"]
["Sequence\nComponent\n1","Time\n1","Sequence\nComponent\n2","Time\n2","Sequence\nComponent\n3","Time\n3","Sequence\nComponent\n4","Time\n4","Sequence\nComponent\n5","Time\n5","Correct?\n0=No 1=Yes","Sequence",null,"Frequency",null,"Relative Frequency","Variability",null,null,"Frequency",null,"Relative Frequency","Variability",null,"Frequency",null,"Relative Frequency","Variability",null,"Frequency",null,"Relative Frequency","Variability",null,"Frequency",null,"Relative Frequency","Variability",null,"Frequency",null,"Relative Frequency","Variability",null,"Frequency",null,"Relative Frequency","Variability"]
[12,74,14,80,13,89,14,104,null,null,0,1111,null,1111,{"$f":"COUNTIF($L$7:$L$500,N7)","v":2},{"$f":"O7/$Q$4","v":0.33333333333333331},{"$f":"IF(P7=0,0,(P7*((LOG(P7))/LOG(2))))","v":-0.52832083357371862},null,null,{"$f":"N7","v":1111},{"$f":"COUNTIF(L7:L7,T7)","v":1},{"$f":"U7/(W4-U20)","v":1},{"$f":"IF(V7=0,0,(V7*((LOG(V7))/LOG(2))))","v":0},null,{"$f":"N7","v":1111},{"$f":"COUNTIF(L8:L8,Y7)","v":1},{"$f":"Z7/(AB4-Z20)","v":1},{"$f":"IF(AA7=0,0,(AA7*((LOG(AA7))/LOG(2))))","v":0},null,{"$f":"N7","v":1111},{"$f":"COUNTIF(L9:L10,AD7)","v":0},{"$f":"AE7/(AG4-AE20)","v":0},{"$f":"IF(AF7=0,0,(AF7*((LOG(AF7))/LOG(2))))","v":0},null,{"$f":"N7","v":1111},{"$f":"COUNTIF(L11:L11,AI7)","v":0},{"$f":"AJ7/(AL4-AJ20)","v":0},{"$f":"IF(AK7=0,0,(AK7*((LOG(AK7))/LOG(2))))","v":0},null,{"$f":"N7","v":1111},{"$f":"COUNTIF(L12:L12,AN7)","v":0},{"$f":"AO7/(AQ4-AO20)","v":0},{"$f":"IF(AP7=0,0,(AP7*((LOG(AP7))/LOG(2))))","v":0},null,{"$f":"N7","v":1111},{"$f":"COUNTIF(L13:L13,AS7)","v":0},{"$f":"AT7/(AV4-AT20)","v":{"$error":"#DIV/0!"}},{"$f":"IF(AU7=0,0,(AU7*((LOG(AU7))/LOG(2))))","v":{"$error":"#DIV/0!"}}]
[12,211,14,226,13,232,14,239,null,null,0,1111,null,1112,{"$f":"COUNTIF($L$7:$L$500,N8)","v":2},{"$f":"O8/$Q$4","v":0.33333333333333331},{"$f":"IF(P8=0,0,(P8*((LOG(P8))/LOG(2))))","v":-0.52832083357371862},null,null,{"$f":"N8","v":1112},{"$f":"COUNTIF(L7:L7,T8)","v":0},{"$f":"U8/(W4-U20)","v":0},{"$f":"IF(V8=0,0,(V8*((LOG(V8))/LOG(2))))","v":0},null,{"$f":"N8","v":1112},{"$f":"COUNTIF(L8:L8,Y8)","v":0},{"$f":"Z8/(AB4-Z20)","v":0},{"$f":"IF(AA8=0,0,(AA8*((LOG(AA8))/LOG(2))))","v":0},null,{"$f":"N8","v":1112},{"$f":"COUNTIF(L9:L10,AD8)","v":2},{"$f":"AE8/(AG4-AE20)","v":1},{"$f":"IF(AF8=0,0,(AF8*((LOG(AF8))/LOG(2))))","v":0},null,{"$f":"N8","v":1112},{"$f":"COUNTIF(L11:L11,AI8)","v":0},{"$f":"AJ8/(AL4-AJ20)","v":0},{"$f":"IF(AK8=0,0,(AK8*((LOG(AK8))/LOG(2))))","v":0},null,{"$f":"N8","v":1112},{"$f":"COUNTIF(L12:L12,AN8)","v":0},{"$f":"AO8/(AQ4-AO20)","v":0},{"$f":"IF(AP8=0,0,(AP8*((LOG(AP8))/LOG(2))))","v":0},null,{"$f":"N8","v":1112},{"$f":"COUNTIF(L13:L13,AS8)","v":0},{"$f":"AT8/(AV4-AT20)","v":{"$error":"#DIV/0!"}},{"$f":"IF(AU8=0,0,(AU8*((LOG(AU8))/LOG(2))))","v":{"$error":"#DIV/0!"}}]
[12,346,14,360,13,368,23,384,null,null,0,1112,null,1121,{"$f":"COUNTIF($L$7:$L$500,N9)","v":0},{"$f":"O9/$Q$4","v":0},{"$f":"IF(P9=0,0,(P9*((LOG(P9))/LOG(2))))","v":0},null,null,{"$f":"N9","v":1121},{"$f":"COUNTIF(L7:L7,T9)","v":0},{"$f":"U9/(W4-U20)","v":0},{"$f":"IF(V9=0,0,(V9*((LOG(V9))/LOG(2))))","v":0},null,{"$f":"N9","v":1121},{"$f":"COUNTIF(L8:L8,Y9)","v":0},{"$f":"Z9/(AB4-Z20)","v":0},{"$f":"IF(AA9=0,0,(AA9*((LOG(AA9))/LOG(2))))","v":0},null,{"$f":"N9","v":1121},{"$f":"COUNTIF(L9:L10,AD9)","v":0},{"$f":"AE9/(AG4-AE20)","v":0},{"$f":"IF(AF9=0,0,(AF9*((LOG(AF9))/LOG(2))))","v":0},null,{"$f":"N9","v":1121},{"$f":"COUNTIF(L11:L11,AI9)","v":0},{"$f":"AJ9/(AL4-AJ20)","v":0},{"$f":"IF(AK9=0,0,(AK9*((LOG(AK9))/LOG(2))))","v":0},null,{"$f":"N9","v":1121},{"$f":"COUNTIF(L12:L12,AN9)","v":0},{"$f":"AO9/(AQ4-AO20)","v":0},{"$f":"IF(AP9=0,0,(AP9*((LOG(AP9))/LOG(2))))","v":0},null,{"$f":"N9","v":1121},{"$f":"COUNTIF(L13:L13,AS9)","v":0},{"$f":"AT9/(AV4-AT20)","v":{"$error":"#DIV/0!"}},{"$f":"IF(AU9=0,0,(AU9*((LOG(AU9))/LOG(2))))","v":{"$error":"#DIV/0!"}}]
[12,501,14,507,13,516,23,538,null,null,0,1112,null,1122,{"$f":"COUNTIF($L$7:$L$500,N10)","v":0},{"$f":"O10/$Q$4","v":0},{"$f":"IF(P10=0,0,(P10*((LOG(P10))/LOG(2))))","v":0},null,null,{"$f":"N10","v":1122},{"$f":"COUNTIF(L7:L7,T10)","v":0},{"$f":"U10/(W4-U20)","v":0},{"$f":"IF(V10=0,0,(V10*((LOG(V10))/LOG(2))))","v":0},null,{"$f":"N10","v":1122},{"$f":"COUNTIF(L8:L8,Y10)","v":0},{"$f":"Z10/(AB4-Z20)","v":0},{"$f":"IF(AA10=0,0,(AA10*((LOG(AA10))/LOG(2))))","v":0},null,{"$f":"N10","v":1122},{"$f":"COUNTIF(L9:L10,AD10)","v":0},{"$f":"AE10/(AG4-AE20)","v":0},{"$f":"IF(AF10=0,0,(AF10*((LOG(AF10))/LOG(2))))","v":0},null,{"$f":"N10","v":1122},{"$f":"COUNTIF(L11:L11,AI10)","v":0},{"$f":"AJ10/(AL4-AJ20)","v":0},{"$f":"IF(AK10=0,0,(AK10*((LOG(AK10))/LOG(2))))","v":0},null,{"$f":"N10","v":1122},{"$f":"COUNTIF(L12:L12,AN10)","v":0},{"$f":"AO10/(AQ4-AO20)","v":0},{"$f":"IF(AP10=0,0,(AP10*((LOG(AP10))/LOG(2))))","v":0},null,{"$f":"N10","v":1122},{"$f":"COUNTIF(L13:L13,AS10)","v":0},{"$f":"AT10/(AV4-AT20)","v":{"$error":"#DIV/0!"}},{"$f":"IF(AU10=0,0,(AU10*((LOG(AU10))/LOG(2))))","v":{"$error":"#DIV/0!"}}]
[12,23461,23,23465,13,23476,23,23484,null,null,0,1212,null,1211,{"$f":"COUNTIF($L$7:$L$500,N11)","v":0},{"$f":"O11/$Q$4","v":0},{"$f":"IF(P11=0,0,(P11*((LOG(P11))/LOG(2))))","v":0},null,null,{"$f":"N11","v":1211},{"$f":"COUNTIF(L7:L7,T11)","v":0},{"$f":"U11/(W4-U20)","v":0},{"$f":"IF(V11=0,0,(V11*((LOG(V11))/LOG(2))))","v":0},null,{"$f":"N11","v":1211},{"$f":"COUNTIF(L8:L8,Y11)","v":0},{"$f":"Z11/(AB4-Z20)","v":0},{"$f":"IF(AA11=0,0,(AA11*((LOG(AA11))/LOG(2))))","v":0},null,{"$f":"N11","v":1211},{"$f":"COUNTIF(L9:L10,AD11)","v":0},{"$f":"AE11/(AG4-AE20)","v":0},{"$f":"IF(AF11=0,0,(AF11*((LOG(AF11))/LOG(2))))","v":0},null,{"$f":"N11","v":1211},{"$f":"COUNTIF(L11:L11,AI11)","v":0},{"$f":"AJ11/(AL4-AJ20)","v":0},{"$f":"IF(AK11=0,0,(AK11*((LOG(AK11))/LOG(2))))","v":0},null,{"$f":"N11","v":1211},{"$f":"COUNTIF(L12:L12,AN11)","v":0},{"$f":"AO11/(AQ4-AO20)","v":0},{"$f":"IF(AP11=0,0,(AP11*((LOG(AP11))/LOG(2))))","v":0},null,{"$f":"N11","v":1211},{"$f":"COUNTIF(L13:L13,AS11)","v":0},{"$f":"AT11/(AV4-AT20)","v":{"$error":"#DIV/0!"}},{"$f":"IF(AU11=0,0,(AU11*((LOG(AU11))/LOG(2))))","v":{"$error":"#DIV/0!"}}]
[21,23821,21,23836,22,23842,23,23852,null,null,0,2222,null,1212,{"$f":"COUNTIF($L$7:$L$500,N12)","v":1},{"$f":"O12/$Q$4","v":0.16666666666666666},{"$f":"IF(P12=0,0,(P12*((LOG(P12))/LOG(2))))","v":-0.43082708345352599},null,null,{"$f":"N12","v":1212},{"$f":"COUNTIF(L7:L7,T12)","v":0},{"$f":"U12/(W4-U20)","v":0},{"$f":"IF(V12=0,0,(V12*((LOG(V12))/LOG(2))))","v":0},null,{"$f":"N12","v":1212},{"$f":"COUNTIF(L8:L8,Y12)","v":0},{"$f":"Z12/(AB4-Z20)","v":0},{"$f":"IF(AA12=0,0,(AA12*((LOG(AA12))/LOG(2))))","v":0},null,{"$f":"N12","v":1212},{"$f":"COUNTIF(L9:L10,AD12)","v":0},{"$f":"AE12/(AG4-AE20)","v":0},{"$f":"IF(AF12=0,0,(AF12*((LOG(AF12))/LOG(2))))","v":0},null,{"$f":"N12","v":1212},{"$f":"COUNTIF(L11:L11,AI12)","v":1},{"$f":"AJ12/(AL4-AJ20)","v":1},{"$f":"IF(AK12=0,0,(AK12*((LOG(AK12))/LOG(2))))","v":0},null,{"$f":"N12","v":1212},{"$f":"COUNTIF(L12:L12,AN12)","v":0},{"$f":"AO12/(AQ4-AO20)","v":0},{"$f":"IF(AP12=0,0,(AP12*((LOG(AP12))/LOG(2))))","v":0},null,{"$f":"N12","v":1212},{"$f":"COUNTIF(L13:L13,AS12)","v":0},{"$f":"AT12/(AV4-AT20)","v":{"$error":"#DIV/0!"}},{"$f":"IF(AU12=0,0,(AU12*((LOG(AU12))/LOG(2))))","v":{"$error":"#DIV/0!"}}]
[12,23993,null,null,null,null,null,null,null,null,null,1,null,1221,{"$f":"COUNTIF($L$7:$L$500,N13)","v":0},{"$f":"O13/$Q$4","v":0},{"$f":"IF(P13=0,0,(P13*((LOG(P13))/LOG(2))))","v":0},null,null,{"$f":"N13","v":1221},{"$f":"COUNTIF(L7:L7,T13)","v":0},{"$f":"U13/(W4-U20)","v":0},{"$f":"IF(V13=0,0,(V13*((LOG(V13))/LOG(2))))","v":0},null,{"$f":"N13","v":1221},{"$f":"COUNTIF(L8:L8,Y13)","v":0},{"$f":"Z13/(AB4-Z20)","v":0},{"$f":"IF(AA13=0,0,(AA13*((LOG(AA13))/LOG(2))))","v":0},null,{"$f":"N13","v":1221},{"$f":"COUNTIF(L9:L10,AD13)","v":0},{"$f":"AE13/(AG4-AE20)","v":0},{"$f":"IF(AF13=0,0,(AF13*((LOG(AF13))/LOG(2))))","v":0},null,{"$f":"N13","v":1221},{"$f":"COUNTIF(L11:L11,AI13)","v":0},{"$f":"AJ13/(AL4-AJ20)","v":0},{"$f":"IF(AK13=0,0,(AK13*((LOG(AK13))/LOG(2))))","v":0},null,{"$f":"N13","v":1221},{"$f":"COUNTIF(L12:L12,AN13)","v":0},{"$f":"AO13/(AQ4-AO20)","v":0},{"$f":"IF(AP13=0,0,(AP13*((LOG(AP13))/LOG(2))))","v":0},null,{"$f":"N13","v":1221},{"$f":"COUNTIF(L13:L13,AS13)","v":0},{"$f":"AT13/(AV4-AT20)","v":{"$error":"#DIV/0!"}},{"$f":"IF(AU13=0,0,(AU13*((LOG(AU13))/LOG(2))))","v":{"$error":"#DIV/0!"}}]
[null,null,null,null,null,null,null,null,null,null,null,null,null,1222,{"$f":"COUNTIF($L$7:$L$500,N14)","v":0},{"$f":"O14/$Q$4","v":0},{"$f":"IF(P14=0,0,(P14*((LOG(P14))/LOG(2))))","v":0},null,null,{"$f":"N14","v":1222},{"$f":"COUNTIF(L7:L7,T14)","v":0},{"$f":"U14/(W4-U20)","v":0},{"$f":"IF(V14=0,0,(V14*((LOG(V14))/LOG(2))))","v":0},null,{"$f":"N14","v":1222},{"$f":"COUNTIF(L8:L8,Y14)","v":0},{"$f":"Z14/(AB4-Z20)","v":0},{"$f":"IF(AA14=0,0,(AA14*((LOG(AA14))/LOG(2))))","v":0},null,{"$f":"N14","v":1222},{"$f":"COUNTIF(L9:L10,AD14)","v":0},{"$f":"AE14/(AG4-AE20)","v":0},{"$f":"IF(AF14=0,0,(AF14*((LOG(AF14))/LOG(2))))","v":0},null,{"$f":"N14","v":1222},{"$f":"COUNTIF(L11:L11,AI14)","v":0},{"$f":"AJ14/(AL4-AJ20)","v":0},{"$f":"IF(AK14=0,0,(AK14*((LOG(AK14))/LOG(2))))","v":0},null,{"$f":"N14","v":1222},{"$f":"COUNTIF(L12:L12,AN14)","v":0},{"$f":"AO14/(AQ4-AO20)","v":0},{"$f":"IF(AP14=0,0,(AP14*((LOG(AP14))/LOG(2))))","v":0},null,{"$f":"N14","v":1222},{"$f":"COUNTIF(L13:L13,AS14)","v":0},{"$f":"AT14/(AV4-AT20)","v":{"$error":"#DIV/0!"}},{"$f":"IF(AU14=0,0,(AU14*((LOG(AU14))/LOG(2))))","v":{"$error":"#DIV/0!"}}]
[null,null,null,null,null,null,null,null,null,null,null,null,null,2111,{"$f":"COUNTIF($L$7:$L$500,N15)","v":0},{"$f":"O15/$Q$4","v":0},{"$f":"IF(P15=0,0,(P15*((LOG(P15))/LOG(2))))","v":0},null,null,{"$f":"N15","v":2111},{"$f":"COUNTIF(L7:L7,T15)","v":0},{"$f":"U15/(W4-U20)","v":0},{"$f":"IF(V15=0,0,(V15*((LOG(V15))/LOG(2))))","v":0},null,{"$f":"N15","v":2111},{"$f":"COUNTIF(L8:L8,Y15)","v":0},{"$f":"Z15/(AB4-Z20)","v":0},{"$f":"IF(AA15=0,0,(AA15*((LOG(AA15))/LOG(2))))","v":0},null,{"$f":"N15","v":2111},{"$f":"COUNTIF(L9:L10,AD15)","v":0},{"$f":"AE15/(AG4-AE20)","v":0},{"$f":"IF(AF15=0,0,(AF15*((LOG(AF15))/LOG(2))))","v":0},null,{"$f":"N15","v":2111},{"$f":"COUNTIF(L11:L11,AI15)","v":0},{"$f":"AJ15/(AL4-AJ20)","v":0},{"$f":"IF(AK15=0,0,(AK15*((LOG(AK15))/LOG(2))))","v":0},null,{"$f":"N15","v":2111},{"$f":"COUNTIF(L12:L12,AN15)","v":0},{"$f":"AO15/(AQ4-AO20)","v":0},{"$f":"IF(AP15=0,0,(AP15*((LOG(AP15))/LOG(2))))","v":0},null,{"$f":"N15","v":2111},{"$f":"COUNTIF(L13:L13,AS15)","v":0},{"$f":"AT15/(AV4-AT20)","v":{"$error":"#DIV/0!"}},{"$f":"IF(AU15=0,0,(AU15*((LOG(AU15))/LOG(2))))","v":{"$error":"#DIV/0!"}}]
[null,null,null,null,null,null,null,null,null,null,null,null,null,2112,{"$f":"COUNTIF($L$7:$L$500,N16)","v":0},{"$f":"O16/$Q$4","v":0},{"$f":"IF(P16=0,0,(P16*((LOG(P16))/LOG(2))))","v":0},null,null,{"$f":"N16","v":2112},{"$f":"COUNTIF(L7:L7,T16)","v":0},{"$f":"U16/(W4-U20)","v":0},{"$f":"IF(V16=0,0,(V16*((LOG(V16))/LOG(2))))","v":0},null,{"$f":"N16","v":2112},{"$f":"COUNTIF(L8:L8,Y16)","v":0},{"$f":"Z16/(AB4-Z20)","v":0},{"$f":"IF(AA16=0,0,(AA16*((LOG(AA16))/LOG(2))))","v":0},null,{"$f":"N16","v":2112},{"$f":"COUNTIF(L9:L10,AD16)","v":0},{"$f":"AE16/(AG4-AE20)","v":0},{"$f":"IF(AF16=0,0,(AF16*((LOG(AF16))/LOG(2))))","v":0},null,{"$f":"N16","v":2112},{"$f":"COUNTIF(L11:L11,AI16)","v":0},{"$f":"AJ16/(AL4-AJ20)","v":0},{"$f":"IF(AK16=0,0,(AK16*((LOG(AK16))/LOG(2))))","v":0},null,{"$f":"N16","v":2112},{"$f":"COUNTIF(L12:L12,AN16)","v":0},{"$f":"AO16/(AQ4-AO20)","v":0},{"$f":"IF(AP16=0,0,(AP16*((LOG(AP16))/LOG(2))))","v":0},null,{"$f":"N16","v":2112},{"$f":"COUNTIF(L13:L13,AS16)","v":0},{"$f":"AT16/(AV4-AT20)","v":{"$error":"#DIV/0!"}},{"$f":"IF(AU16=0,0,(AU16*((LOG(AU16))/LOG(2))))","v":{"$error":"#DIV/0!"}}]
[null,null,null,null,null,null,null,null,null,null,null,null,null,2121,{"$f":"COUNTIF($L$7:$L$500,N17)","v":0},{"$f":"O17/$Q$4","v":0},{"$f":"IF(P17=0,0,(P17*((LOG(P17))/LOG(2))))","v":0},null,null,{"$f":"N17","v":2121},{"$f":"COUNTIF(L7:L7,T17)","v":0},{"$f":"U17/(W4-U20)","v":0},{"$f":"IF(V17=0,0,(V17*((LOG(V17))/LOG(2))))","v":0},null,{"$f":"N17","v":2121},{"$f":"COUNTIF(L8:L8,Y17)","v":0},{"$f":"Z17/(AB4-Z20)","v":0},{"$f":"IF(AA17=0,0,(AA17*((LOG(AA17))/LOG(2))))","v":0},null,{"$f":"N17","v":2121},{"$f":"COUNTIF(L9:L10,AD17)","v":0},{"$f":"AE17/(AG4-AE20)","v":0},{"$f":"IF(AF17=0,0,(AF17*((LOG(AF17))/LOG(2))))","v":0},null,{"$f":"N17","v":2121},{"$f":"COUNTIF(L11:L11,AI17)","v":0},{"$f":"AJ17/(AL4-AJ20)","v":0},{"$f":"IF(AK17=0,0,(AK17*((LOG(AK17))/LOG(2))))","v":0},null,{"$f":"N17","v":2121},{"$f":"COUNTIF(L12:L12,AN17)","v":0},{"$f":"AO17/(AQ4-AO20)","v":0},{"$f":"IF(AP17=0,0,(AP17*((LOG(AP17))/LOG(2))))","v":0},null,{"$f":"N17","v":2121},{"$f":"COUNTIF(L13:L13,AS17)","v":0},{"$f":"AT17/(AV4-AT20)","v":{"$error":"#DIV/0!"}},{"$f":"IF(AU17=0,0,(AU17*((LOG(AU17))/LOG(2))))","v":{"$error":"#DIV/0!"}}]
[null,null,null,null,null,null,null,null,null,null,null,null,null,2122,{"$f":"COUNTIF($L$7:$L$500,N18)","v":0},{"$f":"O18/$Q$4","v":0},{"$f":"IF(P18=0,0,(P18*((LOG(P18))/LOG(2))))","v":0},null,null,{"$f":"N18","v":2122},{"$f":"COUNTIF(L7:L7,T18)","v":0},{"$f":"U18/(W4-U20)","v":0},{"$f":"IF(V18=0,0,(V18*((LOG(V18))/LOG(2))))","v":0},null,{"$f":"N18","v":2122},{"$f":"COUNTIF(L8:L8,Y18)","v":0},{"$f":"Z18/(AB4-Z20)","v":0},{"$f":"IF(AA18=0,0,(AA18*((LOG(AA18))/LOG(2))))","v":0},null,{"$f":"N18","v":2122},{"$f":"COUNTIF(L9:L10,AD18)","v":0},{"$f":"AE18/(AG4-AE20)","v":0},{"$f":"IF(AF18=0,0,(AF18*((LOG(AF18))/LOG(2))))","v":0},null,{"$f":"N18","v":2122},{"$f":"COUNTIF(L11:L11,AI18)","v":0},{"$f":"AJ18/(AL4-AJ20)","v":0},{"$f":"IF(AK18=0,0,(AK18*((LOG(AK18))/LOG(2))))","v":0},null,{"$f":"N18","v":2122},{"$f":"COUNTIF(L12:L12,AN18)","v":0},{"$f":"AO18/(AQ4-AO20)","v":0},{"$f":"IF(AP18=0,0,(AP18*((LOG(AP18))/LOG(2))))","v":0},null,{"$f":"N18","v":2122},{"$f":"COUNTIF(L13:L13,AS18)","v":0},{"$f":"AT18/(AV4-AT20)","v":{"$error":"#DIV/0!"}},{"$f":"IF(AU18=0,0,(AU18*((LOG(AU18))/LOG(2))))","v":{"$error":"#DIV/0!"}}]
[null,null,null,null,null,null,null,null,null,null,null,null,null,2211,{"$f":"COUNTIF($L$7:$L$500,N19)","v":0},{"$f":"O19/$Q$4","v":0},{"$f":"IF(P19=0,0,(P19*((LOG(P19))/LOG(2))))","v":0},null,null,{"$f":"N19","v":2211},{"$f":"COUNTIF(L7:L7,T19)","v":0},{"$f":"U19/(W4-U20)","v":0},{"$f":"IF(V19=0,0,(V19*((LOG(V19))/LOG(2))))","v":0},null,{"$f":"N19","v":2211},{"$f":"COUNTIF(L8:L8,Y19)","v":0},{"$f":"Z19/(AB4-Z20)","v":0},{"$f":"IF(AA19=0,0,(AA19*((LOG(AA19))/LOG(2))))","v":0},null,{"$f":"N19","v":2211},{"$f":"COUNTIF(L9:L10,AD19)","v":0},{"$f":"AE19/(AG4-AE20)","v":0},{"$f":"IF(AF19=0,0,(AF19*((LOG(AF19))/LOG(2))))","v":0},null,{"$f":"N19","v":2211},{"$f":"COUNTIF(L11:L11,AI19)","v":0},{"$f":"AJ19/(AL4-AJ20)","v":0},{"$f":"IF(AK19=0,0,(AK19*((LOG(AK19))/LOG(2))))","v":0},null,{"$f":"N19","v":2211},{"$f":"COUNTIF(L12:L12,AN19)","v":0},{"$f":"AO19/(AQ4-AO20)","v":0},{"$f":"IF(AP19=0,0,(AP19*((LOG(AP19))/LOG(2))))","v":0},null,{"$f":"N19","v":2211},{"$f":"COUNTIF(L13:L13,AS19)","v":0},{"$f":"AT19/(AV4-AT20)","v":{"$error":"#DIV/0!"}},{"$f":"IF(AU19=0,0,(AU19*((LOG(AU19))/LOG(2))))","v":{"$error":"#DIV/0!"}}]
[null,null,null,null,null,null,null,null,null,null,null,null,null,2212,{"$f":"COUNTIF($L$7:$L$500,N20)","v":0},{"$f":"O20/$Q$4","v":0},{"$f":"IF(P20=0,0,(P20*((LOG(P20))/LOG(2))))","v":0},null,null,{"$f":"N20","v":2212},{"$f":"COUNTIF(L7:L7,T20)","v":0},null,null,null,{"$f":"N20","v":2212},{"$f":"COUNTIF(L8:L8,Y20)","v":0},null,null,null,{"$f":"N20","v":2212},{"$f":"COUNTIF(L9:L10,AD20)","v":0},null,null,null,{"$f":"N20","v":2212},{"$f":"COUNTIF(L11:L11,AI20)","v":0},null,null,null,{"$f":"N20","v":2212},{"$f":"COUNTIF(L12:L12,AN20)","v":0},null,null,null,{"$f":"N20","v":2212},{"$f":"COUNTIF(L13:L13,AS20)","v":0}]
[null,null,null,null,null,null,null,null,null,null,null,null,null,2221,{"$f":"COUNTIF($L$7:$L$500,N21)","v":0},{"$f":"O21/$Q$4","v":0},{"$f":"IF(P21=0,0,(P21*((LOG(P21))/LOG(2))))","v":0},null,null,{"$f":"N21","v":2221},{"$f":"COUNTIF(L7:L7,T21)","v":0},{"$f":"U21/(W4-U20)","v":0},{"$f":"IF(V21=0,0,(V21*((LOG(V21))/LOG(2))))","v":0},null,{"$f":"N21","v":2221},{"$f":"COUNTIF(L8:L8,Y21)","v":0},{"$f":"Z21/(AB4-Z20)","v":0},{"$f":"IF(AA21=0,0,(AA21*((LOG(AA21))/LOG(2))))","v":0},null,{"$f":"N21","v":2221},{"$f":"COUNTIF(L9:L10,AD21)","v":0},{"$f":"AE21/(AG4-AE20)","v":0},{"$f":"IF(AF21=0,0,(AF21*((LOG(AF21))/LOG(2))))","v":0},null,{"$f":"N21","v":2221},{"$f":"COUNTIF(L11:L11,AI21)","v":0},{"$f":"AJ21/(AL4-AJ20)","v":0},{"$f":"IF(AK21=0,0,(AK21*((LOG(AK21))/LOG(2))))","v":0},null,{"$f":"N21","v":2221},{"$f":"COUNTIF(L12:L12,AN21)","v":0},{"$f":"AO21/(AQ4-AO20)","v":0},{"$f":"IF(AP21=0,0,(AP21*((LOG(AP21))/LOG(2))))","v":0},null,{"$f":"N21","v":2221},{"$f":"COUNTIF(L13:L13,AS21)","v":0},{"$f":"AT21/(AV4-AT20)","v":{"$error":"#DIV/0!"}},{"$f":"IF(AU21=0,0,(AU21*((LOG(AU21))/LOG(2))))","v":{"$error":"#DIV/0!"}}]
[null,null,null,null,null,null,null,null,null,null,null,null,null,2222,{"$f":"COUNTIF($L$7:$L$500,N22)","v":1},{"$f":"O22/$Q$4","v":0.16666666666666666},{"$f":"IF(P22=0,0,(P22*((LOG(P22))/LOG(2))))","v":-0.43082708345352599},null,null,{"$f":"N22","v":2222},{"$f":"COUNTIF(L7:L7,T22)","v":0},{"$f":"U22/(W4-U20)","v":0},{"$f":"IF(V22=0,0,(V22*((LOG(V22))/LOG(2))))","v":0},null,{"$f":"N22","v":2222},{"$f":"COUNTIF(L8:L8,Y22)","v":0},{"$f":"Z22/(AB4-Z20)","v":0},{"$f":"IF(AA22=0,0,(AA22*((LOG(AA22))/LOG(2))))","v":0},null,{"$f":"N22","v":2222},{"$f":"COUNTIF(L9:L10,AD22)","v":0},{"$f":"AE22/(AG4-AE20)","v":0},{"$f":"IF(AF22=0,0,(AF22*((LOG(AF22))/LOG(2))))","v":0},null,{"$f":"N22","v":2222},{"$f":"COUNTIF(L11:L11,AI22)","v":0},{"$f":"AJ22/(AL4-AJ20)","v":0},{"$f":"IF(AK22=0,0,(AK22*((LOG(AK22))/LOG(2))))","v":0},null,{"$f":"N22","v":2222},{"$f":"COUNTIF(L12:L12,AN22)","v":1},{"$f":"AO22/(AQ4-AO20)","v":1},{"$f":"IF(AP22=0,0,(AP22*((LOG(AP22))/LOG(2))))","v":0},null,{"$f":"N22","v":2222},{"$f":"COUNTIF(L13:L13,AS22)","v":0},{"$f":"AT22/(AV4-AT20)","v":{"$error":"#DIV/0!"}},{"$f":"IF(AU22=0,0,(AU22*((LOG(AU22))/LOG(2))))","v":{"$error":"#DIV/0!"}}]
[null,null,null,null,null,null,null,null,null,null,null,null,null,null,null,{"$f":"SUM(P7:P22)","v":0.99999999999999989},{"$f":"-SUM(Q7:Q22)","v":1.9182958340544891},null,null,null,null,{"$f":"SUM(V7:V22)","v":1},{"$f":"-SUM(W7:W22)","v":0},null,null,null,{"$f":"SUM(AA7:AA22)","v":1},{"$f":"-SUM(AB7:AB22)","v":0},null,null,null,{"$f":"SUM(AF7:AF22)","v":1},{"$f":"-SUM(AG7:AG22)","v":0},null,null,null,{"$f":"SUM(AK7:AK22)","v":1},{"$f":"-SUM(AL7:AL22)","v":0},null,null,null,{"$f":"SUM(AP7:AP22)","v":1},{"$f":"-SUM(AQ7:AQ22)","v":0},null,null,null,{"$f":"SUM(AU7:AU22)","v":{"$error":"#DIV/0!"}},{"$f":"-SUM(AV7:AV22)","v":{"$error":"#DIV/0!"}}]
[null,null,null,null,null,null,null,null,null,null,null,null,null,null,null,"U=",{"$f":"Q23/(LOG(Q4)/LOG(2))","v":0.74209812851030543},null,null,null,null,"U1=",{"$f":"W23/(LOG(W4)/LOG(2))","v":{"$error":"#DIV/0!"}},null,null,null,"U2=",{"$f":"AB23/(LOG(AB4)/LOG(2))","v":{"$error":"#DIV/0!"}},null,null,null,"U3=",{"$f":"AG23/(LOG(AG4)/LOG(2))","v":0},null,null,null,"U4=",{"$f":"AL23/(LOG(AL4)/LOG(2))","v":{"$error":"#DIV/0!"}},null,null,null,"U5=",{"$f":"AQ23/(LOG(AQ4)/LOG(2))","v":{"$error":"#DIV/0!"}},null,null,null,"U6=",{"$f":"AV23/(LOG(AV4)/LOG(2))","v":{"$error":"#DIV/0!"}}]
[]
[]
[null,null,null,null,null,null,null,null,null,null,null,null,null,"Total Target Seq"]
[null,null,null,null,null,null,null,null,null,null,null,null,null,{"$f":"COUNTIF(L7:L13,G3)","v":0},null,1,1,2,1,1,1]
[null,null,null,null,null,null,null,null,null,null,null,null,null,null,null,"% of reinforcement given in 6 equal intervals based on number of trials "]
[null,null,null,null,null,null,null,null,null,null,null,null,null,null,null,"%_1","%_2","%_3","%_4","%_5","%_6"]
[null,null,null,null,null,null,null,null,null,null,null,null,null,null,"target sequence",{"$f":"$G$3","v":2212},{"$f":"$G$3","v":2212},{"$f":"$G$3","v":2212},{"$f":"$G$3","v":2212},{"$f":"$G$3","v":2212},{"$f":"$G$3","v":2212}]
[null,null,null,null,null,null,null,null,null,null,null,null,null,null,"total reinforcement",{"$f":"U20","v":0},{"$f":"Z20","v":0},{"$f":"AE20","v":0},{"$f":"AJ20","v":0},{"$f":"AO20","v":0},{"$f":"AT20","v":0}]
[null,null,null,null,null,null,null,null,null,null,null,null,null,null,"% target"]
[null,null,null,null,null,null,null,null,null,null,null,null,null,null,"CCRF"]
[null,null,null,null,null,null,null,null,null,null,null,null,null,null,"% CCRf"]
[null,null,null,null,null,null,null,null,null,null,null,null,null,null,"average response rate",{"$f":"H7/P28","v":104},{"$f":"(H8-H7)/Q28","v":135},{"$f":"(H10-H8)/R28","v":149.5},{"$f":"(H11-H10)/S28","v":22946},{"$f":"(H12-H11)/T28","v":368},{"$f":"(H13-H12)/U28","v":-23852}]

{"sheet":"!M918B00.102","index":22,"n_rows":36,"n_cols":48,"rows_kept":36,"cut":false,"hidden":false,"merged":[[4,39,4,42],[5,39,5,40],[4,44,4,47],[5,44,5,45],[4,24,4,27],[5,24,5,25],[4,29,4,32],[5,29,5,30],[4,34,4,37],[5,34,5,35],[1,1,1,2],[5,13,5,14],[26,13,26,14],[27,13,27,14],[4,19,4,22],[5,19,5,20]]}
["Report for:!M918B00.102"]
["Date:","<date>"]
["Hen:","<hen>",null,null,null,"Correct Sequence",{"$f":"Start!J2","v":2212},null,null,null,null,null,null,null,null,"Total Sequences in Data",{"$f":"4994-COUNTBLANK(L7:L5000)","v":17},null,null,null,null,"Total Sequences in Block Data",{"$f":"COUNTA(L7:L9)","v":3},null,null,null,"Total Sequences in Block Data",{"$f":"COUNTA(L10:L12)","v":3},null,null,null,"Total Sequences in Block Data",{"$f":"COUNTA(L13:L14)","v":2},null,null,null,"Total Sequences in Block Data",{"$f":"COUNTA(L15:L17)","v":3},null,null,null,"Total Sequences in Block Data",{"$f":"COUNTA(L18:L20)","v":3},null,null,null,"Total Sequences in Block Data",{"$f":"COUNTA(L21:L23)","v":3}]
[null,null,null,null,null,null,null,null,null,null,null,null,null,null,null,"Total Sequences in Summary",{"$f":"SUM(O7:O22)","v":16},null,null,null,null,"Total Sequences in Block Summary",{"$f":"SUM(U7:U22)","v":3},null,null,null,"Total Sequences in Block Summary",{"$f":"SUM(Z7:Z22)","v":3},null,null,null,"Total Sequences in Block Summary",{"$f":"SUM(AE7:AE22)","v":2},null,null,null,"Total Sequences in Block Summary",{"$f":"SUM(AJ7:AJ22)","v":3},null,null,null,"Total Sequences in Block Summary",{"$f":"SUM(AO7:AO22)","v":3},null,null,null,"Total Sequences in Block Summary",{"$f":"SUM(AT7:AT22)","v":2}]
[null,null,null,null,null,null,null,null,null,null,null,null,null,null,null,null,null,null,null,"Block 1",null,null,null,null,"Block 2",null,null,null,null,"Block 3",null,null,null,null,"Block 4",null,null,null,null,"Block 5",null,null,null,null,"Block 6"]
["Sequence\nComponent\n1","Time\n1","Sequence\nComponent\n2","Time\n2","Sequence\nComponent\n3","Time\n3","Sequence\nComponent\n4","Time\n4","Sequence\nComponent\n5","Time\n5","Correct?\n0=No 1=Yes","Sequence",null,"Frequency",null,"Relative Frequency","Variability",null,null,"Frequency",null,"Relative Frequency","Variability",null,"Frequency",null,"Relative Frequency","Variability",null,"Frequency",null,"Relative Frequency","Variability",null,"Frequency",null,"Relative Frequency","Variability",null,"Frequency",null,"Relative Frequency","Variability",null,"Frequency",null,"Relative Frequency","Variability"]
[21,39,21,66,22,86,23,94,null,null,0,2222,null,1111,{"$f":"COUNTIF($L$7:$L$500,N7)","v":7},{"$f":"O7/$Q$4","v":0.4375},{"$f":"IF(P7=0,0,(P7*((LOG(P7))/LOG(2))))","v":-0.52178222159979815},null,null,{"$f":"N7","v":1111},{"$f":"COUNTIF(L7:L9,T7)","v":0},{"$f":"U7/(W4-U20)","v":0},{"$f":"IF(V7=0,0,(V7*((LOG(V7))/LOG(2))))","v":0},null,{"$f":"N7","v":1111},{"$f":"COUNTIF(L10:L12,Y7)","v":1},{"$f":"Z7/(AB4-Z20)","v":0.33333333333333331},{"$f":"IF(AA7=0,0,(AA7*((LOG(AA7))/LOG(2))))","v":-0.52832083357371862},null,{"$f":"N7","v":1111},{"$f":"COUNTIF(L13:L14,AD7)","v":2},{"$f":"AE7/(AG4-AE20)","v":1},{"$f":"IF(AF7=0,0,(AF7*((LOG(AF7))/LOG(2))))","v":0},null,{"$f":"N7","v":1111},{"$f":"COUNTIF(L15:L17,AI7)","v":2},{"$f":"AJ7/(AL4-AJ20)","v":0.66666666666666663},{"$f":"IF(AK7=0,0,(AK7*((LOG(AK7))/LOG(2))))","v":-0.38997500048077083},null,{"$f":"N7","v":1111},{"$f":"COUNTIF(L18:L20,AN7)","v":0},{"$f":"AO7/(AQ4-AO20)","v":0},{"$f":"IF(AP7=0,0,(AP7*((LOG(AP7))/LOG(2))))","v":0},null,{"$f":"N7","v":1111},{"$f":"COUNTIF(L21:L23,AS7)","v":2},{"$f":"AT7/(AV4-AT20)","v":1},{"$f":"IF(AU7=0,0,(AU7*((LOG(AU7))/LOG(2))))","v":0}]
[12,200,14,214,24,225,23,230,null,null,0,1122,null,1112,{"$f":"COUNTIF($L$7:$L$500,N8)","v":3},{"$f":"O8/$Q$4","v":0.1875},{"$f":"IF(P8=0,0,(P8*((LOG(P8))/LOG(2))))","v":-0.45281953111478312},null,null,{"$f":"N8","v":1112},{"$f":"COUNTIF(L7:L9,T8)","v":1},{"$f":"U8/(W4-U20)","v":0.33333333333333331},{"$f":"IF(V8=0,0,(V8*((LOG(V8))/LOG(2))))","v":-0.52832083357371862},null,{"$f":"N8","v":1112},{"$f":"COUNTIF(L10:L12,Y8)","v":1},{"$f":"Z8/(AB4-Z20)","v":0.33333333333333331},{"$f":"IF(AA8=0,0,(AA8*((LOG(AA8))/LOG(2))))","v":-0.52832083357371862},null,{"$f":"N8","v":1112},{"$f":"COUNTIF(L13:L14,AD8)","v":0},{"$f":"AE8/(AG4-AE20)","v":0},{"$f":"IF(AF8=0,0,(AF8*((LOG(AF8))/LOG(2))))","v":0},null,{"$f":"N8","v":1112},{"$f":"COUNTIF(L15:L17,AI8)","v":0},{"$f":"AJ8/(AL4-AJ20)","v":0},{"$f":"IF(AK8=0,0,(AK8*((LOG(AK8))/LOG(2))))","v":0},null,{"$f":"N8","v":1112},{"$f":"COUNTIF(L18:L20,AN8)","v":1},{"$f":"AO8/(AQ4-AO20)","v":0.33333333333333331},{"$f":"IF(AP8=0,0,(AP8*((LOG(AP8))/LOG(2))))","v":-0.52832083357371862},null,{"$f":"N8","v":1112},{"$f":"COUNTIF(L21:L23,AS8)","v":0},{"$f":"AT8/(AV4-AT20)","v":0},{"$f":"IF(AU8=0,0,(AU8*((LOG(AU8))/LOG(2))))","v":0}]
[12,330,14,335,13,341,23,363,null,null,0,1112,null,1121,{"$f":"COUNTIF($L$7:$L$500,N9)","v":0},{"$f":"O9/$Q$4","v":0},{"$f":"IF(P9=0,0,(P9*((LOG(P9))/LOG(2))))","v":0},null,null,{"$f":"N9","v":1121},{"$f":"COUNTIF(L7:L9,T9)","v":0},{"$f":"U9/(W4-U20)","v":0},{"$f":"IF(V9=0,0,(V9*((LOG(V9))/LOG(2))))","v":0},null,{"$f":"N9","v":1121},{"$f":"COUNTIF(L10:L12,Y9)","v":0},{"$f":"Z9/(AB4-Z20)","v":0},{"$f":"IF(AA9=0,0,(AA9*((LOG(AA9))/LOG(2))))","v":0},null,{"$f":"N9","v":1121},{"$f":"COUNTIF(L13:L14,AD9)","v":0},{"$f":"AE9/(AG4-AE20)","v":0},{"$f":"IF(AF9=0,0,(AF9*((LOG(AF9))/LOG(2))))","v":0},null,{"$f":"N9","v":1121},{"$f":"COUNTIF(L15:L17,AI9)","v":0},{"$f":"AJ9/(AL4-AJ20)","v":0},{"$f":"IF(AK9=0,0,(AK9*((LOG(AK9))/LOG(2))))","v":0},null,{"$f":"N9","v":1121},{"$f":"COUNTIF(L18:L20,AN9)","v":0},{"$f":"AO9/(AQ4-AO20)","v":0},{"$f":"IF(AP9=0,0,(AP9*((LOG(AP9))/LOG(2))))","v":0},null,{"$f":"N9","v":1121},{"$f":"COUNTIF(L21:L23,AS9)","v":0},{"$f":"AT9/(AV4-AT20)","v":0},{"$f":"IF(AU9=0,0,(AU9*((LOG(AU9))/LOG(2))))","v":0}]
[12,470,14,476,13,482,23,495,null,null,0,1112,null,1122,{"$f":"COUNTIF($L$7:$L$500,N10)","v":3},{"$f":"O10/$Q$4","v":0.1875},{"$f":"IF(P10=0,0,(P10*((LOG(P10))/LOG(2))))","v":-0.45281953111478312},null,null,{"$f":"N10","v":1122},{"$f":"COUNTIF(L7:L9,T10)","v":1},{"$f":"U10/(W4-U20)","v":0.33333333333333331},{"$f":"IF(V10=0,0,(V10*((LOG(V10))/LOG(2))))","v":-0.52832083357371862},null,{"$f":"N10","v":1122},{"$f":"COUNTIF(L10:L12,Y10)","v":0},{"$f":"Z10/(AB4-Z20)","v":0},{"$f":"IF(AA10=0,0,(AA10*((LOG(AA10))/LOG(2))))","v":0},null,{"$f":"N10","v":1122},{"$f":"COUNTIF(L13:L14,AD10)","v":0},{"$f":"AE10/(AG4-AE20)","v":0},{"$f":"IF(AF10=0,0,(AF10*((LOG(AF10))/LOG(2))))","v":0},null,{"$f":"N10","v":1122},{"$f":"COUNTIF(L15:L17,AI10)","v":1},{"$f":"AJ10/(AL4-AJ20)","v":0.33333333333333331},{"$f":"IF(AK10=0,0,(AK10*((LOG(AK10))/LOG(2))))","v":-0.52832083357371862},null,{"$f":"N10","v":1122},{"$f":"COUNTIF(L18:L20,AN10)","v":1},{"$f":"AO10/(AQ4-AO20)","v":0.33333333333333331},{"$f":"IF(AP10=0,0,(AP10*((LOG(AP10))/LOG(2))))","v":-0.52832083357371862},null,{"$f":"N10","v":1122},{"$f":"COUNTIF(L21:L23,AS10)","v":0},{"$f":"AT10/(AV4-AT20)","v":0},{"$f":"IF(AU10=0,0,(AU10*((LOG(AU10))/LOG(2))))","v":0}]
[12,611,14,616,13,628,14,638,null,null,0,1111,null,1211,{"$f":"COUNTIF($L$7:$L$500,N11)","v":0},{"$f":"O11/$Q$4","v":0},{"$f":"IF(P11=0,0,(P11*((LOG(P11))/LOG(2))))","v":0},null,null,{"$f":"N11","v":1211},{"$f":"COUNTIF(L7:L9,T11)","v":0},{"$f":"U11/(W4-U20)","v":0},{"$f":"IF(V11=0,0,(V11*((LOG(V11))/LOG(2))))","v":0},null,{"$f":"N11","v":1211},{"$f":"COUNTIF(L10:L12,Y11)","v":0},{"$f":"Z11/(AB4-Z20)","v":0},{"$f":"IF(AA11=0,0,(AA11*((LOG(AA11))/LOG(2))))","v":0},null,{"$f":"N11","v":1211},{"$f":"COUNTIF(L13:L14,AD11)","v":0},{"$f":"AE11/(AG4-AE20)","v":0},{"$f":"IF(AF11=0,0,(AF11*((LOG(AF11))/LOG(2))))","v":0},null,{"$f":"N11","v":1211},{"$f":"COUNTIF(L15:L17,AI11)","v":0},{"$f":"AJ11/(AL4-AJ20)","v":0},{"$f":"IF(AK11=0,0,(AK11*((LOG(AK11))/LOG(2))))","v":0},null,{"$f":"N11","v":1211},{"$f":"COUNTIF(L18:L20,AN11)","v":0},{"$f":"AO11/(AQ4-AO20)","v":0},{"$f":"IF(AP11=0,0,(AP11*((LOG(AP11))/LOG(2))))","v":0},null,{"$f":"N11","v":1211},{"$f":"COUNTIF(L21:L23,AS11)","v":0},{"$f":"AT11/(AV4-AT20)","v":0},{"$f":"IF(AU11=0,0,(AU11*((LOG(AU11))/LOG(2))))","v":0}]
[12,742,23,755,24,760,23,778,null,null,0,1222,null,1212,{"$f":"COUNTIF($L$7:$L$500,N12)","v":0},{"$f":"O12/$Q$4","v":0},{"$f":"IF(P12=0,0,(P12*((LOG(P12))/LOG(2))))","v":0},null,null,{"$f":"N12","v":1212},{"$f":"COUNTIF(L7:L9,T12)","v":0},{"$f":"U12/(W4-U20)","v":0},{"$f":"IF(V12=0,0,(V12*((LOG(V12))/LOG(2))))","v":0},null,{"$f":"N12","v":1212},{"$f":"COUNTIF(L10:L12,Y12)","v":0},{"$f":"Z12/(AB4-Z20)","v":0},{"$f":"IF(AA12=0,0,(AA12*((LOG(AA12))/LOG(2))))","v":0},null,{"$f":"N12","v":1212},{"$f":"COUNTIF(L13:L14,AD12)","v":0},{"$f":"AE12/(AG4-AE20)","v":0},{"$f":"IF(AF12=0,0,(AF12*((LOG(AF12))/LOG(2))))","v":0},null,{"$f":"N12","v":1212},{"$f":"COUNTIF(L15:L17,AI12)","v":0},{"$f":"AJ12/(AL4-AJ20)","v":0},{"$f":"IF(AK12=0,0,(AK12*((LOG(AK12))/LOG(2))))","v":0},null,{"$f":"N12","v":1212},{"$f":"COUNTIF(L18:L20,AN12)","v":0},{"$f":"AO12/(AQ4-AO20)","v":0},{"$f":"IF(AP12=0,0,(AP12*((LOG(AP12))/LOG(2))))","v":0},null,{"$f":"N12","v":1212},{"$f":"COUNTIF(L21:L23,AS12)","v":0},{"$f":"AT12/(AV4-AT20)","v":0},{"$f":"IF(AU12=0,0,(AU12*((LOG(AU12))/LOG(2))))","v":0}]
[12,886,14,908,13,926,14,933,null,null,0,1111,null,1221,{"$f":"COUNTIF($L$7:$L$500,N13)","v":0},{"$f":"O13/$Q$4","v":0},{"$f":"IF(P13=0,0,(P13*((LOG(P13))/LOG(2))))","v":0},null,null,{"$f":"N13","v":1221},{"$f":"COUNTIF(L7:L9,T13)","v":0},{"$f":"U13/(W4-U20)","v":0},{"$f":"IF(V13=0,0,(V13*((LOG(V13))/LOG(2))))","v":0},null,{"$f":"N13","v":1221},{"$f":"COUNTIF(L10:L12,Y13)","v":0},{"$f":"Z13/(AB4-Z20)","v":0},{"$f":"IF(AA13=0,0,(AA13*((LOG(AA13))/LOG(2))))","v":0},null,{"$f":"N13","v":1221},{"$f":"COUNTIF(L13:L14,AD13)","v":0},{"$f":"AE13/(AG4-AE20)","v":0},{"$f":"IF(AF13=0,0,(AF13*((LOG(AF13))/LOG(2))))","v":0},null,{"$f":"N13","v":1221},{"$f":"COUNTIF(L15:L17,AI13)","v":0},{"$f":"AJ13/(AL4-AJ20)","v":0},{"$f":"IF(AK13=0,0,(AK13*((LOG(AK13))/LOG(2))))","v":0},null,{"$f":"N13","v":1221},{"$f":"COUNTIF(L18:L20,AN13)","v":0},{"$f":"AO13/(AQ4-AO20)","v":0},{"$f":"IF(AP13=0,0,(AP13*((LOG(AP13))/LOG(2))))","v":0},null,{"$f":"N13","v":1221},{"$f":"COUNTIF(L21:L23,AS13)","v":0},{"$f":"AT13/(AV4-AT20)","v":0},{"$f":"IF(AU13=0,0,(AU13*((LOG(AU13))/LOG(2))))","v":0}]
[12,1056,14,1063,13,1072,14,1078,null,null,0,1111,null,1222,{"$f":"COUNTIF($L$7:$L$500,N14)","v":2},{"$f":"O14/$Q$4","v":0.125},{"$f":"IF(P14=0,0,(P14*((LOG(P14))/LOG(2))))","v":-0.375},null,null,{"$f":"N14","v":1222},{"$f":"COUNTIF(L7:L9,T14)","v":0},{"$f":"U14/(W4-U20)","v":0},{"$f":"IF(V14=0,0,(V14*((LOG(V14))/LOG(2))))","v":0},null,{"$f":"N14","v":1222},{"$f":"COUNTIF(L10:L12,Y14)","v":1},{"$f":"Z14/(AB4-Z20)","v":0.33333333333333331},{"$f":"IF(AA14=0,0,(AA14*((LOG(AA14))/LOG(2))))","v":-0.52832083357371862},null,{"$f":"N14","v":1222},{"$f":"COUNTIF(L13:L14,AD14)","v":0},{"$f":"AE14/(AG4-AE20)","v":0},{"$f":"IF(AF14=0,0,(AF14*((LOG(AF14))/LOG(2))))","v":0},null,{"$f":"N14","v":1222},{"$f":"COUNTIF(L15:L17,AI14)","v":0},{"$f":"AJ14/(AL4-AJ20)","v":0},{"$f":"IF(AK14=0,0,(AK14*((LOG(AK14))/LOG(2))))","v":0},null,{"$f":"N14","v":1222},{"$f":"COUNTIF(L18:L20,AN14)","v":1},{"$f":"AO14/(AQ4-AO20)","v":0.33333333333333331},{"$f":"IF(AP14=0,0,(AP14*((LOG(AP14))/LOG(2))))","v":-0.52832083357371862},null,{"$f":"N14","v":1222},{"$f":"COUNTIF(L21:L23,AS14)","v":0},{"$f":"AT14/(AV4-AT20)","v":0},{"$f":"IF(AU14=0,0,(AU14*((LOG(AU14))/LOG(2))))","v":0}]
[12,1196,14,1206,24,1238,23,1243,null,null,0,1122,null,2111,{"$f":"COUNTIF($L$7:$L$500,N15)","v":0},{"$f":"O15/$Q$4","v":0},{"$f":"IF(P15=0,0,(P15*((LOG(P15))/LOG(2))))","v":0},null,null,{"$f":"N15","v":2111},{"$f":"COUNTIF(L7:L9,T15)","v":0},{"$f":"U15/(W4-U20)","v":0},{"$f":"IF(V15=0,0,(V15*((LOG(V15))/LOG(2))))","v":0},null,{"$f":"N15","v":2111},{"$f":"COUNTIF(L10:L12,Y15)","v":0},{"$f":"Z15/(AB4-Z20)","v":0},{"$f":"IF(AA15=0,0,(AA15*((LOG(AA15))/LOG(2))))","v":0},null,{"$f":"N15","v":2111},{"$f":"COUNTIF(L13:L14,AD15)","v":0},{"$f":"AE15/(AG4-AE20)","v":0},{"$f":"IF(AF15=0,0,(AF15*((LOG(AF15))/LOG(2))))","v":0},null,{"$f":"N15","v":2111},{"$f":"COUNTIF(L15:L17,AI15)","v":0},{"$f":"AJ15/(AL4-AJ20)","v":0},{"$f":"IF(AK15=0,0,(AK15*((LOG(AK15))/LOG(2))))","v":0},null,{"$f":"N15","v":2111},{"$f":"COUNTIF(L18:L20,AN15)","v":0},{"$f":"AO15/(AQ4-AO20)","v":0},{"$f":"IF(AP15=0,0,(AP15*((LOG(AP15))/LOG(2))))","v":0},null,{"$f":"N15","v":2111},{"$f":"COUNTIF(L21:L23,AS15)","v":0},{"$f":"AT15/(AV4-AT20)","v":0},{"$f":"IF(AU15=0,0,(AU15*((LOG(AU15))/LOG(2))))","v":0}]
[12,1352,14,1363,13,1370,14,1379,null,null,0,1111,null,2112,{"$f":"COUNTIF($L$7:$L$500,N16)","v":0},{"$f":"O16/$Q$4","v":0},{"$f":"IF(P16=0,0,(P16*((LOG(P16))/LOG(2))))","v":0},null,null,{"$f":"N16","v":2112},{"$f":"COUNTIF(L7:L9,T16)","v":0},{"$f":"U16/(W4-U20)","v":0},{"$f":"IF(V16=0,0,(V16*((LOG(V16))/LOG(2))))","v":0},null,{"$f":"N16","v":2112},{"$f":"COUNTIF(L10:L12,Y16)","v":0},{"$f":"Z16/(AB4-Z20)","v":0},{"$f":"IF(AA16=0,0,(AA16*((LOG(AA16))/LOG(2))))","v":0},null,{"$f":"N16","v":2112},{"$f":"COUNTIF(L13:L14,AD16)","v":0},{"$f":"AE16/(AG4-AE20)","v":0},{"$f":"IF(AF16=0,0,(AF16*((LOG(AF16))/LOG(2))))","v":0},null,{"$f":"N16","v":2112},{"$f":"COUNTIF(L15:L17,AI16)","v":0},{"$f":"AJ16/(AL4-AJ20)","v":0},{"$f":"IF(AK16=0,0,(AK16*((LOG(AK16))/LOG(2))))","v":0},null,{"$f":"N16","v":2112},{"$f":"COUNTIF(L18:L20,AN16)","v":0},{"$f":"AO16/(AQ4-AO20)","v":0},{"$f":"IF(AP16=0,0,(AP16*((LOG(AP16))/LOG(2))))","v":0},null,{"$f":"N16","v":2112},{"$f":"COUNTIF(L21:L23,AS16)","v":0},{"$f":"AT16/(AV4-AT20)","v":0},{"$f":"IF(AU16=0,0,(AU16*((LOG(AU16))/LOG(2))))","v":0}]
[12,1495,14,1501,13,1506,14,1514,null,null,0,1111,null,2121,{"$f":"COUNTIF($L$7:$L$500,N17)","v":0},{"$f":"O17/$Q$4","v":0},{"$f":"IF(P17=0,0,(P17*((LOG(P17))/LOG(2))))","v":0},null,null,{"$f":"N17","v":2121},{"$f":"COUNTIF(L7:L9,T17)","v":0},{"$f":"U17/(W4-U20)","v":0},{"$f":"IF(V17=0,0,(V17*((LOG(V17))/LOG(2))))","v":0},null,{"$f":"N17","v":2121},{"$f":"COUNTIF(L10:L12,Y17)","v":0},{"$f":"Z17/(AB4-Z20)","v":0},{"$f":"IF(AA17=0,0,(AA17*((LOG(AA17))/LOG(2))))","v":0},null,{"$f":"N17","v":2121},{"$f":"COUNTIF(L13:L14,AD17)","v":0},{"$f":"AE17/(AG4-AE20)","v":0},{"$f":"IF(AF17=0,0,(AF17*((LOG(AF17))/LOG(2))))","v":0},null,{"$f":"N17","v":2121},{"$f":"COUNTIF(L15:L17,AI17)","v":0},{"$f":"AJ17/(AL4-AJ20)","v":0},{"$f":"IF(AK17=0,0,(AK17*((LOG(AK17))/LOG(2))))","v":0},null,{"$f":"N17","v":2121},{"$f":"COUNTIF(L18:L20,AN17)","v":0},{"$f":"AO17/(AQ4-AO20)","v":0},{"$f":"IF(AP17=0,0,(AP17*((LOG(AP17))/LOG(2))))","v":0},null,{"$f":"N17","v":2121},{"$f":"COUNTIF(L21:L23,AS17)","v":0},{"$f":"AT17/(AV4-AT20)","v":0},{"$f":"IF(AU17=0,0,(AU17*((LOG(AU17))/LOG(2))))","v":0}]
[12,1636,23,1665,24,1673,23,1680,null,null,0,1222,null,2122,{"$f":"COUNTIF($L$7:$L$500,N18)","v":0},{"$f":"O18/$Q$4","v":0},{"$f":"IF(P18=0,0,(P18*((LOG(P18))/LOG(2))))","v":0},null,null,{"$f":"N18","v":2122},{"$f":"COUNTIF(L7:L9,T18)","v":0},{"$f":"U18/(W4-U20)","v":0},{"$f":"IF(V18=0,0,(V18*((LOG(V18))/LOG(2))))","v":0},null,{"$f":"N18","v":2122},{"$f":"COUNTIF(L10:L12,Y18)","v":0},{"$f":"Z18/(AB4-Z20)","v":0},{"$f":"IF(AA18=0,0,(AA18*((LOG(AA18))/LOG(2))))","v":0},null,{"$f":"N18","v":2122},{"$f":"COUNTIF(L13:L14,AD18)","v":0},{"$f":"AE18/(AG4-AE20)","v":0},{"$f":"IF(AF18=0,0,(AF18*((LOG(AF18))/LOG(2))))","v":0},null,{"$f":"N18","v":2122},{"$f":"COUNTIF(L15:L17,AI18)","v":0},{"$f":"AJ18/(AL4-AJ20)","v":0},{"$f":"IF(AK18=0,0,(AK18*((LOG(AK18))/LOG(2))))","v":0},null,{"$f":"N18","v":2122},{"$f":"COUNTIF(L18:L20,AN18)","v":0},{"$f":"AO18/(AQ4-AO20)","v":0},{"$f":"IF(AP18=0,0,(AP18*((LOG(AP18))/LOG(2))))","v":0},null,{"$f":"N18","v":2122},{"$f":"COUNTIF(L21:L23,AS18)","v":0},{"$f":"AT18/(AV4-AT20)","v":0},{"$f":"IF(AU18=0,0,(AU18*((LOG(AU18))/LOG(2))))","v":0}]
[12,1780,14,1786,24,1804,23,1815,null,null,0,1122,null,2211,{"$f":"COUNTIF($L$7:$L$500,N19)","v":0},{"$f":"O19/$Q$4","v":0},{"$f":"IF(P19=0,0,(P19*((LOG(P19))/LOG(2))))","v":0},null,null,{"$f":"N19","v":2211},{"$f":"COUNTIF(L7:L9,T19)","v":0},{"$f":"U19/(W4-U20)","v":0},{"$f":"IF(V19=0,0,(V19*((LOG(V19))/LOG(2))))","v":0},null,{"$f":"N19","v":2211},{"$f":"COUNTIF(L10:L12,Y19)","v":0},{"$f":"Z19/(AB4-Z20)","v":0},{"$f":"IF(AA19=0,0,(AA19*((LOG(AA19))/LOG(2))))","v":0},null,{"$f":"N19","v":2211},{"$f":"COUNTIF(L13:L14,AD19)","v":0},{"$f":"AE19/(AG4-AE20)","v":0},{"$f":"IF(AF19=0,0,(AF19*((LOG(AF19))/LOG(2))))","v":0},null,{"$f":"N19","v":2211},{"$f":"COUNTIF(L15:L17,AI19)","v":0},{"$f":"AJ19/(AL4-AJ20)","v":0},{"$f":"IF(AK19=0,0,(AK19*((LOG(AK19))/LOG(2))))","v":0},null,{"$f":"N19","v":2211},{"$f":"COUNTIF(L18:L20,AN19)","v":0},{"$f":"AO19/(AQ4-AO20)","v":0},{"$f":"IF(AP19=0,0,(AP19*((LOG(AP19))/LOG(2))))","v":0},null,{"$f":"N19","v":2211},{"$f":"COUNTIF(L21:L23,AS19)","v":0},{"$f":"AT19/(AV4-AT20)","v":0},{"$f":"IF(AU19=0,0,(AU19*((LOG(AU19))/LOG(2))))","v":0}]
[12,1926,14,1974,13,1982,23,2021,null,null,0,1112,null,2212,{"$f":"COUNTIF($L$7:$L$500,N20)","v":0},{"$f":"O20/$Q$4","v":0},{"$f":"IF(P20=0,0,(P20*((LOG(P20))/LOG(2))))","v":0},null,null,{"$f":"N20","v":2212},{"$f":"COUNTIF(L7:L9,T20)","v":0},null,null,null,{"$f":"N20","v":2212},{"$f":"COUNTIF(L10:L12,Y20)","v":0},null,null,null,{"$f":"N20","v":2212},{"$f":"COUNTIF(L13:L14,AD20)","v":0},null,null,null,{"$f":"N20","v":2212},{"$f":"COUNTIF(L15:L17,AI20)","v":0},null,null,null,{"$f":"N20","v":2212},{"$f":"COUNTIF(L18:L20,AN20)","v":0},null,null,null,{"$f":"N20","v":2212},{"$f":"COUNTIF(L21:L23,AS20)","v":0}]
[12,2143,14,2167,13,2173,14,2179,null,null,0,1111,null,2221,{"$f":"COUNTIF($L$7:$L$500,N21)","v":0},{"$f":"O21/$Q$4","v":0},{"$f":"IF(P21=0,0,(P21*((LOG(P21))/LOG(2))))","v":0},null,null,{"$f":"N21","v":2221},{"$f":"COUNTIF(L7:L9,T21)","v":0},{"$f":"U21/(W4-U20)","v":0},{"$f":"IF(V21=0,0,(V21*((LOG(V21))/LOG(2))))","v":0},null,{"$f":"N21","v":2221},{"$f":"COUNTIF(L10:L12,Y21)","v":0},{"$f":"Z21/(AB4-Z20)","v":0},{"$f":"IF(AA21=0,0,(AA21*((LOG(AA21))/LOG(2))))","v":0},null,{"$f":"N21","v":2221},{"$f":"COUNTIF(L13:L14,AD21)","v":0},{"$f":"AE21/(AG4-AE20)","v":0},{"$f":"IF(AF21=0,0,(AF21*((LOG(AF21))/LOG(2))))","v":0},null,{"$f":"N21","v":2221},{"$f":"COUNTIF(L15:L17,AI21)","v":0},{"$f":"AJ21/(AL4-AJ20)","v":0},{"$f":"IF(AK21=0,0,(AK21*((LOG(AK21))/LOG(2))))","v":0},null,{"$f":"N21","v":2221},{"$f":"COUNTIF(L18:L20,AN21)","v":0},{"$f":"AO21/(AQ4-AO20)","v":0},{"$f":"IF(AP21=0,0,(AP21*((LOG(AP21))/LOG(2))))","v":0},null,{"$f":"N21","v":2221},{"$f":"COUNTIF(L21:L23,AS21)","v":0},{"$f":"AT21/(AV4-AT20)","v":0},{"$f":"IF(AU21=0,0,(AU21*((LOG(AU21))/LOG(2))))","v":0}]
[12,2318,14,2330,13,2339,14,2349,null,null,0,1111,null,2222,{"$f":"COUNTIF($L$7:$L$500,N22)","v":1},{"$f":"O22/$Q$4","v":6.25E-2},{"$f":"IF(P22=0,0,(P22*((LOG(P22))/LOG(2))))","v":-0.25},null,null,{"$f":"N22","v":2222},{"$f":"COUNTIF(L7:L9,T22)","v":1},{"$f":"U22/(W4-U20)","v":0.33333333333333331},{"$f":"IF(V22=0,0,(V22*((LOG(V22))/LOG(2))))","v":-0.52832083357371862},null,{"$f":"N22","v":2222},{"$f":"COUNTIF(L10:L12,Y22)","v":0},{"$f":"Z22/(AB4-Z20)","v":0},{"$f":"IF(AA22=0,0,(AA22*((LOG(AA22))/LOG(2))))","v":0},null,{"$f":"N22","v":2222},{"$f":"COUNTIF(L13:L14,AD22)","v":0},{"$f":"AE22/(AG4-AE20)","v":0},{"$f":"IF(AF22=0,0,(AF22*((LOG(AF22))/LOG(2))))","v":0},null,{"$f":"N22","v":2222},{"$f":"COUNTIF(L15:L17,AI22)","v":0},{"$f":"AJ22/(AL4-AJ20)","v":0},{"$f":"IF(AK22=0,0,(AK22*((LOG(AK22))/LOG(2))))","v":0},null,{"$f":"N22","v":2222},{"$f":"COUNTIF(L18:L20,AN22)","v":0},{"$f":"AO22/(AQ4-AO20)","v":0},{"$f":"IF(AP22=0,0,(AP22*((LOG(AP22))/LOG(2))))","v":0},null,{"$f":"N22","v":2222},{"$f":"COUNTIF(L21:L23,AS22)","v":0},{"$f":"AT22/(AV4-AT20)","v":0},{"$f":"IF(AU22=0,0,(AU22*((LOG(AU22))/LOG(2))))","v":0}]
[21,8124,12,8206,null,null,null,null,null,null,null,21,null,null,null,{"$f":"SUM(P7:P22)","v":1},{"$f":"-SUM(Q7:Q22)","v":2.0524212838293643},null,null,null,null,{"$f":"SUM(V7:V22)","v":1},{"$f":"-SUM(W7:W22)","v":1.5849625007211559},null,null,null,{"$f":"SUM(AA7:AA22)","v":1},{"$f":"-SUM(AB7:AB22)","v":1.5849625007211559},null,null,null,{"$f":"SUM(AF7:AF22)","v":1},{"$f":"-SUM(AG7:AG22)","v":0},null,null,null,{"$f":"SUM(AK7:AK22)","v":1},{"$f":"-SUM(AL7:AL22)","v":0.91829583405448945},null,null,null,{"$f":"SUM(AP7:AP22)","v":1},{"$f":"-SUM(AQ7:AQ22)","v":1.5849625007211559},null,null,null,{"$f":"SUM(AU7:AU22)","v":1},{"$f":"-SUM(AV7:AV22)","v":0}]
[null,null,null,null,null,null,null,null,null,null,null,null,null,null,null,"U=",{"$f":"Q23/(LOG(Q4)/LOG(2))","v":0.51310532095734107},null,null,null,null,"U1=",{"$f":"W23/(LOG(W4)/LOG(2))","v":0.99999999999999989},null,null,null,"U2=",{"$f":"AB23/(LOG(AB4)/LOG(2))","v":0.99999999999999989},null,null,null,"U3=",{"$f":"AG23/(LOG(AG4)/LOG(2))","v":0},null,null,null,"U4=",{"$f":"AL23/(LOG(AL4)/LOG(2))","v":0.57938016428569505},null,null,null,"U5=",{"$f":"AQ23/(LOG(AQ4)/LOG(2))","v":0.99999999999999989},null,null,null,"U6=",{"$f":"AV23/(LOG(AV4)/LOG(2))","v":0}]
[]
[]
[null,null,null,null,null,null,null,null,null,null,null,null,null,"Total Target Seq"]
[null,null,null,null,null,null,null,null,null,null,null,null,null,{"$f":"COUNTIF(L7:L23,G3)","v":0},null,3,3,2,3,3,3]
[null,null,null,null,null,null,null,null,null,null,null,null,null,null,null,"% of reinforcement given in 6 equal intervals based on number of trials "]
[null,null,null,null,null,null,null,null,null,null,null,null,null,null,null,"%_1","%_2","%_3","%_4","%_5","%_6"]
[null,null,null,null,null,null,null,null,null,null,null,null,null,null,"target sequence",{"$f":"$G$3","v":2212},{"$f":"$G$3","v":2212},{"$f":"$G$3","v":2212},{"$f":"$G$3","v":2212},{"$f":"$G$3","v":2212},{"$f":"$G$3","v":2212}]
[null,null,null,null,null,null,null,null,null,null,null,null,null,null,"total reinforcement",{"$f":"U20","v":0},{"$f":"Z20","v":0},{"$f":"AE20","v":0},{"$f":"AJ20","v":0},{"$f":"AO20","v":0},{"$f":"AT20","v":0}]
[null,null,null,null,null,null,null,null,null,null,null,null,null,null,"% target"]
[null,null,null,null,null,null,null,null,null,null,null,null,null,null,"CCRF"]
[null,null,null,null,null,null,null,null,null,null,null,null,null,null,"% CCRf"]
[null,null,null,null,null,null,null,null,null,null,null,null,null,null,"average response rate",{"$f":"H9/P28","v":121},{"$f":"(H12-H9)/Q28","v":138.33333333333334},{"$f":"(H14-H12)/R28","v":150},{"$f":"(H17-H14)/S28","v":145.33333333333334},{"$f":"(H20-H17)/T28","v":169},{"$f":"(H23-H20)/U28","v":-673.66666666666663}]

{"sheet":"!M919950.102","index":23,"n_rows":36,"n_cols":48,"rows_kept":36,"cut":false,"hidden":false,"merged":[[4,39,4,42],[5,39,5,40],[4,44,4,47],[5,44,5,45],[4,24,4,27],[5,24,5,25],[4,29,4,32],[5,29,5,30],[4,34,4,37],[5,34,5,35],[1,1,1,2],[5,13,5,14],[26,13,26,14],[27,13,27,14],[4,19,4,22],[5,19,5,20]]}
["Report for:!M919950.102"]
["Date:","<date>"]
["Hen:","<hen>",null,null,null,"Correct Sequence",{"$f":"Start!J2","v":2212},null,null,null,null,null,null,null,null,"Total Sequences in Data",{"$f":"4994-COUNTBLANK(L7:L5000)","v":21},null,null,null,null,"Total Sequences in Block Data",{"$f":"COUNTA(L7:L10)","v":4},null,null,null,"Total Sequences in Block Data",{"$f":"COUNTA(L11:L13)","v":3},null,null,null,"Total Sequences in Block Data",{"$f":"COUNTA(L14:L17)","v":4},null,null,null,"Total Sequences in Block Data",{"$f":"COUNTA(L18:L20)","v":3},null,null,null,"Total Sequences in Block Data",{"$f":"COUNTA(L21:L24)","v":4},null,null,null,"Total Sequences in Block Data",{"$f":"COUNTA(L25:L27)","v":3}]
[null,null,null,null,null,null,null,null,null,null,null,null,null,null,null,"Total Sequences in Summary",{"$f":"SUM(O7:O22)","v":21},null,null,null,null,"Total Sequences in Block Summary",{"$f":"SUM(U7:U22)","v":4},null,null,null,"Total Sequences in Block Summary",{"$f":"SUM(Z7:Z22)","v":3},null,null,null,"Total Sequences in Block Summary",{"$f":"SUM(AE7:AE22)","v":4},null,null,null,"Total Sequences in Block Summary",{"$f":"SUM(AJ7:AJ22)","v":3},null,null,null,"Total Sequences in Block Summary",{"$f":"SUM(AO7:AO22)","v":4},null,null,null,"Total Sequences in Block Summary",{"$f":"SUM(AT7:AT22)","v":3}]
[null,null,null,null,null,null,null,null,null,null,null,null,null,null,null,null,null,null,null,"Block 1",null,null,null,null,"Block 2",null,null,null,null,"Block 3",null,null,null,null,"Block 4",null,null,null,null,"Block 5",null,null,null,null,"Block 6"]
["Sequence\nComponent\n1","Time\n1","Sequence\nComponent\n2","Time\n2","Sequence\nComponent\n3","Time\n3","Sequence\nComponent\n4","Time\n4","Sequence\nComponent\n5","Time\n5","Correct?\n0=No 1=Yes","Sequence",null,"Frequency",null,"Relative Frequency","Variability",null,null,"Frequency",null,"Relative Frequency","Variability",null,"Frequency",null,"Relative Frequency","Variability",null,"Frequency",null,"Relative Frequency","Variability",null,"Frequency",null,"Relative Frequency","Variability",null,"Frequency",null,"Relative Frequency","Variability",null,"Frequency",null,"Relative Frequency","Variability"]
[12,86,14,93,13,103,14,130,null,null,0,1111,null,1111,{"$f":"COUNTIF($L$7:$L$500,N7)","v":13},{"$f":"O7/$Q$4","v":0.61904761904761907},{"$f":"IF(P7=0,0,(P7*((LOG(P7))/LOG(2))))","v":-0.42830524572808026},null,null,{"$f":"N7","v":1111},{"$f":"COUNTIF(L7:L10,T7)","v":4},{"$f":"U7/(W4-U20)","v":1},{"$f":"IF(V7=0,0,(V7*((LOG(V7))/LOG(2))))","v":0},null,{"$f":"N7","v":1111},{"$f":"COUNTIF(L11:L13,Y7)","v":3},{"$f":"Z7/(AB4-Z20)","v":1},{"$f":"IF(AA7=0,0,(AA7*((LOG(AA7))/LOG(2))))","v":0},null,{"$f":"N7","v":1111},{"$f":"COUNTIF(L14:L17,AD7)","v":3},{"$f":"AE7/(AG4-AE20)","v":0.75},{"$f":"IF(AF7=0,0,(AF7*((LOG(AF7))/LOG(2))))","v":-0.31127812445913283},null,{"$f":"N7","v":1111},{"$f":"COUNTIF(L18:L20,AI7)","v":3},{"$f":"AJ7/(AL4-AJ20)","v":1},{"$f":"IF(AK7=0,0,(AK7*((LOG(AK7))/LOG(2))))","v":0},null,{"$f":"N7","v":1111},{"$f":"COUNTIF(L21:L24,AN7)","v":0},{"$f":"AO7/(AQ4-AO20)","v":0},{"$f":"IF(AP7=0,0,(AP7*((LOG(AP7))/LOG(2))))","v":0},null,{"$f":"N7","v":1111},{"$f":"COUNTIF(L25:L27,AS7)","v":0},{"$f":"AT7/(AV4-AT20)","v":0},{"$f":"IF(AU7=0,0,(AU7*((LOG(AU7))/LOG(2))))","v":0}]
[12,231,14,239,13,259,14,267,null,null,0,1111,null,1112,{"$f":"COUNTIF($L$7:$L$500,N8)","v":1},{"$f":"O8/$Q$4","v":4.7619047619047616E-2},{"$f":"IF(P8=0,0,(P8*((LOG(P8))/LOG(2))))","v":-0.20915797251327431},null,null,{"$f":"N8","v":1112},{"$f":"COUNTIF(L7:L10,T8)","v":0},{"$f":"U8/(W4-U20)","v":0},{"$f":"IF(V8=0,0,(V8*((LOG(V8))/LOG(2))))","v":0},null,{"$f":"N8","v":1112},{"$f":"COUNTIF(L11:L13,Y8)","v":0},{"$f":"Z8/(AB4-Z20)","v":0},{"$f":"IF(AA8=0,0,(AA8*((LOG(AA8))/LOG(2))))","v":0},null,{"$f":"N8","v":1112},{"$f":"COUNTIF(L14:L17,AD8)","v":1},{"$f":"AE8/(AG4-AE20)","v":0.25},{"$f":"IF(AF8=0,0,(AF8*((LOG(AF8))/LOG(2))))","v":-0.5},null,{"$f":"N8","v":1112},{"$f":"COUNTIF(L18:L20,AI8)","v":0},{"$f":"AJ8/(AL4-AJ20)","v":0},{"$f":"IF(AK8=0,0,(AK8*((LOG(AK8))/LOG(2))))","v":0},null,{"$f":"N8","v":1112},{"$f":"COUNTIF(L21:L24,AN8)","v":0},{"$f":"AO8/(AQ4-AO20)","v":0},{"$f":"IF(AP8=0,0,(AP8*((LOG(AP8))/LOG(2))))","v":0},null,{"$f":"N8","v":1112},{"$f":"COUNTIF(L25:L27,AS8)","v":0},{"$f":"AT8/(AV4-AT20)","v":0},{"$f":"IF(AU8=0,0,(AU8*((LOG(AU8))/LOG(2))))","v":0}]
[12,397,14,408,13,423,14,430,null,null,0,1111,null,1121,{"$f":"COUNTIF($L$7:$L$500,N9)","v":0},{"$f":"O9/$Q$4","v":0},{"$f":"IF(P9=0,0,(P9*((LOG(P9))/LOG(2))))","v":0},null,null,{"$f":"N9","v":1121},{"$f":"COUNTIF(L7:L10,T9)","v":0},{"$f":"U9/(W4-U20)","v":0},{"$f":"IF(V9=0,0,(V9*((LOG(V9))/LOG(2))))","v":0},null,{"$f":"N9","v":1121},{"$f":"COUNTIF(L11:L13,Y9)","v":0},{"$f":"Z9/(AB4-Z20)","v":0},{"$f":"IF(AA9=0,0,(AA9*((LOG(AA9))/LOG(2))))","v":0},null,{"$f":"N9","v":1121},{"$f":"COUNTIF(L14:L17,AD9)","v":0},{"$f":"AE9/(AG4-AE20)","v":0},{"$f":"IF(AF9=0,0,(AF9*((LOG(AF9))/LOG(2))))","v":0},null,{"$f":"N9","v":1121},{"$f":"COUNTIF(L18:L20,AI9)","v":0},{"$f":"AJ9/(AL4-AJ20)","v":0},{"$f":"IF(AK9=0,0,(AK9*((LOG(AK9))/LOG(2))))","v":0},null,{"$f":"N9","v":1121},{"$f":"COUNTIF(L21:L24,AN9)","v":0},{"$f":"AO9/(AQ4-AO20)","v":0},{"$f":"IF(AP9=0,0,(AP9*((LOG(AP9))/LOG(2))))","v":0},null,{"$f":"N9","v":1121},{"$f":"COUNTIF(L25:L27,AS9)","v":0},{"$f":"AT9/(AV4-AT20)","v":0},{"$f":"IF(AU9=0,0,(AU9*((LOG(AU9))/LOG(2))))","v":0}]
[12,530,14,536,13,540,14,546,null,null,0,1111,null,1122,{"$f":"COUNTIF($L$7:$L$500,N10)","v":0},{"$f":"O10/$Q$4","v":0},{"$f":"IF(P10=0,0,(P10*((LOG(P10))/LOG(2))))","v":0},null,null,{"$f":"N10","v":1122},{"$f":"COUNTIF(L7:L10,T10)","v":0},{"$f":"U10/(W4-U20)","v":0},{"$f":"IF(V10=0,0,(V10*((LOG(V10))/LOG(2))))","v":0},null,{"$f":"N10","v":1122},{"$f":"COUNTIF(L11:L13,Y10)","v":0},{"$f":"Z10/(AB4-Z20)","v":0},{"$f":"IF(AA10=0,0,(AA10*((LOG(AA10))/LOG(2))))","v":0},null,{"$f":"N10","v":1122},{"$f":"COUNTIF(L14:L17,AD10)","v":0},{"$f":"AE10/(AG4-AE20)","v":0},{"$f":"IF(AF10=0,0,(AF10*((LOG(AF10))/LOG(2))))","v":0},null,{"$f":"N10","v":1122},{"$f":"COUNTIF(L18:L20,AI10)","v":0},{"$f":"AJ10/(AL4-AJ20)","v":0},{"$f":"IF(AK10=0,0,(AK10*((LOG(AK10))/LOG(2))))","v":0},null,{"$f":"N10","v":1122},{"$f":"COUNTIF(L21:L24,AN10)","v":0},{"$f":"AO10/(AQ4-AO20)","v":0},{"$f":"IF(AP10=0,0,(AP10*((LOG(AP10))/LOG(2))))","v":0},null,{"$f":"N10","v":1122},{"$f":"COUNTIF(L25:L27,AS10)","v":0},{"$f":"AT10/(AV4-AT20)","v":0},{"$f":"IF(AU10=0,0,(AU10*((LOG(AU10))/LOG(2))))","v":0}]
[12,648,14,654,13,661,14,666,null,null,0,1111,null,1211,{"$f":"COUNTIF($L$7:$L$500,N11)","v":0},{"$f":"O11/$Q$4","v":0},{"$f":"IF(P11=0,0,(P11*((LOG(P11))/LOG(2))))","v":0},null,null,{"$f":"N11","v":1211},{"$f":"COUNTIF(L7:L10,T11)","v":0},{"$f":"U11/(W4-U20)","v":0},{"$f":"IF(V11=0,0,(V11*((LOG(V11))/LOG(2))))","v":0},null,{"$f":"N11","v":1211},{"$f":"COUNTIF(L11:L13,Y11)","v":0},{"$f":"Z11/(AB4-Z20)","v":0},{"$f":"IF(AA11=0,0,(AA11*((LOG(AA11))/LOG(2))))","v":0},null,{"$f":"N11","v":1211},{"$f":"COUNTIF(L14:L17,AD11)","v":0},{"$f":"AE11/(AG4-AE20)","v":0},{"$f":"IF(AF11=0,0,(AF11*((LOG(AF11))/LOG(2))))","v":0},null,{"$f":"N11","v":1211},{"$f":"COUNTIF(L18:L20,AI11)","v":0},{"$f":"AJ11/(AL4-AJ20)","v":0},{"$f":"IF(AK11=0,0,(AK11*((LOG(AK11))/LOG(2))))","v":0},null,{"$f":"N11","v":1211},{"$f":"COUNTIF(L21:L24,AN11)","v":0},{"$f":"AO11/(AQ4-AO20)","v":0},{"$f":"IF(AP11=0,0,(AP11*((LOG(AP11))/LOG(2))))","v":0},null,{"$f":"N11","v":1211},{"$f":"COUNTIF(L25:L27,AS11)","v":0},{"$f":"AT11/(AV4-AT20)","v":0},{"$f":"IF(AU11=0,0,(AU11*((LOG(AU11))/LOG(2))))","v":0}]
[12,775,14,784,13,791,14,797,null,null,0,1111,null,1212,{"$f":"COUNTIF($L$7:$L$500,N12)","v":0},{"$f":"O12/$Q$4","v":0},{"$f":"IF(P12=0,0,(P12*((LOG(P12))/LOG(2))))","v":0},null,null,{"$f":"N12","v":1212},{"$f":"COUNTIF(L7:L10,T12)","v":0},{"$f":"U12/(W4-U20)","v":0},{"$f":"IF(V12=0,0,(V12*((LOG(V12))/LOG(2))))","v":0},null,{"$f":"N12","v":1212},{"$f":"COUNTIF(L11:L13,Y12)","v":0},{"$f":"Z12/(AB4-Z20)","v":0},{"$f":"IF(AA12=0,0,(AA12*((LOG(AA12))/LOG(2))))","v":0},null,{"$f":"N12","v":1212},{"$f":"COUNTIF(L14:L17,AD12)","v":0},{"$f":"AE12/(AG4-AE20)","v":0},{"$f":"IF(AF12=0,0,(AF12*((LOG(AF12))/LOG(2))))","v":0},null,{"$f":"N12","v":1212},{"$f":"COUNTIF(L18:L20,AI12)","v":0},{"$f":"AJ12/(AL4-AJ20)","v":0},{"$f":"IF(AK12=0,0,(AK12*((LOG(AK12))/LOG(2))))","v":0},null,{"$f":"N12","v":1212},{"$f":"COUNTIF(L21:L24,AN12)","v":0},{"$f":"AO12/(AQ4-AO20)","v":0},{"$f":"IF(AP12=0,0,(AP12*((LOG(AP12))/LOG(2))))","v":0},null,{"$f":"N12","v":1212},{"$f":"COUNTIF(L25:L27,AS12)","v":0},{"$f":"AT12/(AV4-AT20)","v":0},{"$f":"IF(AU12=0,0,(AU12*((LOG(AU12))/LOG(2))))","v":0}]
[12,895,14,900,13,906,14,913,null,null,0,1111,null,1221,{"$f":"COUNTIF($L$7:$L$500,N13)","v":0},{"$f":"O13/$Q$4","v":0},{"$f":"IF(P13=0,0,(P13*((LOG(P13))/LOG(2))))","v":0},null,null,{"$f":"N13","v":1221},{"$f":"COUNTIF(L7:L10,T13)","v":0},{"$f":"U13/(W4-U20)","v":0},{"$f":"IF(V13=0,0,(V13*((LOG(V13))/LOG(2))))","v":0},null,{"$f":"N13","v":1221},{"$f":"COUNTIF(L11:L13,Y13)","v":0},{"$f":"Z13/(AB4-Z20)","v":0},{"$f":"IF(AA13=0,0,(AA13*((LOG(AA13))/LOG(2))))","v":0},null,{"$f":"N13","v":1221},{"$f":"COUNTIF(L14:L17,AD13)","v":0},{"$f":"AE13/(AG4-AE20)","v":0},{"$f":"IF(AF13=0,0,(AF13*((LOG(AF13))/LOG(2))))","v":0},null,{"$f":"N13","v":1221},{"$f":"COUNTIF(L18:L20,AI13)","v":0},{"$f":"AJ13/(AL4-AJ20)","v":0},{"$f":"IF(AK13=0,0,(AK13*((LOG(AK13))/LOG(2))))","v":0},null,{"$f":"N13","v":1221},{"$f":"COUNTIF(L21:L24,AN13)","v":0},{"$f":"AO13/(AQ4-AO20)","v":0},{"$f":"IF(AP13=0,0,(AP13*((LOG(AP13))/LOG(2))))","v":0},null,{"$f":"N13","v":1221},{"$f":"COUNTIF(L25:L27,AS13)","v":0},{"$f":"AT13/(AV4-AT20)","v":0},{"$f":"IF(AU13=0,0,(AU13*((LOG(AU13))/LOG(2))))","v":0}]
[12,1008,14,1015,13,1021,14,1028,null,null,0,1111,null,1222,{"$f":"COUNTIF($L$7:$L$500,N14)","v":0},{"$f":"O14/$Q$4","v":0},{"$f":"IF(P14=0,0,(P14*((LOG(P14))/LOG(2))))","v":0},null,null,{"$f":"N14","v":1222},{"$f":"COUNTIF(L7:L10,T14)","v":0},{"$f":"U14/(W4-U20)","v":0},{"$f":"IF(V14=0,0,(V14*((LOG(V14))/LOG(2))))","v":0},null,{"$f":"N14","v":1222},{"$f":"COUNTIF(L11:L13,Y14)","v":0},{"$f":"Z14/(AB4-Z20)","v":0},{"$f":"IF(AA14=0,0,(AA14*((LOG(AA14))/LOG(2))))","v":0},null,{"$f":"N14","v":1222},{"$f":"COUNTIF(L14:L17,AD14)","v":0},{"$f":"AE14/(AG4-AE20)","v":0},{"$f":"IF(AF14=0,0,(AF14*((LOG(AF14))/LOG(2))))","v":0},null,{"$f":"N14","v":1222},{"$f":"COUNTIF(L18:L20,AI14)","v":0},{"$f":"AJ14/(AL4-AJ20)","v":0},{"$f":"IF(AK14=0,0,(AK14*((LOG(AK14))/LOG(2))))","v":0},null,{"$f":"N14","v":1222},{"$f":"COUNTIF(L21:L24,AN14)","v":0},{"$f":"AO14/(AQ4-AO20)","v":0},{"$f":"IF(AP14=0,0,(AP14*((LOG(AP14))/LOG(2))))","v":0},null,{"$f":"N14","v":1222},{"$f":"COUNTIF(L25:L27,AS14)","v":0},{"$f":"AT14/(AV4-AT20)","v":0},{"$f":"IF(AU14=0,0,(AU14*((LOG(AU14))/LOG(2))))","v":0}]
[12,1142,14,1154,13,1166,14,1174,null,null,0,1111,null,2111,{"$f":"COUNTIF($L$7:$L$500,N15)","v":0},{"$f":"O15/$Q$4","v":0},{"$f":"IF(P15=0,0,(P15*((LOG(P15))/LOG(2))))","v":0},null,null,{"$f":"N15","v":2111},{"$f":"COUNTIF(L7:L10,T15)","v":0},{"$f":"U15/(W4-U20)","v":0},{"$f":"IF(V15=0,0,(V15*((LOG(V15))/LOG(2))))","v":0},null,{"$f":"N15","v":2111},{"$f":"COUNTIF(L11:L13,Y15)","v":0},{"$f":"Z15/(AB4-Z20)","v":0},{"$f":"IF(AA15=0,0,(AA15*((LOG(AA15))/LOG(2))))","v":0},null,{"$f":"N15","v":2111},{"$f":"COUNTIF(L14:L17,AD15)","v":0},{"$f":"AE15/(AG4-AE20)","v":0},{"$f":"IF(AF15=0,0,(AF15*((LOG(AF15))/LOG(2))))","v":0},null,{"$f":"N15","v":2111},{"$f":"COUNTIF(L18:L20,AI15)","v":0},{"$f":"AJ15/(AL4-AJ20)","v":0},{"$f":"IF(AK15=0,0,(AK15*((LOG(AK15))/LOG(2))))","v":0},null,{"$f":"N15","v":2111},{"$f":"COUNTIF(L21:L24,AN15)","v":0},{"$f":"AO15/(AQ4-AO20)","v":0},{"$f":"IF(AP15=0,0,(AP15*((LOG(AP15))/LOG(2))))","v":0},null,{"$f":"N15","v":2111},{"$f":"COUNTIF(L25:L27,AS15)","v":0},{"$f":"AT15/(AV4-AT20)","v":0},{"$f":"IF(AU15=0,0,(AU15*((LOG(AU15))/LOG(2))))","v":0}]
[12,1323,14,1329,13,1334,14,1339,null,null,0,1111,null,2112,{"$f":"COUNTIF($L$7:$L$500,N16)","v":0},{"$f":"O16/$Q$4","v":0},{"$f":"IF(P16=0,0,(P16*((LOG(P16))/LOG(2))))","v":0},null,null,{"$f":"N16","v":2112},{"$f":"COUNTIF(L7:L10,T16)","v":0},{"$f":"U16/(W4-U20)","v":0},{"$f":"IF(V16=0,0,(V16*((LOG(V16))/LOG(2))))","v":0},null,{"$f":"N16","v":2112},{"$f":"COUNTIF(L11:L13,Y16)","v":0},{"$f":"Z16/(AB4-Z20)","v":0},{"$f":"IF(AA16=0,0,(AA16*((LOG(AA16))/LOG(2))))","v":0},null,{"$f":"N16","v":2112},{"$f":"COUNTIF(L14:L17,AD16)","v":0},{"$f":"AE16/(AG4-AE20)","v":0},{"$f":"IF(AF16=0,0,(AF16*((LOG(AF16))/LOG(2))))","v":0},null,{"$f":"N16","v":2112},{"$f":"COUNTIF(L18:L20,AI16)","v":0},{"$f":"AJ16/(AL4-AJ20)","v":0},{"$f":"IF(AK16=0,0,(AK16*((LOG(AK16))/LOG(2))))","v":0},null,{"$f":"N16","v":2112},{"$f":"COUNTIF(L21:L24,AN16)","v":0},{"$f":"AO16/(AQ4-AO20)","v":0},{"$f":"IF(AP16=0,0,(AP16*((LOG(AP16))/LOG(2))))","v":0},null,{"$f":"N16","v":2112},{"$f":"COUNTIF(L25:L27,AS16)","v":0},{"$f":"AT16/(AV4-AT20)","v":0},{"$f":"IF(AU16=0,0,(AU16*((LOG(AU16))/LOG(2))))","v":0}]
[12,1598,14,1611,13,1632,23,1651,null,null,0,1112,null,2121,{"$f":"COUNTIF($L$7:$L$500,N17)","v":0},{"$f":"O17/$Q$4","v":0},{"$f":"IF(P17=0,0,(P17*((LOG(P17))/LOG(2))))","v":0},null,null,{"$f":"N17","v":2121},{"$f":"COUNTIF(L7:L10,T17)","v":0},{"$f":"U17/(W4-U20)","v":0},{"$f":"IF(V17=0,0,(V17*((LOG(V17))/LOG(2))))","v":0},null,{"$f":"N17","v":2121},{"$f":"COUNTIF(L11:L13,Y17)","v":0},{"$f":"Z17/(AB4-Z20)","v":0},{"$f":"IF(AA17=0,0,(AA17*((LOG(AA17))/LOG(2))))","v":0},null,{"$f":"N17","v":2121},{"$f":"COUNTIF(L14:L17,AD17)","v":0},{"$f":"AE17/(AG4-AE20)","v":0},{"$f":"IF(AF17=0,0,(AF17*((LOG(AF17))/LOG(2))))","v":0},null,{"$f":"N17","v":2121},{"$f":"COUNTIF(L18:L20,AI17)","v":0},{"$f":"AJ17/(AL4-AJ20)","v":0},{"$f":"IF(AK17=0,0,(AK17*((LOG(AK17))/LOG(2))))","v":0},null,{"$f":"N17","v":2121},{"$f":"COUNTIF(L21:L24,AN17)","v":0},{"$f":"AO17/(AQ4-AO20)","v":0},{"$f":"IF(AP17=0,0,(AP17*((LOG(AP17))/LOG(2))))","v":0},null,{"$f":"N17","v":2121},{"$f":"COUNTIF(L25:L27,AS17)","v":0},{"$f":"AT17/(AV4-AT20)","v":0},{"$f":"IF(AU17=0,0,(AU17*((LOG(AU17))/LOG(2))))","v":0}]
[12,1801,14,1818,13,1844,14,1857,null,null,0,1111,null,2122,{"$f":"COUNTIF($L$7:$L$500,N18)","v":0},{"$f":"O18/$Q$4","v":0},{"$f":"IF(P18=0,0,(P18*((LOG(P18))/LOG(2))))","v":0},null,null,{"$f":"N18","v":2122},{"$f":"COUNTIF(L7:L10,T18)","v":0},{"$f":"U18/(W4-U20)","v":0},{"$f":"IF(V18=0,0,(V18*((LOG(V18))/LOG(2))))","v":0},null,{"$f":"N18","v":2122},{"$f":"COUNTIF(L11:L13,Y18)","v":0},{"$f":"Z18/(AB4-Z20)","v":0},{"$f":"IF(AA18=0,0,(AA18*((LOG(AA18))/LOG(2))))","v":0},null,{"$f":"N18","v":2122},{"$f":"COUNTIF(L14:L17,AD18)","v":0},{"$f":"AE18/(AG4-AE20)","v":0},{"$f":"IF(AF18=0,0,(AF18*((LOG(AF18))/LOG(2))))","v":0},null,{"$f":"N18","v":2122},{"$f":"COUNTIF(L18:L20,AI18)","v":0},{"$f":"AJ18/(AL4-AJ20)","v":0},{"$f":"IF(AK18=0,0,(AK18*((LOG(AK18))/LOG(2))))","v":0},null,{"$f":"N18","v":2122},{"$f":"COUNTIF(L21:L24,AN18)","v":0},{"$f":"AO18/(AQ4-AO20)","v":0},{"$f":"IF(AP18=0,0,(AP18*((LOG(AP18))/LOG(2))))","v":0},null,{"$f":"N18","v":2122},{"$f":"COUNTIF(L25:L27,AS18)","v":0},{"$f":"AT18/(AV4-AT20)","v":0},{"$f":"IF(AU18=0,0,(AU18*((LOG(AU18))/LOG(2))))","v":0}]
[12,10421,14,10466,13,10475,14,10482,null,null,0,1111,null,2211,{"$f":"COUNTIF($L$7:$L$500,N19)","v":0},{"$f":"O19/$Q$4","v":0},{"$f":"IF(P19=0,0,(P19*((LOG(P19))/LOG(2))))","v":0},null,null,{"$f":"N19","v":2211},{"$f":"COUNTIF(L7:L10,T19)","v":0},{"$f":"U19/(W4-U20)","v":0},{"$f":"IF(V19=0,0,(V19*((LOG(V19))/LOG(2))))","v":0},null,{"$f":"N19","v":2211},{"$f":"COUNTIF(L11:L13,Y19)","v":0},{"$f":"Z19/(AB4-Z20)","v":0},{"$f":"IF(AA19=0,0,(AA19*((LOG(AA19))/LOG(2))))","v":0},null,{"$f":"N19","v":2211},{"$f":"COUNTIF(L14:L17,AD19)","v":0},{"$f":"AE19/(AG4-AE20)","v":0},{"$f":"IF(AF19=0,0,(AF19*((LOG(AF19))/LOG(2))))","v":0},null,{"$f":"N19","v":2211},{"$f":"COUNTIF(L18:L20,AI19)","v":0},{"$f":"AJ19/(AL4-AJ20)","v":0},{"$f":"IF(AK19=0,0,(AK19*((LOG(AK19))/LOG(2))))","v":0},null,{"$f":"N19","v":2211},{"$f":"COUNTIF(L21:L24,AN19)","v":0},{"$f":"AO19/(AQ4-AO20)","v":0},{"$f":"IF(AP19=0,0,(AP19*((LOG(AP19))/LOG(2))))","v":0},null,{"$f":"N19","v":2211},{"$f":"COUNTIF(L25:L27,AS19)","v":0},{"$f":"AT19/(AV4-AT20)","v":0},{"$f":"IF(AU19=0,0,(AU19*((LOG(AU19))/LOG(2))))","v":0}]
[12,10595,14,10609,13,10614,14,10623,null,null,0,1111,null,2212,{"$f":"COUNTIF($L$7:$L$500,N20)","v":0},{"$f":"O20/$Q$4","v":0},{"$f":"IF(P20=0,0,(P20*((LOG(P20))/LOG(2))))","v":0},null,null,{"$f":"N20","v":2212},{"$f":"COUNTIF(L7:L10,T20)","v":0},null,null,null,{"$f":"N20","v":2212},{"$f":"COUNTIF(L11:L13,Y20)","v":0},null,null,null,{"$f":"N20","v":2212},{"$f":"COUNTIF(L14:L17,AD20)","v":0},null,null,null,{"$f":"N20","v":2212},{"$f":"COUNTIF(L18:L20,AI20)","v":0},null,null,null,{"$f":"N20","v":2212},{"$f":"COUNTIF(L21:L24,AN20)","v":0},null,null,null,{"$f":"N20","v":2212},{"$f":"COUNTIF(L25:L27,AS20)","v":0}]
[21,10896,21,10907,22,10920,23,10933,null,null,0,2222,null,2221,{"$f":"COUNTIF($L$7:$L$500,N21)","v":0},{"$f":"O21/$Q$4","v":0},{"$f":"IF(P21=0,0,(P21*((LOG(P21))/LOG(2))))","v":0},null,null,{"$f":"N21","v":2221},{"$f":"COUNTIF(L7:L10,T21)","v":0},{"$f":"U21/(W4-U20)","v":0},{"$f":"IF(V21=0,0,(V21*((LOG(V21))/LOG(2))))","v":0},null,{"$f":"N21","v":2221},{"$f":"COUNTIF(L11:L13,Y21)","v":0},{"$f":"Z21/(AB4-Z20)","v":0},{"$f":"IF(AA21=0,0,(AA21*((LOG(AA21))/LOG(2))))","v":0},null,{"$f":"N21","v":2221},{"$f":"COUNTIF(L14:L17,AD21)","v":0},{"$f":"AE21/(AG4-AE20)","v":0},{"$f":"IF(AF21=0,0,(AF21*((LOG(AF21))/LOG(2))))","v":0},null,{"$f":"N21","v":2221},{"$f":"COUNTIF(L18:L20,AI21)","v":0},{"$f":"AJ21/(AL4-AJ20)","v":0},{"$f":"IF(AK21=0,0,(AK21*((LOG(AK21))/LOG(2))))","v":0},null,{"$f":"N21","v":2221},{"$f":"COUNTIF(L21:L24,AN21)","v":0},{"$f":"AO21/(AQ4-AO20)","v":0},{"$f":"IF(AP21=0,0,(AP21*((LOG(AP21))/LOG(2))))","v":0},null,{"$f":"N21","v":2221},{"$f":"COUNTIF(L25:L27,AS21)","v":0},{"$f":"AT21/(AV4-AT20)","v":0},{"$f":"IF(AU21=0,0,(AU21*((LOG(AU21))/LOG(2))))","v":0}]
[21,13945,21,13957,22,13966,23,13973,null,null,0,2222,null,2222,{"$f":"COUNTIF($L$7:$L$500,N22)","v":7},{"$f":"O22/$Q$4","v":0.33333333333333331},{"$f":"IF(P22=0,0,(P22*((LOG(P22))/LOG(2))))","v":-0.52832083357371862},null,null,{"$f":"N22","v":2222},{"$f":"COUNTIF(L7:L10,T22)","v":0},{"$f":"U22/(W4-U20)","v":0},{"$f":"IF(V22=0,0,(V22*((LOG(V22))/LOG(2))))","v":0},null,{"$f":"N22","v":2222},{"$f":"COUNTIF(L11:L13,Y22)","v":0},{"$f":"Z22/(AB4-Z20)","v":0},{"$f":"IF(AA22=0,0,(AA22*((LOG(AA22))/LOG(2))))","v":0},null,{"$f":"N22","v":2222},{"$f":"COUNTIF(L14:L17,AD22)","v":0},{"$f":"AE22/(AG4-AE20)","v":0},{"$f":"IF(AF22=0,0,(AF22*((LOG(AF22))/LOG(2))))","v":0},null,{"$f":"N22","v":2222},{"$f":"COUNTIF(L18:L20,AI22)","v":0},{"$f":"AJ22/(AL4-AJ20)","v":0},{"$f":"IF(AK22=0,0,(AK22*((LOG(AK22))/LOG(2))))","v":0},null,{"$f":"N22","v":2222},{"$f":"COUNTIF(L21:L24,AN22)","v":4},{"$f":"AO22/(AQ4-AO20)","v":1},{"$f":"IF(AP22=0,0,(AP22*((LOG(AP22))/LOG(2))))","v":0},null,{"$f":"N22","v":2222},{"$f":"COUNTIF(L25:L27,AS22)","v":3},{"$f":"AT22/(AV4-AT20)","v":1},{"$f":"IF(AU22=0,0,(AU22*((LOG(AU22))/LOG(2))))","v":0}]
[21,15887,21,15892,22,15902,23,15908,null,null,0,2222,null,null,null,{"$f":"SUM(P7:P22)","v":1},{"$f":"-SUM(Q7:Q22)","v":1.1657840518150731},null,null,null,null,{"$f":"SUM(V7:V22)","v":1},{"$f":"-SUM(W7:W22)","v":0},null,null,null,{"$f":"SUM(AA7:AA22)","v":1},{"$f":"-SUM(AB7:AB22)","v":0},null,null,null,{"$f":"SUM(AF7:AF22)","v":1},{"$f":"-SUM(AG7:AG22)","v":0.81127812445913283},null,null,null,{"$f":"SUM(AK7:AK22)","v":1},{"$f":"-SUM(AL7:AL22)","v":0},null,null,null,{"$f":"SUM(AP7:AP22)","v":1},{"$f":"-SUM(AQ7:AQ22)","v":0},null,null,null,{"$f":"SUM(AU7:AU22)","v":1},{"$f":"-SUM(AV7:AV22)","v":0}]
[21,16038,21,16046,22,16052,23,16065,null,null,0,2222,null,null,null,"U=",{"$f":"Q23/(LOG(Q4)/LOG(2))","v":0.26541434500367922},null,null,null,null,"U1=",{"$f":"W23/(LOG(W4)/LOG(2))","v":0},null,null,null,"U2=",{"$f":"AB23/(LOG(AB4)/LOG(2))","v":0},null,null,null,"U3=",{"$f":"AG23/(LOG(AG4)/LOG(2))","v":0.40563906222956642},null,null,null,"U4=",{"$f":"AL23/(LOG(AL4)/LOG(2))","v":0},null,null,null,"U5=",{"$f":"AQ23/(LOG(AQ4)/LOG(2))","v":0},null,null,null,"U6=",{"$f":"AV23/(LOG(AV4)/LOG(2))","v":0}]
[21,16176,21,16183,22,16188,23,16193,null,null,0,2222]
[21,18882,21,18888,22,18896,23,18901,null,null,0,2222]
[21,19015,21,19021,22,19026,23,19032,null,null,0,2222,null,"Total Target Seq"]
[null,null,null,null,null,null,null,null,null,null,null,null,null,{"$f":"COUNTIF(L7:L27,G3)","v":0},null,4,3,4,3,4,3]
[null,null,null,null,null,null,null,null,null,null,null,null,null,null,null,"% of reinforcement given in 6 equal intervals based on number of trials "]
[null,null,null,null,null,null,null,null,null,null,null,null,null,null,null,"%_1","%_2","%_3","%_4","%_5","%_6"]
[null,null,null,null,null,null,null,null,null,null,null,null,null,null,"target sequence",{"$f":"$G$3","v":2212},{"$f":"$G$3","v":2212},{"$f":"$G$3","v":2212},{"$f":"$G$3","v":2212},{"$f":"$G$3","v":2212},{"$f":"$G$3","v":2212}]
[null,null,null,null,null,null,null,null,null,null,null,null,null,null,"total reinforcement",{"$f":"U20","v":0},{"$f":"Z20","v":0},{"$f":"AE20","v":0},{"$f":"AJ20","v":0},{"$f":"AO20","v":0},{"$f":"AT20","v":0}]
[null,null,null,null,null,null,null,null,null,null,null,null,null,null,"% target"]
[null,null,null,null,null,null,null,null,null,null,null,null,null,null,"CCRF"]
[null,null,null,null,null,null,null,null,null,null,null,null,null,null,"% CCRf"]
[null,null,null,null,null,null,null,null,null,null,null,null,null,null,"average response rate",{"$f":"H10/P28","v":136.5},{"$f":"(H13-H10)/Q28","v":122.33333333333333},{"$f":"(H17-H13)/R28","v":184.5},{"$f":"(H20-H17)/S28","v":2990.6666666666665},{"$f":"(H24-H20)/T28","v":1360.5},{"$f":"(H27-H24)/U28","v":989}]

{"sheet":"!M920A00.102","index":24,"n_rows":36,"n_cols":48,"rows_kept":36,"cut":false,"hidden":false,"merged":[[4,39,4,42],[5,39,5,40],[4,44,4,47],[5,44,5,45],[4,24,4,27],[5,24,5,25],[4,29,4,32],[5,29,5,30],[4,34,4,37],[5,34,5,35],[1,1,1,2],[5,13,5,14],[26,13,26,14],[27,13,27,14],[4,19,4,22],[5,19,5,20]]}
["Report for:!M920A00.102"]
["Date:","<date>"]
["Hen:","<hen>",null,null,null,"Correct Sequence",{"$f":"Start!J2","v":2212},null,null,null,null,null,null,null,null,"Total Sequences in Data",{"$f":"4994-COUNTBLANK(L7:L5000)","v":17},null,null,null,null,"Total Sequences in Block Data",{"$f":"COUNTA(L7:L9)","v":3},null,null,null,"Total Sequences in Block Data",{"$f":"COUNTA(L10:L12)","v":3},null,null,null,"Total Sequences in Block Data",{"$f":"COUNTA(L13:L14)","v":2},null,null,null,"Total Sequences in Block Data",{"$f":"COUNTA(L15:L17)","v":3},null,null,null,"Total Sequences in Block Data",{"$f":"COUNTA(L18:L20)","v":3},null,null,null,"Total Sequences in Block Data",{"$f":"COUNTA(L21:L23)","v":3}]
[null,null,null,null,null,null,null,null,null,null,null,null,null,null,null,"Total Sequences in Summary",{"$f":"SUM(O7:O22)","v":17},null,null,null,null,"Total Sequences in Block Summary",{"$f":"SUM(U7:U22)","v":3},null,null,null,"Total Sequences in Block Summary",{"$f":"SUM(Z7:Z22)","v":3},null,null,null,"Total Sequences in Block Summary",{"$f":"SUM(AE7:AE22)","v":2},null,null,null,"Total Sequences in Block Summary",{"$f":"SUM(AJ7:AJ22)","v":3},null,null,null,"Total Sequences in Block Summary",{"$f":"SUM(AO7:AO22)","v":3},null,null,null,"Total Sequences in Block Summary",{"$f":"SUM(AT7:AT22)","v":3}]
[null,null,null,null,null,null,null,null,null,null,null,null,null,null,null,null,null,null,null,"Block 1",null,null,null,null,"Block 2",null,null,null,null,"Block 3",null,null,null,null,"Block 4",null,null,null,null,"Block 5",null,null,null,null,"Block 6"]
["Sequence\nComponent\n1","Time\n1","Sequence\nComponent\n2","Time\n2","Sequence\nComponent\n3","Time\n3","Sequence\nComponent\n4","Time\n4","Sequence\nComponent\n5","Time\n5","Correct?\n0=No 1=Yes","Sequence",null,"Frequency",null,"Relative Frequency","Variability",null,null,"Frequency",null,"Relative Frequency","Variability",null,"Frequency",null,"Relative Frequency","Variability",null,"Frequency",null,"Relative Frequency","Variability",null,"Frequency",null,"Relative Frequency","Variability",null,"Frequency",null,"Relative Frequency","Variability",null,"Frequency",null,"Relative Frequency","Variability"]
[12,50,14,64,13,73,14,84,null,null,0,1111,null,1111,{"$f":"COUNTIF($L$7:$L$500,N7)","v":13},{"$f":"O7/$Q$4","v":0.76470588235294112},{"$f":"IF(P7=0,0,(P7*((LOG(P7))/LOG(2))))","v":-0.29595885884824796},null,null,{"$f":"N7","v":1111},{"$f":"COUNTIF(L7:L9,T7)","v":3},{"$f":"U7/(W4-U20)","v":1},{"$f":"IF(V7=0,0,(V7*((LOG(V7))/LOG(2))))","v":0},null,{"$f":"N7","v":1111},{"$f":"COUNTIF(L10:L12,Y7)","v":3},{"$f":"Z7/(AB4-Z20)","v":1},{"$f":"IF(AA7=0,0,(AA7*((LOG(AA7))/LOG(2))))","v":0},null,{"$f":"N7","v":1111},{"$f":"COUNTIF(L13:L14,AD7)","v":2},{"$f":"AE7/(AG4-AE20)","v":1},{"$f":"IF(AF7=0,0,(AF7*((LOG(AF7))/LOG(2))))","v":0},null,{"$f":"N7","v":1111},{"$f":"COUNTIF(L15:L17,AI7)","v":3},{"$f":"AJ7/(AL4-AJ20)","v":1},{"$f":"IF(AK7=0,0,(AK7*((LOG(AK7))/LOG(2))))","v":0},null,{"$f":"N7","v":1111},{"$f":"COUNTIF(L18:L20,AN7)","v":2},{"$f":"AO7/(AQ4-AO20)","v":0.66666666666666663},{"$f":"IF(AP7=0,0,(AP7*((LOG(AP7))/LOG(2))))","v":-0.38997500048077083},null,{"$f":"N7","v":1111},{"$f":"COUNTIF(L21:L23,AS7)","v":0},{"$f":"AT7/(AV4-AT20)","v":0},{"$f":"IF(AU7=0,0,(AU7*((LOG(AU7))/LOG(2))))","v":0}]
[12,430,14,441,13,451,14,461,null,null,0,1111,null,1112,{"$f":"COUNTIF($L$7:$L$500,N8)","v":0},{"$f":"O8/$Q$4","v":0},{"$f":"IF(P8=0,0,(P8*((LOG(P8))/LOG(2))))","v":0},null,null,{"$f":"N8","v":1112},{"$f":"COUNTIF(L7:L9,T8)","v":0},{"$f":"U8/(W4-U20)","v":0},{"$f":"IF(V8=0,0,(V8*((LOG(V8))/LOG(2))))","v":0},null,{"$f":"N8","v":1112},{"$f":"COUNTIF(L10:L12,Y8)","v":0},{"$f":"Z8/(AB4-Z20)","v":0},{"$f":"IF(AA8=0,0,(AA8*((LOG(AA8))/LOG(2))))","v":0},null,{"$f":"N8","v":1112},{"$f":"COUNTIF(L13:L14,AD8)","v":0},{"$f":"AE8/(AG4-AE20)","v":0},{"$f":"IF(AF8=0,0,(AF8*((LOG(AF8))/LOG(2))))","v":0},null,{"$f":"N8","v":1112},{"$f":"COUNTIF(L15:L17,AI8)","v":0},{"$f":"AJ8/(AL4-AJ20)","v":0},{"$f":"IF(AK8=0,0,(AK8*((LOG(AK8))/LOG(2))))","v":0},null,{"$f":"N8","v":1112},{"$f":"COUNTIF(L18:L20,AN8)","v":0},{"$f":"AO8/(AQ4-AO20)","v":0},{"$f":"IF(AP8=0,0,(AP8*((LOG(AP8))/LOG(2))))","v":0},null,{"$f":"N8","v":1112},{"$f":"COUNTIF(L21:L23,AS8)","v":0},{"$f":"AT8/(AV4-AT20)","v":0},{"$f":"IF(AU8=0,0,(AU8*((LOG(AU8))/LOG(2))))","v":0}]
[12,603,14,614,13,624,14,637,null,null,0,1111,null,1121,{"$f":"COUNTIF($L$7:$L$500,N9)","v":0},{"$f":"O9/$Q$4","v":0},{"$f":"IF(P9=0,0,(P9*((LOG(P9))/LOG(2))))","v":0},null,null,{"$f":"N9","v":1121},{"$f":"COUNTIF(L7:L9,T9)","v":0},{"$f":"U9/(W4-U20)","v":0},{"$f":"IF(V9=0,0,(V9*((LOG(V9))/LOG(2))))","v":0},null,{"$f":"N9","v":1121},{"$f":"COUNTIF(L10:L12,Y9)","v":0},{"$f":"Z9/(AB4-Z20)","v":0},{"$f":"IF(AA9=0,0,(AA9*((LOG(AA9))/LOG(2))))","v":0},null,{"$f":"N9","v":1121},{"$f":"COUNTIF(L13:L14,AD9)","v":0},{"$f":"AE9/(AG4-AE20)","v":0},{"$f":"IF(AF9=0,0,(AF9*((LOG(AF9))/LOG(2))))","v":0},null,{"$f":"N9","v":1121},{"$f":"COUNTIF(L15:L17,AI9)","v":0},{"$f":"AJ9/(AL4-AJ20)","v":0},{"$f":"IF(AK9=0,0,(AK9*((LOG(AK9))/LOG(2))))","v":0},null,{"$f":"N9","v":1121},{"$f":"COUNTIF(L18:L20,AN9)","v":0},{"$f":"AO9/(AQ4-AO20)","v":0},{"$f":"IF(AP9=0,0,(AP9*((LOG(AP9))/LOG(2))))","v":0},null,{"$f":"N9","v":1121},{"$f":"COUNTIF(L21:L23,AS9)","v":0},{"$f":"AT9/(AV4-AT20)","v":0},{"$f":"IF(AU9=0,0,(AU9*((LOG(AU9))/LOG(2))))","v":0}]
[12,737,14,742,13,752,14,761,null,null,0,1111,null,1122,{"$f":"COUNTIF($L$7:$L$500,N10)","v":0},{"$f":"O10/$Q$4","v":0},{"$f":"IF(P10=0,0,(P10*((LOG(P10))/LOG(2))))","v":0},null,null,{"$f":"N10","v":1122},{"$f":"COUNTIF(L7:L9,T10)","v":0},{"$f":"U10/(W4-U20)","v":0},{"$f":"IF(V10=0,0,(V10*((LOG(V10))/LOG(2))))","v":0},null,{"$f":"N10","v":1122},{"$f":"COUNTIF(L10:L12,Y10)","v":0},{"$f":"Z10/(AB4-Z20)","v":0},{"$f":"IF(AA10=0,0,(AA10*((LOG(AA10))/LOG(2))))","v":0},null,{"$f":"N10","v":1122},{"$f":"COUNTIF(L13:L14,AD10)","v":0},{"$f":"AE10/(AG4-AE20)","v":0},{"$f":"IF(AF10=0,0,(AF10*((LOG(AF10))/LOG(2))))","v":0},null,{"$f":"N10","v":1122},{"$f":"COUNTIF(L15:L17,AI10)","v":0},{"$f":"AJ10/(AL4-AJ20)","v":0},{"$f":"IF(AK10=0,0,(AK10*((LOG(AK10))/LOG(2))))","v":0},null,{"$f":"N10","v":1122},{"$f":"COUNTIF(L18:L20,AN10)","v":0},{"$f":"AO10/(AQ4-AO20)","v":0},{"$f":"IF(AP10=0,0,(AP10*((LOG(AP10))/LOG(2))))","v":0},null,{"$f":"N10","v":1122},{"$f":"COUNTIF(L21:L23,AS10)","v":0},{"$f":"AT10/(AV4-AT20)","v":0},{"$f":"IF(AU10=0,0,(AU10*((LOG(AU10))/LOG(2))))","v":0}]
[12,886,14,892,13,900,14,908,null,null,0,1111,null,1211,{"$f":"COUNTIF($L$7:$L$500,N11)","v":0},{"$f":"O11/$Q$4","v":0},{"$f":"IF(P11=0,0,(P11*((LOG(P11))/LOG(2))))","v":0},null,null,{"$f":"N11","v":1211},{"$f":"COUNTIF(L7:L9,T11)","v":0},{"$f":"U11/(W4-U20)","v":0},{"$f":"IF(V11=0,0,(V11*((LOG(V11))/LOG(2))))","v":0},null,{"$f":"N11","v":1211},{"$f":"COUNTIF(L10:L12,Y11)","v":0},{"$f":"Z11/(AB4-Z20)","v":0},{"$f":"IF(AA11=0,0,(AA11*((LOG(AA11))/LOG(2))))","v":0},null,{"$f":"N11","v":1211},{"$f":"COUNTIF(L13:L14,AD11)","v":0},{"$f":"AE11/(AG4-AE20)","v":0},{"$f":"IF(AF11=0,0,(AF11*((LOG(AF11))/LOG(2))))","v":0},null,{"$f":"N11","v":1211},{"$f":"COUNTIF(L15:L17,AI11)","v":0},{"$f":"AJ11/(AL4-AJ20)","v":0},{"$f":"IF(AK11=0,0,(AK11*((LOG(AK11))/LOG(2))))","v":0},null,{"$f":"N11","v":1211},{"$f":"COUNTIF(L18:L20,AN11)","v":0},{"$f":"AO11/(AQ4-AO20)","v":0},{"$f":"IF(AP11=0,0,(AP11*((LOG(AP11))/LOG(2))))","v":0},null,{"$f":"N11","v":1211},{"$f":"COUNTIF(L21:L23,AS11)","v":0},{"$f":"AT11/(AV4-AT20)","v":0},{"$f":"IF(AU11=0,0,(AU11*((LOG(AU11))/LOG(2))))","v":0}]
[12,1080,14,1090,13,1100,14,1105,null,null,0,1111,null,1212,{"$f":"COUNTIF($L$7:$L$500,N12)","v":0},{"$f":"O12/$Q$4","v":0},{"$f":"IF(P12=0,0,(P12*((LOG(P12))/LOG(2))))","v":0},null,null,{"$f":"N12","v":1212},{"$f":"COUNTIF(L7:L9,T12)","v":0},{"$f":"U12/(W4-U20)","v":0},{"$f":"IF(V12=0,0,(V12*((LOG(V12))/LOG(2))))","v":0},null,{"$f":"N12","v":1212},{"$f":"COUNTIF(L10:L12,Y12)","v":0},{"$f":"Z12/(AB4-Z20)","v":0},{"$f":"IF(AA12=0,0,(AA12*((LOG(AA12))/LOG(2))))","v":0},null,{"$f":"N12","v":1212},{"$f":"COUNTIF(L13:L14,AD12)","v":0},{"$f":"AE12/(AG4-AE20)","v":0},{"$f":"IF(AF12=0,0,(AF12*((LOG(AF12))/LOG(2))))","v":0},null,{"$f":"N12","v":1212},{"$f":"COUNTIF(L15:L17,AI12)","v":0},{"$f":"AJ12/(AL4-AJ20)","v":0},{"$f":"IF(AK12=0,0,(AK12*((LOG(AK12))/LOG(2))))","v":0},null,{"$f":"N12","v":1212},{"$f":"COUNTIF(L18:L20,AN12)","v":0},{"$f":"AO12/(AQ4-AO20)","v":0},{"$f":"IF(AP12=0,0,(AP12*((LOG(AP12))/LOG(2))))","v":0},null,{"$f":"N12","v":1212},{"$f":"COUNTIF(L21:L23,AS12)","v":0},{"$f":"AT12/(AV4-AT20)","v":0},{"$f":"IF(AU12=0,0,(AU12*((LOG(AU12))/LOG(2))))","v":0}]
[12,1209,14,1216,13,1236,14,1275,null,null,0,1111,null,1221,{"$f":"COUNTIF($L$7:$L$500,N13)","v":0},{"$f":"O13/$Q$4","v":0},{"$f":"IF(P13=0,0,(P13*((LOG(P13))/LOG(2))))","v":0},null,null,{"$f":"N13","v":1221},{"$f":"COUNTIF(L7:L9,T13)","v":0},{"$f":"U13/(W4-U20)","v":0},{"$f":"IF(V13=0,0,(V13*((LOG(V13))/LOG(2))))","v":0},null,{"$f":"N13","v":1221},{"$f":"COUNTIF(L10:L12,Y13)","v":0},{"$f":"Z13/(AB4-Z20)","v":0},{"$f":"IF(AA13=0,0,(AA13*((LOG(AA13))/LOG(2))))","v":0},null,{"$f":"N13","v":1221},{"$f":"COUNTIF(L13:L14,AD13)","v":0},{"$f":"AE13/(AG4-AE20)","v":0},{"$f":"IF(AF13=0,0,(AF13*((LOG(AF13))/LOG(2))))","v":0},null,{"$f":"N13","v":1221},{"$f":"COUNTIF(L15:L17,AI13)","v":0},{"$f":"AJ13/(AL4-AJ20)","v":0},{"$f":"IF(AK13=0,0,(AK13*((LOG(AK13))/LOG(2))))","v":0},null,{"$f":"N13","v":1221},{"$f":"COUNTIF(L18:L20,AN13)","v":0},{"$f":"AO13/(AQ4-AO20)","v":0},{"$f":"IF(AP13=0,0,(AP13*((LOG(AP13))/LOG(2))))","v":0},null,{"$f":"N13","v":1221},{"$f":"COUNTIF(L21:L23,AS13)","v":0},{"$f":"AT13/(AV4-AT20)","v":0},{"$f":"IF(AU13=0,0,(AU13*((LOG(AU13))/LOG(2))))","v":0}]
[12,1376,14,1385,13,1392,14,1397,null,null,0,1111,null,1222,{"$f":"COUNTIF($L$7:$L$500,N14)","v":0},{"$f":"O14/$Q$4","v":0},{"$f":"IF(P14=0,0,(P14*((LOG(P14))/LOG(2))))","v":0},null,null,{"$f":"N14","v":1222},{"$f":"COUNTIF(L7:L9,T14)","v":0},{"$f":"U14/(W4-U20)","v":0},{"$f":"IF(V14=0,0,(V14*((LOG(V14))/LOG(2))))","v":0},null,{"$f":"N14","v":1222},{"$f":"COUNTIF(L10:L12,Y14)","v":0},{"$f":"Z14/(AB4-Z20)","v":0},{"$f":"IF(AA14=0,0,(AA14*((LOG(AA14))/LOG(2))))","v":0},null,{"$f":"N14","v":1222},{"$f":"COUNTIF(L13:L14,AD14)","v":0},{"$f":"AE14/(AG4-AE20)","v":0},{"$f":"IF(AF14=0,0,(AF14*((LOG(AF14))/LOG(2))))","v":0},null,{"$f":"N14","v":1222},{"$f":"COUNTIF(L15:L17,AI14)","v":0},{"$f":"AJ14/(AL4-AJ20)","v":0},{"$f":"IF(AK14=0,0,(AK14*((LOG(AK14))/LOG(2))))","v":0},null,{"$f":"N14","v":1222},{"$f":"COUNTIF(L18:L20,AN14)","v":0},{"$f":"AO14/(AQ4-AO20)","v":0},{"$f":"IF(AP14=0,0,(AP14*((LOG(AP14))/LOG(2))))","v":0},null,{"$f":"N14","v":1222},{"$f":"COUNTIF(L21:L23,AS14)","v":0},{"$f":"AT14/(AV4-AT20)","v":0},{"$f":"IF(AU14=0,0,(AU14*((LOG(AU14))/LOG(2))))","v":0}]
[12,1521,14,1527,13,1532,14,1538,null,null,0,1111,null,2111,{"$f":"COUNTIF($L$7:$L$500,N15)","v":0},{"$f":"O15/$Q$4","v":0},{"$f":"IF(P15=0,0,(P15*((LOG(P15))/LOG(2))))","v":0},null,null,{"$f":"N15","v":2111},{"$f":"COUNTIF(L7:L9,T15)","v":0},{"$f":"U15/(W4-U20)","v":0},{"$f":"IF(V15=0,0,(V15*((LOG(V15))/LOG(2))))","v":0},null,{"$f":"N15","v":2111},{"$f":"COUNTIF(L10:L12,Y15)","v":0},{"$f":"Z15/(AB4-Z20)","v":0},{"$f":"IF(AA15=0,0,(AA15*((LOG(AA15))/LOG(2))))","v":0},null,{"$f":"N15","v":2111},{"$f":"COUNTIF(L13:L14,AD15)","v":0},{"$f":"AE15/(AG4-AE20)","v":0},{"$f":"IF(AF15=0,0,(AF15*((LOG(AF15))/LOG(2))))","v":0},null,{"$f":"N15","v":2111},{"$f":"COUNTIF(L15:L17,AI15)","v":0},{"$f":"AJ15/(AL4-AJ20)","v":0},{"$f":"IF(AK15=0,0,(AK15*((LOG(AK15))/LOG(2))))","v":0},null,{"$f":"N15","v":2111},{"$f":"COUNTIF(L18:L20,AN15)","v":0},{"$f":"AO15/(AQ4-AO20)","v":0},{"$f":"IF(AP15=0,0,(AP15*((LOG(AP15))/LOG(2))))","v":0},null,{"$f":"N15","v":2111},{"$f":"COUNTIF(L21:L23,AS15)","v":0},{"$f":"AT15/(AV4-AT20)","v":0},{"$f":"IF(AU15=0,0,(AU15*((LOG(AU15))/LOG(2))))","v":0}]
[12,1640,14,1650,13,1659,14,1667,null,null,0,1111,null,2112,{"$f":"COUNTIF($L$7:$L$500,N16)","v":0},{"$f":"O16/$Q$4","v":0},{"$f":"IF(P16=0,0,(P16*((LOG(P16))/LOG(2))))","v":0},null,null,{"$f":"N16","v":2112},{"$f":"COUNTIF(L7:L9,T16)","v":0},{"$f":"U16/(W4-U20)","v":0},{"$f":"IF(V16=0,0,(V16*((LOG(V16))/LOG(2))))","v":0},null,{"$f":"N16","v":2112},{"$f":"COUNTIF(L10:L12,Y16)","v":0},{"$f":"Z16/(AB4-Z20)","v":0},{"$f":"IF(AA16=0,0,(AA16*((LOG(AA16))/LOG(2))))","v":0},null,{"$f":"N16","v":2112},{"$f":"COUNTIF(L13:L14,AD16)","v":0},{"$f":"AE16/(AG4-AE20)","v":0},{"$f":"IF(AF16=0,0,(AF16*((LOG(AF16))/LOG(2))))","v":0},null,{"$f":"N16","v":2112},{"$f":"COUNTIF(L15:L17,AI16)","v":0},{"$f":"AJ16/(AL4-AJ20)","v":0},{"$f":"IF(AK16=0,0,(AK16*((LOG(AK16))/LOG(2))))","v":0},null,{"$f":"N16","v":2112},{"$f":"COUNTIF(L18:L20,AN16)","v":0},{"$f":"AO16/(AQ4-AO20)","v":0},{"$f":"IF(AP16=0,0,(AP16*((LOG(AP16))/LOG(2))))","v":0},null,{"$f":"N16","v":2112},{"$f":"COUNTIF(L21:L23,AS16)","v":0},{"$f":"AT16/(AV4-AT20)","v":0},{"$f":"IF(AU16=0,0,(AU16*((LOG(AU16))/LOG(2))))","v":0}]
[12,1768,14,1775,13,1781,14,1799,null,null,0,1111,null,2121,{"$f":"COUNTIF($L$7:$L$500,N17)","v":0},{"$f":"O17/$Q$4","v":0},{"$f":"IF(P17=0,0,(P17*((LOG(P17))/LOG(2))))","v":0},null,null,{"$f":"N17","v":2121},{"$f":"COUNTIF(L7:L9,T17)","v":0},{"$f":"U17/(W4-U20)","v":0},{"$f":"IF(V17=0,0,(V17*((LOG(V17))/LOG(2))))","v":0},null,{"$f":"N17","v":2121},{"$f":"COUNTIF(L10:L12,Y17)","v":0},{"$f":"Z17/(AB4-Z20)","v":0},{"$f":"IF(AA17=0,0,(AA17*((LOG(AA17))/LOG(2))))","v":0},null,{"$f":"N17","v":2121},{"$f":"COUNTIF(L13:L14,AD17)","v":0},{"$f":"AE17/(AG4-AE20)","v":0},{"$f":"IF(AF17=0,0,(AF17*((LOG(AF17))/LOG(2))))","v":0},null,{"$f":"N17","v":2121},{"$f":"COUNTIF(L15:L17,AI17)","v":0},{"$f":"AJ17/(AL4-AJ20)","v":0},{"$f":"IF(AK17=0,0,(AK17*((LOG(AK17))/LOG(2))))","v":0},null,{"$f":"N17","v":2121},{"$f":"COUNTIF(L18:L20,AN17)","v":0},{"$f":"AO17/(AQ4-AO20)","v":0},{"$f":"IF(AP17=0,0,(AP17*((LOG(AP17))/LOG(2))))","v":0},null,{"$f":"N17","v":2121},{"$f":"COUNTIF(L21:L23,AS17)","v":0},{"$f":"AT17/(AV4-AT20)","v":0},{"$f":"IF(AU17=0,0,(AU17*((LOG(AU17))/LOG(2))))","v":0}]
[21,1935,21,1941,22,1948,23,1956,null,null,0,2222,null,2122,{"$f":"COUNTIF($L$7:$L$500,N18)","v":0},{"$f":"O18/$Q$4","v":0},{"$f":"IF(P18=0,0,(P18*((LOG(P18))/LOG(2))))","v":0},null,null,{"$f":"N18","v":2122},{"$f":"COUNTIF(L7:L9,T18)","v":0},{"$f":"U18/(W4-U20)","v":0},{"$f":"IF(V18=0,0,(V18*((LOG(V18))/LOG(2))))","v":0},null,{"$f":"N18","v":2122},{"$f":"COUNTIF(L10:L12,Y18)","v":0},{"$f":"Z18/(AB4-Z20)","v":0},{"$f":"IF(AA18=0,0,(AA18*((LOG(AA18))/LOG(2))))","v":0},null,{"$f":"N18","v":2122},{"$f":"COUNTIF(L13:L14,AD18)","v":0},{"$f":"AE18/(AG4-AE20)","v":0},{"$f":"IF(AF18=0,0,(AF18*((LOG(AF18))/LOG(2))))","v":0},null,{"$f":"N18","v":2122},{"$f":"COUNTIF(L15:L17,AI18)","v":0},{"$f":"AJ18/(AL4-AJ20)","v":0},{"$f":"IF(AK18=0,0,(AK18*((LOG(AK18))/LOG(2))))","v":0},null,{"$f":"N18","v":2122},{"$f":"COUNTIF(L18:L20,AN18)","v":0},{"$f":"AO18/(AQ4-AO20)","v":0},{"$f":"IF(AP18=0,0,(AP18*((LOG(AP18))/LOG(2))))","v":0},null,{"$f":"N18","v":2122},{"$f":"COUNTIF(L21:L23,AS18)","v":0},{"$f":"AT18/(AV4-AT20)","v":0},{"$f":"IF(AU18=0,0,(AU18*((LOG(AU18))/LOG(2))))","v":0}]
[12,2247,14,2273,13,2282,14,2290,null,null,0,1111,null,2211,{"$f":"COUNTIF($L$7:$L$500,N19)","v":0},{"$f":"O19/$Q$4","v":0},{"$f":"IF(P19=0,0,(P19*((LOG(P19))/LOG(2))))","v":0},null,null,{"$f":"N19","v":2211},{"$f":"COUNTIF(L7:L9,T19)","v":0},{"$f":"U19/(W4-U20)","v":0},{"$f":"IF(V19=0,0,(V19*((LOG(V19))/LOG(2))))","v":0},null,{"$f":"N19","v":2211},{"$f":"COUNTIF(L10:L12,Y19)","v":0},{"$f":"Z19/(AB4-Z20)","v":0},{"$f":"IF(AA19=0,0,(AA19*((LOG(AA19))/LOG(2))))","v":0},null,{"$f":"N19","v":2211},{"$f":"COUNTIF(L13:L14,AD19)","v":0},{"$f":"AE19/(AG4-AE20)","v":0},{"$f":"IF(AF19=0,0,(AF19*((LOG(AF19))/LOG(2))))","v":0},null,{"$f":"N19","v":2211},{"$f":"COUNTIF(L15:L17,AI19)","v":0},{"$f":"AJ19/(AL4-AJ20)","v":0},{"$f":"IF(AK19=0,0,(AK19*((LOG(AK19))/LOG(2))))","v":0},null,{"$f":"N19","v":2211},{"$f":"COUNTIF(L18:L20,AN19)","v":0},{"$f":"AO19/(AQ4-AO20)","v":0},{"$f":"IF(AP19=0,0,(AP19*((LOG(AP19))/LOG(2))))","v":0},null,{"$f":"N19","v":2211},{"$f":"COUNTIF(L21:L23,AS19)","v":0},{"$f":"AT19/(AV4-AT20)","v":0},{"$f":"IF(AU19=0,0,(AU19*((LOG(AU19))/LOG(2))))","v":0}]
[12,5326,14,5336,13,5357,14,5368,null,null,0,1111,null,2212,{"$f":"COUNTIF($L$7:$L$500,N20)","v":0},{"$f":"O20/$Q$4","v":0},{"$f":"IF(P20=0,0,(P20*((LOG(P20))/LOG(2))))","v":0},null,null,{"$f":"N20","v":2212},{"$f":"COUNTIF(L7:L9,T20)","v":0},null,null,null,{"$f":"N20","v":2212},{"$f":"COUNTIF(L10:L12,Y20)","v":0},null,null,null,{"$f":"N20","v":2212},{"$f":"COUNTIF(L13:L14,AD20)","v":0},null,null,null,{"$f":"N20","v":2212},{"$f":"COUNTIF(L15:L17,AI20)","v":0},null,null,null,{"$f":"N20","v":2212},{"$f":"COUNTIF(L18:L20,AN20)","v":0},null,null,null,{"$f":"N20","v":2212},{"$f":"COUNTIF(L21:L23,AS20)","v":0}]
[21,15255,21,15261,22,15268,23,15273,null,null,0,2222,null,2221,{"$f":"COUNTIF($L$7:$L$500,N21)","v":0},{"$f":"O21/$Q$4","v":0},{"$f":"IF(P21=0,0,(P21*((LOG(P21))/LOG(2))))","v":0},null,null,{"$f":"N21","v":2221},{"$f":"COUNTIF(L7:L9,T21)","v":0},{"$f":"U21/(W4-U20)","v":0},{"$f":"IF(V21=0,0,(V21*((LOG(V21))/LOG(2))))","v":0},null,{"$f":"N21","v":2221},{"$f":"COUNTIF(L10:L12,Y21)","v":0},{"$f":"Z21/(AB4-Z20)","v":0},{"$f":"IF(AA21=0,0,(AA21*((LOG(AA21))/LOG(2))))","v":0},null,{"$f":"N21","v":2221},{"$f":"COUNTIF(L13:L14,AD21)","v":0},{"$f":"AE21/(AG4-AE20)","v":0},{"$f":"IF(AF21=0,0,(AF21*((LOG(AF21))/LOG(2))))","v":0},null,{"$f":"N21","v":2221},{"$f":"COUNTIF(L15:L17,AI21)","v":0},{"$f":"AJ21/(AL4-AJ20)","v":0},{"$f":"IF(AK21=0,0,(AK21*((LOG(AK21))/LOG(2))))","v":0},null,{"$f":"N21","v":2221},{"$f":"COUNTIF(L18:L20,AN21)","v":0},{"$f":"AO21/(AQ4-AO20)","v":0},{"$f":"IF(AP21=0,0,(AP21*((LOG(AP21))/LOG(2))))","v":0},null,{"$f":"N21","v":2221},{"$f":"COUNTIF(L21:L23,AS21)","v":0},{"$f":"AT21/(AV4-AT20)","v":0},{"$f":"IF(AU21=0,0,(AU21*((LOG(AU21))/LOG(2))))","v":0}]
[21,15465,21,15470,22,15476,23,15480,null,null,0,2222,null,2222,{"$f":"COUNTIF($L$7:$L$500,N22)","v":4},{"$f":"O22/$Q$4","v":0.23529411764705882},{"$f":"IF(P22=0,0,(P22*((LOG(P22))/LOG(2))))","v":-0.49116772735302094},null,null,{"$f":"N22","v":2222},{"$f":"COUNTIF(L7:L9,T22)","v":0},{"$f":"U22/(W4-U20)","v":0},{"$f":"IF(V22=0,0,(V22*((LOG(V22))/LOG(2))))","v":0},null,{"$f":"N22","v":2222},{"$f":"COUNTIF(L10:L12,Y22)","v":0},{"$f":"Z22/(AB4-Z20)","v":0},{"$f":"IF(AA22=0,0,(AA22*((LOG(AA22))/LOG(2))))","v":0},null,{"$f":"N22","v":2222},{"$f":"COUNTIF(L13:L14,AD22)","v":0},{"$f":"AE22/(AG4-AE20)","v":0},{"$f":"IF(AF22=0,0,(AF22*((LOG(AF22))/LOG(2))))","v":0},null,{"$f":"N22","v":2222},{"$f":"COUNTIF(L15:L17,AI22)","v":0},{"$f":"AJ22/(AL4-AJ20)","v":0},{"$f":"IF(AK22=0,0,(AK22*((LOG(AK22))/LOG(2))))","v":0},null,{"$f":"N22","v":2222},{"$f":"COUNTIF(L18:L20,AN22)","v":1},{"$f":"AO22/(AQ4-AO20)","v":0.33333333333333331},{"$f":"IF(AP22=0,0,(AP22*((LOG(AP22))/LOG(2))))","v":-0.52832083357371862},null,{"$f":"N22","v":2222},{"$f":"COUNTIF(L21:L23,AS22)","v":3},{"$f":"AT22/(AV4-AT20)","v":1},{"$f":"IF(AU22=0,0,(AU22*((LOG(AU22))/LOG(2))))","v":0}]
[21,19566,21,19592,22,19599,23,19611,null,null,0,2222,null,null,null,{"$f":"SUM(P7:P22)","v":1},{"$f":"-SUM(Q7:Q22)","v":0.78712658620126885},null,null,null,null,{"$f":"SUM(V7:V22)","v":1},{"$f":"-SUM(W7:W22)","v":0},null,null,null,{"$f":"SUM(AA7:AA22)","v":1},{"$f":"-SUM(AB7:AB22)","v":0},null,null,null,{"$f":"SUM(AF7:AF22)","v":1},{"$f":"-SUM(AG7:AG22)","v":0},null,null,null,{"$f":"SUM(AK7:AK22)","v":1},{"$f":"-SUM(AL7:AL22)","v":0},null,null,null,{"$f":"SUM(AP7:AP22)","v":1},{"$f":"-SUM(AQ7:AQ22)","v":0.91829583405448945},null,null,null,{"$f":"SUM(AU7:AU22)","v":1},{"$f":"-SUM(AV7:AV22)","v":0}]
[null,null,null,null,null,null,null,null,null,null,null,null,null,null,null,"U=",{"$f":"Q23/(LOG(Q4)/LOG(2))","v":0.19257094602980901},null,null,null,null,"U1=",{"$f":"W23/(LOG(W4)/LOG(2))","v":0},null,null,null,"U2=",{"$f":"AB23/(LOG(AB4)/LOG(2))","v":0},null,null,null,"U3=",{"$f":"AG23/(LOG(AG4)/LOG(2))","v":0},null,null,null,"U4=",{"$f":"AL23/(LOG(AL4)/LOG(2))","v":0},null,null,null,"U5=",{"$f":"AQ23/(LOG(AQ4)/LOG(2))","v":0.57938016428569505},null,null,null,"U6=",{"$f":"AV23/(LOG(AV4)/LOG(2))","v":0}]
[]
[]
[null,null,null,null,null,null,null,null,null,null,null,null,null,"Total Target Seq"]
[null,null,null,null,null,null,null,null,null,null,null,null,null,{"$f":"COUNTIF(L7:L23,G3)","v":0},null,3,3,2,3,3,3]
[null,null,null,null,null,null,null,null,null,null,null,null,null,null,null,"% of reinforcement given in 6 equal intervals based on number of trials "]
[null,null,null,null,null,null,null,null,null,null,null,null,null,null,null,"%_1","%_2","%_3","%_4","%_5","%_6"]
[null,null,null,null,null,null,null,null,null,null,null,null,null,null,"target sequence",{"$f":"$G$3","v":2212},{"$f":"$G$3","v":2212},{"$f":"$G$3","v":2212},{"$f":"$G$3","v":2212},{"$f":"$G$3","v":2212},{"$f":"$G$3","v":2212}]
[null,null,null,null,null,null,null,null,null,null,null,null,null,null,"total reinforcement",{"$f":"U20","v":0},{"$f":"Z20","v":0},{"$f":"AE20","v":0},{"$f":"AJ20","v":0},{"$f":"AO20","v":0},{"$f":"AT20","v":0}]
[null,null,null,null,null,null,null,null,null,null,null,null,null,null,"% target"]
[null,null,null,null,null,null,null,null,null,null,null,null,null,null,"CCRF"]
[null,null,null,null,null,null,null,null,null,null,null,null,null,null,"% CCRf"]
[null,null,null,null,null,null,null,null,null,null,null,null,null,null,"average response rate",{"$f":"H9/P28","v":212.33333333333334},{"$f":"(H12-H9)/Q28","v":156},{"$f":"(H14-H12)/R28","v":146},{"$f":"(H17-H14)/S28","v":134},{"$f":"(H20-H17)/T28","v":1189.6666666666667},{"$f":"(H23-H20)/U28","v":4747.666666666667}]

{"sheet":"!M921930.102","index":25,"n_rows":36,"n_cols":48,"rows_kept":36,"cut":false,"hidden":false,"merged":[[4,39,4,42],[5,39,5,40],[4,44,4,47],[5,44,5,45],[4,24,4,27],[5,24,5,25],[4,29,4,32],[5,29,5,30],[4,34,4,37],[5,34,5,35],[1,1,1,2],[5,13,5,14],[26,13,26,14],[27,13,27,14],[4,19,4,22],[5,19,5,20]]}
["Report for:!M921930.102"]
["Date:","<date>"]
["Hen:","<hen>",null,null,null,"Correct Sequence",{"$f":"Start!J2","v":2212},null,null,null,null,null,null,null,null,"Total Sequences in Data",{"$f":"4994-COUNTBLANK(L7:L5000)","v":5},null,null,null,null,"Total Sequences in Block Data",{"$f":"COUNTA(L7:L7)","v":1},null,null,null,"Total Sequences in Block Data",{"$f":"COUNTA(L8:L8)","v":1},null,null,null,"Total Sequences in Block Data",{"$f":"COUNTA(L8:L9)","v":2},null,null,null,"Total Sequences in Block Data",{"$f":"COUNTA(L9:L9)","v":1},null,null,null,"Total Sequences in Block Data",{"$f":"COUNTA(L10:L10)","v":1},null,null,null,"Total Sequences in Block Data",{"$f":"COUNTA(L11:L11)","v":1}]
[null,null,null,null,null,null,null,null,null,null,null,null,null,null,null,"Total Sequences in Summary",{"$f":"SUM(O7:O22)","v":5},null,null,null,null,"Total Sequences in Block Summary",{"$f":"SUM(U7:U22)","v":1},null,null,null,"Total Sequences in Block Summary",{"$f":"SUM(Z7:Z22)","v":1},null,null,null,"Total Sequences in Block Summary",{"$f":"SUM(AE7:AE22)","v":2},null,null,null,"Total Sequences in Block Summary",{"$f":"SUM(AJ7:AJ22)","v":1},null,null,null,"Total Sequences in Block Summary",{"$f":"SUM(AO7:AO22)","v":1},null,null,null,"Total Sequences in Block Summary",{"$f":"SUM(AT7:AT22)","v":1}]
[null,null,null,null,null,null,null,null,null,null,null,null,null,null,null,null,null,null,null,"Block 1",null,null,null,null,"Block 2",null,null,null,null,"Block 3",null,null,null,null,"Block 4",null,null,null,null,"Block 5",null,null,null,null,"Block 6"]
["Sequence\nComponent\n1","Time\n1","Sequence\nComponent\n2","Time\n2","Sequence\nComponent\n3","Time\n3","Sequence\nComponent\n4","Time\n4","Sequence\nComponent\n5","Time\n5","Correct?\n0=No 1=Yes","Sequence",null,"Frequency",null,"Relative Frequency","Variability",null,null,"Frequency",null,"Relative Frequency","Variability",null,"Frequency",null,"Relative Frequency","Variability",null,"Frequency",null,"Relative Frequency","Variability",null,"Frequency",null,"Relative Frequency","Variability",null,"Frequency",null,"Relative Frequency","Variability",null,"Frequency",null,"Relative Frequency","Variability"]
[12,29,14,49,13,66,14,76,null,null,0,1111,null,1111,{"$f":"COUNTIF($L$7:$L$500,N7)","v":4},{"$f":"O7/$Q$4","v":0.8},{"$f":"IF(P7=0,0,(P7*((LOG(P7))/LOG(2))))","v":-0.25754247590988982},null,null,{"$f":"N7","v":1111},{"$f":"COUNTIF(L7:L7,T7)","v":1},{"$f":"U7/(W4-U20)","v":1},{"$f":"IF(V7=0,0,(V7*((LOG(V7))/LOG(2))))","v":0},null,{"$f":"N7","v":1111},{"$f":"COUNTIF(L8:L8,Y7)","v":1},{"$f":"Z7/(AB4-Z20)","v":1},{"$f":"IF(AA7=0,0,(AA7*((LOG(AA7))/LOG(2))))","v":0},null,{"$f":"N7","v":1111},{"$f":"COUNTIF(L8:L9,AD7)","v":2},{"$f":"AE7/(AG4-AE20)","v":1},{"$f":"IF(AF7=0,0,(AF7*((LOG(AF7))/LOG(2))))","v":0},null,{"$f":"N7","v":1111},{"$f":"COUNTIF(L9:L9,AI7)","v":1},{"$f":"AJ7/(AL4-AJ20)","v":1},{"$f":"IF(AK7=0,0,(AK7*((LOG(AK7))/LOG(2))))","v":0},null,{"$f":"N7","v":1111},{"$f":"COUNTIF(L10:L10,AN7)","v":1},{"$f":"AO7/(AQ4-AO20)","v":1},{"$f":"IF(AP7=0,0,(AP7*((LOG(AP7))/LOG(2))))","v":0},null,{"$f":"N7","v":1111},{"$f":"COUNTIF(L11:L11,AS7)","v":0},{"$f":"AT7/(AV4-AT20)","v":0},{"$f":"IF(AU7=0,0,(AU7*((LOG(AU7))/LOG(2))))","v":0}]
[12,182,14,188,13,199,14,209,null,null,0,1111,null,1112,{"$f":"COUNTIF($L$7:$L$500,N8)","v":0},{"$f":"O8/$Q$4","v":0},{"$f":"IF(P8=0,0,(P8*((LOG(P8))/LOG(2))))","v":0},null,null,{"$f":"N8","v":1112},{"$f":"COUNTIF(L7:L7,T8)","v":0},{"$f":"U8/(W4-U20)","v":0},{"$f":"IF(V8=0,0,(V8*((LOG(V8))/LOG(2))))","v":0},null,{"$f":"N8","v":1112},{"$f":"COUNTIF(L8:L8,Y8)","v":0},{"$f":"Z8/(AB4-Z20)","v":0},{"$f":"IF(AA8=0,0,(AA8*((LOG(AA8))/LOG(2))))","v":0},null,{"$f":"N8","v":1112},{"$f":"COUNTIF(L8:L9,AD8)","v":0},{"$f":"AE8/(AG4-AE20)","v":0},{"$f":"IF(AF8=0,0,(AF8*((LOG(AF8))/LOG(2))))","v":0},null,{"$f":"N8","v":1112},{"$f":"COUNTIF(L9:L9,AI8)","v":0},{"$f":"AJ8/(AL4-AJ20)","v":0},{"$f":"IF(AK8=0,0,(AK8*((LOG(AK8))/LOG(2))))","v":0},null,{"$f":"N8","v":1112},{"$f":"COUNTIF(L10:L10,AN8)","v":0},{"$f":"AO8/(AQ4-AO20)","v":0},{"$f":"IF(AP8=0,0,(AP8*((LOG(AP8))/LOG(2))))","v":0},null,{"$f":"N8","v":1112},{"$f":"COUNTIF(L11:L11,AS8)","v":0},{"$f":"AT8/(AV4-AT20)","v":0},{"$f":"IF(AU8=0,0,(AU8*((LOG(AU8))/LOG(2))))","v":0}]
[12,318,14,324,13,337,14,347,null,null,0,1111,null,1121,{"$f":"COUNTIF($L$7:$L$500,N9)","v":0},{"$f":"O9/$Q$4","v":0},{"$f":"IF(P9=0,0,(P9*((LOG(P9))/LOG(2))))","v":0},null,null,{"$f":"N9","v":1121},{"$f":"COUNTIF(L7:L7,T9)","v":0},{"$f":"U9/(W4-U20)","v":0},{"$f":"IF(V9=0,0,(V9*((LOG(V9))/LOG(2))))","v":0},null,{"$f":"N9","v":1121},{"$f":"COUNTIF(L8:L8,Y9)","v":0},{"$f":"Z9/(AB4-Z20)","v":0},{"$f":"IF(AA9=0,0,(AA9*((LOG(AA9))/LOG(2))))","v":0},null,{"$f":"N9","v":1121},{"$f":"COUNTIF(L8:L9,AD9)","v":0},{"$f":"AE9/(AG4-AE20)","v":0},{"$f":"IF(AF9=0,0,(AF9*((LOG(AF9))/LOG(2))))","v":0},null,{"$f":"N9","v":1121},{"$f":"COUNTIF(L9:L9,AI9)","v":0},{"$f":"AJ9/(AL4-AJ20)","v":0},{"$f":"IF(AK9=0,0,(AK9*((LOG(AK9))/LOG(2))))","v":0},null,{"$f":"N9","v":1121},{"$f":"COUNTIF(L10:L10,AN9)","v":0},{"$f":"AO9/(AQ4-AO20)","v":0},{"$f":"IF(AP9=0,0,(AP9*((LOG(AP9))/LOG(2))))","v":0},null,{"$f":"N9","v":1121},{"$f":"COUNTIF(L11:L11,AS9)","v":0},{"$f":"AT9/(AV4-AT20)","v":0},{"$f":"IF(AU9=0,0,(AU9*((LOG(AU9))/LOG(2))))","v":0}]
[12,1464,14,1476,13,1489,14,1510,null,null,0,1111,null,1122,{"$f":"COUNTIF($L$7:$L$500,N10)","v":0},{"$f":"O10/$Q$4","v":0},{"$f":"IF(P10=0,0,(P10*((LOG(P10))/LOG(2))))","v":0},null,null,{"$f":"N10","v":1122},{"$f":"COUNTIF(L7:L7,T10)","v":0},{"$f":"U10/(W4-U20)","v":0},{"$f":"IF(V10=0,0,(V10*((LOG(V10))/LOG(2))))","v":0},null,{"$f":"N10","v":1122},{"$f":"COUNTIF(L8:L8,Y10)","v":0},{"$f":"Z10/(AB4-Z20)","v":0},{"$f":"IF(AA10=0,0,(AA10*((LOG(AA10))/LOG(2))))","v":0},null,{"$f":"N10","v":1122},{"$f":"COUNTIF(L8:L9,AD10)","v":0},{"$f":"AE10/(AG4-AE20)","v":0},{"$f":"IF(AF10=0,0,(AF10*((LOG(AF10))/LOG(2))))","v":0},null,{"$f":"N10","v":1122},{"$f":"COUNTIF(L9:L9,AI10)","v":0},{"$f":"AJ10/(AL4-AJ20)","v":0},{"$f":"IF(AK10=0,0,(AK10*((LOG(AK10))/LOG(2))))","v":0},null,{"$f":"N10","v":1122},{"$f":"COUNTIF(L10:L10,AN10)","v":0},{"$f":"AO10/(AQ4-AO20)","v":0},{"$f":"IF(AP10=0,0,(AP10*((LOG(AP10))/LOG(2))))","v":0},null,{"$f":"N10","v":1122},{"$f":"COUNTIF(L11:L11,AS10)","v":0},{"$f":"AT10/(AV4-AT20)","v":0},{"$f":"IF(AU10=0,0,(AU10*((LOG(AU10))/LOG(2))))","v":0}]
[21,13365,21,13380,22,13390,23,13397,null,null,0,2222,null,1211,{"$f":"COUNTIF($L$7:$L$500,N11)","v":0},{"$f":"O11/$Q$4","v":0},{"$f":"IF(P11=0,0,(P11*((LOG(P11))/LOG(2))))","v":0},null,null,{"$f":"N11","v":1211},{"$f":"COUNTIF(L7:L7,T11)","v":0},{"$f":"U11/(W4-U20)","v":0},{"$f":"IF(V11=0,0,(V11*((LOG(V11))/LOG(2))))","v":0},null,{"$f":"N11","v":1211},{"$f":"COUNTIF(L8:L8,Y11)","v":0},{"$f":"Z11/(AB4-Z20)","v":0},{"$f":"IF(AA11=0,0,(AA11*((LOG(AA11))/LOG(2))))","v":0},null,{"$f":"N11","v":1211},{"$f":"COUNTIF(L8:L9,AD11)","v":0},{"$f":"AE11/(AG4-AE20)","v":0},{"$f":"IF(AF11=0,0,(AF11*((LOG(AF11))/LOG(2))))","v":0},null,{"$f":"N11","v":1211},{"$f":"COUNTIF(L9:L9,AI11)","v":0},{"$f":"AJ11/(AL4-AJ20)","v":0},{"$f":"IF(AK11=0,0,(AK11*((LOG(AK11))/LOG(2))))","v":0},null,{"$f":"N11","v":1211},{"$f":"COUNTIF(L10:L10,AN11)","v":0},{"$f":"AO11/(AQ4-AO20)","v":0},{"$f":"IF(AP11=0,0,(AP11*((LOG(AP11))/LOG(2))))","v":0},null,{"$f":"N11","v":1211},{"$f":"COUNTIF(L11:L11,AS11)","v":0},{"$f":"AT11/(AV4-AT20)","v":0},{"$f":"IF(AU11=0,0,(AU11*((LOG(AU11))/LOG(2))))","v":0}]
[null,null,null,null,null,null,null,null,null,null,null,null,null,1212,{"$f":"COUNTIF($L$7:$L$500,N12)","v":0},{"$f":"O12/$Q$4","v":0},{"$f":"IF(P12=0,0,(P12*((LOG(P12))/LOG(2))))","v":0},null,null,{"$f":"N12","v":1212},{"$f":"COUNTIF(L7:L7,T12)","v":0},{"$f":"U12/(W4-U20)","v":0},{"$f":"IF(V12=0,0,(V12*((LOG(V12))/LOG(2))))","v":0},null,{"$f":"N12","v":1212},{"$f":"COUNTIF(L8:L8,Y12)","v":0},{"$f":"Z12/(AB4-Z20)","v":0},{"$f":"IF(AA12=0,0,(AA12*((LOG(AA12))/LOG(2))))","v":0},null,{"$f":"N12","v":1212},{"$f":"COUNTIF(L8:L9,AD12)","v":0},{"$f":"AE12/(AG4-AE20)","v":0},{"$f":"IF(AF12=0,0,(AF12*((LOG(AF12))/LOG(2))))","v":0},null,{"$f":"N12","v":1212},{"$f":"COUNTIF(L9:L9,AI12)","v":0},{"$f":"AJ12/(AL4-AJ20)","v":0},{"$f":"IF(AK12=0,0,(AK12*((LOG(AK12))/LOG(2))))","v":0},null,{"$f":"N12","v":1212},{"$f":"COUNTIF(L10:L10,AN12)","v":0},{"$f":"AO12/(AQ4-AO20)","v":0},{"$f":"IF(AP12=0,0,(AP12*((LOG(AP12))/LOG(2))))","v":0},null,{"$f":"N12","v":1212},{"$f":"COUNTIF(L11:L11,AS12)","v":0},{"$f":"AT12/(AV4-AT20)","v":0},{"$f":"IF(AU12=0,0,(AU12*((LOG(AU12))/LOG(2))))","v":0}]
[null,null,null,null,null,null,null,null,null,null,null,null,null,1221,{"$f":"COUNTIF($L$7:$L$500,N13)","v":0},{"$f":"O13/$Q$4","v":0},{"$f":"IF(P13=0,0,(P13*((LOG(P13))/LOG(2))))","v":0},null,null,{"$f":"N13","v":1221},{"$f":"COUNTIF(L7:L7,T13)","v":0},{"$f":"U13/(W4-U20)","v":0},{"$f":"IF(V13=0,0,(V13*((LOG(V13))/LOG(2))))","v":0},null,{"$f":"N13","v":1221},{"$f":"COUNTIF(L8:L8,Y13)","v":0},{"$f":"Z13/(AB4-Z20)","v":0},{"$f":"IF(AA13=0,0,(AA13*((LOG(AA13))/LOG(2))))","v":0},null,{"$f":"N13","v":1221},{"$f":"COUNTIF(L8:L9,AD13)","v":0},{"$f":"AE13/(AG4-AE20)","v":0},{"$f":"IF(AF13=0,0,(AF13*((LOG(AF13))/LOG(2))))","v":0},null,{"$f":"N13","v":1221},{"$f":"COUNTIF(L9:L9,AI13)","v":0},{"$f":"AJ13/(AL4-AJ20)","v":0},{"$f":"IF(AK13=0,0,(AK13*((LOG(AK13))/LOG(2))))","v":0},null,{"$f":"N13","v":1221},{"$f":"COUNTIF(L10:L10,AN13)","v":0},{"$f":"AO13/(AQ4-AO20)","v":0},{"$f":"IF(AP13=0,0,(AP13*((LOG(AP13))/LOG(2))))","v":0},null,{"$f":"N13","v":1221},{"$f":"COUNTIF(L11:L11,AS13)","v":0},{"$f":"AT13/(AV4-AT20)","v":0},{"$f":"IF(AU13=0,0,(AU13*((LOG(AU13))/LOG(2))))","v":0}]
[null,null,null,null,null,null,null,null,null,null,null,null,null,1222,{"$f":"COUNTIF($L$7:$L$500,N14)","v":0},{"$f":"O14/$Q$4","v":0},{"$f":"IF(P14=0,0,(P14*((LOG(P14))/LOG(2))))","v":0},null,null,{"$f":"N14","v":1222},{"$f":"COUNTIF(L7:L7,T14)","v":0},{"$f":"U14/(W4-U20)","v":0},{"$f":"IF(V14=0,0,(V14*((LOG(V14))/LOG(2))))","v":0},null,{"$f":"N14","v":1222},{"$f":"COUNTIF(L8:L8,Y14)","v":0},{"$f":"Z14/(AB4-Z20)","v":0},{"$f":"IF(AA14=0,0,(AA14*((LOG(AA14))/LOG(2))))","v":0},null,{"$f":"N14","v":1222},{"$f":"COUNTIF(L8:L9,AD14)","v":0},{"$f":"AE14/(AG4-AE20)","v":0},{"$f":"IF(AF14=0,0,(AF14*((LOG(AF14))/LOG(2))))","v":0},null,{"$f":"N14","v":1222},{"$f":"COUNTIF(L9:L9,AI14)","v":0},{"$f":"AJ14/(AL4-AJ20)","v":0},{"$f":"IF(AK14=0,0,(AK14*((LOG(AK14))/LOG(2))))","v":0},null,{"$f":"N14","v":1222},{"$f":"COUNTIF(L10:L10,AN14)","v":0},{"$f":"AO14/(AQ4-AO20)","v":0},{"$f":"IF(AP14=0,0,(AP14*((LOG(AP14))/LOG(2))))","v":0},null,{"$f":"N14","v":1222},{"$f":"COUNTIF(L11:L11,AS14)","v":0},{"$f":"AT14/(AV4-AT20)","v":0},{"$f":"IF(AU14=0,0,(AU14*((LOG(AU14))/LOG(2))))","v":0}]
[null,null,null,null,null,null,null,null,null,null,null,null,null,2111,{"$f":"COUNTIF($L$7:$L$500,N15)","v":0},{"$f":"O15/$Q$4","v":0},{"$f":"IF(P15=0,0,(P15*((LOG(P15))/LOG(2))))","v":0},null,null,{"$f":"N15","v":2111},{"$f":"COUNTIF(L7:L7,T15)","v":0},{"$f":"U15/(W4-U20)","v":0},{"$f":"IF(V15=0,0,(V15*((LOG(V15))/LOG(2))))","v":0},null,{"$f":"N15","v":2111},{"$f":"COUNTIF(L8:L8,Y15)","v":0},{"$f":"Z15/(AB4-Z20)","v":0},{"$f":"IF(AA15=0,0,(AA15*((LOG(AA15))/LOG(2))))","v":0},null,{"$f":"N15","v":2111},{"$f":"COUNTIF(L8:L9,AD15)","v":0},{"$f":"AE15/(AG4-AE20)","v":0},{"$f":"IF(AF15=0,0,(AF15*((LOG(AF15))/LOG(2))))","v":0},null,{"$f":"N15","v":2111},{"$f":"COUNTIF(L9:L9,AI15)","v":0},{"$f":"AJ15/(AL4-AJ20)","v":0},{"$f":"IF(AK15=0,0,(AK15*((LOG(AK15))/LOG(2))))","v":0},null,{"$f":"N15","v":2111},{"$f":"COUNTIF(L10:L10,AN15)","v":0},{"$f":"AO15/(AQ4-AO20)","v":0},{"$f":"IF(AP15=0,0,(AP15*((LOG(AP15))/LOG(2))))","v":0},null,{"$f":"N15","v":2111},{"$f":"COUNTIF(L11:L11,AS15)","v":0},{"$f":"AT15/(AV4-AT20)","v":0},{"$f":"IF(AU15=0,0,(AU15*((LOG(AU15))/LOG(2))))","v":0}]
[null,null,null,null,null,null,null,null,null,null,null,null,null,2112,{"$f":"COUNTIF($L$7:$L$500,N16)","v":0},{"$f":"O16/$Q$4","v":0},{"$f":"IF(P16=0,0,(P16*((LOG(P16))/LOG(2))))","v":0},null,null,{"$f":"N16","v":2112},{"$f":"COUNTIF(L7:L7,T16)","v":0},{"$f":"U16/(W4-U20)","v":0},{"$f":"IF(V16=0,0,(V16*((LOG(V16))/LOG(2))))","v":0},null,{"$f":"N16","v":2112},{"$f":"COUNTIF(L8:L8,Y16)","v":0},{"$f":"Z16/(AB4-Z20)","v":0},{"$f":"IF(AA16=0,0,(AA16*((LOG(AA16))/LOG(2))))","v":0},null,{"$f":"N16","v":2112},{"$f":"COUNTIF(L8:L9,AD16)","v":0},{"$f":"AE16/(AG4-AE20)","v":0},{"$f":"IF(AF16=0,0,(AF16*((LOG(AF16))/LOG(2))))","v":0},null,{"$f":"N16","v":2112},{"$f":"COUNTIF(L9:L9,AI16)","v":0},{"$f":"AJ16/(AL4-AJ20)","v":0},{"$f":"IF(AK16=0,0,(AK16*((LOG(AK16))/LOG(2))))","v":0},null,{"$f":"N16","v":2112},{"$f":"COUNTIF(L10:L10,AN16)","v":0},{"$f":"AO16/(AQ4-AO20)","v":0},{"$f":"IF(AP16=0,0,(AP16*((LOG(AP16))/LOG(2))))","v":0},null,{"$f":"N16","v":2112},{"$f":"COUNTIF(L11:L11,AS16)","v":0},{"$f":"AT16/(AV4-AT20)","v":0},{"$f":"IF(AU16=0,0,(AU16*((LOG(AU16))/LOG(2))))","v":0}]
[null,null,null,null,null,null,null,null,null,null,null,null,null,2121,{"$f":"COUNTIF($L$7:$L$500,N17)","v":0},{"$f":"O17/$Q$4","v":0},{"$f":"IF(P17=0,0,(P17*((LOG(P17))/LOG(2))))","v":0},null,null,{"$f":"N17","v":2121},{"$f":"COUNTIF(L7:L7,T17)","v":0},{"$f":"U17/(W4-U20)","v":0},{"$f":"IF(V17=0,0,(V17*((LOG(V17))/LOG(2))))","v":0},null,{"$f":"N17","v":2121},{"$f":"COUNTIF(L8:L8,Y17)","v":0},{"$f":"Z17/(AB4-Z20)","v":0},{"$f":"IF(AA17=0,0,(AA17*((LOG(AA17))/LOG(2))))","v":0},null,{"$f":"N17","v":2121},{"$f":"COUNTIF(L8:L9,AD17)","v":0},{"$f":"AE17/(AG4-AE20)","v":0},{"$f":"IF(AF17=0,0,(AF17*((LOG(AF17))/LOG(2))))","v":0},null,{"$f":"N17","v":2121},{"$f":"COUNTIF(L9:L9,AI17)","v":0},{"$f":"AJ17/(AL4-AJ20)","v":0},{"$f":"IF(AK17=0,0,(AK17*((LOG(AK17))/LOG(2))))","v":0},null,{"$f":"N17","v":2121},{"$f":"COUNTIF(L10:L10,AN17)","v":0},{"$f":"AO17/(AQ4-AO20)","v":0},{"$f":"IF(AP17=0,0,(AP17*((LOG(AP17))/LOG(2))))","v":0},null,{"$f":"N17","v":2121},{"$f":"COUNTIF(L11:L11,AS17)","v":0},{"$f":"AT17/(AV4-AT20)","v":0},{"$f":"IF(AU17=0,0,(AU17*((LOG(AU17))/LOG(2))))","v":0}]
[null,null,null,null,null,null,null,null,null,null,null,null,null,2122,{"$f":"COUNTIF($L$7:$L$500,N18)","v":0},{"$f":"O18/$Q$4","v":0},{"$f":"IF(P18=0,0,(P18*((LOG(P18))/LOG(2))))","v":0},null,null,{"$f":"N18","v":2122},{"$f":"COUNTIF(L7:L7,T18)","v":0},{"$f":"U18/(W4-U20)","v":0},{"$f":"IF(V18=0,0,(V18*((LOG(V18))/LOG(2))))","v":0},null,{"$f":"N18","v":2122},{"$f":"COUNTIF(L8:L8,Y18)","v":0},{"$f":"Z18/(AB4-Z20)","v":0},{"$f":"IF(AA18=0,0,(AA18*((LOG(AA18))/LOG(2))))","v":0},null,{"$f":"N18","v":2122},{"$f":"COUNTIF(L8:L9,AD18)","v":0},{"$f":"AE18/(AG4-AE20)","v":0},{"$f":"IF(AF18=0,0,(AF18*((LOG(AF18))/LOG(2))))","v":0},null,{"$f":"N18","v":2122},{"$f":"COUNTIF(L9:L9,AI18)","v":0},{"$f":"AJ18/(AL4-AJ20)","v":0},{"$f":"IF(AK18=0,0,(AK18*((LOG(AK18))/LOG(2))))","v":0},null,{"$f":"N18","v":2122},{"$f":"COUNTIF(L10:L10,AN18)","v":0},{"$f":"AO18/(AQ4-AO20)","v":0},{"$f":"IF(AP18=0,0,(AP18*((LOG(AP18))/LOG(2))))","v":0},null,{"$f":"N18","v":2122},{"$f":"COUNTIF(L11:L11,AS18)","v":0},{"$f":"AT18/(AV4-AT20)","v":0},{"$f":"IF(AU18=0,0,(AU18*((LOG(AU18))/LOG(2))))","v":0}]
[null,null,null,null,null,null,null,null,null,null,null,null,null,2211,{"$f":"COUNTIF($L$7:$L$500,N19)","v":0},{"$f":"O19/$Q$4","v":0},{"$f":"IF(P19=0,0,(P19*((LOG(P19))/LOG(2))))","v":0},null,null,{"$f":"N19","v":2211},{"$f":"COUNTIF(L7:L7,T19)","v":0},{"$f":"U19/(W4-U20)","v":0},{"$f":"IF(V19=0,0,(V19*((LOG(V19))/LOG(2))))","v":0},null,{"$f":"N19","v":2211},{"$f":"COUNTIF(L8:L8,Y19)","v":0},{"$f":"Z19/(AB4-Z20)","v":0},{"$f":"IF(AA19=0,0,(AA19*((LOG(AA19))/LOG(2))))","v":0},null,{"$f":"N19","v":2211},{"$f":"COUNTIF(L8:L9,AD19)","v":0},{"$f":"AE19/(AG4-AE20)","v":0},{"$f":"IF(AF19=0,0,(AF19*((LOG(AF19))/LOG(2))))","v":0},null,{"$f":"N19","v":2211},{"$f":"COUNTIF(L9:L9,AI19)","v":0},{"$f":"AJ19/(AL4-AJ20)","v":0},{"$f":"IF(AK19=0,0,(AK19*((LOG(AK19))/LOG(2))))","v":0},null,{"$f":"N19","v":2211},{"$f":"COUNTIF(L10:L10,AN19)","v":0},{"$f":"AO19/(AQ4-AO20)","v":0},{"$f":"IF(AP19=0,0,(AP19*((LOG(AP19))/LOG(2))))","v":0},null,{"$f":"N19","v":2211},{"$f":"COUNTIF(L11:L11,AS19)","v":0},{"$f":"AT19/(AV4-AT20)","v":0},{"$f":"IF(AU19=0,0,(AU19*((LOG(AU19))/LOG(2))))","v":0}]
[null,null,null,null,null,null,null,null,null,null,null,null,null,2212,{"$f":"COUNTIF($L$7:$L$500,N20)","v":0},{"$f":"O20/$Q$4","v":0},{"$f":"IF(P20=0,0,(P20*((LOG(P20))/LOG(2))))","v":0},null,null,{"$f":"N20","v":2212},{"$f":"COUNTIF(L7:L7,T20)","v":0},null,null,null,{"$f":"N20","v":2212},{"$f":"COUNTIF(L8:L8,Y20)","v":0},null,null,null,{"$f":"N20","v":2212},{"$f":"COUNTIF(L8:L9,AD20)","v":0},null,null,null,{"$f":"N20","v":2212},{"$f":"COUNTIF(L9:L9,AI20)","v":0},null,null,null,{"$f":"N20","v":2212},{"$f":"COUNTIF(L10:L10,AN20)","v":0},null,null,null,{"$f":"N20","v":2212},{"$f":"COUNTIF(L11:L11,AS20)","v":0}]
[null,null,null,null,null,null,null,null,null,null,null,null,null,2221,{"$f":"COUNTIF($L$7:$L$500,N21)","v":0},{"$f":"O21/$Q$4","v":0},{"$f":"IF(P21=0,0,(P21*((LOG(P21))/LOG(2))))","v":0},null,null,{"$f":"N21","v":2221},{"$f":"COUNTIF(L7:L7,T21)","v":0},{"$f":"U21/(W4-U20)","v":0},{"$f":"IF(V21=0,0,(V21*((LOG(V21))/LOG(2))))","v":0},null,{"$f":"N21","v":2221},{"$f":"COUNTIF(L8:L8,Y21)","v":0},{"$f":"Z21/(AB4-Z20)","v":0},{"$f":"IF(AA21=0,0,(AA21*((LOG(AA21))/LOG(2))))","v":0},null,{"$f":"N21","v":2221},{"$f":"COUNTIF(L8:L9,AD21)","v":0},{"$f":"AE21/(AG4-AE20)","v":0},{"$f":"IF(AF21=0,0,(AF21*((LOG(AF21))/LOG(2))))","v":0},null,{"$f":"N21","v":2221},{"$f":"COUNTIF(L9:L9,AI21)","v":0},{"$f":"AJ21/(AL4-AJ20)","v":0},{"$f":"IF(AK21=0,0,(AK21*((LOG(AK21))/LOG(2))))","v":0},null,{"$f":"N21","v":2221},{"$f":"COUNTIF(L10:L10,AN21)","v":0},{"$f":"AO21/(AQ4-AO20)","v":0},{"$f":"IF(AP21=0,0,(AP21*((LOG(AP21))/LOG(2))))","v":0},null,{"$f":"N21","v":2221},{"$f":"COUNTIF(L11:L11,AS21)","v":0},{"$f":"AT21/(AV4-AT20)","v":0},{"$f":"IF(AU21=0,0,(AU21*((LOG(AU21))/LOG(2))))","v":0}]
[null,null,null,null,null,null,null,null,null,null,null,null,null,2222,{"$f":"COUNTIF($L$7:$L$500,N22)","v":1},{"$f":"O22/$Q$4","v":0.2},{"$f":"IF(P22=0,0,(P22*((LOG(P22))/LOG(2))))","v":-0.46438561897747244},null,null,{"$f":"N22","v":2222},{"$f":"COUNTIF(L7:L7,T22)","v":0},{"$f":"U22/(W4-U20)","v":0},{"$f":"IF(V22=0,0,(V22*((LOG(V22))/LOG(2))))","v":0},null,{"$f":"N22","v":2222},{"$f":"COUNTIF(L8:L8,Y22)","v":0},{"$f":"Z22/(AB4-Z20)","v":0},{"$f":"IF(AA22=0,0,(AA22*((LOG(AA22))/LOG(2))))","v":0},null,{"$f":"N22","v":2222},{"$f":"COUNTIF(L8:L9,AD22)","v":0},{"$f":"AE22/(AG4-AE20)","v":0},{"$f":"IF(AF22=0,0,(AF22*((LOG(AF22))/LOG(2))))","v":0},null,{"$f":"N22","v":2222},{"$f":"COUNTIF(L9:L9,AI22)","v":0},{"$f":"AJ22/(AL4-AJ20)","v":0},{"$f":"IF(AK22=0,0,(AK22*((LOG(AK22))/LOG(2))))","v":0},null,{"$f":"N22","v":2222},{"$f":"COUNTIF(L10:L10,AN22)","v":0},{"$f":"AO22/(AQ4-AO20)","v":0},{"$f":"IF(AP22=0,0,(AP22*((LOG(AP22))/LOG(2))))","v":0},null,{"$f":"N22","v":2222},{"$f":"COUNTIF(L11:L11,AS22)","v":1},{"$f":"AT22/(AV4-AT20)","v":1},{"$f":"IF(AU22=0,0,(AU22*((LOG(AU22))/LOG(2))))","v":0}]
[null,null,null,null,null,null,null,null,null,null,null,null,null,null,null,{"$f":"SUM(P7:P22)","v":1},{"$f":"-SUM(Q7:Q22)","v":0.72192809488736231},null,null,null,null,{"$f":"SUM(V7:V22)","v":1},{"$f":"-SUM(W7:W22)","v":0},null,null,null,{"$f":"SUM(AA7:AA22)","v":1},{"$f":"-SUM(AB7:AB22)","v":0},null,null,null,{"$f":"SUM(AF7:AF22)","v":1},{"$f":"-SUM(AG7:AG22)","v":0},null,null,null,{"$f":"SUM(AK7:AK22)","v":1},{"$f":"-SUM(AL7:AL22)","v":0},null,null,null,{"$f":"SUM(AP7:AP22)","v":1},{"$f":"-SUM(AQ7:AQ22)","v":0},null,null,null,{"$f":"SUM(AU7:AU22)","v":1},{"$f":"-SUM(AV7:AV22)","v":0}]
[null,null,null,null,null,null,null,null,null,null,null,null,null,null,null,"U=",{"$f":"Q23/(LOG(Q4)/LOG(2))","v":0.31091750708257104},null,null,null,null,"U1=",{"$f":"W23/(LOG(W4)/LOG(2))","v":{"$error":"#DIV/0!"}},null,null,null,"U2=",{"$f":"AB23/(LOG(AB4)/LOG(2))","v":{"$error":"#DIV/0!"}},null,null,null,"U3=",{"$f":"AG23/(LOG(AG4)/LOG(2))","v":0},null,null,null,"U4=",{"$f":"AL23/(LOG(AL4)/LOG(2))","v":{"$error":"#DIV/0!"}},null,null,null,"U5=",{"$f":"AQ23/(LOG(AQ4)/LOG(2))","v":{"$error":"#DIV/0!"}},null,null,null,"U6=",{"$f":"AV23/(LOG(AV4)/LOG(2))","v":{"$error":"#DIV/0!"}}]
[]
[]
[null,null,null,null,null,null,null,null,null,null,null,null,null,"Total Target Seq"]
[null,null,null,null,null,null,null,null,null,null,null,null,null,{"$f":"COUNTIF(L7:L11,G3)","v":0},null,1,1,0,1,1,1]
[null,null,null,null,null,null,null,null,null,null,null,null,null,null,null,"% of reinforcement given in 6 equal intervals based on number of trials "]
[null,null,null,null,null,null,null,null,null,null,null,null,null,null,null,"%_1","%_2","%_3","%_4","%_5","%_6"]
[null,null,null,null,null,null,null,null,null,null,null,null,null,null,"target sequence",{"$f":"$G$3","v":2212},{"$f":"$G$3","v":2212},{"$f":"$G$3","v":2212},{"$f":"$G$3","v":2212},{"$f":"$G$3","v":2212},{"$f":"$G$3","v":2212}]
[null,null,null,null,null,null,null,null,null,null,null,null,null,null,"total reinforcement",{"$f":"U20","v":0},{"$f":"Z20","v":0},{"$f":"AE20","v":0},{"$f":"AJ20","v":0},{"$f":"AO20","v":0},{"$f":"AT20","v":0}]
[null,null,null,null,null,null,null,null,null,null,null,null,null,null,"% target"]
[null,null,null,null,null,null,null,null,null,null,null,null,null,null,"CCRF"]
[null,null,null,null,null,null,null,null,null,null,null,null,null,null,"% CCRf"]
[null,null,null,null,null,null,null,null,null,null,null,null,null,null,"average response rate",{"$f":"H7/P28","v":76},{"$f":"(H8-H7)/Q28","v":133},{"$f":"(H8-H8)/R28","v":{"$error":"#DIV/0!"}},{"$f":"(H9-H8)/S28","v":138},{"$f":"(H10-H9)/T28","v":1163},{"$f":"(H11-H10)/U28","v":11887}]

{"sheet":"!M922900.102","index":26,"n_rows":36,"n_cols":48,"rows_kept":36,"cut":false,"hidden":false,"merged":[[4,39,4,42],[5,39,5,40],[4,44,4,47],[5,44,5,45],[4,24,4,27],[5,24,5,25],[4,29,4,32],[5,29,5,30],[4,34,4,37],[5,34,5,35],[1,1,1,2],[5,13,5,14],[26,13,26,14],[27,13,27,14],[4,19,4,22],[5,19,5,20]]}
["Report for:!M922900.102"]
["Date:","<date>"]
["Hen:","<hen>",null,null,null,"Correct Sequence",{"$f":"Start!J2","v":2212},null,null,null,null,null,null,null,null,"Total Sequences in Data",{"$f":"4994-COUNTBLANK(L7:L5000)","v":4},null,null,null,null,"Total Sequences in Block Data",{"$f":"COUNTA(L7:L7)","v":1},null,null,null,"Total Sequences in Block Data",{"$f":"COUNTA(L7:L8)","v":2},null,null,null,"Total Sequences in Block Data",{"$f":"COUNTA(L8:L8)","v":1},null,null,null,"Total Sequences in Block Data",{"$f":"COUNTA(L9:L9)","v":1},null,null,null,"Total Sequences in Block Data",{"$f":"COUNTA(L9:L10)","v":2},null,null,null,"Total Sequences in Block Data",{"$f":"COUNTA(L10:L10)","v":1}]
[null,null,null,null,null,null,null,null,null,null,null,null,null,null,null,"Total Sequences in Summary",{"$f":"SUM(O7:O22)","v":4},null,null,null,null,"Total Sequences in Block Summary",{"$f":"SUM(U7:U22)","v":1},null,null,null,"Total Sequences in Block Summary",{"$f":"SUM(Z7:Z22)","v":2},null,null,null,"Total Sequences in Block Summary",{"$f":"SUM(AE7:AE22)","v":1},null,null,null,"Total Sequences in Block Summary",{"$f":"SUM(AJ7:AJ22)","v":1},null,null,null,"Total Sequences in Block Summary",{"$f":"SUM(AO7:AO22)","v":2},null,null,null,"Total Sequences in Block Summary",{"$f":"SUM(AT7:AT22)","v":1}]
[null,null,null,null,null,null,null,null,null,null,null,null,null,null,null,null,null,null,null,"Block 1",null,null,null,null,"Block 2",null,null,null,null,"Block 3",null,null,null,null,"Block 4",null,null,null,null,"Block 5",null,null,null,null,"Block 6"]
["Sequence\nComponent\n1","Time\n1","Sequence\nComponent\n2","Time\n2","Sequence\nComponent\n3","Time\n3","Sequence\nComponent\n4","Time\n4","Sequence\nComponent\n5","Time\n5","Correct?\n0=No 1=Yes","Sequence",null,"Frequency",null,"Relative Frequency","Variability",null,null,"Frequency",null,"Relative Frequency","Variability",null,"Frequency",null,"Relative Frequency","Variability",null,"Frequency",null,"Relative Frequency","Variability",null,"Frequency",null,"Relative Frequency","Variability",null,"Frequency",null,"Relative Frequency","Variability",null,"Frequency",null,"Relative Frequency","Variability"]
[12,27,14,38,13,48,14,60,null,null,0,1111,null,1111,{"$f":"COUNTIF($L$7:$L$500,N7)","v":4},{"$f":"O7/$Q$4","v":1},{"$f":"IF(P7=0,0,(P7*((LOG(P7))/LOG(2))))","v":0},null,null,{"$f":"N7","v":1111},{"$f":"COUNTIF(L7:L7,T7)","v":1},{"$f":"U7/(W4-U20)","v":1},{"$f":"IF(V7=0,0,(V7*((LOG(V7))/LOG(2))))","v":0},null,{"$f":"N7","v":1111},{"$f":"COUNTIF(L7:L8,Y7)","v":2},{"$f":"Z7/(AB4-Z20)","v":1},{"$f":"IF(AA7=0,0,(AA7*((LOG(AA7))/LOG(2))))","v":0},null,{"$f":"N7","v":1111},{"$f":"COUNTIF(L8:L8,AD7)","v":1},{"$f":"AE7/(AG4-AE20)","v":1},{"$f":"IF(AF7=0,0,(AF7*((LOG(AF7))/LOG(2))))","v":0},null,{"$f":"N7","v":1111},{"$f":"COUNTIF(L9:L9,AI7)","v":1},{"$f":"AJ7/(AL4-AJ20)","v":1},{"$f":"IF(AK7=0,0,(AK7*((LOG(AK7))/LOG(2))))","v":0},null,{"$f":"N7","v":1111},{"$f":"COUNTIF(L9:L10,AN7)","v":2},{"$f":"AO7/(AQ4-AO20)","v":1},{"$f":"IF(AP7=0,0,(AP7*((LOG(AP7))/LOG(2))))","v":0},null,{"$f":"N7","v":1111},{"$f":"COUNTIF(L10:L10,AS7)","v":1},{"$f":"AT7/(AV4-AT20)","v":1},{"$f":"IF(AU7=0,0,(AU7*((LOG(AU7))/LOG(2))))","v":0}]
[12,202,14,215,13,237,14,253,null,null,0,1111,null,1112,{"$f":"COUNTIF($L$7:$L$500,N8)","v":0},{"$f":"O8/$Q$4","v":0},{"$f":"IF(P8=0,0,(P8*((LOG(P8))/LOG(2))))","v":0},null,null,{"$f":"N8","v":1112},{"$f":"COUNTIF(L7:L7,T8)","v":0},{"$f":"U8/(W4-U20)","v":0},{"$f":"IF(V8=0,0,(V8*((LOG(V8))/LOG(2))))","v":0},null,{"$f":"N8","v":1112},{"$f":"COUNTIF(L7:L8,Y8)","v":0},{"$f":"Z8/(AB4-Z20)","v":0},{"$f":"IF(AA8=0,0,(AA8*((LOG(AA8))/LOG(2))))","v":0},null,{"$f":"N8","v":1112},{"$f":"COUNTIF(L8:L8,AD8)","v":0},{"$f":"AE8/(AG4-AE20)","v":0},{"$f":"IF(AF8=0,0,(AF8*((LOG(AF8))/LOG(2))))","v":0},null,{"$f":"N8","v":1112},{"$f":"COUNTIF(L9:L9,AI8)","v":0},{"$f":"AJ8/(AL4-AJ20)","v":0},{"$f":"IF(AK8=0,0,(AK8*((LOG(AK8))/LOG(2))))","v":0},null,{"$f":"N8","v":1112},{"$f":"COUNTIF(L9:L10,AN8)","v":0},{"$f":"AO8/(AQ4-AO20)","v":0},{"$f":"IF(AP8=0,0,(AP8*((LOG(AP8))/LOG(2))))","v":0},null,{"$f":"N8","v":1112},{"$f":"COUNTIF(L10:L10,AS8)","v":0},{"$f":"AT8/(AV4-AT20)","v":0},{"$f":"IF(AU8=0,0,(AU8*((LOG(AU8))/LOG(2))))","v":0}]
[12,448,14,456,13,461,14,467,null,null,0,1111,null,1121,{"$f":"COUNTIF($L$7:$L$500,N9)","v":0},{"$f":"O9/$Q$4","v":0},{"$f":"IF(P9=0,0,(P9*((LOG(P9))/LOG(2))))","v":0},null,null,{"$f":"N9","v":1121},{"$f":"COUNTIF(L7:L7,T9)","v":0},{"$f":"U9/(W4-U20)","v":0},{"$f":"IF(V9=0,0,(V9*((LOG(V9))/LOG(2))))","v":0},null,{"$f":"N9","v":1121},{"$f":"COUNTIF(L7:L8,Y9)","v":0},{"$f":"Z9/(AB4-Z20)","v":0},{"$f":"IF(AA9=0,0,(AA9*((LOG(AA9))/LOG(2))))","v":0},null,{"$f":"N9","v":1121},{"$f":"COUNTIF(L8:L8,AD9)","v":0},{"$f":"AE9/(AG4-AE20)","v":0},{"$f":"IF(AF9=0,0,(AF9*((LOG(AF9))/LOG(2))))","v":0},null,{"$f":"N9","v":1121},{"$f":"COUNTIF(L9:L9,AI9)","v":0},{"$f":"AJ9/(AL4-AJ20)","v":0},{"$f":"IF(AK9=0,0,(AK9*((LOG(AK9))/LOG(2))))","v":0},null,{"$f":"N9","v":1121},{"$f":"COUNTIF(L9:L10,AN9)","v":0},{"$f":"AO9/(AQ4-AO20)","v":0},{"$f":"IF(AP9=0,0,(AP9*((LOG(AP9))/LOG(2))))","v":0},null,{"$f":"N9","v":1121},{"$f":"COUNTIF(L10:L10,AS9)","v":0},{"$f":"AT9/(AV4-AT20)","v":0},{"$f":"IF(AU9=0,0,(AU9*((LOG(AU9))/LOG(2))))","v":0}]
[12,598,14,603,13,609,14,615,null,null,0,1111,null,1122,{"$f":"COUNTIF($L$7:$L$500,N10)","v":0},{"$f":"O10/$Q$4","v":0},{"$f":"IF(P10=0,0,(P10*((LOG(P10))/LOG(2))))","v":0},null,null,{"$f":"N10","v":1122},{"$f":"COUNTIF(L7:L7,T10)","v":0},{"$f":"U10/(W4-U20)","v":0},{"$f":"IF(V10=0,0,(V10*((LOG(V10))/LOG(2))))","v":0},null,{"$f":"N10","v":1122},{"$f":"COUNTIF(L7:L8,Y10)","v":0},{"$f":"Z10/(AB4-Z20)","v":0},{"$f":"IF(AA10=0,0,(AA10*((LOG(AA10))/LOG(2))))","v":0},null,{"$f":"N10","v":1122},{"$f":"COUNTIF(L8:L8,AD10)","v":0},{"$f":"AE10/(AG4-AE20)","v":0},{"$f":"IF(AF10=0,0,(AF10*((LOG(AF10))/LOG(2))))","v":0},null,{"$f":"N10","v":1122},{"$f":"COUNTIF(L9:L9,AI10)","v":0},{"$f":"AJ10/(AL4-AJ20)","v":0},{"$f":"IF(AK10=0,0,(AK10*((LOG(AK10))/LOG(2))))","v":0},null,{"$f":"N10","v":1122},{"$f":"COUNTIF(L9:L10,AN10)","v":0},{"$f":"AO10/(AQ4-AO20)","v":0},{"$f":"IF(AP10=0,0,(AP10*((LOG(AP10))/LOG(2))))","v":0},null,{"$f":"N10","v":1122},{"$f":"COUNTIF(L10:L10,AS10)","v":0},{"$f":"AT10/(AV4-AT20)","v":0},{"$f":"IF(AU10=0,0,(AU10*((LOG(AU10))/LOG(2))))","v":0}]
[null,null,null,null,null,null,null,null,null,null,null,null,null,1211,{"$f":"COUNTIF($L$7:$L$500,N11)","v":0},{"$f":"O11/$Q$4","v":0},{"$f":"IF(P11=0,0,(P11*((LOG(P11))/LOG(2))))","v":0},null,null,{"$f":"N11","v":1211},{"$f":"COUNTIF(L7:L7,T11)","v":0},{"$f":"U11/(W4-U20)","v":0},{"$f":"IF(V11=0,0,(V11*((LOG(V11))/LOG(2))))","v":0},null,{"$f":"N11","v":1211},{"$f":"COUNTIF(L7:L8,Y11)","v":0},{"$f":"Z11/(AB4-Z20)","v":0},{"$f":"IF(AA11=0,0,(AA11*((LOG(AA11))/LOG(2))))","v":0},null,{"$f":"N11","v":1211},{"$f":"COUNTIF(L8:L8,AD11)","v":0},{"$f":"AE11/(AG4-AE20)","v":0},{"$f":"IF(AF11=0,0,(AF11*((LOG(AF11))/LOG(2))))","v":0},null,{"$f":"N11","v":1211},{"$f":"COUNTIF(L9:L9,AI11)","v":0},{"$f":"AJ11/(AL4-AJ20)","v":0},{"$f":"IF(AK11=0,0,(AK11*((LOG(AK11))/LOG(2))))","v":0},null,{"$f":"N11","v":1211},{"$f":"COUNTIF(L9:L10,AN11)","v":0},{"$f":"AO11/(AQ4-AO20)","v":0},{"$f":"IF(AP11=0,0,(AP11*((LOG(AP11))/LOG(2))))","v":0},null,{"$f":"N11","v":1211},{"$f":"COUNTIF(L10:L10,AS11)","v":0},{"$f":"AT11/(AV4-AT20)","v":0},{"$f":"IF(AU11=0,0,(AU11*((LOG(AU11))/LOG(2))))","v":0}]
[null,null,null,null,null,null,null,null,null,null,null,null,null,1212,{"$f":"COUNTIF($L$7:$L$500,N12)","v":0},{"$f":"O12/$Q$4","v":0},{"$f":"IF(P12=0,0,(P12*((LOG(P12))/LOG(2))))","v":0},null,null,{"$f":"N12","v":1212},{"$f":"COUNTIF(L7:L7,T12)","v":0},{"$f":"U12/(W4-U20)","v":0},{"$f":"IF(V12=0,0,(V12*((LOG(V12))/LOG(2))))","v":0},null,{"$f":"N12","v":1212},{"$f":"COUNTIF(L7:L8,Y12)","v":0},{"$f":"Z12/(AB4-Z20)","v":0},{"$f":"IF(AA12=0,0,(AA12*((LOG(AA12))/LOG(2))))","v":0},null,{"$f":"N12","v":1212},{"$f":"COUNTIF(L8:L8,AD12)","v":0},{"$f":"AE12/(AG4-AE20)","v":0},{"$f":"IF(AF12=0,0,(AF12*((LOG(AF12))/LOG(2))))","v":0},null,{"$f":"N12","v":1212},{"$f":"COUNTIF(L9:L9,AI12)","v":0},{"$f":"AJ12/(AL4-AJ20)","v":0},{"$f":"IF(AK12=0,0,(AK12*((LOG(AK12))/LOG(2))))","v":0},null,{"$f":"N12","v":1212},{"$f":"COUNTIF(L9:L10,AN12)","v":0},{"$f":"AO12/(AQ4-AO20)","v":0},{"$f":"IF(AP12=0,0,(AP12*((LOG(AP12))/LOG(2))))","v":0},null,{"$f":"N12","v":1212},{"$f":"COUNTIF(L10:L10,AS12)","v":0},{"$f":"AT12/(AV4-AT20)","v":0},{"$f":"IF(AU12=0,0,(AU12*((LOG(AU12))/LOG(2))))","v":0}]
[null,null,null,null,null,null,null,null,null,null,null,null,null,1221,{"$f":"COUNTIF($L$7:$L$500,N13)","v":0},{"$f":"O13/$Q$4","v":0},{"$f":"IF(P13=0,0,(P13*((LOG(P13))/LOG(2))))","v":0},null,null,{"$f":"N13","v":1221},{"$f":"COUNTIF(L7:L7,T13)","v":0},{"$f":"U13/(W4-U20)","v":0},{"$f":"IF(V13=0,0,(V13*((LOG(V13))/LOG(2))))","v":0},null,{"$f":"N13","v":1221},{"$f":"COUNTIF(L7:L8,Y13)","v":0},{"$f":"Z13/(AB4-Z20)","v":0},{"$f":"IF(AA13=0,0,(AA13*((LOG(AA13))/LOG(2))))","v":0},null,{"$f":"N13","v":1221},{"$f":"COUNTIF(L8:L8,AD13)","v":0},{"$f":"AE13/(AG4-AE20)","v":0},{"$f":"IF(AF13=0,0,(AF13*((LOG(AF13))/LOG(2))))","v":0},null,{"$f":"N13","v":1221},{"$f":"COUNTIF(L9:L9,AI13)","v":0},{"$f":"AJ13/(AL4-AJ20)","v":0},{"$f":"IF(AK13=0,0,(AK13*((LOG(AK13))/LOG(2))))","v":0},null,{"$f":"N13","v":1221},{"$f":"COUNTIF(L9:L10,AN13)","v":0},{"$f":"AO13/(AQ4-AO20)","v":0},{"$f":"IF(AP13=0,0,(AP13*((LOG(AP13))/LOG(2))))","v":0},null,{"$f":"N13","v":1221},{"$f":"COUNTIF(L10:L10,AS13)","v":0},{"$f":"AT13/(AV4-AT20)","v":0},{"$f":"IF(AU13=0,0,(AU13*((LOG(AU13))/LOG(2))))","v":0}]
[null,null,null,null,null,null,null,null,null,null,null,null,null,1222,{"$f":"COUNTIF($L$7:$L$500,N14)","v":0},{"$f":"O14/$Q$4","v":0},{"$f":"IF(P14=0,0,(P14*((LOG(P14))/LOG(2))))","v":0},null,null,{"$f":"N14","v":1222},{"$f":"COUNTIF(L7:L7,T14)","v":0},{"$f":"U14/(W4-U20)","v":0},{"$f":"IF(V14=0,0,(V14*((LOG(V14))/LOG(2))))","v":0},null,{"$f":"N14","v":1222},{"$f":"COUNTIF(L7:L8,Y14)","v":0},{"$f":"Z14/(AB4-Z20)","v":0},{"$f":"IF(AA14=0,0,(AA14*((LOG(AA14))/LOG(2))))","v":0},null,{"$f":"N14","v":1222},{"$f":"COUNTIF(L8:L8,AD14)","v":0},{"$f":"AE14/(AG4-AE20)","v":0},{"$f":"IF(AF14=0,0,(AF14*((LOG(AF14))/LOG(2))))","v":0},null,{"$f":"N14","v":1222},{"$f":"COUNTIF(L9:L9,AI14)","v":0},{"$f":"AJ14/(AL4-AJ20)","v":0},{"$f":"IF(AK14=0,0,(AK14*((LOG(AK14))/LOG(2))))","v":0},null,{"$f":"N14","v":1222},{"$f":"COUNTIF(L9:L10,AN14)","v":0},{"$f":"AO14/(AQ4-AO20)","v":0},{"$f":"IF(AP14=0,0,(AP14*((LOG(AP14))/LOG(2))))","v":0},null,{"$f":"N14","v":1222},{"$f":"COUNTIF(L10:L10,AS14)","v":0},{"$f":"AT14/(AV4-AT20)","v":0},{"$f":"IF(AU14=0,0,(AU14*((LOG(AU14))/LOG(2))))","v":0}]
[null,null,null,null,null,null,null,null,null,null,null,null,null,2111,{"$f":"COUNTIF($L$7:$L$500,N15)","v":0},{"$f":"O15/$Q$4","v":0},{"$f":"IF(P15=0,0,(P15*((LOG(P15))/LOG(2))))","v":0},null,null,{"$f":"N15","v":2111},{"$f":"COUNTIF(L7:L7,T15)","v":0},{"$f":"U15/(W4-U20)","v":0},{"$f":"IF(V15=0,0,(V15*((LOG(V15))/LOG(2))))","v":0},null,{"$f":"N15","v":2111},{"$f":"COUNTIF(L7:L8,Y15)","v":0},{"$f":"Z15/(AB4-Z20)","v":0},{"$f":"IF(AA15=0,0,(AA15*((LOG(AA15))/LOG(2))))","v":0},null,{"$f":"N15","v":2111},{"$f":"COUNTIF(L8:L8,AD15)","v":0},{"$f":"AE15/(AG4-AE20)","v":0},{"$f":"IF(AF15=0,0,(AF15*((LOG(AF15))/LOG(2))))","v":0},null,{"$f":"N15","v":2111},{"$f":"COUNTIF(L9:L9,AI15)","v":0},{"$f":"AJ15/(AL4-AJ20)","v":0},{"$f":"IF(AK15=0,0,(AK15*((LOG(AK15))/LOG(2))))","v":0},null,{"$f":"N15","v":2111},{"$f":"COUNTIF(L9:L10,AN15)","v":0},{"$f":"AO15/(AQ4-AO20)","v":0},{"$f":"IF(AP15=0,0,(AP15*((LOG(AP15))/LOG(2))))","v":0},null,{"$f":"N15","v":2111},{"$f":"COUNTIF(L10:L10,AS15)","v":0},{"$f":"AT15/(AV4-AT20)","v":0},{"$f":"IF(AU15=0,0,(AU15*((LOG(AU15))/LOG(2))))","v":0}]
[null,null,null,null,null,null,null,null,null,null,null,null,null,2112,{"$f":"COUNTIF($L$7:$L$500,N16)","v":0},{"$f":"O16/$Q$4","v":0},{"$f":"IF(P16=0,0,(P16*((LOG(P16))/LOG(2))))","v":0},null,null,{"$f":"N16","v":2112},{"$f":"COUNTIF(L7:L7,T16)","v":0},{"$f":"U16/(W4-U20)","v":0},{"$f":"IF(V16=0,0,(V16*((LOG(V16))/LOG(2))))","v":0},null,{"$f":"N16","v":2112},{"$f":"COUNTIF(L7:L8,Y16)","v":0},{"$f":"Z16/(AB4-Z20)","v":0},{"$f":"IF(AA16=0,0,(AA16*((LOG(AA16))/LOG(2))))","v":0},null,{"$f":"N16","v":2112},{"$f":"COUNTIF(L8:L8,AD16)","v":0},{"$f":"AE16/(AG4-AE20)","v":0},{"$f":"IF(AF16=0,0,(AF16*((LOG(AF16))/LOG(2))))","v":0},null,{"$f":"N16","v":2112},{"$f":"COUNTIF(L9:L9,AI16)","v":0},{"$f":"AJ16/(AL4-AJ20)","v":0},{"$f":"IF(AK16=0,0,(AK16*((LOG(AK16))/LOG(2))))","v":0},null,{"$f":"N16","v":2112},{"$f":"COUNTIF(L9:L10,AN16)","v":0},{"$f":"AO16/(AQ4-AO20)","v":0},{"$f":"IF(AP16=0,0,(AP16*((LOG(AP16))/LOG(2))))","v":0},null,{"$f":"N16","v":2112},{"$f":"COUNTIF(L10:L10,AS16)","v":0},{"$f":"AT16/(AV4-AT20)","v":0},{"$f":"IF(AU16=0,0,(AU16*((LOG(AU16))/LOG(2))))","v":0}]
[null,null,null,null,null,null,null,null,null,null,null,null,null,2121,{"$f":"COUNTIF($L$7:$L$500,N17)","v":0},{"$f":"O17/$Q$4","v":0},{"$f":"IF(P17=0,0,(P17*((LOG(P17))/LOG(2))))","v":0},null,null,{"$f":"N17","v":2121},{"$f":"COUNTIF(L7:L7,T17)","v":0},{"$f":"U17/(W4-U20)","v":0},{"$f":"IF(V17=0,0,(V17*((LOG(V17))/LOG(2))))","v":0},null,{"$f":"N17","v":2121},{"$f":"COUNTIF(L7:L8,Y17)","v":0},{"$f":"Z17/(AB4-Z20)","v":0},{"$f":"IF(AA17=0,0,(AA17*((LOG(AA17))/LOG(2))))","v":0},null,{"$f":"N17","v":2121},{"$f":"COUNTIF(L8:L8,AD17)","v":0},{"$f":"AE17/(AG4-AE20)","v":0},{"$f":"IF(AF17=0,0,(AF17*((LOG(AF17))/LOG(2))))","v":0},null,{"$f":"N17","v":2121},{"$f":"COUNTIF(L9:L9,AI17)","v":0},{"$f":"AJ17/(AL4-AJ20)","v":0},{"$f":"IF(AK17=0,0,(AK17*((LOG(AK17))/LOG(2))))","v":0},null,{"$f":"N17","v":2121},{"$f":"COUNTIF(L9:L10,AN17)","v":0},{"$f":"AO17/(AQ4-AO20)","v":0},{"$f":"IF(AP17=0,0,(AP17*((LOG(AP17))/LOG(2))))","v":0},null,{"$f":"N17","v":2121},{"$f":"COUNTIF(L10:L10,AS17)","v":0},{"$f":"AT17/(AV4-AT20)","v":0},{"$f":"IF(AU17=0,0,(AU17*((LOG(AU17))/LOG(2))))","v":0}]
[null,null,null,null,null,null,null,null,null,null,null,null,null,2122,{"$f":"COUNTIF($L$7:$L$500,N18)","v":0},{"$f":"O18/$Q$4","v":0},{"$f":"IF(P18=0,0,(P18*((LOG(P18))/LOG(2))))","v":0},null,null,{"$f":"N18","v":2122},{"$f":"COUNTIF(L7:L7,T18)","v":0},{"$f":"U18/(W4-U20)","v":0},{"$f":"IF(V18=0,0,(V18*((LOG(V18))/LOG(2))))","v":0},null,{"$f":"N18","v":2122},{"$f":"COUNTIF(L7:L8,Y18)","v":0},{"$f":"Z18/(AB4-Z20)","v":0},{"$f":"IF(AA18=0,0,(AA18*((LOG(AA18))/LOG(2))))","v":0},null,{"$f":"N18","v":2122},{"$f":"COUNTIF(L8:L8,AD18)","v":0},{"$f":"AE18/(AG4-AE20)","v":0},{"$f":"IF(AF18=0,0,(AF18*((LOG(AF18))/LOG(2))))","v":0},null,{"$f":"N18","v":2122},{"$f":"COUNTIF(L9:L9,AI18)","v":0},{"$f":"AJ18/(AL4-AJ20)","v":0},{"$f":"IF(AK18=0,0,(AK18*((LOG(AK18))/LOG(2))))","v":0},null,{"$f":"N18","v":2122},{"$f":"COUNTIF(L9:L10,AN18)","v":0},{"$f":"AO18/(AQ4-AO20)","v":0},{"$f":"IF(AP18=0,0,(AP18*((LOG(AP18))/LOG(2))))","v":0},null,{"$f":"N18","v":2122},{"$f":"COUNTIF(L10:L10,AS18)","v":0},{"$f":"AT18/(AV4-AT20)","v":0},{"$f":"IF(AU18=0,0,(AU18*((LOG(AU18))/LOG(2))))","v":0}]
[null,null,null,null,null,null,null,null,null,null,null,null,null,2211,{"$f":"COUNTIF($L$7:$L$500,N19)","v":0},{"$f":"O19/$Q$4","v":0},{"$f":"IF(P19=0,0,(P19*((LOG(P19))/LOG(2))))","v":0},null,null,{"$f":"N19","v":2211},{"$f":"COUNTIF(L7:L7,T19)","v":0},{"$f":"U19/(W4-U20)","v":0},{"$f":"IF(V19=0,0,(V19*((LOG(V19))/LOG(2))))","v":0},null,{"$f":"N19","v":2211},{"$f":"COUNTIF(L7:L8,Y19)","v":0},{"$f":"Z19/(AB4-Z20)","v":0},{"$f":"IF(AA19=0,0,(AA19*((LOG(AA19))/LOG(2))))","v":0},null,{"$f":"N19","v":2211},{"$f":"COUNTIF(L8:L8,AD19)","v":0},{"$f":"AE19/(AG4-AE20)","v":0},{"$f":"IF(AF19=0,0,(AF19*((LOG(AF19))/LOG(2))))","v":0},null,{"$f":"N19","v":2211},{"$f":"COUNTIF(L9:L9,AI19)","v":0},{"$f":"AJ19/(AL4-AJ20)","v":0},{"$f":"IF(AK19=0,0,(AK19*((LOG(AK19))/LOG(2))))","v":0},null,{"$f":"N19","v":2211},{"$f":"COUNTIF(L9:L10,AN19)","v":0},{"$f":"AO19/(AQ4-AO20)","v":0},{"$f":"IF(AP19=0,0,(AP19*((LOG(AP19))/LOG(2))))","v":0},null,{"$f":"N19","v":2211},{"$f":"COUNTIF(L10:L10,AS19)","v":0},{"$f":"AT19/(AV4-AT20)","v":0},{"$f":"IF(AU19=0,0,(AU19*((LOG(AU19))/LOG(2))))","v":0}]
[null,null,null,null,null,null,null,null,null,null,null,null,null,2212,{"$f":"COUNTIF($L$7:$L$500,N20)","v":0},{"$f":"O20/$Q$4","v":0},{"$f":"IF(P20=0,0,(P20*((LOG(P20))/LOG(2))))","v":0},null,null,{"$f":"N20","v":2212},{"$f":"COUNTIF(L7:L7,T20)","v":0},null,null,null,{"$f":"N20","v":2212},{"$f":"COUNTIF(L7:L8,Y20)","v":0},null,null,null,{"$f":"N20","v":2212},{"$f":"COUNTIF(L8:L8,AD20)","v":0},null,null,null,{"$f":"N20","v":2212},{"$f":"COUNTIF(L9:L9,AI20)","v":0},null,null,null,{"$f":"N20","v":2212},{"$f":"COUNTIF(L9:L10,AN20)","v":0},null,null,null,{"$f":"N20","v":2212},{"$f":"COUNTIF(L10:L10,AS20)","v":0}]
[null,null,null,null,null,null,null,null,null,null,null,null,null,2221,{"$f":"COUNTIF($L$7:$L$500,N21)","v":0},{"$f":"O21/$Q$4","v":0},{"$f":"IF(P21=0,0,(P21*((LOG(P21))/LOG(2))))","v":0},null,null,{"$f":"N21","v":2221},{"$f":"COUNTIF(L7:L7,T21)","v":0},{"$f":"U21/(W4-U20)","v":0},{"$f":"IF(V21=0,0,(V21*((LOG(V21))/LOG(2))))","v":0},null,{"$f":"N21","v":2221},{"$f":"COUNTIF(L7:L8,Y21)","v":0},{"$f":"Z21/(AB4-Z20)","v":0},{"$f":"IF(AA21=0,0,(AA21*((LOG(AA21))/LOG(2))))","v":0},null,{"$f":"N21","v":2221},{"$f":"COUNTIF(L8:L8,AD21)","v":0},{"$f":"AE21/(AG4-AE20)","v":0},{"$f":"IF(AF21=0,0,(AF21*((LOG(AF21))/LOG(2))))","v":0},null,{"$f":"N21","v":2221},{"$f":"COUNTIF(L9:L9,AI21)","v":0},{"$f":"AJ21/(AL4-AJ20)","v":0},{"$f":"IF(AK21=0,0,(AK21*((LOG(AK21))/LOG(2))))","v":0},null,{"$f":"N21","v":2221},{"$f":"COUNTIF(L9:L10,AN21)","v":0},{"$f":"AO21/(AQ4-AO20)","v":0},{"$f":"IF(AP21=0,0,(AP21*((LOG(AP21))/LOG(2))))","v":0},null,{"$f":"N21","v":2221},{"$f":"COUNTIF(L10:L10,AS21)","v":0},{"$f":"AT21/(AV4-AT20)","v":0},{"$f":"IF(AU21=0,0,(AU21*((LOG(AU21))/LOG(2))))","v":0}]
[null,null,null,null,null,null,null,null,null,null,null,null,null,2222,{"$f":"COUNTIF($L$7:$L$500,N22)","v":0},{"$f":"O22/$Q$4","v":0},{"$f":"IF(P22=0,0,(P22*((LOG(P22))/LOG(2))))","v":0},null,null,{"$f":"N22","v":2222},{"$f":"COUNTIF(L7:L7,T22)","v":0},{"$f":"U22/(W4-U20)","v":0},{"$f":"IF(V22=0,0,(V22*((LOG(V22))/LOG(2))))","v":0},null,{"$f":"N22","v":2222},{"$f":"COUNTIF(L7:L8,Y22)","v":0},{"$f":"Z22/(AB4-Z20)","v":0},{"$f":"IF(AA22=0,0,(AA22*((LOG(AA22))/LOG(2))))","v":0},null,{"$f":"N22","v":2222},{"$f":"COUNTIF(L8:L8,AD22)","v":0},{"$f":"AE22/(AG4-AE20)","v":0},{"$f":"IF(AF22=0,0,(AF22*((LOG(AF22))/LOG(2))))","v":0},null,{"$f":"N22","v":2222},{"$f":"COUNTIF(L9:L9,AI22)","v":0},{"$f":"AJ22/(AL4-AJ20)","v":0},{"$f":"IF(AK22=0,0,(AK22*((LOG(AK22))/LOG(2))))","v":0},null,{"$f":"N22","v":2222},{"$f":"COUNTIF(L9:L10,AN22)","v":0},{"$f":"AO22/(AQ4-AO20)","v":0},{"$f":"IF(AP22=0,0,(AP22*((LOG(AP22))/LOG(2))))","v":0},null,{"$f":"N22","v":2222},{"$f":"COUNTIF(L10:L10,AS22)","v":0},{"$f":"AT22/(AV4-AT20)","v":0},{"$f":"IF(AU22=0,0,(AU22*((LOG(AU22))/LOG(2))))","v":0}]
[null,null,null,null,null,null,null,null,null,null,null,null,null,null,null,{"$f":"SUM(P7:P22)","v":1},{"$f":"-SUM(Q7:Q22)","v":0},null,null,null,null,{"$f":"SUM(V7:V22)","v":1},{"$f":"-SUM(W7:W22)","v":0},null,null,null,{"$f":"SUM(AA7:AA22)","v":1},{"$f":"-SUM(AB7:AB22)","v":0},null,null,null,{"$f":"SUM(AF7:AF22)","v":1},{"$f":"-SUM(AG7:AG22)","v":0},null,null,null,{"$f":"SUM(AK7:AK22)","v":1},{"$f":"-SUM(AL7:AL22)","v":0},null,null,null,{"$f":"SUM(AP7:AP22)","v":1},{"$f":"-SUM(AQ7:AQ22)","v":0},null,null,null,{"$f":"SUM(AU7:AU22)","v":1},{"$f":"-SUM(AV7:AV22)","v":0}]
[null,null,null,null,null,null,null,null,null,null,null,null,null,null,null,"U=",{"$f":"Q23/(LOG(Q4)/LOG(2))","v":0},null,null,null,null,"U1=",{"$f":"W23/(LOG(W4)/LOG(2))","v":{"$error":"#DIV/0!"}},null,null,null,"U2=",{"$f":"AB23/(LOG(AB4)/LOG(2))","v":0},null,null,null,"U3=",{"$f":"AG23/(LOG(AG4)/LOG(2))","v":{"$error":"#DIV/0!"}},null,null,null,"U4=",{"$f":"AL23/(LOG(AL4)/LOG(2))","v":{"$error":"#DIV/0!"}},null,null,null,"U5=",{"$f":"AQ23/(LOG(AQ4)/LOG(2))","v":0},null,null,null,"U6=",{"$f":"AV23/(LOG(AV4)/LOG(2))","v":{"$error":"#DIV/0!"}}]
[]
[]
[null,null,null,null,null,null,null,null,null,null,null,null,null,"Total Target Seq"]
[null,null,null,null,null,null,null,null,null,null,null,null,null,{"$f":"COUNTIF(L7:L10,G3)","v":0},null,1,0,1,1,0,1]
[null,null,null,null,null,null,null,null,null,null,null,null,null,null,null,"% of reinforcement given in 6 equal intervals based on number of trials "]
[null,null,null,null,null,null,null,null,null,null,null,null,null,null,null,"%_1","%_2","%_3","%_4","%_5","%_6"]
[null,null,null,null,null,null,null,null,null,null,null,null,null,null,"target sequence",{"$f":"$G$3","v":2212},{"$f":"$G$3","v":2212},{"$f":"$G$3","v":2212},{"$f":"$G$3","v":2212},{"$f":"$G$3","v":2212},{"$f":"$G$3","v":2212}]
[null,null,null,null,null,null,null,null,null,null,null,null,null,null,"total reinforcement",{"$f":"U20","v":0},{"$f":"Z20","v":0},{"$f":"AE20","v":0},{"$f":"AJ20","v":0},{"$f":"AO20","v":0},{"$f":"AT20","v":0}]
[null,null,null,null,null,null,null,null,null,null,null,null,null,null,"% target"]
[null,null,null,null,null,null,null,null,null,null,null,null,null,null,"CCRF"]
[null,null,null,null,null,null,null,null,null,null,null,null,null,null,"% CCRf"]
[null,null,null,null,null,null,null,null,null,null,null,null,null,null,"average response rate",{"$f":"H7/P28","v":60},{"$f":"(H7-H7)/Q28","v":{"$error":"#DIV/0!"}},{"$f":"(H8-H7)/R28","v":193},{"$f":"(H9-H8)/S28","v":214},{"$f":"(H9-H9)/T28","v":{"$error":"#DIV/0!"}},{"$f":"(H10-H9)/U28","v":148}]

{"sheet":"!M923A10.102","index":27,"n_rows":36,"n_cols":48,"rows_kept":36,"cut":false,"hidden":false,"merged":[[4,39,4,42],[5,39,5,40],[4,44,4,47],[5,44,5,45],[4,24,4,27],[5,24,5,25],[4,29,4,32],[5,29,5,30],[4,34,4,37],[5,34,5,35],[1,1,1,2],[5,13,5,14],[26,13,26,14],[27,13,27,14],[4,19,4,22],[5,19,5,20]]}
["Report for:!M923A10.102"]
["Date:","<date>"]
["Hen:","<hen>",null,null,null,"Correct Sequence",{"$f":"Start!J2","v":2212},null,null,null,null,null,null,null,null,"Total Sequences in Data",{"$f":"4994-COUNTBLANK(L7:L5000)","v":5},null,null,null,null,"Total Sequences in Block Data",{"$f":"COUNTA(L7:L7)","v":1},null,null,null,"Total Sequences in Block Data",{"$f":"COUNTA(L8:L8)","v":1},null,null,null,"Total Sequences in Block Data",{"$f":"COUNTA(L8:L9)","v":2},null,null,null,"Total Sequences in Block Data",{"$f":"COUNTA(L9:L9)","v":1},null,null,null,"Total Sequences in Block Data",{"$f":"COUNTA(L10:L10)","v":1},null,null,null,"Total Sequences in Block Data",{"$f":"COUNTA(L11:L11)","v":1}]
[null,null,null,null,null,null,null,null,null,null,null,null,null,null,null,"Total Sequences in Summary",{"$f":"SUM(O7:O22)","v":4},null,null,null,null,"Total Sequences in Block Summary",{"$f":"SUM(U7:U22)","v":1},null,null,null,"Total Sequences in Block Summary",{"$f":"SUM(Z7:Z22)","v":1},null,null,null,"Total Sequences in Block Summary",{"$f":"SUM(AE7:AE22)","v":2},null,null,null,"Total Sequences in Block Summary",{"$f":"SUM(AJ7:AJ22)","v":1},null,null,null,"Total Sequences in Block Summary",{"$f":"SUM(AO7:AO22)","v":1},null,null,null,"Total Sequences in Block Summary",{"$f":"SUM(AT7:AT22)","v":0}]
[null,null,null,null,null,null,null,null,null,null,null,null,null,null,null,null,null,null,null,"Block 1",null,null,null,null,"Block 2",null,null,null,null,"Block 3",null,null,null,null,"Block 4",null,null,null,null,"Block 5",null,null,null,null,"Block 6"]
["Sequence\nComponent\n1","Time\n1","Sequence\nComponent\n2","Time\n2","Sequence\nComponent\n3","Time\n3","Sequence\nComponent\n4","Time\n4","Sequence\nComponent\n5","Time\n5","Correct?\n0=No 1=Yes","Sequence",null,"Frequency",null,"Relative Frequency","Variability",null,null,"Frequency",null,"Relative Frequency","Variability",null,"Frequency",null,"Relative Frequency","Variability",null,"Frequency",null,"Relative Frequency","Variability",null,"Frequency",null,"Relative Frequency","Variability",null,"Frequency",null,"Relative Frequency","Variability",null,"Frequency",null,"Relative Frequency","Variability"]
[12,27,14,52,13,64,14,79,null,null,0,1111,null,1111,{"$f":"COUNTIF($L$7:$L$500,N7)","v":4},{"$f":"O7/$Q$4","v":1},{"$f":"IF(P7=0,0,(P7*((LOG(P7))/LOG(2))))","v":0},null,null,{"$f":"N7","v":1111},{"$f":"COUNTIF(L7:L7,T7)","v":1},{"$f":"U7/(W4-U20)","v":1},{"$f":"IF(V7=0,0,(V7*((LOG(V7))/LOG(2))))","v":0},null,{"$f":"N7","v":1111},{"$f":"COUNTIF(L8:L8,Y7)","v":1},{"$f":"Z7/(AB4-Z20)","v":1},{"$f":"IF(AA7=0,0,(AA7*((LOG(AA7))/LOG(2))))","v":0},null,{"$f":"N7","v":1111},{"$f":"COUNTIF(L8:L9,AD7)","v":2},{"$f":"AE7/(AG4-AE20)","v":1},{"$f":"IF(AF7=0,0,(AF7*((LOG(AF7))/LOG(2))))","v":0},null,{"$f":"N7","v":1111},{"$f":"COUNTIF(L9:L9,AI7)","v":1},{"$f":"AJ7/(AL4-AJ20)","v":1},{"$f":"IF(AK7=0,0,(AK7*((LOG(AK7))/LOG(2))))","v":0},null,{"$f":"N7","v":1111},{"$f":"COUNTIF(L10:L10,AN7)","v":1},{"$f":"AO7/(AQ4-AO20)","v":1},{"$f":"IF(AP7=0,0,(AP7*((LOG(AP7))/LOG(2))))","v":0},null,{"$f":"N7","v":1111},{"$f":"COUNTIF(L11:L11,AS7)","v":0},{"$f":"AT7/(AV4-AT20)","v":{"$error":"#DIV/0!"}},{"$f":"IF(AU7=0,0,(AU7*((LOG(AU7))/LOG(2))))","v":{"$error":"#DIV/0!"}}]
[12,397,14,418,13,433,14,445,null,null,0,1111,null,1112,{"$f":"COUNTIF($L$7:$L$500,N8)","v":0},{"$f":"O8/$Q$4","v":0},{"$f":"IF(P8=0,0,(P8*((LOG(P8))/LOG(2))))","v":0},null,null,{"$f":"N8","v":1112},{"$f":"COUNTIF(L7:L7,T8)","v":0},{"$f":"U8/(W4-U20)","v":0},{"$f":"IF(V8=0,0,(V8*((LOG(V8))/LOG(2))))","v":0},null,{"$f":"N8","v":1112},{"$f":"COUNTIF(L8:L8,Y8)","v":0},{"$f":"Z8/(AB4-Z20)","v":0},{"$f":"IF(AA8=0,0,(AA8*((LOG(AA8))/LOG(2))))","v":0},null,{"$f":"N8","v":1112},{"$f":"COUNTIF(L8:L9,AD8)","v":0},{"$f":"AE8/(AG4-AE20)","v":0},{"$f":"IF(AF8=0,0,(AF8*((LOG(AF8))/LOG(2))))","v":0},null,{"$f":"N8","v":1112},{"$f":"COUNTIF(L9:L9,AI8)","v":0},{"$f":"AJ8/(AL4-AJ20)","v":0},{"$f":"IF(AK8=0,0,(AK8*((LOG(AK8))/LOG(2))))","v":0},null,{"$f":"N8","v":1112},{"$f":"COUNTIF(L10:L10,AN8)","v":0},{"$f":"AO8/(AQ4-AO20)","v":0},{"$f":"IF(AP8=0,0,(AP8*((LOG(AP8))/LOG(2))))","v":0},null,{"$f":"N8","v":1112},{"$f":"COUNTIF(L11:L11,AS8)","v":0},{"$f":"AT8/(AV4-AT20)","v":{"$error":"#DIV/0!"}},{"$f":"IF(AU8=0,0,(AU8*((LOG(AU8))/LOG(2))))","v":{"$error":"#DIV/0!"}}]
[12,566,14,606,13,622,14,659,null,null,0,1111,null,1121,{"$f":"COUNTIF($L$7:$L$500,N9)","v":0},{"$f":"O9/$Q$4","v":0},{"$f":"IF(P9=0,0,(P9*((LOG(P9))/LOG(2))))","v":0},null,null,{"$f":"N9","v":1121},{"$f":"COUNTIF(L7:L7,T9)","v":0},{"$f":"U9/(W4-U20)","v":0},{"$f":"IF(V9=0,0,(V9*((LOG(V9))/LOG(2))))","v":0},null,{"$f":"N9","v":1121},{"$f":"COUNTIF(L8:L8,Y9)","v":0},{"$f":"Z9/(AB4-Z20)","v":0},{"$f":"IF(AA9=0,0,(AA9*((LOG(AA9))/LOG(2))))","v":0},null,{"$f":"N9","v":1121},{"$f":"COUNTIF(L8:L9,AD9)","v":0},{"$f":"AE9/(AG4-AE20)","v":0},{"$f":"IF(AF9=0,0,(AF9*((LOG(AF9))/LOG(2))))","v":0},null,{"$f":"N9","v":1121},{"$f":"COUNTIF(L9:L9,AI9)","v":0},{"$f":"AJ9/(AL4-AJ20)","v":0},{"$f":"IF(AK9=0,0,(AK9*((LOG(AK9))/LOG(2))))","v":0},null,{"$f":"N9","v":1121},{"$f":"COUNTIF(L10:L10,AN9)","v":0},{"$f":"AO9/(AQ4-AO20)","v":0},{"$f":"IF(AP9=0,0,(AP9*((LOG(AP9))/LOG(2))))","v":0},null,{"$f":"N9","v":1121},{"$f":"COUNTIF(L11:L11,AS9)","v":0},{"$f":"AT9/(AV4-AT20)","v":{"$error":"#DIV/0!"}},{"$f":"IF(AU9=0,0,(AU9*((LOG(AU9))/LOG(2))))","v":{"$error":"#DIV/0!"}}]
[12,791,14,801,13,818,14,832,null,null,0,1111,null,1122,{"$f":"COUNTIF($L$7:$L$500,N10)","v":0},{"$f":"O10/$Q$4","v":0},{"$f":"IF(P10=0,0,(P10*((LOG(P10))/LOG(2))))","v":0},null,null,{"$f":"N10","v":1122},{"$f":"COUNTIF(L7:L7,T10)","v":0},{"$f":"U10/(W4-U20)","v":0},{"$f":"IF(V10=0,0,(V10*((LOG(V10))/LOG(2))))","v":0},null,{"$f":"N10","v":1122},{"$f":"COUNTIF(L8:L8,Y10)","v":0},{"$f":"Z10/(AB4-Z20)","v":0},{"$f":"IF(AA10=0,0,(AA10*((LOG(AA10))/LOG(2))))","v":0},null,{"$f":"N10","v":1122},{"$f":"COUNTIF(L8:L9,AD10)","v":0},{"$f":"AE10/(AG4-AE20)","v":0},{"$f":"IF(AF10=0,0,(AF10*((LOG(AF10))/LOG(2))))","v":0},null,{"$f":"N10","v":1122},{"$f":"COUNTIF(L9:L9,AI10)","v":0},{"$f":"AJ10/(AL4-AJ20)","v":0},{"$f":"IF(AK10=0,0,(AK10*((LOG(AK10))/LOG(2))))","v":0},null,{"$f":"N10","v":1122},{"$f":"COUNTIF(L10:L10,AN10)","v":0},{"$f":"AO10/(AQ4-AO20)","v":0},{"$f":"IF(AP10=0,0,(AP10*((LOG(AP10))/LOG(2))))","v":0},null,{"$f":"N10","v":1122},{"$f":"COUNTIF(L11:L11,AS10)","v":0},{"$f":"AT10/(AV4-AT20)","v":{"$error":"#DIV/0!"}},{"$f":"IF(AU10=0,0,(AU10*((LOG(AU10))/LOG(2))))","v":{"$error":"#DIV/0!"}}]
[21,18285,null,null,null,null,null,null,null,null,null,2,null,1211,{"$f":"COUNTIF($L$7:$L$500,N11)","v":0},{"$f":"O11/$Q$4","v":0},{"$f":"IF(P11=0,0,(P11*((LOG(P11))/LOG(2))))","v":0},null,null,{"$f":"N11","v":1211},{"$f":"COUNTIF(L7:L7,T11)","v":0},{"$f":"U11/(W4-U20)","v":0},{"$f":"IF(V11=0,0,(V11*((LOG(V11))/LOG(2))))","v":0},null,{"$f":"N11","v":1211},{"$f":"COUNTIF(L8:L8,Y11)","v":0},{"$f":"Z11/(AB4-Z20)","v":0},{"$f":"IF(AA11=0,0,(AA11*((LOG(AA11))/LOG(2))))","v":0},null,{"$f":"N11","v":1211},{"$f":"COUNTIF(L8:L9,AD11)","v":0},{"$f":"AE11/(AG4-AE20)","v":0},{"$f":"IF(AF11=0,0,(AF11*((LOG(AF11))/LOG(2))))","v":0},null,{"$f":"N11","v":1211},{"$f":"COUNTIF(L9:L9,AI11)","v":0},{"$f":"AJ11/(AL4-AJ20)","v":0},{"$f":"IF(AK11=0,0,(AK11*((LOG(AK11))/LOG(2))))","v":0},null,{"$f":"N11","v":1211},{"$f":"COUNTIF(L10:L10,AN11)","v":0},{"$f":"AO11/(AQ4-AO20)","v":0},{"$f":"IF(AP11=0,0,(AP11*((LOG(AP11))/LOG(2))))","v":0},null,{"$f":"N11","v":1211},{"$f":"COUNTIF(L11:L11,AS11)","v":0},{"$f":"AT11/(AV4-AT20)","v":{"$error":"#DIV/0!"}},{"$f":"IF(AU11=0,0,(AU11*((LOG(AU11))/LOG(2))))","v":{"$error":"#DIV/0!"}}]
[null,null,null,null,null,null,null,null,null,null,null,null,null,1212,{"$f":"COUNTIF($L$7:$L$500,N12)","v":0},{"$f":"O12/$Q$4","v":0},{"$f":"IF(P12=0,0,(P12*((LOG(P12))/LOG(2))))","v":0},null,null,{"$f":"N12","v":1212},{"$f":"COUNTIF(L7:L7,T12)","v":0},{"$f":"U12/(W4-U20)","v":0},{"$f":"IF(V12=0,0,(V12*((LOG(V12))/LOG(2))))","v":0},null,{"$f":"N12","v":1212},{"$f":"COUNTIF(L8:L8,Y12)","v":0},{"$f":"Z12/(AB4-Z20)","v":0},{"$f":"IF(AA12=0,0,(AA12*((LOG(AA12))/LOG(2))))","v":0},null,{"$f":"N12","v":1212},{"$f":"COUNTIF(L8:L9,AD12)","v":0},{"$f":"AE12/(AG4-AE20)","v":0},{"$f":"IF(AF12=0,0,(AF12*((LOG(AF12))/LOG(2))))","v":0},null,{"$f":"N12","v":1212},{"$f":"COUNTIF(L9:L9,AI12)","v":0},{"$f":"AJ12/(AL4-AJ20)","v":0},{"$f":"IF(AK12=0,0,(AK12*((LOG(AK12))/LOG(2))))","v":0},null,{"$f":"N12","v":1212},{"$f":"COUNTIF(L10:L10,AN12)","v":0},{"$f":"AO12/(AQ4-AO20)","v":0},{"$f":"IF(AP12=0,0,(AP12*((LOG(AP12))/LOG(2))))","v":0},null,{"$f":"N12","v":1212},{"$f":"COUNTIF(L11:L11,AS12)","v":0},{"$f":"AT12/(AV4-AT20)","v":{"$error":"#DIV/0!"}},{"$f":"IF(AU12=0,0,(AU12*((LOG(AU12))/LOG(2))))","v":{"$error":"#DIV/0!"}}]
[null,null,null,null,null,null,null,null,null,null,null,null,null,1221,{"$f":"COUNTIF($L$7:$L$500,N13)","v":0},{"$f":"O13/$Q$4","v":0},{"$f":"IF(P13=0,0,(P13*((LOG(P13))/LOG(2))))","v":0},null,null,{"$f":"N13","v":1221},{"$f":"COUNTIF(L7:L7,T13)","v":0},{"$f":"U13/(W4-U20)","v":0},{"$f":"IF(V13=0,0,(V13*((LOG(V13))/LOG(2))))","v":0},null,{"$f":"N13","v":1221},{"$f":"COUNTIF(L8:L8,Y13)","v":0},{"$f":"Z13/(AB4-Z20)","v":0},{"$f":"IF(AA13=0,0,(AA13*((LOG(AA13))/LOG(2))))","v":0},null,{"$f":"N13","v":1221},{"$f":"COUNTIF(L8:L9,AD13)","v":0},{"$f":"AE13/(AG4-AE20)","v":0},{"$f":"IF(AF13=0,0,(AF13*((LOG(AF13))/LOG(2))))","v":0},null,{"$f":"N13","v":1221},{"$f":"COUNTIF(L9:L9,AI13)","v":0},{"$f":"AJ13/(AL4-AJ20)","v":0},{"$f":"IF(AK13=0,0,(AK13*((LOG(AK13))/LOG(2))))","v":0},null,{"$f":"N13","v":1221},{"$f":"COUNTIF(L10:L10,AN13)","v":0},{"$f":"AO13/(AQ4-AO20)","v":0},{"$f":"IF(AP13=0,0,(AP13*((LOG(AP13))/LOG(2))))","v":0},null,{"$f":"N13","v":1221},{"$f":"COUNTIF(L11:L11,AS13)","v":0},{"$f":"AT13/(AV4-AT20)","v":{"$error":"#DIV/0!"}},{"$f":"IF(AU13=0,0,(AU13*((LOG(AU13))/LOG(2))))","v":{"$error":"#DIV/0!"}}]
[null,null,null,null,null,null,null,null,null,null,null,null,null,1222,{"$f":"COUNTIF($L$7:$L$500,N14)","v":0},{"$f":"O14/$Q$4","v":0},{"$f":"IF(P14=0,0,(P14*((LOG(P14))/LOG(2))))","v":0},null,null,{"$f":"N14","v":1222},{"$f":"COUNTIF(L7:L7,T14)","v":0},{"$f":"U14/(W4-U20)","v":0},{"$f":"IF(V14=0,0,(V14*((LOG(V14))/LOG(2))))","v":0},null,{"$f":"N14","v":1222},{"$f":"COUNTIF(L8:L8,Y14)","v":0},{"$f":"Z14/(AB4-Z20)","v":0},{"$f":"IF(AA14=0,0,(AA14*((LOG(AA14))/LOG(2))))","v":0},null,{"$f":"N14","v":1222},{"$f":"COUNTIF(L8:L9,AD14)","v":0},{"$f":"AE14/(AG4-AE20)","v":0},{"$f":"IF(AF14=0,0,(AF14*((LOG(AF14))/LOG(2))))","v":0},null,{"$f":"N14","v":1222},{"$f":"COUNTIF(L9:L9,AI14)","v":0},{"$f":"AJ14/(AL4-AJ20)","v":0},{"$f":"IF(AK14=0,0,(AK14*((LOG(AK14))/LOG(2))))","v":0},null,{"$f":"N14","v":1222},{"$f":"COUNTIF(L10:L10,AN14)","v":0},{"$f":"AO14/(AQ4-AO20)","v":0},{"$f":"IF(AP14=0,0,(AP14*((LOG(AP14))/LOG(2))))","v":0},null,{"$f":"N14","v":1222},{"$f":"COUNTIF(L11:L11,AS14)","v":0},{"$f":"AT14/(AV4-AT20)","v":{"$error":"#DIV/0!"}},{"$f":"IF(AU14=0,0,(AU14*((LOG(AU14))/LOG(2))))","v":{"$error":"#DIV/0!"}}]
[null,null,null,null,null,null,null,null,null,null,null,null,null,2111,{"$f":"COUNTIF($L$7:$L$500,N15)","v":0},{"$f":"O15/$Q$4","v":0},{"$f":"IF(P15=0,0,(P15*((LOG(P15))/LOG(2))))","v":0},null,null,{"$f":"N15","v":2111},{"$f":"COUNTIF(L7:L7,T15)","v":0},{"$f":"U15/(W4-U20)","v":0},{"$f":"IF(V15=0,0,(V15*((LOG(V15))/LOG(2))))","v":0},null,{"$f":"N15","v":2111},{"$f":"COUNTIF(L8:L8,Y15)","v":0},{"$f":"Z15/(AB4-Z20)","v":0},{"$f":"IF(AA15=0,0,(AA15*((LOG(AA15))/LOG(2))))","v":0},null,{"$f":"N15","v":2111},{"$f":"COUNTIF(L8:L9,AD15)","v":0},{"$f":"AE15/(AG4-AE20)","v":0},{"$f":"IF(AF15=0,0,(AF15*((LOG(AF15))/LOG(2))))","v":0},null,{"$f":"N15","v":2111},{"$f":"COUNTIF(L9:L9,AI15)","v":0},{"$f":"AJ15/(AL4-AJ20)","v":0},{"$f":"IF(AK15=0,0,(AK15*((LOG(AK15))/LOG(2))))","v":0},null,{"$f":"N15","v":2111},{"$f":"COUNTIF(L10:L10,AN15)","v":0},{"$f":"AO15/(AQ4-AO20)","v":0},{"$f":"IF(AP15=0,0,(AP15*((LOG(AP15))/LOG(2))))","v":0},null,{"$f":"N15","v":2111},{"$f":"COUNTIF(L11:L11,AS15)","v":0},{"$f":"AT15/(AV4-AT20)","v":{"$error":"#DIV/0!"}},{"$f":"IF(AU15=0,0,(AU15*((LOG(AU15))/LOG(2))))","v":{"$error":"#DIV/0!"}}]
[null,null,null,null,null,null,null,null,null,null,null,null,null,2112,{"$f":"COUNTIF($L$7:$L$500,N16)","v":0},{"$f":"O16/$Q$4","v":0},{"$f":"IF(P16=0,0,(P16*((LOG(P16))/LOG(2))))","v":0},null,null,{"$f":"N16","v":2112},{"$f":"COUNTIF(L7:L7,T16)","v":0},{"$f":"U16/(W4-U20)","v":0},{"$f":"IF(V16=0,0,(V16*((LOG(V16))/LOG(2))))","v":0},null,{"$f":"N16","v":2112},{"$f":"COUNTIF(L8:L8,Y16)","v":0},{"$f":"Z16/(AB4-Z20)","v":0},{"$f":"IF(AA16=0,0,(AA16*((LOG(AA16))/LOG(2))))","v":0},null,{"$f":"N16","v":2112},{"$f":"COUNTIF(L8:L9,AD16)","v":0},{"$f":"AE16/(AG4-AE20)","v":0},{"$f":"IF(AF16=0,0,(AF16*((LOG(AF16))/LOG(2))))","v":0},null,{"$f":"N16","v":2112},{"$f":"COUNTIF(L9:L9,AI16)","v":0},{"$f":"AJ16/(AL4-AJ20)","v":0},{"$f":"IF(AK16=0,0,(AK16*((LOG(AK16))/LOG(2))))","v":0},null,{"$f":"N16","v":2112},{"$f":"COUNTIF(L10:L10,AN16)","v":0},{"$f":"AO16/(AQ4-AO20)","v":0},{"$f":"IF(AP16=0,0,(AP16*((LOG(AP16))/LOG(2))))","v":0},null,{"$f":"N16","v":2112},{"$f":"COUNTIF(L11:L11,AS16)","v":0},{"$f":"AT16/(AV4-AT20)","v":{"$error":"#DIV/0!"}},{"$f":"IF(AU16=0,0,(AU16*((LOG(AU16))/LOG(2))))","v":{"$error":"#DIV/0!"}}]
[null,null,null,null,null,null,null,null,null,null,null,null,null,2121,{"$f":"COUNTIF($L$7:$L$500,N17)","v":0},{"$f":"O17/$Q$4","v":0},{"$f":"IF(P17=0,0,(P17*((LOG(P17))/LOG(2))))","v":0},null,null,{"$f":"N17","v":2121},{"$f":"COUNTIF(L7:L7,T17)","v":0},{"$f":"U17/(W4-U20)","v":0},{"$f":"IF(V17=0,0,(V17*((LOG(V17))/LOG(2))))","v":0},null,{"$f":"N17","v":2121},{"$f":"COUNTIF(L8:L8,Y17)","v":0},{"$f":"Z17/(AB4-Z20)","v":0},{"$f":"IF(AA17=0,0,(AA17*((LOG(AA17))/LOG(2))))","v":0},null,{"$f":"N17","v":2121},{"$f":"COUNTIF(L8:L9,AD17)","v":0},{"$f":"AE17/(AG4-AE20)","v":0},{"$f":"IF(AF17=0,0,(AF17*((LOG(AF17))/LOG(2))))","v":0},null,{"$f":"N17","v":2121},{"$f":"COUNTIF(L9:L9,AI17)","v":0},{"$f":"AJ17/(AL4-AJ20)","v":0},{"$f":"IF(AK17=0,0,(AK17*((LOG(AK17))/LOG(2))))","v":0},null,{"$f":"N17","v":2121},{"$f":"COUNTIF(L10:L10,AN17)","v":0},{"$f":"AO17/(AQ4-AO20)","v":0},{"$f":"IF(AP17=0,0,(AP17*((LOG(AP17))/LOG(2))))","v":0},null,{"$f":"N17","v":2121},{"$f":"COUNTIF(L11:L11,AS17)","v":0},{"$f":"AT17/(AV4-AT20)","v":{"$error":"#DIV/0!"}},{"$f":"IF(AU17=0,0,(AU17*((LOG(AU17))/LOG(2))))","v":{"$error":"#DIV/0!"}}]
[null,null,null,null,null,null,null,null,null,null,null,null,null,2122,{"$f":"COUNTIF($L$7:$L$500,N18)","v":0},{"$f":"O18/$Q$4","v":0},{"$f":"IF(P18=0,0,(P18*((LOG(P18))/LOG(2))))","v":0},null,null,{"$f":"N18","v":2122},{"$f":"COUNTIF(L7:L7,T18)","v":0},{"$f":"U18/(W4-U20)","v":0},{"$f":"IF(V18=0,0,(V18*((LOG(V18))/LOG(2))))","v":0},null,{"$f":"N18","v":2122},{"$f":"COUNTIF(L8:L8,Y18)","v":0},{"$f":"Z18/(AB4-Z20)","v":0},{"$f":"IF(AA18=0,0,(AA18*((LOG(AA18))/LOG(2))))","v":0},null,{"$f":"N18","v":2122},{"$f":"COUNTIF(L8:L9,AD18)","v":0},{"$f":"AE18/(AG4-AE20)","v":0},{"$f":"IF(AF18=0,0,(AF18*((LOG(AF18))/LOG(2))))","v":0},null,{"$f":"N18","v":2122},{"$f":"COUNTIF(L9:L9,AI18)","v":0},{"$f":"AJ18/(AL4-AJ20)","v":0},{"$f":"IF(AK18=0,0,(AK18*((LOG(AK18))/LOG(2))))","v":0},null,{"$f":"N18","v":2122},{"$f":"COUNTIF(L10:L10,AN18)","v":0},{"$f":"AO18/(AQ4-AO20)","v":0},{"$f":"IF(AP18=0,0,(AP18*((LOG(AP18))/LOG(2))))","v":0},null,{"$f":"N18","v":2122},{"$f":"COUNTIF(L11:L11,AS18)","v":0},{"$f":"AT18/(AV4-AT20)","v":{"$error":"#DIV/0!"}},{"$f":"IF(AU18=0,0,(AU18*((LOG(AU18))/LOG(2))))","v":{"$error":"#DIV/0!"}}]
[null,null,null,null,null,null,null,null,null,null,null,null,null,2211,{"$f":"COUNTIF($L$7:$L$500,N19)","v":0},{"$f":"O19/$Q$4","v":0},{"$f":"IF(P19=0,0,(P19*((LOG(P19))/LOG(2))))","v":0},null,null,{"$f":"N19","v":2211},{"$f":"COUNTIF(L7:L7,T19)","v":0},{"$f":"U19/(W4-U20)","v":0},{"$f":"IF(V19=0,0,(V19*((LOG(V19))/LOG(2))))","v":0},null,{"$f":"N19","v":2211},{"$f":"COUNTIF(L8:L8,Y19)","v":0},{"$f":"Z19/(AB4-Z20)","v":0},{"$f":"IF(AA19=0,0,(AA19*((LOG(AA19))/LOG(2))))","v":0},null,{"$f":"N19","v":2211},{"$f":"COUNTIF(L8:L9,AD19)","v":0},{"$f":"AE19/(AG4-AE20)","v":0},{"$f":"IF(AF19=0,0,(AF19*((LOG(AF19))/LOG(2))))","v":0},null,{"$f":"N19","v":2211},{"$f":"COUNTIF(L9:L9,AI19)","v":0},{"$f":"AJ19/(AL4-AJ20)","v":0},{"$f":"IF(AK19=0,0,(AK19*((LOG(AK19))/LOG(2))))","v":0},null,{"$f":"N19","v":2211},{"$f":"COUNTIF(L10:L10,AN19)","v":0},{"$f":"AO19/(AQ4-AO20)","v":0},{"$f":"IF(AP19=0,0,(AP19*((LOG(AP19))/LOG(2))))","v":0},null,{"$f":"N19","v":2211},{"$f":"COUNTIF(L11:L11,AS19)","v":0},{"$f":"AT19/(AV4-AT20)","v":{"$error":"#DIV/0!"}},{"$f":"IF(AU19=0,0,(AU19*((LOG(AU19))/LOG(2))))","v":{"$error":"#DIV/0!"}}]
[null,null,null,null,null,null,null,null,null,null,null,null,null,2212,{"$f":"COUNTIF($L$7:$L$500,N20)","v":0},{"$f":"O20/$Q$4","v":0},{"$f":"IF(P20=0,0,(P20*((LOG(P20))/LOG(2))))","v":0},null,null,{"$f":"N20","v":2212},{"$f":"COUNTIF(L7:L7,T20)","v":0},null,null,null,{"$f":"N20","v":2212},{"$f":"COUNTIF(L8:L8,Y20)","v":0},null,null,null,{"$f":"N20","v":2212},{"$f":"COUNTIF(L8:L9,AD20)","v":0},null,null,null,{"$f":"N20","v":2212},{"$f":"COUNTIF(L9:L9,AI20)","v":0},null,null,null,{"$f":"N20","v":2212},{"$f":"COUNTIF(L10:L10,AN20)","v":0},null,null,null,{"$f":"N20","v":2212},{"$f":"COUNTIF(L11:L11,AS20)","v":0}]
[null,null,null,null,null,null,null,null,null,null,null,null,null,2221,{"$f":"COUNTIF($L$7:$L$500,N21)","v":0},{"$f":"O21/$Q$4","v":0},{"$f":"IF(P21=0,0,(P21*((LOG(P21))/LOG(2))))","v":0},null,null,{"$f":"N21","v":2221},{"$f":"COUNTIF(L7:L7,T21)","v":0},{"$f":"U21/(W4-U20)","v":0},{"$f":"IF(V21=0,0,(V21*((LOG(V21))/LOG(2))))","v":0},null,{"$f":"N21","v":2221},{"$f":"COUNTIF(L8:L8,Y21)","v":0},{"$f":"Z21/(AB4-Z20)","v":0},{"$f":"IF(AA21=0,0,(AA21*((LOG(AA21))/LOG(2))))","v":0},null,{"$f":"N21","v":2221},{"$f":"COUNTIF(L8:L9,AD21)","v":0},{"$f":"AE21/(AG4-AE20)","v":0},{"$f":"IF(AF21=0,0,(AF21*((LOG(AF21))/LOG(2))))","v":0},null,{"$f":"N21","v":2221},{"$f":"COUNTIF(L9:L9,AI21)","v":0},{"$f":"AJ21/(AL4-AJ20)","v":0},{"$f":"IF(AK21=0,0,(AK21*((LOG(AK21))/LOG(2))))","v":0},null,{"$f":"N21","v":2221},{"$f":"COUNTIF(L10:L10,AN21)","v":0},{"$f":"AO21/(AQ4-AO20)","v":0},{"$f":"IF(AP21=0,0,(AP21*((LOG(AP21))/LOG(2))))","v":0},null,{"$f":"N21","v":2221},{"$f":"COUNTIF(L11:L11,AS21)","v":0},{"$f":"AT21/(AV4-AT20)","v":{"$error":"#DIV/0!"}},{"$f":"IF(AU21=0,0,(AU21*((LOG(AU21))/LOG(2))))","v":{"$error":"#DIV/0!"}}]
[null,null,null,null,null,null,null,null,null,null,null,null,null,2222,{"$f":"COUNTIF($L$7:$L$500,N22)","v":0},{"$f":"O22/$Q$4","v":0},{"$f":"IF(P22=0,0,(P22*((LOG(P22))/LOG(2))))","v":0},null,null,{"$f":"N22","v":2222},{"$f":"COUNTIF(L7:L7,T22)","v":0},{"$f":"U22/(W4-U20)","v":0},{"$f":"IF(V22=0,0,(V22*((LOG(V22))/LOG(2))))","v":0},null,{"$f":"N22","v":2222},{"$f":"COUNTIF(L8:L8,Y22)","v":0},{"$f":"Z22/(AB4-Z20)","v":0},{"$f":"IF(AA22=0,0,(AA22*((LOG(AA22))/LOG(2))))","v":0},null,{"$f":"N22","v":2222},{"$f":"COUNTIF(L8:L9,AD22)","v":0},{"$f":"AE22/(AG4-AE20)","v":0},{"$f":"IF(AF22=0,0,(AF22*((LOG(AF22))/LOG(2))))","v":0},null,{"$f":"N22","v":2222},{"$f":"COUNTIF(L9:L9,AI22)","v":0},{"$f":"AJ22/(AL4-AJ20)","v":0},{"$f":"IF(AK22=0,0,(AK22*((LOG(AK22))/LOG(2))))","v":0},null,{"$f":"N22","v":2222},{"$f":"COUNTIF(L10:L10,AN22)","v":0},{"$f":"AO22/(AQ4-AO20)","v":0},{"$f":"IF(AP22=0,0,(AP22*((LOG(AP22))/LOG(2))))","v":0},null,{"$f":"N22","v":2222},{"$f":"COUNTIF(L11:L11,AS22)","v":0},{"$f":"AT22/(AV4-AT20)","v":{"$error":"#DIV/0!"}},{"$f":"IF(AU22=0,0,(AU22*((LOG(AU22))/LOG(2))))","v":{"$error":"#DIV/0!"}}]
[null,null,null,null,null,null,null,null,null,null,null,null,null,null,null,{"$f":"SUM(P7:P22)","v":1},{"$f":"-SUM(Q7:Q22)","v":0},null,null,null,null,{"$f":"SUM(V7:V22)","v":1},{"$f":"-SUM(W7:W22)","v":0},null,null,null,{"$f":"SUM(AA7:AA22)","v":1},{"$f":"-SUM(AB7:AB22)","v":0},null,null,null,{"$f":"SUM(AF7:AF22)","v":1},{"$f":"-SUM(AG7:AG22)","v":0},null,null,null,{"$f":"SUM(AK7:AK22)","v":1},{"$f":"-SUM(AL7:AL22)","v":0},null,null,null,{"$f":"SUM(AP7:AP22)","v":1},{"$f":"-SUM(AQ7:AQ22)","v":0},null,null,null,{"$f":"SUM(AU7:AU22)","v":{"$error":"#DIV/0!"}},{"$f":"-SUM(AV7:AV22)","v":{"$error":"#DIV/0!"}}]
[null,null,null,null,null,null,null,null,null,null,null,null,null,null,null,"U=",{"$f":"Q23/(LOG(Q4)/LOG(2))","v":0},null,null,null,null,"U1=",{"$f":"W23/(LOG(W4)/LOG(2))","v":{"$error":"#DIV/0!"}},null,null,null,"U2=",{"$f":"AB23/(LOG(AB4)/LOG(2))","v":{"$error":"#DIV/0!"}},null,null,null,"U3=",{"$f":"AG23/(LOG(AG4)/LOG(2))","v":0},null,null,null,"U4=",{"$f":"AL23/(LOG(AL4)/LOG(2))","v":{"$error":"#DIV/0!"}},null,null,null,"U5=",{"$f":"AQ23/(LOG(AQ4)/LOG(2))","v":{"$error":"#DIV/0!"}},null,null,null,"U6=",{"$f":"AV23/(LOG(AV4)/LOG(2))","v":{"$error":"#DIV/0!"}}]
[]
[]
[null,null,null,null,null,null,null,null,null,null,null,null,null,"Total Target Seq"]
[null,null,null,null,null,null,null,null,null,null,null,null,null,{"$f":"COUNTIF(L7:L11,G3)","v":0},null,1,1,0,1,1,1]
[null,null,null,null,null,null,null,null,null,null,null,null,null,null,null,"% of reinforcement given in 6 equal intervals based on number of trials "]
[null,null,null,null,null,null,null,null,null,null,null,null,null,null,null,"%_1","%_2","%_3","%_4","%_5","%_6"]
[null,null,null,null,null,null,null,null,null,null,null,null,null,null,"target sequence",{"$f":"$G$3","v":2212},{"$f":"$G$3","v":2212},{"$f":"$G$3","v":2212},{"$f":"$G$3","v":2212},{"$f":"$G$3","v":2212},{"$f":"$G$3","v":2212}]
[null,null,null,null,null,null,null,null,null,null,null,null,null,null,"total reinforcement",{"$f":"U20","v":0},{"$f":"Z20","v":0},{"$f":"AE20","v":0},{"$f":"AJ20","v":0},{"$f":"AO20","v":0},{"$f":"AT20","v":0}]
[null,null,null,null,null,null,null,null,null,null,null,null,null,null,"% target"]
[null,null,null,null,null,null,null,null,null,null,null,null,null,null,"CCRF"]
[null,null,null,null,null,null,null,null,null,null,null,null,null,null,"% CCRf"]
[null,null,null,null,null,null,null,null,null,null,null,null,null,null,"average response rate",{"$f":"H7/P28","v":79},{"$f":"(H8-H7)/Q28","v":366},{"$f":"(H8-H8)/R28","v":{"$error":"#DIV/0!"}},{"$f":"(H9-H8)/S28","v":214},{"$f":"(H10-H9)/T28","v":173},{"$f":"(H11-H10)/U28","v":-832}]

{"sheet":"!M924950.102","index":28,"n_rows":36,"n_cols":48,"rows_kept":36,"cut":false,"hidden":false,"merged":[[4,39,4,42],[5,39,5,40],[4,44,4,47],[5,44,5,45],[4,24,4,27],[5,24,5,25],[4,29,4,32],[5,29,5,30],[4,34,4,37],[5,34,5,35],[1,1,1,2],[5,13,5,14],[26,13,26,14],[27,13,27,14],[4,19,4,22],[5,19,5,20]]}
["Report for:!M924950.102"]
["Date:","<date>"]
["Hen:","<hen>",null,null,null,"Correct Sequence",{"$f":"Start!J2","v":2212},null,null,null,null,null,null,null,null,"Total Sequences in Data",{"$f":"4994-COUNTBLANK(L7:L5000)","v":4},null,null,null,null,"Total Sequences in Block Data",{"$f":"COUNTA(L7:L7)","v":1},null,null,null,"Total Sequences in Block Data",{"$f":"COUNTA(L7:L8)","v":2},null,null,null,"Total Sequences in Block Data",{"$f":"COUNTA(L8:L8)","v":1},null,null,null,"Total Sequences in Block Data",{"$f":"COUNTA(L9:L9)","v":1},null,null,null,"Total Sequences in Block Data",{"$f":"COUNTA(L9:L10)","v":2},null,null,null,"Total Sequences in Block Data",{"$f":"COUNTA(L10:L10)","v":1}]
[null,null,null,null,null,null,null,null,null,null,null,null,null,null,null,"Total Sequences in Summary",{"$f":"SUM(O7:O22)","v":4},null,null,null,null,"Total Sequences in Block Summary",{"$f":"SUM(U7:U22)","v":1},null,null,null,"Total Sequences in Block Summary",{"$f":"SUM(Z7:Z22)","v":2},null,null,null,"Total Sequences in Block Summary",{"$f":"SUM(AE7:AE22)","v":1},null,null,null,"Total Sequences in Block Summary",{"$f":"SUM(AJ7:AJ22)","v":1},null,null,null,"Total Sequences in Block Summary",{"$f":"SUM(AO7:AO22)","v":2},null,null,null,"Total Sequences in Block Summary",{"$f":"SUM(AT7:AT22)","v":1}]
[null,null,null,null,null,null,null,null,null,null,null,null,null,null,null,null,null,null,null,"Block 1",null,null,null,null,"Block 2",null,null,null,null,"Block 3",null,null,null,null,"Block 4",null,null,null,null,"Block 5",null,null,null,null,"Block 6"]
["Sequence\nComponent\n1","Time\n1","Sequence\nComponent\n2","Time\n2","Sequence\nComponent\n3","Time\n3","Sequence\nComponent\n4","Time\n4","Sequence\nComponent\n5","Time\n5","Correct?\n0=No 1=Yes","Sequence",null,"Frequency",null,"Relative Frequency","Variability",null,null,"Frequency",null,"Relative Frequency","Variability",null,"Frequency",null,"Relative Frequency","Variability",null,"Frequency",null,"Relative Frequency","Variability",null,"Frequency",null,"Relative Frequency","Variability",null,"Frequency",null,"Relative Frequency","Variability",null,"Frequency",null,"Relative Frequency","Variability"]
[21,52,21,66,22,77,23,87,null,null,0,2222,null,1111,{"$f":"COUNTIF($L$7:$L$500,N7)","v":0},{"$f":"O7/$Q$4","v":0},{"$f":"IF(P7=0,0,(P7*((LOG(P7))/LOG(2))))","v":0},null,null,{"$f":"N7","v":1111},{"$f":"COUNTIF(L7:L7,T7)","v":0},{"$f":"U7/(W4-U20)","v":0},{"$f":"IF(V7=0,0,(V7*((LOG(V7))/LOG(2))))","v":0},null,{"$f":"N7","v":1111},{"$f":"COUNTIF(L7:L8,Y7)","v":0},{"$f":"Z7/(AB4-Z20)","v":0},{"$f":"IF(AA7=0,0,(AA7*((LOG(AA7))/LOG(2))))","v":0},null,{"$f":"N7","v":1111},{"$f":"COUNTIF(L8:L8,AD7)","v":0},{"$f":"AE7/(AG4-AE20)","v":0},{"$f":"IF(AF7=0,0,(AF7*((LOG(AF7))/LOG(2))))","v":0},null,{"$f":"N7","v":1111},{"$f":"COUNTIF(L9:L9,AI7)","v":0},{"$f":"AJ7/(AL4-AJ20)","v":0},{"$f":"IF(AK7=0,0,(AK7*((LOG(AK7))/LOG(2))))","v":0},null,{"$f":"N7","v":1111},{"$f":"COUNTIF(L9:L10,AN7)","v":0},{"$f":"AO7/(AQ4-AO20)","v":0},{"$f":"IF(AP7=0,0,(AP7*((LOG(AP7))/LOG(2))))","v":0},null,{"$f":"N7","v":1111},{"$f":"COUNTIF(L10:L10,AS7)","v":0},{"$f":"AT7/(AV4-AT20)","v":0},{"$f":"IF(AU7=0,0,(AU7*((LOG(AU7))/LOG(2))))","v":0}]
[21,240,21,245,22,255,23,278,null,null,0,2222,null,1112,{"$f":"COUNTIF($L$7:$L$500,N8)","v":1},{"$f":"O8/$Q$4","v":0.25},{"$f":"IF(P8=0,0,(P8*((LOG(P8))/LOG(2))))","v":-0.5},null,null,{"$f":"N8","v":1112},{"$f":"COUNTIF(L7:L7,T8)","v":0},{"$f":"U8/(W4-U20)","v":0},{"$f":"IF(V8=0,0,(V8*((LOG(V8))/LOG(2))))","v":0},null,{"$f":"N8","v":1112},{"$f":"COUNTIF(L7:L8,Y8)","v":0},{"$f":"Z8/(AB4-Z20)","v":0},{"$f":"IF(AA8=0,0,(AA8*((LOG(AA8))/LOG(2))))","v":0},null,{"$f":"N8","v":1112},{"$f":"COUNTIF(L8:L8,AD8)","v":0},{"$f":"AE8/(AG4-AE20)","v":0},{"$f":"IF(AF8=0,0,(AF8*((LOG(AF8))/LOG(2))))","v":0},null,{"$f":"N8","v":1112},{"$f":"COUNTIF(L9:L9,AI8)","v":1},{"$f":"AJ8/(AL4-AJ20)","v":1},{"$f":"IF(AK8=0,0,(AK8*((LOG(AK8))/LOG(2))))","v":0},null,{"$f":"N8","v":1112},{"$f":"COUNTIF(L9:L10,AN8)","v":1},{"$f":"AO8/(AQ4-AO20)","v":0.5},{"$f":"IF(AP8=0,0,(AP8*((LOG(AP8))/LOG(2))))","v":-0.5},null,{"$f":"N8","v":1112},{"$f":"COUNTIF(L10:L10,AS8)","v":0},{"$f":"AT8/(AV4-AT20)","v":0},{"$f":"IF(AU8=0,0,(AU8*((LOG(AU8))/LOG(2))))","v":0}]
[12,393,14,398,13,403,23,417,null,null,0,1112,null,1121,{"$f":"COUNTIF($L$7:$L$500,N9)","v":0},{"$f":"O9/$Q$4","v":0},{"$f":"IF(P9=0,0,(P9*((LOG(P9))/LOG(2))))","v":0},null,null,{"$f":"N9","v":1121},{"$f":"COUNTIF(L7:L7,T9)","v":0},{"$f":"U9/(W4-U20)","v":0},{"$f":"IF(V9=0,0,(V9*((LOG(V9))/LOG(2))))","v":0},null,{"$f":"N9","v":1121},{"$f":"COUNTIF(L7:L8,Y9)","v":0},{"$f":"Z9/(AB4-Z20)","v":0},{"$f":"IF(AA9=0,0,(AA9*((LOG(AA9))/LOG(2))))","v":0},null,{"$f":"N9","v":1121},{"$f":"COUNTIF(L8:L8,AD9)","v":0},{"$f":"AE9/(AG4-AE20)","v":0},{"$f":"IF(AF9=0,0,(AF9*((LOG(AF9))/LOG(2))))","v":0},null,{"$f":"N9","v":1121},{"$f":"COUNTIF(L9:L9,AI9)","v":0},{"$f":"AJ9/(AL4-AJ20)","v":0},{"$f":"IF(AK9=0,0,(AK9*((LOG(AK9))/LOG(2))))","v":0},null,{"$f":"N9","v":1121},{"$f":"COUNTIF(L9:L10,AN9)","v":0},{"$f":"AO9/(AQ4-AO20)","v":0},{"$f":"IF(AP9=0,0,(AP9*((LOG(AP9))/LOG(2))))","v":0},null,{"$f":"N9","v":1121},{"$f":"COUNTIF(L10:L10,AS9)","v":0},{"$f":"AT9/(AV4-AT20)","v":0},{"$f":"IF(AU9=0,0,(AU9*((LOG(AU9))/LOG(2))))","v":0}]
[21,756,21,766,22,778,23,789,null,null,0,2222,null,1122,{"$f":"COUNTIF($L$7:$L$500,N10)","v":0},{"$f":"O10/$Q$4","v":0},{"$f":"IF(P10=0,0,(P10*((LOG(P10))/LOG(2))))","v":0},null,null,{"$f":"N10","v":1122},{"$f":"COUNTIF(L7:L7,T10)","v":0},{"$f":"U10/(W4-U20)","v":0},{"$f":"IF(V10=0,0,(V10*((LOG(V10))/LOG(2))))","v":0},null,{"$f":"N10","v":1122},{"$f":"COUNTIF(L7:L8,Y10)","v":0},{"$f":"Z10/(AB4-Z20)","v":0},{"$f":"IF(AA10=0,0,(AA10*((LOG(AA10))/LOG(2))))","v":0},null,{"$f":"N10","v":1122},{"$f":"COUNTIF(L8:L8,AD10)","v":0},{"$f":"AE10/(AG4-AE20)","v":0},{"$f":"IF(AF10=0,0,(AF10*((LOG(AF10))/LOG(2))))","v":0},null,{"$f":"N10","v":1122},{"$f":"COUNTIF(L9:L9,AI10)","v":0},{"$f":"AJ10/(AL4-AJ20)","v":0},{"$f":"IF(AK10=0,0,(AK10*((LOG(AK10))/LOG(2))))","v":0},null,{"$f":"N10","v":1122},{"$f":"COUNTIF(L9:L10,AN10)","v":0},{"$f":"AO10/(AQ4-AO20)","v":0},{"$f":"IF(AP10=0,0,(AP10*((LOG(AP10))/LOG(2))))","v":0},null,{"$f":"N10","v":1122},{"$f":"COUNTIF(L10:L10,AS10)","v":0},{"$f":"AT10/(AV4-AT20)","v":0},{"$f":"IF(AU10=0,0,(AU10*((LOG(AU10))/LOG(2))))","v":0}]
[null,null,null,null,null,null,null,null,null,null,null,null,null,1211,{"$f":"COUNTIF($L$7:$L$500,N11)","v":0},{"$f":"O11/$Q$4","v":0},{"$f":"IF(P11=0,0,(P11*((LOG(P11))/LOG(2))))","v":0},null,null,{"$f":"N11","v":1211},{"$f":"COUNTIF(L7:L7,T11)","v":0},{"$f":"U11/(W4-U20)","v":0},{"$f":"IF(V11=0,0,(V11*((LOG(V11))/LOG(2))))","v":0},null,{"$f":"N11","v":1211},{"$f":"COUNTIF(L7:L8,Y11)","v":0},{"$f":"Z11/(AB4-Z20)","v":0},{"$f":"IF(AA11=0,0,(AA11*((LOG(AA11))/LOG(2))))","v":0},null,{"$f":"N11","v":1211},{"$f":"COUNTIF(L8:L8,AD11)","v":0},{"$f":"AE11/(AG4-AE20)","v":0},{"$f":"IF(AF11=0,0,(AF11*((LOG(AF11))/LOG(2))))","v":0},null,{"$f":"N11","v":1211},{"$f":"COUNTIF(L9:L9,AI11)","v":0},{"$f":"AJ11/(AL4-AJ20)","v":0},{"$f":"IF(AK11=0,0,(AK11*((LOG(AK11))/LOG(2))))","v":0},null,{"$f":"N11","v":1211},{"$f":"COUNTIF(L9:L10,AN11)","v":0},{"$f":"AO11/(AQ4-AO20)","v":0},{"$f":"IF(AP11=0,0,(AP11*((LOG(AP11))/LOG(2))))","v":0},null,{"$f":"N11","v":1211},{"$f":"COUNTIF(L10:L10,AS11)","v":0},{"$f":"AT11/(AV4-AT20)","v":0},{"$f":"IF(AU11=0,0,(AU11*((LOG(AU11))/LOG(2))))","v":0}]
[null,null,null,null,null,null,null,null,null,null,null,null,null,1212,{"$f":"COUNTIF($L$7:$L$500,N12)","v":0},{"$f":"O12/$Q$4","v":0},{"$f":"IF(P12=0,0,(P12*((LOG(P12))/LOG(2))))","v":0},null,null,{"$f":"N12","v":1212},{"$f":"COUNTIF(L7:L7,T12)","v":0},{"$f":"U12/(W4-U20)","v":0},{"$f":"IF(V12=0,0,(V12*((LOG(V12))/LOG(2))))","v":0},null,{"$f":"N12","v":1212},{"$f":"COUNTIF(L7:L8,Y12)","v":0},{"$f":"Z12/(AB4-Z20)","v":0},{"$f":"IF(AA12=0,0,(AA12*((LOG(AA12))/LOG(2))))","v":0},null,{"$f":"N12","v":1212},{"$f":"COUNTIF(L8:L8,AD12)","v":0},{"$f":"AE12/(AG4-AE20)","v":0},{"$f":"IF(AF12=0,0,(AF12*((LOG(AF12))/LOG(2))))","v":0},null,{"$f":"N12","v":1212},{"$f":"COUNTIF(L9:L9,AI12)","v":0},{"$f":"AJ12/(AL4-AJ20)","v":0},{"$f":"IF(AK12=0,0,(AK12*((LOG(AK12))/LOG(2))))","v":0},null,{"$f":"N12","v":1212},{"$f":"COUNTIF(L9:L10,AN12)","v":0},{"$f":"AO12/(AQ4-AO20)","v":0},{"$f":"IF(AP12=0,0,(AP12*((LOG(AP12))/LOG(2))))","v":0},null,{"$f":"N12","v":1212},{"$f":"COUNTIF(L10:L10,AS12)","v":0},{"$f":"AT12/(AV4-AT20)","v":0},{"$f":"IF(AU12=0,0,(AU12*((LOG(AU12))/LOG(2))))","v":0}]
[null,null,null,null,null,null,null,null,null,null,null,null,null,1221,{"$f":"COUNTIF($L$7:$L$500,N13)","v":0},{"$f":"O13/$Q$4","v":0},{"$f":"IF(P13=0,0,(P13*((LOG(P13))/LOG(2))))","v":0},null,null,{"$f":"N13","v":1221},{"$f":"COUNTIF(L7:L7,T13)","v":0},{"$f":"U13/(W4-U20)","v":0},{"$f":"IF(V13=0,0,(V13*((LOG(V13))/LOG(2))))","v":0},null,{"$f":"N13","v":1221},{"$f":"COUNTIF(L7:L8,Y13)","v":0},{"$f":"Z13/(AB4-Z20)","v":0},{"$f":"IF(AA13=0,0,(AA13*((LOG(AA13))/LOG(2))))","v":0},null,{"$f":"N13","v":1221},{"$f":"COUNTIF(L8:L8,AD13)","v":0},{"$f":"AE13/(AG4-AE20)","v":0},{"$f":"IF(AF13=0,0,(AF13*((LOG(AF13))/LOG(2))))","v":0},null,{"$f":"N13","v":1221},{"$f":"COUNTIF(L9:L9,AI13)","v":0},{"$f":"AJ13/(AL4-AJ20)","v":0},{"$f":"IF(AK13=0,0,(AK13*((LOG(AK13))/LOG(2))))","v":0},null,{"$f":"N13","v":1221},{"$f":"COUNTIF(L9:L10,AN13)","v":0},{"$f":"AO13/(AQ4-AO20)","v":0},{"$f":"IF(AP13=0,0,(AP13*((LOG(AP13))/LOG(2))))","v":0},null,{"$f":"N13","v":1221},{"$f":"COUNTIF(L10:L10,AS13)","v":0},{"$f":"AT13/(AV4-AT20)","v":0},{"$f":"IF(AU13=0,0,(AU13*((LOG(AU13))/LOG(2))))","v":0}]
[null,null,null,null,null,null,null,null,null,null,null,null,null,1222,{"$f":"COUNTIF($L$7:$L$500,N14)","v":0},{"$f":"O14/$Q$4","v":0},{"$f":"IF(P14=0,0,(P14*((LOG(P14))/LOG(2))))","v":0},null,null,{"$f":"N14","v":1222},{"$f":"COUNTIF(L7:L7,T14)","v":0},{"$f":"U14/(W4-U20)","v":0},{"$f":"IF(V14=0,0,(V14*((LOG(V14))/LOG(2))))","v":0},null,{"$f":"N14","v":1222},{"$f":"COUNTIF(L7:L8,Y14)","v":0},{"$f":"Z14/(AB4-Z20)","v":0},{"$f":"IF(AA14=0,0,(AA14*((LOG(AA14))/LOG(2))))","v":0},null,{"$f":"N14","v":1222},{"$f":"COUNTIF(L8:L8,AD14)","v":0},{"$f":"AE14/(AG4-AE20)","v":0},{"$f":"IF(AF14=0,0,(AF14*((LOG(AF14))/LOG(2))))","v":0},null,{"$f":"N14","v":1222},{"$f":"COUNTIF(L9:L9,AI14)","v":0},{"$f":"AJ14/(AL4-AJ20)","v":0},{"$f":"IF(AK14=0,0,(AK14*((LOG(AK14))/LOG(2))))","v":0},null,{"$f":"N14","v":1222},{"$f":"COUNTIF(L9:L10,AN14)","v":0},{"$f":"AO14/(AQ4-AO20)","v":0},{"$f":"IF(AP14=0,0,(AP14*((LOG(AP14))/LOG(2))))","v":0},null,{"$f":"N14","v":1222},{"$f":"COUNTIF(L10:L10,AS14)","v":0},{"$f":"AT14/(AV4-AT20)","v":0},{"$f":"IF(AU14=0,0,(AU14*((LOG(AU14))/LOG(2))))","v":0}]
[null,null,null,null,null,null,null,null,null,null,null,null,null,2111,{"$f":"COUNTIF($L$7:$L$500,N15)","v":0},{"$f":"O15/$Q$4","v":0},{"$f":"IF(P15=0,0,(P15*((LOG(P15))/LOG(2))))","v":0},null,null,{"$f":"N15","v":2111},{"$f":"COUNTIF(L7:L7,T15)","v":0},{"$f":"U15/(W4-U20)","v":0},{"$f":"IF(V15=0,0,(V15*((LOG(V15))/LOG(2))))","v":0},null,{"$f":"N15","v":2111},{"$f":"COUNTIF(L7:L8,Y15)","v":0},{"$f":"Z15/(AB4-Z20)","v":0},{"$f":"IF(AA15=0,0,(AA15*((LOG(AA15))/LOG(2))))","v":0},null,{"$f":"N15","v":2111},{"$f":"COUNTIF(L8:L8,AD15)","v":0},{"$f":"AE15/(AG4-AE20)","v":0},{"$f":"IF(AF15=0,0,(AF15*((LOG(AF15))/LOG(2))))","v":0},null,{"$f":"N15","v":2111},{"$f":"COUNTIF(L9:L9,AI15)","v":0},{"$f":"AJ15/(AL4-AJ20)","v":0},{"$f":"IF(AK15=0,0,(AK15*((LOG(AK15))/LOG(2))))","v":0},null,{"$f":"N15","v":2111},{"$f":"COUNTIF(L9:L10,AN15)","v":0},{"$f":"AO15/(AQ4-AO20)","v":0},{"$f":"IF(AP15=0,0,(AP15*((LOG(AP15))/LOG(2))))","v":0},null,{"$f":"N15","v":2111},{"$f":"COUNTIF(L10:L10,AS15)","v":0},{"$f":"AT15/(AV4-AT20)","v":0},{"$f":"IF(AU15=0,0,(AU15*((LOG(AU15))/LOG(2))))","v":0}]
[null,null,null,null,null,null,null,null,null,null,null,null,null,2112,{"$f":"COUNTIF($L$7:$L$500,N16)","v":0},{"$f":"O16/$Q$4","v":0},{"$f":"IF(P16=0,0,(P16*((LOG(P16))/LOG(2))))","v":0},null,null,{"$f":"N16","v":2112},{"$f":"COUNTIF(L7:L7,T16)","v":0},{"$f":"U16/(W4-U20)","v":0},{"$f":"IF(V16=0,0,(V16*((LOG(V16))/LOG(2))))","v":0},null,{"$f":"N16","v":2112},{"$f":"COUNTIF(L7:L8,Y16)","v":0},{"$f":"Z16/(AB4-Z20)","v":0},{"$f":"IF(AA16=0,0,(AA16*((LOG(AA16))/LOG(2))))","v":0},null,{"$f":"N16","v":2112},{"$f":"COUNTIF(L8:L8,AD16)","v":0},{"$f":"AE16/(AG4-AE20)","v":0},{"$f":"IF(AF16=0,0,(AF16*((LOG(AF16))/LOG(2))))","v":0},null,{"$f":"N16","v":2112},{"$f":"COUNTIF(L9:L9,AI16)","v":0},{"$f":"AJ16/(AL4-AJ20)","v":0},{"$f":"IF(AK16=0,0,(AK16*((LOG(AK16))/LOG(2))))","v":0},null,{"$f":"N16","v":2112},{"$f":"COUNTIF(L9:L10,AN16)","v":0},{"$f":"AO16/(AQ4-AO20)","v":0},{"$f":"IF(AP16=0,0,(AP16*((LOG(AP16))/LOG(2))))","v":0},null,{"$f":"N16","v":2112},{"$f":"COUNTIF(L10:L10,AS16)","v":0},{"$f":"AT16/(AV4-AT20)","v":0},{"$f":"IF(AU16=0,0,(AU16*((LOG(AU16))/LOG(2))))","v":0}]
[null,null,null,null,null,null,null,null,null,null,null,null,null,2121,{"$f":"COUNTIF($L$7:$L$500,N17)","v":0},{"$f":"O17/$Q$4","v":0},{"$f":"IF(P17=0,0,(P17*((LOG(P17))/LOG(2))))","v":0},null,null,{"$f":"N17","v":2121},{"$f":"COUNTIF(L7:L7,T17)","v":0},{"$f":"U17/(W4-U20)","v":0},{"$f":"IF(V17=0,0,(V17*((LOG(V17))/LOG(2))))","v":0},null,{"$f":"N17","v":2121},{"$f":"COUNTIF(L7:L8,Y17)","v":0},{"$f":"Z17/(AB4-Z20)","v":0},{"$f":"IF(AA17=0,0,(AA17*((LOG(AA17))/LOG(2))))","v":0},null,{"$f":"N17","v":2121},{"$f":"COUNTIF(L8:L8,AD17)","v":0},{"$f":"AE17/(AG4-AE20)","v":0},{"$f":"IF(AF17=0,0,(AF17*((LOG(AF17))/LOG(2))))","v":0},null,{"$f":"N17","v":2121},{"$f":"COUNTIF(L9:L9,AI17)","v":0},{"$f":"AJ17/(AL4-AJ20)","v":0},{"$f":"IF(AK17=0,0,(AK17*((LOG(AK17))/LOG(2))))","v":0},null,{"$f":"N17","v":2121},{"$f":"COUNTIF(L9:L10,AN17)","v":0},{"$f":"AO17/(AQ4-AO20)","v":0},{"$f":"IF(AP17=0,0,(AP17*((LOG(AP17))/LOG(2))))","v":0},null,{"$f":"N17","v":2121},{"$f":"COUNTIF(L10:L10,AS17)","v":0},{"$f":"AT17/(AV4-AT20)","v":0},{"$f":"IF(AU17=0,0,(AU17*((LOG(AU17))/LOG(2))))","v":0}]
[null,null,null,null,null,null,null,null,null,null,null,null,null,2122,{"$f":"COUNTIF($L$7:$L$500,N18)","v":0},{"$f":"O18/$Q$4","v":0},{"$f":"IF(P18=0,0,(P18*((LOG(P18))/LOG(2))))","v":0},null,null,{"$f":"N18","v":2122},{"$f":"COUNTIF(L7:L7,T18)","v":0},{"$f":"U18/(W4-U20)","v":0},{"$f":"IF(V18=0,0,(V18*((LOG(V18))/LOG(2))))","v":0},null,{"$f":"N18","v":2122},{"$f":"COUNTIF(L7:L8,Y18)","v":0},{"$f":"Z18/(AB4-Z20)","v":0},{"$f":"IF(AA18=0,0,(AA18*((LOG(AA18))/LOG(2))))","v":0},null,{"$f":"N18","v":2122},{"$f":"COUNTIF(L8:L8,AD18)","v":0},{"$f":"AE18/(AG4-AE20)","v":0},{"$f":"IF(AF18=0,0,(AF18*((LOG(AF18))/LOG(2))))","v":0},null,{"$f":"N18","v":2122},{"$f":"COUNTIF(L9:L9,AI18)","v":0},{"$f":"AJ18/(AL4-AJ20)","v":0},{"$f":"IF(AK18=0,0,(AK18*((LOG(AK18))/LOG(2))))","v":0},null,{"$f":"N18","v":2122},{"$f":"COUNTIF(L9:L10,AN18)","v":0},{"$f":"AO18/(AQ4-AO20)","v":0},{"$f":"IF(AP18=0,0,(AP18*((LOG(AP18))/LOG(2))))","v":0},null,{"$f":"N18","v":2122},{"$f":"COUNTIF(L10:L10,AS18)","v":0},{"$f":"AT18/(AV4-AT20)","v":0},{"$f":"IF(AU18=0,0,(AU18*((LOG(AU18))/LOG(2))))","v":0}]
[null,null,null,null,null,null,null,null,null,null,null,null,null,2211,{"$f":"COUNTIF($L$7:$L$500,N19)","v":0},{"$f":"O19/$Q$4","v":0},{"$f":"IF(P19=0,0,(P19*((LOG(P19))/LOG(2))))","v":0},null,null,{"$f":"N19","v":2211},{"$f":"COUNTIF(L7:L7,T19)","v":0},{"$f":"U19/(W4-U20)","v":0},{"$f":"IF(V19=0,0,(V19*((LOG(V19))/LOG(2))))","v":0},null,{"$f":"N19","v":2211},{"$f":"COUNTIF(L7:L8,Y19)","v":0},{"$f":"Z19/(AB4-Z20)","v":0},{"$f":"IF(AA19=0,0,(AA19*((LOG(AA19))/LOG(2))))","v":0},null,{"$f":"N19","v":2211},{"$f":"COUNTIF(L8:L8,AD19)","v":0},{"$f":"AE19/(AG4-AE20)","v":0},{"$f":"IF(AF19=0,0,(AF19*((LOG(AF19))/LOG(2))))","v":0},null,{"$f":"N19","v":2211},{"$f":"COUNTIF(L9:L9,AI19)","v":0},{"$f":"AJ19/(AL4-AJ20)","v":0},{"$f":"IF(AK19=0,0,(AK19*((LOG(AK19))/LOG(2))))","v":0},null,{"$f":"N19","v":2211},{"$f":"COUNTIF(L9:L10,AN19)","v":0},{"$f":"AO19/(AQ4-AO20)","v":0},{"$f":"IF(AP19=0,0,(AP19*((LOG(AP19))/LOG(2))))","v":0},null,{"$f":"N19","v":2211},{"$f":"COUNTIF(L10:L10,AS19)","v":0},{"$f":"AT19/(AV4-AT20)","v":0},{"$f":"IF(AU19=0,0,(AU19*((LOG(AU19))/LOG(2))))","v":0}]
[null,null,null,null,null,null,null,null,null,null,null,null,null,2212,{"$f":"COUNTIF($L$7:$L$500,N20)","v":0},{"$f":"O20/$Q$4","v":0},{"$f":"IF(P20=0,0,(P20*((LOG(P20))/LOG(2))))","v":0},null,null,{"$f":"N20","v":2212},{"$f":"COUNTIF(L7:L7,T20)","v":0},null,null,null,{"$f":"N20","v":2212},{"$f":"COUNTIF(L7:L8,Y20)","v":0},null,null,null,{"$f":"N20","v":2212},{"$f":"COUNTIF(L8:L8,AD20)","v":0},null,null,null,{"$f":"N20","v":2212},{"$f":"COUNTIF(L9:L9,AI20)","v":0},null,null,null,{"$f":"N20","v":2212},{"$f":"COUNTIF(L9:L10,AN20)","v":0},null,null,null,{"$f":"N20","v":2212},{"$f":"COUNTIF(L10:L10,AS20)","v":0}]
[null,null,null,null,null,null,null,null,null,null,null,null,null,2221,{"$f":"COUNTIF($L$7:$L$500,N21)","v":0},{"$f":"O21/$Q$4","v":0},{"$f":"IF(P21=0,0,(P21*((LOG(P21))/LOG(2))))","v":0},null,null,{"$f":"N21","v":2221},{"$f":"COUNTIF(L7:L7,T21)","v":0},{"$f":"U21/(W4-U20)","v":0},{"$f":"IF(V21=0,0,(V21*((LOG(V21))/LOG(2))))","v":0},null,{"$f":"N21","v":2221},{"$f":"COUNTIF(L7:L8,Y21)","v":0},{"$f":"Z21/(AB4-Z20)","v":0},{"$f":"IF(AA21=0,0,(AA21*((LOG(AA21))/LOG(2))))","v":0},null,{"$f":"N21","v":2221},{"$f":"COUNTIF(L8:L8,AD21)","v":0},{"$f":"AE21/(AG4-AE20)","v":0},{"$f":"IF(AF21=0,0,(AF21*((LOG(AF21))/LOG(2))))","v":0},null,{"$f":"N21","v":2221},{"$f":"COUNTIF(L9:L9,AI21)","v":0},{"$f":"AJ21/(AL4-AJ20)","v":0},{"$f":"IF(AK21=0,0,(AK21*((LOG(AK21))/LOG(2))))","v":0},null,{"$f":"N21","v":2221},{"$f":"COUNTIF(L9:L10,AN21)","v":0},{"$f":"AO21/(AQ4-AO20)","v":0},{"$f":"IF(AP21=0,0,(AP21*((LOG(AP21))/LOG(2))))","v":0},null,{"$f":"N21","v":2221},{"$f":"COUNTIF(L10:L10,AS21)","v":0},{"$f":"AT21/(AV4-AT20)","v":0},{"$f":"IF(AU21=0,0,(AU21*((LOG(AU21))/LOG(2))))","v":0}]
[null,null,null,null,null,null,null,null,null,null,null,null,null,2222,{"$f":"COUNTIF($L$7:$L$500,N22)","v":3},{"$f":"O22/$Q$4","v":0.75},{"$f":"IF(P22=0,0,(P22*((LOG(P22))/LOG(2))))","v":-0.31127812445913283},null,null,{"$f":"N22","v":2222},{"$f":"COUNTIF(L7:L7,T22)","v":1},{"$f":"U22/(W4-U20)","v":1},{"$f":"IF(V22=0,0,(V22*((LOG(V22))/LOG(2))))","v":0},null,{"$f":"N22","v":2222},{"$f":"COUNTIF(L7:L8,Y22)","v":2},{"$f":"Z22/(AB4-Z20)","v":1},{"$f":"IF(AA22=0,0,(AA22*((LOG(AA22))/LOG(2))))","v":0},null,{"$f":"N22","v":2222},{"$f":"COUNTIF(L8:L8,AD22)","v":1},{"$f":"AE22/(AG4-AE20)","v":1},{"$f":"IF(AF22=0,0,(AF22*((LOG(AF22))/LOG(2))))","v":0},null,{"$f":"N22","v":2222},{"$f":"COUNTIF(L9:L9,AI22)","v":0},{"$f":"AJ22/(AL4-AJ20)","v":0},{"$f":"IF(AK22=0,0,(AK22*((LOG(AK22))/LOG(2))))","v":0},null,{"$f":"N22","v":2222},{"$f":"COUNTIF(L9:L10,AN22)","v":1},{"$f":"AO22/(AQ4-AO20)","v":0.5},{"$f":"IF(AP22=0,0,(AP22*((LOG(AP22))/LOG(2))))","v":-0.5},null,{"$f":"N22","v":2222},{"$f":"COUNTIF(L10:L10,AS22)","v":1},{"$f":"AT22/(AV4-AT20)","v":1},{"$f":"IF(AU22=0,0,(AU22*((LOG(AU22))/LOG(2))))","v":0}]
[null,null,null,null,null,null,null,null,null,null,null,null,null,null,null,{"$f":"SUM(P7:P22)","v":1},{"$f":"-SUM(Q7:Q22)","v":0.81127812445913283},null,null,null,null,{"$f":"SUM(V7:V22)","v":1},{"$f":"-SUM(W7:W22)","v":0},null,null,null,{"$f":"SUM(AA7:AA22)","v":1},{"$f":"-SUM(AB7:AB22)","v":0},null,null,null,{"$f":"SUM(AF7:AF22)","v":1},{"$f":"-SUM(AG7:AG22)","v":0},null,null,null,{"$f":"SUM(AK7:AK22)","v":1},{"$f":"-SUM(AL7:AL22)","v":0},null,null,null,{"$f":"SUM(AP7:AP22)","v":1},{"$f":"-SUM(AQ7:AQ22)","v":1},null,null,null,{"$f":"SUM(AU7:AU22)","v":1},{"$f":"-SUM(AV7:AV22)","v":0}]
[null,null,null,null,null,null,null,null,null,null,null,null,null,null,null,"U=",{"$f":"Q23/(LOG(Q4)/LOG(2))","v":0.40563906222956642},null,null,null,null,"U1=",{"$f":"W23/(LOG(W4)/LOG(2))","v":{"$error":"#DIV/0!"}},null,null,null,"U2=",{"$f":"AB23/(LOG(AB4)/LOG(2))","v":0},null,null,null,"U3=",{"$f":"AG23/(LOG(AG4)/LOG(2))","v":{"$error":"#DIV/0!"}},null,null,null,"U4=",{"$f":"AL23/(LOG(AL4)/LOG(2))","v":{"$error":"#DIV/0!"}},null,null,null,"U5=",{"$f":"AQ23/(LOG(AQ4)/LOG(2))","v":1},null,null,null,"U6=",{"$f":"AV23/(LOG(AV4)/LOG(2))","v":{"$error":"#DIV/0!"}}]
[]
[]
[null,null,null,null,null,null,null,null,null,null,null,null,null,"Total Target Seq"]
[null,null,null,null,null,null,null,null,null,null,null,null,null,{"$f":"COUNTIF(L7:L10,G3)","v":0},null,1,0,1,1,0,1]
[null,null,null,null,null,null,null,null,null,null,null,null,null,null,null,"% of reinforcement given in 6 equal intervals based on number of trials "]
[null,null,null,null,null,null,null,null,null,null,null,null,null,null,null,"%_1","%_2","%_3","%_4","%_5","%_6"]
[null,null,null,null,null,null,null,null,null,null,null,null,null,null,"target sequence",{"$f":"$G$3","v":2212},{"$f":"$G$3","v":2212},{"$f":"$G$3","v":2212},{"$f":"$G$3","v":2212},{"$f":"$G$3","v":2212},{"$f":"$G$3","v":2212}]
[null,null,null,null,null,null,null,null,null,null,null,null,null,null,"total reinforcement",{"$f":"U20","v":0},{"$f":"Z20","v":0},{"$f":"AE20","v":0},{"$f":"AJ20","v":0},{"$f":"AO20","v":0},{"$f":"AT20","v":0}]
[null,null,null,null,null,null,null,null,null,null,null,null,null,null,"% target"]
[null,null,null,null,null,null,null,null,null,null,null,null,null,null,"CCRF"]
[null,null,null,null,null,null,null,null,null,null,null,null,null,null,"% CCRf"]
[null,null,null,null,null,null,null,null,null,null,null,null,null,null,"average response rate",{"$f":"H7/P28","v":87},{"$f":"(H7-H7)/Q28","v":{"$error":"#DIV/0!"}},{"$f":"(H8-H7)/R28","v":191},{"$f":"(H9-H8)/S28","v":139},{"$f":"(H9-H9)/T28","v":{"$error":"#DIV/0!"}},{"$f":"(H10-H9)/U28","v":372}]

{"sheet":"!M925720.102","index":29,"n_rows":36,"n_cols":48,"rows_kept":36,"cut":false,"hidden":false,"merged":[[4,39,4,42],[5,39,5,40],[4,44,4,47],[5,44,5,45],[4,24,4,27],[5,24,5,25],[4,29,4,32],[5,29,5,30],[4,34,4,37],[5,34,5,35],[1,1,1,2],[5,13,5,14],[26,13,26,14],[27,13,27,14],[4,19,4,22],[5,19,5,20]]}
["Report for:!M925720.102"]
["Date:","<date>"]
["Hen:","<hen>",null,null,null,"Correct Sequence",{"$f":"Start!J2","v":2212},null,null,null,null,null,null,null,null,"Total Sequences in Data",{"$f":"4994-COUNTBLANK(L7:L5000)","v":12},null,null,null,null,"Total Sequences in Block Data",{"$f":"COUNTA(L7:L8)","v":2},null,null,null,"Total Sequences in Block Data",{"$f":"COUNTA(L9:L10)","v":2},null,null,null,"Total Sequences in Block Data",{"$f":"COUNTA(L11:L12)","v":2},null,null,null,"Total Sequences in Block Data",{"$f":"COUNTA(L13:L14)","v":2},null,null,null,"Total Sequences in Block Data",{"$f":"COUNTA(L15:L16)","v":2},null,null,null,"Total Sequences in Block Data",{"$f":"COUNTA(L17:L18)","v":2}]
[null,null,null,null,null,null,null,null,null,null,null,null,null,null,null,"Total Sequences in Summary",{"$f":"SUM(O7:O22)","v":12},null,null,null,null,"Total Sequences in Block Summary",{"$f":"SUM(U7:U22)","v":2},null,null,null,"Total Sequences in Block Summary",{"$f":"SUM(Z7:Z22)","v":2},null,null,null,"Total Sequences in Block Summary",{"$f":"SUM(AE7:AE22)","v":2},null,null,null,"Total Sequences in Block Summary",{"$f":"SUM(AJ7:AJ22)","v":2},null,null,null,"Total Sequences in Block Summary",{"$f":"SUM(AO7:AO22)","v":2},null,null,null,"Total Sequences in Block Summary",{"$f":"SUM(AT7:AT22)","v":2}]
[null,null,null,null,null,null,null,null,null,null,null,null,null,null,null,null,null,null,null,"Block 1",null,null,null,null,"Block 2",null,null,null,null,"Block 3",null,null,null,null,"Block 4",null,null,null,null,"Block 5",null,null,null,null,"Block 6"]
["Sequence\nComponent\n1","Time\n1","Sequence\nComponent\n2","Time\n2","Sequence\nComponent\n3","Time\n3","Sequence\nComponent\n4","Time\n4","Sequence\nComponent\n5","Time\n5","Correct?\n0=No 1=Yes","Sequence",null,"Frequency",null,"Relative Frequency","Variability",null,null,"Frequency",null,"Relative Frequency","Variability",null,"Frequency",null,"Relative Frequency","Variability",null,"Frequency",null,"Relative Frequency","Variability",null,"Frequency",null,"Relative Frequency","Variability",null,"Frequency",null,"Relative Frequency","Variability",null,"Frequency",null,"Relative Frequency","Variability"]
[21,124,21,137,22,149,23,159,null,null,0,2222,null,1111,{"$f":"COUNTIF($L$7:$L$500,N7)","v":7},{"$f":"O7/$Q$4","v":0.58333333333333337},{"$f":"IF(P7=0,0,(P7*((LOG(P7))/LOG(2))))","v":-0.45360442088707198},null,null,{"$f":"N7","v":1111},{"$f":"COUNTIF(L7:L8,T7)","v":0},{"$f":"U7/(W4-U20)","v":0},{"$f":"IF(V7=0,0,(V7*((LOG(V7))/LOG(2))))","v":0},null,{"$f":"N7","v":1111},{"$f":"COUNTIF(L9:L10,Y7)","v":1},{"$f":"Z7/(AB4-Z20)","v":0.5},{"$f":"IF(AA7=0,0,(AA7*((LOG(AA7))/LOG(2))))","v":-0.5},null,{"$f":"N7","v":1111},{"$f":"COUNTIF(L11:L12,AD7)","v":0},{"$f":"AE7/(AG4-AE20)","v":0},{"$f":"IF(AF7=0,0,(AF7*((LOG(AF7))/LOG(2))))","v":0},null,{"$f":"N7","v":1111},{"$f":"COUNTIF(L13:L14,AI7)","v":2},{"$f":"AJ7/(AL4-AJ20)","v":1},{"$f":"IF(AK7=0,0,(AK7*((LOG(AK7))/LOG(2))))","v":0},null,{"$f":"N7","v":1111},{"$f":"COUNTIF(L15:L16,AN7)","v":2},{"$f":"AO7/(AQ4-AO20)","v":1},{"$f":"IF(AP7=0,0,(AP7*((LOG(AP7))/LOG(2))))","v":0},null,{"$f":"N7","v":1111},{"$f":"COUNTIF(L17:L18,AS7)","v":2},{"$f":"AT7/(AV4-AT20)","v":1},{"$f":"IF(AU7=0,0,(AU7*((LOG(AU7))/LOG(2))))","v":0}]
[12,297,14,304,13,312,23,330,null,null,0,1112,null,1112,{"$f":"COUNTIF($L$7:$L$500,N8)","v":3},{"$f":"O8/$Q$4","v":0.25},{"$f":"IF(P8=0,0,(P8*((LOG(P8))/LOG(2))))","v":-0.5},null,null,{"$f":"N8","v":1112},{"$f":"COUNTIF(L7:L8,T8)","v":1},{"$f":"U8/(W4-U20)","v":0.5},{"$f":"IF(V8=0,0,(V8*((LOG(V8))/LOG(2))))","v":-0.5},null,{"$f":"N8","v":1112},{"$f":"COUNTIF(L9:L10,Y8)","v":0},{"$f":"Z8/(AB4-Z20)","v":0},{"$f":"IF(AA8=0,0,(AA8*((LOG(AA8))/LOG(2))))","v":0},null,{"$f":"N8","v":1112},{"$f":"COUNTIF(L11:L12,AD8)","v":2},{"$f":"AE8/(AG4-AE20)","v":1},{"$f":"IF(AF8=0,0,(AF8*((LOG(AF8))/LOG(2))))","v":0},null,{"$f":"N8","v":1112},{"$f":"COUNTIF(L13:L14,AI8)","v":0},{"$f":"AJ8/(AL4-AJ20)","v":0},{"$f":"IF(AK8=0,0,(AK8*((LOG(AK8))/LOG(2))))","v":0},null,{"$f":"N8","v":1112},{"$f":"COUNTIF(L15:L16,AN8)","v":0},{"$f":"AO8/(AQ4-AO20)","v":0},{"$f":"IF(AP8=0,0,(AP8*((LOG(AP8))/LOG(2))))","v":0},null,{"$f":"N8","v":1112},{"$f":"COUNTIF(L17:L18,AS8)","v":0},{"$f":"AT8/(AV4-AT20)","v":0},{"$f":"IF(AU8=0,0,(AU8*((LOG(AU8))/LOG(2))))","v":0}]
[21,539,21,543,22,552,23,558,null,null,0,2222,null,1121,{"$f":"COUNTIF($L$7:$L$500,N9)","v":0},{"$f":"O9/$Q$4","v":0},{"$f":"IF(P9=0,0,(P9*((LOG(P9))/LOG(2))))","v":0},null,null,{"$f":"N9","v":1121},{"$f":"COUNTIF(L7:L8,T9)","v":0},{"$f":"U9/(W4-U20)","v":0},{"$f":"IF(V9=0,0,(V9*((LOG(V9))/LOG(2))))","v":0},null,{"$f":"N9","v":1121},{"$f":"COUNTIF(L9:L10,Y9)","v":0},{"$f":"Z9/(AB4-Z20)","v":0},{"$f":"IF(AA9=0,0,(AA9*((LOG(AA9))/LOG(2))))","v":0},null,{"$f":"N9","v":1121},{"$f":"COUNTIF(L11:L12,AD9)","v":0},{"$f":"AE9/(AG4-AE20)","v":0},{"$f":"IF(AF9=0,0,(AF9*((LOG(AF9))/LOG(2))))","v":0},null,{"$f":"N9","v":1121},{"$f":"COUNTIF(L13:L14,AI9)","v":0},{"$f":"AJ9/(AL4-AJ20)","v":0},{"$f":"IF(AK9=0,0,(AK9*((LOG(AK9))/LOG(2))))","v":0},null,{"$f":"N9","v":1121},{"$f":"COUNTIF(L15:L16,AN9)","v":0},{"$f":"AO9/(AQ4-AO20)","v":0},{"$f":"IF(AP9=0,0,(AP9*((LOG(AP9))/LOG(2))))","v":0},null,{"$f":"N9","v":1121},{"$f":"COUNTIF(L17:L18,AS9)","v":0},{"$f":"AT9/(AV4-AT20)","v":0},{"$f":"IF(AU9=0,0,(AU9*((LOG(AU9))/LOG(2))))","v":0}]
[12,710,14,717,13,723,14,737,null,null,0,1111,null,1122,{"$f":"COUNTIF($L$7:$L$500,N10)","v":0},{"$f":"O10/$Q$4","v":0},{"$f":"IF(P10=0,0,(P10*((LOG(P10))/LOG(2))))","v":0},null,null,{"$f":"N10","v":1122},{"$f":"COUNTIF(L7:L8,T10)","v":0},{"$f":"U10/(W4-U20)","v":0},{"$f":"IF(V10=0,0,(V10*((LOG(V10))/LOG(2))))","v":0},null,{"$f":"N10","v":1122},{"$f":"COUNTIF(L9:L10,Y10)","v":0},{"$f":"Z10/(AB4-Z20)","v":0},{"$f":"IF(AA10=0,0,(AA10*((LOG(AA10))/LOG(2))))","v":0},null,{"$f":"N10","v":1122},{"$f":"COUNTIF(L11:L12,AD10)","v":0},{"$f":"AE10/(AG4-AE20)","v":0},{"$f":"IF(AF10=0,0,(AF10*((LOG(AF10))/LOG(2))))","v":0},null,{"$f":"N10","v":1122},{"$f":"COUNTIF(L13:L14,AI10)","v":0},{"$f":"AJ10/(AL4-AJ20)","v":0},{"$f":"IF(AK10=0,0,(AK10*((LOG(AK10))/LOG(2))))","v":0},null,{"$f":"N10","v":1122},{"$f":"COUNTIF(L15:L16,AN10)","v":0},{"$f":"AO10/(AQ4-AO20)","v":0},{"$f":"IF(AP10=0,0,(AP10*((LOG(AP10))/LOG(2))))","v":0},null,{"$f":"N10","v":1122},{"$f":"COUNTIF(L17:L18,AS10)","v":0},{"$f":"AT10/(AV4-AT20)","v":0},{"$f":"IF(AU10=0,0,(AU10*((LOG(AU10))/LOG(2))))","v":0}]
[12,841,14,851,13,862,23,876,null,null,0,1112,null,1211,{"$f":"COUNTIF($L$7:$L$500,N11)","v":0},{"$f":"O11/$Q$4","v":0},{"$f":"IF(P11=0,0,(P11*((LOG(P11))/LOG(2))))","v":0},null,null,{"$f":"N11","v":1211},{"$f":"COUNTIF(L7:L8,T11)","v":0},{"$f":"U11/(W4-U20)","v":0},{"$f":"IF(V11=0,0,(V11*((LOG(V11))/LOG(2))))","v":0},null,{"$f":"N11","v":1211},{"$f":"COUNTIF(L9:L10,Y11)","v":0},{"$f":"Z11/(AB4-Z20)","v":0},{"$f":"IF(AA11=0,0,(AA11*((LOG(AA11))/LOG(2))))","v":0},null,{"$f":"N11","v":1211},{"$f":"COUNTIF(L11:L12,AD11)","v":0},{"$f":"AE11/(AG4-AE20)","v":0},{"$f":"IF(AF11=0,0,(AF11*((LOG(AF11))/LOG(2))))","v":0},null,{"$f":"N11","v":1211},{"$f":"COUNTIF(L13:L14,AI11)","v":0},{"$f":"AJ11/(AL4-AJ20)","v":0},{"$f":"IF(AK11=0,0,(AK11*((LOG(AK11))/LOG(2))))","v":0},null,{"$f":"N11","v":1211},{"$f":"COUNTIF(L15:L16,AN11)","v":0},{"$f":"AO11/(AQ4-AO20)","v":0},{"$f":"IF(AP11=0,0,(AP11*((LOG(AP11))/LOG(2))))","v":0},null,{"$f":"N11","v":1211},{"$f":"COUNTIF(L17:L18,AS11)","v":0},{"$f":"AT11/(AV4-AT20)","v":0},{"$f":"IF(AU11=0,0,(AU11*((LOG(AU11))/LOG(2))))","v":0}]
[12,982,14,992,13,1005,23,1022,null,null,0,1112,null,1212,{"$f":"COUNTIF($L$7:$L$500,N12)","v":0},{"$f":"O12/$Q$4","v":0},{"$f":"IF(P12=0,0,(P12*((LOG(P12))/LOG(2))))","v":0},null,null,{"$f":"N12","v":1212},{"$f":"COUNTIF(L7:L8,T12)","v":0},{"$f":"U12/(W4-U20)","v":0},{"$f":"IF(V12=0,0,(V12*((LOG(V12))/LOG(2))))","v":0},null,{"$f":"N12","v":1212},{"$f":"COUNTIF(L9:L10,Y12)","v":0},{"$f":"Z12/(AB4-Z20)","v":0},{"$f":"IF(AA12=0,0,(AA12*((LOG(AA12))/LOG(2))))","v":0},null,{"$f":"N12","v":1212},{"$f":"COUNTIF(L11:L12,AD12)","v":0},{"$f":"AE12/(AG4-AE20)","v":0},{"$f":"IF(AF12=0,0,(AF12*((LOG(AF12))/LOG(2))))","v":0},null,{"$f":"N12","v":1212},{"$f":"COUNTIF(L13:L14,AI12)","v":0},{"$f":"AJ12/(AL4-AJ20)","v":0},{"$f":"IF(AK12=0,0,(AK12*((LOG(AK12))/LOG(2))))","v":0},null,{"$f":"N12","v":1212},{"$f":"COUNTIF(L15:L16,AN12)","v":0},{"$f":"AO12/(AQ4-AO20)","v":0},{"$f":"IF(AP12=0,0,(AP12*((LOG(AP12))/LOG(2))))","v":0},null,{"$f":"N12","v":1212},{"$f":"COUNTIF(L17:L18,AS12)","v":0},{"$f":"AT12/(AV4-AT20)","v":0},{"$f":"IF(AU12=0,0,(AU12*((LOG(AU12))/LOG(2))))","v":0}]
[12,1132,14,1138,13,1148,14,1157,null,null,0,1111,null,1221,{"$f":"COUNTIF($L$7:$L$500,N13)","v":0},{"$f":"O13/$Q$4","v":0},{"$f":"IF(P13=0,0,(P13*((LOG(P13))/LOG(2))))","v":0},null,null,{"$f":"N13","v":1221},{"$f":"COUNTIF(L7:L8,T13)","v":0},{"$f":"U13/(W4-U20)","v":0},{"$f":"IF(V13=0,0,(V13*((LOG(V13))/LOG(2))))","v":0},null,{"$f":"N13","v":1221},{"$f":"COUNTIF(L9:L10,Y13)","v":0},{"$f":"Z13/(AB4-Z20)","v":0},{"$f":"IF(AA13=0,0,(AA13*((LOG(AA13))/LOG(2))))","v":0},null,{"$f":"N13","v":1221},{"$f":"COUNTIF(L11:L12,AD13)","v":0},{"$f":"AE13/(AG4-AE20)","v":0},{"$f":"IF(AF13=0,0,(AF13*((LOG(AF13))/LOG(2))))","v":0},null,{"$f":"N13","v":1221},{"$f":"COUNTIF(L13:L14,AI13)","v":0},{"$f":"AJ13/(AL4-AJ20)","v":0},{"$f":"IF(AK13=0,0,(AK13*((LOG(AK13))/LOG(2))))","v":0},null,{"$f":"N13","v":1221},{"$f":"COUNTIF(L15:L16,AN13)","v":0},{"$f":"AO13/(AQ4-AO20)","v":0},{"$f":"IF(AP13=0,0,(AP13*((LOG(AP13))/LOG(2))))","v":0},null,{"$f":"N13","v":1221},{"$f":"COUNTIF(L17:L18,AS13)","v":0},{"$f":"AT13/(AV4-AT20)","v":0},{"$f":"IF(AU13=0,0,(AU13*((LOG(AU13))/LOG(2))))","v":0}]
[12,1283,14,1289,13,1299,14,1310,null,null,0,1111,null,1222,{"$f":"COUNTIF($L$7:$L$500,N14)","v":0},{"$f":"O14/$Q$4","v":0},{"$f":"IF(P14=0,0,(P14*((LOG(P14))/LOG(2))))","v":0},null,null,{"$f":"N14","v":1222},{"$f":"COUNTIF(L7:L8,T14)","v":0},{"$f":"U14/(W4-U20)","v":0},{"$f":"IF(V14=0,0,(V14*((LOG(V14))/LOG(2))))","v":0},null,{"$f":"N14","v":1222},{"$f":"COUNTIF(L9:L10,Y14)","v":0},{"$f":"Z14/(AB4-Z20)","v":0},{"$f":"IF(AA14=0,0,(AA14*((LOG(AA14))/LOG(2))))","v":0},null,{"$f":"N14","v":1222},{"$f":"COUNTIF(L11:L12,AD14)","v":0},{"$f":"AE14/(AG4-AE20)","v":0},{"$f":"IF(AF14=0,0,(AF14*((LOG(AF14))/LOG(2))))","v":0},null,{"$f":"N14","v":1222},{"$f":"COUNTIF(L13:L14,AI14)","v":0},{"$f":"AJ14/(AL4-AJ20)","v":0},{"$f":"IF(AK14=0,0,(AK14*((LOG(AK14))/LOG(2))))","v":0},null,{"$f":"N14","v":1222},{"$f":"COUNTIF(L15:L16,AN14)","v":0},{"$f":"AO14/(AQ4-AO20)","v":0},{"$f":"IF(AP14=0,0,(AP14*((LOG(AP14))/LOG(2))))","v":0},null,{"$f":"N14","v":1222},{"$f":"COUNTIF(L17:L18,AS14)","v":0},{"$f":"AT14/(AV4-AT20)","v":0},{"$f":"IF(AU14=0,0,(AU14*((LOG(AU14))/LOG(2))))","v":0}]
[12,1416,14,1422,13,1430,14,1436,null,null,0,1111,null,2111,{"$f":"COUNTIF($L$7:$L$500,N15)","v":0},{"$f":"O15/$Q$4","v":0},{"$f":"IF(P15=0,0,(P15*((LOG(P15))/LOG(2))))","v":0},null,null,{"$f":"N15","v":2111},{"$f":"COUNTIF(L7:L8,T15)","v":0},{"$f":"U15/(W4-U20)","v":0},{"$f":"IF(V15=0,0,(V15*((LOG(V15))/LOG(2))))","v":0},null,{"$f":"N15","v":2111},{"$f":"COUNTIF(L9:L10,Y15)","v":0},{"$f":"Z15/(AB4-Z20)","v":0},{"$f":"IF(AA15=0,0,(AA15*((LOG(AA15))/LOG(2))))","v":0},null,{"$f":"N15","v":2111},{"$f":"COUNTIF(L11:L12,AD15)","v":0},{"$f":"AE15/(AG4-AE20)","v":0},{"$f":"IF(AF15=0,0,(AF15*((LOG(AF15))/LOG(2))))","v":0},null,{"$f":"N15","v":2111},{"$f":"COUNTIF(L13:L14,AI15)","v":0},{"$f":"AJ15/(AL4-AJ20)","v":0},{"$f":"IF(AK15=0,0,(AK15*((LOG(AK15))/LOG(2))))","v":0},null,{"$f":"N15","v":2111},{"$f":"COUNTIF(L15:L16,AN15)","v":0},{"$f":"AO15/(AQ4-AO20)","v":0},{"$f":"IF(AP15=0,0,(AP15*((LOG(AP15))/LOG(2))))","v":0},null,{"$f":"N15","v":2111},{"$f":"COUNTIF(L17:L18,AS15)","v":0},{"$f":"AT15/(AV4-AT20)","v":0},{"$f":"IF(AU15=0,0,(AU15*((LOG(AU15))/LOG(2))))","v":0}]
[12,1547,14,1555,13,1561,14,1567,null,null,0,1111,null,2112,{"$f":"COUNTIF($L$7:$L$500,N16)","v":0},{"$f":"O16/$Q$4","v":0},{"$f":"IF(P16=0,0,(P16*((LOG(P16))/LOG(2))))","v":0},null,null,{"$f":"N16","v":2112},{"$f":"COUNTIF(L7:L8,T16)","v":0},{"$f":"U16/(W4-U20)","v":0},{"$f":"IF(V16=0,0,(V16*((LOG(V16))/LOG(2))))","v":0},null,{"$f":"N16","v":2112},{"$f":"COUNTIF(L9:L10,Y16)","v":0},{"$f":"Z16/(AB4-Z20)","v":0},{"$f":"IF(AA16=0,0,(AA16*((LOG(AA16))/LOG(2))))","v":0},null,{"$f":"N16","v":2112},{"$f":"COUNTIF(L11:L12,AD16)","v":0},{"$f":"AE16/(AG4-AE20)","v":0},{"$f":"IF(AF16=0,0,(AF16*((LOG(AF16))/LOG(2))))","v":0},null,{"$f":"N16","v":2112},{"$f":"COUNTIF(L13:L14,AI16)","v":0},{"$f":"AJ16/(AL4-AJ20)","v":0},{"$f":"IF(AK16=0,0,(AK16*((LOG(AK16))/LOG(2))))","v":0},null,{"$f":"N16","v":2112},{"$f":"COUNTIF(L15:L16,AN16)","v":0},{"$f":"AO16/(AQ4-AO20)","v":0},{"$f":"IF(AP16=0,0,(AP16*((LOG(AP16))/LOG(2))))","v":0},null,{"$f":"N16","v":2112},{"$f":"COUNTIF(L17:L18,AS16)","v":0},{"$f":"AT16/(AV4-AT20)","v":0},{"$f":"IF(AU16=0,0,(AU16*((LOG(AU16))/LOG(2))))","v":0}]
[12,1668,14,1678,13,1687,14,1697,null,null,0,1111,null,2121,{"$f":"COUNTIF($L$7:$L$500,N17)","v":0},{"$f":"O17/$Q$4","v":0},{"$f":"IF(P17=0,0,(P17*((LOG(P17))/LOG(2))))","v":0},null,null,{"$f":"N17","v":2121},{"$f":"COUNTIF(L7:L8,T17)","v":0},{"$f":"U17/(W4-U20)","v":0},{"$f":"IF(V17=0,0,(V17*((LOG(V17))/LOG(2))))","v":0},null,{"$f":"N17","v":2121},{"$f":"COUNTIF(L9:L10,Y17)","v":0},{"$f":"Z17/(AB4-Z20)","v":0},{"$f":"IF(AA17=0,0,(AA17*((LOG(AA17))/LOG(2))))","v":0},null,{"$f":"N17","v":2121},{"$f":"COUNTIF(L11:L12,AD17)","v":0},{"$f":"AE17/(AG4-AE20)","v":0},{"$f":"IF(AF17=0,0,(AF17*((LOG(AF17))/LOG(2))))","v":0},null,{"$f":"N17","v":2121},{"$f":"COUNTIF(L13:L14,AI17)","v":0},{"$f":"AJ17/(AL4-AJ20)","v":0},{"$f":"IF(AK17=0,0,(AK17*((LOG(AK17))/LOG(2))))","v":0},null,{"$f":"N17","v":2121},{"$f":"COUNTIF(L15:L16,AN17)","v":0},{"$f":"AO17/(AQ4-AO20)","v":0},{"$f":"IF(AP17=0,0,(AP17*((LOG(AP17))/LOG(2))))","v":0},null,{"$f":"N17","v":2121},{"$f":"COUNTIF(L17:L18,AS17)","v":0},{"$f":"AT17/(AV4-AT20)","v":0},{"$f":"IF(AU17=0,0,(AU17*((LOG(AU17))/LOG(2))))","v":0}]
[12,1801,14,1811,13,1819,14,1826,null,null,0,1111,null,2122,{"$f":"COUNTIF($L$7:$L$500,N18)","v":0},{"$f":"O18/$Q$4","v":0},{"$f":"IF(P18=0,0,(P18*((LOG(P18))/LOG(2))))","v":0},null,null,{"$f":"N18","v":2122},{"$f":"COUNTIF(L7:L8,T18)","v":0},{"$f":"U18/(W4-U20)","v":0},{"$f":"IF(V18=0,0,(V18*((LOG(V18))/LOG(2))))","v":0},null,{"$f":"N18","v":2122},{"$f":"COUNTIF(L9:L10,Y18)","v":0},{"$f":"Z18/(AB4-Z20)","v":0},{"$f":"IF(AA18=0,0,(AA18*((LOG(AA18))/LOG(2))))","v":0},null,{"$f":"N18","v":2122},{"$f":"COUNTIF(L11:L12,AD18)","v":0},{"$f":"AE18/(AG4-AE20)","v":0},{"$f":"IF(AF18=0,0,(AF18*((LOG(AF18))/LOG(2))))","v":0},null,{"$f":"N18","v":2122},{"$f":"COUNTIF(L13:L14,AI18)","v":0},{"$f":"AJ18/(AL4-AJ20)","v":0},{"$f":"IF(AK18=0,0,(AK18*((LOG(AK18))/LOG(2))))","v":0},null,{"$f":"N18","v":2122},{"$f":"COUNTIF(L15:L16,AN18)","v":0},{"$f":"AO18/(AQ4-AO20)","v":0},{"$f":"IF(AP18=0,0,(AP18*((LOG(AP18))/LOG(2))))","v":0},null,{"$f":"N18","v":2122},{"$f":"COUNTIF(L17:L18,AS18)","v":0},{"$f":"AT18/(AV4-AT20)","v":0},{"$f":"IF(AU18=0,0,(AU18*((LOG(AU18))/LOG(2))))","v":0}]
[null,null,null,null,null,null,null,null,null,null,null,null,null,2211,{"$f":"COUNTIF($L$7:$L$500,N19)","v":0},{"$f":"O19/$Q$4","v":0},{"$f":"IF(P19=0,0,(P19*((LOG(P19))/LOG(2))))","v":0},null,null,{"$f":"N19","v":2211},{"$f":"COUNTIF(L7:L8,T19)","v":0},{"$f":"U19/(W4-U20)","v":0},{"$f":"IF(V19=0,0,(V19*((LOG(V19))/LOG(2))))","v":0},null,{"$f":"N19","v":2211},{"$f":"COUNTIF(L9:L10,Y19)","v":0},{"$f":"Z19/(AB4-Z20)","v":0},{"$f":"IF(AA19=0,0,(AA19*((LOG(AA19))/LOG(2))))","v":0},null,{"$f":"N19","v":2211},{"$f":"COUNTIF(L11:L12,AD19)","v":0},{"$f":"AE19/(AG4-AE20)","v":0},{"$f":"IF(AF19=0,0,(AF19*((LOG(AF19))/LOG(2))))","v":0},null,{"$f":"N19","v":2211},{"$f":"COUNTIF(L13:L14,AI19)","v":0},{"$f":"AJ19/(AL4-AJ20)","v":0},{"$f":"IF(AK19=0,0,(AK19*((LOG(AK19))/LOG(2))))","v":0},null,{"$f":"N19","v":2211},{"$f":"COUNTIF(L15:L16,AN19)","v":0},{"$f":"AO19/(AQ4-AO20)","v":0},{"$f":"IF(AP19=0,0,(AP19*((LOG(AP19))/LOG(2))))","v":0},null,{"$f":"N19","v":2211},{"$f":"COUNTIF(L17:L18,AS19)","v":0},{"$f":"AT19/(AV4-AT20)","v":0},{"$f":"IF(AU19=0,0,(AU19*((LOG(AU19))/LOG(2))))","v":0}]
[null,null,null,null,null,null,null,null,null,null,null,null,null,2212,{"$f":"COUNTIF($L$7:$L$500,N20)","v":0},{"$f":"O20/$Q$4","v":0},{"$f":"IF(P20=0,0,(P20*((LOG(P20))/LOG(2))))","v":0},null,null,{"$f":"N20","v":2212},{"$f":"COUNTIF(L7:L8,T20)","v":0},null,null,null,{"$f":"N20","v":2212},{"$f":"COUNTIF(L9:L10,Y20)","v":0},null,null,null,{"$f":"N20","v":2212},{"$f":"COUNTIF(L11:L12,AD20)","v":0},null,null,null,{"$f":"N20","v":2212},{"$f":"COUNTIF(L13:L14,AI20)","v":0},null,null,null,{"$f":"N20","v":2212},{"$f":"COUNTIF(L15:L16,AN20)","v":0},null,null,null,{"$f":"N20","v":2212},{"$f":"COUNTIF(L17:L18,AS20)","v":0}]
[null,null,null,null,null,null,null,null,null,null,null,null,null,2221,{"$f":"COUNTIF($L$7:$L$500,N21)","v":0},{"$f":"O21/$Q$4","v":0},{"$f":"IF(P21=0,0,(P21*((LOG(P21))/LOG(2))))","v":0},null,null,{"$f":"N21","v":2221},{"$f":"COUNTIF(L7:L8,T21)","v":0},{"$f":"U21/(W4-U20)","v":0},{"$f":"IF(V21=0,0,(V21*((LOG(V21))/LOG(2))))","v":0},null,{"$f":"N21","v":2221},{"$f":"COUNTIF(L9:L10,Y21)","v":0},{"$f":"Z21/(AB4-Z20)","v":0},{"$f":"IF(AA21=0,0,(AA21*((LOG(AA21))/LOG(2))))","v":0},null,{"$f":"N21","v":2221},{"$f":"COUNTIF(L11:L12,AD21)","v":0},{"$f":"AE21/(AG4-AE20)","v":0},{"$f":"IF(AF21=0,0,(AF21*((LOG(AF21))/LOG(2))))","v":0},null,{"$f":"N21","v":2221},{"$f":"COUNTIF(L13:L14,AI21)","v":0},{"$f":"AJ21/(AL4-AJ20)","v":0},{"$f":"IF(AK21=0,0,(AK21*((LOG(AK21))/LOG(2))))","v":0},null,{"$f":"N21","v":2221},{"$f":"COUNTIF(L15:L16,AN21)","v":0},{"$f":"AO21/(AQ4-AO20)","v":0},{"$f":"IF(AP21=0,0,(AP21*((LOG(AP21))/LOG(2))))","v":0},null,{"$f":"N21","v":2221},{"$f":"COUNTIF(L17:L18,AS21)","v":0},{"$f":"AT21/(AV4-AT20)","v":0},{"$f":"IF(AU21=0,0,(AU21*((LOG(AU21))/LOG(2))))","v":0}]
[null,null,null,null,null,null,null,null,null,null,null,null,null,2222,{"$f":"COUNTIF($L$7:$L$500,N22)","v":2},{"$f":"O22/$Q$4","v":0.16666666666666666},{"$f":"IF(P22=0,0,(P22*((LOG(P22))/LOG(2))))","v":-0.43082708345352599},null,null,{"$f":"N22","v":2222},{"$f":"COUNTIF(L7:L8,T22)","v":1},{"$f":"U22/(W4-U20)","v":0.5},{"$f":"IF(V22=0,0,(V22*((LOG(V22))/LOG(2))))","v":-0.5},null,{"$f":"N22","v":2222},{"$f":"COUNTIF(L9:L10,Y22)","v":1},{"$f":"Z22/(AB4-Z20)","v":0.5},{"$f":"IF(AA22=0,0,(AA22*((LOG(AA22))/LOG(2))))","v":-0.5},null,{"$f":"N22","v":2222},{"$f":"COUNTIF(L11:L12,AD22)","v":0},{"$f":"AE22/(AG4-AE20)","v":0},{"$f":"IF(AF22=0,0,(AF22*((LOG(AF22))/LOG(2))))","v":0},null,{"$f":"N22","v":2222},{"$f":"COUNTIF(L13:L14,AI22)","v":0},{"$f":"AJ22/(AL4-AJ20)","v":0},{"$f":"IF(AK22=0,0,(AK22*((LOG(AK22))/LOG(2))))","v":0},null,{"$f":"N22","v":2222},{"$f":"COUNTIF(L15:L16,AN22)","v":0},{"$f":"AO22/(AQ4-AO20)","v":0},{"$f":"IF(AP22=0,0,(AP22*((LOG(AP22))/LOG(2))))","v":0},null,{"$f":"N22","v":2222},{"$f":"COUNTIF(L17:L18,AS22)","v":0},{"$f":"AT22/(AV4-AT20)","v":0},{"$f":"IF(AU22=0,0,(AU22*((LOG(AU22))/LOG(2))))","v":0}]
[null,null,null,null,null,null,null,null,null,null,null,null,null,null,null,{"$f":"SUM(P7:P22)","v":1},{"$f":"-SUM(Q7:Q22)","v":1.3844315043405979},null,null,null,null,{"$f":"SUM(V7:V22)","v":1},{"$f":"-SUM(W7:W22)","v":1},null,null,null,{"$f":"SUM(AA7:AA22)","v":1},{"$f":"-SUM(AB7:AB22)","v":1},null,null,null,{"$f":"SUM(AF7:AF22)","v":1},{"$f":"-SUM(AG7:AG22)","v":0},null,null,null,{"$f":"SUM(AK7:AK22)","v":1},{"$f":"-SUM(AL7:AL22)","v":0},null,null,null,{"$f":"SUM(AP7:AP22)","v":1},{"$f":"-SUM(AQ7:AQ22)","v":0},null,null,null,{"$f":"SUM(AU7:AU22)","v":1},{"$f":"-SUM(AV7:AV22)","v":0}]
[null,null,null,null,null,null,null,null,null,null,null,null,null,null,null,"U=",{"$f":"Q23/(LOG(Q4)/LOG(2))","v":0.38617740187299132},null,null,null,null,"U1=",{"$f":"W23/(LOG(W4)/LOG(2))","v":1},null,null,null,"U2=",{"$f":"AB23/(LOG(AB4)/LOG(2))","v":1},null,null,null,"U3=",{"$f":"AG23/(LOG(AG4)/LOG(2))","v":0},null,null,null,"U4=",{"$f":"AL23/(LOG(AL4)/LOG(2))","v":0},null,null,null,"U5=",{"$f":"AQ23/(LOG(AQ4)/LOG(2))","v":0},null,null,null,"U6=",{"$f":"AV23/(LOG(AV4)/LOG(2))","v":0}]
[]
[]
[null,null,null,null,null,null,null,null,null,null,null,null,null,"Total Target Seq"]
[null,null,null,null,null,null,null,null,null,null,null,null,null,{"$f":"COUNTIF(L7:L18,G3)","v":0},null,2,2,2,2,2,2]
[null,null,null,null,null,null,null,null,null,null,null,null,null,null,null,"% of reinforcement given in 6 equal intervals based on number of trials "]
[null,null,null,null,null,null,null,null,null,null,null,null,null,null,null,"%_1","%_2","%_3","%_4","%_5","%_6"]
[null,null,null,null,null,null,null,null,null,null,null,null,null,null,"target sequence",{"$f":"$G$3","v":2212},{"$f":"$G$3","v":2212},{"$f":"$G$3","v":2212},{"$f":"$G$3","v":2212},{"$f":"$G$3","v":2212},{"$f":"$G$3","v":2212}]
[null,null,null,null,null,null,null,null,null,null,null,null,null,null,"total reinforcement",{"$f":"U20","v":0},{"$f":"Z20","v":0},{"$f":"AE20","v":0},{"$f":"AJ20","v":0},{"$f":"AO20","v":0},{"$f":"AT20","v":0}]
[null,null,null,null,null,null,null,null,null,null,null,null,null,null,"% target"]
[null,null,null,null,null,null,null,null,null,null,null,null,null,null,"CCRF"]
[null,null,null,null,null,null,null,null,null,null,null,null,null,null,"% CCRf"]
[null,null,null,null,null,null,null,null,null,null,null,null,null,null,"average response rate",{"$f":"H8/P28","v":165},{"$f":"(H10-H8)/Q28","v":203.5},{"$f":"(H12-H10)/R28","v":142.5},{"$f":"(H14-H12)/S28","v":144},{"$f":"(H16-H14)/T28","v":128.5},{"$f":"(H18-H16)/U28","v":129.5}]

{"sheet":"!M926740.102","index":30,"n_rows":36,"n_cols":48,"rows_kept":36,"cut":false,"hidden":false,"merged":[[4,39,4,42],[5,39,5,40],[4,44,4,47],[5,44,5,45],[4,24,4,27],[5,24,5,25],[4,29,4,32],[5,29,5,30],[4,34,4,37],[5,34,5,35],[1,1,1,2],[5,13,5,14],[26,13,26,14],[27,13,27,14],[4,19,4,22],[5,19,5,20]]}
["Report for:!M926740.102"]
["Date:","<date>"]
["Hen:","<hen>",null,null,null,"Correct Sequence",{"$f":"Start!J2","v":2212},null,null,null,null,null,null,null,null,"Total Sequences in Data",{"$f":"4994-COUNTBLANK(L7:L5000)","v":18},null,null,null,null,"Total Sequences in Block Data",{"$f":"COUNTA(L7:L9)","v":3},null,null,null,"Total Sequences in Block Data",{"$f":"COUNTA(L10:L12)","v":3},null,null,null,"Total Sequences in Block Data",{"$f":"COUNTA(L13:L15)","v":3},null,null,null,"Total Sequences in Block Data",{"$f":"COUNTA(L16:L18)","v":3},null,null,null,"Total Sequences in Block Data",{"$f":"COUNTA(L19:L21)","v":3},null,null,null,"Total Sequences in Block Data",{"$f":"COUNTA(L22:L24)","v":3}]
[null,null,null,null,null,null,null,null,null,null,null,null,null,null,null,"Total Sequences in Summary",{"$f":"SUM(O7:O22)","v":18},null,null,null,null,"Total Sequences in Block Summary",{"$f":"SUM(U7:U22)","v":3},null,null,null,"Total Sequences in Block Summary",{"$f":"SUM(Z7:Z22)","v":3},null,null,null,"Total Sequences in Block Summary",{"$f":"SUM(AE7:AE22)","v":3},null,null,null,"Total Sequences in Block Summary",{"$f":"SUM(AJ7:AJ22)","v":3},null,null,null,"Total Sequences in Block Summary",{"$f":"SUM(AO7:AO22)","v":3},null,null,null,"Total Sequences in Block Summary",{"$f":"SUM(AT7:AT22)","v":3}]
[null,null,null,null,null,null,null,null,null,null,null,null,null,null,null,null,null,null,null,"Block 1",null,null,null,null,"Block 2",null,null,null,null,"Block 3",null,null,null,null,"Block 4",null,null,null,null,"Block 5",null,null,null,null,"Block 6"]
["Sequence\nComponent\n1","Time\n1","Sequence\nComponent\n2","Time\n2","Sequence\nComponent\n3","Time\n3","Sequence\nComponent\n4","Time\n4","Sequence\nComponent\n5","Time\n5","Correct?\n0=No 1=Yes","Sequence",null,"Frequency",null,"Relative Frequency","Variability",null,null,"Frequency",null,"Relative Frequency","Variability",null,"Frequency",null,"Relative Frequency","Variability",null,"Frequency",null,"Relative Frequency","Variability",null,"Frequency",null,"Relative Frequency","Variability",null,"Frequency",null,"Relative Frequency","Variability",null,"Frequency",null,"Relative Frequency","Variability"]
[12,47,14,57,13,66,14,76,null,null,0,1111,null,1111,{"$f":"COUNTIF($L$7:$L$500,N7)","v":17},{"$f":"O7/$Q$4","v":0.94444444444444442},{"$f":"IF(P7=0,0,(P7*((LOG(P7))/LOG(2))))","v":-7.7880929070196711E-2},null,null,{"$f":"N7","v":1111},{"$f":"COUNTIF(L7:L9,T7)","v":3},{"$f":"U7/(W4-U20)","v":1},{"$f":"IF(V7=0,0,(V7*((LOG(V7))/LOG(2))))","v":0},null,{"$f":"N7","v":1111},{"$f":"COUNTIF(L10:L12,Y7)","v":2},{"$f":"Z7/(AB4-Z20)","v":0.66666666666666663},{"$f":"IF(AA7=0,0,(AA7*((LOG(AA7))/LOG(2))))","v":-0.38997500048077083},null,{"$f":"N7","v":1111},{"$f":"COUNTIF(L13:L15,AD7)","v":3},{"$f":"AE7/(AG4-AE20)","v":1},{"$f":"IF(AF7=0,0,(AF7*((LOG(AF7))/LOG(2))))","v":0},null,{"$f":"N7","v":1111},{"$f":"COUNTIF(L16:L18,AI7)","v":3},{"$f":"AJ7/(AL4-AJ20)","v":1},{"$f":"IF(AK7=0,0,(AK7*((LOG(AK7))/LOG(2))))","v":0},null,{"$f":"N7","v":1111},{"$f":"COUNTIF(L19:L21,AN7)","v":3},{"$f":"AO7/(AQ4-AO20)","v":1},{"$f":"IF(AP7=0,0,(AP7*((LOG(AP7))/LOG(2))))","v":0},null,{"$f":"N7","v":1111},{"$f":"COUNTIF(L22:L24,AS7)","v":3},{"$f":"AT7/(AV4-AT20)","v":1},{"$f":"IF(AU7=0,0,(AU7*((LOG(AU7))/LOG(2))))","v":0}]
[12,786,14,795,13,806,14,816,null,null,0,1111,null,1112,{"$f":"COUNTIF($L$7:$L$500,N8)","v":1},{"$f":"O8/$Q$4","v":5.5555555555555552E-2},{"$f":"IF(P8=0,0,(P8*((LOG(P8))/LOG(2))))","v":-0.23166250008012845},null,null,{"$f":"N8","v":1112},{"$f":"COUNTIF(L7:L9,T8)","v":0},{"$f":"U8/(W4-U20)","v":0},{"$f":"IF(V8=0,0,(V8*((LOG(V8))/LOG(2))))","v":0},null,{"$f":"N8","v":1112},{"$f":"COUNTIF(L10:L12,Y8)","v":1},{"$f":"Z8/(AB4-Z20)","v":0.33333333333333331},{"$f":"IF(AA8=0,0,(AA8*((LOG(AA8))/LOG(2))))","v":-0.52832083357371862},null,{"$f":"N8","v":1112},{"$f":"COUNTIF(L13:L15,AD8)","v":0},{"$f":"AE8/(AG4-AE20)","v":0},{"$f":"IF(AF8=0,0,(AF8*((LOG(AF8))/LOG(2))))","v":0},null,{"$f":"N8","v":1112},{"$f":"COUNTIF(L16:L18,AI8)","v":0},{"$f":"AJ8/(AL4-AJ20)","v":0},{"$f":"IF(AK8=0,0,(AK8*((LOG(AK8))/LOG(2))))","v":0},null,{"$f":"N8","v":1112},{"$f":"COUNTIF(L19:L21,AN8)","v":0},{"$f":"AO8/(AQ4-AO20)","v":0},{"$f":"IF(AP8=0,0,(AP8*((LOG(AP8))/LOG(2))))","v":0},null,{"$f":"N8","v":1112},{"$f":"COUNTIF(L22:L24,AS8)","v":0},{"$f":"AT8/(AV4-AT20)","v":0},{"$f":"IF(AU8=0,0,(AU8*((LOG(AU8))/LOG(2))))","v":0}]
[12,1045,14,1079,13,1093,14,1104,null,null,0,1111,null,1121,{"$f":"COUNTIF($L$7:$L$500,N9)","v":0},{"$f":"O9/$Q$4","v":0},{"$f":"IF(P9=0,0,(P9*((LOG(P9))/LOG(2))))","v":0},null,null,{"$f":"N9","v":1121},{"$f":"COUNTIF(L7:L9,T9)","v":0},{"$f":"U9/(W4-U20)","v":0},{"$f":"IF(V9=0,0,(V9*((LOG(V9))/LOG(2))))","v":0},null,{"$f":"N9","v":1121},{"$f":"COUNTIF(L10:L12,Y9)","v":0},{"$f":"Z9/(AB4-Z20)","v":0},{"$f":"IF(AA9=0,0,(AA9*((LOG(AA9))/LOG(2))))","v":0},null,{"$f":"N9","v":1121},{"$f":"COUNTIF(L13:L15,AD9)","v":0},{"$f":"AE9/(AG4-AE20)","v":0},{"$f":"IF(AF9=0,0,(AF9*((LOG(AF9))/LOG(2))))","v":0},null,{"$f":"N9","v":1121},{"$f":"COUNTIF(L16:L18,AI9)","v":0},{"$f":"AJ9/(AL4-AJ20)","v":0},{"$f":"IF(AK9=0,0,(AK9*((LOG(AK9))/LOG(2))))","v":0},null,{"$f":"N9","v":1121},{"$f":"COUNTIF(L19:L21,AN9)","v":0},{"$f":"AO9/(AQ4-AO20)","v":0},{"$f":"IF(AP9=0,0,(AP9*((LOG(AP9))/LOG(2))))","v":0},null,{"$f":"N9","v":1121},{"$f":"COUNTIF(L22:L24,AS9)","v":0},{"$f":"AT9/(AV4-AT20)","v":0},{"$f":"IF(AU9=0,0,(AU9*((LOG(AU9))/LOG(2))))","v":0}]
[12,1201,14,1211,13,1223,23,1249,null,null,0,1112,null,1122,{"$f":"COUNTIF($L$7:$L$500,N10)","v":0},{"$f":"O10/$Q$4","v":0},{"$f":"IF(P10=0,0,(P10*((LOG(P10))/LOG(2))))","v":0},null,null,{"$f":"N10","v":1122},{"$f":"COUNTIF(L7:L9,T10)","v":0},{"$f":"U10/(W4-U20)","v":0},{"$f":"IF(V10=0,0,(V10*((LOG(V10))/LOG(2))))","v":0},null,{"$f":"N10","v":1122},{"$f":"COUNTIF(L10:L12,Y10)","v":0},{"$f":"Z10/(AB4-Z20)","v":0},{"$f":"IF(AA10=0,0,(AA10*((LOG(AA10))/LOG(2))))","v":0},null,{"$f":"N10","v":1122},{"$f":"COUNTIF(L13:L15,AD10)","v":0},{"$f":"AE10/(AG4-AE20)","v":0},{"$f":"IF(AF10=0,0,(AF10*((LOG(AF10))/LOG(2))))","v":0},null,{"$f":"N10","v":1122},{"$f":"COUNTIF(L16:L18,AI10)","v":0},{"$f":"AJ10/(AL4-AJ20)","v":0},{"$f":"IF(AK10=0,0,(AK10*((LOG(AK10))/LOG(2))))","v":0},null,{"$f":"N10","v":1122},{"$f":"COUNTIF(L19:L21,AN10)","v":0},{"$f":"AO10/(AQ4-AO20)","v":0},{"$f":"IF(AP10=0,0,(AP10*((LOG(AP10))/LOG(2))))","v":0},null,{"$f":"N10","v":1122},{"$f":"COUNTIF(L22:L24,AS10)","v":0},{"$f":"AT10/(AV4-AT20)","v":0},{"$f":"IF(AU10=0,0,(AU10*((LOG(AU10))/LOG(2))))","v":0}]
[12,1350,14,1355,13,1365,14,1372,null,null,0,1111,null,1211,{"$f":"COUNTIF($L$7:$L$500,N11)","v":0},{"$f":"O11/$Q$4","v":0},{"$f":"IF(P11=0,0,(P11*((LOG(P11))/LOG(2))))","v":0},null,null,{"$f":"N11","v":1211},{"$f":"COUNTIF(L7:L9,T11)","v":0},{"$f":"U11/(W4-U20)","v":0},{"$f":"IF(V11=0,0,(V11*((LOG(V11))/LOG(2))))","v":0},null,{"$f":"N11","v":1211},{"$f":"COUNTIF(L10:L12,Y11)","v":0},{"$f":"Z11/(AB4-Z20)","v":0},{"$f":"IF(AA11=0,0,(AA11*((LOG(AA11))/LOG(2))))","v":0},null,{"$f":"N11","v":1211},{"$f":"COUNTIF(L13:L15,AD11)","v":0},{"$f":"AE11/(AG4-AE20)","v":0},{"$f":"IF(AF11=0,0,(AF11*((LOG(AF11))/LOG(2))))","v":0},null,{"$f":"N11","v":1211},{"$f":"COUNTIF(L16:L18,AI11)","v":0},{"$f":"AJ11/(AL4-AJ20)","v":0},{"$f":"IF(AK11=0,0,(AK11*((LOG(AK11))/LOG(2))))","v":0},null,{"$f":"N11","v":1211},{"$f":"COUNTIF(L19:L21,AN11)","v":0},{"$f":"AO11/(AQ4-AO20)","v":0},{"$f":"IF(AP11=0,0,(AP11*((LOG(AP11))/LOG(2))))","v":0},null,{"$f":"N11","v":1211},{"$f":"COUNTIF(L22:L24,AS11)","v":0},{"$f":"AT11/(AV4-AT20)","v":0},{"$f":"IF(AU11=0,0,(AU11*((LOG(AU11))/LOG(2))))","v":0}]
[12,1472,14,1479,13,1489,14,1500,null,null,0,1111,null,1212,{"$f":"COUNTIF($L$7:$L$500,N12)","v":0},{"$f":"O12/$Q$4","v":0},{"$f":"IF(P12=0,0,(P12*((LOG(P12))/LOG(2))))","v":0},null,null,{"$f":"N12","v":1212},{"$f":"COUNTIF(L7:L9,T12)","v":0},{"$f":"U12/(W4-U20)","v":0},{"$f":"IF(V12=0,0,(V12*((LOG(V12))/LOG(2))))","v":0},null,{"$f":"N12","v":1212},{"$f":"COUNTIF(L10:L12,Y12)","v":0},{"$f":"Z12/(AB4-Z20)","v":0},{"$f":"IF(AA12=0,0,(AA12*((LOG(AA12))/LOG(2))))","v":0},null,{"$f":"N12","v":1212},{"$f":"COUNTIF(L13:L15,AD12)","v":0},{"$f":"AE12/(AG4-AE20)","v":0},{"$f":"IF(AF12=0,0,(AF12*((LOG(AF12))/LOG(2))))","v":0},null,{"$f":"N12","v":1212},{"$f":"COUNTIF(L16:L18,AI12)","v":0},{"$f":"AJ12/(AL4-AJ20)","v":0},{"$f":"IF(AK12=0,0,(AK12*((LOG(AK12))/LOG(2))))","v":0},null,{"$f":"N12","v":1212},{"$f":"COUNTIF(L19:L21,AN12)","v":0},{"$f":"AO12/(AQ4-AO20)","v":0},{"$f":"IF(AP12=0,0,(AP12*((LOG(AP12))/LOG(2))))","v":0},null,{"$f":"N12","v":1212},{"$f":"COUNTIF(L22:L24,AS12)","v":0},{"$f":"AT12/(AV4-AT20)","v":0},{"$f":"IF(AU12=0,0,(AU12*((LOG(AU12))/LOG(2))))","v":0}]
[12,1599,14,1603,13,1613,14,1620,null,null,0,1111,null,1221,{"$f":"COUNTIF($L$7:$L$500,N13)","v":0},{"$f":"O13/$Q$4","v":0},{"$f":"IF(P13=0,0,(P13*((LOG(P13))/LOG(2))))","v":0},null,null,{"$f":"N13","v":1221},{"$f":"COUNTIF(L7:L9,T13)","v":0},{"$f":"U13/(W4-U20)","v":0},{"$f":"IF(V13=0,0,(V13*((LOG(V13))/LOG(2))))","v":0},null,{"$f":"N13","v":1221},{"$f":"COUNTIF(L10:L12,Y13)","v":0},{"$f":"Z13/(AB4-Z20)","v":0},{"$f":"IF(AA13=0,0,(AA13*((LOG(AA13))/LOG(2))))","v":0},null,{"$f":"N13","v":1221},{"$f":"COUNTIF(L13:L15,AD13)","v":0},{"$f":"AE13/(AG4-AE20)","v":0},{"$f":"IF(AF13=0,0,(AF13*((LOG(AF13))/LOG(2))))","v":0},null,{"$f":"N13","v":1221},{"$f":"COUNTIF(L16:L18,AI13)","v":0},{"$f":"AJ13/(AL4-AJ20)","v":0},{"$f":"IF(AK13=0,0,(AK13*((LOG(AK13))/LOG(2))))","v":0},null,{"$f":"N13","v":1221},{"$f":"COUNTIF(L19:L21,AN13)","v":0},{"$f":"AO13/(AQ4-AO20)","v":0},{"$f":"IF(AP13=0,0,(AP13*((LOG(AP13))/LOG(2))))","v":0},null,{"$f":"N13","v":1221},{"$f":"COUNTIF(L22:L24,AS13)","v":0},{"$f":"AT13/(AV4-AT20)","v":0},{"$f":"IF(AU13=0,0,(AU13*((LOG(AU13))/LOG(2))))","v":0}]
[12,1720,14,1726,13,1732,14,1739,null,null,0,1111,null,1222,{"$f":"COUNTIF($L$7:$L$500,N14)","v":0},{"$f":"O14/$Q$4","v":0},{"$f":"IF(P14=0,0,(P14*((LOG(P14))/LOG(2))))","v":0},null,null,{"$f":"N14","v":1222},{"$f":"COUNTIF(L7:L9,T14)","v":0},{"$f":"U14/(W4-U20)","v":0},{"$f":"IF(V14=0,0,(V14*((LOG(V14))/LOG(2))))","v":0},null,{"$f":"N14","v":1222},{"$f":"COUNTIF(L10:L12,Y14)","v":0},{"$f":"Z14/(AB4-Z20)","v":0},{"$f":"IF(AA14=0,0,(AA14*((LOG(AA14))/LOG(2))))","v":0},null,{"$f":"N14","v":1222},{"$f":"COUNTIF(L13:L15,AD14)","v":0},{"$f":"AE14/(AG4-AE20)","v":0},{"$f":"IF(AF14=0,0,(AF14*((LOG(AF14))/LOG(2))))","v":0},null,{"$f":"N14","v":1222},{"$f":"COUNTIF(L16:L18,AI14)","v":0},{"$f":"AJ14/(AL4-AJ20)","v":0},{"$f":"IF(AK14=0,0,(AK14*((LOG(AK14))/LOG(2))))","v":0},null,{"$f":"N14","v":1222},{"$f":"COUNTIF(L19:L21,AN14)","v":0},{"$f":"AO14/(AQ4-AO20)","v":0},{"$f":"IF(AP14=0,0,(AP14*((LOG(AP14))/LOG(2))))","v":0},null,{"$f":"N14","v":1222},{"$f":"COUNTIF(L22:L24,AS14)","v":0},{"$f":"AT14/(AV4-AT20)","v":0},{"$f":"IF(AU14=0,0,(AU14*((LOG(AU14))/LOG(2))))","v":0}]
[12,1838,14,1843,13,1849,14,1856,null,null,0,1111,null,2111,{"$f":"COUNTIF($L$7:$L$500,N15)","v":0},{"$f":"O15/$Q$4","v":0},{"$f":"IF(P15=0,0,(P15*((LOG(P15))/LOG(2))))","v":0},null,null,{"$f":"N15","v":2111},{"$f":"COUNTIF(L7:L9,T15)","v":0},{"$f":"U15/(W4-U20)","v":0},{"$f":"IF(V15=0,0,(V15*((LOG(V15))/LOG(2))))","v":0},null,{"$f":"N15","v":2111},{"$f":"COUNTIF(L10:L12,Y15)","v":0},{"$f":"Z15/(AB4-Z20)","v":0},{"$f":"IF(AA15=0,0,(AA15*((LOG(AA15))/LOG(2))))","v":0},null,{"$f":"N15","v":2111},{"$f":"COUNTIF(L13:L15,AD15)","v":0},{"$f":"AE15/(AG4-AE20)","v":0},{"$f":"IF(AF15=0,0,(AF15*((LOG(AF15))/LOG(2))))","v":0},null,{"$f":"N15","v":2111},{"$f":"COUNTIF(L16:L18,AI15)","v":0},{"$f":"AJ15/(AL4-AJ20)","v":0},{"$f":"IF(AK15=0,0,(AK15*((LOG(AK15))/LOG(2))))","v":0},null,{"$f":"N15","v":2111},{"$f":"COUNTIF(L19:L21,AN15)","v":0},{"$f":"AO15/(AQ4-AO20)","v":0},{"$f":"IF(AP15=0,0,(AP15*((LOG(AP15))/LOG(2))))","v":0},null,{"$f":"N15","v":2111},{"$f":"COUNTIF(L22:L24,AS15)","v":0},{"$f":"AT15/(AV4-AT20)","v":0},{"$f":"IF(AU15=0,0,(AU15*((LOG(AU15))/LOG(2))))","v":0}]
[12,1966,14,1973,13,1982,14,1992,null,null,0,1111,null,2112,{"$f":"COUNTIF($L$7:$L$500,N16)","v":0},{"$f":"O16/$Q$4","v":0},{"$f":"IF(P16=0,0,(P16*((LOG(P16))/LOG(2))))","v":0},null,null,{"$f":"N16","v":2112},{"$f":"COUNTIF(L7:L9,T16)","v":0},{"$f":"U16/(W4-U20)","v":0},{"$f":"IF(V16=0,0,(V16*((LOG(V16))/LOG(2))))","v":0},null,{"$f":"N16","v":2112},{"$f":"COUNTIF(L10:L12,Y16)","v":0},{"$f":"Z16/(AB4-Z20)","v":0},{"$f":"IF(AA16=0,0,(AA16*((LOG(AA16))/LOG(2))))","v":0},null,{"$f":"N16","v":2112},{"$f":"COUNTIF(L13:L15,AD16)","v":0},{"$f":"AE16/(AG4-AE20)","v":0},{"$f":"IF(AF16=0,0,(AF16*((LOG(AF16))/LOG(2))))","v":0},null,{"$f":"N16","v":2112},{"$f":"COUNTIF(L16:L18,AI16)","v":0},{"$f":"AJ16/(AL4-AJ20)","v":0},{"$f":"IF(AK16=0,0,(AK16*((LOG(AK16))/LOG(2))))","v":0},null,{"$f":"N16","v":2112},{"$f":"COUNTIF(L19:L21,AN16)","v":0},{"$f":"AO16/(AQ4-AO20)","v":0},{"$f":"IF(AP16=0,0,(AP16*((LOG(AP16))/LOG(2))))","v":0},null,{"$f":"N16","v":2112},{"$f":"COUNTIF(L22:L24,AS16)","v":0},{"$f":"AT16/(AV4-AT20)","v":0},{"$f":"IF(AU16=0,0,(AU16*((LOG(AU16))/LOG(2))))","v":0}]
[12,2106,14,2116,13,2126,14,2135,null,null,0,1111,null,2121,{"$f":"COUNTIF($L$7:$L$500,N17)","v":0},{"$f":"O17/$Q$4","v":0},{"$f":"IF(P17=0,0,(P17*((LOG(P17))/LOG(2))))","v":0},null,null,{"$f":"N17","v":2121},{"$f":"COUNTIF(L7:L9,T17)","v":0},{"$f":"U17/(W4-U20)","v":0},{"$f":"IF(V17=0,0,(V17*((LOG(V17))/LOG(2))))","v":0},null,{"$f":"N17","v":2121},{"$f":"COUNTIF(L10:L12,Y17)","v":0},{"$f":"Z17/(AB4-Z20)","v":0},{"$f":"IF(AA17=0,0,(AA17*((LOG(AA17))/LOG(2))))","v":0},null,{"$f":"N17","v":2121},{"$f":"COUNTIF(L13:L15,AD17)","v":0},{"$f":"AE17/(AG4-AE20)","v":0},{"$f":"IF(AF17=0,0,(AF17*((LOG(AF17))/LOG(2))))","v":0},null,{"$f":"N17","v":2121},{"$f":"COUNTIF(L16:L18,AI17)","v":0},{"$f":"AJ17/(AL4-AJ20)","v":0},{"$f":"IF(AK17=0,0,(AK17*((LOG(AK17))/LOG(2))))","v":0},null,{"$f":"N17","v":2121},{"$f":"COUNTIF(L19:L21,AN17)","v":0},{"$f":"AO17/(AQ4-AO20)","v":0},{"$f":"IF(AP17=0,0,(AP17*((LOG(AP17))/LOG(2))))","v":0},null,{"$f":"N17","v":2121},{"$f":"COUNTIF(L22:L24,AS17)","v":0},{"$f":"AT17/(AV4-AT20)","v":0},{"$f":"IF(AU17=0,0,(AU17*((LOG(AU17))/LOG(2))))","v":0}]
[12,2234,14,2239,13,2246,14,2266,null,null,0,1111,null,2122,{"$f":"COUNTIF($L$7:$L$500,N18)","v":0},{"$f":"O18/$Q$4","v":0},{"$f":"IF(P18=0,0,(P18*((LOG(P18))/LOG(2))))","v":0},null,null,{"$f":"N18","v":2122},{"$f":"COUNTIF(L7:L9,T18)","v":0},{"$f":"U18/(W4-U20)","v":0},{"$f":"IF(V18=0,0,(V18*((LOG(V18))/LOG(2))))","v":0},null,{"$f":"N18","v":2122},{"$f":"COUNTIF(L10:L12,Y18)","v":0},{"$f":"Z18/(AB4-Z20)","v":0},{"$f":"IF(AA18=0,0,(AA18*((LOG(AA18))/LOG(2))))","v":0},null,{"$f":"N18","v":2122},{"$f":"COUNTIF(L13:L15,AD18)","v":0},{"$f":"AE18/(AG4-AE20)","v":0},{"$f":"IF(AF18=0,0,(AF18*((LOG(AF18))/LOG(2))))","v":0},null,{"$f":"N18","v":2122},{"$f":"COUNTIF(L16:L18,AI18)","v":0},{"$f":"AJ18/(AL4-AJ20)","v":0},{"$f":"IF(AK18=0,0,(AK18*((LOG(AK18))/LOG(2))))","v":0},null,{"$f":"N18","v":2122},{"$f":"COUNTIF(L19:L21,AN18)","v":0},{"$f":"AO18/(AQ4-AO20)","v":0},{"$f":"IF(AP18=0,0,(AP18*((LOG(AP18))/LOG(2))))","v":0},null,{"$f":"N18","v":2122},{"$f":"COUNTIF(L22:L24,AS18)","v":0},{"$f":"AT18/(AV4-AT20)","v":0},{"$f":"IF(AU18=0,0,(AU18*((LOG(AU18))/LOG(2))))","v":0}]
[12,2371,14,2378,13,2386,14,2395,null,null,0,1111,null,2211,{"$f":"COUNTIF($L$7:$L$500,N19)","v":0},{"$f":"O19/$Q$4","v":0},{"$f":"IF(P19=0,0,(P19*((LOG(P19))/LOG(2))))","v":0},null,null,{"$f":"N19","v":2211},{"$f":"COUNTIF(L7:L9,T19)","v":0},{"$f":"U19/(W4-U20)","v":0},{"$f":"IF(V19=0,0,(V19*((LOG(V19))/LOG(2))))","v":0},null,{"$f":"N19","v":2211},{"$f":"COUNTIF(L10:L12,Y19)","v":0},{"$f":"Z19/(AB4-Z20)","v":0},{"$f":"IF(AA19=0,0,(AA19*((LOG(AA19))/LOG(2))))","v":0},null,{"$f":"N19","v":2211},{"$f":"COUNTIF(L13:L15,AD19)","v":0},{"$f":"AE19/(AG4-AE20)","v":0},{"$f":"IF(AF19=0,0,(AF19*((LOG(AF19))/LOG(2))))","v":0},null,{"$f":"N19","v":2211},{"$f":"COUNTIF(L16:L18,AI19)","v":0},{"$f":"AJ19/(AL4-AJ20)","v":0},{"$f":"IF(AK19=0,0,(AK19*((LOG(AK19))/LOG(2))))","v":0},null,{"$f":"N19","v":2211},{"$f":"COUNTIF(L19:L21,AN19)","v":0},{"$f":"AO19/(AQ4-AO20)","v":0},{"$f":"IF(AP19=0,0,(AP19*((LOG(AP19))/LOG(2))))","v":0},null,{"$f":"N19","v":2211},{"$f":"COUNTIF(L22:L24,AS19)","v":0},{"$f":"AT19/(AV4-AT20)","v":0},{"$f":"IF(AU19=0,0,(AU19*((LOG(AU19))/LOG(2))))","v":0}]
[12,2517,14,2528,13,2537,14,2547,null,null,0,1111,null,2212,{"$f":"COUNTIF($L$7:$L$500,N20)","v":0},{"$f":"O20/$Q$4","v":0},{"$f":"IF(P20=0,0,(P20*((LOG(P20))/LOG(2))))","v":0},null,null,{"$f":"N20","v":2212},{"$f":"COUNTIF(L7:L9,T20)","v":0},null,null,null,{"$f":"N20","v":2212},{"$f":"COUNTIF(L10:L12,Y20)","v":0},null,null,null,{"$f":"N20","v":2212},{"$f":"COUNTIF(L13:L15,AD20)","v":0},null,null,null,{"$f":"N20","v":2212},{"$f":"COUNTIF(L16:L18,AI20)","v":0},null,null,null,{"$f":"N20","v":2212},{"$f":"COUNTIF(L19:L21,AN20)","v":0},null,null,null,{"$f":"N20","v":2212},{"$f":"COUNTIF(L22:L24,AS20)","v":0}]
[12,2684,14,2690,13,2699,14,2709,null,null,0,1111,null,2221,{"$f":"COUNTIF($L$7:$L$500,N21)","v":0},{"$f":"O21/$Q$4","v":0},{"$f":"IF(P21=0,0,(P21*((LOG(P21))/LOG(2))))","v":0},null,null,{"$f":"N21","v":2221},{"$f":"COUNTIF(L7:L9,T21)","v":0},{"$f":"U21/(W4-U20)","v":0},{"$f":"IF(V21=0,0,(V21*((LOG(V21))/LOG(2))))","v":0},null,{"$f":"N21","v":2221},{"$f":"COUNTIF(L10:L12,Y21)","v":0},{"$f":"Z21/(AB4-Z20)","v":0},{"$f":"IF(AA21=0,0,(AA21*((LOG(AA21))/LOG(2))))","v":0},null,{"$f":"N21","v":2221},{"$f":"COUNTIF(L13:L15,AD21)","v":0},{"$f":"AE21/(AG4-AE20)","v":0},{"$f":"IF(AF21=0,0,(AF21*((LOG(AF21))/LOG(2))))","v":0},null,{"$f":"N21","v":2221},{"$f":"COUNTIF(L16:L18,AI21)","v":0},{"$f":"AJ21/(AL4-AJ20)","v":0},{"$f":"IF(AK21=0,0,(AK21*((LOG(AK21))/LOG(2))))","v":0},null,{"$f":"N21","v":2221},{"$f":"COUNTIF(L19:L21,AN21)","v":0},{"$f":"AO21/(AQ4-AO20)","v":0},{"$f":"IF(AP21=0,0,(AP21*((LOG(AP21))/LOG(2))))","v":0},null,{"$f":"N21","v":2221},{"$f":"COUNTIF(L22:L24,AS21)","v":0},{"$f":"AT21/(AV4-AT20)","v":0},{"$f":"IF(AU21=0,0,(AU21*((LOG(AU21))/LOG(2))))","v":0}]
[12,2830,14,2838,13,2848,14,2857,null,null,0,1111,null,2222,{"$f":"COUNTIF($L$7:$L$500,N22)","v":0},{"$f":"O22/$Q$4","v":0},{"$f":"IF(P22=0,0,(P22*((LOG(P22))/LOG(2))))","v":0},null,null,{"$f":"N22","v":2222},{"$f":"COUNTIF(L7:L9,T22)","v":0},{"$f":"U22/(W4-U20)","v":0},{"$f":"IF(V22=0,0,(V22*((LOG(V22))/LOG(2))))","v":0},null,{"$f":"N22","v":2222},{"$f":"COUNTIF(L10:L12,Y22)","v":0},{"$f":"Z22/(AB4-Z20)","v":0},{"$f":"IF(AA22=0,0,(AA22*((LOG(AA22))/LOG(2))))","v":0},null,{"$f":"N22","v":2222},{"$f":"COUNTIF(L13:L15,AD22)","v":0},{"$f":"AE22/(AG4-AE20)","v":0},{"$f":"IF(AF22=0,0,(AF22*((LOG(AF22))/LOG(2))))","v":0},null,{"$f":"N22","v":2222},{"$f":"COUNTIF(L16:L18,AI22)","v":0},{"$f":"AJ22/(AL4-AJ20)","v":0},{"$f":"IF(AK22=0,0,(AK22*((LOG(AK22))/LOG(2))))","v":0},null,{"$f":"N22","v":2222},{"$f":"COUNTIF(L19:L21,AN22)","v":0},{"$f":"AO22/(AQ4-AO20)","v":0},{"$f":"IF(AP22=0,0,(AP22*((LOG(AP22))/LOG(2))))","v":0},null,{"$f":"N22","v":2222},{"$f":"COUNTIF(L22:L24,AS22)","v":0},{"$f":"AT22/(AV4-AT20)","v":0},{"$f":"IF(AU22=0,0,(AU22*((LOG(AU22))/LOG(2))))","v":0}]
[12,2961,14,2968,13,2973,14,2982,null,null,0,1111,null,null,null,{"$f":"SUM(P7:P22)","v":1},{"$f":"-SUM(Q7:Q22)","v":0.30954342915032518},null,null,null,null,{"$f":"SUM(V7:V22)","v":1},{"$f":"-SUM(W7:W22)","v":0},null,null,null,{"$f":"SUM(AA7:AA22)","v":1},{"$f":"-SUM(AB7:AB22)","v":0.91829583405448945},null,null,null,{"$f":"SUM(AF7:AF22)","v":1},{"$f":"-SUM(AG7:AG22)","v":0},null,null,null,{"$f":"SUM(AK7:AK22)","v":1},{"$f":"-SUM(AL7:AL22)","v":0},null,null,null,{"$f":"SUM(AP7:AP22)","v":1},{"$f":"-SUM(AQ7:AQ22)","v":0},null,null,null,{"$f":"SUM(AU7:AU22)","v":1},{"$f":"-SUM(AV7:AV22)","v":0}]
[12,3174,14,3180,13,3185,14,3191,null,null,0,1111,null,null,null,"U=",{"$f":"Q23/(LOG(Q4)/LOG(2))","v":7.4232373254497122E-2},null,null,null,null,"U1=",{"$f":"W23/(LOG(W4)/LOG(2))","v":0},null,null,null,"U2=",{"$f":"AB23/(LOG(AB4)/LOG(2))","v":0.57938016428569505},null,null,null,"U3=",{"$f":"AG23/(LOG(AG4)/LOG(2))","v":0},null,null,null,"U4=",{"$f":"AL23/(LOG(AL4)/LOG(2))","v":0},null,null,null,"U5=",{"$f":"AQ23/(LOG(AQ4)/LOG(2))","v":0},null,null,null,"U6=",{"$f":"AV23/(LOG(AV4)/LOG(2))","v":0}]
[]
[]
[null,null,null,null,null,null,null,null,null,null,null,null,null,"Total Target Seq"]
[null,null,null,null,null,null,null,null,null,null,null,null,null,{"$f":"COUNTIF(L7:L24,G3)","v":0},null,3,3,3,3,3,3]
[null,null,null,null,null,null,null,null,null,null,null,null,null,null,null,"% of reinforcement given in 6 equal intervals based on number of trials "]
[null,null,null,null,null,null,null,null,null,null,null,null,null,null,null,"%_1","%_2","%_3","%_4","%_5","%_6"]
[null,null,null,null,null,null,null,null,null,null,null,null,null,null,"target sequence",{"$f":"$G$3","v":2212},{"$f":"$G$3","v":2212},{"$f":"$G$3","v":2212},{"$f":"$G$3","v":2212},{"$f":"$G$3","v":2212},{"$f":"$G$3","v":2212}]
[null,null,null,null,null,null,null,null,null,null,null,null,null,null,"total reinforcement",{"$f":"U20","v":0},{"$f":"Z20","v":0},{"$f":"AE20","v":0},{"$f":"AJ20","v":0},{"$f":"AO20","v":0},{"$f":"AT20","v":0}]
[null,null,null,null,null,null,null,null,null,null,null,null,null,null,"% target"]
[null,null,null,null,null,null,null,null,null,null,null,null,null,null,"CCRF"]
[null,null,null,null,null,null,null,null,null,null,null,null,null,null,"% CCRf"]
[null,null,null,null,null,null,null,null,null,null,null,null,null,null,"average response rate",{"$f":"H9/P28","v":368},{"$f":"(H12-H9)/Q28","v":132},{"$f":"(H15-H12)/R28","v":118.66666666666667},{"$f":"(H18-H15)/S28","v":136.66666666666666},{"$f":"(H21-H18)/T28","v":147.66666666666666},{"$f":"(H24-H21)/U28","v":160.66666666666666}]

{"sheet":"!M926B20.102","index":31,"n_rows":36,"n_cols":48,"rows_kept":36,"cut":false,"hidden":false,"merged":[[4,39,4,42],[5,39,5,40],[4,44,4,47],[5,44,5,45],[4,24,4,27],[5,24,5,25],[4,29,4,32],[5,29,5,30],[4,34,4,37],[5,34,5,35],[1,1,1,2],[5,13,5,14],[26,13,26,14],[27,13,27,14],[4,19,4,22],[5,19,5,20]]}
["Report for:!M926B20.102"]
["Date:","<date>"]
["Hen:","<hen>",null,null,null,"Correct Sequence",{"$f":"Start!J2","v":2212},null,null,null,null,null,null,null,null,"Total Sequences in Data",{"$f":"4994-COUNTBLANK(L7:L5000)","v":0},null,null,null,null,"Total Sequences in Block Data",{"$f":"COUNTA(L6:L7)","v":1},null,null,null,"Total Sequences in Block Data",{"$f":"COUNTA(L6:L7)","v":1},null,null,null,"Total Sequences in Block Data",{"$f":"COUNTA(L6:L7)","v":1},null,null,null,"Total Sequences in Block Data",{"$f":"COUNTA(L6:L7)","v":1},null,null,null,"Total Sequences in Block Data",{"$f":"COUNTA(L6:L7)","v":1},null,null,null,"Total Sequences in Block Data",{"$f":"COUNTA(L6:L7)","v":1}]
[null,null,null,null,null,null,null,null,null,null,null,null,null,null,null,"Total Sequences in Summary",{"$f":"SUM(O7:O22)","v":0},null,null,null,null,"Total Sequences in Block Summary",{"$f":"SUM(U7:U22)","v":0},null,null,null,"Total Sequences in Block Summary",{"$f":"SUM(Z7:Z22)","v":0},null,null,null,"Total Sequences in Block Summary",{"$f":"SUM(AE7:AE22)","v":0},null,null,null,"Total Sequences in Block Summary",{"$f":"SUM(AJ7:AJ22)","v":0},null,null,null,"Total Sequences in Block Summary",{"$f":"SUM(AO7:AO22)","v":0},null,null,null,"Total Sequences in Block Summary",{"$f":"SUM(AT7:AT22)","v":0}]
[null,null,null,null,null,null,null,null,null,null,null,null,null,null,null,null,null,null,null,"Block 1",null,null,null,null,"Block 2",null,null,null,null,"Block 3",null,null,null,null,"Block 4",null,null,null,null,"Block 5",null,null,null,null,"Block 6"]
["Sequence\nComponent\n1","Time\n1","Sequence\nComponent\n2","Time\n2","Sequence\nComponent\n3","Time\n3","Sequence\nComponent\n4","Time\n4","Sequence\nComponent\n5","Time\n5","Correct?\n0=No 1=Yes","Sequence",null,"Frequency",null,"Relative Frequency","Variability",null,null,"Frequency",null,"Relative Frequency","Variability",null,"Frequency",null,"Relative Frequency","Variability",null,"Frequency",null,"Relative Frequency","Variability",null,"Frequency",null,"Relative Frequency","Variability",null,"Frequency",null,"Relative Frequency","Variability",null,"Frequency",null,"Relative Frequency","Variability"]
[null,null,null,null,null,null,null,null,null,null,null,null,null,1111,{"$f":"COUNTIF($L$7:$L$500,N7)","v":0},{"$f":"O7/$Q$4","v":{"$error":"#DIV/0!"}},{"$f":"IF(P7=0,0,(P7*((LOG(P7))/LOG(2))))","v":{"$error":"#DIV/0!"}},null,null,{"$f":"N7","v":1111},{"$f":"COUNTIF(L6:L7,T7)","v":0},{"$f":"U7/(W4-U20)","v":{"$error":"#DIV/0!"}},{"$f":"IF(V7=0,0,(V7*((LOG(V7))/LOG(2))))","v":{"$error":"#DIV/0!"}},null,{"$f":"N7","v":1111},{"$f":"COUNTIF(L6:L7,Y7)","v":0},{"$f":"Z7/(AB4-Z20)","v":{"$error":"#DIV/0!"}},{"$f":"IF(AA7=0,0,(AA7*((LOG(AA7))/LOG(2))))","v":{"$error":"#DIV/0!"}},null,{"$f":"N7","v":1111},{"$f":"COUNTIF(L6:L7,AD7)","v":0},{"$f":"AE7/(AG4-AE20)","v":{"$error":"#DIV/0!"}},{"$f":"IF(AF7=0,0,(AF7*((LOG(AF7))/LOG(2))))","v":{"$error":"#DIV/0!"}},null,{"$f":"N7","v":1111},{"$f":"COUNTIF(L6:L7,AI7)","v":0},{"$f":"AJ7/(AL4-AJ20)","v":{"$error":"#DIV/0!"}},{"$f":"IF(AK7=0,0,(AK7*((LOG(AK7))/LOG(2))))","v":{"$error":"#DIV/0!"}},null,{"$f":"N7","v":1111},{"$f":"COUNTIF(L6:L7,AN7)","v":0},{"$f":"AO7/(AQ4-AO20)","v":{"$error":"#DIV/0!"}},{"$f":"IF(AP7=0,0,(AP7*((LOG(AP7))/LOG(2))))","v":{"$error":"#DIV/0!"}},null,{"$f":"N7","v":1111},{"$f":"COUNTIF(L6:L7,AS7)","v":0},{"$f":"AT7/(AV4-AT20)","v":{"$error":"#DIV/0!"}},{"$f":"IF(AU7=0,0,(AU7*((LOG(AU7))/LOG(2))))","v":{"$error":"#DIV/0!"}}]
[null,null,null,null,null,null,null,null,null,null,null,null,null,1112,{"$f":"COUNTIF($L$7:$L$500,N8)","v":0},{"$f":"O8/$Q$4","v":{"$error":"#DIV/0!"}},{"$f":"IF(P8=0,0,(P8*((LOG(P8))/LOG(2))))","v":{"$error":"#DIV/0!"}},null,null,{"$f":"N8","v":1112},{"$f":"COUNTIF(L6:L7,T8)","v":0},{"$f":"U8/(W4-U20)","v":{"$error":"#DIV/0!"}},{"$f":"IF(V8=0,0,(V8*((LOG(V8))/LOG(2))))","v":{"$error":"#DIV/0!"}},null,{"$f":"N8","v":1112},{"$f":"COUNTIF(L6:L7,Y8)","v":0},{"$f":"Z8/(AB4-Z20)","v":{"$error":"#DIV/0!"}},{"$f":"IF(AA8=0,0,(AA8*((LOG(AA8))/LOG(2))))","v":{"$error":"#DIV/0!"}},null,{"$f":"N8","v":1112},{"$f":"COUNTIF(L6:L7,AD8)","v":0},{"$f":"AE8/(AG4-AE20)","v":{"$error":"#DIV/0!"}},{"$f":"IF(AF8=0,0,(AF8*((LOG(AF8))/LOG(2))))","v":{"$error":"#DIV/0!"}},null,{"$f":"N8","v":1112},{"$f":"COUNTIF(L6:L7,AI8)","v":0},{"$f":"AJ8/(AL4-AJ20)","v":{"$error":"#DIV/0!"}},{"$f":"IF(AK8=0,0,(AK8*((LOG(AK8))/LOG(2))))","v":{"$error":"#DIV/0!"}},null,{"$f":"N8","v":1112},{"$f":"COUNTIF(L6:L7,AN8)","v":0},{"$f":"AO8/(AQ4-AO20)","v":{"$error":"#DIV/0!"}},{"$f":"IF(AP8=0,0,(AP8*((LOG(AP8))/LOG(2))))","v":{"$error":"#DIV/0!"}},null,{"$f":"N8","v":1112},{"$f":"COUNTIF(L6:L7,AS8)","v":0},{"$f":"AT8/(AV4-AT20)","v":{"$error":"#DIV/0!"}},{"$f":"IF(AU8=0,0,(AU8*((LOG(AU8))/LOG(2))))","v":{"$error":"#DIV/0!"}}]
[null,null,null,null,null,null,null,null,null,null,null,null,null,1121,{"$f":"COUNTIF($L$7:$L$500,N9)","v":0},{"$f":"O9/$Q$4","v":{"$error":"#DIV/0!"}},{"$f":"IF(P9=0,0,(P9*((LOG(P9))/LOG(2))))","v":{"$error":"#DIV/0!"}},null,null,{"$f":"N9","v":1121},{"$f":"COUNTIF(L6:L7,T9)","v":0},{"$f":"U9/(W4-U20)","v":{"$error":"#DIV/0!"}},{"$f":"IF(V9=0,0,(V9*((LOG(V9))/LOG(2))))","v":{"$error":"#DIV/0!"}},null,{"$f":"N9","v":1121},{"$f":"COUNTIF(L6:L7,Y9)","v":0},{"$f":"Z9/(AB4-Z20)","v":{"$error":"#DIV/0!"}},{"$f":"IF(AA9=0,0,(AA9*((LOG(AA9))/LOG(2))))","v":{"$error":"#DIV/0!"}},null,{"$f":"N9","v":1121},{"$f":"COUNTIF(L6:L7,AD9)","v":0},{"$f":"AE9/(AG4-AE20)","v":{"$error":"#DIV/0!"}},{"$f":"IF(AF9=0,0,(AF9*((LOG(AF9))/LOG(2))))","v":{"$error":"#DIV/0!"}},null,{"$f":"N9","v":1121},{"$f":"COUNTIF(L6:L7,AI9)","v":0},{"$f":"AJ9/(AL4-AJ20)","v":{"$error":"#DIV/0!"}},{"$f":"IF(AK9=0,0,(AK9*((LOG(AK9))/LOG(2))))","v":{"$error":"#DIV/0!"}},null,{"$f":"N9","v":1121},{"$f":"COUNTIF(L6:L7,AN9)","v":0},{"$f":"AO9/(AQ4-AO20)","v":{"$error":"#DIV/0!"}},{"$f":"IF(AP9=0,0,(AP9*((LOG(AP9))/LOG(2))))","v":{"$error":"#DIV/0!"}},null,{"$f":"N9","v":1121},{"$f":"COUNTIF(L6:L7,AS9)","v":0},{"$f":"AT9/(AV4-AT20)","v":{"$error":"#DIV/0!"}},{"$f":"IF(AU9=0,0,(AU9*((LOG(AU9))/LOG(2))))","v":{"$error":"#DIV/0!"}}]
[null,null,null,null,null,null,null,null,null,null,null,null,null,1122,{"$f":"COUNTIF($L$7:$L$500,N10)","v":0},{"$f":"O10/$Q$4","v":{"$error":"#DIV/0!"}},{"$f":"IF(P10=0,0,(P10*((LOG(P10))/LOG(2))))","v":{"$error":"#DIV/0!"}},null,null,{"$f":"N10","v":1122},{"$f":"COUNTIF(L6:L7,T10)","v":0},{"$f":"U10/(W4-U20)","v":{"$error":"#DIV/0!"}},{"$f":"IF(V10=0,0,(V10*((LOG(V10))/LOG(2))))","v":{"$error":"#DIV/0!"}},null,{"$f":"N10","v":1122},{"$f":"COUNTIF(L6:L7,Y10)","v":0},{"$f":"Z10/(AB4-Z20)","v":{"$error":"#DIV/0!"}},{"$f":"IF(AA10=0,0,(AA10*((LOG(AA10))/LOG(2))))","v":{"$error":"#DIV/0!"}},null,{"$f":"N10","v":1122},{"$f":"COUNTIF(L6:L7,AD10)","v":0},{"$f":"AE10/(AG4-AE20)","v":{"$error":"#DIV/0!"}},{"$f":"IF(AF10=0,0,(AF10*((LOG(AF10))/LOG(2))))","v":{"$error":"#DIV/0!"}},null,{"$f":"N10","v":1122},{"$f":"COUNTIF(L6:L7,AI10)","v":0},{"$f":"AJ10/(AL4-AJ20)","v":{"$error":"#DIV/0!"}},{"$f":"IF(AK10=0,0,(AK10*((LOG(AK10))/LOG(2))))","v":{"$error":"#DIV/0!"}},null,{"$f":"N10","v":1122},{"$f":"COUNTIF(L6:L7,AN10)","v":0},{"$f":"AO10/(AQ4-AO20)","v":{"$error":"#DIV/0!"}},{"$f":"IF(AP10=0,0,(AP10*((LOG(AP10))/LOG(2))))","v":{"$error":"#DIV/0!"}},null,{"$f":"N10","v":1122},{"$f":"COUNTIF(L6:L7,AS10)","v":0},{"$f":"AT10/(AV4-AT20)","v":{"$error":"#DIV/0!"}},{"$f":"IF(AU10=0,0,(AU10*((LOG(AU10))/LOG(2))))","v":{"$error":"#DIV/0!"}}]
[null,null,null,null,null,null,null,null,null,null,null,null,null,1211,{"$f":"COUNTIF($L$7:$L$500,N11)","v":0},{"$f":"O11/$Q$4","v":{"$error":"#DIV/0!"}},{"$f":"IF(P11=0,0,(P11*((LOG(P11))/LOG(2))))","v":{"$error":"#DIV/0!"}},null,null,{"$f":"N11","v":1211},{"$f":"COUNTIF(L6:L7,T11)","v":0},{"$f":"U11/(W4-U20)","v":{"$error":"#DIV/0!"}},{"$f":"IF(V11=0,0,(V11*((LOG(V11))/LOG(2))))","v":{"$error":"#DIV/0!"}},null,{"$f":"N11","v":1211},{"$f":"COUNTIF(L6:L7,Y11)","v":0},{"$f":"Z11/(AB4-Z20)","v":{"$error":"#DIV/0!"}},{"$f":"IF(AA11=0,0,(AA11*((LOG(AA11))/LOG(2))))","v":{"$error":"#DIV/0!"}},null,{"$f":"N11","v":1211},{"$f":"COUNTIF(L6:L7,AD11)","v":0},{"$f":"AE11/(AG4-AE20)","v":{"$error":"#DIV/0!"}},{"$f":"IF(AF11=0,0,(AF11*((LOG(AF11))/LOG(2))))","v":{"$error":"#DIV/0!"}},null,{"$f":"N11","v":1211},{"$f":"COUNTIF(L6:L7,AI11)","v":0},{"$f":"AJ11/(AL4-AJ20)","v":{"$error":"#DIV/0!"}},{"$f":"IF(AK11=0,0,(AK11*((LOG(AK11))/LOG(2))))","v":{"$error":"#DIV/0!"}},null,{"$f":"N11","v":1211},{"$f":"COUNTIF(L6:L7,AN11)","v":0},{"$f":"AO11/(AQ4-AO20)","v":{"$error":"#DIV/0!"}},{"$f":"IF(AP11=0,0,(AP11*((LOG(AP11))/LOG(2))))","v":{"$error":"#DIV/0!"}},null,{"$f":"N11","v":1211},{"$f":"COUNTIF(L6:L7,AS11)","v":0},{"$f":"AT11/(AV4-AT20)","v":{"$error":"#DIV/0!"}},{"$f":"IF(AU11=0,0,(AU11*((LOG(AU11))/LOG(2))))","v":{"$error":"#DIV/0!"}}]
[null,null,null,null,null,null,null,null,null,null,null,null,null,1212,{"$f":"COUNTIF($L$7:$L$500,N12)","v":0},{"$f":"O12/$Q$4","v":{"$error":"#DIV/0!"}},{"$f":"IF(P12=0,0,(P12*((LOG(P12))/LOG(2))))","v":{"$error":"#DIV/0!"}},null,null,{"$f":"N12","v":1212},{"$f":"COUNTIF(L6:L7,T12)","v":0},{"$f":"U12/(W4-U20)","v":{"$error":"#DIV/0!"}},{"$f":"IF(V12=0,0,(V12*((LOG(V12))/LOG(2))))","v":{"$error":"#DIV/0!"}},null,{"$f":"N12","v":1212},{"$f":"COUNTIF(L6:L7,Y12)","v":0},{"$f":"Z12/(AB4-Z20)","v":{"$error":"#DIV/0!"}},{"$f":"IF(AA12=0,0,(AA12*((LOG(AA12))/LOG(2))))","v":{"$error":"#DIV/0!"}},null,{"$f":"N12","v":1212},{"$f":"COUNTIF(L6:L7,AD12)","v":0},{"$f":"AE12/(AG4-AE20)","v":{"$error":"#DIV/0!"}},{"$f":"IF(AF12=0,0,(AF12*((LOG(AF12))/LOG(2))))","v":{"$error":"#DIV/0!"}},null,{"$f":"N12","v":1212},{"$f":"COUNTIF(L6:L7,AI12)","v":0},{"$f":"AJ12/(AL4-AJ20)","v":{"$error":"#DIV/0!"}},{"$f":"IF(AK12=0,0,(AK12*((LOG(AK12))/LOG(2))))","v":{"$error":"#DIV/0!"}},null,{"$f":"N12","v":1212},{"$f":"COUNTIF(L6:L7,AN12)","v":0},{"$f":"AO12/(AQ4-AO20)","v":{"$error":"#DIV/0!"}},{"$f":"IF(AP12=0,0,(AP12*((LOG(AP12))/LOG(2))))","v":{"$error":"#DIV/0!"}},null,{"$f":"N12","v":1212},{"$f":"COUNTIF(L6:L7,AS12)","v":0},{"$f":"AT12/(AV4-AT20)","v":{"$error":"#DIV/0!"}},{"$f":"IF(AU12=0,0,(AU12*((LOG(AU12))/LOG(2))))","v":{"$error":"#DIV/0!"}}]
[null,null,null,null,null,null,null,null,null,null,null,null,null,1221,{"$f":"COUNTIF($L$7:$L$500,N13)","v":0},{"$f":"O13/$Q$4","v":{"$error":"#DIV/0!"}},{"$f":"IF(P13=0,0,(P13*((LOG(P13))/LOG(2))))","v":{"$error":"#DIV/0!"}},null,null,{"$f":"N13","v":1221},{"$f":"COUNTIF(L6:L7,T13)","v":0},{"$f":"U13/(W4-U20)","v":{"$error":"#DIV/0!"}},{"$f":"IF(V13=0,0,(V13*((LOG(V13))/LOG(2))))","v":{"$error":"#DIV/0!"}},null,{"$f":"N13","v":1221},{"$f":"COUNTIF(L6:L7,Y13)","v":0},{"$f":"Z13/(AB4-Z20)","v":{"$error":"#DIV/0!"}},{"$f":"IF(AA13=0,0,(AA13*((LOG(AA13))/LOG(2))))","v":{"$error":"#DIV/0!"}},null,{"$f":"N13","v":1221},{"$f":"COUNTIF(L6:L7,AD13)","v":0},{"$f":"AE13/(AG4-AE20)","v":{"$error":"#DIV/0!"}},{"$f":"IF(AF13=0,0,(AF13*((LOG(AF13))/LOG(2))))","v":{"$error":"#DIV/0!"}},null,{"$f":"N13","v":1221},{"$f":"COUNTIF(L6:L7,AI13)","v":0},{"$f":"AJ13/(AL4-AJ20)","v":{"$error":"#DIV/0!"}},{"$f":"IF(AK13=0,0,(AK13*((LOG(AK13))/LOG(2))))","v":{"$error":"#DIV/0!"}},null,{"$f":"N13","v":1221},{"$f":"COUNTIF(L6:L7,AN13)","v":0},{"$f":"AO13/(AQ4-AO20)","v":{"$error":"#DIV/0!"}},{"$f":"IF(AP13=0,0,(AP13*((LOG(AP13))/LOG(2))))","v":{"$error":"#DIV/0!"}},null,{"$f":"N13","v":1221},{"$f":"COUNTIF(L6:L7,AS13)","v":0},{"$f":"AT13/(AV4-AT20)","v":{"$error":"#DIV/0!"}},{"$f":"IF(AU13=0,0,(AU13*((LOG(AU13))/LOG(2))))","v":{"$error":"#DIV/0!"}}]
[null,null,null,null,null,null,null,null,null,null,null,null,null,1222,{"$f":"COUNTIF($L$7:$L$500,N14)","v":0},{"$f":"O14/$Q$4","v":{"$error":"#DIV/0!"}},{"$f":"IF(P14=0,0,(P14*((LOG(P14))/LOG(2))))","v":{"$error":"#DIV/0!"}},null,null,{"$f":"N14","v":1222},{"$f":"COUNTIF(L6:L7,T14)","v":0},{"$f":"U14/(W4-U20)","v":{"$error":"#DIV/0!"}},{"$f":"IF(V14=0,0,(V14*((LOG(V14))/LOG(2))))","v":{"$error":"#DIV/0!"}},null,{"$f":"N14","v":1222},{"$f":"COUNTIF(L6:L7,Y14)","v":0},{"$f":"Z14/(AB4-Z20)","v":{"$error":"#DIV/0!"}},{"$f":"IF(AA14=0,0,(AA14*((LOG(AA14))/LOG(2))))","v":{"$error":"#DIV/0!"}},null,{"$f":"N14","v":1222},{"$f":"COUNTIF(L6:L7,AD14)","v":0},{"$f":"AE14/(AG4-AE20)","v":{"$error":"#DIV/0!"}},{"$f":"IF(AF14=0,0,(AF14*((LOG(AF14))/LOG(2))))","v":{"$error":"#DIV/0!"}},null,{"$f":"N14","v":1222},{"$f":"COUNTIF(L6:L7,AI14)","v":0},{"$f":"AJ14/(AL4-AJ20)","v":{"$error":"#DIV/0!"}},{"$f":"IF(AK14=0,0,(AK14*((LOG(AK14))/LOG(2))))","v":{"$error":"#DIV/0!"}},null,{"$f":"N14","v":1222},{"$f":"COUNTIF(L6:L7,AN14)","v":0},{"$f":"AO14/(AQ4-AO20)","v":{"$error":"#DIV/0!"}},{"$f":"IF(AP14=0,0,(AP14*((LOG(AP14))/LOG(2))))","v":{"$error":"#DIV/0!"}},null,{"$f":"N14","v":1222},{"$f":"COUNTIF(L6:L7,AS14)","v":0},{"$f":"AT14/(AV4-AT20)","v":{"$error":"#DIV/0!"}},{"$f":"IF(AU14=0,0,(AU14*((LOG(AU14))/LOG(2))))","v":{"$error":"#DIV/0!"}}]
[null,null,null,null,null,null,null,null,null,null,null,null,null,2111,{"$f":"COUNTIF($L$7:$L$500,N15)","v":0},{"$f":"O15/$Q$4","v":{"$error":"#DIV/0!"}},{"$f":"IF(P15=0,0,(P15*((LOG(P15))/LOG(2))))","v":{"$error":"#DIV/0!"}},null,null,{"$f":"N15","v":2111},{"$f":"COUNTIF(L6:L7,T15)","v":0},{"$f":"U15/(W4-U20)","v":{"$error":"#DIV/0!"}},{"$f":"IF(V15=0,0,(V15*((LOG(V15))/LOG(2))))","v":{"$error":"#DIV/0!"}},null,{"$f":"N15","v":2111},{"$f":"COUNTIF(L6:L7,Y15)","v":0},{"$f":"Z15/(AB4-Z20)","v":{"$error":"#DIV/0!"}},{"$f":"IF(AA15=0,0,(AA15*((LOG(AA15))/LOG(2))))","v":{"$error":"#DIV/0!"}},null,{"$f":"N15","v":2111},{"$f":"COUNTIF(L6:L7,AD15)","v":0},{"$f":"AE15/(AG4-AE20)","v":{"$error":"#DIV/0!"}},{"$f":"IF(AF15=0,0,(AF15*((LOG(AF15))/LOG(2))))","v":{"$error":"#DIV/0!"}},null,{"$f":"N15","v":2111},{"$f":"COUNTIF(L6:L7,AI15)","v":0},{"$f":"AJ15/(AL4-AJ20)","v":{"$error":"#DIV/0!"}},{"$f":"IF(AK15=0,0,(AK15*((LOG(AK15))/LOG(2))))","v":{"$error":"#DIV/0!"}},null,{"$f":"N15","v":2111},{"$f":"COUNTIF(L6:L7,AN15)","v":0},{"$f":"AO15/(AQ4-AO20)","v":{"$error":"#DIV/0!"}},{"$f":"IF(AP15=0,0,(AP15*((LOG(AP15))/LOG(2))))","v":{"$error":"#DIV/0!"}},null,{"$f":"N15","v":2111},{"$f":"COUNTIF(L6:L7,AS15)","v":0},{"$f":"AT15/(AV4-AT20)","v":{"$error":"#DIV/0!"}},{"$f":"IF(AU15=0,0,(AU15*((LOG(AU15))/LOG(2))))","v":{"$error":"#DIV/0!"}}]
[null,null,null,null,null,null,null,null,null,null,null,null,null,2112,{"$f":"COUNTIF($L$7:$L$500,N16)","v":0},{"$f":"O16/$Q$4","v":{"$error":"#DIV/0!"}},{"$f":"IF(P16=0,0,(P16*((LOG(P16))/LOG(2))))","v":{"$error":"#DIV/0!"}},null,null,{"$f":"N16","v":2112},{"$f":"COUNTIF(L6:L7,T16)","v":0},{"$f":"U16/(W4-U20)","v":{"$error":"#DIV/0!"}},{"$f":"IF(V16=0,0,(V16*((LOG(V16))/LOG(2))))","v":{"$error":"#DIV/0!"}},null,{"$f":"N16","v":2112},{"$f":"COUNTIF(L6:L7,Y16)","v":0},{"$f":"Z16/(AB4-Z20)","v":{"$error":"#DIV/0!"}},{"$f":"IF(AA16=0,0,(AA16*((LOG(AA16))/LOG(2))))","v":{"$error":"#DIV/0!"}},null,{"$f":"N16","v":2112},{"$f":"COUNTIF(L6:L7,AD16)","v":0},{"$f":"AE16/(AG4-AE20)","v":{"$error":"#DIV/0!"}},{"$f":"IF(AF16=0,0,(AF16*((LOG(AF16))/LOG(2))))","v":{"$error":"#DIV/0!"}},null,{"$f":"N16","v":2112},{"$f":"COUNTIF(L6:L7,AI16)","v":0},{"$f":"AJ16/(AL4-AJ20)","v":{"$error":"#DIV/0!"}},{"$f":"IF(AK16=0,0,(AK16*((LOG(AK16))/LOG(2))))","v":{"$error":"#DIV/0!"}},null,{"$f":"N16","v":2112},{"$f":"COUNTIF(L6:L7,AN16)","v":0},{"$f":"AO16/(AQ4-AO20)","v":{"$error":"#DIV/0!"}},{"$f":"IF(AP16=0,0,(AP16*((LOG(AP16))/LOG(2))))","v":{"$error":"#DIV/0!"}},null,{"$f":"N16","v":2112},{"$f":"COUNTIF(L6:L7,AS16)","v":0},{"$f":"AT16/(AV4-AT20)","v":{"$error":"#DIV/0!"}},{"$f":"IF(AU16=0,0,(AU16*((LOG(AU16))/LOG(2))))","v":{"$error":"#DIV/0!"}}]
[null,null,null,null,null,null,null,null,null,null,null,null,null,2121,{"$f":"COUNTIF($L$7:$L$500,N17)","v":0},{"$f":"O17/$Q$4","v":{"$error":"#DIV/0!"}},{"$f":"IF(P17=0,0,(P17*((LOG(P17))/LOG(2))))","v":{"$error":"#DIV/0!"}},null,null,{"$f":"N17","v":2121},{"$f":"COUNTIF(L6:L7,T17)","v":0},{"$f":"U17/(W4-U20)","v":{"$error":"#DIV/0!"}},{"$f":"IF(V17=0,0,(V17*((LOG(V17))/LOG(2))))","v":{"$error":"#DIV/0!"}},null,{"$f":"N17","v":2121},{"$f":"COUNTIF(L6:L7,Y17)","v":0},{"$f":"Z17/(AB4-Z20)","v":{"$error":"#DIV/0!"}},{"$f":"IF(AA17=0,0,(AA17*((LOG(AA17))/LOG(2))))","v":{"$error":"#DIV/0!"}},null,{"$f":"N17","v":2121},{"$f":"COUNTIF(L6:L7,AD17)","v":0},{"$f":"AE17/(AG4-AE20)","v":{"$error":"#DIV/0!"}},{"$f":"IF(AF17=0,0,(AF17*((LOG(AF17))/LOG(2))))","v":{"$error":"#DIV/0!"}},null,{"$f":"N17","v":2121},{"$f":"COUNTIF(L6:L7,AI17)","v":0},{"$f":"AJ17/(AL4-AJ20)","v":{"$error":"#DIV/0!"}},{"$f":"IF(AK17=0,0,(AK17*((LOG(AK17))/LOG(2))))","v":{"$error":"#DIV/0!"}},null,{"$f":"N17","v":2121},{"$f":"COUNTIF(L6:L7,AN17)","v":0},{"$f":"AO17/(AQ4-AO20)","v":{"$error":"#DIV/0!"}},{"$f":"IF(AP17=0,0,(AP17*((LOG(AP17))/LOG(2))))","v":{"$error":"#DIV/0!"}},null,{"$f":"N17","v":2121},{"$f":"COUNTIF(L6:L7,AS17)","v":0},{"$f":"AT17/(AV4-AT20)","v":{"$error":"#DIV/0!"}},{"$f":"IF(AU17=0,0,(AU17*((LOG(AU17))/LOG(2))))","v":{"$error":"#DIV/0!"}}]
[null,null,null,null,null,null,null,null,null,null,null,null,null,2122,{"$f":"COUNTIF($L$7:$L$500,N18)","v":0},{"$f":"O18/$Q$4","v":{"$error":"#DIV/0!"}},{"$f":"IF(P18=0,0,(P18*((LOG(P18))/LOG(2))))","v":{"$error":"#DIV/0!"}},null,null,{"$f":"N18","v":2122},{"$f":"COUNTIF(L6:L7,T18)","v":0},{"$f":"U18/(W4-U20)","v":{"$error":"#DIV/0!"}},{"$f":"IF(V18=0,0,(V18*((LOG(V18))/LOG(2))))","v":{"$error":"#DIV/0!"}},null,{"$f":"N18","v":2122},{"$f":"COUNTIF(L6:L7,Y18)","v":0},{"$f":"Z18/(AB4-Z20)","v":{"$error":"#DIV/0!"}},{"$f":"IF(AA18=0,0,(AA18*((LOG(AA18))/LOG(2))))","v":{"$error":"#DIV/0!"}},null,{"$f":"N18","v":2122},{"$f":"COUNTIF(L6:L7,AD18)","v":0},{"$f":"AE18/(AG4-AE20)","v":{"$error":"#DIV/0!"}},{"$f":"IF(AF18=0,0,(AF18*((LOG(AF18))/LOG(2))))","v":{"$error":"#DIV/0!"}},null,{"$f":"N18","v":2122},{"$f":"COUNTIF(L6:L7,AI18)","v":0},{"$f":"AJ18/(AL4-AJ20)","v":{"$error":"#DIV/0!"}},{"$f":"IF(AK18=0,0,(AK18*((LOG(AK18))/LOG(2))))","v":{"$error":"#DIV/0!"}},null,{"$f":"N18","v":2122},{"$f":"COUNTIF(L6:L7,AN18)","v":0},{"$f":"AO18/(AQ4-AO20)","v":{"$error":"#DIV/0!"}},{"$f":"IF(AP18=0,0,(AP18*((LOG(AP18))/LOG(2))))","v":{"$error":"#DIV/0!"}},null,{"$f":"N18","v":2122},{"$f":"COUNTIF(L6:L7,AS18)","v":0},{"$f":"AT18/(AV4-AT20)","v":{"$error":"#DIV/0!"}},{"$f":"IF(AU18=0,0,(AU18*((LOG(AU18))/LOG(2))))","v":{"$error":"#DIV/0!"}}]
[null,null,null,null,null,null,null,null,null,null,null,null,null,2211,{"$f":"COUNTIF($L$7:$L$500,N19)","v":0},{"$f":"O19/$Q$4","v":{"$error":"#DIV/0!"}},{"$f":"IF(P19=0,0,(P19*((LOG(P19))/LOG(2))))","v":{"$error":"#DIV/0!"}},null,null,{"$f":"N19","v":2211},{"$f":"COUNTIF(L6:L7,T19)","v":0},{"$f":"U19/(W4-U20)","v":{"$error":"#DIV/0!"}},{"$f":"IF(V19=0,0,(V19*((LOG(V19))/LOG(2))))","v":{"$error":"#DIV/0!"}},null,{"$f":"N19","v":2211},{"$f":"COUNTIF(L6:L7,Y19)","v":0},{"$f":"Z19/(AB4-Z20)","v":{"$error":"#DIV/0!"}},{"$f":"IF(AA19=0,0,(AA19*((LOG(AA19))/LOG(2))))","v":{"$error":"#DIV/0!"}},null,{"$f":"N19","v":2211},{"$f":"COUNTIF(L6:L7,AD19)","v":0},{"$f":"AE19/(AG4-AE20)","v":{"$error":"#DIV/0!"}},{"$f":"IF(AF19=0,0,(AF19*((LOG(AF19))/LOG(2))))","v":{"$error":"#DIV/0!"}},null,{"$f":"N19","v":2211},{"$f":"COUNTIF(L6:L7,AI19)","v":0},{"$f":"AJ19/(AL4-AJ20)","v":{"$error":"#DIV/0!"}},{"$f":"IF(AK19=0,0,(AK19*((LOG(AK19))/LOG(2))))","v":{"$error":"#DIV/0!"}},null,{"$f":"N19","v":2211},{"$f":"COUNTIF(L6:L7,AN19)","v":0},{"$f":"AO19/(AQ4-AO20)","v":{"$error":"#DIV/0!"}},{"$f":"IF(AP19=0,0,(AP19*((LOG(AP19))/LOG(2))))","v":{"$error":"#DIV/0!"}},null,{"$f":"N19","v":2211},{"$f":"COUNTIF(L6:L7,AS19)","v":0},{"$f":"AT19/(AV4-AT20)","v":{"$error":"#DIV/0!"}},{"$f":"IF(AU19=0,0,(AU19*((LOG(AU19))/LOG(2))))","v":{"$error":"#DIV/0!"}}]
[null,null,null,null,null,null,null,null,null,null,null,null,null,2212,{"$f":"COUNTIF($L$7:$L$500,N20)","v":0},{"$f":"O20/$Q$4","v":{"$error":"#DIV/0!"}},{"$f":"IF(P20=0,0,(P20*((LOG(P20))/LOG(2))))","v":{"$error":"#DIV/0!"}},null,null,{"$f":"N20","v":2212},{"$f":"COUNTIF(L6:L7,T20)","v":0},null,null,null,{"$f":"N20","v":2212},{"$f":"COUNTIF(L6:L7,Y20)","v":0},null,null,null,{"$f":"N20","v":2212},{"$f":"COUNTIF(L6:L7,AD20)","v":0},null,null,null,{"$f":"N20","v":2212},{"$f":"COUNTIF(L6:L7,AI20)","v":0},null,null,null,{"$f":"N20","v":2212},{"$f":"COUNTIF(L6:L7,AN20)","v":0},null,null,null,{"$f":"N20","v":2212},{"$f":"COUNTIF(L6:L7,AS20)","v":0}]
[null,null,null,null,null,null,null,null,null,null,null,null,null,2221,{"$f":"COUNTIF($L$7:$L$500,N21)","v":0},{"$f":"O21/$Q$4","v":{"$error":"#DIV/0!"}},{"$f":"IF(P21=0,0,(P21*((LOG(P21))/LOG(2))))","v":{"$error":"#DIV/0!"}},null,null,{"$f":"N21","v":2221},{"$f":"COUNTIF(L6:L7,T21)","v":0},{"$f":"U21/(W4-U20)","v":{"$error":"#DIV/0!"}},{"$f":"IF(V21=0,0,(V21*((LOG(V21))/LOG(2))))","v":{"$error":"#DIV/0!"}},null,{"$f":"N21","v":2221},{"$f":"COUNTIF(L6:L7,Y21)","v":0},{"$f":"Z21/(AB4-Z20)","v":{"$error":"#DIV/0!"}},{"$f":"IF(AA21=0,0,(AA21*((LOG(AA21))/LOG(2))))","v":{"$error":"#DIV/0!"}},null,{"$f":"N21","v":2221},{"$f":"COUNTIF(L6:L7,AD21)","v":0},{"$f":"AE21/(AG4-AE20)","v":{"$error":"#DIV/0!"}},{"$f":"IF(AF21=0,0,(AF21*((LOG(AF21))/LOG(2))))","v":{"$error":"#DIV/0!"}},null,{"$f":"N21","v":2221},{"$f":"COUNTIF(L6:L7,AI21)","v":0},{"$f":"AJ21/(AL4-AJ20)","v":{"$error":"#DIV/0!"}},{"$f":"IF(AK21=0,0,(AK21*((LOG(AK21))/LOG(2))))","v":{"$error":"#DIV/0!"}},null,{"$f":"N21","v":2221},{"$f":"COUNTIF(L6:L7,AN21)","v":0},{"$f":"AO21/(AQ4-AO20)","v":{"$error":"#DIV/0!"}},{"$f":"IF(AP21=0,0,(AP21*((LOG(AP21))/LOG(2))))","v":{"$error":"#DIV/0!"}},null,{"$f":"N21","v":2221},{"$f":"COUNTIF(L6:L7,AS21)","v":0},{"$f":"AT21/(AV4-AT20)","v":{"$error":"#DIV/0!"}},{"$f":"IF(AU21=0,0,(AU21*((LOG(AU21))/LOG(2))))","v":{"$error":"#DIV/0!"}}]
[null,null,null,null,null,null,null,null,null,null,null,null,null,2222,{"$f":"COUNTIF($L$7:$L$500,N22)","v":0},{"$f":"O22/$Q$4","v":{"$error":"#DIV/0!"}},{"$f":"IF(P22=0,0,(P22*((LOG(P22))/LOG(2))))","v":{"$error":"#DIV/0!"}},null,null,{"$f":"N22","v":2222},{"$f":"COUNTIF(L6:L7,T22)","v":0},{"$f":"U22/(W4-U20)","v":{"$error":"#DIV/0!"}},{"$f":"IF(V22=0,0,(V22*((LOG(V22))/LOG(2))))","v":{"$error":"#DIV/0!"}},null,{"$f":"N22","v":2222},{"$f":"COUNTIF(L6:L7,Y22)","v":0},{"$f":"Z22/(AB4-Z20)","v":{"$error":"#DIV/0!"}},{"$f":"IF(AA22=0,0,(AA22*((LOG(AA22))/LOG(2))))","v":{"$error":"#DIV/0!"}},null,{"$f":"N22","v":2222},{"$f":"COUNTIF(L6:L7,AD22)","v":0},{"$f":"AE22/(AG4-AE20)","v":{"$error":"#DIV/0!"}},{"$f":"IF(AF22=0,0,(AF22*((LOG(AF22))/LOG(2))))","v":{"$error":"#DIV/0!"}},null,{"$f":"N22","v":2222},{"$f":"COUNTIF(L6:L7,AI22)","v":0},{"$f":"AJ22/(AL4-AJ20)","v":{"$error":"#DIV/0!"}},{"$f":"IF(AK22=0,0,(AK22*((LOG(AK22))/LOG(2))))","v":{"$error":"#DIV/0!"}},null,{"$f":"N22","v":2222},{"$f":"COUNTIF(L6:L7,AN22)","v":0},{"$f":"AO22/(AQ4-AO20)","v":{"$error":"#DIV/0!"}},{"$f":"IF(AP22=0,0,(AP22*((LOG(AP22))/LOG(2))))","v":{"$error":"#DIV/0!"}},null,{"$f":"N22","v":2222},{"$f":"COUNTIF(L6:L7,AS22)","v":0},{"$f":"AT22/(AV4-AT20)","v":{"$error":"#DIV/0!"}},{"$f":"IF(AU22=0,0,(AU22*((LOG(AU22))/LOG(2))))","v":{"$error":"#DIV/0!"}}]
[null,null,null,null,null,null,null,null,null,null,null,null,null,null,null,{"$f":"SUM(P7:P22)","v":{"$error":"#DIV/0!"}},{"$f":"-SUM(Q7:Q22)","v":{"$error":"#DIV/0!"}},null,null,null,null,{"$f":"SUM(V7:V22)","v":{"$error":"#DIV/0!"}},{"$f":"-SUM(W7:W22)","v":{"$error":"#DIV/0!"}},null,null,null,{"$f":"SUM(AA7:AA22)","v":{"$error":"#DIV/0!"}},{"$f":"-SUM(AB7:AB22)","v":{"$error":"#DIV/0!"}},null,null,null,{"$f":"SUM(AF7:AF22)","v":{"$error":"#DIV/0!"}},{"$f":"-SUM(AG7:AG22)","v":{"$error":"#DIV/0!"}},null,null,null,{"$f":"SUM(AK7:AK22)","v":{"$error":"#DIV/0!"}},{"$f":"-SUM(AL7:AL22)","v":{"$error":"#DIV/0!"}},null,null,null,{"$f":"SUM(AP7:AP22)","v":{"$error":"#DIV/0!"}},{"$f":"-SUM(AQ7:AQ22)","v":{"$error":"#DIV/0!"}},null,null,null,{"$f":"SUM(AU7:AU22)","v":{"$error":"#DIV/0!"}},{"$f":"-SUM(AV7:AV22)","v":{"$error":"#DIV/0!"}}]
[null,null,null,null,null,null,null,null,null,null,null,null,null,null,null,"U=",{"$f":"Q23/(LOG(Q4)/LOG(2))","v":{"$error":"#DIV/0!"}},null,null,null,null,"U1=",{"$f":"W23/(LOG(W4)/LOG(2))","v":{"$error":"#DIV/0!"}},null,null,null,"U2=",{"$f":"AB23/(LOG(AB4)/LOG(2))","v":{"$error":"#DIV/0!"}},null,null,null,"U3=",{"$f":"AG23/(LOG(AG4)/LOG(2))","v":{"$error":"#DIV/0!"}},null,null,null,"U4=",{"$f":"AL23/(LOG(AL4)/LOG(2))","v":{"$error":"#DIV/0!"}},null,null,null,"U5=",{"$f":"AQ23/(LOG(AQ4)/LOG(2))","v":{"$error":"#DIV/0!"}},null,null,null,"U6=",{"$f":"AV23/(LOG(AV4)/LOG(2))","v":{"$error":"#DIV/0!"}}]
[]
[]
[null,null,null,null,null,null,null,null,null,null,null,null,null,"Total Target Seq"]
[null,null,null,null,null,null,null,null,null,null,null,null,null,{"$f":"COUNTIF(L6:L7,G3)","v":0},null,0,0,0,0,0,0]
[null,null,null,null,null,null,null,null,null,null,null,null,null,null,null,"% of reinforcement given in 6 equal intervals based on number of trials "]
[null,null,null,null,null,null,null,null,null,null,null,null,null,null,null,"%_1","%_2","%_3","%_4","%_5","%_6"]
[null,null,null,null,null,null,null,null,null,null,null,null,null,null,"target sequence",{"$f":"$G$3","v":2212},{"$f":"$G$3","v":2212},{"$f":"$G$3","v":2212},{"$f":"$G$3","v":2212},{"$f":"$G$3","v":2212},{"$f":"$G$3","v":2212}]
[null,null,null,null,null,null,null,null,null,null,null,null,null,null,"total reinforcement",{"$f":"U20","v":0},{"$f":"Z20","v":0},{"$f":"AE20","v":0},{"$f":"AJ20","v":0},{"$f":"AO20","v":0},{"$f":"AT20","v":0}]
[null,null,null,null,null,null,null,null,null,null,null,null,null,null,"% target"]
[null,null,null,null,null,null,null,null,null,null,null,null,null,null,"CCRF"]
[null,null,null,null,null,null,null,null,null,null,null,null,null,null,"% CCRf"]
[null,null,null,null,null,null,null,null,null,null,null,null,null,null,"average response rate",{"$f":"H6/P28","v":{"$error":"#VALUE!"}},{"$f":"(H6-H6)/Q28","v":{"$error":"#VALUE!"}},{"$f":"(H6-H6)/R28","v":{"$error":"#VALUE!"}},{"$f":"(H6-H6)/S28","v":{"$error":"#VALUE!"}},{"$f":"(H6-H6)/T28","v":{"$error":"#VALUE!"}},{"$f":"(H6-H6)/U28","v":{"$error":"#VALUE!"}}]

{"sheet":"!M927830.102","index":32,"n_rows":36,"n_cols":48,"rows_kept":36,"cut":false,"hidden":false,"merged":[[4,39,4,42],[5,39,5,40],[4,44,4,47],[5,44,5,45],[4,24,4,27],[5,24,5,25],[4,29,4,32],[5,29,5,30],[4,34,4,37],[5,34,5,35],[1,1,1,2],[5,13,5,14],[26,13,26,14],[27,13,27,14],[4,19,4,22],[5,19,5,20]]}
["Report for:!M927830.102"]
["Date:","<date>"]
["Hen:","<hen>",null,null,null,"Correct Sequence",{"$f":"Start!J2","v":2212},null,null,null,null,null,null,null,null,"Total Sequences in Data",{"$f":"4994-COUNTBLANK(L7:L5000)","v":13},null,null,null,null,"Total Sequences in Block Data",{"$f":"COUNTA(L7:L8)","v":2},null,null,null,"Total Sequences in Block Data",{"$f":"COUNTA(L9:L10)","v":2},null,null,null,"Total Sequences in Block Data",{"$f":"COUNTA(L11:L13)","v":3},null,null,null,"Total Sequences in Block Data",{"$f":"COUNTA(L14:L15)","v":2},null,null,null,"Total Sequences in Block Data",{"$f":"COUNTA(L16:L17)","v":2},null,null,null,"Total Sequences in Block Data",{"$f":"COUNTA(L18:L19)","v":2}]
[null,null,null,null,null,null,null,null,null,null,null,null,null,null,null,"Total Sequences in Summary",{"$f":"SUM(O7:O22)","v":13},null,null,null,null,"Total Sequences in Block Summary",{"$f":"SUM(U7:U22)","v":2},null,null,null,"Total Sequences in Block Summary",{"$f":"SUM(Z7:Z22)","v":2},null,null,null,"Total Sequences in Block Summary",{"$f":"SUM(AE7:AE22)","v":3},null,null,null,"Total Sequences in Block Summary",{"$f":"SUM(AJ7:AJ22)","v":2},null,null,null,"Total Sequences in Block Summary",{"$f":"SUM(AO7:AO22)","v":2},null,null,null,"Total Sequences in Block Summary",{"$f":"SUM(AT7:AT22)","v":2}]
[null,null,null,null,null,null,null,null,null,null,null,null,null,null,null,null,null,null,null,"Block 1",null,null,null,null,"Block 2",null,null,null,null,"Block 3",null,null,null,null,"Block 4",null,null,null,null,"Block 5",null,null,null,null,"Block 6"]
["Sequence\nComponent\n1","Time\n1","Sequence\nComponent\n2","Time\n2","Sequence\nComponent\n3","Time\n3","Sequence\nComponent\n4","Time\n4","Sequence\nComponent\n5","Time\n5","Correct?\n0=No 1=Yes","Sequence",null,"Frequency",null,"Relative Frequency","Variability",null,null,"Frequency",null,"Relative Frequency","Variability",null,"Frequency",null,"Relative Frequency","Variability",null,"Frequency",null,"Relative Frequency","Variability",null,"Frequency",null,"Relative Frequency","Variability",null,"Frequency",null,"Relative Frequency","Variability",null,"Frequency",null,"Relative Frequency","Variability"]
[12,17,14,25,13,33,14,42,null,null,0,1111,null,1111,{"$f":"COUNTIF($L$7:$L$500,N7)","v":11},{"$f":"O7/$Q$4","v":0.84615384615384615},{"$f":"IF(P7=0,0,(P7*((LOG(P7))/LOG(2))))","v":-0.20392993034936494},null,null,{"$f":"N7","v":1111},{"$f":"COUNTIF(L7:L8,T7)","v":2},{"$f":"U7/(W4-U20)","v":1},{"$f":"IF(V7=0,0,(V7*((LOG(V7))/LOG(2))))","v":0},null,{"$f":"N7","v":1111},{"$f":"COUNTIF(L9:L10,Y7)","v":2},{"$f":"Z7/(AB4-Z20)","v":1},{"$f":"IF(AA7=0,0,(AA7*((LOG(AA7))/LOG(2))))","v":0},null,{"$f":"N7","v":1111},{"$f":"COUNTIF(L11:L13,AD7)","v":3},{"$f":"AE7/(AG4-AE20)","v":1},{"$f":"IF(AF7=0,0,(AF7*((LOG(AF7))/LOG(2))))","v":0},null,{"$f":"N7","v":1111},{"$f":"COUNTIF(L14:L15,AI7)","v":2},{"$f":"AJ7/(AL4-AJ20)","v":1},{"$f":"IF(AK7=0,0,(AK7*((LOG(AK7))/LOG(2))))","v":0},null,{"$f":"N7","v":1111},{"$f":"COUNTIF(L16:L17,AN7)","v":0},{"$f":"AO7/(AQ4-AO20)","v":0},{"$f":"IF(AP7=0,0,(AP7*((LOG(AP7))/LOG(2))))","v":0},null,{"$f":"N7","v":1111},{"$f":"COUNTIF(L18:L19,AS7)","v":2},{"$f":"AT7/(AV4-AT20)","v":1},{"$f":"IF(AU7=0,0,(AU7*((LOG(AU7))/LOG(2))))","v":0}]
[12,156,14,164,13,174,14,184,null,null,0,1111,null,1112,{"$f":"COUNTIF($L$7:$L$500,N8)","v":1},{"$f":"O8/$Q$4","v":7.6923076923076927E-2},{"$f":"IF(P8=0,0,(P8*((LOG(P8))/LOG(2))))","v":-0.28464920908777636},null,null,{"$f":"N8","v":1112},{"$f":"COUNTIF(L7:L8,T8)","v":0},{"$f":"U8/(W4-U20)","v":0},{"$f":"IF(V8=0,0,(V8*((LOG(V8))/LOG(2))))","v":0},null,{"$f":"N8","v":1112},{"$f":"COUNTIF(L9:L10,Y8)","v":0},{"$f":"Z8/(AB4-Z20)","v":0},{"$f":"IF(AA8=0,0,(AA8*((LOG(AA8))/LOG(2))))","v":0},null,{"$f":"N8","v":1112},{"$f":"COUNTIF(L11:L13,AD8)","v":0},{"$f":"AE8/(AG4-AE20)","v":0},{"$f":"IF(AF8=0,0,(AF8*((LOG(AF8))/LOG(2))))","v":0},null,{"$f":"N8","v":1112},{"$f":"COUNTIF(L14:L15,AI8)","v":0},{"$f":"AJ8/(AL4-AJ20)","v":0},{"$f":"IF(AK8=0,0,(AK8*((LOG(AK8))/LOG(2))))","v":0},null,{"$f":"N8","v":1112},{"$f":"COUNTIF(L16:L17,AN8)","v":1},{"$f":"AO8/(AQ4-AO20)","v":0.5},{"$f":"IF(AP8=0,0,(AP8*((LOG(AP8))/LOG(2))))","v":-0.5},null,{"$f":"N8","v":1112},{"$f":"COUNTIF(L18:L19,AS8)","v":0},{"$f":"AT8/(AV4-AT20)","v":0},{"$f":"IF(AU8=0,0,(AU8*((LOG(AU8))/LOG(2))))","v":0}]
[12,299,14,304,13,310,14,317,null,null,0,1111,null,1121,{"$f":"COUNTIF($L$7:$L$500,N9)","v":0},{"$f":"O9/$Q$4","v":0},{"$f":"IF(P9=0,0,(P9*((LOG(P9))/LOG(2))))","v":0},null,null,{"$f":"N9","v":1121},{"$f":"COUNTIF(L7:L8,T9)","v":0},{"$f":"U9/(W4-U20)","v":0},{"$f":"IF(V9=0,0,(V9*((LOG(V9))/LOG(2))))","v":0},null,{"$f":"N9","v":1121},{"$f":"COUNTIF(L9:L10,Y9)","v":0},{"$f":"Z9/(AB4-Z20)","v":0},{"$f":"IF(AA9=0,0,(AA9*((LOG(AA9))/LOG(2))))","v":0},null,{"$f":"N9","v":1121},{"$f":"COUNTIF(L11:L13,AD9)","v":0},{"$f":"AE9/(AG4-AE20)","v":0},{"$f":"IF(AF9=0,0,(AF9*((LOG(AF9))/LOG(2))))","v":0},null,{"$f":"N9","v":1121},{"$f":"COUNTIF(L14:L15,AI9)","v":0},{"$f":"AJ9/(AL4-AJ20)","v":0},{"$f":"IF(AK9=0,0,(AK9*((LOG(AK9))/LOG(2))))","v":0},null,{"$f":"N9","v":1121},{"$f":"COUNTIF(L16:L17,AN9)","v":0},{"$f":"AO9/(AQ4-AO20)","v":0},{"$f":"IF(AP9=0,0,(AP9*((LOG(AP9))/LOG(2))))","v":0},null,{"$f":"N9","v":1121},{"$f":"COUNTIF(L18:L19,AS9)","v":0},{"$f":"AT9/(AV4-AT20)","v":0},{"$f":"IF(AU9=0,0,(AU9*((LOG(AU9))/LOG(2))))","v":0}]
[12,415,14,428,13,433,14,440,null,null,0,1111,null,1122,{"$f":"COUNTIF($L$7:$L$500,N10)","v":0},{"$f":"O10/$Q$4","v":0},{"$f":"IF(P10=0,0,(P10*((LOG(P10))/LOG(2))))","v":0},null,null,{"$f":"N10","v":1122},{"$f":"COUNTIF(L7:L8,T10)","v":0},{"$f":"U10/(W4-U20)","v":0},{"$f":"IF(V10=0,0,(V10*((LOG(V10))/LOG(2))))","v":0},null,{"$f":"N10","v":1122},{"$f":"COUNTIF(L9:L10,Y10)","v":0},{"$f":"Z10/(AB4-Z20)","v":0},{"$f":"IF(AA10=0,0,(AA10*((LOG(AA10))/LOG(2))))","v":0},null,{"$f":"N10","v":1122},{"$f":"COUNTIF(L11:L13,AD10)","v":0},{"$f":"AE10/(AG4-AE20)","v":0},{"$f":"IF(AF10=0,0,(AF10*((LOG(AF10))/LOG(2))))","v":0},null,{"$f":"N10","v":1122},{"$f":"COUNTIF(L14:L15,AI10)","v":0},{"$f":"AJ10/(AL4-AJ20)","v":0},{"$f":"IF(AK10=0,0,(AK10*((LOG(AK10))/LOG(2))))","v":0},null,{"$f":"N10","v":1122},{"$f":"COUNTIF(L16:L17,AN10)","v":0},{"$f":"AO10/(AQ4-AO20)","v":0},{"$f":"IF(AP10=0,0,(AP10*((LOG(AP10))/LOG(2))))","v":0},null,{"$f":"N10","v":1122},{"$f":"COUNTIF(L18:L19,AS10)","v":0},{"$f":"AT10/(AV4-AT20)","v":0},{"$f":"IF(AU10=0,0,(AU10*((LOG(AU10))/LOG(2))))","v":0}]
[12,578,14,584,13,590,14,599,null,null,0,1111,null,1211,{"$f":"COUNTIF($L$7:$L$500,N11)","v":0},{"$f":"O11/$Q$4","v":0},{"$f":"IF(P11=0,0,(P11*((LOG(P11))/LOG(2))))","v":0},null,null,{"$f":"N11","v":1211},{"$f":"COUNTIF(L7:L8,T11)","v":0},{"$f":"U11/(W4-U20)","v":0},{"$f":"IF(V11=0,0,(V11*((LOG(V11))/LOG(2))))","v":0},null,{"$f":"N11","v":1211},{"$f":"COUNTIF(L9:L10,Y11)","v":0},{"$f":"Z11/(AB4-Z20)","v":0},{"$f":"IF(AA11=0,0,(AA11*((LOG(AA11))/LOG(2))))","v":0},null,{"$f":"N11","v":1211},{"$f":"COUNTIF(L11:L13,AD11)","v":0},{"$f":"AE11/(AG4-AE20)","v":0},{"$f":"IF(AF11=0,0,(AF11*((LOG(AF11))/LOG(2))))","v":0},null,{"$f":"N11","v":1211},{"$f":"COUNTIF(L14:L15,AI11)","v":0},{"$f":"AJ11/(AL4-AJ20)","v":0},{"$f":"IF(AK11=0,0,(AK11*((LOG(AK11))/LOG(2))))","v":0},null,{"$f":"N11","v":1211},{"$f":"COUNTIF(L16:L17,AN11)","v":0},{"$f":"AO11/(AQ4-AO20)","v":0},{"$f":"IF(AP11=0,0,(AP11*((LOG(AP11))/LOG(2))))","v":0},null,{"$f":"N11","v":1211},{"$f":"COUNTIF(L18:L19,AS11)","v":0},{"$f":"AT11/(AV4-AT20)","v":0},{"$f":"IF(AU11=0,0,(AU11*((LOG(AU11))/LOG(2))))","v":0}]
[12,709,14,714,13,762,14,768,null,null,0,1111,null,1212,{"$f":"COUNTIF($L$7:$L$500,N12)","v":0},{"$f":"O12/$Q$4","v":0},{"$f":"IF(P12=0,0,(P12*((LOG(P12))/LOG(2))))","v":0},null,null,{"$f":"N12","v":1212},{"$f":"COUNTIF(L7:L8,T12)","v":0},{"$f":"U12/(W4-U20)","v":0},{"$f":"IF(V12=0,0,(V12*((LOG(V12))/LOG(2))))","v":0},null,{"$f":"N12","v":1212},{"$f":"COUNTIF(L9:L10,Y12)","v":0},{"$f":"Z12/(AB4-Z20)","v":0},{"$f":"IF(AA12=0,0,(AA12*((LOG(AA12))/LOG(2))))","v":0},null,{"$f":"N12","v":1212},{"$f":"COUNTIF(L11:L13,AD12)","v":0},{"$f":"AE12/(AG4-AE20)","v":0},{"$f":"IF(AF12=0,0,(AF12*((LOG(AF12))/LOG(2))))","v":0},null,{"$f":"N12","v":1212},{"$f":"COUNTIF(L14:L15,AI12)","v":0},{"$f":"AJ12/(AL4-AJ20)","v":0},{"$f":"IF(AK12=0,0,(AK12*((LOG(AK12))/LOG(2))))","v":0},null,{"$f":"N12","v":1212},{"$f":"COUNTIF(L16:L17,AN12)","v":0},{"$f":"AO12/(AQ4-AO20)","v":0},{"$f":"IF(AP12=0,0,(AP12*((LOG(AP12))/LOG(2))))","v":0},null,{"$f":"N12","v":1212},{"$f":"COUNTIF(L18:L19,AS12)","v":0},{"$f":"AT12/(AV4-AT20)","v":0},{"$f":"IF(AU12=0,0,(AU12*((LOG(AU12))/LOG(2))))","v":0}]
[12,889,14,895,13,903,14,910,null,null,0,1111,null,1221,{"$f":"COUNTIF($L$7:$L$500,N13)","v":0},{"$f":"O13/$Q$4","v":0},{"$f":"IF(P13=0,0,(P13*((LOG(P13))/LOG(2))))","v":0},null,null,{"$f":"N13","v":1221},{"$f":"COUNTIF(L7:L8,T13)","v":0},{"$f":"U13/(W4-U20)","v":0},{"$f":"IF(V13=0,0,(V13*((LOG(V13))/LOG(2))))","v":0},null,{"$f":"N13","v":1221},{"$f":"COUNTIF(L9:L10,Y13)","v":0},{"$f":"Z13/(AB4-Z20)","v":0},{"$f":"IF(AA13=0,0,(AA13*((LOG(AA13))/LOG(2))))","v":0},null,{"$f":"N13","v":1221},{"$f":"COUNTIF(L11:L13,AD13)","v":0},{"$f":"AE13/(AG4-AE20)","v":0},{"$f":"IF(AF13=0,0,(AF13*((LOG(AF13))/LOG(2))))","v":0},null,{"$f":"N13","v":1221},{"$f":"COUNTIF(L14:L15,AI13)","v":0},{"$f":"AJ13/(AL4-AJ20)","v":0},{"$f":"IF(AK13=0,0,(AK13*((LOG(AK13))/LOG(2))))","v":0},null,{"$f":"N13","v":1221},{"$f":"COUNTIF(L16:L17,AN13)","v":0},{"$f":"AO13/(AQ4-AO20)","v":0},{"$f":"IF(AP13=0,0,(AP13*((LOG(AP13))/LOG(2))))","v":0},null,{"$f":"N13","v":1221},{"$f":"COUNTIF(L18:L19,AS13)","v":0},{"$f":"AT13/(AV4-AT20)","v":0},{"$f":"IF(AU13=0,0,(AU13*((LOG(AU13))/LOG(2))))","v":0}]
[12,1044,14,1053,13,1060,14,1070,null,null,0,1111,null,1222,{"$f":"COUNTIF($L$7:$L$500,N14)","v":0},{"$f":"O14/$Q$4","v":0},{"$f":"IF(P14=0,0,(P14*((LOG(P14))/LOG(2))))","v":0},null,null,{"$f":"N14","v":1222},{"$f":"COUNTIF(L7:L8,T14)","v":0},{"$f":"U14/(W4-U20)","v":0},{"$f":"IF(V14=0,0,(V14*((LOG(V14))/LOG(2))))","v":0},null,{"$f":"N14","v":1222},{"$f":"COUNTIF(L9:L10,Y14)","v":0},{"$f":"Z14/(AB4-Z20)","v":0},{"$f":"IF(AA14=0,0,(AA14*((LOG(AA14))/LOG(2))))","v":0},null,{"$f":"N14","v":1222},{"$f":"COUNTIF(L11:L13,AD14)","v":0},{"$f":"AE14/(AG4-AE20)","v":0},{"$f":"IF(AF14=0,0,(AF14*((LOG(AF14))/LOG(2))))","v":0},null,{"$f":"N14","v":1222},{"$f":"COUNTIF(L14:L15,AI14)","v":0},{"$f":"AJ14/(AL4-AJ20)","v":0},{"$f":"IF(AK14=0,0,(AK14*((LOG(AK14))/LOG(2))))","v":0},null,{"$f":"N14","v":1222},{"$f":"COUNTIF(L16:L17,AN14)","v":0},{"$f":"AO14/(AQ4-AO20)","v":0},{"$f":"IF(AP14=0,0,(AP14*((LOG(AP14))/LOG(2))))","v":0},null,{"$f":"N14","v":1222},{"$f":"COUNTIF(L18:L19,AS14)","v":0},{"$f":"AT14/(AV4-AT20)","v":0},{"$f":"IF(AU14=0,0,(AU14*((LOG(AU14))/LOG(2))))","v":0}]
[12,1198,14,1204,13,1215,14,1223,null,null,0,1111,null,2111,{"$f":"COUNTIF($L$7:$L$500,N15)","v":0},{"$f":"O15/$Q$4","v":0},{"$f":"IF(P15=0,0,(P15*((LOG(P15))/LOG(2))))","v":0},null,null,{"$f":"N15","v":2111},{"$f":"COUNTIF(L7:L8,T15)","v":0},{"$f":"U15/(W4-U20)","v":0},{"$f":"IF(V15=0,0,(V15*((LOG(V15))/LOG(2))))","v":0},null,{"$f":"N15","v":2111},{"$f":"COUNTIF(L9:L10,Y15)","v":0},{"$f":"Z15/(AB4-Z20)","v":0},{"$f":"IF(AA15=0,0,(AA15*((LOG(AA15))/LOG(2))))","v":0},null,{"$f":"N15","v":2111},{"$f":"COUNTIF(L11:L13,AD15)","v":0},{"$f":"AE15/(AG4-AE20)","v":0},{"$f":"IF(AF15=0,0,(AF15*((LOG(AF15))/LOG(2))))","v":0},null,{"$f":"N15","v":2111},{"$f":"COUNTIF(L14:L15,AI15)","v":0},{"$f":"AJ15/(AL4-AJ20)","v":0},{"$f":"IF(AK15=0,0,(AK15*((LOG(AK15))/LOG(2))))","v":0},null,{"$f":"N15","v":2111},{"$f":"COUNTIF(L16:L17,AN15)","v":0},{"$f":"AO15/(AQ4-AO20)","v":0},{"$f":"IF(AP15=0,0,(AP15*((LOG(AP15))/LOG(2))))","v":0},null,{"$f":"N15","v":2111},{"$f":"COUNTIF(L18:L19,AS15)","v":0},{"$f":"AT15/(AV4-AT20)","v":0},{"$f":"IF(AU15=0,0,(AU15*((LOG(AU15))/LOG(2))))","v":0}]
[12,1559,14,1570,13,1575,23,1616,null,null,0,1112,null,2112,{"$f":"COUNTIF($L$7:$L$500,N16)","v":0},{"$f":"O16/$Q$4","v":0},{"$f":"IF(P16=0,0,(P16*((LOG(P16))/LOG(2))))","v":0},null,null,{"$f":"N16","v":2112},{"$f":"COUNTIF(L7:L8,T16)","v":0},{"$f":"U16/(W4-U20)","v":0},{"$f":"IF(V16=0,0,(V16*((LOG(V16))/LOG(2))))","v":0},null,{"$f":"N16","v":2112},{"$f":"COUNTIF(L9:L10,Y16)","v":0},{"$f":"Z16/(AB4-Z20)","v":0},{"$f":"IF(AA16=0,0,(AA16*((LOG(AA16))/LOG(2))))","v":0},null,{"$f":"N16","v":2112},{"$f":"COUNTIF(L11:L13,AD16)","v":0},{"$f":"AE16/(AG4-AE20)","v":0},{"$f":"IF(AF16=0,0,(AF16*((LOG(AF16))/LOG(2))))","v":0},null,{"$f":"N16","v":2112},{"$f":"COUNTIF(L14:L15,AI16)","v":0},{"$f":"AJ16/(AL4-AJ20)","v":0},{"$f":"IF(AK16=0,0,(AK16*((LOG(AK16))/LOG(2))))","v":0},null,{"$f":"N16","v":2112},{"$f":"COUNTIF(L16:L17,AN16)","v":0},{"$f":"AO16/(AQ4-AO20)","v":0},{"$f":"IF(AP16=0,0,(AP16*((LOG(AP16))/LOG(2))))","v":0},null,{"$f":"N16","v":2112},{"$f":"COUNTIF(L18:L19,AS16)","v":0},{"$f":"AT16/(AV4-AT20)","v":0},{"$f":"IF(AU16=0,0,(AU16*((LOG(AU16))/LOG(2))))","v":0}]
[21,16364,21,16390,22,16406,23,16422,null,null,0,2222,null,2121,{"$f":"COUNTIF($L$7:$L$500,N17)","v":0},{"$f":"O17/$Q$4","v":0},{"$f":"IF(P17=0,0,(P17*((LOG(P17))/LOG(2))))","v":0},null,null,{"$f":"N17","v":2121},{"$f":"COUNTIF(L7:L8,T17)","v":0},{"$f":"U17/(W4-U20)","v":0},{"$f":"IF(V17=0,0,(V17*((LOG(V17))/LOG(2))))","v":0},null,{"$f":"N17","v":2121},{"$f":"COUNTIF(L9:L10,Y17)","v":0},{"$f":"Z17/(AB4-Z20)","v":0},{"$f":"IF(AA17=0,0,(AA17*((LOG(AA17))/LOG(2))))","v":0},null,{"$f":"N17","v":2121},{"$f":"COUNTIF(L11:L13,AD17)","v":0},{"$f":"AE17/(AG4-AE20)","v":0},{"$f":"IF(AF17=0,0,(AF17*((LOG(AF17))/LOG(2))))","v":0},null,{"$f":"N17","v":2121},{"$f":"COUNTIF(L14:L15,AI17)","v":0},{"$f":"AJ17/(AL4-AJ20)","v":0},{"$f":"IF(AK17=0,0,(AK17*((LOG(AK17))/LOG(2))))","v":0},null,{"$f":"N17","v":2121},{"$f":"COUNTIF(L16:L17,AN17)","v":0},{"$f":"AO17/(AQ4-AO20)","v":0},{"$f":"IF(AP17=0,0,(AP17*((LOG(AP17))/LOG(2))))","v":0},null,{"$f":"N17","v":2121},{"$f":"COUNTIF(L18:L19,AS17)","v":0},{"$f":"AT17/(AV4-AT20)","v":0},{"$f":"IF(AU17=0,0,(AU17*((LOG(AU17))/LOG(2))))","v":0}]
[12,16545,14,16553,13,16561,14,16574,null,null,0,1111,null,2122,{"$f":"COUNTIF($L$7:$L$500,N18)","v":0},{"$f":"O18/$Q$4","v":0},{"$f":"IF(P18=0,0,(P18*((LOG(P18))/LOG(2))))","v":0},null,null,{"$f":"N18","v":2122},{"$f":"COUNTIF(L7:L8,T18)","v":0},{"$f":"U18/(W4-U20)","v":0},{"$f":"IF(V18=0,0,(V18*((LOG(V18))/LOG(2))))","v":0},null,{"$f":"N18","v":2122},{"$f":"COUNTIF(L9:L10,Y18)","v":0},{"$f":"Z18/(AB4-Z20)","v":0},{"$f":"IF(AA18=0,0,(AA18*((LOG(AA18))/LOG(2))))","v":0},null,{"$f":"N18","v":2122},{"$f":"COUNTIF(L11:L13,AD18)","v":0},{"$f":"AE18/(AG4-AE20)","v":0},{"$f":"IF(AF18=0,0,(AF18*((LOG(AF18))/LOG(2))))","v":0},null,{"$f":"N18","v":2122},{"$f":"COUNTIF(L14:L15,AI18)","v":0},{"$f":"AJ18/(AL4-AJ20)","v":0},{"$f":"IF(AK18=0,0,(AK18*((LOG(AK18))/LOG(2))))","v":0},null,{"$f":"N18","v":2122},{"$f":"COUNTIF(L16:L17,AN18)","v":0},{"$f":"AO18/(AQ4-AO20)","v":0},{"$f":"IF(AP18=0,0,(AP18*((LOG(AP18))/LOG(2))))","v":0},null,{"$f":"N18","v":2122},{"$f":"COUNTIF(L18:L19,AS18)","v":0},{"$f":"AT18/(AV4-AT20)","v":0},{"$f":"IF(AU18=0,0,(AU18*((LOG(AU18))/LOG(2))))","v":0}]
[12,16709,14,16720,13,16739,14,16757,null,null,0,1111,null,2211,{"$f":"COUNTIF($L$7:$L$500,N19)","v":0},{"$f":"O19/$Q$4","v":0},{"$f":"IF(P19=0,0,(P19*((LOG(P19))/LOG(2))))","v":0},null,null,{"$f":"N19","v":2211},{"$f":"COUNTIF(L7:L8,T19)","v":0},{"$f":"U19/(W4-U20)","v":0},{"$f":"IF(V19=0,0,(V19*((LOG(V19))/LOG(2))))","v":0},null,{"$f":"N19","v":2211},{"$f":"COUNTIF(L9:L10,Y19)","v":0},{"$f":"Z19/(AB4-Z20)","v":0},{"$f":"IF(AA19=0,0,(AA19*((LOG(AA19))/LOG(2))))","v":0},null,{"$f":"N19","v":2211},{"$f":"COUNTIF(L11:L13,AD19)","v":0},{"$f":"AE19/(AG4-AE20)","v":0},{"$f":"IF(AF19=0,0,(AF19*((LOG(AF19))/LOG(2))))","v":0},null,{"$f":"N19","v":2211},{"$f":"COUNTIF(L14:L15,AI19)","v":0},{"$f":"AJ19/(AL4-AJ20)","v":0},{"$f":"IF(AK19=0,0,(AK19*((LOG(AK19))/LOG(2))))","v":0},null,{"$f":"N19","v":2211},{"$f":"COUNTIF(L16:L17,AN19)","v":0},{"$f":"AO19/(AQ4-AO20)","v":0},{"$f":"IF(AP19=0,0,(AP19*((LOG(AP19))/LOG(2))))","v":0},null,{"$f":"N19","v":2211},{"$f":"COUNTIF(L18:L19,AS19)","v":0},{"$f":"AT19/(AV4-AT20)","v":0},{"$f":"IF(AU19=0,0,(AU19*((LOG(AU19))/LOG(2))))","v":0}]
[null,null,null,null,null,null,null,null,null,null,null,null,null,2212,{"$f":"COUNTIF($L$7:$L$500,N20)","v":0},{"$f":"O20/$Q$4","v":0},{"$f":"IF(P20=0,0,(P20*((LOG(P20))/LOG(2))))","v":0},null,null,{"$f":"N20","v":2212},{"$f":"COUNTIF(L7:L8,T20)","v":0},null,null,null,{"$f":"N20","v":2212},{"$f":"COUNTIF(L9:L10,Y20)","v":0},null,null,null,{"$f":"N20","v":2212},{"$f":"COUNTIF(L11:L13,AD20)","v":0},null,null,null,{"$f":"N20","v":2212},{"$f":"COUNTIF(L14:L15,AI20)","v":0},null,null,null,{"$f":"N20","v":2212},{"$f":"COUNTIF(L16:L17,AN20)","v":0},null,null,null,{"$f":"N20","v":2212},{"$f":"COUNTIF(L18:L19,AS20)","v":0}]
[null,null,null,null,null,null,null,null,null,null,null,null,null,2221,{"$f":"COUNTIF($L$7:$L$500,N21)","v":0},{"$f":"O21/$Q$4","v":0},{"$f":"IF(P21=0,0,(P21*((LOG(P21))/LOG(2))))","v":0},null,null,{"$f":"N21","v":2221},{"$f":"COUNTIF(L7:L8,T21)","v":0},{"$f":"U21/(W4-U20)","v":0},{"$f":"IF(V21=0,0,(V21*((LOG(V21))/LOG(2))))","v":0},null,{"$f":"N21","v":2221},{"$f":"COUNTIF(L9:L10,Y21)","v":0},{"$f":"Z21/(AB4-Z20)","v":0},{"$f":"IF(AA21=0,0,(AA21*((LOG(AA21))/LOG(2))))","v":0},null,{"$f":"N21","v":2221},{"$f":"COUNTIF(L11:L13,AD21)","v":0},{"$f":"AE21/(AG4-AE20)","v":0},{"$f":"IF(AF21=0,0,(AF21*((LOG(AF21))/LOG(2))))","v":0},null,{"$f":"N21","v":2221},{"$f":"COUNTIF(L14:L15,AI21)","v":0},{"$f":"AJ21/(AL4-AJ20)","v":0},{"$f":"IF(AK21=0,0,(AK21*((LOG(AK21))/LOG(2))))","v":0},null,{"$f":"N21","v":2221},{"$f":"COUNTIF(L16:L17,AN21)","v":0},{"$f":"AO21/(AQ4-AO20)","v":0},{"$f":"IF(AP21=0,0,(AP21*((LOG(AP21))/LOG(2))))","v":0},null,{"$f":"N21","v":2221},{"$f":"COUNTIF(L18:L19,AS21)","v":0},{"$f":"AT21/(AV4-AT20)","v":0},{"$f":"IF(AU21=0,0,(AU21*((LOG(AU21))/LOG(2))))","v":0}]
[null,null,null,null,null,null,null,null,null,null,null,null,null,2222,{"$f":"COUNTIF($L$7:$L$500,N22)","v":1},{"$f":"O22/$Q$4","v":7.6923076923076927E-2},{"$f":"IF(P22=0,0,(P22*((LOG(P22))/LOG(2))))","v":-0.28464920908777636},null,null,{"$f":"N22","v":2222},{"$f":"COUNTIF(L7:L8,T22)","v":0},{"$f":"U22/(W4-U20)","v":0},{"$f":"IF(V22=0,0,(V22*((LOG(V22))/LOG(2))))","v":0},null,{"$f":"N22","v":2222},{"$f":"COUNTIF(L9:L10,Y22)","v":0},{"$f":"Z22/(AB4-Z20)","v":0},{"$f":"IF(AA22=0,0,(AA22*((LOG(AA22))/LOG(2))))","v":0},null,{"$f":"N22","v":2222},{"$f":"COUNTIF(L11:L13,AD22)","v":0},{"$f":"AE22/(AG4-AE20)","v":0},{"$f":"IF(AF22=0,0,(AF22*((LOG(AF22))/LOG(2))))","v":0},null,{"$f":"N22","v":2222},{"$f":"COUNTIF(L14:L15,AI22)","v":0},{"$f":"AJ22/(AL4-AJ20)","v":0},{"$f":"IF(AK22=0,0,(AK22*((LOG(AK22))/LOG(2))))","v":0},null,{"$f":"N22","v":2222},{"$f":"COUNTIF(L16:L17,AN22)","v":1},{"$f":"AO22/(AQ4-AO20)","v":0.5},{"$f":"IF(AP22=0,0,(AP22*((LOG(AP22))/LOG(2))))","v":-0.5},null,{"$f":"N22","v":2222},{"$f":"COUNTIF(L18:L19,AS22)","v":0},{"$f":"AT22/(AV4-AT20)","v":0},{"$f":"IF(AU22=0,0,(AU22*((LOG(AU22))/LOG(2))))","v":0}]
[null,null,null,null,null,null,null,null,null,null,null,null,null,null,null,{"$f":"SUM(P7:P22)","v":1},{"$f":"-SUM(Q7:Q22)","v":0.77322834852491762},null,null,null,null,{"$f":"SUM(V7:V22)","v":1},{"$f":"-SUM(W7:W22)","v":0},null,null,null,{"$f":"SUM(AA7:AA22)","v":1},{"$f":"-SUM(AB7:AB22)","v":0},null,null,null,{"$f":"SUM(AF7:AF22)","v":1},{"$f":"-SUM(AG7:AG22)","v":0},null,null,null,{"$f":"SUM(AK7:AK22)","v":1},{"$f":"-SUM(AL7:AL22)","v":0},null,null,null,{"$f":"SUM(AP7:AP22)","v":1},{"$f":"-SUM(AQ7:AQ22)","v":1},null,null,null,{"$f":"SUM(AU7:AU22)","v":1},{"$f":"-SUM(AV7:AV22)","v":0}]
[null,null,null,null,null,null,null,null,null,null,null,null,null,null,null,"U=",{"$f":"Q23/(LOG(Q4)/LOG(2))","v":0.20895580185625809},null,null,null,null,"U1=",{"$f":"W23/(LOG(W4)/LOG(2))","v":0},null,null,null,"U2=",{"$f":"AB23/(LOG(AB4)/LOG(2))","v":0},null,null,null,"U3=",{"$f":"AG23/(LOG(AG4)/LOG(2))","v":0},null,null,null,"U4=",{"$f":"AL23/(LOG(AL4)/LOG(2))","v":0},null,null,null,"U5=",{"$f":"AQ23/(LOG(AQ4)/LOG(2))","v":1},null,null,null,"U6=",{"$f":"AV23/(LOG(AV4)/LOG(2))","v":0}]
[]
[]
[null,null,null,null,null,null,null,null,null,null,null,null,null,"Total Target Seq"]
[null,null,null,null,null,null,null,null,null,null,null,null,null,{"$f":"COUNTIF(L7:L19,G3)","v":0},null,2,2,3,2,2,2]
[null,null,null,null,null,null,null,null,null,null,null,null,null,null,null,"% of reinforcement given in 6 equal intervals based on number of trials "]
[null,null,null,null,null,null,null,null,null,null,null,null,null,null,null,"%_1","%_2","%_3","%_4","%_5","%_6"]
[null,null,null,null,null,null,null,null,null,null,null,null,null,null,"target sequence",{"$f":"$G$3","v":2212},{"$f":"$G$3","v":2212},{"$f":"$G$3","v":2212},{"$f":"$G$3","v":2212},{"$f":"$G$3","v":2212},{"$f":"$G$3","v":2212}]
[null,null,null,null,null,null,null,null,null,null,null,null,null,null,"total reinforcement",{"$f":"U20","v":0},{"$f":"Z20","v":0},{"$f":"AE20","v":0},{"$f":"AJ20","v":0},{"$f":"AO20","v":0},{"$f":"AT20","v":0}]
[null,null,null,null,null,null,null,null,null,null,null,null,null,null,"% target"]
[null,null,null,null,null,null,null,null,null,null,null,null,null,null,"CCRF"]
[null,null,null,null,null,null,null,null,null,null,null,null,null,null,"% CCRf"]
[null,null,null,null,null,null,null,null,null,null,null,null,null,null,"average response rate",{"$f":"H8/P28","v":92},{"$f":"(H10-H8)/Q28","v":128},{"$f":"(H13-H10)/R28","v":156.66666666666666},{"$f":"(H15-H13)/S28","v":156.5},{"$f":"(H17-H15)/T28","v":7599.5},{"$f":"(H19-H17)/U28","v":167.5}]

{"sheet":"!M928930.102","index":33,"n_rows":36,"n_cols":48,"rows_kept":36,"cut":false,"hidden":false,"merged":[[4,39,4,42],[5,39,5,40],[4,44,4,47],[5,44,5,45],[4,24,4,27],[5,24,5,25],[4,29,4,32],[5,29,5,30],[4,34,4,37],[5,34,5,35],[1,1,1,2],[5,13,5,14],[26,13,26,14],[27,13,27,14],[4,19,4,22],[5,19,5,20]]}
["Report for:!M928930.102"]
["Date:","<date>"]
["Hen:","<hen>",null,null,null,"Correct Sequence",{"$f":"Start!J2","v":2212},null,null,null,null,null,null,null,null,"Total Sequences in Data",{"$f":"4994-COUNTBLANK(L7:L5000)","v":5},null,null,null,null,"Total Sequences in Block Data",{"$f":"COUNTA(L7:L7)","v":1},null,null,null,"Total Sequences in Block Data",{"$f":"COUNTA(L8:L8)","v":1},null,null,null,"Total Sequences in Block Data",{"$f":"COUNTA(L8:L9)","v":2},null,null,null,"Total Sequences in Block Data",{"$f":"COUNTA(L9:L9)","v":1},null,null,null,"Total Sequences in Block Data",{"$f":"COUNTA(L10:L10)","v":1},null,null,null,"Total Sequences in Block Data",{"$f":"COUNTA(L11:L11)","v":1}]
[null,null,null,null,null,null,null,null,null,null,null,null,null,null,null,"Total Sequences in Summary",{"$f":"SUM(O7:O22)","v":5},null,null,null,null,"Total Sequences in Block Summary",{"$f":"SUM(U7:U22)","v":1},null,null,null,"Total Sequences in Block Summary",{"$f":"SUM(Z7:Z22)","v":1},null,null,null,"Total Sequences in Block Summary",{"$f":"SUM(AE7:AE22)","v":2},null,null,null,"Total Sequences in Block Summary",{"$f":"SUM(AJ7:AJ22)","v":1},null,null,null,"Total Sequences in Block Summary",{"$f":"SUM(AO7:AO22)","v":1},null,null,null,"Total Sequences in Block Summary",{"$f":"SUM(AT7:AT22)","v":1}]
[null,null,null,null,null,null,null,null,null,null,null,null,null,null,null,null,null,null,null,"Block 1",null,null,null,null,"Block 2",null,null,null,null,"Block 3",null,null,null,null,"Block 4",null,null,null,null,"Block 5",null,null,null,null,"Block 6"]
["Sequence\nComponent\n1","Time\n1","Sequence\nComponent\n2","Time\n2","Sequence\nComponent\n3","Time\n3","Sequence\nComponent\n4","Time\n4","Sequence\nComponent\n5","Time\n5","Correct?\n0=No 1=Yes","Sequence",null,"Frequency",null,"Relative Frequency","Variability",null,null,"Frequency",null,"Relative Frequency","Variability",null,"Frequency",null,"Relative Frequency","Variability",null,"Frequency",null,"Relative Frequency","Variability",null,"Frequency",null,"Relative Frequency","Variability",null,"Frequency",null,"Relative Frequency","Variability",null,"Frequency",null,"Relative Frequency","Variability"]
[12,22,14,40,13,49,14,65,null,null,0,1111,null,1111,{"$f":"COUNTIF($L$7:$L$500,N7)","v":4},{"$f":"O7/$Q$4","v":0.8},{"$f":"IF(P7=0,0,(P7*((LOG(P7))/LOG(2))))","v":-0.25754247590988982},null,null,{"$f":"N7","v":1111},{"$f":"COUNTIF(L7:L7,T7)","v":1},{"$f":"U7/(W4-U20)","v":1},{"$f":"IF(V7=0,0,(V7*((LOG(V7))/LOG(2))))","v":0},null,{"$f":"N7","v":1111},{"$f":"COUNTIF(L8:L8,Y7)","v":1},{"$f":"Z7/(AB4-Z20)","v":1},{"$f":"IF(AA7=0,0,(AA7*((LOG(AA7))/LOG(2))))","v":0},null,{"$f":"N7","v":1111},{"$f":"COUNTIF(L8:L9,AD7)","v":2},{"$f":"AE7/(AG4-AE20)","v":1},{"$f":"IF(AF7=0,0,(AF7*((LOG(AF7))/LOG(2))))","v":0},null,{"$f":"N7","v":1111},{"$f":"COUNTIF(L9:L9,AI7)","v":1},{"$f":"AJ7/(AL4-AJ20)","v":1},{"$f":"IF(AK7=0,0,(AK7*((LOG(AK7))/LOG(2))))","v":0},null,{"$f":"N7","v":1111},{"$f":"COUNTIF(L10:L10,AN7)","v":1},{"$f":"AO7/(AQ4-AO20)","v":1},{"$f":"IF(AP7=0,0,(AP7*((LOG(AP7))/LOG(2))))","v":0},null,{"$f":"N7","v":1111},{"$f":"COUNTIF(L11:L11,AS7)","v":0},{"$f":"AT7/(AV4-AT20)","v":0},{"$f":"IF(AU7=0,0,(AU7*((LOG(AU7))/LOG(2))))","v":0}]
[12,180,14,186,13,199,14,209,null,null,0,1111,null,1112,{"$f":"COUNTIF($L$7:$L$500,N8)","v":0},{"$f":"O8/$Q$4","v":0},{"$f":"IF(P8=0,0,(P8*((LOG(P8))/LOG(2))))","v":0},null,null,{"$f":"N8","v":1112},{"$f":"COUNTIF(L7:L7,T8)","v":0},{"$f":"U8/(W4-U20)","v":0},{"$f":"IF(V8=0,0,(V8*((LOG(V8))/LOG(2))))","v":0},null,{"$f":"N8","v":1112},{"$f":"COUNTIF(L8:L8,Y8)","v":0},{"$f":"Z8/(AB4-Z20)","v":0},{"$f":"IF(AA8=0,0,(AA8*((LOG(AA8))/LOG(2))))","v":0},null,{"$f":"N8","v":1112},{"$f":"COUNTIF(L8:L9,AD8)","v":0},{"$f":"AE8/(AG4-AE20)","v":0},{"$f":"IF(AF8=0,0,(AF8*((LOG(AF8))/LOG(2))))","v":0},null,{"$f":"N8","v":1112},{"$f":"COUNTIF(L9:L9,AI8)","v":0},{"$f":"AJ8/(AL4-AJ20)","v":0},{"$f":"IF(AK8=0,0,(AK8*((LOG(AK8))/LOG(2))))","v":0},null,{"$f":"N8","v":1112},{"$f":"COUNTIF(L10:L10,AN8)","v":0},{"$f":"AO8/(AQ4-AO20)","v":0},{"$f":"IF(AP8=0,0,(AP8*((LOG(AP8))/LOG(2))))","v":0},null,{"$f":"N8","v":1112},{"$f":"COUNTIF(L11:L11,AS8)","v":0},{"$f":"AT8/(AV4-AT20)","v":0},{"$f":"IF(AU8=0,0,(AU8*((LOG(AU8))/LOG(2))))","v":0}]
[12,337,14,399,13,440,14,449,null,null,0,1111,null,1121,{"$f":"COUNTIF($L$7:$L$500,N9)","v":0},{"$f":"O9/$Q$4","v":0},{"$f":"IF(P9=0,0,(P9*((LOG(P9))/LOG(2))))","v":0},null,null,{"$f":"N9","v":1121},{"$f":"COUNTIF(L7:L7,T9)","v":0},{"$f":"U9/(W4-U20)","v":0},{"$f":"IF(V9=0,0,(V9*((LOG(V9))/LOG(2))))","v":0},null,{"$f":"N9","v":1121},{"$f":"COUNTIF(L8:L8,Y9)","v":0},{"$f":"Z9/(AB4-Z20)","v":0},{"$f":"IF(AA9=0,0,(AA9*((LOG(AA9))/LOG(2))))","v":0},null,{"$f":"N9","v":1121},{"$f":"COUNTIF(L8:L9,AD9)","v":0},{"$f":"AE9/(AG4-AE20)","v":0},{"$f":"IF(AF9=0,0,(AF9*((LOG(AF9))/LOG(2))))","v":0},null,{"$f":"N9","v":1121},{"$f":"COUNTIF(L9:L9,AI9)","v":0},{"$f":"AJ9/(AL4-AJ20)","v":0},{"$f":"IF(AK9=0,0,(AK9*((LOG(AK9))/LOG(2))))","v":0},null,{"$f":"N9","v":1121},{"$f":"COUNTIF(L10:L10,AN9)","v":0},{"$f":"AO9/(AQ4-AO20)","v":0},{"$f":"IF(AP9=0,0,(AP9*((LOG(AP9))/LOG(2))))","v":0},null,{"$f":"N9","v":1121},{"$f":"COUNTIF(L11:L11,AS9)","v":0},{"$f":"AT9/(AV4-AT20)","v":0},{"$f":"IF(AU9=0,0,(AU9*((LOG(AU9))/LOG(2))))","v":0}]
[12,10193,14,10208,13,10252,14,10262,null,null,0,1111,null,1122,{"$f":"COUNTIF($L$7:$L$500,N10)","v":0},{"$f":"O10/$Q$4","v":0},{"$f":"IF(P10=0,0,(P10*((LOG(P10))/LOG(2))))","v":0},null,null,{"$f":"N10","v":1122},{"$f":"COUNTIF(L7:L7,T10)","v":0},{"$f":"U10/(W4-U20)","v":0},{"$f":"IF(V10=0,0,(V10*((LOG(V10))/LOG(2))))","v":0},null,{"$f":"N10","v":1122},{"$f":"COUNTIF(L8:L8,Y10)","v":0},{"$f":"Z10/(AB4-Z20)","v":0},{"$f":"IF(AA10=0,0,(AA10*((LOG(AA10))/LOG(2))))","v":0},null,{"$f":"N10","v":1122},{"$f":"COUNTIF(L8:L9,AD10)","v":0},{"$f":"AE10/(AG4-AE20)","v":0},{"$f":"IF(AF10=0,0,(AF10*((LOG(AF10))/LOG(2))))","v":0},null,{"$f":"N10","v":1122},{"$f":"COUNTIF(L9:L9,AI10)","v":0},{"$f":"AJ10/(AL4-AJ20)","v":0},{"$f":"IF(AK10=0,0,(AK10*((LOG(AK10))/LOG(2))))","v":0},null,{"$f":"N10","v":1122},{"$f":"COUNTIF(L10:L10,AN10)","v":0},{"$f":"AO10/(AQ4-AO20)","v":0},{"$f":"IF(AP10=0,0,(AP10*((LOG(AP10))/LOG(2))))","v":0},null,{"$f":"N10","v":1122},{"$f":"COUNTIF(L11:L11,AS10)","v":0},{"$f":"AT10/(AV4-AT20)","v":0},{"$f":"IF(AU10=0,0,(AU10*((LOG(AU10))/LOG(2))))","v":0}]
[21,10919,21,10929,22,10935,23,10940,null,null,0,2222,null,1211,{"$f":"COUNTIF($L$7:$L$500,N11)","v":0},{"$f":"O11/$Q$4","v":0},{"$f":"IF(P11=0,0,(P11*((LOG(P11))/LOG(2))))","v":0},null,null,{"$f":"N11","v":1211},{"$f":"COUNTIF(L7:L7,T11)","v":0},{"$f":"U11/(W4-U20)","v":0},{"$f":"IF(V11=0,0,(V11*((LOG(V11))/LOG(2))))","v":0},null,{"$f":"N11","v":1211},{"$f":"COUNTIF(L8:L8,Y11)","v":0},{"$f":"Z11/(AB4-Z20)","v":0},{"$f":"IF(AA11=0,0,(AA11*((LOG(AA11))/LOG(2))))","v":0},null,{"$f":"N11","v":1211},{"$f":"COUNTIF(L8:L9,AD11)","v":0},{"$f":"AE11/(AG4-AE20)","v":0},{"$f":"IF(AF11=0,0,(AF11*((LOG(AF11))/LOG(2))))","v":0},null,{"$f":"N11","v":1211},{"$f":"COUNTIF(L9:L9,AI11)","v":0},{"$f":"AJ11/(AL4-AJ20)","v":0},{"$f":"IF(AK11=0,0,(AK11*((LOG(AK11))/LOG(2))))","v":0},null,{"$f":"N11","v":1211},{"$f":"COUNTIF(L10:L10,AN11)","v":0},{"$f":"AO11/(AQ4-AO20)","v":0},{"$f":"IF(AP11=0,0,(AP11*((LOG(AP11))/LOG(2))))","v":0},null,{"$f":"N11","v":1211},{"$f":"COUNTIF(L11:L11,AS11)","v":0},{"$f":"AT11/(AV4-AT20)","v":0},{"$f":"IF(AU11=0,0,(AU11*((LOG(AU11))/LOG(2))))","v":0}]
[null,null,null,null,null,null,null,null,null,null,null,null,null,1212,{"$f":"COUNTIF($L$7:$L$500,N12)","v":0},{"$f":"O12/$Q$4","v":0},{"$f":"IF(P12=0,0,(P12*((LOG(P12))/LOG(2))))","v":0},null,null,{"$f":"N12","v":1212},{"$f":"COUNTIF(L7:L7,T12)","v":0},{"$f":"U12/(W4-U20)","v":0},{"$f":"IF(V12=0,0,(V12*((LOG(V12))/LOG(2))))","v":0},null,{"$f":"N12","v":1212},{"$f":"COUNTIF(L8:L8,Y12)","v":0},{"$f":"Z12/(AB4-Z20)","v":0},{"$f":"IF(AA12=0,0,(AA12*((LOG(AA12))/LOG(2))))","v":0},null,{"$f":"N12","v":1212},{"$f":"COUNTIF(L8:L9,AD12)","v":0},{"$f":"AE12/(AG4-AE20)","v":0},{"$f":"IF(AF12=0,0,(AF12*((LOG(AF12))/LOG(2))))","v":0},null,{"$f":"N12","v":1212},{"$f":"COUNTIF(L9:L9,AI12)","v":0},{"$f":"AJ12/(AL4-AJ20)","v":0},{"$f":"IF(AK12=0,0,(AK12*((LOG(AK12))/LOG(2))))","v":0},null,{"$f":"N12","v":1212},{"$f":"COUNTIF(L10:L10,AN12)","v":0},{"$f":"AO12/(AQ4-AO20)","v":0},{"$f":"IF(AP12=0,0,(AP12*((LOG(AP12))/LOG(2))))","v":0},null,{"$f":"N12","v":1212},{"$f":"COUNTIF(L11:L11,AS12)","v":0},{"$f":"AT12/(AV4-AT20)","v":0},{"$f":"IF(AU12=0,0,(AU12*((LOG(AU12))/LOG(2))))","v":0}]
[null,null,null,null,null,null,null,null,null,null,null,null,null,1221,{"$f":"COUNTIF($L$7:$L$500,N13)","v":0},{"$f":"O13/$Q$4","v":0},{"$f":"IF(P13=0,0,(P13*((LOG(P13))/LOG(2))))","v":0},null,null,{"$f":"N13","v":1221},{"$f":"COUNTIF(L7:L7,T13)","v":0},{"$f":"U13/(W4-U20)","v":0},{"$f":"IF(V13=0,0,(V13*((LOG(V13))/LOG(2))))","v":0},null,{"$f":"N13","v":1221},{"$f":"COUNTIF(L8:L8,Y13)","v":0},{"$f":"Z13/(AB4-Z20)","v":0},{"$f":"IF(AA13=0,0,(AA13*((LOG(AA13))/LOG(2))))","v":0},null,{"$f":"N13","v":1221},{"$f":"COUNTIF(L8:L9,AD13)","v":0},{"$f":"AE13/(AG4-AE20)","v":0},{"$f":"IF(AF13=0,0,(AF13*((LOG(AF13))/LOG(2))))","v":0},null,{"$f":"N13","v":1221},{"$f":"COUNTIF(L9:L9,AI13)","v":0},{"$f":"AJ13/(AL4-AJ20)","v":0},{"$f":"IF(AK13=0,0,(AK13*((LOG(AK13))/LOG(2))))","v":0},null,{"$f":"N13","v":1221},{"$f":"COUNTIF(L10:L10,AN13)","v":0},{"$f":"AO13/(AQ4-AO20)","v":0},{"$f":"IF(AP13=0,0,(AP13*((LOG(AP13))/LOG(2))))","v":0},null,{"$f":"N13","v":1221},{"$f":"COUNTIF(L11:L11,AS13)","v":0},{"$f":"AT13/(AV4-AT20)","v":0},{"$f":"IF(AU13=0,0,(AU13*((LOG(AU13))/LOG(2))))","v":0}]
[null,null,null,null,null,null,null,null,null,null,null,null,null,1222,{"$f":"COUNTIF($L$7:$L$500,N14)","v":0},{"$f":"O14/$Q$4","v":0},{"$f":"IF(P14=0,0,(P14*((LOG(P14))/LOG(2))))","v":0},null,null,{"$f":"N14","v":1222},{"$f":"COUNTIF(L7:L7,T14)","v":0},{"$f":"U14/(W4-U20)","v":0},{"$f":"IF(V14=0,0,(V14*((LOG(V14))/LOG(2))))","v":0},null,{"$f":"N14","v":1222},{"$f":"COUNTIF(L8:L8,Y14)","v":0},{"$f":"Z14/(AB4-Z20)","v":0},{"$f":"IF(AA14=0,0,(AA14*((LOG(AA14))/LOG(2))))","v":0},null,{"$f":"N14","v":1222},{"$f":"COUNTIF(L8:L9,AD14)","v":0},{"$f":"AE14/(AG4-AE20)","v":0},{"$f":"IF(AF14=0,0,(AF14*((LOG(AF14))/LOG(2))))","v":0},null,{"$f":"N14","v":1222},{"$f":"COUNTIF(L9:L9,AI14)","v":0},{"$f":"AJ14/(AL4-AJ20)","v":0},{"$f":"IF(AK14=0,0,(AK14*((LOG(AK14))/LOG(2))))","v":0},null,{"$f":"N14","v":1222},{"$f":"COUNTIF(L10:L10,AN14)","v":0},{"$f":"AO14/(AQ4-AO20)","v":0},{"$f":"IF(AP14=0,0,(AP14*((LOG(AP14))/LOG(2))))","v":0},null,{"$f":"N14","v":1222},{"$f":"COUNTIF(L11:L11,AS14)","v":0},{"$f":"AT14/(AV4-AT20)","v":0},{"$f":"IF(AU14=0,0,(AU14*((LOG(AU14))/LOG(2))))","v":0}]
[null,null,null,null,null,null,null,null,null,null,null,null,null,2111,{"$f":"COUNTIF($L$7:$L$500,N15)","v":0},{"$f":"O15/$Q$4","v":0},{"$f":"IF(P15=0,0,(P15*((LOG(P15))/LOG(2))))","v":0},null,null,{"$f":"N15","v":2111},{"$f":"COUNTIF(L7:L7,T15)","v":0},{"$f":"U15/(W4-U20)","v":0},{"$f":"IF(V15=0,0,(V15*((LOG(V15))/LOG(2))))","v":0},null,{"$f":"N15","v":2111},{"$f":"COUNTIF(L8:L8,Y15)","v":0},{"$f":"Z15/(AB4-Z20)","v":0},{"$f":"IF(AA15=0,0,(AA15*((LOG(AA15))/LOG(2))))","v":0},null,{"$f":"N15","v":2111},{"$f":"COUNTIF(L8:L9,AD15)","v":0},{"$f":"AE15/(AG4-AE20)","v":0},{"$f":"IF(AF15=0,0,(AF15*((LOG(AF15))/LOG(2))))","v":0},null,{"$f":"N15","v":2111},{"$f":"COUNTIF(L9:L9,AI15)","v":0},{"$f":"AJ15/(AL4-AJ20)","v":0},{"$f":"IF(AK15=0,0,(AK15*((LOG(AK15))/LOG(2))))","v":0},null,{"$f":"N15","v":2111},{"$f":"COUNTIF(L10:L10,AN15)","v":0},{"$f":"AO15/(AQ4-AO20)","v":0},{"$f":"IF(AP15=0,0,(AP15*((LOG(AP15))/LOG(2))))","v":0},null,{"$f":"N15","v":2111},{"$f":"COUNTIF(L11:L11,AS15)","v":0},{"$f":"AT15/(AV4-AT20)","v":0},{"$f":"IF(AU15=0,0,(AU15*((LOG(AU15))/LOG(2))))","v":0}]
[null,null,null,null,null,null,null,null,null,null,null,null,null,2112,{"$f":"COUNTIF($L$7:$L$500,N16)","v":0},{"$f":"O16/$Q$4","v":0},{"$f":"IF(P16=0,0,(P16*((LOG(P16))/LOG(2))))","v":0},null,null,{"$f":"N16","v":2112},{"$f":"COUNTIF(L7:L7,T16)","v":0},{"$f":"U16/(W4-U20)","v":0},{"$f":"IF(V16=0,0,(V16*((LOG(V16))/LOG(2))))","v":0},null,{"$f":"N16","v":2112},{"$f":"COUNTIF(L8:L8,Y16)","v":0},{"$f":"Z16/(AB4-Z20)","v":0},{"$f":"IF(AA16=0,0,(AA16*((LOG(AA16))/LOG(2))))","v":0},null,{"$f":"N16","v":2112},{"$f":"COUNTIF(L8:L9,AD16)","v":0},{"$f":"AE16/(AG4-AE20)","v":0},{"$f":"IF(AF16=0,0,(AF16*((LOG(AF16))/LOG(2))))","v":0},null,{"$f":"N16","v":2112},{"$f":"COUNTIF(L9:L9,AI16)","v":0},{"$f":"AJ16/(AL4-AJ20)","v":0},{"$f":"IF(AK16=0,0,(AK16*((LOG(AK16))/LOG(2))))","v":0},null,{"$f":"N16","v":2112},{"$f":"COUNTIF(L10:L10,AN16)","v":0},{"$f":"AO16/(AQ4-AO20)","v":0},{"$f":"IF(AP16=0,0,(AP16*((LOG(AP16))/LOG(2))))","v":0},null,{"$f":"N16","v":2112},{"$f":"COUNTIF(L11:L11,AS16)","v":0},{"$f":"AT16/(AV4-AT20)","v":0},{"$f":"IF(AU16=0,0,(AU16*((LOG(AU16))/LOG(2))))","v":0}]
[null,null,null,null,null,null,null,null,null,null,null,null,null,2121,{"$f":"COUNTIF($L$7:$L$500,N17)","v":0},{"$f":"O17/$Q$4","v":0},{"$f":"IF(P17=0,0,(P17*((LOG(P17))/LOG(2))))","v":0},null,null,{"$f":"N17","v":2121},{"$f":"COUNTIF(L7:L7,T17)","v":0},{"$f":"U17/(W4-U20)","v":0},{"$f":"IF(V17=0,0,(V17*((LOG(V17))/LOG(2))))","v":0},null,{"$f":"N17","v":2121},{"$f":"COUNTIF(L8:L8,Y17)","v":0},{"$f":"Z17/(AB4-Z20)","v":0},{"$f":"IF(AA17=0,0,(AA17*((LOG(AA17))/LOG(2))))","v":0},null,{"$f":"N17","v":2121},{"$f":"COUNTIF(L8:L9,AD17)","v":0},{"$f":"AE17/(AG4-AE20)","v":0},{"$f":"IF(AF17=0,0,(AF17*((LOG(AF17))/LOG(2))))","v":0},null,{"$f":"N17","v":2121},{"$f":"COUNTIF(L9:L9,AI17)","v":0},{"$f":"AJ17/(AL4-AJ20)","v":0},{"$f":"IF(AK17=0,0,(AK17*((LOG(AK17))/LOG(2))))","v":0},null,{"$f":"N17","v":2121},{"$f":"COUNTIF(L10:L10,AN17)","v":0},{"$f":"AO17/(AQ4-AO20)","v":0},{"$f":"IF(AP17=0,0,(AP17*((LOG(AP17))/LOG(2))))","v":0},null,{"$f":"N17","v":2121},{"$f":"COUNTIF(L11:L11,AS17)","v":0},{"$f":"AT17/(AV4-AT20)","v":0},{"$f":"IF(AU17=0,0,(AU17*((LOG(AU17))/LOG(2))))","v":0}]
[null,null,null,null,null,null,null,null,null,null,null,null,null,2122,{"$f":"COUNTIF($L$7:$L$500,N18)","v":0},{"$f":"O18/$Q$4","v":0},{"$f":"IF(P18=0,0,(P18*((LOG(P18))/LOG(2))))","v":0},null,null,{"$f":"N18","v":2122},{"$f":"COUNTIF(L7:L7,T18)","v":0},{"$f":"U18/(W4-U20)","v":0},{"$f":"IF(V18=0,0,(V18*((LOG(V18))/LOG(2))))","v":0},null,{"$f":"N18","v":2122},{"$f":"COUNTIF(L8:L8,Y18)","v":0},{"$f":"Z18/(AB4-Z20)","v":0},{"$f":"IF(AA18=0,0,(AA18*((LOG(AA18))/LOG(2))))","v":0},null,{"$f":"N18","v":2122},{"$f":"COUNTIF(L8:L9,AD18)","v":0},{"$f":"AE18/(AG4-AE20)","v":0},{"$f":"IF(AF18=0,0,(AF18*((LOG(AF18))/LOG(2))))","v":0},null,{"$f":"N18","v":2122},{"$f":"COUNTIF(L9:L9,AI18)","v":0},{"$f":"AJ18/(AL4-AJ20)","v":0},{"$f":"IF(AK18=0,0,(AK18*((LOG(AK18))/LOG(2))))","v":0},null,{"$f":"N18","v":2122},{"$f":"COUNTIF(L10:L10,AN18)","v":0},{"$f":"AO18/(AQ4-AO20)","v":0},{"$f":"IF(AP18=0,0,(AP18*((LOG(AP18))/LOG(2))))","v":0},null,{"$f":"N18","v":2122},{"$f":"COUNTIF(L11:L11,AS18)","v":0},{"$f":"AT18/(AV4-AT20)","v":0},{"$f":"IF(AU18=0,0,(AU18*((LOG(AU18))/LOG(2))))","v":0}]
[null,null,null,null,null,null,null,null,null,null,null,null,null,2211,{"$f":"COUNTIF($L$7:$L$500,N19)","v":0},{"$f":"O19/$Q$4","v":0},{"$f":"IF(P19=0,0,(P19*((LOG(P19))/LOG(2))))","v":0},null,null,{"$f":"N19","v":2211},{"$f":"COUNTIF(L7:L7,T19)","v":0},{"$f":"U19/(W4-U20)","v":0},{"$f":"IF(V19=0,0,(V19*((LOG(V19))/LOG(2))))","v":0},null,{"$f":"N19","v":2211},{"$f":"COUNTIF(L8:L8,Y19)","v":0},{"$f":"Z19/(AB4-Z20)","v":0},{"$f":"IF(AA19=0,0,(AA19*((LOG(AA19))/LOG(2))))","v":0},null,{"$f":"N19","v":2211},{"$f":"COUNTIF(L8:L9,AD19)","v":0},{"$f":"AE19/(AG4-AE20)","v":0},{"$f":"IF(AF19=0,0,(AF19*((LOG(AF19))/LOG(2))))","v":0},null,{"$f":"N19","v":2211},{"$f":"COUNTIF(L9:L9,AI19)","v":0},{"$f":"AJ19/(AL4-AJ20)","v":0},{"$f":"IF(AK19=0,0,(AK19*((LOG(AK19))/LOG(2))))","v":0},null,{"$f":"N19","v":2211},{"$f":"COUNTIF(L10:L10,AN19)","v":0},{"$f":"AO19/(AQ4-AO20)","v":0},{"$f":"IF(AP19=0,0,(AP19*((LOG(AP19))/LOG(2))))","v":0},null,{"$f":"N19","v":2211},{"$f":"COUNTIF(L11:L11,AS19)","v":0},{"$f":"AT19/(AV4-AT20)","v":0},{"$f":"IF(AU19=0,0,(AU19*((LOG(AU19))/LOG(2))))","v":0}]
[null,null,null,null,null,null,null,null,null,null,null,null,null,2212,{"$f":"COUNTIF($L$7:$L$500,N20)","v":0},{"$f":"O20/$Q$4","v":0},{"$f":"IF(P20=0,0,(P20*((LOG(P20))/LOG(2))))","v":0},null,null,{"$f":"N20","v":2212},{"$f":"COUNTIF(L7:L7,T20)","v":0},null,null,null,{"$f":"N20","v":2212},{"$f":"COUNTIF(L8:L8,Y20)","v":0},null,null,null,{"$f":"N20","v":2212},{"$f":"COUNTIF(L8:L9,AD20)","v":0},null,null,null,{"$f":"N20","v":2212},{"$f":"COUNTIF(L9:L9,AI20)","v":0},null,null,null,{"$f":"N20","v":2212},{"$f":"COUNTIF(L10:L10,AN20)","v":0},null,null,null,{"$f":"N20","v":2212},{"$f":"COUNTIF(L11:L11,AS20)","v":0}]
[null,null,null,null,null,null,null,null,null,null,null,null,null,2221,{"$f":"COUNTIF($L$7:$L$500,N21)","v":0},{"$f":"O21/$Q$4","v":0},{"$f":"IF(P21=0,0,(P21*((LOG(P21))/LOG(2))))","v":0},null,null,{"$f":"N21","v":2221},{"$f":"COUNTIF(L7:L7,T21)","v":0},{"$f":"U21/(W4-U20)","v":0},{"$f":"IF(V21=0,0,(V21*((LOG(V21))/LOG(2))))","v":0},null,{"$f":"N21","v":2221},{"$f":"COUNTIF(L8:L8,Y21)","v":0},{"$f":"Z21/(AB4-Z20)","v":0},{"$f":"IF(AA21=0,0,(AA21*((LOG(AA21))/LOG(2))))","v":0},null,{"$f":"N21","v":2221},{"$f":"COUNTIF(L8:L9,AD21)","v":0},{"$f":"AE21/(AG4-AE20)","v":0},{"$f":"IF(AF21=0,0,(AF21*((LOG(AF21))/LOG(2))))","v":0},null,{"$f":"N21","v":2221},{"$f":"COUNTIF(L9:L9,AI21)","v":0},{"$f":"AJ21/(AL4-AJ20)","v":0},{"$f":"IF(AK21=0,0,(AK21*((LOG(AK21))/LOG(2))))","v":0},null,{"$f":"N21","v":2221},{"$f":"COUNTIF(L10:L10,AN21)","v":0},{"$f":"AO21/(AQ4-AO20)","v":0},{"$f":"IF(AP21=0,0,(AP21*((LOG(AP21))/LOG(2))))","v":0},null,{"$f":"N21","v":2221},{"$f":"COUNTIF(L11:L11,AS21)","v":0},{"$f":"AT21/(AV4-AT20)","v":0},{"$f":"IF(AU21=0,0,(AU21*((LOG(AU21))/LOG(2))))","v":0}]
[null,null,null,null,null,null,null,null,null,null,null,null,null,2222,{"$f":"COUNTIF($L$7:$L$500,N22)","v":1},{"$f":"O22/$Q$4","v":0.2},{"$f":"IF(P22=0,0,(P22*((LOG(P22))/LOG(2))))","v":-0.46438561897747244},null,null,{"$f":"N22","v":2222},{"$f":"COUNTIF(L7:L7,T22)","v":0},{"$f":"U22/(W4-U20)","v":0},{"$f":"IF(V22=0,0,(V22*((LOG(V22))/LOG(2))))","v":0},null,{"$f":"N22","v":2222},{"$f":"COUNTIF(L8:L8,Y22)","v":0},{"$f":"Z22/(AB4-Z20)","v":0},{"$f":"IF(AA22=0,0,(AA22*((LOG(AA22))/LOG(2))))","v":0},null,{"$f":"N22","v":2222},{"$f":"COUNTIF(L8:L9,AD22)","v":0},{"$f":"AE22/(AG4-AE20)","v":0},{"$f":"IF(AF22=0,0,(AF22*((LOG(AF22))/LOG(2))))","v":0},null,{"$f":"N22","v":2222},{"$f":"COUNTIF(L9:L9,AI22)","v":0},{"$f":"AJ22/(AL4-AJ20)","v":0},{"$f":"IF(AK22=0,0,(AK22*((LOG(AK22))/LOG(2))))","v":0},null,{"$f":"N22","v":2222},{"$f":"COUNTIF(L10:L10,AN22)","v":0},{"$f":"AO22/(AQ4-AO20)","v":0},{"$f":"IF(AP22=0,0,(AP22*((LOG(AP22))/LOG(2))))","v":0},null,{"$f":"N22","v":2222},{"$f":"COUNTIF(L11:L11,AS22)","v":1},{"$f":"AT22/(AV4-AT20)","v":1},{"$f":"IF(AU22=0,0,(AU22*((LOG(AU22))/LOG(2))))","v":0}]
[null,null,null,null,null,null,null,null,null,null,null,null,null,null,null,{"$f":"SUM(P7:P22)","v":1},{"$f":"-SUM(Q7:Q22)","v":0.72192809488736231},null,null,null,null,{"$f":"SUM(V7:V22)","v":1},{"$f":"-SUM(W7:W22)","v":0},null,null,null,{"$f":"SUM(AA7:AA22)","v":1},{"$f":"-SUM(AB7:AB22)","v":0},null,null,null,{"$f":"SUM(AF7:AF22)","v":1},{"$f":"-SUM(AG7:AG22)","v":0},null,null,null,{"$f":"SUM(AK7:AK22)","v":1},{"$f":"-SUM(AL7:AL22)","v":0},null,null,null,{"$f":"SUM(AP7:AP22)","v":1},{"$f":"-SUM(AQ7:AQ22)","v":0},null,null,null,{"$f":"SUM(AU7:AU22)","v":1},{"$f":"-SUM(AV7:AV22)","v":0}]
[null,null,null,null,null,null,null,null,null,null,null,null,null,null,null,"U=",{"$f":"Q23/(LOG(Q4)/LOG(2))","v":0.31091750708257104},null,null,null,null,"U1=",{"$f":"W23/(LOG(W4)/LOG(2))","v":{"$error":"#DIV/0!"}},null,null,null,"U2=",{"$f":"AB23/(LOG(AB4)/LOG(2))","v":{"$error":"#DIV/0!"}},null,null,null,"U3=",{"$f":"AG23/(LOG(AG4)/LOG(2))","v":0},null,null,null,"U4=",{"$f":"AL23/(LOG(AL4)/LOG(2))","v":{"$error":"#DIV/0!"}},null,null,null,"U5=",{"$f":"AQ23/(LOG(AQ4)/LOG(2))","v":{"$error":"#DIV/0!"}},null,null,null,"U6=",{"$f":"AV23/(LOG(AV4)/LOG(2))","v":{"$error":"#DIV/0!"}}]
[]
[]
[null,null,null,null,null,null,null,null,null,null,null,null,null,"Total Target Seq"]
[null,null,null,null,null,null,null,null,null,null,null,null,null,{"$f":"COUNTIF(L7:L11,G3)","v":0},null,1,1,0,1,1,1]
[null,null,null,null,null,null,null,null,null,null,null,null,null,null,null,"% of reinforcement given in 6 equal intervals based on number of trials "]
[null,null,null,null,null,null,null,null,null,null,null,null,null,null,null,"%_1","%_2","%_3","%_4","%_5","%_6"]
[null,null,null,null,null,null,null,null,null,null,null,null,null,null,"target sequence",{"$f":"$G$3","v":2212},{"$f":"$G$3","v":2212},{"$f":"$G$3","v":2212},{"$f":"$G$3","v":2212},{"$f":"$G$3","v":2212},{"$f":"$G$3","v":2212}]
[null,null,null,null,null,null,null,null,null,null,null,null,null,null,"total reinforcement",{"$f":"U20","v":0},{"$f":"Z20","v":0},{"$f":"AE20","v":0},{"$f":"AJ20","v":0},{"$f":"AO20","v":0},{"$f":"AT20","v":0}]
[null,null,null,null,null,null,null,null,null,null,null,null,null,null,"% target"]
[null,null,null,null,null,null,null,null,null,null,null,null,null,null,"CCRF"]
[null,null,null,null,null,null,null,null,null,null,null,null,null,null,"% CCRf"]
[null,null,null,null,null,null,null,null,null,null,null,null,null,null,"average response rate",{"$f":"H7/P28","v":65},{"$f":"(H8-H7)/Q28","v":144},{"$f":"(H8-H8)/R28","v":{"$error":"#DIV/0!"}},{"$f":"(H9-H8)/S28","v":240},{"$f":"(H10-H9)/T28","v":9813},{"$f":"(H11-H10)/U28","v":678}]