{"text_format":"1","workbook":"xlsx","n_sheets":34,"sheets":["Sample Report","Summary","Start","!N328740.000","!N329A50.000","!N330920.000","!N331910.000","!N401A30.000","!N402950.000","!N403930.000","!N404810.096","!N405A20.096","!N406A00.096","!N407B40.096","!N408B00.096","!N409A50.096","!N410A00.096","!N411B20.096","!N412B50.096","!N413A50.096","!N414950.096","!N415B30.096","!N416A00.096","!N417A20.096","!N418C10.096","!N419B40.096","!N420B10.096","!N421D20.096","!N422A30.096","!N423B00.096","!N424A20.096","!N425B00.096","!N426B10.096","!N427B40.096"],"not_rendered":{"charts":0,"images":0,"macros":1,"external_links":0,"defined_names":0,"comments":0,"pivot_tables":0},"unopened":[],"bounds":{"document_bytes":16777216,"sheet_cells":100000,"rows_first":2000,"rows_last":500,"rows_between":2000,"halvings":0,"cell_chars":16384,"cell_head_chars":4096},"cells_cut":0,"cells_raw":0,"read":"whole","date_system":"1900"}

{"sheet":"Sample Report","index":0,"n_rows":12,"n_cols":11,"rows_kept":12,"cut":false,"hidden":true,"merged":[[7,0,7,6]]}
[]
["Date"]
["Hen"]
["Program"]
["Start at 999999"]
["Sequence component 1","Time 1","Seqeunce Component 2","Time 2","Seqeunce Component 3","Time 3","Correct   0 = No 1=Yes",null,null,"Seqeunce","Time"]
[12,7,12,42,13,18,"if 77 new line,                                  if 31 or 41 = yes new line on 77, ",null,null,"=string of Seqeunce compponent 1, 2 & 3","=time 3"]
["This continues until ther is a 1 on its own to indicate start of summary data"]
[null,null,null,null,null,null,null,null,null,"10-19 =1"]
["Summary Data ",null,null,null,null,null,null,null,null,"20-29 =2"]
["Correct","Incorrect","Rft","total","Av Correct","Av Incorrect","Percent correct","Time",null,"in this example the seqeunce would be 111"]
[40,33,40,73,23.95,15,54,806]

{"sheet":"Summary","index":1,"n_rows":33,"n_cols":24,"rows_kept":33,"cut":false,"hidden":false,"merged":[]}
[]
["Day","Date","Average Response Rate","Target %","RF for non correct sequence","U Value",null,null,null,null,"Block 1","Block 2","Block 3","Block 4","Block 5","Block 6"]
[1,{"$f":"'!N328740.000'!B2:C2","v":"<date>"},{"$f":"('!N328740.000'!J180/60)/'!N328740.000'!Q3","v":2.2912835249042147},{"$f":"'!N328740.000'!N44/'!N328740.000'!Q3","v":0},{"$f":"SUM('!N328740.000'!L44:Q44)/'!N328740.000'!Q3","v":64.821839080459768},{"$f":"'!N328740.000'!Q40","v":0.57764294043873787},null,null,null,"Average Response Rate",{"$f":"AVERAGE(C3:C7)","v":2.4282307870715099},{"$f":"AVERAGE(C8:C12)","v":2.4145994172539975},{"$f":"AVERAGE(C13:C17)","v":1.8401366689671037},{"$f":"AVERAGE(C18:C22)","v":2.2776797113071372},{"$f":"AVERAGE(C23:C27)","v":3.0151655259758874},{"$f":"AVERAGE(C28:C32)","v":1.8763226423226125}]
[2,{"$f":"'!N329A50.000'!B2:C2","v":"<date>"},{"$f":"('!N329A50.000'!J177/60)/'!N329A50.000'!Q3","v":2.3280701754385968},{"$f":"'!N329A50.000'!N44/'!N329A50.000'!Q3","v":3.5087719298245612E-2},{"$f":"SUM('!N329A50.000'!L44:Q44)/'!N329A50.000'!Q3","v":65.350877192982452},{"$f":"'!N329A50.000'!Q40","v":0.52957254801328801},null,null,null,"Target %",{"$f":"AVERAGE(D3:D7)","v":1.5408504150516733E-2},{"$f":"AVERAGE(D8:D12)","v":4.912745367073857E-3},{"$f":"AVERAGE(D13:D17)","v":1.2422360248447203E-3},{"$f":"AVERAGE(D18:D22)","v":0},{"$f":"AVERAGE(D23:D27)","v":0},{"$f":"AVERAGE(D28:D32)","v":0}]
[3,{"$f":"'!N330920.000'!B2:C2","v":"<date>"},{"$f":"('!N330920.000'!J151/60)/'!N330920.000'!Q3","v":2.7570114942528736},{"$f":"'!N330920.000'!N44/'!N330920.000'!Q3","v":0},{"$f":"SUM('!N330920.000'!L44:Q44)/'!N330920.000'!Q3","v":152.8206896551724},{"$f":"'!N330920.000'!Q40","v":0.57364204212570757},null,null,null,"CCRF",{"$f":"AVERAGE(E3:E7)","v":96.648962785494788},{"$f":"AVERAGE(E8:E12)","v":132.2742312379286},{"$f":"AVERAGE(E13:E17)","v":117.13881573498966},{"$f":"AVERAGE(E18:E22)","v":77.621072567813542},{"$f":"AVERAGE(E23:E27)","v":145.02050245806748},{"$f":"AVERAGE(E28:E32)","v":65.726443925385553}]
[4,{"$f":"'!N331910.000'!B2:C2","v":"<date>"},{"$f":"('!N331910.000'!J175/60)/'!N331910.000'!Q3","v":2.3594674556213016},{"$f":"'!N331910.000'!N44/'!N331910.000'!Q3","v":1.1834319526627219E-2},{"$f":"SUM('!N331910.000'!L44:Q44)/'!N331910.000'!Q3","v":66.088757396449708},{"$f":"'!N331910.000'!Q40","v":0.57838299207848065},null,null,null,"U Value",{"$f":"AVERAGE(F3:F7)","v":0.56390270993695579},{"$f":"AVERAGE(F8:F12)","v":0.4880890985639823},{"$f":"AVERAGE(F13:F17)","v":0.44281332360133058},{"$f":"AVERAGE(F18:F22)","v":0.44794581051370191},{"$f":"AVERAGE(F23:F27)","v":0.19216429722918602},{"$f":"AVERAGE(F28:F32)","v":0.23784650466583468}]
[5,{"$f":"'!N401A30.000'!B2:C2","v":"<date>"},{"$f":"('!N401A30.000'!J172/60)/'!N401A30.000'!Q3","v":2.4053212851405625},{"$f":"'!N401A30.000'!N44/'!N401A30.000'!Q3","v":3.0120481927710843E-2},{"$f":"SUM('!N401A30.000'!L44:Q44)/'!N401A30.000'!Q3","v":134.16265060240963},{"$f":"'!N401A30.000'!Q40","v":0.56027302702856419}]
[6,{"$f":"'!N402950.000'!B2:C2","v":"<date>"},{"$f":"('!N402950.000'!J168/60)/'!N402950.000'!Q3","v":2.4590534979423868},{"$f":"'!N402950.000'!N44/'!N402950.000'!Q3","v":6.1728395061728392E-3},{"$f":"SUM('!N402950.000'!L44:Q44)/'!N402950.000'!Q3","v":130.71604938271605},{"$f":"'!N402950.000'!Q40","v":0.48267629191532346}]
[7,{"$f":"'!N403930.000'!B2:C2","v":"<date>"},{"$f":"('!N403930.000'!J157/60)/'!N403930.000'!Q3","v":2.6371964679911697},{"$f":"'!N403930.000'!N44/'!N403930.000'!Q3","v":6.6225165562913907E-3},{"$f":"SUM('!N403930.000'!L44:Q44)/'!N403930.000'!Q3","v":147.49668874172184},{"$f":"'!N403930.000'!Q40","v":0.49002003371203429},{"$f":"K3","v":2.4282307870715099},2.4145994172539975,1.8401366689671037,2.2776797113071372,3.0151655259758874,1.8763226423226125,{"$f":"K4","v":1.5408504150516733E-2},4.912745367073857E-3,1.2422360248447203E-3,0,0,0,{"$f":"K6","v":0.56390270993695579},0.4880890985639823,0.44281332360133058,0.44794581051370191,0.19216429722918602,0.23784650466583468]
[8,{"$f":"'!N404810.096'!B2:C2","v":"<date>"},{"$f":"('!N404810.096'!J172/60)/'!N404810.096'!Q3","v":2.3839321357285428},{"$f":"'!N404810.096'!N44/'!N404810.096'!Q3","v":5.9880239520958087E-3},{"$f":"SUM('!N404810.096'!L44:Q44)/'!N404810.096'!Q3","v":132.80239520958085},{"$f":"'!N404810.096'!Q40","v":0.4908622830453061}]
[9,{"$f":"'!N405A20.096'!B2:C2","v":"<date>"},{"$f":"('!N405A20.096'!J178/60)/'!N405A20.096'!Q3","v":2.2998073217726396},{"$f":"'!N405A20.096'!N44/'!N405A20.096'!Q3","v":5.7803468208092483E-3},{"$f":"SUM('!N405A20.096'!L44:Q44)/'!N405A20.096'!Q3","v":122.94797687861272},{"$f":"'!N405A20.096'!Q40","v":0.47898725444175183}]
[10,{"$f":"'!N406A00.096'!B2:C2","v":"<date>"},{"$f":"('!N406A00.096'!J180/60)/'!N406A00.096'!Q3","v":2.2930076628352491},{"$f":"'!N406A00.096'!N44/'!N406A00.096'!Q3","v":0},{"$f":"SUM('!N406A00.096'!L44:Q44)/'!N406A00.096'!Q3","v":127.4080459770115},{"$f":"'!N406A00.096'!Q40","v":0.49789962970549589}]
[11,{"$f":"'!N407B40.096'!B2:C2","v":"<date>"},{"$f":"('!N407B40.096'!J181/60)/'!N407B40.096'!Q3","v":2.2844761904761905},{"$f":"'!N407B40.096'!N44/'!N407B40.096'!Q3","v":0},{"$f":"SUM('!N407B40.096'!L44:Q44)/'!N407B40.096'!Q3","v":69.594285714285718},{"$f":"'!N407B40.096'!Q40","v":0.42538331231137028}]
[12,{"$f":"'!N408B00.096'!B2:C2","v":"<date>"},{"$f":"('!N408B00.096'!J186/60)/'!N408B00.096'!Q3","v":2.2212962962962961},{"$f":"'!N408B00.096'!N44/'!N408B00.096'!Q3","v":0},{"$f":"SUM('!N408B00.096'!L44:Q44)/'!N408B00.096'!Q3","v":123.72777777777777},{"$f":"'!N408B00.096'!Q40","v":0.40809293227489668}]
[13,{"$f":"'!N409A50.096'!B2:C2","v":"<date>"},{"$f":"('!N409A50.096'!J186/60)/'!N409A50.096'!Q3","v":2.2176851851851853},{"$f":"'!N409A50.096'!N44/'!N409A50.096'!Q3","v":0},{"$f":"SUM('!N409A50.096'!L44:Q44)/'!N409A50.096'!Q3","v":123.78333333333333},{"$f":"'!N409A50.096'!Q40","v":0.41647541517185782}]
[14,{"$f":"'!N410A00.096'!B2:C2","v":"<date>"},{"$f":"('!N410A00.096'!J167/60)/'!N410A00.096'!Q3","v":2.4772256728778466},{"$f":"'!N410A00.096'!N44/'!N410A00.096'!Q3","v":6.2111801242236021E-3},{"$f":"SUM('!N410A00.096'!L44:Q44)/'!N410A00.096'!Q3","v":138.36645962732919},{"$f":"'!N410A00.096'!Q40","v":0.47525112023303073}]
[15,{"$f":"'!N411B20.096'!B2:C2","v":"<date>"},{"$f":"('!N411B20.096'!J177/60)/'!N411B20.096'!Q3","v":0},{"$f":"'!N411B20.096'!N44/'!N411B20.096'!Q3","v":0},{"$f":"SUM('!N411B20.096'!L44:Q44)/'!N411B20.096'!Q3","v":130.22222222222223},{"$f":"'!N411B20.096'!Q40","v":0.48886383801549743}]
[16,{"$f":"'!N412B50.096'!B2:C2","v":"<date>"},{"$f":"('!N412B50.096'!J186/60)/'!N412B50.096'!Q3","v":2.221111111111111},{"$f":"'!N412B50.096'!N44/'!N412B50.096'!Q3","v":0},{"$f":"SUM('!N412B50.096'!L44:Q44)/'!N412B50.096'!Q3","v":62.06111111111111},{"$f":"'!N412B50.096'!Q40","v":0.43760698470318321}]
[17,{"$f":"'!N413A50.096'!B2:C2","v":"<date>"},{"$f":"('!N413A50.096'!J181/60)/'!N413A50.096'!Q3","v":2.2778095238095237},{"$f":"'!N413A50.096'!N44/'!N413A50.096'!Q3","v":0},{"$f":"SUM('!N413A50.096'!L44:Q44)/'!N413A50.096'!Q3","v":63.822857142857146},{"$f":"'!N413A50.096'!Q40","v":0.44562470008612132}]
[18,{"$f":"'!N414950.096'!B2:C2","v":"<date>"},{"$f":"('!N414950.096'!J180/60)/'!N414950.096'!Q3","v":2.2761904761904761},{"$f":"'!N414950.096'!N44/'!N414950.096'!Q3","v":0},{"$f":"SUM('!N414950.096'!L44:Q44)/'!N414950.096'!Q3","v":120.96571428571428},{"$f":"'!N414950.096'!Q40","v":0.43760100015254866}]
[19,{"$f":"'!N415B30.096'!B2:C2","v":"<date>"},{"$f":"('!N415B30.096'!J180/60)/'!N415B30.096'!Q3","v":2.2906130268199232},{"$f":"'!N415B30.096'!N44/'!N415B30.096'!Q3","v":0},{"$f":"SUM('!N415B30.096'!L44:Q44)/'!N415B30.096'!Q3","v":70.511494252873561},{"$f":"'!N415B30.096'!Q40","v":0.46073425161087561}]
[20,{"$f":"'!N416A00.096'!B2:C2","v":"<date>"},{"$f":"('!N416A00.096'!J178/60)/'!N416A00.096'!Q3","v":2.3226744186046511},{"$f":"'!N416A00.096'!N44/'!N416A00.096'!Q3","v":0},{"$f":"SUM('!N416A00.096'!L44:Q44)/'!N416A00.096'!Q3","v":70.744186046511629},{"$f":"'!N416A00.096'!Q40","v":0.45816211601578061}]
[21,{"$f":"'!N417A20.096'!B2:C2","v":"<date>"},{"$f":"('!N417A20.096'!J175/60)/'!N417A20.096'!Q3","v":2.3590729783037476},{"$f":"'!N417A20.096'!N44/'!N417A20.096'!Q3","v":0},{"$f":"SUM('!N417A20.096'!L44:Q44)/'!N417A20.096'!Q3","v":72.644970414201183},{"$f":"'!N417A20.096'!Q40","v":0.47116089338803963}]
[22,{"$f":"'!N418C10.096'!B2:C2","v":"<date>"},{"$f":"('!N418C10.096'!J179/60)/'!N418C10.096'!Q3","v":2.2876436781609195},{"$f":"'!N418C10.096'!N44/'!N418C10.096'!Q3","v":0},{"$f":"SUM('!N418C10.096'!L44:Q44)/'!N418C10.096'!Q3","v":70.511494252873561},{"$f":"'!N418C10.096'!Q40","v":0.41497202422689522}]
[23,{"$f":"'!N419B40.096'!B2:C2","v":"<date>"},{"$f":"('!N419B40.096'!J149/60)/'!N419B40.096'!Q3","v":2.7973193473193474},{"$f":"'!N419B40.096'!N44/'!N419B40.096'!Q3","v":0},{"$f":"SUM('!N419B40.096'!L44:Q44)/'!N419B40.096'!Q3","v":155.73426573426573},{"$f":"'!N419B40.096'!Q40","v":8.3971409611513365E-3}]
[24,{"$f":"'!N420B10.096'!B2:C2","v":"<date>"},{"$f":"('!N420B10.096'!J163/60)/'!N420B10.096'!Q3","v":2.5119198312236288},{"$f":"'!N420B10.096'!N44/'!N420B10.096'!Q3","v":0},{"$f":"SUM('!N420B10.096'!L44:Q44)/'!N420B10.096'!Q3","v":140.98101265822785},{"$f":"'!N420B10.096'!Q40","v":7.6251209943658362E-3}]
[25,{"$f":"'!N421D20.096'!B2:C2","v":"<date>"},{"$f":"('!N421D20.096'!J84/60)/'!N421D20.096'!Q3","v":5.1198717948717949},{"$f":"'!N421D20.096'!N44/'!N421D20.096'!Q3","v":0},{"$f":"SUM('!N421D20.096'!L44:Q44)/'!N421D20.096'!Q3","v":285.23076923076923},{"$f":"'!N421D20.096'!Q40","v":5.8666306575478062E-2}]
[26,{"$f":"'!N422A30.096'!B2:C2","v":"<date>"},{"$f":"('!N422A30.096'!J181/60)/'!N422A30.096'!Q3","v":2.2856190476190479},{"$f":"'!N422A30.096'!N44/'!N422A30.096'!Q3","v":0},{"$f":"SUM('!N422A30.096'!L44:Q44)/'!N422A30.096'!Q3","v":64.394285714285715},{"$f":"'!N422A30.096'!Q40","v":0.22066601164969932}]
[27,{"$f":"'!N423B00.096'!B2:C2","v":"<date>"},{"$f":"('!N423B00.096'!J177/60)/'!N423B00.096'!Q3","v":2.3138565891472869},{"$f":"'!N423B00.096'!N44/'!N423B00.096'!Q3","v":0},{"$f":"SUM('!N423B00.096'!L44:Q44)/'!N423B00.096'!Q3","v":65.575581395348834},{"$f":"'!N423B00.096'!Q40","v":0.29874209329620732}]
[28,{"$f":"'!N424A20.096'!B2:C2","v":"<date>"},{"$f":"('!N424A20.096'!J184/60)/'!N424A20.096'!Q3","v":2.2414794007490637},{"$f":"'!N424A20.096'!N44/'!N424A20.096'!Q3","v":0},{"$f":"SUM('!N424A20.096'!L44:Q44)/'!N424A20.096'!Q3","v":63.370786516853933},{"$f":"'!N424A20.096'!Q40","v":0.2126258873466022}]
[29,{"$f":"'!N425B00.096'!B2:C2","v":"<date>"},{"$f":"('!N425B00.096'!J180/60)/'!N425B00.096'!Q3","v":0},{"$f":"'!N425B00.096'!N44/'!N425B00.096'!Q3","v":0},{"$f":"SUM('!N425B00.096'!L44:Q44)/'!N425B00.096'!Q3","v":64.189655172413794},{"$f":"'!N425B00.096'!Q40","v":0.17621273440874594}]
[30,{"$f":"'!N426B10.096'!B2:C2","v":"<date>"},{"$f":"('!N426B10.096'!J163/60)/'!N426B10.096'!Q3","v":2.5406581740976644},{"$f":"'!N426B10.096'!N44/'!N426B10.096'!Q3","v":0},{"$f":"SUM('!N426B10.096'!L44:Q44)/'!N426B10.096'!Q3","v":71.101910828025481},{"$f":"'!N426B10.096'!Q40","v":0.28098579662791867}]
[null,{"$f":"'!N427B40.096'!B2:C2","v":"<date>"},{"$f":"('!N427B40.096'!J136/60)/'!N427B40.096'!Q3","v":3.0502564102564103},{"$f":"'!N427B40.096'!N44/'!N427B40.096'!Q3","v":2.3076923076923078E-2},{"$f":"SUM('!N427B40.096'!L44:Q44)/'!N427B40.096'!Q3","v":162.74615384615385},{"$f":"'!N427B40.096'!Q40","v":0.43777275826963508}]

{"sheet":"Start","index":2,"n_rows":37,"n_cols":10,"rows_kept":37,"cut":false,"hidden":false,"merged":[]}
[null,null,null,null,null,"Use Folder 51",null,"Auto Clean Up",null,"Correct sequence"]
[null,null,null,null,null,false,null,true,null,21121]
[]
["Working with Folder",null,null,null,null,null,"Process All/Or Pick A number: ALL or an integer"]
["E:\\Hen Data\\Raw Data\\96_176\\phase 5 any\\",null,null,null,null,null,"ALL"]
["Filenames:"]
["!N420B10.096",null,null,null,null,null,"Paint Cells"]
["!N421D20.096",null,null,null,null,null,false]
["!N422A30.096"]
["!N423B00.096"]
["!N424A20.096"]
["!N425B00.096"]
["!N426B10.096"]
["!N427B40.096"]
["!N405A20.096"]
["!N406A00.096"]
["!N407B40.096"]
["!N408B00.096"]
["!N409A50.096"]
["!N410A00.096"]
["!N411B20.096"]
["!N412B50.096"]
["!N413A50.096"]
["!N415B30.096"]
["!N416A00.096"]
["!N417A20.096"]
["!N418C10.096"]
["!N419B40.096"]
["!N404810.096"]
["!N414950.096"]
["!N329A50.000"]
["!N328740.000"]
["!N330920.000"]
["!N331910.000"]
["!N401A30.000"]
["!N402950.000"]
["!N403930.000"]

{"sheet":"!N328740.000","index":3,"n_rows":180,"n_cols":48,"rows_kept":180,"cut":false,"hidden":false,"merged":[[4,39,4,42],[5,39,5,40],[4,44,4,47],[5,44,5,45],[4,24,4,27],[5,24,5,25],[4,29,4,32],[5,29,5,30],[4,34,4,37],[5,34,5,35],[1,1,1,2],[5,13,5,14],[42,13,42,14],[43,13,43,14],[4,19,4,22],[5,19,5,20]]}
["Report for:!N328740.000"]
["Date:","<date>"]
["Hen:","<hen>",null,null,null,"Correct Sequence",{"$f":"Start!J2","v":21121},null,null,null,null,null,null,null,null,"Total Sequences in Data",{"$f":"4994-COUNTBLANK(L7:L5000)","v":174},null,null,null,null,"Total Sequences in Block Data",{"$f":"COUNTA(L7:L35)","v":29},null,null,null,"Total Sequences in Block Data",{"$f":"COUNTA(L36:L64)","v":29},null,null,null,"Total Sequences in Block Data",{"$f":"COUNTA(L65:L93)","v":29},null,null,null,"Total Sequences in Block Data",{"$f":"COUNTA(L94:L122)","v":29},null,null,null,"Total Sequences in Block Data",{"$f":"COUNTA(L123:L151)","v":29},null,null,null,"Total Sequences in Block Data",{"$f":"COUNTA(L152:L180)","v":29}]
[null,null,null,null,null,null,null,null,null,null,null,null,null,null,null,"Total Sequences in Summary",{"$f":"SUM(O7:O38)","v":174},null,null,null,null,"Total Sequences in Block Summary",{"$f":"SUM(U7:U38)","v":29},null,null,null,"Total Sequences in Block Summary",{"$f":"SUM(Z7:Z38)","v":29},null,null,null,"Total Sequences in Block Summary",{"$f":"SUM(AE7:AE38)","v":29},null,null,null,"Total Sequences in Block Summary",{"$f":"SUM(AJ7:AJ38)","v":29},null,null,null,"Total Sequences in Block Summary",{"$f":"SUM(AO7:AO38)","v":29},null,null,null,"Total Sequences in Block Summary",{"$f":"SUM(AT7:AT38)","v":29}]
[null,null,null,null,null,null,null,null,null,null,null,null,null,null,null,null,null,null,null,"Block 1",null,null,null,null,"Block 2",null,null,null,null,"Block 3",null,null,null,null,"Block 4",null,null,null,null,"Block 5",null,null,null,null,"Block 6"]
["Sequence\nComponent\n1","Time\n1","Sequence\nComponent\n2","Time\n2","Sequence\nComponent\n3","Time\n3","Sequence\nComponent\n4","Time\n4","Sequence\nComponent\n5","Time\n5","Correct?\n0=No 1=Yes","Sequence",null,"Frequency",null,"Relative Frequency","Variability",null,null,"Frequency",null,"Relative Frequency","Variability",null,"Frequency",null,"Relative Frequency","Variability",null,"Frequency",null,"Relative Frequency","Variability",null,"Frequency",null,"Relative Frequency","Variability",null,"Frequency",null,"Relative Frequency","Variability",null,"Frequency",null,"Relative Frequency","Variability"]
[12,9,24,17,24,28,23,38,24,48,0,12222,null,11111,{"$f":"COUNTIF($L$7:$L$500,N7)","v":14},{"$f":"O7/$Q$4","v":8.0459770114942528E-2},{"$f":"IF(P7=0,0,(P7*((LOG(P7))/LOG(2))))","v":-0.29251862087974562},null,null,{"$f":"N7","v":11111},{"$f":"COUNTIF(L7:L35,T7)","v":0},{"$f":"U7/(W4-U25)","v":0},{"$f":"IF(V7=0,0,(V7*((LOG(V7))/LOG(2))))","v":0},null,{"$f":"N7","v":11111},{"$f":"COUNTIF(L36:L64,Y7)","v":0},{"$f":"Z7/(AB4-Z25)","v":0},{"$f":"IF(AA7=0,0,(AA7*((LOG(AA7))/LOG(2))))","v":0},null,{"$f":"N7","v":11111},{"$f":"COUNTIF(L65:L93,AD7)","v":1},{"$f":"AE7/(AG4-AE25)","v":3.4482758620689655E-2},{"$f":"IF(AF7=0,0,(AF7*((LOG(AF7))/LOG(2))))","v":-0.16751658603888178},null,{"$f":"N7","v":11111},{"$f":"COUNTIF(L94:L122,AI7)","v":10},{"$f":"AJ7/(AL4-AJ25)","v":0.34482758620689657},{"$f":"IF(AK7=0,0,(AK7*((LOG(AK7))/LOG(2))))","v":-0.52967341387593436},null,{"$f":"N7","v":11111},{"$f":"COUNTIF(L123:L151,AN7)","v":1},{"$f":"AO7/(AQ4-AO25)","v":3.4482758620689655E-2},{"$f":"IF(AP7=0,0,(AP7*((LOG(AP7))/LOG(2))))","v":-0.16751658603888178},null,{"$f":"N7","v":11111},{"$f":"COUNTIF(L152:L180,AS7)","v":2},{"$f":"AT7/(AV4-AT25)","v":6.8965517241379309E-2},{"$f":"IF(AU7=0,0,(AU7*((LOG(AU7))/LOG(2))))","v":-0.26606765483638428}]
[12,145,24,153,24,162,23,169,24,177,0,12222,null,11112,{"$f":"COUNTIF($L$7:$L$500,N8)","v":12},{"$f":"O8/$Q$4","v":6.8965517241379309E-2},{"$f":"IF(P8=0,0,(P8*((LOG(P8))/LOG(2))))","v":-0.26606765483638428},null,null,{"$f":"N8","v":11112},{"$f":"COUNTIF(L7:L35,T8)","v":0},{"$f":"U8/(W4-U25)","v":0},{"$f":"IF(V8=0,0,(V8*((LOG(V8))/LOG(2))))","v":0},null,{"$f":"N8","v":11112},{"$f":"COUNTIF(L36:L64,Y8)","v":0},{"$f":"Z8/(AB4-Z25)","v":0},{"$f":"IF(AA8=0,0,(AA8*((LOG(AA8))/LOG(2))))","v":0},null,{"$f":"N8","v":11112},{"$f":"COUNTIF(L65:L93,AD8)","v":9},{"$f":"AE8/(AG4-AE25)","v":0.31034482758620691},{"$f":"IF(AF8=0,0,(AF8*((LOG(AF8))/LOG(2))))","v":-0.52387944631611505},null,{"$f":"N8","v":11112},{"$f":"COUNTIF(L94:L122,AI8)","v":3},{"$f":"AJ8/(AL4-AJ25)","v":0.10344827586206896},{"$f":"IF(AK8=0,0,(AK8*((LOG(AK8))/LOG(2))))","v":-0.33858812011100858},null,{"$f":"N8","v":11112},{"$f":"COUNTIF(L123:L151,AN8)","v":0},{"$f":"AO8/(AQ4-AO25)","v":0},{"$f":"IF(AP8=0,0,(AP8*((LOG(AP8))/LOG(2))))","v":0},null,{"$f":"N8","v":11112},{"$f":"COUNTIF(L152:L180,AS8)","v":0},{"$f":"AT8/(AV4-AT25)","v":0},{"$f":"IF(AU8=0,0,(AU8*((LOG(AU8))/LOG(2))))","v":0}]
[12,275,24,283,24,295,23,303,13,312,0,12221,null,11121,{"$f":"COUNTIF($L$7:$L$500,N9)","v":6},{"$f":"O9/$Q$4","v":3.4482758620689655E-2},{"$f":"IF(P9=0,0,(P9*((LOG(P9))/LOG(2))))","v":-0.16751658603888178},null,null,{"$f":"N9","v":11121},{"$f":"COUNTIF(L7:L35,T9)","v":0},{"$f":"U9/(W4-U25)","v":0},{"$f":"IF(V9=0,0,(V9*((LOG(V9))/LOG(2))))","v":0},null,{"$f":"N9","v":11121},{"$f":"COUNTIF(L36:L64,Y9)","v":3},{"$f":"Z9/(AB4-Z25)","v":0.10344827586206896},{"$f":"IF(AA9=0,0,(AA9*((LOG(AA9))/LOG(2))))","v":-0.33858812011100858},null,{"$f":"N9","v":11121},{"$f":"COUNTIF(L65:L93,AD9)","v":1},{"$f":"AE9/(AG4-AE25)","v":3.4482758620689655E-2},{"$f":"IF(AF9=0,0,(AF9*((LOG(AF9))/LOG(2))))","v":-0.16751658603888178},null,{"$f":"N9","v":11121},{"$f":"COUNTIF(L94:L122,AI9)","v":1},{"$f":"AJ9/(AL4-AJ25)","v":3.4482758620689655E-2},{"$f":"IF(AK9=0,0,(AK9*((LOG(AK9))/LOG(2))))","v":-0.16751658603888178},null,{"$f":"N9","v":11121},{"$f":"COUNTIF(L123:L151,AN9)","v":1},{"$f":"AO9/(AQ4-AO25)","v":3.4482758620689655E-2},{"$f":"IF(AP9=0,0,(AP9*((LOG(AP9))/LOG(2))))","v":-0.16751658603888178},null,{"$f":"N9","v":11121},{"$f":"COUNTIF(L152:L180,AS9)","v":0},{"$f":"AT9/(AV4-AT25)","v":0},{"$f":"IF(AU9=0,0,(AU9*((LOG(AU9))/LOG(2))))","v":0}]
[12,409,24,417,24,426,14,441,13,450,0,12211,null,11122,{"$f":"COUNTIF($L$7:$L$500,N10)","v":26},{"$f":"O10/$Q$4","v":0.14942528735632185},{"$f":"IF(P10=0,0,(P10*((LOG(P10))/LOG(2))))","v":-0.40979941505976175},null,null,{"$f":"N10","v":11122},{"$f":"COUNTIF(L7:L35,T10)","v":1},{"$f":"U10/(W4-U25)","v":3.4482758620689655E-2},{"$f":"IF(V10=0,0,(V10*((LOG(V10))/LOG(2))))","v":-0.16751658603888178},null,{"$f":"N10","v":11122},{"$f":"COUNTIF(L36:L64,Y10)","v":9},{"$f":"Z10/(AB4-Z25)","v":0.31034482758620691},{"$f":"IF(AA10=0,0,(AA10*((LOG(AA10))/LOG(2))))","v":-0.52387944631611505},null,{"$f":"N10","v":11122},{"$f":"COUNTIF(L65:L93,AD10)","v":14},{"$f":"AE10/(AG4-AE25)","v":0.48275862068965519},{"$f":"IF(AF10=0,0,(AF10*((LOG(AF10))/LOG(2))))","v":-0.50719879389584666},null,{"$f":"N10","v":11122},{"$f":"COUNTIF(L94:L122,AI10)","v":1},{"$f":"AJ10/(AL4-AJ25)","v":3.4482758620689655E-2},{"$f":"IF(AK10=0,0,(AK10*((LOG(AK10))/LOG(2))))","v":-0.16751658603888178},null,{"$f":"N10","v":11122},{"$f":"COUNTIF(L123:L151,AN10)","v":1},{"$f":"AO10/(AQ4-AO25)","v":3.4482758620689655E-2},{"$f":"IF(AP10=0,0,(AP10*((LOG(AP10))/LOG(2))))","v":-0.16751658603888178},null,{"$f":"N10","v":11122},{"$f":"COUNTIF(L152:L180,AS10)","v":0},{"$f":"AT10/(AV4-AT25)","v":0},{"$f":"IF(AU10=0,0,(AU10*((LOG(AU10))/LOG(2))))","v":0}]
[12,547,24,555,24,562,14,575,24,587,1,12212,null,11211,{"$f":"COUNTIF($L$7:$L$500,N11)","v":1},{"$f":"O11/$Q$4","v":5.7471264367816091E-3},{"$f":"IF(P11=0,0,(P11*((LOG(P11))/LOG(2))))","v":-4.2775537332463962E-2},null,null,{"$f":"N11","v":11211},{"$f":"COUNTIF(L7:L35,T11)","v":0},{"$f":"U11/(W4-U25)","v":0},{"$f":"IF(V11=0,0,(V11*((LOG(V11))/LOG(2))))","v":0},null,{"$f":"N11","v":11211},{"$f":"COUNTIF(L36:L64,Y11)","v":0},{"$f":"Z11/(AB4-Z25)","v":0},{"$f":"IF(AA11=0,0,(AA11*((LOG(AA11))/LOG(2))))","v":0},null,{"$f":"N11","v":11211},{"$f":"COUNTIF(L65:L93,AD11)","v":0},{"$f":"AE11/(AG4-AE25)","v":0},{"$f":"IF(AF11=0,0,(AF11*((LOG(AF11))/LOG(2))))","v":0},null,{"$f":"N11","v":11211},{"$f":"COUNTIF(L94:L122,AI11)","v":1},{"$f":"AJ11/(AL4-AJ25)","v":3.4482758620689655E-2},{"$f":"IF(AK11=0,0,(AK11*((LOG(AK11))/LOG(2))))","v":-0.16751658603888178},null,{"$f":"N11","v":11211},{"$f":"COUNTIF(L123:L151,AN11)","v":0},{"$f":"AO11/(AQ4-AO25)","v":0},{"$f":"IF(AP11=0,0,(AP11*((LOG(AP11))/LOG(2))))","v":0},null,{"$f":"N11","v":11211},{"$f":"COUNTIF(L152:L180,AS11)","v":0},{"$f":"AT11/(AV4-AT25)","v":0},{"$f":"IF(AU11=0,0,(AU11*((LOG(AU11))/LOG(2))))","v":0}]
[12,681,24,690,24,702,14,710,13,718,0,12211,null,11212,{"$f":"COUNTIF($L$7:$L$500,N12)","v":9},{"$f":"O12/$Q$4","v":5.1724137931034482E-2},{"$f":"IF(P12=0,0,(P12*((LOG(P12))/LOG(2))))","v":-0.22101819798653879},null,null,{"$f":"N12","v":11212},{"$f":"COUNTIF(L7:L35,T12)","v":5},{"$f":"U12/(W4-U25)","v":0.17241379310344829},{"$f":"IF(V12=0,0,(V12*((LOG(V12))/LOG(2))))","v":-0.43725050004141547},null,{"$f":"N12","v":11212},{"$f":"COUNTIF(L36:L64,Y12)","v":4},{"$f":"Z12/(AB4-Z25)","v":0.13793103448275862},{"$f":"IF(AA12=0,0,(AA12*((LOG(AA12))/LOG(2))))","v":-0.39420427519000989},null,{"$f":"N12","v":11212},{"$f":"COUNTIF(L65:L93,AD12)","v":0},{"$f":"AE12/(AG4-AE25)","v":0},{"$f":"IF(AF12=0,0,(AF12*((LOG(AF12))/LOG(2))))","v":0},null,{"$f":"N12","v":11212},{"$f":"COUNTIF(L94:L122,AI12)","v":0},{"$f":"AJ12/(AL4-AJ25)","v":0},{"$f":"IF(AK12=0,0,(AK12*((LOG(AK12))/LOG(2))))","v":0},null,{"$f":"N12","v":11212},{"$f":"COUNTIF(L123:L151,AN12)","v":0},{"$f":"AO12/(AQ4-AO25)","v":0},{"$f":"IF(AP12=0,0,(AP12*((LOG(AP12))/LOG(2))))","v":0},null,{"$f":"N12","v":11212},{"$f":"COUNTIF(L152:L180,AS12)","v":0},{"$f":"AT12/(AV4-AT25)","v":0},{"$f":"IF(AU12=0,0,(AU12*((LOG(AU12))/LOG(2))))","v":0}]
[12,814,24,824,24,835,14,845,24,856,0,12212,null,11221,{"$f":"COUNTIF($L$7:$L$500,N13)","v":20},{"$f":"O13/$Q$4","v":0.11494252873563218},{"$f":"IF(P13=0,0,(P13*((LOG(P13))/LOG(2))))","v":-0.35873740240935242},null,null,{"$f":"N13","v":11221},{"$f":"COUNTIF(L7:L35,T13)","v":6},{"$f":"U13/(W4-U25)","v":0.20689655172413793},{"$f":"IF(V13=0,0,(V13*((LOG(V13))/LOG(2))))","v":-0.4702796884978791},null,{"$f":"N13","v":11221},{"$f":"COUNTIF(L36:L64,Y13)","v":11},{"$f":"Z13/(AB4-Z25)","v":0.37931034482758619},{"$f":"IF(AA13=0,0,(AA13*((LOG(AA13))/LOG(2))))","v":-0.53048424625493174},null,{"$f":"N13","v":11221},{"$f":"COUNTIF(L65:L93,AD13)","v":1},{"$f":"AE13/(AG4-AE25)","v":3.4482758620689655E-2},{"$f":"IF(AF13=0,0,(AF13*((LOG(AF13))/LOG(2))))","v":-0.16751658603888178},null,{"$f":"N13","v":11221},{"$f":"COUNTIF(L94:L122,AI13)","v":2},{"$f":"AJ13/(AL4-AJ25)","v":6.8965517241379309E-2},{"$f":"IF(AK13=0,0,(AK13*((LOG(AK13))/LOG(2))))","v":-0.26606765483638428},null,{"$f":"N13","v":11221},{"$f":"COUNTIF(L123:L151,AN13)","v":0},{"$f":"AO13/(AQ4-AO25)","v":0},{"$f":"IF(AP13=0,0,(AP13*((LOG(AP13))/LOG(2))))","v":0},null,{"$f":"N13","v":11221},{"$f":"COUNTIF(L152:L180,AS13)","v":0},{"$f":"AT13/(AV4-AT25)","v":0},{"$f":"IF(AU13=0,0,(AU13*((LOG(AU13))/LOG(2))))","v":0}]
[12,954,24,963,24,970,23,978,13,995,0,12221,null,11222,{"$f":"COUNTIF($L$7:$L$500,N14)","v":7},{"$f":"O14/$Q$4","v":4.0229885057471264E-2},{"$f":"IF(P14=0,0,(P14*((LOG(P14))/LOG(2))))","v":-0.18648919549734408},null,null,{"$f":"N14","v":11222},{"$f":"COUNTIF(L7:L35,T14)","v":3},{"$f":"U14/(W4-U25)","v":0.10344827586206896},{"$f":"IF(V14=0,0,(V14*((LOG(V14))/LOG(2))))","v":-0.33858812011100858},null,{"$f":"N14","v":11222},{"$f":"COUNTIF(L36:L64,Y14)","v":1},{"$f":"Z14/(AB4-Z25)","v":3.4482758620689655E-2},{"$f":"IF(AA14=0,0,(AA14*((LOG(AA14))/LOG(2))))","v":-0.16751658603888178},null,{"$f":"N14","v":11222},{"$f":"COUNTIF(L65:L93,AD14)","v":1},{"$f":"AE14/(AG4-AE25)","v":3.4482758620689655E-2},{"$f":"IF(AF14=0,0,(AF14*((LOG(AF14))/LOG(2))))","v":-0.16751658603888178},null,{"$f":"N14","v":11222},{"$f":"COUNTIF(L94:L122,AI14)","v":2},{"$f":"AJ14/(AL4-AJ25)","v":6.8965517241379309E-2},{"$f":"IF(AK14=0,0,(AK14*((LOG(AK14))/LOG(2))))","v":-0.26606765483638428},null,{"$f":"N14","v":11222},{"$f":"COUNTIF(L123:L151,AN14)","v":0},{"$f":"AO14/(AQ4-AO25)","v":0},{"$f":"IF(AP14=0,0,(AP14*((LOG(AP14))/LOG(2))))","v":0},null,{"$f":"N14","v":11222},{"$f":"COUNTIF(L152:L180,AS14)","v":0},{"$f":"AT14/(AV4-AT25)","v":0},{"$f":"IF(AU14=0,0,(AU14*((LOG(AU14))/LOG(2))))","v":0}]
[12,1093,24,1102,13,1112,23,1124,24,1132,0,12122,null,12111,{"$f":"COUNTIF($L$7:$L$500,N15)","v":2},{"$f":"O15/$Q$4","v":1.1494252873563218E-2},{"$f":"IF(P15=0,0,(P15*((LOG(P15))/LOG(2))))","v":-7.4056821791364691E-2},null,null,{"$f":"N15","v":12111},{"$f":"COUNTIF(L7:L35,T15)","v":1},{"$f":"U15/(W4-U25)","v":3.4482758620689655E-2},{"$f":"IF(V15=0,0,(V15*((LOG(V15))/LOG(2))))","v":-0.16751658603888178},null,{"$f":"N15","v":12111},{"$f":"COUNTIF(L36:L64,Y15)","v":0},{"$f":"Z15/(AB4-Z25)","v":0},{"$f":"IF(AA15=0,0,(AA15*((LOG(AA15))/LOG(2))))","v":0},null,{"$f":"N15","v":12111},{"$f":"COUNTIF(L65:L93,AD15)","v":0},{"$f":"AE15/(AG4-AE25)","v":0},{"$f":"IF(AF15=0,0,(AF15*((LOG(AF15))/LOG(2))))","v":0},null,{"$f":"N15","v":12111},{"$f":"COUNTIF(L94:L122,AI15)","v":0},{"$f":"AJ15/(AL4-AJ25)","v":0},{"$f":"IF(AK15=0,0,(AK15*((LOG(AK15))/LOG(2))))","v":0},null,{"$f":"N15","v":12111},{"$f":"COUNTIF(L123:L151,AN15)","v":1},{"$f":"AO15/(AQ4-AO25)","v":3.4482758620689655E-2},{"$f":"IF(AP15=0,0,(AP15*((LOG(AP15))/LOG(2))))","v":-0.16751658603888178},null,{"$f":"N15","v":12111},{"$f":"COUNTIF(L152:L180,AS15)","v":0},{"$f":"AT15/(AV4-AT25)","v":0},{"$f":"IF(AU15=0,0,(AU15*((LOG(AU15))/LOG(2))))","v":0}]
[12,1230,24,1238,13,1247,23,1255,24,1267,0,12122,null,12112,{"$f":"COUNTIF($L$7:$L$500,N16)","v":0},{"$f":"O16/$Q$4","v":0},{"$f":"IF(P16=0,0,(P16*((LOG(P16))/LOG(2))))","v":0},null,null,{"$f":"N16","v":12112},{"$f":"COUNTIF(L7:L35,T16)","v":0},{"$f":"U16/(W4-U25)","v":0},{"$f":"IF(V16=0,0,(V16*((LOG(V16))/LOG(2))))","v":0},null,{"$f":"N16","v":12112},{"$f":"COUNTIF(L36:L64,Y16)","v":0},{"$f":"Z16/(AB4-Z25)","v":0},{"$f":"IF(AA16=0,0,(AA16*((LOG(AA16))/LOG(2))))","v":0},null,{"$f":"N16","v":12112},{"$f":"COUNTIF(L65:L93,AD16)","v":0},{"$f":"AE16/(AG4-AE25)","v":0},{"$f":"IF(AF16=0,0,(AF16*((LOG(AF16))/LOG(2))))","v":0},null,{"$f":"N16","v":12112},{"$f":"COUNTIF(L94:L122,AI16)","v":0},{"$f":"AJ16/(AL4-AJ25)","v":0},{"$f":"IF(AK16=0,0,(AK16*((LOG(AK16))/LOG(2))))","v":0},null,{"$f":"N16","v":12112},{"$f":"COUNTIF(L123:L151,AN16)","v":0},{"$f":"AO16/(AQ4-AO25)","v":0},{"$f":"IF(AP16=0,0,(AP16*((LOG(AP16))/LOG(2))))","v":0},null,{"$f":"N16","v":12112},{"$f":"COUNTIF(L152:L180,AS16)","v":0},{"$f":"AT16/(AV4-AT25)","v":0},{"$f":"IF(AU16=0,0,(AU16*((LOG(AU16))/LOG(2))))","v":0}]
[12,1364,24,1374,24,1380,14,1388,24,1396,1,12212,null,12121,{"$f":"COUNTIF($L$7:$L$500,N17)","v":2},{"$f":"O17/$Q$4","v":1.1494252873563218E-2},{"$f":"IF(P17=0,0,(P17*((LOG(P17))/LOG(2))))","v":-7.4056821791364691E-2},null,null,{"$f":"N17","v":12121},{"$f":"COUNTIF(L7:L35,T17)","v":0},{"$f":"U17/(W4-U25)","v":0},{"$f":"IF(V17=0,0,(V17*((LOG(V17))/LOG(2))))","v":0},null,{"$f":"N17","v":12121},{"$f":"COUNTIF(L36:L64,Y17)","v":0},{"$f":"Z17/(AB4-Z25)","v":0},{"$f":"IF(AA17=0,0,(AA17*((LOG(AA17))/LOG(2))))","v":0},null,{"$f":"N17","v":12121},{"$f":"COUNTIF(L65:L93,AD17)","v":0},{"$f":"AE17/(AG4-AE25)","v":0},{"$f":"IF(AF17=0,0,(AF17*((LOG(AF17))/LOG(2))))","v":0},null,{"$f":"N17","v":12121},{"$f":"COUNTIF(L94:L122,AI17)","v":0},{"$f":"AJ17/(AL4-AJ25)","v":0},{"$f":"IF(AK17=0,0,(AK17*((LOG(AK17))/LOG(2))))","v":0},null,{"$f":"N17","v":12121},{"$f":"COUNTIF(L123:L151,AN17)","v":0},{"$f":"AO17/(AQ4-AO25)","v":0},{"$f":"IF(AP17=0,0,(AP17*((LOG(AP17))/LOG(2))))","v":0},null,{"$f":"N17","v":12121},{"$f":"COUNTIF(L152:L180,AS17)","v":2},{"$f":"AT17/(AV4-AT25)","v":6.8965517241379309E-2},{"$f":"IF(AU17=0,0,(AU17*((LOG(AU17))/LOG(2))))","v":-0.26606765483638428}]
[12,1492,24,1501,13,1510,14,1536,13,1568,0,12111,null,12122,{"$f":"COUNTIF($L$7:$L$500,N18)","v":4},{"$f":"O18/$Q$4","v":2.2988505747126436E-2},{"$f":"IF(P18=0,0,(P18*((LOG(P18))/LOG(2))))","v":-0.12512513783560297},null,null,{"$f":"N18","v":12122},{"$f":"COUNTIF(L7:L35,T18)","v":3},{"$f":"U18/(W4-U25)","v":0.10344827586206896},{"$f":"IF(V18=0,0,(V18*((LOG(V18))/LOG(2))))","v":-0.33858812011100858},null,{"$f":"N18","v":12122},{"$f":"COUNTIF(L36:L64,Y18)","v":0},{"$f":"Z18/(AB4-Z25)","v":0},{"$f":"IF(AA18=0,0,(AA18*((LOG(AA18))/LOG(2))))","v":0},null,{"$f":"N18","v":12122},{"$f":"COUNTIF(L65:L93,AD18)","v":0},{"$f":"AE18/(AG4-AE25)","v":0},{"$f":"IF(AF18=0,0,(AF18*((LOG(AF18))/LOG(2))))","v":0},null,{"$f":"N18","v":12122},{"$f":"COUNTIF(L94:L122,AI18)","v":0},{"$f":"AJ18/(AL4-AJ25)","v":0},{"$f":"IF(AK18=0,0,(AK18*((LOG(AK18))/LOG(2))))","v":0},null,{"$f":"N18","v":12122},{"$f":"COUNTIF(L123:L151,AN18)","v":0},{"$f":"AO18/(AQ4-AO25)","v":0},{"$f":"IF(AP18=0,0,(AP18*((LOG(AP18))/LOG(2))))","v":0},null,{"$f":"N18","v":12122},{"$f":"COUNTIF(L152:L180,AS18)","v":1},{"$f":"AT18/(AV4-AT25)","v":3.4482758620689655E-2},{"$f":"IF(AU18=0,0,(AU18*((LOG(AU18))/LOG(2))))","v":-0.16751658603888178}]
[12,1664,13,1681,24,1689,14,1700,24,1708,1,11212,null,12211,{"$f":"COUNTIF($L$7:$L$500,N19)","v":2},{"$f":"O19/$Q$4","v":1.1494252873563218E-2},{"$f":"IF(P19=0,0,(P19*((LOG(P19))/LOG(2))))","v":-7.4056821791364691E-2},null,null,{"$f":"N19","v":12211},{"$f":"COUNTIF(L7:L35,T19)","v":2},{"$f":"U19/(W4-U25)","v":6.8965517241379309E-2},{"$f":"IF(V19=0,0,(V19*((LOG(V19))/LOG(2))))","v":-0.26606765483638428},null,{"$f":"N19","v":12211},{"$f":"COUNTIF(L36:L64,Y19)","v":0},{"$f":"Z19/(AB4-Z25)","v":0},{"$f":"IF(AA19=0,0,(AA19*((LOG(AA19))/LOG(2))))","v":0},null,{"$f":"N19","v":12211},{"$f":"COUNTIF(L65:L93,AD19)","v":0},{"$f":"AE19/(AG4-AE25)","v":0},{"$f":"IF(AF19=0,0,(AF19*((LOG(AF19))/LOG(2))))","v":0},null,{"$f":"N19","v":12211},{"$f":"COUNTIF(L94:L122,AI19)","v":0},{"$f":"AJ19/(AL4-AJ25)","v":0},{"$f":"IF(AK19=0,0,(AK19*((LOG(AK19))/LOG(2))))","v":0},null,{"$f":"N19","v":12211},{"$f":"COUNTIF(L123:L151,AN19)","v":0},{"$f":"AO19/(AQ4-AO25)","v":0},{"$f":"IF(AP19=0,0,(AP19*((LOG(AP19))/LOG(2))))","v":0},null,{"$f":"N19","v":12211},{"$f":"COUNTIF(L152:L180,AS19)","v":0},{"$f":"AT19/(AV4-AT25)","v":0},{"$f":"IF(AU19=0,0,(AU19*((LOG(AU19))/LOG(2))))","v":0}]
[12,1802,24,1810,24,1816,14,1824,24,1836,0,12212,null,12212,{"$f":"COUNTIF($L$7:$L$500,N20)","v":6},{"$f":"O20/$Q$4","v":3.4482758620689655E-2},{"$f":"IF(P20=0,0,(P20*((LOG(P20))/LOG(2))))","v":-0.16751658603888178},null,null,{"$f":"N20","v":12212},{"$f":"COUNTIF(L7:L35,T20)","v":4},{"$f":"U20/(W4-U25)","v":0.13793103448275862},{"$f":"IF(V20=0,0,(V20*((LOG(V20))/LOG(2))))","v":-0.39420427519000989},null,{"$f":"N20","v":12212},{"$f":"COUNTIF(L36:L64,Y20)","v":1},{"$f":"Z20/(AB4-Z25)","v":3.4482758620689655E-2},{"$f":"IF(AA20=0,0,(AA20*((LOG(AA20))/LOG(2))))","v":-0.16751658603888178},null,{"$f":"N20","v":12212},{"$f":"COUNTIF(L65:L93,AD20)","v":0},{"$f":"AE20/(AG4-AE25)","v":0},{"$f":"IF(AF20=0,0,(AF20*((LOG(AF20))/LOG(2))))","v":0},null,{"$f":"N20","v":12212},{"$f":"COUNTIF(L94:L122,AI20)","v":0},{"$f":"AJ20/(AL4-AJ25)","v":0},{"$f":"IF(AK20=0,0,(AK20*((LOG(AK20))/LOG(2))))","v":0},null,{"$f":"N20","v":12212},{"$f":"COUNTIF(L123:L151,AN20)","v":1},{"$f":"AO20/(AQ4-AO25)","v":3.4482758620689655E-2},{"$f":"IF(AP20=0,0,(AP20*((LOG(AP20))/LOG(2))))","v":-0.16751658603888178},null,{"$f":"N20","v":12212},{"$f":"COUNTIF(L152:L180,AS20)","v":0},{"$f":"AT20/(AV4-AT25)","v":0},{"$f":"IF(AU20=0,0,(AU20*((LOG(AU20))/LOG(2))))","v":0}]
[12,1936,13,1946,24,1954,14,1962,24,1970,0,11212,null,12221,{"$f":"COUNTIF($L$7:$L$500,N21)","v":3},{"$f":"O21/$Q$4","v":1.7241379310344827E-2},{"$f":"IF(P21=0,0,(P21*((LOG(P21))/LOG(2))))","v":-0.10099967232978573},null,null,{"$f":"N21","v":12221},{"$f":"COUNTIF(L7:L35,T21)","v":2},{"$f":"U21/(W4-U25)","v":6.8965517241379309E-2},{"$f":"IF(V21=0,0,(V21*((LOG(V21))/LOG(2))))","v":-0.26606765483638428},null,{"$f":"N21","v":12221},{"$f":"COUNTIF(L36:L64,Y21)","v":0},{"$f":"Z21/(AB4-Z25)","v":0},{"$f":"IF(AA21=0,0,(AA21*((LOG(AA21))/LOG(2))))","v":0},null,{"$f":"N21","v":12221},{"$f":"COUNTIF(L65:L93,AD21)","v":0},{"$f":"AE21/(AG4-AE25)","v":0},{"$f":"IF(AF21=0,0,(AF21*((LOG(AF21))/LOG(2))))","v":0},null,{"$f":"N21","v":12221},{"$f":"COUNTIF(L94:L122,AI21)","v":0},{"$f":"AJ21/(AL4-AJ25)","v":0},{"$f":"IF(AK21=0,0,(AK21*((LOG(AK21))/LOG(2))))","v":0},null,{"$f":"N21","v":12221},{"$f":"COUNTIF(L123:L151,AN21)","v":0},{"$f":"AO21/(AQ4-AO25)","v":0},{"$f":"IF(AP21=0,0,(AP21*((LOG(AP21))/LOG(2))))","v":0},null,{"$f":"N21","v":12221},{"$f":"COUNTIF(L152:L180,AS21)","v":1},{"$f":"AT21/(AV4-AT25)","v":3.4482758620689655E-2},{"$f":"IF(AU21=0,0,(AU21*((LOG(AU21))/LOG(2))))","v":-0.16751658603888178}]
[12,2069,24,2079,13,2088,23,2096,24,2105,1,12122,null,12222,{"$f":"COUNTIF($L$7:$L$500,N22)","v":2},{"$f":"O22/$Q$4","v":1.1494252873563218E-2},{"$f":"IF(P22=0,0,(P22*((LOG(P22))/LOG(2))))","v":-7.4056821791364691E-2},null,null,{"$f":"N22","v":12222},{"$f":"COUNTIF(L7:L35,T22)","v":2},{"$f":"U22/(W4-U25)","v":6.8965517241379309E-2},{"$f":"IF(V22=0,0,(V22*((LOG(V22))/LOG(2))))","v":-0.26606765483638428},null,{"$f":"N22","v":12222},{"$f":"COUNTIF(L36:L64,Y22)","v":0},{"$f":"Z22/(AB4-Z25)","v":0},{"$f":"IF(AA22=0,0,(AA22*((LOG(AA22))/LOG(2))))","v":0},null,{"$f":"N22","v":12222},{"$f":"COUNTIF(L65:L93,AD22)","v":0},{"$f":"AE22/(AG4-AE25)","v":0},{"$f":"IF(AF22=0,0,(AF22*((LOG(AF22))/LOG(2))))","v":0},null,{"$f":"N22","v":12222},{"$f":"COUNTIF(L94:L122,AI22)","v":0},{"$f":"AJ22/(AL4-AJ25)","v":0},{"$f":"IF(AK22=0,0,(AK22*((LOG(AK22))/LOG(2))))","v":0},null,{"$f":"N22","v":12222},{"$f":"COUNTIF(L123:L151,AN22)","v":0},{"$f":"AO22/(AQ4-AO25)","v":0},{"$f":"IF(AP22=0,0,(AP22*((LOG(AP22))/LOG(2))))","v":0},null,{"$f":"N22","v":12222},{"$f":"COUNTIF(L152:L180,AS22)","v":0},{"$f":"AT22/(AV4-AT25)","v":0},{"$f":"IF(AU22=0,0,(AU22*((LOG(AU22))/LOG(2))))","v":0}]
[12,2197,13,2211,24,2219,23,2226,13,2237,0,11221,null,21111,{"$f":"COUNTIF($L$7:$L$500,N23)","v":6},{"$f":"O23/$Q$4","v":3.4482758620689655E-2},{"$f":"IF(P23=0,0,(P23*((LOG(P23))/LOG(2))))","v":-0.16751658603888178},null,null,{"$f":"N23","v":21111},{"$f":"COUNTIF(L7:L35,T23)","v":0},{"$f":"U23/(W4-U25)","v":0},{"$f":"IF(V23=0,0,(V23*((LOG(V23))/LOG(2))))","v":0},null,{"$f":"N23","v":21111},{"$f":"COUNTIF(L36:L64,Y23)","v":0},{"$f":"Z23/(AB4-Z25)","v":0},{"$f":"IF(AA23=0,0,(AA23*((LOG(AA23))/LOG(2))))","v":0},null,{"$f":"N23","v":21111},{"$f":"COUNTIF(L65:L93,AD23)","v":0},{"$f":"AE23/(AG4-AE25)","v":0},{"$f":"IF(AF23=0,0,(AF23*((LOG(AF23))/LOG(2))))","v":0},null,{"$f":"N23","v":21111},{"$f":"COUNTIF(L94:L122,AI23)","v":3},{"$f":"AJ23/(AL4-AJ25)","v":0.10344827586206896},{"$f":"IF(AK23=0,0,(AK23*((LOG(AK23))/LOG(2))))","v":-0.33858812011100858},null,{"$f":"N23","v":21111},{"$f":"COUNTIF(L123:L151,AN23)","v":3},{"$f":"AO23/(AQ4-AO25)","v":0.10344827586206896},{"$f":"IF(AP23=0,0,(AP23*((LOG(AP23))/LOG(2))))","v":-0.33858812011100858},null,{"$f":"N23","v":21111},{"$f":"COUNTIF(L152:L180,AS23)","v":0},{"$f":"AT23/(AV4-AT25)","v":0},{"$f":"IF(AU23=0,0,(AU23*((LOG(AU23))/LOG(2))))","v":0}]
[12,2333,13,2341,24,2350,14,2358,24,2367,0,11212,null,21112,{"$f":"COUNTIF($L$7:$L$500,N24)","v":3},{"$f":"O24/$Q$4","v":1.7241379310344827E-2},{"$f":"IF(P24=0,0,(P24*((LOG(P24))/LOG(2))))","v":-0.10099967232978573},null,null,{"$f":"N24","v":21112},{"$f":"COUNTIF(L7:L35,T24)","v":0},{"$f":"U24/(W4-U25)","v":0},{"$f":"IF(V24=0,0,(V24*((LOG(V24))/LOG(2))))","v":0},null,{"$f":"N24","v":21112},{"$f":"COUNTIF(L36:L64,Y24)","v":0},{"$f":"Z24/(AB4-Z25)","v":0},{"$f":"IF(AA24=0,0,(AA24*((LOG(AA24))/LOG(2))))","v":0},null,{"$f":"N24","v":21112},{"$f":"COUNTIF(L65:L93,AD24)","v":0},{"$f":"AE24/(AG4-AE25)","v":0},{"$f":"IF(AF24=0,0,(AF24*((LOG(AF24))/LOG(2))))","v":0},null,{"$f":"N24","v":21112},{"$f":"COUNTIF(L94:L122,AI24)","v":2},{"$f":"AJ24/(AL4-AJ25)","v":6.8965517241379309E-2},{"$f":"IF(AK24=0,0,(AK24*((LOG(AK24))/LOG(2))))","v":-0.26606765483638428},null,{"$f":"N24","v":21112},{"$f":"COUNTIF(L123:L151,AN24)","v":1},{"$f":"AO24/(AQ4-AO25)","v":3.4482758620689655E-2},{"$f":"IF(AP24=0,0,(AP24*((LOG(AP24))/LOG(2))))","v":-0.16751658603888178},null,{"$f":"N24","v":21112},{"$f":"COUNTIF(L152:L180,AS24)","v":0},{"$f":"AT24/(AV4-AT25)","v":0},{"$f":"IF(AU24=0,0,(AU24*((LOG(AU24))/LOG(2))))","v":0}]
[12,2465,13,2475,24,2488,14,2498,24,2505,0,11212,null,21121,{"$f":"COUNTIF($L$7:$L$500,N25)","v":0},{"$f":"O25/$Q$4","v":0},{"$f":"IF(P25=0,0,(P25*((LOG(P25))/LOG(2))))","v":0},null,null,{"$f":"N25","v":21121},{"$f":"COUNTIF(L7:L35,T25)","v":0},null,null,null,{"$f":"N25","v":21121},{"$f":"COUNTIF(L36:L64,Y25)","v":0},null,null,null,{"$f":"N25","v":21121},{"$f":"COUNTIF(L65:L93,AD25)","v":0},null,null,null,{"$f":"N25","v":21121},{"$f":"COUNTIF(L94:L122,AI25)","v":0},null,null,null,{"$f":"N25","v":21121},{"$f":"COUNTIF(L123:L151,AN25)","v":0},null,null,null,{"$f":"N25","v":21121},{"$f":"COUNTIF(L152:L180,AS25)","v":0}]
[12,2603,13,2612,24,2620,23,2627,24,2634,1,11222,null,21122,{"$f":"COUNTIF($L$7:$L$500,N26)","v":3},{"$f":"O26/$Q$4","v":1.7241379310344827E-2},{"$f":"IF(P26=0,0,(P26*((LOG(P26))/LOG(2))))","v":-0.10099967232978573},null,null,{"$f":"N26","v":21122},{"$f":"COUNTIF(L7:L35,T26)","v":0},{"$f":"U26/(W4-U25)","v":0},{"$f":"IF(V26=0,0,(V26*((LOG(V26))/LOG(2))))","v":0},null,{"$f":"N26","v":21122},{"$f":"COUNTIF(L36:L64,Y26)","v":0},{"$f":"Z26/(AB4-Z25)","v":0},{"$f":"IF(AA26=0,0,(AA26*((LOG(AA26))/LOG(2))))","v":0},null,{"$f":"N26","v":21122},{"$f":"COUNTIF(L65:L93,AD26)","v":1},{"$f":"AE26/(AG4-AE25)","v":3.4482758620689655E-2},{"$f":"IF(AF26=0,0,(AF26*((LOG(AF26))/LOG(2))))","v":-0.16751658603888178},null,{"$f":"N26","v":21122},{"$f":"COUNTIF(L94:L122,AI26)","v":1},{"$f":"AJ26/(AL4-AJ25)","v":3.4482758620689655E-2},{"$f":"IF(AK26=0,0,(AK26*((LOG(AK26))/LOG(2))))","v":-0.16751658603888178},null,{"$f":"N26","v":21122},{"$f":"COUNTIF(L123:L151,AN26)","v":0},{"$f":"AO26/(AQ4-AO25)","v":0},{"$f":"IF(AP26=0,0,(AP26*((LOG(AP26))/LOG(2))))","v":0},null,{"$f":"N26","v":21122},{"$f":"COUNTIF(L152:L180,AS26)","v":1},{"$f":"AT26/(AV4-AT25)","v":3.4482758620689655E-2},{"$f":"IF(AU26=0,0,(AU26*((LOG(AU26))/LOG(2))))","v":-0.16751658603888178}]
[12,2727,13,2732,13,2744,23,2752,24,2759,0,11122,null,21211,{"$f":"COUNTIF($L$7:$L$500,N27)","v":2},{"$f":"O27/$Q$4","v":1.1494252873563218E-2},{"$f":"IF(P27=0,0,(P27*((LOG(P27))/LOG(2))))","v":-7.4056821791364691E-2},null,null,{"$f":"N27","v":21211},{"$f":"COUNTIF(L7:L35,T27)","v":0},{"$f":"U27/(W4-U25)","v":0},{"$f":"IF(V27=0,0,(V27*((LOG(V27))/LOG(2))))","v":0},null,{"$f":"N27","v":21211},{"$f":"COUNTIF(L36:L64,Y27)","v":0},{"$f":"Z27/(AB4-Z25)","v":0},{"$f":"IF(AA27=0,0,(AA27*((LOG(AA27))/LOG(2))))","v":0},null,{"$f":"N27","v":21211},{"$f":"COUNTIF(L65:L93,AD27)","v":0},{"$f":"AE27/(AG4-AE25)","v":0},{"$f":"IF(AF27=0,0,(AF27*((LOG(AF27))/LOG(2))))","v":0},null,{"$f":"N27","v":21211},{"$f":"COUNTIF(L94:L122,AI27)","v":1},{"$f":"AJ27/(AL4-AJ25)","v":3.4482758620689655E-2},{"$f":"IF(AK27=0,0,(AK27*((LOG(AK27))/LOG(2))))","v":-0.16751658603888178},null,{"$f":"N27","v":21211},{"$f":"COUNTIF(L123:L151,AN27)","v":0},{"$f":"AO27/(AQ4-AO25)","v":0},{"$f":"IF(AP27=0,0,(AP27*((LOG(AP27))/LOG(2))))","v":0},null,{"$f":"N27","v":21211},{"$f":"COUNTIF(L152:L180,AS27)","v":1},{"$f":"AT27/(AV4-AT25)","v":3.4482758620689655E-2},{"$f":"IF(AU27=0,0,(AU27*((LOG(AU27))/LOG(2))))","v":-0.16751658603888178}]
[12,2859,13,2866,24,2874,23,2880,13,2888,0,11221,null,21212,{"$f":"COUNTIF($L$7:$L$500,N28)","v":12},{"$f":"O28/$Q$4","v":6.8965517241379309E-2},{"$f":"IF(P28=0,0,(P28*((LOG(P28))/LOG(2))))","v":-0.26606765483638428},null,null,{"$f":"N28","v":21212},{"$f":"COUNTIF(L7:L35,T28)","v":0},{"$f":"U28/(W4-U25)","v":0},{"$f":"IF(V28=0,0,(V28*((LOG(V28))/LOG(2))))","v":0},null,{"$f":"N28","v":21212},{"$f":"COUNTIF(L36:L64,Y28)","v":0},{"$f":"Z28/(AB4-Z25)","v":0},{"$f":"IF(AA28=0,0,(AA28*((LOG(AA28))/LOG(2))))","v":0},null,{"$f":"N28","v":21212},{"$f":"COUNTIF(L65:L93,AD28)","v":0},{"$f":"AE28/(AG4-AE25)","v":0},{"$f":"IF(AF28=0,0,(AF28*((LOG(AF28))/LOG(2))))","v":0},null,{"$f":"N28","v":21212},{"$f":"COUNTIF(L94:L122,AI28)","v":0},{"$f":"AJ28/(AL4-AJ25)","v":0},{"$f":"IF(AK28=0,0,(AK28*((LOG(AK28))/LOG(2))))","v":0},null,{"$f":"N28","v":21212},{"$f":"COUNTIF(L123:L151,AN28)","v":5},{"$f":"AO28/(AQ4-AO25)","v":0.17241379310344829},{"$f":"IF(AP28=0,0,(AP28*((LOG(AP28))/LOG(2))))","v":-0.43725050004141547},null,{"$f":"N28","v":21212},{"$f":"COUNTIF(L152:L180,AS28)","v":7},{"$f":"AT28/(AV4-AT25)","v":0.2413793103448276},{"$f":"IF(AU28=0,0,(AU28*((LOG(AU28))/LOG(2))))","v":-0.49497870729275095}]
[12,2988,13,2996,24,3005,23,3012,13,3022,0,11221,null,21221,{"$f":"COUNTIF($L$7:$L$500,N29)","v":8},{"$f":"O29/$Q$4","v":4.5977011494252873E-2},{"$f":"IF(P29=0,0,(P29*((LOG(P29))/LOG(2))))","v":-0.20427326417695305},null,null,{"$f":"N29","v":21221},{"$f":"COUNTIF(L7:L35,T29)","v":0},{"$f":"U29/(W4-U25)","v":0},{"$f":"IF(V29=0,0,(V29*((LOG(V29))/LOG(2))))","v":0},null,{"$f":"N29","v":21221},{"$f":"COUNTIF(L36:L64,Y29)","v":0},{"$f":"Z29/(AB4-Z25)","v":0},{"$f":"IF(AA29=0,0,(AA29*((LOG(AA29))/LOG(2))))","v":0},null,{"$f":"N29","v":21221},{"$f":"COUNTIF(L65:L93,AD29)","v":0},{"$f":"AE29/(AG4-AE25)","v":0},{"$f":"IF(AF29=0,0,(AF29*((LOG(AF29))/LOG(2))))","v":0},null,{"$f":"N29","v":21221},{"$f":"COUNTIF(L94:L122,AI29)","v":1},{"$f":"AJ29/(AL4-AJ25)","v":3.4482758620689655E-2},{"$f":"IF(AK29=0,0,(AK29*((LOG(AK29))/LOG(2))))","v":-0.16751658603888178},null,{"$f":"N29","v":21221},{"$f":"COUNTIF(L123:L151,AN29)","v":2},{"$f":"AO29/(AQ4-AO25)","v":6.8965517241379309E-2},{"$f":"IF(AP29=0,0,(AP29*((LOG(AP29))/LOG(2))))","v":-0.26606765483638428},null,{"$f":"N29","v":21221},{"$f":"COUNTIF(L152:L180,AS29)","v":5},{"$f":"AT29/(AV4-AT25)","v":0.17241379310344829},{"$f":"IF(AU29=0,0,(AU29*((LOG(AU29))/LOG(2))))","v":-0.43725050004141547}]
[12,3123,13,3132,24,3141,23,3151,24,3159,0,11222,null,21222,{"$f":"COUNTIF($L$7:$L$500,N30)","v":5},{"$f":"O30/$Q$4","v":2.8735632183908046E-2},{"$f":"IF(P30=0,0,(P30*((LOG(P30))/LOG(2))))","v":-0.1471556149701542},null,null,{"$f":"N30","v":21222},{"$f":"COUNTIF(L7:L35,T30)","v":0},{"$f":"U30/(W4-U25)","v":0},{"$f":"IF(V30=0,0,(V30*((LOG(V30))/LOG(2))))","v":0},null,{"$f":"N30","v":21222},{"$f":"COUNTIF(L36:L64,Y30)","v":0},{"$f":"Z30/(AB4-Z25)","v":0},{"$f":"IF(AA30=0,0,(AA30*((LOG(AA30))/LOG(2))))","v":0},null,{"$f":"N30","v":21222},{"$f":"COUNTIF(L65:L93,AD30)","v":0},{"$f":"AE30/(AG4-AE25)","v":0},{"$f":"IF(AF30=0,0,(AF30*((LOG(AF30))/LOG(2))))","v":0},null,{"$f":"N30","v":21222},{"$f":"COUNTIF(L94:L122,AI30)","v":0},{"$f":"AJ30/(AL4-AJ25)","v":0},{"$f":"IF(AK30=0,0,(AK30*((LOG(AK30))/LOG(2))))","v":0},null,{"$f":"N30","v":21222},{"$f":"COUNTIF(L123:L151,AN30)","v":3},{"$f":"AO30/(AQ4-AO25)","v":0.10344827586206896},{"$f":"IF(AP30=0,0,(AP30*((LOG(AP30))/LOG(2))))","v":-0.33858812011100858},null,{"$f":"N30","v":21222},{"$f":"COUNTIF(L152:L180,AS30)","v":2},{"$f":"AT30/(AV4-AT25)","v":6.8965517241379309E-2},{"$f":"IF(AU30=0,0,(AU30*((LOG(AU30))/LOG(2))))","v":-0.26606765483638428}]
[12,3258,13,3266,24,3274,23,3280,13,3289,1,11221,null,22111,{"$f":"COUNTIF($L$7:$L$500,N31)","v":3},{"$f":"O31/$Q$4","v":1.7241379310344827E-2},{"$f":"IF(P31=0,0,(P31*((LOG(P31))/LOG(2))))","v":-0.10099967232978573},null,null,{"$f":"N31","v":22111},{"$f":"COUNTIF(L7:L35,T31)","v":0},{"$f":"U31/(W4-U25)","v":0},{"$f":"IF(V31=0,0,(V31*((LOG(V31))/LOG(2))))","v":0},null,{"$f":"N31","v":22111},{"$f":"COUNTIF(L36:L64,Y31)","v":0},{"$f":"Z31/(AB4-Z25)","v":0},{"$f":"IF(AA31=0,0,(AA31*((LOG(AA31))/LOG(2))))","v":0},null,{"$f":"N31","v":22111},{"$f":"COUNTIF(L65:L93,AD31)","v":0},{"$f":"AE31/(AG4-AE25)","v":0},{"$f":"IF(AF31=0,0,(AF31*((LOG(AF31))/LOG(2))))","v":0},null,{"$f":"N31","v":22111},{"$f":"COUNTIF(L94:L122,AI31)","v":1},{"$f":"AJ31/(AL4-AJ25)","v":3.4482758620689655E-2},{"$f":"IF(AK31=0,0,(AK31*((LOG(AK31))/LOG(2))))","v":-0.16751658603888178},null,{"$f":"N31","v":22111},{"$f":"COUNTIF(L123:L151,AN31)","v":2},{"$f":"AO31/(AQ4-AO25)","v":6.8965517241379309E-2},{"$f":"IF(AP31=0,0,(AP31*((LOG(AP31))/LOG(2))))","v":-0.26606765483638428},null,{"$f":"N31","v":22111},{"$f":"COUNTIF(L152:L180,AS31)","v":0},{"$f":"AT31/(AV4-AT25)","v":0},{"$f":"IF(AU31=0,0,(AU31*((LOG(AU31))/LOG(2))))","v":0}]
[12,3382,13,3390,24,3400,23,3405,13,3413,1,11221,null,22112,{"$f":"COUNTIF($L$7:$L$500,N32)","v":2},{"$f":"O32/$Q$4","v":1.1494252873563218E-2},{"$f":"IF(P32=0,0,(P32*((LOG(P32))/LOG(2))))","v":-7.4056821791364691E-2},null,null,{"$f":"N32","v":22112},{"$f":"COUNTIF(L7:L35,T32)","v":0},{"$f":"U32/(W4-U25)","v":0},{"$f":"IF(V32=0,0,(V32*((LOG(V32))/LOG(2))))","v":0},null,{"$f":"N32","v":22112},{"$f":"COUNTIF(L36:L64,Y32)","v":0},{"$f":"Z32/(AB4-Z25)","v":0},{"$f":"IF(AA32=0,0,(AA32*((LOG(AA32))/LOG(2))))","v":0},null,{"$f":"N32","v":22112},{"$f":"COUNTIF(L65:L93,AD32)","v":1},{"$f":"AE32/(AG4-AE25)","v":3.4482758620689655E-2},{"$f":"IF(AF32=0,0,(AF32*((LOG(AF32))/LOG(2))))","v":-0.16751658603888178},null,{"$f":"N32","v":22112},{"$f":"COUNTIF(L94:L122,AI32)","v":0},{"$f":"AJ32/(AL4-AJ25)","v":0},{"$f":"IF(AK32=0,0,(AK32*((LOG(AK32))/LOG(2))))","v":0},null,{"$f":"N32","v":22112},{"$f":"COUNTIF(L123:L151,AN32)","v":1},{"$f":"AO32/(AQ4-AO25)","v":3.4482758620689655E-2},{"$f":"IF(AP32=0,0,(AP32*((LOG(AP32))/LOG(2))))","v":-0.16751658603888178},null,{"$f":"N32","v":22112},{"$f":"COUNTIF(L152:L180,AS32)","v":0},{"$f":"AT32/(AV4-AT25)","v":0},{"$f":"IF(AU32=0,0,(AU32*((LOG(AU32))/LOG(2))))","v":0}]
[12,3505,13,3513,24,3525,14,3533,24,3542,0,11212,null,22121,{"$f":"COUNTIF($L$7:$L$500,N33)","v":7},{"$f":"O33/$Q$4","v":4.0229885057471264E-2},{"$f":"IF(P33=0,0,(P33*((LOG(P33))/LOG(2))))","v":-0.18648919549734408},null,null,{"$f":"N33","v":22121},{"$f":"COUNTIF(L7:L35,T33)","v":0},{"$f":"U33/(W4-U25)","v":0},{"$f":"IF(V33=0,0,(V33*((LOG(V33))/LOG(2))))","v":0},null,{"$f":"N33","v":22121},{"$f":"COUNTIF(L36:L64,Y33)","v":0},{"$f":"Z33/(AB4-Z25)","v":0},{"$f":"IF(AA33=0,0,(AA33*((LOG(AA33))/LOG(2))))","v":0},null,{"$f":"N33","v":22121},{"$f":"COUNTIF(L65:L93,AD33)","v":0},{"$f":"AE33/(AG4-AE25)","v":0},{"$f":"IF(AF33=0,0,(AF33*((LOG(AF33))/LOG(2))))","v":0},null,{"$f":"N33","v":22121},{"$f":"COUNTIF(L94:L122,AI33)","v":0},{"$f":"AJ33/(AL4-AJ25)","v":0},{"$f":"IF(AK33=0,0,(AK33*((LOG(AK33))/LOG(2))))","v":0},null,{"$f":"N33","v":22121},{"$f":"COUNTIF(L123:L151,AN33)","v":2},{"$f":"AO33/(AQ4-AO25)","v":6.8965517241379309E-2},{"$f":"IF(AP33=0,0,(AP33*((LOG(AP33))/LOG(2))))","v":-0.26606765483638428},null,{"$f":"N33","v":22121},{"$f":"COUNTIF(L152:L180,AS33)","v":5},{"$f":"AT33/(AV4-AT25)","v":0.17241379310344829},{"$f":"IF(AU33=0,0,(AU33*((LOG(AU33))/LOG(2))))","v":-0.43725050004141547}]
[12,3640,13,3647,24,3655,23,3663,13,3671,0,11221,null,22122,{"$f":"COUNTIF($L$7:$L$500,N34)","v":4},{"$f":"O34/$Q$4","v":2.2988505747126436E-2},{"$f":"IF(P34=0,0,(P34*((LOG(P34))/LOG(2))))","v":-0.12512513783560297},null,null,{"$f":"N34","v":22122},{"$f":"COUNTIF(L7:L35,T34)","v":0},{"$f":"U34/(W4-U25)","v":0},{"$f":"IF(V34=0,0,(V34*((LOG(V34))/LOG(2))))","v":0},null,{"$f":"N34","v":22122},{"$f":"COUNTIF(L36:L64,Y34)","v":0},{"$f":"Z34/(AB4-Z25)","v":0},{"$f":"IF(AA34=0,0,(AA34*((LOG(AA34))/LOG(2))))","v":0},null,{"$f":"N34","v":22122},{"$f":"COUNTIF(L65:L93,AD34)","v":0},{"$f":"AE34/(AG4-AE25)","v":0},{"$f":"IF(AF34=0,0,(AF34*((LOG(AF34))/LOG(2))))","v":0},null,{"$f":"N34","v":22122},{"$f":"COUNTIF(L94:L122,AI34)","v":0},{"$f":"AJ34/(AL4-AJ25)","v":0},{"$f":"IF(AK34=0,0,(AK34*((LOG(AK34))/LOG(2))))","v":0},null,{"$f":"N34","v":22122},{"$f":"COUNTIF(L123:L151,AN34)","v":4},{"$f":"AO34/(AQ4-AO25)","v":0.13793103448275862},{"$f":"IF(AP34=0,0,(AP34*((LOG(AP34))/LOG(2))))","v":-0.39420427519000989},null,{"$f":"N34","v":22122},{"$f":"COUNTIF(L152:L180,AS34)","v":0},{"$f":"AT34/(AV4-AT25)","v":0},{"$f":"IF(AU34=0,0,(AU34*((LOG(AU34))/LOG(2))))","v":0}]
[12,3773,13,3782,24,3790,23,3797,24,3803,0,11222,null,22211,{"$f":"COUNTIF($L$7:$L$500,N35)","v":0},{"$f":"O35/$Q$4","v":0},{"$f":"IF(P35=0,0,(P35*((LOG(P35))/LOG(2))))","v":0},null,null,{"$f":"N35","v":22211},{"$f":"COUNTIF(L7:L35,T35)","v":0},{"$f":"U35/(W4-U25)","v":0},{"$f":"IF(V35=0,0,(V35*((LOG(V35))/LOG(2))))","v":0},null,{"$f":"N35","v":22211},{"$f":"COUNTIF(L36:L64,Y35)","v":0},{"$f":"Z35/(AB4-Z25)","v":0},{"$f":"IF(AA35=0,0,(AA35*((LOG(AA35))/LOG(2))))","v":0},null,{"$f":"N35","v":22211},{"$f":"COUNTIF(L65:L93,AD35)","v":0},{"$f":"AE35/(AG4-AE25)","v":0},{"$f":"IF(AF35=0,0,(AF35*((LOG(AF35))/LOG(2))))","v":0},null,{"$f":"N35","v":22211},{"$f":"COUNTIF(L94:L122,AI35)","v":0},{"$f":"AJ35/(AL4-AJ25)","v":0},{"$f":"IF(AK35=0,0,(AK35*((LOG(AK35))/LOG(2))))","v":0},null,{"$f":"N35","v":22211},{"$f":"COUNTIF(L123:L151,AN35)","v":0},{"$f":"AO35/(AQ4-AO25)","v":0},{"$f":"IF(AP35=0,0,(AP35*((LOG(AP35))/LOG(2))))","v":0},null,{"$f":"N35","v":22211},{"$f":"COUNTIF(L152:L180,AS35)","v":0},{"$f":"AT35/(AV4-AT25)","v":0},{"$f":"IF(AU35=0,0,(AU35*((LOG(AU35))/LOG(2))))","v":0}]
[12,3901,13,3909,24,3917,23,3926,13,3935,0,11221,null,22212,{"$f":"COUNTIF($L$7:$L$500,N36)","v":2},{"$f":"O36/$Q$4","v":1.1494252873563218E-2},{"$f":"IF(P36=0,0,(P36*((LOG(P36))/LOG(2))))","v":-7.4056821791364691E-2},null,null,{"$f":"N36","v":22212},{"$f":"COUNTIF(L7:L35,T36)","v":0},{"$f":"U36/(W4-U25)","v":0},{"$f":"IF(V36=0,0,(V36*((LOG(V36))/LOG(2))))","v":0},null,{"$f":"N36","v":22212},{"$f":"COUNTIF(L36:L64,Y36)","v":0},{"$f":"Z36/(AB4-Z25)","v":0},{"$f":"IF(AA36=0,0,(AA36*((LOG(AA36))/LOG(2))))","v":0},null,{"$f":"N36","v":22212},{"$f":"COUNTIF(L65:L93,AD36)","v":0},{"$f":"AE36/(AG4-AE25)","v":0},{"$f":"IF(AF36=0,0,(AF36*((LOG(AF36))/LOG(2))))","v":0},null,{"$f":"N36","v":22212},{"$f":"COUNTIF(L94:L122,AI36)","v":0},{"$f":"AJ36/(AL4-AJ25)","v":0},{"$f":"IF(AK36=0,0,(AK36*((LOG(AK36))/LOG(2))))","v":0},null,{"$f":"N36","v":22212},{"$f":"COUNTIF(L123:L151,AN36)","v":0},{"$f":"AO36/(AQ4-AO25)","v":0},{"$f":"IF(AP36=0,0,(AP36*((LOG(AP36))/LOG(2))))","v":0},null,{"$f":"N36","v":22212},{"$f":"COUNTIF(L152:L180,AS36)","v":2},{"$f":"AT36/(AV4-AT25)","v":6.8965517241379309E-2},{"$f":"IF(AU36=0,0,(AU36*((LOG(AU36))/LOG(2))))","v":-0.26606765483638428}]
[12,4037,13,4046,24,4054,23,4060,13,4070,0,11221,null,22221,{"$f":"COUNTIF($L$7:$L$500,N37)","v":1},{"$f":"O37/$Q$4","v":5.7471264367816091E-3},{"$f":"IF(P37=0,0,(P37*((LOG(P37))/LOG(2))))","v":-4.2775537332463962E-2},null,null,{"$f":"N37","v":22221},{"$f":"COUNTIF(L7:L35,T37)","v":0},{"$f":"U37/(W4-U25)","v":0},{"$f":"IF(V37=0,0,(V37*((LOG(V37))/LOG(2))))","v":0},null,{"$f":"N37","v":22221},{"$f":"COUNTIF(L36:L64,Y37)","v":0},{"$f":"Z37/(AB4-Z25)","v":0},{"$f":"IF(AA37=0,0,(AA37*((LOG(AA37))/LOG(2))))","v":0},null,{"$f":"N37","v":22221},{"$f":"COUNTIF(L65:L93,AD37)","v":0},{"$f":"AE37/(AG4-AE25)","v":0},{"$f":"IF(AF37=0,0,(AF37*((LOG(AF37))/LOG(2))))","v":0},null,{"$f":"N37","v":22221},{"$f":"COUNTIF(L94:L122,AI37)","v":0},{"$f":"AJ37/(AL4-AJ25)","v":0},{"$f":"IF(AK37=0,0,(AK37*((LOG(AK37))/LOG(2))))","v":0},null,{"$f":"N37","v":22221},{"$f":"COUNTIF(L123:L151,AN37)","v":1},{"$f":"AO37/(AQ4-AO25)","v":3.4482758620689655E-2},{"$f":"IF(AP37=0,0,(AP37*((LOG(AP37))/LOG(2))))","v":-0.16751658603888178},null,{"$f":"N37","v":22221},{"$f":"COUNTIF(L152:L180,AS37)","v":0},{"$f":"AT37/(AV4-AT25)","v":0},{"$f":"IF(AU37=0,0,(AU37*((LOG(AU37))/LOG(2))))","v":0}]
[12,4170,13,4177,24,4185,23,4191,13,4201,0,11221,null,22222,{"$f":"COUNTIF($L$7:$L$500,N38)","v":0},{"$f":"O38/$Q$4","v":0},{"$f":"IF(P38=0,0,(P38*((LOG(P38))/LOG(2))))","v":0},null,null,{"$f":"N38","v":22222},{"$f":"COUNTIF(L7:L35,T38)","v":0},{"$f":"U38/(W4-U25)","v":0},{"$f":"IF(V38=0,0,(V38*((LOG(V38))/LOG(2))))","v":0},null,{"$f":"N38","v":22222},{"$f":"COUNTIF(L36:L64,Y38)","v":0},{"$f":"Z38/(AB4-Z25)","v":0},{"$f":"IF(AA38=0,0,(AA38*((LOG(AA38))/LOG(2))))","v":0},null,{"$f":"N38","v":22222},{"$f":"COUNTIF(L65:L93,AD38)","v":0},{"$f":"AE38/(AG4-AE25)","v":0},{"$f":"IF(AF38=0,0,(AF38*((LOG(AF38))/LOG(2))))","v":0},null,{"$f":"N38","v":22222},{"$f":"COUNTIF(L94:L122,AI38)","v":0},{"$f":"AJ38/(AL4-AJ25)","v":0},{"$f":"IF(AK38=0,0,(AK38*((LOG(AK38))/LOG(2))))","v":0},null,{"$f":"N38","v":22222},{"$f":"COUNTIF(L123:L151,AN38)","v":0},{"$f":"AO38/(AQ4-AO25)","v":0},{"$f":"IF(AP38=0,0,(AP38*((LOG(AP38))/LOG(2))))","v":0},null,{"$f":"N38","v":22222},{"$f":"COUNTIF(L152:L180,AS38)","v":0},{"$f":"AT38/(AV4-AT25)","v":0},{"$f":"IF(AU38=0,0,(AU38*((LOG(AU38))/LOG(2))))","v":0}]
[12,4302,13,4309,24,4317,23,4323,13,4333,1,11221,null,null,null,{"$f":"SUM(P7:P38)","v":1},{"$f":"-SUM(Q7:Q38)","v":4.2993637664614388},null,null,null,null,{"$f":"SUM(V7:V38)","v":1},{"$f":"-SUM(W7:W38)","v":3.1121468405382382},null,null,null,{"$f":"SUM(AA7:AA38)","v":0.99999999999999989},{"$f":"-SUM(AB7:AB38)","v":2.1221892599498289},null,null,null,{"$f":"SUM(AF7:AF38)","v":0.99999999999999989},{"$f":"-SUM(AG7:AG38)","v":2.0361777564452526},null,null,null,{"$f":"SUM(AK7:AK38)","v":0.99999999999999989},{"$f":"-SUM(AL7:AL38)","v":3.1776687208792773},null,null,null,{"$f":"SUM(AP7:AP38)","v":0.99999999999999989},{"$f":"-SUM(AQ7:AQ38)","v":3.6469666682736501},null,null,null,{"$f":"SUM(AU7:AU38)","v":1},{"$f":"-SUM(AV7:AV38)","v":3.1038166708766464}]
[12,4426,13,4430,13,4437,23,4447,24,4455,0,11122,null,null,null,"U=",{"$f":"Q39/(LOG(Q4)/LOG(2))","v":0.57764294043873787},null,null,null,null,"U1=",{"$f":"W39/(LOG(W4)/LOG(2))","v":0.64062556927654524},null,null,null,"U2=",{"$f":"AB39/(LOG(AB4)/LOG(2))","v":0.43684593704222585},null,null,null,"U3=",{"$f":"AG39/(LOG(AG4)/LOG(2))","v":0.41914074149064923},null,null,null,"U4=",{"$f":"AL39/(LOG(AL4)/LOG(2))","v":0.65411304080159971},null,null,null,"U5=",{"$f":"AQ39/(LOG(AQ4)/LOG(2))","v":0.75071653675291494},null,null,null,"U6=",{"$f":"AV39/(LOG(AV4)/LOG(2))","v":0.63891083023784845}]
[12,4556,13,4561,24,4569,14,4578,24,4587,0,11212]
[12,4689,13,4696,24,4705,23,4712,13,4720,0,11221]
[12,4821,13,4828,24,4836,23,4842,13,4850,0,11221,null,"Total Target Seq"]
[12,4954,13,4962,24,4969,23,4976,13,4984,0,11221,null,{"$f":"COUNTIF(L7:L180,G3)","v":0},null,29,29,29,29,29,29]
[12,5085,13,5092,24,5100,23,5106,13,5114,0,11221,null,null,null,"% of reinforcement given in 6 equal intervals based on number of trials "]
[12,5212,13,5220,24,5228,14,5238,24,5245,0,11212,null,null,null,"%_1","%_2","%_3","%_4","%_5","%_6"]
[12,5343,13,5351,24,5359,14,5366,24,5374,0,11212,null,null,"target sequence",{"$f":"$G$3","v":21121},{"$f":"$G$3","v":21121},{"$f":"$G$3","v":21121},{"$f":"$G$3","v":21121},{"$f":"$G$3","v":21121},{"$f":"$G$3","v":21121}]
[12,5471,13,5476,13,5486,23,5493,13,5501,0,11121,null,null,"total reinforcement",{"$f":"U25","v":0},{"$f":"Z25","v":0},{"$f":"AE25","v":0},{"$f":"AJ25","v":0},{"$f":"AO25","v":0},{"$f":"AT25","v":0}]
[12,5600,13,5608,24,5616,14,5624,24,5631,0,11212,null,null,"% target"]
[12,5735,13,5743,24,5751,23,5759,13,5768,1,11221,null,null,"CCRF"]
[12,5862,13,5869,24,5880,23,5885,13,5894,1,11221,null,null,"% CCRf"]
[12,5990,13,5995,13,6003,23,6011,24,6019,0,11122,null,null,"average response rate",{"$f":"J35/P44","v":131.13793103448276},{"$f":"(J64-J35)/Q44","v":129.58620689655172},{"$f":"(J93-J64)/R44","v":128.55172413793105},{"$f":"(J122-J93)/S44","v":130.10344827586206},{"$f":"(J151-J122)/T44","v":149.89655172413794},{"$f":"(J180-J151)/U44","v":155.58620689655172}]
[12,6116,13,6121,13,6128,23,6136,24,6147,0,11122]
[12,6248,13,6254,24,6263,23,6268,13,6276,0,11221]
[12,6374,13,6378,13,6387,23,6395,13,6403,1,11121]
[12,6499,13,6503,13,6510,23,6518,24,6522,0,11122]
[12,6621,13,6625,13,6633,23,6641,24,6646,0,11122]
[12,6743,13,6747,13,6756,23,6764,24,6771,0,11122]
[12,6872,13,6879,24,6887,23,6894,24,6901,0,11222]
[12,6998,13,7005,13,7012,23,7020,13,7033,0,11121]
[12,7132,24,7154,24,7158,14,7166,24,7174,0,12212]
[12,7277,13,7282,13,7297,23,7305,24,7312,0,11122]
[12,7412,13,7417,13,7425,23,7432,24,7440,1,11122]
[12,7533,13,7538,13,7545,23,7554,24,7561,1,11122]
[12,7657,13,7661,13,7669,23,7677,24,7683,0,11122]
[12,7780,13,7785,13,7792,14,7803,24,7811,1,11112]
[12,7910,13,7916,13,7931,23,7938,24,7945,0,11122]
[12,8042,13,8046,13,8053,23,8062,24,8070,0,11122]
[12,8167,13,8171,13,8178,23,8185,24,8192,0,11122]
[12,8289,13,8293,13,8301,23,8308,24,8313,0,11122]
[12,8414,13,8418,13,8427,23,8435,24,8441,0,11122]
[12,8538,13,8542,13,8546,14,8555,24,8563,1,11112]
[12,8657,13,8661,13,8665,23,8676,24,8683,0,11122]
[12,8780,13,8784,13,8791,23,8799,24,8804,0,11122]
[12,8901,13,8905,13,8909,14,8921,24,8930,0,11112]
[12,9030,13,9036,13,9041,14,9049,24,9057,0,11112]
[12,9156,13,9160,13,9170,23,9181,24,9188,0,11122]
[12,9287,13,9291,13,9295,14,9304,24,9312,0,11112]
[12,9408,13,9412,13,9420,14,9431,24,9439,0,11112]
[12,9543,13,9547,24,9563,23,9571,13,9582,1,11221]
[12,9678,13,9682,13,9687,14,9691,24,9703,0,11112]
[12,9803,13,9811,13,9825,23,9835,24,9841,0,11122]
[21,9943,22,9948,13,9956,14,9964,24,9973,0,22112]
[12,10071,13,10074,13,10078,14,10082,13,10088,0,11111]
[12,10191,13,10194,13,10199,23,10207,24,10214,0,11122]
[12,10324,13,10328,13,10332,23,10344,24,10349,1,11122]
[12,10452,13,10458,24,10477,23,10483,24,10490,0,11222]
[12,10588,13,10608,13,10615,23,10626,13,10635,0,11121]
[12,10737,13,10741,13,10746,23,10756,24,10760,0,11122]
[12,10858,13,10869,13,10873,14,10884,24,10895,0,11112]
[12,10996,13,10999,13,11004,14,11009,24,11019,0,11112]
[12,11126,13,11135,13,11140,23,11152,24,11157,0,11122]
[21,11258,11,11266,11,11274,21,11282,22,11289,0,21122]
[12,11384,13,11388,13,11394,14,11399,24,11408,0,11112]
[12,11507,13,11521,24,11533,14,11543,13,11552,1,11211]
[12,11644,13,11652,13,11655,14,11663,13,11670,0,11111]
[12,11767,13,11771,13,11775,14,11779,13,11783,0,11111]
[12,11886,13,11890,13,11894,14,11898,24,11906,0,11112]
[12,12005,13,12012,24,12025,23,12031,13,12041,0,11221]
[12,12143,13,12148,13,12154,14,12160,24,12169,0,11112]
[21,12269,11,12279,22,12287,14,12296,13,12304,0,21211]
[12,12412,13,12417,13,12425,23,12437,13,12445,0,11121]
[21,12546,11,12554,11,12561,12,12568,24,12576,0,21112]
[12,12674,13,12678,13,12687,14,12692,13,12701,0,11111]
[21,12798,11,12808,11,12813,21,12821,22,12826,0,21122]
[12,12919,13,12928,24,12936,23,12940,24,12947,0,11222]
[21,13048,11,13057,11,13061,12,13065,24,13073,1,21112]
[12,13174,13,13178,13,13182,14,13189,13,13194,0,11111]
[12,13297,13,13301,13,13306,14,13314,13,13322,0,11111]
[21,13421,11,13431,11,13436,12,13440,13,13447,0,21111]
[12,13573,13,13581,24,13589,23,13598,24,13603,0,11222]
[12,13701,13,13705,13,13709,14,13717,13,13724,0,11111]
[12,13826,13,13830,13,13835,14,13840,13,13846,1,11111]
[12,13946,13,13950,13,13956,23,13966,24,13975,0,11122]
[21,14075,22,14081,13,14089,14,14097,13,14104,0,22111]
[21,14225,11,14233,22,14241,23,14248,13,14256,1,21221]
[12,14358,13,14362,13,14366,14,14374,13,14383,0,11111]
[21,14480,11,14491,11,14494,12,14499,13,14506,0,21111]
[12,14627,13,14631,13,14635,14,14642,13,14648,0,11111]
[21,14749,11,14756,11,14761,12,14767,13,14775,0,21111]
[12,14884,13,14888,13,14892,14,14899,13,14906,0,11111]
[12,15022,13,15033,24,15045,23,15052,13,15062,1,11221]
[21,15159,22,15164,13,15173,23,15182,24,15189,0,22122]
[21,15291,11,15301,11,15307,12,15312,13,15318,0,21111]
[12,15434,13,15438,13,15442,14,15446,13,15453,0,11111]
[21,15553,11,15564,11,15568,12,15578,13,15584,0,21111]
[21,15700,11,15711,22,15720,23,15726,13,15736,0,21221]
[21,15836,22,15840,13,15850,14,15857,24,15865,1,22112]
[21,15961,11,15972,11,15976,12,15980,13,15985,0,21111]
[21,16104,22,16109,13,16117,23,16126,24,16135,1,22122]
[21,16248,11,16259,22,16268,23,16274,24,16281,0,21222]
[12,16402,13,16407,13,16412,23,16422,24,16427,0,11122]
[12,16550,24,16568,24,16574,14,16583,24,16591,0,12212]
[12,16716,13,16721,13,16726,23,16737,13,16747,0,11121]
[21,16869,22,16876,13,16887,23,16895,24,16902,0,22122]
[21,17004,22,17008,13,17017,14,17024,13,17030,0,22111]
[21,17166,11,17177,22,17185,14,17195,24,17203,0,21212]
[12,17334,24,17345,13,17354,14,17362,13,17368,0,12111]
[21,17489,11,17500,22,17508,14,17519,24,17528,1,21212]
[21,17635,22,17645,24,17652,23,17658,13,17668,0,22221]
[21,17769,11,17779,22,17788,14,17797,24,17805,0,21212]
[21,17907,11,17917,11,17922,12,17926,24,17934,0,21112]
[21,18070,22,18075,13,18085,23,18093,13,18106,0,22121]
[21,18213,22,18217,13,18225,14,18233,13,18239,0,22111]
[21,18359,11,18370,22,18380,23,18387,13,18397,0,21221]
[21,18549,11,18561,22,18569,14,18582,24,18589,0,21212]
[21,18690,22,18694,13,18702,23,18710,13,18721,0,22121]
[21,18842,11,18853,22,18862,23,18870,24,18877,0,21222]
[21,19058,11,19069,22,19077,14,19094,24,19102,1,21212]
[21,19204,22,19218,13,19228,23,19235,24,19245,0,22122]
[21,19371,11,19381,22,19389,23,19402,24,19409,0,21222]
[21,19548,22,19553,24,19562,14,19573,24,19581,0,22212]
[21,19699,11,19708,22,19716,14,19728,24,19735,0,21212]
[21,19847,11,19858,22,19865,23,19876,13,19887,0,21221]
[21,20008,11,20019,22,20026,23,20036,24,20043,0,21222]
[21,20167,11,20176,22,20184,14,20198,24,20205,1,21212]
[12,20344,24,20354,13,20364,23,20373,13,20383,0,12121]
[21,20520,11,20528,22,20536,14,20545,24,20552,0,21212]
[21,20679,22,20686,13,20696,23,20704,13,20716,0,22121]
[21,20834,11,20844,22,20852,23,20863,13,20874,0,21221]
[12,21003,13,21008,13,21013,14,21018,13,21024,0,11111]
[12,21148,24,21161,13,21171,23,21181,13,21190,0,12121]
[21,21304,11,21313,22,21322,14,21331,24,21342,1,21212]
[21,21442,22,21446,24,21454,14,21464,24,21472,0,22212]
[21,21573,22,21578,13,21587,23,21595,13,21607,0,22121]
[21,21730,11,21740,22,21748,23,21758,13,21766,0,21221]
[21,21869,22,21884,13,21892,23,21900,13,21911,1,22121]
[12,22035,24,22044,13,22053,23,22061,24,22077,0,12122]
[21,22215,11,22226,22,22233,23,22250,13,22259,0,21221]
[21,22358,22,22362,13,22372,23,22380,13,22391,0,22121]
[21,22501,11,22517,22,22524,14,22533,24,22554,0,21212]
[21,22656,11,22667,22,22674,23,22682,24,22689,1,21222]
[21,22802,11,22814,11,22831,21,22847,22,22858,0,21122]
[12,22953,24,22972,24,22978,23,22985,13,22993,0,12221]
[21,23096,22,23104,13,23114,23,23122,13,23133,0,22121]
[21,23247,11,23257,22,23264,14,23275,13,23293,1,21211]
[12,23426,13,23430,13,23435,14,23440,13,23446,1,11111]
[21,23567,11,23577,22,23585,23,23594,13,23604,0,21221]
[21,23705,11,23716,22,23724,14,23733,24,23741,0,21212]
[21,23883,11,23894,22,23902,14,23913,24,23921,null,21212]

{"sheet":"!N329A50.000","index":4,"n_rows":177,"n_cols":48,"rows_kept":177,"cut":false,"hidden":false,"merged":[[4,39,4,42],[5,39,5,40],[4,44,4,47],[5,44,5,45],[4,24,4,27],[5,24,5,25],[4,29,4,32],[5,29,5,30],[4,34,4,37],[5,34,5,35],[1,1,1,2],[5,13,5,14],[42,13,42,14],[43,13,43,14],[4,19,4,22],[5,19,5,20]]}
["Report for:!N329A50.000"]
["Date:","<date>"]
["Hen:","<hen>",null,null,null,"Correct Sequence",{"$f":"Start!J2","v":21121},null,null,null,null,null,null,null,null,"Total Sequences in Data",{"$f":"4994-COUNTBLANK(L7:L5000)","v":171},null,null,null,null,"Total Sequences in Block Data",{"$f":"COUNTA(L7:L35)","v":29},null,null,null,"Total Sequences in Block Data",{"$f":"COUNTA(L36:L63)","v":28},null,null,null,"Total Sequences in Block Data",{"$f":"COUNTA(L64:L92)","v":29},null,null,null,"Total Sequences in Block Data",{"$f":"COUNTA(L93:L120)","v":28},null,null,null,"Total Sequences in Block Data",{"$f":"COUNTA(L121:L149)","v":29},null,null,null,"Total Sequences in Block Data",{"$f":"COUNTA(L150:L177)","v":28}]
[null,null,null,null,null,null,null,null,null,null,null,null,null,null,null,"Total Sequences in Summary",{"$f":"SUM(O7:O38)","v":171},null,null,null,null,"Total Sequences in Block Summary",{"$f":"SUM(U7:U38)","v":29},null,null,null,"Total Sequences in Block Summary",{"$f":"SUM(Z7:Z38)","v":28},null,null,null,"Total Sequences in Block Summary",{"$f":"SUM(AE7:AE38)","v":29},null,null,null,"Total Sequences in Block Summary",{"$f":"SUM(AJ7:AJ38)","v":28},null,null,null,"Total Sequences in Block Summary",{"$f":"SUM(AO7:AO38)","v":29},null,null,null,"Total Sequences in Block Summary",{"$f":"SUM(AT7:AT38)","v":28}]
[null,null,null,null,null,null,null,null,null,null,null,null,null,null,null,null,null,null,null,"Block 1",null,null,null,null,"Block 2",null,null,null,null,"Block 3",null,null,null,null,"Block 4",null,null,null,null,"Block 5",null,null,null,null,"Block 6"]
["Sequence\nComponent\n1","Time\n1","Sequence\nComponent\n2","Time\n2","Sequence\nComponent\n3","Time\n3","Sequence\nComponent\n4","Time\n4","Sequence\nComponent\n5","Time\n5","Correct?\n0=No 1=Yes","Sequence",null,"Frequency",null,"Relative Frequency","Variability",null,null,"Frequency",null,"Relative Frequency","Variability",null,"Frequency",null,"Relative Frequency","Variability",null,"Frequency",null,"Relative Frequency","Variability",null,"Frequency",null,"Relative Frequency","Variability",null,"Frequency",null,"Relative Frequency","Variability",null,"Frequency",null,"Relative Frequency","Variability"]
[12,6,13,10,13,17,23,24,24,34,1,11122,null,11111,{"$f":"COUNTIF($L$7:$L$500,N7)","v":18},{"$f":"O7/$Q$4","v":0.10526315789473684},{"$f":"IF(P7=0,0,(P7*((LOG(P7))/LOG(2))))","v":-0.34188710667827216},null,null,{"$f":"N7","v":11111},{"$f":"COUNTIF(L7:L35,T7)","v":8},{"$f":"U7/(W4-U25)","v":0.30769230769230771},{"$f":"IF(V7=0,0,(V7*((LOG(V7))/LOG(2))))","v":-0.52321222096648989},null,{"$f":"N7","v":11111},{"$f":"COUNTIF(L36:L63,Y7)","v":7},{"$f":"Z7/(AB4-Z25)","v":0.25925925925925924},{"$f":"IF(AA7=0,0,(AA7*((LOG(AA7))/LOG(2))))","v":-0.5049158541015204},null,{"$f":"N7","v":11111},{"$f":"COUNTIF(L64:L92,AD7)","v":1},{"$f":"AE7/(AG4-AE25)","v":3.7037037037037035E-2},{"$f":"IF(AF7=0,0,(AF7*((LOG(AF7))/LOG(2))))","v":-0.1761069445245729},null,{"$f":"N7","v":11111},{"$f":"COUNTIF(L93:L120,AI7)","v":1},{"$f":"AJ7/(AL4-AJ25)","v":3.5714285714285712E-2},{"$f":"IF(AK7=0,0,(AK7*((LOG(AK7))/LOG(2))))","v":-0.17169124721634299},null,{"$f":"N7","v":11111},{"$f":"COUNTIF(L121:L149,AN7)","v":0},{"$f":"AO7/(AQ4-AO25)","v":0},{"$f":"IF(AP7=0,0,(AP7*((LOG(AP7))/LOG(2))))","v":0},null,{"$f":"N7","v":11111},{"$f":"COUNTIF(L150:L177,AS7)","v":1},{"$f":"AT7/(AV4-AT25)","v":3.5714285714285712E-2},{"$f":"IF(AU7=0,0,(AU7*((LOG(AU7))/LOG(2))))","v":-0.17169124721634299}]
[12,127,13,132,24,143,14,152,24,159,1,11212,null,11112,{"$f":"COUNTIF($L$7:$L$500,N8)","v":11},{"$f":"O8/$Q$4","v":6.4327485380116955E-2},{"$f":"IF(P8=0,0,(P8*((LOG(P8))/LOG(2))))","v":-0.25463526233178135},null,null,{"$f":"N8","v":11112},{"$f":"COUNTIF(L7:L35,T8)","v":7},{"$f":"U8/(W4-U25)","v":0.26923076923076922},{"$f":"IF(V8=0,0,(V8*((LOG(V8))/LOG(2))))","v":-0.50967667586863141},null,{"$f":"N8","v":11112},{"$f":"COUNTIF(L36:L63,Y8)","v":3},{"$f":"Z8/(AB4-Z25)","v":0.1111111111111111},{"$f":"IF(AA8=0,0,(AA8*((LOG(AA8))/LOG(2))))","v":-0.3522138890491458},null,{"$f":"N8","v":11112},{"$f":"COUNTIF(L64:L92,AD8)","v":0},{"$f":"AE8/(AG4-AE25)","v":0},{"$f":"IF(AF8=0,0,(AF8*((LOG(AF8))/LOG(2))))","v":0},null,{"$f":"N8","v":11112},{"$f":"COUNTIF(L93:L120,AI8)","v":0},{"$f":"AJ8/(AL4-AJ25)","v":0},{"$f":"IF(AK8=0,0,(AK8*((LOG(AK8))/LOG(2))))","v":0},null,{"$f":"N8","v":11112},{"$f":"COUNTIF(L121:L149,AN8)","v":1},{"$f":"AO8/(AQ4-AO25)","v":3.4482758620689655E-2},{"$f":"IF(AP8=0,0,(AP8*((LOG(AP8))/LOG(2))))","v":-0.16751658603888178},null,{"$f":"N8","v":11112},{"$f":"COUNTIF(L150:L177,AS8)","v":0},{"$f":"AT8/(AV4-AT25)","v":0},{"$f":"IF(AU8=0,0,(AU8*((LOG(AU8))/LOG(2))))","v":0}]
[12,253,13,258,24,269,14,277,24,284,0,11212,null,11121,{"$f":"COUNTIF($L$7:$L$500,N9)","v":7},{"$f":"O9/$Q$4","v":4.0935672514619881E-2},{"$f":"IF(P9=0,0,(P9*((LOG(P9))/LOG(2))))","v":-0.18873381958946231},null,null,{"$f":"N9","v":11121},{"$f":"COUNTIF(L7:L35,T9)","v":2},{"$f":"U9/(W4-U25)","v":7.6923076923076927E-2},{"$f":"IF(V9=0,0,(V9*((LOG(V9))/LOG(2))))","v":-0.28464920908777636},null,{"$f":"N9","v":11121},{"$f":"COUNTIF(L36:L63,Y9)","v":1},{"$f":"Z9/(AB4-Z25)","v":3.7037037037037035E-2},{"$f":"IF(AA9=0,0,(AA9*((LOG(AA9))/LOG(2))))","v":-0.1761069445245729},null,{"$f":"N9","v":11121},{"$f":"COUNTIF(L64:L92,AD9)","v":3},{"$f":"AE9/(AG4-AE25)","v":0.1111111111111111},{"$f":"IF(AF9=0,0,(AF9*((LOG(AF9))/LOG(2))))","v":-0.3522138890491458},null,{"$f":"N9","v":11121},{"$f":"COUNTIF(L93:L120,AI9)","v":0},{"$f":"AJ9/(AL4-AJ25)","v":0},{"$f":"IF(AK9=0,0,(AK9*((LOG(AK9))/LOG(2))))","v":0},null,{"$f":"N9","v":11121},{"$f":"COUNTIF(L121:L149,AN9)","v":0},{"$f":"AO9/(AQ4-AO25)","v":0},{"$f":"IF(AP9=0,0,(AP9*((LOG(AP9))/LOG(2))))","v":0},null,{"$f":"N9","v":11121},{"$f":"COUNTIF(L150:L177,AS9)","v":1},{"$f":"AT9/(AV4-AT25)","v":3.5714285714285712E-2},{"$f":"IF(AU9=0,0,(AU9*((LOG(AU9))/LOG(2))))","v":-0.17169124721634299}]
[12,381,24,389,13,397,23,404,13,412,0,12121,null,11122,{"$f":"COUNTIF($L$7:$L$500,N10)","v":2},{"$f":"O10/$Q$4","v":1.1695906432748537E-2},{"$f":"IF(P10=0,0,(P10*((LOG(P10))/LOG(2))))","v":-7.5062602513285351E-2},null,null,{"$f":"N10","v":11122},{"$f":"COUNTIF(L7:L35,T10)","v":1},{"$f":"U10/(W4-U25)","v":3.8461538461538464E-2},{"$f":"IF(V10=0,0,(V10*((LOG(V10))/LOG(2))))","v":-0.18078614300542661},null,{"$f":"N10","v":11122},{"$f":"COUNTIF(L36:L63,Y10)","v":1},{"$f":"Z10/(AB4-Z25)","v":3.7037037037037035E-2},{"$f":"IF(AA10=0,0,(AA10*((LOG(AA10))/LOG(2))))","v":-0.1761069445245729},null,{"$f":"N10","v":11122},{"$f":"COUNTIF(L64:L92,AD10)","v":0},{"$f":"AE10/(AG4-AE25)","v":0},{"$f":"IF(AF10=0,0,(AF10*((LOG(AF10))/LOG(2))))","v":0},null,{"$f":"N10","v":11122},{"$f":"COUNTIF(L93:L120,AI10)","v":0},{"$f":"AJ10/(AL4-AJ25)","v":0},{"$f":"IF(AK10=0,0,(AK10*((LOG(AK10))/LOG(2))))","v":0},null,{"$f":"N10","v":11122},{"$f":"COUNTIF(L121:L149,AN10)","v":0},{"$f":"AO10/(AQ4-AO25)","v":0},{"$f":"IF(AP10=0,0,(AP10*((LOG(AP10))/LOG(2))))","v":0},null,{"$f":"N10","v":11122},{"$f":"COUNTIF(L150:L177,AS10)","v":0},{"$f":"AT10/(AV4-AT25)","v":0},{"$f":"IF(AU10=0,0,(AU10*((LOG(AU10))/LOG(2))))","v":0}]
[12,507,13,515,24,522,14,530,24,536,0,11212,null,11211,{"$f":"COUNTIF($L$7:$L$500,N11)","v":0},{"$f":"O11/$Q$4","v":0},{"$f":"IF(P11=0,0,(P11*((LOG(P11))/LOG(2))))","v":0},null,null,{"$f":"N11","v":11211},{"$f":"COUNTIF(L7:L35,T11)","v":0},{"$f":"U11/(W4-U25)","v":0},{"$f":"IF(V11=0,0,(V11*((LOG(V11))/LOG(2))))","v":0},null,{"$f":"N11","v":11211},{"$f":"COUNTIF(L36:L63,Y11)","v":0},{"$f":"Z11/(AB4-Z25)","v":0},{"$f":"IF(AA11=0,0,(AA11*((LOG(AA11))/LOG(2))))","v":0},null,{"$f":"N11","v":11211},{"$f":"COUNTIF(L64:L92,AD11)","v":0},{"$f":"AE11/(AG4-AE25)","v":0},{"$f":"IF(AF11=0,0,(AF11*((LOG(AF11))/LOG(2))))","v":0},null,{"$f":"N11","v":11211},{"$f":"COUNTIF(L93:L120,AI11)","v":0},{"$f":"AJ11/(AL4-AJ25)","v":0},{"$f":"IF(AK11=0,0,(AK11*((LOG(AK11))/LOG(2))))","v":0},null,{"$f":"N11","v":11211},{"$f":"COUNTIF(L121:L149,AN11)","v":0},{"$f":"AO11/(AQ4-AO25)","v":0},{"$f":"IF(AP11=0,0,(AP11*((LOG(AP11))/LOG(2))))","v":0},null,{"$f":"N11","v":11211},{"$f":"COUNTIF(L150:L177,AS11)","v":0},{"$f":"AT11/(AV4-AT25)","v":0},{"$f":"IF(AU11=0,0,(AU11*((LOG(AU11))/LOG(2))))","v":0}]
[12,633,13,639,24,647,14,654,24,661,0,11212,null,11212,{"$f":"COUNTIF($L$7:$L$500,N12)","v":8},{"$f":"O12/$Q$4","v":4.6783625730994149E-2},{"$f":"IF(P12=0,0,(P12*((LOG(P12))/LOG(2))))","v":-0.20668315859115313},null,null,{"$f":"N12","v":11212},{"$f":"COUNTIF(L7:L35,T12)","v":6},{"$f":"U12/(W4-U25)","v":0.23076923076923078},{"$f":"IF(V12=0,0,(V12*((LOG(V12))/LOG(2))))","v":-0.48818705017383146},null,{"$f":"N12","v":11212},{"$f":"COUNTIF(L36:L63,Y12)","v":1},{"$f":"Z12/(AB4-Z25)","v":3.7037037037037035E-2},{"$f":"IF(AA12=0,0,(AA12*((LOG(AA12))/LOG(2))))","v":-0.1761069445245729},null,{"$f":"N12","v":11212},{"$f":"COUNTIF(L64:L92,AD12)","v":0},{"$f":"AE12/(AG4-AE25)","v":0},{"$f":"IF(AF12=0,0,(AF12*((LOG(AF12))/LOG(2))))","v":0},null,{"$f":"N12","v":11212},{"$f":"COUNTIF(L93:L120,AI12)","v":1},{"$f":"AJ12/(AL4-AJ25)","v":3.5714285714285712E-2},{"$f":"IF(AK12=0,0,(AK12*((LOG(AK12))/LOG(2))))","v":-0.17169124721634299},null,{"$f":"N12","v":11212},{"$f":"COUNTIF(L121:L149,AN12)","v":0},{"$f":"AO12/(AQ4-AO25)","v":0},{"$f":"IF(AP12=0,0,(AP12*((LOG(AP12))/LOG(2))))","v":0},null,{"$f":"N12","v":11212},{"$f":"COUNTIF(L150:L177,AS12)","v":0},{"$f":"AT12/(AV4-AT25)","v":0},{"$f":"IF(AU12=0,0,(AU12*((LOG(AU12))/LOG(2))))","v":0}]
[12,758,13,766,24,773,14,781,24,789,1,11212,null,11221,{"$f":"COUNTIF($L$7:$L$500,N13)","v":1},{"$f":"O13/$Q$4","v":5.8479532163742687E-3},{"$f":"IF(P13=0,0,(P13*((LOG(P13))/LOG(2))))","v":-4.3379254473016944E-2},null,null,{"$f":"N13","v":11221},{"$f":"COUNTIF(L7:L35,T13)","v":1},{"$f":"U13/(W4-U25)","v":3.8461538461538464E-2},{"$f":"IF(V13=0,0,(V13*((LOG(V13))/LOG(2))))","v":-0.18078614300542661},null,{"$f":"N13","v":11221},{"$f":"COUNTIF(L36:L63,Y13)","v":0},{"$f":"Z13/(AB4-Z25)","v":0},{"$f":"IF(AA13=0,0,(AA13*((LOG(AA13))/LOG(2))))","v":0},null,{"$f":"N13","v":11221},{"$f":"COUNTIF(L64:L92,AD13)","v":0},{"$f":"AE13/(AG4-AE25)","v":0},{"$f":"IF(AF13=0,0,(AF13*((LOG(AF13))/LOG(2))))","v":0},null,{"$f":"N13","v":11221},{"$f":"COUNTIF(L93:L120,AI13)","v":0},{"$f":"AJ13/(AL4-AJ25)","v":0},{"$f":"IF(AK13=0,0,(AK13*((LOG(AK13))/LOG(2))))","v":0},null,{"$f":"N13","v":11221},{"$f":"COUNTIF(L121:L149,AN13)","v":0},{"$f":"AO13/(AQ4-AO25)","v":0},{"$f":"IF(AP13=0,0,(AP13*((LOG(AP13))/LOG(2))))","v":0},null,{"$f":"N13","v":11221},{"$f":"COUNTIF(L150:L177,AS13)","v":0},{"$f":"AT13/(AV4-AT25)","v":0},{"$f":"IF(AU13=0,0,(AU13*((LOG(AU13))/LOG(2))))","v":0}]
[12,881,13,885,13,890,14,897,24,908,0,11112,null,11222,{"$f":"COUNTIF($L$7:$L$500,N14)","v":0},{"$f":"O14/$Q$4","v":0},{"$f":"IF(P14=0,0,(P14*((LOG(P14))/LOG(2))))","v":0},null,null,{"$f":"N14","v":11222},{"$f":"COUNTIF(L7:L35,T14)","v":0},{"$f":"U14/(W4-U25)","v":0},{"$f":"IF(V14=0,0,(V14*((LOG(V14))/LOG(2))))","v":0},null,{"$f":"N14","v":11222},{"$f":"COUNTIF(L36:L63,Y14)","v":0},{"$f":"Z14/(AB4-Z25)","v":0},{"$f":"IF(AA14=0,0,(AA14*((LOG(AA14))/LOG(2))))","v":0},null,{"$f":"N14","v":11222},{"$f":"COUNTIF(L64:L92,AD14)","v":0},{"$f":"AE14/(AG4-AE25)","v":0},{"$f":"IF(AF14=0,0,(AF14*((LOG(AF14))/LOG(2))))","v":0},null,{"$f":"N14","v":11222},{"$f":"COUNTIF(L93:L120,AI14)","v":0},{"$f":"AJ14/(AL4-AJ25)","v":0},{"$f":"IF(AK14=0,0,(AK14*((LOG(AK14))/LOG(2))))","v":0},null,{"$f":"N14","v":11222},{"$f":"COUNTIF(L121:L149,AN14)","v":0},{"$f":"AO14/(AQ4-AO25)","v":0},{"$f":"IF(AP14=0,0,(AP14*((LOG(AP14))/LOG(2))))","v":0},null,{"$f":"N14","v":11222},{"$f":"COUNTIF(L150:L177,AS14)","v":0},{"$f":"AT14/(AV4-AT25)","v":0},{"$f":"IF(AU14=0,0,(AU14*((LOG(AU14))/LOG(2))))","v":0}]
[12,1005,13,1009,13,1013,14,1020,24,1032,0,11112,null,12111,{"$f":"COUNTIF($L$7:$L$500,N15)","v":0},{"$f":"O15/$Q$4","v":0},{"$f":"IF(P15=0,0,(P15*((LOG(P15))/LOG(2))))","v":0},null,null,{"$f":"N15","v":12111},{"$f":"COUNTIF(L7:L35,T15)","v":0},{"$f":"U15/(W4-U25)","v":0},{"$f":"IF(V15=0,0,(V15*((LOG(V15))/LOG(2))))","v":0},null,{"$f":"N15","v":12111},{"$f":"COUNTIF(L36:L63,Y15)","v":0},{"$f":"Z15/(AB4-Z25)","v":0},{"$f":"IF(AA15=0,0,(AA15*((LOG(AA15))/LOG(2))))","v":0},null,{"$f":"N15","v":12111},{"$f":"COUNTIF(L64:L92,AD15)","v":0},{"$f":"AE15/(AG4-AE25)","v":0},{"$f":"IF(AF15=0,0,(AF15*((LOG(AF15))/LOG(2))))","v":0},null,{"$f":"N15","v":12111},{"$f":"COUNTIF(L93:L120,AI15)","v":0},{"$f":"AJ15/(AL4-AJ25)","v":0},{"$f":"IF(AK15=0,0,(AK15*((LOG(AK15))/LOG(2))))","v":0},null,{"$f":"N15","v":12111},{"$f":"COUNTIF(L121:L149,AN15)","v":0},{"$f":"AO15/(AQ4-AO25)","v":0},{"$f":"IF(AP15=0,0,(AP15*((LOG(AP15))/LOG(2))))","v":0},null,{"$f":"N15","v":12111},{"$f":"COUNTIF(L150:L177,AS15)","v":0},{"$f":"AT15/(AV4-AT25)","v":0},{"$f":"IF(AU15=0,0,(AU15*((LOG(AU15))/LOG(2))))","v":0}]
[12,1128,13,1132,13,1138,14,1146,24,1154,0,11112,null,12112,{"$f":"COUNTIF($L$7:$L$500,N16)","v":0},{"$f":"O16/$Q$4","v":0},{"$f":"IF(P16=0,0,(P16*((LOG(P16))/LOG(2))))","v":0},null,null,{"$f":"N16","v":12112},{"$f":"COUNTIF(L7:L35,T16)","v":0},{"$f":"U16/(W4-U25)","v":0},{"$f":"IF(V16=0,0,(V16*((LOG(V16))/LOG(2))))","v":0},null,{"$f":"N16","v":12112},{"$f":"COUNTIF(L36:L63,Y16)","v":0},{"$f":"Z16/(AB4-Z25)","v":0},{"$f":"IF(AA16=0,0,(AA16*((LOG(AA16))/LOG(2))))","v":0},null,{"$f":"N16","v":12112},{"$f":"COUNTIF(L64:L92,AD16)","v":0},{"$f":"AE16/(AG4-AE25)","v":0},{"$f":"IF(AF16=0,0,(AF16*((LOG(AF16))/LOG(2))))","v":0},null,{"$f":"N16","v":12112},{"$f":"COUNTIF(L93:L120,AI16)","v":0},{"$f":"AJ16/(AL4-AJ25)","v":0},{"$f":"IF(AK16=0,0,(AK16*((LOG(AK16))/LOG(2))))","v":0},null,{"$f":"N16","v":12112},{"$f":"COUNTIF(L121:L149,AN16)","v":0},{"$f":"AO16/(AQ4-AO25)","v":0},{"$f":"IF(AP16=0,0,(AP16*((LOG(AP16))/LOG(2))))","v":0},null,{"$f":"N16","v":12112},{"$f":"COUNTIF(L150:L177,AS16)","v":0},{"$f":"AT16/(AV4-AT25)","v":0},{"$f":"IF(AU16=0,0,(AU16*((LOG(AU16))/LOG(2))))","v":0}]
[12,1253,13,1257,13,1263,14,1271,24,1279,0,11112,null,12121,{"$f":"COUNTIF($L$7:$L$500,N17)","v":8},{"$f":"O17/$Q$4","v":4.6783625730994149E-2},{"$f":"IF(P17=0,0,(P17*((LOG(P17))/LOG(2))))","v":-0.20668315859115313},null,null,{"$f":"N17","v":12121},{"$f":"COUNTIF(L7:L35,T17)","v":1},{"$f":"U17/(W4-U25)","v":3.8461538461538464E-2},{"$f":"IF(V17=0,0,(V17*((LOG(V17))/LOG(2))))","v":-0.18078614300542661},null,{"$f":"N17","v":12121},{"$f":"COUNTIF(L36:L63,Y17)","v":1},{"$f":"Z17/(AB4-Z25)","v":3.7037037037037035E-2},{"$f":"IF(AA17=0,0,(AA17*((LOG(AA17))/LOG(2))))","v":-0.1761069445245729},null,{"$f":"N17","v":12121},{"$f":"COUNTIF(L64:L92,AD17)","v":1},{"$f":"AE17/(AG4-AE25)","v":3.7037037037037035E-2},{"$f":"IF(AF17=0,0,(AF17*((LOG(AF17))/LOG(2))))","v":-0.1761069445245729},null,{"$f":"N17","v":12121},{"$f":"COUNTIF(L93:L120,AI17)","v":1},{"$f":"AJ17/(AL4-AJ25)","v":3.5714285714285712E-2},{"$f":"IF(AK17=0,0,(AK17*((LOG(AK17))/LOG(2))))","v":-0.17169124721634299},null,{"$f":"N17","v":12121},{"$f":"COUNTIF(L121:L149,AN17)","v":3},{"$f":"AO17/(AQ4-AO25)","v":0.10344827586206896},{"$f":"IF(AP17=0,0,(AP17*((LOG(AP17))/LOG(2))))","v":-0.33858812011100858},null,{"$f":"N17","v":12121},{"$f":"COUNTIF(L150:L177,AS17)","v":1},{"$f":"AT17/(AV4-AT25)","v":3.5714285714285712E-2},{"$f":"IF(AU17=0,0,(AU17*((LOG(AU17))/LOG(2))))","v":-0.17169124721634299}]
[12,1379,13,1383,24,1400,14,1409,24,1419,0,11212,null,12122,{"$f":"COUNTIF($L$7:$L$500,N18)","v":1},{"$f":"O18/$Q$4","v":5.8479532163742687E-3},{"$f":"IF(P18=0,0,(P18*((LOG(P18))/LOG(2))))","v":-4.3379254473016944E-2},null,null,{"$f":"N18","v":12122},{"$f":"COUNTIF(L7:L35,T18)","v":0},{"$f":"U18/(W4-U25)","v":0},{"$f":"IF(V18=0,0,(V18*((LOG(V18))/LOG(2))))","v":0},null,{"$f":"N18","v":12122},{"$f":"COUNTIF(L36:L63,Y18)","v":0},{"$f":"Z18/(AB4-Z25)","v":0},{"$f":"IF(AA18=0,0,(AA18*((LOG(AA18))/LOG(2))))","v":0},null,{"$f":"N18","v":12122},{"$f":"COUNTIF(L64:L92,AD18)","v":0},{"$f":"AE18/(AG4-AE25)","v":0},{"$f":"IF(AF18=0,0,(AF18*((LOG(AF18))/LOG(2))))","v":0},null,{"$f":"N18","v":12122},{"$f":"COUNTIF(L93:L120,AI18)","v":0},{"$f":"AJ18/(AL4-AJ25)","v":0},{"$f":"IF(AK18=0,0,(AK18*((LOG(AK18))/LOG(2))))","v":0},null,{"$f":"N18","v":12122},{"$f":"COUNTIF(L121:L149,AN18)","v":0},{"$f":"AO18/(AQ4-AO25)","v":0},{"$f":"IF(AP18=0,0,(AP18*((LOG(AP18))/LOG(2))))","v":0},null,{"$f":"N18","v":12122},{"$f":"COUNTIF(L150:L177,AS18)","v":1},{"$f":"AT18/(AV4-AT25)","v":3.5714285714285712E-2},{"$f":"IF(AU18=0,0,(AU18*((LOG(AU18))/LOG(2))))","v":-0.17169124721634299}]
[12,1515,13,1519,13,1523,14,1530,24,1542,0,11112,null,12211,{"$f":"COUNTIF($L$7:$L$500,N19)","v":0},{"$f":"O19/$Q$4","v":0},{"$f":"IF(P19=0,0,(P19*((LOG(P19))/LOG(2))))","v":0},null,null,{"$f":"N19","v":12211},{"$f":"COUNTIF(L7:L35,T19)","v":0},{"$f":"U19/(W4-U25)","v":0},{"$f":"IF(V19=0,0,(V19*((LOG(V19))/LOG(2))))","v":0},null,{"$f":"N19","v":12211},{"$f":"COUNTIF(L36:L63,Y19)","v":0},{"$f":"Z19/(AB4-Z25)","v":0},{"$f":"IF(AA19=0,0,(AA19*((LOG(AA19))/LOG(2))))","v":0},null,{"$f":"N19","v":12211},{"$f":"COUNTIF(L64:L92,AD19)","v":0},{"$f":"AE19/(AG4-AE25)","v":0},{"$f":"IF(AF19=0,0,(AF19*((LOG(AF19))/LOG(2))))","v":0},null,{"$f":"N19","v":12211},{"$f":"COUNTIF(L93:L120,AI19)","v":0},{"$f":"AJ19/(AL4-AJ25)","v":0},{"$f":"IF(AK19=0,0,(AK19*((LOG(AK19))/LOG(2))))","v":0},null,{"$f":"N19","v":12211},{"$f":"COUNTIF(L121:L149,AN19)","v":0},{"$f":"AO19/(AQ4-AO25)","v":0},{"$f":"IF(AP19=0,0,(AP19*((LOG(AP19))/LOG(2))))","v":0},null,{"$f":"N19","v":12211},{"$f":"COUNTIF(L150:L177,AS19)","v":0},{"$f":"AT19/(AV4-AT25)","v":0},{"$f":"IF(AU19=0,0,(AU19*((LOG(AU19))/LOG(2))))","v":0}]
[12,1643,13,1647,13,1654,14,1658,13,1665,0,11111,null,12212,{"$f":"COUNTIF($L$7:$L$500,N20)","v":2},{"$f":"O20/$Q$4","v":1.1695906432748537E-2},{"$f":"IF(P20=0,0,(P20*((LOG(P20))/LOG(2))))","v":-7.5062602513285351E-2},null,null,{"$f":"N20","v":12212},{"$f":"COUNTIF(L7:L35,T20)","v":0},{"$f":"U20/(W4-U25)","v":0},{"$f":"IF(V20=0,0,(V20*((LOG(V20))/LOG(2))))","v":0},null,{"$f":"N20","v":12212},{"$f":"COUNTIF(L36:L63,Y20)","v":0},{"$f":"Z20/(AB4-Z25)","v":0},{"$f":"IF(AA20=0,0,(AA20*((LOG(AA20))/LOG(2))))","v":0},null,{"$f":"N20","v":12212},{"$f":"COUNTIF(L64:L92,AD20)","v":0},{"$f":"AE20/(AG4-AE25)","v":0},{"$f":"IF(AF20=0,0,(AF20*((LOG(AF20))/LOG(2))))","v":0},null,{"$f":"N20","v":12212},{"$f":"COUNTIF(L93:L120,AI20)","v":1},{"$f":"AJ20/(AL4-AJ25)","v":3.5714285714285712E-2},{"$f":"IF(AK20=0,0,(AK20*((LOG(AK20))/LOG(2))))","v":-0.17169124721634299},null,{"$f":"N20","v":12212},{"$f":"COUNTIF(L121:L149,AN20)","v":0},{"$f":"AO20/(AQ4-AO25)","v":0},{"$f":"IF(AP20=0,0,(AP20*((LOG(AP20))/LOG(2))))","v":0},null,{"$f":"N20","v":12212},{"$f":"COUNTIF(L150:L177,AS20)","v":1},{"$f":"AT20/(AV4-AT25)","v":3.5714285714285712E-2},{"$f":"IF(AU20=0,0,(AU20*((LOG(AU20))/LOG(2))))","v":-0.17169124721634299}]
[12,1763,13,1768,13,1772,14,1778,13,1784,1,11111,null,12221,{"$f":"COUNTIF($L$7:$L$500,N21)","v":0},{"$f":"O21/$Q$4","v":0},{"$f":"IF(P21=0,0,(P21*((LOG(P21))/LOG(2))))","v":0},null,null,{"$f":"N21","v":12221},{"$f":"COUNTIF(L7:L35,T21)","v":0},{"$f":"U21/(W4-U25)","v":0},{"$f":"IF(V21=0,0,(V21*((LOG(V21))/LOG(2))))","v":0},null,{"$f":"N21","v":12221},{"$f":"COUNTIF(L36:L63,Y21)","v":0},{"$f":"Z21/(AB4-Z25)","v":0},{"$f":"IF(AA21=0,0,(AA21*((LOG(AA21))/LOG(2))))","v":0},null,{"$f":"N21","v":12221},{"$f":"COUNTIF(L64:L92,AD21)","v":0},{"$f":"AE21/(AG4-AE25)","v":0},{"$f":"IF(AF21=0,0,(AF21*((LOG(AF21))/LOG(2))))","v":0},null,{"$f":"N21","v":12221},{"$f":"COUNTIF(L93:L120,AI21)","v":0},{"$f":"AJ21/(AL4-AJ25)","v":0},{"$f":"IF(AK21=0,0,(AK21*((LOG(AK21))/LOG(2))))","v":0},null,{"$f":"N21","v":12221},{"$f":"COUNTIF(L121:L149,AN21)","v":0},{"$f":"AO21/(AQ4-AO25)","v":0},{"$f":"IF(AP21=0,0,(AP21*((LOG(AP21))/LOG(2))))","v":0},null,{"$f":"N21","v":12221},{"$f":"COUNTIF(L150:L177,AS21)","v":0},{"$f":"AT21/(AV4-AT25)","v":0},{"$f":"IF(AU21=0,0,(AU21*((LOG(AU21))/LOG(2))))","v":0}]
[12,1881,13,1885,13,1889,23,1898,13,1906,0,11121,null,12222,{"$f":"COUNTIF($L$7:$L$500,N22)","v":0},{"$f":"O22/$Q$4","v":0},{"$f":"IF(P22=0,0,(P22*((LOG(P22))/LOG(2))))","v":0},null,null,{"$f":"N22","v":12222},{"$f":"COUNTIF(L7:L35,T22)","v":0},{"$f":"U22/(W4-U25)","v":0},{"$f":"IF(V22=0,0,(V22*((LOG(V22))/LOG(2))))","v":0},null,{"$f":"N22","v":12222},{"$f":"COUNTIF(L36:L63,Y22)","v":0},{"$f":"Z22/(AB4-Z25)","v":0},{"$f":"IF(AA22=0,0,(AA22*((LOG(AA22))/LOG(2))))","v":0},null,{"$f":"N22","v":12222},{"$f":"COUNTIF(L64:L92,AD22)","v":0},{"$f":"AE22/(AG4-AE25)","v":0},{"$f":"IF(AF22=0,0,(AF22*((LOG(AF22))/LOG(2))))","v":0},null,{"$f":"N22","v":12222},{"$f":"COUNTIF(L93:L120,AI22)","v":0},{"$f":"AJ22/(AL4-AJ25)","v":0},{"$f":"IF(AK22=0,0,(AK22*((LOG(AK22))/LOG(2))))","v":0},null,{"$f":"N22","v":12222},{"$f":"COUNTIF(L121:L149,AN22)","v":0},{"$f":"AO22/(AQ4-AO25)","v":0},{"$f":"IF(AP22=0,0,(AP22*((LOG(AP22))/LOG(2))))","v":0},null,{"$f":"N22","v":12222},{"$f":"COUNTIF(L150:L177,AS22)","v":0},{"$f":"AT22/(AV4-AT25)","v":0},{"$f":"IF(AU22=0,0,(AU22*((LOG(AU22))/LOG(2))))","v":0}]
[12,2006,13,2017,24,2024,23,2031,13,2038,0,11221,null,21111,{"$f":"COUNTIF($L$7:$L$500,N23)","v":11},{"$f":"O23/$Q$4","v":6.4327485380116955E-2},{"$f":"IF(P23=0,0,(P23*((LOG(P23))/LOG(2))))","v":-0.25463526233178135},null,null,{"$f":"N23","v":21111},{"$f":"COUNTIF(L7:L35,T23)","v":0},{"$f":"U23/(W4-U25)","v":0},{"$f":"IF(V23=0,0,(V23*((LOG(V23))/LOG(2))))","v":0},null,{"$f":"N23","v":21111},{"$f":"COUNTIF(L36:L63,Y23)","v":5},{"$f":"Z23/(AB4-Z25)","v":0.18518518518518517},{"$f":"IF(AA23=0,0,(AA23*((LOG(AA23))/LOG(2))))","v":-0.45054803838446406},null,{"$f":"N23","v":21111},{"$f":"COUNTIF(L64:L92,AD23)","v":6},{"$f":"AE23/(AG4-AE25)","v":0.22222222222222221},{"$f":"IF(AF23=0,0,(AF23*((LOG(AF23))/LOG(2))))","v":-0.48220555587606945},null,{"$f":"N23","v":21111},{"$f":"COUNTIF(L93:L120,AI23)","v":0},{"$f":"AJ23/(AL4-AJ25)","v":0},{"$f":"IF(AK23=0,0,(AK23*((LOG(AK23))/LOG(2))))","v":0},null,{"$f":"N23","v":21111},{"$f":"COUNTIF(L121:L149,AN23)","v":0},{"$f":"AO23/(AQ4-AO25)","v":0},{"$f":"IF(AP23=0,0,(AP23*((LOG(AP23))/LOG(2))))","v":0},null,{"$f":"N23","v":21111},{"$f":"COUNTIF(L150:L177,AS23)","v":0},{"$f":"AT23/(AV4-AT25)","v":0},{"$f":"IF(AU23=0,0,(AU23*((LOG(AU23))/LOG(2))))","v":0}]
[12,2136,13,2140,13,2144,14,2151,13,2157,0,11111,null,21112,{"$f":"COUNTIF($L$7:$L$500,N24)","v":15},{"$f":"O24/$Q$4","v":8.771929824561403E-2},{"$f":"IF(P24=0,0,(P24*((LOG(P24))/LOG(2))))","v":-0.30797911572608588},null,null,{"$f":"N24","v":21112},{"$f":"COUNTIF(L7:L35,T24)","v":0},{"$f":"U24/(W4-U25)","v":0},{"$f":"IF(V24=0,0,(V24*((LOG(V24))/LOG(2))))","v":0},null,{"$f":"N24","v":21112},{"$f":"COUNTIF(L36:L63,Y24)","v":4},{"$f":"Z24/(AB4-Z25)","v":0.14814814814814814},{"$f":"IF(AA24=0,0,(AA24*((LOG(AA24))/LOG(2))))","v":-0.40813148180199532},null,{"$f":"N24","v":21112},{"$f":"COUNTIF(L64:L92,AD24)","v":10},{"$f":"AE24/(AG4-AE25)","v":0.37037037037037035},{"$f":"IF(AF24=0,0,(AF24*((LOG(AF24))/LOG(2))))","v":-0.53072570639855787},null,{"$f":"N24","v":21112},{"$f":"COUNTIF(L93:L120,AI24)","v":0},{"$f":"AJ24/(AL4-AJ25)","v":0},{"$f":"IF(AK24=0,0,(AK24*((LOG(AK24))/LOG(2))))","v":0},null,{"$f":"N24","v":21112},{"$f":"COUNTIF(L121:L149,AN24)","v":0},{"$f":"AO24/(AQ4-AO25)","v":0},{"$f":"IF(AP24=0,0,(AP24*((LOG(AP24))/LOG(2))))","v":0},null,{"$f":"N24","v":21112},{"$f":"COUNTIF(L150:L177,AS24)","v":1},{"$f":"AT24/(AV4-AT25)","v":3.5714285714285712E-2},{"$f":"IF(AU24=0,0,(AU24*((LOG(AU24))/LOG(2))))","v":-0.17169124721634299}]
[12,2255,13,2259,13,2263,14,2272,24,2281,0,11112,null,21121,{"$f":"COUNTIF($L$7:$L$500,N25)","v":6},{"$f":"O25/$Q$4","v":3.5087719298245612E-2},{"$f":"IF(P25=0,0,(P25*((LOG(P25))/LOG(2))))","v":-0.16957508821630671},null,null,{"$f":"N25","v":21121},{"$f":"COUNTIF(L7:L35,T25)","v":3},null,null,null,{"$f":"N25","v":21121},{"$f":"COUNTIF(L36:L63,Y25)","v":1},null,null,null,{"$f":"N25","v":21121},{"$f":"COUNTIF(L64:L92,AD25)","v":2},null,null,null,{"$f":"N25","v":21121},{"$f":"COUNTIF(L93:L120,AI25)","v":0},null,null,null,{"$f":"N25","v":21121},{"$f":"COUNTIF(L121:L149,AN25)","v":0},null,null,null,{"$f":"N25","v":21121},{"$f":"COUNTIF(L150:L177,AS25)","v":0}]
[12,2380,13,2384,13,2388,14,2394,13,2405,0,11111,null,21122,{"$f":"COUNTIF($L$7:$L$500,N26)","v":1},{"$f":"O26/$Q$4","v":5.8479532163742687E-3},{"$f":"IF(P26=0,0,(P26*((LOG(P26))/LOG(2))))","v":-4.3379254473016944E-2},null,null,{"$f":"N26","v":21122},{"$f":"COUNTIF(L7:L35,T26)","v":0},{"$f":"U26/(W4-U25)","v":0},{"$f":"IF(V26=0,0,(V26*((LOG(V26))/LOG(2))))","v":0},null,{"$f":"N26","v":21122},{"$f":"COUNTIF(L36:L63,Y26)","v":0},{"$f":"Z26/(AB4-Z25)","v":0},{"$f":"IF(AA26=0,0,(AA26*((LOG(AA26))/LOG(2))))","v":0},null,{"$f":"N26","v":21122},{"$f":"COUNTIF(L64:L92,AD26)","v":1},{"$f":"AE26/(AG4-AE25)","v":3.7037037037037035E-2},{"$f":"IF(AF26=0,0,(AF26*((LOG(AF26))/LOG(2))))","v":-0.1761069445245729},null,{"$f":"N26","v":21122},{"$f":"COUNTIF(L93:L120,AI26)","v":0},{"$f":"AJ26/(AL4-AJ25)","v":0},{"$f":"IF(AK26=0,0,(AK26*((LOG(AK26))/LOG(2))))","v":0},null,{"$f":"N26","v":21122},{"$f":"COUNTIF(L121:L149,AN26)","v":0},{"$f":"AO26/(AQ4-AO25)","v":0},{"$f":"IF(AP26=0,0,(AP26*((LOG(AP26))/LOG(2))))","v":0},null,{"$f":"N26","v":21122},{"$f":"COUNTIF(L150:L177,AS26)","v":0},{"$f":"AT26/(AV4-AT25)","v":0},{"$f":"IF(AU26=0,0,(AU26*((LOG(AU26))/LOG(2))))","v":0}]
[12,2502,13,2506,13,2510,14,2514,13,2521,0,11111,null,21211,{"$f":"COUNTIF($L$7:$L$500,N27)","v":1},{"$f":"O27/$Q$4","v":5.8479532163742687E-3},{"$f":"IF(P27=0,0,(P27*((LOG(P27))/LOG(2))))","v":-4.3379254473016944E-2},null,null,{"$f":"N27","v":21211},{"$f":"COUNTIF(L7:L35,T27)","v":0},{"$f":"U27/(W4-U25)","v":0},{"$f":"IF(V27=0,0,(V27*((LOG(V27))/LOG(2))))","v":0},null,{"$f":"N27","v":21211},{"$f":"COUNTIF(L36:L63,Y27)","v":0},{"$f":"Z27/(AB4-Z25)","v":0},{"$f":"IF(AA27=0,0,(AA27*((LOG(AA27))/LOG(2))))","v":0},null,{"$f":"N27","v":21211},{"$f":"COUNTIF(L64:L92,AD27)","v":1},{"$f":"AE27/(AG4-AE25)","v":3.7037037037037035E-2},{"$f":"IF(AF27=0,0,(AF27*((LOG(AF27))/LOG(2))))","v":-0.1761069445245729},null,{"$f":"N27","v":21211},{"$f":"COUNTIF(L93:L120,AI27)","v":0},{"$f":"AJ27/(AL4-AJ25)","v":0},{"$f":"IF(AK27=0,0,(AK27*((LOG(AK27))/LOG(2))))","v":0},null,{"$f":"N27","v":21211},{"$f":"COUNTIF(L121:L149,AN27)","v":0},{"$f":"AO27/(AQ4-AO25)","v":0},{"$f":"IF(AP27=0,0,(AP27*((LOG(AP27))/LOG(2))))","v":0},null,{"$f":"N27","v":21211},{"$f":"COUNTIF(L150:L177,AS27)","v":0},{"$f":"AT27/(AV4-AT25)","v":0},{"$f":"IF(AU27=0,0,(AU27*((LOG(AU27))/LOG(2))))","v":0}]
[12,2635,13,2639,13,2643,14,2651,13,2658,0,11111,null,21212,{"$f":"COUNTIF($L$7:$L$500,N28)","v":25},{"$f":"O28/$Q$4","v":0.14619883040935672},{"$f":"IF(P28=0,0,(P28*((LOG(P28))/LOG(2))))","v":-0.40555501829110713},null,null,{"$f":"N28","v":21212},{"$f":"COUNTIF(L7:L35,T28)","v":0},{"$f":"U28/(W4-U25)","v":0},{"$f":"IF(V28=0,0,(V28*((LOG(V28))/LOG(2))))","v":0},null,{"$f":"N28","v":21212},{"$f":"COUNTIF(L36:L63,Y28)","v":0},{"$f":"Z28/(AB4-Z25)","v":0},{"$f":"IF(AA28=0,0,(AA28*((LOG(AA28))/LOG(2))))","v":0},null,{"$f":"N28","v":21212},{"$f":"COUNTIF(L64:L92,AD28)","v":1},{"$f":"AE28/(AG4-AE25)","v":3.7037037037037035E-2},{"$f":"IF(AF28=0,0,(AF28*((LOG(AF28))/LOG(2))))","v":-0.1761069445245729},null,{"$f":"N28","v":21212},{"$f":"COUNTIF(L93:L120,AI28)","v":12},{"$f":"AJ28/(AL4-AJ25)","v":0.42857142857142855},{"$f":"IF(AK28=0,0,(AK28*((LOG(AK28))/LOG(2))))","v":-0.52388246628704915},null,{"$f":"N28","v":21212},{"$f":"COUNTIF(L121:L149,AN28)","v":10},{"$f":"AO28/(AQ4-AO25)","v":0.34482758620689657},{"$f":"IF(AP28=0,0,(AP28*((LOG(AP28))/LOG(2))))","v":-0.52967341387593436},null,{"$f":"N28","v":21212},{"$f":"COUNTIF(L150:L177,AS28)","v":2},{"$f":"AT28/(AV4-AT25)","v":7.1428571428571425E-2},{"$f":"IF(AU28=0,0,(AU28*((LOG(AU28))/LOG(2))))","v":-0.27195392300411453}]
[12,2768,13,2772,13,2780,23,2787,13,2797,0,11121,null,21221,{"$f":"COUNTIF($L$7:$L$500,N29)","v":5},{"$f":"O29/$Q$4","v":2.9239766081871343E-2},{"$f":"IF(P29=0,0,(P29*((LOG(P29))/LOG(2))))","v":-0.14900363801165309},null,null,{"$f":"N29","v":21221},{"$f":"COUNTIF(L7:L35,T29)","v":0},{"$f":"U29/(W4-U25)","v":0},{"$f":"IF(V29=0,0,(V29*((LOG(V29))/LOG(2))))","v":0},null,{"$f":"N29","v":21221},{"$f":"COUNTIF(L36:L63,Y29)","v":0},{"$f":"Z29/(AB4-Z25)","v":0},{"$f":"IF(AA29=0,0,(AA29*((LOG(AA29))/LOG(2))))","v":0},null,{"$f":"N29","v":21221},{"$f":"COUNTIF(L64:L92,AD29)","v":1},{"$f":"AE29/(AG4-AE25)","v":3.7037037037037035E-2},{"$f":"IF(AF29=0,0,(AF29*((LOG(AF29))/LOG(2))))","v":-0.1761069445245729},null,{"$f":"N29","v":21221},{"$f":"COUNTIF(L93:L120,AI29)","v":2},{"$f":"AJ29/(AL4-AJ25)","v":7.1428571428571425E-2},{"$f":"IF(AK29=0,0,(AK29*((LOG(AK29))/LOG(2))))","v":-0.27195392300411453},null,{"$f":"N29","v":21221},{"$f":"COUNTIF(L121:L149,AN29)","v":0},{"$f":"AO29/(AQ4-AO25)","v":0},{"$f":"IF(AP29=0,0,(AP29*((LOG(AP29))/LOG(2))))","v":0},null,{"$f":"N29","v":21221},{"$f":"COUNTIF(L150:L177,AS29)","v":2},{"$f":"AT29/(AV4-AT25)","v":7.1428571428571425E-2},{"$f":"IF(AU29=0,0,(AU29*((LOG(AU29))/LOG(2))))","v":-0.27195392300411453}]
[12,2899,13,2903,13,2908,14,2915,24,2924,0,11112,null,21222,{"$f":"COUNTIF($L$7:$L$500,N30)","v":0},{"$f":"O30/$Q$4","v":0},{"$f":"IF(P30=0,0,(P30*((LOG(P30))/LOG(2))))","v":0},null,null,{"$f":"N30","v":21222},{"$f":"COUNTIF(L7:L35,T30)","v":0},{"$f":"U30/(W4-U25)","v":0},{"$f":"IF(V30=0,0,(V30*((LOG(V30))/LOG(2))))","v":0},null,{"$f":"N30","v":21222},{"$f":"COUNTIF(L36:L63,Y30)","v":0},{"$f":"Z30/(AB4-Z25)","v":0},{"$f":"IF(AA30=0,0,(AA30*((LOG(AA30))/LOG(2))))","v":0},null,{"$f":"N30","v":21222},{"$f":"COUNTIF(L64:L92,AD30)","v":0},{"$f":"AE30/(AG4-AE25)","v":0},{"$f":"IF(AF30=0,0,(AF30*((LOG(AF30))/LOG(2))))","v":0},null,{"$f":"N30","v":21222},{"$f":"COUNTIF(L93:L120,AI30)","v":0},{"$f":"AJ30/(AL4-AJ25)","v":0},{"$f":"IF(AK30=0,0,(AK30*((LOG(AK30))/LOG(2))))","v":0},null,{"$f":"N30","v":21222},{"$f":"COUNTIF(L121:L149,AN30)","v":0},{"$f":"AO30/(AQ4-AO25)","v":0},{"$f":"IF(AP30=0,0,(AP30*((LOG(AP30))/LOG(2))))","v":0},null,{"$f":"N30","v":21222},{"$f":"COUNTIF(L150:L177,AS30)","v":0},{"$f":"AT30/(AV4-AT25)","v":0},{"$f":"IF(AU30=0,0,(AU30*((LOG(AU30))/LOG(2))))","v":0}]
[21,3025,11,3032,11,3039,21,3047,11,3054,1,21121,null,22111,{"$f":"COUNTIF($L$7:$L$500,N31)","v":6},{"$f":"O31/$Q$4","v":3.5087719298245612E-2},{"$f":"IF(P31=0,0,(P31*((LOG(P31))/LOG(2))))","v":-0.16957508821630671},null,null,{"$f":"N31","v":22111},{"$f":"COUNTIF(L7:L35,T31)","v":0},{"$f":"U31/(W4-U25)","v":0},{"$f":"IF(V31=0,0,(V31*((LOG(V31))/LOG(2))))","v":0},null,{"$f":"N31","v":22111},{"$f":"COUNTIF(L36:L63,Y31)","v":2},{"$f":"Z31/(AB4-Z25)","v":7.407407407407407E-2},{"$f":"IF(AA31=0,0,(AA31*((LOG(AA31))/LOG(2))))","v":-0.27813981497507173},null,{"$f":"N31","v":22111},{"$f":"COUNTIF(L64:L92,AD31)","v":1},{"$f":"AE31/(AG4-AE25)","v":3.7037037037037035E-2},{"$f":"IF(AF31=0,0,(AF31*((LOG(AF31))/LOG(2))))","v":-0.1761069445245729},null,{"$f":"N31","v":22111},{"$f":"COUNTIF(L93:L120,AI31)","v":1},{"$f":"AJ31/(AL4-AJ25)","v":3.5714285714285712E-2},{"$f":"IF(AK31=0,0,(AK31*((LOG(AK31))/LOG(2))))","v":-0.17169124721634299},null,{"$f":"N31","v":22111},{"$f":"COUNTIF(L121:L149,AN31)","v":0},{"$f":"AO31/(AQ4-AO25)","v":0},{"$f":"IF(AP31=0,0,(AP31*((LOG(AP31))/LOG(2))))","v":0},null,{"$f":"N31","v":22111},{"$f":"COUNTIF(L150:L177,AS31)","v":2},{"$f":"AT31/(AV4-AT25)","v":7.1428571428571425E-2},{"$f":"IF(AU31=0,0,(AU31*((LOG(AU31))/LOG(2))))","v":-0.27195392300411453}]
[12,3159,13,3163,13,3167,14,3171,13,3178,0,11111,null,22112,{"$f":"COUNTIF($L$7:$L$500,N32)","v":2},{"$f":"O32/$Q$4","v":1.1695906432748537E-2},{"$f":"IF(P32=0,0,(P32*((LOG(P32))/LOG(2))))","v":-7.5062602513285351E-2},null,null,{"$f":"N32","v":22112},{"$f":"COUNTIF(L7:L35,T32)","v":0},{"$f":"U32/(W4-U25)","v":0},{"$f":"IF(V32=0,0,(V32*((LOG(V32))/LOG(2))))","v":0},null,{"$f":"N32","v":22112},{"$f":"COUNTIF(L36:L63,Y32)","v":2},{"$f":"Z32/(AB4-Z25)","v":7.407407407407407E-2},{"$f":"IF(AA32=0,0,(AA32*((LOG(AA32))/LOG(2))))","v":-0.27813981497507173},null,{"$f":"N32","v":22112},{"$f":"COUNTIF(L64:L92,AD32)","v":0},{"$f":"AE32/(AG4-AE25)","v":0},{"$f":"IF(AF32=0,0,(AF32*((LOG(AF32))/LOG(2))))","v":0},null,{"$f":"N32","v":22112},{"$f":"COUNTIF(L93:L120,AI32)","v":0},{"$f":"AJ32/(AL4-AJ25)","v":0},{"$f":"IF(AK32=0,0,(AK32*((LOG(AK32))/LOG(2))))","v":0},null,{"$f":"N32","v":22112},{"$f":"COUNTIF(L121:L149,AN32)","v":0},{"$f":"AO32/(AQ4-AO25)","v":0},{"$f":"IF(AP32=0,0,(AP32*((LOG(AP32))/LOG(2))))","v":0},null,{"$f":"N32","v":22112},{"$f":"COUNTIF(L150:L177,AS32)","v":0},{"$f":"AT32/(AV4-AT25)","v":0},{"$f":"IF(AU32=0,0,(AU32*((LOG(AU32))/LOG(2))))","v":0}]
[21,3280,11,3287,11,3294,21,3302,11,3309,1,21121,null,22121,{"$f":"COUNTIF($L$7:$L$500,N33)","v":18},{"$f":"O33/$Q$4","v":0.10526315789473684},{"$f":"IF(P33=0,0,(P33*((LOG(P33))/LOG(2))))","v":-0.34188710667827216},null,null,{"$f":"N33","v":22121},{"$f":"COUNTIF(L7:L35,T33)","v":0},{"$f":"U33/(W4-U25)","v":0},{"$f":"IF(V33=0,0,(V33*((LOG(V33))/LOG(2))))","v":0},null,{"$f":"N33","v":22121},{"$f":"COUNTIF(L36:L63,Y33)","v":0},{"$f":"Z33/(AB4-Z25)","v":0},{"$f":"IF(AA33=0,0,(AA33*((LOG(AA33))/LOG(2))))","v":0},null,{"$f":"N33","v":22121},{"$f":"COUNTIF(L64:L92,AD33)","v":1},{"$f":"AE33/(AG4-AE25)","v":3.7037037037037035E-2},{"$f":"IF(AF33=0,0,(AF33*((LOG(AF33))/LOG(2))))","v":-0.1761069445245729},null,{"$f":"N33","v":22121},{"$f":"COUNTIF(L93:L120,AI33)","v":5},{"$f":"AJ33/(AL4-AJ25)","v":0.17857142857142858},{"$f":"IF(AK33=0,0,(AK33*((LOG(AK33))/LOG(2))))","v":-0.44382621913754317},null,{"$f":"N33","v":22121},{"$f":"COUNTIF(L121:L149,AN33)","v":6},{"$f":"AO33/(AQ4-AO25)","v":0.20689655172413793},{"$f":"IF(AP33=0,0,(AP33*((LOG(AP33))/LOG(2))))","v":-0.4702796884978791},null,{"$f":"N33","v":22121},{"$f":"COUNTIF(L150:L177,AS33)","v":6},{"$f":"AT33/(AV4-AT25)","v":0.21428571428571427},{"$f":"IF(AU33=0,0,(AU33*((LOG(AU33))/LOG(2))))","v":-0.47622694742923877}]
[21,3407,11,3418,11,3425,21,3433,11,3440,1,21121,null,22122,{"$f":"COUNTIF($L$7:$L$500,N34)","v":1},{"$f":"O34/$Q$4","v":5.8479532163742687E-3},{"$f":"IF(P34=0,0,(P34*((LOG(P34))/LOG(2))))","v":-4.3379254473016944E-2},null,null,{"$f":"N34","v":22122},{"$f":"COUNTIF(L7:L35,T34)","v":0},{"$f":"U34/(W4-U25)","v":0},{"$f":"IF(V34=0,0,(V34*((LOG(V34))/LOG(2))))","v":0},null,{"$f":"N34","v":22122},{"$f":"COUNTIF(L36:L63,Y34)","v":0},{"$f":"Z34/(AB4-Z25)","v":0},{"$f":"IF(AA34=0,0,(AA34*((LOG(AA34))/LOG(2))))","v":0},null,{"$f":"N34","v":22122},{"$f":"COUNTIF(L64:L92,AD34)","v":0},{"$f":"AE34/(AG4-AE25)","v":0},{"$f":"IF(AF34=0,0,(AF34*((LOG(AF34))/LOG(2))))","v":0},null,{"$f":"N34","v":22122},{"$f":"COUNTIF(L93:L120,AI34)","v":0},{"$f":"AJ34/(AL4-AJ25)","v":0},{"$f":"IF(AK34=0,0,(AK34*((LOG(AK34))/LOG(2))))","v":0},null,{"$f":"N34","v":22122},{"$f":"COUNTIF(L121:L149,AN34)","v":0},{"$f":"AO34/(AQ4-AO25)","v":0},{"$f":"IF(AP34=0,0,(AP34*((LOG(AP34))/LOG(2))))","v":0},null,{"$f":"N34","v":22122},{"$f":"COUNTIF(L150:L177,AS34)","v":1},{"$f":"AT34/(AV4-AT25)","v":3.5714285714285712E-2},{"$f":"IF(AU34=0,0,(AU34*((LOG(AU34))/LOG(2))))","v":-0.17169124721634299}]
[12,3535,13,3539,13,3553,14,3558,13,3564,0,11111,null,22211,{"$f":"COUNTIF($L$7:$L$500,N35)","v":0},{"$f":"O35/$Q$4","v":0},{"$f":"IF(P35=0,0,(P35*((LOG(P35))/LOG(2))))","v":0},null,null,{"$f":"N35","v":22211},{"$f":"COUNTIF(L7:L35,T35)","v":0},{"$f":"U35/(W4-U25)","v":0},{"$f":"IF(V35=0,0,(V35*((LOG(V35))/LOG(2))))","v":0},null,{"$f":"N35","v":22211},{"$f":"COUNTIF(L36:L63,Y35)","v":0},{"$f":"Z35/(AB4-Z25)","v":0},{"$f":"IF(AA35=0,0,(AA35*((LOG(AA35))/LOG(2))))","v":0},null,{"$f":"N35","v":22211},{"$f":"COUNTIF(L64:L92,AD35)","v":0},{"$f":"AE35/(AG4-AE25)","v":0},{"$f":"IF(AF35=0,0,(AF35*((LOG(AF35))/LOG(2))))","v":0},null,{"$f":"N35","v":22211},{"$f":"COUNTIF(L93:L120,AI35)","v":0},{"$f":"AJ35/(AL4-AJ25)","v":0},{"$f":"IF(AK35=0,0,(AK35*((LOG(AK35))/LOG(2))))","v":0},null,{"$f":"N35","v":22211},{"$f":"COUNTIF(L121:L149,AN35)","v":0},{"$f":"AO35/(AQ4-AO25)","v":0},{"$f":"IF(AP35=0,0,(AP35*((LOG(AP35))/LOG(2))))","v":0},null,{"$f":"N35","v":22211},{"$f":"COUNTIF(L150:L177,AS35)","v":0},{"$f":"AT35/(AV4-AT25)","v":0},{"$f":"IF(AU35=0,0,(AU35*((LOG(AU35))/LOG(2))))","v":0}]
[12,3664,13,3668,13,3672,14,3676,13,3684,0,11111,null,22212,{"$f":"COUNTIF($L$7:$L$500,N36)","v":16},{"$f":"O36/$Q$4","v":9.3567251461988299E-2},{"$f":"IF(P36=0,0,(P36*((LOG(P36))/LOG(2))))","v":-0.31979906572031791},null,null,{"$f":"N36","v":22212},{"$f":"COUNTIF(L7:L35,T36)","v":0},{"$f":"U36/(W4-U25)","v":0},{"$f":"IF(V36=0,0,(V36*((LOG(V36))/LOG(2))))","v":0},null,{"$f":"N36","v":22212},{"$f":"COUNTIF(L36:L63,Y36)","v":0},{"$f":"Z36/(AB4-Z25)","v":0},{"$f":"IF(AA36=0,0,(AA36*((LOG(AA36))/LOG(2))))","v":0},null,{"$f":"N36","v":22212},{"$f":"COUNTIF(L64:L92,AD36)","v":0},{"$f":"AE36/(AG4-AE25)","v":0},{"$f":"IF(AF36=0,0,(AF36*((LOG(AF36))/LOG(2))))","v":0},null,{"$f":"N36","v":22212},{"$f":"COUNTIF(L93:L120,AI36)","v":4},{"$f":"AJ36/(AL4-AJ25)","v":0.14285714285714285},{"$f":"IF(AK36=0,0,(AK36*((LOG(AK36))/LOG(2))))","v":-0.40105070315108626},null,{"$f":"N36","v":22212},{"$f":"COUNTIF(L121:L149,AN36)","v":7},{"$f":"AO36/(AQ4-AO25)","v":0.2413793103448276},{"$f":"IF(AP36=0,0,(AP36*((LOG(AP36))/LOG(2))))","v":-0.49497870729275095},null,{"$f":"N36","v":22212},{"$f":"COUNTIF(L150:L177,AS36)","v":5},{"$f":"AT36/(AV4-AT25)","v":0.17857142857142858},{"$f":"IF(AU36=0,0,(AU36*((LOG(AU36))/LOG(2))))","v":-0.44382621913754317}]
[12,3786,13,3791,13,3798,23,3813,13,3821,0,11121,null,22221,{"$f":"COUNTIF($L$7:$L$500,N37)","v":6},{"$f":"O37/$Q$4","v":3.5087719298245612E-2},{"$f":"IF(P37=0,0,(P37*((LOG(P37))/LOG(2))))","v":-0.16957508821630671},null,null,{"$f":"N37","v":22221},{"$f":"COUNTIF(L7:L35,T37)","v":0},{"$f":"U37/(W4-U25)","v":0},{"$f":"IF(V37=0,0,(V37*((LOG(V37))/LOG(2))))","v":0},null,{"$f":"N37","v":22221},{"$f":"COUNTIF(L36:L63,Y37)","v":0},{"$f":"Z37/(AB4-Z25)","v":0},{"$f":"IF(AA37=0,0,(AA37*((LOG(AA37))/LOG(2))))","v":0},null,{"$f":"N37","v":22221},{"$f":"COUNTIF(L64:L92,AD37)","v":0},{"$f":"AE37/(AG4-AE25)","v":0},{"$f":"IF(AF37=0,0,(AF37*((LOG(AF37))/LOG(2))))","v":0},null,{"$f":"N37","v":22221},{"$f":"COUNTIF(L93:L120,AI37)","v":0},{"$f":"AJ37/(AL4-AJ25)","v":0},{"$f":"IF(AK37=0,0,(AK37*((LOG(AK37))/LOG(2))))","v":0},null,{"$f":"N37","v":22221},{"$f":"COUNTIF(L121:L149,AN37)","v":2},{"$f":"AO37/(AQ4-AO25)","v":6.8965517241379309E-2},{"$f":"IF(AP37=0,0,(AP37*((LOG(AP37))/LOG(2))))","v":-0.26606765483638428},null,{"$f":"N37","v":22221},{"$f":"COUNTIF(L150:L177,AS37)","v":4},{"$f":"AT37/(AV4-AT25)","v":0.14285714285714285},{"$f":"IF(AU37=0,0,(AU37*((LOG(AU37))/LOG(2))))","v":-0.40105070315108626}]
[21,3921,11,3927,11,3935,12,3940,24,3948,1,21112,null,22222,{"$f":"COUNTIF($L$7:$L$500,N38)","v":0},{"$f":"O38/$Q$4","v":0},{"$f":"IF(P38=0,0,(P38*((LOG(P38))/LOG(2))))","v":0},null,null,{"$f":"N38","v":22222},{"$f":"COUNTIF(L7:L35,T38)","v":0},{"$f":"U38/(W4-U25)","v":0},{"$f":"IF(V38=0,0,(V38*((LOG(V38))/LOG(2))))","v":0},null,{"$f":"N38","v":22222},{"$f":"COUNTIF(L36:L63,Y38)","v":0},{"$f":"Z38/(AB4-Z25)","v":0},{"$f":"IF(AA38=0,0,(AA38*((LOG(AA38))/LOG(2))))","v":0},null,{"$f":"N38","v":22222},{"$f":"COUNTIF(L64:L92,AD38)","v":0},{"$f":"AE38/(AG4-AE25)","v":0},{"$f":"IF(AF38=0,0,(AF38*((LOG(AF38))/LOG(2))))","v":0},null,{"$f":"N38","v":22222},{"$f":"COUNTIF(L93:L120,AI38)","v":0},{"$f":"AJ38/(AL4-AJ25)","v":0},{"$f":"IF(AK38=0,0,(AK38*((LOG(AK38))/LOG(2))))","v":0},null,{"$f":"N38","v":22222},{"$f":"COUNTIF(L121:L149,AN38)","v":0},{"$f":"AO38/(AQ4-AO25)","v":0},{"$f":"IF(AP38=0,0,(AP38*((LOG(AP38))/LOG(2))))","v":0},null,{"$f":"N38","v":22222},{"$f":"COUNTIF(L150:L177,AS38)","v":0},{"$f":"AT38/(AV4-AT25)","v":0},{"$f":"IF(AU38=0,0,(AU38*((LOG(AU38))/LOG(2))))","v":0}]
[21,4043,11,4051,11,4055,12,4060,24,4068,0,21112,null,null,null,{"$f":"SUM(P7:P38)","v":0.99999999999999989},{"$f":"-SUM(Q7:Q38)","v":3.928291057094901},null,null,null,null,{"$f":"SUM(V7:V38)","v":0.99999999999999978},{"$f":"-SUM(W7:W38)","v":2.3480835851130091},null,null,null,{"$f":"SUM(AA7:AA38)","v":1},{"$f":"-SUM(AB7:AB38)","v":2.9765166713855606},null,null,null,{"$f":"SUM(AF7:AF38)","v":0.99999999999999956},{"$f":"-SUM(AG7:AG38)","v":2.774000707520357},null,null,null,{"$f":"SUM(AK7:AK38)","v":1},{"$f":"-SUM(AL7:AL38)","v":2.4991695476615083},null,null,null,{"$f":"SUM(AP7:AP38)","v":1},{"$f":"-SUM(AQ7:AQ38)","v":2.2671041706528388},null,null,null,{"$f":"SUM(AU7:AU38)","v":1},{"$f":"-SUM(AV7:AV38)","v":3.3388043692446132}]
[12,4170,13,4182,13,4195,14,4201,13,4208,0,11111,null,null,null,"U=",{"$f":"Q39/(LOG(Q4)/LOG(2))","v":0.52957254801328801},null,null,null,null,"U1=",{"$f":"W39/(LOG(W4)/LOG(2))","v":0.48334556834785392},null,null,null,"U2=",{"$f":"AB39/(LOG(AB4)/LOG(2))","v":0.61915891787569055},null,null,null,"U3=",{"$f":"AG39/(LOG(AG4)/LOG(2))","v":0.57101925888606964},null,null,null,"U4=",{"$f":"AL39/(LOG(AL4)/LOG(2))","v":0.51986374798219281},null,null,null,"U5=",{"$f":"AQ39/(LOG(AQ4)/LOG(2))","v":0.46667621238672713},null,null,null,"U6=",{"$f":"AV39/(LOG(AV4)/LOG(2))","v":0.69452004758899022}]
[12,4309,13,4313,13,4317,14,4321,13,4326,0,11111]
[12,4433,13,4441,13,4448,14,4455,13,4462,0,11111]
[12,4565,13,4570,13,4577,14,4582,13,4587,0,11111,null,"Total Target Seq"]
[12,4689,13,4693,13,4697,14,4702,24,4712,1,11112,null,{"$f":"COUNTIF(L7:L177,G3)","v":6},null,29,28,29,28,29,28]
[21,4809,11,4817,11,4822,12,4831,13,4837,0,21111,null,null,null,"% of reinforcement given in 6 equal intervals based on number of trials "]
[12,4941,13,4950,13,4954,14,4959,13,4965,1,11111,null,null,null,"%_1","%_2","%_3","%_4","%_5","%_6"]
[21,5066,11,5073,11,5077,12,5081,24,5089,0,21112,null,null,"target sequence",{"$f":"$G$3","v":21121},{"$f":"$G$3","v":21121},{"$f":"$G$3","v":21121},{"$f":"$G$3","v":21121},{"$f":"$G$3","v":21121},{"$f":"$G$3","v":21121}]
[12,5186,13,5190,13,5194,14,5198,13,5205,0,11111,null,null,"total reinforcement",{"$f":"U25","v":3},{"$f":"Z25","v":1},{"$f":"AE25","v":2},{"$f":"AJ25","v":0},{"$f":"AO25","v":0},{"$f":"AT25","v":0}]
[12,5318,13,5322,13,5326,23,5334,24,5341,0,11122,null,null,"% target"]
[21,5441,11,5448,11,5451,12,5455,13,5462,0,21111,null,null,"CCRF"]
[21,5563,11,5570,11,5574,12,5579,13,5594,1,21111,null,null,"% CCRf"]
[21,5690,11,5697,11,5701,12,5705,24,5724,1,21112,null,null,"average response rate",{"$f":"J35/P44","v":122.89655172413794},{"$f":"(J63-J35)/Q44","v":129.10714285714286},{"$f":"(J92-J63)/R44","v":134.48275862068965},{"$f":"(J120-J92)/S44","v":150.03571428571428},{"$f":"(J149-J120)/T44","v":150.37931034482759},{"$f":"(J177-J149)/U44","v":151.60714285714286}]
[21,5817,22,5829,13,5837,14,5844,13,5850,0,22111]
[21,5951,11,5958,11,5963,12,5969,13,5977,0,21111]
[12,6098,13,6102,13,6106,14,6111,24,6120,0,11112]
[21,6220,11,6228,11,6233,12,6237,13,6244,0,21111]
[12,6350,13,6359,13,6363,14,6368,24,6378,0,11112]
[21,6480,22,6487,13,6495,14,6502,24,6509,1,22112]
[21,6603,22,6613,13,6621,14,6627,24,6635,0,22112]
[12,6751,13,6756,24,6764,14,6772,24,6780,0,11212]
[21,6876,22,6884,13,6891,14,6899,13,6906,1,22111]
[21,7003,11,7011,11,7018,21,7026,11,7034,1,21121]
[12,7147,24,7156,13,7164,23,7172,13,7179,0,12121]
[12,7286,13,7290,13,7298,23,7308,13,7316,0,11121]
[21,7418,11,7425,11,7429,12,7433,24,7442,1,21112]
[21,7535,11,7546,11,7550,12,7554,13,7559,0,21111]
[21,7658,11,7666,11,7673,21,7683,11,7690,1,21121]
[21,7787,11,7794,11,7798,12,7802,24,7812,0,21112]
[21,7911,11,7918,11,7922,12,7926,24,7940,0,21112]
[21,8037,11,8045,11,8048,12,8054,13,8061,0,21111]
[21,8158,11,8165,11,8172,12,8176,13,8180,0,21111]
[21,8299,11,8308,11,8313,12,8317,24,8329,0,21112]
[21,8426,11,8440,11,8445,12,8449,24,8458,1,21112]
[21,8554,11,8563,11,8567,12,8571,13,8575,0,21111]
[21,8673,11,8684,11,8689,12,8694,24,8702,0,21112]
[21,8803,11,8811,11,8815,12,8820,24,8830,0,21112]
[12,8939,13,8943,13,8951,14,8962,13,8973,0,11111]
[21,9081,11,9088,11,9093,12,9097,24,9105,0,21112]
[21,9202,11,9216,11,9220,12,9224,13,9228,0,21111]
[21,9325,11,9334,22,9346,14,9354,13,9361,0,21211]
[12,9472,13,9476,13,9480,23,9489,13,9496,1,11121]
[21,9614,11,9622,22,9629,23,9639,13,9650,0,21221]
[21,9747,11,9765,11,9770,21,9778,11,9787,1,21121]
[21,9885,11,9899,11,9909,12,9912,13,9917,0,21111]
[21,10019,11,10032,11,10040,21,10047,22,10057,0,21122]
[12,10152,24,10162,13,10170,23,10180,13,10187,0,12121]
[12,10314,13,10318,13,10322,23,10332,13,10339,0,11121]
[21,10438,22,10446,13,10453,14,10472,13,10476,0,22111]
[21,10578,11,10586,11,10590,12,10594,24,10602,0,21112]
[21,10734,11,10744,22,10752,14,10762,24,10770,1,21212]
[21,10889,11,10902,11,10907,12,10911,24,10919,0,21112]
[21,11040,22,11055,13,11063,23,11071,13,11079,0,22121]
[21,11202,11,11211,22,11220,14,11228,24,11236,0,21212]
[21,11335,22,11351,13,11361,23,11369,13,11377,0,22121]
[21,11476,22,11481,13,11488,23,11497,13,11507,0,22121]
[21,11624,11,11634,22,11643,14,11651,24,11660,0,21212]
[21,11760,22,11764,24,11771,14,11781,24,11788,0,22212]
[21,11941,11,11951,22,11959,23,11966,13,11974,0,21221]
[12,12121,24,12129,13,12137,23,12145,13,12156,0,12121]
[21,12287,11,12297,22,12305,14,12313,24,12325,1,21212]
[21,12453,11,12461,22,12469,14,12479,24,12487,0,21212]
[21,12595,22,12603,24,12614,14,12624,24,12632,0,22212]
[21,12732,11,12752,22,12760,14,12771,24,12779,0,21212]
[21,12888,11,12900,22,12907,23,12917,13,12926,0,21221]
[21,13034,11,13056,22,13063,14,13074,24,13081,0,21212]
[21,13214,11,13222,22,13230,14,13238,24,13249,0,21212]
[12,13361,13,13365,24,13380,14,13389,24,13399,1,11212]
[21,13521,11,13530,22,13538,14,13545,24,13555,0,21212]
[12,13673,13,13680,13,13685,14,13689,13,13695,1,11111]
[21,13817,11,13828,22,13837,14,13845,24,13853,0,21212]
[21,13967,22,13975,13,13983,23,13992,13,14001,0,22121]
[21,14098,22,14106,13,14114,14,14119,13,14123,0,22111]
[21,14222,22,14236,13,14244,23,14252,13,14263,1,22121]
[21,14375,11,14391,22,14398,14,14408,24,14416,0,21212]
[12,14527,24,14536,24,14544,14,14551,24,14560,0,12212]
[21,14658,22,14663,24,14672,14,14682,24,14690,0,22212]
[21,14792,22,14804,13,14814,23,14821,13,14828,0,22121]
[21,14949,11,14960,22,14968,14,14976,24,14984,0,21212]
[21,15083,22,15089,24,15107,14,15115,24,15124,0,22212]
[21,15247,11,15255,22,15263,14,15272,24,15280,1,21212]
[21,15376,22,15381,24,15388,14,15411,24,15418,0,22212]
[21,15524,22,15532,24,15540,14,15550,24,15558,0,22212]
[21,15679,11,15687,22,15695,14,15707,24,15715,1,21212]
[21,15821,22,15828,13,15839,23,15846,13,15855,0,22121]
[12,15992,24,16000,13,16008,23,16017,13,16025,0,12121]
[21,16134,22,16144,13,16151,23,16159,13,16169,0,22121]
[21,16268,22,16272,24,16281,14,16291,24,16299,0,22212]
[21,16399,22,16407,24,16417,14,16426,24,16434,1,22212]
[21,16568,11,16578,22,16586,14,16597,24,16605,0,21212]
[21,16707,22,16712,24,16722,14,16732,24,16740,0,22212]
[21,16844,11,16863,22,16870,14,16879,24,16887,1,21212]
[21,16982,22,16993,13,17003,23,17010,13,17018,0,22121]
[21,17141,11,17150,22,17158,14,17166,24,17174,0,21212]
[21,17288,11,17298,22,17306,14,17318,24,17326,0,21212]
[21,17473,11,17481,22,17489,14,17497,24,17504,0,21212]
[12,17611,24,17619,13,17626,23,17635,13,17643,1,12121]
[21,17759,22,17767,13,17777,23,17782,13,17793,0,22121]
[21,17899,22,17906,13,17914,23,17921,13,17933,0,22121]
[12,18064,13,18068,13,18073,14,18086,24,18094,1,11112]
[21,18194,22,18203,24,18218,23,18225,13,18233,1,22221]
[21,18330,22,18337,24,18346,14,18357,24,18365,0,22212]
[12,18486,24,18495,13,18502,23,18511,13,18522,0,12121]
[21,18736,11,18746,22,18754,14,18764,24,18773,0,21212]
[21,18890,22,18898,24,18906,14,18917,24,18925,1,22212]
[21,19035,22,19042,24,19050,23,19058,13,19068,1,22221]
[21,19171,11,19184,22,19192,14,19202,24,19210,0,21212]
[21,19312,11,19333,22,19340,14,19349,24,19358,0,21212]
[21,19458,11,19478,22,19487,14,19496,24,19504,0,21212]
[21,19609,22,19614,13,19623,23,19630,13,19641,0,22121]
[21,19744,11,19770,22,19782,23,19791,13,19799,1,21221]
[21,19901,11,19913,22,19921,14,19929,24,19937,0,21212]
[21,20047,22,20056,13,20064,23,20071,13,20080,0,22121]
[21,20189,11,20197,22,20203,23,20214,13,20223,0,21221]
[21,20330,22,20339,13,20357,23,20364,13,20374,0,22121]
[21,20476,22,20483,13,20499,23,20506,13,20514,0,22121]
[12,20623,13,20627,13,20632,23,20643,13,20651,0,11121]
[21,20755,22,20763,13,20775,14,20779,13,20783,0,22111]
[21,20899,22,20909,24,20917,14,20926,24,20936,0,22212]
[21,21043,22,21053,13,21062,14,21066,13,21070,0,22111]
[21,21184,22,21192,24,21203,14,21212,24,21219,1,22212]
[12,21342,24,21350,13,21360,23,21372,13,21383,0,12121]
[21,21496,22,21504,24,21512,14,21523,24,21531,0,22212]
[21,21636,22,21644,13,21654,23,21662,13,21670,0,22121]
[21,21797,22,21805,13,21813,23,21820,13,21832,0,22121]
[21,21945,11,21955,22,21972,14,21979,24,21987,0,21212]
[21,22089,22,22095,24,22110,14,22119,24,22126,0,22212]
[21,22245,22,22253,13,22264,23,22272,13,22280,0,22121]
[21,22390,22,22394,24,22401,23,22414,13,22424,1,22221]
[12,22543,13,22551,13,22555,14,22559,13,22565,1,11111]
[21,22739,11,22748,11,22752,12,22756,24,22765,0,21112]
[12,22941,24,22949,13,22956,23,22965,24,22974,0,12122]
[21,23084,22,23090,13,23102,23,23110,24,23117,0,22122]
[21,23222,22,23226,24,23234,23,23241,13,23252,0,22221]
[21,23396,22,23408,24,23412,23,23420,13,23431,1,22221]
[21,23535,22,23542,24,23552,14,23559,24,23567,0,22212]
[12,23673,24,23683,24,23691,14,23699,24,23707,0,12212]
[21,23852,22,23859,24,23866,23,23875,13,23886,0,22221]

{"sheet":"!N330920.000","index":5,"n_rows":151,"n_cols":48,"rows_kept":151,"cut":false,"hidden":false,"merged":[[4,39,4,42],[5,39,5,40],[4,44,4,47],[5,44,5,45],[4,24,4,27],[5,24,5,25],[4,29,4,32],[5,29,5,30],[4,34,4,37],[5,34,5,35],[1,1,1,2],[5,13,5,14],[42,13,42,14],[43,13,43,14],[4,19,4,22],[5,19,5,20]]}
["Report for:!N330920.000"]
["Date:","<date>"]
["Hen:","<hen>",null,null,null,"Correct Sequence",{"$f":"Start!J2","v":21121},null,null,null,null,null,null,null,null,"Total Sequences in Data",{"$f":"4994-COUNTBLANK(L7:L5000)","v":145},null,null,null,null,"Total Sequences in Block Data",{"$f":"COUNTA(L7:L30)","v":24},null,null,null,"Total Sequences in Block Data",{"$f":"COUNTA(L31:L54)","v":24},null,null,null,"Total Sequences in Block Data",{"$f":"COUNTA(L55:L79)","v":25},null,null,null,"Total Sequences in Block Data",{"$f":"COUNTA(L80:L103)","v":24},null,null,null,"Total Sequences in Block Data",{"$f":"COUNTA(L104:L127)","v":24},null,null,null,"Total Sequences in Block Data",{"$f":"COUNTA(L128:L151)","v":24}]
[null,null,null,null,null,null,null,null,null,null,null,null,null,null,null,"Total Sequences in Summary",{"$f":"SUM(O7:O38)","v":145},null,null,null,null,"Total Sequences in Block Summary",{"$f":"SUM(U7:U38)","v":24},null,null,null,"Total Sequences in Block Summary",{"$f":"SUM(Z7:Z38)","v":24},null,null,null,"Total Sequences in Block Summary",{"$f":"SUM(AE7:AE38)","v":25},null,null,null,"Total Sequences in Block Summary",{"$f":"SUM(AJ7:AJ38)","v":24},null,null,null,"Total Sequences in Block Summary",{"$f":"SUM(AO7:AO38)","v":24},null,null,null,"Total Sequences in Block Summary",{"$f":"SUM(AT7:AT38)","v":24}]
[null,null,null,null,null,null,null,null,null,null,null,null,null,null,null,null,null,null,null,"Block 1",null,null,null,null,"Block 2",null,null,null,null,"Block 3",null,null,null,null,"Block 4",null,null,null,null,"Block 5",null,null,null,null,"Block 6"]
["Sequence\nComponent\n1","Time\n1","Sequence\nComponent\n2","Time\n2","Sequence\nComponent\n3","Time\n3","Sequence\nComponent\n4","Time\n4","Sequence\nComponent\n5","Time\n5","Correct?\n0=No 1=Yes","Sequence",null,"Frequency",null,"Relative Frequency","Variability",null,null,"Frequency",null,"Relative Frequency","Variability",null,"Frequency",null,"Relative Frequency","Variability",null,"Frequency",null,"Relative Frequency","Variability",null,"Frequency",null,"Relative Frequency","Variability",null,"Frequency",null,"Relative Frequency","Variability",null,"Frequency",null,"Relative Frequency","Variability"]
[21,13,11,24,22,31,14,38,24,46,0,21212,null,11111,{"$f":"COUNTIF($L$7:$L$500,N7)","v":8},{"$f":"O7/$Q$4","v":5.5172413793103448E-2},{"$f":"IF(P7=0,0,(P7*((LOG(P7))/LOG(2))))","v":-0.23061567393185844},null,null,{"$f":"N7","v":11111},{"$f":"COUNTIF(L7:L30,T7)","v":5},{"$f":"U7/(W4-U25)","v":0.20833333333333334},{"$f":"IF(V7=0,0,(V7*((LOG(V7))/LOG(2))))","v":-0.47146550121537367},null,{"$f":"N7","v":11111},{"$f":"COUNTIF(L31:L54,Y7)","v":0},{"$f":"Z7/(AB4-Z25)","v":0},{"$f":"IF(AA7=0,0,(AA7*((LOG(AA7))/LOG(2))))","v":0},null,{"$f":"N7","v":11111},{"$f":"COUNTIF(L55:L79,AD7)","v":0},{"$f":"AE7/(AG4-AE25)","v":0},{"$f":"IF(AF7=0,0,(AF7*((LOG(AF7))/LOG(2))))","v":0},null,{"$f":"N7","v":11111},{"$f":"COUNTIF(L80:L103,AI7)","v":0},{"$f":"AJ7/(AL4-AJ25)","v":0},{"$f":"IF(AK7=0,0,(AK7*((LOG(AK7))/LOG(2))))","v":0},null,{"$f":"N7","v":11111},{"$f":"COUNTIF(L104:L127,AN7)","v":3},{"$f":"AO7/(AQ4-AO25)","v":0.125},{"$f":"IF(AP7=0,0,(AP7*((LOG(AP7))/LOG(2))))","v":-0.375},null,{"$f":"N7","v":11111},{"$f":"COUNTIF(L128:L151,AS7)","v":0},{"$f":"AT7/(AV4-AT25)","v":0},{"$f":"IF(AU7=0,0,(AU7*((LOG(AU7))/LOG(2))))","v":0}]
[12,145,13,149,13,153,14,160,13,167,0,11111,null,11112,{"$f":"COUNTIF($L$7:$L$500,N8)","v":1},{"$f":"O8/$Q$4","v":6.8965517241379309E-3},{"$f":"IF(P8=0,0,(P8*((LOG(P8))/LOG(2))))","v":-4.9516614413896098E-2},null,null,{"$f":"N8","v":11112},{"$f":"COUNTIF(L7:L30,T8)","v":1},{"$f":"U8/(W4-U25)","v":4.1666666666666664E-2},{"$f":"IF(V8=0,0,(V8*((LOG(V8))/LOG(2))))","v":-0.19104010419671485},null,{"$f":"N8","v":11112},{"$f":"COUNTIF(L31:L54,Y8)","v":0},{"$f":"Z8/(AB4-Z25)","v":0},{"$f":"IF(AA8=0,0,(AA8*((LOG(AA8))/LOG(2))))","v":0},null,{"$f":"N8","v":11112},{"$f":"COUNTIF(L55:L79,AD8)","v":0},{"$f":"AE8/(AG4-AE25)","v":0},{"$f":"IF(AF8=0,0,(AF8*((LOG(AF8))/LOG(2))))","v":0},null,{"$f":"N8","v":11112},{"$f":"COUNTIF(L80:L103,AI8)","v":0},{"$f":"AJ8/(AL4-AJ25)","v":0},{"$f":"IF(AK8=0,0,(AK8*((LOG(AK8))/LOG(2))))","v":0},null,{"$f":"N8","v":11112},{"$f":"COUNTIF(L104:L127,AN8)","v":0},{"$f":"AO8/(AQ4-AO25)","v":0},{"$f":"IF(AP8=0,0,(AP8*((LOG(AP8))/LOG(2))))","v":0},null,{"$f":"N8","v":11112},{"$f":"COUNTIF(L128:L151,AS8)","v":0},{"$f":"AT8/(AV4-AT25)","v":0},{"$f":"IF(AU8=0,0,(AU8*((LOG(AU8))/LOG(2))))","v":0}]
[12,267,13,271,13,275,14,280,24,288,0,11112,null,11121,{"$f":"COUNTIF($L$7:$L$500,N9)","v":1},{"$f":"O9/$Q$4","v":6.8965517241379309E-3},{"$f":"IF(P9=0,0,(P9*((LOG(P9))/LOG(2))))","v":-4.9516614413896098E-2},null,null,{"$f":"N9","v":11121},{"$f":"COUNTIF(L7:L30,T9)","v":0},{"$f":"U9/(W4-U25)","v":0},{"$f":"IF(V9=0,0,(V9*((LOG(V9))/LOG(2))))","v":0},null,{"$f":"N9","v":11121},{"$f":"COUNTIF(L31:L54,Y9)","v":0},{"$f":"Z9/(AB4-Z25)","v":0},{"$f":"IF(AA9=0,0,(AA9*((LOG(AA9))/LOG(2))))","v":0},null,{"$f":"N9","v":11121},{"$f":"COUNTIF(L55:L79,AD9)","v":0},{"$f":"AE9/(AG4-AE25)","v":0},{"$f":"IF(AF9=0,0,(AF9*((LOG(AF9))/LOG(2))))","v":0},null,{"$f":"N9","v":11121},{"$f":"COUNTIF(L80:L103,AI9)","v":0},{"$f":"AJ9/(AL4-AJ25)","v":0},{"$f":"IF(AK9=0,0,(AK9*((LOG(AK9))/LOG(2))))","v":0},null,{"$f":"N9","v":11121},{"$f":"COUNTIF(L104:L127,AN9)","v":1},{"$f":"AO9/(AQ4-AO25)","v":4.1666666666666664E-2},{"$f":"IF(AP9=0,0,(AP9*((LOG(AP9))/LOG(2))))","v":-0.19104010419671485},null,{"$f":"N9","v":11121},{"$f":"COUNTIF(L128:L151,AS9)","v":0},{"$f":"AT9/(AV4-AT25)","v":0},{"$f":"IF(AU9=0,0,(AU9*((LOG(AU9))/LOG(2))))","v":0}]
[12,389,13,397,13,401,14,409,13,415,0,11111,null,11122,{"$f":"COUNTIF($L$7:$L$500,N10)","v":4},{"$f":"O10/$Q$4","v":2.7586206896551724E-2},{"$f":"IF(P10=0,0,(P10*((LOG(P10))/LOG(2))))","v":-0.14289404386248095},null,null,{"$f":"N10","v":11122},{"$f":"COUNTIF(L7:L30,T10)","v":0},{"$f":"U10/(W4-U25)","v":0},{"$f":"IF(V10=0,0,(V10*((LOG(V10))/LOG(2))))","v":0},null,{"$f":"N10","v":11122},{"$f":"COUNTIF(L31:L54,Y10)","v":1},{"$f":"Z10/(AB4-Z25)","v":4.1666666666666664E-2},{"$f":"IF(AA10=0,0,(AA10*((LOG(AA10))/LOG(2))))","v":-0.19104010419671485},null,{"$f":"N10","v":11122},{"$f":"COUNTIF(L55:L79,AD10)","v":0},{"$f":"AE10/(AG4-AE25)","v":0},{"$f":"IF(AF10=0,0,(AF10*((LOG(AF10))/LOG(2))))","v":0},null,{"$f":"N10","v":11122},{"$f":"COUNTIF(L80:L103,AI10)","v":1},{"$f":"AJ10/(AL4-AJ25)","v":4.1666666666666664E-2},{"$f":"IF(AK10=0,0,(AK10*((LOG(AK10))/LOG(2))))","v":-0.19104010419671485},null,{"$f":"N10","v":11122},{"$f":"COUNTIF(L104:L127,AN10)","v":1},{"$f":"AO10/(AQ4-AO25)","v":4.1666666666666664E-2},{"$f":"IF(AP10=0,0,(AP10*((LOG(AP10))/LOG(2))))","v":-0.19104010419671485},null,{"$f":"N10","v":11122},{"$f":"COUNTIF(L128:L151,AS10)","v":1},{"$f":"AT10/(AV4-AT25)","v":4.1666666666666664E-2},{"$f":"IF(AU10=0,0,(AU10*((LOG(AU10))/LOG(2))))","v":-0.19104010419671485}]
[12,516,13,520,13,524,14,528,13,535,0,11111,null,11211,{"$f":"COUNTIF($L$7:$L$500,N11)","v":0},{"$f":"O11/$Q$4","v":0},{"$f":"IF(P11=0,0,(P11*((LOG(P11))/LOG(2))))","v":0},null,null,{"$f":"N11","v":11211},{"$f":"COUNTIF(L7:L30,T11)","v":0},{"$f":"U11/(W4-U25)","v":0},{"$f":"IF(V11=0,0,(V11*((LOG(V11))/LOG(2))))","v":0},null,{"$f":"N11","v":11211},{"$f":"COUNTIF(L31:L54,Y11)","v":0},{"$f":"Z11/(AB4-Z25)","v":0},{"$f":"IF(AA11=0,0,(AA11*((LOG(AA11))/LOG(2))))","v":0},null,{"$f":"N11","v":11211},{"$f":"COUNTIF(L55:L79,AD11)","v":0},{"$f":"AE11/(AG4-AE25)","v":0},{"$f":"IF(AF11=0,0,(AF11*((LOG(AF11))/LOG(2))))","v":0},null,{"$f":"N11","v":11211},{"$f":"COUNTIF(L80:L103,AI11)","v":0},{"$f":"AJ11/(AL4-AJ25)","v":0},{"$f":"IF(AK11=0,0,(AK11*((LOG(AK11))/LOG(2))))","v":0},null,{"$f":"N11","v":11211},{"$f":"COUNTIF(L104:L127,AN11)","v":0},{"$f":"AO11/(AQ4-AO25)","v":0},{"$f":"IF(AP11=0,0,(AP11*((LOG(AP11))/LOG(2))))","v":0},null,{"$f":"N11","v":11211},{"$f":"COUNTIF(L128:L151,AS11)","v":0},{"$f":"AT11/(AV4-AT25)","v":0},{"$f":"IF(AU11=0,0,(AU11*((LOG(AU11))/LOG(2))))","v":0}]
[21,637,22,652,13,664,23,672,13,681,1,22121,null,11212,{"$f":"COUNTIF($L$7:$L$500,N12)","v":1},{"$f":"O12/$Q$4","v":6.8965517241379309E-3},{"$f":"IF(P12=0,0,(P12*((LOG(P12))/LOG(2))))","v":-4.9516614413896098E-2},null,null,{"$f":"N12","v":11212},{"$f":"COUNTIF(L7:L30,T12)","v":0},{"$f":"U12/(W4-U25)","v":0},{"$f":"IF(V12=0,0,(V12*((LOG(V12))/LOG(2))))","v":0},null,{"$f":"N12","v":11212},{"$f":"COUNTIF(L31:L54,Y12)","v":0},{"$f":"Z12/(AB4-Z25)","v":0},{"$f":"IF(AA12=0,0,(AA12*((LOG(AA12))/LOG(2))))","v":0},null,{"$f":"N12","v":11212},{"$f":"COUNTIF(L55:L79,AD12)","v":1},{"$f":"AE12/(AG4-AE25)","v":0.04},{"$f":"IF(AF12=0,0,(AF12*((LOG(AF12))/LOG(2))))","v":-0.18575424759098899},null,{"$f":"N12","v":11212},{"$f":"COUNTIF(L80:L103,AI12)","v":0},{"$f":"AJ12/(AL4-AJ25)","v":0},{"$f":"IF(AK12=0,0,(AK12*((LOG(AK12))/LOG(2))))","v":0},null,{"$f":"N12","v":11212},{"$f":"COUNTIF(L104:L127,AN12)","v":0},{"$f":"AO12/(AQ4-AO25)","v":0},{"$f":"IF(AP12=0,0,(AP12*((LOG(AP12))/LOG(2))))","v":0},null,{"$f":"N12","v":11212},{"$f":"COUNTIF(L128:L151,AS12)","v":0},{"$f":"AT12/(AV4-AT25)","v":0},{"$f":"IF(AU12=0,0,(AU12*((LOG(AU12))/LOG(2))))","v":0}]
[21,781,22,786,13,796,14,800,13,804,0,22111,null,11221,{"$f":"COUNTIF($L$7:$L$500,N13)","v":2},{"$f":"O13/$Q$4","v":1.3793103448275862E-2},{"$f":"IF(P13=0,0,(P13*((LOG(P13))/LOG(2))))","v":-8.5240125379516335E-2},null,null,{"$f":"N13","v":11221},{"$f":"COUNTIF(L7:L30,T13)","v":0},{"$f":"U13/(W4-U25)","v":0},{"$f":"IF(V13=0,0,(V13*((LOG(V13))/LOG(2))))","v":0},null,{"$f":"N13","v":11221},{"$f":"COUNTIF(L31:L54,Y13)","v":0},{"$f":"Z13/(AB4-Z25)","v":0},{"$f":"IF(AA13=0,0,(AA13*((LOG(AA13))/LOG(2))))","v":0},null,{"$f":"N13","v":11221},{"$f":"COUNTIF(L55:L79,AD13)","v":0},{"$f":"AE13/(AG4-AE25)","v":0},{"$f":"IF(AF13=0,0,(AF13*((LOG(AF13))/LOG(2))))","v":0},null,{"$f":"N13","v":11221},{"$f":"COUNTIF(L80:L103,AI13)","v":1},{"$f":"AJ13/(AL4-AJ25)","v":4.1666666666666664E-2},{"$f":"IF(AK13=0,0,(AK13*((LOG(AK13))/LOG(2))))","v":-0.19104010419671485},null,{"$f":"N13","v":11221},{"$f":"COUNTIF(L104:L127,AN13)","v":0},{"$f":"AO13/(AQ4-AO25)","v":0},{"$f":"IF(AP13=0,0,(AP13*((LOG(AP13))/LOG(2))))","v":0},null,{"$f":"N13","v":11221},{"$f":"COUNTIF(L128:L151,AS13)","v":1},{"$f":"AT13/(AV4-AT25)","v":4.1666666666666664E-2},{"$f":"IF(AU13=0,0,(AU13*((LOG(AU13))/LOG(2))))","v":-0.19104010419671485}]
[21,904,11,912,11,916,12,921,24,929,0,21112,null,11222,{"$f":"COUNTIF($L$7:$L$500,N14)","v":2},{"$f":"O14/$Q$4","v":1.3793103448275862E-2},{"$f":"IF(P14=0,0,(P14*((LOG(P14))/LOG(2))))","v":-8.5240125379516335E-2},null,null,{"$f":"N14","v":11222},{"$f":"COUNTIF(L7:L30,T14)","v":0},{"$f":"U14/(W4-U25)","v":0},{"$f":"IF(V14=0,0,(V14*((LOG(V14))/LOG(2))))","v":0},null,{"$f":"N14","v":11222},{"$f":"COUNTIF(L31:L54,Y14)","v":0},{"$f":"Z14/(AB4-Z25)","v":0},{"$f":"IF(AA14=0,0,(AA14*((LOG(AA14))/LOG(2))))","v":0},null,{"$f":"N14","v":11222},{"$f":"COUNTIF(L55:L79,AD14)","v":0},{"$f":"AE14/(AG4-AE25)","v":0},{"$f":"IF(AF14=0,0,(AF14*((LOG(AF14))/LOG(2))))","v":0},null,{"$f":"N14","v":11222},{"$f":"COUNTIF(L80:L103,AI14)","v":0},{"$f":"AJ14/(AL4-AJ25)","v":0},{"$f":"IF(AK14=0,0,(AK14*((LOG(AK14))/LOG(2))))","v":0},null,{"$f":"N14","v":11222},{"$f":"COUNTIF(L104:L127,AN14)","v":1},{"$f":"AO14/(AQ4-AO25)","v":4.1666666666666664E-2},{"$f":"IF(AP14=0,0,(AP14*((LOG(AP14))/LOG(2))))","v":-0.19104010419671485},null,{"$f":"N14","v":11222},{"$f":"COUNTIF(L128:L151,AS14)","v":1},{"$f":"AT14/(AV4-AT25)","v":4.1666666666666664E-2},{"$f":"IF(AU14=0,0,(AU14*((LOG(AU14))/LOG(2))))","v":-0.19104010419671485}]
[21,1031,22,1036,13,1043,14,1047,24,1057,0,22112,null,12111,{"$f":"COUNTIF($L$7:$L$500,N15)","v":2},{"$f":"O15/$Q$4","v":1.3793103448275862E-2},{"$f":"IF(P15=0,0,(P15*((LOG(P15))/LOG(2))))","v":-8.5240125379516335E-2},null,null,{"$f":"N15","v":12111},{"$f":"COUNTIF(L7:L30,T15)","v":0},{"$f":"U15/(W4-U25)","v":0},{"$f":"IF(V15=0,0,(V15*((LOG(V15))/LOG(2))))","v":0},null,{"$f":"N15","v":12111},{"$f":"COUNTIF(L31:L54,Y15)","v":0},{"$f":"Z15/(AB4-Z25)","v":0},{"$f":"IF(AA15=0,0,(AA15*((LOG(AA15))/LOG(2))))","v":0},null,{"$f":"N15","v":12111},{"$f":"COUNTIF(L55:L79,AD15)","v":0},{"$f":"AE15/(AG4-AE25)","v":0},{"$f":"IF(AF15=0,0,(AF15*((LOG(AF15))/LOG(2))))","v":0},null,{"$f":"N15","v":12111},{"$f":"COUNTIF(L80:L103,AI15)","v":0},{"$f":"AJ15/(AL4-AJ25)","v":0},{"$f":"IF(AK15=0,0,(AK15*((LOG(AK15))/LOG(2))))","v":0},null,{"$f":"N15","v":12111},{"$f":"COUNTIF(L104:L127,AN15)","v":1},{"$f":"AO15/(AQ4-AO25)","v":4.1666666666666664E-2},{"$f":"IF(AP15=0,0,(AP15*((LOG(AP15))/LOG(2))))","v":-0.19104010419671485},null,{"$f":"N15","v":12111},{"$f":"COUNTIF(L128:L151,AS15)","v":1},{"$f":"AT15/(AV4-AT25)","v":4.1666666666666664E-2},{"$f":"IF(AU15=0,0,(AU15*((LOG(AU15))/LOG(2))))","v":-0.19104010419671485}]
[12,1154,13,1162,13,1170,14,1174,13,1179,0,11111,null,12112,{"$f":"COUNTIF($L$7:$L$500,N16)","v":0},{"$f":"O16/$Q$4","v":0},{"$f":"IF(P16=0,0,(P16*((LOG(P16))/LOG(2))))","v":0},null,null,{"$f":"N16","v":12112},{"$f":"COUNTIF(L7:L30,T16)","v":0},{"$f":"U16/(W4-U25)","v":0},{"$f":"IF(V16=0,0,(V16*((LOG(V16))/LOG(2))))","v":0},null,{"$f":"N16","v":12112},{"$f":"COUNTIF(L31:L54,Y16)","v":0},{"$f":"Z16/(AB4-Z25)","v":0},{"$f":"IF(AA16=0,0,(AA16*((LOG(AA16))/LOG(2))))","v":0},null,{"$f":"N16","v":12112},{"$f":"COUNTIF(L55:L79,AD16)","v":0},{"$f":"AE16/(AG4-AE25)","v":0},{"$f":"IF(AF16=0,0,(AF16*((LOG(AF16))/LOG(2))))","v":0},null,{"$f":"N16","v":12112},{"$f":"COUNTIF(L80:L103,AI16)","v":0},{"$f":"AJ16/(AL4-AJ25)","v":0},{"$f":"IF(AK16=0,0,(AK16*((LOG(AK16))/LOG(2))))","v":0},null,{"$f":"N16","v":12112},{"$f":"COUNTIF(L104:L127,AN16)","v":0},{"$f":"AO16/(AQ4-AO25)","v":0},{"$f":"IF(AP16=0,0,(AP16*((LOG(AP16))/LOG(2))))","v":0},null,{"$f":"N16","v":12112},{"$f":"COUNTIF(L128:L151,AS16)","v":0},{"$f":"AT16/(AV4-AT25)","v":0},{"$f":"IF(AU16=0,0,(AU16*((LOG(AU16))/LOG(2))))","v":0}]
[21,1281,22,1288,13,1297,14,1301,13,1306,0,22111,null,12121,{"$f":"COUNTIF($L$7:$L$500,N17)","v":2},{"$f":"O17/$Q$4","v":1.3793103448275862E-2},{"$f":"IF(P17=0,0,(P17*((LOG(P17))/LOG(2))))","v":-8.5240125379516335E-2},null,null,{"$f":"N17","v":12121},{"$f":"COUNTIF(L7:L30,T17)","v":0},{"$f":"U17/(W4-U25)","v":0},{"$f":"IF(V17=0,0,(V17*((LOG(V17))/LOG(2))))","v":0},null,{"$f":"N17","v":12121},{"$f":"COUNTIF(L31:L54,Y17)","v":0},{"$f":"Z17/(AB4-Z25)","v":0},{"$f":"IF(AA17=0,0,(AA17*((LOG(AA17))/LOG(2))))","v":0},null,{"$f":"N17","v":12121},{"$f":"COUNTIF(L55:L79,AD17)","v":0},{"$f":"AE17/(AG4-AE25)","v":0},{"$f":"IF(AF17=0,0,(AF17*((LOG(AF17))/LOG(2))))","v":0},null,{"$f":"N17","v":12121},{"$f":"COUNTIF(L80:L103,AI17)","v":1},{"$f":"AJ17/(AL4-AJ25)","v":4.1666666666666664E-2},{"$f":"IF(AK17=0,0,(AK17*((LOG(AK17))/LOG(2))))","v":-0.19104010419671485},null,{"$f":"N17","v":12121},{"$f":"COUNTIF(L104:L127,AN17)","v":1},{"$f":"AO17/(AQ4-AO25)","v":4.1666666666666664E-2},{"$f":"IF(AP17=0,0,(AP17*((LOG(AP17))/LOG(2))))","v":-0.19104010419671485},null,{"$f":"N17","v":12121},{"$f":"COUNTIF(L128:L151,AS17)","v":0},{"$f":"AT17/(AV4-AT25)","v":0},{"$f":"IF(AU17=0,0,(AU17*((LOG(AU17))/LOG(2))))","v":0}]
[21,1410,22,1415,13,1424,14,1428,24,1436,1,22112,null,12122,{"$f":"COUNTIF($L$7:$L$500,N18)","v":0},{"$f":"O18/$Q$4","v":0},{"$f":"IF(P18=0,0,(P18*((LOG(P18))/LOG(2))))","v":0},null,null,{"$f":"N18","v":12122},{"$f":"COUNTIF(L7:L30,T18)","v":0},{"$f":"U18/(W4-U25)","v":0},{"$f":"IF(V18=0,0,(V18*((LOG(V18))/LOG(2))))","v":0},null,{"$f":"N18","v":12122},{"$f":"COUNTIF(L31:L54,Y18)","v":0},{"$f":"Z18/(AB4-Z25)","v":0},{"$f":"IF(AA18=0,0,(AA18*((LOG(AA18))/LOG(2))))","v":0},null,{"$f":"N18","v":12122},{"$f":"COUNTIF(L55:L79,AD18)","v":0},{"$f":"AE18/(AG4-AE25)","v":0},{"$f":"IF(AF18=0,0,(AF18*((LOG(AF18))/LOG(2))))","v":0},null,{"$f":"N18","v":12122},{"$f":"COUNTIF(L80:L103,AI18)","v":0},{"$f":"AJ18/(AL4-AJ25)","v":0},{"$f":"IF(AK18=0,0,(AK18*((LOG(AK18))/LOG(2))))","v":0},null,{"$f":"N18","v":12122},{"$f":"COUNTIF(L104:L127,AN18)","v":0},{"$f":"AO18/(AQ4-AO25)","v":0},{"$f":"IF(AP18=0,0,(AP18*((LOG(AP18))/LOG(2))))","v":0},null,{"$f":"N18","v":12122},{"$f":"COUNTIF(L128:L151,AS18)","v":0},{"$f":"AT18/(AV4-AT25)","v":0},{"$f":"IF(AU18=0,0,(AU18*((LOG(AU18))/LOG(2))))","v":0}]
[21,1535,22,1540,13,1554,14,1558,13,1562,0,22111,null,12211,{"$f":"COUNTIF($L$7:$L$500,N19)","v":1},{"$f":"O19/$Q$4","v":6.8965517241379309E-3},{"$f":"IF(P19=0,0,(P19*((LOG(P19))/LOG(2))))","v":-4.9516614413896098E-2},null,null,{"$f":"N19","v":12211},{"$f":"COUNTIF(L7:L30,T19)","v":0},{"$f":"U19/(W4-U25)","v":0},{"$f":"IF(V19=0,0,(V19*((LOG(V19))/LOG(2))))","v":0},null,{"$f":"N19","v":12211},{"$f":"COUNTIF(L31:L54,Y19)","v":0},{"$f":"Z19/(AB4-Z25)","v":0},{"$f":"IF(AA19=0,0,(AA19*((LOG(AA19))/LOG(2))))","v":0},null,{"$f":"N19","v":12211},{"$f":"COUNTIF(L55:L79,AD19)","v":0},{"$f":"AE19/(AG4-AE25)","v":0},{"$f":"IF(AF19=0,0,(AF19*((LOG(AF19))/LOG(2))))","v":0},null,{"$f":"N19","v":12211},{"$f":"COUNTIF(L80:L103,AI19)","v":0},{"$f":"AJ19/(AL4-AJ25)","v":0},{"$f":"IF(AK19=0,0,(AK19*((LOG(AK19))/LOG(2))))","v":0},null,{"$f":"N19","v":12211},{"$f":"COUNTIF(L104:L127,AN19)","v":0},{"$f":"AO19/(AQ4-AO25)","v":0},{"$f":"IF(AP19=0,0,(AP19*((LOG(AP19))/LOG(2))))","v":0},null,{"$f":"N19","v":12211},{"$f":"COUNTIF(L128:L151,AS19)","v":1},{"$f":"AT19/(AV4-AT25)","v":4.1666666666666664E-2},{"$f":"IF(AU19=0,0,(AU19*((LOG(AU19))/LOG(2))))","v":-0.19104010419671485}]
[12,1670,13,1678,13,1685,14,1691,13,1697,0,11111,null,12212,{"$f":"COUNTIF($L$7:$L$500,N20)","v":3},{"$f":"O20/$Q$4","v":2.0689655172413793E-2},{"$f":"IF(P20=0,0,(P20*((LOG(P20))/LOG(2))))","v":-0.11575751564056093},null,null,{"$f":"N20","v":12212},{"$f":"COUNTIF(L7:L30,T20)","v":0},{"$f":"U20/(W4-U25)","v":0},{"$f":"IF(V20=0,0,(V20*((LOG(V20))/LOG(2))))","v":0},null,{"$f":"N20","v":12212},{"$f":"COUNTIF(L31:L54,Y20)","v":1},{"$f":"Z20/(AB4-Z25)","v":4.1666666666666664E-2},{"$f":"IF(AA20=0,0,(AA20*((LOG(AA20))/LOG(2))))","v":-0.19104010419671485},null,{"$f":"N20","v":12212},{"$f":"COUNTIF(L55:L79,AD20)","v":1},{"$f":"AE20/(AG4-AE25)","v":0.04},{"$f":"IF(AF20=0,0,(AF20*((LOG(AF20))/LOG(2))))","v":-0.18575424759098899},null,{"$f":"N20","v":12212},{"$f":"COUNTIF(L80:L103,AI20)","v":1},{"$f":"AJ20/(AL4-AJ25)","v":4.1666666666666664E-2},{"$f":"IF(AK20=0,0,(AK20*((LOG(AK20))/LOG(2))))","v":-0.19104010419671485},null,{"$f":"N20","v":12212},{"$f":"COUNTIF(L104:L127,AN20)","v":0},{"$f":"AO20/(AQ4-AO25)","v":0},{"$f":"IF(AP20=0,0,(AP20*((LOG(AP20))/LOG(2))))","v":0},null,{"$f":"N20","v":12212},{"$f":"COUNTIF(L128:L151,AS20)","v":0},{"$f":"AT20/(AV4-AT25)","v":0},{"$f":"IF(AU20=0,0,(AU20*((LOG(AU20))/LOG(2))))","v":0}]
[21,1795,22,1799,24,1806,14,1818,13,1822,0,22211,null,12221,{"$f":"COUNTIF($L$7:$L$500,N21)","v":1},{"$f":"O21/$Q$4","v":6.8965517241379309E-3},{"$f":"IF(P21=0,0,(P21*((LOG(P21))/LOG(2))))","v":-4.9516614413896098E-2},null,null,{"$f":"N21","v":12221},{"$f":"COUNTIF(L7:L30,T21)","v":0},{"$f":"U21/(W4-U25)","v":0},{"$f":"IF(V21=0,0,(V21*((LOG(V21))/LOG(2))))","v":0},null,{"$f":"N21","v":12221},{"$f":"COUNTIF(L31:L54,Y21)","v":0},{"$f":"Z21/(AB4-Z25)","v":0},{"$f":"IF(AA21=0,0,(AA21*((LOG(AA21))/LOG(2))))","v":0},null,{"$f":"N21","v":12221},{"$f":"COUNTIF(L55:L79,AD21)","v":0},{"$f":"AE21/(AG4-AE25)","v":0},{"$f":"IF(AF21=0,0,(AF21*((LOG(AF21))/LOG(2))))","v":0},null,{"$f":"N21","v":12221},{"$f":"COUNTIF(L80:L103,AI21)","v":0},{"$f":"AJ21/(AL4-AJ25)","v":0},{"$f":"IF(AK21=0,0,(AK21*((LOG(AK21))/LOG(2))))","v":0},null,{"$f":"N21","v":12221},{"$f":"COUNTIF(L104:L127,AN21)","v":1},{"$f":"AO21/(AQ4-AO25)","v":4.1666666666666664E-2},{"$f":"IF(AP21=0,0,(AP21*((LOG(AP21))/LOG(2))))","v":-0.19104010419671485},null,{"$f":"N21","v":12221},{"$f":"COUNTIF(L128:L151,AS21)","v":0},{"$f":"AT21/(AV4-AT25)","v":0},{"$f":"IF(AU21=0,0,(AU21*((LOG(AU21))/LOG(2))))","v":0}]
[21,1927,22,1935,13,1945,14,1949,13,1952,0,22111,null,12222,{"$f":"COUNTIF($L$7:$L$500,N22)","v":3},{"$f":"O22/$Q$4","v":2.0689655172413793E-2},{"$f":"IF(P22=0,0,(P22*((LOG(P22))/LOG(2))))","v":-0.11575751564056093},null,null,{"$f":"N22","v":12222},{"$f":"COUNTIF(L7:L30,T22)","v":0},{"$f":"U22/(W4-U25)","v":0},{"$f":"IF(V22=0,0,(V22*((LOG(V22))/LOG(2))))","v":0},null,{"$f":"N22","v":12222},{"$f":"COUNTIF(L31:L54,Y22)","v":0},{"$f":"Z22/(AB4-Z25)","v":0},{"$f":"IF(AA22=0,0,(AA22*((LOG(AA22))/LOG(2))))","v":0},null,{"$f":"N22","v":12222},{"$f":"COUNTIF(L55:L79,AD22)","v":0},{"$f":"AE22/(AG4-AE25)","v":0},{"$f":"IF(AF22=0,0,(AF22*((LOG(AF22))/LOG(2))))","v":0},null,{"$f":"N22","v":12222},{"$f":"COUNTIF(L80:L103,AI22)","v":0},{"$f":"AJ22/(AL4-AJ25)","v":0},{"$f":"IF(AK22=0,0,(AK22*((LOG(AK22))/LOG(2))))","v":0},null,{"$f":"N22","v":12222},{"$f":"COUNTIF(L104:L127,AN22)","v":2},{"$f":"AO22/(AQ4-AO25)","v":8.3333333333333329E-2},{"$f":"IF(AP22=0,0,(AP22*((LOG(AP22))/LOG(2))))","v":-0.29874687506009634},null,{"$f":"N22","v":12222},{"$f":"COUNTIF(L128:L151,AS22)","v":1},{"$f":"AT22/(AV4-AT25)","v":4.1666666666666664E-2},{"$f":"IF(AU22=0,0,(AU22*((LOG(AU22))/LOG(2))))","v":-0.19104010419671485}]
[21,2073,22,2080,13,2089,23,2096,24,2112,0,22122,null,21111,{"$f":"COUNTIF($L$7:$L$500,N23)","v":0},{"$f":"O23/$Q$4","v":0},{"$f":"IF(P23=0,0,(P23*((LOG(P23))/LOG(2))))","v":0},null,null,{"$f":"N23","v":21111},{"$f":"COUNTIF(L7:L30,T23)","v":0},{"$f":"U23/(W4-U25)","v":0},{"$f":"IF(V23=0,0,(V23*((LOG(V23))/LOG(2))))","v":0},null,{"$f":"N23","v":21111},{"$f":"COUNTIF(L31:L54,Y23)","v":0},{"$f":"Z23/(AB4-Z25)","v":0},{"$f":"IF(AA23=0,0,(AA23*((LOG(AA23))/LOG(2))))","v":0},null,{"$f":"N23","v":21111},{"$f":"COUNTIF(L55:L79,AD23)","v":0},{"$f":"AE23/(AG4-AE25)","v":0},{"$f":"IF(AF23=0,0,(AF23*((LOG(AF23))/LOG(2))))","v":0},null,{"$f":"N23","v":21111},{"$f":"COUNTIF(L80:L103,AI23)","v":0},{"$f":"AJ23/(AL4-AJ25)","v":0},{"$f":"IF(AK23=0,0,(AK23*((LOG(AK23))/LOG(2))))","v":0},null,{"$f":"N23","v":21111},{"$f":"COUNTIF(L104:L127,AN23)","v":0},{"$f":"AO23/(AQ4-AO25)","v":0},{"$f":"IF(AP23=0,0,(AP23*((LOG(AP23))/LOG(2))))","v":0},null,{"$f":"N23","v":21111},{"$f":"COUNTIF(L128:L151,AS23)","v":0},{"$f":"AT23/(AV4-AT25)","v":0},{"$f":"IF(AU23=0,0,(AU23*((LOG(AU23))/LOG(2))))","v":0}]
[21,2213,22,2221,13,2228,14,2232,13,2236,0,22111,null,21112,{"$f":"COUNTIF($L$7:$L$500,N24)","v":5},{"$f":"O24/$Q$4","v":3.4482758620689655E-2},{"$f":"IF(P24=0,0,(P24*((LOG(P24))/LOG(2))))","v":-0.16751658603888178},null,null,{"$f":"N24","v":21112},{"$f":"COUNTIF(L7:L30,T24)","v":2},{"$f":"U24/(W4-U25)","v":8.3333333333333329E-2},{"$f":"IF(V24=0,0,(V24*((LOG(V24))/LOG(2))))","v":-0.29874687506009634},null,{"$f":"N24","v":21112},{"$f":"COUNTIF(L31:L54,Y24)","v":2},{"$f":"Z24/(AB4-Z25)","v":8.3333333333333329E-2},{"$f":"IF(AA24=0,0,(AA24*((LOG(AA24))/LOG(2))))","v":-0.29874687506009634},null,{"$f":"N24","v":21112},{"$f":"COUNTIF(L55:L79,AD24)","v":1},{"$f":"AE24/(AG4-AE25)","v":0.04},{"$f":"IF(AF24=0,0,(AF24*((LOG(AF24))/LOG(2))))","v":-0.18575424759098899},null,{"$f":"N24","v":21112},{"$f":"COUNTIF(L80:L103,AI24)","v":0},{"$f":"AJ24/(AL4-AJ25)","v":0},{"$f":"IF(AK24=0,0,(AK24*((LOG(AK24))/LOG(2))))","v":0},null,{"$f":"N24","v":21112},{"$f":"COUNTIF(L104:L127,AN24)","v":0},{"$f":"AO24/(AQ4-AO25)","v":0},{"$f":"IF(AP24=0,0,(AP24*((LOG(AP24))/LOG(2))))","v":0},null,{"$f":"N24","v":21112},{"$f":"COUNTIF(L128:L151,AS24)","v":0},{"$f":"AT24/(AV4-AT25)","v":0},{"$f":"IF(AU24=0,0,(AU24*((LOG(AU24))/LOG(2))))","v":0}]
[21,2351,22,2359,24,2367,14,2377,24,2385,1,22212,null,21121,{"$f":"COUNTIF($L$7:$L$500,N25)","v":0},{"$f":"O25/$Q$4","v":0},{"$f":"IF(P25=0,0,(P25*((LOG(P25))/LOG(2))))","v":0},null,null,{"$f":"N25","v":21121},{"$f":"COUNTIF(L7:L30,T25)","v":0},null,null,null,{"$f":"N25","v":21121},{"$f":"COUNTIF(L31:L54,Y25)","v":0},null,null,null,{"$f":"N25","v":21121},{"$f":"COUNTIF(L55:L79,AD25)","v":0},null,null,null,{"$f":"N25","v":21121},{"$f":"COUNTIF(L80:L103,AI25)","v":0},null,null,null,{"$f":"N25","v":21121},{"$f":"COUNTIF(L104:L127,AN25)","v":0},null,null,null,{"$f":"N25","v":21121},{"$f":"COUNTIF(L128:L151,AS25)","v":0}]
[21,2503,11,2520,11,2524,12,2528,24,2536,0,21112,null,21122,{"$f":"COUNTIF($L$7:$L$500,N26)","v":0},{"$f":"O26/$Q$4","v":0},{"$f":"IF(P26=0,0,(P26*((LOG(P26))/LOG(2))))","v":0},null,null,{"$f":"N26","v":21122},{"$f":"COUNTIF(L7:L30,T26)","v":0},{"$f":"U26/(W4-U25)","v":0},{"$f":"IF(V26=0,0,(V26*((LOG(V26))/LOG(2))))","v":0},null,{"$f":"N26","v":21122},{"$f":"COUNTIF(L31:L54,Y26)","v":0},{"$f":"Z26/(AB4-Z25)","v":0},{"$f":"IF(AA26=0,0,(AA26*((LOG(AA26))/LOG(2))))","v":0},null,{"$f":"N26","v":21122},{"$f":"COUNTIF(L55:L79,AD26)","v":0},{"$f":"AE26/(AG4-AE25)","v":0},{"$f":"IF(AF26=0,0,(AF26*((LOG(AF26))/LOG(2))))","v":0},null,{"$f":"N26","v":21122},{"$f":"COUNTIF(L80:L103,AI26)","v":0},{"$f":"AJ26/(AL4-AJ25)","v":0},{"$f":"IF(AK26=0,0,(AK26*((LOG(AK26))/LOG(2))))","v":0},null,{"$f":"N26","v":21122},{"$f":"COUNTIF(L104:L127,AN26)","v":0},{"$f":"AO26/(AQ4-AO25)","v":0},{"$f":"IF(AP26=0,0,(AP26*((LOG(AP26))/LOG(2))))","v":0},null,{"$f":"N26","v":21122},{"$f":"COUNTIF(L128:L151,AS26)","v":0},{"$f":"AT26/(AV4-AT25)","v":0},{"$f":"IF(AU26=0,0,(AU26*((LOG(AU26))/LOG(2))))","v":0}]
[21,2655,11,2664,22,2672,14,2683,24,2691,0,21212,null,21211,{"$f":"COUNTIF($L$7:$L$500,N27)","v":0},{"$f":"O27/$Q$4","v":0},{"$f":"IF(P27=0,0,(P27*((LOG(P27))/LOG(2))))","v":0},null,null,{"$f":"N27","v":21211},{"$f":"COUNTIF(L7:L30,T27)","v":0},{"$f":"U27/(W4-U25)","v":0},{"$f":"IF(V27=0,0,(V27*((LOG(V27))/LOG(2))))","v":0},null,{"$f":"N27","v":21211},{"$f":"COUNTIF(L31:L54,Y27)","v":0},{"$f":"Z27/(AB4-Z25)","v":0},{"$f":"IF(AA27=0,0,(AA27*((LOG(AA27))/LOG(2))))","v":0},null,{"$f":"N27","v":21211},{"$f":"COUNTIF(L55:L79,AD27)","v":0},{"$f":"AE27/(AG4-AE25)","v":0},{"$f":"IF(AF27=0,0,(AF27*((LOG(AF27))/LOG(2))))","v":0},null,{"$f":"N27","v":21211},{"$f":"COUNTIF(L80:L103,AI27)","v":0},{"$f":"AJ27/(AL4-AJ25)","v":0},{"$f":"IF(AK27=0,0,(AK27*((LOG(AK27))/LOG(2))))","v":0},null,{"$f":"N27","v":21211},{"$f":"COUNTIF(L104:L127,AN27)","v":0},{"$f":"AO27/(AQ4-AO25)","v":0},{"$f":"IF(AP27=0,0,(AP27*((LOG(AP27))/LOG(2))))","v":0},null,{"$f":"N27","v":21211},{"$f":"COUNTIF(L128:L151,AS27)","v":0},{"$f":"AT27/(AV4-AT25)","v":0},{"$f":"IF(AU27=0,0,(AU27*((LOG(AU27))/LOG(2))))","v":0}]
[21,2791,22,2796,13,2809,23,2818,13,2827,0,22121,null,21212,{"$f":"COUNTIF($L$7:$L$500,N28)","v":13},{"$f":"O28/$Q$4","v":8.9655172413793102E-2},{"$f":"IF(P28=0,0,(P28*((LOG(P28))/LOG(2))))","v":-0.31195242644386173},null,null,{"$f":"N28","v":21212},{"$f":"COUNTIF(L7:L30,T28)","v":2},{"$f":"U28/(W4-U25)","v":8.3333333333333329E-2},{"$f":"IF(V28=0,0,(V28*((LOG(V28))/LOG(2))))","v":-0.29874687506009634},null,{"$f":"N28","v":21212},{"$f":"COUNTIF(L31:L54,Y28)","v":2},{"$f":"Z28/(AB4-Z25)","v":8.3333333333333329E-2},{"$f":"IF(AA28=0,0,(AA28*((LOG(AA28))/LOG(2))))","v":-0.29874687506009634},null,{"$f":"N28","v":21212},{"$f":"COUNTIF(L55:L79,AD28)","v":2},{"$f":"AE28/(AG4-AE25)","v":0.08},{"$f":"IF(AF28=0,0,(AF28*((LOG(AF28))/LOG(2))))","v":-0.29150849518197797},null,{"$f":"N28","v":21212},{"$f":"COUNTIF(L80:L103,AI28)","v":4},{"$f":"AJ28/(AL4-AJ25)","v":0.16666666666666666},{"$f":"IF(AK28=0,0,(AK28*((LOG(AK28))/LOG(2))))","v":-0.43082708345352599},null,{"$f":"N28","v":21212},{"$f":"COUNTIF(L104:L127,AN28)","v":2},{"$f":"AO28/(AQ4-AO25)","v":8.3333333333333329E-2},{"$f":"IF(AP28=0,0,(AP28*((LOG(AP28))/LOG(2))))","v":-0.29874687506009634},null,{"$f":"N28","v":21212},{"$f":"COUNTIF(L128:L151,AS28)","v":1},{"$f":"AT28/(AV4-AT25)","v":4.1666666666666664E-2},{"$f":"IF(AU28=0,0,(AU28*((LOG(AU28))/LOG(2))))","v":-0.19104010419671485}]
[21,2950,22,2958,13,2968,23,2975,24,2982,1,22122,null,21221,{"$f":"COUNTIF($L$7:$L$500,N29)","v":8},{"$f":"O29/$Q$4","v":5.5172413793103448E-2},{"$f":"IF(P29=0,0,(P29*((LOG(P29))/LOG(2))))","v":-0.23061567393185844},null,null,{"$f":"N29","v":21221},{"$f":"COUNTIF(L7:L30,T29)","v":0},{"$f":"U29/(W4-U25)","v":0},{"$f":"IF(V29=0,0,(V29*((LOG(V29))/LOG(2))))","v":0},null,{"$f":"N29","v":21221},{"$f":"COUNTIF(L31:L54,Y29)","v":2},{"$f":"Z29/(AB4-Z25)","v":8.3333333333333329E-2},{"$f":"IF(AA29=0,0,(AA29*((LOG(AA29))/LOG(2))))","v":-0.29874687506009634},null,{"$f":"N29","v":21221},{"$f":"COUNTIF(L55:L79,AD29)","v":3},{"$f":"AE29/(AG4-AE25)","v":0.12},{"$f":"IF(AF29=0,0,(AF29*((LOG(AF29))/LOG(2))))","v":-0.36706724268642821},null,{"$f":"N29","v":21221},{"$f":"COUNTIF(L80:L103,AI29)","v":1},{"$f":"AJ29/(AL4-AJ25)","v":4.1666666666666664E-2},{"$f":"IF(AK29=0,0,(AK29*((LOG(AK29))/LOG(2))))","v":-0.19104010419671485},null,{"$f":"N29","v":21221},{"$f":"COUNTIF(L104:L127,AN29)","v":2},{"$f":"AO29/(AQ4-AO25)","v":8.3333333333333329E-2},{"$f":"IF(AP29=0,0,(AP29*((LOG(AP29))/LOG(2))))","v":-0.29874687506009634},null,{"$f":"N29","v":21221},{"$f":"COUNTIF(L128:L151,AS29)","v":0},{"$f":"AT29/(AV4-AT25)","v":0},{"$f":"IF(AU29=0,0,(AU29*((LOG(AU29))/LOG(2))))","v":0}]
[21,3088,22,3096,24,3103,14,3114,13,3118,0,22211,null,21222,{"$f":"COUNTIF($L$7:$L$500,N30)","v":5},{"$f":"O30/$Q$4","v":3.4482758620689655E-2},{"$f":"IF(P30=0,0,(P30*((LOG(P30))/LOG(2))))","v":-0.16751658603888178},null,null,{"$f":"N30","v":21222},{"$f":"COUNTIF(L7:L30,T30)","v":0},{"$f":"U30/(W4-U25)","v":0},{"$f":"IF(V30=0,0,(V30*((LOG(V30))/LOG(2))))","v":0},null,{"$f":"N30","v":21222},{"$f":"COUNTIF(L31:L54,Y30)","v":1},{"$f":"Z30/(AB4-Z25)","v":4.1666666666666664E-2},{"$f":"IF(AA30=0,0,(AA30*((LOG(AA30))/LOG(2))))","v":-0.19104010419671485},null,{"$f":"N30","v":21222},{"$f":"COUNTIF(L55:L79,AD30)","v":0},{"$f":"AE30/(AG4-AE25)","v":0},{"$f":"IF(AF30=0,0,(AF30*((LOG(AF30))/LOG(2))))","v":0},null,{"$f":"N30","v":21222},{"$f":"COUNTIF(L80:L103,AI30)","v":2},{"$f":"AJ30/(AL4-AJ25)","v":8.3333333333333329E-2},{"$f":"IF(AK30=0,0,(AK30*((LOG(AK30))/LOG(2))))","v":-0.29874687506009634},null,{"$f":"N30","v":21222},{"$f":"COUNTIF(L104:L127,AN30)","v":2},{"$f":"AO30/(AQ4-AO25)","v":8.3333333333333329E-2},{"$f":"IF(AP30=0,0,(AP30*((LOG(AP30))/LOG(2))))","v":-0.29874687506009634},null,{"$f":"N30","v":21222},{"$f":"COUNTIF(L128:L151,AS30)","v":0},{"$f":"AT30/(AV4-AT25)","v":0},{"$f":"IF(AU30=0,0,(AU30*((LOG(AU30))/LOG(2))))","v":0}]
[21,3221,22,3225,13,3238,14,3241,13,3246,0,22111,null,22111,{"$f":"COUNTIF($L$7:$L$500,N31)","v":9},{"$f":"O31/$Q$4","v":6.2068965517241378E-2},{"$f":"IF(P31=0,0,(P31*((LOG(P31))/LOG(2))))","v":-0.24889556411830069},null,null,{"$f":"N31","v":22111},{"$f":"COUNTIF(L7:L30,T31)","v":5},{"$f":"U31/(W4-U25)","v":0.20833333333333334},{"$f":"IF(V31=0,0,(V31*((LOG(V31))/LOG(2))))","v":-0.47146550121537367},null,{"$f":"N31","v":22111},{"$f":"COUNTIF(L31:L54,Y31)","v":3},{"$f":"Z31/(AB4-Z25)","v":0.125},{"$f":"IF(AA31=0,0,(AA31*((LOG(AA31))/LOG(2))))","v":-0.375},null,{"$f":"N31","v":22111},{"$f":"COUNTIF(L55:L79,AD31)","v":0},{"$f":"AE31/(AG4-AE25)","v":0},{"$f":"IF(AF31=0,0,(AF31*((LOG(AF31))/LOG(2))))","v":0},null,{"$f":"N31","v":22111},{"$f":"COUNTIF(L80:L103,AI31)","v":0},{"$f":"AJ31/(AL4-AJ25)","v":0},{"$f":"IF(AK31=0,0,(AK31*((LOG(AK31))/LOG(2))))","v":0},null,{"$f":"N31","v":22111},{"$f":"COUNTIF(L104:L127,AN31)","v":0},{"$f":"AO31/(AQ4-AO25)","v":0},{"$f":"IF(AP31=0,0,(AP31*((LOG(AP31))/LOG(2))))","v":0},null,{"$f":"N31","v":22111},{"$f":"COUNTIF(L128:L151,AS31)","v":1},{"$f":"AT31/(AV4-AT25)","v":4.1666666666666664E-2},{"$f":"IF(AU31=0,0,(AU31*((LOG(AU31))/LOG(2))))","v":-0.19104010419671485}]
[21,3354,11,3365,11,3372,12,3376,24,3386,0,21112,null,22112,{"$f":"COUNTIF($L$7:$L$500,N32)","v":2},{"$f":"O32/$Q$4","v":1.3793103448275862E-2},{"$f":"IF(P32=0,0,(P32*((LOG(P32))/LOG(2))))","v":-8.5240125379516335E-2},null,null,{"$f":"N32","v":22112},{"$f":"COUNTIF(L7:L30,T32)","v":2},{"$f":"U32/(W4-U25)","v":8.3333333333333329E-2},{"$f":"IF(V32=0,0,(V32*((LOG(V32))/LOG(2))))","v":-0.29874687506009634},null,{"$f":"N32","v":22112},{"$f":"COUNTIF(L31:L54,Y32)","v":0},{"$f":"Z32/(AB4-Z25)","v":0},{"$f":"IF(AA32=0,0,(AA32*((LOG(AA32))/LOG(2))))","v":0},null,{"$f":"N32","v":22112},{"$f":"COUNTIF(L55:L79,AD32)","v":0},{"$f":"AE32/(AG4-AE25)","v":0},{"$f":"IF(AF32=0,0,(AF32*((LOG(AF32))/LOG(2))))","v":0},null,{"$f":"N32","v":22112},{"$f":"COUNTIF(L80:L103,AI32)","v":0},{"$f":"AJ32/(AL4-AJ25)","v":0},{"$f":"IF(AK32=0,0,(AK32*((LOG(AK32))/LOG(2))))","v":0},null,{"$f":"N32","v":22112},{"$f":"COUNTIF(L104:L127,AN32)","v":0},{"$f":"AO32/(AQ4-AO25)","v":0},{"$f":"IF(AP32=0,0,(AP32*((LOG(AP32))/LOG(2))))","v":0},null,{"$f":"N32","v":22112},{"$f":"COUNTIF(L128:L151,AS32)","v":0},{"$f":"AT32/(AV4-AT25)","v":0},{"$f":"IF(AU32=0,0,(AU32*((LOG(AU32))/LOG(2))))","v":0}]
[21,3507,11,3528,11,3534,12,3541,24,3551,0,21112,null,22121,{"$f":"COUNTIF($L$7:$L$500,N33)","v":13},{"$f":"O33/$Q$4","v":8.9655172413793102E-2},{"$f":"IF(P33=0,0,(P33*((LOG(P33))/LOG(2))))","v":-0.31195242644386173},null,null,{"$f":"N33","v":22121},{"$f":"COUNTIF(L7:L30,T33)","v":2},{"$f":"U33/(W4-U25)","v":8.3333333333333329E-2},{"$f":"IF(V33=0,0,(V33*((LOG(V33))/LOG(2))))","v":-0.29874687506009634},null,{"$f":"N33","v":22121},{"$f":"COUNTIF(L31:L54,Y33)","v":2},{"$f":"Z33/(AB4-Z25)","v":8.3333333333333329E-2},{"$f":"IF(AA33=0,0,(AA33*((LOG(AA33))/LOG(2))))","v":-0.29874687506009634},null,{"$f":"N33","v":22121},{"$f":"COUNTIF(L55:L79,AD33)","v":6},{"$f":"AE33/(AG4-AE25)","v":0.24},{"$f":"IF(AF33=0,0,(AF33*((LOG(AF33))/LOG(2))))","v":-0.49413448537285637},null,{"$f":"N33","v":22121},{"$f":"COUNTIF(L80:L103,AI33)","v":1},{"$f":"AJ33/(AL4-AJ25)","v":4.1666666666666664E-2},{"$f":"IF(AK33=0,0,(AK33*((LOG(AK33))/LOG(2))))","v":-0.19104010419671485},null,{"$f":"N33","v":22121},{"$f":"COUNTIF(L104:L127,AN33)","v":1},{"$f":"AO33/(AQ4-AO25)","v":4.1666666666666664E-2},{"$f":"IF(AP33=0,0,(AP33*((LOG(AP33))/LOG(2))))","v":-0.19104010419671485},null,{"$f":"N33","v":22121},{"$f":"COUNTIF(L128:L151,AS33)","v":1},{"$f":"AT33/(AV4-AT25)","v":4.1666666666666664E-2},{"$f":"IF(AU33=0,0,(AU33*((LOG(AU33))/LOG(2))))","v":-0.19104010419671485}]
[21,3707,22,3715,13,3725,23,3733,24,3740,0,22122,null,22122,{"$f":"COUNTIF($L$7:$L$500,N34)","v":17},{"$f":"O34/$Q$4","v":0.11724137931034483},{"$f":"IF(P34=0,0,(P34*((LOG(P34))/LOG(2))))","v":-0.36256266364826284},null,null,{"$f":"N34","v":22122},{"$f":"COUNTIF(L7:L30,T34)","v":2},{"$f":"U34/(W4-U25)","v":8.3333333333333329E-2},{"$f":"IF(V34=0,0,(V34*((LOG(V34))/LOG(2))))","v":-0.29874687506009634},null,{"$f":"N34","v":22122},{"$f":"COUNTIF(L31:L54,Y34)","v":5},{"$f":"Z34/(AB4-Z25)","v":0.20833333333333334},{"$f":"IF(AA34=0,0,(AA34*((LOG(AA34))/LOG(2))))","v":-0.47146550121537367},null,{"$f":"N34","v":22122},{"$f":"COUNTIF(L55:L79,AD34)","v":3},{"$f":"AE34/(AG4-AE25)","v":0.12},{"$f":"IF(AF34=0,0,(AF34*((LOG(AF34))/LOG(2))))","v":-0.36706724268642821},null,{"$f":"N34","v":22122},{"$f":"COUNTIF(L80:L103,AI34)","v":3},{"$f":"AJ34/(AL4-AJ25)","v":0.125},{"$f":"IF(AK34=0,0,(AK34*((LOG(AK34))/LOG(2))))","v":-0.375},null,{"$f":"N34","v":22122},{"$f":"COUNTIF(L104:L127,AN34)","v":1},{"$f":"AO34/(AQ4-AO25)","v":4.1666666666666664E-2},{"$f":"IF(AP34=0,0,(AP34*((LOG(AP34))/LOG(2))))","v":-0.19104010419671485},null,{"$f":"N34","v":22122},{"$f":"COUNTIF(L128:L151,AS34)","v":3},{"$f":"AT34/(AV4-AT25)","v":0.125},{"$f":"IF(AU34=0,0,(AU34*((LOG(AU34))/LOG(2))))","v":-0.375}]
[21,3863,22,3871,13,3881,14,3886,13,3890,0,22111,null,22211,{"$f":"COUNTIF($L$7:$L$500,N35)","v":5},{"$f":"O35/$Q$4","v":3.4482758620689655E-2},{"$f":"IF(P35=0,0,(P35*((LOG(P35))/LOG(2))))","v":-0.16751658603888178},null,null,{"$f":"N35","v":22211},{"$f":"COUNTIF(L7:L30,T35)","v":2},{"$f":"U35/(W4-U25)","v":8.3333333333333329E-2},{"$f":"IF(V35=0,0,(V35*((LOG(V35))/LOG(2))))","v":-0.29874687506009634},null,{"$f":"N35","v":22211},{"$f":"COUNTIF(L31:L54,Y35)","v":1},{"$f":"Z35/(AB4-Z25)","v":4.1666666666666664E-2},{"$f":"IF(AA35=0,0,(AA35*((LOG(AA35))/LOG(2))))","v":-0.19104010419671485},null,{"$f":"N35","v":22211},{"$f":"COUNTIF(L55:L79,AD35)","v":1},{"$f":"AE35/(AG4-AE25)","v":0.04},{"$f":"IF(AF35=0,0,(AF35*((LOG(AF35))/LOG(2))))","v":-0.18575424759098899},null,{"$f":"N35","v":22211},{"$f":"COUNTIF(L80:L103,AI35)","v":0},{"$f":"AJ35/(AL4-AJ25)","v":0},{"$f":"IF(AK35=0,0,(AK35*((LOG(AK35))/LOG(2))))","v":0},null,{"$f":"N35","v":22211},{"$f":"COUNTIF(L104:L127,AN35)","v":0},{"$f":"AO35/(AQ4-AO25)","v":0},{"$f":"IF(AP35=0,0,(AP35*((LOG(AP35))/LOG(2))))","v":0},null,{"$f":"N35","v":22211},{"$f":"COUNTIF(L128:L151,AS35)","v":1},{"$f":"AT35/(AV4-AT25)","v":4.1666666666666664E-2},{"$f":"IF(AU35=0,0,(AU35*((LOG(AU35))/LOG(2))))","v":-0.19104010419671485}]
[21,4000,22,4006,24,4018,14,4028,13,4031,1,22211,null,22212,{"$f":"COUNTIF($L$7:$L$500,N36)","v":10},{"$f":"O36/$Q$4","v":6.8965517241379309E-2},{"$f":"IF(P36=0,0,(P36*((LOG(P36))/LOG(2))))","v":-0.26606765483638428},null,null,{"$f":"N36","v":22212},{"$f":"COUNTIF(L7:L30,T36)","v":1},{"$f":"U36/(W4-U25)","v":4.1666666666666664E-2},{"$f":"IF(V36=0,0,(V36*((LOG(V36))/LOG(2))))","v":-0.19104010419671485},null,{"$f":"N36","v":22212},{"$f":"COUNTIF(L31:L54,Y36)","v":1},{"$f":"Z36/(AB4-Z25)","v":4.1666666666666664E-2},{"$f":"IF(AA36=0,0,(AA36*((LOG(AA36))/LOG(2))))","v":-0.19104010419671485},null,{"$f":"N36","v":22212},{"$f":"COUNTIF(L55:L79,AD36)","v":3},{"$f":"AE36/(AG4-AE25)","v":0.12},{"$f":"IF(AF36=0,0,(AF36*((LOG(AF36))/LOG(2))))","v":-0.36706724268642821},null,{"$f":"N36","v":22212},{"$f":"COUNTIF(L80:L103,AI36)","v":2},{"$f":"AJ36/(AL4-AJ25)","v":8.3333333333333329E-2},{"$f":"IF(AK36=0,0,(AK36*((LOG(AK36))/LOG(2))))","v":-0.29874687506009634},null,{"$f":"N36","v":22212},{"$f":"COUNTIF(L104:L127,AN36)","v":1},{"$f":"AO36/(AQ4-AO25)","v":4.1666666666666664E-2},{"$f":"IF(AP36=0,0,(AP36*((LOG(AP36))/LOG(2))))","v":-0.19104010419671485},null,{"$f":"N36","v":22212},{"$f":"COUNTIF(L128:L151,AS36)","v":2},{"$f":"AT36/(AV4-AT25)","v":8.3333333333333329E-2},{"$f":"IF(AU36=0,0,(AU36*((LOG(AU36))/LOG(2))))","v":-0.29874687506009634}]
[12,4205,13,4209,13,4213,23,4221,24,4230,0,11122,null,22221,{"$f":"COUNTIF($L$7:$L$500,N37)","v":7},{"$f":"O37/$Q$4","v":4.8275862068965517E-2},{"$f":"IF(P37=0,0,(P37*((LOG(P37))/LOG(2))))","v":-0.21108882190138839},null,null,{"$f":"N37","v":22221},{"$f":"COUNTIF(L7:L30,T37)","v":0},{"$f":"U37/(W4-U25)","v":0},{"$f":"IF(V37=0,0,(V37*((LOG(V37))/LOG(2))))","v":0},null,{"$f":"N37","v":22221},{"$f":"COUNTIF(L31:L54,Y37)","v":0},{"$f":"Z37/(AB4-Z25)","v":0},{"$f":"IF(AA37=0,0,(AA37*((LOG(AA37))/LOG(2))))","v":0},null,{"$f":"N37","v":22221},{"$f":"COUNTIF(L55:L79,AD37)","v":1},{"$f":"AE37/(AG4-AE25)","v":0.04},{"$f":"IF(AF37=0,0,(AF37*((LOG(AF37))/LOG(2))))","v":-0.18575424759098899},null,{"$f":"N37","v":22221},{"$f":"COUNTIF(L80:L103,AI37)","v":1},{"$f":"AJ37/(AL4-AJ25)","v":4.1666666666666664E-2},{"$f":"IF(AK37=0,0,(AK37*((LOG(AK37))/LOG(2))))","v":-0.19104010419671485},null,{"$f":"N37","v":22221},{"$f":"COUNTIF(L104:L127,AN37)","v":2},{"$f":"AO37/(AQ4-AO25)","v":8.3333333333333329E-2},{"$f":"IF(AP37=0,0,(AP37*((LOG(AP37))/LOG(2))))","v":-0.29874687506009634},null,{"$f":"N37","v":22221},{"$f":"COUNTIF(L128:L151,AS37)","v":3},{"$f":"AT37/(AV4-AT25)","v":0.125},{"$f":"IF(AU37=0,0,(AU37*((LOG(AU37))/LOG(2))))","v":-0.375}]
[21,4343,11,4358,22,4365,23,4375,24,4381,0,21222,null,22222,{"$f":"COUNTIF($L$7:$L$500,N38)","v":20},{"$f":"O38/$Q$4","v":0.13793103448275862},{"$f":"IF(P38=0,0,(P38*((LOG(P38))/LOG(2))))","v":-0.39420427519000989},null,null,{"$f":"N38","v":22222},{"$f":"COUNTIF(L7:L30,T38)","v":0},{"$f":"U38/(W4-U25)","v":0},{"$f":"IF(V38=0,0,(V38*((LOG(V38))/LOG(2))))","v":0},null,{"$f":"N38","v":22222},{"$f":"COUNTIF(L31:L54,Y38)","v":3},{"$f":"Z38/(AB4-Z25)","v":0.125},{"$f":"IF(AA38=0,0,(AA38*((LOG(AA38))/LOG(2))))","v":-0.375},null,{"$f":"N38","v":22222},{"$f":"COUNTIF(L55:L79,AD38)","v":3},{"$f":"AE38/(AG4-AE25)","v":0.12},{"$f":"IF(AF38=0,0,(AF38*((LOG(AF38))/LOG(2))))","v":-0.36706724268642821},null,{"$f":"N38","v":22222},{"$f":"COUNTIF(L80:L103,AI38)","v":6},{"$f":"AJ38/(AL4-AJ25)","v":0.25},{"$f":"IF(AK38=0,0,(AK38*((LOG(AK38))/LOG(2))))","v":-0.5},null,{"$f":"N38","v":22222},{"$f":"COUNTIF(L104:L127,AN38)","v":2},{"$f":"AO38/(AQ4-AO25)","v":8.3333333333333329E-2},{"$f":"IF(AP38=0,0,(AP38*((LOG(AP38))/LOG(2))))","v":-0.29874687506009634},null,{"$f":"N38","v":22222},{"$f":"COUNTIF(L128:L151,AS38)","v":6},{"$f":"AT38/(AV4-AT25)","v":0.25},{"$f":"IF(AU38=0,0,(AU38*((LOG(AU38))/LOG(2))))","v":-0.5}]
[21,4506,11,4515,22,4523,23,4533,13,4543,0,21221,null,null,null,{"$f":"SUM(P7:P38)","v":1},{"$f":"-SUM(Q7:Q38)","v":4.1186977126730975},null,null,null,null,{"$f":"SUM(V7:V38)","v":1.0000000000000002},{"$f":"-SUM(W7:W38)","v":3.1174924611847552},null,null,null,{"$f":"SUM(AA7:AA38)","v":1},{"$f":"-SUM(AB7:AB38)","v":3.3716535224393338},null,null,null,{"$f":"SUM(AF7:AF38)","v":1},{"$f":"-SUM(AG7:AG38)","v":3.1826831892554921},null,null,null,{"$f":"SUM(AK7:AK38)","v":1},{"$f":"-SUM(AL7:AL38)","v":3.2406015629507228},null,null,null,{"$f":"SUM(AP7:AP38)","v":1},{"$f":"-SUM(AQ7:AQ38)","v":3.8868421881310122},null,null,null,{"$f":"SUM(AU7:AU38)","v":1},{"$f":"-SUM(AV7:AV38)","v":3.459147917027245}]
[21,4647,11,4657,22,4664,14,4674,24,4682,0,21212,null,null,null,"U=",{"$f":"Q39/(LOG(Q4)/LOG(2))","v":0.57364204212570757},null,null,null,null,"U1=",{"$f":"W39/(LOG(W4)/LOG(2))","v":0.6799384860169333},null,null,null,"U2=",{"$f":"AB39/(LOG(AB4)/LOG(2))","v":0.7353721043321545},null,null,null,"U3=",{"$f":"AG39/(LOG(AG4)/LOG(2))","v":0.68535352069330224},null,null,null,"U4=",{"$f":"AL39/(LOG(AL4)/LOG(2))","v":0.70678910949457441},null,null,null,"U5=",{"$f":"AQ39/(LOG(AQ4)/LOG(2))","v":0.84773696350180872},null,null,null,"U6=",{"$f":"AV39/(LOG(AV4)/LOG(2))","v":0.75445500731645354}]
[21,4779,22,4796,13,4805,23,4812,24,4819,0,22122]
[12,4969,24,4977,24,4987,14,4998,24,5005,0,12212]
[21,5233,11,5245,22,5253,14,5267,24,5275,1,21212,null,"Total Target Seq"]
[21,5376,22,5380,13,5401,14,5405,13,5409,0,22111,null,{"$f":"COUNTIF(L7:L151,G3)","v":0},null,24,24,25,24,24,24]
[21,5521,22,5534,13,5544,23,5551,24,5562,0,22122,null,null,null,"% of reinforcement given in 6 equal intervals based on number of trials "]
[21,5664,22,5685,13,5695,23,5702,13,5712,0,22121,null,null,null,"%_1","%_2","%_3","%_4","%_5","%_6"]
[21,5864,22,5872,13,5882,23,5890,24,5899,0,22122,null,null,"target sequence",{"$f":"$G$3","v":21121},{"$f":"$G$3","v":21121},{"$f":"$G$3","v":21121},{"$f":"$G$3","v":21121},{"$f":"$G$3","v":21121},{"$f":"$G$3","v":21121}]
[21,6035,22,6040,13,6048,23,6056,13,6066,0,22121,null,null,"total reinforcement",{"$f":"U25","v":0},{"$f":"Z25","v":0},{"$f":"AE25","v":0},{"$f":"AJ25","v":0},{"$f":"AO25","v":0},{"$f":"AT25","v":0}]
[21,6169,22,6174,24,6179,23,6194,24,6201,0,22222,null,null,"% target"]
[21,6301,22,6310,24,6320,14,6328,24,6335,0,22212,null,null,"CCRF"]
[21,6431,22,6441,24,6446,23,6454,24,6462,1,22222,null,null,"% CCRf"]
[21,6582,22,6590,13,6600,23,6608,24,6615,0,22122,null,null,"average response rate",{"$f":"J30/P44","v":129.91666666666666},{"$f":"(J54-J30)/Q44","v":157.625},{"$f":"(J79-J54)/R44","v":147.76},{"$f":"(J103-J79)/S44","v":157.375},{"$f":"(J127-J103)/T44","v":194.25},{"$f":"(J151-J127)/U44","v":206.33333333333334}]
[21,6720,22,6726,24,6737,23,6743,24,6750,0,22222]
[21,6865,11,6875,22,6883,23,6891,13,6901,0,21221]
[21,7009,22,7016,13,7024,23,7034,13,7043,0,22121]
[21,7168,22,7176,24,7184,14,7195,24,7203,0,22212]
[21,7326,22,7333,24,7341,23,7348,24,7356,0,22222]
[21,7479,22,7488,13,7501,23,7509,24,7520,0,22122]
[21,7656,11,7666,22,7675,23,7684,13,7693,0,21221]
[21,7797,22,7806,24,7815,14,7825,24,7833,1,22212]
[21,7939,22,7953,13,7966,23,7972,13,7994,0,22121]
[21,8113,22,8118,24,8126,14,8136,13,8161,0,22211]
[21,8266,22,8271,24,8282,23,8289,24,8301,0,22222]
[21,8408,22,8417,24,8421,23,8427,24,8434,0,22222]
[21,8533,22,8541,24,8549,23,8556,13,8567,0,22221]
[21,8698,11,8708,22,8716,14,8726,24,8734,0,21212]
[12,8874,24,8881,24,8889,14,8899,24,8906,0,12212]
[21,9010,22,9021,13,9032,23,9039,13,9050,0,22121]
[21,9156,11,9166,22,9174,23,9182,13,9193,0,21221]
[21,9301,11,9312,22,9319,23,9326,13,9337,1,21221]
[21,9454,22,9463,13,9472,23,9480,13,9491,0,22121]
[21,9594,22,9601,13,9611,23,9618,24,9625,1,22122]
[21,9726,22,9732,24,9743,14,9754,24,9761,1,22212]
[21,9871,11,9882,22,9890,14,9900,24,9909,1,21212]
[21,10007,22,10015,13,10026,23,10033,13,10041,1,22121]
[21,10139,22,10148,13,10162,23,10170,13,10178,0,22121]
[21,10287,22,10294,13,10305,23,10313,24,10322,0,22122]
[21,10422,11,10435,11,10443,12,10448,24,10457,1,21112]
[12,10561,13,10566,24,10575,14,10587,24,10595,0,11212]
[21,10705,11,10714,22,10722,14,10733,24,10741,0,21212]
[21,10850,22,10864,24,10870,23,10875,24,10883,1,22222]
[21,10998,22,11002,13,11012,23,11020,24,11029,0,22122]
[21,11150,11,11160,22,11167,23,11177,13,11186,0,21221]
[12,11299,13,11306,13,11313,23,11323,24,11334,0,11122]
[21,11452,22,11468,24,11481,23,11487,24,11494,1,22222]
[21,11607,22,11629,24,11637,14,11646,24,11654,0,22212]
[21,11761,22,11783,24,11788,23,11796,13,11807,0,22221]
[21,11935,11,11944,22,11952,14,11962,24,11970,0,21212]
[21,12089,22,12098,24,12105,14,12116,24,12124,1,22212]
[12,12233,24,12258,24,12263,14,12275,24,12282,0,12212]
[21,12408,22,12414,24,12421,23,12429,24,12437,0,22222]
[21,12543,22,12552,24,12556,23,12563,24,12570,0,22222]
[21,12675,22,12686,13,12699,23,12707,13,12717,0,22121]
[21,12866,11,12882,22,12890,23,12897,24,12908,1,21222]
[21,13019,22,13029,13,13039,23,13058,24,13065,0,22122]
[21,13186,11,13197,22,13205,14,13216,24,13235,0,21212]
[21,13361,22,13372,24,13380,23,13386,24,13393,0,22222]
[12,13517,13,13531,24,13540,23,13547,13,13557,0,11221]
[21,13682,11,13694,22,13702,23,13712,24,13719,1,21222]
[21,13845,11,13856,22,13863,14,13874,24,13882,0,21212]
[21,14004,22,14022,13,14032,23,14040,24,14054,0,22122]
[12,14189,24,14197,13,14208,23,14217,13,14228,1,12121]
[21,14337,22,14353,24,14358,23,14365,24,14372,0,22222]
[21,14504,11,14522,22,14529,23,14536,24,14544,1,21222]
[21,14681,22,14689,13,14700,23,14708,24,14722,0,22122]
[21,14852,22,14859,24,14868,23,14875,24,14881,0,22222]
[21,15023,22,15034,24,15039,23,15046,24,15053,0,22222]
[12,15200,24,15208,13,15218,23,15226,13,15236,1,12121]
[21,15379,11,15414,22,15423,14,15444,24,15453,0,21212]
[12,15619,13,15627,24,15637,23,15653,24,15660,1,11222]
[21,15871,11,15888,22,15896,23,15907,24,15914,0,21222]
[12,16056,13,16070,13,16080,14,16086,13,16091,1,11111]
[12,16222,13,16225,13,16230,23,16242,24,16248,0,11122]
[12,16380,13,16388,13,16398,23,16409,13,16420,0,11121]
[21,16593,22,16601,24,16611,23,16620,13,16631,1,22221]
[12,16801,24,16809,24,16816,23,16823,24,16831,0,12222]
[21,16977,11,16992,22,17001,23,17008,13,17019,0,21221]
[21,17140,11,17151,22,17159,14,17172,24,17182,0,21212]
[21,17334,22,17339,24,17348,14,17360,24,17368,1,22212]
[12,17506,24,17520,24,17529,23,17534,24,17541,0,12222]
[21,17698,22,17712,24,17720,23,17729,13,17740,0,22221]
[21,17903,11,17915,22,17923,23,17939,13,17948,0,21221]
[21,18137,22,18153,13,18168,23,18176,13,18187,0,22121]
[12,18323,24,18334,24,18340,23,18350,13,18361,1,12221]
[12,18507,13,18518,13,18529,14,18536,13,18543,1,11111]
[12,18676,24,18714,13,18727,14,18733,13,18748,1,12111]
[12,18998,13,19003,13,19011,14,19029,13,19034,1,11111]
[21,19215,22,19222,24,19236,23,19243,24,19250,0,22222]
[12,19477,13,19498,24,19516,23,19523,13,19534,0,11221]
[21,19682,22,19688,13,19699,23,19708,13,19719,1,22121]
[21,19868,22,19902,13,19915,14,19922,13,19927,0,22111]
[12,20091,24,20104,24,20111,14,20122,13,20129,0,12211]
[21,20316,22,20325,24,20333,14,20345,24,20353,1,22212]
[21,20466,22,20486,24,20495,23,20509,13,20524,0,22221]
[21,20677,22,20699,24,20706,23,20714,24,20723,0,22222]
[21,20844,22,20855,24,20860,14,20876,24,20888,0,22212]
[21,21102,22,21114,24,21119,23,21127,24,21134,0,22222]
[12,21278,13,21282,24,21292,23,21298,24,21308,1,11222]
[21,21454,22,21462,13,21475,23,21484,24,21490,0,22122]
[12,21623,13,21628,13,21632,23,21651,24,21655,0,11122]
[21,21819,22,21840,24,21848,23,21856,13,21872,0,22221]
[21,22083,22,22093,13,22103,23,22111,24,22123,0,22122]
[21,22254,22,22270,24,22275,23,22283,13,22297,0,22221]
[21,22435,22,22444,24,22453,23,22458,24,22464,1,22222]
[21,22618,11,22631,22,22640,14,22655,24,22664,0,21212]
[12,22821,24,22835,13,22847,14,22857,13,22867,0,12111]
[21,23049,22,23067,24,23072,23,23080,24,23087,0,22222]
[21,23244,22,23250,13,23261,23,23269,24,23275,0,22122]
[21,23459,22,23467,24,23481,23,23486,24,23495,0,22222]
[21,23669,22,23675,24,23681,14,23693,13,23701,0,22211]
[12,23952,24,23960,24,23971,23,23978,24,23986,1,12222]

{"sheet":"!N331910.000","index":6,"n_rows":175,"n_cols":48,"rows_kept":175,"cut":false,"hidden":false,"merged":[[4,39,4,42],[5,39,5,40],[4,44,4,47],[5,44,5,45],[4,24,4,27],[5,24,5,25],[4,29,4,32],[5,29,5,30],[4,34,4,37],[5,34,5,35],[1,1,1,2],[5,13,5,14],[42,13,42,14],[43,13,43,14],[4,19,4,22],[5,19,5,20]]}
["Report for:!N331910.000"]
["Date:","<date>"]
["Hen:","<hen>",null,null,null,"Correct Sequence",{"$f":"Start!J2","v":21121},null,null,null,null,null,null,null,null,"Total Sequences in Data",{"$f":"4994-COUNTBLANK(L7:L5000)","v":169},null,null,null,null,"Total Sequences in Block Data",{"$f":"COUNTA(L7:L34)","v":28},null,null,null,"Total Sequences in Block Data",{"$f":"COUNTA(L35:L62)","v":28},null,null,null,"Total Sequences in Block Data",{"$f":"COUNTA(L63:L91)","v":29},null,null,null,"Total Sequences in Block Data",{"$f":"COUNTA(L92:L119)","v":28},null,null,null,"Total Sequences in Block Data",{"$f":"COUNTA(L120:L147)","v":28},null,null,null,"Total Sequences in Block Data",{"$f":"COUNTA(L148:L175)","v":28}]
[null,null,null,null,null,null,null,null,null,null,null,null,null,null,null,"Total Sequences in Summary",{"$f":"SUM(O7:O38)","v":169},null,null,null,null,"Total Sequences in Block Summary",{"$f":"SUM(U7:U38)","v":28},null,null,null,"Total Sequences in Block Summary",{"$f":"SUM(Z7:Z38)","v":28},null,null,null,"Total Sequences in Block Summary",{"$f":"SUM(AE7:AE38)","v":29},null,null,null,"Total Sequences in Block Summary",{"$f":"SUM(AJ7:AJ38)","v":28},null,null,null,"Total Sequences in Block Summary",{"$f":"SUM(AO7:AO38)","v":28},null,null,null,"Total Sequences in Block Summary",{"$f":"SUM(AT7:AT38)","v":28}]
[null,null,null,null,null,null,null,null,null,null,null,null,null,null,null,null,null,null,null,"Block 1",null,null,null,null,"Block 2",null,null,null,null,"Block 3",null,null,null,null,"Block 4",null,null,null,null,"Block 5",null,null,null,null,"Block 6"]
["Sequence\nComponent\n1","Time\n1","Sequence\nComponent\n2","Time\n2","Sequence\nComponent\n3","Time\n3","Sequence\nComponent\n4","Time\n4","Sequence\nComponent\n5","Time\n5","Correct?\n0=No 1=Yes","Sequence",null,"Frequency",null,"Relative Frequency","Variability",null,null,"Frequency",null,"Relative Frequency","Variability",null,"Frequency",null,"Relative Frequency","Variability",null,"Frequency",null,"Relative Frequency","Variability",null,"Frequency",null,"Relative Frequency","Variability",null,"Frequency",null,"Relative Frequency","Variability",null,"Frequency",null,"Relative Frequency","Variability"]
[12,7,13,11,24,19,14,28,24,36,0,11212,null,11111,{"$f":"COUNTIF($L$7:$L$500,N7)","v":15},{"$f":"O7/$Q$4","v":8.8757396449704137E-2},{"$f":"IF(P7=0,0,(P7*((LOG(P7))/LOG(2))))","v":-0.31011735272251467},null,null,{"$f":"N7","v":11111},{"$f":"COUNTIF(L7:L34,T7)","v":3},{"$f":"U7/(W4-U25)","v":0.10714285714285714},{"$f":"IF(V7=0,0,(V7*((LOG(V7))/LOG(2))))","v":-0.34525633085747659},null,{"$f":"N7","v":11111},{"$f":"COUNTIF(L35:L62,Y7)","v":4},{"$f":"Z7/(AB4-Z25)","v":0.14814814814814814},{"$f":"IF(AA7=0,0,(AA7*((LOG(AA7))/LOG(2))))","v":-0.40813148180199532},null,{"$f":"N7","v":11111},{"$f":"COUNTIF(L63:L91,AD7)","v":0},{"$f":"AE7/(AG4-AE25)","v":0},{"$f":"IF(AF7=0,0,(AF7*((LOG(AF7))/LOG(2))))","v":0},null,{"$f":"N7","v":11111},{"$f":"COUNTIF(L92:L119,AI7)","v":2},{"$f":"AJ7/(AL4-AJ25)","v":7.1428571428571425E-2},{"$f":"IF(AK7=0,0,(AK7*((LOG(AK7))/LOG(2))))","v":-0.27195392300411453},null,{"$f":"N7","v":11111},{"$f":"COUNTIF(L120:L147,AN7)","v":1},{"$f":"AO7/(AQ4-AO25)","v":3.5714285714285712E-2},{"$f":"IF(AP7=0,0,(AP7*((LOG(AP7))/LOG(2))))","v":-0.17169124721634299},null,{"$f":"N7","v":11111},{"$f":"COUNTIF(L148:L175,AS7)","v":5},{"$f":"AT7/(AV4-AT25)","v":0.18518518518518517},{"$f":"IF(AU7=0,0,(AU7*((LOG(AU7))/LOG(2))))","v":-0.45054803838446406}]
[12,137,13,141,13,145,14,153,13,160,0,11111,null,11112,{"$f":"COUNTIF($L$7:$L$500,N8)","v":19},{"$f":"O8/$Q$4","v":0.11242603550295859},{"$f":"IF(P8=0,0,(P8*((LOG(P8))/LOG(2))))","v":-0.35447388481617381},null,null,{"$f":"N8","v":11112},{"$f":"COUNTIF(L7:L34,T8)","v":4},{"$f":"U8/(W4-U25)","v":0.14285714285714285},{"$f":"IF(V8=0,0,(V8*((LOG(V8))/LOG(2))))","v":-0.40105070315108626},null,{"$f":"N8","v":11112},{"$f":"COUNTIF(L35:L62,Y8)","v":3},{"$f":"Z8/(AB4-Z25)","v":0.1111111111111111},{"$f":"IF(AA8=0,0,(AA8*((LOG(AA8))/LOG(2))))","v":-0.3522138890491458},null,{"$f":"N8","v":11112},{"$f":"COUNTIF(L63:L91,AD8)","v":4},{"$f":"AE8/(AG4-AE25)","v":0.13793103448275862},{"$f":"IF(AF8=0,0,(AF8*((LOG(AF8))/LOG(2))))","v":-0.39420427519000989},null,{"$f":"N8","v":11112},{"$f":"COUNTIF(L92:L119,AI8)","v":0},{"$f":"AJ8/(AL4-AJ25)","v":0},{"$f":"IF(AK8=0,0,(AK8*((LOG(AK8))/LOG(2))))","v":0},null,{"$f":"N8","v":11112},{"$f":"COUNTIF(L120:L147,AN8)","v":4},{"$f":"AO8/(AQ4-AO25)","v":0.14285714285714285},{"$f":"IF(AP8=0,0,(AP8*((LOG(AP8))/LOG(2))))","v":-0.40105070315108626},null,{"$f":"N8","v":11112},{"$f":"COUNTIF(L148:L175,AS8)","v":4},{"$f":"AT8/(AV4-AT25)","v":0.14814814814814814},{"$f":"IF(AU8=0,0,(AU8*((LOG(AU8))/LOG(2))))","v":-0.40813148180199532}]
[12,264,13,271,13,275,14,278,13,283,0,11111,null,11121,{"$f":"COUNTIF($L$7:$L$500,N9)","v":8},{"$f":"O9/$Q$4","v":4.7337278106508875E-2},{"$f":"IF(P9=0,0,(P9*((LOG(P9))/LOG(2))))","v":-0.20832565378850576},null,null,{"$f":"N9","v":11121},{"$f":"COUNTIF(L7:L34,T9)","v":1},{"$f":"U9/(W4-U25)","v":3.5714285714285712E-2},{"$f":"IF(V9=0,0,(V9*((LOG(V9))/LOG(2))))","v":-0.17169124721634299},null,{"$f":"N9","v":11121},{"$f":"COUNTIF(L35:L62,Y9)","v":1},{"$f":"Z9/(AB4-Z25)","v":3.7037037037037035E-2},{"$f":"IF(AA9=0,0,(AA9*((LOG(AA9))/LOG(2))))","v":-0.1761069445245729},null,{"$f":"N9","v":11121},{"$f":"COUNTIF(L63:L91,AD9)","v":1},{"$f":"AE9/(AG4-AE25)","v":3.4482758620689655E-2},{"$f":"IF(AF9=0,0,(AF9*((LOG(AF9))/LOG(2))))","v":-0.16751658603888178},null,{"$f":"N9","v":11121},{"$f":"COUNTIF(L92:L119,AI9)","v":0},{"$f":"AJ9/(AL4-AJ25)","v":0},{"$f":"IF(AK9=0,0,(AK9*((LOG(AK9))/LOG(2))))","v":0},null,{"$f":"N9","v":11121},{"$f":"COUNTIF(L120:L147,AN9)","v":3},{"$f":"AO9/(AQ4-AO25)","v":0.10714285714285714},{"$f":"IF(AP9=0,0,(AP9*((LOG(AP9))/LOG(2))))","v":-0.34525633085747659},null,{"$f":"N9","v":11121},{"$f":"COUNTIF(L148:L175,AS9)","v":2},{"$f":"AT9/(AV4-AT25)","v":7.407407407407407E-2},{"$f":"IF(AU9=0,0,(AU9*((LOG(AU9))/LOG(2))))","v":-0.27813981497507173}]
[21,383,22,387,24,392,23,400,24,405,0,22222,null,11122,{"$f":"COUNTIF($L$7:$L$500,N10)","v":30},{"$f":"O10/$Q$4","v":0.17751479289940827},{"$f":"IF(P10=0,0,(P10*((LOG(P10))/LOG(2))))","v":-0.44271991254562115},null,null,{"$f":"N10","v":11122},{"$f":"COUNTIF(L7:L34,T10)","v":4},{"$f":"U10/(W4-U25)","v":0.14285714285714285},{"$f":"IF(V10=0,0,(V10*((LOG(V10))/LOG(2))))","v":-0.40105070315108626},null,{"$f":"N10","v":11122},{"$f":"COUNTIF(L35:L62,Y10)","v":9},{"$f":"Z10/(AB4-Z25)","v":0.33333333333333331},{"$f":"IF(AA10=0,0,(AA10*((LOG(AA10))/LOG(2))))","v":-0.52832083357371862},null,{"$f":"N10","v":11122},{"$f":"COUNTIF(L63:L91,AD10)","v":4},{"$f":"AE10/(AG4-AE25)","v":0.13793103448275862},{"$f":"IF(AF10=0,0,(AF10*((LOG(AF10))/LOG(2))))","v":-0.39420427519000989},null,{"$f":"N10","v":11122},{"$f":"COUNTIF(L92:L119,AI10)","v":4},{"$f":"AJ10/(AL4-AJ25)","v":0.14285714285714285},{"$f":"IF(AK10=0,0,(AK10*((LOG(AK10))/LOG(2))))","v":-0.40105070315108626},null,{"$f":"N10","v":11122},{"$f":"COUNTIF(L120:L147,AN10)","v":1},{"$f":"AO10/(AQ4-AO25)","v":3.5714285714285712E-2},{"$f":"IF(AP10=0,0,(AP10*((LOG(AP10))/LOG(2))))","v":-0.17169124721634299},null,{"$f":"N10","v":11122},{"$f":"COUNTIF(L148:L175,AS10)","v":8},{"$f":"AT10/(AV4-AT25)","v":0.29629629629629628},{"$f":"IF(AU10=0,0,(AU10*((LOG(AU10))/LOG(2))))","v":-0.51996666730769436}]
[12,501,13,515,13,519,14,524,13,529,0,11111,null,11211,{"$f":"COUNTIF($L$7:$L$500,N11)","v":1},{"$f":"O11/$Q$4","v":5.9171597633136093E-3},{"$f":"IF(P11=0,0,(P11*((LOG(P11))/LOG(2))))","v":-4.3792186013504049E-2},null,null,{"$f":"N11","v":11211},{"$f":"COUNTIF(L7:L34,T11)","v":1},{"$f":"U11/(W4-U25)","v":3.5714285714285712E-2},{"$f":"IF(V11=0,0,(V11*((LOG(V11))/LOG(2))))","v":-0.17169124721634299},null,{"$f":"N11","v":11211},{"$f":"COUNTIF(L35:L62,Y11)","v":0},{"$f":"Z11/(AB4-Z25)","v":0},{"$f":"IF(AA11=0,0,(AA11*((LOG(AA11))/LOG(2))))","v":0},null,{"$f":"N11","v":11211},{"$f":"COUNTIF(L63:L91,AD11)","v":0},{"$f":"AE11/(AG4-AE25)","v":0},{"$f":"IF(AF11=0,0,(AF11*((LOG(AF11))/LOG(2))))","v":0},null,{"$f":"N11","v":11211},{"$f":"COUNTIF(L92:L119,AI11)","v":0},{"$f":"AJ11/(AL4-AJ25)","v":0},{"$f":"IF(AK11=0,0,(AK11*((LOG(AK11))/LOG(2))))","v":0},null,{"$f":"N11","v":11211},{"$f":"COUNTIF(L120:L147,AN11)","v":0},{"$f":"AO11/(AQ4-AO25)","v":0},{"$f":"IF(AP11=0,0,(AP11*((LOG(AP11))/LOG(2))))","v":0},null,{"$f":"N11","v":11211},{"$f":"COUNTIF(L148:L175,AS11)","v":0},{"$f":"AT11/(AV4-AT25)","v":0},{"$f":"IF(AU11=0,0,(AU11*((LOG(AU11))/LOG(2))))","v":0}]
[21,633,22,641,24,648,23,653,13,663,1,22221,null,11212,{"$f":"COUNTIF($L$7:$L$500,N12)","v":7},{"$f":"O12/$Q$4","v":4.142011834319527E-2},{"$f":"IF(P12=0,0,(P12*((LOG(P12))/LOG(2))))","v":-0.19026432899155069},null,null,{"$f":"N12","v":11212},{"$f":"COUNTIF(L7:L34,T12)","v":1},{"$f":"U12/(W4-U25)","v":3.5714285714285712E-2},{"$f":"IF(V12=0,0,(V12*((LOG(V12))/LOG(2))))","v":-0.17169124721634299},null,{"$f":"N12","v":11212},{"$f":"COUNTIF(L35:L62,Y12)","v":2},{"$f":"Z12/(AB4-Z25)","v":7.407407407407407E-2},{"$f":"IF(AA12=0,0,(AA12*((LOG(AA12))/LOG(2))))","v":-0.27813981497507173},null,{"$f":"N12","v":11212},{"$f":"COUNTIF(L63:L91,AD12)","v":0},{"$f":"AE12/(AG4-AE25)","v":0},{"$f":"IF(AF12=0,0,(AF12*((LOG(AF12))/LOG(2))))","v":0},null,{"$f":"N12","v":11212},{"$f":"COUNTIF(L92:L119,AI12)","v":1},{"$f":"AJ12/(AL4-AJ25)","v":3.5714285714285712E-2},{"$f":"IF(AK12=0,0,(AK12*((LOG(AK12))/LOG(2))))","v":-0.17169124721634299},null,{"$f":"N12","v":11212},{"$f":"COUNTIF(L120:L147,AN12)","v":0},{"$f":"AO12/(AQ4-AO25)","v":0},{"$f":"IF(AP12=0,0,(AP12*((LOG(AP12))/LOG(2))))","v":0},null,{"$f":"N12","v":11212},{"$f":"COUNTIF(L148:L175,AS12)","v":3},{"$f":"AT12/(AV4-AT25)","v":0.1111111111111111},{"$f":"IF(AU12=0,0,(AU12*((LOG(AU12))/LOG(2))))","v":-0.3522138890491458}]
[12,760,13,764,24,773,14,787,13,794,0,11211,null,11221,{"$f":"COUNTIF($L$7:$L$500,N13)","v":7},{"$f":"O13/$Q$4","v":4.142011834319527E-2},{"$f":"IF(P13=0,0,(P13*((LOG(P13))/LOG(2))))","v":-0.19026432899155069},null,null,{"$f":"N13","v":11221},{"$f":"COUNTIF(L7:L34,T13)","v":1},{"$f":"U13/(W4-U25)","v":3.5714285714285712E-2},{"$f":"IF(V13=0,0,(V13*((LOG(V13))/LOG(2))))","v":-0.17169124721634299},null,{"$f":"N13","v":11221},{"$f":"COUNTIF(L35:L62,Y13)","v":1},{"$f":"Z13/(AB4-Z25)","v":3.7037037037037035E-2},{"$f":"IF(AA13=0,0,(AA13*((LOG(AA13))/LOG(2))))","v":-0.1761069445245729},null,{"$f":"N13","v":11221},{"$f":"COUNTIF(L63:L91,AD13)","v":0},{"$f":"AE13/(AG4-AE25)","v":0},{"$f":"IF(AF13=0,0,(AF13*((LOG(AF13))/LOG(2))))","v":0},null,{"$f":"N13","v":11221},{"$f":"COUNTIF(L92:L119,AI13)","v":2},{"$f":"AJ13/(AL4-AJ25)","v":7.1428571428571425E-2},{"$f":"IF(AK13=0,0,(AK13*((LOG(AK13))/LOG(2))))","v":-0.27195392300411453},null,{"$f":"N13","v":11221},{"$f":"COUNTIF(L120:L147,AN13)","v":2},{"$f":"AO13/(AQ4-AO25)","v":7.1428571428571425E-2},{"$f":"IF(AP13=0,0,(AP13*((LOG(AP13))/LOG(2))))","v":-0.27195392300411453},null,{"$f":"N13","v":11221},{"$f":"COUNTIF(L148:L175,AS13)","v":1},{"$f":"AT13/(AV4-AT25)","v":3.7037037037037035E-2},{"$f":"IF(AU13=0,0,(AU13*((LOG(AU13))/LOG(2))))","v":-0.1761069445245729}]
[21,895,11,906,11,914,12,919,24,934,0,21112,null,11222,{"$f":"COUNTIF($L$7:$L$500,N14)","v":5},{"$f":"O14/$Q$4","v":2.9585798816568046E-2},{"$f":"IF(P14=0,0,(P14*((LOG(P14))/LOG(2))))","v":-0.1502648325856456},null,null,{"$f":"N14","v":11222},{"$f":"COUNTIF(L7:L34,T14)","v":0},{"$f":"U14/(W4-U25)","v":0},{"$f":"IF(V14=0,0,(V14*((LOG(V14))/LOG(2))))","v":0},null,{"$f":"N14","v":11222},{"$f":"COUNTIF(L35:L62,Y14)","v":0},{"$f":"Z14/(AB4-Z25)","v":0},{"$f":"IF(AA14=0,0,(AA14*((LOG(AA14))/LOG(2))))","v":0},null,{"$f":"N14","v":11222},{"$f":"COUNTIF(L63:L91,AD14)","v":1},{"$f":"AE14/(AG4-AE25)","v":3.4482758620689655E-2},{"$f":"IF(AF14=0,0,(AF14*((LOG(AF14))/LOG(2))))","v":-0.16751658603888178},null,{"$f":"N14","v":11222},{"$f":"COUNTIF(L92:L119,AI14)","v":2},{"$f":"AJ14/(AL4-AJ25)","v":7.1428571428571425E-2},{"$f":"IF(AK14=0,0,(AK14*((LOG(AK14))/LOG(2))))","v":-0.27195392300411453},null,{"$f":"N14","v":11222},{"$f":"COUNTIF(L120:L147,AN14)","v":2},{"$f":"AO14/(AQ4-AO25)","v":7.1428571428571425E-2},{"$f":"IF(AP14=0,0,(AP14*((LOG(AP14))/LOG(2))))","v":-0.27195392300411453},null,{"$f":"N14","v":11222},{"$f":"COUNTIF(L148:L175,AS14)","v":0},{"$f":"AT14/(AV4-AT25)","v":0},{"$f":"IF(AU14=0,0,(AU14*((LOG(AU14))/LOG(2))))","v":0}]
[12,1032,13,1042,13,1047,14,1051,24,1060,0,11112,null,12111,{"$f":"COUNTIF($L$7:$L$500,N15)","v":0},{"$f":"O15/$Q$4","v":0},{"$f":"IF(P15=0,0,(P15*((LOG(P15))/LOG(2))))","v":0},null,null,{"$f":"N15","v":12111},{"$f":"COUNTIF(L7:L34,T15)","v":0},{"$f":"U15/(W4-U25)","v":0},{"$f":"IF(V15=0,0,(V15*((LOG(V15))/LOG(2))))","v":0},null,{"$f":"N15","v":12111},{"$f":"COUNTIF(L35:L62,Y15)","v":0},{"$f":"Z15/(AB4-Z25)","v":0},{"$f":"IF(AA15=0,0,(AA15*((LOG(AA15))/LOG(2))))","v":0},null,{"$f":"N15","v":12111},{"$f":"COUNTIF(L63:L91,AD15)","v":0},{"$f":"AE15/(AG4-AE25)","v":0},{"$f":"IF(AF15=0,0,(AF15*((LOG(AF15))/LOG(2))))","v":0},null,{"$f":"N15","v":12111},{"$f":"COUNTIF(L92:L119,AI15)","v":0},{"$f":"AJ15/(AL4-AJ25)","v":0},{"$f":"IF(AK15=0,0,(AK15*((LOG(AK15))/LOG(2))))","v":0},null,{"$f":"N15","v":12111},{"$f":"COUNTIF(L120:L147,AN15)","v":0},{"$f":"AO15/(AQ4-AO25)","v":0},{"$f":"IF(AP15=0,0,(AP15*((LOG(AP15))/LOG(2))))","v":0},null,{"$f":"N15","v":12111},{"$f":"COUNTIF(L148:L175,AS15)","v":0},{"$f":"AT15/(AV4-AT25)","v":0},{"$f":"IF(AU15=0,0,(AU15*((LOG(AU15))/LOG(2))))","v":0}]
[12,1166,13,1174,13,1185,14,1190,24,1201,0,11112,null,12112,{"$f":"COUNTIF($L$7:$L$500,N16)","v":0},{"$f":"O16/$Q$4","v":0},{"$f":"IF(P16=0,0,(P16*((LOG(P16))/LOG(2))))","v":0},null,null,{"$f":"N16","v":12112},{"$f":"COUNTIF(L7:L34,T16)","v":0},{"$f":"U16/(W4-U25)","v":0},{"$f":"IF(V16=0,0,(V16*((LOG(V16))/LOG(2))))","v":0},null,{"$f":"N16","v":12112},{"$f":"COUNTIF(L35:L62,Y16)","v":0},{"$f":"Z16/(AB4-Z25)","v":0},{"$f":"IF(AA16=0,0,(AA16*((LOG(AA16))/LOG(2))))","v":0},null,{"$f":"N16","v":12112},{"$f":"COUNTIF(L63:L91,AD16)","v":0},{"$f":"AE16/(AG4-AE25)","v":0},{"$f":"IF(AF16=0,0,(AF16*((LOG(AF16))/LOG(2))))","v":0},null,{"$f":"N16","v":12112},{"$f":"COUNTIF(L92:L119,AI16)","v":0},{"$f":"AJ16/(AL4-AJ25)","v":0},{"$f":"IF(AK16=0,0,(AK16*((LOG(AK16))/LOG(2))))","v":0},null,{"$f":"N16","v":12112},{"$f":"COUNTIF(L120:L147,AN16)","v":0},{"$f":"AO16/(AQ4-AO25)","v":0},{"$f":"IF(AP16=0,0,(AP16*((LOG(AP16))/LOG(2))))","v":0},null,{"$f":"N16","v":12112},{"$f":"COUNTIF(L148:L175,AS16)","v":0},{"$f":"AT16/(AV4-AT25)","v":0},{"$f":"IF(AU16=0,0,(AU16*((LOG(AU16))/LOG(2))))","v":0}]
[12,1312,13,1328,24,1343,23,1348,13,1358,0,11221,null,12121,{"$f":"COUNTIF($L$7:$L$500,N17)","v":0},{"$f":"O17/$Q$4","v":0},{"$f":"IF(P17=0,0,(P17*((LOG(P17))/LOG(2))))","v":0},null,null,{"$f":"N17","v":12121},{"$f":"COUNTIF(L7:L34,T17)","v":0},{"$f":"U17/(W4-U25)","v":0},{"$f":"IF(V17=0,0,(V17*((LOG(V17))/LOG(2))))","v":0},null,{"$f":"N17","v":12121},{"$f":"COUNTIF(L35:L62,Y17)","v":0},{"$f":"Z17/(AB4-Z25)","v":0},{"$f":"IF(AA17=0,0,(AA17*((LOG(AA17))/LOG(2))))","v":0},null,{"$f":"N17","v":12121},{"$f":"COUNTIF(L63:L91,AD17)","v":0},{"$f":"AE17/(AG4-AE25)","v":0},{"$f":"IF(AF17=0,0,(AF17*((LOG(AF17))/LOG(2))))","v":0},null,{"$f":"N17","v":12121},{"$f":"COUNTIF(L92:L119,AI17)","v":0},{"$f":"AJ17/(AL4-AJ25)","v":0},{"$f":"IF(AK17=0,0,(AK17*((LOG(AK17))/LOG(2))))","v":0},null,{"$f":"N17","v":12121},{"$f":"COUNTIF(L120:L147,AN17)","v":0},{"$f":"AO17/(AQ4-AO25)","v":0},{"$f":"IF(AP17=0,0,(AP17*((LOG(AP17))/LOG(2))))","v":0},null,{"$f":"N17","v":12121},{"$f":"COUNTIF(L148:L175,AS17)","v":0},{"$f":"AT17/(AV4-AT25)","v":0},{"$f":"IF(AU17=0,0,(AU17*((LOG(AU17))/LOG(2))))","v":0}]
[21,1459,22,1463,13,1482,23,1491,24,1496,0,22122,null,12122,{"$f":"COUNTIF($L$7:$L$500,N18)","v":2},{"$f":"O18/$Q$4","v":1.1834319526627219E-2},{"$f":"IF(P18=0,0,(P18*((LOG(P18))/LOG(2))))","v":-7.5750052500380874E-2},null,null,{"$f":"N18","v":12122},{"$f":"COUNTIF(L7:L34,T18)","v":0},{"$f":"U18/(W4-U25)","v":0},{"$f":"IF(V18=0,0,(V18*((LOG(V18))/LOG(2))))","v":0},null,{"$f":"N18","v":12122},{"$f":"COUNTIF(L35:L62,Y18)","v":0},{"$f":"Z18/(AB4-Z25)","v":0},{"$f":"IF(AA18=0,0,(AA18*((LOG(AA18))/LOG(2))))","v":0},null,{"$f":"N18","v":12122},{"$f":"COUNTIF(L63:L91,AD18)","v":0},{"$f":"AE18/(AG4-AE25)","v":0},{"$f":"IF(AF18=0,0,(AF18*((LOG(AF18))/LOG(2))))","v":0},null,{"$f":"N18","v":12122},{"$f":"COUNTIF(L92:L119,AI18)","v":1},{"$f":"AJ18/(AL4-AJ25)","v":3.5714285714285712E-2},{"$f":"IF(AK18=0,0,(AK18*((LOG(AK18))/LOG(2))))","v":-0.17169124721634299},null,{"$f":"N18","v":12122},{"$f":"COUNTIF(L120:L147,AN18)","v":1},{"$f":"AO18/(AQ4-AO25)","v":3.5714285714285712E-2},{"$f":"IF(AP18=0,0,(AP18*((LOG(AP18))/LOG(2))))","v":-0.17169124721634299},null,{"$f":"N18","v":12122},{"$f":"COUNTIF(L148:L175,AS18)","v":0},{"$f":"AT18/(AV4-AT25)","v":0},{"$f":"IF(AU18=0,0,(AU18*((LOG(AU18))/LOG(2))))","v":0}]
[12,1613,13,1627,13,1632,23,1642,24,1650,0,11122,null,12211,{"$f":"COUNTIF($L$7:$L$500,N19)","v":1},{"$f":"O19/$Q$4","v":5.9171597633136093E-3},{"$f":"IF(P19=0,0,(P19*((LOG(P19))/LOG(2))))","v":-4.3792186013504049E-2},null,null,{"$f":"N19","v":12211},{"$f":"COUNTIF(L7:L34,T19)","v":0},{"$f":"U19/(W4-U25)","v":0},{"$f":"IF(V19=0,0,(V19*((LOG(V19))/LOG(2))))","v":0},null,{"$f":"N19","v":12211},{"$f":"COUNTIF(L35:L62,Y19)","v":0},{"$f":"Z19/(AB4-Z25)","v":0},{"$f":"IF(AA19=0,0,(AA19*((LOG(AA19))/LOG(2))))","v":0},null,{"$f":"N19","v":12211},{"$f":"COUNTIF(L63:L91,AD19)","v":0},{"$f":"AE19/(AG4-AE25)","v":0},{"$f":"IF(AF19=0,0,(AF19*((LOG(AF19))/LOG(2))))","v":0},null,{"$f":"N19","v":12211},{"$f":"COUNTIF(L92:L119,AI19)","v":1},{"$f":"AJ19/(AL4-AJ25)","v":3.5714285714285712E-2},{"$f":"IF(AK19=0,0,(AK19*((LOG(AK19))/LOG(2))))","v":-0.17169124721634299},null,{"$f":"N19","v":12211},{"$f":"COUNTIF(L120:L147,AN19)","v":0},{"$f":"AO19/(AQ4-AO25)","v":0},{"$f":"IF(AP19=0,0,(AP19*((LOG(AP19))/LOG(2))))","v":0},null,{"$f":"N19","v":12211},{"$f":"COUNTIF(L148:L175,AS19)","v":0},{"$f":"AT19/(AV4-AT25)","v":0},{"$f":"IF(AU19=0,0,(AU19*((LOG(AU19))/LOG(2))))","v":0}]
[21,1759,22,1763,13,1777,14,1784,13,1788,1,22111,null,12212,{"$f":"COUNTIF($L$7:$L$500,N20)","v":3},{"$f":"O20/$Q$4","v":1.7751479289940829E-2},{"$f":"IF(P20=0,0,(P20*((LOG(P20))/LOG(2))))","v":-0.10324112903362773},null,null,{"$f":"N20","v":12212},{"$f":"COUNTIF(L7:L34,T20)","v":0},{"$f":"U20/(W4-U25)","v":0},{"$f":"IF(V20=0,0,(V20*((LOG(V20))/LOG(2))))","v":0},null,{"$f":"N20","v":12212},{"$f":"COUNTIF(L35:L62,Y20)","v":0},{"$f":"Z20/(AB4-Z25)","v":0},{"$f":"IF(AA20=0,0,(AA20*((LOG(AA20))/LOG(2))))","v":0},null,{"$f":"N20","v":12212},{"$f":"COUNTIF(L63:L91,AD20)","v":0},{"$f":"AE20/(AG4-AE25)","v":0},{"$f":"IF(AF20=0,0,(AF20*((LOG(AF20))/LOG(2))))","v":0},null,{"$f":"N20","v":12212},{"$f":"COUNTIF(L92:L119,AI20)","v":0},{"$f":"AJ20/(AL4-AJ25)","v":0},{"$f":"IF(AK20=0,0,(AK20*((LOG(AK20))/LOG(2))))","v":0},null,{"$f":"N20","v":12212},{"$f":"COUNTIF(L120:L147,AN20)","v":3},{"$f":"AO20/(AQ4-AO25)","v":0.10714285714285714},{"$f":"IF(AP20=0,0,(AP20*((LOG(AP20))/LOG(2))))","v":-0.34525633085747659},null,{"$f":"N20","v":12212},{"$f":"COUNTIF(L148:L175,AS20)","v":0},{"$f":"AT20/(AV4-AT25)","v":0},{"$f":"IF(AU20=0,0,(AU20*((LOG(AU20))/LOG(2))))","v":0}]
[12,1885,24,1902,24,1907,23,1914,24,1921,0,12222,null,12221,{"$f":"COUNTIF($L$7:$L$500,N21)","v":2},{"$f":"O21/$Q$4","v":1.1834319526627219E-2},{"$f":"IF(P21=0,0,(P21*((LOG(P21))/LOG(2))))","v":-7.5750052500380874E-2},null,null,{"$f":"N21","v":12221},{"$f":"COUNTIF(L7:L34,T21)","v":0},{"$f":"U21/(W4-U25)","v":0},{"$f":"IF(V21=0,0,(V21*((LOG(V21))/LOG(2))))","v":0},null,{"$f":"N21","v":12221},{"$f":"COUNTIF(L35:L62,Y21)","v":1},{"$f":"Z21/(AB4-Z25)","v":3.7037037037037035E-2},{"$f":"IF(AA21=0,0,(AA21*((LOG(AA21))/LOG(2))))","v":-0.1761069445245729},null,{"$f":"N21","v":12221},{"$f":"COUNTIF(L63:L91,AD21)","v":0},{"$f":"AE21/(AG4-AE25)","v":0},{"$f":"IF(AF21=0,0,(AF21*((LOG(AF21))/LOG(2))))","v":0},null,{"$f":"N21","v":12221},{"$f":"COUNTIF(L92:L119,AI21)","v":0},{"$f":"AJ21/(AL4-AJ25)","v":0},{"$f":"IF(AK21=0,0,(AK21*((LOG(AK21))/LOG(2))))","v":0},null,{"$f":"N21","v":12221},{"$f":"COUNTIF(L120:L147,AN21)","v":1},{"$f":"AO21/(AQ4-AO25)","v":3.5714285714285712E-2},{"$f":"IF(AP21=0,0,(AP21*((LOG(AP21))/LOG(2))))","v":-0.17169124721634299},null,{"$f":"N21","v":12221},{"$f":"COUNTIF(L148:L175,AS21)","v":0},{"$f":"AT21/(AV4-AT25)","v":0},{"$f":"IF(AU21=0,0,(AU21*((LOG(AU21))/LOG(2))))","v":0}]
[12,2021,13,2025,13,2041,14,2045,24,2054,0,11112,null,12222,{"$f":"COUNTIF($L$7:$L$500,N22)","v":4},{"$f":"O22/$Q$4","v":2.3668639053254437E-2},{"$f":"IF(P22=0,0,(P22*((LOG(P22))/LOG(2))))","v":-0.12783146594750733},null,null,{"$f":"N22","v":12222},{"$f":"COUNTIF(L7:L34,T22)","v":1},{"$f":"U22/(W4-U25)","v":3.5714285714285712E-2},{"$f":"IF(V22=0,0,(V22*((LOG(V22))/LOG(2))))","v":-0.17169124721634299},null,{"$f":"N22","v":12222},{"$f":"COUNTIF(L35:L62,Y22)","v":1},{"$f":"Z22/(AB4-Z25)","v":3.7037037037037035E-2},{"$f":"IF(AA22=0,0,(AA22*((LOG(AA22))/LOG(2))))","v":-0.1761069445245729},null,{"$f":"N22","v":12222},{"$f":"COUNTIF(L63:L91,AD22)","v":0},{"$f":"AE22/(AG4-AE25)","v":0},{"$f":"IF(AF22=0,0,(AF22*((LOG(AF22))/LOG(2))))","v":0},null,{"$f":"N22","v":12222},{"$f":"COUNTIF(L92:L119,AI22)","v":2},{"$f":"AJ22/(AL4-AJ25)","v":7.1428571428571425E-2},{"$f":"IF(AK22=0,0,(AK22*((LOG(AK22))/LOG(2))))","v":-0.27195392300411453},null,{"$f":"N22","v":12222},{"$f":"COUNTIF(L120:L147,AN22)","v":0},{"$f":"AO22/(AQ4-AO25)","v":0},{"$f":"IF(AP22=0,0,(AP22*((LOG(AP22))/LOG(2))))","v":0},null,{"$f":"N22","v":12222},{"$f":"COUNTIF(L148:L175,AS22)","v":0},{"$f":"AT22/(AV4-AT25)","v":0},{"$f":"IF(AU22=0,0,(AU22*((LOG(AU22))/LOG(2))))","v":0}]
[12,2161,13,2175,13,2180,23,2191,24,2200,0,11122,null,21111,{"$f":"COUNTIF($L$7:$L$500,N23)","v":2},{"$f":"O23/$Q$4","v":1.1834319526627219E-2},{"$f":"IF(P23=0,0,(P23*((LOG(P23))/LOG(2))))","v":-7.5750052500380874E-2},null,null,{"$f":"N23","v":21111},{"$f":"COUNTIF(L7:L34,T23)","v":0},{"$f":"U23/(W4-U25)","v":0},{"$f":"IF(V23=0,0,(V23*((LOG(V23))/LOG(2))))","v":0},null,{"$f":"N23","v":21111},{"$f":"COUNTIF(L35:L62,Y23)","v":1},{"$f":"Z23/(AB4-Z25)","v":3.7037037037037035E-2},{"$f":"IF(AA23=0,0,(AA23*((LOG(AA23))/LOG(2))))","v":-0.1761069445245729},null,{"$f":"N23","v":21111},{"$f":"COUNTIF(L63:L91,AD23)","v":0},{"$f":"AE23/(AG4-AE25)","v":0},{"$f":"IF(AF23=0,0,(AF23*((LOG(AF23))/LOG(2))))","v":0},null,{"$f":"N23","v":21111},{"$f":"COUNTIF(L92:L119,AI23)","v":0},{"$f":"AJ23/(AL4-AJ25)","v":0},{"$f":"IF(AK23=0,0,(AK23*((LOG(AK23))/LOG(2))))","v":0},null,{"$f":"N23","v":21111},{"$f":"COUNTIF(L120:L147,AN23)","v":0},{"$f":"AO23/(AQ4-AO25)","v":0},{"$f":"IF(AP23=0,0,(AP23*((LOG(AP23))/LOG(2))))","v":0},null,{"$f":"N23","v":21111},{"$f":"COUNTIF(L148:L175,AS23)","v":1},{"$f":"AT23/(AV4-AT25)","v":3.7037037037037035E-2},{"$f":"IF(AU23=0,0,(AU23*((LOG(AU23))/LOG(2))))","v":-0.1761069445245729}]
[21,2303,22,2307,13,2317,14,2321,24,2330,1,22112,null,21112,{"$f":"COUNTIF($L$7:$L$500,N24)","v":6},{"$f":"O24/$Q$4","v":3.5502958579881658E-2},{"$f":"IF(P24=0,0,(P24*((LOG(P24))/LOG(2))))","v":-0.17097929948737375},null,null,{"$f":"N24","v":21112},{"$f":"COUNTIF(L7:L34,T24)","v":4},{"$f":"U24/(W4-U25)","v":0.14285714285714285},{"$f":"IF(V24=0,0,(V24*((LOG(V24))/LOG(2))))","v":-0.40105070315108626},null,{"$f":"N24","v":21112},{"$f":"COUNTIF(L35:L62,Y24)","v":0},{"$f":"Z24/(AB4-Z25)","v":0},{"$f":"IF(AA24=0,0,(AA24*((LOG(AA24))/LOG(2))))","v":0},null,{"$f":"N24","v":21112},{"$f":"COUNTIF(L63:L91,AD24)","v":1},{"$f":"AE24/(AG4-AE25)","v":3.4482758620689655E-2},{"$f":"IF(AF24=0,0,(AF24*((LOG(AF24))/LOG(2))))","v":-0.16751658603888178},null,{"$f":"N24","v":21112},{"$f":"COUNTIF(L92:L119,AI24)","v":0},{"$f":"AJ24/(AL4-AJ25)","v":0},{"$f":"IF(AK24=0,0,(AK24*((LOG(AK24))/LOG(2))))","v":0},null,{"$f":"N24","v":21112},{"$f":"COUNTIF(L120:L147,AN24)","v":0},{"$f":"AO24/(AQ4-AO25)","v":0},{"$f":"IF(AP24=0,0,(AP24*((LOG(AP24))/LOG(2))))","v":0},null,{"$f":"N24","v":21112},{"$f":"COUNTIF(L148:L175,AS24)","v":1},{"$f":"AT24/(AV4-AT25)","v":3.7037037037037035E-2},{"$f":"IF(AU24=0,0,(AU24*((LOG(AU24))/LOG(2))))","v":-0.1761069445245729}]
[12,2426,13,2430,13,2434,23,2442,24,2448,0,11122,null,21121,{"$f":"COUNTIF($L$7:$L$500,N25)","v":2},{"$f":"O25/$Q$4","v":1.1834319526627219E-2},{"$f":"IF(P25=0,0,(P25*((LOG(P25))/LOG(2))))","v":-7.5750052500380874E-2},null,null,{"$f":"N25","v":21121},{"$f":"COUNTIF(L7:L34,T25)","v":0},null,null,null,{"$f":"N25","v":21121},{"$f":"COUNTIF(L35:L62,Y25)","v":1},null,null,null,{"$f":"N25","v":21121},{"$f":"COUNTIF(L63:L91,AD25)","v":0},null,null,null,{"$f":"N25","v":21121},{"$f":"COUNTIF(L92:L119,AI25)","v":0},null,null,null,{"$f":"N25","v":21121},{"$f":"COUNTIF(L120:L147,AN25)","v":0},null,null,null,{"$f":"N25","v":21121},{"$f":"COUNTIF(L148:L175,AS25)","v":1}]
[12,2562,13,2570,13,2575,23,2585,24,2592,0,11122,null,21122,{"$f":"COUNTIF($L$7:$L$500,N26)","v":5},{"$f":"O26/$Q$4","v":2.9585798816568046E-2},{"$f":"IF(P26=0,0,(P26*((LOG(P26))/LOG(2))))","v":-0.1502648325856456},null,null,{"$f":"N26","v":21122},{"$f":"COUNTIF(L7:L34,T26)","v":0},{"$f":"U26/(W4-U25)","v":0},{"$f":"IF(V26=0,0,(V26*((LOG(V26))/LOG(2))))","v":0},null,{"$f":"N26","v":21122},{"$f":"COUNTIF(L35:L62,Y26)","v":0},{"$f":"Z26/(AB4-Z25)","v":0},{"$f":"IF(AA26=0,0,(AA26*((LOG(AA26))/LOG(2))))","v":0},null,{"$f":"N26","v":21122},{"$f":"COUNTIF(L63:L91,AD26)","v":1},{"$f":"AE26/(AG4-AE25)","v":3.4482758620689655E-2},{"$f":"IF(AF26=0,0,(AF26*((LOG(AF26))/LOG(2))))","v":-0.16751658603888178},null,{"$f":"N26","v":21122},{"$f":"COUNTIF(L92:L119,AI26)","v":1},{"$f":"AJ26/(AL4-AJ25)","v":3.5714285714285712E-2},{"$f":"IF(AK26=0,0,(AK26*((LOG(AK26))/LOG(2))))","v":-0.17169124721634299},null,{"$f":"N26","v":21122},{"$f":"COUNTIF(L120:L147,AN26)","v":2},{"$f":"AO26/(AQ4-AO25)","v":7.1428571428571425E-2},{"$f":"IF(AP26=0,0,(AP26*((LOG(AP26))/LOG(2))))","v":-0.27195392300411453},null,{"$f":"N26","v":21122},{"$f":"COUNTIF(L148:L175,AS26)","v":1},{"$f":"AT26/(AV4-AT25)","v":3.7037037037037035E-2},{"$f":"IF(AU26=0,0,(AU26*((LOG(AU26))/LOG(2))))","v":-0.1761069445245729}]
[21,2705,22,2709,24,2724,14,2734,24,2746,0,22212,null,21211,{"$f":"COUNTIF($L$7:$L$500,N27)","v":0},{"$f":"O27/$Q$4","v":0},{"$f":"IF(P27=0,0,(P27*((LOG(P27))/LOG(2))))","v":0},null,null,{"$f":"N27","v":21211},{"$f":"COUNTIF(L7:L34,T27)","v":0},{"$f":"U27/(W4-U25)","v":0},{"$f":"IF(V27=0,0,(V27*((LOG(V27))/LOG(2))))","v":0},null,{"$f":"N27","v":21211},{"$f":"COUNTIF(L35:L62,Y27)","v":0},{"$f":"Z27/(AB4-Z25)","v":0},{"$f":"IF(AA27=0,0,(AA27*((LOG(AA27))/LOG(2))))","v":0},null,{"$f":"N27","v":21211},{"$f":"COUNTIF(L63:L91,AD27)","v":0},{"$f":"AE27/(AG4-AE25)","v":0},{"$f":"IF(AF27=0,0,(AF27*((LOG(AF27))/LOG(2))))","v":0},null,{"$f":"N27","v":21211},{"$f":"COUNTIF(L92:L119,AI27)","v":0},{"$f":"AJ27/(AL4-AJ25)","v":0},{"$f":"IF(AK27=0,0,(AK27*((LOG(AK27))/LOG(2))))","v":0},null,{"$f":"N27","v":21211},{"$f":"COUNTIF(L120:L147,AN27)","v":0},{"$f":"AO27/(AQ4-AO25)","v":0},{"$f":"IF(AP27=0,0,(AP27*((LOG(AP27))/LOG(2))))","v":0},null,{"$f":"N27","v":21211},{"$f":"COUNTIF(L148:L175,AS27)","v":0},{"$f":"AT27/(AV4-AT25)","v":0},{"$f":"IF(AU27=0,0,(AU27*((LOG(AU27))/LOG(2))))","v":0}]
[21,2847,11,2858,11,2862,12,2867,24,2877,0,21112,null,21212,{"$f":"COUNTIF($L$7:$L$500,N28)","v":5},{"$f":"O28/$Q$4","v":2.9585798816568046E-2},{"$f":"IF(P28=0,0,(P28*((LOG(P28))/LOG(2))))","v":-0.1502648325856456},null,null,{"$f":"N28","v":21212},{"$f":"COUNTIF(L7:L34,T28)","v":1},{"$f":"U28/(W4-U25)","v":3.5714285714285712E-2},{"$f":"IF(V28=0,0,(V28*((LOG(V28))/LOG(2))))","v":-0.17169124721634299},null,{"$f":"N28","v":21212},{"$f":"COUNTIF(L35:L62,Y28)","v":0},{"$f":"Z28/(AB4-Z25)","v":0},{"$f":"IF(AA28=0,0,(AA28*((LOG(AA28))/LOG(2))))","v":0},null,{"$f":"N28","v":21212},{"$f":"COUNTIF(L63:L91,AD28)","v":2},{"$f":"AE28/(AG4-AE25)","v":6.8965517241379309E-2},{"$f":"IF(AF28=0,0,(AF28*((LOG(AF28))/LOG(2))))","v":-0.26606765483638428},null,{"$f":"N28","v":21212},{"$f":"COUNTIF(L92:L119,AI28)","v":2},{"$f":"AJ28/(AL4-AJ25)","v":7.1428571428571425E-2},{"$f":"IF(AK28=0,0,(AK28*((LOG(AK28))/LOG(2))))","v":-0.27195392300411453},null,{"$f":"N28","v":21212},{"$f":"COUNTIF(L120:L147,AN28)","v":0},{"$f":"AO28/(AQ4-AO25)","v":0},{"$f":"IF(AP28=0,0,(AP28*((LOG(AP28))/LOG(2))))","v":0},null,{"$f":"N28","v":21212},{"$f":"COUNTIF(L148:L175,AS28)","v":0},{"$f":"AT28/(AV4-AT25)","v":0},{"$f":"IF(AU28=0,0,(AU28*((LOG(AU28))/LOG(2))))","v":0}]
[21,2978,22,2983,13,2992,14,2996,13,3000,0,22111,null,21221,{"$f":"COUNTIF($L$7:$L$500,N29)","v":9},{"$f":"O29/$Q$4","v":5.3254437869822487E-2},{"$f":"IF(P29=0,0,(P29*((LOG(P29))/LOG(2))))","v":-0.2253171000802299},null,null,{"$f":"N29","v":21221},{"$f":"COUNTIF(L7:L34,T29)","v":0},{"$f":"U29/(W4-U25)","v":0},{"$f":"IF(V29=0,0,(V29*((LOG(V29))/LOG(2))))","v":0},null,{"$f":"N29","v":21221},{"$f":"COUNTIF(L35:L62,Y29)","v":0},{"$f":"Z29/(AB4-Z25)","v":0},{"$f":"IF(AA29=0,0,(AA29*((LOG(AA29))/LOG(2))))","v":0},null,{"$f":"N29","v":21221},{"$f":"COUNTIF(L63:L91,AD29)","v":4},{"$f":"AE29/(AG4-AE25)","v":0.13793103448275862},{"$f":"IF(AF29=0,0,(AF29*((LOG(AF29))/LOG(2))))","v":-0.39420427519000989},null,{"$f":"N29","v":21221},{"$f":"COUNTIF(L92:L119,AI29)","v":1},{"$f":"AJ29/(AL4-AJ25)","v":3.5714285714285712E-2},{"$f":"IF(AK29=0,0,(AK29*((LOG(AK29))/LOG(2))))","v":-0.17169124721634299},null,{"$f":"N29","v":21221},{"$f":"COUNTIF(L120:L147,AN29)","v":4},{"$f":"AO29/(AQ4-AO25)","v":0.14285714285714285},{"$f":"IF(AP29=0,0,(AP29*((LOG(AP29))/LOG(2))))","v":-0.40105070315108626},null,{"$f":"N29","v":21221},{"$f":"COUNTIF(L148:L175,AS29)","v":0},{"$f":"AT29/(AV4-AT25)","v":0},{"$f":"IF(AU29=0,0,(AU29*((LOG(AU29))/LOG(2))))","v":0}]
[12,3110,13,3114,13,3118,14,3122,24,3133,0,11112,null,21222,{"$f":"COUNTIF($L$7:$L$500,N30)","v":3},{"$f":"O30/$Q$4","v":1.7751479289940829E-2},{"$f":"IF(P30=0,0,(P30*((LOG(P30))/LOG(2))))","v":-0.10324112903362773},null,null,{"$f":"N30","v":21222},{"$f":"COUNTIF(L7:L34,T30)","v":0},{"$f":"U30/(W4-U25)","v":0},{"$f":"IF(V30=0,0,(V30*((LOG(V30))/LOG(2))))","v":0},null,{"$f":"N30","v":21222},{"$f":"COUNTIF(L35:L62,Y30)","v":0},{"$f":"Z30/(AB4-Z25)","v":0},{"$f":"IF(AA30=0,0,(AA30*((LOG(AA30))/LOG(2))))","v":0},null,{"$f":"N30","v":21222},{"$f":"COUNTIF(L63:L91,AD30)","v":1},{"$f":"AE30/(AG4-AE25)","v":3.4482758620689655E-2},{"$f":"IF(AF30=0,0,(AF30*((LOG(AF30))/LOG(2))))","v":-0.16751658603888178},null,{"$f":"N30","v":21222},{"$f":"COUNTIF(L92:L119,AI30)","v":1},{"$f":"AJ30/(AL4-AJ25)","v":3.5714285714285712E-2},{"$f":"IF(AK30=0,0,(AK30*((LOG(AK30))/LOG(2))))","v":-0.17169124721634299},null,{"$f":"N30","v":21222},{"$f":"COUNTIF(L120:L147,AN30)","v":1},{"$f":"AO30/(AQ4-AO25)","v":3.5714285714285712E-2},{"$f":"IF(AP30=0,0,(AP30*((LOG(AP30))/LOG(2))))","v":-0.17169124721634299},null,{"$f":"N30","v":21222},{"$f":"COUNTIF(L148:L175,AS30)","v":0},{"$f":"AT30/(AV4-AT25)","v":0},{"$f":"IF(AU30=0,0,(AU30*((LOG(AU30))/LOG(2))))","v":0}]
[21,3241,11,3252,22,3260,14,3270,24,3278,0,21212,null,22111,{"$f":"COUNTIF($L$7:$L$500,N31)","v":3},{"$f":"O31/$Q$4","v":1.7751479289940829E-2},{"$f":"IF(P31=0,0,(P31*((LOG(P31))/LOG(2))))","v":-0.10324112903362773},null,null,{"$f":"N31","v":22111},{"$f":"COUNTIF(L7:L34,T31)","v":2},{"$f":"U31/(W4-U25)","v":7.1428571428571425E-2},{"$f":"IF(V31=0,0,(V31*((LOG(V31))/LOG(2))))","v":-0.27195392300411453},null,{"$f":"N31","v":22111},{"$f":"COUNTIF(L35:L62,Y31)","v":0},{"$f":"Z31/(AB4-Z25)","v":0},{"$f":"IF(AA31=0,0,(AA31*((LOG(AA31))/LOG(2))))","v":0},null,{"$f":"N31","v":22111},{"$f":"COUNTIF(L63:L91,AD31)","v":0},{"$f":"AE31/(AG4-AE25)","v":0},{"$f":"IF(AF31=0,0,(AF31*((LOG(AF31))/LOG(2))))","v":0},null,{"$f":"N31","v":22111},{"$f":"COUNTIF(L92:L119,AI31)","v":1},{"$f":"AJ31/(AL4-AJ25)","v":3.5714285714285712E-2},{"$f":"IF(AK31=0,0,(AK31*((LOG(AK31))/LOG(2))))","v":-0.17169124721634299},null,{"$f":"N31","v":22111},{"$f":"COUNTIF(L120:L147,AN31)","v":0},{"$f":"AO31/(AQ4-AO25)","v":0},{"$f":"IF(AP31=0,0,(AP31*((LOG(AP31))/LOG(2))))","v":0},null,{"$f":"N31","v":22111},{"$f":"COUNTIF(L148:L175,AS31)","v":0},{"$f":"AT31/(AV4-AT25)","v":0},{"$f":"IF(AU31=0,0,(AU31*((LOG(AU31))/LOG(2))))","v":0}]
[21,3395,11,3406,11,3410,12,3414,24,3423,0,21112,null,22112,{"$f":"COUNTIF($L$7:$L$500,N32)","v":5},{"$f":"O32/$Q$4","v":2.9585798816568046E-2},{"$f":"IF(P32=0,0,(P32*((LOG(P32))/LOG(2))))","v":-0.1502648325856456},null,null,{"$f":"N32","v":22112},{"$f":"COUNTIF(L7:L34,T32)","v":1},{"$f":"U32/(W4-U25)","v":3.5714285714285712E-2},{"$f":"IF(V32=0,0,(V32*((LOG(V32))/LOG(2))))","v":-0.17169124721634299},null,{"$f":"N32","v":22112},{"$f":"COUNTIF(L35:L62,Y32)","v":0},{"$f":"Z32/(AB4-Z25)","v":0},{"$f":"IF(AA32=0,0,(AA32*((LOG(AA32))/LOG(2))))","v":0},null,{"$f":"N32","v":22112},{"$f":"COUNTIF(L63:L91,AD32)","v":4},{"$f":"AE32/(AG4-AE25)","v":0.13793103448275862},{"$f":"IF(AF32=0,0,(AF32*((LOG(AF32))/LOG(2))))","v":-0.39420427519000989},null,{"$f":"N32","v":22112},{"$f":"COUNTIF(L92:L119,AI32)","v":0},{"$f":"AJ32/(AL4-AJ25)","v":0},{"$f":"IF(AK32=0,0,(AK32*((LOG(AK32))/LOG(2))))","v":0},null,{"$f":"N32","v":22112},{"$f":"COUNTIF(L120:L147,AN32)","v":0},{"$f":"AO32/(AQ4-AO25)","v":0},{"$f":"IF(AP32=0,0,(AP32*((LOG(AP32))/LOG(2))))","v":0},null,{"$f":"N32","v":22112},{"$f":"COUNTIF(L148:L175,AS32)","v":0},{"$f":"AT32/(AV4-AT25)","v":0},{"$f":"IF(AU32=0,0,(AU32*((LOG(AU32))/LOG(2))))","v":0}]
[21,3532,11,3549,11,3553,12,3562,24,3569,0,21112,null,22121,{"$f":"COUNTIF($L$7:$L$500,N33)","v":5},{"$f":"O33/$Q$4","v":2.9585798816568046E-2},{"$f":"IF(P33=0,0,(P33*((LOG(P33))/LOG(2))))","v":-0.1502648325856456},null,null,{"$f":"N33","v":22121},{"$f":"COUNTIF(L7:L34,T33)","v":0},{"$f":"U33/(W4-U25)","v":0},{"$f":"IF(V33=0,0,(V33*((LOG(V33))/LOG(2))))","v":0},null,{"$f":"N33","v":22121},{"$f":"COUNTIF(L35:L62,Y33)","v":2},{"$f":"Z33/(AB4-Z25)","v":7.407407407407407E-2},{"$f":"IF(AA33=0,0,(AA33*((LOG(AA33))/LOG(2))))","v":-0.27813981497507173},null,{"$f":"N33","v":22121},{"$f":"COUNTIF(L63:L91,AD33)","v":0},{"$f":"AE33/(AG4-AE25)","v":0},{"$f":"IF(AF33=0,0,(AF33*((LOG(AF33))/LOG(2))))","v":0},null,{"$f":"N33","v":22121},{"$f":"COUNTIF(L92:L119,AI33)","v":0},{"$f":"AJ33/(AL4-AJ25)","v":0},{"$f":"IF(AK33=0,0,(AK33*((LOG(AK33))/LOG(2))))","v":0},null,{"$f":"N33","v":22121},{"$f":"COUNTIF(L120:L147,AN33)","v":3},{"$f":"AO33/(AQ4-AO25)","v":0.10714285714285714},{"$f":"IF(AP33=0,0,(AP33*((LOG(AP33))/LOG(2))))","v":-0.34525633085747659},null,{"$f":"N33","v":22121},{"$f":"COUNTIF(L148:L175,AS33)","v":0},{"$f":"AT33/(AV4-AT25)","v":0},{"$f":"IF(AU33=0,0,(AU33*((LOG(AU33))/LOG(2))))","v":0}]
[12,3692,13,3696,13,3701,23,3712,13,3722,1,11121,null,22122,{"$f":"COUNTIF($L$7:$L$500,N34)","v":7},{"$f":"O34/$Q$4","v":4.142011834319527E-2},{"$f":"IF(P34=0,0,(P34*((LOG(P34))/LOG(2))))","v":-0.19026432899155069},null,null,{"$f":"N34","v":22122},{"$f":"COUNTIF(L7:L34,T34)","v":1},{"$f":"U34/(W4-U25)","v":3.5714285714285712E-2},{"$f":"IF(V34=0,0,(V34*((LOG(V34))/LOG(2))))","v":-0.17169124721634299},null,{"$f":"N34","v":22122},{"$f":"COUNTIF(L35:L62,Y34)","v":0},{"$f":"Z34/(AB4-Z25)","v":0},{"$f":"IF(AA34=0,0,(AA34*((LOG(AA34))/LOG(2))))","v":0},null,{"$f":"N34","v":22122},{"$f":"COUNTIF(L63:L91,AD34)","v":1},{"$f":"AE34/(AG4-AE25)","v":3.4482758620689655E-2},{"$f":"IF(AF34=0,0,(AF34*((LOG(AF34))/LOG(2))))","v":-0.16751658603888178},null,{"$f":"N34","v":22122},{"$f":"COUNTIF(L92:L119,AI34)","v":4},{"$f":"AJ34/(AL4-AJ25)","v":0.14285714285714285},{"$f":"IF(AK34=0,0,(AK34*((LOG(AK34))/LOG(2))))","v":-0.40105070315108626},null,{"$f":"N34","v":22122},{"$f":"COUNTIF(L120:L147,AN34)","v":0},{"$f":"AO34/(AQ4-AO25)","v":0},{"$f":"IF(AP34=0,0,(AP34*((LOG(AP34))/LOG(2))))","v":0},null,{"$f":"N34","v":22122},{"$f":"COUNTIF(L148:L175,AS34)","v":1},{"$f":"AT34/(AV4-AT25)","v":3.7037037037037035E-2},{"$f":"IF(AU34=0,0,(AU34*((LOG(AU34))/LOG(2))))","v":-0.1761069445245729}]
[12,3821,13,3825,13,3829,23,3837,24,3844,0,11122,null,22211,{"$f":"COUNTIF($L$7:$L$500,N35)","v":1},{"$f":"O35/$Q$4","v":5.9171597633136093E-3},{"$f":"IF(P35=0,0,(P35*((LOG(P35))/LOG(2))))","v":-4.3792186013504049E-2},null,null,{"$f":"N35","v":22211},{"$f":"COUNTIF(L7:L34,T35)","v":0},{"$f":"U35/(W4-U25)","v":0},{"$f":"IF(V35=0,0,(V35*((LOG(V35))/LOG(2))))","v":0},null,{"$f":"N35","v":22211},{"$f":"COUNTIF(L35:L62,Y35)","v":0},{"$f":"Z35/(AB4-Z25)","v":0},{"$f":"IF(AA35=0,0,(AA35*((LOG(AA35))/LOG(2))))","v":0},null,{"$f":"N35","v":22211},{"$f":"COUNTIF(L63:L91,AD35)","v":1},{"$f":"AE35/(AG4-AE25)","v":3.4482758620689655E-2},{"$f":"IF(AF35=0,0,(AF35*((LOG(AF35))/LOG(2))))","v":-0.16751658603888178},null,{"$f":"N35","v":22211},{"$f":"COUNTIF(L92:L119,AI35)","v":0},{"$f":"AJ35/(AL4-AJ25)","v":0},{"$f":"IF(AK35=0,0,(AK35*((LOG(AK35))/LOG(2))))","v":0},null,{"$f":"N35","v":22211},{"$f":"COUNTIF(L120:L147,AN35)","v":0},{"$f":"AO35/(AQ4-AO25)","v":0},{"$f":"IF(AP35=0,0,(AP35*((LOG(AP35))/LOG(2))))","v":0},null,{"$f":"N35","v":22211},{"$f":"COUNTIF(L148:L175,AS35)","v":0},{"$f":"AT35/(AV4-AT25)","v":0},{"$f":"IF(AU35=0,0,(AU35*((LOG(AU35))/LOG(2))))","v":0}]
[12,3950,13,3953,13,3957,23,3965,24,3973,0,11122,null,22212,{"$f":"COUNTIF($L$7:$L$500,N36)","v":6},{"$f":"O36/$Q$4","v":3.5502958579881658E-2},{"$f":"IF(P36=0,0,(P36*((LOG(P36))/LOG(2))))","v":-0.17097929948737375},null,null,{"$f":"N36","v":22212},{"$f":"COUNTIF(L7:L34,T36)","v":1},{"$f":"U36/(W4-U25)","v":3.5714285714285712E-2},{"$f":"IF(V36=0,0,(V36*((LOG(V36))/LOG(2))))","v":-0.17169124721634299},null,{"$f":"N36","v":22212},{"$f":"COUNTIF(L35:L62,Y36)","v":2},{"$f":"Z36/(AB4-Z25)","v":7.407407407407407E-2},{"$f":"IF(AA36=0,0,(AA36*((LOG(AA36))/LOG(2))))","v":-0.27813981497507173},null,{"$f":"N36","v":22212},{"$f":"COUNTIF(L63:L91,AD36)","v":1},{"$f":"AE36/(AG4-AE25)","v":3.4482758620689655E-2},{"$f":"IF(AF36=0,0,(AF36*((LOG(AF36))/LOG(2))))","v":-0.16751658603888178},null,{"$f":"N36","v":22212},{"$f":"COUNTIF(L92:L119,AI36)","v":2},{"$f":"AJ36/(AL4-AJ25)","v":7.1428571428571425E-2},{"$f":"IF(AK36=0,0,(AK36*((LOG(AK36))/LOG(2))))","v":-0.27195392300411453},null,{"$f":"N36","v":22212},{"$f":"COUNTIF(L120:L147,AN36)","v":0},{"$f":"AO36/(AQ4-AO25)","v":0},{"$f":"IF(AP36=0,0,(AP36*((LOG(AP36))/LOG(2))))","v":0},null,{"$f":"N36","v":22212},{"$f":"COUNTIF(L148:L175,AS36)","v":0},{"$f":"AT36/(AV4-AT25)","v":0},{"$f":"IF(AU36=0,0,(AU36*((LOG(AU36))/LOG(2))))","v":0}]
[21,4072,11,4080,11,4083,12,4087,13,4092,0,21111,null,22221,{"$f":"COUNTIF($L$7:$L$500,N37)","v":4},{"$f":"O37/$Q$4","v":2.3668639053254437E-2},{"$f":"IF(P37=0,0,(P37*((LOG(P37))/LOG(2))))","v":-0.12783146594750733},null,null,{"$f":"N37","v":22221},{"$f":"COUNTIF(L7:L34,T37)","v":1},{"$f":"U37/(W4-U25)","v":3.5714285714285712E-2},{"$f":"IF(V37=0,0,(V37*((LOG(V37))/LOG(2))))","v":-0.17169124721634299},null,{"$f":"N37","v":22221},{"$f":"COUNTIF(L35:L62,Y37)","v":0},{"$f":"Z37/(AB4-Z25)","v":0},{"$f":"IF(AA37=0,0,(AA37*((LOG(AA37))/LOG(2))))","v":0},null,{"$f":"N37","v":22221},{"$f":"COUNTIF(L63:L91,AD37)","v":2},{"$f":"AE37/(AG4-AE25)","v":6.8965517241379309E-2},{"$f":"IF(AF37=0,0,(AF37*((LOG(AF37))/LOG(2))))","v":-0.26606765483638428},null,{"$f":"N37","v":22221},{"$f":"COUNTIF(L92:L119,AI37)","v":1},{"$f":"AJ37/(AL4-AJ25)","v":3.5714285714285712E-2},{"$f":"IF(AK37=0,0,(AK37*((LOG(AK37))/LOG(2))))","v":-0.17169124721634299},null,{"$f":"N37","v":22221},{"$f":"COUNTIF(L120:L147,AN37)","v":0},{"$f":"AO37/(AQ4-AO25)","v":0},{"$f":"IF(AP37=0,0,(AP37*((LOG(AP37))/LOG(2))))","v":0},null,{"$f":"N37","v":22221},{"$f":"COUNTIF(L148:L175,AS37)","v":0},{"$f":"AT37/(AV4-AT25)","v":0},{"$f":"IF(AU37=0,0,(AU37*((LOG(AU37))/LOG(2))))","v":0}]
[12,4199,13,4206,13,4214,23,4225,24,4232,0,11122,null,22222,{"$f":"COUNTIF($L$7:$L$500,N38)","v":2},{"$f":"O38/$Q$4","v":1.1834319526627219E-2},{"$f":"IF(P38=0,0,(P38*((LOG(P38))/LOG(2))))","v":-7.5750052500380874E-2},null,null,{"$f":"N38","v":22222},{"$f":"COUNTIF(L7:L34,T38)","v":1},{"$f":"U38/(W4-U25)","v":3.5714285714285712E-2},{"$f":"IF(V38=0,0,(V38*((LOG(V38))/LOG(2))))","v":-0.17169124721634299},null,{"$f":"N38","v":22222},{"$f":"COUNTIF(L35:L62,Y38)","v":0},{"$f":"Z38/(AB4-Z25)","v":0},{"$f":"IF(AA38=0,0,(AA38*((LOG(AA38))/LOG(2))))","v":0},null,{"$f":"N38","v":22222},{"$f":"COUNTIF(L63:L91,AD38)","v":1},{"$f":"AE38/(AG4-AE25)","v":3.4482758620689655E-2},{"$f":"IF(AF38=0,0,(AF38*((LOG(AF38))/LOG(2))))","v":-0.16751658603888178},null,{"$f":"N38","v":22222},{"$f":"COUNTIF(L92:L119,AI38)","v":0},{"$f":"AJ38/(AL4-AJ25)","v":0},{"$f":"IF(AK38=0,0,(AK38*((LOG(AK38))/LOG(2))))","v":0},null,{"$f":"N38","v":22222},{"$f":"COUNTIF(L120:L147,AN38)","v":0},{"$f":"AO38/(AQ4-AO25)","v":0},{"$f":"IF(AP38=0,0,(AP38*((LOG(AP38))/LOG(2))))","v":0},null,{"$f":"N38","v":22222},{"$f":"COUNTIF(L148:L175,AS38)","v":0},{"$f":"AT38/(AV4-AT25)","v":0},{"$f":"IF(AU38=0,0,(AU38*((LOG(AU38))/LOG(2))))","v":0}]
[21,4339,22,4344,24,4352,14,4359,24,4367,0,22212,null,null,null,{"$f":"SUM(P7:P38)","v":0.99999999999999989},{"$f":"-SUM(Q7:Q38)","v":4.2805427923689887},null,null,null,null,{"$f":"SUM(V7:V38)","v":0.99999999999999978},{"$f":"-SUM(W7:W38)","v":3.7089660826946229},null,null,null,{"$f":"SUM(AA7:AA38)","v":0.99999999999999978},{"$f":"-SUM(AB7:AB38)","v":3.0036203719729402},null,null,null,{"$f":"SUM(AF7:AF38)","v":0.99999999999999989},{"$f":"-SUM(AG7:AG38)","v":3.6166016847827449},null,null,null,{"$f":"SUM(AK7:AK38)","v":0.99999999999999967},{"$f":"-SUM(AL7:AL38)","v":3.8073549220576033},null,null,null,{"$f":"SUM(AP7:AP38)","v":0.99999999999999978},{"$f":"-SUM(AQ7:AQ38)","v":3.5121884039686608},null,null,null,{"$f":"SUM(AU7:AU38)","v":0.99999999999999978},{"$f":"-SUM(AV7:AV38)","v":2.8895346141412368}]
[21,4472,22,4476,13,4483,23,4492,13,4501,0,22121,null,null,null,"U=",{"$f":"Q39/(LOG(Q4)/LOG(2))","v":0.57838299207848065},null,null,null,null,"U1=",{"$f":"W39/(LOG(W4)/LOG(2))","v":0.77151908748754139},null,null,null,"U2=",{"$f":"AB39/(LOG(AB4)/LOG(2))","v":0.62479688324891891},null,null,null,"U3=",{"$f":"AG39/(LOG(AG4)/LOG(2))","v":0.74446600108359873},null,null,null,"U4=",{"$f":"AL39/(LOG(AL4)/LOG(2))","v":0.79198540232349046},null,null,null,"U5=",{"$f":"AQ39/(LOG(AQ4)/LOG(2))","v":0.73058645781564291},null,null,null,"U6=",{"$f":"AV39/(LOG(AV4)/LOG(2))","v":0.60106538023293743}]
[21,4607,11,4620,11,4628,21,4643,11,4655,1,21121]
[12,4752,13,4756,13,4760,14,4768,24,4785,1,11112]
[12,4882,13,4890,13,4894,14,4905,13,4910,1,11111,null,"Total Target Seq"]
[12,5003,13,5008,13,5012,14,5016,13,5020,0,11111,null,{"$f":"COUNTIF(L7:L175,G3)","v":2},null,28,28,29,28,28,28]
[12,5126,13,5132,13,5137,23,5146,24,5152,0,11122,null,null,null,"% of reinforcement given in 6 equal intervals based on number of trials "]
[12,5258,13,5266,13,5270,23,5281,13,5290,1,11121,null,null,null,"%_1","%_2","%_3","%_4","%_5","%_6"]
[12,5384,13,5388,24,5397,23,5404,13,5412,0,11221,null,null,"target sequence",{"$f":"$G$3","v":21121},{"$f":"$G$3","v":21121},{"$f":"$G$3","v":21121},{"$f":"$G$3","v":21121},{"$f":"$G$3","v":21121},{"$f":"$G$3","v":21121}]
[12,5509,13,5513,24,5521,14,5540,24,5548,0,11212,null,null,"total reinforcement",{"$f":"U25","v":0},{"$f":"Z25","v":1},{"$f":"AE25","v":0},{"$f":"AJ25","v":0},{"$f":"AO25","v":0},{"$f":"AT25","v":1}]
[12,5647,13,5650,13,5654,14,5658,24,5668,1,11112,null,null,"% target"]
[12,5763,13,5767,13,5772,23,5781,24,5789,0,11122,null,null,"CCRF"]
[12,5886,13,5890,24,5899,14,5908,24,5918,0,11212,null,null,"% CCRf"]
[21,6021,22,6025,13,6033,23,6042,13,6050,0,22121,null,null,"average response rate",{"$f":"J34/P44","v":132.92857142857142},{"$f":"(J62-J34)/Q44","v":127.53571428571429},{"$f":"(J91-J62)/R44","v":133.41379310344828},{"$f":"(J119-J91)/S44","v":147.82142857142858},{"$f":"(J147-J119)/T44","v":169.03571428571428},{"$f":"(J175-J147)/U44","v":138.96428571428572}]
[12,6149,13,6152,13,6156,14,6160,13,6164,0,11111]
[12,6263,13,6267,13,6270,14,6274,24,6282,1,11112]
[12,6374,24,6383,24,6388,23,6395,13,6402,0,12221]
[12,6501,13,6512,13,6525,23,6536,24,6544,0,11122]
[12,6643,13,6646,13,6650,14,6654,13,6658,0,11111]
[12,6765,13,6769,13,6773,23,6782,24,6789,0,11122]
[21,6887,22,6895,24,6901,14,6908,24,6915,0,22212]
[12,7021,13,7024,13,7028,23,7036,24,7047,1,11122]
[12,7140,24,7148,24,7155,23,7165,24,7172,1,12222]
[12,7266,13,7270,13,7279,23,7287,24,7293,0,11122]
[12,7392,13,7396,13,7399,23,7408,13,7418,0,11121]
[21,7518,22,7523,13,7531,14,7538,24,7546,0,22112]
[21,7648,22,7652,13,7662,14,7669,24,7676,1,22112]
[12,7769,13,7773,13,7777,14,7781,24,7790,0,11112]
[12,7890,13,7893,13,7897,23,7905,24,7917,0,11122]
[12,8017,13,8021,13,8024,23,8032,24,8042,0,11122]
[12,8143,13,8147,13,8151,14,8155,24,8163,0,11112]
[21,8263,22,8271,24,8276,23,8283,13,8293,0,22221]
[21,8401,11,8411,11,8418,21,8425,22,8434,1,21122]
[21,8532,11,8542,22,8551,23,8557,13,8567,0,21221]
[21,8672,11,8681,11,8686,12,8690,24,8698,0,21112]
[12,8800,13,8808,13,8812,14,8816,24,8824,0,11112]
[21,8925,11,8935,22,8942,14,8952,24,8959,0,21212]
[21,9057,22,9070,13,9085,14,9092,24,9099,0,22112]
[21,9203,11,9213,22,9221,23,9230,13,9239,0,21221]
[21,9362,22,9367,24,9372,14,9381,24,9388,1,22212]
[12,9482,13,9490,13,9497,23,9505,24,9511,0,11122]
[21,9612,22,9617,13,9632,14,9636,24,9644,0,22112]
[21,9759,11,9769,22,9775,23,9781,24,9791,0,21222]
[21,9900,22,9905,24,9911,23,9915,13,9925,0,22221]
[21,10027,22,10032,24,10036,14,10045,13,10049,0,22211]
[21,10155,22,10161,24,10167,23,10172,24,10179,0,22222]
[21,10277,22,10285,13,10299,23,10306,24,10315,0,22122]
[21,10425,11,10440,22,10447,14,10456,24,10464,1,21212]
[12,10560,13,10568,24,10577,23,10582,24,10600,0,11222]
[12,10701,13,10708,13,10716,23,10724,24,10730,0,11122]
[12,10832,13,10835,13,10840,14,10844,24,10853,0,11112]
[21,10959,11,10968,22,10975,23,10982,13,11004,0,21221]
[21,11110,11,11122,22,11129,23,11140,13,11162,0,21221]
[21,11261,22,11270,13,11278,23,11285,24,11294,0,22122]
[12,11402,24,11410,24,11418,23,11424,24,11437,1,12222]
[12,11552,13,11560,24,11568,14,11589,24,11596,0,11212]
[21,11694,22,11709,24,11714,14,11727,24,11734,0,22212]
[21,11832,22,11848,13,11858,23,11866,24,11873,1,22122]
[12,11965,13,11972,13,11976,14,11984,13,11988,0,11111]
[12,12096,13,12100,13,12104,23,12112,24,12123,0,11122]
[21,12229,22,12233,24,12238,23,12245,13,12261,0,22221]
[12,12367,13,12372,24,12379,23,12386,13,12394,0,11221]
[12,12499,13,12503,13,12507,23,12514,24,12521,1,11122]
[21,12627,22,12632,13,12642,23,12665,24,12685,0,22122]
[12,12795,13,12800,24,12807,23,12815,13,12835,0,11221]
[12,12934,13,12942,13,12946,14,12955,13,12959,0,11111]
[21,13059,22,13063,13,13074,14,13078,13,13082,0,22111]
[21,13182,22,13186,24,13194,14,13202,24,13209,1,22212]
[12,13305,13,13308,24,13316,23,13323,24,13334,0,11222]
[12,13434,13,13438,13,13442,23,13450,24,13460,0,11122]
[21,13562,11,13576,22,13583,14,13593,24,13624,0,21212]
[12,13737,24,13745,24,13763,23,13793,24,13821,1,12222]
[12,13915,24,13931,13,13941,23,13949,24,13956,1,12122]
[12,14050,13,14054,24,14062,23,14070,24,14085,0,11222]
[12,14185,13,14189,13,14193,23,14200,24,14208,0,11122]
[21,14313,11,14325,22,14339,23,14488,13,14506,0,21221]
[21,14645,11,14653,11,14670,21,14678,22,14702,0,21122]
[21,14806,11,14816,22,14830,23,14853,24,14860,0,21222]
[12,14971,24,14978,24,14985,14,14995,13,15001,0,12211]
[21,15102,11,15121,22,15128,14,15147,24,15163,0,21212]
[21,15264,22,15272,13,15284,23,15294,24,15301,0,22122]
[12,15412,24,15419,13,15432,23,15467,24,15473,1,12122]
[12,15610,13,15615,24,15635,23,15642,24,15649,0,11222]
[12,16333,24,16348,24,16357,14,16368,24,16377,1,12212]
[12,16473,24,16534,24,16539,14,16551,24,16558,0,12212]
[12,16670,13,16674,13,16678,23,16694,13,16704,0,11121]
[12,16814,13,16823,24,16832,23,16843,13,16854,1,11221]
[12,16947,13,16950,24,16963,23,16968,13,16977,0,11221]
[21,17115,22,17122,13,17132,23,17140,13,17150,0,22121]
[21,17253,22,17259,13,17267,23,17275,13,17287,0,22121]
[21,17404,11,17418,11,17435,21,17451,22,17457,0,21122]
[21,17562,11,17572,11,17577,21,17588,22,17595,1,21122]
[21,17690,22,17698,13,17705,23,17713,13,17728,0,22121]
[12,17828,13,17831,13,17835,23,17844,13,17854,0,11121]
[12,17953,13,17961,13,17965,14,17970,24,18000,0,11112]
[21,18104,11,18111,22,18119,23,18125,13,18135,0,21221]
[12,18238,13,18252,13,18256,23,18266,13,18276,0,11121]
[21,18381,11,18392,22,18399,23,18414,13,18427,0,21221]
[12,18533,24,18542,24,18548,14,18559,24,18580,0,12212]
[12,18705,13,18726,24,18734,23,18746,24,18762,0,11222]
[21,18864,11,18888,22,18896,23,18903,24,18938,0,21222]
[21,19043,11,19052,22,19060,23,19067,13,19077,1,21221]
[12,19172,13,19176,13,19180,14,19188,24,19197,0,11112]
[12,19298,13,19301,13,19305,14,19310,24,19320,0,11112]
[12,19427,13,19431,13,19440,23,19448,24,19455,0,11122]
[12,19577,24,19585,24,19597,23,19604,13,19615,0,12221]
[12,19714,13,19725,13,19736,14,19742,13,19749,0,11111]
[21,19875,11,19885,22,19893,23,19904,13,19914,1,21221]
[12,20008,13,20015,13,20019,14,20024,24,20034,0,11112]
[12,20135,13,20138,13,20146,14,20150,13,20154,0,11111]
[12,20277,13,20285,13,20289,23,20304,24,20311,1,11122]
[12,20403,13,20417,24,20428,23,20433,13,20440,0,11221]
[12,20563,13,20567,13,20571,23,20581,24,20588,0,11122]
[12,20692,13,20700,13,20704,14,20708,24,20726,0,11112]
[12,20824,13,20834,13,20843,23,20852,24,20864,1,11122]
[12,20958,13,20970,13,20974,14,20978,24,20992,0,11112]
[12,21089,13,21093,13,21099,14,21104,24,21115,0,11112]
[12,21225,13,21229,24,21239,14,21250,24,21259,0,11212]
[12,21365,13,21369,13,21378,23,21395,24,21407,0,11122]
[12,21506,13,21510,24,21523,14,21531,24,21542,0,11212]
[21,21644,11,21653,11,21665,21,21680,22,21686,1,21122]
[21,21783,11,21793,11,21805,21,21816,11,21827,1,21121]
[12,21922,13,21926,13,21943,14,21950,13,21956,0,11111]
[12,22057,13,22065,13,22068,14,22073,24,22082,0,11112]
[12,22185,13,22189,24,22201,14,22208,24,22227,0,11212]
[12,22329,13,22334,13,22346,14,22350,13,22356,0,11111]
[12,22455,13,22460,13,22467,23,22475,24,22485,0,11122]
[12,22593,13,22601,13,22610,23,22620,24,22628,0,11122]
[12,22735,13,22739,13,22750,14,22757,13,22763,0,11111]
[12,22873,13,22877,13,22885,23,22895,24,22903,1,11122]
[12,23001,13,23012,13,23016,23,23025,13,23033,0,11121]
[21,23152,22,23157,13,23180,23,23204,24,23211,0,22122]
[21,23363,11,23374,11,23379,12,23387,13,23392,0,21111]
[12,23498,13,23507,13,23510,23,23521,13,23529,0,11121]
[12,23634,13,23645,13,23649,23,23661,24,23667,0,11122]
[21,23767,11,23780,11,23784,12,23788,24,23799,0,21112]
[12,23900,13,23909,13,23913,14,23917,13,23925,null,11111]

{"sheet":"!N401A30.000","index":7,"n_rows":172,"n_cols":48,"rows_kept":172,"cut":false,"hidden":false,"merged":[[4,39,4,42],[5,39,5,40],[4,44,4,47],[5,44,5,45],[4,24,4,27],[5,24,5,25],[4,29,4,32],[5,29,5,30],[4,34,4,37],[5,34,5,35],[1,1,1,2],[5,13,5,14],[42,13,42,14],[43,13,43,14],[4,19,4,22],[5,19,5,20]]}
["Report for:!N401A30.000"]
["Date:","<date>"]
["Hen:","<hen>",null,null,null,"Correct Sequence",{"$f":"Start!J2","v":21121},null,null,null,null,null,null,null,null,"Total Sequences in Data",{"$f":"4994-COUNTBLANK(L7:L5000)","v":166},null,null,null,null,"Total Sequences in Block Data",{"$f":"COUNTA(L7:L34)","v":28},null,null,null,"Total Sequences in Block Data",{"$f":"COUNTA(L35:L61)","v":27},null,null,null,"Total Sequences in Block Data",{"$f":"COUNTA(L62:L89)","v":28},null,null,null,"Total Sequences in Block Data",{"$f":"COUNTA(L90:L117)","v":28},null,null,null,"Total Sequences in Block Data",{"$f":"COUNTA(L118:L144)","v":27},null,null,null,"Total Sequences in Block Data",{"$f":"COUNTA(L145:L172)","v":28}]
[null,null,null,null,null,null,null,null,null,null,null,null,null,null,null,"Total Sequences in Summary",{"$f":"SUM(O7:O38)","v":166},null,null,null,null,"Total Sequences in Block Summary",{"$f":"SUM(U7:U38)","v":28},null,null,null,"Total Sequences in Block Summary",{"$f":"SUM(Z7:Z38)","v":27},null,null,null,"Total Sequences in Block Summary",{"$f":"SUM(AE7:AE38)","v":28},null,null,null,"Total Sequences in Block Summary",{"$f":"SUM(AJ7:AJ38)","v":28},null,null,null,"Total Sequences in Block Summary",{"$f":"SUM(AO7:AO38)","v":27},null,null,null,"Total Sequences in Block Summary",{"$f":"SUM(AT7:AT38)","v":28}]
[null,null,null,null,null,null,null,null,null,null,null,null,null,null,null,null,null,null,null,"Block 1",null,null,null,null,"Block 2",null,null,null,null,"Block 3",null,null,null,null,"Block 4",null,null,null,null,"Block 5",null,null,null,null,"Block 6"]
["Sequence\nComponent\n1","Time\n1","Sequence\nComponent\n2","Time\n2","Sequence\nComponent\n3","Time\n3","Sequence\nComponent\n4","Time\n4","Sequence\nComponent\n5","Time\n5","Correct?\n0=No 1=Yes","Sequence",null,"Frequency",null,"Relative Frequency","Variability",null,null,"Frequency",null,"Relative Frequency","Variability",null,"Frequency",null,"Relative Frequency","Variability",null,"Frequency",null,"Relative Frequency","Variability",null,"Frequency",null,"Relative Frequency","Variability",null,"Frequency",null,"Relative Frequency","Variability",null,"Frequency",null,"Relative Frequency","Variability"]
[12,7,13,12,13,19,23,30,24,41,0,11122,null,11111,{"$f":"COUNTIF($L$7:$L$500,N7)","v":10},{"$f":"O7/$Q$4","v":6.0240963855421686E-2},{"$f":"IF(P7=0,0,(P7*((LOG(P7))/LOG(2))))","v":-0.24416333352166036},null,null,{"$f":"N7","v":11111},{"$f":"COUNTIF(L7:L34,T7)","v":4},{"$f":"U7/(W4-U25)","v":0.14814814814814814},{"$f":"IF(V7=0,0,(V7*((LOG(V7))/LOG(2))))","v":-0.40813148180199532},null,{"$f":"N7","v":11111},{"$f":"COUNTIF(L35:L61,Y7)","v":1},{"$f":"Z7/(AB4-Z25)","v":3.7037037037037035E-2},{"$f":"IF(AA7=0,0,(AA7*((LOG(AA7))/LOG(2))))","v":-0.1761069445245729},null,{"$f":"N7","v":11111},{"$f":"COUNTIF(L62:L89,AD7)","v":4},{"$f":"AE7/(AG4-AE25)","v":0.14814814814814814},{"$f":"IF(AF7=0,0,(AF7*((LOG(AF7))/LOG(2))))","v":-0.40813148180199532},null,{"$f":"N7","v":11111},{"$f":"COUNTIF(L90:L117,AI7)","v":0},{"$f":"AJ7/(AL4-AJ25)","v":0},{"$f":"IF(AK7=0,0,(AK7*((LOG(AK7))/LOG(2))))","v":0},null,{"$f":"N7","v":11111},{"$f":"COUNTIF(L118:L144,AN7)","v":0},{"$f":"AO7/(AQ4-AO25)","v":0},{"$f":"IF(AP7=0,0,(AP7*((LOG(AP7))/LOG(2))))","v":0},null,{"$f":"N7","v":11111},{"$f":"COUNTIF(L145:L172,AS7)","v":1},{"$f":"AT7/(AV4-AT25)","v":3.7037037037037035E-2},{"$f":"IF(AU7=0,0,(AU7*((LOG(AU7))/LOG(2))))","v":-0.1761069445245729}]
[12,139,13,147,13,152,23,163,24,170,0,11122,null,11112,{"$f":"COUNTIF($L$7:$L$500,N8)","v":4},{"$f":"O8/$Q$4","v":2.4096385542168676E-2},{"$f":"IF(P8=0,0,(P8*((LOG(P8))/LOG(2))))","v":-0.12951902244209457},null,null,{"$f":"N8","v":11112},{"$f":"COUNTIF(L7:L34,T8)","v":0},{"$f":"U8/(W4-U25)","v":0},{"$f":"IF(V8=0,0,(V8*((LOG(V8))/LOG(2))))","v":0},null,{"$f":"N8","v":11112},{"$f":"COUNTIF(L35:L61,Y8)","v":0},{"$f":"Z8/(AB4-Z25)","v":0},{"$f":"IF(AA8=0,0,(AA8*((LOG(AA8))/LOG(2))))","v":0},null,{"$f":"N8","v":11112},{"$f":"COUNTIF(L62:L89,AD8)","v":2},{"$f":"AE8/(AG4-AE25)","v":7.407407407407407E-2},{"$f":"IF(AF8=0,0,(AF8*((LOG(AF8))/LOG(2))))","v":-0.27813981497507173},null,{"$f":"N8","v":11112},{"$f":"COUNTIF(L90:L117,AI8)","v":1},{"$f":"AJ8/(AL4-AJ25)","v":3.7037037037037035E-2},{"$f":"IF(AK8=0,0,(AK8*((LOG(AK8))/LOG(2))))","v":-0.1761069445245729},null,{"$f":"N8","v":11112},{"$f":"COUNTIF(L118:L144,AN8)","v":0},{"$f":"AO8/(AQ4-AO25)","v":0},{"$f":"IF(AP8=0,0,(AP8*((LOG(AP8))/LOG(2))))","v":0},null,{"$f":"N8","v":11112},{"$f":"COUNTIF(L145:L172,AS8)","v":1},{"$f":"AT8/(AV4-AT25)","v":3.7037037037037035E-2},{"$f":"IF(AU8=0,0,(AU8*((LOG(AU8))/LOG(2))))","v":-0.1761069445245729}]
[12,270,13,274,13,284,14,291,13,299,0,11111,null,11121,{"$f":"COUNTIF($L$7:$L$500,N9)","v":2},{"$f":"O9/$Q$4","v":1.2048192771084338E-2},{"$f":"IF(P9=0,0,(P9*((LOG(P9))/LOG(2))))","v":-7.6807703992131618E-2},null,null,{"$f":"N9","v":11121},{"$f":"COUNTIF(L7:L34,T9)","v":1},{"$f":"U9/(W4-U25)","v":3.7037037037037035E-2},{"$f":"IF(V9=0,0,(V9*((LOG(V9))/LOG(2))))","v":-0.1761069445245729},null,{"$f":"N9","v":11121},{"$f":"COUNTIF(L35:L61,Y9)","v":1},{"$f":"Z9/(AB4-Z25)","v":3.7037037037037035E-2},{"$f":"IF(AA9=0,0,(AA9*((LOG(AA9))/LOG(2))))","v":-0.1761069445245729},null,{"$f":"N9","v":11121},{"$f":"COUNTIF(L62:L89,AD9)","v":0},{"$f":"AE9/(AG4-AE25)","v":0},{"$f":"IF(AF9=0,0,(AF9*((LOG(AF9))/LOG(2))))","v":0},null,{"$f":"N9","v":11121},{"$f":"COUNTIF(L90:L117,AI9)","v":0},{"$f":"AJ9/(AL4-AJ25)","v":0},{"$f":"IF(AK9=0,0,(AK9*((LOG(AK9))/LOG(2))))","v":0},null,{"$f":"N9","v":11121},{"$f":"COUNTIF(L118:L144,AN9)","v":0},{"$f":"AO9/(AQ4-AO25)","v":0},{"$f":"IF(AP9=0,0,(AP9*((LOG(AP9))/LOG(2))))","v":0},null,{"$f":"N9","v":11121},{"$f":"COUNTIF(L145:L172,AS9)","v":0},{"$f":"AT9/(AV4-AT25)","v":0},{"$f":"IF(AU9=0,0,(AU9*((LOG(AU9))/LOG(2))))","v":0}]
[21,400,11,411,11,415,12,419,24,427,0,21112,null,11122,{"$f":"COUNTIF($L$7:$L$500,N10)","v":4},{"$f":"O10/$Q$4","v":2.4096385542168676E-2},{"$f":"IF(P10=0,0,(P10*((LOG(P10))/LOG(2))))","v":-0.12951902244209457},null,null,{"$f":"N10","v":11122},{"$f":"COUNTIF(L7:L34,T10)","v":2},{"$f":"U10/(W4-U25)","v":7.407407407407407E-2},{"$f":"IF(V10=0,0,(V10*((LOG(V10))/LOG(2))))","v":-0.27813981497507173},null,{"$f":"N10","v":11122},{"$f":"COUNTIF(L35:L61,Y10)","v":0},{"$f":"Z10/(AB4-Z25)","v":0},{"$f":"IF(AA10=0,0,(AA10*((LOG(AA10))/LOG(2))))","v":0},null,{"$f":"N10","v":11122},{"$f":"COUNTIF(L62:L89,AD10)","v":0},{"$f":"AE10/(AG4-AE25)","v":0},{"$f":"IF(AF10=0,0,(AF10*((LOG(AF10))/LOG(2))))","v":0},null,{"$f":"N10","v":11122},{"$f":"COUNTIF(L90:L117,AI10)","v":1},{"$f":"AJ10/(AL4-AJ25)","v":3.7037037037037035E-2},{"$f":"IF(AK10=0,0,(AK10*((LOG(AK10))/LOG(2))))","v":-0.1761069445245729},null,{"$f":"N10","v":11122},{"$f":"COUNTIF(L118:L144,AN10)","v":0},{"$f":"AO10/(AQ4-AO25)","v":0},{"$f":"IF(AP10=0,0,(AP10*((LOG(AP10))/LOG(2))))","v":0},null,{"$f":"N10","v":11122},{"$f":"COUNTIF(L145:L172,AS10)","v":1},{"$f":"AT10/(AV4-AT25)","v":3.7037037037037035E-2},{"$f":"IF(AU10=0,0,(AU10*((LOG(AU10))/LOG(2))))","v":-0.1761069445245729}]
[12,543,13,547,13,554,14,559,13,571,0,11111,null,11211,{"$f":"COUNTIF($L$7:$L$500,N11)","v":0},{"$f":"O11/$Q$4","v":0},{"$f":"IF(P11=0,0,(P11*((LOG(P11))/LOG(2))))","v":0},null,null,{"$f":"N11","v":11211},{"$f":"COUNTIF(L7:L34,T11)","v":0},{"$f":"U11/(W4-U25)","v":0},{"$f":"IF(V11=0,0,(V11*((LOG(V11))/LOG(2))))","v":0},null,{"$f":"N11","v":11211},{"$f":"COUNTIF(L35:L61,Y11)","v":0},{"$f":"Z11/(AB4-Z25)","v":0},{"$f":"IF(AA11=0,0,(AA11*((LOG(AA11))/LOG(2))))","v":0},null,{"$f":"N11","v":11211},{"$f":"COUNTIF(L62:L89,AD11)","v":0},{"$f":"AE11/(AG4-AE25)","v":0},{"$f":"IF(AF11=0,0,(AF11*((LOG(AF11))/LOG(2))))","v":0},null,{"$f":"N11","v":11211},{"$f":"COUNTIF(L90:L117,AI11)","v":0},{"$f":"AJ11/(AL4-AJ25)","v":0},{"$f":"IF(AK11=0,0,(AK11*((LOG(AK11))/LOG(2))))","v":0},null,{"$f":"N11","v":11211},{"$f":"COUNTIF(L118:L144,AN11)","v":0},{"$f":"AO11/(AQ4-AO25)","v":0},{"$f":"IF(AP11=0,0,(AP11*((LOG(AP11))/LOG(2))))","v":0},null,{"$f":"N11","v":11211},{"$f":"COUNTIF(L145:L172,AS11)","v":0},{"$f":"AT11/(AV4-AT25)","v":0},{"$f":"IF(AU11=0,0,(AU11*((LOG(AU11))/LOG(2))))","v":0}]
[12,672,13,677,13,698,14,702,13,708,0,11111,null,11212,{"$f":"COUNTIF($L$7:$L$500,N12)","v":0},{"$f":"O12/$Q$4","v":0},{"$f":"IF(P12=0,0,(P12*((LOG(P12))/LOG(2))))","v":0},null,null,{"$f":"N12","v":11212},{"$f":"COUNTIF(L7:L34,T12)","v":0},{"$f":"U12/(W4-U25)","v":0},{"$f":"IF(V12=0,0,(V12*((LOG(V12))/LOG(2))))","v":0},null,{"$f":"N12","v":11212},{"$f":"COUNTIF(L35:L61,Y12)","v":0},{"$f":"Z12/(AB4-Z25)","v":0},{"$f":"IF(AA12=0,0,(AA12*((LOG(AA12))/LOG(2))))","v":0},null,{"$f":"N12","v":11212},{"$f":"COUNTIF(L62:L89,AD12)","v":0},{"$f":"AE12/(AG4-AE25)","v":0},{"$f":"IF(AF12=0,0,(AF12*((LOG(AF12))/LOG(2))))","v":0},null,{"$f":"N12","v":11212},{"$f":"COUNTIF(L90:L117,AI12)","v":0},{"$f":"AJ12/(AL4-AJ25)","v":0},{"$f":"IF(AK12=0,0,(AK12*((LOG(AK12))/LOG(2))))","v":0},null,{"$f":"N12","v":11212},{"$f":"COUNTIF(L118:L144,AN12)","v":0},{"$f":"AO12/(AQ4-AO25)","v":0},{"$f":"IF(AP12=0,0,(AP12*((LOG(AP12))/LOG(2))))","v":0},null,{"$f":"N12","v":11212},{"$f":"COUNTIF(L145:L172,AS12)","v":0},{"$f":"AT12/(AV4-AT25)","v":0},{"$f":"IF(AU12=0,0,(AU12*((LOG(AU12))/LOG(2))))","v":0}]
[21,810,22,814,13,823,14,829,13,834,0,22111,null,11221,{"$f":"COUNTIF($L$7:$L$500,N13)","v":1},{"$f":"O13/$Q$4","v":6.024096385542169E-3},{"$f":"IF(P13=0,0,(P13*((LOG(P13))/LOG(2))))","v":-4.4427948381607983E-2},null,null,{"$f":"N13","v":11221},{"$f":"COUNTIF(L7:L34,T13)","v":0},{"$f":"U13/(W4-U25)","v":0},{"$f":"IF(V13=0,0,(V13*((LOG(V13))/LOG(2))))","v":0},null,{"$f":"N13","v":11221},{"$f":"COUNTIF(L35:L61,Y13)","v":0},{"$f":"Z13/(AB4-Z25)","v":0},{"$f":"IF(AA13=0,0,(AA13*((LOG(AA13))/LOG(2))))","v":0},null,{"$f":"N13","v":11221},{"$f":"COUNTIF(L62:L89,AD13)","v":0},{"$f":"AE13/(AG4-AE25)","v":0},{"$f":"IF(AF13=0,0,(AF13*((LOG(AF13))/LOG(2))))","v":0},null,{"$f":"N13","v":11221},{"$f":"COUNTIF(L90:L117,AI13)","v":0},{"$f":"AJ13/(AL4-AJ25)","v":0},{"$f":"IF(AK13=0,0,(AK13*((LOG(AK13))/LOG(2))))","v":0},null,{"$f":"N13","v":11221},{"$f":"COUNTIF(L118:L144,AN13)","v":1},{"$f":"AO13/(AQ4-AO25)","v":3.8461538461538464E-2},{"$f":"IF(AP13=0,0,(AP13*((LOG(AP13))/LOG(2))))","v":-0.18078614300542661},null,{"$f":"N13","v":11221},{"$f":"COUNTIF(L145:L172,AS13)","v":0},{"$f":"AT13/(AV4-AT25)","v":0},{"$f":"IF(AU13=0,0,(AU13*((LOG(AU13))/LOG(2))))","v":0}]
[21,934,22,939,13,950,14,954,24,963,0,22112,null,11222,{"$f":"COUNTIF($L$7:$L$500,N14)","v":4},{"$f":"O14/$Q$4","v":2.4096385542168676E-2},{"$f":"IF(P14=0,0,(P14*((LOG(P14))/LOG(2))))","v":-0.12951902244209457},null,null,{"$f":"N14","v":11222},{"$f":"COUNTIF(L7:L34,T14)","v":0},{"$f":"U14/(W4-U25)","v":0},{"$f":"IF(V14=0,0,(V14*((LOG(V14))/LOG(2))))","v":0},null,{"$f":"N14","v":11222},{"$f":"COUNTIF(L35:L61,Y14)","v":0},{"$f":"Z14/(AB4-Z25)","v":0},{"$f":"IF(AA14=0,0,(AA14*((LOG(AA14))/LOG(2))))","v":0},null,{"$f":"N14","v":11222},{"$f":"COUNTIF(L62:L89,AD14)","v":1},{"$f":"AE14/(AG4-AE25)","v":3.7037037037037035E-2},{"$f":"IF(AF14=0,0,(AF14*((LOG(AF14))/LOG(2))))","v":-0.1761069445245729},null,{"$f":"N14","v":11222},{"$f":"COUNTIF(L90:L117,AI14)","v":1},{"$f":"AJ14/(AL4-AJ25)","v":3.7037037037037035E-2},{"$f":"IF(AK14=0,0,(AK14*((LOG(AK14))/LOG(2))))","v":-0.1761069445245729},null,{"$f":"N14","v":11222},{"$f":"COUNTIF(L118:L144,AN14)","v":1},{"$f":"AO14/(AQ4-AO25)","v":3.8461538461538464E-2},{"$f":"IF(AP14=0,0,(AP14*((LOG(AP14))/LOG(2))))","v":-0.18078614300542661},null,{"$f":"N14","v":11222},{"$f":"COUNTIF(L145:L172,AS14)","v":1},{"$f":"AT14/(AV4-AT25)","v":3.7037037037037035E-2},{"$f":"IF(AU14=0,0,(AU14*((LOG(AU14))/LOG(2))))","v":-0.1761069445245729}]
[21,1074,11,1088,11,1092,12,1110,13,1116,1,21111,null,12111,{"$f":"COUNTIF($L$7:$L$500,N15)","v":0},{"$f":"O15/$Q$4","v":0},{"$f":"IF(P15=0,0,(P15*((LOG(P15))/LOG(2))))","v":0},null,null,{"$f":"N15","v":12111},{"$f":"COUNTIF(L7:L34,T15)","v":0},{"$f":"U15/(W4-U25)","v":0},{"$f":"IF(V15=0,0,(V15*((LOG(V15))/LOG(2))))","v":0},null,{"$f":"N15","v":12111},{"$f":"COUNTIF(L35:L61,Y15)","v":0},{"$f":"Z15/(AB4-Z25)","v":0},{"$f":"IF(AA15=0,0,(AA15*((LOG(AA15))/LOG(2))))","v":0},null,{"$f":"N15","v":12111},{"$f":"COUNTIF(L62:L89,AD15)","v":0},{"$f":"AE15/(AG4-AE25)","v":0},{"$f":"IF(AF15=0,0,(AF15*((LOG(AF15))/LOG(2))))","v":0},null,{"$f":"N15","v":12111},{"$f":"COUNTIF(L90:L117,AI15)","v":0},{"$f":"AJ15/(AL4-AJ25)","v":0},{"$f":"IF(AK15=0,0,(AK15*((LOG(AK15))/LOG(2))))","v":0},null,{"$f":"N15","v":12111},{"$f":"COUNTIF(L118:L144,AN15)","v":0},{"$f":"AO15/(AQ4-AO25)","v":0},{"$f":"IF(AP15=0,0,(AP15*((LOG(AP15))/LOG(2))))","v":0},null,{"$f":"N15","v":12111},{"$f":"COUNTIF(L145:L172,AS15)","v":0},{"$f":"AT15/(AV4-AT25)","v":0},{"$f":"IF(AU15=0,0,(AU15*((LOG(AU15))/LOG(2))))","v":0}]
[12,1209,13,1220,13,1225,14,1229,13,1238,0,11111,null,12112,{"$f":"COUNTIF($L$7:$L$500,N16)","v":1},{"$f":"O16/$Q$4","v":6.024096385542169E-3},{"$f":"IF(P16=0,0,(P16*((LOG(P16))/LOG(2))))","v":-4.4427948381607983E-2},null,null,{"$f":"N16","v":12112},{"$f":"COUNTIF(L7:L34,T16)","v":0},{"$f":"U16/(W4-U25)","v":0},{"$f":"IF(V16=0,0,(V16*((LOG(V16))/LOG(2))))","v":0},null,{"$f":"N16","v":12112},{"$f":"COUNTIF(L35:L61,Y16)","v":0},{"$f":"Z16/(AB4-Z25)","v":0},{"$f":"IF(AA16=0,0,(AA16*((LOG(AA16))/LOG(2))))","v":0},null,{"$f":"N16","v":12112},{"$f":"COUNTIF(L62:L89,AD16)","v":1},{"$f":"AE16/(AG4-AE25)","v":3.7037037037037035E-2},{"$f":"IF(AF16=0,0,(AF16*((LOG(AF16))/LOG(2))))","v":-0.1761069445245729},null,{"$f":"N16","v":12112},{"$f":"COUNTIF(L90:L117,AI16)","v":0},{"$f":"AJ16/(AL4-AJ25)","v":0},{"$f":"IF(AK16=0,0,(AK16*((LOG(AK16))/LOG(2))))","v":0},null,{"$f":"N16","v":12112},{"$f":"COUNTIF(L118:L144,AN16)","v":0},{"$f":"AO16/(AQ4-AO25)","v":0},{"$f":"IF(AP16=0,0,(AP16*((LOG(AP16))/LOG(2))))","v":0},null,{"$f":"N16","v":12112},{"$f":"COUNTIF(L145:L172,AS16)","v":0},{"$f":"AT16/(AV4-AT25)","v":0},{"$f":"IF(AU16=0,0,(AU16*((LOG(AU16))/LOG(2))))","v":0}]
[21,1340,11,1373,11,1377,12,1384,13,1391,0,21111,null,12121,{"$f":"COUNTIF($L$7:$L$500,N17)","v":1},{"$f":"O17/$Q$4","v":6.024096385542169E-3},{"$f":"IF(P17=0,0,(P17*((LOG(P17))/LOG(2))))","v":-4.4427948381607983E-2},null,null,{"$f":"N17","v":12121},{"$f":"COUNTIF(L7:L34,T17)","v":0},{"$f":"U17/(W4-U25)","v":0},{"$f":"IF(V17=0,0,(V17*((LOG(V17))/LOG(2))))","v":0},null,{"$f":"N17","v":12121},{"$f":"COUNTIF(L35:L61,Y17)","v":1},{"$f":"Z17/(AB4-Z25)","v":3.7037037037037035E-2},{"$f":"IF(AA17=0,0,(AA17*((LOG(AA17))/LOG(2))))","v":-0.1761069445245729},null,{"$f":"N17","v":12121},{"$f":"COUNTIF(L62:L89,AD17)","v":0},{"$f":"AE17/(AG4-AE25)","v":0},{"$f":"IF(AF17=0,0,(AF17*((LOG(AF17))/LOG(2))))","v":0},null,{"$f":"N17","v":12121},{"$f":"COUNTIF(L90:L117,AI17)","v":0},{"$f":"AJ17/(AL4-AJ25)","v":0},{"$f":"IF(AK17=0,0,(AK17*((LOG(AK17))/LOG(2))))","v":0},null,{"$f":"N17","v":12121},{"$f":"COUNTIF(L118:L144,AN17)","v":0},{"$f":"AO17/(AQ4-AO25)","v":0},{"$f":"IF(AP17=0,0,(AP17*((LOG(AP17))/LOG(2))))","v":0},null,{"$f":"N17","v":12121},{"$f":"COUNTIF(L145:L172,AS17)","v":0},{"$f":"AT17/(AV4-AT25)","v":0},{"$f":"IF(AU17=0,0,(AU17*((LOG(AU17))/LOG(2))))","v":0}]
[21,1500,22,1510,24,1517,14,1528,13,1533,1,22211,null,12122,{"$f":"COUNTIF($L$7:$L$500,N18)","v":0},{"$f":"O18/$Q$4","v":0},{"$f":"IF(P18=0,0,(P18*((LOG(P18))/LOG(2))))","v":0},null,null,{"$f":"N18","v":12122},{"$f":"COUNTIF(L7:L34,T18)","v":0},{"$f":"U18/(W4-U25)","v":0},{"$f":"IF(V18=0,0,(V18*((LOG(V18))/LOG(2))))","v":0},null,{"$f":"N18","v":12122},{"$f":"COUNTIF(L35:L61,Y18)","v":0},{"$f":"Z18/(AB4-Z25)","v":0},{"$f":"IF(AA18=0,0,(AA18*((LOG(AA18))/LOG(2))))","v":0},null,{"$f":"N18","v":12122},{"$f":"COUNTIF(L62:L89,AD18)","v":0},{"$f":"AE18/(AG4-AE25)","v":0},{"$f":"IF(AF18=0,0,(AF18*((LOG(AF18))/LOG(2))))","v":0},null,{"$f":"N18","v":12122},{"$f":"COUNTIF(L90:L117,AI18)","v":0},{"$f":"AJ18/(AL4-AJ25)","v":0},{"$f":"IF(AK18=0,0,(AK18*((LOG(AK18))/LOG(2))))","v":0},null,{"$f":"N18","v":12122},{"$f":"COUNTIF(L118:L144,AN18)","v":0},{"$f":"AO18/(AQ4-AO25)","v":0},{"$f":"IF(AP18=0,0,(AP18*((LOG(AP18))/LOG(2))))","v":0},null,{"$f":"N18","v":12122},{"$f":"COUNTIF(L145:L172,AS18)","v":0},{"$f":"AT18/(AV4-AT25)","v":0},{"$f":"IF(AU18=0,0,(AU18*((LOG(AU18))/LOG(2))))","v":0}]
[12,1650,13,1657,13,1665,23,1682,13,1691,0,11121,null,12211,{"$f":"COUNTIF($L$7:$L$500,N19)","v":0},{"$f":"O19/$Q$4","v":0},{"$f":"IF(P19=0,0,(P19*((LOG(P19))/LOG(2))))","v":0},null,null,{"$f":"N19","v":12211},{"$f":"COUNTIF(L7:L34,T19)","v":0},{"$f":"U19/(W4-U25)","v":0},{"$f":"IF(V19=0,0,(V19*((LOG(V19))/LOG(2))))","v":0},null,{"$f":"N19","v":12211},{"$f":"COUNTIF(L35:L61,Y19)","v":0},{"$f":"Z19/(AB4-Z25)","v":0},{"$f":"IF(AA19=0,0,(AA19*((LOG(AA19))/LOG(2))))","v":0},null,{"$f":"N19","v":12211},{"$f":"COUNTIF(L62:L89,AD19)","v":0},{"$f":"AE19/(AG4-AE25)","v":0},{"$f":"IF(AF19=0,0,(AF19*((LOG(AF19))/LOG(2))))","v":0},null,{"$f":"N19","v":12211},{"$f":"COUNTIF(L90:L117,AI19)","v":0},{"$f":"AJ19/(AL4-AJ25)","v":0},{"$f":"IF(AK19=0,0,(AK19*((LOG(AK19))/LOG(2))))","v":0},null,{"$f":"N19","v":12211},{"$f":"COUNTIF(L118:L144,AN19)","v":0},{"$f":"AO19/(AQ4-AO25)","v":0},{"$f":"IF(AP19=0,0,(AP19*((LOG(AP19))/LOG(2))))","v":0},null,{"$f":"N19","v":12211},{"$f":"COUNTIF(L145:L172,AS19)","v":0},{"$f":"AT19/(AV4-AT25)","v":0},{"$f":"IF(AU19=0,0,(AU19*((LOG(AU19))/LOG(2))))","v":0}]
[21,1796,11,1825,22,1864,23,1872,13,1887,0,21221,null,12212,{"$f":"COUNTIF($L$7:$L$500,N20)","v":1},{"$f":"O20/$Q$4","v":6.024096385542169E-3},{"$f":"IF(P20=0,0,(P20*((LOG(P20))/LOG(2))))","v":-4.4427948381607983E-2},null,null,{"$f":"N20","v":12212},{"$f":"COUNTIF(L7:L34,T20)","v":1},{"$f":"U20/(W4-U25)","v":3.7037037037037035E-2},{"$f":"IF(V20=0,0,(V20*((LOG(V20))/LOG(2))))","v":-0.1761069445245729},null,{"$f":"N20","v":12212},{"$f":"COUNTIF(L35:L61,Y20)","v":0},{"$f":"Z20/(AB4-Z25)","v":0},{"$f":"IF(AA20=0,0,(AA20*((LOG(AA20))/LOG(2))))","v":0},null,{"$f":"N20","v":12212},{"$f":"COUNTIF(L62:L89,AD20)","v":0},{"$f":"AE20/(AG4-AE25)","v":0},{"$f":"IF(AF20=0,0,(AF20*((LOG(AF20))/LOG(2))))","v":0},null,{"$f":"N20","v":12212},{"$f":"COUNTIF(L90:L117,AI20)","v":0},{"$f":"AJ20/(AL4-AJ25)","v":0},{"$f":"IF(AK20=0,0,(AK20*((LOG(AK20))/LOG(2))))","v":0},null,{"$f":"N20","v":12212},{"$f":"COUNTIF(L118:L144,AN20)","v":0},{"$f":"AO20/(AQ4-AO25)","v":0},{"$f":"IF(AP20=0,0,(AP20*((LOG(AP20))/LOG(2))))","v":0},null,{"$f":"N20","v":12212},{"$f":"COUNTIF(L145:L172,AS20)","v":0},{"$f":"AT20/(AV4-AT25)","v":0},{"$f":"IF(AU20=0,0,(AU20*((LOG(AU20))/LOG(2))))","v":0}]
[21,1993,22,1998,13,2008,14,2012,13,2016,0,22111,null,12221,{"$f":"COUNTIF($L$7:$L$500,N21)","v":3},{"$f":"O21/$Q$4","v":1.8072289156626505E-2},{"$f":"IF(P21=0,0,(P21*((LOG(P21))/LOG(2))))","v":-0.10463994452938136},null,null,{"$f":"N21","v":12221},{"$f":"COUNTIF(L7:L34,T21)","v":0},{"$f":"U21/(W4-U25)","v":0},{"$f":"IF(V21=0,0,(V21*((LOG(V21))/LOG(2))))","v":0},null,{"$f":"N21","v":12221},{"$f":"COUNTIF(L35:L61,Y21)","v":1},{"$f":"Z21/(AB4-Z25)","v":3.7037037037037035E-2},{"$f":"IF(AA21=0,0,(AA21*((LOG(AA21))/LOG(2))))","v":-0.1761069445245729},null,{"$f":"N21","v":12221},{"$f":"COUNTIF(L62:L89,AD21)","v":2},{"$f":"AE21/(AG4-AE25)","v":7.407407407407407E-2},{"$f":"IF(AF21=0,0,(AF21*((LOG(AF21))/LOG(2))))","v":-0.27813981497507173},null,{"$f":"N21","v":12221},{"$f":"COUNTIF(L90:L117,AI21)","v":0},{"$f":"AJ21/(AL4-AJ25)","v":0},{"$f":"IF(AK21=0,0,(AK21*((LOG(AK21))/LOG(2))))","v":0},null,{"$f":"N21","v":12221},{"$f":"COUNTIF(L118:L144,AN21)","v":0},{"$f":"AO21/(AQ4-AO25)","v":0},{"$f":"IF(AP21=0,0,(AP21*((LOG(AP21))/LOG(2))))","v":0},null,{"$f":"N21","v":12221},{"$f":"COUNTIF(L145:L172,AS21)","v":0},{"$f":"AT21/(AV4-AT25)","v":0},{"$f":"IF(AU21=0,0,(AU21*((LOG(AU21))/LOG(2))))","v":0}]
[21,2139,22,2145,13,2169,23,2177,24,2211,1,22122,null,12222,{"$f":"COUNTIF($L$7:$L$500,N22)","v":0},{"$f":"O22/$Q$4","v":0},{"$f":"IF(P22=0,0,(P22*((LOG(P22))/LOG(2))))","v":0},null,null,{"$f":"N22","v":12222},{"$f":"COUNTIF(L7:L34,T22)","v":0},{"$f":"U22/(W4-U25)","v":0},{"$f":"IF(V22=0,0,(V22*((LOG(V22))/LOG(2))))","v":0},null,{"$f":"N22","v":12222},{"$f":"COUNTIF(L35:L61,Y22)","v":0},{"$f":"Z22/(AB4-Z25)","v":0},{"$f":"IF(AA22=0,0,(AA22*((LOG(AA22))/LOG(2))))","v":0},null,{"$f":"N22","v":12222},{"$f":"COUNTIF(L62:L89,AD22)","v":0},{"$f":"AE22/(AG4-AE25)","v":0},{"$f":"IF(AF22=0,0,(AF22*((LOG(AF22))/LOG(2))))","v":0},null,{"$f":"N22","v":12222},{"$f":"COUNTIF(L90:L117,AI22)","v":0},{"$f":"AJ22/(AL4-AJ25)","v":0},{"$f":"IF(AK22=0,0,(AK22*((LOG(AK22))/LOG(2))))","v":0},null,{"$f":"N22","v":12222},{"$f":"COUNTIF(L118:L144,AN22)","v":0},{"$f":"AO22/(AQ4-AO25)","v":0},{"$f":"IF(AP22=0,0,(AP22*((LOG(AP22))/LOG(2))))","v":0},null,{"$f":"N22","v":12222},{"$f":"COUNTIF(L145:L172,AS22)","v":0},{"$f":"AT22/(AV4-AT25)","v":0},{"$f":"IF(AU22=0,0,(AU22*((LOG(AU22))/LOG(2))))","v":0}]
[21,2320,11,2332,11,2336,12,2340,24,2351,0,21112,null,21111,{"$f":"COUNTIF($L$7:$L$500,N23)","v":33},{"$f":"O23/$Q$4","v":0.19879518072289157},{"$f":"IF(P23=0,0,(P23*((LOG(P23))/LOG(2))))","v":-0.46332105599770812},null,null,{"$f":"N23","v":21111},{"$f":"COUNTIF(L7:L34,T23)","v":2},{"$f":"U23/(W4-U25)","v":7.407407407407407E-2},{"$f":"IF(V23=0,0,(V23*((LOG(V23))/LOG(2))))","v":-0.27813981497507173},null,{"$f":"N23","v":21111},{"$f":"COUNTIF(L35:L61,Y23)","v":0},{"$f":"Z23/(AB4-Z25)","v":0},{"$f":"IF(AA23=0,0,(AA23*((LOG(AA23))/LOG(2))))","v":0},null,{"$f":"N23","v":21111},{"$f":"COUNTIF(L62:L89,AD23)","v":5},{"$f":"AE23/(AG4-AE25)","v":0.18518518518518517},{"$f":"IF(AF23=0,0,(AF23*((LOG(AF23))/LOG(2))))","v":-0.45054803838446406},null,{"$f":"N23","v":21111},{"$f":"COUNTIF(L90:L117,AI23)","v":6},{"$f":"AJ23/(AL4-AJ25)","v":0.22222222222222221},{"$f":"IF(AK23=0,0,(AK23*((LOG(AK23))/LOG(2))))","v":-0.48220555587606945},null,{"$f":"N23","v":21111},{"$f":"COUNTIF(L118:L144,AN23)","v":9},{"$f":"AO23/(AQ4-AO25)","v":0.34615384615384615},{"$f":"IF(AP23=0,0,(AP23*((LOG(AP23))/LOG(2))))","v":-0.52979355578034681},null,{"$f":"N23","v":21111},{"$f":"COUNTIF(L145:L172,AS23)","v":11},{"$f":"AT23/(AV4-AT25)","v":0.40740740740740738},{"$f":"IF(AU23=0,0,(AU23*((LOG(AU23))/LOG(2))))","v":-0.52777832291806981}]
[21,2456,22,2462,13,2476,14,2479,24,2489,0,22112,null,21112,{"$f":"COUNTIF($L$7:$L$500,N24)","v":21},{"$f":"O24/$Q$4","v":0.12650602409638553},{"$f":"IF(P24=0,0,(P24*((LOG(P24))/LOG(2))))","v":-0.3773323022887437},null,null,{"$f":"N24","v":21112},{"$f":"COUNTIF(L7:L34,T24)","v":4},{"$f":"U24/(W4-U25)","v":0.14814814814814814},{"$f":"IF(V24=0,0,(V24*((LOG(V24))/LOG(2))))","v":-0.40813148180199532},null,{"$f":"N24","v":21112},{"$f":"COUNTIF(L35:L61,Y24)","v":1},{"$f":"Z24/(AB4-Z25)","v":3.7037037037037035E-2},{"$f":"IF(AA24=0,0,(AA24*((LOG(AA24))/LOG(2))))","v":-0.1761069445245729},null,{"$f":"N24","v":21112},{"$f":"COUNTIF(L62:L89,AD24)","v":3},{"$f":"AE24/(AG4-AE25)","v":0.1111111111111111},{"$f":"IF(AF24=0,0,(AF24*((LOG(AF24))/LOG(2))))","v":-0.3522138890491458},null,{"$f":"N24","v":21112},{"$f":"COUNTIF(L90:L117,AI24)","v":4},{"$f":"AJ24/(AL4-AJ25)","v":0.14814814814814814},{"$f":"IF(AK24=0,0,(AK24*((LOG(AK24))/LOG(2))))","v":-0.40813148180199532},null,{"$f":"N24","v":21112},{"$f":"COUNTIF(L118:L144,AN24)","v":4},{"$f":"AO24/(AQ4-AO25)","v":0.15384615384615385},{"$f":"IF(AP24=0,0,(AP24*((LOG(AP24))/LOG(2))))","v":-0.4154522643293988},null,{"$f":"N24","v":21112},{"$f":"COUNTIF(L145:L172,AS24)","v":5},{"$f":"AT24/(AV4-AT25)","v":0.18518518518518517},{"$f":"IF(AU24=0,0,(AU24*((LOG(AU24))/LOG(2))))","v":-0.45054803838446406}]
[21,2591,22,2598,13,2618,14,2622,13,2626,0,22111,null,21121,{"$f":"COUNTIF($L$7:$L$500,N25)","v":5},{"$f":"O25/$Q$4","v":3.0120481927710843E-2},{"$f":"IF(P25=0,0,(P25*((LOG(P25))/LOG(2))))","v":-0.15220214868854101},null,null,{"$f":"N25","v":21121},{"$f":"COUNTIF(L7:L34,T25)","v":1},null,null,null,{"$f":"N25","v":21121},{"$f":"COUNTIF(L35:L61,Y25)","v":0},null,null,null,{"$f":"N25","v":21121},{"$f":"COUNTIF(L62:L89,AD25)","v":1},null,null,null,{"$f":"N25","v":21121},{"$f":"COUNTIF(L90:L117,AI25)","v":1},null,null,null,{"$f":"N25","v":21121},{"$f":"COUNTIF(L118:L144,AN25)","v":1},null,null,null,{"$f":"N25","v":21121},{"$f":"COUNTIF(L145:L172,AS25)","v":1}]
[21,2739,11,2759,22,2768,23,2775,24,2782,0,21222,null,21122,{"$f":"COUNTIF($L$7:$L$500,N26)","v":7},{"$f":"O26/$Q$4","v":4.2168674698795178E-2},{"$f":"IF(P26=0,0,(P26*((LOG(P26))/LOG(2))))","v":-0.19261320219894726},null,null,{"$f":"N26","v":21122},{"$f":"COUNTIF(L7:L34,T26)","v":1},{"$f":"U26/(W4-U25)","v":3.7037037037037035E-2},{"$f":"IF(V26=0,0,(V26*((LOG(V26))/LOG(2))))","v":-0.1761069445245729},null,{"$f":"N26","v":21122},{"$f":"COUNTIF(L35:L61,Y26)","v":3},{"$f":"Z26/(AB4-Z25)","v":0.1111111111111111},{"$f":"IF(AA26=0,0,(AA26*((LOG(AA26))/LOG(2))))","v":-0.3522138890491458},null,{"$f":"N26","v":21122},{"$f":"COUNTIF(L62:L89,AD26)","v":1},{"$f":"AE26/(AG4-AE25)","v":3.7037037037037035E-2},{"$f":"IF(AF26=0,0,(AF26*((LOG(AF26))/LOG(2))))","v":-0.1761069445245729},null,{"$f":"N26","v":21122},{"$f":"COUNTIF(L90:L117,AI26)","v":0},{"$f":"AJ26/(AL4-AJ25)","v":0},{"$f":"IF(AK26=0,0,(AK26*((LOG(AK26))/LOG(2))))","v":0},null,{"$f":"N26","v":21122},{"$f":"COUNTIF(L118:L144,AN26)","v":2},{"$f":"AO26/(AQ4-AO25)","v":7.6923076923076927E-2},{"$f":"IF(AP26=0,0,(AP26*((LOG(AP26))/LOG(2))))","v":-0.28464920908777636},null,{"$f":"N26","v":21122},{"$f":"COUNTIF(L145:L172,AS26)","v":0},{"$f":"AT26/(AV4-AT25)","v":0},{"$f":"IF(AU26=0,0,(AU26*((LOG(AU26))/LOG(2))))","v":0}]
[21,2894,11,2905,11,2910,12,2913,24,2922,1,21112,null,21211,{"$f":"COUNTIF($L$7:$L$500,N27)","v":3},{"$f":"O27/$Q$4","v":1.8072289156626505E-2},{"$f":"IF(P27=0,0,(P27*((LOG(P27))/LOG(2))))","v":-0.10463994452938136},null,null,{"$f":"N27","v":21211},{"$f":"COUNTIF(L7:L34,T27)","v":2},{"$f":"U27/(W4-U25)","v":7.407407407407407E-2},{"$f":"IF(V27=0,0,(V27*((LOG(V27))/LOG(2))))","v":-0.27813981497507173},null,{"$f":"N27","v":21211},{"$f":"COUNTIF(L35:L61,Y27)","v":1},{"$f":"Z27/(AB4-Z25)","v":3.7037037037037035E-2},{"$f":"IF(AA27=0,0,(AA27*((LOG(AA27))/LOG(2))))","v":-0.1761069445245729},null,{"$f":"N27","v":21211},{"$f":"COUNTIF(L62:L89,AD27)","v":0},{"$f":"AE27/(AG4-AE25)","v":0},{"$f":"IF(AF27=0,0,(AF27*((LOG(AF27))/LOG(2))))","v":0},null,{"$f":"N27","v":21211},{"$f":"COUNTIF(L90:L117,AI27)","v":0},{"$f":"AJ27/(AL4-AJ25)","v":0},{"$f":"IF(AK27=0,0,(AK27*((LOG(AK27))/LOG(2))))","v":0},null,{"$f":"N27","v":21211},{"$f":"COUNTIF(L118:L144,AN27)","v":0},{"$f":"AO27/(AQ4-AO25)","v":0},{"$f":"IF(AP27=0,0,(AP27*((LOG(AP27))/LOG(2))))","v":0},null,{"$f":"N27","v":21211},{"$f":"COUNTIF(L145:L172,AS27)","v":0},{"$f":"AT27/(AV4-AT25)","v":0},{"$f":"IF(AU27=0,0,(AU27*((LOG(AU27))/LOG(2))))","v":0}]
[12,3058,24,3080,24,3095,14,3115,24,3132,0,12212,null,21212,{"$f":"COUNTIF($L$7:$L$500,N28)","v":6},{"$f":"O28/$Q$4","v":3.614457831325301E-2},{"$f":"IF(P28=0,0,(P28*((LOG(P28))/LOG(2))))","v":-0.17313531074550972},null,null,{"$f":"N28","v":21212},{"$f":"COUNTIF(L7:L34,T28)","v":0},{"$f":"U28/(W4-U25)","v":0},{"$f":"IF(V28=0,0,(V28*((LOG(V28))/LOG(2))))","v":0},null,{"$f":"N28","v":21212},{"$f":"COUNTIF(L35:L61,Y28)","v":2},{"$f":"Z28/(AB4-Z25)","v":7.407407407407407E-2},{"$f":"IF(AA28=0,0,(AA28*((LOG(AA28))/LOG(2))))","v":-0.27813981497507173},null,{"$f":"N28","v":21212},{"$f":"COUNTIF(L62:L89,AD28)","v":3},{"$f":"AE28/(AG4-AE25)","v":0.1111111111111111},{"$f":"IF(AF28=0,0,(AF28*((LOG(AF28))/LOG(2))))","v":-0.3522138890491458},null,{"$f":"N28","v":21212},{"$f":"COUNTIF(L90:L117,AI28)","v":1},{"$f":"AJ28/(AL4-AJ25)","v":3.7037037037037035E-2},{"$f":"IF(AK28=0,0,(AK28*((LOG(AK28))/LOG(2))))","v":-0.1761069445245729},null,{"$f":"N28","v":21212},{"$f":"COUNTIF(L118:L144,AN28)","v":0},{"$f":"AO28/(AQ4-AO25)","v":0},{"$f":"IF(AP28=0,0,(AP28*((LOG(AP28))/LOG(2))))","v":0},null,{"$f":"N28","v":21212},{"$f":"COUNTIF(L145:L172,AS28)","v":0},{"$f":"AT28/(AV4-AT25)","v":0},{"$f":"IF(AU28=0,0,(AU28*((LOG(AU28))/LOG(2))))","v":0}]
[21,3251,11,3264,11,3307,21,3324,22,3342,0,21122,null,21221,{"$f":"COUNTIF($L$7:$L$500,N29)","v":3},{"$f":"O29/$Q$4","v":1.8072289156626505E-2},{"$f":"IF(P29=0,0,(P29*((LOG(P29))/LOG(2))))","v":-0.10463994452938136},null,null,{"$f":"N29","v":21221},{"$f":"COUNTIF(L7:L34,T29)","v":1},{"$f":"U29/(W4-U25)","v":3.7037037037037035E-2},{"$f":"IF(V29=0,0,(V29*((LOG(V29))/LOG(2))))","v":-0.1761069445245729},null,{"$f":"N29","v":21221},{"$f":"COUNTIF(L35:L61,Y29)","v":1},{"$f":"Z29/(AB4-Z25)","v":3.7037037037037035E-2},{"$f":"IF(AA29=0,0,(AA29*((LOG(AA29))/LOG(2))))","v":-0.1761069445245729},null,{"$f":"N29","v":21221},{"$f":"COUNTIF(L62:L89,AD29)","v":0},{"$f":"AE29/(AG4-AE25)","v":0},{"$f":"IF(AF29=0,0,(AF29*((LOG(AF29))/LOG(2))))","v":0},null,{"$f":"N29","v":21221},{"$f":"COUNTIF(L90:L117,AI29)","v":0},{"$f":"AJ29/(AL4-AJ25)","v":0},{"$f":"IF(AK29=0,0,(AK29*((LOG(AK29))/LOG(2))))","v":0},null,{"$f":"N29","v":21221},{"$f":"COUNTIF(L118:L144,AN29)","v":1},{"$f":"AO29/(AQ4-AO25)","v":3.8461538461538464E-2},{"$f":"IF(AP29=0,0,(AP29*((LOG(AP29))/LOG(2))))","v":-0.18078614300542661},null,{"$f":"N29","v":21221},{"$f":"COUNTIF(L145:L172,AS29)","v":0},{"$f":"AT29/(AV4-AT25)","v":0},{"$f":"IF(AU29=0,0,(AU29*((LOG(AU29))/LOG(2))))","v":0}]
[21,3440,11,3471,11,3496,21,3521,11,3537,1,21121,null,21222,{"$f":"COUNTIF($L$7:$L$500,N30)","v":5},{"$f":"O30/$Q$4","v":3.0120481927710843E-2},{"$f":"IF(P30=0,0,(P30*((LOG(P30))/LOG(2))))","v":-0.15220214868854101},null,null,{"$f":"N30","v":21222},{"$f":"COUNTIF(L7:L34,T30)","v":1},{"$f":"U30/(W4-U25)","v":3.7037037037037035E-2},{"$f":"IF(V30=0,0,(V30*((LOG(V30))/LOG(2))))","v":-0.1761069445245729},null,{"$f":"N30","v":21222},{"$f":"COUNTIF(L35:L61,Y30)","v":1},{"$f":"Z30/(AB4-Z25)","v":3.7037037037037035E-2},{"$f":"IF(AA30=0,0,(AA30*((LOG(AA30))/LOG(2))))","v":-0.1761069445245729},null,{"$f":"N30","v":21222},{"$f":"COUNTIF(L62:L89,AD30)","v":0},{"$f":"AE30/(AG4-AE25)","v":0},{"$f":"IF(AF30=0,0,(AF30*((LOG(AF30))/LOG(2))))","v":0},null,{"$f":"N30","v":21222},{"$f":"COUNTIF(L90:L117,AI30)","v":1},{"$f":"AJ30/(AL4-AJ25)","v":3.7037037037037035E-2},{"$f":"IF(AK30=0,0,(AK30*((LOG(AK30))/LOG(2))))","v":-0.1761069445245729},null,{"$f":"N30","v":21222},{"$f":"COUNTIF(L118:L144,AN30)","v":2},{"$f":"AO30/(AQ4-AO25)","v":7.6923076923076927E-2},{"$f":"IF(AP30=0,0,(AP30*((LOG(AP30))/LOG(2))))","v":-0.28464920908777636},null,{"$f":"N30","v":21222},{"$f":"COUNTIF(L145:L172,AS30)","v":0},{"$f":"AT30/(AV4-AT25)","v":0},{"$f":"IF(AU30=0,0,(AU30*((LOG(AU30))/LOG(2))))","v":0}]
[21,3648,11,3658,11,3662,12,3666,24,3679,0,21112,null,22111,{"$f":"COUNTIF($L$7:$L$500,N31)","v":13},{"$f":"O31/$Q$4","v":7.8313253012048195E-2},{"$f":"IF(P31=0,0,(P31*((LOG(P31))/LOG(2))))","v":-0.28776985705828806},null,null,{"$f":"N31","v":22111},{"$f":"COUNTIF(L7:L34,T31)","v":3},{"$f":"U31/(W4-U25)","v":0.1111111111111111},{"$f":"IF(V31=0,0,(V31*((LOG(V31))/LOG(2))))","v":-0.3522138890491458},null,{"$f":"N31","v":22111},{"$f":"COUNTIF(L35:L61,Y31)","v":1},{"$f":"Z31/(AB4-Z25)","v":3.7037037037037035E-2},{"$f":"IF(AA31=0,0,(AA31*((LOG(AA31))/LOG(2))))","v":-0.1761069445245729},null,{"$f":"N31","v":22111},{"$f":"COUNTIF(L62:L89,AD31)","v":0},{"$f":"AE31/(AG4-AE25)","v":0},{"$f":"IF(AF31=0,0,(AF31*((LOG(AF31))/LOG(2))))","v":0},null,{"$f":"N31","v":22111},{"$f":"COUNTIF(L90:L117,AI31)","v":4},{"$f":"AJ31/(AL4-AJ25)","v":0.14814814814814814},{"$f":"IF(AK31=0,0,(AK31*((LOG(AK31))/LOG(2))))","v":-0.40813148180199532},null,{"$f":"N31","v":22111},{"$f":"COUNTIF(L118:L144,AN31)","v":1},{"$f":"AO31/(AQ4-AO25)","v":3.8461538461538464E-2},{"$f":"IF(AP31=0,0,(AP31*((LOG(AP31))/LOG(2))))","v":-0.18078614300542661},null,{"$f":"N31","v":22111},{"$f":"COUNTIF(L145:L172,AS31)","v":4},{"$f":"AT31/(AV4-AT25)","v":0.14814814814814814},{"$f":"IF(AU31=0,0,(AU31*((LOG(AU31))/LOG(2))))","v":-0.40813148180199532}]
[21,3781,22,3800,24,3808,14,3817,24,3846,0,22212,null,22112,{"$f":"COUNTIF($L$7:$L$500,N32)","v":7},{"$f":"O32/$Q$4","v":4.2168674698795178E-2},{"$f":"IF(P32=0,0,(P32*((LOG(P32))/LOG(2))))","v":-0.19261320219894726},null,null,{"$f":"N32","v":22112},{"$f":"COUNTIF(L7:L34,T32)","v":2},{"$f":"U32/(W4-U25)","v":7.407407407407407E-2},{"$f":"IF(V32=0,0,(V32*((LOG(V32))/LOG(2))))","v":-0.27813981497507173},null,{"$f":"N32","v":22112},{"$f":"COUNTIF(L35:L61,Y32)","v":1},{"$f":"Z32/(AB4-Z25)","v":3.7037037037037035E-2},{"$f":"IF(AA32=0,0,(AA32*((LOG(AA32))/LOG(2))))","v":-0.1761069445245729},null,{"$f":"N32","v":22112},{"$f":"COUNTIF(L62:L89,AD32)","v":2},{"$f":"AE32/(AG4-AE25)","v":7.407407407407407E-2},{"$f":"IF(AF32=0,0,(AF32*((LOG(AF32))/LOG(2))))","v":-0.27813981497507173},null,{"$f":"N32","v":22112},{"$f":"COUNTIF(L90:L117,AI32)","v":2},{"$f":"AJ32/(AL4-AJ25)","v":7.407407407407407E-2},{"$f":"IF(AK32=0,0,(AK32*((LOG(AK32))/LOG(2))))","v":-0.27813981497507173},null,{"$f":"N32","v":22112},{"$f":"COUNTIF(L118:L144,AN32)","v":0},{"$f":"AO32/(AQ4-AO25)","v":0},{"$f":"IF(AP32=0,0,(AP32*((LOG(AP32))/LOG(2))))","v":0},null,{"$f":"N32","v":22112},{"$f":"COUNTIF(L145:L172,AS32)","v":0},{"$f":"AT32/(AV4-AT25)","v":0},{"$f":"IF(AU32=0,0,(AU32*((LOG(AU32))/LOG(2))))","v":0}]
[21,3957,11,3965,22,3972,14,3987,13,4009,0,21211,null,22121,{"$f":"COUNTIF($L$7:$L$500,N33)","v":6},{"$f":"O33/$Q$4","v":3.614457831325301E-2},{"$f":"IF(P33=0,0,(P33*((LOG(P33))/LOG(2))))","v":-0.17313531074550972},null,null,{"$f":"N33","v":22121},{"$f":"COUNTIF(L7:L34,T33)","v":0},{"$f":"U33/(W4-U25)","v":0},{"$f":"IF(V33=0,0,(V33*((LOG(V33))/LOG(2))))","v":0},null,{"$f":"N33","v":22121},{"$f":"COUNTIF(L35:L61,Y33)","v":5},{"$f":"Z33/(AB4-Z25)","v":0.18518518518518517},{"$f":"IF(AA33=0,0,(AA33*((LOG(AA33))/LOG(2))))","v":-0.45054803838446406},null,{"$f":"N33","v":22121},{"$f":"COUNTIF(L62:L89,AD33)","v":1},{"$f":"AE33/(AG4-AE25)","v":3.7037037037037035E-2},{"$f":"IF(AF33=0,0,(AF33*((LOG(AF33))/LOG(2))))","v":-0.1761069445245729},null,{"$f":"N33","v":22121},{"$f":"COUNTIF(L90:L117,AI33)","v":0},{"$f":"AJ33/(AL4-AJ25)","v":0},{"$f":"IF(AK33=0,0,(AK33*((LOG(AK33))/LOG(2))))","v":0},null,{"$f":"N33","v":22121},{"$f":"COUNTIF(L118:L144,AN33)","v":0},{"$f":"AO33/(AQ4-AO25)","v":0},{"$f":"IF(AP33=0,0,(AP33*((LOG(AP33))/LOG(2))))","v":0},null,{"$f":"N33","v":22121},{"$f":"COUNTIF(L145:L172,AS33)","v":0},{"$f":"AT33/(AV4-AT25)","v":0},{"$f":"IF(AU33=0,0,(AU33*((LOG(AU33))/LOG(2))))","v":0}]
[21,4127,11,4141,22,4165,14,4176,13,4187,0,21211,null,22122,{"$f":"COUNTIF($L$7:$L$500,N34)","v":5},{"$f":"O34/$Q$4","v":3.0120481927710843E-2},{"$f":"IF(P34=0,0,(P34*((LOG(P34))/LOG(2))))","v":-0.15220214868854101},null,null,{"$f":"N34","v":22122},{"$f":"COUNTIF(L7:L34,T34)","v":1},{"$f":"U34/(W4-U25)","v":3.7037037037037035E-2},{"$f":"IF(V34=0,0,(V34*((LOG(V34))/LOG(2))))","v":-0.1761069445245729},null,{"$f":"N34","v":22122},{"$f":"COUNTIF(L35:L61,Y34)","v":3},{"$f":"Z34/(AB4-Z25)","v":0.1111111111111111},{"$f":"IF(AA34=0,0,(AA34*((LOG(AA34))/LOG(2))))","v":-0.3522138890491458},null,{"$f":"N34","v":22122},{"$f":"COUNTIF(L62:L89,AD34)","v":0},{"$f":"AE34/(AG4-AE25)","v":0},{"$f":"IF(AF34=0,0,(AF34*((LOG(AF34))/LOG(2))))","v":0},null,{"$f":"N34","v":22122},{"$f":"COUNTIF(L90:L117,AI34)","v":1},{"$f":"AJ34/(AL4-AJ25)","v":3.7037037037037035E-2},{"$f":"IF(AK34=0,0,(AK34*((LOG(AK34))/LOG(2))))","v":-0.1761069445245729},null,{"$f":"N34","v":22122},{"$f":"COUNTIF(L118:L144,AN34)","v":0},{"$f":"AO34/(AQ4-AO25)","v":0},{"$f":"IF(AP34=0,0,(AP34*((LOG(AP34))/LOG(2))))","v":0},null,{"$f":"N34","v":22122},{"$f":"COUNTIF(L145:L172,AS34)","v":0},{"$f":"AT34/(AV4-AT25)","v":0},{"$f":"IF(AU34=0,0,(AU34*((LOG(AU34))/LOG(2))))","v":0}]
[21,4305,22,4310,13,4320,23,4354,24,4369,1,22122,null,22211,{"$f":"COUNTIF($L$7:$L$500,N35)","v":9},{"$f":"O35/$Q$4","v":5.4216867469879519E-2},{"$f":"IF(P35=0,0,(P35*((LOG(P35))/LOG(2))))","v":-0.22798813174181634},null,null,{"$f":"N35","v":22211},{"$f":"COUNTIF(L7:L34,T35)","v":1},{"$f":"U35/(W4-U25)","v":3.7037037037037035E-2},{"$f":"IF(V35=0,0,(V35*((LOG(V35))/LOG(2))))","v":-0.1761069445245729},null,{"$f":"N35","v":22211},{"$f":"COUNTIF(L35:L61,Y35)","v":2},{"$f":"Z35/(AB4-Z25)","v":7.407407407407407E-2},{"$f":"IF(AA35=0,0,(AA35*((LOG(AA35))/LOG(2))))","v":-0.27813981497507173},null,{"$f":"N35","v":22211},{"$f":"COUNTIF(L62:L89,AD35)","v":2},{"$f":"AE35/(AG4-AE25)","v":7.407407407407407E-2},{"$f":"IF(AF35=0,0,(AF35*((LOG(AF35))/LOG(2))))","v":-0.27813981497507173},null,{"$f":"N35","v":22211},{"$f":"COUNTIF(L90:L117,AI35)","v":1},{"$f":"AJ35/(AL4-AJ25)","v":3.7037037037037035E-2},{"$f":"IF(AK35=0,0,(AK35*((LOG(AK35))/LOG(2))))","v":-0.1761069445245729},null,{"$f":"N35","v":22211},{"$f":"COUNTIF(L118:L144,AN35)","v":1},{"$f":"AO35/(AQ4-AO25)","v":3.8461538461538464E-2},{"$f":"IF(AP35=0,0,(AP35*((LOG(AP35))/LOG(2))))","v":-0.18078614300542661},null,{"$f":"N35","v":22211},{"$f":"COUNTIF(L145:L172,AS35)","v":2},{"$f":"AT35/(AV4-AT25)","v":7.407407407407407E-2},{"$f":"IF(AU35=0,0,(AU35*((LOG(AU35))/LOG(2))))","v":-0.27813981497507173}]
[21,4467,22,4489,13,4498,23,4513,13,4549,1,22121,null,22212,{"$f":"COUNTIF($L$7:$L$500,N36)","v":3},{"$f":"O36/$Q$4","v":1.8072289156626505E-2},{"$f":"IF(P36=0,0,(P36*((LOG(P36))/LOG(2))))","v":-0.10463994452938136},null,null,{"$f":"N36","v":22212},{"$f":"COUNTIF(L7:L34,T36)","v":1},{"$f":"U36/(W4-U25)","v":3.7037037037037035E-2},{"$f":"IF(V36=0,0,(V36*((LOG(V36))/LOG(2))))","v":-0.1761069445245729},null,{"$f":"N36","v":22212},{"$f":"COUNTIF(L35:L61,Y36)","v":0},{"$f":"Z36/(AB4-Z25)","v":0},{"$f":"IF(AA36=0,0,(AA36*((LOG(AA36))/LOG(2))))","v":0},null,{"$f":"N36","v":22212},{"$f":"COUNTIF(L62:L89,AD36)","v":0},{"$f":"AE36/(AG4-AE25)","v":0},{"$f":"IF(AF36=0,0,(AF36*((LOG(AF36))/LOG(2))))","v":0},null,{"$f":"N36","v":22212},{"$f":"COUNTIF(L90:L117,AI36)","v":1},{"$f":"AJ36/(AL4-AJ25)","v":3.7037037037037035E-2},{"$f":"IF(AK36=0,0,(AK36*((LOG(AK36))/LOG(2))))","v":-0.1761069445245729},null,{"$f":"N36","v":22212},{"$f":"COUNTIF(L118:L144,AN36)","v":1},{"$f":"AO36/(AQ4-AO25)","v":3.8461538461538464E-2},{"$f":"IF(AP36=0,0,(AP36*((LOG(AP36))/LOG(2))))","v":-0.18078614300542661},null,{"$f":"N36","v":22212},{"$f":"COUNTIF(L145:L172,AS36)","v":0},{"$f":"AT36/(AV4-AT25)","v":0},{"$f":"IF(AU36=0,0,(AU36*((LOG(AU36))/LOG(2))))","v":0}]
[21,4662,11,4674,22,4682,14,4693,13,4706,0,21211,null,22221,{"$f":"COUNTIF($L$7:$L$500,N37)","v":5},{"$f":"O37/$Q$4","v":3.0120481927710843E-2},{"$f":"IF(P37=0,0,(P37*((LOG(P37))/LOG(2))))","v":-0.15220214868854101},null,null,{"$f":"N37","v":22221},{"$f":"COUNTIF(L7:L34,T37)","v":0},{"$f":"U37/(W4-U25)","v":0},{"$f":"IF(V37=0,0,(V37*((LOG(V37))/LOG(2))))","v":0},null,{"$f":"N37","v":22221},{"$f":"COUNTIF(L35:L61,Y37)","v":1},{"$f":"Z37/(AB4-Z25)","v":3.7037037037037035E-2},{"$f":"IF(AA37=0,0,(AA37*((LOG(AA37))/LOG(2))))","v":-0.1761069445245729},null,{"$f":"N37","v":22221},{"$f":"COUNTIF(L62:L89,AD37)","v":0},{"$f":"AE37/(AG4-AE25)","v":0},{"$f":"IF(AF37=0,0,(AF37*((LOG(AF37))/LOG(2))))","v":0},null,{"$f":"N37","v":22221},{"$f":"COUNTIF(L90:L117,AI37)","v":3},{"$f":"AJ37/(AL4-AJ25)","v":0.1111111111111111},{"$f":"IF(AK37=0,0,(AK37*((LOG(AK37))/LOG(2))))","v":-0.3522138890491458},null,{"$f":"N37","v":22221},{"$f":"COUNTIF(L118:L144,AN37)","v":1},{"$f":"AO37/(AQ4-AO25)","v":3.8461538461538464E-2},{"$f":"IF(AP37=0,0,(AP37*((LOG(AP37))/LOG(2))))","v":-0.18078614300542661},null,{"$f":"N37","v":22221},{"$f":"COUNTIF(L145:L172,AS37)","v":0},{"$f":"AT37/(AV4-AT25)","v":0},{"$f":"IF(AU37=0,0,(AU37*((LOG(AU37))/LOG(2))))","v":0}]
[21,4805,22,4810,13,4819,14,4823,13,4832,0,22111,null,22222,{"$f":"COUNTIF($L$7:$L$500,N38)","v":4},{"$f":"O38/$Q$4","v":2.4096385542168676E-2},{"$f":"IF(P38=0,0,(P38*((LOG(P38))/LOG(2))))","v":-0.12951902244209457},null,null,{"$f":"N38","v":22222},{"$f":"COUNTIF(L7:L34,T38)","v":0},{"$f":"U38/(W4-U25)","v":0},{"$f":"IF(V38=0,0,(V38*((LOG(V38))/LOG(2))))","v":0},null,{"$f":"N38","v":22222},{"$f":"COUNTIF(L35:L61,Y38)","v":1},{"$f":"Z38/(AB4-Z25)","v":3.7037037037037035E-2},{"$f":"IF(AA38=0,0,(AA38*((LOG(AA38))/LOG(2))))","v":-0.1761069445245729},null,{"$f":"N38","v":22222},{"$f":"COUNTIF(L62:L89,AD38)","v":0},{"$f":"AE38/(AG4-AE25)","v":0},{"$f":"IF(AF38=0,0,(AF38*((LOG(AF38))/LOG(2))))","v":0},null,{"$f":"N38","v":22222},{"$f":"COUNTIF(L90:L117,AI38)","v":0},{"$f":"AJ38/(AL4-AJ25)","v":0},{"$f":"IF(AK38=0,0,(AK38*((LOG(AK38))/LOG(2))))","v":0},null,{"$f":"N38","v":22222},{"$f":"COUNTIF(L118:L144,AN38)","v":2},{"$f":"AO38/(AQ4-AO25)","v":7.6923076923076927E-2},{"$f":"IF(AP38=0,0,(AP38*((LOG(AP38))/LOG(2))))","v":-0.28464920908777636},null,{"$f":"N38","v":22222},{"$f":"COUNTIF(L145:L172,AS38)","v":1},{"$f":"AT38/(AV4-AT25)","v":3.7037037037037035E-2},{"$f":"IF(AU38=0,0,(AU38*((LOG(AU38))/LOG(2))))","v":-0.1761069445245729}]
[21,4928,22,4944,24,4948,14,4957,13,4979,1,22211,null,null,null,{"$f":"SUM(P7:P38)","v":1},{"$f":"-SUM(Q7:Q38)","v":4.1320356666557618},null,null,null,null,{"$f":"SUM(V7:V38)","v":1},{"$f":"-SUM(W7:W38)","v":3.6898916687500072},null,null,null,{"$f":"SUM(AA7:AA38)","v":1},{"$f":"-SUM(AB7:AB38)","v":3.8245387807277749},null,null,null,{"$f":"SUM(AF7:AF38)","v":1},{"$f":"-SUM(AG7:AG38)","v":3.3800943362833298},null,null,null,{"$f":"SUM(AK7:AK38)","v":1},{"$f":"-SUM(AL7:AL38)","v":3.3376777797008614},null,null,null,{"$f":"SUM(AP7:AP38)","v":0.99999999999999978},{"$f":"-SUM(AQ7:AQ38)","v":3.0646964484110604},null,null,null,{"$f":"SUM(AU7:AU38)","v":1},{"$f":"-SUM(AV7:AV38)","v":2.5451323807024657}]
[12,5075,13,5084,13,5099,23,5107,13,5117,0,11121,null,null,null,"U=",{"$f":"Q39/(LOG(Q4)/LOG(2))","v":0.56027302702856419},null,null,null,null,"U1=",{"$f":"W39/(LOG(W4)/LOG(2))","v":0.76755133094493688},null,null,null,"U2=",{"$f":"AB39/(LOG(AB4)/LOG(2))","v":0.80433843681635253},null,null,null,"U3=",{"$f":"AG39/(LOG(AG4)/LOG(2))","v":0.70310896347062513},null,null,null,"U4=",{"$f":"AL39/(LOG(AL4)/LOG(2))","v":0.69428570051830008},null,null,null,"U5=",{"$f":"AQ39/(LOG(AQ4)/LOG(2))","v":0.6445360583224371},null,null,null,"U6=",{"$f":"AV39/(LOG(AV4)/LOG(2))","v":0.5294246882052801}]
[21,5214,22,5227,13,5235,23,5243,13,5265,0,22121]
[21,5378,11,5388,22,5396,14,5415,24,5423,0,21212]
[21,5528,11,5538,11,5568,21,5591,22,5597,0,21122,null,"Total Target Seq"]
[21,5698,22,5703,24,5710,14,5718,13,5729,0,22211,null,{"$f":"COUNTIF(L7:L172,G3)","v":5},null,28,27,28,28,27,28]
[21,5828,22,5854,13,5863,23,5894,24,5901,1,22122,null,null,null,"% of reinforcement given in 6 equal intervals based on number of trials "]
[21,6003,11,6012,11,6030,12,6054,24,6070,0,21112,null,null,null,"%_1","%_2","%_3","%_4","%_5","%_6"]
[21,6175,22,6179,13,6187,23,6194,24,6204,0,22122,null,null,"target sequence",{"$f":"$G$3","v":21121},{"$f":"$G$3","v":21121},{"$f":"$G$3","v":21121},{"$f":"$G$3","v":21121},{"$f":"$G$3","v":21121},{"$f":"$G$3","v":21121}]
[12,6323,13,6329,13,6336,14,6342,13,6351,0,11111,null,null,"total reinforcement",{"$f":"U25","v":1},{"$f":"Z25","v":0},{"$f":"AE25","v":1},{"$f":"AJ25","v":1},{"$f":"AO25","v":1},{"$f":"AT25","v":1}]
[12,6465,24,6472,13,6487,23,6498,13,6520,0,12121,null,null,"% target"]
[21,6618,22,6634,24,6641,23,6648,24,6655,0,22222,null,null,"CCRF"]
[21,6753,22,6758,13,6769,23,6776,13,6787,0,22121,null,null,"% CCRf"]
[21,6884,22,6918,13,6934,14,6964,24,6972,1,22112,null,null,"average response rate",{"$f":"J34/P44","v":149.53571428571428},{"$f":"(J61-J34)/Q44","v":152.77777777777777},{"$f":"(J89-J61)/R44","v":141.75},{"$f":"(J117-J89)/S44","v":141.46428571428572},{"$f":"(J144-J117)/T44","v":141.5185185185185},{"$f":"(J172-J144)/U44","v":139.07142857142858}]
[21,7072,11,7081,22,7089,23,7098,13,7112,0,21221]
[21,7223,11,7232,11,7250,21,7259,22,7295,0,21122]
[21,7395,11,7405,11,7422,21,7430,22,7437,0,21122]
[21,7543,22,7554,13,7563,23,7576,13,7587,0,22121]
[21,7684,22,7688,13,7698,23,7705,13,7715,0,22121]
[21,7817,11,7828,22,7835,23,7846,24,7852,0,21222]
[21,7955,11,7966,22,7974,14,8002,24,8010,0,21212]
[21,8114,22,8129,24,8139,23,8158,13,8168,0,22221]
[12,8283,24,8291,24,8298,23,8304,13,8312,0,12221]
[12,8430,24,8438,24,8443,23,8448,13,8469,1,12221]
[21,8561,11,8580,22,8597,14,8606,24,8619,0,21212]
[21,8719,22,8724,13,8732,14,8741,24,8764,0,22112]
[21,8863,22,8867,13,8874,14,8883,24,8891,0,22112]
[21,8997,11,9005,11,9021,12,9039,13,9060,0,21111]
[21,9166,22,9177,24,9182,14,9191,13,9199,0,22211]
[21,9307,22,9312,24,9319,14,9330,13,9338,0,22211]
[21,9455,11,9463,22,9471,14,9483,24,9495,1,21212]
[21,9589,11,9601,22,9610,14,9626,24,9637,0,21212]
[12,9764,24,9772,24,9782,23,9792,13,9800,0,12221]
[21,9898,11,9910,11,9922,12,9938,24,9945,0,21112]
[21,10051,11,10063,11,10073,21,10080,11,10095,1,21121]
[21,10200,11,10209,11,10218,12,10226,13,10232,1,21111]
[12,10349,13,10353,13,10359,14,10367,13,10374,1,11111]
[12,10466,13,10470,13,10473,14,10477,24,10492,0,11112]
[21,10589,11,10601,11,10608,12,10612,13,10617,0,21111]
[12,10714,13,10724,13,10733,14,10737,13,10741,1,11111]
[21,10837,22,10843,13,10852,23,10860,13,10877,0,22121]
[12,10976,13,10979,13,10983,14,10987,13,10991,0,11111]
[12,11088,13,11093,13,11096,14,11100,13,11103,0,11111]
[12,11213,24,11221,13,11228,14,11290,24,11298,1,12112]
[21,11401,11,11410,11,11418,12,11424,13,11430,0,21111]
[12,11541,13,11548,13,11554,14,11559,24,11574,0,11112]
[21,11679,11,11686,11,11694,12,11701,13,11719,0,21111]
[21,11818,11,11828,11,11849,21,11858,22,11866,0,21122]
[21,11965,11,11974,11,11981,12,11986,24,11999,0,21112]
[21,12100,11,12113,11,12120,12,12131,24,12139,0,21112]
[12,12252,13,12256,24,12264,23,12274,24,12281,0,11222]
[21,12381,11,12391,11,12398,12,12402,13,12407,0,21111]
[12,12516,13,12521,13,12525,14,12529,24,12541,0,11112]
[21,12640,11,12652,11,12658,12,12666,24,12684,0,21112]
[12,12799,13,12804,13,12809,23,12819,24,12827,1,11122]
[21,12923,11,12936,11,12949,12,12954,13,12977,0,21111]
[21,13076,11,13091,11,13096,21,13109,11,13117,1,21121]
[21,13221,22,13226,13,13233,14,13241,13,13245,0,22111]
[21,13345,11,13352,11,13376,12,13381,13,13385,0,21111]
[21,13484,22,13492,24,13497,14,13504,13,13511,0,22211]
[21,13611,11,13624,11,13631,12,13635,13,13639,0,21111]
[21,13750,11,13758,11,13765,12,13769,13,13773,0,21111]
[21,13886,22,13894,13,13901,14,13909,24,13931,1,22112]
[21,14029,22,14034,13,14050,14,14055,13,14059,0,22111]
[21,14159,22,14167,13,14174,14,14181,13,14185,0,22111]
[21,14303,22,14307,24,14313,23,14320,13,14334,0,22221]
[21,14437,11,14448,11,14456,12,14461,24,14483,0,21112]
[12,14594,13,14599,24,14617,23,14624,24,14630,1,11222]
[21,14742,11,14750,22,14758,14,14770,24,14804,0,21212]
[21,14904,11,14922,11,14930,12,14937,13,14942,1,21111]
[21,15035,11,15045,22,15062,23,15070,24,15078,0,21222]
[21,15184,22,15197,24,15204,14,15218,24,15252,0,22212]
[21,15375,11,15382,11,15389,12,15393,24,15409,0,21112]
[21,15510,22,15526,24,15531,23,15538,13,15549,0,22221]
[21,15649,22,15664,24,15671,23,15680,13,15696,1,22221]
[21,15796,22,15801,13,15809,14,15814,24,15829,1,22112]
[21,15927,11,15939,11,15943,12,15947,24,15961,0,21112]
[21,16072,22,16077,13,16089,23,16111,24,16117,0,22122]
[21,16215,22,16219,13,16232,14,16239,13,16242,0,22111]
[21,16346,11,16360,11,16367,12,16371,13,16375,1,21111]
[21,16467,22,16477,24,16483,23,16495,24,16511,1,22222]
[12,16607,13,16611,24,16621,23,16628,24,16635,0,11222]
[21,16746,11,16756,11,16764,12,16768,13,16779,0,21111]
[21,16881,11,16890,11,16894,12,16901,13,16905,0,21111]
[21,17027,11,17035,11,17040,12,17045,13,17051,0,21111]
[21,17153,22,17168,24,17172,23,17179,24,17187,0,22222]
[21,17324,22,17335,24,17345,14,17357,24,17392,0,22212]
[21,17496,11,17507,22,17519,23,17527,24,17537,1,21222]
[21,17634,11,17644,11,17651,12,17655,24,17677,0,21112]
[21,17781,11,17796,11,17802,12,17807,24,17841,0,21112]
[21,17943,11,17952,11,17967,12,17972,13,17975,0,21111]
[21,18075,22,18092,24,18096,14,18108,13,18115,0,22211]
[21,18217,11,18227,22,18245,23,18253,13,18263,0,21221]
[21,18368,11,18377,11,18385,12,18389,13,18397,0,21111]
[21,18494,11,18506,11,18513,12,18517,13,18521,0,21111]
[21,18622,22,18627,24,18636,23,18649,13,18659,1,22221]
[21,18756,11,18766,11,18773,12,18777,13,18781,1,21111]
[12,18885,13,18891,24,18899,23,18915,13,18928,0,11221]
[21,19031,11,19040,11,19046,12,19050,13,19054,0,21111]
[21,19154,11,19165,22,19176,23,19183,24,19191,0,21222]
[21,19290,22,19297,13,19304,14,19311,13,19314,1,22111]
[21,19416,11,19431,11,19434,21,19463,22,19473,0,21122]
[21,19571,11,19581,11,19586,12,19590,24,19598,0,21112]
[21,19695,11,19714,11,19721,21,19745,22,19751,0,21122]
[21,19855,11,19871,11,19878,12,19884,24,19896,1,21112]
[21,19988,11,20006,11,20013,21,20030,11,20063,1,21121]
[21,20164,11,20174,11,20181,12,20194,13,20204,0,21111]
[21,20304,11,20315,11,20319,12,20325,24,20358,0,21112]
[21,20463,22,20483,13,20493,14,20499,13,20522,0,22111]
[21,20626,11,20639,11,20643,21,20651,11,20664,1,21121]
[21,20756,11,20767,11,20774,12,20781,13,20785,0,21111]
[21,20891,11,20900,11,20905,12,20909,13,20922,0,21111]
[21,21030,11,21039,11,21043,12,21047,13,21057,1,21111]
[21,21150,11,21159,11,21164,12,21168,13,21175,0,21111]
[21,21279,11,21289,11,21293,12,21297,24,21305,0,21112]
[21,21402,11,21409,11,21421,12,21429,13,21433,0,21111]
[21,21534,11,21541,11,21545,12,21549,13,21561,1,21111]
[21,21654,22,21668,13,21677,14,21681,13,21692,0,22111]
[21,21800,11,21814,11,21820,12,21829,24,21843,0,21112]
[21,21949,22,21954,13,21968,14,21973,13,21980,0,22111]
[12,22091,13,22096,13,22105,23,22137,24,22145,0,11122]
[21,22243,22,22252,24,22257,23,22263,24,22273,0,22222]
[21,22379,11,22386,11,22403,12,22407,24,22430,0,21112]
[12,22543,13,22560,13,22581,14,22586,24,22599,0,11112]
[12,22709,13,22716,24,22744,23,22748,24,22758,0,11222]
[12,22876,13,22880,13,22899,14,22904,13,22908,0,11111]
[21,23010,22,23018,24,23026,14,23038,13,23044,1,22211]
[21,23138,11,23148,11,23152,12,23156,24,23167,0,21112]
[21,23265,22,23280,13,23290,14,23296,13,23300,0,22111]
[21,23402,22,23408,24,23416,14,23426,13,23431,1,22211]
[21,23523,11,23536,11,23540,12,23550,13,23556,0,21111]
[21,23662,11,23669,11,23680,12,23687,13,23701,0,21111]
[21,23801,11,23814,11,23817,12,23825,13,23829,0,21111]
[21,23930,11,23940,11,23945,12,23949,13,23957,null,21111]

{"sheet":"!N402950.000","index":8,"n_rows":168,"n_cols":48,"rows_kept":168,"cut":false,"hidden":false,"merged":[[4,39,4,42],[5,39,5,40],[4,44,4,47],[5,44,5,45],[4,24,4,27],[5,24,5,25],[4,29,4,32],[5,29,5,30],[4,34,4,37],[5,34,5,35],[1,1,1,2],[5,13,5,14],[42,13,42,14],[43,13,43,14],[4,19,4,22],[5,19,5,20]]}
["Report for:!N402950.000"]
["Date:","<date>"]
["Hen:","<hen>",null,null,null,"Correct Sequence",{"$f":"Start!J2","v":21121},null,null,null,null,null,null,null,null,"Total Sequences in Data",{"$f":"4994-COUNTBLANK(L7:L5000)","v":162},null,null,null,null,"Total Sequences in Block Data",{"$f":"COUNTA(L7:L33)","v":27},null,null,null,"Total Sequences in Block Data",{"$f":"COUNTA(L34:L60)","v":27},null,null,null,"Total Sequences in Block Data",{"$f":"COUNTA(L61:L87)","v":27},null,null,null,"Total Sequences in Block Data",{"$f":"COUNTA(L88:L114)","v":27},null,null,null,"Total Sequences in Block Data",{"$f":"COUNTA(L115:L141)","v":27},null,null,null,"Total Sequences in Block Data",{"$f":"COUNTA(L142:L168)","v":27}]
[null,null,null,null,null,null,null,null,null,null,null,null,null,null,null,"Total Sequences in Summary",{"$f":"SUM(O7:O38)","v":162},null,null,null,null,"Total Sequences in Block Summary",{"$f":"SUM(U7:U38)","v":27},null,null,null,"Total Sequences in Block Summary",{"$f":"SUM(Z7:Z38)","v":27},null,null,null,"Total Sequences in Block Summary",{"$f":"SUM(AE7:AE38)","v":27},null,null,null,"Total Sequences in Block Summary",{"$f":"SUM(AJ7:AJ38)","v":27},null,null,null,"Total Sequences in Block Summary",{"$f":"SUM(AO7:AO38)","v":27},null,null,null,"Total Sequences in Block Summary",{"$f":"SUM(AT7:AT38)","v":27}]
[null,null,null,null,null,null,null,null,null,null,null,null,null,null,null,null,null,null,null,"Block 1",null,null,null,null,"Block 2",null,null,null,null,"Block 3",null,null,null,null,"Block 4",null,null,null,null,"Block 5",null,null,null,null,"Block 6"]
["Sequence\nComponent\n1","Time\n1","Sequence\nComponent\n2","Time\n2","Sequence\nComponent\n3","Time\n3","Sequence\nComponent\n4","Time\n4","Sequence\nComponent\n5","Time\n5","Correct?\n0=No 1=Yes","Sequence",null,"Frequency",null,"Relative Frequency","Variability",null,null,"Frequency",null,"Relative Frequency","Variability",null,"Frequency",null,"Relative Frequency","Variability",null,"Frequency",null,"Relative Frequency","Variability",null,"Frequency",null,"Relative Frequency","Variability",null,"Frequency",null,"Relative Frequency","Variability",null,"Frequency",null,"Relative Frequency","Variability"]
[12,12,13,17,13,22,14,27,13,32,0,11111,null,11111,{"$f":"COUNTIF($L$7:$L$500,N7)","v":20},{"$f":"O7/$Q$4","v":0.12345679012345678},{"$f":"IF(P7=0,0,(P7*((LOG(P7))/LOG(2))))","v":-0.37258295160460025},null,null,{"$f":"N7","v":11111},{"$f":"COUNTIF(L7:L33,T7)","v":6},{"$f":"U7/(W4-U25)","v":0.22222222222222221},{"$f":"IF(V7=0,0,(V7*((LOG(V7))/LOG(2))))","v":-0.48220555587606945},null,{"$f":"N7","v":11111},{"$f":"COUNTIF(L34:L60,Y7)","v":2},{"$f":"Z7/(AB4-Z25)","v":7.6923076923076927E-2},{"$f":"IF(AA7=0,0,(AA7*((LOG(AA7))/LOG(2))))","v":-0.28464920908777636},null,{"$f":"N7","v":11111},{"$f":"COUNTIF(L61:L87,AD7)","v":0},{"$f":"AE7/(AG4-AE25)","v":0},{"$f":"IF(AF7=0,0,(AF7*((LOG(AF7))/LOG(2))))","v":0},null,{"$f":"N7","v":11111},{"$f":"COUNTIF(L88:L114,AI7)","v":1},{"$f":"AJ7/(AL4-AJ25)","v":3.7037037037037035E-2},{"$f":"IF(AK7=0,0,(AK7*((LOG(AK7))/LOG(2))))","v":-0.1761069445245729},null,{"$f":"N7","v":11111},{"$f":"COUNTIF(L115:L141,AN7)","v":4},{"$f":"AO7/(AQ4-AO25)","v":0.14814814814814814},{"$f":"IF(AP7=0,0,(AP7*((LOG(AP7))/LOG(2))))","v":-0.40813148180199532},null,{"$f":"N7","v":11111},{"$f":"COUNTIF(L142:L168,AS7)","v":7},{"$f":"AT7/(AV4-AT25)","v":0.25925925925925924},{"$f":"IF(AU7=0,0,(AU7*((LOG(AU7))/LOG(2))))","v":-0.5049158541015204}]
[12,151,13,155,13,159,14,163,13,170,0,11111,null,11112,{"$f":"COUNTIF($L$7:$L$500,N8)","v":6},{"$f":"O8/$Q$4","v":3.7037037037037035E-2},{"$f":"IF(P8=0,0,(P8*((LOG(P8))/LOG(2))))","v":-0.1761069445245729},null,null,{"$f":"N8","v":11112},{"$f":"COUNTIF(L7:L33,T8)","v":0},{"$f":"U8/(W4-U25)","v":0},{"$f":"IF(V8=0,0,(V8*((LOG(V8))/LOG(2))))","v":0},null,{"$f":"N8","v":11112},{"$f":"COUNTIF(L34:L60,Y8)","v":0},{"$f":"Z8/(AB4-Z25)","v":0},{"$f":"IF(AA8=0,0,(AA8*((LOG(AA8))/LOG(2))))","v":0},null,{"$f":"N8","v":11112},{"$f":"COUNTIF(L61:L87,AD8)","v":0},{"$f":"AE8/(AG4-AE25)","v":0},{"$f":"IF(AF8=0,0,(AF8*((LOG(AF8))/LOG(2))))","v":0},null,{"$f":"N8","v":11112},{"$f":"COUNTIF(L88:L114,AI8)","v":0},{"$f":"AJ8/(AL4-AJ25)","v":0},{"$f":"IF(AK8=0,0,(AK8*((LOG(AK8))/LOG(2))))","v":0},null,{"$f":"N8","v":11112},{"$f":"COUNTIF(L115:L141,AN8)","v":4},{"$f":"AO8/(AQ4-AO25)","v":0.14814814814814814},{"$f":"IF(AP8=0,0,(AP8*((LOG(AP8))/LOG(2))))","v":-0.40813148180199532},null,{"$f":"N8","v":11112},{"$f":"COUNTIF(L142:L168,AS8)","v":2},{"$f":"AT8/(AV4-AT25)","v":7.407407407407407E-2},{"$f":"IF(AU8=0,0,(AU8*((LOG(AU8))/LOG(2))))","v":-0.27813981497507173}]
[21,269,11,280,11,284,12,288,13,295,1,21111,null,11121,{"$f":"COUNTIF($L$7:$L$500,N9)","v":1},{"$f":"O9/$Q$4","v":6.1728395061728392E-3},{"$f":"IF(P9=0,0,(P9*((LOG(P9))/LOG(2))))","v":-4.5307716067189037E-2},null,null,{"$f":"N9","v":11121},{"$f":"COUNTIF(L7:L33,T9)","v":0},{"$f":"U9/(W4-U25)","v":0},{"$f":"IF(V9=0,0,(V9*((LOG(V9))/LOG(2))))","v":0},null,{"$f":"N9","v":11121},{"$f":"COUNTIF(L34:L60,Y9)","v":0},{"$f":"Z9/(AB4-Z25)","v":0},{"$f":"IF(AA9=0,0,(AA9*((LOG(AA9))/LOG(2))))","v":0},null,{"$f":"N9","v":11121},{"$f":"COUNTIF(L61:L87,AD9)","v":0},{"$f":"AE9/(AG4-AE25)","v":0},{"$f":"IF(AF9=0,0,(AF9*((LOG(AF9))/LOG(2))))","v":0},null,{"$f":"N9","v":11121},{"$f":"COUNTIF(L88:L114,AI9)","v":1},{"$f":"AJ9/(AL4-AJ25)","v":3.7037037037037035E-2},{"$f":"IF(AK9=0,0,(AK9*((LOG(AK9))/LOG(2))))","v":-0.1761069445245729},null,{"$f":"N9","v":11121},{"$f":"COUNTIF(L115:L141,AN9)","v":0},{"$f":"AO9/(AQ4-AO25)","v":0},{"$f":"IF(AP9=0,0,(AP9*((LOG(AP9))/LOG(2))))","v":0},null,{"$f":"N9","v":11121},{"$f":"COUNTIF(L142:L168,AS9)","v":0},{"$f":"AT9/(AV4-AT25)","v":0},{"$f":"IF(AU9=0,0,(AU9*((LOG(AU9))/LOG(2))))","v":0}]
[12,389,13,393,13,402,14,406,13,411,0,11111,null,11122,{"$f":"COUNTIF($L$7:$L$500,N10)","v":3},{"$f":"O10/$Q$4","v":1.8518518518518517E-2},{"$f":"IF(P10=0,0,(P10*((LOG(P10))/LOG(2))))","v":-0.10657199078080498},null,null,{"$f":"N10","v":11122},{"$f":"COUNTIF(L7:L33,T10)","v":0},{"$f":"U10/(W4-U25)","v":0},{"$f":"IF(V10=0,0,(V10*((LOG(V10))/LOG(2))))","v":0},null,{"$f":"N10","v":11122},{"$f":"COUNTIF(L34:L60,Y10)","v":0},{"$f":"Z10/(AB4-Z25)","v":0},{"$f":"IF(AA10=0,0,(AA10*((LOG(AA10))/LOG(2))))","v":0},null,{"$f":"N10","v":11122},{"$f":"COUNTIF(L61:L87,AD10)","v":0},{"$f":"AE10/(AG4-AE25)","v":0},{"$f":"IF(AF10=0,0,(AF10*((LOG(AF10))/LOG(2))))","v":0},null,{"$f":"N10","v":11122},{"$f":"COUNTIF(L88:L114,AI10)","v":0},{"$f":"AJ10/(AL4-AJ25)","v":0},{"$f":"IF(AK10=0,0,(AK10*((LOG(AK10))/LOG(2))))","v":0},null,{"$f":"N10","v":11122},{"$f":"COUNTIF(L115:L141,AN10)","v":2},{"$f":"AO10/(AQ4-AO25)","v":7.407407407407407E-2},{"$f":"IF(AP10=0,0,(AP10*((LOG(AP10))/LOG(2))))","v":-0.27813981497507173},null,{"$f":"N10","v":11122},{"$f":"COUNTIF(L142:L168,AS10)","v":1},{"$f":"AT10/(AV4-AT25)","v":3.7037037037037035E-2},{"$f":"IF(AU10=0,0,(AU10*((LOG(AU10))/LOG(2))))","v":-0.1761069445245729}]
[21,522,22,528,13,538,14,543,13,554,0,22111,null,11211,{"$f":"COUNTIF($L$7:$L$500,N11)","v":0},{"$f":"O11/$Q$4","v":0},{"$f":"IF(P11=0,0,(P11*((LOG(P11))/LOG(2))))","v":0},null,null,{"$f":"N11","v":11211},{"$f":"COUNTIF(L7:L33,T11)","v":0},{"$f":"U11/(W4-U25)","v":0},{"$f":"IF(V11=0,0,(V11*((LOG(V11))/LOG(2))))","v":0},null,{"$f":"N11","v":11211},{"$f":"COUNTIF(L34:L60,Y11)","v":0},{"$f":"Z11/(AB4-Z25)","v":0},{"$f":"IF(AA11=0,0,(AA11*((LOG(AA11))/LOG(2))))","v":0},null,{"$f":"N11","v":11211},{"$f":"COUNTIF(L61:L87,AD11)","v":0},{"$f":"AE11/(AG4-AE25)","v":0},{"$f":"IF(AF11=0,0,(AF11*((LOG(AF11))/LOG(2))))","v":0},null,{"$f":"N11","v":11211},{"$f":"COUNTIF(L88:L114,AI11)","v":0},{"$f":"AJ11/(AL4-AJ25)","v":0},{"$f":"IF(AK11=0,0,(AK11*((LOG(AK11))/LOG(2))))","v":0},null,{"$f":"N11","v":11211},{"$f":"COUNTIF(L115:L141,AN11)","v":0},{"$f":"AO11/(AQ4-AO25)","v":0},{"$f":"IF(AP11=0,0,(AP11*((LOG(AP11))/LOG(2))))","v":0},null,{"$f":"N11","v":11211},{"$f":"COUNTIF(L142:L168,AS11)","v":0},{"$f":"AT11/(AV4-AT25)","v":0},{"$f":"IF(AU11=0,0,(AU11*((LOG(AU11))/LOG(2))))","v":0}]
[12,663,13,667,13,671,14,675,13,684,0,11111,null,11212,{"$f":"COUNTIF($L$7:$L$500,N12)","v":0},{"$f":"O12/$Q$4","v":0},{"$f":"IF(P12=0,0,(P12*((LOG(P12))/LOG(2))))","v":0},null,null,{"$f":"N12","v":11212},{"$f":"COUNTIF(L7:L33,T12)","v":0},{"$f":"U12/(W4-U25)","v":0},{"$f":"IF(V12=0,0,(V12*((LOG(V12))/LOG(2))))","v":0},null,{"$f":"N12","v":11212},{"$f":"COUNTIF(L34:L60,Y12)","v":0},{"$f":"Z12/(AB4-Z25)","v":0},{"$f":"IF(AA12=0,0,(AA12*((LOG(AA12))/LOG(2))))","v":0},null,{"$f":"N12","v":11212},{"$f":"COUNTIF(L61:L87,AD12)","v":0},{"$f":"AE12/(AG4-AE25)","v":0},{"$f":"IF(AF12=0,0,(AF12*((LOG(AF12))/LOG(2))))","v":0},null,{"$f":"N12","v":11212},{"$f":"COUNTIF(L88:L114,AI12)","v":0},{"$f":"AJ12/(AL4-AJ25)","v":0},{"$f":"IF(AK12=0,0,(AK12*((LOG(AK12))/LOG(2))))","v":0},null,{"$f":"N12","v":11212},{"$f":"COUNTIF(L115:L141,AN12)","v":0},{"$f":"AO12/(AQ4-AO25)","v":0},{"$f":"IF(AP12=0,0,(AP12*((LOG(AP12))/LOG(2))))","v":0},null,{"$f":"N12","v":11212},{"$f":"COUNTIF(L142:L168,AS12)","v":0},{"$f":"AT12/(AV4-AT25)","v":0},{"$f":"IF(AU12=0,0,(AU12*((LOG(AU12))/LOG(2))))","v":0}]
[21,787,11,797,11,801,12,806,13,813,1,21111,null,11221,{"$f":"COUNTIF($L$7:$L$500,N13)","v":2},{"$f":"O13/$Q$4","v":1.2345679012345678E-2},{"$f":"IF(P13=0,0,(P13*((LOG(P13))/LOG(2))))","v":-7.8269753122032396E-2},null,null,{"$f":"N13","v":11221},{"$f":"COUNTIF(L7:L33,T13)","v":0},{"$f":"U13/(W4-U25)","v":0},{"$f":"IF(V13=0,0,(V13*((LOG(V13))/LOG(2))))","v":0},null,{"$f":"N13","v":11221},{"$f":"COUNTIF(L34:L60,Y13)","v":0},{"$f":"Z13/(AB4-Z25)","v":0},{"$f":"IF(AA13=0,0,(AA13*((LOG(AA13))/LOG(2))))","v":0},null,{"$f":"N13","v":11221},{"$f":"COUNTIF(L61:L87,AD13)","v":0},{"$f":"AE13/(AG4-AE25)","v":0},{"$f":"IF(AF13=0,0,(AF13*((LOG(AF13))/LOG(2))))","v":0},null,{"$f":"N13","v":11221},{"$f":"COUNTIF(L88:L114,AI13)","v":0},{"$f":"AJ13/(AL4-AJ25)","v":0},{"$f":"IF(AK13=0,0,(AK13*((LOG(AK13))/LOG(2))))","v":0},null,{"$f":"N13","v":11221},{"$f":"COUNTIF(L115:L141,AN13)","v":1},{"$f":"AO13/(AQ4-AO25)","v":3.7037037037037035E-2},{"$f":"IF(AP13=0,0,(AP13*((LOG(AP13))/LOG(2))))","v":-0.1761069445245729},null,{"$f":"N13","v":11221},{"$f":"COUNTIF(L142:L168,AS13)","v":1},{"$f":"AT13/(AV4-AT25)","v":3.7037037037037035E-2},{"$f":"IF(AU13=0,0,(AU13*((LOG(AU13))/LOG(2))))","v":-0.1761069445245729}]
[12,925,13,930,13,955,14,961,13,969,0,11111,null,11222,{"$f":"COUNTIF($L$7:$L$500,N14)","v":1},{"$f":"O14/$Q$4","v":6.1728395061728392E-3},{"$f":"IF(P14=0,0,(P14*((LOG(P14))/LOG(2))))","v":-4.5307716067189037E-2},null,null,{"$f":"N14","v":11222},{"$f":"COUNTIF(L7:L33,T14)","v":0},{"$f":"U14/(W4-U25)","v":0},{"$f":"IF(V14=0,0,(V14*((LOG(V14))/LOG(2))))","v":0},null,{"$f":"N14","v":11222},{"$f":"COUNTIF(L34:L60,Y14)","v":0},{"$f":"Z14/(AB4-Z25)","v":0},{"$f":"IF(AA14=0,0,(AA14*((LOG(AA14))/LOG(2))))","v":0},null,{"$f":"N14","v":11222},{"$f":"COUNTIF(L61:L87,AD14)","v":0},{"$f":"AE14/(AG4-AE25)","v":0},{"$f":"IF(AF14=0,0,(AF14*((LOG(AF14))/LOG(2))))","v":0},null,{"$f":"N14","v":11222},{"$f":"COUNTIF(L88:L114,AI14)","v":1},{"$f":"AJ14/(AL4-AJ25)","v":3.7037037037037035E-2},{"$f":"IF(AK14=0,0,(AK14*((LOG(AK14))/LOG(2))))","v":-0.1761069445245729},null,{"$f":"N14","v":11222},{"$f":"COUNTIF(L115:L141,AN14)","v":0},{"$f":"AO14/(AQ4-AO25)","v":0},{"$f":"IF(AP14=0,0,(AP14*((LOG(AP14))/LOG(2))))","v":0},null,{"$f":"N14","v":11222},{"$f":"COUNTIF(L142:L168,AS14)","v":0},{"$f":"AT14/(AV4-AT25)","v":0},{"$f":"IF(AU14=0,0,(AU14*((LOG(AU14))/LOG(2))))","v":0}]
[21,1067,22,1073,24,1092,14,1111,13,1117,0,22211,null,12111,{"$f":"COUNTIF($L$7:$L$500,N15)","v":3},{"$f":"O15/$Q$4","v":1.8518518518518517E-2},{"$f":"IF(P15=0,0,(P15*((LOG(P15))/LOG(2))))","v":-0.10657199078080498},null,null,{"$f":"N15","v":12111},{"$f":"COUNTIF(L7:L33,T15)","v":0},{"$f":"U15/(W4-U25)","v":0},{"$f":"IF(V15=0,0,(V15*((LOG(V15))/LOG(2))))","v":0},null,{"$f":"N15","v":12111},{"$f":"COUNTIF(L34:L60,Y15)","v":0},{"$f":"Z15/(AB4-Z25)","v":0},{"$f":"IF(AA15=0,0,(AA15*((LOG(AA15))/LOG(2))))","v":0},null,{"$f":"N15","v":12111},{"$f":"COUNTIF(L61:L87,AD15)","v":0},{"$f":"AE15/(AG4-AE25)","v":0},{"$f":"IF(AF15=0,0,(AF15*((LOG(AF15))/LOG(2))))","v":0},null,{"$f":"N15","v":12111},{"$f":"COUNTIF(L88:L114,AI15)","v":2},{"$f":"AJ15/(AL4-AJ25)","v":7.407407407407407E-2},{"$f":"IF(AK15=0,0,(AK15*((LOG(AK15))/LOG(2))))","v":-0.27813981497507173},null,{"$f":"N15","v":12111},{"$f":"COUNTIF(L115:L141,AN15)","v":1},{"$f":"AO15/(AQ4-AO25)","v":3.7037037037037035E-2},{"$f":"IF(AP15=0,0,(AP15*((LOG(AP15))/LOG(2))))","v":-0.1761069445245729},null,{"$f":"N15","v":12111},{"$f":"COUNTIF(L142:L168,AS15)","v":0},{"$f":"AT15/(AV4-AT25)","v":0},{"$f":"IF(AU15=0,0,(AU15*((LOG(AU15))/LOG(2))))","v":0}]
[21,1226,11,1246,11,1250,12,1255,13,1266,0,21111,null,12112,{"$f":"COUNTIF($L$7:$L$500,N16)","v":0},{"$f":"O16/$Q$4","v":0},{"$f":"IF(P16=0,0,(P16*((LOG(P16))/LOG(2))))","v":0},null,null,{"$f":"N16","v":12112},{"$f":"COUNTIF(L7:L33,T16)","v":0},{"$f":"U16/(W4-U25)","v":0},{"$f":"IF(V16=0,0,(V16*((LOG(V16))/LOG(2))))","v":0},null,{"$f":"N16","v":12112},{"$f":"COUNTIF(L34:L60,Y16)","v":0},{"$f":"Z16/(AB4-Z25)","v":0},{"$f":"IF(AA16=0,0,(AA16*((LOG(AA16))/LOG(2))))","v":0},null,{"$f":"N16","v":12112},{"$f":"COUNTIF(L61:L87,AD16)","v":0},{"$f":"AE16/(AG4-AE25)","v":0},{"$f":"IF(AF16=0,0,(AF16*((LOG(AF16))/LOG(2))))","v":0},null,{"$f":"N16","v":12112},{"$f":"COUNTIF(L88:L114,AI16)","v":0},{"$f":"AJ16/(AL4-AJ25)","v":0},{"$f":"IF(AK16=0,0,(AK16*((LOG(AK16))/LOG(2))))","v":0},null,{"$f":"N16","v":12112},{"$f":"COUNTIF(L115:L141,AN16)","v":0},{"$f":"AO16/(AQ4-AO25)","v":0},{"$f":"IF(AP16=0,0,(AP16*((LOG(AP16))/LOG(2))))","v":0},null,{"$f":"N16","v":12112},{"$f":"COUNTIF(L142:L168,AS16)","v":0},{"$f":"AT16/(AV4-AT25)","v":0},{"$f":"IF(AU16=0,0,(AU16*((LOG(AU16))/LOG(2))))","v":0}]
[12,1392,13,1400,13,1407,14,1417,13,1425,0,11111,null,12121,{"$f":"COUNTIF($L$7:$L$500,N17)","v":0},{"$f":"O17/$Q$4","v":0},{"$f":"IF(P17=0,0,(P17*((LOG(P17))/LOG(2))))","v":0},null,null,{"$f":"N17","v":12121},{"$f":"COUNTIF(L7:L33,T17)","v":0},{"$f":"U17/(W4-U25)","v":0},{"$f":"IF(V17=0,0,(V17*((LOG(V17))/LOG(2))))","v":0},null,{"$f":"N17","v":12121},{"$f":"COUNTIF(L34:L60,Y17)","v":0},{"$f":"Z17/(AB4-Z25)","v":0},{"$f":"IF(AA17=0,0,(AA17*((LOG(AA17))/LOG(2))))","v":0},null,{"$f":"N17","v":12121},{"$f":"COUNTIF(L61:L87,AD17)","v":0},{"$f":"AE17/(AG4-AE25)","v":0},{"$f":"IF(AF17=0,0,(AF17*((LOG(AF17))/LOG(2))))","v":0},null,{"$f":"N17","v":12121},{"$f":"COUNTIF(L88:L114,AI17)","v":0},{"$f":"AJ17/(AL4-AJ25)","v":0},{"$f":"IF(AK17=0,0,(AK17*((LOG(AK17))/LOG(2))))","v":0},null,{"$f":"N17","v":12121},{"$f":"COUNTIF(L115:L141,AN17)","v":0},{"$f":"AO17/(AQ4-AO25)","v":0},{"$f":"IF(AP17=0,0,(AP17*((LOG(AP17))/LOG(2))))","v":0},null,{"$f":"N17","v":12121},{"$f":"COUNTIF(L142:L168,AS17)","v":0},{"$f":"AT17/(AV4-AT25)","v":0},{"$f":"IF(AU17=0,0,(AU17*((LOG(AU17))/LOG(2))))","v":0}]
[21,1528,22,1550,13,1561,14,1571,13,1581,0,22111,null,12122,{"$f":"COUNTIF($L$7:$L$500,N18)","v":0},{"$f":"O18/$Q$4","v":0},{"$f":"IF(P18=0,0,(P18*((LOG(P18))/LOG(2))))","v":0},null,null,{"$f":"N18","v":12122},{"$f":"COUNTIF(L7:L33,T18)","v":0},{"$f":"U18/(W4-U25)","v":0},{"$f":"IF(V18=0,0,(V18*((LOG(V18))/LOG(2))))","v":0},null,{"$f":"N18","v":12122},{"$f":"COUNTIF(L34:L60,Y18)","v":0},{"$f":"Z18/(AB4-Z25)","v":0},{"$f":"IF(AA18=0,0,(AA18*((LOG(AA18))/LOG(2))))","v":0},null,{"$f":"N18","v":12122},{"$f":"COUNTIF(L61:L87,AD18)","v":0},{"$f":"AE18/(AG4-AE25)","v":0},{"$f":"IF(AF18=0,0,(AF18*((LOG(AF18))/LOG(2))))","v":0},null,{"$f":"N18","v":12122},{"$f":"COUNTIF(L88:L114,AI18)","v":0},{"$f":"AJ18/(AL4-AJ25)","v":0},{"$f":"IF(AK18=0,0,(AK18*((LOG(AK18))/LOG(2))))","v":0},null,{"$f":"N18","v":12122},{"$f":"COUNTIF(L115:L141,AN18)","v":0},{"$f":"AO18/(AQ4-AO25)","v":0},{"$f":"IF(AP18=0,0,(AP18*((LOG(AP18))/LOG(2))))","v":0},null,{"$f":"N18","v":12122},{"$f":"COUNTIF(L142:L168,AS18)","v":0},{"$f":"AT18/(AV4-AT25)","v":0},{"$f":"IF(AU18=0,0,(AU18*((LOG(AU18))/LOG(2))))","v":0}]
[21,1690,22,1709,24,1733,23,1743,13,1753,1,22221,null,12211,{"$f":"COUNTIF($L$7:$L$500,N19)","v":2},{"$f":"O19/$Q$4","v":1.2345679012345678E-2},{"$f":"IF(P19=0,0,(P19*((LOG(P19))/LOG(2))))","v":-7.8269753122032396E-2},null,null,{"$f":"N19","v":12211},{"$f":"COUNTIF(L7:L33,T19)","v":0},{"$f":"U19/(W4-U25)","v":0},{"$f":"IF(V19=0,0,(V19*((LOG(V19))/LOG(2))))","v":0},null,{"$f":"N19","v":12211},{"$f":"COUNTIF(L34:L60,Y19)","v":0},{"$f":"Z19/(AB4-Z25)","v":0},{"$f":"IF(AA19=0,0,(AA19*((LOG(AA19))/LOG(2))))","v":0},null,{"$f":"N19","v":12211},{"$f":"COUNTIF(L61:L87,AD19)","v":0},{"$f":"AE19/(AG4-AE25)","v":0},{"$f":"IF(AF19=0,0,(AF19*((LOG(AF19))/LOG(2))))","v":0},null,{"$f":"N19","v":12211},{"$f":"COUNTIF(L88:L114,AI19)","v":0},{"$f":"AJ19/(AL4-AJ25)","v":0},{"$f":"IF(AK19=0,0,(AK19*((LOG(AK19))/LOG(2))))","v":0},null,{"$f":"N19","v":12211},{"$f":"COUNTIF(L115:L141,AN19)","v":0},{"$f":"AO19/(AQ4-AO25)","v":0},{"$f":"IF(AP19=0,0,(AP19*((LOG(AP19))/LOG(2))))","v":0},null,{"$f":"N19","v":12211},{"$f":"COUNTIF(L142:L168,AS19)","v":2},{"$f":"AT19/(AV4-AT25)","v":7.407407407407407E-2},{"$f":"IF(AU19=0,0,(AU19*((LOG(AU19))/LOG(2))))","v":-0.27813981497507173}]
[21,1877,22,1882,13,1891,14,1898,13,1908,0,22111,null,12212,{"$f":"COUNTIF($L$7:$L$500,N20)","v":0},{"$f":"O20/$Q$4","v":0},{"$f":"IF(P20=0,0,(P20*((LOG(P20))/LOG(2))))","v":0},null,null,{"$f":"N20","v":12212},{"$f":"COUNTIF(L7:L33,T20)","v":0},{"$f":"U20/(W4-U25)","v":0},{"$f":"IF(V20=0,0,(V20*((LOG(V20))/LOG(2))))","v":0},null,{"$f":"N20","v":12212},{"$f":"COUNTIF(L34:L60,Y20)","v":0},{"$f":"Z20/(AB4-Z25)","v":0},{"$f":"IF(AA20=0,0,(AA20*((LOG(AA20))/LOG(2))))","v":0},null,{"$f":"N20","v":12212},{"$f":"COUNTIF(L61:L87,AD20)","v":0},{"$f":"AE20/(AG4-AE25)","v":0},{"$f":"IF(AF20=0,0,(AF20*((LOG(AF20))/LOG(2))))","v":0},null,{"$f":"N20","v":12212},{"$f":"COUNTIF(L88:L114,AI20)","v":0},{"$f":"AJ20/(AL4-AJ25)","v":0},{"$f":"IF(AK20=0,0,(AK20*((LOG(AK20))/LOG(2))))","v":0},null,{"$f":"N20","v":12212},{"$f":"COUNTIF(L115:L141,AN20)","v":0},{"$f":"AO20/(AQ4-AO25)","v":0},{"$f":"IF(AP20=0,0,(AP20*((LOG(AP20))/LOG(2))))","v":0},null,{"$f":"N20","v":12212},{"$f":"COUNTIF(L142:L168,AS20)","v":0},{"$f":"AT20/(AV4-AT25)","v":0},{"$f":"IF(AU20=0,0,(AU20*((LOG(AU20))/LOG(2))))","v":0}]
[21,2011,22,2024,24,2029,14,2040,13,2045,0,22211,null,12221,{"$f":"COUNTIF($L$7:$L$500,N21)","v":0},{"$f":"O21/$Q$4","v":0},{"$f":"IF(P21=0,0,(P21*((LOG(P21))/LOG(2))))","v":0},null,null,{"$f":"N21","v":12221},{"$f":"COUNTIF(L7:L33,T21)","v":0},{"$f":"U21/(W4-U25)","v":0},{"$f":"IF(V21=0,0,(V21*((LOG(V21))/LOG(2))))","v":0},null,{"$f":"N21","v":12221},{"$f":"COUNTIF(L34:L60,Y21)","v":0},{"$f":"Z21/(AB4-Z25)","v":0},{"$f":"IF(AA21=0,0,(AA21*((LOG(AA21))/LOG(2))))","v":0},null,{"$f":"N21","v":12221},{"$f":"COUNTIF(L61:L87,AD21)","v":0},{"$f":"AE21/(AG4-AE25)","v":0},{"$f":"IF(AF21=0,0,(AF21*((LOG(AF21))/LOG(2))))","v":0},null,{"$f":"N21","v":12221},{"$f":"COUNTIF(L88:L114,AI21)","v":0},{"$f":"AJ21/(AL4-AJ25)","v":0},{"$f":"IF(AK21=0,0,(AK21*((LOG(AK21))/LOG(2))))","v":0},null,{"$f":"N21","v":12221},{"$f":"COUNTIF(L115:L141,AN21)","v":0},{"$f":"AO21/(AQ4-AO25)","v":0},{"$f":"IF(AP21=0,0,(AP21*((LOG(AP21))/LOG(2))))","v":0},null,{"$f":"N21","v":12221},{"$f":"COUNTIF(L142:L168,AS21)","v":0},{"$f":"AT21/(AV4-AT25)","v":0},{"$f":"IF(AU21=0,0,(AU21*((LOG(AU21))/LOG(2))))","v":0}]
[21,2148,11,2160,22,2172,14,2208,24,2231,1,21212,null,12222,{"$f":"COUNTIF($L$7:$L$500,N22)","v":0},{"$f":"O22/$Q$4","v":0},{"$f":"IF(P22=0,0,(P22*((LOG(P22))/LOG(2))))","v":0},null,null,{"$f":"N22","v":12222},{"$f":"COUNTIF(L7:L33,T22)","v":0},{"$f":"U22/(W4-U25)","v":0},{"$f":"IF(V22=0,0,(V22*((LOG(V22))/LOG(2))))","v":0},null,{"$f":"N22","v":12222},{"$f":"COUNTIF(L34:L60,Y22)","v":0},{"$f":"Z22/(AB4-Z25)","v":0},{"$f":"IF(AA22=0,0,(AA22*((LOG(AA22))/LOG(2))))","v":0},null,{"$f":"N22","v":12222},{"$f":"COUNTIF(L61:L87,AD22)","v":0},{"$f":"AE22/(AG4-AE25)","v":0},{"$f":"IF(AF22=0,0,(AF22*((LOG(AF22))/LOG(2))))","v":0},null,{"$f":"N22","v":12222},{"$f":"COUNTIF(L88:L114,AI22)","v":0},{"$f":"AJ22/(AL4-AJ25)","v":0},{"$f":"IF(AK22=0,0,(AK22*((LOG(AK22))/LOG(2))))","v":0},null,{"$f":"N22","v":12222},{"$f":"COUNTIF(L115:L141,AN22)","v":0},{"$f":"AO22/(AQ4-AO25)","v":0},{"$f":"IF(AP22=0,0,(AP22*((LOG(AP22))/LOG(2))))","v":0},null,{"$f":"N22","v":12222},{"$f":"COUNTIF(L142:L168,AS22)","v":0},{"$f":"AT22/(AV4-AT25)","v":0},{"$f":"IF(AU22=0,0,(AU22*((LOG(AU22))/LOG(2))))","v":0}]
[21,2347,11,2356,11,2382,12,2392,13,2396,0,21111,null,21111,{"$f":"COUNTIF($L$7:$L$500,N23)","v":22},{"$f":"O23/$Q$4","v":0.13580246913580246},{"$f":"IF(P23=0,0,(P23*((LOG(P23))/LOG(2))))","v":-0.39116792872494566},null,null,{"$f":"N23","v":21111},{"$f":"COUNTIF(L7:L33,T23)","v":4},{"$f":"U23/(W4-U25)","v":0.14814814814814814},{"$f":"IF(V23=0,0,(V23*((LOG(V23))/LOG(2))))","v":-0.40813148180199532},null,{"$f":"N23","v":21111},{"$f":"COUNTIF(L34:L60,Y23)","v":5},{"$f":"Z23/(AB4-Z25)","v":0.19230769230769232},{"$f":"IF(AA23=0,0,(AA23*((LOG(AA23))/LOG(2))))","v":-0.45740608139494804},null,{"$f":"N23","v":21111},{"$f":"COUNTIF(L61:L87,AD23)","v":2},{"$f":"AE23/(AG4-AE25)","v":7.407407407407407E-2},{"$f":"IF(AF23=0,0,(AF23*((LOG(AF23))/LOG(2))))","v":-0.27813981497507173},null,{"$f":"N23","v":21111},{"$f":"COUNTIF(L88:L114,AI23)","v":3},{"$f":"AJ23/(AL4-AJ25)","v":0.1111111111111111},{"$f":"IF(AK23=0,0,(AK23*((LOG(AK23))/LOG(2))))","v":-0.3522138890491458},null,{"$f":"N23","v":21111},{"$f":"COUNTIF(L115:L141,AN23)","v":4},{"$f":"AO23/(AQ4-AO25)","v":0.14814814814814814},{"$f":"IF(AP23=0,0,(AP23*((LOG(AP23))/LOG(2))))","v":-0.40813148180199532},null,{"$f":"N23","v":21111},{"$f":"COUNTIF(L142:L168,AS23)","v":4},{"$f":"AT23/(AV4-AT25)","v":0.14814814814814814},{"$f":"IF(AU23=0,0,(AU23*((LOG(AU23))/LOG(2))))","v":-0.40813148180199532}]
[21,2516,22,2527,24,2535,14,2546,13,2551,1,22211,null,21112,{"$f":"COUNTIF($L$7:$L$500,N24)","v":3},{"$f":"O24/$Q$4","v":1.8518518518518517E-2},{"$f":"IF(P24=0,0,(P24*((LOG(P24))/LOG(2))))","v":-0.10657199078080498},null,null,{"$f":"N24","v":21112},{"$f":"COUNTIF(L7:L33,T24)","v":0},{"$f":"U24/(W4-U25)","v":0},{"$f":"IF(V24=0,0,(V24*((LOG(V24))/LOG(2))))","v":0},null,{"$f":"N24","v":21112},{"$f":"COUNTIF(L34:L60,Y24)","v":0},{"$f":"Z24/(AB4-Z25)","v":0},{"$f":"IF(AA24=0,0,(AA24*((LOG(AA24))/LOG(2))))","v":0},null,{"$f":"N24","v":21112},{"$f":"COUNTIF(L61:L87,AD24)","v":0},{"$f":"AE24/(AG4-AE25)","v":0},{"$f":"IF(AF24=0,0,(AF24*((LOG(AF24))/LOG(2))))","v":0},null,{"$f":"N24","v":21112},{"$f":"COUNTIF(L88:L114,AI24)","v":2},{"$f":"AJ24/(AL4-AJ25)","v":7.407407407407407E-2},{"$f":"IF(AK24=0,0,(AK24*((LOG(AK24))/LOG(2))))","v":-0.27813981497507173},null,{"$f":"N24","v":21112},{"$f":"COUNTIF(L115:L141,AN24)","v":1},{"$f":"AO24/(AQ4-AO25)","v":3.7037037037037035E-2},{"$f":"IF(AP24=0,0,(AP24*((LOG(AP24))/LOG(2))))","v":-0.1761069445245729},null,{"$f":"N24","v":21112},{"$f":"COUNTIF(L142:L168,AS24)","v":0},{"$f":"AT24/(AV4-AT25)","v":0},{"$f":"IF(AU24=0,0,(AU24*((LOG(AU24))/LOG(2))))","v":0}]
[21,2653,22,2658,13,2669,14,2682,13,2712,0,22111,null,21121,{"$f":"COUNTIF($L$7:$L$500,N25)","v":1},{"$f":"O25/$Q$4","v":6.1728395061728392E-3},{"$f":"IF(P25=0,0,(P25*((LOG(P25))/LOG(2))))","v":-4.5307716067189037E-2},null,null,{"$f":"N25","v":21121},{"$f":"COUNTIF(L7:L33,T25)","v":0},null,null,null,{"$f":"N25","v":21121},{"$f":"COUNTIF(L34:L60,Y25)","v":1},null,null,null,{"$f":"N25","v":21121},{"$f":"COUNTIF(L61:L87,AD25)","v":0},null,null,null,{"$f":"N25","v":21121},{"$f":"COUNTIF(L88:L114,AI25)","v":0},null,null,null,{"$f":"N25","v":21121},{"$f":"COUNTIF(L115:L141,AN25)","v":0},null,null,null,{"$f":"N25","v":21121},{"$f":"COUNTIF(L142:L168,AS25)","v":0}]
[21,2815,22,2829,13,2838,23,2853,24,2869,0,22122,null,21122,{"$f":"COUNTIF($L$7:$L$500,N26)","v":1},{"$f":"O26/$Q$4","v":6.1728395061728392E-3},{"$f":"IF(P26=0,0,(P26*((LOG(P26))/LOG(2))))","v":-4.5307716067189037E-2},null,null,{"$f":"N26","v":21122},{"$f":"COUNTIF(L7:L33,T26)","v":0},{"$f":"U26/(W4-U25)","v":0},{"$f":"IF(V26=0,0,(V26*((LOG(V26))/LOG(2))))","v":0},null,{"$f":"N26","v":21122},{"$f":"COUNTIF(L34:L60,Y26)","v":0},{"$f":"Z26/(AB4-Z25)","v":0},{"$f":"IF(AA26=0,0,(AA26*((LOG(AA26))/LOG(2))))","v":0},null,{"$f":"N26","v":21122},{"$f":"COUNTIF(L61:L87,AD26)","v":0},{"$f":"AE26/(AG4-AE25)","v":0},{"$f":"IF(AF26=0,0,(AF26*((LOG(AF26))/LOG(2))))","v":0},null,{"$f":"N26","v":21122},{"$f":"COUNTIF(L88:L114,AI26)","v":1},{"$f":"AJ26/(AL4-AJ25)","v":3.7037037037037035E-2},{"$f":"IF(AK26=0,0,(AK26*((LOG(AK26))/LOG(2))))","v":-0.1761069445245729},null,{"$f":"N26","v":21122},{"$f":"COUNTIF(L115:L141,AN26)","v":0},{"$f":"AO26/(AQ4-AO25)","v":0},{"$f":"IF(AP26=0,0,(AP26*((LOG(AP26))/LOG(2))))","v":0},null,{"$f":"N26","v":21122},{"$f":"COUNTIF(L142:L168,AS26)","v":0},{"$f":"AT26/(AV4-AT25)","v":0},{"$f":"IF(AU26=0,0,(AU26*((LOG(AU26))/LOG(2))))","v":0}]
[21,2978,22,2996,13,3005,14,3010,13,3021,0,22111,null,21211,{"$f":"COUNTIF($L$7:$L$500,N27)","v":3},{"$f":"O27/$Q$4","v":1.8518518518518517E-2},{"$f":"IF(P27=0,0,(P27*((LOG(P27))/LOG(2))))","v":-0.10657199078080498},null,null,{"$f":"N27","v":21211},{"$f":"COUNTIF(L7:L33,T27)","v":0},{"$f":"U27/(W4-U25)","v":0},{"$f":"IF(V27=0,0,(V27*((LOG(V27))/LOG(2))))","v":0},null,{"$f":"N27","v":21211},{"$f":"COUNTIF(L34:L60,Y27)","v":1},{"$f":"Z27/(AB4-Z25)","v":3.8461538461538464E-2},{"$f":"IF(AA27=0,0,(AA27*((LOG(AA27))/LOG(2))))","v":-0.18078614300542661},null,{"$f":"N27","v":21211},{"$f":"COUNTIF(L61:L87,AD27)","v":1},{"$f":"AE27/(AG4-AE25)","v":3.7037037037037035E-2},{"$f":"IF(AF27=0,0,(AF27*((LOG(AF27))/LOG(2))))","v":-0.1761069445245729},null,{"$f":"N27","v":21211},{"$f":"COUNTIF(L88:L114,AI27)","v":0},{"$f":"AJ27/(AL4-AJ25)","v":0},{"$f":"IF(AK27=0,0,(AK27*((LOG(AK27))/LOG(2))))","v":0},null,{"$f":"N27","v":21211},{"$f":"COUNTIF(L115:L141,AN27)","v":1},{"$f":"AO27/(AQ4-AO25)","v":3.7037037037037035E-2},{"$f":"IF(AP27=0,0,(AP27*((LOG(AP27))/LOG(2))))","v":-0.1761069445245729},null,{"$f":"N27","v":21211},{"$f":"COUNTIF(L142:L168,AS27)","v":0},{"$f":"AT27/(AV4-AT25)","v":0},{"$f":"IF(AU27=0,0,(AU27*((LOG(AU27))/LOG(2))))","v":0}]
[21,3133,22,3143,13,3154,14,3159,13,3163,0,22111,null,21212,{"$f":"COUNTIF($L$7:$L$500,N28)","v":2},{"$f":"O28/$Q$4","v":1.2345679012345678E-2},{"$f":"IF(P28=0,0,(P28*((LOG(P28))/LOG(2))))","v":-7.8269753122032396E-2},null,null,{"$f":"N28","v":21212},{"$f":"COUNTIF(L7:L33,T28)","v":2},{"$f":"U28/(W4-U25)","v":7.407407407407407E-2},{"$f":"IF(V28=0,0,(V28*((LOG(V28))/LOG(2))))","v":-0.27813981497507173},null,{"$f":"N28","v":21212},{"$f":"COUNTIF(L34:L60,Y28)","v":0},{"$f":"Z28/(AB4-Z25)","v":0},{"$f":"IF(AA28=0,0,(AA28*((LOG(AA28))/LOG(2))))","v":0},null,{"$f":"N28","v":21212},{"$f":"COUNTIF(L61:L87,AD28)","v":0},{"$f":"AE28/(AG4-AE25)","v":0},{"$f":"IF(AF28=0,0,(AF28*((LOG(AF28))/LOG(2))))","v":0},null,{"$f":"N28","v":21212},{"$f":"COUNTIF(L88:L114,AI28)","v":0},{"$f":"AJ28/(AL4-AJ25)","v":0},{"$f":"IF(AK28=0,0,(AK28*((LOG(AK28))/LOG(2))))","v":0},null,{"$f":"N28","v":21212},{"$f":"COUNTIF(L115:L141,AN28)","v":0},{"$f":"AO28/(AQ4-AO25)","v":0},{"$f":"IF(AP28=0,0,(AP28*((LOG(AP28))/LOG(2))))","v":0},null,{"$f":"N28","v":21212},{"$f":"COUNTIF(L142:L168,AS28)","v":0},{"$f":"AT28/(AV4-AT25)","v":0},{"$f":"IF(AU28=0,0,(AU28*((LOG(AU28))/LOG(2))))","v":0}]
[21,3264,22,3280,13,3296,23,3304,24,3311,1,22122,null,21221,{"$f":"COUNTIF($L$7:$L$500,N29)","v":2},{"$f":"O29/$Q$4","v":1.2345679012345678E-2},{"$f":"IF(P29=0,0,(P29*((LOG(P29))/LOG(2))))","v":-7.8269753122032396E-2},null,null,{"$f":"N29","v":21221},{"$f":"COUNTIF(L7:L33,T29)","v":0},{"$f":"U29/(W4-U25)","v":0},{"$f":"IF(V29=0,0,(V29*((LOG(V29))/LOG(2))))","v":0},null,{"$f":"N29","v":21221},{"$f":"COUNTIF(L34:L60,Y29)","v":2},{"$f":"Z29/(AB4-Z25)","v":7.6923076923076927E-2},{"$f":"IF(AA29=0,0,(AA29*((LOG(AA29))/LOG(2))))","v":-0.28464920908777636},null,{"$f":"N29","v":21221},{"$f":"COUNTIF(L61:L87,AD29)","v":0},{"$f":"AE29/(AG4-AE25)","v":0},{"$f":"IF(AF29=0,0,(AF29*((LOG(AF29))/LOG(2))))","v":0},null,{"$f":"N29","v":21221},{"$f":"COUNTIF(L88:L114,AI29)","v":0},{"$f":"AJ29/(AL4-AJ25)","v":0},{"$f":"IF(AK29=0,0,(AK29*((LOG(AK29))/LOG(2))))","v":0},null,{"$f":"N29","v":21221},{"$f":"COUNTIF(L115:L141,AN29)","v":0},{"$f":"AO29/(AQ4-AO25)","v":0},{"$f":"IF(AP29=0,0,(AP29*((LOG(AP29))/LOG(2))))","v":0},null,{"$f":"N29","v":21221},{"$f":"COUNTIF(L142:L168,AS29)","v":0},{"$f":"AT29/(AV4-AT25)","v":0},{"$f":"IF(AU29=0,0,(AU29*((LOG(AU29))/LOG(2))))","v":0}]
[21,3423,22,3432,13,3444,14,3448,13,3454,0,22111,null,21222,{"$f":"COUNTIF($L$7:$L$500,N30)","v":3},{"$f":"O30/$Q$4","v":1.8518518518518517E-2},{"$f":"IF(P30=0,0,(P30*((LOG(P30))/LOG(2))))","v":-0.10657199078080498},null,null,{"$f":"N30","v":21222},{"$f":"COUNTIF(L7:L33,T30)","v":0},{"$f":"U30/(W4-U25)","v":0},{"$f":"IF(V30=0,0,(V30*((LOG(V30))/LOG(2))))","v":0},null,{"$f":"N30","v":21222},{"$f":"COUNTIF(L34:L60,Y30)","v":0},{"$f":"Z30/(AB4-Z25)","v":0},{"$f":"IF(AA30=0,0,(AA30*((LOG(AA30))/LOG(2))))","v":0},null,{"$f":"N30","v":21222},{"$f":"COUNTIF(L61:L87,AD30)","v":0},{"$f":"AE30/(AG4-AE25)","v":0},{"$f":"IF(AF30=0,0,(AF30*((LOG(AF30))/LOG(2))))","v":0},null,{"$f":"N30","v":21222},{"$f":"COUNTIF(L88:L114,AI30)","v":3},{"$f":"AJ30/(AL4-AJ25)","v":0.1111111111111111},{"$f":"IF(AK30=0,0,(AK30*((LOG(AK30))/LOG(2))))","v":-0.3522138890491458},null,{"$f":"N30","v":21222},{"$f":"COUNTIF(L115:L141,AN30)","v":0},{"$f":"AO30/(AQ4-AO25)","v":0},{"$f":"IF(AP30=0,0,(AP30*((LOG(AP30))/LOG(2))))","v":0},null,{"$f":"N30","v":21222},{"$f":"COUNTIF(L142:L168,AS30)","v":0},{"$f":"AT30/(AV4-AT25)","v":0},{"$f":"IF(AU30=0,0,(AU30*((LOG(AU30))/LOG(2))))","v":0}]
[21,3557,22,3567,24,3572,14,3583,13,3587,0,22211,null,22111,{"$f":"COUNTIF($L$7:$L$500,N31)","v":42},{"$f":"O31/$Q$4","v":0.25925925925925924},{"$f":"IF(P31=0,0,(P31*((LOG(P31))/LOG(2))))","v":-0.5049158541015204},null,null,{"$f":"N31","v":22111},{"$f":"COUNTIF(L7:L33,T31)","v":7},{"$f":"U31/(W4-U25)","v":0.25925925925925924},{"$f":"IF(V31=0,0,(V31*((LOG(V31))/LOG(2))))","v":-0.5049158541015204},null,{"$f":"N31","v":22111},{"$f":"COUNTIF(L34:L60,Y31)","v":7},{"$f":"Z31/(AB4-Z25)","v":0.26923076923076922},{"$f":"IF(AA31=0,0,(AA31*((LOG(AA31))/LOG(2))))","v":-0.50967667586863141},null,{"$f":"N31","v":22111},{"$f":"COUNTIF(L61:L87,AD31)","v":10},{"$f":"AE31/(AG4-AE25)","v":0.37037037037037035},{"$f":"IF(AF31=0,0,(AF31*((LOG(AF31))/LOG(2))))","v":-0.53072570639855787},null,{"$f":"N31","v":22111},{"$f":"COUNTIF(L88:L114,AI31)","v":7},{"$f":"AJ31/(AL4-AJ25)","v":0.25925925925925924},{"$f":"IF(AK31=0,0,(AK31*((LOG(AK31))/LOG(2))))","v":-0.5049158541015204},null,{"$f":"N31","v":22111},{"$f":"COUNTIF(L115:L141,AN31)","v":5},{"$f":"AO31/(AQ4-AO25)","v":0.18518518518518517},{"$f":"IF(AP31=0,0,(AP31*((LOG(AP31))/LOG(2))))","v":-0.45054803838446406},null,{"$f":"N31","v":22111},{"$f":"COUNTIF(L142:L168,AS31)","v":6},{"$f":"AT31/(AV4-AT25)","v":0.22222222222222221},{"$f":"IF(AU31=0,0,(AU31*((LOG(AU31))/LOG(2))))","v":-0.48220555587606945}]
[21,3694,11,3704,22,3716,14,3729,24,3761,0,21212,null,22112,{"$f":"COUNTIF($L$7:$L$500,N32)","v":0},{"$f":"O32/$Q$4","v":0},{"$f":"IF(P32=0,0,(P32*((LOG(P32))/LOG(2))))","v":0},null,null,{"$f":"N32","v":22112},{"$f":"COUNTIF(L7:L33,T32)","v":0},{"$f":"U32/(W4-U25)","v":0},{"$f":"IF(V32=0,0,(V32*((LOG(V32))/LOG(2))))","v":0},null,{"$f":"N32","v":22112},{"$f":"COUNTIF(L34:L60,Y32)","v":0},{"$f":"Z32/(AB4-Z25)","v":0},{"$f":"IF(AA32=0,0,(AA32*((LOG(AA32))/LOG(2))))","v":0},null,{"$f":"N32","v":22112},{"$f":"COUNTIF(L61:L87,AD32)","v":0},{"$f":"AE32/(AG4-AE25)","v":0},{"$f":"IF(AF32=0,0,(AF32*((LOG(AF32))/LOG(2))))","v":0},null,{"$f":"N32","v":22112},{"$f":"COUNTIF(L88:L114,AI32)","v":0},{"$f":"AJ32/(AL4-AJ25)","v":0},{"$f":"IF(AK32=0,0,(AK32*((LOG(AK32))/LOG(2))))","v":0},null,{"$f":"N32","v":22112},{"$f":"COUNTIF(L115:L141,AN32)","v":0},{"$f":"AO32/(AQ4-AO25)","v":0},{"$f":"IF(AP32=0,0,(AP32*((LOG(AP32))/LOG(2))))","v":0},null,{"$f":"N32","v":22112},{"$f":"COUNTIF(L142:L168,AS32)","v":0},{"$f":"AT32/(AV4-AT25)","v":0},{"$f":"IF(AU32=0,0,(AU32*((LOG(AU32))/LOG(2))))","v":0}]
[21,3870,22,3889,24,3894,14,3914,24,3923,0,22212,null,22121,{"$f":"COUNTIF($L$7:$L$500,N33)","v":0},{"$f":"O33/$Q$4","v":0},{"$f":"IF(P33=0,0,(P33*((LOG(P33))/LOG(2))))","v":0},null,null,{"$f":"N33","v":22121},{"$f":"COUNTIF(L7:L33,T33)","v":0},{"$f":"U33/(W4-U25)","v":0},{"$f":"IF(V33=0,0,(V33*((LOG(V33))/LOG(2))))","v":0},null,{"$f":"N33","v":22121},{"$f":"COUNTIF(L34:L60,Y33)","v":0},{"$f":"Z33/(AB4-Z25)","v":0},{"$f":"IF(AA33=0,0,(AA33*((LOG(AA33))/LOG(2))))","v":0},null,{"$f":"N33","v":22121},{"$f":"COUNTIF(L61:L87,AD33)","v":0},{"$f":"AE33/(AG4-AE25)","v":0},{"$f":"IF(AF33=0,0,(AF33*((LOG(AF33))/LOG(2))))","v":0},null,{"$f":"N33","v":22121},{"$f":"COUNTIF(L88:L114,AI33)","v":0},{"$f":"AJ33/(AL4-AJ25)","v":0},{"$f":"IF(AK33=0,0,(AK33*((LOG(AK33))/LOG(2))))","v":0},null,{"$f":"N33","v":22121},{"$f":"COUNTIF(L115:L141,AN33)","v":0},{"$f":"AO33/(AQ4-AO25)","v":0},{"$f":"IF(AP33=0,0,(AP33*((LOG(AP33))/LOG(2))))","v":0},null,{"$f":"N33","v":22121},{"$f":"COUNTIF(L142:L168,AS33)","v":0},{"$f":"AT33/(AV4-AT25)","v":0},{"$f":"IF(AU33=0,0,(AU33*((LOG(AU33))/LOG(2))))","v":0}]
[12,4067,13,4079,13,4093,14,4111,13,4122,1,11111,null,22122,{"$f":"COUNTIF($L$7:$L$500,N34)","v":6},{"$f":"O34/$Q$4","v":3.7037037037037035E-2},{"$f":"IF(P34=0,0,(P34*((LOG(P34))/LOG(2))))","v":-0.1761069445245729},null,null,{"$f":"N34","v":22122},{"$f":"COUNTIF(L7:L33,T34)","v":2},{"$f":"U34/(W4-U25)","v":7.407407407407407E-2},{"$f":"IF(V34=0,0,(V34*((LOG(V34))/LOG(2))))","v":-0.27813981497507173},null,{"$f":"N34","v":22122},{"$f":"COUNTIF(L34:L60,Y34)","v":1},{"$f":"Z34/(AB4-Z25)","v":3.8461538461538464E-2},{"$f":"IF(AA34=0,0,(AA34*((LOG(AA34))/LOG(2))))","v":-0.18078614300542661},null,{"$f":"N34","v":22122},{"$f":"COUNTIF(L61:L87,AD34)","v":1},{"$f":"AE34/(AG4-AE25)","v":3.7037037037037035E-2},{"$f":"IF(AF34=0,0,(AF34*((LOG(AF34))/LOG(2))))","v":-0.1761069445245729},null,{"$f":"N34","v":22122},{"$f":"COUNTIF(L88:L114,AI34)","v":0},{"$f":"AJ34/(AL4-AJ25)","v":0},{"$f":"IF(AK34=0,0,(AK34*((LOG(AK34))/LOG(2))))","v":0},null,{"$f":"N34","v":22122},{"$f":"COUNTIF(L115:L141,AN34)","v":0},{"$f":"AO34/(AQ4-AO25)","v":0},{"$f":"IF(AP34=0,0,(AP34*((LOG(AP34))/LOG(2))))","v":0},null,{"$f":"N34","v":22122},{"$f":"COUNTIF(L142:L168,AS34)","v":2},{"$f":"AT34/(AV4-AT25)","v":7.407407407407407E-2},{"$f":"IF(AU34=0,0,(AU34*((LOG(AU34))/LOG(2))))","v":-0.27813981497507173}]
[21,4216,11,4234,11,4239,12,4243,13,4247,0,21111,null,22211,{"$f":"COUNTIF($L$7:$L$500,N35)","v":20},{"$f":"O35/$Q$4","v":0.12345679012345678},{"$f":"IF(P35=0,0,(P35*((LOG(P35))/LOG(2))))","v":-0.37258295160460025},null,null,{"$f":"N35","v":22211},{"$f":"COUNTIF(L7:L33,T35)","v":4},{"$f":"U35/(W4-U25)","v":0.14814814814814814},{"$f":"IF(V35=0,0,(V35*((LOG(V35))/LOG(2))))","v":-0.40813148180199532},null,{"$f":"N35","v":22211},{"$f":"COUNTIF(L34:L60,Y35)","v":6},{"$f":"Z35/(AB4-Z25)","v":0.23076923076923078},{"$f":"IF(AA35=0,0,(AA35*((LOG(AA35))/LOG(2))))","v":-0.48818705017383146},null,{"$f":"N35","v":22211},{"$f":"COUNTIF(L61:L87,AD35)","v":4},{"$f":"AE35/(AG4-AE25)","v":0.14814814814814814},{"$f":"IF(AF35=0,0,(AF35*((LOG(AF35))/LOG(2))))","v":-0.40813148180199532},null,{"$f":"N35","v":22211},{"$f":"COUNTIF(L88:L114,AI35)","v":3},{"$f":"AJ35/(AL4-AJ25)","v":0.1111111111111111},{"$f":"IF(AK35=0,0,(AK35*((LOG(AK35))/LOG(2))))","v":-0.3522138890491458},null,{"$f":"N35","v":22211},{"$f":"COUNTIF(L115:L141,AN35)","v":1},{"$f":"AO35/(AQ4-AO25)","v":3.7037037037037035E-2},{"$f":"IF(AP35=0,0,(AP35*((LOG(AP35))/LOG(2))))","v":-0.1761069445245729},null,{"$f":"N35","v":22211},{"$f":"COUNTIF(L142:L168,AS35)","v":2},{"$f":"AT35/(AV4-AT25)","v":7.407407407407407E-2},{"$f":"IF(AU35=0,0,(AU35*((LOG(AU35))/LOG(2))))","v":-0.27813981497507173}]
[12,4385,13,4393,13,4400,14,4408,13,4418,0,11111,null,22212,{"$f":"COUNTIF($L$7:$L$500,N36)","v":2},{"$f":"O36/$Q$4","v":1.2345679012345678E-2},{"$f":"IF(P36=0,0,(P36*((LOG(P36))/LOG(2))))","v":-7.8269753122032396E-2},null,null,{"$f":"N36","v":22212},{"$f":"COUNTIF(L7:L33,T36)","v":1},{"$f":"U36/(W4-U25)","v":3.7037037037037035E-2},{"$f":"IF(V36=0,0,(V36*((LOG(V36))/LOG(2))))","v":-0.1761069445245729},null,{"$f":"N36","v":22212},{"$f":"COUNTIF(L34:L60,Y36)","v":0},{"$f":"Z36/(AB4-Z25)","v":0},{"$f":"IF(AA36=0,0,(AA36*((LOG(AA36))/LOG(2))))","v":0},null,{"$f":"N36","v":22212},{"$f":"COUNTIF(L61:L87,AD36)","v":0},{"$f":"AE36/(AG4-AE25)","v":0},{"$f":"IF(AF36=0,0,(AF36*((LOG(AF36))/LOG(2))))","v":0},null,{"$f":"N36","v":22212},{"$f":"COUNTIF(L88:L114,AI36)","v":0},{"$f":"AJ36/(AL4-AJ25)","v":0},{"$f":"IF(AK36=0,0,(AK36*((LOG(AK36))/LOG(2))))","v":0},null,{"$f":"N36","v":22212},{"$f":"COUNTIF(L115:L141,AN36)","v":1},{"$f":"AO36/(AQ4-AO25)","v":3.7037037037037035E-2},{"$f":"IF(AP36=0,0,(AP36*((LOG(AP36))/LOG(2))))","v":-0.1761069445245729},null,{"$f":"N36","v":22212},{"$f":"COUNTIF(L142:L168,AS36)","v":0},{"$f":"AT36/(AV4-AT25)","v":0},{"$f":"IF(AU36=0,0,(AU36*((LOG(AU36))/LOG(2))))","v":0}]
[21,4524,11,4539,22,4550,23,4561,13,4572,0,21221,null,22221,{"$f":"COUNTIF($L$7:$L$500,N37)","v":10},{"$f":"O37/$Q$4","v":6.1728395061728392E-2},{"$f":"IF(P37=0,0,(P37*((LOG(P37))/LOG(2))))","v":-0.24801987086402855},null,null,{"$f":"N37","v":22221},{"$f":"COUNTIF(L7:L33,T37)","v":1},{"$f":"U37/(W4-U25)","v":3.7037037037037035E-2},{"$f":"IF(V37=0,0,(V37*((LOG(V37))/LOG(2))))","v":-0.1761069445245729},null,{"$f":"N37","v":22221},{"$f":"COUNTIF(L34:L60,Y37)","v":2},{"$f":"Z37/(AB4-Z25)","v":7.6923076923076927E-2},{"$f":"IF(AA37=0,0,(AA37*((LOG(AA37))/LOG(2))))","v":-0.28464920908777636},null,{"$f":"N37","v":22221},{"$f":"COUNTIF(L61:L87,AD37)","v":4},{"$f":"AE37/(AG4-AE25)","v":0.14814814814814814},{"$f":"IF(AF37=0,0,(AF37*((LOG(AF37))/LOG(2))))","v":-0.40813148180199532},null,{"$f":"N37","v":22221},{"$f":"COUNTIF(L88:L114,AI37)","v":1},{"$f":"AJ37/(AL4-AJ25)","v":3.7037037037037035E-2},{"$f":"IF(AK37=0,0,(AK37*((LOG(AK37))/LOG(2))))","v":-0.1761069445245729},null,{"$f":"N37","v":22221},{"$f":"COUNTIF(L115:L141,AN37)","v":2},{"$f":"AO37/(AQ4-AO25)","v":7.407407407407407E-2},{"$f":"IF(AP37=0,0,(AP37*((LOG(AP37))/LOG(2))))","v":-0.27813981497507173},null,{"$f":"N37","v":22221},{"$f":"COUNTIF(L142:L168,AS37)","v":0},{"$f":"AT37/(AV4-AT25)","v":0},{"$f":"IF(AU37=0,0,(AU37*((LOG(AU37))/LOG(2))))","v":0}]
[21,4679,22,4694,24,4699,23,4706,13,4713,0,22221,null,22222,{"$f":"COUNTIF($L$7:$L$500,N38)","v":7},{"$f":"O38/$Q$4","v":4.3209876543209874E-2},{"$f":"IF(P38=0,0,(P38*((LOG(P38))/LOG(2))))","v":-0.19584855287524161},null,null,{"$f":"N38","v":22222},{"$f":"COUNTIF(L7:L33,T38)","v":0},{"$f":"U38/(W4-U25)","v":0},{"$f":"IF(V38=0,0,(V38*((LOG(V38))/LOG(2))))","v":0},null,{"$f":"N38","v":22222},{"$f":"COUNTIF(L34:L60,Y38)","v":0},{"$f":"Z38/(AB4-Z25)","v":0},{"$f":"IF(AA38=0,0,(AA38*((LOG(AA38))/LOG(2))))","v":0},null,{"$f":"N38","v":22222},{"$f":"COUNTIF(L61:L87,AD38)","v":5},{"$f":"AE38/(AG4-AE25)","v":0.18518518518518517},{"$f":"IF(AF38=0,0,(AF38*((LOG(AF38))/LOG(2))))","v":-0.45054803838446406},null,{"$f":"N38","v":22222},{"$f":"COUNTIF(L88:L114,AI38)","v":2},{"$f":"AJ38/(AL4-AJ25)","v":7.407407407407407E-2},{"$f":"IF(AK38=0,0,(AK38*((LOG(AK38))/LOG(2))))","v":-0.27813981497507173},null,{"$f":"N38","v":22222},{"$f":"COUNTIF(L115:L141,AN38)","v":0},{"$f":"AO38/(AQ4-AO25)","v":0},{"$f":"IF(AP38=0,0,(AP38*((LOG(AP38))/LOG(2))))","v":0},null,{"$f":"N38","v":22222},{"$f":"COUNTIF(L142:L168,AS38)","v":0},{"$f":"AT38/(AV4-AT25)","v":0},{"$f":"IF(AU38=0,0,(AU38*((LOG(AU38))/LOG(2))))","v":0}]
[21,4816,22,4821,13,4834,14,4856,13,4865,1,22111,null,null,null,{"$f":"SUM(P7:P38)","v":0.99999999999999978},{"$f":"-SUM(Q7:Q38)","v":3.5427715826070267},null,null,null,null,{"$f":"SUM(V7:V38)","v":1},{"$f":"-SUM(W7:W38)","v":2.7118778925808704},null,null,null,{"$f":"SUM(AA7:AA38)","v":1},{"$f":"-SUM(AB7:AB38)","v":2.6707897207115936},null,null,null,{"$f":"SUM(AF7:AF38)","v":1},{"$f":"-SUM(AG7:AG38)","v":2.4278904124112302},null,null,null,{"$f":"SUM(AK7:AK38)","v":0.99999999999999989},{"$f":"-SUM(AL7:AL38)","v":3.2765116887970378},null,null,null,{"$f":"SUM(AP7:AP38)","v":0.99999999999999967},{"$f":"-SUM(AQ7:AQ38)","v":3.2878637808880318},null,null,null,{"$f":"SUM(AU7:AU38)","v":0.99999999999999989},{"$f":"-SUM(AV7:AV38)","v":2.8600260407290183}]
[21,4982,11,4993,11,5000,12,5005,13,5009,0,21111,null,null,null,"U=",{"$f":"Q39/(LOG(Q4)/LOG(2))","v":0.48267629191532346},null,null,null,null,"U1=",{"$f":"W39/(LOG(W4)/LOG(2))","v":0.57033481682731069},null,null,null,"U2=",{"$f":"AB39/(LOG(AB4)/LOG(2))","v":0.56169356677658244},null,null,null,"U3=",{"$f":"AG39/(LOG(AG4)/LOG(2))","v":0.51060943320037389},null,null,null,"U4=",{"$f":"AL39/(LOG(AL4)/LOG(2))","v":0.68908290412890505},null,null,null,"U5=",{"$f":"AQ39/(LOG(AQ4)/LOG(2))","v":0.69147036168406883},null,null,null,"U6=",{"$f":"AV39/(LOG(AV4)/LOG(2))","v":0.60149184169503689}]
[21,5107,22,5119,13,5132,14,5136,13,5140,0,22111]
[21,5244,22,5259,24,5268,14,5279,13,5283,0,22211]
[21,5385,22,5403,13,5413,14,5420,13,5426,1,22111,null,"Total Target Seq"]
[21,5526,11,5552,11,5557,21,5573,11,5584,1,21121,null,{"$f":"COUNTIF(L7:L168,G3)","v":1},null,27,27,27,27,27,27]
[21,5690,11,5700,11,5705,12,5713,13,5731,0,21111,null,null,null,"% of reinforcement given in 6 equal intervals based on number of trials "]
[21,5838,11,5849,22,5858,23,5868,13,5877,0,21221,null,null,null,"%_1","%_2","%_3","%_4","%_5","%_6"]
[21,5975,22,5985,13,5994,23,6015,24,6021,0,22122,null,null,"target sequence",{"$f":"$G$3","v":21121},{"$f":"$G$3","v":21121},{"$f":"$G$3","v":21121},{"$f":"$G$3","v":21121},{"$f":"$G$3","v":21121},{"$f":"$G$3","v":21121}]
[21,6128,22,6136,24,6141,14,6154,13,6161,0,22211,null,null,"total reinforcement",{"$f":"U25","v":0},{"$f":"Z25","v":1},{"$f":"AE25","v":0},{"$f":"AJ25","v":0},{"$f":"AO25","v":0},{"$f":"AT25","v":0}]
[21,6259,22,6275,24,6284,14,6297,13,6304,1,22211,null,null,"% target"]
[21,6405,11,6423,11,6427,12,6432,13,6453,0,21111,null,null,"CCRF"]
[21,6593,11,6606,22,6613,14,6624,13,6639,0,21211,null,null,"% CCRf"]
[21,6745,22,6754,13,6779,14,6790,13,6801,0,22111,null,null,"average response rate",{"$f":"J33/P44","v":145.2962962962963},{"$f":"(J60-J33)/Q44","v":147.96296296296296},{"$f":"(J87-J60)/R44","v":148.4814814814815},{"$f":"(J114-J87)/S44","v":148},{"$f":"(J141-J114)/T44","v":152.62962962962962},{"$f":"(J168-J141)/U44","v":142.88888888888889}]
[21,6904,22,6913,24,6918,14,6925,13,6933,0,22211]
[21,7044,11,7055,11,7062,12,7068,13,7078,0,21111]
[21,7176,22,7193,24,7204,14,7212,13,7220,0,22211]
[21,7323,22,7331,13,7342,14,7351,13,7359,1,22111]
[21,7449,22,7455,24,7471,23,7476,13,7487,0,22221]
[21,7588,22,7600,13,7610,14,7614,13,7620,0,22111]
[21,7725,22,7741,24,7750,14,7762,13,7766,0,22211]
[21,7871,22,7889,13,7898,14,7906,13,7918,0,22111]
[21,8023,22,8032,24,8052,23,8065,24,8071,0,22222]
[21,8173,22,8180,24,8198,14,8209,13,8233,0,22211]
[21,8339,22,8347,13,8360,14,8365,13,8370,1,22111]
[21,8479,11,8498,11,8506,12,8517,13,8525,0,21111]
[21,8634,22,8643,24,8661,14,8677,13,8684,0,22211]
[21,8803,22,8808,13,8826,14,8831,13,8838,0,22111]
[21,8943,22,8954,24,8959,23,8964,24,8975,0,22222]
[21,9090,22,9098,13,9109,14,9113,13,9117,0,22111]
[21,9222,22,9226,24,9241,23,9246,24,9257,0,22222]
[21,9362,22,9370,24,9374,23,9381,24,9387,0,22222]
[21,9487,22,9495,24,9499,23,9506,13,9517,1,22221]
[21,9629,22,9645,13,9653,14,9662,13,9669,0,22111]
[21,9772,22,9780,24,9796,23,9815,24,9821,0,22222]
[21,9925,22,9944,24,9961,14,9975,13,9981,0,22211]
[21,10092,22,10121,13,10131,14,10136,13,10143,0,22111]
[21,10245,22,10256,24,10263,23,10268,13,10279,0,22221]
[21,10380,22,10390,24,10400,14,10409,13,10413,0,22211]
[21,10522,11,10546,22,10555,14,10567,13,10595,0,21211]
[21,10724,22,10729,24,10738,23,10742,13,10754,0,22221]
[21,10854,22,10865,13,10885,14,10903,13,10945,1,22111]
[21,11057,22,11080,13,11090,14,11096,13,11106,0,22111]
[21,11207,22,11215,13,11235,14,11242,13,11246,0,22111]
[21,11352,11,11365,11,11372,12,11389,13,11393,0,21111]
[21,11498,22,11502,13,11516,14,11520,13,11525,0,22111]
[21,11630,22,11637,13,11647,14,11651,13,11655,0,22111]
[21,11755,22,11764,24,11769,23,11775,13,11786,0,22221]
[21,11892,22,11900,13,11913,23,11920,24,11927,0,22122]
[21,12034,22,12046,24,12054,23,12061,13,12070,0,22221]
[21,12172,11,12189,22,12201,23,12206,24,12210,0,21222]
[21,12313,22,12324,13,12334,14,12342,13,12346,1,22111]
[12,12458,24,12470,13,12486,14,12517,13,12524,0,12111]
[21,12652,22,12662,13,12672,14,12677,13,12684,0,22111]
[21,12799,22,12818,13,12826,14,12834,13,12840,0,22111]
[12,12961,24,12970,13,12981,14,12988,13,12998,1,12111]
[21,13099,11,13115,11,13120,12,13124,24,13135,1,21112]
[21,13234,22,13254,13,13264,14,13271,13,13278,1,22111]
[21,13381,22,13395,13,13406,14,13410,13,13418,1,22111]
[21,13511,22,13519,13,13529,14,13533,13,13546,0,22111]
[21,13655,22,13671,13,13681,14,13686,13,13690,0,22111]
[21,13802,22,13810,24,13824,23,13830,24,13835,0,22222]
[21,13951,11,13961,11,13965,12,13973,13,13981,0,21111]
[21,14080,22,14090,24,14097,14,14108,13,14112,0,22211]
[21,14232,22,14237,24,14243,14,14255,13,14262,0,22211]
[12,14382,13,14390,13,14397,14,14402,13,14409,1,11111]
[21,14517,22,14525,24,14541,14,14556,13,14562,0,22211]
[21,14668,11,14682,22,14690,23,14695,24,14713,0,21222]
[21,14817,11,14831,22,14859,23,14870,24,14883,0,21222]
[12,14992,13,14999,13,15004,23,15015,13,15027,0,11121]
[12,15139,13,15143,24,15154,23,15166,24,15174,0,11222]
[21,15301,11,15315,11,15322,12,15333,13,15341,0,21111]
[21,15444,22,15454,24,15459,23,15466,24,15472,1,22222]
[21,15581,11,15592,11,15600,12,15609,24,15627,0,21112]
[21,15729,11,15741,11,15751,12,15755,13,15759,0,21111]
[21,15861,11,15871,11,15878,21,15908,22,15923,0,21122]
[12,16036,13,16041,13,16051,23,16080,24,16088,0,11122]
[12,16208,13,16212,13,16216,14,16222,24,16241,0,11112]
[21,16352,11,16370,11,16373,12,16377,24,16386,0,21112]
[21,16486,22,16491,13,16501,14,16506,13,16510,0,22111]
[12,16614,13,16618,13,16622,14,16637,13,16649,1,11111]
[12,16766,13,16772,13,16788,14,16796,13,16804,0,11111]
[12,16903,13,16912,13,16916,14,16920,13,16924,0,11111]
[12,17058,13,17062,24,17097,23,17110,13,17120,0,11221]
[21,17225,22,17245,13,17253,14,17261,13,17269,0,22111]
[21,17372,22,17378,24,17383,23,17388,13,17397,1,22221]
[21,17583,11,17594,22,17611,14,17622,13,17636,0,21211]
[21,17738,11,17763,11,17767,12,17771,13,17776,1,21111]
[21,17879,22,17897,24,17902,14,17912,13,17918,0,22211]
[12,18041,13,18069,13,18092,14,18097,13,18106,0,11111]
[21,18211,22,18219,24,18239,23,18244,13,18254,0,22221]
[12,18374,13,18389,13,18394,23,18405,24,18415,0,11122]
[12,18519,13,18523,13,18536,14,18542,24,18553,0,11112]
[21,18664,11,18673,11,18679,12,18694,13,18702,0,21111]
[21,18803,22,18823,24,18828,14,18838,24,18857,0,22212]
[21,18983,11,18992,11,18996,12,19004,13,19010,0,21111]
[12,19129,13,19148,13,19152,14,19157,24,19169,0,11112]
[12,19281,13,19285,13,19294,14,19299,24,19312,1,11112]
[21,19406,22,19420,13,19430,14,19435,13,19442,1,22111]
[21,19553,22,19568,13,19578,14,19583,13,19600,0,22111]
[21,19699,22,19707,13,19717,14,19737,13,19741,0,22111]
[21,19863,11,19878,11,19883,12,19887,13,19894,1,21111]
[12,19998,24,20012,13,20022,14,20026,13,20044,0,12111]
[12,20147,13,20154,13,20159,23,20170,24,20178,0,11122]
[12,20309,13,20313,13,20333,14,20340,24,20355,0,11112]
[12,20461,13,20476,13,20480,14,20484,13,20489,0,11111]
[21,20594,22,20603,13,20613,14,20618,13,20623,0,22111]
[12,20740,24,20749,24,20754,14,20771,13,20778,1,12211]
[21,20878,22,20889,13,20907,23,20919,24,20928,0,22122]
[12,21048,13,21053,13,21064,14,21068,13,21074,0,11111]
[21,21178,22,21183,13,21193,23,21213,24,21221,0,22122]
[12,21326,24,21334,24,21339,14,21355,13,21361,0,12211]
[12,21476,13,21480,13,21484,14,21491,13,21496,1,11111]
[21,21594,22,21601,13,21612,14,21616,13,21624,1,22111]
[21,21717,22,21725,13,21740,14,21744,13,21752,0,22111]
[21,21854,22,21868,13,21876,14,21881,13,21885,0,22111]
[12,21984,13,21992,13,21996,14,22000,13,22004,0,11111]
[21,22106,11,22116,11,22120,12,22129,13,22137,1,21111]
[21,22246,11,22260,11,22264,12,22269,13,22277,0,21111]
[12,22405,13,22409,13,22417,14,22422,24,22439,0,11112]
[12,22556,13,22575,13,22589,14,22602,13,22606,0,11111]
[12,22727,13,22730,24,22742,23,22750,13,22760,1,11221]
[21,22877,22,22882,13,22892,14,22898,13,22906,0,22111]
[21,23013,22,23017,24,23025,14,23035,13,23040,0,22211]
[21,23137,22,23148,24,23155,14,23165,13,23169,0,22211]
[12,23275,13,23280,13,23284,14,23301,13,23308,0,11111]
[21,23414,11,23428,11,23432,12,23443,13,23468,1,21111]
[21,23587,11,23598,11,23602,12,23606,13,23619,0,21111]
[21,23730,22,23738,13,23746,14,23751,13,23759,0,22111]
[12,23875,13,23879,13,23883,14,23894,13,23902,0,11111]

{"sheet":"!N403930.000","index":9,"n_rows":157,"n_cols":48,"rows_kept":157,"cut":false,"hidden":false,"merged":[[4,39,4,42],[5,39,5,40],[4,44,4,47],[5,44,5,45],[4,24,4,27],[5,24,5,25],[4,29,4,32],[5,29,5,30],[4,34,4,37],[5,34,5,35],[1,1,1,2],[5,13,5,14],[42,13,42,14],[43,13,43,14],[4,19,4,22],[5,19,5,20]]}
["Report for:!N403930.000"]
["Date:","<date>"]
["Hen:","<hen>",null,null,null,"Correct Sequence",{"$f":"Start!J2","v":21121},null,null,null,null,null,null,null,null,"Total Sequences in Data",{"$f":"4994-COUNTBLANK(L7:L5000)","v":151},null,null,null,null,"Total Sequences in Block Data",{"$f":"COUNTA(L7:L31)","v":25},null,null,null,"Total Sequences in Block Data",{"$f":"COUNTA(L32:L56)","v":25},null,null,null,"Total Sequences in Block Data",{"$f":"COUNTA(L57:L82)","v":26},null,null,null,"Total Sequences in Block Data",{"$f":"COUNTA(L83:L107)","v":25},null,null,null,"Total Sequences in Block Data",{"$f":"COUNTA(L108:L132)","v":25},null,null,null,"Total Sequences in Block Data",{"$f":"COUNTA(L133:L157)","v":25}]
[null,null,null,null,null,null,null,null,null,null,null,null,null,null,null,"Total Sequences in Summary",{"$f":"SUM(O7:O38)","v":151},null,null,null,null,"Total Sequences in Block Summary",{"$f":"SUM(U7:U38)","v":25},null,null,null,"Total Sequences in Block Summary",{"$f":"SUM(Z7:Z38)","v":25},null,null,null,"Total Sequences in Block Summary",{"$f":"SUM(AE7:AE38)","v":26},null,null,null,"Total Sequences in Block Summary",{"$f":"SUM(AJ7:AJ38)","v":25},null,null,null,"Total Sequences in Block Summary",{"$f":"SUM(AO7:AO38)","v":25},null,null,null,"Total Sequences in Block Summary",{"$f":"SUM(AT7:AT38)","v":25}]
[null,null,null,null,null,null,null,null,null,null,null,null,null,null,null,null,null,null,null,"Block 1",null,null,null,null,"Block 2",null,null,null,null,"Block 3",null,null,null,null,"Block 4",null,null,null,null,"Block 5",null,null,null,null,"Block 6"]
["Sequence\nComponent\n1","Time\n1","Sequence\nComponent\n2","Time\n2","Sequence\nComponent\n3","Time\n3","Sequence\nComponent\n4","Time\n4","Sequence\nComponent\n5","Time\n5","Correct?\n0=No 1=Yes","Sequence",null,"Frequency",null,"Relative Frequency","Variability",null,null,"Frequency",null,"Relative Frequency","Variability",null,"Frequency",null,"Relative Frequency","Variability",null,"Frequency",null,"Relative Frequency","Variability",null,"Frequency",null,"Relative Frequency","Variability",null,"Frequency",null,"Relative Frequency","Variability",null,"Frequency",null,"Relative Frequency","Variability"]
[12,8,13,13,13,16,14,25,13,29,0,11111,null,11111,{"$f":"COUNTIF($L$7:$L$500,N7)","v":17},{"$f":"O7/$Q$4","v":0.11258278145695365},{"$f":"IF(P7=0,0,(P7*((LOG(P7))/LOG(2))))","v":-0.35474180309450709},null,null,{"$f":"N7","v":11111},{"$f":"COUNTIF(L7:L31,T7)","v":1},{"$f":"U7/(W4-U25)","v":4.1666666666666664E-2},{"$f":"IF(V7=0,0,(V7*((LOG(V7))/LOG(2))))","v":-0.19104010419671485},null,{"$f":"N7","v":11111},{"$f":"COUNTIF(L32:L56,Y7)","v":0},{"$f":"Z7/(AB4-Z25)","v":0},{"$f":"IF(AA7=0,0,(AA7*((LOG(AA7))/LOG(2))))","v":0},null,{"$f":"N7","v":11111},{"$f":"COUNTIF(L57:L82,AD7)","v":7},{"$f":"AE7/(AG4-AE25)","v":0.26923076923076922},{"$f":"IF(AF7=0,0,(AF7*((LOG(AF7))/LOG(2))))","v":-0.50967667586863141},null,{"$f":"N7","v":11111},{"$f":"COUNTIF(L83:L107,AI7)","v":3},{"$f":"AJ7/(AL4-AJ25)","v":0.12},{"$f":"IF(AK7=0,0,(AK7*((LOG(AK7))/LOG(2))))","v":-0.36706724268642821},null,{"$f":"N7","v":11111},{"$f":"COUNTIF(L108:L132,AN7)","v":1},{"$f":"AO7/(AQ4-AO25)","v":0.04},{"$f":"IF(AP7=0,0,(AP7*((LOG(AP7))/LOG(2))))","v":-0.18575424759098899},null,{"$f":"N7","v":11111},{"$f":"COUNTIF(L133:L157,AS7)","v":5},{"$f":"AT7/(AV4-AT25)","v":0.2},{"$f":"IF(AU7=0,0,(AU7*((LOG(AU7))/LOG(2))))","v":-0.46438561897747244}]
[21,129,11,139,11,143,12,147,13,154,0,21111,null,11112,{"$f":"COUNTIF($L$7:$L$500,N8)","v":0},{"$f":"O8/$Q$4","v":0},{"$f":"IF(P8=0,0,(P8*((LOG(P8))/LOG(2))))","v":0},null,null,{"$f":"N8","v":11112},{"$f":"COUNTIF(L7:L31,T8)","v":0},{"$f":"U8/(W4-U25)","v":0},{"$f":"IF(V8=0,0,(V8*((LOG(V8))/LOG(2))))","v":0},null,{"$f":"N8","v":11112},{"$f":"COUNTIF(L32:L56,Y8)","v":0},{"$f":"Z8/(AB4-Z25)","v":0},{"$f":"IF(AA8=0,0,(AA8*((LOG(AA8))/LOG(2))))","v":0},null,{"$f":"N8","v":11112},{"$f":"COUNTIF(L57:L82,AD8)","v":0},{"$f":"AE8/(AG4-AE25)","v":0},{"$f":"IF(AF8=0,0,(AF8*((LOG(AF8))/LOG(2))))","v":0},null,{"$f":"N8","v":11112},{"$f":"COUNTIF(L83:L107,AI8)","v":0},{"$f":"AJ8/(AL4-AJ25)","v":0},{"$f":"IF(AK8=0,0,(AK8*((LOG(AK8))/LOG(2))))","v":0},null,{"$f":"N8","v":11112},{"$f":"COUNTIF(L108:L132,AN8)","v":0},{"$f":"AO8/(AQ4-AO25)","v":0},{"$f":"IF(AP8=0,0,(AP8*((LOG(AP8))/LOG(2))))","v":0},null,{"$f":"N8","v":11112},{"$f":"COUNTIF(L133:L157,AS8)","v":0},{"$f":"AT8/(AV4-AT25)","v":0},{"$f":"IF(AU8=0,0,(AU8*((LOG(AU8))/LOG(2))))","v":0}]
[21,256,22,268,13,277,14,281,13,288,1,22111,null,11121,{"$f":"COUNTIF($L$7:$L$500,N9)","v":1},{"$f":"O9/$Q$4","v":6.6225165562913907E-3},{"$f":"IF(P9=0,0,(P9*((LOG(P9))/LOG(2))))","v":-4.7936455227318403E-2},null,null,{"$f":"N9","v":11121},{"$f":"COUNTIF(L7:L31,T9)","v":0},{"$f":"U9/(W4-U25)","v":0},{"$f":"IF(V9=0,0,(V9*((LOG(V9))/LOG(2))))","v":0},null,{"$f":"N9","v":11121},{"$f":"COUNTIF(L32:L56,Y9)","v":0},{"$f":"Z9/(AB4-Z25)","v":0},{"$f":"IF(AA9=0,0,(AA9*((LOG(AA9))/LOG(2))))","v":0},null,{"$f":"N9","v":11121},{"$f":"COUNTIF(L57:L82,AD9)","v":1},{"$f":"AE9/(AG4-AE25)","v":3.8461538461538464E-2},{"$f":"IF(AF9=0,0,(AF9*((LOG(AF9))/LOG(2))))","v":-0.18078614300542661},null,{"$f":"N9","v":11121},{"$f":"COUNTIF(L83:L107,AI9)","v":0},{"$f":"AJ9/(AL4-AJ25)","v":0},{"$f":"IF(AK9=0,0,(AK9*((LOG(AK9))/LOG(2))))","v":0},null,{"$f":"N9","v":11121},{"$f":"COUNTIF(L108:L132,AN9)","v":0},{"$f":"AO9/(AQ4-AO25)","v":0},{"$f":"IF(AP9=0,0,(AP9*((LOG(AP9))/LOG(2))))","v":0},null,{"$f":"N9","v":11121},{"$f":"COUNTIF(L133:L157,AS9)","v":0},{"$f":"AT9/(AV4-AT25)","v":0},{"$f":"IF(AU9=0,0,(AU9*((LOG(AU9))/LOG(2))))","v":0}]
[12,380,13,384,13,392,23,411,24,419,0,11122,null,11122,{"$f":"COUNTIF($L$7:$L$500,N10)","v":1},{"$f":"O10/$Q$4","v":6.6225165562913907E-3},{"$f":"IF(P10=0,0,(P10*((LOG(P10))/LOG(2))))","v":-4.7936455227318403E-2},null,null,{"$f":"N10","v":11122},{"$f":"COUNTIF(L7:L31,T10)","v":1},{"$f":"U10/(W4-U25)","v":4.1666666666666664E-2},{"$f":"IF(V10=0,0,(V10*((LOG(V10))/LOG(2))))","v":-0.19104010419671485},null,{"$f":"N10","v":11122},{"$f":"COUNTIF(L32:L56,Y10)","v":0},{"$f":"Z10/(AB4-Z25)","v":0},{"$f":"IF(AA10=0,0,(AA10*((LOG(AA10))/LOG(2))))","v":0},null,{"$f":"N10","v":11122},{"$f":"COUNTIF(L57:L82,AD10)","v":0},{"$f":"AE10/(AG4-AE25)","v":0},{"$f":"IF(AF10=0,0,(AF10*((LOG(AF10))/LOG(2))))","v":0},null,{"$f":"N10","v":11122},{"$f":"COUNTIF(L83:L107,AI10)","v":0},{"$f":"AJ10/(AL4-AJ25)","v":0},{"$f":"IF(AK10=0,0,(AK10*((LOG(AK10))/LOG(2))))","v":0},null,{"$f":"N10","v":11122},{"$f":"COUNTIF(L108:L132,AN10)","v":0},{"$f":"AO10/(AQ4-AO25)","v":0},{"$f":"IF(AP10=0,0,(AP10*((LOG(AP10))/LOG(2))))","v":0},null,{"$f":"N10","v":11122},{"$f":"COUNTIF(L133:L157,AS10)","v":0},{"$f":"AT10/(AV4-AT25)","v":0},{"$f":"IF(AU10=0,0,(AU10*((LOG(AU10))/LOG(2))))","v":0}]
[21,529,11,536,11,540,12,544,13,548,0,21111,null,11211,{"$f":"COUNTIF($L$7:$L$500,N11)","v":2},{"$f":"O11/$Q$4","v":1.3245033112582781E-2},{"$f":"IF(P11=0,0,(P11*((LOG(P11))/LOG(2))))","v":-8.2627877342054026E-2},null,null,{"$f":"N11","v":11211},{"$f":"COUNTIF(L7:L31,T11)","v":0},{"$f":"U11/(W4-U25)","v":0},{"$f":"IF(V11=0,0,(V11*((LOG(V11))/LOG(2))))","v":0},null,{"$f":"N11","v":11211},{"$f":"COUNTIF(L32:L56,Y11)","v":0},{"$f":"Z11/(AB4-Z25)","v":0},{"$f":"IF(AA11=0,0,(AA11*((LOG(AA11))/LOG(2))))","v":0},null,{"$f":"N11","v":11211},{"$f":"COUNTIF(L57:L82,AD11)","v":1},{"$f":"AE11/(AG4-AE25)","v":3.8461538461538464E-2},{"$f":"IF(AF11=0,0,(AF11*((LOG(AF11))/LOG(2))))","v":-0.18078614300542661},null,{"$f":"N11","v":11211},{"$f":"COUNTIF(L83:L107,AI11)","v":0},{"$f":"AJ11/(AL4-AJ25)","v":0},{"$f":"IF(AK11=0,0,(AK11*((LOG(AK11))/LOG(2))))","v":0},null,{"$f":"N11","v":11211},{"$f":"COUNTIF(L108:L132,AN11)","v":0},{"$f":"AO11/(AQ4-AO25)","v":0},{"$f":"IF(AP11=0,0,(AP11*((LOG(AP11))/LOG(2))))","v":0},null,{"$f":"N11","v":11211},{"$f":"COUNTIF(L133:L157,AS11)","v":1},{"$f":"AT11/(AV4-AT25)","v":0.04},{"$f":"IF(AU11=0,0,(AU11*((LOG(AU11))/LOG(2))))","v":-0.18575424759098899}]
[21,648,22,653,13,660,14,667,13,672,0,22111,null,11212,{"$f":"COUNTIF($L$7:$L$500,N12)","v":0},{"$f":"O12/$Q$4","v":0},{"$f":"IF(P12=0,0,(P12*((LOG(P12))/LOG(2))))","v":0},null,null,{"$f":"N12","v":11212},{"$f":"COUNTIF(L7:L31,T12)","v":0},{"$f":"U12/(W4-U25)","v":0},{"$f":"IF(V12=0,0,(V12*((LOG(V12))/LOG(2))))","v":0},null,{"$f":"N12","v":11212},{"$f":"COUNTIF(L32:L56,Y12)","v":0},{"$f":"Z12/(AB4-Z25)","v":0},{"$f":"IF(AA12=0,0,(AA12*((LOG(AA12))/LOG(2))))","v":0},null,{"$f":"N12","v":11212},{"$f":"COUNTIF(L57:L82,AD12)","v":0},{"$f":"AE12/(AG4-AE25)","v":0},{"$f":"IF(AF12=0,0,(AF12*((LOG(AF12))/LOG(2))))","v":0},null,{"$f":"N12","v":11212},{"$f":"COUNTIF(L83:L107,AI12)","v":0},{"$f":"AJ12/(AL4-AJ25)","v":0},{"$f":"IF(AK12=0,0,(AK12*((LOG(AK12))/LOG(2))))","v":0},null,{"$f":"N12","v":11212},{"$f":"COUNTIF(L108:L132,AN12)","v":0},{"$f":"AO12/(AQ4-AO25)","v":0},{"$f":"IF(AP12=0,0,(AP12*((LOG(AP12))/LOG(2))))","v":0},null,{"$f":"N12","v":11212},{"$f":"COUNTIF(L133:L157,AS12)","v":0},{"$f":"AT12/(AV4-AT25)","v":0},{"$f":"IF(AU12=0,0,(AU12*((LOG(AU12))/LOG(2))))","v":0}]
[21,798,11,808,11,812,12,818,13,824,1,21111,null,11221,{"$f":"COUNTIF($L$7:$L$500,N13)","v":0},{"$f":"O13/$Q$4","v":0},{"$f":"IF(P13=0,0,(P13*((LOG(P13))/LOG(2))))","v":0},null,null,{"$f":"N13","v":11221},{"$f":"COUNTIF(L7:L31,T13)","v":0},{"$f":"U13/(W4-U25)","v":0},{"$f":"IF(V13=0,0,(V13*((LOG(V13))/LOG(2))))","v":0},null,{"$f":"N13","v":11221},{"$f":"COUNTIF(L32:L56,Y13)","v":0},{"$f":"Z13/(AB4-Z25)","v":0},{"$f":"IF(AA13=0,0,(AA13*((LOG(AA13))/LOG(2))))","v":0},null,{"$f":"N13","v":11221},{"$f":"COUNTIF(L57:L82,AD13)","v":0},{"$f":"AE13/(AG4-AE25)","v":0},{"$f":"IF(AF13=0,0,(AF13*((LOG(AF13))/LOG(2))))","v":0},null,{"$f":"N13","v":11221},{"$f":"COUNTIF(L83:L107,AI13)","v":0},{"$f":"AJ13/(AL4-AJ25)","v":0},{"$f":"IF(AK13=0,0,(AK13*((LOG(AK13))/LOG(2))))","v":0},null,{"$f":"N13","v":11221},{"$f":"COUNTIF(L108:L132,AN13)","v":0},{"$f":"AO13/(AQ4-AO25)","v":0},{"$f":"IF(AP13=0,0,(AP13*((LOG(AP13))/LOG(2))))","v":0},null,{"$f":"N13","v":11221},{"$f":"COUNTIF(L133:L157,AS13)","v":0},{"$f":"AT13/(AV4-AT25)","v":0},{"$f":"IF(AU13=0,0,(AU13*((LOG(AU13))/LOG(2))))","v":0}]
[21,924,11,933,11,937,12,941,13,946,0,21111,null,11222,{"$f":"COUNTIF($L$7:$L$500,N14)","v":0},{"$f":"O14/$Q$4","v":0},{"$f":"IF(P14=0,0,(P14*((LOG(P14))/LOG(2))))","v":0},null,null,{"$f":"N14","v":11222},{"$f":"COUNTIF(L7:L31,T14)","v":0},{"$f":"U14/(W4-U25)","v":0},{"$f":"IF(V14=0,0,(V14*((LOG(V14))/LOG(2))))","v":0},null,{"$f":"N14","v":11222},{"$f":"COUNTIF(L32:L56,Y14)","v":0},{"$f":"Z14/(AB4-Z25)","v":0},{"$f":"IF(AA14=0,0,(AA14*((LOG(AA14))/LOG(2))))","v":0},null,{"$f":"N14","v":11222},{"$f":"COUNTIF(L57:L82,AD14)","v":0},{"$f":"AE14/(AG4-AE25)","v":0},{"$f":"IF(AF14=0,0,(AF14*((LOG(AF14))/LOG(2))))","v":0},null,{"$f":"N14","v":11222},{"$f":"COUNTIF(L83:L107,AI14)","v":0},{"$f":"AJ14/(AL4-AJ25)","v":0},{"$f":"IF(AK14=0,0,(AK14*((LOG(AK14))/LOG(2))))","v":0},null,{"$f":"N14","v":11222},{"$f":"COUNTIF(L108:L132,AN14)","v":0},{"$f":"AO14/(AQ4-AO25)","v":0},{"$f":"IF(AP14=0,0,(AP14*((LOG(AP14))/LOG(2))))","v":0},null,{"$f":"N14","v":11222},{"$f":"COUNTIF(L133:L157,AS14)","v":0},{"$f":"AT14/(AV4-AT25)","v":0},{"$f":"IF(AU14=0,0,(AU14*((LOG(AU14))/LOG(2))))","v":0}]
[21,1053,11,1063,11,1067,12,1071,13,1078,0,21111,null,12111,{"$f":"COUNTIF($L$7:$L$500,N15)","v":8},{"$f":"O15/$Q$4","v":5.2980132450331126E-2},{"$f":"IF(P15=0,0,(P15*((LOG(P15))/LOG(2))))","v":-0.22455124446755387},null,null,{"$f":"N15","v":12111},{"$f":"COUNTIF(L7:L31,T15)","v":0},{"$f":"U15/(W4-U25)","v":0},{"$f":"IF(V15=0,0,(V15*((LOG(V15))/LOG(2))))","v":0},null,{"$f":"N15","v":12111},{"$f":"COUNTIF(L32:L56,Y15)","v":0},{"$f":"Z15/(AB4-Z25)","v":0},{"$f":"IF(AA15=0,0,(AA15*((LOG(AA15))/LOG(2))))","v":0},null,{"$f":"N15","v":12111},{"$f":"COUNTIF(L57:L82,AD15)","v":1},{"$f":"AE15/(AG4-AE25)","v":3.8461538461538464E-2},{"$f":"IF(AF15=0,0,(AF15*((LOG(AF15))/LOG(2))))","v":-0.18078614300542661},null,{"$f":"N15","v":12111},{"$f":"COUNTIF(L83:L107,AI15)","v":2},{"$f":"AJ15/(AL4-AJ25)","v":0.08},{"$f":"IF(AK15=0,0,(AK15*((LOG(AK15))/LOG(2))))","v":-0.29150849518197797},null,{"$f":"N15","v":12111},{"$f":"COUNTIF(L108:L132,AN15)","v":2},{"$f":"AO15/(AQ4-AO25)","v":0.08},{"$f":"IF(AP15=0,0,(AP15*((LOG(AP15))/LOG(2))))","v":-0.29150849518197797},null,{"$f":"N15","v":12111},{"$f":"COUNTIF(L133:L157,AS15)","v":3},{"$f":"AT15/(AV4-AT25)","v":0.12},{"$f":"IF(AU15=0,0,(AU15*((LOG(AU15))/LOG(2))))","v":-0.36706724268642821}]
[21,1199,22,1203,13,1213,14,1218,13,1229,0,22111,null,12112,{"$f":"COUNTIF($L$7:$L$500,N16)","v":0},{"$f":"O16/$Q$4","v":0},{"$f":"IF(P16=0,0,(P16*((LOG(P16))/LOG(2))))","v":0},null,null,{"$f":"N16","v":12112},{"$f":"COUNTIF(L7:L31,T16)","v":0},{"$f":"U16/(W4-U25)","v":0},{"$f":"IF(V16=0,0,(V16*((LOG(V16))/LOG(2))))","v":0},null,{"$f":"N16","v":12112},{"$f":"COUNTIF(L32:L56,Y16)","v":0},{"$f":"Z16/(AB4-Z25)","v":0},{"$f":"IF(AA16=0,0,(AA16*((LOG(AA16))/LOG(2))))","v":0},null,{"$f":"N16","v":12112},{"$f":"COUNTIF(L57:L82,AD16)","v":0},{"$f":"AE16/(AG4-AE25)","v":0},{"$f":"IF(AF16=0,0,(AF16*((LOG(AF16))/LOG(2))))","v":0},null,{"$f":"N16","v":12112},{"$f":"COUNTIF(L83:L107,AI16)","v":0},{"$f":"AJ16/(AL4-AJ25)","v":0},{"$f":"IF(AK16=0,0,(AK16*((LOG(AK16))/LOG(2))))","v":0},null,{"$f":"N16","v":12112},{"$f":"COUNTIF(L108:L132,AN16)","v":0},{"$f":"AO16/(AQ4-AO25)","v":0},{"$f":"IF(AP16=0,0,(AP16*((LOG(AP16))/LOG(2))))","v":0},null,{"$f":"N16","v":12112},{"$f":"COUNTIF(L133:L157,AS16)","v":0},{"$f":"AT16/(AV4-AT25)","v":0},{"$f":"IF(AU16=0,0,(AU16*((LOG(AU16))/LOG(2))))","v":0}]
[21,1329,22,1333,13,1343,14,1347,13,1351,0,22111,null,12121,{"$f":"COUNTIF($L$7:$L$500,N17)","v":0},{"$f":"O17/$Q$4","v":0},{"$f":"IF(P17=0,0,(P17*((LOG(P17))/LOG(2))))","v":0},null,null,{"$f":"N17","v":12121},{"$f":"COUNTIF(L7:L31,T17)","v":0},{"$f":"U17/(W4-U25)","v":0},{"$f":"IF(V17=0,0,(V17*((LOG(V17))/LOG(2))))","v":0},null,{"$f":"N17","v":12121},{"$f":"COUNTIF(L32:L56,Y17)","v":0},{"$f":"Z17/(AB4-Z25)","v":0},{"$f":"IF(AA17=0,0,(AA17*((LOG(AA17))/LOG(2))))","v":0},null,{"$f":"N17","v":12121},{"$f":"COUNTIF(L57:L82,AD17)","v":0},{"$f":"AE17/(AG4-AE25)","v":0},{"$f":"IF(AF17=0,0,(AF17*((LOG(AF17))/LOG(2))))","v":0},null,{"$f":"N17","v":12121},{"$f":"COUNTIF(L83:L107,AI17)","v":0},{"$f":"AJ17/(AL4-AJ25)","v":0},{"$f":"IF(AK17=0,0,(AK17*((LOG(AK17))/LOG(2))))","v":0},null,{"$f":"N17","v":12121},{"$f":"COUNTIF(L108:L132,AN17)","v":0},{"$f":"AO17/(AQ4-AO25)","v":0},{"$f":"IF(AP17=0,0,(AP17*((LOG(AP17))/LOG(2))))","v":0},null,{"$f":"N17","v":12121},{"$f":"COUNTIF(L133:L157,AS17)","v":0},{"$f":"AT17/(AV4-AT25)","v":0},{"$f":"IF(AU17=0,0,(AU17*((LOG(AU17))/LOG(2))))","v":0}]
[21,1454,11,1465,11,1470,12,1474,24,1484,0,21112,null,12122,{"$f":"COUNTIF($L$7:$L$500,N18)","v":0},{"$f":"O18/$Q$4","v":0},{"$f":"IF(P18=0,0,(P18*((LOG(P18))/LOG(2))))","v":0},null,null,{"$f":"N18","v":12122},{"$f":"COUNTIF(L7:L31,T18)","v":0},{"$f":"U18/(W4-U25)","v":0},{"$f":"IF(V18=0,0,(V18*((LOG(V18))/LOG(2))))","v":0},null,{"$f":"N18","v":12122},{"$f":"COUNTIF(L32:L56,Y18)","v":0},{"$f":"Z18/(AB4-Z25)","v":0},{"$f":"IF(AA18=0,0,(AA18*((LOG(AA18))/LOG(2))))","v":0},null,{"$f":"N18","v":12122},{"$f":"COUNTIF(L57:L82,AD18)","v":0},{"$f":"AE18/(AG4-AE25)","v":0},{"$f":"IF(AF18=0,0,(AF18*((LOG(AF18))/LOG(2))))","v":0},null,{"$f":"N18","v":12122},{"$f":"COUNTIF(L83:L107,AI18)","v":0},{"$f":"AJ18/(AL4-AJ25)","v":0},{"$f":"IF(AK18=0,0,(AK18*((LOG(AK18))/LOG(2))))","v":0},null,{"$f":"N18","v":12122},{"$f":"COUNTIF(L108:L132,AN18)","v":0},{"$f":"AO18/(AQ4-AO25)","v":0},{"$f":"IF(AP18=0,0,(AP18*((LOG(AP18))/LOG(2))))","v":0},null,{"$f":"N18","v":12122},{"$f":"COUNTIF(L133:L157,AS18)","v":0},{"$f":"AT18/(AV4-AT25)","v":0},{"$f":"IF(AU18=0,0,(AU18*((LOG(AU18))/LOG(2))))","v":0}]
[21,1594,11,1604,11,1608,12,1612,13,1625,1,21111,null,12211,{"$f":"COUNTIF($L$7:$L$500,N19)","v":2},{"$f":"O19/$Q$4","v":1.3245033112582781E-2},{"$f":"IF(P19=0,0,(P19*((LOG(P19))/LOG(2))))","v":-8.2627877342054026E-2},null,null,{"$f":"N19","v":12211},{"$f":"COUNTIF(L7:L31,T19)","v":0},{"$f":"U19/(W4-U25)","v":0},{"$f":"IF(V19=0,0,(V19*((LOG(V19))/LOG(2))))","v":0},null,{"$f":"N19","v":12211},{"$f":"COUNTIF(L32:L56,Y19)","v":0},{"$f":"Z19/(AB4-Z25)","v":0},{"$f":"IF(AA19=0,0,(AA19*((LOG(AA19))/LOG(2))))","v":0},null,{"$f":"N19","v":12211},{"$f":"COUNTIF(L57:L82,AD19)","v":0},{"$f":"AE19/(AG4-AE25)","v":0},{"$f":"IF(AF19=0,0,(AF19*((LOG(AF19))/LOG(2))))","v":0},null,{"$f":"N19","v":12211},{"$f":"COUNTIF(L83:L107,AI19)","v":0},{"$f":"AJ19/(AL4-AJ25)","v":0},{"$f":"IF(AK19=0,0,(AK19*((LOG(AK19))/LOG(2))))","v":0},null,{"$f":"N19","v":12211},{"$f":"COUNTIF(L108:L132,AN19)","v":2},{"$f":"AO19/(AQ4-AO25)","v":0.08},{"$f":"IF(AP19=0,0,(AP19*((LOG(AP19))/LOG(2))))","v":-0.29150849518197797},null,{"$f":"N19","v":12211},{"$f":"COUNTIF(L133:L157,AS19)","v":0},{"$f":"AT19/(AV4-AT25)","v":0},{"$f":"IF(AU19=0,0,(AU19*((LOG(AU19))/LOG(2))))","v":0}]
[21,1730,11,1742,11,1746,12,1750,13,1755,0,21111,null,12212,{"$f":"COUNTIF($L$7:$L$500,N20)","v":0},{"$f":"O20/$Q$4","v":0},{"$f":"IF(P20=0,0,(P20*((LOG(P20))/LOG(2))))","v":0},null,null,{"$f":"N20","v":12212},{"$f":"COUNTIF(L7:L31,T20)","v":0},{"$f":"U20/(W4-U25)","v":0},{"$f":"IF(V20=0,0,(V20*((LOG(V20))/LOG(2))))","v":0},null,{"$f":"N20","v":12212},{"$f":"COUNTIF(L32:L56,Y20)","v":0},{"$f":"Z20/(AB4-Z25)","v":0},{"$f":"IF(AA20=0,0,(AA20*((LOG(AA20))/LOG(2))))","v":0},null,{"$f":"N20","v":12212},{"$f":"COUNTIF(L57:L82,AD20)","v":0},{"$f":"AE20/(AG4-AE25)","v":0},{"$f":"IF(AF20=0,0,(AF20*((LOG(AF20))/LOG(2))))","v":0},null,{"$f":"N20","v":12212},{"$f":"COUNTIF(L83:L107,AI20)","v":0},{"$f":"AJ20/(AL4-AJ25)","v":0},{"$f":"IF(AK20=0,0,(AK20*((LOG(AK20))/LOG(2))))","v":0},null,{"$f":"N20","v":12212},{"$f":"COUNTIF(L108:L132,AN20)","v":0},{"$f":"AO20/(AQ4-AO25)","v":0},{"$f":"IF(AP20=0,0,(AP20*((LOG(AP20))/LOG(2))))","v":0},null,{"$f":"N20","v":12212},{"$f":"COUNTIF(L133:L157,AS20)","v":0},{"$f":"AT20/(AV4-AT25)","v":0},{"$f":"IF(AU20=0,0,(AU20*((LOG(AU20))/LOG(2))))","v":0}]
[21,1861,22,1865,13,1873,14,1877,13,1882,1,22111,null,12221,{"$f":"COUNTIF($L$7:$L$500,N21)","v":0},{"$f":"O21/$Q$4","v":0},{"$f":"IF(P21=0,0,(P21*((LOG(P21))/LOG(2))))","v":0},null,null,{"$f":"N21","v":12221},{"$f":"COUNTIF(L7:L31,T21)","v":0},{"$f":"U21/(W4-U25)","v":0},{"$f":"IF(V21=0,0,(V21*((LOG(V21))/LOG(2))))","v":0},null,{"$f":"N21","v":12221},{"$f":"COUNTIF(L32:L56,Y21)","v":0},{"$f":"Z21/(AB4-Z25)","v":0},{"$f":"IF(AA21=0,0,(AA21*((LOG(AA21))/LOG(2))))","v":0},null,{"$f":"N21","v":12221},{"$f":"COUNTIF(L57:L82,AD21)","v":0},{"$f":"AE21/(AG4-AE25)","v":0},{"$f":"IF(AF21=0,0,(AF21*((LOG(AF21))/LOG(2))))","v":0},null,{"$f":"N21","v":12221},{"$f":"COUNTIF(L83:L107,AI21)","v":0},{"$f":"AJ21/(AL4-AJ25)","v":0},{"$f":"IF(AK21=0,0,(AK21*((LOG(AK21))/LOG(2))))","v":0},null,{"$f":"N21","v":12221},{"$f":"COUNTIF(L108:L132,AN21)","v":0},{"$f":"AO21/(AQ4-AO25)","v":0},{"$f":"IF(AP21=0,0,(AP21*((LOG(AP21))/LOG(2))))","v":0},null,{"$f":"N21","v":12221},{"$f":"COUNTIF(L133:L157,AS21)","v":0},{"$f":"AT21/(AV4-AT25)","v":0},{"$f":"IF(AU21=0,0,(AU21*((LOG(AU21))/LOG(2))))","v":0}]
[21,1983,22,1993,13,2007,14,2010,13,2016,0,22111,null,12222,{"$f":"COUNTIF($L$7:$L$500,N22)","v":0},{"$f":"O22/$Q$4","v":0},{"$f":"IF(P22=0,0,(P22*((LOG(P22))/LOG(2))))","v":0},null,null,{"$f":"N22","v":12222},{"$f":"COUNTIF(L7:L31,T22)","v":0},{"$f":"U22/(W4-U25)","v":0},{"$f":"IF(V22=0,0,(V22*((LOG(V22))/LOG(2))))","v":0},null,{"$f":"N22","v":12222},{"$f":"COUNTIF(L32:L56,Y22)","v":0},{"$f":"Z22/(AB4-Z25)","v":0},{"$f":"IF(AA22=0,0,(AA22*((LOG(AA22))/LOG(2))))","v":0},null,{"$f":"N22","v":12222},{"$f":"COUNTIF(L57:L82,AD22)","v":0},{"$f":"AE22/(AG4-AE25)","v":0},{"$f":"IF(AF22=0,0,(AF22*((LOG(AF22))/LOG(2))))","v":0},null,{"$f":"N22","v":12222},{"$f":"COUNTIF(L83:L107,AI22)","v":0},{"$f":"AJ22/(AL4-AJ25)","v":0},{"$f":"IF(AK22=0,0,(AK22*((LOG(AK22))/LOG(2))))","v":0},null,{"$f":"N22","v":12222},{"$f":"COUNTIF(L108:L132,AN22)","v":0},{"$f":"AO22/(AQ4-AO25)","v":0},{"$f":"IF(AP22=0,0,(AP22*((LOG(AP22))/LOG(2))))","v":0},null,{"$f":"N22","v":12222},{"$f":"COUNTIF(L133:L157,AS22)","v":0},{"$f":"AT22/(AV4-AT25)","v":0},{"$f":"IF(AU22=0,0,(AU22*((LOG(AU22))/LOG(2))))","v":0}]
[21,2138,11,2151,11,2155,12,2159,13,2175,0,21111,null,21111,{"$f":"COUNTIF($L$7:$L$500,N23)","v":28},{"$f":"O23/$Q$4","v":0.18543046357615894},{"$f":"IF(P23=0,0,(P23*((LOG(P23))/LOG(2))))","v":-0.45079069459264437},null,null,{"$f":"N23","v":21111},{"$f":"COUNTIF(L7:L31,T23)","v":11},{"$f":"U23/(W4-U25)","v":0.45833333333333331},{"$f":"IF(V23=0,0,(V23*((LOG(V23))/LOG(2))))","v":-0.51586832095510204},null,{"$f":"N23","v":21111},{"$f":"COUNTIF(L32:L56,Y23)","v":5},{"$f":"Z23/(AB4-Z25)","v":0.2},{"$f":"IF(AA23=0,0,(AA23*((LOG(AA23))/LOG(2))))","v":-0.46438561897747244},null,{"$f":"N23","v":21111},{"$f":"COUNTIF(L57:L82,AD23)","v":1},{"$f":"AE23/(AG4-AE25)","v":3.8461538461538464E-2},{"$f":"IF(AF23=0,0,(AF23*((LOG(AF23))/LOG(2))))","v":-0.18078614300542661},null,{"$f":"N23","v":21111},{"$f":"COUNTIF(L83:L107,AI23)","v":5},{"$f":"AJ23/(AL4-AJ25)","v":0.2},{"$f":"IF(AK23=0,0,(AK23*((LOG(AK23))/LOG(2))))","v":-0.46438561897747244},null,{"$f":"N23","v":21111},{"$f":"COUNTIF(L108:L132,AN23)","v":6},{"$f":"AO23/(AQ4-AO25)","v":0.24},{"$f":"IF(AP23=0,0,(AP23*((LOG(AP23))/LOG(2))))","v":-0.49413448537285637},null,{"$f":"N23","v":21111},{"$f":"COUNTIF(L133:L157,AS23)","v":0},{"$f":"AT23/(AV4-AT25)","v":0},{"$f":"IF(AU23=0,0,(AU23*((LOG(AU23))/LOG(2))))","v":0}]
[21,2289,11,2298,11,2302,12,2306,13,2310,0,21111,null,21112,{"$f":"COUNTIF($L$7:$L$500,N24)","v":2},{"$f":"O24/$Q$4","v":1.3245033112582781E-2},{"$f":"IF(P24=0,0,(P24*((LOG(P24))/LOG(2))))","v":-8.2627877342054026E-2},null,null,{"$f":"N24","v":21112},{"$f":"COUNTIF(L7:L31,T24)","v":1},{"$f":"U24/(W4-U25)","v":4.1666666666666664E-2},{"$f":"IF(V24=0,0,(V24*((LOG(V24))/LOG(2))))","v":-0.19104010419671485},null,{"$f":"N24","v":21112},{"$f":"COUNTIF(L32:L56,Y24)","v":0},{"$f":"Z24/(AB4-Z25)","v":0},{"$f":"IF(AA24=0,0,(AA24*((LOG(AA24))/LOG(2))))","v":0},null,{"$f":"N24","v":21112},{"$f":"COUNTIF(L57:L82,AD24)","v":1},{"$f":"AE24/(AG4-AE25)","v":3.8461538461538464E-2},{"$f":"IF(AF24=0,0,(AF24*((LOG(AF24))/LOG(2))))","v":-0.18078614300542661},null,{"$f":"N24","v":21112},{"$f":"COUNTIF(L83:L107,AI24)","v":0},{"$f":"AJ24/(AL4-AJ25)","v":0},{"$f":"IF(AK24=0,0,(AK24*((LOG(AK24))/LOG(2))))","v":0},null,{"$f":"N24","v":21112},{"$f":"COUNTIF(L108:L132,AN24)","v":0},{"$f":"AO24/(AQ4-AO25)","v":0},{"$f":"IF(AP24=0,0,(AP24*((LOG(AP24))/LOG(2))))","v":0},null,{"$f":"N24","v":21112},{"$f":"COUNTIF(L133:L157,AS24)","v":0},{"$f":"AT24/(AV4-AT25)","v":0},{"$f":"IF(AU24=0,0,(AU24*((LOG(AU24))/LOG(2))))","v":0}]
[21,2422,11,2435,22,2442,14,2457,13,2466,1,21211,null,21121,{"$f":"COUNTIF($L$7:$L$500,N25)","v":1},{"$f":"O25/$Q$4","v":6.6225165562913907E-3},{"$f":"IF(P25=0,0,(P25*((LOG(P25))/LOG(2))))","v":-4.7936455227318403E-2},null,null,{"$f":"N25","v":21121},{"$f":"COUNTIF(L7:L31,T25)","v":1},null,null,null,{"$f":"N25","v":21121},{"$f":"COUNTIF(L32:L56,Y25)","v":0},null,null,null,{"$f":"N25","v":21121},{"$f":"COUNTIF(L57:L82,AD25)","v":0},null,null,null,{"$f":"N25","v":21121},{"$f":"COUNTIF(L83:L107,AI25)","v":0},null,null,null,{"$f":"N25","v":21121},{"$f":"COUNTIF(L108:L132,AN25)","v":0},null,null,null,{"$f":"N25","v":21121},{"$f":"COUNTIF(L133:L157,AS25)","v":0}]
[21,2572,11,2583,11,2598,21,2615,11,2622,1,21121,null,21122,{"$f":"COUNTIF($L$7:$L$500,N26)","v":2},{"$f":"O26/$Q$4","v":1.3245033112582781E-2},{"$f":"IF(P26=0,0,(P26*((LOG(P26))/LOG(2))))","v":-8.2627877342054026E-2},null,null,{"$f":"N26","v":21122},{"$f":"COUNTIF(L7:L31,T26)","v":0},{"$f":"U26/(W4-U25)","v":0},{"$f":"IF(V26=0,0,(V26*((LOG(V26))/LOG(2))))","v":0},null,{"$f":"N26","v":21122},{"$f":"COUNTIF(L32:L56,Y26)","v":1},{"$f":"Z26/(AB4-Z25)","v":0.04},{"$f":"IF(AA26=0,0,(AA26*((LOG(AA26))/LOG(2))))","v":-0.18575424759098899},null,{"$f":"N26","v":21122},{"$f":"COUNTIF(L57:L82,AD26)","v":0},{"$f":"AE26/(AG4-AE25)","v":0},{"$f":"IF(AF26=0,0,(AF26*((LOG(AF26))/LOG(2))))","v":0},null,{"$f":"N26","v":21122},{"$f":"COUNTIF(L83:L107,AI26)","v":0},{"$f":"AJ26/(AL4-AJ25)","v":0},{"$f":"IF(AK26=0,0,(AK26*((LOG(AK26))/LOG(2))))","v":0},null,{"$f":"N26","v":21122},{"$f":"COUNTIF(L108:L132,AN26)","v":0},{"$f":"AO26/(AQ4-AO25)","v":0},{"$f":"IF(AP26=0,0,(AP26*((LOG(AP26))/LOG(2))))","v":0},null,{"$f":"N26","v":21122},{"$f":"COUNTIF(L133:L157,AS26)","v":1},{"$f":"AT26/(AV4-AT25)","v":0.04},{"$f":"IF(AU26=0,0,(AU26*((LOG(AU26))/LOG(2))))","v":-0.18575424759098899}]
[21,2722,11,2733,11,2737,12,2741,13,2746,1,21111,null,21211,{"$f":"COUNTIF($L$7:$L$500,N27)","v":10},{"$f":"O27/$Q$4","v":6.6225165562913912E-2},{"$f":"IF(P27=0,0,(P27*((LOG(P27))/LOG(2))))","v":-0.25936931420117332},null,null,{"$f":"N27","v":21211},{"$f":"COUNTIF(L7:L31,T27)","v":1},{"$f":"U27/(W4-U25)","v":4.1666666666666664E-2},{"$f":"IF(V27=0,0,(V27*((LOG(V27))/LOG(2))))","v":-0.19104010419671485},null,{"$f":"N27","v":21211},{"$f":"COUNTIF(L32:L56,Y27)","v":0},{"$f":"Z27/(AB4-Z25)","v":0},{"$f":"IF(AA27=0,0,(AA27*((LOG(AA27))/LOG(2))))","v":0},null,{"$f":"N27","v":21211},{"$f":"COUNTIF(L57:L82,AD27)","v":1},{"$f":"AE27/(AG4-AE25)","v":3.8461538461538464E-2},{"$f":"IF(AF27=0,0,(AF27*((LOG(AF27))/LOG(2))))","v":-0.18078614300542661},null,{"$f":"N27","v":21211},{"$f":"COUNTIF(L83:L107,AI27)","v":0},{"$f":"AJ27/(AL4-AJ25)","v":0},{"$f":"IF(AK27=0,0,(AK27*((LOG(AK27))/LOG(2))))","v":0},null,{"$f":"N27","v":21211},{"$f":"COUNTIF(L108:L132,AN27)","v":5},{"$f":"AO27/(AQ4-AO25)","v":0.2},{"$f":"IF(AP27=0,0,(AP27*((LOG(AP27))/LOG(2))))","v":-0.46438561897747244},null,{"$f":"N27","v":21211},{"$f":"COUNTIF(L133:L157,AS27)","v":3},{"$f":"AT27/(AV4-AT25)","v":0.12},{"$f":"IF(AU27=0,0,(AU27*((LOG(AU27))/LOG(2))))","v":-0.36706724268642821}]
[21,2852,22,2871,13,2879,14,2886,13,2893,0,22111,null,21212,{"$f":"COUNTIF($L$7:$L$500,N28)","v":0},{"$f":"O28/$Q$4","v":0},{"$f":"IF(P28=0,0,(P28*((LOG(P28))/LOG(2))))","v":0},null,null,{"$f":"N28","v":21212},{"$f":"COUNTIF(L7:L31,T28)","v":0},{"$f":"U28/(W4-U25)","v":0},{"$f":"IF(V28=0,0,(V28*((LOG(V28))/LOG(2))))","v":0},null,{"$f":"N28","v":21212},{"$f":"COUNTIF(L32:L56,Y28)","v":0},{"$f":"Z28/(AB4-Z25)","v":0},{"$f":"IF(AA28=0,0,(AA28*((LOG(AA28))/LOG(2))))","v":0},null,{"$f":"N28","v":21212},{"$f":"COUNTIF(L57:L82,AD28)","v":0},{"$f":"AE28/(AG4-AE25)","v":0},{"$f":"IF(AF28=0,0,(AF28*((LOG(AF28))/LOG(2))))","v":0},null,{"$f":"N28","v":21212},{"$f":"COUNTIF(L83:L107,AI28)","v":0},{"$f":"AJ28/(AL4-AJ25)","v":0},{"$f":"IF(AK28=0,0,(AK28*((LOG(AK28))/LOG(2))))","v":0},null,{"$f":"N28","v":21212},{"$f":"COUNTIF(L108:L132,AN28)","v":0},{"$f":"AO28/(AQ4-AO25)","v":0},{"$f":"IF(AP28=0,0,(AP28*((LOG(AP28))/LOG(2))))","v":0},null,{"$f":"N28","v":21212},{"$f":"COUNTIF(L133:L157,AS28)","v":0},{"$f":"AT28/(AV4-AT25)","v":0},{"$f":"IF(AU28=0,0,(AU28*((LOG(AU28))/LOG(2))))","v":0}]
[21,3001,22,3016,13,3023,14,3031,13,3037,0,22111,null,21221,{"$f":"COUNTIF($L$7:$L$500,N29)","v":3},{"$f":"O29/$Q$4","v":1.9867549668874173E-2},{"$f":"IF(P29=0,0,(P29*((LOG(P29))/LOG(2))))","v":-0.11232004447557463},null,null,{"$f":"N29","v":21221},{"$f":"COUNTIF(L7:L31,T29)","v":0},{"$f":"U29/(W4-U25)","v":0},{"$f":"IF(V29=0,0,(V29*((LOG(V29))/LOG(2))))","v":0},null,{"$f":"N29","v":21221},{"$f":"COUNTIF(L32:L56,Y29)","v":0},{"$f":"Z29/(AB4-Z25)","v":0},{"$f":"IF(AA29=0,0,(AA29*((LOG(AA29))/LOG(2))))","v":0},null,{"$f":"N29","v":21221},{"$f":"COUNTIF(L57:L82,AD29)","v":0},{"$f":"AE29/(AG4-AE25)","v":0},{"$f":"IF(AF29=0,0,(AF29*((LOG(AF29))/LOG(2))))","v":0},null,{"$f":"N29","v":21221},{"$f":"COUNTIF(L83:L107,AI29)","v":0},{"$f":"AJ29/(AL4-AJ25)","v":0},{"$f":"IF(AK29=0,0,(AK29*((LOG(AK29))/LOG(2))))","v":0},null,{"$f":"N29","v":21221},{"$f":"COUNTIF(L108:L132,AN29)","v":1},{"$f":"AO29/(AQ4-AO25)","v":0.04},{"$f":"IF(AP29=0,0,(AP29*((LOG(AP29))/LOG(2))))","v":-0.18575424759098899},null,{"$f":"N29","v":21221},{"$f":"COUNTIF(L133:L157,AS29)","v":2},{"$f":"AT29/(AV4-AT25)","v":0.08},{"$f":"IF(AU29=0,0,(AU29*((LOG(AU29))/LOG(2))))","v":-0.29150849518197797}]
[21,3137,22,3146,24,3151,14,3158,13,3162,0,22211,null,21222,{"$f":"COUNTIF($L$7:$L$500,N30)","v":2},{"$f":"O30/$Q$4","v":1.3245033112582781E-2},{"$f":"IF(P30=0,0,(P30*((LOG(P30))/LOG(2))))","v":-8.2627877342054026E-2},null,null,{"$f":"N30","v":21222},{"$f":"COUNTIF(L7:L31,T30)","v":0},{"$f":"U30/(W4-U25)","v":0},{"$f":"IF(V30=0,0,(V30*((LOG(V30))/LOG(2))))","v":0},null,{"$f":"N30","v":21222},{"$f":"COUNTIF(L32:L56,Y30)","v":0},{"$f":"Z30/(AB4-Z25)","v":0},{"$f":"IF(AA30=0,0,(AA30*((LOG(AA30))/LOG(2))))","v":0},null,{"$f":"N30","v":21222},{"$f":"COUNTIF(L57:L82,AD30)","v":0},{"$f":"AE30/(AG4-AE25)","v":0},{"$f":"IF(AF30=0,0,(AF30*((LOG(AF30))/LOG(2))))","v":0},null,{"$f":"N30","v":21222},{"$f":"COUNTIF(L83:L107,AI30)","v":1},{"$f":"AJ30/(AL4-AJ25)","v":0.04},{"$f":"IF(AK30=0,0,(AK30*((LOG(AK30))/LOG(2))))","v":-0.18575424759098899},null,{"$f":"N30","v":21222},{"$f":"COUNTIF(L108:L132,AN30)","v":1},{"$f":"AO30/(AQ4-AO25)","v":0.04},{"$f":"IF(AP30=0,0,(AP30*((LOG(AP30))/LOG(2))))","v":-0.18575424759098899},null,{"$f":"N30","v":21222},{"$f":"COUNTIF(L133:L157,AS30)","v":0},{"$f":"AT30/(AV4-AT25)","v":0},{"$f":"IF(AU30=0,0,(AU30*((LOG(AU30))/LOG(2))))","v":0}]
[21,3283,11,3292,11,3296,12,3301,13,3317,1,21111,null,22111,{"$f":"COUNTIF($L$7:$L$500,N31)","v":29},{"$f":"O31/$Q$4","v":0.19205298013245034},{"$f":"IF(P31=0,0,(P31*((LOG(P31))/LOG(2))))","v":-0.4571674740511768},null,null,{"$f":"N31","v":22111},{"$f":"COUNTIF(L7:L31,T31)","v":8},{"$f":"U31/(W4-U25)","v":0.33333333333333331},{"$f":"IF(V31=0,0,(V31*((LOG(V31))/LOG(2))))","v":-0.52832083357371862},null,{"$f":"N31","v":22111},{"$f":"COUNTIF(L32:L56,Y31)","v":4},{"$f":"Z31/(AB4-Z25)","v":0.16},{"$f":"IF(AA31=0,0,(AA31*((LOG(AA31))/LOG(2))))","v":-0.42301699036395596},null,{"$f":"N31","v":22111},{"$f":"COUNTIF(L57:L82,AD31)","v":6},{"$f":"AE31/(AG4-AE25)","v":0.23076923076923078},{"$f":"IF(AF31=0,0,(AF31*((LOG(AF31))/LOG(2))))","v":-0.48818705017383146},null,{"$f":"N31","v":22111},{"$f":"COUNTIF(L83:L107,AI31)","v":5},{"$f":"AJ31/(AL4-AJ25)","v":0.2},{"$f":"IF(AK31=0,0,(AK31*((LOG(AK31))/LOG(2))))","v":-0.46438561897747244},null,{"$f":"N31","v":22111},{"$f":"COUNTIF(L108:L132,AN31)","v":3},{"$f":"AO31/(AQ4-AO25)","v":0.12},{"$f":"IF(AP31=0,0,(AP31*((LOG(AP31))/LOG(2))))","v":-0.36706724268642821},null,{"$f":"N31","v":22111},{"$f":"COUNTIF(L133:L157,AS31)","v":3},{"$f":"AT31/(AV4-AT25)","v":0.12},{"$f":"IF(AU31=0,0,(AU31*((LOG(AU31))/LOG(2))))","v":-0.36706724268642821}]
[21,3424,11,3438,11,3443,12,3449,13,3459,0,21111,null,22112,{"$f":"COUNTIF($L$7:$L$500,N32)","v":0},{"$f":"O32/$Q$4","v":0},{"$f":"IF(P32=0,0,(P32*((LOG(P32))/LOG(2))))","v":0},null,null,{"$f":"N32","v":22112},{"$f":"COUNTIF(L7:L31,T32)","v":0},{"$f":"U32/(W4-U25)","v":0},{"$f":"IF(V32=0,0,(V32*((LOG(V32))/LOG(2))))","v":0},null,{"$f":"N32","v":22112},{"$f":"COUNTIF(L32:L56,Y32)","v":0},{"$f":"Z32/(AB4-Z25)","v":0},{"$f":"IF(AA32=0,0,(AA32*((LOG(AA32))/LOG(2))))","v":0},null,{"$f":"N32","v":22112},{"$f":"COUNTIF(L57:L82,AD32)","v":0},{"$f":"AE32/(AG4-AE25)","v":0},{"$f":"IF(AF32=0,0,(AF32*((LOG(AF32))/LOG(2))))","v":0},null,{"$f":"N32","v":22112},{"$f":"COUNTIF(L83:L107,AI32)","v":0},{"$f":"AJ32/(AL4-AJ25)","v":0},{"$f":"IF(AK32=0,0,(AK32*((LOG(AK32))/LOG(2))))","v":0},null,{"$f":"N32","v":22112},{"$f":"COUNTIF(L108:L132,AN32)","v":0},{"$f":"AO32/(AQ4-AO25)","v":0},{"$f":"IF(AP32=0,0,(AP32*((LOG(AP32))/LOG(2))))","v":0},null,{"$f":"N32","v":22112},{"$f":"COUNTIF(L133:L157,AS32)","v":0},{"$f":"AT32/(AV4-AT25)","v":0},{"$f":"IF(AU32=0,0,(AU32*((LOG(AU32))/LOG(2))))","v":0}]
[21,3563,11,3590,11,3602,12,3609,13,3618,0,21111,null,22121,{"$f":"COUNTIF($L$7:$L$500,N33)","v":5},{"$f":"O33/$Q$4","v":3.3112582781456956E-2},{"$f":"IF(P33=0,0,(P33*((LOG(P33))/LOG(2))))","v":-0.16279723988204359},null,null,{"$f":"N33","v":22121},{"$f":"COUNTIF(L7:L31,T33)","v":0},{"$f":"U33/(W4-U25)","v":0},{"$f":"IF(V33=0,0,(V33*((LOG(V33))/LOG(2))))","v":0},null,{"$f":"N33","v":22121},{"$f":"COUNTIF(L32:L56,Y33)","v":0},{"$f":"Z33/(AB4-Z25)","v":0},{"$f":"IF(AA33=0,0,(AA33*((LOG(AA33))/LOG(2))))","v":0},null,{"$f":"N33","v":22121},{"$f":"COUNTIF(L57:L82,AD33)","v":0},{"$f":"AE33/(AG4-AE25)","v":0},{"$f":"IF(AF33=0,0,(AF33*((LOG(AF33))/LOG(2))))","v":0},null,{"$f":"N33","v":22121},{"$f":"COUNTIF(L83:L107,AI33)","v":0},{"$f":"AJ33/(AL4-AJ25)","v":0},{"$f":"IF(AK33=0,0,(AK33*((LOG(AK33))/LOG(2))))","v":0},null,{"$f":"N33","v":22121},{"$f":"COUNTIF(L108:L132,AN33)","v":1},{"$f":"AO33/(AQ4-AO25)","v":0.04},{"$f":"IF(AP33=0,0,(AP33*((LOG(AP33))/LOG(2))))","v":-0.18575424759098899},null,{"$f":"N33","v":22121},{"$f":"COUNTIF(L133:L157,AS33)","v":4},{"$f":"AT33/(AV4-AT25)","v":0.16},{"$f":"IF(AU33=0,0,(AU33*((LOG(AU33))/LOG(2))))","v":-0.42301699036395596}]
[21,3715,22,3724,24,3732,23,3747,13,3760,0,22221,null,22122,{"$f":"COUNTIF($L$7:$L$500,N34)","v":1},{"$f":"O34/$Q$4","v":6.6225165562913907E-3},{"$f":"IF(P34=0,0,(P34*((LOG(P34))/LOG(2))))","v":-4.7936455227318403E-2},null,null,{"$f":"N34","v":22122},{"$f":"COUNTIF(L7:L31,T34)","v":0},{"$f":"U34/(W4-U25)","v":0},{"$f":"IF(V34=0,0,(V34*((LOG(V34))/LOG(2))))","v":0},null,{"$f":"N34","v":22122},{"$f":"COUNTIF(L32:L56,Y34)","v":0},{"$f":"Z34/(AB4-Z25)","v":0},{"$f":"IF(AA34=0,0,(AA34*((LOG(AA34))/LOG(2))))","v":0},null,{"$f":"N34","v":22122},{"$f":"COUNTIF(L57:L82,AD34)","v":0},{"$f":"AE34/(AG4-AE25)","v":0},{"$f":"IF(AF34=0,0,(AF34*((LOG(AF34))/LOG(2))))","v":0},null,{"$f":"N34","v":22122},{"$f":"COUNTIF(L83:L107,AI34)","v":0},{"$f":"AJ34/(AL4-AJ25)","v":0},{"$f":"IF(AK34=0,0,(AK34*((LOG(AK34))/LOG(2))))","v":0},null,{"$f":"N34","v":22122},{"$f":"COUNTIF(L108:L132,AN34)","v":0},{"$f":"AO34/(AQ4-AO25)","v":0},{"$f":"IF(AP34=0,0,(AP34*((LOG(AP34))/LOG(2))))","v":0},null,{"$f":"N34","v":22122},{"$f":"COUNTIF(L133:L157,AS34)","v":1},{"$f":"AT34/(AV4-AT25)","v":0.04},{"$f":"IF(AU34=0,0,(AU34*((LOG(AU34))/LOG(2))))","v":-0.18575424759098899}]
[21,3862,22,3871,24,3890,14,3902,13,3910,1,22211,null,22211,{"$f":"COUNTIF($L$7:$L$500,N35)","v":19},{"$f":"O35/$Q$4","v":0.12582781456953643},{"$f":"IF(P35=0,0,(P35*((LOG(P35))/LOG(2))))","v":-0.37628521385263825},null,null,{"$f":"N35","v":22211},{"$f":"COUNTIF(L7:L31,T35)","v":1},{"$f":"U35/(W4-U25)","v":4.1666666666666664E-2},{"$f":"IF(V35=0,0,(V35*((LOG(V35))/LOG(2))))","v":-0.19104010419671485},null,{"$f":"N35","v":22211},{"$f":"COUNTIF(L32:L56,Y35)","v":8},{"$f":"Z35/(AB4-Z25)","v":0.32},{"$f":"IF(AA35=0,0,(AA35*((LOG(AA35))/LOG(2))))","v":-0.52603398072791185},null,{"$f":"N35","v":22211},{"$f":"COUNTIF(L57:L82,AD35)","v":5},{"$f":"AE35/(AG4-AE25)","v":0.19230769230769232},{"$f":"IF(AF35=0,0,(AF35*((LOG(AF35))/LOG(2))))","v":-0.45740608139494804},null,{"$f":"N35","v":22211},{"$f":"COUNTIF(L83:L107,AI35)","v":4},{"$f":"AJ35/(AL4-AJ25)","v":0.16},{"$f":"IF(AK35=0,0,(AK35*((LOG(AK35))/LOG(2))))","v":-0.42301699036395596},null,{"$f":"N35","v":22211},{"$f":"COUNTIF(L108:L132,AN35)","v":0},{"$f":"AO35/(AQ4-AO25)","v":0},{"$f":"IF(AP35=0,0,(AP35*((LOG(AP35))/LOG(2))))","v":0},null,{"$f":"N35","v":22211},{"$f":"COUNTIF(L133:L157,AS35)","v":1},{"$f":"AT35/(AV4-AT25)","v":0.04},{"$f":"IF(AU35=0,0,(AU35*((LOG(AU35))/LOG(2))))","v":-0.18575424759098899}]
[21,4013,22,4028,13,4036,14,4043,13,4052,0,22111,null,22212,{"$f":"COUNTIF($L$7:$L$500,N36)","v":5},{"$f":"O36/$Q$4","v":3.3112582781456956E-2},{"$f":"IF(P36=0,0,(P36*((LOG(P36))/LOG(2))))","v":-0.16279723988204359},null,null,{"$f":"N36","v":22212},{"$f":"COUNTIF(L7:L31,T36)","v":0},{"$f":"U36/(W4-U25)","v":0},{"$f":"IF(V36=0,0,(V36*((LOG(V36))/LOG(2))))","v":0},null,{"$f":"N36","v":22212},{"$f":"COUNTIF(L32:L56,Y36)","v":0},{"$f":"Z36/(AB4-Z25)","v":0},{"$f":"IF(AA36=0,0,(AA36*((LOG(AA36))/LOG(2))))","v":0},null,{"$f":"N36","v":22212},{"$f":"COUNTIF(L57:L82,AD36)","v":1},{"$f":"AE36/(AG4-AE25)","v":3.8461538461538464E-2},{"$f":"IF(AF36=0,0,(AF36*((LOG(AF36))/LOG(2))))","v":-0.18078614300542661},null,{"$f":"N36","v":22212},{"$f":"COUNTIF(L83:L107,AI36)","v":1},{"$f":"AJ36/(AL4-AJ25)","v":0.04},{"$f":"IF(AK36=0,0,(AK36*((LOG(AK36))/LOG(2))))","v":-0.18575424759098899},null,{"$f":"N36","v":22212},{"$f":"COUNTIF(L108:L132,AN36)","v":2},{"$f":"AO36/(AQ4-AO25)","v":0.08},{"$f":"IF(AP36=0,0,(AP36*((LOG(AP36))/LOG(2))))","v":-0.29150849518197797},null,{"$f":"N36","v":22212},{"$f":"COUNTIF(L133:L157,AS36)","v":1},{"$f":"AT36/(AV4-AT25)","v":0.04},{"$f":"IF(AU36=0,0,(AU36*((LOG(AU36))/LOG(2))))","v":-0.18575424759098899}]
[21,4150,22,4161,13,4180,14,4184,13,4192,0,22111,null,22221,{"$f":"COUNTIF($L$7:$L$500,N37)","v":9},{"$f":"O37/$Q$4","v":5.9602649006622516E-2},{"$f":"IF(P37=0,0,(P37*((LOG(P37))/LOG(2))))","v":-0.24249216980758209},null,null,{"$f":"N37","v":22221},{"$f":"COUNTIF(L7:L31,T37)","v":0},{"$f":"U37/(W4-U25)","v":0},{"$f":"IF(V37=0,0,(V37*((LOG(V37))/LOG(2))))","v":0},null,{"$f":"N37","v":22221},{"$f":"COUNTIF(L32:L56,Y37)","v":5},{"$f":"Z37/(AB4-Z25)","v":0.2},{"$f":"IF(AA37=0,0,(AA37*((LOG(AA37))/LOG(2))))","v":-0.46438561897747244},null,{"$f":"N37","v":22221},{"$f":"COUNTIF(L57:L82,AD37)","v":1},{"$f":"AE37/(AG4-AE25)","v":3.8461538461538464E-2},{"$f":"IF(AF37=0,0,(AF37*((LOG(AF37))/LOG(2))))","v":-0.18078614300542661},null,{"$f":"N37","v":22221},{"$f":"COUNTIF(L83:L107,AI37)","v":2},{"$f":"AJ37/(AL4-AJ25)","v":0.08},{"$f":"IF(AK37=0,0,(AK37*((LOG(AK37))/LOG(2))))","v":-0.29150849518197797},null,{"$f":"N37","v":22221},{"$f":"COUNTIF(L108:L132,AN37)","v":1},{"$f":"AO37/(AQ4-AO25)","v":0.04},{"$f":"IF(AP37=0,0,(AP37*((LOG(AP37))/LOG(2))))","v":-0.18575424759098899},null,{"$f":"N37","v":22221},{"$f":"COUNTIF(L133:L157,AS37)","v":0},{"$f":"AT37/(AV4-AT25)","v":0},{"$f":"IF(AU37=0,0,(AU37*((LOG(AU37))/LOG(2))))","v":0}]
[21,4305,11,4317,11,4323,12,4327,13,4334,0,21111,null,22222,{"$f":"COUNTIF($L$7:$L$500,N38)","v":4},{"$f":"O38/$Q$4","v":2.6490066225165563E-2},{"$f":"IF(P38=0,0,(P38*((LOG(P38))/LOG(2))))","v":-0.13876568845894247},null,null,{"$f":"N38","v":22222},{"$f":"COUNTIF(L7:L31,T38)","v":0},{"$f":"U38/(W4-U25)","v":0},{"$f":"IF(V38=0,0,(V38*((LOG(V38))/LOG(2))))","v":0},null,{"$f":"N38","v":22222},{"$f":"COUNTIF(L32:L56,Y38)","v":2},{"$f":"Z38/(AB4-Z25)","v":0.08},{"$f":"IF(AA38=0,0,(AA38*((LOG(AA38))/LOG(2))))","v":-0.29150849518197797},null,{"$f":"N38","v":22222},{"$f":"COUNTIF(L57:L82,AD38)","v":0},{"$f":"AE38/(AG4-AE25)","v":0},{"$f":"IF(AF38=0,0,(AF38*((LOG(AF38))/LOG(2))))","v":0},null,{"$f":"N38","v":22222},{"$f":"COUNTIF(L83:L107,AI38)","v":2},{"$f":"AJ38/(AL4-AJ25)","v":0.08},{"$f":"IF(AK38=0,0,(AK38*((LOG(AK38))/LOG(2))))","v":-0.29150849518197797},null,{"$f":"N38","v":22222},{"$f":"COUNTIF(L108:L132,AN38)","v":0},{"$f":"AO38/(AQ4-AO25)","v":0},{"$f":"IF(AP38=0,0,(AP38*((LOG(AP38))/LOG(2))))","v":0},null,{"$f":"N38","v":22222},{"$f":"COUNTIF(L133:L157,AS38)","v":0},{"$f":"AT38/(AV4-AT25)","v":0},{"$f":"IF(AU38=0,0,(AU38*((LOG(AU38))/LOG(2))))","v":0}]
[21,4435,22,4443,24,4448,14,4462,13,4466,0,22211,null,null,null,{"$f":"SUM(P7:P38)","v":1},{"$f":"-SUM(Q7:Q38)","v":3.5469633343854237},null,null,null,null,{"$f":"SUM(V7:V38)","v":0.99999999999999989},{"$f":"-SUM(W7:W38)","v":1.999389675512395},null,null,null,{"$f":"SUM(AA7:AA38)","v":0.99999999999999989},{"$f":"-SUM(AB7:AB38)","v":2.3550849518197796},null,null,null,{"$f":"SUM(AF7:AF38)","v":0.99999999999999978},{"$f":"-SUM(AG7:AG38)","v":2.9015589514808231},null,null,null,{"$f":"SUM(AK7:AK38)","v":1},{"$f":"-SUM(AL7:AL38)","v":2.9648894517332409},null,null,null,{"$f":"SUM(AP7:AP38)","v":1},{"$f":"-SUM(AQ7:AQ38)","v":3.1288840705376355},null,null,null,{"$f":"SUM(AU7:AU38)","v":1},{"$f":"-SUM(AV7:AV38)","v":3.2088840705376351}]
[21,4563,22,4567,24,4583,14,4594,13,4604,1,22211,null,null,null,"U=",{"$f":"Q39/(LOG(Q4)/LOG(2))","v":0.49002003371203429},null,null,null,null,"U1=",{"$f":"W39/(LOG(W4)/LOG(2))","v":0.43054513184857818},null,null,null,"U2=",{"$f":"AB39/(LOG(AB4)/LOG(2))","v":0.50713994051009259},null,null,null,"U3=",{"$f":"AG39/(LOG(AG4)/LOG(2))","v":0.6172952160799795},null,null,null,"U4=",{"$f":"AL39/(LOG(AL4)/LOG(2))","v":0.63845419207029075},null,null,null,"U5=",{"$f":"AQ39/(LOG(AQ4)/LOG(2))","v":0.67376851105490809},null,null,null,"U6=",{"$f":"AV39/(LOG(AV4)/LOG(2))","v":0.69099557337784379}]
[21,4699,22,4715,13,4725,14,4746,13,4756,0,22111]
[21,4863,22,4870,24,4878,23,4894,24,4912,0,22222]
[21,5013,22,5017,24,5021,23,5028,13,5038,0,22221,null,"Total Target Seq"]
[21,5141,22,5148,24,5156,23,5169,13,5179,0,22221,null,{"$f":"COUNTIF(L7:L157,G3)","v":1},null,25,25,26,25,25,25]
[21,5280,22,5288,24,5293,14,5305,13,5318,0,22211,null,null,null,"% of reinforcement given in 6 equal intervals based on number of trials "]
[21,5419,11,5438,11,5445,21,5455,22,5461,0,21122,null,null,null,"%_1","%_2","%_3","%_4","%_5","%_6"]
[21,5558,11,5567,11,5574,12,5579,13,5594,1,21111,null,null,"target sequence",{"$f":"$G$3","v":21121},{"$f":"$G$3","v":21121},{"$f":"$G$3","v":21121},{"$f":"$G$3","v":21121},{"$f":"$G$3","v":21121},{"$f":"$G$3","v":21121}]
[21,5693,22,5698,24,5713,23,5718,13,5726,0,22221,null,null,"total reinforcement",{"$f":"U25","v":1},{"$f":"Z25","v":0},{"$f":"AE25","v":0},{"$f":"AJ25","v":0},{"$f":"AO25","v":0},{"$f":"AT25","v":0}]
[21,5828,22,5840,24,5853,23,5857,13,5865,0,22221,null,null,"% target"]
[21,5965,11,6004,11,6012,12,6024,13,6035,0,21111,null,null,"CCRF"]
[21,6137,22,6141,24,6172,14,6183,13,6190,0,22211,null,null,"% CCRf"]
[21,6289,22,6296,24,6311,14,6322,13,6329,0,22211,null,null,"average response rate",{"$f":"J31/P44","v":132.68},{"$f":"(J56-J31)/Q44","v":143.36000000000001},{"$f":"(J82-J56)/R44","v":165.76923076923077},{"$f":"(J107-J82)/S44","v":190.84},{"$f":"(J132-J107)/T44","v":169.2},{"$f":"(J157-J132)/U44","v":147.24}]
[21,6435,22,6440,24,6449,23,6453,24,6472,0,22222]
[21,6578,22,6583,24,6603,14,6613,13,6617,1,22211]
[21,6717,22,6727,13,6739,14,6743,13,6749,0,22111]
[21,6860,22,6865,24,6879,14,6892,13,6901,0,22211]
[21,7005,22,7013,13,7021,14,7026,13,7032,0,22111]
[21,7135,22,7140,24,7155,14,7165,13,7170,0,22211]
[21,7274,22,7288,24,7299,14,7309,13,7313,0,22211]
[21,7414,22,7423,13,7432,14,7436,13,7440,0,22111]
[12,7548,13,7556,13,7572,23,7582,13,7594,0,11121]
[12,7708,24,7716,13,7725,14,7732,13,7738,1,12111]
[21,7844,11,7855,22,7866,14,7874,13,7881,0,21211]
[21,7981,22,7985,24,7996,14,8009,13,8013,0,22211]
[12,8120,13,8131,13,8138,14,8142,13,8149,0,11111]
[21,8247,22,8255,13,8273,14,8278,13,8286,0,22111]
[21,8391,11,8400,11,8404,12,8408,13,8418,0,21111]
[21,8517,22,8522,13,8537,14,8544,13,8548,0,22111]
[12,8662,13,8667,13,8673,14,8679,13,8686,0,11111]
[21,8789,22,8793,24,8801,14,8812,13,8816,0,22211]
[12,8917,13,8946,13,8950,14,8955,13,8966,0,11111]
[21,9077,22,9089,24,9093,14,9108,24,9129,0,22212]
[21,9232,22,9236,24,9245,23,9250,13,9262,1,22221]
[21,9358,22,9370,13,9384,14,9388,13,9394,0,22111]
[12,9506,13,9510,13,9514,14,9525,13,9531,0,11111]
[12,9637,13,9663,13,9686,14,9690,13,9697,0,11111]
[21,9795,11,9803,11,9807,12,9812,24,9822,0,21112]
[12,9976,13,9982,13,9987,14,10002,13,10010,1,11111]
[21,10104,22,10110,13,10126,14,10130,13,10135,0,22111]
[12,10255,13,10284,24,10302,14,10310,13,10316,0,11211]
[21,10418,22,10425,24,10445,14,10455,13,10458,0,22211]
[12,11171,13,11183,13,11193,14,11201,13,11211,0,11111]
[21,11409,22,11419,24,11435,14,11448,24,11467,1,22212]
[21,11628,11,11649,11,11657,12,11664,13,11682,1,21111]
[21,11829,22,11859,13,11879,14,11884,13,11891,0,22111]
[21,12057,11,12071,11,12078,12,12085,13,12091,0,21111]
[21,12265,22,12275,13,12289,14,12297,13,12305,0,22111]
[21,12417,22,12425,24,12439,14,12453,13,12457,1,22211]
[21,12579,11,12589,11,12595,12,12600,13,12617,1,21111]
[21,12721,22,12736,24,12745,14,12760,13,12765,0,22211]
[12,12904,13,12922,13,12927,14,12941,13,12949,0,11111]
[21,13052,22,13056,24,13080,23,13093,13,13103,0,22221]
[21,13215,22,13223,24,13232,14,13242,13,13246,0,22211]
[21,13360,11,13373,22,13381,23,13401,24,13418,0,21222]
[12,13604,13,13611,13,13615,14,13640,13,13651,1,11111]
[21,13793,22,13800,13,13813,14,13822,13,13828,0,22111]
[21,13967,22,13989,13,14000,14,14004,13,14008,0,22111]
[21,14111,22,14115,24,14123,14,14134,13,14139,0,22211]
[12,14277,24,14286,13,14297,14,14304,13,14317,0,12111]
[21,14431,11,14441,11,14463,12,14468,13,14473,1,21111]
[21,14593,22,14603,24,14639,23,14654,24,14662,0,22222]
[21,15021,11,15035,11,15043,12,15053,13,15060,0,21111]
[21,15192,22,15203,24,15219,23,15226,24,15233,0,22222]
[12,15497,24,15506,13,15517,14,15524,13,15541,1,12111]
[21,15637,22,15642,24,15650,23,15658,13,15669,0,22221]
[21,15778,22,15808,13,15818,14,15823,13,15827,0,22111]
[12,15955,13,15963,13,15968,14,15975,13,15982,0,11111]
[12,16099,24,16128,13,16140,14,16144,13,16148,0,12111]
[21,16291,22,16303,13,16316,14,16342,13,16349,0,22111]
[21,16457,22,16464,24,16472,14,16488,24,16496,1,22212]
[21,16611,22,16639,13,16648,14,16652,13,16660,0,22111]
[21,16784,11,16794,11,16798,12,16803,13,16819,0,21111]
[21,16944,22,16965,13,16976,14,17010,13,17017,0,22111]
[21,17135,11,17151,22,17161,14,17171,13,17179,0,21211]
[21,17297,11,17311,22,17319,23,17333,24,17341,0,21222]
[21,17454,11,17468,22,17477,14,17490,13,17495,1,21211]
[21,17623,11,17631,11,17635,12,17648,13,17653,0,21111]
[21,17764,22,17771,24,17779,23,17789,13,17799,0,22221]
[12,17964,24,17972,13,17984,14,17990,13,17998,0,12111]
[12,18122,13,18130,13,18134,14,18139,13,18161,0,11111]
[21,18297,11,18307,11,18312,12,18317,13,18326,0,21111]
[21,18460,11,18469,11,18475,12,18481,13,18489,0,21111]
[21,18620,11,18632,22,18641,14,18657,13,18664,1,21211]
[21,18822,11,18840,11,18853,12,18858,13,18862,0,21111]
[21,18983,22,18996,24,19006,14,19021,24,19047,0,22212]
[21,19194,11,19202,11,19209,12,19217,13,19223,0,21111]
[21,19345,11,19358,22,19366,23,19371,13,19382,0,21221]
[21,19489,11,19503,22,19511,14,19525,13,19541,0,21211]
[12,19660,24,19680,24,19687,14,19698,13,19705,0,12211]
[12,19842,24,19869,24,19880,14,19890,13,19896,0,12211]
[21,20007,22,20015,13,20027,23,20034,13,20051,0,22121]
[21,20169,11,20182,22,20190,14,20205,13,20212,1,21211]
[21,20313,22,20319,13,20330,23,20338,13,20349,0,22121]
[12,20472,13,20485,13,20489,14,20495,13,20502,0,11111]
[21,20615,11,20625,22,20633,23,20638,13,20648,0,21221]
[12,20766,13,20770,13,20779,14,20783,13,20799,0,11111]
[21,20906,11,20918,22,20925,23,20930,13,20942,1,21221]
[21,21043,22,21057,13,21066,14,21071,13,21084,0,22111]
[21,21187,22,21207,13,21217,23,21226,13,21234,0,22121]
[12,21349,24,21357,13,21375,14,21390,13,21396,1,12111]
[21,21497,22,21504,24,21514,14,21524,24,21531,0,22212]
[21,21646,11,21655,22,21664,14,21674,13,21678,0,21211]
[12,21831,24,21855,13,21864,14,21870,13,21877,0,12111]
[21,21978,22,21989,13,21998,23,22006,13,22015,0,22121]
[21,22121,11,22130,22,22138,14,22153,13,22159,1,21211]
[21,22255,22,22272,13,22289,14,22302,13,22307,1,22111]
[21,22401,22,22406,13,22419,23,22427,24,22435,0,22122]
[12,22563,13,22567,13,22571,14,22575,13,22587,0,11111]
[12,22707,24,22727,13,22737,14,22741,13,22748,0,12111]
[21,22853,22,22862,13,22873,14,22877,13,22881,0,22111]
[12,22985,13,23001,13,23005,14,23010,13,23018,0,11111]
[21,23138,11,23153,22,23160,14,23171,13,23179,0,21211]
[12,23286,13,23301,24,23327,14,23337,13,23344,0,11211]
[21,23444,11,23453,11,23462,21,23475,22,23487,0,21122]
[12,23591,13,23604,13,23608,14,23616,13,23624,0,11111]
[21,23725,22,23736,13,23748,23,23756,13,23766,1,22121]
[21,23867,22,23872,24,23877,14,23889,13,23893,0,22211]

{"sheet":"!N404810.096","index":10,"n_rows":173,"n_cols":48,"rows_kept":173,"cut":false,"hidden":false,"merged":[[4,39,4,42],[5,39,5,40],[4,44,4,47],[5,44,5,45],[4,24,4,27],[5,24,5,25],[4,29,4,32],[5,29,5,30],[4,34,4,37],[5,34,5,35],[1,1,1,2],[5,13,5,14],[42,13,42,14],[43,13,43,14],[4,19,4,22],[5,19,5,20]]}
["Report for:!N404810.096"]
["Date:","<date>"]
["Hen:","<hen>",null,null,null,"Correct Sequence",{"$f":"Start!J2","v":21121},null,null,null,null,null,null,null,null,"Total Sequences in Data",{"$f":"4994-COUNTBLANK(L7:L5000)","v":167},null,null,null,null,"Total Sequences in Block Data",{"$f":"COUNTA(L7:L34)","v":28},null,null,null,"Total Sequences in Block Data",{"$f":"COUNTA(L35:L62)","v":28},null,null,null,"Total Sequences in Block Data",{"$f":"COUNTA(L63:L89)","v":27},null,null,null,"Total Sequences in Block Data",{"$f":"COUNTA(L90:L117)","v":28},null,null,null,"Total Sequences in Block Data",{"$f":"COUNTA(L118:L145)","v":28},null,null,null,"Total Sequences in Block Data",{"$f":"COUNTA(L146:L173)","v":28}]
[null,null,null,null,null,null,null,null,null,null,null,null,null,null,null,"Total Sequences in Summary",{"$f":"SUM(O7:O38)","v":166},null,null,null,null,"Total Sequences in Block Summary",{"$f":"SUM(U7:U38)","v":28},null,null,null,"Total Sequences in Block Summary",{"$f":"SUM(Z7:Z38)","v":28},null,null,null,"Total Sequences in Block Summary",{"$f":"SUM(AE7:AE38)","v":27},null,null,null,"Total Sequences in Block Summary",{"$f":"SUM(AJ7:AJ38)","v":28},null,null,null,"Total Sequences in Block Summary",{"$f":"SUM(AO7:AO38)","v":28},null,null,null,"Total Sequences in Block Summary",{"$f":"SUM(AT7:AT38)","v":27}]
[null,null,null,null,null,null,null,null,null,null,null,null,null,null,null,null,null,null,null,"Block 1",null,null,null,null,"Block 2",null,null,null,null,"Block 3",null,null,null,null,"Block 4",null,null,null,null,"Block 5",null,null,null,null,"Block 6"]
["Sequence\nComponent\n1","Time\n1","Sequence\nComponent\n2","Time\n2","Sequence\nComponent\n3","Time\n3","Sequence\nComponent\n4","Time\n4","Sequence\nComponent\n5","Time\n5","Correct?\n0=No 1=Yes","Sequence",null,"Frequency",null,"Relative Frequency","Variability",null,null,"Frequency",null,"Relative Frequency","Variability",null,"Frequency",null,"Relative Frequency","Variability",null,"Frequency",null,"Relative Frequency","Variability",null,"Frequency",null,"Relative Frequency","Variability",null,"Frequency",null,"Relative Frequency","Variability",null,"Frequency",null,"Relative Frequency","Variability"]
[12,10,13,14,13,19,14,38,13,47,0,11111,null,11111,{"$f":"COUNTIF($L$7:$L$500,N7)","v":15},{"$f":"O7/$Q$4","v":9.036144578313253E-2},{"$f":"IF(P7=0,0,(P7*((LOG(P7))/LOG(2))))","v":-0.31338694298841019},null,null,{"$f":"N7","v":11111},{"$f":"COUNTIF(L7:L34,T7)","v":1},{"$f":"U7/(W4-U25)","v":3.5714285714285712E-2},{"$f":"IF(V7=0,0,(V7*((LOG(V7))/LOG(2))))","v":-0.17169124721634299},null,{"$f":"N7","v":11111},{"$f":"COUNTIF(L35:L62,Y7)","v":2},{"$f":"Z7/(AB4-Z25)","v":7.1428571428571425E-2},{"$f":"IF(AA7=0,0,(AA7*((LOG(AA7))/LOG(2))))","v":-0.27195392300411453},null,{"$f":"N7","v":11111},{"$f":"COUNTIF(L63:L89,AD7)","v":3},{"$f":"AE7/(AG4-AE25)","v":0.1111111111111111},{"$f":"IF(AF7=0,0,(AF7*((LOG(AF7))/LOG(2))))","v":-0.3522138890491458},null,{"$f":"N7","v":11111},{"$f":"COUNTIF(L90:L117,AI7)","v":0},{"$f":"AJ7/(AL4-AJ25)","v":0},{"$f":"IF(AK7=0,0,(AK7*((LOG(AK7))/LOG(2))))","v":0},null,{"$f":"N7","v":11111},{"$f":"COUNTIF(L118:L145,AN7)","v":5},{"$f":"AO7/(AQ4-AO25)","v":0.18518518518518517},{"$f":"IF(AP7=0,0,(AP7*((LOG(AP7))/LOG(2))))","v":-0.45054803838446406},null,{"$f":"N7","v":11111},{"$f":"COUNTIF(L146:L173,AS7)","v":4},{"$f":"AT7/(AV4-AT25)","v":0.14814814814814814},{"$f":"IF(AU7=0,0,(AU7*((LOG(AU7))/LOG(2))))","v":-0.40813148180199532}]
[21,157,11,166,11,170,12,174,13,181,0,21111,null,11112,{"$f":"COUNTIF($L$7:$L$500,N8)","v":0},{"$f":"O8/$Q$4","v":0},{"$f":"IF(P8=0,0,(P8*((LOG(P8))/LOG(2))))","v":0},null,null,{"$f":"N8","v":11112},{"$f":"COUNTIF(L7:L34,T8)","v":0},{"$f":"U8/(W4-U25)","v":0},{"$f":"IF(V8=0,0,(V8*((LOG(V8))/LOG(2))))","v":0},null,{"$f":"N8","v":11112},{"$f":"COUNTIF(L35:L62,Y8)","v":0},{"$f":"Z8/(AB4-Z25)","v":0},{"$f":"IF(AA8=0,0,(AA8*((LOG(AA8))/LOG(2))))","v":0},null,{"$f":"N8","v":11112},{"$f":"COUNTIF(L63:L89,AD8)","v":0},{"$f":"AE8/(AG4-AE25)","v":0},{"$f":"IF(AF8=0,0,(AF8*((LOG(AF8))/LOG(2))))","v":0},null,{"$f":"N8","v":11112},{"$f":"COUNTIF(L90:L117,AI8)","v":0},{"$f":"AJ8/(AL4-AJ25)","v":0},{"$f":"IF(AK8=0,0,(AK8*((LOG(AK8))/LOG(2))))","v":0},null,{"$f":"N8","v":11112},{"$f":"COUNTIF(L118:L145,AN8)","v":0},{"$f":"AO8/(AQ4-AO25)","v":0},{"$f":"IF(AP8=0,0,(AP8*((LOG(AP8))/LOG(2))))","v":0},null,{"$f":"N8","v":11112},{"$f":"COUNTIF(L146:L173,AS8)","v":0},{"$f":"AT8/(AV4-AT25)","v":0},{"$f":"IF(AU8=0,0,(AU8*((LOG(AU8))/LOG(2))))","v":0}]
[21,283,22,288,24,293,14,301,13,305,0,22211,null,11121,{"$f":"COUNTIF($L$7:$L$500,N9)","v":1},{"$f":"O9/$Q$4","v":6.024096385542169E-3},{"$f":"IF(P9=0,0,(P9*((LOG(P9))/LOG(2))))","v":-4.4427948381607983E-2},null,null,{"$f":"N9","v":11121},{"$f":"COUNTIF(L7:L34,T9)","v":0},{"$f":"U9/(W4-U25)","v":0},{"$f":"IF(V9=0,0,(V9*((LOG(V9))/LOG(2))))","v":0},null,{"$f":"N9","v":11121},{"$f":"COUNTIF(L35:L62,Y9)","v":0},{"$f":"Z9/(AB4-Z25)","v":0},{"$f":"IF(AA9=0,0,(AA9*((LOG(AA9))/LOG(2))))","v":0},null,{"$f":"N9","v":11121},{"$f":"COUNTIF(L63:L89,AD9)","v":0},{"$f":"AE9/(AG4-AE25)","v":0},{"$f":"IF(AF9=0,0,(AF9*((LOG(AF9))/LOG(2))))","v":0},null,{"$f":"N9","v":11121},{"$f":"COUNTIF(L90:L117,AI9)","v":1},{"$f":"AJ9/(AL4-AJ25)","v":3.5714285714285712E-2},{"$f":"IF(AK9=0,0,(AK9*((LOG(AK9))/LOG(2))))","v":-0.17169124721634299},null,{"$f":"N9","v":11121},{"$f":"COUNTIF(L118:L145,AN9)","v":0},{"$f":"AO9/(AQ4-AO25)","v":0},{"$f":"IF(AP9=0,0,(AP9*((LOG(AP9))/LOG(2))))","v":0},null,{"$f":"N9","v":11121},{"$f":"COUNTIF(L146:L173,AS9)","v":0},{"$f":"AT9/(AV4-AT25)","v":0},{"$f":"IF(AU9=0,0,(AU9*((LOG(AU9))/LOG(2))))","v":0}]
[21,426,11,433,11,444,12,456,13,464,0,21111,null,11122,{"$f":"COUNTIF($L$7:$L$500,N10)","v":0},{"$f":"O10/$Q$4","v":0},{"$f":"IF(P10=0,0,(P10*((LOG(P10))/LOG(2))))","v":0},null,null,{"$f":"N10","v":11122},{"$f":"COUNTIF(L7:L34,T10)","v":0},{"$f":"U10/(W4-U25)","v":0},{"$f":"IF(V10=0,0,(V10*((LOG(V10))/LOG(2))))","v":0},null,{"$f":"N10","v":11122},{"$f":"COUNTIF(L35:L62,Y10)","v":0},{"$f":"Z10/(AB4-Z25)","v":0},{"$f":"IF(AA10=0,0,(AA10*((LOG(AA10))/LOG(2))))","v":0},null,{"$f":"N10","v":11122},{"$f":"COUNTIF(L63:L89,AD10)","v":0},{"$f":"AE10/(AG4-AE25)","v":0},{"$f":"IF(AF10=0,0,(AF10*((LOG(AF10))/LOG(2))))","v":0},null,{"$f":"N10","v":11122},{"$f":"COUNTIF(L90:L117,AI10)","v":0},{"$f":"AJ10/(AL4-AJ25)","v":0},{"$f":"IF(AK10=0,0,(AK10*((LOG(AK10))/LOG(2))))","v":0},null,{"$f":"N10","v":11122},{"$f":"COUNTIF(L118:L145,AN10)","v":0},{"$f":"AO10/(AQ4-AO25)","v":0},{"$f":"IF(AP10=0,0,(AP10*((LOG(AP10))/LOG(2))))","v":0},null,{"$f":"N10","v":11122},{"$f":"COUNTIF(L146:L173,AS10)","v":0},{"$f":"AT10/(AV4-AT25)","v":0},{"$f":"IF(AU10=0,0,(AU10*((LOG(AU10))/LOG(2))))","v":0}]
[21,563,22,568,24,573,14,587,13,595,0,22211,null,11211,{"$f":"COUNTIF($L$7:$L$500,N11)","v":0},{"$f":"O11/$Q$4","v":0},{"$f":"IF(P11=0,0,(P11*((LOG(P11))/LOG(2))))","v":0},null,null,{"$f":"N11","v":11211},{"$f":"COUNTIF(L7:L34,T11)","v":0},{"$f":"U11/(W4-U25)","v":0},{"$f":"IF(V11=0,0,(V11*((LOG(V11))/LOG(2))))","v":0},null,{"$f":"N11","v":11211},{"$f":"COUNTIF(L35:L62,Y11)","v":0},{"$f":"Z11/(AB4-Z25)","v":0},{"$f":"IF(AA11=0,0,(AA11*((LOG(AA11))/LOG(2))))","v":0},null,{"$f":"N11","v":11211},{"$f":"COUNTIF(L63:L89,AD11)","v":0},{"$f":"AE11/(AG4-AE25)","v":0},{"$f":"IF(AF11=0,0,(AF11*((LOG(AF11))/LOG(2))))","v":0},null,{"$f":"N11","v":11211},{"$f":"COUNTIF(L90:L117,AI11)","v":0},{"$f":"AJ11/(AL4-AJ25)","v":0},{"$f":"IF(AK11=0,0,(AK11*((LOG(AK11))/LOG(2))))","v":0},null,{"$f":"N11","v":11211},{"$f":"COUNTIF(L118:L145,AN11)","v":0},{"$f":"AO11/(AQ4-AO25)","v":0},{"$f":"IF(AP11=0,0,(AP11*((LOG(AP11))/LOG(2))))","v":0},null,{"$f":"N11","v":11211},{"$f":"COUNTIF(L146:L173,AS11)","v":0},{"$f":"AT11/(AV4-AT25)","v":0},{"$f":"IF(AU11=0,0,(AU11*((LOG(AU11))/LOG(2))))","v":0}]
[21,713,22,728,13,736,14,744,13,750,1,22111,null,11212,{"$f":"COUNTIF($L$7:$L$500,N12)","v":0},{"$f":"O12/$Q$4","v":0},{"$f":"IF(P12=0,0,(P12*((LOG(P12))/LOG(2))))","v":0},null,null,{"$f":"N12","v":11212},{"$f":"COUNTIF(L7:L34,T12)","v":0},{"$f":"U12/(W4-U25)","v":0},{"$f":"IF(V12=0,0,(V12*((LOG(V12))/LOG(2))))","v":0},null,{"$f":"N12","v":11212},{"$f":"COUNTIF(L35:L62,Y12)","v":0},{"$f":"Z12/(AB4-Z25)","v":0},{"$f":"IF(AA12=0,0,(AA12*((LOG(AA12))/LOG(2))))","v":0},null,{"$f":"N12","v":11212},{"$f":"COUNTIF(L63:L89,AD12)","v":0},{"$f":"AE12/(AG4-AE25)","v":0},{"$f":"IF(AF12=0,0,(AF12*((LOG(AF12))/LOG(2))))","v":0},null,{"$f":"N12","v":11212},{"$f":"COUNTIF(L90:L117,AI12)","v":0},{"$f":"AJ12/(AL4-AJ25)","v":0},{"$f":"IF(AK12=0,0,(AK12*((LOG(AK12))/LOG(2))))","v":0},null,{"$f":"N12","v":11212},{"$f":"COUNTIF(L118:L145,AN12)","v":0},{"$f":"AO12/(AQ4-AO25)","v":0},{"$f":"IF(AP12=0,0,(AP12*((LOG(AP12))/LOG(2))))","v":0},null,{"$f":"N12","v":11212},{"$f":"COUNTIF(L146:L173,AS12)","v":0},{"$f":"AT12/(AV4-AT25)","v":0},{"$f":"IF(AU12=0,0,(AU12*((LOG(AU12))/LOG(2))))","v":0}]
[21,844,22,849,24,861,14,873,13,880,1,22211,null,11221,{"$f":"COUNTIF($L$7:$L$500,N13)","v":0},{"$f":"O13/$Q$4","v":0},{"$f":"IF(P13=0,0,(P13*((LOG(P13))/LOG(2))))","v":0},null,null,{"$f":"N13","v":11221},{"$f":"COUNTIF(L7:L34,T13)","v":0},{"$f":"U13/(W4-U25)","v":0},{"$f":"IF(V13=0,0,(V13*((LOG(V13))/LOG(2))))","v":0},null,{"$f":"N13","v":11221},{"$f":"COUNTIF(L35:L62,Y13)","v":0},{"$f":"Z13/(AB4-Z25)","v":0},{"$f":"IF(AA13=0,0,(AA13*((LOG(AA13))/LOG(2))))","v":0},null,{"$f":"N13","v":11221},{"$f":"COUNTIF(L63:L89,AD13)","v":0},{"$f":"AE13/(AG4-AE25)","v":0},{"$f":"IF(AF13=0,0,(AF13*((LOG(AF13))/LOG(2))))","v":0},null,{"$f":"N13","v":11221},{"$f":"COUNTIF(L90:L117,AI13)","v":0},{"$f":"AJ13/(AL4-AJ25)","v":0},{"$f":"IF(AK13=0,0,(AK13*((LOG(AK13))/LOG(2))))","v":0},null,{"$f":"N13","v":11221},{"$f":"COUNTIF(L118:L145,AN13)","v":0},{"$f":"AO13/(AQ4-AO25)","v":0},{"$f":"IF(AP13=0,0,(AP13*((LOG(AP13))/LOG(2))))","v":0},null,{"$f":"N13","v":11221},{"$f":"COUNTIF(L146:L173,AS13)","v":0},{"$f":"AT13/(AV4-AT25)","v":0},{"$f":"IF(AU13=0,0,(AU13*((LOG(AU13))/LOG(2))))","v":0}]
[21,985,11,995,11,999,12,1003,13,1010,0,21111,null,11222,{"$f":"COUNTIF($L$7:$L$500,N14)","v":0},{"$f":"O14/$Q$4","v":0},{"$f":"IF(P14=0,0,(P14*((LOG(P14))/LOG(2))))","v":0},null,null,{"$f":"N14","v":11222},{"$f":"COUNTIF(L7:L34,T14)","v":0},{"$f":"U14/(W4-U25)","v":0},{"$f":"IF(V14=0,0,(V14*((LOG(V14))/LOG(2))))","v":0},null,{"$f":"N14","v":11222},{"$f":"COUNTIF(L35:L62,Y14)","v":0},{"$f":"Z14/(AB4-Z25)","v":0},{"$f":"IF(AA14=0,0,(AA14*((LOG(AA14))/LOG(2))))","v":0},null,{"$f":"N14","v":11222},{"$f":"COUNTIF(L63:L89,AD14)","v":0},{"$f":"AE14/(AG4-AE25)","v":0},{"$f":"IF(AF14=0,0,(AF14*((LOG(AF14))/LOG(2))))","v":0},null,{"$f":"N14","v":11222},{"$f":"COUNTIF(L90:L117,AI14)","v":0},{"$f":"AJ14/(AL4-AJ25)","v":0},{"$f":"IF(AK14=0,0,(AK14*((LOG(AK14))/LOG(2))))","v":0},null,{"$f":"N14","v":11222},{"$f":"COUNTIF(L118:L145,AN14)","v":0},{"$f":"AO14/(AQ4-AO25)","v":0},{"$f":"IF(AP14=0,0,(AP14*((LOG(AP14))/LOG(2))))","v":0},null,{"$f":"N14","v":11222},{"$f":"COUNTIF(L146:L173,AS14)","v":0},{"$f":"AT14/(AV4-AT25)","v":0},{"$f":"IF(AU14=0,0,(AU14*((LOG(AU14))/LOG(2))))","v":0}]
[21,1108,22,1114,13,1140,14,1147,13,1151,1,22111,null,12111,{"$f":"COUNTIF($L$7:$L$500,N15)","v":17},{"$f":"O15/$Q$4","v":0.10240963855421686},{"$f":"IF(P15=0,0,(P15*((LOG(P15))/LOG(2))))","v":-0.3366795303110961},null,null,{"$f":"N15","v":12111},{"$f":"COUNTIF(L7:L34,T15)","v":0},{"$f":"U15/(W4-U25)","v":0},{"$f":"IF(V15=0,0,(V15*((LOG(V15))/LOG(2))))","v":0},null,{"$f":"N15","v":12111},{"$f":"COUNTIF(L35:L62,Y15)","v":0},{"$f":"Z15/(AB4-Z25)","v":0},{"$f":"IF(AA15=0,0,(AA15*((LOG(AA15))/LOG(2))))","v":0},null,{"$f":"N15","v":12111},{"$f":"COUNTIF(L63:L89,AD15)","v":4},{"$f":"AE15/(AG4-AE25)","v":0.14814814814814814},{"$f":"IF(AF15=0,0,(AF15*((LOG(AF15))/LOG(2))))","v":-0.40813148180199532},null,{"$f":"N15","v":12111},{"$f":"COUNTIF(L90:L117,AI15)","v":3},{"$f":"AJ15/(AL4-AJ25)","v":0.10714285714285714},{"$f":"IF(AK15=0,0,(AK15*((LOG(AK15))/LOG(2))))","v":-0.34525633085747659},null,{"$f":"N15","v":12111},{"$f":"COUNTIF(L118:L145,AN15)","v":7},{"$f":"AO15/(AQ4-AO25)","v":0.25925925925925924},{"$f":"IF(AP15=0,0,(AP15*((LOG(AP15))/LOG(2))))","v":-0.5049158541015204},null,{"$f":"N15","v":12111},{"$f":"COUNTIF(L146:L173,AS15)","v":3},{"$f":"AT15/(AV4-AT25)","v":0.1111111111111111},{"$f":"IF(AU15=0,0,(AU15*((LOG(AU15))/LOG(2))))","v":-0.3522138890491458}]
[21,1262,11,1281,11,1285,12,1299,13,1310,0,21111,null,12112,{"$f":"COUNTIF($L$7:$L$500,N16)","v":1},{"$f":"O16/$Q$4","v":6.024096385542169E-3},{"$f":"IF(P16=0,0,(P16*((LOG(P16))/LOG(2))))","v":-4.4427948381607983E-2},null,null,{"$f":"N16","v":12112},{"$f":"COUNTIF(L7:L34,T16)","v":0},{"$f":"U16/(W4-U25)","v":0},{"$f":"IF(V16=0,0,(V16*((LOG(V16))/LOG(2))))","v":0},null,{"$f":"N16","v":12112},{"$f":"COUNTIF(L35:L62,Y16)","v":0},{"$f":"Z16/(AB4-Z25)","v":0},{"$f":"IF(AA16=0,0,(AA16*((LOG(AA16))/LOG(2))))","v":0},null,{"$f":"N16","v":12112},{"$f":"COUNTIF(L63:L89,AD16)","v":0},{"$f":"AE16/(AG4-AE25)","v":0},{"$f":"IF(AF16=0,0,(AF16*((LOG(AF16))/LOG(2))))","v":0},null,{"$f":"N16","v":12112},{"$f":"COUNTIF(L90:L117,AI16)","v":1},{"$f":"AJ16/(AL4-AJ25)","v":3.5714285714285712E-2},{"$f":"IF(AK16=0,0,(AK16*((LOG(AK16))/LOG(2))))","v":-0.17169124721634299},null,{"$f":"N16","v":12112},{"$f":"COUNTIF(L118:L145,AN16)","v":0},{"$f":"AO16/(AQ4-AO25)","v":0},{"$f":"IF(AP16=0,0,(AP16*((LOG(AP16))/LOG(2))))","v":0},null,{"$f":"N16","v":12112},{"$f":"COUNTIF(L146:L173,AS16)","v":0},{"$f":"AT16/(AV4-AT25)","v":0},{"$f":"IF(AU16=0,0,(AU16*((LOG(AU16))/LOG(2))))","v":0}]
[21,1418,11,1441,11,1446,12,1451,13,1466,0,21111,null,12121,{"$f":"COUNTIF($L$7:$L$500,N17)","v":0},{"$f":"O17/$Q$4","v":0},{"$f":"IF(P17=0,0,(P17*((LOG(P17))/LOG(2))))","v":0},null,null,{"$f":"N17","v":12121},{"$f":"COUNTIF(L7:L34,T17)","v":0},{"$f":"U17/(W4-U25)","v":0},{"$f":"IF(V17=0,0,(V17*((LOG(V17))/LOG(2))))","v":0},null,{"$f":"N17","v":12121},{"$f":"COUNTIF(L35:L62,Y17)","v":0},{"$f":"Z17/(AB4-Z25)","v":0},{"$f":"IF(AA17=0,0,(AA17*((LOG(AA17))/LOG(2))))","v":0},null,{"$f":"N17","v":12121},{"$f":"COUNTIF(L63:L89,AD17)","v":0},{"$f":"AE17/(AG4-AE25)","v":0},{"$f":"IF(AF17=0,0,(AF17*((LOG(AF17))/LOG(2))))","v":0},null,{"$f":"N17","v":12121},{"$f":"COUNTIF(L90:L117,AI17)","v":0},{"$f":"AJ17/(AL4-AJ25)","v":0},{"$f":"IF(AK17=0,0,(AK17*((LOG(AK17))/LOG(2))))","v":0},null,{"$f":"N17","v":12121},{"$f":"COUNTIF(L118:L145,AN17)","v":0},{"$f":"AO17/(AQ4-AO25)","v":0},{"$f":"IF(AP17=0,0,(AP17*((LOG(AP17))/LOG(2))))","v":0},null,{"$f":"N17","v":12121},{"$f":"COUNTIF(L146:L173,AS17)","v":0},{"$f":"AT17/(AV4-AT25)","v":0},{"$f":"IF(AU17=0,0,(AU17*((LOG(AU17))/LOG(2))))","v":0}]
[21,1570,22,1574,24,1581,23,1586,24,1604,0,22222,null,12122,{"$f":"COUNTIF($L$7:$L$500,N18)","v":0},{"$f":"O18/$Q$4","v":0},{"$f":"IF(P18=0,0,(P18*((LOG(P18))/LOG(2))))","v":0},null,null,{"$f":"N18","v":12122},{"$f":"COUNTIF(L7:L34,T18)","v":0},{"$f":"U18/(W4-U25)","v":0},{"$f":"IF(V18=0,0,(V18*((LOG(V18))/LOG(2))))","v":0},null,{"$f":"N18","v":12122},{"$f":"COUNTIF(L35:L62,Y18)","v":0},{"$f":"Z18/(AB4-Z25)","v":0},{"$f":"IF(AA18=0,0,(AA18*((LOG(AA18))/LOG(2))))","v":0},null,{"$f":"N18","v":12122},{"$f":"COUNTIF(L63:L89,AD18)","v":0},{"$f":"AE18/(AG4-AE25)","v":0},{"$f":"IF(AF18=0,0,(AF18*((LOG(AF18))/LOG(2))))","v":0},null,{"$f":"N18","v":12122},{"$f":"COUNTIF(L90:L117,AI18)","v":0},{"$f":"AJ18/(AL4-AJ25)","v":0},{"$f":"IF(AK18=0,0,(AK18*((LOG(AK18))/LOG(2))))","v":0},null,{"$f":"N18","v":12122},{"$f":"COUNTIF(L118:L145,AN18)","v":0},{"$f":"AO18/(AQ4-AO25)","v":0},{"$f":"IF(AP18=0,0,(AP18*((LOG(AP18))/LOG(2))))","v":0},null,{"$f":"N18","v":12122},{"$f":"COUNTIF(L146:L173,AS18)","v":0},{"$f":"AT18/(AV4-AT25)","v":0},{"$f":"IF(AU18=0,0,(AU18*((LOG(AU18))/LOG(2))))","v":0}]
[21,1712,22,1728,24,1733,14,1743,13,1747,0,22211,null,12211,{"$f":"COUNTIF($L$7:$L$500,N19)","v":5},{"$f":"O19/$Q$4","v":3.0120481927710843E-2},{"$f":"IF(P19=0,0,(P19*((LOG(P19))/LOG(2))))","v":-0.15220214868854101},null,null,{"$f":"N19","v":12211},{"$f":"COUNTIF(L7:L34,T19)","v":0},{"$f":"U19/(W4-U25)","v":0},{"$f":"IF(V19=0,0,(V19*((LOG(V19))/LOG(2))))","v":0},null,{"$f":"N19","v":12211},{"$f":"COUNTIF(L35:L62,Y19)","v":0},{"$f":"Z19/(AB4-Z25)","v":0},{"$f":"IF(AA19=0,0,(AA19*((LOG(AA19))/LOG(2))))","v":0},null,{"$f":"N19","v":12211},{"$f":"COUNTIF(L63:L89,AD19)","v":0},{"$f":"AE19/(AG4-AE25)","v":0},{"$f":"IF(AF19=0,0,(AF19*((LOG(AF19))/LOG(2))))","v":0},null,{"$f":"N19","v":12211},{"$f":"COUNTIF(L90:L117,AI19)","v":1},{"$f":"AJ19/(AL4-AJ25)","v":3.5714285714285712E-2},{"$f":"IF(AK19=0,0,(AK19*((LOG(AK19))/LOG(2))))","v":-0.17169124721634299},null,{"$f":"N19","v":12211},{"$f":"COUNTIF(L118:L145,AN19)","v":4},{"$f":"AO19/(AQ4-AO25)","v":0.14814814814814814},{"$f":"IF(AP19=0,0,(AP19*((LOG(AP19))/LOG(2))))","v":-0.40813148180199532},null,{"$f":"N19","v":12211},{"$f":"COUNTIF(L146:L173,AS19)","v":0},{"$f":"AT19/(AV4-AT25)","v":0},{"$f":"IF(AU19=0,0,(AU19*((LOG(AU19))/LOG(2))))","v":0}]
[21,1851,22,1865,24,1870,14,1880,13,1887,0,22211,null,12212,{"$f":"COUNTIF($L$7:$L$500,N20)","v":0},{"$f":"O20/$Q$4","v":0},{"$f":"IF(P20=0,0,(P20*((LOG(P20))/LOG(2))))","v":0},null,null,{"$f":"N20","v":12212},{"$f":"COUNTIF(L7:L34,T20)","v":0},{"$f":"U20/(W4-U25)","v":0},{"$f":"IF(V20=0,0,(V20*((LOG(V20))/LOG(2))))","v":0},null,{"$f":"N20","v":12212},{"$f":"COUNTIF(L35:L62,Y20)","v":0},{"$f":"Z20/(AB4-Z25)","v":0},{"$f":"IF(AA20=0,0,(AA20*((LOG(AA20))/LOG(2))))","v":0},null,{"$f":"N20","v":12212},{"$f":"COUNTIF(L63:L89,AD20)","v":0},{"$f":"AE20/(AG4-AE25)","v":0},{"$f":"IF(AF20=0,0,(AF20*((LOG(AF20))/LOG(2))))","v":0},null,{"$f":"N20","v":12212},{"$f":"COUNTIF(L90:L117,AI20)","v":0},{"$f":"AJ20/(AL4-AJ25)","v":0},{"$f":"IF(AK20=0,0,(AK20*((LOG(AK20))/LOG(2))))","v":0},null,{"$f":"N20","v":12212},{"$f":"COUNTIF(L118:L145,AN20)","v":0},{"$f":"AO20/(AQ4-AO25)","v":0},{"$f":"IF(AP20=0,0,(AP20*((LOG(AP20))/LOG(2))))","v":0},null,{"$f":"N20","v":12212},{"$f":"COUNTIF(L146:L173,AS20)","v":0},{"$f":"AT20/(AV4-AT25)","v":0},{"$f":"IF(AU20=0,0,(AU20*((LOG(AU20))/LOG(2))))","v":0}]
[21,2009,22,2014,13,2026,14,2030,13,2037,1,22111,null,12221,{"$f":"COUNTIF($L$7:$L$500,N21)","v":0},{"$f":"O21/$Q$4","v":0},{"$f":"IF(P21=0,0,(P21*((LOG(P21))/LOG(2))))","v":0},null,null,{"$f":"N21","v":12221},{"$f":"COUNTIF(L7:L34,T21)","v":0},{"$f":"U21/(W4-U25)","v":0},{"$f":"IF(V21=0,0,(V21*((LOG(V21))/LOG(2))))","v":0},null,{"$f":"N21","v":12221},{"$f":"COUNTIF(L35:L62,Y21)","v":0},{"$f":"Z21/(AB4-Z25)","v":0},{"$f":"IF(AA21=0,0,(AA21*((LOG(AA21))/LOG(2))))","v":0},null,{"$f":"N21","v":12221},{"$f":"COUNTIF(L63:L89,AD21)","v":0},{"$f":"AE21/(AG4-AE25)","v":0},{"$f":"IF(AF21=0,0,(AF21*((LOG(AF21))/LOG(2))))","v":0},null,{"$f":"N21","v":12221},{"$f":"COUNTIF(L90:L117,AI21)","v":0},{"$f":"AJ21/(AL4-AJ25)","v":0},{"$f":"IF(AK21=0,0,(AK21*((LOG(AK21))/LOG(2))))","v":0},null,{"$f":"N21","v":12221},{"$f":"COUNTIF(L118:L145,AN21)","v":0},{"$f":"AO21/(AQ4-AO25)","v":0},{"$f":"IF(AP21=0,0,(AP21*((LOG(AP21))/LOG(2))))","v":0},null,{"$f":"N21","v":12221},{"$f":"COUNTIF(L146:L173,AS21)","v":0},{"$f":"AT21/(AV4-AT25)","v":0},{"$f":"IF(AU21=0,0,(AU21*((LOG(AU21))/LOG(2))))","v":0}]
[21,2141,22,2145,13,2162,14,2169,13,2175,0,22111,null,12222,{"$f":"COUNTIF($L$7:$L$500,N22)","v":0},{"$f":"O22/$Q$4","v":0},{"$f":"IF(P22=0,0,(P22*((LOG(P22))/LOG(2))))","v":0},null,null,{"$f":"N22","v":12222},{"$f":"COUNTIF(L7:L34,T22)","v":0},{"$f":"U22/(W4-U25)","v":0},{"$f":"IF(V22=0,0,(V22*((LOG(V22))/LOG(2))))","v":0},null,{"$f":"N22","v":12222},{"$f":"COUNTIF(L35:L62,Y22)","v":0},{"$f":"Z22/(AB4-Z25)","v":0},{"$f":"IF(AA22=0,0,(AA22*((LOG(AA22))/LOG(2))))","v":0},null,{"$f":"N22","v":12222},{"$f":"COUNTIF(L63:L89,AD22)","v":0},{"$f":"AE22/(AG4-AE25)","v":0},{"$f":"IF(AF22=0,0,(AF22*((LOG(AF22))/LOG(2))))","v":0},null,{"$f":"N22","v":12222},{"$f":"COUNTIF(L90:L117,AI22)","v":0},{"$f":"AJ22/(AL4-AJ25)","v":0},{"$f":"IF(AK22=0,0,(AK22*((LOG(AK22))/LOG(2))))","v":0},null,{"$f":"N22","v":12222},{"$f":"COUNTIF(L118:L145,AN22)","v":0},{"$f":"AO22/(AQ4-AO25)","v":0},{"$f":"IF(AP22=0,0,(AP22*((LOG(AP22))/LOG(2))))","v":0},null,{"$f":"N22","v":12222},{"$f":"COUNTIF(L146:L173,AS22)","v":0},{"$f":"AT22/(AV4-AT25)","v":0},{"$f":"IF(AU22=0,0,(AU22*((LOG(AU22))/LOG(2))))","v":0}]
[21,2281,11,2291,22,2300,23,2305,13,2313,0,21221,null,21111,{"$f":"COUNTIF($L$7:$L$500,N23)","v":21},{"$f":"O23/$Q$4","v":0.12650602409638553},{"$f":"IF(P23=0,0,(P23*((LOG(P23))/LOG(2))))","v":-0.3773323022887437},null,null,{"$f":"N23","v":21111},{"$f":"COUNTIF(L7:L34,T23)","v":6},{"$f":"U23/(W4-U25)","v":0.21428571428571427},{"$f":"IF(V23=0,0,(V23*((LOG(V23))/LOG(2))))","v":-0.47622694742923877},null,{"$f":"N23","v":21111},{"$f":"COUNTIF(L35:L62,Y23)","v":3},{"$f":"Z23/(AB4-Z25)","v":0.10714285714285714},{"$f":"IF(AA23=0,0,(AA23*((LOG(AA23))/LOG(2))))","v":-0.34525633085747659},null,{"$f":"N23","v":21111},{"$f":"COUNTIF(L63:L89,AD23)","v":1},{"$f":"AE23/(AG4-AE25)","v":3.7037037037037035E-2},{"$f":"IF(AF23=0,0,(AF23*((LOG(AF23))/LOG(2))))","v":-0.1761069445245729},null,{"$f":"N23","v":21111},{"$f":"COUNTIF(L90:L117,AI23)","v":2},{"$f":"AJ23/(AL4-AJ25)","v":7.1428571428571425E-2},{"$f":"IF(AK23=0,0,(AK23*((LOG(AK23))/LOG(2))))","v":-0.27195392300411453},null,{"$f":"N23","v":21111},{"$f":"COUNTIF(L118:L145,AN23)","v":2},{"$f":"AO23/(AQ4-AO25)","v":7.407407407407407E-2},{"$f":"IF(AP23=0,0,(AP23*((LOG(AP23))/LOG(2))))","v":-0.27813981497507173},null,{"$f":"N23","v":21111},{"$f":"COUNTIF(L146:L173,AS23)","v":7},{"$f":"AT23/(AV4-AT25)","v":0.25925925925925924},{"$f":"IF(AU23=0,0,(AU23*((LOG(AU23))/LOG(2))))","v":-0.5049158541015204}]
[21,2429,11,2475,11,2480,12,2486,13,2502,0,21111,null,21112,{"$f":"COUNTIF($L$7:$L$500,N24)","v":0},{"$f":"O24/$Q$4","v":0},{"$f":"IF(P24=0,0,(P24*((LOG(P24))/LOG(2))))","v":0},null,null,{"$f":"N24","v":21112},{"$f":"COUNTIF(L7:L34,T24)","v":0},{"$f":"U24/(W4-U25)","v":0},{"$f":"IF(V24=0,0,(V24*((LOG(V24))/LOG(2))))","v":0},null,{"$f":"N24","v":21112},{"$f":"COUNTIF(L35:L62,Y24)","v":0},{"$f":"Z24/(AB4-Z25)","v":0},{"$f":"IF(AA24=0,0,(AA24*((LOG(AA24))/LOG(2))))","v":0},null,{"$f":"N24","v":21112},{"$f":"COUNTIF(L63:L89,AD24)","v":0},{"$f":"AE24/(AG4-AE25)","v":0},{"$f":"IF(AF24=0,0,(AF24*((LOG(AF24))/LOG(2))))","v":0},null,{"$f":"N24","v":21112},{"$f":"COUNTIF(L90:L117,AI24)","v":0},{"$f":"AJ24/(AL4-AJ25)","v":0},{"$f":"IF(AK24=0,0,(AK24*((LOG(AK24))/LOG(2))))","v":0},null,{"$f":"N24","v":21112},{"$f":"COUNTIF(L118:L145,AN24)","v":0},{"$f":"AO24/(AQ4-AO25)","v":0},{"$f":"IF(AP24=0,0,(AP24*((LOG(AP24))/LOG(2))))","v":0},null,{"$f":"N24","v":21112},{"$f":"COUNTIF(L146:L173,AS24)","v":0},{"$f":"AT24/(AV4-AT25)","v":0},{"$f":"IF(AU24=0,0,(AU24*((LOG(AU24))/LOG(2))))","v":0}]
[21,2604,22,2609,24,2613,23,2617,13,2629,0,22221,null,21121,{"$f":"COUNTIF($L$7:$L$500,N25)","v":1},{"$f":"O25/$Q$4","v":6.024096385542169E-3},{"$f":"IF(P25=0,0,(P25*((LOG(P25))/LOG(2))))","v":-4.4427948381607983E-2},null,null,{"$f":"N25","v":21121},{"$f":"COUNTIF(L7:L34,T25)","v":0},null,null,null,{"$f":"N25","v":21121},{"$f":"COUNTIF(L35:L62,Y25)","v":0},null,null,null,{"$f":"N25","v":21121},{"$f":"COUNTIF(L63:L89,AD25)","v":0},null,null,null,{"$f":"N25","v":21121},{"$f":"COUNTIF(L90:L117,AI25)","v":0},null,null,null,{"$f":"N25","v":21121},{"$f":"COUNTIF(L118:L145,AN25)","v":1},null,null,null,{"$f":"N25","v":21121},{"$f":"COUNTIF(L146:L173,AS25)","v":0}]
[21,2729,22,2735,24,2753,14,2766,13,2772,0,22211,null,21122,{"$f":"COUNTIF($L$7:$L$500,N26)","v":0},{"$f":"O26/$Q$4","v":0},{"$f":"IF(P26=0,0,(P26*((LOG(P26))/LOG(2))))","v":0},null,null,{"$f":"N26","v":21122},{"$f":"COUNTIF(L7:L34,T26)","v":0},{"$f":"U26/(W4-U25)","v":0},{"$f":"IF(V26=0,0,(V26*((LOG(V26))/LOG(2))))","v":0},null,{"$f":"N26","v":21122},{"$f":"COUNTIF(L35:L62,Y26)","v":0},{"$f":"Z26/(AB4-Z25)","v":0},{"$f":"IF(AA26=0,0,(AA26*((LOG(AA26))/LOG(2))))","v":0},null,{"$f":"N26","v":21122},{"$f":"COUNTIF(L63:L89,AD26)","v":0},{"$f":"AE26/(AG4-AE25)","v":0},{"$f":"IF(AF26=0,0,(AF26*((LOG(AF26))/LOG(2))))","v":0},null,{"$f":"N26","v":21122},{"$f":"COUNTIF(L90:L117,AI26)","v":0},{"$f":"AJ26/(AL4-AJ25)","v":0},{"$f":"IF(AK26=0,0,(AK26*((LOG(AK26))/LOG(2))))","v":0},null,{"$f":"N26","v":21122},{"$f":"COUNTIF(L118:L145,AN26)","v":0},{"$f":"AO26/(AQ4-AO25)","v":0},{"$f":"IF(AP26=0,0,(AP26*((LOG(AP26))/LOG(2))))","v":0},null,{"$f":"N26","v":21122},{"$f":"COUNTIF(L146:L173,AS26)","v":0},{"$f":"AT26/(AV4-AT25)","v":0},{"$f":"IF(AU26=0,0,(AU26*((LOG(AU26))/LOG(2))))","v":0}]
[21,2876,22,2885,13,2923,14,2927,13,2932,0,22111,null,21211,{"$f":"COUNTIF($L$7:$L$500,N27)","v":13},{"$f":"O27/$Q$4","v":7.8313253012048195E-2},{"$f":"IF(P27=0,0,(P27*((LOG(P27))/LOG(2))))","v":-0.28776985705828806},null,null,{"$f":"N27","v":21211},{"$f":"COUNTIF(L7:L34,T27)","v":0},{"$f":"U27/(W4-U25)","v":0},{"$f":"IF(V27=0,0,(V27*((LOG(V27))/LOG(2))))","v":0},null,{"$f":"N27","v":21211},{"$f":"COUNTIF(L35:L62,Y27)","v":2},{"$f":"Z27/(AB4-Z25)","v":7.1428571428571425E-2},{"$f":"IF(AA27=0,0,(AA27*((LOG(AA27))/LOG(2))))","v":-0.27195392300411453},null,{"$f":"N27","v":21211},{"$f":"COUNTIF(L63:L89,AD27)","v":5},{"$f":"AE27/(AG4-AE25)","v":0.18518518518518517},{"$f":"IF(AF27=0,0,(AF27*((LOG(AF27))/LOG(2))))","v":-0.45054803838446406},null,{"$f":"N27","v":21211},{"$f":"COUNTIF(L90:L117,AI27)","v":3},{"$f":"AJ27/(AL4-AJ25)","v":0.10714285714285714},{"$f":"IF(AK27=0,0,(AK27*((LOG(AK27))/LOG(2))))","v":-0.34525633085747659},null,{"$f":"N27","v":21211},{"$f":"COUNTIF(L118:L145,AN27)","v":1},{"$f":"AO27/(AQ4-AO25)","v":3.7037037037037035E-2},{"$f":"IF(AP27=0,0,(AP27*((LOG(AP27))/LOG(2))))","v":-0.1761069445245729},null,{"$f":"N27","v":21211},{"$f":"COUNTIF(L146:L173,AS27)","v":2},{"$f":"AT27/(AV4-AT25)","v":7.407407407407407E-2},{"$f":"IF(AU27=0,0,(AU27*((LOG(AU27))/LOG(2))))","v":-0.27813981497507173}]
[21,3034,22,3050,24,3054,14,3067,13,3071,1,22211,null,21212,{"$f":"COUNTIF($L$7:$L$500,N28)","v":2},{"$f":"O28/$Q$4","v":1.2048192771084338E-2},{"$f":"IF(P28=0,0,(P28*((LOG(P28))/LOG(2))))","v":-7.6807703992131618E-2},null,null,{"$f":"N28","v":21212},{"$f":"COUNTIF(L7:L34,T28)","v":0},{"$f":"U28/(W4-U25)","v":0},{"$f":"IF(V28=0,0,(V28*((LOG(V28))/LOG(2))))","v":0},null,{"$f":"N28","v":21212},{"$f":"COUNTIF(L35:L62,Y28)","v":0},{"$f":"Z28/(AB4-Z25)","v":0},{"$f":"IF(AA28=0,0,(AA28*((LOG(AA28))/LOG(2))))","v":0},null,{"$f":"N28","v":21212},{"$f":"COUNTIF(L63:L89,AD28)","v":1},{"$f":"AE28/(AG4-AE25)","v":3.7037037037037035E-2},{"$f":"IF(AF28=0,0,(AF28*((LOG(AF28))/LOG(2))))","v":-0.1761069445245729},null,{"$f":"N28","v":21212},{"$f":"COUNTIF(L90:L117,AI28)","v":1},{"$f":"AJ28/(AL4-AJ25)","v":3.5714285714285712E-2},{"$f":"IF(AK28=0,0,(AK28*((LOG(AK28))/LOG(2))))","v":-0.17169124721634299},null,{"$f":"N28","v":21212},{"$f":"COUNTIF(L118:L145,AN28)","v":0},{"$f":"AO28/(AQ4-AO25)","v":0},{"$f":"IF(AP28=0,0,(AP28*((LOG(AP28))/LOG(2))))","v":0},null,{"$f":"N28","v":21212},{"$f":"COUNTIF(L146:L173,AS28)","v":0},{"$f":"AT28/(AV4-AT25)","v":0},{"$f":"IF(AU28=0,0,(AU28*((LOG(AU28))/LOG(2))))","v":0}]
[21,3179,22,3184,24,3205,23,3218,24,3226,0,22222,null,21221,{"$f":"COUNTIF($L$7:$L$500,N29)","v":10},{"$f":"O29/$Q$4","v":6.0240963855421686E-2},{"$f":"IF(P29=0,0,(P29*((LOG(P29))/LOG(2))))","v":-0.24416333352166036},null,null,{"$f":"N29","v":21221},{"$f":"COUNTIF(L7:L34,T29)","v":1},{"$f":"U29/(W4-U25)","v":3.5714285714285712E-2},{"$f":"IF(V29=0,0,(V29*((LOG(V29))/LOG(2))))","v":-0.17169124721634299},null,{"$f":"N29","v":21221},{"$f":"COUNTIF(L35:L62,Y29)","v":4},{"$f":"Z29/(AB4-Z25)","v":0.14285714285714285},{"$f":"IF(AA29=0,0,(AA29*((LOG(AA29))/LOG(2))))","v":-0.40105070315108626},null,{"$f":"N29","v":21221},{"$f":"COUNTIF(L63:L89,AD29)","v":2},{"$f":"AE29/(AG4-AE25)","v":7.407407407407407E-2},{"$f":"IF(AF29=0,0,(AF29*((LOG(AF29))/LOG(2))))","v":-0.27813981497507173},null,{"$f":"N29","v":21221},{"$f":"COUNTIF(L90:L117,AI29)","v":2},{"$f":"AJ29/(AL4-AJ25)","v":7.1428571428571425E-2},{"$f":"IF(AK29=0,0,(AK29*((LOG(AK29))/LOG(2))))","v":-0.27195392300411453},null,{"$f":"N29","v":21221},{"$f":"COUNTIF(L118:L145,AN29)","v":0},{"$f":"AO29/(AQ4-AO25)","v":0},{"$f":"IF(AP29=0,0,(AP29*((LOG(AP29))/LOG(2))))","v":0},null,{"$f":"N29","v":21221},{"$f":"COUNTIF(L146:L173,AS29)","v":1},{"$f":"AT29/(AV4-AT25)","v":3.7037037037037035E-2},{"$f":"IF(AU29=0,0,(AU29*((LOG(AU29))/LOG(2))))","v":-0.1761069445245729}]
[21,3332,22,3337,24,3345,23,3352,13,3363,0,22221,null,21222,{"$f":"COUNTIF($L$7:$L$500,N30)","v":1},{"$f":"O30/$Q$4","v":6.024096385542169E-3},{"$f":"IF(P30=0,0,(P30*((LOG(P30))/LOG(2))))","v":-4.4427948381607983E-2},null,null,{"$f":"N30","v":21222},{"$f":"COUNTIF(L7:L34,T30)","v":0},{"$f":"U30/(W4-U25)","v":0},{"$f":"IF(V30=0,0,(V30*((LOG(V30))/LOG(2))))","v":0},null,{"$f":"N30","v":21222},{"$f":"COUNTIF(L35:L62,Y30)","v":0},{"$f":"Z30/(AB4-Z25)","v":0},{"$f":"IF(AA30=0,0,(AA30*((LOG(AA30))/LOG(2))))","v":0},null,{"$f":"N30","v":21222},{"$f":"COUNTIF(L63:L89,AD30)","v":0},{"$f":"AE30/(AG4-AE25)","v":0},{"$f":"IF(AF30=0,0,(AF30*((LOG(AF30))/LOG(2))))","v":0},null,{"$f":"N30","v":21222},{"$f":"COUNTIF(L90:L117,AI30)","v":1},{"$f":"AJ30/(AL4-AJ25)","v":3.5714285714285712E-2},{"$f":"IF(AK30=0,0,(AK30*((LOG(AK30))/LOG(2))))","v":-0.17169124721634299},null,{"$f":"N30","v":21222},{"$f":"COUNTIF(L118:L145,AN30)","v":0},{"$f":"AO30/(AQ4-AO25)","v":0},{"$f":"IF(AP30=0,0,(AP30*((LOG(AP30))/LOG(2))))","v":0},null,{"$f":"N30","v":21222},{"$f":"COUNTIF(L146:L173,AS30)","v":0},{"$f":"AT30/(AV4-AT25)","v":0},{"$f":"IF(AU30=0,0,(AU30*((LOG(AU30))/LOG(2))))","v":0}]
[21,3472,22,3477,13,3488,14,3499,13,3505,0,22111,null,22111,{"$f":"COUNTIF($L$7:$L$500,N31)","v":30},{"$f":"O31/$Q$4","v":0.18072289156626506},{"$f":"IF(P31=0,0,(P31*((LOG(P31))/LOG(2))))","v":-0.44605099441055535},null,null,{"$f":"N31","v":22111},{"$f":"COUNTIF(L7:L34,T31)","v":7},{"$f":"U31/(W4-U25)","v":0.25},{"$f":"IF(V31=0,0,(V31*((LOG(V31))/LOG(2))))","v":-0.5},null,{"$f":"N31","v":22111},{"$f":"COUNTIF(L35:L62,Y31)","v":4},{"$f":"Z31/(AB4-Z25)","v":0.14285714285714285},{"$f":"IF(AA31=0,0,(AA31*((LOG(AA31))/LOG(2))))","v":-0.40105070315108626},null,{"$f":"N31","v":22111},{"$f":"COUNTIF(L63:L89,AD31)","v":3},{"$f":"AE31/(AG4-AE25)","v":0.1111111111111111},{"$f":"IF(AF31=0,0,(AF31*((LOG(AF31))/LOG(2))))","v":-0.3522138890491458},null,{"$f":"N31","v":22111},{"$f":"COUNTIF(L90:L117,AI31)","v":5},{"$f":"AJ31/(AL4-AJ25)","v":0.17857142857142858},{"$f":"IF(AK31=0,0,(AK31*((LOG(AK31))/LOG(2))))","v":-0.44382621913754317},null,{"$f":"N31","v":22111},{"$f":"COUNTIF(L118:L145,AN31)","v":8},{"$f":"AO31/(AQ4-AO25)","v":0.29629629629629628},{"$f":"IF(AP31=0,0,(AP31*((LOG(AP31))/LOG(2))))","v":-0.51996666730769436},null,{"$f":"N31","v":22111},{"$f":"COUNTIF(L146:L173,AS31)","v":3},{"$f":"AT31/(AV4-AT25)","v":0.1111111111111111},{"$f":"IF(AU31=0,0,(AU31*((LOG(AU31))/LOG(2))))","v":-0.3522138890491458}]
[21,3608,22,3622,13,3634,14,3643,13,3675,0,22111,null,22112,{"$f":"COUNTIF($L$7:$L$500,N32)","v":1},{"$f":"O32/$Q$4","v":6.024096385542169E-3},{"$f":"IF(P32=0,0,(P32*((LOG(P32))/LOG(2))))","v":-4.4427948381607983E-2},null,null,{"$f":"N32","v":22112},{"$f":"COUNTIF(L7:L34,T32)","v":0},{"$f":"U32/(W4-U25)","v":0},{"$f":"IF(V32=0,0,(V32*((LOG(V32))/LOG(2))))","v":0},null,{"$f":"N32","v":22112},{"$f":"COUNTIF(L35:L62,Y32)","v":0},{"$f":"Z32/(AB4-Z25)","v":0},{"$f":"IF(AA32=0,0,(AA32*((LOG(AA32))/LOG(2))))","v":0},null,{"$f":"N32","v":22112},{"$f":"COUNTIF(L63:L89,AD32)","v":0},{"$f":"AE32/(AG4-AE25)","v":0},{"$f":"IF(AF32=0,0,(AF32*((LOG(AF32))/LOG(2))))","v":0},null,{"$f":"N32","v":22112},{"$f":"COUNTIF(L90:L117,AI32)","v":1},{"$f":"AJ32/(AL4-AJ25)","v":3.5714285714285712E-2},{"$f":"IF(AK32=0,0,(AK32*((LOG(AK32))/LOG(2))))","v":-0.17169124721634299},null,{"$f":"N32","v":22112},{"$f":"COUNTIF(L118:L145,AN32)","v":0},{"$f":"AO32/(AQ4-AO25)","v":0},{"$f":"IF(AP32=0,0,(AP32*((LOG(AP32))/LOG(2))))","v":0},null,{"$f":"N32","v":22112},{"$f":"COUNTIF(L146:L173,AS32)","v":0},{"$f":"AT32/(AV4-AT25)","v":0},{"$f":"IF(AU32=0,0,(AU32*((LOG(AU32))/LOG(2))))","v":0}]
[21,3787,22,3794,24,3802,14,3812,13,3819,0,22211,null,22121,{"$f":"COUNTIF($L$7:$L$500,N33)","v":8},{"$f":"O33/$Q$4","v":4.8192771084337352E-2},{"$f":"IF(P33=0,0,(P33*((LOG(P33))/LOG(2))))","v":-0.2108452737998518},null,null,{"$f":"N33","v":22121},{"$f":"COUNTIF(L7:L34,T33)","v":0},{"$f":"U33/(W4-U25)","v":0},{"$f":"IF(V33=0,0,(V33*((LOG(V33))/LOG(2))))","v":0},null,{"$f":"N33","v":22121},{"$f":"COUNTIF(L35:L62,Y33)","v":3},{"$f":"Z33/(AB4-Z25)","v":0.10714285714285714},{"$f":"IF(AA33=0,0,(AA33*((LOG(AA33))/LOG(2))))","v":-0.34525633085747659},null,{"$f":"N33","v":22121},{"$f":"COUNTIF(L63:L89,AD33)","v":1},{"$f":"AE33/(AG4-AE25)","v":3.7037037037037035E-2},{"$f":"IF(AF33=0,0,(AF33*((LOG(AF33))/LOG(2))))","v":-0.1761069445245729},null,{"$f":"N33","v":22121},{"$f":"COUNTIF(L90:L117,AI33)","v":3},{"$f":"AJ33/(AL4-AJ25)","v":0.10714285714285714},{"$f":"IF(AK33=0,0,(AK33*((LOG(AK33))/LOG(2))))","v":-0.34525633085747659},null,{"$f":"N33","v":22121},{"$f":"COUNTIF(L118:L145,AN33)","v":0},{"$f":"AO33/(AQ4-AO25)","v":0},{"$f":"IF(AP33=0,0,(AP33*((LOG(AP33))/LOG(2))))","v":0},null,{"$f":"N33","v":22121},{"$f":"COUNTIF(L146:L173,AS33)","v":1},{"$f":"AT33/(AV4-AT25)","v":3.7037037037037035E-2},{"$f":"IF(AU33=0,0,(AU33*((LOG(AU33))/LOG(2))))","v":-0.1761069445245729}]
[21,3926,22,3936,24,3947,23,3964,13,3974,0,22221,null,22122,{"$f":"COUNTIF($L$7:$L$500,N34)","v":7},{"$f":"O34/$Q$4","v":4.2168674698795178E-2},{"$f":"IF(P34=0,0,(P34*((LOG(P34))/LOG(2))))","v":-0.19261320219894726},null,null,{"$f":"N34","v":22122},{"$f":"COUNTIF(L7:L34,T34)","v":0},{"$f":"U34/(W4-U25)","v":0},{"$f":"IF(V34=0,0,(V34*((LOG(V34))/LOG(2))))","v":0},null,{"$f":"N34","v":22122},{"$f":"COUNTIF(L35:L62,Y34)","v":1},{"$f":"Z34/(AB4-Z25)","v":3.5714285714285712E-2},{"$f":"IF(AA34=0,0,(AA34*((LOG(AA34))/LOG(2))))","v":-0.17169124721634299},null,{"$f":"N34","v":22122},{"$f":"COUNTIF(L63:L89,AD34)","v":3},{"$f":"AE34/(AG4-AE25)","v":0.1111111111111111},{"$f":"IF(AF34=0,0,(AF34*((LOG(AF34))/LOG(2))))","v":-0.3522138890491458},null,{"$f":"N34","v":22122},{"$f":"COUNTIF(L90:L117,AI34)","v":3},{"$f":"AJ34/(AL4-AJ25)","v":0.10714285714285714},{"$f":"IF(AK34=0,0,(AK34*((LOG(AK34))/LOG(2))))","v":-0.34525633085747659},null,{"$f":"N34","v":22122},{"$f":"COUNTIF(L118:L145,AN34)","v":0},{"$f":"AO34/(AQ4-AO25)","v":0},{"$f":"IF(AP34=0,0,(AP34*((LOG(AP34))/LOG(2))))","v":0},null,{"$f":"N34","v":22122},{"$f":"COUNTIF(L146:L173,AS34)","v":0},{"$f":"AT34/(AV4-AT25)","v":0},{"$f":"IF(AU34=0,0,(AU34*((LOG(AU34))/LOG(2))))","v":0}]
[21,4083,22,4087,24,4103,14,4113,13,4120,1,22211,null,22211,{"$f":"COUNTIF($L$7:$L$500,N35)","v":20},{"$f":"O35/$Q$4","v":0.12048192771084337},{"$f":"IF(P35=0,0,(P35*((LOG(P35))/LOG(2))))","v":-0.36784473933247741},null,null,{"$f":"N35","v":22211},{"$f":"COUNTIF(L7:L34,T35)","v":8},{"$f":"U35/(W4-U25)","v":0.2857142857142857},{"$f":"IF(V35=0,0,(V35*((LOG(V35))/LOG(2))))","v":-0.51638712058788683},null,{"$f":"N35","v":22211},{"$f":"COUNTIF(L35:L62,Y35)","v":6},{"$f":"Z35/(AB4-Z25)","v":0.21428571428571427},{"$f":"IF(AA35=0,0,(AA35*((LOG(AA35))/LOG(2))))","v":-0.47622694742923877},null,{"$f":"N35","v":22211},{"$f":"COUNTIF(L63:L89,AD35)","v":1},{"$f":"AE35/(AG4-AE25)","v":3.7037037037037035E-2},{"$f":"IF(AF35=0,0,(AF35*((LOG(AF35))/LOG(2))))","v":-0.1761069445245729},null,{"$f":"N35","v":22211},{"$f":"COUNTIF(L90:L117,AI35)","v":0},{"$f":"AJ35/(AL4-AJ25)","v":0},{"$f":"IF(AK35=0,0,(AK35*((LOG(AK35))/LOG(2))))","v":0},null,{"$f":"N35","v":22211},{"$f":"COUNTIF(L118:L145,AN35)","v":0},{"$f":"AO35/(AQ4-AO25)","v":0},{"$f":"IF(AP35=0,0,(AP35*((LOG(AP35))/LOG(2))))","v":0},null,{"$f":"N35","v":22211},{"$f":"COUNTIF(L146:L173,AS35)","v":5},{"$f":"AT35/(AV4-AT25)","v":0.18518518518518517},{"$f":"IF(AU35=0,0,(AU35*((LOG(AU35))/LOG(2))))","v":-0.45054803838446406}]
[21,4227,22,4232,24,4237,14,4249,24,4257,0,22212,null,22212,{"$f":"COUNTIF($L$7:$L$500,N36)","v":3},{"$f":"O36/$Q$4","v":1.8072289156626505E-2},{"$f":"IF(P36=0,0,(P36*((LOG(P36))/LOG(2))))","v":-0.10463994452938136},null,null,{"$f":"N36","v":22212},{"$f":"COUNTIF(L7:L34,T36)","v":0},{"$f":"U36/(W4-U25)","v":0},{"$f":"IF(V36=0,0,(V36*((LOG(V36))/LOG(2))))","v":0},null,{"$f":"N36","v":22212},{"$f":"COUNTIF(L35:L62,Y36)","v":1},{"$f":"Z36/(AB4-Z25)","v":3.5714285714285712E-2},{"$f":"IF(AA36=0,0,(AA36*((LOG(AA36))/LOG(2))))","v":-0.17169124721634299},null,{"$f":"N36","v":22212},{"$f":"COUNTIF(L63:L89,AD36)","v":1},{"$f":"AE36/(AG4-AE25)","v":3.7037037037037035E-2},{"$f":"IF(AF36=0,0,(AF36*((LOG(AF36))/LOG(2))))","v":-0.1761069445245729},null,{"$f":"N36","v":22212},{"$f":"COUNTIF(L90:L117,AI36)","v":0},{"$f":"AJ36/(AL4-AJ25)","v":0},{"$f":"IF(AK36=0,0,(AK36*((LOG(AK36))/LOG(2))))","v":0},null,{"$f":"N36","v":22212},{"$f":"COUNTIF(L118:L145,AN36)","v":0},{"$f":"AO36/(AQ4-AO25)","v":0},{"$f":"IF(AP36=0,0,(AP36*((LOG(AP36))/LOG(2))))","v":0},null,{"$f":"N36","v":22212},{"$f":"COUNTIF(L146:L173,AS36)","v":1},{"$f":"AT36/(AV4-AT25)","v":3.7037037037037035E-2},{"$f":"IF(AU36=0,0,(AU36*((LOG(AU36))/LOG(2))))","v":-0.1761069445245729}]
[21,4380,22,4388,13,4406,14,4410,13,4415,0,22111,null,22221,{"$f":"COUNTIF($L$7:$L$500,N37)","v":8},{"$f":"O37/$Q$4","v":4.8192771084337352E-2},{"$f":"IF(P37=0,0,(P37*((LOG(P37))/LOG(2))))","v":-0.2108452737998518},null,null,{"$f":"N37","v":22221},{"$f":"COUNTIF(L7:L34,T37)","v":3},{"$f":"U37/(W4-U25)","v":0.10714285714285714},{"$f":"IF(V37=0,0,(V37*((LOG(V37))/LOG(2))))","v":-0.34525633085747659},null,{"$f":"N37","v":22221},{"$f":"COUNTIF(L35:L62,Y37)","v":2},{"$f":"Z37/(AB4-Z25)","v":7.1428571428571425E-2},{"$f":"IF(AA37=0,0,(AA37*((LOG(AA37))/LOG(2))))","v":-0.27195392300411453},null,{"$f":"N37","v":22221},{"$f":"COUNTIF(L63:L89,AD37)","v":2},{"$f":"AE37/(AG4-AE25)","v":7.407407407407407E-2},{"$f":"IF(AF37=0,0,(AF37*((LOG(AF37))/LOG(2))))","v":-0.27813981497507173},null,{"$f":"N37","v":22221},{"$f":"COUNTIF(L90:L117,AI37)","v":1},{"$f":"AJ37/(AL4-AJ25)","v":3.5714285714285712E-2},{"$f":"IF(AK37=0,0,(AK37*((LOG(AK37))/LOG(2))))","v":-0.17169124721634299},null,{"$f":"N37","v":22221},{"$f":"COUNTIF(L118:L145,AN37)","v":0},{"$f":"AO37/(AQ4-AO25)","v":0},{"$f":"IF(AP37=0,0,(AP37*((LOG(AP37))/LOG(2))))","v":0},null,{"$f":"N37","v":22221},{"$f":"COUNTIF(L146:L173,AS37)","v":0},{"$f":"AT37/(AV4-AT25)","v":0},{"$f":"IF(AU37=0,0,(AU37*((LOG(AU37))/LOG(2))))","v":0}]
[21,4523,22,4529,24,4537,14,4548,13,4552,0,22211,null,22222,{"$f":"COUNTIF($L$7:$L$500,N38)","v":2},{"$f":"O38/$Q$4","v":1.2048192771084338E-2},{"$f":"IF(P38=0,0,(P38*((LOG(P38))/LOG(2))))","v":-7.6807703992131618E-2},null,null,{"$f":"N38","v":22222},{"$f":"COUNTIF(L7:L34,T38)","v":2},{"$f":"U38/(W4-U25)","v":7.1428571428571425E-2},{"$f":"IF(V38=0,0,(V38*((LOG(V38))/LOG(2))))","v":-0.27195392300411453},null,{"$f":"N38","v":22222},{"$f":"COUNTIF(L35:L62,Y38)","v":0},{"$f":"Z38/(AB4-Z25)","v":0},{"$f":"IF(AA38=0,0,(AA38*((LOG(AA38))/LOG(2))))","v":0},null,{"$f":"N38","v":22222},{"$f":"COUNTIF(L63:L89,AD38)","v":0},{"$f":"AE38/(AG4-AE25)","v":0},{"$f":"IF(AF38=0,0,(AF38*((LOG(AF38))/LOG(2))))","v":0},null,{"$f":"N38","v":22222},{"$f":"COUNTIF(L90:L117,AI38)","v":0},{"$f":"AJ38/(AL4-AJ25)","v":0},{"$f":"IF(AK38=0,0,(AK38*((LOG(AK38))/LOG(2))))","v":0},null,{"$f":"N38","v":22222},{"$f":"COUNTIF(L118:L145,AN38)","v":0},{"$f":"AO38/(AQ4-AO25)","v":0},{"$f":"IF(AP38=0,0,(AP38*((LOG(AP38))/LOG(2))))","v":0},null,{"$f":"N38","v":22222},{"$f":"COUNTIF(L146:L173,AS38)","v":0},{"$f":"AT38/(AV4-AT25)","v":0},{"$f":"IF(AU38=0,0,(AU38*((LOG(AU38))/LOG(2))))","v":0}]
[21,4660,22,4664,13,4674,23,4682,13,4693,0,22121,null,null,null,{"$f":"SUM(P7:P38)","v":1},{"$f":"-SUM(Q7:Q38)","v":3.6201286928201073},null,null,null,null,{"$f":"SUM(V7:V38)","v":0.99999999999999989},{"$f":"-SUM(W7:W38)","v":2.4532068163114022},null,null,null,{"$f":"SUM(AA7:AA38)","v":0.99999999999999978},{"$f":"-SUM(AB7:AB38)","v":3.128085278891394},null,null,null,{"$f":"SUM(AF7:AF38)","v":0.99999999999999989},{"$f":"-SUM(AG7:AG38)","v":3.3521355399069055},null,null,null,{"$f":"SUM(AK7:AK38)","v":0.99999999999999989},{"$f":"-SUM(AL7:AL38)","v":3.5705981190900795},null,null,null,{"$f":"SUM(AP7:AP38)","v":1},{"$f":"-SUM(AQ7:AQ38)","v":2.3378088010953189},null,null,null,{"$f":"SUM(AU7:AU38)","v":0.99999999999999978},{"$f":"-SUM(AV7:AV38)","v":2.8744838009350624}]
[21,4793,22,4800,13,4810,23,4817,24,4834,0,22122,null,null,null,"U=",{"$f":"Q39/(LOG(Q4)/LOG(2))","v":0.4908622830453061},null,null,null,null,"U1=",{"$f":"W39/(LOG(W4)/LOG(2))","v":0.51030282891228707},null,null,null,"U2=",{"$f":"AB39/(LOG(AB4)/LOG(2))","v":0.6506874007864053},null,null,null,"U3=",{"$f":"AG39/(LOG(AG4)/LOG(2))","v":0.70498735004386281},null,null,null,"U4=",{"$f":"AL39/(LOG(AL4)/LOG(2))","v":0.74273653120702432},null,null,null,"U5=",{"$f":"AQ39/(LOG(AQ4)/LOG(2))","v":0.4862983572044457},null,null,null,"U6=",{"$f":"AV39/(LOG(AV4)/LOG(2))","v":0.60453245205636841}]
[21,4934,11,4946,22,4953,23,4958,13,4967,0,21221]
[21,5069,22,5078,13,5089,14,5093,13,5096,0,22111]
[21,5195,11,5205,22,5213,23,5218,13,5228,0,21221,null,"Total Target Seq"]
[21,5340,22,5349,13,5359,23,5367,13,5379,0,22121,null,{"$f":"COUNTIF(L7:L173,G3)","v":1},null,28,28,27,28,28,28]
[21,5483,22,5491,24,5499,14,5512,13,5520,1,22211,null,null,null,"% of reinforcement given in 6 equal intervals based on number of trials "]
[21,5630,11,5647,11,5651,12,5671,13,5677,0,21111,null,null,null,"%_1","%_2","%_3","%_4","%_5","%_6"]
[21,5778,22,5783,13,5793,23,5800,13,5814,0,22121,null,null,"target sequence",{"$f":"$G$3","v":21121},{"$f":"$G$3","v":21121},{"$f":"$G$3","v":21121},{"$f":"$G$3","v":21121},{"$f":"$G$3","v":21121},{"$f":"$G$3","v":21121}]
[21,5919,22,5924,24,5933,14,5941,13,5946,0,22211,null,null,"total reinforcement",{"$f":"U25","v":0},{"$f":"Z25","v":0},{"$f":"AE25","v":0},{"$f":"AJ25","v":0},{"$f":"AO25","v":1},{"$f":"AT25","v":0}]
[12,6064,13,6075,13,6079,14,6085,13,6104,1,11111,null,null,"% target"]
[21,6204,22,6209,24,6225,14,6234,13,6241,0,22211,null,null,"CCRF"]
[21,6341,11,6355,22,6363,14,6377,13,6384,0,21211,null,null,"% CCRf"]
[21,6507,11,6514,11,6520,12,6527,13,6533,0,21111,null,null,"average response rate",{"$f":"J34/P44","v":141.92857142857142},{"$f":"(J62-J34)/Q44","v":141.71428571428572},{"$f":"(J89-J62)/R44","v":144.59259259259258},{"$f":"(J117-J89)/S44","v":145.25},{"$f":"(J145-J117)/T44","v":143.92857142857142},{"$f":"(J173-J145)/U44","v":-712.25}]
[21,6636,22,6646,13,6658,14,6662,13,6667,0,22111]
[21,6768,11,6776,22,6784,14,6792,13,6799,0,21211]
[21,6898,22,6906,13,6916,14,6922,13,6926,0,22111]
[21,7027,11,7036,22,7044,23,7049,13,7059,0,21221]
[21,7160,22,7168,24,7192,23,7203,13,7210,0,22221]
[21,7315,11,7328,22,7335,23,7340,13,7350,0,21221]
[21,7470,11,7481,11,7493,12,7500,13,7510,0,21111]
[12,7615,13,7628,13,7633,14,7637,13,7641,1,11111]
[21,7735,22,7740,24,7746,23,7760,13,7771,0,22221]
[21,7897,22,7905,24,7920,14,7935,13,7942,0,22211]
[21,8043,22,8050,13,8068,23,8076,13,8086,1,22121]
[21,8185,22,8206,13,8215,14,8220,13,8231,0,22111]
[21,8336,22,8344,24,8363,23,8368,13,8378,0,22221]
[21,8478,11,8490,22,8498,23,8509,13,8519,0,21221]
[21,8626,22,8637,13,8652,23,8659,24,8666,0,22122]
[21,8768,11,8777,22,8784,23,8789,13,8798,1,21221]
[21,8896,22,8903,24,8920,14,8930,24,8946,0,22212]
[21,9057,11,9068,11,9073,12,9079,13,9087,0,21111]
[12,9189,24,9197,13,9208,14,9215,13,9222,0,12111]
[12,9332,24,9339,13,9349,14,9353,13,9359,0,12111]
[12,9459,13,9467,13,9485,14,9489,13,9493,1,11111]
[21,9595,22,9612,13,9620,14,9627,13,9636,1,22111]
[21,9733,11,9746,22,9753,14,9763,13,9768,0,21211]
[21,9873,11,9885,22,9893,14,9904,13,9910,0,21211]
[12,10025,24,10033,13,10042,14,10048,13,10057,0,12111]
[21,10155,22,10172,13,10181,14,10201,13,10207,0,22111]
[21,10312,22,10319,24,10334,23,10341,13,10349,1,22221]
[21,10502,22,10520,24,10527,14,10536,13,10541,0,22211]
[21,10645,22,10652,13,10662,23,10669,24,10686,0,22122]
[21,10785,11,10798,22,10805,14,10827,13,10834,0,21211]
[21,10933,11,10942,22,10950,14,10958,13,10963,0,21211]
[12,11066,13,11083,13,11090,14,11103,13,11118,0,11111]
[21,11219,11,11229,22,11237,14,11245,13,11252,0,21211]
[12,11353,24,11385,13,11393,14,11398,13,11415,0,12111]
[21,11521,22,11529,13,11536,23,11543,24,11553,1,22122]
[21,11657,11,11670,22,11677,14,11687,24,11698,0,21212]
[12,11802,13,11823,13,11827,14,11831,13,11846,0,11111]
[12,11946,24,11963,13,11971,14,11977,13,11984,1,12111]
[21,12092,11,12102,11,12107,12,12112,13,12119,0,21111]
[21,12220,22,12226,24,12242,23,12253,13,12263,0,22221]
[21,12383,22,12402,13,12411,14,12418,13,12425,0,22111]
[21,12527,11,12537,22,12544,14,12555,13,12561,1,21211]
[21,12666,11,12679,22,12687,23,12693,24,12701,1,21222]
[21,12798,22,12816,13,12827,14,12831,13,12843,0,22111]
[21,12948,22,12962,13,12973,23,12986,13,12994,0,22121]
[21,13100,22,13107,13,13118,23,13125,24,13132,0,22122]
[21,13231,11,13239,22,13247,23,13254,13,13262,1,21221]
[21,13377,22,13394,13,13405,14,13413,24,13433,0,22112]
[21,13541,22,13557,13,13566,14,13569,13,13576,0,22111]
[21,13677,22,13685,13,13697,14,13703,13,13711,0,22111]
[12,13816,24,13824,24,13832,14,13839,13,13846,1,12211]
[21,13971,22,13978,13,13989,23,13996,24,14005,0,22122]
[12,14116,13,14128,13,14132,23,14143,13,14155,0,11121]
[21,14254,22,14262,13,14272,23,14279,13,14292,0,22121]
[21,14394,11,14402,22,14410,23,14414,13,14426,0,21221]
[12,14535,24,14543,13,14556,14,14562,13,14569,0,12111]
[21,14671,22,14679,13,14688,23,14696,24,14704,0,22122]
[12,14813,24,14826,13,14836,14,14851,13,14860,0,12111]
[21,14961,22,14969,13,14976,23,14984,13,14995,0,22121]
[21,15098,11,15105,22,15113,14,15124,13,15131,0,21211]
[12,15238,24,15262,13,15271,14,15277,24,15312,1,12112]
[21,15418,11,15429,22,15437,14,15446,13,15454,0,21211]
[21,15553,11,15566,22,15573,14,15591,24,15601,0,21212]
[21,15704,11,15716,11,15737,12,15742,13,15749,1,21111]
[21,15873,22,15894,13,15904,14,15908,13,15913,1,22111]
[21,16009,22,16016,13,16050,14,16058,13,16066,0,22111]
[12,16169,24,16191,24,16208,14,16216,13,16223,1,12211]
[12,16336,24,16344,24,16352,14,16361,13,16367,0,12211]
[12,16471,24,16492,13,16502,14,16506,13,16515,0,12111]
[12,16617,24,16625,13,16634,14,16638,13,16645,0,12111]
[12,16750,13,16768,13,16772,14,16776,13,16783,0,11111]
[21,16889,22,16896,13,16906,14,16910,13,16915,1,22111]
[21,17022,11,17036,22,17046,14,17055,13,17060,0,21211]
[21,17166,22,17185,13,17193,14,17197,13,17203,0,22111]
[12,17322,13,17326,13,17335,14,17353,13,17358,0,11111]
[12,17463,13,17471,13,17484,14,17489,13,17496,0,11111]
[12,17598,24,17610,24,17618,14,17626,13,17631,1,12211]
[12,17745,24,17753,24,17760,14,17781,13,17791,0,12211]
[12,17897,24,17920,13,17929,14,17933,13,17940,0,12111]
[12,18044,13,18062,13,18066,14,18087,13,18092,1,11111]
[21,18217,11,18239,11,18245,12,18252,13,18259,0,21111]
[12,18362,24,18382,13,18389,14,18393,13,18398,0,12111]
[12,18498,13,18515,13,18526,14,18530,13,18545,0,11111]
[21,18648,22,18656,13,18663,14,18668,13,18672,0,22111]
[12,18785,24,18796,13,18804,14,18811,13,18815,1,12111]
[21,18918,22,18926,13,18937,14,18940,13,18946,0,22111]
[12,19057,24,19080,13,19090,14,19094,13,19111,0,12111]
[12,19227,24,19235,13,19244,14,19250,13,19262,0,12111]
[21,19378,22,19386,13,19393,14,19398,13,19402,0,22111]
[21,19521,22,19529,13,19536,14,19541,13,19546,1,22111]
[21,19648,11,19664,11,19668,12,19673,13,19678,0,21111]
[21,19781,22,19788,13,19796,14,19800,13,19804,0,22111]
[21,19908,11,19920,11,19925,21,19934,11,19943,1,21121]
[21,20154,11,20167,11,20172,12,20188,13,20193,0,21111]
[21,20296,22,20305,13,20312,14,20327,13,20332,0,22111]
[21,20429,11,20448,11,20452,12,20457,13,20463,0,21111]
[21,20563,22,20569,24,20577,14,20591,13,20595,0,22211]
[12,20710,13,20715,13,20723,14,20728,13,20745,0,11111]
[21,20847,22,20854,24,20861,14,20872,13,20876,1,22211]
[21,20989,11,21001,11,21005,12,21009,13,21013,0,21111]
[21,21111,22,21119,24,21144,14,21153,13,21158,0,22211]
[21,21258,11,21271,11,21279,12,21284,13,21288,0,21111]
[12,21396,24,21404,13,21412,14,21417,13,21423,0,12111]
[21,21525,11,21536,11,21541,12,21545,13,21551,0,21111]
[21,21656,11,21667,22,21675,14,21686,13,21690,0,21211]
[12,21799,13,21807,13,21811,14,21815,13,21826,0,11111]
[12,21931,24,21948,13,21957,14,21961,13,21969,1,12111]
[21,22074,22,22080,24,22097,14,22108,13,22125,0,22211]
[21,22222,22,22229,24,22236,14,22245,13,22253,0,22211]
[21,22356,22,22364,13,22376,23,22384,13,22397,0,22121]
[12,22502,13,22528,13,22534,14,22541,13,22563,1,11111]
[21,22661,22,22668,24,22675,14,22686,24,22701,0,22212]
[21,22804,11,22816,22,22823,14,22835,13,22839,0,21211]
[12,22950,24,22958,13,22967,14,22972,13,22982,0,12111]
[21,23089,22,23097,13,23106,14,23111,13,23116,0,22111]
[21,23242,11,23252,11,23260,12,23267,13,23284,0,21111]
[21,23392,11,23403,22,23411,23,23428,13,23438,0,21221]
[12,23544,13,23557,13,23562,14,23567,13,23584,1,11111]
[21,23678,22,23694,13,23702,14,23708,13,23716,1,22111]
[21,23823,11,23845,11,23862,12,23870,13,23887,0,21111]
[21,23992,null,null,null,null,null,null,null,null,null,2]

{"sheet":"!N405A20.096","index":11,"n_rows":179,"n_cols":48,"rows_kept":179,"cut":false,"hidden":false,"merged":[[4,39,4,42],[5,39,5,40],[4,44,4,47],[5,44,5,45],[4,24,4,27],[5,24,5,25],[4,29,4,32],[5,29,5,30],[4,34,4,37],[5,34,5,35],[1,1,1,2],[5,13,5,14],[42,13,42,14],[43,13,43,14],[4,19,4,22],[5,19,5,20]]}
["Report for:!N405A20.096"]
["Date:","<date>"]
["Hen:","<hen>",null,null,null,"Correct Sequence",{"$f":"Start!J2","v":21121},null,null,null,null,null,null,null,null,"Total Sequences in Data",{"$f":"4994-COUNTBLANK(L7:L5000)","v":173},null,null,null,null,"Total Sequences in Block Data",{"$f":"COUNTA(L7:L35)","v":29},null,null,null,"Total Sequences in Block Data",{"$f":"COUNTA(L36:L64)","v":29},null,null,null,"Total Sequences in Block Data",{"$f":"COUNTA(L65:L92)","v":28},null,null,null,"Total Sequences in Block Data",{"$f":"COUNTA(L93:L121)","v":29},null,null,null,"Total Sequences in Block Data",{"$f":"COUNTA(L122:L150)","v":29},null,null,null,"Total Sequences in Block Data",{"$f":"COUNTA(L151:L179)","v":29}]
[null,null,null,null,null,null,null,null,null,null,null,null,null,null,null,"Total Sequences in Summary",{"$f":"SUM(O7:O38)","v":172},null,null,null,null,"Total Sequences in Block Summary",{"$f":"SUM(U7:U38)","v":29},null,null,null,"Total Sequences in Block Summary",{"$f":"SUM(Z7:Z38)","v":29},null,null,null,"Total Sequences in Block Summary",{"$f":"SUM(AE7:AE38)","v":28},null,null,null,"Total Sequences in Block Summary",{"$f":"SUM(AJ7:AJ38)","v":29},null,null,null,"Total Sequences in Block Summary",{"$f":"SUM(AO7:AO38)","v":29},null,null,null,"Total Sequences in Block Summary",{"$f":"SUM(AT7:AT38)","v":28}]
[null,null,null,null,null,null,null,null,null,null,null,null,null,null,null,null,null,null,null,"Block 1",null,null,null,null,"Block 2",null,null,null,null,"Block 3",null,null,null,null,"Block 4",null,null,null,null,"Block 5",null,null,null,null,"Block 6"]
["Sequence\nComponent\n1","Time\n1","Sequence\nComponent\n2","Time\n2","Sequence\nComponent\n3","Time\n3","Sequence\nComponent\n4","Time\n4","Sequence\nComponent\n5","Time\n5","Correct?\n0=No 1=Yes","Sequence",null,"Frequency",null,"Relative Frequency","Variability",null,null,"Frequency",null,"Relative Frequency","Variability",null,"Frequency",null,"Relative Frequency","Variability",null,"Frequency",null,"Relative Frequency","Variability",null,"Frequency",null,"Relative Frequency","Variability",null,"Frequency",null,"Relative Frequency","Variability",null,"Frequency",null,"Relative Frequency","Variability"]
[12,7,13,11,13,15,14,20,13,45,0,11111,null,11111,{"$f":"COUNTIF($L$7:$L$500,N7)","v":28},{"$f":"O7/$Q$4","v":0.16279069767441862},{"$f":"IF(P7=0,0,(P7*((LOG(P7))/LOG(2))))","v":-0.42633415880259201},null,null,{"$f":"N7","v":11111},{"$f":"COUNTIF(L7:L35,T7)","v":4},{"$f":"U7/(W4-U25)","v":0.13793103448275862},{"$f":"IF(V7=0,0,(V7*((LOG(V7))/LOG(2))))","v":-0.39420427519000989},null,{"$f":"N7","v":11111},{"$f":"COUNTIF(L36:L64,Y7)","v":2},{"$f":"Z7/(AB4-Z25)","v":7.1428571428571425E-2},{"$f":"IF(AA7=0,0,(AA7*((LOG(AA7))/LOG(2))))","v":-0.27195392300411453},null,{"$f":"N7","v":11111},{"$f":"COUNTIF(L65:L92,AD7)","v":4},{"$f":"AE7/(AG4-AE25)","v":0.14285714285714285},{"$f":"IF(AF7=0,0,(AF7*((LOG(AF7))/LOG(2))))","v":-0.40105070315108626},null,{"$f":"N7","v":11111},{"$f":"COUNTIF(L93:L121,AI7)","v":2},{"$f":"AJ7/(AL4-AJ25)","v":6.8965517241379309E-2},{"$f":"IF(AK7=0,0,(AK7*((LOG(AK7))/LOG(2))))","v":-0.26606765483638428},null,{"$f":"N7","v":11111},{"$f":"COUNTIF(L122:L150,AN7)","v":9},{"$f":"AO7/(AQ4-AO25)","v":0.31034482758620691},{"$f":"IF(AP7=0,0,(AP7*((LOG(AP7))/LOG(2))))","v":-0.52387944631611505},null,{"$f":"N7","v":11111},{"$f":"COUNTIF(L151:L179,AS7)","v":7},{"$f":"AT7/(AV4-AT25)","v":0.25},{"$f":"IF(AU7=0,0,(AU7*((LOG(AU7))/LOG(2))))","v":-0.5}]
[21,142,22,147,13,155,14,159,24,172,1,22112,null,11112,{"$f":"COUNTIF($L$7:$L$500,N8)","v":0},{"$f":"O8/$Q$4","v":0},{"$f":"IF(P8=0,0,(P8*((LOG(P8))/LOG(2))))","v":0},null,null,{"$f":"N8","v":11112},{"$f":"COUNTIF(L7:L35,T8)","v":0},{"$f":"U8/(W4-U25)","v":0},{"$f":"IF(V8=0,0,(V8*((LOG(V8))/LOG(2))))","v":0},null,{"$f":"N8","v":11112},{"$f":"COUNTIF(L36:L64,Y8)","v":0},{"$f":"Z8/(AB4-Z25)","v":0},{"$f":"IF(AA8=0,0,(AA8*((LOG(AA8))/LOG(2))))","v":0},null,{"$f":"N8","v":11112},{"$f":"COUNTIF(L65:L92,AD8)","v":0},{"$f":"AE8/(AG4-AE25)","v":0},{"$f":"IF(AF8=0,0,(AF8*((LOG(AF8))/LOG(2))))","v":0},null,{"$f":"N8","v":11112},{"$f":"COUNTIF(L93:L121,AI8)","v":0},{"$f":"AJ8/(AL4-AJ25)","v":0},{"$f":"IF(AK8=0,0,(AK8*((LOG(AK8))/LOG(2))))","v":0},null,{"$f":"N8","v":11112},{"$f":"COUNTIF(L122:L150,AN8)","v":0},{"$f":"AO8/(AQ4-AO25)","v":0},{"$f":"IF(AP8=0,0,(AP8*((LOG(AP8))/LOG(2))))","v":0},null,{"$f":"N8","v":11112},{"$f":"COUNTIF(L151:L179,AS8)","v":0},{"$f":"AT8/(AV4-AT25)","v":0},{"$f":"IF(AU8=0,0,(AU8*((LOG(AU8))/LOG(2))))","v":0}]
[21,272,22,290,13,297,14,301,13,312,0,22111,null,11121,{"$f":"COUNTIF($L$7:$L$500,N9)","v":1},{"$f":"O9/$Q$4","v":5.8139534883720929E-3},{"$f":"IF(P9=0,0,(P9*((LOG(P9))/LOG(2))))","v":-4.3175957876174981E-2},null,null,{"$f":"N9","v":11121},{"$f":"COUNTIF(L7:L35,T9)","v":0},{"$f":"U9/(W4-U25)","v":0},{"$f":"IF(V9=0,0,(V9*((LOG(V9))/LOG(2))))","v":0},null,{"$f":"N9","v":11121},{"$f":"COUNTIF(L36:L64,Y9)","v":0},{"$f":"Z9/(AB4-Z25)","v":0},{"$f":"IF(AA9=0,0,(AA9*((LOG(AA9))/LOG(2))))","v":0},null,{"$f":"N9","v":11121},{"$f":"COUNTIF(L65:L92,AD9)","v":0},{"$f":"AE9/(AG4-AE25)","v":0},{"$f":"IF(AF9=0,0,(AF9*((LOG(AF9))/LOG(2))))","v":0},null,{"$f":"N9","v":11121},{"$f":"COUNTIF(L93:L121,AI9)","v":0},{"$f":"AJ9/(AL4-AJ25)","v":0},{"$f":"IF(AK9=0,0,(AK9*((LOG(AK9))/LOG(2))))","v":0},null,{"$f":"N9","v":11121},{"$f":"COUNTIF(L122:L150,AN9)","v":1},{"$f":"AO9/(AQ4-AO25)","v":3.4482758620689655E-2},{"$f":"IF(AP9=0,0,(AP9*((LOG(AP9))/LOG(2))))","v":-0.16751658603888178},null,{"$f":"N9","v":11121},{"$f":"COUNTIF(L151:L179,AS9)","v":0},{"$f":"AT9/(AV4-AT25)","v":0},{"$f":"IF(AU9=0,0,(AU9*((LOG(AU9))/LOG(2))))","v":0}]
[21,408,11,428,11,432,12,436,13,442,0,21111,null,11122,{"$f":"COUNTIF($L$7:$L$500,N10)","v":0},{"$f":"O10/$Q$4","v":0},{"$f":"IF(P10=0,0,(P10*((LOG(P10))/LOG(2))))","v":0},null,null,{"$f":"N10","v":11122},{"$f":"COUNTIF(L7:L35,T10)","v":0},{"$f":"U10/(W4-U25)","v":0},{"$f":"IF(V10=0,0,(V10*((LOG(V10))/LOG(2))))","v":0},null,{"$f":"N10","v":11122},{"$f":"COUNTIF(L36:L64,Y10)","v":0},{"$f":"Z10/(AB4-Z25)","v":0},{"$f":"IF(AA10=0,0,(AA10*((LOG(AA10))/LOG(2))))","v":0},null,{"$f":"N10","v":11122},{"$f":"COUNTIF(L65:L92,AD10)","v":0},{"$f":"AE10/(AG4-AE25)","v":0},{"$f":"IF(AF10=0,0,(AF10*((LOG(AF10))/LOG(2))))","v":0},null,{"$f":"N10","v":11122},{"$f":"COUNTIF(L93:L121,AI10)","v":0},{"$f":"AJ10/(AL4-AJ25)","v":0},{"$f":"IF(AK10=0,0,(AK10*((LOG(AK10))/LOG(2))))","v":0},null,{"$f":"N10","v":11122},{"$f":"COUNTIF(L122:L150,AN10)","v":0},{"$f":"AO10/(AQ4-AO25)","v":0},{"$f":"IF(AP10=0,0,(AP10*((LOG(AP10))/LOG(2))))","v":0},null,{"$f":"N10","v":11122},{"$f":"COUNTIF(L151:L179,AS10)","v":0},{"$f":"AT10/(AV4-AT25)","v":0},{"$f":"IF(AU10=0,0,(AU10*((LOG(AU10))/LOG(2))))","v":0}]
[21,543,22,550,24,554,14,563,13,582,0,22211,null,11211,{"$f":"COUNTIF($L$7:$L$500,N11)","v":4},{"$f":"O11/$Q$4","v":2.3255813953488372E-2},{"$f":"IF(P11=0,0,(P11*((LOG(P11))/LOG(2))))","v":-0.12619220359772321},null,null,{"$f":"N11","v":11211},{"$f":"COUNTIF(L7:L35,T11)","v":0},{"$f":"U11/(W4-U25)","v":0},{"$f":"IF(V11=0,0,(V11*((LOG(V11))/LOG(2))))","v":0},null,{"$f":"N11","v":11211},{"$f":"COUNTIF(L36:L64,Y11)","v":0},{"$f":"Z11/(AB4-Z25)","v":0},{"$f":"IF(AA11=0,0,(AA11*((LOG(AA11))/LOG(2))))","v":0},null,{"$f":"N11","v":11211},{"$f":"COUNTIF(L65:L92,AD11)","v":1},{"$f":"AE11/(AG4-AE25)","v":3.5714285714285712E-2},{"$f":"IF(AF11=0,0,(AF11*((LOG(AF11))/LOG(2))))","v":-0.17169124721634299},null,{"$f":"N11","v":11211},{"$f":"COUNTIF(L93:L121,AI11)","v":1},{"$f":"AJ11/(AL4-AJ25)","v":3.4482758620689655E-2},{"$f":"IF(AK11=0,0,(AK11*((LOG(AK11))/LOG(2))))","v":-0.16751658603888178},null,{"$f":"N11","v":11211},{"$f":"COUNTIF(L122:L150,AN11)","v":2},{"$f":"AO11/(AQ4-AO25)","v":6.8965517241379309E-2},{"$f":"IF(AP11=0,0,(AP11*((LOG(AP11))/LOG(2))))","v":-0.26606765483638428},null,{"$f":"N11","v":11211},{"$f":"COUNTIF(L151:L179,AS11)","v":0},{"$f":"AT11/(AV4-AT25)","v":0},{"$f":"IF(AU11=0,0,(AU11*((LOG(AU11))/LOG(2))))","v":0}]
[21,684,22,688,24,692,23,696,13,704,1,22221,null,11212,{"$f":"COUNTIF($L$7:$L$500,N12)","v":0},{"$f":"O12/$Q$4","v":0},{"$f":"IF(P12=0,0,(P12*((LOG(P12))/LOG(2))))","v":0},null,null,{"$f":"N12","v":11212},{"$f":"COUNTIF(L7:L35,T12)","v":0},{"$f":"U12/(W4-U25)","v":0},{"$f":"IF(V12=0,0,(V12*((LOG(V12))/LOG(2))))","v":0},null,{"$f":"N12","v":11212},{"$f":"COUNTIF(L36:L64,Y12)","v":0},{"$f":"Z12/(AB4-Z25)","v":0},{"$f":"IF(AA12=0,0,(AA12*((LOG(AA12))/LOG(2))))","v":0},null,{"$f":"N12","v":11212},{"$f":"COUNTIF(L65:L92,AD12)","v":0},{"$f":"AE12/(AG4-AE25)","v":0},{"$f":"IF(AF12=0,0,(AF12*((LOG(AF12))/LOG(2))))","v":0},null,{"$f":"N12","v":11212},{"$f":"COUNTIF(L93:L121,AI12)","v":0},{"$f":"AJ12/(AL4-AJ25)","v":0},{"$f":"IF(AK12=0,0,(AK12*((LOG(AK12))/LOG(2))))","v":0},null,{"$f":"N12","v":11212},{"$f":"COUNTIF(L122:L150,AN12)","v":0},{"$f":"AO12/(AQ4-AO25)","v":0},{"$f":"IF(AP12=0,0,(AP12*((LOG(AP12))/LOG(2))))","v":0},null,{"$f":"N12","v":11212},{"$f":"COUNTIF(L151:L179,AS12)","v":0},{"$f":"AT12/(AV4-AT25)","v":0},{"$f":"IF(AU12=0,0,(AU12*((LOG(AU12))/LOG(2))))","v":0}]
[21,809,22,814,13,822,14,826,13,840,0,22111,null,11221,{"$f":"COUNTIF($L$7:$L$500,N13)","v":0},{"$f":"O13/$Q$4","v":0},{"$f":"IF(P13=0,0,(P13*((LOG(P13))/LOG(2))))","v":0},null,null,{"$f":"N13","v":11221},{"$f":"COUNTIF(L7:L35,T13)","v":0},{"$f":"U13/(W4-U25)","v":0},{"$f":"IF(V13=0,0,(V13*((LOG(V13))/LOG(2))))","v":0},null,{"$f":"N13","v":11221},{"$f":"COUNTIF(L36:L64,Y13)","v":0},{"$f":"Z13/(AB4-Z25)","v":0},{"$f":"IF(AA13=0,0,(AA13*((LOG(AA13))/LOG(2))))","v":0},null,{"$f":"N13","v":11221},{"$f":"COUNTIF(L65:L92,AD13)","v":0},{"$f":"AE13/(AG4-AE25)","v":0},{"$f":"IF(AF13=0,0,(AF13*((LOG(AF13))/LOG(2))))","v":0},null,{"$f":"N13","v":11221},{"$f":"COUNTIF(L93:L121,AI13)","v":0},{"$f":"AJ13/(AL4-AJ25)","v":0},{"$f":"IF(AK13=0,0,(AK13*((LOG(AK13))/LOG(2))))","v":0},null,{"$f":"N13","v":11221},{"$f":"COUNTIF(L122:L150,AN13)","v":0},{"$f":"AO13/(AQ4-AO25)","v":0},{"$f":"IF(AP13=0,0,(AP13*((LOG(AP13))/LOG(2))))","v":0},null,{"$f":"N13","v":11221},{"$f":"COUNTIF(L151:L179,AS13)","v":0},{"$f":"AT13/(AV4-AT25)","v":0},{"$f":"IF(AU13=0,0,(AU13*((LOG(AU13))/LOG(2))))","v":0}]
[12,968,13,980,13,989,14,995,13,1006,0,11111,null,11222,{"$f":"COUNTIF($L$7:$L$500,N14)","v":0},{"$f":"O14/$Q$4","v":0},{"$f":"IF(P14=0,0,(P14*((LOG(P14))/LOG(2))))","v":0},null,null,{"$f":"N14","v":11222},{"$f":"COUNTIF(L7:L35,T14)","v":0},{"$f":"U14/(W4-U25)","v":0},{"$f":"IF(V14=0,0,(V14*((LOG(V14))/LOG(2))))","v":0},null,{"$f":"N14","v":11222},{"$f":"COUNTIF(L36:L64,Y14)","v":0},{"$f":"Z14/(AB4-Z25)","v":0},{"$f":"IF(AA14=0,0,(AA14*((LOG(AA14))/LOG(2))))","v":0},null,{"$f":"N14","v":11222},{"$f":"COUNTIF(L65:L92,AD14)","v":0},{"$f":"AE14/(AG4-AE25)","v":0},{"$f":"IF(AF14=0,0,(AF14*((LOG(AF14))/LOG(2))))","v":0},null,{"$f":"N14","v":11222},{"$f":"COUNTIF(L93:L121,AI14)","v":0},{"$f":"AJ14/(AL4-AJ25)","v":0},{"$f":"IF(AK14=0,0,(AK14*((LOG(AK14))/LOG(2))))","v":0},null,{"$f":"N14","v":11222},{"$f":"COUNTIF(L122:L150,AN14)","v":0},{"$f":"AO14/(AQ4-AO25)","v":0},{"$f":"IF(AP14=0,0,(AP14*((LOG(AP14))/LOG(2))))","v":0},null,{"$f":"N14","v":11222},{"$f":"COUNTIF(L151:L179,AS14)","v":0},{"$f":"AT14/(AV4-AT25)","v":0},{"$f":"IF(AU14=0,0,(AU14*((LOG(AU14))/LOG(2))))","v":0}]
[21,1109,22,1113,24,1125,14,1133,13,1139,0,22211,null,12111,{"$f":"COUNTIF($L$7:$L$500,N15)","v":28},{"$f":"O15/$Q$4","v":0.16279069767441862},{"$f":"IF(P15=0,0,(P15*((LOG(P15))/LOG(2))))","v":-0.42633415880259201},null,null,{"$f":"N15","v":12111},{"$f":"COUNTIF(L7:L35,T15)","v":0},{"$f":"U15/(W4-U25)","v":0},{"$f":"IF(V15=0,0,(V15*((LOG(V15))/LOG(2))))","v":0},null,{"$f":"N15","v":12111},{"$f":"COUNTIF(L36:L64,Y15)","v":5},{"$f":"Z15/(AB4-Z25)","v":0.17857142857142858},{"$f":"IF(AA15=0,0,(AA15*((LOG(AA15))/LOG(2))))","v":-0.44382621913754317},null,{"$f":"N15","v":12111},{"$f":"COUNTIF(L65:L92,AD15)","v":5},{"$f":"AE15/(AG4-AE25)","v":0.17857142857142858},{"$f":"IF(AF15=0,0,(AF15*((LOG(AF15))/LOG(2))))","v":-0.44382621913754317},null,{"$f":"N15","v":12111},{"$f":"COUNTIF(L93:L121,AI15)","v":7},{"$f":"AJ15/(AL4-AJ25)","v":0.2413793103448276},{"$f":"IF(AK15=0,0,(AK15*((LOG(AK15))/LOG(2))))","v":-0.49497870729275095},null,{"$f":"N15","v":12111},{"$f":"COUNTIF(L122:L150,AN15)","v":5},{"$f":"AO15/(AQ4-AO25)","v":0.17241379310344829},{"$f":"IF(AP15=0,0,(AP15*((LOG(AP15))/LOG(2))))","v":-0.43725050004141547},null,{"$f":"N15","v":12111},{"$f":"COUNTIF(L151:L179,AS15)","v":6},{"$f":"AT15/(AV4-AT25)","v":0.21428571428571427},{"$f":"IF(AU15=0,0,(AU15*((LOG(AU15))/LOG(2))))","v":-0.47622694742923877}]
[12,1246,13,1268,13,1280,14,1289,13,1301,0,11111,null,12112,{"$f":"COUNTIF($L$7:$L$500,N16)","v":3},{"$f":"O16/$Q$4","v":1.7441860465116279E-2},{"$f":"IF(P16=0,0,(P16*((LOG(P16))/LOG(2))))","v":-0.1018831788485048},null,null,{"$f":"N16","v":12112},{"$f":"COUNTIF(L7:L35,T16)","v":0},{"$f":"U16/(W4-U25)","v":0},{"$f":"IF(V16=0,0,(V16*((LOG(V16))/LOG(2))))","v":0},null,{"$f":"N16","v":12112},{"$f":"COUNTIF(L36:L64,Y16)","v":0},{"$f":"Z16/(AB4-Z25)","v":0},{"$f":"IF(AA16=0,0,(AA16*((LOG(AA16))/LOG(2))))","v":0},null,{"$f":"N16","v":12112},{"$f":"COUNTIF(L65:L92,AD16)","v":1},{"$f":"AE16/(AG4-AE25)","v":3.5714285714285712E-2},{"$f":"IF(AF16=0,0,(AF16*((LOG(AF16))/LOG(2))))","v":-0.17169124721634299},null,{"$f":"N16","v":12112},{"$f":"COUNTIF(L93:L121,AI16)","v":2},{"$f":"AJ16/(AL4-AJ25)","v":6.8965517241379309E-2},{"$f":"IF(AK16=0,0,(AK16*((LOG(AK16))/LOG(2))))","v":-0.26606765483638428},null,{"$f":"N16","v":12112},{"$f":"COUNTIF(L122:L150,AN16)","v":0},{"$f":"AO16/(AQ4-AO25)","v":0},{"$f":"IF(AP16=0,0,(AP16*((LOG(AP16))/LOG(2))))","v":0},null,{"$f":"N16","v":12112},{"$f":"COUNTIF(L151:L179,AS16)","v":0},{"$f":"AT16/(AV4-AT25)","v":0},{"$f":"IF(AU16=0,0,(AU16*((LOG(AU16))/LOG(2))))","v":0}]
[21,1416,11,1425,11,1430,12,1441,13,1453,1,21111,null,12121,{"$f":"COUNTIF($L$7:$L$500,N17)","v":1},{"$f":"O17/$Q$4","v":5.8139534883720929E-3},{"$f":"IF(P17=0,0,(P17*((LOG(P17))/LOG(2))))","v":-4.3175957876174981E-2},null,null,{"$f":"N17","v":12121},{"$f":"COUNTIF(L7:L35,T17)","v":0},{"$f":"U17/(W4-U25)","v":0},{"$f":"IF(V17=0,0,(V17*((LOG(V17))/LOG(2))))","v":0},null,{"$f":"N17","v":12121},{"$f":"COUNTIF(L36:L64,Y17)","v":0},{"$f":"Z17/(AB4-Z25)","v":0},{"$f":"IF(AA17=0,0,(AA17*((LOG(AA17))/LOG(2))))","v":0},null,{"$f":"N17","v":12121},{"$f":"COUNTIF(L65:L92,AD17)","v":0},{"$f":"AE17/(AG4-AE25)","v":0},{"$f":"IF(AF17=0,0,(AF17*((LOG(AF17))/LOG(2))))","v":0},null,{"$f":"N17","v":12121},{"$f":"COUNTIF(L93:L121,AI17)","v":0},{"$f":"AJ17/(AL4-AJ25)","v":0},{"$f":"IF(AK17=0,0,(AK17*((LOG(AK17))/LOG(2))))","v":0},null,{"$f":"N17","v":12121},{"$f":"COUNTIF(L122:L150,AN17)","v":0},{"$f":"AO17/(AQ4-AO25)","v":0},{"$f":"IF(AP17=0,0,(AP17*((LOG(AP17))/LOG(2))))","v":0},null,{"$f":"N17","v":12121},{"$f":"COUNTIF(L151:L179,AS17)","v":1},{"$f":"AT17/(AV4-AT25)","v":3.5714285714285712E-2},{"$f":"IF(AU17=0,0,(AU17*((LOG(AU17))/LOG(2))))","v":-0.17169124721634299}]
[21,1550,22,1555,13,1577,14,1582,13,1586,0,22111,null,12122,{"$f":"COUNTIF($L$7:$L$500,N18)","v":0},{"$f":"O18/$Q$4","v":0},{"$f":"IF(P18=0,0,(P18*((LOG(P18))/LOG(2))))","v":0},null,null,{"$f":"N18","v":12122},{"$f":"COUNTIF(L7:L35,T18)","v":0},{"$f":"U18/(W4-U25)","v":0},{"$f":"IF(V18=0,0,(V18*((LOG(V18))/LOG(2))))","v":0},null,{"$f":"N18","v":12122},{"$f":"COUNTIF(L36:L64,Y18)","v":0},{"$f":"Z18/(AB4-Z25)","v":0},{"$f":"IF(AA18=0,0,(AA18*((LOG(AA18))/LOG(2))))","v":0},null,{"$f":"N18","v":12122},{"$f":"COUNTIF(L65:L92,AD18)","v":0},{"$f":"AE18/(AG4-AE25)","v":0},{"$f":"IF(AF18=0,0,(AF18*((LOG(AF18))/LOG(2))))","v":0},null,{"$f":"N18","v":12122},{"$f":"COUNTIF(L93:L121,AI18)","v":0},{"$f":"AJ18/(AL4-AJ25)","v":0},{"$f":"IF(AK18=0,0,(AK18*((LOG(AK18))/LOG(2))))","v":0},null,{"$f":"N18","v":12122},{"$f":"COUNTIF(L122:L150,AN18)","v":0},{"$f":"AO18/(AQ4-AO25)","v":0},{"$f":"IF(AP18=0,0,(AP18*((LOG(AP18))/LOG(2))))","v":0},null,{"$f":"N18","v":12122},{"$f":"COUNTIF(L151:L179,AS18)","v":0},{"$f":"AT18/(AV4-AT25)","v":0},{"$f":"IF(AU18=0,0,(AU18*((LOG(AU18))/LOG(2))))","v":0}]
[12,1697,24,1705,24,1723,14,1746,13,1758,0,12211,null,12211,{"$f":"COUNTIF($L$7:$L$500,N19)","v":5},{"$f":"O19/$Q$4","v":2.9069767441860465E-2},{"$f":"IF(P19=0,0,(P19*((LOG(P19))/LOG(2))))","v":-0.1483818796457772},null,null,{"$f":"N19","v":12211},{"$f":"COUNTIF(L7:L35,T19)","v":1},{"$f":"U19/(W4-U25)","v":3.4482758620689655E-2},{"$f":"IF(V19=0,0,(V19*((LOG(V19))/LOG(2))))","v":-0.16751658603888178},null,{"$f":"N19","v":12211},{"$f":"COUNTIF(L36:L64,Y19)","v":3},{"$f":"Z19/(AB4-Z25)","v":0.10714285714285714},{"$f":"IF(AA19=0,0,(AA19*((LOG(AA19))/LOG(2))))","v":-0.34525633085747659},null,{"$f":"N19","v":12211},{"$f":"COUNTIF(L65:L92,AD19)","v":0},{"$f":"AE19/(AG4-AE25)","v":0},{"$f":"IF(AF19=0,0,(AF19*((LOG(AF19))/LOG(2))))","v":0},null,{"$f":"N19","v":12211},{"$f":"COUNTIF(L93:L121,AI19)","v":0},{"$f":"AJ19/(AL4-AJ25)","v":0},{"$f":"IF(AK19=0,0,(AK19*((LOG(AK19))/LOG(2))))","v":0},null,{"$f":"N19","v":12211},{"$f":"COUNTIF(L122:L150,AN19)","v":0},{"$f":"AO19/(AQ4-AO25)","v":0},{"$f":"IF(AP19=0,0,(AP19*((LOG(AP19))/LOG(2))))","v":0},null,{"$f":"N19","v":12211},{"$f":"COUNTIF(L151:L179,AS19)","v":1},{"$f":"AT19/(AV4-AT25)","v":3.5714285714285712E-2},{"$f":"IF(AU19=0,0,(AU19*((LOG(AU19))/LOG(2))))","v":-0.17169124721634299}]
[21,1858,22,1869,13,1877,23,1884,13,1895,0,22121,null,12212,{"$f":"COUNTIF($L$7:$L$500,N20)","v":0},{"$f":"O20/$Q$4","v":0},{"$f":"IF(P20=0,0,(P20*((LOG(P20))/LOG(2))))","v":0},null,null,{"$f":"N20","v":12212},{"$f":"COUNTIF(L7:L35,T20)","v":0},{"$f":"U20/(W4-U25)","v":0},{"$f":"IF(V20=0,0,(V20*((LOG(V20))/LOG(2))))","v":0},null,{"$f":"N20","v":12212},{"$f":"COUNTIF(L36:L64,Y20)","v":0},{"$f":"Z20/(AB4-Z25)","v":0},{"$f":"IF(AA20=0,0,(AA20*((LOG(AA20))/LOG(2))))","v":0},null,{"$f":"N20","v":12212},{"$f":"COUNTIF(L65:L92,AD20)","v":0},{"$f":"AE20/(AG4-AE25)","v":0},{"$f":"IF(AF20=0,0,(AF20*((LOG(AF20))/LOG(2))))","v":0},null,{"$f":"N20","v":12212},{"$f":"COUNTIF(L93:L121,AI20)","v":0},{"$f":"AJ20/(AL4-AJ25)","v":0},{"$f":"IF(AK20=0,0,(AK20*((LOG(AK20))/LOG(2))))","v":0},null,{"$f":"N20","v":12212},{"$f":"COUNTIF(L122:L150,AN20)","v":0},{"$f":"AO20/(AQ4-AO25)","v":0},{"$f":"IF(AP20=0,0,(AP20*((LOG(AP20))/LOG(2))))","v":0},null,{"$f":"N20","v":12212},{"$f":"COUNTIF(L151:L179,AS20)","v":0},{"$f":"AT20/(AV4-AT25)","v":0},{"$f":"IF(AU20=0,0,(AU20*((LOG(AU20))/LOG(2))))","v":0}]
[21,1995,22,2010,13,2019,14,2026,24,2036,0,22112,null,12221,{"$f":"COUNTIF($L$7:$L$500,N21)","v":0},{"$f":"O21/$Q$4","v":0},{"$f":"IF(P21=0,0,(P21*((LOG(P21))/LOG(2))))","v":0},null,null,{"$f":"N21","v":12221},{"$f":"COUNTIF(L7:L35,T21)","v":0},{"$f":"U21/(W4-U25)","v":0},{"$f":"IF(V21=0,0,(V21*((LOG(V21))/LOG(2))))","v":0},null,{"$f":"N21","v":12221},{"$f":"COUNTIF(L36:L64,Y21)","v":0},{"$f":"Z21/(AB4-Z25)","v":0},{"$f":"IF(AA21=0,0,(AA21*((LOG(AA21))/LOG(2))))","v":0},null,{"$f":"N21","v":12221},{"$f":"COUNTIF(L65:L92,AD21)","v":0},{"$f":"AE21/(AG4-AE25)","v":0},{"$f":"IF(AF21=0,0,(AF21*((LOG(AF21))/LOG(2))))","v":0},null,{"$f":"N21","v":12221},{"$f":"COUNTIF(L93:L121,AI21)","v":0},{"$f":"AJ21/(AL4-AJ25)","v":0},{"$f":"IF(AK21=0,0,(AK21*((LOG(AK21))/LOG(2))))","v":0},null,{"$f":"N21","v":12221},{"$f":"COUNTIF(L122:L150,AN21)","v":0},{"$f":"AO21/(AQ4-AO25)","v":0},{"$f":"IF(AP21=0,0,(AP21*((LOG(AP21))/LOG(2))))","v":0},null,{"$f":"N21","v":12221},{"$f":"COUNTIF(L151:L179,AS21)","v":0},{"$f":"AT21/(AV4-AT25)","v":0},{"$f":"IF(AU21=0,0,(AU21*((LOG(AU21))/LOG(2))))","v":0}]
[21,2138,11,2148,22,2155,14,2163,13,2170,1,21211,null,12222,{"$f":"COUNTIF($L$7:$L$500,N22)","v":0},{"$f":"O22/$Q$4","v":0},{"$f":"IF(P22=0,0,(P22*((LOG(P22))/LOG(2))))","v":0},null,null,{"$f":"N22","v":12222},{"$f":"COUNTIF(L7:L35,T22)","v":0},{"$f":"U22/(W4-U25)","v":0},{"$f":"IF(V22=0,0,(V22*((LOG(V22))/LOG(2))))","v":0},null,{"$f":"N22","v":12222},{"$f":"COUNTIF(L36:L64,Y22)","v":0},{"$f":"Z22/(AB4-Z25)","v":0},{"$f":"IF(AA22=0,0,(AA22*((LOG(AA22))/LOG(2))))","v":0},null,{"$f":"N22","v":12222},{"$f":"COUNTIF(L65:L92,AD22)","v":0},{"$f":"AE22/(AG4-AE25)","v":0},{"$f":"IF(AF22=0,0,(AF22*((LOG(AF22))/LOG(2))))","v":0},null,{"$f":"N22","v":12222},{"$f":"COUNTIF(L93:L121,AI22)","v":0},{"$f":"AJ22/(AL4-AJ25)","v":0},{"$f":"IF(AK22=0,0,(AK22*((LOG(AK22))/LOG(2))))","v":0},null,{"$f":"N22","v":12222},{"$f":"COUNTIF(L122:L150,AN22)","v":0},{"$f":"AO22/(AQ4-AO25)","v":0},{"$f":"IF(AP22=0,0,(AP22*((LOG(AP22))/LOG(2))))","v":0},null,{"$f":"N22","v":12222},{"$f":"COUNTIF(L151:L179,AS22)","v":0},{"$f":"AT22/(AV4-AT25)","v":0},{"$f":"IF(AU22=0,0,(AU22*((LOG(AU22))/LOG(2))))","v":0}]
[21,2269,22,2274,24,2289,14,2309,24,2322,0,22212,null,21111,{"$f":"COUNTIF($L$7:$L$500,N23)","v":23},{"$f":"O23/$Q$4","v":0.13372093023255813},{"$f":"IF(P23=0,0,(P23*((LOG(P23))/LOG(2))))","v":-0.38815211842347069},null,null,{"$f":"N23","v":21111},{"$f":"COUNTIF(L7:L35,T23)","v":2},{"$f":"U23/(W4-U25)","v":6.8965517241379309E-2},{"$f":"IF(V23=0,0,(V23*((LOG(V23))/LOG(2))))","v":-0.26606765483638428},null,{"$f":"N23","v":21111},{"$f":"COUNTIF(L36:L64,Y23)","v":5},{"$f":"Z23/(AB4-Z25)","v":0.17857142857142858},{"$f":"IF(AA23=0,0,(AA23*((LOG(AA23))/LOG(2))))","v":-0.44382621913754317},null,{"$f":"N23","v":21111},{"$f":"COUNTIF(L65:L92,AD23)","v":3},{"$f":"AE23/(AG4-AE25)","v":0.10714285714285714},{"$f":"IF(AF23=0,0,(AF23*((LOG(AF23))/LOG(2))))","v":-0.34525633085747659},null,{"$f":"N23","v":21111},{"$f":"COUNTIF(L93:L121,AI23)","v":4},{"$f":"AJ23/(AL4-AJ25)","v":0.13793103448275862},{"$f":"IF(AK23=0,0,(AK23*((LOG(AK23))/LOG(2))))","v":-0.39420427519000989},null,{"$f":"N23","v":21111},{"$f":"COUNTIF(L122:L150,AN23)","v":7},{"$f":"AO23/(AQ4-AO25)","v":0.2413793103448276},{"$f":"IF(AP23=0,0,(AP23*((LOG(AP23))/LOG(2))))","v":-0.49497870729275095},null,{"$f":"N23","v":21111},{"$f":"COUNTIF(L151:L179,AS23)","v":2},{"$f":"AT23/(AV4-AT25)","v":7.1428571428571425E-2},{"$f":"IF(AU23=0,0,(AU23*((LOG(AU23))/LOG(2))))","v":-0.27195392300411453}]
[21,2423,22,2431,13,2441,14,2449,24,2458,1,22112,null,21112,{"$f":"COUNTIF($L$7:$L$500,N24)","v":0},{"$f":"O24/$Q$4","v":0},{"$f":"IF(P24=0,0,(P24*((LOG(P24))/LOG(2))))","v":0},null,null,{"$f":"N24","v":21112},{"$f":"COUNTIF(L7:L35,T24)","v":0},{"$f":"U24/(W4-U25)","v":0},{"$f":"IF(V24=0,0,(V24*((LOG(V24))/LOG(2))))","v":0},null,{"$f":"N24","v":21112},{"$f":"COUNTIF(L36:L64,Y24)","v":0},{"$f":"Z24/(AB4-Z25)","v":0},{"$f":"IF(AA24=0,0,(AA24*((LOG(AA24))/LOG(2))))","v":0},null,{"$f":"N24","v":21112},{"$f":"COUNTIF(L65:L92,AD24)","v":0},{"$f":"AE24/(AG4-AE25)","v":0},{"$f":"IF(AF24=0,0,(AF24*((LOG(AF24))/LOG(2))))","v":0},null,{"$f":"N24","v":21112},{"$f":"COUNTIF(L93:L121,AI24)","v":0},{"$f":"AJ24/(AL4-AJ25)","v":0},{"$f":"IF(AK24=0,0,(AK24*((LOG(AK24))/LOG(2))))","v":0},null,{"$f":"N24","v":21112},{"$f":"COUNTIF(L122:L150,AN24)","v":0},{"$f":"AO24/(AQ4-AO25)","v":0},{"$f":"IF(AP24=0,0,(AP24*((LOG(AP24))/LOG(2))))","v":0},null,{"$f":"N24","v":21112},{"$f":"COUNTIF(L151:L179,AS24)","v":0},{"$f":"AT24/(AV4-AT25)","v":0},{"$f":"IF(AU24=0,0,(AU24*((LOG(AU24))/LOG(2))))","v":0}]
[21,2555,22,2560,24,2576,23,2581,13,2591,0,22221,null,21121,{"$f":"COUNTIF($L$7:$L$500,N25)","v":1},{"$f":"O25/$Q$4","v":5.8139534883720929E-3},{"$f":"IF(P25=0,0,(P25*((LOG(P25))/LOG(2))))","v":-4.3175957876174981E-2},null,null,{"$f":"N25","v":21121},{"$f":"COUNTIF(L7:L35,T25)","v":0},null,null,null,{"$f":"N25","v":21121},{"$f":"COUNTIF(L36:L64,Y25)","v":1},null,null,null,{"$f":"N25","v":21121},{"$f":"COUNTIF(L65:L92,AD25)","v":0},null,null,null,{"$f":"N25","v":21121},{"$f":"COUNTIF(L93:L121,AI25)","v":0},null,null,null,{"$f":"N25","v":21121},{"$f":"COUNTIF(L122:L150,AN25)","v":0},null,null,null,{"$f":"N25","v":21121},{"$f":"COUNTIF(L151:L179,AS25)","v":0}]
[21,2698,11,2706,22,2714,23,2729,13,2739,0,21221,null,21122,{"$f":"COUNTIF($L$7:$L$500,N26)","v":0},{"$f":"O26/$Q$4","v":0},{"$f":"IF(P26=0,0,(P26*((LOG(P26))/LOG(2))))","v":0},null,null,{"$f":"N26","v":21122},{"$f":"COUNTIF(L7:L35,T26)","v":0},{"$f":"U26/(W4-U25)","v":0},{"$f":"IF(V26=0,0,(V26*((LOG(V26))/LOG(2))))","v":0},null,{"$f":"N26","v":21122},{"$f":"COUNTIF(L36:L64,Y26)","v":0},{"$f":"Z26/(AB4-Z25)","v":0},{"$f":"IF(AA26=0,0,(AA26*((LOG(AA26))/LOG(2))))","v":0},null,{"$f":"N26","v":21122},{"$f":"COUNTIF(L65:L92,AD26)","v":0},{"$f":"AE26/(AG4-AE25)","v":0},{"$f":"IF(AF26=0,0,(AF26*((LOG(AF26))/LOG(2))))","v":0},null,{"$f":"N26","v":21122},{"$f":"COUNTIF(L93:L121,AI26)","v":0},{"$f":"AJ26/(AL4-AJ25)","v":0},{"$f":"IF(AK26=0,0,(AK26*((LOG(AK26))/LOG(2))))","v":0},null,{"$f":"N26","v":21122},{"$f":"COUNTIF(L122:L150,AN26)","v":0},{"$f":"AO26/(AQ4-AO25)","v":0},{"$f":"IF(AP26=0,0,(AP26*((LOG(AP26))/LOG(2))))","v":0},null,{"$f":"N26","v":21122},{"$f":"COUNTIF(L151:L179,AS26)","v":0},{"$f":"AT26/(AV4-AT25)","v":0},{"$f":"IF(AU26=0,0,(AU26*((LOG(AU26))/LOG(2))))","v":0}]
[21,2844,22,2852,24,2856,14,2867,24,2889,0,22212,null,21211,{"$f":"COUNTIF($L$7:$L$500,N27)","v":21},{"$f":"O27/$Q$4","v":0.12209302325581395},{"$f":"IF(P27=0,0,(P27*((LOG(P27))/LOG(2))))","v":-0.37042380215343074},null,null,{"$f":"N27","v":21211},{"$f":"COUNTIF(L7:L35,T27)","v":3},{"$f":"U27/(W4-U25)","v":0.10344827586206896},{"$f":"IF(V27=0,0,(V27*((LOG(V27))/LOG(2))))","v":-0.33858812011100858},null,{"$f":"N27","v":21211},{"$f":"COUNTIF(L36:L64,Y27)","v":4},{"$f":"Z27/(AB4-Z25)","v":0.14285714285714285},{"$f":"IF(AA27=0,0,(AA27*((LOG(AA27))/LOG(2))))","v":-0.40105070315108626},null,{"$f":"N27","v":21211},{"$f":"COUNTIF(L65:L92,AD27)","v":5},{"$f":"AE27/(AG4-AE25)","v":0.17857142857142858},{"$f":"IF(AF27=0,0,(AF27*((LOG(AF27))/LOG(2))))","v":-0.44382621913754317},null,{"$f":"N27","v":21211},{"$f":"COUNTIF(L93:L121,AI27)","v":4},{"$f":"AJ27/(AL4-AJ25)","v":0.13793103448275862},{"$f":"IF(AK27=0,0,(AK27*((LOG(AK27))/LOG(2))))","v":-0.39420427519000989},null,{"$f":"N27","v":21211},{"$f":"COUNTIF(L122:L150,AN27)","v":1},{"$f":"AO27/(AQ4-AO25)","v":3.4482758620689655E-2},{"$f":"IF(AP27=0,0,(AP27*((LOG(AP27))/LOG(2))))","v":-0.16751658603888178},null,{"$f":"N27","v":21211},{"$f":"COUNTIF(L151:L179,AS27)","v":4},{"$f":"AT27/(AV4-AT25)","v":0.14285714285714285},{"$f":"IF(AU27=0,0,(AU27*((LOG(AU27))/LOG(2))))","v":-0.40105070315108626}]
[21,2994,11,3007,22,3024,14,3033,13,3043,1,21211,null,21212,{"$f":"COUNTIF($L$7:$L$500,N28)","v":1},{"$f":"O28/$Q$4","v":5.8139534883720929E-3},{"$f":"IF(P28=0,0,(P28*((LOG(P28))/LOG(2))))","v":-4.3175957876174981E-2},null,null,{"$f":"N28","v":21212},{"$f":"COUNTIF(L7:L35,T28)","v":1},{"$f":"U28/(W4-U25)","v":3.4482758620689655E-2},{"$f":"IF(V28=0,0,(V28*((LOG(V28))/LOG(2))))","v":-0.16751658603888178},null,{"$f":"N28","v":21212},{"$f":"COUNTIF(L36:L64,Y28)","v":0},{"$f":"Z28/(AB4-Z25)","v":0},{"$f":"IF(AA28=0,0,(AA28*((LOG(AA28))/LOG(2))))","v":0},null,{"$f":"N28","v":21212},{"$f":"COUNTIF(L65:L92,AD28)","v":0},{"$f":"AE28/(AG4-AE25)","v":0},{"$f":"IF(AF28=0,0,(AF28*((LOG(AF28))/LOG(2))))","v":0},null,{"$f":"N28","v":21212},{"$f":"COUNTIF(L93:L121,AI28)","v":0},{"$f":"AJ28/(AL4-AJ25)","v":0},{"$f":"IF(AK28=0,0,(AK28*((LOG(AK28))/LOG(2))))","v":0},null,{"$f":"N28","v":21212},{"$f":"COUNTIF(L122:L150,AN28)","v":0},{"$f":"AO28/(AQ4-AO25)","v":0},{"$f":"IF(AP28=0,0,(AP28*((LOG(AP28))/LOG(2))))","v":0},null,{"$f":"N28","v":21212},{"$f":"COUNTIF(L151:L179,AS28)","v":0},{"$f":"AT28/(AV4-AT25)","v":0},{"$f":"IF(AU28=0,0,(AU28*((LOG(AU28))/LOG(2))))","v":0}]
[21,3138,22,3149,13,3160,23,3167,13,3183,0,22121,null,21221,{"$f":"COUNTIF($L$7:$L$500,N29)","v":9},{"$f":"O29/$Q$4","v":5.232558139534884E-2},{"$f":"IF(P29=0,0,(P29*((LOG(P29))/LOG(2))))","v":-0.22271545220545388},null,null,{"$f":"N29","v":21221},{"$f":"COUNTIF(L7:L35,T29)","v":2},{"$f":"U29/(W4-U25)","v":6.8965517241379309E-2},{"$f":"IF(V29=0,0,(V29*((LOG(V29))/LOG(2))))","v":-0.26606765483638428},null,{"$f":"N29","v":21221},{"$f":"COUNTIF(L36:L64,Y29)","v":1},{"$f":"Z29/(AB4-Z25)","v":3.5714285714285712E-2},{"$f":"IF(AA29=0,0,(AA29*((LOG(AA29))/LOG(2))))","v":-0.17169124721634299},null,{"$f":"N29","v":21221},{"$f":"COUNTIF(L65:L92,AD29)","v":0},{"$f":"AE29/(AG4-AE25)","v":0},{"$f":"IF(AF29=0,0,(AF29*((LOG(AF29))/LOG(2))))","v":0},null,{"$f":"N29","v":21221},{"$f":"COUNTIF(L93:L121,AI29)","v":2},{"$f":"AJ29/(AL4-AJ25)","v":6.8965517241379309E-2},{"$f":"IF(AK29=0,0,(AK29*((LOG(AK29))/LOG(2))))","v":-0.26606765483638428},null,{"$f":"N29","v":21221},{"$f":"COUNTIF(L122:L150,AN29)","v":2},{"$f":"AO29/(AQ4-AO25)","v":6.8965517241379309E-2},{"$f":"IF(AP29=0,0,(AP29*((LOG(AP29))/LOG(2))))","v":-0.26606765483638428},null,{"$f":"N29","v":21221},{"$f":"COUNTIF(L151:L179,AS29)","v":2},{"$f":"AT29/(AV4-AT25)","v":7.1428571428571425E-2},{"$f":"IF(AU29=0,0,(AU29*((LOG(AU29))/LOG(2))))","v":-0.27195392300411453}]
[21,3296,11,3305,22,3313,23,3318,13,3326,0,21221,null,21222,{"$f":"COUNTIF($L$7:$L$500,N30)","v":0},{"$f":"O30/$Q$4","v":0},{"$f":"IF(P30=0,0,(P30*((LOG(P30))/LOG(2))))","v":0},null,null,{"$f":"N30","v":21222},{"$f":"COUNTIF(L7:L35,T30)","v":0},{"$f":"U30/(W4-U25)","v":0},{"$f":"IF(V30=0,0,(V30*((LOG(V30))/LOG(2))))","v":0},null,{"$f":"N30","v":21222},{"$f":"COUNTIF(L36:L64,Y30)","v":0},{"$f":"Z30/(AB4-Z25)","v":0},{"$f":"IF(AA30=0,0,(AA30*((LOG(AA30))/LOG(2))))","v":0},null,{"$f":"N30","v":21222},{"$f":"COUNTIF(L65:L92,AD30)","v":0},{"$f":"AE30/(AG4-AE25)","v":0},{"$f":"IF(AF30=0,0,(AF30*((LOG(AF30))/LOG(2))))","v":0},null,{"$f":"N30","v":21222},{"$f":"COUNTIF(L93:L121,AI30)","v":0},{"$f":"AJ30/(AL4-AJ25)","v":0},{"$f":"IF(AK30=0,0,(AK30*((LOG(AK30))/LOG(2))))","v":0},null,{"$f":"N30","v":21222},{"$f":"COUNTIF(L122:L150,AN30)","v":0},{"$f":"AO30/(AQ4-AO25)","v":0},{"$f":"IF(AP30=0,0,(AP30*((LOG(AP30))/LOG(2))))","v":0},null,{"$f":"N30","v":21222},{"$f":"COUNTIF(L151:L179,AS30)","v":0},{"$f":"AT30/(AV4-AT25)","v":0},{"$f":"IF(AU30=0,0,(AU30*((LOG(AU30))/LOG(2))))","v":0}]
[21,3427,22,3431,24,3438,23,3442,13,3452,0,22221,null,22111,{"$f":"COUNTIF($L$7:$L$500,N31)","v":18},{"$f":"O31/$Q$4","v":0.10465116279069768},{"$f":"IF(P31=0,0,(P31*((LOG(P31))/LOG(2))))","v":-0.34077974162021013},null,null,{"$f":"N31","v":22111},{"$f":"COUNTIF(L7:L35,T31)","v":3},{"$f":"U31/(W4-U25)","v":0.10344827586206896},{"$f":"IF(V31=0,0,(V31*((LOG(V31))/LOG(2))))","v":-0.33858812011100858},null,{"$f":"N31","v":22111},{"$f":"COUNTIF(L36:L64,Y31)","v":5},{"$f":"Z31/(AB4-Z25)","v":0.17857142857142858},{"$f":"IF(AA31=0,0,(AA31*((LOG(AA31))/LOG(2))))","v":-0.44382621913754317},null,{"$f":"N31","v":22111},{"$f":"COUNTIF(L65:L92,AD31)","v":3},{"$f":"AE31/(AG4-AE25)","v":0.10714285714285714},{"$f":"IF(AF31=0,0,(AF31*((LOG(AF31))/LOG(2))))","v":-0.34525633085747659},null,{"$f":"N31","v":22111},{"$f":"COUNTIF(L93:L121,AI31)","v":4},{"$f":"AJ31/(AL4-AJ25)","v":0.13793103448275862},{"$f":"IF(AK31=0,0,(AK31*((LOG(AK31))/LOG(2))))","v":-0.39420427519000989},null,{"$f":"N31","v":22111},{"$f":"COUNTIF(L122:L150,AN31)","v":2},{"$f":"AO31/(AQ4-AO25)","v":6.8965517241379309E-2},{"$f":"IF(AP31=0,0,(AP31*((LOG(AP31))/LOG(2))))","v":-0.26606765483638428},null,{"$f":"N31","v":22111},{"$f":"COUNTIF(L151:L179,AS31)","v":1},{"$f":"AT31/(AV4-AT25)","v":3.5714285714285712E-2},{"$f":"IF(AU31=0,0,(AU31*((LOG(AU31))/LOG(2))))","v":-0.17169124721634299}]
[21,3558,22,3563,13,3572,23,3580,24,3589,0,22122,null,22112,{"$f":"COUNTIF($L$7:$L$500,N32)","v":4},{"$f":"O32/$Q$4","v":2.3255813953488372E-2},{"$f":"IF(P32=0,0,(P32*((LOG(P32))/LOG(2))))","v":-0.12619220359772321},null,null,{"$f":"N32","v":22112},{"$f":"COUNTIF(L7:L35,T32)","v":3},{"$f":"U32/(W4-U25)","v":0.10344827586206896},{"$f":"IF(V32=0,0,(V32*((LOG(V32))/LOG(2))))","v":-0.33858812011100858},null,{"$f":"N32","v":22112},{"$f":"COUNTIF(L36:L64,Y32)","v":0},{"$f":"Z32/(AB4-Z25)","v":0},{"$f":"IF(AA32=0,0,(AA32*((LOG(AA32))/LOG(2))))","v":0},null,{"$f":"N32","v":22112},{"$f":"COUNTIF(L65:L92,AD32)","v":1},{"$f":"AE32/(AG4-AE25)","v":3.5714285714285712E-2},{"$f":"IF(AF32=0,0,(AF32*((LOG(AF32))/LOG(2))))","v":-0.17169124721634299},null,{"$f":"N32","v":22112},{"$f":"COUNTIF(L93:L121,AI32)","v":0},{"$f":"AJ32/(AL4-AJ25)","v":0},{"$f":"IF(AK32=0,0,(AK32*((LOG(AK32))/LOG(2))))","v":0},null,{"$f":"N32","v":22112},{"$f":"COUNTIF(L122:L150,AN32)","v":0},{"$f":"AO32/(AQ4-AO25)","v":0},{"$f":"IF(AP32=0,0,(AP32*((LOG(AP32))/LOG(2))))","v":0},null,{"$f":"N32","v":22112},{"$f":"COUNTIF(L151:L179,AS32)","v":0},{"$f":"AT32/(AV4-AT25)","v":0},{"$f":"IF(AU32=0,0,(AU32*((LOG(AU32))/LOG(2))))","v":0}]
[21,3685,11,3695,22,3703,14,3710,24,3718,0,21212,null,22121,{"$f":"COUNTIF($L$7:$L$500,N33)","v":4},{"$f":"O33/$Q$4","v":2.3255813953488372E-2},{"$f":"IF(P33=0,0,(P33*((LOG(P33))/LOG(2))))","v":-0.12619220359772321},null,null,{"$f":"N33","v":22121},{"$f":"COUNTIF(L7:L35,T33)","v":2},{"$f":"U33/(W4-U25)","v":6.8965517241379309E-2},{"$f":"IF(V33=0,0,(V33*((LOG(V33))/LOG(2))))","v":-0.26606765483638428},null,{"$f":"N33","v":22121},{"$f":"COUNTIF(L36:L64,Y33)","v":0},{"$f":"Z33/(AB4-Z25)","v":0},{"$f":"IF(AA33=0,0,(AA33*((LOG(AA33))/LOG(2))))","v":0},null,{"$f":"N33","v":22121},{"$f":"COUNTIF(L65:L92,AD33)","v":1},{"$f":"AE33/(AG4-AE25)","v":3.5714285714285712E-2},{"$f":"IF(AF33=0,0,(AF33*((LOG(AF33))/LOG(2))))","v":-0.17169124721634299},null,{"$f":"N33","v":22121},{"$f":"COUNTIF(L93:L121,AI33)","v":1},{"$f":"AJ33/(AL4-AJ25)","v":3.4482758620689655E-2},{"$f":"IF(AK33=0,0,(AK33*((LOG(AK33))/LOG(2))))","v":-0.16751658603888178},null,{"$f":"N33","v":22121},{"$f":"COUNTIF(L122:L150,AN33)","v":0},{"$f":"AO33/(AQ4-AO25)","v":0},{"$f":"IF(AP33=0,0,(AP33*((LOG(AP33))/LOG(2))))","v":0},null,{"$f":"N33","v":22121},{"$f":"COUNTIF(L151:L179,AS33)","v":0},{"$f":"AT33/(AV4-AT25)","v":0},{"$f":"IF(AU33=0,0,(AU33*((LOG(AU33))/LOG(2))))","v":0}]
[12,3827,13,3834,13,3841,14,3856,13,3866,0,11111,null,22122,{"$f":"COUNTIF($L$7:$L$500,N34)","v":4},{"$f":"O34/$Q$4","v":2.3255813953488372E-2},{"$f":"IF(P34=0,0,(P34*((LOG(P34))/LOG(2))))","v":-0.12619220359772321},null,null,{"$f":"N34","v":22122},{"$f":"COUNTIF(L7:L35,T34)","v":1},{"$f":"U34/(W4-U25)","v":3.4482758620689655E-2},{"$f":"IF(V34=0,0,(V34*((LOG(V34))/LOG(2))))","v":-0.16751658603888178},null,{"$f":"N34","v":22122},{"$f":"COUNTIF(L36:L64,Y34)","v":0},{"$f":"Z34/(AB4-Z25)","v":0},{"$f":"IF(AA34=0,0,(AA34*((LOG(AA34))/LOG(2))))","v":0},null,{"$f":"N34","v":22122},{"$f":"COUNTIF(L65:L92,AD34)","v":0},{"$f":"AE34/(AG4-AE25)","v":0},{"$f":"IF(AF34=0,0,(AF34*((LOG(AF34))/LOG(2))))","v":0},null,{"$f":"N34","v":22122},{"$f":"COUNTIF(L93:L121,AI34)","v":0},{"$f":"AJ34/(AL4-AJ25)","v":0},{"$f":"IF(AK34=0,0,(AK34*((LOG(AK34))/LOG(2))))","v":0},null,{"$f":"N34","v":22122},{"$f":"COUNTIF(L122:L150,AN34)","v":0},{"$f":"AO34/(AQ4-AO25)","v":0},{"$f":"IF(AP34=0,0,(AP34*((LOG(AP34))/LOG(2))))","v":0},null,{"$f":"N34","v":22122},{"$f":"COUNTIF(L151:L179,AS34)","v":3},{"$f":"AT34/(AV4-AT25)","v":0.10714285714285714},{"$f":"IF(AU34=0,0,(AU34*((LOG(AU34))/LOG(2))))","v":-0.34525633085747659}]
[21,3963,11,3975,22,3983,14,3992,13,4008,1,21211,null,22211,{"$f":"COUNTIF($L$7:$L$500,N35)","v":11},{"$f":"O35/$Q$4","v":6.3953488372093026E-2},{"$f":"IF(P35=0,0,(P35*((LOG(P35))/LOG(2))))","v":-0.25369281684135353},null,null,{"$f":"N35","v":22211},{"$f":"COUNTIF(L7:L35,T35)","v":2},{"$f":"U35/(W4-U25)","v":6.8965517241379309E-2},{"$f":"IF(V35=0,0,(V35*((LOG(V35))/LOG(2))))","v":-0.26606765483638428},null,{"$f":"N35","v":22211},{"$f":"COUNTIF(L36:L64,Y35)","v":2},{"$f":"Z35/(AB4-Z25)","v":7.1428571428571425E-2},{"$f":"IF(AA35=0,0,(AA35*((LOG(AA35))/LOG(2))))","v":-0.27195392300411453},null,{"$f":"N35","v":22211},{"$f":"COUNTIF(L65:L92,AD35)","v":4},{"$f":"AE35/(AG4-AE25)","v":0.14285714285714285},{"$f":"IF(AF35=0,0,(AF35*((LOG(AF35))/LOG(2))))","v":-0.40105070315108626},null,{"$f":"N35","v":22211},{"$f":"COUNTIF(L93:L121,AI35)","v":2},{"$f":"AJ35/(AL4-AJ25)","v":6.8965517241379309E-2},{"$f":"IF(AK35=0,0,(AK35*((LOG(AK35))/LOG(2))))","v":-0.26606765483638428},null,{"$f":"N35","v":22211},{"$f":"COUNTIF(L122:L150,AN35)","v":0},{"$f":"AO35/(AQ4-AO25)","v":0},{"$f":"IF(AP35=0,0,(AP35*((LOG(AP35))/LOG(2))))","v":0},null,{"$f":"N35","v":22211},{"$f":"COUNTIF(L151:L179,AS35)","v":1},{"$f":"AT35/(AV4-AT25)","v":3.5714285714285712E-2},{"$f":"IF(AU35=0,0,(AU35*((LOG(AU35))/LOG(2))))","v":-0.17169124721634299}]
[21,4107,22,4117,24,4131,23,4136,13,4143,0,22221,null,22212,{"$f":"COUNTIF($L$7:$L$500,N36)","v":2},{"$f":"O36/$Q$4","v":1.1627906976744186E-2},{"$f":"IF(P36=0,0,(P36*((LOG(P36))/LOG(2))))","v":-7.4724008775605782E-2},null,null,{"$f":"N36","v":22212},{"$f":"COUNTIF(L7:L35,T36)","v":2},{"$f":"U36/(W4-U25)","v":6.8965517241379309E-2},{"$f":"IF(V36=0,0,(V36*((LOG(V36))/LOG(2))))","v":-0.26606765483638428},null,{"$f":"N36","v":22212},{"$f":"COUNTIF(L36:L64,Y36)","v":0},{"$f":"Z36/(AB4-Z25)","v":0},{"$f":"IF(AA36=0,0,(AA36*((LOG(AA36))/LOG(2))))","v":0},null,{"$f":"N36","v":22212},{"$f":"COUNTIF(L65:L92,AD36)","v":0},{"$f":"AE36/(AG4-AE25)","v":0},{"$f":"IF(AF36=0,0,(AF36*((LOG(AF36))/LOG(2))))","v":0},null,{"$f":"N36","v":22212},{"$f":"COUNTIF(L93:L121,AI36)","v":0},{"$f":"AJ36/(AL4-AJ25)","v":0},{"$f":"IF(AK36=0,0,(AK36*((LOG(AK36))/LOG(2))))","v":0},null,{"$f":"N36","v":22212},{"$f":"COUNTIF(L122:L150,AN36)","v":0},{"$f":"AO36/(AQ4-AO25)","v":0},{"$f":"IF(AP36=0,0,(AP36*((LOG(AP36))/LOG(2))))","v":0},null,{"$f":"N36","v":22212},{"$f":"COUNTIF(L151:L179,AS36)","v":0},{"$f":"AT36/(AV4-AT25)","v":0},{"$f":"IF(AU36=0,0,(AU36*((LOG(AU36))/LOG(2))))","v":0}]
[21,4247,11,4257,11,4265,12,4273,13,4280,0,21111,null,22221,{"$f":"COUNTIF($L$7:$L$500,N37)","v":4},{"$f":"O37/$Q$4","v":2.3255813953488372E-2},{"$f":"IF(P37=0,0,(P37*((LOG(P37))/LOG(2))))","v":-0.12619220359772321},null,null,{"$f":"N37","v":22221},{"$f":"COUNTIF(L7:L35,T37)","v":3},{"$f":"U37/(W4-U25)","v":0.10344827586206896},{"$f":"IF(V37=0,0,(V37*((LOG(V37))/LOG(2))))","v":-0.33858812011100858},null,{"$f":"N37","v":22221},{"$f":"COUNTIF(L36:L64,Y37)","v":1},{"$f":"Z37/(AB4-Z25)","v":3.5714285714285712E-2},{"$f":"IF(AA37=0,0,(AA37*((LOG(AA37))/LOG(2))))","v":-0.17169124721634299},null,{"$f":"N37","v":22221},{"$f":"COUNTIF(L65:L92,AD37)","v":0},{"$f":"AE37/(AG4-AE25)","v":0},{"$f":"IF(AF37=0,0,(AF37*((LOG(AF37))/LOG(2))))","v":0},null,{"$f":"N37","v":22221},{"$f":"COUNTIF(L93:L121,AI37)","v":0},{"$f":"AJ37/(AL4-AJ25)","v":0},{"$f":"IF(AK37=0,0,(AK37*((LOG(AK37))/LOG(2))))","v":0},null,{"$f":"N37","v":22221},{"$f":"COUNTIF(L122:L150,AN37)","v":0},{"$f":"AO37/(AQ4-AO25)","v":0},{"$f":"IF(AP37=0,0,(AP37*((LOG(AP37))/LOG(2))))","v":0},null,{"$f":"N37","v":22221},{"$f":"COUNTIF(L151:L179,AS37)","v":0},{"$f":"AT37/(AV4-AT25)","v":0},{"$f":"IF(AU37=0,0,(AU37*((LOG(AU37))/LOG(2))))","v":0}]
[21,4381,22,4414,13,4421,14,4429,13,4436,0,22111,null,22222,{"$f":"COUNTIF($L$7:$L$500,N38)","v":0},{"$f":"O38/$Q$4","v":0},{"$f":"IF(P38=0,0,(P38*((LOG(P38))/LOG(2))))","v":0},null,null,{"$f":"N38","v":22222},{"$f":"COUNTIF(L7:L35,T38)","v":0},{"$f":"U38/(W4-U25)","v":0},{"$f":"IF(V38=0,0,(V38*((LOG(V38))/LOG(2))))","v":0},null,{"$f":"N38","v":22222},{"$f":"COUNTIF(L36:L64,Y38)","v":0},{"$f":"Z38/(AB4-Z25)","v":0},{"$f":"IF(AA38=0,0,(AA38*((LOG(AA38))/LOG(2))))","v":0},null,{"$f":"N38","v":22222},{"$f":"COUNTIF(L65:L92,AD38)","v":0},{"$f":"AE38/(AG4-AE25)","v":0},{"$f":"IF(AF38=0,0,(AF38*((LOG(AF38))/LOG(2))))","v":0},null,{"$f":"N38","v":22222},{"$f":"COUNTIF(L93:L121,AI38)","v":0},{"$f":"AJ38/(AL4-AJ25)","v":0},{"$f":"IF(AK38=0,0,(AK38*((LOG(AK38))/LOG(2))))","v":0},null,{"$f":"N38","v":22222},{"$f":"COUNTIF(L122:L150,AN38)","v":0},{"$f":"AO38/(AQ4-AO25)","v":0},{"$f":"IF(AP38=0,0,(AP38*((LOG(AP38))/LOG(2))))","v":0},null,{"$f":"N38","v":22222},{"$f":"COUNTIF(L151:L179,AS38)","v":0},{"$f":"AT38/(AV4-AT25)","v":0},{"$f":"IF(AU38=0,0,(AU38*((LOG(AU38))/LOG(2))))","v":0}]
[21,4535,11,4545,22,4552,14,4562,13,4570,0,21211,null,null,null,{"$f":"SUM(P7:P38)","v":1},{"$f":"-SUM(Q7:Q38)","v":3.5570861656123069},null,null,null,null,{"$f":"SUM(V7:V38)","v":1},{"$f":"-SUM(W7:W38)","v":3.581444787932611},null,null,null,{"$f":"SUM(AA7:AA38)","v":1},{"$f":"-SUM(AB7:AB38)","v":2.9650760318621074},null,null,null,{"$f":"SUM(AF7:AF38)","v":0.99999999999999978},{"$f":"-SUM(AG7:AG38)","v":3.0670314951575839},null,null,null,{"$f":"SUM(AK7:AK38)","v":1},{"$f":"-SUM(AL7:AL38)","v":3.076895324286081},null,null,null,{"$f":"SUM(AP7:AP38)","v":1},{"$f":"-SUM(AQ7:AQ38)","v":2.589344790237198},null,null,null,{"$f":"SUM(AU7:AU38)","v":0.99999999999999989},{"$f":"-SUM(AV7:AV38)","v":2.9532068163114022}]
[12,4690,24,4697,24,4701,14,4709,13,4715,0,12211,null,null,null,"U=",{"$f":"Q39/(LOG(Q4)/LOG(2))","v":0.47898725444175183},null,null,null,null,"U1=",{"$f":"W39/(LOG(W4)/LOG(2))","v":0.73722906522786047},null,null,null,"U2=",{"$f":"AB39/(LOG(AB4)/LOG(2))","v":0.61035150916316905},null,null,null,"U3=",{"$f":"AG39/(LOG(AG4)/LOG(2))","v":0.63798732252638812},null,null,null,"U4=",{"$f":"AL39/(LOG(AL4)/LOG(2))","v":0.63336915631661106},null,null,null,"U5=",{"$f":"AQ39/(LOG(AQ4)/LOG(2))","v":0.53300842321825537},null,null,null,"U6=",{"$f":"AV39/(LOG(AV4)/LOG(2))","v":0.61431012775054172}]
[21,4813,11,4823,11,4832,12,4838,13,4853,0,21111]
[21,4951,22,4959,24,4963,14,4972,13,4979,1,22211]
[21,5078,22,5087,13,5100,14,5106,13,5114,1,22111,null,"Total Target Seq"]
[21,5218,11,5228,22,5236,14,5243,13,5250,0,21211,null,{"$f":"COUNTIF(L7:L179,G3)","v":1},null,29,29,28,29,29,29]
[12,5360,24,5367,13,5374,14,5380,13,5387,0,12111,null,null,null,"% of reinforcement given in 6 equal intervals based on number of trials "]
[12,5489,24,5497,13,5505,14,5509,13,5518,0,12111,null,null,null,"%_1","%_2","%_3","%_4","%_5","%_6"]
[21,5617,11,5627,22,5635,14,5642,13,5649,1,21211,null,null,"target sequence",{"$f":"$G$3","v":21121},{"$f":"$G$3","v":21121},{"$f":"$G$3","v":21121},{"$f":"$G$3","v":21121},{"$f":"$G$3","v":21121},{"$f":"$G$3","v":21121}]
[21,5753,22,5761,13,5768,14,5772,13,5779,0,22111,null,null,"total reinforcement",{"$f":"U25","v":0},{"$f":"Z25","v":1},{"$f":"AE25","v":0},{"$f":"AJ25","v":0},{"$f":"AO25","v":0},{"$f":"AT25","v":0}]
[12,5882,24,5889,24,5893,14,5904,13,5909,0,12211,null,null,"% target"]
[12,6010,24,6017,24,6027,14,6037,13,6040,0,12211,null,null,"CCRF"]
[21,6141,11,6149,11,6157,21,6164,11,6174,1,21121,null,null,"% CCRf"]
[21,6274,11,6287,11,6292,12,6296,13,6307,0,21111,null,null,"average response rate",{"$f":"J35/P44","v":138.20689655172413},{"$f":"(J64-J35)/Q44","v":135.79310344827587},{"$f":"(J92-J64)/R44","v":132.89285714285714},{"$f":"(J121-J92)/S44","v":142.20689655172413},{"$f":"(J150-J121)/T44","v":139.68965517241378},{"$f":"(J179-J150)/U44","v":-684.20689655172418}]
[21,6403,22,6411,13,6425,14,6429,13,6434,0,22111]
[12,6534,13,6545,13,6549,14,6557,13,6567,0,11111]
[12,6680,13,6684,13,6689,14,6700,13,6708,1,11111]
[21,6820,11,6833,11,6837,12,6841,13,6860,0,21111]
[21,6959,22,6971,13,6997,14,7002,13,7013,0,22111]
[21,7113,11,7130,11,7135,12,7153,13,7162,0,21111]
[12,7271,24,7279,13,7286,14,7290,13,7301,0,12111]
[12,7402,24,7410,13,7418,14,7422,13,7431,1,12111]
[21,7532,22,7539,24,7546,14,7554,13,7559,0,22211]
[21,7656,11,7665,22,7672,23,7677,13,7685,0,21221]
[12,7785,24,7792,13,7800,14,7805,13,7810,0,12111]
[21,7914,11,7922,22,7927,14,7936,13,7946,0,21211]
[12,8046,24,8054,13,8065,14,8070,13,8077,0,12111]
[12,8178,13,8183,13,8199,14,8206,13,8217,0,11111]
[12,8317,13,8321,13,8325,14,8329,13,8334,0,11111]
[12,8434,13,8439,24,8447,14,8455,13,8459,0,11211]
[12,8582,13,8586,13,8594,14,8602,13,8618,0,11111]
[12,8720,24,8728,13,8736,14,8740,13,8751,0,12111]
[12,8854,13,8870,13,8874,14,8885,13,8892,1,11111]
[21,8988,22,8992,24,9009,14,9017,13,9022,1,22211]
[21,9126,22,9133,13,9152,14,9163,13,9174,0,22111]
[21,9272,22,9279,24,9287,14,9294,13,9298,0,22211]
[12,9401,24,9406,13,9415,14,9420,24,9428,0,12112]
[21,9526,22,9534,13,9541,23,9549,13,9559,0,22121]
[21,9674,11,9681,11,9686,12,9713,13,9724,1,21111]
[21,9817,22,9821,24,9828,14,9836,13,9840,0,22211]
[12,9942,24,9950,13,9959,14,9965,13,9971,0,12111]
[21,10069,11,10078,22,10086,14,10093,13,10100,0,21211]
[21,10198,11,10206,22,10213,14,10222,13,10226,0,21211]
[21,10328,11,10335,22,10343,14,10350,13,10357,0,21211]
[21,10457,22,10464,13,10471,14,10476,13,10480,0,22111]
[21,10580,11,10590,22,10598,14,10605,13,10610,0,21211]
[12,10710,24,10718,13,10725,14,10729,13,10737,0,12111]
[21,10839,11,10852,22,10859,14,10868,13,10874,0,21211]
[21,10974,11,10984,11,10993,12,11000,13,11009,0,21111]
[21,11109,11,11117,11,11125,12,11129,13,11136,0,21111]
[21,11236,22,11253,13,11262,14,11268,24,11275,1,22112]
[21,11369,22,11375,24,11380,14,11390,13,11394,0,22211]
[12,11496,24,11503,13,11511,14,11515,13,11527,0,12111]
[21,11627,22,11635,13,11651,14,11656,13,11667,0,22111]
[21,11772,11,11780,11,11784,12,11789,13,11804,0,21111]
[12,11908,24,11916,13,11930,14,11936,13,11947,0,12111]
[12,12050,24,12058,13,12066,14,12071,13,12077,0,12111]
[12,12182,24,12189,13,12197,14,12202,24,12209,0,12112]
[12,12311,24,12318,13,12326,14,12331,13,12347,1,12111]
[21,12449,22,12474,13,12482,14,12487,13,12497,0,22111]
[21,12600,11,12618,11,12630,12,12637,13,12647,0,21111]
[21,12746,22,12763,24,12769,14,12777,13,12783,1,22211]
[21,12908,11,12930,11,12943,12,12949,13,12956,0,21111]
[12,13065,24,13073,13,13082,14,13086,13,13095,1,12111]
[21,13188,11,13199,22,13207,14,13217,13,13221,0,21211]
[21,13318,11,13329,22,13336,14,13344,13,13348,0,21211]
[12,13450,13,13459,13,13463,14,13472,13,13478,0,11111]
[12,13584,13,13589,24,13600,14,13608,13,13613,0,11211]
[12,13716,13,13729,13,13737,14,13745,13,13756,0,11111]
[21,13859,11,13867,22,13874,14,13890,13,13898,0,21211]
[12,13998,24,14008,13,14022,14,14028,13,14039,0,12111]
[21,14140,22,14148,13,14155,14,14169,13,14173,0,22111]
[12,14286,24,14293,13,14307,14,14312,24,14322,0,12112]
[12,14427,24,14435,13,14449,14,14454,13,14461,0,12111]
[21,14572,11,14580,22,14588,23,14596,13,14606,1,21221]
[21,14702,22,14715,24,14723,14,14731,13,14735,1,22211]
[21,14828,11,14840,22,14847,23,14852,13,14863,0,21221]
[12,14973,24,14985,13,14992,14,15004,13,15014,0,12111]
[21,15122,11,15131,22,15138,14,15153,13,15166,0,21211]
[21,15277,22,15288,13,15306,14,15316,13,15326,1,22111]
[21,15456,11,15476,11,15484,12,15494,13,15513,1,21111]
[21,15609,22,15614,13,15647,14,15662,13,15669,1,22111]
[21,15762,22,15766,13,15776,23,15784,13,15791,0,22121]
[12,15890,24,15898,13,15906,14,15919,13,15922,1,12111]
[21,16027,22,16042,13,16050,14,16062,13,16073,0,22111]
[21,16178,11,16200,11,16204,12,16224,13,16230,0,21111]
[12,16331,13,16335,24,16343,14,16350,13,16354,1,11211]
[12,16449,13,16453,13,16463,14,16467,13,16478,0,11111]
[12,16585,13,16589,24,16597,14,16612,13,16616,0,11211]
[12,16730,13,16734,13,16738,23,16765,13,16777,0,11121]
[21,16873,22,16881,13,16893,14,16897,13,16915,1,22111]
[21,17014,11,17035,22,17042,23,17049,13,17060,0,21221]
[12,17159,13,17171,13,17175,14,17178,13,17182,0,11111]
[12,17288,24,17295,13,17306,14,17310,13,17320,0,12111]
[12,17421,13,17429,13,17433,14,17438,13,17450,1,11111]
[12,17545,13,17549,13,17556,14,17560,13,17566,0,11111]
[12,17683,24,17691,13,17699,14,17707,13,17726,0,12111]
[12,17826,13,17837,13,17841,14,17847,13,17858,1,11111]
[21,17956,11,17976,11,17981,12,17993,13,18007,0,21111]
[21,18110,11,18128,11,18132,12,18138,13,18144,0,21111]
[12,18256,13,18260,13,18264,14,18279,13,18289,0,11111]
[21,18391,11,18399,11,18407,12,18411,13,18418,0,21111]
[12,18524,13,18532,13,18537,14,18544,13,18555,1,11111]
[21,18657,11,18666,22,18673,23,18678,13,18686,0,21221]
[21,18786,11,18794,11,18807,12,18811,13,18822,0,21111]
[12,18926,24,18934,13,18942,14,18947,13,18959,0,12111]
[21,19076,11,19096,11,19100,12,19105,13,19120,0,21111]
[12,19223,24,19231,13,19242,14,19249,13,19264,0,12111]
[12,19381,13,19389,13,19399,14,19406,13,19412,0,11111]
[21,19510,11,19520,22,19528,14,19542,13,19548,1,21211]
[21,19641,11,19676,11,19681,12,19692,13,19699,0,21111]
[12,19808,13,19816,13,19820,14,19832,13,19842,0,11111]
[12,19947,13,19955,13,19960,14,19964,13,19972,0,11111]
[12,20074,24,20082,13,20090,14,20095,13,20101,0,12111]
[12,20209,13,20224,13,20231,14,20240,13,20251,1,11111]
[21,20345,22,20351,13,20361,14,20373,13,20379,0,22111]
[12,20477,13,20481,13,20496,14,20500,13,20512,0,11111]
[12,20628,13,20632,13,20649,14,20662,13,20671,0,11111]
[12,20777,13,20799,13,20806,14,20815,13,20831,0,11111]
[12,20931,13,20944,13,20960,14,20967,13,20978,1,11111]
[21,21076,11,21092,11,21100,12,21107,13,21118,0,21111]
[12,21217,13,21232,13,21246,14,21250,13,21256,0,11111]
[12,21364,24,21378,13,21391,14,21396,13,21415,0,12111]
[12,21520,24,21531,13,21538,14,21546,13,21553,0,12111]
[21,21653,22,21666,13,21675,23,21683,24,21688,1,22122]
[21,21877,11,21885,22,21892,14,21901,13,21906,0,21211]
[21,22013,22,22020,24,22037,14,22047,13,22054,0,22211]
[12,22159,24,22166,13,22175,14,22184,13,22190,0,12111]
[21,22289,11,22300,22,22309,14,22318,13,22324,0,21211]
[21,22426,22,22433,13,22451,23,22459,24,22464,0,22122]
[21,22565,11,22574,22,22581,23,22586,13,22596,0,21221]
[12,22703,24,22714,24,22720,14,22728,13,22732,1,12211]
[21,22829,22,22844,13,22851,23,22859,24,22863,0,22122]
[12,22968,24,22977,13,22985,14,22991,13,23002,0,12111]
[21,23110,11,23119,11,23133,12,23142,13,23162,0,21111]
[12,23266,24,23274,13,23283,14,23290,13,23305,0,12111]
[21,23409,11,23419,22,23426,23,23433,13,23440,0,21221]
[12,23552,24,23559,13,23573,23,23580,13,23590,0,12121]
[21,23695,11,23703,22,23710,14,23722,13,23729,0,21211]
[21,23831,11,23838,22,23846,14,23856,13,23872,0,21211]
[21,23986,11,23995,null,null,null,null,null,null,null,21]

{"sheet":"!N406A00.096","index":12,"n_rows":180,"n_cols":48,"rows_kept":180,"cut":false,"hidden":false,"merged":[[4,39,4,42],[5,39,5,40],[4,44,4,47],[5,44,5,45],[4,24,4,27],[5,24,5,25],[4,29,4,32],[5,29,5,30],[4,34,4,37],[5,34,5,35],[1,1,1,2],[5,13,5,14],[42,13,42,14],[43,13,43,14],[4,19,4,22],[5,19,5,20]]}
["Report for:!N406A00.096"]
["Date:","<date>"]
["Hen:","<hen>",null,null,null,"Correct Sequence",{"$f":"Start!J2","v":21121},null,null,null,null,null,null,null,null,"Total Sequences in Data",{"$f":"4994-COUNTBLANK(L7:L5000)","v":174},null,null,null,null,"Total Sequences in Block Data",{"$f":"COUNTA(L7:L35)","v":29},null,null,null,"Total Sequences in Block Data",{"$f":"COUNTA(L36:L64)","v":29},null,null,null,"Total Sequences in Block Data",{"$f":"COUNTA(L65:L93)","v":29},null,null,null,"Total Sequences in Block Data",{"$f":"COUNTA(L94:L122)","v":29},null,null,null,"Total Sequences in Block Data",{"$f":"COUNTA(L123:L151)","v":29},null,null,null,"Total Sequences in Block Data",{"$f":"COUNTA(L152:L180)","v":29}]
[null,null,null,null,null,null,null,null,null,null,null,null,null,null,null,"Total Sequences in Summary",{"$f":"SUM(O7:O38)","v":174},null,null,null,null,"Total Sequences in Block Summary",{"$f":"SUM(U7:U38)","v":29},null,null,null,"Total Sequences in Block Summary",{"$f":"SUM(Z7:Z38)","v":29},null,null,null,"Total Sequences in Block Summary",{"$f":"SUM(AE7:AE38)","v":29},null,null,null,"Total Sequences in Block Summary",{"$f":"SUM(AJ7:AJ38)","v":29},null,null,null,"Total Sequences in Block Summary",{"$f":"SUM(AO7:AO38)","v":29},null,null,null,"Total Sequences in Block Summary",{"$f":"SUM(AT7:AT38)","v":29}]
[null,null,null,null,null,null,null,null,null,null,null,null,null,null,null,null,null,null,null,"Block 1",null,null,null,null,"Block 2",null,null,null,null,"Block 3",null,null,null,null,"Block 4",null,null,null,null,"Block 5",null,null,null,null,"Block 6"]
["Sequence\nComponent\n1","Time\n1","Sequence\nComponent\n2","Time\n2","Sequence\nComponent\n3","Time\n3","Sequence\nComponent\n4","Time\n4","Sequence\nComponent\n5","Time\n5","Correct?\n0=No 1=Yes","Sequence",null,"Frequency",null,"Relative Frequency","Variability",null,null,"Frequency",null,"Relative Frequency","Variability",null,"Frequency",null,"Relative Frequency","Variability",null,"Frequency",null,"Relative Frequency","Variability",null,"Frequency",null,"Relative Frequency","Variability",null,"Frequency",null,"Relative Frequency","Variability",null,"Frequency",null,"Relative Frequency","Variability"]
[12,8,13,13,13,21,23,30,24,42,0,11122,null,11111,{"$f":"COUNTIF($L$7:$L$500,N7)","v":14},{"$f":"O7/$Q$4","v":8.0459770114942528E-2},{"$f":"IF(P7=0,0,(P7*((LOG(P7))/LOG(2))))","v":-0.29251862087974562},null,null,{"$f":"N7","v":11111},{"$f":"COUNTIF(L7:L35,T7)","v":0},{"$f":"U7/(W4-U25)","v":0},{"$f":"IF(V7=0,0,(V7*((LOG(V7))/LOG(2))))","v":0},null,{"$f":"N7","v":11111},{"$f":"COUNTIF(L36:L64,Y7)","v":1},{"$f":"Z7/(AB4-Z25)","v":3.4482758620689655E-2},{"$f":"IF(AA7=0,0,(AA7*((LOG(AA7))/LOG(2))))","v":-0.16751658603888178},null,{"$f":"N7","v":11111},{"$f":"COUNTIF(L65:L93,AD7)","v":1},{"$f":"AE7/(AG4-AE25)","v":3.4482758620689655E-2},{"$f":"IF(AF7=0,0,(AF7*((LOG(AF7))/LOG(2))))","v":-0.16751658603888178},null,{"$f":"N7","v":11111},{"$f":"COUNTIF(L94:L122,AI7)","v":2},{"$f":"AJ7/(AL4-AJ25)","v":6.8965517241379309E-2},{"$f":"IF(AK7=0,0,(AK7*((LOG(AK7))/LOG(2))))","v":-0.26606765483638428},null,{"$f":"N7","v":11111},{"$f":"COUNTIF(L123:L151,AN7)","v":4},{"$f":"AO7/(AQ4-AO25)","v":0.13793103448275862},{"$f":"IF(AP7=0,0,(AP7*((LOG(AP7))/LOG(2))))","v":-0.39420427519000989},null,{"$f":"N7","v":11111},{"$f":"COUNTIF(L152:L180,AS7)","v":6},{"$f":"AT7/(AV4-AT25)","v":0.20689655172413793},{"$f":"IF(AU7=0,0,(AU7*((LOG(AU7))/LOG(2))))","v":-0.4702796884978791}]
[21,141,22,149,13,158,14,171,13,182,0,22111,null,11112,{"$f":"COUNTIF($L$7:$L$500,N8)","v":1},{"$f":"O8/$Q$4","v":5.7471264367816091E-3},{"$f":"IF(P8=0,0,(P8*((LOG(P8))/LOG(2))))","v":-4.2775537332463962E-2},null,null,{"$f":"N8","v":11112},{"$f":"COUNTIF(L7:L35,T8)","v":0},{"$f":"U8/(W4-U25)","v":0},{"$f":"IF(V8=0,0,(V8*((LOG(V8))/LOG(2))))","v":0},null,{"$f":"N8","v":11112},{"$f":"COUNTIF(L36:L64,Y8)","v":0},{"$f":"Z8/(AB4-Z25)","v":0},{"$f":"IF(AA8=0,0,(AA8*((LOG(AA8))/LOG(2))))","v":0},null,{"$f":"N8","v":11112},{"$f":"COUNTIF(L65:L93,AD8)","v":0},{"$f":"AE8/(AG4-AE25)","v":0},{"$f":"IF(AF8=0,0,(AF8*((LOG(AF8))/LOG(2))))","v":0},null,{"$f":"N8","v":11112},{"$f":"COUNTIF(L94:L122,AI8)","v":0},{"$f":"AJ8/(AL4-AJ25)","v":0},{"$f":"IF(AK8=0,0,(AK8*((LOG(AK8))/LOG(2))))","v":0},null,{"$f":"N8","v":11112},{"$f":"COUNTIF(L123:L151,AN8)","v":1},{"$f":"AO8/(AQ4-AO25)","v":3.4482758620689655E-2},{"$f":"IF(AP8=0,0,(AP8*((LOG(AP8))/LOG(2))))","v":-0.16751658603888178},null,{"$f":"N8","v":11112},{"$f":"COUNTIF(L152:L180,AS8)","v":0},{"$f":"AT8/(AV4-AT25)","v":0},{"$f":"IF(AU8=0,0,(AU8*((LOG(AU8))/LOG(2))))","v":0}]
[21,281,11,294,22,303,14,321,13,329,1,21211,null,11121,{"$f":"COUNTIF($L$7:$L$500,N9)","v":1},{"$f":"O9/$Q$4","v":5.7471264367816091E-3},{"$f":"IF(P9=0,0,(P9*((LOG(P9))/LOG(2))))","v":-4.2775537332463962E-2},null,null,{"$f":"N9","v":11121},{"$f":"COUNTIF(L7:L35,T9)","v":0},{"$f":"U9/(W4-U25)","v":0},{"$f":"IF(V9=0,0,(V9*((LOG(V9))/LOG(2))))","v":0},null,{"$f":"N9","v":11121},{"$f":"COUNTIF(L36:L64,Y9)","v":0},{"$f":"Z9/(AB4-Z25)","v":0},{"$f":"IF(AA9=0,0,(AA9*((LOG(AA9))/LOG(2))))","v":0},null,{"$f":"N9","v":11121},{"$f":"COUNTIF(L65:L93,AD9)","v":0},{"$f":"AE9/(AG4-AE25)","v":0},{"$f":"IF(AF9=0,0,(AF9*((LOG(AF9))/LOG(2))))","v":0},null,{"$f":"N9","v":11121},{"$f":"COUNTIF(L94:L122,AI9)","v":0},{"$f":"AJ9/(AL4-AJ25)","v":0},{"$f":"IF(AK9=0,0,(AK9*((LOG(AK9))/LOG(2))))","v":0},null,{"$f":"N9","v":11121},{"$f":"COUNTIF(L123:L151,AN9)","v":0},{"$f":"AO9/(AQ4-AO25)","v":0},{"$f":"IF(AP9=0,0,(AP9*((LOG(AP9))/LOG(2))))","v":0},null,{"$f":"N9","v":11121},{"$f":"COUNTIF(L152:L180,AS9)","v":1},{"$f":"AT9/(AV4-AT25)","v":3.4482758620689655E-2},{"$f":"IF(AU9=0,0,(AU9*((LOG(AU9))/LOG(2))))","v":-0.16751658603888178}]
[21,427,22,435,13,445,14,449,13,462,0,22111,null,11122,{"$f":"COUNTIF($L$7:$L$500,N10)","v":1},{"$f":"O10/$Q$4","v":5.7471264367816091E-3},{"$f":"IF(P10=0,0,(P10*((LOG(P10))/LOG(2))))","v":-4.2775537332463962E-2},null,null,{"$f":"N10","v":11122},{"$f":"COUNTIF(L7:L35,T10)","v":1},{"$f":"U10/(W4-U25)","v":3.4482758620689655E-2},{"$f":"IF(V10=0,0,(V10*((LOG(V10))/LOG(2))))","v":-0.16751658603888178},null,{"$f":"N10","v":11122},{"$f":"COUNTIF(L36:L64,Y10)","v":0},{"$f":"Z10/(AB4-Z25)","v":0},{"$f":"IF(AA10=0,0,(AA10*((LOG(AA10))/LOG(2))))","v":0},null,{"$f":"N10","v":11122},{"$f":"COUNTIF(L65:L93,AD10)","v":0},{"$f":"AE10/(AG4-AE25)","v":0},{"$f":"IF(AF10=0,0,(AF10*((LOG(AF10))/LOG(2))))","v":0},null,{"$f":"N10","v":11122},{"$f":"COUNTIF(L94:L122,AI10)","v":0},{"$f":"AJ10/(AL4-AJ25)","v":0},{"$f":"IF(AK10=0,0,(AK10*((LOG(AK10))/LOG(2))))","v":0},null,{"$f":"N10","v":11122},{"$f":"COUNTIF(L123:L151,AN10)","v":0},{"$f":"AO10/(AQ4-AO25)","v":0},{"$f":"IF(AP10=0,0,(AP10*((LOG(AP10))/LOG(2))))","v":0},null,{"$f":"N10","v":11122},{"$f":"COUNTIF(L152:L180,AS10)","v":0},{"$f":"AT10/(AV4-AT25)","v":0},{"$f":"IF(AU10=0,0,(AU10*((LOG(AU10))/LOG(2))))","v":0}]
[21,562,22,576,13,584,14,590,13,600,0,22111,null,11211,{"$f":"COUNTIF($L$7:$L$500,N11)","v":2},{"$f":"O11/$Q$4","v":1.1494252873563218E-2},{"$f":"IF(P11=0,0,(P11*((LOG(P11))/LOG(2))))","v":-7.4056821791364691E-2},null,null,{"$f":"N11","v":11211},{"$f":"COUNTIF(L7:L35,T11)","v":0},{"$f":"U11/(W4-U25)","v":0},{"$f":"IF(V11=0,0,(V11*((LOG(V11))/LOG(2))))","v":0},null,{"$f":"N11","v":11211},{"$f":"COUNTIF(L36:L64,Y11)","v":0},{"$f":"Z11/(AB4-Z25)","v":0},{"$f":"IF(AA11=0,0,(AA11*((LOG(AA11))/LOG(2))))","v":0},null,{"$f":"N11","v":11211},{"$f":"COUNTIF(L65:L93,AD11)","v":1},{"$f":"AE11/(AG4-AE25)","v":3.4482758620689655E-2},{"$f":"IF(AF11=0,0,(AF11*((LOG(AF11))/LOG(2))))","v":-0.16751658603888178},null,{"$f":"N11","v":11211},{"$f":"COUNTIF(L94:L122,AI11)","v":0},{"$f":"AJ11/(AL4-AJ25)","v":0},{"$f":"IF(AK11=0,0,(AK11*((LOG(AK11))/LOG(2))))","v":0},null,{"$f":"N11","v":11211},{"$f":"COUNTIF(L123:L151,AN11)","v":0},{"$f":"AO11/(AQ4-AO25)","v":0},{"$f":"IF(AP11=0,0,(AP11*((LOG(AP11))/LOG(2))))","v":0},null,{"$f":"N11","v":11211},{"$f":"COUNTIF(L152:L180,AS11)","v":1},{"$f":"AT11/(AV4-AT25)","v":3.4482758620689655E-2},{"$f":"IF(AU11=0,0,(AU11*((LOG(AU11))/LOG(2))))","v":-0.16751658603888178}]
[21,702,22,715,13,722,14,727,13,749,0,22111,null,11212,{"$f":"COUNTIF($L$7:$L$500,N12)","v":1},{"$f":"O12/$Q$4","v":5.7471264367816091E-3},{"$f":"IF(P12=0,0,(P12*((LOG(P12))/LOG(2))))","v":-4.2775537332463962E-2},null,null,{"$f":"N12","v":11212},{"$f":"COUNTIF(L7:L35,T12)","v":0},{"$f":"U12/(W4-U25)","v":0},{"$f":"IF(V12=0,0,(V12*((LOG(V12))/LOG(2))))","v":0},null,{"$f":"N12","v":11212},{"$f":"COUNTIF(L36:L64,Y12)","v":0},{"$f":"Z12/(AB4-Z25)","v":0},{"$f":"IF(AA12=0,0,(AA12*((LOG(AA12))/LOG(2))))","v":0},null,{"$f":"N12","v":11212},{"$f":"COUNTIF(L65:L93,AD12)","v":0},{"$f":"AE12/(AG4-AE25)","v":0},{"$f":"IF(AF12=0,0,(AF12*((LOG(AF12))/LOG(2))))","v":0},null,{"$f":"N12","v":11212},{"$f":"COUNTIF(L94:L122,AI12)","v":0},{"$f":"AJ12/(AL4-AJ25)","v":0},{"$f":"IF(AK12=0,0,(AK12*((LOG(AK12))/LOG(2))))","v":0},null,{"$f":"N12","v":11212},{"$f":"COUNTIF(L123:L151,AN12)","v":0},{"$f":"AO12/(AQ4-AO25)","v":0},{"$f":"IF(AP12=0,0,(AP12*((LOG(AP12))/LOG(2))))","v":0},null,{"$f":"N12","v":11212},{"$f":"COUNTIF(L152:L180,AS12)","v":1},{"$f":"AT12/(AV4-AT25)","v":3.4482758620689655E-2},{"$f":"IF(AU12=0,0,(AU12*((LOG(AU12))/LOG(2))))","v":-0.16751658603888178}]
[21,863,22,877,13,886,14,897,13,913,0,22111,null,11221,{"$f":"COUNTIF($L$7:$L$500,N13)","v":1},{"$f":"O13/$Q$4","v":5.7471264367816091E-3},{"$f":"IF(P13=0,0,(P13*((LOG(P13))/LOG(2))))","v":-4.2775537332463962E-2},null,null,{"$f":"N13","v":11221},{"$f":"COUNTIF(L7:L35,T13)","v":0},{"$f":"U13/(W4-U25)","v":0},{"$f":"IF(V13=0,0,(V13*((LOG(V13))/LOG(2))))","v":0},null,{"$f":"N13","v":11221},{"$f":"COUNTIF(L36:L64,Y13)","v":0},{"$f":"Z13/(AB4-Z25)","v":0},{"$f":"IF(AA13=0,0,(AA13*((LOG(AA13))/LOG(2))))","v":0},null,{"$f":"N13","v":11221},{"$f":"COUNTIF(L65:L93,AD13)","v":0},{"$f":"AE13/(AG4-AE25)","v":0},{"$f":"IF(AF13=0,0,(AF13*((LOG(AF13))/LOG(2))))","v":0},null,{"$f":"N13","v":11221},{"$f":"COUNTIF(L94:L122,AI13)","v":1},{"$f":"AJ13/(AL4-AJ25)","v":3.4482758620689655E-2},{"$f":"IF(AK13=0,0,(AK13*((LOG(AK13))/LOG(2))))","v":-0.16751658603888178},null,{"$f":"N13","v":11221},{"$f":"COUNTIF(L123:L151,AN13)","v":0},{"$f":"AO13/(AQ4-AO25)","v":0},{"$f":"IF(AP13=0,0,(AP13*((LOG(AP13))/LOG(2))))","v":0},null,{"$f":"N13","v":11221},{"$f":"COUNTIF(L152:L180,AS13)","v":0},{"$f":"AT13/(AV4-AT25)","v":0},{"$f":"IF(AU13=0,0,(AU13*((LOG(AU13))/LOG(2))))","v":0}]
[21,1011,22,1016,24,1034,23,1050,13,1059,1,22221,null,11222,{"$f":"COUNTIF($L$7:$L$500,N14)","v":0},{"$f":"O14/$Q$4","v":0},{"$f":"IF(P14=0,0,(P14*((LOG(P14))/LOG(2))))","v":0},null,null,{"$f":"N14","v":11222},{"$f":"COUNTIF(L7:L35,T14)","v":0},{"$f":"U14/(W4-U25)","v":0},{"$f":"IF(V14=0,0,(V14*((LOG(V14))/LOG(2))))","v":0},null,{"$f":"N14","v":11222},{"$f":"COUNTIF(L36:L64,Y14)","v":0},{"$f":"Z14/(AB4-Z25)","v":0},{"$f":"IF(AA14=0,0,(AA14*((LOG(AA14))/LOG(2))))","v":0},null,{"$f":"N14","v":11222},{"$f":"COUNTIF(L65:L93,AD14)","v":0},{"$f":"AE14/(AG4-AE25)","v":0},{"$f":"IF(AF14=0,0,(AF14*((LOG(AF14))/LOG(2))))","v":0},null,{"$f":"N14","v":11222},{"$f":"COUNTIF(L94:L122,AI14)","v":0},{"$f":"AJ14/(AL4-AJ25)","v":0},{"$f":"IF(AK14=0,0,(AK14*((LOG(AK14))/LOG(2))))","v":0},null,{"$f":"N14","v":11222},{"$f":"COUNTIF(L123:L151,AN14)","v":0},{"$f":"AO14/(AQ4-AO25)","v":0},{"$f":"IF(AP14=0,0,(AP14*((LOG(AP14))/LOG(2))))","v":0},null,{"$f":"N14","v":11222},{"$f":"COUNTIF(L152:L180,AS14)","v":0},{"$f":"AT14/(AV4-AT25)","v":0},{"$f":"IF(AU14=0,0,(AU14*((LOG(AU14))/LOG(2))))","v":0}]
[21,1150,22,1154,24,1159,23,1167,24,1186,0,22222,null,12111,{"$f":"COUNTIF($L$7:$L$500,N15)","v":44},{"$f":"O15/$Q$4","v":0.25287356321839083},{"$f":"IF(P15=0,0,(P15*((LOG(P15))/LOG(2))))","v":-0.50157771607645385},null,null,{"$f":"N15","v":12111},{"$f":"COUNTIF(L7:L35,T15)","v":2},{"$f":"U15/(W4-U25)","v":6.8965517241379309E-2},{"$f":"IF(V15=0,0,(V15*((LOG(V15))/LOG(2))))","v":-0.26606765483638428},null,{"$f":"N15","v":12111},{"$f":"COUNTIF(L36:L64,Y15)","v":8},{"$f":"Z15/(AB4-Z25)","v":0.27586206896551724},{"$f":"IF(AA15=0,0,(AA15*((LOG(AA15))/LOG(2))))","v":-0.51254648141450265},null,{"$f":"N15","v":12111},{"$f":"COUNTIF(L65:L93,AD15)","v":10},{"$f":"AE15/(AG4-AE25)","v":0.34482758620689657},{"$f":"IF(AF15=0,0,(AF15*((LOG(AF15))/LOG(2))))","v":-0.52967341387593436},null,{"$f":"N15","v":12111},{"$f":"COUNTIF(L94:L122,AI15)","v":8},{"$f":"AJ15/(AL4-AJ25)","v":0.27586206896551724},{"$f":"IF(AK15=0,0,(AK15*((LOG(AK15))/LOG(2))))","v":-0.51254648141450265},null,{"$f":"N15","v":12111},{"$f":"COUNTIF(L123:L151,AN15)","v":9},{"$f":"AO15/(AQ4-AO25)","v":0.31034482758620691},{"$f":"IF(AP15=0,0,(AP15*((LOG(AP15))/LOG(2))))","v":-0.52387944631611505},null,{"$f":"N15","v":12111},{"$f":"COUNTIF(L152:L180,AS15)","v":7},{"$f":"AT15/(AV4-AT25)","v":0.2413793103448276},{"$f":"IF(AU15=0,0,(AU15*((LOG(AU15))/LOG(2))))","v":-0.49497870729275095}]
[21,1286,22,1291,24,1296,14,1312,13,1316,0,22211,null,12112,{"$f":"COUNTIF($L$7:$L$500,N16)","v":1},{"$f":"O16/$Q$4","v":5.7471264367816091E-3},{"$f":"IF(P16=0,0,(P16*((LOG(P16))/LOG(2))))","v":-4.2775537332463962E-2},null,null,{"$f":"N16","v":12112},{"$f":"COUNTIF(L7:L35,T16)","v":0},{"$f":"U16/(W4-U25)","v":0},{"$f":"IF(V16=0,0,(V16*((LOG(V16))/LOG(2))))","v":0},null,{"$f":"N16","v":12112},{"$f":"COUNTIF(L36:L64,Y16)","v":0},{"$f":"Z16/(AB4-Z25)","v":0},{"$f":"IF(AA16=0,0,(AA16*((LOG(AA16))/LOG(2))))","v":0},null,{"$f":"N16","v":12112},{"$f":"COUNTIF(L65:L93,AD16)","v":0},{"$f":"AE16/(AG4-AE25)","v":0},{"$f":"IF(AF16=0,0,(AF16*((LOG(AF16))/LOG(2))))","v":0},null,{"$f":"N16","v":12112},{"$f":"COUNTIF(L94:L122,AI16)","v":0},{"$f":"AJ16/(AL4-AJ25)","v":0},{"$f":"IF(AK16=0,0,(AK16*((LOG(AK16))/LOG(2))))","v":0},null,{"$f":"N16","v":12112},{"$f":"COUNTIF(L123:L151,AN16)","v":1},{"$f":"AO16/(AQ4-AO25)","v":3.4482758620689655E-2},{"$f":"IF(AP16=0,0,(AP16*((LOG(AP16))/LOG(2))))","v":-0.16751658603888178},null,{"$f":"N16","v":12112},{"$f":"COUNTIF(L152:L180,AS16)","v":0},{"$f":"AT16/(AV4-AT25)","v":0},{"$f":"IF(AU16=0,0,(AU16*((LOG(AU16))/LOG(2))))","v":0}]
[21,1419,22,1428,24,1435,14,1443,13,1451,0,22211,null,12121,{"$f":"COUNTIF($L$7:$L$500,N17)","v":2},{"$f":"O17/$Q$4","v":1.1494252873563218E-2},{"$f":"IF(P17=0,0,(P17*((LOG(P17))/LOG(2))))","v":-7.4056821791364691E-2},null,null,{"$f":"N17","v":12121},{"$f":"COUNTIF(L7:L35,T17)","v":0},{"$f":"U17/(W4-U25)","v":0},{"$f":"IF(V17=0,0,(V17*((LOG(V17))/LOG(2))))","v":0},null,{"$f":"N17","v":12121},{"$f":"COUNTIF(L36:L64,Y17)","v":0},{"$f":"Z17/(AB4-Z25)","v":0},{"$f":"IF(AA17=0,0,(AA17*((LOG(AA17))/LOG(2))))","v":0},null,{"$f":"N17","v":12121},{"$f":"COUNTIF(L65:L93,AD17)","v":2},{"$f":"AE17/(AG4-AE25)","v":6.8965517241379309E-2},{"$f":"IF(AF17=0,0,(AF17*((LOG(AF17))/LOG(2))))","v":-0.26606765483638428},null,{"$f":"N17","v":12121},{"$f":"COUNTIF(L94:L122,AI17)","v":0},{"$f":"AJ17/(AL4-AJ25)","v":0},{"$f":"IF(AK17=0,0,(AK17*((LOG(AK17))/LOG(2))))","v":0},null,{"$f":"N17","v":12121},{"$f":"COUNTIF(L123:L151,AN17)","v":0},{"$f":"AO17/(AQ4-AO25)","v":0},{"$f":"IF(AP17=0,0,(AP17*((LOG(AP17))/LOG(2))))","v":0},null,{"$f":"N17","v":12121},{"$f":"COUNTIF(L152:L180,AS17)","v":0},{"$f":"AT17/(AV4-AT25)","v":0},{"$f":"IF(AU17=0,0,(AU17*((LOG(AU17))/LOG(2))))","v":0}]
[21,1547,22,1565,13,1580,14,1587,24,1605,0,22112,null,12122,{"$f":"COUNTIF($L$7:$L$500,N18)","v":0},{"$f":"O18/$Q$4","v":0},{"$f":"IF(P18=0,0,(P18*((LOG(P18))/LOG(2))))","v":0},null,null,{"$f":"N18","v":12122},{"$f":"COUNTIF(L7:L35,T18)","v":0},{"$f":"U18/(W4-U25)","v":0},{"$f":"IF(V18=0,0,(V18*((LOG(V18))/LOG(2))))","v":0},null,{"$f":"N18","v":12122},{"$f":"COUNTIF(L36:L64,Y18)","v":0},{"$f":"Z18/(AB4-Z25)","v":0},{"$f":"IF(AA18=0,0,(AA18*((LOG(AA18))/LOG(2))))","v":0},null,{"$f":"N18","v":12122},{"$f":"COUNTIF(L65:L93,AD18)","v":0},{"$f":"AE18/(AG4-AE25)","v":0},{"$f":"IF(AF18=0,0,(AF18*((LOG(AF18))/LOG(2))))","v":0},null,{"$f":"N18","v":12122},{"$f":"COUNTIF(L94:L122,AI18)","v":0},{"$f":"AJ18/(AL4-AJ25)","v":0},{"$f":"IF(AK18=0,0,(AK18*((LOG(AK18))/LOG(2))))","v":0},null,{"$f":"N18","v":12122},{"$f":"COUNTIF(L123:L151,AN18)","v":0},{"$f":"AO18/(AQ4-AO25)","v":0},{"$f":"IF(AP18=0,0,(AP18*((LOG(AP18))/LOG(2))))","v":0},null,{"$f":"N18","v":12122},{"$f":"COUNTIF(L152:L180,AS18)","v":0},{"$f":"AT18/(AV4-AT25)","v":0},{"$f":"IF(AU18=0,0,(AU18*((LOG(AU18))/LOG(2))))","v":0}]
[21,1703,11,1713,22,1721,23,1731,24,1738,0,21222,null,12211,{"$f":"COUNTIF($L$7:$L$500,N19)","v":17},{"$f":"O19/$Q$4","v":9.7701149425287362E-2},{"$f":"IF(P19=0,0,(P19*((LOG(P19))/LOG(2))))","v":-0.32783431682857822},null,null,{"$f":"N19","v":12211},{"$f":"COUNTIF(L7:L35,T19)","v":2},{"$f":"U19/(W4-U25)","v":6.8965517241379309E-2},{"$f":"IF(V19=0,0,(V19*((LOG(V19))/LOG(2))))","v":-0.26606765483638428},null,{"$f":"N19","v":12211},{"$f":"COUNTIF(L36:L64,Y19)","v":1},{"$f":"Z19/(AB4-Z25)","v":3.4482758620689655E-2},{"$f":"IF(AA19=0,0,(AA19*((LOG(AA19))/LOG(2))))","v":-0.16751658603888178},null,{"$f":"N19","v":12211},{"$f":"COUNTIF(L65:L93,AD19)","v":3},{"$f":"AE19/(AG4-AE25)","v":0.10344827586206896},{"$f":"IF(AF19=0,0,(AF19*((LOG(AF19))/LOG(2))))","v":-0.33858812011100858},null,{"$f":"N19","v":12211},{"$f":"COUNTIF(L94:L122,AI19)","v":7},{"$f":"AJ19/(AL4-AJ25)","v":0.2413793103448276},{"$f":"IF(AK19=0,0,(AK19*((LOG(AK19))/LOG(2))))","v":-0.49497870729275095},null,{"$f":"N19","v":12211},{"$f":"COUNTIF(L123:L151,AN19)","v":2},{"$f":"AO19/(AQ4-AO25)","v":6.8965517241379309E-2},{"$f":"IF(AP19=0,0,(AP19*((LOG(AP19))/LOG(2))))","v":-0.26606765483638428},null,{"$f":"N19","v":12211},{"$f":"COUNTIF(L152:L180,AS19)","v":2},{"$f":"AT19/(AV4-AT25)","v":6.8965517241379309E-2},{"$f":"IF(AU19=0,0,(AU19*((LOG(AU19))/LOG(2))))","v":-0.26606765483638428}]
[21,1836,22,1840,24,1851,14,1862,13,1874,0,22211,null,12212,{"$f":"COUNTIF($L$7:$L$500,N20)","v":0},{"$f":"O20/$Q$4","v":0},{"$f":"IF(P20=0,0,(P20*((LOG(P20))/LOG(2))))","v":0},null,null,{"$f":"N20","v":12212},{"$f":"COUNTIF(L7:L35,T20)","v":0},{"$f":"U20/(W4-U25)","v":0},{"$f":"IF(V20=0,0,(V20*((LOG(V20))/LOG(2))))","v":0},null,{"$f":"N20","v":12212},{"$f":"COUNTIF(L36:L64,Y20)","v":0},{"$f":"Z20/(AB4-Z25)","v":0},{"$f":"IF(AA20=0,0,(AA20*((LOG(AA20))/LOG(2))))","v":0},null,{"$f":"N20","v":12212},{"$f":"COUNTIF(L65:L93,AD20)","v":0},{"$f":"AE20/(AG4-AE25)","v":0},{"$f":"IF(AF20=0,0,(AF20*((LOG(AF20))/LOG(2))))","v":0},null,{"$f":"N20","v":12212},{"$f":"COUNTIF(L94:L122,AI20)","v":0},{"$f":"AJ20/(AL4-AJ25)","v":0},{"$f":"IF(AK20=0,0,(AK20*((LOG(AK20))/LOG(2))))","v":0},null,{"$f":"N20","v":12212},{"$f":"COUNTIF(L123:L151,AN20)","v":0},{"$f":"AO20/(AQ4-AO25)","v":0},{"$f":"IF(AP20=0,0,(AP20*((LOG(AP20))/LOG(2))))","v":0},null,{"$f":"N20","v":12212},{"$f":"COUNTIF(L152:L180,AS20)","v":0},{"$f":"AT20/(AV4-AT25)","v":0},{"$f":"IF(AU20=0,0,(AU20*((LOG(AU20))/LOG(2))))","v":0}]
[12,1980,24,1988,24,2005,14,2014,13,2025,0,12211,null,12221,{"$f":"COUNTIF($L$7:$L$500,N21)","v":3},{"$f":"O21/$Q$4","v":1.7241379310344827E-2},{"$f":"IF(P21=0,0,(P21*((LOG(P21))/LOG(2))))","v":-0.10099967232978573},null,null,{"$f":"N21","v":12221},{"$f":"COUNTIF(L7:L35,T21)","v":0},{"$f":"U21/(W4-U25)","v":0},{"$f":"IF(V21=0,0,(V21*((LOG(V21))/LOG(2))))","v":0},null,{"$f":"N21","v":12221},{"$f":"COUNTIF(L36:L64,Y21)","v":0},{"$f":"Z21/(AB4-Z25)","v":0},{"$f":"IF(AA21=0,0,(AA21*((LOG(AA21))/LOG(2))))","v":0},null,{"$f":"N21","v":12221},{"$f":"COUNTIF(L65:L93,AD21)","v":1},{"$f":"AE21/(AG4-AE25)","v":3.4482758620689655E-2},{"$f":"IF(AF21=0,0,(AF21*((LOG(AF21))/LOG(2))))","v":-0.16751658603888178},null,{"$f":"N21","v":12221},{"$f":"COUNTIF(L94:L122,AI21)","v":0},{"$f":"AJ21/(AL4-AJ25)","v":0},{"$f":"IF(AK21=0,0,(AK21*((LOG(AK21))/LOG(2))))","v":0},null,{"$f":"N21","v":12221},{"$f":"COUNTIF(L123:L151,AN21)","v":2},{"$f":"AO21/(AQ4-AO25)","v":6.8965517241379309E-2},{"$f":"IF(AP21=0,0,(AP21*((LOG(AP21))/LOG(2))))","v":-0.26606765483638428},null,{"$f":"N21","v":12221},{"$f":"COUNTIF(L152:L180,AS21)","v":0},{"$f":"AT21/(AV4-AT25)","v":0},{"$f":"IF(AU21=0,0,(AU21*((LOG(AU21))/LOG(2))))","v":0}]
[21,2126,22,2133,13,2141,14,2163,24,2186,1,22112,null,12222,{"$f":"COUNTIF($L$7:$L$500,N22)","v":1},{"$f":"O22/$Q$4","v":5.7471264367816091E-3},{"$f":"IF(P22=0,0,(P22*((LOG(P22))/LOG(2))))","v":-4.2775537332463962E-2},null,null,{"$f":"N22","v":12222},{"$f":"COUNTIF(L7:L35,T22)","v":0},{"$f":"U22/(W4-U25)","v":0},{"$f":"IF(V22=0,0,(V22*((LOG(V22))/LOG(2))))","v":0},null,{"$f":"N22","v":12222},{"$f":"COUNTIF(L36:L64,Y22)","v":0},{"$f":"Z22/(AB4-Z25)","v":0},{"$f":"IF(AA22=0,0,(AA22*((LOG(AA22))/LOG(2))))","v":0},null,{"$f":"N22","v":12222},{"$f":"COUNTIF(L65:L93,AD22)","v":0},{"$f":"AE22/(AG4-AE25)","v":0},{"$f":"IF(AF22=0,0,(AF22*((LOG(AF22))/LOG(2))))","v":0},null,{"$f":"N22","v":12222},{"$f":"COUNTIF(L94:L122,AI22)","v":0},{"$f":"AJ22/(AL4-AJ25)","v":0},{"$f":"IF(AK22=0,0,(AK22*((LOG(AK22))/LOG(2))))","v":0},null,{"$f":"N22","v":12222},{"$f":"COUNTIF(L123:L151,AN22)","v":1},{"$f":"AO22/(AQ4-AO25)","v":3.4482758620689655E-2},{"$f":"IF(AP22=0,0,(AP22*((LOG(AP22))/LOG(2))))","v":-0.16751658603888178},null,{"$f":"N22","v":12222},{"$f":"COUNTIF(L152:L180,AS22)","v":0},{"$f":"AT22/(AV4-AT25)","v":0},{"$f":"IF(AU22=0,0,(AU22*((LOG(AU22))/LOG(2))))","v":0}]
[21,2285,22,2290,24,2298,14,2311,13,2331,0,22211,null,21111,{"$f":"COUNTIF($L$7:$L$500,N23)","v":4},{"$f":"O23/$Q$4","v":2.2988505747126436E-2},{"$f":"IF(P23=0,0,(P23*((LOG(P23))/LOG(2))))","v":-0.12512513783560297},null,null,{"$f":"N23","v":21111},{"$f":"COUNTIF(L7:L35,T23)","v":0},{"$f":"U23/(W4-U25)","v":0},{"$f":"IF(V23=0,0,(V23*((LOG(V23))/LOG(2))))","v":0},null,{"$f":"N23","v":21111},{"$f":"COUNTIF(L36:L64,Y23)","v":0},{"$f":"Z23/(AB4-Z25)","v":0},{"$f":"IF(AA23=0,0,(AA23*((LOG(AA23))/LOG(2))))","v":0},null,{"$f":"N23","v":21111},{"$f":"COUNTIF(L65:L93,AD23)","v":1},{"$f":"AE23/(AG4-AE25)","v":3.4482758620689655E-2},{"$f":"IF(AF23=0,0,(AF23*((LOG(AF23))/LOG(2))))","v":-0.16751658603888178},null,{"$f":"N23","v":21111},{"$f":"COUNTIF(L94:L122,AI23)","v":1},{"$f":"AJ23/(AL4-AJ25)","v":3.4482758620689655E-2},{"$f":"IF(AK23=0,0,(AK23*((LOG(AK23))/LOG(2))))","v":-0.16751658603888178},null,{"$f":"N23","v":21111},{"$f":"COUNTIF(L123:L151,AN23)","v":0},{"$f":"AO23/(AQ4-AO25)","v":0},{"$f":"IF(AP23=0,0,(AP23*((LOG(AP23))/LOG(2))))","v":0},null,{"$f":"N23","v":21111},{"$f":"COUNTIF(L152:L180,AS23)","v":2},{"$f":"AT23/(AV4-AT25)","v":6.8965517241379309E-2},{"$f":"IF(AU23=0,0,(AU23*((LOG(AU23))/LOG(2))))","v":-0.26606765483638428}]
[21,2435,22,2442,13,2453,23,2462,13,2470,0,22121,null,21112,{"$f":"COUNTIF($L$7:$L$500,N24)","v":1},{"$f":"O24/$Q$4","v":5.7471264367816091E-3},{"$f":"IF(P24=0,0,(P24*((LOG(P24))/LOG(2))))","v":-4.2775537332463962E-2},null,null,{"$f":"N24","v":21112},{"$f":"COUNTIF(L7:L35,T24)","v":0},{"$f":"U24/(W4-U25)","v":0},{"$f":"IF(V24=0,0,(V24*((LOG(V24))/LOG(2))))","v":0},null,{"$f":"N24","v":21112},{"$f":"COUNTIF(L36:L64,Y24)","v":1},{"$f":"Z24/(AB4-Z25)","v":3.4482758620689655E-2},{"$f":"IF(AA24=0,0,(AA24*((LOG(AA24))/LOG(2))))","v":-0.16751658603888178},null,{"$f":"N24","v":21112},{"$f":"COUNTIF(L65:L93,AD24)","v":0},{"$f":"AE24/(AG4-AE25)","v":0},{"$f":"IF(AF24=0,0,(AF24*((LOG(AF24))/LOG(2))))","v":0},null,{"$f":"N24","v":21112},{"$f":"COUNTIF(L94:L122,AI24)","v":0},{"$f":"AJ24/(AL4-AJ25)","v":0},{"$f":"IF(AK24=0,0,(AK24*((LOG(AK24))/LOG(2))))","v":0},null,{"$f":"N24","v":21112},{"$f":"COUNTIF(L123:L151,AN24)","v":0},{"$f":"AO24/(AQ4-AO25)","v":0},{"$f":"IF(AP24=0,0,(AP24*((LOG(AP24))/LOG(2))))","v":0},null,{"$f":"N24","v":21112},{"$f":"COUNTIF(L152:L180,AS24)","v":0},{"$f":"AT24/(AV4-AT25)","v":0},{"$f":"IF(AU24=0,0,(AU24*((LOG(AU24))/LOG(2))))","v":0}]
[21,2571,22,2576,24,2580,23,2587,24,2596,0,22222,null,21121,{"$f":"COUNTIF($L$7:$L$500,N25)","v":0},{"$f":"O25/$Q$4","v":0},{"$f":"IF(P25=0,0,(P25*((LOG(P25))/LOG(2))))","v":0},null,null,{"$f":"N25","v":21121},{"$f":"COUNTIF(L7:L35,T25)","v":0},null,null,null,{"$f":"N25","v":21121},{"$f":"COUNTIF(L36:L64,Y25)","v":0},null,null,null,{"$f":"N25","v":21121},{"$f":"COUNTIF(L65:L93,AD25)","v":0},null,null,null,{"$f":"N25","v":21121},{"$f":"COUNTIF(L94:L122,AI25)","v":0},null,null,null,{"$f":"N25","v":21121},{"$f":"COUNTIF(L123:L151,AN25)","v":0},null,null,null,{"$f":"N25","v":21121},{"$f":"COUNTIF(L152:L180,AS25)","v":0}]
[21,2696,22,2717,24,2723,14,2733,13,2744,1,22211,null,21122,{"$f":"COUNTIF($L$7:$L$500,N26)","v":1},{"$f":"O26/$Q$4","v":5.7471264367816091E-3},{"$f":"IF(P26=0,0,(P26*((LOG(P26))/LOG(2))))","v":-4.2775537332463962E-2},null,null,{"$f":"N26","v":21122},{"$f":"COUNTIF(L7:L35,T26)","v":0},{"$f":"U26/(W4-U25)","v":0},{"$f":"IF(V26=0,0,(V26*((LOG(V26))/LOG(2))))","v":0},null,{"$f":"N26","v":21122},{"$f":"COUNTIF(L36:L64,Y26)","v":1},{"$f":"Z26/(AB4-Z25)","v":3.4482758620689655E-2},{"$f":"IF(AA26=0,0,(AA26*((LOG(AA26))/LOG(2))))","v":-0.16751658603888178},null,{"$f":"N26","v":21122},{"$f":"COUNTIF(L65:L93,AD26)","v":0},{"$f":"AE26/(AG4-AE25)","v":0},{"$f":"IF(AF26=0,0,(AF26*((LOG(AF26))/LOG(2))))","v":0},null,{"$f":"N26","v":21122},{"$f":"COUNTIF(L94:L122,AI26)","v":0},{"$f":"AJ26/(AL4-AJ25)","v":0},{"$f":"IF(AK26=0,0,(AK26*((LOG(AK26))/LOG(2))))","v":0},null,{"$f":"N26","v":21122},{"$f":"COUNTIF(L123:L151,AN26)","v":0},{"$f":"AO26/(AQ4-AO25)","v":0},{"$f":"IF(AP26=0,0,(AP26*((LOG(AP26))/LOG(2))))","v":0},null,{"$f":"N26","v":21122},{"$f":"COUNTIF(L152:L180,AS26)","v":0},{"$f":"AT26/(AV4-AT25)","v":0},{"$f":"IF(AU26=0,0,(AU26*((LOG(AU26))/LOG(2))))","v":0}]
[12,2864,24,2872,13,2883,14,2893,13,2904,0,12111,null,21211,{"$f":"COUNTIF($L$7:$L$500,N27)","v":23},{"$f":"O27/$Q$4","v":0.13218390804597702},{"$f":"IF(P27=0,0,(P27*((LOG(P27))/LOG(2))))","v":-0.38589526100695087},null,null,{"$f":"N27","v":21211},{"$f":"COUNTIF(L7:L35,T27)","v":4},{"$f":"U27/(W4-U25)","v":0.13793103448275862},{"$f":"IF(V27=0,0,(V27*((LOG(V27))/LOG(2))))","v":-0.39420427519000989},null,{"$f":"N27","v":21211},{"$f":"COUNTIF(L36:L64,Y27)","v":4},{"$f":"Z27/(AB4-Z25)","v":0.13793103448275862},{"$f":"IF(AA27=0,0,(AA27*((LOG(AA27))/LOG(2))))","v":-0.39420427519000989},null,{"$f":"N27","v":21211},{"$f":"COUNTIF(L65:L93,AD27)","v":5},{"$f":"AE27/(AG4-AE25)","v":0.17241379310344829},{"$f":"IF(AF27=0,0,(AF27*((LOG(AF27))/LOG(2))))","v":-0.43725050004141547},null,{"$f":"N27","v":21211},{"$f":"COUNTIF(L94:L122,AI27)","v":3},{"$f":"AJ27/(AL4-AJ25)","v":0.10344827586206896},{"$f":"IF(AK27=0,0,(AK27*((LOG(AK27))/LOG(2))))","v":-0.33858812011100858},null,{"$f":"N27","v":21211},{"$f":"COUNTIF(L123:L151,AN27)","v":3},{"$f":"AO27/(AQ4-AO25)","v":0.10344827586206896},{"$f":"IF(AP27=0,0,(AP27*((LOG(AP27))/LOG(2))))","v":-0.33858812011100858},null,{"$f":"N27","v":21211},{"$f":"COUNTIF(L152:L180,AS27)","v":4},{"$f":"AT27/(AV4-AT25)","v":0.13793103448275862},{"$f":"IF(AU27=0,0,(AU27*((LOG(AU27))/LOG(2))))","v":-0.39420427519000989}]
[21,3004,11,3014,22,3022,14,3037,13,3062,0,21211,null,21212,{"$f":"COUNTIF($L$7:$L$500,N28)","v":0},{"$f":"O28/$Q$4","v":0},{"$f":"IF(P28=0,0,(P28*((LOG(P28))/LOG(2))))","v":0},null,null,{"$f":"N28","v":21212},{"$f":"COUNTIF(L7:L35,T28)","v":0},{"$f":"U28/(W4-U25)","v":0},{"$f":"IF(V28=0,0,(V28*((LOG(V28))/LOG(2))))","v":0},null,{"$f":"N28","v":21212},{"$f":"COUNTIF(L36:L64,Y28)","v":0},{"$f":"Z28/(AB4-Z25)","v":0},{"$f":"IF(AA28=0,0,(AA28*((LOG(AA28))/LOG(2))))","v":0},null,{"$f":"N28","v":21212},{"$f":"COUNTIF(L65:L93,AD28)","v":0},{"$f":"AE28/(AG4-AE25)","v":0},{"$f":"IF(AF28=0,0,(AF28*((LOG(AF28))/LOG(2))))","v":0},null,{"$f":"N28","v":21212},{"$f":"COUNTIF(L94:L122,AI28)","v":0},{"$f":"AJ28/(AL4-AJ25)","v":0},{"$f":"IF(AK28=0,0,(AK28*((LOG(AK28))/LOG(2))))","v":0},null,{"$f":"N28","v":21212},{"$f":"COUNTIF(L123:L151,AN28)","v":0},{"$f":"AO28/(AQ4-AO25)","v":0},{"$f":"IF(AP28=0,0,(AP28*((LOG(AP28))/LOG(2))))","v":0},null,{"$f":"N28","v":21212},{"$f":"COUNTIF(L152:L180,AS28)","v":0},{"$f":"AT28/(AV4-AT25)","v":0},{"$f":"IF(AU28=0,0,(AU28*((LOG(AU28))/LOG(2))))","v":0}]
[21,3164,22,3180,24,3187,23,3205,13,3214,0,22221,null,21221,{"$f":"COUNTIF($L$7:$L$500,N29)","v":7},{"$f":"O29/$Q$4","v":4.0229885057471264E-2},{"$f":"IF(P29=0,0,(P29*((LOG(P29))/LOG(2))))","v":-0.18648919549734408},null,null,{"$f":"N29","v":21221},{"$f":"COUNTIF(L7:L35,T29)","v":2},{"$f":"U29/(W4-U25)","v":6.8965517241379309E-2},{"$f":"IF(V29=0,0,(V29*((LOG(V29))/LOG(2))))","v":-0.26606765483638428},null,{"$f":"N29","v":21221},{"$f":"COUNTIF(L36:L64,Y29)","v":2},{"$f":"Z29/(AB4-Z25)","v":6.8965517241379309E-2},{"$f":"IF(AA29=0,0,(AA29*((LOG(AA29))/LOG(2))))","v":-0.26606765483638428},null,{"$f":"N29","v":21221},{"$f":"COUNTIF(L65:L93,AD29)","v":0},{"$f":"AE29/(AG4-AE25)","v":0},{"$f":"IF(AF29=0,0,(AF29*((LOG(AF29))/LOG(2))))","v":0},null,{"$f":"N29","v":21221},{"$f":"COUNTIF(L94:L122,AI29)","v":1},{"$f":"AJ29/(AL4-AJ25)","v":3.4482758620689655E-2},{"$f":"IF(AK29=0,0,(AK29*((LOG(AK29))/LOG(2))))","v":-0.16751658603888178},null,{"$f":"N29","v":21221},{"$f":"COUNTIF(L123:L151,AN29)","v":2},{"$f":"AO29/(AQ4-AO25)","v":6.8965517241379309E-2},{"$f":"IF(AP29=0,0,(AP29*((LOG(AP29))/LOG(2))))","v":-0.26606765483638428},null,{"$f":"N29","v":21221},{"$f":"COUNTIF(L152:L180,AS29)","v":0},{"$f":"AT29/(AV4-AT25)","v":0},{"$f":"IF(AU29=0,0,(AU29*((LOG(AU29))/LOG(2))))","v":0}]
[21,3318,11,3328,22,3335,23,3340,13,3349,1,21221,null,21222,{"$f":"COUNTIF($L$7:$L$500,N30)","v":3},{"$f":"O30/$Q$4","v":1.7241379310344827E-2},{"$f":"IF(P30=0,0,(P30*((LOG(P30))/LOG(2))))","v":-0.10099967232978573},null,null,{"$f":"N30","v":21222},{"$f":"COUNTIF(L7:L35,T30)","v":1},{"$f":"U30/(W4-U25)","v":3.4482758620689655E-2},{"$f":"IF(V30=0,0,(V30*((LOG(V30))/LOG(2))))","v":-0.16751658603888178},null,{"$f":"N30","v":21222},{"$f":"COUNTIF(L36:L64,Y30)","v":0},{"$f":"Z30/(AB4-Z25)","v":0},{"$f":"IF(AA30=0,0,(AA30*((LOG(AA30))/LOG(2))))","v":0},null,{"$f":"N30","v":21222},{"$f":"COUNTIF(L65:L93,AD30)","v":1},{"$f":"AE30/(AG4-AE25)","v":3.4482758620689655E-2},{"$f":"IF(AF30=0,0,(AF30*((LOG(AF30))/LOG(2))))","v":-0.16751658603888178},null,{"$f":"N30","v":21222},{"$f":"COUNTIF(L94:L122,AI30)","v":1},{"$f":"AJ30/(AL4-AJ25)","v":3.4482758620689655E-2},{"$f":"IF(AK30=0,0,(AK30*((LOG(AK30))/LOG(2))))","v":-0.16751658603888178},null,{"$f":"N30","v":21222},{"$f":"COUNTIF(L123:L151,AN30)","v":0},{"$f":"AO30/(AQ4-AO25)","v":0},{"$f":"IF(AP30=0,0,(AP30*((LOG(AP30))/LOG(2))))","v":0},null,{"$f":"N30","v":21222},{"$f":"COUNTIF(L152:L180,AS30)","v":0},{"$f":"AT30/(AV4-AT25)","v":0},{"$f":"IF(AU30=0,0,(AU30*((LOG(AU30))/LOG(2))))","v":0}]
[21,3462,11,3471,22,3479,23,3485,13,3498,0,21221,null,22111,{"$f":"COUNTIF($L$7:$L$500,N31)","v":20},{"$f":"O31/$Q$4","v":0.11494252873563218},{"$f":"IF(P31=0,0,(P31*((LOG(P31))/LOG(2))))","v":-0.35873740240935242},null,null,{"$f":"N31","v":22111},{"$f":"COUNTIF(L7:L35,T31)","v":5},{"$f":"U31/(W4-U25)","v":0.17241379310344829},{"$f":"IF(V31=0,0,(V31*((LOG(V31))/LOG(2))))","v":-0.43725050004141547},null,{"$f":"N31","v":22111},{"$f":"COUNTIF(L36:L64,Y31)","v":5},{"$f":"Z31/(AB4-Z25)","v":0.17241379310344829},{"$f":"IF(AA31=0,0,(AA31*((LOG(AA31))/LOG(2))))","v":-0.43725050004141547},null,{"$f":"N31","v":22111},{"$f":"COUNTIF(L65:L93,AD31)","v":2},{"$f":"AE31/(AG4-AE25)","v":6.8965517241379309E-2},{"$f":"IF(AF31=0,0,(AF31*((LOG(AF31))/LOG(2))))","v":-0.26606765483638428},null,{"$f":"N31","v":22111},{"$f":"COUNTIF(L94:L122,AI31)","v":4},{"$f":"AJ31/(AL4-AJ25)","v":0.13793103448275862},{"$f":"IF(AK31=0,0,(AK31*((LOG(AK31))/LOG(2))))","v":-0.39420427519000989},null,{"$f":"N31","v":22111},{"$f":"COUNTIF(L123:L151,AN31)","v":2},{"$f":"AO31/(AQ4-AO25)","v":6.8965517241379309E-2},{"$f":"IF(AP31=0,0,(AP31*((LOG(AP31))/LOG(2))))","v":-0.26606765483638428},null,{"$f":"N31","v":22111},{"$f":"COUNTIF(L152:L180,AS31)","v":2},{"$f":"AT31/(AV4-AT25)","v":6.8965517241379309E-2},{"$f":"IF(AU31=0,0,(AU31*((LOG(AU31))/LOG(2))))","v":-0.26606765483638428}]
[12,3607,24,3614,13,3632,14,3647,13,3658,0,12111,null,22112,{"$f":"COUNTIF($L$7:$L$500,N32)","v":4},{"$f":"O32/$Q$4","v":2.2988505747126436E-2},{"$f":"IF(P32=0,0,(P32*((LOG(P32))/LOG(2))))","v":-0.12512513783560297},null,null,{"$f":"N32","v":22112},{"$f":"COUNTIF(L7:L35,T32)","v":2},{"$f":"U32/(W4-U25)","v":6.8965517241379309E-2},{"$f":"IF(V32=0,0,(V32*((LOG(V32))/LOG(2))))","v":-0.26606765483638428},null,{"$f":"N32","v":22112},{"$f":"COUNTIF(L36:L64,Y32)","v":1},{"$f":"Z32/(AB4-Z25)","v":3.4482758620689655E-2},{"$f":"IF(AA32=0,0,(AA32*((LOG(AA32))/LOG(2))))","v":-0.16751658603888178},null,{"$f":"N32","v":22112},{"$f":"COUNTIF(L65:L93,AD32)","v":0},{"$f":"AE32/(AG4-AE25)","v":0},{"$f":"IF(AF32=0,0,(AF32*((LOG(AF32))/LOG(2))))","v":0},null,{"$f":"N32","v":22112},{"$f":"COUNTIF(L94:L122,AI32)","v":1},{"$f":"AJ32/(AL4-AJ25)","v":3.4482758620689655E-2},{"$f":"IF(AK32=0,0,(AK32*((LOG(AK32))/LOG(2))))","v":-0.16751658603888178},null,{"$f":"N32","v":22112},{"$f":"COUNTIF(L123:L151,AN32)","v":0},{"$f":"AO32/(AQ4-AO25)","v":0},{"$f":"IF(AP32=0,0,(AP32*((LOG(AP32))/LOG(2))))","v":0},null,{"$f":"N32","v":22112},{"$f":"COUNTIF(L152:L180,AS32)","v":0},{"$f":"AT32/(AV4-AT25)","v":0},{"$f":"IF(AU32=0,0,(AU32*((LOG(AU32))/LOG(2))))","v":0}]
[21,3762,11,3771,22,3779,14,3791,13,3803,1,21211,null,22121,{"$f":"COUNTIF($L$7:$L$500,N33)","v":5},{"$f":"O33/$Q$4","v":2.8735632183908046E-2},{"$f":"IF(P33=0,0,(P33*((LOG(P33))/LOG(2))))","v":-0.1471556149701542},null,null,{"$f":"N33","v":22121},{"$f":"COUNTIF(L7:L35,T33)","v":1},{"$f":"U33/(W4-U25)","v":3.4482758620689655E-2},{"$f":"IF(V33=0,0,(V33*((LOG(V33))/LOG(2))))","v":-0.16751658603888178},null,{"$f":"N33","v":22121},{"$f":"COUNTIF(L36:L64,Y33)","v":2},{"$f":"Z33/(AB4-Z25)","v":6.8965517241379309E-2},{"$f":"IF(AA33=0,0,(AA33*((LOG(AA33))/LOG(2))))","v":-0.26606765483638428},null,{"$f":"N33","v":22121},{"$f":"COUNTIF(L65:L93,AD33)","v":0},{"$f":"AE33/(AG4-AE25)","v":0},{"$f":"IF(AF33=0,0,(AF33*((LOG(AF33))/LOG(2))))","v":0},null,{"$f":"N33","v":22121},{"$f":"COUNTIF(L94:L122,AI33)","v":0},{"$f":"AJ33/(AL4-AJ25)","v":0},{"$f":"IF(AK33=0,0,(AK33*((LOG(AK33))/LOG(2))))","v":0},null,{"$f":"N33","v":22121},{"$f":"COUNTIF(L123:L151,AN33)","v":0},{"$f":"AO33/(AQ4-AO25)","v":0},{"$f":"IF(AP33=0,0,(AP33*((LOG(AP33))/LOG(2))))","v":0},null,{"$f":"N33","v":22121},{"$f":"COUNTIF(L152:L180,AS33)","v":2},{"$f":"AT33/(AV4-AT25)","v":6.8965517241379309E-2},{"$f":"IF(AU33=0,0,(AU33*((LOG(AU33))/LOG(2))))","v":-0.26606765483638428}]
[21,3899,11,3910,22,3918,14,3926,13,3931,0,21211,null,22122,{"$f":"COUNTIF($L$7:$L$500,N34)","v":2},{"$f":"O34/$Q$4","v":1.1494252873563218E-2},{"$f":"IF(P34=0,0,(P34*((LOG(P34))/LOG(2))))","v":-7.4056821791364691E-2},null,null,{"$f":"N34","v":22122},{"$f":"COUNTIF(L7:L35,T34)","v":0},{"$f":"U34/(W4-U25)","v":0},{"$f":"IF(V34=0,0,(V34*((LOG(V34))/LOG(2))))","v":0},null,{"$f":"N34","v":22122},{"$f":"COUNTIF(L36:L64,Y34)","v":2},{"$f":"Z34/(AB4-Z25)","v":6.8965517241379309E-2},{"$f":"IF(AA34=0,0,(AA34*((LOG(AA34))/LOG(2))))","v":-0.26606765483638428},null,{"$f":"N34","v":22122},{"$f":"COUNTIF(L65:L93,AD34)","v":0},{"$f":"AE34/(AG4-AE25)","v":0},{"$f":"IF(AF34=0,0,(AF34*((LOG(AF34))/LOG(2))))","v":0},null,{"$f":"N34","v":22122},{"$f":"COUNTIF(L94:L122,AI34)","v":0},{"$f":"AJ34/(AL4-AJ25)","v":0},{"$f":"IF(AK34=0,0,(AK34*((LOG(AK34))/LOG(2))))","v":0},null,{"$f":"N34","v":22122},{"$f":"COUNTIF(L123:L151,AN34)","v":0},{"$f":"AO34/(AQ4-AO25)","v":0},{"$f":"IF(AP34=0,0,(AP34*((LOG(AP34))/LOG(2))))","v":0},null,{"$f":"N34","v":22122},{"$f":"COUNTIF(L152:L180,AS34)","v":0},{"$f":"AT34/(AV4-AT25)","v":0},{"$f":"IF(AU34=0,0,(AU34*((LOG(AU34))/LOG(2))))","v":0}]
[12,4035,24,4043,24,4048,14,4056,13,4062,0,12211,null,22211,{"$f":"COUNTIF($L$7:$L$500,N35)","v":8},{"$f":"O35/$Q$4","v":4.5977011494252873E-2},{"$f":"IF(P35=0,0,(P35*((LOG(P35))/LOG(2))))","v":-0.20427326417695305},null,null,{"$f":"N35","v":22211},{"$f":"COUNTIF(L7:L35,T35)","v":5},{"$f":"U35/(W4-U25)","v":0.17241379310344829},{"$f":"IF(V35=0,0,(V35*((LOG(V35))/LOG(2))))","v":-0.43725050004141547},null,{"$f":"N35","v":22211},{"$f":"COUNTIF(L36:L64,Y35)","v":1},{"$f":"Z35/(AB4-Z25)","v":3.4482758620689655E-2},{"$f":"IF(AA35=0,0,(AA35*((LOG(AA35))/LOG(2))))","v":-0.16751658603888178},null,{"$f":"N35","v":22211},{"$f":"COUNTIF(L65:L93,AD35)","v":1},{"$f":"AE35/(AG4-AE25)","v":3.4482758620689655E-2},{"$f":"IF(AF35=0,0,(AF35*((LOG(AF35))/LOG(2))))","v":-0.16751658603888178},null,{"$f":"N35","v":22211},{"$f":"COUNTIF(L94:L122,AI35)","v":0},{"$f":"AJ35/(AL4-AJ25)","v":0},{"$f":"IF(AK35=0,0,(AK35*((LOG(AK35))/LOG(2))))","v":0},null,{"$f":"N35","v":22211},{"$f":"COUNTIF(L123:L151,AN35)","v":0},{"$f":"AO35/(AQ4-AO25)","v":0},{"$f":"IF(AP35=0,0,(AP35*((LOG(AP35))/LOG(2))))","v":0},null,{"$f":"N35","v":22211},{"$f":"COUNTIF(L152:L180,AS35)","v":1},{"$f":"AT35/(AV4-AT25)","v":3.4482758620689655E-2},{"$f":"IF(AU35=0,0,(AU35*((LOG(AU35))/LOG(2))))","v":-0.16751658603888178}]
[12,4167,24,4175,13,4183,14,4189,13,4198,0,12111,null,22212,{"$f":"COUNTIF($L$7:$L$500,N36)","v":1},{"$f":"O36/$Q$4","v":5.7471264367816091E-3},{"$f":"IF(P36=0,0,(P36*((LOG(P36))/LOG(2))))","v":-4.2775537332463962E-2},null,null,{"$f":"N36","v":22212},{"$f":"COUNTIF(L7:L35,T36)","v":0},{"$f":"U36/(W4-U25)","v":0},{"$f":"IF(V36=0,0,(V36*((LOG(V36))/LOG(2))))","v":0},null,{"$f":"N36","v":22212},{"$f":"COUNTIF(L36:L64,Y36)","v":0},{"$f":"Z36/(AB4-Z25)","v":0},{"$f":"IF(AA36=0,0,(AA36*((LOG(AA36))/LOG(2))))","v":0},null,{"$f":"N36","v":22212},{"$f":"COUNTIF(L65:L93,AD36)","v":1},{"$f":"AE36/(AG4-AE25)","v":3.4482758620689655E-2},{"$f":"IF(AF36=0,0,(AF36*((LOG(AF36))/LOG(2))))","v":-0.16751658603888178},null,{"$f":"N36","v":22212},{"$f":"COUNTIF(L94:L122,AI36)","v":0},{"$f":"AJ36/(AL4-AJ25)","v":0},{"$f":"IF(AK36=0,0,(AK36*((LOG(AK36))/LOG(2))))","v":0},null,{"$f":"N36","v":22212},{"$f":"COUNTIF(L123:L151,AN36)","v":0},{"$f":"AO36/(AQ4-AO25)","v":0},{"$f":"IF(AP36=0,0,(AP36*((LOG(AP36))/LOG(2))))","v":0},null,{"$f":"N36","v":22212},{"$f":"COUNTIF(L152:L180,AS36)","v":0},{"$f":"AT36/(AV4-AT25)","v":0},{"$f":"IF(AU36=0,0,(AU36*((LOG(AU36))/LOG(2))))","v":0}]
[21,4295,22,4302,13,4314,23,4321,24,4328,0,22122,null,22221,{"$f":"COUNTIF($L$7:$L$500,N37)","v":4},{"$f":"O37/$Q$4","v":2.2988505747126436E-2},{"$f":"IF(P37=0,0,(P37*((LOG(P37))/LOG(2))))","v":-0.12512513783560297},null,null,{"$f":"N37","v":22221},{"$f":"COUNTIF(L7:L35,T37)","v":2},{"$f":"U37/(W4-U25)","v":6.8965517241379309E-2},{"$f":"IF(V37=0,0,(V37*((LOG(V37))/LOG(2))))","v":-0.26606765483638428},null,{"$f":"N37","v":22221},{"$f":"COUNTIF(L36:L64,Y37)","v":0},{"$f":"Z37/(AB4-Z25)","v":0},{"$f":"IF(AA37=0,0,(AA37*((LOG(AA37))/LOG(2))))","v":0},null,{"$f":"N37","v":22221},{"$f":"COUNTIF(L65:L93,AD37)","v":0},{"$f":"AE37/(AG4-AE25)","v":0},{"$f":"IF(AF37=0,0,(AF37*((LOG(AF37))/LOG(2))))","v":0},null,{"$f":"N37","v":22221},{"$f":"COUNTIF(L94:L122,AI37)","v":0},{"$f":"AJ37/(AL4-AJ25)","v":0},{"$f":"IF(AK37=0,0,(AK37*((LOG(AK37))/LOG(2))))","v":0},null,{"$f":"N37","v":22221},{"$f":"COUNTIF(L123:L151,AN37)","v":2},{"$f":"AO37/(AQ4-AO25)","v":6.8965517241379309E-2},{"$f":"IF(AP37=0,0,(AP37*((LOG(AP37))/LOG(2))))","v":-0.26606765483638428},null,{"$f":"N37","v":22221},{"$f":"COUNTIF(L152:L180,AS37)","v":0},{"$f":"AT37/(AV4-AT25)","v":0},{"$f":"IF(AU37=0,0,(AU37*((LOG(AU37))/LOG(2))))","v":0}]
[12,4432,24,4439,13,4464,14,4470,13,4485,1,12111,null,22222,{"$f":"COUNTIF($L$7:$L$500,N38)","v":2},{"$f":"O38/$Q$4","v":1.1494252873563218E-2},{"$f":"IF(P38=0,0,(P38*((LOG(P38))/LOG(2))))","v":-7.4056821791364691E-2},null,null,{"$f":"N38","v":22222},{"$f":"COUNTIF(L7:L35,T38)","v":2},{"$f":"U38/(W4-U25)","v":6.8965517241379309E-2},{"$f":"IF(V38=0,0,(V38*((LOG(V38))/LOG(2))))","v":-0.26606765483638428},null,{"$f":"N38","v":22222},{"$f":"COUNTIF(L36:L64,Y38)","v":0},{"$f":"Z38/(AB4-Z25)","v":0},{"$f":"IF(AA38=0,0,(AA38*((LOG(AA38))/LOG(2))))","v":0},null,{"$f":"N38","v":22222},{"$f":"COUNTIF(L65:L93,AD38)","v":0},{"$f":"AE38/(AG4-AE25)","v":0},{"$f":"IF(AF38=0,0,(AF38*((LOG(AF38))/LOG(2))))","v":0},null,{"$f":"N38","v":22222},{"$f":"COUNTIF(L94:L122,AI38)","v":0},{"$f":"AJ38/(AL4-AJ25)","v":0},{"$f":"IF(AK38=0,0,(AK38*((LOG(AK38))/LOG(2))))","v":0},null,{"$f":"N38","v":22222},{"$f":"COUNTIF(L123:L151,AN38)","v":0},{"$f":"AO38/(AQ4-AO25)","v":0},{"$f":"IF(AP38=0,0,(AP38*((LOG(AP38))/LOG(2))))","v":0},null,{"$f":"N38","v":22222},{"$f":"COUNTIF(L152:L180,AS38)","v":0},{"$f":"AT38/(AV4-AT25)","v":0},{"$f":"IF(AU38=0,0,(AU38*((LOG(AU38))/LOG(2))))","v":0}]
[21,4578,22,4583,13,4595,14,4603,13,4607,0,22111,null,null,null,{"$f":"SUM(P7:P38)","v":1.0000000000000002},{"$f":"-SUM(Q7:Q38)","v":3.7058388105020112},null,null,null,null,{"$f":"SUM(V7:V38)","v":1},{"$f":"-SUM(W7:W38)","v":3.367660962407792},null,null,null,{"$f":"SUM(AA7:AA38)","v":1},{"$f":"-SUM(AB7:AB38)","v":3.1473037373883717},null,null,null,{"$f":"SUM(AF7:AF38)","v":0.99999999999999989},{"$f":"-SUM(AG7:AG38)","v":3.0102634459732998},null,null,null,{"$f":"SUM(AK7:AK38)","v":0.99999999999999989},{"$f":"-SUM(AL7:AL38)","v":2.8439681690390652},null,null,null,{"$f":"SUM(AP7:AP38)","v":1},{"$f":"-SUM(AQ7:AQ38)","v":3.0895598739157006},null,null,null,{"$f":"SUM(AU7:AU38)","v":1.0000000000000002},{"$f":"-SUM(AV7:AV38)","v":3.0937996344817043}]
[21,4711,22,4719,13,4734,23,4742,13,4751,0,22121,null,null,null,"U=",{"$f":"Q39/(LOG(Q4)/LOG(2))","v":0.49789962970549589},null,null,null,null,"U1=",{"$f":"W39/(LOG(W4)/LOG(2))","v":0.69322234191230225},null,null,null,"U2=",{"$f":"AB39/(LOG(AB4)/LOG(2))","v":0.64786250513228338},null,null,null,"U3=",{"$f":"AG39/(LOG(AG4)/LOG(2))","v":0.61965319522503592},null,null,null,"U4=",{"$f":"AL39/(LOG(AL4)/LOG(2))","v":0.58542183921499302},null,null,null,"U5=",{"$f":"AQ39/(LOG(AQ4)/LOG(2))","v":0.63597611374240626},null,null,null,"U6=",{"$f":"AV39/(LOG(AV4)/LOG(2))","v":0.63684885502530875}]
[21,4849,22,4857,13,4868,14,4873,13,4876,0,22111]
[12,4994,24,5001,13,5009,14,5015,13,5025,0,12111]
[21,5127,22,5147,13,5155,14,5166,13,5176,1,22111,null,"Total Target Seq"]
[21,5269,22,5291,13,5306,14,5313,13,5322,0,22111,null,{"$f":"COUNTIF(L7:L180,G3)","v":0},null,29,29,29,29,29,29]
[21,5418,11,5429,22,5436,23,5441,13,5458,0,21221,null,null,null,"% of reinforcement given in 6 equal intervals based on number of trials "]
[21,5558,22,5565,13,5573,23,5581,13,5589,0,22121,null,null,null,"%_1","%_2","%_3","%_4","%_5","%_6"]
[21,5689,22,5707,13,5715,14,5728,24,5735,0,22112,null,null,"target sequence",{"$f":"$G$3","v":21121},{"$f":"$G$3","v":21121},{"$f":"$G$3","v":21121},{"$f":"$G$3","v":21121},{"$f":"$G$3","v":21121},{"$f":"$G$3","v":21121}]
[21,5835,11,5842,11,5852,21,5859,22,5868,0,21122,null,null,"total reinforcement",{"$f":"U25","v":0},{"$f":"Z25","v":0},{"$f":"AE25","v":0},{"$f":"AJ25","v":0},{"$f":"AO25","v":0},{"$f":"AT25","v":0}]
[12,5959,24,5975,13,5983,14,5992,13,6002,1,12111,null,null,"% target"]
[21,6100,22,6107,24,6123,14,6131,13,6135,0,22211,null,null,"CCRF"]
[12,6238,24,6245,13,6263,14,6267,13,6278,0,12111,null,null,"% CCRf"]
[21,6385,11,6400,22,6407,23,6426,13,6436,0,21221,null,null,"average response rate",{"$f":"J35/P44","v":140.06896551724137},{"$f":"(J64-J35)/Q44","v":141.0344827586207},{"$f":"(J93-J64)/R44","v":133.89655172413794},{"$f":"(J122-J93)/S44","v":137.10344827586206},{"$f":"(J151-J122)/T44","v":136.55172413793105},{"$f":"(J180-J151)/U44","v":136.82758620689654}]
[12,6547,24,6554,13,6562,14,6571,13,6580,1,12111]
[21,6689,11,6699,22,6706,14,6713,13,6722,1,21211]
[21,6828,11,6838,11,6842,12,6846,24,6854,0,21112]
[21,6964,11,6971,22,6979,14,6989,13,7003,0,21211]
[12,7110,24,7117,13,7125,14,7130,13,7144,0,12111]
[21,7247,11,7253,22,7260,14,7270,13,7275,0,21211]
[21,7374,22,7382,13,7389,23,7397,24,7404,1,22122]
[21,7553,22,7561,13,7569,14,7576,13,7585,1,22111]
[21,7703,11,7710,22,7717,14,7728,13,7737,0,21211]
[12,7851,24,7856,24,7863,14,7871,13,7877,0,12211]
[12,7979,13,7986,13,7990,14,7994,13,7999,0,11111]
[12,8110,24,8117,13,8127,14,8144,13,8152,0,12111]
[12,8251,13,8255,13,8271,14,8275,13,8282,0,11111]
[21,8383,22,8400,13,8408,14,8417,13,8427,0,22111]
[12,8536,24,8543,13,8554,14,8562,13,8570,1,12111]
[21,8668,11,8678,22,8686,14,8693,13,8698,0,21211]
[12,8797,24,8804,24,8811,14,8819,13,8823,0,12211]
[12,8926,13,8940,24,8948,14,8967,13,8973,0,11211]
[12,9083,24,9090,24,9097,14,9105,13,9111,0,12211]
[12,9211,24,9219,13,9225,23,9233,13,9247,0,12121]
[12,9351,24,9357,24,9362,23,9369,13,9380,0,12221]
[12,9482,24,9489,24,9493,14,9500,13,9505,1,12211]
[12,9617,24,9639,13,9646,14,9653,13,9663,0,12111]
[21,9768,11,9788,11,9794,12,9802,13,9810,0,21111]
[21,9909,11,9917,22,9924,14,9934,13,9939,0,21211]
[21,10038,22,10045,24,10052,14,10058,24,10066,0,22212]
[12,10166,24,10173,13,10181,14,10188,13,10194,0,12111]
[21,10293,11,10306,22,10313,14,10323,13,10331,0,21211]
[21,10430,11,10439,22,10446,14,10454,13,10461,0,21211]
[12,10564,24,10571,13,10578,14,10585,13,10592,1,12111]
[21,10685,22,10695,24,10703,14,10712,13,10716,0,22211]
[12,10821,24,10829,13,10836,23,10843,13,10852,0,12121]
[21,10952,11,10959,22,10967,14,10976,13,10982,0,21211]
[12,11083,24,11089,13,11101,14,11106,13,11119,0,12111]
[12,11227,24,11234,13,11245,14,11251,13,11261,0,12111]
[21,11361,22,11368,13,11375,14,11382,13,11388,0,22111]
[12,11492,24,11499,13,11506,14,11510,13,11517,0,12111]
[12,11617,24,11624,13,11632,14,11638,13,11643,0,12111]
[12,11748,24,11755,13,11765,14,11770,13,11776,0,12111]
[21,11879,11,11886,22,11893,23,11901,24,11909,0,21222]
[12,12008,24,12016,13,12022,14,12029,13,12035,1,12111]
[21,12145,11,12152,22,12160,23,12167,24,12176,1,21222]
[21,12269,11,12284,22,12291,23,12297,13,12309,0,21221]
[21,12421,11,12429,22,12434,14,12443,13,12449,0,21211]
[12,12552,24,12559,24,12566,14,12573,13,12578,1,12211]
[21,12678,22,12701,13,12709,14,12716,24,12741,0,22112]
[12,12843,24,12850,24,12860,14,12868,13,12873,0,12211]
[12,12982,24,12989,24,13004,14,13014,13,13020,0,12211]
[12,13120,24,13128,13,13135,14,13139,13,13146,0,12111]
[12,13250,24,13258,13,13265,14,13269,13,13276,0,12111]
[12,13384,24,13391,24,13409,14,13417,13,13423,0,12211]
[12,13533,24,13539,13,13549,14,13556,13,13566,0,12111]
[12,13670,24,13677,13,13711,14,13719,13,13734,0,12111]
[21,13834,11,13846,22,13854,14,13865,13,13869,0,21211]
[12,13971,13,13984,13,13988,14,13992,13,13998,0,11111]
[21,14098,22,14105,13,14116,14,14124,13,14130,1,22111]
[21,14225,22,14241,13,14257,14,14261,13,14268,0,22111]
[12,14375,24,14384,13,14391,14,14395,13,14406,0,12111]
[12,14509,24,14516,24,14524,14,14532,13,14541,0,12211]
[12,14642,24,14649,13,14660,14,14664,13,14671,0,12111]
[21,14769,11,14780,22,14785,14,14801,13,14805,0,21211]
[21,14904,11,14917,11,14922,12,14926,13,14932,1,21111]
[21,15029,22,15041,13,15051,14,15055,13,15059,0,22111]
[12,15165,24,15172,13,15184,14,15188,13,15200,0,12111]
[12,15301,24,15308,24,15316,14,15327,13,15331,0,12211]
[21,15440,22,15447,13,15454,14,15458,13,15465,0,22111]
[12,15565,24,15573,24,15580,14,15592,13,15596,0,12211]
[12,15696,13,15703,24,15712,23,15719,13,15727,0,11221]
[12,15839,13,15854,13,15858,14,15865,13,15876,0,11111]
[12,15976,24,15984,13,15998,14,16002,13,16011,1,12111]
[21,16117,22,16124,13,16142,14,16147,13,16159,0,22111]
[12,16262,24,16269,24,16274,14,16281,13,16285,0,12211]
[12,16388,24,16395,24,16414,23,16421,24,16428,0,12222]
[21,16528,11,16536,22,16543,14,16565,13,16572,0,21211]
[21,16676,11,16684,22,16691,23,16704,13,16716,0,21221]
[12,16818,24,16825,24,16832,23,16839,13,16850,0,12221]
[21,16949,11,16967,22,16974,14,16985,13,16993,1,21211]
[21,17088,11,17101,22,17109,14,17119,13,17130,0,21211]
[12,17233,24,17240,13,17248,14,17252,13,17263,0,12111]
[12,17366,13,17378,13,17382,14,17389,24,17397,0,11112]
[12,17496,13,17508,13,17513,14,17517,13,17525,0,11111]
[12,17626,13,17645,13,17649,14,17653,13,17660,0,11111]
[12,17760,24,17768,13,17775,14,17779,13,17784,0,12111]
[12,17884,24,17892,13,17912,14,17919,13,17927,0,12111]
[12,18029,24,18037,13,18046,14,18050,13,18055,0,12111]
[12,18161,24,18169,24,18175,23,18183,13,18190,0,12221]
[12,18295,24,18302,13,18313,14,18317,13,18328,0,12111]
[21,18426,22,18434,13,18442,14,18456,13,18460,1,22111]
[21,18554,22,18567,24,18584,23,18590,13,18598,0,22221]
[12,18698,13,18707,13,18711,14,18714,13,18728,0,11111]
[12,18833,24,18841,13,18852,14,18857,13,18863,0,12111]
[12,18965,24,18973,13,18983,14,18987,24,18995,0,12112]
[12,19103,24,19110,13,19125,14,19131,13,19142,0,12111]
[12,19245,24,19253,13,19268,14,19272,13,19283,0,12111]
[21,19381,11,19388,22,19396,23,19400,13,19410,0,21221]
[12,19512,24,19520,13,19532,14,19536,13,19542,1,12111]
[12,19654,13,19665,13,19669,14,19673,13,19692,1,11111]
[21,19795,22,19812,24,19823,23,19833,13,19844,0,22221]
[12,19945,24,19952,24,19959,14,19967,13,19971,0,12211]
[12,20075,24,20083,24,20090,14,20099,13,20116,0,12211]
[12,20220,24,20226,24,20234,14,20244,13,20248,0,12211]
[12,20348,24,20356,13,20366,14,20370,13,20381,1,12111]
[21,20475,22,20480,13,20490,23,20497,13,20507,0,22121]
[12,20610,13,20618,13,20622,23,20631,13,20642,1,11121]
[21,20738,22,20745,13,20755,14,20761,13,20772,0,22111]
[12,20889,13,20912,13,20918,14,20935,13,20949,0,11111]
[21,21049,11,21058,22,21066,14,21076,13,21083,0,21211]
[12,21189,24,21197,13,21211,14,21218,13,21235,1,12111]
[21,21329,11,21343,22,21350,14,21361,13,21365,0,21211]
[12,21470,24,21478,13,21485,14,21490,13,21496,0,12111]
[12,21598,13,21626,13,21630,14,21642,13,21652,0,11111]
[12,21759,13,21771,13,21775,14,21780,13,21791,0,11111]
[12,21896,24,21903,13,21916,14,21920,13,21928,1,12111]
[21,22028,11,22038,22,22045,14,22054,13,22058,0,21211]
[12,22156,13,22159,24,22167,14,22177,13,22182,0,11211]
[12,22285,24,22293,13,22315,14,22328,13,22334,0,12111]
[12,22442,24,22449,13,22459,14,22463,13,22473,0,12111]
[12,22576,24,22583,13,22592,14,22596,13,22605,1,12111]
[21,22701,22,22705,24,22722,14,22732,13,22743,0,22211]
[21,22849,11,22858,22,22865,14,22877,13,22884,0,21211]
[12,22985,13,22994,13,22998,14,23003,13,23010,1,11111]
[21,23109,22,23113,13,23122,23,23130,13,23140,1,22121]
[21,23251,22,23258,13,23268,14,23273,13,23279,1,22111]
[12,23373,13,23377,24,23393,14,23401,24,23409,0,11212]
[21,23515,11,23523,11,23526,12,23531,13,23540,0,21111]
[12,23642,13,23646,13,23651,14,23656,13,23664,1,11111]
[21,23759,11,23780,11,23784,12,23791,13,23801,0,21111]
[12,23906,13,23917,13,23922,14,23929,13,23939,null,11111]

{"sheet":"!N407B40.096","index":13,"n_rows":181,"n_cols":48,"rows_kept":181,"cut":false,"hidden":false,"merged":[[4,39,4,42],[5,39,5,40],[4,44,4,47],[5,44,5,45],[4,24,4,27],[5,24,5,25],[4,29,4,32],[5,29,5,30],[4,34,4,37],[5,34,5,35],[1,1,1,2],[5,13,5,14],[42,13,42,14],[43,13,43,14],[4,19,4,22],[5,19,5,20]]}
["Report for:!N407B40.096"]
["Date:","<date>"]
["Hen:","<hen>",null,null,null,"Correct Sequence",{"$f":"Start!J2","v":21121},null,null,null,null,null,null,null,null,"Total Sequences in Data",{"$f":"4994-COUNTBLANK(L7:L5000)","v":175},null,null,null,null,"Total Sequences in Block Data",{"$f":"COUNTA(L7:L35)","v":29},null,null,null,"Total Sequences in Block Data",{"$f":"COUNTA(L36:L64)","v":29},null,null,null,"Total Sequences in Block Data",{"$f":"COUNTA(L65:L94)","v":30},null,null,null,"Total Sequences in Block Data",{"$f":"COUNTA(L95:L123)","v":29},null,null,null,"Total Sequences in Block Data",{"$f":"COUNTA(L124:L152)","v":29},null,null,null,"Total Sequences in Block Data",{"$f":"COUNTA(L153:L181)","v":29}]
[null,null,null,null,null,null,null,null,null,null,null,null,null,null,null,"Total Sequences in Summary",{"$f":"SUM(O7:O38)","v":175},null,null,null,null,"Total Sequences in Block Summary",{"$f":"SUM(U7:U38)","v":29},null,null,null,"Total Sequences in Block Summary",{"$f":"SUM(Z7:Z38)","v":29},null,null,null,"Total Sequences in Block Summary",{"$f":"SUM(AE7:AE38)","v":30},null,null,null,"Total Sequences in Block Summary",{"$f":"SUM(AJ7:AJ38)","v":29},null,null,null,"Total Sequences in Block Summary",{"$f":"SUM(AO7:AO38)","v":29},null,null,null,"Total Sequences in Block Summary",{"$f":"SUM(AT7:AT38)","v":29}]
[null,null,null,null,null,null,null,null,null,null,null,null,null,null,null,null,null,null,null,"Block 1",null,null,null,null,"Block 2",null,null,null,null,"Block 3",null,null,null,null,"Block 4",null,null,null,null,"Block 5",null,null,null,null,"Block 6"]
["Sequence\nComponent\n1","Time\n1","Sequence\nComponent\n2","Time\n2","Sequence\nComponent\n3","Time\n3","Sequence\nComponent\n4","Time\n4","Sequence\nComponent\n5","Time\n5","Correct?\n0=No 1=Yes","Sequence",null,"Frequency",null,"Relative Frequency","Variability",null,null,"Frequency",null,"Relative Frequency","Variability",null,"Frequency",null,"Relative Frequency","Variability",null,"Frequency",null,"Relative Frequency","Variability",null,"Frequency",null,"Relative Frequency","Variability",null,"Frequency",null,"Relative Frequency","Variability",null,"Frequency",null,"Relative Frequency","Variability"]
[12,9,24,18,24,26,14,35,13,48,0,12211,null,11111,{"$f":"COUNTIF($L$7:$L$500,N7)","v":55},{"$f":"O7/$Q$4","v":0.31428571428571428},{"$f":"IF(P7=0,0,(P7*((LOG(P7))/LOG(2))))","v":-0.52481043946812467},null,null,{"$f":"N7","v":11111},{"$f":"COUNTIF(L7:L35,T7)","v":3},{"$f":"U7/(W4-U25)","v":0.10344827586206896},{"$f":"IF(V7=0,0,(V7*((LOG(V7))/LOG(2))))","v":-0.33858812011100858},null,{"$f":"N7","v":11111},{"$f":"COUNTIF(L36:L64,Y7)","v":2},{"$f":"Z7/(AB4-Z25)","v":6.8965517241379309E-2},{"$f":"IF(AA7=0,0,(AA7*((LOG(AA7))/LOG(2))))","v":-0.26606765483638428},null,{"$f":"N7","v":11111},{"$f":"COUNTIF(L65:L94,AD7)","v":12},{"$f":"AE7/(AG4-AE25)","v":0.4},{"$f":"IF(AF7=0,0,(AF7*((LOG(AF7))/LOG(2))))","v":-0.52877123795494496},null,{"$f":"N7","v":11111},{"$f":"COUNTIF(L95:L123,AI7)","v":19},{"$f":"AJ7/(AL4-AJ25)","v":0.65517241379310343},{"$f":"IF(AK7=0,0,(AK7*((LOG(AK7))/LOG(2))))","v":-0.39969021213778433},null,{"$f":"N7","v":11111},{"$f":"COUNTIF(L124:L152,AN7)","v":7},{"$f":"AO7/(AQ4-AO25)","v":0.2413793103448276},{"$f":"IF(AP7=0,0,(AP7*((LOG(AP7))/LOG(2))))","v":-0.49497870729275095},null,{"$f":"N7","v":11111},{"$f":"COUNTIF(L153:L181,AS7)","v":12},{"$f":"AT7/(AV4-AT25)","v":0.41379310344827586},{"$f":"IF(AU7=0,0,(AU7*((LOG(AU7))/LOG(2))))","v":-0.5267662735474824}]
[21,146,22,151,13,160,14,165,13,171,0,22111,null,11112,{"$f":"COUNTIF($L$7:$L$500,N8)","v":0},{"$f":"O8/$Q$4","v":0},{"$f":"IF(P8=0,0,(P8*((LOG(P8))/LOG(2))))","v":0},null,null,{"$f":"N8","v":11112},{"$f":"COUNTIF(L7:L35,T8)","v":0},{"$f":"U8/(W4-U25)","v":0},{"$f":"IF(V8=0,0,(V8*((LOG(V8))/LOG(2))))","v":0},null,{"$f":"N8","v":11112},{"$f":"COUNTIF(L36:L64,Y8)","v":0},{"$f":"Z8/(AB4-Z25)","v":0},{"$f":"IF(AA8=0,0,(AA8*((LOG(AA8))/LOG(2))))","v":0},null,{"$f":"N8","v":11112},{"$f":"COUNTIF(L65:L94,AD8)","v":0},{"$f":"AE8/(AG4-AE25)","v":0},{"$f":"IF(AF8=0,0,(AF8*((LOG(AF8))/LOG(2))))","v":0},null,{"$f":"N8","v":11112},{"$f":"COUNTIF(L95:L123,AI8)","v":0},{"$f":"AJ8/(AL4-AJ25)","v":0},{"$f":"IF(AK8=0,0,(AK8*((LOG(AK8))/LOG(2))))","v":0},null,{"$f":"N8","v":11112},{"$f":"COUNTIF(L124:L152,AN8)","v":0},{"$f":"AO8/(AQ4-AO25)","v":0},{"$f":"IF(AP8=0,0,(AP8*((LOG(AP8))/LOG(2))))","v":0},null,{"$f":"N8","v":11112},{"$f":"COUNTIF(L153:L181,AS8)","v":0},{"$f":"AT8/(AV4-AT25)","v":0},{"$f":"IF(AU8=0,0,(AU8*((LOG(AU8))/LOG(2))))","v":0}]
[12,289,13,293,13,297,14,308,13,316,0,11111,null,11121,{"$f":"COUNTIF($L$7:$L$500,N9)","v":1},{"$f":"O9/$Q$4","v":5.7142857142857143E-3},{"$f":"IF(P9=0,0,(P9*((LOG(P9))/LOG(2))))","v":-4.2578349210470448E-2},null,null,{"$f":"N9","v":11121},{"$f":"COUNTIF(L7:L35,T9)","v":1},{"$f":"U9/(W4-U25)","v":3.4482758620689655E-2},{"$f":"IF(V9=0,0,(V9*((LOG(V9))/LOG(2))))","v":-0.16751658603888178},null,{"$f":"N9","v":11121},{"$f":"COUNTIF(L36:L64,Y9)","v":0},{"$f":"Z9/(AB4-Z25)","v":0},{"$f":"IF(AA9=0,0,(AA9*((LOG(AA9))/LOG(2))))","v":0},null,{"$f":"N9","v":11121},{"$f":"COUNTIF(L65:L94,AD9)","v":0},{"$f":"AE9/(AG4-AE25)","v":0},{"$f":"IF(AF9=0,0,(AF9*((LOG(AF9))/LOG(2))))","v":0},null,{"$f":"N9","v":11121},{"$f":"COUNTIF(L95:L123,AI9)","v":0},{"$f":"AJ9/(AL4-AJ25)","v":0},{"$f":"IF(AK9=0,0,(AK9*((LOG(AK9))/LOG(2))))","v":0},null,{"$f":"N9","v":11121},{"$f":"COUNTIF(L124:L152,AN9)","v":0},{"$f":"AO9/(AQ4-AO25)","v":0},{"$f":"IF(AP9=0,0,(AP9*((LOG(AP9))/LOG(2))))","v":0},null,{"$f":"N9","v":11121},{"$f":"COUNTIF(L153:L181,AS9)","v":0},{"$f":"AT9/(AV4-AT25)","v":0},{"$f":"IF(AU9=0,0,(AU9*((LOG(AU9))/LOG(2))))","v":0}]
[21,417,11,433,11,437,12,481,13,493,0,21111,null,11122,{"$f":"COUNTIF($L$7:$L$500,N10)","v":0},{"$f":"O10/$Q$4","v":0},{"$f":"IF(P10=0,0,(P10*((LOG(P10))/LOG(2))))","v":0},null,null,{"$f":"N10","v":11122},{"$f":"COUNTIF(L7:L35,T10)","v":0},{"$f":"U10/(W4-U25)","v":0},{"$f":"IF(V10=0,0,(V10*((LOG(V10))/LOG(2))))","v":0},null,{"$f":"N10","v":11122},{"$f":"COUNTIF(L36:L64,Y10)","v":0},{"$f":"Z10/(AB4-Z25)","v":0},{"$f":"IF(AA10=0,0,(AA10*((LOG(AA10))/LOG(2))))","v":0},null,{"$f":"N10","v":11122},{"$f":"COUNTIF(L65:L94,AD10)","v":0},{"$f":"AE10/(AG4-AE25)","v":0},{"$f":"IF(AF10=0,0,(AF10*((LOG(AF10))/LOG(2))))","v":0},null,{"$f":"N10","v":11122},{"$f":"COUNTIF(L95:L123,AI10)","v":0},{"$f":"AJ10/(AL4-AJ25)","v":0},{"$f":"IF(AK10=0,0,(AK10*((LOG(AK10))/LOG(2))))","v":0},null,{"$f":"N10","v":11122},{"$f":"COUNTIF(L124:L152,AN10)","v":0},{"$f":"AO10/(AQ4-AO25)","v":0},{"$f":"IF(AP10=0,0,(AP10*((LOG(AP10))/LOG(2))))","v":0},null,{"$f":"N10","v":11122},{"$f":"COUNTIF(L153:L181,AS10)","v":0},{"$f":"AT10/(AV4-AT25)","v":0},{"$f":"IF(AU10=0,0,(AU10*((LOG(AU10))/LOG(2))))","v":0}]
[21,596,22,605,24,610,23,624,24,629,1,22222,null,11211,{"$f":"COUNTIF($L$7:$L$500,N11)","v":2},{"$f":"O11/$Q$4","v":1.1428571428571429E-2},{"$f":"IF(P11=0,0,(P11*((LOG(P11))/LOG(2))))","v":-7.3728126992369469E-2},null,null,{"$f":"N11","v":11211},{"$f":"COUNTIF(L7:L35,T11)","v":0},{"$f":"U11/(W4-U25)","v":0},{"$f":"IF(V11=0,0,(V11*((LOG(V11))/LOG(2))))","v":0},null,{"$f":"N11","v":11211},{"$f":"COUNTIF(L36:L64,Y11)","v":0},{"$f":"Z11/(AB4-Z25)","v":0},{"$f":"IF(AA11=0,0,(AA11*((LOG(AA11))/LOG(2))))","v":0},null,{"$f":"N11","v":11211},{"$f":"COUNTIF(L65:L94,AD11)","v":0},{"$f":"AE11/(AG4-AE25)","v":0},{"$f":"IF(AF11=0,0,(AF11*((LOG(AF11))/LOG(2))))","v":0},null,{"$f":"N11","v":11211},{"$f":"COUNTIF(L95:L123,AI11)","v":1},{"$f":"AJ11/(AL4-AJ25)","v":3.4482758620689655E-2},{"$f":"IF(AK11=0,0,(AK11*((LOG(AK11))/LOG(2))))","v":-0.16751658603888178},null,{"$f":"N11","v":11211},{"$f":"COUNTIF(L124:L152,AN11)","v":1},{"$f":"AO11/(AQ4-AO25)","v":3.4482758620689655E-2},{"$f":"IF(AP11=0,0,(AP11*((LOG(AP11))/LOG(2))))","v":-0.16751658603888178},null,{"$f":"N11","v":11211},{"$f":"COUNTIF(L153:L181,AS11)","v":0},{"$f":"AT11/(AV4-AT25)","v":0},{"$f":"IF(AU11=0,0,(AU11*((LOG(AU11))/LOG(2))))","v":0}]
[21,760,11,769,11,776,12,786,13,800,0,21111,null,11212,{"$f":"COUNTIF($L$7:$L$500,N12)","v":0},{"$f":"O12/$Q$4","v":0},{"$f":"IF(P12=0,0,(P12*((LOG(P12))/LOG(2))))","v":0},null,null,{"$f":"N12","v":11212},{"$f":"COUNTIF(L7:L35,T12)","v":0},{"$f":"U12/(W4-U25)","v":0},{"$f":"IF(V12=0,0,(V12*((LOG(V12))/LOG(2))))","v":0},null,{"$f":"N12","v":11212},{"$f":"COUNTIF(L36:L64,Y12)","v":0},{"$f":"Z12/(AB4-Z25)","v":0},{"$f":"IF(AA12=0,0,(AA12*((LOG(AA12))/LOG(2))))","v":0},null,{"$f":"N12","v":11212},{"$f":"COUNTIF(L65:L94,AD12)","v":0},{"$f":"AE12/(AG4-AE25)","v":0},{"$f":"IF(AF12=0,0,(AF12*((LOG(AF12))/LOG(2))))","v":0},null,{"$f":"N12","v":11212},{"$f":"COUNTIF(L95:L123,AI12)","v":0},{"$f":"AJ12/(AL4-AJ25)","v":0},{"$f":"IF(AK12=0,0,(AK12*((LOG(AK12))/LOG(2))))","v":0},null,{"$f":"N12","v":11212},{"$f":"COUNTIF(L124:L152,AN12)","v":0},{"$f":"AO12/(AQ4-AO25)","v":0},{"$f":"IF(AP12=0,0,(AP12*((LOG(AP12))/LOG(2))))","v":0},null,{"$f":"N12","v":11212},{"$f":"COUNTIF(L153:L181,AS12)","v":0},{"$f":"AT12/(AV4-AT25)","v":0},{"$f":"IF(AU12=0,0,(AU12*((LOG(AU12))/LOG(2))))","v":0}]
[21,905,22,920,24,937,23,946,13,961,0,22221,null,11221,{"$f":"COUNTIF($L$7:$L$500,N13)","v":0},{"$f":"O13/$Q$4","v":0},{"$f":"IF(P13=0,0,(P13*((LOG(P13))/LOG(2))))","v":0},null,null,{"$f":"N13","v":11221},{"$f":"COUNTIF(L7:L35,T13)","v":0},{"$f":"U13/(W4-U25)","v":0},{"$f":"IF(V13=0,0,(V13*((LOG(V13))/LOG(2))))","v":0},null,{"$f":"N13","v":11221},{"$f":"COUNTIF(L36:L64,Y13)","v":0},{"$f":"Z13/(AB4-Z25)","v":0},{"$f":"IF(AA13=0,0,(AA13*((LOG(AA13))/LOG(2))))","v":0},null,{"$f":"N13","v":11221},{"$f":"COUNTIF(L65:L94,AD13)","v":0},{"$f":"AE13/(AG4-AE25)","v":0},{"$f":"IF(AF13=0,0,(AF13*((LOG(AF13))/LOG(2))))","v":0},null,{"$f":"N13","v":11221},{"$f":"COUNTIF(L95:L123,AI13)","v":0},{"$f":"AJ13/(AL4-AJ25)","v":0},{"$f":"IF(AK13=0,0,(AK13*((LOG(AK13))/LOG(2))))","v":0},null,{"$f":"N13","v":11221},{"$f":"COUNTIF(L124:L152,AN13)","v":0},{"$f":"AO13/(AQ4-AO25)","v":0},{"$f":"IF(AP13=0,0,(AP13*((LOG(AP13))/LOG(2))))","v":0},null,{"$f":"N13","v":11221},{"$f":"COUNTIF(L153:L181,AS13)","v":0},{"$f":"AT13/(AV4-AT25)","v":0},{"$f":"IF(AU13=0,0,(AU13*((LOG(AU13))/LOG(2))))","v":0}]
[21,1063,22,1067,24,1082,14,1092,13,1101,0,22211,null,11222,{"$f":"COUNTIF($L$7:$L$500,N14)","v":0},{"$f":"O14/$Q$4","v":0},{"$f":"IF(P14=0,0,(P14*((LOG(P14))/LOG(2))))","v":0},null,null,{"$f":"N14","v":11222},{"$f":"COUNTIF(L7:L35,T14)","v":0},{"$f":"U14/(W4-U25)","v":0},{"$f":"IF(V14=0,0,(V14*((LOG(V14))/LOG(2))))","v":0},null,{"$f":"N14","v":11222},{"$f":"COUNTIF(L36:L64,Y14)","v":0},{"$f":"Z14/(AB4-Z25)","v":0},{"$f":"IF(AA14=0,0,(AA14*((LOG(AA14))/LOG(2))))","v":0},null,{"$f":"N14","v":11222},{"$f":"COUNTIF(L65:L94,AD14)","v":0},{"$f":"AE14/(AG4-AE25)","v":0},{"$f":"IF(AF14=0,0,(AF14*((LOG(AF14))/LOG(2))))","v":0},null,{"$f":"N14","v":11222},{"$f":"COUNTIF(L95:L123,AI14)","v":0},{"$f":"AJ14/(AL4-AJ25)","v":0},{"$f":"IF(AK14=0,0,(AK14*((LOG(AK14))/LOG(2))))","v":0},null,{"$f":"N14","v":11222},{"$f":"COUNTIF(L124:L152,AN14)","v":0},{"$f":"AO14/(AQ4-AO25)","v":0},{"$f":"IF(AP14=0,0,(AP14*((LOG(AP14))/LOG(2))))","v":0},null,{"$f":"N14","v":11222},{"$f":"COUNTIF(L153:L181,AS14)","v":0},{"$f":"AT14/(AV4-AT25)","v":0},{"$f":"IF(AU14=0,0,(AU14*((LOG(AU14))/LOG(2))))","v":0}]
[21,1201,22,1216,24,1220,14,1233,13,1241,0,22211,null,12111,{"$f":"COUNTIF($L$7:$L$500,N15)","v":24},{"$f":"O15/$Q$4","v":0.13714285714285715},{"$f":"IF(P15=0,0,(P15*((LOG(P15))/LOG(2))))","v":-0.39308552380953227},null,null,{"$f":"N15","v":12111},{"$f":"COUNTIF(L7:L35,T15)","v":2},{"$f":"U15/(W4-U25)","v":6.8965517241379309E-2},{"$f":"IF(V15=0,0,(V15*((LOG(V15))/LOG(2))))","v":-0.26606765483638428},null,{"$f":"N15","v":12111},{"$f":"COUNTIF(L36:L64,Y15)","v":5},{"$f":"Z15/(AB4-Z25)","v":0.17241379310344829},{"$f":"IF(AA15=0,0,(AA15*((LOG(AA15))/LOG(2))))","v":-0.43725050004141547},null,{"$f":"N15","v":12111},{"$f":"COUNTIF(L65:L94,AD15)","v":6},{"$f":"AE15/(AG4-AE25)","v":0.2},{"$f":"IF(AF15=0,0,(AF15*((LOG(AF15))/LOG(2))))","v":-0.46438561897747244},null,{"$f":"N15","v":12111},{"$f":"COUNTIF(L95:L123,AI15)","v":0},{"$f":"AJ15/(AL4-AJ25)","v":0},{"$f":"IF(AK15=0,0,(AK15*((LOG(AK15))/LOG(2))))","v":0},null,{"$f":"N15","v":12111},{"$f":"COUNTIF(L124:L152,AN15)","v":4},{"$f":"AO15/(AQ4-AO25)","v":0.13793103448275862},{"$f":"IF(AP15=0,0,(AP15*((LOG(AP15))/LOG(2))))","v":-0.39420427519000989},null,{"$f":"N15","v":12111},{"$f":"COUNTIF(L153:L181,AS15)","v":7},{"$f":"AT15/(AV4-AT25)","v":0.2413793103448276},{"$f":"IF(AU15=0,0,(AU15*((LOG(AU15))/LOG(2))))","v":-0.49497870729275095}]
[12,1365,13,1371,13,1379,23,1387,13,1398,0,11121,null,12112,{"$f":"COUNTIF($L$7:$L$500,N16)","v":1},{"$f":"O16/$Q$4","v":5.7142857142857143E-3},{"$f":"IF(P16=0,0,(P16*((LOG(P16))/LOG(2))))","v":-4.2578349210470448E-2},null,null,{"$f":"N16","v":12112},{"$f":"COUNTIF(L7:L35,T16)","v":0},{"$f":"U16/(W4-U25)","v":0},{"$f":"IF(V16=0,0,(V16*((LOG(V16))/LOG(2))))","v":0},null,{"$f":"N16","v":12112},{"$f":"COUNTIF(L36:L64,Y16)","v":1},{"$f":"Z16/(AB4-Z25)","v":3.4482758620689655E-2},{"$f":"IF(AA16=0,0,(AA16*((LOG(AA16))/LOG(2))))","v":-0.16751658603888178},null,{"$f":"N16","v":12112},{"$f":"COUNTIF(L65:L94,AD16)","v":0},{"$f":"AE16/(AG4-AE25)","v":0},{"$f":"IF(AF16=0,0,(AF16*((LOG(AF16))/LOG(2))))","v":0},null,{"$f":"N16","v":12112},{"$f":"COUNTIF(L95:L123,AI16)","v":0},{"$f":"AJ16/(AL4-AJ25)","v":0},{"$f":"IF(AK16=0,0,(AK16*((LOG(AK16))/LOG(2))))","v":0},null,{"$f":"N16","v":12112},{"$f":"COUNTIF(L124:L152,AN16)","v":0},{"$f":"AO16/(AQ4-AO25)","v":0},{"$f":"IF(AP16=0,0,(AP16*((LOG(AP16))/LOG(2))))","v":0},null,{"$f":"N16","v":12112},{"$f":"COUNTIF(L153:L181,AS16)","v":0},{"$f":"AT16/(AV4-AT25)","v":0},{"$f":"IF(AU16=0,0,(AU16*((LOG(AU16))/LOG(2))))","v":0}]
[21,1498,22,1513,24,1517,23,1525,13,1536,0,22221,null,12121,{"$f":"COUNTIF($L$7:$L$500,N17)","v":2},{"$f":"O17/$Q$4","v":1.1428571428571429E-2},{"$f":"IF(P17=0,0,(P17*((LOG(P17))/LOG(2))))","v":-7.3728126992369469E-2},null,null,{"$f":"N17","v":12121},{"$f":"COUNTIF(L7:L35,T17)","v":0},{"$f":"U17/(W4-U25)","v":0},{"$f":"IF(V17=0,0,(V17*((LOG(V17))/LOG(2))))","v":0},null,{"$f":"N17","v":12121},{"$f":"COUNTIF(L36:L64,Y17)","v":2},{"$f":"Z17/(AB4-Z25)","v":6.8965517241379309E-2},{"$f":"IF(AA17=0,0,(AA17*((LOG(AA17))/LOG(2))))","v":-0.26606765483638428},null,{"$f":"N17","v":12121},{"$f":"COUNTIF(L65:L94,AD17)","v":0},{"$f":"AE17/(AG4-AE25)","v":0},{"$f":"IF(AF17=0,0,(AF17*((LOG(AF17))/LOG(2))))","v":0},null,{"$f":"N17","v":12121},{"$f":"COUNTIF(L95:L123,AI17)","v":0},{"$f":"AJ17/(AL4-AJ25)","v":0},{"$f":"IF(AK17=0,0,(AK17*((LOG(AK17))/LOG(2))))","v":0},null,{"$f":"N17","v":12121},{"$f":"COUNTIF(L124:L152,AN17)","v":0},{"$f":"AO17/(AQ4-AO25)","v":0},{"$f":"IF(AP17=0,0,(AP17*((LOG(AP17))/LOG(2))))","v":0},null,{"$f":"N17","v":12121},{"$f":"COUNTIF(L153:L181,AS17)","v":0},{"$f":"AT17/(AV4-AT25)","v":0},{"$f":"IF(AU17=0,0,(AU17*((LOG(AU17))/LOG(2))))","v":0}]
[21,1637,11,1648,22,1662,23,1672,24,1690,1,21222,null,12122,{"$f":"COUNTIF($L$7:$L$500,N18)","v":0},{"$f":"O18/$Q$4","v":0},{"$f":"IF(P18=0,0,(P18*((LOG(P18))/LOG(2))))","v":0},null,null,{"$f":"N18","v":12122},{"$f":"COUNTIF(L7:L35,T18)","v":0},{"$f":"U18/(W4-U25)","v":0},{"$f":"IF(V18=0,0,(V18*((LOG(V18))/LOG(2))))","v":0},null,{"$f":"N18","v":12122},{"$f":"COUNTIF(L36:L64,Y18)","v":0},{"$f":"Z18/(AB4-Z25)","v":0},{"$f":"IF(AA18=0,0,(AA18*((LOG(AA18))/LOG(2))))","v":0},null,{"$f":"N18","v":12122},{"$f":"COUNTIF(L65:L94,AD18)","v":0},{"$f":"AE18/(AG4-AE25)","v":0},{"$f":"IF(AF18=0,0,(AF18*((LOG(AF18))/LOG(2))))","v":0},null,{"$f":"N18","v":12122},{"$f":"COUNTIF(L95:L123,AI18)","v":0},{"$f":"AJ18/(AL4-AJ25)","v":0},{"$f":"IF(AK18=0,0,(AK18*((LOG(AK18))/LOG(2))))","v":0},null,{"$f":"N18","v":12122},{"$f":"COUNTIF(L124:L152,AN18)","v":0},{"$f":"AO18/(AQ4-AO25)","v":0},{"$f":"IF(AP18=0,0,(AP18*((LOG(AP18))/LOG(2))))","v":0},null,{"$f":"N18","v":12122},{"$f":"COUNTIF(L153:L181,AS18)","v":0},{"$f":"AT18/(AV4-AT25)","v":0},{"$f":"IF(AU18=0,0,(AU18*((LOG(AU18))/LOG(2))))","v":0}]
[21,1784,11,1810,22,1817,14,1834,13,1851,0,21211,null,12211,{"$f":"COUNTIF($L$7:$L$500,N19)","v":12},{"$f":"O19/$Q$4","v":6.8571428571428575E-2},{"$f":"IF(P19=0,0,(P19*((LOG(P19))/LOG(2))))","v":-0.26511419047619472},null,null,{"$f":"N19","v":12211},{"$f":"COUNTIF(L7:L35,T19)","v":1},{"$f":"U19/(W4-U25)","v":3.4482758620689655E-2},{"$f":"IF(V19=0,0,(V19*((LOG(V19))/LOG(2))))","v":-0.16751658603888178},null,{"$f":"N19","v":12211},{"$f":"COUNTIF(L36:L64,Y19)","v":5},{"$f":"Z19/(AB4-Z25)","v":0.17241379310344829},{"$f":"IF(AA19=0,0,(AA19*((LOG(AA19))/LOG(2))))","v":-0.43725050004141547},null,{"$f":"N19","v":12211},{"$f":"COUNTIF(L65:L94,AD19)","v":2},{"$f":"AE19/(AG4-AE25)","v":6.6666666666666666E-2},{"$f":"IF(AF19=0,0,(AF19*((LOG(AF19))/LOG(2))))","v":-0.26045937304056793},null,{"$f":"N19","v":12211},{"$f":"COUNTIF(L95:L123,AI19)","v":1},{"$f":"AJ19/(AL4-AJ25)","v":3.4482758620689655E-2},{"$f":"IF(AK19=0,0,(AK19*((LOG(AK19))/LOG(2))))","v":-0.16751658603888178},null,{"$f":"N19","v":12211},{"$f":"COUNTIF(L124:L152,AN19)","v":1},{"$f":"AO19/(AQ4-AO25)","v":3.4482758620689655E-2},{"$f":"IF(AP19=0,0,(AP19*((LOG(AP19))/LOG(2))))","v":-0.16751658603888178},null,{"$f":"N19","v":12211},{"$f":"COUNTIF(L153:L181,AS19)","v":2},{"$f":"AT19/(AV4-AT25)","v":6.8965517241379309E-2},{"$f":"IF(AU19=0,0,(AU19*((LOG(AU19))/LOG(2))))","v":-0.26606765483638428}]
[21,1949,22,1965,13,1975,14,1996,13,2006,0,22111,null,12212,{"$f":"COUNTIF($L$7:$L$500,N20)","v":0},{"$f":"O20/$Q$4","v":0},{"$f":"IF(P20=0,0,(P20*((LOG(P20))/LOG(2))))","v":0},null,null,{"$f":"N20","v":12212},{"$f":"COUNTIF(L7:L35,T20)","v":0},{"$f":"U20/(W4-U25)","v":0},{"$f":"IF(V20=0,0,(V20*((LOG(V20))/LOG(2))))","v":0},null,{"$f":"N20","v":12212},{"$f":"COUNTIF(L36:L64,Y20)","v":0},{"$f":"Z20/(AB4-Z25)","v":0},{"$f":"IF(AA20=0,0,(AA20*((LOG(AA20))/LOG(2))))","v":0},null,{"$f":"N20","v":12212},{"$f":"COUNTIF(L65:L94,AD20)","v":0},{"$f":"AE20/(AG4-AE25)","v":0},{"$f":"IF(AF20=0,0,(AF20*((LOG(AF20))/LOG(2))))","v":0},null,{"$f":"N20","v":12212},{"$f":"COUNTIF(L95:L123,AI20)","v":0},{"$f":"AJ20/(AL4-AJ25)","v":0},{"$f":"IF(AK20=0,0,(AK20*((LOG(AK20))/LOG(2))))","v":0},null,{"$f":"N20","v":12212},{"$f":"COUNTIF(L124:L152,AN20)","v":0},{"$f":"AO20/(AQ4-AO25)","v":0},{"$f":"IF(AP20=0,0,(AP20*((LOG(AP20))/LOG(2))))","v":0},null,{"$f":"N20","v":12212},{"$f":"COUNTIF(L153:L181,AS20)","v":0},{"$f":"AT20/(AV4-AT25)","v":0},{"$f":"IF(AU20=0,0,(AU20*((LOG(AU20))/LOG(2))))","v":0}]
[21,2103,11,2112,11,2130,12,2134,13,2145,0,21111,null,12221,{"$f":"COUNTIF($L$7:$L$500,N21)","v":2},{"$f":"O21/$Q$4","v":1.1428571428571429E-2},{"$f":"IF(P21=0,0,(P21*((LOG(P21))/LOG(2))))","v":-7.3728126992369469E-2},null,null,{"$f":"N21","v":12221},{"$f":"COUNTIF(L7:L35,T21)","v":0},{"$f":"U21/(W4-U25)","v":0},{"$f":"IF(V21=0,0,(V21*((LOG(V21))/LOG(2))))","v":0},null,{"$f":"N21","v":12221},{"$f":"COUNTIF(L36:L64,Y21)","v":0},{"$f":"Z21/(AB4-Z25)","v":0},{"$f":"IF(AA21=0,0,(AA21*((LOG(AA21))/LOG(2))))","v":0},null,{"$f":"N21","v":12221},{"$f":"COUNTIF(L65:L94,AD21)","v":0},{"$f":"AE21/(AG4-AE25)","v":0},{"$f":"IF(AF21=0,0,(AF21*((LOG(AF21))/LOG(2))))","v":0},null,{"$f":"N21","v":12221},{"$f":"COUNTIF(L95:L123,AI21)","v":0},{"$f":"AJ21/(AL4-AJ25)","v":0},{"$f":"IF(AK21=0,0,(AK21*((LOG(AK21))/LOG(2))))","v":0},null,{"$f":"N21","v":12221},{"$f":"COUNTIF(L124:L152,AN21)","v":1},{"$f":"AO21/(AQ4-AO25)","v":3.4482758620689655E-2},{"$f":"IF(AP21=0,0,(AP21*((LOG(AP21))/LOG(2))))","v":-0.16751658603888178},null,{"$f":"N21","v":12221},{"$f":"COUNTIF(L153:L181,AS21)","v":1},{"$f":"AT21/(AV4-AT25)","v":3.4482758620689655E-2},{"$f":"IF(AU21=0,0,(AU21*((LOG(AU21))/LOG(2))))","v":-0.16751658603888178}]
[21,2247,11,2257,22,2266,23,2270,13,2280,0,21221,null,12222,{"$f":"COUNTIF($L$7:$L$500,N22)","v":0},{"$f":"O22/$Q$4","v":0},{"$f":"IF(P22=0,0,(P22*((LOG(P22))/LOG(2))))","v":0},null,null,{"$f":"N22","v":12222},{"$f":"COUNTIF(L7:L35,T22)","v":0},{"$f":"U22/(W4-U25)","v":0},{"$f":"IF(V22=0,0,(V22*((LOG(V22))/LOG(2))))","v":0},null,{"$f":"N22","v":12222},{"$f":"COUNTIF(L36:L64,Y22)","v":0},{"$f":"Z22/(AB4-Z25)","v":0},{"$f":"IF(AA22=0,0,(AA22*((LOG(AA22))/LOG(2))))","v":0},null,{"$f":"N22","v":12222},{"$f":"COUNTIF(L65:L94,AD22)","v":0},{"$f":"AE22/(AG4-AE25)","v":0},{"$f":"IF(AF22=0,0,(AF22*((LOG(AF22))/LOG(2))))","v":0},null,{"$f":"N22","v":12222},{"$f":"COUNTIF(L95:L123,AI22)","v":0},{"$f":"AJ22/(AL4-AJ25)","v":0},{"$f":"IF(AK22=0,0,(AK22*((LOG(AK22))/LOG(2))))","v":0},null,{"$f":"N22","v":12222},{"$f":"COUNTIF(L124:L152,AN22)","v":0},{"$f":"AO22/(AQ4-AO25)","v":0},{"$f":"IF(AP22=0,0,(AP22*((LOG(AP22))/LOG(2))))","v":0},null,{"$f":"N22","v":12222},{"$f":"COUNTIF(L153:L181,AS22)","v":0},{"$f":"AT22/(AV4-AT25)","v":0},{"$f":"IF(AU22=0,0,(AU22*((LOG(AU22))/LOG(2))))","v":0}]
[21,2378,11,2396,11,2400,12,2404,13,2411,0,21111,null,21111,{"$f":"COUNTIF($L$7:$L$500,N23)","v":20},{"$f":"O23/$Q$4","v":0.11428571428571428},{"$f":"IF(P23=0,0,(P23*((LOG(P23))/LOG(2))))","v":-0.35763234479371042},null,null,{"$f":"N23","v":21111},{"$f":"COUNTIF(L7:L35,T23)","v":6},{"$f":"U23/(W4-U25)","v":0.20689655172413793},{"$f":"IF(V23=0,0,(V23*((LOG(V23))/LOG(2))))","v":-0.4702796884978791},null,{"$f":"N23","v":21111},{"$f":"COUNTIF(L36:L64,Y23)","v":2},{"$f":"Z23/(AB4-Z25)","v":6.8965517241379309E-2},{"$f":"IF(AA23=0,0,(AA23*((LOG(AA23))/LOG(2))))","v":-0.26606765483638428},null,{"$f":"N23","v":21111},{"$f":"COUNTIF(L65:L94,AD23)","v":3},{"$f":"AE23/(AG4-AE25)","v":0.1},{"$f":"IF(AF23=0,0,(AF23*((LOG(AF23))/LOG(2))))","v":-0.33219280948873625},null,{"$f":"N23","v":21111},{"$f":"COUNTIF(L95:L123,AI23)","v":3},{"$f":"AJ23/(AL4-AJ25)","v":0.10344827586206896},{"$f":"IF(AK23=0,0,(AK23*((LOG(AK23))/LOG(2))))","v":-0.33858812011100858},null,{"$f":"N23","v":21111},{"$f":"COUNTIF(L124:L152,AN23)","v":5},{"$f":"AO23/(AQ4-AO25)","v":0.17241379310344829},{"$f":"IF(AP23=0,0,(AP23*((LOG(AP23))/LOG(2))))","v":-0.43725050004141547},null,{"$f":"N23","v":21111},{"$f":"COUNTIF(L153:L181,AS23)","v":1},{"$f":"AT23/(AV4-AT25)","v":3.4482758620689655E-2},{"$f":"IF(AU23=0,0,(AU23*((LOG(AU23))/LOG(2))))","v":-0.16751658603888178}]
[21,2517,11,2524,22,2532,14,2551,13,2556,0,21211,null,21112,{"$f":"COUNTIF($L$7:$L$500,N24)","v":0},{"$f":"O24/$Q$4","v":0},{"$f":"IF(P24=0,0,(P24*((LOG(P24))/LOG(2))))","v":0},null,null,{"$f":"N24","v":21112},{"$f":"COUNTIF(L7:L35,T24)","v":0},{"$f":"U24/(W4-U25)","v":0},{"$f":"IF(V24=0,0,(V24*((LOG(V24))/LOG(2))))","v":0},null,{"$f":"N24","v":21112},{"$f":"COUNTIF(L36:L64,Y24)","v":0},{"$f":"Z24/(AB4-Z25)","v":0},{"$f":"IF(AA24=0,0,(AA24*((LOG(AA24))/LOG(2))))","v":0},null,{"$f":"N24","v":21112},{"$f":"COUNTIF(L65:L94,AD24)","v":0},{"$f":"AE24/(AG4-AE25)","v":0},{"$f":"IF(AF24=0,0,(AF24*((LOG(AF24))/LOG(2))))","v":0},null,{"$f":"N24","v":21112},{"$f":"COUNTIF(L95:L123,AI24)","v":0},{"$f":"AJ24/(AL4-AJ25)","v":0},{"$f":"IF(AK24=0,0,(AK24*((LOG(AK24))/LOG(2))))","v":0},null,{"$f":"N24","v":21112},{"$f":"COUNTIF(L124:L152,AN24)","v":0},{"$f":"AO24/(AQ4-AO25)","v":0},{"$f":"IF(AP24=0,0,(AP24*((LOG(AP24))/LOG(2))))","v":0},null,{"$f":"N24","v":21112},{"$f":"COUNTIF(L153:L181,AS24)","v":0},{"$f":"AT24/(AV4-AT25)","v":0},{"$f":"IF(AU24=0,0,(AU24*((LOG(AU24))/LOG(2))))","v":0}]
[12,2670,24,2677,13,2688,14,2696,13,2707,0,12111,null,21121,{"$f":"COUNTIF($L$7:$L$500,N25)","v":0},{"$f":"O25/$Q$4","v":0},{"$f":"IF(P25=0,0,(P25*((LOG(P25))/LOG(2))))","v":0},null,null,{"$f":"N25","v":21121},{"$f":"COUNTIF(L7:L35,T25)","v":0},null,null,null,{"$f":"N25","v":21121},{"$f":"COUNTIF(L36:L64,Y25)","v":0},null,null,null,{"$f":"N25","v":21121},{"$f":"COUNTIF(L65:L94,AD25)","v":0},null,null,null,{"$f":"N25","v":21121},{"$f":"COUNTIF(L95:L123,AI25)","v":0},null,null,null,{"$f":"N25","v":21121},{"$f":"COUNTIF(L124:L152,AN25)","v":0},null,null,null,{"$f":"N25","v":21121},{"$f":"COUNTIF(L153:L181,AS25)","v":0}]
[21,2806,11,2821,11,2836,12,2851,13,2861,1,21111,null,21122,{"$f":"COUNTIF($L$7:$L$500,N26)","v":0},{"$f":"O26/$Q$4","v":0},{"$f":"IF(P26=0,0,(P26*((LOG(P26))/LOG(2))))","v":0},null,null,{"$f":"N26","v":21122},{"$f":"COUNTIF(L7:L35,T26)","v":0},{"$f":"U26/(W4-U25)","v":0},{"$f":"IF(V26=0,0,(V26*((LOG(V26))/LOG(2))))","v":0},null,{"$f":"N26","v":21122},{"$f":"COUNTIF(L36:L64,Y26)","v":0},{"$f":"Z26/(AB4-Z25)","v":0},{"$f":"IF(AA26=0,0,(AA26*((LOG(AA26))/LOG(2))))","v":0},null,{"$f":"N26","v":21122},{"$f":"COUNTIF(L65:L94,AD26)","v":0},{"$f":"AE26/(AG4-AE25)","v":0},{"$f":"IF(AF26=0,0,(AF26*((LOG(AF26))/LOG(2))))","v":0},null,{"$f":"N26","v":21122},{"$f":"COUNTIF(L95:L123,AI26)","v":0},{"$f":"AJ26/(AL4-AJ25)","v":0},{"$f":"IF(AK26=0,0,(AK26*((LOG(AK26))/LOG(2))))","v":0},null,{"$f":"N26","v":21122},{"$f":"COUNTIF(L124:L152,AN26)","v":0},{"$f":"AO26/(AQ4-AO25)","v":0},{"$f":"IF(AP26=0,0,(AP26*((LOG(AP26))/LOG(2))))","v":0},null,{"$f":"N26","v":21122},{"$f":"COUNTIF(L153:L181,AS26)","v":0},{"$f":"AT26/(AV4-AT25)","v":0},{"$f":"IF(AU26=0,0,(AU26*((LOG(AU26))/LOG(2))))","v":0}]
[21,2960,22,2964,13,2980,23,2988,13,2998,0,22121,null,21211,{"$f":"COUNTIF($L$7:$L$500,N27)","v":14},{"$f":"O27/$Q$4","v":0.08},{"$f":"IF(P27=0,0,(P27*((LOG(P27))/LOG(2))))","v":-0.29150849518197797},null,null,{"$f":"N27","v":21211},{"$f":"COUNTIF(L7:L35,T27)","v":3},{"$f":"U27/(W4-U25)","v":0.10344827586206896},{"$f":"IF(V27=0,0,(V27*((LOG(V27))/LOG(2))))","v":-0.33858812011100858},null,{"$f":"N27","v":21211},{"$f":"COUNTIF(L36:L64,Y27)","v":7},{"$f":"Z27/(AB4-Z25)","v":0.2413793103448276},{"$f":"IF(AA27=0,0,(AA27*((LOG(AA27))/LOG(2))))","v":-0.49497870729275095},null,{"$f":"N27","v":21211},{"$f":"COUNTIF(L65:L94,AD27)","v":0},{"$f":"AE27/(AG4-AE25)","v":0},{"$f":"IF(AF27=0,0,(AF27*((LOG(AF27))/LOG(2))))","v":0},null,{"$f":"N27","v":21211},{"$f":"COUNTIF(L95:L123,AI27)","v":0},{"$f":"AJ27/(AL4-AJ25)","v":0},{"$f":"IF(AK27=0,0,(AK27*((LOG(AK27))/LOG(2))))","v":0},null,{"$f":"N27","v":21211},{"$f":"COUNTIF(L124:L152,AN27)","v":2},{"$f":"AO27/(AQ4-AO25)","v":6.8965517241379309E-2},{"$f":"IF(AP27=0,0,(AP27*((LOG(AP27))/LOG(2))))","v":-0.26606765483638428},null,{"$f":"N27","v":21211},{"$f":"COUNTIF(L153:L181,AS27)","v":2},{"$f":"AT27/(AV4-AT25)","v":6.8965517241379309E-2},{"$f":"IF(AU27=0,0,(AU27*((LOG(AU27))/LOG(2))))","v":-0.26606765483638428}]
[12,3128,13,3136,13,3140,14,3144,13,3155,0,11111,null,21212,{"$f":"COUNTIF($L$7:$L$500,N28)","v":0},{"$f":"O28/$Q$4","v":0},{"$f":"IF(P28=0,0,(P28*((LOG(P28))/LOG(2))))","v":0},null,null,{"$f":"N28","v":21212},{"$f":"COUNTIF(L7:L35,T28)","v":0},{"$f":"U28/(W4-U25)","v":0},{"$f":"IF(V28=0,0,(V28*((LOG(V28))/LOG(2))))","v":0},null,{"$f":"N28","v":21212},{"$f":"COUNTIF(L36:L64,Y28)","v":0},{"$f":"Z28/(AB4-Z25)","v":0},{"$f":"IF(AA28=0,0,(AA28*((LOG(AA28))/LOG(2))))","v":0},null,{"$f":"N28","v":21212},{"$f":"COUNTIF(L65:L94,AD28)","v":0},{"$f":"AE28/(AG4-AE25)","v":0},{"$f":"IF(AF28=0,0,(AF28*((LOG(AF28))/LOG(2))))","v":0},null,{"$f":"N28","v":21212},{"$f":"COUNTIF(L95:L123,AI28)","v":0},{"$f":"AJ28/(AL4-AJ25)","v":0},{"$f":"IF(AK28=0,0,(AK28*((LOG(AK28))/LOG(2))))","v":0},null,{"$f":"N28","v":21212},{"$f":"COUNTIF(L124:L152,AN28)","v":0},{"$f":"AO28/(AQ4-AO25)","v":0},{"$f":"IF(AP28=0,0,(AP28*((LOG(AP28))/LOG(2))))","v":0},null,{"$f":"N28","v":21212},{"$f":"COUNTIF(L153:L181,AS28)","v":0},{"$f":"AT28/(AV4-AT25)","v":0},{"$f":"IF(AU28=0,0,(AU28*((LOG(AU28))/LOG(2))))","v":0}]
[21,3265,22,3279,24,3287,14,3296,13,3300,1,22211,null,21221,{"$f":"COUNTIF($L$7:$L$500,N29)","v":3},{"$f":"O29/$Q$4","v":1.7142857142857144E-2},{"$f":"IF(P29=0,0,(P29*((LOG(P29))/LOG(2))))","v":-0.10056426190476297},null,null,{"$f":"N29","v":21221},{"$f":"COUNTIF(L7:L35,T29)","v":1},{"$f":"U29/(W4-U25)","v":3.4482758620689655E-2},{"$f":"IF(V29=0,0,(V29*((LOG(V29))/LOG(2))))","v":-0.16751658603888178},null,{"$f":"N29","v":21221},{"$f":"COUNTIF(L36:L64,Y29)","v":1},{"$f":"Z29/(AB4-Z25)","v":3.4482758620689655E-2},{"$f":"IF(AA29=0,0,(AA29*((LOG(AA29))/LOG(2))))","v":-0.16751658603888178},null,{"$f":"N29","v":21221},{"$f":"COUNTIF(L65:L94,AD29)","v":1},{"$f":"AE29/(AG4-AE25)","v":3.3333333333333333E-2},{"$f":"IF(AF29=0,0,(AF29*((LOG(AF29))/LOG(2))))","v":-0.16356301985361729},null,{"$f":"N29","v":21221},{"$f":"COUNTIF(L95:L123,AI29)","v":0},{"$f":"AJ29/(AL4-AJ25)","v":0},{"$f":"IF(AK29=0,0,(AK29*((LOG(AK29))/LOG(2))))","v":0},null,{"$f":"N29","v":21221},{"$f":"COUNTIF(L124:L152,AN29)","v":0},{"$f":"AO29/(AQ4-AO25)","v":0},{"$f":"IF(AP29=0,0,(AP29*((LOG(AP29))/LOG(2))))","v":0},null,{"$f":"N29","v":21221},{"$f":"COUNTIF(L153:L181,AS29)","v":0},{"$f":"AT29/(AV4-AT25)","v":0},{"$f":"IF(AU29=0,0,(AU29*((LOG(AU29))/LOG(2))))","v":0}]
[21,3397,22,3414,24,3421,14,3430,24,3438,0,22212,null,21222,{"$f":"COUNTIF($L$7:$L$500,N30)","v":3},{"$f":"O30/$Q$4","v":1.7142857142857144E-2},{"$f":"IF(P30=0,0,(P30*((LOG(P30))/LOG(2))))","v":-0.10056426190476297},null,null,{"$f":"N30","v":21222},{"$f":"COUNTIF(L7:L35,T30)","v":1},{"$f":"U30/(W4-U25)","v":3.4482758620689655E-2},{"$f":"IF(V30=0,0,(V30*((LOG(V30))/LOG(2))))","v":-0.16751658603888178},null,{"$f":"N30","v":21222},{"$f":"COUNTIF(L36:L64,Y30)","v":1},{"$f":"Z30/(AB4-Z25)","v":3.4482758620689655E-2},{"$f":"IF(AA30=0,0,(AA30*((LOG(AA30))/LOG(2))))","v":-0.16751658603888178},null,{"$f":"N30","v":21222},{"$f":"COUNTIF(L65:L94,AD30)","v":0},{"$f":"AE30/(AG4-AE25)","v":0},{"$f":"IF(AF30=0,0,(AF30*((LOG(AF30))/LOG(2))))","v":0},null,{"$f":"N30","v":21222},{"$f":"COUNTIF(L95:L123,AI30)","v":0},{"$f":"AJ30/(AL4-AJ25)","v":0},{"$f":"IF(AK30=0,0,(AK30*((LOG(AK30))/LOG(2))))","v":0},null,{"$f":"N30","v":21222},{"$f":"COUNTIF(L124:L152,AN30)","v":0},{"$f":"AO30/(AQ4-AO25)","v":0},{"$f":"IF(AP30=0,0,(AP30*((LOG(AP30))/LOG(2))))","v":0},null,{"$f":"N30","v":21222},{"$f":"COUNTIF(L153:L181,AS30)","v":1},{"$f":"AT30/(AV4-AT25)","v":3.4482758620689655E-2},{"$f":"IF(AU30=0,0,(AU30*((LOG(AU30))/LOG(2))))","v":-0.16751658603888178}]
[12,3557,24,3564,13,3574,14,3579,13,3598,0,12111,null,22111,{"$f":"COUNTIF($L$7:$L$500,N31)","v":21},{"$f":"O31/$Q$4","v":0.12},{"$f":"IF(P31=0,0,(P31*((LOG(P31))/LOG(2))))","v":-0.36706724268642821},null,null,{"$f":"N31","v":22111},{"$f":"COUNTIF(L7:L35,T31)","v":3},{"$f":"U31/(W4-U25)","v":0.10344827586206896},{"$f":"IF(V31=0,0,(V31*((LOG(V31))/LOG(2))))","v":-0.33858812011100858},null,{"$f":"N31","v":22111},{"$f":"COUNTIF(L36:L64,Y31)","v":2},{"$f":"Z31/(AB4-Z25)","v":6.8965517241379309E-2},{"$f":"IF(AA31=0,0,(AA31*((LOG(AA31))/LOG(2))))","v":-0.26606765483638428},null,{"$f":"N31","v":22111},{"$f":"COUNTIF(L65:L94,AD31)","v":3},{"$f":"AE31/(AG4-AE25)","v":0.1},{"$f":"IF(AF31=0,0,(AF31*((LOG(AF31))/LOG(2))))","v":-0.33219280948873625},null,{"$f":"N31","v":22111},{"$f":"COUNTIF(L95:L123,AI31)","v":5},{"$f":"AJ31/(AL4-AJ25)","v":0.17241379310344829},{"$f":"IF(AK31=0,0,(AK31*((LOG(AK31))/LOG(2))))","v":-0.43725050004141547},null,{"$f":"N31","v":22111},{"$f":"COUNTIF(L124:L152,AN31)","v":5},{"$f":"AO31/(AQ4-AO25)","v":0.17241379310344829},{"$f":"IF(AP31=0,0,(AP31*((LOG(AP31))/LOG(2))))","v":-0.43725050004141547},null,{"$f":"N31","v":22111},{"$f":"COUNTIF(L153:L181,AS31)","v":3},{"$f":"AT31/(AV4-AT25)","v":0.10344827586206896},{"$f":"IF(AU31=0,0,(AU31*((LOG(AU31))/LOG(2))))","v":-0.33858812011100858}]
[12,3701,13,3715,13,3719,14,3727,13,3731,1,11111,null,22112,{"$f":"COUNTIF($L$7:$L$500,N32)","v":0},{"$f":"O32/$Q$4","v":0},{"$f":"IF(P32=0,0,(P32*((LOG(P32))/LOG(2))))","v":0},null,null,{"$f":"N32","v":22112},{"$f":"COUNTIF(L7:L35,T32)","v":0},{"$f":"U32/(W4-U25)","v":0},{"$f":"IF(V32=0,0,(V32*((LOG(V32))/LOG(2))))","v":0},null,{"$f":"N32","v":22112},{"$f":"COUNTIF(L36:L64,Y32)","v":0},{"$f":"Z32/(AB4-Z25)","v":0},{"$f":"IF(AA32=0,0,(AA32*((LOG(AA32))/LOG(2))))","v":0},null,{"$f":"N32","v":22112},{"$f":"COUNTIF(L65:L94,AD32)","v":0},{"$f":"AE32/(AG4-AE25)","v":0},{"$f":"IF(AF32=0,0,(AF32*((LOG(AF32))/LOG(2))))","v":0},null,{"$f":"N32","v":22112},{"$f":"COUNTIF(L95:L123,AI32)","v":0},{"$f":"AJ32/(AL4-AJ25)","v":0},{"$f":"IF(AK32=0,0,(AK32*((LOG(AK32))/LOG(2))))","v":0},null,{"$f":"N32","v":22112},{"$f":"COUNTIF(L124:L152,AN32)","v":0},{"$f":"AO32/(AQ4-AO25)","v":0},{"$f":"IF(AP32=0,0,(AP32*((LOG(AP32))/LOG(2))))","v":0},null,{"$f":"N32","v":22112},{"$f":"COUNTIF(L153:L181,AS32)","v":0},{"$f":"AT32/(AV4-AT25)","v":0},{"$f":"IF(AU32=0,0,(AU32*((LOG(AU32))/LOG(2))))","v":0}]
[21,3831,22,3839,13,3857,14,3863,13,3867,0,22111,null,22121,{"$f":"COUNTIF($L$7:$L$500,N33)","v":2},{"$f":"O33/$Q$4","v":1.1428571428571429E-2},{"$f":"IF(P33=0,0,(P33*((LOG(P33))/LOG(2))))","v":-7.3728126992369469E-2},null,null,{"$f":"N33","v":22121},{"$f":"COUNTIF(L7:L35,T33)","v":1},{"$f":"U33/(W4-U25)","v":3.4482758620689655E-2},{"$f":"IF(V33=0,0,(V33*((LOG(V33))/LOG(2))))","v":-0.16751658603888178},null,{"$f":"N33","v":22121},{"$f":"COUNTIF(L36:L64,Y33)","v":0},{"$f":"Z33/(AB4-Z25)","v":0},{"$f":"IF(AA33=0,0,(AA33*((LOG(AA33))/LOG(2))))","v":0},null,{"$f":"N33","v":22121},{"$f":"COUNTIF(L65:L94,AD33)","v":0},{"$f":"AE33/(AG4-AE25)","v":0},{"$f":"IF(AF33=0,0,(AF33*((LOG(AF33))/LOG(2))))","v":0},null,{"$f":"N33","v":22121},{"$f":"COUNTIF(L95:L123,AI33)","v":0},{"$f":"AJ33/(AL4-AJ25)","v":0},{"$f":"IF(AK33=0,0,(AK33*((LOG(AK33))/LOG(2))))","v":0},null,{"$f":"N33","v":22121},{"$f":"COUNTIF(L124:L152,AN33)","v":1},{"$f":"AO33/(AQ4-AO25)","v":3.4482758620689655E-2},{"$f":"IF(AP33=0,0,(AP33*((LOG(AP33))/LOG(2))))","v":-0.16751658603888178},null,{"$f":"N33","v":22121},{"$f":"COUNTIF(L153:L181,AS33)","v":0},{"$f":"AT33/(AV4-AT25)","v":0},{"$f":"IF(AU33=0,0,(AU33*((LOG(AU33))/LOG(2))))","v":0}]
[21,3977,11,3988,11,3991,12,3995,13,4015,0,21111,null,22122,{"$f":"COUNTIF($L$7:$L$500,N34)","v":0},{"$f":"O34/$Q$4","v":0},{"$f":"IF(P34=0,0,(P34*((LOG(P34))/LOG(2))))","v":0},null,null,{"$f":"N34","v":22122},{"$f":"COUNTIF(L7:L35,T34)","v":0},{"$f":"U34/(W4-U25)","v":0},{"$f":"IF(V34=0,0,(V34*((LOG(V34))/LOG(2))))","v":0},null,{"$f":"N34","v":22122},{"$f":"COUNTIF(L36:L64,Y34)","v":0},{"$f":"Z34/(AB4-Z25)","v":0},{"$f":"IF(AA34=0,0,(AA34*((LOG(AA34))/LOG(2))))","v":0},null,{"$f":"N34","v":22122},{"$f":"COUNTIF(L65:L94,AD34)","v":0},{"$f":"AE34/(AG4-AE25)","v":0},{"$f":"IF(AF34=0,0,(AF34*((LOG(AF34))/LOG(2))))","v":0},null,{"$f":"N34","v":22122},{"$f":"COUNTIF(L95:L123,AI34)","v":0},{"$f":"AJ34/(AL4-AJ25)","v":0},{"$f":"IF(AK34=0,0,(AK34*((LOG(AK34))/LOG(2))))","v":0},null,{"$f":"N34","v":22122},{"$f":"COUNTIF(L124:L152,AN34)","v":0},{"$f":"AO34/(AQ4-AO25)","v":0},{"$f":"IF(AP34=0,0,(AP34*((LOG(AP34))/LOG(2))))","v":0},null,{"$f":"N34","v":22122},{"$f":"COUNTIF(L153:L181,AS34)","v":0},{"$f":"AT34/(AV4-AT25)","v":0},{"$f":"IF(AU34=0,0,(AU34*((LOG(AU34))/LOG(2))))","v":0}]
[21,4114,11,4122,22,4130,14,4142,13,4146,0,21211,null,22211,{"$f":"COUNTIF($L$7:$L$500,N35)","v":8},{"$f":"O35/$Q$4","v":4.5714285714285714E-2},{"$f":"IF(P35=0,0,(P35*((LOG(P35))/LOG(2))))","v":-0.20348393654090646},null,null,{"$f":"N35","v":22211},{"$f":"COUNTIF(L7:L35,T35)","v":3},{"$f":"U35/(W4-U25)","v":0.10344827586206896},{"$f":"IF(V35=0,0,(V35*((LOG(V35))/LOG(2))))","v":-0.33858812011100858},null,{"$f":"N35","v":22211},{"$f":"COUNTIF(L36:L64,Y35)","v":1},{"$f":"Z35/(AB4-Z25)","v":3.4482758620689655E-2},{"$f":"IF(AA35=0,0,(AA35*((LOG(AA35))/LOG(2))))","v":-0.16751658603888178},null,{"$f":"N35","v":22211},{"$f":"COUNTIF(L65:L94,AD35)","v":3},{"$f":"AE35/(AG4-AE25)","v":0.1},{"$f":"IF(AF35=0,0,(AF35*((LOG(AF35))/LOG(2))))","v":-0.33219280948873625},null,{"$f":"N35","v":22211},{"$f":"COUNTIF(L95:L123,AI35)","v":0},{"$f":"AJ35/(AL4-AJ25)","v":0},{"$f":"IF(AK35=0,0,(AK35*((LOG(AK35))/LOG(2))))","v":0},null,{"$f":"N35","v":22211},{"$f":"COUNTIF(L124:L152,AN35)","v":1},{"$f":"AO35/(AQ4-AO25)","v":3.4482758620689655E-2},{"$f":"IF(AP35=0,0,(AP35*((LOG(AP35))/LOG(2))))","v":-0.16751658603888178},null,{"$f":"N35","v":22211},{"$f":"COUNTIF(L153:L181,AS35)","v":0},{"$f":"AT35/(AV4-AT25)","v":0},{"$f":"IF(AU35=0,0,(AU35*((LOG(AU35))/LOG(2))))","v":0}]
[21,4245,11,4254,22,4281,23,4298,24,4307,0,21222,null,22212,{"$f":"COUNTIF($L$7:$L$500,N36)","v":1},{"$f":"O36/$Q$4","v":5.7142857142857143E-3},{"$f":"IF(P36=0,0,(P36*((LOG(P36))/LOG(2))))","v":-4.2578349210470448E-2},null,null,{"$f":"N36","v":22212},{"$f":"COUNTIF(L7:L35,T36)","v":1},{"$f":"U36/(W4-U25)","v":3.4482758620689655E-2},{"$f":"IF(V36=0,0,(V36*((LOG(V36))/LOG(2))))","v":-0.16751658603888178},null,{"$f":"N36","v":22212},{"$f":"COUNTIF(L36:L64,Y36)","v":0},{"$f":"Z36/(AB4-Z25)","v":0},{"$f":"IF(AA36=0,0,(AA36*((LOG(AA36))/LOG(2))))","v":0},null,{"$f":"N36","v":22212},{"$f":"COUNTIF(L65:L94,AD36)","v":0},{"$f":"AE36/(AG4-AE25)","v":0},{"$f":"IF(AF36=0,0,(AF36*((LOG(AF36))/LOG(2))))","v":0},null,{"$f":"N36","v":22212},{"$f":"COUNTIF(L95:L123,AI36)","v":0},{"$f":"AJ36/(AL4-AJ25)","v":0},{"$f":"IF(AK36=0,0,(AK36*((LOG(AK36))/LOG(2))))","v":0},null,{"$f":"N36","v":22212},{"$f":"COUNTIF(L124:L152,AN36)","v":0},{"$f":"AO36/(AQ4-AO25)","v":0},{"$f":"IF(AP36=0,0,(AP36*((LOG(AP36))/LOG(2))))","v":0},null,{"$f":"N36","v":22212},{"$f":"COUNTIF(L153:L181,AS36)","v":0},{"$f":"AT36/(AV4-AT25)","v":0},{"$f":"IF(AU36=0,0,(AU36*((LOG(AU36))/LOG(2))))","v":0}]
[12,4409,24,4420,24,4426,14,4436,13,4440,1,12211,null,22221,{"$f":"COUNTIF($L$7:$L$500,N37)","v":3},{"$f":"O37/$Q$4","v":1.7142857142857144E-2},{"$f":"IF(P37=0,0,(P37*((LOG(P37))/LOG(2))))","v":-0.10056426190476297},null,null,{"$f":"N37","v":22221},{"$f":"COUNTIF(L7:L35,T37)","v":2},{"$f":"U37/(W4-U25)","v":6.8965517241379309E-2},{"$f":"IF(V37=0,0,(V37*((LOG(V37))/LOG(2))))","v":-0.26606765483638428},null,{"$f":"N37","v":22221},{"$f":"COUNTIF(L36:L64,Y37)","v":0},{"$f":"Z37/(AB4-Z25)","v":0},{"$f":"IF(AA37=0,0,(AA37*((LOG(AA37))/LOG(2))))","v":0},null,{"$f":"N37","v":22221},{"$f":"COUNTIF(L65:L94,AD37)","v":0},{"$f":"AE37/(AG4-AE25)","v":0},{"$f":"IF(AF37=0,0,(AF37*((LOG(AF37))/LOG(2))))","v":0},null,{"$f":"N37","v":22221},{"$f":"COUNTIF(L95:L123,AI37)","v":0},{"$f":"AJ37/(AL4-AJ25)","v":0},{"$f":"IF(AK37=0,0,(AK37*((LOG(AK37))/LOG(2))))","v":0},null,{"$f":"N37","v":22221},{"$f":"COUNTIF(L124:L152,AN37)","v":1},{"$f":"AO37/(AQ4-AO25)","v":3.4482758620689655E-2},{"$f":"IF(AP37=0,0,(AP37*((LOG(AP37))/LOG(2))))","v":-0.16751658603888178},null,{"$f":"N37","v":22221},{"$f":"COUNTIF(L153:L181,AS37)","v":0},{"$f":"AT37/(AV4-AT25)","v":0},{"$f":"IF(AU37=0,0,(AU37*((LOG(AU37))/LOG(2))))","v":0}]
[21,4534,11,4549,11,4571,12,4578,13,4588,0,21111,null,22222,{"$f":"COUNTIF($L$7:$L$500,N38)","v":1},{"$f":"O38/$Q$4","v":5.7142857142857143E-3},{"$f":"IF(P38=0,0,(P38*((LOG(P38))/LOG(2))))","v":-4.2578349210470448E-2},null,null,{"$f":"N38","v":22222},{"$f":"COUNTIF(L7:L35,T38)","v":1},{"$f":"U38/(W4-U25)","v":3.4482758620689655E-2},{"$f":"IF(V38=0,0,(V38*((LOG(V38))/LOG(2))))","v":-0.16751658603888178},null,{"$f":"N38","v":22222},{"$f":"COUNTIF(L36:L64,Y38)","v":0},{"$f":"Z38/(AB4-Z25)","v":0},{"$f":"IF(AA38=0,0,(AA38*((LOG(AA38))/LOG(2))))","v":0},null,{"$f":"N38","v":22222},{"$f":"COUNTIF(L65:L94,AD38)","v":0},{"$f":"AE38/(AG4-AE25)","v":0},{"$f":"IF(AF38=0,0,(AF38*((LOG(AF38))/LOG(2))))","v":0},null,{"$f":"N38","v":22222},{"$f":"COUNTIF(L95:L123,AI38)","v":0},{"$f":"AJ38/(AL4-AJ25)","v":0},{"$f":"IF(AK38=0,0,(AK38*((LOG(AK38))/LOG(2))))","v":0},null,{"$f":"N38","v":22222},{"$f":"COUNTIF(L124:L152,AN38)","v":0},{"$f":"AO38/(AQ4-AO25)","v":0},{"$f":"IF(AP38=0,0,(AP38*((LOG(AP38))/LOG(2))))","v":0},null,{"$f":"N38","v":22222},{"$f":"COUNTIF(L153:L181,AS38)","v":0},{"$f":"AT38/(AV4-AT25)","v":0},{"$f":"IF(AU38=0,0,(AU38*((LOG(AU38))/LOG(2))))","v":0}]
[12,4696,24,4704,13,4720,14,4727,13,4740,0,12111,null,null,null,{"$f":"SUM(P7:P38)","v":1},{"$f":"-SUM(Q7:Q38)","v":3.1696208634825243},null,null,null,null,{"$f":"SUM(V7:V38)","v":0.99999999999999978},{"$f":"-SUM(W7:W38)","v":3.5293835808868548},null,null,null,{"$f":"SUM(AA7:AA38)","v":1},{"$f":"-SUM(AB7:AB38)","v":3.1038166708766468},null,null,null,{"$f":"SUM(AF7:AF38)","v":1},{"$f":"-SUM(AG7:AG38)","v":2.4137576782928112},null,null,null,{"$f":"SUM(AK7:AK38)","v":0.99999999999999989},{"$f":"-SUM(AL7:AL38)","v":1.5105620043679719},null,null,null,{"$f":"SUM(AP7:AP38)","v":0.99999999999999989},{"$f":"-SUM(AQ7:AQ38)","v":3.0348511536352674},null,null,null,{"$f":"SUM(AU7:AU38)","v":0.99999999999999989},{"$f":"-SUM(AV7:AV38)","v":2.3950181687406564}]
[21,4840,11,4848,22,4855,23,4863,13,4872,0,21221,null,null,null,"U=",{"$f":"Q39/(LOG(Q4)/LOG(2))","v":0.42538331231137028},null,null,null,null,"U1=",{"$f":"W39/(LOG(W4)/LOG(2))","v":0.72651243066342464},null,null,null,"U2=",{"$f":"AB39/(LOG(AB4)/LOG(2))","v":0.63891083023784856},null,null,null,"U3=",{"$f":"AG39/(LOG(AG4)/LOG(2))","v":0.49191185971275431},null,null,null,"U4=",{"$f":"AL39/(LOG(AL4)/LOG(2))","v":0.310944403834232},null,null,null,"U5=",{"$f":"AQ39/(LOG(AQ4)/LOG(2))","v":0.62471449696471515},null,null,null,"U6=",{"$f":"AV39/(LOG(AV4)/LOG(2))","v":0.49300690372045447}]
[12,4981,24,4989,13,5006,14,5013,13,5030,0,12111]
[12,5136,24,5144,13,5155,14,5159,24,5172,0,12112]
[21,5280,11,5289,22,5296,14,5308,13,5313,0,21211,null,"Total Target Seq"]
[12,5415,24,5423,13,5433,23,5441,13,5451,0,12121,null,{"$f":"COUNTIF(L7:L181,G3)","v":0},null,29,29,30,29,29,29]
[21,5551,11,5557,22,5564,14,5578,13,5583,0,21211,null,null,null,"% of reinforcement given in 6 equal intervals based on number of trials "]
[12,5687,24,5694,13,5702,14,5718,13,5725,0,12111,null,null,null,"%_1","%_2","%_3","%_4","%_5","%_6"]
[21,5826,11,5839,22,5847,14,5864,13,5872,1,21211,null,null,"target sequence",{"$f":"$G$3","v":21121},{"$f":"$G$3","v":21121},{"$f":"$G$3","v":21121},{"$f":"$G$3","v":21121},{"$f":"$G$3","v":21121},{"$f":"$G$3","v":21121}]
[21,5965,22,5970,13,5986,14,5990,13,5997,0,22111,null,null,"total reinforcement",{"$f":"U25","v":0},{"$f":"Z25","v":0},{"$f":"AE25","v":0},{"$f":"AJ25","v":0},{"$f":"AO25","v":0},{"$f":"AT25","v":0}]
[12,6098,24,6106,13,6117,23,6124,13,6135,0,12121,null,null,"% target"]
[21,6253,22,6267,24,6277,14,6287,13,6295,0,22211,null,null,"CCRF"]
[12,6402,24,6414,13,6425,14,6428,13,6436,0,12111,null,null,"% CCRf"]
[21,6539,11,6548,11,6555,12,6559,13,6565,0,21111,null,null,"average response rate",{"$f":"J35/P44","v":142.9655172413793},{"$f":"(J64-J35)/Q44","v":141.17241379310346},{"$f":"(J94-J64)/R44","v":138},{"$f":"(J123-J94)/S44","v":128.10344827586206},{"$f":"(J152-J123)/T44","v":136.10344827586206},{"$f":"(J181-J152)/U44","v":136.0344827586207}]
[12,6666,24,6674,24,6681,14,6688,13,6695,0,12211]
[21,6794,11,6802,22,6810,14,6820,13,6825,0,21211]
[21,6933,22,6947,13,6955,14,6962,13,6989,0,22111]
[12,7096,24,7104,24,7111,14,7118,13,7123,0,12211]
[12,7229,13,7245,13,7250,14,7256,13,7266,0,11111]
[12,7372,24,7380,24,7391,14,7399,13,7403,1,12211]
[21,7508,11,7518,22,7526,14,7551,13,7555,0,21211]
[21,7661,11,7668,22,7677,14,7705,13,7709,0,21211]
[12,7812,24,7819,13,7828,14,7832,13,7849,0,12111]
[21,7949,11,7959,22,7967,14,7979,13,7984,0,21211]
[12,8086,24,8093,24,8109,14,8116,13,8120,0,12211]
[12,8223,13,8227,13,8231,14,8236,13,8240,0,11111]
[12,8342,24,8349,13,8361,14,8365,13,8372,0,12111]
[12,8478,13,8495,13,8499,14,8504,13,8515,1,11111]
[21,8628,22,8633,13,8642,14,8669,13,8682,1,22111]
[12,8791,24,8798,13,8808,14,8812,13,8828,1,12111]
[21,8925,22,8930,24,8942,14,8957,13,8961,1,22211]
[12,9054,24,9076,13,9086,14,9090,13,9094,0,12111]
[12,9195,24,9209,24,9216,14,9224,13,9228,0,12211]
[12,9328,24,9340,24,9347,14,9354,13,9359,0,12211]
[12,9462,13,9477,13,9484,14,9491,13,9503,1,11111]
[21,9598,22,9606,24,9623,14,9633,13,9638,0,22211]
[21,9737,11,9746,22,9753,23,9767,13,9774,1,21221]
[21,9878,11,9892,11,9896,12,9916,13,9922,0,21111]
[12,10024,13,10030,13,10034,14,10038,13,10046,0,11111]
[12,10147,24,10154,13,10165,14,10168,13,10175,0,12111]
[12,10279,13,10287,13,10291,14,10295,13,10302,1,11111]
[12,10452,13,10460,13,10480,14,10493,13,10500,0,11111]
[21,10601,11,10618,11,10623,12,10631,13,10638,0,21111]
[12,10741,13,10746,13,10750,14,10759,13,10765,0,11111]
[12,10869,24,10877,13,10885,14,10889,13,10897,0,12111]
[12,11010,24,11018,13,11026,14,11031,13,11040,1,12111]
[21,11134,22,11148,13,11155,14,11163,13,11171,0,22111]
[12,11279,13,11289,13,11293,14,11298,13,11304,0,11111]
[12,11407,13,11411,13,11416,14,11423,13,11430,0,11111]
[12,11529,13,11532,13,11540,14,11544,13,11550,0,11111]
[12,11666,13,11673,13,11677,14,11685,13,11695,0,11111]
[21,11818,22,11826,13,11833,14,11838,13,11856,1,22111]
[21,11956,22,11961,24,11972,14,11989,13,11993,0,22211]
[21,12095,11,12104,11,12112,12,12116,13,12126,0,21111]
[12,12228,13,12237,13,12241,14,12245,13,12252,0,11111]
[12,12353,13,12356,13,12364,14,12368,13,12380,0,11111]
[12,12478,13,12482,13,12486,14,12490,13,12497,0,11111]
[12,12597,13,12602,13,12609,14,12612,13,12617,1,11111]
[21,12715,22,12726,13,12733,14,12740,13,12747,0,22111]
[12,12848,13,12852,13,12855,14,12859,13,12865,0,11111]
[12,12970,13,12979,13,12982,14,12990,13,12998,0,11111]
[21,13100,11,13116,11,13121,12,13125,13,13132,0,21111]
[12,13239,13,13243,13,13247,14,13251,13,13258,0,11111]
[12,13363,13,13372,13,13375,14,13382,13,13389,0,11111]
[12,13489,13,13498,13,13501,14,13508,13,13514,1,11111]
[21,13618,11,13629,11,13637,12,13644,13,13660,0,21111]
[12,13766,13,13770,13,13774,14,13778,13,13784,0,11111]
[12,13888,13,13898,13,13906,14,13913,13,13920,0,11111]
[21,14028,11,14035,11,14044,12,14056,13,14066,1,21111]
[12,14170,13,14177,24,14185,14,14193,13,14197,0,11211]
[12,14300,13,14304,13,14308,14,14315,13,14320,0,11111]
[21,14427,22,14435,13,14442,14,14448,13,14452,0,22111]
[12,14556,13,14561,13,14565,14,14573,13,14579,0,11111]
[12,14682,13,14687,13,14691,14,14701,13,14707,1,11111]
[21,14799,22,14804,13,14821,14,14825,13,14830,0,22111]
[12,14934,13,14938,13,14942,14,14946,13,14950,0,11111]
[12,15051,13,15055,13,15059,14,15062,13,15067,0,11111]
[12,15168,13,15186,13,15190,14,15195,13,15202,0,11111]
[12,15305,13,15309,13,15313,14,15316,13,15321,0,11111]
[12,15421,13,15431,13,15434,14,15440,13,15448,0,11111]
[12,15550,13,15554,13,15559,14,15563,13,15570,0,11111]
[12,15670,24,15686,24,15692,14,15699,13,15703,1,12211]
[21,15801,22,15811,13,15818,14,15824,13,15830,1,22111]
[21,15928,22,15934,13,15955,14,15959,13,15967,0,22111]
[12,16070,13,16081,13,16084,14,16088,13,16095,0,11111]
[12,16199,13,16204,24,16216,14,16223,13,16227,0,11211]
[12,16329,13,16333,13,16337,14,16342,13,16350,0,11111]
[12,16452,13,16457,13,16471,14,16475,13,16483,1,11111]
[21,16611,22,16620,13,16629,14,16634,13,16640,0,22111]
[12,16743,13,16747,13,16751,14,16755,13,16761,0,11111]
[21,16873,22,16880,13,16887,14,16891,13,16898,0,22111]
[12,17001,24,17012,13,17020,14,17024,13,17031,1,12111]
[21,17146,11,17155,11,17173,12,17179,13,17190,0,21111]
[12,17293,24,17305,24,17312,14,17319,13,17323,1,12211]
[21,17427,11,17446,11,17450,12,17457,13,17467,0,21111]
[12,17573,13,17577,13,17582,14,17586,13,17592,0,11111]
[21,17694,11,17704,11,17707,12,17712,13,17717,0,21111]
[21,17821,11,17835,11,17839,12,17844,13,17853,0,21111]
[21,17960,22,17968,24,17975,23,17993,13,18001,0,22221]
[12,18104,13,18108,13,18112,14,18116,13,18120,1,11111]
[21,18216,22,18236,13,18247,14,18252,13,18262,0,22111]
[21,18360,22,18367,13,18375,14,18379,13,18383,0,22111]
[21,18483,22,18490,24,18498,14,18505,13,18510,0,22211]
[12,18610,13,18614,13,18618,14,18621,13,18628,0,11111]
[12,18734,24,18746,24,18753,23,18760,13,18770,0,12221]
[12,18871,13,18875,13,18886,14,18894,13,18900,0,11111]
[21,19000,22,19007,13,19014,14,19021,13,19025,1,22111]
[21,19121,22,19126,13,19138,23,19146,13,19162,0,22121]
[12,19263,24,19277,13,19284,14,19288,13,19293,0,12111]
[12,19393,24,19402,13,19414,14,19418,13,19426,0,12111]
[12,19530,24,19537,13,19558,14,19566,13,19581,1,12111]
[21,19732,11,19742,11,19758,12,19764,13,19774,0,21111]
[21,19874,11,19884,22,19891,14,19903,13,19907,0,21211]
[21,20010,11,20019,22,20027,14,20036,13,20042,0,21211]
[21,20143,11,20151,22,20163,23,20171,24,20178,0,21222]
[12,20280,13,20285,13,20289,14,20294,13,20300,0,11111]
[12,20403,24,20411,24,20423,23,20430,13,20439,0,12221]
[12,20548,24,20556,13,20569,14,20573,13,20582,1,12111]
[12,20712,13,20716,13,20725,14,20743,13,20750,0,11111]
[12,20854,24,20861,13,20869,14,20873,13,20882,0,12111]
[12,20982,13,20994,13,21003,14,21008,13,21014,1,11111]
[21,21109,22,21118,13,21127,14,21135,13,21141,0,22111]
[12,21246,13,21253,13,21265,14,21269,13,21276,0,11111]
[21,21386,22,21395,13,21407,14,21413,13,21422,0,22111]
[12,21525,13,21529,13,21532,14,21537,13,21545,0,11111]
[12,21647,13,21651,13,21670,14,21674,13,21681,0,11111]
[21,21782,11,21791,22,21799,14,21809,13,21813,1,21211]
[21,21908,11,21926,11,21931,12,21937,13,21945,0,21111]
[12,22052,24,22063,24,22070,14,22081,13,22085,0,12211]
[12,22188,24,22196,13,22206,14,22210,13,22218,1,12111]
[21,22319,22,22341,13,22352,14,22361,13,22372,0,22111]
[12,22474,13,22478,13,22486,14,22490,13,22499,0,11111]
[12,22612,24,22620,13,22630,14,22641,13,22661,0,12111]
[12,22767,13,22771,13,22775,14,22780,13,22790,0,11111]
[12,22892,24,22904,13,22916,14,22920,13,22927,1,12111]
[12,23022,24,23032,13,23050,14,23054,13,23058,0,12111]
[12,23162,13,23171,13,23175,14,23179,13,23186,0,11111]
[12,23289,13,23301,13,23305,14,23309,13,23315,0,11111]
[12,23417,24,23444,24,23451,14,23460,13,23466,0,12211]
[12,23568,24,23576,13,23584,14,23588,13,23596,0,12111]
[12,23700,13,23704,13,23708,14,23713,13,23720,0,11111]
[12,23822,13,23832,13,23836,14,23845,13,23851,0,11111]
[21,23953,11,23962,22,23969,14,23983,13,23987,null,21211]

{"sheet":"!N408B00.096","index":14,"n_rows":186,"n_cols":48,"rows_kept":186,"cut":false,"hidden":false,"merged":[[4,39,4,42],[5,39,5,40],[4,44,4,47],[5,44,5,45],[4,24,4,27],[5,24,5,25],[4,29,4,32],[5,29,5,30],[4,34,4,37],[5,34,5,35],[1,1,1,2],[5,13,5,14],[42,13,42,14],[43,13,43,14],[4,19,4,22],[5,19,5,20]]}
["Report for:!N408B00.096"]
["Date:","<date>"]
["Hen:","<hen>",null,null,null,"Correct Sequence",{"$f":"Start!J2","v":21121},null,null,null,null,null,null,null,null,"Total Sequences in Data",{"$f":"4994-COUNTBLANK(L7:L5000)","v":180},null,null,null,null,"Total Sequences in Block Data",{"$f":"COUNTA(L7:L36)","v":30},null,null,null,"Total Sequences in Block Data",{"$f":"COUNTA(L37:L66)","v":30},null,null,null,"Total Sequences in Block Data",{"$f":"COUNTA(L67:L96)","v":30},null,null,null,"Total Sequences in Block Data",{"$f":"COUNTA(L97:L126)","v":30},null,null,null,"Total Sequences in Block Data",{"$f":"COUNTA(L127:L156)","v":30},null,null,null,"Total Sequences in Block Data",{"$f":"COUNTA(L157:L186)","v":30}]
[null,null,null,null,null,null,null,null,null,null,null,null,null,null,null,"Total Sequences in Summary",{"$f":"SUM(O7:O38)","v":180},null,null,null,null,"Total Sequences in Block Summary",{"$f":"SUM(U7:U38)","v":30},null,null,null,"Total Sequences in Block Summary",{"$f":"SUM(Z7:Z38)","v":30},null,null,null,"Total Sequences in Block Summary",{"$f":"SUM(AE7:AE38)","v":30},null,null,null,"Total Sequences in Block Summary",{"$f":"SUM(AJ7:AJ38)","v":30},null,null,null,"Total Sequences in Block Summary",{"$f":"SUM(AO7:AO38)","v":30},null,null,null,"Total Sequences in Block Summary",{"$f":"SUM(AT7:AT38)","v":30}]
[null,null,null,null,null,null,null,null,null,null,null,null,null,null,null,null,null,null,null,"Block 1",null,null,null,null,"Block 2",null,null,null,null,"Block 3",null,null,null,null,"Block 4",null,null,null,null,"Block 5",null,null,null,null,"Block 6"]
["Sequence\nComponent\n1","Time\n1","Sequence\nComponent\n2","Time\n2","Sequence\nComponent\n3","Time\n3","Sequence\nComponent\n4","Time\n4","Sequence\nComponent\n5","Time\n5","Correct?\n0=No 1=Yes","Sequence",null,"Frequency",null,"Relative Frequency","Variability",null,null,"Frequency",null,"Relative Frequency","Variability",null,"Frequency",null,"Relative Frequency","Variability",null,"Frequency",null,"Relative Frequency","Variability",null,"Frequency",null,"Relative Frequency","Variability",null,"Frequency",null,"Relative Frequency","Variability",null,"Frequency",null,"Relative Frequency","Variability"]
[21,12,22,42,24,48,23,57,13,67,0,22221,null,11111,{"$f":"COUNTIF($L$7:$L$500,N7)","v":58},{"$f":"O7/$Q$4","v":0.32222222222222224},{"$f":"IF(P7=0,0,(P7*((LOG(P7))/LOG(2))))","v":-0.526469899276233},null,null,{"$f":"N7","v":11111},{"$f":"COUNTIF(L7:L36,T7)","v":0},{"$f":"U7/(W4-U25)","v":0},{"$f":"IF(V7=0,0,(V7*((LOG(V7))/LOG(2))))","v":0},null,{"$f":"N7","v":11111},{"$f":"COUNTIF(L37:L66,Y7)","v":5},{"$f":"Z7/(AB4-Z25)","v":0.16666666666666666},{"$f":"IF(AA7=0,0,(AA7*((LOG(AA7))/LOG(2))))","v":-0.43082708345352599},null,{"$f":"N7","v":11111},{"$f":"COUNTIF(L67:L96,AD7)","v":16},{"$f":"AE7/(AG4-AE25)","v":0.53333333333333333},{"$f":"IF(AF7=0,0,(AF7*((LOG(AF7))/LOG(2))))","v":-0.4836749843245432},null,{"$f":"N7","v":11111},{"$f":"COUNTIF(L97:L126,AI7)","v":11},{"$f":"AJ7/(AL4-AJ25)","v":0.36666666666666664},{"$f":"IF(AK7=0,0,(AK7*((LOG(AK7))/LOG(2))))","v":-0.53073495822278116},null,{"$f":"N7","v":11111},{"$f":"COUNTIF(L127:L156,AN7)","v":12},{"$f":"AO7/(AQ4-AO25)","v":0.4},{"$f":"IF(AP7=0,0,(AP7*((LOG(AP7))/LOG(2))))","v":-0.52877123795494496},null,{"$f":"N7","v":11111},{"$f":"COUNTIF(L157:L186,AS7)","v":14},{"$f":"AT7/(AV4-AT25)","v":0.46666666666666667},{"$f":"IF(AU7=0,0,(AU7*((LOG(AU7))/LOG(2))))","v":-0.51311664765709342}]
[21,167,22,178,24,196,14,210,13,217,0,22211,null,11112,{"$f":"COUNTIF($L$7:$L$500,N8)","v":1},{"$f":"O8/$Q$4","v":5.5555555555555558E-3},{"$f":"IF(P8=0,0,(P8*((LOG(P8))/LOG(2))))","v":-4.1621406090720417E-2},null,null,{"$f":"N8","v":11112},{"$f":"COUNTIF(L7:L36,T8)","v":0},{"$f":"U8/(W4-U25)","v":0},{"$f":"IF(V8=0,0,(V8*((LOG(V8))/LOG(2))))","v":0},null,{"$f":"N8","v":11112},{"$f":"COUNTIF(L37:L66,Y8)","v":0},{"$f":"Z8/(AB4-Z25)","v":0},{"$f":"IF(AA8=0,0,(AA8*((LOG(AA8))/LOG(2))))","v":0},null,{"$f":"N8","v":11112},{"$f":"COUNTIF(L67:L96,AD8)","v":0},{"$f":"AE8/(AG4-AE25)","v":0},{"$f":"IF(AF8=0,0,(AF8*((LOG(AF8))/LOG(2))))","v":0},null,{"$f":"N8","v":11112},{"$f":"COUNTIF(L97:L126,AI8)","v":0},{"$f":"AJ8/(AL4-AJ25)","v":0},{"$f":"IF(AK8=0,0,(AK8*((LOG(AK8))/LOG(2))))","v":0},null,{"$f":"N8","v":11112},{"$f":"COUNTIF(L127:L156,AN8)","v":1},{"$f":"AO8/(AQ4-AO25)","v":3.3333333333333333E-2},{"$f":"IF(AP8=0,0,(AP8*((LOG(AP8))/LOG(2))))","v":-0.16356301985361729},null,{"$f":"N8","v":11112},{"$f":"COUNTIF(L157:L186,AS8)","v":0},{"$f":"AT8/(AV4-AT25)","v":0},{"$f":"IF(AU8=0,0,(AU8*((LOG(AU8))/LOG(2))))","v":0}]
[21,317,22,323,24,327,14,335,24,344,0,22212,null,11121,{"$f":"COUNTIF($L$7:$L$500,N9)","v":0},{"$f":"O9/$Q$4","v":0},{"$f":"IF(P9=0,0,(P9*((LOG(P9))/LOG(2))))","v":0},null,null,{"$f":"N9","v":11121},{"$f":"COUNTIF(L7:L36,T9)","v":0},{"$f":"U9/(W4-U25)","v":0},{"$f":"IF(V9=0,0,(V9*((LOG(V9))/LOG(2))))","v":0},null,{"$f":"N9","v":11121},{"$f":"COUNTIF(L37:L66,Y9)","v":0},{"$f":"Z9/(AB4-Z25)","v":0},{"$f":"IF(AA9=0,0,(AA9*((LOG(AA9))/LOG(2))))","v":0},null,{"$f":"N9","v":11121},{"$f":"COUNTIF(L67:L96,AD9)","v":0},{"$f":"AE9/(AG4-AE25)","v":0},{"$f":"IF(AF9=0,0,(AF9*((LOG(AF9))/LOG(2))))","v":0},null,{"$f":"N9","v":11121},{"$f":"COUNTIF(L97:L126,AI9)","v":0},{"$f":"AJ9/(AL4-AJ25)","v":0},{"$f":"IF(AK9=0,0,(AK9*((LOG(AK9))/LOG(2))))","v":0},null,{"$f":"N9","v":11121},{"$f":"COUNTIF(L127:L156,AN9)","v":0},{"$f":"AO9/(AQ4-AO25)","v":0},{"$f":"IF(AP9=0,0,(AP9*((LOG(AP9))/LOG(2))))","v":0},null,{"$f":"N9","v":11121},{"$f":"COUNTIF(L157:L186,AS9)","v":0},{"$f":"AT9/(AV4-AT25)","v":0},{"$f":"IF(AU9=0,0,(AU9*((LOG(AU9))/LOG(2))))","v":0}]
[21,446,22,450,24,455,23,473,13,481,0,22221,null,11122,{"$f":"COUNTIF($L$7:$L$500,N10)","v":1},{"$f":"O10/$Q$4","v":5.5555555555555558E-3},{"$f":"IF(P10=0,0,(P10*((LOG(P10))/LOG(2))))","v":-4.1621406090720417E-2},null,null,{"$f":"N10","v":11122},{"$f":"COUNTIF(L7:L36,T10)","v":1},{"$f":"U10/(W4-U25)","v":3.3333333333333333E-2},{"$f":"IF(V10=0,0,(V10*((LOG(V10))/LOG(2))))","v":-0.16356301985361729},null,{"$f":"N10","v":11122},{"$f":"COUNTIF(L37:L66,Y10)","v":0},{"$f":"Z10/(AB4-Z25)","v":0},{"$f":"IF(AA10=0,0,(AA10*((LOG(AA10))/LOG(2))))","v":0},null,{"$f":"N10","v":11122},{"$f":"COUNTIF(L67:L96,AD10)","v":0},{"$f":"AE10/(AG4-AE25)","v":0},{"$f":"IF(AF10=0,0,(AF10*((LOG(AF10))/LOG(2))))","v":0},null,{"$f":"N10","v":11122},{"$f":"COUNTIF(L97:L126,AI10)","v":0},{"$f":"AJ10/(AL4-AJ25)","v":0},{"$f":"IF(AK10=0,0,(AK10*((LOG(AK10))/LOG(2))))","v":0},null,{"$f":"N10","v":11122},{"$f":"COUNTIF(L127:L156,AN10)","v":0},{"$f":"AO10/(AQ4-AO25)","v":0},{"$f":"IF(AP10=0,0,(AP10*((LOG(AP10))/LOG(2))))","v":0},null,{"$f":"N10","v":11122},{"$f":"COUNTIF(L157:L186,AS10)","v":0},{"$f":"AT10/(AV4-AT25)","v":0},{"$f":"IF(AU10=0,0,(AU10*((LOG(AU10))/LOG(2))))","v":0}]
[12,586,13,596,13,600,23,614,24,625,0,11122,null,11211,{"$f":"COUNTIF($L$7:$L$500,N11)","v":2},{"$f":"O11/$Q$4","v":1.1111111111111112E-2},{"$f":"IF(P11=0,0,(P11*((LOG(P11))/LOG(2))))","v":-7.2131701070329707E-2},null,null,{"$f":"N11","v":11211},{"$f":"COUNTIF(L7:L36,T11)","v":0},{"$f":"U11/(W4-U25)","v":0},{"$f":"IF(V11=0,0,(V11*((LOG(V11))/LOG(2))))","v":0},null,{"$f":"N11","v":11211},{"$f":"COUNTIF(L37:L66,Y11)","v":0},{"$f":"Z11/(AB4-Z25)","v":0},{"$f":"IF(AA11=0,0,(AA11*((LOG(AA11))/LOG(2))))","v":0},null,{"$f":"N11","v":11211},{"$f":"COUNTIF(L67:L96,AD11)","v":0},{"$f":"AE11/(AG4-AE25)","v":0},{"$f":"IF(AF11=0,0,(AF11*((LOG(AF11))/LOG(2))))","v":0},null,{"$f":"N11","v":11211},{"$f":"COUNTIF(L97:L126,AI11)","v":2},{"$f":"AJ11/(AL4-AJ25)","v":6.6666666666666666E-2},{"$f":"IF(AK11=0,0,(AK11*((LOG(AK11))/LOG(2))))","v":-0.26045937304056793},null,{"$f":"N11","v":11211},{"$f":"COUNTIF(L127:L156,AN11)","v":0},{"$f":"AO11/(AQ4-AO25)","v":0},{"$f":"IF(AP11=0,0,(AP11*((LOG(AP11))/LOG(2))))","v":0},null,{"$f":"N11","v":11211},{"$f":"COUNTIF(L157:L186,AS11)","v":0},{"$f":"AT11/(AV4-AT25)","v":0},{"$f":"IF(AU11=0,0,(AU11*((LOG(AU11))/LOG(2))))","v":0}]
[12,736,24,748,13,756,14,765,13,777,0,12111,null,11212,{"$f":"COUNTIF($L$7:$L$500,N12)","v":0},{"$f":"O12/$Q$4","v":0},{"$f":"IF(P12=0,0,(P12*((LOG(P12))/LOG(2))))","v":0},null,null,{"$f":"N12","v":11212},{"$f":"COUNTIF(L7:L36,T12)","v":0},{"$f":"U12/(W4-U25)","v":0},{"$f":"IF(V12=0,0,(V12*((LOG(V12))/LOG(2))))","v":0},null,{"$f":"N12","v":11212},{"$f":"COUNTIF(L37:L66,Y12)","v":0},{"$f":"Z12/(AB4-Z25)","v":0},{"$f":"IF(AA12=0,0,(AA12*((LOG(AA12))/LOG(2))))","v":0},null,{"$f":"N12","v":11212},{"$f":"COUNTIF(L67:L96,AD12)","v":0},{"$f":"AE12/(AG4-AE25)","v":0},{"$f":"IF(AF12=0,0,(AF12*((LOG(AF12))/LOG(2))))","v":0},null,{"$f":"N12","v":11212},{"$f":"COUNTIF(L97:L126,AI12)","v":0},{"$f":"AJ12/(AL4-AJ25)","v":0},{"$f":"IF(AK12=0,0,(AK12*((LOG(AK12))/LOG(2))))","v":0},null,{"$f":"N12","v":11212},{"$f":"COUNTIF(L127:L156,AN12)","v":0},{"$f":"AO12/(AQ4-AO25)","v":0},{"$f":"IF(AP12=0,0,(AP12*((LOG(AP12))/LOG(2))))","v":0},null,{"$f":"N12","v":11212},{"$f":"COUNTIF(L157:L186,AS12)","v":0},{"$f":"AT12/(AV4-AT25)","v":0},{"$f":"IF(AU12=0,0,(AU12*((LOG(AU12))/LOG(2))))","v":0}]
[21,879,22,886,13,896,14,903,13,914,0,22111,null,11221,{"$f":"COUNTIF($L$7:$L$500,N13)","v":0},{"$f":"O13/$Q$4","v":0},{"$f":"IF(P13=0,0,(P13*((LOG(P13))/LOG(2))))","v":0},null,null,{"$f":"N13","v":11221},{"$f":"COUNTIF(L7:L36,T13)","v":0},{"$f":"U13/(W4-U25)","v":0},{"$f":"IF(V13=0,0,(V13*((LOG(V13))/LOG(2))))","v":0},null,{"$f":"N13","v":11221},{"$f":"COUNTIF(L37:L66,Y13)","v":0},{"$f":"Z13/(AB4-Z25)","v":0},{"$f":"IF(AA13=0,0,(AA13*((LOG(AA13))/LOG(2))))","v":0},null,{"$f":"N13","v":11221},{"$f":"COUNTIF(L67:L96,AD13)","v":0},{"$f":"AE13/(AG4-AE25)","v":0},{"$f":"IF(AF13=0,0,(AF13*((LOG(AF13))/LOG(2))))","v":0},null,{"$f":"N13","v":11221},{"$f":"COUNTIF(L97:L126,AI13)","v":0},{"$f":"AJ13/(AL4-AJ25)","v":0},{"$f":"IF(AK13=0,0,(AK13*((LOG(AK13))/LOG(2))))","v":0},null,{"$f":"N13","v":11221},{"$f":"COUNTIF(L127:L156,AN13)","v":0},{"$f":"AO13/(AQ4-AO25)","v":0},{"$f":"IF(AP13=0,0,(AP13*((LOG(AP13))/LOG(2))))","v":0},null,{"$f":"N13","v":11221},{"$f":"COUNTIF(L157:L186,AS13)","v":0},{"$f":"AT13/(AV4-AT25)","v":0},{"$f":"IF(AU13=0,0,(AU13*((LOG(AU13))/LOG(2))))","v":0}]
[21,1013,22,1018,24,1022,14,1030,24,1038,0,22212,null,11222,{"$f":"COUNTIF($L$7:$L$500,N14)","v":0},{"$f":"O14/$Q$4","v":0},{"$f":"IF(P14=0,0,(P14*((LOG(P14))/LOG(2))))","v":0},null,null,{"$f":"N14","v":11222},{"$f":"COUNTIF(L7:L36,T14)","v":0},{"$f":"U14/(W4-U25)","v":0},{"$f":"IF(V14=0,0,(V14*((LOG(V14))/LOG(2))))","v":0},null,{"$f":"N14","v":11222},{"$f":"COUNTIF(L37:L66,Y14)","v":0},{"$f":"Z14/(AB4-Z25)","v":0},{"$f":"IF(AA14=0,0,(AA14*((LOG(AA14))/LOG(2))))","v":0},null,{"$f":"N14","v":11222},{"$f":"COUNTIF(L67:L96,AD14)","v":0},{"$f":"AE14/(AG4-AE25)","v":0},{"$f":"IF(AF14=0,0,(AF14*((LOG(AF14))/LOG(2))))","v":0},null,{"$f":"N14","v":11222},{"$f":"COUNTIF(L97:L126,AI14)","v":0},{"$f":"AJ14/(AL4-AJ25)","v":0},{"$f":"IF(AK14=0,0,(AK14*((LOG(AK14))/LOG(2))))","v":0},null,{"$f":"N14","v":11222},{"$f":"COUNTIF(L127:L156,AN14)","v":0},{"$f":"AO14/(AQ4-AO25)","v":0},{"$f":"IF(AP14=0,0,(AP14*((LOG(AP14))/LOG(2))))","v":0},null,{"$f":"N14","v":11222},{"$f":"COUNTIF(L157:L186,AS14)","v":0},{"$f":"AT14/(AV4-AT25)","v":0},{"$f":"IF(AU14=0,0,(AU14*((LOG(AU14))/LOG(2))))","v":0}]
[21,1137,22,1146,13,1155,14,1159,13,1165,0,22111,null,12111,{"$f":"COUNTIF($L$7:$L$500,N15)","v":15},{"$f":"O15/$Q$4","v":8.3333333333333329E-2},{"$f":"IF(P15=0,0,(P15*((LOG(P15))/LOG(2))))","v":-0.29874687506009634},null,null,{"$f":"N15","v":12111},{"$f":"COUNTIF(L7:L36,T15)","v":1},{"$f":"U15/(W4-U25)","v":3.3333333333333333E-2},{"$f":"IF(V15=0,0,(V15*((LOG(V15))/LOG(2))))","v":-0.16356301985361729},null,{"$f":"N15","v":12111},{"$f":"COUNTIF(L37:L66,Y15)","v":2},{"$f":"Z15/(AB4-Z25)","v":6.6666666666666666E-2},{"$f":"IF(AA15=0,0,(AA15*((LOG(AA15))/LOG(2))))","v":-0.26045937304056793},null,{"$f":"N15","v":12111},{"$f":"COUNTIF(L67:L96,AD15)","v":3},{"$f":"AE15/(AG4-AE25)","v":0.1},{"$f":"IF(AF15=0,0,(AF15*((LOG(AF15))/LOG(2))))","v":-0.33219280948873625},null,{"$f":"N15","v":12111},{"$f":"COUNTIF(L97:L126,AI15)","v":5},{"$f":"AJ15/(AL4-AJ25)","v":0.16666666666666666},{"$f":"IF(AK15=0,0,(AK15*((LOG(AK15))/LOG(2))))","v":-0.43082708345352599},null,{"$f":"N15","v":12111},{"$f":"COUNTIF(L127:L156,AN15)","v":2},{"$f":"AO15/(AQ4-AO25)","v":6.6666666666666666E-2},{"$f":"IF(AP15=0,0,(AP15*((LOG(AP15))/LOG(2))))","v":-0.26045937304056793},null,{"$f":"N15","v":12111},{"$f":"COUNTIF(L157:L186,AS15)","v":2},{"$f":"AT15/(AV4-AT25)","v":6.6666666666666666E-2},{"$f":"IF(AU15=0,0,(AU15*((LOG(AU15))/LOG(2))))","v":-0.26045937304056793}]
[21,1266,22,1273,24,1277,14,1287,13,1292,0,22211,null,12112,{"$f":"COUNTIF($L$7:$L$500,N16)","v":0},{"$f":"O16/$Q$4","v":0},{"$f":"IF(P16=0,0,(P16*((LOG(P16))/LOG(2))))","v":0},null,null,{"$f":"N16","v":12112},{"$f":"COUNTIF(L7:L36,T16)","v":0},{"$f":"U16/(W4-U25)","v":0},{"$f":"IF(V16=0,0,(V16*((LOG(V16))/LOG(2))))","v":0},null,{"$f":"N16","v":12112},{"$f":"COUNTIF(L37:L66,Y16)","v":0},{"$f":"Z16/(AB4-Z25)","v":0},{"$f":"IF(AA16=0,0,(AA16*((LOG(AA16))/LOG(2))))","v":0},null,{"$f":"N16","v":12112},{"$f":"COUNTIF(L67:L96,AD16)","v":0},{"$f":"AE16/(AG4-AE25)","v":0},{"$f":"IF(AF16=0,0,(AF16*((LOG(AF16))/LOG(2))))","v":0},null,{"$f":"N16","v":12112},{"$f":"COUNTIF(L97:L126,AI16)","v":0},{"$f":"AJ16/(AL4-AJ25)","v":0},{"$f":"IF(AK16=0,0,(AK16*((LOG(AK16))/LOG(2))))","v":0},null,{"$f":"N16","v":12112},{"$f":"COUNTIF(L127:L156,AN16)","v":0},{"$f":"AO16/(AQ4-AO25)","v":0},{"$f":"IF(AP16=0,0,(AP16*((LOG(AP16))/LOG(2))))","v":0},null,{"$f":"N16","v":12112},{"$f":"COUNTIF(L157:L186,AS16)","v":0},{"$f":"AT16/(AV4-AT25)","v":0},{"$f":"IF(AU16=0,0,(AU16*((LOG(AU16))/LOG(2))))","v":0}]
[21,1395,22,1399,13,1410,14,1414,13,1422,1,22111,null,12121,{"$f":"COUNTIF($L$7:$L$500,N17)","v":0},{"$f":"O17/$Q$4","v":0},{"$f":"IF(P17=0,0,(P17*((LOG(P17))/LOG(2))))","v":0},null,null,{"$f":"N17","v":12121},{"$f":"COUNTIF(L7:L36,T17)","v":0},{"$f":"U17/(W4-U25)","v":0},{"$f":"IF(V17=0,0,(V17*((LOG(V17))/LOG(2))))","v":0},null,{"$f":"N17","v":12121},{"$f":"COUNTIF(L37:L66,Y17)","v":0},{"$f":"Z17/(AB4-Z25)","v":0},{"$f":"IF(AA17=0,0,(AA17*((LOG(AA17))/LOG(2))))","v":0},null,{"$f":"N17","v":12121},{"$f":"COUNTIF(L67:L96,AD17)","v":0},{"$f":"AE17/(AG4-AE25)","v":0},{"$f":"IF(AF17=0,0,(AF17*((LOG(AF17))/LOG(2))))","v":0},null,{"$f":"N17","v":12121},{"$f":"COUNTIF(L97:L126,AI17)","v":0},{"$f":"AJ17/(AL4-AJ25)","v":0},{"$f":"IF(AK17=0,0,(AK17*((LOG(AK17))/LOG(2))))","v":0},null,{"$f":"N17","v":12121},{"$f":"COUNTIF(L127:L156,AN17)","v":0},{"$f":"AO17/(AQ4-AO25)","v":0},{"$f":"IF(AP17=0,0,(AP17*((LOG(AP17))/LOG(2))))","v":0},null,{"$f":"N17","v":12121},{"$f":"COUNTIF(L157:L186,AS17)","v":0},{"$f":"AT17/(AV4-AT25)","v":0},{"$f":"IF(AU17=0,0,(AU17*((LOG(AU17))/LOG(2))))","v":0}]
[21,1530,11,1551,11,1555,12,1559,13,1587,1,21111,null,12122,{"$f":"COUNTIF($L$7:$L$500,N18)","v":0},{"$f":"O18/$Q$4","v":0},{"$f":"IF(P18=0,0,(P18*((LOG(P18))/LOG(2))))","v":0},null,null,{"$f":"N18","v":12122},{"$f":"COUNTIF(L7:L36,T18)","v":0},{"$f":"U18/(W4-U25)","v":0},{"$f":"IF(V18=0,0,(V18*((LOG(V18))/LOG(2))))","v":0},null,{"$f":"N18","v":12122},{"$f":"COUNTIF(L37:L66,Y18)","v":0},{"$f":"Z18/(AB4-Z25)","v":0},{"$f":"IF(AA18=0,0,(AA18*((LOG(AA18))/LOG(2))))","v":0},null,{"$f":"N18","v":12122},{"$f":"COUNTIF(L67:L96,AD18)","v":0},{"$f":"AE18/(AG4-AE25)","v":0},{"$f":"IF(AF18=0,0,(AF18*((LOG(AF18))/LOG(2))))","v":0},null,{"$f":"N18","v":12122},{"$f":"COUNTIF(L97:L126,AI18)","v":0},{"$f":"AJ18/(AL4-AJ25)","v":0},{"$f":"IF(AK18=0,0,(AK18*((LOG(AK18))/LOG(2))))","v":0},null,{"$f":"N18","v":12122},{"$f":"COUNTIF(L127:L156,AN18)","v":0},{"$f":"AO18/(AQ4-AO25)","v":0},{"$f":"IF(AP18=0,0,(AP18*((LOG(AP18))/LOG(2))))","v":0},null,{"$f":"N18","v":12122},{"$f":"COUNTIF(L157:L186,AS18)","v":0},{"$f":"AT18/(AV4-AT25)","v":0},{"$f":"IF(AU18=0,0,(AU18*((LOG(AU18))/LOG(2))))","v":0}]
[21,1688,22,1692,13,1709,14,1713,13,1719,1,22111,null,12211,{"$f":"COUNTIF($L$7:$L$500,N19)","v":3},{"$f":"O19/$Q$4","v":1.6666666666666666E-2},{"$f":"IF(P19=0,0,(P19*((LOG(P19))/LOG(2))))","v":-9.8448176593475309E-2},null,null,{"$f":"N19","v":12211},{"$f":"COUNTIF(L7:L36,T19)","v":0},{"$f":"U19/(W4-U25)","v":0},{"$f":"IF(V19=0,0,(V19*((LOG(V19))/LOG(2))))","v":0},null,{"$f":"N19","v":12211},{"$f":"COUNTIF(L37:L66,Y19)","v":1},{"$f":"Z19/(AB4-Z25)","v":3.3333333333333333E-2},{"$f":"IF(AA19=0,0,(AA19*((LOG(AA19))/LOG(2))))","v":-0.16356301985361729},null,{"$f":"N19","v":12211},{"$f":"COUNTIF(L67:L96,AD19)","v":1},{"$f":"AE19/(AG4-AE25)","v":3.3333333333333333E-2},{"$f":"IF(AF19=0,0,(AF19*((LOG(AF19))/LOG(2))))","v":-0.16356301985361729},null,{"$f":"N19","v":12211},{"$f":"COUNTIF(L97:L126,AI19)","v":0},{"$f":"AJ19/(AL4-AJ25)","v":0},{"$f":"IF(AK19=0,0,(AK19*((LOG(AK19))/LOG(2))))","v":0},null,{"$f":"N19","v":12211},{"$f":"COUNTIF(L127:L156,AN19)","v":0},{"$f":"AO19/(AQ4-AO25)","v":0},{"$f":"IF(AP19=0,0,(AP19*((LOG(AP19))/LOG(2))))","v":0},null,{"$f":"N19","v":12211},{"$f":"COUNTIF(L157:L186,AS19)","v":1},{"$f":"AT19/(AV4-AT25)","v":3.3333333333333333E-2},{"$f":"IF(AU19=0,0,(AU19*((LOG(AU19))/LOG(2))))","v":-0.16356301985361729}]
[21,1813,22,1818,24,1827,14,1838,13,1847,0,22211,null,12212,{"$f":"COUNTIF($L$7:$L$500,N20)","v":0},{"$f":"O20/$Q$4","v":0},{"$f":"IF(P20=0,0,(P20*((LOG(P20))/LOG(2))))","v":0},null,null,{"$f":"N20","v":12212},{"$f":"COUNTIF(L7:L36,T20)","v":0},{"$f":"U20/(W4-U25)","v":0},{"$f":"IF(V20=0,0,(V20*((LOG(V20))/LOG(2))))","v":0},null,{"$f":"N20","v":12212},{"$f":"COUNTIF(L37:L66,Y20)","v":0},{"$f":"Z20/(AB4-Z25)","v":0},{"$f":"IF(AA20=0,0,(AA20*((LOG(AA20))/LOG(2))))","v":0},null,{"$f":"N20","v":12212},{"$f":"COUNTIF(L67:L96,AD20)","v":0},{"$f":"AE20/(AG4-AE25)","v":0},{"$f":"IF(AF20=0,0,(AF20*((LOG(AF20))/LOG(2))))","v":0},null,{"$f":"N20","v":12212},{"$f":"COUNTIF(L97:L126,AI20)","v":0},{"$f":"AJ20/(AL4-AJ25)","v":0},{"$f":"IF(AK20=0,0,(AK20*((LOG(AK20))/LOG(2))))","v":0},null,{"$f":"N20","v":12212},{"$f":"COUNTIF(L127:L156,AN20)","v":0},{"$f":"AO20/(AQ4-AO25)","v":0},{"$f":"IF(AP20=0,0,(AP20*((LOG(AP20))/LOG(2))))","v":0},null,{"$f":"N20","v":12212},{"$f":"COUNTIF(L157:L186,AS20)","v":0},{"$f":"AT20/(AV4-AT25)","v":0},{"$f":"IF(AU20=0,0,(AU20*((LOG(AU20))/LOG(2))))","v":0}]
[21,1948,11,1960,11,1964,12,1968,13,1976,0,21111,null,12221,{"$f":"COUNTIF($L$7:$L$500,N21)","v":2},{"$f":"O21/$Q$4","v":1.1111111111111112E-2},{"$f":"IF(P21=0,0,(P21*((LOG(P21))/LOG(2))))","v":-7.2131701070329707E-2},null,null,{"$f":"N21","v":12221},{"$f":"COUNTIF(L7:L36,T21)","v":1},{"$f":"U21/(W4-U25)","v":3.3333333333333333E-2},{"$f":"IF(V21=0,0,(V21*((LOG(V21))/LOG(2))))","v":-0.16356301985361729},null,{"$f":"N21","v":12221},{"$f":"COUNTIF(L37:L66,Y21)","v":1},{"$f":"Z21/(AB4-Z25)","v":3.3333333333333333E-2},{"$f":"IF(AA21=0,0,(AA21*((LOG(AA21))/LOG(2))))","v":-0.16356301985361729},null,{"$f":"N21","v":12221},{"$f":"COUNTIF(L67:L96,AD21)","v":0},{"$f":"AE21/(AG4-AE25)","v":0},{"$f":"IF(AF21=0,0,(AF21*((LOG(AF21))/LOG(2))))","v":0},null,{"$f":"N21","v":12221},{"$f":"COUNTIF(L97:L126,AI21)","v":0},{"$f":"AJ21/(AL4-AJ25)","v":0},{"$f":"IF(AK21=0,0,(AK21*((LOG(AK21))/LOG(2))))","v":0},null,{"$f":"N21","v":12221},{"$f":"COUNTIF(L127:L156,AN21)","v":0},{"$f":"AO21/(AQ4-AO25)","v":0},{"$f":"IF(AP21=0,0,(AP21*((LOG(AP21))/LOG(2))))","v":0},null,{"$f":"N21","v":12221},{"$f":"COUNTIF(L157:L186,AS21)","v":0},{"$f":"AT21/(AV4-AT25)","v":0},{"$f":"IF(AU21=0,0,(AU21*((LOG(AU21))/LOG(2))))","v":0}]
[21,2079,11,2088,22,2096,23,2108,13,2118,1,21221,null,12222,{"$f":"COUNTIF($L$7:$L$500,N22)","v":0},{"$f":"O22/$Q$4","v":0},{"$f":"IF(P22=0,0,(P22*((LOG(P22))/LOG(2))))","v":0},null,null,{"$f":"N22","v":12222},{"$f":"COUNTIF(L7:L36,T22)","v":0},{"$f":"U22/(W4-U25)","v":0},{"$f":"IF(V22=0,0,(V22*((LOG(V22))/LOG(2))))","v":0},null,{"$f":"N22","v":12222},{"$f":"COUNTIF(L37:L66,Y22)","v":0},{"$f":"Z22/(AB4-Z25)","v":0},{"$f":"IF(AA22=0,0,(AA22*((LOG(AA22))/LOG(2))))","v":0},null,{"$f":"N22","v":12222},{"$f":"COUNTIF(L67:L96,AD22)","v":0},{"$f":"AE22/(AG4-AE25)","v":0},{"$f":"IF(AF22=0,0,(AF22*((LOG(AF22))/LOG(2))))","v":0},null,{"$f":"N22","v":12222},{"$f":"COUNTIF(L97:L126,AI22)","v":0},{"$f":"AJ22/(AL4-AJ25)","v":0},{"$f":"IF(AK22=0,0,(AK22*((LOG(AK22))/LOG(2))))","v":0},null,{"$f":"N22","v":12222},{"$f":"COUNTIF(L127:L156,AN22)","v":0},{"$f":"AO22/(AQ4-AO25)","v":0},{"$f":"IF(AP22=0,0,(AP22*((LOG(AP22))/LOG(2))))","v":0},null,{"$f":"N22","v":12222},{"$f":"COUNTIF(L157:L186,AS22)","v":0},{"$f":"AT22/(AV4-AT25)","v":0},{"$f":"IF(AU22=0,0,(AU22*((LOG(AU22))/LOG(2))))","v":0}]
[21,2213,22,2221,13,2237,14,2244,13,2254,0,22111,null,21111,{"$f":"COUNTIF($L$7:$L$500,N23)","v":36},{"$f":"O23/$Q$4","v":0.2},{"$f":"IF(P23=0,0,(P23*((LOG(P23))/LOG(2))))","v":-0.46438561897747244},null,null,{"$f":"N23","v":21111},{"$f":"COUNTIF(L7:L36,T23)","v":4},{"$f":"U23/(W4-U25)","v":0.13333333333333333},{"$f":"IF(V23=0,0,(V23*((LOG(V23))/LOG(2))))","v":-0.3875854127478025},null,{"$f":"N23","v":21111},{"$f":"COUNTIF(L37:L66,Y23)","v":4},{"$f":"Z23/(AB4-Z25)","v":0.13333333333333333},{"$f":"IF(AA23=0,0,(AA23*((LOG(AA23))/LOG(2))))","v":-0.3875854127478025},null,{"$f":"N23","v":21111},{"$f":"COUNTIF(L67:L96,AD23)","v":7},{"$f":"AE23/(AG4-AE25)","v":0.23333333333333334},{"$f":"IF(AF23=0,0,(AF23*((LOG(AF23))/LOG(2))))","v":-0.48989165716187993},null,{"$f":"N23","v":21111},{"$f":"COUNTIF(L97:L126,AI23)","v":7},{"$f":"AJ23/(AL4-AJ25)","v":0.23333333333333334},{"$f":"IF(AK23=0,0,(AK23*((LOG(AK23))/LOG(2))))","v":-0.48989165716187993},null,{"$f":"N23","v":21111},{"$f":"COUNTIF(L127:L156,AN23)","v":7},{"$f":"AO23/(AQ4-AO25)","v":0.23333333333333334},{"$f":"IF(AP23=0,0,(AP23*((LOG(AP23))/LOG(2))))","v":-0.48989165716187993},null,{"$f":"N23","v":21111},{"$f":"COUNTIF(L157:L186,AS23)","v":7},{"$f":"AT23/(AV4-AT25)","v":0.23333333333333334},{"$f":"IF(AU23=0,0,(AU23*((LOG(AU23))/LOG(2))))","v":-0.48989165716187993}]
[21,2354,11,2364,22,2371,23,2376,13,2398,0,21221,null,21112,{"$f":"COUNTIF($L$7:$L$500,N24)","v":1},{"$f":"O24/$Q$4","v":5.5555555555555558E-3},{"$f":"IF(P24=0,0,(P24*((LOG(P24))/LOG(2))))","v":-4.1621406090720417E-2},null,null,{"$f":"N24","v":21112},{"$f":"COUNTIF(L7:L36,T24)","v":0},{"$f":"U24/(W4-U25)","v":0},{"$f":"IF(V24=0,0,(V24*((LOG(V24))/LOG(2))))","v":0},null,{"$f":"N24","v":21112},{"$f":"COUNTIF(L37:L66,Y24)","v":0},{"$f":"Z24/(AB4-Z25)","v":0},{"$f":"IF(AA24=0,0,(AA24*((LOG(AA24))/LOG(2))))","v":0},null,{"$f":"N24","v":21112},{"$f":"COUNTIF(L67:L96,AD24)","v":1},{"$f":"AE24/(AG4-AE25)","v":3.3333333333333333E-2},{"$f":"IF(AF24=0,0,(AF24*((LOG(AF24))/LOG(2))))","v":-0.16356301985361729},null,{"$f":"N24","v":21112},{"$f":"COUNTIF(L97:L126,AI24)","v":0},{"$f":"AJ24/(AL4-AJ25)","v":0},{"$f":"IF(AK24=0,0,(AK24*((LOG(AK24))/LOG(2))))","v":0},null,{"$f":"N24","v":21112},{"$f":"COUNTIF(L127:L156,AN24)","v":0},{"$f":"AO24/(AQ4-AO25)","v":0},{"$f":"IF(AP24=0,0,(AP24*((LOG(AP24))/LOG(2))))","v":0},null,{"$f":"N24","v":21112},{"$f":"COUNTIF(L157:L186,AS24)","v":0},{"$f":"AT24/(AV4-AT25)","v":0},{"$f":"IF(AU24=0,0,(AU24*((LOG(AU24))/LOG(2))))","v":0}]
[21,2500,11,2510,22,2519,14,2537,13,2545,0,21211,null,21121,{"$f":"COUNTIF($L$7:$L$500,N25)","v":0},{"$f":"O25/$Q$4","v":0},{"$f":"IF(P25=0,0,(P25*((LOG(P25))/LOG(2))))","v":0},null,null,{"$f":"N25","v":21121},{"$f":"COUNTIF(L7:L36,T25)","v":0},null,null,null,{"$f":"N25","v":21121},{"$f":"COUNTIF(L37:L66,Y25)","v":0},null,null,null,{"$f":"N25","v":21121},{"$f":"COUNTIF(L67:L96,AD25)","v":0},null,null,null,{"$f":"N25","v":21121},{"$f":"COUNTIF(L97:L126,AI25)","v":0},null,null,null,{"$f":"N25","v":21121},{"$f":"COUNTIF(L127:L156,AN25)","v":0},null,null,null,{"$f":"N25","v":21121},{"$f":"COUNTIF(L157:L186,AS25)","v":0}]
[21,2648,11,2657,22,2665,23,2683,24,2692,1,21222,null,21122,{"$f":"COUNTIF($L$7:$L$500,N26)","v":0},{"$f":"O26/$Q$4","v":0},{"$f":"IF(P26=0,0,(P26*((LOG(P26))/LOG(2))))","v":0},null,null,{"$f":"N26","v":21122},{"$f":"COUNTIF(L7:L36,T26)","v":0},{"$f":"U26/(W4-U25)","v":0},{"$f":"IF(V26=0,0,(V26*((LOG(V26))/LOG(2))))","v":0},null,{"$f":"N26","v":21122},{"$f":"COUNTIF(L37:L66,Y26)","v":0},{"$f":"Z26/(AB4-Z25)","v":0},{"$f":"IF(AA26=0,0,(AA26*((LOG(AA26))/LOG(2))))","v":0},null,{"$f":"N26","v":21122},{"$f":"COUNTIF(L67:L96,AD26)","v":0},{"$f":"AE26/(AG4-AE25)","v":0},{"$f":"IF(AF26=0,0,(AF26*((LOG(AF26))/LOG(2))))","v":0},null,{"$f":"N26","v":21122},{"$f":"COUNTIF(L97:L126,AI26)","v":0},{"$f":"AJ26/(AL4-AJ25)","v":0},{"$f":"IF(AK26=0,0,(AK26*((LOG(AK26))/LOG(2))))","v":0},null,{"$f":"N26","v":21122},{"$f":"COUNTIF(L127:L156,AN26)","v":0},{"$f":"AO26/(AQ4-AO25)","v":0},{"$f":"IF(AP26=0,0,(AP26*((LOG(AP26))/LOG(2))))","v":0},null,{"$f":"N26","v":21122},{"$f":"COUNTIF(L157:L186,AS26)","v":0},{"$f":"AT26/(AV4-AT25)","v":0},{"$f":"IF(AU26=0,0,(AU26*((LOG(AU26))/LOG(2))))","v":0}]
[21,2793,11,2802,22,2819,14,2831,13,2838,0,21211,null,21211,{"$f":"COUNTIF($L$7:$L$500,N27)","v":8},{"$f":"O27/$Q$4","v":4.4444444444444446E-2},{"$f":"IF(P27=0,0,(P27*((LOG(P27))/LOG(2))))","v":-0.19963791539243},null,null,{"$f":"N27","v":21211},{"$f":"COUNTIF(L7:L36,T27)","v":3},{"$f":"U27/(W4-U25)","v":0.1},{"$f":"IF(V27=0,0,(V27*((LOG(V27))/LOG(2))))","v":-0.33219280948873625},null,{"$f":"N27","v":21211},{"$f":"COUNTIF(L37:L66,Y27)","v":2},{"$f":"Z27/(AB4-Z25)","v":6.6666666666666666E-2},{"$f":"IF(AA27=0,0,(AA27*((LOG(AA27))/LOG(2))))","v":-0.26045937304056793},null,{"$f":"N27","v":21211},{"$f":"COUNTIF(L67:L96,AD27)","v":1},{"$f":"AE27/(AG4-AE25)","v":3.3333333333333333E-2},{"$f":"IF(AF27=0,0,(AF27*((LOG(AF27))/LOG(2))))","v":-0.16356301985361729},null,{"$f":"N27","v":21211},{"$f":"COUNTIF(L97:L126,AI27)","v":2},{"$f":"AJ27/(AL4-AJ25)","v":6.6666666666666666E-2},{"$f":"IF(AK27=0,0,(AK27*((LOG(AK27))/LOG(2))))","v":-0.26045937304056793},null,{"$f":"N27","v":21211},{"$f":"COUNTIF(L127:L156,AN27)","v":0},{"$f":"AO27/(AQ4-AO25)","v":0},{"$f":"IF(AP27=0,0,(AP27*((LOG(AP27))/LOG(2))))","v":0},null,{"$f":"N27","v":21211},{"$f":"COUNTIF(L157:L186,AS27)","v":0},{"$f":"AT27/(AV4-AT25)","v":0},{"$f":"IF(AU27=0,0,(AU27*((LOG(AU27))/LOG(2))))","v":0}]
[21,2939,22,2949,24,2956,14,2967,13,2976,0,22211,null,21212,{"$f":"COUNTIF($L$7:$L$500,N28)","v":0},{"$f":"O28/$Q$4","v":0},{"$f":"IF(P28=0,0,(P28*((LOG(P28))/LOG(2))))","v":0},null,null,{"$f":"N28","v":21212},{"$f":"COUNTIF(L7:L36,T28)","v":0},{"$f":"U28/(W4-U25)","v":0},{"$f":"IF(V28=0,0,(V28*((LOG(V28))/LOG(2))))","v":0},null,{"$f":"N28","v":21212},{"$f":"COUNTIF(L37:L66,Y28)","v":0},{"$f":"Z28/(AB4-Z25)","v":0},{"$f":"IF(AA28=0,0,(AA28*((LOG(AA28))/LOG(2))))","v":0},null,{"$f":"N28","v":21212},{"$f":"COUNTIF(L67:L96,AD28)","v":0},{"$f":"AE28/(AG4-AE25)","v":0},{"$f":"IF(AF28=0,0,(AF28*((LOG(AF28))/LOG(2))))","v":0},null,{"$f":"N28","v":21212},{"$f":"COUNTIF(L97:L126,AI28)","v":0},{"$f":"AJ28/(AL4-AJ25)","v":0},{"$f":"IF(AK28=0,0,(AK28*((LOG(AK28))/LOG(2))))","v":0},null,{"$f":"N28","v":21212},{"$f":"COUNTIF(L127:L156,AN28)","v":0},{"$f":"AO28/(AQ4-AO25)","v":0},{"$f":"IF(AP28=0,0,(AP28*((LOG(AP28))/LOG(2))))","v":0},null,{"$f":"N28","v":21212},{"$f":"COUNTIF(L157:L186,AS28)","v":0},{"$f":"AT28/(AV4-AT25)","v":0},{"$f":"IF(AU28=0,0,(AU28*((LOG(AU28))/LOG(2))))","v":0}]
[21,3087,11,3097,11,3101,12,3105,13,3115,0,21111,null,21221,{"$f":"COUNTIF($L$7:$L$500,N29)","v":8},{"$f":"O29/$Q$4","v":4.4444444444444446E-2},{"$f":"IF(P29=0,0,(P29*((LOG(P29))/LOG(2))))","v":-0.19963791539243},null,null,{"$f":"N29","v":21221},{"$f":"COUNTIF(L7:L36,T29)","v":3},{"$f":"U29/(W4-U25)","v":0.1},{"$f":"IF(V29=0,0,(V29*((LOG(V29))/LOG(2))))","v":-0.33219280948873625},null,{"$f":"N29","v":21221},{"$f":"COUNTIF(L37:L66,Y29)","v":4},{"$f":"Z29/(AB4-Z25)","v":0.13333333333333333},{"$f":"IF(AA29=0,0,(AA29*((LOG(AA29))/LOG(2))))","v":-0.3875854127478025},null,{"$f":"N29","v":21221},{"$f":"COUNTIF(L67:L96,AD29)","v":0},{"$f":"AE29/(AG4-AE25)","v":0},{"$f":"IF(AF29=0,0,(AF29*((LOG(AF29))/LOG(2))))","v":0},null,{"$f":"N29","v":21221},{"$f":"COUNTIF(L97:L126,AI29)","v":0},{"$f":"AJ29/(AL4-AJ25)","v":0},{"$f":"IF(AK29=0,0,(AK29*((LOG(AK29))/LOG(2))))","v":0},null,{"$f":"N29","v":21221},{"$f":"COUNTIF(L127:L156,AN29)","v":1},{"$f":"AO29/(AQ4-AO25)","v":3.3333333333333333E-2},{"$f":"IF(AP29=0,0,(AP29*((LOG(AP29))/LOG(2))))","v":-0.16356301985361729},null,{"$f":"N29","v":21221},{"$f":"COUNTIF(L157:L186,AS29)","v":0},{"$f":"AT29/(AV4-AT25)","v":0},{"$f":"IF(AU29=0,0,(AU29*((LOG(AU29))/LOG(2))))","v":0}]
[21,3215,22,3221,24,3238,14,3247,13,3251,0,22211,null,21222,{"$f":"COUNTIF($L$7:$L$500,N30)","v":2},{"$f":"O30/$Q$4","v":1.1111111111111112E-2},{"$f":"IF(P30=0,0,(P30*((LOG(P30))/LOG(2))))","v":-7.2131701070329707E-2},null,null,{"$f":"N30","v":21222},{"$f":"COUNTIF(L7:L36,T30)","v":1},{"$f":"U30/(W4-U25)","v":3.3333333333333333E-2},{"$f":"IF(V30=0,0,(V30*((LOG(V30))/LOG(2))))","v":-0.16356301985361729},null,{"$f":"N30","v":21222},{"$f":"COUNTIF(L37:L66,Y30)","v":0},{"$f":"Z30/(AB4-Z25)","v":0},{"$f":"IF(AA30=0,0,(AA30*((LOG(AA30))/LOG(2))))","v":0},null,{"$f":"N30","v":21222},{"$f":"COUNTIF(L67:L96,AD30)","v":0},{"$f":"AE30/(AG4-AE25)","v":0},{"$f":"IF(AF30=0,0,(AF30*((LOG(AF30))/LOG(2))))","v":0},null,{"$f":"N30","v":21222},{"$f":"COUNTIF(L97:L126,AI30)","v":1},{"$f":"AJ30/(AL4-AJ25)","v":3.3333333333333333E-2},{"$f":"IF(AK30=0,0,(AK30*((LOG(AK30))/LOG(2))))","v":-0.16356301985361729},null,{"$f":"N30","v":21222},{"$f":"COUNTIF(L127:L156,AN30)","v":0},{"$f":"AO30/(AQ4-AO25)","v":0},{"$f":"IF(AP30=0,0,(AP30*((LOG(AP30))/LOG(2))))","v":0},null,{"$f":"N30","v":21222},{"$f":"COUNTIF(L157:L186,AS30)","v":0},{"$f":"AT30/(AV4-AT25)","v":0},{"$f":"IF(AU30=0,0,(AU30*((LOG(AU30))/LOG(2))))","v":0}]
[12,3355,24,3363,24,3368,23,3374,13,3386,1,12221,null,22111,{"$f":"COUNTIF($L$7:$L$500,N31)","v":22},{"$f":"O31/$Q$4","v":0.12222222222222222},{"$f":"IF(P31=0,0,(P31*((LOG(P31))/LOG(2))))","v":-0.37062929171795722},null,null,{"$f":"N31","v":22111},{"$f":"COUNTIF(L7:L36,T31)","v":6},{"$f":"U31/(W4-U25)","v":0.2},{"$f":"IF(V31=0,0,(V31*((LOG(V31))/LOG(2))))","v":-0.46438561897747244},null,{"$f":"N31","v":22111},{"$f":"COUNTIF(L37:L66,Y31)","v":4},{"$f":"Z31/(AB4-Z25)","v":0.13333333333333333},{"$f":"IF(AA31=0,0,(AA31*((LOG(AA31))/LOG(2))))","v":-0.3875854127478025},null,{"$f":"N31","v":22111},{"$f":"COUNTIF(L67:L96,AD31)","v":1},{"$f":"AE31/(AG4-AE25)","v":3.3333333333333333E-2},{"$f":"IF(AF31=0,0,(AF31*((LOG(AF31))/LOG(2))))","v":-0.16356301985361729},null,{"$f":"N31","v":22111},{"$f":"COUNTIF(L97:L126,AI31)","v":1},{"$f":"AJ31/(AL4-AJ25)","v":3.3333333333333333E-2},{"$f":"IF(AK31=0,0,(AK31*((LOG(AK31))/LOG(2))))","v":-0.16356301985361729},null,{"$f":"N31","v":22111},{"$f":"COUNTIF(L127:L156,AN31)","v":5},{"$f":"AO31/(AQ4-AO25)","v":0.16666666666666666},{"$f":"IF(AP31=0,0,(AP31*((LOG(AP31))/LOG(2))))","v":-0.43082708345352599},null,{"$f":"N31","v":22111},{"$f":"COUNTIF(L157:L186,AS31)","v":5},{"$f":"AT31/(AV4-AT25)","v":0.16666666666666666},{"$f":"IF(AU31=0,0,(AU31*((LOG(AU31))/LOG(2))))","v":-0.43082708345352599}]
[21,3493,11,3502,11,3511,12,3518,13,3537,0,21111,null,22112,{"$f":"COUNTIF($L$7:$L$500,N32)","v":0},{"$f":"O32/$Q$4","v":0},{"$f":"IF(P32=0,0,(P32*((LOG(P32))/LOG(2))))","v":0},null,null,{"$f":"N32","v":22112},{"$f":"COUNTIF(L7:L36,T32)","v":0},{"$f":"U32/(W4-U25)","v":0},{"$f":"IF(V32=0,0,(V32*((LOG(V32))/LOG(2))))","v":0},null,{"$f":"N32","v":22112},{"$f":"COUNTIF(L37:L66,Y32)","v":0},{"$f":"Z32/(AB4-Z25)","v":0},{"$f":"IF(AA32=0,0,(AA32*((LOG(AA32))/LOG(2))))","v":0},null,{"$f":"N32","v":22112},{"$f":"COUNTIF(L67:L96,AD32)","v":0},{"$f":"AE32/(AG4-AE25)","v":0},{"$f":"IF(AF32=0,0,(AF32*((LOG(AF32))/LOG(2))))","v":0},null,{"$f":"N32","v":22112},{"$f":"COUNTIF(L97:L126,AI32)","v":0},{"$f":"AJ32/(AL4-AJ25)","v":0},{"$f":"IF(AK32=0,0,(AK32*((LOG(AK32))/LOG(2))))","v":0},null,{"$f":"N32","v":22112},{"$f":"COUNTIF(L127:L156,AN32)","v":0},{"$f":"AO32/(AQ4-AO25)","v":0},{"$f":"IF(AP32=0,0,(AP32*((LOG(AP32))/LOG(2))))","v":0},null,{"$f":"N32","v":22112},{"$f":"COUNTIF(L157:L186,AS32)","v":0},{"$f":"AT32/(AV4-AT25)","v":0},{"$f":"IF(AU32=0,0,(AU32*((LOG(AU32))/LOG(2))))","v":0}]
[21,3638,11,3647,22,3655,23,3659,13,3682,0,21221,null,22121,{"$f":"COUNTIF($L$7:$L$500,N33)","v":1},{"$f":"O33/$Q$4","v":5.5555555555555558E-3},{"$f":"IF(P33=0,0,(P33*((LOG(P33))/LOG(2))))","v":-4.1621406090720417E-2},null,null,{"$f":"N33","v":22121},{"$f":"COUNTIF(L7:L36,T33)","v":1},{"$f":"U33/(W4-U25)","v":3.3333333333333333E-2},{"$f":"IF(V33=0,0,(V33*((LOG(V33))/LOG(2))))","v":-0.16356301985361729},null,{"$f":"N33","v":22121},{"$f":"COUNTIF(L37:L66,Y33)","v":0},{"$f":"Z33/(AB4-Z25)","v":0},{"$f":"IF(AA33=0,0,(AA33*((LOG(AA33))/LOG(2))))","v":0},null,{"$f":"N33","v":22121},{"$f":"COUNTIF(L67:L96,AD33)","v":0},{"$f":"AE33/(AG4-AE25)","v":0},{"$f":"IF(AF33=0,0,(AF33*((LOG(AF33))/LOG(2))))","v":0},null,{"$f":"N33","v":22121},{"$f":"COUNTIF(L97:L126,AI33)","v":0},{"$f":"AJ33/(AL4-AJ25)","v":0},{"$f":"IF(AK33=0,0,(AK33*((LOG(AK33))/LOG(2))))","v":0},null,{"$f":"N33","v":22121},{"$f":"COUNTIF(L127:L156,AN33)","v":0},{"$f":"AO33/(AQ4-AO25)","v":0},{"$f":"IF(AP33=0,0,(AP33*((LOG(AP33))/LOG(2))))","v":0},null,{"$f":"N33","v":22121},{"$f":"COUNTIF(L157:L186,AS33)","v":0},{"$f":"AT33/(AV4-AT25)","v":0},{"$f":"IF(AU33=0,0,(AU33*((LOG(AU33))/LOG(2))))","v":0}]
[21,3782,22,3790,13,3798,23,3806,13,3822,0,22121,null,22122,{"$f":"COUNTIF($L$7:$L$500,N34)","v":2},{"$f":"O34/$Q$4","v":1.1111111111111112E-2},{"$f":"IF(P34=0,0,(P34*((LOG(P34))/LOG(2))))","v":-7.2131701070329707E-2},null,null,{"$f":"N34","v":22122},{"$f":"COUNTIF(L7:L36,T34)","v":0},{"$f":"U34/(W4-U25)","v":0},{"$f":"IF(V34=0,0,(V34*((LOG(V34))/LOG(2))))","v":0},null,{"$f":"N34","v":22122},{"$f":"COUNTIF(L37:L66,Y34)","v":2},{"$f":"Z34/(AB4-Z25)","v":6.6666666666666666E-2},{"$f":"IF(AA34=0,0,(AA34*((LOG(AA34))/LOG(2))))","v":-0.26045937304056793},null,{"$f":"N34","v":22122},{"$f":"COUNTIF(L67:L96,AD34)","v":0},{"$f":"AE34/(AG4-AE25)","v":0},{"$f":"IF(AF34=0,0,(AF34*((LOG(AF34))/LOG(2))))","v":0},null,{"$f":"N34","v":22122},{"$f":"COUNTIF(L97:L126,AI34)","v":0},{"$f":"AJ34/(AL4-AJ25)","v":0},{"$f":"IF(AK34=0,0,(AK34*((LOG(AK34))/LOG(2))))","v":0},null,{"$f":"N34","v":22122},{"$f":"COUNTIF(L127:L156,AN34)","v":0},{"$f":"AO34/(AQ4-AO25)","v":0},{"$f":"IF(AP34=0,0,(AP34*((LOG(AP34))/LOG(2))))","v":0},null,{"$f":"N34","v":22122},{"$f":"COUNTIF(L157:L186,AS34)","v":0},{"$f":"AT34/(AV4-AT25)","v":0},{"$f":"IF(AU34=0,0,(AU34*((LOG(AU34))/LOG(2))))","v":0}]
[21,3928,11,3938,22,3955,14,3967,13,3974,0,21211,null,22211,{"$f":"COUNTIF($L$7:$L$500,N35)","v":13},{"$f":"O35/$Q$4","v":7.2222222222222215E-2},{"$f":"IF(P35=0,0,(P35*((LOG(P35))/LOG(2))))","v":-0.27382429953584203},null,null,{"$f":"N35","v":22211},{"$f":"COUNTIF(L7:L36,T35)","v":5},{"$f":"U35/(W4-U25)","v":0.16666666666666666},{"$f":"IF(V35=0,0,(V35*((LOG(V35))/LOG(2))))","v":-0.43082708345352599},null,{"$f":"N35","v":22211},{"$f":"COUNTIF(L37:L66,Y35)","v":5},{"$f":"Z35/(AB4-Z25)","v":0.16666666666666666},{"$f":"IF(AA35=0,0,(AA35*((LOG(AA35))/LOG(2))))","v":-0.43082708345352599},null,{"$f":"N35","v":22211},{"$f":"COUNTIF(L67:L96,AD35)","v":0},{"$f":"AE35/(AG4-AE25)","v":0},{"$f":"IF(AF35=0,0,(AF35*((LOG(AF35))/LOG(2))))","v":0},null,{"$f":"N35","v":22211},{"$f":"COUNTIF(L97:L126,AI35)","v":0},{"$f":"AJ35/(AL4-AJ25)","v":0},{"$f":"IF(AK35=0,0,(AK35*((LOG(AK35))/LOG(2))))","v":0},null,{"$f":"N35","v":22211},{"$f":"COUNTIF(L127:L156,AN35)","v":2},{"$f":"AO35/(AQ4-AO25)","v":6.6666666666666666E-2},{"$f":"IF(AP35=0,0,(AP35*((LOG(AP35))/LOG(2))))","v":-0.26045937304056793},null,{"$f":"N35","v":22211},{"$f":"COUNTIF(L157:L186,AS35)","v":1},{"$f":"AT35/(AV4-AT25)","v":3.3333333333333333E-2},{"$f":"IF(AU35=0,0,(AU35*((LOG(AU35))/LOG(2))))","v":-0.16356301985361729}]
[21,4084,22,4089,13,4102,14,4109,13,4115,1,22111,null,22212,{"$f":"COUNTIF($L$7:$L$500,N36)","v":3},{"$f":"O36/$Q$4","v":1.6666666666666666E-2},{"$f":"IF(P36=0,0,(P36*((LOG(P36))/LOG(2))))","v":-9.8448176593475309E-2},null,null,{"$f":"N36","v":22212},{"$f":"COUNTIF(L7:L36,T36)","v":2},{"$f":"U36/(W4-U25)","v":6.6666666666666666E-2},{"$f":"IF(V36=0,0,(V36*((LOG(V36))/LOG(2))))","v":-0.26045937304056793},null,{"$f":"N36","v":22212},{"$f":"COUNTIF(L37:L66,Y36)","v":0},{"$f":"Z36/(AB4-Z25)","v":0},{"$f":"IF(AA36=0,0,(AA36*((LOG(AA36))/LOG(2))))","v":0},null,{"$f":"N36","v":22212},{"$f":"COUNTIF(L67:L96,AD36)","v":0},{"$f":"AE36/(AG4-AE25)","v":0},{"$f":"IF(AF36=0,0,(AF36*((LOG(AF36))/LOG(2))))","v":0},null,{"$f":"N36","v":22212},{"$f":"COUNTIF(L97:L126,AI36)","v":1},{"$f":"AJ36/(AL4-AJ25)","v":3.3333333333333333E-2},{"$f":"IF(AK36=0,0,(AK36*((LOG(AK36))/LOG(2))))","v":-0.16356301985361729},null,{"$f":"N36","v":22212},{"$f":"COUNTIF(L127:L156,AN36)","v":0},{"$f":"AO36/(AQ4-AO25)","v":0},{"$f":"IF(AP36=0,0,(AP36*((LOG(AP36))/LOG(2))))","v":0},null,{"$f":"N36","v":22212},{"$f":"COUNTIF(L157:L186,AS36)","v":0},{"$f":"AT36/(AV4-AT25)","v":0},{"$f":"IF(AU36=0,0,(AU36*((LOG(AU36))/LOG(2))))","v":0}]
[12,4232,24,4240,13,4257,14,4267,13,4277,1,12111,null,22221,{"$f":"COUNTIF($L$7:$L$500,N37)","v":2},{"$f":"O37/$Q$4","v":1.1111111111111112E-2},{"$f":"IF(P37=0,0,(P37*((LOG(P37))/LOG(2))))","v":-7.2131701070329707E-2},null,null,{"$f":"N37","v":22221},{"$f":"COUNTIF(L7:L36,T37)","v":2},{"$f":"U37/(W4-U25)","v":6.6666666666666666E-2},{"$f":"IF(V37=0,0,(V37*((LOG(V37))/LOG(2))))","v":-0.26045937304056793},null,{"$f":"N37","v":22221},{"$f":"COUNTIF(L37:L66,Y37)","v":0},{"$f":"Z37/(AB4-Z25)","v":0},{"$f":"IF(AA37=0,0,(AA37*((LOG(AA37))/LOG(2))))","v":0},null,{"$f":"N37","v":22221},{"$f":"COUNTIF(L67:L96,AD37)","v":0},{"$f":"AE37/(AG4-AE25)","v":0},{"$f":"IF(AF37=0,0,(AF37*((LOG(AF37))/LOG(2))))","v":0},null,{"$f":"N37","v":22221},{"$f":"COUNTIF(L97:L126,AI37)","v":0},{"$f":"AJ37/(AL4-AJ25)","v":0},{"$f":"IF(AK37=0,0,(AK37*((LOG(AK37))/LOG(2))))","v":0},null,{"$f":"N37","v":22221},{"$f":"COUNTIF(L127:L156,AN37)","v":0},{"$f":"AO37/(AQ4-AO25)","v":0},{"$f":"IF(AP37=0,0,(AP37*((LOG(AP37))/LOG(2))))","v":0},null,{"$f":"N37","v":22221},{"$f":"COUNTIF(L157:L186,AS37)","v":0},{"$f":"AT37/(AV4-AT25)","v":0},{"$f":"IF(AU37=0,0,(AU37*((LOG(AU37))/LOG(2))))","v":0}]
[21,4383,22,4388,24,4392,14,4403,13,4418,0,22211,null,22222,{"$f":"COUNTIF($L$7:$L$500,N38)","v":0},{"$f":"O38/$Q$4","v":0},{"$f":"IF(P38=0,0,(P38*((LOG(P38))/LOG(2))))","v":0},null,null,{"$f":"N38","v":22222},{"$f":"COUNTIF(L7:L36,T38)","v":0},{"$f":"U38/(W4-U25)","v":0},{"$f":"IF(V38=0,0,(V38*((LOG(V38))/LOG(2))))","v":0},null,{"$f":"N38","v":22222},{"$f":"COUNTIF(L37:L66,Y38)","v":0},{"$f":"Z38/(AB4-Z25)","v":0},{"$f":"IF(AA38=0,0,(AA38*((LOG(AA38))/LOG(2))))","v":0},null,{"$f":"N38","v":22222},{"$f":"COUNTIF(L67:L96,AD38)","v":0},{"$f":"AE38/(AG4-AE25)","v":0},{"$f":"IF(AF38=0,0,(AF38*((LOG(AF38))/LOG(2))))","v":0},null,{"$f":"N38","v":22222},{"$f":"COUNTIF(L97:L126,AI38)","v":0},{"$f":"AJ38/(AL4-AJ25)","v":0},{"$f":"IF(AK38=0,0,(AK38*((LOG(AK38))/LOG(2))))","v":0},null,{"$f":"N38","v":22222},{"$f":"COUNTIF(L127:L156,AN38)","v":0},{"$f":"AO38/(AQ4-AO25)","v":0},{"$f":"IF(AP38=0,0,(AP38*((LOG(AP38))/LOG(2))))","v":0},null,{"$f":"N38","v":22222},{"$f":"COUNTIF(L157:L186,AS38)","v":0},{"$f":"AT38/(AV4-AT25)","v":0},{"$f":"IF(AU38=0,0,(AU38*((LOG(AU38))/LOG(2))))","v":0}]
[21,4519,22,4524,24,4529,14,4543,13,4547,0,22211,null,null,null,{"$f":"SUM(P7:P38)","v":0.99999999999999978},{"$f":"-SUM(Q7:Q38)","v":3.0573722982539411},null,null,null,null,{"$f":"SUM(V7:V38)","v":1},{"$f":"-SUM(W7:W38)","v":3.285917579505496},null,null,null,{"$f":"SUM(AA7:AA38)","v":0.99999999999999989},{"$f":"-SUM(AB7:AB38)","v":3.1329145639793983},null,null,null,{"$f":"SUM(AF7:AF38)","v":0.99999999999999989},{"$f":"-SUM(AG7:AG38)","v":1.9600115303896286},null,null,null,{"$f":"SUM(AK7:AK38)","v":0.99999999999999989},{"$f":"-SUM(AL7:AL38)","v":2.4630615044801747},null,null,null,{"$f":"SUM(AP7:AP38)","v":1},{"$f":"-SUM(AQ7:AQ38)","v":2.2975347643587214},null,null,null,{"$f":"SUM(AU7:AU38)","v":1},{"$f":"-SUM(AV7:AV38)","v":2.0214208010203016}]
[12,4655,24,4663,24,4668,23,4679,13,4691,0,12221,null,null,null,"U=",{"$f":"Q39/(LOG(Q4)/LOG(2))","v":0.40809293227489668},null,null,null,null,"U1=",{"$f":"W39/(LOG(W4)/LOG(2))","v":0.66965372785084465},null,null,null,"U2=",{"$f":"AB39/(LOG(AB4)/LOG(2))","v":0.63847247109671412},null,null,null,"U3=",{"$f":"AG39/(LOG(AG4)/LOG(2))","v":0.39944064213368946},null,null,null,"U4=",{"$f":"AL39/(LOG(AL4)/LOG(2))","v":0.50195973529235016},null,null,null,"U5=",{"$f":"AQ39/(LOG(AQ4)/LOG(2))","v":0.46822620549456068},null,null,null,"U6=",{"$f":"AV39/(LOG(AV4)/LOG(2))","v":0.41195554733366108}]
[21,4791,22,4801,24,4805,14,4815,13,4819,1,22211]
[21,4915,22,4921,13,4929,23,4937,24,4955,0,22122]
[21,5053,22,5062,13,5071,23,5078,24,5112,0,22122,null,"Total Target Seq"]
[21,5215,22,5222,24,5233,14,5243,13,5247,0,22211,null,{"$f":"COUNTIF(L7:L186,G3)","v":0},null,30,30,30,30,30,30]
[21,5348,22,5356,24,5363,14,5371,13,5377,0,22211,null,null,null,"% of reinforcement given in 6 equal intervals based on number of trials "]
[21,5478,22,5485,13,5495,14,5504,13,5510,1,22111,null,null,null,"%_1","%_2","%_3","%_4","%_5","%_6"]
[21,5609,11,5632,11,5637,12,5644,13,5654,0,21111,null,null,"target sequence",{"$f":"$G$3","v":21121},{"$f":"$G$3","v":21121},{"$f":"$G$3","v":21121},{"$f":"$G$3","v":21121},{"$f":"$G$3","v":21121},{"$f":"$G$3","v":21121}]
[21,5754,11,5762,22,5769,14,5780,13,5784,0,21211,null,null,"total reinforcement",{"$f":"U25","v":0},{"$f":"Z25","v":0},{"$f":"AE25","v":0},{"$f":"AJ25","v":0},{"$f":"AO25","v":0},{"$f":"AT25","v":0}]
[21,5895,11,5903,22,5911,14,5923,13,5938,0,21211,null,null,"% target"]
[21,6040,11,6060,11,6064,12,6078,13,6085,0,21111,null,null,"CCRF"]
[21,6185,11,6194,22,6201,23,6206,13,6215,0,21221,null,null,"% CCRf"]
[21,6319,22,6333,13,6346,14,6354,13,6366,0,22111,null,null,"average response rate",{"$f":"J36/P44","v":137.16666666666666},{"$f":"(J66-J36)/Q44","v":139.36666666666667},{"$f":"(J96-J66)/R44","v":129.63333333333333},{"$f":"(J126-J96)/S44","v":130.16666666666666},{"$f":"(J156-J126)/T44","v":133.83333333333334},{"$f":"(J186-J156)/U44","v":129.5}]
[21,6464,22,6471,13,6479,14,6483,13,6487,1,22111]
[21,6579,11,6596,22,6603,23,6609,13,6621,0,21221]
[21,6723,11,6733,22,6738,23,6742,13,6752,0,21221]
[12,6857,13,6864,13,6869,14,6877,13,6884,0,11111]
[21,6982,11,6990,22,6997,23,7005,13,7016,0,21221]
[21,7127,11,7136,11,7140,12,7146,13,7157,0,21111]
[12,7267,24,7276,24,7286,14,7297,13,7304,0,12211]
[12,7410,24,7417,13,7429,14,7434,13,7443,0,12111]
[12,7547,13,7551,13,7555,14,7558,13,7568,1,11111]
[21,7742,11,7754,11,7761,12,7774,13,7784,0,21111]
[21,7883,22,7890,13,7898,14,7906,13,7911,0,22111]
[12,8015,13,8021,13,8025,14,8033,13,8039,0,11111]
[12,8145,13,8149,13,8156,14,8159,13,8167,0,11111]
[12,8269,13,8274,13,8285,14,8289,13,8296,1,11111]
[12,8395,13,8402,13,8407,14,8413,13,8425,0,11111]
[21,8526,11,8533,11,8550,12,8554,13,8564,0,21111]
[12,8668,13,8675,13,8679,14,8683,13,8690,0,11111]
[12,8797,13,8801,13,8804,14,8810,13,8818,0,11111]
[12,8920,13,8928,13,8932,14,8935,13,8945,0,11111]
[12,9047,13,9050,13,9054,14,9058,13,9064,0,11111]
[12,9164,13,9172,13,9176,14,9182,13,9195,0,11111]
[12,9300,13,9304,13,9308,14,9313,13,9320,1,11111]
[12,9419,24,9428,24,9438,14,9445,13,9459,0,12211]
[12,9571,13,9575,13,9579,14,9586,13,9598,1,11111]
[21,9693,11,9713,11,9718,12,9722,13,9729,0,21111]
[21,9830,11,9844,11,9848,12,9852,13,9860,0,21111]
[12,9964,13,9968,13,9972,14,9976,13,9984,1,11111]
[21,10106,11,10114,11,10117,12,10124,13,10135,0,21111]
[12,10240,24,10247,13,10258,14,10262,13,10270,0,12111]
[21,10371,11,10378,11,10382,12,10385,13,10392,0,21111]
[12,10493,13,10496,13,10500,14,10505,13,10523,0,11111]
[21,10626,11,10633,11,10637,12,10641,13,10649,0,21111]
[12,10755,13,10764,13,10768,14,10773,13,10780,1,11111]
[21,10874,22,10878,13,10894,14,10897,13,10904,0,22111]
[12,11008,13,11021,13,11025,14,11034,13,11041,0,11111]
[21,11140,11,11148,11,11152,12,11156,13,11163,0,21111]
[12,11266,13,11270,13,11275,14,11278,13,11282,0,11111]
[12,11384,24,11392,13,11403,14,11407,13,11417,0,12111]
[21,11517,11,11526,11,11537,12,11541,24,11549,0,21112]
[12,11653,13,11657,13,11661,14,11665,13,11671,1,11111]
[12,11771,13,11775,13,11779,14,11786,13,11795,0,11111]
[12,11899,13,11905,13,11909,14,11913,13,11916,0,11111]
[12,12019,24,12031,13,12039,14,12043,13,12049,0,12111]
[21,12152,11,12159,22,12167,14,12177,13,12185,0,21211]
[21,12284,11,12293,22,12299,14,12309,13,12316,0,21211]
[12,12420,24,12428,13,12441,14,12446,13,12456,0,12111]
[21,12557,11,12567,22,12574,23,12579,24,12586,0,21222]
[12,12687,13,12692,13,12696,14,12700,13,12707,0,11111]
[12,12815,13,12820,13,12824,14,12832,13,12845,0,11111]
[21,12950,11,12956,11,12960,12,12964,13,12968,0,21111]
[12,13067,13,13072,24,13080,14,13090,13,13098,1,11211]
[21,13191,22,13196,24,13200,14,13210,24,13217,0,22212]
[12,13329,24,13336,13,13346,14,13350,13,13362,0,12111]
[12,13466,13,13470,24,13478,14,13487,13,13491,0,11211]
[12,13593,24,13600,13,13610,14,13615,13,13630,1,12111]
[21,13732,11,13745,11,13761,12,13766,13,13777,0,21111]
[12,13879,13,13887,13,13891,14,13896,13,13899,0,11111]
[12,13998,13,14006,13,14010,14,14014,13,14021,0,11111]
[12,14129,24,14136,13,14144,14,14149,13,14156,0,12111]
[21,14264,11,14272,11,14276,12,14281,13,14289,0,21111]
[12,14393,13,14397,13,14400,14,14404,13,14415,1,11111]
[21,14519,11,14528,11,14545,12,14553,13,14564,0,21111]
[12,14667,13,14674,13,14683,14,14687,13,14692,0,11111]
[12,14796,13,14809,13,14814,14,14818,13,14825,0,11111]
[12,14929,13,14933,13,14937,14,14940,13,14945,0,11111]
[12,15049,13,15056,13,15060,14,15064,13,15070,0,11111]
[12,15177,13,15181,13,15185,14,15189,13,15196,0,11111]
[12,15301,13,15305,13,15308,14,15313,13,15318,1,11111]
[21,15418,11,15426,11,15431,12,15434,13,15440,0,21111]
[21,15543,22,15551,13,15558,14,15562,13,15566,0,22111]
[21,15669,11,15677,11,15680,12,15684,13,15689,0,21111]
[12,15791,24,15799,13,15809,14,15813,13,15824,0,12111]
[21,15925,11,15936,22,15948,14,15958,13,15970,0,21211]
[21,16069,11,16079,11,16083,12,16086,13,16090,0,21111]
[21,16189,11,16196,11,16201,12,16205,13,16209,0,21111]
[12,16312,13,16321,13,16327,14,16339,13,16345,0,11111]
[12,16448,13,16456,13,16460,14,16469,13,16480,1,11111]
[21,16575,22,16583,13,16591,14,16597,13,16601,0,22111]
[21,16706,22,16713,24,16720,14,16728,13,16732,0,22211]
[12,16845,13,16849,13,16853,14,16860,13,16867,0,11111]
[21,16968,22,16975,13,16983,14,16987,13,16992,1,22111]
[21,17168,11,17184,11,17188,12,17194,13,17201,0,21111]
[21,17304,11,17314,22,17322,23,17329,13,17336,0,21221]
[12,17439,13,17445,13,17448,14,17453,13,17460,0,11111]
[12,17573,24,17581,13,17588,14,17592,13,17599,1,12111]
[21,17713,11,17721,11,17725,12,17731,13,17751,0,21111]
[12,17857,13,17861,13,17865,14,17869,13,17892,0,11111]
[12,17994,13,18001,13,18005,14,18008,13,18015,0,11111]
[21,18121,22,18130,13,18138,14,18142,13,18146,0,22111]
[12,18254,13,18265,13,18269,14,18276,13,18288,0,11111]
[12,18393,13,18397,13,18401,14,18404,13,18408,0,11111]
[21,18511,11,18521,11,18529,12,18534,13,18545,0,21111]
[12,18649,13,18657,13,18661,14,18665,13,18671,0,11111]
[12,18775,13,18783,13,18787,14,18791,13,18799,0,11111]
[12,18904,13,18911,13,18916,14,18923,24,18933,0,11112]
[21,19033,11,19041,11,19047,12,19051,13,19061,1,21111]
[21,19175,22,19183,24,19190,14,19197,13,19201,0,22211]
[21,19305,22,19313,13,19322,14,19326,13,19330,0,22111]
[21,19433,22,19441,13,19448,14,19453,13,19457,0,22111]
[12,19564,24,19572,13,19582,14,19586,13,19601,0,12111]
[21,19705,11,19716,11,19720,12,19724,13,19729,0,21111]
[12,19829,13,19833,13,19837,14,19845,13,19849,0,11111]
[12,19956,13,19964,13,19967,14,19975,13,19985,0,11111]
[21,20084,11,20092,11,20097,12,20101,13,20105,0,21111]
[12,20225,13,20229,13,20236,14,20248,13,20254,0,11111]
[21,20356,11,20364,11,20368,12,20372,13,20379,0,21111]
[12,20485,13,20493,13,20496,14,20501,13,20506,1,11111]
[21,20606,22,20613,13,20628,14,20631,13,20638,0,22111]
[12,20744,13,20752,13,20755,14,20759,13,20766,0,11111]
[21,20867,11,20876,11,20880,12,20888,13,20892,0,21111]
[21,20994,11,21002,11,21008,12,21012,13,21016,0,21111]
[21,21122,11,21131,11,21135,12,21139,13,21151,0,21111]
[12,21254,24,21261,13,21272,14,21277,13,21285,1,12111]
[21,21380,22,21396,13,21405,14,21410,13,21417,0,22111]
[21,21517,22,21524,13,21532,14,21537,13,21540,0,22111]
[21,21644,22,21651,13,21658,14,21662,13,21667,0,22111]
[12,21773,13,21777,13,21781,14,21784,13,21790,0,11111]
[12,21896,13,21905,13,21919,14,21926,13,21932,0,11111]
[21,22032,11,22040,11,22045,12,22048,13,22053,1,21111]
[21,22151,22,22155,24,22169,14,22178,13,22182,0,22211]
[12,22291,13,22298,13,22302,14,22306,13,22313,0,11111]
[21,22415,22,22422,13,22439,14,22443,13,22448,0,22111]
[12,22552,13,22556,13,22560,14,22564,13,22570,0,11111]
[12,22676,13,22684,13,22688,14,22691,13,22698,0,11111]
[12,22802,13,22809,13,22813,14,22822,13,22832,0,11111]
[12,22935,13,22939,13,22944,14,22947,13,22951,0,11111]
[12,23051,24,23066,13,23073,14,23077,13,23083,1,12111]
[21,23187,11,23195,11,23203,12,23211,13,23217,0,21111]
[21,23317,11,23326,11,23334,12,23337,13,23341,0,21111]
[12,23448,24,23456,24,23463,14,23471,13,23475,0,12211]
[12,23582,13,23586,13,23590,14,23593,13,23601,0,11111]
[12,23700,13,23707,13,23711,14,23715,13,23721,0,11111]
[12,23832,13,23844,13,23849,14,23856,13,23864,0,11111]
[12,23966,13,23976,13,23980,14,23984,13,23990,null,11111]

{"sheet":"!N409A50.096","index":15,"n_rows":186,"n_cols":48,"rows_kept":186,"cut":false,"hidden":false,"merged":[[4,39,4,42],[5,39,5,40],[4,44,4,47],[5,44,5,45],[4,24,4,27],[5,24,5,25],[4,29,4,32],[5,29,5,30],[4,34,4,37],[5,34,5,35],[1,1,1,2],[5,13,5,14],[42,13,42,14],[43,13,43,14],[4,19,4,22],[5,19,5,20]]}
["Report for:!N409A50.096"]
["Date:","<date>"]
["Hen:","<hen>",null,null,null,"Correct Sequence",{"$f":"Start!J2","v":21121},null,null,null,null,null,null,null,null,"Total Sequences in Data",{"$f":"4994-COUNTBLANK(L7:L5000)","v":180},null,null,null,null,"Total Sequences in Block Data",{"$f":"COUNTA(L7:L36)","v":30},null,null,null,"Total Sequences in Block Data",{"$f":"COUNTA(L37:L66)","v":30},null,null,null,"Total Sequences in Block Data",{"$f":"COUNTA(L67:L96)","v":30},null,null,null,"Total Sequences in Block Data",{"$f":"COUNTA(L97:L126)","v":30},null,null,null,"Total Sequences in Block Data",{"$f":"COUNTA(L127:L156)","v":30},null,null,null,"Total Sequences in Block Data",{"$f":"COUNTA(L157:L186)","v":30}]
[null,null,null,null,null,null,null,null,null,null,null,null,null,null,null,"Total Sequences in Summary",{"$f":"SUM(O7:O38)","v":180},null,null,null,null,"Total Sequences in Block Summary",{"$f":"SUM(U7:U38)","v":30},null,null,null,"Total Sequences in Block Summary",{"$f":"SUM(Z7:Z38)","v":30},null,null,null,"Total Sequences in Block Summary",{"$f":"SUM(AE7:AE38)","v":30},null,null,null,"Total Sequences in Block Summary",{"$f":"SUM(AJ7:AJ38)","v":30},null,null,null,"Total Sequences in Block Summary",{"$f":"SUM(AO7:AO38)","v":30},null,null,null,"Total Sequences in Block Summary",{"$f":"SUM(AT7:AT38)","v":30}]
[null,null,null,null,null,null,null,null,null,null,null,null,null,null,null,null,null,null,null,"Block 1",null,null,null,null,"Block 2",null,null,null,null,"Block 3",null,null,null,null,"Block 4",null,null,null,null,"Block 5",null,null,null,null,"Block 6"]
["Sequence\nComponent\n1","Time\n1","Sequence\nComponent\n2","Time\n2","Sequence\nComponent\n3","Time\n3","Sequence\nComponent\n4","Time\n4","Sequence\nComponent\n5","Time\n5","Correct?\n0=No 1=Yes","Sequence",null,"Frequency",null,"Relative Frequency","Variability",null,null,"Frequency",null,"Relative Frequency","Variability",null,"Frequency",null,"Relative Frequency","Variability",null,"Frequency",null,"Relative Frequency","Variability",null,"Frequency",null,"Relative Frequency","Variability",null,"Frequency",null,"Relative Frequency","Variability",null,"Frequency",null,"Relative Frequency","Variability"]
[12,9,13,13,13,17,14,20,24,28,0,11112,null,11111,{"$f":"COUNTIF($L$7:$L$500,N7)","v":57},{"$f":"O7/$Q$4","v":0.31666666666666665},{"$f":"IF(P7=0,0,(P7*((LOG(P7))/LOG(2))))","v":-0.5253383093522288},null,null,{"$f":"N7","v":11111},{"$f":"COUNTIF(L7:L36,T7)","v":1},{"$f":"U7/(W4-U25)","v":3.3333333333333333E-2},{"$f":"IF(V7=0,0,(V7*((LOG(V7))/LOG(2))))","v":-0.16356301985361729},null,{"$f":"N7","v":11111},{"$f":"COUNTIF(L37:L66,Y7)","v":10},{"$f":"Z7/(AB4-Z25)","v":0.33333333333333331},{"$f":"IF(AA7=0,0,(AA7*((LOG(AA7))/LOG(2))))","v":-0.52832083357371862},null,{"$f":"N7","v":11111},{"$f":"COUNTIF(L67:L96,AD7)","v":13},{"$f":"AE7/(AG4-AE25)","v":0.43333333333333335},{"$f":"IF(AF7=0,0,(AF7*((LOG(AF7))/LOG(2))))","v":-0.52279538023588479},null,{"$f":"N7","v":11111},{"$f":"COUNTIF(L97:L126,AI7)","v":3},{"$f":"AJ7/(AL4-AJ25)","v":0.1},{"$f":"IF(AK7=0,0,(AK7*((LOG(AK7))/LOG(2))))","v":-0.33219280948873625},null,{"$f":"N7","v":11111},{"$f":"COUNTIF(L127:L156,AN7)","v":17},{"$f":"AO7/(AQ4-AO25)","v":0.56666666666666665},{"$f":"IF(AP7=0,0,(AP7*((LOG(AP7))/LOG(2))))","v":-0.46434239413630152},null,{"$f":"N7","v":11111},{"$f":"COUNTIF(L157:L186,AS7)","v":13},{"$f":"AT7/(AV4-AT25)","v":0.43333333333333335},{"$f":"IF(AU7=0,0,(AU7*((LOG(AU7))/LOG(2))))","v":-0.52279538023588479}]
[12,128,24,145,13,154,23,162,13,173,0,12121,null,11112,{"$f":"COUNTIF($L$7:$L$500,N8)","v":1},{"$f":"O8/$Q$4","v":5.5555555555555558E-3},{"$f":"IF(P8=0,0,(P8*((LOG(P8))/LOG(2))))","v":-4.1621406090720417E-2},null,null,{"$f":"N8","v":11112},{"$f":"COUNTIF(L7:L36,T8)","v":1},{"$f":"U8/(W4-U25)","v":3.3333333333333333E-2},{"$f":"IF(V8=0,0,(V8*((LOG(V8))/LOG(2))))","v":-0.16356301985361729},null,{"$f":"N8","v":11112},{"$f":"COUNTIF(L37:L66,Y8)","v":0},{"$f":"Z8/(AB4-Z25)","v":0},{"$f":"IF(AA8=0,0,(AA8*((LOG(AA8))/LOG(2))))","v":0},null,{"$f":"N8","v":11112},{"$f":"COUNTIF(L67:L96,AD8)","v":0},{"$f":"AE8/(AG4-AE25)","v":0},{"$f":"IF(AF8=0,0,(AF8*((LOG(AF8))/LOG(2))))","v":0},null,{"$f":"N8","v":11112},{"$f":"COUNTIF(L97:L126,AI8)","v":0},{"$f":"AJ8/(AL4-AJ25)","v":0},{"$f":"IF(AK8=0,0,(AK8*((LOG(AK8))/LOG(2))))","v":0},null,{"$f":"N8","v":11112},{"$f":"COUNTIF(L127:L156,AN8)","v":0},{"$f":"AO8/(AQ4-AO25)","v":0},{"$f":"IF(AP8=0,0,(AP8*((LOG(AP8))/LOG(2))))","v":0},null,{"$f":"N8","v":11112},{"$f":"COUNTIF(L157:L186,AS8)","v":0},{"$f":"AT8/(AV4-AT25)","v":0},{"$f":"IF(AU8=0,0,(AU8*((LOG(AU8))/LOG(2))))","v":0}]
[21,271,22,276,13,285,14,289,13,293,1,22111,null,11121,{"$f":"COUNTIF($L$7:$L$500,N9)","v":0},{"$f":"O9/$Q$4","v":0},{"$f":"IF(P9=0,0,(P9*((LOG(P9))/LOG(2))))","v":0},null,null,{"$f":"N9","v":11121},{"$f":"COUNTIF(L7:L36,T9)","v":0},{"$f":"U9/(W4-U25)","v":0},{"$f":"IF(V9=0,0,(V9*((LOG(V9))/LOG(2))))","v":0},null,{"$f":"N9","v":11121},{"$f":"COUNTIF(L37:L66,Y9)","v":0},{"$f":"Z9/(AB4-Z25)","v":0},{"$f":"IF(AA9=0,0,(AA9*((LOG(AA9))/LOG(2))))","v":0},null,{"$f":"N9","v":11121},{"$f":"COUNTIF(L67:L96,AD9)","v":0},{"$f":"AE9/(AG4-AE25)","v":0},{"$f":"IF(AF9=0,0,(AF9*((LOG(AF9))/LOG(2))))","v":0},null,{"$f":"N9","v":11121},{"$f":"COUNTIF(L97:L126,AI9)","v":0},{"$f":"AJ9/(AL4-AJ25)","v":0},{"$f":"IF(AK9=0,0,(AK9*((LOG(AK9))/LOG(2))))","v":0},null,{"$f":"N9","v":11121},{"$f":"COUNTIF(L127:L156,AN9)","v":0},{"$f":"AO9/(AQ4-AO25)","v":0},{"$f":"IF(AP9=0,0,(AP9*((LOG(AP9))/LOG(2))))","v":0},null,{"$f":"N9","v":11121},{"$f":"COUNTIF(L157:L186,AS9)","v":0},{"$f":"AT9/(AV4-AT25)","v":0},{"$f":"IF(AU9=0,0,(AU9*((LOG(AU9))/LOG(2))))","v":0}]
[21,393,22,411,13,419,14,429,13,452,0,22111,null,11122,{"$f":"COUNTIF($L$7:$L$500,N10)","v":0},{"$f":"O10/$Q$4","v":0},{"$f":"IF(P10=0,0,(P10*((LOG(P10))/LOG(2))))","v":0},null,null,{"$f":"N10","v":11122},{"$f":"COUNTIF(L7:L36,T10)","v":0},{"$f":"U10/(W4-U25)","v":0},{"$f":"IF(V10=0,0,(V10*((LOG(V10))/LOG(2))))","v":0},null,{"$f":"N10","v":11122},{"$f":"COUNTIF(L37:L66,Y10)","v":0},{"$f":"Z10/(AB4-Z25)","v":0},{"$f":"IF(AA10=0,0,(AA10*((LOG(AA10))/LOG(2))))","v":0},null,{"$f":"N10","v":11122},{"$f":"COUNTIF(L67:L96,AD10)","v":0},{"$f":"AE10/(AG4-AE25)","v":0},{"$f":"IF(AF10=0,0,(AF10*((LOG(AF10))/LOG(2))))","v":0},null,{"$f":"N10","v":11122},{"$f":"COUNTIF(L97:L126,AI10)","v":0},{"$f":"AJ10/(AL4-AJ25)","v":0},{"$f":"IF(AK10=0,0,(AK10*((LOG(AK10))/LOG(2))))","v":0},null,{"$f":"N10","v":11122},{"$f":"COUNTIF(L127:L156,AN10)","v":0},{"$f":"AO10/(AQ4-AO25)","v":0},{"$f":"IF(AP10=0,0,(AP10*((LOG(AP10))/LOG(2))))","v":0},null,{"$f":"N10","v":11122},{"$f":"COUNTIF(L157:L186,AS10)","v":0},{"$f":"AT10/(AV4-AT25)","v":0},{"$f":"IF(AU10=0,0,(AU10*((LOG(AU10))/LOG(2))))","v":0}]
[21,550,22,555,24,559,23,567,13,576,0,22221,null,11211,{"$f":"COUNTIF($L$7:$L$500,N11)","v":2},{"$f":"O11/$Q$4","v":1.1111111111111112E-2},{"$f":"IF(P11=0,0,(P11*((LOG(P11))/LOG(2))))","v":-7.2131701070329707E-2},null,null,{"$f":"N11","v":11211},{"$f":"COUNTIF(L7:L36,T11)","v":0},{"$f":"U11/(W4-U25)","v":0},{"$f":"IF(V11=0,0,(V11*((LOG(V11))/LOG(2))))","v":0},null,{"$f":"N11","v":11211},{"$f":"COUNTIF(L37:L66,Y11)","v":0},{"$f":"Z11/(AB4-Z25)","v":0},{"$f":"IF(AA11=0,0,(AA11*((LOG(AA11))/LOG(2))))","v":0},null,{"$f":"N11","v":11211},{"$f":"COUNTIF(L67:L96,AD11)","v":0},{"$f":"AE11/(AG4-AE25)","v":0},{"$f":"IF(AF11=0,0,(AF11*((LOG(AF11))/LOG(2))))","v":0},null,{"$f":"N11","v":11211},{"$f":"COUNTIF(L97:L126,AI11)","v":2},{"$f":"AJ11/(AL4-AJ25)","v":6.6666666666666666E-2},{"$f":"IF(AK11=0,0,(AK11*((LOG(AK11))/LOG(2))))","v":-0.26045937304056793},null,{"$f":"N11","v":11211},{"$f":"COUNTIF(L127:L156,AN11)","v":0},{"$f":"AO11/(AQ4-AO25)","v":0},{"$f":"IF(AP11=0,0,(AP11*((LOG(AP11))/LOG(2))))","v":0},null,{"$f":"N11","v":11211},{"$f":"COUNTIF(L157:L186,AS11)","v":0},{"$f":"AT11/(AV4-AT25)","v":0},{"$f":"IF(AU11=0,0,(AU11*((LOG(AU11))/LOG(2))))","v":0}]
[21,676,22,681,13,689,14,694,13,702,0,22111,null,11212,{"$f":"COUNTIF($L$7:$L$500,N12)","v":0},{"$f":"O12/$Q$4","v":0},{"$f":"IF(P12=0,0,(P12*((LOG(P12))/LOG(2))))","v":0},null,null,{"$f":"N12","v":11212},{"$f":"COUNTIF(L7:L36,T12)","v":0},{"$f":"U12/(W4-U25)","v":0},{"$f":"IF(V12=0,0,(V12*((LOG(V12))/LOG(2))))","v":0},null,{"$f":"N12","v":11212},{"$f":"COUNTIF(L37:L66,Y12)","v":0},{"$f":"Z12/(AB4-Z25)","v":0},{"$f":"IF(AA12=0,0,(AA12*((LOG(AA12))/LOG(2))))","v":0},null,{"$f":"N12","v":11212},{"$f":"COUNTIF(L67:L96,AD12)","v":0},{"$f":"AE12/(AG4-AE25)","v":0},{"$f":"IF(AF12=0,0,(AF12*((LOG(AF12))/LOG(2))))","v":0},null,{"$f":"N12","v":11212},{"$f":"COUNTIF(L97:L126,AI12)","v":0},{"$f":"AJ12/(AL4-AJ25)","v":0},{"$f":"IF(AK12=0,0,(AK12*((LOG(AK12))/LOG(2))))","v":0},null,{"$f":"N12","v":11212},{"$f":"COUNTIF(L127:L156,AN12)","v":0},{"$f":"AO12/(AQ4-AO25)","v":0},{"$f":"IF(AP12=0,0,(AP12*((LOG(AP12))/LOG(2))))","v":0},null,{"$f":"N12","v":11212},{"$f":"COUNTIF(L157:L186,AS12)","v":0},{"$f":"AT12/(AV4-AT25)","v":0},{"$f":"IF(AU12=0,0,(AU12*((LOG(AU12))/LOG(2))))","v":0}]
[21,821,11,828,11,835,12,850,13,862,1,21111,null,11221,{"$f":"COUNTIF($L$7:$L$500,N13)","v":1},{"$f":"O13/$Q$4","v":5.5555555555555558E-3},{"$f":"IF(P13=0,0,(P13*((LOG(P13))/LOG(2))))","v":-4.1621406090720417E-2},null,null,{"$f":"N13","v":11221},{"$f":"COUNTIF(L7:L36,T13)","v":0},{"$f":"U13/(W4-U25)","v":0},{"$f":"IF(V13=0,0,(V13*((LOG(V13))/LOG(2))))","v":0},null,{"$f":"N13","v":11221},{"$f":"COUNTIF(L37:L66,Y13)","v":0},{"$f":"Z13/(AB4-Z25)","v":0},{"$f":"IF(AA13=0,0,(AA13*((LOG(AA13))/LOG(2))))","v":0},null,{"$f":"N13","v":11221},{"$f":"COUNTIF(L67:L96,AD13)","v":0},{"$f":"AE13/(AG4-AE25)","v":0},{"$f":"IF(AF13=0,0,(AF13*((LOG(AF13))/LOG(2))))","v":0},null,{"$f":"N13","v":11221},{"$f":"COUNTIF(L97:L126,AI13)","v":1},{"$f":"AJ13/(AL4-AJ25)","v":3.3333333333333333E-2},{"$f":"IF(AK13=0,0,(AK13*((LOG(AK13))/LOG(2))))","v":-0.16356301985361729},null,{"$f":"N13","v":11221},{"$f":"COUNTIF(L127:L156,AN13)","v":0},{"$f":"AO13/(AQ4-AO25)","v":0},{"$f":"IF(AP13=0,0,(AP13*((LOG(AP13))/LOG(2))))","v":0},null,{"$f":"N13","v":11221},{"$f":"COUNTIF(L157:L186,AS13)","v":0},{"$f":"AT13/(AV4-AT25)","v":0},{"$f":"IF(AU13=0,0,(AU13*((LOG(AU13))/LOG(2))))","v":0}]
[21,965,11,999,11,1003,12,1008,24,1019,0,21112,null,11222,{"$f":"COUNTIF($L$7:$L$500,N14)","v":0},{"$f":"O14/$Q$4","v":0},{"$f":"IF(P14=0,0,(P14*((LOG(P14))/LOG(2))))","v":0},null,null,{"$f":"N14","v":11222},{"$f":"COUNTIF(L7:L36,T14)","v":0},{"$f":"U14/(W4-U25)","v":0},{"$f":"IF(V14=0,0,(V14*((LOG(V14))/LOG(2))))","v":0},null,{"$f":"N14","v":11222},{"$f":"COUNTIF(L37:L66,Y14)","v":0},{"$f":"Z14/(AB4-Z25)","v":0},{"$f":"IF(AA14=0,0,(AA14*((LOG(AA14))/LOG(2))))","v":0},null,{"$f":"N14","v":11222},{"$f":"COUNTIF(L67:L96,AD14)","v":0},{"$f":"AE14/(AG4-AE25)","v":0},{"$f":"IF(AF14=0,0,(AF14*((LOG(AF14))/LOG(2))))","v":0},null,{"$f":"N14","v":11222},{"$f":"COUNTIF(L97:L126,AI14)","v":0},{"$f":"AJ14/(AL4-AJ25)","v":0},{"$f":"IF(AK14=0,0,(AK14*((LOG(AK14))/LOG(2))))","v":0},null,{"$f":"N14","v":11222},{"$f":"COUNTIF(L127:L156,AN14)","v":0},{"$f":"AO14/(AQ4-AO25)","v":0},{"$f":"IF(AP14=0,0,(AP14*((LOG(AP14))/LOG(2))))","v":0},null,{"$f":"N14","v":11222},{"$f":"COUNTIF(L157:L186,AS14)","v":0},{"$f":"AT14/(AV4-AT25)","v":0},{"$f":"IF(AU14=0,0,(AU14*((LOG(AU14))/LOG(2))))","v":0}]
[21,1119,22,1128,24,1132,14,1142,13,1146,0,22211,null,12111,{"$f":"COUNTIF($L$7:$L$500,N15)","v":9},{"$f":"O15/$Q$4","v":0.05},{"$f":"IF(P15=0,0,(P15*((LOG(P15))/LOG(2))))","v":-0.21609640474436814},null,null,{"$f":"N15","v":12111},{"$f":"COUNTIF(L7:L36,T15)","v":1},{"$f":"U15/(W4-U25)","v":3.3333333333333333E-2},{"$f":"IF(V15=0,0,(V15*((LOG(V15))/LOG(2))))","v":-0.16356301985361729},null,{"$f":"N15","v":12111},{"$f":"COUNTIF(L37:L66,Y15)","v":1},{"$f":"Z15/(AB4-Z25)","v":3.3333333333333333E-2},{"$f":"IF(AA15=0,0,(AA15*((LOG(AA15))/LOG(2))))","v":-0.16356301985361729},null,{"$f":"N15","v":12111},{"$f":"COUNTIF(L67:L96,AD15)","v":0},{"$f":"AE15/(AG4-AE25)","v":0},{"$f":"IF(AF15=0,0,(AF15*((LOG(AF15))/LOG(2))))","v":0},null,{"$f":"N15","v":12111},{"$f":"COUNTIF(L97:L126,AI15)","v":2},{"$f":"AJ15/(AL4-AJ25)","v":6.6666666666666666E-2},{"$f":"IF(AK15=0,0,(AK15*((LOG(AK15))/LOG(2))))","v":-0.26045937304056793},null,{"$f":"N15","v":12111},{"$f":"COUNTIF(L127:L156,AN15)","v":2},{"$f":"AO15/(AQ4-AO25)","v":6.6666666666666666E-2},{"$f":"IF(AP15=0,0,(AP15*((LOG(AP15))/LOG(2))))","v":-0.26045937304056793},null,{"$f":"N15","v":12111},{"$f":"COUNTIF(L157:L186,AS15)","v":3},{"$f":"AT15/(AV4-AT25)","v":0.1},{"$f":"IF(AU15=0,0,(AU15*((LOG(AU15))/LOG(2))))","v":-0.33219280948873625}]
[21,1244,11,1253,22,1260,14,1277,13,1281,0,21211,null,12112,{"$f":"COUNTIF($L$7:$L$500,N16)","v":0},{"$f":"O16/$Q$4","v":0},{"$f":"IF(P16=0,0,(P16*((LOG(P16))/LOG(2))))","v":0},null,null,{"$f":"N16","v":12112},{"$f":"COUNTIF(L7:L36,T16)","v":0},{"$f":"U16/(W4-U25)","v":0},{"$f":"IF(V16=0,0,(V16*((LOG(V16))/LOG(2))))","v":0},null,{"$f":"N16","v":12112},{"$f":"COUNTIF(L37:L66,Y16)","v":0},{"$f":"Z16/(AB4-Z25)","v":0},{"$f":"IF(AA16=0,0,(AA16*((LOG(AA16))/LOG(2))))","v":0},null,{"$f":"N16","v":12112},{"$f":"COUNTIF(L67:L96,AD16)","v":0},{"$f":"AE16/(AG4-AE25)","v":0},{"$f":"IF(AF16=0,0,(AF16*((LOG(AF16))/LOG(2))))","v":0},null,{"$f":"N16","v":12112},{"$f":"COUNTIF(L97:L126,AI16)","v":0},{"$f":"AJ16/(AL4-AJ25)","v":0},{"$f":"IF(AK16=0,0,(AK16*((LOG(AK16))/LOG(2))))","v":0},null,{"$f":"N16","v":12112},{"$f":"COUNTIF(L127:L156,AN16)","v":0},{"$f":"AO16/(AQ4-AO25)","v":0},{"$f":"IF(AP16=0,0,(AP16*((LOG(AP16))/LOG(2))))","v":0},null,{"$f":"N16","v":12112},{"$f":"COUNTIF(L157:L186,AS16)","v":0},{"$f":"AT16/(AV4-AT25)","v":0},{"$f":"IF(AU16=0,0,(AU16*((LOG(AU16))/LOG(2))))","v":0}]
[21,1382,22,1386,13,1394,14,1402,13,1408,0,22111,null,12121,{"$f":"COUNTIF($L$7:$L$500,N17)","v":1},{"$f":"O17/$Q$4","v":5.5555555555555558E-3},{"$f":"IF(P17=0,0,(P17*((LOG(P17))/LOG(2))))","v":-4.1621406090720417E-2},null,null,{"$f":"N17","v":12121},{"$f":"COUNTIF(L7:L36,T17)","v":1},{"$f":"U17/(W4-U25)","v":3.3333333333333333E-2},{"$f":"IF(V17=0,0,(V17*((LOG(V17))/LOG(2))))","v":-0.16356301985361729},null,{"$f":"N17","v":12121},{"$f":"COUNTIF(L37:L66,Y17)","v":0},{"$f":"Z17/(AB4-Z25)","v":0},{"$f":"IF(AA17=0,0,(AA17*((LOG(AA17))/LOG(2))))","v":0},null,{"$f":"N17","v":12121},{"$f":"COUNTIF(L67:L96,AD17)","v":0},{"$f":"AE17/(AG4-AE25)","v":0},{"$f":"IF(AF17=0,0,(AF17*((LOG(AF17))/LOG(2))))","v":0},null,{"$f":"N17","v":12121},{"$f":"COUNTIF(L97:L126,AI17)","v":0},{"$f":"AJ17/(AL4-AJ25)","v":0},{"$f":"IF(AK17=0,0,(AK17*((LOG(AK17))/LOG(2))))","v":0},null,{"$f":"N17","v":12121},{"$f":"COUNTIF(L127:L156,AN17)","v":0},{"$f":"AO17/(AQ4-AO25)","v":0},{"$f":"IF(AP17=0,0,(AP17*((LOG(AP17))/LOG(2))))","v":0},null,{"$f":"N17","v":12121},{"$f":"COUNTIF(L157:L186,AS17)","v":0},{"$f":"AT17/(AV4-AT25)","v":0},{"$f":"IF(AU17=0,0,(AU17*((LOG(AU17))/LOG(2))))","v":0}]
[21,1508,22,1516,13,1526,14,1529,13,1534,0,22111,null,12122,{"$f":"COUNTIF($L$7:$L$500,N18)","v":0},{"$f":"O18/$Q$4","v":0},{"$f":"IF(P18=0,0,(P18*((LOG(P18))/LOG(2))))","v":0},null,null,{"$f":"N18","v":12122},{"$f":"COUNTIF(L7:L36,T18)","v":0},{"$f":"U18/(W4-U25)","v":0},{"$f":"IF(V18=0,0,(V18*((LOG(V18))/LOG(2))))","v":0},null,{"$f":"N18","v":12122},{"$f":"COUNTIF(L37:L66,Y18)","v":0},{"$f":"Z18/(AB4-Z25)","v":0},{"$f":"IF(AA18=0,0,(AA18*((LOG(AA18))/LOG(2))))","v":0},null,{"$f":"N18","v":12122},{"$f":"COUNTIF(L67:L96,AD18)","v":0},{"$f":"AE18/(AG4-AE25)","v":0},{"$f":"IF(AF18=0,0,(AF18*((LOG(AF18))/LOG(2))))","v":0},null,{"$f":"N18","v":12122},{"$f":"COUNTIF(L97:L126,AI18)","v":0},{"$f":"AJ18/(AL4-AJ25)","v":0},{"$f":"IF(AK18=0,0,(AK18*((LOG(AK18))/LOG(2))))","v":0},null,{"$f":"N18","v":12122},{"$f":"COUNTIF(L127:L156,AN18)","v":0},{"$f":"AO18/(AQ4-AO25)","v":0},{"$f":"IF(AP18=0,0,(AP18*((LOG(AP18))/LOG(2))))","v":0},null,{"$f":"N18","v":12122},{"$f":"COUNTIF(L157:L186,AS18)","v":0},{"$f":"AT18/(AV4-AT25)","v":0},{"$f":"IF(AU18=0,0,(AU18*((LOG(AU18))/LOG(2))))","v":0}]
[21,1631,22,1636,24,1640,23,1647,13,1662,1,22221,null,12211,{"$f":"COUNTIF($L$7:$L$500,N19)","v":6},{"$f":"O19/$Q$4","v":3.3333333333333333E-2},{"$f":"IF(P19=0,0,(P19*((LOG(P19))/LOG(2))))","v":-0.16356301985361729},null,null,{"$f":"N19","v":12211},{"$f":"COUNTIF(L7:L36,T19)","v":2},{"$f":"U19/(W4-U25)","v":6.6666666666666666E-2},{"$f":"IF(V19=0,0,(V19*((LOG(V19))/LOG(2))))","v":-0.26045937304056793},null,{"$f":"N19","v":12211},{"$f":"COUNTIF(L37:L66,Y19)","v":2},{"$f":"Z19/(AB4-Z25)","v":6.6666666666666666E-2},{"$f":"IF(AA19=0,0,(AA19*((LOG(AA19))/LOG(2))))","v":-0.26045937304056793},null,{"$f":"N19","v":12211},{"$f":"COUNTIF(L67:L96,AD19)","v":1},{"$f":"AE19/(AG4-AE25)","v":3.3333333333333333E-2},{"$f":"IF(AF19=0,0,(AF19*((LOG(AF19))/LOG(2))))","v":-0.16356301985361729},null,{"$f":"N19","v":12211},{"$f":"COUNTIF(L97:L126,AI19)","v":1},{"$f":"AJ19/(AL4-AJ25)","v":3.3333333333333333E-2},{"$f":"IF(AK19=0,0,(AK19*((LOG(AK19))/LOG(2))))","v":-0.16356301985361729},null,{"$f":"N19","v":12211},{"$f":"COUNTIF(L127:L156,AN19)","v":0},{"$f":"AO19/(AQ4-AO25)","v":0},{"$f":"IF(AP19=0,0,(AP19*((LOG(AP19))/LOG(2))))","v":0},null,{"$f":"N19","v":12211},{"$f":"COUNTIF(L157:L186,AS19)","v":0},{"$f":"AT19/(AV4-AT25)","v":0},{"$f":"IF(AU19=0,0,(AU19*((LOG(AU19))/LOG(2))))","v":0}]
[21,1760,22,1768,13,1776,23,1784,13,1795,0,22121,null,12212,{"$f":"COUNTIF($L$7:$L$500,N20)","v":0},{"$f":"O20/$Q$4","v":0},{"$f":"IF(P20=0,0,(P20*((LOG(P20))/LOG(2))))","v":0},null,null,{"$f":"N20","v":12212},{"$f":"COUNTIF(L7:L36,T20)","v":0},{"$f":"U20/(W4-U25)","v":0},{"$f":"IF(V20=0,0,(V20*((LOG(V20))/LOG(2))))","v":0},null,{"$f":"N20","v":12212},{"$f":"COUNTIF(L37:L66,Y20)","v":0},{"$f":"Z20/(AB4-Z25)","v":0},{"$f":"IF(AA20=0,0,(AA20*((LOG(AA20))/LOG(2))))","v":0},null,{"$f":"N20","v":12212},{"$f":"COUNTIF(L67:L96,AD20)","v":0},{"$f":"AE20/(AG4-AE25)","v":0},{"$f":"IF(AF20=0,0,(AF20*((LOG(AF20))/LOG(2))))","v":0},null,{"$f":"N20","v":12212},{"$f":"COUNTIF(L97:L126,AI20)","v":0},{"$f":"AJ20/(AL4-AJ25)","v":0},{"$f":"IF(AK20=0,0,(AK20*((LOG(AK20))/LOG(2))))","v":0},null,{"$f":"N20","v":12212},{"$f":"COUNTIF(L127:L156,AN20)","v":0},{"$f":"AO20/(AQ4-AO25)","v":0},{"$f":"IF(AP20=0,0,(AP20*((LOG(AP20))/LOG(2))))","v":0},null,{"$f":"N20","v":12212},{"$f":"COUNTIF(L157:L186,AS20)","v":0},{"$f":"AT20/(AV4-AT25)","v":0},{"$f":"IF(AU20=0,0,(AU20*((LOG(AU20))/LOG(2))))","v":0}]
[21,1894,11,1908,22,1915,14,1932,13,1941,0,21211,null,12221,{"$f":"COUNTIF($L$7:$L$500,N21)","v":2},{"$f":"O21/$Q$4","v":1.1111111111111112E-2},{"$f":"IF(P21=0,0,(P21*((LOG(P21))/LOG(2))))","v":-7.2131701070329707E-2},null,null,{"$f":"N21","v":12221},{"$f":"COUNTIF(L7:L36,T21)","v":0},{"$f":"U21/(W4-U25)","v":0},{"$f":"IF(V21=0,0,(V21*((LOG(V21))/LOG(2))))","v":0},null,{"$f":"N21","v":12221},{"$f":"COUNTIF(L37:L66,Y21)","v":0},{"$f":"Z21/(AB4-Z25)","v":0},{"$f":"IF(AA21=0,0,(AA21*((LOG(AA21))/LOG(2))))","v":0},null,{"$f":"N21","v":12221},{"$f":"COUNTIF(L67:L96,AD21)","v":0},{"$f":"AE21/(AG4-AE25)","v":0},{"$f":"IF(AF21=0,0,(AF21*((LOG(AF21))/LOG(2))))","v":0},null,{"$f":"N21","v":12221},{"$f":"COUNTIF(L97:L126,AI21)","v":2},{"$f":"AJ21/(AL4-AJ25)","v":6.6666666666666666E-2},{"$f":"IF(AK21=0,0,(AK21*((LOG(AK21))/LOG(2))))","v":-0.26045937304056793},null,{"$f":"N21","v":12221},{"$f":"COUNTIF(L127:L156,AN21)","v":0},{"$f":"AO21/(AQ4-AO25)","v":0},{"$f":"IF(AP21=0,0,(AP21*((LOG(AP21))/LOG(2))))","v":0},null,{"$f":"N21","v":12221},{"$f":"COUNTIF(L157:L186,AS21)","v":0},{"$f":"AT21/(AV4-AT25)","v":0},{"$f":"IF(AU21=0,0,(AU21*((LOG(AU21))/LOG(2))))","v":0}]
[21,2040,22,2048,24,2053,23,2062,13,2075,0,22221,null,12222,{"$f":"COUNTIF($L$7:$L$500,N22)","v":0},{"$f":"O22/$Q$4","v":0},{"$f":"IF(P22=0,0,(P22*((LOG(P22))/LOG(2))))","v":0},null,null,{"$f":"N22","v":12222},{"$f":"COUNTIF(L7:L36,T22)","v":0},{"$f":"U22/(W4-U25)","v":0},{"$f":"IF(V22=0,0,(V22*((LOG(V22))/LOG(2))))","v":0},null,{"$f":"N22","v":12222},{"$f":"COUNTIF(L37:L66,Y22)","v":0},{"$f":"Z22/(AB4-Z25)","v":0},{"$f":"IF(AA22=0,0,(AA22*((LOG(AA22))/LOG(2))))","v":0},null,{"$f":"N22","v":12222},{"$f":"COUNTIF(L67:L96,AD22)","v":0},{"$f":"AE22/(AG4-AE25)","v":0},{"$f":"IF(AF22=0,0,(AF22*((LOG(AF22))/LOG(2))))","v":0},null,{"$f":"N22","v":12222},{"$f":"COUNTIF(L97:L126,AI22)","v":0},{"$f":"AJ22/(AL4-AJ25)","v":0},{"$f":"IF(AK22=0,0,(AK22*((LOG(AK22))/LOG(2))))","v":0},null,{"$f":"N22","v":12222},{"$f":"COUNTIF(L127:L156,AN22)","v":0},{"$f":"AO22/(AQ4-AO25)","v":0},{"$f":"IF(AP22=0,0,(AP22*((LOG(AP22))/LOG(2))))","v":0},null,{"$f":"N22","v":12222},{"$f":"COUNTIF(L157:L186,AS22)","v":0},{"$f":"AT22/(AV4-AT25)","v":0},{"$f":"IF(AU22=0,0,(AU22*((LOG(AU22))/LOG(2))))","v":0}]
[21,2177,22,2185,13,2193,14,2198,13,2204,0,22111,null,21111,{"$f":"COUNTIF($L$7:$L$500,N23)","v":28},{"$f":"O23/$Q$4","v":0.15555555555555556},{"$f":"IF(P23=0,0,(P23*((LOG(P23))/LOG(2))))","v":-0.41758860488676652},null,null,{"$f":"N23","v":21111},{"$f":"COUNTIF(L7:L36,T23)","v":2},{"$f":"U23/(W4-U25)","v":6.6666666666666666E-2},{"$f":"IF(V23=0,0,(V23*((LOG(V23))/LOG(2))))","v":-0.26045937304056793},null,{"$f":"N23","v":21111},{"$f":"COUNTIF(L37:L66,Y23)","v":3},{"$f":"Z23/(AB4-Z25)","v":0.1},{"$f":"IF(AA23=0,0,(AA23*((LOG(AA23))/LOG(2))))","v":-0.33219280948873625},null,{"$f":"N23","v":21111},{"$f":"COUNTIF(L67:L96,AD23)","v":6},{"$f":"AE23/(AG4-AE25)","v":0.2},{"$f":"IF(AF23=0,0,(AF23*((LOG(AF23))/LOG(2))))","v":-0.46438561897747244},null,{"$f":"N23","v":21111},{"$f":"COUNTIF(L97:L126,AI23)","v":4},{"$f":"AJ23/(AL4-AJ25)","v":0.13333333333333333},{"$f":"IF(AK23=0,0,(AK23*((LOG(AK23))/LOG(2))))","v":-0.3875854127478025},null,{"$f":"N23","v":21111},{"$f":"COUNTIF(L127:L156,AN23)","v":6},{"$f":"AO23/(AQ4-AO25)","v":0.2},{"$f":"IF(AP23=0,0,(AP23*((LOG(AP23))/LOG(2))))","v":-0.46438561897747244},null,{"$f":"N23","v":21111},{"$f":"COUNTIF(L157:L186,AS23)","v":7},{"$f":"AT23/(AV4-AT25)","v":0.23333333333333334},{"$f":"IF(AU23=0,0,(AU23*((LOG(AU23))/LOG(2))))","v":-0.48989165716187993}]
[21,2304,11,2318,22,2326,14,2336,13,2345,0,21211,null,21112,{"$f":"COUNTIF($L$7:$L$500,N24)","v":1},{"$f":"O24/$Q$4","v":5.5555555555555558E-3},{"$f":"IF(P24=0,0,(P24*((LOG(P24))/LOG(2))))","v":-4.1621406090720417E-2},null,null,{"$f":"N24","v":21112},{"$f":"COUNTIF(L7:L36,T24)","v":1},{"$f":"U24/(W4-U25)","v":3.3333333333333333E-2},{"$f":"IF(V24=0,0,(V24*((LOG(V24))/LOG(2))))","v":-0.16356301985361729},null,{"$f":"N24","v":21112},{"$f":"COUNTIF(L37:L66,Y24)","v":0},{"$f":"Z24/(AB4-Z25)","v":0},{"$f":"IF(AA24=0,0,(AA24*((LOG(AA24))/LOG(2))))","v":0},null,{"$f":"N24","v":21112},{"$f":"COUNTIF(L67:L96,AD24)","v":0},{"$f":"AE24/(AG4-AE25)","v":0},{"$f":"IF(AF24=0,0,(AF24*((LOG(AF24))/LOG(2))))","v":0},null,{"$f":"N24","v":21112},{"$f":"COUNTIF(L97:L126,AI24)","v":0},{"$f":"AJ24/(AL4-AJ25)","v":0},{"$f":"IF(AK24=0,0,(AK24*((LOG(AK24))/LOG(2))))","v":0},null,{"$f":"N24","v":21112},{"$f":"COUNTIF(L127:L156,AN24)","v":0},{"$f":"AO24/(AQ4-AO25)","v":0},{"$f":"IF(AP24=0,0,(AP24*((LOG(AP24))/LOG(2))))","v":0},null,{"$f":"N24","v":21112},{"$f":"COUNTIF(L157:L186,AS24)","v":0},{"$f":"AT24/(AV4-AT25)","v":0},{"$f":"IF(AU24=0,0,(AU24*((LOG(AU24))/LOG(2))))","v":0}]
[12,2452,24,2461,24,2465,14,2474,13,2481,0,12211,null,21121,{"$f":"COUNTIF($L$7:$L$500,N25)","v":0},{"$f":"O25/$Q$4","v":0},{"$f":"IF(P25=0,0,(P25*((LOG(P25))/LOG(2))))","v":0},null,null,{"$f":"N25","v":21121},{"$f":"COUNTIF(L7:L36,T25)","v":0},null,null,null,{"$f":"N25","v":21121},{"$f":"COUNTIF(L37:L66,Y25)","v":0},null,null,null,{"$f":"N25","v":21121},{"$f":"COUNTIF(L67:L96,AD25)","v":0},null,null,null,{"$f":"N25","v":21121},{"$f":"COUNTIF(L97:L126,AI25)","v":0},null,null,null,{"$f":"N25","v":21121},{"$f":"COUNTIF(L127:L156,AN25)","v":0},null,null,null,{"$f":"N25","v":21121},{"$f":"COUNTIF(L157:L186,AS25)","v":0}]
[21,2579,22,2587,24,2592,14,2602,13,2609,0,22211,null,21122,{"$f":"COUNTIF($L$7:$L$500,N26)","v":0},{"$f":"O26/$Q$4","v":0},{"$f":"IF(P26=0,0,(P26*((LOG(P26))/LOG(2))))","v":0},null,null,{"$f":"N26","v":21122},{"$f":"COUNTIF(L7:L36,T26)","v":0},{"$f":"U26/(W4-U25)","v":0},{"$f":"IF(V26=0,0,(V26*((LOG(V26))/LOG(2))))","v":0},null,{"$f":"N26","v":21122},{"$f":"COUNTIF(L37:L66,Y26)","v":0},{"$f":"Z26/(AB4-Z25)","v":0},{"$f":"IF(AA26=0,0,(AA26*((LOG(AA26))/LOG(2))))","v":0},null,{"$f":"N26","v":21122},{"$f":"COUNTIF(L67:L96,AD26)","v":0},{"$f":"AE26/(AG4-AE25)","v":0},{"$f":"IF(AF26=0,0,(AF26*((LOG(AF26))/LOG(2))))","v":0},null,{"$f":"N26","v":21122},{"$f":"COUNTIF(L97:L126,AI26)","v":0},{"$f":"AJ26/(AL4-AJ25)","v":0},{"$f":"IF(AK26=0,0,(AK26*((LOG(AK26))/LOG(2))))","v":0},null,{"$f":"N26","v":21122},{"$f":"COUNTIF(L127:L156,AN26)","v":0},{"$f":"AO26/(AQ4-AO25)","v":0},{"$f":"IF(AP26=0,0,(AP26*((LOG(AP26))/LOG(2))))","v":0},null,{"$f":"N26","v":21122},{"$f":"COUNTIF(L157:L186,AS26)","v":0},{"$f":"AT26/(AV4-AT25)","v":0},{"$f":"IF(AU26=0,0,(AU26*((LOG(AU26))/LOG(2))))","v":0}]
[21,2711,22,2715,24,2720,14,2729,13,2737,0,22211,null,21211,{"$f":"COUNTIF($L$7:$L$500,N27)","v":14},{"$f":"O27/$Q$4","v":7.7777777777777779E-2},{"$f":"IF(P27=0,0,(P27*((LOG(P27))/LOG(2))))","v":-0.28657208022116104},null,null,{"$f":"N27","v":21211},{"$f":"COUNTIF(L7:L36,T27)","v":4},{"$f":"U27/(W4-U25)","v":0.13333333333333333},{"$f":"IF(V27=0,0,(V27*((LOG(V27))/LOG(2))))","v":-0.3875854127478025},null,{"$f":"N27","v":21211},{"$f":"COUNTIF(L37:L66,Y27)","v":5},{"$f":"Z27/(AB4-Z25)","v":0.16666666666666666},{"$f":"IF(AA27=0,0,(AA27*((LOG(AA27))/LOG(2))))","v":-0.43082708345352599},null,{"$f":"N27","v":21211},{"$f":"COUNTIF(L67:L96,AD27)","v":1},{"$f":"AE27/(AG4-AE25)","v":3.3333333333333333E-2},{"$f":"IF(AF27=0,0,(AF27*((LOG(AF27))/LOG(2))))","v":-0.16356301985361729},null,{"$f":"N27","v":21211},{"$f":"COUNTIF(L97:L126,AI27)","v":2},{"$f":"AJ27/(AL4-AJ25)","v":6.6666666666666666E-2},{"$f":"IF(AK27=0,0,(AK27*((LOG(AK27))/LOG(2))))","v":-0.26045937304056793},null,{"$f":"N27","v":21211},{"$f":"COUNTIF(L127:L156,AN27)","v":0},{"$f":"AO27/(AQ4-AO25)","v":0},{"$f":"IF(AP27=0,0,(AP27*((LOG(AP27))/LOG(2))))","v":0},null,{"$f":"N27","v":21211},{"$f":"COUNTIF(L157:L186,AS27)","v":2},{"$f":"AT27/(AV4-AT25)","v":6.6666666666666666E-2},{"$f":"IF(AU27=0,0,(AU27*((LOG(AU27))/LOG(2))))","v":-0.26045937304056793}]
[21,2836,11,2844,22,2851,23,2856,13,2866,0,21221,null,21212,{"$f":"COUNTIF($L$7:$L$500,N28)","v":0},{"$f":"O28/$Q$4","v":0},{"$f":"IF(P28=0,0,(P28*((LOG(P28))/LOG(2))))","v":0},null,null,{"$f":"N28","v":21212},{"$f":"COUNTIF(L7:L36,T28)","v":0},{"$f":"U28/(W4-U25)","v":0},{"$f":"IF(V28=0,0,(V28*((LOG(V28))/LOG(2))))","v":0},null,{"$f":"N28","v":21212},{"$f":"COUNTIF(L37:L66,Y28)","v":0},{"$f":"Z28/(AB4-Z25)","v":0},{"$f":"IF(AA28=0,0,(AA28*((LOG(AA28))/LOG(2))))","v":0},null,{"$f":"N28","v":21212},{"$f":"COUNTIF(L67:L96,AD28)","v":0},{"$f":"AE28/(AG4-AE25)","v":0},{"$f":"IF(AF28=0,0,(AF28*((LOG(AF28))/LOG(2))))","v":0},null,{"$f":"N28","v":21212},{"$f":"COUNTIF(L97:L126,AI28)","v":0},{"$f":"AJ28/(AL4-AJ25)","v":0},{"$f":"IF(AK28=0,0,(AK28*((LOG(AK28))/LOG(2))))","v":0},null,{"$f":"N28","v":21212},{"$f":"COUNTIF(L127:L156,AN28)","v":0},{"$f":"AO28/(AQ4-AO25)","v":0},{"$f":"IF(AP28=0,0,(AP28*((LOG(AP28))/LOG(2))))","v":0},null,{"$f":"N28","v":21212},{"$f":"COUNTIF(L157:L186,AS28)","v":0},{"$f":"AT28/(AV4-AT25)","v":0},{"$f":"IF(AU28=0,0,(AU28*((LOG(AU28))/LOG(2))))","v":0}]
[12,2972,24,2979,13,2988,14,2992,13,3017,0,12111,null,21221,{"$f":"COUNTIF($L$7:$L$500,N29)","v":5},{"$f":"O29/$Q$4","v":2.7777777777777776E-2},{"$f":"IF(P29=0,0,(P29*((LOG(P29))/LOG(2))))","v":-0.14360902781784199},null,null,{"$f":"N29","v":21221},{"$f":"COUNTIF(L7:L36,T29)","v":1},{"$f":"U29/(W4-U25)","v":3.3333333333333333E-2},{"$f":"IF(V29=0,0,(V29*((LOG(V29))/LOG(2))))","v":-0.16356301985361729},null,{"$f":"N29","v":21221},{"$f":"COUNTIF(L37:L66,Y29)","v":1},{"$f":"Z29/(AB4-Z25)","v":3.3333333333333333E-2},{"$f":"IF(AA29=0,0,(AA29*((LOG(AA29))/LOG(2))))","v":-0.16356301985361729},null,{"$f":"N29","v":21221},{"$f":"COUNTIF(L67:L96,AD29)","v":0},{"$f":"AE29/(AG4-AE25)","v":0},{"$f":"IF(AF29=0,0,(AF29*((LOG(AF29))/LOG(2))))","v":0},null,{"$f":"N29","v":21221},{"$f":"COUNTIF(L97:L126,AI29)","v":1},{"$f":"AJ29/(AL4-AJ25)","v":3.3333333333333333E-2},{"$f":"IF(AK29=0,0,(AK29*((LOG(AK29))/LOG(2))))","v":-0.16356301985361729},null,{"$f":"N29","v":21221},{"$f":"COUNTIF(L127:L156,AN29)","v":1},{"$f":"AO29/(AQ4-AO25)","v":3.3333333333333333E-2},{"$f":"IF(AP29=0,0,(AP29*((LOG(AP29))/LOG(2))))","v":-0.16356301985361729},null,{"$f":"N29","v":21221},{"$f":"COUNTIF(L157:L186,AS29)","v":1},{"$f":"AT29/(AV4-AT25)","v":3.3333333333333333E-2},{"$f":"IF(AU29=0,0,(AU29*((LOG(AU29))/LOG(2))))","v":-0.16356301985361729}]
[21,3153,11,3162,11,3166,12,3169,13,3179,1,21111,null,21222,{"$f":"COUNTIF($L$7:$L$500,N30)","v":1},{"$f":"O30/$Q$4","v":5.5555555555555558E-3},{"$f":"IF(P30=0,0,(P30*((LOG(P30))/LOG(2))))","v":-4.1621406090720417E-2},null,null,{"$f":"N30","v":21222},{"$f":"COUNTIF(L7:L36,T30)","v":0},{"$f":"U30/(W4-U25)","v":0},{"$f":"IF(V30=0,0,(V30*((LOG(V30))/LOG(2))))","v":0},null,{"$f":"N30","v":21222},{"$f":"COUNTIF(L37:L66,Y30)","v":0},{"$f":"Z30/(AB4-Z25)","v":0},{"$f":"IF(AA30=0,0,(AA30*((LOG(AA30))/LOG(2))))","v":0},null,{"$f":"N30","v":21222},{"$f":"COUNTIF(L67:L96,AD30)","v":0},{"$f":"AE30/(AG4-AE25)","v":0},{"$f":"IF(AF30=0,0,(AF30*((LOG(AF30))/LOG(2))))","v":0},null,{"$f":"N30","v":21222},{"$f":"COUNTIF(L97:L126,AI30)","v":1},{"$f":"AJ30/(AL4-AJ25)","v":3.3333333333333333E-2},{"$f":"IF(AK30=0,0,(AK30*((LOG(AK30))/LOG(2))))","v":-0.16356301985361729},null,{"$f":"N30","v":21222},{"$f":"COUNTIF(L127:L156,AN30)","v":0},{"$f":"AO30/(AQ4-AO25)","v":0},{"$f":"IF(AP30=0,0,(AP30*((LOG(AP30))/LOG(2))))","v":0},null,{"$f":"N30","v":21222},{"$f":"COUNTIF(L157:L186,AS30)","v":0},{"$f":"AT30/(AV4-AT25)","v":0},{"$f":"IF(AU30=0,0,(AU30*((LOG(AU30))/LOG(2))))","v":0}]
[21,3273,22,3284,24,3289,14,3302,13,3306,1,22211,null,22111,{"$f":"COUNTIF($L$7:$L$500,N31)","v":30},{"$f":"O31/$Q$4","v":0.16666666666666666},{"$f":"IF(P31=0,0,(P31*((LOG(P31))/LOG(2))))","v":-0.43082708345352599},null,null,{"$f":"N31","v":22111},{"$f":"COUNTIF(L7:L36,T31)","v":7},{"$f":"U31/(W4-U25)","v":0.23333333333333334},{"$f":"IF(V31=0,0,(V31*((LOG(V31))/LOG(2))))","v":-0.48989165716187993},null,{"$f":"N31","v":22111},{"$f":"COUNTIF(L37:L66,Y31)","v":3},{"$f":"Z31/(AB4-Z25)","v":0.1},{"$f":"IF(AA31=0,0,(AA31*((LOG(AA31))/LOG(2))))","v":-0.33219280948873625},null,{"$f":"N31","v":22111},{"$f":"COUNTIF(L67:L96,AD31)","v":7},{"$f":"AE31/(AG4-AE25)","v":0.23333333333333334},{"$f":"IF(AF31=0,0,(AF31*((LOG(AF31))/LOG(2))))","v":-0.48989165716187993},null,{"$f":"N31","v":22111},{"$f":"COUNTIF(L97:L126,AI31)","v":8},{"$f":"AJ31/(AL4-AJ25)","v":0.26666666666666666},{"$f":"IF(AK31=0,0,(AK31*((LOG(AK31))/LOG(2))))","v":-0.50850415882893829},null,{"$f":"N31","v":22111},{"$f":"COUNTIF(L127:L156,AN31)","v":2},{"$f":"AO31/(AQ4-AO25)","v":6.6666666666666666E-2},{"$f":"IF(AP31=0,0,(AP31*((LOG(AP31))/LOG(2))))","v":-0.26045937304056793},null,{"$f":"N31","v":22111},{"$f":"COUNTIF(L157:L186,AS31)","v":3},{"$f":"AT31/(AV4-AT25)","v":0.1},{"$f":"IF(AU31=0,0,(AU31*((LOG(AU31))/LOG(2))))","v":-0.33219280948873625}]
[21,3401,22,3405,24,3410,23,3417,13,3428,0,22221,null,22112,{"$f":"COUNTIF($L$7:$L$500,N32)","v":0},{"$f":"O32/$Q$4","v":0},{"$f":"IF(P32=0,0,(P32*((LOG(P32))/LOG(2))))","v":0},null,null,{"$f":"N32","v":22112},{"$f":"COUNTIF(L7:L36,T32)","v":0},{"$f":"U32/(W4-U25)","v":0},{"$f":"IF(V32=0,0,(V32*((LOG(V32))/LOG(2))))","v":0},null,{"$f":"N32","v":22112},{"$f":"COUNTIF(L37:L66,Y32)","v":0},{"$f":"Z32/(AB4-Z25)","v":0},{"$f":"IF(AA32=0,0,(AA32*((LOG(AA32))/LOG(2))))","v":0},null,{"$f":"N32","v":22112},{"$f":"COUNTIF(L67:L96,AD32)","v":0},{"$f":"AE32/(AG4-AE25)","v":0},{"$f":"IF(AF32=0,0,(AF32*((LOG(AF32))/LOG(2))))","v":0},null,{"$f":"N32","v":22112},{"$f":"COUNTIF(L97:L126,AI32)","v":0},{"$f":"AJ32/(AL4-AJ25)","v":0},{"$f":"IF(AK32=0,0,(AK32*((LOG(AK32))/LOG(2))))","v":0},null,{"$f":"N32","v":22112},{"$f":"COUNTIF(L127:L156,AN32)","v":0},{"$f":"AO32/(AQ4-AO25)","v":0},{"$f":"IF(AP32=0,0,(AP32*((LOG(AP32))/LOG(2))))","v":0},null,{"$f":"N32","v":22112},{"$f":"COUNTIF(L157:L186,AS32)","v":0},{"$f":"AT32/(AV4-AT25)","v":0},{"$f":"IF(AU32=0,0,(AU32*((LOG(AU32))/LOG(2))))","v":0}]
[12,3528,13,3533,13,3537,14,3545,13,3552,0,11111,null,22121,{"$f":"COUNTIF($L$7:$L$500,N33)","v":4},{"$f":"O33/$Q$4","v":2.2222222222222223E-2},{"$f":"IF(P33=0,0,(P33*((LOG(P33))/LOG(2))))","v":-0.12204117991843723},null,null,{"$f":"N33","v":22121},{"$f":"COUNTIF(L7:L36,T33)","v":1},{"$f":"U33/(W4-U25)","v":3.3333333333333333E-2},{"$f":"IF(V33=0,0,(V33*((LOG(V33))/LOG(2))))","v":-0.16356301985361729},null,{"$f":"N33","v":22121},{"$f":"COUNTIF(L37:L66,Y33)","v":1},{"$f":"Z33/(AB4-Z25)","v":3.3333333333333333E-2},{"$f":"IF(AA33=0,0,(AA33*((LOG(AA33))/LOG(2))))","v":-0.16356301985361729},null,{"$f":"N33","v":22121},{"$f":"COUNTIF(L67:L96,AD33)","v":0},{"$f":"AE33/(AG4-AE25)","v":0},{"$f":"IF(AF33=0,0,(AF33*((LOG(AF33))/LOG(2))))","v":0},null,{"$f":"N33","v":22121},{"$f":"COUNTIF(L97:L126,AI33)","v":2},{"$f":"AJ33/(AL4-AJ25)","v":6.6666666666666666E-2},{"$f":"IF(AK33=0,0,(AK33*((LOG(AK33))/LOG(2))))","v":-0.26045937304056793},null,{"$f":"N33","v":22121},{"$f":"COUNTIF(L127:L156,AN33)","v":0},{"$f":"AO33/(AQ4-AO25)","v":0},{"$f":"IF(AP33=0,0,(AP33*((LOG(AP33))/LOG(2))))","v":0},null,{"$f":"N33","v":22121},{"$f":"COUNTIF(L157:L186,AS33)","v":0},{"$f":"AT33/(AV4-AT25)","v":0},{"$f":"IF(AU33=0,0,(AU33*((LOG(AU33))/LOG(2))))","v":0}]
[12,3656,24,3661,24,3669,14,3678,13,3682,0,12211,null,22122,{"$f":"COUNTIF($L$7:$L$500,N34)","v":0},{"$f":"O34/$Q$4","v":0},{"$f":"IF(P34=0,0,(P34*((LOG(P34))/LOG(2))))","v":0},null,null,{"$f":"N34","v":22122},{"$f":"COUNTIF(L7:L36,T34)","v":0},{"$f":"U34/(W4-U25)","v":0},{"$f":"IF(V34=0,0,(V34*((LOG(V34))/LOG(2))))","v":0},null,{"$f":"N34","v":22122},{"$f":"COUNTIF(L37:L66,Y34)","v":0},{"$f":"Z34/(AB4-Z25)","v":0},{"$f":"IF(AA34=0,0,(AA34*((LOG(AA34))/LOG(2))))","v":0},null,{"$f":"N34","v":22122},{"$f":"COUNTIF(L67:L96,AD34)","v":0},{"$f":"AE34/(AG4-AE25)","v":0},{"$f":"IF(AF34=0,0,(AF34*((LOG(AF34))/LOG(2))))","v":0},null,{"$f":"N34","v":22122},{"$f":"COUNTIF(L97:L126,AI34)","v":0},{"$f":"AJ34/(AL4-AJ25)","v":0},{"$f":"IF(AK34=0,0,(AK34*((LOG(AK34))/LOG(2))))","v":0},null,{"$f":"N34","v":22122},{"$f":"COUNTIF(L127:L156,AN34)","v":0},{"$f":"AO34/(AQ4-AO25)","v":0},{"$f":"IF(AP34=0,0,(AP34*((LOG(AP34))/LOG(2))))","v":0},null,{"$f":"N34","v":22122},{"$f":"COUNTIF(L157:L186,AS34)","v":0},{"$f":"AT34/(AV4-AT25)","v":0},{"$f":"IF(AU34=0,0,(AU34*((LOG(AU34))/LOG(2))))","v":0}]
[21,3785,11,3792,22,3799,14,3809,13,3812,0,21211,null,22211,{"$f":"COUNTIF($L$7:$L$500,N35)","v":11},{"$f":"O35/$Q$4","v":6.1111111111111109E-2},{"$f":"IF(P35=0,0,(P35*((LOG(P35))/LOG(2))))","v":-0.24642575697008973},null,null,{"$f":"N35","v":22211},{"$f":"COUNTIF(L7:L36,T35)","v":4},{"$f":"U35/(W4-U25)","v":0.13333333333333333},{"$f":"IF(V35=0,0,(V35*((LOG(V35))/LOG(2))))","v":-0.3875854127478025},null,{"$f":"N35","v":22211},{"$f":"COUNTIF(L37:L66,Y35)","v":2},{"$f":"Z35/(AB4-Z25)","v":6.6666666666666666E-2},{"$f":"IF(AA35=0,0,(AA35*((LOG(AA35))/LOG(2))))","v":-0.26045937304056793},null,{"$f":"N35","v":22211},{"$f":"COUNTIF(L67:L96,AD35)","v":2},{"$f":"AE35/(AG4-AE25)","v":6.6666666666666666E-2},{"$f":"IF(AF35=0,0,(AF35*((LOG(AF35))/LOG(2))))","v":-0.26045937304056793},null,{"$f":"N35","v":22211},{"$f":"COUNTIF(L97:L126,AI35)","v":1},{"$f":"AJ35/(AL4-AJ25)","v":3.3333333333333333E-2},{"$f":"IF(AK35=0,0,(AK35*((LOG(AK35))/LOG(2))))","v":-0.16356301985361729},null,{"$f":"N35","v":22211},{"$f":"COUNTIF(L127:L156,AN35)","v":2},{"$f":"AO35/(AQ4-AO25)","v":6.6666666666666666E-2},{"$f":"IF(AP35=0,0,(AP35*((LOG(AP35))/LOG(2))))","v":-0.26045937304056793},null,{"$f":"N35","v":22211},{"$f":"COUNTIF(L157:L186,AS35)","v":0},{"$f":"AT35/(AV4-AT25)","v":0},{"$f":"IF(AU35=0,0,(AU35*((LOG(AU35))/LOG(2))))","v":0}]
[21,3914,22,3928,13,3945,14,3952,13,3962,1,22111,null,22212,{"$f":"COUNTIF($L$7:$L$500,N36)","v":2},{"$f":"O36/$Q$4","v":1.1111111111111112E-2},{"$f":"IF(P36=0,0,(P36*((LOG(P36))/LOG(2))))","v":-7.2131701070329707E-2},null,null,{"$f":"N36","v":22212},{"$f":"COUNTIF(L7:L36,T36)","v":0},{"$f":"U36/(W4-U25)","v":0},{"$f":"IF(V36=0,0,(V36*((LOG(V36))/LOG(2))))","v":0},null,{"$f":"N36","v":22212},{"$f":"COUNTIF(L37:L66,Y36)","v":1},{"$f":"Z36/(AB4-Z25)","v":3.3333333333333333E-2},{"$f":"IF(AA36=0,0,(AA36*((LOG(AA36))/LOG(2))))","v":-0.16356301985361729},null,{"$f":"N36","v":22212},{"$f":"COUNTIF(L67:L96,AD36)","v":0},{"$f":"AE36/(AG4-AE25)","v":0},{"$f":"IF(AF36=0,0,(AF36*((LOG(AF36))/LOG(2))))","v":0},null,{"$f":"N36","v":22212},{"$f":"COUNTIF(L97:L126,AI36)","v":0},{"$f":"AJ36/(AL4-AJ25)","v":0},{"$f":"IF(AK36=0,0,(AK36*((LOG(AK36))/LOG(2))))","v":0},null,{"$f":"N36","v":22212},{"$f":"COUNTIF(L127:L156,AN36)","v":0},{"$f":"AO36/(AQ4-AO25)","v":0},{"$f":"IF(AP36=0,0,(AP36*((LOG(AP36))/LOG(2))))","v":0},null,{"$f":"N36","v":22212},{"$f":"COUNTIF(L157:L186,AS36)","v":1},{"$f":"AT36/(AV4-AT25)","v":3.3333333333333333E-2},{"$f":"IF(AU36=0,0,(AU36*((LOG(AU36))/LOG(2))))","v":-0.16356301985361729}]
[21,4068,22,4073,13,4088,14,4094,13,4104,0,22111,null,22221,{"$f":"COUNTIF($L$7:$L$500,N37)","v":5},{"$f":"O37/$Q$4","v":2.7777777777777776E-2},{"$f":"IF(P37=0,0,(P37*((LOG(P37))/LOG(2))))","v":-0.14360902781784199},null,null,{"$f":"N37","v":22221},{"$f":"COUNTIF(L7:L36,T37)","v":4},{"$f":"U37/(W4-U25)","v":0.13333333333333333},{"$f":"IF(V37=0,0,(V37*((LOG(V37))/LOG(2))))","v":-0.3875854127478025},null,{"$f":"N37","v":22221},{"$f":"COUNTIF(L37:L66,Y37)","v":1},{"$f":"Z37/(AB4-Z25)","v":3.3333333333333333E-2},{"$f":"IF(AA37=0,0,(AA37*((LOG(AA37))/LOG(2))))","v":-0.16356301985361729},null,{"$f":"N37","v":22221},{"$f":"COUNTIF(L67:L96,AD37)","v":0},{"$f":"AE37/(AG4-AE25)","v":0},{"$f":"IF(AF37=0,0,(AF37*((LOG(AF37))/LOG(2))))","v":0},null,{"$f":"N37","v":22221},{"$f":"COUNTIF(L97:L126,AI37)","v":0},{"$f":"AJ37/(AL4-AJ25)","v":0},{"$f":"IF(AK37=0,0,(AK37*((LOG(AK37))/LOG(2))))","v":0},null,{"$f":"N37","v":22221},{"$f":"COUNTIF(L127:L156,AN37)","v":0},{"$f":"AO37/(AQ4-AO25)","v":0},{"$f":"IF(AP37=0,0,(AP37*((LOG(AP37))/LOG(2))))","v":0},null,{"$f":"N37","v":22221},{"$f":"COUNTIF(L157:L186,AS37)","v":0},{"$f":"AT37/(AV4-AT25)","v":0},{"$f":"IF(AU37=0,0,(AU37*((LOG(AU37))/LOG(2))))","v":0}]
[21,4209,22,4213,24,4218,14,4225,24,4232,0,22212,null,22222,{"$f":"COUNTIF($L$7:$L$500,N38)","v":0},{"$f":"O38/$Q$4","v":0},{"$f":"IF(P38=0,0,(P38*((LOG(P38))/LOG(2))))","v":0},null,null,{"$f":"N38","v":22222},{"$f":"COUNTIF(L7:L36,T38)","v":0},{"$f":"U38/(W4-U25)","v":0},{"$f":"IF(V38=0,0,(V38*((LOG(V38))/LOG(2))))","v":0},null,{"$f":"N38","v":22222},{"$f":"COUNTIF(L37:L66,Y38)","v":0},{"$f":"Z38/(AB4-Z25)","v":0},{"$f":"IF(AA38=0,0,(AA38*((LOG(AA38))/LOG(2))))","v":0},null,{"$f":"N38","v":22222},{"$f":"COUNTIF(L67:L96,AD38)","v":0},{"$f":"AE38/(AG4-AE25)","v":0},{"$f":"IF(AF38=0,0,(AF38*((LOG(AF38))/LOG(2))))","v":0},null,{"$f":"N38","v":22222},{"$f":"COUNTIF(L97:L126,AI38)","v":0},{"$f":"AJ38/(AL4-AJ25)","v":0},{"$f":"IF(AK38=0,0,(AK38*((LOG(AK38))/LOG(2))))","v":0},null,{"$f":"N38","v":22222},{"$f":"COUNTIF(L127:L156,AN38)","v":0},{"$f":"AO38/(AQ4-AO25)","v":0},{"$f":"IF(AP38=0,0,(AP38*((LOG(AP38))/LOG(2))))","v":0},null,{"$f":"N38","v":22222},{"$f":"COUNTIF(L157:L186,AS38)","v":0},{"$f":"AT38/(AV4-AT25)","v":0},{"$f":"IF(AU38=0,0,(AU38*((LOG(AU38))/LOG(2))))","v":0}]
[21,4330,11,4340,22,4347,23,4351,13,4361,0,21221,null,null,null,{"$f":"SUM(P7:P38)","v":0.99999999999999978},{"$f":"-SUM(Q7:Q38)","v":3.1201726287004696},null,null,null,null,{"$f":"SUM(V7:V38)","v":0.99999999999999989},{"$f":"-SUM(W7:W38)","v":3.3185077804617449},null,null,null,{"$f":"SUM(AA7:AA38)","v":0.99999999999999989},{"$f":"-SUM(AB7:AB38)","v":2.9622673813539393},null,null,null,{"$f":"SUM(AF7:AF38)","v":1},{"$f":"-SUM(AG7:AG38)","v":2.0646580691230398},null,null,null,{"$f":"SUM(AK7:AK38)","v":0.99999999999999989},{"$f":"-SUM(AL7:AL38)","v":3.3483943455364029},null,null,null,{"$f":"SUM(AP7:AP38)","v":0.99999999999999989},{"$f":"-SUM(AQ7:AQ38)","v":1.8736691520890951},null,null,null,{"$f":"SUM(AU7:AU38)","v":0.99999999999999989},{"$f":"-SUM(AV7:AV38)","v":2.2646580691230396}]
[12,4464,13,4472,13,4476,14,4491,13,4503,0,11111,null,null,null,"U=",{"$f":"Q39/(LOG(Q4)/LOG(2))","v":0.41647541517185782},null,null,null,null,"U1=",{"$f":"W39/(LOG(W4)/LOG(2))","v":0.67629544938941244},null,null,null,"U2=",{"$f":"AB39/(LOG(AB4)/LOG(2))","v":0.60369542047769653},null,null,null,"U3=",{"$f":"AG39/(LOG(AG4)/LOG(2))","v":0.42076708842272348},null,null,null,"U4=",{"$f":"AL39/(LOG(AL4)/LOG(2))","v":0.68238618332617584},null,null,null,"U5=",{"$f":"AQ39/(LOG(AQ4)/LOG(2))","v":0.38184449308202595},null,null,null,"U6=",{"$f":"AV39/(LOG(AV4)/LOG(2))","v":0.46152609784082466}]
[21,4605,22,4609,24,4616,14,4626,13,4630,0,22211]
[21,4730,22,4736,13,4748,14,4755,13,4765,1,22111]
[12,4884,13,4899,13,4906,14,4924,13,4935,0,11111,null,"Total Target Seq"]
[21,5048,22,5056,24,5072,23,5076,13,5085,0,22221,null,{"$f":"COUNTIF(L7:L186,G3)","v":0},null,30,30,30,30,30,30]
[21,5185,11,5198,11,5206,12,5211,13,5221,0,21111,null,null,null,"% of reinforcement given in 6 equal intervals based on number of trials "]
[12,5335,24,5342,13,5356,14,5363,13,5373,0,12111,null,null,null,"%_1","%_2","%_3","%_4","%_5","%_6"]
[21,5476,11,5486,22,5494,14,5503,13,5507,0,21211,null,null,"target sequence",{"$f":"$G$3","v":21121},{"$f":"$G$3","v":21121},{"$f":"$G$3","v":21121},{"$f":"$G$3","v":21121},{"$f":"$G$3","v":21121},{"$f":"$G$3","v":21121}]
[21,5606,22,5613,24,5617,14,5625,13,5629,0,22211,null,null,"total reinforcement",{"$f":"U25","v":0},{"$f":"Z25","v":0},{"$f":"AE25","v":0},{"$f":"AJ25","v":0},{"$f":"AO25","v":0},{"$f":"AT25","v":0}]
[12,5739,24,5747,24,5754,14,5761,13,5764,1,12211,null,null,"% target"]
[21,5860,11,5870,22,5877,14,5892,13,5896,0,21211,null,null,"CCRF"]
[12,6003,13,6007,13,6012,14,6019,13,6034,1,11111,null,null,"% CCRf"]
[21,6137,11,6145,22,6153,14,6165,13,6172,0,21211,null,null,"average response rate",{"$f":"J36/P44","v":132.06666666666666},{"$f":"(J66-J36)/Q44","v":136.73333333333332},{"$f":"(J96-J66)/R44","v":129.6},{"$f":"(J126-J96)/S44","v":133.23333333333332},{"$f":"(J156-J126)/T44","v":130.73333333333332},{"$f":"(J186-J156)/U44","v":136}]
[21,6269,22,6274,13,6283,14,6291,13,6296,0,22111]
[21,6393,11,6403,22,6411,14,6423,13,6426,1,21211]
[12,6557,13,6565,13,6572,14,6584,13,6591,0,11111]
[12,6699,24,6717,24,6725,14,6732,13,6737,0,12211]
[12,6838,13,6846,13,6850,14,6855,13,6869,0,11111]
[12,6972,13,6976,13,6979,14,6986,13,7006,0,11111]
[12,7109,13,7113,13,7117,14,7121,13,7130,1,11111]
[21,7224,22,7232,13,7240,23,7247,13,7258,1,22121]
[21,7353,11,7377,11,7381,12,7389,13,7401,0,21111]
[12,7518,13,7521,13,7525,14,7531,13,7540,0,11111]
[21,7646,11,7652,11,7659,12,7663,13,7669,0,21111]
[12,7770,13,7773,13,7777,14,7780,13,7785,1,11111]
[12,7899,13,7903,13,7910,14,7919,13,7929,0,11111]
[21,8031,11,8039,22,8046,14,8057,13,8064,0,21211]
[21,8162,22,8170,13,8181,14,8187,13,8192,0,22111]
[21,8291,11,8308,11,8312,12,8318,13,8325,0,21111]
[12,8424,13,8427,13,8435,14,8438,13,8442,0,11111]
[12,8542,13,8546,13,8554,14,8566,13,8573,0,11111]
[12,8687,13,8691,13,8695,14,8701,13,8711,0,11111]
[21,8812,11,8820,11,8824,12,8828,13,8838,1,21111]
[21,8937,22,8942,13,8956,14,8960,13,8964,1,22111]
[21,9080,22,9109,24,9114,14,9129,13,9137,0,22211]
[12,9243,13,9246,13,9250,14,9256,13,9267,0,11111]
[21,9369,11,9377,22,9385,14,9394,13,9400,0,21211]
[12,9505,24,9512,24,9524,14,9531,13,9535,0,12211]
[12,9638,13,9642,13,9646,14,9650,13,9656,0,11111]
[12,9755,13,9761,13,9766,14,9772,13,9779,0,11111]
[12,9888,13,9893,13,9896,14,9901,13,9911,1,11111]
[21,10009,22,10020,13,10030,14,10034,13,10039,0,22111]
[21,10137,11,10145,11,10151,12,10154,13,10159,0,21111]
[21,10260,11,10268,11,10272,12,10276,13,10281,0,21111]
[12,10383,13,10389,13,10393,14,10397,13,10404,0,11111]
[12,10504,13,10508,13,10511,14,10515,13,10520,0,11111]
[12,10620,13,10636,13,10640,14,10644,13,10653,0,11111]
[21,10755,11,10765,11,10770,12,10773,13,10777,0,21111]
[21,10876,11,10886,11,10890,12,10894,13,10898,0,21111]
[12,11004,13,11008,13,11012,14,11019,13,11026,1,11111]
[21,11119,22,11124,24,11133,14,11142,13,11146,0,22211]
[12,11247,13,11250,13,11256,14,11271,13,11277,0,11111]
[21,11378,22,11394,13,11406,14,11410,13,11419,0,22111]
[21,11518,22,11530,13,11540,14,11545,13,11552,1,22111]
[21,11649,22,11656,13,11667,14,11675,13,11681,0,22111]
[12,11792,13,11799,13,11802,14,11813,13,11820,0,11111]
[21,11923,22,11935,13,11944,14,11948,13,11952,0,22111]
[12,12051,24,12062,13,12071,14,12074,13,12081,0,12111]
[12,12185,13,12188,24,12202,14,12214,13,12218,0,11211]
[12,12318,24,12327,24,12338,14,12347,13,12350,0,12211]
[12,12453,13,12462,24,12470,23,12475,13,12483,0,11221]
[21,12585,22,12591,13,12599,14,12603,13,12607,0,22111]
[21,12708,22,12714,13,12721,14,12727,13,12731,0,22111]
[12,12833,24,12840,24,12846,23,12853,13,12861,0,12221]
[21,12965,22,12972,13,12979,14,12983,13,12987,1,22111]
[21,13088,11,13103,11,13107,12,13111,13,13121,0,21111]
[21,13223,22,13230,13,13243,14,13246,13,13253,0,22111]
[21,13357,11,13366,22,13374,23,13379,13,13387,0,21221]
[21,13487,11,13497,11,13501,12,13505,13,13512,0,21111]
[12,13612,13,13624,13,13628,14,13632,13,13642,0,11111]
[21,13741,11,13749,22,13757,23,13761,24,13771,1,21222]
[21,13890,22,13911,13,13919,14,13923,13,13930,0,22111]
[21,14030,22,14035,13,14042,23,14049,13,14065,0,22121]
[12,14164,13,14168,24,14175,14,14189,13,14194,0,11211]
[21,14293,11,14300,11,14304,12,14309,13,14315,0,21111]
[21,14423,22,14431,13,14437,14,14441,13,14449,1,22111]
[21,14547,22,14561,13,14576,14,14580,13,14590,0,22111]
[21,14695,11,14708,22,14714,14,14730,13,14735,0,21211]
[12,14834,24,14842,13,14852,14,14856,13,14859,0,12111]
[12,14963,24,14970,24,14984,23,14997,13,15005,0,12221]
[12,15109,13,15113,13,15117,14,15122,13,15128,0,11111]
[21,15235,11,15242,11,15248,12,15252,13,15264,1,21111]
[21,15364,22,15369,24,15377,14,15392,13,15396,0,22211]
[21,15503,11,15510,22,15518,14,15538,13,15553,0,21211]
[12,15653,13,15657,13,15661,14,15665,13,15670,0,11111]
[21,15778,22,15789,13,15797,14,15801,13,15815,1,22111]
[21,15910,22,15915,13,15925,23,15933,13,15949,0,22121]
[12,16049,13,16053,13,16057,14,16060,13,16064,0,11111]
[12,16166,13,16170,13,16174,14,16178,13,16184,0,11111]
[12,16286,13,16290,13,16294,14,16297,13,16302,0,11111]
[21,16410,11,16421,11,16424,12,16429,13,16438,0,21111]
[12,16541,24,16548,13,16559,14,16563,13,16569,1,12111]
[21,16668,22,16672,24,16681,14,16693,13,16697,0,22211]
[12,16801,13,16806,13,16809,14,16813,13,16820,0,11111]
[12,16923,13,16926,13,16945,14,16949,13,16956,0,11111]
[21,17056,11,17063,11,17068,12,17072,13,17076,0,21111]
[12,17183,13,17187,13,17190,14,17194,13,17200,1,11111]
[21,17301,22,17308,13,17322,14,17326,13,17330,0,22111]
[12,17443,13,17453,13,17457,14,17462,13,17469,0,11111]
[12,17580,24,17587,13,17596,14,17600,13,17607,0,12111]
[21,17709,11,17717,11,17721,12,17725,13,17729,0,21111]
[21,17827,11,17836,11,17840,12,17844,13,17849,0,21111]
[12,17956,13,17960,13,17964,14,17967,13,17972,0,11111]
[12,18072,13,18076,13,18090,14,18094,13,18099,0,11111]
[12,18212,13,18216,13,18220,14,18224,13,18232,1,11111]
[21,18329,22,18337,13,18348,14,18352,13,18359,0,22111]
[21,18459,11,18473,11,18480,12,18486,13,18493,0,21111]
[12,18595,13,18599,13,18604,14,18611,13,18615,0,11111]
[12,18717,13,18736,13,18739,14,18743,13,18747,0,11111]
[12,18919,13,18923,13,18927,14,18935,13,18941,1,11111]
[21,19047,22,19051,24,19068,14,19079,13,19082,0,22211]
[12,19196,13,19199,13,19206,14,19210,13,19217,0,11111]
[21,19317,11,19331,11,19339,12,19343,13,19351,0,21111]
[12,19457,13,19461,13,19465,14,19472,13,19480,0,11111]
[12,19585,13,19602,13,19606,14,19610,13,19616,0,11111]
[21,19717,11,19728,22,19735,23,19742,13,19753,0,21221]
[12,19857,13,19861,13,19864,14,19867,13,19871,1,11111]
[21,19970,22,19974,13,19985,14,19993,13,19999,1,22111]
[21,20100,22,20104,24,20109,14,20118,24,20126,0,22212]
[21,20231,11,20242,11,20246,12,20250,13,20257,0,21111]
[21,20356,11,20381,11,20385,12,20389,13,20395,0,21111]
[12,20498,13,20502,13,20505,14,20509,13,20513,0,11111]
[12,20637,13,20641,13,20645,14,20652,13,20662,0,11111]
[12,20765,13,20770,13,20775,14,20785,13,20791,0,11111]
[12,20894,13,20908,13,20911,14,20915,13,20922,0,11111]
[21,21022,22,21037,13,21046,14,21049,13,21054,1,22111]
[21,21156,11,21170,11,21179,12,21183,13,21190,0,21111]
[12,21304,13,21323,13,21327,14,21333,13,21339,0,11111]
[12,21447,13,21461,13,21465,14,21469,13,21478,0,11111]
[21,21580,11,21587,11,21592,12,21595,13,21603,0,21111]
[12,21707,13,21716,13,21720,14,21724,13,21731,0,11111]
[12,21834,13,21846,13,21849,14,21853,13,21859,0,11111]
[12,21964,13,21975,13,21987,14,21998,13,22005,0,11111]
[21,22108,11,22134,11,22138,12,22151,13,22158,1,21111]
[21,22259,11,22270,11,22277,12,22281,13,22288,0,21111]
[12,22393,13,22400,13,22404,14,22407,13,22411,0,11111]
[12,22527,24,22536,13,22546,14,22550,13,22557,0,12111]
[12,22662,13,22674,13,22677,14,22684,13,22695,0,11111]
[21,22799,11,22810,22,22817,14,22828,13,22832,0,21211]
[12,22951,13,22959,13,22962,14,22966,13,22973,0,11111]
[12,23079,24,23100,13,23109,14,23113,13,23119,0,12111]
[12,23234,13,23238,13,23242,14,23245,13,23251,0,11111]
[12,23352,24,23366,13,23380,14,23384,13,23392,0,12111]
[21,23500,11,23521,11,23526,12,23537,13,23550,1,21111]
[21,23649,11,23661,22,23669,14,23679,13,23683,0,21211]
[21,23783,11,23791,22,23805,23,23812,13,23819,0,21221]
[21,23928,22,23935,13,23942,14,23947,13,23951,1,22111]

{"sheet":"!N410A00.096","index":16,"n_rows":167,"n_cols":48,"rows_kept":167,"cut":false,"hidden":false,"merged":[[4,39,4,42],[5,39,5,40],[4,44,4,47],[5,44,5,45],[4,24,4,27],[5,24,5,25],[4,29,4,32],[5,29,5,30],[4,34,4,37],[5,34,5,35],[1,1,1,2],[5,13,5,14],[42,13,42,14],[43,13,43,14],[4,19,4,22],[5,19,5,20]]}
["Report for:!N410A00.096"]
["Date:","<date>"]
["Hen:","<hen>",null,null,null,"Correct Sequence",{"$f":"Start!J2","v":21121},null,null,null,null,null,null,null,null,"Total Sequences in Data",{"$f":"4994-COUNTBLANK(L7:L5000)","v":161},null,null,null,null,"Total Sequences in Block Data",{"$f":"COUNTA(L7:L33)","v":27},null,null,null,"Total Sequences in Block Data",{"$f":"COUNTA(L34:L60)","v":27},null,null,null,"Total Sequences in Block Data",{"$f":"COUNTA(L61:L86)","v":26},null,null,null,"Total Sequences in Block Data",{"$f":"COUNTA(L87:L113)","v":27},null,null,null,"Total Sequences in Block Data",{"$f":"COUNTA(L114:L140)","v":27},null,null,null,"Total Sequences in Block Data",{"$f":"COUNTA(L141:L167)","v":27}]
[null,null,null,null,null,null,null,null,null,null,null,null,null,null,null,"Total Sequences in Summary",{"$f":"SUM(O7:O38)","v":161},null,null,null,null,"Total Sequences in Block Summary",{"$f":"SUM(U7:U38)","v":27},null,null,null,"Total Sequences in Block Summary",{"$f":"SUM(Z7:Z38)","v":27},null,null,null,"Total Sequences in Block Summary",{"$f":"SUM(AE7:AE38)","v":26},null,null,null,"Total Sequences in Block Summary",{"$f":"SUM(AJ7:AJ38)","v":27},null,null,null,"Total Sequences in Block Summary",{"$f":"SUM(AO7:AO38)","v":27},null,null,null,"Total Sequences in Block Summary",{"$f":"SUM(AT7:AT38)","v":27}]
[null,null,null,null,null,null,null,null,null,null,null,null,null,null,null,null,null,null,null,"Block 1",null,null,null,null,"Block 2",null,null,null,null,"Block 3",null,null,null,null,"Block 4",null,null,null,null,"Block 5",null,null,null,null,"Block 6"]
["Sequence\nComponent\n1","Time\n1","Sequence\nComponent\n2","Time\n2","Sequence\nComponent\n3","Time\n3","Sequence\nComponent\n4","Time\n4","Sequence\nComponent\n5","Time\n5","Correct?\n0=No 1=Yes","Sequence",null,"Frequency",null,"Relative Frequency","Variability",null,null,"Frequency",null,"Relative Frequency","Variability",null,"Frequency",null,"Relative Frequency","Variability",null,"Frequency",null,"Relative Frequency","Variability",null,"Frequency",null,"Relative Frequency","Variability",null,"Frequency",null,"Relative Frequency","Variability",null,"Frequency",null,"Relative Frequency","Variability"]
[21,16,22,45,24,52,14,62,13,73,0,22211,null,11111,{"$f":"COUNTIF($L$7:$L$500,N7)","v":14},{"$f":"O7/$Q$4","v":8.6956521739130432E-2},{"$f":"IF(P7=0,0,(P7*((LOG(P7))/LOG(2))))","v":-0.30639669183104457},null,null,{"$f":"N7","v":11111},{"$f":"COUNTIF(L7:L33,T7)","v":0},{"$f":"U7/(W4-U25)","v":0},{"$f":"IF(V7=0,0,(V7*((LOG(V7))/LOG(2))))","v":0},null,{"$f":"N7","v":11111},{"$f":"COUNTIF(L34:L60,Y7)","v":3},{"$f":"Z7/(AB4-Z25)","v":0.1111111111111111},{"$f":"IF(AA7=0,0,(AA7*((LOG(AA7))/LOG(2))))","v":-0.3522138890491458},null,{"$f":"N7","v":11111},{"$f":"COUNTIF(L61:L86,AD7)","v":2},{"$f":"AE7/(AG4-AE25)","v":7.6923076923076927E-2},{"$f":"IF(AF7=0,0,(AF7*((LOG(AF7))/LOG(2))))","v":-0.28464920908777636},null,{"$f":"N7","v":11111},{"$f":"COUNTIF(L87:L113,AI7)","v":2},{"$f":"AJ7/(AL4-AJ25)","v":7.6923076923076927E-2},{"$f":"IF(AK7=0,0,(AK7*((LOG(AK7))/LOG(2))))","v":-0.28464920908777636},null,{"$f":"N7","v":11111},{"$f":"COUNTIF(L114:L140,AN7)","v":2},{"$f":"AO7/(AQ4-AO25)","v":7.407407407407407E-2},{"$f":"IF(AP7=0,0,(AP7*((LOG(AP7))/LOG(2))))","v":-0.27813981497507173},null,{"$f":"N7","v":11111},{"$f":"COUNTIF(L141:L167,AS7)","v":5},{"$f":"AT7/(AV4-AT25)","v":0.18518518518518517},{"$f":"IF(AU7=0,0,(AU7*((LOG(AU7))/LOG(2))))","v":-0.45054803838446406}]
[21,175,11,189,22,197,14,208,13,216,0,21211,null,11112,{"$f":"COUNTIF($L$7:$L$500,N8)","v":0},{"$f":"O8/$Q$4","v":0},{"$f":"IF(P8=0,0,(P8*((LOG(P8))/LOG(2))))","v":0},null,null,{"$f":"N8","v":11112},{"$f":"COUNTIF(L7:L33,T8)","v":0},{"$f":"U8/(W4-U25)","v":0},{"$f":"IF(V8=0,0,(V8*((LOG(V8))/LOG(2))))","v":0},null,{"$f":"N8","v":11112},{"$f":"COUNTIF(L34:L60,Y8)","v":0},{"$f":"Z8/(AB4-Z25)","v":0},{"$f":"IF(AA8=0,0,(AA8*((LOG(AA8))/LOG(2))))","v":0},null,{"$f":"N8","v":11112},{"$f":"COUNTIF(L61:L86,AD8)","v":0},{"$f":"AE8/(AG4-AE25)","v":0},{"$f":"IF(AF8=0,0,(AF8*((LOG(AF8))/LOG(2))))","v":0},null,{"$f":"N8","v":11112},{"$f":"COUNTIF(L87:L113,AI8)","v":0},{"$f":"AJ8/(AL4-AJ25)","v":0},{"$f":"IF(AK8=0,0,(AK8*((LOG(AK8))/LOG(2))))","v":0},null,{"$f":"N8","v":11112},{"$f":"COUNTIF(L114:L140,AN8)","v":0},{"$f":"AO8/(AQ4-AO25)","v":0},{"$f":"IF(AP8=0,0,(AP8*((LOG(AP8))/LOG(2))))","v":0},null,{"$f":"N8","v":11112},{"$f":"COUNTIF(L141:L167,AS8)","v":0},{"$f":"AT8/(AV4-AT25)","v":0},{"$f":"IF(AU8=0,0,(AU8*((LOG(AU8))/LOG(2))))","v":0}]
[21,321,22,330,13,344,14,348,13,355,0,22111,null,11121,{"$f":"COUNTIF($L$7:$L$500,N9)","v":1},{"$f":"O9/$Q$4","v":6.2111801242236021E-3},{"$f":"IF(P9=0,0,(P9*((LOG(P9))/LOG(2))))","v":-4.5533645205680845E-2},null,null,{"$f":"N9","v":11121},{"$f":"COUNTIF(L7:L33,T9)","v":0},{"$f":"U9/(W4-U25)","v":0},{"$f":"IF(V9=0,0,(V9*((LOG(V9))/LOG(2))))","v":0},null,{"$f":"N9","v":11121},{"$f":"COUNTIF(L34:L60,Y9)","v":0},{"$f":"Z9/(AB4-Z25)","v":0},{"$f":"IF(AA9=0,0,(AA9*((LOG(AA9))/LOG(2))))","v":0},null,{"$f":"N9","v":11121},{"$f":"COUNTIF(L61:L86,AD9)","v":0},{"$f":"AE9/(AG4-AE25)","v":0},{"$f":"IF(AF9=0,0,(AF9*((LOG(AF9))/LOG(2))))","v":0},null,{"$f":"N9","v":11121},{"$f":"COUNTIF(L87:L113,AI9)","v":0},{"$f":"AJ9/(AL4-AJ25)","v":0},{"$f":"IF(AK9=0,0,(AK9*((LOG(AK9))/LOG(2))))","v":0},null,{"$f":"N9","v":11121},{"$f":"COUNTIF(L114:L140,AN9)","v":1},{"$f":"AO9/(AQ4-AO25)","v":3.7037037037037035E-2},{"$f":"IF(AP9=0,0,(AP9*((LOG(AP9))/LOG(2))))","v":-0.1761069445245729},null,{"$f":"N9","v":11121},{"$f":"COUNTIF(L141:L167,AS9)","v":0},{"$f":"AT9/(AV4-AT25)","v":0},{"$f":"IF(AU9=0,0,(AU9*((LOG(AU9))/LOG(2))))","v":0}]
[21,453,22,458,24,462,23,481,13,492,0,22221,null,11122,{"$f":"COUNTIF($L$7:$L$500,N10)","v":0},{"$f":"O10/$Q$4","v":0},{"$f":"IF(P10=0,0,(P10*((LOG(P10))/LOG(2))))","v":0},null,null,{"$f":"N10","v":11122},{"$f":"COUNTIF(L7:L33,T10)","v":0},{"$f":"U10/(W4-U25)","v":0},{"$f":"IF(V10=0,0,(V10*((LOG(V10))/LOG(2))))","v":0},null,{"$f":"N10","v":11122},{"$f":"COUNTIF(L34:L60,Y10)","v":0},{"$f":"Z10/(AB4-Z25)","v":0},{"$f":"IF(AA10=0,0,(AA10*((LOG(AA10))/LOG(2))))","v":0},null,{"$f":"N10","v":11122},{"$f":"COUNTIF(L61:L86,AD10)","v":0},{"$f":"AE10/(AG4-AE25)","v":0},{"$f":"IF(AF10=0,0,(AF10*((LOG(AF10))/LOG(2))))","v":0},null,{"$f":"N10","v":11122},{"$f":"COUNTIF(L87:L113,AI10)","v":0},{"$f":"AJ10/(AL4-AJ25)","v":0},{"$f":"IF(AK10=0,0,(AK10*((LOG(AK10))/LOG(2))))","v":0},null,{"$f":"N10","v":11122},{"$f":"COUNTIF(L114:L140,AN10)","v":0},{"$f":"AO10/(AQ4-AO25)","v":0},{"$f":"IF(AP10=0,0,(AP10*((LOG(AP10))/LOG(2))))","v":0},null,{"$f":"N10","v":11122},{"$f":"COUNTIF(L141:L167,AS10)","v":0},{"$f":"AT10/(AV4-AT25)","v":0},{"$f":"IF(AU10=0,0,(AU10*((LOG(AU10))/LOG(2))))","v":0}]
[21,594,22,617,24,622,14,632,13,645,0,22211,null,11211,{"$f":"COUNTIF($L$7:$L$500,N11)","v":1},{"$f":"O11/$Q$4","v":6.2111801242236021E-3},{"$f":"IF(P11=0,0,(P11*((LOG(P11))/LOG(2))))","v":-4.5533645205680845E-2},null,null,{"$f":"N11","v":11211},{"$f":"COUNTIF(L7:L33,T11)","v":0},{"$f":"U11/(W4-U25)","v":0},{"$f":"IF(V11=0,0,(V11*((LOG(V11))/LOG(2))))","v":0},null,{"$f":"N11","v":11211},{"$f":"COUNTIF(L34:L60,Y11)","v":0},{"$f":"Z11/(AB4-Z25)","v":0},{"$f":"IF(AA11=0,0,(AA11*((LOG(AA11))/LOG(2))))","v":0},null,{"$f":"N11","v":11211},{"$f":"COUNTIF(L61:L86,AD11)","v":0},{"$f":"AE11/(AG4-AE25)","v":0},{"$f":"IF(AF11=0,0,(AF11*((LOG(AF11))/LOG(2))))","v":0},null,{"$f":"N11","v":11211},{"$f":"COUNTIF(L87:L113,AI11)","v":0},{"$f":"AJ11/(AL4-AJ25)","v":0},{"$f":"IF(AK11=0,0,(AK11*((LOG(AK11))/LOG(2))))","v":0},null,{"$f":"N11","v":11211},{"$f":"COUNTIF(L114:L140,AN11)","v":0},{"$f":"AO11/(AQ4-AO25)","v":0},{"$f":"IF(AP11=0,0,(AP11*((LOG(AP11))/LOG(2))))","v":0},null,{"$f":"N11","v":11211},{"$f":"COUNTIF(L141:L167,AS11)","v":1},{"$f":"AT11/(AV4-AT25)","v":3.7037037037037035E-2},{"$f":"IF(AU11=0,0,(AU11*((LOG(AU11))/LOG(2))))","v":-0.1761069445245729}]
[21,744,22,752,13,765,14,769,13,773,1,22111,null,11212,{"$f":"COUNTIF($L$7:$L$500,N12)","v":0},{"$f":"O12/$Q$4","v":0},{"$f":"IF(P12=0,0,(P12*((LOG(P12))/LOG(2))))","v":0},null,null,{"$f":"N12","v":11212},{"$f":"COUNTIF(L7:L33,T12)","v":0},{"$f":"U12/(W4-U25)","v":0},{"$f":"IF(V12=0,0,(V12*((LOG(V12))/LOG(2))))","v":0},null,{"$f":"N12","v":11212},{"$f":"COUNTIF(L34:L60,Y12)","v":0},{"$f":"Z12/(AB4-Z25)","v":0},{"$f":"IF(AA12=0,0,(AA12*((LOG(AA12))/LOG(2))))","v":0},null,{"$f":"N12","v":11212},{"$f":"COUNTIF(L61:L86,AD12)","v":0},{"$f":"AE12/(AG4-AE25)","v":0},{"$f":"IF(AF12=0,0,(AF12*((LOG(AF12))/LOG(2))))","v":0},null,{"$f":"N12","v":11212},{"$f":"COUNTIF(L87:L113,AI12)","v":0},{"$f":"AJ12/(AL4-AJ25)","v":0},{"$f":"IF(AK12=0,0,(AK12*((LOG(AK12))/LOG(2))))","v":0},null,{"$f":"N12","v":11212},{"$f":"COUNTIF(L114:L140,AN12)","v":0},{"$f":"AO12/(AQ4-AO25)","v":0},{"$f":"IF(AP12=0,0,(AP12*((LOG(AP12))/LOG(2))))","v":0},null,{"$f":"N12","v":11212},{"$f":"COUNTIF(L141:L167,AS12)","v":0},{"$f":"AT12/(AV4-AT25)","v":0},{"$f":"IF(AU12=0,0,(AU12*((LOG(AU12))/LOG(2))))","v":0}]
[21,897,22,901,24,907,23,920,13,931,0,22221,null,11221,{"$f":"COUNTIF($L$7:$L$500,N13)","v":0},{"$f":"O13/$Q$4","v":0},{"$f":"IF(P13=0,0,(P13*((LOG(P13))/LOG(2))))","v":0},null,null,{"$f":"N13","v":11221},{"$f":"COUNTIF(L7:L33,T13)","v":0},{"$f":"U13/(W4-U25)","v":0},{"$f":"IF(V13=0,0,(V13*((LOG(V13))/LOG(2))))","v":0},null,{"$f":"N13","v":11221},{"$f":"COUNTIF(L34:L60,Y13)","v":0},{"$f":"Z13/(AB4-Z25)","v":0},{"$f":"IF(AA13=0,0,(AA13*((LOG(AA13))/LOG(2))))","v":0},null,{"$f":"N13","v":11221},{"$f":"COUNTIF(L61:L86,AD13)","v":0},{"$f":"AE13/(AG4-AE25)","v":0},{"$f":"IF(AF13=0,0,(AF13*((LOG(AF13))/LOG(2))))","v":0},null,{"$f":"N13","v":11221},{"$f":"COUNTIF(L87:L113,AI13)","v":0},{"$f":"AJ13/(AL4-AJ25)","v":0},{"$f":"IF(AK13=0,0,(AK13*((LOG(AK13))/LOG(2))))","v":0},null,{"$f":"N13","v":11221},{"$f":"COUNTIF(L114:L140,AN13)","v":0},{"$f":"AO13/(AQ4-AO25)","v":0},{"$f":"IF(AP13=0,0,(AP13*((LOG(AP13))/LOG(2))))","v":0},null,{"$f":"N13","v":11221},{"$f":"COUNTIF(L141:L167,AS13)","v":0},{"$f":"AT13/(AV4-AT25)","v":0},{"$f":"IF(AU13=0,0,(AU13*((LOG(AU13))/LOG(2))))","v":0}]
[21,1041,22,1050,24,1064,14,1074,13,1081,1,22211,null,11222,{"$f":"COUNTIF($L$7:$L$500,N14)","v":0},{"$f":"O14/$Q$4","v":0},{"$f":"IF(P14=0,0,(P14*((LOG(P14))/LOG(2))))","v":0},null,null,{"$f":"N14","v":11222},{"$f":"COUNTIF(L7:L33,T14)","v":0},{"$f":"U14/(W4-U25)","v":0},{"$f":"IF(V14=0,0,(V14*((LOG(V14))/LOG(2))))","v":0},null,{"$f":"N14","v":11222},{"$f":"COUNTIF(L34:L60,Y14)","v":0},{"$f":"Z14/(AB4-Z25)","v":0},{"$f":"IF(AA14=0,0,(AA14*((LOG(AA14))/LOG(2))))","v":0},null,{"$f":"N14","v":11222},{"$f":"COUNTIF(L61:L86,AD14)","v":0},{"$f":"AE14/(AG4-AE25)","v":0},{"$f":"IF(AF14=0,0,(AF14*((LOG(AF14))/LOG(2))))","v":0},null,{"$f":"N14","v":11222},{"$f":"COUNTIF(L87:L113,AI14)","v":0},{"$f":"AJ14/(AL4-AJ25)","v":0},{"$f":"IF(AK14=0,0,(AK14*((LOG(AK14))/LOG(2))))","v":0},null,{"$f":"N14","v":11222},{"$f":"COUNTIF(L114:L140,AN14)","v":0},{"$f":"AO14/(AQ4-AO25)","v":0},{"$f":"IF(AP14=0,0,(AP14*((LOG(AP14))/LOG(2))))","v":0},null,{"$f":"N14","v":11222},{"$f":"COUNTIF(L141:L167,AS14)","v":0},{"$f":"AT14/(AV4-AT25)","v":0},{"$f":"IF(AU14=0,0,(AU14*((LOG(AU14))/LOG(2))))","v":0}]
[21,1196,11,1206,22,1214,23,1224,13,1241,0,21221,null,12111,{"$f":"COUNTIF($L$7:$L$500,N15)","v":22},{"$f":"O15/$Q$4","v":0.13664596273291926},{"$f":"IF(P15=0,0,(P15*((LOG(P15))/LOG(2))))","v":-0.39237686775466485},null,null,{"$f":"N15","v":12111},{"$f":"COUNTIF(L7:L33,T15)","v":1},{"$f":"U15/(W4-U25)","v":3.7037037037037035E-2},{"$f":"IF(V15=0,0,(V15*((LOG(V15))/LOG(2))))","v":-0.1761069445245729},null,{"$f":"N15","v":12111},{"$f":"COUNTIF(L34:L60,Y15)","v":5},{"$f":"Z15/(AB4-Z25)","v":0.18518518518518517},{"$f":"IF(AA15=0,0,(AA15*((LOG(AA15))/LOG(2))))","v":-0.45054803838446406},null,{"$f":"N15","v":12111},{"$f":"COUNTIF(L61:L86,AD15)","v":7},{"$f":"AE15/(AG4-AE25)","v":0.26923076923076922},{"$f":"IF(AF15=0,0,(AF15*((LOG(AF15))/LOG(2))))","v":-0.50967667586863141},null,{"$f":"N15","v":12111},{"$f":"COUNTIF(L87:L113,AI15)","v":3},{"$f":"AJ15/(AL4-AJ25)","v":0.11538461538461539},{"$f":"IF(AK15=0,0,(AK15*((LOG(AK15))/LOG(2))))","v":-0.35947814047153104},null,{"$f":"N15","v":12111},{"$f":"COUNTIF(L114:L140,AN15)","v":4},{"$f":"AO15/(AQ4-AO25)","v":0.14814814814814814},{"$f":"IF(AP15=0,0,(AP15*((LOG(AP15))/LOG(2))))","v":-0.40813148180199532},null,{"$f":"N15","v":12111},{"$f":"COUNTIF(L141:L167,AS15)","v":2},{"$f":"AT15/(AV4-AT25)","v":7.407407407407407E-2},{"$f":"IF(AU15=0,0,(AU15*((LOG(AU15))/LOG(2))))","v":-0.27813981497507173}]
[21,1342,22,1346,24,1358,14,1374,13,1377,0,22211,null,12112,{"$f":"COUNTIF($L$7:$L$500,N16)","v":0},{"$f":"O16/$Q$4","v":0},{"$f":"IF(P16=0,0,(P16*((LOG(P16))/LOG(2))))","v":0},null,null,{"$f":"N16","v":12112},{"$f":"COUNTIF(L7:L33,T16)","v":0},{"$f":"U16/(W4-U25)","v":0},{"$f":"IF(V16=0,0,(V16*((LOG(V16))/LOG(2))))","v":0},null,{"$f":"N16","v":12112},{"$f":"COUNTIF(L34:L60,Y16)","v":0},{"$f":"Z16/(AB4-Z25)","v":0},{"$f":"IF(AA16=0,0,(AA16*((LOG(AA16))/LOG(2))))","v":0},null,{"$f":"N16","v":12112},{"$f":"COUNTIF(L61:L86,AD16)","v":0},{"$f":"AE16/(AG4-AE25)","v":0},{"$f":"IF(AF16=0,0,(AF16*((LOG(AF16))/LOG(2))))","v":0},null,{"$f":"N16","v":12112},{"$f":"COUNTIF(L87:L113,AI16)","v":0},{"$f":"AJ16/(AL4-AJ25)","v":0},{"$f":"IF(AK16=0,0,(AK16*((LOG(AK16))/LOG(2))))","v":0},null,{"$f":"N16","v":12112},{"$f":"COUNTIF(L114:L140,AN16)","v":0},{"$f":"AO16/(AQ4-AO25)","v":0},{"$f":"IF(AP16=0,0,(AP16*((LOG(AP16))/LOG(2))))","v":0},null,{"$f":"N16","v":12112},{"$f":"COUNTIF(L141:L167,AS16)","v":0},{"$f":"AT16/(AV4-AT25)","v":0},{"$f":"IF(AU16=0,0,(AU16*((LOG(AU16))/LOG(2))))","v":0}]
[12,1487,24,1496,13,1507,14,1514,13,1524,0,12111,null,12121,{"$f":"COUNTIF($L$7:$L$500,N17)","v":0},{"$f":"O17/$Q$4","v":0},{"$f":"IF(P17=0,0,(P17*((LOG(P17))/LOG(2))))","v":0},null,null,{"$f":"N17","v":12121},{"$f":"COUNTIF(L7:L33,T17)","v":0},{"$f":"U17/(W4-U25)","v":0},{"$f":"IF(V17=0,0,(V17*((LOG(V17))/LOG(2))))","v":0},null,{"$f":"N17","v":12121},{"$f":"COUNTIF(L34:L60,Y17)","v":0},{"$f":"Z17/(AB4-Z25)","v":0},{"$f":"IF(AA17=0,0,(AA17*((LOG(AA17))/LOG(2))))","v":0},null,{"$f":"N17","v":12121},{"$f":"COUNTIF(L61:L86,AD17)","v":0},{"$f":"AE17/(AG4-AE25)","v":0},{"$f":"IF(AF17=0,0,(AF17*((LOG(AF17))/LOG(2))))","v":0},null,{"$f":"N17","v":12121},{"$f":"COUNTIF(L87:L113,AI17)","v":0},{"$f":"AJ17/(AL4-AJ25)","v":0},{"$f":"IF(AK17=0,0,(AK17*((LOG(AK17))/LOG(2))))","v":0},null,{"$f":"N17","v":12121},{"$f":"COUNTIF(L114:L140,AN17)","v":0},{"$f":"AO17/(AQ4-AO25)","v":0},{"$f":"IF(AP17=0,0,(AP17*((LOG(AP17))/LOG(2))))","v":0},null,{"$f":"N17","v":12121},{"$f":"COUNTIF(L141:L167,AS17)","v":0},{"$f":"AT17/(AV4-AT25)","v":0},{"$f":"IF(AU17=0,0,(AU17*((LOG(AU17))/LOG(2))))","v":0}]
[21,1662,11,1671,11,1678,12,1696,13,1708,0,21111,null,12122,{"$f":"COUNTIF($L$7:$L$500,N18)","v":0},{"$f":"O18/$Q$4","v":0},{"$f":"IF(P18=0,0,(P18*((LOG(P18))/LOG(2))))","v":0},null,null,{"$f":"N18","v":12122},{"$f":"COUNTIF(L7:L33,T18)","v":0},{"$f":"U18/(W4-U25)","v":0},{"$f":"IF(V18=0,0,(V18*((LOG(V18))/LOG(2))))","v":0},null,{"$f":"N18","v":12122},{"$f":"COUNTIF(L34:L60,Y18)","v":0},{"$f":"Z18/(AB4-Z25)","v":0},{"$f":"IF(AA18=0,0,(AA18*((LOG(AA18))/LOG(2))))","v":0},null,{"$f":"N18","v":12122},{"$f":"COUNTIF(L61:L86,AD18)","v":0},{"$f":"AE18/(AG4-AE25)","v":0},{"$f":"IF(AF18=0,0,(AF18*((LOG(AF18))/LOG(2))))","v":0},null,{"$f":"N18","v":12122},{"$f":"COUNTIF(L87:L113,AI18)","v":0},{"$f":"AJ18/(AL4-AJ25)","v":0},{"$f":"IF(AK18=0,0,(AK18*((LOG(AK18))/LOG(2))))","v":0},null,{"$f":"N18","v":12122},{"$f":"COUNTIF(L114:L140,AN18)","v":0},{"$f":"AO18/(AQ4-AO25)","v":0},{"$f":"IF(AP18=0,0,(AP18*((LOG(AP18))/LOG(2))))","v":0},null,{"$f":"N18","v":12122},{"$f":"COUNTIF(L141:L167,AS18)","v":0},{"$f":"AT18/(AV4-AT25)","v":0},{"$f":"IF(AU18=0,0,(AU18*((LOG(AU18))/LOG(2))))","v":0}]
[21,1812,11,1838,11,1843,12,1848,13,1859,0,21111,null,12211,{"$f":"COUNTIF($L$7:$L$500,N19)","v":18},{"$f":"O19/$Q$4","v":0.11180124223602485},{"$f":"IF(P19=0,0,(P19*((LOG(P19))/LOG(2))))","v":-0.35340281850994709},null,null,{"$f":"N19","v":12211},{"$f":"COUNTIF(L7:L33,T19)","v":2},{"$f":"U19/(W4-U25)","v":7.407407407407407E-2},{"$f":"IF(V19=0,0,(V19*((LOG(V19))/LOG(2))))","v":-0.27813981497507173},null,{"$f":"N19","v":12211},{"$f":"COUNTIF(L34:L60,Y19)","v":1},{"$f":"Z19/(AB4-Z25)","v":3.7037037037037035E-2},{"$f":"IF(AA19=0,0,(AA19*((LOG(AA19))/LOG(2))))","v":-0.1761069445245729},null,{"$f":"N19","v":12211},{"$f":"COUNTIF(L61:L86,AD19)","v":1},{"$f":"AE19/(AG4-AE25)","v":3.8461538461538464E-2},{"$f":"IF(AF19=0,0,(AF19*((LOG(AF19))/LOG(2))))","v":-0.18078614300542661},null,{"$f":"N19","v":12211},{"$f":"COUNTIF(L87:L113,AI19)","v":3},{"$f":"AJ19/(AL4-AJ25)","v":0.11538461538461539},{"$f":"IF(AK19=0,0,(AK19*((LOG(AK19))/LOG(2))))","v":-0.35947814047153104},null,{"$f":"N19","v":12211},{"$f":"COUNTIF(L114:L140,AN19)","v":8},{"$f":"AO19/(AQ4-AO25)","v":0.29629629629629628},{"$f":"IF(AP19=0,0,(AP19*((LOG(AP19))/LOG(2))))","v":-0.51996666730769436},null,{"$f":"N19","v":12211},{"$f":"COUNTIF(L141:L167,AS19)","v":3},{"$f":"AT19/(AV4-AT25)","v":0.1111111111111111},{"$f":"IF(AU19=0,0,(AU19*((LOG(AU19))/LOG(2))))","v":-0.3522138890491458}]
[21,1960,11,1975,22,1983,23,1988,13,1999,1,21221,null,12212,{"$f":"COUNTIF($L$7:$L$500,N20)","v":0},{"$f":"O20/$Q$4","v":0},{"$f":"IF(P20=0,0,(P20*((LOG(P20))/LOG(2))))","v":0},null,null,{"$f":"N20","v":12212},{"$f":"COUNTIF(L7:L33,T20)","v":0},{"$f":"U20/(W4-U25)","v":0},{"$f":"IF(V20=0,0,(V20*((LOG(V20))/LOG(2))))","v":0},null,{"$f":"N20","v":12212},{"$f":"COUNTIF(L34:L60,Y20)","v":0},{"$f":"Z20/(AB4-Z25)","v":0},{"$f":"IF(AA20=0,0,(AA20*((LOG(AA20))/LOG(2))))","v":0},null,{"$f":"N20","v":12212},{"$f":"COUNTIF(L61:L86,AD20)","v":0},{"$f":"AE20/(AG4-AE25)","v":0},{"$f":"IF(AF20=0,0,(AF20*((LOG(AF20))/LOG(2))))","v":0},null,{"$f":"N20","v":12212},{"$f":"COUNTIF(L87:L113,AI20)","v":0},{"$f":"AJ20/(AL4-AJ25)","v":0},{"$f":"IF(AK20=0,0,(AK20*((LOG(AK20))/LOG(2))))","v":0},null,{"$f":"N20","v":12212},{"$f":"COUNTIF(L114:L140,AN20)","v":0},{"$f":"AO20/(AQ4-AO25)","v":0},{"$f":"IF(AP20=0,0,(AP20*((LOG(AP20))/LOG(2))))","v":0},null,{"$f":"N20","v":12212},{"$f":"COUNTIF(L141:L167,AS20)","v":0},{"$f":"AT20/(AV4-AT25)","v":0},{"$f":"IF(AU20=0,0,(AU20*((LOG(AU20))/LOG(2))))","v":0}]
[21,2098,11,2107,22,2115,14,2134,13,2139,0,21211,null,12221,{"$f":"COUNTIF($L$7:$L$500,N21)","v":7},{"$f":"O21/$Q$4","v":4.3478260869565216E-2},{"$f":"IF(P21=0,0,(P21*((LOG(P21))/LOG(2))))","v":-0.19667660678508753},null,null,{"$f":"N21","v":12221},{"$f":"COUNTIF(L7:L33,T21)","v":1},{"$f":"U21/(W4-U25)","v":3.7037037037037035E-2},{"$f":"IF(V21=0,0,(V21*((LOG(V21))/LOG(2))))","v":-0.1761069445245729},null,{"$f":"N21","v":12221},{"$f":"COUNTIF(L34:L60,Y21)","v":0},{"$f":"Z21/(AB4-Z25)","v":0},{"$f":"IF(AA21=0,0,(AA21*((LOG(AA21))/LOG(2))))","v":0},null,{"$f":"N21","v":12221},{"$f":"COUNTIF(L61:L86,AD21)","v":0},{"$f":"AE21/(AG4-AE25)","v":0},{"$f":"IF(AF21=0,0,(AF21*((LOG(AF21))/LOG(2))))","v":0},null,{"$f":"N21","v":12221},{"$f":"COUNTIF(L87:L113,AI21)","v":2},{"$f":"AJ21/(AL4-AJ25)","v":7.6923076923076927E-2},{"$f":"IF(AK21=0,0,(AK21*((LOG(AK21))/LOG(2))))","v":-0.28464920908777636},null,{"$f":"N21","v":12221},{"$f":"COUNTIF(L114:L140,AN21)","v":3},{"$f":"AO21/(AQ4-AO25)","v":0.1111111111111111},{"$f":"IF(AP21=0,0,(AP21*((LOG(AP21))/LOG(2))))","v":-0.3522138890491458},null,{"$f":"N21","v":12221},{"$f":"COUNTIF(L141:L167,AS21)","v":1},{"$f":"AT21/(AV4-AT25)","v":3.7037037037037035E-2},{"$f":"IF(AU21=0,0,(AU21*((LOG(AU21))/LOG(2))))","v":-0.1761069445245729}]
[21,2241,22,2249,13,2271,14,2275,13,2282,0,22111,null,12222,{"$f":"COUNTIF($L$7:$L$500,N22)","v":0},{"$f":"O22/$Q$4","v":0},{"$f":"IF(P22=0,0,(P22*((LOG(P22))/LOG(2))))","v":0},null,null,{"$f":"N22","v":12222},{"$f":"COUNTIF(L7:L33,T22)","v":0},{"$f":"U22/(W4-U25)","v":0},{"$f":"IF(V22=0,0,(V22*((LOG(V22))/LOG(2))))","v":0},null,{"$f":"N22","v":12222},{"$f":"COUNTIF(L34:L60,Y22)","v":0},{"$f":"Z22/(AB4-Z25)","v":0},{"$f":"IF(AA22=0,0,(AA22*((LOG(AA22))/LOG(2))))","v":0},null,{"$f":"N22","v":12222},{"$f":"COUNTIF(L61:L86,AD22)","v":0},{"$f":"AE22/(AG4-AE25)","v":0},{"$f":"IF(AF22=0,0,(AF22*((LOG(AF22))/LOG(2))))","v":0},null,{"$f":"N22","v":12222},{"$f":"COUNTIF(L87:L113,AI22)","v":0},{"$f":"AJ22/(AL4-AJ25)","v":0},{"$f":"IF(AK22=0,0,(AK22*((LOG(AK22))/LOG(2))))","v":0},null,{"$f":"N22","v":12222},{"$f":"COUNTIF(L114:L140,AN22)","v":0},{"$f":"AO22/(AQ4-AO25)","v":0},{"$f":"IF(AP22=0,0,(AP22*((LOG(AP22))/LOG(2))))","v":0},null,{"$f":"N22","v":12222},{"$f":"COUNTIF(L141:L167,AS22)","v":0},{"$f":"AT22/(AV4-AT25)","v":0},{"$f":"IF(AU22=0,0,(AU22*((LOG(AU22))/LOG(2))))","v":0}]
[21,2399,11,2434,11,2438,12,2448,13,2455,0,21111,null,21111,{"$f":"COUNTIF($L$7:$L$500,N23)","v":30},{"$f":"O23/$Q$4","v":0.18633540372670807},{"$f":"IF(P23=0,0,(P23*((LOG(P23))/LOG(2))))","v":-0.45168191599492519},null,null,{"$f":"N23","v":21111},{"$f":"COUNTIF(L7:L33,T23)","v":4},{"$f":"U23/(W4-U25)","v":0.14814814814814814},{"$f":"IF(V23=0,0,(V23*((LOG(V23))/LOG(2))))","v":-0.40813148180199532},null,{"$f":"N23","v":21111},{"$f":"COUNTIF(L34:L60,Y23)","v":3},{"$f":"Z23/(AB4-Z25)","v":0.1111111111111111},{"$f":"IF(AA23=0,0,(AA23*((LOG(AA23))/LOG(2))))","v":-0.3522138890491458},null,{"$f":"N23","v":21111},{"$f":"COUNTIF(L61:L86,AD23)","v":6},{"$f":"AE23/(AG4-AE25)","v":0.23076923076923078},{"$f":"IF(AF23=0,0,(AF23*((LOG(AF23))/LOG(2))))","v":-0.48818705017383146},null,{"$f":"N23","v":21111},{"$f":"COUNTIF(L87:L113,AI23)","v":5},{"$f":"AJ23/(AL4-AJ25)","v":0.19230769230769232},{"$f":"IF(AK23=0,0,(AK23*((LOG(AK23))/LOG(2))))","v":-0.45740608139494804},null,{"$f":"N23","v":21111},{"$f":"COUNTIF(L114:L140,AN23)","v":6},{"$f":"AO23/(AQ4-AO25)","v":0.22222222222222221},{"$f":"IF(AP23=0,0,(AP23*((LOG(AP23))/LOG(2))))","v":-0.48220555587606945},null,{"$f":"N23","v":21111},{"$f":"COUNTIF(L141:L167,AS23)","v":6},{"$f":"AT23/(AV4-AT25)","v":0.22222222222222221},{"$f":"IF(AU23=0,0,(AU23*((LOG(AU23))/LOG(2))))","v":-0.48220555587606945}]
[21,2557,22,2562,24,2567,23,2586,24,2602,0,22222,null,21112,{"$f":"COUNTIF($L$7:$L$500,N24)","v":0},{"$f":"O24/$Q$4","v":0},{"$f":"IF(P24=0,0,(P24*((LOG(P24))/LOG(2))))","v":0},null,null,{"$f":"N24","v":21112},{"$f":"COUNTIF(L7:L33,T24)","v":0},{"$f":"U24/(W4-U25)","v":0},{"$f":"IF(V24=0,0,(V24*((LOG(V24))/LOG(2))))","v":0},null,{"$f":"N24","v":21112},{"$f":"COUNTIF(L34:L60,Y24)","v":0},{"$f":"Z24/(AB4-Z25)","v":0},{"$f":"IF(AA24=0,0,(AA24*((LOG(AA24))/LOG(2))))","v":0},null,{"$f":"N24","v":21112},{"$f":"COUNTIF(L61:L86,AD24)","v":0},{"$f":"AE24/(AG4-AE25)","v":0},{"$f":"IF(AF24=0,0,(AF24*((LOG(AF24))/LOG(2))))","v":0},null,{"$f":"N24","v":21112},{"$f":"COUNTIF(L87:L113,AI24)","v":0},{"$f":"AJ24/(AL4-AJ25)","v":0},{"$f":"IF(AK24=0,0,(AK24*((LOG(AK24))/LOG(2))))","v":0},null,{"$f":"N24","v":21112},{"$f":"COUNTIF(L114:L140,AN24)","v":0},{"$f":"AO24/(AQ4-AO25)","v":0},{"$f":"IF(AP24=0,0,(AP24*((LOG(AP24))/LOG(2))))","v":0},null,{"$f":"N24","v":21112},{"$f":"COUNTIF(L141:L167,AS24)","v":0},{"$f":"AT24/(AV4-AT25)","v":0},{"$f":"IF(AU24=0,0,(AU24*((LOG(AU24))/LOG(2))))","v":0}]
[21,2703,22,2718,24,2740,23,2746,13,2771,0,22221,null,21121,{"$f":"COUNTIF($L$7:$L$500,N25)","v":1},{"$f":"O25/$Q$4","v":6.2111801242236021E-3},{"$f":"IF(P25=0,0,(P25*((LOG(P25))/LOG(2))))","v":-4.5533645205680845E-2},null,null,{"$f":"N25","v":21121},{"$f":"COUNTIF(L7:L33,T25)","v":0},null,null,null,{"$f":"N25","v":21121},{"$f":"COUNTIF(L34:L60,Y25)","v":0},null,null,null,{"$f":"N25","v":21121},{"$f":"COUNTIF(L61:L86,AD25)","v":0},null,null,null,{"$f":"N25","v":21121},{"$f":"COUNTIF(L87:L113,AI25)","v":1},null,null,null,{"$f":"N25","v":21121},{"$f":"COUNTIF(L114:L140,AN25)","v":0},null,null,null,{"$f":"N25","v":21121},{"$f":"COUNTIF(L141:L167,AS25)","v":0}]
[21,2883,22,2889,24,2893,14,2910,13,2915,0,22211,null,21122,{"$f":"COUNTIF($L$7:$L$500,N26)","v":0},{"$f":"O26/$Q$4","v":0},{"$f":"IF(P26=0,0,(P26*((LOG(P26))/LOG(2))))","v":0},null,null,{"$f":"N26","v":21122},{"$f":"COUNTIF(L7:L33,T26)","v":0},{"$f":"U26/(W4-U25)","v":0},{"$f":"IF(V26=0,0,(V26*((LOG(V26))/LOG(2))))","v":0},null,{"$f":"N26","v":21122},{"$f":"COUNTIF(L34:L60,Y26)","v":0},{"$f":"Z26/(AB4-Z25)","v":0},{"$f":"IF(AA26=0,0,(AA26*((LOG(AA26))/LOG(2))))","v":0},null,{"$f":"N26","v":21122},{"$f":"COUNTIF(L61:L86,AD26)","v":0},{"$f":"AE26/(AG4-AE25)","v":0},{"$f":"IF(AF26=0,0,(AF26*((LOG(AF26))/LOG(2))))","v":0},null,{"$f":"N26","v":21122},{"$f":"COUNTIF(L87:L113,AI26)","v":0},{"$f":"AJ26/(AL4-AJ25)","v":0},{"$f":"IF(AK26=0,0,(AK26*((LOG(AK26))/LOG(2))))","v":0},null,{"$f":"N26","v":21122},{"$f":"COUNTIF(L114:L140,AN26)","v":0},{"$f":"AO26/(AQ4-AO25)","v":0},{"$f":"IF(AP26=0,0,(AP26*((LOG(AP26))/LOG(2))))","v":0},null,{"$f":"N26","v":21122},{"$f":"COUNTIF(L141:L167,AS26)","v":0},{"$f":"AT26/(AV4-AT25)","v":0},{"$f":"IF(AU26=0,0,(AU26*((LOG(AU26))/LOG(2))))","v":0}]
[12,3024,24,3032,24,3044,14,3058,13,3062,0,12211,null,21211,{"$f":"COUNTIF($L$7:$L$500,N27)","v":10},{"$f":"O27/$Q$4","v":6.2111801242236024E-2},{"$f":"IF(P27=0,0,(P27*((LOG(P27))/LOG(2))))","v":-0.2490055144861649},null,null,{"$f":"N27","v":21211},{"$f":"COUNTIF(L7:L33,T27)","v":2},{"$f":"U27/(W4-U25)","v":7.407407407407407E-2},{"$f":"IF(V27=0,0,(V27*((LOG(V27))/LOG(2))))","v":-0.27813981497507173},null,{"$f":"N27","v":21211},{"$f":"COUNTIF(L34:L60,Y27)","v":2},{"$f":"Z27/(AB4-Z25)","v":7.407407407407407E-2},{"$f":"IF(AA27=0,0,(AA27*((LOG(AA27))/LOG(2))))","v":-0.27813981497507173},null,{"$f":"N27","v":21211},{"$f":"COUNTIF(L61:L86,AD27)","v":1},{"$f":"AE27/(AG4-AE25)","v":3.8461538461538464E-2},{"$f":"IF(AF27=0,0,(AF27*((LOG(AF27))/LOG(2))))","v":-0.18078614300542661},null,{"$f":"N27","v":21211},{"$f":"COUNTIF(L87:L113,AI27)","v":3},{"$f":"AJ27/(AL4-AJ25)","v":0.11538461538461539},{"$f":"IF(AK27=0,0,(AK27*((LOG(AK27))/LOG(2))))","v":-0.35947814047153104},null,{"$f":"N27","v":21211},{"$f":"COUNTIF(L114:L140,AN27)","v":1},{"$f":"AO27/(AQ4-AO25)","v":3.7037037037037035E-2},{"$f":"IF(AP27=0,0,(AP27*((LOG(AP27))/LOG(2))))","v":-0.1761069445245729},null,{"$f":"N27","v":21211},{"$f":"COUNTIF(L141:L167,AS27)","v":1},{"$f":"AT27/(AV4-AT25)","v":3.7037037037037035E-2},{"$f":"IF(AU27=0,0,(AU27*((LOG(AU27))/LOG(2))))","v":-0.1761069445245729}]
[12,3171,24,3179,24,3194,23,3198,13,3210,0,12221,null,21212,{"$f":"COUNTIF($L$7:$L$500,N28)","v":0},{"$f":"O28/$Q$4","v":0},{"$f":"IF(P28=0,0,(P28*((LOG(P28))/LOG(2))))","v":0},null,null,{"$f":"N28","v":21212},{"$f":"COUNTIF(L7:L33,T28)","v":0},{"$f":"U28/(W4-U25)","v":0},{"$f":"IF(V28=0,0,(V28*((LOG(V28))/LOG(2))))","v":0},null,{"$f":"N28","v":21212},{"$f":"COUNTIF(L34:L60,Y28)","v":0},{"$f":"Z28/(AB4-Z25)","v":0},{"$f":"IF(AA28=0,0,(AA28*((LOG(AA28))/LOG(2))))","v":0},null,{"$f":"N28","v":21212},{"$f":"COUNTIF(L61:L86,AD28)","v":0},{"$f":"AE28/(AG4-AE25)","v":0},{"$f":"IF(AF28=0,0,(AF28*((LOG(AF28))/LOG(2))))","v":0},null,{"$f":"N28","v":21212},{"$f":"COUNTIF(L87:L113,AI28)","v":0},{"$f":"AJ28/(AL4-AJ25)","v":0},{"$f":"IF(AK28=0,0,(AK28*((LOG(AK28))/LOG(2))))","v":0},null,{"$f":"N28","v":21212},{"$f":"COUNTIF(L114:L140,AN28)","v":0},{"$f":"AO28/(AQ4-AO25)","v":0},{"$f":"IF(AP28=0,0,(AP28*((LOG(AP28))/LOG(2))))","v":0},null,{"$f":"N28","v":21212},{"$f":"COUNTIF(L141:L167,AS28)","v":0},{"$f":"AT28/(AV4-AT25)","v":0},{"$f":"IF(AU28=0,0,(AU28*((LOG(AU28))/LOG(2))))","v":0}]
[21,3317,22,3324,13,3333,23,3341,13,3359,0,22121,null,21221,{"$f":"COUNTIF($L$7:$L$500,N29)","v":7},{"$f":"O29/$Q$4","v":4.3478260869565216E-2},{"$f":"IF(P29=0,0,(P29*((LOG(P29))/LOG(2))))","v":-0.19667660678508753},null,null,{"$f":"N29","v":21221},{"$f":"COUNTIF(L7:L33,T29)","v":2},{"$f":"U29/(W4-U25)","v":7.407407407407407E-2},{"$f":"IF(V29=0,0,(V29*((LOG(V29))/LOG(2))))","v":-0.27813981497507173},null,{"$f":"N29","v":21221},{"$f":"COUNTIF(L34:L60,Y29)","v":0},{"$f":"Z29/(AB4-Z25)","v":0},{"$f":"IF(AA29=0,0,(AA29*((LOG(AA29))/LOG(2))))","v":0},null,{"$f":"N29","v":21221},{"$f":"COUNTIF(L61:L86,AD29)","v":3},{"$f":"AE29/(AG4-AE25)","v":0.11538461538461539},{"$f":"IF(AF29=0,0,(AF29*((LOG(AF29))/LOG(2))))","v":-0.35947814047153104},null,{"$f":"N29","v":21221},{"$f":"COUNTIF(L87:L113,AI29)","v":0},{"$f":"AJ29/(AL4-AJ25)","v":0},{"$f":"IF(AK29=0,0,(AK29*((LOG(AK29))/LOG(2))))","v":0},null,{"$f":"N29","v":21221},{"$f":"COUNTIF(L114:L140,AN29)","v":1},{"$f":"AO29/(AQ4-AO25)","v":3.7037037037037035E-2},{"$f":"IF(AP29=0,0,(AP29*((LOG(AP29))/LOG(2))))","v":-0.1761069445245729},null,{"$f":"N29","v":21221},{"$f":"COUNTIF(L141:L167,AS29)","v":1},{"$f":"AT29/(AV4-AT25)","v":3.7037037037037035E-2},{"$f":"IF(AU29=0,0,(AU29*((LOG(AU29))/LOG(2))))","v":-0.1761069445245729}]
[12,3467,24,3481,24,3503,14,3512,13,3518,1,12211,null,21222,{"$f":"COUNTIF($L$7:$L$500,N30)","v":0},{"$f":"O30/$Q$4","v":0},{"$f":"IF(P30=0,0,(P30*((LOG(P30))/LOG(2))))","v":0},null,null,{"$f":"N30","v":21222},{"$f":"COUNTIF(L7:L33,T30)","v":0},{"$f":"U30/(W4-U25)","v":0},{"$f":"IF(V30=0,0,(V30*((LOG(V30))/LOG(2))))","v":0},null,{"$f":"N30","v":21222},{"$f":"COUNTIF(L34:L60,Y30)","v":0},{"$f":"Z30/(AB4-Z25)","v":0},{"$f":"IF(AA30=0,0,(AA30*((LOG(AA30))/LOG(2))))","v":0},null,{"$f":"N30","v":21222},{"$f":"COUNTIF(L61:L86,AD30)","v":0},{"$f":"AE30/(AG4-AE25)","v":0},{"$f":"IF(AF30=0,0,(AF30*((LOG(AF30))/LOG(2))))","v":0},null,{"$f":"N30","v":21222},{"$f":"COUNTIF(L87:L113,AI30)","v":0},{"$f":"AJ30/(AL4-AJ25)","v":0},{"$f":"IF(AK30=0,0,(AK30*((LOG(AK30))/LOG(2))))","v":0},null,{"$f":"N30","v":21222},{"$f":"COUNTIF(L114:L140,AN30)","v":0},{"$f":"AO30/(AQ4-AO25)","v":0},{"$f":"IF(AP30=0,0,(AP30*((LOG(AP30))/LOG(2))))","v":0},null,{"$f":"N30","v":21222},{"$f":"COUNTIF(L141:L167,AS30)","v":0},{"$f":"AT30/(AV4-AT25)","v":0},{"$f":"IF(AU30=0,0,(AU30*((LOG(AU30))/LOG(2))))","v":0}]
[21,3616,22,3622,24,3632,14,3651,13,3655,0,22211,null,22111,{"$f":"COUNTIF($L$7:$L$500,N31)","v":21},{"$f":"O31/$Q$4","v":0.13043478260869565},{"$f":"IF(P31=0,0,(P31*((LOG(P31))/LOG(2))))","v":-0.3832955811307639},null,null,{"$f":"N31","v":22111},{"$f":"COUNTIF(L7:L33,T31)","v":3},{"$f":"U31/(W4-U25)","v":0.1111111111111111},{"$f":"IF(V31=0,0,(V31*((LOG(V31))/LOG(2))))","v":-0.3522138890491458},null,{"$f":"N31","v":22111},{"$f":"COUNTIF(L34:L60,Y31)","v":4},{"$f":"Z31/(AB4-Z25)","v":0.14814814814814814},{"$f":"IF(AA31=0,0,(AA31*((LOG(AA31))/LOG(2))))","v":-0.40813148180199532},null,{"$f":"N31","v":22111},{"$f":"COUNTIF(L61:L86,AD31)","v":3},{"$f":"AE31/(AG4-AE25)","v":0.11538461538461539},{"$f":"IF(AF31=0,0,(AF31*((LOG(AF31))/LOG(2))))","v":-0.35947814047153104},null,{"$f":"N31","v":22111},{"$f":"COUNTIF(L87:L113,AI31)","v":7},{"$f":"AJ31/(AL4-AJ25)","v":0.26923076923076922},{"$f":"IF(AK31=0,0,(AK31*((LOG(AK31))/LOG(2))))","v":-0.50967667586863141},null,{"$f":"N31","v":22111},{"$f":"COUNTIF(L114:L140,AN31)","v":1},{"$f":"AO31/(AQ4-AO25)","v":3.7037037037037035E-2},{"$f":"IF(AP31=0,0,(AP31*((LOG(AP31))/LOG(2))))","v":-0.1761069445245729},null,{"$f":"N31","v":22111},{"$f":"COUNTIF(L141:L167,AS31)","v":3},{"$f":"AT31/(AV4-AT25)","v":0.1111111111111111},{"$f":"IF(AU31=0,0,(AU31*((LOG(AU31))/LOG(2))))","v":-0.3522138890491458}]
[21,3787,11,3801,11,3821,12,3828,13,3835,0,21111,null,22112,{"$f":"COUNTIF($L$7:$L$500,N32)","v":0},{"$f":"O32/$Q$4","v":0},{"$f":"IF(P32=0,0,(P32*((LOG(P32))/LOG(2))))","v":0},null,null,{"$f":"N32","v":22112},{"$f":"COUNTIF(L7:L33,T32)","v":0},{"$f":"U32/(W4-U25)","v":0},{"$f":"IF(V32=0,0,(V32*((LOG(V32))/LOG(2))))","v":0},null,{"$f":"N32","v":22112},{"$f":"COUNTIF(L34:L60,Y32)","v":0},{"$f":"Z32/(AB4-Z25)","v":0},{"$f":"IF(AA32=0,0,(AA32*((LOG(AA32))/LOG(2))))","v":0},null,{"$f":"N32","v":22112},{"$f":"COUNTIF(L61:L86,AD32)","v":0},{"$f":"AE32/(AG4-AE25)","v":0},{"$f":"IF(AF32=0,0,(AF32*((LOG(AF32))/LOG(2))))","v":0},null,{"$f":"N32","v":22112},{"$f":"COUNTIF(L87:L113,AI32)","v":0},{"$f":"AJ32/(AL4-AJ25)","v":0},{"$f":"IF(AK32=0,0,(AK32*((LOG(AK32))/LOG(2))))","v":0},null,{"$f":"N32","v":22112},{"$f":"COUNTIF(L114:L140,AN32)","v":0},{"$f":"AO32/(AQ4-AO25)","v":0},{"$f":"IF(AP32=0,0,(AP32*((LOG(AP32))/LOG(2))))","v":0},null,{"$f":"N32","v":22112},{"$f":"COUNTIF(L141:L167,AS32)","v":0},{"$f":"AT32/(AV4-AT25)","v":0},{"$f":"IF(AU32=0,0,(AU32*((LOG(AU32))/LOG(2))))","v":0}]
[21,3937,22,3943,13,3953,23,3960,13,3971,0,22121,null,22121,{"$f":"COUNTIF($L$7:$L$500,N33)","v":4},{"$f":"O33/$Q$4","v":2.4844720496894408E-2},{"$f":"IF(P33=0,0,(P33*((LOG(P33))/LOG(2))))","v":-0.13244513982893458},null,null,{"$f":"N33","v":22121},{"$f":"COUNTIF(L7:L33,T33)","v":2},{"$f":"U33/(W4-U25)","v":7.407407407407407E-2},{"$f":"IF(V33=0,0,(V33*((LOG(V33))/LOG(2))))","v":-0.27813981497507173},null,{"$f":"N33","v":22121},{"$f":"COUNTIF(L34:L60,Y33)","v":1},{"$f":"Z33/(AB4-Z25)","v":3.7037037037037035E-2},{"$f":"IF(AA33=0,0,(AA33*((LOG(AA33))/LOG(2))))","v":-0.1761069445245729},null,{"$f":"N33","v":22121},{"$f":"COUNTIF(L61:L86,AD33)","v":1},{"$f":"AE33/(AG4-AE25)","v":3.8461538461538464E-2},{"$f":"IF(AF33=0,0,(AF33*((LOG(AF33))/LOG(2))))","v":-0.18078614300542661},null,{"$f":"N33","v":22121},{"$f":"COUNTIF(L87:L113,AI33)","v":0},{"$f":"AJ33/(AL4-AJ25)","v":0},{"$f":"IF(AK33=0,0,(AK33*((LOG(AK33))/LOG(2))))","v":0},null,{"$f":"N33","v":22121},{"$f":"COUNTIF(L114:L140,AN33)","v":0},{"$f":"AO33/(AQ4-AO25)","v":0},{"$f":"IF(AP33=0,0,(AP33*((LOG(AP33))/LOG(2))))","v":0},null,{"$f":"N33","v":22121},{"$f":"COUNTIF(L141:L167,AS33)","v":0},{"$f":"AT33/(AV4-AT25)","v":0},{"$f":"IF(AU33=0,0,(AU33*((LOG(AU33))/LOG(2))))","v":0}]
[12,4084,13,4094,13,4097,14,4105,13,4116,0,11111,null,22122,{"$f":"COUNTIF($L$7:$L$500,N34)","v":1},{"$f":"O34/$Q$4","v":6.2111801242236021E-3},{"$f":"IF(P34=0,0,(P34*((LOG(P34))/LOG(2))))","v":-4.5533645205680845E-2},null,null,{"$f":"N34","v":22122},{"$f":"COUNTIF(L7:L33,T34)","v":0},{"$f":"U34/(W4-U25)","v":0},{"$f":"IF(V34=0,0,(V34*((LOG(V34))/LOG(2))))","v":0},null,{"$f":"N34","v":22122},{"$f":"COUNTIF(L34:L60,Y34)","v":0},{"$f":"Z34/(AB4-Z25)","v":0},{"$f":"IF(AA34=0,0,(AA34*((LOG(AA34))/LOG(2))))","v":0},null,{"$f":"N34","v":22122},{"$f":"COUNTIF(L61:L86,AD34)","v":0},{"$f":"AE34/(AG4-AE25)","v":0},{"$f":"IF(AF34=0,0,(AF34*((LOG(AF34))/LOG(2))))","v":0},null,{"$f":"N34","v":22122},{"$f":"COUNTIF(L87:L113,AI34)","v":0},{"$f":"AJ34/(AL4-AJ25)","v":0},{"$f":"IF(AK34=0,0,(AK34*((LOG(AK34))/LOG(2))))","v":0},null,{"$f":"N34","v":22122},{"$f":"COUNTIF(L114:L140,AN34)","v":0},{"$f":"AO34/(AQ4-AO25)","v":0},{"$f":"IF(AP34=0,0,(AP34*((LOG(AP34))/LOG(2))))","v":0},null,{"$f":"N34","v":22122},{"$f":"COUNTIF(L141:L167,AS34)","v":1},{"$f":"AT34/(AV4-AT25)","v":3.7037037037037035E-2},{"$f":"IF(AU34=0,0,(AU34*((LOG(AU34))/LOG(2))))","v":-0.1761069445245729}]
[21,4231,22,4242,24,4249,23,4259,24,4268,1,22222,null,22211,{"$f":"COUNTIF($L$7:$L$500,N35)","v":14},{"$f":"O35/$Q$4","v":8.6956521739130432E-2},{"$f":"IF(P35=0,0,(P35*((LOG(P35))/LOG(2))))","v":-0.30639669183104457},null,null,{"$f":"N35","v":22211},{"$f":"COUNTIF(L7:L33,T35)","v":6},{"$f":"U35/(W4-U25)","v":0.22222222222222221},{"$f":"IF(V35=0,0,(V35*((LOG(V35))/LOG(2))))","v":-0.48220555587606945},null,{"$f":"N35","v":22211},{"$f":"COUNTIF(L34:L60,Y35)","v":5},{"$f":"Z35/(AB4-Z25)","v":0.18518518518518517},{"$f":"IF(AA35=0,0,(AA35*((LOG(AA35))/LOG(2))))","v":-0.45054803838446406},null,{"$f":"N35","v":22211},{"$f":"COUNTIF(L61:L86,AD35)","v":1},{"$f":"AE35/(AG4-AE25)","v":3.8461538461538464E-2},{"$f":"IF(AF35=0,0,(AF35*((LOG(AF35))/LOG(2))))","v":-0.18078614300542661},null,{"$f":"N35","v":22211},{"$f":"COUNTIF(L87:L113,AI35)","v":0},{"$f":"AJ35/(AL4-AJ25)","v":0},{"$f":"IF(AK35=0,0,(AK35*((LOG(AK35))/LOG(2))))","v":0},null,{"$f":"N35","v":22211},{"$f":"COUNTIF(L114:L140,AN35)","v":0},{"$f":"AO35/(AQ4-AO25)","v":0},{"$f":"IF(AP35=0,0,(AP35*((LOG(AP35))/LOG(2))))","v":0},null,{"$f":"N35","v":22211},{"$f":"COUNTIF(L141:L167,AS35)","v":2},{"$f":"AT35/(AV4-AT25)","v":7.407407407407407E-2},{"$f":"IF(AU35=0,0,(AU35*((LOG(AU35))/LOG(2))))","v":-0.27813981497507173}]
[21,4391,22,4396,24,4413,14,4425,13,4430,1,22211,null,22212,{"$f":"COUNTIF($L$7:$L$500,N36)","v":1},{"$f":"O36/$Q$4","v":6.2111801242236021E-3},{"$f":"IF(P36=0,0,(P36*((LOG(P36))/LOG(2))))","v":-4.5533645205680845E-2},null,null,{"$f":"N36","v":22212},{"$f":"COUNTIF(L7:L33,T36)","v":0},{"$f":"U36/(W4-U25)","v":0},{"$f":"IF(V36=0,0,(V36*((LOG(V36))/LOG(2))))","v":0},null,{"$f":"N36","v":22212},{"$f":"COUNTIF(L34:L60,Y36)","v":1},{"$f":"Z36/(AB4-Z25)","v":3.7037037037037035E-2},{"$f":"IF(AA36=0,0,(AA36*((LOG(AA36))/LOG(2))))","v":-0.1761069445245729},null,{"$f":"N36","v":22212},{"$f":"COUNTIF(L61:L86,AD36)","v":0},{"$f":"AE36/(AG4-AE25)","v":0},{"$f":"IF(AF36=0,0,(AF36*((LOG(AF36))/LOG(2))))","v":0},null,{"$f":"N36","v":22212},{"$f":"COUNTIF(L87:L113,AI36)","v":0},{"$f":"AJ36/(AL4-AJ25)","v":0},{"$f":"IF(AK36=0,0,(AK36*((LOG(AK36))/LOG(2))))","v":0},null,{"$f":"N36","v":22212},{"$f":"COUNTIF(L114:L140,AN36)","v":0},{"$f":"AO36/(AQ4-AO25)","v":0},{"$f":"IF(AP36=0,0,(AP36*((LOG(AP36))/LOG(2))))","v":0},null,{"$f":"N36","v":22212},{"$f":"COUNTIF(L141:L167,AS36)","v":0},{"$f":"AT36/(AV4-AT25)","v":0},{"$f":"IF(AU36=0,0,(AU36*((LOG(AU36))/LOG(2))))","v":0}]
[21,4526,22,4530,24,4537,14,4563,13,4567,0,22211,null,22221,{"$f":"COUNTIF($L$7:$L$500,N37)","v":4},{"$f":"O37/$Q$4","v":2.4844720496894408E-2},{"$f":"IF(P37=0,0,(P37*((LOG(P37))/LOG(2))))","v":-0.13244513982893458},null,null,{"$f":"N37","v":22221},{"$f":"COUNTIF(L7:L33,T37)","v":3},{"$f":"U37/(W4-U25)","v":0.1111111111111111},{"$f":"IF(V37=0,0,(V37*((LOG(V37))/LOG(2))))","v":-0.3522138890491458},null,{"$f":"N37","v":22221},{"$f":"COUNTIF(L34:L60,Y37)","v":0},{"$f":"Z37/(AB4-Z25)","v":0},{"$f":"IF(AA37=0,0,(AA37*((LOG(AA37))/LOG(2))))","v":0},null,{"$f":"N37","v":22221},{"$f":"COUNTIF(L61:L86,AD37)","v":0},{"$f":"AE37/(AG4-AE25)","v":0},{"$f":"IF(AF37=0,0,(AF37*((LOG(AF37))/LOG(2))))","v":0},null,{"$f":"N37","v":22221},{"$f":"COUNTIF(L87:L113,AI37)","v":1},{"$f":"AJ37/(AL4-AJ25)","v":3.8461538461538464E-2},{"$f":"IF(AK37=0,0,(AK37*((LOG(AK37))/LOG(2))))","v":-0.18078614300542661},null,{"$f":"N37","v":22221},{"$f":"COUNTIF(L114:L140,AN37)","v":0},{"$f":"AO37/(AQ4-AO25)","v":0},{"$f":"IF(AP37=0,0,(AP37*((LOG(AP37))/LOG(2))))","v":0},null,{"$f":"N37","v":22221},{"$f":"COUNTIF(L141:L167,AS37)","v":0},{"$f":"AT37/(AV4-AT25)","v":0},{"$f":"IF(AU37=0,0,(AU37*((LOG(AU37))/LOG(2))))","v":0}]
[21,4674,22,4685,24,4697,14,4708,13,4712,1,22211,null,22222,{"$f":"COUNTIF($L$7:$L$500,N38)","v":5},{"$f":"O38/$Q$4","v":3.1055900621118012E-2},{"$f":"IF(P38=0,0,(P38*((LOG(P38))/LOG(2))))","v":-0.15555865786420048},null,null,{"$f":"N38","v":22222},{"$f":"COUNTIF(L7:L33,T38)","v":1},{"$f":"U38/(W4-U25)","v":3.7037037037037035E-2},{"$f":"IF(V38=0,0,(V38*((LOG(V38))/LOG(2))))","v":-0.1761069445245729},null,{"$f":"N38","v":22222},{"$f":"COUNTIF(L34:L60,Y38)","v":2},{"$f":"Z38/(AB4-Z25)","v":7.407407407407407E-2},{"$f":"IF(AA38=0,0,(AA38*((LOG(AA38))/LOG(2))))","v":-0.27813981497507173},null,{"$f":"N38","v":22222},{"$f":"COUNTIF(L61:L86,AD38)","v":1},{"$f":"AE38/(AG4-AE25)","v":3.8461538461538464E-2},{"$f":"IF(AF38=0,0,(AF38*((LOG(AF38))/LOG(2))))","v":-0.18078614300542661},null,{"$f":"N38","v":22222},{"$f":"COUNTIF(L87:L113,AI38)","v":0},{"$f":"AJ38/(AL4-AJ25)","v":0},{"$f":"IF(AK38=0,0,(AK38*((LOG(AK38))/LOG(2))))","v":0},null,{"$f":"N38","v":22222},{"$f":"COUNTIF(L114:L140,AN38)","v":0},{"$f":"AO38/(AQ4-AO25)","v":0},{"$f":"IF(AP38=0,0,(AP38*((LOG(AP38))/LOG(2))))","v":0},null,{"$f":"N38","v":22222},{"$f":"COUNTIF(L141:L167,AS38)","v":1},{"$f":"AT38/(AV4-AT25)","v":3.7037037037037035E-2},{"$f":"IF(AU38=0,0,(AU38*((LOG(AU38))/LOG(2))))","v":-0.1761069445245729}]
[21,4809,22,4814,24,4826,14,4848,13,4852,0,22211,null,null,null,{"$f":"SUM(P7:P38)","v":1.0000000000000002},{"$f":"-SUM(Q7:Q38)","v":3.484026458659204},null,null,null,null,{"$f":"SUM(V7:V38)","v":1},{"$f":"-SUM(W7:W38)","v":3.2356449092503623},null,null,null,{"$f":"SUM(AA7:AA38)","v":0.99999999999999989},{"$f":"-SUM(AB7:AB38)","v":3.0982558001930776},null,null,null,{"$f":"SUM(AF7:AF38)","v":1},{"$f":"-SUM(AG7:AG38)","v":2.9053999311004342},null,null,null,{"$f":"SUM(AK7:AK38)","v":1.0000000000000002},{"$f":"-SUM(AL7:AL38)","v":2.7956017398591517},null,null,null,{"$f":"SUM(AP7:AP38)","v":1},{"$f":"-SUM(AQ7:AQ38)","v":2.7450851871082689},null,null,null,{"$f":"SUM(AU7:AU38)","v":1},{"$f":"-SUM(AV7:AV38)","v":3.2501026694564064}]
[21,4950,22,4958,24,4964,14,4977,24,4985,0,22212,null,null,null,"U=",{"$f":"Q39/(LOG(Q4)/LOG(2))","v":0.47525112023303073},null,null,null,null,"U1=",{"$f":"W39/(LOG(W4)/LOG(2))","v":0.68048821507935731},null,null,null,"U2=",{"$f":"AB39/(LOG(AB4)/LOG(2))","v":0.65159392283905238},null,null,null,"U3=",{"$f":"AG39/(LOG(AG4)/LOG(2))","v":0.61811236933583069},null,null,null,"U4=",{"$f":"AL39/(LOG(AL4)/LOG(2))","v":0.58794277227109082},null,null,null,"U5=",{"$f":"AQ39/(LOG(AQ4)/LOG(2))","v":0.57731864021162616},null,null,null,"U6=",{"$f":"AV39/(LOG(AV4)/LOG(2))","v":0.68352882544068883}]
[12,5092,24,5100,13,5122,14,5127,13,5138,0,12111]
[21,5255,11,5267,11,5275,12,5281,13,5287,1,21111]
[21,5384,22,5395,13,5406,14,5414,13,5418,0,22111,null,"Total Target Seq"]
[21,5529,22,5536,24,5543,23,5559,24,5570,0,22222,null,{"$f":"COUNTIF(L7:L167,G3)","v":1},null,27,27,26,27,27,27]
[21,5670,22,5675,13,5689,23,5697,13,5712,0,22121,null,null,null,"% of reinforcement given in 6 equal intervals based on number of trials "]
[12,5831,13,5839,13,5844,14,5854,13,5865,0,11111,null,null,null,"%_1","%_2","%_3","%_4","%_5","%_6"]
[12,5972,24,5981,13,6001,14,6005,13,6009,1,12111,null,null,"target sequence",{"$f":"$G$3","v":21121},{"$f":"$G$3","v":21121},{"$f":"$G$3","v":21121},{"$f":"$G$3","v":21121},{"$f":"$G$3","v":21121},{"$f":"$G$3","v":21121}]
[21,6110,22,6114,13,6124,14,6133,13,6136,0,22111,null,null,"total reinforcement",{"$f":"U25","v":0},{"$f":"Z25","v":0},{"$f":"AE25","v":0},{"$f":"AJ25","v":1},{"$f":"AO25","v":0},{"$f":"AT25","v":0}]
[21,6266,22,6283,13,6294,14,6301,13,6308,0,22111,null,null,"% target"]
[21,6414,11,6426,22,6435,14,6461,13,6468,0,21211,null,null,"CCRF"]
[21,6576,11,6592,11,6600,12,6604,13,6608,0,21111,null,null,"% CCRf"]
[21,6709,22,6725,24,6737,14,6747,13,6751,0,22211,null,null,"average response rate",{"$f":"J33/P44","v":147.07407407407408},{"$f":"(J60-J33)/Q44","v":148.11111111111111},{"$f":"(J86-J60)/R44","v":143.96153846153845},{"$f":"(J113-J86)/S44","v":150.59259259259258},{"$f":"(J140-J113)/T44","v":145.40740740740742},{"$f":"(J167-J140)/U44","v":156.4814814814815}]
[12,6855,24,6864,13,6875,14,6879,13,6883,0,12111]
[12,6992,13,7004,13,7008,14,7015,13,7025,1,11111]
[21,7124,11,7155,11,7164,12,7171,13,7178,0,21111]
[12,7287,24,7297,13,7325,14,7333,13,7338,0,12111]
[21,7441,22,7455,13,7471,14,7475,13,7483,0,22111]
[12,7593,24,7601,13,7625,14,7630,13,7635,0,12111]
[12,7740,24,7767,24,7788,14,7805,13,7812,1,12211]
[21,7928,11,7938,22,7946,14,7965,13,7970,0,21211]
[21,8072,22,8078,24,8089,23,8095,24,8103,0,22222]
[21,8203,22,8212,13,8220,23,8228,13,8252,0,22121]
[12,8354,24,8362,13,8377,14,8381,13,8385,0,12111]
[21,8487,11,8497,11,8507,12,8510,13,8515,0,21111]
[12,8617,24,8627,13,8640,14,8647,13,8652,0,12111]
[12,8780,13,8788,13,8792,14,8797,13,8807,1,11111]
[21,8911,11,8920,22,8928,23,8935,13,8945,1,21221]
[21,9051,11,9059,22,9067,23,9074,13,9084,0,21221]
[21,9187,22,9198,13,9206,14,9211,13,9215,0,22111]
[21,9322,11,9336,11,9343,12,9347,13,9353,0,21111]
[21,9461,11,9470,22,9479,23,9491,13,9501,1,21221]
[21,9600,11,9613,11,9629,12,9633,13,9639,0,21111]
[12,9741,24,9776,13,9785,14,9789,13,9797,0,12111]
[12,9903,24,9913,13,9923,14,9926,13,9932,1,12111]
[21,10034,11,10051,11,10060,12,10066,13,10072,1,21111]
[12,10214,13,10222,13,10227,14,10235,13,10245,0,11111]
[21,10352,11,10365,22,10384,14,10394,13,10400,0,21211]
[21,10519,22,10529,13,10538,14,10542,13,10549,0,22111]
[21,10658,11,10668,11,10681,12,10685,13,10690,0,21111]
[21,10797,11,10806,11,10811,12,10815,13,10822,0,21111]
[21,10943,22,10950,24,10975,14,10985,13,10991,0,22211]
[12,11101,24,11115,13,11130,14,11137,13,11141,0,12111]
[12,11242,24,11254,13,11264,14,11273,13,11277,0,12111]
[12,11389,24,11402,13,11416,14,11424,13,11430,0,12111]
[12,11540,24,11552,24,11559,14,11567,13,11570,1,12211]
[21,11678,22,11684,13,11700,14,11708,13,11713,0,22111]
[12,11820,24,11831,24,11840,14,11855,13,11859,0,12211]
[21,11966,11,11973,11,11978,12,11982,13,11989,0,21111]
[21,12094,22,12104,13,12114,14,12121,13,12126,1,22111]
[21,12225,22,12230,13,12260,14,12264,13,12270,0,22111]
[21,12387,11,12423,11,12427,12,12435,13,12443,0,21111]
[12,12547,24,12560,24,12584,23,12592,13,12602,0,12221]
[12,12715,24,12724,13,12738,14,12742,13,12749,0,12111]
[12,12855,13,12872,13,12881,14,12885,13,12893,0,11111]
[12,13002,13,13028,13,13033,14,13041,13,13055,0,11111]
[21,13163,22,13182,13,13193,14,13197,13,13201,0,22111]
[21,13310,22,13317,13,13324,14,13331,13,13334,1,22111]
[21,13444,11,13460,22,13467,14,13477,13,13482,0,21211]
[21,13599,22,13607,13,13624,14,13628,13,13633,0,22111]
[21,13748,22,13767,13,13786,14,13815,13,13826,0,22111]
[12,13934,24,13943,24,13947,23,13961,13,13978,1,12221]
[21,14080,11,14096,11,14101,21,14117,11,14133,1,21121]
[21,14256,11,14273,11,14277,12,14281,13,14289,1,21111]
[21,14409,11,14418,22,14428,14,14448,13,14455,0,21211]
[12,14560,24,14571,24,14578,14,14590,13,14598,0,12211]
[21,14703,11,14713,22,14724,14,14733,13,14736,0,21211]
[12,14841,24,14856,13,14870,14,14874,13,14880,0,12111]
[21,14989,11,14998,11,15019,12,15023,13,15028,1,21111]
[21,15165,11,15174,11,15195,12,15200,13,15210,0,21111]
[21,15321,22,15328,13,15341,14,15345,13,15350,0,22111]
[21,15450,22,15455,24,15474,23,15485,13,15495,0,22221]
[12,15600,24,15608,13,15627,14,15633,13,15644,0,12111]
[12,15752,24,15760,24,15765,14,15775,13,15779,0,12211]
[12,15885,24,15902,24,15912,14,15920,13,15926,0,12211]
[21,16039,11,16049,11,16057,12,16061,13,16079,1,21111]
[12,16192,24,16200,13,16210,14,16216,13,16223,0,12111]
[12,16326,13,16354,13,16363,23,16378,13,16398,0,11121]
[12,16501,24,16509,24,16528,14,16539,13,16546,0,12211]
[12,16650,24,16658,24,16666,14,16672,13,16677,0,12211]
[21,16797,11,16814,11,16830,12,16837,13,16845,0,21111]
[12,16955,24,16964,24,16971,14,16978,13,16983,0,12211]
[21,17101,11,17122,11,17130,12,17141,13,17148,0,21111]
[12,17253,24,17263,24,17270,23,17289,13,17297,1,12221]
[21,17410,11,17421,11,17429,12,17436,13,17443,0,21111]
[21,17560,11,17569,11,17576,12,17581,13,17596,0,21111]
[12,17700,24,17708,13,17719,14,17723,13,17733,0,12111]
[21,17835,22,17856,13,17865,14,17869,13,17877,0,22111]
[12,17982,24,17989,24,17997,14,18004,13,18008,0,12211]
[12,18115,24,18123,13,18138,14,18142,13,18147,0,12111]
[21,18253,11,18266,22,18273,23,18279,13,18288,1,21221]
[21,18393,11,18406,22,18414,14,18425,13,18432,0,21211]
[12,18544,24,18552,24,18560,23,18568,13,18578,0,12221]
[12,18683,24,18692,13,18713,14,18719,13,18730,0,12111]
[12,18834,24,18844,24,18850,23,18858,13,18866,0,12221]
[12,18992,13,18996,13,19000,14,19006,13,19013,0,11111]
[12,19124,13,19133,13,19137,14,19144,13,19155,0,11111]
[12,19260,24,19271,24,19276,14,19298,13,19302,0,12211]
[12,19408,24,19416,24,19423,14,19431,13,19435,0,12211]
[21,19545,11,19555,11,19559,12,19564,13,19571,0,21111]
[12,19676,24,19685,24,19694,14,19701,13,19705,1,12211]
[12,19818,13,19830,13,19835,14,19850,13,19858,0,11111]
[12,19970,24,19978,24,19994,14,20008,13,20019,0,12211]
[12,20134,13,20141,13,20144,14,20148,13,20155,0,11111]
[12,20261,13,20266,13,20270,14,20277,13,20283,0,11111]
[21,20402,11,20410,22,20418,23,20426,13,20438,0,21221]
[21,20556,11,20569,11,20578,12,20586,13,20601,0,21111]
[21,20715,11,20727,11,20732,12,20736,13,20743,1,21111]
[21,20853,22,20872,13,20893,14,20898,13,20909,0,22111]
[21,21031,11,21044,11,21048,12,21053,13,21060,0,21111]
[21,21175,22,21185,24,21205,14,21217,13,21222,1,22211]
[12,21350,13,21358,24,21369,14,21380,13,21384,0,11211]
[12,21503,24,21511,13,21524,14,21530,13,21544,0,12111]
[21,21647,22,21654,13,21662,14,21666,13,21670,0,22111]
[21,21790,11,21806,11,21810,12,21815,13,21826,1,21111]
[21,21946,11,21956,11,21974,12,21981,13,21991,0,21111]
[12,22109,13,22116,13,22134,14,22138,13,22143,0,11111]
[21,22273,11,22284,11,22299,12,22306,13,22317,0,21111]
[12,22420,24,22429,24,22437,14,22449,13,22454,0,12211]
[21,22595,22,22603,13,22614,14,22621,13,22625,0,22111]
[12,22741,24,22750,24,22758,14,22766,13,22770,0,12211]
[21,22904,22,22908,24,22919,14,22928,13,22939,0,22211]
[21,23069,22,23076,13,23099,23,23112,24,23119,0,22122]
[21,23232,22,23238,24,23246,23,23255,24,23265,1,22222]
[12,23396,24,23403,13,23417,14,23421,13,23429,0,12111]
[12,23555,13,23578,13,23585,14,23594,13,23609,0,11111]
[12,23723,24,23731,24,23744,23,23753,13,23765,1,12221]
[21,23879,11,23889,22,23900,14,23908,13,23930,null,21211]

{"sheet":"!N411B20.096","index":17,"n_rows":177,"n_cols":48,"rows_kept":177,"cut":false,"hidden":false,"merged":[[4,39,4,42],[5,39,5,40],[4,44,4,47],[5,44,5,45],[4,24,4,27],[5,24,5,25],[4,29,4,32],[5,29,5,30],[4,34,4,37],[5,34,5,35],[1,1,1,2],[5,13,5,14],[42,13,42,14],[43,13,43,14],[4,19,4,22],[5,19,5,20]]}
["Report for:!N411B20.096"]
["Date:","<date>"]
["Hen:","<hen>",null,null,null,"Correct Sequence",{"$f":"Start!J2","v":21121},null,null,null,null,null,null,null,null,"Total Sequences in Data",{"$f":"4994-COUNTBLANK(L7:L5000)","v":171},null,null,null,null,"Total Sequences in Block Data",{"$f":"COUNTA(L7:L35)","v":29},null,null,null,"Total Sequences in Block Data",{"$f":"COUNTA(L36:L63)","v":28},null,null,null,"Total Sequences in Block Data",{"$f":"COUNTA(L64:L92)","v":29},null,null,null,"Total Sequences in Block Data",{"$f":"COUNTA(L93:L120)","v":28},null,null,null,"Total Sequences in Block Data",{"$f":"COUNTA(L121:L149)","v":29},null,null,null,"Total Sequences in Block Data",{"$f":"COUNTA(L150:L177)","v":28}]
[null,null,null,null,null,null,null,null,null,null,null,null,null,null,null,"Total Sequences in Summary",{"$f":"SUM(O7:O38)","v":170},null,null,null,null,"Total Sequences in Block Summary",{"$f":"SUM(U7:U38)","v":29},null,null,null,"Total Sequences in Block Summary",{"$f":"SUM(Z7:Z38)","v":28},null,null,null,"Total Sequences in Block Summary",{"$f":"SUM(AE7:AE38)","v":29},null,null,null,"Total Sequences in Block Summary",{"$f":"SUM(AJ7:AJ38)","v":28},null,null,null,"Total Sequences in Block Summary",{"$f":"SUM(AO7:AO38)","v":29},null,null,null,"Total Sequences in Block Summary",{"$f":"SUM(AT7:AT38)","v":27}]
[null,null,null,null,null,null,null,null,null,null,null,null,null,null,null,null,null,null,null,"Block 1",null,null,null,null,"Block 2",null,null,null,null,"Block 3",null,null,null,null,"Block 4",null,null,null,null,"Block 5",null,null,null,null,"Block 6"]
["Sequence\nComponent\n1","Time\n1","Sequence\nComponent\n2","Time\n2","Sequence\nComponent\n3","Time\n3","Sequence\nComponent\n4","Time\n4","Sequence\nComponent\n5","Time\n5","Correct?\n0=No 1=Yes","Sequence",null,"Frequency",null,"Relative Frequency","Variability",null,null,"Frequency",null,"Relative Frequency","Variability",null,"Frequency",null,"Relative Frequency","Variability",null,"Frequency",null,"Relative Frequency","Variability",null,"Frequency",null,"Relative Frequency","Variability",null,"Frequency",null,"Relative Frequency","Variability",null,"Frequency",null,"Relative Frequency","Variability"]
[21,13,22,24,24,29,23,34,24,51,0,22222,null,11111,{"$f":"COUNTIF($L$7:$L$500,N7)","v":23},{"$f":"O7/$Q$4","v":0.13529411764705881},{"$f":"IF(P7=0,0,(P7*((LOG(P7))/LOG(2))))","v":-0.39043568554032843},null,null,{"$f":"N7","v":11111},{"$f":"COUNTIF(L7:L35,T7)","v":2},{"$f":"U7/(W4-U25)","v":6.8965517241379309E-2},{"$f":"IF(V7=0,0,(V7*((LOG(V7))/LOG(2))))","v":-0.26606765483638428},null,{"$f":"N7","v":11111},{"$f":"COUNTIF(L36:L63,Y7)","v":4},{"$f":"Z7/(AB4-Z25)","v":0.14285714285714285},{"$f":"IF(AA7=0,0,(AA7*((LOG(AA7))/LOG(2))))","v":-0.40105070315108626},null,{"$f":"N7","v":11111},{"$f":"COUNTIF(L64:L92,AD7)","v":3},{"$f":"AE7/(AG4-AE25)","v":0.10344827586206896},{"$f":"IF(AF7=0,0,(AF7*((LOG(AF7))/LOG(2))))","v":-0.33858812011100858},null,{"$f":"N7","v":11111},{"$f":"COUNTIF(L93:L120,AI7)","v":4},{"$f":"AJ7/(AL4-AJ25)","v":0.14285714285714285},{"$f":"IF(AK7=0,0,(AK7*((LOG(AK7))/LOG(2))))","v":-0.40105070315108626},null,{"$f":"N7","v":11111},{"$f":"COUNTIF(L121:L149,AN7)","v":5},{"$f":"AO7/(AQ4-AO25)","v":0.17241379310344829},{"$f":"IF(AP7=0,0,(AP7*((LOG(AP7))/LOG(2))))","v":-0.43725050004141547},null,{"$f":"N7","v":11111},{"$f":"COUNTIF(L150:L177,AS7)","v":5},{"$f":"AT7/(AV4-AT25)","v":0.18518518518518517},{"$f":"IF(AU7=0,0,(AU7*((LOG(AU7))/LOG(2))))","v":-0.45054803838446406}]
[12,155,24,175,13,185,14,200,13,207,0,12111,null,11112,{"$f":"COUNTIF($L$7:$L$500,N8)","v":2},{"$f":"O8/$Q$4","v":1.1764705882352941E-2},{"$f":"IF(P8=0,0,(P8*((LOG(P8))/LOG(2))))","v":-7.5404599248678844E-2},null,null,{"$f":"N8","v":11112},{"$f":"COUNTIF(L7:L35,T8)","v":1},{"$f":"U8/(W4-U25)","v":3.4482758620689655E-2},{"$f":"IF(V8=0,0,(V8*((LOG(V8))/LOG(2))))","v":-0.16751658603888178},null,{"$f":"N8","v":11112},{"$f":"COUNTIF(L36:L63,Y8)","v":1},{"$f":"Z8/(AB4-Z25)","v":3.5714285714285712E-2},{"$f":"IF(AA8=0,0,(AA8*((LOG(AA8))/LOG(2))))","v":-0.17169124721634299},null,{"$f":"N8","v":11112},{"$f":"COUNTIF(L64:L92,AD8)","v":0},{"$f":"AE8/(AG4-AE25)","v":0},{"$f":"IF(AF8=0,0,(AF8*((LOG(AF8))/LOG(2))))","v":0},null,{"$f":"N8","v":11112},{"$f":"COUNTIF(L93:L120,AI8)","v":0},{"$f":"AJ8/(AL4-AJ25)","v":0},{"$f":"IF(AK8=0,0,(AK8*((LOG(AK8))/LOG(2))))","v":0},null,{"$f":"N8","v":11112},{"$f":"COUNTIF(L121:L149,AN8)","v":0},{"$f":"AO8/(AQ4-AO25)","v":0},{"$f":"IF(AP8=0,0,(AP8*((LOG(AP8))/LOG(2))))","v":0},null,{"$f":"N8","v":11112},{"$f":"COUNTIF(L150:L177,AS8)","v":0},{"$f":"AT8/(AV4-AT25)","v":0},{"$f":"IF(AU8=0,0,(AU8*((LOG(AU8))/LOG(2))))","v":0}]
[21,322,22,327,24,332,23,340,13,349,0,22221,null,11121,{"$f":"COUNTIF($L$7:$L$500,N9)","v":1},{"$f":"O9/$Q$4","v":5.8823529411764705E-3},{"$f":"IF(P9=0,0,(P9*((LOG(P9))/LOG(2))))","v":-4.35846525655159E-2},null,null,{"$f":"N9","v":11121},{"$f":"COUNTIF(L7:L35,T9)","v":1},{"$f":"U9/(W4-U25)","v":3.4482758620689655E-2},{"$f":"IF(V9=0,0,(V9*((LOG(V9))/LOG(2))))","v":-0.16751658603888178},null,{"$f":"N9","v":11121},{"$f":"COUNTIF(L36:L63,Y9)","v":0},{"$f":"Z9/(AB4-Z25)","v":0},{"$f":"IF(AA9=0,0,(AA9*((LOG(AA9))/LOG(2))))","v":0},null,{"$f":"N9","v":11121},{"$f":"COUNTIF(L64:L92,AD9)","v":0},{"$f":"AE9/(AG4-AE25)","v":0},{"$f":"IF(AF9=0,0,(AF9*((LOG(AF9))/LOG(2))))","v":0},null,{"$f":"N9","v":11121},{"$f":"COUNTIF(L93:L120,AI9)","v":0},{"$f":"AJ9/(AL4-AJ25)","v":0},{"$f":"IF(AK9=0,0,(AK9*((LOG(AK9))/LOG(2))))","v":0},null,{"$f":"N9","v":11121},{"$f":"COUNTIF(L121:L149,AN9)","v":0},{"$f":"AO9/(AQ4-AO25)","v":0},{"$f":"IF(AP9=0,0,(AP9*((LOG(AP9))/LOG(2))))","v":0},null,{"$f":"N9","v":11121},{"$f":"COUNTIF(L150:L177,AS9)","v":0},{"$f":"AT9/(AV4-AT25)","v":0},{"$f":"IF(AU9=0,0,(AU9*((LOG(AU9))/LOG(2))))","v":0}]
[21,451,22,458,24,462,23,468,24,472,0,22222,null,11122,{"$f":"COUNTIF($L$7:$L$500,N10)","v":1},{"$f":"O10/$Q$4","v":5.8823529411764705E-3},{"$f":"IF(P10=0,0,(P10*((LOG(P10))/LOG(2))))","v":-4.35846525655159E-2},null,null,{"$f":"N10","v":11122},{"$f":"COUNTIF(L7:L35,T10)","v":0},{"$f":"U10/(W4-U25)","v":0},{"$f":"IF(V10=0,0,(V10*((LOG(V10))/LOG(2))))","v":0},null,{"$f":"N10","v":11122},{"$f":"COUNTIF(L36:L63,Y10)","v":1},{"$f":"Z10/(AB4-Z25)","v":3.5714285714285712E-2},{"$f":"IF(AA10=0,0,(AA10*((LOG(AA10))/LOG(2))))","v":-0.17169124721634299},null,{"$f":"N10","v":11122},{"$f":"COUNTIF(L64:L92,AD10)","v":0},{"$f":"AE10/(AG4-AE25)","v":0},{"$f":"IF(AF10=0,0,(AF10*((LOG(AF10))/LOG(2))))","v":0},null,{"$f":"N10","v":11122},{"$f":"COUNTIF(L93:L120,AI10)","v":0},{"$f":"AJ10/(AL4-AJ25)","v":0},{"$f":"IF(AK10=0,0,(AK10*((LOG(AK10))/LOG(2))))","v":0},null,{"$f":"N10","v":11122},{"$f":"COUNTIF(L121:L149,AN10)","v":0},{"$f":"AO10/(AQ4-AO25)","v":0},{"$f":"IF(AP10=0,0,(AP10*((LOG(AP10))/LOG(2))))","v":0},null,{"$f":"N10","v":11122},{"$f":"COUNTIF(L150:L177,AS10)","v":0},{"$f":"AT10/(AV4-AT25)","v":0},{"$f":"IF(AU10=0,0,(AU10*((LOG(AU10))/LOG(2))))","v":0}]
[21,576,22,583,13,594,14,598,13,612,0,22111,null,11211,{"$f":"COUNTIF($L$7:$L$500,N11)","v":4},{"$f":"O11/$Q$4","v":2.3529411764705882E-2},{"$f":"IF(P11=0,0,(P11*((LOG(P11))/LOG(2))))","v":-0.12727978673265181},null,null,{"$f":"N11","v":11211},{"$f":"COUNTIF(L7:L35,T11)","v":1},{"$f":"U11/(W4-U25)","v":3.4482758620689655E-2},{"$f":"IF(V11=0,0,(V11*((LOG(V11))/LOG(2))))","v":-0.16751658603888178},null,{"$f":"N11","v":11211},{"$f":"COUNTIF(L36:L63,Y11)","v":0},{"$f":"Z11/(AB4-Z25)","v":0},{"$f":"IF(AA11=0,0,(AA11*((LOG(AA11))/LOG(2))))","v":0},null,{"$f":"N11","v":11211},{"$f":"COUNTIF(L64:L92,AD11)","v":3},{"$f":"AE11/(AG4-AE25)","v":0.10344827586206896},{"$f":"IF(AF11=0,0,(AF11*((LOG(AF11))/LOG(2))))","v":-0.33858812011100858},null,{"$f":"N11","v":11211},{"$f":"COUNTIF(L93:L120,AI11)","v":0},{"$f":"AJ11/(AL4-AJ25)","v":0},{"$f":"IF(AK11=0,0,(AK11*((LOG(AK11))/LOG(2))))","v":0},null,{"$f":"N11","v":11211},{"$f":"COUNTIF(L121:L149,AN11)","v":0},{"$f":"AO11/(AQ4-AO25)","v":0},{"$f":"IF(AP11=0,0,(AP11*((LOG(AP11))/LOG(2))))","v":0},null,{"$f":"N11","v":11211},{"$f":"COUNTIF(L150:L177,AS11)","v":0},{"$f":"AT11/(AV4-AT25)","v":0},{"$f":"IF(AU11=0,0,(AU11*((LOG(AU11))/LOG(2))))","v":0}]
[21,713,11,722,11,729,12,732,13,740,0,21111,null,11212,{"$f":"COUNTIF($L$7:$L$500,N12)","v":0},{"$f":"O12/$Q$4","v":0},{"$f":"IF(P12=0,0,(P12*((LOG(P12))/LOG(2))))","v":0},null,null,{"$f":"N12","v":11212},{"$f":"COUNTIF(L7:L35,T12)","v":0},{"$f":"U12/(W4-U25)","v":0},{"$f":"IF(V12=0,0,(V12*((LOG(V12))/LOG(2))))","v":0},null,{"$f":"N12","v":11212},{"$f":"COUNTIF(L36:L63,Y12)","v":0},{"$f":"Z12/(AB4-Z25)","v":0},{"$f":"IF(AA12=0,0,(AA12*((LOG(AA12))/LOG(2))))","v":0},null,{"$f":"N12","v":11212},{"$f":"COUNTIF(L64:L92,AD12)","v":0},{"$f":"AE12/(AG4-AE25)","v":0},{"$f":"IF(AF12=0,0,(AF12*((LOG(AF12))/LOG(2))))","v":0},null,{"$f":"N12","v":11212},{"$f":"COUNTIF(L93:L120,AI12)","v":0},{"$f":"AJ12/(AL4-AJ25)","v":0},{"$f":"IF(AK12=0,0,(AK12*((LOG(AK12))/LOG(2))))","v":0},null,{"$f":"N12","v":11212},{"$f":"COUNTIF(L121:L149,AN12)","v":0},{"$f":"AO12/(AQ4-AO25)","v":0},{"$f":"IF(AP12=0,0,(AP12*((LOG(AP12))/LOG(2))))","v":0},null,{"$f":"N12","v":11212},{"$f":"COUNTIF(L150:L177,AS12)","v":0},{"$f":"AT12/(AV4-AT25)","v":0},{"$f":"IF(AU12=0,0,(AU12*((LOG(AU12))/LOG(2))))","v":0}]
[21,841,22,845,24,850,14,868,13,874,0,22211,null,11221,{"$f":"COUNTIF($L$7:$L$500,N13)","v":2},{"$f":"O13/$Q$4","v":1.1764705882352941E-2},{"$f":"IF(P13=0,0,(P13*((LOG(P13))/LOG(2))))","v":-7.5404599248678844E-2},null,null,{"$f":"N13","v":11221},{"$f":"COUNTIF(L7:L35,T13)","v":0},{"$f":"U13/(W4-U25)","v":0},{"$f":"IF(V13=0,0,(V13*((LOG(V13))/LOG(2))))","v":0},null,{"$f":"N13","v":11221},{"$f":"COUNTIF(L36:L63,Y13)","v":2},{"$f":"Z13/(AB4-Z25)","v":7.1428571428571425E-2},{"$f":"IF(AA13=0,0,(AA13*((LOG(AA13))/LOG(2))))","v":-0.27195392300411453},null,{"$f":"N13","v":11221},{"$f":"COUNTIF(L64:L92,AD13)","v":0},{"$f":"AE13/(AG4-AE25)","v":0},{"$f":"IF(AF13=0,0,(AF13*((LOG(AF13))/LOG(2))))","v":0},null,{"$f":"N13","v":11221},{"$f":"COUNTIF(L93:L120,AI13)","v":0},{"$f":"AJ13/(AL4-AJ25)","v":0},{"$f":"IF(AK13=0,0,(AK13*((LOG(AK13))/LOG(2))))","v":0},null,{"$f":"N13","v":11221},{"$f":"COUNTIF(L121:L149,AN13)","v":0},{"$f":"AO13/(AQ4-AO25)","v":0},{"$f":"IF(AP13=0,0,(AP13*((LOG(AP13))/LOG(2))))","v":0},null,{"$f":"N13","v":11221},{"$f":"COUNTIF(L150:L177,AS13)","v":0},{"$f":"AT13/(AV4-AT25)","v":0},{"$f":"IF(AU13=0,0,(AU13*((LOG(AU13))/LOG(2))))","v":0}]
[21,978,11,987,11,991,12,995,13,999,0,21111,null,11222,{"$f":"COUNTIF($L$7:$L$500,N14)","v":0},{"$f":"O14/$Q$4","v":0},{"$f":"IF(P14=0,0,(P14*((LOG(P14))/LOG(2))))","v":0},null,null,{"$f":"N14","v":11222},{"$f":"COUNTIF(L7:L35,T14)","v":0},{"$f":"U14/(W4-U25)","v":0},{"$f":"IF(V14=0,0,(V14*((LOG(V14))/LOG(2))))","v":0},null,{"$f":"N14","v":11222},{"$f":"COUNTIF(L36:L63,Y14)","v":0},{"$f":"Z14/(AB4-Z25)","v":0},{"$f":"IF(AA14=0,0,(AA14*((LOG(AA14))/LOG(2))))","v":0},null,{"$f":"N14","v":11222},{"$f":"COUNTIF(L64:L92,AD14)","v":0},{"$f":"AE14/(AG4-AE25)","v":0},{"$f":"IF(AF14=0,0,(AF14*((LOG(AF14))/LOG(2))))","v":0},null,{"$f":"N14","v":11222},{"$f":"COUNTIF(L93:L120,AI14)","v":0},{"$f":"AJ14/(AL4-AJ25)","v":0},{"$f":"IF(AK14=0,0,(AK14*((LOG(AK14))/LOG(2))))","v":0},null,{"$f":"N14","v":11222},{"$f":"COUNTIF(L121:L149,AN14)","v":0},{"$f":"AO14/(AQ4-AO25)","v":0},{"$f":"IF(AP14=0,0,(AP14*((LOG(AP14))/LOG(2))))","v":0},null,{"$f":"N14","v":11222},{"$f":"COUNTIF(L150:L177,AS14)","v":0},{"$f":"AT14/(AV4-AT25)","v":0},{"$f":"IF(AU14=0,0,(AU14*((LOG(AU14))/LOG(2))))","v":0}]
[12,1100,24,1109,13,1124,14,1127,13,1135,0,12111,null,12111,{"$f":"COUNTIF($L$7:$L$500,N15)","v":32},{"$f":"O15/$Q$4","v":0.18823529411764706},{"$f":"IF(P15=0,0,(P15*((LOG(P15))/LOG(2))))","v":-0.45353241150827328},null,null,{"$f":"N15","v":12111},{"$f":"COUNTIF(L7:L35,T15)","v":3},{"$f":"U15/(W4-U25)","v":0.10344827586206896},{"$f":"IF(V15=0,0,(V15*((LOG(V15))/LOG(2))))","v":-0.33858812011100858},null,{"$f":"N15","v":12111},{"$f":"COUNTIF(L36:L63,Y15)","v":4},{"$f":"Z15/(AB4-Z25)","v":0.14285714285714285},{"$f":"IF(AA15=0,0,(AA15*((LOG(AA15))/LOG(2))))","v":-0.40105070315108626},null,{"$f":"N15","v":12111},{"$f":"COUNTIF(L64:L92,AD15)","v":7},{"$f":"AE15/(AG4-AE25)","v":0.2413793103448276},{"$f":"IF(AF15=0,0,(AF15*((LOG(AF15))/LOG(2))))","v":-0.49497870729275095},null,{"$f":"N15","v":12111},{"$f":"COUNTIF(L93:L120,AI15)","v":7},{"$f":"AJ15/(AL4-AJ25)","v":0.25},{"$f":"IF(AK15=0,0,(AK15*((LOG(AK15))/LOG(2))))","v":-0.5},null,{"$f":"N15","v":12111},{"$f":"COUNTIF(L121:L149,AN15)","v":3},{"$f":"AO15/(AQ4-AO25)","v":0.10344827586206896},{"$f":"IF(AP15=0,0,(AP15*((LOG(AP15))/LOG(2))))","v":-0.33858812011100858},null,{"$f":"N15","v":12111},{"$f":"COUNTIF(L150:L177,AS15)","v":8},{"$f":"AT15/(AV4-AT25)","v":0.29629629629629628},{"$f":"IF(AU15=0,0,(AU15*((LOG(AU15))/LOG(2))))","v":-0.51996666730769436}]
[12,1237,13,1253,13,1264,14,1269,24,1277,0,11112,null,12112,{"$f":"COUNTIF($L$7:$L$500,N16)","v":2},{"$f":"O16/$Q$4","v":1.1764705882352941E-2},{"$f":"IF(P16=0,0,(P16*((LOG(P16))/LOG(2))))","v":-7.5404599248678844E-2},null,null,{"$f":"N16","v":12112},{"$f":"COUNTIF(L7:L35,T16)","v":0},{"$f":"U16/(W4-U25)","v":0},{"$f":"IF(V16=0,0,(V16*((LOG(V16))/LOG(2))))","v":0},null,{"$f":"N16","v":12112},{"$f":"COUNTIF(L36:L63,Y16)","v":2},{"$f":"Z16/(AB4-Z25)","v":7.1428571428571425E-2},{"$f":"IF(AA16=0,0,(AA16*((LOG(AA16))/LOG(2))))","v":-0.27195392300411453},null,{"$f":"N16","v":12112},{"$f":"COUNTIF(L64:L92,AD16)","v":0},{"$f":"AE16/(AG4-AE25)","v":0},{"$f":"IF(AF16=0,0,(AF16*((LOG(AF16))/LOG(2))))","v":0},null,{"$f":"N16","v":12112},{"$f":"COUNTIF(L93:L120,AI16)","v":0},{"$f":"AJ16/(AL4-AJ25)","v":0},{"$f":"IF(AK16=0,0,(AK16*((LOG(AK16))/LOG(2))))","v":0},null,{"$f":"N16","v":12112},{"$f":"COUNTIF(L121:L149,AN16)","v":0},{"$f":"AO16/(AQ4-AO25)","v":0},{"$f":"IF(AP16=0,0,(AP16*((LOG(AP16))/LOG(2))))","v":0},null,{"$f":"N16","v":12112},{"$f":"COUNTIF(L150:L177,AS16)","v":0},{"$f":"AT16/(AV4-AT25)","v":0},{"$f":"IF(AU16=0,0,(AU16*((LOG(AU16))/LOG(2))))","v":0}]
[21,1391,11,1421,11,1427,12,1445,13,1454,1,21111,null,12121,{"$f":"COUNTIF($L$7:$L$500,N17)","v":0},{"$f":"O17/$Q$4","v":0},{"$f":"IF(P17=0,0,(P17*((LOG(P17))/LOG(2))))","v":0},null,null,{"$f":"N17","v":12121},{"$f":"COUNTIF(L7:L35,T17)","v":0},{"$f":"U17/(W4-U25)","v":0},{"$f":"IF(V17=0,0,(V17*((LOG(V17))/LOG(2))))","v":0},null,{"$f":"N17","v":12121},{"$f":"COUNTIF(L36:L63,Y17)","v":0},{"$f":"Z17/(AB4-Z25)","v":0},{"$f":"IF(AA17=0,0,(AA17*((LOG(AA17))/LOG(2))))","v":0},null,{"$f":"N17","v":12121},{"$f":"COUNTIF(L64:L92,AD17)","v":0},{"$f":"AE17/(AG4-AE25)","v":0},{"$f":"IF(AF17=0,0,(AF17*((LOG(AF17))/LOG(2))))","v":0},null,{"$f":"N17","v":12121},{"$f":"COUNTIF(L93:L120,AI17)","v":0},{"$f":"AJ17/(AL4-AJ25)","v":0},{"$f":"IF(AK17=0,0,(AK17*((LOG(AK17))/LOG(2))))","v":0},null,{"$f":"N17","v":12121},{"$f":"COUNTIF(L121:L149,AN17)","v":0},{"$f":"AO17/(AQ4-AO25)","v":0},{"$f":"IF(AP17=0,0,(AP17*((LOG(AP17))/LOG(2))))","v":0},null,{"$f":"N17","v":12121},{"$f":"COUNTIF(L150:L177,AS17)","v":0},{"$f":"AT17/(AV4-AT25)","v":0},{"$f":"IF(AU17=0,0,(AU17*((LOG(AU17))/LOG(2))))","v":0}]
[21,1550,11,1564,11,1579,12,1583,13,1587,1,21111,null,12122,{"$f":"COUNTIF($L$7:$L$500,N18)","v":0},{"$f":"O18/$Q$4","v":0},{"$f":"IF(P18=0,0,(P18*((LOG(P18))/LOG(2))))","v":0},null,null,{"$f":"N18","v":12122},{"$f":"COUNTIF(L7:L35,T18)","v":0},{"$f":"U18/(W4-U25)","v":0},{"$f":"IF(V18=0,0,(V18*((LOG(V18))/LOG(2))))","v":0},null,{"$f":"N18","v":12122},{"$f":"COUNTIF(L36:L63,Y18)","v":0},{"$f":"Z18/(AB4-Z25)","v":0},{"$f":"IF(AA18=0,0,(AA18*((LOG(AA18))/LOG(2))))","v":0},null,{"$f":"N18","v":12122},{"$f":"COUNTIF(L64:L92,AD18)","v":0},{"$f":"AE18/(AG4-AE25)","v":0},{"$f":"IF(AF18=0,0,(AF18*((LOG(AF18))/LOG(2))))","v":0},null,{"$f":"N18","v":12122},{"$f":"COUNTIF(L93:L120,AI18)","v":0},{"$f":"AJ18/(AL4-AJ25)","v":0},{"$f":"IF(AK18=0,0,(AK18*((LOG(AK18))/LOG(2))))","v":0},null,{"$f":"N18","v":12122},{"$f":"COUNTIF(L121:L149,AN18)","v":0},{"$f":"AO18/(AQ4-AO25)","v":0},{"$f":"IF(AP18=0,0,(AP18*((LOG(AP18))/LOG(2))))","v":0},null,{"$f":"N18","v":12122},{"$f":"COUNTIF(L150:L177,AS18)","v":0},{"$f":"AT18/(AV4-AT25)","v":0},{"$f":"IF(AU18=0,0,(AU18*((LOG(AU18))/LOG(2))))","v":0}]
[21,1705,22,1724,13,1731,14,1735,13,1740,0,22111,null,12211,{"$f":"COUNTIF($L$7:$L$500,N19)","v":32},{"$f":"O19/$Q$4","v":0.18823529411764706},{"$f":"IF(P19=0,0,(P19*((LOG(P19))/LOG(2))))","v":-0.45353241150827328},null,null,{"$f":"N19","v":12211},{"$f":"COUNTIF(L7:L35,T19)","v":2},{"$f":"U19/(W4-U25)","v":6.8965517241379309E-2},{"$f":"IF(V19=0,0,(V19*((LOG(V19))/LOG(2))))","v":-0.26606765483638428},null,{"$f":"N19","v":12211},{"$f":"COUNTIF(L36:L63,Y19)","v":2},{"$f":"Z19/(AB4-Z25)","v":7.1428571428571425E-2},{"$f":"IF(AA19=0,0,(AA19*((LOG(AA19))/LOG(2))))","v":-0.27195392300411453},null,{"$f":"N19","v":12211},{"$f":"COUNTIF(L64:L92,AD19)","v":5},{"$f":"AE19/(AG4-AE25)","v":0.17241379310344829},{"$f":"IF(AF19=0,0,(AF19*((LOG(AF19))/LOG(2))))","v":-0.43725050004141547},null,{"$f":"N19","v":12211},{"$f":"COUNTIF(L93:L120,AI19)","v":9},{"$f":"AJ19/(AL4-AJ25)","v":0.32142857142857145},{"$f":"IF(AK19=0,0,(AK19*((LOG(AK19))/LOG(2))))","v":-0.5263167601977724},null,{"$f":"N19","v":12211},{"$f":"COUNTIF(L121:L149,AN19)","v":9},{"$f":"AO19/(AQ4-AO25)","v":0.31034482758620691},{"$f":"IF(AP19=0,0,(AP19*((LOG(AP19))/LOG(2))))","v":-0.52387944631611505},null,{"$f":"N19","v":12211},{"$f":"COUNTIF(L150:L177,AS19)","v":5},{"$f":"AT19/(AV4-AT25)","v":0.18518518518518517},{"$f":"IF(AU19=0,0,(AU19*((LOG(AU19))/LOG(2))))","v":-0.45054803838446406}]
[21,1844,22,1864,24,1872,14,1882,13,1885,0,22211,null,12212,{"$f":"COUNTIF($L$7:$L$500,N20)","v":1},{"$f":"O20/$Q$4","v":5.8823529411764705E-3},{"$f":"IF(P20=0,0,(P20*((LOG(P20))/LOG(2))))","v":-4.35846525655159E-2},null,null,{"$f":"N20","v":12212},{"$f":"COUNTIF(L7:L35,T20)","v":0},{"$f":"U20/(W4-U25)","v":0},{"$f":"IF(V20=0,0,(V20*((LOG(V20))/LOG(2))))","v":0},null,{"$f":"N20","v":12212},{"$f":"COUNTIF(L36:L63,Y20)","v":0},{"$f":"Z20/(AB4-Z25)","v":0},{"$f":"IF(AA20=0,0,(AA20*((LOG(AA20))/LOG(2))))","v":0},null,{"$f":"N20","v":12212},{"$f":"COUNTIF(L64:L92,AD20)","v":0},{"$f":"AE20/(AG4-AE25)","v":0},{"$f":"IF(AF20=0,0,(AF20*((LOG(AF20))/LOG(2))))","v":0},null,{"$f":"N20","v":12212},{"$f":"COUNTIF(L93:L120,AI20)","v":0},{"$f":"AJ20/(AL4-AJ25)","v":0},{"$f":"IF(AK20=0,0,(AK20*((LOG(AK20))/LOG(2))))","v":0},null,{"$f":"N20","v":12212},{"$f":"COUNTIF(L121:L149,AN20)","v":0},{"$f":"AO20/(AQ4-AO25)","v":0},{"$f":"IF(AP20=0,0,(AP20*((LOG(AP20))/LOG(2))))","v":0},null,{"$f":"N20","v":12212},{"$f":"COUNTIF(L150:L177,AS20)","v":1},{"$f":"AT20/(AV4-AT25)","v":3.7037037037037035E-2},{"$f":"IF(AU20=0,0,(AU20*((LOG(AU20))/LOG(2))))","v":-0.1761069445245729}]
[21,1999,11,2009,11,2027,12,2041,13,2048,0,21111,null,12221,{"$f":"COUNTIF($L$7:$L$500,N21)","v":5},{"$f":"O21/$Q$4","v":2.9411764705882353E-2},{"$f":"IF(P21=0,0,(P21*((LOG(P21))/LOG(2))))","v":-0.14963126003677468},null,null,{"$f":"N21","v":12221},{"$f":"COUNTIF(L7:L35,T21)","v":0},{"$f":"U21/(W4-U25)","v":0},{"$f":"IF(V21=0,0,(V21*((LOG(V21))/LOG(2))))","v":0},null,{"$f":"N21","v":12221},{"$f":"COUNTIF(L36:L63,Y21)","v":0},{"$f":"Z21/(AB4-Z25)","v":0},{"$f":"IF(AA21=0,0,(AA21*((LOG(AA21))/LOG(2))))","v":0},null,{"$f":"N21","v":12221},{"$f":"COUNTIF(L64:L92,AD21)","v":0},{"$f":"AE21/(AG4-AE25)","v":0},{"$f":"IF(AF21=0,0,(AF21*((LOG(AF21))/LOG(2))))","v":0},null,{"$f":"N21","v":12221},{"$f":"COUNTIF(L93:L120,AI21)","v":0},{"$f":"AJ21/(AL4-AJ25)","v":0},{"$f":"IF(AK21=0,0,(AK21*((LOG(AK21))/LOG(2))))","v":0},null,{"$f":"N21","v":12221},{"$f":"COUNTIF(L121:L149,AN21)","v":3},{"$f":"AO21/(AQ4-AO25)","v":0.10344827586206896},{"$f":"IF(AP21=0,0,(AP21*((LOG(AP21))/LOG(2))))","v":-0.33858812011100858},null,{"$f":"N21","v":12221},{"$f":"COUNTIF(L150:L177,AS21)","v":2},{"$f":"AT21/(AV4-AT25)","v":7.407407407407407E-2},{"$f":"IF(AU21=0,0,(AU21*((LOG(AU21))/LOG(2))))","v":-0.27813981497507173}]
[21,2158,22,2175,13,2185,14,2189,13,2193,0,22111,null,12222,{"$f":"COUNTIF($L$7:$L$500,N22)","v":2},{"$f":"O22/$Q$4","v":1.1764705882352941E-2},{"$f":"IF(P22=0,0,(P22*((LOG(P22))/LOG(2))))","v":-7.5404599248678844E-2},null,null,{"$f":"N22","v":12222},{"$f":"COUNTIF(L7:L35,T22)","v":0},{"$f":"U22/(W4-U25)","v":0},{"$f":"IF(V22=0,0,(V22*((LOG(V22))/LOG(2))))","v":0},null,{"$f":"N22","v":12222},{"$f":"COUNTIF(L36:L63,Y22)","v":1},{"$f":"Z22/(AB4-Z25)","v":3.5714285714285712E-2},{"$f":"IF(AA22=0,0,(AA22*((LOG(AA22))/LOG(2))))","v":-0.17169124721634299},null,{"$f":"N22","v":12222},{"$f":"COUNTIF(L64:L92,AD22)","v":0},{"$f":"AE22/(AG4-AE25)","v":0},{"$f":"IF(AF22=0,0,(AF22*((LOG(AF22))/LOG(2))))","v":0},null,{"$f":"N22","v":12222},{"$f":"COUNTIF(L93:L120,AI22)","v":1},{"$f":"AJ22/(AL4-AJ25)","v":3.5714285714285712E-2},{"$f":"IF(AK22=0,0,(AK22*((LOG(AK22))/LOG(2))))","v":-0.17169124721634299},null,{"$f":"N22","v":12222},{"$f":"COUNTIF(L121:L149,AN22)","v":0},{"$f":"AO22/(AQ4-AO25)","v":0},{"$f":"IF(AP22=0,0,(AP22*((LOG(AP22))/LOG(2))))","v":0},null,{"$f":"N22","v":12222},{"$f":"COUNTIF(L150:L177,AS22)","v":0},{"$f":"AT22/(AV4-AT25)","v":0},{"$f":"IF(AU22=0,0,(AU22*((LOG(AU22))/LOG(2))))","v":0}]
[21,2307,11,2315,11,2323,12,2327,13,2335,0,21111,null,21111,{"$f":"COUNTIF($L$7:$L$500,N23)","v":16},{"$f":"O23/$Q$4","v":9.4117647058823528E-2},{"$f":"IF(P23=0,0,(P23*((LOG(P23))/LOG(2))))","v":-0.32088385281296017},null,null,{"$f":"N23","v":21111},{"$f":"COUNTIF(L7:L35,T23)","v":7},{"$f":"U23/(W4-U25)","v":0.2413793103448276},{"$f":"IF(V23=0,0,(V23*((LOG(V23))/LOG(2))))","v":-0.49497870729275095},null,{"$f":"N23","v":21111},{"$f":"COUNTIF(L36:L63,Y23)","v":2},{"$f":"Z23/(AB4-Z25)","v":7.1428571428571425E-2},{"$f":"IF(AA23=0,0,(AA23*((LOG(AA23))/LOG(2))))","v":-0.27195392300411453},null,{"$f":"N23","v":21111},{"$f":"COUNTIF(L64:L92,AD23)","v":2},{"$f":"AE23/(AG4-AE25)","v":6.8965517241379309E-2},{"$f":"IF(AF23=0,0,(AF23*((LOG(AF23))/LOG(2))))","v":-0.26606765483638428},null,{"$f":"N23","v":21111},{"$f":"COUNTIF(L93:L120,AI23)","v":1},{"$f":"AJ23/(AL4-AJ25)","v":3.5714285714285712E-2},{"$f":"IF(AK23=0,0,(AK23*((LOG(AK23))/LOG(2))))","v":-0.17169124721634299},null,{"$f":"N23","v":21111},{"$f":"COUNTIF(L121:L149,AN23)","v":3},{"$f":"AO23/(AQ4-AO25)","v":0.10344827586206896},{"$f":"IF(AP23=0,0,(AP23*((LOG(AP23))/LOG(2))))","v":-0.33858812011100858},null,{"$f":"N23","v":21111},{"$f":"COUNTIF(L150:L177,AS23)","v":1},{"$f":"AT23/(AV4-AT25)","v":3.7037037037037035E-2},{"$f":"IF(AU23=0,0,(AU23*((LOG(AU23))/LOG(2))))","v":-0.1761069445245729}]
[12,2451,24,2459,24,2464,14,2472,13,2479,1,12211,null,21112,{"$f":"COUNTIF($L$7:$L$500,N24)","v":0},{"$f":"O24/$Q$4","v":0},{"$f":"IF(P24=0,0,(P24*((LOG(P24))/LOG(2))))","v":0},null,null,{"$f":"N24","v":21112},{"$f":"COUNTIF(L7:L35,T24)","v":0},{"$f":"U24/(W4-U25)","v":0},{"$f":"IF(V24=0,0,(V24*((LOG(V24))/LOG(2))))","v":0},null,{"$f":"N24","v":21112},{"$f":"COUNTIF(L36:L63,Y24)","v":0},{"$f":"Z24/(AB4-Z25)","v":0},{"$f":"IF(AA24=0,0,(AA24*((LOG(AA24))/LOG(2))))","v":0},null,{"$f":"N24","v":21112},{"$f":"COUNTIF(L64:L92,AD24)","v":0},{"$f":"AE24/(AG4-AE25)","v":0},{"$f":"IF(AF24=0,0,(AF24*((LOG(AF24))/LOG(2))))","v":0},null,{"$f":"N24","v":21112},{"$f":"COUNTIF(L93:L120,AI24)","v":0},{"$f":"AJ24/(AL4-AJ25)","v":0},{"$f":"IF(AK24=0,0,(AK24*((LOG(AK24))/LOG(2))))","v":0},null,{"$f":"N24","v":21112},{"$f":"COUNTIF(L121:L149,AN24)","v":0},{"$f":"AO24/(AQ4-AO25)","v":0},{"$f":"IF(AP24=0,0,(AP24*((LOG(AP24))/LOG(2))))","v":0},null,{"$f":"N24","v":21112},{"$f":"COUNTIF(L150:L177,AS24)","v":0},{"$f":"AT24/(AV4-AT25)","v":0},{"$f":"IF(AU24=0,0,(AU24*((LOG(AU24))/LOG(2))))","v":0}]
[21,2581,22,2585,24,2607,14,2615,13,2622,1,22211,null,21121,{"$f":"COUNTIF($L$7:$L$500,N25)","v":0},{"$f":"O25/$Q$4","v":0},{"$f":"IF(P25=0,0,(P25*((LOG(P25))/LOG(2))))","v":0},null,null,{"$f":"N25","v":21121},{"$f":"COUNTIF(L7:L35,T25)","v":0},null,null,null,{"$f":"N25","v":21121},{"$f":"COUNTIF(L36:L63,Y25)","v":0},null,null,null,{"$f":"N25","v":21121},{"$f":"COUNTIF(L64:L92,AD25)","v":0},null,null,null,{"$f":"N25","v":21121},{"$f":"COUNTIF(L93:L120,AI25)","v":0},null,null,null,{"$f":"N25","v":21121},{"$f":"COUNTIF(L121:L149,AN25)","v":0},null,null,null,{"$f":"N25","v":21121},{"$f":"COUNTIF(L150:L177,AS25)","v":0}]
[12,2736,13,2742,24,2751,14,2760,13,2764,0,11211,null,21122,{"$f":"COUNTIF($L$7:$L$500,N26)","v":0},{"$f":"O26/$Q$4","v":0},{"$f":"IF(P26=0,0,(P26*((LOG(P26))/LOG(2))))","v":0},null,null,{"$f":"N26","v":21122},{"$f":"COUNTIF(L7:L35,T26)","v":0},{"$f":"U26/(W4-U25)","v":0},{"$f":"IF(V26=0,0,(V26*((LOG(V26))/LOG(2))))","v":0},null,{"$f":"N26","v":21122},{"$f":"COUNTIF(L36:L63,Y26)","v":0},{"$f":"Z26/(AB4-Z25)","v":0},{"$f":"IF(AA26=0,0,(AA26*((LOG(AA26))/LOG(2))))","v":0},null,{"$f":"N26","v":21122},{"$f":"COUNTIF(L64:L92,AD26)","v":0},{"$f":"AE26/(AG4-AE25)","v":0},{"$f":"IF(AF26=0,0,(AF26*((LOG(AF26))/LOG(2))))","v":0},null,{"$f":"N26","v":21122},{"$f":"COUNTIF(L93:L120,AI26)","v":0},{"$f":"AJ26/(AL4-AJ25)","v":0},{"$f":"IF(AK26=0,0,(AK26*((LOG(AK26))/LOG(2))))","v":0},null,{"$f":"N26","v":21122},{"$f":"COUNTIF(L121:L149,AN26)","v":0},{"$f":"AO26/(AQ4-AO25)","v":0},{"$f":"IF(AP26=0,0,(AP26*((LOG(AP26))/LOG(2))))","v":0},null,{"$f":"N26","v":21122},{"$f":"COUNTIF(L150:L177,AS26)","v":0},{"$f":"AT26/(AV4-AT25)","v":0},{"$f":"IF(AU26=0,0,(AU26*((LOG(AU26))/LOG(2))))","v":0}]
[21,2882,11,2888,11,2894,12,2898,13,2901,0,21111,null,21211,{"$f":"COUNTIF($L$7:$L$500,N27)","v":7},{"$f":"O27/$Q$4","v":4.1176470588235294E-2},{"$f":"IF(P27=0,0,(P27*((LOG(P27))/LOG(2))))","v":-0.18949560057976875},null,null,{"$f":"N27","v":21211},{"$f":"COUNTIF(L7:L35,T27)","v":0},{"$f":"U27/(W4-U25)","v":0},{"$f":"IF(V27=0,0,(V27*((LOG(V27))/LOG(2))))","v":0},null,{"$f":"N27","v":21211},{"$f":"COUNTIF(L36:L63,Y27)","v":2},{"$f":"Z27/(AB4-Z25)","v":7.1428571428571425E-2},{"$f":"IF(AA27=0,0,(AA27*((LOG(AA27))/LOG(2))))","v":-0.27195392300411453},null,{"$f":"N27","v":21211},{"$f":"COUNTIF(L64:L92,AD27)","v":3},{"$f":"AE27/(AG4-AE25)","v":0.10344827586206896},{"$f":"IF(AF27=0,0,(AF27*((LOG(AF27))/LOG(2))))","v":-0.33858812011100858},null,{"$f":"N27","v":21211},{"$f":"COUNTIF(L93:L120,AI27)","v":0},{"$f":"AJ27/(AL4-AJ25)","v":0},{"$f":"IF(AK27=0,0,(AK27*((LOG(AK27))/LOG(2))))","v":0},null,{"$f":"N27","v":21211},{"$f":"COUNTIF(L121:L149,AN27)","v":1},{"$f":"AO27/(AQ4-AO25)","v":3.4482758620689655E-2},{"$f":"IF(AP27=0,0,(AP27*((LOG(AP27))/LOG(2))))","v":-0.16751658603888178},null,{"$f":"N27","v":21211},{"$f":"COUNTIF(L150:L177,AS27)","v":1},{"$f":"AT27/(AV4-AT25)","v":3.7037037037037035E-2},{"$f":"IF(AU27=0,0,(AU27*((LOG(AU27))/LOG(2))))","v":-0.1761069445245729}]
[21,3008,11,3021,22,3029,23,3039,24,3054,0,21222,null,21212,{"$f":"COUNTIF($L$7:$L$500,N28)","v":0},{"$f":"O28/$Q$4","v":0},{"$f":"IF(P28=0,0,(P28*((LOG(P28))/LOG(2))))","v":0},null,null,{"$f":"N28","v":21212},{"$f":"COUNTIF(L7:L35,T28)","v":0},{"$f":"U28/(W4-U25)","v":0},{"$f":"IF(V28=0,0,(V28*((LOG(V28))/LOG(2))))","v":0},null,{"$f":"N28","v":21212},{"$f":"COUNTIF(L36:L63,Y28)","v":0},{"$f":"Z28/(AB4-Z25)","v":0},{"$f":"IF(AA28=0,0,(AA28*((LOG(AA28))/LOG(2))))","v":0},null,{"$f":"N28","v":21212},{"$f":"COUNTIF(L64:L92,AD28)","v":0},{"$f":"AE28/(AG4-AE25)","v":0},{"$f":"IF(AF28=0,0,(AF28*((LOG(AF28))/LOG(2))))","v":0},null,{"$f":"N28","v":21212},{"$f":"COUNTIF(L93:L120,AI28)","v":0},{"$f":"AJ28/(AL4-AJ25)","v":0},{"$f":"IF(AK28=0,0,(AK28*((LOG(AK28))/LOG(2))))","v":0},null,{"$f":"N28","v":21212},{"$f":"COUNTIF(L121:L149,AN28)","v":0},{"$f":"AO28/(AQ4-AO25)","v":0},{"$f":"IF(AP28=0,0,(AP28*((LOG(AP28))/LOG(2))))","v":0},null,{"$f":"N28","v":21212},{"$f":"COUNTIF(L150:L177,AS28)","v":0},{"$f":"AT28/(AV4-AT25)","v":0},{"$f":"IF(AU28=0,0,(AU28*((LOG(AU28))/LOG(2))))","v":0}]
[21,3166,22,3173,24,3186,14,3196,13,3200,1,22211,null,21221,{"$f":"COUNTIF($L$7:$L$500,N29)","v":4},{"$f":"O29/$Q$4","v":2.3529411764705882E-2},{"$f":"IF(P29=0,0,(P29*((LOG(P29))/LOG(2))))","v":-0.12727978673265181},null,null,{"$f":"N29","v":21221},{"$f":"COUNTIF(L7:L35,T29)","v":0},{"$f":"U29/(W4-U25)","v":0},{"$f":"IF(V29=0,0,(V29*((LOG(V29))/LOG(2))))","v":0},null,{"$f":"N29","v":21221},{"$f":"COUNTIF(L36:L63,Y29)","v":1},{"$f":"Z29/(AB4-Z25)","v":3.5714285714285712E-2},{"$f":"IF(AA29=0,0,(AA29*((LOG(AA29))/LOG(2))))","v":-0.17169124721634299},null,{"$f":"N29","v":21221},{"$f":"COUNTIF(L64:L92,AD29)","v":0},{"$f":"AE29/(AG4-AE25)","v":0},{"$f":"IF(AF29=0,0,(AF29*((LOG(AF29))/LOG(2))))","v":0},null,{"$f":"N29","v":21221},{"$f":"COUNTIF(L93:L120,AI29)","v":2},{"$f":"AJ29/(AL4-AJ25)","v":7.1428571428571425E-2},{"$f":"IF(AK29=0,0,(AK29*((LOG(AK29))/LOG(2))))","v":-0.27195392300411453},null,{"$f":"N29","v":21221},{"$f":"COUNTIF(L121:L149,AN29)","v":0},{"$f":"AO29/(AQ4-AO25)","v":0},{"$f":"IF(AP29=0,0,(AP29*((LOG(AP29))/LOG(2))))","v":0},null,{"$f":"N29","v":21221},{"$f":"COUNTIF(L150:L177,AS29)","v":1},{"$f":"AT29/(AV4-AT25)","v":3.7037037037037035E-2},{"$f":"IF(AU29=0,0,(AU29*((LOG(AU29))/LOG(2))))","v":-0.1761069445245729}]
[12,3300,24,3308,24,3313,14,3320,13,3325,0,12211,null,21222,{"$f":"COUNTIF($L$7:$L$500,N30)","v":2},{"$f":"O30/$Q$4","v":1.1764705882352941E-2},{"$f":"IF(P30=0,0,(P30*((LOG(P30))/LOG(2))))","v":-7.5404599248678844E-2},null,null,{"$f":"N30","v":21222},{"$f":"COUNTIF(L7:L35,T30)","v":1},{"$f":"U30/(W4-U25)","v":3.4482758620689655E-2},{"$f":"IF(V30=0,0,(V30*((LOG(V30))/LOG(2))))","v":-0.16751658603888178},null,{"$f":"N30","v":21222},{"$f":"COUNTIF(L36:L63,Y30)","v":0},{"$f":"Z30/(AB4-Z25)","v":0},{"$f":"IF(AA30=0,0,(AA30*((LOG(AA30))/LOG(2))))","v":0},null,{"$f":"N30","v":21222},{"$f":"COUNTIF(L64:L92,AD30)","v":0},{"$f":"AE30/(AG4-AE25)","v":0},{"$f":"IF(AF30=0,0,(AF30*((LOG(AF30))/LOG(2))))","v":0},null,{"$f":"N30","v":21222},{"$f":"COUNTIF(L93:L120,AI30)","v":0},{"$f":"AJ30/(AL4-AJ25)","v":0},{"$f":"IF(AK30=0,0,(AK30*((LOG(AK30))/LOG(2))))","v":0},null,{"$f":"N30","v":21222},{"$f":"COUNTIF(L121:L149,AN30)","v":1},{"$f":"AO30/(AQ4-AO25)","v":3.4482758620689655E-2},{"$f":"IF(AP30=0,0,(AP30*((LOG(AP30))/LOG(2))))","v":-0.16751658603888178},null,{"$f":"N30","v":21222},{"$f":"COUNTIF(L150:L177,AS30)","v":0},{"$f":"AT30/(AV4-AT25)","v":0},{"$f":"IF(AU30=0,0,(AU30*((LOG(AU30))/LOG(2))))","v":0}]
[21,3435,22,3441,13,3452,23,3459,24,3465,0,22122,null,22111,{"$f":"COUNTIF($L$7:$L$500,N31)","v":14},{"$f":"O31/$Q$4","v":8.2352941176470587E-2},{"$f":"IF(P31=0,0,(P31*((LOG(P31))/LOG(2))))","v":-0.29663825998306687},null,null,{"$f":"N31","v":22111},{"$f":"COUNTIF(L7:L35,T31)","v":3},{"$f":"U31/(W4-U25)","v":0.10344827586206896},{"$f":"IF(V31=0,0,(V31*((LOG(V31))/LOG(2))))","v":-0.33858812011100858},null,{"$f":"N31","v":22111},{"$f":"COUNTIF(L36:L63,Y31)","v":3},{"$f":"Z31/(AB4-Z25)","v":0.10714285714285714},{"$f":"IF(AA31=0,0,(AA31*((LOG(AA31))/LOG(2))))","v":-0.34525633085747659},null,{"$f":"N31","v":22111},{"$f":"COUNTIF(L64:L92,AD31)","v":0},{"$f":"AE31/(AG4-AE25)","v":0},{"$f":"IF(AF31=0,0,(AF31*((LOG(AF31))/LOG(2))))","v":0},null,{"$f":"N31","v":22111},{"$f":"COUNTIF(L93:L120,AI31)","v":2},{"$f":"AJ31/(AL4-AJ25)","v":7.1428571428571425E-2},{"$f":"IF(AK31=0,0,(AK31*((LOG(AK31))/LOG(2))))","v":-0.27195392300411453},null,{"$f":"N31","v":22111},{"$f":"COUNTIF(L121:L149,AN31)","v":3},{"$f":"AO31/(AQ4-AO25)","v":0.10344827586206896},{"$f":"IF(AP31=0,0,(AP31*((LOG(AP31))/LOG(2))))","v":-0.33858812011100858},null,{"$f":"N31","v":22111},{"$f":"COUNTIF(L150:L177,AS31)","v":3},{"$f":"AT31/(AV4-AT25)","v":0.1111111111111111},{"$f":"IF(AU31=0,0,(AU31*((LOG(AU31))/LOG(2))))","v":-0.3522138890491458}]
[12,3566,13,3588,13,3596,14,3603,13,3609,0,11111,null,22112,{"$f":"COUNTIF($L$7:$L$500,N32)","v":0},{"$f":"O32/$Q$4","v":0},{"$f":"IF(P32=0,0,(P32*((LOG(P32))/LOG(2))))","v":0},null,null,{"$f":"N32","v":22112},{"$f":"COUNTIF(L7:L35,T32)","v":0},{"$f":"U32/(W4-U25)","v":0},{"$f":"IF(V32=0,0,(V32*((LOG(V32))/LOG(2))))","v":0},null,{"$f":"N32","v":22112},{"$f":"COUNTIF(L36:L63,Y32)","v":0},{"$f":"Z32/(AB4-Z25)","v":0},{"$f":"IF(AA32=0,0,(AA32*((LOG(AA32))/LOG(2))))","v":0},null,{"$f":"N32","v":22112},{"$f":"COUNTIF(L64:L92,AD32)","v":0},{"$f":"AE32/(AG4-AE25)","v":0},{"$f":"IF(AF32=0,0,(AF32*((LOG(AF32))/LOG(2))))","v":0},null,{"$f":"N32","v":22112},{"$f":"COUNTIF(L93:L120,AI32)","v":0},{"$f":"AJ32/(AL4-AJ25)","v":0},{"$f":"IF(AK32=0,0,(AK32*((LOG(AK32))/LOG(2))))","v":0},null,{"$f":"N32","v":22112},{"$f":"COUNTIF(L121:L149,AN32)","v":0},{"$f":"AO32/(AQ4-AO25)","v":0},{"$f":"IF(AP32=0,0,(AP32*((LOG(AP32))/LOG(2))))","v":0},null,{"$f":"N32","v":22112},{"$f":"COUNTIF(L150:L177,AS32)","v":0},{"$f":"AT32/(AV4-AT25)","v":0},{"$f":"IF(AU32=0,0,(AU32*((LOG(AU32))/LOG(2))))","v":0}]
[12,3711,13,3723,13,3727,14,3734,13,3743,0,11111,null,22121,{"$f":"COUNTIF($L$7:$L$500,N33)","v":2},{"$f":"O33/$Q$4","v":1.1764705882352941E-2},{"$f":"IF(P33=0,0,(P33*((LOG(P33))/LOG(2))))","v":-7.5404599248678844E-2},null,null,{"$f":"N33","v":22121},{"$f":"COUNTIF(L7:L35,T33)","v":0},{"$f":"U33/(W4-U25)","v":0},{"$f":"IF(V33=0,0,(V33*((LOG(V33))/LOG(2))))","v":0},null,{"$f":"N33","v":22121},{"$f":"COUNTIF(L36:L63,Y33)","v":1},{"$f":"Z33/(AB4-Z25)","v":3.5714285714285712E-2},{"$f":"IF(AA33=0,0,(AA33*((LOG(AA33))/LOG(2))))","v":-0.17169124721634299},null,{"$f":"N33","v":22121},{"$f":"COUNTIF(L64:L92,AD33)","v":0},{"$f":"AE33/(AG4-AE25)","v":0},{"$f":"IF(AF33=0,0,(AF33*((LOG(AF33))/LOG(2))))","v":0},null,{"$f":"N33","v":22121},{"$f":"COUNTIF(L93:L120,AI33)","v":1},{"$f":"AJ33/(AL4-AJ25)","v":3.5714285714285712E-2},{"$f":"IF(AK33=0,0,(AK33*((LOG(AK33))/LOG(2))))","v":-0.17169124721634299},null,{"$f":"N33","v":22121},{"$f":"COUNTIF(L121:L149,AN33)","v":0},{"$f":"AO33/(AQ4-AO25)","v":0},{"$f":"IF(AP33=0,0,(AP33*((LOG(AP33))/LOG(2))))","v":0},null,{"$f":"N33","v":22121},{"$f":"COUNTIF(L150:L177,AS33)","v":0},{"$f":"AT33/(AV4-AT25)","v":0},{"$f":"IF(AU33=0,0,(AU33*((LOG(AU33))/LOG(2))))","v":0}]
[12,3854,13,3875,13,3881,23,3889,13,3899,0,11121,null,22122,{"$f":"COUNTIF($L$7:$L$500,N34)","v":2},{"$f":"O34/$Q$4","v":1.1764705882352941E-2},{"$f":"IF(P34=0,0,(P34*((LOG(P34))/LOG(2))))","v":-7.5404599248678844E-2},null,null,{"$f":"N34","v":22122},{"$f":"COUNTIF(L7:L35,T34)","v":1},{"$f":"U34/(W4-U25)","v":3.4482758620689655E-2},{"$f":"IF(V34=0,0,(V34*((LOG(V34))/LOG(2))))","v":-0.16751658603888178},null,{"$f":"N34","v":22122},{"$f":"COUNTIF(L36:L63,Y34)","v":1},{"$f":"Z34/(AB4-Z25)","v":3.5714285714285712E-2},{"$f":"IF(AA34=0,0,(AA34*((LOG(AA34))/LOG(2))))","v":-0.17169124721634299},null,{"$f":"N34","v":22122},{"$f":"COUNTIF(L64:L92,AD34)","v":0},{"$f":"AE34/(AG4-AE25)","v":0},{"$f":"IF(AF34=0,0,(AF34*((LOG(AF34))/LOG(2))))","v":0},null,{"$f":"N34","v":22122},{"$f":"COUNTIF(L93:L120,AI34)","v":0},{"$f":"AJ34/(AL4-AJ25)","v":0},{"$f":"IF(AK34=0,0,(AK34*((LOG(AK34))/LOG(2))))","v":0},null,{"$f":"N34","v":22122},{"$f":"COUNTIF(L121:L149,AN34)","v":0},{"$f":"AO34/(AQ4-AO25)","v":0},{"$f":"IF(AP34=0,0,(AP34*((LOG(AP34))/LOG(2))))","v":0},null,{"$f":"N34","v":22122},{"$f":"COUNTIF(L150:L177,AS34)","v":0},{"$f":"AT34/(AV4-AT25)","v":0},{"$f":"IF(AU34=0,0,(AU34*((LOG(AU34))/LOG(2))))","v":0}]
[12,4004,24,4013,13,4030,14,4040,13,4045,0,12111,null,22211,{"$f":"COUNTIF($L$7:$L$500,N35)","v":10},{"$f":"O35/$Q$4","v":5.8823529411764705E-2},{"$f":"IF(P35=0,0,(P35*((LOG(P35))/LOG(2))))","v":-0.24043899066178465},null,null,{"$f":"N35","v":22211},{"$f":"COUNTIF(L7:L35,T35)","v":4},{"$f":"U35/(W4-U25)","v":0.13793103448275862},{"$f":"IF(V35=0,0,(V35*((LOG(V35))/LOG(2))))","v":-0.39420427519000989},null,{"$f":"N35","v":22211},{"$f":"COUNTIF(L36:L63,Y35)","v":1},{"$f":"Z35/(AB4-Z25)","v":3.5714285714285712E-2},{"$f":"IF(AA35=0,0,(AA35*((LOG(AA35))/LOG(2))))","v":-0.17169124721634299},null,{"$f":"N35","v":22211},{"$f":"COUNTIF(L64:L92,AD35)","v":3},{"$f":"AE35/(AG4-AE25)","v":0.10344827586206896},{"$f":"IF(AF35=0,0,(AF35*((LOG(AF35))/LOG(2))))","v":-0.33858812011100858},null,{"$f":"N35","v":22211},{"$f":"COUNTIF(L93:L120,AI35)","v":1},{"$f":"AJ35/(AL4-AJ25)","v":3.5714285714285712E-2},{"$f":"IF(AK35=0,0,(AK35*((LOG(AK35))/LOG(2))))","v":-0.17169124721634299},null,{"$f":"N35","v":22211},{"$f":"COUNTIF(L121:L149,AN35)","v":1},{"$f":"AO35/(AQ4-AO25)","v":3.4482758620689655E-2},{"$f":"IF(AP35=0,0,(AP35*((LOG(AP35))/LOG(2))))","v":-0.16751658603888178},null,{"$f":"N35","v":22211},{"$f":"COUNTIF(L150:L177,AS35)","v":0},{"$f":"AT35/(AV4-AT25)","v":0},{"$f":"IF(AU35=0,0,(AU35*((LOG(AU35))/LOG(2))))","v":0}]
[12,4148,24,4161,13,4168,14,4172,13,4179,1,12111,null,22212,{"$f":"COUNTIF($L$7:$L$500,N36)","v":1},{"$f":"O36/$Q$4","v":5.8823529411764705E-3},{"$f":"IF(P36=0,0,(P36*((LOG(P36))/LOG(2))))","v":-4.35846525655159E-2},null,null,{"$f":"N36","v":22212},{"$f":"COUNTIF(L7:L35,T36)","v":0},{"$f":"U36/(W4-U25)","v":0},{"$f":"IF(V36=0,0,(V36*((LOG(V36))/LOG(2))))","v":0},null,{"$f":"N36","v":22212},{"$f":"COUNTIF(L36:L63,Y36)","v":0},{"$f":"Z36/(AB4-Z25)","v":0},{"$f":"IF(AA36=0,0,(AA36*((LOG(AA36))/LOG(2))))","v":0},null,{"$f":"N36","v":22212},{"$f":"COUNTIF(L64:L92,AD36)","v":1},{"$f":"AE36/(AG4-AE25)","v":3.4482758620689655E-2},{"$f":"IF(AF36=0,0,(AF36*((LOG(AF36))/LOG(2))))","v":-0.16751658603888178},null,{"$f":"N36","v":22212},{"$f":"COUNTIF(L93:L120,AI36)","v":0},{"$f":"AJ36/(AL4-AJ25)","v":0},{"$f":"IF(AK36=0,0,(AK36*((LOG(AK36))/LOG(2))))","v":0},null,{"$f":"N36","v":22212},{"$f":"COUNTIF(L121:L149,AN36)","v":0},{"$f":"AO36/(AQ4-AO25)","v":0},{"$f":"IF(AP36=0,0,(AP36*((LOG(AP36))/LOG(2))))","v":0},null,{"$f":"N36","v":22212},{"$f":"COUNTIF(L150:L177,AS36)","v":0},{"$f":"AT36/(AV4-AT25)","v":0},{"$f":"IF(AU36=0,0,(AU36*((LOG(AU36))/LOG(2))))","v":0}]
[12,4280,24,4288,24,4295,14,4312,13,4321,0,12211,null,22221,{"$f":"COUNTIF($L$7:$L$500,N37)","v":1},{"$f":"O37/$Q$4","v":5.8823529411764705E-3},{"$f":"IF(P37=0,0,(P37*((LOG(P37))/LOG(2))))","v":-4.35846525655159E-2},null,null,{"$f":"N37","v":22221},{"$f":"COUNTIF(L7:L35,T37)","v":1},{"$f":"U37/(W4-U25)","v":3.4482758620689655E-2},{"$f":"IF(V37=0,0,(V37*((LOG(V37))/LOG(2))))","v":-0.16751658603888178},null,{"$f":"N37","v":22221},{"$f":"COUNTIF(L36:L63,Y37)","v":0},{"$f":"Z37/(AB4-Z25)","v":0},{"$f":"IF(AA37=0,0,(AA37*((LOG(AA37))/LOG(2))))","v":0},null,{"$f":"N37","v":22221},{"$f":"COUNTIF(L64:L92,AD37)","v":0},{"$f":"AE37/(AG4-AE25)","v":0},{"$f":"IF(AF37=0,0,(AF37*((LOG(AF37))/LOG(2))))","v":0},null,{"$f":"N37","v":22221},{"$f":"COUNTIF(L93:L120,AI37)","v":0},{"$f":"AJ37/(AL4-AJ25)","v":0},{"$f":"IF(AK37=0,0,(AK37*((LOG(AK37))/LOG(2))))","v":0},null,{"$f":"N37","v":22221},{"$f":"COUNTIF(L121:L149,AN37)","v":0},{"$f":"AO37/(AQ4-AO25)","v":0},{"$f":"IF(AP37=0,0,(AP37*((LOG(AP37))/LOG(2))))","v":0},null,{"$f":"N37","v":22221},{"$f":"COUNTIF(L150:L177,AS37)","v":0},{"$f":"AT37/(AV4-AT25)","v":0},{"$f":"IF(AU37=0,0,(AU37*((LOG(AU37))/LOG(2))))","v":0}]
[21,4426,11,4434,22,4442,14,4450,13,4454,0,21211,null,22222,{"$f":"COUNTIF($L$7:$L$500,N38)","v":4},{"$f":"O38/$Q$4","v":2.3529411764705882E-2},{"$f":"IF(P38=0,0,(P38*((LOG(P38))/LOG(2))))","v":-0.12727978673265181},null,null,{"$f":"N38","v":22222},{"$f":"COUNTIF(L7:L35,T38)","v":2},{"$f":"U38/(W4-U25)","v":6.8965517241379309E-2},{"$f":"IF(V38=0,0,(V38*((LOG(V38))/LOG(2))))","v":-0.26606765483638428},null,{"$f":"N38","v":22222},{"$f":"COUNTIF(L36:L63,Y38)","v":0},{"$f":"Z38/(AB4-Z25)","v":0},{"$f":"IF(AA38=0,0,(AA38*((LOG(AA38))/LOG(2))))","v":0},null,{"$f":"N38","v":22222},{"$f":"COUNTIF(L64:L92,AD38)","v":2},{"$f":"AE38/(AG4-AE25)","v":6.8965517241379309E-2},{"$f":"IF(AF38=0,0,(AF38*((LOG(AF38))/LOG(2))))","v":-0.26606765483638428},null,{"$f":"N38","v":22222},{"$f":"COUNTIF(L93:L120,AI38)","v":0},{"$f":"AJ38/(AL4-AJ25)","v":0},{"$f":"IF(AK38=0,0,(AK38*((LOG(AK38))/LOG(2))))","v":0},null,{"$f":"N38","v":22222},{"$f":"COUNTIF(L121:L149,AN38)","v":0},{"$f":"AO38/(AQ4-AO25)","v":0},{"$f":"IF(AP38=0,0,(AP38*((LOG(AP38))/LOG(2))))","v":0},null,{"$f":"N38","v":22222},{"$f":"COUNTIF(L150:L177,AS38)","v":0},{"$f":"AT38/(AV4-AT25)","v":0},{"$f":"IF(AU38=0,0,(AU38*((LOG(AU38))/LOG(2))))","v":0}]
[12,4582,13,4588,13,4593,14,4603,13,4616,0,11111,null,null,null,{"$f":"SUM(P7:P38)","v":0.99999999999999978},{"$f":"-SUM(Q7:Q38)","v":3.6221832903975169},null,null,null,null,{"$f":"SUM(V7:V38)","v":1},{"$f":"-SUM(W7:W38)","v":3.369661703447222},null,null,null,{"$f":"SUM(AA7:AA38)","v":0.99999999999999978},{"$f":"-SUM(AB7:AB38)","v":3.7089660826946225},null,null,null,{"$f":"SUM(AF7:AF38)","v":1},{"$f":"-SUM(AG7:AG38)","v":2.9862335834898515},null,null,null,{"$f":"SUM(AK7:AK38)","v":0.99999999999999989},{"$f":"-SUM(AL7:AL38)","v":2.6580402982224594},null,null,null,{"$f":"SUM(AP7:AP38)","v":0.99999999999999989},{"$f":"-SUM(AQ7:AQ38)","v":2.8180321849182106},null,null,null,{"$f":"SUM(AU7:AU38)","v":1},{"$f":"-SUM(AV7:AV38)","v":2.7558442261991321}]
[12,4721,13,4731,13,4735,14,4739,24,4749,0,11112,null,null,null,"U=",{"$f":"Q39/(LOG(Q4)/LOG(2))","v":0.48886383801549743},null,null,null,null,"U1=",{"$f":"W39/(LOG(W4)/LOG(2))","v":0.6936341881178425},null,null,null,"U2=",{"$f":"AB39/(LOG(AB4)/LOG(2))","v":0.77151908748754128},null,null,null,"U3=",{"$f":"AG39/(LOG(AG4)/LOG(2))","v":0.61470672414835825},null,null,null,"U4=",{"$f":"AL39/(LOG(AL4)/LOG(2))","v":0.55291118324269417},null,null,null,"U5=",{"$f":"AQ39/(LOG(AQ4)/LOG(2))","v":0.58008299903697103},null,null,null,"U6=",{"$f":"AV39/(LOG(AV4)/LOG(2))","v":0.57958137283904743}]
[21,4852,22,4856,13,4865,23,4873,13,4881,1,22121]
[21,4990,22,4998,13,5011,14,5015,13,5019,0,22111]
[21,5122,22,5131,13,5138,14,5142,13,5148,0,22111,null,"Total Target Seq"]
[21,5253,22,5262,24,5270,14,5280,13,5284,0,22211,null,{"$f":"COUNTIF(L7:L177,G3)","v":0},null,29,28,29,28,29,28]
[21,5387,11,5394,11,5403,12,5411,13,5418,0,21111,null,null,null,"% of reinforcement given in 6 equal intervals based on number of trials "]
[12,5519,13,5528,13,5536,14,5547,13,5553,0,11111,null,null,null,"%_1","%_2","%_3","%_4","%_5","%_6"]
[12,5655,13,5659,13,5663,23,5672,24,5676,1,11122,null,null,"target sequence",{"$f":"$G$3","v":21121},{"$f":"$G$3","v":21121},{"$f":"$G$3","v":21121},{"$f":"$G$3","v":21121},{"$f":"$G$3","v":21121},{"$f":"$G$3","v":21121}]
[12,5780,24,5788,13,5805,14,5810,13,5821,0,12111,null,null,"total reinforcement",{"$f":"U25","v":0},{"$f":"Z25","v":0},{"$f":"AE25","v":0},{"$f":"AJ25","v":0},{"$f":"AO25","v":0},{"$f":"AT25","v":0}]
[12,5926,24,5934,13,5948,14,5953,24,5964,0,12112,null,null,"% target"]
[21,6096,11,6113,11,6118,12,6127,13,6135,0,21111,null,null,"CCRF"]
[12,6244,24,6254,24,6268,14,6275,13,6280,0,12211,null,null,"% CCRf"]
[12,6408,13,6412,13,6417,14,6427,13,6433,0,11111,null,null,"average response rate",{"$f":"J35/P44","v":139.48275862068965},{"$f":"(J63-J35)/Q44","v":141.67857142857142},{"$f":"(J92-J63)/R44","v":141.17241379310346},{"$f":"(J120-J92)/S44","v":138.07142857142858},{"$f":"(J149-J120)/T44","v":137.72413793103448},{"$f":"(J177-J149)/U44","v":-713.07142857142856}]
[21,6536,11,6545,22,6556,23,6563,13,6571,0,21221]
[12,6673,24,6681,13,6689,14,6693,13,6710,0,12111]
[21,6818,11,6827,22,6834,14,6844,13,6858,0,21211]
[12,6967,24,6976,13,6993,14,6998,24,7006,0,12112]
[12,7113,24,7125,13,7140,14,7152,13,7158,1,12111]
[21,7256,22,7266,13,7275,23,7283,24,7313,0,22122]
[12,7415,24,7424,24,7431,23,7447,24,7457,0,12222]
[12,7555,13,7560,13,7582,14,7586,13,7593,1,11111]
[12,7695,13,7703,24,7715,23,7723,13,7746,0,11221]
[21,7847,22,7854,13,7863,14,7874,13,7879,0,22111]
[12,7981,13,7985,24,7994,23,7998,13,8012,0,11221]
[12,8113,24,8121,24,8126,14,8139,13,8143,0,12211]
[21,8298,22,8307,24,8315,23,8349,24,8360,1,22222]
[21,8464,11,8485,22,8493,14,8505,13,8512,0,21211]
[21,8614,22,8618,24,8623,14,8631,24,8639,0,22212]
[12,8739,24,8747,13,8759,14,8765,13,8772,1,12111]
[21,8870,11,8877,22,8885,14,8899,13,8903,0,21211]
[12,9003,13,9008,24,9015,14,9031,13,9041,0,11211]
[12,9144,24,9151,13,9161,14,9165,13,9168,0,12111]
[12,9269,24,9292,13,9301,14,9307,13,9313,0,12111]
[12,9424,13,9430,13,9435,14,9438,13,9446,1,11111]
[21,9547,11,9560,22,9567,14,9578,13,9582,0,21211]
[21,9687,22,9699,24,9706,14,9713,13,9718,0,22211]
[21,9817,22,9822,24,9828,14,9843,13,9850,0,22211]
[21,9951,11,9964,11,9971,12,9975,13,9982,0,21111]
[12,10086,24,10095,24,10106,14,10115,13,10119,0,12211]
[12,10231,13,10235,13,10239,14,10245,13,10252,1,11111]
[21,10346,22,10355,24,10363,23,10371,24,10376,0,22222]
[12,10481,24,10492,24,10499,14,10509,13,10513,1,12211]
[12,10611,24,10619,24,10627,14,10637,13,10642,1,12211]
[21,10739,11,10759,11,10767,12,10780,13,10787,0,21111]
[12,10903,13,10915,13,10922,14,10925,13,10933,0,11111]
[12,11038,24,11068,13,11079,14,11086,13,11099,0,12111]
[12,11206,24,11214,13,11232,14,11236,13,11249,1,12111]
[21,11352,22,11369,24,11373,14,11384,13,11388,0,22211]
[12,11491,24,11510,24,11531,14,11539,13,11546,0,12211]
[12,11646,13,11650,24,11658,14,11677,13,11687,0,11211]
[12,11789,13,11796,24,11807,14,11821,13,11826,0,11211]
[12,11927,24,11935,13,11950,14,11953,13,11961,0,12111]
[12,12063,24,12082,13,12090,14,12094,13,12106,0,12111]
[12,12210,24,12218,24,12222,14,12235,13,12239,1,12211]
[21,12336,22,12348,13,12357,23,12376,13,12389,0,22121]
[12,12494,24,12502,13,12519,14,12523,13,12528,0,12111]
[12,12640,24,12654,13,12670,14,12677,13,12692,0,12111]
[12,12802,24,12810,24,12816,23,12824,24,12838,1,12222]
[21,12941,11,12953,22,12961,23,12966,13,12980,0,21221]
[12,13084,24,13092,24,13099,14,13111,13,13116,0,12211]
[12,13226,13,13230,13,13234,14,13238,13,13252,0,11111]
[12,13356,24,13363,13,13377,14,13381,13,13392,0,12111]
[12,13495,24,13503,24,13510,14,13524,13,13528,0,12211]
[12,13633,24,13641,24,13647,14,13658,13,13668,0,12211]
[12,13770,24,13778,13,13796,14,13802,13,13809,0,12111]
[21,13910,11,13919,22,13927,23,13941,13,13951,1,21221]
[12,14064,24,14072,24,14077,14,14088,13,14095,0,12211]
[12,14198,24,14205,24,14211,14,14218,13,14222,0,12211]
[12,14325,24,14332,24,14340,14,14348,13,14354,1,12211]
[12,14459,24,14466,13,14480,14,14483,13,14499,0,12111]
[12,14605,24,14612,13,14625,14,14629,13,14634,0,12111]
[21,14738,22,14746,24,14753,14,14773,13,14777,0,22211]
[12,14879,24,14886,24,14893,14,14900,13,14905,0,12211]
[12,15016,13,15023,13,15027,14,15032,13,15037,0,11111]
[12,15141,13,15145,13,15149,14,15154,13,15160,0,11111]
[21,15285,22,15292,13,15299,14,15304,13,15310,1,22111]
[12,15426,13,15433,13,15438,14,15451,13,15461,0,11111]
[12,15564,24,15571,24,15579,14,15586,13,15591,0,12211]
[21,15692,22,15700,13,15707,14,15711,13,15716,0,22111]
[21,15820,11,15827,11,15831,12,15836,13,15841,0,21111]
[12,15942,24,15949,13,15962,14,15966,13,15972,0,12111]
[12,16075,24,16083,24,16090,14,16098,13,16102,0,12211]
[12,16206,13,16212,13,16216,14,16220,13,16224,0,11111]
[12,16329,24,16336,24,16341,23,16348,13,16357,1,12221]
[21,16463,11,16473,22,16480,14,16492,13,16499,0,21211]
[12,16602,24,16609,24,16614,14,16624,13,16632,0,12211]
[12,16734,24,16744,13,16755,14,16759,13,16765,0,12111]
[12,16878,13,16895,13,16902,14,16910,13,16917,0,11111]
[12,17031,24,17039,24,17044,23,17051,13,17077,0,12221]
[12,17179,24,17187,13,17198,14,17210,13,17217,0,12111]
[21,17319,11,17330,22,17339,23,17346,24,17359,0,21222]
[21,17464,11,17474,11,17479,12,17483,13,17491,1,21111]
[21,17604,11,17614,11,17618,12,17627,13,17638,0,21111]
[12,17745,24,17752,24,17768,23,17775,13,17787,0,12221]
[12,17895,13,17902,13,17905,14,17910,13,17919,0,11111]
[12,18025,24,18033,24,18037,14,18047,13,18051,0,12211]
[21,18154,22,18162,13,18169,14,18173,13,18186,0,22111]
[12,18298,13,18305,13,18310,14,18317,13,18325,0,11111]
[21,18437,22,18443,13,18450,14,18455,13,18461,0,22111]
[12,18567,24,18576,24,18582,14,18590,13,18595,0,12211]
[21,18700,22,18712,13,18724,14,18728,13,18735,0,22111]
[12,18838,24,18847,24,18858,14,18865,13,18869,1,12211]
[21,18980,11,18990,11,18999,12,19003,13,19007,0,21111]
[12,19116,24,19123,13,19134,14,19138,13,19143,0,12111]
[12,19246,24,19256,24,19271,14,19281,13,19289,0,12211]
[12,19404,13,19413,13,19419,14,19430,13,19437,0,11111]
[12,19540,24,19548,24,19559,14,19566,13,19573,0,12211]
[12,19681,24,19691,24,19698,14,19705,13,19710,0,12211]
[12,19815,24,19823,24,19830,14,19837,13,19842,0,12211]
[21,19942,22,19949,24,19955,14,19962,13,19966,0,22211]
[12,20071,24,20079,24,20085,23,20089,13,20100,0,12221]
[21,20203,22,20215,13,20226,14,20230,13,20238,0,22111]
[12,20338,24,20346,24,20353,14,20364,13,20376,1,12211]
[12,20486,24,20494,13,20506,14,20525,13,20533,0,12111]
[12,20649,24,20656,24,20664,14,20672,13,20679,0,12211]
[12,20792,24,20800,24,20808,14,20819,13,20828,0,12211]
[12,20936,24,20944,24,20951,23,20960,13,20970,0,12221]
[12,21079,13,21092,13,21097,14,21109,13,21115,0,11111]
[12,21219,24,21226,24,21231,14,21241,13,21248,0,12211]
[12,21349,24,21357,13,21368,14,21375,13,21381,1,12111]
[21,21489,11,21500,22,21507,14,21519,13,21527,0,21211]
[12,21631,24,21642,24,21649,14,21665,13,21672,0,12211]
[12,21785,13,21799,13,21805,14,21813,13,21820,0,11111]
[12,21935,24,21942,13,21952,14,21957,13,21973,1,12111]
[12,22092,13,22104,13,22110,14,22123,13,22130,0,11111]
[12,22233,24,22242,13,22253,14,22257,13,22262,0,12111]
[12,22365,24,22373,13,22383,14,22391,13,22400,0,12111]
[12,22505,24,22513,13,22524,14,22528,13,22537,0,12111]
[12,22640,24,22648,13,22660,14,22665,13,22672,1,12111]
[21,22780,22,22792,13,22802,14,22806,13,22814,0,22111]
[12,22921,24,22928,24,22933,14,22944,24,22953,0,12212]
[12,23077,13,23090,13,23095,14,23101,13,23112,1,11111]
[21,23226,11,23235,11,23260,12,23264,13,23269,1,21111]
[21,23373,11,23385,22,23396,23,23403,13,23414,0,21221]
[21,23532,22,23536,13,23560,14,23563,13,23567,0,22111]
[12,23681,24,23689,13,23700,14,23704,13,23718,0,12111]
[12,23832,13,23846,13,23850,14,23857,13,23864,1,11111]
[21,23967,11,23986,11,23993,12,23997,null,null,null,2111]

{"sheet":"!N412B50.096","index":18,"n_rows":186,"n_cols":48,"rows_kept":186,"cut":false,"hidden":false,"merged":[[4,39,4,42],[5,39,5,40],[4,44,4,47],[5,44,5,45],[4,24,4,27],[5,24,5,25],[4,29,4,32],[5,29,5,30],[4,34,4,37],[5,34,5,35],[1,1,1,2],[5,13,5,14],[42,13,42,14],[43,13,43,14],[4,19,4,22],[5,19,5,20]]}
["Report for:!N412B50.096"]
["Date:","<date>"]
["Hen:","<hen>",null,null,null,"Correct Sequence",{"$f":"Start!J2","v":21121},null,null,null,null,null,null,null,null,"Total Sequences in Data",{"$f":"4994-COUNTBLANK(L7:L5000)","v":180},null,null,null,null,"Total Sequences in Block Data",{"$f":"COUNTA(L7:L36)","v":30},null,null,null,"Total Sequences in Block Data",{"$f":"COUNTA(L37:L66)","v":30},null,null,null,"Total Sequences in Block Data",{"$f":"COUNTA(L67:L96)","v":30},null,null,null,"Total Sequences in Block Data",{"$f":"COUNTA(L97:L126)","v":30},null,null,null,"Total Sequences in Block Data",{"$f":"COUNTA(L127:L156)","v":30},null,null,null,"Total Sequences in Block Data",{"$f":"COUNTA(L157:L186)","v":30}]
[null,null,null,null,null,null,null,null,null,null,null,null,null,null,null,"Total Sequences in Summary",{"$f":"SUM(O7:O38)","v":180},null,null,null,null,"Total Sequences in Block Summary",{"$f":"SUM(U7:U38)","v":30},null,null,null,"Total Sequences in Block Summary",{"$f":"SUM(Z7:Z38)","v":30},null,null,null,"Total Sequences in Block Summary",{"$f":"SUM(AE7:AE38)","v":30},null,null,null,"Total Sequences in Block Summary",{"$f":"SUM(AJ7:AJ38)","v":30},null,null,null,"Total Sequences in Block Summary",{"$f":"SUM(AO7:AO38)","v":30},null,null,null,"Total Sequences in Block Summary",{"$f":"SUM(AT7:AT38)","v":30}]
[null,null,null,null,null,null,null,null,null,null,null,null,null,null,null,null,null,null,null,"Block 1",null,null,null,null,"Block 2",null,null,null,null,"Block 3",null,null,null,null,"Block 4",null,null,null,null,"Block 5",null,null,null,null,"Block 6"]
["Sequence\nComponent\n1","Time\n1","Sequence\nComponent\n2","Time\n2","Sequence\nComponent\n3","Time\n3","Sequence\nComponent\n4","Time\n4","Sequence\nComponent\n5","Time\n5","Correct?\n0=No 1=Yes","Sequence",null,"Frequency",null,"Relative Frequency","Variability",null,null,"Frequency",null,"Relative Frequency","Variability",null,"Frequency",null,"Relative Frequency","Variability",null,"Frequency",null,"Relative Frequency","Variability",null,"Frequency",null,"Relative Frequency","Variability",null,"Frequency",null,"Relative Frequency","Variability",null,"Frequency",null,"Relative Frequency","Variability"]
[12,8,13,12,24,23,23,33,13,41,0,11221,null,11111,{"$f":"COUNTIF($L$7:$L$500,N7)","v":50},{"$f":"O7/$Q$4","v":0.27777777777777779},{"$f":"IF(P7=0,0,(P7*((LOG(P7))/LOG(2))))","v":-0.51333247404304172},null,null,{"$f":"N7","v":11111},{"$f":"COUNTIF(L7:L36,T7)","v":5},{"$f":"U7/(W4-U25)","v":0.16666666666666666},{"$f":"IF(V7=0,0,(V7*((LOG(V7))/LOG(2))))","v":-0.43082708345352599},null,{"$f":"N7","v":11111},{"$f":"COUNTIF(L37:L66,Y7)","v":19},{"$f":"Z7/(AB4-Z25)","v":0.6333333333333333},{"$f":"IF(AA7=0,0,(AA7*((LOG(AA7))/LOG(2))))","v":-0.41734328537112425},null,{"$f":"N7","v":11111},{"$f":"COUNTIF(L67:L96,AD7)","v":5},{"$f":"AE7/(AG4-AE25)","v":0.16666666666666666},{"$f":"IF(AF7=0,0,(AF7*((LOG(AF7))/LOG(2))))","v":-0.43082708345352599},null,{"$f":"N7","v":11111},{"$f":"COUNTIF(L97:L126,AI7)","v":10},{"$f":"AJ7/(AL4-AJ25)","v":0.33333333333333331},{"$f":"IF(AK7=0,0,(AK7*((LOG(AK7))/LOG(2))))","v":-0.52832083357371862},null,{"$f":"N7","v":11111},{"$f":"COUNTIF(L127:L156,AN7)","v":6},{"$f":"AO7/(AQ4-AO25)","v":0.2},{"$f":"IF(AP7=0,0,(AP7*((LOG(AP7))/LOG(2))))","v":-0.46438561897747244},null,{"$f":"N7","v":11111},{"$f":"COUNTIF(L157:L186,AS7)","v":5},{"$f":"AT7/(AV4-AT25)","v":0.16666666666666666},{"$f":"IF(AU7=0,0,(AU7*((LOG(AU7))/LOG(2))))","v":-0.43082708345352599}]
[21,148,22,153,24,157,14,168,24,186,0,22212,null,11112,{"$f":"COUNTIF($L$7:$L$500,N8)","v":1},{"$f":"O8/$Q$4","v":5.5555555555555558E-3},{"$f":"IF(P8=0,0,(P8*((LOG(P8))/LOG(2))))","v":-4.1621406090720417E-2},null,null,{"$f":"N8","v":11112},{"$f":"COUNTIF(L7:L36,T8)","v":0},{"$f":"U8/(W4-U25)","v":0},{"$f":"IF(V8=0,0,(V8*((LOG(V8))/LOG(2))))","v":0},null,{"$f":"N8","v":11112},{"$f":"COUNTIF(L37:L66,Y8)","v":1},{"$f":"Z8/(AB4-Z25)","v":3.3333333333333333E-2},{"$f":"IF(AA8=0,0,(AA8*((LOG(AA8))/LOG(2))))","v":-0.16356301985361729},null,{"$f":"N8","v":11112},{"$f":"COUNTIF(L67:L96,AD8)","v":0},{"$f":"AE8/(AG4-AE25)","v":0},{"$f":"IF(AF8=0,0,(AF8*((LOG(AF8))/LOG(2))))","v":0},null,{"$f":"N8","v":11112},{"$f":"COUNTIF(L97:L126,AI8)","v":0},{"$f":"AJ8/(AL4-AJ25)","v":0},{"$f":"IF(AK8=0,0,(AK8*((LOG(AK8))/LOG(2))))","v":0},null,{"$f":"N8","v":11112},{"$f":"COUNTIF(L127:L156,AN8)","v":0},{"$f":"AO8/(AQ4-AO25)","v":0},{"$f":"IF(AP8=0,0,(AP8*((LOG(AP8))/LOG(2))))","v":0},null,{"$f":"N8","v":11112},{"$f":"COUNTIF(L157:L186,AS8)","v":0},{"$f":"AT8/(AV4-AT25)","v":0},{"$f":"IF(AU8=0,0,(AU8*((LOG(AU8))/LOG(2))))","v":0}]
[12,313,13,317,13,321,23,333,13,343,0,11121,null,11121,{"$f":"COUNTIF($L$7:$L$500,N9)","v":1},{"$f":"O9/$Q$4","v":5.5555555555555558E-3},{"$f":"IF(P9=0,0,(P9*((LOG(P9))/LOG(2))))","v":-4.1621406090720417E-2},null,null,{"$f":"N9","v":11121},{"$f":"COUNTIF(L7:L36,T9)","v":1},{"$f":"U9/(W4-U25)","v":3.3333333333333333E-2},{"$f":"IF(V9=0,0,(V9*((LOG(V9))/LOG(2))))","v":-0.16356301985361729},null,{"$f":"N9","v":11121},{"$f":"COUNTIF(L37:L66,Y9)","v":0},{"$f":"Z9/(AB4-Z25)","v":0},{"$f":"IF(AA9=0,0,(AA9*((LOG(AA9))/LOG(2))))","v":0},null,{"$f":"N9","v":11121},{"$f":"COUNTIF(L67:L96,AD9)","v":0},{"$f":"AE9/(AG4-AE25)","v":0},{"$f":"IF(AF9=0,0,(AF9*((LOG(AF9))/LOG(2))))","v":0},null,{"$f":"N9","v":11121},{"$f":"COUNTIF(L97:L126,AI9)","v":0},{"$f":"AJ9/(AL4-AJ25)","v":0},{"$f":"IF(AK9=0,0,(AK9*((LOG(AK9))/LOG(2))))","v":0},null,{"$f":"N9","v":11121},{"$f":"COUNTIF(L127:L156,AN9)","v":0},{"$f":"AO9/(AQ4-AO25)","v":0},{"$f":"IF(AP9=0,0,(AP9*((LOG(AP9))/LOG(2))))","v":0},null,{"$f":"N9","v":11121},{"$f":"COUNTIF(L157:L186,AS9)","v":0},{"$f":"AT9/(AV4-AT25)","v":0},{"$f":"IF(AU9=0,0,(AU9*((LOG(AU9))/LOG(2))))","v":0}]
[21,455,22,461,13,476,14,480,13,491,0,22111,null,11122,{"$f":"COUNTIF($L$7:$L$500,N10)","v":0},{"$f":"O10/$Q$4","v":0},{"$f":"IF(P10=0,0,(P10*((LOG(P10))/LOG(2))))","v":0},null,null,{"$f":"N10","v":11122},{"$f":"COUNTIF(L7:L36,T10)","v":0},{"$f":"U10/(W4-U25)","v":0},{"$f":"IF(V10=0,0,(V10*((LOG(V10))/LOG(2))))","v":0},null,{"$f":"N10","v":11122},{"$f":"COUNTIF(L37:L66,Y10)","v":0},{"$f":"Z10/(AB4-Z25)","v":0},{"$f":"IF(AA10=0,0,(AA10*((LOG(AA10))/LOG(2))))","v":0},null,{"$f":"N10","v":11122},{"$f":"COUNTIF(L67:L96,AD10)","v":0},{"$f":"AE10/(AG4-AE25)","v":0},{"$f":"IF(AF10=0,0,(AF10*((LOG(AF10))/LOG(2))))","v":0},null,{"$f":"N10","v":11122},{"$f":"COUNTIF(L97:L126,AI10)","v":0},{"$f":"AJ10/(AL4-AJ25)","v":0},{"$f":"IF(AK10=0,0,(AK10*((LOG(AK10))/LOG(2))))","v":0},null,{"$f":"N10","v":11122},{"$f":"COUNTIF(L127:L156,AN10)","v":0},{"$f":"AO10/(AQ4-AO25)","v":0},{"$f":"IF(AP10=0,0,(AP10*((LOG(AP10))/LOG(2))))","v":0},null,{"$f":"N10","v":11122},{"$f":"COUNTIF(L157:L186,AS10)","v":0},{"$f":"AT10/(AV4-AT25)","v":0},{"$f":"IF(AU10=0,0,(AU10*((LOG(AU10))/LOG(2))))","v":0}]
[21,593,11,601,11,605,12,610,24,619,0,21112,null,11211,{"$f":"COUNTIF($L$7:$L$500,N11)","v":4},{"$f":"O11/$Q$4","v":2.2222222222222223E-2},{"$f":"IF(P11=0,0,(P11*((LOG(P11))/LOG(2))))","v":-0.12204117991843723},null,null,{"$f":"N11","v":11211},{"$f":"COUNTIF(L7:L36,T11)","v":0},{"$f":"U11/(W4-U25)","v":0},{"$f":"IF(V11=0,0,(V11*((LOG(V11))/LOG(2))))","v":0},null,{"$f":"N11","v":11211},{"$f":"COUNTIF(L37:L66,Y11)","v":3},{"$f":"Z11/(AB4-Z25)","v":0.1},{"$f":"IF(AA11=0,0,(AA11*((LOG(AA11))/LOG(2))))","v":-0.33219280948873625},null,{"$f":"N11","v":11211},{"$f":"COUNTIF(L67:L96,AD11)","v":0},{"$f":"AE11/(AG4-AE25)","v":0},{"$f":"IF(AF11=0,0,(AF11*((LOG(AF11))/LOG(2))))","v":0},null,{"$f":"N11","v":11211},{"$f":"COUNTIF(L97:L126,AI11)","v":0},{"$f":"AJ11/(AL4-AJ25)","v":0},{"$f":"IF(AK11=0,0,(AK11*((LOG(AK11))/LOG(2))))","v":0},null,{"$f":"N11","v":11211},{"$f":"COUNTIF(L127:L156,AN11)","v":0},{"$f":"AO11/(AQ4-AO25)","v":0},{"$f":"IF(AP11=0,0,(AP11*((LOG(AP11))/LOG(2))))","v":0},null,{"$f":"N11","v":11211},{"$f":"COUNTIF(L157:L186,AS11)","v":1},{"$f":"AT11/(AV4-AT25)","v":3.3333333333333333E-2},{"$f":"IF(AU11=0,0,(AU11*((LOG(AU11))/LOG(2))))","v":-0.16356301985361729}]
[12,715,13,720,13,735,14,739,13,744,0,11111,null,11212,{"$f":"COUNTIF($L$7:$L$500,N12)","v":0},{"$f":"O12/$Q$4","v":0},{"$f":"IF(P12=0,0,(P12*((LOG(P12))/LOG(2))))","v":0},null,null,{"$f":"N12","v":11212},{"$f":"COUNTIF(L7:L36,T12)","v":0},{"$f":"U12/(W4-U25)","v":0},{"$f":"IF(V12=0,0,(V12*((LOG(V12))/LOG(2))))","v":0},null,{"$f":"N12","v":11212},{"$f":"COUNTIF(L37:L66,Y12)","v":0},{"$f":"Z12/(AB4-Z25)","v":0},{"$f":"IF(AA12=0,0,(AA12*((LOG(AA12))/LOG(2))))","v":0},null,{"$f":"N12","v":11212},{"$f":"COUNTIF(L67:L96,AD12)","v":0},{"$f":"AE12/(AG4-AE25)","v":0},{"$f":"IF(AF12=0,0,(AF12*((LOG(AF12))/LOG(2))))","v":0},null,{"$f":"N12","v":11212},{"$f":"COUNTIF(L97:L126,AI12)","v":0},{"$f":"AJ12/(AL4-AJ25)","v":0},{"$f":"IF(AK12=0,0,(AK12*((LOG(AK12))/LOG(2))))","v":0},null,{"$f":"N12","v":11212},{"$f":"COUNTIF(L127:L156,AN12)","v":0},{"$f":"AO12/(AQ4-AO25)","v":0},{"$f":"IF(AP12=0,0,(AP12*((LOG(AP12))/LOG(2))))","v":0},null,{"$f":"N12","v":11212},{"$f":"COUNTIF(L157:L186,AS12)","v":0},{"$f":"AT12/(AV4-AT25)","v":0},{"$f":"IF(AU12=0,0,(AU12*((LOG(AU12))/LOG(2))))","v":0}]
[12,841,13,862,13,866,14,873,13,881,0,11111,null,11221,{"$f":"COUNTIF($L$7:$L$500,N13)","v":6},{"$f":"O13/$Q$4","v":3.3333333333333333E-2},{"$f":"IF(P13=0,0,(P13*((LOG(P13))/LOG(2))))","v":-0.16356301985361729},null,null,{"$f":"N13","v":11221},{"$f":"COUNTIF(L7:L36,T13)","v":1},{"$f":"U13/(W4-U25)","v":3.3333333333333333E-2},{"$f":"IF(V13=0,0,(V13*((LOG(V13))/LOG(2))))","v":-0.16356301985361729},null,{"$f":"N13","v":11221},{"$f":"COUNTIF(L37:L66,Y13)","v":2},{"$f":"Z13/(AB4-Z25)","v":6.6666666666666666E-2},{"$f":"IF(AA13=0,0,(AA13*((LOG(AA13))/LOG(2))))","v":-0.26045937304056793},null,{"$f":"N13","v":11221},{"$f":"COUNTIF(L67:L96,AD13)","v":0},{"$f":"AE13/(AG4-AE25)","v":0},{"$f":"IF(AF13=0,0,(AF13*((LOG(AF13))/LOG(2))))","v":0},null,{"$f":"N13","v":11221},{"$f":"COUNTIF(L97:L126,AI13)","v":0},{"$f":"AJ13/(AL4-AJ25)","v":0},{"$f":"IF(AK13=0,0,(AK13*((LOG(AK13))/LOG(2))))","v":0},null,{"$f":"N13","v":11221},{"$f":"COUNTIF(L127:L156,AN13)","v":3},{"$f":"AO13/(AQ4-AO25)","v":0.1},{"$f":"IF(AP13=0,0,(AP13*((LOG(AP13))/LOG(2))))","v":-0.33219280948873625},null,{"$f":"N13","v":11221},{"$f":"COUNTIF(L157:L186,AS13)","v":0},{"$f":"AT13/(AV4-AT25)","v":0},{"$f":"IF(AU13=0,0,(AU13*((LOG(AU13))/LOG(2))))","v":0}]
[21,983,22,997,13,1010,14,1015,13,1025,0,22111,null,11222,{"$f":"COUNTIF($L$7:$L$500,N14)","v":0},{"$f":"O14/$Q$4","v":0},{"$f":"IF(P14=0,0,(P14*((LOG(P14))/LOG(2))))","v":0},null,null,{"$f":"N14","v":11222},{"$f":"COUNTIF(L7:L36,T14)","v":0},{"$f":"U14/(W4-U25)","v":0},{"$f":"IF(V14=0,0,(V14*((LOG(V14))/LOG(2))))","v":0},null,{"$f":"N14","v":11222},{"$f":"COUNTIF(L37:L66,Y14)","v":0},{"$f":"Z14/(AB4-Z25)","v":0},{"$f":"IF(AA14=0,0,(AA14*((LOG(AA14))/LOG(2))))","v":0},null,{"$f":"N14","v":11222},{"$f":"COUNTIF(L67:L96,AD14)","v":0},{"$f":"AE14/(AG4-AE25)","v":0},{"$f":"IF(AF14=0,0,(AF14*((LOG(AF14))/LOG(2))))","v":0},null,{"$f":"N14","v":11222},{"$f":"COUNTIF(L97:L126,AI14)","v":0},{"$f":"AJ14/(AL4-AJ25)","v":0},{"$f":"IF(AK14=0,0,(AK14*((LOG(AK14))/LOG(2))))","v":0},null,{"$f":"N14","v":11222},{"$f":"COUNTIF(L127:L156,AN14)","v":0},{"$f":"AO14/(AQ4-AO25)","v":0},{"$f":"IF(AP14=0,0,(AP14*((LOG(AP14))/LOG(2))))","v":0},null,{"$f":"N14","v":11222},{"$f":"COUNTIF(L157:L186,AS14)","v":0},{"$f":"AT14/(AV4-AT25)","v":0},{"$f":"IF(AU14=0,0,(AU14*((LOG(AU14))/LOG(2))))","v":0}]
[21,1131,11,1140,11,1145,12,1150,24,1158,0,21112,null,12111,{"$f":"COUNTIF($L$7:$L$500,N15)","v":38},{"$f":"O15/$Q$4","v":0.21111111111111111},{"$f":"IF(P15=0,0,(P15*((LOG(P15))/LOG(2))))","v":-0.47371762305372994},null,null,{"$f":"N15","v":12111},{"$f":"COUNTIF(L7:L36,T15)","v":1},{"$f":"U15/(W4-U25)","v":3.3333333333333333E-2},{"$f":"IF(V15=0,0,(V15*((LOG(V15))/LOG(2))))","v":-0.16356301985361729},null,{"$f":"N15","v":12111},{"$f":"COUNTIF(L37:L66,Y15)","v":2},{"$f":"Z15/(AB4-Z25)","v":6.6666666666666666E-2},{"$f":"IF(AA15=0,0,(AA15*((LOG(AA15))/LOG(2))))","v":-0.26045937304056793},null,{"$f":"N15","v":12111},{"$f":"COUNTIF(L67:L96,AD15)","v":9},{"$f":"AE15/(AG4-AE25)","v":0.3},{"$f":"IF(AF15=0,0,(AF15*((LOG(AF15))/LOG(2))))","v":-0.52108967824986185},null,{"$f":"N15","v":12111},{"$f":"COUNTIF(L97:L126,AI15)","v":5},{"$f":"AJ15/(AL4-AJ25)","v":0.16666666666666666},{"$f":"IF(AK15=0,0,(AK15*((LOG(AK15))/LOG(2))))","v":-0.43082708345352599},null,{"$f":"N15","v":12111},{"$f":"COUNTIF(L127:L156,AN15)","v":12},{"$f":"AO15/(AQ4-AO25)","v":0.4},{"$f":"IF(AP15=0,0,(AP15*((LOG(AP15))/LOG(2))))","v":-0.52877123795494496},null,{"$f":"N15","v":12111},{"$f":"COUNTIF(L157:L186,AS15)","v":9},{"$f":"AT15/(AV4-AT25)","v":0.3},{"$f":"IF(AU15=0,0,(AU15*((LOG(AU15))/LOG(2))))","v":-0.52108967824986185}]
[21,1261,11,1270,11,1274,12,1279,13,1284,0,21111,null,12112,{"$f":"COUNTIF($L$7:$L$500,N16)","v":1},{"$f":"O16/$Q$4","v":5.5555555555555558E-3},{"$f":"IF(P16=0,0,(P16*((LOG(P16))/LOG(2))))","v":-4.1621406090720417E-2},null,null,{"$f":"N16","v":12112},{"$f":"COUNTIF(L7:L36,T16)","v":0},{"$f":"U16/(W4-U25)","v":0},{"$f":"IF(V16=0,0,(V16*((LOG(V16))/LOG(2))))","v":0},null,{"$f":"N16","v":12112},{"$f":"COUNTIF(L37:L66,Y16)","v":0},{"$f":"Z16/(AB4-Z25)","v":0},{"$f":"IF(AA16=0,0,(AA16*((LOG(AA16))/LOG(2))))","v":0},null,{"$f":"N16","v":12112},{"$f":"COUNTIF(L67:L96,AD16)","v":0},{"$f":"AE16/(AG4-AE25)","v":0},{"$f":"IF(AF16=0,0,(AF16*((LOG(AF16))/LOG(2))))","v":0},null,{"$f":"N16","v":12112},{"$f":"COUNTIF(L97:L126,AI16)","v":0},{"$f":"AJ16/(AL4-AJ25)","v":0},{"$f":"IF(AK16=0,0,(AK16*((LOG(AK16))/LOG(2))))","v":0},null,{"$f":"N16","v":12112},{"$f":"COUNTIF(L127:L156,AN16)","v":1},{"$f":"AO16/(AQ4-AO25)","v":3.3333333333333333E-2},{"$f":"IF(AP16=0,0,(AP16*((LOG(AP16))/LOG(2))))","v":-0.16356301985361729},null,{"$f":"N16","v":12112},{"$f":"COUNTIF(L157:L186,AS16)","v":0},{"$f":"AT16/(AV4-AT25)","v":0},{"$f":"IF(AU16=0,0,(AU16*((LOG(AU16))/LOG(2))))","v":0}]
[12,1396,13,1400,13,1404,14,1411,13,1421,1,11111,null,12121,{"$f":"COUNTIF($L$7:$L$500,N17)","v":2},{"$f":"O17/$Q$4","v":1.1111111111111112E-2},{"$f":"IF(P17=0,0,(P17*((LOG(P17))/LOG(2))))","v":-7.2131701070329707E-2},null,null,{"$f":"N17","v":12121},{"$f":"COUNTIF(L7:L36,T17)","v":0},{"$f":"U17/(W4-U25)","v":0},{"$f":"IF(V17=0,0,(V17*((LOG(V17))/LOG(2))))","v":0},null,{"$f":"N17","v":12121},{"$f":"COUNTIF(L37:L66,Y17)","v":0},{"$f":"Z17/(AB4-Z25)","v":0},{"$f":"IF(AA17=0,0,(AA17*((LOG(AA17))/LOG(2))))","v":0},null,{"$f":"N17","v":12121},{"$f":"COUNTIF(L67:L96,AD17)","v":1},{"$f":"AE17/(AG4-AE25)","v":3.3333333333333333E-2},{"$f":"IF(AF17=0,0,(AF17*((LOG(AF17))/LOG(2))))","v":-0.16356301985361729},null,{"$f":"N17","v":12121},{"$f":"COUNTIF(L97:L126,AI17)","v":0},{"$f":"AJ17/(AL4-AJ25)","v":0},{"$f":"IF(AK17=0,0,(AK17*((LOG(AK17))/LOG(2))))","v":0},null,{"$f":"N17","v":12121},{"$f":"COUNTIF(L127:L156,AN17)","v":0},{"$f":"AO17/(AQ4-AO25)","v":0},{"$f":"IF(AP17=0,0,(AP17*((LOG(AP17))/LOG(2))))","v":0},null,{"$f":"N17","v":12121},{"$f":"COUNTIF(L157:L186,AS17)","v":1},{"$f":"AT17/(AV4-AT25)","v":3.3333333333333333E-2},{"$f":"IF(AU17=0,0,(AU17*((LOG(AU17))/LOG(2))))","v":-0.16356301985361729}]
[21,1535,22,1551,24,1555,14,1564,13,1569,0,22211,null,12122,{"$f":"COUNTIF($L$7:$L$500,N18)","v":1},{"$f":"O18/$Q$4","v":5.5555555555555558E-3},{"$f":"IF(P18=0,0,(P18*((LOG(P18))/LOG(2))))","v":-4.1621406090720417E-2},null,null,{"$f":"N18","v":12122},{"$f":"COUNTIF(L7:L36,T18)","v":1},{"$f":"U18/(W4-U25)","v":3.3333333333333333E-2},{"$f":"IF(V18=0,0,(V18*((LOG(V18))/LOG(2))))","v":-0.16356301985361729},null,{"$f":"N18","v":12122},{"$f":"COUNTIF(L37:L66,Y18)","v":0},{"$f":"Z18/(AB4-Z25)","v":0},{"$f":"IF(AA18=0,0,(AA18*((LOG(AA18))/LOG(2))))","v":0},null,{"$f":"N18","v":12122},{"$f":"COUNTIF(L67:L96,AD18)","v":0},{"$f":"AE18/(AG4-AE25)","v":0},{"$f":"IF(AF18=0,0,(AF18*((LOG(AF18))/LOG(2))))","v":0},null,{"$f":"N18","v":12122},{"$f":"COUNTIF(L97:L126,AI18)","v":0},{"$f":"AJ18/(AL4-AJ25)","v":0},{"$f":"IF(AK18=0,0,(AK18*((LOG(AK18))/LOG(2))))","v":0},null,{"$f":"N18","v":12122},{"$f":"COUNTIF(L127:L156,AN18)","v":0},{"$f":"AO18/(AQ4-AO25)","v":0},{"$f":"IF(AP18=0,0,(AP18*((LOG(AP18))/LOG(2))))","v":0},null,{"$f":"N18","v":12122},{"$f":"COUNTIF(L157:L186,AS18)","v":0},{"$f":"AT18/(AV4-AT25)","v":0},{"$f":"IF(AU18=0,0,(AU18*((LOG(AU18))/LOG(2))))","v":0}]
[21,1675,22,1679,24,1683,14,1693,13,1697,0,22211,null,12211,{"$f":"COUNTIF($L$7:$L$500,N19)","v":24},{"$f":"O19/$Q$4","v":0.13333333333333333},{"$f":"IF(P19=0,0,(P19*((LOG(P19))/LOG(2))))","v":-0.3875854127478025},null,null,{"$f":"N19","v":12211},{"$f":"COUNTIF(L7:L36,T19)","v":2},{"$f":"U19/(W4-U25)","v":6.6666666666666666E-2},{"$f":"IF(V19=0,0,(V19*((LOG(V19))/LOG(2))))","v":-0.26045937304056793},null,{"$f":"N19","v":12211},{"$f":"COUNTIF(L37:L66,Y19)","v":0},{"$f":"Z19/(AB4-Z25)","v":0},{"$f":"IF(AA19=0,0,(AA19*((LOG(AA19))/LOG(2))))","v":0},null,{"$f":"N19","v":12211},{"$f":"COUNTIF(L67:L96,AD19)","v":6},{"$f":"AE19/(AG4-AE25)","v":0.2},{"$f":"IF(AF19=0,0,(AF19*((LOG(AF19))/LOG(2))))","v":-0.46438561897747244},null,{"$f":"N19","v":12211},{"$f":"COUNTIF(L97:L126,AI19)","v":5},{"$f":"AJ19/(AL4-AJ25)","v":0.16666666666666666},{"$f":"IF(AK19=0,0,(AK19*((LOG(AK19))/LOG(2))))","v":-0.43082708345352599},null,{"$f":"N19","v":12211},{"$f":"COUNTIF(L127:L156,AN19)","v":4},{"$f":"AO19/(AQ4-AO25)","v":0.13333333333333333},{"$f":"IF(AP19=0,0,(AP19*((LOG(AP19))/LOG(2))))","v":-0.3875854127478025},null,{"$f":"N19","v":12211},{"$f":"COUNTIF(L157:L186,AS19)","v":7},{"$f":"AT19/(AV4-AT25)","v":0.23333333333333334},{"$f":"IF(AU19=0,0,(AU19*((LOG(AU19))/LOG(2))))","v":-0.48989165716187993}]
[21,1799,11,1810,11,1814,12,1818,13,1829,0,21111,null,12212,{"$f":"COUNTIF($L$7:$L$500,N20)","v":0},{"$f":"O20/$Q$4","v":0},{"$f":"IF(P20=0,0,(P20*((LOG(P20))/LOG(2))))","v":0},null,null,{"$f":"N20","v":12212},{"$f":"COUNTIF(L7:L36,T20)","v":0},{"$f":"U20/(W4-U25)","v":0},{"$f":"IF(V20=0,0,(V20*((LOG(V20))/LOG(2))))","v":0},null,{"$f":"N20","v":12212},{"$f":"COUNTIF(L37:L66,Y20)","v":0},{"$f":"Z20/(AB4-Z25)","v":0},{"$f":"IF(AA20=0,0,(AA20*((LOG(AA20))/LOG(2))))","v":0},null,{"$f":"N20","v":12212},{"$f":"COUNTIF(L67:L96,AD20)","v":0},{"$f":"AE20/(AG4-AE25)","v":0},{"$f":"IF(AF20=0,0,(AF20*((LOG(AF20))/LOG(2))))","v":0},null,{"$f":"N20","v":12212},{"$f":"COUNTIF(L97:L126,AI20)","v":0},{"$f":"AJ20/(AL4-AJ25)","v":0},{"$f":"IF(AK20=0,0,(AK20*((LOG(AK20))/LOG(2))))","v":0},null,{"$f":"N20","v":12212},{"$f":"COUNTIF(L127:L156,AN20)","v":0},{"$f":"AO20/(AQ4-AO25)","v":0},{"$f":"IF(AP20=0,0,(AP20*((LOG(AP20))/LOG(2))))","v":0},null,{"$f":"N20","v":12212},{"$f":"COUNTIF(L157:L186,AS20)","v":0},{"$f":"AT20/(AV4-AT25)","v":0},{"$f":"IF(AU20=0,0,(AU20*((LOG(AU20))/LOG(2))))","v":0}]
[21,1934,11,1949,22,1956,14,1965,13,1982,0,21211,null,12221,{"$f":"COUNTIF($L$7:$L$500,N21)","v":5},{"$f":"O21/$Q$4","v":2.7777777777777776E-2},{"$f":"IF(P21=0,0,(P21*((LOG(P21))/LOG(2))))","v":-0.14360902781784199},null,null,{"$f":"N21","v":12221},{"$f":"COUNTIF(L7:L36,T21)","v":2},{"$f":"U21/(W4-U25)","v":6.6666666666666666E-2},{"$f":"IF(V21=0,0,(V21*((LOG(V21))/LOG(2))))","v":-0.26045937304056793},null,{"$f":"N21","v":12221},{"$f":"COUNTIF(L37:L66,Y21)","v":0},{"$f":"Z21/(AB4-Z25)","v":0},{"$f":"IF(AA21=0,0,(AA21*((LOG(AA21))/LOG(2))))","v":0},null,{"$f":"N21","v":12221},{"$f":"COUNTIF(L67:L96,AD21)","v":2},{"$f":"AE21/(AG4-AE25)","v":6.6666666666666666E-2},{"$f":"IF(AF21=0,0,(AF21*((LOG(AF21))/LOG(2))))","v":-0.26045937304056793},null,{"$f":"N21","v":12221},{"$f":"COUNTIF(L97:L126,AI21)","v":1},{"$f":"AJ21/(AL4-AJ25)","v":3.3333333333333333E-2},{"$f":"IF(AK21=0,0,(AK21*((LOG(AK21))/LOG(2))))","v":-0.16356301985361729},null,{"$f":"N21","v":12221},{"$f":"COUNTIF(L127:L156,AN21)","v":0},{"$f":"AO21/(AQ4-AO25)","v":0},{"$f":"IF(AP21=0,0,(AP21*((LOG(AP21))/LOG(2))))","v":0},null,{"$f":"N21","v":12221},{"$f":"COUNTIF(L157:L186,AS21)","v":0},{"$f":"AT21/(AV4-AT25)","v":0},{"$f":"IF(AU21=0,0,(AU21*((LOG(AU21))/LOG(2))))","v":0}]
[21,2087,22,2096,24,2102,14,2112,13,2117,0,22211,null,12222,{"$f":"COUNTIF($L$7:$L$500,N22)","v":0},{"$f":"O22/$Q$4","v":0},{"$f":"IF(P22=0,0,(P22*((LOG(P22))/LOG(2))))","v":0},null,null,{"$f":"N22","v":12222},{"$f":"COUNTIF(L7:L36,T22)","v":0},{"$f":"U22/(W4-U25)","v":0},{"$f":"IF(V22=0,0,(V22*((LOG(V22))/LOG(2))))","v":0},null,{"$f":"N22","v":12222},{"$f":"COUNTIF(L37:L66,Y22)","v":0},{"$f":"Z22/(AB4-Z25)","v":0},{"$f":"IF(AA22=0,0,(AA22*((LOG(AA22))/LOG(2))))","v":0},null,{"$f":"N22","v":12222},{"$f":"COUNTIF(L67:L96,AD22)","v":0},{"$f":"AE22/(AG4-AE25)","v":0},{"$f":"IF(AF22=0,0,(AF22*((LOG(AF22))/LOG(2))))","v":0},null,{"$f":"N22","v":12222},{"$f":"COUNTIF(L97:L126,AI22)","v":0},{"$f":"AJ22/(AL4-AJ25)","v":0},{"$f":"IF(AK22=0,0,(AK22*((LOG(AK22))/LOG(2))))","v":0},null,{"$f":"N22","v":12222},{"$f":"COUNTIF(L127:L156,AN22)","v":0},{"$f":"AO22/(AQ4-AO25)","v":0},{"$f":"IF(AP22=0,0,(AP22*((LOG(AP22))/LOG(2))))","v":0},null,{"$f":"N22","v":12222},{"$f":"COUNTIF(L157:L186,AS22)","v":0},{"$f":"AT22/(AV4-AT25)","v":0},{"$f":"IF(AU22=0,0,(AU22*((LOG(AU22))/LOG(2))))","v":0}]
[12,2230,24,2238,13,2249,23,2257,24,2265,0,12122,null,21111,{"$f":"COUNTIF($L$7:$L$500,N23)","v":11},{"$f":"O23/$Q$4","v":6.1111111111111109E-2},{"$f":"IF(P23=0,0,(P23*((LOG(P23))/LOG(2))))","v":-0.24642575697008973},null,null,{"$f":"N23","v":21111},{"$f":"COUNTIF(L7:L36,T23)","v":3},{"$f":"U23/(W4-U25)","v":0.1},{"$f":"IF(V23=0,0,(V23*((LOG(V23))/LOG(2))))","v":-0.33219280948873625},null,{"$f":"N23","v":21111},{"$f":"COUNTIF(L37:L66,Y23)","v":0},{"$f":"Z23/(AB4-Z25)","v":0},{"$f":"IF(AA23=0,0,(AA23*((LOG(AA23))/LOG(2))))","v":0},null,{"$f":"N23","v":21111},{"$f":"COUNTIF(L67:L96,AD23)","v":0},{"$f":"AE23/(AG4-AE25)","v":0},{"$f":"IF(AF23=0,0,(AF23*((LOG(AF23))/LOG(2))))","v":0},null,{"$f":"N23","v":21111},{"$f":"COUNTIF(L97:L126,AI23)","v":3},{"$f":"AJ23/(AL4-AJ25)","v":0.1},{"$f":"IF(AK23=0,0,(AK23*((LOG(AK23))/LOG(2))))","v":-0.33219280948873625},null,{"$f":"N23","v":21111},{"$f":"COUNTIF(L127:L156,AN23)","v":3},{"$f":"AO23/(AQ4-AO25)","v":0.1},{"$f":"IF(AP23=0,0,(AP23*((LOG(AP23))/LOG(2))))","v":-0.33219280948873625},null,{"$f":"N23","v":21111},{"$f":"COUNTIF(L157:L186,AS23)","v":2},{"$f":"AT23/(AV4-AT25)","v":6.6666666666666666E-2},{"$f":"IF(AU23=0,0,(AU23*((LOG(AU23))/LOG(2))))","v":-0.26045937304056793}]
[21,2365,22,2370,13,2383,23,2391,13,2400,1,22121,null,21112,{"$f":"COUNTIF($L$7:$L$500,N24)","v":2},{"$f":"O24/$Q$4","v":1.1111111111111112E-2},{"$f":"IF(P24=0,0,(P24*((LOG(P24))/LOG(2))))","v":-7.2131701070329707E-2},null,null,{"$f":"N24","v":21112},{"$f":"COUNTIF(L7:L36,T24)","v":2},{"$f":"U24/(W4-U25)","v":6.6666666666666666E-2},{"$f":"IF(V24=0,0,(V24*((LOG(V24))/LOG(2))))","v":-0.26045937304056793},null,{"$f":"N24","v":21112},{"$f":"COUNTIF(L37:L66,Y24)","v":0},{"$f":"Z24/(AB4-Z25)","v":0},{"$f":"IF(AA24=0,0,(AA24*((LOG(AA24))/LOG(2))))","v":0},null,{"$f":"N24","v":21112},{"$f":"COUNTIF(L67:L96,AD24)","v":0},{"$f":"AE24/(AG4-AE25)","v":0},{"$f":"IF(AF24=0,0,(AF24*((LOG(AF24))/LOG(2))))","v":0},null,{"$f":"N24","v":21112},{"$f":"COUNTIF(L97:L126,AI24)","v":0},{"$f":"AJ24/(AL4-AJ25)","v":0},{"$f":"IF(AK24=0,0,(AK24*((LOG(AK24))/LOG(2))))","v":0},null,{"$f":"N24","v":21112},{"$f":"COUNTIF(L127:L156,AN24)","v":0},{"$f":"AO24/(AQ4-AO25)","v":0},{"$f":"IF(AP24=0,0,(AP24*((LOG(AP24))/LOG(2))))","v":0},null,{"$f":"N24","v":21112},{"$f":"COUNTIF(L157:L186,AS24)","v":0},{"$f":"AT24/(AV4-AT25)","v":0},{"$f":"IF(AU24=0,0,(AU24*((LOG(AU24))/LOG(2))))","v":0}]
[21,2509,11,2520,11,2524,12,2528,13,2545,0,21111,null,21121,{"$f":"COUNTIF($L$7:$L$500,N25)","v":0},{"$f":"O25/$Q$4","v":0},{"$f":"IF(P25=0,0,(P25*((LOG(P25))/LOG(2))))","v":0},null,null,{"$f":"N25","v":21121},{"$f":"COUNTIF(L7:L36,T25)","v":0},null,null,null,{"$f":"N25","v":21121},{"$f":"COUNTIF(L37:L66,Y25)","v":0},null,null,null,{"$f":"N25","v":21121},{"$f":"COUNTIF(L67:L96,AD25)","v":0},null,null,null,{"$f":"N25","v":21121},{"$f":"COUNTIF(L97:L126,AI25)","v":0},null,null,null,{"$f":"N25","v":21121},{"$f":"COUNTIF(L127:L156,AN25)","v":0},null,null,null,{"$f":"N25","v":21121},{"$f":"COUNTIF(L157:L186,AS25)","v":0}]
[21,2645,22,2667,13,2678,14,2689,13,2699,0,22111,null,21122,{"$f":"COUNTIF($L$7:$L$500,N26)","v":0},{"$f":"O26/$Q$4","v":0},{"$f":"IF(P26=0,0,(P26*((LOG(P26))/LOG(2))))","v":0},null,null,{"$f":"N26","v":21122},{"$f":"COUNTIF(L7:L36,T26)","v":0},{"$f":"U26/(W4-U25)","v":0},{"$f":"IF(V26=0,0,(V26*((LOG(V26))/LOG(2))))","v":0},null,{"$f":"N26","v":21122},{"$f":"COUNTIF(L37:L66,Y26)","v":0},{"$f":"Z26/(AB4-Z25)","v":0},{"$f":"IF(AA26=0,0,(AA26*((LOG(AA26))/LOG(2))))","v":0},null,{"$f":"N26","v":21122},{"$f":"COUNTIF(L67:L96,AD26)","v":0},{"$f":"AE26/(AG4-AE25)","v":0},{"$f":"IF(AF26=0,0,(AF26*((LOG(AF26))/LOG(2))))","v":0},null,{"$f":"N26","v":21122},{"$f":"COUNTIF(L97:L126,AI26)","v":0},{"$f":"AJ26/(AL4-AJ25)","v":0},{"$f":"IF(AK26=0,0,(AK26*((LOG(AK26))/LOG(2))))","v":0},null,{"$f":"N26","v":21122},{"$f":"COUNTIF(L127:L156,AN26)","v":0},{"$f":"AO26/(AQ4-AO25)","v":0},{"$f":"IF(AP26=0,0,(AP26*((LOG(AP26))/LOG(2))))","v":0},null,{"$f":"N26","v":21122},{"$f":"COUNTIF(L157:L186,AS26)","v":0},{"$f":"AT26/(AV4-AT25)","v":0},{"$f":"IF(AU26=0,0,(AU26*((LOG(AU26))/LOG(2))))","v":0}]
[21,2800,11,2813,22,2821,23,2826,13,2837,0,21221,null,21211,{"$f":"COUNTIF($L$7:$L$500,N27)","v":7},{"$f":"O27/$Q$4","v":3.888888888888889E-2},{"$f":"IF(P27=0,0,(P27*((LOG(P27))/LOG(2))))","v":-0.18217492899946944},null,null,{"$f":"N27","v":21211},{"$f":"COUNTIF(L7:L36,T27)","v":1},{"$f":"U27/(W4-U25)","v":3.3333333333333333E-2},{"$f":"IF(V27=0,0,(V27*((LOG(V27))/LOG(2))))","v":-0.16356301985361729},null,{"$f":"N27","v":21211},{"$f":"COUNTIF(L37:L66,Y27)","v":0},{"$f":"Z27/(AB4-Z25)","v":0},{"$f":"IF(AA27=0,0,(AA27*((LOG(AA27))/LOG(2))))","v":0},null,{"$f":"N27","v":21211},{"$f":"COUNTIF(L67:L96,AD27)","v":3},{"$f":"AE27/(AG4-AE25)","v":0.1},{"$f":"IF(AF27=0,0,(AF27*((LOG(AF27))/LOG(2))))","v":-0.33219280948873625},null,{"$f":"N27","v":21211},{"$f":"COUNTIF(L97:L126,AI27)","v":2},{"$f":"AJ27/(AL4-AJ25)","v":6.6666666666666666E-2},{"$f":"IF(AK27=0,0,(AK27*((LOG(AK27))/LOG(2))))","v":-0.26045937304056793},null,{"$f":"N27","v":21211},{"$f":"COUNTIF(L127:L156,AN27)","v":0},{"$f":"AO27/(AQ4-AO25)","v":0},{"$f":"IF(AP27=0,0,(AP27*((LOG(AP27))/LOG(2))))","v":0},null,{"$f":"N27","v":21211},{"$f":"COUNTIF(L157:L186,AS27)","v":1},{"$f":"AT27/(AV4-AT25)","v":3.3333333333333333E-2},{"$f":"IF(AU27=0,0,(AU27*((LOG(AU27))/LOG(2))))","v":-0.16356301985361729}]
[12,2939,24,2947,24,2952,14,2959,13,2964,1,12211,null,21212,{"$f":"COUNTIF($L$7:$L$500,N28)","v":0},{"$f":"O28/$Q$4","v":0},{"$f":"IF(P28=0,0,(P28*((LOG(P28))/LOG(2))))","v":0},null,null,{"$f":"N28","v":21212},{"$f":"COUNTIF(L7:L36,T28)","v":0},{"$f":"U28/(W4-U25)","v":0},{"$f":"IF(V28=0,0,(V28*((LOG(V28))/LOG(2))))","v":0},null,{"$f":"N28","v":21212},{"$f":"COUNTIF(L37:L66,Y28)","v":0},{"$f":"Z28/(AB4-Z25)","v":0},{"$f":"IF(AA28=0,0,(AA28*((LOG(AA28))/LOG(2))))","v":0},null,{"$f":"N28","v":21212},{"$f":"COUNTIF(L67:L96,AD28)","v":0},{"$f":"AE28/(AG4-AE25)","v":0},{"$f":"IF(AF28=0,0,(AF28*((LOG(AF28))/LOG(2))))","v":0},null,{"$f":"N28","v":21212},{"$f":"COUNTIF(L97:L126,AI28)","v":0},{"$f":"AJ28/(AL4-AJ25)","v":0},{"$f":"IF(AK28=0,0,(AK28*((LOG(AK28))/LOG(2))))","v":0},null,{"$f":"N28","v":21212},{"$f":"COUNTIF(L127:L156,AN28)","v":0},{"$f":"AO28/(AQ4-AO25)","v":0},{"$f":"IF(AP28=0,0,(AP28*((LOG(AP28))/LOG(2))))","v":0},null,{"$f":"N28","v":21212},{"$f":"COUNTIF(L157:L186,AS28)","v":0},{"$f":"AT28/(AV4-AT25)","v":0},{"$f":"IF(AU28=0,0,(AU28*((LOG(AU28))/LOG(2))))","v":0}]
[21,3063,22,3077,13,3086,14,3102,13,3110,0,22111,null,21221,{"$f":"COUNTIF($L$7:$L$500,N29)","v":3},{"$f":"O29/$Q$4","v":1.6666666666666666E-2},{"$f":"IF(P29=0,0,(P29*((LOG(P29))/LOG(2))))","v":-9.8448176593475309E-2},null,null,{"$f":"N29","v":21221},{"$f":"COUNTIF(L7:L36,T29)","v":1},{"$f":"U29/(W4-U25)","v":3.3333333333333333E-2},{"$f":"IF(V29=0,0,(V29*((LOG(V29))/LOG(2))))","v":-0.16356301985361729},null,{"$f":"N29","v":21221},{"$f":"COUNTIF(L37:L66,Y29)","v":0},{"$f":"Z29/(AB4-Z25)","v":0},{"$f":"IF(AA29=0,0,(AA29*((LOG(AA29))/LOG(2))))","v":0},null,{"$f":"N29","v":21221},{"$f":"COUNTIF(L67:L96,AD29)","v":0},{"$f":"AE29/(AG4-AE25)","v":0},{"$f":"IF(AF29=0,0,(AF29*((LOG(AF29))/LOG(2))))","v":0},null,{"$f":"N29","v":21221},{"$f":"COUNTIF(L97:L126,AI29)","v":1},{"$f":"AJ29/(AL4-AJ25)","v":3.3333333333333333E-2},{"$f":"IF(AK29=0,0,(AK29*((LOG(AK29))/LOG(2))))","v":-0.16356301985361729},null,{"$f":"N29","v":21221},{"$f":"COUNTIF(L127:L156,AN29)","v":0},{"$f":"AO29/(AQ4-AO25)","v":0},{"$f":"IF(AP29=0,0,(AP29*((LOG(AP29))/LOG(2))))","v":0},null,{"$f":"N29","v":21221},{"$f":"COUNTIF(L157:L186,AS29)","v":1},{"$f":"AT29/(AV4-AT25)","v":3.3333333333333333E-2},{"$f":"IF(AU29=0,0,(AU29*((LOG(AU29))/LOG(2))))","v":-0.16356301985361729}]
[12,3214,24,3222,13,3240,14,3245,13,3255,0,12111,null,21222,{"$f":"COUNTIF($L$7:$L$500,N30)","v":0},{"$f":"O30/$Q$4","v":0},{"$f":"IF(P30=0,0,(P30*((LOG(P30))/LOG(2))))","v":0},null,null,{"$f":"N30","v":21222},{"$f":"COUNTIF(L7:L36,T30)","v":0},{"$f":"U30/(W4-U25)","v":0},{"$f":"IF(V30=0,0,(V30*((LOG(V30))/LOG(2))))","v":0},null,{"$f":"N30","v":21222},{"$f":"COUNTIF(L37:L66,Y30)","v":0},{"$f":"Z30/(AB4-Z25)","v":0},{"$f":"IF(AA30=0,0,(AA30*((LOG(AA30))/LOG(2))))","v":0},null,{"$f":"N30","v":21222},{"$f":"COUNTIF(L67:L96,AD30)","v":0},{"$f":"AE30/(AG4-AE25)","v":0},{"$f":"IF(AF30=0,0,(AF30*((LOG(AF30))/LOG(2))))","v":0},null,{"$f":"N30","v":21222},{"$f":"COUNTIF(L97:L126,AI30)","v":0},{"$f":"AJ30/(AL4-AJ25)","v":0},{"$f":"IF(AK30=0,0,(AK30*((LOG(AK30))/LOG(2))))","v":0},null,{"$f":"N30","v":21222},{"$f":"COUNTIF(L127:L156,AN30)","v":0},{"$f":"AO30/(AQ4-AO25)","v":0},{"$f":"IF(AP30=0,0,(AP30*((LOG(AP30))/LOG(2))))","v":0},null,{"$f":"N30","v":21222},{"$f":"COUNTIF(L157:L186,AS30)","v":0},{"$f":"AT30/(AV4-AT25)","v":0},{"$f":"IF(AU30=0,0,(AU30*((LOG(AU30))/LOG(2))))","v":0}]
[12,3353,13,3373,13,3378,14,3383,13,3390,1,11111,null,22111,{"$f":"COUNTIF($L$7:$L$500,N31)","v":11},{"$f":"O31/$Q$4","v":6.1111111111111109E-2},{"$f":"IF(P31=0,0,(P31*((LOG(P31))/LOG(2))))","v":-0.24642575697008973},null,null,{"$f":"N31","v":22111},{"$f":"COUNTIF(L7:L36,T31)","v":4},{"$f":"U31/(W4-U25)","v":0.13333333333333333},{"$f":"IF(V31=0,0,(V31*((LOG(V31))/LOG(2))))","v":-0.3875854127478025},null,{"$f":"N31","v":22111},{"$f":"COUNTIF(L37:L66,Y31)","v":1},{"$f":"Z31/(AB4-Z25)","v":3.3333333333333333E-2},{"$f":"IF(AA31=0,0,(AA31*((LOG(AA31))/LOG(2))))","v":-0.16356301985361729},null,{"$f":"N31","v":22111},{"$f":"COUNTIF(L67:L96,AD31)","v":0},{"$f":"AE31/(AG4-AE25)","v":0},{"$f":"IF(AF31=0,0,(AF31*((LOG(AF31))/LOG(2))))","v":0},null,{"$f":"N31","v":22111},{"$f":"COUNTIF(L97:L126,AI31)","v":3},{"$f":"AJ31/(AL4-AJ25)","v":0.1},{"$f":"IF(AK31=0,0,(AK31*((LOG(AK31))/LOG(2))))","v":-0.33219280948873625},null,{"$f":"N31","v":22111},{"$f":"COUNTIF(L127:L156,AN31)","v":0},{"$f":"AO31/(AQ4-AO25)","v":0},{"$f":"IF(AP31=0,0,(AP31*((LOG(AP31))/LOG(2))))","v":0},null,{"$f":"N31","v":22111},{"$f":"COUNTIF(L157:L186,AS31)","v":3},{"$f":"AT31/(AV4-AT25)","v":0.1},{"$f":"IF(AU31=0,0,(AU31*((LOG(AU31))/LOG(2))))","v":-0.33219280948873625}]
[21,3486,22,3495,13,3502,23,3510,13,3523,0,22121,null,22112,{"$f":"COUNTIF($L$7:$L$500,N32)","v":0},{"$f":"O32/$Q$4","v":0},{"$f":"IF(P32=0,0,(P32*((LOG(P32))/LOG(2))))","v":0},null,null,{"$f":"N32","v":22112},{"$f":"COUNTIF(L7:L36,T32)","v":0},{"$f":"U32/(W4-U25)","v":0},{"$f":"IF(V32=0,0,(V32*((LOG(V32))/LOG(2))))","v":0},null,{"$f":"N32","v":22112},{"$f":"COUNTIF(L37:L66,Y32)","v":0},{"$f":"Z32/(AB4-Z25)","v":0},{"$f":"IF(AA32=0,0,(AA32*((LOG(AA32))/LOG(2))))","v":0},null,{"$f":"N32","v":22112},{"$f":"COUNTIF(L67:L96,AD32)","v":0},{"$f":"AE32/(AG4-AE25)","v":0},{"$f":"IF(AF32=0,0,(AF32*((LOG(AF32))/LOG(2))))","v":0},null,{"$f":"N32","v":22112},{"$f":"COUNTIF(L97:L126,AI32)","v":0},{"$f":"AJ32/(AL4-AJ25)","v":0},{"$f":"IF(AK32=0,0,(AK32*((LOG(AK32))/LOG(2))))","v":0},null,{"$f":"N32","v":22112},{"$f":"COUNTIF(L127:L156,AN32)","v":0},{"$f":"AO32/(AQ4-AO25)","v":0},{"$f":"IF(AP32=0,0,(AP32*((LOG(AP32))/LOG(2))))","v":0},null,{"$f":"N32","v":22112},{"$f":"COUNTIF(L157:L186,AS32)","v":0},{"$f":"AT32/(AV4-AT25)","v":0},{"$f":"IF(AU32=0,0,(AU32*((LOG(AU32))/LOG(2))))","v":0}]
[12,3623,13,3631,13,3636,14,3642,13,3659,0,11111,null,22121,{"$f":"COUNTIF($L$7:$L$500,N33)","v":5},{"$f":"O33/$Q$4","v":2.7777777777777776E-2},{"$f":"IF(P33=0,0,(P33*((LOG(P33))/LOG(2))))","v":-0.14360902781784199},null,null,{"$f":"N33","v":22121},{"$f":"COUNTIF(L7:L36,T33)","v":2},{"$f":"U33/(W4-U25)","v":6.6666666666666666E-2},{"$f":"IF(V33=0,0,(V33*((LOG(V33))/LOG(2))))","v":-0.26045937304056793},null,{"$f":"N33","v":22121},{"$f":"COUNTIF(L37:L66,Y33)","v":0},{"$f":"Z33/(AB4-Z25)","v":0},{"$f":"IF(AA33=0,0,(AA33*((LOG(AA33))/LOG(2))))","v":0},null,{"$f":"N33","v":22121},{"$f":"COUNTIF(L67:L96,AD33)","v":3},{"$f":"AE33/(AG4-AE25)","v":0.1},{"$f":"IF(AF33=0,0,(AF33*((LOG(AF33))/LOG(2))))","v":-0.33219280948873625},null,{"$f":"N33","v":22121},{"$f":"COUNTIF(L97:L126,AI33)","v":0},{"$f":"AJ33/(AL4-AJ25)","v":0},{"$f":"IF(AK33=0,0,(AK33*((LOG(AK33))/LOG(2))))","v":0},null,{"$f":"N33","v":22121},{"$f":"COUNTIF(L127:L156,AN33)","v":0},{"$f":"AO33/(AQ4-AO25)","v":0},{"$f":"IF(AP33=0,0,(AP33*((LOG(AP33))/LOG(2))))","v":0},null,{"$f":"N33","v":22121},{"$f":"COUNTIF(L157:L186,AS33)","v":0},{"$f":"AT33/(AV4-AT25)","v":0},{"$f":"IF(AU33=0,0,(AU33*((LOG(AU33))/LOG(2))))","v":0}]
[12,3775,24,3783,24,3788,23,3795,13,3805,0,12221,null,22122,{"$f":"COUNTIF($L$7:$L$500,N34)","v":1},{"$f":"O34/$Q$4","v":5.5555555555555558E-3},{"$f":"IF(P34=0,0,(P34*((LOG(P34))/LOG(2))))","v":-4.1621406090720417E-2},null,null,{"$f":"N34","v":22122},{"$f":"COUNTIF(L7:L36,T34)","v":0},{"$f":"U34/(W4-U25)","v":0},{"$f":"IF(V34=0,0,(V34*((LOG(V34))/LOG(2))))","v":0},null,{"$f":"N34","v":22122},{"$f":"COUNTIF(L37:L66,Y34)","v":1},{"$f":"Z34/(AB4-Z25)","v":3.3333333333333333E-2},{"$f":"IF(AA34=0,0,(AA34*((LOG(AA34))/LOG(2))))","v":-0.16356301985361729},null,{"$f":"N34","v":22122},{"$f":"COUNTIF(L67:L96,AD34)","v":0},{"$f":"AE34/(AG4-AE25)","v":0},{"$f":"IF(AF34=0,0,(AF34*((LOG(AF34))/LOG(2))))","v":0},null,{"$f":"N34","v":22122},{"$f":"COUNTIF(L97:L126,AI34)","v":0},{"$f":"AJ34/(AL4-AJ25)","v":0},{"$f":"IF(AK34=0,0,(AK34*((LOG(AK34))/LOG(2))))","v":0},null,{"$f":"N34","v":22122},{"$f":"COUNTIF(L127:L156,AN34)","v":0},{"$f":"AO34/(AQ4-AO25)","v":0},{"$f":"IF(AP34=0,0,(AP34*((LOG(AP34))/LOG(2))))","v":0},null,{"$f":"N34","v":22122},{"$f":"COUNTIF(L157:L186,AS34)","v":0},{"$f":"AT34/(AV4-AT25)","v":0},{"$f":"IF(AU34=0,0,(AU34*((LOG(AU34))/LOG(2))))","v":0}]
[12,3912,24,3919,24,3923,14,3934,13,3937,0,12211,null,22211,{"$f":"COUNTIF($L$7:$L$500,N35)","v":6},{"$f":"O35/$Q$4","v":3.3333333333333333E-2},{"$f":"IF(P35=0,0,(P35*((LOG(P35))/LOG(2))))","v":-0.16356301985361729},null,null,{"$f":"N35","v":22211},{"$f":"COUNTIF(L7:L36,T35)","v":3},{"$f":"U35/(W4-U25)","v":0.1},{"$f":"IF(V35=0,0,(V35*((LOG(V35))/LOG(2))))","v":-0.33219280948873625},null,{"$f":"N35","v":22211},{"$f":"COUNTIF(L37:L66,Y35)","v":1},{"$f":"Z35/(AB4-Z25)","v":3.3333333333333333E-2},{"$f":"IF(AA35=0,0,(AA35*((LOG(AA35))/LOG(2))))","v":-0.16356301985361729},null,{"$f":"N35","v":22211},{"$f":"COUNTIF(L67:L96,AD35)","v":1},{"$f":"AE35/(AG4-AE25)","v":3.3333333333333333E-2},{"$f":"IF(AF35=0,0,(AF35*((LOG(AF35))/LOG(2))))","v":-0.16356301985361729},null,{"$f":"N35","v":22211},{"$f":"COUNTIF(L97:L126,AI35)","v":0},{"$f":"AJ35/(AL4-AJ25)","v":0},{"$f":"IF(AK35=0,0,(AK35*((LOG(AK35))/LOG(2))))","v":0},null,{"$f":"N35","v":22211},{"$f":"COUNTIF(L127:L156,AN35)","v":1},{"$f":"AO35/(AQ4-AO25)","v":3.3333333333333333E-2},{"$f":"IF(AP35=0,0,(AP35*((LOG(AP35))/LOG(2))))","v":-0.16356301985361729},null,{"$f":"N35","v":22211},{"$f":"COUNTIF(L157:L186,AS35)","v":0},{"$f":"AT35/(AV4-AT25)","v":0},{"$f":"IF(AU35=0,0,(AU35*((LOG(AU35))/LOG(2))))","v":0}]
[12,4040,24,4047,24,4051,23,4055,13,4065,0,12221,null,22212,{"$f":"COUNTIF($L$7:$L$500,N36)","v":1},{"$f":"O36/$Q$4","v":5.5555555555555558E-3},{"$f":"IF(P36=0,0,(P36*((LOG(P36))/LOG(2))))","v":-4.1621406090720417E-2},null,null,{"$f":"N36","v":22212},{"$f":"COUNTIF(L7:L36,T36)","v":1},{"$f":"U36/(W4-U25)","v":3.3333333333333333E-2},{"$f":"IF(V36=0,0,(V36*((LOG(V36))/LOG(2))))","v":-0.16356301985361729},null,{"$f":"N36","v":22212},{"$f":"COUNTIF(L37:L66,Y36)","v":0},{"$f":"Z36/(AB4-Z25)","v":0},{"$f":"IF(AA36=0,0,(AA36*((LOG(AA36))/LOG(2))))","v":0},null,{"$f":"N36","v":22212},{"$f":"COUNTIF(L67:L96,AD36)","v":0},{"$f":"AE36/(AG4-AE25)","v":0},{"$f":"IF(AF36=0,0,(AF36*((LOG(AF36))/LOG(2))))","v":0},null,{"$f":"N36","v":22212},{"$f":"COUNTIF(L97:L126,AI36)","v":0},{"$f":"AJ36/(AL4-AJ25)","v":0},{"$f":"IF(AK36=0,0,(AK36*((LOG(AK36))/LOG(2))))","v":0},null,{"$f":"N36","v":22212},{"$f":"COUNTIF(L127:L156,AN36)","v":0},{"$f":"AO36/(AQ4-AO25)","v":0},{"$f":"IF(AP36=0,0,(AP36*((LOG(AP36))/LOG(2))))","v":0},null,{"$f":"N36","v":22212},{"$f":"COUNTIF(L157:L186,AS36)","v":0},{"$f":"AT36/(AV4-AT25)","v":0},{"$f":"IF(AU36=0,0,(AU36*((LOG(AU36))/LOG(2))))","v":0}]
[12,4166,13,4173,24,4184,23,4189,13,4199,1,11221,null,22221,{"$f":"COUNTIF($L$7:$L$500,N37)","v":0},{"$f":"O37/$Q$4","v":0},{"$f":"IF(P37=0,0,(P37*((LOG(P37))/LOG(2))))","v":0},null,null,{"$f":"N37","v":22221},{"$f":"COUNTIF(L7:L36,T37)","v":0},{"$f":"U37/(W4-U25)","v":0},{"$f":"IF(V37=0,0,(V37*((LOG(V37))/LOG(2))))","v":0},null,{"$f":"N37","v":22221},{"$f":"COUNTIF(L37:L66,Y37)","v":0},{"$f":"Z37/(AB4-Z25)","v":0},{"$f":"IF(AA37=0,0,(AA37*((LOG(AA37))/LOG(2))))","v":0},null,{"$f":"N37","v":22221},{"$f":"COUNTIF(L67:L96,AD37)","v":0},{"$f":"AE37/(AG4-AE25)","v":0},{"$f":"IF(AF37=0,0,(AF37*((LOG(AF37))/LOG(2))))","v":0},null,{"$f":"N37","v":22221},{"$f":"COUNTIF(L97:L126,AI37)","v":0},{"$f":"AJ37/(AL4-AJ25)","v":0},{"$f":"IF(AK37=0,0,(AK37*((LOG(AK37))/LOG(2))))","v":0},null,{"$f":"N37","v":22221},{"$f":"COUNTIF(L127:L156,AN37)","v":0},{"$f":"AO37/(AQ4-AO25)","v":0},{"$f":"IF(AP37=0,0,(AP37*((LOG(AP37))/LOG(2))))","v":0},null,{"$f":"N37","v":22221},{"$f":"COUNTIF(L157:L186,AS37)","v":0},{"$f":"AT37/(AV4-AT25)","v":0},{"$f":"IF(AU37=0,0,(AU37*((LOG(AU37))/LOG(2))))","v":0}]
[12,4310,24,4317,13,4327,14,4334,13,4345,0,12111,null,22222,{"$f":"COUNTIF($L$7:$L$500,N38)","v":0},{"$f":"O38/$Q$4","v":0},{"$f":"IF(P38=0,0,(P38*((LOG(P38))/LOG(2))))","v":0},null,null,{"$f":"N38","v":22222},{"$f":"COUNTIF(L7:L36,T38)","v":0},{"$f":"U38/(W4-U25)","v":0},{"$f":"IF(V38=0,0,(V38*((LOG(V38))/LOG(2))))","v":0},null,{"$f":"N38","v":22222},{"$f":"COUNTIF(L37:L66,Y38)","v":0},{"$f":"Z38/(AB4-Z25)","v":0},{"$f":"IF(AA38=0,0,(AA38*((LOG(AA38))/LOG(2))))","v":0},null,{"$f":"N38","v":22222},{"$f":"COUNTIF(L67:L96,AD38)","v":0},{"$f":"AE38/(AG4-AE25)","v":0},{"$f":"IF(AF38=0,0,(AF38*((LOG(AF38))/LOG(2))))","v":0},null,{"$f":"N38","v":22222},{"$f":"COUNTIF(L97:L126,AI38)","v":0},{"$f":"AJ38/(AL4-AJ25)","v":0},{"$f":"IF(AK38=0,0,(AK38*((LOG(AK38))/LOG(2))))","v":0},null,{"$f":"N38","v":22222},{"$f":"COUNTIF(L127:L156,AN38)","v":0},{"$f":"AO38/(AQ4-AO25)","v":0},{"$f":"IF(AP38=0,0,(AP38*((LOG(AP38))/LOG(2))))","v":0},null,{"$f":"N38","v":22222},{"$f":"COUNTIF(L157:L186,AS38)","v":0},{"$f":"AT38/(AV4-AT25)","v":0},{"$f":"IF(AU38=0,0,(AU38*((LOG(AU38))/LOG(2))))","v":0}]
[12,4443,13,4447,13,4450,14,4454,13,4458,0,11111,null,null,null,{"$f":"SUM(P7:P38)","v":0.99999999999999978},{"$f":"-SUM(Q7:Q38)","v":3.2784872433240357},null,null,null,null,{"$f":"SUM(V7:V38)","v":0.99999999999999989},{"$f":"-SUM(W7:W38)","v":3.6695767463163937},null,null,null,{"$f":"SUM(AA7:AA38)","v":0.99999999999999989},{"$f":"-SUM(AB7:AB38)","v":1.9247069203554656},null,null,null,{"$f":"SUM(AF7:AF38)","v":0.99999999999999989},{"$f":"-SUM(AG7:AG38)","v":2.6682734124061351},null,null,null,{"$f":"SUM(AK7:AK38)","v":0.99999999999999989},{"$f":"-SUM(AL7:AL38)","v":2.6419460322060453},null,null,null,{"$f":"SUM(AP7:AP38)","v":1},{"$f":"-SUM(AQ7:AQ38)","v":2.3722539283649269},null,null,null,{"$f":"SUM(AU7:AU38)","v":0.99999999999999989},{"$f":"-SUM(AV7:AV38)","v":2.6887126808090409}]
[12,4556,13,4560,13,4564,14,4567,13,4572,1,11111,null,null,null,"U=",{"$f":"Q39/(LOG(Q4)/LOG(2))","v":0.43760698470318321},null,null,null,null,"U1=",{"$f":"W39/(LOG(W4)/LOG(2))","v":0.74784156581777594},null,null,null,"U2=",{"$f":"AB39/(LOG(AB4)/LOG(2))","v":0.39224573746926528},null,null,null,"U3=",{"$f":"AG39/(LOG(AG4)/LOG(2))","v":0.54378090573165394},null,null,null,"U4=",{"$f":"AL39/(LOG(AL4)/LOG(2))","v":0.53841551604400695},null,null,null,"U5=",{"$f":"AQ39/(LOG(AQ4)/LOG(2))","v":0.48345360104176854},null,null,null,"U6=",{"$f":"AV39/(LOG(AV4)/LOG(2))","v":0.54794632739831961}]
[12,4667,13,4671,24,4679,14,4689,13,4695,0,11211]
[12,4793,13,4817,13,4823,14,4833,13,4839,0,11111]
[12,4941,13,4945,13,4949,14,4953,13,4958,0,11111,null,"Total Target Seq"]
[12,5056,13,5064,13,5068,14,5076,13,5085,0,11111,null,{"$f":"COUNTIF(L7:L186,G3)","v":0},null,30,30,30,30,30,30]
[12,5183,13,5186,13,5194,14,5198,13,5203,0,11111,null,null,null,"% of reinforcement given in 6 equal intervals based on number of trials "]
[12,5303,13,5308,13,5316,14,5320,13,5329,1,11111,null,null,null,"%_1","%_2","%_3","%_4","%_5","%_6"]
[21,5426,22,5430,13,5441,23,5448,24,5455,0,22122,null,null,"target sequence",{"$f":"$G$3","v":21121},{"$f":"$G$3","v":21121},{"$f":"$G$3","v":21121},{"$f":"$G$3","v":21121},{"$f":"$G$3","v":21121},{"$f":"$G$3","v":21121}]
[12,5569,13,5577,13,5597,14,5603,13,5609,0,11111,null,null,"total reinforcement",{"$f":"U25","v":0},{"$f":"Z25","v":0},{"$f":"AE25","v":0},{"$f":"AJ25","v":0},{"$f":"AO25","v":0},{"$f":"AT25","v":0}]
[12,5708,13,5712,13,5716,14,5720,13,5727,0,11111,null,null,"% target"]
[12,5828,13,5834,13,5837,14,5841,13,5847,0,11111,null,null,"CCRF"]
[12,5946,13,5949,24,5957,23,5967,13,5974,0,11221,null,null,"% CCRf"]
[12,6072,13,6076,13,6084,14,6088,13,6097,1,11111,null,null,"average response rate",{"$f":"J36/P44","v":135.5},{"$f":"(J66-J36)/Q44","v":128.4},{"$f":"(J96-J66)/R44","v":134.30000000000001},{"$f":"(J126-J96)/S44","v":135.13333333333333},{"$f":"(J156-J126)/T44","v":133.06666666666666},{"$f":"(J186-J156)/U44","v":133.19999999999999}]
[21,6197,22,6202,13,6212,14,6217,13,6221,0,22111]
[12,6318,13,6323,13,6334,14,6339,13,6356,0,11111]
[21,6457,22,6461,24,6466,14,6474,13,6478,0,22211]
[12,6577,13,6581,13,6586,14,6590,13,6612,0,11111]
[12,6711,13,6723,13,6727,14,6731,24,6743,0,11112]
[12,6842,13,6846,24,6859,14,6869,13,6872,1,11211]
[12,6968,13,6973,13,7006,14,7013,13,7019,0,11111]
[12,7121,13,7126,13,7129,14,7133,13,7138,0,11111]
[12,7235,13,7239,13,7248,14,7252,13,7259,0,11111]
[12,7356,13,7361,24,7369,14,7381,13,7385,0,11211]
[12,7484,13,7488,13,7500,14,7505,13,7511,0,11111]
[12,7614,13,7621,13,7624,14,7631,13,7638,0,11111]
[12,7734,13,7742,13,7755,14,7772,13,7777,0,11111]
[12,7880,24,7890,13,7901,14,7910,13,7917,0,12111]
[12,8018,24,8025,24,8029,14,8036,13,8039,0,12211]
[21,8141,11,8153,22,8160,14,8170,13,8174,0,21211]
[12,8277,24,8285,13,8297,14,8301,13,8310,1,12111]
[21,8414,22,8419,24,8430,14,8439,13,8443,0,22211]
[12,8546,24,8554,24,8558,23,8572,13,8583,0,12221]
[12,8695,24,8703,13,8714,14,8719,13,8727,0,12111]
[21,8826,22,8837,13,8848,23,8856,13,8869,1,22121]
[21,8969,22,8974,13,8985,23,8993,13,9003,0,22121]
[21,9103,11,9117,22,9124,14,9134,13,9138,0,21211]
[12,9238,24,9246,24,9266,14,9275,13,9280,0,12211]
[12,9383,24,9390,24,9395,14,9402,13,9406,1,12211]
[21,9507,11,9525,22,9542,14,9551,13,9557,0,21211]
[21,9658,22,9665,13,9672,23,9680,13,9689,1,22121]
[12,9803,13,9807,13,9823,14,9827,13,9836,0,11111]
[12,9936,24,9943,13,9954,23,9962,13,9971,0,12121]
[12,10082,13,10086,13,10090,14,10095,13,10103,0,11111]
[12,10202,24,10215,13,10225,14,10230,13,10240,0,12111]
[12,10345,24,10353,13,10361,14,10365,13,10387,0,12111]
[12,10488,24,10495,13,10505,14,10509,13,10515,0,12111]
[12,10617,24,10625,13,10638,14,10641,13,10648,0,12111]
[12,10750,24,10758,24,10762,14,10772,13,10776,1,12211]
[12,10890,24,10897,13,10907,14,10911,13,10919,0,12111]
[12,11022,24,11029,24,11033,14,11046,13,11051,0,12211]
[12,11154,24,11161,24,11167,14,11174,13,11178,0,12211]
[12,11279,13,11284,13,11287,14,11292,13,11297,0,11111]
[12,11400,13,11404,13,11408,14,11412,13,11415,0,11111]
[12,11519,24,11527,13,11542,14,11548,13,11557,0,12111]
[12,11655,13,11660,13,11670,14,11675,13,11679,0,11111]
[12,11783,24,11790,24,11797,23,11801,13,11820,0,12221]
[12,11919,24,11926,13,11937,14,11941,13,11946,1,12111]
[21,12057,22,12061,13,12085,14,12090,13,12100,1,22111]
[12,12211,13,12228,13,12235,14,12241,13,12256,0,11111]
[12,12358,13,12373,13,12377,14,12381,13,12391,0,11111]
[12,12491,24,12504,24,12514,14,12524,13,12531,0,12211]
[12,12634,24,12641,13,12652,14,12656,13,12660,0,12111]
[21,12765,11,12788,11,12793,12,12800,13,12809,0,21111]
[21,12921,22,12929,13,12943,14,12947,13,12953,0,22111]
[21,13068,22,13072,13,13080,14,13084,13,13091,1,22111]
[21,13192,11,13201,22,13208,14,13219,13,13223,1,21211]
[21,13323,11,13337,22,13344,14,13354,13,13358,1,21211]
[12,13481,24,13489,13,13498,14,13512,13,13522,0,12111]
[12,13625,13,13638,13,13641,14,13646,13,13654,0,11111]
[12,13759,24,13767,24,13772,14,13781,13,13784,0,12211]
[12,13885,24,13893,13,13909,14,13913,13,13919,0,12111]
[12,14029,24,14039,24,14045,14,14055,13,14059,1,12211]
[12,14170,24,14177,13,14189,14,14194,13,14204,0,12111]
[12,14305,24,14312,24,14319,14,14330,13,14334,0,12211]
[21,14435,11,14446,11,14450,12,14454,13,14461,0,21111]
[12,14564,13,14569,13,14573,14,14576,13,14583,0,11111]
[12,14686,24,14693,24,14700,14,14707,13,14711,1,12211]
[12,14810,24,14819,13,14830,14,14834,13,14839,0,12111]
[12,14938,24,14945,24,14949,23,14954,13,14962,0,12221]
[12,15062,13,15066,13,15070,14,15074,13,15082,1,11111]
[21,15177,11,15187,22,15195,23,15200,13,15209,0,21221]
[12,15312,13,15316,13,15320,14,15324,13,15331,0,11111]
[12,15434,13,15439,13,15443,14,15447,13,15453,0,11111]
[12,15556,13,15568,13,15572,14,15576,13,15580,0,11111]
[21,15689,11,15700,11,15704,12,15709,13,15716,1,21111]
[12,15834,13,15841,13,15845,14,15861,13,15869,0,11111]
[12,15975,13,15985,13,15988,14,15993,13,16000,0,11111]
[12,16098,24,16106,13,16116,14,16119,13,16123,0,12111]
[12,16229,13,16235,13,16239,14,16247,13,16253,1,11111]
[12,16350,24,16357,13,16370,14,16375,13,16382,0,12111]
[21,16491,11,16508,11,16512,12,16516,13,16528,1,21111]
[21,16628,22,16632,24,16637,14,16646,13,16654,0,22211]
[12,16756,24,16764,13,16779,14,16782,13,16786,0,12111]
[12,16886,13,16892,24,16899,23,16906,13,16914,0,11221]
[12,17016,13,17020,13,17025,14,17029,13,17033,0,11111]
[12,17133,24,17141,13,17155,14,17159,24,17168,0,12112]
[12,17270,24,17277,13,17294,14,17298,13,17305,0,12111]
[12,17409,24,17417,24,17421,14,17428,13,17432,1,12211]
[12,17551,13,17565,13,17569,14,17580,13,17587,0,11111]
[12,17689,24,17697,13,17709,14,17713,13,17718,0,12111]
[21,17829,11,17836,11,17840,12,17844,13,17851,1,21111]
[21,17962,11,17979,11,17983,12,17990,13,18011,0,21111]
[12,18112,24,18120,24,18125,14,18132,13,18136,0,12211]
[12,18240,13,18245,24,18253,23,18260,13,18270,0,11221]
[12,18373,24,18381,13,18392,14,18396,13,18403,0,12111]
[12,18508,24,18516,13,18525,14,18529,13,18533,0,12111]
[12,18631,13,18647,24,18655,23,18660,13,18668,0,11221]
[12,18766,24,18774,13,18786,14,18790,13,18798,1,12111]
[12,18896,24,18903,24,18908,14,18917,13,18921,0,12211]
[12,19024,13,19028,13,19031,14,19035,13,19039,0,11111]
[12,19137,24,19144,13,19165,14,19169,13,19177,0,12111]
[12,19276,24,19283,13,19291,14,19295,13,19299,0,12111]
[12,19397,13,19406,13,19424,14,19434,13,19441,0,11111]
[12,19548,24,19556,24,19564,14,19572,13,19576,0,12211]
[12,19704,24,19712,13,19722,14,19731,13,19737,0,12111]
[12,19836,13,19846,13,19854,14,19858,13,19864,0,11111]
[12,19966,24,19973,13,19984,14,19988,13,19992,1,12111]
[21,20094,11,20103,22,20111,23,20115,13,20125,1,21221]
[21,20230,22,20235,13,20245,14,20249,13,20259,1,22111]
[12,20378,13,20383,13,20387,14,20394,13,20404,0,11111]
[12,20507,24,20514,24,20526,14,20536,13,20540,0,12211]
[12,20652,13,20656,13,20660,14,20666,13,20673,0,11111]
[12,20777,24,20785,13,20797,14,20801,13,20807,0,12111]
[12,20910,24,20918,24,20933,14,20940,13,20946,0,12211]
[12,21050,24,21057,24,21062,14,21071,13,21075,0,12211]
[12,21177,24,21185,13,21192,14,21196,13,21201,0,12111]
[12,21303,24,21310,24,21318,14,21324,13,21328,0,12211]
[12,21430,13,21441,24,21449,14,21463,13,21467,0,11211]
[12,21570,13,21574,13,21578,14,21582,13,21586,0,11111]
[12,21686,24,21694,13,21701,14,21705,13,21709,1,12111]
[21,21818,11,21826,11,21830,12,21834,13,21842,0,21111]
[12,21943,24,21953,24,21961,14,21967,13,21971,0,12211]
[12,22070,24,22077,13,22095,14,22100,13,22107,0,12111]
[12,22207,13,22211,13,22219,14,22222,13,22226,0,11111]
[12,22330,24,22338,13,22360,14,22365,13,22372,0,12111]
[12,22471,13,22484,13,22488,14,22492,13,22499,0,11111]
[21,22600,22,22617,13,22626,14,22630,13,22644,0,22111]
[12,22747,24,22754,13,22765,23,22773,13,22783,0,12121]
[12,22889,24,22897,13,22917,14,22921,13,22928,0,12111]
[12,23030,24,23037,13,23049,14,23059,13,23066,0,12111]
[12,23170,24,23177,24,23182,14,23198,13,23202,1,12211]
[21,23302,11,23314,22,23321,14,23341,13,23346,0,21211]
[12,23449,24,23456,24,23467,14,23475,13,23479,0,12211]
[12,23580,24,23587,13,23597,14,23601,13,23604,0,12111]
[21,23705,11,23715,11,23718,12,23722,13,23727,0,21111]
[21,23829,22,23836,13,23843,14,23847,13,23852,0,22111]
[12,23956,24,23963,13,23978,14,23981,13,23988,null,12111]

{"sheet":"!N413A50.096","index":19,"n_rows":181,"n_cols":48,"rows_kept":181,"cut":false,"hidden":false,"merged":[[4,39,4,42],[5,39,5,40],[4,44,4,47],[5,44,5,45],[4,24,4,27],[5,24,5,25],[4,29,4,32],[5,29,5,30],[4,34,4,37],[5,34,5,35],[1,1,1,2],[5,13,5,14],[42,13,42,14],[43,13,43,14],[4,19,4,22],[5,19,5,20]]}
["Report for:!N413A50.096"]
["Date:","<date>"]
["Hen:","<hen>",null,null,null,"Correct Sequence",{"$f":"Start!J2","v":21121},null,null,null,null,null,null,null,null,"Total Sequences in Data",{"$f":"4994-COUNTBLANK(L7:L5000)","v":175},null,null,null,null,"Total Sequences in Block Data",{"$f":"COUNTA(L7:L35)","v":29},null,null,null,"Total Sequences in Block Data",{"$f":"COUNTA(L36:L64)","v":29},null,null,null,"Total Sequences in Block Data",{"$f":"COUNTA(L65:L94)","v":30},null,null,null,"Total Sequences in Block Data",{"$f":"COUNTA(L95:L123)","v":29},null,null,null,"Total Sequences in Block Data",{"$f":"COUNTA(L124:L152)","v":29},null,null,null,"Total Sequences in Block Data",{"$f":"COUNTA(L153:L181)","v":29}]
[null,null,null,null,null,null,null,null,null,null,null,null,null,null,null,"Total Sequences in Summary",{"$f":"SUM(O7:O38)","v":175},null,null,null,null,"Total Sequences in Block Summary",{"$f":"SUM(U7:U38)","v":29},null,null,null,"Total Sequences in Block Summary",{"$f":"SUM(Z7:Z38)","v":29},null,null,null,"Total Sequences in Block Summary",{"$f":"SUM(AE7:AE38)","v":30},null,null,null,"Total Sequences in Block Summary",{"$f":"SUM(AJ7:AJ38)","v":29},null,null,null,"Total Sequences in Block Summary",{"$f":"SUM(AO7:AO38)","v":29},null,null,null,"Total Sequences in Block Summary",{"$f":"SUM(AT7:AT38)","v":29}]
[null,null,null,null,null,null,null,null,null,null,null,null,null,null,null,null,null,null,null,"Block 1",null,null,null,null,"Block 2",null,null,null,null,"Block 3",null,null,null,null,"Block 4",null,null,null,null,"Block 5",null,null,null,null,"Block 6"]
["Sequence\nComponent\n1","Time\n1","Sequence\nComponent\n2","Time\n2","Sequence\nComponent\n3","Time\n3","Sequence\nComponent\n4","Time\n4","Sequence\nComponent\n5","Time\n5","Correct?\n0=No 1=Yes","Sequence",null,"Frequency",null,"Relative Frequency","Variability",null,null,"Frequency",null,"Relative Frequency","Variability",null,"Frequency",null,"Relative Frequency","Variability",null,"Frequency",null,"Relative Frequency","Variability",null,"Frequency",null,"Relative Frequency","Variability",null,"Frequency",null,"Relative Frequency","Variability",null,"Frequency",null,"Relative Frequency","Variability"]
[12,6,13,10,24,28,23,45,13,53,0,11221,null,11111,{"$f":"COUNTIF($L$7:$L$500,N7)","v":42},{"$f":"O7/$Q$4","v":0.24},{"$f":"IF(P7=0,0,(P7*((LOG(P7))/LOG(2))))","v":-0.49413448537285637},null,null,{"$f":"N7","v":11111},{"$f":"COUNTIF(L7:L35,T7)","v":2},{"$f":"U7/(W4-U25)","v":6.8965517241379309E-2},{"$f":"IF(V7=0,0,(V7*((LOG(V7))/LOG(2))))","v":-0.26606765483638428},null,{"$f":"N7","v":11111},{"$f":"COUNTIF(L36:L64,Y7)","v":11},{"$f":"Z7/(AB4-Z25)","v":0.37931034482758619},{"$f":"IF(AA7=0,0,(AA7*((LOG(AA7))/LOG(2))))","v":-0.53048424625493174},null,{"$f":"N7","v":11111},{"$f":"COUNTIF(L65:L94,AD7)","v":6},{"$f":"AE7/(AG4-AE25)","v":0.2},{"$f":"IF(AF7=0,0,(AF7*((LOG(AF7))/LOG(2))))","v":-0.46438561897747244},null,{"$f":"N7","v":11111},{"$f":"COUNTIF(L95:L123,AI7)","v":9},{"$f":"AJ7/(AL4-AJ25)","v":0.31034482758620691},{"$f":"IF(AK7=0,0,(AK7*((LOG(AK7))/LOG(2))))","v":-0.52387944631611505},null,{"$f":"N7","v":11111},{"$f":"COUNTIF(L124:L152,AN7)","v":10},{"$f":"AO7/(AQ4-AO25)","v":0.34482758620689657},{"$f":"IF(AP7=0,0,(AP7*((LOG(AP7))/LOG(2))))","v":-0.52967341387593436},null,{"$f":"N7","v":11111},{"$f":"COUNTIF(L153:L181,AS7)","v":4},{"$f":"AT7/(AV4-AT25)","v":0.13793103448275862},{"$f":"IF(AU7=0,0,(AU7*((LOG(AU7))/LOG(2))))","v":-0.39420427519000989}]
[21,151,22,155,24,160,23,164,24,180,0,22222,null,11112,{"$f":"COUNTIF($L$7:$L$500,N8)","v":1},{"$f":"O8/$Q$4","v":5.7142857142857143E-3},{"$f":"IF(P8=0,0,(P8*((LOG(P8))/LOG(2))))","v":-4.2578349210470448E-2},null,null,{"$f":"N8","v":11112},{"$f":"COUNTIF(L7:L35,T8)","v":0},{"$f":"U8/(W4-U25)","v":0},{"$f":"IF(V8=0,0,(V8*((LOG(V8))/LOG(2))))","v":0},null,{"$f":"N8","v":11112},{"$f":"COUNTIF(L36:L64,Y8)","v":0},{"$f":"Z8/(AB4-Z25)","v":0},{"$f":"IF(AA8=0,0,(AA8*((LOG(AA8))/LOG(2))))","v":0},null,{"$f":"N8","v":11112},{"$f":"COUNTIF(L65:L94,AD8)","v":0},{"$f":"AE8/(AG4-AE25)","v":0},{"$f":"IF(AF8=0,0,(AF8*((LOG(AF8))/LOG(2))))","v":0},null,{"$f":"N8","v":11112},{"$f":"COUNTIF(L95:L123,AI8)","v":0},{"$f":"AJ8/(AL4-AJ25)","v":0},{"$f":"IF(AK8=0,0,(AK8*((LOG(AK8))/LOG(2))))","v":0},null,{"$f":"N8","v":11112},{"$f":"COUNTIF(L124:L152,AN8)","v":1},{"$f":"AO8/(AQ4-AO25)","v":3.4482758620689655E-2},{"$f":"IF(AP8=0,0,(AP8*((LOG(AP8))/LOG(2))))","v":-0.16751658603888178},null,{"$f":"N8","v":11112},{"$f":"COUNTIF(L153:L181,AS8)","v":0},{"$f":"AT8/(AV4-AT25)","v":0},{"$f":"IF(AU8=0,0,(AU8*((LOG(AU8))/LOG(2))))","v":0}]
[12,280,24,289,24,294,23,301,13,309,0,12221,null,11121,{"$f":"COUNTIF($L$7:$L$500,N9)","v":2},{"$f":"O9/$Q$4","v":1.1428571428571429E-2},{"$f":"IF(P9=0,0,(P9*((LOG(P9))/LOG(2))))","v":-7.3728126992369469E-2},null,null,{"$f":"N9","v":11121},{"$f":"COUNTIF(L7:L35,T9)","v":0},{"$f":"U9/(W4-U25)","v":0},{"$f":"IF(V9=0,0,(V9*((LOG(V9))/LOG(2))))","v":0},null,{"$f":"N9","v":11121},{"$f":"COUNTIF(L36:L64,Y9)","v":1},{"$f":"Z9/(AB4-Z25)","v":3.4482758620689655E-2},{"$f":"IF(AA9=0,0,(AA9*((LOG(AA9))/LOG(2))))","v":-0.16751658603888178},null,{"$f":"N9","v":11121},{"$f":"COUNTIF(L65:L94,AD9)","v":0},{"$f":"AE9/(AG4-AE25)","v":0},{"$f":"IF(AF9=0,0,(AF9*((LOG(AF9))/LOG(2))))","v":0},null,{"$f":"N9","v":11121},{"$f":"COUNTIF(L95:L123,AI9)","v":0},{"$f":"AJ9/(AL4-AJ25)","v":0},{"$f":"IF(AK9=0,0,(AK9*((LOG(AK9))/LOG(2))))","v":0},null,{"$f":"N9","v":11121},{"$f":"COUNTIF(L124:L152,AN9)","v":0},{"$f":"AO9/(AQ4-AO25)","v":0},{"$f":"IF(AP9=0,0,(AP9*((LOG(AP9))/LOG(2))))","v":0},null,{"$f":"N9","v":11121},{"$f":"COUNTIF(L153:L181,AS9)","v":1},{"$f":"AT9/(AV4-AT25)","v":3.4482758620689655E-2},{"$f":"IF(AU9=0,0,(AU9*((LOG(AU9))/LOG(2))))","v":-0.16751658603888178}]
[12,408,13,414,13,422,14,426,13,434,0,11111,null,11122,{"$f":"COUNTIF($L$7:$L$500,N10)","v":0},{"$f":"O10/$Q$4","v":0},{"$f":"IF(P10=0,0,(P10*((LOG(P10))/LOG(2))))","v":0},null,null,{"$f":"N10","v":11122},{"$f":"COUNTIF(L7:L35,T10)","v":0},{"$f":"U10/(W4-U25)","v":0},{"$f":"IF(V10=0,0,(V10*((LOG(V10))/LOG(2))))","v":0},null,{"$f":"N10","v":11122},{"$f":"COUNTIF(L36:L64,Y10)","v":0},{"$f":"Z10/(AB4-Z25)","v":0},{"$f":"IF(AA10=0,0,(AA10*((LOG(AA10))/LOG(2))))","v":0},null,{"$f":"N10","v":11122},{"$f":"COUNTIF(L65:L94,AD10)","v":0},{"$f":"AE10/(AG4-AE25)","v":0},{"$f":"IF(AF10=0,0,(AF10*((LOG(AF10))/LOG(2))))","v":0},null,{"$f":"N10","v":11122},{"$f":"COUNTIF(L95:L123,AI10)","v":0},{"$f":"AJ10/(AL4-AJ25)","v":0},{"$f":"IF(AK10=0,0,(AK10*((LOG(AK10))/LOG(2))))","v":0},null,{"$f":"N10","v":11122},{"$f":"COUNTIF(L124:L152,AN10)","v":0},{"$f":"AO10/(AQ4-AO25)","v":0},{"$f":"IF(AP10=0,0,(AP10*((LOG(AP10))/LOG(2))))","v":0},null,{"$f":"N10","v":11122},{"$f":"COUNTIF(L153:L181,AS10)","v":0},{"$f":"AT10/(AV4-AT25)","v":0},{"$f":"IF(AU10=0,0,(AU10*((LOG(AU10))/LOG(2))))","v":0}]
[21,536,22,541,13,551,14,555,13,559,0,22111,null,11211,{"$f":"COUNTIF($L$7:$L$500,N11)","v":5},{"$f":"O11/$Q$4","v":2.8571428571428571E-2},{"$f":"IF(P11=0,0,(P11*((LOG(P11))/LOG(2))))","v":-0.14655094334128474},null,null,{"$f":"N11","v":11211},{"$f":"COUNTIF(L7:L35,T11)","v":0},{"$f":"U11/(W4-U25)","v":0},{"$f":"IF(V11=0,0,(V11*((LOG(V11))/LOG(2))))","v":0},null,{"$f":"N11","v":11211},{"$f":"COUNTIF(L36:L64,Y11)","v":1},{"$f":"Z11/(AB4-Z25)","v":3.4482758620689655E-2},{"$f":"IF(AA11=0,0,(AA11*((LOG(AA11))/LOG(2))))","v":-0.16751658603888178},null,{"$f":"N11","v":11211},{"$f":"COUNTIF(L65:L94,AD11)","v":1},{"$f":"AE11/(AG4-AE25)","v":3.3333333333333333E-2},{"$f":"IF(AF11=0,0,(AF11*((LOG(AF11))/LOG(2))))","v":-0.16356301985361729},null,{"$f":"N11","v":11211},{"$f":"COUNTIF(L95:L123,AI11)","v":0},{"$f":"AJ11/(AL4-AJ25)","v":0},{"$f":"IF(AK11=0,0,(AK11*((LOG(AK11))/LOG(2))))","v":0},null,{"$f":"N11","v":11211},{"$f":"COUNTIF(L124:L152,AN11)","v":3},{"$f":"AO11/(AQ4-AO25)","v":0.10344827586206896},{"$f":"IF(AP11=0,0,(AP11*((LOG(AP11))/LOG(2))))","v":-0.33858812011100858},null,{"$f":"N11","v":11211},{"$f":"COUNTIF(L153:L181,AS11)","v":0},{"$f":"AT11/(AV4-AT25)","v":0},{"$f":"IF(AU11=0,0,(AU11*((LOG(AU11))/LOG(2))))","v":0}]
[21,675,11,686,11,690,12,703,13,724,0,21111,null,11212,{"$f":"COUNTIF($L$7:$L$500,N12)","v":0},{"$f":"O12/$Q$4","v":0},{"$f":"IF(P12=0,0,(P12*((LOG(P12))/LOG(2))))","v":0},null,null,{"$f":"N12","v":11212},{"$f":"COUNTIF(L7:L35,T12)","v":0},{"$f":"U12/(W4-U25)","v":0},{"$f":"IF(V12=0,0,(V12*((LOG(V12))/LOG(2))))","v":0},null,{"$f":"N12","v":11212},{"$f":"COUNTIF(L36:L64,Y12)","v":0},{"$f":"Z12/(AB4-Z25)","v":0},{"$f":"IF(AA12=0,0,(AA12*((LOG(AA12))/LOG(2))))","v":0},null,{"$f":"N12","v":11212},{"$f":"COUNTIF(L65:L94,AD12)","v":0},{"$f":"AE12/(AG4-AE25)","v":0},{"$f":"IF(AF12=0,0,(AF12*((LOG(AF12))/LOG(2))))","v":0},null,{"$f":"N12","v":11212},{"$f":"COUNTIF(L95:L123,AI12)","v":0},{"$f":"AJ12/(AL4-AJ25)","v":0},{"$f":"IF(AK12=0,0,(AK12*((LOG(AK12))/LOG(2))))","v":0},null,{"$f":"N12","v":11212},{"$f":"COUNTIF(L124:L152,AN12)","v":0},{"$f":"AO12/(AQ4-AO25)","v":0},{"$f":"IF(AP12=0,0,(AP12*((LOG(AP12))/LOG(2))))","v":0},null,{"$f":"N12","v":11212},{"$f":"COUNTIF(L153:L181,AS12)","v":0},{"$f":"AT12/(AV4-AT25)","v":0},{"$f":"IF(AU12=0,0,(AU12*((LOG(AU12))/LOG(2))))","v":0}]
[12,829,24,838,24,842,23,846,13,857,0,12221,null,11221,{"$f":"COUNTIF($L$7:$L$500,N13)","v":2},{"$f":"O13/$Q$4","v":1.1428571428571429E-2},{"$f":"IF(P13=0,0,(P13*((LOG(P13))/LOG(2))))","v":-7.3728126992369469E-2},null,null,{"$f":"N13","v":11221},{"$f":"COUNTIF(L7:L35,T13)","v":2},{"$f":"U13/(W4-U25)","v":6.8965517241379309E-2},{"$f":"IF(V13=0,0,(V13*((LOG(V13))/LOG(2))))","v":-0.26606765483638428},null,{"$f":"N13","v":11221},{"$f":"COUNTIF(L36:L64,Y13)","v":0},{"$f":"Z13/(AB4-Z25)","v":0},{"$f":"IF(AA13=0,0,(AA13*((LOG(AA13))/LOG(2))))","v":0},null,{"$f":"N13","v":11221},{"$f":"COUNTIF(L65:L94,AD13)","v":0},{"$f":"AE13/(AG4-AE25)","v":0},{"$f":"IF(AF13=0,0,(AF13*((LOG(AF13))/LOG(2))))","v":0},null,{"$f":"N13","v":11221},{"$f":"COUNTIF(L95:L123,AI13)","v":0},{"$f":"AJ13/(AL4-AJ25)","v":0},{"$f":"IF(AK13=0,0,(AK13*((LOG(AK13))/LOG(2))))","v":0},null,{"$f":"N13","v":11221},{"$f":"COUNTIF(L124:L152,AN13)","v":0},{"$f":"AO13/(AQ4-AO25)","v":0},{"$f":"IF(AP13=0,0,(AP13*((LOG(AP13))/LOG(2))))","v":0},null,{"$f":"N13","v":11221},{"$f":"COUNTIF(L153:L181,AS13)","v":0},{"$f":"AT13/(AV4-AT25)","v":0},{"$f":"IF(AU13=0,0,(AU13*((LOG(AU13))/LOG(2))))","v":0}]
[21,958,11,970,22,977,14,986,13,991,0,21211,null,11222,{"$f":"COUNTIF($L$7:$L$500,N14)","v":0},{"$f":"O14/$Q$4","v":0},{"$f":"IF(P14=0,0,(P14*((LOG(P14))/LOG(2))))","v":0},null,null,{"$f":"N14","v":11222},{"$f":"COUNTIF(L7:L35,T14)","v":0},{"$f":"U14/(W4-U25)","v":0},{"$f":"IF(V14=0,0,(V14*((LOG(V14))/LOG(2))))","v":0},null,{"$f":"N14","v":11222},{"$f":"COUNTIF(L36:L64,Y14)","v":0},{"$f":"Z14/(AB4-Z25)","v":0},{"$f":"IF(AA14=0,0,(AA14*((LOG(AA14))/LOG(2))))","v":0},null,{"$f":"N14","v":11222},{"$f":"COUNTIF(L65:L94,AD14)","v":0},{"$f":"AE14/(AG4-AE25)","v":0},{"$f":"IF(AF14=0,0,(AF14*((LOG(AF14))/LOG(2))))","v":0},null,{"$f":"N14","v":11222},{"$f":"COUNTIF(L95:L123,AI14)","v":0},{"$f":"AJ14/(AL4-AJ25)","v":0},{"$f":"IF(AK14=0,0,(AK14*((LOG(AK14))/LOG(2))))","v":0},null,{"$f":"N14","v":11222},{"$f":"COUNTIF(L124:L152,AN14)","v":0},{"$f":"AO14/(AQ4-AO25)","v":0},{"$f":"IF(AP14=0,0,(AP14*((LOG(AP14))/LOG(2))))","v":0},null,{"$f":"N14","v":11222},{"$f":"COUNTIF(L153:L181,AS14)","v":0},{"$f":"AT14/(AV4-AT25)","v":0},{"$f":"IF(AU14=0,0,(AU14*((LOG(AU14))/LOG(2))))","v":0}]
[21,1091,22,1097,13,1105,14,1112,13,1116,1,22111,null,12111,{"$f":"COUNTIF($L$7:$L$500,N15)","v":31},{"$f":"O15/$Q$4","v":0.17714285714285713},{"$f":"IF(P15=0,0,(P15*((LOG(P15))/LOG(2))))","v":-0.44232833625605178},null,null,{"$f":"N15","v":12111},{"$f":"COUNTIF(L7:L35,T15)","v":5},{"$f":"U15/(W4-U25)","v":0.17241379310344829},{"$f":"IF(V15=0,0,(V15*((LOG(V15))/LOG(2))))","v":-0.43725050004141547},null,{"$f":"N15","v":12111},{"$f":"COUNTIF(L36:L64,Y15)","v":3},{"$f":"Z15/(AB4-Z25)","v":0.10344827586206896},{"$f":"IF(AA15=0,0,(AA15*((LOG(AA15))/LOG(2))))","v":-0.33858812011100858},null,{"$f":"N15","v":12111},{"$f":"COUNTIF(L65:L94,AD15)","v":5},{"$f":"AE15/(AG4-AE25)","v":0.16666666666666666},{"$f":"IF(AF15=0,0,(AF15*((LOG(AF15))/LOG(2))))","v":-0.43082708345352599},null,{"$f":"N15","v":12111},{"$f":"COUNTIF(L95:L123,AI15)","v":8},{"$f":"AJ15/(AL4-AJ25)","v":0.27586206896551724},{"$f":"IF(AK15=0,0,(AK15*((LOG(AK15))/LOG(2))))","v":-0.51254648141450265},null,{"$f":"N15","v":12111},{"$f":"COUNTIF(L124:L152,AN15)","v":5},{"$f":"AO15/(AQ4-AO25)","v":0.17241379310344829},{"$f":"IF(AP15=0,0,(AP15*((LOG(AP15))/LOG(2))))","v":-0.43725050004141547},null,{"$f":"N15","v":12111},{"$f":"COUNTIF(L153:L181,AS15)","v":5},{"$f":"AT15/(AV4-AT25)","v":0.17241379310344829},{"$f":"IF(AU15=0,0,(AU15*((LOG(AU15))/LOG(2))))","v":-0.43725050004141547}]
[21,1214,22,1219,24,1223,23,1228,13,1243,0,22221,null,12112,{"$f":"COUNTIF($L$7:$L$500,N16)","v":0},{"$f":"O16/$Q$4","v":0},{"$f":"IF(P16=0,0,(P16*((LOG(P16))/LOG(2))))","v":0},null,null,{"$f":"N16","v":12112},{"$f":"COUNTIF(L7:L35,T16)","v":0},{"$f":"U16/(W4-U25)","v":0},{"$f":"IF(V16=0,0,(V16*((LOG(V16))/LOG(2))))","v":0},null,{"$f":"N16","v":12112},{"$f":"COUNTIF(L36:L64,Y16)","v":0},{"$f":"Z16/(AB4-Z25)","v":0},{"$f":"IF(AA16=0,0,(AA16*((LOG(AA16))/LOG(2))))","v":0},null,{"$f":"N16","v":12112},{"$f":"COUNTIF(L65:L94,AD16)","v":0},{"$f":"AE16/(AG4-AE25)","v":0},{"$f":"IF(AF16=0,0,(AF16*((LOG(AF16))/LOG(2))))","v":0},null,{"$f":"N16","v":12112},{"$f":"COUNTIF(L95:L123,AI16)","v":0},{"$f":"AJ16/(AL4-AJ25)","v":0},{"$f":"IF(AK16=0,0,(AK16*((LOG(AK16))/LOG(2))))","v":0},null,{"$f":"N16","v":12112},{"$f":"COUNTIF(L124:L152,AN16)","v":0},{"$f":"AO16/(AQ4-AO25)","v":0},{"$f":"IF(AP16=0,0,(AP16*((LOG(AP16))/LOG(2))))","v":0},null,{"$f":"N16","v":12112},{"$f":"COUNTIF(L153:L181,AS16)","v":0},{"$f":"AT16/(AV4-AT25)","v":0},{"$f":"IF(AU16=0,0,(AU16*((LOG(AU16))/LOG(2))))","v":0}]
[21,1342,22,1347,24,1352,14,1362,13,1366,0,22211,null,12121,{"$f":"COUNTIF($L$7:$L$500,N17)","v":0},{"$f":"O17/$Q$4","v":0},{"$f":"IF(P17=0,0,(P17*((LOG(P17))/LOG(2))))","v":0},null,null,{"$f":"N17","v":12121},{"$f":"COUNTIF(L7:L35,T17)","v":0},{"$f":"U17/(W4-U25)","v":0},{"$f":"IF(V17=0,0,(V17*((LOG(V17))/LOG(2))))","v":0},null,{"$f":"N17","v":12121},{"$f":"COUNTIF(L36:L64,Y17)","v":0},{"$f":"Z17/(AB4-Z25)","v":0},{"$f":"IF(AA17=0,0,(AA17*((LOG(AA17))/LOG(2))))","v":0},null,{"$f":"N17","v":12121},{"$f":"COUNTIF(L65:L94,AD17)","v":0},{"$f":"AE17/(AG4-AE25)","v":0},{"$f":"IF(AF17=0,0,(AF17*((LOG(AF17))/LOG(2))))","v":0},null,{"$f":"N17","v":12121},{"$f":"COUNTIF(L95:L123,AI17)","v":0},{"$f":"AJ17/(AL4-AJ25)","v":0},{"$f":"IF(AK17=0,0,(AK17*((LOG(AK17))/LOG(2))))","v":0},null,{"$f":"N17","v":12121},{"$f":"COUNTIF(L124:L152,AN17)","v":0},{"$f":"AO17/(AQ4-AO25)","v":0},{"$f":"IF(AP17=0,0,(AP17*((LOG(AP17))/LOG(2))))","v":0},null,{"$f":"N17","v":12121},{"$f":"COUNTIF(L153:L181,AS17)","v":0},{"$f":"AT17/(AV4-AT25)","v":0},{"$f":"IF(AU17=0,0,(AU17*((LOG(AU17))/LOG(2))))","v":0}]
[21,1465,22,1469,24,1473,23,1477,13,1492,0,22221,null,12122,{"$f":"COUNTIF($L$7:$L$500,N18)","v":0},{"$f":"O18/$Q$4","v":0},{"$f":"IF(P18=0,0,(P18*((LOG(P18))/LOG(2))))","v":0},null,null,{"$f":"N18","v":12122},{"$f":"COUNTIF(L7:L35,T18)","v":0},{"$f":"U18/(W4-U25)","v":0},{"$f":"IF(V18=0,0,(V18*((LOG(V18))/LOG(2))))","v":0},null,{"$f":"N18","v":12122},{"$f":"COUNTIF(L36:L64,Y18)","v":0},{"$f":"Z18/(AB4-Z25)","v":0},{"$f":"IF(AA18=0,0,(AA18*((LOG(AA18))/LOG(2))))","v":0},null,{"$f":"N18","v":12122},{"$f":"COUNTIF(L65:L94,AD18)","v":0},{"$f":"AE18/(AG4-AE25)","v":0},{"$f":"IF(AF18=0,0,(AF18*((LOG(AF18))/LOG(2))))","v":0},null,{"$f":"N18","v":12122},{"$f":"COUNTIF(L95:L123,AI18)","v":0},{"$f":"AJ18/(AL4-AJ25)","v":0},{"$f":"IF(AK18=0,0,(AK18*((LOG(AK18))/LOG(2))))","v":0},null,{"$f":"N18","v":12122},{"$f":"COUNTIF(L124:L152,AN18)","v":0},{"$f":"AO18/(AQ4-AO25)","v":0},{"$f":"IF(AP18=0,0,(AP18*((LOG(AP18))/LOG(2))))","v":0},null,{"$f":"N18","v":12122},{"$f":"COUNTIF(L153:L181,AS18)","v":0},{"$f":"AT18/(AV4-AT25)","v":0},{"$f":"IF(AU18=0,0,(AU18*((LOG(AU18))/LOG(2))))","v":0}]
[21,1593,22,1604,13,1616,14,1620,13,1628,1,22111,null,12211,{"$f":"COUNTIF($L$7:$L$500,N19)","v":29},{"$f":"O19/$Q$4","v":0.1657142857142857},{"$f":"IF(P19=0,0,(P19*((LOG(P19))/LOG(2))))","v":-0.42973527648250248},null,null,{"$f":"N19","v":12211},{"$f":"COUNTIF(L7:L35,T19)","v":2},{"$f":"U19/(W4-U25)","v":6.8965517241379309E-2},{"$f":"IF(V19=0,0,(V19*((LOG(V19))/LOG(2))))","v":-0.26606765483638428},null,{"$f":"N19","v":12211},{"$f":"COUNTIF(L36:L64,Y19)","v":8},{"$f":"Z19/(AB4-Z25)","v":0.27586206896551724},{"$f":"IF(AA19=0,0,(AA19*((LOG(AA19))/LOG(2))))","v":-0.51254648141450265},null,{"$f":"N19","v":12211},{"$f":"COUNTIF(L65:L94,AD19)","v":6},{"$f":"AE19/(AG4-AE25)","v":0.2},{"$f":"IF(AF19=0,0,(AF19*((LOG(AF19))/LOG(2))))","v":-0.46438561897747244},null,{"$f":"N19","v":12211},{"$f":"COUNTIF(L95:L123,AI19)","v":2},{"$f":"AJ19/(AL4-AJ25)","v":6.8965517241379309E-2},{"$f":"IF(AK19=0,0,(AK19*((LOG(AK19))/LOG(2))))","v":-0.26606765483638428},null,{"$f":"N19","v":12211},{"$f":"COUNTIF(L124:L152,AN19)","v":5},{"$f":"AO19/(AQ4-AO25)","v":0.17241379310344829},{"$f":"IF(AP19=0,0,(AP19*((LOG(AP19))/LOG(2))))","v":-0.43725050004141547},null,{"$f":"N19","v":12211},{"$f":"COUNTIF(L153:L181,AS19)","v":6},{"$f":"AT19/(AV4-AT25)","v":0.20689655172413793},{"$f":"IF(AU19=0,0,(AU19*((LOG(AU19))/LOG(2))))","v":-0.4702796884978791}]
[21,1729,22,1733,24,1743,14,1755,13,1759,0,22211,null,12212,{"$f":"COUNTIF($L$7:$L$500,N20)","v":0},{"$f":"O20/$Q$4","v":0},{"$f":"IF(P20=0,0,(P20*((LOG(P20))/LOG(2))))","v":0},null,null,{"$f":"N20","v":12212},{"$f":"COUNTIF(L7:L35,T20)","v":0},{"$f":"U20/(W4-U25)","v":0},{"$f":"IF(V20=0,0,(V20*((LOG(V20))/LOG(2))))","v":0},null,{"$f":"N20","v":12212},{"$f":"COUNTIF(L36:L64,Y20)","v":0},{"$f":"Z20/(AB4-Z25)","v":0},{"$f":"IF(AA20=0,0,(AA20*((LOG(AA20))/LOG(2))))","v":0},null,{"$f":"N20","v":12212},{"$f":"COUNTIF(L65:L94,AD20)","v":0},{"$f":"AE20/(AG4-AE25)","v":0},{"$f":"IF(AF20=0,0,(AF20*((LOG(AF20))/LOG(2))))","v":0},null,{"$f":"N20","v":12212},{"$f":"COUNTIF(L95:L123,AI20)","v":0},{"$f":"AJ20/(AL4-AJ25)","v":0},{"$f":"IF(AK20=0,0,(AK20*((LOG(AK20))/LOG(2))))","v":0},null,{"$f":"N20","v":12212},{"$f":"COUNTIF(L124:L152,AN20)","v":0},{"$f":"AO20/(AQ4-AO25)","v":0},{"$f":"IF(AP20=0,0,(AP20*((LOG(AP20))/LOG(2))))","v":0},null,{"$f":"N20","v":12212},{"$f":"COUNTIF(L153:L181,AS20)","v":0},{"$f":"AT20/(AV4-AT25)","v":0},{"$f":"IF(AU20=0,0,(AU20*((LOG(AU20))/LOG(2))))","v":0}]
[12,1863,24,1872,24,1884,14,1894,13,1898,0,12211,null,12221,{"$f":"COUNTIF($L$7:$L$500,N21)","v":14},{"$f":"O21/$Q$4","v":0.08},{"$f":"IF(P21=0,0,(P21*((LOG(P21))/LOG(2))))","v":-0.29150849518197797},null,null,{"$f":"N21","v":12221},{"$f":"COUNTIF(L7:L35,T21)","v":4},{"$f":"U21/(W4-U25)","v":0.13793103448275862},{"$f":"IF(V21=0,0,(V21*((LOG(V21))/LOG(2))))","v":-0.39420427519000989},null,{"$f":"N21","v":12221},{"$f":"COUNTIF(L36:L64,Y21)","v":1},{"$f":"Z21/(AB4-Z25)","v":3.4482758620689655E-2},{"$f":"IF(AA21=0,0,(AA21*((LOG(AA21))/LOG(2))))","v":-0.16751658603888178},null,{"$f":"N21","v":12221},{"$f":"COUNTIF(L65:L94,AD21)","v":3},{"$f":"AE21/(AG4-AE25)","v":0.1},{"$f":"IF(AF21=0,0,(AF21*((LOG(AF21))/LOG(2))))","v":-0.33219280948873625},null,{"$f":"N21","v":12221},{"$f":"COUNTIF(L95:L123,AI21)","v":1},{"$f":"AJ21/(AL4-AJ25)","v":3.4482758620689655E-2},{"$f":"IF(AK21=0,0,(AK21*((LOG(AK21))/LOG(2))))","v":-0.16751658603888178},null,{"$f":"N21","v":12221},{"$f":"COUNTIF(L124:L152,AN21)","v":2},{"$f":"AO21/(AQ4-AO25)","v":6.8965517241379309E-2},{"$f":"IF(AP21=0,0,(AP21*((LOG(AP21))/LOG(2))))","v":-0.26606765483638428},null,{"$f":"N21","v":12221},{"$f":"COUNTIF(L153:L181,AS21)","v":3},{"$f":"AT21/(AV4-AT25)","v":0.10344827586206896},{"$f":"IF(AU21=0,0,(AU21*((LOG(AU21))/LOG(2))))","v":-0.33858812011100858}]
[12,2003,24,2012,24,2017,14,2026,13,2031,0,12211,null,12222,{"$f":"COUNTIF($L$7:$L$500,N22)","v":2},{"$f":"O22/$Q$4","v":1.1428571428571429E-2},{"$f":"IF(P22=0,0,(P22*((LOG(P22))/LOG(2))))","v":-7.3728126992369469E-2},null,null,{"$f":"N22","v":12222},{"$f":"COUNTIF(L7:L35,T22)","v":0},{"$f":"U22/(W4-U25)","v":0},{"$f":"IF(V22=0,0,(V22*((LOG(V22))/LOG(2))))","v":0},null,{"$f":"N22","v":12222},{"$f":"COUNTIF(L36:L64,Y22)","v":0},{"$f":"Z22/(AB4-Z25)","v":0},{"$f":"IF(AA22=0,0,(AA22*((LOG(AA22))/LOG(2))))","v":0},null,{"$f":"N22","v":12222},{"$f":"COUNTIF(L65:L94,AD22)","v":1},{"$f":"AE22/(AG4-AE25)","v":3.3333333333333333E-2},{"$f":"IF(AF22=0,0,(AF22*((LOG(AF22))/LOG(2))))","v":-0.16356301985361729},null,{"$f":"N22","v":12222},{"$f":"COUNTIF(L95:L123,AI22)","v":1},{"$f":"AJ22/(AL4-AJ25)","v":3.4482758620689655E-2},{"$f":"IF(AK22=0,0,(AK22*((LOG(AK22))/LOG(2))))","v":-0.16751658603888178},null,{"$f":"N22","v":12222},{"$f":"COUNTIF(L124:L152,AN22)","v":0},{"$f":"AO22/(AQ4-AO25)","v":0},{"$f":"IF(AP22=0,0,(AP22*((LOG(AP22))/LOG(2))))","v":0},null,{"$f":"N22","v":12222},{"$f":"COUNTIF(L153:L181,AS22)","v":0},{"$f":"AT22/(AV4-AT25)","v":0},{"$f":"IF(AU22=0,0,(AU22*((LOG(AU22))/LOG(2))))","v":0}]
[21,2133,22,2137,24,2142,14,2152,13,2156,0,22211,null,21111,{"$f":"COUNTIF($L$7:$L$500,N23)","v":8},{"$f":"O23/$Q$4","v":4.5714285714285714E-2},{"$f":"IF(P23=0,0,(P23*((LOG(P23))/LOG(2))))","v":-0.20348393654090646},null,null,{"$f":"N23","v":21111},{"$f":"COUNTIF(L7:L35,T23)","v":1},{"$f":"U23/(W4-U25)","v":3.4482758620689655E-2},{"$f":"IF(V23=0,0,(V23*((LOG(V23))/LOG(2))))","v":-0.16751658603888178},null,{"$f":"N23","v":21111},{"$f":"COUNTIF(L36:L64,Y23)","v":1},{"$f":"Z23/(AB4-Z25)","v":3.4482758620689655E-2},{"$f":"IF(AA23=0,0,(AA23*((LOG(AA23))/LOG(2))))","v":-0.16751658603888178},null,{"$f":"N23","v":21111},{"$f":"COUNTIF(L65:L94,AD23)","v":2},{"$f":"AE23/(AG4-AE25)","v":6.6666666666666666E-2},{"$f":"IF(AF23=0,0,(AF23*((LOG(AF23))/LOG(2))))","v":-0.26045937304056793},null,{"$f":"N23","v":21111},{"$f":"COUNTIF(L95:L123,AI23)","v":0},{"$f":"AJ23/(AL4-AJ25)","v":0},{"$f":"IF(AK23=0,0,(AK23*((LOG(AK23))/LOG(2))))","v":0},null,{"$f":"N23","v":21111},{"$f":"COUNTIF(L124:L152,AN23)","v":3},{"$f":"AO23/(AQ4-AO25)","v":0.10344827586206896},{"$f":"IF(AP23=0,0,(AP23*((LOG(AP23))/LOG(2))))","v":-0.33858812011100858},null,{"$f":"N23","v":21111},{"$f":"COUNTIF(L153:L181,AS23)","v":1},{"$f":"AT23/(AV4-AT25)","v":3.4482758620689655E-2},{"$f":"IF(AU23=0,0,(AU23*((LOG(AU23))/LOG(2))))","v":-0.16751658603888178}]
[12,2258,24,2270,13,2283,14,2289,13,2304,0,12111,null,21112,{"$f":"COUNTIF($L$7:$L$500,N24)","v":0},{"$f":"O24/$Q$4","v":0},{"$f":"IF(P24=0,0,(P24*((LOG(P24))/LOG(2))))","v":0},null,null,{"$f":"N24","v":21112},{"$f":"COUNTIF(L7:L35,T24)","v":0},{"$f":"U24/(W4-U25)","v":0},{"$f":"IF(V24=0,0,(V24*((LOG(V24))/LOG(2))))","v":0},null,{"$f":"N24","v":21112},{"$f":"COUNTIF(L36:L64,Y24)","v":0},{"$f":"Z24/(AB4-Z25)","v":0},{"$f":"IF(AA24=0,0,(AA24*((LOG(AA24))/LOG(2))))","v":0},null,{"$f":"N24","v":21112},{"$f":"COUNTIF(L65:L94,AD24)","v":0},{"$f":"AE24/(AG4-AE25)","v":0},{"$f":"IF(AF24=0,0,(AF24*((LOG(AF24))/LOG(2))))","v":0},null,{"$f":"N24","v":21112},{"$f":"COUNTIF(L95:L123,AI24)","v":0},{"$f":"AJ24/(AL4-AJ25)","v":0},{"$f":"IF(AK24=0,0,(AK24*((LOG(AK24))/LOG(2))))","v":0},null,{"$f":"N24","v":21112},{"$f":"COUNTIF(L124:L152,AN24)","v":0},{"$f":"AO24/(AQ4-AO25)","v":0},{"$f":"IF(AP24=0,0,(AP24*((LOG(AP24))/LOG(2))))","v":0},null,{"$f":"N24","v":21112},{"$f":"COUNTIF(L153:L181,AS24)","v":0},{"$f":"AT24/(AV4-AT25)","v":0},{"$f":"IF(AU24=0,0,(AU24*((LOG(AU24))/LOG(2))))","v":0}]
[12,2405,24,2424,13,2431,14,2435,13,2451,1,12111,null,21121,{"$f":"COUNTIF($L$7:$L$500,N25)","v":0},{"$f":"O25/$Q$4","v":0},{"$f":"IF(P25=0,0,(P25*((LOG(P25))/LOG(2))))","v":0},null,null,{"$f":"N25","v":21121},{"$f":"COUNTIF(L7:L35,T25)","v":0},null,null,null,{"$f":"N25","v":21121},{"$f":"COUNTIF(L36:L64,Y25)","v":0},null,null,null,{"$f":"N25","v":21121},{"$f":"COUNTIF(L65:L94,AD25)","v":0},null,null,null,{"$f":"N25","v":21121},{"$f":"COUNTIF(L95:L123,AI25)","v":0},null,null,null,{"$f":"N25","v":21121},{"$f":"COUNTIF(L124:L152,AN25)","v":0},null,null,null,{"$f":"N25","v":21121},{"$f":"COUNTIF(L153:L181,AS25)","v":0}]
[21,2543,22,2550,24,2555,23,2564,13,2573,0,22221,null,21122,{"$f":"COUNTIF($L$7:$L$500,N26)","v":0},{"$f":"O26/$Q$4","v":0},{"$f":"IF(P26=0,0,(P26*((LOG(P26))/LOG(2))))","v":0},null,null,{"$f":"N26","v":21122},{"$f":"COUNTIF(L7:L35,T26)","v":0},{"$f":"U26/(W4-U25)","v":0},{"$f":"IF(V26=0,0,(V26*((LOG(V26))/LOG(2))))","v":0},null,{"$f":"N26","v":21122},{"$f":"COUNTIF(L36:L64,Y26)","v":0},{"$f":"Z26/(AB4-Z25)","v":0},{"$f":"IF(AA26=0,0,(AA26*((LOG(AA26))/LOG(2))))","v":0},null,{"$f":"N26","v":21122},{"$f":"COUNTIF(L65:L94,AD26)","v":0},{"$f":"AE26/(AG4-AE25)","v":0},{"$f":"IF(AF26=0,0,(AF26*((LOG(AF26))/LOG(2))))","v":0},null,{"$f":"N26","v":21122},{"$f":"COUNTIF(L95:L123,AI26)","v":0},{"$f":"AJ26/(AL4-AJ25)","v":0},{"$f":"IF(AK26=0,0,(AK26*((LOG(AK26))/LOG(2))))","v":0},null,{"$f":"N26","v":21122},{"$f":"COUNTIF(L124:L152,AN26)","v":0},{"$f":"AO26/(AQ4-AO25)","v":0},{"$f":"IF(AP26=0,0,(AP26*((LOG(AP26))/LOG(2))))","v":0},null,{"$f":"N26","v":21122},{"$f":"COUNTIF(L153:L181,AS26)","v":0},{"$f":"AT26/(AV4-AT25)","v":0},{"$f":"IF(AU26=0,0,(AU26*((LOG(AU26))/LOG(2))))","v":0}]
[12,2673,24,2681,13,2695,14,2713,13,2720,0,12111,null,21211,{"$f":"COUNTIF($L$7:$L$500,N27)","v":9},{"$f":"O27/$Q$4","v":5.1428571428571428E-2},{"$f":"IF(P27=0,0,(P27*((LOG(P27))/LOG(2))))","v":-0.22018042853434372},null,null,{"$f":"N27","v":21211},{"$f":"COUNTIF(L7:L35,T27)","v":2},{"$f":"U27/(W4-U25)","v":6.8965517241379309E-2},{"$f":"IF(V27=0,0,(V27*((LOG(V27))/LOG(2))))","v":-0.26606765483638428},null,{"$f":"N27","v":21211},{"$f":"COUNTIF(L36:L64,Y27)","v":1},{"$f":"Z27/(AB4-Z25)","v":3.4482758620689655E-2},{"$f":"IF(AA27=0,0,(AA27*((LOG(AA27))/LOG(2))))","v":-0.16751658603888178},null,{"$f":"N27","v":21211},{"$f":"COUNTIF(L65:L94,AD27)","v":1},{"$f":"AE27/(AG4-AE25)","v":3.3333333333333333E-2},{"$f":"IF(AF27=0,0,(AF27*((LOG(AF27))/LOG(2))))","v":-0.16356301985361729},null,{"$f":"N27","v":21211},{"$f":"COUNTIF(L95:L123,AI27)","v":0},{"$f":"AJ27/(AL4-AJ25)","v":0},{"$f":"IF(AK27=0,0,(AK27*((LOG(AK27))/LOG(2))))","v":0},null,{"$f":"N27","v":21211},{"$f":"COUNTIF(L124:L152,AN27)","v":0},{"$f":"AO27/(AQ4-AO25)","v":0},{"$f":"IF(AP27=0,0,(AP27*((LOG(AP27))/LOG(2))))","v":0},null,{"$f":"N27","v":21211},{"$f":"COUNTIF(L153:L181,AS27)","v":5},{"$f":"AT27/(AV4-AT25)","v":0.17241379310344829},{"$f":"IF(AU27=0,0,(AU27*((LOG(AU27))/LOG(2))))","v":-0.43725050004141547}]
[12,2819,13,2826,24,2835,23,2849,13,2865,0,11221,null,21212,{"$f":"COUNTIF($L$7:$L$500,N28)","v":0},{"$f":"O28/$Q$4","v":0},{"$f":"IF(P28=0,0,(P28*((LOG(P28))/LOG(2))))","v":0},null,null,{"$f":"N28","v":21212},{"$f":"COUNTIF(L7:L35,T28)","v":0},{"$f":"U28/(W4-U25)","v":0},{"$f":"IF(V28=0,0,(V28*((LOG(V28))/LOG(2))))","v":0},null,{"$f":"N28","v":21212},{"$f":"COUNTIF(L36:L64,Y28)","v":0},{"$f":"Z28/(AB4-Z25)","v":0},{"$f":"IF(AA28=0,0,(AA28*((LOG(AA28))/LOG(2))))","v":0},null,{"$f":"N28","v":21212},{"$f":"COUNTIF(L65:L94,AD28)","v":0},{"$f":"AE28/(AG4-AE25)","v":0},{"$f":"IF(AF28=0,0,(AF28*((LOG(AF28))/LOG(2))))","v":0},null,{"$f":"N28","v":21212},{"$f":"COUNTIF(L95:L123,AI28)","v":0},{"$f":"AJ28/(AL4-AJ25)","v":0},{"$f":"IF(AK28=0,0,(AK28*((LOG(AK28))/LOG(2))))","v":0},null,{"$f":"N28","v":21212},{"$f":"COUNTIF(L124:L152,AN28)","v":0},{"$f":"AO28/(AQ4-AO25)","v":0},{"$f":"IF(AP28=0,0,(AP28*((LOG(AP28))/LOG(2))))","v":0},null,{"$f":"N28","v":21212},{"$f":"COUNTIF(L153:L181,AS28)","v":0},{"$f":"AT28/(AV4-AT25)","v":0},{"$f":"IF(AU28=0,0,(AU28*((LOG(AU28))/LOG(2))))","v":0}]
[21,2978,22,2982,24,2986,14,3002,13,3008,0,22211,null,21221,{"$f":"COUNTIF($L$7:$L$500,N29)","v":3},{"$f":"O29/$Q$4","v":1.7142857142857144E-2},{"$f":"IF(P29=0,0,(P29*((LOG(P29))/LOG(2))))","v":-0.10056426190476297},null,null,{"$f":"N29","v":21221},{"$f":"COUNTIF(L7:L35,T29)","v":0},{"$f":"U29/(W4-U25)","v":0},{"$f":"IF(V29=0,0,(V29*((LOG(V29))/LOG(2))))","v":0},null,{"$f":"N29","v":21221},{"$f":"COUNTIF(L36:L64,Y29)","v":0},{"$f":"Z29/(AB4-Z25)","v":0},{"$f":"IF(AA29=0,0,(AA29*((LOG(AA29))/LOG(2))))","v":0},null,{"$f":"N29","v":21221},{"$f":"COUNTIF(L65:L94,AD29)","v":2},{"$f":"AE29/(AG4-AE25)","v":6.6666666666666666E-2},{"$f":"IF(AF29=0,0,(AF29*((LOG(AF29))/LOG(2))))","v":-0.26045937304056793},null,{"$f":"N29","v":21221},{"$f":"COUNTIF(L95:L123,AI29)","v":0},{"$f":"AJ29/(AL4-AJ25)","v":0},{"$f":"IF(AK29=0,0,(AK29*((LOG(AK29))/LOG(2))))","v":0},null,{"$f":"N29","v":21221},{"$f":"COUNTIF(L124:L152,AN29)","v":0},{"$f":"AO29/(AQ4-AO25)","v":0},{"$f":"IF(AP29=0,0,(AP29*((LOG(AP29))/LOG(2))))","v":0},null,{"$f":"N29","v":21221},{"$f":"COUNTIF(L153:L181,AS29)","v":1},{"$f":"AT29/(AV4-AT25)","v":3.4482758620689655E-2},{"$f":"IF(AU29=0,0,(AU29*((LOG(AU29))/LOG(2))))","v":-0.16751658603888178}]
[12,3114,24,3121,13,3137,14,3142,13,3148,0,12111,null,21222,{"$f":"COUNTIF($L$7:$L$500,N30)","v":0},{"$f":"O30/$Q$4","v":0},{"$f":"IF(P30=0,0,(P30*((LOG(P30))/LOG(2))))","v":0},null,null,{"$f":"N30","v":21222},{"$f":"COUNTIF(L7:L35,T30)","v":0},{"$f":"U30/(W4-U25)","v":0},{"$f":"IF(V30=0,0,(V30*((LOG(V30))/LOG(2))))","v":0},null,{"$f":"N30","v":21222},{"$f":"COUNTIF(L36:L64,Y30)","v":0},{"$f":"Z30/(AB4-Z25)","v":0},{"$f":"IF(AA30=0,0,(AA30*((LOG(AA30))/LOG(2))))","v":0},null,{"$f":"N30","v":21222},{"$f":"COUNTIF(L65:L94,AD30)","v":0},{"$f":"AE30/(AG4-AE25)","v":0},{"$f":"IF(AF30=0,0,(AF30*((LOG(AF30))/LOG(2))))","v":0},null,{"$f":"N30","v":21222},{"$f":"COUNTIF(L95:L123,AI30)","v":0},{"$f":"AJ30/(AL4-AJ25)","v":0},{"$f":"IF(AK30=0,0,(AK30*((LOG(AK30))/LOG(2))))","v":0},null,{"$f":"N30","v":21222},{"$f":"COUNTIF(L124:L152,AN30)","v":0},{"$f":"AO30/(AQ4-AO25)","v":0},{"$f":"IF(AP30=0,0,(AP30*((LOG(AP30))/LOG(2))))","v":0},null,{"$f":"N30","v":21222},{"$f":"COUNTIF(L153:L181,AS30)","v":0},{"$f":"AT30/(AV4-AT25)","v":0},{"$f":"IF(AU30=0,0,(AU30*((LOG(AU30))/LOG(2))))","v":0}]
[12,3253,24,3262,24,3266,23,3281,13,3289,0,12221,null,22111,{"$f":"COUNTIF($L$7:$L$500,N31)","v":10},{"$f":"O31/$Q$4","v":5.7142857142857141E-2},{"$f":"IF(P31=0,0,(P31*((LOG(P31))/LOG(2))))","v":-0.23595902953971234},null,null,{"$f":"N31","v":22111},{"$f":"COUNTIF(L7:L35,T31)","v":3},{"$f":"U31/(W4-U25)","v":0.10344827586206896},{"$f":"IF(V31=0,0,(V31*((LOG(V31))/LOG(2))))","v":-0.33858812011100858},null,{"$f":"N31","v":22111},{"$f":"COUNTIF(L36:L64,Y31)","v":1},{"$f":"Z31/(AB4-Z25)","v":3.4482758620689655E-2},{"$f":"IF(AA31=0,0,(AA31*((LOG(AA31))/LOG(2))))","v":-0.16751658603888178},null,{"$f":"N31","v":22111},{"$f":"COUNTIF(L65:L94,AD31)","v":1},{"$f":"AE31/(AG4-AE25)","v":3.3333333333333333E-2},{"$f":"IF(AF31=0,0,(AF31*((LOG(AF31))/LOG(2))))","v":-0.16356301985361729},null,{"$f":"N31","v":22111},{"$f":"COUNTIF(L95:L123,AI31)","v":2},{"$f":"AJ31/(AL4-AJ25)","v":6.8965517241379309E-2},{"$f":"IF(AK31=0,0,(AK31*((LOG(AK31))/LOG(2))))","v":-0.26606765483638428},null,{"$f":"N31","v":22111},{"$f":"COUNTIF(L124:L152,AN31)","v":0},{"$f":"AO31/(AQ4-AO25)","v":0},{"$f":"IF(AP31=0,0,(AP31*((LOG(AP31))/LOG(2))))","v":0},null,{"$f":"N31","v":22111},{"$f":"COUNTIF(L153:L181,AS31)","v":3},{"$f":"AT31/(AV4-AT25)","v":0.10344827586206896},{"$f":"IF(AU31=0,0,(AU31*((LOG(AU31))/LOG(2))))","v":-0.33858812011100858}]
[12,3392,24,3400,24,3405,23,3414,13,3423,1,12221,null,22112,{"$f":"COUNTIF($L$7:$L$500,N32)","v":0},{"$f":"O32/$Q$4","v":0},{"$f":"IF(P32=0,0,(P32*((LOG(P32))/LOG(2))))","v":0},null,null,{"$f":"N32","v":22112},{"$f":"COUNTIF(L7:L35,T32)","v":0},{"$f":"U32/(W4-U25)","v":0},{"$f":"IF(V32=0,0,(V32*((LOG(V32))/LOG(2))))","v":0},null,{"$f":"N32","v":22112},{"$f":"COUNTIF(L36:L64,Y32)","v":0},{"$f":"Z32/(AB4-Z25)","v":0},{"$f":"IF(AA32=0,0,(AA32*((LOG(AA32))/LOG(2))))","v":0},null,{"$f":"N32","v":22112},{"$f":"COUNTIF(L65:L94,AD32)","v":0},{"$f":"AE32/(AG4-AE25)","v":0},{"$f":"IF(AF32=0,0,(AF32*((LOG(AF32))/LOG(2))))","v":0},null,{"$f":"N32","v":22112},{"$f":"COUNTIF(L95:L123,AI32)","v":0},{"$f":"AJ32/(AL4-AJ25)","v":0},{"$f":"IF(AK32=0,0,(AK32*((LOG(AK32))/LOG(2))))","v":0},null,{"$f":"N32","v":22112},{"$f":"COUNTIF(L124:L152,AN32)","v":0},{"$f":"AO32/(AQ4-AO25)","v":0},{"$f":"IF(AP32=0,0,(AP32*((LOG(AP32))/LOG(2))))","v":0},null,{"$f":"N32","v":22112},{"$f":"COUNTIF(L153:L181,AS32)","v":0},{"$f":"AT32/(AV4-AT25)","v":0},{"$f":"IF(AU32=0,0,(AU32*((LOG(AU32))/LOG(2))))","v":0}]
[21,3527,11,3537,22,3544,14,3554,13,3562,0,21211,null,22121,{"$f":"COUNTIF($L$7:$L$500,N33)","v":2},{"$f":"O33/$Q$4","v":1.1428571428571429E-2},{"$f":"IF(P33=0,0,(P33*((LOG(P33))/LOG(2))))","v":-7.3728126992369469E-2},null,null,{"$f":"N33","v":22121},{"$f":"COUNTIF(L7:L35,T33)","v":0},{"$f":"U33/(W4-U25)","v":0},{"$f":"IF(V33=0,0,(V33*((LOG(V33))/LOG(2))))","v":0},null,{"$f":"N33","v":22121},{"$f":"COUNTIF(L36:L64,Y33)","v":0},{"$f":"Z33/(AB4-Z25)","v":0},{"$f":"IF(AA33=0,0,(AA33*((LOG(AA33))/LOG(2))))","v":0},null,{"$f":"N33","v":22121},{"$f":"COUNTIF(L65:L94,AD33)","v":1},{"$f":"AE33/(AG4-AE25)","v":3.3333333333333333E-2},{"$f":"IF(AF33=0,0,(AF33*((LOG(AF33))/LOG(2))))","v":-0.16356301985361729},null,{"$f":"N33","v":22121},{"$f":"COUNTIF(L95:L123,AI33)","v":1},{"$f":"AJ33/(AL4-AJ25)","v":3.4482758620689655E-2},{"$f":"IF(AK33=0,0,(AK33*((LOG(AK33))/LOG(2))))","v":-0.16751658603888178},null,{"$f":"N33","v":22121},{"$f":"COUNTIF(L124:L152,AN33)","v":0},{"$f":"AO33/(AQ4-AO25)","v":0},{"$f":"IF(AP33=0,0,(AP33*((LOG(AP33))/LOG(2))))","v":0},null,{"$f":"N33","v":22121},{"$f":"COUNTIF(L153:L181,AS33)","v":0},{"$f":"AT33/(AV4-AT25)","v":0},{"$f":"IF(AU33=0,0,(AU33*((LOG(AU33))/LOG(2))))","v":0}]
[12,3662,13,3680,13,3684,14,3688,13,3695,0,11111,null,22122,{"$f":"COUNTIF($L$7:$L$500,N34)","v":0},{"$f":"O34/$Q$4","v":0},{"$f":"IF(P34=0,0,(P34*((LOG(P34))/LOG(2))))","v":0},null,null,{"$f":"N34","v":22122},{"$f":"COUNTIF(L7:L35,T34)","v":0},{"$f":"U34/(W4-U25)","v":0},{"$f":"IF(V34=0,0,(V34*((LOG(V34))/LOG(2))))","v":0},null,{"$f":"N34","v":22122},{"$f":"COUNTIF(L36:L64,Y34)","v":0},{"$f":"Z34/(AB4-Z25)","v":0},{"$f":"IF(AA34=0,0,(AA34*((LOG(AA34))/LOG(2))))","v":0},null,{"$f":"N34","v":22122},{"$f":"COUNTIF(L65:L94,AD34)","v":0},{"$f":"AE34/(AG4-AE25)","v":0},{"$f":"IF(AF34=0,0,(AF34*((LOG(AF34))/LOG(2))))","v":0},null,{"$f":"N34","v":22122},{"$f":"COUNTIF(L95:L123,AI34)","v":0},{"$f":"AJ34/(AL4-AJ25)","v":0},{"$f":"IF(AK34=0,0,(AK34*((LOG(AK34))/LOG(2))))","v":0},null,{"$f":"N34","v":22122},{"$f":"COUNTIF(L124:L152,AN34)","v":0},{"$f":"AO34/(AQ4-AO25)","v":0},{"$f":"IF(AP34=0,0,(AP34*((LOG(AP34))/LOG(2))))","v":0},null,{"$f":"N34","v":22122},{"$f":"COUNTIF(L153:L181,AS34)","v":0},{"$f":"AT34/(AV4-AT25)","v":0},{"$f":"IF(AU34=0,0,(AU34*((LOG(AU34))/LOG(2))))","v":0}]
[12,3795,24,3803,13,3812,14,3816,13,3826,0,12111,null,22211,{"$f":"COUNTIF($L$7:$L$500,N35)","v":9},{"$f":"O35/$Q$4","v":5.1428571428571428E-2},{"$f":"IF(P35=0,0,(P35*((LOG(P35))/LOG(2))))","v":-0.22018042853434372},null,null,{"$f":"N35","v":22211},{"$f":"COUNTIF(L7:L35,T35)","v":4},{"$f":"U35/(W4-U25)","v":0.13793103448275862},{"$f":"IF(V35=0,0,(V35*((LOG(V35))/LOG(2))))","v":-0.39420427519000989},null,{"$f":"N35","v":22211},{"$f":"COUNTIF(L36:L64,Y35)","v":1},{"$f":"Z35/(AB4-Z25)","v":3.4482758620689655E-2},{"$f":"IF(AA35=0,0,(AA35*((LOG(AA35))/LOG(2))))","v":-0.16751658603888178},null,{"$f":"N35","v":22211},{"$f":"COUNTIF(L65:L94,AD35)","v":1},{"$f":"AE35/(AG4-AE25)","v":3.3333333333333333E-2},{"$f":"IF(AF35=0,0,(AF35*((LOG(AF35))/LOG(2))))","v":-0.16356301985361729},null,{"$f":"N35","v":22211},{"$f":"COUNTIF(L95:L123,AI35)","v":3},{"$f":"AJ35/(AL4-AJ25)","v":0.10344827586206896},{"$f":"IF(AK35=0,0,(AK35*((LOG(AK35))/LOG(2))))","v":-0.33858812011100858},null,{"$f":"N35","v":22211},{"$f":"COUNTIF(L124:L152,AN35)","v":0},{"$f":"AO35/(AQ4-AO25)","v":0},{"$f":"IF(AP35=0,0,(AP35*((LOG(AP35))/LOG(2))))","v":0},null,{"$f":"N35","v":22211},{"$f":"COUNTIF(L153:L181,AS35)","v":0},{"$f":"AT35/(AV4-AT25)","v":0},{"$f":"IF(AU35=0,0,(AU35*((LOG(AU35))/LOG(2))))","v":0}]
[12,3932,13,3944,13,3952,14,3956,13,3962,0,11111,null,22212,{"$f":"COUNTIF($L$7:$L$500,N36)","v":0},{"$f":"O36/$Q$4","v":0},{"$f":"IF(P36=0,0,(P36*((LOG(P36))/LOG(2))))","v":0},null,null,{"$f":"N36","v":22212},{"$f":"COUNTIF(L7:L35,T36)","v":0},{"$f":"U36/(W4-U25)","v":0},{"$f":"IF(V36=0,0,(V36*((LOG(V36))/LOG(2))))","v":0},null,{"$f":"N36","v":22212},{"$f":"COUNTIF(L36:L64,Y36)","v":0},{"$f":"Z36/(AB4-Z25)","v":0},{"$f":"IF(AA36=0,0,(AA36*((LOG(AA36))/LOG(2))))","v":0},null,{"$f":"N36","v":22212},{"$f":"COUNTIF(L65:L94,AD36)","v":0},{"$f":"AE36/(AG4-AE25)","v":0},{"$f":"IF(AF36=0,0,(AF36*((LOG(AF36))/LOG(2))))","v":0},null,{"$f":"N36","v":22212},{"$f":"COUNTIF(L95:L123,AI36)","v":0},{"$f":"AJ36/(AL4-AJ25)","v":0},{"$f":"IF(AK36=0,0,(AK36*((LOG(AK36))/LOG(2))))","v":0},null,{"$f":"N36","v":22212},{"$f":"COUNTIF(L124:L152,AN36)","v":0},{"$f":"AO36/(AQ4-AO25)","v":0},{"$f":"IF(AP36=0,0,(AP36*((LOG(AP36))/LOG(2))))","v":0},null,{"$f":"N36","v":22212},{"$f":"COUNTIF(L153:L181,AS36)","v":0},{"$f":"AT36/(AV4-AT25)","v":0},{"$f":"IF(AU36=0,0,(AU36*((LOG(AU36))/LOG(2))))","v":0}]
[12,4061,13,4065,13,4069,23,4076,13,4094,1,11121,null,22221,{"$f":"COUNTIF($L$7:$L$500,N37)","v":4},{"$f":"O37/$Q$4","v":2.2857142857142857E-2},{"$f":"IF(P37=0,0,(P37*((LOG(P37))/LOG(2))))","v":-0.12459911112759608},null,null,{"$f":"N37","v":22221},{"$f":"COUNTIF(L7:L35,T37)","v":3},{"$f":"U37/(W4-U25)","v":0.10344827586206896},{"$f":"IF(V37=0,0,(V37*((LOG(V37))/LOG(2))))","v":-0.33858812011100858},null,{"$f":"N37","v":22221},{"$f":"COUNTIF(L36:L64,Y37)","v":0},{"$f":"Z37/(AB4-Z25)","v":0},{"$f":"IF(AA37=0,0,(AA37*((LOG(AA37))/LOG(2))))","v":0},null,{"$f":"N37","v":22221},{"$f":"COUNTIF(L65:L94,AD37)","v":0},{"$f":"AE37/(AG4-AE25)","v":0},{"$f":"IF(AF37=0,0,(AF37*((LOG(AF37))/LOG(2))))","v":0},null,{"$f":"N37","v":22221},{"$f":"COUNTIF(L95:L123,AI37)","v":1},{"$f":"AJ37/(AL4-AJ25)","v":3.4482758620689655E-2},{"$f":"IF(AK37=0,0,(AK37*((LOG(AK37))/LOG(2))))","v":-0.16751658603888178},null,{"$f":"N37","v":22221},{"$f":"COUNTIF(L124:L152,AN37)","v":0},{"$f":"AO37/(AQ4-AO25)","v":0},{"$f":"IF(AP37=0,0,(AP37*((LOG(AP37))/LOG(2))))","v":0},null,{"$f":"N37","v":22221},{"$f":"COUNTIF(L153:L181,AS37)","v":0},{"$f":"AT37/(AV4-AT25)","v":0},{"$f":"IF(AU37=0,0,(AU37*((LOG(AU37))/LOG(2))))","v":0}]
[21,4197,11,4213,11,4220,12,4224,13,4234,1,21111,null,22222,{"$f":"COUNTIF($L$7:$L$500,N38)","v":2},{"$f":"O38/$Q$4","v":1.1428571428571429E-2},{"$f":"IF(P38=0,0,(P38*((LOG(P38))/LOG(2))))","v":-7.3728126992369469E-2},null,null,{"$f":"N38","v":22222},{"$f":"COUNTIF(L7:L35,T38)","v":1},{"$f":"U38/(W4-U25)","v":3.4482758620689655E-2},{"$f":"IF(V38=0,0,(V38*((LOG(V38))/LOG(2))))","v":-0.16751658603888178},null,{"$f":"N38","v":22222},{"$f":"COUNTIF(L36:L64,Y38)","v":0},{"$f":"Z38/(AB4-Z25)","v":0},{"$f":"IF(AA38=0,0,(AA38*((LOG(AA38))/LOG(2))))","v":0},null,{"$f":"N38","v":22222},{"$f":"COUNTIF(L65:L94,AD38)","v":0},{"$f":"AE38/(AG4-AE25)","v":0},{"$f":"IF(AF38=0,0,(AF38*((LOG(AF38))/LOG(2))))","v":0},null,{"$f":"N38","v":22222},{"$f":"COUNTIF(L95:L123,AI38)","v":1},{"$f":"AJ38/(AL4-AJ25)","v":3.4482758620689655E-2},{"$f":"IF(AK38=0,0,(AK38*((LOG(AK38))/LOG(2))))","v":-0.16751658603888178},null,{"$f":"N38","v":22222},{"$f":"COUNTIF(L124:L152,AN38)","v":0},{"$f":"AO38/(AQ4-AO25)","v":0},{"$f":"IF(AP38=0,0,(AP38*((LOG(AP38))/LOG(2))))","v":0},null,{"$f":"N38","v":22222},{"$f":"COUNTIF(L153:L181,AS38)","v":0},{"$f":"AT38/(AV4-AT25)","v":0},{"$f":"IF(AU38=0,0,(AU38*((LOG(AU38))/LOG(2))))","v":0}]
[21,4330,22,4334,24,4344,14,4356,13,4376,0,22211,null,null,null,{"$f":"SUM(P7:P38)","v":1},{"$f":"-SUM(Q7:Q38)","v":3.320443716988656},null,null,null,null,{"$f":"SUM(V7:V38)","v":0.99999999999999989},{"$f":"-SUM(W7:W38)","v":3.3021390820667533},null,null,null,{"$f":"SUM(AA7:AA38)","v":0.99999999999999978},{"$f":"-SUM(AB7:AB38)","v":2.5542349500526158},null,null,null,{"$f":"SUM(AF7:AF38)","v":1},{"$f":"-SUM(AG7:AG38)","v":3.1940879961000466},null,null,null,{"$f":"SUM(AK7:AK38)","v":0.99999999999999989},{"$f":"-SUM(AL7:AL38)","v":2.7447322877088043},null,null,null,{"$f":"SUM(AP7:AP38)","v":1},{"$f":"-SUM(AQ7:AQ38)","v":2.5149348950560491},null,null,null,{"$f":"SUM(AU7:AU38)","v":0.99999999999999989},{"$f":"-SUM(AV7:AV38)","v":2.9187109621093823}]
[12,4479,24,4497,24,4507,14,4514,13,4520,0,12211,null,null,null,"U=",{"$f":"Q39/(LOG(Q4)/LOG(2))","v":0.44562470008612132},null,null,null,null,"U1=",{"$f":"W39/(LOG(W4)/LOG(2))","v":0.67973487038724789},null,null,null,"U2=",{"$f":"AB39/(LOG(AB4)/LOG(2))","v":0.52578117382806699},null,null,null,"U3=",{"$f":"AG39/(LOG(AG4)/LOG(2))","v":0.65093931357642953},null,null,null,"U4=",{"$f":"AL39/(LOG(AL4)/LOG(2))","v":0.56499444737673921},null,null,null,"U5=",{"$f":"AQ39/(LOG(AQ4)/LOG(2))","v":0.51769138199150289},null,null,null,"U6=",{"$f":"AV39/(LOG(AV4)/LOG(2))","v":0.60080740641776353}]
[12,4629,24,4644,24,4651,14,4660,13,4666,1,12211]
[21,4764,11,4781,22,4788,14,4798,13,4802,1,21211]
[12,4897,13,4918,13,4925,14,4930,13,4936,0,11111,null,"Total Target Seq"]
[12,5039,13,5055,13,5067,14,5077,13,5081,0,11111,null,{"$f":"COUNTIF(L7:L181,G3)","v":0},null,29,29,30,29,29,29]
[21,5184,22,5194,13,5201,14,5205,13,5210,0,22111,null,null,null,"% of reinforcement given in 6 equal intervals based on number of trials "]
[12,5309,13,5330,13,5334,14,5344,13,5360,0,11111,null,null,null,"%_1","%_2","%_3","%_4","%_5","%_6"]
[12,5463,24,5471,13,5480,14,5483,13,5490,0,12111,null,null,"target sequence",{"$f":"$G$3","v":21121},{"$f":"$G$3","v":21121},{"$f":"$G$3","v":21121},{"$f":"$G$3","v":21121},{"$f":"$G$3","v":21121},{"$f":"$G$3","v":21121}]
[12,5589,24,5597,13,5607,14,5611,13,5615,0,12111,null,null,"total reinforcement",{"$f":"U25","v":0},{"$f":"Z25","v":0},{"$f":"AE25","v":0},{"$f":"AJ25","v":0},{"$f":"AO25","v":0},{"$f":"AT25","v":0}]
[12,5713,13,5722,24,5730,14,5737,13,5741,0,11211,null,null,"% target"]
[12,5840,13,5847,13,5862,14,5868,13,5875,0,11111,null,null,"CCRF"]
[12,5973,13,5977,13,5981,14,5984,13,5989,0,11111,null,null,"% CCRf"]
[12,6090,13,6095,13,6099,14,6103,13,6109,0,11111,null,null,"average response rate",{"$f":"J35/P44","v":131.93103448275863},{"$f":"(J64-J35)/Q44","v":133.62068965517241},{"$f":"(J94-J64)/R44","v":134.63333333333333},{"$f":"(J123-J94)/S44","v":136.34482758620689},{"$f":"(J152-J123)/T44","v":136.75862068965517},{"$f":"(J181-J152)/U44","v":146.79310344827587}]
[12,6212,13,6216,13,6220,14,6224,13,6235,1,11111]
[12,6342,24,6350,24,6355,14,6366,13,6370,0,12211]
[12,6473,13,6477,13,6481,14,6485,13,6491,0,11111]
[12,6594,24,6601,24,6606,14,6614,13,6618,0,12211]
[12,6720,24,6728,24,6742,14,6750,13,6756,0,12211]
[12,6857,24,6865,24,6878,14,6886,13,6890,0,12211]
[12,6995,24,7002,24,7007,14,7014,13,7018,0,12211]
[12,7121,24,7128,13,7137,14,7141,13,7151,0,12111]
[12,7269,13,7285,13,7294,14,7303,13,7313,0,11111]
[12,7413,24,7421,24,7425,23,7438,13,7445,0,12221]
[12,7549,24,7557,24,7564,14,7571,13,7575,0,12211]
[12,7677,13,7688,13,7691,14,7695,13,7701,1,11111]
[21,7797,11,7812,22,7819,23,7823,13,7833,0,21221]
[21,7934,11,7946,11,7963,12,7967,13,7973,0,21111]
[12,8075,24,8082,24,8087,23,8091,13,8100,0,12221]
[12,8200,13,8204,24,8219,14,8230,13,8235,1,11211]
[21,8332,11,8354,22,8362,23,8372,13,8382,0,21221]
[12,8481,13,8489,13,8501,14,8505,13,8517,1,11111]
[21,8622,22,8631,13,8641,14,8645,13,8657,0,22111]
[12,8775,13,8783,13,8787,14,8797,13,8806,0,11111]
[12,8908,24,8916,13,8926,14,8930,13,8940,0,12111]
[12,9042,24,9050,24,9058,14,9069,13,9072,1,12211]
[12,9179,24,9186,24,9190,14,9200,13,9204,0,12211]
[12,9307,24,9314,24,9318,23,9326,13,9333,0,12221]
[12,9435,13,9447,13,9450,14,9455,13,9465,0,11111]
[12,9566,13,9571,13,9586,14,9590,13,9603,0,11111]
[21,9716,11,9727,11,9732,12,9736,13,9746,1,21111]
[21,9844,11,9854,22,9862,14,9875,13,9880,0,21211]
[12,9983,24,9990,24,9994,23,9998,13,10007,0,12221]
[21,10105,22,10109,13,10120,23,10127,13,10138,0,22121]
[12,10238,24,10260,24,10265,14,10277,13,10281,0,12211]
[12,10382,24,10390,24,10394,23,10402,24,10409,0,12222]
[12,10510,24,10518,24,10523,14,10535,13,10538,1,12211]
[21,10646,22,10659,24,10665,14,10676,13,10690,0,22211]
[12,10790,24,10799,24,10807,14,10822,13,10826,0,12211]
[12,10932,24,10940,24,10944,14,10959,13,10963,0,12211]
[12,11064,24,11072,13,11082,14,11086,13,11093,0,12111]
[12,11194,24,11202,13,11211,14,11215,13,11218,1,12111]
[12,11324,24,11332,13,11345,14,11349,13,11354,0,12111]
[12,11454,13,11469,13,11473,14,11477,13,11481,0,11111]
[12,11579,13,11597,13,11600,14,11604,13,11610,0,11111]
[12,11711,24,11719,13,11727,14,11731,13,11740,0,12111]
[12,11840,13,11850,13,11864,14,11868,13,11877,0,11111]
[12,11985,24,11992,24,11997,14,12005,13,12010,0,12211]
[12,12112,24,12120,13,12130,14,12134,13,12139,1,12111]
[12,12245,13,12256,13,12260,14,12263,13,12270,0,11111]
[12,12369,13,12382,13,12386,14,12390,13,12397,0,11111]
[12,12495,24,12525,13,12533,14,12541,13,12547,1,12111]
[21,12650,22,12663,24,12672,14,12680,13,12684,0,22211]
[21,12785,22,12793,13,12803,14,12806,13,12810,0,22111]
[12,12912,24,12920,24,12924,23,12932,13,12942,0,12221]
[12,13043,24,13051,13,13066,14,13070,13,13076,0,12111]
[12,13186,13,13192,13,13231,14,13235,13,13241,0,11111]
[21,13343,22,13349,24,13355,23,13362,13,13370,0,22221]
[12,13469,24,13477,13,13487,14,13491,13,13497,0,12111]
[12,13597,24,13605,13,13615,14,13619,13,13624,1,12111]
[21,13719,22,13727,24,13735,23,13743,24,13750,1,22222]
[21,13851,22,13856,13,13866,23,13874,13,13885,1,22121]
[21,13995,22,14001,24,14021,14,14029,13,14033,0,22211]
[12,14134,24,14145,13,14156,14,14160,13,14167,0,12111]
[12,14266,24,14280,24,14285,23,14292,24,14299,0,12222]
[12,14399,13,14413,13,14417,14,14421,13,14432,0,11111]
[12,14533,13,14537,13,14551,14,14555,13,14561,1,11111]
[21,14669,22,14677,24,14683,14,14694,13,14700,0,22211]
[21,14802,22,14810,13,14820,14,14832,13,14838,0,22111]
[12,14937,13,14955,13,14959,14,14970,13,14976,1,11111]
[12,15114,13,15118,13,15122,14,15139,13,15148,0,11111]
[12,15250,24,15262,13,15272,14,15276,13,15280,0,12111]
[12,15389,24,15399,13,15409,14,15412,13,15419,0,12111]
[12,15521,24,15529,24,15547,14,15557,13,15561,0,12211]
[12,15660,13,15668,13,15685,14,15689,13,15694,1,11111]
[12,15792,24,15804,13,15825,14,15829,13,15838,0,12111]
[12,15952,13,15965,24,15976,14,15984,13,15988,0,11211]
[12,16085,13,16101,13,16106,14,16110,24,16128,0,11112]
[12,16227,24,16240,24,16247,14,16255,13,16259,0,12211]
[12,16356,13,16374,24,16381,14,16391,13,16397,0,11211]
[12,16499,24,16507,13,16523,14,16527,13,16533,0,12111]
[12,16635,24,16643,24,16650,14,16660,13,16664,1,12211]
[21,16762,11,16774,11,16789,12,16794,13,16810,0,21111]
[12,16916,13,16928,13,16932,14,16935,13,16942,0,11111]
[12,17043,13,17057,13,17084,14,17089,13,17100,0,11111]
[12,17199,13,17209,13,17219,14,17222,13,17226,1,11111]
[21,17340,11,17348,11,17369,12,17373,13,17379,0,21111]
[12,17478,13,17504,13,17517,14,17521,13,17527,0,11111]
[12,17627,24,17640,13,17651,14,17656,13,17660,0,12111]
[12,17762,24,17770,24,17781,14,17789,13,17792,0,12211]
[12,17895,24,17903,24,17910,14,17917,13,17921,0,12211]
[12,18019,24,18028,24,18033,14,18042,13,18048,0,12211]
[12,18148,13,18157,13,18165,14,18169,13,18174,0,11111]
[12,18275,24,18285,24,18290,23,18299,13,18307,1,12221]
[12,18420,24,18428,13,18448,14,18453,13,18463,0,12111]
[12,18559,13,18567,13,18572,14,18576,13,18580,0,11111]
[12,18685,24,18693,13,18708,14,18712,13,18717,0,12111]
[21,18828,11,18844,11,18848,12,18855,13,18861,0,21111]
[12,18966,13,18976,13,18980,14,18984,13,18989,0,11111]
[12,19087,13,19096,13,19104,14,19107,13,19112,0,11111]
[12,19227,13,19232,13,19242,14,19252,13,19261,0,11111]
[12,19364,24,19371,24,19376,23,19380,13,19389,0,12221]
[12,19490,13,19502,13,19510,14,19514,13,19518,0,11111]
[12,19615,13,19625,24,19640,14,19654,13,19660,0,11211]
[12,19762,13,19783,13,19787,14,19793,13,19803,1,11111]
[21,19904,11,19917,22,19926,14,19938,13,19942,0,21211]
[21,20045,11,20065,22,20073,14,20083,13,20087,0,21211]
[12,20187,13,20192,13,20204,23,20216,13,20233,0,11121]
[12,20344,24,20352,13,20365,14,20373,13,20379,1,12111]
[12,20493,24,20500,13,20511,14,20515,13,20520,0,12111]
[12,20623,13,20667,13,20702,14,20707,13,20713,0,11111]
[12,20817,13,20837,13,20840,14,20844,13,20849,0,11111]
[12,20953,24,20972,24,20982,23,20990,13,21002,0,12221]
[12,21106,24,21121,13,21129,14,21132,13,21136,0,12111]
[12,21239,24,21256,24,21263,14,21273,13,21277,0,12211]
[21,21385,22,21397,13,21409,14,21414,13,21424,1,22111]
[21,21524,11,21535,22,21543,23,21551,13,21559,0,21221]
[12,21659,24,21668,24,21676,23,21683,13,21696,0,12221]
[12,21797,13,21809,13,21813,14,21816,13,21821,0,11111]
[12,21920,24,21929,24,21944,14,21953,13,21957,0,12211]
[12,22062,24,22070,24,22077,14,22085,13,22089,0,12211]
[12,22193,24,22201,24,22207,14,22214,13,22218,0,12211]
[21,22335,22,22343,13,22353,14,22357,13,22366,1,22111]
[21,22574,11,22588,22,22604,14,22616,13,22622,0,21211]
[21,22728,11,22745,11,22759,12,22763,13,22770,0,21111]
[21,22878,11,22887,22,22895,14,22910,13,22914,0,21211]
[12,23017,24,23025,24,23032,23,23039,13,23055,0,12221]
[21,23169,22,23185,13,23195,14,23199,13,23208,0,22111]
[12,23315,24,23323,24,23328,14,23341,13,23344,0,12211]
[12,23442,24,23465,24,23472,14,23480,13,23484,0,12211]
[21,23593,11,23606,22,23614,14,23627,13,23633,0,21211]
[12,23739,24,23748,13,23760,14,23764,13,23771,1,12111]
[12,23881,24,23889,13,23907,14,23913,13,23917,null,12111]

{"sheet":"!N414950.096","index":20,"n_rows":181,"n_cols":48,"rows_kept":181,"cut":false,"hidden":false,"merged":[[4,39,4,42],[5,39,5,40],[4,44,4,47],[5,44,5,45],[4,24,4,27],[5,24,5,25],[4,29,4,32],[5,29,5,30],[4,34,4,37],[5,34,5,35],[1,1,1,2],[5,13,5,14],[42,13,42,14],[43,13,43,14],[4,19,4,22],[5,19,5,20]]}
["Report for:!N414950.096"]
["Date:","<date>"]
["Hen:","<hen>",null,null,null,"Correct Sequence",{"$f":"Start!J2","v":21121},null,null,null,null,null,null,null,null,"Total Sequences in Data",{"$f":"4994-COUNTBLANK(L7:L5000)","v":175},null,null,null,null,"Total Sequences in Block Data",{"$f":"COUNTA(L7:L35)","v":29},null,null,null,"Total Sequences in Block Data",{"$f":"COUNTA(L36:L64)","v":29},null,null,null,"Total Sequences in Block Data",{"$f":"COUNTA(L65:L94)","v":30},null,null,null,"Total Sequences in Block Data",{"$f":"COUNTA(L95:L123)","v":29},null,null,null,"Total Sequences in Block Data",{"$f":"COUNTA(L124:L152)","v":29},null,null,null,"Total Sequences in Block Data",{"$f":"COUNTA(L153:L181)","v":29}]
[null,null,null,null,null,null,null,null,null,null,null,null,null,null,null,"Total Sequences in Summary",{"$f":"SUM(O7:O38)","v":174},null,null,null,null,"Total Sequences in Block Summary",{"$f":"SUM(U7:U38)","v":29},null,null,null,"Total Sequences in Block Summary",{"$f":"SUM(Z7:Z38)","v":29},null,null,null,"Total Sequences in Block Summary",{"$f":"SUM(AE7:AE38)","v":30},null,null,null,"Total Sequences in Block Summary",{"$f":"SUM(AJ7:AJ38)","v":29},null,null,null,"Total Sequences in Block Summary",{"$f":"SUM(AO7:AO38)","v":29},null,null,null,"Total Sequences in Block Summary",{"$f":"SUM(AT7:AT38)","v":28}]
[null,null,null,null,null,null,null,null,null,null,null,null,null,null,null,null,null,null,null,"Block 1",null,null,null,null,"Block 2",null,null,null,null,"Block 3",null,null,null,null,"Block 4",null,null,null,null,"Block 5",null,null,null,null,"Block 6"]
["Sequence\nComponent\n1","Time\n1","Sequence\nComponent\n2","Time\n2","Sequence\nComponent\n3","Time\n3","Sequence\nComponent\n4","Time\n4","Sequence\nComponent\n5","Time\n5","Correct?\n0=No 1=Yes","Sequence",null,"Frequency",null,"Relative Frequency","Variability",null,null,"Frequency",null,"Relative Frequency","Variability",null,"Frequency",null,"Relative Frequency","Variability",null,"Frequency",null,"Relative Frequency","Variability",null,"Frequency",null,"Relative Frequency","Variability",null,"Frequency",null,"Relative Frequency","Variability",null,"Frequency",null,"Relative Frequency","Variability"]
[12,6,13,11,24,24,23,29,13,56,0,11221,null,11111,{"$f":"COUNTIF($L$7:$L$500,N7)","v":35},{"$f":"O7/$Q$4","v":0.20114942528735633},{"$f":"IF(P7=0,0,(P7*((LOG(P7))/LOG(2))))","v":-0.46539147564156125},null,null,{"$f":"N7","v":11111},{"$f":"COUNTIF(L7:L35,T7)","v":3},{"$f":"U7/(W4-U25)","v":0.10344827586206896},{"$f":"IF(V7=0,0,(V7*((LOG(V7))/LOG(2))))","v":-0.33858812011100858},null,{"$f":"N7","v":11111},{"$f":"COUNTIF(L36:L64,Y7)","v":4},{"$f":"Z7/(AB4-Z25)","v":0.13793103448275862},{"$f":"IF(AA7=0,0,(AA7*((LOG(AA7))/LOG(2))))","v":-0.39420427519000989},null,{"$f":"N7","v":11111},{"$f":"COUNTIF(L65:L94,AD7)","v":6},{"$f":"AE7/(AG4-AE25)","v":0.2},{"$f":"IF(AF7=0,0,(AF7*((LOG(AF7))/LOG(2))))","v":-0.46438561897747244},null,{"$f":"N7","v":11111},{"$f":"COUNTIF(L95:L123,AI7)","v":6},{"$f":"AJ7/(AL4-AJ25)","v":0.20689655172413793},{"$f":"IF(AK7=0,0,(AK7*((LOG(AK7))/LOG(2))))","v":-0.4702796884978791},null,{"$f":"N7","v":11111},{"$f":"COUNTIF(L124:L152,AN7)","v":8},{"$f":"AO7/(AQ4-AO25)","v":0.27586206896551724},{"$f":"IF(AP7=0,0,(AP7*((LOG(AP7))/LOG(2))))","v":-0.51254648141450265},null,{"$f":"N7","v":11111},{"$f":"COUNTIF(L153:L181,AS7)","v":8},{"$f":"AT7/(AV4-AT25)","v":0.2857142857142857},{"$f":"IF(AU7=0,0,(AU7*((LOG(AU7))/LOG(2))))","v":-0.51638712058788683}]
[21,155,22,160,24,165,14,178,13,182,0,22211,null,11112,{"$f":"COUNTIF($L$7:$L$500,N8)","v":0},{"$f":"O8/$Q$4","v":0},{"$f":"IF(P8=0,0,(P8*((LOG(P8))/LOG(2))))","v":0},null,null,{"$f":"N8","v":11112},{"$f":"COUNTIF(L7:L35,T8)","v":0},{"$f":"U8/(W4-U25)","v":0},{"$f":"IF(V8=0,0,(V8*((LOG(V8))/LOG(2))))","v":0},null,{"$f":"N8","v":11112},{"$f":"COUNTIF(L36:L64,Y8)","v":0},{"$f":"Z8/(AB4-Z25)","v":0},{"$f":"IF(AA8=0,0,(AA8*((LOG(AA8))/LOG(2))))","v":0},null,{"$f":"N8","v":11112},{"$f":"COUNTIF(L65:L94,AD8)","v":0},{"$f":"AE8/(AG4-AE25)","v":0},{"$f":"IF(AF8=0,0,(AF8*((LOG(AF8))/LOG(2))))","v":0},null,{"$f":"N8","v":11112},{"$f":"COUNTIF(L95:L123,AI8)","v":0},{"$f":"AJ8/(AL4-AJ25)","v":0},{"$f":"IF(AK8=0,0,(AK8*((LOG(AK8))/LOG(2))))","v":0},null,{"$f":"N8","v":11112},{"$f":"COUNTIF(L124:L152,AN8)","v":0},{"$f":"AO8/(AQ4-AO25)","v":0},{"$f":"IF(AP8=0,0,(AP8*((LOG(AP8))/LOG(2))))","v":0},null,{"$f":"N8","v":11112},{"$f":"COUNTIF(L153:L181,AS8)","v":0},{"$f":"AT8/(AV4-AT25)","v":0},{"$f":"IF(AU8=0,0,(AU8*((LOG(AU8))/LOG(2))))","v":0}]
[21,293,22,297,24,302,23,309,13,323,0,22221,null,11121,{"$f":"COUNTIF($L$7:$L$500,N9)","v":1},{"$f":"O9/$Q$4","v":5.7471264367816091E-3},{"$f":"IF(P9=0,0,(P9*((LOG(P9))/LOG(2))))","v":-4.2775537332463962E-2},null,null,{"$f":"N9","v":11121},{"$f":"COUNTIF(L7:L35,T9)","v":0},{"$f":"U9/(W4-U25)","v":0},{"$f":"IF(V9=0,0,(V9*((LOG(V9))/LOG(2))))","v":0},null,{"$f":"N9","v":11121},{"$f":"COUNTIF(L36:L64,Y9)","v":0},{"$f":"Z9/(AB4-Z25)","v":0},{"$f":"IF(AA9=0,0,(AA9*((LOG(AA9))/LOG(2))))","v":0},null,{"$f":"N9","v":11121},{"$f":"COUNTIF(L65:L94,AD9)","v":1},{"$f":"AE9/(AG4-AE25)","v":3.3333333333333333E-2},{"$f":"IF(AF9=0,0,(AF9*((LOG(AF9))/LOG(2))))","v":-0.16356301985361729},null,{"$f":"N9","v":11121},{"$f":"COUNTIF(L95:L123,AI9)","v":0},{"$f":"AJ9/(AL4-AJ25)","v":0},{"$f":"IF(AK9=0,0,(AK9*((LOG(AK9))/LOG(2))))","v":0},null,{"$f":"N9","v":11121},{"$f":"COUNTIF(L124:L152,AN9)","v":0},{"$f":"AO9/(AQ4-AO25)","v":0},{"$f":"IF(AP9=0,0,(AP9*((LOG(AP9))/LOG(2))))","v":0},null,{"$f":"N9","v":11121},{"$f":"COUNTIF(L153:L181,AS9)","v":0},{"$f":"AT9/(AV4-AT25)","v":0},{"$f":"IF(AU9=0,0,(AU9*((LOG(AU9))/LOG(2))))","v":0}]
[12,422,13,426,13,430,14,435,13,441,0,11111,null,11122,{"$f":"COUNTIF($L$7:$L$500,N10)","v":1},{"$f":"O10/$Q$4","v":5.7471264367816091E-3},{"$f":"IF(P10=0,0,(P10*((LOG(P10))/LOG(2))))","v":-4.2775537332463962E-2},null,null,{"$f":"N10","v":11122},{"$f":"COUNTIF(L7:L35,T10)","v":0},{"$f":"U10/(W4-U25)","v":0},{"$f":"IF(V10=0,0,(V10*((LOG(V10))/LOG(2))))","v":0},null,{"$f":"N10","v":11122},{"$f":"COUNTIF(L36:L64,Y10)","v":1},{"$f":"Z10/(AB4-Z25)","v":3.4482758620689655E-2},{"$f":"IF(AA10=0,0,(AA10*((LOG(AA10))/LOG(2))))","v":-0.16751658603888178},null,{"$f":"N10","v":11122},{"$f":"COUNTIF(L65:L94,AD10)","v":0},{"$f":"AE10/(AG4-AE25)","v":0},{"$f":"IF(AF10=0,0,(AF10*((LOG(AF10))/LOG(2))))","v":0},null,{"$f":"N10","v":11122},{"$f":"COUNTIF(L95:L123,AI10)","v":0},{"$f":"AJ10/(AL4-AJ25)","v":0},{"$f":"IF(AK10=0,0,(AK10*((LOG(AK10))/LOG(2))))","v":0},null,{"$f":"N10","v":11122},{"$f":"COUNTIF(L124:L152,AN10)","v":0},{"$f":"AO10/(AQ4-AO25)","v":0},{"$f":"IF(AP10=0,0,(AP10*((LOG(AP10))/LOG(2))))","v":0},null,{"$f":"N10","v":11122},{"$f":"COUNTIF(L153:L181,AS10)","v":0},{"$f":"AT10/(AV4-AT25)","v":0},{"$f":"IF(AU10=0,0,(AU10*((LOG(AU10))/LOG(2))))","v":0}]
[12,542,24,549,24,553,23,557,13,567,1,12221,null,11211,{"$f":"COUNTIF($L$7:$L$500,N11)","v":8},{"$f":"O11/$Q$4","v":4.5977011494252873E-2},{"$f":"IF(P11=0,0,(P11*((LOG(P11))/LOG(2))))","v":-0.20427326417695305},null,null,{"$f":"N11","v":11211},{"$f":"COUNTIF(L7:L35,T11)","v":1},{"$f":"U11/(W4-U25)","v":3.4482758620689655E-2},{"$f":"IF(V11=0,0,(V11*((LOG(V11))/LOG(2))))","v":-0.16751658603888178},null,{"$f":"N11","v":11211},{"$f":"COUNTIF(L36:L64,Y11)","v":2},{"$f":"Z11/(AB4-Z25)","v":6.8965517241379309E-2},{"$f":"IF(AA11=0,0,(AA11*((LOG(AA11))/LOG(2))))","v":-0.26606765483638428},null,{"$f":"N11","v":11211},{"$f":"COUNTIF(L65:L94,AD11)","v":2},{"$f":"AE11/(AG4-AE25)","v":6.6666666666666666E-2},{"$f":"IF(AF11=0,0,(AF11*((LOG(AF11))/LOG(2))))","v":-0.26045937304056793},null,{"$f":"N11","v":11211},{"$f":"COUNTIF(L95:L123,AI11)","v":2},{"$f":"AJ11/(AL4-AJ25)","v":6.8965517241379309E-2},{"$f":"IF(AK11=0,0,(AK11*((LOG(AK11))/LOG(2))))","v":-0.26606765483638428},null,{"$f":"N11","v":11211},{"$f":"COUNTIF(L124:L152,AN11)","v":1},{"$f":"AO11/(AQ4-AO25)","v":3.4482758620689655E-2},{"$f":"IF(AP11=0,0,(AP11*((LOG(AP11))/LOG(2))))","v":-0.16751658603888178},null,{"$f":"N11","v":11211},{"$f":"COUNTIF(L153:L181,AS11)","v":0},{"$f":"AT11/(AV4-AT25)","v":0},{"$f":"IF(AU11=0,0,(AU11*((LOG(AU11))/LOG(2))))","v":0}]
[12,662,13,668,13,672,14,677,13,681,0,11111,null,11212,{"$f":"COUNTIF($L$7:$L$500,N12)","v":0},{"$f":"O12/$Q$4","v":0},{"$f":"IF(P12=0,0,(P12*((LOG(P12))/LOG(2))))","v":0},null,null,{"$f":"N12","v":11212},{"$f":"COUNTIF(L7:L35,T12)","v":0},{"$f":"U12/(W4-U25)","v":0},{"$f":"IF(V12=0,0,(V12*((LOG(V12))/LOG(2))))","v":0},null,{"$f":"N12","v":11212},{"$f":"COUNTIF(L36:L64,Y12)","v":0},{"$f":"Z12/(AB4-Z25)","v":0},{"$f":"IF(AA12=0,0,(AA12*((LOG(AA12))/LOG(2))))","v":0},null,{"$f":"N12","v":11212},{"$f":"COUNTIF(L65:L94,AD12)","v":0},{"$f":"AE12/(AG4-AE25)","v":0},{"$f":"IF(AF12=0,0,(AF12*((LOG(AF12))/LOG(2))))","v":0},null,{"$f":"N12","v":11212},{"$f":"COUNTIF(L95:L123,AI12)","v":0},{"$f":"AJ12/(AL4-AJ25)","v":0},{"$f":"IF(AK12=0,0,(AK12*((LOG(AK12))/LOG(2))))","v":0},null,{"$f":"N12","v":11212},{"$f":"COUNTIF(L124:L152,AN12)","v":0},{"$f":"AO12/(AQ4-AO25)","v":0},{"$f":"IF(AP12=0,0,(AP12*((LOG(AP12))/LOG(2))))","v":0},null,{"$f":"N12","v":11212},{"$f":"COUNTIF(L153:L181,AS12)","v":0},{"$f":"AT12/(AV4-AT25)","v":0},{"$f":"IF(AU12=0,0,(AU12*((LOG(AU12))/LOG(2))))","v":0}]
[12,777,24,790,24,798,14,808,13,811,0,12211,null,11221,{"$f":"COUNTIF($L$7:$L$500,N13)","v":8},{"$f":"O13/$Q$4","v":4.5977011494252873E-2},{"$f":"IF(P13=0,0,(P13*((LOG(P13))/LOG(2))))","v":-0.20427326417695305},null,null,{"$f":"N13","v":11221},{"$f":"COUNTIF(L7:L35,T13)","v":1},{"$f":"U13/(W4-U25)","v":3.4482758620689655E-2},{"$f":"IF(V13=0,0,(V13*((LOG(V13))/LOG(2))))","v":-0.16751658603888178},null,{"$f":"N13","v":11221},{"$f":"COUNTIF(L36:L64,Y13)","v":2},{"$f":"Z13/(AB4-Z25)","v":6.8965517241379309E-2},{"$f":"IF(AA13=0,0,(AA13*((LOG(AA13))/LOG(2))))","v":-0.26606765483638428},null,{"$f":"N13","v":11221},{"$f":"COUNTIF(L65:L94,AD13)","v":2},{"$f":"AE13/(AG4-AE25)","v":6.6666666666666666E-2},{"$f":"IF(AF13=0,0,(AF13*((LOG(AF13))/LOG(2))))","v":-0.26045937304056793},null,{"$f":"N13","v":11221},{"$f":"COUNTIF(L95:L123,AI13)","v":3},{"$f":"AJ13/(AL4-AJ25)","v":0.10344827586206896},{"$f":"IF(AK13=0,0,(AK13*((LOG(AK13))/LOG(2))))","v":-0.33858812011100858},null,{"$f":"N13","v":11221},{"$f":"COUNTIF(L124:L152,AN13)","v":0},{"$f":"AO13/(AQ4-AO25)","v":0},{"$f":"IF(AP13=0,0,(AP13*((LOG(AP13))/LOG(2))))","v":0},null,{"$f":"N13","v":11221},{"$f":"COUNTIF(L153:L181,AS13)","v":0},{"$f":"AT13/(AV4-AT25)","v":0},{"$f":"IF(AU13=0,0,(AU13*((LOG(AU13))/LOG(2))))","v":0}]
[21,919,22,923,13,942,14,948,13,958,0,22111,null,11222,{"$f":"COUNTIF($L$7:$L$500,N14)","v":2},{"$f":"O14/$Q$4","v":1.1494252873563218E-2},{"$f":"IF(P14=0,0,(P14*((LOG(P14))/LOG(2))))","v":-7.4056821791364691E-2},null,null,{"$f":"N14","v":11222},{"$f":"COUNTIF(L7:L35,T14)","v":0},{"$f":"U14/(W4-U25)","v":0},{"$f":"IF(V14=0,0,(V14*((LOG(V14))/LOG(2))))","v":0},null,{"$f":"N14","v":11222},{"$f":"COUNTIF(L36:L64,Y14)","v":2},{"$f":"Z14/(AB4-Z25)","v":6.8965517241379309E-2},{"$f":"IF(AA14=0,0,(AA14*((LOG(AA14))/LOG(2))))","v":-0.26606765483638428},null,{"$f":"N14","v":11222},{"$f":"COUNTIF(L65:L94,AD14)","v":0},{"$f":"AE14/(AG4-AE25)","v":0},{"$f":"IF(AF14=0,0,(AF14*((LOG(AF14))/LOG(2))))","v":0},null,{"$f":"N14","v":11222},{"$f":"COUNTIF(L95:L123,AI14)","v":0},{"$f":"AJ14/(AL4-AJ25)","v":0},{"$f":"IF(AK14=0,0,(AK14*((LOG(AK14))/LOG(2))))","v":0},null,{"$f":"N14","v":11222},{"$f":"COUNTIF(L124:L152,AN14)","v":0},{"$f":"AO14/(AQ4-AO25)","v":0},{"$f":"IF(AP14=0,0,(AP14*((LOG(AP14))/LOG(2))))","v":0},null,{"$f":"N14","v":11222},{"$f":"COUNTIF(L153:L181,AS14)","v":0},{"$f":"AT14/(AV4-AT25)","v":0},{"$f":"IF(AU14=0,0,(AU14*((LOG(AU14))/LOG(2))))","v":0}]
[21,1059,11,1071,22,1078,14,1088,13,1092,0,21211,null,12111,{"$f":"COUNTIF($L$7:$L$500,N15)","v":32},{"$f":"O15/$Q$4","v":0.18390804597701149},{"$f":"IF(P15=0,0,(P15*((LOG(P15))/LOG(2))))","v":-0.44927696475378914},null,null,{"$f":"N15","v":12111},{"$f":"COUNTIF(L7:L35,T15)","v":1},{"$f":"U15/(W4-U25)","v":3.4482758620689655E-2},{"$f":"IF(V15=0,0,(V15*((LOG(V15))/LOG(2))))","v":-0.16751658603888178},null,{"$f":"N15","v":12111},{"$f":"COUNTIF(L36:L64,Y15)","v":4},{"$f":"Z15/(AB4-Z25)","v":0.13793103448275862},{"$f":"IF(AA15=0,0,(AA15*((LOG(AA15))/LOG(2))))","v":-0.39420427519000989},null,{"$f":"N15","v":12111},{"$f":"COUNTIF(L65:L94,AD15)","v":5},{"$f":"AE15/(AG4-AE25)","v":0.16666666666666666},{"$f":"IF(AF15=0,0,(AF15*((LOG(AF15))/LOG(2))))","v":-0.43082708345352599},null,{"$f":"N15","v":12111},{"$f":"COUNTIF(L95:L123,AI15)","v":6},{"$f":"AJ15/(AL4-AJ25)","v":0.20689655172413793},{"$f":"IF(AK15=0,0,(AK15*((LOG(AK15))/LOG(2))))","v":-0.4702796884978791},null,{"$f":"N15","v":12111},{"$f":"COUNTIF(L124:L152,AN15)","v":9},{"$f":"AO15/(AQ4-AO25)","v":0.31034482758620691},{"$f":"IF(AP15=0,0,(AP15*((LOG(AP15))/LOG(2))))","v":-0.52387944631611505},null,{"$f":"N15","v":12111},{"$f":"COUNTIF(L153:L181,AS15)","v":7},{"$f":"AT15/(AV4-AT25)","v":0.25},{"$f":"IF(AU15=0,0,(AU15*((LOG(AU15))/LOG(2))))","v":-0.5}]
[21,1193,22,1198,24,1215,23,1220,13,1230,0,22221,null,12112,{"$f":"COUNTIF($L$7:$L$500,N16)","v":1},{"$f":"O16/$Q$4","v":5.7471264367816091E-3},{"$f":"IF(P16=0,0,(P16*((LOG(P16))/LOG(2))))","v":-4.2775537332463962E-2},null,null,{"$f":"N16","v":12112},{"$f":"COUNTIF(L7:L35,T16)","v":0},{"$f":"U16/(W4-U25)","v":0},{"$f":"IF(V16=0,0,(V16*((LOG(V16))/LOG(2))))","v":0},null,{"$f":"N16","v":12112},{"$f":"COUNTIF(L36:L64,Y16)","v":0},{"$f":"Z16/(AB4-Z25)","v":0},{"$f":"IF(AA16=0,0,(AA16*((LOG(AA16))/LOG(2))))","v":0},null,{"$f":"N16","v":12112},{"$f":"COUNTIF(L65:L94,AD16)","v":1},{"$f":"AE16/(AG4-AE25)","v":3.3333333333333333E-2},{"$f":"IF(AF16=0,0,(AF16*((LOG(AF16))/LOG(2))))","v":-0.16356301985361729},null,{"$f":"N16","v":12112},{"$f":"COUNTIF(L95:L123,AI16)","v":0},{"$f":"AJ16/(AL4-AJ25)","v":0},{"$f":"IF(AK16=0,0,(AK16*((LOG(AK16))/LOG(2))))","v":0},null,{"$f":"N16","v":12112},{"$f":"COUNTIF(L124:L152,AN16)","v":0},{"$f":"AO16/(AQ4-AO25)","v":0},{"$f":"IF(AP16=0,0,(AP16*((LOG(AP16))/LOG(2))))","v":0},null,{"$f":"N16","v":12112},{"$f":"COUNTIF(L153:L181,AS16)","v":0},{"$f":"AT16/(AV4-AT25)","v":0},{"$f":"IF(AU16=0,0,(AU16*((LOG(AU16))/LOG(2))))","v":0}]
[21,1332,22,1339,24,1357,23,1362,13,1372,0,22221,null,12121,{"$f":"COUNTIF($L$7:$L$500,N17)","v":0},{"$f":"O17/$Q$4","v":0},{"$f":"IF(P17=0,0,(P17*((LOG(P17))/LOG(2))))","v":0},null,null,{"$f":"N17","v":12121},{"$f":"COUNTIF(L7:L35,T17)","v":0},{"$f":"U17/(W4-U25)","v":0},{"$f":"IF(V17=0,0,(V17*((LOG(V17))/LOG(2))))","v":0},null,{"$f":"N17","v":12121},{"$f":"COUNTIF(L36:L64,Y17)","v":0},{"$f":"Z17/(AB4-Z25)","v":0},{"$f":"IF(AA17=0,0,(AA17*((LOG(AA17))/LOG(2))))","v":0},null,{"$f":"N17","v":12121},{"$f":"COUNTIF(L65:L94,AD17)","v":0},{"$f":"AE17/(AG4-AE25)","v":0},{"$f":"IF(AF17=0,0,(AF17*((LOG(AF17))/LOG(2))))","v":0},null,{"$f":"N17","v":12121},{"$f":"COUNTIF(L95:L123,AI17)","v":0},{"$f":"AJ17/(AL4-AJ25)","v":0},{"$f":"IF(AK17=0,0,(AK17*((LOG(AK17))/LOG(2))))","v":0},null,{"$f":"N17","v":12121},{"$f":"COUNTIF(L124:L152,AN17)","v":0},{"$f":"AO17/(AQ4-AO25)","v":0},{"$f":"IF(AP17=0,0,(AP17*((LOG(AP17))/LOG(2))))","v":0},null,{"$f":"N17","v":12121},{"$f":"COUNTIF(L153:L181,AS17)","v":0},{"$f":"AT17/(AV4-AT25)","v":0},{"$f":"IF(AU17=0,0,(AU17*((LOG(AU17))/LOG(2))))","v":0}]
[12,1474,24,1484,24,1489,14,1503,13,1507,0,12211,null,12122,{"$f":"COUNTIF($L$7:$L$500,N18)","v":0},{"$f":"O18/$Q$4","v":0},{"$f":"IF(P18=0,0,(P18*((LOG(P18))/LOG(2))))","v":0},null,null,{"$f":"N18","v":12122},{"$f":"COUNTIF(L7:L35,T18)","v":0},{"$f":"U18/(W4-U25)","v":0},{"$f":"IF(V18=0,0,(V18*((LOG(V18))/LOG(2))))","v":0},null,{"$f":"N18","v":12122},{"$f":"COUNTIF(L36:L64,Y18)","v":0},{"$f":"Z18/(AB4-Z25)","v":0},{"$f":"IF(AA18=0,0,(AA18*((LOG(AA18))/LOG(2))))","v":0},null,{"$f":"N18","v":12122},{"$f":"COUNTIF(L65:L94,AD18)","v":0},{"$f":"AE18/(AG4-AE25)","v":0},{"$f":"IF(AF18=0,0,(AF18*((LOG(AF18))/LOG(2))))","v":0},null,{"$f":"N18","v":12122},{"$f":"COUNTIF(L95:L123,AI18)","v":0},{"$f":"AJ18/(AL4-AJ25)","v":0},{"$f":"IF(AK18=0,0,(AK18*((LOG(AK18))/LOG(2))))","v":0},null,{"$f":"N18","v":12122},{"$f":"COUNTIF(L124:L152,AN18)","v":0},{"$f":"AO18/(AQ4-AO25)","v":0},{"$f":"IF(AP18=0,0,(AP18*((LOG(AP18))/LOG(2))))","v":0},null,{"$f":"N18","v":12122},{"$f":"COUNTIF(L153:L181,AS18)","v":0},{"$f":"AT18/(AV4-AT25)","v":0},{"$f":"IF(AU18=0,0,(AU18*((LOG(AU18))/LOG(2))))","v":0}]
[12,1606,13,1611,24,1619,14,1628,13,1632,0,11211,null,12211,{"$f":"COUNTIF($L$7:$L$500,N19)","v":35},{"$f":"O19/$Q$4","v":0.20114942528735633},{"$f":"IF(P19=0,0,(P19*((LOG(P19))/LOG(2))))","v":-0.46539147564156125},null,null,{"$f":"N19","v":12211},{"$f":"COUNTIF(L7:L35,T19)","v":6},{"$f":"U19/(W4-U25)","v":0.20689655172413793},{"$f":"IF(V19=0,0,(V19*((LOG(V19))/LOG(2))))","v":-0.4702796884978791},null,{"$f":"N19","v":12211},{"$f":"COUNTIF(L36:L64,Y19)","v":3},{"$f":"Z19/(AB4-Z25)","v":0.10344827586206896},{"$f":"IF(AA19=0,0,(AA19*((LOG(AA19))/LOG(2))))","v":-0.33858812011100858},null,{"$f":"N19","v":12211},{"$f":"COUNTIF(L65:L94,AD19)","v":4},{"$f":"AE19/(AG4-AE25)","v":0.13333333333333333},{"$f":"IF(AF19=0,0,(AF19*((LOG(AF19))/LOG(2))))","v":-0.3875854127478025},null,{"$f":"N19","v":12211},{"$f":"COUNTIF(L95:L123,AI19)","v":8},{"$f":"AJ19/(AL4-AJ25)","v":0.27586206896551724},{"$f":"IF(AK19=0,0,(AK19*((LOG(AK19))/LOG(2))))","v":-0.51254648141450265},null,{"$f":"N19","v":12211},{"$f":"COUNTIF(L124:L152,AN19)","v":5},{"$f":"AO19/(AQ4-AO25)","v":0.17241379310344829},{"$f":"IF(AP19=0,0,(AP19*((LOG(AP19))/LOG(2))))","v":-0.43725050004141547},null,{"$f":"N19","v":12211},{"$f":"COUNTIF(L153:L181,AS19)","v":9},{"$f":"AT19/(AV4-AT25)","v":0.32142857142857145},{"$f":"IF(AU19=0,0,(AU19*((LOG(AU19))/LOG(2))))","v":-0.5263167601977724}]
[21,1735,22,1743,13,1753,14,1757,13,1768,0,22111,null,12212,{"$f":"COUNTIF($L$7:$L$500,N20)","v":0},{"$f":"O20/$Q$4","v":0},{"$f":"IF(P20=0,0,(P20*((LOG(P20))/LOG(2))))","v":0},null,null,{"$f":"N20","v":12212},{"$f":"COUNTIF(L7:L35,T20)","v":0},{"$f":"U20/(W4-U25)","v":0},{"$f":"IF(V20=0,0,(V20*((LOG(V20))/LOG(2))))","v":0},null,{"$f":"N20","v":12212},{"$f":"COUNTIF(L36:L64,Y20)","v":0},{"$f":"Z20/(AB4-Z25)","v":0},{"$f":"IF(AA20=0,0,(AA20*((LOG(AA20))/LOG(2))))","v":0},null,{"$f":"N20","v":12212},{"$f":"COUNTIF(L65:L94,AD20)","v":0},{"$f":"AE20/(AG4-AE25)","v":0},{"$f":"IF(AF20=0,0,(AF20*((LOG(AF20))/LOG(2))))","v":0},null,{"$f":"N20","v":12212},{"$f":"COUNTIF(L95:L123,AI20)","v":0},{"$f":"AJ20/(AL4-AJ25)","v":0},{"$f":"IF(AK20=0,0,(AK20*((LOG(AK20))/LOG(2))))","v":0},null,{"$f":"N20","v":12212},{"$f":"COUNTIF(L124:L152,AN20)","v":0},{"$f":"AO20/(AQ4-AO25)","v":0},{"$f":"IF(AP20=0,0,(AP20*((LOG(AP20))/LOG(2))))","v":0},null,{"$f":"N20","v":12212},{"$f":"COUNTIF(L153:L181,AS20)","v":0},{"$f":"AT20/(AV4-AT25)","v":0},{"$f":"IF(AU20=0,0,(AU20*((LOG(AU20))/LOG(2))))","v":0}]
[12,1873,24,1882,24,1886,14,1898,13,1902,0,12211,null,12221,{"$f":"COUNTIF($L$7:$L$500,N21)","v":8},{"$f":"O21/$Q$4","v":4.5977011494252873E-2},{"$f":"IF(P21=0,0,(P21*((LOG(P21))/LOG(2))))","v":-0.20427326417695305},null,null,{"$f":"N21","v":12221},{"$f":"COUNTIF(L7:L35,T21)","v":3},{"$f":"U21/(W4-U25)","v":0.10344827586206896},{"$f":"IF(V21=0,0,(V21*((LOG(V21))/LOG(2))))","v":-0.33858812011100858},null,{"$f":"N21","v":12221},{"$f":"COUNTIF(L36:L64,Y21)","v":1},{"$f":"Z21/(AB4-Z25)","v":3.4482758620689655E-2},{"$f":"IF(AA21=0,0,(AA21*((LOG(AA21))/LOG(2))))","v":-0.16751658603888178},null,{"$f":"N21","v":12221},{"$f":"COUNTIF(L65:L94,AD21)","v":2},{"$f":"AE21/(AG4-AE25)","v":6.6666666666666666E-2},{"$f":"IF(AF21=0,0,(AF21*((LOG(AF21))/LOG(2))))","v":-0.26045937304056793},null,{"$f":"N21","v":12221},{"$f":"COUNTIF(L95:L123,AI21)","v":0},{"$f":"AJ21/(AL4-AJ25)","v":0},{"$f":"IF(AK21=0,0,(AK21*((LOG(AK21))/LOG(2))))","v":0},null,{"$f":"N21","v":12221},{"$f":"COUNTIF(L124:L152,AN21)","v":2},{"$f":"AO21/(AQ4-AO25)","v":6.8965517241379309E-2},{"$f":"IF(AP21=0,0,(AP21*((LOG(AP21))/LOG(2))))","v":-0.26606765483638428},null,{"$f":"N21","v":12221},{"$f":"COUNTIF(L153:L181,AS21)","v":0},{"$f":"AT21/(AV4-AT25)","v":0},{"$f":"IF(AU21=0,0,(AU21*((LOG(AU21))/LOG(2))))","v":0}]
[12,2007,24,2015,24,2020,23,2024,13,2035,1,12221,null,12222,{"$f":"COUNTIF($L$7:$L$500,N22)","v":2},{"$f":"O22/$Q$4","v":1.1494252873563218E-2},{"$f":"IF(P22=0,0,(P22*((LOG(P22))/LOG(2))))","v":-7.4056821791364691E-2},null,null,{"$f":"N22","v":12222},{"$f":"COUNTIF(L7:L35,T22)","v":0},{"$f":"U22/(W4-U25)","v":0},{"$f":"IF(V22=0,0,(V22*((LOG(V22))/LOG(2))))","v":0},null,{"$f":"N22","v":12222},{"$f":"COUNTIF(L36:L64,Y22)","v":0},{"$f":"Z22/(AB4-Z25)","v":0},{"$f":"IF(AA22=0,0,(AA22*((LOG(AA22))/LOG(2))))","v":0},null,{"$f":"N22","v":12222},{"$f":"COUNTIF(L65:L94,AD22)","v":2},{"$f":"AE22/(AG4-AE25)","v":6.6666666666666666E-2},{"$f":"IF(AF22=0,0,(AF22*((LOG(AF22))/LOG(2))))","v":-0.26045937304056793},null,{"$f":"N22","v":12222},{"$f":"COUNTIF(L95:L123,AI22)","v":0},{"$f":"AJ22/(AL4-AJ25)","v":0},{"$f":"IF(AK22=0,0,(AK22*((LOG(AK22))/LOG(2))))","v":0},null,{"$f":"N22","v":12222},{"$f":"COUNTIF(L124:L152,AN22)","v":0},{"$f":"AO22/(AQ4-AO25)","v":0},{"$f":"IF(AP22=0,0,(AP22*((LOG(AP22))/LOG(2))))","v":0},null,{"$f":"N22","v":12222},{"$f":"COUNTIF(L153:L181,AS22)","v":0},{"$f":"AT22/(AV4-AT25)","v":0},{"$f":"IF(AU22=0,0,(AU22*((LOG(AU22))/LOG(2))))","v":0}]
[21,2142,22,2153,13,2163,14,2168,13,2175,1,22111,null,21111,{"$f":"COUNTIF($L$7:$L$500,N23)","v":18},{"$f":"O23/$Q$4","v":0.10344827586206896},{"$f":"IF(P23=0,0,(P23*((LOG(P23))/LOG(2))))","v":-0.33858812011100858},null,null,{"$f":"N23","v":21111},{"$f":"COUNTIF(L7:L35,T23)","v":1},{"$f":"U23/(W4-U25)","v":3.4482758620689655E-2},{"$f":"IF(V23=0,0,(V23*((LOG(V23))/LOG(2))))","v":-0.16751658603888178},null,{"$f":"N23","v":21111},{"$f":"COUNTIF(L36:L64,Y23)","v":5},{"$f":"Z23/(AB4-Z25)","v":0.17241379310344829},{"$f":"IF(AA23=0,0,(AA23*((LOG(AA23))/LOG(2))))","v":-0.43725050004141547},null,{"$f":"N23","v":21111},{"$f":"COUNTIF(L65:L94,AD23)","v":4},{"$f":"AE23/(AG4-AE25)","v":0.13333333333333333},{"$f":"IF(AF23=0,0,(AF23*((LOG(AF23))/LOG(2))))","v":-0.3875854127478025},null,{"$f":"N23","v":21111},{"$f":"COUNTIF(L95:L123,AI23)","v":2},{"$f":"AJ23/(AL4-AJ25)","v":6.8965517241379309E-2},{"$f":"IF(AK23=0,0,(AK23*((LOG(AK23))/LOG(2))))","v":-0.26606765483638428},null,{"$f":"N23","v":21111},{"$f":"COUNTIF(L124:L152,AN23)","v":3},{"$f":"AO23/(AQ4-AO25)","v":0.10344827586206896},{"$f":"IF(AP23=0,0,(AP23*((LOG(AP23))/LOG(2))))","v":-0.33858812011100858},null,{"$f":"N23","v":21111},{"$f":"COUNTIF(L153:L181,AS23)","v":3},{"$f":"AT23/(AV4-AT25)","v":0.10714285714285714},{"$f":"IF(AU23=0,0,(AU23*((LOG(AU23))/LOG(2))))","v":-0.34525633085747659}]
[12,2278,24,2286,24,2291,14,2301,13,2306,0,12211,null,21112,{"$f":"COUNTIF($L$7:$L$500,N24)","v":0},{"$f":"O24/$Q$4","v":0},{"$f":"IF(P24=0,0,(P24*((LOG(P24))/LOG(2))))","v":0},null,null,{"$f":"N24","v":21112},{"$f":"COUNTIF(L7:L35,T24)","v":0},{"$f":"U24/(W4-U25)","v":0},{"$f":"IF(V24=0,0,(V24*((LOG(V24))/LOG(2))))","v":0},null,{"$f":"N24","v":21112},{"$f":"COUNTIF(L36:L64,Y24)","v":0},{"$f":"Z24/(AB4-Z25)","v":0},{"$f":"IF(AA24=0,0,(AA24*((LOG(AA24))/LOG(2))))","v":0},null,{"$f":"N24","v":21112},{"$f":"COUNTIF(L65:L94,AD24)","v":0},{"$f":"AE24/(AG4-AE25)","v":0},{"$f":"IF(AF24=0,0,(AF24*((LOG(AF24))/LOG(2))))","v":0},null,{"$f":"N24","v":21112},{"$f":"COUNTIF(L95:L123,AI24)","v":0},{"$f":"AJ24/(AL4-AJ25)","v":0},{"$f":"IF(AK24=0,0,(AK24*((LOG(AK24))/LOG(2))))","v":0},null,{"$f":"N24","v":21112},{"$f":"COUNTIF(L124:L152,AN24)","v":0},{"$f":"AO24/(AQ4-AO25)","v":0},{"$f":"IF(AP24=0,0,(AP24*((LOG(AP24))/LOG(2))))","v":0},null,{"$f":"N24","v":21112},{"$f":"COUNTIF(L153:L181,AS24)","v":0},{"$f":"AT24/(AV4-AT25)","v":0},{"$f":"IF(AU24=0,0,(AU24*((LOG(AU24))/LOG(2))))","v":0}]
[21,2408,22,2420,24,2427,23,2435,13,2450,0,22221,null,21121,{"$f":"COUNTIF($L$7:$L$500,N25)","v":0},{"$f":"O25/$Q$4","v":0},{"$f":"IF(P25=0,0,(P25*((LOG(P25))/LOG(2))))","v":0},null,null,{"$f":"N25","v":21121},{"$f":"COUNTIF(L7:L35,T25)","v":0},null,null,null,{"$f":"N25","v":21121},{"$f":"COUNTIF(L36:L64,Y25)","v":0},null,null,null,{"$f":"N25","v":21121},{"$f":"COUNTIF(L65:L94,AD25)","v":0},null,null,null,{"$f":"N25","v":21121},{"$f":"COUNTIF(L95:L123,AI25)","v":0},null,null,null,{"$f":"N25","v":21121},{"$f":"COUNTIF(L124:L152,AN25)","v":0},null,null,null,{"$f":"N25","v":21121},{"$f":"COUNTIF(L153:L181,AS25)","v":0}]
[21,2565,22,2570,13,2580,14,2584,13,2588,0,22111,null,21122,{"$f":"COUNTIF($L$7:$L$500,N26)","v":0},{"$f":"O26/$Q$4","v":0},{"$f":"IF(P26=0,0,(P26*((LOG(P26))/LOG(2))))","v":0},null,null,{"$f":"N26","v":21122},{"$f":"COUNTIF(L7:L35,T26)","v":0},{"$f":"U26/(W4-U25)","v":0},{"$f":"IF(V26=0,0,(V26*((LOG(V26))/LOG(2))))","v":0},null,{"$f":"N26","v":21122},{"$f":"COUNTIF(L36:L64,Y26)","v":0},{"$f":"Z26/(AB4-Z25)","v":0},{"$f":"IF(AA26=0,0,(AA26*((LOG(AA26))/LOG(2))))","v":0},null,{"$f":"N26","v":21122},{"$f":"COUNTIF(L65:L94,AD26)","v":0},{"$f":"AE26/(AG4-AE25)","v":0},{"$f":"IF(AF26=0,0,(AF26*((LOG(AF26))/LOG(2))))","v":0},null,{"$f":"N26","v":21122},{"$f":"COUNTIF(L95:L123,AI26)","v":0},{"$f":"AJ26/(AL4-AJ25)","v":0},{"$f":"IF(AK26=0,0,(AK26*((LOG(AK26))/LOG(2))))","v":0},null,{"$f":"N26","v":21122},{"$f":"COUNTIF(L124:L152,AN26)","v":0},{"$f":"AO26/(AQ4-AO25)","v":0},{"$f":"IF(AP26=0,0,(AP26*((LOG(AP26))/LOG(2))))","v":0},null,{"$f":"N26","v":21122},{"$f":"COUNTIF(L153:L181,AS26)","v":0},{"$f":"AT26/(AV4-AT25)","v":0},{"$f":"IF(AU26=0,0,(AU26*((LOG(AU26))/LOG(2))))","v":0}]
[21,2687,11,2701,22,2708,14,2718,13,2721,0,21211,null,21211,{"$f":"COUNTIF($L$7:$L$500,N27)","v":3},{"$f":"O27/$Q$4","v":1.7241379310344827E-2},{"$f":"IF(P27=0,0,(P27*((LOG(P27))/LOG(2))))","v":-0.10099967232978573},null,null,{"$f":"N27","v":21211},{"$f":"COUNTIF(L7:L35,T27)","v":2},{"$f":"U27/(W4-U25)","v":6.8965517241379309E-2},{"$f":"IF(V27=0,0,(V27*((LOG(V27))/LOG(2))))","v":-0.26606765483638428},null,{"$f":"N27","v":21211},{"$f":"COUNTIF(L36:L64,Y27)","v":0},{"$f":"Z27/(AB4-Z25)","v":0},{"$f":"IF(AA27=0,0,(AA27*((LOG(AA27))/LOG(2))))","v":0},null,{"$f":"N27","v":21211},{"$f":"COUNTIF(L65:L94,AD27)","v":0},{"$f":"AE27/(AG4-AE25)","v":0},{"$f":"IF(AF27=0,0,(AF27*((LOG(AF27))/LOG(2))))","v":0},null,{"$f":"N27","v":21211},{"$f":"COUNTIF(L95:L123,AI27)","v":0},{"$f":"AJ27/(AL4-AJ25)","v":0},{"$f":"IF(AK27=0,0,(AK27*((LOG(AK27))/LOG(2))))","v":0},null,{"$f":"N27","v":21211},{"$f":"COUNTIF(L124:L152,AN27)","v":1},{"$f":"AO27/(AQ4-AO25)","v":3.4482758620689655E-2},{"$f":"IF(AP27=0,0,(AP27*((LOG(AP27))/LOG(2))))","v":-0.16751658603888178},null,{"$f":"N27","v":21211},{"$f":"COUNTIF(L153:L181,AS27)","v":0},{"$f":"AT27/(AV4-AT25)","v":0},{"$f":"IF(AU27=0,0,(AU27*((LOG(AU27))/LOG(2))))","v":0}]
[12,2823,24,2830,24,2834,14,2844,13,2849,0,12211,null,21212,{"$f":"COUNTIF($L$7:$L$500,N28)","v":0},{"$f":"O28/$Q$4","v":0},{"$f":"IF(P28=0,0,(P28*((LOG(P28))/LOG(2))))","v":0},null,null,{"$f":"N28","v":21212},{"$f":"COUNTIF(L7:L35,T28)","v":0},{"$f":"U28/(W4-U25)","v":0},{"$f":"IF(V28=0,0,(V28*((LOG(V28))/LOG(2))))","v":0},null,{"$f":"N28","v":21212},{"$f":"COUNTIF(L36:L64,Y28)","v":0},{"$f":"Z28/(AB4-Z25)","v":0},{"$f":"IF(AA28=0,0,(AA28*((LOG(AA28))/LOG(2))))","v":0},null,{"$f":"N28","v":21212},{"$f":"COUNTIF(L65:L94,AD28)","v":0},{"$f":"AE28/(AG4-AE25)","v":0},{"$f":"IF(AF28=0,0,(AF28*((LOG(AF28))/LOG(2))))","v":0},null,{"$f":"N28","v":21212},{"$f":"COUNTIF(L95:L123,AI28)","v":0},{"$f":"AJ28/(AL4-AJ25)","v":0},{"$f":"IF(AK28=0,0,(AK28*((LOG(AK28))/LOG(2))))","v":0},null,{"$f":"N28","v":21212},{"$f":"COUNTIF(L124:L152,AN28)","v":0},{"$f":"AO28/(AQ4-AO25)","v":0},{"$f":"IF(AP28=0,0,(AP28*((LOG(AP28))/LOG(2))))","v":0},null,{"$f":"N28","v":21212},{"$f":"COUNTIF(L153:L181,AS28)","v":0},{"$f":"AT28/(AV4-AT25)","v":0},{"$f":"IF(AU28=0,0,(AU28*((LOG(AU28))/LOG(2))))","v":0}]
[21,2950,22,2954,24,2963,23,2970,13,2980,1,22221,null,21221,{"$f":"COUNTIF($L$7:$L$500,N29)","v":0},{"$f":"O29/$Q$4","v":0},{"$f":"IF(P29=0,0,(P29*((LOG(P29))/LOG(2))))","v":0},null,null,{"$f":"N29","v":21221},{"$f":"COUNTIF(L7:L35,T29)","v":0},{"$f":"U29/(W4-U25)","v":0},{"$f":"IF(V29=0,0,(V29*((LOG(V29))/LOG(2))))","v":0},null,{"$f":"N29","v":21221},{"$f":"COUNTIF(L36:L64,Y29)","v":0},{"$f":"Z29/(AB4-Z25)","v":0},{"$f":"IF(AA29=0,0,(AA29*((LOG(AA29))/LOG(2))))","v":0},null,{"$f":"N29","v":21221},{"$f":"COUNTIF(L65:L94,AD29)","v":0},{"$f":"AE29/(AG4-AE25)","v":0},{"$f":"IF(AF29=0,0,(AF29*((LOG(AF29))/LOG(2))))","v":0},null,{"$f":"N29","v":21221},{"$f":"COUNTIF(L95:L123,AI29)","v":0},{"$f":"AJ29/(AL4-AJ25)","v":0},{"$f":"IF(AK29=0,0,(AK29*((LOG(AK29))/LOG(2))))","v":0},null,{"$f":"N29","v":21221},{"$f":"COUNTIF(L124:L152,AN29)","v":0},{"$f":"AO29/(AQ4-AO25)","v":0},{"$f":"IF(AP29=0,0,(AP29*((LOG(AP29))/LOG(2))))","v":0},null,{"$f":"N29","v":21221},{"$f":"COUNTIF(L153:L181,AS29)","v":0},{"$f":"AT29/(AV4-AT25)","v":0},{"$f":"IF(AU29=0,0,(AU29*((LOG(AU29))/LOG(2))))","v":0}]
[21,3075,22,3081,24,3090,14,3101,24,3108,0,22212,null,21222,{"$f":"COUNTIF($L$7:$L$500,N30)","v":0},{"$f":"O30/$Q$4","v":0},{"$f":"IF(P30=0,0,(P30*((LOG(P30))/LOG(2))))","v":0},null,null,{"$f":"N30","v":21222},{"$f":"COUNTIF(L7:L35,T30)","v":0},{"$f":"U30/(W4-U25)","v":0},{"$f":"IF(V30=0,0,(V30*((LOG(V30))/LOG(2))))","v":0},null,{"$f":"N30","v":21222},{"$f":"COUNTIF(L36:L64,Y30)","v":0},{"$f":"Z30/(AB4-Z25)","v":0},{"$f":"IF(AA30=0,0,(AA30*((LOG(AA30))/LOG(2))))","v":0},null,{"$f":"N30","v":21222},{"$f":"COUNTIF(L65:L94,AD30)","v":0},{"$f":"AE30/(AG4-AE25)","v":0},{"$f":"IF(AF30=0,0,(AF30*((LOG(AF30))/LOG(2))))","v":0},null,{"$f":"N30","v":21222},{"$f":"COUNTIF(L95:L123,AI30)","v":0},{"$f":"AJ30/(AL4-AJ25)","v":0},{"$f":"IF(AK30=0,0,(AK30*((LOG(AK30))/LOG(2))))","v":0},null,{"$f":"N30","v":21222},{"$f":"COUNTIF(L124:L152,AN30)","v":0},{"$f":"AO30/(AQ4-AO25)","v":0},{"$f":"IF(AP30=0,0,(AP30*((LOG(AP30))/LOG(2))))","v":0},null,{"$f":"N30","v":21222},{"$f":"COUNTIF(L153:L181,AS30)","v":0},{"$f":"AT30/(AV4-AT25)","v":0},{"$f":"IF(AU30=0,0,(AU30*((LOG(AU30))/LOG(2))))","v":0}]
[12,3210,24,3218,24,3230,14,3239,13,3243,0,12211,null,22111,{"$f":"COUNTIF($L$7:$L$500,N31)","v":10},{"$f":"O31/$Q$4","v":5.7471264367816091E-2},{"$f":"IF(P31=0,0,(P31*((LOG(P31))/LOG(2))))","v":-0.23683996557249232},null,null,{"$f":"N31","v":22111},{"$f":"COUNTIF(L7:L35,T31)","v":4},{"$f":"U31/(W4-U25)","v":0.13793103448275862},{"$f":"IF(V31=0,0,(V31*((LOG(V31))/LOG(2))))","v":-0.39420427519000989},null,{"$f":"N31","v":22111},{"$f":"COUNTIF(L36:L64,Y31)","v":3},{"$f":"Z31/(AB4-Z25)","v":0.10344827586206896},{"$f":"IF(AA31=0,0,(AA31*((LOG(AA31))/LOG(2))))","v":-0.33858812011100858},null,{"$f":"N31","v":22111},{"$f":"COUNTIF(L65:L94,AD31)","v":0},{"$f":"AE31/(AG4-AE25)","v":0},{"$f":"IF(AF31=0,0,(AF31*((LOG(AF31))/LOG(2))))","v":0},null,{"$f":"N31","v":22111},{"$f":"COUNTIF(L95:L123,AI31)","v":2},{"$f":"AJ31/(AL4-AJ25)","v":6.8965517241379309E-2},{"$f":"IF(AK31=0,0,(AK31*((LOG(AK31))/LOG(2))))","v":-0.26606765483638428},null,{"$f":"N31","v":22111},{"$f":"COUNTIF(L124:L152,AN31)","v":0},{"$f":"AO31/(AQ4-AO25)","v":0},{"$f":"IF(AP31=0,0,(AP31*((LOG(AP31))/LOG(2))))","v":0},null,{"$f":"N31","v":22111},{"$f":"COUNTIF(L153:L181,AS31)","v":1},{"$f":"AT31/(AV4-AT25)","v":3.5714285714285712E-2},{"$f":"IF(AU31=0,0,(AU31*((LOG(AU31))/LOG(2))))","v":-0.17169124721634299}]
[12,3344,13,3348,13,3352,14,3356,13,3366,1,11111,null,22112,{"$f":"COUNTIF($L$7:$L$500,N32)","v":0},{"$f":"O32/$Q$4","v":0},{"$f":"IF(P32=0,0,(P32*((LOG(P32))/LOG(2))))","v":0},null,null,{"$f":"N32","v":22112},{"$f":"COUNTIF(L7:L35,T32)","v":0},{"$f":"U32/(W4-U25)","v":0},{"$f":"IF(V32=0,0,(V32*((LOG(V32))/LOG(2))))","v":0},null,{"$f":"N32","v":22112},{"$f":"COUNTIF(L36:L64,Y32)","v":0},{"$f":"Z32/(AB4-Z25)","v":0},{"$f":"IF(AA32=0,0,(AA32*((LOG(AA32))/LOG(2))))","v":0},null,{"$f":"N32","v":22112},{"$f":"COUNTIF(L65:L94,AD32)","v":0},{"$f":"AE32/(AG4-AE25)","v":0},{"$f":"IF(AF32=0,0,(AF32*((LOG(AF32))/LOG(2))))","v":0},null,{"$f":"N32","v":22112},{"$f":"COUNTIF(L95:L123,AI32)","v":0},{"$f":"AJ32/(AL4-AJ25)","v":0},{"$f":"IF(AK32=0,0,(AK32*((LOG(AK32))/LOG(2))))","v":0},null,{"$f":"N32","v":22112},{"$f":"COUNTIF(L124:L152,AN32)","v":0},{"$f":"AO32/(AQ4-AO25)","v":0},{"$f":"IF(AP32=0,0,(AP32*((LOG(AP32))/LOG(2))))","v":0},null,{"$f":"N32","v":22112},{"$f":"COUNTIF(L153:L181,AS32)","v":0},{"$f":"AT32/(AV4-AT25)","v":0},{"$f":"IF(AU32=0,0,(AU32*((LOG(AU32))/LOG(2))))","v":0}]
[21,3472,11,3482,11,3487,12,3497,13,3504,0,21111,null,22121,{"$f":"COUNTIF($L$7:$L$500,N33)","v":0},{"$f":"O33/$Q$4","v":0},{"$f":"IF(P33=0,0,(P33*((LOG(P33))/LOG(2))))","v":0},null,null,{"$f":"N33","v":22121},{"$f":"COUNTIF(L7:L35,T33)","v":0},{"$f":"U33/(W4-U25)","v":0},{"$f":"IF(V33=0,0,(V33*((LOG(V33))/LOG(2))))","v":0},null,{"$f":"N33","v":22121},{"$f":"COUNTIF(L36:L64,Y33)","v":0},{"$f":"Z33/(AB4-Z25)","v":0},{"$f":"IF(AA33=0,0,(AA33*((LOG(AA33))/LOG(2))))","v":0},null,{"$f":"N33","v":22121},{"$f":"COUNTIF(L65:L94,AD33)","v":0},{"$f":"AE33/(AG4-AE25)","v":0},{"$f":"IF(AF33=0,0,(AF33*((LOG(AF33))/LOG(2))))","v":0},null,{"$f":"N33","v":22121},{"$f":"COUNTIF(L95:L123,AI33)","v":0},{"$f":"AJ33/(AL4-AJ25)","v":0},{"$f":"IF(AK33=0,0,(AK33*((LOG(AK33))/LOG(2))))","v":0},null,{"$f":"N33","v":22121},{"$f":"COUNTIF(L124:L152,AN33)","v":0},{"$f":"AO33/(AQ4-AO25)","v":0},{"$f":"IF(AP33=0,0,(AP33*((LOG(AP33))/LOG(2))))","v":0},null,{"$f":"N33","v":22121},{"$f":"COUNTIF(L153:L181,AS33)","v":0},{"$f":"AT33/(AV4-AT25)","v":0},{"$f":"IF(AU33=0,0,(AU33*((LOG(AU33))/LOG(2))))","v":0}]
[12,3608,24,3617,13,3628,14,3638,13,3642,0,12111,null,22122,{"$f":"COUNTIF($L$7:$L$500,N34)","v":0},{"$f":"O34/$Q$4","v":0},{"$f":"IF(P34=0,0,(P34*((LOG(P34))/LOG(2))))","v":0},null,null,{"$f":"N34","v":22122},{"$f":"COUNTIF(L7:L35,T34)","v":0},{"$f":"U34/(W4-U25)","v":0},{"$f":"IF(V34=0,0,(V34*((LOG(V34))/LOG(2))))","v":0},null,{"$f":"N34","v":22122},{"$f":"COUNTIF(L36:L64,Y34)","v":0},{"$f":"Z34/(AB4-Z25)","v":0},{"$f":"IF(AA34=0,0,(AA34*((LOG(AA34))/LOG(2))))","v":0},null,{"$f":"N34","v":22122},{"$f":"COUNTIF(L65:L94,AD34)","v":0},{"$f":"AE34/(AG4-AE25)","v":0},{"$f":"IF(AF34=0,0,(AF34*((LOG(AF34))/LOG(2))))","v":0},null,{"$f":"N34","v":22122},{"$f":"COUNTIF(L95:L123,AI34)","v":0},{"$f":"AJ34/(AL4-AJ25)","v":0},{"$f":"IF(AK34=0,0,(AK34*((LOG(AK34))/LOG(2))))","v":0},null,{"$f":"N34","v":22122},{"$f":"COUNTIF(L124:L152,AN34)","v":0},{"$f":"AO34/(AQ4-AO25)","v":0},{"$f":"IF(AP34=0,0,(AP34*((LOG(AP34))/LOG(2))))","v":0},null,{"$f":"N34","v":22122},{"$f":"COUNTIF(L153:L181,AS34)","v":0},{"$f":"AT34/(AV4-AT25)","v":0},{"$f":"IF(AU34=0,0,(AU34*((LOG(AU34))/LOG(2))))","v":0}]
[12,3745,24,3754,24,3758,23,3783,13,3791,0,12221,null,22211,{"$f":"COUNTIF($L$7:$L$500,N35)","v":3},{"$f":"O35/$Q$4","v":1.7241379310344827E-2},{"$f":"IF(P35=0,0,(P35*((LOG(P35))/LOG(2))))","v":-0.10099967232978573},null,null,{"$f":"N35","v":22211},{"$f":"COUNTIF(L7:L35,T35)","v":1},{"$f":"U35/(W4-U25)","v":3.4482758620689655E-2},{"$f":"IF(V35=0,0,(V35*((LOG(V35))/LOG(2))))","v":-0.16751658603888178},null,{"$f":"N35","v":22211},{"$f":"COUNTIF(L36:L64,Y35)","v":1},{"$f":"Z35/(AB4-Z25)","v":3.4482758620689655E-2},{"$f":"IF(AA35=0,0,(AA35*((LOG(AA35))/LOG(2))))","v":-0.16751658603888178},null,{"$f":"N35","v":22211},{"$f":"COUNTIF(L65:L94,AD35)","v":1},{"$f":"AE35/(AG4-AE25)","v":3.3333333333333333E-2},{"$f":"IF(AF35=0,0,(AF35*((LOG(AF35))/LOG(2))))","v":-0.16356301985361729},null,{"$f":"N35","v":22211},{"$f":"COUNTIF(L95:L123,AI35)","v":0},{"$f":"AJ35/(AL4-AJ25)","v":0},{"$f":"IF(AK35=0,0,(AK35*((LOG(AK35))/LOG(2))))","v":0},null,{"$f":"N35","v":22211},{"$f":"COUNTIF(L124:L152,AN35)","v":0},{"$f":"AO35/(AQ4-AO25)","v":0},{"$f":"IF(AP35=0,0,(AP35*((LOG(AP35))/LOG(2))))","v":0},null,{"$f":"N35","v":22211},{"$f":"COUNTIF(L153:L181,AS35)","v":0},{"$f":"AT35/(AV4-AT25)","v":0},{"$f":"IF(AU35=0,0,(AU35*((LOG(AU35))/LOG(2))))","v":0}]
[12,3893,24,3902,24,3913,14,3923,13,3932,1,12211,null,22212,{"$f":"COUNTIF($L$7:$L$500,N36)","v":1},{"$f":"O36/$Q$4","v":5.7471264367816091E-3},{"$f":"IF(P36=0,0,(P36*((LOG(P36))/LOG(2))))","v":-4.2775537332463962E-2},null,null,{"$f":"N36","v":22212},{"$f":"COUNTIF(L7:L35,T36)","v":1},{"$f":"U36/(W4-U25)","v":3.4482758620689655E-2},{"$f":"IF(V36=0,0,(V36*((LOG(V36))/LOG(2))))","v":-0.16751658603888178},null,{"$f":"N36","v":22212},{"$f":"COUNTIF(L36:L64,Y36)","v":0},{"$f":"Z36/(AB4-Z25)","v":0},{"$f":"IF(AA36=0,0,(AA36*((LOG(AA36))/LOG(2))))","v":0},null,{"$f":"N36","v":22212},{"$f":"COUNTIF(L65:L94,AD36)","v":0},{"$f":"AE36/(AG4-AE25)","v":0},{"$f":"IF(AF36=0,0,(AF36*((LOG(AF36))/LOG(2))))","v":0},null,{"$f":"N36","v":22212},{"$f":"COUNTIF(L95:L123,AI36)","v":0},{"$f":"AJ36/(AL4-AJ25)","v":0},{"$f":"IF(AK36=0,0,(AK36*((LOG(AK36))/LOG(2))))","v":0},null,{"$f":"N36","v":22212},{"$f":"COUNTIF(L124:L152,AN36)","v":0},{"$f":"AO36/(AQ4-AO25)","v":0},{"$f":"IF(AP36=0,0,(AP36*((LOG(AP36))/LOG(2))))","v":0},null,{"$f":"N36","v":22212},{"$f":"COUNTIF(L153:L181,AS36)","v":0},{"$f":"AT36/(AV4-AT25)","v":0},{"$f":"IF(AU36=0,0,(AU36*((LOG(AU36))/LOG(2))))","v":0}]
[21,4043,11,4053,11,4057,12,4062,13,4072,0,21111,null,22221,{"$f":"COUNTIF($L$7:$L$500,N37)","v":6},{"$f":"O37/$Q$4","v":3.4482758620689655E-2},{"$f":"IF(P37=0,0,(P37*((LOG(P37))/LOG(2))))","v":-0.16751658603888178},null,null,{"$f":"N37","v":22221},{"$f":"COUNTIF(L7:L35,T37)","v":5},{"$f":"U37/(W4-U25)","v":0.17241379310344829},{"$f":"IF(V37=0,0,(V37*((LOG(V37))/LOG(2))))","v":-0.43725050004141547},null,{"$f":"N37","v":22221},{"$f":"COUNTIF(L36:L64,Y37)","v":1},{"$f":"Z37/(AB4-Z25)","v":3.4482758620689655E-2},{"$f":"IF(AA37=0,0,(AA37*((LOG(AA37))/LOG(2))))","v":-0.16751658603888178},null,{"$f":"N37","v":22221},{"$f":"COUNTIF(L65:L94,AD37)","v":0},{"$f":"AE37/(AG4-AE25)","v":0},{"$f":"IF(AF37=0,0,(AF37*((LOG(AF37))/LOG(2))))","v":0},null,{"$f":"N37","v":22221},{"$f":"COUNTIF(L95:L123,AI37)","v":0},{"$f":"AJ37/(AL4-AJ25)","v":0},{"$f":"IF(AK37=0,0,(AK37*((LOG(AK37))/LOG(2))))","v":0},null,{"$f":"N37","v":22221},{"$f":"COUNTIF(L124:L152,AN37)","v":0},{"$f":"AO37/(AQ4-AO25)","v":0},{"$f":"IF(AP37=0,0,(AP37*((LOG(AP37))/LOG(2))))","v":0},null,{"$f":"N37","v":22221},{"$f":"COUNTIF(L153:L181,AS37)","v":0},{"$f":"AT37/(AV4-AT25)","v":0},{"$f":"IF(AU37=0,0,(AU37*((LOG(AU37))/LOG(2))))","v":0}]
[21,4181,11,4198,11,4204,12,4211,13,4221,0,21111,null,22222,{"$f":"COUNTIF($L$7:$L$500,N38)","v":0},{"$f":"O38/$Q$4","v":0},{"$f":"IF(P38=0,0,(P38*((LOG(P38))/LOG(2))))","v":0},null,null,{"$f":"N38","v":22222},{"$f":"COUNTIF(L7:L35,T38)","v":0},{"$f":"U38/(W4-U25)","v":0},{"$f":"IF(V38=0,0,(V38*((LOG(V38))/LOG(2))))","v":0},null,{"$f":"N38","v":22222},{"$f":"COUNTIF(L36:L64,Y38)","v":0},{"$f":"Z38/(AB4-Z25)","v":0},{"$f":"IF(AA38=0,0,(AA38*((LOG(AA38))/LOG(2))))","v":0},null,{"$f":"N38","v":22222},{"$f":"COUNTIF(L65:L94,AD38)","v":0},{"$f":"AE38/(AG4-AE25)","v":0},{"$f":"IF(AF38=0,0,(AF38*((LOG(AF38))/LOG(2))))","v":0},null,{"$f":"N38","v":22222},{"$f":"COUNTIF(L95:L123,AI38)","v":0},{"$f":"AJ38/(AL4-AJ25)","v":0},{"$f":"IF(AK38=0,0,(AK38*((LOG(AK38))/LOG(2))))","v":0},null,{"$f":"N38","v":22222},{"$f":"COUNTIF(L124:L152,AN38)","v":0},{"$f":"AO38/(AQ4-AO25)","v":0},{"$f":"IF(AP38=0,0,(AP38*((LOG(AP38))/LOG(2))))","v":0},null,{"$f":"N38","v":22222},{"$f":"COUNTIF(L153:L181,AS38)","v":0},{"$f":"AT38/(AV4-AT25)","v":0},{"$f":"IF(AU38=0,0,(AU38*((LOG(AU38))/LOG(2))))","v":0}]
[21,4330,22,4338,24,4348,23,4352,13,4362,0,22221,null,null,null,{"$f":"SUM(P7:P38)","v":1},{"$f":"-SUM(Q7:Q38)","v":3.2570395178623106},null,null,null,null,{"$f":"SUM(V7:V38)","v":0.99999999999999989},{"$f":"-SUM(W7:W38)","v":3.2500778750209967},null,null,null,{"$f":"SUM(AA7:AA38)","v":0.99999999999999978},{"$f":"-SUM(AB7:AB38)","v":3.3711045993081328},null,null,null,{"$f":"SUM(AF7:AF38)","v":0.99999999999999989},{"$f":"-SUM(AG7:AG38)","v":3.202910079649727},null,null,null,{"$f":"SUM(AK7:AK38)","v":1},{"$f":"-SUM(AL7:AL38)","v":2.5898969430304222},null,null,null,{"$f":"SUM(AP7:AP38)","v":1},{"$f":"-SUM(AQ7:AQ38)","v":2.4133653747971899},null,null,null,{"$f":"SUM(AU7:AU38)","v":1},{"$f":"-SUM(AV7:AV38)","v":2.0596514588594785}]
[21,4464,22,4472,13,4483,14,4487,13,4491,0,22111,null,null,null,"U=",{"$f":"Q39/(LOG(Q4)/LOG(2))","v":0.43760100015254866},null,null,null,null,"U1=",{"$f":"W39/(LOG(W4)/LOG(2))","v":0.66901823582281195},null,null,null,"U2=",{"$f":"AB39/(LOG(AB4)/LOG(2))","v":0.6939312036603813},null,null,null,"U3=",{"$f":"AG39/(LOG(AG4)/LOG(2))","v":0.65273721050887301},null,null,null,"U4=",{"$f":"AL39/(LOG(AL4)/LOG(2))","v":0.5331220821217747},null,null,null,"U5=",{"$f":"AQ39/(LOG(AQ4)/LOG(2))","v":0.49678361797169079},null,null,null,"U6=",{"$f":"AV39/(LOG(AV4)/LOG(2))","v":0.42843756956849022}]
[21,4609,11,4622,11,4627,12,4633,13,4646,0,21111]
[12,4762,13,4766,13,4770,14,4774,13,4781,0,11111]
[12,4881,13,4885,13,4889,14,4892,13,4896,1,11111,null,"Total Target Seq"]
[21,4994,11,5005,11,5012,12,5016,13,5019,0,21111,null,{"$f":"COUNTIF(L7:L181,G3)","v":0},null,29,29,30,29,29,29]
[12,5118,13,5122,24,5131,14,5142,13,5146,1,11211,null,null,null,"% of reinforcement given in 6 equal intervals based on number of trials "]
[21,5259,22,5264,13,5286,14,5291,13,5301,0,22111,null,null,null,"%_1","%_2","%_3","%_4","%_5","%_6"]
[12,5405,24,5413,24,5417,14,5429,13,5433,0,12211,null,null,"target sequence",{"$f":"$G$3","v":21121},{"$f":"$G$3","v":21121},{"$f":"$G$3","v":21121},{"$f":"$G$3","v":21121},{"$f":"$G$3","v":21121},{"$f":"$G$3","v":21121}]
[12,5551,24,5560,13,5580,14,5584,13,5592,0,12111,null,null,"total reinforcement",{"$f":"U25","v":0},{"$f":"Z25","v":0},{"$f":"AE25","v":0},{"$f":"AJ25","v":0},{"$f":"AO25","v":0},{"$f":"AT25","v":0}]
[21,5707,11,5722,11,5725,12,5729,13,5739,0,21111,null,null,"% target"]
[12,5838,24,5846,13,5856,14,5860,13,5864,0,12111,null,null,"CCRF"]
[12,5962,13,5970,24,5982,23,5987,13,5999,0,11221,null,null,"% CCRf"]
[12,6098,13,6105,13,6116,14,6120,13,6124,0,11111,null,null,"average response rate",{"$f":"J35/P44","v":130.72413793103448},{"$f":"(J64-J35)/Q44","v":138.72413793103448},{"$f":"(J94-J64)/R44","v":139},{"$f":"(J123-J94)/S44","v":134.68965517241378},{"$f":"(J152-J123)/T44","v":140.27586206896552},{"$f":"(J181-J152)/U44","v":-688.20689655172418}]
[12,6223,13,6227,24,6236,14,6246,13,6249,0,11211]
[12,6349,13,6367,13,6370,14,6377,13,6387,0,11111]
[12,6484,13,6488,24,6496,23,6506,24,6513,0,11222]
[12,6610,13,6614,24,6621,23,6626,13,6638,1,11221]
[21,6748,22,6766,24,6771,14,6782,13,6789,0,22211]
[12,6893,24,6901,13,6923,14,6928,13,6937,0,12111]
[12,7038,24,7051,24,7062,14,7072,13,7078,1,12211]
[21,7176,22,7195,13,7205,14,7215,13,7219,0,22111]
[12,7322,13,7331,24,7341,23,7352,24,7358,0,11222]
[12,7459,13,7463,13,7474,23,7482,24,7492,0,11122]
[12,7596,24,7623,24,7629,23,7636,13,7644,1,12221]
[12,7782,24,7790,13,7804,14,7808,13,7814,0,12111]
[12,7915,13,7933,13,7937,14,7943,13,7950,0,11111]
[12,8052,13,8056,13,8061,23,8069,13,8079,0,11121]
[12,8176,24,8187,24,8192,23,8199,24,8206,0,12222]
[12,8307,24,8314,13,8332,14,8336,13,8343,0,12111]
[12,8479,24,8486,13,8496,14,8500,13,8513,0,12111]
[12,8611,13,8615,24,8624,14,8636,13,8640,1,11211]
[21,8756,11,8774,11,8778,12,8791,13,8799,0,21111]
[12,8901,24,8910,24,8917,23,8925,24,8930,0,12222]
[12,9029,13,9032,13,9036,14,9040,13,9045,0,11111]
[12,9147,24,9154,24,9159,23,9168,13,9177,1,12221]
[12,9286,24,9294,13,9325,14,9329,13,9340,0,12111]
[21,9451,11,9460,11,9463,12,9468,13,9475,0,21111]
[12,9574,13,9578,24,9586,14,9598,13,9603,0,11211]
[12,9700,13,9709,13,9724,14,9729,13,9735,0,11111]
[12,9833,24,9865,13,9874,14,9880,24,9892,0,12112]
[12,9996,13,10000,24,10009,23,10020,13,10028,0,11221]
[12,10135,24,10143,13,10153,14,10157,13,10163,1,12111]
[12,10268,24,10277,24,10285,14,10302,13,10308,1,12211]
[21,10433,11,10451,11,10454,12,10458,13,10475,0,21111]
[12,10600,24,10614,24,10619,23,10627,13,10635,0,12221]
[12,10734,13,10745,24,10757,23,10772,13,10780,0,11221]
[12,10882,24,10891,24,10903,14,10913,13,10917,0,12211]
[12,11019,13,11024,13,11027,14,11031,13,11045,1,11111]
[21,11153,11,11176,11,11181,12,11185,13,11196,0,21111]
[12,11300,24,11308,24,11322,14,11338,13,11341,0,12211]
[12,11442,24,11450,13,11467,14,11471,13,11477,0,12111]
[12,11579,24,11587,24,11594,14,11602,13,11606,0,12211]
[21,11722,22,11732,24,11740,14,11749,13,11755,0,22211]
[12,11853,13,11858,13,11862,14,11865,13,11869,0,11111]
[12,11967,13,11972,13,11976,14,11980,13,11984,0,11111]
[12,12091,13,12095,13,12098,14,12102,13,12115,0,11111]
[12,12217,24,12233,24,12241,14,12248,13,12252,1,12211]
[12,12355,13,12372,13,12391,14,12395,13,12399,1,11111]
[12,12513,24,12521,24,12529,14,12538,13,12542,0,12211]
[12,12646,13,12677,13,12681,14,12688,13,12695,0,11111]
[12,12797,24,12805,13,12814,14,12817,13,12824,0,12111]
[12,12925,24,12933,24,12941,14,12948,13,12952,0,12211]
[12,13053,24,13061,13,13070,14,13074,13,13078,1,12111]
[21,13179,22,13198,13,13207,14,13214,13,13219,0,22111]
[21,13332,11,13343,11,13347,12,13351,13,13357,0,21111]
[12,13457,24,13464,24,13471,14,13478,13,13482,0,12211]
[12,13583,13,13588,13,13600,14,13604,13,13608,0,11111]
[12,13708,24,13716,24,13723,14,13730,13,13734,0,12211]
[12,13837,24,13845,24,13866,14,13873,13,13877,1,12211]
[21,13973,11,13992,11,14000,12,14005,13,14011,0,21111]
[12,14114,24,14124,13,14140,14,14143,13,14147,0,12111]
[12,14246,13,14272,13,14280,14,14284,13,14291,0,11111]
[12,14398,24,14406,24,14412,14,14420,13,14424,0,12211]
[12,14520,13,14524,24,14532,23,14540,13,14547,0,11221]
[12,14647,13,14655,24,14662,14,14678,13,14681,0,11211]
[12,14780,13,14784,24,14791,23,14803,13,14810,0,11221]
[12,14914,13,14928,13,14932,14,14936,13,14950,0,11111]
[12,15049,24,15057,24,15072,14,15079,13,15083,0,12211]
[12,15182,13,15186,24,15194,14,15203,13,15207,0,11211]
[12,15304,24,15312,13,15319,14,15323,13,15327,1,12111]
[12,15444,24,15452,13,15463,14,15469,13,15477,1,12111]
[21,15580,22,15592,13,15603,14,15614,13,15625,0,22111]
[12,15728,24,15737,13,15745,14,15749,13,15756,0,12111]
[12,15855,13,15867,24,15875,23,15883,13,15890,0,11221]
[12,15990,24,15998,13,16013,14,16017,13,16024,0,12111]
[12,16122,24,16130,13,16158,14,16162,13,16168,0,12111]
[12,16270,24,16278,24,16282,23,16296,13,16303,0,12221]
[12,16403,24,16411,24,16424,23,16438,13,16448,0,12221]
[12,16548,24,16557,24,16567,14,16576,13,16580,0,12211]
[12,16683,24,16691,13,16702,14,16706,13,16712,0,12111]
[12,16821,13,16828,13,16832,14,16836,13,16851,0,11111]
[12,16959,24,16967,24,16982,14,16992,13,16998,1,12211]
[21,17101,11,17123,11,17128,12,17132,13,17141,0,21111]
[12,17274,13,17278,13,17283,14,17290,13,17304,0,11111]
[12,17406,24,17414,13,17427,14,17431,13,17435,0,12111]
[12,17536,13,17540,13,17544,14,17549,13,17553,0,11111]
[12,17652,24,17661,13,17668,14,17671,13,17675,1,12111]
[12,17789,13,17805,13,17809,14,17814,13,17821,0,11111]
[12,17920,13,17939,13,17953,14,17956,13,17962,0,11111]
[21,18117,11,18124,11,18128,12,18132,13,18141,1,21111]
[21,18245,11,18266,22,18281,14,18288,13,18292,0,21211]
[12,18396,24,18416,13,18424,14,18428,13,18432,0,12111]
[12,18533,24,18555,13,18564,14,18567,13,18572,0,12111]
[12,18670,24,18678,13,18699,14,18703,13,18707,1,12111]
[21,18810,11,18835,11,18839,12,18846,13,18854,0,21111]
[12,18959,24,18993,13,19002,14,19006,13,19013,0,12111]
[12,19111,13,19115,13,19120,14,19129,13,19141,0,11111]
[12,19243,13,19249,24,19256,14,19265,13,19269,0,11211]
[12,19377,13,19382,13,19390,14,19395,13,19399,0,11111]
[12,19499,13,19504,13,19514,14,19519,13,19534,0,11111]
[12,19634,24,19643,24,19650,14,19657,13,19661,1,12211]
[12,19783,24,19790,24,19799,14,19808,13,19812,0,12211]
[12,19914,24,19922,24,19945,14,19953,13,19958,0,12211]
[12,20061,24,20070,24,20084,14,20091,13,20095,0,12211]
[12,20198,24,20206,24,20212,14,20219,13,20223,0,12211]
[21,20330,22,20336,13,20356,14,20360,13,20368,0,22111]
[12,20473,24,20481,13,20497,14,20501,13,20508,0,12111]
[12,20610,13,20637,13,20641,14,20647,13,20655,1,11111]
[12,20777,13,20785,13,20789,14,20794,13,20801,1,11111]
[12,20928,13,20944,13,20951,14,20955,13,20961,0,11111]
[12,21063,24,21081,13,21088,14,21092,13,21096,0,12111]
[12,21199,13,21202,13,21214,14,21218,13,21222,1,11111]
[21,21338,11,21346,11,21357,12,21362,13,21366,0,21111]
[12,21464,24,21475,24,21482,14,21490,13,21494,0,12211]
[12,21594,24,21602,24,21609,14,21616,13,21620,0,12211]
[12,21724,13,21732,13,21736,14,21741,13,21748,1,11111]
[12,21872,24,21881,13,21895,14,21899,13,21905,0,12111]
[12,22007,24,22027,13,22036,14,22040,13,22044,0,12111]
[12,22143,24,22157,24,22166,14,22173,13,22177,0,12211]
[12,22281,24,22289,13,22296,14,22299,13,22304,0,12111]
[12,22411,13,22420,13,22424,14,22431,13,22439,1,11111]
[21,22553,11,22585,11,22589,12,22594,13,22606,1,21111]
[12,22734,13,22750,13,22755,14,22761,13,22771,0,11111]
[12,22874,24,22890,13,22897,14,22901,13,22907,0,12111]
[21,23016,11,23029,11,23037,12,23040,13,23044,0,21111]
[12,23148,24,23156,24,23163,14,23171,13,23175,1,12211]
[12,23296,13,23301,13,23305,14,23309,13,23314,0,11111]
[12,23418,24,23443,24,23451,14,23462,13,23467,0,12211]
[12,23568,24,23576,24,23583,14,23590,13,23594,0,12211]
[12,23733,24,23741,24,23745,14,23756,13,23759,0,12211]
[12,23867,24,23882,13,23889,14,23894,13,23900,1,12111]
[12,23998,null,null,null,null,null,null,null,null,null,1]

{"sheet":"!N415B30.096","index":21,"n_rows":180,"n_cols":48,"rows_kept":180,"cut":false,"hidden":false,"merged":[[4,39,4,42],[5,39,5,40],[4,44,4,47],[5,44,5,45],[4,24,4,27],[5,24,5,25],[4,29,4,32],[5,29,5,30],[4,34,4,37],[5,34,5,35],[1,1,1,2],[5,13,5,14],[42,13,42,14],[43,13,43,14],[4,19,4,22],[5,19,5,20]]}
["Report for:!N415B30.096"]
["Date:","<date>"]
["Hen:","<hen>",null,null,null,"Correct Sequence",{"$f":"Start!J2","v":21121},null,null,null,null,null,null,null,null,"Total Sequences in Data",{"$f":"4994-COUNTBLANK(L7:L5000)","v":174},null,null,null,null,"Total Sequences in Block Data",{"$f":"COUNTA(L7:L35)","v":29},null,null,null,"Total Sequences in Block Data",{"$f":"COUNTA(L36:L64)","v":29},null,null,null,"Total Sequences in Block Data",{"$f":"COUNTA(L65:L93)","v":29},null,null,null,"Total Sequences in Block Data",{"$f":"COUNTA(L94:L122)","v":29},null,null,null,"Total Sequences in Block Data",{"$f":"COUNTA(L123:L151)","v":29},null,null,null,"Total Sequences in Block Data",{"$f":"COUNTA(L152:L180)","v":29}]
[null,null,null,null,null,null,null,null,null,null,null,null,null,null,null,"Total Sequences in Summary",{"$f":"SUM(O7:O38)","v":174},null,null,null,null,"Total Sequences in Block Summary",{"$f":"SUM(U7:U38)","v":29},null,null,null,"Total Sequences in Block Summary",{"$f":"SUM(Z7:Z38)","v":29},null,null,null,"Total Sequences in Block Summary",{"$f":"SUM(AE7:AE38)","v":29},null,null,null,"Total Sequences in Block Summary",{"$f":"SUM(AJ7:AJ38)","v":29},null,null,null,"Total Sequences in Block Summary",{"$f":"SUM(AO7:AO38)","v":29},null,null,null,"Total Sequences in Block Summary",{"$f":"SUM(AT7:AT38)","v":29}]
[null,null,null,null,null,null,null,null,null,null,null,null,null,null,null,null,null,null,null,"Block 1",null,null,null,null,"Block 2",null,null,null,null,"Block 3",null,null,null,null,"Block 4",null,null,null,null,"Block 5",null,null,null,null,"Block 6"]
["Sequence\nComponent\n1","Time\n1","Sequence\nComponent\n2","Time\n2","Sequence\nComponent\n3","Time\n3","Sequence\nComponent\n4","Time\n4","Sequence\nComponent\n5","Time\n5","Correct?\n0=No 1=Yes","Sequence",null,"Frequency",null,"Relative Frequency","Variability",null,null,"Frequency",null,"Relative Frequency","Variability",null,"Frequency",null,"Relative Frequency","Variability",null,"Frequency",null,"Relative Frequency","Variability",null,"Frequency",null,"Relative Frequency","Variability",null,"Frequency",null,"Relative Frequency","Variability",null,"Frequency",null,"Relative Frequency","Variability"]
[12,7,13,11,24,19,23,28,13,35,0,11221,null,11111,{"$f":"COUNTIF($L$7:$L$500,N7)","v":28},{"$f":"O7/$Q$4","v":0.16091954022988506},{"$f":"IF(P7=0,0,(P7*((LOG(P7))/LOG(2))))","v":-0.42411770152960621},null,null,{"$f":"N7","v":11111},{"$f":"COUNTIF(L7:L35,T7)","v":1},{"$f":"U7/(W4-U25)","v":3.4482758620689655E-2},{"$f":"IF(V7=0,0,(V7*((LOG(V7))/LOG(2))))","v":-0.16751658603888178},null,{"$f":"N7","v":11111},{"$f":"COUNTIF(L36:L64,Y7)","v":3},{"$f":"Z7/(AB4-Z25)","v":0.10344827586206896},{"$f":"IF(AA7=0,0,(AA7*((LOG(AA7))/LOG(2))))","v":-0.33858812011100858},null,{"$f":"N7","v":11111},{"$f":"COUNTIF(L65:L93,AD7)","v":7},{"$f":"AE7/(AG4-AE25)","v":0.2413793103448276},{"$f":"IF(AF7=0,0,(AF7*((LOG(AF7))/LOG(2))))","v":-0.49497870729275095},null,{"$f":"N7","v":11111},{"$f":"COUNTIF(L94:L122,AI7)","v":3},{"$f":"AJ7/(AL4-AJ25)","v":0.10344827586206896},{"$f":"IF(AK7=0,0,(AK7*((LOG(AK7))/LOG(2))))","v":-0.33858812011100858},null,{"$f":"N7","v":11111},{"$f":"COUNTIF(L123:L151,AN7)","v":2},{"$f":"AO7/(AQ4-AO25)","v":6.8965517241379309E-2},{"$f":"IF(AP7=0,0,(AP7*((LOG(AP7))/LOG(2))))","v":-0.26606765483638428},null,{"$f":"N7","v":11111},{"$f":"COUNTIF(L152:L180,AS7)","v":12},{"$f":"AT7/(AV4-AT25)","v":0.41379310344827586},{"$f":"IF(AU7=0,0,(AU7*((LOG(AU7))/LOG(2))))","v":-0.5267662735474824}]
[12,130,13,135,13,139,14,143,24,151,0,11112,null,11112,{"$f":"COUNTIF($L$7:$L$500,N8)","v":1},{"$f":"O8/$Q$4","v":5.7471264367816091E-3},{"$f":"IF(P8=0,0,(P8*((LOG(P8))/LOG(2))))","v":-4.2775537332463962E-2},null,null,{"$f":"N8","v":11112},{"$f":"COUNTIF(L7:L35,T8)","v":1},{"$f":"U8/(W4-U25)","v":3.4482758620689655E-2},{"$f":"IF(V8=0,0,(V8*((LOG(V8))/LOG(2))))","v":-0.16751658603888178},null,{"$f":"N8","v":11112},{"$f":"COUNTIF(L36:L64,Y8)","v":0},{"$f":"Z8/(AB4-Z25)","v":0},{"$f":"IF(AA8=0,0,(AA8*((LOG(AA8))/LOG(2))))","v":0},null,{"$f":"N8","v":11112},{"$f":"COUNTIF(L65:L93,AD8)","v":0},{"$f":"AE8/(AG4-AE25)","v":0},{"$f":"IF(AF8=0,0,(AF8*((LOG(AF8))/LOG(2))))","v":0},null,{"$f":"N8","v":11112},{"$f":"COUNTIF(L94:L122,AI8)","v":0},{"$f":"AJ8/(AL4-AJ25)","v":0},{"$f":"IF(AK8=0,0,(AK8*((LOG(AK8))/LOG(2))))","v":0},null,{"$f":"N8","v":11112},{"$f":"COUNTIF(L123:L151,AN8)","v":0},{"$f":"AO8/(AQ4-AO25)","v":0},{"$f":"IF(AP8=0,0,(AP8*((LOG(AP8))/LOG(2))))","v":0},null,{"$f":"N8","v":11112},{"$f":"COUNTIF(L152:L180,AS8)","v":0},{"$f":"AT8/(AV4-AT25)","v":0},{"$f":"IF(AU8=0,0,(AU8*((LOG(AU8))/LOG(2))))","v":0}]
[12,249,24,257,24,261,23,266,13,273,0,12221,null,11121,{"$f":"COUNTIF($L$7:$L$500,N9)","v":0},{"$f":"O9/$Q$4","v":0},{"$f":"IF(P9=0,0,(P9*((LOG(P9))/LOG(2))))","v":0},null,null,{"$f":"N9","v":11121},{"$f":"COUNTIF(L7:L35,T9)","v":0},{"$f":"U9/(W4-U25)","v":0},{"$f":"IF(V9=0,0,(V9*((LOG(V9))/LOG(2))))","v":0},null,{"$f":"N9","v":11121},{"$f":"COUNTIF(L36:L64,Y9)","v":0},{"$f":"Z9/(AB4-Z25)","v":0},{"$f":"IF(AA9=0,0,(AA9*((LOG(AA9))/LOG(2))))","v":0},null,{"$f":"N9","v":11121},{"$f":"COUNTIF(L65:L93,AD9)","v":0},{"$f":"AE9/(AG4-AE25)","v":0},{"$f":"IF(AF9=0,0,(AF9*((LOG(AF9))/LOG(2))))","v":0},null,{"$f":"N9","v":11121},{"$f":"COUNTIF(L94:L122,AI9)","v":0},{"$f":"AJ9/(AL4-AJ25)","v":0},{"$f":"IF(AK9=0,0,(AK9*((LOG(AK9))/LOG(2))))","v":0},null,{"$f":"N9","v":11121},{"$f":"COUNTIF(L123:L151,AN9)","v":0},{"$f":"AO9/(AQ4-AO25)","v":0},{"$f":"IF(AP9=0,0,(AP9*((LOG(AP9))/LOG(2))))","v":0},null,{"$f":"N9","v":11121},{"$f":"COUNTIF(L152:L180,AS9)","v":0},{"$f":"AT9/(AV4-AT25)","v":0},{"$f":"IF(AU9=0,0,(AU9*((LOG(AU9))/LOG(2))))","v":0}]
[21,372,22,377,24,381,14,389,13,400,0,22211,null,11122,{"$f":"COUNTIF($L$7:$L$500,N10)","v":1},{"$f":"O10/$Q$4","v":5.7471264367816091E-3},{"$f":"IF(P10=0,0,(P10*((LOG(P10))/LOG(2))))","v":-4.2775537332463962E-2},null,null,{"$f":"N10","v":11122},{"$f":"COUNTIF(L7:L35,T10)","v":1},{"$f":"U10/(W4-U25)","v":3.4482758620689655E-2},{"$f":"IF(V10=0,0,(V10*((LOG(V10))/LOG(2))))","v":-0.16751658603888178},null,{"$f":"N10","v":11122},{"$f":"COUNTIF(L36:L64,Y10)","v":0},{"$f":"Z10/(AB4-Z25)","v":0},{"$f":"IF(AA10=0,0,(AA10*((LOG(AA10))/LOG(2))))","v":0},null,{"$f":"N10","v":11122},{"$f":"COUNTIF(L65:L93,AD10)","v":0},{"$f":"AE10/(AG4-AE25)","v":0},{"$f":"IF(AF10=0,0,(AF10*((LOG(AF10))/LOG(2))))","v":0},null,{"$f":"N10","v":11122},{"$f":"COUNTIF(L94:L122,AI10)","v":0},{"$f":"AJ10/(AL4-AJ25)","v":0},{"$f":"IF(AK10=0,0,(AK10*((LOG(AK10))/LOG(2))))","v":0},null,{"$f":"N10","v":11122},{"$f":"COUNTIF(L123:L151,AN10)","v":0},{"$f":"AO10/(AQ4-AO25)","v":0},{"$f":"IF(AP10=0,0,(AP10*((LOG(AP10))/LOG(2))))","v":0},null,{"$f":"N10","v":11122},{"$f":"COUNTIF(L152:L180,AS10)","v":0},{"$f":"AT10/(AV4-AT25)","v":0},{"$f":"IF(AU10=0,0,(AU10*((LOG(AU10))/LOG(2))))","v":0}]
[12,499,13,504,13,507,14,511,13,514,0,11111,null,11211,{"$f":"COUNTIF($L$7:$L$500,N11)","v":3},{"$f":"O11/$Q$4","v":1.7241379310344827E-2},{"$f":"IF(P11=0,0,(P11*((LOG(P11))/LOG(2))))","v":-0.10099967232978573},null,null,{"$f":"N11","v":11211},{"$f":"COUNTIF(L7:L35,T11)","v":0},{"$f":"U11/(W4-U25)","v":0},{"$f":"IF(V11=0,0,(V11*((LOG(V11))/LOG(2))))","v":0},null,{"$f":"N11","v":11211},{"$f":"COUNTIF(L36:L64,Y11)","v":0},{"$f":"Z11/(AB4-Z25)","v":0},{"$f":"IF(AA11=0,0,(AA11*((LOG(AA11))/LOG(2))))","v":0},null,{"$f":"N11","v":11211},{"$f":"COUNTIF(L65:L93,AD11)","v":1},{"$f":"AE11/(AG4-AE25)","v":3.4482758620689655E-2},{"$f":"IF(AF11=0,0,(AF11*((LOG(AF11))/LOG(2))))","v":-0.16751658603888178},null,{"$f":"N11","v":11211},{"$f":"COUNTIF(L94:L122,AI11)","v":0},{"$f":"AJ11/(AL4-AJ25)","v":0},{"$f":"IF(AK11=0,0,(AK11*((LOG(AK11))/LOG(2))))","v":0},null,{"$f":"N11","v":11211},{"$f":"COUNTIF(L123:L151,AN11)","v":0},{"$f":"AO11/(AQ4-AO25)","v":0},{"$f":"IF(AP11=0,0,(AP11*((LOG(AP11))/LOG(2))))","v":0},null,{"$f":"N11","v":11211},{"$f":"COUNTIF(L152:L180,AS11)","v":2},{"$f":"AT11/(AV4-AT25)","v":6.8965517241379309E-2},{"$f":"IF(AU11=0,0,(AU11*((LOG(AU11))/LOG(2))))","v":-0.26606765483638428}]
[21,613,22,617,24,624,23,629,24,633,0,22222,null,11212,{"$f":"COUNTIF($L$7:$L$500,N12)","v":0},{"$f":"O12/$Q$4","v":0},{"$f":"IF(P12=0,0,(P12*((LOG(P12))/LOG(2))))","v":0},null,null,{"$f":"N12","v":11212},{"$f":"COUNTIF(L7:L35,T12)","v":0},{"$f":"U12/(W4-U25)","v":0},{"$f":"IF(V12=0,0,(V12*((LOG(V12))/LOG(2))))","v":0},null,{"$f":"N12","v":11212},{"$f":"COUNTIF(L36:L64,Y12)","v":0},{"$f":"Z12/(AB4-Z25)","v":0},{"$f":"IF(AA12=0,0,(AA12*((LOG(AA12))/LOG(2))))","v":0},null,{"$f":"N12","v":11212},{"$f":"COUNTIF(L65:L93,AD12)","v":0},{"$f":"AE12/(AG4-AE25)","v":0},{"$f":"IF(AF12=0,0,(AF12*((LOG(AF12))/LOG(2))))","v":0},null,{"$f":"N12","v":11212},{"$f":"COUNTIF(L94:L122,AI12)","v":0},{"$f":"AJ12/(AL4-AJ25)","v":0},{"$f":"IF(AK12=0,0,(AK12*((LOG(AK12))/LOG(2))))","v":0},null,{"$f":"N12","v":11212},{"$f":"COUNTIF(L123:L151,AN12)","v":0},{"$f":"AO12/(AQ4-AO25)","v":0},{"$f":"IF(AP12=0,0,(AP12*((LOG(AP12))/LOG(2))))","v":0},null,{"$f":"N12","v":11212},{"$f":"COUNTIF(L152:L180,AS12)","v":0},{"$f":"AT12/(AV4-AT25)","v":0},{"$f":"IF(AU12=0,0,(AU12*((LOG(AU12))/LOG(2))))","v":0}]
[21,734,22,738,24,742,14,750,13,755,0,22211,null,11221,{"$f":"COUNTIF($L$7:$L$500,N13)","v":3},{"$f":"O13/$Q$4","v":1.7241379310344827E-2},{"$f":"IF(P13=0,0,(P13*((LOG(P13))/LOG(2))))","v":-0.10099967232978573},null,null,{"$f":"N13","v":11221},{"$f":"COUNTIF(L7:L35,T13)","v":2},{"$f":"U13/(W4-U25)","v":6.8965517241379309E-2},{"$f":"IF(V13=0,0,(V13*((LOG(V13))/LOG(2))))","v":-0.26606765483638428},null,{"$f":"N13","v":11221},{"$f":"COUNTIF(L36:L64,Y13)","v":0},{"$f":"Z13/(AB4-Z25)","v":0},{"$f":"IF(AA13=0,0,(AA13*((LOG(AA13))/LOG(2))))","v":0},null,{"$f":"N13","v":11221},{"$f":"COUNTIF(L65:L93,AD13)","v":1},{"$f":"AE13/(AG4-AE25)","v":3.4482758620689655E-2},{"$f":"IF(AF13=0,0,(AF13*((LOG(AF13))/LOG(2))))","v":-0.16751658603888178},null,{"$f":"N13","v":11221},{"$f":"COUNTIF(L94:L122,AI13)","v":0},{"$f":"AJ13/(AL4-AJ25)","v":0},{"$f":"IF(AK13=0,0,(AK13*((LOG(AK13))/LOG(2))))","v":0},null,{"$f":"N13","v":11221},{"$f":"COUNTIF(L123:L151,AN13)","v":0},{"$f":"AO13/(AQ4-AO25)","v":0},{"$f":"IF(AP13=0,0,(AP13*((LOG(AP13))/LOG(2))))","v":0},null,{"$f":"N13","v":11221},{"$f":"COUNTIF(L152:L180,AS13)","v":0},{"$f":"AT13/(AV4-AT25)","v":0},{"$f":"IF(AU13=0,0,(AU13*((LOG(AU13))/LOG(2))))","v":0}]
[21,857,22,861,24,865,23,869,13,878,1,22221,null,11222,{"$f":"COUNTIF($L$7:$L$500,N14)","v":1},{"$f":"O14/$Q$4","v":5.7471264367816091E-3},{"$f":"IF(P14=0,0,(P14*((LOG(P14))/LOG(2))))","v":-4.2775537332463962E-2},null,null,{"$f":"N14","v":11222},{"$f":"COUNTIF(L7:L35,T14)","v":0},{"$f":"U14/(W4-U25)","v":0},{"$f":"IF(V14=0,0,(V14*((LOG(V14))/LOG(2))))","v":0},null,{"$f":"N14","v":11222},{"$f":"COUNTIF(L36:L64,Y14)","v":1},{"$f":"Z14/(AB4-Z25)","v":3.4482758620689655E-2},{"$f":"IF(AA14=0,0,(AA14*((LOG(AA14))/LOG(2))))","v":-0.16751658603888178},null,{"$f":"N14","v":11222},{"$f":"COUNTIF(L65:L93,AD14)","v":0},{"$f":"AE14/(AG4-AE25)","v":0},{"$f":"IF(AF14=0,0,(AF14*((LOG(AF14))/LOG(2))))","v":0},null,{"$f":"N14","v":11222},{"$f":"COUNTIF(L94:L122,AI14)","v":0},{"$f":"AJ14/(AL4-AJ25)","v":0},{"$f":"IF(AK14=0,0,(AK14*((LOG(AK14))/LOG(2))))","v":0},null,{"$f":"N14","v":11222},{"$f":"COUNTIF(L123:L151,AN14)","v":0},{"$f":"AO14/(AQ4-AO25)","v":0},{"$f":"IF(AP14=0,0,(AP14*((LOG(AP14))/LOG(2))))","v":0},null,{"$f":"N14","v":11222},{"$f":"COUNTIF(L152:L180,AS14)","v":0},{"$f":"AT14/(AV4-AT25)","v":0},{"$f":"IF(AU14=0,0,(AU14*((LOG(AU14))/LOG(2))))","v":0}]
[21,973,22,980,13,999,14,1003,13,1007,1,22111,null,12111,{"$f":"COUNTIF($L$7:$L$500,N15)","v":39},{"$f":"O15/$Q$4","v":0.22413793103448276},{"$f":"IF(P15=0,0,(P15*((LOG(P15))/LOG(2))))","v":-0.48358683794524554},null,null,{"$f":"N15","v":12111},{"$f":"COUNTIF(L7:L35,T15)","v":1},{"$f":"U15/(W4-U25)","v":3.4482758620689655E-2},{"$f":"IF(V15=0,0,(V15*((LOG(V15))/LOG(2))))","v":-0.16751658603888178},null,{"$f":"N15","v":12111},{"$f":"COUNTIF(L36:L64,Y15)","v":6},{"$f":"Z15/(AB4-Z25)","v":0.20689655172413793},{"$f":"IF(AA15=0,0,(AA15*((LOG(AA15))/LOG(2))))","v":-0.4702796884978791},null,{"$f":"N15","v":12111},{"$f":"COUNTIF(L65:L93,AD15)","v":14},{"$f":"AE15/(AG4-AE25)","v":0.48275862068965519},{"$f":"IF(AF15=0,0,(AF15*((LOG(AF15))/LOG(2))))","v":-0.50719879389584666},null,{"$f":"N15","v":12111},{"$f":"COUNTIF(L94:L122,AI15)","v":9},{"$f":"AJ15/(AL4-AJ25)","v":0.31034482758620691},{"$f":"IF(AK15=0,0,(AK15*((LOG(AK15))/LOG(2))))","v":-0.52387944631611505},null,{"$f":"N15","v":12111},{"$f":"COUNTIF(L123:L151,AN15)","v":6},{"$f":"AO15/(AQ4-AO25)","v":0.20689655172413793},{"$f":"IF(AP15=0,0,(AP15*((LOG(AP15))/LOG(2))))","v":-0.4702796884978791},null,{"$f":"N15","v":12111},{"$f":"COUNTIF(L152:L180,AS15)","v":3},{"$f":"AT15/(AV4-AT25)","v":0.10344827586206896},{"$f":"IF(AU15=0,0,(AU15*((LOG(AU15))/LOG(2))))","v":-0.33858812011100858}]
[12,1115,13,1119,13,1127,23,1135,24,1139,1,11122,null,12112,{"$f":"COUNTIF($L$7:$L$500,N16)","v":0},{"$f":"O16/$Q$4","v":0},{"$f":"IF(P16=0,0,(P16*((LOG(P16))/LOG(2))))","v":0},null,null,{"$f":"N16","v":12112},{"$f":"COUNTIF(L7:L35,T16)","v":0},{"$f":"U16/(W4-U25)","v":0},{"$f":"IF(V16=0,0,(V16*((LOG(V16))/LOG(2))))","v":0},null,{"$f":"N16","v":12112},{"$f":"COUNTIF(L36:L64,Y16)","v":0},{"$f":"Z16/(AB4-Z25)","v":0},{"$f":"IF(AA16=0,0,(AA16*((LOG(AA16))/LOG(2))))","v":0},null,{"$f":"N16","v":12112},{"$f":"COUNTIF(L65:L93,AD16)","v":0},{"$f":"AE16/(AG4-AE25)","v":0},{"$f":"IF(AF16=0,0,(AF16*((LOG(AF16))/LOG(2))))","v":0},null,{"$f":"N16","v":12112},{"$f":"COUNTIF(L94:L122,AI16)","v":0},{"$f":"AJ16/(AL4-AJ25)","v":0},{"$f":"IF(AK16=0,0,(AK16*((LOG(AK16))/LOG(2))))","v":0},null,{"$f":"N16","v":12112},{"$f":"COUNTIF(L123:L151,AN16)","v":0},{"$f":"AO16/(AQ4-AO25)","v":0},{"$f":"IF(AP16=0,0,(AP16*((LOG(AP16))/LOG(2))))","v":0},null,{"$f":"N16","v":12112},{"$f":"COUNTIF(L152:L180,AS16)","v":0},{"$f":"AT16/(AV4-AT25)","v":0},{"$f":"IF(AU16=0,0,(AU16*((LOG(AU16))/LOG(2))))","v":0}]
[21,1247,22,1252,13,1263,14,1271,13,1275,0,22111,null,12121,{"$f":"COUNTIF($L$7:$L$500,N17)","v":3},{"$f":"O17/$Q$4","v":1.7241379310344827E-2},{"$f":"IF(P17=0,0,(P17*((LOG(P17))/LOG(2))))","v":-0.10099967232978573},null,null,{"$f":"N17","v":12121},{"$f":"COUNTIF(L7:L35,T17)","v":1},{"$f":"U17/(W4-U25)","v":3.4482758620689655E-2},{"$f":"IF(V17=0,0,(V17*((LOG(V17))/LOG(2))))","v":-0.16751658603888178},null,{"$f":"N17","v":12121},{"$f":"COUNTIF(L36:L64,Y17)","v":0},{"$f":"Z17/(AB4-Z25)","v":0},{"$f":"IF(AA17=0,0,(AA17*((LOG(AA17))/LOG(2))))","v":0},null,{"$f":"N17","v":12121},{"$f":"COUNTIF(L65:L93,AD17)","v":1},{"$f":"AE17/(AG4-AE25)","v":3.4482758620689655E-2},{"$f":"IF(AF17=0,0,(AF17*((LOG(AF17))/LOG(2))))","v":-0.16751658603888178},null,{"$f":"N17","v":12121},{"$f":"COUNTIF(L94:L122,AI17)","v":1},{"$f":"AJ17/(AL4-AJ25)","v":3.4482758620689655E-2},{"$f":"IF(AK17=0,0,(AK17*((LOG(AK17))/LOG(2))))","v":-0.16751658603888178},null,{"$f":"N17","v":12121},{"$f":"COUNTIF(L123:L151,AN17)","v":0},{"$f":"AO17/(AQ4-AO25)","v":0},{"$f":"IF(AP17=0,0,(AP17*((LOG(AP17))/LOG(2))))","v":0},null,{"$f":"N17","v":12121},{"$f":"COUNTIF(L152:L180,AS17)","v":0},{"$f":"AT17/(AV4-AT25)","v":0},{"$f":"IF(AU17=0,0,(AU17*((LOG(AU17))/LOG(2))))","v":0}]
[21,1378,11,1391,11,1403,12,1407,24,1434,1,21112,null,12122,{"$f":"COUNTIF($L$7:$L$500,N18)","v":0},{"$f":"O18/$Q$4","v":0},{"$f":"IF(P18=0,0,(P18*((LOG(P18))/LOG(2))))","v":0},null,null,{"$f":"N18","v":12122},{"$f":"COUNTIF(L7:L35,T18)","v":0},{"$f":"U18/(W4-U25)","v":0},{"$f":"IF(V18=0,0,(V18*((LOG(V18))/LOG(2))))","v":0},null,{"$f":"N18","v":12122},{"$f":"COUNTIF(L36:L64,Y18)","v":0},{"$f":"Z18/(AB4-Z25)","v":0},{"$f":"IF(AA18=0,0,(AA18*((LOG(AA18))/LOG(2))))","v":0},null,{"$f":"N18","v":12122},{"$f":"COUNTIF(L65:L93,AD18)","v":0},{"$f":"AE18/(AG4-AE25)","v":0},{"$f":"IF(AF18=0,0,(AF18*((LOG(AF18))/LOG(2))))","v":0},null,{"$f":"N18","v":12122},{"$f":"COUNTIF(L94:L122,AI18)","v":0},{"$f":"AJ18/(AL4-AJ25)","v":0},{"$f":"IF(AK18=0,0,(AK18*((LOG(AK18))/LOG(2))))","v":0},null,{"$f":"N18","v":12122},{"$f":"COUNTIF(L123:L151,AN18)","v":0},{"$f":"AO18/(AQ4-AO25)","v":0},{"$f":"IF(AP18=0,0,(AP18*((LOG(AP18))/LOG(2))))","v":0},null,{"$f":"N18","v":12122},{"$f":"COUNTIF(L152:L180,AS18)","v":0},{"$f":"AT18/(AV4-AT25)","v":0},{"$f":"IF(AU18=0,0,(AU18*((LOG(AU18))/LOG(2))))","v":0}]
[21,1536,22,1542,24,1546,23,1552,13,1562,0,22221,null,12211,{"$f":"COUNTIF($L$7:$L$500,N19)","v":33},{"$f":"O19/$Q$4","v":0.18965517241379309},{"$f":"IF(P19=0,0,(P19*((LOG(P19))/LOG(2))))","v":-0.45489729554125902},null,null,{"$f":"N19","v":12211},{"$f":"COUNTIF(L7:L35,T19)","v":2},{"$f":"U19/(W4-U25)","v":6.8965517241379309E-2},{"$f":"IF(V19=0,0,(V19*((LOG(V19))/LOG(2))))","v":-0.26606765483638428},null,{"$f":"N19","v":12211},{"$f":"COUNTIF(L36:L64,Y19)","v":7},{"$f":"Z19/(AB4-Z25)","v":0.2413793103448276},{"$f":"IF(AA19=0,0,(AA19*((LOG(AA19))/LOG(2))))","v":-0.49497870729275095},null,{"$f":"N19","v":12211},{"$f":"COUNTIF(L65:L93,AD19)","v":2},{"$f":"AE19/(AG4-AE25)","v":6.8965517241379309E-2},{"$f":"IF(AF19=0,0,(AF19*((LOG(AF19))/LOG(2))))","v":-0.26606765483638428},null,{"$f":"N19","v":12211},{"$f":"COUNTIF(L94:L122,AI19)","v":10},{"$f":"AJ19/(AL4-AJ25)","v":0.34482758620689657},{"$f":"IF(AK19=0,0,(AK19*((LOG(AK19))/LOG(2))))","v":-0.52967341387593436},null,{"$f":"N19","v":12211},{"$f":"COUNTIF(L123:L151,AN19)","v":10},{"$f":"AO19/(AQ4-AO25)","v":0.34482758620689657},{"$f":"IF(AP19=0,0,(AP19*((LOG(AP19))/LOG(2))))","v":-0.52967341387593436},null,{"$f":"N19","v":12211},{"$f":"COUNTIF(L152:L180,AS19)","v":2},{"$f":"AT19/(AV4-AT25)","v":6.8965517241379309E-2},{"$f":"IF(AU19=0,0,(AU19*((LOG(AU19))/LOG(2))))","v":-0.26606765483638428}]
[21,1664,22,1670,13,1681,23,1689,24,1701,0,22122,null,12212,{"$f":"COUNTIF($L$7:$L$500,N20)","v":0},{"$f":"O20/$Q$4","v":0},{"$f":"IF(P20=0,0,(P20*((LOG(P20))/LOG(2))))","v":0},null,null,{"$f":"N20","v":12212},{"$f":"COUNTIF(L7:L35,T20)","v":0},{"$f":"U20/(W4-U25)","v":0},{"$f":"IF(V20=0,0,(V20*((LOG(V20))/LOG(2))))","v":0},null,{"$f":"N20","v":12212},{"$f":"COUNTIF(L36:L64,Y20)","v":0},{"$f":"Z20/(AB4-Z25)","v":0},{"$f":"IF(AA20=0,0,(AA20*((LOG(AA20))/LOG(2))))","v":0},null,{"$f":"N20","v":12212},{"$f":"COUNTIF(L65:L93,AD20)","v":0},{"$f":"AE20/(AG4-AE25)","v":0},{"$f":"IF(AF20=0,0,(AF20*((LOG(AF20))/LOG(2))))","v":0},null,{"$f":"N20","v":12212},{"$f":"COUNTIF(L94:L122,AI20)","v":0},{"$f":"AJ20/(AL4-AJ25)","v":0},{"$f":"IF(AK20=0,0,(AK20*((LOG(AK20))/LOG(2))))","v":0},null,{"$f":"N20","v":12212},{"$f":"COUNTIF(L123:L151,AN20)","v":0},{"$f":"AO20/(AQ4-AO25)","v":0},{"$f":"IF(AP20=0,0,(AP20*((LOG(AP20))/LOG(2))))","v":0},null,{"$f":"N20","v":12212},{"$f":"COUNTIF(L152:L180,AS20)","v":0},{"$f":"AT20/(AV4-AT25)","v":0},{"$f":"IF(AU20=0,0,(AU20*((LOG(AU20))/LOG(2))))","v":0}]
[21,1802,22,1809,13,1822,23,1829,13,1838,1,22121,null,12221,{"$f":"COUNTIF($L$7:$L$500,N21)","v":16},{"$f":"O21/$Q$4","v":9.1954022988505746E-2},{"$f":"IF(P21=0,0,(P21*((LOG(P21))/LOG(2))))","v":-0.31659250536540029},null,null,{"$f":"N21","v":12221},{"$f":"COUNTIF(L7:L35,T21)","v":2},{"$f":"U21/(W4-U25)","v":6.8965517241379309E-2},{"$f":"IF(V21=0,0,(V21*((LOG(V21))/LOG(2))))","v":-0.26606765483638428},null,{"$f":"N21","v":12221},{"$f":"COUNTIF(L36:L64,Y21)","v":5},{"$f":"Z21/(AB4-Z25)","v":0.17241379310344829},{"$f":"IF(AA21=0,0,(AA21*((LOG(AA21))/LOG(2))))","v":-0.43725050004141547},null,{"$f":"N21","v":12221},{"$f":"COUNTIF(L65:L93,AD21)","v":0},{"$f":"AE21/(AG4-AE25)","v":0},{"$f":"IF(AF21=0,0,(AF21*((LOG(AF21))/LOG(2))))","v":0},null,{"$f":"N21","v":12221},{"$f":"COUNTIF(L94:L122,AI21)","v":1},{"$f":"AJ21/(AL4-AJ25)","v":3.4482758620689655E-2},{"$f":"IF(AK21=0,0,(AK21*((LOG(AK21))/LOG(2))))","v":-0.16751658603888178},null,{"$f":"N21","v":12221},{"$f":"COUNTIF(L123:L151,AN21)","v":6},{"$f":"AO21/(AQ4-AO25)","v":0.20689655172413793},{"$f":"IF(AP21=0,0,(AP21*((LOG(AP21))/LOG(2))))","v":-0.4702796884978791},null,{"$f":"N21","v":12221},{"$f":"COUNTIF(L152:L180,AS21)","v":2},{"$f":"AT21/(AV4-AT25)","v":6.8965517241379309E-2},{"$f":"IF(AU21=0,0,(AU21*((LOG(AU21))/LOG(2))))","v":-0.26606765483638428}]
[21,1942,22,1947,24,1958,14,1967,13,1975,0,22211,null,12222,{"$f":"COUNTIF($L$7:$L$500,N22)","v":2},{"$f":"O22/$Q$4","v":1.1494252873563218E-2},{"$f":"IF(P22=0,0,(P22*((LOG(P22))/LOG(2))))","v":-7.4056821791364691E-2},null,null,{"$f":"N22","v":12222},{"$f":"COUNTIF(L7:L35,T22)","v":1},{"$f":"U22/(W4-U25)","v":3.4482758620689655E-2},{"$f":"IF(V22=0,0,(V22*((LOG(V22))/LOG(2))))","v":-0.16751658603888178},null,{"$f":"N22","v":12222},{"$f":"COUNTIF(L36:L64,Y22)","v":0},{"$f":"Z22/(AB4-Z25)","v":0},{"$f":"IF(AA22=0,0,(AA22*((LOG(AA22))/LOG(2))))","v":0},null,{"$f":"N22","v":12222},{"$f":"COUNTIF(L65:L93,AD22)","v":0},{"$f":"AE22/(AG4-AE25)","v":0},{"$f":"IF(AF22=0,0,(AF22*((LOG(AF22))/LOG(2))))","v":0},null,{"$f":"N22","v":12222},{"$f":"COUNTIF(L94:L122,AI22)","v":0},{"$f":"AJ22/(AL4-AJ25)","v":0},{"$f":"IF(AK22=0,0,(AK22*((LOG(AK22))/LOG(2))))","v":0},null,{"$f":"N22","v":12222},{"$f":"COUNTIF(L123:L151,AN22)","v":0},{"$f":"AO22/(AQ4-AO25)","v":0},{"$f":"IF(AP22=0,0,(AP22*((LOG(AP22))/LOG(2))))","v":0},null,{"$f":"N22","v":12222},{"$f":"COUNTIF(L152:L180,AS22)","v":1},{"$f":"AT22/(AV4-AT25)","v":3.4482758620689655E-2},{"$f":"IF(AU22=0,0,(AU22*((LOG(AU22))/LOG(2))))","v":-0.16751658603888178}]
[12,2077,24,2085,24,2097,14,2106,13,2113,0,12211,null,21111,{"$f":"COUNTIF($L$7:$L$500,N23)","v":5},{"$f":"O23/$Q$4","v":2.8735632183908046E-2},{"$f":"IF(P23=0,0,(P23*((LOG(P23))/LOG(2))))","v":-0.1471556149701542},null,null,{"$f":"N23","v":21111},{"$f":"COUNTIF(L7:L35,T23)","v":1},{"$f":"U23/(W4-U25)","v":3.4482758620689655E-2},{"$f":"IF(V23=0,0,(V23*((LOG(V23))/LOG(2))))","v":-0.16751658603888178},null,{"$f":"N23","v":21111},{"$f":"COUNTIF(L36:L64,Y23)","v":0},{"$f":"Z23/(AB4-Z25)","v":0},{"$f":"IF(AA23=0,0,(AA23*((LOG(AA23))/LOG(2))))","v":0},null,{"$f":"N23","v":21111},{"$f":"COUNTIF(L65:L93,AD23)","v":0},{"$f":"AE23/(AG4-AE25)","v":0},{"$f":"IF(AF23=0,0,(AF23*((LOG(AF23))/LOG(2))))","v":0},null,{"$f":"N23","v":21111},{"$f":"COUNTIF(L94:L122,AI23)","v":1},{"$f":"AJ23/(AL4-AJ25)","v":3.4482758620689655E-2},{"$f":"IF(AK23=0,0,(AK23*((LOG(AK23))/LOG(2))))","v":-0.16751658603888178},null,{"$f":"N23","v":21111},{"$f":"COUNTIF(L123:L151,AN23)","v":1},{"$f":"AO23/(AQ4-AO25)","v":3.4482758620689655E-2},{"$f":"IF(AP23=0,0,(AP23*((LOG(AP23))/LOG(2))))","v":-0.16751658603888178},null,{"$f":"N23","v":21111},{"$f":"COUNTIF(L152:L180,AS23)","v":2},{"$f":"AT23/(AV4-AT25)","v":6.8965517241379309E-2},{"$f":"IF(AU23=0,0,(AU23*((LOG(AU23))/LOG(2))))","v":-0.26606765483638428}]
[12,2218,24,2226,24,2231,23,2236,13,2243,0,12221,null,21112,{"$f":"COUNTIF($L$7:$L$500,N24)","v":1},{"$f":"O24/$Q$4","v":5.7471264367816091E-3},{"$f":"IF(P24=0,0,(P24*((LOG(P24))/LOG(2))))","v":-4.2775537332463962E-2},null,null,{"$f":"N24","v":21112},{"$f":"COUNTIF(L7:L35,T24)","v":1},{"$f":"U24/(W4-U25)","v":3.4482758620689655E-2},{"$f":"IF(V24=0,0,(V24*((LOG(V24))/LOG(2))))","v":-0.16751658603888178},null,{"$f":"N24","v":21112},{"$f":"COUNTIF(L36:L64,Y24)","v":0},{"$f":"Z24/(AB4-Z25)","v":0},{"$f":"IF(AA24=0,0,(AA24*((LOG(AA24))/LOG(2))))","v":0},null,{"$f":"N24","v":21112},{"$f":"COUNTIF(L65:L93,AD24)","v":0},{"$f":"AE24/(AG4-AE25)","v":0},{"$f":"IF(AF24=0,0,(AF24*((LOG(AF24))/LOG(2))))","v":0},null,{"$f":"N24","v":21112},{"$f":"COUNTIF(L94:L122,AI24)","v":0},{"$f":"AJ24/(AL4-AJ25)","v":0},{"$f":"IF(AK24=0,0,(AK24*((LOG(AK24))/LOG(2))))","v":0},null,{"$f":"N24","v":21112},{"$f":"COUNTIF(L123:L151,AN24)","v":0},{"$f":"AO24/(AQ4-AO25)","v":0},{"$f":"IF(AP24=0,0,(AP24*((LOG(AP24))/LOG(2))))","v":0},null,{"$f":"N24","v":21112},{"$f":"COUNTIF(L152:L180,AS24)","v":0},{"$f":"AT24/(AV4-AT25)","v":0},{"$f":"IF(AU24=0,0,(AU24*((LOG(AU24))/LOG(2))))","v":0}]
[21,2351,11,2361,22,2368,23,2373,13,2381,1,21221,null,21121,{"$f":"COUNTIF($L$7:$L$500,N25)","v":0},{"$f":"O25/$Q$4","v":0},{"$f":"IF(P25=0,0,(P25*((LOG(P25))/LOG(2))))","v":0},null,null,{"$f":"N25","v":21121},{"$f":"COUNTIF(L7:L35,T25)","v":0},null,null,null,{"$f":"N25","v":21121},{"$f":"COUNTIF(L36:L64,Y25)","v":0},null,null,null,{"$f":"N25","v":21121},{"$f":"COUNTIF(L65:L93,AD25)","v":0},null,null,null,{"$f":"N25","v":21121},{"$f":"COUNTIF(L94:L122,AI25)","v":0},null,null,null,{"$f":"N25","v":21121},{"$f":"COUNTIF(L123:L151,AN25)","v":0},null,null,null,{"$f":"N25","v":21121},{"$f":"COUNTIF(L152:L180,AS25)","v":0}]
[21,2482,11,2493,22,2499,14,2518,13,2525,0,21211,null,21122,{"$f":"COUNTIF($L$7:$L$500,N26)","v":0},{"$f":"O26/$Q$4","v":0},{"$f":"IF(P26=0,0,(P26*((LOG(P26))/LOG(2))))","v":0},null,null,{"$f":"N26","v":21122},{"$f":"COUNTIF(L7:L35,T26)","v":0},{"$f":"U26/(W4-U25)","v":0},{"$f":"IF(V26=0,0,(V26*((LOG(V26))/LOG(2))))","v":0},null,{"$f":"N26","v":21122},{"$f":"COUNTIF(L36:L64,Y26)","v":0},{"$f":"Z26/(AB4-Z25)","v":0},{"$f":"IF(AA26=0,0,(AA26*((LOG(AA26))/LOG(2))))","v":0},null,{"$f":"N26","v":21122},{"$f":"COUNTIF(L65:L93,AD26)","v":0},{"$f":"AE26/(AG4-AE25)","v":0},{"$f":"IF(AF26=0,0,(AF26*((LOG(AF26))/LOG(2))))","v":0},null,{"$f":"N26","v":21122},{"$f":"COUNTIF(L94:L122,AI26)","v":0},{"$f":"AJ26/(AL4-AJ25)","v":0},{"$f":"IF(AK26=0,0,(AK26*((LOG(AK26))/LOG(2))))","v":0},null,{"$f":"N26","v":21122},{"$f":"COUNTIF(L123:L151,AN26)","v":0},{"$f":"AO26/(AQ4-AO25)","v":0},{"$f":"IF(AP26=0,0,(AP26*((LOG(AP26))/LOG(2))))","v":0},null,{"$f":"N26","v":21122},{"$f":"COUNTIF(L152:L180,AS26)","v":0},{"$f":"AT26/(AV4-AT25)","v":0},{"$f":"IF(AU26=0,0,(AU26*((LOG(AU26))/LOG(2))))","v":0}]
[21,2622,22,2626,13,2640,23,2647,24,2651,0,22122,null,21211,{"$f":"COUNTIF($L$7:$L$500,N27)","v":11},{"$f":"O27/$Q$4","v":6.3218390804597707E-2},{"$f":"IF(P27=0,0,(P27*((LOG(P27))/LOG(2))))","v":-0.25183121062830888},null,null,{"$f":"N27","v":21211},{"$f":"COUNTIF(L7:L35,T27)","v":1},{"$f":"U27/(W4-U25)","v":3.4482758620689655E-2},{"$f":"IF(V27=0,0,(V27*((LOG(V27))/LOG(2))))","v":-0.16751658603888178},null,{"$f":"N27","v":21211},{"$f":"COUNTIF(L36:L64,Y27)","v":4},{"$f":"Z27/(AB4-Z25)","v":0.13793103448275862},{"$f":"IF(AA27=0,0,(AA27*((LOG(AA27))/LOG(2))))","v":-0.39420427519000989},null,{"$f":"N27","v":21211},{"$f":"COUNTIF(L65:L93,AD27)","v":2},{"$f":"AE27/(AG4-AE25)","v":6.8965517241379309E-2},{"$f":"IF(AF27=0,0,(AF27*((LOG(AF27))/LOG(2))))","v":-0.26606765483638428},null,{"$f":"N27","v":21211},{"$f":"COUNTIF(L94:L122,AI27)","v":1},{"$f":"AJ27/(AL4-AJ25)","v":3.4482758620689655E-2},{"$f":"IF(AK27=0,0,(AK27*((LOG(AK27))/LOG(2))))","v":-0.16751658603888178},null,{"$f":"N27","v":21211},{"$f":"COUNTIF(L123:L151,AN27)","v":2},{"$f":"AO27/(AQ4-AO25)","v":6.8965517241379309E-2},{"$f":"IF(AP27=0,0,(AP27*((LOG(AP27))/LOG(2))))","v":-0.26606765483638428},null,{"$f":"N27","v":21211},{"$f":"COUNTIF(L152:L180,AS27)","v":1},{"$f":"AT27/(AV4-AT25)","v":3.4482758620689655E-2},{"$f":"IF(AU27=0,0,(AU27*((LOG(AU27))/LOG(2))))","v":-0.16751658603888178}]
[12,2749,13,2754,24,2761,23,2766,13,2774,0,11221,null,21212,{"$f":"COUNTIF($L$7:$L$500,N28)","v":0},{"$f":"O28/$Q$4","v":0},{"$f":"IF(P28=0,0,(P28*((LOG(P28))/LOG(2))))","v":0},null,null,{"$f":"N28","v":21212},{"$f":"COUNTIF(L7:L35,T28)","v":0},{"$f":"U28/(W4-U25)","v":0},{"$f":"IF(V28=0,0,(V28*((LOG(V28))/LOG(2))))","v":0},null,{"$f":"N28","v":21212},{"$f":"COUNTIF(L36:L64,Y28)","v":0},{"$f":"Z28/(AB4-Z25)","v":0},{"$f":"IF(AA28=0,0,(AA28*((LOG(AA28))/LOG(2))))","v":0},null,{"$f":"N28","v":21212},{"$f":"COUNTIF(L65:L93,AD28)","v":0},{"$f":"AE28/(AG4-AE25)","v":0},{"$f":"IF(AF28=0,0,(AF28*((LOG(AF28))/LOG(2))))","v":0},null,{"$f":"N28","v":21212},{"$f":"COUNTIF(L94:L122,AI28)","v":0},{"$f":"AJ28/(AL4-AJ25)","v":0},{"$f":"IF(AK28=0,0,(AK28*((LOG(AK28))/LOG(2))))","v":0},null,{"$f":"N28","v":21212},{"$f":"COUNTIF(L123:L151,AN28)","v":0},{"$f":"AO28/(AQ4-AO25)","v":0},{"$f":"IF(AP28=0,0,(AP28*((LOG(AP28))/LOG(2))))","v":0},null,{"$f":"N28","v":21212},{"$f":"COUNTIF(L152:L180,AS28)","v":0},{"$f":"AT28/(AV4-AT25)","v":0},{"$f":"IF(AU28=0,0,(AU28*((LOG(AU28))/LOG(2))))","v":0}]
[12,2874,24,2882,24,2886,23,2894,24,2902,0,12222,null,21221,{"$f":"COUNTIF($L$7:$L$500,N29)","v":3},{"$f":"O29/$Q$4","v":1.7241379310344827E-2},{"$f":"IF(P29=0,0,(P29*((LOG(P29))/LOG(2))))","v":-0.10099967232978573},null,null,{"$f":"N29","v":21221},{"$f":"COUNTIF(L7:L35,T29)","v":1},{"$f":"U29/(W4-U25)","v":3.4482758620689655E-2},{"$f":"IF(V29=0,0,(V29*((LOG(V29))/LOG(2))))","v":-0.16751658603888178},null,{"$f":"N29","v":21221},{"$f":"COUNTIF(L36:L64,Y29)","v":1},{"$f":"Z29/(AB4-Z25)","v":3.4482758620689655E-2},{"$f":"IF(AA29=0,0,(AA29*((LOG(AA29))/LOG(2))))","v":-0.16751658603888178},null,{"$f":"N29","v":21221},{"$f":"COUNTIF(L65:L93,AD29)","v":0},{"$f":"AE29/(AG4-AE25)","v":0},{"$f":"IF(AF29=0,0,(AF29*((LOG(AF29))/LOG(2))))","v":0},null,{"$f":"N29","v":21221},{"$f":"COUNTIF(L94:L122,AI29)","v":1},{"$f":"AJ29/(AL4-AJ25)","v":3.4482758620689655E-2},{"$f":"IF(AK29=0,0,(AK29*((LOG(AK29))/LOG(2))))","v":-0.16751658603888178},null,{"$f":"N29","v":21221},{"$f":"COUNTIF(L123:L151,AN29)","v":0},{"$f":"AO29/(AQ4-AO25)","v":0},{"$f":"IF(AP29=0,0,(AP29*((LOG(AP29))/LOG(2))))","v":0},null,{"$f":"N29","v":21221},{"$f":"COUNTIF(L152:L180,AS29)","v":0},{"$f":"AT29/(AV4-AT25)","v":0},{"$f":"IF(AU29=0,0,(AU29*((LOG(AU29))/LOG(2))))","v":0}]
[21,3000,22,3005,13,3014,23,3022,24,3026,1,22122,null,21222,{"$f":"COUNTIF($L$7:$L$500,N30)","v":0},{"$f":"O30/$Q$4","v":0},{"$f":"IF(P30=0,0,(P30*((LOG(P30))/LOG(2))))","v":0},null,null,{"$f":"N30","v":21222},{"$f":"COUNTIF(L7:L35,T30)","v":0},{"$f":"U30/(W4-U25)","v":0},{"$f":"IF(V30=0,0,(V30*((LOG(V30))/LOG(2))))","v":0},null,{"$f":"N30","v":21222},{"$f":"COUNTIF(L36:L64,Y30)","v":0},{"$f":"Z30/(AB4-Z25)","v":0},{"$f":"IF(AA30=0,0,(AA30*((LOG(AA30))/LOG(2))))","v":0},null,{"$f":"N30","v":21222},{"$f":"COUNTIF(L65:L93,AD30)","v":0},{"$f":"AE30/(AG4-AE25)","v":0},{"$f":"IF(AF30=0,0,(AF30*((LOG(AF30))/LOG(2))))","v":0},null,{"$f":"N30","v":21222},{"$f":"COUNTIF(L94:L122,AI30)","v":0},{"$f":"AJ30/(AL4-AJ25)","v":0},{"$f":"IF(AK30=0,0,(AK30*((LOG(AK30))/LOG(2))))","v":0},null,{"$f":"N30","v":21222},{"$f":"COUNTIF(L123:L151,AN30)","v":0},{"$f":"AO30/(AQ4-AO25)","v":0},{"$f":"IF(AP30=0,0,(AP30*((LOG(AP30))/LOG(2))))","v":0},null,{"$f":"N30","v":21222},{"$f":"COUNTIF(L152:L180,AS30)","v":0},{"$f":"AT30/(AV4-AT25)","v":0},{"$f":"IF(AU30=0,0,(AU30*((LOG(AU30))/LOG(2))))","v":0}]
[21,3127,22,3141,24,3145,23,3153,13,3162,0,22221,null,22111,{"$f":"COUNTIF($L$7:$L$500,N31)","v":9},{"$f":"O31/$Q$4","v":5.1724137931034482E-2},{"$f":"IF(P31=0,0,(P31*((LOG(P31))/LOG(2))))","v":-0.22101819798653879},null,null,{"$f":"N31","v":22111},{"$f":"COUNTIF(L7:L35,T31)","v":2},{"$f":"U31/(W4-U25)","v":6.8965517241379309E-2},{"$f":"IF(V31=0,0,(V31*((LOG(V31))/LOG(2))))","v":-0.26606765483638428},null,{"$f":"N31","v":22111},{"$f":"COUNTIF(L36:L64,Y31)","v":1},{"$f":"Z31/(AB4-Z25)","v":3.4482758620689655E-2},{"$f":"IF(AA31=0,0,(AA31*((LOG(AA31))/LOG(2))))","v":-0.16751658603888178},null,{"$f":"N31","v":22111},{"$f":"COUNTIF(L65:L93,AD31)","v":1},{"$f":"AE31/(AG4-AE25)","v":3.4482758620689655E-2},{"$f":"IF(AF31=0,0,(AF31*((LOG(AF31))/LOG(2))))","v":-0.16751658603888178},null,{"$f":"N31","v":22111},{"$f":"COUNTIF(L94:L122,AI31)","v":2},{"$f":"AJ31/(AL4-AJ25)","v":6.8965517241379309E-2},{"$f":"IF(AK31=0,0,(AK31*((LOG(AK31))/LOG(2))))","v":-0.26606765483638428},null,{"$f":"N31","v":22111},{"$f":"COUNTIF(L123:L151,AN31)","v":2},{"$f":"AO31/(AQ4-AO25)","v":6.8965517241379309E-2},{"$f":"IF(AP31=0,0,(AP31*((LOG(AP31))/LOG(2))))","v":-0.26606765483638428},null,{"$f":"N31","v":22111},{"$f":"COUNTIF(L152:L180,AS31)","v":1},{"$f":"AT31/(AV4-AT25)","v":3.4482758620689655E-2},{"$f":"IF(AU31=0,0,(AU31*((LOG(AU31))/LOG(2))))","v":-0.16751658603888178}]
[12,3263,24,3271,24,3277,14,3286,13,3290,0,12211,null,22112,{"$f":"COUNTIF($L$7:$L$500,N32)","v":0},{"$f":"O32/$Q$4","v":0},{"$f":"IF(P32=0,0,(P32*((LOG(P32))/LOG(2))))","v":0},null,null,{"$f":"N32","v":22112},{"$f":"COUNTIF(L7:L35,T32)","v":0},{"$f":"U32/(W4-U25)","v":0},{"$f":"IF(V32=0,0,(V32*((LOG(V32))/LOG(2))))","v":0},null,{"$f":"N32","v":22112},{"$f":"COUNTIF(L36:L64,Y32)","v":0},{"$f":"Z32/(AB4-Z25)","v":0},{"$f":"IF(AA32=0,0,(AA32*((LOG(AA32))/LOG(2))))","v":0},null,{"$f":"N32","v":22112},{"$f":"COUNTIF(L65:L93,AD32)","v":0},{"$f":"AE32/(AG4-AE25)","v":0},{"$f":"IF(AF32=0,0,(AF32*((LOG(AF32))/LOG(2))))","v":0},null,{"$f":"N32","v":22112},{"$f":"COUNTIF(L94:L122,AI32)","v":0},{"$f":"AJ32/(AL4-AJ25)","v":0},{"$f":"IF(AK32=0,0,(AK32*((LOG(AK32))/LOG(2))))","v":0},null,{"$f":"N32","v":22112},{"$f":"COUNTIF(L123:L151,AN32)","v":0},{"$f":"AO32/(AQ4-AO25)","v":0},{"$f":"IF(AP32=0,0,(AP32*((LOG(AP32))/LOG(2))))","v":0},null,{"$f":"N32","v":22112},{"$f":"COUNTIF(L152:L180,AS32)","v":0},{"$f":"AT32/(AV4-AT25)","v":0},{"$f":"IF(AU32=0,0,(AU32*((LOG(AU32))/LOG(2))))","v":0}]
[12,3405,24,3412,13,3420,14,3438,13,3448,0,12111,null,22121,{"$f":"COUNTIF($L$7:$L$500,N33)","v":1},{"$f":"O33/$Q$4","v":5.7471264367816091E-3},{"$f":"IF(P33=0,0,(P33*((LOG(P33))/LOG(2))))","v":-4.2775537332463962E-2},null,null,{"$f":"N33","v":22121},{"$f":"COUNTIF(L7:L35,T33)","v":1},{"$f":"U33/(W4-U25)","v":3.4482758620689655E-2},{"$f":"IF(V33=0,0,(V33*((LOG(V33))/LOG(2))))","v":-0.16751658603888178},null,{"$f":"N33","v":22121},{"$f":"COUNTIF(L36:L64,Y33)","v":0},{"$f":"Z33/(AB4-Z25)","v":0},{"$f":"IF(AA33=0,0,(AA33*((LOG(AA33))/LOG(2))))","v":0},null,{"$f":"N33","v":22121},{"$f":"COUNTIF(L65:L93,AD33)","v":0},{"$f":"AE33/(AG4-AE25)","v":0},{"$f":"IF(AF33=0,0,(AF33*((LOG(AF33))/LOG(2))))","v":0},null,{"$f":"N33","v":22121},{"$f":"COUNTIF(L94:L122,AI33)","v":0},{"$f":"AJ33/(AL4-AJ25)","v":0},{"$f":"IF(AK33=0,0,(AK33*((LOG(AK33))/LOG(2))))","v":0},null,{"$f":"N33","v":22121},{"$f":"COUNTIF(L123:L151,AN33)","v":0},{"$f":"AO33/(AQ4-AO25)","v":0},{"$f":"IF(AP33=0,0,(AP33*((LOG(AP33))/LOG(2))))","v":0},null,{"$f":"N33","v":22121},{"$f":"COUNTIF(L152:L180,AS33)","v":0},{"$f":"AT33/(AV4-AT25)","v":0},{"$f":"IF(AU33=0,0,(AU33*((LOG(AU33))/LOG(2))))","v":0}]
[21,3552,11,3574,11,3590,12,3597,13,3613,0,21111,null,22122,{"$f":"COUNTIF($L$7:$L$500,N34)","v":5},{"$f":"O34/$Q$4","v":2.8735632183908046E-2},{"$f":"IF(P34=0,0,(P34*((LOG(P34))/LOG(2))))","v":-0.1471556149701542},null,null,{"$f":"N34","v":22122},{"$f":"COUNTIF(L7:L35,T34)","v":3},{"$f":"U34/(W4-U25)","v":0.10344827586206896},{"$f":"IF(V34=0,0,(V34*((LOG(V34))/LOG(2))))","v":-0.33858812011100858},null,{"$f":"N34","v":22122},{"$f":"COUNTIF(L36:L64,Y34)","v":1},{"$f":"Z34/(AB4-Z25)","v":3.4482758620689655E-2},{"$f":"IF(AA34=0,0,(AA34*((LOG(AA34))/LOG(2))))","v":-0.16751658603888178},null,{"$f":"N34","v":22122},{"$f":"COUNTIF(L65:L93,AD34)","v":0},{"$f":"AE34/(AG4-AE25)","v":0},{"$f":"IF(AF34=0,0,(AF34*((LOG(AF34))/LOG(2))))","v":0},null,{"$f":"N34","v":22122},{"$f":"COUNTIF(L94:L122,AI34)","v":0},{"$f":"AJ34/(AL4-AJ25)","v":0},{"$f":"IF(AK34=0,0,(AK34*((LOG(AK34))/LOG(2))))","v":0},null,{"$f":"N34","v":22122},{"$f":"COUNTIF(L123:L151,AN34)","v":0},{"$f":"AO34/(AQ4-AO25)","v":0},{"$f":"IF(AP34=0,0,(AP34*((LOG(AP34))/LOG(2))))","v":0},null,{"$f":"N34","v":22122},{"$f":"COUNTIF(L152:L180,AS34)","v":1},{"$f":"AT34/(AV4-AT25)","v":3.4482758620689655E-2},{"$f":"IF(AU34=0,0,(AU34*((LOG(AU34))/LOG(2))))","v":-0.16751658603888178}]
[12,3715,24,3723,13,3734,23,3742,13,3751,1,12121,null,22211,{"$f":"COUNTIF($L$7:$L$500,N35)","v":5},{"$f":"O35/$Q$4","v":2.8735632183908046E-2},{"$f":"IF(P35=0,0,(P35*((LOG(P35))/LOG(2))))","v":-0.1471556149701542},null,null,{"$f":"N35","v":22211},{"$f":"COUNTIF(L7:L35,T35)","v":3},{"$f":"U35/(W4-U25)","v":0.10344827586206896},{"$f":"IF(V35=0,0,(V35*((LOG(V35))/LOG(2))))","v":-0.33858812011100858},null,{"$f":"N35","v":22211},{"$f":"COUNTIF(L36:L64,Y35)","v":0},{"$f":"Z35/(AB4-Z25)","v":0},{"$f":"IF(AA35=0,0,(AA35*((LOG(AA35))/LOG(2))))","v":0},null,{"$f":"N35","v":22211},{"$f":"COUNTIF(L65:L93,AD35)","v":0},{"$f":"AE35/(AG4-AE25)","v":0},{"$f":"IF(AF35=0,0,(AF35*((LOG(AF35))/LOG(2))))","v":0},null,{"$f":"N35","v":22211},{"$f":"COUNTIF(L94:L122,AI35)","v":0},{"$f":"AJ35/(AL4-AJ25)","v":0},{"$f":"IF(AK35=0,0,(AK35*((LOG(AK35))/LOG(2))))","v":0},null,{"$f":"N35","v":22211},{"$f":"COUNTIF(L123:L151,AN35)","v":0},{"$f":"AO35/(AQ4-AO25)","v":0},{"$f":"IF(AP35=0,0,(AP35*((LOG(AP35))/LOG(2))))","v":0},null,{"$f":"N35","v":22211},{"$f":"COUNTIF(L152:L180,AS35)","v":2},{"$f":"AT35/(AV4-AT25)","v":6.8965517241379309E-2},{"$f":"IF(AU35=0,0,(AU35*((LOG(AU35))/LOG(2))))","v":-0.26606765483638428}]
[21,3847,22,3857,13,3867,23,3874,24,3878,0,22122,null,22212,{"$f":"COUNTIF($L$7:$L$500,N36)","v":0},{"$f":"O36/$Q$4","v":0},{"$f":"IF(P36=0,0,(P36*((LOG(P36))/LOG(2))))","v":0},null,null,{"$f":"N36","v":22212},{"$f":"COUNTIF(L7:L35,T36)","v":0},{"$f":"U36/(W4-U25)","v":0},{"$f":"IF(V36=0,0,(V36*((LOG(V36))/LOG(2))))","v":0},null,{"$f":"N36","v":22212},{"$f":"COUNTIF(L36:L64,Y36)","v":0},{"$f":"Z36/(AB4-Z25)","v":0},{"$f":"IF(AA36=0,0,(AA36*((LOG(AA36))/LOG(2))))","v":0},null,{"$f":"N36","v":22212},{"$f":"COUNTIF(L65:L93,AD36)","v":0},{"$f":"AE36/(AG4-AE25)","v":0},{"$f":"IF(AF36=0,0,(AF36*((LOG(AF36))/LOG(2))))","v":0},null,{"$f":"N36","v":22212},{"$f":"COUNTIF(L94:L122,AI36)","v":0},{"$f":"AJ36/(AL4-AJ25)","v":0},{"$f":"IF(AK36=0,0,(AK36*((LOG(AK36))/LOG(2))))","v":0},null,{"$f":"N36","v":22212},{"$f":"COUNTIF(L123:L151,AN36)","v":0},{"$f":"AO36/(AQ4-AO25)","v":0},{"$f":"IF(AP36=0,0,(AP36*((LOG(AP36))/LOG(2))))","v":0},null,{"$f":"N36","v":22212},{"$f":"COUNTIF(L152:L180,AS36)","v":0},{"$f":"AT36/(AV4-AT25)","v":0},{"$f":"IF(AU36=0,0,(AU36*((LOG(AU36))/LOG(2))))","v":0}]
[12,3978,24,3986,13,3998,14,4017,13,4031,0,12111,null,22221,{"$f":"COUNTIF($L$7:$L$500,N37)","v":3},{"$f":"O37/$Q$4","v":1.7241379310344827E-2},{"$f":"IF(P37=0,0,(P37*((LOG(P37))/LOG(2))))","v":-0.10099967232978573},null,null,{"$f":"N37","v":22221},{"$f":"COUNTIF(L7:L35,T37)","v":3},{"$f":"U37/(W4-U25)","v":0.10344827586206896},{"$f":"IF(V37=0,0,(V37*((LOG(V37))/LOG(2))))","v":-0.33858812011100858},null,{"$f":"N37","v":22221},{"$f":"COUNTIF(L36:L64,Y37)","v":0},{"$f":"Z37/(AB4-Z25)","v":0},{"$f":"IF(AA37=0,0,(AA37*((LOG(AA37))/LOG(2))))","v":0},null,{"$f":"N37","v":22221},{"$f":"COUNTIF(L65:L93,AD37)","v":0},{"$f":"AE37/(AG4-AE25)","v":0},{"$f":"IF(AF37=0,0,(AF37*((LOG(AF37))/LOG(2))))","v":0},null,{"$f":"N37","v":22221},{"$f":"COUNTIF(L94:L122,AI37)","v":0},{"$f":"AJ37/(AL4-AJ25)","v":0},{"$f":"IF(AK37=0,0,(AK37*((LOG(AK37))/LOG(2))))","v":0},null,{"$f":"N37","v":22221},{"$f":"COUNTIF(L123:L151,AN37)","v":0},{"$f":"AO37/(AQ4-AO25)","v":0},{"$f":"IF(AP37=0,0,(AP37*((LOG(AP37))/LOG(2))))","v":0},null,{"$f":"N37","v":22221},{"$f":"COUNTIF(L152:L180,AS37)","v":0},{"$f":"AT37/(AV4-AT25)","v":0},{"$f":"IF(AU37=0,0,(AU37*((LOG(AU37))/LOG(2))))","v":0}]
[21,4140,22,4146,13,4156,14,4161,13,4171,0,22111,null,22222,{"$f":"COUNTIF($L$7:$L$500,N38)","v":1},{"$f":"O38/$Q$4","v":5.7471264367816091E-3},{"$f":"IF(P38=0,0,(P38*((LOG(P38))/LOG(2))))","v":-4.2775537332463962E-2},null,null,{"$f":"N38","v":22222},{"$f":"COUNTIF(L7:L35,T38)","v":1},{"$f":"U38/(W4-U25)","v":3.4482758620689655E-2},{"$f":"IF(V38=0,0,(V38*((LOG(V38))/LOG(2))))","v":-0.16751658603888178},null,{"$f":"N38","v":22222},{"$f":"COUNTIF(L36:L64,Y38)","v":0},{"$f":"Z38/(AB4-Z25)","v":0},{"$f":"IF(AA38=0,0,(AA38*((LOG(AA38))/LOG(2))))","v":0},null,{"$f":"N38","v":22222},{"$f":"COUNTIF(L65:L93,AD38)","v":0},{"$f":"AE38/(AG4-AE25)","v":0},{"$f":"IF(AF38=0,0,(AF38*((LOG(AF38))/LOG(2))))","v":0},null,{"$f":"N38","v":22222},{"$f":"COUNTIF(L94:L122,AI38)","v":0},{"$f":"AJ38/(AL4-AJ25)","v":0},{"$f":"IF(AK38=0,0,(AK38*((LOG(AK38))/LOG(2))))","v":0},null,{"$f":"N38","v":22222},{"$f":"COUNTIF(L123:L151,AN38)","v":0},{"$f":"AO38/(AQ4-AO25)","v":0},{"$f":"IF(AP38=0,0,(AP38*((LOG(AP38))/LOG(2))))","v":0},null,{"$f":"N38","v":22222},{"$f":"COUNTIF(L152:L180,AS38)","v":0},{"$f":"AT38/(AV4-AT25)","v":0},{"$f":"IF(AU38=0,0,(AU38*((LOG(AU38))/LOG(2))))","v":0}]
[12,4272,24,4280,24,4290,14,4298,13,4305,0,12211,null,null,null,{"$f":"SUM(P7:P38)","v":1.0000000000000002},{"$f":"-SUM(Q7:Q38)","v":3.4292190013418984},null,null,null,null,{"$f":"SUM(V7:V38)","v":1},{"$f":"-SUM(W7:W38)","v":4.090234012145145},null,null,null,{"$f":"SUM(AA7:AA38)","v":0.99999999999999989},{"$f":"-SUM(AB7:AB38)","v":2.8053676352885915},null,null,null,{"$f":"SUM(AF7:AF38)","v":1},{"$f":"-SUM(AG7:AG38)","v":2.2043791550168934},null,null,null,{"$f":"SUM(AK7:AK38)","v":0.99999999999999989},{"$f":"-SUM(AL7:AL38)","v":2.4957915653338514},null,null,null,{"$f":"SUM(AP7:AP38)","v":1},{"$f":"-SUM(AQ7:AQ38)","v":2.4359523414197271},null,null,null,{"$f":"SUM(AU7:AU38)","v":0.99999999999999989},{"$f":"-SUM(AV7:AV38)","v":2.86575901199594}]
[12,4408,24,4416,24,4420,23,4431,13,4439,1,12221,null,null,null,"U=",{"$f":"Q39/(LOG(Q4)/LOG(2))","v":0.46073425161087561},null,null,null,null,"U1=",{"$f":"W39/(LOG(W4)/LOG(2))","v":0.84196171542201237},null,null,null,"U2=",{"$f":"AB39/(LOG(AB4)/LOG(2))","v":0.57747604161117594},null,null,null,"U3=",{"$f":"AG39/(LOG(AG4)/LOG(2))","v":0.45376446660203656},null,null,null,"U4=",{"$f":"AL39/(LOG(AL4)/LOG(2))","v":0.51375078820544284},null,null,null,"U5=",{"$f":"AQ39/(LOG(AQ4)/LOG(2))","v":0.50143307350582966},null,null,null,"U6=",{"$f":"AV39/(LOG(AV4)/LOG(2))","v":0.58990741521430845}]
[21,4538,11,4546,22,4557,23,4561,13,4569,0,21221]
[12,4669,24,4677,24,4684,14,4694,13,4698,0,12211]
[12,4797,24,4805,13,4824,14,4828,13,4838,0,12111,null,"Total Target Seq"]
[12,4939,24,4947,24,4953,14,4960,13,4964,0,12211,null,{"$f":"COUNTIF(L7:L180,G3)","v":0},null,29,29,29,29,29,29]
[12,5066,13,5079,13,5083,14,5087,13,5097,0,11111,null,null,null,"% of reinforcement given in 6 equal intervals based on number of trials "]
[12,5199,24,5206,24,5211,23,5220,13,5227,1,12221,null,null,null,"%_1","%_2","%_3","%_4","%_5","%_6"]
[21,5328,11,5341,22,5348,14,5359,13,5370,0,21211,null,null,"target sequence",{"$f":"$G$3","v":21121},{"$f":"$G$3","v":21121},{"$f":"$G$3","v":21121},{"$f":"$G$3","v":21121},{"$f":"$G$3","v":21121},{"$f":"$G$3","v":21121}]
[21,5481,11,5489,22,5496,14,5504,13,5514,0,21211,null,null,"total reinforcement",{"$f":"U25","v":0},{"$f":"Z25","v":0},{"$f":"AE25","v":0},{"$f":"AJ25","v":0},{"$f":"AO25","v":0},{"$f":"AT25","v":0}]
[12,5614,24,5622,24,5626,23,5633,13,5640,0,12221,null,null,"% target"]
[12,5742,24,5751,24,5759,23,5764,13,5771,1,12221,null,null,"CCRF"]
[12,5896,24,5912,13,5930,14,5940,13,5949,0,12111,null,null,"% CCRf"]
[12,6050,24,6057,24,6071,14,6081,13,6085,0,12211,null,null,"average response rate",{"$f":"J35/P44","v":129.34482758620689},{"$f":"(J64-J35)/Q44","v":138},{"$f":"(J93-J64)/R44","v":134.13793103448276},{"$f":"(J122-J93)/S44","v":135.0344827586207},{"$f":"(J151-J122)/T44","v":139.48275862068965},{"$f":"(J180-J151)/U44","v":148.62068965517241}]
[12,6187,24,6196,13,6212,14,6218,13,6227,0,12111]
[12,6328,24,6335,24,6339,14,6347,13,6351,0,12211]
[12,6449,24,6457,24,6462,23,6469,13,6476,0,12221]
[12,6578,24,6585,24,6593,14,6599,13,6604,0,12211]
[12,6705,24,6712,24,6720,14,6727,13,6733,1,12211]
[21,6840,11,6850,22,6855,14,6866,13,6873,1,21211]
[21,6980,11,6992,22,7000,14,7008,13,7013,0,21211]
[12,7145,13,7159,13,7163,14,7173,13,7183,0,11111]
[12,7283,24,7300,13,7308,14,7312,13,7320,0,12111]
[12,7426,24,7434,13,7454,14,7464,13,7469,0,12111]
[12,7571,13,7576,24,7584,23,7592,24,7613,0,11222]
[12,7717,13,7731,13,7735,14,7744,13,7753,0,11111]
[12,7851,24,7859,13,7866,14,7870,13,7874,1,12111]
[21,7979,11,7993,22,8000,14,8009,13,8016,0,21211]
[12,8121,24,8128,13,8140,14,8144,13,8148,0,12111]
[12,8246,13,8253,24,8260,23,8268,13,8275,0,11221]
[12,8373,24,8381,13,8404,14,8408,13,8416,0,12111]
[12,8519,24,8527,13,8538,14,8542,13,8548,0,12111]
[12,8651,13,8665,13,8669,14,8673,13,8680,1,11111]
[21,8781,11,8792,22,8799,14,8809,13,8813,0,21211]
[12,8912,24,8920,13,8938,14,8942,13,8946,0,12111]
[12,9046,24,9053,24,9067,14,9076,13,9080,0,12211]
[12,9183,24,9190,13,9198,14,9206,13,9211,0,12111]
[12,9323,24,9331,13,9340,14,9344,13,9348,0,12111]
[12,9449,24,9457,13,9468,14,9475,13,9481,0,12111]
[12,9585,24,9592,13,9604,14,9608,13,9612,0,12111]
[12,9714,24,9721,13,9735,14,9739,13,9743,0,12111]
[12,9841,13,9849,24,9857,14,9866,13,9874,1,11211]
[12,9973,24,9979,13,9993,23,10001,13,10013,0,12121]
[12,10113,13,10126,13,10137,14,10140,13,10144,0,11111]
[12,10250,24,10267,13,10274,14,10278,13,10285,0,12111]
[12,10387,24,10399,13,10406,14,10410,13,10414,0,12111]
[12,10518,13,10533,13,10537,14,10540,13,10547,0,11111]
[12,10646,13,10659,13,10667,14,10670,13,10674,0,11111]
[12,10780,24,10787,24,10791,14,10798,13,10802,0,12211]
[12,10909,13,10932,13,10936,14,10940,13,10946,0,11111]
[12,11048,13,11066,13,11070,14,11074,13,11081,0,11111]
[12,11183,13,11209,13,11213,14,11216,13,11223,0,11111]
[12,11339,24,11347,13,11354,14,11357,13,11362,1,12111]
[21,11466,22,11474,13,11484,14,11500,13,11504,0,22111]
[12,11607,24,11627,13,11635,14,11639,13,11643,0,12111]
[12,11742,13,11750,13,11763,14,11766,13,11770,0,11111]
[12,11874,24,11886,13,11893,14,11897,13,11901,0,12111]
[12,12002,24,12011,24,12018,14,12026,13,12029,1,12211]
[21,12144,22,12151,13,12171,14,12175,13,12182,0,22111]
[12,12285,24,12294,13,12304,23,12311,13,12322,0,12121]
[12,12420,24,12433,24,12439,14,12447,13,12451,0,12211]
[12,12551,24,12559,24,12566,14,12573,13,12577,0,12211]
[12,12681,13,12698,13,12702,14,12706,13,12713,0,11111]
[12,12813,24,12831,13,12839,14,12843,13,12847,0,12111]
[12,12949,24,12959,24,12967,14,12974,13,12978,0,12211]
[12,13079,13,13094,13,13098,14,13101,13,13108,0,11111]
[12,13209,24,13218,13,13228,14,13232,13,13235,0,12111]
[12,13334,24,13344,13,13352,14,13356,13,13360,0,12111]
[12,13461,24,13471,24,13478,14,13485,13,13489,1,12211]
[21,13606,11,13616,11,13620,12,13624,13,13632,0,21111]
[12,13734,24,13741,24,13746,14,13757,13,13761,0,12211]
[12,13863,24,13870,24,13877,14,13884,13,13888,1,12211]
[21,14007,22,14017,13,14028,14,14033,13,14046,0,22111]
[12,14147,24,14172,13,14180,14,14184,13,14190,0,12111]
[12,14293,24,14308,13,14316,14,14320,13,14324,0,12111]
[12,14424,24,14434,24,14445,14,14456,13,14460,0,12211]
[12,14563,24,14570,13,14596,14,14600,13,14611,0,12111]
[12,14714,24,14722,24,14734,23,14742,13,14750,0,12221]
[12,14852,24,14860,24,14867,14,14874,13,14878,0,12211]
[12,14978,24,14984,13,14999,14,15004,13,15008,0,12111]
[12,15109,24,15117,24,15128,14,15136,13,15140,0,12211]
[12,15241,24,15249,13,15263,14,15273,13,15279,1,12111]
[21,15390,11,15402,22,15409,23,15414,13,15422,0,21221]
[21,15526,11,15539,22,15546,14,15555,13,15559,0,21211]
[12,15662,24,15673,13,15685,14,15692,13,15698,0,12111]
[12,15805,24,15830,24,15837,14,15846,13,15850,1,12211]
[21,15975,11,15983,11,15987,12,15994,13,16002,0,21111]
[12,16106,24,16124,24,16138,14,16146,13,16150,0,12211]
[12,16249,24,16266,13,16274,14,16277,13,16281,1,12111]
[21,16381,22,16397,13,16406,14,16411,13,16415,0,22111]
[12,16516,24,16528,24,16534,23,16538,13,16546,0,12221]
[12,16646,24,16670,13,16680,14,16684,13,16688,0,12111]
[12,16788,24,16797,24,16804,14,16811,13,16815,1,12211]
[21,16923,22,16937,13,16946,14,16953,13,16958,0,22111]
[12,17062,24,17071,24,17078,23,17085,13,17092,0,12221]
[12,17192,24,17206,24,17213,14,17219,13,17225,0,12211]
[12,17324,24,17332,24,17338,23,17345,13,17354,1,12221]
[12,17476,13,17482,13,17489,14,17495,13,17506,0,11111]
[12,17606,24,17613,24,17626,14,17633,13,17641,1,12211]
[12,17813,24,17821,24,17827,14,17835,13,17841,0,12211]
[12,17942,24,17949,24,17961,23,17968,13,17975,0,12221]
[12,18076,24,18091,13,18098,14,18102,13,18106,0,12111]
[12,18209,24,18221,13,18229,14,18232,13,18239,1,12111]
[21,18353,11,18366,22,18373,14,18385,13,18389,0,21211]
[12,18487,24,18499,24,18505,23,18510,13,18520,0,12221]
[12,18617,24,18626,24,18633,14,18639,13,18644,0,12211]
[12,18747,24,18755,24,18785,14,18793,13,18797,0,12211]
[12,18905,24,18913,24,18917,23,18925,13,18932,1,12221]
[21,19044,11,19058,22,19065,14,19076,13,19083,0,21211]
[12,19185,13,19208,13,19212,14,19215,13,19222,0,11111]
[12,19320,24,19329,24,19338,14,19345,13,19349,0,12211]
[12,19447,24,19456,24,19463,14,19470,13,19474,0,12211]
[12,19575,24,19583,13,19591,14,19597,13,19604,0,12111]
[12,19707,13,19726,13,19730,14,19737,13,19744,0,11111]
[12,19844,13,19854,24,19897,14,19905,13,19909,0,11211]
[12,20006,24,20042,24,20050,23,20056,13,20064,0,12221]
[12,20164,24,20187,13,20197,14,20202,13,20208,0,12111]
[12,20311,24,20319,24,20332,14,20343,13,20351,0,12211]
[12,20448,13,20466,13,20479,14,20483,13,20487,1,11111]
[21,20601,11,20613,11,20622,12,20635,13,20648,1,21111]
[21,20792,22,20799,24,20806,14,20814,13,20821,0,22211]
[21,20924,22,20944,24,20951,14,20959,13,20963,0,22211]
[12,21063,13,21084,24,21103,14,21112,13,21117,0,11211]
[12,21217,13,21232,13,21250,14,21254,13,21260,0,11111]
[12,21370,13,21411,13,21418,14,21422,13,21427,0,11111]
[12,21530,24,21538,24,21545,23,21551,24,21556,0,12222]
[12,21654,13,21662,13,21674,14,21687,13,21691,1,11111]
[21,21821,11,21834,22,21845,14,21858,13,21863,1,21211]
[12,21978,24,21999,13,22006,14,22022,13,22027,0,12111]
[12,22164,13,22179,13,22182,14,22186,13,22191,0,11111]
[21,22342,22,22349,13,22359,23,22371,24,22378,0,22122]
[12,22481,13,22498,13,22513,14,22517,13,22525,0,11111]
[12,22627,24,22640,24,22647,23,22654,13,22661,1,12221]
[12,22772,13,22803,13,22807,14,22811,13,22815,0,11111]
[12,22916,13,22937,13,22945,14,22949,13,22953,0,11111]
[12,23057,13,23067,13,23072,14,23076,13,23082,0,11111]
[12,23187,13,23191,13,23199,14,23203,13,23207,0,11111]
[21,23330,22,23336,13,23344,14,23352,13,23365,1,22111]
[12,23459,24,23478,24,23483,14,23493,13,23497,0,12211]
[12,23596,24,23609,13,23619,14,23623,13,23628,0,12111]
[21,23745,11,23755,11,23760,12,23768,13,23774,0,21111]
[12,23874,13,23884,13,23902,14,23906,13,23914,null,11111]

{"sheet":"!N416A00.096","index":22,"n_rows":178,"n_cols":48,"rows_kept":178,"cut":false,"hidden":false,"merged":[[4,39,4,42],[5,39,5,40],[4,44,4,47],[5,44,5,45],[4,24,4,27],[5,24,5,25],[4,29,4,32],[5,29,5,30],[4,34,4,37],[5,34,5,35],[1,1,1,2],[5,13,5,14],[42,13,42,14],[43,13,43,14],[4,19,4,22],[5,19,5,20]]}
["Report for:!N416A00.096"]
["Date:","<date>"]
["Hen:","<hen>",null,null,null,"Correct Sequence",{"$f":"Start!J2","v":21121},null,null,null,null,null,null,null,null,"Total Sequences in Data",{"$f":"4994-COUNTBLANK(L7:L5000)","v":172},null,null,null,null,"Total Sequences in Block Data",{"$f":"COUNTA(L7:L35)","v":29},null,null,null,"Total Sequences in Block Data",{"$f":"COUNTA(L36:L63)","v":28},null,null,null,"Total Sequences in Block Data",{"$f":"COUNTA(L64:L92)","v":29},null,null,null,"Total Sequences in Block Data",{"$f":"COUNTA(L93:L121)","v":29},null,null,null,"Total Sequences in Block Data",{"$f":"COUNTA(L122:L149)","v":28},null,null,null,"Total Sequences in Block Data",{"$f":"COUNTA(L150:L178)","v":29}]
[null,null,null,null,null,null,null,null,null,null,null,null,null,null,null,"Total Sequences in Summary",{"$f":"SUM(O7:O38)","v":172},null,null,null,null,"Total Sequences in Block Summary",{"$f":"SUM(U7:U38)","v":29},null,null,null,"Total Sequences in Block Summary",{"$f":"SUM(Z7:Z38)","v":28},null,null,null,"Total Sequences in Block Summary",{"$f":"SUM(AE7:AE38)","v":29},null,null,null,"Total Sequences in Block Summary",{"$f":"SUM(AJ7:AJ38)","v":29},null,null,null,"Total Sequences in Block Summary",{"$f":"SUM(AO7:AO38)","v":28},null,null,null,"Total Sequences in Block Summary",{"$f":"SUM(AT7:AT38)","v":29}]
[null,null,null,null,null,null,null,null,null,null,null,null,null,null,null,null,null,null,null,"Block 1",null,null,null,null,"Block 2",null,null,null,null,"Block 3",null,null,null,null,"Block 4",null,null,null,null,"Block 5",null,null,null,null,"Block 6"]
["Sequence\nComponent\n1","Time\n1","Sequence\nComponent\n2","Time\n2","Sequence\nComponent\n3","Time\n3","Sequence\nComponent\n4","Time\n4","Sequence\nComponent\n5","Time\n5","Correct?\n0=No 1=Yes","Sequence",null,"Frequency",null,"Relative Frequency","Variability",null,null,"Frequency",null,"Relative Frequency","Variability",null,"Frequency",null,"Relative Frequency","Variability",null,"Frequency",null,"Relative Frequency","Variability",null,"Frequency",null,"Relative Frequency","Variability",null,"Frequency",null,"Relative Frequency","Variability",null,"Frequency",null,"Relative Frequency","Variability"]
[12,10,13,15,24,23,23,28,24,35,0,11222,null,11111,{"$f":"COUNTIF($L$7:$L$500,N7)","v":41},{"$f":"O7/$Q$4","v":0.23837209302325582},{"$f":"IF(P7=0,0,(P7*((LOG(P7))/LOG(2))))","v":-0.49312338810142198},null,null,{"$f":"N7","v":11111},{"$f":"COUNTIF(L7:L35,T7)","v":6},{"$f":"U7/(W4-U25)","v":0.20689655172413793},{"$f":"IF(V7=0,0,(V7*((LOG(V7))/LOG(2))))","v":-0.4702796884978791},null,{"$f":"N7","v":11111},{"$f":"COUNTIF(L36:L63,Y7)","v":4},{"$f":"Z7/(AB4-Z25)","v":0.14285714285714285},{"$f":"IF(AA7=0,0,(AA7*((LOG(AA7))/LOG(2))))","v":-0.40105070315108626},null,{"$f":"N7","v":11111},{"$f":"COUNTIF(L64:L92,AD7)","v":4},{"$f":"AE7/(AG4-AE25)","v":0.13793103448275862},{"$f":"IF(AF7=0,0,(AF7*((LOG(AF7))/LOG(2))))","v":-0.39420427519000989},null,{"$f":"N7","v":11111},{"$f":"COUNTIF(L93:L121,AI7)","v":14},{"$f":"AJ7/(AL4-AJ25)","v":0.48275862068965519},{"$f":"IF(AK7=0,0,(AK7*((LOG(AK7))/LOG(2))))","v":-0.50719879389584666},null,{"$f":"N7","v":11111},{"$f":"COUNTIF(L122:L149,AN7)","v":6},{"$f":"AO7/(AQ4-AO25)","v":0.21428571428571427},{"$f":"IF(AP7=0,0,(AP7*((LOG(AP7))/LOG(2))))","v":-0.47622694742923877},null,{"$f":"N7","v":11111},{"$f":"COUNTIF(L150:L178,AS7)","v":7},{"$f":"AT7/(AV4-AT25)","v":0.2413793103448276},{"$f":"IF(AU7=0,0,(AU7*((LOG(AU7))/LOG(2))))","v":-0.49497870729275095}]
[21,154,22,161,13,170,14,175,13,179,0,22111,null,11112,{"$f":"COUNTIF($L$7:$L$500,N8)","v":2},{"$f":"O8/$Q$4","v":1.1627906976744186E-2},{"$f":"IF(P8=0,0,(P8*((LOG(P8))/LOG(2))))","v":-7.4724008775605782E-2},null,null,{"$f":"N8","v":11112},{"$f":"COUNTIF(L7:L35,T8)","v":1},{"$f":"U8/(W4-U25)","v":3.4482758620689655E-2},{"$f":"IF(V8=0,0,(V8*((LOG(V8))/LOG(2))))","v":-0.16751658603888178},null,{"$f":"N8","v":11112},{"$f":"COUNTIF(L36:L63,Y8)","v":0},{"$f":"Z8/(AB4-Z25)","v":0},{"$f":"IF(AA8=0,0,(AA8*((LOG(AA8))/LOG(2))))","v":0},null,{"$f":"N8","v":11112},{"$f":"COUNTIF(L64:L92,AD8)","v":0},{"$f":"AE8/(AG4-AE25)","v":0},{"$f":"IF(AF8=0,0,(AF8*((LOG(AF8))/LOG(2))))","v":0},null,{"$f":"N8","v":11112},{"$f":"COUNTIF(L93:L121,AI8)","v":1},{"$f":"AJ8/(AL4-AJ25)","v":3.4482758620689655E-2},{"$f":"IF(AK8=0,0,(AK8*((LOG(AK8))/LOG(2))))","v":-0.16751658603888178},null,{"$f":"N8","v":11112},{"$f":"COUNTIF(L122:L149,AN8)","v":0},{"$f":"AO8/(AQ4-AO25)","v":0},{"$f":"IF(AP8=0,0,(AP8*((LOG(AP8))/LOG(2))))","v":0},null,{"$f":"N8","v":11112},{"$f":"COUNTIF(L150:L178,AS8)","v":0},{"$f":"AT8/(AV4-AT25)","v":0},{"$f":"IF(AU8=0,0,(AU8*((LOG(AU8))/LOG(2))))","v":0}]
[21,288,22,293,24,306,23,310,24,316,1,22222,null,11121,{"$f":"COUNTIF($L$7:$L$500,N9)","v":1},{"$f":"O9/$Q$4","v":5.8139534883720929E-3},{"$f":"IF(P9=0,0,(P9*((LOG(P9))/LOG(2))))","v":-4.3175957876174981E-2},null,null,{"$f":"N9","v":11121},{"$f":"COUNTIF(L7:L35,T9)","v":0},{"$f":"U9/(W4-U25)","v":0},{"$f":"IF(V9=0,0,(V9*((LOG(V9))/LOG(2))))","v":0},null,{"$f":"N9","v":11121},{"$f":"COUNTIF(L36:L63,Y9)","v":0},{"$f":"Z9/(AB4-Z25)","v":0},{"$f":"IF(AA9=0,0,(AA9*((LOG(AA9))/LOG(2))))","v":0},null,{"$f":"N9","v":11121},{"$f":"COUNTIF(L64:L92,AD9)","v":0},{"$f":"AE9/(AG4-AE25)","v":0},{"$f":"IF(AF9=0,0,(AF9*((LOG(AF9))/LOG(2))))","v":0},null,{"$f":"N9","v":11121},{"$f":"COUNTIF(L93:L121,AI9)","v":0},{"$f":"AJ9/(AL4-AJ25)","v":0},{"$f":"IF(AK9=0,0,(AK9*((LOG(AK9))/LOG(2))))","v":0},null,{"$f":"N9","v":11121},{"$f":"COUNTIF(L122:L149,AN9)","v":0},{"$f":"AO9/(AQ4-AO25)","v":0},{"$f":"IF(AP9=0,0,(AP9*((LOG(AP9))/LOG(2))))","v":0},null,{"$f":"N9","v":11121},{"$f":"COUNTIF(L150:L178,AS9)","v":1},{"$f":"AT9/(AV4-AT25)","v":3.4482758620689655E-2},{"$f":"IF(AU9=0,0,(AU9*((LOG(AU9))/LOG(2))))","v":-0.16751658603888178}]
[12,413,24,428,24,433,23,438,13,448,0,12221,null,11122,{"$f":"COUNTIF($L$7:$L$500,N10)","v":0},{"$f":"O10/$Q$4","v":0},{"$f":"IF(P10=0,0,(P10*((LOG(P10))/LOG(2))))","v":0},null,null,{"$f":"N10","v":11122},{"$f":"COUNTIF(L7:L35,T10)","v":0},{"$f":"U10/(W4-U25)","v":0},{"$f":"IF(V10=0,0,(V10*((LOG(V10))/LOG(2))))","v":0},null,{"$f":"N10","v":11122},{"$f":"COUNTIF(L36:L63,Y10)","v":0},{"$f":"Z10/(AB4-Z25)","v":0},{"$f":"IF(AA10=0,0,(AA10*((LOG(AA10))/LOG(2))))","v":0},null,{"$f":"N10","v":11122},{"$f":"COUNTIF(L64:L92,AD10)","v":0},{"$f":"AE10/(AG4-AE25)","v":0},{"$f":"IF(AF10=0,0,(AF10*((LOG(AF10))/LOG(2))))","v":0},null,{"$f":"N10","v":11122},{"$f":"COUNTIF(L93:L121,AI10)","v":0},{"$f":"AJ10/(AL4-AJ25)","v":0},{"$f":"IF(AK10=0,0,(AK10*((LOG(AK10))/LOG(2))))","v":0},null,{"$f":"N10","v":11122},{"$f":"COUNTIF(L122:L149,AN10)","v":0},{"$f":"AO10/(AQ4-AO25)","v":0},{"$f":"IF(AP10=0,0,(AP10*((LOG(AP10))/LOG(2))))","v":0},null,{"$f":"N10","v":11122},{"$f":"COUNTIF(L150:L178,AS10)","v":0},{"$f":"AT10/(AV4-AT25)","v":0},{"$f":"IF(AU10=0,0,(AU10*((LOG(AU10))/LOG(2))))","v":0}]
[12,545,13,549,24,561,23,566,13,575,0,11221,null,11211,{"$f":"COUNTIF($L$7:$L$500,N11)","v":11},{"$f":"O11/$Q$4","v":6.3953488372093026E-2},{"$f":"IF(P11=0,0,(P11*((LOG(P11))/LOG(2))))","v":-0.25369281684135353},null,null,{"$f":"N11","v":11211},{"$f":"COUNTIF(L7:L35,T11)","v":1},{"$f":"U11/(W4-U25)","v":3.4482758620689655E-2},{"$f":"IF(V11=0,0,(V11*((LOG(V11))/LOG(2))))","v":-0.16751658603888178},null,{"$f":"N11","v":11211},{"$f":"COUNTIF(L36:L63,Y11)","v":1},{"$f":"Z11/(AB4-Z25)","v":3.5714285714285712E-2},{"$f":"IF(AA11=0,0,(AA11*((LOG(AA11))/LOG(2))))","v":-0.17169124721634299},null,{"$f":"N11","v":11211},{"$f":"COUNTIF(L64:L92,AD11)","v":1},{"$f":"AE11/(AG4-AE25)","v":3.4482758620689655E-2},{"$f":"IF(AF11=0,0,(AF11*((LOG(AF11))/LOG(2))))","v":-0.16751658603888178},null,{"$f":"N11","v":11211},{"$f":"COUNTIF(L93:L121,AI11)","v":1},{"$f":"AJ11/(AL4-AJ25)","v":3.4482758620689655E-2},{"$f":"IF(AK11=0,0,(AK11*((LOG(AK11))/LOG(2))))","v":-0.16751658603888178},null,{"$f":"N11","v":11211},{"$f":"COUNTIF(L122:L149,AN11)","v":3},{"$f":"AO11/(AQ4-AO25)","v":0.10714285714285714},{"$f":"IF(AP11=0,0,(AP11*((LOG(AP11))/LOG(2))))","v":-0.34525633085747659},null,{"$f":"N11","v":11211},{"$f":"COUNTIF(L150:L178,AS11)","v":4},{"$f":"AT11/(AV4-AT25)","v":0.13793103448275862},{"$f":"IF(AU11=0,0,(AU11*((LOG(AU11))/LOG(2))))","v":-0.39420427519000989}]
[12,675,24,683,24,689,23,697,13,707,0,12221,null,11212,{"$f":"COUNTIF($L$7:$L$500,N12)","v":0},{"$f":"O12/$Q$4","v":0},{"$f":"IF(P12=0,0,(P12*((LOG(P12))/LOG(2))))","v":0},null,null,{"$f":"N12","v":11212},{"$f":"COUNTIF(L7:L35,T12)","v":0},{"$f":"U12/(W4-U25)","v":0},{"$f":"IF(V12=0,0,(V12*((LOG(V12))/LOG(2))))","v":0},null,{"$f":"N12","v":11212},{"$f":"COUNTIF(L36:L63,Y12)","v":0},{"$f":"Z12/(AB4-Z25)","v":0},{"$f":"IF(AA12=0,0,(AA12*((LOG(AA12))/LOG(2))))","v":0},null,{"$f":"N12","v":11212},{"$f":"COUNTIF(L64:L92,AD12)","v":0},{"$f":"AE12/(AG4-AE25)","v":0},{"$f":"IF(AF12=0,0,(AF12*((LOG(AF12))/LOG(2))))","v":0},null,{"$f":"N12","v":11212},{"$f":"COUNTIF(L93:L121,AI12)","v":0},{"$f":"AJ12/(AL4-AJ25)","v":0},{"$f":"IF(AK12=0,0,(AK12*((LOG(AK12))/LOG(2))))","v":0},null,{"$f":"N12","v":11212},{"$f":"COUNTIF(L122:L149,AN12)","v":0},{"$f":"AO12/(AQ4-AO25)","v":0},{"$f":"IF(AP12=0,0,(AP12*((LOG(AP12))/LOG(2))))","v":0},null,{"$f":"N12","v":11212},{"$f":"COUNTIF(L150:L178,AS12)","v":0},{"$f":"AT12/(AV4-AT25)","v":0},{"$f":"IF(AU12=0,0,(AU12*((LOG(AU12))/LOG(2))))","v":0}]
[12,808,13,812,24,820,23,825,24,830,0,11222,null,11221,{"$f":"COUNTIF($L$7:$L$500,N13)","v":4},{"$f":"O13/$Q$4","v":2.3255813953488372E-2},{"$f":"IF(P13=0,0,(P13*((LOG(P13))/LOG(2))))","v":-0.12619220359772321},null,null,{"$f":"N13","v":11221},{"$f":"COUNTIF(L7:L35,T13)","v":2},{"$f":"U13/(W4-U25)","v":6.8965517241379309E-2},{"$f":"IF(V13=0,0,(V13*((LOG(V13))/LOG(2))))","v":-0.26606765483638428},null,{"$f":"N13","v":11221},{"$f":"COUNTIF(L36:L63,Y13)","v":2},{"$f":"Z13/(AB4-Z25)","v":7.1428571428571425E-2},{"$f":"IF(AA13=0,0,(AA13*((LOG(AA13))/LOG(2))))","v":-0.27195392300411453},null,{"$f":"N13","v":11221},{"$f":"COUNTIF(L64:L92,AD13)","v":0},{"$f":"AE13/(AG4-AE25)","v":0},{"$f":"IF(AF13=0,0,(AF13*((LOG(AF13))/LOG(2))))","v":0},null,{"$f":"N13","v":11221},{"$f":"COUNTIF(L93:L121,AI13)","v":0},{"$f":"AJ13/(AL4-AJ25)","v":0},{"$f":"IF(AK13=0,0,(AK13*((LOG(AK13))/LOG(2))))","v":0},null,{"$f":"N13","v":11221},{"$f":"COUNTIF(L122:L149,AN13)","v":0},{"$f":"AO13/(AQ4-AO25)","v":0},{"$f":"IF(AP13=0,0,(AP13*((LOG(AP13))/LOG(2))))","v":0},null,{"$f":"N13","v":11221},{"$f":"COUNTIF(L150:L178,AS13)","v":0},{"$f":"AT13/(AV4-AT25)","v":0},{"$f":"IF(AU13=0,0,(AU13*((LOG(AU13))/LOG(2))))","v":0}]
[12,931,13,935,24,943,14,954,13,961,0,11211,null,11222,{"$f":"COUNTIF($L$7:$L$500,N14)","v":6},{"$f":"O14/$Q$4","v":3.4883720930232558E-2},{"$f":"IF(P14=0,0,(P14*((LOG(P14))/LOG(2))))","v":-0.16888263676677703},null,null,{"$f":"N14","v":11222},{"$f":"COUNTIF(L7:L35,T14)","v":3},{"$f":"U14/(W4-U25)","v":0.10344827586206896},{"$f":"IF(V14=0,0,(V14*((LOG(V14))/LOG(2))))","v":-0.33858812011100858},null,{"$f":"N14","v":11222},{"$f":"COUNTIF(L36:L63,Y14)","v":1},{"$f":"Z14/(AB4-Z25)","v":3.5714285714285712E-2},{"$f":"IF(AA14=0,0,(AA14*((LOG(AA14))/LOG(2))))","v":-0.17169124721634299},null,{"$f":"N14","v":11222},{"$f":"COUNTIF(L64:L92,AD14)","v":1},{"$f":"AE14/(AG4-AE25)","v":3.4482758620689655E-2},{"$f":"IF(AF14=0,0,(AF14*((LOG(AF14))/LOG(2))))","v":-0.16751658603888178},null,{"$f":"N14","v":11222},{"$f":"COUNTIF(L93:L121,AI14)","v":0},{"$f":"AJ14/(AL4-AJ25)","v":0},{"$f":"IF(AK14=0,0,(AK14*((LOG(AK14))/LOG(2))))","v":0},null,{"$f":"N14","v":11222},{"$f":"COUNTIF(L122:L149,AN14)","v":0},{"$f":"AO14/(AQ4-AO25)","v":0},{"$f":"IF(AP14=0,0,(AP14*((LOG(AP14))/LOG(2))))","v":0},null,{"$f":"N14","v":11222},{"$f":"COUNTIF(L150:L178,AS14)","v":1},{"$f":"AT14/(AV4-AT25)","v":3.4482758620689655E-2},{"$f":"IF(AU14=0,0,(AU14*((LOG(AU14))/LOG(2))))","v":-0.16751658603888178}]
[21,1066,22,1070,24,1075,23,1082,13,1092,0,22221,null,12111,{"$f":"COUNTIF($L$7:$L$500,N15)","v":29},{"$f":"O15/$Q$4","v":0.16860465116279069},{"$f":"IF(P15=0,0,(P15*((LOG(P15))/LOG(2))))","v":-0.43302458737012356},null,null,{"$f":"N15","v":12111},{"$f":"COUNTIF(L7:L35,T15)","v":0},{"$f":"U15/(W4-U25)","v":0},{"$f":"IF(V15=0,0,(V15*((LOG(V15))/LOG(2))))","v":0},null,{"$f":"N15","v":12111},{"$f":"COUNTIF(L36:L63,Y15)","v":9},{"$f":"Z15/(AB4-Z25)","v":0.32142857142857145},{"$f":"IF(AA15=0,0,(AA15*((LOG(AA15))/LOG(2))))","v":-0.5263167601977724},null,{"$f":"N15","v":12111},{"$f":"COUNTIF(L64:L92,AD15)","v":7},{"$f":"AE15/(AG4-AE25)","v":0.2413793103448276},{"$f":"IF(AF15=0,0,(AF15*((LOG(AF15))/LOG(2))))","v":-0.49497870729275095},null,{"$f":"N15","v":12111},{"$f":"COUNTIF(L93:L121,AI15)","v":4},{"$f":"AJ15/(AL4-AJ25)","v":0.13793103448275862},{"$f":"IF(AK15=0,0,(AK15*((LOG(AK15))/LOG(2))))","v":-0.39420427519000989},null,{"$f":"N15","v":12111},{"$f":"COUNTIF(L122:L149,AN15)","v":4},{"$f":"AO15/(AQ4-AO25)","v":0.14285714285714285},{"$f":"IF(AP15=0,0,(AP15*((LOG(AP15))/LOG(2))))","v":-0.40105070315108626},null,{"$f":"N15","v":12111},{"$f":"COUNTIF(L150:L178,AS15)","v":5},{"$f":"AT15/(AV4-AT25)","v":0.17241379310344829},{"$f":"IF(AU15=0,0,(AU15*((LOG(AU15))/LOG(2))))","v":-0.43725050004141547}]
[21,1194,22,1198,24,1202,14,1212,13,1217,0,22211,null,12112,{"$f":"COUNTIF($L$7:$L$500,N16)","v":0},{"$f":"O16/$Q$4","v":0},{"$f":"IF(P16=0,0,(P16*((LOG(P16))/LOG(2))))","v":0},null,null,{"$f":"N16","v":12112},{"$f":"COUNTIF(L7:L35,T16)","v":0},{"$f":"U16/(W4-U25)","v":0},{"$f":"IF(V16=0,0,(V16*((LOG(V16))/LOG(2))))","v":0},null,{"$f":"N16","v":12112},{"$f":"COUNTIF(L36:L63,Y16)","v":0},{"$f":"Z16/(AB4-Z25)","v":0},{"$f":"IF(AA16=0,0,(AA16*((LOG(AA16))/LOG(2))))","v":0},null,{"$f":"N16","v":12112},{"$f":"COUNTIF(L64:L92,AD16)","v":0},{"$f":"AE16/(AG4-AE25)","v":0},{"$f":"IF(AF16=0,0,(AF16*((LOG(AF16))/LOG(2))))","v":0},null,{"$f":"N16","v":12112},{"$f":"COUNTIF(L93:L121,AI16)","v":0},{"$f":"AJ16/(AL4-AJ25)","v":0},{"$f":"IF(AK16=0,0,(AK16*((LOG(AK16))/LOG(2))))","v":0},null,{"$f":"N16","v":12112},{"$f":"COUNTIF(L122:L149,AN16)","v":0},{"$f":"AO16/(AQ4-AO25)","v":0},{"$f":"IF(AP16=0,0,(AP16*((LOG(AP16))/LOG(2))))","v":0},null,{"$f":"N16","v":12112},{"$f":"COUNTIF(L150:L178,AS16)","v":0},{"$f":"AT16/(AV4-AT25)","v":0},{"$f":"IF(AU16=0,0,(AU16*((LOG(AU16))/LOG(2))))","v":0}]
[12,1321,24,1328,24,1333,23,1338,13,1350,0,12221,null,12121,{"$f":"COUNTIF($L$7:$L$500,N17)","v":3},{"$f":"O17/$Q$4","v":1.7441860465116279E-2},{"$f":"IF(P17=0,0,(P17*((LOG(P17))/LOG(2))))","v":-0.1018831788485048},null,null,{"$f":"N17","v":12121},{"$f":"COUNTIF(L7:L35,T17)","v":0},{"$f":"U17/(W4-U25)","v":0},{"$f":"IF(V17=0,0,(V17*((LOG(V17))/LOG(2))))","v":0},null,{"$f":"N17","v":12121},{"$f":"COUNTIF(L36:L63,Y17)","v":1},{"$f":"Z17/(AB4-Z25)","v":3.5714285714285712E-2},{"$f":"IF(AA17=0,0,(AA17*((LOG(AA17))/LOG(2))))","v":-0.17169124721634299},null,{"$f":"N17","v":12121},{"$f":"COUNTIF(L64:L92,AD17)","v":1},{"$f":"AE17/(AG4-AE25)","v":3.4482758620689655E-2},{"$f":"IF(AF17=0,0,(AF17*((LOG(AF17))/LOG(2))))","v":-0.16751658603888178},null,{"$f":"N17","v":12121},{"$f":"COUNTIF(L93:L121,AI17)","v":0},{"$f":"AJ17/(AL4-AJ25)","v":0},{"$f":"IF(AK17=0,0,(AK17*((LOG(AK17))/LOG(2))))","v":0},null,{"$f":"N17","v":12121},{"$f":"COUNTIF(L122:L149,AN17)","v":1},{"$f":"AO17/(AQ4-AO25)","v":3.5714285714285712E-2},{"$f":"IF(AP17=0,0,(AP17*((LOG(AP17))/LOG(2))))","v":-0.17169124721634299},null,{"$f":"N17","v":12121},{"$f":"COUNTIF(L150:L178,AS17)","v":0},{"$f":"AT17/(AV4-AT25)","v":0},{"$f":"IF(AU17=0,0,(AU17*((LOG(AU17))/LOG(2))))","v":0}]
[12,1453,24,1460,24,1464,23,1469,13,1480,1,12221,null,12122,{"$f":"COUNTIF($L$7:$L$500,N18)","v":0},{"$f":"O18/$Q$4","v":0},{"$f":"IF(P18=0,0,(P18*((LOG(P18))/LOG(2))))","v":0},null,null,{"$f":"N18","v":12122},{"$f":"COUNTIF(L7:L35,T18)","v":0},{"$f":"U18/(W4-U25)","v":0},{"$f":"IF(V18=0,0,(V18*((LOG(V18))/LOG(2))))","v":0},null,{"$f":"N18","v":12122},{"$f":"COUNTIF(L36:L63,Y18)","v":0},{"$f":"Z18/(AB4-Z25)","v":0},{"$f":"IF(AA18=0,0,(AA18*((LOG(AA18))/LOG(2))))","v":0},null,{"$f":"N18","v":12122},{"$f":"COUNTIF(L64:L92,AD18)","v":0},{"$f":"AE18/(AG4-AE25)","v":0},{"$f":"IF(AF18=0,0,(AF18*((LOG(AF18))/LOG(2))))","v":0},null,{"$f":"N18","v":12122},{"$f":"COUNTIF(L93:L121,AI18)","v":0},{"$f":"AJ18/(AL4-AJ25)","v":0},{"$f":"IF(AK18=0,0,(AK18*((LOG(AK18))/LOG(2))))","v":0},null,{"$f":"N18","v":12122},{"$f":"COUNTIF(L122:L149,AN18)","v":0},{"$f":"AO18/(AQ4-AO25)","v":0},{"$f":"IF(AP18=0,0,(AP18*((LOG(AP18))/LOG(2))))","v":0},null,{"$f":"N18","v":12122},{"$f":"COUNTIF(L150:L178,AS18)","v":0},{"$f":"AT18/(AV4-AT25)","v":0},{"$f":"IF(AU18=0,0,(AU18*((LOG(AU18))/LOG(2))))","v":0}]
[21,1585,22,1593,24,1600,23,1605,24,1611,0,22222,null,12211,{"$f":"COUNTIF($L$7:$L$500,N19)","v":23},{"$f":"O19/$Q$4","v":0.13372093023255813},{"$f":"IF(P19=0,0,(P19*((LOG(P19))/LOG(2))))","v":-0.38815211842347069},null,null,{"$f":"N19","v":12211},{"$f":"COUNTIF(L7:L35,T19)","v":2},{"$f":"U19/(W4-U25)","v":6.8965517241379309E-2},{"$f":"IF(V19=0,0,(V19*((LOG(V19))/LOG(2))))","v":-0.26606765483638428},null,{"$f":"N19","v":12211},{"$f":"COUNTIF(L36:L63,Y19)","v":4},{"$f":"Z19/(AB4-Z25)","v":0.14285714285714285},{"$f":"IF(AA19=0,0,(AA19*((LOG(AA19))/LOG(2))))","v":-0.40105070315108626},null,{"$f":"N19","v":12211},{"$f":"COUNTIF(L64:L92,AD19)","v":6},{"$f":"AE19/(AG4-AE25)","v":0.20689655172413793},{"$f":"IF(AF19=0,0,(AF19*((LOG(AF19))/LOG(2))))","v":-0.4702796884978791},null,{"$f":"N19","v":12211},{"$f":"COUNTIF(L93:L121,AI19)","v":3},{"$f":"AJ19/(AL4-AJ25)","v":0.10344827586206896},{"$f":"IF(AK19=0,0,(AK19*((LOG(AK19))/LOG(2))))","v":-0.33858812011100858},null,{"$f":"N19","v":12211},{"$f":"COUNTIF(L122:L149,AN19)","v":4},{"$f":"AO19/(AQ4-AO25)","v":0.14285714285714285},{"$f":"IF(AP19=0,0,(AP19*((LOG(AP19))/LOG(2))))","v":-0.40105070315108626},null,{"$f":"N19","v":12211},{"$f":"COUNTIF(L150:L178,AS19)","v":4},{"$f":"AT19/(AV4-AT25)","v":0.13793103448275862},{"$f":"IF(AU19=0,0,(AU19*((LOG(AU19))/LOG(2))))","v":-0.39420427519000989}]
[12,1720,24,1728,24,1733,23,1737,24,1748,0,12222,null,12212,{"$f":"COUNTIF($L$7:$L$500,N20)","v":0},{"$f":"O20/$Q$4","v":0},{"$f":"IF(P20=0,0,(P20*((LOG(P20))/LOG(2))))","v":0},null,null,{"$f":"N20","v":12212},{"$f":"COUNTIF(L7:L35,T20)","v":0},{"$f":"U20/(W4-U25)","v":0},{"$f":"IF(V20=0,0,(V20*((LOG(V20))/LOG(2))))","v":0},null,{"$f":"N20","v":12212},{"$f":"COUNTIF(L36:L63,Y20)","v":0},{"$f":"Z20/(AB4-Z25)","v":0},{"$f":"IF(AA20=0,0,(AA20*((LOG(AA20))/LOG(2))))","v":0},null,{"$f":"N20","v":12212},{"$f":"COUNTIF(L64:L92,AD20)","v":0},{"$f":"AE20/(AG4-AE25)","v":0},{"$f":"IF(AF20=0,0,(AF20*((LOG(AF20))/LOG(2))))","v":0},null,{"$f":"N20","v":12212},{"$f":"COUNTIF(L93:L121,AI20)","v":0},{"$f":"AJ20/(AL4-AJ25)","v":0},{"$f":"IF(AK20=0,0,(AK20*((LOG(AK20))/LOG(2))))","v":0},null,{"$f":"N20","v":12212},{"$f":"COUNTIF(L122:L149,AN20)","v":0},{"$f":"AO20/(AQ4-AO25)","v":0},{"$f":"IF(AP20=0,0,(AP20*((LOG(AP20))/LOG(2))))","v":0},null,{"$f":"N20","v":12212},{"$f":"COUNTIF(L150:L178,AS20)","v":0},{"$f":"AT20/(AV4-AT25)","v":0},{"$f":"IF(AU20=0,0,(AU20*((LOG(AU20))/LOG(2))))","v":0}]
[12,1846,24,1855,24,1859,23,1864,24,1871,0,12222,null,12221,{"$f":"COUNTIF($L$7:$L$500,N21)","v":18},{"$f":"O21/$Q$4","v":0.10465116279069768},{"$f":"IF(P21=0,0,(P21*((LOG(P21))/LOG(2))))","v":-0.34077974162021013},null,null,{"$f":"N21","v":12221},{"$f":"COUNTIF(L7:L35,T21)","v":4},{"$f":"U21/(W4-U25)","v":0.13793103448275862},{"$f":"IF(V21=0,0,(V21*((LOG(V21))/LOG(2))))","v":-0.39420427519000989},null,{"$f":"N21","v":12221},{"$f":"COUNTIF(L36:L63,Y21)","v":3},{"$f":"Z21/(AB4-Z25)","v":0.10714285714285714},{"$f":"IF(AA21=0,0,(AA21*((LOG(AA21))/LOG(2))))","v":-0.34525633085747659},null,{"$f":"N21","v":12221},{"$f":"COUNTIF(L64:L92,AD21)","v":2},{"$f":"AE21/(AG4-AE25)","v":6.8965517241379309E-2},{"$f":"IF(AF21=0,0,(AF21*((LOG(AF21))/LOG(2))))","v":-0.26606765483638428},null,{"$f":"N21","v":12221},{"$f":"COUNTIF(L93:L121,AI21)","v":4},{"$f":"AJ21/(AL4-AJ25)","v":0.13793103448275862},{"$f":"IF(AK21=0,0,(AK21*((LOG(AK21))/LOG(2))))","v":-0.39420427519000989},null,{"$f":"N21","v":12221},{"$f":"COUNTIF(L122:L149,AN21)","v":1},{"$f":"AO21/(AQ4-AO25)","v":3.5714285714285712E-2},{"$f":"IF(AP21=0,0,(AP21*((LOG(AP21))/LOG(2))))","v":-0.17169124721634299},null,{"$f":"N21","v":12221},{"$f":"COUNTIF(L150:L178,AS21)","v":4},{"$f":"AT21/(AV4-AT25)","v":0.13793103448275862},{"$f":"IF(AU21=0,0,(AU21*((LOG(AU21))/LOG(2))))","v":-0.39420427519000989}]
[12,1972,13,1983,24,1991,23,1995,24,2002,0,11222,null,12222,{"$f":"COUNTIF($L$7:$L$500,N22)","v":12},{"$f":"O22/$Q$4","v":6.9767441860465115E-2},{"$f":"IF(P22=0,0,(P22*((LOG(P22))/LOG(2))))","v":-0.26799783167308894},null,null,{"$f":"N22","v":12222},{"$f":"COUNTIF(L7:L35,T22)","v":5},{"$f":"U22/(W4-U25)","v":0.17241379310344829},{"$f":"IF(V22=0,0,(V22*((LOG(V22))/LOG(2))))","v":-0.43725050004141547},null,{"$f":"N22","v":12222},{"$f":"COUNTIF(L36:L63,Y22)","v":0},{"$f":"Z22/(AB4-Z25)","v":0},{"$f":"IF(AA22=0,0,(AA22*((LOG(AA22))/LOG(2))))","v":0},null,{"$f":"N22","v":12222},{"$f":"COUNTIF(L64:L92,AD22)","v":3},{"$f":"AE22/(AG4-AE25)","v":0.10344827586206896},{"$f":"IF(AF22=0,0,(AF22*((LOG(AF22))/LOG(2))))","v":-0.33858812011100858},null,{"$f":"N22","v":12222},{"$f":"COUNTIF(L93:L121,AI22)","v":1},{"$f":"AJ22/(AL4-AJ25)","v":3.4482758620689655E-2},{"$f":"IF(AK22=0,0,(AK22*((LOG(AK22))/LOG(2))))","v":-0.16751658603888178},null,{"$f":"N22","v":12222},{"$f":"COUNTIF(L122:L149,AN22)","v":3},{"$f":"AO22/(AQ4-AO25)","v":0.10714285714285714},{"$f":"IF(AP22=0,0,(AP22*((LOG(AP22))/LOG(2))))","v":-0.34525633085747659},null,{"$f":"N22","v":12222},{"$f":"COUNTIF(L150:L178,AS22)","v":0},{"$f":"AT22/(AV4-AT25)","v":0},{"$f":"IF(AU22=0,0,(AU22*((LOG(AU22))/LOG(2))))","v":0}]
[12,2102,13,2117,13,2124,14,2132,24,2143,0,11112,null,21111,{"$f":"COUNTIF($L$7:$L$500,N23)","v":4},{"$f":"O23/$Q$4","v":2.3255813953488372E-2},{"$f":"IF(P23=0,0,(P23*((LOG(P23))/LOG(2))))","v":-0.12619220359772321},null,null,{"$f":"N23","v":21111},{"$f":"COUNTIF(L7:L35,T23)","v":0},{"$f":"U23/(W4-U25)","v":0},{"$f":"IF(V23=0,0,(V23*((LOG(V23))/LOG(2))))","v":0},null,{"$f":"N23","v":21111},{"$f":"COUNTIF(L36:L63,Y23)","v":1},{"$f":"Z23/(AB4-Z25)","v":3.5714285714285712E-2},{"$f":"IF(AA23=0,0,(AA23*((LOG(AA23))/LOG(2))))","v":-0.17169124721634299},null,{"$f":"N23","v":21111},{"$f":"COUNTIF(L64:L92,AD23)","v":1},{"$f":"AE23/(AG4-AE25)","v":3.4482758620689655E-2},{"$f":"IF(AF23=0,0,(AF23*((LOG(AF23))/LOG(2))))","v":-0.16751658603888178},null,{"$f":"N23","v":21111},{"$f":"COUNTIF(L93:L121,AI23)","v":0},{"$f":"AJ23/(AL4-AJ25)","v":0},{"$f":"IF(AK23=0,0,(AK23*((LOG(AK23))/LOG(2))))","v":0},null,{"$f":"N23","v":21111},{"$f":"COUNTIF(L122:L149,AN23)","v":1},{"$f":"AO23/(AQ4-AO25)","v":3.5714285714285712E-2},{"$f":"IF(AP23=0,0,(AP23*((LOG(AP23))/LOG(2))))","v":-0.17169124721634299},null,{"$f":"N23","v":21111},{"$f":"COUNTIF(L150:L178,AS23)","v":1},{"$f":"AT23/(AV4-AT25)","v":3.4482758620689655E-2},{"$f":"IF(AU23=0,0,(AU23*((LOG(AU23))/LOG(2))))","v":-0.16751658603888178}]
[12,2244,13,2252,13,2256,14,2260,13,2271,0,11111,null,21112,{"$f":"COUNTIF($L$7:$L$500,N24)","v":0},{"$f":"O24/$Q$4","v":0},{"$f":"IF(P24=0,0,(P24*((LOG(P24))/LOG(2))))","v":0},null,null,{"$f":"N24","v":21112},{"$f":"COUNTIF(L7:L35,T24)","v":0},{"$f":"U24/(W4-U25)","v":0},{"$f":"IF(V24=0,0,(V24*((LOG(V24))/LOG(2))))","v":0},null,{"$f":"N24","v":21112},{"$f":"COUNTIF(L36:L63,Y24)","v":0},{"$f":"Z24/(AB4-Z25)","v":0},{"$f":"IF(AA24=0,0,(AA24*((LOG(AA24))/LOG(2))))","v":0},null,{"$f":"N24","v":21112},{"$f":"COUNTIF(L64:L92,AD24)","v":0},{"$f":"AE24/(AG4-AE25)","v":0},{"$f":"IF(AF24=0,0,(AF24*((LOG(AF24))/LOG(2))))","v":0},null,{"$f":"N24","v":21112},{"$f":"COUNTIF(L93:L121,AI24)","v":0},{"$f":"AJ24/(AL4-AJ25)","v":0},{"$f":"IF(AK24=0,0,(AK24*((LOG(AK24))/LOG(2))))","v":0},null,{"$f":"N24","v":21112},{"$f":"COUNTIF(L122:L149,AN24)","v":0},{"$f":"AO24/(AQ4-AO25)","v":0},{"$f":"IF(AP24=0,0,(AP24*((LOG(AP24))/LOG(2))))","v":0},null,{"$f":"N24","v":21112},{"$f":"COUNTIF(L150:L178,AS24)","v":0},{"$f":"AT24/(AV4-AT25)","v":0},{"$f":"IF(AU24=0,0,(AU24*((LOG(AU24))/LOG(2))))","v":0}]
[12,2371,13,2380,13,2384,14,2388,13,2391,0,11111,null,21121,{"$f":"COUNTIF($L$7:$L$500,N25)","v":0},{"$f":"O25/$Q$4","v":0},{"$f":"IF(P25=0,0,(P25*((LOG(P25))/LOG(2))))","v":0},null,null,{"$f":"N25","v":21121},{"$f":"COUNTIF(L7:L35,T25)","v":0},null,null,null,{"$f":"N25","v":21121},{"$f":"COUNTIF(L36:L63,Y25)","v":0},null,null,null,{"$f":"N25","v":21121},{"$f":"COUNTIF(L64:L92,AD25)","v":0},null,null,null,{"$f":"N25","v":21121},{"$f":"COUNTIF(L93:L121,AI25)","v":0},null,null,null,{"$f":"N25","v":21121},{"$f":"COUNTIF(L122:L149,AN25)","v":0},null,null,null,{"$f":"N25","v":21121},{"$f":"COUNTIF(L150:L178,AS25)","v":0}]
[12,2491,13,2502,13,2506,14,2509,13,2514,0,11111,null,21122,{"$f":"COUNTIF($L$7:$L$500,N26)","v":0},{"$f":"O26/$Q$4","v":0},{"$f":"IF(P26=0,0,(P26*((LOG(P26))/LOG(2))))","v":0},null,null,{"$f":"N26","v":21122},{"$f":"COUNTIF(L7:L35,T26)","v":0},{"$f":"U26/(W4-U25)","v":0},{"$f":"IF(V26=0,0,(V26*((LOG(V26))/LOG(2))))","v":0},null,{"$f":"N26","v":21122},{"$f":"COUNTIF(L36:L63,Y26)","v":0},{"$f":"Z26/(AB4-Z25)","v":0},{"$f":"IF(AA26=0,0,(AA26*((LOG(AA26))/LOG(2))))","v":0},null,{"$f":"N26","v":21122},{"$f":"COUNTIF(L64:L92,AD26)","v":0},{"$f":"AE26/(AG4-AE25)","v":0},{"$f":"IF(AF26=0,0,(AF26*((LOG(AF26))/LOG(2))))","v":0},null,{"$f":"N26","v":21122},{"$f":"COUNTIF(L93:L121,AI26)","v":0},{"$f":"AJ26/(AL4-AJ25)","v":0},{"$f":"IF(AK26=0,0,(AK26*((LOG(AK26))/LOG(2))))","v":0},null,{"$f":"N26","v":21122},{"$f":"COUNTIF(L122:L149,AN26)","v":0},{"$f":"AO26/(AQ4-AO25)","v":0},{"$f":"IF(AP26=0,0,(AP26*((LOG(AP26))/LOG(2))))","v":0},null,{"$f":"N26","v":21122},{"$f":"COUNTIF(L150:L178,AS26)","v":0},{"$f":"AT26/(AV4-AT25)","v":0},{"$f":"IF(AU26=0,0,(AU26*((LOG(AU26))/LOG(2))))","v":0}]
[12,2619,13,2628,13,2632,14,2636,13,2642,0,11111,null,21211,{"$f":"COUNTIF($L$7:$L$500,N27)","v":2},{"$f":"O27/$Q$4","v":1.1627906976744186E-2},{"$f":"IF(P27=0,0,(P27*((LOG(P27))/LOG(2))))","v":-7.4724008775605782E-2},null,null,{"$f":"N27","v":21211},{"$f":"COUNTIF(L7:L35,T27)","v":0},{"$f":"U27/(W4-U25)","v":0},{"$f":"IF(V27=0,0,(V27*((LOG(V27))/LOG(2))))","v":0},null,{"$f":"N27","v":21211},{"$f":"COUNTIF(L36:L63,Y27)","v":0},{"$f":"Z27/(AB4-Z25)","v":0},{"$f":"IF(AA27=0,0,(AA27*((LOG(AA27))/LOG(2))))","v":0},null,{"$f":"N27","v":21211},{"$f":"COUNTIF(L64:L92,AD27)","v":1},{"$f":"AE27/(AG4-AE25)","v":3.4482758620689655E-2},{"$f":"IF(AF27=0,0,(AF27*((LOG(AF27))/LOG(2))))","v":-0.16751658603888178},null,{"$f":"N27","v":21211},{"$f":"COUNTIF(L93:L121,AI27)","v":0},{"$f":"AJ27/(AL4-AJ25)","v":0},{"$f":"IF(AK27=0,0,(AK27*((LOG(AK27))/LOG(2))))","v":0},null,{"$f":"N27","v":21211},{"$f":"COUNTIF(L122:L149,AN27)","v":1},{"$f":"AO27/(AQ4-AO25)","v":3.5714285714285712E-2},{"$f":"IF(AP27=0,0,(AP27*((LOG(AP27))/LOG(2))))","v":-0.17169124721634299},null,{"$f":"N27","v":21211},{"$f":"COUNTIF(L150:L178,AS27)","v":0},{"$f":"AT27/(AV4-AT25)","v":0},{"$f":"IF(AU27=0,0,(AU27*((LOG(AU27))/LOG(2))))","v":0}]
[12,2744,13,2748,13,2752,14,2756,13,2762,0,11111,null,21212,{"$f":"COUNTIF($L$7:$L$500,N28)","v":0},{"$f":"O28/$Q$4","v":0},{"$f":"IF(P28=0,0,(P28*((LOG(P28))/LOG(2))))","v":0},null,null,{"$f":"N28","v":21212},{"$f":"COUNTIF(L7:L35,T28)","v":0},{"$f":"U28/(W4-U25)","v":0},{"$f":"IF(V28=0,0,(V28*((LOG(V28))/LOG(2))))","v":0},null,{"$f":"N28","v":21212},{"$f":"COUNTIF(L36:L63,Y28)","v":0},{"$f":"Z28/(AB4-Z25)","v":0},{"$f":"IF(AA28=0,0,(AA28*((LOG(AA28))/LOG(2))))","v":0},null,{"$f":"N28","v":21212},{"$f":"COUNTIF(L64:L92,AD28)","v":0},{"$f":"AE28/(AG4-AE25)","v":0},{"$f":"IF(AF28=0,0,(AF28*((LOG(AF28))/LOG(2))))","v":0},null,{"$f":"N28","v":21212},{"$f":"COUNTIF(L93:L121,AI28)","v":0},{"$f":"AJ28/(AL4-AJ25)","v":0},{"$f":"IF(AK28=0,0,(AK28*((LOG(AK28))/LOG(2))))","v":0},null,{"$f":"N28","v":21212},{"$f":"COUNTIF(L122:L149,AN28)","v":0},{"$f":"AO28/(AQ4-AO25)","v":0},{"$f":"IF(AP28=0,0,(AP28*((LOG(AP28))/LOG(2))))","v":0},null,{"$f":"N28","v":21212},{"$f":"COUNTIF(L150:L178,AS28)","v":0},{"$f":"AT28/(AV4-AT25)","v":0},{"$f":"IF(AU28=0,0,(AU28*((LOG(AU28))/LOG(2))))","v":0}]
[12,2864,13,2872,13,2883,14,2891,13,2898,0,11111,null,21221,{"$f":"COUNTIF($L$7:$L$500,N29)","v":0},{"$f":"O29/$Q$4","v":0},{"$f":"IF(P29=0,0,(P29*((LOG(P29))/LOG(2))))","v":0},null,null,{"$f":"N29","v":21221},{"$f":"COUNTIF(L7:L35,T29)","v":0},{"$f":"U29/(W4-U25)","v":0},{"$f":"IF(V29=0,0,(V29*((LOG(V29))/LOG(2))))","v":0},null,{"$f":"N29","v":21221},{"$f":"COUNTIF(L36:L63,Y29)","v":0},{"$f":"Z29/(AB4-Z25)","v":0},{"$f":"IF(AA29=0,0,(AA29*((LOG(AA29))/LOG(2))))","v":0},null,{"$f":"N29","v":21221},{"$f":"COUNTIF(L64:L92,AD29)","v":0},{"$f":"AE29/(AG4-AE25)","v":0},{"$f":"IF(AF29=0,0,(AF29*((LOG(AF29))/LOG(2))))","v":0},null,{"$f":"N29","v":21221},{"$f":"COUNTIF(L93:L121,AI29)","v":0},{"$f":"AJ29/(AL4-AJ25)","v":0},{"$f":"IF(AK29=0,0,(AK29*((LOG(AK29))/LOG(2))))","v":0},null,{"$f":"N29","v":21221},{"$f":"COUNTIF(L122:L149,AN29)","v":0},{"$f":"AO29/(AQ4-AO25)","v":0},{"$f":"IF(AP29=0,0,(AP29*((LOG(AP29))/LOG(2))))","v":0},null,{"$f":"N29","v":21221},{"$f":"COUNTIF(L150:L178,AS29)","v":0},{"$f":"AT29/(AV4-AT25)","v":0},{"$f":"IF(AU29=0,0,(AU29*((LOG(AU29))/LOG(2))))","v":0}]
[12,3018,24,3026,24,3031,23,3038,24,3043,1,12222,null,21222,{"$f":"COUNTIF($L$7:$L$500,N30)","v":1},{"$f":"O30/$Q$4","v":5.8139534883720929E-3},{"$f":"IF(P30=0,0,(P30*((LOG(P30))/LOG(2))))","v":-4.3175957876174981E-2},null,null,{"$f":"N30","v":21222},{"$f":"COUNTIF(L7:L35,T30)","v":0},{"$f":"U30/(W4-U25)","v":0},{"$f":"IF(V30=0,0,(V30*((LOG(V30))/LOG(2))))","v":0},null,{"$f":"N30","v":21222},{"$f":"COUNTIF(L36:L63,Y30)","v":0},{"$f":"Z30/(AB4-Z25)","v":0},{"$f":"IF(AA30=0,0,(AA30*((LOG(AA30))/LOG(2))))","v":0},null,{"$f":"N30","v":21222},{"$f":"COUNTIF(L64:L92,AD30)","v":0},{"$f":"AE30/(AG4-AE25)","v":0},{"$f":"IF(AF30=0,0,(AF30*((LOG(AF30))/LOG(2))))","v":0},null,{"$f":"N30","v":21222},{"$f":"COUNTIF(L93:L121,AI30)","v":0},{"$f":"AJ30/(AL4-AJ25)","v":0},{"$f":"IF(AK30=0,0,(AK30*((LOG(AK30))/LOG(2))))","v":0},null,{"$f":"N30","v":21222},{"$f":"COUNTIF(L122:L149,AN30)","v":0},{"$f":"AO30/(AQ4-AO25)","v":0},{"$f":"IF(AP30=0,0,(AP30*((LOG(AP30))/LOG(2))))","v":0},null,{"$f":"N30","v":21222},{"$f":"COUNTIF(L150:L178,AS30)","v":1},{"$f":"AT30/(AV4-AT25)","v":3.4482758620689655E-2},{"$f":"IF(AU30=0,0,(AU30*((LOG(AU30))/LOG(2))))","v":-0.16751658603888178}]
[12,3144,24,3153,24,3157,23,3162,24,3167,0,12222,null,22111,{"$f":"COUNTIF($L$7:$L$500,N31)","v":5},{"$f":"O31/$Q$4","v":2.9069767441860465E-2},{"$f":"IF(P31=0,0,(P31*((LOG(P31))/LOG(2))))","v":-0.1483818796457772},null,null,{"$f":"N31","v":22111},{"$f":"COUNTIF(L7:L35,T31)","v":1},{"$f":"U31/(W4-U25)","v":3.4482758620689655E-2},{"$f":"IF(V31=0,0,(V31*((LOG(V31))/LOG(2))))","v":-0.16751658603888178},null,{"$f":"N31","v":22111},{"$f":"COUNTIF(L36:L63,Y31)","v":1},{"$f":"Z31/(AB4-Z25)","v":3.5714285714285712E-2},{"$f":"IF(AA31=0,0,(AA31*((LOG(AA31))/LOG(2))))","v":-0.17169124721634299},null,{"$f":"N31","v":22111},{"$f":"COUNTIF(L64:L92,AD31)","v":0},{"$f":"AE31/(AG4-AE25)","v":0},{"$f":"IF(AF31=0,0,(AF31*((LOG(AF31))/LOG(2))))","v":0},null,{"$f":"N31","v":22111},{"$f":"COUNTIF(L93:L121,AI31)","v":1},{"$f":"AJ31/(AL4-AJ25)","v":3.4482758620689655E-2},{"$f":"IF(AK31=0,0,(AK31*((LOG(AK31))/LOG(2))))","v":-0.16751658603888178},null,{"$f":"N31","v":22111},{"$f":"COUNTIF(L122:L149,AN31)","v":2},{"$f":"AO31/(AQ4-AO25)","v":7.1428571428571425E-2},{"$f":"IF(AP31=0,0,(AP31*((LOG(AP31))/LOG(2))))","v":-0.27195392300411453},null,{"$f":"N31","v":22111},{"$f":"COUNTIF(L150:L178,AS31)","v":0},{"$f":"AT31/(AV4-AT25)","v":0},{"$f":"IF(AU31=0,0,(AU31*((LOG(AU31))/LOG(2))))","v":0}]
[12,3268,13,3277,24,3288,23,3296,13,3307,0,11221,null,22112,{"$f":"COUNTIF($L$7:$L$500,N32)","v":0},{"$f":"O32/$Q$4","v":0},{"$f":"IF(P32=0,0,(P32*((LOG(P32))/LOG(2))))","v":0},null,null,{"$f":"N32","v":22112},{"$f":"COUNTIF(L7:L35,T32)","v":0},{"$f":"U32/(W4-U25)","v":0},{"$f":"IF(V32=0,0,(V32*((LOG(V32))/LOG(2))))","v":0},null,{"$f":"N32","v":22112},{"$f":"COUNTIF(L36:L63,Y32)","v":0},{"$f":"Z32/(AB4-Z25)","v":0},{"$f":"IF(AA32=0,0,(AA32*((LOG(AA32))/LOG(2))))","v":0},null,{"$f":"N32","v":22112},{"$f":"COUNTIF(L64:L92,AD32)","v":0},{"$f":"AE32/(AG4-AE25)","v":0},{"$f":"IF(AF32=0,0,(AF32*((LOG(AF32))/LOG(2))))","v":0},null,{"$f":"N32","v":22112},{"$f":"COUNTIF(L93:L121,AI32)","v":0},{"$f":"AJ32/(AL4-AJ25)","v":0},{"$f":"IF(AK32=0,0,(AK32*((LOG(AK32))/LOG(2))))","v":0},null,{"$f":"N32","v":22112},{"$f":"COUNTIF(L122:L149,AN32)","v":0},{"$f":"AO32/(AQ4-AO25)","v":0},{"$f":"IF(AP32=0,0,(AP32*((LOG(AP32))/LOG(2))))","v":0},null,{"$f":"N32","v":22112},{"$f":"COUNTIF(L150:L178,AS32)","v":0},{"$f":"AT32/(AV4-AT25)","v":0},{"$f":"IF(AU32=0,0,(AU32*((LOG(AU32))/LOG(2))))","v":0}]
[12,3411,24,3423,24,3427,14,3438,13,3442,0,12211,null,22121,{"$f":"COUNTIF($L$7:$L$500,N33)","v":0},{"$f":"O33/$Q$4","v":0},{"$f":"IF(P33=0,0,(P33*((LOG(P33))/LOG(2))))","v":0},null,null,{"$f":"N33","v":22121},{"$f":"COUNTIF(L7:L35,T33)","v":0},{"$f":"U33/(W4-U25)","v":0},{"$f":"IF(V33=0,0,(V33*((LOG(V33))/LOG(2))))","v":0},null,{"$f":"N33","v":22121},{"$f":"COUNTIF(L36:L63,Y33)","v":0},{"$f":"Z33/(AB4-Z25)","v":0},{"$f":"IF(AA33=0,0,(AA33*((LOG(AA33))/LOG(2))))","v":0},null,{"$f":"N33","v":22121},{"$f":"COUNTIF(L64:L92,AD33)","v":0},{"$f":"AE33/(AG4-AE25)","v":0},{"$f":"IF(AF33=0,0,(AF33*((LOG(AF33))/LOG(2))))","v":0},null,{"$f":"N33","v":22121},{"$f":"COUNTIF(L93:L121,AI33)","v":0},{"$f":"AJ33/(AL4-AJ25)","v":0},{"$f":"IF(AK33=0,0,(AK33*((LOG(AK33))/LOG(2))))","v":0},null,{"$f":"N33","v":22121},{"$f":"COUNTIF(L122:L149,AN33)","v":0},{"$f":"AO33/(AQ4-AO25)","v":0},{"$f":"IF(AP33=0,0,(AP33*((LOG(AP33))/LOG(2))))","v":0},null,{"$f":"N33","v":22121},{"$f":"COUNTIF(L150:L178,AS33)","v":0},{"$f":"AT33/(AV4-AT25)","v":0},{"$f":"IF(AU33=0,0,(AU33*((LOG(AU33))/LOG(2))))","v":0}]
[12,3550,24,3558,24,3569,23,3580,24,3587,0,12222,null,22122,{"$f":"COUNTIF($L$7:$L$500,N34)","v":0},{"$f":"O34/$Q$4","v":0},{"$f":"IF(P34=0,0,(P34*((LOG(P34))/LOG(2))))","v":0},null,null,{"$f":"N34","v":22122},{"$f":"COUNTIF(L7:L35,T34)","v":0},{"$f":"U34/(W4-U25)","v":0},{"$f":"IF(V34=0,0,(V34*((LOG(V34))/LOG(2))))","v":0},null,{"$f":"N34","v":22122},{"$f":"COUNTIF(L36:L63,Y34)","v":0},{"$f":"Z34/(AB4-Z25)","v":0},{"$f":"IF(AA34=0,0,(AA34*((LOG(AA34))/LOG(2))))","v":0},null,{"$f":"N34","v":22122},{"$f":"COUNTIF(L64:L92,AD34)","v":0},{"$f":"AE34/(AG4-AE25)","v":0},{"$f":"IF(AF34=0,0,(AF34*((LOG(AF34))/LOG(2))))","v":0},null,{"$f":"N34","v":22122},{"$f":"COUNTIF(L93:L121,AI34)","v":0},{"$f":"AJ34/(AL4-AJ25)","v":0},{"$f":"IF(AK34=0,0,(AK34*((LOG(AK34))/LOG(2))))","v":0},null,{"$f":"N34","v":22122},{"$f":"COUNTIF(L122:L149,AN34)","v":0},{"$f":"AO34/(AQ4-AO25)","v":0},{"$f":"IF(AP34=0,0,(AP34*((LOG(AP34))/LOG(2))))","v":0},null,{"$f":"N34","v":22122},{"$f":"COUNTIF(L150:L178,AS34)","v":0},{"$f":"AT34/(AV4-AT25)","v":0},{"$f":"IF(AU34=0,0,(AU34*((LOG(AU34))/LOG(2))))","v":0}]
[12,3690,24,3699,24,3703,14,3716,13,3726,0,12211,null,22211,{"$f":"COUNTIF($L$7:$L$500,N35)","v":6},{"$f":"O35/$Q$4","v":3.4883720930232558E-2},{"$f":"IF(P35=0,0,(P35*((LOG(P35))/LOG(2))))","v":-0.16888263676677703},null,null,{"$f":"N35","v":22211},{"$f":"COUNTIF(L7:L35,T35)","v":1},{"$f":"U35/(W4-U25)","v":3.4482758620689655E-2},{"$f":"IF(V35=0,0,(V35*((LOG(V35))/LOG(2))))","v":-0.16751658603888178},null,{"$f":"N35","v":22211},{"$f":"COUNTIF(L36:L63,Y35)","v":0},{"$f":"Z35/(AB4-Z25)","v":0},{"$f":"IF(AA35=0,0,(AA35*((LOG(AA35))/LOG(2))))","v":0},null,{"$f":"N35","v":22211},{"$f":"COUNTIF(L64:L92,AD35)","v":2},{"$f":"AE35/(AG4-AE25)","v":6.8965517241379309E-2},{"$f":"IF(AF35=0,0,(AF35*((LOG(AF35))/LOG(2))))","v":-0.26606765483638428},null,{"$f":"N35","v":22211},{"$f":"COUNTIF(L93:L121,AI35)","v":0},{"$f":"AJ35/(AL4-AJ25)","v":0},{"$f":"IF(AK35=0,0,(AK35*((LOG(AK35))/LOG(2))))","v":0},null,{"$f":"N35","v":22211},{"$f":"COUNTIF(L122:L149,AN35)","v":2},{"$f":"AO35/(AQ4-AO25)","v":7.1428571428571425E-2},{"$f":"IF(AP35=0,0,(AP35*((LOG(AP35))/LOG(2))))","v":-0.27195392300411453},null,{"$f":"N35","v":22211},{"$f":"COUNTIF(L150:L178,AS35)","v":1},{"$f":"AT35/(AV4-AT25)","v":3.4482758620689655E-2},{"$f":"IF(AU35=0,0,(AU35*((LOG(AU35))/LOG(2))))","v":-0.16751658603888178}]
[12,3830,13,3835,13,3839,14,3842,13,3846,0,11111,null,22212,{"$f":"COUNTIF($L$7:$L$500,N36)","v":0},{"$f":"O36/$Q$4","v":0},{"$f":"IF(P36=0,0,(P36*((LOG(P36))/LOG(2))))","v":0},null,null,{"$f":"N36","v":22212},{"$f":"COUNTIF(L7:L35,T36)","v":0},{"$f":"U36/(W4-U25)","v":0},{"$f":"IF(V36=0,0,(V36*((LOG(V36))/LOG(2))))","v":0},null,{"$f":"N36","v":22212},{"$f":"COUNTIF(L36:L63,Y36)","v":0},{"$f":"Z36/(AB4-Z25)","v":0},{"$f":"IF(AA36=0,0,(AA36*((LOG(AA36))/LOG(2))))","v":0},null,{"$f":"N36","v":22212},{"$f":"COUNTIF(L64:L92,AD36)","v":0},{"$f":"AE36/(AG4-AE25)","v":0},{"$f":"IF(AF36=0,0,(AF36*((LOG(AF36))/LOG(2))))","v":0},null,{"$f":"N36","v":22212},{"$f":"COUNTIF(L93:L121,AI36)","v":0},{"$f":"AJ36/(AL4-AJ25)","v":0},{"$f":"IF(AK36=0,0,(AK36*((LOG(AK36))/LOG(2))))","v":0},null,{"$f":"N36","v":22212},{"$f":"COUNTIF(L122:L149,AN36)","v":0},{"$f":"AO36/(AQ4-AO25)","v":0},{"$f":"IF(AP36=0,0,(AP36*((LOG(AP36))/LOG(2))))","v":0},null,{"$f":"N36","v":22212},{"$f":"COUNTIF(L150:L178,AS36)","v":0},{"$f":"AT36/(AV4-AT25)","v":0},{"$f":"IF(AU36=0,0,(AU36*((LOG(AU36))/LOG(2))))","v":0}]
[12,3948,24,3963,24,3969,23,3977,13,3986,1,12221,null,22221,{"$f":"COUNTIF($L$7:$L$500,N37)","v":2},{"$f":"O37/$Q$4","v":1.1627906976744186E-2},{"$f":"IF(P37=0,0,(P37*((LOG(P37))/LOG(2))))","v":-7.4724008775605782E-2},null,null,{"$f":"N37","v":22221},{"$f":"COUNTIF(L7:L35,T37)","v":1},{"$f":"U37/(W4-U25)","v":3.4482758620689655E-2},{"$f":"IF(V37=0,0,(V37*((LOG(V37))/LOG(2))))","v":-0.16751658603888178},null,{"$f":"N37","v":22221},{"$f":"COUNTIF(L36:L63,Y37)","v":1},{"$f":"Z37/(AB4-Z25)","v":3.5714285714285712E-2},{"$f":"IF(AA37=0,0,(AA37*((LOG(AA37))/LOG(2))))","v":-0.17169124721634299},null,{"$f":"N37","v":22221},{"$f":"COUNTIF(L64:L92,AD37)","v":0},{"$f":"AE37/(AG4-AE25)","v":0},{"$f":"IF(AF37=0,0,(AF37*((LOG(AF37))/LOG(2))))","v":0},null,{"$f":"N37","v":22221},{"$f":"COUNTIF(L93:L121,AI37)","v":0},{"$f":"AJ37/(AL4-AJ25)","v":0},{"$f":"IF(AK37=0,0,(AK37*((LOG(AK37))/LOG(2))))","v":0},null,{"$f":"N37","v":22221},{"$f":"COUNTIF(L122:L149,AN37)","v":0},{"$f":"AO37/(AQ4-AO25)","v":0},{"$f":"IF(AP37=0,0,(AP37*((LOG(AP37))/LOG(2))))","v":0},null,{"$f":"N37","v":22221},{"$f":"COUNTIF(L150:L178,AS37)","v":0},{"$f":"AT37/(AV4-AT25)","v":0},{"$f":"IF(AU37=0,0,(AU37*((LOG(AU37))/LOG(2))))","v":0}]
[21,4100,11,4112,11,4116,12,4139,13,4142,0,21111,null,22222,{"$f":"COUNTIF($L$7:$L$500,N38)","v":2},{"$f":"O38/$Q$4","v":1.1627906976744186E-2},{"$f":"IF(P38=0,0,(P38*((LOG(P38))/LOG(2))))","v":-7.4724008775605782E-2},null,null,{"$f":"N38","v":22222},{"$f":"COUNTIF(L7:L35,T38)","v":2},{"$f":"U38/(W4-U25)","v":6.8965517241379309E-2},{"$f":"IF(V38=0,0,(V38*((LOG(V38))/LOG(2))))","v":-0.26606765483638428},null,{"$f":"N38","v":22222},{"$f":"COUNTIF(L36:L63,Y38)","v":0},{"$f":"Z38/(AB4-Z25)","v":0},{"$f":"IF(AA38=0,0,(AA38*((LOG(AA38))/LOG(2))))","v":0},null,{"$f":"N38","v":22222},{"$f":"COUNTIF(L64:L92,AD38)","v":0},{"$f":"AE38/(AG4-AE25)","v":0},{"$f":"IF(AF38=0,0,(AF38*((LOG(AF38))/LOG(2))))","v":0},null,{"$f":"N38","v":22222},{"$f":"COUNTIF(L93:L121,AI38)","v":0},{"$f":"AJ38/(AL4-AJ25)","v":0},{"$f":"IF(AK38=0,0,(AK38*((LOG(AK38))/LOG(2))))","v":0},null,{"$f":"N38","v":22222},{"$f":"COUNTIF(L122:L149,AN38)","v":0},{"$f":"AO38/(AQ4-AO25)","v":0},{"$f":"IF(AP38=0,0,(AP38*((LOG(AP38))/LOG(2))))","v":0},null,{"$f":"N38","v":22222},{"$f":"COUNTIF(L150:L178,AS38)","v":0},{"$f":"AT38/(AV4-AT25)","v":0},{"$f":"IF(AU38=0,0,(AU38*((LOG(AU38))/LOG(2))))","v":0}]
[12,4247,13,4257,24,4264,23,4269,13,4278,0,11221,null,null,null,{"$f":"SUM(P7:P38)","v":1},{"$f":"-SUM(Q7:Q38)","v":3.4024331741077245},null,null,null,null,{"$f":"SUM(V7:V38)","v":0.99999999999999989},{"$f":"-SUM(W7:W38)","v":3.276108478543875},null,null,null,{"$f":"SUM(AA7:AA38)","v":1},{"$f":"-SUM(AB7:AB38)","v":2.9757759036595939},null,null,null,{"$f":"SUM(AF7:AF38)","v":1},{"$f":"-SUM(AG7:AG38)","v":3.0677690309588264},null,null,null,{"$f":"SUM(AK7:AK38)","v":1},{"$f":"-SUM(AL7:AL38)","v":2.3042618085424023},null,null,null,{"$f":"SUM(AP7:AP38)","v":0.99999999999999978},{"$f":"-SUM(AQ7:AQ38)","v":3.1995138503199652},null,null,null,{"$f":"SUM(AU7:AU38)","v":0.99999999999999989},{"$f":"-SUM(AV7:AV38)","v":2.9524249630986055}]
[12,4379,24,4396,13,4408,14,4430,13,4434,1,12111,null,null,null,"U=",{"$f":"Q39/(LOG(Q4)/LOG(2))","v":0.45816211601578061},null,null,null,null,"U1=",{"$f":"W39/(LOG(W4)/LOG(2))","v":0.67437655310502986},null,null,null,"U2=",{"$f":"AB39/(LOG(AB4)/LOG(2))","v":0.61900482737520179},null,null,null,"U3=",{"$f":"AG39/(LOG(AG4)/LOG(2))","v":0.63149053774309094},null,null,null,"U4=",{"$f":"AL39/(LOG(AL4)/LOG(2))","v":0.47432499444800558},null,null,null,"U5=",{"$f":"AQ39/(LOG(AQ4)/LOG(2))","v":0.66554558633472727},null,null,null,"U6=",{"$f":"AV39/(LOG(AV4)/LOG(2))","v":0.6077473267309631}]
[12,4539,24,4561,13,4584,14,4588,13,4596,1,12111]
[12,4704,24,4721,24,4728,23,4732,13,4742,0,12221]
[12,4844,13,4855,24,4864,23,4868,24,4873,0,11222,null,"Total Target Seq"]
[12,4977,24,4988,13,4998,14,5001,13,5005,0,12111,null,{"$f":"COUNTIF(L7:L178,G3)","v":0},null,29,28,29,29,28,29]
[12,5109,13,5118,24,5126,14,5139,13,5143,0,11211,null,null,null,"% of reinforcement given in 6 equal intervals based on number of trials "]
[12,5245,24,5253,13,5267,14,5271,13,5277,0,12111,null,null,null,"%_1","%_2","%_3","%_4","%_5","%_6"]
[12,5379,24,5387,13,5398,14,5402,13,5406,0,12111,null,null,"target sequence",{"$f":"$G$3","v":21121},{"$f":"$G$3","v":21121},{"$f":"$G$3","v":21121},{"$f":"$G$3","v":21121},{"$f":"$G$3","v":21121},{"$f":"$G$3","v":21121}]
[12,5509,13,5525,13,5529,14,5532,13,5545,0,11111,null,null,"total reinforcement",{"$f":"U25","v":0},{"$f":"Z25","v":0},{"$f":"AE25","v":0},{"$f":"AJ25","v":0},{"$f":"AO25","v":0},{"$f":"AT25","v":0}]
[12,5647,24,5655,13,5670,14,5674,13,5678,0,12111,null,null,"% target"]
[12,5780,24,5789,24,5796,14,5803,13,5807,0,12211,null,null,"CCRF"]
[12,5910,24,5919,13,5936,14,5940,13,5947,0,12111,null,null,"% CCRf"]
[12,6048,24,6057,24,6072,23,6088,13,6098,1,12221,null,null,"average response rate",{"$f":"J35/P44","v":128.48275862068965},{"$f":"(J63-J35)/Q44","v":138.89285714285714},{"$f":"(J92-J63)/R44","v":140.13793103448276},{"$f":"(J121-J92)/S44","v":143},{"$f":"(J149-J121)/T44","v":141.10714285714286},{"$f":"(J178-J149)/U44","v":144.58620689655172}]
[12,6212,13,6221,13,6232,14,6236,13,6243,0,11111]
[21,6350,22,6358,24,6368,23,6374,13,6382,0,22221]
[12,6486,24,6496,13,6511,14,6521,13,6530,0,12111]
[12,6636,13,6649,13,6656,14,6660,13,6667,1,11111]
[21,6779,22,6788,13,6799,14,6802,13,6806,0,22111]
[12,6908,24,6917,13,6928,23,6940,13,6951,0,12121]
[12,7052,24,7062,24,7069,14,7076,13,7080,0,12211]
[12,7182,24,7190,24,7197,14,7204,13,7209,1,12211]
[12,7315,24,7324,24,7333,14,7344,13,7348,0,12211]
[12,7453,24,7461,13,7471,14,7475,13,7482,0,12111]
[12,7583,13,7593,24,7601,23,7608,13,7615,0,11221]
[12,7716,13,7721,24,7730,14,7738,13,7744,0,11211]
[12,7850,24,7859,24,7867,14,7873,13,7878,1,12211]
[12,7977,24,7985,13,8002,14,8010,13,8014,0,12111]
[12,8116,24,8129,24,8135,14,8147,13,8151,0,12211]
[12,8252,24,8272,13,8279,14,8284,13,8299,0,12111]
[12,8406,24,8416,13,8424,14,8428,13,8435,0,12111]
[12,8539,13,8543,24,8552,23,8558,24,8565,1,11222]
[21,8678,22,8683,24,8687,14,8700,13,8709,0,22211]
[12,8813,24,8820,13,8837,14,8843,13,8850,0,12111]
[12,8954,24,8962,24,8966,14,8975,13,8979,0,12211]
[12,9078,24,9085,24,9092,23,9099,13,9106,0,12221]
[12,9214,24,9221,13,9240,14,9245,13,9255,1,12111]
[21,9372,22,9379,24,9386,14,9396,13,9402,0,22211]
[12,9504,24,9511,24,9523,14,9537,13,9541,0,12211]
[12,9643,24,9652,13,9666,23,9674,13,9688,0,12121]
[12,9789,24,9797,24,9804,23,9808,24,9818,1,12222]
[12,9923,24,9930,24,9946,23,9952,13,9973,0,12221]
[21,10087,11,10096,22,10109,14,10123,13,10130,0,21211]
[12,10236,24,10260,13,10286,14,10290,13,10297,0,12111]
[12,10406,24,10416,24,10426,23,10439,24,10462,0,12222]
[12,10563,13,10572,13,10576,14,10583,13,10587,0,11111]
[12,10689,24,10697,24,10704,23,10711,24,10722,0,12222]
[12,10821,13,10830,13,10839,14,10843,13,10856,1,11111]
[21,10963,11,11000,11,11008,12,11012,13,11020,0,21111]
[12,11121,24,11140,24,11147,14,11154,13,11158,0,12211]
[12,11257,13,11262,13,11271,14,11278,13,11282,0,11111]
[12,11384,24,11391,13,11409,14,11413,13,11417,0,12111]
[12,11521,13,11529,13,11534,14,11538,13,11542,0,11111]
[12,11644,24,11652,24,11668,14,11675,13,11679,0,12211]
[12,11782,24,11790,24,11794,14,11809,13,11813,1,12211]
[12,11924,24,11952,24,11956,23,11968,13,11978,0,12221]
[12,12080,13,12101,13,12108,14,12112,13,12119,0,11111]
[12,12220,24,12231,24,12238,23,12245,13,12252,1,12221]
[12,12355,24,12364,24,12372,23,12378,24,12386,0,12222]
[12,12489,24,12505,24,12514,14,12523,13,12527,0,12211]
[12,12630,24,12642,24,12667,23,12674,13,12688,0,12221]
[12,12786,24,12822,13,12830,14,12834,13,12840,1,12111]
[12,12937,13,12967,13,12971,14,12976,13,12983,1,11111]
[21,13099,22,13116,13,13144,14,13148,13,13152,0,22111]
[12,13258,24,13277,24,13284,23,13292,13,13299,0,12221]
[12,13401,24,13452,13,13463,14,13467,13,13481,0,12111]
[12,13584,13,13593,13,13597,14,13601,13,13606,0,11111]
[12,13705,24,13715,13,13727,14,13730,13,13734,1,12111]
[12,13870,13,13877,13,13891,14,13898,13,13905,1,11111]
[12,14046,13,14049,13,14053,14,14056,13,14063,0,11111]
[12,14165,13,14181,13,14185,14,14189,13,14193,0,11111]
[12,14294,13,14301,13,14305,14,14308,13,14313,0,11111]
[12,14414,13,14419,24,14441,14,14452,13,14456,0,11211]
[12,14556,13,14591,13,14596,14,14599,13,14610,0,11111]
[12,14712,13,14719,13,14723,14,14727,13,14733,0,11111]
[12,14838,13,14856,13,14860,14,14864,13,14870,1,11111]
[12,14973,13,15001,13,15005,14,15009,13,15012,0,11111]
[12,15115,13,15127,13,15138,14,15146,24,15154,0,11112]
[12,15251,24,15269,13,15276,14,15280,13,15287,0,12111]
[12,15390,13,15412,13,15416,14,15420,13,15427,0,11111]
[12,15530,13,15544,13,15549,14,15553,13,15559,0,11111]
[12,15661,24,15668,24,15676,14,15686,13,15690,0,12211]
[12,15790,13,15799,13,15811,14,15822,13,15826,0,11111]
[12,15933,24,15942,13,15952,14,15956,13,15963,1,12111]
[21,16080,22,16085,13,16100,14,16103,13,16108,0,22111]
[12,16209,13,16221,24,16234,14,16241,13,16245,0,11211]
[12,16348,24,16370,13,16377,14,16381,13,16387,0,12111]
[12,16486,24,16498,24,16506,23,16512,24,16520,1,12222]
[12,16624,24,16633,13,16650,23,16658,13,16674,0,12121]
[12,16775,13,16783,24,16796,14,16805,13,16809,0,11211]
[12,16915,13,16923,13,16928,14,16932,13,16936,0,11111]
[12,17034,13,17044,13,17054,14,17057,13,17062,0,11111]
[12,17163,13,17183,13,17187,14,17191,13,17197,0,11111]
[12,17300,13,17309,13,17313,14,17317,13,17320,0,11111]
[12,17423,24,17431,24,17438,14,17446,13,17450,0,12211]
[12,17556,24,17564,24,17569,23,17576,24,17581,0,12222]
[12,17682,13,17698,24,17708,14,17722,13,17726,1,11211]
[21,17838,22,17846,24,17852,14,17859,13,17865,1,22211]
[21,18004,11,18018,22,18025,14,18040,13,18044,1,21211]
[12,18162,24,18179,13,18190,14,18193,13,18197,0,12111]
[21,18306,11,18322,11,18329,12,18333,13,18352,0,21111]
[12,18451,24,18468,24,18475,14,18486,13,18490,0,12211]
[12,18614,24,18621,13,18632,14,18636,13,18642,0,12111]
[12,18743,13,18752,13,18777,14,18781,13,18785,1,11111]
[21,18912,22,18919,24,18932,14,18942,13,18946,0,22211]
[12,19045,24,19054,24,19061,23,19068,13,19074,0,12221]
[12,19177,24,19188,24,19192,14,19199,13,19203,0,12211]
[12,19304,24,19312,24,19330,14,19336,13,19340,0,12211]
[12,19443,13,19451,13,19455,14,19459,13,19466,0,11111]
[12,19568,24,19576,24,19582,23,19589,24,19596,1,12222]
[21,19740,22,19754,13,19767,14,19771,13,19777,0,22111]
[12,19878,13,19883,13,19891,23,19909,13,19925,0,11121]
[12,20032,13,20045,13,20049,14,20053,13,20057,0,11111]
[12,20182,24,20190,24,20195,23,20202,13,20213,0,12221]
[12,20320,24,20340,13,20347,14,20351,13,20355,0,12111]
[12,20459,13,20485,24,20500,14,20514,13,20518,0,11211]
[12,20624,24,20632,24,20636,14,20650,13,20654,0,12211]
[21,20756,11,20770,22,20789,23,20807,24,20816,0,21222]
[12,20918,13,20939,13,20943,14,20947,13,20961,0,11111]
[12,21060,24,21072,13,21081,14,21085,13,21089,1,12111]
[12,21188,13,21206,24,21214,14,21227,13,21230,0,11211]
[12,21336,13,21346,13,21362,14,21366,13,21369,0,11111]
[12,21471,24,21487,24,21494,23,21501,13,21508,1,12221]
[21,21629,11,21642,11,21649,12,21654,13,21658,1,21111]
[12,21790,24,21798,24,21814,14,21824,13,21828,0,12211]
[12,21933,24,21956,13,21964,14,21968,13,21972,0,12111]
[12,22075,24,22093,24,22099,23,22112,13,22122,1,12221]
[12,22247,24,22269,13,22280,14,22284,13,22288,0,12111]
[12,22391,13,22415,13,22419,14,22423,13,22428,0,11111]
[12,22530,13,22550,24,22558,23,22563,24,22571,0,11222]
[12,22672,13,22685,13,22689,14,22693,13,22697,0,11111]
[12,22800,13,22820,13,22824,14,22828,13,22834,0,11111]
[12,22937,13,22949,24,22957,14,22970,13,22974,0,11211]
[12,23079,24,23087,24,23099,14,23106,13,23110,0,12211]
[12,23212,24,23220,13,23238,14,23243,13,23246,0,12111]
[12,23348,24,23365,24,23372,23,23380,13,23392,0,12221]
[12,23494,24,23506,24,23510,14,23517,13,23521,0,12211]
[12,23625,13,23648,24,23666,14,23677,13,23683,1,11211]
[21,23806,22,23813,24,23820,14,23829,13,23834,0,22211]
[12,23937,13,23958,13,23962,14,23966,13,23970,null,11111]

{"sheet":"!N417A20.096","index":23,"n_rows":175,"n_cols":48,"rows_kept":175,"cut":false,"hidden":false,"merged":[[4,39,4,42],[5,39,5,40],[4,44,4,47],[5,44,5,45],[4,24,4,27],[5,24,5,25],[4,29,4,32],[5,29,5,30],[4,34,4,37],[5,34,5,35],[1,1,1,2],[5,13,5,14],[42,13,42,14],[43,13,43,14],[4,19,4,22],[5,19,5,20]]}
["Report for:!N417A20.096"]
["Date:","<date>"]
["Hen:","<hen>",null,null,null,"Correct Sequence",{"$f":"Start!J2","v":21121},null,null,null,null,null,null,null,null,"Total Sequences in Data",{"$f":"4994-COUNTBLANK(L7:L5000)","v":169},null,null,null,null,"Total Sequences in Block Data",{"$f":"COUNTA(L7:L34)","v":28},null,null,null,"Total Sequences in Block Data",{"$f":"COUNTA(L35:L62)","v":28},null,null,null,"Total Sequences in Block Data",{"$f":"COUNTA(L63:L91)","v":29},null,null,null,"Total Sequences in Block Data",{"$f":"COUNTA(L92:L119)","v":28},null,null,null,"Total Sequences in Block Data",{"$f":"COUNTA(L120:L147)","v":28},null,null,null,"Total Sequences in Block Data",{"$f":"COUNTA(L148:L175)","v":28}]
[null,null,null,null,null,null,null,null,null,null,null,null,null,null,null,"Total Sequences in Summary",{"$f":"SUM(O7:O38)","v":169},null,null,null,null,"Total Sequences in Block Summary",{"$f":"SUM(U7:U38)","v":28},null,null,null,"Total Sequences in Block Summary",{"$f":"SUM(Z7:Z38)","v":28},null,null,null,"Total Sequences in Block Summary",{"$f":"SUM(AE7:AE38)","v":29},null,null,null,"Total Sequences in Block Summary",{"$f":"SUM(AJ7:AJ38)","v":28},null,null,null,"Total Sequences in Block Summary",{"$f":"SUM(AO7:AO38)","v":28},null,null,null,"Total Sequences in Block Summary",{"$f":"SUM(AT7:AT38)","v":28}]
[null,null,null,null,null,null,null,null,null,null,null,null,null,null,null,null,null,null,null,"Block 1",null,null,null,null,"Block 2",null,null,null,null,"Block 3",null,null,null,null,"Block 4",null,null,null,null,"Block 5",null,null,null,null,"Block 6"]
["Sequence\nComponent\n1","Time\n1","Sequence\nComponent\n2","Time\n2","Sequence\nComponent\n3","Time\n3","Sequence\nComponent\n4","Time\n4","Sequence\nComponent\n5","Time\n5","Correct?\n0=No 1=Yes","Sequence",null,"Frequency",null,"Relative Frequency","Variability",null,null,"Frequency",null,"Relative Frequency","Variability",null,"Frequency",null,"Relative Frequency","Variability",null,"Frequency",null,"Relative Frequency","Variability",null,"Frequency",null,"Relative Frequency","Variability",null,"Frequency",null,"Relative Frequency","Variability",null,"Frequency",null,"Relative Frequency","Variability"]
[21,15,22,21,24,29,23,39,13,50,1,22221,null,11111,{"$f":"COUNTIF($L$7:$L$500,N7)","v":24},{"$f":"O7/$Q$4","v":0.14201183431952663},{"$f":"IF(P7=0,0,(P7*((LOG(P7))/LOG(2))))","v":-0.39989352931044192},null,null,{"$f":"N7","v":11111},{"$f":"COUNTIF(L7:L34,T7)","v":1},{"$f":"U7/(W4-U25)","v":3.5714285714285712E-2},{"$f":"IF(V7=0,0,(V7*((LOG(V7))/LOG(2))))","v":-0.17169124721634299},null,{"$f":"N7","v":11111},{"$f":"COUNTIF(L35:L62,Y7)","v":3},{"$f":"Z7/(AB4-Z25)","v":0.10714285714285714},{"$f":"IF(AA7=0,0,(AA7*((LOG(AA7))/LOG(2))))","v":-0.34525633085747659},null,{"$f":"N7","v":11111},{"$f":"COUNTIF(L63:L91,AD7)","v":7},{"$f":"AE7/(AG4-AE25)","v":0.2413793103448276},{"$f":"IF(AF7=0,0,(AF7*((LOG(AF7))/LOG(2))))","v":-0.49497870729275095},null,{"$f":"N7","v":11111},{"$f":"COUNTIF(L92:L119,AI7)","v":5},{"$f":"AJ7/(AL4-AJ25)","v":0.17857142857142858},{"$f":"IF(AK7=0,0,(AK7*((LOG(AK7))/LOG(2))))","v":-0.44382621913754317},null,{"$f":"N7","v":11111},{"$f":"COUNTIF(L120:L147,AN7)","v":3},{"$f":"AO7/(AQ4-AO25)","v":0.10714285714285714},{"$f":"IF(AP7=0,0,(AP7*((LOG(AP7))/LOG(2))))","v":-0.34525633085747659},null,{"$f":"N7","v":11111},{"$f":"COUNTIF(L148:L175,AS7)","v":5},{"$f":"AT7/(AV4-AT25)","v":0.17857142857142858},{"$f":"IF(AU7=0,0,(AU7*((LOG(AU7))/LOG(2))))","v":-0.44382621913754317}]
[21,142,22,150,24,159,23,170,24,182,1,22222,null,11112,{"$f":"COUNTIF($L$7:$L$500,N8)","v":0},{"$f":"O8/$Q$4","v":0},{"$f":"IF(P8=0,0,(P8*((LOG(P8))/LOG(2))))","v":0},null,null,{"$f":"N8","v":11112},{"$f":"COUNTIF(L7:L34,T8)","v":0},{"$f":"U8/(W4-U25)","v":0},{"$f":"IF(V8=0,0,(V8*((LOG(V8))/LOG(2))))","v":0},null,{"$f":"N8","v":11112},{"$f":"COUNTIF(L35:L62,Y8)","v":0},{"$f":"Z8/(AB4-Z25)","v":0},{"$f":"IF(AA8=0,0,(AA8*((LOG(AA8))/LOG(2))))","v":0},null,{"$f":"N8","v":11112},{"$f":"COUNTIF(L63:L91,AD8)","v":0},{"$f":"AE8/(AG4-AE25)","v":0},{"$f":"IF(AF8=0,0,(AF8*((LOG(AF8))/LOG(2))))","v":0},null,{"$f":"N8","v":11112},{"$f":"COUNTIF(L92:L119,AI8)","v":0},{"$f":"AJ8/(AL4-AJ25)","v":0},{"$f":"IF(AK8=0,0,(AK8*((LOG(AK8))/LOG(2))))","v":0},null,{"$f":"N8","v":11112},{"$f":"COUNTIF(L120:L147,AN8)","v":0},{"$f":"AO8/(AQ4-AO25)","v":0},{"$f":"IF(AP8=0,0,(AP8*((LOG(AP8))/LOG(2))))","v":0},null,{"$f":"N8","v":11112},{"$f":"COUNTIF(L148:L175,AS8)","v":0},{"$f":"AT8/(AV4-AT25)","v":0},{"$f":"IF(AU8=0,0,(AU8*((LOG(AU8))/LOG(2))))","v":0}]
[21,296,22,305,13,313,14,319,24,352,0,22112,null,11121,{"$f":"COUNTIF($L$7:$L$500,N9)","v":0},{"$f":"O9/$Q$4","v":0},{"$f":"IF(P9=0,0,(P9*((LOG(P9))/LOG(2))))","v":0},null,null,{"$f":"N9","v":11121},{"$f":"COUNTIF(L7:L34,T9)","v":0},{"$f":"U9/(W4-U25)","v":0},{"$f":"IF(V9=0,0,(V9*((LOG(V9))/LOG(2))))","v":0},null,{"$f":"N9","v":11121},{"$f":"COUNTIF(L35:L62,Y9)","v":0},{"$f":"Z9/(AB4-Z25)","v":0},{"$f":"IF(AA9=0,0,(AA9*((LOG(AA9))/LOG(2))))","v":0},null,{"$f":"N9","v":11121},{"$f":"COUNTIF(L63:L91,AD9)","v":0},{"$f":"AE9/(AG4-AE25)","v":0},{"$f":"IF(AF9=0,0,(AF9*((LOG(AF9))/LOG(2))))","v":0},null,{"$f":"N9","v":11121},{"$f":"COUNTIF(L92:L119,AI9)","v":0},{"$f":"AJ9/(AL4-AJ25)","v":0},{"$f":"IF(AK9=0,0,(AK9*((LOG(AK9))/LOG(2))))","v":0},null,{"$f":"N9","v":11121},{"$f":"COUNTIF(L120:L147,AN9)","v":0},{"$f":"AO9/(AQ4-AO25)","v":0},{"$f":"IF(AP9=0,0,(AP9*((LOG(AP9))/LOG(2))))","v":0},null,{"$f":"N9","v":11121},{"$f":"COUNTIF(L148:L175,AS9)","v":0},{"$f":"AT9/(AV4-AT25)","v":0},{"$f":"IF(AU9=0,0,(AU9*((LOG(AU9))/LOG(2))))","v":0}]
[21,453,22,457,24,477,23,488,13,498,0,22221,null,11122,{"$f":"COUNTIF($L$7:$L$500,N10)","v":1},{"$f":"O10/$Q$4","v":5.9171597633136093E-3},{"$f":"IF(P10=0,0,(P10*((LOG(P10))/LOG(2))))","v":-4.3792186013504049E-2},null,null,{"$f":"N10","v":11122},{"$f":"COUNTIF(L7:L34,T10)","v":0},{"$f":"U10/(W4-U25)","v":0},{"$f":"IF(V10=0,0,(V10*((LOG(V10))/LOG(2))))","v":0},null,{"$f":"N10","v":11122},{"$f":"COUNTIF(L35:L62,Y10)","v":0},{"$f":"Z10/(AB4-Z25)","v":0},{"$f":"IF(AA10=0,0,(AA10*((LOG(AA10))/LOG(2))))","v":0},null,{"$f":"N10","v":11122},{"$f":"COUNTIF(L63:L91,AD10)","v":0},{"$f":"AE10/(AG4-AE25)","v":0},{"$f":"IF(AF10=0,0,(AF10*((LOG(AF10))/LOG(2))))","v":0},null,{"$f":"N10","v":11122},{"$f":"COUNTIF(L92:L119,AI10)","v":0},{"$f":"AJ10/(AL4-AJ25)","v":0},{"$f":"IF(AK10=0,0,(AK10*((LOG(AK10))/LOG(2))))","v":0},null,{"$f":"N10","v":11122},{"$f":"COUNTIF(L120:L147,AN10)","v":1},{"$f":"AO10/(AQ4-AO25)","v":3.5714285714285712E-2},{"$f":"IF(AP10=0,0,(AP10*((LOG(AP10))/LOG(2))))","v":-0.17169124721634299},null,{"$f":"N10","v":11122},{"$f":"COUNTIF(L148:L175,AS10)","v":0},{"$f":"AT10/(AV4-AT25)","v":0},{"$f":"IF(AU10=0,0,(AU10*((LOG(AU10))/LOG(2))))","v":0}]
[21,610,22,615,24,620,14,630,13,640,0,22211,null,11211,{"$f":"COUNTIF($L$7:$L$500,N11)","v":5},{"$f":"O11/$Q$4","v":2.9585798816568046E-2},{"$f":"IF(P11=0,0,(P11*((LOG(P11))/LOG(2))))","v":-0.1502648325856456},null,null,{"$f":"N11","v":11211},{"$f":"COUNTIF(L7:L34,T11)","v":0},{"$f":"U11/(W4-U25)","v":0},{"$f":"IF(V11=0,0,(V11*((LOG(V11))/LOG(2))))","v":0},null,{"$f":"N11","v":11211},{"$f":"COUNTIF(L35:L62,Y11)","v":1},{"$f":"Z11/(AB4-Z25)","v":3.5714285714285712E-2},{"$f":"IF(AA11=0,0,(AA11*((LOG(AA11))/LOG(2))))","v":-0.17169124721634299},null,{"$f":"N11","v":11211},{"$f":"COUNTIF(L63:L91,AD11)","v":1},{"$f":"AE11/(AG4-AE25)","v":3.4482758620689655E-2},{"$f":"IF(AF11=0,0,(AF11*((LOG(AF11))/LOG(2))))","v":-0.16751658603888178},null,{"$f":"N11","v":11211},{"$f":"COUNTIF(L92:L119,AI11)","v":0},{"$f":"AJ11/(AL4-AJ25)","v":0},{"$f":"IF(AK11=0,0,(AK11*((LOG(AK11))/LOG(2))))","v":0},null,{"$f":"N11","v":11211},{"$f":"COUNTIF(L120:L147,AN11)","v":2},{"$f":"AO11/(AQ4-AO25)","v":7.1428571428571425E-2},{"$f":"IF(AP11=0,0,(AP11*((LOG(AP11))/LOG(2))))","v":-0.27195392300411453},null,{"$f":"N11","v":11211},{"$f":"COUNTIF(L148:L175,AS11)","v":1},{"$f":"AT11/(AV4-AT25)","v":3.5714285714285712E-2},{"$f":"IF(AU11=0,0,(AU11*((LOG(AU11))/LOG(2))))","v":-0.17169124721634299}]
[21,756,22,765,24,770,14,780,13,788,0,22211,null,11212,{"$f":"COUNTIF($L$7:$L$500,N12)","v":0},{"$f":"O12/$Q$4","v":0},{"$f":"IF(P12=0,0,(P12*((LOG(P12))/LOG(2))))","v":0},null,null,{"$f":"N12","v":11212},{"$f":"COUNTIF(L7:L34,T12)","v":0},{"$f":"U12/(W4-U25)","v":0},{"$f":"IF(V12=0,0,(V12*((LOG(V12))/LOG(2))))","v":0},null,{"$f":"N12","v":11212},{"$f":"COUNTIF(L35:L62,Y12)","v":0},{"$f":"Z12/(AB4-Z25)","v":0},{"$f":"IF(AA12=0,0,(AA12*((LOG(AA12))/LOG(2))))","v":0},null,{"$f":"N12","v":11212},{"$f":"COUNTIF(L63:L91,AD12)","v":0},{"$f":"AE12/(AG4-AE25)","v":0},{"$f":"IF(AF12=0,0,(AF12*((LOG(AF12))/LOG(2))))","v":0},null,{"$f":"N12","v":11212},{"$f":"COUNTIF(L92:L119,AI12)","v":0},{"$f":"AJ12/(AL4-AJ25)","v":0},{"$f":"IF(AK12=0,0,(AK12*((LOG(AK12))/LOG(2))))","v":0},null,{"$f":"N12","v":11212},{"$f":"COUNTIF(L120:L147,AN12)","v":0},{"$f":"AO12/(AQ4-AO25)","v":0},{"$f":"IF(AP12=0,0,(AP12*((LOG(AP12))/LOG(2))))","v":0},null,{"$f":"N12","v":11212},{"$f":"COUNTIF(L148:L175,AS12)","v":0},{"$f":"AT12/(AV4-AT25)","v":0},{"$f":"IF(AU12=0,0,(AU12*((LOG(AU12))/LOG(2))))","v":0}]
[21,896,22,901,24,905,23,916,13,926,1,22221,null,11221,{"$f":"COUNTIF($L$7:$L$500,N13)","v":3},{"$f":"O13/$Q$4","v":1.7751479289940829E-2},{"$f":"IF(P13=0,0,(P13*((LOG(P13))/LOG(2))))","v":-0.10324112903362773},null,null,{"$f":"N13","v":11221},{"$f":"COUNTIF(L7:L34,T13)","v":0},{"$f":"U13/(W4-U25)","v":0},{"$f":"IF(V13=0,0,(V13*((LOG(V13))/LOG(2))))","v":0},null,{"$f":"N13","v":11221},{"$f":"COUNTIF(L35:L62,Y13)","v":1},{"$f":"Z13/(AB4-Z25)","v":3.5714285714285712E-2},{"$f":"IF(AA13=0,0,(AA13*((LOG(AA13))/LOG(2))))","v":-0.17169124721634299},null,{"$f":"N13","v":11221},{"$f":"COUNTIF(L63:L91,AD13)","v":0},{"$f":"AE13/(AG4-AE25)","v":0},{"$f":"IF(AF13=0,0,(AF13*((LOG(AF13))/LOG(2))))","v":0},null,{"$f":"N13","v":11221},{"$f":"COUNTIF(L92:L119,AI13)","v":1},{"$f":"AJ13/(AL4-AJ25)","v":3.5714285714285712E-2},{"$f":"IF(AK13=0,0,(AK13*((LOG(AK13))/LOG(2))))","v":-0.17169124721634299},null,{"$f":"N13","v":11221},{"$f":"COUNTIF(L120:L147,AN13)","v":1},{"$f":"AO13/(AQ4-AO25)","v":3.5714285714285712E-2},{"$f":"IF(AP13=0,0,(AP13*((LOG(AP13))/LOG(2))))","v":-0.17169124721634299},null,{"$f":"N13","v":11221},{"$f":"COUNTIF(L148:L175,AS13)","v":0},{"$f":"AT13/(AV4-AT25)","v":0},{"$f":"IF(AU13=0,0,(AU13*((LOG(AU13))/LOG(2))))","v":0}]
[21,1026,22,1031,24,1041,23,1051,13,1062,0,22221,null,11222,{"$f":"COUNTIF($L$7:$L$500,N14)","v":4},{"$f":"O14/$Q$4","v":2.3668639053254437E-2},{"$f":"IF(P14=0,0,(P14*((LOG(P14))/LOG(2))))","v":-0.12783146594750733},null,null,{"$f":"N14","v":11222},{"$f":"COUNTIF(L7:L34,T14)","v":0},{"$f":"U14/(W4-U25)","v":0},{"$f":"IF(V14=0,0,(V14*((LOG(V14))/LOG(2))))","v":0},null,{"$f":"N14","v":11222},{"$f":"COUNTIF(L35:L62,Y14)","v":1},{"$f":"Z14/(AB4-Z25)","v":3.5714285714285712E-2},{"$f":"IF(AA14=0,0,(AA14*((LOG(AA14))/LOG(2))))","v":-0.17169124721634299},null,{"$f":"N14","v":11222},{"$f":"COUNTIF(L63:L91,AD14)","v":0},{"$f":"AE14/(AG4-AE25)","v":0},{"$f":"IF(AF14=0,0,(AF14*((LOG(AF14))/LOG(2))))","v":0},null,{"$f":"N14","v":11222},{"$f":"COUNTIF(L92:L119,AI14)","v":1},{"$f":"AJ14/(AL4-AJ25)","v":3.5714285714285712E-2},{"$f":"IF(AK14=0,0,(AK14*((LOG(AK14))/LOG(2))))","v":-0.17169124721634299},null,{"$f":"N14","v":11222},{"$f":"COUNTIF(L120:L147,AN14)","v":1},{"$f":"AO14/(AQ4-AO25)","v":3.5714285714285712E-2},{"$f":"IF(AP14=0,0,(AP14*((LOG(AP14))/LOG(2))))","v":-0.17169124721634299},null,{"$f":"N14","v":11222},{"$f":"COUNTIF(L148:L175,AS14)","v":1},{"$f":"AT14/(AV4-AT25)","v":3.5714285714285712E-2},{"$f":"IF(AU14=0,0,(AU14*((LOG(AU14))/LOG(2))))","v":-0.17169124721634299}]
[12,1165,24,1173,24,1181,23,1186,24,1195,0,12222,null,12111,{"$f":"COUNTIF($L$7:$L$500,N15)","v":11},{"$f":"O15/$Q$4","v":6.5088757396449703E-2},{"$f":"IF(P15=0,0,(P15*((LOG(P15))/LOG(2))))","v":-0.25654394079345416},null,null,{"$f":"N15","v":12111},{"$f":"COUNTIF(L7:L34,T15)","v":2},{"$f":"U15/(W4-U25)","v":7.1428571428571425E-2},{"$f":"IF(V15=0,0,(V15*((LOG(V15))/LOG(2))))","v":-0.27195392300411453},null,{"$f":"N15","v":12111},{"$f":"COUNTIF(L35:L62,Y15)","v":3},{"$f":"Z15/(AB4-Z25)","v":0.10714285714285714},{"$f":"IF(AA15=0,0,(AA15*((LOG(AA15))/LOG(2))))","v":-0.34525633085747659},null,{"$f":"N15","v":12111},{"$f":"COUNTIF(L63:L91,AD15)","v":1},{"$f":"AE15/(AG4-AE25)","v":3.4482758620689655E-2},{"$f":"IF(AF15=0,0,(AF15*((LOG(AF15))/LOG(2))))","v":-0.16751658603888178},null,{"$f":"N15","v":12111},{"$f":"COUNTIF(L92:L119,AI15)","v":1},{"$f":"AJ15/(AL4-AJ25)","v":3.5714285714285712E-2},{"$f":"IF(AK15=0,0,(AK15*((LOG(AK15))/LOG(2))))","v":-0.17169124721634299},null,{"$f":"N15","v":12111},{"$f":"COUNTIF(L120:L147,AN15)","v":1},{"$f":"AO15/(AQ4-AO25)","v":3.5714285714285712E-2},{"$f":"IF(AP15=0,0,(AP15*((LOG(AP15))/LOG(2))))","v":-0.17169124721634299},null,{"$f":"N15","v":12111},{"$f":"COUNTIF(L148:L175,AS15)","v":3},{"$f":"AT15/(AV4-AT25)","v":0.10714285714285714},{"$f":"IF(AU15=0,0,(AU15*((LOG(AU15))/LOG(2))))","v":-0.34525633085747659}]
[12,1293,24,1310,13,1320,14,1327,13,1337,0,12111,null,12112,{"$f":"COUNTIF($L$7:$L$500,N16)","v":0},{"$f":"O16/$Q$4","v":0},{"$f":"IF(P16=0,0,(P16*((LOG(P16))/LOG(2))))","v":0},null,null,{"$f":"N16","v":12112},{"$f":"COUNTIF(L7:L34,T16)","v":0},{"$f":"U16/(W4-U25)","v":0},{"$f":"IF(V16=0,0,(V16*((LOG(V16))/LOG(2))))","v":0},null,{"$f":"N16","v":12112},{"$f":"COUNTIF(L35:L62,Y16)","v":0},{"$f":"Z16/(AB4-Z25)","v":0},{"$f":"IF(AA16=0,0,(AA16*((LOG(AA16))/LOG(2))))","v":0},null,{"$f":"N16","v":12112},{"$f":"COUNTIF(L63:L91,AD16)","v":0},{"$f":"AE16/(AG4-AE25)","v":0},{"$f":"IF(AF16=0,0,(AF16*((LOG(AF16))/LOG(2))))","v":0},null,{"$f":"N16","v":12112},{"$f":"COUNTIF(L92:L119,AI16)","v":0},{"$f":"AJ16/(AL4-AJ25)","v":0},{"$f":"IF(AK16=0,0,(AK16*((LOG(AK16))/LOG(2))))","v":0},null,{"$f":"N16","v":12112},{"$f":"COUNTIF(L120:L147,AN16)","v":0},{"$f":"AO16/(AQ4-AO25)","v":0},{"$f":"IF(AP16=0,0,(AP16*((LOG(AP16))/LOG(2))))","v":0},null,{"$f":"N16","v":12112},{"$f":"COUNTIF(L148:L175,AS16)","v":0},{"$f":"AT16/(AV4-AT25)","v":0},{"$f":"IF(AU16=0,0,(AU16*((LOG(AU16))/LOG(2))))","v":0}]
[21,1449,22,1453,13,1468,23,1476,13,1486,0,22121,null,12121,{"$f":"COUNTIF($L$7:$L$500,N17)","v":2},{"$f":"O17/$Q$4","v":1.1834319526627219E-2},{"$f":"IF(P17=0,0,(P17*((LOG(P17))/LOG(2))))","v":-7.5750052500380874E-2},null,null,{"$f":"N17","v":12121},{"$f":"COUNTIF(L7:L34,T17)","v":0},{"$f":"U17/(W4-U25)","v":0},{"$f":"IF(V17=0,0,(V17*((LOG(V17))/LOG(2))))","v":0},null,{"$f":"N17","v":12121},{"$f":"COUNTIF(L35:L62,Y17)","v":0},{"$f":"Z17/(AB4-Z25)","v":0},{"$f":"IF(AA17=0,0,(AA17*((LOG(AA17))/LOG(2))))","v":0},null,{"$f":"N17","v":12121},{"$f":"COUNTIF(L63:L91,AD17)","v":0},{"$f":"AE17/(AG4-AE25)","v":0},{"$f":"IF(AF17=0,0,(AF17*((LOG(AF17))/LOG(2))))","v":0},null,{"$f":"N17","v":12121},{"$f":"COUNTIF(L92:L119,AI17)","v":0},{"$f":"AJ17/(AL4-AJ25)","v":0},{"$f":"IF(AK17=0,0,(AK17*((LOG(AK17))/LOG(2))))","v":0},null,{"$f":"N17","v":12121},{"$f":"COUNTIF(L120:L147,AN17)","v":1},{"$f":"AO17/(AQ4-AO25)","v":3.5714285714285712E-2},{"$f":"IF(AP17=0,0,(AP17*((LOG(AP17))/LOG(2))))","v":-0.17169124721634299},null,{"$f":"N17","v":12121},{"$f":"COUNTIF(L148:L175,AS17)","v":1},{"$f":"AT17/(AV4-AT25)","v":3.5714285714285712E-2},{"$f":"IF(AU17=0,0,(AU17*((LOG(AU17))/LOG(2))))","v":-0.17169124721634299}]
[21,1592,22,1601,13,1611,23,1618,24,1653,0,22122,null,12122,{"$f":"COUNTIF($L$7:$L$500,N18)","v":0},{"$f":"O18/$Q$4","v":0},{"$f":"IF(P18=0,0,(P18*((LOG(P18))/LOG(2))))","v":0},null,null,{"$f":"N18","v":12122},{"$f":"COUNTIF(L7:L34,T18)","v":0},{"$f":"U18/(W4-U25)","v":0},{"$f":"IF(V18=0,0,(V18*((LOG(V18))/LOG(2))))","v":0},null,{"$f":"N18","v":12122},{"$f":"COUNTIF(L35:L62,Y18)","v":0},{"$f":"Z18/(AB4-Z25)","v":0},{"$f":"IF(AA18=0,0,(AA18*((LOG(AA18))/LOG(2))))","v":0},null,{"$f":"N18","v":12122},{"$f":"COUNTIF(L63:L91,AD18)","v":0},{"$f":"AE18/(AG4-AE25)","v":0},{"$f":"IF(AF18=0,0,(AF18*((LOG(AF18))/LOG(2))))","v":0},null,{"$f":"N18","v":12122},{"$f":"COUNTIF(L92:L119,AI18)","v":0},{"$f":"AJ18/(AL4-AJ25)","v":0},{"$f":"IF(AK18=0,0,(AK18*((LOG(AK18))/LOG(2))))","v":0},null,{"$f":"N18","v":12122},{"$f":"COUNTIF(L120:L147,AN18)","v":0},{"$f":"AO18/(AQ4-AO25)","v":0},{"$f":"IF(AP18=0,0,(AP18*((LOG(AP18))/LOG(2))))","v":0},null,{"$f":"N18","v":12122},{"$f":"COUNTIF(L148:L175,AS18)","v":0},{"$f":"AT18/(AV4-AT25)","v":0},{"$f":"IF(AU18=0,0,(AU18*((LOG(AU18))/LOG(2))))","v":0}]
[12,1757,24,1765,24,1770,14,1786,13,1793,0,12211,null,12211,{"$f":"COUNTIF($L$7:$L$500,N19)","v":30},{"$f":"O19/$Q$4","v":0.17751479289940827},{"$f":"IF(P19=0,0,(P19*((LOG(P19))/LOG(2))))","v":-0.44271991254562115},null,null,{"$f":"N19","v":12211},{"$f":"COUNTIF(L7:L34,T19)","v":6},{"$f":"U19/(W4-U25)","v":0.21428571428571427},{"$f":"IF(V19=0,0,(V19*((LOG(V19))/LOG(2))))","v":-0.47622694742923877},null,{"$f":"N19","v":12211},{"$f":"COUNTIF(L35:L62,Y19)","v":9},{"$f":"Z19/(AB4-Z25)","v":0.32142857142857145},{"$f":"IF(AA19=0,0,(AA19*((LOG(AA19))/LOG(2))))","v":-0.5263167601977724},null,{"$f":"N19","v":12211},{"$f":"COUNTIF(L63:L91,AD19)","v":8},{"$f":"AE19/(AG4-AE25)","v":0.27586206896551724},{"$f":"IF(AF19=0,0,(AF19*((LOG(AF19))/LOG(2))))","v":-0.51254648141450265},null,{"$f":"N19","v":12211},{"$f":"COUNTIF(L92:L119,AI19)","v":4},{"$f":"AJ19/(AL4-AJ25)","v":0.14285714285714285},{"$f":"IF(AK19=0,0,(AK19*((LOG(AK19))/LOG(2))))","v":-0.40105070315108626},null,{"$f":"N19","v":12211},{"$f":"COUNTIF(L120:L147,AN19)","v":0},{"$f":"AO19/(AQ4-AO25)","v":0},{"$f":"IF(AP19=0,0,(AP19*((LOG(AP19))/LOG(2))))","v":0},null,{"$f":"N19","v":12211},{"$f":"COUNTIF(L148:L175,AS19)","v":3},{"$f":"AT19/(AV4-AT25)","v":0.10714285714285714},{"$f":"IF(AU19=0,0,(AU19*((LOG(AU19))/LOG(2))))","v":-0.34525633085747659}]
[12,1897,24,1905,24,1909,23,1917,24,1942,0,12222,null,12212,{"$f":"COUNTIF($L$7:$L$500,N20)","v":1},{"$f":"O20/$Q$4","v":5.9171597633136093E-3},{"$f":"IF(P20=0,0,(P20*((LOG(P20))/LOG(2))))","v":-4.3792186013504049E-2},null,null,{"$f":"N20","v":12212},{"$f":"COUNTIF(L7:L34,T20)","v":1},{"$f":"U20/(W4-U25)","v":3.5714285714285712E-2},{"$f":"IF(V20=0,0,(V20*((LOG(V20))/LOG(2))))","v":-0.17169124721634299},null,{"$f":"N20","v":12212},{"$f":"COUNTIF(L35:L62,Y20)","v":0},{"$f":"Z20/(AB4-Z25)","v":0},{"$f":"IF(AA20=0,0,(AA20*((LOG(AA20))/LOG(2))))","v":0},null,{"$f":"N20","v":12212},{"$f":"COUNTIF(L63:L91,AD20)","v":0},{"$f":"AE20/(AG4-AE25)","v":0},{"$f":"IF(AF20=0,0,(AF20*((LOG(AF20))/LOG(2))))","v":0},null,{"$f":"N20","v":12212},{"$f":"COUNTIF(L92:L119,AI20)","v":0},{"$f":"AJ20/(AL4-AJ25)","v":0},{"$f":"IF(AK20=0,0,(AK20*((LOG(AK20))/LOG(2))))","v":0},null,{"$f":"N20","v":12212},{"$f":"COUNTIF(L120:L147,AN20)","v":0},{"$f":"AO20/(AQ4-AO25)","v":0},{"$f":"IF(AP20=0,0,(AP20*((LOG(AP20))/LOG(2))))","v":0},null,{"$f":"N20","v":12212},{"$f":"COUNTIF(L148:L175,AS20)","v":0},{"$f":"AT20/(AV4-AT25)","v":0},{"$f":"IF(AU20=0,0,(AU20*((LOG(AU20))/LOG(2))))","v":0}]
[12,2049,24,2058,24,2063,14,2073,13,2077,0,12211,null,12221,{"$f":"COUNTIF($L$7:$L$500,N21)","v":33},{"$f":"O21/$Q$4","v":0.19526627218934911},{"$f":"IF(P21=0,0,(P21*((LOG(P21))/LOG(2))))","v":-0.46014210330463384},null,null,{"$f":"N21","v":12221},{"$f":"COUNTIF(L7:L34,T21)","v":1},{"$f":"U21/(W4-U25)","v":3.5714285714285712E-2},{"$f":"IF(V21=0,0,(V21*((LOG(V21))/LOG(2))))","v":-0.17169124721634299},null,{"$f":"N21","v":12221},{"$f":"COUNTIF(L35:L62,Y21)","v":6},{"$f":"Z21/(AB4-Z25)","v":0.21428571428571427},{"$f":"IF(AA21=0,0,(AA21*((LOG(AA21))/LOG(2))))","v":-0.47622694742923877},null,{"$f":"N21","v":12221},{"$f":"COUNTIF(L63:L91,AD21)","v":9},{"$f":"AE21/(AG4-AE25)","v":0.31034482758620691},{"$f":"IF(AF21=0,0,(AF21*((LOG(AF21))/LOG(2))))","v":-0.52387944631611505},null,{"$f":"N21","v":12221},{"$f":"COUNTIF(L92:L119,AI21)","v":6},{"$f":"AJ21/(AL4-AJ25)","v":0.21428571428571427},{"$f":"IF(AK21=0,0,(AK21*((LOG(AK21))/LOG(2))))","v":-0.47622694742923877},null,{"$f":"N21","v":12221},{"$f":"COUNTIF(L120:L147,AN21)","v":8},{"$f":"AO21/(AQ4-AO25)","v":0.2857142857142857},{"$f":"IF(AP21=0,0,(AP21*((LOG(AP21))/LOG(2))))","v":-0.51638712058788683},null,{"$f":"N21","v":12221},{"$f":"COUNTIF(L148:L175,AS21)","v":3},{"$f":"AT21/(AV4-AT25)","v":0.10714285714285714},{"$f":"IF(AU21=0,0,(AU21*((LOG(AU21))/LOG(2))))","v":-0.34525633085747659}]
[12,2175,24,2195,24,2201,14,2209,13,2215,0,12211,null,12222,{"$f":"COUNTIF($L$7:$L$500,N22)","v":25},{"$f":"O22/$Q$4","v":0.14792899408284024},{"$f":"IF(P22=0,0,(P22*((LOG(P22))/LOG(2))))","v":-0.40784367551885498},null,null,{"$f":"N22","v":12222},{"$f":"COUNTIF(L7:L34,T22)","v":4},{"$f":"U22/(W4-U25)","v":0.14285714285714285},{"$f":"IF(V22=0,0,(V22*((LOG(V22))/LOG(2))))","v":-0.40105070315108626},null,{"$f":"N22","v":12222},{"$f":"COUNTIF(L35:L62,Y22)","v":4},{"$f":"Z22/(AB4-Z25)","v":0.14285714285714285},{"$f":"IF(AA22=0,0,(AA22*((LOG(AA22))/LOG(2))))","v":-0.40105070315108626},null,{"$f":"N22","v":12222},{"$f":"COUNTIF(L63:L91,AD22)","v":1},{"$f":"AE22/(AG4-AE25)","v":3.4482758620689655E-2},{"$f":"IF(AF22=0,0,(AF22*((LOG(AF22))/LOG(2))))","v":-0.16751658603888178},null,{"$f":"N22","v":12222},{"$f":"COUNTIF(L92:L119,AI22)","v":7},{"$f":"AJ22/(AL4-AJ25)","v":0.25},{"$f":"IF(AK22=0,0,(AK22*((LOG(AK22))/LOG(2))))","v":-0.5},null,{"$f":"N22","v":12222},{"$f":"COUNTIF(L120:L147,AN22)","v":4},{"$f":"AO22/(AQ4-AO25)","v":0.14285714285714285},{"$f":"IF(AP22=0,0,(AP22*((LOG(AP22))/LOG(2))))","v":-0.40105070315108626},null,{"$f":"N22","v":12222},{"$f":"COUNTIF(L148:L175,AS22)","v":5},{"$f":"AT22/(AV4-AT25)","v":0.17857142857142858},{"$f":"IF(AU22=0,0,(AU22*((LOG(AU22))/LOG(2))))","v":-0.44382621913754317}]
[21,2322,22,2326,24,2330,23,2334,13,2345,0,22221,null,21111,{"$f":"COUNTIF($L$7:$L$500,N23)","v":2},{"$f":"O23/$Q$4","v":1.1834319526627219E-2},{"$f":"IF(P23=0,0,(P23*((LOG(P23))/LOG(2))))","v":-7.5750052500380874E-2},null,null,{"$f":"N23","v":21111},{"$f":"COUNTIF(L7:L34,T23)","v":0},{"$f":"U23/(W4-U25)","v":0},{"$f":"IF(V23=0,0,(V23*((LOG(V23))/LOG(2))))","v":0},null,{"$f":"N23","v":21111},{"$f":"COUNTIF(L35:L62,Y23)","v":0},{"$f":"Z23/(AB4-Z25)","v":0},{"$f":"IF(AA23=0,0,(AA23*((LOG(AA23))/LOG(2))))","v":0},null,{"$f":"N23","v":21111},{"$f":"COUNTIF(L63:L91,AD23)","v":1},{"$f":"AE23/(AG4-AE25)","v":3.4482758620689655E-2},{"$f":"IF(AF23=0,0,(AF23*((LOG(AF23))/LOG(2))))","v":-0.16751658603888178},null,{"$f":"N23","v":21111},{"$f":"COUNTIF(L92:L119,AI23)","v":1},{"$f":"AJ23/(AL4-AJ25)","v":3.5714285714285712E-2},{"$f":"IF(AK23=0,0,(AK23*((LOG(AK23))/LOG(2))))","v":-0.17169124721634299},null,{"$f":"N23","v":21111},{"$f":"COUNTIF(L120:L147,AN23)","v":0},{"$f":"AO23/(AQ4-AO25)","v":0},{"$f":"IF(AP23=0,0,(AP23*((LOG(AP23))/LOG(2))))","v":0},null,{"$f":"N23","v":21111},{"$f":"COUNTIF(L148:L175,AS23)","v":0},{"$f":"AT23/(AV4-AT25)","v":0},{"$f":"IF(AU23=0,0,(AU23*((LOG(AU23))/LOG(2))))","v":0}]
[21,2450,22,2463,24,2470,23,2474,24,2479,1,22222,null,21112,{"$f":"COUNTIF($L$7:$L$500,N24)","v":0},{"$f":"O24/$Q$4","v":0},{"$f":"IF(P24=0,0,(P24*((LOG(P24))/LOG(2))))","v":0},null,null,{"$f":"N24","v":21112},{"$f":"COUNTIF(L7:L34,T24)","v":0},{"$f":"U24/(W4-U25)","v":0},{"$f":"IF(V24=0,0,(V24*((LOG(V24))/LOG(2))))","v":0},null,{"$f":"N24","v":21112},{"$f":"COUNTIF(L35:L62,Y24)","v":0},{"$f":"Z24/(AB4-Z25)","v":0},{"$f":"IF(AA24=0,0,(AA24*((LOG(AA24))/LOG(2))))","v":0},null,{"$f":"N24","v":21112},{"$f":"COUNTIF(L63:L91,AD24)","v":0},{"$f":"AE24/(AG4-AE25)","v":0},{"$f":"IF(AF24=0,0,(AF24*((LOG(AF24))/LOG(2))))","v":0},null,{"$f":"N24","v":21112},{"$f":"COUNTIF(L92:L119,AI24)","v":0},{"$f":"AJ24/(AL4-AJ25)","v":0},{"$f":"IF(AK24=0,0,(AK24*((LOG(AK24))/LOG(2))))","v":0},null,{"$f":"N24","v":21112},{"$f":"COUNTIF(L120:L147,AN24)","v":0},{"$f":"AO24/(AQ4-AO25)","v":0},{"$f":"IF(AP24=0,0,(AP24*((LOG(AP24))/LOG(2))))","v":0},null,{"$f":"N24","v":21112},{"$f":"COUNTIF(L148:L175,AS24)","v":0},{"$f":"AT24/(AV4-AT25)","v":0},{"$f":"IF(AU24=0,0,(AU24*((LOG(AU24))/LOG(2))))","v":0}]
[21,2597,22,2608,24,2615,14,2648,24,2677,0,22212,null,21121,{"$f":"COUNTIF($L$7:$L$500,N25)","v":0},{"$f":"O25/$Q$4","v":0},{"$f":"IF(P25=0,0,(P25*((LOG(P25))/LOG(2))))","v":0},null,null,{"$f":"N25","v":21121},{"$f":"COUNTIF(L7:L34,T25)","v":0},null,null,null,{"$f":"N25","v":21121},{"$f":"COUNTIF(L35:L62,Y25)","v":0},null,null,null,{"$f":"N25","v":21121},{"$f":"COUNTIF(L63:L91,AD25)","v":0},null,null,null,{"$f":"N25","v":21121},{"$f":"COUNTIF(L92:L119,AI25)","v":0},null,null,null,{"$f":"N25","v":21121},{"$f":"COUNTIF(L120:L147,AN25)","v":0},null,null,null,{"$f":"N25","v":21121},{"$f":"COUNTIF(L148:L175,AS25)","v":0}]
[12,2780,24,2787,24,2796,23,2800,24,2805,1,12222,null,21122,{"$f":"COUNTIF($L$7:$L$500,N26)","v":0},{"$f":"O26/$Q$4","v":0},{"$f":"IF(P26=0,0,(P26*((LOG(P26))/LOG(2))))","v":0},null,null,{"$f":"N26","v":21122},{"$f":"COUNTIF(L7:L34,T26)","v":0},{"$f":"U26/(W4-U25)","v":0},{"$f":"IF(V26=0,0,(V26*((LOG(V26))/LOG(2))))","v":0},null,{"$f":"N26","v":21122},{"$f":"COUNTIF(L35:L62,Y26)","v":0},{"$f":"Z26/(AB4-Z25)","v":0},{"$f":"IF(AA26=0,0,(AA26*((LOG(AA26))/LOG(2))))","v":0},null,{"$f":"N26","v":21122},{"$f":"COUNTIF(L63:L91,AD26)","v":0},{"$f":"AE26/(AG4-AE25)","v":0},{"$f":"IF(AF26=0,0,(AF26*((LOG(AF26))/LOG(2))))","v":0},null,{"$f":"N26","v":21122},{"$f":"COUNTIF(L92:L119,AI26)","v":0},{"$f":"AJ26/(AL4-AJ25)","v":0},{"$f":"IF(AK26=0,0,(AK26*((LOG(AK26))/LOG(2))))","v":0},null,{"$f":"N26","v":21122},{"$f":"COUNTIF(L120:L147,AN26)","v":0},{"$f":"AO26/(AQ4-AO25)","v":0},{"$f":"IF(AP26=0,0,(AP26*((LOG(AP26))/LOG(2))))","v":0},null,{"$f":"N26","v":21122},{"$f":"COUNTIF(L148:L175,AS26)","v":0},{"$f":"AT26/(AV4-AT25)","v":0},{"$f":"IF(AU26=0,0,(AU26*((LOG(AU26))/LOG(2))))","v":0}]
[12,2922,24,2929,24,2937,23,2945,13,2955,0,12221,null,21211,{"$f":"COUNTIF($L$7:$L$500,N27)","v":4},{"$f":"O27/$Q$4","v":2.3668639053254437E-2},{"$f":"IF(P27=0,0,(P27*((LOG(P27))/LOG(2))))","v":-0.12783146594750733},null,null,{"$f":"N27","v":21211},{"$f":"COUNTIF(L7:L34,T27)","v":0},{"$f":"U27/(W4-U25)","v":0},{"$f":"IF(V27=0,0,(V27*((LOG(V27))/LOG(2))))","v":0},null,{"$f":"N27","v":21211},{"$f":"COUNTIF(L35:L62,Y27)","v":0},{"$f":"Z27/(AB4-Z25)","v":0},{"$f":"IF(AA27=0,0,(AA27*((LOG(AA27))/LOG(2))))","v":0},null,{"$f":"N27","v":21211},{"$f":"COUNTIF(L63:L91,AD27)","v":0},{"$f":"AE27/(AG4-AE25)","v":0},{"$f":"IF(AF27=0,0,(AF27*((LOG(AF27))/LOG(2))))","v":0},null,{"$f":"N27","v":21211},{"$f":"COUNTIF(L92:L119,AI27)","v":0},{"$f":"AJ27/(AL4-AJ25)","v":0},{"$f":"IF(AK27=0,0,(AK27*((LOG(AK27))/LOG(2))))","v":0},null,{"$f":"N27","v":21211},{"$f":"COUNTIF(L120:L147,AN27)","v":0},{"$f":"AO27/(AQ4-AO25)","v":0},{"$f":"IF(AP27=0,0,(AP27*((LOG(AP27))/LOG(2))))","v":0},null,{"$f":"N27","v":21211},{"$f":"COUNTIF(L148:L175,AS27)","v":4},{"$f":"AT27/(AV4-AT25)","v":0.14285714285714285},{"$f":"IF(AU27=0,0,(AU27*((LOG(AU27))/LOG(2))))","v":-0.40105070315108626}]
[12,3059,24,3067,24,3071,23,3077,24,3082,0,12222,null,21212,{"$f":"COUNTIF($L$7:$L$500,N28)","v":0},{"$f":"O28/$Q$4","v":0},{"$f":"IF(P28=0,0,(P28*((LOG(P28))/LOG(2))))","v":0},null,null,{"$f":"N28","v":21212},{"$f":"COUNTIF(L7:L34,T28)","v":0},{"$f":"U28/(W4-U25)","v":0},{"$f":"IF(V28=0,0,(V28*((LOG(V28))/LOG(2))))","v":0},null,{"$f":"N28","v":21212},{"$f":"COUNTIF(L35:L62,Y28)","v":0},{"$f":"Z28/(AB4-Z25)","v":0},{"$f":"IF(AA28=0,0,(AA28*((LOG(AA28))/LOG(2))))","v":0},null,{"$f":"N28","v":21212},{"$f":"COUNTIF(L63:L91,AD28)","v":0},{"$f":"AE28/(AG4-AE25)","v":0},{"$f":"IF(AF28=0,0,(AF28*((LOG(AF28))/LOG(2))))","v":0},null,{"$f":"N28","v":21212},{"$f":"COUNTIF(L92:L119,AI28)","v":0},{"$f":"AJ28/(AL4-AJ25)","v":0},{"$f":"IF(AK28=0,0,(AK28*((LOG(AK28))/LOG(2))))","v":0},null,{"$f":"N28","v":21212},{"$f":"COUNTIF(L120:L147,AN28)","v":0},{"$f":"AO28/(AQ4-AO25)","v":0},{"$f":"IF(AP28=0,0,(AP28*((LOG(AP28))/LOG(2))))","v":0},null,{"$f":"N28","v":21212},{"$f":"COUNTIF(L148:L175,AS28)","v":0},{"$f":"AT28/(AV4-AT25)","v":0},{"$f":"IF(AU28=0,0,(AU28*((LOG(AU28))/LOG(2))))","v":0}]
[12,3184,24,3192,24,3197,14,3213,13,3223,1,12211,null,21221,{"$f":"COUNTIF($L$7:$L$500,N29)","v":0},{"$f":"O29/$Q$4","v":0},{"$f":"IF(P29=0,0,(P29*((LOG(P29))/LOG(2))))","v":0},null,null,{"$f":"N29","v":21221},{"$f":"COUNTIF(L7:L34,T29)","v":0},{"$f":"U29/(W4-U25)","v":0},{"$f":"IF(V29=0,0,(V29*((LOG(V29))/LOG(2))))","v":0},null,{"$f":"N29","v":21221},{"$f":"COUNTIF(L35:L62,Y29)","v":0},{"$f":"Z29/(AB4-Z25)","v":0},{"$f":"IF(AA29=0,0,(AA29*((LOG(AA29))/LOG(2))))","v":0},null,{"$f":"N29","v":21221},{"$f":"COUNTIF(L63:L91,AD29)","v":0},{"$f":"AE29/(AG4-AE25)","v":0},{"$f":"IF(AF29=0,0,(AF29*((LOG(AF29))/LOG(2))))","v":0},null,{"$f":"N29","v":21221},{"$f":"COUNTIF(L92:L119,AI29)","v":0},{"$f":"AJ29/(AL4-AJ25)","v":0},{"$f":"IF(AK29=0,0,(AK29*((LOG(AK29))/LOG(2))))","v":0},null,{"$f":"N29","v":21221},{"$f":"COUNTIF(L120:L147,AN29)","v":0},{"$f":"AO29/(AQ4-AO25)","v":0},{"$f":"IF(AP29=0,0,(AP29*((LOG(AP29))/LOG(2))))","v":0},null,{"$f":"N29","v":21221},{"$f":"COUNTIF(L148:L175,AS29)","v":0},{"$f":"AT29/(AV4-AT25)","v":0},{"$f":"IF(AU29=0,0,(AU29*((LOG(AU29))/LOG(2))))","v":0}]
[12,3327,24,3336,24,3340,14,3357,24,3369,0,12212,null,21222,{"$f":"COUNTIF($L$7:$L$500,N30)","v":1},{"$f":"O30/$Q$4","v":5.9171597633136093E-3},{"$f":"IF(P30=0,0,(P30*((LOG(P30))/LOG(2))))","v":-4.3792186013504049E-2},null,null,{"$f":"N30","v":21222},{"$f":"COUNTIF(L7:L34,T30)","v":0},{"$f":"U30/(W4-U25)","v":0},{"$f":"IF(V30=0,0,(V30*((LOG(V30))/LOG(2))))","v":0},null,{"$f":"N30","v":21222},{"$f":"COUNTIF(L35:L62,Y30)","v":0},{"$f":"Z30/(AB4-Z25)","v":0},{"$f":"IF(AA30=0,0,(AA30*((LOG(AA30))/LOG(2))))","v":0},null,{"$f":"N30","v":21222},{"$f":"COUNTIF(L63:L91,AD30)","v":0},{"$f":"AE30/(AG4-AE25)","v":0},{"$f":"IF(AF30=0,0,(AF30*((LOG(AF30))/LOG(2))))","v":0},null,{"$f":"N30","v":21222},{"$f":"COUNTIF(L92:L119,AI30)","v":0},{"$f":"AJ30/(AL4-AJ25)","v":0},{"$f":"IF(AK30=0,0,(AK30*((LOG(AK30))/LOG(2))))","v":0},null,{"$f":"N30","v":21222},{"$f":"COUNTIF(L120:L147,AN30)","v":0},{"$f":"AO30/(AQ4-AO25)","v":0},{"$f":"IF(AP30=0,0,(AP30*((LOG(AP30))/LOG(2))))","v":0},null,{"$f":"N30","v":21222},{"$f":"COUNTIF(L148:L175,AS30)","v":1},{"$f":"AT30/(AV4-AT25)","v":3.5714285714285712E-2},{"$f":"IF(AU30=0,0,(AU30*((LOG(AU30))/LOG(2))))","v":-0.17169124721634299}]
[12,3474,13,3498,13,3502,14,3509,13,3516,1,11111,null,22111,{"$f":"COUNTIF($L$7:$L$500,N31)","v":1},{"$f":"O31/$Q$4","v":5.9171597633136093E-3},{"$f":"IF(P31=0,0,(P31*((LOG(P31))/LOG(2))))","v":-4.3792186013504049E-2},null,null,{"$f":"N31","v":22111},{"$f":"COUNTIF(L7:L34,T31)","v":0},{"$f":"U31/(W4-U25)","v":0},{"$f":"IF(V31=0,0,(V31*((LOG(V31))/LOG(2))))","v":0},null,{"$f":"N31","v":22111},{"$f":"COUNTIF(L35:L62,Y31)","v":0},{"$f":"Z31/(AB4-Z25)","v":0},{"$f":"IF(AA31=0,0,(AA31*((LOG(AA31))/LOG(2))))","v":0},null,{"$f":"N31","v":22111},{"$f":"COUNTIF(L63:L91,AD31)","v":0},{"$f":"AE31/(AG4-AE25)","v":0},{"$f":"IF(AF31=0,0,(AF31*((LOG(AF31))/LOG(2))))","v":0},null,{"$f":"N31","v":22111},{"$f":"COUNTIF(L92:L119,AI31)","v":0},{"$f":"AJ31/(AL4-AJ25)","v":0},{"$f":"IF(AK31=0,0,(AK31*((LOG(AK31))/LOG(2))))","v":0},null,{"$f":"N31","v":22111},{"$f":"COUNTIF(L120:L147,AN31)","v":1},{"$f":"AO31/(AQ4-AO25)","v":3.5714285714285712E-2},{"$f":"IF(AP31=0,0,(AP31*((LOG(AP31))/LOG(2))))","v":-0.17169124721634299},null,{"$f":"N31","v":22111},{"$f":"COUNTIF(L148:L175,AS31)","v":0},{"$f":"AT31/(AV4-AT25)","v":0},{"$f":"IF(AU31=0,0,(AU31*((LOG(AU31))/LOG(2))))","v":0}]
[12,3619,24,3639,13,3654,14,3658,13,3662,0,12111,null,22112,{"$f":"COUNTIF($L$7:$L$500,N32)","v":1},{"$f":"O32/$Q$4","v":5.9171597633136093E-3},{"$f":"IF(P32=0,0,(P32*((LOG(P32))/LOG(2))))","v":-4.3792186013504049E-2},null,null,{"$f":"N32","v":22112},{"$f":"COUNTIF(L7:L34,T32)","v":1},{"$f":"U32/(W4-U25)","v":3.5714285714285712E-2},{"$f":"IF(V32=0,0,(V32*((LOG(V32))/LOG(2))))","v":-0.17169124721634299},null,{"$f":"N32","v":22112},{"$f":"COUNTIF(L35:L62,Y32)","v":0},{"$f":"Z32/(AB4-Z25)","v":0},{"$f":"IF(AA32=0,0,(AA32*((LOG(AA32))/LOG(2))))","v":0},null,{"$f":"N32","v":22112},{"$f":"COUNTIF(L63:L91,AD32)","v":0},{"$f":"AE32/(AG4-AE25)","v":0},{"$f":"IF(AF32=0,0,(AF32*((LOG(AF32))/LOG(2))))","v":0},null,{"$f":"N32","v":22112},{"$f":"COUNTIF(L92:L119,AI32)","v":0},{"$f":"AJ32/(AL4-AJ25)","v":0},{"$f":"IF(AK32=0,0,(AK32*((LOG(AK32))/LOG(2))))","v":0},null,{"$f":"N32","v":22112},{"$f":"COUNTIF(L120:L147,AN32)","v":0},{"$f":"AO32/(AQ4-AO25)","v":0},{"$f":"IF(AP32=0,0,(AP32*((LOG(AP32))/LOG(2))))","v":0},null,{"$f":"N32","v":22112},{"$f":"COUNTIF(L148:L175,AS32)","v":0},{"$f":"AT32/(AV4-AT25)","v":0},{"$f":"IF(AU32=0,0,(AU32*((LOG(AU32))/LOG(2))))","v":0}]
[12,3767,24,3775,24,3779,14,3793,13,3797,0,12211,null,22121,{"$f":"COUNTIF($L$7:$L$500,N33)","v":1},{"$f":"O33/$Q$4","v":5.9171597633136093E-3},{"$f":"IF(P33=0,0,(P33*((LOG(P33))/LOG(2))))","v":-4.3792186013504049E-2},null,null,{"$f":"N33","v":22121},{"$f":"COUNTIF(L7:L34,T33)","v":1},{"$f":"U33/(W4-U25)","v":3.5714285714285712E-2},{"$f":"IF(V33=0,0,(V33*((LOG(V33))/LOG(2))))","v":-0.17169124721634299},null,{"$f":"N33","v":22121},{"$f":"COUNTIF(L35:L62,Y33)","v":0},{"$f":"Z33/(AB4-Z25)","v":0},{"$f":"IF(AA33=0,0,(AA33*((LOG(AA33))/LOG(2))))","v":0},null,{"$f":"N33","v":22121},{"$f":"COUNTIF(L63:L91,AD33)","v":0},{"$f":"AE33/(AG4-AE25)","v":0},{"$f":"IF(AF33=0,0,(AF33*((LOG(AF33))/LOG(2))))","v":0},null,{"$f":"N33","v":22121},{"$f":"COUNTIF(L92:L119,AI33)","v":0},{"$f":"AJ33/(AL4-AJ25)","v":0},{"$f":"IF(AK33=0,0,(AK33*((LOG(AK33))/LOG(2))))","v":0},null,{"$f":"N33","v":22121},{"$f":"COUNTIF(L120:L147,AN33)","v":0},{"$f":"AO33/(AQ4-AO25)","v":0},{"$f":"IF(AP33=0,0,(AP33*((LOG(AP33))/LOG(2))))","v":0},null,{"$f":"N33","v":22121},{"$f":"COUNTIF(L148:L175,AS33)","v":0},{"$f":"AT33/(AV4-AT25)","v":0},{"$f":"IF(AU33=0,0,(AU33*((LOG(AU33))/LOG(2))))","v":0}]
[12,3900,24,3908,24,3912,14,3925,13,3930,0,12211,null,22122,{"$f":"COUNTIF($L$7:$L$500,N34)","v":1},{"$f":"O34/$Q$4","v":5.9171597633136093E-3},{"$f":"IF(P34=0,0,(P34*((LOG(P34))/LOG(2))))","v":-4.3792186013504049E-2},null,null,{"$f":"N34","v":22122},{"$f":"COUNTIF(L7:L34,T34)","v":1},{"$f":"U34/(W4-U25)","v":3.5714285714285712E-2},{"$f":"IF(V34=0,0,(V34*((LOG(V34))/LOG(2))))","v":-0.17169124721634299},null,{"$f":"N34","v":22122},{"$f":"COUNTIF(L35:L62,Y34)","v":0},{"$f":"Z34/(AB4-Z25)","v":0},{"$f":"IF(AA34=0,0,(AA34*((LOG(AA34))/LOG(2))))","v":0},null,{"$f":"N34","v":22122},{"$f":"COUNTIF(L63:L91,AD34)","v":0},{"$f":"AE34/(AG4-AE25)","v":0},{"$f":"IF(AF34=0,0,(AF34*((LOG(AF34))/LOG(2))))","v":0},null,{"$f":"N34","v":22122},{"$f":"COUNTIF(L92:L119,AI34)","v":0},{"$f":"AJ34/(AL4-AJ25)","v":0},{"$f":"IF(AK34=0,0,(AK34*((LOG(AK34))/LOG(2))))","v":0},null,{"$f":"N34","v":22122},{"$f":"COUNTIF(L120:L147,AN34)","v":0},{"$f":"AO34/(AQ4-AO25)","v":0},{"$f":"IF(AP34=0,0,(AP34*((LOG(AP34))/LOG(2))))","v":0},null,{"$f":"N34","v":22122},{"$f":"COUNTIF(L148:L175,AS34)","v":0},{"$f":"AT34/(AV4-AT25)","v":0},{"$f":"IF(AU34=0,0,(AU34*((LOG(AU34))/LOG(2))))","v":0}]
[12,4032,24,4039,24,4043,23,4060,13,4070,1,12221,null,22211,{"$f":"COUNTIF($L$7:$L$500,N35)","v":5},{"$f":"O35/$Q$4","v":2.9585798816568046E-2},{"$f":"IF(P35=0,0,(P35*((LOG(P35))/LOG(2))))","v":-0.1502648325856456},null,null,{"$f":"N35","v":22211},{"$f":"COUNTIF(L7:L34,T35)","v":2},{"$f":"U35/(W4-U25)","v":7.1428571428571425E-2},{"$f":"IF(V35=0,0,(V35*((LOG(V35))/LOG(2))))","v":-0.27195392300411453},null,{"$f":"N35","v":22211},{"$f":"COUNTIF(L35:L62,Y35)","v":0},{"$f":"Z35/(AB4-Z25)","v":0},{"$f":"IF(AA35=0,0,(AA35*((LOG(AA35))/LOG(2))))","v":0},null,{"$f":"N35","v":22211},{"$f":"COUNTIF(L63:L91,AD35)","v":0},{"$f":"AE35/(AG4-AE25)","v":0},{"$f":"IF(AF35=0,0,(AF35*((LOG(AF35))/LOG(2))))","v":0},null,{"$f":"N35","v":22211},{"$f":"COUNTIF(L92:L119,AI35)","v":1},{"$f":"AJ35/(AL4-AJ25)","v":3.5714285714285712E-2},{"$f":"IF(AK35=0,0,(AK35*((LOG(AK35))/LOG(2))))","v":-0.17169124721634299},null,{"$f":"N35","v":22211},{"$f":"COUNTIF(L120:L147,AN35)","v":2},{"$f":"AO35/(AQ4-AO25)","v":7.1428571428571425E-2},{"$f":"IF(AP35=0,0,(AP35*((LOG(AP35))/LOG(2))))","v":-0.27195392300411453},null,{"$f":"N35","v":22211},{"$f":"COUNTIF(L148:L175,AS35)","v":0},{"$f":"AT35/(AV4-AT25)","v":0},{"$f":"IF(AU35=0,0,(AU35*((LOG(AU35))/LOG(2))))","v":0}]
[12,4170,24,4177,24,4182,23,4186,24,4190,0,12222,null,22212,{"$f":"COUNTIF($L$7:$L$500,N36)","v":1},{"$f":"O36/$Q$4","v":5.9171597633136093E-3},{"$f":"IF(P36=0,0,(P36*((LOG(P36))/LOG(2))))","v":-4.3792186013504049E-2},null,null,{"$f":"N36","v":22212},{"$f":"COUNTIF(L7:L34,T36)","v":1},{"$f":"U36/(W4-U25)","v":3.5714285714285712E-2},{"$f":"IF(V36=0,0,(V36*((LOG(V36))/LOG(2))))","v":-0.17169124721634299},null,{"$f":"N36","v":22212},{"$f":"COUNTIF(L35:L62,Y36)","v":0},{"$f":"Z36/(AB4-Z25)","v":0},{"$f":"IF(AA36=0,0,(AA36*((LOG(AA36))/LOG(2))))","v":0},null,{"$f":"N36","v":22212},{"$f":"COUNTIF(L63:L91,AD36)","v":0},{"$f":"AE36/(AG4-AE25)","v":0},{"$f":"IF(AF36=0,0,(AF36*((LOG(AF36))/LOG(2))))","v":0},null,{"$f":"N36","v":22212},{"$f":"COUNTIF(L92:L119,AI36)","v":0},{"$f":"AJ36/(AL4-AJ25)","v":0},{"$f":"IF(AK36=0,0,(AK36*((LOG(AK36))/LOG(2))))","v":0},null,{"$f":"N36","v":22212},{"$f":"COUNTIF(L120:L147,AN36)","v":0},{"$f":"AO36/(AQ4-AO25)","v":0},{"$f":"IF(AP36=0,0,(AP36*((LOG(AP36))/LOG(2))))","v":0},null,{"$f":"N36","v":22212},{"$f":"COUNTIF(L148:L175,AS36)","v":0},{"$f":"AT36/(AV4-AT25)","v":0},{"$f":"IF(AU36=0,0,(AU36*((LOG(AU36))/LOG(2))))","v":0}]
[12,4293,24,4306,24,4316,14,4327,13,4337,0,12211,null,22221,{"$f":"COUNTIF($L$7:$L$500,N37)","v":8},{"$f":"O37/$Q$4","v":4.7337278106508875E-2},{"$f":"IF(P37=0,0,(P37*((LOG(P37))/LOG(2))))","v":-0.20832565378850576},null,null,{"$f":"N37","v":22221},{"$f":"COUNTIF(L7:L34,T37)","v":5},{"$f":"U37/(W4-U25)","v":0.17857142857142858},{"$f":"IF(V37=0,0,(V37*((LOG(V37))/LOG(2))))","v":-0.44382621913754317},null,{"$f":"N37","v":22221},{"$f":"COUNTIF(L35:L62,Y37)","v":0},{"$f":"Z37/(AB4-Z25)","v":0},{"$f":"IF(AA37=0,0,(AA37*((LOG(AA37))/LOG(2))))","v":0},null,{"$f":"N37","v":22221},{"$f":"COUNTIF(L63:L91,AD37)","v":1},{"$f":"AE37/(AG4-AE25)","v":3.4482758620689655E-2},{"$f":"IF(AF37=0,0,(AF37*((LOG(AF37))/LOG(2))))","v":-0.16751658603888178},null,{"$f":"N37","v":22221},{"$f":"COUNTIF(L92:L119,AI37)","v":1},{"$f":"AJ37/(AL4-AJ25)","v":3.5714285714285712E-2},{"$f":"IF(AK37=0,0,(AK37*((LOG(AK37))/LOG(2))))","v":-0.17169124721634299},null,{"$f":"N37","v":22221},{"$f":"COUNTIF(L120:L147,AN37)","v":0},{"$f":"AO37/(AQ4-AO25)","v":0},{"$f":"IF(AP37=0,0,(AP37*((LOG(AP37))/LOG(2))))","v":0},null,{"$f":"N37","v":22221},{"$f":"COUNTIF(L148:L175,AS37)","v":1},{"$f":"AT37/(AV4-AT25)","v":3.5714285714285712E-2},{"$f":"IF(AU37=0,0,(AU37*((LOG(AU37))/LOG(2))))","v":-0.17169124721634299}]
[12,4438,13,4450,24,4458,14,4466,13,4473,0,11211,null,22222,{"$f":"COUNTIF($L$7:$L$500,N38)","v":5},{"$f":"O38/$Q$4","v":2.9585798816568046E-2},{"$f":"IF(P38=0,0,(P38*((LOG(P38))/LOG(2))))","v":-0.1502648325856456},null,null,{"$f":"N38","v":22222},{"$f":"COUNTIF(L7:L34,T38)","v":2},{"$f":"U38/(W4-U25)","v":7.1428571428571425E-2},{"$f":"IF(V38=0,0,(V38*((LOG(V38))/LOG(2))))","v":-0.27195392300411453},null,{"$f":"N38","v":22222},{"$f":"COUNTIF(L35:L62,Y38)","v":0},{"$f":"Z38/(AB4-Z25)","v":0},{"$f":"IF(AA38=0,0,(AA38*((LOG(AA38))/LOG(2))))","v":0},null,{"$f":"N38","v":22222},{"$f":"COUNTIF(L63:L91,AD38)","v":0},{"$f":"AE38/(AG4-AE25)","v":0},{"$f":"IF(AF38=0,0,(AF38*((LOG(AF38))/LOG(2))))","v":0},null,{"$f":"N38","v":22222},{"$f":"COUNTIF(L92:L119,AI38)","v":0},{"$f":"AJ38/(AL4-AJ25)","v":0},{"$f":"IF(AK38=0,0,(AK38*((LOG(AK38))/LOG(2))))","v":0},null,{"$f":"N38","v":22222},{"$f":"COUNTIF(L120:L147,AN38)","v":3},{"$f":"AO38/(AQ4-AO25)","v":0.10714285714285714},{"$f":"IF(AP38=0,0,(AP38*((LOG(AP38))/LOG(2))))","v":-0.34525633085747659},null,{"$f":"N38","v":22222},{"$f":"COUNTIF(L148:L175,AS38)","v":0},{"$f":"AT38/(AV4-AT25)","v":0},{"$f":"IF(AU38=0,0,(AU38*((LOG(AU38))/LOG(2))))","v":0}]
[12,4572,24,4580,24,4586,14,4597,13,4602,1,12211,null,null,null,{"$f":"SUM(P7:P38)","v":1},{"$f":"-SUM(Q7:Q38)","v":3.4870049670558849},null,null,null,null,{"$f":"SUM(V7:V38)","v":0.99999999999999978},{"$f":"-SUM(W7:W38)","v":3.3388043692446123},null,null,null,{"$f":"SUM(AA7:AA38)","v":1},{"$f":"-SUM(AB7:AB38)","v":2.6091808141420794},null,null,null,{"$f":"SUM(AF7:AF38)","v":0.99999999999999989},{"$f":"-SUM(AG7:AG38)","v":2.3689875652177776},null,null,null,{"$f":"SUM(AK7:AK38)","v":0.99999999999999989},{"$f":"-SUM(AL7:AL38)","v":2.8512513530159262},null,null,null,{"$f":"SUM(AP7:AP38)","v":0.99999999999999978},{"$f":"-SUM(AQ7:AQ38)","v":3.1820058147602133},null,null,null,{"$f":"SUM(AU7:AU38)","v":1},{"$f":"-SUM(AV7:AV38)","v":3.1829283700803175}]
[12,4705,24,4713,24,4721,23,4726,13,4736,0,12221,null,null,null,"U=",{"$f":"Q39/(LOG(Q4)/LOG(2))","v":0.47116089338803963},null,null,null,null,"U1=",{"$f":"W39/(LOG(W4)/LOG(2))","v":0.69452004758899},null,null,null,"U2=",{"$f":"AB39/(LOG(AB4)/LOG(2))","v":0.54274769731903205},null,null,null,"U3=",{"$f":"AG39/(LOG(AG4)/LOG(2))","v":0.48764858643823644},null,null,null,"U4=",{"$f":"AL39/(LOG(AL4)/LOG(2))","v":0.59310190307221122},null,null,null,"U5=",{"$f":"AQ39/(LOG(AQ4)/LOG(2))","v":0.66190365936165951},null,null,null,"U6=",{"$f":"AV39/(LOG(AV4)/LOG(2))","v":0.66209556433540528}]
[12,4834,13,4839,24,4848,23,4852,13,4866,0,11221]
[12,4969,24,4976,24,4981,23,4985,13,5011,0,12221]
[12,5112,24,5124,24,5131,14,5140,13,5148,0,12211,null,"Total Target Seq"]
[12,5249,24,5257,24,5261,23,5265,13,5279,1,12221,null,{"$f":"COUNTIF(L7:L175,G3)","v":0},null,28,28,29,28,28,28]
[12,5380,24,5398,13,5410,14,5414,13,5418,0,12111,null,null,null,"% of reinforcement given in 6 equal intervals based on number of trials "]
[12,5516,13,5520,24,5530,23,5534,24,5539,0,11222,null,null,null,"%_1","%_2","%_3","%_4","%_5","%_6"]
[12,5640,24,5657,13,5671,14,5675,13,5685,0,12111,null,null,"target sequence",{"$f":"$G$3","v":21121},{"$f":"$G$3","v":21121},{"$f":"$G$3","v":21121},{"$f":"$G$3","v":21121},{"$f":"$G$3","v":21121},{"$f":"$G$3","v":21121}]
[12,5786,24,5797,24,5801,14,5813,13,5824,1,12211,null,null,"total reinforcement",{"$f":"U25","v":0},{"$f":"Z25","v":0},{"$f":"AE25","v":0},{"$f":"AJ25","v":0},{"$f":"AO25","v":0},{"$f":"AT25","v":0}]
[12,5943,24,5950,24,5954,23,5960,24,5979,0,12222,null,null,"% target"]
[12,6080,24,6093,24,6097,14,6106,13,6113,0,12211,null,null,"CCRF"]
[12,6213,24,6221,24,6226,23,6230,13,6240,0,12221,null,null,"% CCRf"]
[12,6349,13,6359,13,6364,14,6368,13,6403,0,11111,null,null,"average response rate",{"$f":"J34/P44","v":140.35714285714286},{"$f":"(J62-J34)/Q44","v":136.5},{"$f":"(J91-J62)/R44","v":138.24137931034483},{"$f":"(J119-J91)/S44","v":137.25},{"$f":"(J147-J119)/T44","v":143.92857142857142},{"$f":"(J175-J147)/U44","v":153.10714285714286}]
[12,6505,24,6530,24,6536,14,6546,13,6553,1,12211]
[12,6660,24,6667,24,6687,14,6698,13,6702,0,12211]
[12,6810,24,6819,24,6823,23,6830,13,6841,0,12221]
[12,6943,13,6953,13,6958,14,6962,13,6966,0,11111]
[12,7073,24,7080,24,7083,23,7102,24,7112,0,12222]
[12,7217,24,7225,24,7230,23,7234,24,7238,1,12222]
[12,7339,24,7347,13,7358,14,7362,13,7366,0,12111]
[12,7470,24,7479,24,7483,14,7497,13,7502,0,12211]
[12,7604,13,7609,13,7613,14,7617,13,7623,0,11111]
[12,7724,24,7733,24,7737,14,7748,13,7752,0,12211]
[12,7853,24,7862,24,7866,14,7881,13,7885,0,12211]
[12,7986,24,7995,24,7999,23,8003,13,8014,1,12221]
[12,8136,24,8145,24,8157,14,8176,13,8186,0,12211]
[12,8287,24,8296,24,8311,14,8330,13,8334,0,12211]
[12,8449,13,8453,13,8458,14,8464,13,8472,0,11111]
[12,8581,24,8593,24,8597,23,8604,13,8614,0,12221]
[12,8715,24,8722,24,8726,14,8744,13,8749,0,12211]
[12,8853,13,8863,13,8867,14,8871,13,8875,0,11111]
[12,8980,24,8991,24,8994,14,9009,13,9013,1,12211]
[12,9134,24,9141,24,9145,23,9149,13,9159,0,12221]
[12,9261,13,9270,24,9278,14,9291,13,9297,0,11211]
[12,9401,24,9409,24,9413,23,9420,13,9432,0,12221]
[12,9533,24,9544,24,9548,23,9555,13,9566,0,12221]
[12,9669,13,9673,13,9677,14,9684,13,9695,0,11111]
[12,9798,24,9806,24,9810,14,9821,13,9825,0,12211]
[12,9931,24,9940,24,9944,23,9949,13,9960,1,12221]
[12,10070,24,10087,24,10094,14,10103,13,10107,0,12211]
[12,10212,24,10221,24,10230,14,10240,13,10254,0,12211]
[12,10355,13,10364,13,10368,14,10373,13,10380,0,11111]
[12,10481,24,10499,13,10508,14,10512,13,10519,0,12111]
[12,10621,13,10631,13,10636,14,10640,13,10645,0,11111]
[12,10747,13,10751,13,10759,14,10763,13,10767,0,11111]
[12,10868,13,10876,13,10881,14,10885,13,10902,0,11111]
[12,11002,24,11010,24,11014,23,11020,13,11034,0,12221]
[12,11136,24,11145,24,11149,23,11154,24,11159,1,12222]
[21,11287,11,11300,11,11304,12,11308,13,11313,1,21111]
[21,11448,22,11452,24,11456,23,11465,13,11475,0,22221]
[12,11580,24,11589,24,11594,23,11598,13,11612,0,12221]
[12,11721,24,11738,24,11742,23,11750,13,11761,0,12221]
[12,11865,13,11874,13,11878,14,11881,13,11888,0,11111]
[12,11991,13,11997,13,12001,14,12005,13,12009,0,11111]
[12,12113,24,12121,24,12125,23,12130,13,12143,0,12221]
[12,12246,24,12254,24,12259,14,12276,13,12280,0,12211]
[12,12381,24,12392,24,12396,23,12400,24,12412,0,12222]
[12,12514,13,12521,24,12542,23,12551,13,12559,0,11221]
[12,12669,13,12676,13,12680,14,12683,13,12688,1,11111]
[12,12800,24,12808,24,12812,14,12825,13,12832,0,12211]
[12,12933,24,12946,24,12962,23,12968,13,12978,0,12221]
[12,13080,13,13086,24,13098,23,13102,24,13110,0,11222]
[12,13217,24,13226,24,13230,23,13234,13,13244,0,12221]
[12,13348,24,13357,24,13373,23,13380,13,13392,0,12221]
[12,13492,24,13508,24,13512,23,13517,24,13524,0,12222]
[12,13624,24,13633,24,13637,23,13642,24,13650,0,12222]
[12,13750,24,13760,24,13764,23,13770,13,13782,1,12221]
[12,13885,24,13898,24,13905,23,13910,24,13917,0,12222]
[12,14019,24,14033,24,14038,23,14042,24,14047,0,12222]
[21,14163,11,14177,11,14185,12,14202,13,14218,0,21111]
[12,14320,24,14329,24,14333,23,14337,13,14349,0,12221]
[12,14451,24,14464,24,14468,23,14476,24,14481,0,12222]
[12,14583,13,14595,13,14599,14,14604,13,14608,0,11111]
[12,14710,24,14726,24,14731,14,14747,13,14754,0,12211]
[12,14858,24,14866,24,14871,14,14888,13,14892,1,12211]
[21,15017,22,15022,24,15029,14,15039,13,15044,0,22211]
[12,15146,24,15171,13,15180,14,15184,13,15191,0,12111]
[21,15306,22,15310,24,15314,23,15319,13,15328,0,22221]
[12,15428,24,15442,24,15449,23,15453,24,15464,0,12222]
[12,15566,13,15590,13,15594,14,15598,13,15604,0,11111]
[12,15707,24,15720,24,15724,23,15729,13,15740,0,12221]
[12,15843,24,15853,24,15858,23,15866,13,15876,0,12221]
[12,15975,13,15999,13,16004,14,16009,13,16016,0,11111]
[12,16119,24,16128,13,16143,14,16149,13,16153,0,12111]
[12,16253,13,16278,24,16292,14,16302,13,16306,1,11211]
[21,16417,22,16426,24,16430,23,16436,24,16442,0,22222]
[12,16544,24,16555,13,16566,23,16581,13,16593,0,12121]
[21,16713,22,16717,13,16727,14,16731,13,16739,0,22111]
[12,16841,24,16849,24,16853,23,16857,13,16869,0,12221]
[12,16971,13,16984,13,16991,14,16995,13,17000,1,11111]
[21,17117,22,17124,24,17129,23,17140,24,17148,0,22222]
[12,17247,24,17260,24,17264,23,17271,13,17281,0,12221]
[12,17380,24,17392,24,17396,23,17402,24,17406,0,12222]
[12,17518,13,17523,13,17527,14,17531,13,17539,1,11111]
[21,17656,22,17664,24,17669,23,17674,24,17684,1,22222]
[21,17818,22,17825,24,17831,14,17840,13,17844,0,22211]
[12,17976,13,17980,13,17990,23,18006,24,18014,0,11122]
[12,18116,24,18132,24,18141,23,18148,24,18156,0,12222]
[12,18260,24,18272,24,18279,23,18285,13,18298,0,12221]
[12,18402,13,18411,24,18438,14,18449,13,18453,0,11211]
[12,18556,24,18569,24,18574,23,18583,24,18589,0,12222]
[12,18690,24,18706,24,18711,23,18726,13,18735,1,12221]
[12,18850,24,18869,24,18877,23,18884,24,18892,0,12222]
[21,19033,22,19047,24,19052,14,19063,13,19067,0,22211]
[12,19168,13,19172,24,19188,23,19194,24,19200,0,11222]
[12,19303,13,19311,24,19331,23,19344,13,19352,0,11221]
[12,19458,24,19469,24,19473,23,19487,13,19497,0,12221]
[12,19598,24,19610,24,19618,23,19623,13,19634,0,12221]
[12,19737,24,19749,24,19753,23,19759,24,19765,0,12222]
[12,19868,24,19876,24,19880,23,19885,24,19889,0,12222]
[12,19993,24,20002,13,20025,14,20030,13,20037,0,12111]
[12,20141,24,20152,24,20160,23,20169,13,20179,1,12221]
[21,20331,11,20342,22,20352,14,20364,13,20372,0,21211]
[12,20474,24,20490,24,20495,14,20508,13,20511,0,12211]
[12,20613,24,20626,24,20635,23,20641,24,20646,0,12222]
[21,20763,22,20774,24,20780,23,20785,13,20799,1,22221]
[12,20950,13,20972,13,20976,14,20980,13,20984,1,11111]
[12,21170,24,21196,13,21206,14,21211,13,21218,0,12111]
[12,21336,24,21349,24,21362,14,21372,13,21375,1,12211]
[21,21514,11,21524,22,21535,23,21542,24,21552,0,21222]
[12,21658,24,21678,24,21685,23,21690,24,21697,0,12222]
[12,21797,24,21815,24,21823,14,21831,13,21835,0,12211]
[21,21962,11,21972,22,21988,14,21996,13,22004,1,21211]
[12,22112,24,22147,13,22157,23,22169,13,22181,0,12121]
[12,22286,13,22298,13,22302,14,22307,13,22314,0,11111]
[12,22420,24,22455,13,22463,14,22469,13,22473,0,12111]
[12,22576,13,22585,13,22589,14,22593,13,22600,1,11111]
[12,22706,24,22721,24,22728,23,22736,13,22748,0,12221]
[12,22855,24,22876,24,22882,23,22890,13,22898,0,12221]
[12,22999,13,23009,24,23024,23,23029,24,23034,0,11222]
[12,23134,13,23144,24,23154,14,23165,13,23169,0,11211]
[12,23274,24,23285,24,23289,23,23294,24,23301,0,12222]
[12,23407,13,23417,13,23422,14,23426,13,23433,0,11111]
[12,23537,13,23563,13,23567,14,23571,13,23577,1,11111]
[21,23716,11,23728,22,23740,14,23748,13,23752,1,21211]
[21,23882,11,23892,22,23909,14,23917,13,23921,null,21211]

{"sheet":"!N418C10.096","index":24,"n_rows":180,"n_cols":48,"rows_kept":180,"cut":false,"hidden":false,"merged":[[4,39,4,42],[5,39,5,40],[4,44,4,47],[5,44,5,45],[4,24,4,27],[5,24,5,25],[4,29,4,32],[5,29,5,30],[4,34,4,37],[5,34,5,35],[1,1,1,2],[5,13,5,14],[42,13,42,14],[43,13,43,14],[4,19,4,22],[5,19,5,20]]}
["Report for:!N418C10.096"]
["Date:","<date>"]
["Hen:","<hen>",null,null,null,"Correct Sequence",{"$f":"Start!J2","v":21121},null,null,null,null,null,null,null,null,"Total Sequences in Data",{"$f":"4994-COUNTBLANK(L7:L5000)","v":174},null,null,null,null,"Total Sequences in Block Data",{"$f":"COUNTA(L7:L35)","v":29},null,null,null,"Total Sequences in Block Data",{"$f":"COUNTA(L36:L64)","v":29},null,null,null,"Total Sequences in Block Data",{"$f":"COUNTA(L65:L93)","v":29},null,null,null,"Total Sequences in Block Data",{"$f":"COUNTA(L94:L122)","v":29},null,null,null,"Total Sequences in Block Data",{"$f":"COUNTA(L123:L151)","v":29},null,null,null,"Total Sequences in Block Data",{"$f":"COUNTA(L152:L180)","v":29}]
[null,null,null,null,null,null,null,null,null,null,null,null,null,null,null,"Total Sequences in Summary",{"$f":"SUM(O7:O38)","v":173},null,null,null,null,"Total Sequences in Block Summary",{"$f":"SUM(U7:U38)","v":29},null,null,null,"Total Sequences in Block Summary",{"$f":"SUM(Z7:Z38)","v":29},null,null,null,"Total Sequences in Block Summary",{"$f":"SUM(AE7:AE38)","v":29},null,null,null,"Total Sequences in Block Summary",{"$f":"SUM(AJ7:AJ38)","v":29},null,null,null,"Total Sequences in Block Summary",{"$f":"SUM(AO7:AO38)","v":29},null,null,null,"Total Sequences in Block Summary",{"$f":"SUM(AT7:AT38)","v":28}]
[null,null,null,null,null,null,null,null,null,null,null,null,null,null,null,null,null,null,null,"Block 1",null,null,null,null,"Block 2",null,null,null,null,"Block 3",null,null,null,null,"Block 4",null,null,null,null,"Block 5",null,null,null,null,"Block 6"]
["Sequence\nComponent\n1","Time\n1","Sequence\nComponent\n2","Time\n2","Sequence\nComponent\n3","Time\n3","Sequence\nComponent\n4","Time\n4","Sequence\nComponent\n5","Time\n5","Correct?\n0=No 1=Yes","Sequence",null,"Frequency",null,"Relative Frequency","Variability",null,null,"Frequency",null,"Relative Frequency","Variability",null,"Frequency",null,"Relative Frequency","Variability",null,"Frequency",null,"Relative Frequency","Variability",null,"Frequency",null,"Relative Frequency","Variability",null,"Frequency",null,"Relative Frequency","Variability",null,"Frequency",null,"Relative Frequency","Variability"]
[21,23,11,33,11,38,12,45,13,57,0,21111,null,11111,{"$f":"COUNTIF($L$7:$L$500,N7)","v":64},{"$f":"O7/$Q$4","v":0.36994219653179189},{"$f":"IF(P7=0,0,(P7*((LOG(P7))/LOG(2))))","v":-0.53072951773844146},null,null,{"$f":"N7","v":11111},{"$f":"COUNTIF(L7:L35,T7)","v":2},{"$f":"U7/(W4-U25)","v":6.8965517241379309E-2},{"$f":"IF(V7=0,0,(V7*((LOG(V7))/LOG(2))))","v":-0.26606765483638428},null,{"$f":"N7","v":11111},{"$f":"COUNTIF(L36:L64,Y7)","v":6},{"$f":"Z7/(AB4-Z25)","v":0.20689655172413793},{"$f":"IF(AA7=0,0,(AA7*((LOG(AA7))/LOG(2))))","v":-0.4702796884978791},null,{"$f":"N7","v":11111},{"$f":"COUNTIF(L65:L93,AD7)","v":13},{"$f":"AE7/(AG4-AE25)","v":0.44827586206896552},{"$f":"IF(AF7=0,0,(AF7*((LOG(AF7))/LOG(2))))","v":-0.51889781382152544},null,{"$f":"N7","v":11111},{"$f":"COUNTIF(L94:L122,AI7)","v":9},{"$f":"AJ7/(AL4-AJ25)","v":0.31034482758620691},{"$f":"IF(AK7=0,0,(AK7*((LOG(AK7))/LOG(2))))","v":-0.52387944631611505},null,{"$f":"N7","v":11111},{"$f":"COUNTIF(L123:L151,AN7)","v":14},{"$f":"AO7/(AQ4-AO25)","v":0.48275862068965519},{"$f":"IF(AP7=0,0,(AP7*((LOG(AP7))/LOG(2))))","v":-0.50719879389584666},null,{"$f":"N7","v":11111},{"$f":"COUNTIF(L152:L180,AS7)","v":20},{"$f":"AT7/(AV4-AT25)","v":0.7142857142857143},{"$f":"IF(AU7=0,0,(AU7*((LOG(AU7))/LOG(2))))","v":-0.34673344797874411}]
[21,163,22,166,24,171,23,176,13,184,0,22221,null,11112,{"$f":"COUNTIF($L$7:$L$500,N8)","v":2},{"$f":"O8/$Q$4","v":1.1560693641618497E-2},{"$f":"IF(P8=0,0,(P8*((LOG(P8))/LOG(2))))","v":-7.438876563741878E-2},null,null,{"$f":"N8","v":11112},{"$f":"COUNTIF(L7:L35,T8)","v":1},{"$f":"U8/(W4-U25)","v":3.4482758620689655E-2},{"$f":"IF(V8=0,0,(V8*((LOG(V8))/LOG(2))))","v":-0.16751658603888178},null,{"$f":"N8","v":11112},{"$f":"COUNTIF(L36:L64,Y8)","v":0},{"$f":"Z8/(AB4-Z25)","v":0},{"$f":"IF(AA8=0,0,(AA8*((LOG(AA8))/LOG(2))))","v":0},null,{"$f":"N8","v":11112},{"$f":"COUNTIF(L65:L93,AD8)","v":0},{"$f":"AE8/(AG4-AE25)","v":0},{"$f":"IF(AF8=0,0,(AF8*((LOG(AF8))/LOG(2))))","v":0},null,{"$f":"N8","v":11112},{"$f":"COUNTIF(L94:L122,AI8)","v":0},{"$f":"AJ8/(AL4-AJ25)","v":0},{"$f":"IF(AK8=0,0,(AK8*((LOG(AK8))/LOG(2))))","v":0},null,{"$f":"N8","v":11112},{"$f":"COUNTIF(L123:L151,AN8)","v":1},{"$f":"AO8/(AQ4-AO25)","v":3.4482758620689655E-2},{"$f":"IF(AP8=0,0,(AP8*((LOG(AP8))/LOG(2))))","v":-0.16751658603888178},null,{"$f":"N8","v":11112},{"$f":"COUNTIF(L152:L180,AS8)","v":0},{"$f":"AT8/(AV4-AT25)","v":0},{"$f":"IF(AU8=0,0,(AU8*((LOG(AU8))/LOG(2))))","v":0}]
[12,284,13,289,13,293,23,301,24,306,0,11122,null,11121,{"$f":"COUNTIF($L$7:$L$500,N9)","v":2},{"$f":"O9/$Q$4","v":1.1560693641618497E-2},{"$f":"IF(P9=0,0,(P9*((LOG(P9))/LOG(2))))","v":-7.438876563741878E-2},null,null,{"$f":"N9","v":11121},{"$f":"COUNTIF(L7:L35,T9)","v":0},{"$f":"U9/(W4-U25)","v":0},{"$f":"IF(V9=0,0,(V9*((LOG(V9))/LOG(2))))","v":0},null,{"$f":"N9","v":11121},{"$f":"COUNTIF(L36:L64,Y9)","v":0},{"$f":"Z9/(AB4-Z25)","v":0},{"$f":"IF(AA9=0,0,(AA9*((LOG(AA9))/LOG(2))))","v":0},null,{"$f":"N9","v":11121},{"$f":"COUNTIF(L65:L93,AD9)","v":0},{"$f":"AE9/(AG4-AE25)","v":0},{"$f":"IF(AF9=0,0,(AF9*((LOG(AF9))/LOG(2))))","v":0},null,{"$f":"N9","v":11121},{"$f":"COUNTIF(L94:L122,AI9)","v":2},{"$f":"AJ9/(AL4-AJ25)","v":6.8965517241379309E-2},{"$f":"IF(AK9=0,0,(AK9*((LOG(AK9))/LOG(2))))","v":-0.26606765483638428},null,{"$f":"N9","v":11121},{"$f":"COUNTIF(L123:L151,AN9)","v":0},{"$f":"AO9/(AQ4-AO25)","v":0},{"$f":"IF(AP9=0,0,(AP9*((LOG(AP9))/LOG(2))))","v":0},null,{"$f":"N9","v":11121},{"$f":"COUNTIF(L152:L180,AS9)","v":0},{"$f":"AT9/(AV4-AT25)","v":0},{"$f":"IF(AU9=0,0,(AU9*((LOG(AU9))/LOG(2))))","v":0}]
[21,410,22,414,24,419,23,426,13,436,0,22221,null,11122,{"$f":"COUNTIF($L$7:$L$500,N10)","v":1},{"$f":"O10/$Q$4","v":5.7803468208092483E-3},{"$f":"IF(P10=0,0,(P10*((LOG(P10))/LOG(2))))","v":-4.2974729639518636E-2},null,null,{"$f":"N10","v":11122},{"$f":"COUNTIF(L7:L35,T10)","v":1},{"$f":"U10/(W4-U25)","v":3.4482758620689655E-2},{"$f":"IF(V10=0,0,(V10*((LOG(V10))/LOG(2))))","v":-0.16751658603888178},null,{"$f":"N10","v":11122},{"$f":"COUNTIF(L36:L64,Y10)","v":0},{"$f":"Z10/(AB4-Z25)","v":0},{"$f":"IF(AA10=0,0,(AA10*((LOG(AA10))/LOG(2))))","v":0},null,{"$f":"N10","v":11122},{"$f":"COUNTIF(L65:L93,AD10)","v":0},{"$f":"AE10/(AG4-AE25)","v":0},{"$f":"IF(AF10=0,0,(AF10*((LOG(AF10))/LOG(2))))","v":0},null,{"$f":"N10","v":11122},{"$f":"COUNTIF(L94:L122,AI10)","v":0},{"$f":"AJ10/(AL4-AJ25)","v":0},{"$f":"IF(AK10=0,0,(AK10*((LOG(AK10))/LOG(2))))","v":0},null,{"$f":"N10","v":11122},{"$f":"COUNTIF(L123:L151,AN10)","v":0},{"$f":"AO10/(AQ4-AO25)","v":0},{"$f":"IF(AP10=0,0,(AP10*((LOG(AP10))/LOG(2))))","v":0},null,{"$f":"N10","v":11122},{"$f":"COUNTIF(L152:L180,AS10)","v":0},{"$f":"AT10/(AV4-AT25)","v":0},{"$f":"IF(AU10=0,0,(AU10*((LOG(AU10))/LOG(2))))","v":0}]
[21,544,22,548,24,552,23,559,13,566,1,22221,null,11211,{"$f":"COUNTIF($L$7:$L$500,N11)","v":7},{"$f":"O11/$Q$4","v":4.046242774566474E-2},{"$f":"IF(P11=0,0,(P11*((LOG(P11))/LOG(2))))","v":-0.18723071178643838},null,null,{"$f":"N11","v":11211},{"$f":"COUNTIF(L7:L35,T11)","v":1},{"$f":"U11/(W4-U25)","v":3.4482758620689655E-2},{"$f":"IF(V11=0,0,(V11*((LOG(V11))/LOG(2))))","v":-0.16751658603888178},null,{"$f":"N11","v":11211},{"$f":"COUNTIF(L36:L64,Y11)","v":1},{"$f":"Z11/(AB4-Z25)","v":3.4482758620689655E-2},{"$f":"IF(AA11=0,0,(AA11*((LOG(AA11))/LOG(2))))","v":-0.16751658603888178},null,{"$f":"N11","v":11211},{"$f":"COUNTIF(L65:L93,AD11)","v":1},{"$f":"AE11/(AG4-AE25)","v":3.4482758620689655E-2},{"$f":"IF(AF11=0,0,(AF11*((LOG(AF11))/LOG(2))))","v":-0.16751658603888178},null,{"$f":"N11","v":11211},{"$f":"COUNTIF(L94:L122,AI11)","v":2},{"$f":"AJ11/(AL4-AJ25)","v":6.8965517241379309E-2},{"$f":"IF(AK11=0,0,(AK11*((LOG(AK11))/LOG(2))))","v":-0.26606765483638428},null,{"$f":"N11","v":11211},{"$f":"COUNTIF(L123:L151,AN11)","v":2},{"$f":"AO11/(AQ4-AO25)","v":6.8965517241379309E-2},{"$f":"IF(AP11=0,0,(AP11*((LOG(AP11))/LOG(2))))","v":-0.26606765483638428},null,{"$f":"N11","v":11211},{"$f":"COUNTIF(L152:L180,AS11)","v":0},{"$f":"AT11/(AV4-AT25)","v":0},{"$f":"IF(AU11=0,0,(AU11*((LOG(AU11))/LOG(2))))","v":0}]
[12,666,13,670,24,682,14,694,13,703,0,11211,null,11212,{"$f":"COUNTIF($L$7:$L$500,N12)","v":0},{"$f":"O12/$Q$4","v":0},{"$f":"IF(P12=0,0,(P12*((LOG(P12))/LOG(2))))","v":0},null,null,{"$f":"N12","v":11212},{"$f":"COUNTIF(L7:L35,T12)","v":0},{"$f":"U12/(W4-U25)","v":0},{"$f":"IF(V12=0,0,(V12*((LOG(V12))/LOG(2))))","v":0},null,{"$f":"N12","v":11212},{"$f":"COUNTIF(L36:L64,Y12)","v":0},{"$f":"Z12/(AB4-Z25)","v":0},{"$f":"IF(AA12=0,0,(AA12*((LOG(AA12))/LOG(2))))","v":0},null,{"$f":"N12","v":11212},{"$f":"COUNTIF(L65:L93,AD12)","v":0},{"$f":"AE12/(AG4-AE25)","v":0},{"$f":"IF(AF12=0,0,(AF12*((LOG(AF12))/LOG(2))))","v":0},null,{"$f":"N12","v":11212},{"$f":"COUNTIF(L94:L122,AI12)","v":0},{"$f":"AJ12/(AL4-AJ25)","v":0},{"$f":"IF(AK12=0,0,(AK12*((LOG(AK12))/LOG(2))))","v":0},null,{"$f":"N12","v":11212},{"$f":"COUNTIF(L123:L151,AN12)","v":0},{"$f":"AO12/(AQ4-AO25)","v":0},{"$f":"IF(AP12=0,0,(AP12*((LOG(AP12))/LOG(2))))","v":0},null,{"$f":"N12","v":11212},{"$f":"COUNTIF(L152:L180,AS12)","v":0},{"$f":"AT12/(AV4-AT25)","v":0},{"$f":"IF(AU12=0,0,(AU12*((LOG(AU12))/LOG(2))))","v":0}]
[12,806,24,814,24,818,23,824,24,831,0,12222,null,11221,{"$f":"COUNTIF($L$7:$L$500,N13)","v":4},{"$f":"O13/$Q$4","v":2.3121387283236993E-2},{"$f":"IF(P13=0,0,(P13*((LOG(P13))/LOG(2))))","v":-0.12565614399160055},null,null,{"$f":"N13","v":11221},{"$f":"COUNTIF(L7:L35,T13)","v":0},{"$f":"U13/(W4-U25)","v":0},{"$f":"IF(V13=0,0,(V13*((LOG(V13))/LOG(2))))","v":0},null,{"$f":"N13","v":11221},{"$f":"COUNTIF(L36:L64,Y13)","v":1},{"$f":"Z13/(AB4-Z25)","v":3.4482758620689655E-2},{"$f":"IF(AA13=0,0,(AA13*((LOG(AA13))/LOG(2))))","v":-0.16751658603888178},null,{"$f":"N13","v":11221},{"$f":"COUNTIF(L65:L93,AD13)","v":0},{"$f":"AE13/(AG4-AE25)","v":0},{"$f":"IF(AF13=0,0,(AF13*((LOG(AF13))/LOG(2))))","v":0},null,{"$f":"N13","v":11221},{"$f":"COUNTIF(L94:L122,AI13)","v":0},{"$f":"AJ13/(AL4-AJ25)","v":0},{"$f":"IF(AK13=0,0,(AK13*((LOG(AK13))/LOG(2))))","v":0},null,{"$f":"N13","v":11221},{"$f":"COUNTIF(L123:L151,AN13)","v":2},{"$f":"AO13/(AQ4-AO25)","v":6.8965517241379309E-2},{"$f":"IF(AP13=0,0,(AP13*((LOG(AP13))/LOG(2))))","v":-0.26606765483638428},null,{"$f":"N13","v":11221},{"$f":"COUNTIF(L152:L180,AS13)","v":1},{"$f":"AT13/(AV4-AT25)","v":3.5714285714285712E-2},{"$f":"IF(AU13=0,0,(AU13*((LOG(AU13))/LOG(2))))","v":-0.17169124721634299}]
[12,933,13,943,13,951,14,955,13,967,0,11111,null,11222,{"$f":"COUNTIF($L$7:$L$500,N14)","v":2},{"$f":"O14/$Q$4","v":1.1560693641618497E-2},{"$f":"IF(P14=0,0,(P14*((LOG(P14))/LOG(2))))","v":-7.438876563741878E-2},null,null,{"$f":"N14","v":11222},{"$f":"COUNTIF(L7:L35,T14)","v":0},{"$f":"U14/(W4-U25)","v":0},{"$f":"IF(V14=0,0,(V14*((LOG(V14))/LOG(2))))","v":0},null,{"$f":"N14","v":11222},{"$f":"COUNTIF(L36:L64,Y14)","v":0},{"$f":"Z14/(AB4-Z25)","v":0},{"$f":"IF(AA14=0,0,(AA14*((LOG(AA14))/LOG(2))))","v":0},null,{"$f":"N14","v":11222},{"$f":"COUNTIF(L65:L93,AD14)","v":1},{"$f":"AE14/(AG4-AE25)","v":3.4482758620689655E-2},{"$f":"IF(AF14=0,0,(AF14*((LOG(AF14))/LOG(2))))","v":-0.16751658603888178},null,{"$f":"N14","v":11222},{"$f":"COUNTIF(L94:L122,AI14)","v":0},{"$f":"AJ14/(AL4-AJ25)","v":0},{"$f":"IF(AK14=0,0,(AK14*((LOG(AK14))/LOG(2))))","v":0},null,{"$f":"N14","v":11222},{"$f":"COUNTIF(L123:L151,AN14)","v":1},{"$f":"AO14/(AQ4-AO25)","v":3.4482758620689655E-2},{"$f":"IF(AP14=0,0,(AP14*((LOG(AP14))/LOG(2))))","v":-0.16751658603888178},null,{"$f":"N14","v":11222},{"$f":"COUNTIF(L152:L180,AS14)","v":0},{"$f":"AT14/(AV4-AT25)","v":0},{"$f":"IF(AU14=0,0,(AU14*((LOG(AU14))/LOG(2))))","v":0}]
[21,1073,22,1076,24,1080,23,1084,24,1089,0,22222,null,12111,{"$f":"COUNTIF($L$7:$L$500,N15)","v":13},{"$f":"O15/$Q$4","v":7.5144508670520235E-2},{"$f":"IF(P15=0,0,(P15*((LOG(P15))/LOG(2))))","v":-0.28060376082915156},null,null,{"$f":"N15","v":12111},{"$f":"COUNTIF(L7:L35,T15)","v":2},{"$f":"U15/(W4-U25)","v":6.8965517241379309E-2},{"$f":"IF(V15=0,0,(V15*((LOG(V15))/LOG(2))))","v":-0.26606765483638428},null,{"$f":"N15","v":12111},{"$f":"COUNTIF(L36:L64,Y15)","v":0},{"$f":"Z15/(AB4-Z25)","v":0},{"$f":"IF(AA15=0,0,(AA15*((LOG(AA15))/LOG(2))))","v":0},null,{"$f":"N15","v":12111},{"$f":"COUNTIF(L65:L93,AD15)","v":6},{"$f":"AE15/(AG4-AE25)","v":0.20689655172413793},{"$f":"IF(AF15=0,0,(AF15*((LOG(AF15))/LOG(2))))","v":-0.4702796884978791},null,{"$f":"N15","v":12111},{"$f":"COUNTIF(L94:L122,AI15)","v":2},{"$f":"AJ15/(AL4-AJ25)","v":6.8965517241379309E-2},{"$f":"IF(AK15=0,0,(AK15*((LOG(AK15))/LOG(2))))","v":-0.26606765483638428},null,{"$f":"N15","v":12111},{"$f":"COUNTIF(L123:L151,AN15)","v":2},{"$f":"AO15/(AQ4-AO25)","v":6.8965517241379309E-2},{"$f":"IF(AP15=0,0,(AP15*((LOG(AP15))/LOG(2))))","v":-0.26606765483638428},null,{"$f":"N15","v":12111},{"$f":"COUNTIF(L152:L180,AS15)","v":1},{"$f":"AT15/(AV4-AT25)","v":3.5714285714285712E-2},{"$f":"IF(AU15=0,0,(AU15*((LOG(AU15))/LOG(2))))","v":-0.17169124721634299}]
[21,1196,22,1200,24,1204,23,1208,13,1217,0,22221,null,12112,{"$f":"COUNTIF($L$7:$L$500,N16)","v":0},{"$f":"O16/$Q$4","v":0},{"$f":"IF(P16=0,0,(P16*((LOG(P16))/LOG(2))))","v":0},null,null,{"$f":"N16","v":12112},{"$f":"COUNTIF(L7:L35,T16)","v":0},{"$f":"U16/(W4-U25)","v":0},{"$f":"IF(V16=0,0,(V16*((LOG(V16))/LOG(2))))","v":0},null,{"$f":"N16","v":12112},{"$f":"COUNTIF(L36:L64,Y16)","v":0},{"$f":"Z16/(AB4-Z25)","v":0},{"$f":"IF(AA16=0,0,(AA16*((LOG(AA16))/LOG(2))))","v":0},null,{"$f":"N16","v":12112},{"$f":"COUNTIF(L65:L93,AD16)","v":0},{"$f":"AE16/(AG4-AE25)","v":0},{"$f":"IF(AF16=0,0,(AF16*((LOG(AF16))/LOG(2))))","v":0},null,{"$f":"N16","v":12112},{"$f":"COUNTIF(L94:L122,AI16)","v":0},{"$f":"AJ16/(AL4-AJ25)","v":0},{"$f":"IF(AK16=0,0,(AK16*((LOG(AK16))/LOG(2))))","v":0},null,{"$f":"N16","v":12112},{"$f":"COUNTIF(L123:L151,AN16)","v":0},{"$f":"AO16/(AQ4-AO25)","v":0},{"$f":"IF(AP16=0,0,(AP16*((LOG(AP16))/LOG(2))))","v":0},null,{"$f":"N16","v":12112},{"$f":"COUNTIF(L152:L180,AS16)","v":0},{"$f":"AT16/(AV4-AT25)","v":0},{"$f":"IF(AU16=0,0,(AU16*((LOG(AU16))/LOG(2))))","v":0}]
[21,1330,22,1334,24,1338,23,1343,13,1353,0,22221,null,12121,{"$f":"COUNTIF($L$7:$L$500,N17)","v":0},{"$f":"O17/$Q$4","v":0},{"$f":"IF(P17=0,0,(P17*((LOG(P17))/LOG(2))))","v":0},null,null,{"$f":"N17","v":12121},{"$f":"COUNTIF(L7:L35,T17)","v":0},{"$f":"U17/(W4-U25)","v":0},{"$f":"IF(V17=0,0,(V17*((LOG(V17))/LOG(2))))","v":0},null,{"$f":"N17","v":12121},{"$f":"COUNTIF(L36:L64,Y17)","v":0},{"$f":"Z17/(AB4-Z25)","v":0},{"$f":"IF(AA17=0,0,(AA17*((LOG(AA17))/LOG(2))))","v":0},null,{"$f":"N17","v":12121},{"$f":"COUNTIF(L65:L93,AD17)","v":0},{"$f":"AE17/(AG4-AE25)","v":0},{"$f":"IF(AF17=0,0,(AF17*((LOG(AF17))/LOG(2))))","v":0},null,{"$f":"N17","v":12121},{"$f":"COUNTIF(L94:L122,AI17)","v":0},{"$f":"AJ17/(AL4-AJ25)","v":0},{"$f":"IF(AK17=0,0,(AK17*((LOG(AK17))/LOG(2))))","v":0},null,{"$f":"N17","v":12121},{"$f":"COUNTIF(L123:L151,AN17)","v":0},{"$f":"AO17/(AQ4-AO25)","v":0},{"$f":"IF(AP17=0,0,(AP17*((LOG(AP17))/LOG(2))))","v":0},null,{"$f":"N17","v":12121},{"$f":"COUNTIF(L152:L180,AS17)","v":0},{"$f":"AT17/(AV4-AT25)","v":0},{"$f":"IF(AU17=0,0,(AU17*((LOG(AU17))/LOG(2))))","v":0}]
[12,1457,24,1469,24,1473,23,1477,13,1488,0,12221,null,12122,{"$f":"COUNTIF($L$7:$L$500,N18)","v":0},{"$f":"O18/$Q$4","v":0},{"$f":"IF(P18=0,0,(P18*((LOG(P18))/LOG(2))))","v":0},null,null,{"$f":"N18","v":12122},{"$f":"COUNTIF(L7:L35,T18)","v":0},{"$f":"U18/(W4-U25)","v":0},{"$f":"IF(V18=0,0,(V18*((LOG(V18))/LOG(2))))","v":0},null,{"$f":"N18","v":12122},{"$f":"COUNTIF(L36:L64,Y18)","v":0},{"$f":"Z18/(AB4-Z25)","v":0},{"$f":"IF(AA18=0,0,(AA18*((LOG(AA18))/LOG(2))))","v":0},null,{"$f":"N18","v":12122},{"$f":"COUNTIF(L65:L93,AD18)","v":0},{"$f":"AE18/(AG4-AE25)","v":0},{"$f":"IF(AF18=0,0,(AF18*((LOG(AF18))/LOG(2))))","v":0},null,{"$f":"N18","v":12122},{"$f":"COUNTIF(L94:L122,AI18)","v":0},{"$f":"AJ18/(AL4-AJ25)","v":0},{"$f":"IF(AK18=0,0,(AK18*((LOG(AK18))/LOG(2))))","v":0},null,{"$f":"N18","v":12122},{"$f":"COUNTIF(L123:L151,AN18)","v":0},{"$f":"AO18/(AQ4-AO25)","v":0},{"$f":"IF(AP18=0,0,(AP18*((LOG(AP18))/LOG(2))))","v":0},null,{"$f":"N18","v":12122},{"$f":"COUNTIF(L152:L180,AS18)","v":0},{"$f":"AT18/(AV4-AT25)","v":0},{"$f":"IF(AU18=0,0,(AU18*((LOG(AU18))/LOG(2))))","v":0}]
[12,1593,24,1601,24,1605,23,1616,24,1621,0,12222,null,12211,{"$f":"COUNTIF($L$7:$L$500,N19)","v":18},{"$f":"O19/$Q$4","v":0.10404624277456648},{"$f":"IF(P19=0,0,(P19*((LOG(P19))/LOG(2))))","v":-0.33968010445953423},null,null,{"$f":"N19","v":12211},{"$f":"COUNTIF(L7:L35,T19)","v":2},{"$f":"U19/(W4-U25)","v":6.8965517241379309E-2},{"$f":"IF(V19=0,0,(V19*((LOG(V19))/LOG(2))))","v":-0.26606765483638428},null,{"$f":"N19","v":12211},{"$f":"COUNTIF(L36:L64,Y19)","v":7},{"$f":"Z19/(AB4-Z25)","v":0.2413793103448276},{"$f":"IF(AA19=0,0,(AA19*((LOG(AA19))/LOG(2))))","v":-0.49497870729275095},null,{"$f":"N19","v":12211},{"$f":"COUNTIF(L65:L93,AD19)","v":0},{"$f":"AE19/(AG4-AE25)","v":0},{"$f":"IF(AF19=0,0,(AF19*((LOG(AF19))/LOG(2))))","v":0},null,{"$f":"N19","v":12211},{"$f":"COUNTIF(L94:L122,AI19)","v":7},{"$f":"AJ19/(AL4-AJ25)","v":0.2413793103448276},{"$f":"IF(AK19=0,0,(AK19*((LOG(AK19))/LOG(2))))","v":-0.49497870729275095},null,{"$f":"N19","v":12211},{"$f":"COUNTIF(L123:L151,AN19)","v":0},{"$f":"AO19/(AQ4-AO25)","v":0},{"$f":"IF(AP19=0,0,(AP19*((LOG(AP19))/LOG(2))))","v":0},null,{"$f":"N19","v":12211},{"$f":"COUNTIF(L152:L180,AS19)","v":2},{"$f":"AT19/(AV4-AT25)","v":7.1428571428571425E-2},{"$f":"IF(AU19=0,0,(AU19*((LOG(AU19))/LOG(2))))","v":-0.27195392300411453}]
[12,1722,24,1733,24,1738,14,1748,13,1758,1,12211,null,12212,{"$f":"COUNTIF($L$7:$L$500,N20)","v":0},{"$f":"O20/$Q$4","v":0},{"$f":"IF(P20=0,0,(P20*((LOG(P20))/LOG(2))))","v":0},null,null,{"$f":"N20","v":12212},{"$f":"COUNTIF(L7:L35,T20)","v":0},{"$f":"U20/(W4-U25)","v":0},{"$f":"IF(V20=0,0,(V20*((LOG(V20))/LOG(2))))","v":0},null,{"$f":"N20","v":12212},{"$f":"COUNTIF(L36:L64,Y20)","v":0},{"$f":"Z20/(AB4-Z25)","v":0},{"$f":"IF(AA20=0,0,(AA20*((LOG(AA20))/LOG(2))))","v":0},null,{"$f":"N20","v":12212},{"$f":"COUNTIF(L65:L93,AD20)","v":0},{"$f":"AE20/(AG4-AE25)","v":0},{"$f":"IF(AF20=0,0,(AF20*((LOG(AF20))/LOG(2))))","v":0},null,{"$f":"N20","v":12212},{"$f":"COUNTIF(L94:L122,AI20)","v":0},{"$f":"AJ20/(AL4-AJ25)","v":0},{"$f":"IF(AK20=0,0,(AK20*((LOG(AK20))/LOG(2))))","v":0},null,{"$f":"N20","v":12212},{"$f":"COUNTIF(L123:L151,AN20)","v":0},{"$f":"AO20/(AQ4-AO25)","v":0},{"$f":"IF(AP20=0,0,(AP20*((LOG(AP20))/LOG(2))))","v":0},null,{"$f":"N20","v":12212},{"$f":"COUNTIF(L152:L180,AS20)","v":0},{"$f":"AT20/(AV4-AT25)","v":0},{"$f":"IF(AU20=0,0,(AU20*((LOG(AU20))/LOG(2))))","v":0}]
[12,1857,24,1880,24,1884,23,1889,24,1893,0,12222,null,12221,{"$f":"COUNTIF($L$7:$L$500,N21)","v":21},{"$f":"O21/$Q$4","v":0.12138728323699421},{"$f":"IF(P21=0,0,(P21*((LOG(P21))/LOG(2))))","v":-0.36929784336426158},null,null,{"$f":"N21","v":12221},{"$f":"COUNTIF(L7:L35,T21)","v":3},{"$f":"U21/(W4-U25)","v":0.10344827586206896},{"$f":"IF(V21=0,0,(V21*((LOG(V21))/LOG(2))))","v":-0.33858812011100858},null,{"$f":"N21","v":12221},{"$f":"COUNTIF(L36:L64,Y21)","v":7},{"$f":"Z21/(AB4-Z25)","v":0.2413793103448276},{"$f":"IF(AA21=0,0,(AA21*((LOG(AA21))/LOG(2))))","v":-0.49497870729275095},null,{"$f":"N21","v":12221},{"$f":"COUNTIF(L65:L93,AD21)","v":2},{"$f":"AE21/(AG4-AE25)","v":6.8965517241379309E-2},{"$f":"IF(AF21=0,0,(AF21*((LOG(AF21))/LOG(2))))","v":-0.26606765483638428},null,{"$f":"N21","v":12221},{"$f":"COUNTIF(L94:L122,AI21)","v":3},{"$f":"AJ21/(AL4-AJ25)","v":0.10344827586206896},{"$f":"IF(AK21=0,0,(AK21*((LOG(AK21))/LOG(2))))","v":-0.33858812011100858},null,{"$f":"N21","v":12221},{"$f":"COUNTIF(L123:L151,AN21)","v":3},{"$f":"AO21/(AQ4-AO25)","v":0.10344827586206896},{"$f":"IF(AP21=0,0,(AP21*((LOG(AP21))/LOG(2))))","v":-0.33858812011100858},null,{"$f":"N21","v":12221},{"$f":"COUNTIF(L152:L180,AS21)","v":3},{"$f":"AT21/(AV4-AT25)","v":0.10714285714285714},{"$f":"IF(AU21=0,0,(AU21*((LOG(AU21))/LOG(2))))","v":-0.34525633085747659}]
[12,1997,24,2013,24,2016,14,2024,13,2034,0,12211,null,12222,{"$f":"COUNTIF($L$7:$L$500,N22)","v":17},{"$f":"O22/$Q$4","v":9.8265895953757232E-2},{"$f":"IF(P22=0,0,(P22*((LOG(P22))/LOG(2))))","v":-0.32891220559866208},null,null,{"$f":"N22","v":12222},{"$f":"COUNTIF(L7:L35,T22)","v":3},{"$f":"U22/(W4-U25)","v":0.10344827586206896},{"$f":"IF(V22=0,0,(V22*((LOG(V22))/LOG(2))))","v":-0.33858812011100858},null,{"$f":"N22","v":12222},{"$f":"COUNTIF(L36:L64,Y22)","v":3},{"$f":"Z22/(AB4-Z25)","v":0.10344827586206896},{"$f":"IF(AA22=0,0,(AA22*((LOG(AA22))/LOG(2))))","v":-0.33858812011100858},null,{"$f":"N22","v":12222},{"$f":"COUNTIF(L65:L93,AD22)","v":6},{"$f":"AE22/(AG4-AE25)","v":0.20689655172413793},{"$f":"IF(AF22=0,0,(AF22*((LOG(AF22))/LOG(2))))","v":-0.4702796884978791},null,{"$f":"N22","v":12222},{"$f":"COUNTIF(L94:L122,AI22)","v":2},{"$f":"AJ22/(AL4-AJ25)","v":6.8965517241379309E-2},{"$f":"IF(AK22=0,0,(AK22*((LOG(AK22))/LOG(2))))","v":-0.26606765483638428},null,{"$f":"N22","v":12222},{"$f":"COUNTIF(L123:L151,AN22)","v":2},{"$f":"AO22/(AQ4-AO25)","v":6.8965517241379309E-2},{"$f":"IF(AP22=0,0,(AP22*((LOG(AP22))/LOG(2))))","v":-0.26606765483638428},null,{"$f":"N22","v":12222},{"$f":"COUNTIF(L152:L180,AS22)","v":1},{"$f":"AT22/(AV4-AT25)","v":3.5714285714285712E-2},{"$f":"IF(AU22=0,0,(AU22*((LOG(AU22))/LOG(2))))","v":-0.17169124721634299}]
[21,2154,22,2158,24,2162,14,2170,13,2184,0,22211,null,21111,{"$f":"COUNTIF($L$7:$L$500,N23)","v":2},{"$f":"O23/$Q$4","v":1.1560693641618497E-2},{"$f":"IF(P23=0,0,(P23*((LOG(P23))/LOG(2))))","v":-7.438876563741878E-2},null,null,{"$f":"N23","v":21111},{"$f":"COUNTIF(L7:L35,T23)","v":2},{"$f":"U23/(W4-U25)","v":6.8965517241379309E-2},{"$f":"IF(V23=0,0,(V23*((LOG(V23))/LOG(2))))","v":-0.26606765483638428},null,{"$f":"N23","v":21111},{"$f":"COUNTIF(L36:L64,Y23)","v":0},{"$f":"Z23/(AB4-Z25)","v":0},{"$f":"IF(AA23=0,0,(AA23*((LOG(AA23))/LOG(2))))","v":0},null,{"$f":"N23","v":21111},{"$f":"COUNTIF(L65:L93,AD23)","v":0},{"$f":"AE23/(AG4-AE25)","v":0},{"$f":"IF(AF23=0,0,(AF23*((LOG(AF23))/LOG(2))))","v":0},null,{"$f":"N23","v":21111},{"$f":"COUNTIF(L94:L122,AI23)","v":0},{"$f":"AJ23/(AL4-AJ25)","v":0},{"$f":"IF(AK23=0,0,(AK23*((LOG(AK23))/LOG(2))))","v":0},null,{"$f":"N23","v":21111},{"$f":"COUNTIF(L123:L151,AN23)","v":0},{"$f":"AO23/(AQ4-AO25)","v":0},{"$f":"IF(AP23=0,0,(AP23*((LOG(AP23))/LOG(2))))","v":0},null,{"$f":"N23","v":21111},{"$f":"COUNTIF(L152:L180,AS23)","v":0},{"$f":"AT23/(AV4-AT25)","v":0},{"$f":"IF(AU23=0,0,(AU23*((LOG(AU23))/LOG(2))))","v":0}]
[21,2307,22,2315,24,2322,14,2333,13,2341,0,22211,null,21112,{"$f":"COUNTIF($L$7:$L$500,N24)","v":0},{"$f":"O24/$Q$4","v":0},{"$f":"IF(P24=0,0,(P24*((LOG(P24))/LOG(2))))","v":0},null,null,{"$f":"N24","v":21112},{"$f":"COUNTIF(L7:L35,T24)","v":0},{"$f":"U24/(W4-U25)","v":0},{"$f":"IF(V24=0,0,(V24*((LOG(V24))/LOG(2))))","v":0},null,{"$f":"N24","v":21112},{"$f":"COUNTIF(L36:L64,Y24)","v":0},{"$f":"Z24/(AB4-Z25)","v":0},{"$f":"IF(AA24=0,0,(AA24*((LOG(AA24))/LOG(2))))","v":0},null,{"$f":"N24","v":21112},{"$f":"COUNTIF(L65:L93,AD24)","v":0},{"$f":"AE24/(AG4-AE25)","v":0},{"$f":"IF(AF24=0,0,(AF24*((LOG(AF24))/LOG(2))))","v":0},null,{"$f":"N24","v":21112},{"$f":"COUNTIF(L94:L122,AI24)","v":0},{"$f":"AJ24/(AL4-AJ25)","v":0},{"$f":"IF(AK24=0,0,(AK24*((LOG(AK24))/LOG(2))))","v":0},null,{"$f":"N24","v":21112},{"$f":"COUNTIF(L123:L151,AN24)","v":0},{"$f":"AO24/(AQ4-AO25)","v":0},{"$f":"IF(AP24=0,0,(AP24*((LOG(AP24))/LOG(2))))","v":0},null,{"$f":"N24","v":21112},{"$f":"COUNTIF(L152:L180,AS24)","v":0},{"$f":"AT24/(AV4-AT25)","v":0},{"$f":"IF(AU24=0,0,(AU24*((LOG(AU24))/LOG(2))))","v":0}]
[21,2455,22,2460,13,2470,14,2478,13,2488,0,22111,null,21121,{"$f":"COUNTIF($L$7:$L$500,N25)","v":0},{"$f":"O25/$Q$4","v":0},{"$f":"IF(P25=0,0,(P25*((LOG(P25))/LOG(2))))","v":0},null,null,{"$f":"N25","v":21121},{"$f":"COUNTIF(L7:L35,T25)","v":0},null,null,null,{"$f":"N25","v":21121},{"$f":"COUNTIF(L36:L64,Y25)","v":0},null,null,null,{"$f":"N25","v":21121},{"$f":"COUNTIF(L65:L93,AD25)","v":0},null,null,null,{"$f":"N25","v":21121},{"$f":"COUNTIF(L94:L122,AI25)","v":0},null,null,null,{"$f":"N25","v":21121},{"$f":"COUNTIF(L123:L151,AN25)","v":0},null,null,null,{"$f":"N25","v":21121},{"$f":"COUNTIF(L152:L180,AS25)","v":0}]
[21,2598,11,2610,11,2619,12,2625,13,2633,0,21111,null,21122,{"$f":"COUNTIF($L$7:$L$500,N26)","v":0},{"$f":"O26/$Q$4","v":0},{"$f":"IF(P26=0,0,(P26*((LOG(P26))/LOG(2))))","v":0},null,null,{"$f":"N26","v":21122},{"$f":"COUNTIF(L7:L35,T26)","v":0},{"$f":"U26/(W4-U25)","v":0},{"$f":"IF(V26=0,0,(V26*((LOG(V26))/LOG(2))))","v":0},null,{"$f":"N26","v":21122},{"$f":"COUNTIF(L36:L64,Y26)","v":0},{"$f":"Z26/(AB4-Z25)","v":0},{"$f":"IF(AA26=0,0,(AA26*((LOG(AA26))/LOG(2))))","v":0},null,{"$f":"N26","v":21122},{"$f":"COUNTIF(L65:L93,AD26)","v":0},{"$f":"AE26/(AG4-AE25)","v":0},{"$f":"IF(AF26=0,0,(AF26*((LOG(AF26))/LOG(2))))","v":0},null,{"$f":"N26","v":21122},{"$f":"COUNTIF(L94:L122,AI26)","v":0},{"$f":"AJ26/(AL4-AJ25)","v":0},{"$f":"IF(AK26=0,0,(AK26*((LOG(AK26))/LOG(2))))","v":0},null,{"$f":"N26","v":21122},{"$f":"COUNTIF(L123:L151,AN26)","v":0},{"$f":"AO26/(AQ4-AO25)","v":0},{"$f":"IF(AP26=0,0,(AP26*((LOG(AP26))/LOG(2))))","v":0},null,{"$f":"N26","v":21122},{"$f":"COUNTIF(L152:L180,AS26)","v":0},{"$f":"AT26/(AV4-AT25)","v":0},{"$f":"IF(AU26=0,0,(AU26*((LOG(AU26))/LOG(2))))","v":0}]
[12,2738,24,2755,24,2760,23,2764,13,2780,1,12221,null,21211,{"$f":"COUNTIF($L$7:$L$500,N27)","v":0},{"$f":"O27/$Q$4","v":0},{"$f":"IF(P27=0,0,(P27*((LOG(P27))/LOG(2))))","v":0},null,null,{"$f":"N27","v":21211},{"$f":"COUNTIF(L7:L35,T27)","v":0},{"$f":"U27/(W4-U25)","v":0},{"$f":"IF(V27=0,0,(V27*((LOG(V27))/LOG(2))))","v":0},null,{"$f":"N27","v":21211},{"$f":"COUNTIF(L36:L64,Y27)","v":0},{"$f":"Z27/(AB4-Z25)","v":0},{"$f":"IF(AA27=0,0,(AA27*((LOG(AA27))/LOG(2))))","v":0},null,{"$f":"N27","v":21211},{"$f":"COUNTIF(L65:L93,AD27)","v":0},{"$f":"AE27/(AG4-AE25)","v":0},{"$f":"IF(AF27=0,0,(AF27*((LOG(AF27))/LOG(2))))","v":0},null,{"$f":"N27","v":21211},{"$f":"COUNTIF(L94:L122,AI27)","v":0},{"$f":"AJ27/(AL4-AJ25)","v":0},{"$f":"IF(AK27=0,0,(AK27*((LOG(AK27))/LOG(2))))","v":0},null,{"$f":"N27","v":21211},{"$f":"COUNTIF(L123:L151,AN27)","v":0},{"$f":"AO27/(AQ4-AO25)","v":0},{"$f":"IF(AP27=0,0,(AP27*((LOG(AP27))/LOG(2))))","v":0},null,{"$f":"N27","v":21211},{"$f":"COUNTIF(L152:L180,AS27)","v":0},{"$f":"AT27/(AV4-AT25)","v":0},{"$f":"IF(AU27=0,0,(AU27*((LOG(AU27))/LOG(2))))","v":0}]
[21,2905,22,2909,24,2914,14,2924,13,2929,1,22211,null,21212,{"$f":"COUNTIF($L$7:$L$500,N28)","v":0},{"$f":"O28/$Q$4","v":0},{"$f":"IF(P28=0,0,(P28*((LOG(P28))/LOG(2))))","v":0},null,null,{"$f":"N28","v":21212},{"$f":"COUNTIF(L7:L35,T28)","v":0},{"$f":"U28/(W4-U25)","v":0},{"$f":"IF(V28=0,0,(V28*((LOG(V28))/LOG(2))))","v":0},null,{"$f":"N28","v":21212},{"$f":"COUNTIF(L36:L64,Y28)","v":0},{"$f":"Z28/(AB4-Z25)","v":0},{"$f":"IF(AA28=0,0,(AA28*((LOG(AA28))/LOG(2))))","v":0},null,{"$f":"N28","v":21212},{"$f":"COUNTIF(L65:L93,AD28)","v":0},{"$f":"AE28/(AG4-AE25)","v":0},{"$f":"IF(AF28=0,0,(AF28*((LOG(AF28))/LOG(2))))","v":0},null,{"$f":"N28","v":21212},{"$f":"COUNTIF(L94:L122,AI28)","v":0},{"$f":"AJ28/(AL4-AJ25)","v":0},{"$f":"IF(AK28=0,0,(AK28*((LOG(AK28))/LOG(2))))","v":0},null,{"$f":"N28","v":21212},{"$f":"COUNTIF(L123:L151,AN28)","v":0},{"$f":"AO28/(AQ4-AO25)","v":0},{"$f":"IF(AP28=0,0,(AP28*((LOG(AP28))/LOG(2))))","v":0},null,{"$f":"N28","v":21212},{"$f":"COUNTIF(L152:L180,AS28)","v":0},{"$f":"AT28/(AV4-AT25)","v":0},{"$f":"IF(AU28=0,0,(AU28*((LOG(AU28))/LOG(2))))","v":0}]
[21,3071,22,3081,24,3089,14,3103,13,3110,0,22211,null,21221,{"$f":"COUNTIF($L$7:$L$500,N29)","v":0},{"$f":"O29/$Q$4","v":0},{"$f":"IF(P29=0,0,(P29*((LOG(P29))/LOG(2))))","v":0},null,null,{"$f":"N29","v":21221},{"$f":"COUNTIF(L7:L35,T29)","v":0},{"$f":"U29/(W4-U25)","v":0},{"$f":"IF(V29=0,0,(V29*((LOG(V29))/LOG(2))))","v":0},null,{"$f":"N29","v":21221},{"$f":"COUNTIF(L36:L64,Y29)","v":0},{"$f":"Z29/(AB4-Z25)","v":0},{"$f":"IF(AA29=0,0,(AA29*((LOG(AA29))/LOG(2))))","v":0},null,{"$f":"N29","v":21221},{"$f":"COUNTIF(L65:L93,AD29)","v":0},{"$f":"AE29/(AG4-AE25)","v":0},{"$f":"IF(AF29=0,0,(AF29*((LOG(AF29))/LOG(2))))","v":0},null,{"$f":"N29","v":21221},{"$f":"COUNTIF(L94:L122,AI29)","v":0},{"$f":"AJ29/(AL4-AJ25)","v":0},{"$f":"IF(AK29=0,0,(AK29*((LOG(AK29))/LOG(2))))","v":0},null,{"$f":"N29","v":21221},{"$f":"COUNTIF(L123:L151,AN29)","v":0},{"$f":"AO29/(AQ4-AO25)","v":0},{"$f":"IF(AP29=0,0,(AP29*((LOG(AP29))/LOG(2))))","v":0},null,{"$f":"N29","v":21221},{"$f":"COUNTIF(L152:L180,AS29)","v":0},{"$f":"AT29/(AV4-AT25)","v":0},{"$f":"IF(AU29=0,0,(AU29*((LOG(AU29))/LOG(2))))","v":0}]
[12,3212,24,3243,13,3251,14,3255,13,3259,0,12111,null,21222,{"$f":"COUNTIF($L$7:$L$500,N30)","v":0},{"$f":"O30/$Q$4","v":0},{"$f":"IF(P30=0,0,(P30*((LOG(P30))/LOG(2))))","v":0},null,null,{"$f":"N30","v":21222},{"$f":"COUNTIF(L7:L35,T30)","v":0},{"$f":"U30/(W4-U25)","v":0},{"$f":"IF(V30=0,0,(V30*((LOG(V30))/LOG(2))))","v":0},null,{"$f":"N30","v":21222},{"$f":"COUNTIF(L36:L64,Y30)","v":0},{"$f":"Z30/(AB4-Z25)","v":0},{"$f":"IF(AA30=0,0,(AA30*((LOG(AA30))/LOG(2))))","v":0},null,{"$f":"N30","v":21222},{"$f":"COUNTIF(L65:L93,AD30)","v":0},{"$f":"AE30/(AG4-AE25)","v":0},{"$f":"IF(AF30=0,0,(AF30*((LOG(AF30))/LOG(2))))","v":0},null,{"$f":"N30","v":21222},{"$f":"COUNTIF(L94:L122,AI30)","v":0},{"$f":"AJ30/(AL4-AJ25)","v":0},{"$f":"IF(AK30=0,0,(AK30*((LOG(AK30))/LOG(2))))","v":0},null,{"$f":"N30","v":21222},{"$f":"COUNTIF(L123:L151,AN30)","v":0},{"$f":"AO30/(AQ4-AO25)","v":0},{"$f":"IF(AP30=0,0,(AP30*((LOG(AP30))/LOG(2))))","v":0},null,{"$f":"N30","v":21222},{"$f":"COUNTIF(L152:L180,AS30)","v":0},{"$f":"AT30/(AV4-AT25)","v":0},{"$f":"IF(AU30=0,0,(AU30*((LOG(AU30))/LOG(2))))","v":0}]
[12,3361,24,3373,24,3379,23,3385,13,3394,1,12221,null,22111,{"$f":"COUNTIF($L$7:$L$500,N31)","v":4},{"$f":"O31/$Q$4","v":2.3121387283236993E-2},{"$f":"IF(P31=0,0,(P31*((LOG(P31))/LOG(2))))","v":-0.12565614399160055},null,null,{"$f":"N31","v":22111},{"$f":"COUNTIF(L7:L35,T31)","v":1},{"$f":"U31/(W4-U25)","v":3.4482758620689655E-2},{"$f":"IF(V31=0,0,(V31*((LOG(V31))/LOG(2))))","v":-0.16751658603888178},null,{"$f":"N31","v":22111},{"$f":"COUNTIF(L36:L64,Y31)","v":0},{"$f":"Z31/(AB4-Z25)","v":0},{"$f":"IF(AA31=0,0,(AA31*((LOG(AA31))/LOG(2))))","v":0},null,{"$f":"N31","v":22111},{"$f":"COUNTIF(L65:L93,AD31)","v":0},{"$f":"AE31/(AG4-AE25)","v":0},{"$f":"IF(AF31=0,0,(AF31*((LOG(AF31))/LOG(2))))","v":0},null,{"$f":"N31","v":22111},{"$f":"COUNTIF(L94:L122,AI31)","v":1},{"$f":"AJ31/(AL4-AJ25)","v":3.4482758620689655E-2},{"$f":"IF(AK31=0,0,(AK31*((LOG(AK31))/LOG(2))))","v":-0.16751658603888178},null,{"$f":"N31","v":22111},{"$f":"COUNTIF(L123:L151,AN31)","v":2},{"$f":"AO31/(AQ4-AO25)","v":6.8965517241379309E-2},{"$f":"IF(AP31=0,0,(AP31*((LOG(AP31))/LOG(2))))","v":-0.26606765483638428},null,{"$f":"N31","v":22111},{"$f":"COUNTIF(L152:L180,AS31)","v":0},{"$f":"AT31/(AV4-AT25)","v":0},{"$f":"IF(AU31=0,0,(AU31*((LOG(AU31))/LOG(2))))","v":0}]
[21,3521,22,3532,24,3540,14,3548,13,3555,0,22211,null,22112,{"$f":"COUNTIF($L$7:$L$500,N32)","v":0},{"$f":"O32/$Q$4","v":0},{"$f":"IF(P32=0,0,(P32*((LOG(P32))/LOG(2))))","v":0},null,null,{"$f":"N32","v":22112},{"$f":"COUNTIF(L7:L35,T32)","v":0},{"$f":"U32/(W4-U25)","v":0},{"$f":"IF(V32=0,0,(V32*((LOG(V32))/LOG(2))))","v":0},null,{"$f":"N32","v":22112},{"$f":"COUNTIF(L36:L64,Y32)","v":0},{"$f":"Z32/(AB4-Z25)","v":0},{"$f":"IF(AA32=0,0,(AA32*((LOG(AA32))/LOG(2))))","v":0},null,{"$f":"N32","v":22112},{"$f":"COUNTIF(L65:L93,AD32)","v":0},{"$f":"AE32/(AG4-AE25)","v":0},{"$f":"IF(AF32=0,0,(AF32*((LOG(AF32))/LOG(2))))","v":0},null,{"$f":"N32","v":22112},{"$f":"COUNTIF(L94:L122,AI32)","v":0},{"$f":"AJ32/(AL4-AJ25)","v":0},{"$f":"IF(AK32=0,0,(AK32*((LOG(AK32))/LOG(2))))","v":0},null,{"$f":"N32","v":22112},{"$f":"COUNTIF(L123:L151,AN32)","v":0},{"$f":"AO32/(AQ4-AO25)","v":0},{"$f":"IF(AP32=0,0,(AP32*((LOG(AP32))/LOG(2))))","v":0},null,{"$f":"N32","v":22112},{"$f":"COUNTIF(L152:L180,AS32)","v":0},{"$f":"AT32/(AV4-AT25)","v":0},{"$f":"IF(AU32=0,0,(AU32*((LOG(AU32))/LOG(2))))","v":0}]
[12,3656,24,3679,13,3689,14,3693,13,3698,0,12111,null,22121,{"$f":"COUNTIF($L$7:$L$500,N33)","v":0},{"$f":"O33/$Q$4","v":0},{"$f":"IF(P33=0,0,(P33*((LOG(P33))/LOG(2))))","v":0},null,null,{"$f":"N33","v":22121},{"$f":"COUNTIF(L7:L35,T33)","v":0},{"$f":"U33/(W4-U25)","v":0},{"$f":"IF(V33=0,0,(V33*((LOG(V33))/LOG(2))))","v":0},null,{"$f":"N33","v":22121},{"$f":"COUNTIF(L36:L64,Y33)","v":0},{"$f":"Z33/(AB4-Z25)","v":0},{"$f":"IF(AA33=0,0,(AA33*((LOG(AA33))/LOG(2))))","v":0},null,{"$f":"N33","v":22121},{"$f":"COUNTIF(L65:L93,AD33)","v":0},{"$f":"AE33/(AG4-AE25)","v":0},{"$f":"IF(AF33=0,0,(AF33*((LOG(AF33))/LOG(2))))","v":0},null,{"$f":"N33","v":22121},{"$f":"COUNTIF(L94:L122,AI33)","v":0},{"$f":"AJ33/(AL4-AJ25)","v":0},{"$f":"IF(AK33=0,0,(AK33*((LOG(AK33))/LOG(2))))","v":0},null,{"$f":"N33","v":22121},{"$f":"COUNTIF(L123:L151,AN33)","v":0},{"$f":"AO33/(AQ4-AO25)","v":0},{"$f":"IF(AP33=0,0,(AP33*((LOG(AP33))/LOG(2))))","v":0},null,{"$f":"N33","v":22121},{"$f":"COUNTIF(L152:L180,AS33)","v":0},{"$f":"AT33/(AV4-AT25)","v":0},{"$f":"IF(AU33=0,0,(AU33*((LOG(AU33))/LOG(2))))","v":0}]
[12,3808,13,3820,13,3824,14,3828,13,3837,0,11111,null,22122,{"$f":"COUNTIF($L$7:$L$500,N34)","v":0},{"$f":"O34/$Q$4","v":0},{"$f":"IF(P34=0,0,(P34*((LOG(P34))/LOG(2))))","v":0},null,null,{"$f":"N34","v":22122},{"$f":"COUNTIF(L7:L35,T34)","v":0},{"$f":"U34/(W4-U25)","v":0},{"$f":"IF(V34=0,0,(V34*((LOG(V34))/LOG(2))))","v":0},null,{"$f":"N34","v":22122},{"$f":"COUNTIF(L36:L64,Y34)","v":0},{"$f":"Z34/(AB4-Z25)","v":0},{"$f":"IF(AA34=0,0,(AA34*((LOG(AA34))/LOG(2))))","v":0},null,{"$f":"N34","v":22122},{"$f":"COUNTIF(L65:L93,AD34)","v":0},{"$f":"AE34/(AG4-AE25)","v":0},{"$f":"IF(AF34=0,0,(AF34*((LOG(AF34))/LOG(2))))","v":0},null,{"$f":"N34","v":22122},{"$f":"COUNTIF(L94:L122,AI34)","v":0},{"$f":"AJ34/(AL4-AJ25)","v":0},{"$f":"IF(AK34=0,0,(AK34*((LOG(AK34))/LOG(2))))","v":0},null,{"$f":"N34","v":22122},{"$f":"COUNTIF(L123:L151,AN34)","v":0},{"$f":"AO34/(AQ4-AO25)","v":0},{"$f":"IF(AP34=0,0,(AP34*((LOG(AP34))/LOG(2))))","v":0},null,{"$f":"N34","v":22122},{"$f":"COUNTIF(L152:L180,AS34)","v":0},{"$f":"AT34/(AV4-AT25)","v":0},{"$f":"IF(AU34=0,0,(AU34*((LOG(AU34))/LOG(2))))","v":0}]
[12,3941,13,3965,13,3975,14,3994,24,4007,0,11112,null,22211,{"$f":"COUNTIF($L$7:$L$500,N35)","v":7},{"$f":"O35/$Q$4","v":4.046242774566474E-2},{"$f":"IF(P35=0,0,(P35*((LOG(P35))/LOG(2))))","v":-0.18723071178643838},null,null,{"$f":"N35","v":22211},{"$f":"COUNTIF(L7:L35,T35)","v":5},{"$f":"U35/(W4-U25)","v":0.17241379310344829},{"$f":"IF(V35=0,0,(V35*((LOG(V35))/LOG(2))))","v":-0.43725050004141547},null,{"$f":"N35","v":22211},{"$f":"COUNTIF(L36:L64,Y35)","v":2},{"$f":"Z35/(AB4-Z25)","v":6.8965517241379309E-2},{"$f":"IF(AA35=0,0,(AA35*((LOG(AA35))/LOG(2))))","v":-0.26606765483638428},null,{"$f":"N35","v":22211},{"$f":"COUNTIF(L65:L93,AD35)","v":0},{"$f":"AE35/(AG4-AE25)","v":0},{"$f":"IF(AF35=0,0,(AF35*((LOG(AF35))/LOG(2))))","v":0},null,{"$f":"N35","v":22211},{"$f":"COUNTIF(L94:L122,AI35)","v":0},{"$f":"AJ35/(AL4-AJ25)","v":0},{"$f":"IF(AK35=0,0,(AK35*((LOG(AK35))/LOG(2))))","v":0},null,{"$f":"N35","v":22211},{"$f":"COUNTIF(L123:L151,AN35)","v":0},{"$f":"AO35/(AQ4-AO25)","v":0},{"$f":"IF(AP35=0,0,(AP35*((LOG(AP35))/LOG(2))))","v":0},null,{"$f":"N35","v":22211},{"$f":"COUNTIF(L152:L180,AS35)","v":0},{"$f":"AT35/(AV4-AT25)","v":0},{"$f":"IF(AU35=0,0,(AU35*((LOG(AU35))/LOG(2))))","v":0}]
[12,4111,24,4127,24,4133,23,4137,13,4145,1,12221,null,22212,{"$f":"COUNTIF($L$7:$L$500,N36)","v":0},{"$f":"O36/$Q$4","v":0},{"$f":"IF(P36=0,0,(P36*((LOG(P36))/LOG(2))))","v":0},null,null,{"$f":"N36","v":22212},{"$f":"COUNTIF(L7:L35,T36)","v":0},{"$f":"U36/(W4-U25)","v":0},{"$f":"IF(V36=0,0,(V36*((LOG(V36))/LOG(2))))","v":0},null,{"$f":"N36","v":22212},{"$f":"COUNTIF(L36:L64,Y36)","v":0},{"$f":"Z36/(AB4-Z25)","v":0},{"$f":"IF(AA36=0,0,(AA36*((LOG(AA36))/LOG(2))))","v":0},null,{"$f":"N36","v":22212},{"$f":"COUNTIF(L65:L93,AD36)","v":0},{"$f":"AE36/(AG4-AE25)","v":0},{"$f":"IF(AF36=0,0,(AF36*((LOG(AF36))/LOG(2))))","v":0},null,{"$f":"N36","v":22212},{"$f":"COUNTIF(L94:L122,AI36)","v":0},{"$f":"AJ36/(AL4-AJ25)","v":0},{"$f":"IF(AK36=0,0,(AK36*((LOG(AK36))/LOG(2))))","v":0},null,{"$f":"N36","v":22212},{"$f":"COUNTIF(L123:L151,AN36)","v":0},{"$f":"AO36/(AQ4-AO25)","v":0},{"$f":"IF(AP36=0,0,(AP36*((LOG(AP36))/LOG(2))))","v":0},null,{"$f":"N36","v":22212},{"$f":"COUNTIF(L152:L180,AS36)","v":0},{"$f":"AT36/(AV4-AT25)","v":0},{"$f":"IF(AU36=0,0,(AU36*((LOG(AU36))/LOG(2))))","v":0}]
[21,4261,22,4265,24,4270,23,4276,13,4287,0,22221,null,22221,{"$f":"COUNTIF($L$7:$L$500,N37)","v":6},{"$f":"O37/$Q$4","v":3.4682080924855488E-2},{"$f":"IF(P37=0,0,(P37*((LOG(P37))/LOG(2))))","v":-0.16819649919938387},null,null,{"$f":"N37","v":22221},{"$f":"COUNTIF(L7:L35,T37)","v":5},{"$f":"U37/(W4-U25)","v":0.17241379310344829},{"$f":"IF(V37=0,0,(V37*((LOG(V37))/LOG(2))))","v":-0.43725050004141547},null,{"$f":"N37","v":22221},{"$f":"COUNTIF(L36:L64,Y37)","v":1},{"$f":"Z37/(AB4-Z25)","v":3.4482758620689655E-2},{"$f":"IF(AA37=0,0,(AA37*((LOG(AA37))/LOG(2))))","v":-0.16751658603888178},null,{"$f":"N37","v":22221},{"$f":"COUNTIF(L65:L93,AD37)","v":0},{"$f":"AE37/(AG4-AE25)","v":0},{"$f":"IF(AF37=0,0,(AF37*((LOG(AF37))/LOG(2))))","v":0},null,{"$f":"N37","v":22221},{"$f":"COUNTIF(L94:L122,AI37)","v":0},{"$f":"AJ37/(AL4-AJ25)","v":0},{"$f":"IF(AK37=0,0,(AK37*((LOG(AK37))/LOG(2))))","v":0},null,{"$f":"N37","v":22221},{"$f":"COUNTIF(L123:L151,AN37)","v":0},{"$f":"AO37/(AQ4-AO25)","v":0},{"$f":"IF(AP37=0,0,(AP37*((LOG(AP37))/LOG(2))))","v":0},null,{"$f":"N37","v":22221},{"$f":"COUNTIF(L152:L180,AS37)","v":0},{"$f":"AT37/(AV4-AT25)","v":0},{"$f":"IF(AU37=0,0,(AU37*((LOG(AU37))/LOG(2))))","v":0}]
[12,4390,24,4408,24,4412,23,4416,24,4421,0,12222,null,22222,{"$f":"COUNTIF($L$7:$L$500,N38)","v":3},{"$f":"O38/$Q$4","v":1.7341040462427744E-2},{"$f":"IF(P38=0,0,(P38*((LOG(P38))/LOG(2))))","v":-0.10143929006211967},null,null,{"$f":"N38","v":22222},{"$f":"COUNTIF(L7:L35,T38)","v":1},{"$f":"U38/(W4-U25)","v":3.4482758620689655E-2},{"$f":"IF(V38=0,0,(V38*((LOG(V38))/LOG(2))))","v":-0.16751658603888178},null,{"$f":"N38","v":22222},{"$f":"COUNTIF(L36:L64,Y38)","v":1},{"$f":"Z38/(AB4-Z25)","v":3.4482758620689655E-2},{"$f":"IF(AA38=0,0,(AA38*((LOG(AA38))/LOG(2))))","v":-0.16751658603888178},null,{"$f":"N38","v":22222},{"$f":"COUNTIF(L65:L93,AD38)","v":0},{"$f":"AE38/(AG4-AE25)","v":0},{"$f":"IF(AF38=0,0,(AF38*((LOG(AF38))/LOG(2))))","v":0},null,{"$f":"N38","v":22222},{"$f":"COUNTIF(L94:L122,AI38)","v":1},{"$f":"AJ38/(AL4-AJ25)","v":3.4482758620689655E-2},{"$f":"IF(AK38=0,0,(AK38*((LOG(AK38))/LOG(2))))","v":-0.16751658603888178},null,{"$f":"N38","v":22222},{"$f":"COUNTIF(L123:L151,AN38)","v":0},{"$f":"AO38/(AQ4-AO25)","v":0},{"$f":"IF(AP38=0,0,(AP38*((LOG(AP38))/LOG(2))))","v":0},null,{"$f":"N38","v":22222},{"$f":"COUNTIF(L152:L180,AS38)","v":0},{"$f":"AT38/(AV4-AT25)","v":0},{"$f":"IF(AU38=0,0,(AU38*((LOG(AU38))/LOG(2))))","v":0}]
[12,4522,13,4551,13,4556,14,4563,13,4568,1,11111,null,null,null,{"$f":"SUM(P7:P38)","v":1},{"$f":"-SUM(Q7:Q38)","v":3.0851627249968261},null,null,null,null,{"$f":"SUM(V7:V38)","v":1},{"$f":"-SUM(W7:W38)","v":3.4535307898447942},null,null,null,{"$f":"SUM(AA7:AA38)","v":1},{"$f":"-SUM(AB7:AB38)","v":2.7349592221863013},null,null,null,{"$f":"SUM(AF7:AF38)","v":1},{"$f":"-SUM(AG7:AG38)","v":2.0605580177314313},null,null,null,{"$f":"SUM(AK7:AK38)","v":1},{"$f":"-SUM(AL7:AL38)","v":2.7567500651431756},null,null,null,{"$f":"SUM(AP7:AP38)","v":1},{"$f":"-SUM(AQ7:AQ38)","v":2.5111583602665406},null,null,null,{"$f":"SUM(AU7:AU38)","v":0.99999999999999989},{"$f":"-SUM(AV7:AV38)","v":1.4790174434893641}]
[21,4687,22,4691,24,4699,23,4705,24,4710,0,22222,null,null,null,"U=",{"$f":"Q39/(LOG(Q4)/LOG(2))","v":0.41497202422689522},null,null,null,null,"U1=",{"$f":"W39/(LOG(W4)/LOG(2))","v":0.71089837389413324},null,null,null,"U2=",{"$f":"AB39/(LOG(AB4)/LOG(2))","v":0.56298269279550373},null,null,null,"U3=",{"$f":"AG39/(LOG(AG4)/LOG(2))","v":0.42415934105096692},null,null,null,"U4=",{"$f":"AL39/(LOG(AL4)/LOG(2))","v":0.56746826879481904},null,null,null,"U5=",{"$f":"AQ39/(LOG(AQ4)/LOG(2))","v":0.51691399426740592},null,null,null,"U6=",{"$f":"AV39/(LOG(AV4)/LOG(2))","v":0.30765721846397964}]
[12,4826,24,4851,24,4858,23,4870,13,4880,1,12221]
[21,4991,22,5005,24,5015,14,5024,13,5039,1,22211]
[21,5161,22,5166,24,5174,14,5182,13,5186,1,22211,null,"Total Target Seq"]
[12,5293,24,5314,24,5323,14,5330,13,5337,0,12211,null,{"$f":"COUNTIF(L7:L180,G3)","v":0},null,29,29,29,29,29,29]
[12,5464,24,5477,24,5483,23,5490,24,5494,1,12222,null,null,null,"% of reinforcement given in 6 equal intervals based on number of trials "]
[12,5591,13,5628,13,5632,14,5636,13,5643,0,11111,null,null,null,"%_1","%_2","%_3","%_4","%_5","%_6"]
[12,5747,24,5776,24,5781,14,5792,13,5797,0,12211,null,null,"target sequence",{"$f":"$G$3","v":21121},{"$f":"$G$3","v":21121},{"$f":"$G$3","v":21121},{"$f":"$G$3","v":21121},{"$f":"$G$3","v":21121},{"$f":"$G$3","v":21121}]
[12,5898,13,5905,13,5910,14,5913,13,5920,0,11111,null,null,"total reinforcement",{"$f":"U25","v":0},{"$f":"Z25","v":0},{"$f":"AE25","v":0},{"$f":"AJ25","v":0},{"$f":"AO25","v":0},{"$f":"AT25","v":0}]
[12,6022,24,6035,24,6039,23,6044,24,6048,1,12222,null,null,"% target"]
[12,6171,24,6184,24,6191,14,6200,13,6206,0,12211,null,null,"CCRF"]
[12,6308,24,6328,24,6339,14,6349,13,6353,0,12211,null,null,"% CCRf"]
[12,6459,13,6466,13,6470,14,6474,13,6485,0,11111,null,null,"average response rate",{"$f":"J35/P44","v":138.17241379310346},{"$f":"(J64-J35)/Q44","v":144.24137931034483},{"$f":"(J93-J64)/R44","v":134.62068965517241},{"$f":"(J122-J93)/S44","v":133.27586206896552},{"$f":"(J151-J122)/T44","v":141.58620689655172},{"$f":"(J180-J151)/U44","v":-691.89655172413791}]
[12,6589,24,6607,24,6611,23,6616,13,6625,0,12221]
[12,6727,24,6740,24,6751,14,6759,13,6765,1,12211]
[12,6868,24,6889,24,6894,14,6911,13,6915,0,12211]
[12,7016,24,7028,24,7040,23,7050,13,7062,0,12221]
[12,7164,24,7188,24,7197,14,7205,13,7211,0,12211]
[12,7315,13,7324,13,7328,14,7333,13,7340,0,11111]
[12,7439,13,7460,13,7468,14,7477,13,7485,1,11111]
[12,7593,13,7617,24,7634,14,7641,13,7649,0,11211]
[12,7749,13,7765,24,7773,23,7777,13,7784,0,11221]
[12,7885,24,7900,24,7905,23,7909,13,7917,0,12221]
[12,8017,24,8034,24,8038,23,8042,13,8056,0,12221]
[12,8161,24,8170,24,8174,23,8179,13,8190,0,12221]
[12,8289,24,8306,13,8315,14,8322,13,8329,0,12111]
[12,8431,13,8440,13,8444,14,8449,13,8463,1,11111]
[12,8562,13,8572,13,8575,14,8579,13,8583,0,11111]
[12,8684,13,8696,13,8701,14,8709,13,8717,0,11111]
[12,8818,13,8823,13,8850,14,8854,13,8858,0,11111]
[12,8963,24,8983,24,8988,23,8993,13,9001,0,12221]
[12,9101,13,9110,24,9118,23,9122,24,9126,0,11222]
[12,9227,13,9235,13,9243,14,9247,13,9251,0,11111]
[12,9353,24,9361,24,9366,23,9370,24,9381,0,12222]
[12,9478,13,9486,13,9495,14,9505,13,9511,0,11111]
[12,9613,24,9624,13,9636,14,9643,13,9657,0,12111]
[12,9759,24,9767,24,9771,23,9775,24,9779,0,12222]
[12,9879,13,9887,13,9892,14,9895,13,9899,1,11111]
[12,9997,13,10014,13,10018,14,10023,13,10037,0,11111]
[12,10138,24,10165,13,10173,14,10177,13,10183,0,12111]
[12,10281,24,10293,24,10297,23,10302,24,10306,0,12222]
[12,10406,13,10410,13,10415,14,10428,13,10431,1,11111]
[12,10524,24,10553,13,10564,14,10567,13,10571,0,12111]
[12,10676,24,10696,13,10704,14,10715,13,10725,0,12111]
[12,10828,13,10832,13,10836,14,10840,13,10844,0,11111]
[12,10943,24,10964,24,10970,23,10974,24,10981,0,12222]
[12,11082,24,11095,13,11104,14,11108,13,11113,1,12111]
[12,11209,13,11242,24,11259,14,11266,13,11270,0,11211]
[12,11373,13,11381,13,11385,14,11389,13,11395,0,11111]
[12,11499,13,11522,13,11530,14,11536,13,11548,0,11111]
[12,11648,24,11662,24,11666,23,11670,24,11674,0,12222]
[12,11775,24,11794,24,11798,23,11805,13,11814,0,12221]
[12,11920,13,11943,13,11952,14,11956,13,11963,0,11111]
[12,12065,24,12077,24,12085,23,12089,24,12094,1,12222]
[12,12205,13,12228,13,12232,14,12235,13,12239,0,11111]
[12,12341,24,12354,24,12357,14,12365,13,12369,0,12211]
[12,12470,24,12491,13,12499,14,12503,13,12507,0,12111]
[12,12608,13,12617,13,12621,14,12625,13,12629,0,11111]
[12,12728,24,12749,13,12758,14,12762,13,12766,0,12111]
[12,12869,24,12885,24,12889,23,12893,24,12898,0,12222]
[12,12996,13,13005,13,13010,14,13018,13,13022,0,11111]
[12,13121,24,13132,24,13137,14,13147,13,13153,0,12211]
[12,13253,13,13261,24,13281,14,13293,13,13300,0,11211]
[21,13407,22,13411,24,13415,23,13420,24,13425,0,22222]
[12,13524,13,13532,13,13545,14,13550,13,13553,1,11111]
[12,13651,13,13672,13,13675,14,13679,13,13683,0,11111]
[12,13792,24,13805,24,13809,23,13813,24,13818,0,12222]
[12,13917,13,13930,13,13940,14,13944,13,13948,0,11111]
[12,14046,24,14056,24,14059,23,14063,13,14073,0,12221]
[12,14173,24,14185,24,14189,14,14197,13,14200,0,12211]
[21,14311,22,14323,13,14330,14,14333,13,14340,0,22111]
[12,14439,24,14450,24,14453,14,14466,13,14470,0,12211]
[12,14570,13,14574,13,14578,23,14588,13,14598,1,11121]
[12,14704,13,14708,24,14724,14,14731,13,14735,0,11211]
[12,14837,13,14848,13,14866,14,14870,13,14873,0,11111]
[12,14973,24,14986,24,14989,23,14993,13,15004,0,12221]
[12,15105,24,15121,24,15131,14,15139,13,15143,0,12211]
[12,15240,13,15249,13,15252,23,15268,13,15275,0,11121]
[12,15378,24,15392,24,15397,23,15401,13,15410,0,12221]
[12,15513,24,15522,24,15531,14,15538,13,15542,0,12211]
[12,15643,24,15653,24,15658,14,15683,13,15687,1,12211]
[12,15786,13,15804,13,15808,14,15812,13,15820,0,11111]
[12,15920,13,15945,13,15949,14,15953,13,15959,0,11111]
[12,16057,24,16075,13,16082,14,16096,13,16102,0,12111]
[12,16201,13,16213,24,16221,14,16228,13,16233,0,11211]
[12,16335,13,16343,13,16351,14,16355,13,16359,0,11111]
[12,16459,24,16471,24,16475,23,16479,13,16495,0,12221]
[12,16596,13,16643,13,16649,14,16659,13,16671,0,11111]
[12,16771,13,16783,13,16791,14,16795,13,16799,0,11111]
[12,16896,13,16911,24,16933,23,16937,24,16941,0,11222]
[12,17041,13,17045,13,17055,14,17059,13,17064,1,11111]
[12,17161,13,17193,24,17210,14,17220,13,17226,0,11211]
[12,17326,13,17350,24,17358,23,17362,13,17374,0,11221]
[12,17477,13,17487,13,17490,14,17494,13,17501,0,11111]
[12,17600,24,17613,24,17620,23,17624,13,17632,0,12221]
[12,17732,13,17742,13,17746,14,17750,13,17758,0,11111]
[12,17857,13,17865,13,17870,14,17877,13,17881,0,11111]
[12,17994,13,18002,13,18006,14,18017,13,18023,0,11111]
[12,18123,24,18145,24,18150,23,18154,24,18162,0,12222]
[12,18260,13,18267,13,18275,14,18279,24,18292,0,11112]
[12,18391,13,18395,13,18403,14,18407,13,18411,0,11111]
[12,18513,13,18521,13,18528,14,18532,13,18536,1,11111]
[12,18635,13,18640,24,18679,23,18684,13,18692,1,11221]
[21,18818,22,18822,13,18835,14,18838,13,18842,1,22111]
[12,18952,13,18955,13,18959,14,18963,13,18970,0,11111]
[12,19070,24,19090,24,19095,23,19102,24,19106,0,12222]
[12,19232,13,19236,13,19240,14,19246,13,19253,0,11111]
[12,19354,13,19392,13,19396,14,19400,13,19410,1,11111]
[12,19538,24,19548,24,19561,23,19566,13,19575,0,12221]
[21,19713,22,19721,13,19729,14,19737,13,19748,0,22111]
[12,19846,24,19866,13,19874,14,19878,13,19882,0,12111]
[12,20017,13,20032,13,20039,14,20057,13,20065,1,11111]
[12,20201,24,20220,13,20227,14,20231,13,20238,0,12111]
[12,20339,13,20348,13,20356,14,20367,13,20370,0,11111]
[12,20470,13,20483,24,20514,23,20519,13,20529,0,11221]
[12,20631,24,20650,24,20655,23,20660,13,20668,1,12221]
[12,20765,13,20770,13,20774,14,20785,13,20788,0,11111]
[12,20889,24,20918,24,20922,23,20926,24,20934,1,12222]
[12,21037,13,21052,13,21074,14,21078,13,21085,0,11111]
[12,21183,13,21187,13,21195,14,21198,13,21202,0,11111]
[12,21303,13,21314,13,21318,14,21322,13,21326,1,11111]
[12,21429,13,21451,13,21454,14,21458,13,21466,0,11111]
[12,21565,24,21589,24,21594,14,21600,13,21605,0,12211]
[12,21702,13,21710,13,21714,14,21717,13,21721,1,11111]
[12,21818,13,21859,13,21864,14,21868,13,21879,0,11111]
[12,21981,24,22010,24,22014,14,22023,13,22027,0,12211]
[12,22134,13,22143,13,22153,14,22156,13,22160,0,11111]
[12,22260,13,22271,13,22281,14,22287,13,22294,1,11111]
[12,22389,24,22414,24,22418,23,22423,13,22431,0,12221]
[12,22529,13,22534,13,22545,14,22555,13,22559,0,11111]
[12,22656,13,22677,13,22684,14,22687,13,22693,0,11111]
[12,22794,13,22802,13,22809,14,22818,13,22822,1,11111]
[12,22915,13,22918,13,22923,14,22934,13,22938,0,11111]
[12,23038,13,23056,13,23063,14,23068,13,23072,0,11111]
[12,23171,13,23191,13,23198,14,23204,13,23212,0,11111]
[12,23311,13,23320,13,23328,14,23332,13,23336,0,11111]
[12,23433,13,23437,13,23451,14,23458,13,23464,0,11111]
[12,23561,13,23571,13,23595,14,23599,13,23609,1,11111]
[12,23711,13,23730,13,23738,14,23741,13,23745,0,11111]
[12,23842,24,23865,24,23870,23,23875,13,23883,0,12221]
[12,23989,null,null,null,null,null,null,null,null,null,1]

{"sheet":"!N419B40.096","index":25,"n_rows":149,"n_cols":48,"rows_kept":149,"cut":false,"hidden":false,"merged":[[4,39,4,42],[5,39,5,40],[4,44,4,47],[5,44,5,45],[4,24,4,27],[5,24,5,25],[4,29,4,32],[5,29,5,30],[4,34,4,37],[5,34,5,35],[1,1,1,2],[5,13,5,14],[42,13,42,14],[43,13,43,14],[4,19,4,22],[5,19,5,20]]}
["Report for:!N419B40.096"]
["Date:","<date>"]
["Hen:","<hen>",null,null,null,"Correct Sequence",{"$f":"Start!J2","v":21121},null,null,null,null,null,null,null,null,"Total Sequences in Data",{"$f":"4994-COUNTBLANK(L7:L5000)","v":143},null,null,null,null,"Total Sequences in Block Data",{"$f":"COUNTA(L7:L30)","v":24},null,null,null,"Total Sequences in Block Data",{"$f":"COUNTA(L31:L54)","v":24},null,null,null,"Total Sequences in Block Data",{"$f":"COUNTA(L55:L77)","v":23},null,null,null,"Total Sequences in Block Data",{"$f":"COUNTA(L78:L101)","v":24},null,null,null,"Total Sequences in Block Data",{"$f":"COUNTA(L102:L125)","v":24},null,null,null,"Total Sequences in Block Data",{"$f":"COUNTA(L126:L149)","v":24}]
[null,null,null,null,null,null,null,null,null,null,null,null,null,null,null,"Total Sequences in Summary",{"$f":"SUM(O7:O38)","v":143},null,null,null,null,"Total Sequences in Block Summary",{"$f":"SUM(U7:U38)","v":24},null,null,null,"Total Sequences in Block Summary",{"$f":"SUM(Z7:Z38)","v":24},null,null,null,"Total Sequences in Block Summary",{"$f":"SUM(AE7:AE38)","v":23},null,null,null,"Total Sequences in Block Summary",{"$f":"SUM(AJ7:AJ38)","v":24},null,null,null,"Total Sequences in Block Summary",{"$f":"SUM(AO7:AO38)","v":24},null,null,null,"Total Sequences in Block Summary",{"$f":"SUM(AT7:AT38)","v":24}]
[null,null,null,null,null,null,null,null,null,null,null,null,null,null,null,null,null,null,null,"Block 1",null,null,null,null,"Block 2",null,null,null,null,"Block 3",null,null,null,null,"Block 4",null,null,null,null,"Block 5",null,null,null,null,"Block 6"]
["Sequence\nComponent\n1","Time\n1","Sequence\nComponent\n2","Time\n2","Sequence\nComponent\n3","Time\n3","Sequence\nComponent\n4","Time\n4","Sequence\nComponent\n5","Time\n5","Correct?\n0=No 1=Yes","Sequence",null,"Frequency",null,"Relative Frequency","Variability",null,null,"Frequency",null,"Relative Frequency","Variability",null,"Frequency",null,"Relative Frequency","Variability",null,"Frequency",null,"Relative Frequency","Variability",null,"Frequency",null,"Relative Frequency","Variability",null,"Frequency",null,"Relative Frequency","Variability",null,"Frequency",null,"Relative Frequency","Variability"]
[21,11,22,16,24,22,23,30,24,36,0,22222,null,11111,{"$f":"COUNTIF($L$7:$L$500,N7)","v":0},{"$f":"O7/$Q$4","v":0},{"$f":"IF(P7=0,0,(P7*((LOG(P7))/LOG(2))))","v":0},null,null,{"$f":"N7","v":11111},{"$f":"COUNTIF(L7:L30,T7)","v":0},{"$f":"U7/(W4-U25)","v":0},{"$f":"IF(V7=0,0,(V7*((LOG(V7))/LOG(2))))","v":0},null,{"$f":"N7","v":11111},{"$f":"COUNTIF(L31:L54,Y7)","v":0},{"$f":"Z7/(AB4-Z25)","v":0},{"$f":"IF(AA7=0,0,(AA7*((LOG(AA7))/LOG(2))))","v":0},null,{"$f":"N7","v":11111},{"$f":"COUNTIF(L55:L77,AD7)","v":0},{"$f":"AE7/(AG4-AE25)","v":0},{"$f":"IF(AF7=0,0,(AF7*((LOG(AF7))/LOG(2))))","v":0},null,{"$f":"N7","v":11111},{"$f":"COUNTIF(L78:L101,AI7)","v":0},{"$f":"AJ7/(AL4-AJ25)","v":0},{"$f":"IF(AK7=0,0,(AK7*((LOG(AK7))/LOG(2))))","v":0},null,{"$f":"N7","v":11111},{"$f":"COUNTIF(L102:L125,AN7)","v":0},{"$f":"AO7/(AQ4-AO25)","v":0},{"$f":"IF(AP7=0,0,(AP7*((LOG(AP7))/LOG(2))))","v":0},null,{"$f":"N7","v":11111},{"$f":"COUNTIF(L126:L149,AS7)","v":0},{"$f":"AT7/(AV4-AT25)","v":0},{"$f":"IF(AU7=0,0,(AU7*((LOG(AU7))/LOG(2))))","v":0}]
[21,138,22,148,24,157,23,162,24,170,0,22222,null,11112,{"$f":"COUNTIF($L$7:$L$500,N8)","v":0},{"$f":"O8/$Q$4","v":0},{"$f":"IF(P8=0,0,(P8*((LOG(P8))/LOG(2))))","v":0},null,null,{"$f":"N8","v":11112},{"$f":"COUNTIF(L7:L30,T8)","v":0},{"$f":"U8/(W4-U25)","v":0},{"$f":"IF(V8=0,0,(V8*((LOG(V8))/LOG(2))))","v":0},null,{"$f":"N8","v":11112},{"$f":"COUNTIF(L31:L54,Y8)","v":0},{"$f":"Z8/(AB4-Z25)","v":0},{"$f":"IF(AA8=0,0,(AA8*((LOG(AA8))/LOG(2))))","v":0},null,{"$f":"N8","v":11112},{"$f":"COUNTIF(L55:L77,AD8)","v":0},{"$f":"AE8/(AG4-AE25)","v":0},{"$f":"IF(AF8=0,0,(AF8*((LOG(AF8))/LOG(2))))","v":0},null,{"$f":"N8","v":11112},{"$f":"COUNTIF(L78:L101,AI8)","v":0},{"$f":"AJ8/(AL4-AJ25)","v":0},{"$f":"IF(AK8=0,0,(AK8*((LOG(AK8))/LOG(2))))","v":0},null,{"$f":"N8","v":11112},{"$f":"COUNTIF(L102:L125,AN8)","v":0},{"$f":"AO8/(AQ4-AO25)","v":0},{"$f":"IF(AP8=0,0,(AP8*((LOG(AP8))/LOG(2))))","v":0},null,{"$f":"N8","v":11112},{"$f":"COUNTIF(L126:L149,AS8)","v":0},{"$f":"AT8/(AV4-AT25)","v":0},{"$f":"IF(AU8=0,0,(AU8*((LOG(AU8))/LOG(2))))","v":0}]
[21,286,22,293,24,302,23,309,24,337,0,22222,null,11121,{"$f":"COUNTIF($L$7:$L$500,N9)","v":0},{"$f":"O9/$Q$4","v":0},{"$f":"IF(P9=0,0,(P9*((LOG(P9))/LOG(2))))","v":0},null,null,{"$f":"N9","v":11121},{"$f":"COUNTIF(L7:L30,T9)","v":0},{"$f":"U9/(W4-U25)","v":0},{"$f":"IF(V9=0,0,(V9*((LOG(V9))/LOG(2))))","v":0},null,{"$f":"N9","v":11121},{"$f":"COUNTIF(L31:L54,Y9)","v":0},{"$f":"Z9/(AB4-Z25)","v":0},{"$f":"IF(AA9=0,0,(AA9*((LOG(AA9))/LOG(2))))","v":0},null,{"$f":"N9","v":11121},{"$f":"COUNTIF(L55:L77,AD9)","v":0},{"$f":"AE9/(AG4-AE25)","v":0},{"$f":"IF(AF9=0,0,(AF9*((LOG(AF9))/LOG(2))))","v":0},null,{"$f":"N9","v":11121},{"$f":"COUNTIF(L78:L101,AI9)","v":0},{"$f":"AJ9/(AL4-AJ25)","v":0},{"$f":"IF(AK9=0,0,(AK9*((LOG(AK9))/LOG(2))))","v":0},null,{"$f":"N9","v":11121},{"$f":"COUNTIF(L102:L125,AN9)","v":0},{"$f":"AO9/(AQ4-AO25)","v":0},{"$f":"IF(AP9=0,0,(AP9*((LOG(AP9))/LOG(2))))","v":0},null,{"$f":"N9","v":11121},{"$f":"COUNTIF(L126:L149,AS9)","v":0},{"$f":"AT9/(AV4-AT25)","v":0},{"$f":"IF(AU9=0,0,(AU9*((LOG(AU9))/LOG(2))))","v":0}]
[21,443,22,462,24,468,23,473,24,489,1,22222,null,11122,{"$f":"COUNTIF($L$7:$L$500,N10)","v":0},{"$f":"O10/$Q$4","v":0},{"$f":"IF(P10=0,0,(P10*((LOG(P10))/LOG(2))))","v":0},null,null,{"$f":"N10","v":11122},{"$f":"COUNTIF(L7:L30,T10)","v":0},{"$f":"U10/(W4-U25)","v":0},{"$f":"IF(V10=0,0,(V10*((LOG(V10))/LOG(2))))","v":0},null,{"$f":"N10","v":11122},{"$f":"COUNTIF(L31:L54,Y10)","v":0},{"$f":"Z10/(AB4-Z25)","v":0},{"$f":"IF(AA10=0,0,(AA10*((LOG(AA10))/LOG(2))))","v":0},null,{"$f":"N10","v":11122},{"$f":"COUNTIF(L55:L77,AD10)","v":0},{"$f":"AE10/(AG4-AE25)","v":0},{"$f":"IF(AF10=0,0,(AF10*((LOG(AF10))/LOG(2))))","v":0},null,{"$f":"N10","v":11122},{"$f":"COUNTIF(L78:L101,AI10)","v":0},{"$f":"AJ10/(AL4-AJ25)","v":0},{"$f":"IF(AK10=0,0,(AK10*((LOG(AK10))/LOG(2))))","v":0},null,{"$f":"N10","v":11122},{"$f":"COUNTIF(L102:L125,AN10)","v":0},{"$f":"AO10/(AQ4-AO25)","v":0},{"$f":"IF(AP10=0,0,(AP10*((LOG(AP10))/LOG(2))))","v":0},null,{"$f":"N10","v":11122},{"$f":"COUNTIF(L126:L149,AS10)","v":0},{"$f":"AT10/(AV4-AT25)","v":0},{"$f":"IF(AU10=0,0,(AU10*((LOG(AU10))/LOG(2))))","v":0}]
[21,589,22,594,24,603,23,619,24,626,0,22222,null,11211,{"$f":"COUNTIF($L$7:$L$500,N11)","v":0},{"$f":"O11/$Q$4","v":0},{"$f":"IF(P11=0,0,(P11*((LOG(P11))/LOG(2))))","v":0},null,null,{"$f":"N11","v":11211},{"$f":"COUNTIF(L7:L30,T11)","v":0},{"$f":"U11/(W4-U25)","v":0},{"$f":"IF(V11=0,0,(V11*((LOG(V11))/LOG(2))))","v":0},null,{"$f":"N11","v":11211},{"$f":"COUNTIF(L31:L54,Y11)","v":0},{"$f":"Z11/(AB4-Z25)","v":0},{"$f":"IF(AA11=0,0,(AA11*((LOG(AA11))/LOG(2))))","v":0},null,{"$f":"N11","v":11211},{"$f":"COUNTIF(L55:L77,AD11)","v":0},{"$f":"AE11/(AG4-AE25)","v":0},{"$f":"IF(AF11=0,0,(AF11*((LOG(AF11))/LOG(2))))","v":0},null,{"$f":"N11","v":11211},{"$f":"COUNTIF(L78:L101,AI11)","v":0},{"$f":"AJ11/(AL4-AJ25)","v":0},{"$f":"IF(AK11=0,0,(AK11*((LOG(AK11))/LOG(2))))","v":0},null,{"$f":"N11","v":11211},{"$f":"COUNTIF(L102:L125,AN11)","v":0},{"$f":"AO11/(AQ4-AO25)","v":0},{"$f":"IF(AP11=0,0,(AP11*((LOG(AP11))/LOG(2))))","v":0},null,{"$f":"N11","v":11211},{"$f":"COUNTIF(L126:L149,AS11)","v":0},{"$f":"AT11/(AV4-AT25)","v":0},{"$f":"IF(AU11=0,0,(AU11*((LOG(AU11))/LOG(2))))","v":0}]
[21,734,22,758,24,765,23,778,24,792,0,22222,null,11212,{"$f":"COUNTIF($L$7:$L$500,N12)","v":0},{"$f":"O12/$Q$4","v":0},{"$f":"IF(P12=0,0,(P12*((LOG(P12))/LOG(2))))","v":0},null,null,{"$f":"N12","v":11212},{"$f":"COUNTIF(L7:L30,T12)","v":0},{"$f":"U12/(W4-U25)","v":0},{"$f":"IF(V12=0,0,(V12*((LOG(V12))/LOG(2))))","v":0},null,{"$f":"N12","v":11212},{"$f":"COUNTIF(L31:L54,Y12)","v":0},{"$f":"Z12/(AB4-Z25)","v":0},{"$f":"IF(AA12=0,0,(AA12*((LOG(AA12))/LOG(2))))","v":0},null,{"$f":"N12","v":11212},{"$f":"COUNTIF(L55:L77,AD12)","v":0},{"$f":"AE12/(AG4-AE25)","v":0},{"$f":"IF(AF12=0,0,(AF12*((LOG(AF12))/LOG(2))))","v":0},null,{"$f":"N12","v":11212},{"$f":"COUNTIF(L78:L101,AI12)","v":0},{"$f":"AJ12/(AL4-AJ25)","v":0},{"$f":"IF(AK12=0,0,(AK12*((LOG(AK12))/LOG(2))))","v":0},null,{"$f":"N12","v":11212},{"$f":"COUNTIF(L102:L125,AN12)","v":0},{"$f":"AO12/(AQ4-AO25)","v":0},{"$f":"IF(AP12=0,0,(AP12*((LOG(AP12))/LOG(2))))","v":0},null,{"$f":"N12","v":11212},{"$f":"COUNTIF(L126:L149,AS12)","v":0},{"$f":"AT12/(AV4-AT25)","v":0},{"$f":"IF(AU12=0,0,(AU12*((LOG(AU12))/LOG(2))))","v":0}]
[21,889,22,901,24,913,23,926,24,931,0,22222,null,11221,{"$f":"COUNTIF($L$7:$L$500,N13)","v":0},{"$f":"O13/$Q$4","v":0},{"$f":"IF(P13=0,0,(P13*((LOG(P13))/LOG(2))))","v":0},null,null,{"$f":"N13","v":11221},{"$f":"COUNTIF(L7:L30,T13)","v":0},{"$f":"U13/(W4-U25)","v":0},{"$f":"IF(V13=0,0,(V13*((LOG(V13))/LOG(2))))","v":0},null,{"$f":"N13","v":11221},{"$f":"COUNTIF(L31:L54,Y13)","v":0},{"$f":"Z13/(AB4-Z25)","v":0},{"$f":"IF(AA13=0,0,(AA13*((LOG(AA13))/LOG(2))))","v":0},null,{"$f":"N13","v":11221},{"$f":"COUNTIF(L55:L77,AD13)","v":0},{"$f":"AE13/(AG4-AE25)","v":0},{"$f":"IF(AF13=0,0,(AF13*((LOG(AF13))/LOG(2))))","v":0},null,{"$f":"N13","v":11221},{"$f":"COUNTIF(L78:L101,AI13)","v":0},{"$f":"AJ13/(AL4-AJ25)","v":0},{"$f":"IF(AK13=0,0,(AK13*((LOG(AK13))/LOG(2))))","v":0},null,{"$f":"N13","v":11221},{"$f":"COUNTIF(L102:L125,AN13)","v":0},{"$f":"AO13/(AQ4-AO25)","v":0},{"$f":"IF(AP13=0,0,(AP13*((LOG(AP13))/LOG(2))))","v":0},null,{"$f":"N13","v":11221},{"$f":"COUNTIF(L126:L149,AS13)","v":0},{"$f":"AT13/(AV4-AT25)","v":0},{"$f":"IF(AU13=0,0,(AU13*((LOG(AU13))/LOG(2))))","v":0}]
[21,1035,22,1039,24,1044,23,1048,24,1053,0,22222,null,11222,{"$f":"COUNTIF($L$7:$L$500,N14)","v":0},{"$f":"O14/$Q$4","v":0},{"$f":"IF(P14=0,0,(P14*((LOG(P14))/LOG(2))))","v":0},null,null,{"$f":"N14","v":11222},{"$f":"COUNTIF(L7:L30,T14)","v":0},{"$f":"U14/(W4-U25)","v":0},{"$f":"IF(V14=0,0,(V14*((LOG(V14))/LOG(2))))","v":0},null,{"$f":"N14","v":11222},{"$f":"COUNTIF(L31:L54,Y14)","v":0},{"$f":"Z14/(AB4-Z25)","v":0},{"$f":"IF(AA14=0,0,(AA14*((LOG(AA14))/LOG(2))))","v":0},null,{"$f":"N14","v":11222},{"$f":"COUNTIF(L55:L77,AD14)","v":0},{"$f":"AE14/(AG4-AE25)","v":0},{"$f":"IF(AF14=0,0,(AF14*((LOG(AF14))/LOG(2))))","v":0},null,{"$f":"N14","v":11222},{"$f":"COUNTIF(L78:L101,AI14)","v":0},{"$f":"AJ14/(AL4-AJ25)","v":0},{"$f":"IF(AK14=0,0,(AK14*((LOG(AK14))/LOG(2))))","v":0},null,{"$f":"N14","v":11222},{"$f":"COUNTIF(L102:L125,AN14)","v":0},{"$f":"AO14/(AQ4-AO25)","v":0},{"$f":"IF(AP14=0,0,(AP14*((LOG(AP14))/LOG(2))))","v":0},null,{"$f":"N14","v":11222},{"$f":"COUNTIF(L126:L149,AS14)","v":0},{"$f":"AT14/(AV4-AT25)","v":0},{"$f":"IF(AU14=0,0,(AU14*((LOG(AU14))/LOG(2))))","v":0}]
[21,1170,22,1175,24,1179,23,1183,24,1196,0,22222,null,12111,{"$f":"COUNTIF($L$7:$L$500,N15)","v":0},{"$f":"O15/$Q$4","v":0},{"$f":"IF(P15=0,0,(P15*((LOG(P15))/LOG(2))))","v":0},null,null,{"$f":"N15","v":12111},{"$f":"COUNTIF(L7:L30,T15)","v":0},{"$f":"U15/(W4-U25)","v":0},{"$f":"IF(V15=0,0,(V15*((LOG(V15))/LOG(2))))","v":0},null,{"$f":"N15","v":12111},{"$f":"COUNTIF(L31:L54,Y15)","v":0},{"$f":"Z15/(AB4-Z25)","v":0},{"$f":"IF(AA15=0,0,(AA15*((LOG(AA15))/LOG(2))))","v":0},null,{"$f":"N15","v":12111},{"$f":"COUNTIF(L55:L77,AD15)","v":0},{"$f":"AE15/(AG4-AE25)","v":0},{"$f":"IF(AF15=0,0,(AF15*((LOG(AF15))/LOG(2))))","v":0},null,{"$f":"N15","v":12111},{"$f":"COUNTIF(L78:L101,AI15)","v":0},{"$f":"AJ15/(AL4-AJ25)","v":0},{"$f":"IF(AK15=0,0,(AK15*((LOG(AK15))/LOG(2))))","v":0},null,{"$f":"N15","v":12111},{"$f":"COUNTIF(L102:L125,AN15)","v":0},{"$f":"AO15/(AQ4-AO25)","v":0},{"$f":"IF(AP15=0,0,(AP15*((LOG(AP15))/LOG(2))))","v":0},null,{"$f":"N15","v":12111},{"$f":"COUNTIF(L126:L149,AS15)","v":0},{"$f":"AT15/(AV4-AT25)","v":0},{"$f":"IF(AU15=0,0,(AU15*((LOG(AU15))/LOG(2))))","v":0}]
[21,1303,22,1308,24,1312,23,1320,24,1347,0,22222,null,12112,{"$f":"COUNTIF($L$7:$L$500,N16)","v":0},{"$f":"O16/$Q$4","v":0},{"$f":"IF(P16=0,0,(P16*((LOG(P16))/LOG(2))))","v":0},null,null,{"$f":"N16","v":12112},{"$f":"COUNTIF(L7:L30,T16)","v":0},{"$f":"U16/(W4-U25)","v":0},{"$f":"IF(V16=0,0,(V16*((LOG(V16))/LOG(2))))","v":0},null,{"$f":"N16","v":12112},{"$f":"COUNTIF(L31:L54,Y16)","v":0},{"$f":"Z16/(AB4-Z25)","v":0},{"$f":"IF(AA16=0,0,(AA16*((LOG(AA16))/LOG(2))))","v":0},null,{"$f":"N16","v":12112},{"$f":"COUNTIF(L55:L77,AD16)","v":0},{"$f":"AE16/(AG4-AE25)","v":0},{"$f":"IF(AF16=0,0,(AF16*((LOG(AF16))/LOG(2))))","v":0},null,{"$f":"N16","v":12112},{"$f":"COUNTIF(L78:L101,AI16)","v":0},{"$f":"AJ16/(AL4-AJ25)","v":0},{"$f":"IF(AK16=0,0,(AK16*((LOG(AK16))/LOG(2))))","v":0},null,{"$f":"N16","v":12112},{"$f":"COUNTIF(L102:L125,AN16)","v":0},{"$f":"AO16/(AQ4-AO25)","v":0},{"$f":"IF(AP16=0,0,(AP16*((LOG(AP16))/LOG(2))))","v":0},null,{"$f":"N16","v":12112},{"$f":"COUNTIF(L126:L149,AS16)","v":0},{"$f":"AT16/(AV4-AT25)","v":0},{"$f":"IF(AU16=0,0,(AU16*((LOG(AU16))/LOG(2))))","v":0}]
[21,1463,22,1468,24,1495,23,1507,24,1514,1,22222,null,12121,{"$f":"COUNTIF($L$7:$L$500,N17)","v":0},{"$f":"O17/$Q$4","v":0},{"$f":"IF(P17=0,0,(P17*((LOG(P17))/LOG(2))))","v":0},null,null,{"$f":"N17","v":12121},{"$f":"COUNTIF(L7:L30,T17)","v":0},{"$f":"U17/(W4-U25)","v":0},{"$f":"IF(V17=0,0,(V17*((LOG(V17))/LOG(2))))","v":0},null,{"$f":"N17","v":12121},{"$f":"COUNTIF(L31:L54,Y17)","v":0},{"$f":"Z17/(AB4-Z25)","v":0},{"$f":"IF(AA17=0,0,(AA17*((LOG(AA17))/LOG(2))))","v":0},null,{"$f":"N17","v":12121},{"$f":"COUNTIF(L55:L77,AD17)","v":0},{"$f":"AE17/(AG4-AE25)","v":0},{"$f":"IF(AF17=0,0,(AF17*((LOG(AF17))/LOG(2))))","v":0},null,{"$f":"N17","v":12121},{"$f":"COUNTIF(L78:L101,AI17)","v":0},{"$f":"AJ17/(AL4-AJ25)","v":0},{"$f":"IF(AK17=0,0,(AK17*((LOG(AK17))/LOG(2))))","v":0},null,{"$f":"N17","v":12121},{"$f":"COUNTIF(L102:L125,AN17)","v":0},{"$f":"AO17/(AQ4-AO25)","v":0},{"$f":"IF(AP17=0,0,(AP17*((LOG(AP17))/LOG(2))))","v":0},null,{"$f":"N17","v":12121},{"$f":"COUNTIF(L126:L149,AS17)","v":0},{"$f":"AT17/(AV4-AT25)","v":0},{"$f":"IF(AU17=0,0,(AU17*((LOG(AU17))/LOG(2))))","v":0}]
[21,1633,22,1642,24,1659,23,1681,24,1708,0,22222,null,12122,{"$f":"COUNTIF($L$7:$L$500,N18)","v":0},{"$f":"O18/$Q$4","v":0},{"$f":"IF(P18=0,0,(P18*((LOG(P18))/LOG(2))))","v":0},null,null,{"$f":"N18","v":12122},{"$f":"COUNTIF(L7:L30,T18)","v":0},{"$f":"U18/(W4-U25)","v":0},{"$f":"IF(V18=0,0,(V18*((LOG(V18))/LOG(2))))","v":0},null,{"$f":"N18","v":12122},{"$f":"COUNTIF(L31:L54,Y18)","v":0},{"$f":"Z18/(AB4-Z25)","v":0},{"$f":"IF(AA18=0,0,(AA18*((LOG(AA18))/LOG(2))))","v":0},null,{"$f":"N18","v":12122},{"$f":"COUNTIF(L55:L77,AD18)","v":0},{"$f":"AE18/(AG4-AE25)","v":0},{"$f":"IF(AF18=0,0,(AF18*((LOG(AF18))/LOG(2))))","v":0},null,{"$f":"N18","v":12122},{"$f":"COUNTIF(L78:L101,AI18)","v":0},{"$f":"AJ18/(AL4-AJ25)","v":0},{"$f":"IF(AK18=0,0,(AK18*((LOG(AK18))/LOG(2))))","v":0},null,{"$f":"N18","v":12122},{"$f":"COUNTIF(L102:L125,AN18)","v":0},{"$f":"AO18/(AQ4-AO25)","v":0},{"$f":"IF(AP18=0,0,(AP18*((LOG(AP18))/LOG(2))))","v":0},null,{"$f":"N18","v":12122},{"$f":"COUNTIF(L126:L149,AS18)","v":0},{"$f":"AT18/(AV4-AT25)","v":0},{"$f":"IF(AU18=0,0,(AU18*((LOG(AU18))/LOG(2))))","v":0}]
[21,1825,22,1835,24,1846,23,1852,24,1874,0,22222,null,12211,{"$f":"COUNTIF($L$7:$L$500,N19)","v":0},{"$f":"O19/$Q$4","v":0},{"$f":"IF(P19=0,0,(P19*((LOG(P19))/LOG(2))))","v":0},null,null,{"$f":"N19","v":12211},{"$f":"COUNTIF(L7:L30,T19)","v":0},{"$f":"U19/(W4-U25)","v":0},{"$f":"IF(V19=0,0,(V19*((LOG(V19))/LOG(2))))","v":0},null,{"$f":"N19","v":12211},{"$f":"COUNTIF(L31:L54,Y19)","v":0},{"$f":"Z19/(AB4-Z25)","v":0},{"$f":"IF(AA19=0,0,(AA19*((LOG(AA19))/LOG(2))))","v":0},null,{"$f":"N19","v":12211},{"$f":"COUNTIF(L55:L77,AD19)","v":0},{"$f":"AE19/(AG4-AE25)","v":0},{"$f":"IF(AF19=0,0,(AF19*((LOG(AF19))/LOG(2))))","v":0},null,{"$f":"N19","v":12211},{"$f":"COUNTIF(L78:L101,AI19)","v":0},{"$f":"AJ19/(AL4-AJ25)","v":0},{"$f":"IF(AK19=0,0,(AK19*((LOG(AK19))/LOG(2))))","v":0},null,{"$f":"N19","v":12211},{"$f":"COUNTIF(L102:L125,AN19)","v":0},{"$f":"AO19/(AQ4-AO25)","v":0},{"$f":"IF(AP19=0,0,(AP19*((LOG(AP19))/LOG(2))))","v":0},null,{"$f":"N19","v":12211},{"$f":"COUNTIF(L126:L149,AS19)","v":0},{"$f":"AT19/(AV4-AT25)","v":0},{"$f":"IF(AU19=0,0,(AU19*((LOG(AU19))/LOG(2))))","v":0}]
[21,1980,22,1995,24,2004,23,2014,24,2030,0,22222,null,12212,{"$f":"COUNTIF($L$7:$L$500,N20)","v":0},{"$f":"O20/$Q$4","v":0},{"$f":"IF(P20=0,0,(P20*((LOG(P20))/LOG(2))))","v":0},null,null,{"$f":"N20","v":12212},{"$f":"COUNTIF(L7:L30,T20)","v":0},{"$f":"U20/(W4-U25)","v":0},{"$f":"IF(V20=0,0,(V20*((LOG(V20))/LOG(2))))","v":0},null,{"$f":"N20","v":12212},{"$f":"COUNTIF(L31:L54,Y20)","v":0},{"$f":"Z20/(AB4-Z25)","v":0},{"$f":"IF(AA20=0,0,(AA20*((LOG(AA20))/LOG(2))))","v":0},null,{"$f":"N20","v":12212},{"$f":"COUNTIF(L55:L77,AD20)","v":0},{"$f":"AE20/(AG4-AE25)","v":0},{"$f":"IF(AF20=0,0,(AF20*((LOG(AF20))/LOG(2))))","v":0},null,{"$f":"N20","v":12212},{"$f":"COUNTIF(L78:L101,AI20)","v":0},{"$f":"AJ20/(AL4-AJ25)","v":0},{"$f":"IF(AK20=0,0,(AK20*((LOG(AK20))/LOG(2))))","v":0},null,{"$f":"N20","v":12212},{"$f":"COUNTIF(L102:L125,AN20)","v":0},{"$f":"AO20/(AQ4-AO25)","v":0},{"$f":"IF(AP20=0,0,(AP20*((LOG(AP20))/LOG(2))))","v":0},null,{"$f":"N20","v":12212},{"$f":"COUNTIF(L126:L149,AS20)","v":0},{"$f":"AT20/(AV4-AT25)","v":0},{"$f":"IF(AU20=0,0,(AU20*((LOG(AU20))/LOG(2))))","v":0}]
[21,2157,22,2162,24,2166,23,2170,24,2189,0,22222,null,12221,{"$f":"COUNTIF($L$7:$L$500,N21)","v":0},{"$f":"O21/$Q$4","v":0},{"$f":"IF(P21=0,0,(P21*((LOG(P21))/LOG(2))))","v":0},null,null,{"$f":"N21","v":12221},{"$f":"COUNTIF(L7:L30,T21)","v":0},{"$f":"U21/(W4-U25)","v":0},{"$f":"IF(V21=0,0,(V21*((LOG(V21))/LOG(2))))","v":0},null,{"$f":"N21","v":12221},{"$f":"COUNTIF(L31:L54,Y21)","v":0},{"$f":"Z21/(AB4-Z25)","v":0},{"$f":"IF(AA21=0,0,(AA21*((LOG(AA21))/LOG(2))))","v":0},null,{"$f":"N21","v":12221},{"$f":"COUNTIF(L55:L77,AD21)","v":0},{"$f":"AE21/(AG4-AE25)","v":0},{"$f":"IF(AF21=0,0,(AF21*((LOG(AF21))/LOG(2))))","v":0},null,{"$f":"N21","v":12221},{"$f":"COUNTIF(L78:L101,AI21)","v":0},{"$f":"AJ21/(AL4-AJ25)","v":0},{"$f":"IF(AK21=0,0,(AK21*((LOG(AK21))/LOG(2))))","v":0},null,{"$f":"N21","v":12221},{"$f":"COUNTIF(L102:L125,AN21)","v":0},{"$f":"AO21/(AQ4-AO25)","v":0},{"$f":"IF(AP21=0,0,(AP21*((LOG(AP21))/LOG(2))))","v":0},null,{"$f":"N21","v":12221},{"$f":"COUNTIF(L126:L149,AS21)","v":0},{"$f":"AT21/(AV4-AT25)","v":0},{"$f":"IF(AU21=0,0,(AU21*((LOG(AU21))/LOG(2))))","v":0}]
[21,2315,22,2320,24,2325,23,2334,24,2345,0,22222,null,12222,{"$f":"COUNTIF($L$7:$L$500,N22)","v":1},{"$f":"O22/$Q$4","v":6.993006993006993E-3},{"$f":"IF(P22=0,0,(P22*((LOG(P22))/LOG(2))))","v":-5.0069030327121608E-2},null,null,{"$f":"N22","v":12222},{"$f":"COUNTIF(L7:L30,T22)","v":0},{"$f":"U22/(W4-U25)","v":0},{"$f":"IF(V22=0,0,(V22*((LOG(V22))/LOG(2))))","v":0},null,{"$f":"N22","v":12222},{"$f":"COUNTIF(L31:L54,Y22)","v":0},{"$f":"Z22/(AB4-Z25)","v":0},{"$f":"IF(AA22=0,0,(AA22*((LOG(AA22))/LOG(2))))","v":0},null,{"$f":"N22","v":12222},{"$f":"COUNTIF(L55:L77,AD22)","v":0},{"$f":"AE22/(AG4-AE25)","v":0},{"$f":"IF(AF22=0,0,(AF22*((LOG(AF22))/LOG(2))))","v":0},null,{"$f":"N22","v":12222},{"$f":"COUNTIF(L78:L101,AI22)","v":1},{"$f":"AJ22/(AL4-AJ25)","v":4.1666666666666664E-2},{"$f":"IF(AK22=0,0,(AK22*((LOG(AK22))/LOG(2))))","v":-0.19104010419671485},null,{"$f":"N22","v":12222},{"$f":"COUNTIF(L102:L125,AN22)","v":0},{"$f":"AO22/(AQ4-AO25)","v":0},{"$f":"IF(AP22=0,0,(AP22*((LOG(AP22))/LOG(2))))","v":0},null,{"$f":"N22","v":12222},{"$f":"COUNTIF(L126:L149,AS22)","v":0},{"$f":"AT22/(AV4-AT25)","v":0},{"$f":"IF(AU22=0,0,(AU22*((LOG(AU22))/LOG(2))))","v":0}]
[21,2453,22,2457,24,2461,23,2465,24,2470,0,22222,null,21111,{"$f":"COUNTIF($L$7:$L$500,N23)","v":0},{"$f":"O23/$Q$4","v":0},{"$f":"IF(P23=0,0,(P23*((LOG(P23))/LOG(2))))","v":0},null,null,{"$f":"N23","v":21111},{"$f":"COUNTIF(L7:L30,T23)","v":0},{"$f":"U23/(W4-U25)","v":0},{"$f":"IF(V23=0,0,(V23*((LOG(V23))/LOG(2))))","v":0},null,{"$f":"N23","v":21111},{"$f":"COUNTIF(L31:L54,Y23)","v":0},{"$f":"Z23/(AB4-Z25)","v":0},{"$f":"IF(AA23=0,0,(AA23*((LOG(AA23))/LOG(2))))","v":0},null,{"$f":"N23","v":21111},{"$f":"COUNTIF(L55:L77,AD23)","v":0},{"$f":"AE23/(AG4-AE25)","v":0},{"$f":"IF(AF23=0,0,(AF23*((LOG(AF23))/LOG(2))))","v":0},null,{"$f":"N23","v":21111},{"$f":"COUNTIF(L78:L101,AI23)","v":0},{"$f":"AJ23/(AL4-AJ25)","v":0},{"$f":"IF(AK23=0,0,(AK23*((LOG(AK23))/LOG(2))))","v":0},null,{"$f":"N23","v":21111},{"$f":"COUNTIF(L102:L125,AN23)","v":0},{"$f":"AO23/(AQ4-AO25)","v":0},{"$f":"IF(AP23=0,0,(AP23*((LOG(AP23))/LOG(2))))","v":0},null,{"$f":"N23","v":21111},{"$f":"COUNTIF(L126:L149,AS23)","v":0},{"$f":"AT23/(AV4-AT25)","v":0},{"$f":"IF(AU23=0,0,(AU23*((LOG(AU23))/LOG(2))))","v":0}]
[21,2578,22,2593,24,2597,23,2603,24,2614,1,22222,null,21112,{"$f":"COUNTIF($L$7:$L$500,N24)","v":0},{"$f":"O24/$Q$4","v":0},{"$f":"IF(P24=0,0,(P24*((LOG(P24))/LOG(2))))","v":0},null,null,{"$f":"N24","v":21112},{"$f":"COUNTIF(L7:L30,T24)","v":0},{"$f":"U24/(W4-U25)","v":0},{"$f":"IF(V24=0,0,(V24*((LOG(V24))/LOG(2))))","v":0},null,{"$f":"N24","v":21112},{"$f":"COUNTIF(L31:L54,Y24)","v":0},{"$f":"Z24/(AB4-Z25)","v":0},{"$f":"IF(AA24=0,0,(AA24*((LOG(AA24))/LOG(2))))","v":0},null,{"$f":"N24","v":21112},{"$f":"COUNTIF(L55:L77,AD24)","v":0},{"$f":"AE24/(AG4-AE25)","v":0},{"$f":"IF(AF24=0,0,(AF24*((LOG(AF24))/LOG(2))))","v":0},null,{"$f":"N24","v":21112},{"$f":"COUNTIF(L78:L101,AI24)","v":0},{"$f":"AJ24/(AL4-AJ25)","v":0},{"$f":"IF(AK24=0,0,(AK24*((LOG(AK24))/LOG(2))))","v":0},null,{"$f":"N24","v":21112},{"$f":"COUNTIF(L102:L125,AN24)","v":0},{"$f":"AO24/(AQ4-AO25)","v":0},{"$f":"IF(AP24=0,0,(AP24*((LOG(AP24))/LOG(2))))","v":0},null,{"$f":"N24","v":21112},{"$f":"COUNTIF(L126:L149,AS24)","v":0},{"$f":"AT24/(AV4-AT25)","v":0},{"$f":"IF(AU24=0,0,(AU24*((LOG(AU24))/LOG(2))))","v":0}]
[21,2731,22,2747,24,2762,23,2770,24,2784,0,22222,null,21121,{"$f":"COUNTIF($L$7:$L$500,N25)","v":0},{"$f":"O25/$Q$4","v":0},{"$f":"IF(P25=0,0,(P25*((LOG(P25))/LOG(2))))","v":0},null,null,{"$f":"N25","v":21121},{"$f":"COUNTIF(L7:L30,T25)","v":0},null,null,null,{"$f":"N25","v":21121},{"$f":"COUNTIF(L31:L54,Y25)","v":0},null,null,null,{"$f":"N25","v":21121},{"$f":"COUNTIF(L55:L77,AD25)","v":0},null,null,null,{"$f":"N25","v":21121},{"$f":"COUNTIF(L78:L101,AI25)","v":0},null,null,null,{"$f":"N25","v":21121},{"$f":"COUNTIF(L102:L125,AN25)","v":0},null,null,null,{"$f":"N25","v":21121},{"$f":"COUNTIF(L126:L149,AS25)","v":0}]
[21,2895,22,2907,24,2913,23,2936,24,2959,0,22222,null,21122,{"$f":"COUNTIF($L$7:$L$500,N26)","v":0},{"$f":"O26/$Q$4","v":0},{"$f":"IF(P26=0,0,(P26*((LOG(P26))/LOG(2))))","v":0},null,null,{"$f":"N26","v":21122},{"$f":"COUNTIF(L7:L30,T26)","v":0},{"$f":"U26/(W4-U25)","v":0},{"$f":"IF(V26=0,0,(V26*((LOG(V26))/LOG(2))))","v":0},null,{"$f":"N26","v":21122},{"$f":"COUNTIF(L31:L54,Y26)","v":0},{"$f":"Z26/(AB4-Z25)","v":0},{"$f":"IF(AA26=0,0,(AA26*((LOG(AA26))/LOG(2))))","v":0},null,{"$f":"N26","v":21122},{"$f":"COUNTIF(L55:L77,AD26)","v":0},{"$f":"AE26/(AG4-AE25)","v":0},{"$f":"IF(AF26=0,0,(AF26*((LOG(AF26))/LOG(2))))","v":0},null,{"$f":"N26","v":21122},{"$f":"COUNTIF(L78:L101,AI26)","v":0},{"$f":"AJ26/(AL4-AJ25)","v":0},{"$f":"IF(AK26=0,0,(AK26*((LOG(AK26))/LOG(2))))","v":0},null,{"$f":"N26","v":21122},{"$f":"COUNTIF(L102:L125,AN26)","v":0},{"$f":"AO26/(AQ4-AO25)","v":0},{"$f":"IF(AP26=0,0,(AP26*((LOG(AP26))/LOG(2))))","v":0},null,{"$f":"N26","v":21122},{"$f":"COUNTIF(L126:L149,AS26)","v":0},{"$f":"AT26/(AV4-AT25)","v":0},{"$f":"IF(AU26=0,0,(AU26*((LOG(AU26))/LOG(2))))","v":0}]
[21,3084,22,3090,24,3098,23,3105,24,3111,0,22222,null,21211,{"$f":"COUNTIF($L$7:$L$500,N27)","v":0},{"$f":"O27/$Q$4","v":0},{"$f":"IF(P27=0,0,(P27*((LOG(P27))/LOG(2))))","v":0},null,null,{"$f":"N27","v":21211},{"$f":"COUNTIF(L7:L30,T27)","v":0},{"$f":"U27/(W4-U25)","v":0},{"$f":"IF(V27=0,0,(V27*((LOG(V27))/LOG(2))))","v":0},null,{"$f":"N27","v":21211},{"$f":"COUNTIF(L31:L54,Y27)","v":0},{"$f":"Z27/(AB4-Z25)","v":0},{"$f":"IF(AA27=0,0,(AA27*((LOG(AA27))/LOG(2))))","v":0},null,{"$f":"N27","v":21211},{"$f":"COUNTIF(L55:L77,AD27)","v":0},{"$f":"AE27/(AG4-AE25)","v":0},{"$f":"IF(AF27=0,0,(AF27*((LOG(AF27))/LOG(2))))","v":0},null,{"$f":"N27","v":21211},{"$f":"COUNTIF(L78:L101,AI27)","v":0},{"$f":"AJ27/(AL4-AJ25)","v":0},{"$f":"IF(AK27=0,0,(AK27*((LOG(AK27))/LOG(2))))","v":0},null,{"$f":"N27","v":21211},{"$f":"COUNTIF(L102:L125,AN27)","v":0},{"$f":"AO27/(AQ4-AO25)","v":0},{"$f":"IF(AP27=0,0,(AP27*((LOG(AP27))/LOG(2))))","v":0},null,{"$f":"N27","v":21211},{"$f":"COUNTIF(L126:L149,AS27)","v":0},{"$f":"AT27/(AV4-AT25)","v":0},{"$f":"IF(AU27=0,0,(AU27*((LOG(AU27))/LOG(2))))","v":0}]
[21,3243,22,3250,24,3260,23,3278,24,3293,1,22222,null,21212,{"$f":"COUNTIF($L$7:$L$500,N28)","v":0},{"$f":"O28/$Q$4","v":0},{"$f":"IF(P28=0,0,(P28*((LOG(P28))/LOG(2))))","v":0},null,null,{"$f":"N28","v":21212},{"$f":"COUNTIF(L7:L30,T28)","v":0},{"$f":"U28/(W4-U25)","v":0},{"$f":"IF(V28=0,0,(V28*((LOG(V28))/LOG(2))))","v":0},null,{"$f":"N28","v":21212},{"$f":"COUNTIF(L31:L54,Y28)","v":0},{"$f":"Z28/(AB4-Z25)","v":0},{"$f":"IF(AA28=0,0,(AA28*((LOG(AA28))/LOG(2))))","v":0},null,{"$f":"N28","v":21212},{"$f":"COUNTIF(L55:L77,AD28)","v":0},{"$f":"AE28/(AG4-AE25)","v":0},{"$f":"IF(AF28=0,0,(AF28*((LOG(AF28))/LOG(2))))","v":0},null,{"$f":"N28","v":21212},{"$f":"COUNTIF(L78:L101,AI28)","v":0},{"$f":"AJ28/(AL4-AJ25)","v":0},{"$f":"IF(AK28=0,0,(AK28*((LOG(AK28))/LOG(2))))","v":0},null,{"$f":"N28","v":21212},{"$f":"COUNTIF(L102:L125,AN28)","v":0},{"$f":"AO28/(AQ4-AO25)","v":0},{"$f":"IF(AP28=0,0,(AP28*((LOG(AP28))/LOG(2))))","v":0},null,{"$f":"N28","v":21212},{"$f":"COUNTIF(L126:L149,AS28)","v":0},{"$f":"AT28/(AV4-AT25)","v":0},{"$f":"IF(AU28=0,0,(AU28*((LOG(AU28))/LOG(2))))","v":0}]
[21,3408,22,3416,24,3420,23,3430,24,3435,0,22222,null,21221,{"$f":"COUNTIF($L$7:$L$500,N29)","v":0},{"$f":"O29/$Q$4","v":0},{"$f":"IF(P29=0,0,(P29*((LOG(P29))/LOG(2))))","v":0},null,null,{"$f":"N29","v":21221},{"$f":"COUNTIF(L7:L30,T29)","v":0},{"$f":"U29/(W4-U25)","v":0},{"$f":"IF(V29=0,0,(V29*((LOG(V29))/LOG(2))))","v":0},null,{"$f":"N29","v":21221},{"$f":"COUNTIF(L31:L54,Y29)","v":0},{"$f":"Z29/(AB4-Z25)","v":0},{"$f":"IF(AA29=0,0,(AA29*((LOG(AA29))/LOG(2))))","v":0},null,{"$f":"N29","v":21221},{"$f":"COUNTIF(L55:L77,AD29)","v":0},{"$f":"AE29/(AG4-AE25)","v":0},{"$f":"IF(AF29=0,0,(AF29*((LOG(AF29))/LOG(2))))","v":0},null,{"$f":"N29","v":21221},{"$f":"COUNTIF(L78:L101,AI29)","v":0},{"$f":"AJ29/(AL4-AJ25)","v":0},{"$f":"IF(AK29=0,0,(AK29*((LOG(AK29))/LOG(2))))","v":0},null,{"$f":"N29","v":21221},{"$f":"COUNTIF(L102:L125,AN29)","v":0},{"$f":"AO29/(AQ4-AO25)","v":0},{"$f":"IF(AP29=0,0,(AP29*((LOG(AP29))/LOG(2))))","v":0},null,{"$f":"N29","v":21221},{"$f":"COUNTIF(L126:L149,AS29)","v":0},{"$f":"AT29/(AV4-AT25)","v":0},{"$f":"IF(AU29=0,0,(AU29*((LOG(AU29))/LOG(2))))","v":0}]
[21,3574,22,3587,24,3594,23,3601,24,3608,0,22222,null,21222,{"$f":"COUNTIF($L$7:$L$500,N30)","v":0},{"$f":"O30/$Q$4","v":0},{"$f":"IF(P30=0,0,(P30*((LOG(P30))/LOG(2))))","v":0},null,null,{"$f":"N30","v":21222},{"$f":"COUNTIF(L7:L30,T30)","v":0},{"$f":"U30/(W4-U25)","v":0},{"$f":"IF(V30=0,0,(V30*((LOG(V30))/LOG(2))))","v":0},null,{"$f":"N30","v":21222},{"$f":"COUNTIF(L31:L54,Y30)","v":0},{"$f":"Z30/(AB4-Z25)","v":0},{"$f":"IF(AA30=0,0,(AA30*((LOG(AA30))/LOG(2))))","v":0},null,{"$f":"N30","v":21222},{"$f":"COUNTIF(L55:L77,AD30)","v":0},{"$f":"AE30/(AG4-AE25)","v":0},{"$f":"IF(AF30=0,0,(AF30*((LOG(AF30))/LOG(2))))","v":0},null,{"$f":"N30","v":21222},{"$f":"COUNTIF(L78:L101,AI30)","v":0},{"$f":"AJ30/(AL4-AJ25)","v":0},{"$f":"IF(AK30=0,0,(AK30*((LOG(AK30))/LOG(2))))","v":0},null,{"$f":"N30","v":21222},{"$f":"COUNTIF(L102:L125,AN30)","v":0},{"$f":"AO30/(AQ4-AO25)","v":0},{"$f":"IF(AP30=0,0,(AP30*((LOG(AP30))/LOG(2))))","v":0},null,{"$f":"N30","v":21222},{"$f":"COUNTIF(L126:L149,AS30)","v":0},{"$f":"AT30/(AV4-AT25)","v":0},{"$f":"IF(AU30=0,0,(AU30*((LOG(AU30))/LOG(2))))","v":0}]
[21,3735,22,3744,24,3762,23,3769,24,3783,0,22222,null,22111,{"$f":"COUNTIF($L$7:$L$500,N31)","v":0},{"$f":"O31/$Q$4","v":0},{"$f":"IF(P31=0,0,(P31*((LOG(P31))/LOG(2))))","v":0},null,null,{"$f":"N31","v":22111},{"$f":"COUNTIF(L7:L30,T31)","v":0},{"$f":"U31/(W4-U25)","v":0},{"$f":"IF(V31=0,0,(V31*((LOG(V31))/LOG(2))))","v":0},null,{"$f":"N31","v":22111},{"$f":"COUNTIF(L31:L54,Y31)","v":0},{"$f":"Z31/(AB4-Z25)","v":0},{"$f":"IF(AA31=0,0,(AA31*((LOG(AA31))/LOG(2))))","v":0},null,{"$f":"N31","v":22111},{"$f":"COUNTIF(L55:L77,AD31)","v":0},{"$f":"AE31/(AG4-AE25)","v":0},{"$f":"IF(AF31=0,0,(AF31*((LOG(AF31))/LOG(2))))","v":0},null,{"$f":"N31","v":22111},{"$f":"COUNTIF(L78:L101,AI31)","v":0},{"$f":"AJ31/(AL4-AJ25)","v":0},{"$f":"IF(AK31=0,0,(AK31*((LOG(AK31))/LOG(2))))","v":0},null,{"$f":"N31","v":22111},{"$f":"COUNTIF(L102:L125,AN31)","v":0},{"$f":"AO31/(AQ4-AO25)","v":0},{"$f":"IF(AP31=0,0,(AP31*((LOG(AP31))/LOG(2))))","v":0},null,{"$f":"N31","v":22111},{"$f":"COUNTIF(L126:L149,AS31)","v":0},{"$f":"AT31/(AV4-AT25)","v":0},{"$f":"IF(AU31=0,0,(AU31*((LOG(AU31))/LOG(2))))","v":0}]
[21,3900,22,3905,24,3910,23,3914,24,3921,1,22222,null,22112,{"$f":"COUNTIF($L$7:$L$500,N32)","v":0},{"$f":"O32/$Q$4","v":0},{"$f":"IF(P32=0,0,(P32*((LOG(P32))/LOG(2))))","v":0},null,null,{"$f":"N32","v":22112},{"$f":"COUNTIF(L7:L30,T32)","v":0},{"$f":"U32/(W4-U25)","v":0},{"$f":"IF(V32=0,0,(V32*((LOG(V32))/LOG(2))))","v":0},null,{"$f":"N32","v":22112},{"$f":"COUNTIF(L31:L54,Y32)","v":0},{"$f":"Z32/(AB4-Z25)","v":0},{"$f":"IF(AA32=0,0,(AA32*((LOG(AA32))/LOG(2))))","v":0},null,{"$f":"N32","v":22112},{"$f":"COUNTIF(L55:L77,AD32)","v":0},{"$f":"AE32/(AG4-AE25)","v":0},{"$f":"IF(AF32=0,0,(AF32*((LOG(AF32))/LOG(2))))","v":0},null,{"$f":"N32","v":22112},{"$f":"COUNTIF(L78:L101,AI32)","v":0},{"$f":"AJ32/(AL4-AJ25)","v":0},{"$f":"IF(AK32=0,0,(AK32*((LOG(AK32))/LOG(2))))","v":0},null,{"$f":"N32","v":22112},{"$f":"COUNTIF(L102:L125,AN32)","v":0},{"$f":"AO32/(AQ4-AO25)","v":0},{"$f":"IF(AP32=0,0,(AP32*((LOG(AP32))/LOG(2))))","v":0},null,{"$f":"N32","v":22112},{"$f":"COUNTIF(L126:L149,AS32)","v":0},{"$f":"AT32/(AV4-AT25)","v":0},{"$f":"IF(AU32=0,0,(AU32*((LOG(AU32))/LOG(2))))","v":0}]
[21,4038,22,4046,24,4082,23,4093,24,4104,0,22222,null,22121,{"$f":"COUNTIF($L$7:$L$500,N33)","v":0},{"$f":"O33/$Q$4","v":0},{"$f":"IF(P33=0,0,(P33*((LOG(P33))/LOG(2))))","v":0},null,null,{"$f":"N33","v":22121},{"$f":"COUNTIF(L7:L30,T33)","v":0},{"$f":"U33/(W4-U25)","v":0},{"$f":"IF(V33=0,0,(V33*((LOG(V33))/LOG(2))))","v":0},null,{"$f":"N33","v":22121},{"$f":"COUNTIF(L31:L54,Y33)","v":0},{"$f":"Z33/(AB4-Z25)","v":0},{"$f":"IF(AA33=0,0,(AA33*((LOG(AA33))/LOG(2))))","v":0},null,{"$f":"N33","v":22121},{"$f":"COUNTIF(L55:L77,AD33)","v":0},{"$f":"AE33/(AG4-AE25)","v":0},{"$f":"IF(AF33=0,0,(AF33*((LOG(AF33))/LOG(2))))","v":0},null,{"$f":"N33","v":22121},{"$f":"COUNTIF(L78:L101,AI33)","v":0},{"$f":"AJ33/(AL4-AJ25)","v":0},{"$f":"IF(AK33=0,0,(AK33*((LOG(AK33))/LOG(2))))","v":0},null,{"$f":"N33","v":22121},{"$f":"COUNTIF(L102:L125,AN33)","v":0},{"$f":"AO33/(AQ4-AO25)","v":0},{"$f":"IF(AP33=0,0,(AP33*((LOG(AP33))/LOG(2))))","v":0},null,{"$f":"N33","v":22121},{"$f":"COUNTIF(L126:L149,AS33)","v":0},{"$f":"AT33/(AV4-AT25)","v":0},{"$f":"IF(AU33=0,0,(AU33*((LOG(AU33))/LOG(2))))","v":0}]
[21,4228,22,4236,24,4240,23,4247,24,4262,0,22222,null,22122,{"$f":"COUNTIF($L$7:$L$500,N34)","v":0},{"$f":"O34/$Q$4","v":0},{"$f":"IF(P34=0,0,(P34*((LOG(P34))/LOG(2))))","v":0},null,null,{"$f":"N34","v":22122},{"$f":"COUNTIF(L7:L30,T34)","v":0},{"$f":"U34/(W4-U25)","v":0},{"$f":"IF(V34=0,0,(V34*((LOG(V34))/LOG(2))))","v":0},null,{"$f":"N34","v":22122},{"$f":"COUNTIF(L31:L54,Y34)","v":0},{"$f":"Z34/(AB4-Z25)","v":0},{"$f":"IF(AA34=0,0,(AA34*((LOG(AA34))/LOG(2))))","v":0},null,{"$f":"N34","v":22122},{"$f":"COUNTIF(L55:L77,AD34)","v":0},{"$f":"AE34/(AG4-AE25)","v":0},{"$f":"IF(AF34=0,0,(AF34*((LOG(AF34))/LOG(2))))","v":0},null,{"$f":"N34","v":22122},{"$f":"COUNTIF(L78:L101,AI34)","v":0},{"$f":"AJ34/(AL4-AJ25)","v":0},{"$f":"IF(AK34=0,0,(AK34*((LOG(AK34))/LOG(2))))","v":0},null,{"$f":"N34","v":22122},{"$f":"COUNTIF(L102:L125,AN34)","v":0},{"$f":"AO34/(AQ4-AO25)","v":0},{"$f":"IF(AP34=0,0,(AP34*((LOG(AP34))/LOG(2))))","v":0},null,{"$f":"N34","v":22122},{"$f":"COUNTIF(L126:L149,AS34)","v":0},{"$f":"AT34/(AV4-AT25)","v":0},{"$f":"IF(AU34=0,0,(AU34*((LOG(AU34))/LOG(2))))","v":0}]
[21,4385,22,4389,24,4398,23,4405,24,4419,0,22222,null,22211,{"$f":"COUNTIF($L$7:$L$500,N35)","v":0},{"$f":"O35/$Q$4","v":0},{"$f":"IF(P35=0,0,(P35*((LOG(P35))/LOG(2))))","v":0},null,null,{"$f":"N35","v":22211},{"$f":"COUNTIF(L7:L30,T35)","v":0},{"$f":"U35/(W4-U25)","v":0},{"$f":"IF(V35=0,0,(V35*((LOG(V35))/LOG(2))))","v":0},null,{"$f":"N35","v":22211},{"$f":"COUNTIF(L31:L54,Y35)","v":0},{"$f":"Z35/(AB4-Z25)","v":0},{"$f":"IF(AA35=0,0,(AA35*((LOG(AA35))/LOG(2))))","v":0},null,{"$f":"N35","v":22211},{"$f":"COUNTIF(L55:L77,AD35)","v":0},{"$f":"AE35/(AG4-AE25)","v":0},{"$f":"IF(AF35=0,0,(AF35*((LOG(AF35))/LOG(2))))","v":0},null,{"$f":"N35","v":22211},{"$f":"COUNTIF(L78:L101,AI35)","v":0},{"$f":"AJ35/(AL4-AJ25)","v":0},{"$f":"IF(AK35=0,0,(AK35*((LOG(AK35))/LOG(2))))","v":0},null,{"$f":"N35","v":22211},{"$f":"COUNTIF(L102:L125,AN35)","v":0},{"$f":"AO35/(AQ4-AO25)","v":0},{"$f":"IF(AP35=0,0,(AP35*((LOG(AP35))/LOG(2))))","v":0},null,{"$f":"N35","v":22211},{"$f":"COUNTIF(L126:L149,AS35)","v":0},{"$f":"AT35/(AV4-AT25)","v":0},{"$f":"IF(AU35=0,0,(AU35*((LOG(AU35))/LOG(2))))","v":0}]
[21,4529,22,4534,24,4538,23,4542,24,4546,0,22222,null,22212,{"$f":"COUNTIF($L$7:$L$500,N36)","v":0},{"$f":"O36/$Q$4","v":0},{"$f":"IF(P36=0,0,(P36*((LOG(P36))/LOG(2))))","v":0},null,null,{"$f":"N36","v":22212},{"$f":"COUNTIF(L7:L30,T36)","v":0},{"$f":"U36/(W4-U25)","v":0},{"$f":"IF(V36=0,0,(V36*((LOG(V36))/LOG(2))))","v":0},null,{"$f":"N36","v":22212},{"$f":"COUNTIF(L31:L54,Y36)","v":0},{"$f":"Z36/(AB4-Z25)","v":0},{"$f":"IF(AA36=0,0,(AA36*((LOG(AA36))/LOG(2))))","v":0},null,{"$f":"N36","v":22212},{"$f":"COUNTIF(L55:L77,AD36)","v":0},{"$f":"AE36/(AG4-AE25)","v":0},{"$f":"IF(AF36=0,0,(AF36*((LOG(AF36))/LOG(2))))","v":0},null,{"$f":"N36","v":22212},{"$f":"COUNTIF(L78:L101,AI36)","v":0},{"$f":"AJ36/(AL4-AJ25)","v":0},{"$f":"IF(AK36=0,0,(AK36*((LOG(AK36))/LOG(2))))","v":0},null,{"$f":"N36","v":22212},{"$f":"COUNTIF(L102:L125,AN36)","v":0},{"$f":"AO36/(AQ4-AO25)","v":0},{"$f":"IF(AP36=0,0,(AP36*((LOG(AP36))/LOG(2))))","v":0},null,{"$f":"N36","v":22212},{"$f":"COUNTIF(L126:L149,AS36)","v":0},{"$f":"AT36/(AV4-AT25)","v":0},{"$f":"IF(AU36=0,0,(AU36*((LOG(AU36))/LOG(2))))","v":0}]
[21,4656,22,4664,24,4669,23,4684,24,4691,0,22222,null,22221,{"$f":"COUNTIF($L$7:$L$500,N37)","v":0},{"$f":"O37/$Q$4","v":0},{"$f":"IF(P37=0,0,(P37*((LOG(P37))/LOG(2))))","v":0},null,null,{"$f":"N37","v":22221},{"$f":"COUNTIF(L7:L30,T37)","v":0},{"$f":"U37/(W4-U25)","v":0},{"$f":"IF(V37=0,0,(V37*((LOG(V37))/LOG(2))))","v":0},null,{"$f":"N37","v":22221},{"$f":"COUNTIF(L31:L54,Y37)","v":0},{"$f":"Z37/(AB4-Z25)","v":0},{"$f":"IF(AA37=0,0,(AA37*((LOG(AA37))/LOG(2))))","v":0},null,{"$f":"N37","v":22221},{"$f":"COUNTIF(L55:L77,AD37)","v":0},{"$f":"AE37/(AG4-AE25)","v":0},{"$f":"IF(AF37=0,0,(AF37*((LOG(AF37))/LOG(2))))","v":0},null,{"$f":"N37","v":22221},{"$f":"COUNTIF(L78:L101,AI37)","v":0},{"$f":"AJ37/(AL4-AJ25)","v":0},{"$f":"IF(AK37=0,0,(AK37*((LOG(AK37))/LOG(2))))","v":0},null,{"$f":"N37","v":22221},{"$f":"COUNTIF(L102:L125,AN37)","v":0},{"$f":"AO37/(AQ4-AO25)","v":0},{"$f":"IF(AP37=0,0,(AP37*((LOG(AP37))/LOG(2))))","v":0},null,{"$f":"N37","v":22221},{"$f":"COUNTIF(L126:L149,AS37)","v":0},{"$f":"AT37/(AV4-AT25)","v":0},{"$f":"IF(AU37=0,0,(AU37*((LOG(AU37))/LOG(2))))","v":0}]
[21,4824,22,4828,24,4836,23,4840,24,4844,0,22222,null,22222,{"$f":"COUNTIF($L$7:$L$500,N38)","v":142},{"$f":"O38/$Q$4","v":0.99300699300699302},{"$f":"IF(P38=0,0,(P38*((LOG(P38))/LOG(2))))","v":-1.0053418551513576E-2},null,null,{"$f":"N38","v":22222},{"$f":"COUNTIF(L7:L30,T38)","v":24},{"$f":"U38/(W4-U25)","v":1},{"$f":"IF(V38=0,0,(V38*((LOG(V38))/LOG(2))))","v":0},null,{"$f":"N38","v":22222},{"$f":"COUNTIF(L31:L54,Y38)","v":24},{"$f":"Z38/(AB4-Z25)","v":1},{"$f":"IF(AA38=0,0,(AA38*((LOG(AA38))/LOG(2))))","v":0},null,{"$f":"N38","v":22222},{"$f":"COUNTIF(L55:L77,AD38)","v":23},{"$f":"AE38/(AG4-AE25)","v":1},{"$f":"IF(AF38=0,0,(AF38*((LOG(AF38))/LOG(2))))","v":0},null,{"$f":"N38","v":22222},{"$f":"COUNTIF(L78:L101,AI38)","v":23},{"$f":"AJ38/(AL4-AJ25)","v":0.95833333333333337},{"$f":"IF(AK38=0,0,(AK38*((LOG(AK38))/LOG(2))))","v":-5.8842188636470616E-2},null,{"$f":"N38","v":22222},{"$f":"COUNTIF(L102:L125,AN38)","v":24},{"$f":"AO38/(AQ4-AO25)","v":1},{"$f":"IF(AP38=0,0,(AP38*((LOG(AP38))/LOG(2))))","v":0},null,{"$f":"N38","v":22222},{"$f":"COUNTIF(L126:L149,AS38)","v":24},{"$f":"AT38/(AV4-AT25)","v":1},{"$f":"IF(AU38=0,0,(AU38*((LOG(AU38))/LOG(2))))","v":0}]
[21,4955,22,4960,24,4977,23,5005,24,5012,0,22222,null,null,null,{"$f":"SUM(P7:P38)","v":1},{"$f":"-SUM(Q7:Q38)","v":6.0122448878635187E-2},null,null,null,null,{"$f":"SUM(V7:V38)","v":1},{"$f":"-SUM(W7:W38)","v":0},null,null,null,{"$f":"SUM(AA7:AA38)","v":1},{"$f":"-SUM(AB7:AB38)","v":0},null,null,null,{"$f":"SUM(AF7:AF38)","v":1},{"$f":"-SUM(AG7:AG38)","v":0},null,null,null,{"$f":"SUM(AK7:AK38)","v":1},{"$f":"-SUM(AL7:AL38)","v":0.24988229283318547},null,null,null,{"$f":"SUM(AP7:AP38)","v":1},{"$f":"-SUM(AQ7:AQ38)","v":0},null,null,null,{"$f":"SUM(AU7:AU38)","v":1},{"$f":"-SUM(AV7:AV38)","v":0}]
[21,5131,22,5143,24,5147,23,5152,24,5162,0,22222,null,null,null,"U=",{"$f":"Q39/(LOG(Q4)/LOG(2))","v":8.3971409611513365E-3},null,null,null,null,"U1=",{"$f":"W39/(LOG(W4)/LOG(2))","v":0},null,null,null,"U2=",{"$f":"AB39/(LOG(AB4)/LOG(2))","v":0},null,null,null,"U3=",{"$f":"AG39/(LOG(AG4)/LOG(2))","v":0},null,null,null,"U4=",{"$f":"AL39/(LOG(AL4)/LOG(2))","v":5.4500400558103186E-2},null,null,null,"U5=",{"$f":"AQ39/(LOG(AQ4)/LOG(2))","v":0},null,null,null,"U6=",{"$f":"AV39/(LOG(AV4)/LOG(2))","v":0}]
[21,5280,22,5284,24,5293,23,5299,24,5328,1,22222]
[21,5481,22,5486,24,5498,23,5510,24,5521,1,22222]
[21,5639,22,5644,24,5648,23,5656,24,5661,1,22222,null,"Total Target Seq"]
[21,5790,22,5814,24,5825,23,5866,24,5878,0,22222,null,{"$f":"COUNTIF(L7:L149,G3)","v":0},null,24,24,23,24,24,24]
[21,6033,22,6039,24,6046,23,6065,24,6073,0,22222,null,null,null,"% of reinforcement given in 6 equal intervals based on number of trials "]
[21,6189,22,6206,24,6211,23,6216,24,6230,0,22222,null,null,null,"%_1","%_2","%_3","%_4","%_5","%_6"]
[21,6351,22,6356,24,6369,23,6377,24,6395,1,22222,null,null,"target sequence",{"$f":"$G$3","v":21121},{"$f":"$G$3","v":21121},{"$f":"$G$3","v":21121},{"$f":"$G$3","v":21121},{"$f":"$G$3","v":21121},{"$f":"$G$3","v":21121}]
[21,6524,22,6541,24,6548,23,6584,24,6609,0,22222,null,null,"total reinforcement",{"$f":"U25","v":0},{"$f":"Z25","v":0},{"$f":"AE25","v":0},{"$f":"AJ25","v":0},{"$f":"AO25","v":0},{"$f":"AT25","v":0}]
[21,6721,22,6730,24,6739,23,6746,24,6751,0,22222,null,null,"% target"]
[21,6897,22,6911,24,6927,23,6948,24,6954,1,22222,null,null,"CCRF"]
[21,7075,22,7080,24,7084,23,7090,24,7095,0,22222,null,null,"% CCRf"]
[21,7238,22,7251,24,7256,23,7281,24,7311,0,22222,null,null,"average response rate",{"$f":"J30/P44","v":150.33333333333334},{"$f":"(J54-J30)/Q44","v":167.54166666666666},{"$f":"(J77-J54)/R44","v":167.47826086956522},{"$f":"(J101-J77)/S44","v":148.95833333333334},{"$f":"(J125-J101)/T44","v":179.29166666666666},{"$f":"(J149-J125)/U44","v":193.41666666666666}]
[21,7434,22,7446,24,7450,23,7455,24,7466,0,22222]
[21,7593,22,7605,24,7609,23,7614,24,7629,0,22222]
[21,7774,22,7784,24,7792,23,7810,24,7817,0,22222]
[21,7947,22,7955,24,7973,23,7980,24,7991,1,22222]
[21,8138,22,8142,24,8151,23,8166,24,8172,0,22222]
[21,8306,22,8320,24,8331,23,8342,24,8347,0,22222]
[21,8464,22,8468,24,8488,23,8496,24,8506,0,22222]
[21,8630,22,8646,24,8657,23,8664,24,8670,0,22222]
[21,8818,22,8834,24,8873,23,8881,24,8889,0,22222]
[21,9002,22,9007,24,9013,23,9028,24,9035,0,22222]
[21,9140,22,9166,24,9170,23,9174,24,9181,1,22222]
[21,9307,22,9316,24,9328,23,9336,24,9343,0,22222]
[21,9481,22,9489,24,9516,23,9522,24,9529,0,22222]
[21,9645,22,9649,24,9654,23,9659,24,9666,0,22222]
[21,9813,22,9831,24,9838,23,9844,24,9859,0,22222]
[21,9978,22,9982,24,9987,23,9994,24,10005,0,22222]
[21,10141,22,10166,24,10181,23,10187,24,10194,0,22222]
[21,10312,22,10316,24,10320,23,10327,24,10335,0,22222]
[21,10464,22,10489,24,10495,23,10517,24,10537,0,22222]
[21,10639,22,10645,24,10649,23,10653,24,10661,1,22222]
[21,10796,22,10812,24,10843,23,10855,24,10869,0,22222]
[21,10988,22,10999,24,11012,23,11016,24,11024,1,22222]
[21,11154,22,11158,24,11167,23,11179,24,11195,0,22222]
[21,11314,22,11324,24,11328,23,11333,24,11347,0,22222]
[21,11462,22,11467,24,11471,23,11476,24,11481,1,22222]
[21,11600,22,11604,24,11625,23,11630,24,11649,0,22222]
[21,11798,22,11802,24,11807,23,11813,24,11823,0,22222]
[21,11949,22,11953,24,11957,23,11961,24,11966,0,22222]
[21,12077,22,12082,24,12090,23,12110,24,12114,0,22222]
[12,12206,24,12223,24,12236,23,12244,24,12261,1,12222]
[21,12354,22,12368,24,12373,23,12377,24,12382,0,22222]
[21,12497,22,12501,24,12505,23,12514,24,12520,0,22222]
[21,12627,22,12632,24,12636,23,12640,24,12647,1,22222]
[21,12751,22,12760,24,12765,23,12769,24,12773,1,22222]
[21,12887,22,12900,24,12918,23,12926,24,12930,0,22222]
[21,13064,22,13072,24,13077,23,13082,24,13089,0,22222]
[21,13199,22,13218,24,13223,23,13227,24,13233,0,22222]
[21,13342,22,13347,24,13358,23,13363,24,13376,1,22222]
[21,13496,22,13504,24,13509,23,13513,24,13521,0,22222]
[21,13652,22,13656,24,13660,23,13667,24,13674,0,22222]
[21,13797,22,13801,24,13813,23,13820,24,13827,0,22222]
[21,13946,22,13951,24,13958,23,13964,24,13975,0,22222]
[21,14082,22,14091,24,14094,23,14117,24,14122,1,22222]
[21,14243,22,14249,24,14253,23,14258,24,14266,0,22222]
[21,14395,22,14403,24,14410,23,14422,24,14428,0,22222]
[21,14536,22,14548,24,14552,23,14557,24,14562,0,22222]
[21,14675,22,14688,24,14696,23,14701,24,14716,0,22222]
[21,14814,22,14829,24,14850,23,14858,24,14875,1,22222]
[21,15005,22,15018,24,15025,23,15041,24,15056,0,22222]
[21,15162,22,15203,24,15216,23,15235,24,15245,0,22222]
[21,15361,22,15390,24,15394,23,15399,24,15408,1,22222]
[21,15533,22,15549,24,15565,23,15581,24,15586,0,22222]
[21,15701,22,15705,24,15736,23,15741,24,15747,0,22222]
[21,15857,22,15860,24,15864,23,15868,24,15872,0,22222]
[21,15986,22,16004,24,16018,23,16022,24,16029,0,22222]
[21,16146,22,16150,24,16154,23,16165,24,16172,0,22222]
[21,16274,22,16279,24,16283,23,16291,24,16296,1,22222]
[21,16393,22,16407,24,16412,23,16421,24,16428,1,22222]
[21,16553,22,16564,24,16575,23,16587,24,16605,1,22222]
[21,16726,22,16735,24,16759,23,16766,24,16774,0,22222]
[21,16904,22,16909,24,16913,23,16917,24,16936,0,22222]
[21,17061,22,17065,24,17082,23,17088,24,17098,1,22222]
[21,17228,22,17240,24,17245,23,17249,24,17258,1,22222]
[21,17410,22,17414,24,17419,23,17423,24,17435,0,22222]
[21,17560,22,17591,24,17598,23,17611,24,17625,0,22222]
[21,17728,22,17757,24,17761,23,17765,24,17776,0,22222]
[21,17886,22,17905,24,17918,23,17928,24,17958,1,22222]
[21,18089,22,18101,24,18131,23,18154,24,18194,0,22222]
[21,18338,22,18345,24,18374,23,18400,24,18406,0,22222]
[21,18552,22,18561,24,18568,23,18586,24,18600,0,22222]
[21,18747,22,18757,24,18770,23,18793,24,18807,1,22222]
[21,18952,22,18973,24,18978,23,19005,24,19018,0,22222]
[21,19143,22,19211,24,19227,23,19355,24,19359,0,22222]
[21,19485,22,19489,24,19493,23,19497,24,19512,0,22222]
[21,19646,22,19658,24,19676,23,19681,24,19685,0,22222]
[21,19796,22,19809,24,19818,23,19868,24,19872,1,22222]
[21,20022,22,20027,24,20047,23,20051,24,20055,0,22222]
[21,20190,22,20228,24,20243,23,20255,24,20262,0,22222]
[21,20399,22,20403,24,20409,23,20416,24,20427,1,22222]
[21,20591,22,20600,24,20605,23,20618,24,20626,0,22222]
[21,20762,22,20774,24,20778,23,20783,24,20797,0,22222]
[21,20922,22,20926,24,20930,23,20934,24,20938,0,22222]
[21,21051,22,21056,24,21073,23,21081,24,21086,0,22222]
[21,21201,22,21206,24,21210,23,21214,24,21226,0,22222]
[21,21335,22,21340,24,21344,23,21357,24,21364,0,22222]
[21,21495,22,21499,24,21517,23,21524,24,21538,1,22222]
[21,21683,22,21712,24,21724,23,21731,24,21751,0,22222]
[21,21865,22,21893,24,21898,23,21905,24,21917,1,22222]
[21,22038,22,22066,24,22070,23,22087,24,22091,0,22222]
[21,22243,22,22269,24,22275,23,22282,24,22293,0,22222]
[21,22404,22,22415,24,22428,23,22461,24,22474,0,22222]
[21,22598,22,22610,24,22614,23,22650,24,22685,1,22222]
[21,22819,22,22851,24,22892,23,22897,24,22982,0,22222]
[21,23102,22,23165,24,23230,23,23257,24,23267,1,22222]
[21,23425,22,23441,24,23479,23,23483,24,23509,0,22222]
[21,23662,22,23692,24,23697,23,23769,24,23776,0,22222]
[21,23965,22,23973,24,23985,23,23992,24,24001,null,22222]

{"sheet":"!N420B10.096","index":26,"n_rows":164,"n_cols":48,"rows_kept":164,"cut":false,"hidden":false,"merged":[[4,39,4,42],[5,39,5,40],[4,44,4,47],[5,44,5,45],[4,24,4,27],[5,24,5,25],[4,29,4,32],[5,29,5,30],[4,34,4,37],[5,34,5,35],[1,1,1,2],[5,13,5,14],[42,13,42,14],[43,13,43,14],[4,19,4,22],[5,19,5,20]]}
["Report for:!N420B10.096"]
["Date:","<date>"]
["Hen:","<hen>",null,null,null,"Correct Sequence",{"$f":"Start!J2","v":21121},null,null,null,null,null,null,null,null,"Total Sequences in Data",{"$f":"4994-COUNTBLANK(L7:L5000)","v":158},null,null,null,null,"Total Sequences in Block Data",{"$f":"COUNTA(L7:L32)","v":26},null,null,null,"Total Sequences in Block Data",{"$f":"COUNTA(L33:L59)","v":27},null,null,null,"Total Sequences in Block Data",{"$f":"COUNTA(L60:L85)","v":26},null,null,null,"Total Sequences in Block Data",{"$f":"COUNTA(L86:L111)","v":26},null,null,null,"Total Sequences in Block Data",{"$f":"COUNTA(L112:L138)","v":27},null,null,null,"Total Sequences in Block Data",{"$f":"COUNTA(L139:L164)","v":26}]
[null,null,null,null,null,null,null,null,null,null,null,null,null,null,null,"Total Sequences in Summary",{"$f":"SUM(O7:O38)","v":157},null,null,null,null,"Total Sequences in Block Summary",{"$f":"SUM(U7:U38)","v":26},null,null,null,"Total Sequences in Block Summary",{"$f":"SUM(Z7:Z38)","v":27},null,null,null,"Total Sequences in Block Summary",{"$f":"SUM(AE7:AE38)","v":26},null,null,null,"Total Sequences in Block Summary",{"$f":"SUM(AJ7:AJ38)","v":26},null,null,null,"Total Sequences in Block Summary",{"$f":"SUM(AO7:AO38)","v":27},null,null,null,"Total Sequences in Block Summary",{"$f":"SUM(AT7:AT38)","v":25}]
[null,null,null,null,null,null,null,null,null,null,null,null,null,null,null,null,null,null,null,"Block 1",null,null,null,null,"Block 2",null,null,null,null,"Block 3",null,null,null,null,"Block 4",null,null,null,null,"Block 5",null,null,null,null,"Block 6"]
["Sequence\nComponent\n1","Time\n1","Sequence\nComponent\n2","Time\n2","Sequence\nComponent\n3","Time\n3","Sequence\nComponent\n4","Time\n4","Sequence\nComponent\n5","Time\n5","Correct?\n0=No 1=Yes","Sequence",null,"Frequency",null,"Relative Frequency","Variability",null,null,"Frequency",null,"Relative Frequency","Variability",null,"Frequency",null,"Relative Frequency","Variability",null,"Frequency",null,"Relative Frequency","Variability",null,"Frequency",null,"Relative Frequency","Variability",null,"Frequency",null,"Relative Frequency","Variability",null,"Frequency",null,"Relative Frequency","Variability"]
[21,21,22,26,24,32,23,40,24,46,0,22222,null,11111,{"$f":"COUNTIF($L$7:$L$500,N7)","v":0},{"$f":"O7/$Q$4","v":0},{"$f":"IF(P7=0,0,(P7*((LOG(P7))/LOG(2))))","v":0},null,null,{"$f":"N7","v":11111},{"$f":"COUNTIF(L7:L32,T7)","v":0},{"$f":"U7/(W4-U25)","v":0},{"$f":"IF(V7=0,0,(V7*((LOG(V7))/LOG(2))))","v":0},null,{"$f":"N7","v":11111},{"$f":"COUNTIF(L33:L59,Y7)","v":0},{"$f":"Z7/(AB4-Z25)","v":0},{"$f":"IF(AA7=0,0,(AA7*((LOG(AA7))/LOG(2))))","v":0},null,{"$f":"N7","v":11111},{"$f":"COUNTIF(L60:L85,AD7)","v":0},{"$f":"AE7/(AG4-AE25)","v":0},{"$f":"IF(AF7=0,0,(AF7*((LOG(AF7))/LOG(2))))","v":0},null,{"$f":"N7","v":11111},{"$f":"COUNTIF(L86:L111,AI7)","v":0},{"$f":"AJ7/(AL4-AJ25)","v":0},{"$f":"IF(AK7=0,0,(AK7*((LOG(AK7))/LOG(2))))","v":0},null,{"$f":"N7","v":11111},{"$f":"COUNTIF(L112:L138,AN7)","v":0},{"$f":"AO7/(AQ4-AO25)","v":0},{"$f":"IF(AP7=0,0,(AP7*((LOG(AP7))/LOG(2))))","v":0},null,{"$f":"N7","v":11111},{"$f":"COUNTIF(L139:L164,AS7)","v":0},{"$f":"AT7/(AV4-AT25)","v":0},{"$f":"IF(AU7=0,0,(AU7*((LOG(AU7))/LOG(2))))","v":0}]
[21,148,22,152,24,173,23,177,24,181,0,22222,null,11112,{"$f":"COUNTIF($L$7:$L$500,N8)","v":0},{"$f":"O8/$Q$4","v":0},{"$f":"IF(P8=0,0,(P8*((LOG(P8))/LOG(2))))","v":0},null,null,{"$f":"N8","v":11112},{"$f":"COUNTIF(L7:L32,T8)","v":0},{"$f":"U8/(W4-U25)","v":0},{"$f":"IF(V8=0,0,(V8*((LOG(V8))/LOG(2))))","v":0},null,{"$f":"N8","v":11112},{"$f":"COUNTIF(L33:L59,Y8)","v":0},{"$f":"Z8/(AB4-Z25)","v":0},{"$f":"IF(AA8=0,0,(AA8*((LOG(AA8))/LOG(2))))","v":0},null,{"$f":"N8","v":11112},{"$f":"COUNTIF(L60:L85,AD8)","v":0},{"$f":"AE8/(AG4-AE25)","v":0},{"$f":"IF(AF8=0,0,(AF8*((LOG(AF8))/LOG(2))))","v":0},null,{"$f":"N8","v":11112},{"$f":"COUNTIF(L86:L111,AI8)","v":0},{"$f":"AJ8/(AL4-AJ25)","v":0},{"$f":"IF(AK8=0,0,(AK8*((LOG(AK8))/LOG(2))))","v":0},null,{"$f":"N8","v":11112},{"$f":"COUNTIF(L112:L138,AN8)","v":0},{"$f":"AO8/(AQ4-AO25)","v":0},{"$f":"IF(AP8=0,0,(AP8*((LOG(AP8))/LOG(2))))","v":0},null,{"$f":"N8","v":11112},{"$f":"COUNTIF(L139:L164,AS8)","v":0},{"$f":"AT8/(AV4-AT25)","v":0},{"$f":"IF(AU8=0,0,(AU8*((LOG(AU8))/LOG(2))))","v":0}]
[21,290,22,300,24,307,23,311,24,321,0,22222,null,11121,{"$f":"COUNTIF($L$7:$L$500,N9)","v":0},{"$f":"O9/$Q$4","v":0},{"$f":"IF(P9=0,0,(P9*((LOG(P9))/LOG(2))))","v":0},null,null,{"$f":"N9","v":11121},{"$f":"COUNTIF(L7:L32,T9)","v":0},{"$f":"U9/(W4-U25)","v":0},{"$f":"IF(V9=0,0,(V9*((LOG(V9))/LOG(2))))","v":0},null,{"$f":"N9","v":11121},{"$f":"COUNTIF(L33:L59,Y9)","v":0},{"$f":"Z9/(AB4-Z25)","v":0},{"$f":"IF(AA9=0,0,(AA9*((LOG(AA9))/LOG(2))))","v":0},null,{"$f":"N9","v":11121},{"$f":"COUNTIF(L60:L85,AD9)","v":0},{"$f":"AE9/(AG4-AE25)","v":0},{"$f":"IF(AF9=0,0,(AF9*((LOG(AF9))/LOG(2))))","v":0},null,{"$f":"N9","v":11121},{"$f":"COUNTIF(L86:L111,AI9)","v":0},{"$f":"AJ9/(AL4-AJ25)","v":0},{"$f":"IF(AK9=0,0,(AK9*((LOG(AK9))/LOG(2))))","v":0},null,{"$f":"N9","v":11121},{"$f":"COUNTIF(L112:L138,AN9)","v":0},{"$f":"AO9/(AQ4-AO25)","v":0},{"$f":"IF(AP9=0,0,(AP9*((LOG(AP9))/LOG(2))))","v":0},null,{"$f":"N9","v":11121},{"$f":"COUNTIF(L139:L164,AS9)","v":0},{"$f":"AT9/(AV4-AT25)","v":0},{"$f":"IF(AU9=0,0,(AU9*((LOG(AU9))/LOG(2))))","v":0}]
[21,433,22,438,24,450,23,454,24,468,0,22222,null,11122,{"$f":"COUNTIF($L$7:$L$500,N10)","v":0},{"$f":"O10/$Q$4","v":0},{"$f":"IF(P10=0,0,(P10*((LOG(P10))/LOG(2))))","v":0},null,null,{"$f":"N10","v":11122},{"$f":"COUNTIF(L7:L32,T10)","v":0},{"$f":"U10/(W4-U25)","v":0},{"$f":"IF(V10=0,0,(V10*((LOG(V10))/LOG(2))))","v":0},null,{"$f":"N10","v":11122},{"$f":"COUNTIF(L33:L59,Y10)","v":0},{"$f":"Z10/(AB4-Z25)","v":0},{"$f":"IF(AA10=0,0,(AA10*((LOG(AA10))/LOG(2))))","v":0},null,{"$f":"N10","v":11122},{"$f":"COUNTIF(L60:L85,AD10)","v":0},{"$f":"AE10/(AG4-AE25)","v":0},{"$f":"IF(AF10=0,0,(AF10*((LOG(AF10))/LOG(2))))","v":0},null,{"$f":"N10","v":11122},{"$f":"COUNTIF(L86:L111,AI10)","v":0},{"$f":"AJ10/(AL4-AJ25)","v":0},{"$f":"IF(AK10=0,0,(AK10*((LOG(AK10))/LOG(2))))","v":0},null,{"$f":"N10","v":11122},{"$f":"COUNTIF(L112:L138,AN10)","v":0},{"$f":"AO10/(AQ4-AO25)","v":0},{"$f":"IF(AP10=0,0,(AP10*((LOG(AP10))/LOG(2))))","v":0},null,{"$f":"N10","v":11122},{"$f":"COUNTIF(L139:L164,AS10)","v":0},{"$f":"AT10/(AV4-AT25)","v":0},{"$f":"IF(AU10=0,0,(AU10*((LOG(AU10))/LOG(2))))","v":0}]
[21,582,22,594,24,604,23,611,24,620,0,22222,null,11211,{"$f":"COUNTIF($L$7:$L$500,N11)","v":0},{"$f":"O11/$Q$4","v":0},{"$f":"IF(P11=0,0,(P11*((LOG(P11))/LOG(2))))","v":0},null,null,{"$f":"N11","v":11211},{"$f":"COUNTIF(L7:L32,T11)","v":0},{"$f":"U11/(W4-U25)","v":0},{"$f":"IF(V11=0,0,(V11*((LOG(V11))/LOG(2))))","v":0},null,{"$f":"N11","v":11211},{"$f":"COUNTIF(L33:L59,Y11)","v":0},{"$f":"Z11/(AB4-Z25)","v":0},{"$f":"IF(AA11=0,0,(AA11*((LOG(AA11))/LOG(2))))","v":0},null,{"$f":"N11","v":11211},{"$f":"COUNTIF(L60:L85,AD11)","v":0},{"$f":"AE11/(AG4-AE25)","v":0},{"$f":"IF(AF11=0,0,(AF11*((LOG(AF11))/LOG(2))))","v":0},null,{"$f":"N11","v":11211},{"$f":"COUNTIF(L86:L111,AI11)","v":0},{"$f":"AJ11/(AL4-AJ25)","v":0},{"$f":"IF(AK11=0,0,(AK11*((LOG(AK11))/LOG(2))))","v":0},null,{"$f":"N11","v":11211},{"$f":"COUNTIF(L112:L138,AN11)","v":0},{"$f":"AO11/(AQ4-AO25)","v":0},{"$f":"IF(AP11=0,0,(AP11*((LOG(AP11))/LOG(2))))","v":0},null,{"$f":"N11","v":11211},{"$f":"COUNTIF(L139:L164,AS11)","v":0},{"$f":"AT11/(AV4-AT25)","v":0},{"$f":"IF(AU11=0,0,(AU11*((LOG(AU11))/LOG(2))))","v":0}]
[21,737,22,746,24,759,23,766,24,775,0,22222,null,11212,{"$f":"COUNTIF($L$7:$L$500,N12)","v":0},{"$f":"O12/$Q$4","v":0},{"$f":"IF(P12=0,0,(P12*((LOG(P12))/LOG(2))))","v":0},null,null,{"$f":"N12","v":11212},{"$f":"COUNTIF(L7:L32,T12)","v":0},{"$f":"U12/(W4-U25)","v":0},{"$f":"IF(V12=0,0,(V12*((LOG(V12))/LOG(2))))","v":0},null,{"$f":"N12","v":11212},{"$f":"COUNTIF(L33:L59,Y12)","v":0},{"$f":"Z12/(AB4-Z25)","v":0},{"$f":"IF(AA12=0,0,(AA12*((LOG(AA12))/LOG(2))))","v":0},null,{"$f":"N12","v":11212},{"$f":"COUNTIF(L60:L85,AD12)","v":0},{"$f":"AE12/(AG4-AE25)","v":0},{"$f":"IF(AF12=0,0,(AF12*((LOG(AF12))/LOG(2))))","v":0},null,{"$f":"N12","v":11212},{"$f":"COUNTIF(L86:L111,AI12)","v":0},{"$f":"AJ12/(AL4-AJ25)","v":0},{"$f":"IF(AK12=0,0,(AK12*((LOG(AK12))/LOG(2))))","v":0},null,{"$f":"N12","v":11212},{"$f":"COUNTIF(L112:L138,AN12)","v":0},{"$f":"AO12/(AQ4-AO25)","v":0},{"$f":"IF(AP12=0,0,(AP12*((LOG(AP12))/LOG(2))))","v":0},null,{"$f":"N12","v":11212},{"$f":"COUNTIF(L139:L164,AS12)","v":0},{"$f":"AT12/(AV4-AT25)","v":0},{"$f":"IF(AU12=0,0,(AU12*((LOG(AU12))/LOG(2))))","v":0}]
[21,879,22,883,24,888,23,892,24,896,0,22222,null,11221,{"$f":"COUNTIF($L$7:$L$500,N13)","v":0},{"$f":"O13/$Q$4","v":0},{"$f":"IF(P13=0,0,(P13*((LOG(P13))/LOG(2))))","v":0},null,null,{"$f":"N13","v":11221},{"$f":"COUNTIF(L7:L32,T13)","v":0},{"$f":"U13/(W4-U25)","v":0},{"$f":"IF(V13=0,0,(V13*((LOG(V13))/LOG(2))))","v":0},null,{"$f":"N13","v":11221},{"$f":"COUNTIF(L33:L59,Y13)","v":0},{"$f":"Z13/(AB4-Z25)","v":0},{"$f":"IF(AA13=0,0,(AA13*((LOG(AA13))/LOG(2))))","v":0},null,{"$f":"N13","v":11221},{"$f":"COUNTIF(L60:L85,AD13)","v":0},{"$f":"AE13/(AG4-AE25)","v":0},{"$f":"IF(AF13=0,0,(AF13*((LOG(AF13))/LOG(2))))","v":0},null,{"$f":"N13","v":11221},{"$f":"COUNTIF(L86:L111,AI13)","v":0},{"$f":"AJ13/(AL4-AJ25)","v":0},{"$f":"IF(AK13=0,0,(AK13*((LOG(AK13))/LOG(2))))","v":0},null,{"$f":"N13","v":11221},{"$f":"COUNTIF(L112:L138,AN13)","v":0},{"$f":"AO13/(AQ4-AO25)","v":0},{"$f":"IF(AP13=0,0,(AP13*((LOG(AP13))/LOG(2))))","v":0},null,{"$f":"N13","v":11221},{"$f":"COUNTIF(L139:L164,AS13)","v":0},{"$f":"AT13/(AV4-AT25)","v":0},{"$f":"IF(AU13=0,0,(AU13*((LOG(AU13))/LOG(2))))","v":0}]
[21,1008,22,1013,24,1018,23,1023,24,1029,1,22222,null,11222,{"$f":"COUNTIF($L$7:$L$500,N14)","v":0},{"$f":"O14/$Q$4","v":0},{"$f":"IF(P14=0,0,(P14*((LOG(P14))/LOG(2))))","v":0},null,null,{"$f":"N14","v":11222},{"$f":"COUNTIF(L7:L32,T14)","v":0},{"$f":"U14/(W4-U25)","v":0},{"$f":"IF(V14=0,0,(V14*((LOG(V14))/LOG(2))))","v":0},null,{"$f":"N14","v":11222},{"$f":"COUNTIF(L33:L59,Y14)","v":0},{"$f":"Z14/(AB4-Z25)","v":0},{"$f":"IF(AA14=0,0,(AA14*((LOG(AA14))/LOG(2))))","v":0},null,{"$f":"N14","v":11222},{"$f":"COUNTIF(L60:L85,AD14)","v":0},{"$f":"AE14/(AG4-AE25)","v":0},{"$f":"IF(AF14=0,0,(AF14*((LOG(AF14))/LOG(2))))","v":0},null,{"$f":"N14","v":11222},{"$f":"COUNTIF(L86:L111,AI14)","v":0},{"$f":"AJ14/(AL4-AJ25)","v":0},{"$f":"IF(AK14=0,0,(AK14*((LOG(AK14))/LOG(2))))","v":0},null,{"$f":"N14","v":11222},{"$f":"COUNTIF(L112:L138,AN14)","v":0},{"$f":"AO14/(AQ4-AO25)","v":0},{"$f":"IF(AP14=0,0,(AP14*((LOG(AP14))/LOG(2))))","v":0},null,{"$f":"N14","v":11222},{"$f":"COUNTIF(L139:L164,AS14)","v":0},{"$f":"AT14/(AV4-AT25)","v":0},{"$f":"IF(AU14=0,0,(AU14*((LOG(AU14))/LOG(2))))","v":0}]
[21,1142,22,1150,24,1160,23,1174,24,1179,0,22222,null,12111,{"$f":"COUNTIF($L$7:$L$500,N15)","v":0},{"$f":"O15/$Q$4","v":0},{"$f":"IF(P15=0,0,(P15*((LOG(P15))/LOG(2))))","v":0},null,null,{"$f":"N15","v":12111},{"$f":"COUNTIF(L7:L32,T15)","v":0},{"$f":"U15/(W4-U25)","v":0},{"$f":"IF(V15=0,0,(V15*((LOG(V15))/LOG(2))))","v":0},null,{"$f":"N15","v":12111},{"$f":"COUNTIF(L33:L59,Y15)","v":0},{"$f":"Z15/(AB4-Z25)","v":0},{"$f":"IF(AA15=0,0,(AA15*((LOG(AA15))/LOG(2))))","v":0},null,{"$f":"N15","v":12111},{"$f":"COUNTIF(L60:L85,AD15)","v":0},{"$f":"AE15/(AG4-AE25)","v":0},{"$f":"IF(AF15=0,0,(AF15*((LOG(AF15))/LOG(2))))","v":0},null,{"$f":"N15","v":12111},{"$f":"COUNTIF(L86:L111,AI15)","v":0},{"$f":"AJ15/(AL4-AJ25)","v":0},{"$f":"IF(AK15=0,0,(AK15*((LOG(AK15))/LOG(2))))","v":0},null,{"$f":"N15","v":12111},{"$f":"COUNTIF(L112:L138,AN15)","v":0},{"$f":"AO15/(AQ4-AO25)","v":0},{"$f":"IF(AP15=0,0,(AP15*((LOG(AP15))/LOG(2))))","v":0},null,{"$f":"N15","v":12111},{"$f":"COUNTIF(L139:L164,AS15)","v":0},{"$f":"AT15/(AV4-AT25)","v":0},{"$f":"IF(AU15=0,0,(AU15*((LOG(AU15))/LOG(2))))","v":0}]
[21,1286,22,1293,24,1302,23,1309,24,1316,0,22222,null,12112,{"$f":"COUNTIF($L$7:$L$500,N16)","v":0},{"$f":"O16/$Q$4","v":0},{"$f":"IF(P16=0,0,(P16*((LOG(P16))/LOG(2))))","v":0},null,null,{"$f":"N16","v":12112},{"$f":"COUNTIF(L7:L32,T16)","v":0},{"$f":"U16/(W4-U25)","v":0},{"$f":"IF(V16=0,0,(V16*((LOG(V16))/LOG(2))))","v":0},null,{"$f":"N16","v":12112},{"$f":"COUNTIF(L33:L59,Y16)","v":0},{"$f":"Z16/(AB4-Z25)","v":0},{"$f":"IF(AA16=0,0,(AA16*((LOG(AA16))/LOG(2))))","v":0},null,{"$f":"N16","v":12112},{"$f":"COUNTIF(L60:L85,AD16)","v":0},{"$f":"AE16/(AG4-AE25)","v":0},{"$f":"IF(AF16=0,0,(AF16*((LOG(AF16))/LOG(2))))","v":0},null,{"$f":"N16","v":12112},{"$f":"COUNTIF(L86:L111,AI16)","v":0},{"$f":"AJ16/(AL4-AJ25)","v":0},{"$f":"IF(AK16=0,0,(AK16*((LOG(AK16))/LOG(2))))","v":0},null,{"$f":"N16","v":12112},{"$f":"COUNTIF(L112:L138,AN16)","v":0},{"$f":"AO16/(AQ4-AO25)","v":0},{"$f":"IF(AP16=0,0,(AP16*((LOG(AP16))/LOG(2))))","v":0},null,{"$f":"N16","v":12112},{"$f":"COUNTIF(L139:L164,AS16)","v":0},{"$f":"AT16/(AV4-AT25)","v":0},{"$f":"IF(AU16=0,0,(AU16*((LOG(AU16))/LOG(2))))","v":0}]
[21,1427,22,1436,24,1439,23,1453,24,1461,0,22222,null,12121,{"$f":"COUNTIF($L$7:$L$500,N17)","v":0},{"$f":"O17/$Q$4","v":0},{"$f":"IF(P17=0,0,(P17*((LOG(P17))/LOG(2))))","v":0},null,null,{"$f":"N17","v":12121},{"$f":"COUNTIF(L7:L32,T17)","v":0},{"$f":"U17/(W4-U25)","v":0},{"$f":"IF(V17=0,0,(V17*((LOG(V17))/LOG(2))))","v":0},null,{"$f":"N17","v":12121},{"$f":"COUNTIF(L33:L59,Y17)","v":0},{"$f":"Z17/(AB4-Z25)","v":0},{"$f":"IF(AA17=0,0,(AA17*((LOG(AA17))/LOG(2))))","v":0},null,{"$f":"N17","v":12121},{"$f":"COUNTIF(L60:L85,AD17)","v":0},{"$f":"AE17/(AG4-AE25)","v":0},{"$f":"IF(AF17=0,0,(AF17*((LOG(AF17))/LOG(2))))","v":0},null,{"$f":"N17","v":12121},{"$f":"COUNTIF(L86:L111,AI17)","v":0},{"$f":"AJ17/(AL4-AJ25)","v":0},{"$f":"IF(AK17=0,0,(AK17*((LOG(AK17))/LOG(2))))","v":0},null,{"$f":"N17","v":12121},{"$f":"COUNTIF(L112:L138,AN17)","v":0},{"$f":"AO17/(AQ4-AO25)","v":0},{"$f":"IF(AP17=0,0,(AP17*((LOG(AP17))/LOG(2))))","v":0},null,{"$f":"N17","v":12121},{"$f":"COUNTIF(L139:L164,AS17)","v":0},{"$f":"AT17/(AV4-AT25)","v":0},{"$f":"IF(AU17=0,0,(AU17*((LOG(AU17))/LOG(2))))","v":0}]
[21,1574,22,1590,24,1597,23,1602,24,1608,1,22222,null,12122,{"$f":"COUNTIF($L$7:$L$500,N18)","v":0},{"$f":"O18/$Q$4","v":0},{"$f":"IF(P18=0,0,(P18*((LOG(P18))/LOG(2))))","v":0},null,null,{"$f":"N18","v":12122},{"$f":"COUNTIF(L7:L32,T18)","v":0},{"$f":"U18/(W4-U25)","v":0},{"$f":"IF(V18=0,0,(V18*((LOG(V18))/LOG(2))))","v":0},null,{"$f":"N18","v":12122},{"$f":"COUNTIF(L33:L59,Y18)","v":0},{"$f":"Z18/(AB4-Z25)","v":0},{"$f":"IF(AA18=0,0,(AA18*((LOG(AA18))/LOG(2))))","v":0},null,{"$f":"N18","v":12122},{"$f":"COUNTIF(L60:L85,AD18)","v":0},{"$f":"AE18/(AG4-AE25)","v":0},{"$f":"IF(AF18=0,0,(AF18*((LOG(AF18))/LOG(2))))","v":0},null,{"$f":"N18","v":12122},{"$f":"COUNTIF(L86:L111,AI18)","v":0},{"$f":"AJ18/(AL4-AJ25)","v":0},{"$f":"IF(AK18=0,0,(AK18*((LOG(AK18))/LOG(2))))","v":0},null,{"$f":"N18","v":12122},{"$f":"COUNTIF(L112:L138,AN18)","v":0},{"$f":"AO18/(AQ4-AO25)","v":0},{"$f":"IF(AP18=0,0,(AP18*((LOG(AP18))/LOG(2))))","v":0},null,{"$f":"N18","v":12122},{"$f":"COUNTIF(L139:L164,AS18)","v":0},{"$f":"AT18/(AV4-AT25)","v":0},{"$f":"IF(AU18=0,0,(AU18*((LOG(AU18))/LOG(2))))","v":0}]
[21,1730,22,1734,24,1748,23,1755,24,1767,0,22222,null,12211,{"$f":"COUNTIF($L$7:$L$500,N19)","v":0},{"$f":"O19/$Q$4","v":0},{"$f":"IF(P19=0,0,(P19*((LOG(P19))/LOG(2))))","v":0},null,null,{"$f":"N19","v":12211},{"$f":"COUNTIF(L7:L32,T19)","v":0},{"$f":"U19/(W4-U25)","v":0},{"$f":"IF(V19=0,0,(V19*((LOG(V19))/LOG(2))))","v":0},null,{"$f":"N19","v":12211},{"$f":"COUNTIF(L33:L59,Y19)","v":0},{"$f":"Z19/(AB4-Z25)","v":0},{"$f":"IF(AA19=0,0,(AA19*((LOG(AA19))/LOG(2))))","v":0},null,{"$f":"N19","v":12211},{"$f":"COUNTIF(L60:L85,AD19)","v":0},{"$f":"AE19/(AG4-AE25)","v":0},{"$f":"IF(AF19=0,0,(AF19*((LOG(AF19))/LOG(2))))","v":0},null,{"$f":"N19","v":12211},{"$f":"COUNTIF(L86:L111,AI19)","v":0},{"$f":"AJ19/(AL4-AJ25)","v":0},{"$f":"IF(AK19=0,0,(AK19*((LOG(AK19))/LOG(2))))","v":0},null,{"$f":"N19","v":12211},{"$f":"COUNTIF(L112:L138,AN19)","v":0},{"$f":"AO19/(AQ4-AO25)","v":0},{"$f":"IF(AP19=0,0,(AP19*((LOG(AP19))/LOG(2))))","v":0},null,{"$f":"N19","v":12211},{"$f":"COUNTIF(L139:L164,AS19)","v":0},{"$f":"AT19/(AV4-AT25)","v":0},{"$f":"IF(AU19=0,0,(AU19*((LOG(AU19))/LOG(2))))","v":0}]
[21,1879,22,1888,24,1897,23,1901,24,1908,0,22222,null,12212,{"$f":"COUNTIF($L$7:$L$500,N20)","v":0},{"$f":"O20/$Q$4","v":0},{"$f":"IF(P20=0,0,(P20*((LOG(P20))/LOG(2))))","v":0},null,null,{"$f":"N20","v":12212},{"$f":"COUNTIF(L7:L32,T20)","v":0},{"$f":"U20/(W4-U25)","v":0},{"$f":"IF(V20=0,0,(V20*((LOG(V20))/LOG(2))))","v":0},null,{"$f":"N20","v":12212},{"$f":"COUNTIF(L33:L59,Y20)","v":0},{"$f":"Z20/(AB4-Z25)","v":0},{"$f":"IF(AA20=0,0,(AA20*((LOG(AA20))/LOG(2))))","v":0},null,{"$f":"N20","v":12212},{"$f":"COUNTIF(L60:L85,AD20)","v":0},{"$f":"AE20/(AG4-AE25)","v":0},{"$f":"IF(AF20=0,0,(AF20*((LOG(AF20))/LOG(2))))","v":0},null,{"$f":"N20","v":12212},{"$f":"COUNTIF(L86:L111,AI20)","v":0},{"$f":"AJ20/(AL4-AJ25)","v":0},{"$f":"IF(AK20=0,0,(AK20*((LOG(AK20))/LOG(2))))","v":0},null,{"$f":"N20","v":12212},{"$f":"COUNTIF(L112:L138,AN20)","v":0},{"$f":"AO20/(AQ4-AO25)","v":0},{"$f":"IF(AP20=0,0,(AP20*((LOG(AP20))/LOG(2))))","v":0},null,{"$f":"N20","v":12212},{"$f":"COUNTIF(L139:L164,AS20)","v":0},{"$f":"AT20/(AV4-AT25)","v":0},{"$f":"IF(AU20=0,0,(AU20*((LOG(AU20))/LOG(2))))","v":0}]
[21,2021,22,2029,24,2037,23,2042,24,2058,0,22222,null,12221,{"$f":"COUNTIF($L$7:$L$500,N21)","v":0},{"$f":"O21/$Q$4","v":0},{"$f":"IF(P21=0,0,(P21*((LOG(P21))/LOG(2))))","v":0},null,null,{"$f":"N21","v":12221},{"$f":"COUNTIF(L7:L32,T21)","v":0},{"$f":"U21/(W4-U25)","v":0},{"$f":"IF(V21=0,0,(V21*((LOG(V21))/LOG(2))))","v":0},null,{"$f":"N21","v":12221},{"$f":"COUNTIF(L33:L59,Y21)","v":0},{"$f":"Z21/(AB4-Z25)","v":0},{"$f":"IF(AA21=0,0,(AA21*((LOG(AA21))/LOG(2))))","v":0},null,{"$f":"N21","v":12221},{"$f":"COUNTIF(L60:L85,AD21)","v":0},{"$f":"AE21/(AG4-AE25)","v":0},{"$f":"IF(AF21=0,0,(AF21*((LOG(AF21))/LOG(2))))","v":0},null,{"$f":"N21","v":12221},{"$f":"COUNTIF(L86:L111,AI21)","v":0},{"$f":"AJ21/(AL4-AJ25)","v":0},{"$f":"IF(AK21=0,0,(AK21*((LOG(AK21))/LOG(2))))","v":0},null,{"$f":"N21","v":12221},{"$f":"COUNTIF(L112:L138,AN21)","v":0},{"$f":"AO21/(AQ4-AO25)","v":0},{"$f":"IF(AP21=0,0,(AP21*((LOG(AP21))/LOG(2))))","v":0},null,{"$f":"N21","v":12221},{"$f":"COUNTIF(L139:L164,AS21)","v":0},{"$f":"AT21/(AV4-AT25)","v":0},{"$f":"IF(AU21=0,0,(AU21*((LOG(AU21))/LOG(2))))","v":0}]
[21,2177,22,2181,24,2186,23,2193,24,2199,0,22222,null,12222,{"$f":"COUNTIF($L$7:$L$500,N22)","v":1},{"$f":"O22/$Q$4","v":6.369426751592357E-3},{"$f":"IF(P22=0,0,(P22*((LOG(P22))/LOG(2))))","v":-4.6462552540710994E-2},null,null,{"$f":"N22","v":12222},{"$f":"COUNTIF(L7:L32,T22)","v":0},{"$f":"U22/(W4-U25)","v":0},{"$f":"IF(V22=0,0,(V22*((LOG(V22))/LOG(2))))","v":0},null,{"$f":"N22","v":12222},{"$f":"COUNTIF(L33:L59,Y22)","v":0},{"$f":"Z22/(AB4-Z25)","v":0},{"$f":"IF(AA22=0,0,(AA22*((LOG(AA22))/LOG(2))))","v":0},null,{"$f":"N22","v":12222},{"$f":"COUNTIF(L60:L85,AD22)","v":0},{"$f":"AE22/(AG4-AE25)","v":0},{"$f":"IF(AF22=0,0,(AF22*((LOG(AF22))/LOG(2))))","v":0},null,{"$f":"N22","v":12222},{"$f":"COUNTIF(L86:L111,AI22)","v":0},{"$f":"AJ22/(AL4-AJ25)","v":0},{"$f":"IF(AK22=0,0,(AK22*((LOG(AK22))/LOG(2))))","v":0},null,{"$f":"N22","v":12222},{"$f":"COUNTIF(L112:L138,AN22)","v":0},{"$f":"AO22/(AQ4-AO25)","v":0},{"$f":"IF(AP22=0,0,(AP22*((LOG(AP22))/LOG(2))))","v":0},null,{"$f":"N22","v":12222},{"$f":"COUNTIF(L139:L164,AS22)","v":1},{"$f":"AT22/(AV4-AT25)","v":0.04},{"$f":"IF(AU22=0,0,(AU22*((LOG(AU22))/LOG(2))))","v":-0.18575424759098899}]
[21,2305,22,2309,24,2313,23,2319,24,2323,1,22222,null,21111,{"$f":"COUNTIF($L$7:$L$500,N23)","v":0},{"$f":"O23/$Q$4","v":0},{"$f":"IF(P23=0,0,(P23*((LOG(P23))/LOG(2))))","v":0},null,null,{"$f":"N23","v":21111},{"$f":"COUNTIF(L7:L32,T23)","v":0},{"$f":"U23/(W4-U25)","v":0},{"$f":"IF(V23=0,0,(V23*((LOG(V23))/LOG(2))))","v":0},null,{"$f":"N23","v":21111},{"$f":"COUNTIF(L33:L59,Y23)","v":0},{"$f":"Z23/(AB4-Z25)","v":0},{"$f":"IF(AA23=0,0,(AA23*((LOG(AA23))/LOG(2))))","v":0},null,{"$f":"N23","v":21111},{"$f":"COUNTIF(L60:L85,AD23)","v":0},{"$f":"AE23/(AG4-AE25)","v":0},{"$f":"IF(AF23=0,0,(AF23*((LOG(AF23))/LOG(2))))","v":0},null,{"$f":"N23","v":21111},{"$f":"COUNTIF(L86:L111,AI23)","v":0},{"$f":"AJ23/(AL4-AJ25)","v":0},{"$f":"IF(AK23=0,0,(AK23*((LOG(AK23))/LOG(2))))","v":0},null,{"$f":"N23","v":21111},{"$f":"COUNTIF(L112:L138,AN23)","v":0},{"$f":"AO23/(AQ4-AO25)","v":0},{"$f":"IF(AP23=0,0,(AP23*((LOG(AP23))/LOG(2))))","v":0},null,{"$f":"N23","v":21111},{"$f":"COUNTIF(L139:L164,AS23)","v":0},{"$f":"AT23/(AV4-AT25)","v":0},{"$f":"IF(AU23=0,0,(AU23*((LOG(AU23))/LOG(2))))","v":0}]
[21,2430,22,2439,24,2459,23,2464,24,2471,0,22222,null,21112,{"$f":"COUNTIF($L$7:$L$500,N24)","v":0},{"$f":"O24/$Q$4","v":0},{"$f":"IF(P24=0,0,(P24*((LOG(P24))/LOG(2))))","v":0},null,null,{"$f":"N24","v":21112},{"$f":"COUNTIF(L7:L32,T24)","v":0},{"$f":"U24/(W4-U25)","v":0},{"$f":"IF(V24=0,0,(V24*((LOG(V24))/LOG(2))))","v":0},null,{"$f":"N24","v":21112},{"$f":"COUNTIF(L33:L59,Y24)","v":0},{"$f":"Z24/(AB4-Z25)","v":0},{"$f":"IF(AA24=0,0,(AA24*((LOG(AA24))/LOG(2))))","v":0},null,{"$f":"N24","v":21112},{"$f":"COUNTIF(L60:L85,AD24)","v":0},{"$f":"AE24/(AG4-AE25)","v":0},{"$f":"IF(AF24=0,0,(AF24*((LOG(AF24))/LOG(2))))","v":0},null,{"$f":"N24","v":21112},{"$f":"COUNTIF(L86:L111,AI24)","v":0},{"$f":"AJ24/(AL4-AJ25)","v":0},{"$f":"IF(AK24=0,0,(AK24*((LOG(AK24))/LOG(2))))","v":0},null,{"$f":"N24","v":21112},{"$f":"COUNTIF(L112:L138,AN24)","v":0},{"$f":"AO24/(AQ4-AO25)","v":0},{"$f":"IF(AP24=0,0,(AP24*((LOG(AP24))/LOG(2))))","v":0},null,{"$f":"N24","v":21112},{"$f":"COUNTIF(L139:L164,AS24)","v":0},{"$f":"AT24/(AV4-AT25)","v":0},{"$f":"IF(AU24=0,0,(AU24*((LOG(AU24))/LOG(2))))","v":0}]
[21,2589,22,2600,24,2614,23,2621,24,2628,0,22222,null,21121,{"$f":"COUNTIF($L$7:$L$500,N25)","v":0},{"$f":"O25/$Q$4","v":0},{"$f":"IF(P25=0,0,(P25*((LOG(P25))/LOG(2))))","v":0},null,null,{"$f":"N25","v":21121},{"$f":"COUNTIF(L7:L32,T25)","v":0},null,null,null,{"$f":"N25","v":21121},{"$f":"COUNTIF(L33:L59,Y25)","v":0},null,null,null,{"$f":"N25","v":21121},{"$f":"COUNTIF(L60:L85,AD25)","v":0},null,null,null,{"$f":"N25","v":21121},{"$f":"COUNTIF(L86:L111,AI25)","v":0},null,null,null,{"$f":"N25","v":21121},{"$f":"COUNTIF(L112:L138,AN25)","v":0},null,null,null,{"$f":"N25","v":21121},{"$f":"COUNTIF(L139:L164,AS25)","v":0}]
[21,2740,22,2747,24,2762,23,2771,24,2776,0,22222,null,21122,{"$f":"COUNTIF($L$7:$L$500,N26)","v":0},{"$f":"O26/$Q$4","v":0},{"$f":"IF(P26=0,0,(P26*((LOG(P26))/LOG(2))))","v":0},null,null,{"$f":"N26","v":21122},{"$f":"COUNTIF(L7:L32,T26)","v":0},{"$f":"U26/(W4-U25)","v":0},{"$f":"IF(V26=0,0,(V26*((LOG(V26))/LOG(2))))","v":0},null,{"$f":"N26","v":21122},{"$f":"COUNTIF(L33:L59,Y26)","v":0},{"$f":"Z26/(AB4-Z25)","v":0},{"$f":"IF(AA26=0,0,(AA26*((LOG(AA26))/LOG(2))))","v":0},null,{"$f":"N26","v":21122},{"$f":"COUNTIF(L60:L85,AD26)","v":0},{"$f":"AE26/(AG4-AE25)","v":0},{"$f":"IF(AF26=0,0,(AF26*((LOG(AF26))/LOG(2))))","v":0},null,{"$f":"N26","v":21122},{"$f":"COUNTIF(L86:L111,AI26)","v":0},{"$f":"AJ26/(AL4-AJ25)","v":0},{"$f":"IF(AK26=0,0,(AK26*((LOG(AK26))/LOG(2))))","v":0},null,{"$f":"N26","v":21122},{"$f":"COUNTIF(L112:L138,AN26)","v":0},{"$f":"AO26/(AQ4-AO25)","v":0},{"$f":"IF(AP26=0,0,(AP26*((LOG(AP26))/LOG(2))))","v":0},null,{"$f":"N26","v":21122},{"$f":"COUNTIF(L139:L164,AS26)","v":0},{"$f":"AT26/(AV4-AT25)","v":0},{"$f":"IF(AU26=0,0,(AU26*((LOG(AU26))/LOG(2))))","v":0}]
[21,2889,22,2897,24,2909,23,2915,24,2932,0,22222,null,21211,{"$f":"COUNTIF($L$7:$L$500,N27)","v":0},{"$f":"O27/$Q$4","v":0},{"$f":"IF(P27=0,0,(P27*((LOG(P27))/LOG(2))))","v":0},null,null,{"$f":"N27","v":21211},{"$f":"COUNTIF(L7:L32,T27)","v":0},{"$f":"U27/(W4-U25)","v":0},{"$f":"IF(V27=0,0,(V27*((LOG(V27))/LOG(2))))","v":0},null,{"$f":"N27","v":21211},{"$f":"COUNTIF(L33:L59,Y27)","v":0},{"$f":"Z27/(AB4-Z25)","v":0},{"$f":"IF(AA27=0,0,(AA27*((LOG(AA27))/LOG(2))))","v":0},null,{"$f":"N27","v":21211},{"$f":"COUNTIF(L60:L85,AD27)","v":0},{"$f":"AE27/(AG4-AE25)","v":0},{"$f":"IF(AF27=0,0,(AF27*((LOG(AF27))/LOG(2))))","v":0},null,{"$f":"N27","v":21211},{"$f":"COUNTIF(L86:L111,AI27)","v":0},{"$f":"AJ27/(AL4-AJ25)","v":0},{"$f":"IF(AK27=0,0,(AK27*((LOG(AK27))/LOG(2))))","v":0},null,{"$f":"N27","v":21211},{"$f":"COUNTIF(L112:L138,AN27)","v":0},{"$f":"AO27/(AQ4-AO25)","v":0},{"$f":"IF(AP27=0,0,(AP27*((LOG(AP27))/LOG(2))))","v":0},null,{"$f":"N27","v":21211},{"$f":"COUNTIF(L139:L164,AS27)","v":0},{"$f":"AT27/(AV4-AT25)","v":0},{"$f":"IF(AU27=0,0,(AU27*((LOG(AU27))/LOG(2))))","v":0}]
[21,3034,22,3039,24,3043,23,3052,24,3061,0,22222,null,21212,{"$f":"COUNTIF($L$7:$L$500,N28)","v":0},{"$f":"O28/$Q$4","v":0},{"$f":"IF(P28=0,0,(P28*((LOG(P28))/LOG(2))))","v":0},null,null,{"$f":"N28","v":21212},{"$f":"COUNTIF(L7:L32,T28)","v":0},{"$f":"U28/(W4-U25)","v":0},{"$f":"IF(V28=0,0,(V28*((LOG(V28))/LOG(2))))","v":0},null,{"$f":"N28","v":21212},{"$f":"COUNTIF(L33:L59,Y28)","v":0},{"$f":"Z28/(AB4-Z25)","v":0},{"$f":"IF(AA28=0,0,(AA28*((LOG(AA28))/LOG(2))))","v":0},null,{"$f":"N28","v":21212},{"$f":"COUNTIF(L60:L85,AD28)","v":0},{"$f":"AE28/(AG4-AE25)","v":0},{"$f":"IF(AF28=0,0,(AF28*((LOG(AF28))/LOG(2))))","v":0},null,{"$f":"N28","v":21212},{"$f":"COUNTIF(L86:L111,AI28)","v":0},{"$f":"AJ28/(AL4-AJ25)","v":0},{"$f":"IF(AK28=0,0,(AK28*((LOG(AK28))/LOG(2))))","v":0},null,{"$f":"N28","v":21212},{"$f":"COUNTIF(L112:L138,AN28)","v":0},{"$f":"AO28/(AQ4-AO25)","v":0},{"$f":"IF(AP28=0,0,(AP28*((LOG(AP28))/LOG(2))))","v":0},null,{"$f":"N28","v":21212},{"$f":"COUNTIF(L139:L164,AS28)","v":0},{"$f":"AT28/(AV4-AT25)","v":0},{"$f":"IF(AU28=0,0,(AU28*((LOG(AU28))/LOG(2))))","v":0}]
[21,3160,22,3169,24,3173,23,3177,24,3188,0,22222,null,21221,{"$f":"COUNTIF($L$7:$L$500,N29)","v":0},{"$f":"O29/$Q$4","v":0},{"$f":"IF(P29=0,0,(P29*((LOG(P29))/LOG(2))))","v":0},null,null,{"$f":"N29","v":21221},{"$f":"COUNTIF(L7:L32,T29)","v":0},{"$f":"U29/(W4-U25)","v":0},{"$f":"IF(V29=0,0,(V29*((LOG(V29))/LOG(2))))","v":0},null,{"$f":"N29","v":21221},{"$f":"COUNTIF(L33:L59,Y29)","v":0},{"$f":"Z29/(AB4-Z25)","v":0},{"$f":"IF(AA29=0,0,(AA29*((LOG(AA29))/LOG(2))))","v":0},null,{"$f":"N29","v":21221},{"$f":"COUNTIF(L60:L85,AD29)","v":0},{"$f":"AE29/(AG4-AE25)","v":0},{"$f":"IF(AF29=0,0,(AF29*((LOG(AF29))/LOG(2))))","v":0},null,{"$f":"N29","v":21221},{"$f":"COUNTIF(L86:L111,AI29)","v":0},{"$f":"AJ29/(AL4-AJ25)","v":0},{"$f":"IF(AK29=0,0,(AK29*((LOG(AK29))/LOG(2))))","v":0},null,{"$f":"N29","v":21221},{"$f":"COUNTIF(L112:L138,AN29)","v":0},{"$f":"AO29/(AQ4-AO25)","v":0},{"$f":"IF(AP29=0,0,(AP29*((LOG(AP29))/LOG(2))))","v":0},null,{"$f":"N29","v":21221},{"$f":"COUNTIF(L139:L164,AS29)","v":0},{"$f":"AT29/(AV4-AT25)","v":0},{"$f":"IF(AU29=0,0,(AU29*((LOG(AU29))/LOG(2))))","v":0}]
[21,3296,22,3306,24,3315,23,3318,24,3323,1,22222,null,21222,{"$f":"COUNTIF($L$7:$L$500,N30)","v":0},{"$f":"O30/$Q$4","v":0},{"$f":"IF(P30=0,0,(P30*((LOG(P30))/LOG(2))))","v":0},null,null,{"$f":"N30","v":21222},{"$f":"COUNTIF(L7:L32,T30)","v":0},{"$f":"U30/(W4-U25)","v":0},{"$f":"IF(V30=0,0,(V30*((LOG(V30))/LOG(2))))","v":0},null,{"$f":"N30","v":21222},{"$f":"COUNTIF(L33:L59,Y30)","v":0},{"$f":"Z30/(AB4-Z25)","v":0},{"$f":"IF(AA30=0,0,(AA30*((LOG(AA30))/LOG(2))))","v":0},null,{"$f":"N30","v":21222},{"$f":"COUNTIF(L60:L85,AD30)","v":0},{"$f":"AE30/(AG4-AE25)","v":0},{"$f":"IF(AF30=0,0,(AF30*((LOG(AF30))/LOG(2))))","v":0},null,{"$f":"N30","v":21222},{"$f":"COUNTIF(L86:L111,AI30)","v":0},{"$f":"AJ30/(AL4-AJ25)","v":0},{"$f":"IF(AK30=0,0,(AK30*((LOG(AK30))/LOG(2))))","v":0},null,{"$f":"N30","v":21222},{"$f":"COUNTIF(L112:L138,AN30)","v":0},{"$f":"AO30/(AQ4-AO25)","v":0},{"$f":"IF(AP30=0,0,(AP30*((LOG(AP30))/LOG(2))))","v":0},null,{"$f":"N30","v":21222},{"$f":"COUNTIF(L139:L164,AS30)","v":0},{"$f":"AT30/(AV4-AT25)","v":0},{"$f":"IF(AU30=0,0,(AU30*((LOG(AU30))/LOG(2))))","v":0}]
[21,3439,22,3443,24,3451,23,3455,24,3463,1,22222,null,22111,{"$f":"COUNTIF($L$7:$L$500,N31)","v":0},{"$f":"O31/$Q$4","v":0},{"$f":"IF(P31=0,0,(P31*((LOG(P31))/LOG(2))))","v":0},null,null,{"$f":"N31","v":22111},{"$f":"COUNTIF(L7:L32,T31)","v":0},{"$f":"U31/(W4-U25)","v":0},{"$f":"IF(V31=0,0,(V31*((LOG(V31))/LOG(2))))","v":0},null,{"$f":"N31","v":22111},{"$f":"COUNTIF(L33:L59,Y31)","v":0},{"$f":"Z31/(AB4-Z25)","v":0},{"$f":"IF(AA31=0,0,(AA31*((LOG(AA31))/LOG(2))))","v":0},null,{"$f":"N31","v":22111},{"$f":"COUNTIF(L60:L85,AD31)","v":0},{"$f":"AE31/(AG4-AE25)","v":0},{"$f":"IF(AF31=0,0,(AF31*((LOG(AF31))/LOG(2))))","v":0},null,{"$f":"N31","v":22111},{"$f":"COUNTIF(L86:L111,AI31)","v":0},{"$f":"AJ31/(AL4-AJ25)","v":0},{"$f":"IF(AK31=0,0,(AK31*((LOG(AK31))/LOG(2))))","v":0},null,{"$f":"N31","v":22111},{"$f":"COUNTIF(L112:L138,AN31)","v":0},{"$f":"AO31/(AQ4-AO25)","v":0},{"$f":"IF(AP31=0,0,(AP31*((LOG(AP31))/LOG(2))))","v":0},null,{"$f":"N31","v":22111},{"$f":"COUNTIF(L139:L164,AS31)","v":0},{"$f":"AT31/(AV4-AT25)","v":0},{"$f":"IF(AU31=0,0,(AU31*((LOG(AU31))/LOG(2))))","v":0}]
[21,3569,22,3573,24,3579,23,3584,24,3600,0,22222,null,22112,{"$f":"COUNTIF($L$7:$L$500,N32)","v":0},{"$f":"O32/$Q$4","v":0},{"$f":"IF(P32=0,0,(P32*((LOG(P32))/LOG(2))))","v":0},null,null,{"$f":"N32","v":22112},{"$f":"COUNTIF(L7:L32,T32)","v":0},{"$f":"U32/(W4-U25)","v":0},{"$f":"IF(V32=0,0,(V32*((LOG(V32))/LOG(2))))","v":0},null,{"$f":"N32","v":22112},{"$f":"COUNTIF(L33:L59,Y32)","v":0},{"$f":"Z32/(AB4-Z25)","v":0},{"$f":"IF(AA32=0,0,(AA32*((LOG(AA32))/LOG(2))))","v":0},null,{"$f":"N32","v":22112},{"$f":"COUNTIF(L60:L85,AD32)","v":0},{"$f":"AE32/(AG4-AE25)","v":0},{"$f":"IF(AF32=0,0,(AF32*((LOG(AF32))/LOG(2))))","v":0},null,{"$f":"N32","v":22112},{"$f":"COUNTIF(L86:L111,AI32)","v":0},{"$f":"AJ32/(AL4-AJ25)","v":0},{"$f":"IF(AK32=0,0,(AK32*((LOG(AK32))/LOG(2))))","v":0},null,{"$f":"N32","v":22112},{"$f":"COUNTIF(L112:L138,AN32)","v":0},{"$f":"AO32/(AQ4-AO25)","v":0},{"$f":"IF(AP32=0,0,(AP32*((LOG(AP32))/LOG(2))))","v":0},null,{"$f":"N32","v":22112},{"$f":"COUNTIF(L139:L164,AS32)","v":0},{"$f":"AT32/(AV4-AT25)","v":0},{"$f":"IF(AU32=0,0,(AU32*((LOG(AU32))/LOG(2))))","v":0}]
[21,3710,22,3722,24,3730,23,3735,24,3743,0,22222,null,22121,{"$f":"COUNTIF($L$7:$L$500,N33)","v":0},{"$f":"O33/$Q$4","v":0},{"$f":"IF(P33=0,0,(P33*((LOG(P33))/LOG(2))))","v":0},null,null,{"$f":"N33","v":22121},{"$f":"COUNTIF(L7:L32,T33)","v":0},{"$f":"U33/(W4-U25)","v":0},{"$f":"IF(V33=0,0,(V33*((LOG(V33))/LOG(2))))","v":0},null,{"$f":"N33","v":22121},{"$f":"COUNTIF(L33:L59,Y33)","v":0},{"$f":"Z33/(AB4-Z25)","v":0},{"$f":"IF(AA33=0,0,(AA33*((LOG(AA33))/LOG(2))))","v":0},null,{"$f":"N33","v":22121},{"$f":"COUNTIF(L60:L85,AD33)","v":0},{"$f":"AE33/(AG4-AE25)","v":0},{"$f":"IF(AF33=0,0,(AF33*((LOG(AF33))/LOG(2))))","v":0},null,{"$f":"N33","v":22121},{"$f":"COUNTIF(L86:L111,AI33)","v":0},{"$f":"AJ33/(AL4-AJ25)","v":0},{"$f":"IF(AK33=0,0,(AK33*((LOG(AK33))/LOG(2))))","v":0},null,{"$f":"N33","v":22121},{"$f":"COUNTIF(L112:L138,AN33)","v":0},{"$f":"AO33/(AQ4-AO25)","v":0},{"$f":"IF(AP33=0,0,(AP33*((LOG(AP33))/LOG(2))))","v":0},null,{"$f":"N33","v":22121},{"$f":"COUNTIF(L139:L164,AS33)","v":0},{"$f":"AT33/(AV4-AT25)","v":0},{"$f":"IF(AU33=0,0,(AU33*((LOG(AU33))/LOG(2))))","v":0}]
[21,3864,22,3868,24,3871,23,3886,24,3913,0,22222,null,22122,{"$f":"COUNTIF($L$7:$L$500,N34)","v":0},{"$f":"O34/$Q$4","v":0},{"$f":"IF(P34=0,0,(P34*((LOG(P34))/LOG(2))))","v":0},null,null,{"$f":"N34","v":22122},{"$f":"COUNTIF(L7:L32,T34)","v":0},{"$f":"U34/(W4-U25)","v":0},{"$f":"IF(V34=0,0,(V34*((LOG(V34))/LOG(2))))","v":0},null,{"$f":"N34","v":22122},{"$f":"COUNTIF(L33:L59,Y34)","v":0},{"$f":"Z34/(AB4-Z25)","v":0},{"$f":"IF(AA34=0,0,(AA34*((LOG(AA34))/LOG(2))))","v":0},null,{"$f":"N34","v":22122},{"$f":"COUNTIF(L60:L85,AD34)","v":0},{"$f":"AE34/(AG4-AE25)","v":0},{"$f":"IF(AF34=0,0,(AF34*((LOG(AF34))/LOG(2))))","v":0},null,{"$f":"N34","v":22122},{"$f":"COUNTIF(L86:L111,AI34)","v":0},{"$f":"AJ34/(AL4-AJ25)","v":0},{"$f":"IF(AK34=0,0,(AK34*((LOG(AK34))/LOG(2))))","v":0},null,{"$f":"N34","v":22122},{"$f":"COUNTIF(L112:L138,AN34)","v":0},{"$f":"AO34/(AQ4-AO25)","v":0},{"$f":"IF(AP34=0,0,(AP34*((LOG(AP34))/LOG(2))))","v":0},null,{"$f":"N34","v":22122},{"$f":"COUNTIF(L139:L164,AS34)","v":0},{"$f":"AT34/(AV4-AT25)","v":0},{"$f":"IF(AU34=0,0,(AU34*((LOG(AU34))/LOG(2))))","v":0}]
[21,4013,22,4017,24,4021,23,4025,24,4029,0,22222,null,22211,{"$f":"COUNTIF($L$7:$L$500,N35)","v":0},{"$f":"O35/$Q$4","v":0},{"$f":"IF(P35=0,0,(P35*((LOG(P35))/LOG(2))))","v":0},null,null,{"$f":"N35","v":22211},{"$f":"COUNTIF(L7:L32,T35)","v":0},{"$f":"U35/(W4-U25)","v":0},{"$f":"IF(V35=0,0,(V35*((LOG(V35))/LOG(2))))","v":0},null,{"$f":"N35","v":22211},{"$f":"COUNTIF(L33:L59,Y35)","v":0},{"$f":"Z35/(AB4-Z25)","v":0},{"$f":"IF(AA35=0,0,(AA35*((LOG(AA35))/LOG(2))))","v":0},null,{"$f":"N35","v":22211},{"$f":"COUNTIF(L60:L85,AD35)","v":0},{"$f":"AE35/(AG4-AE25)","v":0},{"$f":"IF(AF35=0,0,(AF35*((LOG(AF35))/LOG(2))))","v":0},null,{"$f":"N35","v":22211},{"$f":"COUNTIF(L86:L111,AI35)","v":0},{"$f":"AJ35/(AL4-AJ25)","v":0},{"$f":"IF(AK35=0,0,(AK35*((LOG(AK35))/LOG(2))))","v":0},null,{"$f":"N35","v":22211},{"$f":"COUNTIF(L112:L138,AN35)","v":0},{"$f":"AO35/(AQ4-AO25)","v":0},{"$f":"IF(AP35=0,0,(AP35*((LOG(AP35))/LOG(2))))","v":0},null,{"$f":"N35","v":22211},{"$f":"COUNTIF(L139:L164,AS35)","v":0},{"$f":"AT35/(AV4-AT25)","v":0},{"$f":"IF(AU35=0,0,(AU35*((LOG(AU35))/LOG(2))))","v":0}]
[21,4131,22,4136,24,4140,23,4144,24,4148,0,22222,null,22212,{"$f":"COUNTIF($L$7:$L$500,N36)","v":0},{"$f":"O36/$Q$4","v":0},{"$f":"IF(P36=0,0,(P36*((LOG(P36))/LOG(2))))","v":0},null,null,{"$f":"N36","v":22212},{"$f":"COUNTIF(L7:L32,T36)","v":0},{"$f":"U36/(W4-U25)","v":0},{"$f":"IF(V36=0,0,(V36*((LOG(V36))/LOG(2))))","v":0},null,{"$f":"N36","v":22212},{"$f":"COUNTIF(L33:L59,Y36)","v":0},{"$f":"Z36/(AB4-Z25)","v":0},{"$f":"IF(AA36=0,0,(AA36*((LOG(AA36))/LOG(2))))","v":0},null,{"$f":"N36","v":22212},{"$f":"COUNTIF(L60:L85,AD36)","v":0},{"$f":"AE36/(AG4-AE25)","v":0},{"$f":"IF(AF36=0,0,(AF36*((LOG(AF36))/LOG(2))))","v":0},null,{"$f":"N36","v":22212},{"$f":"COUNTIF(L86:L111,AI36)","v":0},{"$f":"AJ36/(AL4-AJ25)","v":0},{"$f":"IF(AK36=0,0,(AK36*((LOG(AK36))/LOG(2))))","v":0},null,{"$f":"N36","v":22212},{"$f":"COUNTIF(L112:L138,AN36)","v":0},{"$f":"AO36/(AQ4-AO25)","v":0},{"$f":"IF(AP36=0,0,(AP36*((LOG(AP36))/LOG(2))))","v":0},null,{"$f":"N36","v":22212},{"$f":"COUNTIF(L139:L164,AS36)","v":0},{"$f":"AT36/(AV4-AT25)","v":0},{"$f":"IF(AU36=0,0,(AU36*((LOG(AU36))/LOG(2))))","v":0}]
[21,4269,22,4273,24,4278,23,4286,24,4293,0,22222,null,22221,{"$f":"COUNTIF($L$7:$L$500,N37)","v":0},{"$f":"O37/$Q$4","v":0},{"$f":"IF(P37=0,0,(P37*((LOG(P37))/LOG(2))))","v":0},null,null,{"$f":"N37","v":22221},{"$f":"COUNTIF(L7:L32,T37)","v":0},{"$f":"U37/(W4-U25)","v":0},{"$f":"IF(V37=0,0,(V37*((LOG(V37))/LOG(2))))","v":0},null,{"$f":"N37","v":22221},{"$f":"COUNTIF(L33:L59,Y37)","v":0},{"$f":"Z37/(AB4-Z25)","v":0},{"$f":"IF(AA37=0,0,(AA37*((LOG(AA37))/LOG(2))))","v":0},null,{"$f":"N37","v":22221},{"$f":"COUNTIF(L60:L85,AD37)","v":0},{"$f":"AE37/(AG4-AE25)","v":0},{"$f":"IF(AF37=0,0,(AF37*((LOG(AF37))/LOG(2))))","v":0},null,{"$f":"N37","v":22221},{"$f":"COUNTIF(L86:L111,AI37)","v":0},{"$f":"AJ37/(AL4-AJ25)","v":0},{"$f":"IF(AK37=0,0,(AK37*((LOG(AK37))/LOG(2))))","v":0},null,{"$f":"N37","v":22221},{"$f":"COUNTIF(L112:L138,AN37)","v":0},{"$f":"AO37/(AQ4-AO25)","v":0},{"$f":"IF(AP37=0,0,(AP37*((LOG(AP37))/LOG(2))))","v":0},null,{"$f":"N37","v":22221},{"$f":"COUNTIF(L139:L164,AS37)","v":0},{"$f":"AT37/(AV4-AT25)","v":0},{"$f":"IF(AU37=0,0,(AU37*((LOG(AU37))/LOG(2))))","v":0}]
[21,4403,22,4411,24,4416,23,4421,24,4431,0,22222,null,22222,{"$f":"COUNTIF($L$7:$L$500,N38)","v":156},{"$f":"O38/$Q$4","v":0.99363057324840764},{"$f":"IF(P38=0,0,(P38*((LOG(P38))/LOG(2))))","v":-9.1598132775991808E-3},null,null,{"$f":"N38","v":22222},{"$f":"COUNTIF(L7:L32,T38)","v":26},{"$f":"U38/(W4-U25)","v":1},{"$f":"IF(V38=0,0,(V38*((LOG(V38))/LOG(2))))","v":0},null,{"$f":"N38","v":22222},{"$f":"COUNTIF(L33:L59,Y38)","v":27},{"$f":"Z38/(AB4-Z25)","v":1},{"$f":"IF(AA38=0,0,(AA38*((LOG(AA38))/LOG(2))))","v":0},null,{"$f":"N38","v":22222},{"$f":"COUNTIF(L60:L85,AD38)","v":26},{"$f":"AE38/(AG4-AE25)","v":1},{"$f":"IF(AF38=0,0,(AF38*((LOG(AF38))/LOG(2))))","v":0},null,{"$f":"N38","v":22222},{"$f":"COUNTIF(L86:L111,AI38)","v":26},{"$f":"AJ38/(AL4-AJ25)","v":1},{"$f":"IF(AK38=0,0,(AK38*((LOG(AK38))/LOG(2))))","v":0},null,{"$f":"N38","v":22222},{"$f":"COUNTIF(L112:L138,AN38)","v":27},{"$f":"AO38/(AQ4-AO25)","v":1},{"$f":"IF(AP38=0,0,(AP38*((LOG(AP38))/LOG(2))))","v":0},null,{"$f":"N38","v":22222},{"$f":"COUNTIF(L139:L164,AS38)","v":24},{"$f":"AT38/(AV4-AT25)","v":0.96},{"$f":"IF(AU38=0,0,(AU38*((LOG(AU38))/LOG(2))))","v":-5.6537941491425818E-2}]
[21,4551,22,4561,24,4568,23,4579,24,4585,0,22222,null,null,null,{"$f":"SUM(P7:P38)","v":1},{"$f":"-SUM(Q7:Q38)","v":5.5622365818310177E-2},null,null,null,null,{"$f":"SUM(V7:V38)","v":1},{"$f":"-SUM(W7:W38)","v":0},null,null,null,{"$f":"SUM(AA7:AA38)","v":1},{"$f":"-SUM(AB7:AB38)","v":0},null,null,null,{"$f":"SUM(AF7:AF38)","v":1},{"$f":"-SUM(AG7:AG38)","v":0},null,null,null,{"$f":"SUM(AK7:AK38)","v":1},{"$f":"-SUM(AL7:AL38)","v":0},null,null,null,{"$f":"SUM(AP7:AP38)","v":1},{"$f":"-SUM(AQ7:AQ38)","v":0},null,null,null,{"$f":"SUM(AU7:AU38)","v":1},{"$f":"-SUM(AV7:AV38)","v":0.24229218908241482}]
[21,4698,22,4705,24,4709,23,4718,24,4725,0,22222,null,null,null,"U=",{"$f":"Q39/(LOG(Q4)/LOG(2))","v":7.6251209943658362E-3},null,null,null,null,"U1=",{"$f":"W39/(LOG(W4)/LOG(2))","v":0},null,null,null,"U2=",{"$f":"AB39/(LOG(AB4)/LOG(2))","v":0},null,null,null,"U3=",{"$f":"AG39/(LOG(AG4)/LOG(2))","v":0},null,null,null,"U4=",{"$f":"AL39/(LOG(AL4)/LOG(2))","v":0},null,null,null,"U5=",{"$f":"AQ39/(LOG(AQ4)/LOG(2))","v":0},null,null,null,"U6=",{"$f":"AV39/(LOG(AV4)/LOG(2))","v":5.2174783021041074E-2}]
[21,4831,22,4844,24,4848,23,4852,24,4859,1,22222]
[21,4970,22,4974,24,4978,23,4983,24,4991,0,22222]
[21,5106,22,5113,24,5116,23,5120,24,5124,0,22222,null,"Total Target Seq"]
[21,5237,22,5268,24,5272,23,5277,24,5284,0,22222,null,{"$f":"COUNTIF(L7:L164,G3)","v":0},null,26,27,26,26,27,26]
[21,5388,22,5392,24,5395,23,5402,24,5410,0,22222,null,null,null,"% of reinforcement given in 6 equal intervals based on number of trials "]
[21,5507,22,5512,24,5523,23,5527,24,5536,0,22222,null,null,null,"%_1","%_2","%_3","%_4","%_5","%_6"]
[21,5661,22,5664,24,5669,23,5677,24,5688,0,22222,null,null,"target sequence",{"$f":"$G$3","v":21121},{"$f":"$G$3","v":21121},{"$f":"$G$3","v":21121},{"$f":"$G$3","v":21121},{"$f":"$G$3","v":21121},{"$f":"$G$3","v":21121}]
[21,5811,22,5818,24,5829,23,5833,24,5839,0,22222,null,null,"total reinforcement",{"$f":"U25","v":0},{"$f":"Z25","v":0},{"$f":"AE25","v":0},{"$f":"AJ25","v":0},{"$f":"AO25","v":0},{"$f":"AT25","v":0}]
[21,5953,22,5957,24,5960,23,5965,24,5971,0,22222,null,null,"% target"]
[21,6089,22,6096,24,6100,23,6105,24,6111,0,22222,null,null,"CCRF"]
[21,6220,22,6224,24,6228,23,6232,24,6236,0,22222,null,null,"% CCRf"]
[21,6354,22,6361,24,6375,23,6381,24,6402,1,22222,null,null,"average response rate",{"$f":"J32/P44","v":138.46153846153845},{"$f":"(J59-J32)/Q44","v":141.59259259259258},{"$f":"(J85-J59)/R44","v":137.88461538461539},{"$f":"(J111-J85)/S44","v":133.53846153846155},{"$f":"(J138-J111)/T44","v":151.92592592592592},{"$f":"(J164-J138)/U44","v":-714.69230769230774}]
[21,6522,22,6533,24,6538,23,6549,24,6563,0,22222]
[21,6666,22,6669,24,6673,23,6677,24,6681,1,22222]
[21,6801,22,6805,24,6809,23,6813,24,6821,1,22222]
[21,6944,22,6960,24,6967,23,6977,24,6986,0,22222]
[21,7121,22,7125,24,7132,23,7160,24,7166,0,22222]
[21,7275,22,7279,24,7283,23,7289,24,7297,0,22222]
[21,7401,22,7405,24,7408,23,7413,24,7423,0,22222]
[21,7534,22,7538,24,7542,23,7546,24,7552,0,22222]
[21,7660,22,7664,24,7668,23,7677,24,7683,0,22222]
[21,7836,22,7840,24,7844,23,7851,24,7857,0,22222]
[21,7959,22,7971,24,7979,23,7983,24,7990,1,22222]
[21,8128,22,8132,24,8136,23,8141,24,8148,0,22222]
[21,8261,22,8266,24,8273,23,8277,24,8286,0,22222]
[21,8395,22,8403,24,8410,23,8417,24,8433,1,22222]
[21,8548,22,8553,24,8563,23,8571,24,8577,0,22222]
[21,8677,22,8681,24,8685,23,8690,24,8693,0,22222]
[21,8812,22,8816,24,8834,23,8838,24,8844,0,22222]
[21,8951,22,8955,24,8959,23,8963,24,8972,1,22222]
[21,9099,22,9110,24,9113,23,9120,24,9127,0,22222]
[21,9225,22,9229,24,9233,23,9237,24,9246,0,22222]
[21,9356,22,9360,24,9368,23,9374,24,9381,1,22222]
[21,9507,22,9511,24,9518,23,9523,24,9530,0,22222]
[21,9638,22,9642,24,9646,23,9650,24,9656,0,22222]
[21,9779,22,9787,24,9794,23,9801,24,9807,0,22222]
[21,9928,22,9933,24,9937,23,9944,24,9951,1,22222]
[21,10052,22,10056,24,10060,23,10064,24,10068,0,22222]
[21,10199,22,10204,24,10208,23,10212,24,10220,1,22222]
[21,10353,22,10357,24,10361,23,10366,24,10374,0,22222]
[21,10480,22,10484,24,10488,23,10492,24,10498,0,22222]
[21,10604,22,10608,24,10612,23,10615,24,10620,0,22222]
[21,10726,22,10731,24,10736,23,10742,24,10749,0,22222]
[21,10850,22,10854,24,10858,23,10862,24,10869,0,22222]
[21,10984,22,10988,24,10996,23,11001,24,11008,1,22222]
[21,11109,22,11113,24,11116,23,11120,24,11127,0,22222]
[21,11229,22,11232,24,11236,23,11240,24,11244,0,22222]
[21,11353,22,11358,24,11362,23,11368,24,11376,0,22222]
[21,11482,22,11486,24,11490,23,11494,24,11500,0,22222]
[21,11614,22,11617,24,11621,23,11625,24,11632,0,22222]
[21,11746,22,11750,24,11754,23,11758,24,11763,1,22222]
[21,11868,22,11887,24,11901,23,11908,24,11914,0,22222]
[21,12019,22,12024,24,12028,23,12041,24,12047,0,22222]
[21,12147,22,12173,24,12177,23,12189,24,12195,0,22222]
[21,12299,22,12303,24,12307,23,12311,24,12315,0,22222]
[21,12429,22,12433,24,12437,23,12441,24,12448,1,22222]
[21,12545,22,12550,24,12554,23,12558,24,12567,0,22222]
[21,12672,22,12684,24,12688,23,12692,24,12698,0,22222]
[21,12810,22,12814,24,12818,23,12822,24,12829,0,22222]
[21,12941,22,12945,24,12949,23,12953,24,12958,0,22222]
[21,13068,22,13072,24,13076,23,13080,24,13090,0,22222]
[21,13195,22,13217,24,13221,23,13225,24,13229,1,22222]
[21,13338,22,13342,24,13346,23,13349,24,13354,0,22222]
[21,13467,22,13471,24,13474,23,13478,24,13485,0,22222]
[21,13600,22,13605,24,13609,23,13613,24,13620,0,22222]
[21,13733,22,13743,24,13748,23,13752,24,13763,0,22222]
[21,13881,22,13885,24,13889,23,13896,24,13903,0,22222]
[21,14026,22,14029,24,14033,23,14038,24,14050,0,22222]
[21,14160,22,14164,24,14168,23,14172,24,14181,1,22222]
[21,14314,22,14318,24,14322,23,14330,24,14344,0,22222]
[21,14458,22,14462,24,14466,23,14473,24,14480,0,22222]
[21,14595,22,14599,24,14603,23,14611,24,14622,0,22222]
[21,14746,22,14750,24,14754,23,14766,24,14774,0,22222]
[21,14885,22,14889,24,14893,23,14896,24,14900,1,22222]
[21,15015,22,15019,24,15022,23,15044,24,15061,0,22222]
[21,15167,22,15187,24,15191,23,15204,24,15208,0,22222]
[21,15328,22,15331,24,15335,23,15339,24,15345,0,22222]
[21,15468,22,15475,24,15480,23,15486,24,15493,0,22222]
[21,15628,22,15631,24,15635,23,15639,24,15647,0,22222]
[21,15782,22,15786,24,15796,23,15802,24,15811,1,22222]
[21,15931,22,15948,24,15953,23,15957,24,15961,0,22222]
[21,16083,22,16087,24,16090,23,16094,24,16101,0,22222]
[21,16224,22,16227,24,16231,23,16238,24,16245,0,22222]
[21,16359,22,16363,24,16366,23,16373,24,16379,0,22222]
[21,16497,22,16500,24,16504,23,16512,24,16519,0,22222]
[21,16641,22,16649,24,16656,23,16662,24,16669,0,22222]
[21,16784,22,16788,24,16792,23,16796,24,16812,1,22222]
[21,16937,22,16953,24,16957,23,16961,24,16966,0,22222]
[21,17097,22,17102,24,17119,23,17136,24,17142,0,22222]
[21,17255,22,17262,24,17270,23,17280,24,17286,0,22222]
[21,17404,22,17407,24,17411,23,17416,24,17423,0,22222]
[21,17531,22,17550,24,17554,23,17561,24,17571,0,22222]
[21,17686,22,17697,24,17701,23,17704,24,17711,0,22222]
[21,17826,22,17830,24,17834,23,17838,24,17845,0,22222]
[21,17976,22,17980,24,17984,23,17990,24,17997,1,22222]
[21,18159,22,18166,24,18173,23,18182,24,18189,0,22222]
[21,18337,22,18361,24,18376,23,18382,24,18391,0,22222]
[21,18546,22,18550,24,18554,23,18567,24,18582,0,22222]
[21,18704,22,18711,24,18715,23,18725,24,18735,0,22222]
[21,18864,22,18884,24,18892,23,18898,24,18905,0,22222]
[21,19036,22,19049,24,19053,23,19060,24,19069,0,22222]
[21,19205,22,19209,24,19213,23,19218,24,19226,0,22222]
[21,19382,22,19386,24,19390,23,19402,24,19410,1,22222]
[21,19606,22,19612,24,19625,23,19633,24,19640,0,22222]
[21,19789,22,19796,24,19804,23,19813,24,19823,1,22222]
[21,19998,22,20004,24,20015,23,20022,24,20029,0,22222]
[21,20160,22,20164,24,20168,23,20172,24,20179,0,22222]
[21,20288,22,20316,24,20341,23,20346,24,20352,0,22222]
[21,20519,22,20523,24,20536,23,20542,24,20549,0,22222]
[21,20676,22,20690,24,20694,23,20698,24,20704,0,22222]
[21,20846,22,20862,24,20881,23,20929,24,20951,0,22222]
[21,21048,22,21118,24,21170,23,21193,24,21246,0,22222]
[21,21421,22,21436,24,21441,23,21455,24,21464,1,22222]
[12,21566,24,21612,24,21619,23,21623,24,21630,0,12222]
[21,21783,22,21809,24,21813,23,21818,24,21826,0,22222]
[21,21941,22,21968,24,21986,23,21994,24,22001,1,22222]
[21,22172,22,22215,24,22223,23,22266,24,22275,0,22222]
[21,22412,22,22423,24,22444,23,22475,24,22480,0,22222]
[21,22640,22,22649,24,22657,23,22661,24,22668,0,22222]
[21,22833,22,22861,24,22871,23,22878,24,22889,1,22222]
[21,23061,22,23080,24,23087,23,23094,24,23160,1,22222]
[21,23355,22,23360,24,23446,23,23454,24,23465,1,22222]
[21,23668,22,23682,24,23699,23,23744,24,23813,1,22222]
[21,23966,22,23989,null,null,null,null,null,null,null,22]

{"sheet":"!N421D20.096","index":27,"n_rows":84,"n_cols":48,"rows_kept":84,"cut":false,"hidden":false,"merged":[[4,39,4,42],[5,39,5,40],[4,44,4,47],[5,44,5,45],[4,24,4,27],[5,24,5,25],[4,29,4,32],[5,29,5,30],[4,34,4,37],[5,34,5,35],[1,1,1,2],[5,13,5,14],[42,13,42,14],[43,13,43,14],[4,19,4,22],[5,19,5,20]]}
["Report for:!N421D20.096"]
["Date:","<date>"]
["Hen:","<hen>",null,null,null,"Correct Sequence",{"$f":"Start!J2","v":21121},null,null,null,null,null,null,null,null,"Total Sequences in Data",{"$f":"4994-COUNTBLANK(L7:L5000)","v":78},null,null,null,null,"Total Sequences in Block Data",{"$f":"COUNTA(L7:L19)","v":13},null,null,null,"Total Sequences in Block Data",{"$f":"COUNTA(L20:L32)","v":13},null,null,null,"Total Sequences in Block Data",{"$f":"COUNTA(L33:L45)","v":13},null,null,null,"Total Sequences in Block Data",{"$f":"COUNTA(L46:L58)","v":13},null,null,null,"Total Sequences in Block Data",{"$f":"COUNTA(L59:L71)","v":13},null,null,null,"Total Sequences in Block Data",{"$f":"COUNTA(L72:L84)","v":13}]
[null,null,null,null,null,null,null,null,null,null,null,null,null,null,null,"Total Sequences in Summary",{"$f":"SUM(O7:O38)","v":78},null,null,null,null,"Total Sequences in Block Summary",{"$f":"SUM(U7:U38)","v":13},null,null,null,"Total Sequences in Block Summary",{"$f":"SUM(Z7:Z38)","v":13},null,null,null,"Total Sequences in Block Summary",{"$f":"SUM(AE7:AE38)","v":13},null,null,null,"Total Sequences in Block Summary",{"$f":"SUM(AJ7:AJ38)","v":13},null,null,null,"Total Sequences in Block Summary",{"$f":"SUM(AO7:AO38)","v":13},null,null,null,"Total Sequences in Block Summary",{"$f":"SUM(AT7:AT38)","v":13}]
[null,null,null,null,null,null,null,null,null,null,null,null,null,null,null,null,null,null,null,"Block 1",null,null,null,null,"Block 2",null,null,null,null,"Block 3",null,null,null,null,"Block 4",null,null,null,null,"Block 5",null,null,null,null,"Block 6"]
["Sequence\nComponent\n1","Time\n1","Sequence\nComponent\n2","Time\n2","Sequence\nComponent\n3","Time\n3","Sequence\nComponent\n4","Time\n4","Sequence\nComponent\n5","Time\n5","Correct?\n0=No 1=Yes","Sequence",null,"Frequency",null,"Relative Frequency","Variability",null,null,"Frequency",null,"Relative Frequency","Variability",null,"Frequency",null,"Relative Frequency","Variability",null,"Frequency",null,"Relative Frequency","Variability",null,"Frequency",null,"Relative Frequency","Variability",null,"Frequency",null,"Relative Frequency","Variability",null,"Frequency",null,"Relative Frequency","Variability"]
[21,18,22,23,24,28,23,32,24,39,0,22222,null,11111,{"$f":"COUNTIF($L$7:$L$500,N7)","v":1},{"$f":"O7/$Q$4","v":1.282051282051282E-2},{"$f":"IF(P7=0,0,(P7*((LOG(P7))/LOG(2))))","v":-8.0582079729003178E-2},null,null,{"$f":"N7","v":11111},{"$f":"COUNTIF(L7:L19,T7)","v":0},{"$f":"U7/(W4-U25)","v":0},{"$f":"IF(V7=0,0,(V7*((LOG(V7))/LOG(2))))","v":0},null,{"$f":"N7","v":11111},{"$f":"COUNTIF(L20:L32,Y7)","v":0},{"$f":"Z7/(AB4-Z25)","v":0},{"$f":"IF(AA7=0,0,(AA7*((LOG(AA7))/LOG(2))))","v":0},null,{"$f":"N7","v":11111},{"$f":"COUNTIF(L33:L45,AD7)","v":0},{"$f":"AE7/(AG4-AE25)","v":0},{"$f":"IF(AF7=0,0,(AF7*((LOG(AF7))/LOG(2))))","v":0},null,{"$f":"N7","v":11111},{"$f":"COUNTIF(L46:L58,AI7)","v":0},{"$f":"AJ7/(AL4-AJ25)","v":0},{"$f":"IF(AK7=0,0,(AK7*((LOG(AK7))/LOG(2))))","v":0},null,{"$f":"N7","v":11111},{"$f":"COUNTIF(L59:L71,AN7)","v":0},{"$f":"AO7/(AQ4-AO25)","v":0},{"$f":"IF(AP7=0,0,(AP7*((LOG(AP7))/LOG(2))))","v":0},null,{"$f":"N7","v":11111},{"$f":"COUNTIF(L72:L84,AS7)","v":1},{"$f":"AT7/(AV4-AT25)","v":7.6923076923076927E-2},{"$f":"IF(AU7=0,0,(AU7*((LOG(AU7))/LOG(2))))","v":-0.28464920908777636}]
[21,138,22,142,24,153,23,158,24,172,0,22222,null,11112,{"$f":"COUNTIF($L$7:$L$500,N8)","v":0},{"$f":"O8/$Q$4","v":0},{"$f":"IF(P8=0,0,(P8*((LOG(P8))/LOG(2))))","v":0},null,null,{"$f":"N8","v":11112},{"$f":"COUNTIF(L7:L19,T8)","v":0},{"$f":"U8/(W4-U25)","v":0},{"$f":"IF(V8=0,0,(V8*((LOG(V8))/LOG(2))))","v":0},null,{"$f":"N8","v":11112},{"$f":"COUNTIF(L20:L32,Y8)","v":0},{"$f":"Z8/(AB4-Z25)","v":0},{"$f":"IF(AA8=0,0,(AA8*((LOG(AA8))/LOG(2))))","v":0},null,{"$f":"N8","v":11112},{"$f":"COUNTIF(L33:L45,AD8)","v":0},{"$f":"AE8/(AG4-AE25)","v":0},{"$f":"IF(AF8=0,0,(AF8*((LOG(AF8))/LOG(2))))","v":0},null,{"$f":"N8","v":11112},{"$f":"COUNTIF(L46:L58,AI8)","v":0},{"$f":"AJ8/(AL4-AJ25)","v":0},{"$f":"IF(AK8=0,0,(AK8*((LOG(AK8))/LOG(2))))","v":0},null,{"$f":"N8","v":11112},{"$f":"COUNTIF(L59:L71,AN8)","v":0},{"$f":"AO8/(AQ4-AO25)","v":0},{"$f":"IF(AP8=0,0,(AP8*((LOG(AP8))/LOG(2))))","v":0},null,{"$f":"N8","v":11112},{"$f":"COUNTIF(L72:L84,AS8)","v":0},{"$f":"AT8/(AV4-AT25)","v":0},{"$f":"IF(AU8=0,0,(AU8*((LOG(AU8))/LOG(2))))","v":0}]
[21,274,22,285,24,297,23,316,24,321,0,22222,null,11121,{"$f":"COUNTIF($L$7:$L$500,N9)","v":0},{"$f":"O9/$Q$4","v":0},{"$f":"IF(P9=0,0,(P9*((LOG(P9))/LOG(2))))","v":0},null,null,{"$f":"N9","v":11121},{"$f":"COUNTIF(L7:L19,T9)","v":0},{"$f":"U9/(W4-U25)","v":0},{"$f":"IF(V9=0,0,(V9*((LOG(V9))/LOG(2))))","v":0},null,{"$f":"N9","v":11121},{"$f":"COUNTIF(L20:L32,Y9)","v":0},{"$f":"Z9/(AB4-Z25)","v":0},{"$f":"IF(AA9=0,0,(AA9*((LOG(AA9))/LOG(2))))","v":0},null,{"$f":"N9","v":11121},{"$f":"COUNTIF(L33:L45,AD9)","v":0},{"$f":"AE9/(AG4-AE25)","v":0},{"$f":"IF(AF9=0,0,(AF9*((LOG(AF9))/LOG(2))))","v":0},null,{"$f":"N9","v":11121},{"$f":"COUNTIF(L46:L58,AI9)","v":0},{"$f":"AJ9/(AL4-AJ25)","v":0},{"$f":"IF(AK9=0,0,(AK9*((LOG(AK9))/LOG(2))))","v":0},null,{"$f":"N9","v":11121},{"$f":"COUNTIF(L59:L71,AN9)","v":0},{"$f":"AO9/(AQ4-AO25)","v":0},{"$f":"IF(AP9=0,0,(AP9*((LOG(AP9))/LOG(2))))","v":0},null,{"$f":"N9","v":11121},{"$f":"COUNTIF(L72:L84,AS9)","v":0},{"$f":"AT9/(AV4-AT25)","v":0},{"$f":"IF(AU9=0,0,(AU9*((LOG(AU9))/LOG(2))))","v":0}]
[21,433,22,437,24,443,23,451,24,458,0,22222,null,11122,{"$f":"COUNTIF($L$7:$L$500,N10)","v":0},{"$f":"O10/$Q$4","v":0},{"$f":"IF(P10=0,0,(P10*((LOG(P10))/LOG(2))))","v":0},null,null,{"$f":"N10","v":11122},{"$f":"COUNTIF(L7:L19,T10)","v":0},{"$f":"U10/(W4-U25)","v":0},{"$f":"IF(V10=0,0,(V10*((LOG(V10))/LOG(2))))","v":0},null,{"$f":"N10","v":11122},{"$f":"COUNTIF(L20:L32,Y10)","v":0},{"$f":"Z10/(AB4-Z25)","v":0},{"$f":"IF(AA10=0,0,(AA10*((LOG(AA10))/LOG(2))))","v":0},null,{"$f":"N10","v":11122},{"$f":"COUNTIF(L33:L45,AD10)","v":0},{"$f":"AE10/(AG4-AE25)","v":0},{"$f":"IF(AF10=0,0,(AF10*((LOG(AF10))/LOG(2))))","v":0},null,{"$f":"N10","v":11122},{"$f":"COUNTIF(L46:L58,AI10)","v":0},{"$f":"AJ10/(AL4-AJ25)","v":0},{"$f":"IF(AK10=0,0,(AK10*((LOG(AK10))/LOG(2))))","v":0},null,{"$f":"N10","v":11122},{"$f":"COUNTIF(L59:L71,AN10)","v":0},{"$f":"AO10/(AQ4-AO25)","v":0},{"$f":"IF(AP10=0,0,(AP10*((LOG(AP10))/LOG(2))))","v":0},null,{"$f":"N10","v":11122},{"$f":"COUNTIF(L72:L84,AS10)","v":0},{"$f":"AT10/(AV4-AT25)","v":0},{"$f":"IF(AU10=0,0,(AU10*((LOG(AU10))/LOG(2))))","v":0}]
[21,564,22,581,24,586,23,610,24,617,0,22222,null,11211,{"$f":"COUNTIF($L$7:$L$500,N11)","v":0},{"$f":"O11/$Q$4","v":0},{"$f":"IF(P11=0,0,(P11*((LOG(P11))/LOG(2))))","v":0},null,null,{"$f":"N11","v":11211},{"$f":"COUNTIF(L7:L19,T11)","v":0},{"$f":"U11/(W4-U25)","v":0},{"$f":"IF(V11=0,0,(V11*((LOG(V11))/LOG(2))))","v":0},null,{"$f":"N11","v":11211},{"$f":"COUNTIF(L20:L32,Y11)","v":0},{"$f":"Z11/(AB4-Z25)","v":0},{"$f":"IF(AA11=0,0,(AA11*((LOG(AA11))/LOG(2))))","v":0},null,{"$f":"N11","v":11211},{"$f":"COUNTIF(L33:L45,AD11)","v":0},{"$f":"AE11/(AG4-AE25)","v":0},{"$f":"IF(AF11=0,0,(AF11*((LOG(AF11))/LOG(2))))","v":0},null,{"$f":"N11","v":11211},{"$f":"COUNTIF(L46:L58,AI11)","v":0},{"$f":"AJ11/(AL4-AJ25)","v":0},{"$f":"IF(AK11=0,0,(AK11*((LOG(AK11))/LOG(2))))","v":0},null,{"$f":"N11","v":11211},{"$f":"COUNTIF(L59:L71,AN11)","v":0},{"$f":"AO11/(AQ4-AO25)","v":0},{"$f":"IF(AP11=0,0,(AP11*((LOG(AP11))/LOG(2))))","v":0},null,{"$f":"N11","v":11211},{"$f":"COUNTIF(L72:L84,AS11)","v":0},{"$f":"AT11/(AV4-AT25)","v":0},{"$f":"IF(AU11=0,0,(AU11*((LOG(AU11))/LOG(2))))","v":0}]
[21,718,22,723,24,728,23,733,24,740,1,22222,null,11212,{"$f":"COUNTIF($L$7:$L$500,N12)","v":0},{"$f":"O12/$Q$4","v":0},{"$f":"IF(P12=0,0,(P12*((LOG(P12))/LOG(2))))","v":0},null,null,{"$f":"N12","v":11212},{"$f":"COUNTIF(L7:L19,T12)","v":0},{"$f":"U12/(W4-U25)","v":0},{"$f":"IF(V12=0,0,(V12*((LOG(V12))/LOG(2))))","v":0},null,{"$f":"N12","v":11212},{"$f":"COUNTIF(L20:L32,Y12)","v":0},{"$f":"Z12/(AB4-Z25)","v":0},{"$f":"IF(AA12=0,0,(AA12*((LOG(AA12))/LOG(2))))","v":0},null,{"$f":"N12","v":11212},{"$f":"COUNTIF(L33:L45,AD12)","v":0},{"$f":"AE12/(AG4-AE25)","v":0},{"$f":"IF(AF12=0,0,(AF12*((LOG(AF12))/LOG(2))))","v":0},null,{"$f":"N12","v":11212},{"$f":"COUNTIF(L46:L58,AI12)","v":0},{"$f":"AJ12/(AL4-AJ25)","v":0},{"$f":"IF(AK12=0,0,(AK12*((LOG(AK12))/LOG(2))))","v":0},null,{"$f":"N12","v":11212},{"$f":"COUNTIF(L59:L71,AN12)","v":0},{"$f":"AO12/(AQ4-AO25)","v":0},{"$f":"IF(AP12=0,0,(AP12*((LOG(AP12))/LOG(2))))","v":0},null,{"$f":"N12","v":11212},{"$f":"COUNTIF(L72:L84,AS12)","v":0},{"$f":"AT12/(AV4-AT25)","v":0},{"$f":"IF(AU12=0,0,(AU12*((LOG(AU12))/LOG(2))))","v":0}]
[21,850,22,857,24,863,23,867,24,884,0,22222,null,11221,{"$f":"COUNTIF($L$7:$L$500,N13)","v":0},{"$f":"O13/$Q$4","v":0},{"$f":"IF(P13=0,0,(P13*((LOG(P13))/LOG(2))))","v":0},null,null,{"$f":"N13","v":11221},{"$f":"COUNTIF(L7:L19,T13)","v":0},{"$f":"U13/(W4-U25)","v":0},{"$f":"IF(V13=0,0,(V13*((LOG(V13))/LOG(2))))","v":0},null,{"$f":"N13","v":11221},{"$f":"COUNTIF(L20:L32,Y13)","v":0},{"$f":"Z13/(AB4-Z25)","v":0},{"$f":"IF(AA13=0,0,(AA13*((LOG(AA13))/LOG(2))))","v":0},null,{"$f":"N13","v":11221},{"$f":"COUNTIF(L33:L45,AD13)","v":0},{"$f":"AE13/(AG4-AE25)","v":0},{"$f":"IF(AF13=0,0,(AF13*((LOG(AF13))/LOG(2))))","v":0},null,{"$f":"N13","v":11221},{"$f":"COUNTIF(L46:L58,AI13)","v":0},{"$f":"AJ13/(AL4-AJ25)","v":0},{"$f":"IF(AK13=0,0,(AK13*((LOG(AK13))/LOG(2))))","v":0},null,{"$f":"N13","v":11221},{"$f":"COUNTIF(L59:L71,AN13)","v":0},{"$f":"AO13/(AQ4-AO25)","v":0},{"$f":"IF(AP13=0,0,(AP13*((LOG(AP13))/LOG(2))))","v":0},null,{"$f":"N13","v":11221},{"$f":"COUNTIF(L72:L84,AS13)","v":0},{"$f":"AT13/(AV4-AT25)","v":0},{"$f":"IF(AU13=0,0,(AU13*((LOG(AU13))/LOG(2))))","v":0}]
[21,1007,22,1020,24,1024,23,1030,24,1036,0,22222,null,11222,{"$f":"COUNTIF($L$7:$L$500,N14)","v":0},{"$f":"O14/$Q$4","v":0},{"$f":"IF(P14=0,0,(P14*((LOG(P14))/LOG(2))))","v":0},null,null,{"$f":"N14","v":11222},{"$f":"COUNTIF(L7:L19,T14)","v":0},{"$f":"U14/(W4-U25)","v":0},{"$f":"IF(V14=0,0,(V14*((LOG(V14))/LOG(2))))","v":0},null,{"$f":"N14","v":11222},{"$f":"COUNTIF(L20:L32,Y14)","v":0},{"$f":"Z14/(AB4-Z25)","v":0},{"$f":"IF(AA14=0,0,(AA14*((LOG(AA14))/LOG(2))))","v":0},null,{"$f":"N14","v":11222},{"$f":"COUNTIF(L33:L45,AD14)","v":0},{"$f":"AE14/(AG4-AE25)","v":0},{"$f":"IF(AF14=0,0,(AF14*((LOG(AF14))/LOG(2))))","v":0},null,{"$f":"N14","v":11222},{"$f":"COUNTIF(L46:L58,AI14)","v":0},{"$f":"AJ14/(AL4-AJ25)","v":0},{"$f":"IF(AK14=0,0,(AK14*((LOG(AK14))/LOG(2))))","v":0},null,{"$f":"N14","v":11222},{"$f":"COUNTIF(L59:L71,AN14)","v":0},{"$f":"AO14/(AQ4-AO25)","v":0},{"$f":"IF(AP14=0,0,(AP14*((LOG(AP14))/LOG(2))))","v":0},null,{"$f":"N14","v":11222},{"$f":"COUNTIF(L72:L84,AS14)","v":0},{"$f":"AT14/(AV4-AT25)","v":0},{"$f":"IF(AU14=0,0,(AU14*((LOG(AU14))/LOG(2))))","v":0}]
[21,1149,22,1152,24,1157,23,1164,24,1175,0,22222,null,12111,{"$f":"COUNTIF($L$7:$L$500,N15)","v":0},{"$f":"O15/$Q$4","v":0},{"$f":"IF(P15=0,0,(P15*((LOG(P15))/LOG(2))))","v":0},null,null,{"$f":"N15","v":12111},{"$f":"COUNTIF(L7:L19,T15)","v":0},{"$f":"U15/(W4-U25)","v":0},{"$f":"IF(V15=0,0,(V15*((LOG(V15))/LOG(2))))","v":0},null,{"$f":"N15","v":12111},{"$f":"COUNTIF(L20:L32,Y15)","v":0},{"$f":"Z15/(AB4-Z25)","v":0},{"$f":"IF(AA15=0,0,(AA15*((LOG(AA15))/LOG(2))))","v":0},null,{"$f":"N15","v":12111},{"$f":"COUNTIF(L33:L45,AD15)","v":0},{"$f":"AE15/(AG4-AE25)","v":0},{"$f":"IF(AF15=0,0,(AF15*((LOG(AF15))/LOG(2))))","v":0},null,{"$f":"N15","v":12111},{"$f":"COUNTIF(L46:L58,AI15)","v":0},{"$f":"AJ15/(AL4-AJ25)","v":0},{"$f":"IF(AK15=0,0,(AK15*((LOG(AK15))/LOG(2))))","v":0},null,{"$f":"N15","v":12111},{"$f":"COUNTIF(L59:L71,AN15)","v":0},{"$f":"AO15/(AQ4-AO25)","v":0},{"$f":"IF(AP15=0,0,(AP15*((LOG(AP15))/LOG(2))))","v":0},null,{"$f":"N15","v":12111},{"$f":"COUNTIF(L72:L84,AS15)","v":0},{"$f":"AT15/(AV4-AT25)","v":0},{"$f":"IF(AU15=0,0,(AU15*((LOG(AU15))/LOG(2))))","v":0}]
[21,1286,22,1290,24,1295,23,1299,24,1306,1,22222,null,12112,{"$f":"COUNTIF($L$7:$L$500,N16)","v":0},{"$f":"O16/$Q$4","v":0},{"$f":"IF(P16=0,0,(P16*((LOG(P16))/LOG(2))))","v":0},null,null,{"$f":"N16","v":12112},{"$f":"COUNTIF(L7:L19,T16)","v":0},{"$f":"U16/(W4-U25)","v":0},{"$f":"IF(V16=0,0,(V16*((LOG(V16))/LOG(2))))","v":0},null,{"$f":"N16","v":12112},{"$f":"COUNTIF(L20:L32,Y16)","v":0},{"$f":"Z16/(AB4-Z25)","v":0},{"$f":"IF(AA16=0,0,(AA16*((LOG(AA16))/LOG(2))))","v":0},null,{"$f":"N16","v":12112},{"$f":"COUNTIF(L33:L45,AD16)","v":0},{"$f":"AE16/(AG4-AE25)","v":0},{"$f":"IF(AF16=0,0,(AF16*((LOG(AF16))/LOG(2))))","v":0},null,{"$f":"N16","v":12112},{"$f":"COUNTIF(L46:L58,AI16)","v":0},{"$f":"AJ16/(AL4-AJ25)","v":0},{"$f":"IF(AK16=0,0,(AK16*((LOG(AK16))/LOG(2))))","v":0},null,{"$f":"N16","v":12112},{"$f":"COUNTIF(L59:L71,AN16)","v":0},{"$f":"AO16/(AQ4-AO25)","v":0},{"$f":"IF(AP16=0,0,(AP16*((LOG(AP16))/LOG(2))))","v":0},null,{"$f":"N16","v":12112},{"$f":"COUNTIF(L72:L84,AS16)","v":0},{"$f":"AT16/(AV4-AT25)","v":0},{"$f":"IF(AU16=0,0,(AU16*((LOG(AU16))/LOG(2))))","v":0}]
[21,1418,22,1430,24,1446,23,1452,24,1472,0,22222,null,12121,{"$f":"COUNTIF($L$7:$L$500,N17)","v":0},{"$f":"O17/$Q$4","v":0},{"$f":"IF(P17=0,0,(P17*((LOG(P17))/LOG(2))))","v":0},null,null,{"$f":"N17","v":12121},{"$f":"COUNTIF(L7:L19,T17)","v":0},{"$f":"U17/(W4-U25)","v":0},{"$f":"IF(V17=0,0,(V17*((LOG(V17))/LOG(2))))","v":0},null,{"$f":"N17","v":12121},{"$f":"COUNTIF(L20:L32,Y17)","v":0},{"$f":"Z17/(AB4-Z25)","v":0},{"$f":"IF(AA17=0,0,(AA17*((LOG(AA17))/LOG(2))))","v":0},null,{"$f":"N17","v":12121},{"$f":"COUNTIF(L33:L45,AD17)","v":0},{"$f":"AE17/(AG4-AE25)","v":0},{"$f":"IF(AF17=0,0,(AF17*((LOG(AF17))/LOG(2))))","v":0},null,{"$f":"N17","v":12121},{"$f":"COUNTIF(L46:L58,AI17)","v":0},{"$f":"AJ17/(AL4-AJ25)","v":0},{"$f":"IF(AK17=0,0,(AK17*((LOG(AK17))/LOG(2))))","v":0},null,{"$f":"N17","v":12121},{"$f":"COUNTIF(L59:L71,AN17)","v":0},{"$f":"AO17/(AQ4-AO25)","v":0},{"$f":"IF(AP17=0,0,(AP17*((LOG(AP17))/LOG(2))))","v":0},null,{"$f":"N17","v":12121},{"$f":"COUNTIF(L72:L84,AS17)","v":0},{"$f":"AT17/(AV4-AT25)","v":0},{"$f":"IF(AU17=0,0,(AU17*((LOG(AU17))/LOG(2))))","v":0}]
[21,1586,22,1590,24,1594,23,1598,24,1609,0,22222,null,12122,{"$f":"COUNTIF($L$7:$L$500,N18)","v":1},{"$f":"O18/$Q$4","v":1.282051282051282E-2},{"$f":"IF(P18=0,0,(P18*((LOG(P18))/LOG(2))))","v":-8.0582079729003178E-2},null,null,{"$f":"N18","v":12122},{"$f":"COUNTIF(L7:L19,T18)","v":0},{"$f":"U18/(W4-U25)","v":0},{"$f":"IF(V18=0,0,(V18*((LOG(V18))/LOG(2))))","v":0},null,{"$f":"N18","v":12122},{"$f":"COUNTIF(L20:L32,Y18)","v":0},{"$f":"Z18/(AB4-Z25)","v":0},{"$f":"IF(AA18=0,0,(AA18*((LOG(AA18))/LOG(2))))","v":0},null,{"$f":"N18","v":12122},{"$f":"COUNTIF(L33:L45,AD18)","v":0},{"$f":"AE18/(AG4-AE25)","v":0},{"$f":"IF(AF18=0,0,(AF18*((LOG(AF18))/LOG(2))))","v":0},null,{"$f":"N18","v":12122},{"$f":"COUNTIF(L46:L58,AI18)","v":0},{"$f":"AJ18/(AL4-AJ25)","v":0},{"$f":"IF(AK18=0,0,(AK18*((LOG(AK18))/LOG(2))))","v":0},null,{"$f":"N18","v":12122},{"$f":"COUNTIF(L59:L71,AN18)","v":0},{"$f":"AO18/(AQ4-AO25)","v":0},{"$f":"IF(AP18=0,0,(AP18*((LOG(AP18))/LOG(2))))","v":0},null,{"$f":"N18","v":12122},{"$f":"COUNTIF(L72:L84,AS18)","v":1},{"$f":"AT18/(AV4-AT25)","v":7.6923076923076927E-2},{"$f":"IF(AU18=0,0,(AU18*((LOG(AU18))/LOG(2))))","v":-0.28464920908777636}]
[21,1731,22,1735,24,1742,23,1746,24,1757,0,22222,null,12211,{"$f":"COUNTIF($L$7:$L$500,N19)","v":0},{"$f":"O19/$Q$4","v":0},{"$f":"IF(P19=0,0,(P19*((LOG(P19))/LOG(2))))","v":0},null,null,{"$f":"N19","v":12211},{"$f":"COUNTIF(L7:L19,T19)","v":0},{"$f":"U19/(W4-U25)","v":0},{"$f":"IF(V19=0,0,(V19*((LOG(V19))/LOG(2))))","v":0},null,{"$f":"N19","v":12211},{"$f":"COUNTIF(L20:L32,Y19)","v":0},{"$f":"Z19/(AB4-Z25)","v":0},{"$f":"IF(AA19=0,0,(AA19*((LOG(AA19))/LOG(2))))","v":0},null,{"$f":"N19","v":12211},{"$f":"COUNTIF(L33:L45,AD19)","v":0},{"$f":"AE19/(AG4-AE25)","v":0},{"$f":"IF(AF19=0,0,(AF19*((LOG(AF19))/LOG(2))))","v":0},null,{"$f":"N19","v":12211},{"$f":"COUNTIF(L46:L58,AI19)","v":0},{"$f":"AJ19/(AL4-AJ25)","v":0},{"$f":"IF(AK19=0,0,(AK19*((LOG(AK19))/LOG(2))))","v":0},null,{"$f":"N19","v":12211},{"$f":"COUNTIF(L59:L71,AN19)","v":0},{"$f":"AO19/(AQ4-AO25)","v":0},{"$f":"IF(AP19=0,0,(AP19*((LOG(AP19))/LOG(2))))","v":0},null,{"$f":"N19","v":12211},{"$f":"COUNTIF(L72:L84,AS19)","v":0},{"$f":"AT19/(AV4-AT25)","v":0},{"$f":"IF(AU19=0,0,(AU19*((LOG(AU19))/LOG(2))))","v":0}]
[21,1864,22,1868,24,1872,23,1876,24,1881,1,22222,null,12212,{"$f":"COUNTIF($L$7:$L$500,N20)","v":0},{"$f":"O20/$Q$4","v":0},{"$f":"IF(P20=0,0,(P20*((LOG(P20))/LOG(2))))","v":0},null,null,{"$f":"N20","v":12212},{"$f":"COUNTIF(L7:L19,T20)","v":0},{"$f":"U20/(W4-U25)","v":0},{"$f":"IF(V20=0,0,(V20*((LOG(V20))/LOG(2))))","v":0},null,{"$f":"N20","v":12212},{"$f":"COUNTIF(L20:L32,Y20)","v":0},{"$f":"Z20/(AB4-Z25)","v":0},{"$f":"IF(AA20=0,0,(AA20*((LOG(AA20))/LOG(2))))","v":0},null,{"$f":"N20","v":12212},{"$f":"COUNTIF(L33:L45,AD20)","v":0},{"$f":"AE20/(AG4-AE25)","v":0},{"$f":"IF(AF20=0,0,(AF20*((LOG(AF20))/LOG(2))))","v":0},null,{"$f":"N20","v":12212},{"$f":"COUNTIF(L46:L58,AI20)","v":0},{"$f":"AJ20/(AL4-AJ25)","v":0},{"$f":"IF(AK20=0,0,(AK20*((LOG(AK20))/LOG(2))))","v":0},null,{"$f":"N20","v":12212},{"$f":"COUNTIF(L59:L71,AN20)","v":0},{"$f":"AO20/(AQ4-AO25)","v":0},{"$f":"IF(AP20=0,0,(AP20*((LOG(AP20))/LOG(2))))","v":0},null,{"$f":"N20","v":12212},{"$f":"COUNTIF(L72:L84,AS20)","v":0},{"$f":"AT20/(AV4-AT25)","v":0},{"$f":"IF(AU20=0,0,(AU20*((LOG(AU20))/LOG(2))))","v":0}]
[21,2013,22,2020,24,2027,23,2033,24,2039,0,22222,null,12221,{"$f":"COUNTIF($L$7:$L$500,N21)","v":0},{"$f":"O21/$Q$4","v":0},{"$f":"IF(P21=0,0,(P21*((LOG(P21))/LOG(2))))","v":0},null,null,{"$f":"N21","v":12221},{"$f":"COUNTIF(L7:L19,T21)","v":0},{"$f":"U21/(W4-U25)","v":0},{"$f":"IF(V21=0,0,(V21*((LOG(V21))/LOG(2))))","v":0},null,{"$f":"N21","v":12221},{"$f":"COUNTIF(L20:L32,Y21)","v":0},{"$f":"Z21/(AB4-Z25)","v":0},{"$f":"IF(AA21=0,0,(AA21*((LOG(AA21))/LOG(2))))","v":0},null,{"$f":"N21","v":12221},{"$f":"COUNTIF(L33:L45,AD21)","v":0},{"$f":"AE21/(AG4-AE25)","v":0},{"$f":"IF(AF21=0,0,(AF21*((LOG(AF21))/LOG(2))))","v":0},null,{"$f":"N21","v":12221},{"$f":"COUNTIF(L46:L58,AI21)","v":0},{"$f":"AJ21/(AL4-AJ25)","v":0},{"$f":"IF(AK21=0,0,(AK21*((LOG(AK21))/LOG(2))))","v":0},null,{"$f":"N21","v":12221},{"$f":"COUNTIF(L59:L71,AN21)","v":0},{"$f":"AO21/(AQ4-AO25)","v":0},{"$f":"IF(AP21=0,0,(AP21*((LOG(AP21))/LOG(2))))","v":0},null,{"$f":"N21","v":12221},{"$f":"COUNTIF(L72:L84,AS21)","v":0},{"$f":"AT21/(AV4-AT25)","v":0},{"$f":"IF(AU21=0,0,(AU21*((LOG(AU21))/LOG(2))))","v":0}]
[21,2156,22,2160,24,2165,23,2171,24,2185,0,22222,null,12222,{"$f":"COUNTIF($L$7:$L$500,N22)","v":2},{"$f":"O22/$Q$4","v":2.564102564102564E-2},{"$f":"IF(P22=0,0,(P22*((LOG(P22))/LOG(2))))","v":-0.13552313381698072},null,null,{"$f":"N22","v":12222},{"$f":"COUNTIF(L7:L19,T22)","v":0},{"$f":"U22/(W4-U25)","v":0},{"$f":"IF(V22=0,0,(V22*((LOG(V22))/LOG(2))))","v":0},null,{"$f":"N22","v":12222},{"$f":"COUNTIF(L20:L32,Y22)","v":0},{"$f":"Z22/(AB4-Z25)","v":0},{"$f":"IF(AA22=0,0,(AA22*((LOG(AA22))/LOG(2))))","v":0},null,{"$f":"N22","v":12222},{"$f":"COUNTIF(L33:L45,AD22)","v":0},{"$f":"AE22/(AG4-AE25)","v":0},{"$f":"IF(AF22=0,0,(AF22*((LOG(AF22))/LOG(2))))","v":0},null,{"$f":"N22","v":12222},{"$f":"COUNTIF(L46:L58,AI22)","v":0},{"$f":"AJ22/(AL4-AJ25)","v":0},{"$f":"IF(AK22=0,0,(AK22*((LOG(AK22))/LOG(2))))","v":0},null,{"$f":"N22","v":12222},{"$f":"COUNTIF(L59:L71,AN22)","v":1},{"$f":"AO22/(AQ4-AO25)","v":7.6923076923076927E-2},{"$f":"IF(AP22=0,0,(AP22*((LOG(AP22))/LOG(2))))","v":-0.28464920908777636},null,{"$f":"N22","v":12222},{"$f":"COUNTIF(L72:L84,AS22)","v":1},{"$f":"AT22/(AV4-AT25)","v":7.6923076923076927E-2},{"$f":"IF(AU22=0,0,(AU22*((LOG(AU22))/LOG(2))))","v":-0.28464920908777636}]
[21,2308,22,2316,24,2321,23,2342,24,2347,0,22222,null,21111,{"$f":"COUNTIF($L$7:$L$500,N23)","v":0},{"$f":"O23/$Q$4","v":0},{"$f":"IF(P23=0,0,(P23*((LOG(P23))/LOG(2))))","v":0},null,null,{"$f":"N23","v":21111},{"$f":"COUNTIF(L7:L19,T23)","v":0},{"$f":"U23/(W4-U25)","v":0},{"$f":"IF(V23=0,0,(V23*((LOG(V23))/LOG(2))))","v":0},null,{"$f":"N23","v":21111},{"$f":"COUNTIF(L20:L32,Y23)","v":0},{"$f":"Z23/(AB4-Z25)","v":0},{"$f":"IF(AA23=0,0,(AA23*((LOG(AA23))/LOG(2))))","v":0},null,{"$f":"N23","v":21111},{"$f":"COUNTIF(L33:L45,AD23)","v":0},{"$f":"AE23/(AG4-AE25)","v":0},{"$f":"IF(AF23=0,0,(AF23*((LOG(AF23))/LOG(2))))","v":0},null,{"$f":"N23","v":21111},{"$f":"COUNTIF(L46:L58,AI23)","v":0},{"$f":"AJ23/(AL4-AJ25)","v":0},{"$f":"IF(AK23=0,0,(AK23*((LOG(AK23))/LOG(2))))","v":0},null,{"$f":"N23","v":21111},{"$f":"COUNTIF(L59:L71,AN23)","v":0},{"$f":"AO23/(AQ4-AO25)","v":0},{"$f":"IF(AP23=0,0,(AP23*((LOG(AP23))/LOG(2))))","v":0},null,{"$f":"N23","v":21111},{"$f":"COUNTIF(L72:L84,AS23)","v":0},{"$f":"AT23/(AV4-AT25)","v":0},{"$f":"IF(AU23=0,0,(AU23*((LOG(AU23))/LOG(2))))","v":0}]
[21,2453,22,2456,24,2460,23,2474,24,2481,0,22222,null,21112,{"$f":"COUNTIF($L$7:$L$500,N24)","v":0},{"$f":"O24/$Q$4","v":0},{"$f":"IF(P24=0,0,(P24*((LOG(P24))/LOG(2))))","v":0},null,null,{"$f":"N24","v":21112},{"$f":"COUNTIF(L7:L19,T24)","v":0},{"$f":"U24/(W4-U25)","v":0},{"$f":"IF(V24=0,0,(V24*((LOG(V24))/LOG(2))))","v":0},null,{"$f":"N24","v":21112},{"$f":"COUNTIF(L20:L32,Y24)","v":0},{"$f":"Z24/(AB4-Z25)","v":0},{"$f":"IF(AA24=0,0,(AA24*((LOG(AA24))/LOG(2))))","v":0},null,{"$f":"N24","v":21112},{"$f":"COUNTIF(L33:L45,AD24)","v":0},{"$f":"AE24/(AG4-AE25)","v":0},{"$f":"IF(AF24=0,0,(AF24*((LOG(AF24))/LOG(2))))","v":0},null,{"$f":"N24","v":21112},{"$f":"COUNTIF(L46:L58,AI24)","v":0},{"$f":"AJ24/(AL4-AJ25)","v":0},{"$f":"IF(AK24=0,0,(AK24*((LOG(AK24))/LOG(2))))","v":0},null,{"$f":"N24","v":21112},{"$f":"COUNTIF(L59:L71,AN24)","v":0},{"$f":"AO24/(AQ4-AO25)","v":0},{"$f":"IF(AP24=0,0,(AP24*((LOG(AP24))/LOG(2))))","v":0},null,{"$f":"N24","v":21112},{"$f":"COUNTIF(L72:L84,AS24)","v":0},{"$f":"AT24/(AV4-AT25)","v":0},{"$f":"IF(AU24=0,0,(AU24*((LOG(AU24))/LOG(2))))","v":0}]
[21,2588,22,2592,24,2596,23,2600,24,2604,0,22222,null,21121,{"$f":"COUNTIF($L$7:$L$500,N25)","v":0},{"$f":"O25/$Q$4","v":0},{"$f":"IF(P25=0,0,(P25*((LOG(P25))/LOG(2))))","v":0},null,null,{"$f":"N25","v":21121},{"$f":"COUNTIF(L7:L19,T25)","v":0},null,null,null,{"$f":"N25","v":21121},{"$f":"COUNTIF(L20:L32,Y25)","v":0},null,null,null,{"$f":"N25","v":21121},{"$f":"COUNTIF(L33:L45,AD25)","v":0},null,null,null,{"$f":"N25","v":21121},{"$f":"COUNTIF(L46:L58,AI25)","v":0},null,null,null,{"$f":"N25","v":21121},{"$f":"COUNTIF(L59:L71,AN25)","v":0},null,null,null,{"$f":"N25","v":21121},{"$f":"COUNTIF(L72:L84,AS25)","v":0}]
[21,2716,22,2738,24,2744,23,2754,24,2761,0,22222,null,21122,{"$f":"COUNTIF($L$7:$L$500,N26)","v":0},{"$f":"O26/$Q$4","v":0},{"$f":"IF(P26=0,0,(P26*((LOG(P26))/LOG(2))))","v":0},null,null,{"$f":"N26","v":21122},{"$f":"COUNTIF(L7:L19,T26)","v":0},{"$f":"U26/(W4-U25)","v":0},{"$f":"IF(V26=0,0,(V26*((LOG(V26))/LOG(2))))","v":0},null,{"$f":"N26","v":21122},{"$f":"COUNTIF(L20:L32,Y26)","v":0},{"$f":"Z26/(AB4-Z25)","v":0},{"$f":"IF(AA26=0,0,(AA26*((LOG(AA26))/LOG(2))))","v":0},null,{"$f":"N26","v":21122},{"$f":"COUNTIF(L33:L45,AD26)","v":0},{"$f":"AE26/(AG4-AE25)","v":0},{"$f":"IF(AF26=0,0,(AF26*((LOG(AF26))/LOG(2))))","v":0},null,{"$f":"N26","v":21122},{"$f":"COUNTIF(L46:L58,AI26)","v":0},{"$f":"AJ26/(AL4-AJ25)","v":0},{"$f":"IF(AK26=0,0,(AK26*((LOG(AK26))/LOG(2))))","v":0},null,{"$f":"N26","v":21122},{"$f":"COUNTIF(L59:L71,AN26)","v":0},{"$f":"AO26/(AQ4-AO25)","v":0},{"$f":"IF(AP26=0,0,(AP26*((LOG(AP26))/LOG(2))))","v":0},null,{"$f":"N26","v":21122},{"$f":"COUNTIF(L72:L84,AS26)","v":0},{"$f":"AT26/(AV4-AT25)","v":0},{"$f":"IF(AU26=0,0,(AU26*((LOG(AU26))/LOG(2))))","v":0}]
[21,2876,22,2888,24,2894,23,2901,24,2908,1,22222,null,21211,{"$f":"COUNTIF($L$7:$L$500,N27)","v":0},{"$f":"O27/$Q$4","v":0},{"$f":"IF(P27=0,0,(P27*((LOG(P27))/LOG(2))))","v":0},null,null,{"$f":"N27","v":21211},{"$f":"COUNTIF(L7:L19,T27)","v":0},{"$f":"U27/(W4-U25)","v":0},{"$f":"IF(V27=0,0,(V27*((LOG(V27))/LOG(2))))","v":0},null,{"$f":"N27","v":21211},{"$f":"COUNTIF(L20:L32,Y27)","v":0},{"$f":"Z27/(AB4-Z25)","v":0},{"$f":"IF(AA27=0,0,(AA27*((LOG(AA27))/LOG(2))))","v":0},null,{"$f":"N27","v":21211},{"$f":"COUNTIF(L33:L45,AD27)","v":0},{"$f":"AE27/(AG4-AE25)","v":0},{"$f":"IF(AF27=0,0,(AF27*((LOG(AF27))/LOG(2))))","v":0},null,{"$f":"N27","v":21211},{"$f":"COUNTIF(L46:L58,AI27)","v":0},{"$f":"AJ27/(AL4-AJ25)","v":0},{"$f":"IF(AK27=0,0,(AK27*((LOG(AK27))/LOG(2))))","v":0},null,{"$f":"N27","v":21211},{"$f":"COUNTIF(L59:L71,AN27)","v":0},{"$f":"AO27/(AQ4-AO25)","v":0},{"$f":"IF(AP27=0,0,(AP27*((LOG(AP27))/LOG(2))))","v":0},null,{"$f":"N27","v":21211},{"$f":"COUNTIF(L72:L84,AS27)","v":0},{"$f":"AT27/(AV4-AT25)","v":0},{"$f":"IF(AU27=0,0,(AU27*((LOG(AU27))/LOG(2))))","v":0}]
[21,3035,22,3039,24,3047,23,3066,24,3074,0,22222,null,21212,{"$f":"COUNTIF($L$7:$L$500,N28)","v":0},{"$f":"O28/$Q$4","v":0},{"$f":"IF(P28=0,0,(P28*((LOG(P28))/LOG(2))))","v":0},null,null,{"$f":"N28","v":21212},{"$f":"COUNTIF(L7:L19,T28)","v":0},{"$f":"U28/(W4-U25)","v":0},{"$f":"IF(V28=0,0,(V28*((LOG(V28))/LOG(2))))","v":0},null,{"$f":"N28","v":21212},{"$f":"COUNTIF(L20:L32,Y28)","v":0},{"$f":"Z28/(AB4-Z25)","v":0},{"$f":"IF(AA28=0,0,(AA28*((LOG(AA28))/LOG(2))))","v":0},null,{"$f":"N28","v":21212},{"$f":"COUNTIF(L33:L45,AD28)","v":0},{"$f":"AE28/(AG4-AE25)","v":0},{"$f":"IF(AF28=0,0,(AF28*((LOG(AF28))/LOG(2))))","v":0},null,{"$f":"N28","v":21212},{"$f":"COUNTIF(L46:L58,AI28)","v":0},{"$f":"AJ28/(AL4-AJ25)","v":0},{"$f":"IF(AK28=0,0,(AK28*((LOG(AK28))/LOG(2))))","v":0},null,{"$f":"N28","v":21212},{"$f":"COUNTIF(L59:L71,AN28)","v":0},{"$f":"AO28/(AQ4-AO25)","v":0},{"$f":"IF(AP28=0,0,(AP28*((LOG(AP28))/LOG(2))))","v":0},null,{"$f":"N28","v":21212},{"$f":"COUNTIF(L72:L84,AS28)","v":0},{"$f":"AT28/(AV4-AT25)","v":0},{"$f":"IF(AU28=0,0,(AU28*((LOG(AU28))/LOG(2))))","v":0}]
[21,3197,22,3201,24,3206,23,3228,24,3239,0,22222,null,21221,{"$f":"COUNTIF($L$7:$L$500,N29)","v":0},{"$f":"O29/$Q$4","v":0},{"$f":"IF(P29=0,0,(P29*((LOG(P29))/LOG(2))))","v":0},null,null,{"$f":"N29","v":21221},{"$f":"COUNTIF(L7:L19,T29)","v":0},{"$f":"U29/(W4-U25)","v":0},{"$f":"IF(V29=0,0,(V29*((LOG(V29))/LOG(2))))","v":0},null,{"$f":"N29","v":21221},{"$f":"COUNTIF(L20:L32,Y29)","v":0},{"$f":"Z29/(AB4-Z25)","v":0},{"$f":"IF(AA29=0,0,(AA29*((LOG(AA29))/LOG(2))))","v":0},null,{"$f":"N29","v":21221},{"$f":"COUNTIF(L33:L45,AD29)","v":0},{"$f":"AE29/(AG4-AE25)","v":0},{"$f":"IF(AF29=0,0,(AF29*((LOG(AF29))/LOG(2))))","v":0},null,{"$f":"N29","v":21221},{"$f":"COUNTIF(L46:L58,AI29)","v":0},{"$f":"AJ29/(AL4-AJ25)","v":0},{"$f":"IF(AK29=0,0,(AK29*((LOG(AK29))/LOG(2))))","v":0},null,{"$f":"N29","v":21221},{"$f":"COUNTIF(L59:L71,AN29)","v":0},{"$f":"AO29/(AQ4-AO25)","v":0},{"$f":"IF(AP29=0,0,(AP29*((LOG(AP29))/LOG(2))))","v":0},null,{"$f":"N29","v":21221},{"$f":"COUNTIF(L72:L84,AS29)","v":0},{"$f":"AT29/(AV4-AT25)","v":0},{"$f":"IF(AU29=0,0,(AU29*((LOG(AU29))/LOG(2))))","v":0}]
[21,3345,22,3349,24,3353,23,3361,24,3373,0,22222,null,21222,{"$f":"COUNTIF($L$7:$L$500,N30)","v":0},{"$f":"O30/$Q$4","v":0},{"$f":"IF(P30=0,0,(P30*((LOG(P30))/LOG(2))))","v":0},null,null,{"$f":"N30","v":21222},{"$f":"COUNTIF(L7:L19,T30)","v":0},{"$f":"U30/(W4-U25)","v":0},{"$f":"IF(V30=0,0,(V30*((LOG(V30))/LOG(2))))","v":0},null,{"$f":"N30","v":21222},{"$f":"COUNTIF(L20:L32,Y30)","v":0},{"$f":"Z30/(AB4-Z25)","v":0},{"$f":"IF(AA30=0,0,(AA30*((LOG(AA30))/LOG(2))))","v":0},null,{"$f":"N30","v":21222},{"$f":"COUNTIF(L33:L45,AD30)","v":0},{"$f":"AE30/(AG4-AE25)","v":0},{"$f":"IF(AF30=0,0,(AF30*((LOG(AF30))/LOG(2))))","v":0},null,{"$f":"N30","v":21222},{"$f":"COUNTIF(L46:L58,AI30)","v":0},{"$f":"AJ30/(AL4-AJ25)","v":0},{"$f":"IF(AK30=0,0,(AK30*((LOG(AK30))/LOG(2))))","v":0},null,{"$f":"N30","v":21222},{"$f":"COUNTIF(L59:L71,AN30)","v":0},{"$f":"AO30/(AQ4-AO25)","v":0},{"$f":"IF(AP30=0,0,(AP30*((LOG(AP30))/LOG(2))))","v":0},null,{"$f":"N30","v":21222},{"$f":"COUNTIF(L72:L84,AS30)","v":0},{"$f":"AT30/(AV4-AT25)","v":0},{"$f":"IF(AU30=0,0,(AU30*((LOG(AU30))/LOG(2))))","v":0}]
[21,3487,22,3491,24,3496,23,3500,24,3507,0,22222,null,22111,{"$f":"COUNTIF($L$7:$L$500,N31)","v":0},{"$f":"O31/$Q$4","v":0},{"$f":"IF(P31=0,0,(P31*((LOG(P31))/LOG(2))))","v":0},null,null,{"$f":"N31","v":22111},{"$f":"COUNTIF(L7:L19,T31)","v":0},{"$f":"U31/(W4-U25)","v":0},{"$f":"IF(V31=0,0,(V31*((LOG(V31))/LOG(2))))","v":0},null,{"$f":"N31","v":22111},{"$f":"COUNTIF(L20:L32,Y31)","v":0},{"$f":"Z31/(AB4-Z25)","v":0},{"$f":"IF(AA31=0,0,(AA31*((LOG(AA31))/LOG(2))))","v":0},null,{"$f":"N31","v":22111},{"$f":"COUNTIF(L33:L45,AD31)","v":0},{"$f":"AE31/(AG4-AE25)","v":0},{"$f":"IF(AF31=0,0,(AF31*((LOG(AF31))/LOG(2))))","v":0},null,{"$f":"N31","v":22111},{"$f":"COUNTIF(L46:L58,AI31)","v":0},{"$f":"AJ31/(AL4-AJ25)","v":0},{"$f":"IF(AK31=0,0,(AK31*((LOG(AK31))/LOG(2))))","v":0},null,{"$f":"N31","v":22111},{"$f":"COUNTIF(L59:L71,AN31)","v":0},{"$f":"AO31/(AQ4-AO25)","v":0},{"$f":"IF(AP31=0,0,(AP31*((LOG(AP31))/LOG(2))))","v":0},null,{"$f":"N31","v":22111},{"$f":"COUNTIF(L72:L84,AS31)","v":0},{"$f":"AT31/(AV4-AT25)","v":0},{"$f":"IF(AU31=0,0,(AU31*((LOG(AU31))/LOG(2))))","v":0}]
[21,3619,22,3624,24,3627,23,3634,24,3650,0,22222,null,22112,{"$f":"COUNTIF($L$7:$L$500,N32)","v":0},{"$f":"O32/$Q$4","v":0},{"$f":"IF(P32=0,0,(P32*((LOG(P32))/LOG(2))))","v":0},null,null,{"$f":"N32","v":22112},{"$f":"COUNTIF(L7:L19,T32)","v":0},{"$f":"U32/(W4-U25)","v":0},{"$f":"IF(V32=0,0,(V32*((LOG(V32))/LOG(2))))","v":0},null,{"$f":"N32","v":22112},{"$f":"COUNTIF(L20:L32,Y32)","v":0},{"$f":"Z32/(AB4-Z25)","v":0},{"$f":"IF(AA32=0,0,(AA32*((LOG(AA32))/LOG(2))))","v":0},null,{"$f":"N32","v":22112},{"$f":"COUNTIF(L33:L45,AD32)","v":0},{"$f":"AE32/(AG4-AE25)","v":0},{"$f":"IF(AF32=0,0,(AF32*((LOG(AF32))/LOG(2))))","v":0},null,{"$f":"N32","v":22112},{"$f":"COUNTIF(L46:L58,AI32)","v":0},{"$f":"AJ32/(AL4-AJ25)","v":0},{"$f":"IF(AK32=0,0,(AK32*((LOG(AK32))/LOG(2))))","v":0},null,{"$f":"N32","v":22112},{"$f":"COUNTIF(L59:L71,AN32)","v":0},{"$f":"AO32/(AQ4-AO25)","v":0},{"$f":"IF(AP32=0,0,(AP32*((LOG(AP32))/LOG(2))))","v":0},null,{"$f":"N32","v":22112},{"$f":"COUNTIF(L72:L84,AS32)","v":0},{"$f":"AT32/(AV4-AT25)","v":0},{"$f":"IF(AU32=0,0,(AU32*((LOG(AU32))/LOG(2))))","v":0}]
[21,3759,22,3763,24,3767,23,3771,24,3779,0,22222,null,22121,{"$f":"COUNTIF($L$7:$L$500,N33)","v":0},{"$f":"O33/$Q$4","v":0},{"$f":"IF(P33=0,0,(P33*((LOG(P33))/LOG(2))))","v":0},null,null,{"$f":"N33","v":22121},{"$f":"COUNTIF(L7:L19,T33)","v":0},{"$f":"U33/(W4-U25)","v":0},{"$f":"IF(V33=0,0,(V33*((LOG(V33))/LOG(2))))","v":0},null,{"$f":"N33","v":22121},{"$f":"COUNTIF(L20:L32,Y33)","v":0},{"$f":"Z33/(AB4-Z25)","v":0},{"$f":"IF(AA33=0,0,(AA33*((LOG(AA33))/LOG(2))))","v":0},null,{"$f":"N33","v":22121},{"$f":"COUNTIF(L33:L45,AD33)","v":0},{"$f":"AE33/(AG4-AE25)","v":0},{"$f":"IF(AF33=0,0,(AF33*((LOG(AF33))/LOG(2))))","v":0},null,{"$f":"N33","v":22121},{"$f":"COUNTIF(L46:L58,AI33)","v":0},{"$f":"AJ33/(AL4-AJ25)","v":0},{"$f":"IF(AK33=0,0,(AK33*((LOG(AK33))/LOG(2))))","v":0},null,{"$f":"N33","v":22121},{"$f":"COUNTIF(L59:L71,AN33)","v":0},{"$f":"AO33/(AQ4-AO25)","v":0},{"$f":"IF(AP33=0,0,(AP33*((LOG(AP33))/LOG(2))))","v":0},null,{"$f":"N33","v":22121},{"$f":"COUNTIF(L72:L84,AS33)","v":0},{"$f":"AT33/(AV4-AT25)","v":0},{"$f":"IF(AU33=0,0,(AU33*((LOG(AU33))/LOG(2))))","v":0}]
[21,3891,22,3895,24,3898,23,3902,24,3906,0,22222,null,22122,{"$f":"COUNTIF($L$7:$L$500,N34)","v":0},{"$f":"O34/$Q$4","v":0},{"$f":"IF(P34=0,0,(P34*((LOG(P34))/LOG(2))))","v":0},null,null,{"$f":"N34","v":22122},{"$f":"COUNTIF(L7:L19,T34)","v":0},{"$f":"U34/(W4-U25)","v":0},{"$f":"IF(V34=0,0,(V34*((LOG(V34))/LOG(2))))","v":0},null,{"$f":"N34","v":22122},{"$f":"COUNTIF(L20:L32,Y34)","v":0},{"$f":"Z34/(AB4-Z25)","v":0},{"$f":"IF(AA34=0,0,(AA34*((LOG(AA34))/LOG(2))))","v":0},null,{"$f":"N34","v":22122},{"$f":"COUNTIF(L33:L45,AD34)","v":0},{"$f":"AE34/(AG4-AE25)","v":0},{"$f":"IF(AF34=0,0,(AF34*((LOG(AF34))/LOG(2))))","v":0},null,{"$f":"N34","v":22122},{"$f":"COUNTIF(L46:L58,AI34)","v":0},{"$f":"AJ34/(AL4-AJ25)","v":0},{"$f":"IF(AK34=0,0,(AK34*((LOG(AK34))/LOG(2))))","v":0},null,{"$f":"N34","v":22122},{"$f":"COUNTIF(L59:L71,AN34)","v":0},{"$f":"AO34/(AQ4-AO25)","v":0},{"$f":"IF(AP34=0,0,(AP34*((LOG(AP34))/LOG(2))))","v":0},null,{"$f":"N34","v":22122},{"$f":"COUNTIF(L72:L84,AS34)","v":0},{"$f":"AT34/(AV4-AT25)","v":0},{"$f":"IF(AU34=0,0,(AU34*((LOG(AU34))/LOG(2))))","v":0}]
[21,4020,22,4024,24,4037,23,4041,24,4048,1,22222,null,22211,{"$f":"COUNTIF($L$7:$L$500,N35)","v":0},{"$f":"O35/$Q$4","v":0},{"$f":"IF(P35=0,0,(P35*((LOG(P35))/LOG(2))))","v":0},null,null,{"$f":"N35","v":22211},{"$f":"COUNTIF(L7:L19,T35)","v":0},{"$f":"U35/(W4-U25)","v":0},{"$f":"IF(V35=0,0,(V35*((LOG(V35))/LOG(2))))","v":0},null,{"$f":"N35","v":22211},{"$f":"COUNTIF(L20:L32,Y35)","v":0},{"$f":"Z35/(AB4-Z25)","v":0},{"$f":"IF(AA35=0,0,(AA35*((LOG(AA35))/LOG(2))))","v":0},null,{"$f":"N35","v":22211},{"$f":"COUNTIF(L33:L45,AD35)","v":0},{"$f":"AE35/(AG4-AE25)","v":0},{"$f":"IF(AF35=0,0,(AF35*((LOG(AF35))/LOG(2))))","v":0},null,{"$f":"N35","v":22211},{"$f":"COUNTIF(L46:L58,AI35)","v":0},{"$f":"AJ35/(AL4-AJ25)","v":0},{"$f":"IF(AK35=0,0,(AK35*((LOG(AK35))/LOG(2))))","v":0},null,{"$f":"N35","v":22211},{"$f":"COUNTIF(L59:L71,AN35)","v":0},{"$f":"AO35/(AQ4-AO25)","v":0},{"$f":"IF(AP35=0,0,(AP35*((LOG(AP35))/LOG(2))))","v":0},null,{"$f":"N35","v":22211},{"$f":"COUNTIF(L72:L84,AS35)","v":0},{"$f":"AT35/(AV4-AT25)","v":0},{"$f":"IF(AU35=0,0,(AU35*((LOG(AU35))/LOG(2))))","v":0}]
[21,4169,22,4174,24,4178,23,4186,24,4193,0,22222,null,22212,{"$f":"COUNTIF($L$7:$L$500,N36)","v":0},{"$f":"O36/$Q$4","v":0},{"$f":"IF(P36=0,0,(P36*((LOG(P36))/LOG(2))))","v":0},null,null,{"$f":"N36","v":22212},{"$f":"COUNTIF(L7:L19,T36)","v":0},{"$f":"U36/(W4-U25)","v":0},{"$f":"IF(V36=0,0,(V36*((LOG(V36))/LOG(2))))","v":0},null,{"$f":"N36","v":22212},{"$f":"COUNTIF(L20:L32,Y36)","v":0},{"$f":"Z36/(AB4-Z25)","v":0},{"$f":"IF(AA36=0,0,(AA36*((LOG(AA36))/LOG(2))))","v":0},null,{"$f":"N36","v":22212},{"$f":"COUNTIF(L33:L45,AD36)","v":0},{"$f":"AE36/(AG4-AE25)","v":0},{"$f":"IF(AF36=0,0,(AF36*((LOG(AF36))/LOG(2))))","v":0},null,{"$f":"N36","v":22212},{"$f":"COUNTIF(L46:L58,AI36)","v":0},{"$f":"AJ36/(AL4-AJ25)","v":0},{"$f":"IF(AK36=0,0,(AK36*((LOG(AK36))/LOG(2))))","v":0},null,{"$f":"N36","v":22212},{"$f":"COUNTIF(L59:L71,AN36)","v":0},{"$f":"AO36/(AQ4-AO25)","v":0},{"$f":"IF(AP36=0,0,(AP36*((LOG(AP36))/LOG(2))))","v":0},null,{"$f":"N36","v":22212},{"$f":"COUNTIF(L72:L84,AS36)","v":0},{"$f":"AT36/(AV4-AT25)","v":0},{"$f":"IF(AU36=0,0,(AU36*((LOG(AU36))/LOG(2))))","v":0}]
[21,4306,22,4310,24,4314,23,4321,24,4327,0,22222,null,22221,{"$f":"COUNTIF($L$7:$L$500,N37)","v":0},{"$f":"O37/$Q$4","v":0},{"$f":"IF(P37=0,0,(P37*((LOG(P37))/LOG(2))))","v":0},null,null,{"$f":"N37","v":22221},{"$f":"COUNTIF(L7:L19,T37)","v":0},{"$f":"U37/(W4-U25)","v":0},{"$f":"IF(V37=0,0,(V37*((LOG(V37))/LOG(2))))","v":0},null,{"$f":"N37","v":22221},{"$f":"COUNTIF(L20:L32,Y37)","v":0},{"$f":"Z37/(AB4-Z25)","v":0},{"$f":"IF(AA37=0,0,(AA37*((LOG(AA37))/LOG(2))))","v":0},null,{"$f":"N37","v":22221},{"$f":"COUNTIF(L33:L45,AD37)","v":0},{"$f":"AE37/(AG4-AE25)","v":0},{"$f":"IF(AF37=0,0,(AF37*((LOG(AF37))/LOG(2))))","v":0},null,{"$f":"N37","v":22221},{"$f":"COUNTIF(L46:L58,AI37)","v":0},{"$f":"AJ37/(AL4-AJ25)","v":0},{"$f":"IF(AK37=0,0,(AK37*((LOG(AK37))/LOG(2))))","v":0},null,{"$f":"N37","v":22221},{"$f":"COUNTIF(L59:L71,AN37)","v":0},{"$f":"AO37/(AQ4-AO25)","v":0},{"$f":"IF(AP37=0,0,(AP37*((LOG(AP37))/LOG(2))))","v":0},null,{"$f":"N37","v":22221},{"$f":"COUNTIF(L72:L84,AS37)","v":0},{"$f":"AT37/(AV4-AT25)","v":0},{"$f":"IF(AU37=0,0,(AU37*((LOG(AU37))/LOG(2))))","v":0}]
[21,4433,22,4437,24,4455,23,4462,24,4468,1,22222,null,22222,{"$f":"COUNTIF($L$7:$L$500,N38)","v":74},{"$f":"O38/$Q$4","v":0.94871794871794868},{"$f":"IF(P38=0,0,(P38*((LOG(P38))/LOG(2))))","v":-7.2054040246975606E-2},null,null,{"$f":"N38","v":22222},{"$f":"COUNTIF(L7:L19,T38)","v":13},{"$f":"U38/(W4-U25)","v":1},{"$f":"IF(V38=0,0,(V38*((LOG(V38))/LOG(2))))","v":0},null,{"$f":"N38","v":22222},{"$f":"COUNTIF(L20:L32,Y38)","v":13},{"$f":"Z38/(AB4-Z25)","v":1},{"$f":"IF(AA38=0,0,(AA38*((LOG(AA38))/LOG(2))))","v":0},null,{"$f":"N38","v":22222},{"$f":"COUNTIF(L33:L45,AD38)","v":13},{"$f":"AE38/(AG4-AE25)","v":1},{"$f":"IF(AF38=0,0,(AF38*((LOG(AF38))/LOG(2))))","v":0},null,{"$f":"N38","v":22222},{"$f":"COUNTIF(L46:L58,AI38)","v":13},{"$f":"AJ38/(AL4-AJ25)","v":1},{"$f":"IF(AK38=0,0,(AK38*((LOG(AK38))/LOG(2))))","v":0},null,{"$f":"N38","v":22222},{"$f":"COUNTIF(L59:L71,AN38)","v":12},{"$f":"AO38/(AQ4-AO25)","v":0.92307692307692313},{"$f":"IF(AP38=0,0,(AP38*((LOG(AP38))/LOG(2))))","v":-0.10659435454147929},null,{"$f":"N38","v":22222},{"$f":"COUNTIF(L72:L84,AS38)","v":10},{"$f":"AT38/(AV4-AT25)","v":0.76923076923076927},{"$f":"IF(AU38=0,0,(AU38*((LOG(AU38))/LOG(2))))","v":-0.29116278711825366}]
[21,4583,22,4587,24,4591,23,4596,24,4602,0,22222,null,null,null,{"$f":"SUM(P7:P38)","v":1},{"$f":"-SUM(Q7:Q38)","v":0.3687413335219627},null,null,null,null,{"$f":"SUM(V7:V38)","v":1},{"$f":"-SUM(W7:W38)","v":0},null,null,null,{"$f":"SUM(AA7:AA38)","v":1},{"$f":"-SUM(AB7:AB38)","v":0},null,null,null,{"$f":"SUM(AF7:AF38)","v":1},{"$f":"-SUM(AG7:AG38)","v":0},null,null,null,{"$f":"SUM(AK7:AK38)","v":1},{"$f":"-SUM(AL7:AL38)","v":0},null,null,null,{"$f":"SUM(AP7:AP38)","v":1},{"$f":"-SUM(AQ7:AQ38)","v":0.39124356362925566},null,null,null,{"$f":"SUM(AU7:AU38)","v":1},{"$f":"-SUM(AV7:AV38)","v":1.1451104143815827}]
[21,4726,22,4748,24,4754,23,4760,24,4766,0,22222,null,null,null,"U=",{"$f":"Q39/(LOG(Q4)/LOG(2))","v":5.8666306575478062E-2},null,null,null,null,"U1=",{"$f":"W39/(LOG(W4)/LOG(2))","v":0},null,null,null,"U2=",{"$f":"AB39/(LOG(AB4)/LOG(2))","v":0},null,null,null,"U3=",{"$f":"AG39/(LOG(AG4)/LOG(2))","v":0},null,null,null,"U4=",{"$f":"AL39/(LOG(AL4)/LOG(2))","v":0},null,null,null,"U5=",{"$f":"AQ39/(LOG(AQ4)/LOG(2))","v":0.10572893856673769},null,null,null,"U6=",{"$f":"AV39/(LOG(AV4)/LOG(2))","v":0.30945252499798226}]
[21,4884,22,4888,24,4893,23,4899,24,4907,0,22222]
[21,5035,22,5047,24,5057,23,5064,24,5077,0,22222]
[21,5205,22,5209,24,5213,23,5219,24,5226,0,22222,null,"Total Target Seq"]
[21,5343,22,5347,24,5351,23,5355,24,5369,0,22222,null,{"$f":"COUNTIF(L7:L84,G3)","v":0},null,13,13,13,13,13,13]
[21,5502,22,5519,24,5523,23,5528,24,5537,0,22222,null,null,null,"% of reinforcement given in 6 equal intervals based on number of trials "]
[21,5670,22,5674,24,5681,23,5687,24,5694,0,22222,null,null,null,"%_1","%_2","%_3","%_4","%_5","%_6"]
[21,5814,22,5818,24,5821,23,5825,24,5832,0,22222,null,null,"target sequence",{"$f":"$G$3","v":21121},{"$f":"$G$3","v":21121},{"$f":"$G$3","v":21121},{"$f":"$G$3","v":21121},{"$f":"$G$3","v":21121},{"$f":"$G$3","v":21121}]
[21,5954,22,5970,24,5973,23,5977,24,5981,1,22222,null,null,"total reinforcement",{"$f":"U25","v":0},{"$f":"Z25","v":0},{"$f":"AE25","v":0},{"$f":"AJ25","v":0},{"$f":"AO25","v":0},{"$f":"AT25","v":0}]
[21,6091,22,6095,24,6099,23,6115,24,6134,0,22222,null,null,"% target"]
[21,6274,22,6278,24,6288,23,6296,24,6317,0,22222,null,null,"CCRF"]
[21,6450,22,6469,24,6478,23,6491,24,6497,0,22222,null,null,"% CCRf"]
[21,6642,22,6702,24,6709,23,6716,24,6731,0,22222,null,null,"average response rate",{"$f":"J19/P44","v":135.15384615384616},{"$f":"(J32-J19)/Q44","v":145.61538461538461},{"$f":"(J45-J32)/R44","v":145.15384615384616},{"$f":"(J58-J45)/S44","v":182.69230769230768},{"$f":"(J71-J58)/T44","v":636.84615384615381},{"$f":"(J84-J71)/U44","v":597.69230769230774}]
[21,6880,22,6885,24,6889,23,6895,24,6904,0,22222]
[21,7059,22,7063,24,7067,23,7073,24,7080,0,22222]
[21,7251,22,7259,24,7264,23,7269,24,7276,0,22222]
[21,7415,22,7420,24,7455,23,7465,24,7469,1,22222]
[21,7628,22,7646,24,7684,23,7695,24,7707,1,22222]
[21,7865,22,7889,24,7897,23,7904,24,7912,1,22222]
[21,8073,22,8148,24,8163,23,8200,24,8231,0,22222]
[21,8416,22,8486,24,8498,23,8506,24,8536,1,22222]
[21,8791,22,8893,24,8900,23,8910,24,8915,1,22222]
[21,9324,22,9409,24,9464,23,9577,24,9692,1,22222]
[12,9800,24,9919,24,9970,23,10005,24,10048,1,12222]
[21,10342,22,10357,24,10440,23,10471,24,10490,0,22222]
[21,10798,22,10986,24,11024,23,11085,24,11621,1,22222]
[21,11919,22,11978,24,11997,23,12015,24,12060,0,22222]
[21,12380,22,12398,24,12410,23,12419,24,12429,1,22222]
[21,12658,22,12749,24,12762,23,12770,24,12781,1,22222]
[21,13160,22,13203,24,13357,23,13664,24,13715,1,22222]
[21,13960,22,14265,24,14352,23,14545,24,14739,1,22222]
[21,15142,22,15531,24,15567,23,15983,24,16191,1,22222]
[21,16498,22,16547,24,16712,23,16930,24,17145,1,22222]
[21,17352,22,17377,24,17410,23,17716,24,17757,0,22222]
[21,17919,22,17942,24,17970,23,18041,24,18053,1,22222]
[21,18236,22,18251,24,18282,23,18418,24,18475,0,22222]
[21,18784,22,18848,24,18956,23,19204,24,19224,1,22222]
[12,19351,24,19457,24,19583,23,19646,24,20264,1,12222]
[12,20396,24,20807,13,20887,23,21033,24,21260,0,12122]
[21,21390,22,21425,24,21430,23,21436,24,21546,0,22222]
[21,21738,22,21781,24,22049,23,22071,24,22087,1,22222]
[21,22322,22,22445,24,22622,23,22627,24,22698,1,22222]
[21,22988,22,23065,24,23139,23,23174,24,23256,1,22222]
[12,23363,13,23394,13,23399,14,23404,13,23408,0,11111]
[21,23770,22,23844,24,23869,23,23874,24,23961,1,22222]

{"sheet":"!N422A30.096","index":28,"n_rows":181,"n_cols":48,"rows_kept":181,"cut":false,"hidden":false,"merged":[[4,39,4,42],[5,39,5,40],[4,44,4,47],[5,44,5,45],[4,24,4,27],[5,24,5,25],[4,29,4,32],[5,29,5,30],[4,34,4,37],[5,34,5,35],[1,1,1,2],[5,13,5,14],[42,13,42,14],[43,13,43,14],[4,19,4,22],[5,19,5,20]]}
["Report for:!N422A30.096"]
["Date:","<date>"]
["Hen:","<hen>",null,null,null,"Correct Sequence",{"$f":"Start!J2","v":21121},null,null,null,null,null,null,null,null,"Total Sequences in Data",{"$f":"4994-COUNTBLANK(L7:L5000)","v":175},null,null,null,null,"Total Sequences in Block Data",{"$f":"COUNTA(L7:L35)","v":29},null,null,null,"Total Sequences in Block Data",{"$f":"COUNTA(L36:L64)","v":29},null,null,null,"Total Sequences in Block Data",{"$f":"COUNTA(L65:L94)","v":30},null,null,null,"Total Sequences in Block Data",{"$f":"COUNTA(L95:L123)","v":29},null,null,null,"Total Sequences in Block Data",{"$f":"COUNTA(L124:L152)","v":29},null,null,null,"Total Sequences in Block Data",{"$f":"COUNTA(L153:L181)","v":29}]
[null,null,null,null,null,null,null,null,null,null,null,null,null,null,null,"Total Sequences in Summary",{"$f":"SUM(O7:O38)","v":175},null,null,null,null,"Total Sequences in Block Summary",{"$f":"SUM(U7:U38)","v":29},null,null,null,"Total Sequences in Block Summary",{"$f":"SUM(Z7:Z38)","v":29},null,null,null,"Total Sequences in Block Summary",{"$f":"SUM(AE7:AE38)","v":30},null,null,null,"Total Sequences in Block Summary",{"$f":"SUM(AJ7:AJ38)","v":29},null,null,null,"Total Sequences in Block Summary",{"$f":"SUM(AO7:AO38)","v":29},null,null,null,"Total Sequences in Block Summary",{"$f":"SUM(AT7:AT38)","v":29}]
[null,null,null,null,null,null,null,null,null,null,null,null,null,null,null,null,null,null,null,"Block 1",null,null,null,null,"Block 2",null,null,null,null,"Block 3",null,null,null,null,"Block 4",null,null,null,null,"Block 5",null,null,null,null,"Block 6"]
["Sequence\nComponent\n1","Time\n1","Sequence\nComponent\n2","Time\n2","Sequence\nComponent\n3","Time\n3","Sequence\nComponent\n4","Time\n4","Sequence\nComponent\n5","Time\n5","Correct?\n0=No 1=Yes","Sequence",null,"Frequency",null,"Relative Frequency","Variability",null,null,"Frequency",null,"Relative Frequency","Variability",null,"Frequency",null,"Relative Frequency","Variability",null,"Frequency",null,"Relative Frequency","Variability",null,"Frequency",null,"Relative Frequency","Variability",null,"Frequency",null,"Relative Frequency","Variability",null,"Frequency",null,"Relative Frequency","Variability"]
[12,6,13,10,24,22,23,26,24,30,0,11222,null,11111,{"$f":"COUNTIF($L$7:$L$500,N7)","v":123},{"$f":"O7/$Q$4","v":0.70285714285714285},{"$f":"IF(P7=0,0,(P7*((LOG(P7))/LOG(2))))","v":-0.35754104342085685},null,null,{"$f":"N7","v":11111},{"$f":"COUNTIF(L7:L35,T7)","v":19},{"$f":"U7/(W4-U25)","v":0.65517241379310343},{"$f":"IF(V7=0,0,(V7*((LOG(V7))/LOG(2))))","v":-0.39969021213778433},null,{"$f":"N7","v":11111},{"$f":"COUNTIF(L36:L64,Y7)","v":24},{"$f":"Z7/(AB4-Z25)","v":0.82758620689655171},{"$f":"IF(AA7=0,0,(AA7*((LOG(AA7))/LOG(2))))","v":-0.2259463401984132},null,{"$f":"N7","v":11111},{"$f":"COUNTIF(L65:L94,AD7)","v":20},{"$f":"AE7/(AG4-AE25)","v":0.66666666666666663},{"$f":"IF(AF7=0,0,(AF7*((LOG(AF7))/LOG(2))))","v":-0.38997500048077083},null,{"$f":"N7","v":11111},{"$f":"COUNTIF(L95:L123,AI7)","v":19},{"$f":"AJ7/(AL4-AJ25)","v":0.65517241379310343},{"$f":"IF(AK7=0,0,(AK7*((LOG(AK7))/LOG(2))))","v":-0.39969021213778433},null,{"$f":"N7","v":11111},{"$f":"COUNTIF(L124:L152,AN7)","v":24},{"$f":"AO7/(AQ4-AO25)","v":0.82758620689655171},{"$f":"IF(AP7=0,0,(AP7*((LOG(AP7))/LOG(2))))","v":-0.2259463401984132},null,{"$f":"N7","v":11111},{"$f":"COUNTIF(L153:L181,AS7)","v":17},{"$f":"AT7/(AV4-AT25)","v":0.58620689655172409},{"$f":"IF(AU7=0,0,(AU7*((LOG(AU7))/LOG(2))))","v":-0.45168305572113648}]
[12,132,13,140,13,143,14,147,13,151,0,11111,null,11112,{"$f":"COUNTIF($L$7:$L$500,N8)","v":0},{"$f":"O8/$Q$4","v":0},{"$f":"IF(P8=0,0,(P8*((LOG(P8))/LOG(2))))","v":0},null,null,{"$f":"N8","v":11112},{"$f":"COUNTIF(L7:L35,T8)","v":0},{"$f":"U8/(W4-U25)","v":0},{"$f":"IF(V8=0,0,(V8*((LOG(V8))/LOG(2))))","v":0},null,{"$f":"N8","v":11112},{"$f":"COUNTIF(L36:L64,Y8)","v":0},{"$f":"Z8/(AB4-Z25)","v":0},{"$f":"IF(AA8=0,0,(AA8*((LOG(AA8))/LOG(2))))","v":0},null,{"$f":"N8","v":11112},{"$f":"COUNTIF(L65:L94,AD8)","v":0},{"$f":"AE8/(AG4-AE25)","v":0},{"$f":"IF(AF8=0,0,(AF8*((LOG(AF8))/LOG(2))))","v":0},null,{"$f":"N8","v":11112},{"$f":"COUNTIF(L95:L123,AI8)","v":0},{"$f":"AJ8/(AL4-AJ25)","v":0},{"$f":"IF(AK8=0,0,(AK8*((LOG(AK8))/LOG(2))))","v":0},null,{"$f":"N8","v":11112},{"$f":"COUNTIF(L124:L152,AN8)","v":0},{"$f":"AO8/(AQ4-AO25)","v":0},{"$f":"IF(AP8=0,0,(AP8*((LOG(AP8))/LOG(2))))","v":0},null,{"$f":"N8","v":11112},{"$f":"COUNTIF(L153:L181,AS8)","v":0},{"$f":"AT8/(AV4-AT25)","v":0},{"$f":"IF(AU8=0,0,(AU8*((LOG(AU8))/LOG(2))))","v":0}]
[12,254,13,258,13,263,14,273,13,280,0,11111,null,11121,{"$f":"COUNTIF($L$7:$L$500,N9)","v":0},{"$f":"O9/$Q$4","v":0},{"$f":"IF(P9=0,0,(P9*((LOG(P9))/LOG(2))))","v":0},null,null,{"$f":"N9","v":11121},{"$f":"COUNTIF(L7:L35,T9)","v":0},{"$f":"U9/(W4-U25)","v":0},{"$f":"IF(V9=0,0,(V9*((LOG(V9))/LOG(2))))","v":0},null,{"$f":"N9","v":11121},{"$f":"COUNTIF(L36:L64,Y9)","v":0},{"$f":"Z9/(AB4-Z25)","v":0},{"$f":"IF(AA9=0,0,(AA9*((LOG(AA9))/LOG(2))))","v":0},null,{"$f":"N9","v":11121},{"$f":"COUNTIF(L65:L94,AD9)","v":0},{"$f":"AE9/(AG4-AE25)","v":0},{"$f":"IF(AF9=0,0,(AF9*((LOG(AF9))/LOG(2))))","v":0},null,{"$f":"N9","v":11121},{"$f":"COUNTIF(L95:L123,AI9)","v":0},{"$f":"AJ9/(AL4-AJ25)","v":0},{"$f":"IF(AK9=0,0,(AK9*((LOG(AK9))/LOG(2))))","v":0},null,{"$f":"N9","v":11121},{"$f":"COUNTIF(L124:L152,AN9)","v":0},{"$f":"AO9/(AQ4-AO25)","v":0},{"$f":"IF(AP9=0,0,(AP9*((LOG(AP9))/LOG(2))))","v":0},null,{"$f":"N9","v":11121},{"$f":"COUNTIF(L153:L181,AS9)","v":0},{"$f":"AT9/(AV4-AT25)","v":0},{"$f":"IF(AU9=0,0,(AU9*((LOG(AU9))/LOG(2))))","v":0}]
[12,379,13,388,24,399,23,404,13,413,0,11221,null,11122,{"$f":"COUNTIF($L$7:$L$500,N10)","v":2},{"$f":"O10/$Q$4","v":1.1428571428571429E-2},{"$f":"IF(P10=0,0,(P10*((LOG(P10))/LOG(2))))","v":-7.3728126992369469E-2},null,null,{"$f":"N10","v":11122},{"$f":"COUNTIF(L7:L35,T10)","v":1},{"$f":"U10/(W4-U25)","v":3.4482758620689655E-2},{"$f":"IF(V10=0,0,(V10*((LOG(V10))/LOG(2))))","v":-0.16751658603888178},null,{"$f":"N10","v":11122},{"$f":"COUNTIF(L36:L64,Y10)","v":0},{"$f":"Z10/(AB4-Z25)","v":0},{"$f":"IF(AA10=0,0,(AA10*((LOG(AA10))/LOG(2))))","v":0},null,{"$f":"N10","v":11122},{"$f":"COUNTIF(L65:L94,AD10)","v":0},{"$f":"AE10/(AG4-AE25)","v":0},{"$f":"IF(AF10=0,0,(AF10*((LOG(AF10))/LOG(2))))","v":0},null,{"$f":"N10","v":11122},{"$f":"COUNTIF(L95:L123,AI10)","v":0},{"$f":"AJ10/(AL4-AJ25)","v":0},{"$f":"IF(AK10=0,0,(AK10*((LOG(AK10))/LOG(2))))","v":0},null,{"$f":"N10","v":11122},{"$f":"COUNTIF(L124:L152,AN10)","v":0},{"$f":"AO10/(AQ4-AO25)","v":0},{"$f":"IF(AP10=0,0,(AP10*((LOG(AP10))/LOG(2))))","v":0},null,{"$f":"N10","v":11122},{"$f":"COUNTIF(L153:L181,AS10)","v":1},{"$f":"AT10/(AV4-AT25)","v":3.4482758620689655E-2},{"$f":"IF(AU10=0,0,(AU10*((LOG(AU10))/LOG(2))))","v":-0.16751658603888178}]
[12,514,24,522,24,527,23,532,13,542,0,12221,null,11211,{"$f":"COUNTIF($L$7:$L$500,N11)","v":3},{"$f":"O11/$Q$4","v":1.7142857142857144E-2},{"$f":"IF(P11=0,0,(P11*((LOG(P11))/LOG(2))))","v":-0.10056426190476297},null,null,{"$f":"N11","v":11211},{"$f":"COUNTIF(L7:L35,T11)","v":1},{"$f":"U11/(W4-U25)","v":3.4482758620689655E-2},{"$f":"IF(V11=0,0,(V11*((LOG(V11))/LOG(2))))","v":-0.16751658603888178},null,{"$f":"N11","v":11211},{"$f":"COUNTIF(L36:L64,Y11)","v":1},{"$f":"Z11/(AB4-Z25)","v":3.4482758620689655E-2},{"$f":"IF(AA11=0,0,(AA11*((LOG(AA11))/LOG(2))))","v":-0.16751658603888178},null,{"$f":"N11","v":11211},{"$f":"COUNTIF(L65:L94,AD11)","v":0},{"$f":"AE11/(AG4-AE25)","v":0},{"$f":"IF(AF11=0,0,(AF11*((LOG(AF11))/LOG(2))))","v":0},null,{"$f":"N11","v":11211},{"$f":"COUNTIF(L95:L123,AI11)","v":0},{"$f":"AJ11/(AL4-AJ25)","v":0},{"$f":"IF(AK11=0,0,(AK11*((LOG(AK11))/LOG(2))))","v":0},null,{"$f":"N11","v":11211},{"$f":"COUNTIF(L124:L152,AN11)","v":0},{"$f":"AO11/(AQ4-AO25)","v":0},{"$f":"IF(AP11=0,0,(AP11*((LOG(AP11))/LOG(2))))","v":0},null,{"$f":"N11","v":11211},{"$f":"COUNTIF(L153:L181,AS11)","v":1},{"$f":"AT11/(AV4-AT25)","v":3.4482758620689655E-2},{"$f":"IF(AU11=0,0,(AU11*((LOG(AU11))/LOG(2))))","v":-0.16751658603888178}]
[12,644,13,658,13,662,14,666,13,672,1,11111,null,11212,{"$f":"COUNTIF($L$7:$L$500,N12)","v":0},{"$f":"O12/$Q$4","v":0},{"$f":"IF(P12=0,0,(P12*((LOG(P12))/LOG(2))))","v":0},null,null,{"$f":"N12","v":11212},{"$f":"COUNTIF(L7:L35,T12)","v":0},{"$f":"U12/(W4-U25)","v":0},{"$f":"IF(V12=0,0,(V12*((LOG(V12))/LOG(2))))","v":0},null,{"$f":"N12","v":11212},{"$f":"COUNTIF(L36:L64,Y12)","v":0},{"$f":"Z12/(AB4-Z25)","v":0},{"$f":"IF(AA12=0,0,(AA12*((LOG(AA12))/LOG(2))))","v":0},null,{"$f":"N12","v":11212},{"$f":"COUNTIF(L65:L94,AD12)","v":0},{"$f":"AE12/(AG4-AE25)","v":0},{"$f":"IF(AF12=0,0,(AF12*((LOG(AF12))/LOG(2))))","v":0},null,{"$f":"N12","v":11212},{"$f":"COUNTIF(L95:L123,AI12)","v":0},{"$f":"AJ12/(AL4-AJ25)","v":0},{"$f":"IF(AK12=0,0,(AK12*((LOG(AK12))/LOG(2))))","v":0},null,{"$f":"N12","v":11212},{"$f":"COUNTIF(L124:L152,AN12)","v":0},{"$f":"AO12/(AQ4-AO25)","v":0},{"$f":"IF(AP12=0,0,(AP12*((LOG(AP12))/LOG(2))))","v":0},null,{"$f":"N12","v":11212},{"$f":"COUNTIF(L153:L181,AS12)","v":0},{"$f":"AT12/(AV4-AT25)","v":0},{"$f":"IF(AU12=0,0,(AU12*((LOG(AU12))/LOG(2))))","v":0}]
[12,775,13,789,13,796,14,803,13,819,0,11111,null,11221,{"$f":"COUNTIF($L$7:$L$500,N13)","v":1},{"$f":"O13/$Q$4","v":5.7142857142857143E-3},{"$f":"IF(P13=0,0,(P13*((LOG(P13))/LOG(2))))","v":-4.2578349210470448E-2},null,null,{"$f":"N13","v":11221},{"$f":"COUNTIF(L7:L35,T13)","v":1},{"$f":"U13/(W4-U25)","v":3.4482758620689655E-2},{"$f":"IF(V13=0,0,(V13*((LOG(V13))/LOG(2))))","v":-0.16751658603888178},null,{"$f":"N13","v":11221},{"$f":"COUNTIF(L36:L64,Y13)","v":0},{"$f":"Z13/(AB4-Z25)","v":0},{"$f":"IF(AA13=0,0,(AA13*((LOG(AA13))/LOG(2))))","v":0},null,{"$f":"N13","v":11221},{"$f":"COUNTIF(L65:L94,AD13)","v":0},{"$f":"AE13/(AG4-AE25)","v":0},{"$f":"IF(AF13=0,0,(AF13*((LOG(AF13))/LOG(2))))","v":0},null,{"$f":"N13","v":11221},{"$f":"COUNTIF(L95:L123,AI13)","v":0},{"$f":"AJ13/(AL4-AJ25)","v":0},{"$f":"IF(AK13=0,0,(AK13*((LOG(AK13))/LOG(2))))","v":0},null,{"$f":"N13","v":11221},{"$f":"COUNTIF(L124:L152,AN13)","v":0},{"$f":"AO13/(AQ4-AO25)","v":0},{"$f":"IF(AP13=0,0,(AP13*((LOG(AP13))/LOG(2))))","v":0},null,{"$f":"N13","v":11221},{"$f":"COUNTIF(L153:L181,AS13)","v":0},{"$f":"AT13/(AV4-AT25)","v":0},{"$f":"IF(AU13=0,0,(AU13*((LOG(AU13))/LOG(2))))","v":0}]
[12,921,13,925,13,933,14,938,13,942,0,11111,null,11222,{"$f":"COUNTIF($L$7:$L$500,N14)","v":3},{"$f":"O14/$Q$4","v":1.7142857142857144E-2},{"$f":"IF(P14=0,0,(P14*((LOG(P14))/LOG(2))))","v":-0.10056426190476297},null,null,{"$f":"N14","v":11222},{"$f":"COUNTIF(L7:L35,T14)","v":1},{"$f":"U14/(W4-U25)","v":3.4482758620689655E-2},{"$f":"IF(V14=0,0,(V14*((LOG(V14))/LOG(2))))","v":-0.16751658603888178},null,{"$f":"N14","v":11222},{"$f":"COUNTIF(L36:L64,Y14)","v":0},{"$f":"Z14/(AB4-Z25)","v":0},{"$f":"IF(AA14=0,0,(AA14*((LOG(AA14))/LOG(2))))","v":0},null,{"$f":"N14","v":11222},{"$f":"COUNTIF(L65:L94,AD14)","v":0},{"$f":"AE14/(AG4-AE25)","v":0},{"$f":"IF(AF14=0,0,(AF14*((LOG(AF14))/LOG(2))))","v":0},null,{"$f":"N14","v":11222},{"$f":"COUNTIF(L95:L123,AI14)","v":1},{"$f":"AJ14/(AL4-AJ25)","v":3.4482758620689655E-2},{"$f":"IF(AK14=0,0,(AK14*((LOG(AK14))/LOG(2))))","v":-0.16751658603888178},null,{"$f":"N14","v":11222},{"$f":"COUNTIF(L124:L152,AN14)","v":0},{"$f":"AO14/(AQ4-AO25)","v":0},{"$f":"IF(AP14=0,0,(AP14*((LOG(AP14))/LOG(2))))","v":0},null,{"$f":"N14","v":11222},{"$f":"COUNTIF(L153:L181,AS14)","v":1},{"$f":"AT14/(AV4-AT25)","v":3.4482758620689655E-2},{"$f":"IF(AU14=0,0,(AU14*((LOG(AU14))/LOG(2))))","v":-0.16751658603888178}]
[12,1039,13,1048,13,1059,14,1069,13,1085,0,11111,null,12111,{"$f":"COUNTIF($L$7:$L$500,N15)","v":16},{"$f":"O15/$Q$4","v":9.1428571428571428E-2},{"$f":"IF(P15=0,0,(P15*((LOG(P15))/LOG(2))))","v":-0.31553930165324146},null,null,{"$f":"N15","v":12111},{"$f":"COUNTIF(L7:L35,T15)","v":1},{"$f":"U15/(W4-U25)","v":3.4482758620689655E-2},{"$f":"IF(V15=0,0,(V15*((LOG(V15))/LOG(2))))","v":-0.16751658603888178},null,{"$f":"N15","v":12111},{"$f":"COUNTIF(L36:L64,Y15)","v":3},{"$f":"Z15/(AB4-Z25)","v":0.10344827586206896},{"$f":"IF(AA15=0,0,(AA15*((LOG(AA15))/LOG(2))))","v":-0.33858812011100858},null,{"$f":"N15","v":12111},{"$f":"COUNTIF(L65:L94,AD15)","v":5},{"$f":"AE15/(AG4-AE25)","v":0.16666666666666666},{"$f":"IF(AF15=0,0,(AF15*((LOG(AF15))/LOG(2))))","v":-0.43082708345352599},null,{"$f":"N15","v":12111},{"$f":"COUNTIF(L95:L123,AI15)","v":2},{"$f":"AJ15/(AL4-AJ25)","v":6.8965517241379309E-2},{"$f":"IF(AK15=0,0,(AK15*((LOG(AK15))/LOG(2))))","v":-0.26606765483638428},null,{"$f":"N15","v":12111},{"$f":"COUNTIF(L124:L152,AN15)","v":1},{"$f":"AO15/(AQ4-AO25)","v":3.4482758620689655E-2},{"$f":"IF(AP15=0,0,(AP15*((LOG(AP15))/LOG(2))))","v":-0.16751658603888178},null,{"$f":"N15","v":12111},{"$f":"COUNTIF(L153:L181,AS15)","v":4},{"$f":"AT15/(AV4-AT25)","v":0.13793103448275862},{"$f":"IF(AU15=0,0,(AU15*((LOG(AU15))/LOG(2))))","v":-0.39420427519000989}]
[12,1187,13,1198,13,1219,14,1236,13,1249,0,11111,null,12112,{"$f":"COUNTIF($L$7:$L$500,N16)","v":0},{"$f":"O16/$Q$4","v":0},{"$f":"IF(P16=0,0,(P16*((LOG(P16))/LOG(2))))","v":0},null,null,{"$f":"N16","v":12112},{"$f":"COUNTIF(L7:L35,T16)","v":0},{"$f":"U16/(W4-U25)","v":0},{"$f":"IF(V16=0,0,(V16*((LOG(V16))/LOG(2))))","v":0},null,{"$f":"N16","v":12112},{"$f":"COUNTIF(L36:L64,Y16)","v":0},{"$f":"Z16/(AB4-Z25)","v":0},{"$f":"IF(AA16=0,0,(AA16*((LOG(AA16))/LOG(2))))","v":0},null,{"$f":"N16","v":12112},{"$f":"COUNTIF(L65:L94,AD16)","v":0},{"$f":"AE16/(AG4-AE25)","v":0},{"$f":"IF(AF16=0,0,(AF16*((LOG(AF16))/LOG(2))))","v":0},null,{"$f":"N16","v":12112},{"$f":"COUNTIF(L95:L123,AI16)","v":0},{"$f":"AJ16/(AL4-AJ25)","v":0},{"$f":"IF(AK16=0,0,(AK16*((LOG(AK16))/LOG(2))))","v":0},null,{"$f":"N16","v":12112},{"$f":"COUNTIF(L124:L152,AN16)","v":0},{"$f":"AO16/(AQ4-AO25)","v":0},{"$f":"IF(AP16=0,0,(AP16*((LOG(AP16))/LOG(2))))","v":0},null,{"$f":"N16","v":12112},{"$f":"COUNTIF(L153:L181,AS16)","v":0},{"$f":"AT16/(AV4-AT25)","v":0},{"$f":"IF(AU16=0,0,(AU16*((LOG(AU16))/LOG(2))))","v":0}]
[12,1355,13,1371,13,1378,23,1390,24,1395,0,11122,null,12121,{"$f":"COUNTIF($L$7:$L$500,N17)","v":0},{"$f":"O17/$Q$4","v":0},{"$f":"IF(P17=0,0,(P17*((LOG(P17))/LOG(2))))","v":0},null,null,{"$f":"N17","v":12121},{"$f":"COUNTIF(L7:L35,T17)","v":0},{"$f":"U17/(W4-U25)","v":0},{"$f":"IF(V17=0,0,(V17*((LOG(V17))/LOG(2))))","v":0},null,{"$f":"N17","v":12121},{"$f":"COUNTIF(L36:L64,Y17)","v":0},{"$f":"Z17/(AB4-Z25)","v":0},{"$f":"IF(AA17=0,0,(AA17*((LOG(AA17))/LOG(2))))","v":0},null,{"$f":"N17","v":12121},{"$f":"COUNTIF(L65:L94,AD17)","v":0},{"$f":"AE17/(AG4-AE25)","v":0},{"$f":"IF(AF17=0,0,(AF17*((LOG(AF17))/LOG(2))))","v":0},null,{"$f":"N17","v":12121},{"$f":"COUNTIF(L95:L123,AI17)","v":0},{"$f":"AJ17/(AL4-AJ25)","v":0},{"$f":"IF(AK17=0,0,(AK17*((LOG(AK17))/LOG(2))))","v":0},null,{"$f":"N17","v":12121},{"$f":"COUNTIF(L124:L152,AN17)","v":0},{"$f":"AO17/(AQ4-AO25)","v":0},{"$f":"IF(AP17=0,0,(AP17*((LOG(AP17))/LOG(2))))","v":0},null,{"$f":"N17","v":12121},{"$f":"COUNTIF(L153:L181,AS17)","v":0},{"$f":"AT17/(AV4-AT25)","v":0},{"$f":"IF(AU17=0,0,(AU17*((LOG(AU17))/LOG(2))))","v":0}]
[12,1492,24,1510,24,1514,23,1518,13,1525,0,12221,null,12122,{"$f":"COUNTIF($L$7:$L$500,N18)","v":0},{"$f":"O18/$Q$4","v":0},{"$f":"IF(P18=0,0,(P18*((LOG(P18))/LOG(2))))","v":0},null,null,{"$f":"N18","v":12122},{"$f":"COUNTIF(L7:L35,T18)","v":0},{"$f":"U18/(W4-U25)","v":0},{"$f":"IF(V18=0,0,(V18*((LOG(V18))/LOG(2))))","v":0},null,{"$f":"N18","v":12122},{"$f":"COUNTIF(L36:L64,Y18)","v":0},{"$f":"Z18/(AB4-Z25)","v":0},{"$f":"IF(AA18=0,0,(AA18*((LOG(AA18))/LOG(2))))","v":0},null,{"$f":"N18","v":12122},{"$f":"COUNTIF(L65:L94,AD18)","v":0},{"$f":"AE18/(AG4-AE25)","v":0},{"$f":"IF(AF18=0,0,(AF18*((LOG(AF18))/LOG(2))))","v":0},null,{"$f":"N18","v":12122},{"$f":"COUNTIF(L95:L123,AI18)","v":0},{"$f":"AJ18/(AL4-AJ25)","v":0},{"$f":"IF(AK18=0,0,(AK18*((LOG(AK18))/LOG(2))))","v":0},null,{"$f":"N18","v":12122},{"$f":"COUNTIF(L124:L152,AN18)","v":0},{"$f":"AO18/(AQ4-AO25)","v":0},{"$f":"IF(AP18=0,0,(AP18*((LOG(AP18))/LOG(2))))","v":0},null,{"$f":"N18","v":12122},{"$f":"COUNTIF(L153:L181,AS18)","v":0},{"$f":"AT18/(AV4-AT25)","v":0},{"$f":"IF(AU18=0,0,(AU18*((LOG(AU18))/LOG(2))))","v":0}]
[12,1628,24,1636,24,1640,23,1644,24,1648,1,12222,null,12211,{"$f":"COUNTIF($L$7:$L$500,N19)","v":10},{"$f":"O19/$Q$4","v":5.7142857142857141E-2},{"$f":"IF(P19=0,0,(P19*((LOG(P19))/LOG(2))))","v":-0.23595902953971234},null,null,{"$f":"N19","v":12211},{"$f":"COUNTIF(L7:L35,T19)","v":0},{"$f":"U19/(W4-U25)","v":0},{"$f":"IF(V19=0,0,(V19*((LOG(V19))/LOG(2))))","v":0},null,{"$f":"N19","v":12211},{"$f":"COUNTIF(L36:L64,Y19)","v":0},{"$f":"Z19/(AB4-Z25)","v":0},{"$f":"IF(AA19=0,0,(AA19*((LOG(AA19))/LOG(2))))","v":0},null,{"$f":"N19","v":12211},{"$f":"COUNTIF(L65:L94,AD19)","v":2},{"$f":"AE19/(AG4-AE25)","v":6.6666666666666666E-2},{"$f":"IF(AF19=0,0,(AF19*((LOG(AF19))/LOG(2))))","v":-0.26045937304056793},null,{"$f":"N19","v":12211},{"$f":"COUNTIF(L95:L123,AI19)","v":4},{"$f":"AJ19/(AL4-AJ25)","v":0.13793103448275862},{"$f":"IF(AK19=0,0,(AK19*((LOG(AK19))/LOG(2))))","v":-0.39420427519000989},null,{"$f":"N19","v":12211},{"$f":"COUNTIF(L124:L152,AN19)","v":2},{"$f":"AO19/(AQ4-AO25)","v":6.8965517241379309E-2},{"$f":"IF(AP19=0,0,(AP19*((LOG(AP19))/LOG(2))))","v":-0.26606765483638428},null,{"$f":"N19","v":12211},{"$f":"COUNTIF(L153:L181,AS19)","v":2},{"$f":"AT19/(AV4-AT25)","v":6.8965517241379309E-2},{"$f":"IF(AU19=0,0,(AU19*((LOG(AU19))/LOG(2))))","v":-0.26606765483638428}]
[12,1746,13,1758,13,1769,14,1777,13,1784,0,11111,null,12212,{"$f":"COUNTIF($L$7:$L$500,N20)","v":0},{"$f":"O20/$Q$4","v":0},{"$f":"IF(P20=0,0,(P20*((LOG(P20))/LOG(2))))","v":0},null,null,{"$f":"N20","v":12212},{"$f":"COUNTIF(L7:L35,T20)","v":0},{"$f":"U20/(W4-U25)","v":0},{"$f":"IF(V20=0,0,(V20*((LOG(V20))/LOG(2))))","v":0},null,{"$f":"N20","v":12212},{"$f":"COUNTIF(L36:L64,Y20)","v":0},{"$f":"Z20/(AB4-Z25)","v":0},{"$f":"IF(AA20=0,0,(AA20*((LOG(AA20))/LOG(2))))","v":0},null,{"$f":"N20","v":12212},{"$f":"COUNTIF(L65:L94,AD20)","v":0},{"$f":"AE20/(AG4-AE25)","v":0},{"$f":"IF(AF20=0,0,(AF20*((LOG(AF20))/LOG(2))))","v":0},null,{"$f":"N20","v":12212},{"$f":"COUNTIF(L95:L123,AI20)","v":0},{"$f":"AJ20/(AL4-AJ25)","v":0},{"$f":"IF(AK20=0,0,(AK20*((LOG(AK20))/LOG(2))))","v":0},null,{"$f":"N20","v":12212},{"$f":"COUNTIF(L124:L152,AN20)","v":0},{"$f":"AO20/(AQ4-AO25)","v":0},{"$f":"IF(AP20=0,0,(AP20*((LOG(AP20))/LOG(2))))","v":0},null,{"$f":"N20","v":12212},{"$f":"COUNTIF(L153:L181,AS20)","v":0},{"$f":"AT20/(AV4-AT25)","v":0},{"$f":"IF(AU20=0,0,(AU20*((LOG(AU20))/LOG(2))))","v":0}]
[12,1890,13,1898,24,1908,14,1916,13,1932,0,11211,null,12221,{"$f":"COUNTIF($L$7:$L$500,N21)","v":11},{"$f":"O21/$Q$4","v":6.2857142857142861E-2},{"$f":"IF(P21=0,0,(P21*((LOG(P21))/LOG(2))))","v":-0.25091185385797343},null,null,{"$f":"N21","v":12221},{"$f":"COUNTIF(L7:L35,T21)","v":4},{"$f":"U21/(W4-U25)","v":0.13793103448275862},{"$f":"IF(V21=0,0,(V21*((LOG(V21))/LOG(2))))","v":-0.39420427519000989},null,{"$f":"N21","v":12221},{"$f":"COUNTIF(L36:L64,Y21)","v":0},{"$f":"Z21/(AB4-Z25)","v":0},{"$f":"IF(AA21=0,0,(AA21*((LOG(AA21))/LOG(2))))","v":0},null,{"$f":"N21","v":12221},{"$f":"COUNTIF(L65:L94,AD21)","v":2},{"$f":"AE21/(AG4-AE25)","v":6.6666666666666666E-2},{"$f":"IF(AF21=0,0,(AF21*((LOG(AF21))/LOG(2))))","v":-0.26045937304056793},null,{"$f":"N21","v":12221},{"$f":"COUNTIF(L95:L123,AI21)","v":2},{"$f":"AJ21/(AL4-AJ25)","v":6.8965517241379309E-2},{"$f":"IF(AK21=0,0,(AK21*((LOG(AK21))/LOG(2))))","v":-0.26606765483638428},null,{"$f":"N21","v":12221},{"$f":"COUNTIF(L124:L152,AN21)","v":1},{"$f":"AO21/(AQ4-AO25)","v":3.4482758620689655E-2},{"$f":"IF(AP21=0,0,(AP21*((LOG(AP21))/LOG(2))))","v":-0.16751658603888178},null,{"$f":"N21","v":12221},{"$f":"COUNTIF(L153:L181,AS21)","v":2},{"$f":"AT21/(AV4-AT25)","v":6.8965517241379309E-2},{"$f":"IF(AU21=0,0,(AU21*((LOG(AU21))/LOG(2))))","v":-0.26606765483638428}]
[12,2033,24,2042,13,2053,14,2057,13,2071,0,12111,null,12222,{"$f":"COUNTIF($L$7:$L$500,N22)","v":6},{"$f":"O22/$Q$4","v":3.4285714285714287E-2},{"$f":"IF(P22=0,0,(P22*((LOG(P22))/LOG(2))))","v":-0.16684280952381164},null,null,{"$f":"N22","v":12222},{"$f":"COUNTIF(L7:L35,T22)","v":1},{"$f":"U22/(W4-U25)","v":3.4482758620689655E-2},{"$f":"IF(V22=0,0,(V22*((LOG(V22))/LOG(2))))","v":-0.16751658603888178},null,{"$f":"N22","v":12222},{"$f":"COUNTIF(L36:L64,Y22)","v":1},{"$f":"Z22/(AB4-Z25)","v":3.4482758620689655E-2},{"$f":"IF(AA22=0,0,(AA22*((LOG(AA22))/LOG(2))))","v":-0.16751658603888178},null,{"$f":"N22","v":12222},{"$f":"COUNTIF(L65:L94,AD22)","v":1},{"$f":"AE22/(AG4-AE25)","v":3.3333333333333333E-2},{"$f":"IF(AF22=0,0,(AF22*((LOG(AF22))/LOG(2))))","v":-0.16356301985361729},null,{"$f":"N22","v":12222},{"$f":"COUNTIF(L95:L123,AI22)","v":1},{"$f":"AJ22/(AL4-AJ25)","v":3.4482758620689655E-2},{"$f":"IF(AK22=0,0,(AK22*((LOG(AK22))/LOG(2))))","v":-0.16751658603888178},null,{"$f":"N22","v":12222},{"$f":"COUNTIF(L124:L152,AN22)","v":1},{"$f":"AO22/(AQ4-AO25)","v":3.4482758620689655E-2},{"$f":"IF(AP22=0,0,(AP22*((LOG(AP22))/LOG(2))))","v":-0.16751658603888178},null,{"$f":"N22","v":12222},{"$f":"COUNTIF(L153:L181,AS22)","v":1},{"$f":"AT22/(AV4-AT25)","v":3.4482758620689655E-2},{"$f":"IF(AU22=0,0,(AU22*((LOG(AU22))/LOG(2))))","v":-0.16751658603888178}]
[12,2170,13,2175,13,2192,14,2196,13,2200,0,11111,null,21111,{"$f":"COUNTIF($L$7:$L$500,N23)","v":0},{"$f":"O23/$Q$4","v":0},{"$f":"IF(P23=0,0,(P23*((LOG(P23))/LOG(2))))","v":0},null,null,{"$f":"N23","v":21111},{"$f":"COUNTIF(L7:L35,T23)","v":0},{"$f":"U23/(W4-U25)","v":0},{"$f":"IF(V23=0,0,(V23*((LOG(V23))/LOG(2))))","v":0},null,{"$f":"N23","v":21111},{"$f":"COUNTIF(L36:L64,Y23)","v":0},{"$f":"Z23/(AB4-Z25)","v":0},{"$f":"IF(AA23=0,0,(AA23*((LOG(AA23))/LOG(2))))","v":0},null,{"$f":"N23","v":21111},{"$f":"COUNTIF(L65:L94,AD23)","v":0},{"$f":"AE23/(AG4-AE25)","v":0},{"$f":"IF(AF23=0,0,(AF23*((LOG(AF23))/LOG(2))))","v":0},null,{"$f":"N23","v":21111},{"$f":"COUNTIF(L95:L123,AI23)","v":0},{"$f":"AJ23/(AL4-AJ25)","v":0},{"$f":"IF(AK23=0,0,(AK23*((LOG(AK23))/LOG(2))))","v":0},null,{"$f":"N23","v":21111},{"$f":"COUNTIF(L124:L152,AN23)","v":0},{"$f":"AO23/(AQ4-AO25)","v":0},{"$f":"IF(AP23=0,0,(AP23*((LOG(AP23))/LOG(2))))","v":0},null,{"$f":"N23","v":21111},{"$f":"COUNTIF(L153:L181,AS23)","v":0},{"$f":"AT23/(AV4-AT25)","v":0},{"$f":"IF(AU23=0,0,(AU23*((LOG(AU23))/LOG(2))))","v":0}]
[12,2301,24,2318,24,2321,23,2330,13,2339,0,12221,null,21112,{"$f":"COUNTIF($L$7:$L$500,N24)","v":0},{"$f":"O24/$Q$4","v":0},{"$f":"IF(P24=0,0,(P24*((LOG(P24))/LOG(2))))","v":0},null,null,{"$f":"N24","v":21112},{"$f":"COUNTIF(L7:L35,T24)","v":0},{"$f":"U24/(W4-U25)","v":0},{"$f":"IF(V24=0,0,(V24*((LOG(V24))/LOG(2))))","v":0},null,{"$f":"N24","v":21112},{"$f":"COUNTIF(L36:L64,Y24)","v":0},{"$f":"Z24/(AB4-Z25)","v":0},{"$f":"IF(AA24=0,0,(AA24*((LOG(AA24))/LOG(2))))","v":0},null,{"$f":"N24","v":21112},{"$f":"COUNTIF(L65:L94,AD24)","v":0},{"$f":"AE24/(AG4-AE25)","v":0},{"$f":"IF(AF24=0,0,(AF24*((LOG(AF24))/LOG(2))))","v":0},null,{"$f":"N24","v":21112},{"$f":"COUNTIF(L95:L123,AI24)","v":0},{"$f":"AJ24/(AL4-AJ25)","v":0},{"$f":"IF(AK24=0,0,(AK24*((LOG(AK24))/LOG(2))))","v":0},null,{"$f":"N24","v":21112},{"$f":"COUNTIF(L124:L152,AN24)","v":0},{"$f":"AO24/(AQ4-AO25)","v":0},{"$f":"IF(AP24=0,0,(AP24*((LOG(AP24))/LOG(2))))","v":0},null,{"$f":"N24","v":21112},{"$f":"COUNTIF(L153:L181,AS24)","v":0},{"$f":"AT24/(AV4-AT25)","v":0},{"$f":"IF(AU24=0,0,(AU24*((LOG(AU24))/LOG(2))))","v":0}]
[12,2439,13,2454,13,2479,14,2483,13,2500,0,11111,null,21121,{"$f":"COUNTIF($L$7:$L$500,N25)","v":0},{"$f":"O25/$Q$4","v":0},{"$f":"IF(P25=0,0,(P25*((LOG(P25))/LOG(2))))","v":0},null,null,{"$f":"N25","v":21121},{"$f":"COUNTIF(L7:L35,T25)","v":0},null,null,null,{"$f":"N25","v":21121},{"$f":"COUNTIF(L36:L64,Y25)","v":0},null,null,null,{"$f":"N25","v":21121},{"$f":"COUNTIF(L65:L94,AD25)","v":0},null,null,null,{"$f":"N25","v":21121},{"$f":"COUNTIF(L95:L123,AI25)","v":0},null,null,null,{"$f":"N25","v":21121},{"$f":"COUNTIF(L124:L152,AN25)","v":0},null,null,null,{"$f":"N25","v":21121},{"$f":"COUNTIF(L153:L181,AS25)","v":0}]
[12,2599,13,2616,13,2623,14,2627,13,2646,1,11111,null,21122,{"$f":"COUNTIF($L$7:$L$500,N26)","v":0},{"$f":"O26/$Q$4","v":0},{"$f":"IF(P26=0,0,(P26*((LOG(P26))/LOG(2))))","v":0},null,null,{"$f":"N26","v":21122},{"$f":"COUNTIF(L7:L35,T26)","v":0},{"$f":"U26/(W4-U25)","v":0},{"$f":"IF(V26=0,0,(V26*((LOG(V26))/LOG(2))))","v":0},null,{"$f":"N26","v":21122},{"$f":"COUNTIF(L36:L64,Y26)","v":0},{"$f":"Z26/(AB4-Z25)","v":0},{"$f":"IF(AA26=0,0,(AA26*((LOG(AA26))/LOG(2))))","v":0},null,{"$f":"N26","v":21122},{"$f":"COUNTIF(L65:L94,AD26)","v":0},{"$f":"AE26/(AG4-AE25)","v":0},{"$f":"IF(AF26=0,0,(AF26*((LOG(AF26))/LOG(2))))","v":0},null,{"$f":"N26","v":21122},{"$f":"COUNTIF(L95:L123,AI26)","v":0},{"$f":"AJ26/(AL4-AJ25)","v":0},{"$f":"IF(AK26=0,0,(AK26*((LOG(AK26))/LOG(2))))","v":0},null,{"$f":"N26","v":21122},{"$f":"COUNTIF(L124:L152,AN26)","v":0},{"$f":"AO26/(AQ4-AO25)","v":0},{"$f":"IF(AP26=0,0,(AP26*((LOG(AP26))/LOG(2))))","v":0},null,{"$f":"N26","v":21122},{"$f":"COUNTIF(L153:L181,AS26)","v":0},{"$f":"AT26/(AV4-AT25)","v":0},{"$f":"IF(AU26=0,0,(AU26*((LOG(AU26))/LOG(2))))","v":0}]
[12,2744,13,2755,13,2763,14,2776,13,2787,0,11111,null,21211,{"$f":"COUNTIF($L$7:$L$500,N27)","v":0},{"$f":"O27/$Q$4","v":0},{"$f":"IF(P27=0,0,(P27*((LOG(P27))/LOG(2))))","v":0},null,null,{"$f":"N27","v":21211},{"$f":"COUNTIF(L7:L35,T27)","v":0},{"$f":"U27/(W4-U25)","v":0},{"$f":"IF(V27=0,0,(V27*((LOG(V27))/LOG(2))))","v":0},null,{"$f":"N27","v":21211},{"$f":"COUNTIF(L36:L64,Y27)","v":0},{"$f":"Z27/(AB4-Z25)","v":0},{"$f":"IF(AA27=0,0,(AA27*((LOG(AA27))/LOG(2))))","v":0},null,{"$f":"N27","v":21211},{"$f":"COUNTIF(L65:L94,AD27)","v":0},{"$f":"AE27/(AG4-AE25)","v":0},{"$f":"IF(AF27=0,0,(AF27*((LOG(AF27))/LOG(2))))","v":0},null,{"$f":"N27","v":21211},{"$f":"COUNTIF(L95:L123,AI27)","v":0},{"$f":"AJ27/(AL4-AJ25)","v":0},{"$f":"IF(AK27=0,0,(AK27*((LOG(AK27))/LOG(2))))","v":0},null,{"$f":"N27","v":21211},{"$f":"COUNTIF(L124:L152,AN27)","v":0},{"$f":"AO27/(AQ4-AO25)","v":0},{"$f":"IF(AP27=0,0,(AP27*((LOG(AP27))/LOG(2))))","v":0},null,{"$f":"N27","v":21211},{"$f":"COUNTIF(L153:L181,AS27)","v":0},{"$f":"AT27/(AV4-AT25)","v":0},{"$f":"IF(AU27=0,0,(AU27*((LOG(AU27))/LOG(2))))","v":0}]
[12,2889,13,2905,13,2910,14,2914,13,2918,0,11111,null,21212,{"$f":"COUNTIF($L$7:$L$500,N28)","v":0},{"$f":"O28/$Q$4","v":0},{"$f":"IF(P28=0,0,(P28*((LOG(P28))/LOG(2))))","v":0},null,null,{"$f":"N28","v":21212},{"$f":"COUNTIF(L7:L35,T28)","v":0},{"$f":"U28/(W4-U25)","v":0},{"$f":"IF(V28=0,0,(V28*((LOG(V28))/LOG(2))))","v":0},null,{"$f":"N28","v":21212},{"$f":"COUNTIF(L36:L64,Y28)","v":0},{"$f":"Z28/(AB4-Z25)","v":0},{"$f":"IF(AA28=0,0,(AA28*((LOG(AA28))/LOG(2))))","v":0},null,{"$f":"N28","v":21212},{"$f":"COUNTIF(L65:L94,AD28)","v":0},{"$f":"AE28/(AG4-AE25)","v":0},{"$f":"IF(AF28=0,0,(AF28*((LOG(AF28))/LOG(2))))","v":0},null,{"$f":"N28","v":21212},{"$f":"COUNTIF(L95:L123,AI28)","v":0},{"$f":"AJ28/(AL4-AJ25)","v":0},{"$f":"IF(AK28=0,0,(AK28*((LOG(AK28))/LOG(2))))","v":0},null,{"$f":"N28","v":21212},{"$f":"COUNTIF(L124:L152,AN28)","v":0},{"$f":"AO28/(AQ4-AO25)","v":0},{"$f":"IF(AP28=0,0,(AP28*((LOG(AP28))/LOG(2))))","v":0},null,{"$f":"N28","v":21212},{"$f":"COUNTIF(L153:L181,AS28)","v":0},{"$f":"AT28/(AV4-AT25)","v":0},{"$f":"IF(AU28=0,0,(AU28*((LOG(AU28))/LOG(2))))","v":0}]
[12,3018,24,3025,24,3029,23,3033,13,3046,0,12221,null,21221,{"$f":"COUNTIF($L$7:$L$500,N29)","v":0},{"$f":"O29/$Q$4","v":0},{"$f":"IF(P29=0,0,(P29*((LOG(P29))/LOG(2))))","v":0},null,null,{"$f":"N29","v":21221},{"$f":"COUNTIF(L7:L35,T29)","v":0},{"$f":"U29/(W4-U25)","v":0},{"$f":"IF(V29=0,0,(V29*((LOG(V29))/LOG(2))))","v":0},null,{"$f":"N29","v":21221},{"$f":"COUNTIF(L36:L64,Y29)","v":0},{"$f":"Z29/(AB4-Z25)","v":0},{"$f":"IF(AA29=0,0,(AA29*((LOG(AA29))/LOG(2))))","v":0},null,{"$f":"N29","v":21221},{"$f":"COUNTIF(L65:L94,AD29)","v":0},{"$f":"AE29/(AG4-AE25)","v":0},{"$f":"IF(AF29=0,0,(AF29*((LOG(AF29))/LOG(2))))","v":0},null,{"$f":"N29","v":21221},{"$f":"COUNTIF(L95:L123,AI29)","v":0},{"$f":"AJ29/(AL4-AJ25)","v":0},{"$f":"IF(AK29=0,0,(AK29*((LOG(AK29))/LOG(2))))","v":0},null,{"$f":"N29","v":21221},{"$f":"COUNTIF(L124:L152,AN29)","v":0},{"$f":"AO29/(AQ4-AO25)","v":0},{"$f":"IF(AP29=0,0,(AP29*((LOG(AP29))/LOG(2))))","v":0},null,{"$f":"N29","v":21221},{"$f":"COUNTIF(L153:L181,AS29)","v":0},{"$f":"AT29/(AV4-AT25)","v":0},{"$f":"IF(AU29=0,0,(AU29*((LOG(AU29))/LOG(2))))","v":0}]
[12,3149,13,3170,13,3174,14,3178,13,3188,0,11111,null,21222,{"$f":"COUNTIF($L$7:$L$500,N30)","v":0},{"$f":"O30/$Q$4","v":0},{"$f":"IF(P30=0,0,(P30*((LOG(P30))/LOG(2))))","v":0},null,null,{"$f":"N30","v":21222},{"$f":"COUNTIF(L7:L35,T30)","v":0},{"$f":"U30/(W4-U25)","v":0},{"$f":"IF(V30=0,0,(V30*((LOG(V30))/LOG(2))))","v":0},null,{"$f":"N30","v":21222},{"$f":"COUNTIF(L36:L64,Y30)","v":0},{"$f":"Z30/(AB4-Z25)","v":0},{"$f":"IF(AA30=0,0,(AA30*((LOG(AA30))/LOG(2))))","v":0},null,{"$f":"N30","v":21222},{"$f":"COUNTIF(L65:L94,AD30)","v":0},{"$f":"AE30/(AG4-AE25)","v":0},{"$f":"IF(AF30=0,0,(AF30*((LOG(AF30))/LOG(2))))","v":0},null,{"$f":"N30","v":21222},{"$f":"COUNTIF(L95:L123,AI30)","v":0},{"$f":"AJ30/(AL4-AJ25)","v":0},{"$f":"IF(AK30=0,0,(AK30*((LOG(AK30))/LOG(2))))","v":0},null,{"$f":"N30","v":21222},{"$f":"COUNTIF(L124:L152,AN30)","v":0},{"$f":"AO30/(AQ4-AO25)","v":0},{"$f":"IF(AP30=0,0,(AP30*((LOG(AP30))/LOG(2))))","v":0},null,{"$f":"N30","v":21222},{"$f":"COUNTIF(L153:L181,AS30)","v":0},{"$f":"AT30/(AV4-AT25)","v":0},{"$f":"IF(AU30=0,0,(AU30*((LOG(AU30))/LOG(2))))","v":0}]
[12,3290,13,3305,13,3308,14,3320,13,3329,1,11111,null,22111,{"$f":"COUNTIF($L$7:$L$500,N31)","v":0},{"$f":"O31/$Q$4","v":0},{"$f":"IF(P31=0,0,(P31*((LOG(P31))/LOG(2))))","v":0},null,null,{"$f":"N31","v":22111},{"$f":"COUNTIF(L7:L35,T31)","v":0},{"$f":"U31/(W4-U25)","v":0},{"$f":"IF(V31=0,0,(V31*((LOG(V31))/LOG(2))))","v":0},null,{"$f":"N31","v":22111},{"$f":"COUNTIF(L36:L64,Y31)","v":0},{"$f":"Z31/(AB4-Z25)","v":0},{"$f":"IF(AA31=0,0,(AA31*((LOG(AA31))/LOG(2))))","v":0},null,{"$f":"N31","v":22111},{"$f":"COUNTIF(L65:L94,AD31)","v":0},{"$f":"AE31/(AG4-AE25)","v":0},{"$f":"IF(AF31=0,0,(AF31*((LOG(AF31))/LOG(2))))","v":0},null,{"$f":"N31","v":22111},{"$f":"COUNTIF(L95:L123,AI31)","v":0},{"$f":"AJ31/(AL4-AJ25)","v":0},{"$f":"IF(AK31=0,0,(AK31*((LOG(AK31))/LOG(2))))","v":0},null,{"$f":"N31","v":22111},{"$f":"COUNTIF(L124:L152,AN31)","v":0},{"$f":"AO31/(AQ4-AO25)","v":0},{"$f":"IF(AP31=0,0,(AP31*((LOG(AP31))/LOG(2))))","v":0},null,{"$f":"N31","v":22111},{"$f":"COUNTIF(L153:L181,AS31)","v":0},{"$f":"AT31/(AV4-AT25)","v":0},{"$f":"IF(AU31=0,0,(AU31*((LOG(AU31))/LOG(2))))","v":0}]
[12,3428,13,3439,13,3451,14,3455,13,3458,0,11111,null,22112,{"$f":"COUNTIF($L$7:$L$500,N32)","v":0},{"$f":"O32/$Q$4","v":0},{"$f":"IF(P32=0,0,(P32*((LOG(P32))/LOG(2))))","v":0},null,null,{"$f":"N32","v":22112},{"$f":"COUNTIF(L7:L35,T32)","v":0},{"$f":"U32/(W4-U25)","v":0},{"$f":"IF(V32=0,0,(V32*((LOG(V32))/LOG(2))))","v":0},null,{"$f":"N32","v":22112},{"$f":"COUNTIF(L36:L64,Y32)","v":0},{"$f":"Z32/(AB4-Z25)","v":0},{"$f":"IF(AA32=0,0,(AA32*((LOG(AA32))/LOG(2))))","v":0},null,{"$f":"N32","v":22112},{"$f":"COUNTIF(L65:L94,AD32)","v":0},{"$f":"AE32/(AG4-AE25)","v":0},{"$f":"IF(AF32=0,0,(AF32*((LOG(AF32))/LOG(2))))","v":0},null,{"$f":"N32","v":22112},{"$f":"COUNTIF(L95:L123,AI32)","v":0},{"$f":"AJ32/(AL4-AJ25)","v":0},{"$f":"IF(AK32=0,0,(AK32*((LOG(AK32))/LOG(2))))","v":0},null,{"$f":"N32","v":22112},{"$f":"COUNTIF(L124:L152,AN32)","v":0},{"$f":"AO32/(AQ4-AO25)","v":0},{"$f":"IF(AP32=0,0,(AP32*((LOG(AP32))/LOG(2))))","v":0},null,{"$f":"N32","v":22112},{"$f":"COUNTIF(L153:L181,AS32)","v":0},{"$f":"AT32/(AV4-AT25)","v":0},{"$f":"IF(AU32=0,0,(AU32*((LOG(AU32))/LOG(2))))","v":0}]
[12,3557,13,3589,13,3593,14,3598,13,3613,0,11111,null,22121,{"$f":"COUNTIF($L$7:$L$500,N33)","v":0},{"$f":"O33/$Q$4","v":0},{"$f":"IF(P33=0,0,(P33*((LOG(P33))/LOG(2))))","v":0},null,null,{"$f":"N33","v":22121},{"$f":"COUNTIF(L7:L35,T33)","v":0},{"$f":"U33/(W4-U25)","v":0},{"$f":"IF(V33=0,0,(V33*((LOG(V33))/LOG(2))))","v":0},null,{"$f":"N33","v":22121},{"$f":"COUNTIF(L36:L64,Y33)","v":0},{"$f":"Z33/(AB4-Z25)","v":0},{"$f":"IF(AA33=0,0,(AA33*((LOG(AA33))/LOG(2))))","v":0},null,{"$f":"N33","v":22121},{"$f":"COUNTIF(L65:L94,AD33)","v":0},{"$f":"AE33/(AG4-AE25)","v":0},{"$f":"IF(AF33=0,0,(AF33*((LOG(AF33))/LOG(2))))","v":0},null,{"$f":"N33","v":22121},{"$f":"COUNTIF(L95:L123,AI33)","v":0},{"$f":"AJ33/(AL4-AJ25)","v":0},{"$f":"IF(AK33=0,0,(AK33*((LOG(AK33))/LOG(2))))","v":0},null,{"$f":"N33","v":22121},{"$f":"COUNTIF(L124:L152,AN33)","v":0},{"$f":"AO33/(AQ4-AO25)","v":0},{"$f":"IF(AP33=0,0,(AP33*((LOG(AP33))/LOG(2))))","v":0},null,{"$f":"N33","v":22121},{"$f":"COUNTIF(L153:L181,AS33)","v":0},{"$f":"AT33/(AV4-AT25)","v":0},{"$f":"IF(AU33=0,0,(AU33*((LOG(AU33))/LOG(2))))","v":0}]
[12,3714,13,3738,13,3742,14,3746,13,3750,0,11111,null,22122,{"$f":"COUNTIF($L$7:$L$500,N34)","v":0},{"$f":"O34/$Q$4","v":0},{"$f":"IF(P34=0,0,(P34*((LOG(P34))/LOG(2))))","v":0},null,null,{"$f":"N34","v":22122},{"$f":"COUNTIF(L7:L35,T34)","v":0},{"$f":"U34/(W4-U25)","v":0},{"$f":"IF(V34=0,0,(V34*((LOG(V34))/LOG(2))))","v":0},null,{"$f":"N34","v":22122},{"$f":"COUNTIF(L36:L64,Y34)","v":0},{"$f":"Z34/(AB4-Z25)","v":0},{"$f":"IF(AA34=0,0,(AA34*((LOG(AA34))/LOG(2))))","v":0},null,{"$f":"N34","v":22122},{"$f":"COUNTIF(L65:L94,AD34)","v":0},{"$f":"AE34/(AG4-AE25)","v":0},{"$f":"IF(AF34=0,0,(AF34*((LOG(AF34))/LOG(2))))","v":0},null,{"$f":"N34","v":22122},{"$f":"COUNTIF(L95:L123,AI34)","v":0},{"$f":"AJ34/(AL4-AJ25)","v":0},{"$f":"IF(AK34=0,0,(AK34*((LOG(AK34))/LOG(2))))","v":0},null,{"$f":"N34","v":22122},{"$f":"COUNTIF(L124:L152,AN34)","v":0},{"$f":"AO34/(AQ4-AO25)","v":0},{"$f":"IF(AP34=0,0,(AP34*((LOG(AP34))/LOG(2))))","v":0},null,{"$f":"N34","v":22122},{"$f":"COUNTIF(L153:L181,AS34)","v":0},{"$f":"AT34/(AV4-AT25)","v":0},{"$f":"IF(AU34=0,0,(AU34*((LOG(AU34))/LOG(2))))","v":0}]
[12,3849,13,3873,13,3877,14,3881,13,3885,1,11111,null,22211,{"$f":"COUNTIF($L$7:$L$500,N35)","v":0},{"$f":"O35/$Q$4","v":0},{"$f":"IF(P35=0,0,(P35*((LOG(P35))/LOG(2))))","v":0},null,null,{"$f":"N35","v":22211},{"$f":"COUNTIF(L7:L35,T35)","v":0},{"$f":"U35/(W4-U25)","v":0},{"$f":"IF(V35=0,0,(V35*((LOG(V35))/LOG(2))))","v":0},null,{"$f":"N35","v":22211},{"$f":"COUNTIF(L36:L64,Y35)","v":0},{"$f":"Z35/(AB4-Z25)","v":0},{"$f":"IF(AA35=0,0,(AA35*((LOG(AA35))/LOG(2))))","v":0},null,{"$f":"N35","v":22211},{"$f":"COUNTIF(L65:L94,AD35)","v":0},{"$f":"AE35/(AG4-AE25)","v":0},{"$f":"IF(AF35=0,0,(AF35*((LOG(AF35))/LOG(2))))","v":0},null,{"$f":"N35","v":22211},{"$f":"COUNTIF(L95:L123,AI35)","v":0},{"$f":"AJ35/(AL4-AJ25)","v":0},{"$f":"IF(AK35=0,0,(AK35*((LOG(AK35))/LOG(2))))","v":0},null,{"$f":"N35","v":22211},{"$f":"COUNTIF(L124:L152,AN35)","v":0},{"$f":"AO35/(AQ4-AO25)","v":0},{"$f":"IF(AP35=0,0,(AP35*((LOG(AP35))/LOG(2))))","v":0},null,{"$f":"N35","v":22211},{"$f":"COUNTIF(L153:L181,AS35)","v":0},{"$f":"AT35/(AV4-AT25)","v":0},{"$f":"IF(AU35=0,0,(AU35*((LOG(AU35))/LOG(2))))","v":0}]
[12,3981,13,3999,13,4013,14,4017,13,4022,0,11111,null,22212,{"$f":"COUNTIF($L$7:$L$500,N36)","v":0},{"$f":"O36/$Q$4","v":0},{"$f":"IF(P36=0,0,(P36*((LOG(P36))/LOG(2))))","v":0},null,null,{"$f":"N36","v":22212},{"$f":"COUNTIF(L7:L35,T36)","v":0},{"$f":"U36/(W4-U25)","v":0},{"$f":"IF(V36=0,0,(V36*((LOG(V36))/LOG(2))))","v":0},null,{"$f":"N36","v":22212},{"$f":"COUNTIF(L36:L64,Y36)","v":0},{"$f":"Z36/(AB4-Z25)","v":0},{"$f":"IF(AA36=0,0,(AA36*((LOG(AA36))/LOG(2))))","v":0},null,{"$f":"N36","v":22212},{"$f":"COUNTIF(L65:L94,AD36)","v":0},{"$f":"AE36/(AG4-AE25)","v":0},{"$f":"IF(AF36=0,0,(AF36*((LOG(AF36))/LOG(2))))","v":0},null,{"$f":"N36","v":22212},{"$f":"COUNTIF(L95:L123,AI36)","v":0},{"$f":"AJ36/(AL4-AJ25)","v":0},{"$f":"IF(AK36=0,0,(AK36*((LOG(AK36))/LOG(2))))","v":0},null,{"$f":"N36","v":22212},{"$f":"COUNTIF(L124:L152,AN36)","v":0},{"$f":"AO36/(AQ4-AO25)","v":0},{"$f":"IF(AP36=0,0,(AP36*((LOG(AP36))/LOG(2))))","v":0},null,{"$f":"N36","v":22212},{"$f":"COUNTIF(L153:L181,AS36)","v":0},{"$f":"AT36/(AV4-AT25)","v":0},{"$f":"IF(AU36=0,0,(AU36*((LOG(AU36))/LOG(2))))","v":0}]
[12,4122,13,4149,13,4152,14,4163,13,4170,0,11111,null,22221,{"$f":"COUNTIF($L$7:$L$500,N37)","v":0},{"$f":"O37/$Q$4","v":0},{"$f":"IF(P37=0,0,(P37*((LOG(P37))/LOG(2))))","v":0},null,null,{"$f":"N37","v":22221},{"$f":"COUNTIF(L7:L35,T37)","v":0},{"$f":"U37/(W4-U25)","v":0},{"$f":"IF(V37=0,0,(V37*((LOG(V37))/LOG(2))))","v":0},null,{"$f":"N37","v":22221},{"$f":"COUNTIF(L36:L64,Y37)","v":0},{"$f":"Z37/(AB4-Z25)","v":0},{"$f":"IF(AA37=0,0,(AA37*((LOG(AA37))/LOG(2))))","v":0},null,{"$f":"N37","v":22221},{"$f":"COUNTIF(L65:L94,AD37)","v":0},{"$f":"AE37/(AG4-AE25)","v":0},{"$f":"IF(AF37=0,0,(AF37*((LOG(AF37))/LOG(2))))","v":0},null,{"$f":"N37","v":22221},{"$f":"COUNTIF(L95:L123,AI37)","v":0},{"$f":"AJ37/(AL4-AJ25)","v":0},{"$f":"IF(AK37=0,0,(AK37*((LOG(AK37))/LOG(2))))","v":0},null,{"$f":"N37","v":22221},{"$f":"COUNTIF(L124:L152,AN37)","v":0},{"$f":"AO37/(AQ4-AO25)","v":0},{"$f":"IF(AP37=0,0,(AP37*((LOG(AP37))/LOG(2))))","v":0},null,{"$f":"N37","v":22221},{"$f":"COUNTIF(L153:L181,AS37)","v":0},{"$f":"AT37/(AV4-AT25)","v":0},{"$f":"IF(AU37=0,0,(AU37*((LOG(AU37))/LOG(2))))","v":0}]
[12,4270,13,4292,13,4301,14,4305,13,4320,0,11111,null,22222,{"$f":"COUNTIF($L$7:$L$500,N38)","v":0},{"$f":"O38/$Q$4","v":0},{"$f":"IF(P38=0,0,(P38*((LOG(P38))/LOG(2))))","v":0},null,null,{"$f":"N38","v":22222},{"$f":"COUNTIF(L7:L35,T38)","v":0},{"$f":"U38/(W4-U25)","v":0},{"$f":"IF(V38=0,0,(V38*((LOG(V38))/LOG(2))))","v":0},null,{"$f":"N38","v":22222},{"$f":"COUNTIF(L36:L64,Y38)","v":0},{"$f":"Z38/(AB4-Z25)","v":0},{"$f":"IF(AA38=0,0,(AA38*((LOG(AA38))/LOG(2))))","v":0},null,{"$f":"N38","v":22222},{"$f":"COUNTIF(L65:L94,AD38)","v":0},{"$f":"AE38/(AG4-AE25)","v":0},{"$f":"IF(AF38=0,0,(AF38*((LOG(AF38))/LOG(2))))","v":0},null,{"$f":"N38","v":22222},{"$f":"COUNTIF(L95:L123,AI38)","v":0},{"$f":"AJ38/(AL4-AJ25)","v":0},{"$f":"IF(AK38=0,0,(AK38*((LOG(AK38))/LOG(2))))","v":0},null,{"$f":"N38","v":22222},{"$f":"COUNTIF(L124:L152,AN38)","v":0},{"$f":"AO38/(AQ4-AO25)","v":0},{"$f":"IF(AP38=0,0,(AP38*((LOG(AP38))/LOG(2))))","v":0},null,{"$f":"N38","v":22222},{"$f":"COUNTIF(L153:L181,AS38)","v":0},{"$f":"AT38/(AV4-AT25)","v":0},{"$f":"IF(AU38=0,0,(AU38*((LOG(AU38))/LOG(2))))","v":0}]
[12,4420,13,4425,13,4436,14,4451,13,4455,0,11111,null,null,null,{"$f":"SUM(P7:P38)","v":0.99999999999999989},{"$f":"-SUM(Q7:Q38)","v":1.6442290380079616},null,null,null,null,{"$f":"SUM(V7:V38)","v":0.99999999999999967},{"$f":"-SUM(W7:W38)","v":1.798994003561085},null,null,null,{"$f":"SUM(AA7:AA38)","v":0.99999999999999989},{"$f":"-SUM(AB7:AB38)","v":0.89956763238718529},null,null,null,{"$f":"SUM(AF7:AF38)","v":0.99999999999999989},{"$f":"-SUM(AG7:AG38)","v":1.5052838498690502},null,null,null,{"$f":"SUM(AK7:AK38)","v":1},{"$f":"-SUM(AL7:AL38)","v":1.6610629690783263},null,null,null,{"$f":"SUM(AP7:AP38)","v":0.99999999999999989},{"$f":"-SUM(AQ7:AQ38)","v":0.99456375315144274},null,null,null,{"$f":"SUM(AU7:AU38)","v":0.99999999999999989},{"$f":"-SUM(AV7:AV38)","v":2.0480889847394419}]
[12,4553,13,4559,13,4581,14,4585,13,4598,0,11111,null,null,null,"U=",{"$f":"Q39/(LOG(Q4)/LOG(2))","v":0.22066601164969932},null,null,null,null,"U1=",{"$f":"W39/(LOG(W4)/LOG(2))","v":0.37031721724836492},null,null,null,"U2=",{"$f":"AB39/(LOG(AB4)/LOG(2))","v":0.18517314771083462},null,null,null,"U3=",{"$f":"AG39/(LOG(AG4)/LOG(2))","v":0.30676939306864154},null,null,null,"U4=",{"$f":"AL39/(LOG(AL4)/LOG(2))","v":0.3419245507020981},null,null,null,"U5=",{"$f":"AQ39/(LOG(AQ4)/LOG(2))","v":0.20472779826618595},null,null,null,"U6=",{"$f":"AV39/(LOG(AV4)/LOG(2))","v":0.42159263010572123}]
[12,4698,13,4703,13,4716,14,4727,13,4730,0,11111]
[12,4830,13,4851,13,4854,14,4858,13,4873,0,11111]
[12,4973,13,5002,13,5006,14,5019,13,5037,1,11111,null,"Total Target Seq"]
[12,5134,13,5147,24,5160,14,5166,13,5186,0,11211,null,{"$f":"COUNTIF(L7:L181,G3)","v":0},null,29,29,30,29,29,29]
[12,5294,24,5306,13,5321,14,5325,13,5332,0,12111,null,null,null,"% of reinforcement given in 6 equal intervals based on number of trials "]
[12,5433,24,5442,13,5454,14,5458,13,5463,1,12111,null,null,null,"%_1","%_2","%_3","%_4","%_5","%_6"]
[12,5567,13,5587,13,5598,14,5602,13,5609,0,11111,null,null,"target sequence",{"$f":"$G$3","v":21121},{"$f":"$G$3","v":21121},{"$f":"$G$3","v":21121},{"$f":"$G$3","v":21121},{"$f":"$G$3","v":21121},{"$f":"$G$3","v":21121}]
[12,5707,24,5722,24,5726,23,5730,24,5734,0,12222,null,null,"total reinforcement",{"$f":"U25","v":0},{"$f":"Z25","v":0},{"$f":"AE25","v":0},{"$f":"AJ25","v":0},{"$f":"AO25","v":0},{"$f":"AT25","v":0}]
[12,5833,13,5860,13,5864,14,5868,13,5880,1,11111,null,null,"% target"]
[12,5983,13,5994,13,5998,14,6017,13,6021,0,11111,null,null,"CCRF"]
[12,6122,13,6142,13,6146,14,6149,13,6153,0,11111,null,null,"% CCRf"]
[12,6251,13,6256,13,6267,14,6270,13,6274,0,11111,null,null,"average response rate",{"$f":"J35/P44","v":133.9655172413793},{"$f":"(J64-J35)/Q44","v":136.13793103448276},{"$f":"(J94-J64)/R44","v":133.03333333333333},{"$f":"(J123-J94)/S44","v":133.82758620689654},{"$f":"(J152-J123)/T44","v":134.17241379310346},{"$f":"(J181-J152)/U44","v":151.82758620689654}]
[12,6372,13,6377,13,6389,14,6394,13,6398,0,11111]
[12,6499,13,6520,13,6529,14,6534,13,6543,1,11111]
[12,6646,13,6658,13,6667,14,6671,13,6679,0,11111]
[12,6779,13,6800,13,6807,14,6811,13,6814,0,11111]
[12,6916,24,6927,13,6937,14,6941,13,6945,0,12111]
[12,7043,13,7052,13,7059,14,7062,13,7066,0,11111]
[12,7169,13,7173,13,7186,14,7190,13,7198,0,11111]
[12,7300,13,7314,13,7324,14,7328,13,7332,1,11111]
[12,7428,13,7437,13,7441,14,7445,13,7449,0,11111]
[12,7552,13,7562,13,7573,14,7576,13,7580,0,11111]
[12,7680,13,7684,13,7699,14,7703,13,7706,0,11111]
[12,7805,13,7818,13,7822,14,7829,13,7833,0,11111]
[12,7938,13,7942,13,7946,14,7953,13,7958,0,11111]
[12,8057,13,8065,13,8069,14,8080,13,8085,0,11111]
[12,8185,24,8197,13,8203,14,8207,13,8211,0,12111]
[12,8309,13,8316,13,8328,14,8335,13,8338,0,11111]
[12,8438,13,8442,13,8457,14,8461,13,8464,0,11111]
[12,8563,13,8579,13,8583,14,8587,13,8591,0,11111]
[12,8690,13,8699,13,8720,14,8724,13,8727,1,11111]
[12,8823,13,8836,13,8839,14,8843,13,8847,0,11111]
[12,8949,13,8969,13,8988,14,8993,13,9003,1,11111]
[12,9103,13,9107,13,9111,14,9131,13,9138,0,11111]
[12,9238,24,9257,13,9264,14,9271,13,9275,0,12111]
[12,9375,24,9386,24,9390,23,9396,13,9403,0,12221]
[12,9502,13,9516,13,9520,14,9524,13,9529,0,11111]
[12,9632,13,9654,13,9657,14,9661,13,9665,0,11111]
[12,9765,13,9769,13,9781,14,9784,13,9788,1,11111]
[12,9917,13,9922,13,9929,14,9933,13,9937,0,11111]
[12,10038,24,10048,24,10063,14,10070,13,10074,0,12211]
[12,10176,13,10199,13,10203,14,10207,13,10211,0,11111]
[12,10313,13,10331,13,10339,14,10343,13,10350,0,11111]
[12,10450,24,10469,13,10480,14,10483,13,10491,0,12111]
[12,10591,13,10611,13,10618,14,10622,13,10625,0,11111]
[12,10729,24,10740,13,10755,14,10759,13,10766,1,12111]
[12,10861,13,10867,13,10870,14,10874,13,10878,0,11111]
[12,10980,24,10998,24,11002,23,11006,13,11013,0,12221]
[12,11112,24,11123,24,11126,14,11134,13,11137,0,12211]
[12,11239,13,11261,13,11265,14,11268,13,11276,0,11111]
[12,11375,24,11402,24,11406,23,11410,24,11414,0,12222]
[12,11515,24,11522,13,11539,14,11543,13,11553,0,12111]
[12,11655,13,11664,13,11669,14,11673,13,11686,0,11111]
[12,11783,13,11791,13,11812,14,11820,13,11824,0,11111]
[12,11923,13,11931,13,11935,14,11942,13,11946,0,11111]
[12,12045,13,12059,13,12062,14,12066,13,12070,0,11111]
[12,12172,24,12181,13,12192,14,12196,13,12200,1,12111]
[12,12314,24,12326,24,12330,23,12337,13,12345,1,12221]
[12,12442,13,12458,13,12462,14,12465,13,12470,0,11111]
[12,12591,13,12605,13,12613,14,12624,13,12641,1,11111]
[12,12744,24,12766,24,12769,14,12783,13,12788,0,12211]
[12,12890,24,12913,24,12918,14,12938,13,12942,0,12211]
[12,13042,13,13059,24,13066,23,13070,24,13074,0,11222]
[12,13171,13,13176,13,13180,14,13190,13,13197,1,11111]
[12,13293,13,13311,13,13318,14,13323,13,13327,1,11111]
[12,13420,13,13442,13,13453,14,13457,13,13464,0,11111]
[12,13564,13,13586,13,13593,14,13604,13,13611,0,11111]
[12,13709,13,13729,13,13737,14,13741,13,13754,0,11111]
[12,13854,13,13862,13,13876,14,13880,13,13883,1,11111]
[12,13978,13,13988,13,13992,14,13996,13,14000,0,11111]
[12,14099,24,14112,24,14128,14,14134,13,14137,1,12211]
[12,14243,13,14251,13,14258,14,14263,13,14267,0,11111]
[12,14366,24,14384,24,14388,23,14391,13,14403,1,12221]
[12,14497,13,14501,13,14513,14,14518,13,14522,0,11111]
[12,14628,24,14637,24,14641,23,14645,24,14651,0,12222]
[12,14748,13,14757,13,14766,14,14770,13,14784,0,11111]
[12,14882,13,14890,13,14895,14,14912,13,14916,0,11111]
[12,15016,24,15027,24,15031,14,15045,13,15049,1,12211]
[12,15144,13,15156,13,15164,14,15167,13,15171,1,11111]
[12,15267,13,15283,13,15290,14,15295,13,15305,1,11111]
[12,15400,13,15410,13,15431,14,15436,13,15441,0,11111]
[12,15538,13,15565,13,15569,14,15573,13,15578,0,11111]
[12,15678,24,15686,13,15697,14,15701,13,15705,0,12111]
[12,15802,13,15807,13,15816,14,15820,13,15827,0,11111]
[12,15928,13,15936,13,15946,14,15951,13,15955,0,11111]
[12,16054,13,16059,13,16066,14,16070,13,16075,1,11111]
[12,16169,13,16173,13,16181,14,16185,13,16193,0,11111]
[12,16289,13,16298,13,16310,14,16318,13,16323,0,11111]
[12,16421,13,16426,13,16433,14,16440,13,16444,0,11111]
[12,16541,13,16554,13,16558,14,16563,13,16570,0,11111]
[12,16670,13,16674,13,16688,14,16692,13,16711,0,11111]
[12,16810,24,16818,13,16832,14,16840,13,16844,0,12111]
[12,16943,13,16959,13,16970,14,16974,13,16988,0,11111]
[12,17090,24,17098,24,17104,14,17116,13,17124,1,12211]
[12,17221,13,17229,13,17245,14,17250,13,17254,0,11111]
[12,17353,13,17367,13,17375,14,17378,13,17387,0,11111]
[12,17484,13,17500,13,17504,14,17508,13,17521,0,11111]
[12,17620,13,17642,13,17646,14,17650,13,17657,0,11111]
[12,17757,13,17775,13,17779,14,17783,13,17791,0,11111]
[12,17889,13,17912,13,17916,14,17920,13,17926,0,11111]
[12,18029,13,18034,13,18038,14,18045,13,18049,0,11111]
[12,18175,13,18180,13,18185,14,18190,13,18196,0,11111]
[12,18300,24,18311,24,18315,14,18322,13,18331,1,12211]
[12,18436,13,18440,13,18459,14,18463,13,18467,0,11111]
[12,18579,24,18588,24,18595,23,18603,13,18611,0,12221]
[12,18711,13,18740,13,18744,14,18755,13,18760,0,11111]
[12,18862,13,18887,13,18891,14,18899,13,18903,0,11111]
[12,19004,13,19025,13,19030,14,19037,13,19041,0,11111]
[12,19142,13,19170,13,19174,14,19178,13,19182,0,11111]
[12,19282,13,19305,13,19313,14,19320,13,19327,0,11111]
[12,19426,13,19431,13,19452,14,19456,13,19463,0,11111]
[12,19561,24,19571,24,19582,23,19589,24,19596,0,12222]
[12,19695,13,19703,13,19717,14,19729,13,19733,1,11111]
[12,19905,13,19920,24,19948,23,19952,24,19957,0,11222]
[12,20054,24,20080,13,20093,14,20101,13,20105,0,12111]
[12,20204,13,20213,13,20218,14,20228,13,20232,1,11111]
[12,20419,24,20435,13,20445,14,20453,13,20460,0,12111]
[12,20560,24,20583,24,20591,23,20597,24,20611,0,12222]
[12,20710,24,20730,24,20736,23,20743,13,20759,0,12221]
[12,20861,24,20872,13,20898,14,20903,13,20910,0,12111]
[12,21012,13,21042,13,21046,14,21052,13,21059,0,11111]
[12,21160,24,21189,24,21193,14,21206,13,21210,0,12211]
[12,21310,13,21321,13,21325,14,21333,13,21337,0,11111]
[12,21438,13,21468,13,21472,14,21476,13,21484,0,11111]
[12,21583,13,21617,13,21621,14,21625,13,21630,0,11111]
[12,21730,13,21741,13,21763,14,21771,13,21781,1,11111]
[12,21878,24,21908,13,21920,14,21923,13,21927,0,12111]
[12,22030,13,22062,13,22066,14,22070,13,22074,0,11111]
[12,22176,13,22186,13,22207,14,22211,13,22215,1,11111]
[12,22345,13,22352,13,22355,14,22360,13,22377,0,11111]
[12,22489,13,22495,24,22529,14,22545,13,22550,0,11211]
[12,22652,13,22670,13,22687,14,22707,13,22711,0,11111]
[12,22813,13,22829,13,22869,14,22873,13,22877,1,11111]
[12,22976,13,23005,13,23016,14,23033,13,23037,0,11111]
[12,23137,13,23147,13,23152,23,23162,24,23166,0,11122]
[12,23272,24,23285,24,23292,23,23297,13,23305,1,12221]
[12,23419,13,23427,13,23431,14,23439,13,23443,0,11111]
[12,23544,13,23562,13,23583,14,23591,13,23599,0,11111]
[12,23700,24,23723,24,23728,14,23740,13,23744,0,12211]
[12,23843,13,23859,13,23863,14,23866,13,23871,0,11111]
[12,23969,13,23978,13,23988,14,23995,13,23999,null,11111]

{"sheet":"!N423B00.096","index":29,"n_rows":178,"n_cols":48,"rows_kept":178,"cut":false,"hidden":false,"merged":[[4,39,4,42],[5,39,5,40],[4,44,4,47],[5,44,5,45],[4,24,4,27],[5,24,5,25],[4,29,4,32],[5,29,5,30],[4,34,4,37],[5,34,5,35],[1,1,1,2],[5,13,5,14],[42,13,42,14],[43,13,43,14],[4,19,4,22],[5,19,5,20]]}
["Report for:!N423B00.096"]
["Date:","<date>"]
["Hen:","<hen>",null,null,null,"Correct Sequence",{"$f":"Start!J2","v":21121},null,null,null,null,null,null,null,null,"Total Sequences in Data",{"$f":"4994-COUNTBLANK(L7:L5000)","v":172},null,null,null,null,"Total Sequences in Block Data",{"$f":"COUNTA(L7:L35)","v":29},null,null,null,"Total Sequences in Block Data",{"$f":"COUNTA(L36:L63)","v":28},null,null,null,"Total Sequences in Block Data",{"$f":"COUNTA(L64:L92)","v":29},null,null,null,"Total Sequences in Block Data",{"$f":"COUNTA(L93:L121)","v":29},null,null,null,"Total Sequences in Block Data",{"$f":"COUNTA(L122:L149)","v":28},null,null,null,"Total Sequences in Block Data",{"$f":"COUNTA(L150:L178)","v":29}]
[null,null,null,null,null,null,null,null,null,null,null,null,null,null,null,"Total Sequences in Summary",{"$f":"SUM(O7:O38)","v":171},null,null,null,null,"Total Sequences in Block Summary",{"$f":"SUM(U7:U38)","v":29},null,null,null,"Total Sequences in Block Summary",{"$f":"SUM(Z7:Z38)","v":28},null,null,null,"Total Sequences in Block Summary",{"$f":"SUM(AE7:AE38)","v":29},null,null,null,"Total Sequences in Block Summary",{"$f":"SUM(AJ7:AJ38)","v":29},null,null,null,"Total Sequences in Block Summary",{"$f":"SUM(AO7:AO38)","v":28},null,null,null,"Total Sequences in Block Summary",{"$f":"SUM(AT7:AT38)","v":28}]
[null,null,null,null,null,null,null,null,null,null,null,null,null,null,null,null,null,null,null,"Block 1",null,null,null,null,"Block 2",null,null,null,null,"Block 3",null,null,null,null,"Block 4",null,null,null,null,"Block 5",null,null,null,null,"Block 6"]
["Sequence\nComponent\n1","Time\n1","Sequence\nComponent\n2","Time\n2","Sequence\nComponent\n3","Time\n3","Sequence\nComponent\n4","Time\n4","Sequence\nComponent\n5","Time\n5","Correct?\n0=No 1=Yes","Sequence",null,"Frequency",null,"Relative Frequency","Variability",null,null,"Frequency",null,"Relative Frequency","Variability",null,"Frequency",null,"Relative Frequency","Variability",null,"Frequency",null,"Relative Frequency","Variability",null,"Frequency",null,"Relative Frequency","Variability",null,"Frequency",null,"Relative Frequency","Variability",null,"Frequency",null,"Relative Frequency","Variability"]
[21,15,22,21,24,25,23,30,13,40,0,22221,null,11111,{"$f":"COUNTIF($L$7:$L$500,N7)","v":105},{"$f":"O7/$Q$4","v":0.61403508771929827},{"$f":"IF(P7=0,0,(P7*((LOG(P7))/LOG(2))))","v":-0.43203938425775668},null,null,{"$f":"N7","v":11111},{"$f":"COUNTIF(L7:L35,T7)","v":1},{"$f":"U7/(W4-U25)","v":3.4482758620689655E-2},{"$f":"IF(V7=0,0,(V7*((LOG(V7))/LOG(2))))","v":-0.16751658603888178},null,{"$f":"N7","v":11111},{"$f":"COUNTIF(L36:L63,Y7)","v":6},{"$f":"Z7/(AB4-Z25)","v":0.21428571428571427},{"$f":"IF(AA7=0,0,(AA7*((LOG(AA7))/LOG(2))))","v":-0.47622694742923877},null,{"$f":"N7","v":11111},{"$f":"COUNTIF(L64:L92,AD7)","v":20},{"$f":"AE7/(AG4-AE25)","v":0.68965517241379315},{"$f":"IF(AF7=0,0,(AF7*((LOG(AF7))/LOG(2))))","v":-0.36969165533807569},null,{"$f":"N7","v":11111},{"$f":"COUNTIF(L93:L121,AI7)","v":26},{"$f":"AJ7/(AL4-AJ25)","v":0.89655172413793105},{"$f":"IF(AK7=0,0,(AK7*((LOG(AK7))/LOG(2))))","v":-0.14124390350511995},null,{"$f":"N7","v":11111},{"$f":"COUNTIF(L122:L149,AN7)","v":27},{"$f":"AO7/(AQ4-AO25)","v":0.9642857142857143},{"$f":"IF(AP7=0,0,(AP7*((LOG(AP7))/LOG(2))))","v":-5.0593583469344984E-2},null,{"$f":"N7","v":11111},{"$f":"COUNTIF(L150:L178,AS7)","v":25},{"$f":"AT7/(AV4-AT25)","v":0.8928571428571429},{"$f":"IF(AU7=0,0,(AU7*((LOG(AU7))/LOG(2))))","v":-0.14598101096685656}]
[12,137,13,142,24,151,23,155,24,158,0,11222,null,11112,{"$f":"COUNTIF($L$7:$L$500,N8)","v":1},{"$f":"O8/$Q$4","v":5.8479532163742687E-3},{"$f":"IF(P8=0,0,(P8*((LOG(P8))/LOG(2))))","v":-4.3379254473016944E-2},null,null,{"$f":"N8","v":11112},{"$f":"COUNTIF(L7:L35,T8)","v":1},{"$f":"U8/(W4-U25)","v":3.4482758620689655E-2},{"$f":"IF(V8=0,0,(V8*((LOG(V8))/LOG(2))))","v":-0.16751658603888178},null,{"$f":"N8","v":11112},{"$f":"COUNTIF(L36:L63,Y8)","v":0},{"$f":"Z8/(AB4-Z25)","v":0},{"$f":"IF(AA8=0,0,(AA8*((LOG(AA8))/LOG(2))))","v":0},null,{"$f":"N8","v":11112},{"$f":"COUNTIF(L64:L92,AD8)","v":0},{"$f":"AE8/(AG4-AE25)","v":0},{"$f":"IF(AF8=0,0,(AF8*((LOG(AF8))/LOG(2))))","v":0},null,{"$f":"N8","v":11112},{"$f":"COUNTIF(L93:L121,AI8)","v":0},{"$f":"AJ8/(AL4-AJ25)","v":0},{"$f":"IF(AK8=0,0,(AK8*((LOG(AK8))/LOG(2))))","v":0},null,{"$f":"N8","v":11112},{"$f":"COUNTIF(L122:L149,AN8)","v":0},{"$f":"AO8/(AQ4-AO25)","v":0},{"$f":"IF(AP8=0,0,(AP8*((LOG(AP8))/LOG(2))))","v":0},null,{"$f":"N8","v":11112},{"$f":"COUNTIF(L150:L178,AS8)","v":0},{"$f":"AT8/(AV4-AT25)","v":0},{"$f":"IF(AU8=0,0,(AU8*((LOG(AU8))/LOG(2))))","v":0}]
[12,257,13,262,24,270,23,274,24,278,0,11222,null,11121,{"$f":"COUNTIF($L$7:$L$500,N9)","v":3},{"$f":"O9/$Q$4","v":1.7543859649122806E-2},{"$f":"IF(P9=0,0,(P9*((LOG(P9))/LOG(2))))","v":-0.10233140375727617},null,null,{"$f":"N9","v":11121},{"$f":"COUNTIF(L7:L35,T9)","v":1},{"$f":"U9/(W4-U25)","v":3.4482758620689655E-2},{"$f":"IF(V9=0,0,(V9*((LOG(V9))/LOG(2))))","v":-0.16751658603888178},null,{"$f":"N9","v":11121},{"$f":"COUNTIF(L36:L63,Y9)","v":2},{"$f":"Z9/(AB4-Z25)","v":7.1428571428571425E-2},{"$f":"IF(AA9=0,0,(AA9*((LOG(AA9))/LOG(2))))","v":-0.27195392300411453},null,{"$f":"N9","v":11121},{"$f":"COUNTIF(L64:L92,AD9)","v":0},{"$f":"AE9/(AG4-AE25)","v":0},{"$f":"IF(AF9=0,0,(AF9*((LOG(AF9))/LOG(2))))","v":0},null,{"$f":"N9","v":11121},{"$f":"COUNTIF(L93:L121,AI9)","v":0},{"$f":"AJ9/(AL4-AJ25)","v":0},{"$f":"IF(AK9=0,0,(AK9*((LOG(AK9))/LOG(2))))","v":0},null,{"$f":"N9","v":11121},{"$f":"COUNTIF(L122:L149,AN9)","v":0},{"$f":"AO9/(AQ4-AO25)","v":0},{"$f":"IF(AP9=0,0,(AP9*((LOG(AP9))/LOG(2))))","v":0},null,{"$f":"N9","v":11121},{"$f":"COUNTIF(L150:L178,AS9)","v":0},{"$f":"AT9/(AV4-AT25)","v":0},{"$f":"IF(AU9=0,0,(AU9*((LOG(AU9))/LOG(2))))","v":0}]
[12,374,24,385,24,389,23,393,24,397,1,12222,null,11122,{"$f":"COUNTIF($L$7:$L$500,N10)","v":1},{"$f":"O10/$Q$4","v":5.8479532163742687E-3},{"$f":"IF(P10=0,0,(P10*((LOG(P10))/LOG(2))))","v":-4.3379254473016944E-2},null,null,{"$f":"N10","v":11122},{"$f":"COUNTIF(L7:L35,T10)","v":1},{"$f":"U10/(W4-U25)","v":3.4482758620689655E-2},{"$f":"IF(V10=0,0,(V10*((LOG(V10))/LOG(2))))","v":-0.16751658603888178},null,{"$f":"N10","v":11122},{"$f":"COUNTIF(L36:L63,Y10)","v":0},{"$f":"Z10/(AB4-Z25)","v":0},{"$f":"IF(AA10=0,0,(AA10*((LOG(AA10))/LOG(2))))","v":0},null,{"$f":"N10","v":11122},{"$f":"COUNTIF(L64:L92,AD10)","v":0},{"$f":"AE10/(AG4-AE25)","v":0},{"$f":"IF(AF10=0,0,(AF10*((LOG(AF10))/LOG(2))))","v":0},null,{"$f":"N10","v":11122},{"$f":"COUNTIF(L93:L121,AI10)","v":0},{"$f":"AJ10/(AL4-AJ25)","v":0},{"$f":"IF(AK10=0,0,(AK10*((LOG(AK10))/LOG(2))))","v":0},null,{"$f":"N10","v":11122},{"$f":"COUNTIF(L122:L149,AN10)","v":0},{"$f":"AO10/(AQ4-AO25)","v":0},{"$f":"IF(AP10=0,0,(AP10*((LOG(AP10))/LOG(2))))","v":0},null,{"$f":"N10","v":11122},{"$f":"COUNTIF(L150:L178,AS10)","v":0},{"$f":"AT10/(AV4-AT25)","v":0},{"$f":"IF(AU10=0,0,(AU10*((LOG(AU10))/LOG(2))))","v":0}]
[12,495,13,500,13,504,23,516,24,521,0,11122,null,11211,{"$f":"COUNTIF($L$7:$L$500,N11)","v":5},{"$f":"O11/$Q$4","v":2.9239766081871343E-2},{"$f":"IF(P11=0,0,(P11*((LOG(P11))/LOG(2))))","v":-0.14900363801165309},null,null,{"$f":"N11","v":11211},{"$f":"COUNTIF(L7:L35,T11)","v":1},{"$f":"U11/(W4-U25)","v":3.4482758620689655E-2},{"$f":"IF(V11=0,0,(V11*((LOG(V11))/LOG(2))))","v":-0.16751658603888178},null,{"$f":"N11","v":11211},{"$f":"COUNTIF(L36:L63,Y11)","v":3},{"$f":"Z11/(AB4-Z25)","v":0.10714285714285714},{"$f":"IF(AA11=0,0,(AA11*((LOG(AA11))/LOG(2))))","v":-0.34525633085747659},null,{"$f":"N11","v":11211},{"$f":"COUNTIF(L64:L92,AD11)","v":0},{"$f":"AE11/(AG4-AE25)","v":0},{"$f":"IF(AF11=0,0,(AF11*((LOG(AF11))/LOG(2))))","v":0},null,{"$f":"N11","v":11211},{"$f":"COUNTIF(L93:L121,AI11)","v":0},{"$f":"AJ11/(AL4-AJ25)","v":0},{"$f":"IF(AK11=0,0,(AK11*((LOG(AK11))/LOG(2))))","v":0},null,{"$f":"N11","v":11211},{"$f":"COUNTIF(L122:L149,AN11)","v":0},{"$f":"AO11/(AQ4-AO25)","v":0},{"$f":"IF(AP11=0,0,(AP11*((LOG(AP11))/LOG(2))))","v":0},null,{"$f":"N11","v":11211},{"$f":"COUNTIF(L150:L178,AS11)","v":1},{"$f":"AT11/(AV4-AT25)","v":3.5714285714285712E-2},{"$f":"IF(AU11=0,0,(AU11*((LOG(AU11))/LOG(2))))","v":-0.17169124721634299}]
[12,623,24,634,24,640,23,643,13,653,0,12221,null,11212,{"$f":"COUNTIF($L$7:$L$500,N12)","v":0},{"$f":"O12/$Q$4","v":0},{"$f":"IF(P12=0,0,(P12*((LOG(P12))/LOG(2))))","v":0},null,null,{"$f":"N12","v":11212},{"$f":"COUNTIF(L7:L35,T12)","v":0},{"$f":"U12/(W4-U25)","v":0},{"$f":"IF(V12=0,0,(V12*((LOG(V12))/LOG(2))))","v":0},null,{"$f":"N12","v":11212},{"$f":"COUNTIF(L36:L63,Y12)","v":0},{"$f":"Z12/(AB4-Z25)","v":0},{"$f":"IF(AA12=0,0,(AA12*((LOG(AA12))/LOG(2))))","v":0},null,{"$f":"N12","v":11212},{"$f":"COUNTIF(L64:L92,AD12)","v":0},{"$f":"AE12/(AG4-AE25)","v":0},{"$f":"IF(AF12=0,0,(AF12*((LOG(AF12))/LOG(2))))","v":0},null,{"$f":"N12","v":11212},{"$f":"COUNTIF(L93:L121,AI12)","v":0},{"$f":"AJ12/(AL4-AJ25)","v":0},{"$f":"IF(AK12=0,0,(AK12*((LOG(AK12))/LOG(2))))","v":0},null,{"$f":"N12","v":11212},{"$f":"COUNTIF(L122:L149,AN12)","v":0},{"$f":"AO12/(AQ4-AO25)","v":0},{"$f":"IF(AP12=0,0,(AP12*((LOG(AP12))/LOG(2))))","v":0},null,{"$f":"N12","v":11212},{"$f":"COUNTIF(L150:L178,AS12)","v":0},{"$f":"AT12/(AV4-AT25)","v":0},{"$f":"IF(AU12=0,0,(AU12*((LOG(AU12))/LOG(2))))","v":0}]
[12,752,24,760,24,765,23,768,24,772,0,12222,null,11221,{"$f":"COUNTIF($L$7:$L$500,N13)","v":6},{"$f":"O13/$Q$4","v":3.5087719298245612E-2},{"$f":"IF(P13=0,0,(P13*((LOG(P13))/LOG(2))))","v":-0.16957508821630671},null,null,{"$f":"N13","v":11221},{"$f":"COUNTIF(L7:L35,T13)","v":2},{"$f":"U13/(W4-U25)","v":6.8965517241379309E-2},{"$f":"IF(V13=0,0,(V13*((LOG(V13))/LOG(2))))","v":-0.26606765483638428},null,{"$f":"N13","v":11221},{"$f":"COUNTIF(L36:L63,Y13)","v":2},{"$f":"Z13/(AB4-Z25)","v":7.1428571428571425E-2},{"$f":"IF(AA13=0,0,(AA13*((LOG(AA13))/LOG(2))))","v":-0.27195392300411453},null,{"$f":"N13","v":11221},{"$f":"COUNTIF(L64:L92,AD13)","v":0},{"$f":"AE13/(AG4-AE25)","v":0},{"$f":"IF(AF13=0,0,(AF13*((LOG(AF13))/LOG(2))))","v":0},null,{"$f":"N13","v":11221},{"$f":"COUNTIF(L93:L121,AI13)","v":2},{"$f":"AJ13/(AL4-AJ25)","v":6.8965517241379309E-2},{"$f":"IF(AK13=0,0,(AK13*((LOG(AK13))/LOG(2))))","v":-0.26606765483638428},null,{"$f":"N13","v":11221},{"$f":"COUNTIF(L122:L149,AN13)","v":0},{"$f":"AO13/(AQ4-AO25)","v":0},{"$f":"IF(AP13=0,0,(AP13*((LOG(AP13))/LOG(2))))","v":0},null,{"$f":"N13","v":11221},{"$f":"COUNTIF(L150:L178,AS13)","v":0},{"$f":"AT13/(AV4-AT25)","v":0},{"$f":"IF(AU13=0,0,(AU13*((LOG(AU13))/LOG(2))))","v":0}]
[12,868,13,872,13,882,14,894,24,907,0,11112,null,11222,{"$f":"COUNTIF($L$7:$L$500,N14)","v":9},{"$f":"O14/$Q$4","v":5.2631578947368418E-2},{"$f":"IF(P14=0,0,(P14*((LOG(P14))/LOG(2))))","v":-0.22357513228650452},null,null,{"$f":"N14","v":11222},{"$f":"COUNTIF(L7:L35,T14)","v":3},{"$f":"U14/(W4-U25)","v":0.10344827586206896},{"$f":"IF(V14=0,0,(V14*((LOG(V14))/LOG(2))))","v":-0.33858812011100858},null,{"$f":"N14","v":11222},{"$f":"COUNTIF(L36:L63,Y14)","v":3},{"$f":"Z14/(AB4-Z25)","v":0.10714285714285714},{"$f":"IF(AA14=0,0,(AA14*((LOG(AA14))/LOG(2))))","v":-0.34525633085747659},null,{"$f":"N14","v":11222},{"$f":"COUNTIF(L64:L92,AD14)","v":1},{"$f":"AE14/(AG4-AE25)","v":3.4482758620689655E-2},{"$f":"IF(AF14=0,0,(AF14*((LOG(AF14))/LOG(2))))","v":-0.16751658603888178},null,{"$f":"N14","v":11222},{"$f":"COUNTIF(L93:L121,AI14)","v":1},{"$f":"AJ14/(AL4-AJ25)","v":3.4482758620689655E-2},{"$f":"IF(AK14=0,0,(AK14*((LOG(AK14))/LOG(2))))","v":-0.16751658603888178},null,{"$f":"N14","v":11222},{"$f":"COUNTIF(L122:L149,AN14)","v":0},{"$f":"AO14/(AQ4-AO25)","v":0},{"$f":"IF(AP14=0,0,(AP14*((LOG(AP14))/LOG(2))))","v":0},null,{"$f":"N14","v":11222},{"$f":"COUNTIF(L150:L178,AS14)","v":1},{"$f":"AT14/(AV4-AT25)","v":3.5714285714285712E-2},{"$f":"IF(AU14=0,0,(AU14*((LOG(AU14))/LOG(2))))","v":-0.17169124721634299}]
[12,1006,13,1010,24,1020,23,1023,13,1033,0,11221,null,12111,{"$f":"COUNTIF($L$7:$L$500,N15)","v":15},{"$f":"O15/$Q$4","v":8.771929824561403E-2},{"$f":"IF(P15=0,0,(P15*((LOG(P15))/LOG(2))))","v":-0.30797911572608588},null,null,{"$f":"N15","v":12111},{"$f":"COUNTIF(L7:L35,T15)","v":4},{"$f":"U15/(W4-U25)","v":0.13793103448275862},{"$f":"IF(V15=0,0,(V15*((LOG(V15))/LOG(2))))","v":-0.39420427519000989},null,{"$f":"N15","v":12111},{"$f":"COUNTIF(L36:L63,Y15)","v":4},{"$f":"Z15/(AB4-Z25)","v":0.14285714285714285},{"$f":"IF(AA15=0,0,(AA15*((LOG(AA15))/LOG(2))))","v":-0.40105070315108626},null,{"$f":"N15","v":12111},{"$f":"COUNTIF(L64:L92,AD15)","v":5},{"$f":"AE15/(AG4-AE25)","v":0.17241379310344829},{"$f":"IF(AF15=0,0,(AF15*((LOG(AF15))/LOG(2))))","v":-0.43725050004141547},null,{"$f":"N15","v":12111},{"$f":"COUNTIF(L93:L121,AI15)","v":0},{"$f":"AJ15/(AL4-AJ25)","v":0},{"$f":"IF(AK15=0,0,(AK15*((LOG(AK15))/LOG(2))))","v":0},null,{"$f":"N15","v":12111},{"$f":"COUNTIF(L122:L149,AN15)","v":1},{"$f":"AO15/(AQ4-AO25)","v":3.5714285714285712E-2},{"$f":"IF(AP15=0,0,(AP15*((LOG(AP15))/LOG(2))))","v":-0.17169124721634299},null,{"$f":"N15","v":12111},{"$f":"COUNTIF(L150:L178,AS15)","v":1},{"$f":"AT15/(AV4-AT25)","v":3.5714285714285712E-2},{"$f":"IF(AU15=0,0,(AU15*((LOG(AU15))/LOG(2))))","v":-0.17169124721634299}]
[12,1134,13,1138,24,1149,23,1152,24,1156,1,11222,null,12112,{"$f":"COUNTIF($L$7:$L$500,N16)","v":0},{"$f":"O16/$Q$4","v":0},{"$f":"IF(P16=0,0,(P16*((LOG(P16))/LOG(2))))","v":0},null,null,{"$f":"N16","v":12112},{"$f":"COUNTIF(L7:L35,T16)","v":0},{"$f":"U16/(W4-U25)","v":0},{"$f":"IF(V16=0,0,(V16*((LOG(V16))/LOG(2))))","v":0},null,{"$f":"N16","v":12112},{"$f":"COUNTIF(L36:L63,Y16)","v":0},{"$f":"Z16/(AB4-Z25)","v":0},{"$f":"IF(AA16=0,0,(AA16*((LOG(AA16))/LOG(2))))","v":0},null,{"$f":"N16","v":12112},{"$f":"COUNTIF(L64:L92,AD16)","v":0},{"$f":"AE16/(AG4-AE25)","v":0},{"$f":"IF(AF16=0,0,(AF16*((LOG(AF16))/LOG(2))))","v":0},null,{"$f":"N16","v":12112},{"$f":"COUNTIF(L93:L121,AI16)","v":0},{"$f":"AJ16/(AL4-AJ25)","v":0},{"$f":"IF(AK16=0,0,(AK16*((LOG(AK16))/LOG(2))))","v":0},null,{"$f":"N16","v":12112},{"$f":"COUNTIF(L122:L149,AN16)","v":0},{"$f":"AO16/(AQ4-AO25)","v":0},{"$f":"IF(AP16=0,0,(AP16*((LOG(AP16))/LOG(2))))","v":0},null,{"$f":"N16","v":12112},{"$f":"COUNTIF(L150:L178,AS16)","v":0},{"$f":"AT16/(AV4-AT25)","v":0},{"$f":"IF(AU16=0,0,(AU16*((LOG(AU16))/LOG(2))))","v":0}]
[12,1252,13,1256,13,1260,23,1271,13,1284,0,11121,null,12121,{"$f":"COUNTIF($L$7:$L$500,N17)","v":0},{"$f":"O17/$Q$4","v":0},{"$f":"IF(P17=0,0,(P17*((LOG(P17))/LOG(2))))","v":0},null,null,{"$f":"N17","v":12121},{"$f":"COUNTIF(L7:L35,T17)","v":0},{"$f":"U17/(W4-U25)","v":0},{"$f":"IF(V17=0,0,(V17*((LOG(V17))/LOG(2))))","v":0},null,{"$f":"N17","v":12121},{"$f":"COUNTIF(L36:L63,Y17)","v":0},{"$f":"Z17/(AB4-Z25)","v":0},{"$f":"IF(AA17=0,0,(AA17*((LOG(AA17))/LOG(2))))","v":0},null,{"$f":"N17","v":12121},{"$f":"COUNTIF(L64:L92,AD17)","v":0},{"$f":"AE17/(AG4-AE25)","v":0},{"$f":"IF(AF17=0,0,(AF17*((LOG(AF17))/LOG(2))))","v":0},null,{"$f":"N17","v":12121},{"$f":"COUNTIF(L93:L121,AI17)","v":0},{"$f":"AJ17/(AL4-AJ25)","v":0},{"$f":"IF(AK17=0,0,(AK17*((LOG(AK17))/LOG(2))))","v":0},null,{"$f":"N17","v":12121},{"$f":"COUNTIF(L122:L149,AN17)","v":0},{"$f":"AO17/(AQ4-AO25)","v":0},{"$f":"IF(AP17=0,0,(AP17*((LOG(AP17))/LOG(2))))","v":0},null,{"$f":"N17","v":12121},{"$f":"COUNTIF(L150:L178,AS17)","v":0},{"$f":"AT17/(AV4-AT25)","v":0},{"$f":"IF(AU17=0,0,(AU17*((LOG(AU17))/LOG(2))))","v":0}]
[12,1385,24,1395,13,1403,14,1418,13,1433,0,12111,null,12122,{"$f":"COUNTIF($L$7:$L$500,N18)","v":0},{"$f":"O18/$Q$4","v":0},{"$f":"IF(P18=0,0,(P18*((LOG(P18))/LOG(2))))","v":0},null,null,{"$f":"N18","v":12122},{"$f":"COUNTIF(L7:L35,T18)","v":0},{"$f":"U18/(W4-U25)","v":0},{"$f":"IF(V18=0,0,(V18*((LOG(V18))/LOG(2))))","v":0},null,{"$f":"N18","v":12122},{"$f":"COUNTIF(L36:L63,Y18)","v":0},{"$f":"Z18/(AB4-Z25)","v":0},{"$f":"IF(AA18=0,0,(AA18*((LOG(AA18))/LOG(2))))","v":0},null,{"$f":"N18","v":12122},{"$f":"COUNTIF(L64:L92,AD18)","v":0},{"$f":"AE18/(AG4-AE25)","v":0},{"$f":"IF(AF18=0,0,(AF18*((LOG(AF18))/LOG(2))))","v":0},null,{"$f":"N18","v":12122},{"$f":"COUNTIF(L93:L121,AI18)","v":0},{"$f":"AJ18/(AL4-AJ25)","v":0},{"$f":"IF(AK18=0,0,(AK18*((LOG(AK18))/LOG(2))))","v":0},null,{"$f":"N18","v":12122},{"$f":"COUNTIF(L122:L149,AN18)","v":0},{"$f":"AO18/(AQ4-AO25)","v":0},{"$f":"IF(AP18=0,0,(AP18*((LOG(AP18))/LOG(2))))","v":0},null,{"$f":"N18","v":12122},{"$f":"COUNTIF(L150:L178,AS18)","v":0},{"$f":"AT18/(AV4-AT25)","v":0},{"$f":"IF(AU18=0,0,(AU18*((LOG(AU18))/LOG(2))))","v":0}]
[12,1535,13,1540,24,1548,23,1552,13,1563,0,11221,null,12211,{"$f":"COUNTIF($L$7:$L$500,N19)","v":8},{"$f":"O19/$Q$4","v":4.6783625730994149E-2},{"$f":"IF(P19=0,0,(P19*((LOG(P19))/LOG(2))))","v":-0.20668315859115313},null,null,{"$f":"N19","v":12211},{"$f":"COUNTIF(L7:L35,T19)","v":1},{"$f":"U19/(W4-U25)","v":3.4482758620689655E-2},{"$f":"IF(V19=0,0,(V19*((LOG(V19))/LOG(2))))","v":-0.16751658603888178},null,{"$f":"N19","v":12211},{"$f":"COUNTIF(L36:L63,Y19)","v":6},{"$f":"Z19/(AB4-Z25)","v":0.21428571428571427},{"$f":"IF(AA19=0,0,(AA19*((LOG(AA19))/LOG(2))))","v":-0.47622694742923877},null,{"$f":"N19","v":12211},{"$f":"COUNTIF(L64:L92,AD19)","v":1},{"$f":"AE19/(AG4-AE25)","v":3.4482758620689655E-2},{"$f":"IF(AF19=0,0,(AF19*((LOG(AF19))/LOG(2))))","v":-0.16751658603888178},null,{"$f":"N19","v":12211},{"$f":"COUNTIF(L93:L121,AI19)","v":0},{"$f":"AJ19/(AL4-AJ25)","v":0},{"$f":"IF(AK19=0,0,(AK19*((LOG(AK19))/LOG(2))))","v":0},null,{"$f":"N19","v":12211},{"$f":"COUNTIF(L122:L149,AN19)","v":0},{"$f":"AO19/(AQ4-AO25)","v":0},{"$f":"IF(AP19=0,0,(AP19*((LOG(AP19))/LOG(2))))","v":0},null,{"$f":"N19","v":12211},{"$f":"COUNTIF(L150:L178,AS19)","v":0},{"$f":"AT19/(AV4-AT25)","v":0},{"$f":"IF(AU19=0,0,(AU19*((LOG(AU19))/LOG(2))))","v":0}]
[12,1666,24,1674,24,1678,23,1682,24,1685,0,12222,null,12212,{"$f":"COUNTIF($L$7:$L$500,N20)","v":0},{"$f":"O20/$Q$4","v":0},{"$f":"IF(P20=0,0,(P20*((LOG(P20))/LOG(2))))","v":0},null,null,{"$f":"N20","v":12212},{"$f":"COUNTIF(L7:L35,T20)","v":0},{"$f":"U20/(W4-U25)","v":0},{"$f":"IF(V20=0,0,(V20*((LOG(V20))/LOG(2))))","v":0},null,{"$f":"N20","v":12212},{"$f":"COUNTIF(L36:L63,Y20)","v":0},{"$f":"Z20/(AB4-Z25)","v":0},{"$f":"IF(AA20=0,0,(AA20*((LOG(AA20))/LOG(2))))","v":0},null,{"$f":"N20","v":12212},{"$f":"COUNTIF(L64:L92,AD20)","v":0},{"$f":"AE20/(AG4-AE25)","v":0},{"$f":"IF(AF20=0,0,(AF20*((LOG(AF20))/LOG(2))))","v":0},null,{"$f":"N20","v":12212},{"$f":"COUNTIF(L93:L121,AI20)","v":0},{"$f":"AJ20/(AL4-AJ25)","v":0},{"$f":"IF(AK20=0,0,(AK20*((LOG(AK20))/LOG(2))))","v":0},null,{"$f":"N20","v":12212},{"$f":"COUNTIF(L122:L149,AN20)","v":0},{"$f":"AO20/(AQ4-AO25)","v":0},{"$f":"IF(AP20=0,0,(AP20*((LOG(AP20))/LOG(2))))","v":0},null,{"$f":"N20","v":12212},{"$f":"COUNTIF(L150:L178,AS20)","v":0},{"$f":"AT20/(AV4-AT25)","v":0},{"$f":"IF(AU20=0,0,(AU20*((LOG(AU20))/LOG(2))))","v":0}]
[21,1798,22,1802,24,1808,23,1812,13,1822,0,22221,null,12221,{"$f":"COUNTIF($L$7:$L$500,N21)","v":4},{"$f":"O21/$Q$4","v":2.3391812865497075E-2},{"$f":"IF(P21=0,0,(P21*((LOG(P21))/LOG(2))))","v":-0.12673339216107363},null,null,{"$f":"N21","v":12221},{"$f":"COUNTIF(L7:L35,T21)","v":3},{"$f":"U21/(W4-U25)","v":0.10344827586206896},{"$f":"IF(V21=0,0,(V21*((LOG(V21))/LOG(2))))","v":-0.33858812011100858},null,{"$f":"N21","v":12221},{"$f":"COUNTIF(L36:L63,Y21)","v":1},{"$f":"Z21/(AB4-Z25)","v":3.5714285714285712E-2},{"$f":"IF(AA21=0,0,(AA21*((LOG(AA21))/LOG(2))))","v":-0.17169124721634299},null,{"$f":"N21","v":12221},{"$f":"COUNTIF(L64:L92,AD21)","v":0},{"$f":"AE21/(AG4-AE25)","v":0},{"$f":"IF(AF21=0,0,(AF21*((LOG(AF21))/LOG(2))))","v":0},null,{"$f":"N21","v":12221},{"$f":"COUNTIF(L93:L121,AI21)","v":0},{"$f":"AJ21/(AL4-AJ25)","v":0},{"$f":"IF(AK21=0,0,(AK21*((LOG(AK21))/LOG(2))))","v":0},null,{"$f":"N21","v":12221},{"$f":"COUNTIF(L122:L149,AN21)","v":0},{"$f":"AO21/(AQ4-AO25)","v":0},{"$f":"IF(AP21=0,0,(AP21*((LOG(AP21))/LOG(2))))","v":0},null,{"$f":"N21","v":12221},{"$f":"COUNTIF(L150:L178,AS21)","v":0},{"$f":"AT21/(AV4-AT25)","v":0},{"$f":"IF(AU21=0,0,(AU21*((LOG(AU21))/LOG(2))))","v":0}]
[12,1921,24,1930,24,1934,23,1938,24,1944,0,12222,null,12222,{"$f":"COUNTIF($L$7:$L$500,N22)","v":8},{"$f":"O22/$Q$4","v":4.6783625730994149E-2},{"$f":"IF(P22=0,0,(P22*((LOG(P22))/LOG(2))))","v":-0.20668315859115313},null,null,{"$f":"N22","v":12222},{"$f":"COUNTIF(L7:L35,T22)","v":7},{"$f":"U22/(W4-U25)","v":0.2413793103448276},{"$f":"IF(V22=0,0,(V22*((LOG(V22))/LOG(2))))","v":-0.49497870729275095},null,{"$f":"N22","v":12222},{"$f":"COUNTIF(L36:L63,Y22)","v":1},{"$f":"Z22/(AB4-Z25)","v":3.5714285714285712E-2},{"$f":"IF(AA22=0,0,(AA22*((LOG(AA22))/LOG(2))))","v":-0.17169124721634299},null,{"$f":"N22","v":12222},{"$f":"COUNTIF(L64:L92,AD22)","v":0},{"$f":"AE22/(AG4-AE25)","v":0},{"$f":"IF(AF22=0,0,(AF22*((LOG(AF22))/LOG(2))))","v":0},null,{"$f":"N22","v":12222},{"$f":"COUNTIF(L93:L121,AI22)","v":0},{"$f":"AJ22/(AL4-AJ25)","v":0},{"$f":"IF(AK22=0,0,(AK22*((LOG(AK22))/LOG(2))))","v":0},null,{"$f":"N22","v":12222},{"$f":"COUNTIF(L122:L149,AN22)","v":0},{"$f":"AO22/(AQ4-AO25)","v":0},{"$f":"IF(AP22=0,0,(AP22*((LOG(AP22))/LOG(2))))","v":0},null,{"$f":"N22","v":12222},{"$f":"COUNTIF(L150:L178,AS22)","v":0},{"$f":"AT22/(AV4-AT25)","v":0},{"$f":"IF(AU22=0,0,(AU22*((LOG(AU22))/LOG(2))))","v":0}]
[12,2043,24,2063,24,2068,23,2072,13,2080,0,12221,null,21111,{"$f":"COUNTIF($L$7:$L$500,N23)","v":0},{"$f":"O23/$Q$4","v":0},{"$f":"IF(P23=0,0,(P23*((LOG(P23))/LOG(2))))","v":0},null,null,{"$f":"N23","v":21111},{"$f":"COUNTIF(L7:L35,T23)","v":0},{"$f":"U23/(W4-U25)","v":0},{"$f":"IF(V23=0,0,(V23*((LOG(V23))/LOG(2))))","v":0},null,{"$f":"N23","v":21111},{"$f":"COUNTIF(L36:L63,Y23)","v":0},{"$f":"Z23/(AB4-Z25)","v":0},{"$f":"IF(AA23=0,0,(AA23*((LOG(AA23))/LOG(2))))","v":0},null,{"$f":"N23","v":21111},{"$f":"COUNTIF(L64:L92,AD23)","v":0},{"$f":"AE23/(AG4-AE25)","v":0},{"$f":"IF(AF23=0,0,(AF23*((LOG(AF23))/LOG(2))))","v":0},null,{"$f":"N23","v":21111},{"$f":"COUNTIF(L93:L121,AI23)","v":0},{"$f":"AJ23/(AL4-AJ25)","v":0},{"$f":"IF(AK23=0,0,(AK23*((LOG(AK23))/LOG(2))))","v":0},null,{"$f":"N23","v":21111},{"$f":"COUNTIF(L122:L149,AN23)","v":0},{"$f":"AO23/(AQ4-AO25)","v":0},{"$f":"IF(AP23=0,0,(AP23*((LOG(AP23))/LOG(2))))","v":0},null,{"$f":"N23","v":21111},{"$f":"COUNTIF(L150:L178,AS23)","v":0},{"$f":"AT23/(AV4-AT25)","v":0},{"$f":"IF(AU23=0,0,(AU23*((LOG(AU23))/LOG(2))))","v":0}]
[12,2177,24,2187,24,2191,23,2194,24,2200,1,12222,null,21112,{"$f":"COUNTIF($L$7:$L$500,N24)","v":0},{"$f":"O24/$Q$4","v":0},{"$f":"IF(P24=0,0,(P24*((LOG(P24))/LOG(2))))","v":0},null,null,{"$f":"N24","v":21112},{"$f":"COUNTIF(L7:L35,T24)","v":0},{"$f":"U24/(W4-U25)","v":0},{"$f":"IF(V24=0,0,(V24*((LOG(V24))/LOG(2))))","v":0},null,{"$f":"N24","v":21112},{"$f":"COUNTIF(L36:L63,Y24)","v":0},{"$f":"Z24/(AB4-Z25)","v":0},{"$f":"IF(AA24=0,0,(AA24*((LOG(AA24))/LOG(2))))","v":0},null,{"$f":"N24","v":21112},{"$f":"COUNTIF(L64:L92,AD24)","v":0},{"$f":"AE24/(AG4-AE25)","v":0},{"$f":"IF(AF24=0,0,(AF24*((LOG(AF24))/LOG(2))))","v":0},null,{"$f":"N24","v":21112},{"$f":"COUNTIF(L93:L121,AI24)","v":0},{"$f":"AJ24/(AL4-AJ25)","v":0},{"$f":"IF(AK24=0,0,(AK24*((LOG(AK24))/LOG(2))))","v":0},null,{"$f":"N24","v":21112},{"$f":"COUNTIF(L122:L149,AN24)","v":0},{"$f":"AO24/(AQ4-AO25)","v":0},{"$f":"IF(AP24=0,0,(AP24*((LOG(AP24))/LOG(2))))","v":0},null,{"$f":"N24","v":21112},{"$f":"COUNTIF(L150:L178,AS24)","v":0},{"$f":"AT24/(AV4-AT25)","v":0},{"$f":"IF(AU24=0,0,(AU24*((LOG(AU24))/LOG(2))))","v":0}]
[21,2303,22,2308,24,2312,14,2322,13,2326,0,22211,null,21121,{"$f":"COUNTIF($L$7:$L$500,N25)","v":0},{"$f":"O25/$Q$4","v":0},{"$f":"IF(P25=0,0,(P25*((LOG(P25))/LOG(2))))","v":0},null,null,{"$f":"N25","v":21121},{"$f":"COUNTIF(L7:L35,T25)","v":0},null,null,null,{"$f":"N25","v":21121},{"$f":"COUNTIF(L36:L63,Y25)","v":0},null,null,null,{"$f":"N25","v":21121},{"$f":"COUNTIF(L64:L92,AD25)","v":0},null,null,null,{"$f":"N25","v":21121},{"$f":"COUNTIF(L93:L121,AI25)","v":0},null,null,null,{"$f":"N25","v":21121},{"$f":"COUNTIF(L122:L149,AN25)","v":0},null,null,null,{"$f":"N25","v":21121},{"$f":"COUNTIF(L150:L178,AS25)","v":0}]
[12,2427,24,2434,24,2439,23,2442,24,2446,0,12222,null,21122,{"$f":"COUNTIF($L$7:$L$500,N26)","v":0},{"$f":"O26/$Q$4","v":0},{"$f":"IF(P26=0,0,(P26*((LOG(P26))/LOG(2))))","v":0},null,null,{"$f":"N26","v":21122},{"$f":"COUNTIF(L7:L35,T26)","v":0},{"$f":"U26/(W4-U25)","v":0},{"$f":"IF(V26=0,0,(V26*((LOG(V26))/LOG(2))))","v":0},null,{"$f":"N26","v":21122},{"$f":"COUNTIF(L36:L63,Y26)","v":0},{"$f":"Z26/(AB4-Z25)","v":0},{"$f":"IF(AA26=0,0,(AA26*((LOG(AA26))/LOG(2))))","v":0},null,{"$f":"N26","v":21122},{"$f":"COUNTIF(L64:L92,AD26)","v":0},{"$f":"AE26/(AG4-AE25)","v":0},{"$f":"IF(AF26=0,0,(AF26*((LOG(AF26))/LOG(2))))","v":0},null,{"$f":"N26","v":21122},{"$f":"COUNTIF(L93:L121,AI26)","v":0},{"$f":"AJ26/(AL4-AJ25)","v":0},{"$f":"IF(AK26=0,0,(AK26*((LOG(AK26))/LOG(2))))","v":0},null,{"$f":"N26","v":21122},{"$f":"COUNTIF(L122:L149,AN26)","v":0},{"$f":"AO26/(AQ4-AO25)","v":0},{"$f":"IF(AP26=0,0,(AP26*((LOG(AP26))/LOG(2))))","v":0},null,{"$f":"N26","v":21122},{"$f":"COUNTIF(L150:L178,AS26)","v":0},{"$f":"AT26/(AV4-AT25)","v":0},{"$f":"IF(AU26=0,0,(AU26*((LOG(AU26))/LOG(2))))","v":0}]
[12,2547,24,2555,13,2575,14,2579,13,2583,0,12111,null,21211,{"$f":"COUNTIF($L$7:$L$500,N27)","v":0},{"$f":"O27/$Q$4","v":0},{"$f":"IF(P27=0,0,(P27*((LOG(P27))/LOG(2))))","v":0},null,null,{"$f":"N27","v":21211},{"$f":"COUNTIF(L7:L35,T27)","v":0},{"$f":"U27/(W4-U25)","v":0},{"$f":"IF(V27=0,0,(V27*((LOG(V27))/LOG(2))))","v":0},null,{"$f":"N27","v":21211},{"$f":"COUNTIF(L36:L63,Y27)","v":0},{"$f":"Z27/(AB4-Z25)","v":0},{"$f":"IF(AA27=0,0,(AA27*((LOG(AA27))/LOG(2))))","v":0},null,{"$f":"N27","v":21211},{"$f":"COUNTIF(L64:L92,AD27)","v":0},{"$f":"AE27/(AG4-AE25)","v":0},{"$f":"IF(AF27=0,0,(AF27*((LOG(AF27))/LOG(2))))","v":0},null,{"$f":"N27","v":21211},{"$f":"COUNTIF(L93:L121,AI27)","v":0},{"$f":"AJ27/(AL4-AJ25)","v":0},{"$f":"IF(AK27=0,0,(AK27*((LOG(AK27))/LOG(2))))","v":0},null,{"$f":"N27","v":21211},{"$f":"COUNTIF(L122:L149,AN27)","v":0},{"$f":"AO27/(AQ4-AO25)","v":0},{"$f":"IF(AP27=0,0,(AP27*((LOG(AP27))/LOG(2))))","v":0},null,{"$f":"N27","v":21211},{"$f":"COUNTIF(L150:L178,AS27)","v":0},{"$f":"AT27/(AV4-AT25)","v":0},{"$f":"IF(AU27=0,0,(AU27*((LOG(AU27))/LOG(2))))","v":0}]
[12,2683,13,2687,24,2696,14,2712,13,2716,0,11211,null,21212,{"$f":"COUNTIF($L$7:$L$500,N28)","v":0},{"$f":"O28/$Q$4","v":0},{"$f":"IF(P28=0,0,(P28*((LOG(P28))/LOG(2))))","v":0},null,null,{"$f":"N28","v":21212},{"$f":"COUNTIF(L7:L35,T28)","v":0},{"$f":"U28/(W4-U25)","v":0},{"$f":"IF(V28=0,0,(V28*((LOG(V28))/LOG(2))))","v":0},null,{"$f":"N28","v":21212},{"$f":"COUNTIF(L36:L63,Y28)","v":0},{"$f":"Z28/(AB4-Z25)","v":0},{"$f":"IF(AA28=0,0,(AA28*((LOG(AA28))/LOG(2))))","v":0},null,{"$f":"N28","v":21212},{"$f":"COUNTIF(L64:L92,AD28)","v":0},{"$f":"AE28/(AG4-AE25)","v":0},{"$f":"IF(AF28=0,0,(AF28*((LOG(AF28))/LOG(2))))","v":0},null,{"$f":"N28","v":21212},{"$f":"COUNTIF(L93:L121,AI28)","v":0},{"$f":"AJ28/(AL4-AJ25)","v":0},{"$f":"IF(AK28=0,0,(AK28*((LOG(AK28))/LOG(2))))","v":0},null,{"$f":"N28","v":21212},{"$f":"COUNTIF(L122:L149,AN28)","v":0},{"$f":"AO28/(AQ4-AO25)","v":0},{"$f":"IF(AP28=0,0,(AP28*((LOG(AP28))/LOG(2))))","v":0},null,{"$f":"N28","v":21212},{"$f":"COUNTIF(L150:L178,AS28)","v":0},{"$f":"AT28/(AV4-AT25)","v":0},{"$f":"IF(AU28=0,0,(AU28*((LOG(AU28))/LOG(2))))","v":0}]
[12,2818,24,2826,24,2829,23,2834,13,2850,1,12221,null,21221,{"$f":"COUNTIF($L$7:$L$500,N29)","v":0},{"$f":"O29/$Q$4","v":0},{"$f":"IF(P29=0,0,(P29*((LOG(P29))/LOG(2))))","v":0},null,null,{"$f":"N29","v":21221},{"$f":"COUNTIF(L7:L35,T29)","v":0},{"$f":"U29/(W4-U25)","v":0},{"$f":"IF(V29=0,0,(V29*((LOG(V29))/LOG(2))))","v":0},null,{"$f":"N29","v":21221},{"$f":"COUNTIF(L36:L63,Y29)","v":0},{"$f":"Z29/(AB4-Z25)","v":0},{"$f":"IF(AA29=0,0,(AA29*((LOG(AA29))/LOG(2))))","v":0},null,{"$f":"N29","v":21221},{"$f":"COUNTIF(L64:L92,AD29)","v":0},{"$f":"AE29/(AG4-AE25)","v":0},{"$f":"IF(AF29=0,0,(AF29*((LOG(AF29))/LOG(2))))","v":0},null,{"$f":"N29","v":21221},{"$f":"COUNTIF(L93:L121,AI29)","v":0},{"$f":"AJ29/(AL4-AJ25)","v":0},{"$f":"IF(AK29=0,0,(AK29*((LOG(AK29))/LOG(2))))","v":0},null,{"$f":"N29","v":21221},{"$f":"COUNTIF(L122:L149,AN29)","v":0},{"$f":"AO29/(AQ4-AO25)","v":0},{"$f":"IF(AP29=0,0,(AP29*((LOG(AP29))/LOG(2))))","v":0},null,{"$f":"N29","v":21221},{"$f":"COUNTIF(L150:L178,AS29)","v":0},{"$f":"AT29/(AV4-AT25)","v":0},{"$f":"IF(AU29=0,0,(AU29*((LOG(AU29))/LOG(2))))","v":0}]
[21,2965,22,2969,24,2973,23,2978,13,2986,0,22221,null,21222,{"$f":"COUNTIF($L$7:$L$500,N30)","v":0},{"$f":"O30/$Q$4","v":0},{"$f":"IF(P30=0,0,(P30*((LOG(P30))/LOG(2))))","v":0},null,null,{"$f":"N30","v":21222},{"$f":"COUNTIF(L7:L35,T30)","v":0},{"$f":"U30/(W4-U25)","v":0},{"$f":"IF(V30=0,0,(V30*((LOG(V30))/LOG(2))))","v":0},null,{"$f":"N30","v":21222},{"$f":"COUNTIF(L36:L63,Y30)","v":0},{"$f":"Z30/(AB4-Z25)","v":0},{"$f":"IF(AA30=0,0,(AA30*((LOG(AA30))/LOG(2))))","v":0},null,{"$f":"N30","v":21222},{"$f":"COUNTIF(L64:L92,AD30)","v":0},{"$f":"AE30/(AG4-AE25)","v":0},{"$f":"IF(AF30=0,0,(AF30*((LOG(AF30))/LOG(2))))","v":0},null,{"$f":"N30","v":21222},{"$f":"COUNTIF(L93:L121,AI30)","v":0},{"$f":"AJ30/(AL4-AJ25)","v":0},{"$f":"IF(AK30=0,0,(AK30*((LOG(AK30))/LOG(2))))","v":0},null,{"$f":"N30","v":21222},{"$f":"COUNTIF(L122:L149,AN30)","v":0},{"$f":"AO30/(AQ4-AO25)","v":0},{"$f":"IF(AP30=0,0,(AP30*((LOG(AP30))/LOG(2))))","v":0},null,{"$f":"N30","v":21222},{"$f":"COUNTIF(L150:L178,AS30)","v":0},{"$f":"AT30/(AV4-AT25)","v":0},{"$f":"IF(AU30=0,0,(AU30*((LOG(AU30))/LOG(2))))","v":0}]
[12,3087,24,3102,24,3113,14,3128,13,3140,0,12211,null,22111,{"$f":"COUNTIF($L$7:$L$500,N31)","v":0},{"$f":"O31/$Q$4","v":0},{"$f":"IF(P31=0,0,(P31*((LOG(P31))/LOG(2))))","v":0},null,null,{"$f":"N31","v":22111},{"$f":"COUNTIF(L7:L35,T31)","v":0},{"$f":"U31/(W4-U25)","v":0},{"$f":"IF(V31=0,0,(V31*((LOG(V31))/LOG(2))))","v":0},null,{"$f":"N31","v":22111},{"$f":"COUNTIF(L36:L63,Y31)","v":0},{"$f":"Z31/(AB4-Z25)","v":0},{"$f":"IF(AA31=0,0,(AA31*((LOG(AA31))/LOG(2))))","v":0},null,{"$f":"N31","v":22111},{"$f":"COUNTIF(L64:L92,AD31)","v":0},{"$f":"AE31/(AG4-AE25)","v":0},{"$f":"IF(AF31=0,0,(AF31*((LOG(AF31))/LOG(2))))","v":0},null,{"$f":"N31","v":22111},{"$f":"COUNTIF(L93:L121,AI31)","v":0},{"$f":"AJ31/(AL4-AJ25)","v":0},{"$f":"IF(AK31=0,0,(AK31*((LOG(AK31))/LOG(2))))","v":0},null,{"$f":"N31","v":22111},{"$f":"COUNTIF(L122:L149,AN31)","v":0},{"$f":"AO31/(AQ4-AO25)","v":0},{"$f":"IF(AP31=0,0,(AP31*((LOG(AP31))/LOG(2))))","v":0},null,{"$f":"N31","v":22111},{"$f":"COUNTIF(L150:L178,AS31)","v":0},{"$f":"AT31/(AV4-AT25)","v":0},{"$f":"IF(AU31=0,0,(AU31*((LOG(AU31))/LOG(2))))","v":0}]
[12,3238,24,3269,24,3276,23,3295,24,3307,0,12222,null,22112,{"$f":"COUNTIF($L$7:$L$500,N32)","v":0},{"$f":"O32/$Q$4","v":0},{"$f":"IF(P32=0,0,(P32*((LOG(P32))/LOG(2))))","v":0},null,null,{"$f":"N32","v":22112},{"$f":"COUNTIF(L7:L35,T32)","v":0},{"$f":"U32/(W4-U25)","v":0},{"$f":"IF(V32=0,0,(V32*((LOG(V32))/LOG(2))))","v":0},null,{"$f":"N32","v":22112},{"$f":"COUNTIF(L36:L63,Y32)","v":0},{"$f":"Z32/(AB4-Z25)","v":0},{"$f":"IF(AA32=0,0,(AA32*((LOG(AA32))/LOG(2))))","v":0},null,{"$f":"N32","v":22112},{"$f":"COUNTIF(L64:L92,AD32)","v":0},{"$f":"AE32/(AG4-AE25)","v":0},{"$f":"IF(AF32=0,0,(AF32*((LOG(AF32))/LOG(2))))","v":0},null,{"$f":"N32","v":22112},{"$f":"COUNTIF(L93:L121,AI32)","v":0},{"$f":"AJ32/(AL4-AJ25)","v":0},{"$f":"IF(AK32=0,0,(AK32*((LOG(AK32))/LOG(2))))","v":0},null,{"$f":"N32","v":22112},{"$f":"COUNTIF(L122:L149,AN32)","v":0},{"$f":"AO32/(AQ4-AO25)","v":0},{"$f":"IF(AP32=0,0,(AP32*((LOG(AP32))/LOG(2))))","v":0},null,{"$f":"N32","v":22112},{"$f":"COUNTIF(L150:L178,AS32)","v":0},{"$f":"AT32/(AV4-AT25)","v":0},{"$f":"IF(AU32=0,0,(AU32*((LOG(AU32))/LOG(2))))","v":0}]
[12,3407,24,3416,13,3442,14,3449,13,3462,0,12111,null,22121,{"$f":"COUNTIF($L$7:$L$500,N33)","v":0},{"$f":"O33/$Q$4","v":0},{"$f":"IF(P33=0,0,(P33*((LOG(P33))/LOG(2))))","v":0},null,null,{"$f":"N33","v":22121},{"$f":"COUNTIF(L7:L35,T33)","v":0},{"$f":"U33/(W4-U25)","v":0},{"$f":"IF(V33=0,0,(V33*((LOG(V33))/LOG(2))))","v":0},null,{"$f":"N33","v":22121},{"$f":"COUNTIF(L36:L63,Y33)","v":0},{"$f":"Z33/(AB4-Z25)","v":0},{"$f":"IF(AA33=0,0,(AA33*((LOG(AA33))/LOG(2))))","v":0},null,{"$f":"N33","v":22121},{"$f":"COUNTIF(L64:L92,AD33)","v":0},{"$f":"AE33/(AG4-AE25)","v":0},{"$f":"IF(AF33=0,0,(AF33*((LOG(AF33))/LOG(2))))","v":0},null,{"$f":"N33","v":22121},{"$f":"COUNTIF(L93:L121,AI33)","v":0},{"$f":"AJ33/(AL4-AJ25)","v":0},{"$f":"IF(AK33=0,0,(AK33*((LOG(AK33))/LOG(2))))","v":0},null,{"$f":"N33","v":22121},{"$f":"COUNTIF(L122:L149,AN33)","v":0},{"$f":"AO33/(AQ4-AO25)","v":0},{"$f":"IF(AP33=0,0,(AP33*((LOG(AP33))/LOG(2))))","v":0},null,{"$f":"N33","v":22121},{"$f":"COUNTIF(L150:L178,AS33)","v":0},{"$f":"AT33/(AV4-AT25)","v":0},{"$f":"IF(AU33=0,0,(AU33*((LOG(AU33))/LOG(2))))","v":0}]
[12,3563,24,3571,13,3586,14,3593,13,3597,1,12111,null,22122,{"$f":"COUNTIF($L$7:$L$500,N34)","v":0},{"$f":"O34/$Q$4","v":0},{"$f":"IF(P34=0,0,(P34*((LOG(P34))/LOG(2))))","v":0},null,null,{"$f":"N34","v":22122},{"$f":"COUNTIF(L7:L35,T34)","v":0},{"$f":"U34/(W4-U25)","v":0},{"$f":"IF(V34=0,0,(V34*((LOG(V34))/LOG(2))))","v":0},null,{"$f":"N34","v":22122},{"$f":"COUNTIF(L36:L63,Y34)","v":0},{"$f":"Z34/(AB4-Z25)","v":0},{"$f":"IF(AA34=0,0,(AA34*((LOG(AA34))/LOG(2))))","v":0},null,{"$f":"N34","v":22122},{"$f":"COUNTIF(L64:L92,AD34)","v":0},{"$f":"AE34/(AG4-AE25)","v":0},{"$f":"IF(AF34=0,0,(AF34*((LOG(AF34))/LOG(2))))","v":0},null,{"$f":"N34","v":22122},{"$f":"COUNTIF(L93:L121,AI34)","v":0},{"$f":"AJ34/(AL4-AJ25)","v":0},{"$f":"IF(AK34=0,0,(AK34*((LOG(AK34))/LOG(2))))","v":0},null,{"$f":"N34","v":22122},{"$f":"COUNTIF(L122:L149,AN34)","v":0},{"$f":"AO34/(AQ4-AO25)","v":0},{"$f":"IF(AP34=0,0,(AP34*((LOG(AP34))/LOG(2))))","v":0},null,{"$f":"N34","v":22122},{"$f":"COUNTIF(L150:L178,AS34)","v":0},{"$f":"AT34/(AV4-AT25)","v":0},{"$f":"IF(AU34=0,0,(AU34*((LOG(AU34))/LOG(2))))","v":0}]
[12,3712,13,3733,13,3741,14,3748,13,3760,0,11111,null,22211,{"$f":"COUNTIF($L$7:$L$500,N35)","v":3},{"$f":"O35/$Q$4","v":1.7543859649122806E-2},{"$f":"IF(P35=0,0,(P35*((LOG(P35))/LOG(2))))","v":-0.10233140375727617},null,null,{"$f":"N35","v":22211},{"$f":"COUNTIF(L7:L35,T35)","v":1},{"$f":"U35/(W4-U25)","v":3.4482758620689655E-2},{"$f":"IF(V35=0,0,(V35*((LOG(V35))/LOG(2))))","v":-0.16751658603888178},null,{"$f":"N35","v":22211},{"$f":"COUNTIF(L36:L63,Y35)","v":0},{"$f":"Z35/(AB4-Z25)","v":0},{"$f":"IF(AA35=0,0,(AA35*((LOG(AA35))/LOG(2))))","v":0},null,{"$f":"N35","v":22211},{"$f":"COUNTIF(L64:L92,AD35)","v":2},{"$f":"AE35/(AG4-AE25)","v":6.8965517241379309E-2},{"$f":"IF(AF35=0,0,(AF35*((LOG(AF35))/LOG(2))))","v":-0.26606765483638428},null,{"$f":"N35","v":22211},{"$f":"COUNTIF(L93:L121,AI35)","v":0},{"$f":"AJ35/(AL4-AJ25)","v":0},{"$f":"IF(AK35=0,0,(AK35*((LOG(AK35))/LOG(2))))","v":0},null,{"$f":"N35","v":22211},{"$f":"COUNTIF(L122:L149,AN35)","v":0},{"$f":"AO35/(AQ4-AO25)","v":0},{"$f":"IF(AP35=0,0,(AP35*((LOG(AP35))/LOG(2))))","v":0},null,{"$f":"N35","v":22211},{"$f":"COUNTIF(L150:L178,AS35)","v":0},{"$f":"AT35/(AV4-AT25)","v":0},{"$f":"IF(AU35=0,0,(AU35*((LOG(AU35))/LOG(2))))","v":0}]
[12,3865,24,3877,24,3881,14,3899,13,3912,0,12211,null,22212,{"$f":"COUNTIF($L$7:$L$500,N36)","v":0},{"$f":"O36/$Q$4","v":0},{"$f":"IF(P36=0,0,(P36*((LOG(P36))/LOG(2))))","v":0},null,null,{"$f":"N36","v":22212},{"$f":"COUNTIF(L7:L35,T36)","v":0},{"$f":"U36/(W4-U25)","v":0},{"$f":"IF(V36=0,0,(V36*((LOG(V36))/LOG(2))))","v":0},null,{"$f":"N36","v":22212},{"$f":"COUNTIF(L36:L63,Y36)","v":0},{"$f":"Z36/(AB4-Z25)","v":0},{"$f":"IF(AA36=0,0,(AA36*((LOG(AA36))/LOG(2))))","v":0},null,{"$f":"N36","v":22212},{"$f":"COUNTIF(L64:L92,AD36)","v":0},{"$f":"AE36/(AG4-AE25)","v":0},{"$f":"IF(AF36=0,0,(AF36*((LOG(AF36))/LOG(2))))","v":0},null,{"$f":"N36","v":22212},{"$f":"COUNTIF(L93:L121,AI36)","v":0},{"$f":"AJ36/(AL4-AJ25)","v":0},{"$f":"IF(AK36=0,0,(AK36*((LOG(AK36))/LOG(2))))","v":0},null,{"$f":"N36","v":22212},{"$f":"COUNTIF(L122:L149,AN36)","v":0},{"$f":"AO36/(AQ4-AO25)","v":0},{"$f":"IF(AP36=0,0,(AP36*((LOG(AP36))/LOG(2))))","v":0},null,{"$f":"N36","v":22212},{"$f":"COUNTIF(L150:L178,AS36)","v":0},{"$f":"AT36/(AV4-AT25)","v":0},{"$f":"IF(AU36=0,0,(AU36*((LOG(AU36))/LOG(2))))","v":0}]
[12,4011,24,4019,13,4034,14,4041,13,4046,0,12111,null,22221,{"$f":"COUNTIF($L$7:$L$500,N37)","v":3},{"$f":"O37/$Q$4","v":1.7543859649122806E-2},{"$f":"IF(P37=0,0,(P37*((LOG(P37))/LOG(2))))","v":-0.10233140375727617},null,null,{"$f":"N37","v":22221},{"$f":"COUNTIF(L7:L35,T37)","v":3},{"$f":"U37/(W4-U25)","v":0.10344827586206896},{"$f":"IF(V37=0,0,(V37*((LOG(V37))/LOG(2))))","v":-0.33858812011100858},null,{"$f":"N37","v":22221},{"$f":"COUNTIF(L36:L63,Y37)","v":0},{"$f":"Z37/(AB4-Z25)","v":0},{"$f":"IF(AA37=0,0,(AA37*((LOG(AA37))/LOG(2))))","v":0},null,{"$f":"N37","v":22221},{"$f":"COUNTIF(L64:L92,AD37)","v":0},{"$f":"AE37/(AG4-AE25)","v":0},{"$f":"IF(AF37=0,0,(AF37*((LOG(AF37))/LOG(2))))","v":0},null,{"$f":"N37","v":22221},{"$f":"COUNTIF(L93:L121,AI37)","v":0},{"$f":"AJ37/(AL4-AJ25)","v":0},{"$f":"IF(AK37=0,0,(AK37*((LOG(AK37))/LOG(2))))","v":0},null,{"$f":"N37","v":22221},{"$f":"COUNTIF(L122:L149,AN37)","v":0},{"$f":"AO37/(AQ4-AO25)","v":0},{"$f":"IF(AP37=0,0,(AP37*((LOG(AP37))/LOG(2))))","v":0},null,{"$f":"N37","v":22221},{"$f":"COUNTIF(L150:L178,AS37)","v":0},{"$f":"AT37/(AV4-AT25)","v":0},{"$f":"IF(AU37=0,0,(AU37*((LOG(AU37))/LOG(2))))","v":0}]
[12,4144,24,4167,24,4171,14,4191,13,4195,0,12211,null,22222,{"$f":"COUNTIF($L$7:$L$500,N38)","v":0},{"$f":"O38/$Q$4","v":0},{"$f":"IF(P38=0,0,(P38*((LOG(P38))/LOG(2))))","v":0},null,null,{"$f":"N38","v":22222},{"$f":"COUNTIF(L7:L35,T38)","v":0},{"$f":"U38/(W4-U25)","v":0},{"$f":"IF(V38=0,0,(V38*((LOG(V38))/LOG(2))))","v":0},null,{"$f":"N38","v":22222},{"$f":"COUNTIF(L36:L63,Y38)","v":0},{"$f":"Z38/(AB4-Z25)","v":0},{"$f":"IF(AA38=0,0,(AA38*((LOG(AA38))/LOG(2))))","v":0},null,{"$f":"N38","v":22222},{"$f":"COUNTIF(L64:L92,AD38)","v":0},{"$f":"AE38/(AG4-AE25)","v":0},{"$f":"IF(AF38=0,0,(AF38*((LOG(AF38))/LOG(2))))","v":0},null,{"$f":"N38","v":22222},{"$f":"COUNTIF(L93:L121,AI38)","v":0},{"$f":"AJ38/(AL4-AJ25)","v":0},{"$f":"IF(AK38=0,0,(AK38*((LOG(AK38))/LOG(2))))","v":0},null,{"$f":"N38","v":22222},{"$f":"COUNTIF(L122:L149,AN38)","v":0},{"$f":"AO38/(AQ4-AO25)","v":0},{"$f":"IF(AP38=0,0,(AP38*((LOG(AP38))/LOG(2))))","v":0},null,{"$f":"N38","v":22222},{"$f":"COUNTIF(L150:L178,AS38)","v":0},{"$f":"AT38/(AV4-AT25)","v":0},{"$f":"IF(AU38=0,0,(AU38*((LOG(AU38))/LOG(2))))","v":0}]
[12,4294,24,4323,24,4328,14,4336,13,4346,0,12211,null,null,null,{"$f":"SUM(P7:P38)","v":1.0000000000000002},{"$f":"-SUM(Q7:Q38)","v":2.2160247880595487},null,null,null,null,{"$f":"SUM(V7:V38)","v":1},{"$f":"-SUM(W7:W38)","v":3.3436310999243437},null,null,null,{"$f":"SUM(AA7:AA38)","v":0.99999999999999989},{"$f":"-SUM(AB7:AB38)","v":2.9313076001654319},null,null,null,{"$f":"SUM(AF7:AF38)","v":1},{"$f":"-SUM(AG7:AG38)","v":1.4080429822936391},null,null,null,{"$f":"SUM(AK7:AK38)","v":1},{"$f":"-SUM(AL7:AL38)","v":0.57482814438038599},null,null,null,{"$f":"SUM(AP7:AP38)","v":1},{"$f":"-SUM(AQ7:AQ38)","v":0.22228483068568797},null,null,null,{"$f":"SUM(AU7:AU38)","v":1},{"$f":"-SUM(AV7:AV38)","v":0.66105475261588553}]
[12,4445,13,4450,13,4459,14,4470,13,4477,0,11111,null,null,null,"U=",{"$f":"Q39/(LOG(Q4)/LOG(2))","v":0.29874209329620732},null,null,null,null,"U1=",{"$f":"W39/(LOG(W4)/LOG(2))","v":0.68827587083562458},null,null,null,"U2=",{"$f":"AB39/(LOG(AB4)/LOG(2))","v":0.60975477111450682},null,null,null,"U3=",{"$f":"AG39/(LOG(AG4)/LOG(2))","v":0.28984118787328922},null,null,null,"U4=",{"$f":"AL39/(LOG(AL4)/LOG(2))","v":0.11832655272981175},null,null,null,"U5=",{"$f":"AQ39/(LOG(AQ4)/LOG(2))","v":4.623848962467441E-2},null,null,null,"U6=",{"$f":"AV39/(LOG(AV4)/LOG(2))","v":0.13750903840753792}]
[12,4577,13,4583,13,4587,23,4596,13,4614,1,11121]
[12,4714,13,4723,13,4735,14,4739,13,4744,0,11111]
[12,4848,13,4877,13,4891,14,4914,13,4921,0,11111,null,"Total Target Seq"]
[12,5020,13,5024,24,5032,23,5036,24,5041,0,11222,null,{"$f":"COUNTIF(L7:L178,G3)","v":0},null,29,28,29,29,28,29]
[12,5138,13,5144,24,5153,14,5165,13,5176,0,11211,null,null,null,"% of reinforcement given in 6 equal intervals based on number of trials "]
[12,5275,13,5300,13,5311,14,5315,13,5319,0,11111,null,null,null,"%_1","%_2","%_3","%_4","%_5","%_6"]
[12,5421,13,5425,24,5454,14,5473,13,5477,0,11211,null,null,"target sequence",{"$f":"$G$3","v":21121},{"$f":"$G$3","v":21121},{"$f":"$G$3","v":21121},{"$f":"$G$3","v":21121},{"$f":"$G$3","v":21121},{"$f":"$G$3","v":21121}]
[12,5577,24,5597,24,5601,23,5605,24,5609,0,12222,null,null,"total reinforcement",{"$f":"U25","v":0},{"$f":"Z25","v":0},{"$f":"AE25","v":0},{"$f":"AJ25","v":0},{"$f":"AO25","v":0},{"$f":"AT25","v":0}]
[12,5708,13,5713,13,5722,14,5726,13,5729,1,11111,null,null,"% target"]
[12,5828,24,5842,24,5849,23,5856,13,5866,0,12221,null,null,"CCRF"]
[12,5967,13,5992,24,6003,23,6007,13,6028,0,11221,null,null,"% CCRf"]
[12,6126,13,6130,24,6141,23,6175,24,6181,0,11222,null,null,"average response rate",{"$f":"J35/P44","v":129.65517241379311},{"$f":"(J63-J35)/Q44","v":147.60714285714286},{"$f":"(J92-J63)/R44","v":146.37931034482759},{"$f":"(J121-J92)/S44","v":133.75862068965517},{"$f":"(J149-J121)/T44","v":138.60714285714286},{"$f":"(J178-J149)/U44","v":-686.13793103448279}]
[12,6283,13,6303,24,6338,14,6349,13,6355,0,11211]
[12,6455,24,6482,13,6503,14,6508,13,6516,0,12111]
[12,6612,24,6634,24,6639,14,6652,13,6658,0,12211]
[12,6757,13,6783,13,6791,14,6798,13,6807,0,11111]
[12,6908,24,6929,24,6954,14,6962,13,6972,0,12211]
[12,7071,24,7097,13,7110,14,7120,13,7126,1,12111]
[12,7224,24,7242,13,7268,14,7284,13,7292,0,12111]
[12,7390,24,7442,24,7451,14,7459,13,7473,0,12211]
[12,7573,13,7578,24,7589,23,7594,24,7599,0,11222]
[12,7696,13,7703,13,7720,23,7735,13,7753,0,11121]
[12,7854,13,7858,24,7877,23,7881,13,7893,0,11221]
[12,7992,24,8020,13,8027,14,8036,13,8046,0,12111]
[12,8145,13,8149,13,8170,14,8195,13,8205,0,11111]
[12,8303,13,8340,24,8348,23,8354,24,8359,0,11222]
[12,8460,13,8471,13,8474,14,8484,13,8487,0,11111]
[12,8586,13,8590,13,8594,14,8611,13,8615,1,11111]
[21,8722,22,8730,24,8736,14,8747,13,8759,0,22211]
[21,8862,22,8913,24,8921,14,8928,13,8939,0,22211]
[12,9040,24,9052,13,9064,14,9068,13,9074,0,12111]
[12,9174,13,9183,13,9187,14,9205,13,9209,0,11111]
[12,9310,13,9321,13,9328,14,9335,13,9339,1,11111]
[12,9434,13,9439,13,9458,14,9462,13,9466,0,11111]
[12,9567,13,9602,13,9606,14,9610,13,9615,0,11111]
[12,9715,13,9723,13,9729,14,9733,13,9737,1,11111]
[12,9846,13,9866,13,9870,14,9874,13,9885,0,11111]
[12,9984,13,10012,13,10034,14,10041,13,10044,0,11111]
[12,10143,13,10168,13,10182,14,10186,13,10197,0,11111]
[12,10295,13,10305,13,10319,14,10323,13,10330,1,11111]
[12,10467,13,10471,13,10475,14,10486,13,10494,0,11111]
[12,10595,24,10630,13,10644,14,10648,13,10655,0,12111]
[12,10755,13,10759,13,10764,14,10767,13,10771,0,11111]
[12,10868,13,10877,13,10883,14,10887,13,10891,0,11111]
[12,10991,24,11012,24,11020,14,11027,13,11037,1,12211]
[12,11136,24,11162,13,11181,14,11185,13,11190,0,12111]
[12,11287,13,11320,13,11329,14,11333,13,11340,0,11111]
[12,11440,13,11463,13,11478,14,11481,13,11489,0,11111]
[12,11590,13,11612,13,11626,14,11629,13,11636,0,11111]
[12,11735,13,11746,13,11750,14,11765,13,11769,1,11111]
[12,11883,24,11895,13,11906,14,11913,13,11920,1,12111]
[12,12093,13,12116,13,12120,14,12131,13,12138,0,11111]
[12,12236,13,12244,13,12265,14,12281,13,12285,0,11111]
[12,12383,13,12397,13,12420,14,12424,13,12428,0,11111]
[12,12525,13,12535,13,12542,14,12546,13,12550,0,11111]
[12,12651,13,12661,13,12665,14,12676,13,12680,0,11111]
[12,12780,13,12796,13,12800,14,12804,13,12808,1,11111]
[12,12905,13,12914,13,12926,14,12938,13,12944,0,11111]
[12,13045,13,13065,24,13075,23,13080,13,13086,1,11221]
[12,13182,13,13197,13,13207,14,13210,13,13214,1,11111]
[12,13317,13,13324,13,13344,14,13350,13,13355,1,11111]
[12,13468,13,13477,13,13481,14,13485,13,13495,0,11111]
[12,13594,13,13626,13,13629,14,13633,13,13640,0,11111]
[12,13741,13,13749,13,13753,14,13757,13,13781,0,11111]
[12,13883,13,13891,13,13898,14,13902,13,13905,1,11111]
[12,13999,13,14011,13,14025,14,14029,13,14040,0,11111]
[12,14143,13,14151,13,14166,14,14170,13,14174,0,11111]
[12,14273,13,14277,13,14281,14,14284,13,14288,1,11111]
[12,14384,13,14388,13,14400,14,14404,13,14408,0,11111]
[12,14506,13,14514,13,14517,14,14521,13,14529,0,11111]
[12,14628,13,14632,13,14639,14,14646,13,14650,0,11111]
[12,14747,13,14754,13,14759,14,14762,13,14768,0,11111]
[12,14865,13,14869,13,14876,14,14879,13,14887,0,11111]
[12,14985,13,14992,13,14996,14,15000,13,15012,0,11111]
[12,15116,13,15124,13,15130,14,15140,13,15147,0,11111]
[12,15247,13,15255,13,15267,14,15273,13,15280,0,11111]
[12,15380,13,15384,13,15389,14,15397,13,15404,1,11111]
[12,15562,13,15572,13,15578,14,15594,13,15605,0,11111]
[12,15704,13,15726,13,15730,14,15737,13,15745,0,11111]
[12,15846,13,15859,24,15867,23,15873,24,15880,0,11222]
[12,15979,13,15987,24,15998,23,16009,13,16017,0,11221]
[12,16115,13,16118,13,16122,14,16125,13,16129,0,11111]
[12,16227,13,16234,13,16238,14,16241,13,16245,0,11111]
[12,16344,13,16348,13,16352,14,16356,13,16359,0,11111]
[12,16458,13,16477,13,16481,14,16487,13,16497,0,11111]
[12,16598,13,16631,13,16639,14,16647,13,16658,0,11111]
[12,16755,13,16759,13,16766,14,16776,13,16780,1,11111]
[12,16877,13,16881,13,16892,14,16896,13,16903,0,11111]
[12,17002,13,17005,13,17009,14,17012,13,17015,0,11111]
[12,17112,13,17119,13,17129,14,17132,13,17136,0,11111]
[12,17234,13,17242,13,17256,14,17263,13,17275,1,11111]
[12,17369,13,17379,13,17408,14,17415,13,17419,0,11111]
[12,17516,13,17521,13,17534,14,17544,13,17548,0,11111]
[12,17649,13,17653,13,17665,14,17668,13,17675,0,11111]
[12,17773,13,17795,13,17815,14,17821,13,17837,0,11111]
[12,17935,24,17951,13,17962,14,17970,13,17978,1,12111]
[12,18074,13,18090,13,18105,14,18115,13,18119,1,11111]
[12,18220,13,18235,13,18244,14,18251,13,18256,0,11111]
[12,18354,13,18366,13,18377,14,18381,13,18385,0,11111]
[12,18487,13,18491,13,18503,14,18507,13,18515,0,11111]
[12,18612,13,18620,13,18624,14,18639,13,18647,0,11111]
[12,18745,13,18769,13,18773,14,18777,13,18789,0,11111]
[12,18888,13,18906,13,18913,14,18920,13,18931,0,11111]
[12,19032,13,19044,13,19051,14,19081,13,19092,1,11111]
[12,19195,13,19204,13,19257,14,19265,13,19272,0,11111]
[12,19372,13,19388,13,19398,14,19402,13,19408,0,11111]
[12,19506,13,19510,13,19527,14,19537,13,19544,0,11111]
[12,19666,13,19674,13,19678,14,19689,13,19696,0,11111]
[12,19820,13,19834,13,19866,14,19875,13,19898,0,11111]
[12,19996,13,20007,13,20025,14,20029,13,20037,0,11111]
[12,20134,13,20138,13,20150,14,20158,13,20162,1,11111]
[12,20293,13,20306,13,20310,14,20323,13,20331,0,11111]
[12,20428,13,20438,13,20453,14,20470,13,20474,0,11111]
[12,20571,13,20580,13,20583,14,20594,13,20605,0,11111]
[12,20702,13,20706,13,20710,14,20718,13,20727,0,11111]
[12,20827,13,20838,13,20853,14,20870,13,20874,0,11111]
[12,20974,13,20988,13,21006,14,21013,13,21021,0,11111]
[12,21125,13,21140,13,21143,14,21158,13,21162,0,11111]
[12,21261,13,21269,13,21272,14,21280,13,21283,0,11111]
[12,21381,13,21392,13,21402,14,21406,13,21417,0,11111]
[12,21515,13,21530,13,21548,14,21555,13,21561,0,11111]
[12,21663,13,21667,13,21671,14,21674,13,21689,1,11111]
[12,21787,13,21803,13,21806,14,21813,13,21817,0,11111]
[12,21917,13,21942,24,21952,23,21958,24,21965,1,11222]
[12,22062,13,22081,13,22096,14,22103,13,22110,0,11111]
[12,22209,13,22218,13,22240,14,22251,13,22255,0,11111]
[12,22354,13,22382,13,22389,14,22396,13,22406,0,11111]
[12,22505,13,22515,13,22528,14,22542,13,22546,1,11111]
[12,22658,13,22683,13,22691,14,22697,13,22704,1,11111]
[12,22829,13,22837,24,22849,14,22865,13,22869,0,11211]
[12,22971,13,22980,13,22983,14,22987,13,23001,0,11111]
[12,23103,13,23113,13,23119,14,23131,13,23138,0,11111]
[12,23240,13,23259,13,23270,14,23287,13,23294,1,11111]
[12,23393,13,23397,13,23406,14,23413,13,23423,1,11111]
[12,23524,13,23542,13,23557,14,23567,13,23571,0,11111]
[12,23684,13,23703,13,23724,14,23732,13,23736,1,11111]
[12,23842,24,23851,13,23861,14,23875,13,23879,0,12111]
[12,23977,null,null,null,null,null,null,null,null,null,1]

{"sheet":"!N424A20.096","index":30,"n_rows":184,"n_cols":48,"rows_kept":184,"cut":false,"hidden":false,"merged":[[4,39,4,42],[5,39,5,40],[4,44,4,47],[5,44,5,45],[4,24,4,27],[5,24,5,25],[4,29,4,32],[5,29,5,30],[4,34,4,37],[5,34,5,35],[1,1,1,2],[5,13,5,14],[42,13,42,14],[43,13,43,14],[4,19,4,22],[5,19,5,20]]}
["Report for:!N424A20.096"]
["Date:","<date>"]
["Hen:","<hen>",null,null,null,"Correct Sequence",{"$f":"Start!J2","v":21121},null,null,null,null,null,null,null,null,"Total Sequences in Data",{"$f":"4994-COUNTBLANK(L7:L5000)","v":178},null,null,null,null,"Total Sequences in Block Data",{"$f":"COUNTA(L7:L36)","v":30},null,null,null,"Total Sequences in Block Data",{"$f":"COUNTA(L37:L65)","v":29},null,null,null,"Total Sequences in Block Data",{"$f":"COUNTA(L66:L95)","v":30},null,null,null,"Total Sequences in Block Data",{"$f":"COUNTA(L96:L125)","v":30},null,null,null,"Total Sequences in Block Data",{"$f":"COUNTA(L126:L154)","v":29},null,null,null,"Total Sequences in Block Data",{"$f":"COUNTA(L155:L184)","v":30}]
[null,null,null,null,null,null,null,null,null,null,null,null,null,null,null,"Total Sequences in Summary",{"$f":"SUM(O7:O38)","v":178},null,null,null,null,"Total Sequences in Block Summary",{"$f":"SUM(U7:U38)","v":30},null,null,null,"Total Sequences in Block Summary",{"$f":"SUM(Z7:Z38)","v":29},null,null,null,"Total Sequences in Block Summary",{"$f":"SUM(AE7:AE38)","v":30},null,null,null,"Total Sequences in Block Summary",{"$f":"SUM(AJ7:AJ38)","v":30},null,null,null,"Total Sequences in Block Summary",{"$f":"SUM(AO7:AO38)","v":29},null,null,null,"Total Sequences in Block Summary",{"$f":"SUM(AT7:AT38)","v":30}]
[null,null,null,null,null,null,null,null,null,null,null,null,null,null,null,null,null,null,null,"Block 1",null,null,null,null,"Block 2",null,null,null,null,"Block 3",null,null,null,null,"Block 4",null,null,null,null,"Block 5",null,null,null,null,"Block 6"]
["Sequence\nComponent\n1","Time\n1","Sequence\nComponent\n2","Time\n2","Sequence\nComponent\n3","Time\n3","Sequence\nComponent\n4","Time\n4","Sequence\nComponent\n5","Time\n5","Correct?\n0=No 1=Yes","Sequence",null,"Frequency",null,"Relative Frequency","Variability",null,null,"Frequency",null,"Relative Frequency","Variability",null,"Frequency",null,"Relative Frequency","Variability",null,"Frequency",null,"Relative Frequency","Variability",null,"Frequency",null,"Relative Frequency","Variability",null,"Frequency",null,"Relative Frequency","Variability",null,"Frequency",null,"Relative Frequency","Variability"]
[12,5,13,10,13,14,23,28,24,33,0,11122,null,11111,{"$f":"COUNTIF($L$7:$L$500,N7)","v":136},{"$f":"O7/$Q$4","v":0.7640449438202247},{"$f":"IF(P7=0,0,(P7*((LOG(P7))/LOG(2))))","v":-0.29665618090665136},null,null,{"$f":"N7","v":11111},{"$f":"COUNTIF(L7:L36,T7)","v":8},{"$f":"U7/(W4-U25)","v":0.26666666666666666},{"$f":"IF(V7=0,0,(V7*((LOG(V7))/LOG(2))))","v":-0.50850415882893829},null,{"$f":"N7","v":11111},{"$f":"COUNTIF(L37:L65,Y7)","v":18},{"$f":"Z7/(AB4-Z25)","v":0.62068965517241381},{"$f":"IF(AA7=0,0,(AA7*((LOG(AA7))/LOG(2))))","v":-0.4270692374598164},null,{"$f":"N7","v":11111},{"$f":"COUNTIF(L66:L95,AD7)","v":28},{"$f":"AE7/(AG4-AE25)","v":0.93333333333333335},{"$f":"IF(AF7=0,0,(AF7*((LOG(AF7))/LOG(2))))","v":-9.2899961980853443E-2},null,{"$f":"N7","v":11111},{"$f":"COUNTIF(L96:L125,AI7)","v":24},{"$f":"AJ7/(AL4-AJ25)","v":0.8},{"$f":"IF(AK7=0,0,(AK7*((LOG(AK7))/LOG(2))))","v":-0.25754247590988982},null,{"$f":"N7","v":11111},{"$f":"COUNTIF(L126:L154,AN7)","v":29},{"$f":"AO7/(AQ4-AO25)","v":1},{"$f":"IF(AP7=0,0,(AP7*((LOG(AP7))/LOG(2))))","v":0},null,{"$f":"N7","v":11111},{"$f":"COUNTIF(L155:L184,AS7)","v":29},{"$f":"AT7/(AV4-AT25)","v":0.96666666666666667},{"$f":"IF(AU7=0,0,(AU7*((LOG(AU7))/LOG(2))))","v":-4.727928046491485E-2}]
[12,132,13,136,24,143,23,147,24,151,0,11222,null,11112,{"$f":"COUNTIF($L$7:$L$500,N8)","v":1},{"$f":"O8/$Q$4","v":5.6179775280898875E-3},{"$f":"IF(P8=0,0,(P8*((LOG(P8))/LOG(2))))","v":-4.1998502421159538E-2},null,null,{"$f":"N8","v":11112},{"$f":"COUNTIF(L7:L36,T8)","v":0},{"$f":"U8/(W4-U25)","v":0},{"$f":"IF(V8=0,0,(V8*((LOG(V8))/LOG(2))))","v":0},null,{"$f":"N8","v":11112},{"$f":"COUNTIF(L37:L65,Y8)","v":1},{"$f":"Z8/(AB4-Z25)","v":3.4482758620689655E-2},{"$f":"IF(AA8=0,0,(AA8*((LOG(AA8))/LOG(2))))","v":-0.16751658603888178},null,{"$f":"N8","v":11112},{"$f":"COUNTIF(L66:L95,AD8)","v":0},{"$f":"AE8/(AG4-AE25)","v":0},{"$f":"IF(AF8=0,0,(AF8*((LOG(AF8))/LOG(2))))","v":0},null,{"$f":"N8","v":11112},{"$f":"COUNTIF(L96:L125,AI8)","v":0},{"$f":"AJ8/(AL4-AJ25)","v":0},{"$f":"IF(AK8=0,0,(AK8*((LOG(AK8))/LOG(2))))","v":0},null,{"$f":"N8","v":11112},{"$f":"COUNTIF(L126:L154,AN8)","v":0},{"$f":"AO8/(AQ4-AO25)","v":0},{"$f":"IF(AP8=0,0,(AP8*((LOG(AP8))/LOG(2))))","v":0},null,{"$f":"N8","v":11112},{"$f":"COUNTIF(L155:L184,AS8)","v":0},{"$f":"AT8/(AV4-AT25)","v":0},{"$f":"IF(AU8=0,0,(AU8*((LOG(AU8))/LOG(2))))","v":0}]
[12,250,24,266,24,270,23,273,24,277,0,12222,null,11121,{"$f":"COUNTIF($L$7:$L$500,N9)","v":2},{"$f":"O9/$Q$4","v":1.1235955056179775E-2},{"$f":"IF(P9=0,0,(P9*((LOG(P9))/LOG(2))))","v":-7.2761049786139301E-2},null,null,{"$f":"N9","v":11121},{"$f":"COUNTIF(L7:L36,T9)","v":0},{"$f":"U9/(W4-U25)","v":0},{"$f":"IF(V9=0,0,(V9*((LOG(V9))/LOG(2))))","v":0},null,{"$f":"N9","v":11121},{"$f":"COUNTIF(L37:L65,Y9)","v":1},{"$f":"Z9/(AB4-Z25)","v":3.4482758620689655E-2},{"$f":"IF(AA9=0,0,(AA9*((LOG(AA9))/LOG(2))))","v":-0.16751658603888178},null,{"$f":"N9","v":11121},{"$f":"COUNTIF(L66:L95,AD9)","v":0},{"$f":"AE9/(AG4-AE25)","v":0},{"$f":"IF(AF9=0,0,(AF9*((LOG(AF9))/LOG(2))))","v":0},null,{"$f":"N9","v":11121},{"$f":"COUNTIF(L96:L125,AI9)","v":0},{"$f":"AJ9/(AL4-AJ25)","v":0},{"$f":"IF(AK9=0,0,(AK9*((LOG(AK9))/LOG(2))))","v":0},null,{"$f":"N9","v":11121},{"$f":"COUNTIF(L126:L154,AN9)","v":0},{"$f":"AO9/(AQ4-AO25)","v":0},{"$f":"IF(AP9=0,0,(AP9*((LOG(AP9))/LOG(2))))","v":0},null,{"$f":"N9","v":11121},{"$f":"COUNTIF(L155:L184,AS9)","v":1},{"$f":"AT9/(AV4-AT25)","v":3.3333333333333333E-2},{"$f":"IF(AU9=0,0,(AU9*((LOG(AU9))/LOG(2))))","v":-0.16356301985361729}]
[12,374,24,384,24,388,23,392,24,396,0,12222,null,11122,{"$f":"COUNTIF($L$7:$L$500,N10)","v":1},{"$f":"O10/$Q$4","v":5.6179775280898875E-3},{"$f":"IF(P10=0,0,(P10*((LOG(P10))/LOG(2))))","v":-4.1998502421159538E-2},null,null,{"$f":"N10","v":11122},{"$f":"COUNTIF(L7:L36,T10)","v":1},{"$f":"U10/(W4-U25)","v":3.3333333333333333E-2},{"$f":"IF(V10=0,0,(V10*((LOG(V10))/LOG(2))))","v":-0.16356301985361729},null,{"$f":"N10","v":11122},{"$f":"COUNTIF(L37:L65,Y10)","v":0},{"$f":"Z10/(AB4-Z25)","v":0},{"$f":"IF(AA10=0,0,(AA10*((LOG(AA10))/LOG(2))))","v":0},null,{"$f":"N10","v":11122},{"$f":"COUNTIF(L66:L95,AD10)","v":0},{"$f":"AE10/(AG4-AE25)","v":0},{"$f":"IF(AF10=0,0,(AF10*((LOG(AF10))/LOG(2))))","v":0},null,{"$f":"N10","v":11122},{"$f":"COUNTIF(L96:L125,AI10)","v":0},{"$f":"AJ10/(AL4-AJ25)","v":0},{"$f":"IF(AK10=0,0,(AK10*((LOG(AK10))/LOG(2))))","v":0},null,{"$f":"N10","v":11122},{"$f":"COUNTIF(L126:L154,AN10)","v":0},{"$f":"AO10/(AQ4-AO25)","v":0},{"$f":"IF(AP10=0,0,(AP10*((LOG(AP10))/LOG(2))))","v":0},null,{"$f":"N10","v":11122},{"$f":"COUNTIF(L155:L184,AS10)","v":0},{"$f":"AT10/(AV4-AT25)","v":0},{"$f":"IF(AU10=0,0,(AU10*((LOG(AU10))/LOG(2))))","v":0}]
[12,499,13,504,24,518,23,522,13,529,0,11221,null,11211,{"$f":"COUNTIF($L$7:$L$500,N11)","v":2},{"$f":"O11/$Q$4","v":1.1235955056179775E-2},{"$f":"IF(P11=0,0,(P11*((LOG(P11))/LOG(2))))","v":-7.2761049786139301E-2},null,null,{"$f":"N11","v":11211},{"$f":"COUNTIF(L7:L36,T11)","v":0},{"$f":"U11/(W4-U25)","v":0},{"$f":"IF(V11=0,0,(V11*((LOG(V11))/LOG(2))))","v":0},null,{"$f":"N11","v":11211},{"$f":"COUNTIF(L37:L65,Y11)","v":1},{"$f":"Z11/(AB4-Z25)","v":3.4482758620689655E-2},{"$f":"IF(AA11=0,0,(AA11*((LOG(AA11))/LOG(2))))","v":-0.16751658603888178},null,{"$f":"N11","v":11211},{"$f":"COUNTIF(L66:L95,AD11)","v":0},{"$f":"AE11/(AG4-AE25)","v":0},{"$f":"IF(AF11=0,0,(AF11*((LOG(AF11))/LOG(2))))","v":0},null,{"$f":"N11","v":11211},{"$f":"COUNTIF(L96:L125,AI11)","v":1},{"$f":"AJ11/(AL4-AJ25)","v":3.3333333333333333E-2},{"$f":"IF(AK11=0,0,(AK11*((LOG(AK11))/LOG(2))))","v":-0.16356301985361729},null,{"$f":"N11","v":11211},{"$f":"COUNTIF(L126:L154,AN11)","v":0},{"$f":"AO11/(AQ4-AO25)","v":0},{"$f":"IF(AP11=0,0,(AP11*((LOG(AP11))/LOG(2))))","v":0},null,{"$f":"N11","v":11211},{"$f":"COUNTIF(L155:L184,AS11)","v":0},{"$f":"AT11/(AV4-AT25)","v":0},{"$f":"IF(AU11=0,0,(AU11*((LOG(AU11))/LOG(2))))","v":0}]
[12,625,13,629,24,641,23,645,24,653,0,11222,null,11212,{"$f":"COUNTIF($L$7:$L$500,N12)","v":0},{"$f":"O12/$Q$4","v":0},{"$f":"IF(P12=0,0,(P12*((LOG(P12))/LOG(2))))","v":0},null,null,{"$f":"N12","v":11212},{"$f":"COUNTIF(L7:L36,T12)","v":0},{"$f":"U12/(W4-U25)","v":0},{"$f":"IF(V12=0,0,(V12*((LOG(V12))/LOG(2))))","v":0},null,{"$f":"N12","v":11212},{"$f":"COUNTIF(L37:L65,Y12)","v":0},{"$f":"Z12/(AB4-Z25)","v":0},{"$f":"IF(AA12=0,0,(AA12*((LOG(AA12))/LOG(2))))","v":0},null,{"$f":"N12","v":11212},{"$f":"COUNTIF(L66:L95,AD12)","v":0},{"$f":"AE12/(AG4-AE25)","v":0},{"$f":"IF(AF12=0,0,(AF12*((LOG(AF12))/LOG(2))))","v":0},null,{"$f":"N12","v":11212},{"$f":"COUNTIF(L96:L125,AI12)","v":0},{"$f":"AJ12/(AL4-AJ25)","v":0},{"$f":"IF(AK12=0,0,(AK12*((LOG(AK12))/LOG(2))))","v":0},null,{"$f":"N12","v":11212},{"$f":"COUNTIF(L126:L154,AN12)","v":0},{"$f":"AO12/(AQ4-AO25)","v":0},{"$f":"IF(AP12=0,0,(AP12*((LOG(AP12))/LOG(2))))","v":0},null,{"$f":"N12","v":11212},{"$f":"COUNTIF(L155:L184,AS12)","v":0},{"$f":"AT12/(AV4-AT25)","v":0},{"$f":"IF(AU12=0,0,(AU12*((LOG(AU12))/LOG(2))))","v":0}]
[12,755,24,763,24,767,23,770,24,774,1,12222,null,11221,{"$f":"COUNTIF($L$7:$L$500,N13)","v":5},{"$f":"O13/$Q$4","v":2.8089887640449437E-2},{"$f":"IF(P13=0,0,(P13*((LOG(P13))/LOG(2))))","v":-0.14476981281120885},null,null,{"$f":"N13","v":11221},{"$f":"COUNTIF(L7:L36,T13)","v":2},{"$f":"U13/(W4-U25)","v":6.6666666666666666E-2},{"$f":"IF(V13=0,0,(V13*((LOG(V13))/LOG(2))))","v":-0.26045937304056793},null,{"$f":"N13","v":11221},{"$f":"COUNTIF(L37:L65,Y13)","v":2},{"$f":"Z13/(AB4-Z25)","v":6.8965517241379309E-2},{"$f":"IF(AA13=0,0,(AA13*((LOG(AA13))/LOG(2))))","v":-0.26606765483638428},null,{"$f":"N13","v":11221},{"$f":"COUNTIF(L66:L95,AD13)","v":0},{"$f":"AE13/(AG4-AE25)","v":0},{"$f":"IF(AF13=0,0,(AF13*((LOG(AF13))/LOG(2))))","v":0},null,{"$f":"N13","v":11221},{"$f":"COUNTIF(L96:L125,AI13)","v":1},{"$f":"AJ13/(AL4-AJ25)","v":3.3333333333333333E-2},{"$f":"IF(AK13=0,0,(AK13*((LOG(AK13))/LOG(2))))","v":-0.16356301985361729},null,{"$f":"N13","v":11221},{"$f":"COUNTIF(L126:L154,AN13)","v":0},{"$f":"AO13/(AQ4-AO25)","v":0},{"$f":"IF(AP13=0,0,(AP13*((LOG(AP13))/LOG(2))))","v":0},null,{"$f":"N13","v":11221},{"$f":"COUNTIF(L155:L184,AS13)","v":0},{"$f":"AT13/(AV4-AT25)","v":0},{"$f":"IF(AU13=0,0,(AU13*((LOG(AU13))/LOG(2))))","v":0}]
[12,868,13,872,13,876,14,883,13,896,0,11111,null,11222,{"$f":"COUNTIF($L$7:$L$500,N14)","v":4},{"$f":"O14/$Q$4","v":2.247191011235955E-2},{"$f":"IF(P14=0,0,(P14*((LOG(P14))/LOG(2))))","v":-0.12305018945991905},null,null,{"$f":"N14","v":11222},{"$f":"COUNTIF(L7:L36,T14)","v":3},{"$f":"U14/(W4-U25)","v":0.1},{"$f":"IF(V14=0,0,(V14*((LOG(V14))/LOG(2))))","v":-0.33219280948873625},null,{"$f":"N14","v":11222},{"$f":"COUNTIF(L37:L65,Y14)","v":1},{"$f":"Z14/(AB4-Z25)","v":3.4482758620689655E-2},{"$f":"IF(AA14=0,0,(AA14*((LOG(AA14))/LOG(2))))","v":-0.16751658603888178},null,{"$f":"N14","v":11222},{"$f":"COUNTIF(L66:L95,AD14)","v":0},{"$f":"AE14/(AG4-AE25)","v":0},{"$f":"IF(AF14=0,0,(AF14*((LOG(AF14))/LOG(2))))","v":0},null,{"$f":"N14","v":11222},{"$f":"COUNTIF(L96:L125,AI14)","v":0},{"$f":"AJ14/(AL4-AJ25)","v":0},{"$f":"IF(AK14=0,0,(AK14*((LOG(AK14))/LOG(2))))","v":0},null,{"$f":"N14","v":11222},{"$f":"COUNTIF(L126:L154,AN14)","v":0},{"$f":"AO14/(AQ4-AO25)","v":0},{"$f":"IF(AP14=0,0,(AP14*((LOG(AP14))/LOG(2))))","v":0},null,{"$f":"N14","v":11222},{"$f":"COUNTIF(L155:L184,AS14)","v":0},{"$f":"AT14/(AV4-AT25)","v":0},{"$f":"IF(AU14=0,0,(AU14*((LOG(AU14))/LOG(2))))","v":0}]
[12,992,24,1000,13,1009,14,1024,13,1031,0,12111,null,12111,{"$f":"COUNTIF($L$7:$L$500,N15)","v":6},{"$f":"O15/$Q$4","v":3.3707865168539325E-2},{"$f":"IF(P15=0,0,(P15*((LOG(P15))/LOG(2))))","v":-0.16485744708691824},null,null,{"$f":"N15","v":12111},{"$f":"COUNTIF(L7:L36,T15)","v":2},{"$f":"U15/(W4-U25)","v":6.6666666666666666E-2},{"$f":"IF(V15=0,0,(V15*((LOG(V15))/LOG(2))))","v":-0.26045937304056793},null,{"$f":"N15","v":12111},{"$f":"COUNTIF(L37:L65,Y15)","v":2},{"$f":"Z15/(AB4-Z25)","v":6.8965517241379309E-2},{"$f":"IF(AA15=0,0,(AA15*((LOG(AA15))/LOG(2))))","v":-0.26606765483638428},null,{"$f":"N15","v":12111},{"$f":"COUNTIF(L66:L95,AD15)","v":0},{"$f":"AE15/(AG4-AE25)","v":0},{"$f":"IF(AF15=0,0,(AF15*((LOG(AF15))/LOG(2))))","v":0},null,{"$f":"N15","v":12111},{"$f":"COUNTIF(L96:L125,AI15)","v":2},{"$f":"AJ15/(AL4-AJ25)","v":6.6666666666666666E-2},{"$f":"IF(AK15=0,0,(AK15*((LOG(AK15))/LOG(2))))","v":-0.26045937304056793},null,{"$f":"N15","v":12111},{"$f":"COUNTIF(L126:L154,AN15)","v":0},{"$f":"AO15/(AQ4-AO25)","v":0},{"$f":"IF(AP15=0,0,(AP15*((LOG(AP15))/LOG(2))))","v":0},null,{"$f":"N15","v":12111},{"$f":"COUNTIF(L155:L184,AS15)","v":0},{"$f":"AT15/(AV4-AT25)","v":0},{"$f":"IF(AU15=0,0,(AU15*((LOG(AU15))/LOG(2))))","v":0}]
[12,1131,24,1139,13,1149,14,1153,13,1170,0,12111,null,12112,{"$f":"COUNTIF($L$7:$L$500,N16)","v":0},{"$f":"O16/$Q$4","v":0},{"$f":"IF(P16=0,0,(P16*((LOG(P16))/LOG(2))))","v":0},null,null,{"$f":"N16","v":12112},{"$f":"COUNTIF(L7:L36,T16)","v":0},{"$f":"U16/(W4-U25)","v":0},{"$f":"IF(V16=0,0,(V16*((LOG(V16))/LOG(2))))","v":0},null,{"$f":"N16","v":12112},{"$f":"COUNTIF(L37:L65,Y16)","v":0},{"$f":"Z16/(AB4-Z25)","v":0},{"$f":"IF(AA16=0,0,(AA16*((LOG(AA16))/LOG(2))))","v":0},null,{"$f":"N16","v":12112},{"$f":"COUNTIF(L66:L95,AD16)","v":0},{"$f":"AE16/(AG4-AE25)","v":0},{"$f":"IF(AF16=0,0,(AF16*((LOG(AF16))/LOG(2))))","v":0},null,{"$f":"N16","v":12112},{"$f":"COUNTIF(L96:L125,AI16)","v":0},{"$f":"AJ16/(AL4-AJ25)","v":0},{"$f":"IF(AK16=0,0,(AK16*((LOG(AK16))/LOG(2))))","v":0},null,{"$f":"N16","v":12112},{"$f":"COUNTIF(L126:L154,AN16)","v":0},{"$f":"AO16/(AQ4-AO25)","v":0},{"$f":"IF(AP16=0,0,(AP16*((LOG(AP16))/LOG(2))))","v":0},null,{"$f":"N16","v":12112},{"$f":"COUNTIF(L155:L184,AS16)","v":0},{"$f":"AT16/(AV4-AT25)","v":0},{"$f":"IF(AU16=0,0,(AU16*((LOG(AU16))/LOG(2))))","v":0}]
[12,1268,13,1272,24,1282,23,1286,13,1312,0,11221,null,12121,{"$f":"COUNTIF($L$7:$L$500,N17)","v":1},{"$f":"O17/$Q$4","v":5.6179775280898875E-3},{"$f":"IF(P17=0,0,(P17*((LOG(P17))/LOG(2))))","v":-4.1998502421159538E-2},null,null,{"$f":"N17","v":12121},{"$f":"COUNTIF(L7:L36,T17)","v":1},{"$f":"U17/(W4-U25)","v":3.3333333333333333E-2},{"$f":"IF(V17=0,0,(V17*((LOG(V17))/LOG(2))))","v":-0.16356301985361729},null,{"$f":"N17","v":12121},{"$f":"COUNTIF(L37:L65,Y17)","v":0},{"$f":"Z17/(AB4-Z25)","v":0},{"$f":"IF(AA17=0,0,(AA17*((LOG(AA17))/LOG(2))))","v":0},null,{"$f":"N17","v":12121},{"$f":"COUNTIF(L66:L95,AD17)","v":0},{"$f":"AE17/(AG4-AE25)","v":0},{"$f":"IF(AF17=0,0,(AF17*((LOG(AF17))/LOG(2))))","v":0},null,{"$f":"N17","v":12121},{"$f":"COUNTIF(L96:L125,AI17)","v":0},{"$f":"AJ17/(AL4-AJ25)","v":0},{"$f":"IF(AK17=0,0,(AK17*((LOG(AK17))/LOG(2))))","v":0},null,{"$f":"N17","v":12121},{"$f":"COUNTIF(L126:L154,AN17)","v":0},{"$f":"AO17/(AQ4-AO25)","v":0},{"$f":"IF(AP17=0,0,(AP17*((LOG(AP17))/LOG(2))))","v":0},null,{"$f":"N17","v":12121},{"$f":"COUNTIF(L155:L184,AS17)","v":0},{"$f":"AT17/(AV4-AT25)","v":0},{"$f":"IF(AU17=0,0,(AU17*((LOG(AU17))/LOG(2))))","v":0}]
[12,1410,24,1434,24,1438,14,1450,13,1460,1,12211,null,12122,{"$f":"COUNTIF($L$7:$L$500,N18)","v":0},{"$f":"O18/$Q$4","v":0},{"$f":"IF(P18=0,0,(P18*((LOG(P18))/LOG(2))))","v":0},null,null,{"$f":"N18","v":12122},{"$f":"COUNTIF(L7:L36,T18)","v":0},{"$f":"U18/(W4-U25)","v":0},{"$f":"IF(V18=0,0,(V18*((LOG(V18))/LOG(2))))","v":0},null,{"$f":"N18","v":12122},{"$f":"COUNTIF(L37:L65,Y18)","v":0},{"$f":"Z18/(AB4-Z25)","v":0},{"$f":"IF(AA18=0,0,(AA18*((LOG(AA18))/LOG(2))))","v":0},null,{"$f":"N18","v":12122},{"$f":"COUNTIF(L66:L95,AD18)","v":0},{"$f":"AE18/(AG4-AE25)","v":0},{"$f":"IF(AF18=0,0,(AF18*((LOG(AF18))/LOG(2))))","v":0},null,{"$f":"N18","v":12122},{"$f":"COUNTIF(L96:L125,AI18)","v":0},{"$f":"AJ18/(AL4-AJ25)","v":0},{"$f":"IF(AK18=0,0,(AK18*((LOG(AK18))/LOG(2))))","v":0},null,{"$f":"N18","v":12122},{"$f":"COUNTIF(L126:L154,AN18)","v":0},{"$f":"AO18/(AQ4-AO25)","v":0},{"$f":"IF(AP18=0,0,(AP18*((LOG(AP18))/LOG(2))))","v":0},null,{"$f":"N18","v":12122},{"$f":"COUNTIF(L155:L184,AS18)","v":0},{"$f":"AT18/(AV4-AT25)","v":0},{"$f":"IF(AU18=0,0,(AU18*((LOG(AU18))/LOG(2))))","v":0}]
[12,1556,24,1620,13,1628,23,1648,13,1655,0,12121,null,12211,{"$f":"COUNTIF($L$7:$L$500,N19)","v":3},{"$f":"O19/$Q$4","v":1.6853932584269662E-2},{"$f":"IF(P19=0,0,(P19*((LOG(P19))/LOG(2))))","v":-9.9282656127728783E-2},null,null,{"$f":"N19","v":12211},{"$f":"COUNTIF(L7:L36,T19)","v":2},{"$f":"U19/(W4-U25)","v":6.6666666666666666E-2},{"$f":"IF(V19=0,0,(V19*((LOG(V19))/LOG(2))))","v":-0.26045937304056793},null,{"$f":"N19","v":12211},{"$f":"COUNTIF(L37:L65,Y19)","v":0},{"$f":"Z19/(AB4-Z25)","v":0},{"$f":"IF(AA19=0,0,(AA19*((LOG(AA19))/LOG(2))))","v":0},null,{"$f":"N19","v":12211},{"$f":"COUNTIF(L66:L95,AD19)","v":0},{"$f":"AE19/(AG4-AE25)","v":0},{"$f":"IF(AF19=0,0,(AF19*((LOG(AF19))/LOG(2))))","v":0},null,{"$f":"N19","v":12211},{"$f":"COUNTIF(L96:L125,AI19)","v":1},{"$f":"AJ19/(AL4-AJ25)","v":3.3333333333333333E-2},{"$f":"IF(AK19=0,0,(AK19*((LOG(AK19))/LOG(2))))","v":-0.16356301985361729},null,{"$f":"N19","v":12211},{"$f":"COUNTIF(L126:L154,AN19)","v":0},{"$f":"AO19/(AQ4-AO25)","v":0},{"$f":"IF(AP19=0,0,(AP19*((LOG(AP19))/LOG(2))))","v":0},null,{"$f":"N19","v":12211},{"$f":"COUNTIF(L155:L184,AS19)","v":0},{"$f":"AT19/(AV4-AT25)","v":0},{"$f":"IF(AU19=0,0,(AU19*((LOG(AU19))/LOG(2))))","v":0}]
[21,1779,22,1783,24,1787,23,1791,13,1801,0,22221,null,12212,{"$f":"COUNTIF($L$7:$L$500,N20)","v":0},{"$f":"O20/$Q$4","v":0},{"$f":"IF(P20=0,0,(P20*((LOG(P20))/LOG(2))))","v":0},null,null,{"$f":"N20","v":12212},{"$f":"COUNTIF(L7:L36,T20)","v":0},{"$f":"U20/(W4-U25)","v":0},{"$f":"IF(V20=0,0,(V20*((LOG(V20))/LOG(2))))","v":0},null,{"$f":"N20","v":12212},{"$f":"COUNTIF(L37:L65,Y20)","v":0},{"$f":"Z20/(AB4-Z25)","v":0},{"$f":"IF(AA20=0,0,(AA20*((LOG(AA20))/LOG(2))))","v":0},null,{"$f":"N20","v":12212},{"$f":"COUNTIF(L66:L95,AD20)","v":0},{"$f":"AE20/(AG4-AE25)","v":0},{"$f":"IF(AF20=0,0,(AF20*((LOG(AF20))/LOG(2))))","v":0},null,{"$f":"N20","v":12212},{"$f":"COUNTIF(L96:L125,AI20)","v":0},{"$f":"AJ20/(AL4-AJ25)","v":0},{"$f":"IF(AK20=0,0,(AK20*((LOG(AK20))/LOG(2))))","v":0},null,{"$f":"N20","v":12212},{"$f":"COUNTIF(L126:L154,AN20)","v":0},{"$f":"AO20/(AQ4-AO25)","v":0},{"$f":"IF(AP20=0,0,(AP20*((LOG(AP20))/LOG(2))))","v":0},null,{"$f":"N20","v":12212},{"$f":"COUNTIF(L155:L184,AS20)","v":0},{"$f":"AT20/(AV4-AT25)","v":0},{"$f":"IF(AU20=0,0,(AU20*((LOG(AU20))/LOG(2))))","v":0}]
[12,1898,24,1922,24,1925,14,1965,13,1970,0,12211,null,12221,{"$f":"COUNTIF($L$7:$L$500,N21)","v":3},{"$f":"O21/$Q$4","v":1.6853932584269662E-2},{"$f":"IF(P21=0,0,(P21*((LOG(P21))/LOG(2))))","v":-9.9282656127728783E-2},null,null,{"$f":"N21","v":12221},{"$f":"COUNTIF(L7:L36,T21)","v":1},{"$f":"U21/(W4-U25)","v":3.3333333333333333E-2},{"$f":"IF(V21=0,0,(V21*((LOG(V21))/LOG(2))))","v":-0.16356301985361729},null,{"$f":"N21","v":12221},{"$f":"COUNTIF(L37:L65,Y21)","v":2},{"$f":"Z21/(AB4-Z25)","v":6.8965517241379309E-2},{"$f":"IF(AA21=0,0,(AA21*((LOG(AA21))/LOG(2))))","v":-0.26606765483638428},null,{"$f":"N21","v":12221},{"$f":"COUNTIF(L66:L95,AD21)","v":0},{"$f":"AE21/(AG4-AE25)","v":0},{"$f":"IF(AF21=0,0,(AF21*((LOG(AF21))/LOG(2))))","v":0},null,{"$f":"N21","v":12221},{"$f":"COUNTIF(L96:L125,AI21)","v":0},{"$f":"AJ21/(AL4-AJ25)","v":0},{"$f":"IF(AK21=0,0,(AK21*((LOG(AK21))/LOG(2))))","v":0},null,{"$f":"N21","v":12221},{"$f":"COUNTIF(L126:L154,AN21)","v":0},{"$f":"AO21/(AQ4-AO25)","v":0},{"$f":"IF(AP21=0,0,(AP21*((LOG(AP21))/LOG(2))))","v":0},null,{"$f":"N21","v":12221},{"$f":"COUNTIF(L155:L184,AS21)","v":0},{"$f":"AT21/(AV4-AT25)","v":0},{"$f":"IF(AU21=0,0,(AU21*((LOG(AU21))/LOG(2))))","v":0}]
[12,2067,24,2091,24,2104,23,2117,13,2126,1,12221,null,12222,{"$f":"COUNTIF($L$7:$L$500,N22)","v":10},{"$f":"O22/$Q$4","v":5.6179775280898875E-2},{"$f":"IF(P22=0,0,(P22*((LOG(P22))/LOG(2))))","v":-0.23335985034151888},null,null,{"$f":"N22","v":12222},{"$f":"COUNTIF(L7:L36,T22)","v":8},{"$f":"U22/(W4-U25)","v":0.26666666666666666},{"$f":"IF(V22=0,0,(V22*((LOG(V22))/LOG(2))))","v":-0.50850415882893829},null,{"$f":"N22","v":12222},{"$f":"COUNTIF(L37:L65,Y22)","v":1},{"$f":"Z22/(AB4-Z25)","v":3.4482758620689655E-2},{"$f":"IF(AA22=0,0,(AA22*((LOG(AA22))/LOG(2))))","v":-0.16751658603888178},null,{"$f":"N22","v":12222},{"$f":"COUNTIF(L66:L95,AD22)","v":1},{"$f":"AE22/(AG4-AE25)","v":3.3333333333333333E-2},{"$f":"IF(AF22=0,0,(AF22*((LOG(AF22))/LOG(2))))","v":-0.16356301985361729},null,{"$f":"N22","v":12222},{"$f":"COUNTIF(L96:L125,AI22)","v":0},{"$f":"AJ22/(AL4-AJ25)","v":0},{"$f":"IF(AK22=0,0,(AK22*((LOG(AK22))/LOG(2))))","v":0},null,{"$f":"N22","v":12222},{"$f":"COUNTIF(L126:L154,AN22)","v":0},{"$f":"AO22/(AQ4-AO25)","v":0},{"$f":"IF(AP22=0,0,(AP22*((LOG(AP22))/LOG(2))))","v":0},null,{"$f":"N22","v":12222},{"$f":"COUNTIF(L155:L184,AS22)","v":0},{"$f":"AT22/(AV4-AT25)","v":0},{"$f":"IF(AU22=0,0,(AU22*((LOG(AU22))/LOG(2))))","v":0}]
[21,2238,22,2243,24,2247,14,2274,13,2282,0,22211,null,21111,{"$f":"COUNTIF($L$7:$L$500,N23)","v":2},{"$f":"O23/$Q$4","v":1.1235955056179775E-2},{"$f":"IF(P23=0,0,(P23*((LOG(P23))/LOG(2))))","v":-7.2761049786139301E-2},null,null,{"$f":"N23","v":21111},{"$f":"COUNTIF(L7:L36,T23)","v":0},{"$f":"U23/(W4-U25)","v":0},{"$f":"IF(V23=0,0,(V23*((LOG(V23))/LOG(2))))","v":0},null,{"$f":"N23","v":21111},{"$f":"COUNTIF(L37:L65,Y23)","v":0},{"$f":"Z23/(AB4-Z25)","v":0},{"$f":"IF(AA23=0,0,(AA23*((LOG(AA23))/LOG(2))))","v":0},null,{"$f":"N23","v":21111},{"$f":"COUNTIF(L66:L95,AD23)","v":1},{"$f":"AE23/(AG4-AE25)","v":3.3333333333333333E-2},{"$f":"IF(AF23=0,0,(AF23*((LOG(AF23))/LOG(2))))","v":-0.16356301985361729},null,{"$f":"N23","v":21111},{"$f":"COUNTIF(L96:L125,AI23)","v":1},{"$f":"AJ23/(AL4-AJ25)","v":3.3333333333333333E-2},{"$f":"IF(AK23=0,0,(AK23*((LOG(AK23))/LOG(2))))","v":-0.16356301985361729},null,{"$f":"N23","v":21111},{"$f":"COUNTIF(L126:L154,AN23)","v":0},{"$f":"AO23/(AQ4-AO25)","v":0},{"$f":"IF(AP23=0,0,(AP23*((LOG(AP23))/LOG(2))))","v":0},null,{"$f":"N23","v":21111},{"$f":"COUNTIF(L155:L184,AS23)","v":0},{"$f":"AT23/(AV4-AT25)","v":0},{"$f":"IF(AU23=0,0,(AU23*((LOG(AU23))/LOG(2))))","v":0}]
[12,2385,13,2413,13,2431,14,2435,13,2446,0,11111,null,21112,{"$f":"COUNTIF($L$7:$L$500,N24)","v":0},{"$f":"O24/$Q$4","v":0},{"$f":"IF(P24=0,0,(P24*((LOG(P24))/LOG(2))))","v":0},null,null,{"$f":"N24","v":21112},{"$f":"COUNTIF(L7:L36,T24)","v":0},{"$f":"U24/(W4-U25)","v":0},{"$f":"IF(V24=0,0,(V24*((LOG(V24))/LOG(2))))","v":0},null,{"$f":"N24","v":21112},{"$f":"COUNTIF(L37:L65,Y24)","v":0},{"$f":"Z24/(AB4-Z25)","v":0},{"$f":"IF(AA24=0,0,(AA24*((LOG(AA24))/LOG(2))))","v":0},null,{"$f":"N24","v":21112},{"$f":"COUNTIF(L66:L95,AD24)","v":0},{"$f":"AE24/(AG4-AE25)","v":0},{"$f":"IF(AF24=0,0,(AF24*((LOG(AF24))/LOG(2))))","v":0},null,{"$f":"N24","v":21112},{"$f":"COUNTIF(L96:L125,AI24)","v":0},{"$f":"AJ24/(AL4-AJ25)","v":0},{"$f":"IF(AK24=0,0,(AK24*((LOG(AK24))/LOG(2))))","v":0},null,{"$f":"N24","v":21112},{"$f":"COUNTIF(L126:L154,AN24)","v":0},{"$f":"AO24/(AQ4-AO25)","v":0},{"$f":"IF(AP24=0,0,(AP24*((LOG(AP24))/LOG(2))))","v":0},null,{"$f":"N24","v":21112},{"$f":"COUNTIF(L155:L184,AS24)","v":0},{"$f":"AT24/(AV4-AT25)","v":0},{"$f":"IF(AU24=0,0,(AU24*((LOG(AU24))/LOG(2))))","v":0}]
[12,2544,13,2554,13,2557,14,2564,13,2568,0,11111,null,21121,{"$f":"COUNTIF($L$7:$L$500,N25)","v":0},{"$f":"O25/$Q$4","v":0},{"$f":"IF(P25=0,0,(P25*((LOG(P25))/LOG(2))))","v":0},null,null,{"$f":"N25","v":21121},{"$f":"COUNTIF(L7:L36,T25)","v":0},null,null,null,{"$f":"N25","v":21121},{"$f":"COUNTIF(L37:L65,Y25)","v":0},null,null,null,{"$f":"N25","v":21121},{"$f":"COUNTIF(L66:L95,AD25)","v":0},null,null,null,{"$f":"N25","v":21121},{"$f":"COUNTIF(L96:L125,AI25)","v":0},null,null,null,{"$f":"N25","v":21121},{"$f":"COUNTIF(L126:L154,AN25)","v":0},null,null,null,{"$f":"N25","v":21121},{"$f":"COUNTIF(L155:L184,AS25)","v":0}]
[12,2664,13,2672,13,2710,14,2714,13,2724,0,11111,null,21122,{"$f":"COUNTIF($L$7:$L$500,N26)","v":0},{"$f":"O26/$Q$4","v":0},{"$f":"IF(P26=0,0,(P26*((LOG(P26))/LOG(2))))","v":0},null,null,{"$f":"N26","v":21122},{"$f":"COUNTIF(L7:L36,T26)","v":0},{"$f":"U26/(W4-U25)","v":0},{"$f":"IF(V26=0,0,(V26*((LOG(V26))/LOG(2))))","v":0},null,{"$f":"N26","v":21122},{"$f":"COUNTIF(L37:L65,Y26)","v":0},{"$f":"Z26/(AB4-Z25)","v":0},{"$f":"IF(AA26=0,0,(AA26*((LOG(AA26))/LOG(2))))","v":0},null,{"$f":"N26","v":21122},{"$f":"COUNTIF(L66:L95,AD26)","v":0},{"$f":"AE26/(AG4-AE25)","v":0},{"$f":"IF(AF26=0,0,(AF26*((LOG(AF26))/LOG(2))))","v":0},null,{"$f":"N26","v":21122},{"$f":"COUNTIF(L96:L125,AI26)","v":0},{"$f":"AJ26/(AL4-AJ25)","v":0},{"$f":"IF(AK26=0,0,(AK26*((LOG(AK26))/LOG(2))))","v":0},null,{"$f":"N26","v":21122},{"$f":"COUNTIF(L126:L154,AN26)","v":0},{"$f":"AO26/(AQ4-AO25)","v":0},{"$f":"IF(AP26=0,0,(AP26*((LOG(AP26))/LOG(2))))","v":0},null,{"$f":"N26","v":21122},{"$f":"COUNTIF(L155:L184,AS26)","v":0},{"$f":"AT26/(AV4-AT25)","v":0},{"$f":"IF(AU26=0,0,(AU26*((LOG(AU26))/LOG(2))))","v":0}]
[12,2824,24,2832,24,2836,23,2840,24,2844,0,12222,null,21211,{"$f":"COUNTIF($L$7:$L$500,N27)","v":0},{"$f":"O27/$Q$4","v":0},{"$f":"IF(P27=0,0,(P27*((LOG(P27))/LOG(2))))","v":0},null,null,{"$f":"N27","v":21211},{"$f":"COUNTIF(L7:L36,T27)","v":0},{"$f":"U27/(W4-U25)","v":0},{"$f":"IF(V27=0,0,(V27*((LOG(V27))/LOG(2))))","v":0},null,{"$f":"N27","v":21211},{"$f":"COUNTIF(L37:L65,Y27)","v":0},{"$f":"Z27/(AB4-Z25)","v":0},{"$f":"IF(AA27=0,0,(AA27*((LOG(AA27))/LOG(2))))","v":0},null,{"$f":"N27","v":21211},{"$f":"COUNTIF(L66:L95,AD27)","v":0},{"$f":"AE27/(AG4-AE25)","v":0},{"$f":"IF(AF27=0,0,(AF27*((LOG(AF27))/LOG(2))))","v":0},null,{"$f":"N27","v":21211},{"$f":"COUNTIF(L96:L125,AI27)","v":0},{"$f":"AJ27/(AL4-AJ25)","v":0},{"$f":"IF(AK27=0,0,(AK27*((LOG(AK27))/LOG(2))))","v":0},null,{"$f":"N27","v":21211},{"$f":"COUNTIF(L126:L154,AN27)","v":0},{"$f":"AO27/(AQ4-AO25)","v":0},{"$f":"IF(AP27=0,0,(AP27*((LOG(AP27))/LOG(2))))","v":0},null,{"$f":"N27","v":21211},{"$f":"COUNTIF(L155:L184,AS27)","v":0},{"$f":"AT27/(AV4-AT25)","v":0},{"$f":"IF(AU27=0,0,(AU27*((LOG(AU27))/LOG(2))))","v":0}]
[12,2941,13,2950,24,2958,23,2962,24,2966,0,11222,null,21212,{"$f":"COUNTIF($L$7:$L$500,N28)","v":0},{"$f":"O28/$Q$4","v":0},{"$f":"IF(P28=0,0,(P28*((LOG(P28))/LOG(2))))","v":0},null,null,{"$f":"N28","v":21212},{"$f":"COUNTIF(L7:L36,T28)","v":0},{"$f":"U28/(W4-U25)","v":0},{"$f":"IF(V28=0,0,(V28*((LOG(V28))/LOG(2))))","v":0},null,{"$f":"N28","v":21212},{"$f":"COUNTIF(L37:L65,Y28)","v":0},{"$f":"Z28/(AB4-Z25)","v":0},{"$f":"IF(AA28=0,0,(AA28*((LOG(AA28))/LOG(2))))","v":0},null,{"$f":"N28","v":21212},{"$f":"COUNTIF(L66:L95,AD28)","v":0},{"$f":"AE28/(AG4-AE25)","v":0},{"$f":"IF(AF28=0,0,(AF28*((LOG(AF28))/LOG(2))))","v":0},null,{"$f":"N28","v":21212},{"$f":"COUNTIF(L96:L125,AI28)","v":0},{"$f":"AJ28/(AL4-AJ25)","v":0},{"$f":"IF(AK28=0,0,(AK28*((LOG(AK28))/LOG(2))))","v":0},null,{"$f":"N28","v":21212},{"$f":"COUNTIF(L126:L154,AN28)","v":0},{"$f":"AO28/(AQ4-AO25)","v":0},{"$f":"IF(AP28=0,0,(AP28*((LOG(AP28))/LOG(2))))","v":0},null,{"$f":"N28","v":21212},{"$f":"COUNTIF(L155:L184,AS28)","v":0},{"$f":"AT28/(AV4-AT25)","v":0},{"$f":"IF(AU28=0,0,(AU28*((LOG(AU28))/LOG(2))))","v":0}]
[12,3066,13,3075,13,3079,14,3083,13,3087,0,11111,null,21221,{"$f":"COUNTIF($L$7:$L$500,N29)","v":0},{"$f":"O29/$Q$4","v":0},{"$f":"IF(P29=0,0,(P29*((LOG(P29))/LOG(2))))","v":0},null,null,{"$f":"N29","v":21221},{"$f":"COUNTIF(L7:L36,T29)","v":0},{"$f":"U29/(W4-U25)","v":0},{"$f":"IF(V29=0,0,(V29*((LOG(V29))/LOG(2))))","v":0},null,{"$f":"N29","v":21221},{"$f":"COUNTIF(L37:L65,Y29)","v":0},{"$f":"Z29/(AB4-Z25)","v":0},{"$f":"IF(AA29=0,0,(AA29*((LOG(AA29))/LOG(2))))","v":0},null,{"$f":"N29","v":21221},{"$f":"COUNTIF(L66:L95,AD29)","v":0},{"$f":"AE29/(AG4-AE25)","v":0},{"$f":"IF(AF29=0,0,(AF29*((LOG(AF29))/LOG(2))))","v":0},null,{"$f":"N29","v":21221},{"$f":"COUNTIF(L96:L125,AI29)","v":0},{"$f":"AJ29/(AL4-AJ25)","v":0},{"$f":"IF(AK29=0,0,(AK29*((LOG(AK29))/LOG(2))))","v":0},null,{"$f":"N29","v":21221},{"$f":"COUNTIF(L126:L154,AN29)","v":0},{"$f":"AO29/(AQ4-AO25)","v":0},{"$f":"IF(AP29=0,0,(AP29*((LOG(AP29))/LOG(2))))","v":0},null,{"$f":"N29","v":21221},{"$f":"COUNTIF(L155:L184,AS29)","v":0},{"$f":"AT29/(AV4-AT25)","v":0},{"$f":"IF(AU29=0,0,(AU29*((LOG(AU29))/LOG(2))))","v":0}]
[12,3187,13,3191,13,3198,14,3201,13,3215,1,11111,null,21222,{"$f":"COUNTIF($L$7:$L$500,N30)","v":0},{"$f":"O30/$Q$4","v":0},{"$f":"IF(P30=0,0,(P30*((LOG(P30))/LOG(2))))","v":0},null,null,{"$f":"N30","v":21222},{"$f":"COUNTIF(L7:L36,T30)","v":0},{"$f":"U30/(W4-U25)","v":0},{"$f":"IF(V30=0,0,(V30*((LOG(V30))/LOG(2))))","v":0},null,{"$f":"N30","v":21222},{"$f":"COUNTIF(L37:L65,Y30)","v":0},{"$f":"Z30/(AB4-Z25)","v":0},{"$f":"IF(AA30=0,0,(AA30*((LOG(AA30))/LOG(2))))","v":0},null,{"$f":"N30","v":21222},{"$f":"COUNTIF(L66:L95,AD30)","v":0},{"$f":"AE30/(AG4-AE25)","v":0},{"$f":"IF(AF30=0,0,(AF30*((LOG(AF30))/LOG(2))))","v":0},null,{"$f":"N30","v":21222},{"$f":"COUNTIF(L96:L125,AI30)","v":0},{"$f":"AJ30/(AL4-AJ25)","v":0},{"$f":"IF(AK30=0,0,(AK30*((LOG(AK30))/LOG(2))))","v":0},null,{"$f":"N30","v":21222},{"$f":"COUNTIF(L126:L154,AN30)","v":0},{"$f":"AO30/(AQ4-AO25)","v":0},{"$f":"IF(AP30=0,0,(AP30*((LOG(AP30))/LOG(2))))","v":0},null,{"$f":"N30","v":21222},{"$f":"COUNTIF(L155:L184,AS30)","v":0},{"$f":"AT30/(AV4-AT25)","v":0},{"$f":"IF(AU30=0,0,(AU30*((LOG(AU30))/LOG(2))))","v":0}]
[12,3307,24,3335,24,3339,23,3343,24,3356,0,12222,null,22111,{"$f":"COUNTIF($L$7:$L$500,N31)","v":0},{"$f":"O31/$Q$4","v":0},{"$f":"IF(P31=0,0,(P31*((LOG(P31))/LOG(2))))","v":0},null,null,{"$f":"N31","v":22111},{"$f":"COUNTIF(L7:L36,T31)","v":0},{"$f":"U31/(W4-U25)","v":0},{"$f":"IF(V31=0,0,(V31*((LOG(V31))/LOG(2))))","v":0},null,{"$f":"N31","v":22111},{"$f":"COUNTIF(L37:L65,Y31)","v":0},{"$f":"Z31/(AB4-Z25)","v":0},{"$f":"IF(AA31=0,0,(AA31*((LOG(AA31))/LOG(2))))","v":0},null,{"$f":"N31","v":22111},{"$f":"COUNTIF(L66:L95,AD31)","v":0},{"$f":"AE31/(AG4-AE25)","v":0},{"$f":"IF(AF31=0,0,(AF31*((LOG(AF31))/LOG(2))))","v":0},null,{"$f":"N31","v":22111},{"$f":"COUNTIF(L96:L125,AI31)","v":0},{"$f":"AJ31/(AL4-AJ25)","v":0},{"$f":"IF(AK31=0,0,(AK31*((LOG(AK31))/LOG(2))))","v":0},null,{"$f":"N31","v":22111},{"$f":"COUNTIF(L126:L154,AN31)","v":0},{"$f":"AO31/(AQ4-AO25)","v":0},{"$f":"IF(AP31=0,0,(AP31*((LOG(AP31))/LOG(2))))","v":0},null,{"$f":"N31","v":22111},{"$f":"COUNTIF(L155:L184,AS31)","v":0},{"$f":"AT31/(AV4-AT25)","v":0},{"$f":"IF(AU31=0,0,(AU31*((LOG(AU31))/LOG(2))))","v":0}]
[12,3458,24,3466,24,3471,23,3474,24,3479,0,12222,null,22112,{"$f":"COUNTIF($L$7:$L$500,N32)","v":0},{"$f":"O32/$Q$4","v":0},{"$f":"IF(P32=0,0,(P32*((LOG(P32))/LOG(2))))","v":0},null,null,{"$f":"N32","v":22112},{"$f":"COUNTIF(L7:L36,T32)","v":0},{"$f":"U32/(W4-U25)","v":0},{"$f":"IF(V32=0,0,(V32*((LOG(V32))/LOG(2))))","v":0},null,{"$f":"N32","v":22112},{"$f":"COUNTIF(L37:L65,Y32)","v":0},{"$f":"Z32/(AB4-Z25)","v":0},{"$f":"IF(AA32=0,0,(AA32*((LOG(AA32))/LOG(2))))","v":0},null,{"$f":"N32","v":22112},{"$f":"COUNTIF(L66:L95,AD32)","v":0},{"$f":"AE32/(AG4-AE25)","v":0},{"$f":"IF(AF32=0,0,(AF32*((LOG(AF32))/LOG(2))))","v":0},null,{"$f":"N32","v":22112},{"$f":"COUNTIF(L96:L125,AI32)","v":0},{"$f":"AJ32/(AL4-AJ25)","v":0},{"$f":"IF(AK32=0,0,(AK32*((LOG(AK32))/LOG(2))))","v":0},null,{"$f":"N32","v":22112},{"$f":"COUNTIF(L126:L154,AN32)","v":0},{"$f":"AO32/(AQ4-AO25)","v":0},{"$f":"IF(AP32=0,0,(AP32*((LOG(AP32))/LOG(2))))","v":0},null,{"$f":"N32","v":22112},{"$f":"COUNTIF(L155:L184,AS32)","v":0},{"$f":"AT32/(AV4-AT25)","v":0},{"$f":"IF(AU32=0,0,(AU32*((LOG(AU32))/LOG(2))))","v":0}]
[12,3577,13,3588,13,3592,14,3596,13,3600,0,11111,null,22121,{"$f":"COUNTIF($L$7:$L$500,N33)","v":0},{"$f":"O33/$Q$4","v":0},{"$f":"IF(P33=0,0,(P33*((LOG(P33))/LOG(2))))","v":0},null,null,{"$f":"N33","v":22121},{"$f":"COUNTIF(L7:L36,T33)","v":0},{"$f":"U33/(W4-U25)","v":0},{"$f":"IF(V33=0,0,(V33*((LOG(V33))/LOG(2))))","v":0},null,{"$f":"N33","v":22121},{"$f":"COUNTIF(L37:L65,Y33)","v":0},{"$f":"Z33/(AB4-Z25)","v":0},{"$f":"IF(AA33=0,0,(AA33*((LOG(AA33))/LOG(2))))","v":0},null,{"$f":"N33","v":22121},{"$f":"COUNTIF(L66:L95,AD33)","v":0},{"$f":"AE33/(AG4-AE25)","v":0},{"$f":"IF(AF33=0,0,(AF33*((LOG(AF33))/LOG(2))))","v":0},null,{"$f":"N33","v":22121},{"$f":"COUNTIF(L96:L125,AI33)","v":0},{"$f":"AJ33/(AL4-AJ25)","v":0},{"$f":"IF(AK33=0,0,(AK33*((LOG(AK33))/LOG(2))))","v":0},null,{"$f":"N33","v":22121},{"$f":"COUNTIF(L126:L154,AN33)","v":0},{"$f":"AO33/(AQ4-AO25)","v":0},{"$f":"IF(AP33=0,0,(AP33*((LOG(AP33))/LOG(2))))","v":0},null,{"$f":"N33","v":22121},{"$f":"COUNTIF(L155:L184,AS33)","v":0},{"$f":"AT33/(AV4-AT25)","v":0},{"$f":"IF(AU33=0,0,(AU33*((LOG(AU33))/LOG(2))))","v":0}]
[12,3698,24,3707,24,3710,23,3714,24,3718,0,12222,null,22122,{"$f":"COUNTIF($L$7:$L$500,N34)","v":0},{"$f":"O34/$Q$4","v":0},{"$f":"IF(P34=0,0,(P34*((LOG(P34))/LOG(2))))","v":0},null,null,{"$f":"N34","v":22122},{"$f":"COUNTIF(L7:L36,T34)","v":0},{"$f":"U34/(W4-U25)","v":0},{"$f":"IF(V34=0,0,(V34*((LOG(V34))/LOG(2))))","v":0},null,{"$f":"N34","v":22122},{"$f":"COUNTIF(L37:L65,Y34)","v":0},{"$f":"Z34/(AB4-Z25)","v":0},{"$f":"IF(AA34=0,0,(AA34*((LOG(AA34))/LOG(2))))","v":0},null,{"$f":"N34","v":22122},{"$f":"COUNTIF(L66:L95,AD34)","v":0},{"$f":"AE34/(AG4-AE25)","v":0},{"$f":"IF(AF34=0,0,(AF34*((LOG(AF34))/LOG(2))))","v":0},null,{"$f":"N34","v":22122},{"$f":"COUNTIF(L96:L125,AI34)","v":0},{"$f":"AJ34/(AL4-AJ25)","v":0},{"$f":"IF(AK34=0,0,(AK34*((LOG(AK34))/LOG(2))))","v":0},null,{"$f":"N34","v":22122},{"$f":"COUNTIF(L126:L154,AN34)","v":0},{"$f":"AO34/(AQ4-AO25)","v":0},{"$f":"IF(AP34=0,0,(AP34*((LOG(AP34))/LOG(2))))","v":0},null,{"$f":"N34","v":22122},{"$f":"COUNTIF(L155:L184,AS34)","v":0},{"$f":"AT34/(AV4-AT25)","v":0},{"$f":"IF(AU34=0,0,(AU34*((LOG(AU34))/LOG(2))))","v":0}]
[12,3817,13,3821,13,3828,14,3831,13,3835,0,11111,null,22211,{"$f":"COUNTIF($L$7:$L$500,N35)","v":1},{"$f":"O35/$Q$4","v":5.6179775280898875E-3},{"$f":"IF(P35=0,0,(P35*((LOG(P35))/LOG(2))))","v":-4.1998502421159538E-2},null,null,{"$f":"N35","v":22211},{"$f":"COUNTIF(L7:L36,T35)","v":1},{"$f":"U35/(W4-U25)","v":3.3333333333333333E-2},{"$f":"IF(V35=0,0,(V35*((LOG(V35))/LOG(2))))","v":-0.16356301985361729},null,{"$f":"N35","v":22211},{"$f":"COUNTIF(L37:L65,Y35)","v":0},{"$f":"Z35/(AB4-Z25)","v":0},{"$f":"IF(AA35=0,0,(AA35*((LOG(AA35))/LOG(2))))","v":0},null,{"$f":"N35","v":22211},{"$f":"COUNTIF(L66:L95,AD35)","v":0},{"$f":"AE35/(AG4-AE25)","v":0},{"$f":"IF(AF35=0,0,(AF35*((LOG(AF35))/LOG(2))))","v":0},null,{"$f":"N35","v":22211},{"$f":"COUNTIF(L96:L125,AI35)","v":0},{"$f":"AJ35/(AL4-AJ25)","v":0},{"$f":"IF(AK35=0,0,(AK35*((LOG(AK35))/LOG(2))))","v":0},null,{"$f":"N35","v":22211},{"$f":"COUNTIF(L126:L154,AN35)","v":0},{"$f":"AO35/(AQ4-AO25)","v":0},{"$f":"IF(AP35=0,0,(AP35*((LOG(AP35))/LOG(2))))","v":0},null,{"$f":"N35","v":22211},{"$f":"COUNTIF(L155:L184,AS35)","v":0},{"$f":"AT35/(AV4-AT25)","v":0},{"$f":"IF(AU35=0,0,(AU35*((LOG(AU35))/LOG(2))))","v":0}]
[12,3935,24,3942,24,3946,23,3950,24,3954,0,12222,null,22212,{"$f":"COUNTIF($L$7:$L$500,N36)","v":0},{"$f":"O36/$Q$4","v":0},{"$f":"IF(P36=0,0,(P36*((LOG(P36))/LOG(2))))","v":0},null,null,{"$f":"N36","v":22212},{"$f":"COUNTIF(L7:L36,T36)","v":0},{"$f":"U36/(W4-U25)","v":0},{"$f":"IF(V36=0,0,(V36*((LOG(V36))/LOG(2))))","v":0},null,{"$f":"N36","v":22212},{"$f":"COUNTIF(L37:L65,Y36)","v":0},{"$f":"Z36/(AB4-Z25)","v":0},{"$f":"IF(AA36=0,0,(AA36*((LOG(AA36))/LOG(2))))","v":0},null,{"$f":"N36","v":22212},{"$f":"COUNTIF(L66:L95,AD36)","v":0},{"$f":"AE36/(AG4-AE25)","v":0},{"$f":"IF(AF36=0,0,(AF36*((LOG(AF36))/LOG(2))))","v":0},null,{"$f":"N36","v":22212},{"$f":"COUNTIF(L96:L125,AI36)","v":0},{"$f":"AJ36/(AL4-AJ25)","v":0},{"$f":"IF(AK36=0,0,(AK36*((LOG(AK36))/LOG(2))))","v":0},null,{"$f":"N36","v":22212},{"$f":"COUNTIF(L126:L154,AN36)","v":0},{"$f":"AO36/(AQ4-AO25)","v":0},{"$f":"IF(AP36=0,0,(AP36*((LOG(AP36))/LOG(2))))","v":0},null,{"$f":"N36","v":22212},{"$f":"COUNTIF(L155:L184,AS36)","v":0},{"$f":"AT36/(AV4-AT25)","v":0},{"$f":"IF(AU36=0,0,(AU36*((LOG(AU36))/LOG(2))))","v":0}]
[12,4051,13,4055,24,4071,23,4076,24,4080,0,11222,null,22221,{"$f":"COUNTIF($L$7:$L$500,N37)","v":1},{"$f":"O37/$Q$4","v":5.6179775280898875E-3},{"$f":"IF(P37=0,0,(P37*((LOG(P37))/LOG(2))))","v":-4.1998502421159538E-2},null,null,{"$f":"N37","v":22221},{"$f":"COUNTIF(L7:L36,T37)","v":1},{"$f":"U37/(W4-U25)","v":3.3333333333333333E-2},{"$f":"IF(V37=0,0,(V37*((LOG(V37))/LOG(2))))","v":-0.16356301985361729},null,{"$f":"N37","v":22221},{"$f":"COUNTIF(L37:L65,Y37)","v":0},{"$f":"Z37/(AB4-Z25)","v":0},{"$f":"IF(AA37=0,0,(AA37*((LOG(AA37))/LOG(2))))","v":0},null,{"$f":"N37","v":22221},{"$f":"COUNTIF(L66:L95,AD37)","v":0},{"$f":"AE37/(AG4-AE25)","v":0},{"$f":"IF(AF37=0,0,(AF37*((LOG(AF37))/LOG(2))))","v":0},null,{"$f":"N37","v":22221},{"$f":"COUNTIF(L96:L125,AI37)","v":0},{"$f":"AJ37/(AL4-AJ25)","v":0},{"$f":"IF(AK37=0,0,(AK37*((LOG(AK37))/LOG(2))))","v":0},null,{"$f":"N37","v":22221},{"$f":"COUNTIF(L126:L154,AN37)","v":0},{"$f":"AO37/(AQ4-AO25)","v":0},{"$f":"IF(AP37=0,0,(AP37*((LOG(AP37))/LOG(2))))","v":0},null,{"$f":"N37","v":22221},{"$f":"COUNTIF(L155:L184,AS37)","v":0},{"$f":"AT37/(AV4-AT25)","v":0},{"$f":"IF(AU37=0,0,(AU37*((LOG(AU37))/LOG(2))))","v":0}]
[12,4177,24,4189,13,4199,14,4207,13,4213,0,12111,null,22222,{"$f":"COUNTIF($L$7:$L$500,N38)","v":0},{"$f":"O38/$Q$4","v":0},{"$f":"IF(P38=0,0,(P38*((LOG(P38))/LOG(2))))","v":0},null,null,{"$f":"N38","v":22222},{"$f":"COUNTIF(L7:L36,T38)","v":0},{"$f":"U38/(W4-U25)","v":0},{"$f":"IF(V38=0,0,(V38*((LOG(V38))/LOG(2))))","v":0},null,{"$f":"N38","v":22222},{"$f":"COUNTIF(L37:L65,Y38)","v":0},{"$f":"Z38/(AB4-Z25)","v":0},{"$f":"IF(AA38=0,0,(AA38*((LOG(AA38))/LOG(2))))","v":0},null,{"$f":"N38","v":22222},{"$f":"COUNTIF(L66:L95,AD38)","v":0},{"$f":"AE38/(AG4-AE25)","v":0},{"$f":"IF(AF38=0,0,(AF38*((LOG(AF38))/LOG(2))))","v":0},null,{"$f":"N38","v":22222},{"$f":"COUNTIF(L96:L125,AI38)","v":0},{"$f":"AJ38/(AL4-AJ25)","v":0},{"$f":"IF(AK38=0,0,(AK38*((LOG(AK38))/LOG(2))))","v":0},null,{"$f":"N38","v":22222},{"$f":"COUNTIF(L126:L154,AN38)","v":0},{"$f":"AO38/(AQ4-AO25)","v":0},{"$f":"IF(AP38=0,0,(AP38*((LOG(AP38))/LOG(2))))","v":0},null,{"$f":"N38","v":22222},{"$f":"COUNTIF(L155:L184,AS38)","v":0},{"$f":"AT38/(AV4-AT25)","v":0},{"$f":"IF(AU38=0,0,(AU38*((LOG(AU38))/LOG(2))))","v":0}]
[12,4311,13,4314,13,4326,14,4330,13,4333,1,11111,null,null,null,{"$f":"SUM(P7:P38)","v":1},{"$f":"-SUM(Q7:Q38)","v":1.5895344543258894},null,null,null,null,{"$f":"SUM(V7:V38)","v":1},{"$f":"-SUM(W7:W38)","v":2.9483943455364034},null,null,null,{"$f":"SUM(AA7:AA38)","v":0.99999999999999989},{"$f":"-SUM(AB7:AB38)","v":2.0628551321633783},null,null,null,{"$f":"SUM(AF7:AF38)","v":1},{"$f":"-SUM(AG7:AG38)","v":0.42002600168808801},null,null,null,{"$f":"SUM(AK7:AK38)","v":1},{"$f":"-SUM(AL7:AL38)","v":1.1722539283649269},null,null,null,{"$f":"SUM(AP7:AP38)","v":1},{"$f":"-SUM(AQ7:AQ38)","v":0},null,null,null,{"$f":"SUM(AU7:AU38)","v":1},{"$f":"-SUM(AV7:AV38)","v":0.21084230031853213}]
[12,4433,13,4459,13,4462,14,4470,13,4477,0,11111,null,null,null,"U=",{"$f":"Q39/(LOG(Q4)/LOG(2))","v":0.2126258873466022},null,null,null,null,"U1=",{"$f":"W39/(LOG(W4)/LOG(2))","v":0.60086816448997349},null,null,null,"U2=",{"$f":"AB39/(LOG(AB4)/LOG(2))","v":0.42463219478058234},null,null,null,"U3=",{"$f":"AG39/(LOG(AG4)/LOG(2))","v":8.559921879326092E-2},null,null,null,"U4=",{"$f":"AL39/(LOG(AL4)/LOG(2))","v":0.23889954453316115},null,null,null,"U5=",{"$f":"AQ39/(LOG(AQ4)/LOG(2))","v":0},null,null,null,"U6=",{"$f":"AV39/(LOG(AV4)/LOG(2))","v":4.2968616522085903E-2}]
[12,4575,13,4596,13,4599,14,4606,13,4624,0,11111]
[12,4722,13,4738,24,4745,23,4753,13,4760,0,11221]
[12,4857,13,4875,13,4890,14,4908,13,4914,0,11111,null,"Total Target Seq"]
[12,5012,13,5027,24,5034,23,5042,13,5050,0,11221,null,{"$f":"COUNTIF(L7:L184,G3)","v":0},null,30,29,30,30,29,30]
[12,5146,13,5157,13,5168,14,5184,13,5198,0,11111,null,null,null,"% of reinforcement given in 6 equal intervals based on number of trials "]
[12,5296,13,5312,13,5317,14,5323,13,5330,0,11111,null,null,null,"%_1","%_2","%_3","%_4","%_5","%_6"]
[12,5426,13,5430,13,5438,14,5449,13,5464,0,11111,null,null,"target sequence",{"$f":"$G$3","v":21121},{"$f":"$G$3","v":21121},{"$f":"$G$3","v":21121},{"$f":"$G$3","v":21121},{"$f":"$G$3","v":21121},{"$f":"$G$3","v":21121}]
[12,5562,13,5567,13,5570,14,5578,13,5582,0,11111,null,null,"total reinforcement",{"$f":"U25","v":0},{"$f":"Z25","v":0},{"$f":"AE25","v":0},{"$f":"AJ25","v":0},{"$f":"AO25","v":0},{"$f":"AT25","v":0}]
[12,5679,13,5683,13,5686,14,5689,13,5693,0,11111,null,null,"% target"]
[12,5789,13,5797,24,5815,14,5826,13,5838,1,11211,null,null,"CCRF"]
[12,5936,24,5945,24,5949,23,5954,13,5968,0,12221,null,null,"% CCRf"]
[12,6067,24,6079,24,6091,23,6095,24,6099,0,12222,null,null,"average response rate",{"$f":"J36/P44","v":131.80000000000001},{"$f":"(J65-J36)/Q44","v":139.13793103448276},{"$f":"(J95-J65)/R44","v":138.30000000000001},{"$f":"(J125-J95)/S44","v":136.6},{"$f":"(J154-J125)/T44","v":135.68965517241378},{"$f":"(J184-J154)/U44","v":125.6}]
[12,6195,13,6206,13,6214,14,6218,13,6225,0,11111]
[12,6325,13,6329,13,6332,14,6335,13,6339,0,11111]
[12,6439,13,6452,13,6459,14,6469,13,6500,0,11111]
[12,6602,13,6609,13,6617,14,6622,13,6627,0,11111]
[12,6723,13,6727,13,6731,14,6734,13,6744,0,11111]
[12,6842,13,6853,13,6869,14,6894,24,6906,0,11112]
[12,7005,13,7013,13,7015,23,7024,13,7040,0,11121]
[12,7139,13,7153,13,7168,14,7181,13,7188,0,11111]
[12,7287,13,7302,13,7316,14,7320,13,7330,1,11111]
[12,7435,24,7449,24,7453,23,7461,13,7469,1,12221]
[12,7563,24,7577,13,7586,14,7602,13,7615,1,12111]
[12,7762,13,7766,13,7772,14,7790,13,7798,0,11111]
[12,7915,13,7967,13,7974,14,7982,13,7989,0,11111]
[12,8090,13,8104,13,8111,14,8118,13,8128,1,11111]
[12,8245,13,8252,13,8276,14,8280,13,8284,0,11111]
[12,8387,13,8396,13,8413,14,8417,13,8421,0,11111]
[12,8519,13,8523,13,8527,14,8531,13,8534,0,11111]
[12,8631,13,8636,13,8643,14,8646,13,8650,0,11111]
[12,8746,13,8757,13,8762,14,8765,13,8776,1,11111]
[12,8871,13,8881,13,8886,14,8889,13,8895,0,11111]
[12,8995,13,9002,13,9013,14,9016,13,9021,0,11111]
[12,9117,13,9122,13,9131,14,9139,13,9143,0,11111]
[12,9240,13,9250,13,9260,14,9264,13,9271,0,11111]
[12,9370,13,9374,13,9382,14,9386,13,9394,0,11111]
[12,9493,13,9501,13,9514,14,9520,13,9528,1,11111]
[12,9630,13,9643,13,9658,14,9672,13,9680,0,11111]
[12,9778,13,9790,13,9806,14,9810,13,9817,0,11111]
[12,9914,13,9924,13,9931,14,9934,13,9942,1,11111]
[21,10053,11,10064,11,10068,12,10075,13,10081,1,21111]
[12,10199,13,10214,13,10221,14,10226,13,10236,0,11111]
[12,10335,13,10343,13,10361,14,10367,13,10373,0,11111]
[12,10478,13,10487,13,10494,14,10500,13,10515,0,11111]
[12,10612,13,10622,13,10636,14,10643,13,10649,0,11111]
[12,10747,13,10753,13,10757,14,10761,13,10767,0,11111]
[12,10863,13,10867,13,10880,14,10883,13,10887,1,11111]
[12,11015,13,11019,13,11027,14,11030,13,11034,0,11111]
[12,11132,13,11136,13,11143,14,11157,13,11161,1,11111]
[12,11277,13,11305,13,11312,14,11326,13,11330,0,11111]
[12,11432,24,11452,24,11456,23,11460,24,11466,0,12222]
[12,11564,13,11599,13,11603,14,11611,13,11620,0,11111]
[12,11719,13,11727,13,11747,14,11757,13,11772,0,11111]
[12,11892,13,11901,13,11914,14,11926,13,11932,0,11111]
[12,12058,13,12070,13,12104,14,12126,13,12138,1,11111]
[12,12243,13,12256,13,12265,14,12273,13,12277,0,11111]
[12,12381,13,12385,13,12425,14,12432,13,12439,0,11111]
[12,12539,13,12559,13,12563,14,12570,13,12585,0,11111]
[12,12683,13,12688,24,12703,14,12715,13,12719,0,11211]
[21,12834,11,12858,11,12862,12,12868,13,12881,0,21111]
[12,12977,13,12986,13,12990,14,13017,13,13024,0,11111]
[12,13134,13,13144,13,13150,14,13157,13,13164,1,11111]
[12,13263,13,13268,13,13276,14,13280,13,13284,0,11111]
[12,13383,13,13388,13,13393,14,13405,13,13409,0,11111]
[12,13507,13,13514,13,13518,14,13521,13,13524,1,11111]
[12,13625,13,13631,13,13635,14,13639,13,13649,0,11111]
[12,13748,13,13757,13,13764,14,13776,13,13784,0,11111]
[12,13882,13,13887,13,13893,14,13897,13,13902,0,11111]
[12,14001,24,14019,13,14030,14,14034,13,14041,1,12111]
[12,14134,13,14142,13,14149,14,14167,13,14171,1,11111]
[12,14265,13,14283,24,14312,23,14319,13,14326,0,11221]
[12,14430,24,14448,24,14458,14,14467,13,14474,0,12211]
[12,14574,13,14590,13,14605,14,14612,13,14628,0,11111]
[12,14726,13,14730,13,14737,14,14740,13,14746,0,11111]
[12,14847,24,14875,13,14883,14,14887,13,14894,1,12111]
[12,14992,13,15003,13,15007,14,15011,13,15015,0,11111]
[12,15118,13,15126,13,15133,14,15138,13,15147,0,11111]
[12,15245,13,15269,13,15273,14,15276,13,15283,0,11111]
[12,15379,13,15387,13,15390,14,15398,13,15405,0,11111]
[12,15503,13,15507,13,15515,14,15519,13,15523,0,11111]
[12,15618,13,15623,13,15639,14,15682,13,15690,0,11111]
[12,15786,13,15794,13,15797,14,15801,13,15807,1,11111]
[12,15906,13,15913,13,15930,14,15936,13,15946,0,11111]
[12,16057,13,16080,13,16084,14,16090,13,16098,0,11111]
[12,16194,13,16202,13,16222,14,16228,13,16236,0,11111]
[12,16336,13,16341,13,16348,14,16352,13,16355,0,11111]
[12,16465,13,16478,13,16481,14,16485,13,16493,0,11111]
[12,16590,13,16594,13,16600,14,16604,13,16607,0,11111]
[12,16704,13,16711,13,16723,14,16727,13,16731,0,11111]
[12,16830,13,16833,13,16837,14,16841,13,16845,1,11111]
[12,17041,13,17056,13,17084,14,17089,13,17107,0,11111]
[12,17203,13,17228,13,17234,14,17241,13,17248,0,11111]
[12,17351,13,17373,13,17377,14,17381,13,17391,0,11111]
[12,17488,13,17513,13,17517,14,17521,13,17528,0,11111]
[12,17627,13,17652,13,17663,14,17667,13,17673,0,11111]
[12,17771,13,17782,13,17786,14,17789,13,17797,0,11111]
[12,17895,13,17899,13,17903,14,17907,13,17913,0,11111]
[12,18011,13,18015,13,18043,14,18053,13,18057,0,11111]
[12,18156,13,18167,13,18171,14,18176,13,18181,0,11111]
[12,18279,13,18287,13,18291,14,18295,13,18302,1,11111]
[12,18417,13,18434,13,18438,14,18453,13,18460,0,11111]
[12,18563,13,18569,13,18573,14,18576,13,18583,0,11111]
[12,18680,13,18684,13,18687,14,18691,13,18694,0,11111]
[12,18794,13,18802,13,18806,14,18809,13,18821,1,11111]
[12,18930,13,18969,13,18973,14,18980,13,18988,0,11111]
[12,19088,13,19092,13,19096,14,19099,13,19103,1,11111]
[12,19240,13,19251,13,19257,14,19264,13,19279,1,11111]
[12,19378,13,19385,13,19389,14,19393,13,19414,0,11111]
[12,19514,13,19521,13,19538,14,19542,13,19552,0,11111]
[12,19654,13,19671,13,19674,14,19678,13,19685,0,11111]
[12,19784,13,19788,13,19791,14,19802,13,19805,0,11111]
[12,19904,13,19909,13,19915,14,19919,13,19922,0,11111]
[12,20019,13,20022,13,20026,14,20029,13,20045,1,11111]
[12,20143,13,20157,13,20160,14,20167,13,20171,0,11111]
[12,20270,13,20286,13,20290,14,20293,13,20300,0,11111]
[12,20398,13,20406,13,20427,14,20438,13,20445,0,11111]
[12,20543,13,20550,13,20556,14,20560,13,20564,0,11111]
[12,20660,13,20677,13,20691,14,20698,13,20704,0,11111]
[12,20802,13,20806,13,20810,14,20813,13,20817,1,11111]
[12,20926,13,20933,13,20937,14,20944,13,20951,0,11111]
[12,21049,13,21053,13,21063,14,21067,13,21072,0,11111]
[12,21171,13,21178,13,21184,14,21187,13,21191,1,11111]
[12,21294,13,21304,13,21315,14,21324,13,21330,1,11111]
[12,21426,13,21433,13,21436,14,21440,13,21444,0,11111]
[12,21544,13,21559,13,21563,14,21567,13,21574,0,11111]
[12,21672,13,21676,13,21689,14,21692,13,21701,0,11111]
[12,21798,13,21806,13,21814,14,21817,13,21823,0,11111]
[12,21920,13,21928,13,21934,14,21938,13,21942,0,11111]
[12,22042,13,22048,13,22052,14,22056,13,22060,0,11111]
[12,22156,13,22161,13,22172,14,22176,13,22185,0,11111]
[12,22284,13,22297,13,22301,14,22304,13,22311,1,11111]
[12,22416,13,22423,13,22426,14,22430,13,22440,0,11111]
[12,22543,13,22577,13,22581,14,22584,13,22592,0,11111]
[12,22694,13,22697,13,22701,14,22704,13,22708,0,11111]
[12,22810,13,22814,13,22819,14,22823,13,22827,0,11111]
[12,22926,13,22937,13,22945,14,22952,13,22961,0,11111]
[12,23060,13,23064,13,23067,14,23071,13,23075,0,11111]
[12,23176,13,23184,13,23191,14,23195,13,23198,0,11111]
[12,23296,13,23300,13,23304,14,23307,13,23311,0,11111]
[12,23411,13,23418,13,23422,23,23470,13,23478,1,11121]
[12,23577,13,23581,13,23587,14,23591,13,23595,0,11111]
[12,23696,13,23700,13,23707,14,23710,13,23714,0,11111]
[12,23812,13,23816,13,23819,14,23823,13,23827,0,11111]
[12,23924,13,23928,13,23931,14,23935,13,23939,null,11111]

{"sheet":"!N425B00.096","index":31,"n_rows":180,"n_cols":48,"rows_kept":180,"cut":false,"hidden":false,"merged":[[4,39,4,42],[5,39,5,40],[4,44,4,47],[5,44,5,45],[4,24,4,27],[5,24,5,25],[4,29,4,32],[5,29,5,30],[4,34,4,37],[5,34,5,35],[1,1,1,2],[5,13,5,14],[42,13,42,14],[43,13,43,14],[4,19,4,22],[5,19,5,20]]}
["Report for:!N425B00.096"]
["Date:","<date>"]
["Hen:","<hen>",null,null,null,"Correct Sequence",{"$f":"Start!J2","v":21121},null,null,null,null,null,null,null,null,"Total Sequences in Data",{"$f":"4994-COUNTBLANK(L7:L5000)","v":174},null,null,null,null,"Total Sequences in Block Data",{"$f":"COUNTA(L7:L35)","v":29},null,null,null,"Total Sequences in Block Data",{"$f":"COUNTA(L36:L64)","v":29},null,null,null,"Total Sequences in Block Data",{"$f":"COUNTA(L65:L93)","v":29},null,null,null,"Total Sequences in Block Data",{"$f":"COUNTA(L94:L122)","v":29},null,null,null,"Total Sequences in Block Data",{"$f":"COUNTA(L123:L151)","v":29},null,null,null,"Total Sequences in Block Data",{"$f":"COUNTA(L152:L180)","v":29}]
[null,null,null,null,null,null,null,null,null,null,null,null,null,null,null,"Total Sequences in Summary",{"$f":"SUM(O7:O38)","v":173},null,null,null,null,"Total Sequences in Block Summary",{"$f":"SUM(U7:U38)","v":29},null,null,null,"Total Sequences in Block Summary",{"$f":"SUM(Z7:Z38)","v":29},null,null,null,"Total Sequences in Block Summary",{"$f":"SUM(AE7:AE38)","v":29},null,null,null,"Total Sequences in Block Summary",{"$f":"SUM(AJ7:AJ38)","v":29},null,null,null,"Total Sequences in Block Summary",{"$f":"SUM(AO7:AO38)","v":29},null,null,null,"Total Sequences in Block Summary",{"$f":"SUM(AT7:AT38)","v":28}]
[null,null,null,null,null,null,null,null,null,null,null,null,null,null,null,null,null,null,null,"Block 1",null,null,null,null,"Block 2",null,null,null,null,"Block 3",null,null,null,null,"Block 4",null,null,null,null,"Block 5",null,null,null,null,"Block 6"]
["Sequence\nComponent\n1","Time\n1","Sequence\nComponent\n2","Time\n2","Sequence\nComponent\n3","Time\n3","Sequence\nComponent\n4","Time\n4","Sequence\nComponent\n5","Time\n5","Correct?\n0=No 1=Yes","Sequence",null,"Frequency",null,"Relative Frequency","Variability",null,null,"Frequency",null,"Relative Frequency","Variability",null,"Frequency",null,"Relative Frequency","Variability",null,"Frequency",null,"Relative Frequency","Variability",null,"Frequency",null,"Relative Frequency","Variability",null,"Frequency",null,"Relative Frequency","Variability",null,"Frequency",null,"Relative Frequency","Variability"]
[12,9,13,13,13,42,14,50,24,62,0,11112,null,11111,{"$f":"COUNTIF($L$7:$L$500,N7)","v":141},{"$f":"O7/$Q$4","v":0.81502890173410403},{"$f":"IF(P7=0,0,(P7*((LOG(P7))/LOG(2))))","v":-0.24049618155230226},null,null,{"$f":"N7","v":11111},{"$f":"COUNTIF(L7:L35,T7)","v":11},{"$f":"U7/(W4-U25)","v":0.37931034482758619},{"$f":"IF(V7=0,0,(V7*((LOG(V7))/LOG(2))))","v":-0.53048424625493174},null,{"$f":"N7","v":11111},{"$f":"COUNTIF(L36:L64,Y7)","v":26},{"$f":"Z7/(AB4-Z25)","v":0.89655172413793105},{"$f":"IF(AA7=0,0,(AA7*((LOG(AA7))/LOG(2))))","v":-0.14124390350511995},null,{"$f":"N7","v":11111},{"$f":"COUNTIF(L65:L93,AD7)","v":26},{"$f":"AE7/(AG4-AE25)","v":0.89655172413793105},{"$f":"IF(AF7=0,0,(AF7*((LOG(AF7))/LOG(2))))","v":-0.14124390350511995},null,{"$f":"N7","v":11111},{"$f":"COUNTIF(L94:L122,AI7)","v":27},{"$f":"AJ7/(AL4-AJ25)","v":0.93103448275862066},{"$f":"IF(AK7=0,0,(AK7*((LOG(AK7))/LOG(2))))","v":-9.5983596897613724E-2},null,{"$f":"N7","v":11111},{"$f":"COUNTIF(L123:L151,AN7)","v":26},{"$f":"AO7/(AQ4-AO25)","v":0.89655172413793105},{"$f":"IF(AP7=0,0,(AP7*((LOG(AP7))/LOG(2))))","v":-0.14124390350511995},null,{"$f":"N7","v":11111},{"$f":"COUNTIF(L152:L180,AS7)","v":25},{"$f":"AT7/(AV4-AT25)","v":0.8928571428571429},{"$f":"IF(AU7=0,0,(AU7*((LOG(AU7))/LOG(2))))","v":-0.14598101096685656}]
[12,162,13,169,24,176,23,181,24,186,0,11222,null,11112,{"$f":"COUNTIF($L$7:$L$500,N8)","v":1},{"$f":"O8/$Q$4","v":5.7803468208092483E-3},{"$f":"IF(P8=0,0,(P8*((LOG(P8))/LOG(2))))","v":-4.2974729639518636E-2},null,null,{"$f":"N8","v":11112},{"$f":"COUNTIF(L7:L35,T8)","v":1},{"$f":"U8/(W4-U25)","v":3.4482758620689655E-2},{"$f":"IF(V8=0,0,(V8*((LOG(V8))/LOG(2))))","v":-0.16751658603888178},null,{"$f":"N8","v":11112},{"$f":"COUNTIF(L36:L64,Y8)","v":0},{"$f":"Z8/(AB4-Z25)","v":0},{"$f":"IF(AA8=0,0,(AA8*((LOG(AA8))/LOG(2))))","v":0},null,{"$f":"N8","v":11112},{"$f":"COUNTIF(L65:L93,AD8)","v":0},{"$f":"AE8/(AG4-AE25)","v":0},{"$f":"IF(AF8=0,0,(AF8*((LOG(AF8))/LOG(2))))","v":0},null,{"$f":"N8","v":11112},{"$f":"COUNTIF(L94:L122,AI8)","v":0},{"$f":"AJ8/(AL4-AJ25)","v":0},{"$f":"IF(AK8=0,0,(AK8*((LOG(AK8))/LOG(2))))","v":0},null,{"$f":"N8","v":11112},{"$f":"COUNTIF(L123:L151,AN8)","v":0},{"$f":"AO8/(AQ4-AO25)","v":0},{"$f":"IF(AP8=0,0,(AP8*((LOG(AP8))/LOG(2))))","v":0},null,{"$f":"N8","v":11112},{"$f":"COUNTIF(L152:L180,AS8)","v":0},{"$f":"AT8/(AV4-AT25)","v":0},{"$f":"IF(AU8=0,0,(AU8*((LOG(AU8))/LOG(2))))","v":0}]
[12,291,24,302,24,307,23,311,24,317,0,12222,null,11121,{"$f":"COUNTIF($L$7:$L$500,N9)","v":1},{"$f":"O9/$Q$4","v":5.7803468208092483E-3},{"$f":"IF(P9=0,0,(P9*((LOG(P9))/LOG(2))))","v":-4.2974729639518636E-2},null,null,{"$f":"N9","v":11121},{"$f":"COUNTIF(L7:L35,T9)","v":0},{"$f":"U9/(W4-U25)","v":0},{"$f":"IF(V9=0,0,(V9*((LOG(V9))/LOG(2))))","v":0},null,{"$f":"N9","v":11121},{"$f":"COUNTIF(L36:L64,Y9)","v":0},{"$f":"Z9/(AB4-Z25)","v":0},{"$f":"IF(AA9=0,0,(AA9*((LOG(AA9))/LOG(2))))","v":0},null,{"$f":"N9","v":11121},{"$f":"COUNTIF(L65:L93,AD9)","v":1},{"$f":"AE9/(AG4-AE25)","v":3.4482758620689655E-2},{"$f":"IF(AF9=0,0,(AF9*((LOG(AF9))/LOG(2))))","v":-0.16751658603888178},null,{"$f":"N9","v":11121},{"$f":"COUNTIF(L94:L122,AI9)","v":0},{"$f":"AJ9/(AL4-AJ25)","v":0},{"$f":"IF(AK9=0,0,(AK9*((LOG(AK9))/LOG(2))))","v":0},null,{"$f":"N9","v":11121},{"$f":"COUNTIF(L123:L151,AN9)","v":0},{"$f":"AO9/(AQ4-AO25)","v":0},{"$f":"IF(AP9=0,0,(AP9*((LOG(AP9))/LOG(2))))","v":0},null,{"$f":"N9","v":11121},{"$f":"COUNTIF(L152:L180,AS9)","v":0},{"$f":"AT9/(AV4-AT25)","v":0},{"$f":"IF(AU9=0,0,(AU9*((LOG(AU9))/LOG(2))))","v":0}]
[21,436,22,440,24,444,14,452,13,462,0,22211,null,11122,{"$f":"COUNTIF($L$7:$L$500,N10)","v":1},{"$f":"O10/$Q$4","v":5.7803468208092483E-3},{"$f":"IF(P10=0,0,(P10*((LOG(P10))/LOG(2))))","v":-4.2974729639518636E-2},null,null,{"$f":"N10","v":11122},{"$f":"COUNTIF(L7:L35,T10)","v":1},{"$f":"U10/(W4-U25)","v":3.4482758620689655E-2},{"$f":"IF(V10=0,0,(V10*((LOG(V10))/LOG(2))))","v":-0.16751658603888178},null,{"$f":"N10","v":11122},{"$f":"COUNTIF(L36:L64,Y10)","v":0},{"$f":"Z10/(AB4-Z25)","v":0},{"$f":"IF(AA10=0,0,(AA10*((LOG(AA10))/LOG(2))))","v":0},null,{"$f":"N10","v":11122},{"$f":"COUNTIF(L65:L93,AD10)","v":0},{"$f":"AE10/(AG4-AE25)","v":0},{"$f":"IF(AF10=0,0,(AF10*((LOG(AF10))/LOG(2))))","v":0},null,{"$f":"N10","v":11122},{"$f":"COUNTIF(L94:L122,AI10)","v":0},{"$f":"AJ10/(AL4-AJ25)","v":0},{"$f":"IF(AK10=0,0,(AK10*((LOG(AK10))/LOG(2))))","v":0},null,{"$f":"N10","v":11122},{"$f":"COUNTIF(L123:L151,AN10)","v":0},{"$f":"AO10/(AQ4-AO25)","v":0},{"$f":"IF(AP10=0,0,(AP10*((LOG(AP10))/LOG(2))))","v":0},null,{"$f":"N10","v":11122},{"$f":"COUNTIF(L152:L180,AS10)","v":0},{"$f":"AT10/(AV4-AT25)","v":0},{"$f":"IF(AU10=0,0,(AU10*((LOG(AU10))/LOG(2))))","v":0}]
[12,562,24,571,24,575,23,579,24,583,0,12222,null,11211,{"$f":"COUNTIF($L$7:$L$500,N11)","v":2},{"$f":"O11/$Q$4","v":1.1560693641618497E-2},{"$f":"IF(P11=0,0,(P11*((LOG(P11))/LOG(2))))","v":-7.438876563741878E-2},null,null,{"$f":"N11","v":11211},{"$f":"COUNTIF(L7:L35,T11)","v":1},{"$f":"U11/(W4-U25)","v":3.4482758620689655E-2},{"$f":"IF(V11=0,0,(V11*((LOG(V11))/LOG(2))))","v":-0.16751658603888178},null,{"$f":"N11","v":11211},{"$f":"COUNTIF(L36:L64,Y11)","v":0},{"$f":"Z11/(AB4-Z25)","v":0},{"$f":"IF(AA11=0,0,(AA11*((LOG(AA11))/LOG(2))))","v":0},null,{"$f":"N11","v":11211},{"$f":"COUNTIF(L65:L93,AD11)","v":1},{"$f":"AE11/(AG4-AE25)","v":3.4482758620689655E-2},{"$f":"IF(AF11=0,0,(AF11*((LOG(AF11))/LOG(2))))","v":-0.16751658603888178},null,{"$f":"N11","v":11211},{"$f":"COUNTIF(L94:L122,AI11)","v":0},{"$f":"AJ11/(AL4-AJ25)","v":0},{"$f":"IF(AK11=0,0,(AK11*((LOG(AK11))/LOG(2))))","v":0},null,{"$f":"N11","v":11211},{"$f":"COUNTIF(L123:L151,AN11)","v":0},{"$f":"AO11/(AQ4-AO25)","v":0},{"$f":"IF(AP11=0,0,(AP11*((LOG(AP11))/LOG(2))))","v":0},null,{"$f":"N11","v":11211},{"$f":"COUNTIF(L152:L180,AS11)","v":0},{"$f":"AT11/(AV4-AT25)","v":0},{"$f":"IF(AU11=0,0,(AU11*((LOG(AU11))/LOG(2))))","v":0}]
[12,691,24,699,24,703,14,715,24,738,0,12212,null,11212,{"$f":"COUNTIF($L$7:$L$500,N12)","v":0},{"$f":"O12/$Q$4","v":0},{"$f":"IF(P12=0,0,(P12*((LOG(P12))/LOG(2))))","v":0},null,null,{"$f":"N12","v":11212},{"$f":"COUNTIF(L7:L35,T12)","v":0},{"$f":"U12/(W4-U25)","v":0},{"$f":"IF(V12=0,0,(V12*((LOG(V12))/LOG(2))))","v":0},null,{"$f":"N12","v":11212},{"$f":"COUNTIF(L36:L64,Y12)","v":0},{"$f":"Z12/(AB4-Z25)","v":0},{"$f":"IF(AA12=0,0,(AA12*((LOG(AA12))/LOG(2))))","v":0},null,{"$f":"N12","v":11212},{"$f":"COUNTIF(L65:L93,AD12)","v":0},{"$f":"AE12/(AG4-AE25)","v":0},{"$f":"IF(AF12=0,0,(AF12*((LOG(AF12))/LOG(2))))","v":0},null,{"$f":"N12","v":11212},{"$f":"COUNTIF(L94:L122,AI12)","v":0},{"$f":"AJ12/(AL4-AJ25)","v":0},{"$f":"IF(AK12=0,0,(AK12*((LOG(AK12))/LOG(2))))","v":0},null,{"$f":"N12","v":11212},{"$f":"COUNTIF(L123:L151,AN12)","v":0},{"$f":"AO12/(AQ4-AO25)","v":0},{"$f":"IF(AP12=0,0,(AP12*((LOG(AP12))/LOG(2))))","v":0},null,{"$f":"N12","v":11212},{"$f":"COUNTIF(L152:L180,AS12)","v":0},{"$f":"AT12/(AV4-AT25)","v":0},{"$f":"IF(AU12=0,0,(AU12*((LOG(AU12))/LOG(2))))","v":0}]
[12,838,13,865,24,873,23,887,24,891,1,11222,null,11221,{"$f":"COUNTIF($L$7:$L$500,N13)","v":2},{"$f":"O13/$Q$4","v":1.1560693641618497E-2},{"$f":"IF(P13=0,0,(P13*((LOG(P13))/LOG(2))))","v":-7.438876563741878E-2},null,null,{"$f":"N13","v":11221},{"$f":"COUNTIF(L7:L35,T13)","v":0},{"$f":"U13/(W4-U25)","v":0},{"$f":"IF(V13=0,0,(V13*((LOG(V13))/LOG(2))))","v":0},null,{"$f":"N13","v":11221},{"$f":"COUNTIF(L36:L64,Y13)","v":1},{"$f":"Z13/(AB4-Z25)","v":3.4482758620689655E-2},{"$f":"IF(AA13=0,0,(AA13*((LOG(AA13))/LOG(2))))","v":-0.16751658603888178},null,{"$f":"N13","v":11221},{"$f":"COUNTIF(L65:L93,AD13)","v":0},{"$f":"AE13/(AG4-AE25)","v":0},{"$f":"IF(AF13=0,0,(AF13*((LOG(AF13))/LOG(2))))","v":0},null,{"$f":"N13","v":11221},{"$f":"COUNTIF(L94:L122,AI13)","v":0},{"$f":"AJ13/(AL4-AJ25)","v":0},{"$f":"IF(AK13=0,0,(AK13*((LOG(AK13))/LOG(2))))","v":0},null,{"$f":"N13","v":11221},{"$f":"COUNTIF(L123:L151,AN13)","v":0},{"$f":"AO13/(AQ4-AO25)","v":0},{"$f":"IF(AP13=0,0,(AP13*((LOG(AP13))/LOG(2))))","v":0},null,{"$f":"N13","v":11221},{"$f":"COUNTIF(L152:L180,AS13)","v":1},{"$f":"AT13/(AV4-AT25)","v":3.5714285714285712E-2},{"$f":"IF(AU13=0,0,(AU13*((LOG(AU13))/LOG(2))))","v":-0.17169124721634299}]
[12,989,24,1015,24,1019,23,1023,24,1027,0,12222,null,11222,{"$f":"COUNTIF($L$7:$L$500,N14)","v":5},{"$f":"O14/$Q$4","v":2.8901734104046242E-2},{"$f":"IF(P14=0,0,(P14*((LOG(P14))/LOG(2))))","v":-0.14776589979044399},null,null,{"$f":"N14","v":11222},{"$f":"COUNTIF(L7:L35,T14)","v":4},{"$f":"U14/(W4-U25)","v":0.13793103448275862},{"$f":"IF(V14=0,0,(V14*((LOG(V14))/LOG(2))))","v":-0.39420427519000989},null,{"$f":"N14","v":11222},{"$f":"COUNTIF(L36:L64,Y14)","v":0},{"$f":"Z14/(AB4-Z25)","v":0},{"$f":"IF(AA14=0,0,(AA14*((LOG(AA14))/LOG(2))))","v":0},null,{"$f":"N14","v":11222},{"$f":"COUNTIF(L65:L93,AD14)","v":0},{"$f":"AE14/(AG4-AE25)","v":0},{"$f":"IF(AF14=0,0,(AF14*((LOG(AF14))/LOG(2))))","v":0},null,{"$f":"N14","v":11222},{"$f":"COUNTIF(L94:L122,AI14)","v":0},{"$f":"AJ14/(AL4-AJ25)","v":0},{"$f":"IF(AK14=0,0,(AK14*((LOG(AK14))/LOG(2))))","v":0},null,{"$f":"N14","v":11222},{"$f":"COUNTIF(L123:L151,AN14)","v":1},{"$f":"AO14/(AQ4-AO25)","v":3.4482758620689655E-2},{"$f":"IF(AP14=0,0,(AP14*((LOG(AP14))/LOG(2))))","v":-0.16751658603888178},null,{"$f":"N14","v":11222},{"$f":"COUNTIF(L152:L180,AS14)","v":0},{"$f":"AT14/(AV4-AT25)","v":0},{"$f":"IF(AU14=0,0,(AU14*((LOG(AU14))/LOG(2))))","v":0}]
[12,1129,13,1140,24,1149,23,1153,24,1167,0,11222,null,12111,{"$f":"COUNTIF($L$7:$L$500,N15)","v":5},{"$f":"O15/$Q$4","v":2.8901734104046242E-2},{"$f":"IF(P15=0,0,(P15*((LOG(P15))/LOG(2))))","v":-0.14776589979044399},null,null,{"$f":"N15","v":12111},{"$f":"COUNTIF(L7:L35,T15)","v":2},{"$f":"U15/(W4-U25)","v":6.8965517241379309E-2},{"$f":"IF(V15=0,0,(V15*((LOG(V15))/LOG(2))))","v":-0.26606765483638428},null,{"$f":"N15","v":12111},{"$f":"COUNTIF(L36:L64,Y15)","v":0},{"$f":"Z15/(AB4-Z25)","v":0},{"$f":"IF(AA15=0,0,(AA15*((LOG(AA15))/LOG(2))))","v":0},null,{"$f":"N15","v":12111},{"$f":"COUNTIF(L65:L93,AD15)","v":0},{"$f":"AE15/(AG4-AE25)","v":0},{"$f":"IF(AF15=0,0,(AF15*((LOG(AF15))/LOG(2))))","v":0},null,{"$f":"N15","v":12111},{"$f":"COUNTIF(L94:L122,AI15)","v":0},{"$f":"AJ15/(AL4-AJ25)","v":0},{"$f":"IF(AK15=0,0,(AK15*((LOG(AK15))/LOG(2))))","v":0},null,{"$f":"N15","v":12111},{"$f":"COUNTIF(L123:L151,AN15)","v":1},{"$f":"AO15/(AQ4-AO25)","v":3.4482758620689655E-2},{"$f":"IF(AP15=0,0,(AP15*((LOG(AP15))/LOG(2))))","v":-0.16751658603888178},null,{"$f":"N15","v":12111},{"$f":"COUNTIF(L152:L180,AS15)","v":2},{"$f":"AT15/(AV4-AT25)","v":7.1428571428571425E-2},{"$f":"IF(AU15=0,0,(AU15*((LOG(AU15))/LOG(2))))","v":-0.27195392300411453}]
[12,1269,24,1293,24,1297,23,1302,24,1308,0,12222,null,12112,{"$f":"COUNTIF($L$7:$L$500,N16)","v":0},{"$f":"O16/$Q$4","v":0},{"$f":"IF(P16=0,0,(P16*((LOG(P16))/LOG(2))))","v":0},null,null,{"$f":"N16","v":12112},{"$f":"COUNTIF(L7:L35,T16)","v":0},{"$f":"U16/(W4-U25)","v":0},{"$f":"IF(V16=0,0,(V16*((LOG(V16))/LOG(2))))","v":0},null,{"$f":"N16","v":12112},{"$f":"COUNTIF(L36:L64,Y16)","v":0},{"$f":"Z16/(AB4-Z25)","v":0},{"$f":"IF(AA16=0,0,(AA16*((LOG(AA16))/LOG(2))))","v":0},null,{"$f":"N16","v":12112},{"$f":"COUNTIF(L65:L93,AD16)","v":0},{"$f":"AE16/(AG4-AE25)","v":0},{"$f":"IF(AF16=0,0,(AF16*((LOG(AF16))/LOG(2))))","v":0},null,{"$f":"N16","v":12112},{"$f":"COUNTIF(L94:L122,AI16)","v":0},{"$f":"AJ16/(AL4-AJ25)","v":0},{"$f":"IF(AK16=0,0,(AK16*((LOG(AK16))/LOG(2))))","v":0},null,{"$f":"N16","v":12112},{"$f":"COUNTIF(L123:L151,AN16)","v":0},{"$f":"AO16/(AQ4-AO25)","v":0},{"$f":"IF(AP16=0,0,(AP16*((LOG(AP16))/LOG(2))))","v":0},null,{"$f":"N16","v":12112},{"$f":"COUNTIF(L152:L180,AS16)","v":0},{"$f":"AT16/(AV4-AT25)","v":0},{"$f":"IF(AU16=0,0,(AU16*((LOG(AU16))/LOG(2))))","v":0}]
[12,1411,13,1438,13,1449,14,1462,13,1487,0,11111,null,12121,{"$f":"COUNTIF($L$7:$L$500,N17)","v":0},{"$f":"O17/$Q$4","v":0},{"$f":"IF(P17=0,0,(P17*((LOG(P17))/LOG(2))))","v":0},null,null,{"$f":"N17","v":12121},{"$f":"COUNTIF(L7:L35,T17)","v":0},{"$f":"U17/(W4-U25)","v":0},{"$f":"IF(V17=0,0,(V17*((LOG(V17))/LOG(2))))","v":0},null,{"$f":"N17","v":12121},{"$f":"COUNTIF(L36:L64,Y17)","v":0},{"$f":"Z17/(AB4-Z25)","v":0},{"$f":"IF(AA17=0,0,(AA17*((LOG(AA17))/LOG(2))))","v":0},null,{"$f":"N17","v":12121},{"$f":"COUNTIF(L65:L93,AD17)","v":0},{"$f":"AE17/(AG4-AE25)","v":0},{"$f":"IF(AF17=0,0,(AF17*((LOG(AF17))/LOG(2))))","v":0},null,{"$f":"N17","v":12121},{"$f":"COUNTIF(L94:L122,AI17)","v":0},{"$f":"AJ17/(AL4-AJ25)","v":0},{"$f":"IF(AK17=0,0,(AK17*((LOG(AK17))/LOG(2))))","v":0},null,{"$f":"N17","v":12121},{"$f":"COUNTIF(L123:L151,AN17)","v":0},{"$f":"AO17/(AQ4-AO25)","v":0},{"$f":"IF(AP17=0,0,(AP17*((LOG(AP17))/LOG(2))))","v":0},null,{"$f":"N17","v":12121},{"$f":"COUNTIF(L152:L180,AS17)","v":0},{"$f":"AT17/(AV4-AT25)","v":0},{"$f":"IF(AU17=0,0,(AU17*((LOG(AU17))/LOG(2))))","v":0}]
[12,1586,13,1609,24,1616,23,1621,24,1625,0,11222,null,12122,{"$f":"COUNTIF($L$7:$L$500,N18)","v":0},{"$f":"O18/$Q$4","v":0},{"$f":"IF(P18=0,0,(P18*((LOG(P18))/LOG(2))))","v":0},null,null,{"$f":"N18","v":12122},{"$f":"COUNTIF(L7:L35,T18)","v":0},{"$f":"U18/(W4-U25)","v":0},{"$f":"IF(V18=0,0,(V18*((LOG(V18))/LOG(2))))","v":0},null,{"$f":"N18","v":12122},{"$f":"COUNTIF(L36:L64,Y18)","v":0},{"$f":"Z18/(AB4-Z25)","v":0},{"$f":"IF(AA18=0,0,(AA18*((LOG(AA18))/LOG(2))))","v":0},null,{"$f":"N18","v":12122},{"$f":"COUNTIF(L65:L93,AD18)","v":0},{"$f":"AE18/(AG4-AE25)","v":0},{"$f":"IF(AF18=0,0,(AF18*((LOG(AF18))/LOG(2))))","v":0},null,{"$f":"N18","v":12122},{"$f":"COUNTIF(L94:L122,AI18)","v":0},{"$f":"AJ18/(AL4-AJ25)","v":0},{"$f":"IF(AK18=0,0,(AK18*((LOG(AK18))/LOG(2))))","v":0},null,{"$f":"N18","v":12122},{"$f":"COUNTIF(L123:L151,AN18)","v":0},{"$f":"AO18/(AQ4-AO25)","v":0},{"$f":"IF(AP18=0,0,(AP18*((LOG(AP18))/LOG(2))))","v":0},null,{"$f":"N18","v":12122},{"$f":"COUNTIF(L152:L180,AS18)","v":0},{"$f":"AT18/(AV4-AT25)","v":0},{"$f":"IF(AU18=0,0,(AU18*((LOG(AU18))/LOG(2))))","v":0}]
[12,1722,13,1730,13,1744,23,1758,24,1762,0,11122,null,12211,{"$f":"COUNTIF($L$7:$L$500,N19)","v":0},{"$f":"O19/$Q$4","v":0},{"$f":"IF(P19=0,0,(P19*((LOG(P19))/LOG(2))))","v":0},null,null,{"$f":"N19","v":12211},{"$f":"COUNTIF(L7:L35,T19)","v":0},{"$f":"U19/(W4-U25)","v":0},{"$f":"IF(V19=0,0,(V19*((LOG(V19))/LOG(2))))","v":0},null,{"$f":"N19","v":12211},{"$f":"COUNTIF(L36:L64,Y19)","v":0},{"$f":"Z19/(AB4-Z25)","v":0},{"$f":"IF(AA19=0,0,(AA19*((LOG(AA19))/LOG(2))))","v":0},null,{"$f":"N19","v":12211},{"$f":"COUNTIF(L65:L93,AD19)","v":0},{"$f":"AE19/(AG4-AE25)","v":0},{"$f":"IF(AF19=0,0,(AF19*((LOG(AF19))/LOG(2))))","v":0},null,{"$f":"N19","v":12211},{"$f":"COUNTIF(L94:L122,AI19)","v":0},{"$f":"AJ19/(AL4-AJ25)","v":0},{"$f":"IF(AK19=0,0,(AK19*((LOG(AK19))/LOG(2))))","v":0},null,{"$f":"N19","v":12211},{"$f":"COUNTIF(L123:L151,AN19)","v":0},{"$f":"AO19/(AQ4-AO25)","v":0},{"$f":"IF(AP19=0,0,(AP19*((LOG(AP19))/LOG(2))))","v":0},null,{"$f":"N19","v":12211},{"$f":"COUNTIF(L152:L180,AS19)","v":0},{"$f":"AT19/(AV4-AT25)","v":0},{"$f":"IF(AU19=0,0,(AU19*((LOG(AU19))/LOG(2))))","v":0}]
[12,1864,13,1892,13,1900,14,1924,13,1942,1,11111,null,12212,{"$f":"COUNTIF($L$7:$L$500,N20)","v":1},{"$f":"O20/$Q$4","v":5.7803468208092483E-3},{"$f":"IF(P20=0,0,(P20*((LOG(P20))/LOG(2))))","v":-4.2974729639518636E-2},null,null,{"$f":"N20","v":12212},{"$f":"COUNTIF(L7:L35,T20)","v":1},{"$f":"U20/(W4-U25)","v":3.4482758620689655E-2},{"$f":"IF(V20=0,0,(V20*((LOG(V20))/LOG(2))))","v":-0.16751658603888178},null,{"$f":"N20","v":12212},{"$f":"COUNTIF(L36:L64,Y20)","v":0},{"$f":"Z20/(AB4-Z25)","v":0},{"$f":"IF(AA20=0,0,(AA20*((LOG(AA20))/LOG(2))))","v":0},null,{"$f":"N20","v":12212},{"$f":"COUNTIF(L65:L93,AD20)","v":0},{"$f":"AE20/(AG4-AE25)","v":0},{"$f":"IF(AF20=0,0,(AF20*((LOG(AF20))/LOG(2))))","v":0},null,{"$f":"N20","v":12212},{"$f":"COUNTIF(L94:L122,AI20)","v":0},{"$f":"AJ20/(AL4-AJ25)","v":0},{"$f":"IF(AK20=0,0,(AK20*((LOG(AK20))/LOG(2))))","v":0},null,{"$f":"N20","v":12212},{"$f":"COUNTIF(L123:L151,AN20)","v":0},{"$f":"AO20/(AQ4-AO25)","v":0},{"$f":"IF(AP20=0,0,(AP20*((LOG(AP20))/LOG(2))))","v":0},null,{"$f":"N20","v":12212},{"$f":"COUNTIF(L152:L180,AS20)","v":0},{"$f":"AT20/(AV4-AT25)","v":0},{"$f":"IF(AU20=0,0,(AU20*((LOG(AU20))/LOG(2))))","v":0}]
[21,2063,22,2067,13,2082,14,2093,13,2100,0,22111,null,12221,{"$f":"COUNTIF($L$7:$L$500,N21)","v":2},{"$f":"O21/$Q$4","v":1.1560693641618497E-2},{"$f":"IF(P21=0,0,(P21*((LOG(P21))/LOG(2))))","v":-7.438876563741878E-2},null,null,{"$f":"N21","v":12221},{"$f":"COUNTIF(L7:L35,T21)","v":0},{"$f":"U21/(W4-U25)","v":0},{"$f":"IF(V21=0,0,(V21*((LOG(V21))/LOG(2))))","v":0},null,{"$f":"N21","v":12221},{"$f":"COUNTIF(L36:L64,Y21)","v":1},{"$f":"Z21/(AB4-Z25)","v":3.4482758620689655E-2},{"$f":"IF(AA21=0,0,(AA21*((LOG(AA21))/LOG(2))))","v":-0.16751658603888178},null,{"$f":"N21","v":12221},{"$f":"COUNTIF(L65:L93,AD21)","v":0},{"$f":"AE21/(AG4-AE25)","v":0},{"$f":"IF(AF21=0,0,(AF21*((LOG(AF21))/LOG(2))))","v":0},null,{"$f":"N21","v":12221},{"$f":"COUNTIF(L94:L122,AI21)","v":1},{"$f":"AJ21/(AL4-AJ25)","v":3.4482758620689655E-2},{"$f":"IF(AK21=0,0,(AK21*((LOG(AK21))/LOG(2))))","v":-0.16751658603888178},null,{"$f":"N21","v":12221},{"$f":"COUNTIF(L123:L151,AN21)","v":0},{"$f":"AO21/(AQ4-AO25)","v":0},{"$f":"IF(AP21=0,0,(AP21*((LOG(AP21))/LOG(2))))","v":0},null,{"$f":"N21","v":12221},{"$f":"COUNTIF(L152:L180,AS21)","v":0},{"$f":"AT21/(AV4-AT25)","v":0},{"$f":"IF(AU21=0,0,(AU21*((LOG(AU21))/LOG(2))))","v":0}]
[12,2204,24,2227,24,2232,23,2236,24,2240,0,12222,null,12222,{"$f":"COUNTIF($L$7:$L$500,N22)","v":7},{"$f":"O22/$Q$4","v":4.046242774566474E-2},{"$f":"IF(P22=0,0,(P22*((LOG(P22))/LOG(2))))","v":-0.18723071178643838},null,null,{"$f":"N22","v":12222},{"$f":"COUNTIF(L7:L35,T22)","v":6},{"$f":"U22/(W4-U25)","v":0.20689655172413793},{"$f":"IF(V22=0,0,(V22*((LOG(V22))/LOG(2))))","v":-0.4702796884978791},null,{"$f":"N22","v":12222},{"$f":"COUNTIF(L36:L64,Y22)","v":0},{"$f":"Z22/(AB4-Z25)","v":0},{"$f":"IF(AA22=0,0,(AA22*((LOG(AA22))/LOG(2))))","v":0},null,{"$f":"N22","v":12222},{"$f":"COUNTIF(L65:L93,AD22)","v":0},{"$f":"AE22/(AG4-AE25)","v":0},{"$f":"IF(AF22=0,0,(AF22*((LOG(AF22))/LOG(2))))","v":0},null,{"$f":"N22","v":12222},{"$f":"COUNTIF(L94:L122,AI22)","v":1},{"$f":"AJ22/(AL4-AJ25)","v":3.4482758620689655E-2},{"$f":"IF(AK22=0,0,(AK22*((LOG(AK22))/LOG(2))))","v":-0.16751658603888178},null,{"$f":"N22","v":12222},{"$f":"COUNTIF(L123:L151,AN22)","v":0},{"$f":"AO22/(AQ4-AO25)","v":0},{"$f":"IF(AP22=0,0,(AP22*((LOG(AP22))/LOG(2))))","v":0},null,{"$f":"N22","v":12222},{"$f":"COUNTIF(L152:L180,AS22)","v":0},{"$f":"AT22/(AV4-AT25)","v":0},{"$f":"IF(AU22=0,0,(AU22*((LOG(AU22))/LOG(2))))","v":0}]
[12,2340,13,2352,13,2372,14,2406,13,2417,0,11111,null,21111,{"$f":"COUNTIF($L$7:$L$500,N23)","v":2},{"$f":"O23/$Q$4","v":1.1560693641618497E-2},{"$f":"IF(P23=0,0,(P23*((LOG(P23))/LOG(2))))","v":-7.438876563741878E-2},null,null,{"$f":"N23","v":21111},{"$f":"COUNTIF(L7:L35,T23)","v":0},{"$f":"U23/(W4-U25)","v":0},{"$f":"IF(V23=0,0,(V23*((LOG(V23))/LOG(2))))","v":0},null,{"$f":"N23","v":21111},{"$f":"COUNTIF(L36:L64,Y23)","v":1},{"$f":"Z23/(AB4-Z25)","v":3.4482758620689655E-2},{"$f":"IF(AA23=0,0,(AA23*((LOG(AA23))/LOG(2))))","v":-0.16751658603888178},null,{"$f":"N23","v":21111},{"$f":"COUNTIF(L65:L93,AD23)","v":1},{"$f":"AE23/(AG4-AE25)","v":3.4482758620689655E-2},{"$f":"IF(AF23=0,0,(AF23*((LOG(AF23))/LOG(2))))","v":-0.16751658603888178},null,{"$f":"N23","v":21111},{"$f":"COUNTIF(L94:L122,AI23)","v":0},{"$f":"AJ23/(AL4-AJ25)","v":0},{"$f":"IF(AK23=0,0,(AK23*((LOG(AK23))/LOG(2))))","v":0},null,{"$f":"N23","v":21111},{"$f":"COUNTIF(L123:L151,AN23)","v":0},{"$f":"AO23/(AQ4-AO25)","v":0},{"$f":"IF(AP23=0,0,(AP23*((LOG(AP23))/LOG(2))))","v":0},null,{"$f":"N23","v":21111},{"$f":"COUNTIF(L152:L180,AS23)","v":0},{"$f":"AT23/(AV4-AT25)","v":0},{"$f":"IF(AU23=0,0,(AU23*((LOG(AU23))/LOG(2))))","v":0}]
[12,2516,24,2545,13,2555,14,2569,13,2575,0,12111,null,21112,{"$f":"COUNTIF($L$7:$L$500,N24)","v":0},{"$f":"O24/$Q$4","v":0},{"$f":"IF(P24=0,0,(P24*((LOG(P24))/LOG(2))))","v":0},null,null,{"$f":"N24","v":21112},{"$f":"COUNTIF(L7:L35,T24)","v":0},{"$f":"U24/(W4-U25)","v":0},{"$f":"IF(V24=0,0,(V24*((LOG(V24))/LOG(2))))","v":0},null,{"$f":"N24","v":21112},{"$f":"COUNTIF(L36:L64,Y24)","v":0},{"$f":"Z24/(AB4-Z25)","v":0},{"$f":"IF(AA24=0,0,(AA24*((LOG(AA24))/LOG(2))))","v":0},null,{"$f":"N24","v":21112},{"$f":"COUNTIF(L65:L93,AD24)","v":0},{"$f":"AE24/(AG4-AE25)","v":0},{"$f":"IF(AF24=0,0,(AF24*((LOG(AF24))/LOG(2))))","v":0},null,{"$f":"N24","v":21112},{"$f":"COUNTIF(L94:L122,AI24)","v":0},{"$f":"AJ24/(AL4-AJ25)","v":0},{"$f":"IF(AK24=0,0,(AK24*((LOG(AK24))/LOG(2))))","v":0},null,{"$f":"N24","v":21112},{"$f":"COUNTIF(L123:L151,AN24)","v":0},{"$f":"AO24/(AQ4-AO25)","v":0},{"$f":"IF(AP24=0,0,(AP24*((LOG(AP24))/LOG(2))))","v":0},null,{"$f":"N24","v":21112},{"$f":"COUNTIF(L152:L180,AS24)","v":0},{"$f":"AT24/(AV4-AT25)","v":0},{"$f":"IF(AU24=0,0,(AU24*((LOG(AU24))/LOG(2))))","v":0}]
[12,2678,13,2721,13,2725,14,2736,13,2744,0,11111,null,21121,{"$f":"COUNTIF($L$7:$L$500,N25)","v":0},{"$f":"O25/$Q$4","v":0},{"$f":"IF(P25=0,0,(P25*((LOG(P25))/LOG(2))))","v":0},null,null,{"$f":"N25","v":21121},{"$f":"COUNTIF(L7:L35,T25)","v":0},null,null,null,{"$f":"N25","v":21121},{"$f":"COUNTIF(L36:L64,Y25)","v":0},null,null,null,{"$f":"N25","v":21121},{"$f":"COUNTIF(L65:L93,AD25)","v":0},null,null,null,{"$f":"N25","v":21121},{"$f":"COUNTIF(L94:L122,AI25)","v":0},null,null,null,{"$f":"N25","v":21121},{"$f":"COUNTIF(L123:L151,AN25)","v":0},null,null,null,{"$f":"N25","v":21121},{"$f":"COUNTIF(L152:L180,AS25)","v":0}]
[12,2842,13,2851,13,2855,14,2865,13,2869,0,11111,null,21122,{"$f":"COUNTIF($L$7:$L$500,N26)","v":0},{"$f":"O26/$Q$4","v":0},{"$f":"IF(P26=0,0,(P26*((LOG(P26))/LOG(2))))","v":0},null,null,{"$f":"N26","v":21122},{"$f":"COUNTIF(L7:L35,T26)","v":0},{"$f":"U26/(W4-U25)","v":0},{"$f":"IF(V26=0,0,(V26*((LOG(V26))/LOG(2))))","v":0},null,{"$f":"N26","v":21122},{"$f":"COUNTIF(L36:L64,Y26)","v":0},{"$f":"Z26/(AB4-Z25)","v":0},{"$f":"IF(AA26=0,0,(AA26*((LOG(AA26))/LOG(2))))","v":0},null,{"$f":"N26","v":21122},{"$f":"COUNTIF(L65:L93,AD26)","v":0},{"$f":"AE26/(AG4-AE25)","v":0},{"$f":"IF(AF26=0,0,(AF26*((LOG(AF26))/LOG(2))))","v":0},null,{"$f":"N26","v":21122},{"$f":"COUNTIF(L94:L122,AI26)","v":0},{"$f":"AJ26/(AL4-AJ25)","v":0},{"$f":"IF(AK26=0,0,(AK26*((LOG(AK26))/LOG(2))))","v":0},null,{"$f":"N26","v":21122},{"$f":"COUNTIF(L123:L151,AN26)","v":0},{"$f":"AO26/(AQ4-AO25)","v":0},{"$f":"IF(AP26=0,0,(AP26*((LOG(AP26))/LOG(2))))","v":0},null,{"$f":"N26","v":21122},{"$f":"COUNTIF(L152:L180,AS26)","v":0},{"$f":"AT26/(AV4-AT25)","v":0},{"$f":"IF(AU26=0,0,(AU26*((LOG(AU26))/LOG(2))))","v":0}]
[12,2968,24,2982,24,2986,23,2995,24,3004,1,12222,null,21211,{"$f":"COUNTIF($L$7:$L$500,N27)","v":0},{"$f":"O27/$Q$4","v":0},{"$f":"IF(P27=0,0,(P27*((LOG(P27))/LOG(2))))","v":0},null,null,{"$f":"N27","v":21211},{"$f":"COUNTIF(L7:L35,T27)","v":0},{"$f":"U27/(W4-U25)","v":0},{"$f":"IF(V27=0,0,(V27*((LOG(V27))/LOG(2))))","v":0},null,{"$f":"N27","v":21211},{"$f":"COUNTIF(L36:L64,Y27)","v":0},{"$f":"Z27/(AB4-Z25)","v":0},{"$f":"IF(AA27=0,0,(AA27*((LOG(AA27))/LOG(2))))","v":0},null,{"$f":"N27","v":21211},{"$f":"COUNTIF(L65:L93,AD27)","v":0},{"$f":"AE27/(AG4-AE25)","v":0},{"$f":"IF(AF27=0,0,(AF27*((LOG(AF27))/LOG(2))))","v":0},null,{"$f":"N27","v":21211},{"$f":"COUNTIF(L94:L122,AI27)","v":0},{"$f":"AJ27/(AL4-AJ25)","v":0},{"$f":"IF(AK27=0,0,(AK27*((LOG(AK27))/LOG(2))))","v":0},null,{"$f":"N27","v":21211},{"$f":"COUNTIF(L123:L151,AN27)","v":0},{"$f":"AO27/(AQ4-AO25)","v":0},{"$f":"IF(AP27=0,0,(AP27*((LOG(AP27))/LOG(2))))","v":0},null,{"$f":"N27","v":21211},{"$f":"COUNTIF(L152:L180,AS27)","v":0},{"$f":"AT27/(AV4-AT25)","v":0},{"$f":"IF(AU27=0,0,(AU27*((LOG(AU27))/LOG(2))))","v":0}]
[12,3102,13,3111,13,3122,14,3128,13,3132,0,11111,null,21212,{"$f":"COUNTIF($L$7:$L$500,N28)","v":0},{"$f":"O28/$Q$4","v":0},{"$f":"IF(P28=0,0,(P28*((LOG(P28))/LOG(2))))","v":0},null,null,{"$f":"N28","v":21212},{"$f":"COUNTIF(L7:L35,T28)","v":0},{"$f":"U28/(W4-U25)","v":0},{"$f":"IF(V28=0,0,(V28*((LOG(V28))/LOG(2))))","v":0},null,{"$f":"N28","v":21212},{"$f":"COUNTIF(L36:L64,Y28)","v":0},{"$f":"Z28/(AB4-Z25)","v":0},{"$f":"IF(AA28=0,0,(AA28*((LOG(AA28))/LOG(2))))","v":0},null,{"$f":"N28","v":21212},{"$f":"COUNTIF(L65:L93,AD28)","v":0},{"$f":"AE28/(AG4-AE25)","v":0},{"$f":"IF(AF28=0,0,(AF28*((LOG(AF28))/LOG(2))))","v":0},null,{"$f":"N28","v":21212},{"$f":"COUNTIF(L94:L122,AI28)","v":0},{"$f":"AJ28/(AL4-AJ25)","v":0},{"$f":"IF(AK28=0,0,(AK28*((LOG(AK28))/LOG(2))))","v":0},null,{"$f":"N28","v":21212},{"$f":"COUNTIF(L123:L151,AN28)","v":0},{"$f":"AO28/(AQ4-AO25)","v":0},{"$f":"IF(AP28=0,0,(AP28*((LOG(AP28))/LOG(2))))","v":0},null,{"$f":"N28","v":21212},{"$f":"COUNTIF(L152:L180,AS28)","v":0},{"$f":"AT28/(AV4-AT25)","v":0},{"$f":"IF(AU28=0,0,(AU28*((LOG(AU28))/LOG(2))))","v":0}]
[12,3257,13,3265,13,3274,14,3277,13,3285,0,11111,null,21221,{"$f":"COUNTIF($L$7:$L$500,N29)","v":0},{"$f":"O29/$Q$4","v":0},{"$f":"IF(P29=0,0,(P29*((LOG(P29))/LOG(2))))","v":0},null,null,{"$f":"N29","v":21221},{"$f":"COUNTIF(L7:L35,T29)","v":0},{"$f":"U29/(W4-U25)","v":0},{"$f":"IF(V29=0,0,(V29*((LOG(V29))/LOG(2))))","v":0},null,{"$f":"N29","v":21221},{"$f":"COUNTIF(L36:L64,Y29)","v":0},{"$f":"Z29/(AB4-Z25)","v":0},{"$f":"IF(AA29=0,0,(AA29*((LOG(AA29))/LOG(2))))","v":0},null,{"$f":"N29","v":21221},{"$f":"COUNTIF(L65:L93,AD29)","v":0},{"$f":"AE29/(AG4-AE25)","v":0},{"$f":"IF(AF29=0,0,(AF29*((LOG(AF29))/LOG(2))))","v":0},null,{"$f":"N29","v":21221},{"$f":"COUNTIF(L94:L122,AI29)","v":0},{"$f":"AJ29/(AL4-AJ25)","v":0},{"$f":"IF(AK29=0,0,(AK29*((LOG(AK29))/LOG(2))))","v":0},null,{"$f":"N29","v":21221},{"$f":"COUNTIF(L123:L151,AN29)","v":0},{"$f":"AO29/(AQ4-AO25)","v":0},{"$f":"IF(AP29=0,0,(AP29*((LOG(AP29))/LOG(2))))","v":0},null,{"$f":"N29","v":21221},{"$f":"COUNTIF(L152:L180,AS29)","v":0},{"$f":"AT29/(AV4-AT25)","v":0},{"$f":"IF(AU29=0,0,(AU29*((LOG(AU29))/LOG(2))))","v":0}]
[12,3383,24,3400,13,3412,14,3421,13,3427,0,12111,null,21222,{"$f":"COUNTIF($L$7:$L$500,N30)","v":0},{"$f":"O30/$Q$4","v":0},{"$f":"IF(P30=0,0,(P30*((LOG(P30))/LOG(2))))","v":0},null,null,{"$f":"N30","v":21222},{"$f":"COUNTIF(L7:L35,T30)","v":0},{"$f":"U30/(W4-U25)","v":0},{"$f":"IF(V30=0,0,(V30*((LOG(V30))/LOG(2))))","v":0},null,{"$f":"N30","v":21222},{"$f":"COUNTIF(L36:L64,Y30)","v":0},{"$f":"Z30/(AB4-Z25)","v":0},{"$f":"IF(AA30=0,0,(AA30*((LOG(AA30))/LOG(2))))","v":0},null,{"$f":"N30","v":21222},{"$f":"COUNTIF(L65:L93,AD30)","v":0},{"$f":"AE30/(AG4-AE25)","v":0},{"$f":"IF(AF30=0,0,(AF30*((LOG(AF30))/LOG(2))))","v":0},null,{"$f":"N30","v":21222},{"$f":"COUNTIF(L94:L122,AI30)","v":0},{"$f":"AJ30/(AL4-AJ25)","v":0},{"$f":"IF(AK30=0,0,(AK30*((LOG(AK30))/LOG(2))))","v":0},null,{"$f":"N30","v":21222},{"$f":"COUNTIF(L123:L151,AN30)","v":0},{"$f":"AO30/(AQ4-AO25)","v":0},{"$f":"IF(AP30=0,0,(AP30*((LOG(AP30))/LOG(2))))","v":0},null,{"$f":"N30","v":21222},{"$f":"COUNTIF(L152:L180,AS30)","v":0},{"$f":"AT30/(AV4-AT25)","v":0},{"$f":"IF(AU30=0,0,(AU30*((LOG(AU30))/LOG(2))))","v":0}]
[12,3528,13,3555,13,3559,14,3565,13,3573,0,11111,null,22111,{"$f":"COUNTIF($L$7:$L$500,N31)","v":2},{"$f":"O31/$Q$4","v":1.1560693641618497E-2},{"$f":"IF(P31=0,0,(P31*((LOG(P31))/LOG(2))))","v":-7.438876563741878E-2},null,null,{"$f":"N31","v":22111},{"$f":"COUNTIF(L7:L35,T31)","v":1},{"$f":"U31/(W4-U25)","v":3.4482758620689655E-2},{"$f":"IF(V31=0,0,(V31*((LOG(V31))/LOG(2))))","v":-0.16751658603888178},null,{"$f":"N31","v":22111},{"$f":"COUNTIF(L36:L64,Y31)","v":0},{"$f":"Z31/(AB4-Z25)","v":0},{"$f":"IF(AA31=0,0,(AA31*((LOG(AA31))/LOG(2))))","v":0},null,{"$f":"N31","v":22111},{"$f":"COUNTIF(L65:L93,AD31)","v":0},{"$f":"AE31/(AG4-AE25)","v":0},{"$f":"IF(AF31=0,0,(AF31*((LOG(AF31))/LOG(2))))","v":0},null,{"$f":"N31","v":22111},{"$f":"COUNTIF(L94:L122,AI31)","v":0},{"$f":"AJ31/(AL4-AJ25)","v":0},{"$f":"IF(AK31=0,0,(AK31*((LOG(AK31))/LOG(2))))","v":0},null,{"$f":"N31","v":22111},{"$f":"COUNTIF(L123:L151,AN31)","v":1},{"$f":"AO31/(AQ4-AO25)","v":3.4482758620689655E-2},{"$f":"IF(AP31=0,0,(AP31*((LOG(AP31))/LOG(2))))","v":-0.16751658603888178},null,{"$f":"N31","v":22111},{"$f":"COUNTIF(L152:L180,AS31)","v":0},{"$f":"AT31/(AV4-AT25)","v":0},{"$f":"IF(AU31=0,0,(AU31*((LOG(AU31))/LOG(2))))","v":0}]
[12,3674,13,3687,13,3691,14,3702,13,3706,0,11111,null,22112,{"$f":"COUNTIF($L$7:$L$500,N32)","v":0},{"$f":"O32/$Q$4","v":0},{"$f":"IF(P32=0,0,(P32*((LOG(P32))/LOG(2))))","v":0},null,null,{"$f":"N32","v":22112},{"$f":"COUNTIF(L7:L35,T32)","v":0},{"$f":"U32/(W4-U25)","v":0},{"$f":"IF(V32=0,0,(V32*((LOG(V32))/LOG(2))))","v":0},null,{"$f":"N32","v":22112},{"$f":"COUNTIF(L36:L64,Y32)","v":0},{"$f":"Z32/(AB4-Z25)","v":0},{"$f":"IF(AA32=0,0,(AA32*((LOG(AA32))/LOG(2))))","v":0},null,{"$f":"N32","v":22112},{"$f":"COUNTIF(L65:L93,AD32)","v":0},{"$f":"AE32/(AG4-AE25)","v":0},{"$f":"IF(AF32=0,0,(AF32*((LOG(AF32))/LOG(2))))","v":0},null,{"$f":"N32","v":22112},{"$f":"COUNTIF(L94:L122,AI32)","v":0},{"$f":"AJ32/(AL4-AJ25)","v":0},{"$f":"IF(AK32=0,0,(AK32*((LOG(AK32))/LOG(2))))","v":0},null,{"$f":"N32","v":22112},{"$f":"COUNTIF(L123:L151,AN32)","v":0},{"$f":"AO32/(AQ4-AO25)","v":0},{"$f":"IF(AP32=0,0,(AP32*((LOG(AP32))/LOG(2))))","v":0},null,{"$f":"N32","v":22112},{"$f":"COUNTIF(L152:L180,AS32)","v":0},{"$f":"AT32/(AV4-AT25)","v":0},{"$f":"IF(AU32=0,0,(AU32*((LOG(AU32))/LOG(2))))","v":0}]
[12,3806,13,3840,13,3844,14,3849,13,3860,0,11111,null,22121,{"$f":"COUNTIF($L$7:$L$500,N33)","v":0},{"$f":"O33/$Q$4","v":0},{"$f":"IF(P33=0,0,(P33*((LOG(P33))/LOG(2))))","v":0},null,null,{"$f":"N33","v":22121},{"$f":"COUNTIF(L7:L35,T33)","v":0},{"$f":"U33/(W4-U25)","v":0},{"$f":"IF(V33=0,0,(V33*((LOG(V33))/LOG(2))))","v":0},null,{"$f":"N33","v":22121},{"$f":"COUNTIF(L36:L64,Y33)","v":0},{"$f":"Z33/(AB4-Z25)","v":0},{"$f":"IF(AA33=0,0,(AA33*((LOG(AA33))/LOG(2))))","v":0},null,{"$f":"N33","v":22121},{"$f":"COUNTIF(L65:L93,AD33)","v":0},{"$f":"AE33/(AG4-AE25)","v":0},{"$f":"IF(AF33=0,0,(AF33*((LOG(AF33))/LOG(2))))","v":0},null,{"$f":"N33","v":22121},{"$f":"COUNTIF(L94:L122,AI33)","v":0},{"$f":"AJ33/(AL4-AJ25)","v":0},{"$f":"IF(AK33=0,0,(AK33*((LOG(AK33))/LOG(2))))","v":0},null,{"$f":"N33","v":22121},{"$f":"COUNTIF(L123:L151,AN33)","v":0},{"$f":"AO33/(AQ4-AO25)","v":0},{"$f":"IF(AP33=0,0,(AP33*((LOG(AP33))/LOG(2))))","v":0},null,{"$f":"N33","v":22121},{"$f":"COUNTIF(L152:L180,AS33)","v":0},{"$f":"AT33/(AV4-AT25)","v":0},{"$f":"IF(AU33=0,0,(AU33*((LOG(AU33))/LOG(2))))","v":0}]
[12,3961,13,3970,13,3975,14,3993,13,3997,0,11111,null,22122,{"$f":"COUNTIF($L$7:$L$500,N34)","v":0},{"$f":"O34/$Q$4","v":0},{"$f":"IF(P34=0,0,(P34*((LOG(P34))/LOG(2))))","v":0},null,null,{"$f":"N34","v":22122},{"$f":"COUNTIF(L7:L35,T34)","v":0},{"$f":"U34/(W4-U25)","v":0},{"$f":"IF(V34=0,0,(V34*((LOG(V34))/LOG(2))))","v":0},null,{"$f":"N34","v":22122},{"$f":"COUNTIF(L36:L64,Y34)","v":0},{"$f":"Z34/(AB4-Z25)","v":0},{"$f":"IF(AA34=0,0,(AA34*((LOG(AA34))/LOG(2))))","v":0},null,{"$f":"N34","v":22122},{"$f":"COUNTIF(L65:L93,AD34)","v":0},{"$f":"AE34/(AG4-AE25)","v":0},{"$f":"IF(AF34=0,0,(AF34*((LOG(AF34))/LOG(2))))","v":0},null,{"$f":"N34","v":22122},{"$f":"COUNTIF(L94:L122,AI34)","v":0},{"$f":"AJ34/(AL4-AJ25)","v":0},{"$f":"IF(AK34=0,0,(AK34*((LOG(AK34))/LOG(2))))","v":0},null,{"$f":"N34","v":22122},{"$f":"COUNTIF(L123:L151,AN34)","v":0},{"$f":"AO34/(AQ4-AO25)","v":0},{"$f":"IF(AP34=0,0,(AP34*((LOG(AP34))/LOG(2))))","v":0},null,{"$f":"N34","v":22122},{"$f":"COUNTIF(L152:L180,AS34)","v":0},{"$f":"AT34/(AV4-AT25)","v":0},{"$f":"IF(AU34=0,0,(AU34*((LOG(AU34))/LOG(2))))","v":0}]
[12,4098,13,4116,24,4126,14,4141,13,4147,1,11211,null,22211,{"$f":"COUNTIF($L$7:$L$500,N35)","v":1},{"$f":"O35/$Q$4","v":5.7803468208092483E-3},{"$f":"IF(P35=0,0,(P35*((LOG(P35))/LOG(2))))","v":-4.2974729639518636E-2},null,null,{"$f":"N35","v":22211},{"$f":"COUNTIF(L7:L35,T35)","v":1},{"$f":"U35/(W4-U25)","v":3.4482758620689655E-2},{"$f":"IF(V35=0,0,(V35*((LOG(V35))/LOG(2))))","v":-0.16751658603888178},null,{"$f":"N35","v":22211},{"$f":"COUNTIF(L36:L64,Y35)","v":0},{"$f":"Z35/(AB4-Z25)","v":0},{"$f":"IF(AA35=0,0,(AA35*((LOG(AA35))/LOG(2))))","v":0},null,{"$f":"N35","v":22211},{"$f":"COUNTIF(L65:L93,AD35)","v":0},{"$f":"AE35/(AG4-AE25)","v":0},{"$f":"IF(AF35=0,0,(AF35*((LOG(AF35))/LOG(2))))","v":0},null,{"$f":"N35","v":22211},{"$f":"COUNTIF(L94:L122,AI35)","v":0},{"$f":"AJ35/(AL4-AJ25)","v":0},{"$f":"IF(AK35=0,0,(AK35*((LOG(AK35))/LOG(2))))","v":0},null,{"$f":"N35","v":22211},{"$f":"COUNTIF(L123:L151,AN35)","v":0},{"$f":"AO35/(AQ4-AO25)","v":0},{"$f":"IF(AP35=0,0,(AP35*((LOG(AP35))/LOG(2))))","v":0},null,{"$f":"N35","v":22211},{"$f":"COUNTIF(L152:L180,AS35)","v":0},{"$f":"AT35/(AV4-AT25)","v":0},{"$f":"IF(AU35=0,0,(AU35*((LOG(AU35))/LOG(2))))","v":0}]
[21,4309,11,4320,11,4324,12,4346,13,4353,0,21111,null,22212,{"$f":"COUNTIF($L$7:$L$500,N36)","v":0},{"$f":"O36/$Q$4","v":0},{"$f":"IF(P36=0,0,(P36*((LOG(P36))/LOG(2))))","v":0},null,null,{"$f":"N36","v":22212},{"$f":"COUNTIF(L7:L35,T36)","v":0},{"$f":"U36/(W4-U25)","v":0},{"$f":"IF(V36=0,0,(V36*((LOG(V36))/LOG(2))))","v":0},null,{"$f":"N36","v":22212},{"$f":"COUNTIF(L36:L64,Y36)","v":0},{"$f":"Z36/(AB4-Z25)","v":0},{"$f":"IF(AA36=0,0,(AA36*((LOG(AA36))/LOG(2))))","v":0},null,{"$f":"N36","v":22212},{"$f":"COUNTIF(L65:L93,AD36)","v":0},{"$f":"AE36/(AG4-AE25)","v":0},{"$f":"IF(AF36=0,0,(AF36*((LOG(AF36))/LOG(2))))","v":0},null,{"$f":"N36","v":22212},{"$f":"COUNTIF(L94:L122,AI36)","v":0},{"$f":"AJ36/(AL4-AJ25)","v":0},{"$f":"IF(AK36=0,0,(AK36*((LOG(AK36))/LOG(2))))","v":0},null,{"$f":"N36","v":22212},{"$f":"COUNTIF(L123:L151,AN36)","v":0},{"$f":"AO36/(AQ4-AO25)","v":0},{"$f":"IF(AP36=0,0,(AP36*((LOG(AP36))/LOG(2))))","v":0},null,{"$f":"N36","v":22212},{"$f":"COUNTIF(L152:L180,AS36)","v":0},{"$f":"AT36/(AV4-AT25)","v":0},{"$f":"IF(AU36=0,0,(AU36*((LOG(AU36))/LOG(2))))","v":0}]
[12,4455,13,4479,13,4487,14,4500,13,4504,0,11111,null,22221,{"$f":"COUNTIF($L$7:$L$500,N37)","v":0},{"$f":"O37/$Q$4","v":0},{"$f":"IF(P37=0,0,(P37*((LOG(P37))/LOG(2))))","v":0},null,null,{"$f":"N37","v":22221},{"$f":"COUNTIF(L7:L35,T37)","v":0},{"$f":"U37/(W4-U25)","v":0},{"$f":"IF(V37=0,0,(V37*((LOG(V37))/LOG(2))))","v":0},null,{"$f":"N37","v":22221},{"$f":"COUNTIF(L36:L64,Y37)","v":0},{"$f":"Z37/(AB4-Z25)","v":0},{"$f":"IF(AA37=0,0,(AA37*((LOG(AA37))/LOG(2))))","v":0},null,{"$f":"N37","v":22221},{"$f":"COUNTIF(L65:L93,AD37)","v":0},{"$f":"AE37/(AG4-AE25)","v":0},{"$f":"IF(AF37=0,0,(AF37*((LOG(AF37))/LOG(2))))","v":0},null,{"$f":"N37","v":22221},{"$f":"COUNTIF(L94:L122,AI37)","v":0},{"$f":"AJ37/(AL4-AJ25)","v":0},{"$f":"IF(AK37=0,0,(AK37*((LOG(AK37))/LOG(2))))","v":0},null,{"$f":"N37","v":22221},{"$f":"COUNTIF(L123:L151,AN37)","v":0},{"$f":"AO37/(AQ4-AO25)","v":0},{"$f":"IF(AP37=0,0,(AP37*((LOG(AP37))/LOG(2))))","v":0},null,{"$f":"N37","v":22221},{"$f":"COUNTIF(L152:L180,AS37)","v":0},{"$f":"AT37/(AV4-AT25)","v":0},{"$f":"IF(AU37=0,0,(AU37*((LOG(AU37))/LOG(2))))","v":0}]
[12,4603,13,4611,13,4618,14,4622,13,4625,0,11111,null,22222,{"$f":"COUNTIF($L$7:$L$500,N38)","v":0},{"$f":"O38/$Q$4","v":0},{"$f":"IF(P38=0,0,(P38*((LOG(P38))/LOG(2))))","v":0},null,null,{"$f":"N38","v":22222},{"$f":"COUNTIF(L7:L35,T38)","v":0},{"$f":"U38/(W4-U25)","v":0},{"$f":"IF(V38=0,0,(V38*((LOG(V38))/LOG(2))))","v":0},null,{"$f":"N38","v":22222},{"$f":"COUNTIF(L36:L64,Y38)","v":0},{"$f":"Z38/(AB4-Z25)","v":0},{"$f":"IF(AA38=0,0,(AA38*((LOG(AA38))/LOG(2))))","v":0},null,{"$f":"N38","v":22222},{"$f":"COUNTIF(L65:L93,AD38)","v":0},{"$f":"AE38/(AG4-AE25)","v":0},{"$f":"IF(AF38=0,0,(AF38*((LOG(AF38))/LOG(2))))","v":0},null,{"$f":"N38","v":22222},{"$f":"COUNTIF(L94:L122,AI38)","v":0},{"$f":"AJ38/(AL4-AJ25)","v":0},{"$f":"IF(AK38=0,0,(AK38*((LOG(AK38))/LOG(2))))","v":0},null,{"$f":"N38","v":22222},{"$f":"COUNTIF(L123:L151,AN38)","v":0},{"$f":"AO38/(AQ4-AO25)","v":0},{"$f":"IF(AP38=0,0,(AP38*((LOG(AP38))/LOG(2))))","v":0},null,{"$f":"N38","v":22222},{"$f":"COUNTIF(L152:L180,AS38)","v":0},{"$f":"AT38/(AV4-AT25)","v":0},{"$f":"IF(AU38=0,0,(AU38*((LOG(AU38))/LOG(2))))","v":0}]
[12,4726,13,4743,13,4747,14,4759,13,4763,0,11111,null,null,null,{"$f":"SUM(P7:P38)","v":1.0000000000000002},{"$f":"-SUM(Q7:Q38)","v":1.3100761693043157},null,null,null,null,{"$f":"SUM(V7:V38)","v":0.99999999999999989},{"$f":"-SUM(W7:W38)","v":2.6661353810124959},null,null,null,{"$f":"SUM(AA7:AA38)","v":0.99999999999999989},{"$f":"-SUM(AB7:AB38)","v":0.64379366162176521},null,null,null,{"$f":"SUM(AF7:AF38)","v":0.99999999999999989},{"$f":"-SUM(AG7:AG38)","v":0.64379366162176521},null,null,null,{"$f":"SUM(AK7:AK38)","v":0.99999999999999989},{"$f":"-SUM(AL7:AL38)","v":0.43101676897537733},null,null,null,{"$f":"SUM(AP7:AP38)","v":0.99999999999999989},{"$f":"-SUM(AQ7:AQ38)","v":0.64379366162176521},null,null,null,{"$f":"SUM(AU7:AU38)","v":1},{"$f":"-SUM(AV7:AV38)","v":0.58962618118731402}]
[12,4862,13,4871,13,4893,14,4904,13,4909,0,11111,null,null,null,"U=",{"$f":"Q39/(LOG(Q4)/LOG(2))","v":0.17621273440874594},null,null,null,null,"U1=",{"$f":"W39/(LOG(W4)/LOG(2))","v":0.5488155230921159},null,null,null,"U2=",{"$f":"AB39/(LOG(AB4)/LOG(2))","v":0.13252288600294515},null,null,null,"U3=",{"$f":"AG39/(LOG(AG4)/LOG(2))","v":0.13252288600294515},null,null,null,"U4=",{"$f":"AL39/(LOG(AL4)/LOG(2))","v":8.8723436630912283E-2},null,null,null,"U5=",{"$f":"AQ39/(LOG(AQ4)/LOG(2))","v":0.13252288600294515},null,null,null,"U6=",{"$f":"AV39/(LOG(AV4)/LOG(2))","v":0.1226508528592158}]
[12,5011,13,5039,13,5050,14,5055,13,5063,0,11111]
[12,5164,13,5180,13,5192,14,5196,13,5201,0,11111]
[12,5301,13,5309,13,5313,14,5317,13,5320,0,11111,null,"Total Target Seq"]
[12,5422,13,5431,13,5457,14,5461,13,5468,0,11111,null,{"$f":"COUNTIF(L7:L180,G3)","v":0},null,29,29,29,29,29,29]
[12,5569,13,5581,13,5585,14,5589,13,5592,1,11111,null,null,null,"% of reinforcement given in 6 equal intervals based on number of trials "]
[12,5688,13,5706,13,5720,14,5724,13,5728,1,11111,null,null,null,"%_1","%_2","%_3","%_4","%_5","%_6"]
[12,5843,13,5847,13,5851,14,5855,13,5861,0,11111,null,null,"target sequence",{"$f":"$G$3","v":21121},{"$f":"$G$3","v":21121},{"$f":"$G$3","v":21121},{"$f":"$G$3","v":21121},{"$f":"$G$3","v":21121},{"$f":"$G$3","v":21121}]
[12,5970,13,5974,13,5978,14,5982,13,5990,0,11111,null,null,"total reinforcement",{"$f":"U25","v":0},{"$f":"Z25","v":0},{"$f":"AE25","v":0},{"$f":"AJ25","v":0},{"$f":"AO25","v":0},{"$f":"AT25","v":0}]
[12,6088,13,6107,13,6111,14,6115,13,6119,0,11111,null,null,"% target"]
[12,6221,13,6237,13,6241,14,6245,13,6249,0,11111,null,null,"CCRF"]
[12,6347,13,6352,13,6370,14,6374,13,6382,0,11111,null,null,"% CCRf"]
[12,6482,13,6490,13,6498,14,6504,13,6508,1,11111,null,null,"average response rate",{"$f":"J35/P44","v":143},{"$f":"(J64-J35)/Q44","v":136.93103448275863},{"$f":"(J93-J64)/R44","v":130.20689655172413},{"$f":"(J122-J93)/S44","v":136.58620689655172},{"$f":"(J151-J122)/T44","v":143.68965517241378},{"$f":"(J180-J151)/U44","v":-690.41379310344826}]
[12,6605,13,6629,13,6644,14,6650,13,6657,0,11111]
[12,6760,13,6776,13,6795,14,6807,13,6812,0,11111]
[12,6913,13,6932,13,6943,14,6946,13,6954,0,11111]
[12,7055,24,7078,24,7082,23,7086,13,7094,0,12221]
[12,7195,13,7205,13,7211,14,7219,13,7223,1,11111]
[12,7323,13,7332,13,7342,14,7350,13,7362,0,11111]
[12,7461,13,7468,13,7475,14,7482,13,7486,0,11111]
[12,7583,13,7588,13,7591,14,7595,13,7600,1,11111]
[12,7700,13,7704,13,7723,14,7727,13,7732,0,11111]
[12,7832,13,7852,24,7860,23,7865,13,7873,0,11221]
[12,7971,13,7980,13,7984,14,7987,13,7991,0,11111]
[12,8097,13,8101,13,8105,14,8115,13,8118,0,11111]
[12,8216,13,8224,13,8227,14,8230,13,8237,0,11111]
[12,8335,13,8343,13,8354,14,8358,13,8363,0,11111]
[12,8461,13,8468,13,8472,14,8475,13,8482,0,11111]
[12,8580,13,8586,13,8590,14,8594,13,8598,0,11111]
[21,8709,11,8721,11,8725,12,8729,13,8732,0,21111]
[12,8829,13,8833,13,8837,14,8840,13,8844,0,11111]
[12,8942,13,8946,13,8949,14,8953,13,8957,0,11111]
[12,9059,13,9064,13,9068,14,9072,13,9076,1,11111]
[12,9169,13,9185,13,9189,14,9192,13,9196,0,11111]
[12,9296,13,9301,13,9319,14,9323,13,9331,0,11111]
[12,9427,13,9435,13,9442,14,9446,13,9450,0,11111]
[12,9547,13,9551,13,9555,14,9561,13,9565,0,11111]
[12,9664,13,9680,13,9688,14,9692,13,9702,1,11111]
[12,9801,13,9811,13,9821,14,9828,13,9832,0,11111]
[12,9930,13,9939,13,9945,14,9949,13,9953,1,11111]
[12,10055,13,10064,13,10076,23,10089,13,10100,1,11121]
[12,10207,13,10212,13,10222,14,10228,13,10240,0,11111]
[12,10339,13,10348,24,10359,14,10376,13,10381,0,11211]
[12,10483,13,10515,13,10522,14,10540,13,10562,1,11111]
[12,10663,13,10672,13,10676,14,10689,13,10703,1,11111]
[12,10819,13,10826,13,10830,14,10840,13,10847,0,11111]
[12,10945,13,10951,13,10961,14,10966,13,10967,0,11111]
[12,11066,13,11070,13,11077,14,11081,13,11085,0,11111]
[12,11183,13,11192,13,11196,14,11204,13,11216,0,11111]
[12,11314,13,11323,13,11327,14,11330,13,11335,1,11111]
[12,11432,13,11472,13,11476,14,11483,13,11490,0,11111]
[12,11596,13,11608,13,11613,14,11617,13,11638,0,11111]
[12,11737,13,11748,13,11755,14,11763,13,11770,0,11111]
[12,11868,13,11876,13,11883,14,11886,13,11894,1,11111]
[12,11998,13,12006,13,12011,14,12023,13,12038,0,11111]
[12,12151,13,12164,13,12172,14,12176,13,12182,0,11111]
[12,12281,13,12291,13,12305,14,12309,13,12316,0,11111]
[12,12414,13,12426,13,12430,14,12434,13,12438,0,11111]
[12,12540,13,12548,13,12552,14,12559,13,12563,1,11111]
[12,12681,13,12689,13,12693,14,12710,13,12717,0,11111]
[12,12817,13,12822,13,12836,14,12840,13,12844,0,11111]
[12,12940,24,12976,24,12980,23,12985,24,13001,0,12222]
[12,13100,13,13115,13,13118,14,13126,13,13130,1,11111]
[12,13241,24,13252,24,13257,23,13261,13,13269,0,12221]
[12,13375,13,13381,13,13386,14,13389,13,13401,0,11111]
[12,13504,13,13512,13,13516,14,13523,13,13531,0,11111]
[12,13630,13,13634,13,13643,14,13653,13,13659,0,11111]
[12,13756,13,13769,13,13783,14,13789,13,13801,0,11111]
[12,13899,13,13919,13,13925,14,13929,13,13933,1,11111]
[12,14053,13,14061,13,14091,14,14095,13,14108,0,11111]
[12,14209,13,14214,13,14222,14,14227,13,14235,0,11111]
[12,14335,13,14351,13,14363,14,14373,13,14377,1,11111]
[12,14480,13,14494,13,14502,14,14510,13,14518,0,11111]
[12,14619,13,14626,13,14637,14,14640,13,14651,0,11111]
[12,14749,13,14757,13,14761,14,14764,13,14768,0,11111]
[12,14866,13,14870,13,14878,14,14882,13,14889,0,11111]
[12,14988,13,15009,13,15013,14,15027,13,15038,1,11111]
[12,15136,13,15144,13,15162,14,15166,13,15173,0,11111]
[12,15272,13,15280,13,15290,14,15293,13,15297,0,11111]
[12,15395,13,15412,13,15423,14,15427,13,15434,0,11111]
[12,15537,13,15541,13,15569,14,15577,13,15584,0,11111]
[12,15684,13,15706,13,15710,14,15725,13,15731,0,11111]
[12,15831,13,15840,13,15843,14,15847,13,15855,1,11111]
[12,15969,13,15980,13,15987,14,15993,13,15998,1,11111]
[12,16095,13,16103,13,16110,14,16130,13,16135,1,11111]
[12,16270,13,16273,13,16277,14,16284,13,16295,1,11111]
[12,16395,13,16410,13,16417,14,16424,13,16434,0,11111]
[12,16535,24,16559,13,16567,14,16572,13,16576,0,12111]
[12,16675,13,16681,13,16713,14,16720,13,16724,0,11111]
[12,16829,13,16858,13,16862,14,16876,13,16883,1,11111]
[12,16981,13,16986,13,16995,14,17004,13,17008,0,11111]
[12,17109,13,17130,13,17141,14,17159,13,17175,0,11111]
[12,17279,13,17297,13,17301,14,17312,13,17319,0,11111]
[12,17420,13,17426,13,17430,14,17440,13,17445,1,11111]
[12,17567,13,17585,13,17596,14,17599,13,17607,0,11111]
[21,17739,22,17752,13,17759,14,17766,13,17772,0,22111]
[12,17880,13,17888,13,17893,14,17902,13,17908,0,11111]
[12,18009,13,18017,13,18021,14,18025,13,18036,1,11111]
[12,18132,13,18140,24,18152,23,18174,24,18187,0,11222]
[12,18303,13,18316,13,18324,14,18331,13,18343,0,11111]
[12,18450,13,18455,13,18459,14,18462,13,18466,0,11111]
[12,18584,13,18592,13,18602,14,18607,13,18614,0,11111]
[12,18749,13,18756,13,18767,14,18774,13,18781,1,11111]
[12,18881,13,18886,13,18893,14,18897,13,18906,0,11111]
[12,19006,13,19027,13,19031,14,19034,13,19038,0,11111]
[12,19142,13,19155,13,19162,14,19177,13,19184,0,11111]
[12,19286,13,19289,13,19297,14,19308,13,19312,0,11111]
[12,19410,13,19415,13,19430,14,19434,13,19437,0,11111]
[12,19539,13,19543,13,19554,14,19567,13,19582,1,11111]
[12,19680,13,19692,13,19703,14,19718,13,19724,0,11111]
[12,19843,13,19855,13,19859,14,19870,13,19874,0,11111]
[12,19977,13,20005,13,20008,14,20016,13,20022,0,11111]
[12,20126,13,20143,13,20150,14,20161,13,20172,0,11111]
[12,20275,13,20283,13,20288,14,20295,13,20300,0,11111]
[12,20402,13,20411,13,20419,14,20430,13,20434,0,11111]
[12,20537,13,20549,13,20552,14,20556,13,20560,1,11111]
[12,20677,13,20685,13,20697,14,20701,13,20709,0,11111]
[12,20809,13,20831,13,20839,14,20842,13,20853,0,11111]
[12,20955,13,20964,13,20973,14,20981,13,20988,1,11111]
[12,21092,13,21104,13,21108,14,21112,13,21116,0,11111]
[12,21221,13,21230,13,21237,14,21241,13,21245,0,11111]
[12,21346,13,21359,13,21363,14,21366,13,21370,0,11111]
[12,21472,13,21476,13,21483,14,21486,13,21493,0,11111]
[12,21591,13,21595,13,21600,14,21608,13,21623,0,11111]
[12,21726,13,21736,13,21739,14,21743,13,21748,1,11111]
[12,21871,24,21883,13,21898,14,21904,13,21919,0,12111]
[12,22020,13,22044,13,22052,14,22063,13,22066,0,11111]
[12,22164,13,22179,13,22194,14,22201,13,22209,0,11111]
[12,22310,13,22318,13,22321,14,22331,13,22335,0,11111]
[12,22432,13,22441,13,22466,14,22470,13,22475,0,11111]
[12,22575,13,22599,13,22614,14,22621,13,22628,0,11111]
[12,22727,13,22735,13,22746,14,22750,13,22755,1,11111]
[12,22855,13,22883,24,22894,23,22906,13,22914,0,11221]
[12,23017,24,23037,13,23061,14,23065,13,23069,0,12111]
[12,23169,13,23181,13,23188,14,23192,13,23203,0,11111]
[12,23301,13,23308,13,23331,14,23334,13,23345,0,11111]
[12,23443,13,23447,13,23454,14,23458,13,23461,0,11111]
[12,23563,13,23568,13,23580,14,23585,13,23589,0,11111]
[12,23688,13,23697,13,23701,14,23711,13,23716,0,11111]
[12,23813,13,23823,13,23834,14,23845,13,23851,1,11111]
[12,23979,24,23993,13,24000,null,null,null,null,null,121]

{"sheet":"!N426B10.096","index":32,"n_rows":163,"n_cols":48,"rows_kept":163,"cut":false,"hidden":false,"merged":[[4,39,4,42],[5,39,5,40],[4,44,4,47],[5,44,5,45],[4,24,4,27],[5,24,5,25],[4,29,4,32],[5,29,5,30],[4,34,4,37],[5,34,5,35],[1,1,1,2],[5,13,5,14],[42,13,42,14],[43,13,43,14],[4,19,4,22],[5,19,5,20]]}
["Report for:!N426B10.096"]
["Date:","<date>"]
["Hen:","<hen>",null,null,null,"Correct Sequence",{"$f":"Start!J2","v":21121},null,null,null,null,null,null,null,null,"Total Sequences in Data",{"$f":"4994-COUNTBLANK(L7:L5000)","v":157},null,null,null,null,"Total Sequences in Block Data",{"$f":"COUNTA(L7:L32)","v":26},null,null,null,"Total Sequences in Block Data",{"$f":"COUNTA(L33:L58)","v":26},null,null,null,"Total Sequences in Block Data",{"$f":"COUNTA(L59:L85)","v":27},null,null,null,"Total Sequences in Block Data",{"$f":"COUNTA(L86:L111)","v":26},null,null,null,"Total Sequences in Block Data",{"$f":"COUNTA(L112:L137)","v":26},null,null,null,"Total Sequences in Block Data",{"$f":"COUNTA(L138:L163)","v":26}]
[null,null,null,null,null,null,null,null,null,null,null,null,null,null,null,"Total Sequences in Summary",{"$f":"SUM(O7:O38)","v":157},null,null,null,null,"Total Sequences in Block Summary",{"$f":"SUM(U7:U38)","v":26},null,null,null,"Total Sequences in Block Summary",{"$f":"SUM(Z7:Z38)","v":26},null,null,null,"Total Sequences in Block Summary",{"$f":"SUM(AE7:AE38)","v":27},null,null,null,"Total Sequences in Block Summary",{"$f":"SUM(AJ7:AJ38)","v":26},null,null,null,"Total Sequences in Block Summary",{"$f":"SUM(AO7:AO38)","v":26},null,null,null,"Total Sequences in Block Summary",{"$f":"SUM(AT7:AT38)","v":26}]
[null,null,null,null,null,null,null,null,null,null,null,null,null,null,null,null,null,null,null,"Block 1",null,null,null,null,"Block 2",null,null,null,null,"Block 3",null,null,null,null,"Block 4",null,null,null,null,"Block 5",null,null,null,null,"Block 6"]
["Sequence\nComponent\n1","Time\n1","Sequence\nComponent\n2","Time\n2","Sequence\nComponent\n3","Time\n3","Sequence\nComponent\n4","Time\n4","Sequence\nComponent\n5","Time\n5","Correct?\n0=No 1=Yes","Sequence",null,"Frequency",null,"Relative Frequency","Variability",null,null,"Frequency",null,"Relative Frequency","Variability",null,"Frequency",null,"Relative Frequency","Variability",null,"Frequency",null,"Relative Frequency","Variability",null,"Frequency",null,"Relative Frequency","Variability",null,"Frequency",null,"Relative Frequency","Variability",null,"Frequency",null,"Relative Frequency","Variability"]
[21,15,22,19,24,28,14,36,13,47,0,22211,null,11111,{"$f":"COUNTIF($L$7:$L$500,N7)","v":104},{"$f":"O7/$Q$4","v":0.66242038216560506},{"$f":"IF(P7=0,0,(P7*((LOG(P7))/LOG(2))))","v":-0.39359762546532245},null,null,{"$f":"N7","v":11111},{"$f":"COUNTIF(L7:L32,T7)","v":10},{"$f":"U7/(W4-U25)","v":0.38461538461538464},{"$f":"IF(V7=0,0,(V7*((LOG(V7))/LOG(2))))","v":-0.53019677817451139},null,{"$f":"N7","v":11111},{"$f":"COUNTIF(L33:L58,Y7)","v":20},{"$f":"Z7/(AB4-Z25)","v":0.76923076923076927},{"$f":"IF(AA7=0,0,(AA7*((LOG(AA7))/LOG(2))))","v":-0.29116278711825366},null,{"$f":"N7","v":11111},{"$f":"COUNTIF(L59:L85,AD7)","v":20},{"$f":"AE7/(AG4-AE25)","v":0.7407407407407407},{"$f":"IF(AF7=0,0,(AF7*((LOG(AF7))/LOG(2))))","v":-0.32071067205637499},null,{"$f":"N7","v":11111},{"$f":"COUNTIF(L86:L111,AI7)","v":19},{"$f":"AJ7/(AL4-AJ25)","v":0.73076923076923073},{"$f":"IF(AK7=0,0,(AK7*((LOG(AK7))/LOG(2))))","v":-0.33068199574048568},null,{"$f":"N7","v":11111},{"$f":"COUNTIF(L112:L137,AN7)","v":15},{"$f":"AO7/(AQ4-AO25)","v":0.57692307692307687},{"$f":"IF(AP7=0,0,(AP7*((LOG(AP7))/LOG(2))))","v":-0.45781680146110021},null,{"$f":"N7","v":11111},{"$f":"COUNTIF(L138:L163,AS7)","v":20},{"$f":"AT7/(AV4-AT25)","v":0.76923076923076927},{"$f":"IF(AU7=0,0,(AU7*((LOG(AU7))/LOG(2))))","v":-0.29116278711825366}]
[12,144,13,148,24,164,23,168,13,177,0,11221,null,11112,{"$f":"COUNTIF($L$7:$L$500,N8)","v":2},{"$f":"O8/$Q$4","v":1.2738853503184714E-2},{"$f":"IF(P8=0,0,(P8*((LOG(P8))/LOG(2))))","v":-8.0186251578237291E-2},null,null,{"$f":"N8","v":11112},{"$f":"COUNTIF(L7:L32,T8)","v":1},{"$f":"U8/(W4-U25)","v":3.8461538461538464E-2},{"$f":"IF(V8=0,0,(V8*((LOG(V8))/LOG(2))))","v":-0.18078614300542661},null,{"$f":"N8","v":11112},{"$f":"COUNTIF(L33:L58,Y8)","v":0},{"$f":"Z8/(AB4-Z25)","v":0},{"$f":"IF(AA8=0,0,(AA8*((LOG(AA8))/LOG(2))))","v":0},null,{"$f":"N8","v":11112},{"$f":"COUNTIF(L59:L85,AD8)","v":1},{"$f":"AE8/(AG4-AE25)","v":3.7037037037037035E-2},{"$f":"IF(AF8=0,0,(AF8*((LOG(AF8))/LOG(2))))","v":-0.1761069445245729},null,{"$f":"N8","v":11112},{"$f":"COUNTIF(L86:L111,AI8)","v":0},{"$f":"AJ8/(AL4-AJ25)","v":0},{"$f":"IF(AK8=0,0,(AK8*((LOG(AK8))/LOG(2))))","v":0},null,{"$f":"N8","v":11112},{"$f":"COUNTIF(L112:L137,AN8)","v":0},{"$f":"AO8/(AQ4-AO25)","v":0},{"$f":"IF(AP8=0,0,(AP8*((LOG(AP8))/LOG(2))))","v":0},null,{"$f":"N8","v":11112},{"$f":"COUNTIF(L138:L163,AS8)","v":0},{"$f":"AT8/(AV4-AT25)","v":0},{"$f":"IF(AU8=0,0,(AU8*((LOG(AU8))/LOG(2))))","v":0}]
[12,275,24,285,24,288,14,298,13,306,0,12211,null,11121,{"$f":"COUNTIF($L$7:$L$500,N9)","v":0},{"$f":"O9/$Q$4","v":0},{"$f":"IF(P9=0,0,(P9*((LOG(P9))/LOG(2))))","v":0},null,null,{"$f":"N9","v":11121},{"$f":"COUNTIF(L7:L32,T9)","v":0},{"$f":"U9/(W4-U25)","v":0},{"$f":"IF(V9=0,0,(V9*((LOG(V9))/LOG(2))))","v":0},null,{"$f":"N9","v":11121},{"$f":"COUNTIF(L33:L58,Y9)","v":0},{"$f":"Z9/(AB4-Z25)","v":0},{"$f":"IF(AA9=0,0,(AA9*((LOG(AA9))/LOG(2))))","v":0},null,{"$f":"N9","v":11121},{"$f":"COUNTIF(L59:L85,AD9)","v":0},{"$f":"AE9/(AG4-AE25)","v":0},{"$f":"IF(AF9=0,0,(AF9*((LOG(AF9))/LOG(2))))","v":0},null,{"$f":"N9","v":11121},{"$f":"COUNTIF(L86:L111,AI9)","v":0},{"$f":"AJ9/(AL4-AJ25)","v":0},{"$f":"IF(AK9=0,0,(AK9*((LOG(AK9))/LOG(2))))","v":0},null,{"$f":"N9","v":11121},{"$f":"COUNTIF(L112:L137,AN9)","v":0},{"$f":"AO9/(AQ4-AO25)","v":0},{"$f":"IF(AP9=0,0,(AP9*((LOG(AP9))/LOG(2))))","v":0},null,{"$f":"N9","v":11121},{"$f":"COUNTIF(L138:L163,AS9)","v":0},{"$f":"AT9/(AV4-AT25)","v":0},{"$f":"IF(AU9=0,0,(AU9*((LOG(AU9))/LOG(2))))","v":0}]
[21,414,22,424,24,428,23,432,13,439,0,22221,null,11122,{"$f":"COUNTIF($L$7:$L$500,N10)","v":0},{"$f":"O10/$Q$4","v":0},{"$f":"IF(P10=0,0,(P10*((LOG(P10))/LOG(2))))","v":0},null,null,{"$f":"N10","v":11122},{"$f":"COUNTIF(L7:L32,T10)","v":0},{"$f":"U10/(W4-U25)","v":0},{"$f":"IF(V10=0,0,(V10*((LOG(V10))/LOG(2))))","v":0},null,{"$f":"N10","v":11122},{"$f":"COUNTIF(L33:L58,Y10)","v":0},{"$f":"Z10/(AB4-Z25)","v":0},{"$f":"IF(AA10=0,0,(AA10*((LOG(AA10))/LOG(2))))","v":0},null,{"$f":"N10","v":11122},{"$f":"COUNTIF(L59:L85,AD10)","v":0},{"$f":"AE10/(AG4-AE25)","v":0},{"$f":"IF(AF10=0,0,(AF10*((LOG(AF10))/LOG(2))))","v":0},null,{"$f":"N10","v":11122},{"$f":"COUNTIF(L86:L111,AI10)","v":0},{"$f":"AJ10/(AL4-AJ25)","v":0},{"$f":"IF(AK10=0,0,(AK10*((LOG(AK10))/LOG(2))))","v":0},null,{"$f":"N10","v":11122},{"$f":"COUNTIF(L112:L137,AN10)","v":0},{"$f":"AO10/(AQ4-AO25)","v":0},{"$f":"IF(AP10=0,0,(AP10*((LOG(AP10))/LOG(2))))","v":0},null,{"$f":"N10","v":11122},{"$f":"COUNTIF(L138:L163,AS10)","v":0},{"$f":"AT10/(AV4-AT25)","v":0},{"$f":"IF(AU10=0,0,(AU10*((LOG(AU10))/LOG(2))))","v":0}]
[12,539,13,561,13,568,14,572,13,586,0,11111,null,11211,{"$f":"COUNTIF($L$7:$L$500,N11)","v":4},{"$f":"O11/$Q$4","v":2.5477707006369428E-2},{"$f":"IF(P11=0,0,(P11*((LOG(P11))/LOG(2))))","v":-0.13489479615010516},null,null,{"$f":"N11","v":11211},{"$f":"COUNTIF(L7:L32,T11)","v":3},{"$f":"U11/(W4-U25)","v":0.11538461538461539},{"$f":"IF(V11=0,0,(V11*((LOG(V11))/LOG(2))))","v":-0.35947814047153104},null,{"$f":"N11","v":11211},{"$f":"COUNTIF(L33:L58,Y11)","v":0},{"$f":"Z11/(AB4-Z25)","v":0},{"$f":"IF(AA11=0,0,(AA11*((LOG(AA11))/LOG(2))))","v":0},null,{"$f":"N11","v":11211},{"$f":"COUNTIF(L59:L85,AD11)","v":0},{"$f":"AE11/(AG4-AE25)","v":0},{"$f":"IF(AF11=0,0,(AF11*((LOG(AF11))/LOG(2))))","v":0},null,{"$f":"N11","v":11211},{"$f":"COUNTIF(L86:L111,AI11)","v":1},{"$f":"AJ11/(AL4-AJ25)","v":3.8461538461538464E-2},{"$f":"IF(AK11=0,0,(AK11*((LOG(AK11))/LOG(2))))","v":-0.18078614300542661},null,{"$f":"N11","v":11211},{"$f":"COUNTIF(L112:L137,AN11)","v":0},{"$f":"AO11/(AQ4-AO25)","v":0},{"$f":"IF(AP11=0,0,(AP11*((LOG(AP11))/LOG(2))))","v":0},null,{"$f":"N11","v":11211},{"$f":"COUNTIF(L138:L163,AS11)","v":0},{"$f":"AT11/(AV4-AT25)","v":0},{"$f":"IF(AU11=0,0,(AU11*((LOG(AU11))/LOG(2))))","v":0}]
[12,684,24,694,13,706,14,710,13,717,1,12111,null,11212,{"$f":"COUNTIF($L$7:$L$500,N12)","v":0},{"$f":"O12/$Q$4","v":0},{"$f":"IF(P12=0,0,(P12*((LOG(P12))/LOG(2))))","v":0},null,null,{"$f":"N12","v":11212},{"$f":"COUNTIF(L7:L32,T12)","v":0},{"$f":"U12/(W4-U25)","v":0},{"$f":"IF(V12=0,0,(V12*((LOG(V12))/LOG(2))))","v":0},null,{"$f":"N12","v":11212},{"$f":"COUNTIF(L33:L58,Y12)","v":0},{"$f":"Z12/(AB4-Z25)","v":0},{"$f":"IF(AA12=0,0,(AA12*((LOG(AA12))/LOG(2))))","v":0},null,{"$f":"N12","v":11212},{"$f":"COUNTIF(L59:L85,AD12)","v":0},{"$f":"AE12/(AG4-AE25)","v":0},{"$f":"IF(AF12=0,0,(AF12*((LOG(AF12))/LOG(2))))","v":0},null,{"$f":"N12","v":11212},{"$f":"COUNTIF(L86:L111,AI12)","v":0},{"$f":"AJ12/(AL4-AJ25)","v":0},{"$f":"IF(AK12=0,0,(AK12*((LOG(AK12))/LOG(2))))","v":0},null,{"$f":"N12","v":11212},{"$f":"COUNTIF(L112:L137,AN12)","v":0},{"$f":"AO12/(AQ4-AO25)","v":0},{"$f":"IF(AP12=0,0,(AP12*((LOG(AP12))/LOG(2))))","v":0},null,{"$f":"N12","v":11212},{"$f":"COUNTIF(L138:L163,AS12)","v":0},{"$f":"AT12/(AV4-AT25)","v":0},{"$f":"IF(AU12=0,0,(AU12*((LOG(AU12))/LOG(2))))","v":0}]
[12,816,24,854,13,862,14,870,13,881,0,12111,null,11221,{"$f":"COUNTIF($L$7:$L$500,N13)","v":2},{"$f":"O13/$Q$4","v":1.2738853503184714E-2},{"$f":"IF(P13=0,0,(P13*((LOG(P13))/LOG(2))))","v":-8.0186251578237291E-2},null,null,{"$f":"N13","v":11221},{"$f":"COUNTIF(L7:L32,T13)","v":1},{"$f":"U13/(W4-U25)","v":3.8461538461538464E-2},{"$f":"IF(V13=0,0,(V13*((LOG(V13))/LOG(2))))","v":-0.18078614300542661},null,{"$f":"N13","v":11221},{"$f":"COUNTIF(L33:L58,Y13)","v":0},{"$f":"Z13/(AB4-Z25)","v":0},{"$f":"IF(AA13=0,0,(AA13*((LOG(AA13))/LOG(2))))","v":0},null,{"$f":"N13","v":11221},{"$f":"COUNTIF(L59:L85,AD13)","v":1},{"$f":"AE13/(AG4-AE25)","v":3.7037037037037035E-2},{"$f":"IF(AF13=0,0,(AF13*((LOG(AF13))/LOG(2))))","v":-0.1761069445245729},null,{"$f":"N13","v":11221},{"$f":"COUNTIF(L86:L111,AI13)","v":0},{"$f":"AJ13/(AL4-AJ25)","v":0},{"$f":"IF(AK13=0,0,(AK13*((LOG(AK13))/LOG(2))))","v":0},null,{"$f":"N13","v":11221},{"$f":"COUNTIF(L112:L137,AN13)","v":0},{"$f":"AO13/(AQ4-AO25)","v":0},{"$f":"IF(AP13=0,0,(AP13*((LOG(AP13))/LOG(2))))","v":0},null,{"$f":"N13","v":11221},{"$f":"COUNTIF(L138:L163,AS13)","v":0},{"$f":"AT13/(AV4-AT25)","v":0},{"$f":"IF(AU13=0,0,(AU13*((LOG(AU13))/LOG(2))))","v":0}]
[12,984,13,1005,24,1028,14,1037,13,1048,0,11211,null,11222,{"$f":"COUNTIF($L$7:$L$500,N14)","v":3},{"$f":"O14/$Q$4","v":1.9108280254777069E-2},{"$f":"IF(P14=0,0,(P14*((LOG(P14))/LOG(2))))","v":-0.10910174996504084},null,null,{"$f":"N14","v":11222},{"$f":"COUNTIF(L7:L32,T14)","v":0},{"$f":"U14/(W4-U25)","v":0},{"$f":"IF(V14=0,0,(V14*((LOG(V14))/LOG(2))))","v":0},null,{"$f":"N14","v":11222},{"$f":"COUNTIF(L33:L58,Y14)","v":0},{"$f":"Z14/(AB4-Z25)","v":0},{"$f":"IF(AA14=0,0,(AA14*((LOG(AA14))/LOG(2))))","v":0},null,{"$f":"N14","v":11222},{"$f":"COUNTIF(L59:L85,AD14)","v":1},{"$f":"AE14/(AG4-AE25)","v":3.7037037037037035E-2},{"$f":"IF(AF14=0,0,(AF14*((LOG(AF14))/LOG(2))))","v":-0.1761069445245729},null,{"$f":"N14","v":11222},{"$f":"COUNTIF(L86:L111,AI14)","v":1},{"$f":"AJ14/(AL4-AJ25)","v":3.8461538461538464E-2},{"$f":"IF(AK14=0,0,(AK14*((LOG(AK14))/LOG(2))))","v":-0.18078614300542661},null,{"$f":"N14","v":11222},{"$f":"COUNTIF(L112:L137,AN14)","v":1},{"$f":"AO14/(AQ4-AO25)","v":3.8461538461538464E-2},{"$f":"IF(AP14=0,0,(AP14*((LOG(AP14))/LOG(2))))","v":-0.18078614300542661},null,{"$f":"N14","v":11222},{"$f":"COUNTIF(L138:L163,AS14)","v":0},{"$f":"AT14/(AV4-AT25)","v":0},{"$f":"IF(AU14=0,0,(AU14*((LOG(AU14))/LOG(2))))","v":0}]
[12,1150,13,1178,13,1186,14,1200,13,1207,1,11111,null,12111,{"$f":"COUNTIF($L$7:$L$500,N15)","v":13},{"$f":"O15/$Q$4","v":8.2802547770700632E-2},{"$f":"IF(P15=0,0,(P15*((LOG(P15))/LOG(2))))","v":-0.29760734649526721},null,null,{"$f":"N15","v":12111},{"$f":"COUNTIF(L7:L32,T15)","v":5},{"$f":"U15/(W4-U25)","v":0.19230769230769232},{"$f":"IF(V15=0,0,(V15*((LOG(V15))/LOG(2))))","v":-0.45740608139494804},null,{"$f":"N15","v":12111},{"$f":"COUNTIF(L33:L58,Y15)","v":3},{"$f":"Z15/(AB4-Z25)","v":0.11538461538461539},{"$f":"IF(AA15=0,0,(AA15*((LOG(AA15))/LOG(2))))","v":-0.35947814047153104},null,{"$f":"N15","v":12111},{"$f":"COUNTIF(L59:L85,AD15)","v":0},{"$f":"AE15/(AG4-AE25)","v":0},{"$f":"IF(AF15=0,0,(AF15*((LOG(AF15))/LOG(2))))","v":0},null,{"$f":"N15","v":12111},{"$f":"COUNTIF(L86:L111,AI15)","v":1},{"$f":"AJ15/(AL4-AJ25)","v":3.8461538461538464E-2},{"$f":"IF(AK15=0,0,(AK15*((LOG(AK15))/LOG(2))))","v":-0.18078614300542661},null,{"$f":"N15","v":12111},{"$f":"COUNTIF(L112:L137,AN15)","v":1},{"$f":"AO15/(AQ4-AO25)","v":3.8461538461538464E-2},{"$f":"IF(AP15=0,0,(AP15*((LOG(AP15))/LOG(2))))","v":-0.18078614300542661},null,{"$f":"N15","v":12111},{"$f":"COUNTIF(L138:L163,AS15)","v":3},{"$f":"AT15/(AV4-AT25)","v":0.11538461538461539},{"$f":"IF(AU15=0,0,(AU15*((LOG(AU15))/LOG(2))))","v":-0.35947814047153104}]
[12,1305,13,1326,13,1347,14,1354,13,1358,1,11111,null,12112,{"$f":"COUNTIF($L$7:$L$500,N16)","v":0},{"$f":"O16/$Q$4","v":0},{"$f":"IF(P16=0,0,(P16*((LOG(P16))/LOG(2))))","v":0},null,null,{"$f":"N16","v":12112},{"$f":"COUNTIF(L7:L32,T16)","v":0},{"$f":"U16/(W4-U25)","v":0},{"$f":"IF(V16=0,0,(V16*((LOG(V16))/LOG(2))))","v":0},null,{"$f":"N16","v":12112},{"$f":"COUNTIF(L33:L58,Y16)","v":0},{"$f":"Z16/(AB4-Z25)","v":0},{"$f":"IF(AA16=0,0,(AA16*((LOG(AA16))/LOG(2))))","v":0},null,{"$f":"N16","v":12112},{"$f":"COUNTIF(L59:L85,AD16)","v":0},{"$f":"AE16/(AG4-AE25)","v":0},{"$f":"IF(AF16=0,0,(AF16*((LOG(AF16))/LOG(2))))","v":0},null,{"$f":"N16","v":12112},{"$f":"COUNTIF(L86:L111,AI16)","v":0},{"$f":"AJ16/(AL4-AJ25)","v":0},{"$f":"IF(AK16=0,0,(AK16*((LOG(AK16))/LOG(2))))","v":0},null,{"$f":"N16","v":12112},{"$f":"COUNTIF(L112:L137,AN16)","v":0},{"$f":"AO16/(AQ4-AO25)","v":0},{"$f":"IF(AP16=0,0,(AP16*((LOG(AP16))/LOG(2))))","v":0},null,{"$f":"N16","v":12112},{"$f":"COUNTIF(L138:L163,AS16)","v":0},{"$f":"AT16/(AV4-AT25)","v":0},{"$f":"IF(AU16=0,0,(AU16*((LOG(AU16))/LOG(2))))","v":0}]
[12,1462,24,1471,24,1476,23,1483,24,1518,0,12222,null,12121,{"$f":"COUNTIF($L$7:$L$500,N17)","v":0},{"$f":"O17/$Q$4","v":0},{"$f":"IF(P17=0,0,(P17*((LOG(P17))/LOG(2))))","v":0},null,null,{"$f":"N17","v":12121},{"$f":"COUNTIF(L7:L32,T17)","v":0},{"$f":"U17/(W4-U25)","v":0},{"$f":"IF(V17=0,0,(V17*((LOG(V17))/LOG(2))))","v":0},null,{"$f":"N17","v":12121},{"$f":"COUNTIF(L33:L58,Y17)","v":0},{"$f":"Z17/(AB4-Z25)","v":0},{"$f":"IF(AA17=0,0,(AA17*((LOG(AA17))/LOG(2))))","v":0},null,{"$f":"N17","v":12121},{"$f":"COUNTIF(L59:L85,AD17)","v":0},{"$f":"AE17/(AG4-AE25)","v":0},{"$f":"IF(AF17=0,0,(AF17*((LOG(AF17))/LOG(2))))","v":0},null,{"$f":"N17","v":12121},{"$f":"COUNTIF(L86:L111,AI17)","v":0},{"$f":"AJ17/(AL4-AJ25)","v":0},{"$f":"IF(AK17=0,0,(AK17*((LOG(AK17))/LOG(2))))","v":0},null,{"$f":"N17","v":12121},{"$f":"COUNTIF(L112:L137,AN17)","v":0},{"$f":"AO17/(AQ4-AO25)","v":0},{"$f":"IF(AP17=0,0,(AP17*((LOG(AP17))/LOG(2))))","v":0},null,{"$f":"N17","v":12121},{"$f":"COUNTIF(L138:L163,AS17)","v":0},{"$f":"AT17/(AV4-AT25)","v":0},{"$f":"IF(AU17=0,0,(AU17*((LOG(AU17))/LOG(2))))","v":0}]
[12,1622,24,1657,24,1661,23,1665,13,1672,1,12221,null,12122,{"$f":"COUNTIF($L$7:$L$500,N18)","v":0},{"$f":"O18/$Q$4","v":0},{"$f":"IF(P18=0,0,(P18*((LOG(P18))/LOG(2))))","v":0},null,null,{"$f":"N18","v":12122},{"$f":"COUNTIF(L7:L32,T18)","v":0},{"$f":"U18/(W4-U25)","v":0},{"$f":"IF(V18=0,0,(V18*((LOG(V18))/LOG(2))))","v":0},null,{"$f":"N18","v":12122},{"$f":"COUNTIF(L33:L58,Y18)","v":0},{"$f":"Z18/(AB4-Z25)","v":0},{"$f":"IF(AA18=0,0,(AA18*((LOG(AA18))/LOG(2))))","v":0},null,{"$f":"N18","v":12122},{"$f":"COUNTIF(L59:L85,AD18)","v":0},{"$f":"AE18/(AG4-AE25)","v":0},{"$f":"IF(AF18=0,0,(AF18*((LOG(AF18))/LOG(2))))","v":0},null,{"$f":"N18","v":12122},{"$f":"COUNTIF(L86:L111,AI18)","v":0},{"$f":"AJ18/(AL4-AJ25)","v":0},{"$f":"IF(AK18=0,0,(AK18*((LOG(AK18))/LOG(2))))","v":0},null,{"$f":"N18","v":12122},{"$f":"COUNTIF(L112:L137,AN18)","v":0},{"$f":"AO18/(AQ4-AO25)","v":0},{"$f":"IF(AP18=0,0,(AP18*((LOG(AP18))/LOG(2))))","v":0},null,{"$f":"N18","v":12122},{"$f":"COUNTIF(L138:L163,AS18)","v":0},{"$f":"AT18/(AV4-AT25)","v":0},{"$f":"IF(AU18=0,0,(AU18*((LOG(AU18))/LOG(2))))","v":0}]
[12,1769,13,1790,24,1829,14,1839,13,1850,0,11211,null,12211,{"$f":"COUNTIF($L$7:$L$500,N19)","v":4},{"$f":"O19/$Q$4","v":2.5477707006369428E-2},{"$f":"IF(P19=0,0,(P19*((LOG(P19))/LOG(2))))","v":-0.13489479615010516},null,null,{"$f":"N19","v":12211},{"$f":"COUNTIF(L7:L32,T19)","v":2},{"$f":"U19/(W4-U25)","v":7.6923076923076927E-2},{"$f":"IF(V19=0,0,(V19*((LOG(V19))/LOG(2))))","v":-0.28464920908777636},null,{"$f":"N19","v":12211},{"$f":"COUNTIF(L33:L58,Y19)","v":1},{"$f":"Z19/(AB4-Z25)","v":3.8461538461538464E-2},{"$f":"IF(AA19=0,0,(AA19*((LOG(AA19))/LOG(2))))","v":-0.18078614300542661},null,{"$f":"N19","v":12211},{"$f":"COUNTIF(L59:L85,AD19)","v":1},{"$f":"AE19/(AG4-AE25)","v":3.7037037037037035E-2},{"$f":"IF(AF19=0,0,(AF19*((LOG(AF19))/LOG(2))))","v":-0.1761069445245729},null,{"$f":"N19","v":12211},{"$f":"COUNTIF(L86:L111,AI19)","v":0},{"$f":"AJ19/(AL4-AJ25)","v":0},{"$f":"IF(AK19=0,0,(AK19*((LOG(AK19))/LOG(2))))","v":0},null,{"$f":"N19","v":12211},{"$f":"COUNTIF(L112:L137,AN19)","v":0},{"$f":"AO19/(AQ4-AO25)","v":0},{"$f":"IF(AP19=0,0,(AP19*((LOG(AP19))/LOG(2))))","v":0},null,{"$f":"N19","v":12211},{"$f":"COUNTIF(L138:L163,AS19)","v":0},{"$f":"AT19/(AV4-AT25)","v":0},{"$f":"IF(AU19=0,0,(AU19*((LOG(AU19))/LOG(2))))","v":0}]
[12,1950,13,1992,13,1996,14,2003,13,2010,0,11111,null,12212,{"$f":"COUNTIF($L$7:$L$500,N20)","v":0},{"$f":"O20/$Q$4","v":0},{"$f":"IF(P20=0,0,(P20*((LOG(P20))/LOG(2))))","v":0},null,null,{"$f":"N20","v":12212},{"$f":"COUNTIF(L7:L32,T20)","v":0},{"$f":"U20/(W4-U25)","v":0},{"$f":"IF(V20=0,0,(V20*((LOG(V20))/LOG(2))))","v":0},null,{"$f":"N20","v":12212},{"$f":"COUNTIF(L33:L58,Y20)","v":0},{"$f":"Z20/(AB4-Z25)","v":0},{"$f":"IF(AA20=0,0,(AA20*((LOG(AA20))/LOG(2))))","v":0},null,{"$f":"N20","v":12212},{"$f":"COUNTIF(L59:L85,AD20)","v":0},{"$f":"AE20/(AG4-AE25)","v":0},{"$f":"IF(AF20=0,0,(AF20*((LOG(AF20))/LOG(2))))","v":0},null,{"$f":"N20","v":12212},{"$f":"COUNTIF(L86:L111,AI20)","v":0},{"$f":"AJ20/(AL4-AJ25)","v":0},{"$f":"IF(AK20=0,0,(AK20*((LOG(AK20))/LOG(2))))","v":0},null,{"$f":"N20","v":12212},{"$f":"COUNTIF(L112:L137,AN20)","v":0},{"$f":"AO20/(AQ4-AO25)","v":0},{"$f":"IF(AP20=0,0,(AP20*((LOG(AP20))/LOG(2))))","v":0},null,{"$f":"N20","v":12212},{"$f":"COUNTIF(L138:L163,AS20)","v":0},{"$f":"AT20/(AV4-AT25)","v":0},{"$f":"IF(AU20=0,0,(AU20*((LOG(AU20))/LOG(2))))","v":0}]
[12,2110,24,2144,13,2155,14,2159,13,2163,0,12111,null,12221,{"$f":"COUNTIF($L$7:$L$500,N21)","v":1},{"$f":"O21/$Q$4","v":6.369426751592357E-3},{"$f":"IF(P21=0,0,(P21*((LOG(P21))/LOG(2))))","v":-4.6462552540710994E-2},null,null,{"$f":"N21","v":12221},{"$f":"COUNTIF(L7:L32,T21)","v":1},{"$f":"U21/(W4-U25)","v":3.8461538461538464E-2},{"$f":"IF(V21=0,0,(V21*((LOG(V21))/LOG(2))))","v":-0.18078614300542661},null,{"$f":"N21","v":12221},{"$f":"COUNTIF(L33:L58,Y21)","v":0},{"$f":"Z21/(AB4-Z25)","v":0},{"$f":"IF(AA21=0,0,(AA21*((LOG(AA21))/LOG(2))))","v":0},null,{"$f":"N21","v":12221},{"$f":"COUNTIF(L59:L85,AD21)","v":0},{"$f":"AE21/(AG4-AE25)","v":0},{"$f":"IF(AF21=0,0,(AF21*((LOG(AF21))/LOG(2))))","v":0},null,{"$f":"N21","v":12221},{"$f":"COUNTIF(L86:L111,AI21)","v":0},{"$f":"AJ21/(AL4-AJ25)","v":0},{"$f":"IF(AK21=0,0,(AK21*((LOG(AK21))/LOG(2))))","v":0},null,{"$f":"N21","v":12221},{"$f":"COUNTIF(L112:L137,AN21)","v":0},{"$f":"AO21/(AQ4-AO25)","v":0},{"$f":"IF(AP21=0,0,(AP21*((LOG(AP21))/LOG(2))))","v":0},null,{"$f":"N21","v":12221},{"$f":"COUNTIF(L138:L163,AS21)","v":0},{"$f":"AT21/(AV4-AT25)","v":0},{"$f":"IF(AU21=0,0,(AU21*((LOG(AU21))/LOG(2))))","v":0}]
[12,2266,13,2275,13,2285,14,2290,24,2303,1,11112,null,12222,{"$f":"COUNTIF($L$7:$L$500,N22)","v":5},{"$f":"O22/$Q$4","v":3.1847133757961783E-2},{"$f":"IF(P22=0,0,(P22*((LOG(P22))/LOG(2))))","v":-0.15836600808930779},null,null,{"$f":"N22","v":12222},{"$f":"COUNTIF(L7:L32,T22)","v":1},{"$f":"U22/(W4-U25)","v":3.8461538461538464E-2},{"$f":"IF(V22=0,0,(V22*((LOG(V22))/LOG(2))))","v":-0.18078614300542661},null,{"$f":"N22","v":12222},{"$f":"COUNTIF(L33:L58,Y22)","v":1},{"$f":"Z22/(AB4-Z25)","v":3.8461538461538464E-2},{"$f":"IF(AA22=0,0,(AA22*((LOG(AA22))/LOG(2))))","v":-0.18078614300542661},null,{"$f":"N22","v":12222},{"$f":"COUNTIF(L59:L85,AD22)","v":1},{"$f":"AE22/(AG4-AE25)","v":3.7037037037037035E-2},{"$f":"IF(AF22=0,0,(AF22*((LOG(AF22))/LOG(2))))","v":-0.1761069445245729},null,{"$f":"N22","v":12222},{"$f":"COUNTIF(L86:L111,AI22)","v":2},{"$f":"AJ22/(AL4-AJ25)","v":7.6923076923076927E-2},{"$f":"IF(AK22=0,0,(AK22*((LOG(AK22))/LOG(2))))","v":-0.28464920908777636},null,{"$f":"N22","v":12222},{"$f":"COUNTIF(L112:L137,AN22)","v":0},{"$f":"AO22/(AQ4-AO25)","v":0},{"$f":"IF(AP22=0,0,(AP22*((LOG(AP22))/LOG(2))))","v":0},null,{"$f":"N22","v":12222},{"$f":"COUNTIF(L138:L163,AS22)","v":0},{"$f":"AT22/(AV4-AT25)","v":0},{"$f":"IF(AU22=0,0,(AU22*((LOG(AU22))/LOG(2))))","v":0}]
[12,2419,13,2454,13,2465,14,2479,13,2490,0,11111,null,21111,{"$f":"COUNTIF($L$7:$L$500,N23)","v":9},{"$f":"O23/$Q$4","v":5.7324840764331211E-2},{"$f":"IF(P23=0,0,(P23*((LOG(P23))/LOG(2))))","v":-0.23644752692384602},null,null,{"$f":"N23","v":21111},{"$f":"COUNTIF(L7:L32,T23)","v":0},{"$f":"U23/(W4-U25)","v":0},{"$f":"IF(V23=0,0,(V23*((LOG(V23))/LOG(2))))","v":0},null,{"$f":"N23","v":21111},{"$f":"COUNTIF(L33:L58,Y23)","v":0},{"$f":"Z23/(AB4-Z25)","v":0},{"$f":"IF(AA23=0,0,(AA23*((LOG(AA23))/LOG(2))))","v":0},null,{"$f":"N23","v":21111},{"$f":"COUNTIF(L59:L85,AD23)","v":1},{"$f":"AE23/(AG4-AE25)","v":3.7037037037037035E-2},{"$f":"IF(AF23=0,0,(AF23*((LOG(AF23))/LOG(2))))","v":-0.1761069445245729},null,{"$f":"N23","v":21111},{"$f":"COUNTIF(L86:L111,AI23)","v":2},{"$f":"AJ23/(AL4-AJ25)","v":7.6923076923076927E-2},{"$f":"IF(AK23=0,0,(AK23*((LOG(AK23))/LOG(2))))","v":-0.28464920908777636},null,{"$f":"N23","v":21111},{"$f":"COUNTIF(L112:L137,AN23)","v":4},{"$f":"AO23/(AQ4-AO25)","v":0.15384615384615385},{"$f":"IF(AP23=0,0,(AP23*((LOG(AP23))/LOG(2))))","v":-0.4154522643293988},null,{"$f":"N23","v":21111},{"$f":"COUNTIF(L138:L163,AS23)","v":2},{"$f":"AT23/(AV4-AT25)","v":7.6923076923076927E-2},{"$f":"IF(AU23=0,0,(AU23*((LOG(AU23))/LOG(2))))","v":-0.28464920908777636}]
[12,2611,13,2620,13,2624,14,2635,13,2648,1,11111,null,21112,{"$f":"COUNTIF($L$7:$L$500,N24)","v":0},{"$f":"O24/$Q$4","v":0},{"$f":"IF(P24=0,0,(P24*((LOG(P24))/LOG(2))))","v":0},null,null,{"$f":"N24","v":21112},{"$f":"COUNTIF(L7:L32,T24)","v":0},{"$f":"U24/(W4-U25)","v":0},{"$f":"IF(V24=0,0,(V24*((LOG(V24))/LOG(2))))","v":0},null,{"$f":"N24","v":21112},{"$f":"COUNTIF(L33:L58,Y24)","v":0},{"$f":"Z24/(AB4-Z25)","v":0},{"$f":"IF(AA24=0,0,(AA24*((LOG(AA24))/LOG(2))))","v":0},null,{"$f":"N24","v":21112},{"$f":"COUNTIF(L59:L85,AD24)","v":0},{"$f":"AE24/(AG4-AE25)","v":0},{"$f":"IF(AF24=0,0,(AF24*((LOG(AF24))/LOG(2))))","v":0},null,{"$f":"N24","v":21112},{"$f":"COUNTIF(L86:L111,AI24)","v":0},{"$f":"AJ24/(AL4-AJ25)","v":0},{"$f":"IF(AK24=0,0,(AK24*((LOG(AK24))/LOG(2))))","v":0},null,{"$f":"N24","v":21112},{"$f":"COUNTIF(L112:L137,AN24)","v":0},{"$f":"AO24/(AQ4-AO25)","v":0},{"$f":"IF(AP24=0,0,(AP24*((LOG(AP24))/LOG(2))))","v":0},null,{"$f":"N24","v":21112},{"$f":"COUNTIF(L138:L163,AS24)","v":0},{"$f":"AT24/(AV4-AT25)","v":0},{"$f":"IF(AU24=0,0,(AU24*((LOG(AU24))/LOG(2))))","v":0}]
[12,2761,24,2780,24,2802,14,2809,13,2823,0,12211,null,21121,{"$f":"COUNTIF($L$7:$L$500,N25)","v":0},{"$f":"O25/$Q$4","v":0},{"$f":"IF(P25=0,0,(P25*((LOG(P25))/LOG(2))))","v":0},null,null,{"$f":"N25","v":21121},{"$f":"COUNTIF(L7:L32,T25)","v":0},null,null,null,{"$f":"N25","v":21121},{"$f":"COUNTIF(L33:L58,Y25)","v":0},null,null,null,{"$f":"N25","v":21121},{"$f":"COUNTIF(L59:L85,AD25)","v":0},null,null,null,{"$f":"N25","v":21121},{"$f":"COUNTIF(L86:L111,AI25)","v":0},null,null,null,{"$f":"N25","v":21121},{"$f":"COUNTIF(L112:L137,AN25)","v":0},null,null,null,{"$f":"N25","v":21121},{"$f":"COUNTIF(L138:L163,AS25)","v":0}]
[12,2951,13,2959,13,2968,14,2972,13,2981,0,11111,null,21122,{"$f":"COUNTIF($L$7:$L$500,N26)","v":0},{"$f":"O26/$Q$4","v":0},{"$f":"IF(P26=0,0,(P26*((LOG(P26))/LOG(2))))","v":0},null,null,{"$f":"N26","v":21122},{"$f":"COUNTIF(L7:L32,T26)","v":0},{"$f":"U26/(W4-U25)","v":0},{"$f":"IF(V26=0,0,(V26*((LOG(V26))/LOG(2))))","v":0},null,{"$f":"N26","v":21122},{"$f":"COUNTIF(L33:L58,Y26)","v":0},{"$f":"Z26/(AB4-Z25)","v":0},{"$f":"IF(AA26=0,0,(AA26*((LOG(AA26))/LOG(2))))","v":0},null,{"$f":"N26","v":21122},{"$f":"COUNTIF(L59:L85,AD26)","v":0},{"$f":"AE26/(AG4-AE25)","v":0},{"$f":"IF(AF26=0,0,(AF26*((LOG(AF26))/LOG(2))))","v":0},null,{"$f":"N26","v":21122},{"$f":"COUNTIF(L86:L111,AI26)","v":0},{"$f":"AJ26/(AL4-AJ25)","v":0},{"$f":"IF(AK26=0,0,(AK26*((LOG(AK26))/LOG(2))))","v":0},null,{"$f":"N26","v":21122},{"$f":"COUNTIF(L112:L137,AN26)","v":0},{"$f":"AO26/(AQ4-AO25)","v":0},{"$f":"IF(AP26=0,0,(AP26*((LOG(AP26))/LOG(2))))","v":0},null,{"$f":"N26","v":21122},{"$f":"COUNTIF(L138:L163,AS26)","v":0},{"$f":"AT26/(AV4-AT25)","v":0},{"$f":"IF(AU26=0,0,(AU26*((LOG(AU26))/LOG(2))))","v":0}]
[12,3085,24,3104,13,3113,14,3120,13,3123,0,12111,null,21211,{"$f":"COUNTIF($L$7:$L$500,N27)","v":0},{"$f":"O27/$Q$4","v":0},{"$f":"IF(P27=0,0,(P27*((LOG(P27))/LOG(2))))","v":0},null,null,{"$f":"N27","v":21211},{"$f":"COUNTIF(L7:L32,T27)","v":0},{"$f":"U27/(W4-U25)","v":0},{"$f":"IF(V27=0,0,(V27*((LOG(V27))/LOG(2))))","v":0},null,{"$f":"N27","v":21211},{"$f":"COUNTIF(L33:L58,Y27)","v":0},{"$f":"Z27/(AB4-Z25)","v":0},{"$f":"IF(AA27=0,0,(AA27*((LOG(AA27))/LOG(2))))","v":0},null,{"$f":"N27","v":21211},{"$f":"COUNTIF(L59:L85,AD27)","v":0},{"$f":"AE27/(AG4-AE25)","v":0},{"$f":"IF(AF27=0,0,(AF27*((LOG(AF27))/LOG(2))))","v":0},null,{"$f":"N27","v":21211},{"$f":"COUNTIF(L86:L111,AI27)","v":0},{"$f":"AJ27/(AL4-AJ25)","v":0},{"$f":"IF(AK27=0,0,(AK27*((LOG(AK27))/LOG(2))))","v":0},null,{"$f":"N27","v":21211},{"$f":"COUNTIF(L112:L137,AN27)","v":0},{"$f":"AO27/(AQ4-AO25)","v":0},{"$f":"IF(AP27=0,0,(AP27*((LOG(AP27))/LOG(2))))","v":0},null,{"$f":"N27","v":21211},{"$f":"COUNTIF(L138:L163,AS27)","v":0},{"$f":"AT27/(AV4-AT25)","v":0},{"$f":"IF(AU27=0,0,(AU27*((LOG(AU27))/LOG(2))))","v":0}]
[12,3224,24,3239,13,3253,14,3272,13,3276,0,12111,null,21212,{"$f":"COUNTIF($L$7:$L$500,N28)","v":0},{"$f":"O28/$Q$4","v":0},{"$f":"IF(P28=0,0,(P28*((LOG(P28))/LOG(2))))","v":0},null,null,{"$f":"N28","v":21212},{"$f":"COUNTIF(L7:L32,T28)","v":0},{"$f":"U28/(W4-U25)","v":0},{"$f":"IF(V28=0,0,(V28*((LOG(V28))/LOG(2))))","v":0},null,{"$f":"N28","v":21212},{"$f":"COUNTIF(L33:L58,Y28)","v":0},{"$f":"Z28/(AB4-Z25)","v":0},{"$f":"IF(AA28=0,0,(AA28*((LOG(AA28))/LOG(2))))","v":0},null,{"$f":"N28","v":21212},{"$f":"COUNTIF(L59:L85,AD28)","v":0},{"$f":"AE28/(AG4-AE25)","v":0},{"$f":"IF(AF28=0,0,(AF28*((LOG(AF28))/LOG(2))))","v":0},null,{"$f":"N28","v":21212},{"$f":"COUNTIF(L86:L111,AI28)","v":0},{"$f":"AJ28/(AL4-AJ25)","v":0},{"$f":"IF(AK28=0,0,(AK28*((LOG(AK28))/LOG(2))))","v":0},null,{"$f":"N28","v":21212},{"$f":"COUNTIF(L112:L137,AN28)","v":0},{"$f":"AO28/(AQ4-AO25)","v":0},{"$f":"IF(AP28=0,0,(AP28*((LOG(AP28))/LOG(2))))","v":0},null,{"$f":"N28","v":21212},{"$f":"COUNTIF(L138:L163,AS28)","v":0},{"$f":"AT28/(AV4-AT25)","v":0},{"$f":"IF(AU28=0,0,(AU28*((LOG(AU28))/LOG(2))))","v":0}]
[12,3377,13,3400,13,3418,14,3421,13,3428,1,11111,null,21221,{"$f":"COUNTIF($L$7:$L$500,N29)","v":1},{"$f":"O29/$Q$4","v":6.369426751592357E-3},{"$f":"IF(P29=0,0,(P29*((LOG(P29))/LOG(2))))","v":-4.6462552540710994E-2},null,null,{"$f":"N29","v":21221},{"$f":"COUNTIF(L7:L32,T29)","v":0},{"$f":"U29/(W4-U25)","v":0},{"$f":"IF(V29=0,0,(V29*((LOG(V29))/LOG(2))))","v":0},null,{"$f":"N29","v":21221},{"$f":"COUNTIF(L33:L58,Y29)","v":0},{"$f":"Z29/(AB4-Z25)","v":0},{"$f":"IF(AA29=0,0,(AA29*((LOG(AA29))/LOG(2))))","v":0},null,{"$f":"N29","v":21221},{"$f":"COUNTIF(L59:L85,AD29)","v":0},{"$f":"AE29/(AG4-AE25)","v":0},{"$f":"IF(AF29=0,0,(AF29*((LOG(AF29))/LOG(2))))","v":0},null,{"$f":"N29","v":21221},{"$f":"COUNTIF(L86:L111,AI29)","v":0},{"$f":"AJ29/(AL4-AJ25)","v":0},{"$f":"IF(AK29=0,0,(AK29*((LOG(AK29))/LOG(2))))","v":0},null,{"$f":"N29","v":21221},{"$f":"COUNTIF(L112:L137,AN29)","v":1},{"$f":"AO29/(AQ4-AO25)","v":3.8461538461538464E-2},{"$f":"IF(AP29=0,0,(AP29*((LOG(AP29))/LOG(2))))","v":-0.18078614300542661},null,{"$f":"N29","v":21221},{"$f":"COUNTIF(L138:L163,AS29)","v":0},{"$f":"AT29/(AV4-AT25)","v":0},{"$f":"IF(AU29=0,0,(AU29*((LOG(AU29))/LOG(2))))","v":0}]
[12,3530,13,3545,13,3565,14,3569,13,3576,0,11111,null,21222,{"$f":"COUNTIF($L$7:$L$500,N30)","v":0},{"$f":"O30/$Q$4","v":0},{"$f":"IF(P30=0,0,(P30*((LOG(P30))/LOG(2))))","v":0},null,null,{"$f":"N30","v":21222},{"$f":"COUNTIF(L7:L32,T30)","v":0},{"$f":"U30/(W4-U25)","v":0},{"$f":"IF(V30=0,0,(V30*((LOG(V30))/LOG(2))))","v":0},null,{"$f":"N30","v":21222},{"$f":"COUNTIF(L33:L58,Y30)","v":0},{"$f":"Z30/(AB4-Z25)","v":0},{"$f":"IF(AA30=0,0,(AA30*((LOG(AA30))/LOG(2))))","v":0},null,{"$f":"N30","v":21222},{"$f":"COUNTIF(L59:L85,AD30)","v":0},{"$f":"AE30/(AG4-AE25)","v":0},{"$f":"IF(AF30=0,0,(AF30*((LOG(AF30))/LOG(2))))","v":0},null,{"$f":"N30","v":21222},{"$f":"COUNTIF(L86:L111,AI30)","v":0},{"$f":"AJ30/(AL4-AJ25)","v":0},{"$f":"IF(AK30=0,0,(AK30*((LOG(AK30))/LOG(2))))","v":0},null,{"$f":"N30","v":21222},{"$f":"COUNTIF(L112:L137,AN30)","v":0},{"$f":"AO30/(AQ4-AO25)","v":0},{"$f":"IF(AP30=0,0,(AP30*((LOG(AP30))/LOG(2))))","v":0},null,{"$f":"N30","v":21222},{"$f":"COUNTIF(L138:L163,AS30)","v":0},{"$f":"AT30/(AV4-AT25)","v":0},{"$f":"IF(AU30=0,0,(AU30*((LOG(AU30))/LOG(2))))","v":0}]
[12,3678,13,3694,13,3704,14,3711,13,3719,0,11111,null,22111,{"$f":"COUNTIF($L$7:$L$500,N31)","v":5},{"$f":"O31/$Q$4","v":3.1847133757961783E-2},{"$f":"IF(P31=0,0,(P31*((LOG(P31))/LOG(2))))","v":-0.15836600808930779},null,null,{"$f":"N31","v":22111},{"$f":"COUNTIF(L7:L32,T31)","v":0},{"$f":"U31/(W4-U25)","v":0},{"$f":"IF(V31=0,0,(V31*((LOG(V31))/LOG(2))))","v":0},null,{"$f":"N31","v":22111},{"$f":"COUNTIF(L33:L58,Y31)","v":1},{"$f":"Z31/(AB4-Z25)","v":3.8461538461538464E-2},{"$f":"IF(AA31=0,0,(AA31*((LOG(AA31))/LOG(2))))","v":-0.18078614300542661},null,{"$f":"N31","v":22111},{"$f":"COUNTIF(L59:L85,AD31)","v":1},{"$f":"AE31/(AG4-AE25)","v":3.7037037037037035E-2},{"$f":"IF(AF31=0,0,(AF31*((LOG(AF31))/LOG(2))))","v":-0.1761069445245729},null,{"$f":"N31","v":22111},{"$f":"COUNTIF(L86:L111,AI31)","v":0},{"$f":"AJ31/(AL4-AJ25)","v":0},{"$f":"IF(AK31=0,0,(AK31*((LOG(AK31))/LOG(2))))","v":0},null,{"$f":"N31","v":22111},{"$f":"COUNTIF(L112:L137,AN31)","v":3},{"$f":"AO31/(AQ4-AO25)","v":0.11538461538461539},{"$f":"IF(AP31=0,0,(AP31*((LOG(AP31))/LOG(2))))","v":-0.35947814047153104},null,{"$f":"N31","v":22111},{"$f":"COUNTIF(L138:L163,AS31)","v":0},{"$f":"AT31/(AV4-AT25)","v":0},{"$f":"IF(AU31=0,0,(AU31*((LOG(AU31))/LOG(2))))","v":0}]
[12,3820,13,3837,24,3845,14,3852,13,3856,0,11211,null,22112,{"$f":"COUNTIF($L$7:$L$500,N32)","v":0},{"$f":"O32/$Q$4","v":0},{"$f":"IF(P32=0,0,(P32*((LOG(P32))/LOG(2))))","v":0},null,null,{"$f":"N32","v":22112},{"$f":"COUNTIF(L7:L32,T32)","v":0},{"$f":"U32/(W4-U25)","v":0},{"$f":"IF(V32=0,0,(V32*((LOG(V32))/LOG(2))))","v":0},null,{"$f":"N32","v":22112},{"$f":"COUNTIF(L33:L58,Y32)","v":0},{"$f":"Z32/(AB4-Z25)","v":0},{"$f":"IF(AA32=0,0,(AA32*((LOG(AA32))/LOG(2))))","v":0},null,{"$f":"N32","v":22112},{"$f":"COUNTIF(L59:L85,AD32)","v":0},{"$f":"AE32/(AG4-AE25)","v":0},{"$f":"IF(AF32=0,0,(AF32*((LOG(AF32))/LOG(2))))","v":0},null,{"$f":"N32","v":22112},{"$f":"COUNTIF(L86:L111,AI32)","v":0},{"$f":"AJ32/(AL4-AJ25)","v":0},{"$f":"IF(AK32=0,0,(AK32*((LOG(AK32))/LOG(2))))","v":0},null,{"$f":"N32","v":22112},{"$f":"COUNTIF(L112:L137,AN32)","v":0},{"$f":"AO32/(AQ4-AO25)","v":0},{"$f":"IF(AP32=0,0,(AP32*((LOG(AP32))/LOG(2))))","v":0},null,{"$f":"N32","v":22112},{"$f":"COUNTIF(L138:L163,AS32)","v":0},{"$f":"AT32/(AV4-AT25)","v":0},{"$f":"IF(AU32=0,0,(AU32*((LOG(AU32))/LOG(2))))","v":0}]
[12,3955,13,3960,13,3963,14,3974,13,3977,0,11111,null,22121,{"$f":"COUNTIF($L$7:$L$500,N33)","v":0},{"$f":"O33/$Q$4","v":0},{"$f":"IF(P33=0,0,(P33*((LOG(P33))/LOG(2))))","v":0},null,null,{"$f":"N33","v":22121},{"$f":"COUNTIF(L7:L32,T33)","v":0},{"$f":"U33/(W4-U25)","v":0},{"$f":"IF(V33=0,0,(V33*((LOG(V33))/LOG(2))))","v":0},null,{"$f":"N33","v":22121},{"$f":"COUNTIF(L33:L58,Y33)","v":0},{"$f":"Z33/(AB4-Z25)","v":0},{"$f":"IF(AA33=0,0,(AA33*((LOG(AA33))/LOG(2))))","v":0},null,{"$f":"N33","v":22121},{"$f":"COUNTIF(L59:L85,AD33)","v":0},{"$f":"AE33/(AG4-AE25)","v":0},{"$f":"IF(AF33=0,0,(AF33*((LOG(AF33))/LOG(2))))","v":0},null,{"$f":"N33","v":22121},{"$f":"COUNTIF(L86:L111,AI33)","v":0},{"$f":"AJ33/(AL4-AJ25)","v":0},{"$f":"IF(AK33=0,0,(AK33*((LOG(AK33))/LOG(2))))","v":0},null,{"$f":"N33","v":22121},{"$f":"COUNTIF(L112:L137,AN33)","v":0},{"$f":"AO33/(AQ4-AO25)","v":0},{"$f":"IF(AP33=0,0,(AP33*((LOG(AP33))/LOG(2))))","v":0},null,{"$f":"N33","v":22121},{"$f":"COUNTIF(L138:L163,AS33)","v":0},{"$f":"AT33/(AV4-AT25)","v":0},{"$f":"IF(AU33=0,0,(AU33*((LOG(AU33))/LOG(2))))","v":0}]
[12,4090,13,4094,13,4100,14,4104,13,4108,1,11111,null,22122,{"$f":"COUNTIF($L$7:$L$500,N34)","v":0},{"$f":"O34/$Q$4","v":0},{"$f":"IF(P34=0,0,(P34*((LOG(P34))/LOG(2))))","v":0},null,null,{"$f":"N34","v":22122},{"$f":"COUNTIF(L7:L32,T34)","v":0},{"$f":"U34/(W4-U25)","v":0},{"$f":"IF(V34=0,0,(V34*((LOG(V34))/LOG(2))))","v":0},null,{"$f":"N34","v":22122},{"$f":"COUNTIF(L33:L58,Y34)","v":0},{"$f":"Z34/(AB4-Z25)","v":0},{"$f":"IF(AA34=0,0,(AA34*((LOG(AA34))/LOG(2))))","v":0},null,{"$f":"N34","v":22122},{"$f":"COUNTIF(L59:L85,AD34)","v":0},{"$f":"AE34/(AG4-AE25)","v":0},{"$f":"IF(AF34=0,0,(AF34*((LOG(AF34))/LOG(2))))","v":0},null,{"$f":"N34","v":22122},{"$f":"COUNTIF(L86:L111,AI34)","v":0},{"$f":"AJ34/(AL4-AJ25)","v":0},{"$f":"IF(AK34=0,0,(AK34*((LOG(AK34))/LOG(2))))","v":0},null,{"$f":"N34","v":22122},{"$f":"COUNTIF(L112:L137,AN34)","v":0},{"$f":"AO34/(AQ4-AO25)","v":0},{"$f":"IF(AP34=0,0,(AP34*((LOG(AP34))/LOG(2))))","v":0},null,{"$f":"N34","v":22122},{"$f":"COUNTIF(L138:L163,AS34)","v":0},{"$f":"AT34/(AV4-AT25)","v":0},{"$f":"IF(AU34=0,0,(AU34*((LOG(AU34))/LOG(2))))","v":0}]
[12,4209,13,4229,13,4233,14,4249,13,4255,0,11111,null,22211,{"$f":"COUNTIF($L$7:$L$500,N35)","v":1},{"$f":"O35/$Q$4","v":6.369426751592357E-3},{"$f":"IF(P35=0,0,(P35*((LOG(P35))/LOG(2))))","v":-4.6462552540710994E-2},null,null,{"$f":"N35","v":22211},{"$f":"COUNTIF(L7:L32,T35)","v":1},{"$f":"U35/(W4-U25)","v":3.8461538461538464E-2},{"$f":"IF(V35=0,0,(V35*((LOG(V35))/LOG(2))))","v":-0.18078614300542661},null,{"$f":"N35","v":22211},{"$f":"COUNTIF(L33:L58,Y35)","v":0},{"$f":"Z35/(AB4-Z25)","v":0},{"$f":"IF(AA35=0,0,(AA35*((LOG(AA35))/LOG(2))))","v":0},null,{"$f":"N35","v":22211},{"$f":"COUNTIF(L59:L85,AD35)","v":0},{"$f":"AE35/(AG4-AE25)","v":0},{"$f":"IF(AF35=0,0,(AF35*((LOG(AF35))/LOG(2))))","v":0},null,{"$f":"N35","v":22211},{"$f":"COUNTIF(L86:L111,AI35)","v":0},{"$f":"AJ35/(AL4-AJ25)","v":0},{"$f":"IF(AK35=0,0,(AK35*((LOG(AK35))/LOG(2))))","v":0},null,{"$f":"N35","v":22211},{"$f":"COUNTIF(L112:L137,AN35)","v":0},{"$f":"AO35/(AQ4-AO25)","v":0},{"$f":"IF(AP35=0,0,(AP35*((LOG(AP35))/LOG(2))))","v":0},null,{"$f":"N35","v":22211},{"$f":"COUNTIF(L138:L163,AS35)","v":0},{"$f":"AT35/(AV4-AT25)","v":0},{"$f":"IF(AU35=0,0,(AU35*((LOG(AU35))/LOG(2))))","v":0}]
[12,4358,24,4383,24,4387,23,4392,24,4397,0,12222,null,22212,{"$f":"COUNTIF($L$7:$L$500,N36)","v":0},{"$f":"O36/$Q$4","v":0},{"$f":"IF(P36=0,0,(P36*((LOG(P36))/LOG(2))))","v":0},null,null,{"$f":"N36","v":22212},{"$f":"COUNTIF(L7:L32,T36)","v":0},{"$f":"U36/(W4-U25)","v":0},{"$f":"IF(V36=0,0,(V36*((LOG(V36))/LOG(2))))","v":0},null,{"$f":"N36","v":22212},{"$f":"COUNTIF(L33:L58,Y36)","v":0},{"$f":"Z36/(AB4-Z25)","v":0},{"$f":"IF(AA36=0,0,(AA36*((LOG(AA36))/LOG(2))))","v":0},null,{"$f":"N36","v":22212},{"$f":"COUNTIF(L59:L85,AD36)","v":0},{"$f":"AE36/(AG4-AE25)","v":0},{"$f":"IF(AF36=0,0,(AF36*((LOG(AF36))/LOG(2))))","v":0},null,{"$f":"N36","v":22212},{"$f":"COUNTIF(L86:L111,AI36)","v":0},{"$f":"AJ36/(AL4-AJ25)","v":0},{"$f":"IF(AK36=0,0,(AK36*((LOG(AK36))/LOG(2))))","v":0},null,{"$f":"N36","v":22212},{"$f":"COUNTIF(L112:L137,AN36)","v":0},{"$f":"AO36/(AQ4-AO25)","v":0},{"$f":"IF(AP36=0,0,(AP36*((LOG(AP36))/LOG(2))))","v":0},null,{"$f":"N36","v":22212},{"$f":"COUNTIF(L138:L163,AS36)","v":0},{"$f":"AT36/(AV4-AT25)","v":0},{"$f":"IF(AU36=0,0,(AU36*((LOG(AU36))/LOG(2))))","v":0}]
[12,4498,24,4506,13,4525,14,4539,13,4545,0,12111,null,22221,{"$f":"COUNTIF($L$7:$L$500,N37)","v":1},{"$f":"O37/$Q$4","v":6.369426751592357E-3},{"$f":"IF(P37=0,0,(P37*((LOG(P37))/LOG(2))))","v":-4.6462552540710994E-2},null,null,{"$f":"N37","v":22221},{"$f":"COUNTIF(L7:L32,T37)","v":1},{"$f":"U37/(W4-U25)","v":3.8461538461538464E-2},{"$f":"IF(V37=0,0,(V37*((LOG(V37))/LOG(2))))","v":-0.18078614300542661},null,{"$f":"N37","v":22221},{"$f":"COUNTIF(L33:L58,Y37)","v":0},{"$f":"Z37/(AB4-Z25)","v":0},{"$f":"IF(AA37=0,0,(AA37*((LOG(AA37))/LOG(2))))","v":0},null,{"$f":"N37","v":22221},{"$f":"COUNTIF(L59:L85,AD37)","v":0},{"$f":"AE37/(AG4-AE25)","v":0},{"$f":"IF(AF37=0,0,(AF37*((LOG(AF37))/LOG(2))))","v":0},null,{"$f":"N37","v":22221},{"$f":"COUNTIF(L86:L111,AI37)","v":0},{"$f":"AJ37/(AL4-AJ25)","v":0},{"$f":"IF(AK37=0,0,(AK37*((LOG(AK37))/LOG(2))))","v":0},null,{"$f":"N37","v":22221},{"$f":"COUNTIF(L112:L137,AN37)","v":0},{"$f":"AO37/(AQ4-AO25)","v":0},{"$f":"IF(AP37=0,0,(AP37*((LOG(AP37))/LOG(2))))","v":0},null,{"$f":"N37","v":22221},{"$f":"COUNTIF(L138:L163,AS37)","v":0},{"$f":"AT37/(AV4-AT25)","v":0},{"$f":"IF(AU37=0,0,(AU37*((LOG(AU37))/LOG(2))))","v":0}]
[12,4648,13,4656,13,4660,14,4677,13,4681,0,11111,null,22222,{"$f":"COUNTIF($L$7:$L$500,N38)","v":2},{"$f":"O38/$Q$4","v":1.2738853503184714E-2},{"$f":"IF(P38=0,0,(P38*((LOG(P38))/LOG(2))))","v":-8.0186251578237291E-2},null,null,{"$f":"N38","v":22222},{"$f":"COUNTIF(L7:L32,T38)","v":0},{"$f":"U38/(W4-U25)","v":0},{"$f":"IF(V38=0,0,(V38*((LOG(V38))/LOG(2))))","v":0},null,{"$f":"N38","v":22222},{"$f":"COUNTIF(L33:L58,Y38)","v":0},{"$f":"Z38/(AB4-Z25)","v":0},{"$f":"IF(AA38=0,0,(AA38*((LOG(AA38))/LOG(2))))","v":0},null,{"$f":"N38","v":22222},{"$f":"COUNTIF(L59:L85,AD38)","v":0},{"$f":"AE38/(AG4-AE25)","v":0},{"$f":"IF(AF38=0,0,(AF38*((LOG(AF38))/LOG(2))))","v":0},null,{"$f":"N38","v":22222},{"$f":"COUNTIF(L86:L111,AI38)","v":0},{"$f":"AJ38/(AL4-AJ25)","v":0},{"$f":"IF(AK38=0,0,(AK38*((LOG(AK38))/LOG(2))))","v":0},null,{"$f":"N38","v":22222},{"$f":"COUNTIF(L112:L137,AN38)","v":1},{"$f":"AO38/(AQ4-AO25)","v":3.8461538461538464E-2},{"$f":"IF(AP38=0,0,(AP38*((LOG(AP38))/LOG(2))))","v":-0.18078614300542661},null,{"$f":"N38","v":22222},{"$f":"COUNTIF(L138:L163,AS38)","v":1},{"$f":"AT38/(AV4-AT25)","v":3.8461538461538464E-2},{"$f":"IF(AU38=0,0,(AU38*((LOG(AU38))/LOG(2))))","v":-0.18078614300542661}]
[12,4784,13,4800,13,4811,14,4818,13,4824,1,11111,null,null,null,{"$f":"SUM(P7:P38)","v":0.99999999999999989},{"$f":"-SUM(Q7:Q38)","v":2.0496848222258581},null,null,null,null,{"$f":"SUM(V7:V38)","v":1},{"$f":"-SUM(W7:W38)","v":2.7164470671613263},null,null,null,{"$f":"SUM(AA7:AA38)","v":1},{"$f":"-SUM(AB7:AB38)","v":1.1929993566060646},null,null,null,{"$f":"SUM(AF7:AF38)","v":0.99999999999999956},{"$f":"-SUM(AG7:AG38)","v":1.5534592837283852},null,null,null,{"$f":"SUM(AK7:AK38)","v":0.99999999999999978},{"$f":"-SUM(AL7:AL38)","v":1.4423388429323183},null,null,null,{"$f":"SUM(AP7:AP38)","v":0.99999999999999989},{"$f":"-SUM(AQ7:AQ38)","v":1.9558917782837364},null,null,null,{"$f":"SUM(AU7:AU38)","v":1.0000000000000002},{"$f":"-SUM(AV7:AV38)","v":1.1160762796829875}]
[12,4923,24,4965,13,4978,14,4986,13,4994,0,12111,null,null,null,"U=",{"$f":"Q39/(LOG(Q4)/LOG(2))","v":0.28098579662791867},null,null,null,null,"U1=",{"$f":"W39/(LOG(W4)/LOG(2))","v":0.57791339322517987},null,null,null,"U2=",{"$f":"AB39/(LOG(AB4)/LOG(2))","v":0.25380590500964162},null,null,null,"U3=",{"$f":"AG39/(LOG(AG4)/LOG(2))","v":0.32670789435534764},null,null,null,"U4=",{"$f":"AL39/(LOG(AL4)/LOG(2))","v":0.30685189672057483},null,null,null,"U5=",{"$f":"AQ39/(LOG(AQ4)/LOG(2))","v":0.4161082570073345},null,null,null,"U6=",{"$f":"AV39/(LOG(AV4)/LOG(2))","v":0.23744082396707519}]
[12,5096,24,5114,24,5123,14,5135,13,5141,0,12211]
[12,5242,13,5263,13,5277,14,5281,13,5285,0,11111]
[12,5387,13,5395,13,5418,14,5421,13,5428,0,11111,null,"Total Target Seq"]
[12,5529,13,5538,13,5547,14,5551,13,5558,0,11111,null,{"$f":"COUNTIF(L7:L163,G3)","v":0},null,26,26,27,26,26,26]
[12,5657,13,5665,13,5688,14,5691,13,5695,0,11111,null,null,null,"% of reinforcement given in 6 equal intervals based on number of trials "]
[12,5797,13,5819,13,5823,14,5843,13,5849,1,11111,null,null,null,"%_1","%_2","%_3","%_4","%_5","%_6"]
[21,5950,22,5966,13,5973,14,5977,13,5986,0,22111,null,null,"target sequence",{"$f":"$G$3","v":21121},{"$f":"$G$3","v":21121},{"$f":"$G$3","v":21121},{"$f":"$G$3","v":21121},{"$f":"$G$3","v":21121},{"$f":"$G$3","v":21121}]
[12,6090,13,6120,13,6126,14,6130,13,6138,0,11111,null,null,"total reinforcement",{"$f":"U25","v":0},{"$f":"Z25","v":0},{"$f":"AE25","v":0},{"$f":"AJ25","v":0},{"$f":"AO25","v":0},{"$f":"AT25","v":0}]
[12,6241,13,6250,13,6254,14,6257,13,6261,0,11111,null,null,"% target"]
[12,6363,13,6371,13,6393,14,6400,13,6404,0,11111,null,null,"CCRF"]
[12,6506,13,6513,13,6527,14,6535,13,6542,0,11111,null,null,"% CCRf"]
[12,6640,13,6644,13,6652,14,6655,13,6658,0,11111,null,null,"average response rate",{"$f":"J32/P44","v":148.30769230769232},{"$f":"(J58-J32)/Q44","v":140.19230769230768},{"$f":"(J85-J58)/R44","v":144.5185185185185},{"$f":"(J111-J85)/S44","v":153.65384615384616},{"$f":"(J137-J111)/T44","v":163.38461538461539},{"$f":"(J163-J137)/U44","v":164.88461538461539}]
[12,6758,13,6775,13,6779,14,6799,13,6805,0,11111]
[12,6906,13,6927,13,6931,14,6935,13,6939,1,11111]
[12,7037,13,7056,13,7075,14,7079,13,7086,0,11111]
[12,7186,13,7195,13,7206,14,7215,13,7224,0,11111]
[12,7333,24,7341,13,7351,14,7358,13,7362,0,12111]
[12,7463,13,7469,13,7484,14,7491,13,7501,0,11111]
[12,7604,13,7619,24,7631,23,7636,24,7643,1,11222]
[12,7740,13,7757,13,7765,14,7769,13,7775,0,11111]
[12,7883,13,7904,13,7908,14,7917,24,7930,0,11112]
[12,8032,13,8048,13,8052,14,8056,13,8061,0,11111]
[12,8162,13,8176,13,8190,14,8195,13,8209,0,11111]
[12,8314,13,8322,13,8333,14,8340,13,8346,0,11111]
[12,8447,13,8455,13,8459,14,8467,13,8476,0,11111]
[12,8576,13,8604,13,8612,14,8632,13,8642,0,11111]
[12,8744,13,8752,13,8774,14,8779,13,8786,0,11111]
[12,8889,13,8898,13,8901,14,8905,13,8909,0,11111]
[12,9009,13,9039,13,9043,14,9056,13,9060,1,11111]
[12,9185,24,9199,24,9204,23,9208,24,9215,0,12222]
[12,9317,13,9337,13,9341,14,9344,13,9348,0,11111]
[12,9448,13,9460,13,9480,14,9484,13,9488,0,11111]
[12,9608,13,9612,13,9616,14,9619,13,9634,1,11111]
[12,9755,13,9769,13,9783,14,9789,13,9796,0,11111]
[12,9900,13,9910,13,9915,14,9938,13,9942,0,11111]
[12,10056,13,10068,13,10082,14,10092,13,10098,0,11111]
[12,10213,13,10227,24,10252,23,10258,13,10265,0,11221]
[12,10367,24,10383,24,10400,14,10410,13,10418,0,12211]
[12,10520,13,10541,13,10544,14,10548,13,10551,0,11111]
[12,10655,13,10664,13,10672,14,10681,13,10693,0,11111]
[21,10796,22,10806,13,10818,14,10822,13,10832,0,22111]
[12,10933,13,10953,13,10960,14,10964,13,10971,0,11111]
[12,11080,13,11087,13,11091,14,11098,13,11102,1,11111]
[12,11216,13,11230,13,11245,14,11248,13,11252,1,11111]
[21,11361,11,11376,11,11380,12,11392,13,11403,0,21111]
[12,11520,13,11540,13,11543,14,11550,13,11559,1,11111]
[12,11669,13,11679,13,11699,14,11703,13,11706,0,11111]
[12,11808,13,11839,13,11842,14,11846,13,11853,0,11111]
[12,11956,13,11975,13,12001,14,12005,13,12013,0,11111]
[12,12116,13,12132,13,12136,14,12148,13,12156,0,11111]
[12,12259,13,12266,13,12274,14,12278,13,12282,0,11111]
[12,12381,13,12396,13,12407,14,12410,13,12418,0,11111]
[12,12519,13,12527,13,12537,14,12547,13,12559,1,11111]
[12,12657,13,12677,13,12692,14,12706,13,12709,0,11111]
[12,12827,13,12836,13,12843,14,12847,13,12852,0,11111]
[12,12956,24,12982,13,12992,14,13000,13,13005,0,12111]
[12,13105,13,13129,13,13132,14,13142,13,13149,0,11111]
[12,13249,13,13267,13,13274,14,13277,13,13281,0,11111]
[12,13380,13,13385,13,13394,14,13398,13,13401,0,11111]
[12,13499,13,13503,24,13526,14,13536,13,13543,1,11211]
[12,13650,13,13662,24,13699,23,13710,24,13716,1,11222]
[12,13830,13,13842,13,13874,14,13885,13,13889,0,11111]
[12,14024,24,14049,24,14059,23,14072,24,14078,0,12222]
[12,14214,13,14223,13,14233,14,14236,13,14243,0,11111]
[12,14360,13,14384,13,14392,14,14401,13,14410,0,11111]
[12,14540,24,14547,24,14552,23,14556,24,14563,0,12222]
[12,14666,13,14690,13,14705,14,14716,13,14720,0,11111]
[21,14879,11,14898,11,14905,12,14912,13,14920,1,21111]
[21,15034,11,15059,11,15064,12,15077,13,15085,0,21111]
[12,15186,13,15208,13,15227,14,15238,13,15241,0,11111]
[12,15344,13,15374,13,15382,14,15394,13,15398,0,11111]
[21,15530,22,15540,13,15552,14,15557,13,15563,0,22111]
[21,15712,22,15716,13,15739,14,15744,13,15759,0,22111]
[12,15873,13,15912,13,15926,14,15933,13,15939,0,11111]
[12,16055,13,16096,13,16107,14,16115,13,16125,0,11111]
[12,16260,13,16268,13,16271,14,16278,13,16285,0,11111]
[21,16390,11,16423,11,16435,12,16439,13,16442,1,21111]
[12,16556,13,16572,13,16607,14,16611,13,16615,0,11111]
[12,16727,13,16743,13,16760,14,16764,13,16787,0,11111]
[21,16908,22,16911,13,16924,14,16929,13,16941,0,22111]
[12,17051,13,17075,13,17089,14,17099,13,17102,0,11111]
[21,17216,11,17232,22,17247,23,17258,13,17266,0,21221]
[12,17369,13,17386,13,17400,14,17407,13,17410,0,11111]
[12,17513,13,17525,13,17529,14,17533,13,17539,0,11111]
[12,17643,13,17667,13,17677,14,17685,13,17689,0,11111]
[12,17789,13,17813,13,17831,14,17834,13,17838,0,11111]
[12,17950,13,17968,13,17971,14,17974,13,17977,1,11111]
[21,18075,11,18090,11,18104,12,18116,13,18120,1,21111]
[12,18256,13,18294,13,18301,14,18310,13,18318,0,11111]
[21,18448,11,18456,11,18460,12,18464,13,18470,1,21111]
[12,18607,13,18619,13,18623,14,18626,13,18634,0,11111]
[12,18740,24,18753,13,18784,14,18795,13,18799,0,12111]
[21,18906,22,18921,24,18941,23,18945,24,18950,1,22222]
[12,19100,13,19104,13,19107,14,19114,13,19121,0,11111]
[21,19272,11,19286,11,19290,12,19294,13,19304,0,21111]
[12,19434,13,19446,13,19454,14,19461,13,19473,0,11111]
[12,19590,13,19606,24,19633,23,19638,24,19646,1,11222]
[12,19782,24,19791,13,19799,14,19806,13,19813,1,12111]
[12,19949,13,19975,13,19979,14,19983,13,19987,1,11111]
[21,20125,22,20160,24,20164,23,20169,24,20175,0,22222]
[12,20285,13,20305,13,20331,14,20335,13,20339,0,11111]
[12,20454,24,20462,13,20471,14,20487,13,20545,1,12111]
[12,20647,13,20701,13,20712,14,20716,13,20724,0,11111]
[12,20838,13,20862,13,20881,14,20885,13,20911,0,11111]
[12,21019,13,21028,13,21056,14,21073,13,21076,0,11111]
[12,21181,13,21215,13,21218,14,21231,13,21237,1,11111]
[12,21353,13,21386,13,21407,14,21413,13,21420,0,11111]
[12,21553,13,21564,13,21570,14,21583,13,21589,0,11111]
[12,21717,13,21750,13,21754,14,21757,13,21762,0,11111]
[12,21867,13,21878,13,21882,14,21886,13,21893,1,11111]
[12,22010,13,22014,13,22019,14,22023,13,22027,0,11111]
[12,22148,13,22152,13,22156,14,22159,13,22162,0,11111]
[12,22272,13,22276,13,22311,14,22316,13,22320,0,11111]
[12,22445,13,22461,13,22465,14,22468,13,22488,1,11111]
[12,22599,13,22647,13,22651,14,22661,13,22664,0,11111]
[12,22790,13,22806,13,22809,14,22817,13,22821,0,11111]
[12,22933,13,22942,13,22946,14,22951,13,22954,0,11111]
[12,23096,13,23100,13,23103,14,23108,13,23117,0,11111]
[21,23248,11,23263,11,23268,12,23273,13,23280,0,21111]
[12,23393,13,23418,13,23422,14,23426,13,23430,1,11111]
[21,23544,11,23554,11,23568,12,23572,13,23583,0,21111]
[12,23705,13,23714,13,23723,14,23729,13,23736,0,11111]
[12,23877,24,23898,13,23917,14,23924,13,23933,null,12111]

{"sheet":"!N427B40.096","index":33,"n_rows":136,"n_cols":48,"rows_kept":136,"cut":false,"hidden":false,"merged":[[4,39,4,42],[5,39,5,40],[4,44,4,47],[5,44,5,45],[4,24,4,27],[5,24,5,25],[4,29,4,32],[5,29,5,30],[4,34,4,37],[5,34,5,35],[1,1,1,2],[5,13,5,14],[42,13,42,14],[43,13,43,14],[4,19,4,22],[5,19,5,20]]}
["Report for:!N427B40.096"]
["Date:","<date>"]
["Hen:","<hen>",null,null,null,"Correct Sequence",{"$f":"Start!J2","v":21121},null,null,null,null,null,null,null,null,"Total Sequences in Data",{"$f":"4994-COUNTBLANK(L7:L5000)","v":130},null,null,null,null,"Total Sequences in Block Data",{"$f":"COUNTA(L7:L28)","v":22},null,null,null,"Total Sequences in Block Data",{"$f":"COUNTA(L29:L49)","v":21},null,null,null,"Total Sequences in Block Data",{"$f":"COUNTA(L50:L71)","v":22},null,null,null,"Total Sequences in Block Data",{"$f":"COUNTA(L72:L93)","v":22},null,null,null,"Total Sequences in Block Data",{"$f":"COUNTA(L94:L114)","v":21},null,null,null,"Total Sequences in Block Data",{"$f":"COUNTA(L115:L136)","v":22}]
[null,null,null,null,null,null,null,null,null,null,null,null,null,null,null,"Total Sequences in Summary",{"$f":"SUM(O7:O38)","v":130},null,null,null,null,"Total Sequences in Block Summary",{"$f":"SUM(U7:U38)","v":22},null,null,null,"Total Sequences in Block Summary",{"$f":"SUM(Z7:Z38)","v":21},null,null,null,"Total Sequences in Block Summary",{"$f":"SUM(AE7:AE38)","v":22},null,null,null,"Total Sequences in Block Summary",{"$f":"SUM(AJ7:AJ38)","v":22},null,null,null,"Total Sequences in Block Summary",{"$f":"SUM(AO7:AO38)","v":21},null,null,null,"Total Sequences in Block Summary",{"$f":"SUM(AT7:AT38)","v":22}]
[null,null,null,null,null,null,null,null,null,null,null,null,null,null,null,null,null,null,null,"Block 1",null,null,null,null,"Block 2",null,null,null,null,"Block 3",null,null,null,null,"Block 4",null,null,null,null,"Block 5",null,null,null,null,"Block 6"]
["Sequence\nComponent\n1","Time\n1","Sequence\nComponent\n2","Time\n2","Sequence\nComponent\n3","Time\n3","Sequence\nComponent\n4","Time\n4","Sequence\nComponent\n5","Time\n5","Correct?\n0=No 1=Yes","Sequence",null,"Frequency",null,"Relative Frequency","Variability",null,null,"Frequency",null,"Relative Frequency","Variability",null,"Frequency",null,"Relative Frequency","Variability",null,"Frequency",null,"Relative Frequency","Variability",null,"Frequency",null,"Relative Frequency","Variability",null,"Frequency",null,"Relative Frequency","Variability",null,"Frequency",null,"Relative Frequency","Variability"]
[12,8,13,12,24,21,23,26,24,33,0,11222,null,11111,{"$f":"COUNTIF($L$7:$L$500,N7)","v":57},{"$f":"O7/$Q$4","v":0.43846153846153846},{"$f":"IF(P7=0,0,(P7*((LOG(P7))/LOG(2))))","v":-0.52154026565562794},null,null,{"$f":"N7","v":11111},{"$f":"COUNTIF(L7:L28,T7)","v":6},{"$f":"U7/(W4-U25)","v":0.2857142857142857},{"$f":"IF(V7=0,0,(V7*((LOG(V7))/LOG(2))))","v":-0.51638712058788683},null,{"$f":"N7","v":11111},{"$f":"COUNTIF(L29:L49,Y7)","v":2},{"$f":"Z7/(AB4-Z25)","v":0.10526315789473684},{"$f":"IF(AA7=0,0,(AA7*((LOG(AA7))/LOG(2))))","v":-0.34188710667827216},null,{"$f":"N7","v":11111},{"$f":"COUNTIF(L50:L71,AD7)","v":12},{"$f":"AE7/(AG4-AE25)","v":0.54545454545454541},{"$f":"IF(AF7=0,0,(AF7*((LOG(AF7))/LOG(2))))","v":-0.47698315522698609},null,{"$f":"N7","v":11111},{"$f":"COUNTIF(L72:L93,AI7)","v":11},{"$f":"AJ7/(AL4-AJ25)","v":0.5},{"$f":"IF(AK7=0,0,(AK7*((LOG(AK7))/LOG(2))))","v":-0.5},null,{"$f":"N7","v":11111},{"$f":"COUNTIF(L94:L114,AN7)","v":9},{"$f":"AO7/(AQ4-AO25)","v":0.42857142857142855},{"$f":"IF(AP7=0,0,(AP7*((LOG(AP7))/LOG(2))))","v":-0.52388246628704915},null,{"$f":"N7","v":11111},{"$f":"COUNTIF(L115:L136,AS7)","v":17},{"$f":"AT7/(AV4-AT25)","v":0.77272727272727271},{"$f":"IF(AU7=0,0,(AU7*((LOG(AU7))/LOG(2))))","v":-0.28743041888992199}]
[21,148,22,150,13,162,23,172,24,179,0,22122,null,11112,{"$f":"COUNTIF($L$7:$L$500,N8)","v":1},{"$f":"O8/$Q$4","v":7.6923076923076927E-3},{"$f":"IF(P8=0,0,(P8*((LOG(P8))/LOG(2))))","v":-5.4018213946372733E-2},null,null,{"$f":"N8","v":11112},{"$f":"COUNTIF(L7:L28,T8)","v":1},{"$f":"U8/(W4-U25)","v":4.7619047619047616E-2},{"$f":"IF(V8=0,0,(V8*((LOG(V8))/LOG(2))))","v":-0.20915797251327431},null,{"$f":"N8","v":11112},{"$f":"COUNTIF(L29:L49,Y8)","v":0},{"$f":"Z8/(AB4-Z25)","v":0},{"$f":"IF(AA8=0,0,(AA8*((LOG(AA8))/LOG(2))))","v":0},null,{"$f":"N8","v":11112},{"$f":"COUNTIF(L50:L71,AD8)","v":0},{"$f":"AE8/(AG4-AE25)","v":0},{"$f":"IF(AF8=0,0,(AF8*((LOG(AF8))/LOG(2))))","v":0},null,{"$f":"N8","v":11112},{"$f":"COUNTIF(L72:L93,AI8)","v":0},{"$f":"AJ8/(AL4-AJ25)","v":0},{"$f":"IF(AK8=0,0,(AK8*((LOG(AK8))/LOG(2))))","v":0},null,{"$f":"N8","v":11112},{"$f":"COUNTIF(L94:L114,AN8)","v":0},{"$f":"AO8/(AQ4-AO25)","v":0},{"$f":"IF(AP8=0,0,(AP8*((LOG(AP8))/LOG(2))))","v":0},null,{"$f":"N8","v":11112},{"$f":"COUNTIF(L115:L136,AS8)","v":0},{"$f":"AT8/(AV4-AT25)","v":0},{"$f":"IF(AU8=0,0,(AU8*((LOG(AU8))/LOG(2))))","v":0}]
[12,278,24,298,24,302,14,312,24,321,1,12212,null,11121,{"$f":"COUNTIF($L$7:$L$500,N9)","v":2},{"$f":"O9/$Q$4","v":1.5384615384615385E-2},{"$f":"IF(P9=0,0,(P9*((LOG(P9))/LOG(2))))","v":-9.2651812508130066E-2},null,null,{"$f":"N9","v":11121},{"$f":"COUNTIF(L7:L28,T9)","v":1},{"$f":"U9/(W4-U25)","v":4.7619047619047616E-2},{"$f":"IF(V9=0,0,(V9*((LOG(V9))/LOG(2))))","v":-0.20915797251327431},null,{"$f":"N9","v":11121},{"$f":"COUNTIF(L29:L49,Y9)","v":0},{"$f":"Z9/(AB4-Z25)","v":0},{"$f":"IF(AA9=0,0,(AA9*((LOG(AA9))/LOG(2))))","v":0},null,{"$f":"N9","v":11121},{"$f":"COUNTIF(L50:L71,AD9)","v":1},{"$f":"AE9/(AG4-AE25)","v":4.5454545454545456E-2},{"$f":"IF(AF9=0,0,(AF9*((LOG(AF9))/LOG(2))))","v":-0.20270143721078623},null,{"$f":"N9","v":11121},{"$f":"COUNTIF(L72:L93,AI9)","v":0},{"$f":"AJ9/(AL4-AJ25)","v":0},{"$f":"IF(AK9=0,0,(AK9*((LOG(AK9))/LOG(2))))","v":0},null,{"$f":"N9","v":11121},{"$f":"COUNTIF(L94:L114,AN9)","v":0},{"$f":"AO9/(AQ4-AO25)","v":0},{"$f":"IF(AP9=0,0,(AP9*((LOG(AP9))/LOG(2))))","v":0},null,{"$f":"N9","v":11121},{"$f":"COUNTIF(L115:L136,AS9)","v":0},{"$f":"AT9/(AV4-AT25)","v":0},{"$f":"IF(AU9=0,0,(AU9*((LOG(AU9))/LOG(2))))","v":0}]
[12,443,24,459,13,466,14,470,13,481,0,12111,null,11122,{"$f":"COUNTIF($L$7:$L$500,N10)","v":2},{"$f":"O10/$Q$4","v":1.5384615384615385E-2},{"$f":"IF(P10=0,0,(P10*((LOG(P10))/LOG(2))))","v":-9.2651812508130066E-2},null,null,{"$f":"N10","v":11122},{"$f":"COUNTIF(L7:L28,T10)","v":0},{"$f":"U10/(W4-U25)","v":0},{"$f":"IF(V10=0,0,(V10*((LOG(V10))/LOG(2))))","v":0},null,{"$f":"N10","v":11122},{"$f":"COUNTIF(L29:L49,Y10)","v":0},{"$f":"Z10/(AB4-Z25)","v":0},{"$f":"IF(AA10=0,0,(AA10*((LOG(AA10))/LOG(2))))","v":0},null,{"$f":"N10","v":11122},{"$f":"COUNTIF(L50:L71,AD10)","v":0},{"$f":"AE10/(AG4-AE25)","v":0},{"$f":"IF(AF10=0,0,(AF10*((LOG(AF10))/LOG(2))))","v":0},null,{"$f":"N10","v":11122},{"$f":"COUNTIF(L72:L93,AI10)","v":1},{"$f":"AJ10/(AL4-AJ25)","v":4.5454545454545456E-2},{"$f":"IF(AK10=0,0,(AK10*((LOG(AK10))/LOG(2))))","v":-0.20270143721078623},null,{"$f":"N10","v":11122},{"$f":"COUNTIF(L94:L114,AN10)","v":0},{"$f":"AO10/(AQ4-AO25)","v":0},{"$f":"IF(AP10=0,0,(AP10*((LOG(AP10))/LOG(2))))","v":0},null,{"$f":"N10","v":11122},{"$f":"COUNTIF(L115:L136,AS10)","v":1},{"$f":"AT10/(AV4-AT25)","v":4.5454545454545456E-2},{"$f":"IF(AU10=0,0,(AU10*((LOG(AU10))/LOG(2))))","v":-0.20270143721078623}]
[12,584,13,589,13,593,23,602,13,611,0,11121,null,11211,{"$f":"COUNTIF($L$7:$L$500,N11)","v":0},{"$f":"O11/$Q$4","v":0},{"$f":"IF(P11=0,0,(P11*((LOG(P11))/LOG(2))))","v":0},null,null,{"$f":"N11","v":11211},{"$f":"COUNTIF(L7:L28,T11)","v":0},{"$f":"U11/(W4-U25)","v":0},{"$f":"IF(V11=0,0,(V11*((LOG(V11))/LOG(2))))","v":0},null,{"$f":"N11","v":11211},{"$f":"COUNTIF(L29:L49,Y11)","v":0},{"$f":"Z11/(AB4-Z25)","v":0},{"$f":"IF(AA11=0,0,(AA11*((LOG(AA11))/LOG(2))))","v":0},null,{"$f":"N11","v":11211},{"$f":"COUNTIF(L50:L71,AD11)","v":0},{"$f":"AE11/(AG4-AE25)","v":0},{"$f":"IF(AF11=0,0,(AF11*((LOG(AF11))/LOG(2))))","v":0},null,{"$f":"N11","v":11211},{"$f":"COUNTIF(L72:L93,AI11)","v":0},{"$f":"AJ11/(AL4-AJ25)","v":0},{"$f":"IF(AK11=0,0,(AK11*((LOG(AK11))/LOG(2))))","v":0},null,{"$f":"N11","v":11211},{"$f":"COUNTIF(L94:L114,AN11)","v":0},{"$f":"AO11/(AQ4-AO25)","v":0},{"$f":"IF(AP11=0,0,(AP11*((LOG(AP11))/LOG(2))))","v":0},null,{"$f":"N11","v":11211},{"$f":"COUNTIF(L115:L136,AS11)","v":0},{"$f":"AT11/(AV4-AT25)","v":0},{"$f":"IF(AU11=0,0,(AU11*((LOG(AU11))/LOG(2))))","v":0}]
[12,707,13,711,13,716,14,724,13,727,0,11111,null,11212,{"$f":"COUNTIF($L$7:$L$500,N12)","v":0},{"$f":"O12/$Q$4","v":0},{"$f":"IF(P12=0,0,(P12*((LOG(P12))/LOG(2))))","v":0},null,null,{"$f":"N12","v":11212},{"$f":"COUNTIF(L7:L28,T12)","v":0},{"$f":"U12/(W4-U25)","v":0},{"$f":"IF(V12=0,0,(V12*((LOG(V12))/LOG(2))))","v":0},null,{"$f":"N12","v":11212},{"$f":"COUNTIF(L29:L49,Y12)","v":0},{"$f":"Z12/(AB4-Z25)","v":0},{"$f":"IF(AA12=0,0,(AA12*((LOG(AA12))/LOG(2))))","v":0},null,{"$f":"N12","v":11212},{"$f":"COUNTIF(L50:L71,AD12)","v":0},{"$f":"AE12/(AG4-AE25)","v":0},{"$f":"IF(AF12=0,0,(AF12*((LOG(AF12))/LOG(2))))","v":0},null,{"$f":"N12","v":11212},{"$f":"COUNTIF(L72:L93,AI12)","v":0},{"$f":"AJ12/(AL4-AJ25)","v":0},{"$f":"IF(AK12=0,0,(AK12*((LOG(AK12))/LOG(2))))","v":0},null,{"$f":"N12","v":11212},{"$f":"COUNTIF(L94:L114,AN12)","v":0},{"$f":"AO12/(AQ4-AO25)","v":0},{"$f":"IF(AP12=0,0,(AP12*((LOG(AP12))/LOG(2))))","v":0},null,{"$f":"N12","v":11212},{"$f":"COUNTIF(L115:L136,AS12)","v":0},{"$f":"AT12/(AV4-AT25)","v":0},{"$f":"IF(AU12=0,0,(AU12*((LOG(AU12))/LOG(2))))","v":0}]
[12,824,13,828,13,835,14,839,13,843,0,11111,null,11221,{"$f":"COUNTIF($L$7:$L$500,N13)","v":1},{"$f":"O13/$Q$4","v":7.6923076923076927E-3},{"$f":"IF(P13=0,0,(P13*((LOG(P13))/LOG(2))))","v":-5.4018213946372733E-2},null,null,{"$f":"N13","v":11221},{"$f":"COUNTIF(L7:L28,T13)","v":0},{"$f":"U13/(W4-U25)","v":0},{"$f":"IF(V13=0,0,(V13*((LOG(V13))/LOG(2))))","v":0},null,{"$f":"N13","v":11221},{"$f":"COUNTIF(L29:L49,Y13)","v":0},{"$f":"Z13/(AB4-Z25)","v":0},{"$f":"IF(AA13=0,0,(AA13*((LOG(AA13))/LOG(2))))","v":0},null,{"$f":"N13","v":11221},{"$f":"COUNTIF(L50:L71,AD13)","v":1},{"$f":"AE13/(AG4-AE25)","v":4.5454545454545456E-2},{"$f":"IF(AF13=0,0,(AF13*((LOG(AF13))/LOG(2))))","v":-0.20270143721078623},null,{"$f":"N13","v":11221},{"$f":"COUNTIF(L72:L93,AI13)","v":0},{"$f":"AJ13/(AL4-AJ25)","v":0},{"$f":"IF(AK13=0,0,(AK13*((LOG(AK13))/LOG(2))))","v":0},null,{"$f":"N13","v":11221},{"$f":"COUNTIF(L94:L114,AN13)","v":0},{"$f":"AO13/(AQ4-AO25)","v":0},{"$f":"IF(AP13=0,0,(AP13*((LOG(AP13))/LOG(2))))","v":0},null,{"$f":"N13","v":11221},{"$f":"COUNTIF(L115:L136,AS13)","v":0},{"$f":"AT13/(AV4-AT25)","v":0},{"$f":"IF(AU13=0,0,(AU13*((LOG(AU13))/LOG(2))))","v":0}]
[12,952,13,956,13,960,14,963,13,973,1,11111,null,11222,{"$f":"COUNTIF($L$7:$L$500,N14)","v":4},{"$f":"O14/$Q$4","v":3.0769230769230771E-2},{"$f":"IF(P14=0,0,(P14*((LOG(P14))/LOG(2))))","v":-0.15453439424702936},null,null,{"$f":"N14","v":11222},{"$f":"COUNTIF(L7:L28,T14)","v":2},{"$f":"U14/(W4-U25)","v":9.5238095238095233E-2},{"$f":"IF(V14=0,0,(V14*((LOG(V14))/LOG(2))))","v":-0.32307784978845333},null,{"$f":"N14","v":11222},{"$f":"COUNTIF(L29:L49,Y14)","v":0},{"$f":"Z14/(AB4-Z25)","v":0},{"$f":"IF(AA14=0,0,(AA14*((LOG(AA14))/LOG(2))))","v":0},null,{"$f":"N14","v":11222},{"$f":"COUNTIF(L50:L71,AD14)","v":0},{"$f":"AE14/(AG4-AE25)","v":0},{"$f":"IF(AF14=0,0,(AF14*((LOG(AF14))/LOG(2))))","v":0},null,{"$f":"N14","v":11222},{"$f":"COUNTIF(L72:L93,AI14)","v":2},{"$f":"AJ14/(AL4-AJ25)","v":9.0909090909090912E-2},{"$f":"IF(AK14=0,0,(AK14*((LOG(AK14))/LOG(2))))","v":-0.31449378351248153},null,{"$f":"N14","v":11222},{"$f":"COUNTIF(L94:L114,AN14)","v":0},{"$f":"AO14/(AQ4-AO25)","v":0},{"$f":"IF(AP14=0,0,(AP14*((LOG(AP14))/LOG(2))))","v":0},null,{"$f":"N14","v":11222},{"$f":"COUNTIF(L115:L136,AS14)","v":0},{"$f":"AT14/(AV4-AT25)","v":0},{"$f":"IF(AU14=0,0,(AU14*((LOG(AU14))/LOG(2))))","v":0}]
[12,1086,13,1090,13,1094,14,1098,13,1113,0,11111,null,12111,{"$f":"COUNTIF($L$7:$L$500,N15)","v":14},{"$f":"O15/$Q$4","v":0.1076923076923077},{"$f":"IF(P15=0,0,(P15*((LOG(P15))/LOG(2))))","v":-0.34623215748916852},null,null,{"$f":"N15","v":12111},{"$f":"COUNTIF(L7:L28,T15)","v":1},{"$f":"U15/(W4-U25)","v":4.7619047619047616E-2},{"$f":"IF(V15=0,0,(V15*((LOG(V15))/LOG(2))))","v":-0.20915797251327431},null,{"$f":"N15","v":12111},{"$f":"COUNTIF(L29:L49,Y15)","v":4},{"$f":"Z15/(AB4-Z25)","v":0.21052631578947367},{"$f":"IF(AA15=0,0,(AA15*((LOG(AA15))/LOG(2))))","v":-0.47324789756707064},null,{"$f":"N15","v":12111},{"$f":"COUNTIF(L50:L71,AD15)","v":3},{"$f":"AE15/(AG4-AE25)","v":0.13636363636363635},{"$f":"IF(AF15=0,0,(AF15*((LOG(AF15))/LOG(2))))","v":-0.39197306153401923},null,{"$f":"N15","v":12111},{"$f":"COUNTIF(L72:L93,AI15)","v":2},{"$f":"AJ15/(AL4-AJ25)","v":9.0909090909090912E-2},{"$f":"IF(AK15=0,0,(AK15*((LOG(AK15))/LOG(2))))","v":-0.31449378351248153},null,{"$f":"N15","v":12111},{"$f":"COUNTIF(L94:L114,AN15)","v":4},{"$f":"AO15/(AQ4-AO25)","v":0.19047619047619047},{"$f":"IF(AP15=0,0,(AP15*((LOG(AP15))/LOG(2))))","v":-0.4556795091007162},null,{"$f":"N15","v":12111},{"$f":"COUNTIF(L115:L136,AS15)","v":0},{"$f":"AT15/(AV4-AT25)","v":0},{"$f":"IF(AU15=0,0,(AU15*((LOG(AU15))/LOG(2))))","v":0}]
[21,1212,22,1218,24,1222,23,1227,24,1231,0,22222,null,12112,{"$f":"COUNTIF($L$7:$L$500,N16)","v":1},{"$f":"O16/$Q$4","v":7.6923076923076927E-3},{"$f":"IF(P16=0,0,(P16*((LOG(P16))/LOG(2))))","v":-5.4018213946372733E-2},null,null,{"$f":"N16","v":12112},{"$f":"COUNTIF(L7:L28,T16)","v":1},{"$f":"U16/(W4-U25)","v":4.7619047619047616E-2},{"$f":"IF(V16=0,0,(V16*((LOG(V16))/LOG(2))))","v":-0.20915797251327431},null,{"$f":"N16","v":12112},{"$f":"COUNTIF(L29:L49,Y16)","v":0},{"$f":"Z16/(AB4-Z25)","v":0},{"$f":"IF(AA16=0,0,(AA16*((LOG(AA16))/LOG(2))))","v":0},null,{"$f":"N16","v":12112},{"$f":"COUNTIF(L50:L71,AD16)","v":0},{"$f":"AE16/(AG4-AE25)","v":0},{"$f":"IF(AF16=0,0,(AF16*((LOG(AF16))/LOG(2))))","v":0},null,{"$f":"N16","v":12112},{"$f":"COUNTIF(L72:L93,AI16)","v":0},{"$f":"AJ16/(AL4-AJ25)","v":0},{"$f":"IF(AK16=0,0,(AK16*((LOG(AK16))/LOG(2))))","v":0},null,{"$f":"N16","v":12112},{"$f":"COUNTIF(L94:L114,AN16)","v":0},{"$f":"AO16/(AQ4-AO25)","v":0},{"$f":"IF(AP16=0,0,(AP16*((LOG(AP16))/LOG(2))))","v":0},null,{"$f":"N16","v":12112},{"$f":"COUNTIF(L115:L136,AS16)","v":0},{"$f":"AT16/(AV4-AT25)","v":0},{"$f":"IF(AU16=0,0,(AU16*((LOG(AU16))/LOG(2))))","v":0}]
[12,1336,13,1339,13,1343,14,1347,24,1356,0,11112,null,12121,{"$f":"COUNTIF($L$7:$L$500,N17)","v":0},{"$f":"O17/$Q$4","v":0},{"$f":"IF(P17=0,0,(P17*((LOG(P17))/LOG(2))))","v":0},null,null,{"$f":"N17","v":12121},{"$f":"COUNTIF(L7:L28,T17)","v":0},{"$f":"U17/(W4-U25)","v":0},{"$f":"IF(V17=0,0,(V17*((LOG(V17))/LOG(2))))","v":0},null,{"$f":"N17","v":12121},{"$f":"COUNTIF(L29:L49,Y17)","v":0},{"$f":"Z17/(AB4-Z25)","v":0},{"$f":"IF(AA17=0,0,(AA17*((LOG(AA17))/LOG(2))))","v":0},null,{"$f":"N17","v":12121},{"$f":"COUNTIF(L50:L71,AD17)","v":0},{"$f":"AE17/(AG4-AE25)","v":0},{"$f":"IF(AF17=0,0,(AF17*((LOG(AF17))/LOG(2))))","v":0},null,{"$f":"N17","v":12121},{"$f":"COUNTIF(L72:L93,AI17)","v":0},{"$f":"AJ17/(AL4-AJ25)","v":0},{"$f":"IF(AK17=0,0,(AK17*((LOG(AK17))/LOG(2))))","v":0},null,{"$f":"N17","v":12121},{"$f":"COUNTIF(L94:L114,AN17)","v":0},{"$f":"AO17/(AQ4-AO25)","v":0},{"$f":"IF(AP17=0,0,(AP17*((LOG(AP17))/LOG(2))))","v":0},null,{"$f":"N17","v":12121},{"$f":"COUNTIF(L115:L136,AS17)","v":0},{"$f":"AT17/(AV4-AT25)","v":0},{"$f":"IF(AU17=0,0,(AU17*((LOG(AU17))/LOG(2))))","v":0}]
[12,1466,13,1470,13,1473,14,1477,13,1487,0,11111,null,12122,{"$f":"COUNTIF($L$7:$L$500,N18)","v":0},{"$f":"O18/$Q$4","v":0},{"$f":"IF(P18=0,0,(P18*((LOG(P18))/LOG(2))))","v":0},null,null,{"$f":"N18","v":12122},{"$f":"COUNTIF(L7:L28,T18)","v":0},{"$f":"U18/(W4-U25)","v":0},{"$f":"IF(V18=0,0,(V18*((LOG(V18))/LOG(2))))","v":0},null,{"$f":"N18","v":12122},{"$f":"COUNTIF(L29:L49,Y18)","v":0},{"$f":"Z18/(AB4-Z25)","v":0},{"$f":"IF(AA18=0,0,(AA18*((LOG(AA18))/LOG(2))))","v":0},null,{"$f":"N18","v":12122},{"$f":"COUNTIF(L50:L71,AD18)","v":0},{"$f":"AE18/(AG4-AE25)","v":0},{"$f":"IF(AF18=0,0,(AF18*((LOG(AF18))/LOG(2))))","v":0},null,{"$f":"N18","v":12122},{"$f":"COUNTIF(L72:L93,AI18)","v":0},{"$f":"AJ18/(AL4-AJ25)","v":0},{"$f":"IF(AK18=0,0,(AK18*((LOG(AK18))/LOG(2))))","v":0},null,{"$f":"N18","v":12122},{"$f":"COUNTIF(L94:L114,AN18)","v":0},{"$f":"AO18/(AQ4-AO25)","v":0},{"$f":"IF(AP18=0,0,(AP18*((LOG(AP18))/LOG(2))))","v":0},null,{"$f":"N18","v":12122},{"$f":"COUNTIF(L115:L136,AS18)","v":0},{"$f":"AT18/(AV4-AT25)","v":0},{"$f":"IF(AU18=0,0,(AU18*((LOG(AU18))/LOG(2))))","v":0}]
[12,1592,24,1599,24,1603,23,1608,24,1615,0,12222,null,12211,{"$f":"COUNTIF($L$7:$L$500,N19)","v":4},{"$f":"O19/$Q$4","v":3.0769230769230771E-2},{"$f":"IF(P19=0,0,(P19*((LOG(P19))/LOG(2))))","v":-0.15453439424702936},null,null,{"$f":"N19","v":12211},{"$f":"COUNTIF(L7:L28,T19)","v":1},{"$f":"U19/(W4-U25)","v":4.7619047619047616E-2},{"$f":"IF(V19=0,0,(V19*((LOG(V19))/LOG(2))))","v":-0.20915797251327431},null,{"$f":"N19","v":12211},{"$f":"COUNTIF(L29:L49,Y19)","v":0},{"$f":"Z19/(AB4-Z25)","v":0},{"$f":"IF(AA19=0,0,(AA19*((LOG(AA19))/LOG(2))))","v":0},null,{"$f":"N19","v":12211},{"$f":"COUNTIF(L50:L71,AD19)","v":0},{"$f":"AE19/(AG4-AE25)","v":0},{"$f":"IF(AF19=0,0,(AF19*((LOG(AF19))/LOG(2))))","v":0},null,{"$f":"N19","v":12211},{"$f":"COUNTIF(L72:L93,AI19)","v":2},{"$f":"AJ19/(AL4-AJ25)","v":9.0909090909090912E-2},{"$f":"IF(AK19=0,0,(AK19*((LOG(AK19))/LOG(2))))","v":-0.31449378351248153},null,{"$f":"N19","v":12211},{"$f":"COUNTIF(L94:L114,AN19)","v":1},{"$f":"AO19/(AQ4-AO25)","v":4.7619047619047616E-2},{"$f":"IF(AP19=0,0,(AP19*((LOG(AP19))/LOG(2))))","v":-0.20915797251327431},null,{"$f":"N19","v":12211},{"$f":"COUNTIF(L115:L136,AS19)","v":0},{"$f":"AT19/(AV4-AT25)","v":0},{"$f":"IF(AU19=0,0,(AU19*((LOG(AU19))/LOG(2))))","v":0}]
[21,1716,22,1721,24,1725,23,1729,24,1733,1,22222,null,12212,{"$f":"COUNTIF($L$7:$L$500,N20)","v":1},{"$f":"O20/$Q$4","v":7.6923076923076927E-3},{"$f":"IF(P20=0,0,(P20*((LOG(P20))/LOG(2))))","v":-5.4018213946372733E-2},null,null,{"$f":"N20","v":12212},{"$f":"COUNTIF(L7:L28,T20)","v":1},{"$f":"U20/(W4-U25)","v":4.7619047619047616E-2},{"$f":"IF(V20=0,0,(V20*((LOG(V20))/LOG(2))))","v":-0.20915797251327431},null,{"$f":"N20","v":12212},{"$f":"COUNTIF(L29:L49,Y20)","v":0},{"$f":"Z20/(AB4-Z25)","v":0},{"$f":"IF(AA20=0,0,(AA20*((LOG(AA20))/LOG(2))))","v":0},null,{"$f":"N20","v":12212},{"$f":"COUNTIF(L50:L71,AD20)","v":0},{"$f":"AE20/(AG4-AE25)","v":0},{"$f":"IF(AF20=0,0,(AF20*((LOG(AF20))/LOG(2))))","v":0},null,{"$f":"N20","v":12212},{"$f":"COUNTIF(L72:L93,AI20)","v":0},{"$f":"AJ20/(AL4-AJ25)","v":0},{"$f":"IF(AK20=0,0,(AK20*((LOG(AK20))/LOG(2))))","v":0},null,{"$f":"N20","v":12212},{"$f":"COUNTIF(L94:L114,AN20)","v":0},{"$f":"AO20/(AQ4-AO25)","v":0},{"$f":"IF(AP20=0,0,(AP20*((LOG(AP20))/LOG(2))))","v":0},null,{"$f":"N20","v":12212},{"$f":"COUNTIF(L115:L136,AS20)","v":0},{"$f":"AT20/(AV4-AT25)","v":0},{"$f":"IF(AU20=0,0,(AU20*((LOG(AU20))/LOG(2))))","v":0}]
[12,1844,24,1851,24,1857,14,1865,13,1873,0,12211,null,12221,{"$f":"COUNTIF($L$7:$L$500,N21)","v":3},{"$f":"O21/$Q$4","v":2.3076923076923078E-2},{"$f":"IF(P21=0,0,(P21*((LOG(P21))/LOG(2))))","v":-0.12547858413016844},null,null,{"$f":"N21","v":12221},{"$f":"COUNTIF(L7:L28,T21)","v":0},{"$f":"U21/(W4-U25)","v":0},{"$f":"IF(V21=0,0,(V21*((LOG(V21))/LOG(2))))","v":0},null,{"$f":"N21","v":12221},{"$f":"COUNTIF(L29:L49,Y21)","v":2},{"$f":"Z21/(AB4-Z25)","v":0.10526315789473684},{"$f":"IF(AA21=0,0,(AA21*((LOG(AA21))/LOG(2))))","v":-0.34188710667827216},null,{"$f":"N21","v":12221},{"$f":"COUNTIF(L50:L71,AD21)","v":0},{"$f":"AE21/(AG4-AE25)","v":0},{"$f":"IF(AF21=0,0,(AF21*((LOG(AF21))/LOG(2))))","v":0},null,{"$f":"N21","v":12221},{"$f":"COUNTIF(L72:L93,AI21)","v":0},{"$f":"AJ21/(AL4-AJ25)","v":0},{"$f":"IF(AK21=0,0,(AK21*((LOG(AK21))/LOG(2))))","v":0},null,{"$f":"N21","v":12221},{"$f":"COUNTIF(L94:L114,AN21)","v":0},{"$f":"AO21/(AQ4-AO25)","v":0},{"$f":"IF(AP21=0,0,(AP21*((LOG(AP21))/LOG(2))))","v":0},null,{"$f":"N21","v":12221},{"$f":"COUNTIF(L115:L136,AS21)","v":1},{"$f":"AT21/(AV4-AT25)","v":4.5454545454545456E-2},{"$f":"IF(AU21=0,0,(AU21*((LOG(AU21))/LOG(2))))","v":-0.20270143721078623}]
[12,1971,13,1977,24,1985,23,1990,24,1994,0,11222,null,12222,{"$f":"COUNTIF($L$7:$L$500,N22)","v":2},{"$f":"O22/$Q$4","v":1.5384615384615385E-2},{"$f":"IF(P22=0,0,(P22*((LOG(P22))/LOG(2))))","v":-9.2651812508130066E-2},null,null,{"$f":"N22","v":12222},{"$f":"COUNTIF(L7:L28,T22)","v":1},{"$f":"U22/(W4-U25)","v":4.7619047619047616E-2},{"$f":"IF(V22=0,0,(V22*((LOG(V22))/LOG(2))))","v":-0.20915797251327431},null,{"$f":"N22","v":12222},{"$f":"COUNTIF(L29:L49,Y22)","v":1},{"$f":"Z22/(AB4-Z25)","v":5.2631578947368418E-2},{"$f":"IF(AA22=0,0,(AA22*((LOG(AA22))/LOG(2))))","v":-0.22357513228650452},null,{"$f":"N22","v":12222},{"$f":"COUNTIF(L50:L71,AD22)","v":0},{"$f":"AE22/(AG4-AE25)","v":0},{"$f":"IF(AF22=0,0,(AF22*((LOG(AF22))/LOG(2))))","v":0},null,{"$f":"N22","v":12222},{"$f":"COUNTIF(L72:L93,AI22)","v":0},{"$f":"AJ22/(AL4-AJ25)","v":0},{"$f":"IF(AK22=0,0,(AK22*((LOG(AK22))/LOG(2))))","v":0},null,{"$f":"N22","v":12222},{"$f":"COUNTIF(L94:L114,AN22)","v":0},{"$f":"AO22/(AQ4-AO25)","v":0},{"$f":"IF(AP22=0,0,(AP22*((LOG(AP22))/LOG(2))))","v":0},null,{"$f":"N22","v":12222},{"$f":"COUNTIF(L115:L136,AS22)","v":0},{"$f":"AT22/(AV4-AT25)","v":0},{"$f":"IF(AU22=0,0,(AU22*((LOG(AU22))/LOG(2))))","v":0}]
[21,2114,11,2132,11,2136,21,2145,11,2155,1,21121,null,21111,{"$f":"COUNTIF($L$7:$L$500,N23)","v":16},{"$f":"O23/$Q$4","v":0.12307692307692308},{"$f":"IF(P23=0,0,(P23*((LOG(P23))/LOG(2))))","v":-0.37198373083427133},null,null,{"$f":"N23","v":21111},{"$f":"COUNTIF(L7:L28,T23)","v":0},{"$f":"U23/(W4-U25)","v":0},{"$f":"IF(V23=0,0,(V23*((LOG(V23))/LOG(2))))","v":0},null,{"$f":"N23","v":21111},{"$f":"COUNTIF(L29:L49,Y23)","v":2},{"$f":"Z23/(AB4-Z25)","v":0.10526315789473684},{"$f":"IF(AA23=0,0,(AA23*((LOG(AA23))/LOG(2))))","v":-0.34188710667827216},null,{"$f":"N23","v":21111},{"$f":"COUNTIF(L50:L71,AD23)","v":2},{"$f":"AE23/(AG4-AE25)","v":9.0909090909090912E-2},{"$f":"IF(AF23=0,0,(AF23*((LOG(AF23))/LOG(2))))","v":-0.31449378351248153},null,{"$f":"N23","v":21111},{"$f":"COUNTIF(L72:L93,AI23)","v":4},{"$f":"AJ23/(AL4-AJ25)","v":0.18181818181818182},{"$f":"IF(AK23=0,0,(AK23*((LOG(AK23))/LOG(2))))","v":-0.44716938520678134},null,{"$f":"N23","v":21111},{"$f":"COUNTIF(L94:L114,AN23)","v":5},{"$f":"AO23/(AQ4-AO25)","v":0.23809523809523808},{"$f":"IF(AP23=0,0,(AP23*((LOG(AP23))/LOG(2))))","v":-0.49294983997414238},null,{"$f":"N23","v":21111},{"$f":"COUNTIF(L115:L136,AS23)","v":3},{"$f":"AT23/(AV4-AT25)","v":0.13636363636363635},{"$f":"IF(AU23=0,0,(AU23*((LOG(AU23))/LOG(2))))","v":-0.39197306153401923}]
[21,2252,22,2257,24,2265,23,2275,13,2283,0,22221,null,21112,{"$f":"COUNTIF($L$7:$L$500,N24)","v":2},{"$f":"O24/$Q$4","v":1.5384615384615385E-2},{"$f":"IF(P24=0,0,(P24*((LOG(P24))/LOG(2))))","v":-9.2651812508130066E-2},null,null,{"$f":"N24","v":21112},{"$f":"COUNTIF(L7:L28,T24)","v":1},{"$f":"U24/(W4-U25)","v":4.7619047619047616E-2},{"$f":"IF(V24=0,0,(V24*((LOG(V24))/LOG(2))))","v":-0.20915797251327431},null,{"$f":"N24","v":21112},{"$f":"COUNTIF(L29:L49,Y24)","v":0},{"$f":"Z24/(AB4-Z25)","v":0},{"$f":"IF(AA24=0,0,(AA24*((LOG(AA24))/LOG(2))))","v":0},null,{"$f":"N24","v":21112},{"$f":"COUNTIF(L50:L71,AD24)","v":0},{"$f":"AE24/(AG4-AE25)","v":0},{"$f":"IF(AF24=0,0,(AF24*((LOG(AF24))/LOG(2))))","v":0},null,{"$f":"N24","v":21112},{"$f":"COUNTIF(L72:L93,AI24)","v":0},{"$f":"AJ24/(AL4-AJ25)","v":0},{"$f":"IF(AK24=0,0,(AK24*((LOG(AK24))/LOG(2))))","v":0},null,{"$f":"N24","v":21112},{"$f":"COUNTIF(L94:L114,AN24)","v":1},{"$f":"AO24/(AQ4-AO25)","v":4.7619047619047616E-2},{"$f":"IF(AP24=0,0,(AP24*((LOG(AP24))/LOG(2))))","v":-0.20915797251327431},null,{"$f":"N24","v":21112},{"$f":"COUNTIF(L115:L136,AS24)","v":0},{"$f":"AT24/(AV4-AT25)","v":0},{"$f":"IF(AU24=0,0,(AU24*((LOG(AU24))/LOG(2))))","v":0}]
[21,2408,11,2418,11,2425,12,2432,24,2443,0,21112,null,21121,{"$f":"COUNTIF($L$7:$L$500,N25)","v":3},{"$f":"O25/$Q$4","v":2.3076923076923078E-2},{"$f":"IF(P25=0,0,(P25*((LOG(P25))/LOG(2))))","v":-0.12547858413016844},null,null,{"$f":"N25","v":21121},{"$f":"COUNTIF(L7:L28,T25)","v":1},null,null,null,{"$f":"N25","v":21121},{"$f":"COUNTIF(L29:L49,Y25)","v":2},null,null,null,{"$f":"N25","v":21121},{"$f":"COUNTIF(L50:L71,AD25)","v":0},null,null,null,{"$f":"N25","v":21121},{"$f":"COUNTIF(L72:L93,AI25)","v":0},null,null,null,{"$f":"N25","v":21121},{"$f":"COUNTIF(L94:L114,AN25)","v":0},null,null,null,{"$f":"N25","v":21121},{"$f":"COUNTIF(L115:L136,AS25)","v":0}]
[12,2571,13,2574,13,2578,14,2582,13,2592,0,11111,null,21122,{"$f":"COUNTIF($L$7:$L$500,N26)","v":0},{"$f":"O26/$Q$4","v":0},{"$f":"IF(P26=0,0,(P26*((LOG(P26))/LOG(2))))","v":0},null,null,{"$f":"N26","v":21122},{"$f":"COUNTIF(L7:L28,T26)","v":0},{"$f":"U26/(W4-U25)","v":0},{"$f":"IF(V26=0,0,(V26*((LOG(V26))/LOG(2))))","v":0},null,{"$f":"N26","v":21122},{"$f":"COUNTIF(L29:L49,Y26)","v":0},{"$f":"Z26/(AB4-Z25)","v":0},{"$f":"IF(AA26=0,0,(AA26*((LOG(AA26))/LOG(2))))","v":0},null,{"$f":"N26","v":21122},{"$f":"COUNTIF(L50:L71,AD26)","v":0},{"$f":"AE26/(AG4-AE25)","v":0},{"$f":"IF(AF26=0,0,(AF26*((LOG(AF26))/LOG(2))))","v":0},null,{"$f":"N26","v":21122},{"$f":"COUNTIF(L72:L93,AI26)","v":0},{"$f":"AJ26/(AL4-AJ25)","v":0},{"$f":"IF(AK26=0,0,(AK26*((LOG(AK26))/LOG(2))))","v":0},null,{"$f":"N26","v":21122},{"$f":"COUNTIF(L94:L114,AN26)","v":0},{"$f":"AO26/(AQ4-AO25)","v":0},{"$f":"IF(AP26=0,0,(AP26*((LOG(AP26))/LOG(2))))","v":0},null,{"$f":"N26","v":21122},{"$f":"COUNTIF(L115:L136,AS26)","v":0},{"$f":"AT26/(AV4-AT25)","v":0},{"$f":"IF(AU26=0,0,(AU26*((LOG(AU26))/LOG(2))))","v":0}]
[12,2706,24,2714,13,2723,14,2728,24,2739,0,12112,null,21211,{"$f":"COUNTIF($L$7:$L$500,N27)","v":0},{"$f":"O27/$Q$4","v":0},{"$f":"IF(P27=0,0,(P27*((LOG(P27))/LOG(2))))","v":0},null,null,{"$f":"N27","v":21211},{"$f":"COUNTIF(L7:L28,T27)","v":0},{"$f":"U27/(W4-U25)","v":0},{"$f":"IF(V27=0,0,(V27*((LOG(V27))/LOG(2))))","v":0},null,{"$f":"N27","v":21211},{"$f":"COUNTIF(L29:L49,Y27)","v":0},{"$f":"Z27/(AB4-Z25)","v":0},{"$f":"IF(AA27=0,0,(AA27*((LOG(AA27))/LOG(2))))","v":0},null,{"$f":"N27","v":21211},{"$f":"COUNTIF(L50:L71,AD27)","v":0},{"$f":"AE27/(AG4-AE25)","v":0},{"$f":"IF(AF27=0,0,(AF27*((LOG(AF27))/LOG(2))))","v":0},null,{"$f":"N27","v":21211},{"$f":"COUNTIF(L72:L93,AI27)","v":0},{"$f":"AJ27/(AL4-AJ25)","v":0},{"$f":"IF(AK27=0,0,(AK27*((LOG(AK27))/LOG(2))))","v":0},null,{"$f":"N27","v":21211},{"$f":"COUNTIF(L94:L114,AN27)","v":0},{"$f":"AO27/(AQ4-AO25)","v":0},{"$f":"IF(AP27=0,0,(AP27*((LOG(AP27))/LOG(2))))","v":0},null,{"$f":"N27","v":21211},{"$f":"COUNTIF(L115:L136,AS27)","v":0},{"$f":"AT27/(AV4-AT25)","v":0},{"$f":"IF(AU27=0,0,(AU27*((LOG(AU27))/LOG(2))))","v":0}]
[21,2851,22,2856,24,2865,23,2870,24,2880,1,22222,null,21212,{"$f":"COUNTIF($L$7:$L$500,N28)","v":0},{"$f":"O28/$Q$4","v":0},{"$f":"IF(P28=0,0,(P28*((LOG(P28))/LOG(2))))","v":0},null,null,{"$f":"N28","v":21212},{"$f":"COUNTIF(L7:L28,T28)","v":0},{"$f":"U28/(W4-U25)","v":0},{"$f":"IF(V28=0,0,(V28*((LOG(V28))/LOG(2))))","v":0},null,{"$f":"N28","v":21212},{"$f":"COUNTIF(L29:L49,Y28)","v":0},{"$f":"Z28/(AB4-Z25)","v":0},{"$f":"IF(AA28=0,0,(AA28*((LOG(AA28))/LOG(2))))","v":0},null,{"$f":"N28","v":21212},{"$f":"COUNTIF(L50:L71,AD28)","v":0},{"$f":"AE28/(AG4-AE25)","v":0},{"$f":"IF(AF28=0,0,(AF28*((LOG(AF28))/LOG(2))))","v":0},null,{"$f":"N28","v":21212},{"$f":"COUNTIF(L72:L93,AI28)","v":0},{"$f":"AJ28/(AL4-AJ25)","v":0},{"$f":"IF(AK28=0,0,(AK28*((LOG(AK28))/LOG(2))))","v":0},null,{"$f":"N28","v":21212},{"$f":"COUNTIF(L94:L114,AN28)","v":0},{"$f":"AO28/(AQ4-AO25)","v":0},{"$f":"IF(AP28=0,0,(AP28*((LOG(AP28))/LOG(2))))","v":0},null,{"$f":"N28","v":21212},{"$f":"COUNTIF(L115:L136,AS28)","v":0},{"$f":"AT28/(AV4-AT25)","v":0},{"$f":"IF(AU28=0,0,(AU28*((LOG(AU28))/LOG(2))))","v":0}]
[21,2990,11,3000,11,3005,21,3017,11,3027,1,21121,null,21221,{"$f":"COUNTIF($L$7:$L$500,N29)","v":0},{"$f":"O29/$Q$4","v":0},{"$f":"IF(P29=0,0,(P29*((LOG(P29))/LOG(2))))","v":0},null,null,{"$f":"N29","v":21221},{"$f":"COUNTIF(L7:L28,T29)","v":0},{"$f":"U29/(W4-U25)","v":0},{"$f":"IF(V29=0,0,(V29*((LOG(V29))/LOG(2))))","v":0},null,{"$f":"N29","v":21221},{"$f":"COUNTIF(L29:L49,Y29)","v":0},{"$f":"Z29/(AB4-Z25)","v":0},{"$f":"IF(AA29=0,0,(AA29*((LOG(AA29))/LOG(2))))","v":0},null,{"$f":"N29","v":21221},{"$f":"COUNTIF(L50:L71,AD29)","v":0},{"$f":"AE29/(AG4-AE25)","v":0},{"$f":"IF(AF29=0,0,(AF29*((LOG(AF29))/LOG(2))))","v":0},null,{"$f":"N29","v":21221},{"$f":"COUNTIF(L72:L93,AI29)","v":0},{"$f":"AJ29/(AL4-AJ25)","v":0},{"$f":"IF(AK29=0,0,(AK29*((LOG(AK29))/LOG(2))))","v":0},null,{"$f":"N29","v":21221},{"$f":"COUNTIF(L94:L114,AN29)","v":0},{"$f":"AO29/(AQ4-AO25)","v":0},{"$f":"IF(AP29=0,0,(AP29*((LOG(AP29))/LOG(2))))","v":0},null,{"$f":"N29","v":21221},{"$f":"COUNTIF(L115:L136,AS29)","v":0},{"$f":"AT29/(AV4-AT25)","v":0},{"$f":"IF(AU29=0,0,(AU29*((LOG(AU29))/LOG(2))))","v":0}]
[21,3138,22,3148,13,3161,14,3166,13,3170,0,22111,null,21222,{"$f":"COUNTIF($L$7:$L$500,N30)","v":1},{"$f":"O30/$Q$4","v":7.6923076923076927E-3},{"$f":"IF(P30=0,0,(P30*((LOG(P30))/LOG(2))))","v":-5.4018213946372733E-2},null,null,{"$f":"N30","v":21222},{"$f":"COUNTIF(L7:L28,T30)","v":0},{"$f":"U30/(W4-U25)","v":0},{"$f":"IF(V30=0,0,(V30*((LOG(V30))/LOG(2))))","v":0},null,{"$f":"N30","v":21222},{"$f":"COUNTIF(L29:L49,Y30)","v":0},{"$f":"Z30/(AB4-Z25)","v":0},{"$f":"IF(AA30=0,0,(AA30*((LOG(AA30))/LOG(2))))","v":0},null,{"$f":"N30","v":21222},{"$f":"COUNTIF(L50:L71,AD30)","v":1},{"$f":"AE30/(AG4-AE25)","v":4.5454545454545456E-2},{"$f":"IF(AF30=0,0,(AF30*((LOG(AF30))/LOG(2))))","v":-0.20270143721078623},null,{"$f":"N30","v":21222},{"$f":"COUNTIF(L72:L93,AI30)","v":0},{"$f":"AJ30/(AL4-AJ25)","v":0},{"$f":"IF(AK30=0,0,(AK30*((LOG(AK30))/LOG(2))))","v":0},null,{"$f":"N30","v":21222},{"$f":"COUNTIF(L94:L114,AN30)","v":0},{"$f":"AO30/(AQ4-AO25)","v":0},{"$f":"IF(AP30=0,0,(AP30*((LOG(AP30))/LOG(2))))","v":0},null,{"$f":"N30","v":21222},{"$f":"COUNTIF(L115:L136,AS30)","v":0},{"$f":"AT30/(AV4-AT25)","v":0},{"$f":"IF(AU30=0,0,(AU30*((LOG(AU30))/LOG(2))))","v":0}]
[12,3275,24,3296,24,3300,23,3304,24,3310,0,12222,null,22111,{"$f":"COUNTIF($L$7:$L$500,N31)","v":5},{"$f":"O31/$Q$4","v":3.8461538461538464E-2},{"$f":"IF(P31=0,0,(P31*((LOG(P31))/LOG(2))))","v":-0.18078614300542661},null,null,{"$f":"N31","v":22111},{"$f":"COUNTIF(L7:L28,T31)","v":0},{"$f":"U31/(W4-U25)","v":0},{"$f":"IF(V31=0,0,(V31*((LOG(V31))/LOG(2))))","v":0},null,{"$f":"N31","v":22111},{"$f":"COUNTIF(L29:L49,Y31)","v":3},{"$f":"Z31/(AB4-Z25)","v":0.15789473684210525},{"$f":"IF(AA31=0,0,(AA31*((LOG(AA31))/LOG(2))))","v":-0.42046815990354147},null,{"$f":"N31","v":22111},{"$f":"COUNTIF(L50:L71,AD31)","v":1},{"$f":"AE31/(AG4-AE25)","v":4.5454545454545456E-2},{"$f":"IF(AF31=0,0,(AF31*((LOG(AF31))/LOG(2))))","v":-0.20270143721078623},null,{"$f":"N31","v":22111},{"$f":"COUNTIF(L72:L93,AI31)","v":0},{"$f":"AJ31/(AL4-AJ25)","v":0},{"$f":"IF(AK31=0,0,(AK31*((LOG(AK31))/LOG(2))))","v":0},null,{"$f":"N31","v":22111},{"$f":"COUNTIF(L94:L114,AN31)","v":1},{"$f":"AO31/(AQ4-AO25)","v":4.7619047619047616E-2},{"$f":"IF(AP31=0,0,(AP31*((LOG(AP31))/LOG(2))))","v":-0.20915797251327431},null,{"$f":"N31","v":22111},{"$f":"COUNTIF(L115:L136,AS31)","v":0},{"$f":"AT31/(AV4-AT25)","v":0},{"$f":"IF(AU31=0,0,(AU31*((LOG(AU31))/LOG(2))))","v":0}]
[12,3411,24,3444,24,3448,23,3453,13,3463,0,12221,null,22112,{"$f":"COUNTIF($L$7:$L$500,N32)","v":0},{"$f":"O32/$Q$4","v":0},{"$f":"IF(P32=0,0,(P32*((LOG(P32))/LOG(2))))","v":0},null,null,{"$f":"N32","v":22112},{"$f":"COUNTIF(L7:L28,T32)","v":0},{"$f":"U32/(W4-U25)","v":0},{"$f":"IF(V32=0,0,(V32*((LOG(V32))/LOG(2))))","v":0},null,{"$f":"N32","v":22112},{"$f":"COUNTIF(L29:L49,Y32)","v":0},{"$f":"Z32/(AB4-Z25)","v":0},{"$f":"IF(AA32=0,0,(AA32*((LOG(AA32))/LOG(2))))","v":0},null,{"$f":"N32","v":22112},{"$f":"COUNTIF(L50:L71,AD32)","v":0},{"$f":"AE32/(AG4-AE25)","v":0},{"$f":"IF(AF32=0,0,(AF32*((LOG(AF32))/LOG(2))))","v":0},null,{"$f":"N32","v":22112},{"$f":"COUNTIF(L72:L93,AI32)","v":0},{"$f":"AJ32/(AL4-AJ25)","v":0},{"$f":"IF(AK32=0,0,(AK32*((LOG(AK32))/LOG(2))))","v":0},null,{"$f":"N32","v":22112},{"$f":"COUNTIF(L94:L114,AN32)","v":0},{"$f":"AO32/(AQ4-AO25)","v":0},{"$f":"IF(AP32=0,0,(AP32*((LOG(AP32))/LOG(2))))","v":0},null,{"$f":"N32","v":22112},{"$f":"COUNTIF(L115:L136,AS32)","v":0},{"$f":"AT32/(AV4-AT25)","v":0},{"$f":"IF(AU32=0,0,(AU32*((LOG(AU32))/LOG(2))))","v":0}]
[21,3575,22,3591,24,3595,14,3608,13,3613,0,22211,null,22121,{"$f":"COUNTIF($L$7:$L$500,N33)","v":0},{"$f":"O33/$Q$4","v":0},{"$f":"IF(P33=0,0,(P33*((LOG(P33))/LOG(2))))","v":0},null,null,{"$f":"N33","v":22121},{"$f":"COUNTIF(L7:L28,T33)","v":0},{"$f":"U33/(W4-U25)","v":0},{"$f":"IF(V33=0,0,(V33*((LOG(V33))/LOG(2))))","v":0},null,{"$f":"N33","v":22121},{"$f":"COUNTIF(L29:L49,Y33)","v":0},{"$f":"Z33/(AB4-Z25)","v":0},{"$f":"IF(AA33=0,0,(AA33*((LOG(AA33))/LOG(2))))","v":0},null,{"$f":"N33","v":22121},{"$f":"COUNTIF(L50:L71,AD33)","v":0},{"$f":"AE33/(AG4-AE25)","v":0},{"$f":"IF(AF33=0,0,(AF33*((LOG(AF33))/LOG(2))))","v":0},null,{"$f":"N33","v":22121},{"$f":"COUNTIF(L72:L93,AI33)","v":0},{"$f":"AJ33/(AL4-AJ25)","v":0},{"$f":"IF(AK33=0,0,(AK33*((LOG(AK33))/LOG(2))))","v":0},null,{"$f":"N33","v":22121},{"$f":"COUNTIF(L94:L114,AN33)","v":0},{"$f":"AO33/(AQ4-AO25)","v":0},{"$f":"IF(AP33=0,0,(AP33*((LOG(AP33))/LOG(2))))","v":0},null,{"$f":"N33","v":22121},{"$f":"COUNTIF(L115:L136,AS33)","v":0},{"$f":"AT33/(AV4-AT25)","v":0},{"$f":"IF(AU33=0,0,(AU33*((LOG(AU33))/LOG(2))))","v":0}]
[21,3749,22,3755,24,3762,14,3783,13,3787,0,22211,null,22122,{"$f":"COUNTIF($L$7:$L$500,N34)","v":2},{"$f":"O34/$Q$4","v":1.5384615384615385E-2},{"$f":"IF(P34=0,0,(P34*((LOG(P34))/LOG(2))))","v":-9.2651812508130066E-2},null,null,{"$f":"N34","v":22122},{"$f":"COUNTIF(L7:L28,T34)","v":1},{"$f":"U34/(W4-U25)","v":4.7619047619047616E-2},{"$f":"IF(V34=0,0,(V34*((LOG(V34))/LOG(2))))","v":-0.20915797251327431},null,{"$f":"N34","v":22122},{"$f":"COUNTIF(L29:L49,Y34)","v":1},{"$f":"Z34/(AB4-Z25)","v":5.2631578947368418E-2},{"$f":"IF(AA34=0,0,(AA34*((LOG(AA34))/LOG(2))))","v":-0.22357513228650452},null,{"$f":"N34","v":22122},{"$f":"COUNTIF(L50:L71,AD34)","v":0},{"$f":"AE34/(AG4-AE25)","v":0},{"$f":"IF(AF34=0,0,(AF34*((LOG(AF34))/LOG(2))))","v":0},null,{"$f":"N34","v":22122},{"$f":"COUNTIF(L72:L93,AI34)","v":0},{"$f":"AJ34/(AL4-AJ25)","v":0},{"$f":"IF(AK34=0,0,(AK34*((LOG(AK34))/LOG(2))))","v":0},null,{"$f":"N34","v":22122},{"$f":"COUNTIF(L94:L114,AN34)","v":0},{"$f":"AO34/(AQ4-AO25)","v":0},{"$f":"IF(AP34=0,0,(AP34*((LOG(AP34))/LOG(2))))","v":0},null,{"$f":"N34","v":22122},{"$f":"COUNTIF(L115:L136,AS34)","v":0},{"$f":"AT34/(AV4-AT25)","v":0},{"$f":"IF(AU34=0,0,(AU34*((LOG(AU34))/LOG(2))))","v":0}]
[21,3926,22,3933,24,3943,14,3956,13,3960,0,22211,null,22211,{"$f":"COUNTIF($L$7:$L$500,N35)","v":5},{"$f":"O35/$Q$4","v":3.8461538461538464E-2},{"$f":"IF(P35=0,0,(P35*((LOG(P35))/LOG(2))))","v":-0.18078614300542661},null,null,{"$f":"N35","v":22211},{"$f":"COUNTIF(L7:L28,T35)","v":0},{"$f":"U35/(W4-U25)","v":0},{"$f":"IF(V35=0,0,(V35*((LOG(V35))/LOG(2))))","v":0},null,{"$f":"N35","v":22211},{"$f":"COUNTIF(L29:L49,Y35)","v":4},{"$f":"Z35/(AB4-Z25)","v":0.21052631578947367},{"$f":"IF(AA35=0,0,(AA35*((LOG(AA35))/LOG(2))))","v":-0.47324789756707064},null,{"$f":"N35","v":22211},{"$f":"COUNTIF(L50:L71,AD35)","v":1},{"$f":"AE35/(AG4-AE25)","v":4.5454545454545456E-2},{"$f":"IF(AF35=0,0,(AF35*((LOG(AF35))/LOG(2))))","v":-0.20270143721078623},null,{"$f":"N35","v":22211},{"$f":"COUNTIF(L72:L93,AI35)","v":0},{"$f":"AJ35/(AL4-AJ25)","v":0},{"$f":"IF(AK35=0,0,(AK35*((LOG(AK35))/LOG(2))))","v":0},null,{"$f":"N35","v":22211},{"$f":"COUNTIF(L94:L114,AN35)","v":0},{"$f":"AO35/(AQ4-AO25)","v":0},{"$f":"IF(AP35=0,0,(AP35*((LOG(AP35))/LOG(2))))","v":0},null,{"$f":"N35","v":22211},{"$f":"COUNTIF(L115:L136,AS35)","v":0},{"$f":"AT35/(AV4-AT25)","v":0},{"$f":"IF(AU35=0,0,(AU35*((LOG(AU35))/LOG(2))))","v":0}]
[21,4085,22,4098,24,4103,14,4115,13,4120,0,22211,null,22212,{"$f":"COUNTIF($L$7:$L$500,N36)","v":0},{"$f":"O36/$Q$4","v":0},{"$f":"IF(P36=0,0,(P36*((LOG(P36))/LOG(2))))","v":0},null,null,{"$f":"N36","v":22212},{"$f":"COUNTIF(L7:L28,T36)","v":0},{"$f":"U36/(W4-U25)","v":0},{"$f":"IF(V36=0,0,(V36*((LOG(V36))/LOG(2))))","v":0},null,{"$f":"N36","v":22212},{"$f":"COUNTIF(L29:L49,Y36)","v":0},{"$f":"Z36/(AB4-Z25)","v":0},{"$f":"IF(AA36=0,0,(AA36*((LOG(AA36))/LOG(2))))","v":0},null,{"$f":"N36","v":22212},{"$f":"COUNTIF(L50:L71,AD36)","v":0},{"$f":"AE36/(AG4-AE25)","v":0},{"$f":"IF(AF36=0,0,(AF36*((LOG(AF36))/LOG(2))))","v":0},null,{"$f":"N36","v":22212},{"$f":"COUNTIF(L72:L93,AI36)","v":0},{"$f":"AJ36/(AL4-AJ25)","v":0},{"$f":"IF(AK36=0,0,(AK36*((LOG(AK36))/LOG(2))))","v":0},null,{"$f":"N36","v":22212},{"$f":"COUNTIF(L94:L114,AN36)","v":0},{"$f":"AO36/(AQ4-AO25)","v":0},{"$f":"IF(AP36=0,0,(AP36*((LOG(AP36))/LOG(2))))","v":0},null,{"$f":"N36","v":22212},{"$f":"COUNTIF(L115:L136,AS36)","v":0},{"$f":"AT36/(AV4-AT25)","v":0},{"$f":"IF(AU36=0,0,(AU36*((LOG(AU36))/LOG(2))))","v":0}]
[21,4299,22,4307,13,4318,14,4323,13,4336,0,22111,null,22221,{"$f":"COUNTIF($L$7:$L$500,N37)","v":1},{"$f":"O37/$Q$4","v":7.6923076923076927E-3},{"$f":"IF(P37=0,0,(P37*((LOG(P37))/LOG(2))))","v":-5.4018213946372733E-2},null,null,{"$f":"N37","v":22221},{"$f":"COUNTIF(L7:L28,T37)","v":1},{"$f":"U37/(W4-U25)","v":4.7619047619047616E-2},{"$f":"IF(V37=0,0,(V37*((LOG(V37))/LOG(2))))","v":-0.20915797251327431},null,{"$f":"N37","v":22221},{"$f":"COUNTIF(L29:L49,Y37)","v":0},{"$f":"Z37/(AB4-Z25)","v":0},{"$f":"IF(AA37=0,0,(AA37*((LOG(AA37))/LOG(2))))","v":0},null,{"$f":"N37","v":22221},{"$f":"COUNTIF(L50:L71,AD37)","v":0},{"$f":"AE37/(AG4-AE25)","v":0},{"$f":"IF(AF37=0,0,(AF37*((LOG(AF37))/LOG(2))))","v":0},null,{"$f":"N37","v":22221},{"$f":"COUNTIF(L72:L93,AI37)","v":0},{"$f":"AJ37/(AL4-AJ25)","v":0},{"$f":"IF(AK37=0,0,(AK37*((LOG(AK37))/LOG(2))))","v":0},null,{"$f":"N37","v":22221},{"$f":"COUNTIF(L94:L114,AN37)","v":0},{"$f":"AO37/(AQ4-AO25)","v":0},{"$f":"IF(AP37=0,0,(AP37*((LOG(AP37))/LOG(2))))","v":0},null,{"$f":"N37","v":22221},{"$f":"COUNTIF(L115:L136,AS37)","v":0},{"$f":"AT37/(AV4-AT25)","v":0},{"$f":"IF(AU37=0,0,(AU37*((LOG(AU37))/LOG(2))))","v":0}]
[12,4501,24,4513,13,4529,14,4534,13,4555,1,12111,null,22222,{"$f":"COUNTIF($L$7:$L$500,N38)","v":3},{"$f":"O38/$Q$4","v":2.3076923076923078E-2},{"$f":"IF(P38=0,0,(P38*((LOG(P38))/LOG(2))))","v":-0.12547858413016844},null,null,{"$f":"N38","v":22222},{"$f":"COUNTIF(L7:L28,T38)","v":3},{"$f":"U38/(W4-U25)","v":0.14285714285714285},{"$f":"IF(V38=0,0,(V38*((LOG(V38))/LOG(2))))","v":-0.40105070315108626},null,{"$f":"N38","v":22222},{"$f":"COUNTIF(L29:L49,Y38)","v":0},{"$f":"Z38/(AB4-Z25)","v":0},{"$f":"IF(AA38=0,0,(AA38*((LOG(AA38))/LOG(2))))","v":0},null,{"$f":"N38","v":22222},{"$f":"COUNTIF(L50:L71,AD38)","v":0},{"$f":"AE38/(AG4-AE25)","v":0},{"$f":"IF(AF38=0,0,(AF38*((LOG(AF38))/LOG(2))))","v":0},null,{"$f":"N38","v":22222},{"$f":"COUNTIF(L72:L93,AI38)","v":0},{"$f":"AJ38/(AL4-AJ25)","v":0},{"$f":"IF(AK38=0,0,(AK38*((LOG(AK38))/LOG(2))))","v":0},null,{"$f":"N38","v":22222},{"$f":"COUNTIF(L94:L114,AN38)","v":0},{"$f":"AO38/(AQ4-AO25)","v":0},{"$f":"IF(AP38=0,0,(AP38*((LOG(AP38))/LOG(2))))","v":0},null,{"$f":"N38","v":22222},{"$f":"COUNTIF(L115:L136,AS38)","v":0},{"$f":"AT38/(AV4-AT25)","v":0},{"$f":"IF(AU38=0,0,(AU38*((LOG(AU38))/LOG(2))))","v":0}]
[12,4837,24,4856,13,4867,14,4871,13,4883,0,12111,null,null,null,{"$f":"SUM(P7:P38)","v":0.99999999999999978},{"$f":"-SUM(Q7:Q38)","v":3.0742013270933719},null,null,null,null,{"$f":"SUM(V7:V38)","v":1.0000000000000002},{"$f":"-SUM(W7:W38)","v":3.3320953986601691},null,null,null,{"$f":"SUM(AA7:AA38)","v":1},{"$f":"-SUM(AB7:AB38)","v":2.8397755396455087},null,null,null,{"$f":"SUM(AF7:AF38)","v":0.99999999999999978},{"$f":"-SUM(AG7:AG38)","v":2.1969571863274182},null,null,null,{"$f":"SUM(AK7:AK38)","v":1},{"$f":"-SUM(AL7:AL38)","v":2.093352172955012},null,null,null,{"$f":"SUM(AP7:AP38)","v":1.0000000000000002},{"$f":"-SUM(AQ7:AQ38)","v":2.0999857329017306},null,null,null,{"$f":"SUM(AU7:AU38)","v":0.99999999999999989},{"$f":"-SUM(AV7:AV38)","v":1.0848063548455138}]
[21,5008,22,5030,13,5059,14,5064,13,5070,1,22111,null,null,null,"U=",{"$f":"Q39/(LOG(Q4)/LOG(2))","v":0.43777275826963508},null,null,null,null,"U1=",{"$f":"W39/(LOG(W4)/LOG(2))","v":0.74720181485334292},null,null,null,"U2=",{"$f":"AB39/(LOG(AB4)/LOG(2))","v":0.64653240335461681},null,null,null,"U3=",{"$f":"AG39/(LOG(AG4)/LOG(2))","v":0.49265408110434472},null,null,null,"U4=",{"$f":"AL39/(LOG(AL4)/LOG(2))","v":0.4694212966976033},null,null,null,"U5=",{"$f":"AQ39/(LOG(AQ4)/LOG(2))","v":0.47810427406979006},null,null,null,"U6=",{"$f":"AV39/(LOG(AV4)/LOG(2))","v":0.24326112554608617}]
[12,5215,24,5235,24,5242,23,5253,13,5264,0,12221]
[12,5381,24,5405,13,5424,14,5430,13,5442,0,12111]
[21,5594,22,5602,13,5618,23,5630,24,5659,1,22122,null,"Total Target Seq"]
[21,5796,11,5815,11,5821,12,5826,13,5833,0,21111,null,{"$f":"COUNTIF(L7:L136,G3)","v":3},null,22,21,22,22,21,22]
[21,6029,11,6039,11,6043,12,6047,13,6051,0,21111,null,null,null,"% of reinforcement given in 6 equal intervals based on number of trials "]
[12,6176,13,6180,13,6183,14,6191,13,6199,1,11111,null,null,null,"%_1","%_2","%_3","%_4","%_5","%_6"]
[21,6317,11,6326,11,6330,21,6338,11,6349,1,21121,null,null,"target sequence",{"$f":"$G$3","v":21121},{"$f":"$G$3","v":21121},{"$f":"$G$3","v":21121},{"$f":"$G$3","v":21121},{"$f":"$G$3","v":21121},{"$f":"$G$3","v":21121}]
[12,6469,13,6487,13,6493,14,6500,13,6506,0,11111,null,null,"total reinforcement",{"$f":"U25","v":1},{"$f":"Z25","v":2},{"$f":"AE25","v":0},{"$f":"AJ25","v":0},{"$f":"AO25","v":0},{"$f":"AT25","v":0}]
[12,6628,24,6664,13,6693,14,6697,13,6702,0,12111,null,null,"% target"]
[12,6881,13,6884,13,6888,14,6896,13,6907,0,11111,null,null,"CCRF"]
[12,7027,13,7043,13,7047,14,7051,13,7057,1,11111,null,null,"% CCRf"]
[12,7172,24,7193,13,7229,14,7233,13,7243,0,12111,null,null,"average response rate",{"$f":"J28/P44","v":130.90909090909091},{"$f":"(J49-J28)/Q44","v":182},{"$f":"(J71-J49)/R44","v":180.63636363636363},{"$f":"(J93-J71)/S44","v":184.81818181818181},{"$f":"(J114-J93)/T44","v":206.1904761904762},{"$f":"(J136-J114)/U44","v":214.54545454545453}]
[12,7367,13,7468,13,7472,23,7498,13,7507,0,11121]
[12,7652,24,7676,13,7696,14,7701,13,7707,0,12111]
[12,7827,13,7836,13,7853,14,7873,13,7876,0,11111]
[21,8036,11,8047,11,8050,12,8054,13,8058,1,21111]
[12,8171,13,8181,13,8184,14,8194,13,8201,1,11111]
[12,8334,13,8362,13,8365,14,8374,13,8381,0,11111]
[12,8510,13,8526,13,8535,14,8541,13,8545,1,11111]
[21,8662,22,8677,13,8700,14,8704,13,8708,0,22111]
[21,8852,11,8863,11,8867,12,8871,13,8878,0,21111]
[12,9019,13,9028,24,9038,23,9046,13,9055,0,11221]
[12,9183,13,9187,13,9194,14,9197,13,9200,0,11111]
[21,9332,22,9350,24,9354,14,9363,13,9370,1,22211]
[12,9495,13,9519,13,9533,14,9537,13,9541,1,11111]
[21,9661,11,9688,22,9696,23,9703,24,9709,0,21222]
[12,9889,13,9905,13,9909,14,9913,13,9920,1,11111]
[12,10069,24,10076,13,10102,14,10106,13,10111,0,12111]
[12,10307,13,10325,13,10329,14,10333,13,10344,0,11111]
[12,10473,13,10486,13,10490,14,10494,13,10497,0,11111]
[12,10655,13,10658,13,10662,14,10665,13,10676,0,11111]
[12,10830,13,10858,13,10862,23,10883,24,10893,1,11122]
[12,11050,13,11065,13,11077,14,11080,13,11090,0,11111]
[12,11218,13,11236,13,11240,14,11244,13,11249,0,11111]
[12,11416,13,11442,13,11446,14,11450,13,11461,0,11111]
[12,11604,13,11622,13,11625,14,11630,13,11635,0,11111]
[21,11746,11,11755,11,11759,12,11778,13,11782,0,21111]
[12,11913,13,11924,13,11928,14,11931,13,11935,1,11111]
[12,12086,24,12093,24,12107,14,12117,13,12124,0,12211]
[12,12266,13,12282,13,12285,14,12289,13,12300,0,11111]
[12,12436,13,12463,13,12477,14,12481,13,12488,1,11111]
[12,12614,24,12624,13,12669,14,12676,13,12680,1,12111]
[12,12776,24,12788,13,12842,14,12857,13,12893,0,12111]
[12,13010,13,13049,24,13057,23,13063,24,13070,1,11222]
[21,13203,11,13220,11,13235,12,13264,13,13268,0,21111]
[12,13421,13,13448,13,13452,14,13462,13,13477,1,11111]
[21,13630,11,13640,11,13644,12,13648,13,13652,0,21111]
[12,13802,13,13814,13,13818,14,13821,13,13825,0,11111]
[12,13973,13,13995,13,14028,14,14032,13,14037,0,11111]
[12,14199,24,14210,24,14215,14,14228,13,14232,0,12211]
[12,14368,13,14371,13,14375,14,14379,13,14389,0,11111]
[12,14532,13,14543,24,14556,23,14569,24,14573,1,11222]
[21,14718,11,14731,11,14735,12,14738,13,14742,0,21111]
[12,14885,13,14947,13,14967,14,14971,13,14975,0,11111]
[21,15122,11,15134,11,15138,12,15142,13,15149,0,21111]
[12,15406,24,15440,13,15450,14,15456,13,15467,1,12111]
[21,15645,11,15658,11,15671,12,15678,13,15691,0,21111]
[12,15878,13,15892,13,15929,14,15961,13,15968,0,11111]
[12,16102,13,16139,13,16142,14,16146,13,16167,0,11111]
[12,16303,13,16326,13,16331,14,16334,13,16339,0,11111]
[12,16531,13,16535,13,16544,14,16557,13,16561,0,11111]
[12,16766,24,16786,13,16798,14,16805,13,16810,0,12111]
[21,16938,11,16949,11,16981,12,16988,24,16998,1,21112]
[21,17119,11,17138,11,17143,12,17147,13,17152,0,21111]
[12,17322,24,17346,13,17363,14,17367,13,17371,0,12111]
[21,17514,11,17528,11,17535,12,17542,13,17546,0,21111]
[12,17665,13,17760,13,17770,14,17774,13,17779,0,11111]
[12,17930,13,17952,13,17956,14,17963,13,17968,0,11111]
[12,18109,13,18132,13,18140,14,18157,13,18167,0,11111]
[12,18308,13,18318,13,18338,14,18342,13,18345,0,11111]
[21,18463,11,18484,11,18508,12,18512,13,18516,1,21111]
[21,18626,22,18627,13,18640,14,18712,13,18719,0,22111]
[12,18851,24,18868,24,18870,14,18882,13,18893,0,12211]
[12,19018,24,19028,13,19059,14,19065,13,19072,0,12111]
[12,19218,13,19239,13,19260,14,19264,13,19269,1,11111]
[12,19400,24,19412,24,19417,23,19424,13,19434,0,12221]
[12,19559,13,19614,13,19647,14,19671,13,19675,0,11111]
[12,19824,13,19855,13,19888,14,19892,13,19896,0,11111]
[12,20022,13,20049,13,20058,14,20065,13,20068,0,11111]
[12,20176,13,20185,13,20190,14,20198,13,20207,0,11111]
[12,20313,13,20362,13,20365,14,20369,13,20372,1,11111]
[12,20555,13,20579,13,20583,14,20586,13,20598,0,11111]
[12,20758,13,20762,13,20773,14,20777,13,20781,0,11111]
[12,20936,13,20940,13,20943,14,20950,13,20954,1,11111]
[12,21137,13,21154,13,21159,14,21162,13,21167,0,11111]
[12,21323,13,21359,13,21397,23,21405,24,21412,1,11122]
[12,21630,13,21634,13,21638,14,21645,13,21651,0,11111]
[21,21790,11,21804,11,21906,12,21910,13,21913,0,21111]
[12,22064,13,22097,13,22101,14,22104,13,22108,1,11111]
[12,22219,13,22282,13,22320,14,22324,13,22331,0,11111]
[12,22591,13,22621,13,22625,14,22630,13,22636,0,11111]
[12,22845,13,22884,13,22888,14,22893,13,22905,0,11111]
[12,23149,13,23176,13,23180,14,23183,13,23188,1,11111]
[12,23333,13,23337,13,23340,14,23343,13,23347,1,11111]
[21,23546,11,23566,11,23570,12,23573,13,23576,1,21111]
[21,23769,11,23780,11,23784,12,23788,13,23792,0,21111]