{"text_format":"1","workbook":"xlsx","n_sheets":30,"sheets":["Sample Report","Summary","Start","!MB30B30.096","!MC01B10.096","!MC02B30.096","!MC03830.096","!MC04B20.096","!MC05950.096","!MC07B00.096","!MC08A10.096","!MC09A50.096","!MC10B30.096","!MC16A00.096","!MC19A50.096","!MC20C10.096","!MC21C10.096","!MC22A20.096","!MC23A50.096","!MC24C00.096","!N102C00.096","!N104D30.096","!N108B30.096","!N110B40.096","!N112A00.096","!N113B10.096","!N115A30.096","!N118D30.096","!N123D10.096","!N127C40.096"],"not_rendered":{"charts":0,"images":0,"macros":1,"external_links":0,"defined_names":0,"comments":0,"pivot_tables":0},"unopened":[],"bounds":{"document_bytes":16777216,"sheet_cells":100000,"rows_first":2000,"rows_last":500,"rows_between":2000,"halvings":0,"cell_chars":16384,"cell_head_chars":4096},"cells_cut":0,"cells_raw":0,"read":"whole","date_system":"1900"}

{"sheet":"Sample Report","index":0,"n_rows":12,"n_cols":11,"rows_kept":12,"cut":false,"hidden":true,"merged":[[7,0,7,6]]}
[]
["Date"]
["Hen"]
["Program"]
["Start at 999999"]
["Sequence component 1","Time 1","Seqeunce Component 2","Time 2","Seqeunce Component 3","Time 3","Correct   0 = No 1=Yes",null,null,"Seqeunce","Time"]
[12,7,12,42,13,18,"if 77 new line,                                  if 31 or 41 = yes new line on 77, ",null,null,"=string of Seqeunce compponent 1, 2 & 3","=time 3"]
["This continues until ther is a 1 on its own to indicate start of summary data"]
[null,null,null,null,null,null,null,null,null,"10-19 =1"]
["Summary Data ",null,null,null,null,null,null,null,null,"20-29 =2"]
["Correct","Incorrect","Rft","total","Av Correct","Av Incorrect","Percent correct","Time",null,"in this example the seqeunce would be 111"]
[40,33,40,73,23.95,15,54,806]

{"sheet":"Summary","index":1,"n_rows":32,"n_cols":16,"rows_kept":32,"cut":false,"hidden":false,"merged":[]}
[]
["Day","Date","Average Response Rate","Target %","RF for non correct sequence","U Value",null,null,null,null,"Block 1","Block 2","Block 3","Block 4","Block 5","Block 6"]
[1,{"$f":"'!MB30B30.096'!B2:C2","v":"<date>"},{"$f":"('!MB30B30.096'!F210/60)/'!MB30B30.096'!Q3","v":1.9412195121951219},{"$f":"'!MB30B30.096'!N20/'!MB30B30.096'!Q3","v":2.4390243902439025E-2},{"$f":"SUM('!MB30B30.096'!L20:Q20)/'!MB30B30.096'!Q3","v":1.4390243902439024},{"$f":"'!MB30B30.096'!Q16","v":0.27756497759526122},null,null,null,"Average Response Rate",{"$f":"AVERAGE(C3:C7)","v":1.9225171666613179},{"$f":"AVERAGE(C8:C12)","v":1.9391792362071301},{"$f":"AVERAGE(C13:C17)","v":2.0945400152695548},{"$f":"AVERAGE(C18:C22)","v":1.9704382045298374},{"$f":"AVERAGE(C23:C27)","v":1.916872196046381},{"$f":"AVERAGE(C28:C32)","v":2.1548807168974404}]
[2,{"$f":"'!MC01B10.096'!B2:C2","v":"<date>"},{"$f":"('!MC01B10.096'!F214/60)/'!MC01B10.096'!Q3","v":1.9173878205128205},{"$f":"'!MC01B10.096'!N20/'!MC01B10.096'!Q3","v":4.807692307692308E-3},{"$f":"SUM('!MC01B10.096'!L20:Q20)/'!MC01B10.096'!Q3","v":1.3557692307692308},{"$f":"'!MC01B10.096'!Q16","v":0.22171751319315883},null,null,null,"Target %",{"$f":"AVERAGE(D3:D7)","v":1.1655494635603563E-2},{"$f":"AVERAGE(D8:D12)","v":4.8977868444372808E-3},{"$f":"AVERAGE(D13:D17)","v":0.30167965502533811},{"$f":"AVERAGE(D18:D22)","v":0.47479644395802933},{"$f":"AVERAGE(D23:D27)","v":0.52989657341287777},{"$f":"AVERAGE(D28:D32)","v":0.44794101780255347}]
[3,{"$f":"'!MC02B30.096'!B2:C2","v":"<date>"},{"$f":"('!MC02B30.096'!F212/60)/'!MC02B30.096'!Q3","v":1.9351132686084143},{"$f":"'!MC02B30.096'!N20/'!MC02B30.096'!Q3","v":2.4271844660194174E-2},{"$f":"SUM('!MC02B30.096'!L20:Q20)/'!MC02B30.096'!Q3","v":1.3883495145631068},{"$f":"'!MC02B30.096'!Q16","v":0.2998734581355309},null,null,null,"CCRF",{"$f":"AVERAGE(E3:E7)","v":1.2993392498258707},{"$f":"AVERAGE(E8:E12)","v":1.0910185185034147},{"$f":"AVERAGE(E13:E17)","v":2.1018354358088325},{"$f":"AVERAGE(E18:E22)","v":3.0695473878349895},{"$f":"AVERAGE(E23:E27)","v":3.6273966186085751},{"$f":"AVERAGE(E28:E32)","v":2.8802373673799675}]
[4,{"$f":"'!MC03830.096'!B2:C2","v":"<date>"},{"$f":"('!MC03830.096'!F214/60)/'!MC03830.096'!Q3","v":1.9225160256410256},{"$f":"'!MC03830.096'!N20/'!MC03830.096'!Q3","v":4.807692307692308E-3},{"$f":"SUM('!MC03830.096'!L20:Q20)/'!MC03830.096'!Q3","v":0.92307692307692313},{"$f":"'!MC03830.096'!Q16","v":0.27285381809264353},null,null,null,"U Value",{"$f":"AVERAGE(F3:F7)","v":0.27432210602491824},{"$f":"AVERAGE(F8:F12)","v":0.32012731216660467},{"$f":"AVERAGE(F13:F17)","v":0.27690700659191159},{"$f":"AVERAGE(F18:F22)","v":0.25495808345591109},{"$f":"AVERAGE(F23:F27)","v":0.19961170129541611},{"$f":"AVERAGE(F28:F32)","v":0.19513732427967562}]
[5,{"$f":"'!MC04B20.096'!B2:C2","v":"<date>"},{"$f":"('!MC04B20.096'!F215/60)/'!MC04B20.096'!Q3","v":1.8963492063492065},{"$f":"'!MC04B20.096'!N20/'!MC04B20.096'!Q3","v":0},{"$f":"SUM('!MC04B20.096'!L20:Q20)/'!MC04B20.096'!Q3","v":1.3904761904761904},{"$f":"'!MC04B20.096'!Q16","v":0.29960076310799666}]
[6,{"$f":"'!MC05950.096'!B2:C2","v":"<date>"},{"$f":"('!MC05950.096'!F213/60)/'!MC05950.096'!Q3","v":1.9139423076923079},{"$f":"'!MC05950.096'!N20/'!MC05950.096'!Q3","v":0},{"$f":"SUM('!MC05950.096'!L20:Q20)/'!MC05950.096'!Q3","v":1.3990384615384615},{"$f":"'!MC05950.096'!Q16","v":0.32225975985416627}]
[7,{"$f":"'!MC07B00.096'!B2:C2","v":"<date>"},{"$f":"('!MC07B00.096'!F214/60)/'!MC07B00.096'!Q3","v":1.9157852564102564},{"$f":"'!MC07B00.096'!N20/'!MC07B00.096'!Q3","v":0},{"$f":"SUM('!MC07B00.096'!L20:Q20)/'!MC07B00.096'!Q3","v":1.3990384615384615},{"$f":"'!MC07B00.096'!Q16","v":0.32557603418780717}]
[8,{"$f":"'!MC08A10.096'!B2:C2","v":"<date>"},{"$f":"('!MC08A10.096'!F213/60)/'!MC08A10.096'!Q3","v":1.9305152979066023},{"$f":"'!MC08A10.096'!N20/'!MC08A10.096'!Q3","v":9.6618357487922701E-3},{"$f":"SUM('!MC08A10.096'!L20:Q20)/'!MC08A10.096'!Q3","v":0.87922705314009664},{"$f":"'!MC08A10.096'!Q16","v":0.32598041080671619}]
[9,{"$f":"'!MC09A50.096'!B2:C2","v":"<date>"},{"$f":"('!MC09A50.096'!F209/60)/'!MC09A50.096'!Q3","v":1.964696223316913},{"$f":"'!MC09A50.096'!N20/'!MC09A50.096'!Q3","v":4.9261083743842365E-3},{"$f":"SUM('!MC09A50.096'!L20:Q20)/'!MC09A50.096'!Q3","v":0.88669950738916259},{"$f":"'!MC09A50.096'!Q16","v":0.29635019750623665}]
[10,{"$f":"'!MC10B30.096'!B2:C2","v":"<date>"},{"$f":"('!MC10B30.096'!F207/60)/'!MC10B30.096'!Q3","v":1.970957095709571},{"$f":"'!MC10B30.096'!N20/'!MC10B30.096'!Q3","v":9.9009900990099011E-3},{"$f":"SUM('!MC10B30.096'!L20:Q20)/'!MC10B30.096'!Q3","v":0.8910891089108911},{"$f":"'!MC10B30.096'!Q16","v":0.33047015847809719}]
[11,{"$f":"'!MC16A00.096'!B2:C2","v":"<date>"},{"$f":"('!MC16A00.096'!F156/60)/'!MC16A00.096'!Q3","v":2.0398888888888891},{"$f":"'!MC16A00.096'!N20/'!MC16A00.096'!Q3","v":0.1},{"$f":"SUM('!MC16A00.096'!L20:Q20)/'!MC16A00.096'!Q3","v":1.2466666666666666},{"$f":"'!MC16A00.096'!Q16","v":0.34108027990245543}]
[12,{"$f":"'!MC19A50.096'!B2:C2","v":"<date>"},{"$f":"('!MC19A50.096'!F126/60)/'!MC19A50.096'!Q3","v":2.0695833333333331},{"$f":"'!MC19A50.096'!N20/'!MC19A50.096'!Q3","v":0.17499999999999999},{"$f":"SUM('!MC19A50.096'!L20:Q20)/'!MC19A50.096'!Q3","v":1.4333333333333333},{"$f":"'!MC19A50.096'!Q16","v":0.20658979096608479}]
[13,{"$f":"'!MC20C10.096'!B2:C2","v":"<date>"},{"$f":"('!MC20C10.096'!F109/60)/'!MC20C10.096'!Q3","v":2.1152103559870552},{"$f":"'!MC20C10.096'!N20/'!MC20C10.096'!Q3","v":0.30097087378640774},{"$f":"SUM('!MC20C10.096'!L20:Q20)/'!MC20C10.096'!Q3","v":1.7087378640776698},{"$f":"'!MC20C10.096'!Q16","v":0.30124086187347332}]
[14,{"$f":"'!MC21C10.096'!B2:C2","v":"<date>"},{"$f":"('!MC21C10.096'!F85/60)/'!MC21C10.096'!Q3","v":2.1864978902953585},{"$f":"'!MC21C10.096'!N20/'!MC21C10.096'!Q3","v":0.41772151898734178},{"$f":"SUM('!MC21C10.096'!L20:Q20)/'!MC21C10.096'!Q3","v":2.1645569620253164},{"$f":"'!MC21C10.096'!Q16","v":0.27523901765040687}]
[15,{"$f":"'!MC22A20.096'!B2:C2","v":"<date>"},{"$f":"('!MC22A20.096'!F74/60)/'!MC22A20.096'!Q3","v":2.0615196078431373},{"$f":"'!MC22A20.096'!N20/'!MC22A20.096'!Q3","v":0.51470588235294112},{"$f":"SUM('!MC22A20.096'!L20:Q20)/'!MC22A20.096'!Q3","v":3.9558823529411766},{"$f":"'!MC22A20.096'!Q16","v":0.26038508256713755}]
[16,{"$f":"'!MC23A50.096'!B2:C2","v":"<date>"},{"$f":"('!MC23A50.096'!F88/60)/'!MC23A50.096'!Q3","v":2.0388211382113823},{"$f":"'!MC23A50.096'!N20/'!MC23A50.096'!Q3","v":0.41463414634146339},{"$f":"SUM('!MC23A50.096'!L20:Q20)/'!MC23A50.096'!Q3","v":3.4390243902439024},{"$f":"'!MC23A50.096'!Q16","v":0.30124454148727547}]
[17,{"$f":"'!MC24C00.096'!B2:C2","v":"<date>"},{"$f":"('!MC24C00.096'!F87/60)/'!MC24C00.096'!Q3","v":2.0063786008230453},{"$f":"'!MC24C00.096'!N20/'!MC24C00.096'!Q3","v":0.40740740740740738},{"$f":"SUM('!MC24C00.096'!L20:Q20)/'!MC24C00.096'!Q3","v":3.3456790123456792},{"$f":"'!MC24C00.096'!Q16","v":0.29719492829327149}]
[18,{"$f":"'!N102C00.096'!B2:C2","v":"<date>"},{"$f":"('!N102C00.096'!F71/60)/'!N102C00.096'!Q3","v":1.9074358974358974},{"$f":"'!N102C00.096'!N20/'!N102C00.096'!Q3","v":0.55384615384615388},{"$f":"SUM('!N102C00.096'!L20:Q20)/'!N102C00.096'!Q3","v":2.6},{"$f":"'!N102C00.096'!Q16","v":0.22372398378193215}]
[19,{"$f":"'!N104D30.096'!B2:C2","v":"<date>"},{"$f":"('!N104D30.096'!F88/60)/'!N104D30.096'!Q3","v":1.9552845528455285},{"$f":"'!N104D30.096'!N20/'!N104D30.096'!Q3","v":0.45121951219512196},{"$f":"SUM('!N104D30.096'!L20:Q20)/'!N104D30.096'!Q3","v":3.3536585365853657},{"$f":"'!N104D30.096'!Q16","v":0.24330745938749801}]
[20,{"$f":"'!N108B30.096'!B2:C2","v":"<date>"},{"$f":"('!N108B30.096'!F70/60)/'!N108B30.096'!Q3","v":1.9442708333333334},{"$f":"'!N108B30.096'!N20/'!N108B30.096'!Q3","v":0.546875},{"$f":"SUM('!N108B30.096'!L20:Q20)/'!N108B30.096'!Q3","v":2.609375},{"$f":"'!N108B30.096'!Q16","v":0.20931950432957827}]
[21,{"$f":"'!N110B40.096'!B2:C2","v":"<date>"},{"$f":"('!N110B40.096'!F80/60)/'!N110B40.096'!Q3","v":1.9029279279279279},{"$f":"'!N110B40.096'!N20/'!N110B40.096'!Q3","v":0.47297297297297297},{"$f":"SUM('!N110B40.096'!L20:Q20)/'!N110B40.096'!Q3","v":3.6621621621621623},{"$f":"'!N110B40.096'!Q16","v":0.20119658019298406}]
[22,{"$f":"'!N112A00.096'!B2:C2","v":"<date>"},{"$f":"('!N112A00.096'!F71/60)/'!N112A00.096'!Q3","v":1.9364102564102563},{"$f":"'!N112A00.096'!N20/'!N112A00.096'!Q3","v":0.52307692307692311},{"$f":"SUM('!N112A00.096'!L20:Q20)/'!N112A00.096'!Q3","v":4.1076923076923073},{"$f":"'!N112A00.096'!Q16","v":0.16579240702774145}]
[23,{"$f":"'!N113B10.096'!B2:C2","v":"<date>"},{"$f":"('!N113B10.096'!F75/60)/'!N113B10.096'!Q3","v":1.9502415458937197},{"$f":"'!N113B10.096'!N20/'!N113B10.096'!Q3","v":0.55072463768115942},{"$f":"SUM('!N113B10.096'!L20:Q20)/'!N113B10.096'!Q3","v":2.4927536231884058},{"$f":"'!N113B10.096'!Q16","v":0.2384770083479022}]
[24,{"$f":"'!N115A30.096'!B2:C2","v":"<date>"},{"$f":"('!N115A30.096'!F70/60)/'!N115A30.096'!Q3","v":1.8674479166666667},{"$f":"'!N115A30.096'!N20/'!N115A30.096'!Q3","v":0.609375},{"$f":"SUM('!N115A30.096'!L20:Q20)/'!N115A30.096'!Q3","v":4.234375},{"$f":"'!N115A30.096'!Q16","v":0.2177881447552561}]
[25,{"$f":"'!N118D30.096'!B2:C2","v":"<date>"},{"$f":"('!N118D30.096'!F81/60)/'!N118D30.096'!Q3","v":1.9273333333333336},{"$f":"'!N118D30.096'!N20/'!N118D30.096'!Q3","v":0.49333333333333335},{"$f":"SUM('!N118D30.096'!L20:Q20)/'!N118D30.096'!Q3","v":3.64},{"$f":"'!N118D30.096'!Q16","v":0.17480436615319672}]
[26,{"$f":"'!N123D10.096'!B2:C2","v":"<date>"},{"$f":"('!N123D10.096'!F89/60)/'!N123D10.096'!Q3","v":2.3289156626506027},{"$f":"'!N123D10.096'!N20/'!N123D10.096'!Q3","v":0.37349397590361444},{"$f":"SUM('!N123D10.096'!L20:Q20)/'!N123D10.096'!Q3","v":3.2530120481927711},{"$f":"'!N123D10.096'!Q16","v":0.17643241249751782}]
[27,{"$f":"'!N127C40.096'!B2:C2","v":"<date>"},{"$f":"('!N127C40.096'!F73/60)/'!N127C40.096'!Q3","v":1.9808457711442786},{"$f":"'!N127C40.096'!N20/'!N127C40.096'!Q3","v":0.52238805970149249},{"$f":"SUM('!N127C40.096'!L20:Q20)/'!N127C40.096'!Q3","v":2.5074626865671643},{"$f":"'!N127C40.096'!Q16","v":0.21384223606183345}]
[28]
[29]
[30]

{"sheet":"Start","index":2,"n_rows":33,"n_cols":10,"rows_kept":33,"cut":false,"hidden":false,"merged":[]}
[null,null,null,null,null,"Use Folder 51",null,"Auto Clean Up",null,"Correct sequence"]
[null,null,null,null,null,false,null,true,null,211]
[]
["Working with Folder",null,null,null,null,null,"Process All/Or Pick A number: ALL or an integer"]
["F:\\Hen Chapter\\Raw Data\\96_176\\phase 1 any_con\\",null,null,null,null,null,"ALL"]
["Filenames:"]
["!MB30B30.096",null,null,null,null,null,"Paint Cells"]
["!N108B30.096",null,null,null,null,null,false]
["!N110B40.096"]
["!N112A00.096"]
["!N113B10.096"]
["!N115A30.096"]
["!N118D30.096"]
["!N123D10.096"]
["!N127C40.096"]
["!MC01B10.096"]
["!MC02B30.096"]
["!MC04B20.096"]
["!MC07B00.096"]
["!MC08A10.096"]
["!MC09A50.096"]
["!MC10B30.096"]
["!MC16A00.096"]
["!MC19A50.096"]
["!MC20C10.096"]
["!MC21C10.096"]
["!MC22A20.096"]
["!MC23A50.096"]
["!MC24C00.096"]
["!MC03830.096"]
["!MC05950.096"]
["!N102C00.096"]
["!N104D30.096"]

{"sheet":"!MB30B30.096","index":3,"n_rows":211,"n_cols":48,"rows_kept":211,"cut":false,"hidden":false,"merged":[[4,39,4,42],[5,39,5,40],[4,44,4,47],[5,44,5,45],[4,24,4,27],[5,24,5,25],[4,29,4,32],[5,29,5,30],[4,34,4,37],[5,34,5,35],[1,1,1,2],[5,13,5,14],[18,13,18,14],[19,13,19,14],[4,19,4,22],[5,19,5,20]]}
["Report for:!MB30B30.096"]
["Date:","<date>"]
["Hen:","<hen>",null,null,null,"Correct Sequence",{"$f":"Start!J2","v":211},null,null,null,null,null,null,null,null,"Total Sequences in Data",{"$f":"4994-COUNTBLANK(L7:L5000)","v":205},null,null,null,null,"Total Sequences in Block Data",{"$f":"COUNTA(L7:L40)","v":34},null,null,null,"Total Sequences in Block Data",{"$f":"COUNTA(L41:L74)","v":34},null,null,null,"Total Sequences in Block Data",{"$f":"COUNTA(L75:L109)","v":35},null,null,null,"Total Sequences in Block Data",{"$f":"COUNTA(L110:L143)","v":34},null,null,null,"Total Sequences in Block Data",{"$f":"COUNTA(L144:L177)","v":34},null,null,null,"Total Sequences in Block Data",{"$f":"COUNTA(L178:L211)","v":34}]
[null,null,null,null,null,null,null,null,null,null,null,null,null,null,null,"Total Sequences in Summary",{"$f":"SUM(O7:O14)","v":204},null,null,null,null,"Total Sequences in Block Summary",{"$f":"SUM(U7:U14)","v":34},null,null,null,"Total Sequences in Block Summary",{"$f":"SUM(Z7:Z14)","v":34},null,null,null,"Total Sequences in Block Summary",{"$f":"SUM(AE7:AE14)","v":35},null,null,null,"Total Sequences in Block Summary",{"$f":"SUM(AJ7:AJ14)","v":34},null,null,null,"Total Sequences in Block Summary",{"$f":"SUM(AO7:AO14)","v":34},null,null,null,"Total Sequences in Block Summary",{"$f":"SUM(AT7:AT14)","v":33}]
[null,null,null,null,null,null,null,null,null,null,null,null,null,null,null,null,null,null,null,"Block 1",null,null,null,null,"Block 2",null,null,null,null,"Block 3",null,null,null,null,"Block 4",null,null,null,null,"Block 5",null,null,null,null,"Block 6"]
["Sequence\nComponent\n1","Time\n1","Sequence\nComponent\n2","Time\n2","Sequence\nComponent\n3","Time\n3","Sequence\nComponent\n4","Time\n4","Sequence\nComponent\n5","Time\n5","Correct?\n0=No 1=Yes","Sequence",null,"Frequency",null,"Relative Frequency","Variability",null,null,"Frequency",null,"Relative Frequency","Variability",null,"Frequency",null,"Relative Frequency","Variability",null,"Frequency",null,"Relative Frequency","Variability",null,"Frequency",null,"Relative Frequency","Variability",null,"Frequency",null,"Relative Frequency","Variability",null,"Frequency",null,"Relative Frequency","Variability"]
[21,9,22,13,24,18,null,null,null,null,0,222,null,111,{"$f":"COUNTIF($L$7:$L$500,N7)","v":1},{"$f":"O7/$Q$4","v":4.9019607843137254E-3},{"$f":"IF(P7=0,0,(P7*((LOG(P7))/LOG(2))))","v":-3.7609928146919096E-2},null,null,{"$f":"N7","v":111},{"$f":"COUNTIF(L7:L40,T7)","v":0},{"$f":"U7/(W4-U11)","v":0},{"$f":"IF(V7=0,0,(V7*((LOG(V7))/LOG(2))))","v":0},null,{"$f":"N7","v":111},{"$f":"COUNTIF(L41:L74,Y7)","v":1},{"$f":"Z7/(AB4-Z11)","v":3.2258064516129031E-2},{"$f":"IF(AA7=0,0,(AA7*((LOG(AA7))/LOG(2))))","v":-0.15981278420602821},null,{"$f":"N7","v":111},{"$f":"COUNTIF(L75:L109,AD7)","v":0},{"$f":"AE7/(AG4-AE11)","v":0},{"$f":"IF(AF7=0,0,(AF7*((LOG(AF7))/LOG(2))))","v":0},null,{"$f":"N7","v":111},{"$f":"COUNTIF(L110:L143,AI7)","v":0},{"$f":"AJ7/(AL4-AJ11)","v":0},{"$f":"IF(AK7=0,0,(AK7*((LOG(AK7))/LOG(2))))","v":0},null,{"$f":"N7","v":111},{"$f":"COUNTIF(L144:L177,AN7)","v":0},{"$f":"AO7/(AQ4-AO11)","v":0},{"$f":"IF(AP7=0,0,(AP7*((LOG(AP7))/LOG(2))))","v":0},null,{"$f":"N7","v":111},{"$f":"COUNTIF(L178:L211,AS7)","v":0},{"$f":"AT7/(AV4-AT11)","v":0},{"$f":"IF(AU7=0,0,(AU7*((LOG(AU7))/LOG(2))))","v":0}]
[21,119,11,136,22,143,null,null,null,null,0,212,null,112,{"$f":"COUNTIF($L$7:$L$500,N8)","v":3},{"$f":"O8/$Q$4","v":1.4705882352941176E-2},{"$f":"IF(P8=0,0,(P8*((LOG(P8))/LOG(2))))","v":-8.9521512371328521E-2},null,null,{"$f":"N8","v":112},{"$f":"COUNTIF(L7:L40,T8)","v":0},{"$f":"U8/(W4-U11)","v":0},{"$f":"IF(V8=0,0,(V8*((LOG(V8))/LOG(2))))","v":0},null,{"$f":"N8","v":112},{"$f":"COUNTIF(L41:L74,Y8)","v":2},{"$f":"Z8/(AB4-Z11)","v":6.4516129032258063E-2},{"$f":"IF(AA8=0,0,(AA8*((LOG(AA8))/LOG(2))))","v":-0.25510943937979835},null,{"$f":"N8","v":112},{"$f":"COUNTIF(L75:L109,AD8)","v":0},{"$f":"AE8/(AG4-AE11)","v":0},{"$f":"IF(AF8=0,0,(AF8*((LOG(AF8))/LOG(2))))","v":0},null,{"$f":"N8","v":112},{"$f":"COUNTIF(L110:L143,AI8)","v":0},{"$f":"AJ8/(AL4-AJ11)","v":0},{"$f":"IF(AK8=0,0,(AK8*((LOG(AK8))/LOG(2))))","v":0},null,{"$f":"N8","v":112},{"$f":"COUNTIF(L144:L177,AN8)","v":0},{"$f":"AO8/(AQ4-AO11)","v":0},{"$f":"IF(AP8=0,0,(AP8*((LOG(AP8))/LOG(2))))","v":0},null,{"$f":"N8","v":112},{"$f":"COUNTIF(L178:L211,AS8)","v":1},{"$f":"AT8/(AV4-AT11)","v":3.125E-2},{"$f":"IF(AU8=0,0,(AU8*((LOG(AU8))/LOG(2))))","v":-0.15625}]
[21,242,22,246,13,254,null,null,null,null,0,221,null,121,{"$f":"COUNTIF($L$7:$L$500,N9)","v":6},{"$f":"O9/$Q$4","v":2.9411764705882353E-2},{"$f":"IF(P9=0,0,(P9*((LOG(P9))/LOG(2))))","v":-0.14963126003677468},null,null,{"$f":"N9","v":121},{"$f":"COUNTIF(L7:L40,T9)","v":2},{"$f":"U9/(W4-U11)","v":6.0606060606060608E-2},{"$f":"IF(V9=0,0,(V9*((LOG(V9))/LOG(2))))","v":-0.24511479511263354},null,{"$f":"N9","v":121},{"$f":"COUNTIF(L41:L74,Y9)","v":1},{"$f":"Z9/(AB4-Z11)","v":3.2258064516129031E-2},{"$f":"IF(AA9=0,0,(AA9*((LOG(AA9))/LOG(2))))","v":-0.15981278420602821},null,{"$f":"N9","v":121},{"$f":"COUNTIF(L75:L109,AD9)","v":1},{"$f":"AE9/(AG4-AE11)","v":2.8571428571428571E-2},{"$f":"IF(AF9=0,0,(AF9*((LOG(AF9))/LOG(2))))","v":-0.14655094334128474},null,{"$f":"N9","v":121},{"$f":"COUNTIF(L110:L143,AI9)","v":2},{"$f":"AJ9/(AL4-AJ11)","v":5.8823529411764705E-2},{"$f":"IF(AK9=0,0,(AK9*((LOG(AK9))/LOG(2))))","v":-0.24043899066178465},null,{"$f":"N9","v":121},{"$f":"COUNTIF(L144:L177,AN9)","v":0},{"$f":"AO9/(AQ4-AO11)","v":0},{"$f":"IF(AP9=0,0,(AP9*((LOG(AP9))/LOG(2))))","v":0},null,{"$f":"N9","v":121},{"$f":"COUNTIF(L178:L211,AS9)","v":0},{"$f":"AT9/(AV4-AT11)","v":0},{"$f":"IF(AU9=0,0,(AU9*((LOG(AU9))/LOG(2))))","v":0}]
[21,355,22,360,13,367,null,null,null,null,0,221,null,122,{"$f":"COUNTIF($L$7:$L$500,N10)","v":12},{"$f":"O10/$Q$4","v":5.8823529411764705E-2},{"$f":"IF(P10=0,0,(P10*((LOG(P10))/LOG(2))))","v":-0.24043899066178465},null,null,{"$f":"N10","v":122},{"$f":"COUNTIF(L7:L40,T10)","v":4},{"$f":"U10/(W4-U11)","v":0.12121212121212122},{"$f":"IF(V10=0,0,(V10*((LOG(V10))/LOG(2))))","v":-0.36901746901314586},null,{"$f":"N10","v":122},{"$f":"COUNTIF(L41:L74,Y10)","v":0},{"$f":"Z10/(AB4-Z11)","v":0},{"$f":"IF(AA10=0,0,(AA10*((LOG(AA10))/LOG(2))))","v":0},null,{"$f":"N10","v":122},{"$f":"COUNTIF(L75:L109,AD10)","v":2},{"$f":"AE10/(AG4-AE11)","v":5.7142857142857141E-2},{"$f":"IF(AF10=0,0,(AF10*((LOG(AF10))/LOG(2))))","v":-0.23595902953971234},null,{"$f":"N10","v":122},{"$f":"COUNTIF(L110:L143,AI10)","v":3},{"$f":"AJ10/(AL4-AJ11)","v":8.8235294117647065E-2},{"$f":"IF(AK10=0,0,(AK10*((LOG(AK10))/LOG(2))))","v":-0.30904414769375149},null,{"$f":"N10","v":122},{"$f":"COUNTIF(L144:L177,AN10)","v":1},{"$f":"AO10/(AQ4-AO11)","v":2.9411764705882353E-2},{"$f":"IF(AP10=0,0,(AP10*((LOG(AP10))/LOG(2))))","v":-0.14963126003677468},null,{"$f":"N10","v":122},{"$f":"COUNTIF(L178:L211,AS10)","v":2},{"$f":"AT10/(AV4-AT11)","v":6.25E-2},{"$f":"IF(AU10=0,0,(AU10*((LOG(AU10))/LOG(2))))","v":-0.25}]
[21,468,22,472,13,479,null,null,null,null,0,221,null,211,{"$f":"COUNTIF($L$7:$L$500,N11)","v":5},{"$f":"O11/$Q$4","v":2.4509803921568627E-2},{"$f":"IF(P11=0,0,(P11*((LOG(P11))/LOG(2))))","v":-0.13113963840892484},null,null,{"$f":"N11","v":211},{"$f":"COUNTIF(L7:L40,T11)","v":1},null,null,null,{"$f":"N11","v":211},{"$f":"COUNTIF(L41:L74,Y11)","v":3},null,null,null,{"$f":"N11","v":211},{"$f":"COUNTIF(L75:L109,AD11)","v":0},null,null,null,{"$f":"N11","v":211},{"$f":"COUNTIF(L110:L143,AI11)","v":0},null,null,null,{"$f":"N11","v":211},{"$f":"COUNTIF(L144:L177,AN11)","v":0},null,null,null,{"$f":"N11","v":211},{"$f":"COUNTIF(L178:L211,AS11)","v":1}]
[21,580,22,584,24,588,null,null,null,null,0,222,null,212,{"$f":"COUNTIF($L$7:$L$500,N12)","v":46},{"$f":"O12/$Q$4","v":0.22549019607843138},{"$f":"IF(P12=0,0,(P12*((LOG(P12))/LOG(2))))","v":-0.48454762623561864},null,null,{"$f":"N12","v":212},{"$f":"COUNTIF(L7:L40,T12)","v":7},{"$f":"U12/(W4-U11)","v":0.21212121212121213},{"$f":"IF(V12=0,0,(V12*((LOG(V12))/LOG(2))))","v":-0.47452346609411955},null,{"$f":"N12","v":212},{"$f":"COUNTIF(L41:L74,Y12)","v":15},{"$f":"Z12/(AB4-Z11)","v":0.4838709677419355},{"$f":"IF(AA12=0,0,(AA12*((LOG(AA12))/LOG(2))))","v":-0.50676082973146286},null,{"$f":"N12","v":212},{"$f":"COUNTIF(L75:L109,AD12)","v":5},{"$f":"AE12/(AG4-AE11)","v":0.14285714285714285},{"$f":"IF(AF12=0,0,(AF12*((LOG(AF12))/LOG(2))))","v":-0.40105070315108626},null,{"$f":"N12","v":212},{"$f":"COUNTIF(L110:L143,AI12)","v":7},{"$f":"AJ12/(AL4-AJ11)","v":0.20588235294117646},{"$f":"IF(AK12=0,0,(AK12*((LOG(AK12))/LOG(2))))","v":-0.46943398336321018},null,{"$f":"N12","v":212},{"$f":"COUNTIF(L144:L177,AN12)","v":6},{"$f":"AO12/(AQ4-AO11)","v":0.17647058823529413},{"$f":"IF(AP12=0,0,(AP12*((LOG(AP12))/LOG(2))))","v":-0.44161770715220888},null,{"$f":"N12","v":212},{"$f":"COUNTIF(L178:L211,AS12)","v":6},{"$f":"AT12/(AV4-AT11)","v":0.1875},{"$f":"IF(AU12=0,0,(AU12*((LOG(AU12))/LOG(2))))","v":-0.45281953111478312}]
[21,687,22,691,24,697,null,null,null,null,0,222,null,221,{"$f":"COUNTIF($L$7:$L$500,N13)","v":43},{"$f":"O13/$Q$4","v":0.2107843137254902},{"$f":"IF(P13=0,0,(P13*((LOG(P13))/LOG(2))))","v":-0.47345541790482404},null,null,{"$f":"N13","v":221},{"$f":"COUNTIF(L7:L40,T13)","v":8},{"$f":"U13/(W4-U11)","v":0.24242424242424243},{"$f":"IF(V13=0,0,(V13*((LOG(V13))/LOG(2))))","v":-0.49561069560204934},null,{"$f":"N13","v":221},{"$f":"COUNTIF(L41:L74,Y13)","v":6},{"$f":"Z13/(AB4-Z11)","v":0.19354838709677419},{"$f":"IF(AA13=0,0,(AA13*((LOG(AA13))/LOG(2))))","v":-0.45856138251594558},null,{"$f":"N13","v":221},{"$f":"COUNTIF(L75:L109,AD13)","v":7},{"$f":"AE13/(AG4-AE11)","v":0.2},{"$f":"IF(AF13=0,0,(AF13*((LOG(AF13))/LOG(2))))","v":-0.46438561897747244},null,{"$f":"N13","v":221},{"$f":"COUNTIF(L110:L143,AI13)","v":3},{"$f":"AJ13/(AL4-AJ11)","v":8.8235294117647065E-2},{"$f":"IF(AK13=0,0,(AK13*((LOG(AK13))/LOG(2))))","v":-0.30904414769375149},null,{"$f":"N13","v":221},{"$f":"COUNTIF(L144:L177,AN13)","v":8},{"$f":"AO13/(AQ4-AO11)","v":0.23529411764705882},{"$f":"IF(AP13=0,0,(AP13*((LOG(AP13))/LOG(2))))","v":-0.49116772735302094},null,{"$f":"N13","v":221},{"$f":"COUNTIF(L178:L211,AS13)","v":11},{"$f":"AT13/(AV4-AT11)","v":0.34375},{"$f":"IF(AU13=0,0,(AU13*((LOG(AU13))/LOG(2))))","v":-0.52957038109342913}]
[21,797,22,801,24,805,null,null,null,null,0,222,null,222,{"$f":"COUNTIF($L$7:$L$500,N14)","v":88},{"$f":"O14/$Q$4","v":0.43137254901960786},{"$f":"IF(P14=0,0,(P14*((LOG(P14))/LOG(2))))","v":-0.52325219437945814},null,null,{"$f":"N14","v":222},{"$f":"COUNTIF(L7:L40,T14)","v":12},{"$f":"U14/(W4-U11)","v":0.36363636363636365},{"$f":"IF(V14=0,0,(V14*((LOG(V14))/LOG(2))))","v":-0.53070240677719893},null,{"$f":"N14","v":222},{"$f":"COUNTIF(L41:L74,Y14)","v":6},{"$f":"Z14/(AB4-Z11)","v":0.19354838709677419},{"$f":"IF(AA14=0,0,(AA14*((LOG(AA14))/LOG(2))))","v":-0.45856138251594558},null,{"$f":"N14","v":222},{"$f":"COUNTIF(L75:L109,AD14)","v":20},{"$f":"AE14/(AG4-AE11)","v":0.5714285714285714},{"$f":"IF(AF14=0,0,(AF14*((LOG(AF14))/LOG(2))))","v":-0.46134566974720237},null,{"$f":"N14","v":222},{"$f":"COUNTIF(L110:L143,AI14)","v":19},{"$f":"AJ14/(AL4-AJ11)","v":0.55882352941176472},{"$f":"IF(AK14=0,0,(AK14*((LOG(AK14))/LOG(2))))","v":-0.46915209495083304},null,{"$f":"N14","v":222},{"$f":"COUNTIF(L144:L177,AN14)","v":19},{"$f":"AO14/(AQ4-AO11)","v":0.55882352941176472},{"$f":"IF(AP14=0,0,(AP14*((LOG(AP14))/LOG(2))))","v":-0.46915209495083304},null,{"$f":"N14","v":222},{"$f":"COUNTIF(L178:L211,AS14)","v":12},{"$f":"AT14/(AV4-AT11)","v":0.375},{"$f":"IF(AU14=0,0,(AU14*((LOG(AU14))/LOG(2))))","v":-0.53063906222956647}]
[21,903,22,907,24,912,null,null,null,null,0,222,null,null,null,{"$f":"SUM(P7:P14)","v":1},{"$f":"-SUM(Q7:Q14)","v":2.1295965681456326},null,null,null,null,{"$f":"SUM(V7:V14)","v":1},{"$f":"-SUM(W7:W14)","v":2.1149688325991471},null,null,null,{"$f":"SUM(AA7:AA14)","v":1},{"$f":"-SUM(AB7:AB14)","v":1.9986186025552088},null,null,null,{"$f":"SUM(AF7:AF14)","v":1},{"$f":"-SUM(AG7:AG14)","v":1.7092919647567579},null,null,null,{"$f":"SUM(AK7:AK14)","v":1},{"$f":"-SUM(AL7:AL14)","v":1.7971133643633308},null,null,null,{"$f":"SUM(AP7:AP14)","v":1},{"$f":"-SUM(AQ7:AQ14)","v":1.5515687894928376},null,null,null,{"$f":"SUM(AU7:AU14)","v":1},{"$f":"-SUM(AV7:AV14)","v":1.9192789744377787}]
[21,1017,22,1021,13,1031,null,null,null,null,0,221,null,null,null,"U=",{"$f":"Q15/(LOG(Q4)/LOG(2))","v":0.27756497759526122},null,null,null,null,"U1=",{"$f":"W15/(LOG(W4)/LOG(2))","v":0.41572172585723577},null,null,null,"U2=",{"$f":"AB15/(LOG(AB4)/LOG(2))","v":0.39285173472913482},null,null,null,"U3=",{"$f":"AG15/(LOG(AG4)/LOG(2))","v":0.33324188957988576},null,null,null,"U4=",{"$f":"AL15/(LOG(AL4)/LOG(2))","v":0.35324353620667559},null,null,null,"U5=",{"$f":"AQ15/(LOG(AQ4)/LOG(2))","v":0.30497889378421694},null,null,null,"U6=",{"$f":"AV15/(LOG(AV4)/LOG(2))","v":0.38047760127867902}]
[21,1127,22,1131,24,1136,null,null,null,null,0,222]
[21,1234,22,1238,24,1242,null,null,null,null,0,222]
[12,1350,24,1358,13,1367,null,null,null,null,0,121,null,"Total Target Seq"]
[21,1481,22,1493,24,1508,null,null,null,null,0,222,null,{"$f":"COUNTIF(L7:L211,G3)","v":5},null,34,34,35,34,34,34]
[21,1603,11,1613,22,1639,null,null,null,null,0,212,null,null,null,"% of reinforcement given in 6 equal intervals based on number of trials "]
[12,1734,24,1744,24,1759,null,null,null,null,0,122,null,null,null,"%_1","%_2","%_3","%_4","%_5","%_6"]
[21,1862,11,1871,22,1894,null,null,null,null,0,212,null,null,"target sequence",{"$f":"$G$3","v":211},{"$f":"$G$3","v":211},{"$f":"$G$3","v":211},{"$f":"$G$3","v":211},{"$f":"$G$3","v":211},{"$f":"$G$3","v":211}]
[21,1994,11,2020,22,2026,null,null,null,null,0,212,null,null,"total reinforcement",{"$f":"U11","v":1},{"$f":"Z11","v":3},{"$f":"AE11","v":0},{"$f":"AJ11","v":0},{"$f":"AO11","v":0},{"$f":"AT11","v":1}]
[21,2126,11,2134,22,2142,null,null,null,null,0,212,null,null,"% target"]
[21,2243,22,2257,24,2285,null,null,null,null,0,222,null,null,"CCRF"]
[21,2384,11,2401,22,2409,null,null,null,null,0,212,null,null,"% CCRf"]
[21,2510,22,2520,13,2529,null,null,null,null,0,221,null,null,"average response rate",{"$f":"F40/P20","v":115.5},{"$f":"(F74-F40)/Q20","v":121.08823529411765},{"$f":"(F109-F74)/R20","v":115.8},{"$f":"(F143-F109)/S20","v":116.82352941176471},{"$f":"(F177-F143)/T20","v":115.41176470588235},{"$f":"(F211-F177)/U20","v":-588.02941176470586}]
[21,2628,11,2637,11,2649,null,null,null,null,0,211]
[21,2743,22,2748,13,2757,null,null,null,null,0,221]
[21,2849,22,2853,24,2858,null,null,null,null,0,222]
[12,2961,24,2973,13,2981,null,null,null,null,0,121]
[12,3086,24,3094,24,3100,null,null,null,null,0,122]
[21,3198,22,3202,24,3207,null,null,null,null,0,222]
[21,3310,22,3314,13,3322,null,null,null,null,0,221]
[21,3423,22,3427,24,3431,null,null,null,null,0,222]
[21,3526,22,3530,13,3540,null,null,null,null,0,221]
[12,3654,24,3661,24,3669,null,null,null,null,0,122]
[12,3781,24,3790,24,3797,null,null,null,null,0,122]
[21,3911,11,3920,22,3927,null,null,null,null,0,212]
[21,4022,11,4030,22,4051,null,null,null,null,0,212]
[21,4151,11,4158,11,4181,null,null,null,null,0,211]
[12,4289,13,4302,13,4320,null,null,null,null,0,111]
[21,4414,11,4432,22,4443,null,null,null,null,0,212]
[21,4542,11,4549,22,4558,null,null,null,null,0,212]
[21,4661,11,4669,22,4678,null,null,null,null,0,212]
[21,4771,11,4779,11,4795,null,null,null,null,0,211]
[21,4889,22,4893,13,4901,null,null,null,null,0,221]
[21,4999,22,5003,24,5007,null,null,null,null,0,222]
[21,5107,22,5112,13,5122,null,null,null,null,0,221]
[12,5231,13,5245,24,5262,null,null,null,null,0,112]
[21,5362,11,5382,22,5390,null,null,null,null,0,212]
[21,5489,11,5496,22,5503,null,null,null,null,0,212]
[21,5602,11,5610,22,5619,null,null,null,null,0,212]
[21,5718,22,5735,13,5742,null,null,null,null,0,221]
[12,5843,24,5850,13,5869,null,null,null,null,0,121]
[21,6001,22,6017,24,6029,null,null,null,null,0,222]
[21,6134,11,6142,22,6148,null,null,null,null,0,212]
[21,6252,11,6259,22,6268,null,null,null,null,0,212]
[21,6367,11,6375,22,6382,null,null,null,null,0,212]
[21,6482,11,6491,22,6498,null,null,null,null,0,212]
[21,6597,11,6605,22,6612,null,null,null,null,0,212]
[21,6711,11,6720,22,6728,null,null,null,null,0,212]
[21,6828,22,6832,13,6840,null,null,null,null,0,221]
[21,6932,22,6955,13,6964,null,null,null,null,0,221]
[21,7066,11,7075,11,7086,null,null,null,null,0,211]
[21,7185,22,7189,13,7197,null,null,null,null,0,221]
[21,7294,22,7299,24,7304,null,null,null,null,0,222]
[21,7402,22,7405,24,7410,null,null,null,null,0,222]
[12,7510,13,7522,24,7530,null,null,null,null,0,112]
[21,7641,11,7648,22,7658,null,null,null,null,0,212]
[21,7758,22,7771,24,7781,null,null,null,null,0,222]
[21,7899,22,7916,24,7924,null,null,null,null,0,222]
[21,8030,11,8037,22,8044,null,null,null,null,0,212]
[21,8143,11,8150,22,8157,null,null,null,null,0,212]
[21,8260,11,8267,22,8277,null,null,null,null,0,212]
[21,8376,22,8380,13,8388,null,null,null,null,0,221]
[21,8486,22,8490,13,8511,null,null,null,null,0,221]
[21,8607,11,8627,22,8635,null,null,null,null,0,212]
[12,8727,24,8741,13,8748,null,null,null,null,0,121]
[21,8845,22,8850,24,8876,null,null,null,null,0,222]
[12,8980,24,9000,24,9015,null,null,null,null,0,122]
[21,9116,11,9125,22,9132,null,null,null,null,0,212]
[21,9231,22,9239,24,9251,null,null,null,null,0,222]
[21,9350,22,9354,24,9358,null,null,null,null,0,222]
[21,9458,22,9462,13,9470,null,null,null,null,0,221]
[21,9573,22,9578,24,9588,null,null,null,null,0,222]
[21,9686,22,9690,24,9703,null,null,null,null,0,222]
[21,9804,22,9808,24,9815,null,null,null,null,0,222]
[21,9910,22,9931,24,9939,null,null,null,null,0,222]
[21,10039,22,10044,24,10048,null,null,null,null,0,222]
[21,10147,22,10151,24,10161,null,null,null,null,0,222]
[21,10258,22,10262,13,10270,null,null,null,null,0,221]
[21,10369,22,10373,24,10377,null,null,null,null,0,222]
[12,10481,24,10488,24,10495,null,null,null,null,0,122]
[21,10596,22,10600,24,10604,null,null,null,null,0,222]
[21,10703,22,10707,24,10711,null,null,null,null,0,222]
[21,10809,11,10819,22,10826,null,null,null,null,0,212]
[21,10925,22,10932,24,10943,null,null,null,null,0,222]
[21,11044,22,11064,24,11069,null,null,null,null,0,222]
[21,11171,22,11186,24,11195,null,null,null,null,0,222]
[21,11298,22,11302,24,11306,null,null,null,null,0,222]
[21,11400,22,11404,13,11415,null,null,null,null,0,221]
[21,11513,22,11517,24,11532,null,null,null,null,0,222]
[21,11631,22,11635,24,11640,null,null,null,null,0,222]
[21,11735,22,11751,13,11762,null,null,null,null,0,221]
[21,11865,22,11871,13,11881,null,null,null,null,0,221]
[21,11981,22,11985,24,11988,null,null,null,null,0,222]
[21,12086,22,12090,24,12097,null,null,null,null,0,222]
[21,12198,22,12214,24,12228,null,null,null,null,0,222]
[21,12332,22,12345,24,12352,null,null,null,null,0,222]
[21,12452,22,12468,13,12477,null,null,null,null,0,221]
[21,12573,22,12577,13,12587,null,null,null,null,0,221]
[21,12687,22,12691,24,12697,null,null,null,null,0,222]
[21,12801,11,12808,22,12814,null,null,null,null,0,212]
[21,12917,22,12929,13,12952,null,null,null,null,0,221]
[21,13050,22,13054,24,13067,null,null,null,null,0,222]
[21,13167,22,13171,24,13175,null,null,null,null,0,222]
[21,13272,22,13276,24,13280,null,null,null,null,0,222]
[12,13387,24,13399,13,13409,null,null,null,null,0,121]
[21,13509,22,13513,24,13517,null,null,null,null,0,222]
[21,13619,22,13623,24,13627,null,null,null,null,0,222]
[21,13724,22,13727,24,13731,null,null,null,null,0,222]
[21,13831,22,13835,24,13839,null,null,null,null,0,222]
[21,13942,22,13946,24,13952,null,null,null,null,0,222]
[21,14051,22,14055,24,14059,null,null,null,null,0,222]
[12,14171,24,14178,13,14187,null,null,null,null,0,121]
[21,14291,11,14299,22,14306,null,null,null,null,0,212]
[12,14398,24,14412,24,14419,null,null,null,null,0,122]
[12,14524,24,14535,24,14541,null,null,null,null,0,122]
[21,14643,22,14656,24,14663,null,null,null,null,0,222]
[21,14764,22,14769,24,14776,null,null,null,null,0,222]
[21,14879,11,14888,22,14894,null,null,null,null,0,212]
[21,14995,22,15003,24,15017,null,null,null,null,0,222]
[21,15118,22,15121,24,15125,null,null,null,null,0,222]
[21,15231,11,15239,22,15247,null,null,null,null,0,212]
[12,15351,24,15360,24,15368,null,null,null,null,0,122]
[21,15470,22,15485,24,15501,null,null,null,null,0,222]
[21,15600,22,15604,24,15610,null,null,null,null,0,222]
[21,15711,22,15716,24,15721,null,null,null,null,0,222]
[21,15816,11,15825,22,15832,null,null,null,null,0,212]
[21,15933,11,15942,22,15949,null,null,null,null,0,212]
[21,16049,11,16061,22,16069,null,null,null,null,0,212]
[21,16169,22,16175,13,16186,null,null,null,null,0,221]
[21,16287,22,16292,24,16296,null,null,null,null,0,222]
[21,16398,22,16405,24,16427,null,null,null,null,0,222]
[21,16527,22,16531,24,16535,null,null,null,null,0,222]
[21,16636,22,16640,24,16649,null,null,null,null,0,222]
[21,16748,22,16753,24,16757,null,null,null,null,0,222]
[21,16858,22,16862,24,16866,null,null,null,null,0,222]
[21,16972,22,16976,24,16980,null,null,null,null,0,222]
[21,17083,22,17087,24,17091,null,null,null,null,0,222]
[21,17188,11,17199,22,17207,null,null,null,null,0,212]
[21,17307,22,17313,24,17324,null,null,null,null,0,222]
[21,17427,22,17442,24,17450,null,null,null,null,0,222]
[21,17554,11,17563,22,17570,null,null,null,null,0,212]
[21,17670,22,17676,24,17687,null,null,null,null,0,222]
[21,17787,22,17803,24,17812,null,null,null,null,0,222]
[21,17910,22,17914,13,17923,null,null,null,null,0,221]
[12,18025,24,18032,24,18039,null,null,null,null,0,122]
[21,18136,22,18141,24,18145,null,null,null,null,0,222]
[21,18244,22,18248,24,18253,null,null,null,null,0,222]
[21,18352,22,18368,13,18378,null,null,null,null,0,221]
[21,18478,11,18485,22,18492,null,null,null,null,0,212]
[21,18591,11,18601,22,18612,null,null,null,null,0,212]
[21,18712,22,18716,24,18723,null,null,null,null,0,222]
[21,18829,11,18836,22,18844,null,null,null,null,0,212]
[21,18944,22,18950,13,18959,null,null,null,null,0,221]
[21,19057,22,19069,13,19079,null,null,null,null,0,221]
[21,19176,22,19180,24,19184,null,null,null,null,0,222]
[21,19282,22,19286,24,19290,null,null,null,null,0,222]
[21,19393,22,19397,24,19404,null,null,null,null,0,222]
[21,19501,11,19512,22,19519,null,null,null,null,0,212]
[21,19619,22,19626,13,19639,null,null,null,null,0,221]
[21,19739,22,19755,13,19765,null,null,null,null,0,221]
[21,19864,22,19869,24,19873,null,null,null,null,0,222]
[21,19968,22,19984,13,19993,null,null,null,null,0,221]
[21,20092,11,20101,22,20109,null,null,null,null,0,212]
[21,20208,22,20214,13,20222,null,null,null,null,0,221]
[21,20325,22,20329,13,20337,null,null,null,null,0,221]
[21,20433,22,20437,24,20441,null,null,null,null,0,222]
[21,20539,22,20543,13,20553,null,null,null,null,0,221]
[21,20661,11,20671,22,20678,null,null,null,null,0,212]
[21,20773,22,20778,24,20789,null,null,null,null,0,222]
[21,20887,22,20894,13,20902,null,null,null,null,0,221]
[21,20999,22,21002,24,21006,null,null,null,null,0,222]
[21,21108,22,21111,13,21124,null,null,null,null,0,221]
[21,21226,22,21242,13,21252,null,null,null,null,0,221]
[21,21354,22,21357,24,21361,null,null,null,null,0,222]
[21,21462,22,21466,24,21471,null,null,null,null,0,222]
[21,21563,22,21568,13,21576,null,null,null,null,0,221]
[21,21674,22,21678,24,21682,null,null,null,null,0,222]
[21,21785,22,21791,13,21801,null,null,null,null,0,221]
[21,21903,22,21907,24,21914,null,null,null,null,0,222]
[21,22015,22,22019,24,22023,null,null,null,null,0,222]
[12,22122,24,22133,24,22138,null,null,null,null,0,122]
[21,22231,11,22242,11,22261,null,null,null,null,0,211]
[21,22358,22,22371,24,22390,null,null,null,null,0,222]
[21,22496,22,22503,13,22513,null,null,null,null,0,221]
[21,22614,22,22635,13,22645,null,null,null,null,0,221]
[12,22755,13,22773,24,22780,null,null,null,null,0,112]
[21,22887,22,22902,13,22911,null,null,null,null,0,221]
[21,23013,22,23017,24,23021,null,null,null,null,0,222]
[21,23118,22,23127,24,23139,null,null,null,null,0,222]
[21,23241,11,23253,22,23261,null,null,null,null,0,212]
[21,23361,11,23372,22,23379,null,null,null,null,0,212]
[21,23482,11,23494,22,23503,null,null,null,null,0,212]
[21,23607,22,23613,24,23620,null,null,null,null,0,222]
[12,23728,24,23735,24,23744,null,null,null,null,0,122]
[21,23837,11,23857,22,23877,null,null,null,null,0,212]
[21,23985,22,23996,null,null,null,null,null,null,null,22]

{"sheet":"!MC01B10.096","index":4,"n_rows":214,"n_cols":48,"rows_kept":214,"cut":false,"hidden":false,"merged":[[4,39,4,42],[5,39,5,40],[4,44,4,47],[5,44,5,45],[4,24,4,27],[5,24,5,25],[4,29,4,32],[5,29,5,30],[4,34,4,37],[5,34,5,35],[1,1,1,2],[5,13,5,14],[18,13,18,14],[19,13,19,14],[4,19,4,22],[5,19,5,20]]}
["Report for:!MC01B10.096"]
["Date:","<date>"]
["Hen:","<hen>",null,null,null,"Correct Sequence",{"$f":"Start!J2","v":211},null,null,null,null,null,null,null,null,"Total Sequences in Data",{"$f":"4994-COUNTBLANK(L7:L5000)","v":208},null,null,null,null,"Total Sequences in Block Data",{"$f":"COUNTA(L7:L41)","v":35},null,null,null,"Total Sequences in Block Data",{"$f":"COUNTA(L42:L75)","v":34},null,null,null,"Total Sequences in Block Data",{"$f":"COUNTA(L76:L110)","v":35},null,null,null,"Total Sequences in Block Data",{"$f":"COUNTA(L111:L145)","v":35},null,null,null,"Total Sequences in Block Data",{"$f":"COUNTA(L146:L179)","v":34},null,null,null,"Total Sequences in Block Data",{"$f":"COUNTA(L180:L214)","v":35}]
[null,null,null,null,null,null,null,null,null,null,null,null,null,null,null,"Total Sequences in Summary",{"$f":"SUM(O7:O14)","v":208},null,null,null,null,"Total Sequences in Block Summary",{"$f":"SUM(U7:U14)","v":35},null,null,null,"Total Sequences in Block Summary",{"$f":"SUM(Z7:Z14)","v":34},null,null,null,"Total Sequences in Block Summary",{"$f":"SUM(AE7:AE14)","v":35},null,null,null,"Total Sequences in Block Summary",{"$f":"SUM(AJ7:AJ14)","v":35},null,null,null,"Total Sequences in Block Summary",{"$f":"SUM(AO7:AO14)","v":34},null,null,null,"Total Sequences in Block Summary",{"$f":"SUM(AT7:AT14)","v":35}]
[null,null,null,null,null,null,null,null,null,null,null,null,null,null,null,null,null,null,null,"Block 1",null,null,null,null,"Block 2",null,null,null,null,"Block 3",null,null,null,null,"Block 4",null,null,null,null,"Block 5",null,null,null,null,"Block 6"]
["Sequence\nComponent\n1","Time\n1","Sequence\nComponent\n2","Time\n2","Sequence\nComponent\n3","Time\n3","Sequence\nComponent\n4","Time\n4","Sequence\nComponent\n5","Time\n5","Correct?\n0=No 1=Yes","Sequence",null,"Frequency",null,"Relative Frequency","Variability",null,null,"Frequency",null,"Relative Frequency","Variability",null,"Frequency",null,"Relative Frequency","Variability",null,"Frequency",null,"Relative Frequency","Variability",null,"Frequency",null,"Relative Frequency","Variability",null,"Frequency",null,"Relative Frequency","Variability",null,"Frequency",null,"Relative Frequency","Variability"]
[21,9,22,15,13,23,null,null,null,null,0,221,null,111,{"$f":"COUNTIF($L$7:$L$500,N7)","v":0},{"$f":"O7/$Q$4","v":0},{"$f":"IF(P7=0,0,(P7*((LOG(P7))/LOG(2))))","v":0},null,null,{"$f":"N7","v":111},{"$f":"COUNTIF(L7:L41,T7)","v":0},{"$f":"U7/(W4-U11)","v":0},{"$f":"IF(V7=0,0,(V7*((LOG(V7))/LOG(2))))","v":0},null,{"$f":"N7","v":111},{"$f":"COUNTIF(L42:L75,Y7)","v":0},{"$f":"Z7/(AB4-Z11)","v":0},{"$f":"IF(AA7=0,0,(AA7*((LOG(AA7))/LOG(2))))","v":0},null,{"$f":"N7","v":111},{"$f":"COUNTIF(L76:L110,AD7)","v":0},{"$f":"AE7/(AG4-AE11)","v":0},{"$f":"IF(AF7=0,0,(AF7*((LOG(AF7))/LOG(2))))","v":0},null,{"$f":"N7","v":111},{"$f":"COUNTIF(L111:L145,AI7)","v":0},{"$f":"AJ7/(AL4-AJ11)","v":0},{"$f":"IF(AK7=0,0,(AK7*((LOG(AK7))/LOG(2))))","v":0},null,{"$f":"N7","v":111},{"$f":"COUNTIF(L146:L179,AN7)","v":0},{"$f":"AO7/(AQ4-AO11)","v":0},{"$f":"IF(AP7=0,0,(AP7*((LOG(AP7))/LOG(2))))","v":0},null,{"$f":"N7","v":111},{"$f":"COUNTIF(L180:L214,AS7)","v":0},{"$f":"AT7/(AV4-AT11)","v":0},{"$f":"IF(AU7=0,0,(AU7*((LOG(AU7))/LOG(2))))","v":0}]
[12,132,24,139,24,153,null,null,null,null,0,122,null,112,{"$f":"COUNTIF($L$7:$L$500,N8)","v":0},{"$f":"O8/$Q$4","v":0},{"$f":"IF(P8=0,0,(P8*((LOG(P8))/LOG(2))))","v":0},null,null,{"$f":"N8","v":112},{"$f":"COUNTIF(L7:L41,T8)","v":0},{"$f":"U8/(W4-U11)","v":0},{"$f":"IF(V8=0,0,(V8*((LOG(V8))/LOG(2))))","v":0},null,{"$f":"N8","v":112},{"$f":"COUNTIF(L42:L75,Y8)","v":0},{"$f":"Z8/(AB4-Z11)","v":0},{"$f":"IF(AA8=0,0,(AA8*((LOG(AA8))/LOG(2))))","v":0},null,{"$f":"N8","v":112},{"$f":"COUNTIF(L76:L110,AD8)","v":0},{"$f":"AE8/(AG4-AE11)","v":0},{"$f":"IF(AF8=0,0,(AF8*((LOG(AF8))/LOG(2))))","v":0},null,{"$f":"N8","v":112},{"$f":"COUNTIF(L111:L145,AI8)","v":0},{"$f":"AJ8/(AL4-AJ11)","v":0},{"$f":"IF(AK8=0,0,(AK8*((LOG(AK8))/LOG(2))))","v":0},null,{"$f":"N8","v":112},{"$f":"COUNTIF(L146:L179,AN8)","v":0},{"$f":"AO8/(AQ4-AO11)","v":0},{"$f":"IF(AP8=0,0,(AP8*((LOG(AP8))/LOG(2))))","v":0},null,{"$f":"N8","v":112},{"$f":"COUNTIF(L180:L214,AS8)","v":0},{"$f":"AT8/(AV4-AT11)","v":0},{"$f":"IF(AU8=0,0,(AU8*((LOG(AU8))/LOG(2))))","v":0}]
[21,251,22,262,24,268,null,null,null,null,0,222,null,121,{"$f":"COUNTIF($L$7:$L$500,N9)","v":7},{"$f":"O9/$Q$4","v":3.3653846153846152E-2},{"$f":"IF(P9=0,0,(P9*((LOG(P9))/LOG(2))))","v":-0.16467112294511738},null,null,{"$f":"N9","v":121},{"$f":"COUNTIF(L7:L41,T9)","v":3},{"$f":"U9/(W4-U11)","v":8.8235294117647065E-2},{"$f":"IF(V9=0,0,(V9*((LOG(V9))/LOG(2))))","v":-0.30904414769375149},null,{"$f":"N9","v":121},{"$f":"COUNTIF(L42:L75,Y9)","v":4},{"$f":"Z9/(AB4-Z11)","v":0.11764705882352941},{"$f":"IF(AA9=0,0,(AA9*((LOG(AA9))/LOG(2))))","v":-0.36323092250003997},null,{"$f":"N9","v":121},{"$f":"COUNTIF(L76:L110,AD9)","v":0},{"$f":"AE9/(AG4-AE11)","v":0},{"$f":"IF(AF9=0,0,(AF9*((LOG(AF9))/LOG(2))))","v":0},null,{"$f":"N9","v":121},{"$f":"COUNTIF(L111:L145,AI9)","v":0},{"$f":"AJ9/(AL4-AJ11)","v":0},{"$f":"IF(AK9=0,0,(AK9*((LOG(AK9))/LOG(2))))","v":0},null,{"$f":"N9","v":121},{"$f":"COUNTIF(L146:L179,AN9)","v":0},{"$f":"AO9/(AQ4-AO11)","v":0},{"$f":"IF(AP9=0,0,(AP9*((LOG(AP9))/LOG(2))))","v":0},null,{"$f":"N9","v":121},{"$f":"COUNTIF(L180:L214,AS9)","v":0},{"$f":"AT9/(AV4-AT11)","v":0},{"$f":"IF(AU9=0,0,(AU9*((LOG(AU9))/LOG(2))))","v":0}]
[21,370,22,374,24,378,null,null,null,null,0,222,null,122,{"$f":"COUNTIF($L$7:$L$500,N10)","v":25},{"$f":"O10/$Q$4","v":0.1201923076923077},{"$f":"IF(P10=0,0,(P10*((LOG(P10))/LOG(2))))","v":-0.36737782792864992},null,null,{"$f":"N10","v":122},{"$f":"COUNTIF(L7:L41,T10)","v":6},{"$f":"U10/(W4-U11)","v":0.17647058823529413},{"$f":"IF(V10=0,0,(V10*((LOG(V10))/LOG(2))))","v":-0.44161770715220888},null,{"$f":"N10","v":122},{"$f":"COUNTIF(L42:L75,Y10)","v":4},{"$f":"Z10/(AB4-Z11)","v":0.11764705882352941},{"$f":"IF(AA10=0,0,(AA10*((LOG(AA10))/LOG(2))))","v":-0.36323092250003997},null,{"$f":"N10","v":122},{"$f":"COUNTIF(L76:L110,AD10)","v":2},{"$f":"AE10/(AG4-AE11)","v":5.7142857142857141E-2},{"$f":"IF(AF10=0,0,(AF10*((LOG(AF10))/LOG(2))))","v":-0.23595902953971234},null,{"$f":"N10","v":122},{"$f":"COUNTIF(L111:L145,AI10)","v":0},{"$f":"AJ10/(AL4-AJ11)","v":0},{"$f":"IF(AK10=0,0,(AK10*((LOG(AK10))/LOG(2))))","v":0},null,{"$f":"N10","v":122},{"$f":"COUNTIF(L146:L179,AN10)","v":4},{"$f":"AO10/(AQ4-AO11)","v":0.11764705882352941},{"$f":"IF(AP10=0,0,(AP10*((LOG(AP10))/LOG(2))))","v":-0.36323092250003997},null,{"$f":"N10","v":122},{"$f":"COUNTIF(L180:L214,AS10)","v":9},{"$f":"AT10/(AV4-AT11)","v":0.25714285714285712},{"$f":"IF(AU10=0,0,(AU10*((LOG(AU10))/LOG(2))))","v":-0.50383491827211102}]
[21,481,22,485,24,490,null,null,null,null,0,222,null,211,{"$f":"COUNTIF($L$7:$L$500,N11)","v":1},{"$f":"O11/$Q$4","v":4.807692307692308E-3},{"$f":"IF(P11=0,0,(P11*((LOG(P11))/LOG(2))))","v":-3.7021344798755254E-2},null,null,{"$f":"N11","v":211},{"$f":"COUNTIF(L7:L41,T11)","v":1},null,null,null,{"$f":"N11","v":211},{"$f":"COUNTIF(L42:L75,Y11)","v":0},null,null,null,{"$f":"N11","v":211},{"$f":"COUNTIF(L76:L110,AD11)","v":0},null,null,null,{"$f":"N11","v":211},{"$f":"COUNTIF(L111:L145,AI11)","v":0},null,null,null,{"$f":"N11","v":211},{"$f":"COUNTIF(L146:L179,AN11)","v":0},null,null,null,{"$f":"N11","v":211},{"$f":"COUNTIF(L180:L214,AS11)","v":0}]
[21,584,22,589,24,593,null,null,null,null,0,222,null,212,{"$f":"COUNTIF($L$7:$L$500,N12)","v":27},{"$f":"O12/$Q$4","v":0.12980769230769232},{"$f":"IF(P12=0,0,(P12*((LOG(P12))/LOG(2))))","v":-0.38235533572786462},null,null,{"$f":"N12","v":212},{"$f":"COUNTIF(L7:L41,T12)","v":8},{"$f":"U12/(W4-U11)","v":0.23529411764705882},{"$f":"IF(V12=0,0,(V12*((LOG(V12))/LOG(2))))","v":-0.49116772735302094},null,{"$f":"N12","v":212},{"$f":"COUNTIF(L42:L75,Y12)","v":4},{"$f":"Z12/(AB4-Z11)","v":0.11764705882352941},{"$f":"IF(AA12=0,0,(AA12*((LOG(AA12))/LOG(2))))","v":-0.36323092250003997},null,{"$f":"N12","v":212},{"$f":"COUNTIF(L76:L110,AD12)","v":6},{"$f":"AE12/(AG4-AE11)","v":0.17142857142857143},{"$f":"IF(AF12=0,0,(AF12*((LOG(AF12))/LOG(2))))","v":-0.43616923135265318},null,{"$f":"N12","v":212},{"$f":"COUNTIF(L111:L145,AI12)","v":5},{"$f":"AJ12/(AL4-AJ11)","v":0.14285714285714285},{"$f":"IF(AK12=0,0,(AK12*((LOG(AK12))/LOG(2))))","v":-0.40105070315108626},null,{"$f":"N12","v":212},{"$f":"COUNTIF(L146:L179,AN12)","v":4},{"$f":"AO12/(AQ4-AO11)","v":0.11764705882352941},{"$f":"IF(AP12=0,0,(AP12*((LOG(AP12))/LOG(2))))","v":-0.36323092250003997},null,{"$f":"N12","v":212},{"$f":"COUNTIF(L180:L214,AS12)","v":0},{"$f":"AT12/(AV4-AT11)","v":0},{"$f":"IF(AU12=0,0,(AU12*((LOG(AU12))/LOG(2))))","v":0}]
[21,698,22,702,24,706,null,null,null,null,0,222,null,221,{"$f":"COUNTIF($L$7:$L$500,N13)","v":20},{"$f":"O13/$Q$4","v":9.6153846153846159E-2},{"$f":"IF(P13=0,0,(P13*((LOG(P13))/LOG(2))))","v":-0.32485688685132019},null,null,{"$f":"N13","v":221},{"$f":"COUNTIF(L7:L41,T13)","v":5},{"$f":"U13/(W4-U11)","v":0.14705882352941177},{"$f":"IF(V13=0,0,(V13*((LOG(V13))/LOG(2))))","v":-0.40669628622984955},null,{"$f":"N13","v":221},{"$f":"COUNTIF(L42:L75,Y13)","v":9},{"$f":"Z13/(AB4-Z11)","v":0.26470588235294118},{"$f":"IF(AA13=0,0,(AA13*((LOG(AA13))/LOG(2))))","v":-0.50758354583153664},null,{"$f":"N13","v":221},{"$f":"COUNTIF(L76:L110,AD13)","v":1},{"$f":"AE13/(AG4-AE11)","v":2.8571428571428571E-2},{"$f":"IF(AF13=0,0,(AF13*((LOG(AF13))/LOG(2))))","v":-0.14655094334128474},null,{"$f":"N13","v":221},{"$f":"COUNTIF(L111:L145,AI13)","v":2},{"$f":"AJ13/(AL4-AJ11)","v":5.7142857142857141E-2},{"$f":"IF(AK13=0,0,(AK13*((LOG(AK13))/LOG(2))))","v":-0.23595902953971234},null,{"$f":"N13","v":221},{"$f":"COUNTIF(L146:L179,AN13)","v":1},{"$f":"AO13/(AQ4-AO11)","v":2.9411764705882353E-2},{"$f":"IF(AP13=0,0,(AP13*((LOG(AP13))/LOG(2))))","v":-0.14963126003677468},null,{"$f":"N13","v":221},{"$f":"COUNTIF(L180:L214,AS13)","v":2},{"$f":"AT13/(AV4-AT11)","v":5.7142857142857141E-2},{"$f":"IF(AU13=0,0,(AU13*((LOG(AU13))/LOG(2))))","v":-0.23595902953971234}]
[21,805,11,816,22,823,null,null,null,null,0,212,null,222,{"$f":"COUNTIF($L$7:$L$500,N14)","v":128},{"$f":"O14/$Q$4","v":0.61538461538461542},{"$f":"IF(P14=0,0,(P14*((LOG(P14))/LOG(2))))","v":-0.43103982654836437},null,null,{"$f":"N14","v":222},{"$f":"COUNTIF(L7:L41,T14)","v":12},{"$f":"U14/(W4-U11)","v":0.35294117647058826},{"$f":"IF(V14=0,0,(V14*((LOG(V14))/LOG(2))))","v":-0.53029423783382934},null,{"$f":"N14","v":222},{"$f":"COUNTIF(L42:L75,Y14)","v":13},{"$f":"Z14/(AB4-Z11)","v":0.38235294117647056},{"$f":"IF(AA14=0,0,(AA14*((LOG(AA14))/LOG(2))))","v":-0.53033237060059457},null,{"$f":"N14","v":222},{"$f":"COUNTIF(L76:L110,AD14)","v":26},{"$f":"AE14/(AG4-AE11)","v":0.74285714285714288},{"$f":"IF(AF14=0,0,(AF14*((LOG(AF14))/LOG(2))))","v":-0.31856930768287806},null,{"$f":"N14","v":222},{"$f":"COUNTIF(L111:L145,AI14)","v":28},{"$f":"AJ14/(AL4-AJ11)","v":0.8},{"$f":"IF(AK14=0,0,(AK14*((LOG(AK14))/LOG(2))))","v":-0.25754247590988982},null,{"$f":"N14","v":222},{"$f":"COUNTIF(L146:L179,AN14)","v":25},{"$f":"AO14/(AQ4-AO11)","v":0.73529411764705888},{"$f":"IF(AP14=0,0,(AP14*((LOG(AP14))/LOG(2))))","v":-0.3261813613791284},null,{"$f":"N14","v":222},{"$f":"COUNTIF(L180:L214,AS14)","v":24},{"$f":"AT14/(AV4-AT11)","v":0.68571428571428572},{"$f":"IF(AU14=0,0,(AU14*((LOG(AU14))/LOG(2))))","v":-0.37324835398204131}]
[12,910,24,922,24,926,null,null,null,null,0,122,null,null,null,{"$f":"SUM(P7:P14)","v":1},{"$f":"-SUM(Q7:Q14)","v":1.7073223448000718},null,null,null,null,{"$f":"SUM(V7:V14)","v":1},{"$f":"-SUM(W7:W14)","v":2.17882010626266},null,null,null,{"$f":"SUM(AA7:AA14)","v":1},{"$f":"-SUM(AB7:AB14)","v":2.1276086839322512},null,null,null,{"$f":"SUM(AF7:AF14)","v":1},{"$f":"-SUM(AG7:AG14)","v":1.1372485119165283},null,null,null,{"$f":"SUM(AK7:AK14)","v":1},{"$f":"-SUM(AL7:AL14)","v":0.89455220860068851},null,null,null,{"$f":"SUM(AP7:AP14)","v":1},{"$f":"-SUM(AQ7:AQ14)","v":1.202274466415983},null,null,null,{"$f":"SUM(AU7:AU14)","v":1},{"$f":"-SUM(AV7:AV14)","v":1.1130423017938647}]
[21,1046,22,1061,13,1071,null,null,null,null,0,221,null,null,null,"U=",{"$f":"Q15/(LOG(Q4)/LOG(2))","v":0.22171751319315883},null,null,null,null,"U1=",{"$f":"W15/(LOG(W4)/LOG(2))","v":0.42478063679948375},null,null,null,"U2=",{"$f":"AB15/(LOG(AB4)/LOG(2))","v":0.41820623566645093},null,null,null,"U3=",{"$f":"AG15/(LOG(AG4)/LOG(2))","v":0.22171685753341033},null,null,null,"U4=",{"$f":"AL15/(LOG(AL4)/LOG(2))","v":0.17440102362171653},null,null,null,"U5=",{"$f":"AQ15/(LOG(AQ4)/LOG(2))","v":0.23632103151057152},null,null,null,"U6=",{"$f":"AV15/(LOG(AV4)/LOG(2))","v":0.21699763848414036}]
[12,1179,24,1186,24,1194,null,null,null,null,0,122]
[21,1292,11,1301,22,1309,null,null,null,null,0,212]
[21,1409,22,1415,24,1426,null,null,null,null,0,222,null,"Total Target Seq"]
[21,1534,11,1542,22,1549,null,null,null,null,0,212,null,{"$f":"COUNTIF(L7:L214,G3)","v":1},null,35,34,35,35,34,35]
[12,1641,24,1649,24,1653,null,null,null,null,0,122,null,null,null,"% of reinforcement given in 6 equal intervals based on number of trials "]
[12,1761,24,1768,13,1790,null,null,null,null,0,121,null,null,null,"%_1","%_2","%_3","%_4","%_5","%_6"]
[21,1886,22,1890,13,1900,null,null,null,null,0,221,null,null,"target sequence",{"$f":"$G$3","v":211},{"$f":"$G$3","v":211},{"$f":"$G$3","v":211},{"$f":"$G$3","v":211},{"$f":"$G$3","v":211},{"$f":"$G$3","v":211}]
[21,2000,11,2010,22,2018,null,null,null,null,0,212,null,null,"total reinforcement",{"$f":"U11","v":1},{"$f":"Z11","v":0},{"$f":"AE11","v":0},{"$f":"AJ11","v":0},{"$f":"AO11","v":0},{"$f":"AT11","v":0}]
[12,2111,24,2120,13,2130,null,null,null,null,0,121,null,null,"% target"]
[21,2242,11,2250,22,2262,null,null,null,null,0,212,null,null,"CCRF"]
[21,2361,22,2367,24,2376,null,null,null,null,0,222,null,null,"% CCRf"]
[21,2475,22,2480,24,2494,null,null,null,null,0,222,null,null,"average response rate",{"$f":"F41/P20","v":115.82857142857142},{"$f":"(F75-F41)/Q20","v":116.44117647058823},{"$f":"(F110-F75)/R20","v":113.14285714285714},{"$f":"(F145-F110)/S20","v":116.94285714285714},{"$f":"(F179-F145)/T20","v":114.08823529411765},{"$f":"(F214-F179)/U20","v":113.82857142857142}]
[21,2591,22,2595,24,2603,null,null,null,null,0,222]
[12,2708,24,2715,24,2727,null,null,null,null,0,122]
[21,2819,22,2823,13,2833,null,null,null,null,0,221]
[12,2948,24,2958,24,2988,null,null,null,null,0,122]
[21,3090,11,3100,22,3108,null,null,null,null,0,212]
[21,3201,11,3209,11,3231,null,null,null,null,0,211]
[12,3342,24,3350,13,3369,null,null,null,null,0,121]
[21,3472,22,3476,13,3488,null,null,null,null,0,221]
[21,3586,22,3590,24,3593,null,null,null,null,0,222]
[21,3697,11,3704,22,3711,null,null,null,null,0,212]
[21,3812,22,3818,24,3825,null,null,null,null,0,222]
[21,3919,11,3929,22,3936,null,null,null,null,0,212]
[21,4035,22,4039,24,4054,null,null,null,null,0,222]
[21,4159,11,4172,22,4182,null,null,null,null,0,212]
[21,4283,22,4291,13,4301,null,null,null,null,0,221]
[12,4412,24,4419,13,4433,null,null,null,null,0,121]
[12,4540,24,4548,24,4561,null,null,null,null,0,122]
[21,4659,22,4663,24,4669,null,null,null,null,0,222]
[21,4766,22,4770,24,4774,null,null,null,null,0,222]
[21,4871,22,4881,13,4888,null,null,null,null,0,221]
[12,5000,24,5007,13,5033,null,null,null,null,0,121]
[21,5135,22,5140,13,5150,null,null,null,null,0,221]
[21,5247,22,5251,24,5255,null,null,null,null,0,222]
[21,5352,22,5356,24,5360,null,null,null,null,0,222]
[21,5461,22,5466,13,5473,null,null,null,null,0,221]
[21,5579,22,5584,13,5595,null,null,null,null,0,221]
[21,5700,22,5708,13,5717,null,null,null,null,0,221]
[21,5809,22,5813,13,5822,null,null,null,null,0,221]
[21,5923,22,5931,24,5938,null,null,null,null,0,222]
[12,6048,24,6055,13,6071,null,null,null,null,0,121]
[21,6170,22,6175,24,6181,null,null,null,null,0,222]
[21,6282,11,6292,22,6299,null,null,null,null,0,212]
[12,6401,24,6408,24,6416,null,null,null,null,0,122]
[21,6515,22,6519,13,6533,null,null,null,null,0,221]
[21,6637,22,6641,24,6647,null,null,null,null,0,222]
[21,6745,22,6749,24,6753,null,null,null,null,0,222]
[21,6850,22,6860,13,6868,null,null,null,null,0,221]
[21,6969,22,6972,24,6976,null,null,null,null,0,222]
[21,7074,22,7078,24,7082,null,null,null,null,0,222]
[21,7188,22,7194,24,7198,null,null,null,null,0,222]
[12,7315,24,7322,24,7329,null,null,null,null,0,122]
[21,7426,11,7435,22,7442,null,null,null,null,0,212]
[21,7545,22,7552,24,7559,null,null,null,null,0,222]
[21,7658,11,7668,22,7675,null,null,null,null,0,212]
[12,7767,24,7774,24,7779,null,null,null,null,0,122]
[21,7880,22,7884,24,7888,null,null,null,null,0,222]
[12,7994,24,8002,13,8013,null,null,null,null,0,121]
[21,8115,22,8127,24,8133,null,null,null,null,0,222]
[21,8233,22,8237,24,8242,null,null,null,null,0,222]
[21,8339,22,8343,24,8349,null,null,null,null,0,222]
[21,8448,22,8453,24,8457,null,null,null,null,0,222]
[21,8559,11,8568,22,8575,null,null,null,null,0,212]
[21,8674,22,8680,24,8685,null,null,null,null,0,222]
[21,8784,22,8788,24,8792,null,null,null,null,0,222]
[21,8890,22,8894,24,8898,null,null,null,null,0,222]
[21,8998,22,9002,24,9009,null,null,null,null,0,222]
[21,9112,22,9117,24,9121,null,null,null,null,0,222]
[21,9221,22,9225,24,9229,null,null,null,null,0,222]
[21,9329,22,9333,24,9338,null,null,null,null,0,222]
[21,9433,11,9444,22,9451,null,null,null,null,0,212]
[21,9553,22,9559,24,9566,null,null,null,null,0,222]
[21,9667,22,9671,24,9675,null,null,null,null,0,222]
[21,9781,22,9785,24,9793,null,null,null,null,0,222]
[21,9890,22,9895,24,9900,null,null,null,null,0,222]
[21,10002,22,10006,24,10013,null,null,null,null,0,222]
[21,10115,11,10125,22,10131,null,null,null,null,0,212]
[21,10235,22,10241,24,10249,null,null,null,null,0,222]
[21,10356,22,10360,24,10364,null,null,null,null,0,222]
[21,10464,22,10468,24,10472,null,null,null,null,0,222]
[21,10575,22,10580,24,10584,null,null,null,null,0,222]
[12,10699,24,10706,24,10713,null,null,null,null,0,122]
[21,10821,11,10834,22,10841,null,null,null,null,0,212]
[21,10934,11,10942,22,10949,null,null,null,null,0,212]
[21,11041,11,11051,22,11058,null,null,null,null,0,212]
[21,11157,22,11162,24,11168,null,null,null,null,0,222]
[12,11279,24,11288,24,11294,null,null,null,null,0,122]
[21,11393,22,11397,24,11405,null,null,null,null,0,222]
[21,11502,22,11506,24,11511,null,null,null,null,0,222]
[21,11608,22,11612,24,11616,null,null,null,null,0,222]
[21,11722,22,11726,24,11730,null,null,null,null,0,222]
[21,11829,22,11834,13,11841,null,null,null,null,0,221]
[21,11964,22,11968,24,11973,null,null,null,null,0,222]
[21,12072,22,12075,24,12083,null,null,null,null,0,222]
[21,12190,22,12197,24,12204,null,null,null,null,0,222]
[21,12307,22,12310,24,12314,null,null,null,null,0,222]
[21,12414,22,12418,24,12423,null,null,null,null,0,222]
[21,12529,11,12539,22,12546,null,null,null,null,0,212]
[21,12643,22,12647,24,12651,null,null,null,null,0,222]
[21,12751,22,12755,13,12767,null,null,null,null,0,221]
[21,12871,22,12878,24,12884,null,null,null,null,0,222]
[21,12994,22,12998,24,13005,null,null,null,null,0,222]
[21,13104,22,13108,24,13111,null,null,null,null,0,222]
[21,13209,22,13213,24,13217,null,null,null,null,0,222]
[21,13316,22,13320,13,13331,null,null,null,null,0,221]
[21,13435,22,13439,24,13443,null,null,null,null,0,222]
[21,13545,11,13554,22,13561,null,null,null,null,0,212]
[21,13665,22,13673,24,13695,null,null,null,null,0,222]
[21,13795,22,13800,24,13805,null,null,null,null,0,222]
[21,13912,22,13917,24,13923,null,null,null,null,0,222]
[21,14031,22,14043,24,14050,null,null,null,null,0,222]
[21,14150,22,14154,24,14158,null,null,null,null,0,222]
[21,14258,22,14262,24,14267,null,null,null,null,0,222]
[21,14368,22,14373,24,14377,null,null,null,null,0,222]
[21,14480,22,14490,24,14497,null,null,null,null,0,222]
[21,14604,22,14618,24,14628,null,null,null,null,0,222]
[21,14758,11,14768,22,14775,null,null,null,null,0,212]
[21,14875,22,14881,24,14896,null,null,null,null,0,222]
[21,14996,22,15000,24,15005,null,null,null,null,0,222]
[21,15102,11,15113,22,15120,null,null,null,null,0,212]
[21,15219,22,15224,24,15229,null,null,null,null,0,222]
[21,15322,22,15326,24,15335,null,null,null,null,0,222]
[21,15449,11,15459,22,15467,null,null,null,null,0,212]
[21,15571,22,15587,24,15594,null,null,null,null,0,222]
[21,15693,22,15697,24,15709,null,null,null,null,0,222]
[21,15807,22,15812,24,15818,null,null,null,null,0,222]
[21,15928,22,15935,24,15942,null,null,null,null,0,222]
[21,16043,22,16060,24,16066,null,null,null,null,0,222]
[21,16166,22,16169,24,16174,null,null,null,null,0,222]
[21,16267,22,16275,24,16286,null,null,null,null,0,222]
[21,16391,11,16401,22,16408,null,null,null,null,0,212]
[21,16511,22,16517,24,16525,null,null,null,null,0,222]
[21,16625,22,16629,24,16636,null,null,null,null,0,222]
[21,16740,22,16745,24,16749,null,null,null,null,0,222]
[21,16851,22,16854,24,16859,null,null,null,null,0,222]
[21,16961,22,16965,24,16971,null,null,null,null,0,222]
[21,17073,22,17077,24,17082,null,null,null,null,0,222]
[21,17185,22,17188,24,17193,null,null,null,null,0,222]
[21,17306,22,17312,24,17320,null,null,null,null,0,222]
[21,17427,22,17434,24,17440,null,null,null,null,0,222]
[21,17541,22,17545,24,17549,null,null,null,null,0,222]
[21,17656,22,17660,24,17665,null,null,null,null,0,222]
[21,17770,22,17774,24,17778,null,null,null,null,0,222]
[21,17877,22,17881,24,17885,null,null,null,null,0,222]
[21,17985,22,17989,24,17993,null,null,null,null,0,222]
[12,18093,24,18100,24,18107,null,null,null,null,0,122]
[21,18218,22,18224,24,18230,null,null,null,null,0,222]
[21,18334,22,18347,24,18355,null,null,null,null,0,222]
[21,18456,22,18460,24,18464,null,null,null,null,0,222]
[12,18575,24,18581,24,18588,null,null,null,null,0,122]
[12,18689,24,18696,24,18701,null,null,null,null,0,122]
[21,18797,22,18805,13,18812,null,null,null,null,0,221]
[21,18914,11,18924,22,18932,null,null,null,null,0,212]
[21,19035,11,19044,22,19053,null,null,null,null,0,212]
[21,19153,22,19158,24,19163,null,null,null,null,0,222]
[21,19257,11,19266,22,19273,null,null,null,null,0,212]
[21,19372,22,19378,24,19385,null,null,null,null,0,222]
[21,19484,22,19491,24,19497,null,null,null,null,0,222]
[21,19606,22,19613,24,19620,null,null,null,null,0,222]
[21,19720,22,19723,24,19728,null,null,null,null,0,222]
[12,19830,24,19838,24,19842,null,null,null,null,0,122]
[21,19936,22,19940,24,19945,null,null,null,null,0,222]
[21,20045,22,20054,24,20061,null,null,null,null,0,222]
[21,20168,22,20173,24,20180,null,null,null,null,0,222]
[12,20282,24,20290,24,20296,null,null,null,null,0,122]
[21,20397,22,20401,24,20405,null,null,null,null,0,222]
[21,20505,22,20509,24,20513,null,null,null,null,0,222]
[21,20622,22,20628,24,20635,null,null,null,null,0,222]
[21,20734,22,20738,24,20742,null,null,null,null,0,222]
[21,20848,22,20852,24,20859,null,null,null,null,0,222]
[21,20960,22,20964,24,20968,null,null,null,null,0,222]
[21,21065,22,21070,13,21080,null,null,null,null,0,221]
[21,21182,22,21186,24,21191,null,null,null,null,0,222]
[12,21292,24,21300,24,21307,null,null,null,null,0,122]
[21,21413,22,21418,24,21423,null,null,null,null,0,222]
[12,21525,24,21532,24,21537,null,null,null,null,0,122]
[12,21636,24,21645,24,21652,null,null,null,null,0,122]
[21,21761,22,21766,24,21771,null,null,null,null,0,222]
[12,21872,24,21879,24,21884,null,null,null,null,0,122]
[21,21989,22,21994,24,22002,null,null,null,null,0,222]
[21,22097,22,22104,13,22112,null,null,null,null,0,221]
[21,22217,22,22220,24,22225,null,null,null,null,0,222]
[21,22328,22,22332,24,22336,null,null,null,null,0,222]
[21,22435,22,22439,24,22443,null,null,null,null,0,222]
[21,22543,22,22547,24,22551,null,null,null,null,0,222]
[21,22655,22,22659,24,22664,null,null,null,null,0,222]
[21,22777,22,22783,24,22789,null,null,null,null,0,222]
[21,22890,22,22894,24,22898,null,null,null,null,0,222]
[12,22997,24,23006,24,23011,null,null,null,null,0,122]
[21,23115,22,23120,24,23126,null,null,null,null,0,222]
[12,23227,24,23235,24,23240,null,null,null,null,0,122]
[21,23353,22,23358,24,23363,null,null,null,null,0,222]
[21,23468,22,23472,24,23477,null,null,null,null,0,222]
[12,23575,24,23585,24,23589,null,null,null,null,0,122]
[12,23690,24,23697,24,23702,null,null,null,null,0,122]
[21,23810,22,23814,24,23821,null,null,null,null,0,222]
[21,23921,22,23925,24,23929,null,null,null,null,null,222]

{"sheet":"!MC02B30.096","index":5,"n_rows":212,"n_cols":48,"rows_kept":212,"cut":false,"hidden":false,"merged":[[4,39,4,42],[5,39,5,40],[4,44,4,47],[5,44,5,45],[4,24,4,27],[5,24,5,25],[4,29,4,32],[5,29,5,30],[4,34,4,37],[5,34,5,35],[1,1,1,2],[5,13,5,14],[18,13,18,14],[19,13,19,14],[4,19,4,22],[5,19,5,20]]}
["Report for:!MC02B30.096"]
["Date:","<date>"]
["Hen:","<hen>",null,null,null,"Correct Sequence",{"$f":"Start!J2","v":211},null,null,null,null,null,null,null,null,"Total Sequences in Data",{"$f":"4994-COUNTBLANK(L7:L5000)","v":206},null,null,null,null,"Total Sequences in Block Data",{"$f":"COUNTA(L7:L40)","v":34},null,null,null,"Total Sequences in Block Data",{"$f":"COUNTA(L41:L75)","v":35},null,null,null,"Total Sequences in Block Data",{"$f":"COUNTA(L76:L109)","v":34},null,null,null,"Total Sequences in Block Data",{"$f":"COUNTA(L110:L143)","v":34},null,null,null,"Total Sequences in Block Data",{"$f":"COUNTA(L144:L178)","v":35},null,null,null,"Total Sequences in Block Data",{"$f":"COUNTA(L179:L212)","v":34}]
[null,null,null,null,null,null,null,null,null,null,null,null,null,null,null,"Total Sequences in Summary",{"$f":"SUM(O7:O14)","v":206},null,null,null,null,"Total Sequences in Block Summary",{"$f":"SUM(U7:U14)","v":34},null,null,null,"Total Sequences in Block Summary",{"$f":"SUM(Z7:Z14)","v":35},null,null,null,"Total Sequences in Block Summary",{"$f":"SUM(AE7:AE14)","v":34},null,null,null,"Total Sequences in Block Summary",{"$f":"SUM(AJ7:AJ14)","v":34},null,null,null,"Total Sequences in Block Summary",{"$f":"SUM(AO7:AO14)","v":35},null,null,null,"Total Sequences in Block Summary",{"$f":"SUM(AT7:AT14)","v":34}]
[null,null,null,null,null,null,null,null,null,null,null,null,null,null,null,null,null,null,null,"Block 1",null,null,null,null,"Block 2",null,null,null,null,"Block 3",null,null,null,null,"Block 4",null,null,null,null,"Block 5",null,null,null,null,"Block 6"]
["Sequence\nComponent\n1","Time\n1","Sequence\nComponent\n2","Time\n2","Sequence\nComponent\n3","Time\n3","Sequence\nComponent\n4","Time\n4","Sequence\nComponent\n5","Time\n5","Correct?\n0=No 1=Yes","Sequence",null,"Frequency",null,"Relative Frequency","Variability",null,null,"Frequency",null,"Relative Frequency","Variability",null,"Frequency",null,"Relative Frequency","Variability",null,"Frequency",null,"Relative Frequency","Variability",null,"Frequency",null,"Relative Frequency","Variability",null,"Frequency",null,"Relative Frequency","Variability",null,"Frequency",null,"Relative Frequency","Variability"]
[21,16,22,19,24,23,null,null,null,null,0,222,null,111,{"$f":"COUNTIF($L$7:$L$500,N7)","v":3},{"$f":"O7/$Q$4","v":1.4563106796116505E-2},{"$f":"IF(P7=0,0,(P7*((LOG(P7))/LOG(2))))","v":-8.8857349899932936E-2},null,null,{"$f":"N7","v":111},{"$f":"COUNTIF(L7:L40,T7)","v":1},{"$f":"U7/(W4-U11)","v":2.9411764705882353E-2},{"$f":"IF(V7=0,0,(V7*((LOG(V7))/LOG(2))))","v":-0.14963126003677468},null,{"$f":"N7","v":111},{"$f":"COUNTIF(L41:L75,Y7)","v":0},{"$f":"Z7/(AB4-Z11)","v":0},{"$f":"IF(AA7=0,0,(AA7*((LOG(AA7))/LOG(2))))","v":0},null,{"$f":"N7","v":111},{"$f":"COUNTIF(L76:L109,AD7)","v":0},{"$f":"AE7/(AG4-AE11)","v":0},{"$f":"IF(AF7=0,0,(AF7*((LOG(AF7))/LOG(2))))","v":0},null,{"$f":"N7","v":111},{"$f":"COUNTIF(L110:L143,AI7)","v":0},{"$f":"AJ7/(AL4-AJ11)","v":0},{"$f":"IF(AK7=0,0,(AK7*((LOG(AK7))/LOG(2))))","v":0},null,{"$f":"N7","v":111},{"$f":"COUNTIF(L144:L178,AN7)","v":0},{"$f":"AO7/(AQ4-AO11)","v":0},{"$f":"IF(AP7=0,0,(AP7*((LOG(AP7))/LOG(2))))","v":0},null,{"$f":"N7","v":111},{"$f":"COUNTIF(L179:L212,AS7)","v":2},{"$f":"AT7/(AV4-AT11)","v":5.8823529411764705E-2},{"$f":"IF(AU7=0,0,(AU7*((LOG(AU7))/LOG(2))))","v":-0.24043899066178465}]
[12,127,24,136,24,143,null,null,null,null,0,122,null,112,{"$f":"COUNTIF($L$7:$L$500,N8)","v":3},{"$f":"O8/$Q$4","v":1.4563106796116505E-2},{"$f":"IF(P8=0,0,(P8*((LOG(P8))/LOG(2))))","v":-8.8857349899932936E-2},null,null,{"$f":"N8","v":112},{"$f":"COUNTIF(L7:L40,T8)","v":0},{"$f":"U8/(W4-U11)","v":0},{"$f":"IF(V8=0,0,(V8*((LOG(V8))/LOG(2))))","v":0},null,{"$f":"N8","v":112},{"$f":"COUNTIF(L41:L75,Y8)","v":0},{"$f":"Z8/(AB4-Z11)","v":0},{"$f":"IF(AA8=0,0,(AA8*((LOG(AA8))/LOG(2))))","v":0},null,{"$f":"N8","v":112},{"$f":"COUNTIF(L76:L109,AD8)","v":0},{"$f":"AE8/(AG4-AE11)","v":0},{"$f":"IF(AF8=0,0,(AF8*((LOG(AF8))/LOG(2))))","v":0},null,{"$f":"N8","v":112},{"$f":"COUNTIF(L110:L143,AI8)","v":1},{"$f":"AJ8/(AL4-AJ11)","v":3.0303030303030304E-2},{"$f":"IF(AK8=0,0,(AK8*((LOG(AK8))/LOG(2))))","v":-0.15286042785934709},null,{"$f":"N8","v":112},{"$f":"COUNTIF(L144:L178,AN8)","v":1},{"$f":"AO8/(AQ4-AO11)","v":2.8571428571428571E-2},{"$f":"IF(AP8=0,0,(AP8*((LOG(AP8))/LOG(2))))","v":-0.14655094334128474},null,{"$f":"N8","v":112},{"$f":"COUNTIF(L179:L212,AS8)","v":1},{"$f":"AT8/(AV4-AT11)","v":2.9411764705882353E-2},{"$f":"IF(AU8=0,0,(AU8*((LOG(AU8))/LOG(2))))","v":-0.14963126003677468}]
[12,245,24,253,24,258,null,null,null,null,0,122,null,121,{"$f":"COUNTIF($L$7:$L$500,N9)","v":14},{"$f":"O9/$Q$4","v":6.7961165048543687E-2},{"$f":"IF(P9=0,0,(P9*((LOG(P9))/LOG(2))))","v":-0.26363125471727472},null,null,{"$f":"N9","v":121},{"$f":"COUNTIF(L7:L40,T9)","v":0},{"$f":"U9/(W4-U11)","v":0},{"$f":"IF(V9=0,0,(V9*((LOG(V9))/LOG(2))))","v":0},null,{"$f":"N9","v":121},{"$f":"COUNTIF(L41:L75,Y9)","v":3},{"$f":"Z9/(AB4-Z11)","v":8.5714285714285715E-2},{"$f":"IF(AA9=0,0,(AA9*((LOG(AA9))/LOG(2))))","v":-0.30379890139061233},null,{"$f":"N9","v":121},{"$f":"COUNTIF(L76:L109,AD9)","v":4},{"$f":"AE9/(AG4-AE11)","v":0.13333333333333333},{"$f":"IF(AF9=0,0,(AF9*((LOG(AF9))/LOG(2))))","v":-0.3875854127478025},null,{"$f":"N9","v":121},{"$f":"COUNTIF(L110:L143,AI9)","v":2},{"$f":"AJ9/(AL4-AJ11)","v":6.0606060606060608E-2},{"$f":"IF(AK9=0,0,(AK9*((LOG(AK9))/LOG(2))))","v":-0.24511479511263354},null,{"$f":"N9","v":121},{"$f":"COUNTIF(L144:L178,AN9)","v":1},{"$f":"AO9/(AQ4-AO11)","v":2.8571428571428571E-2},{"$f":"IF(AP9=0,0,(AP9*((LOG(AP9))/LOG(2))))","v":-0.14655094334128474},null,{"$f":"N9","v":121},{"$f":"COUNTIF(L179:L212,AS9)","v":4},{"$f":"AT9/(AV4-AT11)","v":0.11764705882352941},{"$f":"IF(AU9=0,0,(AU9*((LOG(AU9))/LOG(2))))","v":-0.36323092250003997}]
[12,364,24,375,24,380,null,null,null,null,0,122,null,122,{"$f":"COUNTIF($L$7:$L$500,N10)","v":27},{"$f":"O10/$Q$4","v":0.13106796116504854},{"$f":"IF(P10=0,0,(P10*((LOG(P10))/LOG(2))))","v":-0.38424054211423903},null,null,{"$f":"N10","v":122},{"$f":"COUNTIF(L7:L40,T10)","v":10},{"$f":"U10/(W4-U11)","v":0.29411764705882354},{"$f":"IF(V10=0,0,(V10*((LOG(V10))/LOG(2))))","v":-0.51927492540087561},null,{"$f":"N10","v":122},{"$f":"COUNTIF(L41:L75,Y10)","v":2},{"$f":"Z10/(AB4-Z11)","v":5.7142857142857141E-2},{"$f":"IF(AA10=0,0,(AA10*((LOG(AA10))/LOG(2))))","v":-0.23595902953971234},null,{"$f":"N10","v":122},{"$f":"COUNTIF(L76:L109,AD10)","v":2},{"$f":"AE10/(AG4-AE11)","v":6.6666666666666666E-2},{"$f":"IF(AF10=0,0,(AF10*((LOG(AF10))/LOG(2))))","v":-0.26045937304056793},null,{"$f":"N10","v":122},{"$f":"COUNTIF(L110:L143,AI10)","v":3},{"$f":"AJ10/(AL4-AJ11)","v":9.0909090909090912E-2},{"$f":"IF(AK10=0,0,(AK10*((LOG(AK10))/LOG(2))))","v":-0.31449378351248153},null,{"$f":"N10","v":122},{"$f":"COUNTIF(L144:L178,AN10)","v":5},{"$f":"AO10/(AQ4-AO11)","v":0.14285714285714285},{"$f":"IF(AP10=0,0,(AP10*((LOG(AP10))/LOG(2))))","v":-0.40105070315108626},null,{"$f":"N10","v":122},{"$f":"COUNTIF(L179:L212,AS10)","v":5},{"$f":"AT10/(AV4-AT11)","v":0.14705882352941177},{"$f":"IF(AU10=0,0,(AU10*((LOG(AU10))/LOG(2))))","v":-0.40669628622984955}]
[12,477,13,481,13,485,null,null,null,null,0,111,null,211,{"$f":"COUNTIF($L$7:$L$500,N11)","v":5},{"$f":"O11/$Q$4","v":2.4271844660194174E-2},{"$f":"IF(P11=0,0,(P11*((LOG(P11))/LOG(2))))","v":-0.13020806874504504},null,null,{"$f":"N11","v":211},{"$f":"COUNTIF(L7:L40,T11)","v":0},null,null,null,{"$f":"N11","v":211},{"$f":"COUNTIF(L41:L75,Y11)","v":0},null,null,null,{"$f":"N11","v":211},{"$f":"COUNTIF(L76:L109,AD11)","v":4},null,null,null,{"$f":"N11","v":211},{"$f":"COUNTIF(L110:L143,AI11)","v":1},null,null,null,{"$f":"N11","v":211},{"$f":"COUNTIF(L144:L178,AN11)","v":0},null,null,null,{"$f":"N11","v":211},{"$f":"COUNTIF(L179:L212,AS11)","v":0}]
[21,587,22,590,24,594,null,null,null,null,0,222,null,212,{"$f":"COUNTIF($L$7:$L$500,N12)","v":31},{"$f":"O12/$Q$4","v":0.15048543689320387},{"$f":"IF(P12=0,0,(P12*((LOG(P12))/LOG(2))))","v":-0.41117199378974095},null,null,{"$f":"N12","v":212},{"$f":"COUNTIF(L7:L40,T12)","v":5},{"$f":"U12/(W4-U11)","v":0.14705882352941177},{"$f":"IF(V12=0,0,(V12*((LOG(V12))/LOG(2))))","v":-0.40669628622984955},null,{"$f":"N12","v":212},{"$f":"COUNTIF(L41:L75,Y12)","v":7},{"$f":"Z12/(AB4-Z11)","v":0.2},{"$f":"IF(AA12=0,0,(AA12*((LOG(AA12))/LOG(2))))","v":-0.46438561897747244},null,{"$f":"N12","v":212},{"$f":"COUNTIF(L76:L109,AD12)","v":7},{"$f":"AE12/(AG4-AE11)","v":0.23333333333333334},{"$f":"IF(AF12=0,0,(AF12*((LOG(AF12))/LOG(2))))","v":-0.48989165716187993},null,{"$f":"N12","v":212},{"$f":"COUNTIF(L110:L143,AI12)","v":3},{"$f":"AJ12/(AL4-AJ11)","v":9.0909090909090912E-2},{"$f":"IF(AK12=0,0,(AK12*((LOG(AK12))/LOG(2))))","v":-0.31449378351248153},null,{"$f":"N12","v":212},{"$f":"COUNTIF(L144:L178,AN12)","v":5},{"$f":"AO12/(AQ4-AO11)","v":0.14285714285714285},{"$f":"IF(AP12=0,0,(AP12*((LOG(AP12))/LOG(2))))","v":-0.40105070315108626},null,{"$f":"N12","v":212},{"$f":"COUNTIF(L179:L212,AS12)","v":4},{"$f":"AT12/(AV4-AT11)","v":0.11764705882352941},{"$f":"IF(AU12=0,0,(AU12*((LOG(AU12))/LOG(2))))","v":-0.36323092250003997}]
[12,693,24,712,24,716,null,null,null,null,0,122,null,221,{"$f":"COUNTIF($L$7:$L$500,N13)","v":32},{"$f":"O13/$Q$4","v":0.1553398058252427},{"$f":"IF(P13=0,0,(P13*((LOG(P13))/LOG(2))))","v":-0.41732047024205332},null,null,{"$f":"N13","v":221},{"$f":"COUNTIF(L7:L40,T13)","v":3},{"$f":"U13/(W4-U11)","v":8.8235294117647065E-2},{"$f":"IF(V13=0,0,(V13*((LOG(V13))/LOG(2))))","v":-0.30904414769375149},null,{"$f":"N13","v":221},{"$f":"COUNTIF(L41:L75,Y13)","v":4},{"$f":"Z13/(AB4-Z11)","v":0.11428571428571428},{"$f":"IF(AA13=0,0,(AA13*((LOG(AA13))/LOG(2))))","v":-0.35763234479371042},null,{"$f":"N13","v":221},{"$f":"COUNTIF(L76:L109,AD13)","v":10},{"$f":"AE13/(AG4-AE11)","v":0.33333333333333331},{"$f":"IF(AF13=0,0,(AF13*((LOG(AF13))/LOG(2))))","v":-0.52832083357371862},null,{"$f":"N13","v":221},{"$f":"COUNTIF(L110:L143,AI13)","v":7},{"$f":"AJ13/(AL4-AJ11)","v":0.21212121212121213},{"$f":"IF(AK13=0,0,(AK13*((LOG(AK13))/LOG(2))))","v":-0.47452346609411955},null,{"$f":"N13","v":221},{"$f":"COUNTIF(L144:L178,AN13)","v":4},{"$f":"AO13/(AQ4-AO11)","v":0.11428571428571428},{"$f":"IF(AP13=0,0,(AP13*((LOG(AP13))/LOG(2))))","v":-0.35763234479371042},null,{"$f":"N13","v":221},{"$f":"COUNTIF(L179:L212,AS13)","v":4},{"$f":"AT13/(AV4-AT11)","v":0.11764705882352941},{"$f":"IF(AU13=0,0,(AU13*((LOG(AU13))/LOG(2))))","v":-0.36323092250003997}]
[12,815,24,834,24,838,null,null,null,null,0,122,null,222,{"$f":"COUNTIF($L$7:$L$500,N14)","v":91},{"$f":"O14/$Q$4","v":0.44174757281553401},{"$f":"IF(P14=0,0,(P14*((LOG(P14))/LOG(2))))","v":-0.52069046463879376},null,null,{"$f":"N14","v":222},{"$f":"COUNTIF(L7:L40,T14)","v":15},{"$f":"U14/(W4-U11)","v":0.44117647058823528},{"$f":"IF(V14=0,0,(V14*((LOG(V14))/LOG(2))))","v":-0.52084069660668564},null,{"$f":"N14","v":222},{"$f":"COUNTIF(L41:L75,Y14)","v":19},{"$f":"Z14/(AB4-Z11)","v":0.54285714285714282},{"$f":"IF(AA14=0,0,(AA14*((LOG(AA14))/LOG(2))))","v":-0.47845013047217821},null,{"$f":"N14","v":222},{"$f":"COUNTIF(L76:L109,AD14)","v":7},{"$f":"AE14/(AG4-AE11)","v":0.23333333333333334},{"$f":"IF(AF14=0,0,(AF14*((LOG(AF14))/LOG(2))))","v":-0.48989165716187993},null,{"$f":"N14","v":222},{"$f":"COUNTIF(L110:L143,AI14)","v":17},{"$f":"AJ14/(AL4-AJ11)","v":0.51515151515151514},{"$f":"IF(AK14=0,0,(AK14*((LOG(AK14))/LOG(2))))","v":-0.49296459781327084},null,{"$f":"N14","v":222},{"$f":"COUNTIF(L144:L178,AN14)","v":19},{"$f":"AO14/(AQ4-AO11)","v":0.54285714285714282},{"$f":"IF(AP14=0,0,(AP14*((LOG(AP14))/LOG(2))))","v":-0.47845013047217821},null,{"$f":"N14","v":222},{"$f":"COUNTIF(L179:L212,AS14)","v":14},{"$f":"AT14/(AV4-AT11)","v":0.41176470588235292},{"$f":"IF(AU14=0,0,(AU14*((LOG(AU14))/LOG(2))))","v":-0.52710326084406744}]
[21,955,22,959,24,967,null,null,null,null,0,222,null,null,null,{"$f":"SUM(P7:P14)","v":1},{"$f":"-SUM(Q7:Q14)","v":2.3049774940470127},null,null,null,null,{"$f":"SUM(V7:V14)","v":1},{"$f":"-SUM(W7:W14)","v":1.9054873159679371},null,null,null,{"$f":"SUM(AA7:AA14)","v":1},{"$f":"-SUM(AB7:AB14)","v":1.8402260251736857},null,null,null,{"$f":"SUM(AF7:AF14)","v":1},{"$f":"-SUM(AG7:AG14)","v":2.156148933685849},null,null,null,{"$f":"SUM(AK7:AK14)","v":1},{"$f":"-SUM(AL7:AL14)","v":1.994450853904334},null,null,null,{"$f":"SUM(AP7:AP14)","v":1},{"$f":"-SUM(AQ7:AQ14)","v":1.9312857682506306},null,null,null,{"$f":"SUM(AU7:AU14)","v":1},{"$f":"-SUM(AV7:AV14)","v":2.4135625652725965}]
[21,1068,22,1072,24,1077,null,null,null,null,0,222,null,null,null,"U=",{"$f":"Q15/(LOG(Q4)/LOG(2))","v":0.2998734581355309},null,null,null,null,"U1=",{"$f":"W15/(LOG(W4)/LOG(2))","v":0.37454569702559792},null,null,null,"U2=",{"$f":"AB15/(LOG(AB4)/LOG(2))","v":0.35876866593135193},null,null,null,"U3=",{"$f":"AG15/(LOG(AG4)/LOG(2))","v":0.42381615374235049},null,null,null,"U4=",{"$f":"AL15/(LOG(AL4)/LOG(2))","v":0.39203251525158272},null,null,null,"U5=",{"$f":"AQ15/(LOG(AQ4)/LOG(2))","v":0.37652158437553263},null,null,null,"U6=",{"$f":"AV15/(LOG(AV4)/LOG(2))","v":0.47441379732602007}]
[21,1174,11,1185,22,1192,null,null,null,null,0,212]
[21,1295,22,1301,13,1310,null,null,null,null,0,221]
[21,1413,22,1417,24,1421,null,null,null,null,0,222,null,"Total Target Seq"]
[21,1524,11,1532,22,1539,null,null,null,null,0,212,null,{"$f":"COUNTIF(L7:L212,G3)","v":5},null,34,35,34,34,35,34]
[21,1640,22,1646,24,1653,null,null,null,null,0,222,null,null,null,"% of reinforcement given in 6 equal intervals based on number of trials "]
[21,1773,22,1777,24,1782,null,null,null,null,0,222,null,null,null,"%_1","%_2","%_3","%_4","%_5","%_6"]
[21,1880,22,1884,24,1888,null,null,null,null,0,222,null,null,"target sequence",{"$f":"$G$3","v":211},{"$f":"$G$3","v":211},{"$f":"$G$3","v":211},{"$f":"$G$3","v":211},{"$f":"$G$3","v":211},{"$f":"$G$3","v":211}]
[21,1991,22,1995,24,1999,null,null,null,null,0,222,null,null,"total reinforcement",{"$f":"U11","v":0},{"$f":"Z11","v":0},{"$f":"AE11","v":4},{"$f":"AJ11","v":1},{"$f":"AO11","v":0},{"$f":"AT11","v":0}]
[21,2102,22,2106,24,2111,null,null,null,null,0,222,null,null,"% target"]
[21,2211,22,2215,24,2219,null,null,null,null,0,222,null,null,"CCRF"]
[12,2330,24,2346,24,2351,null,null,null,null,0,122,null,null,"% CCRf"]
[21,2448,22,2452,13,2466,null,null,null,null,0,221,null,null,"average response rate",{"$f":"F40/P20","v":113.85294117647059},{"$f":"(F75-F40)/Q20","v":116.42857142857143},{"$f":"(F109-F75)/R20","v":120},{"$f":"(F143-F109)/S20","v":116.82352941176471},{"$f":"(F178-F143)/T20","v":113.02857142857142},{"$f":"(F212-F178)/U20","v":116.58823529411765}]
[21,2561,11,2580,22,2588,null,null,null,null,0,212]
[21,2688,22,2693,24,2705,null,null,null,null,0,222]
[12,2812,24,2823,24,2830,null,null,null,null,0,122]
[21,2929,22,2934,13,2942,null,null,null,null,0,221]
[21,3041,11,3051,22,3062,null,null,null,null,0,212]
[21,3162,22,3170,24,3177,null,null,null,null,0,222]
[21,3280,11,3290,22,3297,null,null,null,null,0,212]
[12,3389,24,3397,24,3402,null,null,null,null,0,122]
[12,3515,24,3530,24,3538,null,null,null,null,0,122]
[12,3638,24,3649,24,3654,null,null,null,null,0,122]
[21,3752,22,3756,24,3760,null,null,null,null,0,222]
[21,3863,22,3867,24,3871,null,null,null,null,0,222]
[21,3973,22,3977,13,3985,null,null,null,null,0,221]
[21,4082,11,4100,22,4110,null,null,null,null,0,212]
[21,4210,22,4216,24,4222,null,null,null,null,0,222]
[21,4322,22,4326,24,4331,null,null,null,null,0,222]
[12,4436,24,4443,13,4454,null,null,null,null,0,121]
[21,4553,22,4557,24,4560,null,null,null,null,0,222]
[21,4657,11,4664,22,4672,null,null,null,null,0,212]
[21,4770,22,4775,24,4781,null,null,null,null,0,222]
[21,4881,22,4885,24,4892,null,null,null,null,0,222]
[21,4990,22,4994,24,4998,null,null,null,null,0,222]
[21,5094,22,5098,24,5103,null,null,null,null,0,222]
[21,5198,11,5209,22,5216,null,null,null,null,0,212]
[21,5316,11,5324,22,5332,null,null,null,null,0,212]
[21,5429,22,5433,24,5437,null,null,null,null,0,222]
[12,5540,24,5548,24,5553,null,null,null,null,0,122]
[21,5653,22,5657,24,5661,null,null,null,null,0,222]
[21,5767,11,5774,22,5782,null,null,null,null,0,212]
[12,5877,24,5886,24,5891,null,null,null,null,0,122]
[12,6021,24,6028,13,6043,null,null,null,null,0,121]
[21,6148,11,6168,22,6176,null,null,null,null,0,212]
[21,6275,22,6282,24,6289,null,null,null,null,0,222]
[21,6409,22,6416,24,6423,null,null,null,null,0,222]
[21,6519,22,6523,13,6533,null,null,null,null,0,221]
[21,6632,22,6636,24,6640,null,null,null,null,0,222]
[21,6747,11,6757,22,6764,null,null,null,null,0,212]
[21,6863,22,6867,24,6882,null,null,null,null,0,222]
[21,6992,22,6996,24,7003,null,null,null,null,0,222]
[21,7105,22,7118,24,7124,null,null,null,null,0,222]
[21,7221,22,7225,13,7232,null,null,null,null,0,221]
[21,7330,22,7335,24,7339,null,null,null,null,0,222]
[21,7448,22,7452,13,7474,null,null,null,null,0,221]
[21,7571,22,7575,24,7589,null,null,null,null,0,222]
[21,7694,22,7699,24,7706,null,null,null,null,0,222]
[21,7807,22,7812,24,7816,null,null,null,null,0,222]
[12,7927,24,7934,13,7946,null,null,null,null,0,121]
[21,8040,22,8054,13,8063,null,null,null,null,0,221]
[21,8160,22,8167,13,8175,null,null,null,null,0,221]
[21,8275,22,8279,24,8284,null,null,null,null,0,222]
[21,8382,22,8397,24,8403,null,null,null,null,0,222]
[21,8506,22,8510,13,8527,null,null,null,null,0,221]
[21,8633,22,8637,24,8642,null,null,null,null,0,222]
[12,8749,24,8756,13,8770,null,null,null,null,0,121]
[21,8869,22,8873,13,8881,null,null,null,null,0,221]
[21,8983,22,8997,13,9004,null,null,null,null,0,221]
[21,9098,11,9121,22,9129,null,null,null,null,0,212]
[12,9222,24,9229,24,9234,null,null,null,null,0,122]
[21,9339,11,9347,22,9365,null,null,null,null,0,212]
[21,9468,11,9478,11,9493,null,null,null,null,0,211]
[21,9597,22,9602,13,9620,null,null,null,null,0,221]
[21,9718,11,9739,11,9754,null,null,null,null,0,211]
[21,9853,11,9860,11,9873,null,null,null,null,0,211]
[21,9970,22,9974,13,9984,null,null,null,null,0,221]
[21,10084,22,10087,24,10100,null,null,null,null,0,222]
[21,10201,11,10212,22,10222,null,null,null,null,0,212]
[21,10322,11,10331,22,10341,null,null,null,null,0,212]
[12,10433,24,10442,13,10450,null,null,null,null,0,121]
[21,10550,11,10560,11,10573,null,null,null,null,0,211]
[21,10666,11,10676,22,10685,null,null,null,null,0,212]
[21,10785,22,10792,24,10798,null,null,null,null,0,222]
[21,10904,22,10909,13,10918,null,null,null,null,0,221]
[21,11016,22,11020,13,11059,null,null,null,null,0,221]
[21,11175,11,11189,22,11199,null,null,null,null,0,212]
[21,11301,22,11305,24,11310,null,null,null,null,0,222]
[12,11416,24,11425,24,11429,null,null,null,null,0,122]
[12,11544,24,11551,13,11560,null,null,null,null,0,121]
[21,11652,22,11657,24,11670,null,null,null,null,0,222]
[21,11777,22,11780,13,11791,null,null,null,null,0,221]
[21,11890,11,11901,22,11909,null,null,null,null,0,212]
[12,12005,24,12015,13,12026,null,null,null,null,0,121]
[21,12130,22,12134,13,12145,null,null,null,null,0,221]
[21,12242,22,12246,13,12258,null,null,null,null,0,221]
[21,12357,22,12361,24,12365,null,null,null,null,0,222]
[21,12464,22,12468,24,12472,null,null,null,null,0,222]
[12,12584,13,12598,24,12612,null,null,null,null,0,112]
[21,12710,11,12728,22,12736,null,null,null,null,0,212]
[21,12836,22,12840,13,12848,null,null,null,null,0,221]
[12,12956,24,12966,13,12983,null,null,null,null,0,121]
[21,13086,22,13091,24,13095,null,null,null,null,0,222]
[12,13200,24,13207,13,13217,null,null,null,null,0,121]
[21,13319,22,13324,24,13329,null,null,null,null,0,222]
[21,13421,22,13433,24,13440,null,null,null,null,0,222]
[12,13569,24,13576,24,13593,null,null,null,null,0,122]
[21,13695,22,13699,24,13703,null,null,null,null,0,222]
[21,13813,22,13819,24,13823,null,null,null,null,0,222]
[21,13928,11,13936,22,13943,null,null,null,null,0,212]
[21,14041,22,14045,24,14050,null,null,null,null,0,222]
[21,14150,22,14154,24,14158,null,null,null,null,0,222]
[21,14256,22,14260,24,14264,null,null,null,null,0,222]
[21,14364,22,14368,24,14372,null,null,null,null,0,222]
[21,14476,22,14480,13,14488,null,null,null,null,0,221]
[12,14597,24,14605,24,14613,null,null,null,null,0,122]
[21,14706,22,14710,24,14715,null,null,null,null,0,222]
[21,14814,22,14819,24,14824,null,null,null,null,0,222]
[12,14927,24,14934,24,14940,null,null,null,null,0,122]
[21,15047,22,15063,24,15071,null,null,null,null,0,222]
[21,15172,22,15176,24,15182,null,null,null,null,0,222]
[21,15280,22,15283,13,15296,null,null,null,null,0,221]
[21,15398,22,15415,24,15425,null,null,null,null,0,222]
[21,15524,22,15540,13,15549,null,null,null,null,0,221]
[21,15649,22,15653,13,15660,null,null,null,null,0,221]
[21,15759,22,15762,24,15767,null,null,null,null,0,222]
[21,15866,11,15875,22,15882,null,null,null,null,0,212]
[21,15977,11,15987,11,15998,null,null,null,null,0,211]
[21,16096,11,16113,22,16120,null,null,null,null,0,212]
[21,16220,11,16230,22,16238,null,null,null,null,0,212]
[21,16335,11,16346,22,16355,null,null,null,null,0,212]
[21,16457,22,16463,24,16469,null,null,null,null,0,222]
[21,16575,22,16579,24,16585,null,null,null,null,0,222]
[21,16682,22,16695,13,16704,null,null,null,null,0,221]
[21,16806,22,16811,24,16815,null,null,null,null,0,222]
[21,16912,22,16919,24,16923,null,null,null,null,0,222]
[21,17025,22,17029,24,17033,null,null,null,null,0,222]
[21,17133,22,17137,24,17144,null,null,null,null,0,222]
[21,17246,22,17250,24,17254,null,null,null,null,0,222]
[21,17354,22,17358,24,17362,null,null,null,null,0,222]
[21,17465,22,17470,13,17480,null,null,null,null,0,221]
[21,17579,22,17582,24,17586,null,null,null,null,0,222]
[21,17686,11,17696,22,17704,null,null,null,null,0,212]
[21,17804,11,17813,22,17821,null,null,null,null,0,212]
[12,17928,24,17937,13,17946,null,null,null,null,0,121]
[21,18043,22,18047,24,18051,null,null,null,null,0,222]
[21,18152,22,18155,24,18159,null,null,null,null,0,222]
[21,18253,22,18257,24,18261,null,null,null,null,0,222]
[21,18358,22,18362,13,18370,null,null,null,null,0,221]
[21,18470,22,18474,24,18478,null,null,null,null,0,222]
[21,18575,22,18580,24,18584,null,null,null,null,0,222]
[12,18685,24,18692,24,18703,null,null,null,null,0,122]
[21,18803,22,18807,24,18810,null,null,null,null,0,222]
[12,18910,24,18918,24,18923,null,null,null,null,0,122]
[12,19021,24,19031,24,19035,null,null,null,null,0,122]
[12,19134,24,19142,24,19148,null,null,null,null,0,122]
[21,19247,22,19257,24,19264,null,null,null,null,0,222]
[21,19357,22,19367,13,19377,null,null,null,null,0,221]
[21,19480,22,19484,24,19488,null,null,null,null,0,222]
[12,19587,13,19599,24,19607,null,null,null,null,0,112]
[12,19715,24,19722,24,19728,null,null,null,null,0,122]
[21,19828,22,19832,24,19836,null,null,null,null,0,222]
[21,19942,22,19949,24,19954,null,null,null,null,0,222]
[21,20059,11,20070,22,20080,null,null,null,null,0,212]
[21,20179,22,20190,13,20200,null,null,null,null,0,221]
[21,20306,22,20312,24,20318,null,null,null,null,0,222]
[12,20419,24,20427,24,20431,null,null,null,null,0,122]
[21,20528,22,20540,13,20548,null,null,null,null,0,221]
[21,20648,22,20652,24,20657,null,null,null,null,0,222]
[21,20770,22,20777,24,20782,null,null,null,null,0,222]
[21,20887,22,20892,24,20895,null,null,null,null,0,222]
[12,20996,24,21005,24,21010,null,null,null,null,0,122]
[21,21109,22,21117,24,21121,null,null,null,null,0,222]
[12,21218,13,21225,13,21238,null,null,null,null,0,111]
[21,21340,22,21343,24,21349,null,null,null,null,0,222]
[21,21447,22,21458,24,21463,null,null,null,null,0,222]
[12,21561,24,21582,24,21588,null,null,null,null,0,122]
[21,21690,22,21698,24,21702,null,null,null,null,0,222]
[12,21813,24,21821,24,21825,null,null,null,null,0,122]
[21,21924,11,21934,22,21942,null,null,null,null,0,212]
[21,22047,22,22053,13,22061,null,null,null,null,0,221]
[12,22163,24,22171,13,22181,null,null,null,null,0,121]
[12,22279,24,22286,13,22294,null,null,null,null,0,121]
[12,22391,13,22396,13,22400,null,null,null,null,0,111]
[21,22502,22,22507,24,22511,null,null,null,null,0,222]
[21,22615,22,22621,24,22626,null,null,null,null,0,222]
[21,22725,22,22729,24,22732,null,null,null,null,0,222]
[21,22838,11,22848,22,22856,null,null,null,null,0,212]
[21,22955,11,22963,22,22970,null,null,null,null,0,212]
[21,23081,22,23086,24,23092,null,null,null,null,0,222]
[21,23199,22,23204,24,23210,null,null,null,null,0,222]
[12,23312,24,23320,24,23324,null,null,null,null,0,122]
[12,23430,24,23437,13,23454,null,null,null,null,0,121]
[12,23552,13,23556,24,23564,null,null,null,null,0,112]
[21,23673,22,23677,24,23681,null,null,null,null,0,222]
[21,23777,22,23790,13,23800,null,null,null,null,0,221]
[12,23903,24,23911,13,23918,null,null,null,null,null,121]

{"sheet":"!MC03830.096","index":6,"n_rows":214,"n_cols":48,"rows_kept":214,"cut":false,"hidden":false,"merged":[[4,39,4,42],[5,39,5,40],[4,44,4,47],[5,44,5,45],[4,24,4,27],[5,24,5,25],[4,29,4,32],[5,29,5,30],[4,34,4,37],[5,34,5,35],[1,1,1,2],[5,13,5,14],[18,13,18,14],[19,13,19,14],[4,19,4,22],[5,19,5,20]]}
["Report for:!MC03830.096"]
["Date:","<date>"]
["Hen:","<hen>",null,null,null,"Correct Sequence",{"$f":"Start!J2","v":211},null,null,null,null,null,null,null,null,"Total Sequences in Data",{"$f":"4994-COUNTBLANK(L7:L5000)","v":208},null,null,null,null,"Total Sequences in Block Data",{"$f":"COUNTA(L7:L41)","v":35},null,null,null,"Total Sequences in Block Data",{"$f":"COUNTA(L42:L75)","v":34},null,null,null,"Total Sequences in Block Data",{"$f":"COUNTA(L76:L110)","v":35},null,null,null,"Total Sequences in Block Data",{"$f":"COUNTA(L111:L145)","v":35},null,null,null,"Total Sequences in Block Data",{"$f":"COUNTA(L146:L179)","v":34},null,null,null,"Total Sequences in Block Data",{"$f":"COUNTA(L180:L214)","v":35}]
[null,null,null,null,null,null,null,null,null,null,null,null,null,null,null,"Total Sequences in Summary",{"$f":"SUM(O7:O14)","v":208},null,null,null,null,"Total Sequences in Block Summary",{"$f":"SUM(U7:U14)","v":35},null,null,null,"Total Sequences in Block Summary",{"$f":"SUM(Z7:Z14)","v":34},null,null,null,"Total Sequences in Block Summary",{"$f":"SUM(AE7:AE14)","v":35},null,null,null,"Total Sequences in Block Summary",{"$f":"SUM(AJ7:AJ14)","v":35},null,null,null,"Total Sequences in Block Summary",{"$f":"SUM(AO7:AO14)","v":34},null,null,null,"Total Sequences in Block Summary",{"$f":"SUM(AT7:AT14)","v":35}]
[null,null,null,null,null,null,null,null,null,null,null,null,null,null,null,null,null,null,null,"Block 1",null,null,null,null,"Block 2",null,null,null,null,"Block 3",null,null,null,null,"Block 4",null,null,null,null,"Block 5",null,null,null,null,"Block 6"]
["Sequence\nComponent\n1","Time\n1","Sequence\nComponent\n2","Time\n2","Sequence\nComponent\n3","Time\n3","Sequence\nComponent\n4","Time\n4","Sequence\nComponent\n5","Time\n5","Correct?\n0=No 1=Yes","Sequence",null,"Frequency",null,"Relative Frequency","Variability",null,null,"Frequency",null,"Relative Frequency","Variability",null,"Frequency",null,"Relative Frequency","Variability",null,"Frequency",null,"Relative Frequency","Variability",null,"Frequency",null,"Relative Frequency","Variability",null,"Frequency",null,"Relative Frequency","Variability",null,"Frequency",null,"Relative Frequency","Variability"]
[21,14,22,30,24,35,null,null,null,null,0,222,null,111,{"$f":"COUNTIF($L$7:$L$500,N7)","v":1},{"$f":"O7/$Q$4","v":4.807692307692308E-3},{"$f":"IF(P7=0,0,(P7*((LOG(P7))/LOG(2))))","v":-3.7021344798755254E-2},null,null,{"$f":"N7","v":111},{"$f":"COUNTIF(L7:L41,T7)","v":1},{"$f":"U7/(W4-U11)","v":2.9411764705882353E-2},{"$f":"IF(V7=0,0,(V7*((LOG(V7))/LOG(2))))","v":-0.14963126003677468},null,{"$f":"N7","v":111},{"$f":"COUNTIF(L42:L75,Y7)","v":0},{"$f":"Z7/(AB4-Z11)","v":0},{"$f":"IF(AA7=0,0,(AA7*((LOG(AA7))/LOG(2))))","v":0},null,{"$f":"N7","v":111},{"$f":"COUNTIF(L76:L110,AD7)","v":0},{"$f":"AE7/(AG4-AE11)","v":0},{"$f":"IF(AF7=0,0,(AF7*((LOG(AF7))/LOG(2))))","v":0},null,{"$f":"N7","v":111},{"$f":"COUNTIF(L111:L145,AI7)","v":0},{"$f":"AJ7/(AL4-AJ11)","v":0},{"$f":"IF(AK7=0,0,(AK7*((LOG(AK7))/LOG(2))))","v":0},null,{"$f":"N7","v":111},{"$f":"COUNTIF(L146:L179,AN7)","v":0},{"$f":"AO7/(AQ4-AO11)","v":0},{"$f":"IF(AP7=0,0,(AP7*((LOG(AP7))/LOG(2))))","v":0},null,{"$f":"N7","v":111},{"$f":"COUNTIF(L180:L214,AS7)","v":0},{"$f":"AT7/(AV4-AT11)","v":0},{"$f":"IF(AU7=0,0,(AU7*((LOG(AU7))/LOG(2))))","v":0}]
[21,141,22,145,24,150,null,null,null,null,0,222,null,112,{"$f":"COUNTIF($L$7:$L$500,N8)","v":12},{"$f":"O8/$Q$4","v":5.7692307692307696E-2},{"$f":"IF(P8=0,0,(P8*((LOG(P8))/LOG(2))))","v":-0.23743137792807323},null,null,{"$f":"N8","v":112},{"$f":"COUNTIF(L7:L41,T8)","v":0},{"$f":"U8/(W4-U11)","v":0},{"$f":"IF(V8=0,0,(V8*((LOG(V8))/LOG(2))))","v":0},null,{"$f":"N8","v":112},{"$f":"COUNTIF(L42:L75,Y8)","v":0},{"$f":"Z8/(AB4-Z11)","v":0},{"$f":"IF(AA8=0,0,(AA8*((LOG(AA8))/LOG(2))))","v":0},null,{"$f":"N8","v":112},{"$f":"COUNTIF(L76:L110,AD8)","v":1},{"$f":"AE8/(AG4-AE11)","v":2.8571428571428571E-2},{"$f":"IF(AF8=0,0,(AF8*((LOG(AF8))/LOG(2))))","v":-0.14655094334128474},null,{"$f":"N8","v":112},{"$f":"COUNTIF(L111:L145,AI8)","v":3},{"$f":"AJ8/(AL4-AJ11)","v":8.5714285714285715E-2},{"$f":"IF(AK8=0,0,(AK8*((LOG(AK8))/LOG(2))))","v":-0.30379890139061233},null,{"$f":"N8","v":112},{"$f":"COUNTIF(L146:L179,AN8)","v":1},{"$f":"AO8/(AQ4-AO11)","v":2.9411764705882353E-2},{"$f":"IF(AP8=0,0,(AP8*((LOG(AP8))/LOG(2))))","v":-0.14963126003677468},null,{"$f":"N8","v":112},{"$f":"COUNTIF(L180:L214,AS8)","v":7},{"$f":"AT8/(AV4-AT11)","v":0.2},{"$f":"IF(AU8=0,0,(AU8*((LOG(AU8))/LOG(2))))","v":-0.46438561897747244}]
[12,263,24,275,24,286,null,null,null,null,0,122,null,121,{"$f":"COUNTIF($L$7:$L$500,N9)","v":13},{"$f":"O9/$Q$4","v":6.25E-2},{"$f":"IF(P9=0,0,(P9*((LOG(P9))/LOG(2))))","v":-0.25},null,null,{"$f":"N9","v":121},{"$f":"COUNTIF(L7:L41,T9)","v":2},{"$f":"U9/(W4-U11)","v":5.8823529411764705E-2},{"$f":"IF(V9=0,0,(V9*((LOG(V9))/LOG(2))))","v":-0.24043899066178465},null,{"$f":"N9","v":121},{"$f":"COUNTIF(L42:L75,Y9)","v":1},{"$f":"Z9/(AB4-Z11)","v":2.9411764705882353E-2},{"$f":"IF(AA9=0,0,(AA9*((LOG(AA9))/LOG(2))))","v":-0.14963126003677468},null,{"$f":"N9","v":121},{"$f":"COUNTIF(L76:L110,AD9)","v":3},{"$f":"AE9/(AG4-AE11)","v":8.5714285714285715E-2},{"$f":"IF(AF9=0,0,(AF9*((LOG(AF9))/LOG(2))))","v":-0.30379890139061233},null,{"$f":"N9","v":121},{"$f":"COUNTIF(L111:L145,AI9)","v":2},{"$f":"AJ9/(AL4-AJ11)","v":5.7142857142857141E-2},{"$f":"IF(AK9=0,0,(AK9*((LOG(AK9))/LOG(2))))","v":-0.23595902953971234},null,{"$f":"N9","v":121},{"$f":"COUNTIF(L146:L179,AN9)","v":2},{"$f":"AO9/(AQ4-AO11)","v":5.8823529411764705E-2},{"$f":"IF(AP9=0,0,(AP9*((LOG(AP9))/LOG(2))))","v":-0.24043899066178465},null,{"$f":"N9","v":121},{"$f":"COUNTIF(L180:L214,AS9)","v":3},{"$f":"AT9/(AV4-AT11)","v":8.5714285714285715E-2},{"$f":"IF(AU9=0,0,(AU9*((LOG(AU9))/LOG(2))))","v":-0.30379890139061233}]
[12,380,13,385,13,389,null,null,null,null,0,111,null,122,{"$f":"COUNTIF($L$7:$L$500,N10)","v":82},{"$f":"O10/$Q$4","v":0.39423076923076922},{"$f":"IF(P10=0,0,(P10*((LOG(P10))/LOG(2))))","v":-0.52940765629272446},null,null,{"$f":"N10","v":122},{"$f":"COUNTIF(L7:L41,T10)","v":7},{"$f":"U10/(W4-U11)","v":0.20588235294117646},{"$f":"IF(V10=0,0,(V10*((LOG(V10))/LOG(2))))","v":-0.46943398336321018},null,{"$f":"N10","v":122},{"$f":"COUNTIF(L42:L75,Y10)","v":5},{"$f":"Z10/(AB4-Z11)","v":0.14705882352941177},{"$f":"IF(AA10=0,0,(AA10*((LOG(AA10))/LOG(2))))","v":-0.40669628622984955},null,{"$f":"N10","v":122},{"$f":"COUNTIF(L76:L110,AD10)","v":12},{"$f":"AE10/(AG4-AE11)","v":0.34285714285714286},{"$f":"IF(AF10=0,0,(AF10*((LOG(AF10))/LOG(2))))","v":-0.52948131984816349},null,{"$f":"N10","v":122},{"$f":"COUNTIF(L111:L145,AI10)","v":15},{"$f":"AJ10/(AL4-AJ11)","v":0.42857142857142855},{"$f":"IF(AK10=0,0,(AK10*((LOG(AK10))/LOG(2))))","v":-0.52388246628704915},null,{"$f":"N10","v":122},{"$f":"COUNTIF(L146:L179,AN10)","v":23},{"$f":"AO10/(AQ4-AO11)","v":0.67647058823529416},{"$f":"IF(AP10=0,0,(AP10*((LOG(AP10))/LOG(2))))","v":-0.38146236351313262},null,{"$f":"N10","v":122},{"$f":"COUNTIF(L180:L214,AS10)","v":20},{"$f":"AT10/(AV4-AT11)","v":0.5714285714285714},{"$f":"IF(AU10=0,0,(AU10*((LOG(AU10))/LOG(2))))","v":-0.46134566974720237}]
[21,491,22,497,24,502,null,null,null,null,0,222,null,211,{"$f":"COUNTIF($L$7:$L$500,N11)","v":1},{"$f":"O11/$Q$4","v":4.807692307692308E-3},{"$f":"IF(P11=0,0,(P11*((LOG(P11))/LOG(2))))","v":-3.7021344798755254E-2},null,null,{"$f":"N11","v":211},{"$f":"COUNTIF(L7:L41,T11)","v":1},null,null,null,{"$f":"N11","v":211},{"$f":"COUNTIF(L42:L75,Y11)","v":0},null,null,null,{"$f":"N11","v":211},{"$f":"COUNTIF(L76:L110,AD11)","v":0},null,null,null,{"$f":"N11","v":211},{"$f":"COUNTIF(L111:L145,AI11)","v":0},null,null,null,{"$f":"N11","v":211},{"$f":"COUNTIF(L146:L179,AN11)","v":0},null,null,null,{"$f":"N11","v":211},{"$f":"COUNTIF(L180:L214,AS11)","v":0}]
[21,607,22,614,13,624,null,null,null,null,0,221,null,212,{"$f":"COUNTIF($L$7:$L$500,N12)","v":19},{"$f":"O12/$Q$4","v":9.1346153846153841E-2},{"$f":"IF(P12=0,0,(P12*((LOG(P12))/LOG(2))))","v":-0.31537371100602224},null,null,{"$f":"N12","v":212},{"$f":"COUNTIF(L7:L41,T12)","v":6},{"$f":"U12/(W4-U11)","v":0.17647058823529413},{"$f":"IF(V12=0,0,(V12*((LOG(V12))/LOG(2))))","v":-0.44161770715220888},null,{"$f":"N12","v":212},{"$f":"COUNTIF(L42:L75,Y12)","v":4},{"$f":"Z12/(AB4-Z11)","v":0.11764705882352941},{"$f":"IF(AA12=0,0,(AA12*((LOG(AA12))/LOG(2))))","v":-0.36323092250003997},null,{"$f":"N12","v":212},{"$f":"COUNTIF(L76:L110,AD12)","v":3},{"$f":"AE12/(AG4-AE11)","v":8.5714285714285715E-2},{"$f":"IF(AF12=0,0,(AF12*((LOG(AF12))/LOG(2))))","v":-0.30379890139061233},null,{"$f":"N12","v":212},{"$f":"COUNTIF(L111:L145,AI12)","v":1},{"$f":"AJ12/(AL4-AJ11)","v":2.8571428571428571E-2},{"$f":"IF(AK12=0,0,(AK12*((LOG(AK12))/LOG(2))))","v":-0.14655094334128474},null,{"$f":"N12","v":212},{"$f":"COUNTIF(L146:L179,AN12)","v":3},{"$f":"AO12/(AQ4-AO11)","v":8.8235294117647065E-2},{"$f":"IF(AP12=0,0,(AP12*((LOG(AP12))/LOG(2))))","v":-0.30904414769375149},null,{"$f":"N12","v":212},{"$f":"COUNTIF(L180:L214,AS12)","v":2},{"$f":"AT12/(AV4-AT11)","v":5.7142857142857141E-2},{"$f":"IF(AU12=0,0,(AU12*((LOG(AU12))/LOG(2))))","v":-0.23595902953971234}]
[21,730,22,734,24,738,null,null,null,null,0,222,null,221,{"$f":"COUNTIF($L$7:$L$500,N13)","v":7},{"$f":"O13/$Q$4","v":3.3653846153846152E-2},{"$f":"IF(P13=0,0,(P13*((LOG(P13))/LOG(2))))","v":-0.16467112294511738},null,null,{"$f":"N13","v":221},{"$f":"COUNTIF(L7:L41,T13)","v":4},{"$f":"U13/(W4-U11)","v":0.11764705882352941},{"$f":"IF(V13=0,0,(V13*((LOG(V13))/LOG(2))))","v":-0.36323092250003997},null,{"$f":"N13","v":221},{"$f":"COUNTIF(L42:L75,Y13)","v":2},{"$f":"Z13/(AB4-Z11)","v":5.8823529411764705E-2},{"$f":"IF(AA13=0,0,(AA13*((LOG(AA13))/LOG(2))))","v":-0.24043899066178465},null,{"$f":"N13","v":221},{"$f":"COUNTIF(L76:L110,AD13)","v":0},{"$f":"AE13/(AG4-AE11)","v":0},{"$f":"IF(AF13=0,0,(AF13*((LOG(AF13))/LOG(2))))","v":0},null,{"$f":"N13","v":221},{"$f":"COUNTIF(L111:L145,AI13)","v":1},{"$f":"AJ13/(AL4-AJ11)","v":2.8571428571428571E-2},{"$f":"IF(AK13=0,0,(AK13*((LOG(AK13))/LOG(2))))","v":-0.14655094334128474},null,{"$f":"N13","v":221},{"$f":"COUNTIF(L146:L179,AN13)","v":0},{"$f":"AO13/(AQ4-AO11)","v":0},{"$f":"IF(AP13=0,0,(AP13*((LOG(AP13))/LOG(2))))","v":0},null,{"$f":"N13","v":221},{"$f":"COUNTIF(L180:L214,AS13)","v":0},{"$f":"AT13/(AV4-AT11)","v":0},{"$f":"IF(AU13=0,0,(AU13*((LOG(AU13))/LOG(2))))","v":0}]
[21,834,22,838,24,842,null,null,null,null,0,222,null,222,{"$f":"COUNTIF($L$7:$L$500,N14)","v":73},{"$f":"O14/$Q$4","v":0.35096153846153844},{"$f":"IF(P14=0,0,(P14*((LOG(P14))/LOG(2))))","v":-0.5301678203175888},null,null,{"$f":"N14","v":222},{"$f":"COUNTIF(L7:L41,T14)","v":14},{"$f":"U14/(W4-U11)","v":0.41176470588235292},{"$f":"IF(V14=0,0,(V14*((LOG(V14))/LOG(2))))","v":-0.52710326084406744},null,{"$f":"N14","v":222},{"$f":"COUNTIF(L42:L75,Y14)","v":22},{"$f":"Z14/(AB4-Z11)","v":0.6470588235294118},{"$f":"IF(AA14=0,0,(AA14*((LOG(AA14))/LOG(2))))","v":-0.40637314404373309},null,{"$f":"N14","v":222},{"$f":"COUNTIF(L76:L110,AD14)","v":16},{"$f":"AE14/(AG4-AE11)","v":0.45714285714285713},{"$f":"IF(AF14=0,0,(AF14*((LOG(AF14))/LOG(2))))","v":-0.51624366488912754},null,{"$f":"N14","v":222},{"$f":"COUNTIF(L111:L145,AI14)","v":13},{"$f":"AJ14/(AL4-AJ11)","v":0.37142857142857144},{"$f":"IF(AK14=0,0,(AK14*((LOG(AK14))/LOG(2))))","v":-0.53071322527001041},null,{"$f":"N14","v":222},{"$f":"COUNTIF(L146:L179,AN14)","v":5},{"$f":"AO14/(AQ4-AO11)","v":0.14705882352941177},{"$f":"IF(AP14=0,0,(AP14*((LOG(AP14))/LOG(2))))","v":-0.40669628622984955},null,{"$f":"N14","v":222},{"$f":"COUNTIF(L180:L214,AS14)","v":3},{"$f":"AT14/(AV4-AT11)","v":8.5714285714285715E-2},{"$f":"IF(AU14=0,0,(AU14*((LOG(AU14))/LOG(2))))","v":-0.30379890139061233}]
[21,940,22,953,24,961,null,null,null,null,0,222,null,null,null,{"$f":"SUM(P7:P14)","v":0.99999999999999989},{"$f":"-SUM(Q7:Q14)","v":2.1010943780870366},null,null,null,null,{"$f":"SUM(V7:V14)","v":1},{"$f":"-SUM(W7:W14)","v":2.1914561245580861},null,null,null,{"$f":"SUM(AA7:AA14)","v":1},{"$f":"-SUM(AB7:AB14)","v":1.5663706034721818},null,null,null,{"$f":"SUM(AF7:AF14)","v":1},{"$f":"-SUM(AG7:AG14)","v":1.7998737308598005},null,null,null,{"$f":"SUM(AK7:AK14)","v":1},{"$f":"-SUM(AL7:AL14)","v":1.8874555091699539},null,null,null,{"$f":"SUM(AP7:AP14)","v":1},{"$f":"-SUM(AQ7:AQ14)","v":1.4872730481352929},null,null,null,{"$f":"SUM(AU7:AU14)","v":1},{"$f":"-SUM(AV7:AV14)","v":1.7692881210456117}]
[21,1074,22,1079,24,1084,null,null,null,null,0,222,null,null,null,"U=",{"$f":"Q15/(LOG(Q4)/LOG(2))","v":0.27285381809264353},null,null,null,null,"U1=",{"$f":"W15/(LOG(W4)/LOG(2))","v":0.427244142566992},null,null,null,"U2=",{"$f":"AB15/(LOG(AB4)/LOG(2))","v":0.30788836250000345},null,null,null,"U3=",{"$f":"AG15/(LOG(AG4)/LOG(2))","v":0.35090162210074671},null,null,null,"U4=",{"$f":"AL15/(LOG(AL4)/LOG(2))","v":0.36797647993581262},null,null,null,"U5=",{"$f":"AQ15/(LOG(AQ4)/LOG(2))","v":0.29234081791735855},null,null,null,"U6=",{"$f":"AV15/(LOG(AV4)/LOG(2))","v":0.34493868152734747}]
[12,1203,24,1217,24,1224,null,null,null,null,0,122]
[12,1333,24,1343,13,1353,null,null,null,null,0,121]
[12,1463,24,1474,24,1481,null,null,null,null,0,122,null,"Total Target Seq"]
[12,1582,24,1595,24,1602,null,null,null,null,0,122,null,{"$f":"COUNTIF(L7:L214,G3)","v":1},null,35,34,35,35,34,35]
[21,1706,22,1711,13,1721,null,null,null,null,0,221,null,null,null,"% of reinforcement given in 6 equal intervals based on number of trials "]
[21,1823,11,1832,11,1847,null,null,null,null,0,211,null,null,null,"%_1","%_2","%_3","%_4","%_5","%_6"]
[21,1959,22,1963,13,1972,null,null,null,null,0,221,null,null,"target sequence",{"$f":"$G$3","v":211},{"$f":"$G$3","v":211},{"$f":"$G$3","v":211},{"$f":"$G$3","v":211},{"$f":"$G$3","v":211},{"$f":"$G$3","v":211}]
[12,2084,24,2096,24,2104,null,null,null,null,0,122,null,null,"total reinforcement",{"$f":"U11","v":1},{"$f":"Z11","v":0},{"$f":"AE11","v":0},{"$f":"AJ11","v":0},{"$f":"AO11","v":0},{"$f":"AT11","v":0}]
[21,2202,11,2219,22,2231,null,null,null,null,0,212,null,null,"% target"]
[21,2330,11,2338,22,2348,null,null,null,null,0,212,null,null,"CCRF"]
[21,2448,11,2459,22,2469,null,null,null,null,0,212,null,null,"% CCRf"]
[21,2569,22,2576,24,2580,null,null,null,null,0,222,null,null,"average response rate",{"$f":"F41/P20","v":117.82857142857142},{"$f":"(F75-F41)/Q20","v":116},{"$f":"(F110-F75)/R20","v":118.8},{"$f":"(F145-F110)/S20","v":114.42857142857143},{"$f":"(F179-F145)/T20","v":111.23529411764706},{"$f":"(F214-F179)/U20","v":113.71428571428571}]
[12,2689,24,2697,13,2709,null,null,null,null,0,121]
[21,2814,11,2824,22,2833,null,null,null,null,0,212]
[21,2930,11,2940,22,2948,null,null,null,null,0,212]
[21,3056,22,3060,24,3067,null,null,null,null,0,222]
[12,3177,24,3185,24,3190,null,null,null,null,0,122]
[21,3291,11,3301,22,3309,null,null,null,null,0,212]
[21,3403,22,3407,24,3423,null,null,null,null,0,222]
[21,3531,22,3536,24,3544,null,null,null,null,0,222]
[21,3644,22,3655,13,3665,null,null,null,null,0,221]
[21,3765,22,3769,24,3773,null,null,null,null,0,222]
[21,3875,22,3879,24,3883,null,null,null,null,0,222]
[12,3997,24,4004,24,4012,null,null,null,null,0,122]
[21,4114,22,4119,24,4124,null,null,null,null,0,222]
[12,4236,24,4242,24,4250,null,null,null,null,0,122]
[21,4354,11,4365,22,4372,null,null,null,null,0,212]
[21,4472,22,4477,24,4482,null,null,null,null,0,222]
[12,4594,24,4601,24,4607,null,null,null,null,0,122]
[21,4717,22,4724,24,4728,null,null,null,null,0,222]
[21,4828,22,4832,24,4837,null,null,null,null,0,222]
[12,4952,24,4961,13,4971,null,null,null,null,0,121]
[21,5069,22,5073,24,5078,null,null,null,null,0,222]
[21,5173,22,5177,13,5188,null,null,null,null,0,221]
[21,5287,22,5291,24,5295,null,null,null,null,0,222]
[21,5402,22,5408,24,5413,null,null,null,null,0,222]
[21,5512,22,5516,24,5520,null,null,null,null,0,222]
[21,5622,22,5626,24,5630,null,null,null,null,0,222]
[12,5743,24,5750,24,5757,null,null,null,null,0,122]
[21,5864,22,5868,24,5872,null,null,null,null,0,222]
[21,5975,22,5989,24,5996,null,null,null,null,0,222]
[21,6096,22,6104,13,6116,null,null,null,null,0,221]
[21,6217,22,6220,24,6224,null,null,null,null,0,222]
[21,6327,11,6337,22,6343,null,null,null,null,0,212]
[21,6448,22,6452,24,6458,null,null,null,null,0,222]
[21,6564,22,6568,24,6572,null,null,null,null,0,222]
[21,6678,22,6682,24,6689,null,null,null,null,0,222]
[21,6794,22,6798,24,6802,null,null,null,null,0,222]
[21,6917,22,6922,24,6926,null,null,null,null,0,222]
[21,7027,22,7030,24,7034,null,null,null,null,0,222]
[21,7134,22,7143,24,7147,null,null,null,null,0,222]
[21,7249,22,7253,24,7257,null,null,null,null,0,222]
[21,7366,22,7373,24,7378,null,null,null,null,0,222]
[21,7487,22,7491,24,7495,null,null,null,null,0,222]
[12,7596,24,7604,24,7609,null,null,null,null,0,122]
[21,7711,11,7721,22,7728,null,null,null,null,0,212]
[21,7826,11,7835,22,7842,null,null,null,null,0,212]
[21,7941,22,7945,24,7949,null,null,null,null,0,222]
[12,8056,24,8063,24,8068,null,null,null,null,0,122]
[21,8169,22,8173,24,8176,null,null,null,null,0,222]
[12,8293,24,8300,24,8306,null,null,null,null,0,122]
[21,8413,22,8417,24,8421,null,null,null,null,0,222]
[12,8536,24,8543,24,8547,null,null,null,null,0,122]
[12,8655,24,8661,24,8668,null,null,null,null,0,122]
[12,8778,24,8785,24,8792,null,null,null,null,0,122]
[12,8890,24,8912,24,8916,null,null,null,null,0,122]
[21,9018,22,9023,24,9027,null,null,null,null,0,222]
[21,9141,11,9150,22,9157,null,null,null,null,0,212]
[21,9255,22,9261,24,9267,null,null,null,null,0,222]
[21,9360,22,9369,24,9375,null,null,null,null,0,222]
[12,9478,24,9485,24,9489,null,null,null,null,0,122]
[12,9597,24,9604,13,9618,null,null,null,null,0,121]
[21,9728,22,9734,24,9738,null,null,null,null,0,222]
[21,9842,22,9846,24,9853,null,null,null,null,0,222]
[12,9969,24,9976,24,9982,null,null,null,null,0,122]
[21,10087,22,10091,24,10094,null,null,null,null,0,222]
[12,10205,24,10211,24,10219,null,null,null,null,0,122]
[21,10316,22,10320,24,10324,null,null,null,null,0,222]
[21,10433,11,10442,22,10449,null,null,null,null,0,212]
[21,10548,22,10552,24,10556,null,null,null,null,0,222]
[12,10665,24,10671,13,10682,null,null,null,null,0,121]
[21,10792,11,10802,22,10809,null,null,null,null,0,212]
[21,10904,22,10908,24,10912,null,null,null,null,0,222]
[21,11024,22,11029,24,11033,null,null,null,null,0,222]
[12,11146,24,11154,13,11166,null,null,null,null,0,121]
[21,11274,22,11286,24,11292,null,null,null,null,0,222]
[12,11390,13,11402,24,11410,null,null,null,null,0,112]
[21,11523,22,11527,24,11531,null,null,null,null,0,222]
[12,11630,24,11658,24,11661,null,null,null,null,0,122]
[21,11765,22,11769,24,11777,null,null,null,null,0,222]
[12,11880,24,11887,24,11891,null,null,null,null,0,122]
[21,11985,22,11989,24,11997,null,null,null,null,0,222]
[12,12098,24,12106,24,12110,null,null,null,null,0,122]
[12,12214,24,12221,24,12226,null,null,null,null,0,122]
[12,12325,24,12332,24,12337,null,null,null,null,0,122]
[12,12438,13,12449,24,12456,null,null,null,null,0,112]
[21,12553,22,12557,24,12569,null,null,null,null,0,222]
[12,12670,24,12677,24,12682,null,null,null,null,0,122]
[21,12787,22,12790,24,12794,null,null,null,null,0,222]
[12,12893,13,12897,24,12907,null,null,null,null,0,112]
[21,13010,22,13015,24,13019,null,null,null,null,0,222]
[12,13121,24,13132,24,13135,null,null,null,null,0,122]
[12,13234,24,13241,24,13246,null,null,null,null,0,122]
[21,13342,22,13350,24,13355,null,null,null,null,0,222]
[12,13454,24,13462,24,13467,null,null,null,null,0,122]
[21,13569,22,13572,24,13576,null,null,null,null,0,222]
[12,13678,24,13685,24,13689,null,null,null,null,0,122]
[12,13790,24,13796,24,13803,null,null,null,null,0,122]
[21,13907,22,13914,24,13918,null,null,null,null,0,222]
[12,14021,24,14029,24,14034,null,null,null,null,0,122]
[12,14137,24,14144,13,14154,null,null,null,null,0,121]
[12,14264,24,14271,24,14277,null,null,null,null,0,122]
[12,14382,24,14386,24,14393,null,null,null,null,0,122]
[21,14502,22,14507,24,14511,null,null,null,null,0,222]
[12,14610,13,14613,24,14621,null,null,null,null,0,112]
[12,14719,24,14727,24,14731,null,null,null,null,0,122]
[21,14847,22,14851,24,14856,null,null,null,null,0,222]
[21,14958,22,14961,24,14965,null,null,null,null,0,222]
[12,15063,24,15069,24,15074,null,null,null,null,0,122]
[21,15182,22,15196,24,15202,null,null,null,null,0,222]
[21,15298,11,15308,22,15314,null,null,null,null,0,212]
[21,15407,22,15412,13,15423,null,null,null,null,0,221]
[12,15526,24,15534,13,15545,null,null,null,null,0,121]
[21,15646,22,15650,24,15654,null,null,null,null,0,222]
[21,15759,22,15763,24,15770,null,null,null,null,0,222]
[12,15869,24,15875,24,15880,null,null,null,null,0,122]
[12,15980,24,15988,24,15991,null,null,null,null,0,122]
[21,16092,22,16097,24,16104,null,null,null,null,0,222]
[12,16201,24,16227,24,16231,null,null,null,null,0,122]
[12,16334,24,16342,24,16346,null,null,null,null,0,122]
[21,16451,11,16461,22,16468,null,null,null,null,0,212]
[21,16571,22,16575,24,16579,null,null,null,null,0,222]
[12,16677,24,16684,13,16691,null,null,null,null,0,121]
[12,16791,24,16798,24,16802,null,null,null,null,0,122]
[12,16901,24,16908,24,16913,null,null,null,null,0,122]
[12,17010,24,17017,13,17028,null,null,null,null,0,121]
[21,17138,22,17142,24,17148,null,null,null,null,0,222]
[21,17256,22,17260,24,17264,null,null,null,null,0,222]
[12,17362,24,17369,24,17374,null,null,null,null,0,122]
[12,17473,24,17478,24,17482,null,null,null,null,0,122]
[12,17580,24,17591,24,17596,null,null,null,null,0,122]
[12,17703,24,17710,24,17717,null,null,null,null,0,122]
[12,17814,24,17821,24,17826,null,null,null,null,0,122]
[12,17923,24,17931,24,17935,null,null,null,null,0,122]
[12,18032,24,18040,24,18043,null,null,null,null,0,122]
[21,18141,11,18151,22,18159,null,null,null,null,0,212]
[12,18252,24,18259,24,18264,null,null,null,null,0,122]
[12,18361,24,18368,24,18373,null,null,null,null,0,122]
[12,18473,24,18480,24,18485,null,null,null,null,0,122]
[12,18581,24,18588,24,18593,null,null,null,null,0,122]
[21,18697,22,18701,24,18707,null,null,null,null,0,222]
[12,18806,24,18813,24,18817,null,null,null,null,0,122]
[12,18916,24,18923,24,18928,null,null,null,null,0,122]
[12,19026,24,19033,24,19038,null,null,null,null,0,122]
[12,19135,13,19139,24,19146,null,null,null,null,0,112]
[12,19244,24,19251,24,19256,null,null,null,null,0,122]
[21,19348,11,19358,22,19365,null,null,null,null,0,212]
[21,19464,22,19468,24,19472,null,null,null,null,0,222]
[12,19569,24,19576,24,19580,null,null,null,null,0,122]
[12,19677,24,19684,24,19688,null,null,null,null,0,122]
[12,19786,24,19793,24,19796,null,null,null,null,0,122]
[12,19896,24,19900,24,19904,null,null,null,null,0,122]
[12,20002,24,20010,24,20013,null,null,null,null,0,122]
[12,20111,24,20118,24,20122,null,null,null,null,0,122]
[21,20237,22,20240,24,20244,null,null,null,null,0,222]
[12,20342,13,20349,24,20357,null,null,null,null,0,112]
[21,20461,22,20464,24,20468,null,null,null,null,0,222]
[12,20567,24,20574,24,20578,null,null,null,null,0,122]
[21,20682,11,20692,22,20700,null,null,null,null,0,212]
[21,20799,22,20803,24,20809,null,null,null,null,0,222]
[12,20906,13,20920,24,20927,null,null,null,null,0,112]
[12,21030,24,21038,13,21047,null,null,null,null,0,121]
[12,21145,13,21156,24,21163,null,null,null,null,0,112]
[12,21261,24,21267,24,21272,null,null,null,null,0,122]
[12,21370,24,21377,24,21381,null,null,null,null,0,122]
[12,21478,13,21486,24,21497,null,null,null,null,0,112]
[12,21594,24,21609,24,21615,null,null,null,null,0,122]
[12,21711,24,21718,24,21727,null,null,null,null,0,122]
[12,21825,24,21832,24,21836,null,null,null,null,0,122]
[12,21952,24,21958,24,21966,null,null,null,null,0,122]
[12,22064,24,22072,24,22077,null,null,null,null,0,122]
[12,22174,13,22181,24,22189,null,null,null,null,0,112]
[12,22287,24,22294,24,22299,null,null,null,null,0,122]
[12,22396,24,22404,24,22410,null,null,null,null,0,122]
[12,22506,24,22514,24,22518,null,null,null,null,0,122]
[12,22614,24,22621,13,22632,null,null,null,null,0,121]
[12,22730,24,22738,24,22743,null,null,null,null,0,122]
[12,22842,24,22849,24,22853,null,null,null,null,0,122]
[12,22951,24,22959,24,22963,null,null,null,null,0,122]
[12,23060,13,23070,24,23076,null,null,null,null,0,112]
[12,23173,24,23180,13,23190,null,null,null,null,0,121]
[12,23289,24,23305,24,23311,null,null,null,null,0,122]
[21,23414,11,23424,22,23435,null,null,null,null,0,212]
[12,23533,24,23540,24,23547,null,null,null,null,0,122]
[12,23645,24,23652,24,23657,null,null,null,null,0,122]
[12,23755,24,23762,24,23769,null,null,null,null,0,122]
[12,23868,13,23877,24,23884,null,null,null,null,0,112]
[12,23981,24,23989,24,23993,null,null,null,null,null,122]

{"sheet":"!MC04B20.096","index":7,"n_rows":216,"n_cols":48,"rows_kept":216,"cut":false,"hidden":false,"merged":[[4,39,4,42],[5,39,5,40],[4,44,4,47],[5,44,5,45],[4,24,4,27],[5,24,5,25],[4,29,4,32],[5,29,5,30],[4,34,4,37],[5,34,5,35],[1,1,1,2],[5,13,5,14],[18,13,18,14],[19,13,19,14],[4,19,4,22],[5,19,5,20]]}
["Report for:!MC04B20.096"]
["Date:","<date>"]
["Hen:","<hen>",null,null,null,"Correct Sequence",{"$f":"Start!J2","v":211},null,null,null,null,null,null,null,null,"Total Sequences in Data",{"$f":"4994-COUNTBLANK(L7:L5000)","v":210},null,null,null,null,"Total Sequences in Block Data",{"$f":"COUNTA(L7:L41)","v":35},null,null,null,"Total Sequences in Block Data",{"$f":"COUNTA(L42:L76)","v":35},null,null,null,"Total Sequences in Block Data",{"$f":"COUNTA(L77:L111)","v":35},null,null,null,"Total Sequences in Block Data",{"$f":"COUNTA(L112:L146)","v":35},null,null,null,"Total Sequences in Block Data",{"$f":"COUNTA(L147:L181)","v":35},null,null,null,"Total Sequences in Block Data",{"$f":"COUNTA(L182:L216)","v":35}]
[null,null,null,null,null,null,null,null,null,null,null,null,null,null,null,"Total Sequences in Summary",{"$f":"SUM(O7:O14)","v":209},null,null,null,null,"Total Sequences in Block Summary",{"$f":"SUM(U7:U14)","v":35},null,null,null,"Total Sequences in Block Summary",{"$f":"SUM(Z7:Z14)","v":35},null,null,null,"Total Sequences in Block Summary",{"$f":"SUM(AE7:AE14)","v":35},null,null,null,"Total Sequences in Block Summary",{"$f":"SUM(AJ7:AJ14)","v":35},null,null,null,"Total Sequences in Block Summary",{"$f":"SUM(AO7:AO14)","v":35},null,null,null,"Total Sequences in Block Summary",{"$f":"SUM(AT7:AT14)","v":34}]
[null,null,null,null,null,null,null,null,null,null,null,null,null,null,null,null,null,null,null,"Block 1",null,null,null,null,"Block 2",null,null,null,null,"Block 3",null,null,null,null,"Block 4",null,null,null,null,"Block 5",null,null,null,null,"Block 6"]
["Sequence\nComponent\n1","Time\n1","Sequence\nComponent\n2","Time\n2","Sequence\nComponent\n3","Time\n3","Sequence\nComponent\n4","Time\n4","Sequence\nComponent\n5","Time\n5","Correct?\n0=No 1=Yes","Sequence",null,"Frequency",null,"Relative Frequency","Variability",null,null,"Frequency",null,"Relative Frequency","Variability",null,"Frequency",null,"Relative Frequency","Variability",null,"Frequency",null,"Relative Frequency","Variability",null,"Frequency",null,"Relative Frequency","Variability",null,"Frequency",null,"Relative Frequency","Variability",null,"Frequency",null,"Relative Frequency","Variability"]
[21,41,22,46,24,53,null,null,null,null,0,222,null,111,{"$f":"COUNTIF($L$7:$L$500,N7)","v":8},{"$f":"O7/$Q$4","v":3.8277511961722487E-2},{"$f":"IF(P7=0,0,(P7*((LOG(P7))/LOG(2))))","v":-0.18018599548634956},null,null,{"$f":"N7","v":111},{"$f":"COUNTIF(L7:L41,T7)","v":2},{"$f":"U7/(W4-U11)","v":5.7142857142857141E-2},{"$f":"IF(V7=0,0,(V7*((LOG(V7))/LOG(2))))","v":-0.23595902953971234},null,{"$f":"N7","v":111},{"$f":"COUNTIF(L42:L76,Y7)","v":0},{"$f":"Z7/(AB4-Z11)","v":0},{"$f":"IF(AA7=0,0,(AA7*((LOG(AA7))/LOG(2))))","v":0},null,{"$f":"N7","v":111},{"$f":"COUNTIF(L77:L111,AD7)","v":0},{"$f":"AE7/(AG4-AE11)","v":0},{"$f":"IF(AF7=0,0,(AF7*((LOG(AF7))/LOG(2))))","v":0},null,{"$f":"N7","v":111},{"$f":"COUNTIF(L112:L146,AI7)","v":4},{"$f":"AJ7/(AL4-AJ11)","v":0.11428571428571428},{"$f":"IF(AK7=0,0,(AK7*((LOG(AK7))/LOG(2))))","v":-0.35763234479371042},null,{"$f":"N7","v":111},{"$f":"COUNTIF(L147:L181,AN7)","v":2},{"$f":"AO7/(AQ4-AO11)","v":5.7142857142857141E-2},{"$f":"IF(AP7=0,0,(AP7*((LOG(AP7))/LOG(2))))","v":-0.23595902953971234},null,{"$f":"N7","v":111},{"$f":"COUNTIF(L182:L216,AS7)","v":0},{"$f":"AT7/(AV4-AT11)","v":0},{"$f":"IF(AU7=0,0,(AU7*((LOG(AU7))/LOG(2))))","v":0}]
[21,161,22,165,24,169,null,null,null,null,0,222,null,112,{"$f":"COUNTIF($L$7:$L$500,N8)","v":53},{"$f":"O8/$Q$4","v":0.25358851674641147},{"$f":"IF(P8=0,0,(P8*((LOG(P8))/LOG(2))))","v":-0.50196291822218764},null,null,{"$f":"N8","v":112},{"$f":"COUNTIF(L7:L41,T8)","v":5},{"$f":"U8/(W4-U11)","v":0.14285714285714285},{"$f":"IF(V8=0,0,(V8*((LOG(V8))/LOG(2))))","v":-0.40105070315108626},null,{"$f":"N8","v":112},{"$f":"COUNTIF(L42:L76,Y8)","v":4},{"$f":"Z8/(AB4-Z11)","v":0.11428571428571428},{"$f":"IF(AA8=0,0,(AA8*((LOG(AA8))/LOG(2))))","v":-0.35763234479371042},null,{"$f":"N8","v":112},{"$f":"COUNTIF(L77:L111,AD8)","v":6},{"$f":"AE8/(AG4-AE11)","v":0.17142857142857143},{"$f":"IF(AF8=0,0,(AF8*((LOG(AF8))/LOG(2))))","v":-0.43616923135265318},null,{"$f":"N8","v":112},{"$f":"COUNTIF(L112:L146,AI8)","v":9},{"$f":"AJ8/(AL4-AJ11)","v":0.25714285714285712},{"$f":"IF(AK8=0,0,(AK8*((LOG(AK8))/LOG(2))))","v":-0.50383491827211102},null,{"$f":"N8","v":112},{"$f":"COUNTIF(L147:L181,AN8)","v":19},{"$f":"AO8/(AQ4-AO11)","v":0.54285714285714282},{"$f":"IF(AP8=0,0,(AP8*((LOG(AP8))/LOG(2))))","v":-0.47845013047217821},null,{"$f":"N8","v":112},{"$f":"COUNTIF(L182:L216,AS8)","v":10},{"$f":"AT8/(AV4-AT11)","v":0.29411764705882354},{"$f":"IF(AU8=0,0,(AU8*((LOG(AU8))/LOG(2))))","v":-0.51927492540087561}]
[21,273,22,277,24,281,null,null,null,null,0,222,null,121,{"$f":"COUNTIF($L$7:$L$500,N9)","v":15},{"$f":"O9/$Q$4","v":7.1770334928229665E-2},{"$f":"IF(P9=0,0,(P9*((LOG(P9))/LOG(2))))","v":-0.27276089974682038},null,null,{"$f":"N9","v":121},{"$f":"COUNTIF(L7:L41,T9)","v":4},{"$f":"U9/(W4-U11)","v":0.11428571428571428},{"$f":"IF(V9=0,0,(V9*((LOG(V9))/LOG(2))))","v":-0.35763234479371042},null,{"$f":"N9","v":121},{"$f":"COUNTIF(L42:L76,Y9)","v":0},{"$f":"Z9/(AB4-Z11)","v":0},{"$f":"IF(AA9=0,0,(AA9*((LOG(AA9))/LOG(2))))","v":0},null,{"$f":"N9","v":121},{"$f":"COUNTIF(L77:L111,AD9)","v":3},{"$f":"AE9/(AG4-AE11)","v":8.5714285714285715E-2},{"$f":"IF(AF9=0,0,(AF9*((LOG(AF9))/LOG(2))))","v":-0.30379890139061233},null,{"$f":"N9","v":121},{"$f":"COUNTIF(L112:L146,AI9)","v":4},{"$f":"AJ9/(AL4-AJ11)","v":0.11428571428571428},{"$f":"IF(AK9=0,0,(AK9*((LOG(AK9))/LOG(2))))","v":-0.35763234479371042},null,{"$f":"N9","v":121},{"$f":"COUNTIF(L147:L181,AN9)","v":0},{"$f":"AO9/(AQ4-AO11)","v":0},{"$f":"IF(AP9=0,0,(AP9*((LOG(AP9))/LOG(2))))","v":0},null,{"$f":"N9","v":121},{"$f":"COUNTIF(L182:L216,AS9)","v":4},{"$f":"AT9/(AV4-AT11)","v":0.11764705882352941},{"$f":"IF(AU9=0,0,(AU9*((LOG(AU9))/LOG(2))))","v":-0.36323092250003997}]
[12,381,13,385,13,393,null,null,null,null,0,111,null,122,{"$f":"COUNTIF($L$7:$L$500,N10)","v":81},{"$f":"O10/$Q$4","v":0.38755980861244022},{"$f":"IF(P10=0,0,(P10*((LOG(P10))/LOG(2))))","v":-0.5299915763870664},null,null,{"$f":"N10","v":122},{"$f":"COUNTIF(L7:L41,T10)","v":12},{"$f":"U10/(W4-U11)","v":0.34285714285714286},{"$f":"IF(V10=0,0,(V10*((LOG(V10))/LOG(2))))","v":-0.52948131984816349},null,{"$f":"N10","v":122},{"$f":"COUNTIF(L42:L76,Y10)","v":12},{"$f":"Z10/(AB4-Z11)","v":0.34285714285714286},{"$f":"IF(AA10=0,0,(AA10*((LOG(AA10))/LOG(2))))","v":-0.52948131984816349},null,{"$f":"N10","v":122},{"$f":"COUNTIF(L77:L111,AD10)","v":20},{"$f":"AE10/(AG4-AE11)","v":0.5714285714285714},{"$f":"IF(AF10=0,0,(AF10*((LOG(AF10))/LOG(2))))","v":-0.46134566974720237},null,{"$f":"N10","v":122},{"$f":"COUNTIF(L112:L146,AI10)","v":15},{"$f":"AJ10/(AL4-AJ11)","v":0.42857142857142855},{"$f":"IF(AK10=0,0,(AK10*((LOG(AK10))/LOG(2))))","v":-0.52388246628704915},null,{"$f":"N10","v":122},{"$f":"COUNTIF(L147:L181,AN10)","v":10},{"$f":"AO10/(AQ4-AO11)","v":0.2857142857142857},{"$f":"IF(AP10=0,0,(AP10*((LOG(AP10))/LOG(2))))","v":-0.51638712058788683},null,{"$f":"N10","v":122},{"$f":"COUNTIF(L182:L216,AS10)","v":12},{"$f":"AT10/(AV4-AT11)","v":0.35294117647058826},{"$f":"IF(AU10=0,0,(AU10*((LOG(AU10))/LOG(2))))","v":-0.53029423783382934}]
[21,497,22,502,24,509,null,null,null,null,0,222,null,211,{"$f":"COUNTIF($L$7:$L$500,N11)","v":0},{"$f":"O11/$Q$4","v":0},{"$f":"IF(P11=0,0,(P11*((LOG(P11))/LOG(2))))","v":0},null,null,{"$f":"N11","v":211},{"$f":"COUNTIF(L7:L41,T11)","v":0},null,null,null,{"$f":"N11","v":211},{"$f":"COUNTIF(L42:L76,Y11)","v":0},null,null,null,{"$f":"N11","v":211},{"$f":"COUNTIF(L77:L111,AD11)","v":0},null,null,null,{"$f":"N11","v":211},{"$f":"COUNTIF(L112:L146,AI11)","v":0},null,null,null,{"$f":"N11","v":211},{"$f":"COUNTIF(L147:L181,AN11)","v":0},null,null,null,{"$f":"N11","v":211},{"$f":"COUNTIF(L182:L216,AS11)","v":0}]
[12,609,24,616,24,621,null,null,null,null,0,122,null,212,{"$f":"COUNTIF($L$7:$L$500,N12)","v":11},{"$f":"O12/$Q$4","v":5.2631578947368418E-2},{"$f":"IF(P12=0,0,(P12*((LOG(P12))/LOG(2))))","v":-0.22357513228650452},null,null,{"$f":"N12","v":212},{"$f":"COUNTIF(L7:L41,T12)","v":2},{"$f":"U12/(W4-U11)","v":5.7142857142857141E-2},{"$f":"IF(V12=0,0,(V12*((LOG(V12))/LOG(2))))","v":-0.23595902953971234},null,{"$f":"N12","v":212},{"$f":"COUNTIF(L42:L76,Y12)","v":5},{"$f":"Z12/(AB4-Z11)","v":0.14285714285714285},{"$f":"IF(AA12=0,0,(AA12*((LOG(AA12))/LOG(2))))","v":-0.40105070315108626},null,{"$f":"N12","v":212},{"$f":"COUNTIF(L77:L111,AD12)","v":2},{"$f":"AE12/(AG4-AE11)","v":5.7142857142857141E-2},{"$f":"IF(AF12=0,0,(AF12*((LOG(AF12))/LOG(2))))","v":-0.23595902953971234},null,{"$f":"N12","v":212},{"$f":"COUNTIF(L112:L146,AI12)","v":1},{"$f":"AJ12/(AL4-AJ11)","v":2.8571428571428571E-2},{"$f":"IF(AK12=0,0,(AK12*((LOG(AK12))/LOG(2))))","v":-0.14655094334128474},null,{"$f":"N12","v":212},{"$f":"COUNTIF(L147:L181,AN12)","v":0},{"$f":"AO12/(AQ4-AO11)","v":0},{"$f":"IF(AP12=0,0,(AP12*((LOG(AP12))/LOG(2))))","v":0},null,{"$f":"N12","v":212},{"$f":"COUNTIF(L182:L216,AS12)","v":1},{"$f":"AT12/(AV4-AT11)","v":2.9411764705882353E-2},{"$f":"IF(AU12=0,0,(AU12*((LOG(AU12))/LOG(2))))","v":-0.14963126003677468}]
[12,722,24,730,24,734,null,null,null,null,0,122,null,221,{"$f":"COUNTIF($L$7:$L$500,N13)","v":8},{"$f":"O13/$Q$4","v":3.8277511961722487E-2},{"$f":"IF(P13=0,0,(P13*((LOG(P13))/LOG(2))))","v":-0.18018599548634956},null,null,{"$f":"N13","v":221},{"$f":"COUNTIF(L7:L41,T13)","v":2},{"$f":"U13/(W4-U11)","v":5.7142857142857141E-2},{"$f":"IF(V13=0,0,(V13*((LOG(V13))/LOG(2))))","v":-0.23595902953971234},null,{"$f":"N13","v":221},{"$f":"COUNTIF(L42:L76,Y13)","v":2},{"$f":"Z13/(AB4-Z11)","v":5.7142857142857141E-2},{"$f":"IF(AA13=0,0,(AA13*((LOG(AA13))/LOG(2))))","v":-0.23595902953971234},null,{"$f":"N13","v":221},{"$f":"COUNTIF(L77:L111,AD13)","v":1},{"$f":"AE13/(AG4-AE11)","v":2.8571428571428571E-2},{"$f":"IF(AF13=0,0,(AF13*((LOG(AF13))/LOG(2))))","v":-0.14655094334128474},null,{"$f":"N13","v":221},{"$f":"COUNTIF(L112:L146,AI13)","v":1},{"$f":"AJ13/(AL4-AJ11)","v":2.8571428571428571E-2},{"$f":"IF(AK13=0,0,(AK13*((LOG(AK13))/LOG(2))))","v":-0.14655094334128474},null,{"$f":"N13","v":221},{"$f":"COUNTIF(L147:L181,AN13)","v":2},{"$f":"AO13/(AQ4-AO11)","v":5.7142857142857141E-2},{"$f":"IF(AP13=0,0,(AP13*((LOG(AP13))/LOG(2))))","v":-0.23595902953971234},null,{"$f":"N13","v":221},{"$f":"COUNTIF(L182:L216,AS13)","v":0},{"$f":"AT13/(AV4-AT11)","v":0},{"$f":"IF(AU13=0,0,(AU13*((LOG(AU13))/LOG(2))))","v":0}]
[12,832,24,840,24,843,null,null,null,null,0,122,null,222,{"$f":"COUNTIF($L$7:$L$500,N14)","v":33},{"$f":"O14/$Q$4","v":0.15789473684210525},{"$f":"IF(P14=0,0,(P14*((LOG(P14))/LOG(2))))","v":-0.42046815990354147},null,null,{"$f":"N14","v":222},{"$f":"COUNTIF(L7:L41,T14)","v":8},{"$f":"U14/(W4-U11)","v":0.22857142857142856},{"$f":"IF(V14=0,0,(V14*((LOG(V14))/LOG(2))))","v":-0.48669326101599231},null,{"$f":"N14","v":222},{"$f":"COUNTIF(L42:L76,Y14)","v":12},{"$f":"Z14/(AB4-Z11)","v":0.34285714285714286},{"$f":"IF(AA14=0,0,(AA14*((LOG(AA14))/LOG(2))))","v":-0.52948131984816349},null,{"$f":"N14","v":222},{"$f":"COUNTIF(L77:L111,AD14)","v":3},{"$f":"AE14/(AG4-AE11)","v":8.5714285714285715E-2},{"$f":"IF(AF14=0,0,(AF14*((LOG(AF14))/LOG(2))))","v":-0.30379890139061233},null,{"$f":"N14","v":222},{"$f":"COUNTIF(L112:L146,AI14)","v":1},{"$f":"AJ14/(AL4-AJ11)","v":2.8571428571428571E-2},{"$f":"IF(AK14=0,0,(AK14*((LOG(AK14))/LOG(2))))","v":-0.14655094334128474},null,{"$f":"N14","v":222},{"$f":"COUNTIF(L147:L181,AN14)","v":2},{"$f":"AO14/(AQ4-AO11)","v":5.7142857142857141E-2},{"$f":"IF(AP14=0,0,(AP14*((LOG(AP14))/LOG(2))))","v":-0.23595902953971234},null,{"$f":"N14","v":222},{"$f":"COUNTIF(L182:L216,AS14)","v":7},{"$f":"AT14/(AV4-AT11)","v":0.20588235294117646},{"$f":"IF(AU14=0,0,(AU14*((LOG(AU14))/LOG(2))))","v":-0.46943398336321018}]
[12,943,24,950,24,954,null,null,null,null,0,122,null,null,null,{"$f":"SUM(P7:P14)","v":1},{"$f":"-SUM(Q7:Q14)","v":2.3091306775188194},null,null,null,null,{"$f":"SUM(V7:V14)","v":1},{"$f":"-SUM(W7:W14)","v":2.4827347174280892},null,null,null,{"$f":"SUM(AA7:AA14)","v":1},{"$f":"-SUM(AB7:AB14)","v":2.053604717180836},null,null,null,{"$f":"SUM(AF7:AF14)","v":1},{"$f":"-SUM(AG7:AG14)","v":1.8876226767620772},null,null,null,{"$f":"SUM(AK7:AK14)","v":0.99999999999999989},{"$f":"-SUM(AL7:AL14)","v":2.1826349041704352},null,null,null,{"$f":"SUM(AP7:AP14)","v":1},{"$f":"-SUM(AQ7:AQ14)","v":1.7027143396792019},null,null,null,{"$f":"SUM(AU7:AU14)","v":1},{"$f":"-SUM(AV7:AV14)","v":2.0318653291347299}]
[12,1057,13,1064,24,1072,null,null,null,null,0,112,null,null,null,"U=",{"$f":"Q15/(LOG(Q4)/LOG(2))","v":0.29960076310799666},null,null,null,null,"U1=",{"$f":"W15/(LOG(W4)/LOG(2))","v":0.48403153213152622},null,null,null,"U2=",{"$f":"AB15/(LOG(AB4)/LOG(2))","v":0.40036876701804147},null,null,null,"U3=",{"$f":"AG15/(LOG(AG4)/LOG(2))","v":0.36800907076606532},null,null,null,"U4=",{"$f":"AL15/(LOG(AL4)/LOG(2))","v":0.42552436606830607},null,null,null,"U5=",{"$f":"AQ15/(LOG(AQ4)/LOG(2))","v":0.33195952222838143},null,null,null,"U6=",{"$f":"AV15/(LOG(AV4)/LOG(2))","v":0.39938676557200387}]
[12,1168,24,1177,24,1186,null,null,null,null,0,122]
[12,1297,13,1308,24,1319,null,null,null,null,0,112]
[12,1418,24,1423,24,1428,null,null,null,null,0,122,null,"Total Target Seq"]
[21,1534,22,1541,24,1550,null,null,null,null,0,222,null,{"$f":"COUNTIF(L7:L216,G3)","v":0},null,35,35,35,35,35,35]
[12,1659,24,1666,24,1688,null,null,null,null,0,122,null,null,null,"% of reinforcement given in 6 equal intervals based on number of trials "]
[12,1787,24,1795,13,1803,null,null,null,null,0,121,null,null,null,"%_1","%_2","%_3","%_4","%_5","%_6"]
[21,1903,22,1919,24,1925,null,null,null,null,0,222,null,null,"target sequence",{"$f":"$G$3","v":211},{"$f":"$G$3","v":211},{"$f":"$G$3","v":211},{"$f":"$G$3","v":211},{"$f":"$G$3","v":211},{"$f":"$G$3","v":211}]
[12,2042,24,2052,24,2057,null,null,null,null,0,122,null,null,"total reinforcement",{"$f":"U11","v":0},{"$f":"Z11","v":0},{"$f":"AE11","v":0},{"$f":"AJ11","v":0},{"$f":"AO11","v":0},{"$f":"AT11","v":0}]
[12,2156,24,2164,24,2171,null,null,null,null,0,122,null,null,"% target"]
[12,2281,13,2292,13,2312,null,null,null,null,0,111,null,null,"CCRF"]
[12,2425,24,2432,24,2439,null,null,null,null,0,122,null,null,"% CCRf"]
[12,2549,24,2556,24,2563,null,null,null,null,0,122,null,null,"average response rate",{"$f":"F41/P20","v":117.17142857142858},{"$f":"(F76-F41)/Q20","v":113.91428571428571},{"$f":"(F111-F76)/R20","v":112.45714285714286},{"$f":"(F146-F111)/S20","v":112.22857142857143},{"$f":"(F181-F146)/T20","v":113.08571428571429},{"$f":"(F216-F181)/U20","v":-568.85714285714289}]
[12,2672,24,2677,24,2681,null,null,null,null,0,122]
[12,2787,24,2793,13,2806,null,null,null,null,0,121]
[21,2902,22,2918,13,2925,null,null,null,null,0,221]
[12,3041,24,3048,13,3057,null,null,null,null,0,121]
[12,3168,24,3176,13,3185,null,null,null,null,0,121]
[12,3283,13,3295,24,3302,null,null,null,null,0,112]
[21,3401,11,3410,22,3417,null,null,null,null,0,212]
[21,3517,22,3521,24,3525,null,null,null,null,0,222]
[12,3628,13,3637,24,3644,null,null,null,null,0,112]
[21,3748,22,3752,24,3756,null,null,null,null,0,222]
[21,3855,11,3863,22,3870,null,null,null,null,0,212]
[21,3962,22,3966,13,3976,null,null,null,null,0,221]
[12,4076,13,4087,24,4101,null,null,null,null,0,112]
[21,4197,22,4202,24,4206,null,null,null,null,0,222]
[21,4306,22,4310,24,4315,null,null,null,null,0,222]
[21,4414,22,4418,13,4440,null,null,null,null,0,221]
[12,4539,24,4546,24,4551,null,null,null,null,0,122]
[21,4662,22,4667,24,4674,null,null,null,null,0,222]
[21,4776,22,4780,13,4788,null,null,null,null,0,221]
[12,4888,24,4896,24,4914,null,null,null,null,0,122]
[21,5015,11,5025,22,5031,null,null,null,null,0,212]
[21,5134,22,5151,24,5159,null,null,null,null,0,222]
[12,5258,24,5265,24,5270,null,null,null,null,0,122]
[21,5370,22,5374,24,5378,null,null,null,null,0,222]
[21,5487,11,5497,22,5503,null,null,null,null,0,212]
[21,5602,22,5607,24,5610,null,null,null,null,0,222]
[21,5706,11,5715,22,5723,null,null,null,null,0,212]
[21,5820,11,5830,22,5837,null,null,null,null,0,212]
[21,5934,22,5939,24,5946,null,null,null,null,0,222]
[21,6050,22,6058,24,6065,null,null,null,null,0,222]
[21,6161,22,6166,24,6170,null,null,null,null,0,222]
[12,6268,13,6279,24,6285,null,null,null,null,0,112]
[12,6384,24,6391,24,6396,null,null,null,null,0,122]
[12,6494,24,6501,24,6506,null,null,null,null,0,122]
[12,6606,24,6615,24,6619,null,null,null,null,0,122]
[12,6719,24,6727,24,6731,null,null,null,null,0,122]
[12,6829,24,6836,24,6841,null,null,null,null,0,122]
[12,6938,24,6946,24,6950,null,null,null,null,0,122]
[12,7047,13,7058,24,7065,null,null,null,null,0,112]
[21,7162,11,7172,22,7179,null,null,null,null,0,212]
[21,7281,22,7288,24,7295,null,null,null,null,0,222]
[12,7392,24,7399,24,7403,null,null,null,null,0,122]
[12,7501,13,7513,24,7520,null,null,null,null,0,112]
[21,7640,22,7645,24,7652,null,null,null,null,0,222]
[21,7747,22,7751,24,7755,null,null,null,null,0,222]
[12,7852,24,7861,24,7865,null,null,null,null,0,122]
[12,7963,24,7970,24,7975,null,null,null,null,0,122]
[12,8071,13,8080,24,8088,null,null,null,null,0,112]
[12,8185,24,8193,24,8197,null,null,null,null,0,122]
[12,8293,13,8301,24,8317,null,null,null,null,0,112]
[12,8416,13,8424,24,8431,null,null,null,null,0,112]
[21,8535,22,8539,24,8545,null,null,null,null,0,222]
[12,8645,24,8653,13,8662,null,null,null,null,0,121]
[21,8761,11,8769,22,8776,null,null,null,null,0,212]
[21,8876,22,8880,24,8884,null,null,null,null,0,222]
[12,8986,24,8994,24,9003,null,null,null,null,0,122]
[12,9102,13,9111,24,9118,null,null,null,null,0,112]
[12,9216,24,9224,24,9229,null,null,null,null,0,122]
[12,9327,24,9334,24,9338,null,null,null,null,0,122]
[21,9433,22,9438,24,9443,null,null,null,null,0,222]
[12,9540,24,9547,24,9551,null,null,null,null,0,122]
[12,9650,24,9657,24,9662,null,null,null,null,0,122]
[12,9766,24,9774,24,9779,null,null,null,null,0,122]
[12,9876,13,9884,24,9891,null,null,null,null,0,112]
[12,9987,24,9995,24,10011,null,null,null,null,0,122]
[21,10108,22,10112,13,10119,null,null,null,null,0,221]
[12,10217,24,10224,24,10228,null,null,null,null,0,122]
[12,10325,24,10332,24,10337,null,null,null,null,0,122]
[12,10443,24,10449,24,10456,null,null,null,null,0,122]
[12,10552,24,10560,24,10564,null,null,null,null,0,122]
[12,10662,24,10669,24,10673,null,null,null,null,0,122]
[12,10770,24,10777,24,10781,null,null,null,null,0,122]
[12,10874,24,10882,24,10887,null,null,null,null,0,122]
[12,10983,24,10991,24,11003,null,null,null,null,0,122]
[12,11099,24,11107,24,11111,null,null,null,null,0,122]
[12,11208,24,11215,13,11223,null,null,null,null,0,121]
[12,11319,13,11327,24,11334,null,null,null,null,0,112]
[12,11431,24,11439,24,11443,null,null,null,null,0,122]
[12,11540,13,11548,24,11555,null,null,null,null,0,112]
[12,11647,24,11654,24,11659,null,null,null,null,0,122]
[21,11773,11,11781,22,11790,null,null,null,null,0,212]
[12,11898,24,11905,24,11911,null,null,null,null,0,122]
[12,12007,24,12015,13,12024,null,null,null,null,0,121]
[21,12122,11,12129,22,12136,null,null,null,null,0,212]
[21,12238,22,12242,13,12252,null,null,null,null,0,221]
[12,12349,24,12356,24,12362,null,null,null,null,0,122]
[12,12459,24,12466,24,12470,null,null,null,null,0,122]
[12,12566,13,12573,24,12581,null,null,null,null,0,112]
[12,12677,13,12684,24,12691,null,null,null,null,0,112]
[12,12789,24,12796,24,12800,null,null,null,null,0,122]
[12,12897,13,12901,13,12913,null,null,null,null,0,111]
[12,13009,24,13017,24,13021,null,null,null,null,0,122]
[12,13117,24,13124,13,13134,null,null,null,null,0,121]
[12,13231,24,13239,24,13243,null,null,null,null,0,122]
[12,13340,13,13350,24,13357,null,null,null,null,0,112]
[12,13453,13,13457,24,13464,null,null,null,null,0,112]
[12,13561,13,13569,24,13576,null,null,null,null,0,112]
[12,13668,24,13676,24,13681,null,null,null,null,0,122]
[12,13777,24,13785,24,13789,null,null,null,null,0,122]
[12,13885,24,13894,24,13898,null,null,null,null,0,122]
[12,13995,24,14003,24,14007,null,null,null,null,0,122]
[12,14104,13,14118,24,14127,null,null,null,null,0,112]
[12,14222,24,14230,13,14241,null,null,null,null,0,121]
[12,14339,24,14347,24,14351,null,null,null,null,0,122]
[12,14459,24,14466,24,14473,null,null,null,null,0,122]
[12,14570,24,14579,24,14585,null,null,null,null,0,122]
[12,14696,24,14706,13,14714,null,null,null,null,0,121]
[12,14816,13,14823,24,14831,null,null,null,null,0,112]
[12,14923,24,14931,13,14940,null,null,null,null,0,121]
[12,15037,13,15045,24,15051,null,null,null,null,0,112]
[12,15148,24,15156,24,15160,null,null,null,null,0,122]
[12,15256,13,15260,13,15268,null,null,null,null,0,111]
[21,15372,22,15376,24,15382,null,null,null,null,0,222]
[12,15485,13,15498,24,15511,null,null,null,null,0,112]
[12,15608,13,15612,13,15626,null,null,null,null,0,111]
[12,15719,24,15726,24,15730,null,null,null,null,0,122]
[12,15825,13,15829,13,15837,null,null,null,null,0,111]
[12,15934,24,15946,24,15952,null,null,null,null,0,122]
[12,16056,24,16063,24,16068,null,null,null,null,0,122]
[12,16164,13,16171,24,16178,null,null,null,null,0,112]
[12,16276,13,16284,24,16291,null,null,null,null,0,112]
[12,16387,13,16391,13,16396,null,null,null,null,0,111]
[12,16493,13,16501,24,16508,null,null,null,null,0,112]
[12,16604,13,16608,24,16616,null,null,null,null,0,112]
[12,16713,24,16720,24,16724,null,null,null,null,0,122]
[12,16818,13,16830,24,16840,null,null,null,null,0,112]
[21,16942,22,16946,13,16954,null,null,null,null,0,221]
[12,17050,13,17067,24,17074,null,null,null,null,0,112]
[12,17180,24,17187,24,17195,null,null,null,null,0,122]
[12,17292,13,17302,24,17310,null,null,null,null,0,112]
[12,17407,24,17415,24,17419,null,null,null,null,0,122]
[12,17521,13,17528,24,17535,null,null,null,null,0,112]
[12,17635,24,17643,24,17647,null,null,null,null,0,122]
[21,17743,22,17757,24,17763,null,null,null,null,0,222]
[12,17861,13,17868,24,17875,null,null,null,null,0,112]
[12,17972,13,17980,24,17987,null,null,null,null,0,112]
[12,18083,13,18097,24,18104,null,null,null,null,0,112]
[12,18201,13,18209,24,18217,null,null,null,null,0,112]
[12,18309,24,18317,24,18322,null,null,null,null,0,122]
[12,18419,13,18424,24,18437,null,null,null,null,0,112]
[12,18542,24,18549,24,18556,null,null,null,null,0,122]
[21,18657,22,18661,24,18664,null,null,null,null,0,222]
[12,18761,13,18765,13,18771,null,null,null,null,0,111]
[12,18868,24,18876,24,18880,null,null,null,null,0,122]
[12,18977,13,18985,24,18992,null,null,null,null,0,112]
[21,19094,22,19099,13,19108,null,null,null,null,0,221]
[12,19206,13,19213,24,19221,null,null,null,null,0,112]
[12,19318,13,19328,24,19335,null,null,null,null,0,112]
[12,19435,13,19441,24,19449,null,null,null,null,0,112]
[12,19556,24,19563,24,19569,null,null,null,null,0,122]
[12,19668,24,19675,24,19679,null,null,null,null,0,122]
[12,19785,13,19789,24,19801,null,null,null,null,0,112]
[12,19898,13,19902,24,19910,null,null,null,null,0,112]
[12,20005,13,20010,24,20018,null,null,null,null,0,112]
[12,20115,24,20122,24,20127,null,null,null,null,0,122]
[12,20223,24,20232,24,20236,null,null,null,null,0,122]
[12,20334,24,20352,13,20362,null,null,null,null,0,121]
[12,20459,24,20471,24,20476,null,null,null,null,0,122]
[12,20571,13,20587,24,20594,null,null,null,null,0,112]
[12,20692,24,20703,13,20711,null,null,null,null,0,121]
[12,20808,13,20819,24,20827,null,null,null,null,0,112]
[12,20924,13,20928,24,20935,null,null,null,null,0,112]
[12,21032,24,21042,24,21046,null,null,null,null,0,122]
[12,21144,24,21151,24,21159,null,null,null,null,0,122]
[12,21258,24,21268,24,21273,null,null,null,null,0,122]
[12,21370,13,21374,24,21382,null,null,null,null,0,112]
[12,21480,13,21489,24,21497,null,null,null,null,0,112]
[12,21599,13,21608,24,21615,null,null,null,null,0,112]
[12,21723,24,21730,24,21741,null,null,null,null,0,122]
[12,21848,24,21856,24,21862,null,null,null,null,0,122]
[21,21962,22,21978,24,21984,null,null,null,null,0,222]
[21,22101,11,22115,22,22128,null,null,null,null,0,212]
[21,22223,22,22227,24,22233,null,null,null,null,0,222]
[12,22332,13,22344,24,22351,null,null,null,null,0,112]
[12,22449,24,22458,24,22474,null,null,null,null,0,122]
[12,22574,24,22582,24,22586,null,null,null,null,0,122]
[12,22684,13,22687,24,22694,null,null,null,null,0,112]
[12,22794,24,22802,24,22806,null,null,null,null,0,122]
[21,22910,22,22925,24,22932,null,null,null,null,0,222]
[12,23042,24,23055,13,23065,null,null,null,null,0,121]
[21,23179,22,23184,24,23191,null,null,null,null,0,222]
[21,23298,22,23303,24,23309,null,null,null,null,0,222]
[21,23413,22,23418,24,23425,null,null,null,null,0,222]
[12,23525,13,23533,24,23540,null,null,null,null,0,112]
[12,23646,24,23652,24,23659,null,null,null,null,0,122]
[12,23766,24,23774,13,23786,null,null,null,null,0,121]
[21,23885,22,23891,24,23894,null,null,null,null,0,222]
[12,23994,null,null,null,null,null,null,null,null,null,1]

{"sheet":"!MC05950.096","index":8,"n_rows":214,"n_cols":48,"rows_kept":214,"cut":false,"hidden":false,"merged":[[4,39,4,42],[5,39,5,40],[4,44,4,47],[5,44,5,45],[4,24,4,27],[5,24,5,25],[4,29,4,32],[5,29,5,30],[4,34,4,37],[5,34,5,35],[1,1,1,2],[5,13,5,14],[18,13,18,14],[19,13,19,14],[4,19,4,22],[5,19,5,20]]}
["Report for:!MC05950.096"]
["Date:","<date>"]
["Hen:","<hen>",null,null,null,"Correct Sequence",{"$f":"Start!J2","v":211},null,null,null,null,null,null,null,null,"Total Sequences in Data",{"$f":"4994-COUNTBLANK(L7:L5000)","v":208},null,null,null,null,"Total Sequences in Block Data",{"$f":"COUNTA(L7:L41)","v":35},null,null,null,"Total Sequences in Block Data",{"$f":"COUNTA(L42:L75)","v":34},null,null,null,"Total Sequences in Block Data",{"$f":"COUNTA(L76:L110)","v":35},null,null,null,"Total Sequences in Block Data",{"$f":"COUNTA(L111:L145)","v":35},null,null,null,"Total Sequences in Block Data",{"$f":"COUNTA(L146:L179)","v":34},null,null,null,"Total Sequences in Block Data",{"$f":"COUNTA(L180:L214)","v":35}]
[null,null,null,null,null,null,null,null,null,null,null,null,null,null,null,"Total Sequences in Summary",{"$f":"SUM(O7:O14)","v":207},null,null,null,null,"Total Sequences in Block Summary",{"$f":"SUM(U7:U14)","v":35},null,null,null,"Total Sequences in Block Summary",{"$f":"SUM(Z7:Z14)","v":34},null,null,null,"Total Sequences in Block Summary",{"$f":"SUM(AE7:AE14)","v":35},null,null,null,"Total Sequences in Block Summary",{"$f":"SUM(AJ7:AJ14)","v":35},null,null,null,"Total Sequences in Block Summary",{"$f":"SUM(AO7:AO14)","v":34},null,null,null,"Total Sequences in Block Summary",{"$f":"SUM(AT7:AT14)","v":34}]
[null,null,null,null,null,null,null,null,null,null,null,null,null,null,null,null,null,null,null,"Block 1",null,null,null,null,"Block 2",null,null,null,null,"Block 3",null,null,null,null,"Block 4",null,null,null,null,"Block 5",null,null,null,null,"Block 6"]
["Sequence\nComponent\n1","Time\n1","Sequence\nComponent\n2","Time\n2","Sequence\nComponent\n3","Time\n3","Sequence\nComponent\n4","Time\n4","Sequence\nComponent\n5","Time\n5","Correct?\n0=No 1=Yes","Sequence",null,"Frequency",null,"Relative Frequency","Variability",null,null,"Frequency",null,"Relative Frequency","Variability",null,"Frequency",null,"Relative Frequency","Variability",null,"Frequency",null,"Relative Frequency","Variability",null,"Frequency",null,"Relative Frequency","Variability",null,"Frequency",null,"Relative Frequency","Variability",null,"Frequency",null,"Relative Frequency","Variability"]
[21,11,22,15,24,20,null,null,null,null,0,222,null,111,{"$f":"COUNTIF($L$7:$L$500,N7)","v":19},{"$f":"O7/$Q$4","v":9.1787439613526575E-2},{"$f":"IF(P7=0,0,(P7*((LOG(P7))/LOG(2))))","v":-0.31625907940608239},null,null,{"$f":"N7","v":111},{"$f":"COUNTIF(L7:L41,T7)","v":6},{"$f":"U7/(W4-U11)","v":0.17142857142857143},{"$f":"IF(V7=0,0,(V7*((LOG(V7))/LOG(2))))","v":-0.43616923135265318},null,{"$f":"N7","v":111},{"$f":"COUNTIF(L42:L75,Y7)","v":2},{"$f":"Z7/(AB4-Z11)","v":5.8823529411764705E-2},{"$f":"IF(AA7=0,0,(AA7*((LOG(AA7))/LOG(2))))","v":-0.24043899066178465},null,{"$f":"N7","v":111},{"$f":"COUNTIF(L76:L110,AD7)","v":1},{"$f":"AE7/(AG4-AE11)","v":2.8571428571428571E-2},{"$f":"IF(AF7=0,0,(AF7*((LOG(AF7))/LOG(2))))","v":-0.14655094334128474},null,{"$f":"N7","v":111},{"$f":"COUNTIF(L111:L145,AI7)","v":2},{"$f":"AJ7/(AL4-AJ11)","v":5.7142857142857141E-2},{"$f":"IF(AK7=0,0,(AK7*((LOG(AK7))/LOG(2))))","v":-0.23595902953971234},null,{"$f":"N7","v":111},{"$f":"COUNTIF(L146:L179,AN7)","v":4},{"$f":"AO7/(AQ4-AO11)","v":0.11764705882352941},{"$f":"IF(AP7=0,0,(AP7*((LOG(AP7))/LOG(2))))","v":-0.36323092250003997},null,{"$f":"N7","v":111},{"$f":"COUNTIF(L180:L214,AS7)","v":4},{"$f":"AT7/(AV4-AT11)","v":0.11764705882352941},{"$f":"IF(AU7=0,0,(AU7*((LOG(AU7))/LOG(2))))","v":-0.36323092250003997}]
[21,124,22,128,13,138,null,null,null,null,0,221,null,112,{"$f":"COUNTIF($L$7:$L$500,N8)","v":46},{"$f":"O8/$Q$4","v":0.22222222222222221},{"$f":"IF(P8=0,0,(P8*((LOG(P8))/LOG(2))))","v":-0.48220555587606945},null,null,{"$f":"N8","v":112},{"$f":"COUNTIF(L7:L41,T8)","v":3},{"$f":"U8/(W4-U11)","v":8.5714285714285715E-2},{"$f":"IF(V8=0,0,(V8*((LOG(V8))/LOG(2))))","v":-0.30379890139061233},null,{"$f":"N8","v":112},{"$f":"COUNTIF(L42:L75,Y8)","v":1},{"$f":"Z8/(AB4-Z11)","v":2.9411764705882353E-2},{"$f":"IF(AA8=0,0,(AA8*((LOG(AA8))/LOG(2))))","v":-0.14963126003677468},null,{"$f":"N8","v":112},{"$f":"COUNTIF(L76:L110,AD8)","v":7},{"$f":"AE8/(AG4-AE11)","v":0.2},{"$f":"IF(AF8=0,0,(AF8*((LOG(AF8))/LOG(2))))","v":-0.46438561897747244},null,{"$f":"N8","v":112},{"$f":"COUNTIF(L111:L145,AI8)","v":7},{"$f":"AJ8/(AL4-AJ11)","v":0.2},{"$f":"IF(AK8=0,0,(AK8*((LOG(AK8))/LOG(2))))","v":-0.46438561897747244},null,{"$f":"N8","v":112},{"$f":"COUNTIF(L146:L179,AN8)","v":13},{"$f":"AO8/(AQ4-AO11)","v":0.38235294117647056},{"$f":"IF(AP8=0,0,(AP8*((LOG(AP8))/LOG(2))))","v":-0.53033237060059457},null,{"$f":"N8","v":112},{"$f":"COUNTIF(L180:L214,AS8)","v":15},{"$f":"AT8/(AV4-AT11)","v":0.44117647058823528},{"$f":"IF(AU8=0,0,(AU8*((LOG(AU8))/LOG(2))))","v":-0.52084069660668564}]
[12,248,24,255,24,262,null,null,null,null,0,122,null,121,{"$f":"COUNTIF($L$7:$L$500,N9)","v":9},{"$f":"O9/$Q$4","v":4.3478260869565216E-2},{"$f":"IF(P9=0,0,(P9*((LOG(P9))/LOG(2))))","v":-0.19667660678508753},null,null,{"$f":"N9","v":121},{"$f":"COUNTIF(L7:L41,T9)","v":2},{"$f":"U9/(W4-U11)","v":5.7142857142857141E-2},{"$f":"IF(V9=0,0,(V9*((LOG(V9))/LOG(2))))","v":-0.23595902953971234},null,{"$f":"N9","v":121},{"$f":"COUNTIF(L42:L75,Y9)","v":1},{"$f":"Z9/(AB4-Z11)","v":2.9411764705882353E-2},{"$f":"IF(AA9=0,0,(AA9*((LOG(AA9))/LOG(2))))","v":-0.14963126003677468},null,{"$f":"N9","v":121},{"$f":"COUNTIF(L76:L110,AD9)","v":2},{"$f":"AE9/(AG4-AE11)","v":5.7142857142857141E-2},{"$f":"IF(AF9=0,0,(AF9*((LOG(AF9))/LOG(2))))","v":-0.23595902953971234},null,{"$f":"N9","v":121},{"$f":"COUNTIF(L111:L145,AI9)","v":3},{"$f":"AJ9/(AL4-AJ11)","v":8.5714285714285715E-2},{"$f":"IF(AK9=0,0,(AK9*((LOG(AK9))/LOG(2))))","v":-0.30379890139061233},null,{"$f":"N9","v":121},{"$f":"COUNTIF(L146:L179,AN9)","v":1},{"$f":"AO9/(AQ4-AO11)","v":2.9411764705882353E-2},{"$f":"IF(AP9=0,0,(AP9*((LOG(AP9))/LOG(2))))","v":-0.14963126003677468},null,{"$f":"N9","v":121},{"$f":"COUNTIF(L180:L214,AS9)","v":0},{"$f":"AT9/(AV4-AT11)","v":0},{"$f":"IF(AU9=0,0,(AU9*((LOG(AU9))/LOG(2))))","v":0}]
[12,361,13,366,24,374,null,null,null,null,0,112,null,122,{"$f":"COUNTIF($L$7:$L$500,N10)","v":61},{"$f":"O10/$Q$4","v":0.29468599033816423},{"$f":"IF(P10=0,0,(P10*((LOG(P10))/LOG(2))))","v":-0.51945761746919217},null,null,{"$f":"N10","v":122},{"$f":"COUNTIF(L7:L41,T10)","v":8},{"$f":"U10/(W4-U11)","v":0.22857142857142856},{"$f":"IF(V10=0,0,(V10*((LOG(V10))/LOG(2))))","v":-0.48669326101599231},null,{"$f":"N10","v":122},{"$f":"COUNTIF(L42:L75,Y10)","v":9},{"$f":"Z10/(AB4-Z11)","v":0.26470588235294118},{"$f":"IF(AA10=0,0,(AA10*((LOG(AA10))/LOG(2))))","v":-0.50758354583153664},null,{"$f":"N10","v":122},{"$f":"COUNTIF(L76:L110,AD10)","v":10},{"$f":"AE10/(AG4-AE11)","v":0.2857142857142857},{"$f":"IF(AF10=0,0,(AF10*((LOG(AF10))/LOG(2))))","v":-0.51638712058788683},null,{"$f":"N10","v":122},{"$f":"COUNTIF(L111:L145,AI10)","v":12},{"$f":"AJ10/(AL4-AJ11)","v":0.34285714285714286},{"$f":"IF(AK10=0,0,(AK10*((LOG(AK10))/LOG(2))))","v":-0.52948131984816349},null,{"$f":"N10","v":122},{"$f":"COUNTIF(L146:L179,AN10)","v":10},{"$f":"AO10/(AQ4-AO11)","v":0.29411764705882354},{"$f":"IF(AP10=0,0,(AP10*((LOG(AP10))/LOG(2))))","v":-0.51927492540087561},null,{"$f":"N10","v":122},{"$f":"COUNTIF(L180:L214,AS10)","v":12},{"$f":"AT10/(AV4-AT11)","v":0.35294117647058826},{"$f":"IF(AU10=0,0,(AU10*((LOG(AU10))/LOG(2))))","v":-0.53029423783382934}]
[21,485,11,494,22,501,null,null,null,null,0,212,null,211,{"$f":"COUNTIF($L$7:$L$500,N11)","v":0},{"$f":"O11/$Q$4","v":0},{"$f":"IF(P11=0,0,(P11*((LOG(P11))/LOG(2))))","v":0},null,null,{"$f":"N11","v":211},{"$f":"COUNTIF(L7:L41,T11)","v":0},null,null,null,{"$f":"N11","v":211},{"$f":"COUNTIF(L42:L75,Y11)","v":0},null,null,null,{"$f":"N11","v":211},{"$f":"COUNTIF(L76:L110,AD11)","v":0},null,null,null,{"$f":"N11","v":211},{"$f":"COUNTIF(L111:L145,AI11)","v":0},null,null,null,{"$f":"N11","v":211},{"$f":"COUNTIF(L146:L179,AN11)","v":0},null,null,null,{"$f":"N11","v":211},{"$f":"COUNTIF(L180:L214,AS11)","v":0}]
[21,607,22,612,24,619,null,null,null,null,0,222,null,212,{"$f":"COUNTIF($L$7:$L$500,N12)","v":13},{"$f":"O12/$Q$4","v":6.280193236714976E-2},{"$f":"IF(P12=0,0,(P12*((LOG(P12))/LOG(2))))","v":-0.2507710826650098},null,null,{"$f":"N12","v":212},{"$f":"COUNTIF(L7:L41,T12)","v":2},{"$f":"U12/(W4-U11)","v":5.7142857142857141E-2},{"$f":"IF(V12=0,0,(V12*((LOG(V12))/LOG(2))))","v":-0.23595902953971234},null,{"$f":"N12","v":212},{"$f":"COUNTIF(L42:L75,Y12)","v":2},{"$f":"Z12/(AB4-Z11)","v":5.8823529411764705E-2},{"$f":"IF(AA12=0,0,(AA12*((LOG(AA12))/LOG(2))))","v":-0.24043899066178465},null,{"$f":"N12","v":212},{"$f":"COUNTIF(L76:L110,AD12)","v":3},{"$f":"AE12/(AG4-AE11)","v":8.5714285714285715E-2},{"$f":"IF(AF12=0,0,(AF12*((LOG(AF12))/LOG(2))))","v":-0.30379890139061233},null,{"$f":"N12","v":212},{"$f":"COUNTIF(L111:L145,AI12)","v":3},{"$f":"AJ12/(AL4-AJ11)","v":8.5714285714285715E-2},{"$f":"IF(AK12=0,0,(AK12*((LOG(AK12))/LOG(2))))","v":-0.30379890139061233},null,{"$f":"N12","v":212},{"$f":"COUNTIF(L146:L179,AN12)","v":2},{"$f":"AO12/(AQ4-AO11)","v":5.8823529411764705E-2},{"$f":"IF(AP12=0,0,(AP12*((LOG(AP12))/LOG(2))))","v":-0.24043899066178465},null,{"$f":"N12","v":212},{"$f":"COUNTIF(L180:L214,AS12)","v":1},{"$f":"AT12/(AV4-AT11)","v":2.9411764705882353E-2},{"$f":"IF(AU12=0,0,(AU12*((LOG(AU12))/LOG(2))))","v":-0.14963126003677468}]
[12,717,24,726,24,730,null,null,null,null,0,122,null,221,{"$f":"COUNTIF($L$7:$L$500,N13)","v":11},{"$f":"O13/$Q$4","v":5.3140096618357488E-2},{"$f":"IF(P13=0,0,(P13*((LOG(P13))/LOG(2))))","v":-0.22499810979460053},null,null,{"$f":"N13","v":221},{"$f":"COUNTIF(L7:L41,T13)","v":2},{"$f":"U13/(W4-U11)","v":5.7142857142857141E-2},{"$f":"IF(V13=0,0,(V13*((LOG(V13))/LOG(2))))","v":-0.23595902953971234},null,{"$f":"N13","v":221},{"$f":"COUNTIF(L42:L75,Y13)","v":5},{"$f":"Z13/(AB4-Z11)","v":0.14705882352941177},{"$f":"IF(AA13=0,0,(AA13*((LOG(AA13))/LOG(2))))","v":-0.40669628622984955},null,{"$f":"N13","v":221},{"$f":"COUNTIF(L76:L110,AD13)","v":2},{"$f":"AE13/(AG4-AE11)","v":5.7142857142857141E-2},{"$f":"IF(AF13=0,0,(AF13*((LOG(AF13))/LOG(2))))","v":-0.23595902953971234},null,{"$f":"N13","v":221},{"$f":"COUNTIF(L111:L145,AI13)","v":2},{"$f":"AJ13/(AL4-AJ11)","v":5.7142857142857141E-2},{"$f":"IF(AK13=0,0,(AK13*((LOG(AK13))/LOG(2))))","v":-0.23595902953971234},null,{"$f":"N13","v":221},{"$f":"COUNTIF(L146:L179,AN13)","v":0},{"$f":"AO13/(AQ4-AO11)","v":0},{"$f":"IF(AP13=0,0,(AP13*((LOG(AP13))/LOG(2))))","v":0},null,{"$f":"N13","v":221},{"$f":"COUNTIF(L180:L214,AS13)","v":0},{"$f":"AT13/(AV4-AT11)","v":0},{"$f":"IF(AU13=0,0,(AU13*((LOG(AU13))/LOG(2))))","v":0}]
[21,826,22,831,24,835,null,null,null,null,0,222,null,222,{"$f":"COUNTIF($L$7:$L$500,N14)","v":48},{"$f":"O14/$Q$4","v":0.2318840579710145},{"$f":"IF(P14=0,0,(P14*((LOG(P14))/LOG(2))))","v":-0.48893320736885082},null,null,{"$f":"N14","v":222},{"$f":"COUNTIF(L7:L41,T14)","v":12},{"$f":"U14/(W4-U11)","v":0.34285714285714286},{"$f":"IF(V14=0,0,(V14*((LOG(V14))/LOG(2))))","v":-0.52948131984816349},null,{"$f":"N14","v":222},{"$f":"COUNTIF(L42:L75,Y14)","v":14},{"$f":"Z14/(AB4-Z11)","v":0.41176470588235292},{"$f":"IF(AA14=0,0,(AA14*((LOG(AA14))/LOG(2))))","v":-0.52710326084406744},null,{"$f":"N14","v":222},{"$f":"COUNTIF(L76:L110,AD14)","v":10},{"$f":"AE14/(AG4-AE11)","v":0.2857142857142857},{"$f":"IF(AF14=0,0,(AF14*((LOG(AF14))/LOG(2))))","v":-0.51638712058788683},null,{"$f":"N14","v":222},{"$f":"COUNTIF(L111:L145,AI14)","v":6},{"$f":"AJ14/(AL4-AJ11)","v":0.17142857142857143},{"$f":"IF(AK14=0,0,(AK14*((LOG(AK14))/LOG(2))))","v":-0.43616923135265318},null,{"$f":"N14","v":222},{"$f":"COUNTIF(L146:L179,AN14)","v":4},{"$f":"AO14/(AQ4-AO11)","v":0.11764705882352941},{"$f":"IF(AP14=0,0,(AP14*((LOG(AP14))/LOG(2))))","v":-0.36323092250003997},null,{"$f":"N14","v":222},{"$f":"COUNTIF(L180:L214,AS14)","v":2},{"$f":"AT14/(AV4-AT11)","v":5.8823529411764705E-2},{"$f":"IF(AU14=0,0,(AU14*((LOG(AU14))/LOG(2))))","v":-0.24043899066178465}]
[12,933,13,950,24,958,null,null,null,null,0,112,null,null,null,{"$f":"SUM(P7:P14)","v":1},{"$f":"-SUM(Q7:Q14)","v":2.4793012593648927},null,null,null,null,{"$f":"SUM(V7:V14)","v":1},{"$f":"-SUM(W7:W14)","v":2.464019802226558},null,null,null,{"$f":"SUM(AA7:AA14)","v":1},{"$f":"-SUM(AB7:AB14)","v":2.2215235943025724},null,null,null,{"$f":"SUM(AF7:AF14)","v":1},{"$f":"-SUM(AG7:AG14)","v":2.4194277639645678},null,null,null,{"$f":"SUM(AK7:AK14)","v":1},{"$f":"-SUM(AL7:AL14)","v":2.5095520320389384},null,null,null,{"$f":"SUM(AP7:AP14)","v":1},{"$f":"-SUM(AQ7:AQ14)","v":2.1661393917001095},null,null,null,{"$f":"SUM(AU7:AU14)","v":1},{"$f":"-SUM(AV7:AV14)","v":1.8044361076391144}]
[12,1061,24,1068,24,1082,null,null,null,null,0,122,null,null,null,"U=",{"$f":"Q15/(LOG(Q4)/LOG(2))","v":0.32225975985416627},null,null,null,null,"U1=",{"$f":"W15/(LOG(W4)/LOG(2))","v":0.48038289056901057},null,null,null,"U2=",{"$f":"AB15/(LOG(AB4)/LOG(2))","v":0.4366663037398405},null,null,null,"U3=",{"$f":"AG15/(LOG(AG4)/LOG(2))","v":0.47168927040520264},null,null,null,"U4=",{"$f":"AL15/(LOG(AL4)/LOG(2))","v":0.48925980955787529},null,null,null,"U5=",{"$f":"AQ15/(LOG(AQ4)/LOG(2))","v":0.42577989447638703},null,null,null,"U6=",{"$f":"AV15/(LOG(AV4)/LOG(2))","v":0.35468290657738555}]
[12,1183,24,1190,24,1197,null,null,null,null,0,122]
[12,1295,13,1299,13,1304,null,null,null,null,0,111]
[21,1409,11,1417,22,1424,null,null,null,null,0,212,null,"Total Target Seq"]
[21,1529,22,1533,24,1541,null,null,null,null,0,222,null,{"$f":"COUNTIF(L7:L214,G3)","v":0},null,35,34,35,35,34,35]
[21,1637,22,1653,24,1667,null,null,null,null,0,222,null,null,null,"% of reinforcement given in 6 equal intervals based on number of trials "]
[21,1769,22,1782,13,1802,null,null,null,null,0,221,null,null,null,"%_1","%_2","%_3","%_4","%_5","%_6"]
[12,1913,24,1920,24,1927,null,null,null,null,0,122,null,null,"target sequence",{"$f":"$G$3","v":211},{"$f":"$G$3","v":211},{"$f":"$G$3","v":211},{"$f":"$G$3","v":211},{"$f":"$G$3","v":211},{"$f":"$G$3","v":211}]
[21,2025,22,2037,24,2053,null,null,null,null,0,222,null,null,"total reinforcement",{"$f":"U11","v":0},{"$f":"Z11","v":0},{"$f":"AE11","v":0},{"$f":"AJ11","v":0},{"$f":"AO11","v":0},{"$f":"AT11","v":0}]
[12,2150,13,2154,13,2159,null,null,null,null,0,111,null,null,"% target"]
[12,2259,13,2273,24,2280,null,null,null,null,0,112,null,null,"CCRF"]
[12,2380,24,2388,24,2392,null,null,null,null,0,122,null,null,"% CCRf"]
[12,2493,13,2497,13,2501,null,null,null,null,0,111,null,null,"average response rate",{"$f":"F41/P20","v":114.62857142857143},{"$f":"(F75-F41)/Q20","v":115.82352941176471},{"$f":"(F110-F75)/R20","v":113.88571428571429},{"$f":"(F145-F110)/S20","v":116.94285714285714},{"$f":"(F179-F145)/T20","v":116.29411764705883},{"$f":"(F214-F179)/U20","v":-570.94285714285718}]
[12,2596,24,2605,13,2615,null,null,null,null,0,121]
[12,2713,13,2727,13,2738,null,null,null,null,0,111]
[12,2835,13,2839,13,2843,null,null,null,null,0,111]
[12,2945,24,2952,24,2957,null,null,null,null,0,122]
[21,3057,22,3062,24,3066,null,null,null,null,0,222]
[12,3163,24,3171,24,3175,null,null,null,null,0,122]
[21,3273,22,3276,24,3288,null,null,null,null,0,222]
[21,3387,22,3399,24,3423,null,null,null,null,0,222]
[12,3532,24,3539,13,3550,null,null,null,null,0,121]
[21,3652,22,3656,24,3670,null,null,null,null,0,222]
[21,3768,22,3784,24,3791,null,null,null,null,0,222]
[21,3897,22,3904,24,3908,null,null,null,null,0,222]
[12,4003,13,4008,13,4012,null,null,null,null,0,111]
[21,4120,22,4124,24,4129,null,null,null,null,0,222]
[21,4234,22,4238,13,4265,null,null,null,null,0,221]
[21,4364,22,4369,13,4380,null,null,null,null,0,221]
[21,4479,22,4483,24,4507,null,null,null,null,0,222]
[12,4604,13,4612,13,4616,null,null,null,null,0,111]
[12,4723,24,4730,24,4744,null,null,null,null,0,122]
[21,4845,22,4849,24,4854,null,null,null,null,0,222]
[12,4950,13,4954,24,4961,null,null,null,null,0,112]
[21,5058,22,5062,24,5066,null,null,null,null,0,222]
[21,5163,22,5171,24,5175,null,null,null,null,0,222]
[12,5273,24,5281,24,5288,null,null,null,null,0,122]
[21,5389,22,5418,24,5432,null,null,null,null,0,222]
[21,5532,11,5545,22,5552,null,null,null,null,0,212]
[12,5658,24,5665,24,5672,null,null,null,null,0,122]
[12,5770,24,5777,24,5782,null,null,null,null,0,122]
[12,5892,24,5899,24,5904,null,null,null,null,0,122]
[21,6001,22,6006,24,6010,null,null,null,null,0,222]
[21,6107,22,6111,13,6121,null,null,null,null,0,221]
[21,6217,22,6221,24,6228,null,null,null,null,0,222]
[21,6331,22,6335,13,6349,null,null,null,null,0,221]
[12,6449,24,6456,13,6467,null,null,null,null,0,121]
[12,6572,24,6580,24,6587,null,null,null,null,0,122]
[12,6690,13,6701,13,6718,null,null,null,null,0,111]
[21,6817,22,6821,13,6837,null,null,null,null,0,221]
[21,6947,11,6959,22,6969,null,null,null,null,0,212]
[21,7066,22,7070,24,7075,null,null,null,null,0,222]
[21,7174,22,7178,24,7182,null,null,null,null,0,222]
[12,7279,24,7286,24,7290,null,null,null,null,0,122]
[21,7391,22,7394,24,7398,null,null,null,null,0,222]
[21,7502,22,7506,24,7513,null,null,null,null,0,222]
[21,7609,22,7614,24,7618,null,null,null,null,0,222]
[12,7717,24,7724,24,7728,null,null,null,null,0,122]
[21,7831,22,7836,24,7840,null,null,null,null,0,222]
[12,7937,24,7945,24,7950,null,null,null,null,0,122]
[12,8048,24,8055,24,8059,null,null,null,null,0,122]
[12,8157,13,8164,24,8171,null,null,null,null,0,112]
[12,8268,13,8273,24,8281,null,null,null,null,0,112]
[21,8388,22,8393,24,8397,null,null,null,null,0,222]
[12,8494,13,8498,13,8508,null,null,null,null,0,111]
[12,8603,24,8610,24,8616,null,null,null,null,0,122]
[21,8721,22,8731,24,8738,null,null,null,null,0,222]
[12,8836,24,8843,24,8847,null,null,null,null,0,122]
[21,8946,22,8951,24,8955,null,null,null,null,0,222]
[21,9059,22,9063,24,9070,null,null,null,null,0,222]
[12,9169,24,9176,24,9182,null,null,null,null,0,122]
[21,9284,22,9289,13,9299,null,null,null,null,0,221]
[21,9398,22,9401,24,9405,null,null,null,null,0,222]
[12,9501,13,9511,24,9519,null,null,null,null,0,112]
[21,9624,22,9628,24,9639,null,null,null,null,0,222]
[21,9735,11,9755,22,9766,null,null,null,null,0,212]
[12,9868,24,9879,24,9886,null,null,null,null,0,122]
[21,9996,22,10000,13,10010,null,null,null,null,0,221]
[12,10106,13,10110,24,10117,null,null,null,null,0,112]
[12,10213,13,10217,24,10225,null,null,null,null,0,112]
[12,10322,13,10331,24,10338,null,null,null,null,0,112]
[12,10435,24,10446,13,10456,null,null,null,null,0,121]
[12,10556,24,10563,24,10567,null,null,null,null,0,122]
[21,10668,22,10671,24,10675,null,null,null,null,0,222]
[12,10774,24,10781,24,10785,null,null,null,null,0,122]
[21,10888,22,10893,24,10896,null,null,null,null,0,222]
[12,10994,24,11002,24,11006,null,null,null,null,0,122]
[12,11107,13,11117,24,11128,null,null,null,null,0,112]
[12,11235,24,11243,13,11253,null,null,null,null,0,121]
[21,11358,22,11362,24,11365,null,null,null,null,0,222]
[21,11465,22,11469,24,11473,null,null,null,null,0,222]
[12,11576,24,11583,24,11589,null,null,null,null,0,122]
[21,11688,11,11697,22,11704,null,null,null,null,0,212]
[12,11796,24,11805,24,11809,null,null,null,null,0,122]
[21,11913,11,11926,22,11936,null,null,null,null,0,212]
[21,12036,22,12041,24,12047,null,null,null,null,0,222]
[12,12145,24,12152,24,12157,null,null,null,null,0,122]
[21,12269,22,12273,24,12289,null,null,null,null,0,222]
[21,12391,22,12395,24,12400,null,null,null,null,0,222]
[12,12498,13,12507,24,12514,null,null,null,null,0,112]
[21,12618,22,12622,24,12626,null,null,null,null,0,222]
[12,12723,13,12731,24,12745,null,null,null,null,0,112]
[12,12845,24,12854,13,12865,null,null,null,null,0,121]
[12,12962,13,12966,13,12971,null,null,null,null,0,111]
[12,13067,24,13084,13,13094,null,null,null,null,0,121]
[21,13194,22,13197,13,13211,null,null,null,null,0,221]
[12,13307,13,13312,13,13323,null,null,null,null,0,111]
[12,13423,24,13430,24,13443,null,null,null,null,0,122]
[12,13543,24,13553,24,13557,null,null,null,null,0,122]
[21,13659,22,13663,13,13676,null,null,null,null,0,221]
[21,13780,22,13784,24,13794,null,null,null,null,0,222]
[12,13892,24,13900,24,13908,null,null,null,null,0,122]
[21,14006,11,14022,22,14030,null,null,null,null,0,212]
[21,14124,11,14133,22,14140,null,null,null,null,0,212]
[21,14242,22,14246,24,14252,null,null,null,null,0,222]
[12,14349,13,14357,24,14365,null,null,null,null,0,112]
[12,14466,24,14473,24,14481,null,null,null,null,0,122]
[12,14578,24,14585,24,14589,null,null,null,null,0,122]
[12,14714,24,14722,24,14729,null,null,null,null,0,122]
[12,14836,24,14844,24,14854,null,null,null,null,0,122]
[12,14964,24,14975,24,14983,null,null,null,null,0,122]
[12,15080,24,15094,24,15098,null,null,null,null,0,122]
[12,15195,13,15203,24,15210,null,null,null,null,0,112]
[12,15326,24,15336,13,15346,null,null,null,null,0,121]
[12,15444,13,15456,24,15464,null,null,null,null,0,112]
[12,15561,24,15569,24,15573,null,null,null,null,0,122]
[12,15669,13,15677,24,15685,null,null,null,null,0,112]
[12,15782,13,15790,24,15798,null,null,null,null,0,112]
[12,15896,24,15904,24,15908,null,null,null,null,0,122]
[21,16012,11,16021,22,16029,null,null,null,null,0,212]
[21,16128,22,16132,24,16138,null,null,null,null,0,222]
[12,16235,13,16245,24,16252,null,null,null,null,0,112]
[12,16350,24,16365,24,16371,null,null,null,null,0,122]
[12,16464,24,16479,13,16489,null,null,null,null,0,121]
[12,16591,24,16605,24,16609,null,null,null,null,0,122]
[12,16707,13,16715,24,16722,null,null,null,null,0,112]
[12,16820,13,16824,13,16835,null,null,null,null,0,111]
[12,16932,13,16940,24,16950,null,null,null,null,0,112]
[12,17047,13,17051,24,17059,null,null,null,null,0,112]
[12,17162,24,17170,24,17177,null,null,null,null,0,122]
[21,17280,22,17284,24,17288,null,null,null,null,0,222]
[12,17386,13,17391,13,17399,null,null,null,null,0,111]
[12,17498,24,17506,24,17510,null,null,null,null,0,122]
[12,17610,24,17619,24,17623,null,null,null,null,0,122]
[12,17720,24,17728,24,17733,null,null,null,null,0,122]
[12,17831,13,17838,24,17848,null,null,null,null,0,112]
[12,17959,24,17966,24,17973,null,null,null,null,0,122]
[12,18072,13,18080,24,18087,null,null,null,null,0,112]
[12,18185,24,18192,24,18196,null,null,null,null,0,122]
[21,18304,22,18308,24,18315,null,null,null,null,0,222]
[12,18413,13,18428,24,18436,null,null,null,null,0,112]
[12,18534,13,18541,24,18548,null,null,null,null,0,112]
[12,18649,24,18657,24,18662,null,null,null,null,0,122]
[12,18761,13,18775,24,18785,null,null,null,null,0,112]
[12,18882,13,18886,13,18899,null,null,null,null,0,111]
[12,18996,13,19003,24,19010,null,null,null,null,0,112]
[12,19107,13,19114,24,19121,null,null,null,null,0,112]
[12,19225,24,19232,24,19237,null,null,null,null,0,122]
[12,19335,13,19341,24,19349,null,null,null,null,0,112]
[12,19446,13,19458,24,19466,null,null,null,null,0,112]
[12,19563,13,19567,13,19578,null,null,null,null,0,111]
[21,19679,11,19697,22,19705,null,null,null,null,0,212]
[21,19807,22,19811,24,19818,null,null,null,null,0,222]
[21,19958,11,19972,22,19983,null,null,null,null,0,212]
[21,20088,22,20095,24,20100,null,null,null,null,0,222]
[12,20202,24,20210,24,20214,null,null,null,null,0,122]
[12,20311,13,20318,24,20326,null,null,null,null,0,112]
[12,20423,24,20435,24,20439,null,null,null,null,0,122]
[12,20536,13,20539,13,20544,null,null,null,null,0,111]
[12,20643,13,20650,24,20658,null,null,null,null,0,112]
[12,20771,24,20778,24,20784,null,null,null,null,0,122]
[12,20882,13,20889,24,20896,null,null,null,null,0,112]
[12,20998,13,21005,24,21013,null,null,null,null,0,112]
[12,21113,13,21117,13,21129,null,null,null,null,0,111]
[12,21227,13,21234,24,21241,null,null,null,null,0,112]
[12,21341,24,21352,24,21358,null,null,null,null,0,122]
[12,21456,13,21461,24,21469,null,null,null,null,0,112]
[12,21565,13,21570,13,21579,null,null,null,null,0,111]
[12,21679,13,21690,24,21697,null,null,null,null,0,112]
[12,21794,13,21801,24,21808,null,null,null,null,0,112]
[12,21905,24,21928,24,21933,null,null,null,null,0,122]
[12,22033,24,22041,24,22046,null,null,null,null,0,122]
[12,22144,13,22148,24,22159,null,null,null,null,0,112]
[21,22264,11,22276,22,22283,null,null,null,null,0,212]
[21,22388,22,22392,24,22403,null,null,null,null,0,222]
[12,22500,13,22507,24,22514,null,null,null,null,0,112]
[12,22616,13,22623,24,22631,null,null,null,null,0,112]
[12,22727,13,22731,13,22743,null,null,null,null,0,111]
[12,22840,24,22850,24,22854,null,null,null,null,0,122]
[12,22954,13,22958,24,22968,null,null,null,null,0,112]
[12,23064,24,23075,24,23079,null,null,null,null,0,122]
[12,23180,13,23190,24,23199,null,null,null,null,0,112]
[12,23299,24,23309,24,23313,null,null,null,null,0,122]
[12,23411,13,23415,24,23425,null,null,null,null,0,112]
[12,23522,13,23529,24,23538,null,null,null,null,0,112]
[12,23637,24,23645,24,23650,null,null,null,null,0,122]
[12,23760,24,23768,24,23773,null,null,null,null,0,122]
[12,23871,24,23883,24,23886,null,null,null,null,0,122]
[21,23994,22,23999,null,null,null,null,null,null,null,22]

{"sheet":"!MC07B00.096","index":9,"n_rows":214,"n_cols":48,"rows_kept":214,"cut":false,"hidden":false,"merged":[[4,39,4,42],[5,39,5,40],[4,44,4,47],[5,44,5,45],[4,24,4,27],[5,24,5,25],[4,29,4,32],[5,29,5,30],[4,34,4,37],[5,34,5,35],[1,1,1,2],[5,13,5,14],[18,13,18,14],[19,13,19,14],[4,19,4,22],[5,19,5,20]]}
["Report for:!MC07B00.096"]
["Date:","<date>"]
["Hen:","<hen>",null,null,null,"Correct Sequence",{"$f":"Start!J2","v":211},null,null,null,null,null,null,null,null,"Total Sequences in Data",{"$f":"4994-COUNTBLANK(L7:L5000)","v":208},null,null,null,null,"Total Sequences in Block Data",{"$f":"COUNTA(L7:L41)","v":35},null,null,null,"Total Sequences in Block Data",{"$f":"COUNTA(L42:L75)","v":34},null,null,null,"Total Sequences in Block Data",{"$f":"COUNTA(L76:L110)","v":35},null,null,null,"Total Sequences in Block Data",{"$f":"COUNTA(L111:L145)","v":35},null,null,null,"Total Sequences in Block Data",{"$f":"COUNTA(L146:L179)","v":34},null,null,null,"Total Sequences in Block Data",{"$f":"COUNTA(L180:L214)","v":35}]
[null,null,null,null,null,null,null,null,null,null,null,null,null,null,null,"Total Sequences in Summary",{"$f":"SUM(O7:O14)","v":208},null,null,null,null,"Total Sequences in Block Summary",{"$f":"SUM(U7:U14)","v":35},null,null,null,"Total Sequences in Block Summary",{"$f":"SUM(Z7:Z14)","v":34},null,null,null,"Total Sequences in Block Summary",{"$f":"SUM(AE7:AE14)","v":35},null,null,null,"Total Sequences in Block Summary",{"$f":"SUM(AJ7:AJ14)","v":35},null,null,null,"Total Sequences in Block Summary",{"$f":"SUM(AO7:AO14)","v":34},null,null,null,"Total Sequences in Block Summary",{"$f":"SUM(AT7:AT14)","v":35}]
[null,null,null,null,null,null,null,null,null,null,null,null,null,null,null,null,null,null,null,"Block 1",null,null,null,null,"Block 2",null,null,null,null,"Block 3",null,null,null,null,"Block 4",null,null,null,null,"Block 5",null,null,null,null,"Block 6"]
["Sequence\nComponent\n1","Time\n1","Sequence\nComponent\n2","Time\n2","Sequence\nComponent\n3","Time\n3","Sequence\nComponent\n4","Time\n4","Sequence\nComponent\n5","Time\n5","Correct?\n0=No 1=Yes","Sequence",null,"Frequency",null,"Relative Frequency","Variability",null,null,"Frequency",null,"Relative Frequency","Variability",null,"Frequency",null,"Relative Frequency","Variability",null,"Frequency",null,"Relative Frequency","Variability",null,"Frequency",null,"Relative Frequency","Variability",null,"Frequency",null,"Relative Frequency","Variability",null,"Frequency",null,"Relative Frequency","Variability"]
[12,8,13,14,13,19,null,null,null,null,0,111,null,111,{"$f":"COUNTIF($L$7:$L$500,N7)","v":29},{"$f":"O7/$Q$4","v":0.13942307692307693},{"$f":"IF(P7=0,0,(P7*((LOG(P7))/LOG(2))))","v":-0.39630434118938501},null,null,{"$f":"N7","v":111},{"$f":"COUNTIF(L7:L41,T7)","v":8},{"$f":"U7/(W4-U11)","v":0.22857142857142856},{"$f":"IF(V7=0,0,(V7*((LOG(V7))/LOG(2))))","v":-0.48669326101599231},null,{"$f":"N7","v":111},{"$f":"COUNTIF(L42:L75,Y7)","v":2},{"$f":"Z7/(AB4-Z11)","v":5.8823529411764705E-2},{"$f":"IF(AA7=0,0,(AA7*((LOG(AA7))/LOG(2))))","v":-0.24043899066178465},null,{"$f":"N7","v":111},{"$f":"COUNTIF(L76:L110,AD7)","v":4},{"$f":"AE7/(AG4-AE11)","v":0.11428571428571428},{"$f":"IF(AF7=0,0,(AF7*((LOG(AF7))/LOG(2))))","v":-0.35763234479371042},null,{"$f":"N7","v":111},{"$f":"COUNTIF(L111:L145,AI7)","v":6},{"$f":"AJ7/(AL4-AJ11)","v":0.17142857142857143},{"$f":"IF(AK7=0,0,(AK7*((LOG(AK7))/LOG(2))))","v":-0.43616923135265318},null,{"$f":"N7","v":111},{"$f":"COUNTIF(L146:L179,AN7)","v":7},{"$f":"AO7/(AQ4-AO11)","v":0.20588235294117646},{"$f":"IF(AP7=0,0,(AP7*((LOG(AP7))/LOG(2))))","v":-0.46943398336321018},null,{"$f":"N7","v":111},{"$f":"COUNTIF(L180:L214,AS7)","v":2},{"$f":"AT7/(AV4-AT11)","v":5.7142857142857141E-2},{"$f":"IF(AU7=0,0,(AU7*((LOG(AU7))/LOG(2))))","v":-0.23595902953971234}]
[12,123,24,130,24,137,null,null,null,null,0,122,null,112,{"$f":"COUNTIF($L$7:$L$500,N8)","v":74},{"$f":"O8/$Q$4","v":0.35576923076923078},{"$f":"IF(P8=0,0,(P8*((LOG(P8))/LOG(2))))","v":-0.53044706772066608},null,null,{"$f":"N8","v":112},{"$f":"COUNTIF(L7:L41,T8)","v":6},{"$f":"U8/(W4-U11)","v":0.17142857142857143},{"$f":"IF(V8=0,0,(V8*((LOG(V8))/LOG(2))))","v":-0.43616923135265318},null,{"$f":"N8","v":112},{"$f":"COUNTIF(L42:L75,Y8)","v":11},{"$f":"Z8/(AB4-Z11)","v":0.3235294117647059},{"$f":"IF(AA8=0,0,(AA8*((LOG(AA8))/LOG(2))))","v":-0.52671598378657247},null,{"$f":"N8","v":112},{"$f":"COUNTIF(L76:L110,AD8)","v":15},{"$f":"AE8/(AG4-AE11)","v":0.42857142857142855},{"$f":"IF(AF8=0,0,(AF8*((LOG(AF8))/LOG(2))))","v":-0.52388246628704915},null,{"$f":"N8","v":112},{"$f":"COUNTIF(L111:L145,AI8)","v":18},{"$f":"AJ8/(AL4-AJ11)","v":0.51428571428571423},{"$f":"IF(AK8=0,0,(AK8*((LOG(AK8))/LOG(2))))","v":-0.49338412225850781},null,{"$f":"N8","v":112},{"$f":"COUNTIF(L146:L179,AN8)","v":9},{"$f":"AO8/(AQ4-AO11)","v":0.26470588235294118},{"$f":"IF(AP8=0,0,(AP8*((LOG(AP8))/LOG(2))))","v":-0.50758354583153664},null,{"$f":"N8","v":112},{"$f":"COUNTIF(L180:L214,AS8)","v":15},{"$f":"AT8/(AV4-AT11)","v":0.42857142857142855},{"$f":"IF(AU8=0,0,(AU8*((LOG(AU8))/LOG(2))))","v":-0.52388246628704915}]
[12,242,24,250,24,256,null,null,null,null,0,122,null,121,{"$f":"COUNTIF($L$7:$L$500,N9)","v":6},{"$f":"O9/$Q$4","v":2.8846153846153848E-2},{"$f":"IF(P9=0,0,(P9*((LOG(P9))/LOG(2))))","v":-0.14756184281019047},null,null,{"$f":"N9","v":121},{"$f":"COUNTIF(L7:L41,T9)","v":2},{"$f":"U9/(W4-U11)","v":5.7142857142857141E-2},{"$f":"IF(V9=0,0,(V9*((LOG(V9))/LOG(2))))","v":-0.23595902953971234},null,{"$f":"N9","v":121},{"$f":"COUNTIF(L42:L75,Y9)","v":1},{"$f":"Z9/(AB4-Z11)","v":2.9411764705882353E-2},{"$f":"IF(AA9=0,0,(AA9*((LOG(AA9))/LOG(2))))","v":-0.14963126003677468},null,{"$f":"N9","v":121},{"$f":"COUNTIF(L76:L110,AD9)","v":1},{"$f":"AE9/(AG4-AE11)","v":2.8571428571428571E-2},{"$f":"IF(AF9=0,0,(AF9*((LOG(AF9))/LOG(2))))","v":-0.14655094334128474},null,{"$f":"N9","v":121},{"$f":"COUNTIF(L111:L145,AI9)","v":2},{"$f":"AJ9/(AL4-AJ11)","v":5.7142857142857141E-2},{"$f":"IF(AK9=0,0,(AK9*((LOG(AK9))/LOG(2))))","v":-0.23595902953971234},null,{"$f":"N9","v":121},{"$f":"COUNTIF(L146:L179,AN9)","v":0},{"$f":"AO9/(AQ4-AO11)","v":0},{"$f":"IF(AP9=0,0,(AP9*((LOG(AP9))/LOG(2))))","v":0},null,{"$f":"N9","v":121},{"$f":"COUNTIF(L180:L214,AS9)","v":0},{"$f":"AT9/(AV4-AT11)","v":0},{"$f":"IF(AU9=0,0,(AU9*((LOG(AU9))/LOG(2))))","v":0}]
[21,351,22,355,24,359,null,null,null,null,0,222,null,122,{"$f":"COUNTIF($L$7:$L$500,N10)","v":35},{"$f":"O10/$Q$4","v":0.16826923076923078},{"$f":"IF(P10=0,0,(P10*((LOG(P10))/LOG(2))))","v":-0.43264656029742499},null,null,{"$f":"N10","v":122},{"$f":"COUNTIF(L7:L41,T10)","v":8},{"$f":"U10/(W4-U11)","v":0.22857142857142856},{"$f":"IF(V10=0,0,(V10*((LOG(V10))/LOG(2))))","v":-0.48669326101599231},null,{"$f":"N10","v":122},{"$f":"COUNTIF(L42:L75,Y10)","v":2},{"$f":"Z10/(AB4-Z11)","v":5.8823529411764705E-2},{"$f":"IF(AA10=0,0,(AA10*((LOG(AA10))/LOG(2))))","v":-0.24043899066178465},null,{"$f":"N10","v":122},{"$f":"COUNTIF(L76:L110,AD10)","v":6},{"$f":"AE10/(AG4-AE11)","v":0.17142857142857143},{"$f":"IF(AF10=0,0,(AF10*((LOG(AF10))/LOG(2))))","v":-0.43616923135265318},null,{"$f":"N10","v":122},{"$f":"COUNTIF(L111:L145,AI10)","v":3},{"$f":"AJ10/(AL4-AJ11)","v":8.5714285714285715E-2},{"$f":"IF(AK10=0,0,(AK10*((LOG(AK10))/LOG(2))))","v":-0.30379890139061233},null,{"$f":"N10","v":122},{"$f":"COUNTIF(L146:L179,AN10)","v":9},{"$f":"AO10/(AQ4-AO11)","v":0.26470588235294118},{"$f":"IF(AP10=0,0,(AP10*((LOG(AP10))/LOG(2))))","v":-0.50758354583153664},null,{"$f":"N10","v":122},{"$f":"COUNTIF(L180:L214,AS10)","v":7},{"$f":"AT10/(AV4-AT11)","v":0.2},{"$f":"IF(AU10=0,0,(AU10*((LOG(AU10))/LOG(2))))","v":-0.46438561897747244}]
[12,458,24,465,24,470,null,null,null,null,0,122,null,211,{"$f":"COUNTIF($L$7:$L$500,N11)","v":0},{"$f":"O11/$Q$4","v":0},{"$f":"IF(P11=0,0,(P11*((LOG(P11))/LOG(2))))","v":0},null,null,{"$f":"N11","v":211},{"$f":"COUNTIF(L7:L41,T11)","v":0},null,null,null,{"$f":"N11","v":211},{"$f":"COUNTIF(L42:L75,Y11)","v":0},null,null,null,{"$f":"N11","v":211},{"$f":"COUNTIF(L76:L110,AD11)","v":0},null,null,null,{"$f":"N11","v":211},{"$f":"COUNTIF(L111:L145,AI11)","v":0},null,null,null,{"$f":"N11","v":211},{"$f":"COUNTIF(L146:L179,AN11)","v":0},null,null,null,{"$f":"N11","v":211},{"$f":"COUNTIF(L180:L214,AS11)","v":0}]
[12,568,13,572,24,606,null,null,null,null,0,112,null,212,{"$f":"COUNTIF($L$7:$L$500,N12)","v":17},{"$f":"O12/$Q$4","v":8.1730769230769232E-2},{"$f":"IF(P12=0,0,(P12*((LOG(P12))/LOG(2))))","v":-0.29529137936126343},null,null,{"$f":"N12","v":212},{"$f":"COUNTIF(L7:L41,T12)","v":1},{"$f":"U12/(W4-U11)","v":2.8571428571428571E-2},{"$f":"IF(V12=0,0,(V12*((LOG(V12))/LOG(2))))","v":-0.14655094334128474},null,{"$f":"N12","v":212},{"$f":"COUNTIF(L42:L75,Y12)","v":6},{"$f":"Z12/(AB4-Z11)","v":0.17647058823529413},{"$f":"IF(AA12=0,0,(AA12*((LOG(AA12))/LOG(2))))","v":-0.44161770715220888},null,{"$f":"N12","v":212},{"$f":"COUNTIF(L76:L110,AD12)","v":6},{"$f":"AE12/(AG4-AE11)","v":0.17142857142857143},{"$f":"IF(AF12=0,0,(AF12*((LOG(AF12))/LOG(2))))","v":-0.43616923135265318},null,{"$f":"N12","v":212},{"$f":"COUNTIF(L111:L145,AI12)","v":1},{"$f":"AJ12/(AL4-AJ11)","v":2.8571428571428571E-2},{"$f":"IF(AK12=0,0,(AK12*((LOG(AK12))/LOG(2))))","v":-0.14655094334128474},null,{"$f":"N12","v":212},{"$f":"COUNTIF(L146:L179,AN12)","v":3},{"$f":"AO12/(AQ4-AO11)","v":8.8235294117647065E-2},{"$f":"IF(AP12=0,0,(AP12*((LOG(AP12))/LOG(2))))","v":-0.30904414769375149},null,{"$f":"N12","v":212},{"$f":"COUNTIF(L180:L214,AS12)","v":0},{"$f":"AT12/(AV4-AT11)","v":0},{"$f":"IF(AU12=0,0,(AU12*((LOG(AU12))/LOG(2))))","v":0}]
[21,703,22,707,24,716,null,null,null,null,0,222,null,221,{"$f":"COUNTIF($L$7:$L$500,N13)","v":19},{"$f":"O13/$Q$4","v":9.1346153846153841E-2},{"$f":"IF(P13=0,0,(P13*((LOG(P13))/LOG(2))))","v":-0.31537371100602224},null,null,{"$f":"N13","v":221},{"$f":"COUNTIF(L7:L41,T13)","v":3},{"$f":"U13/(W4-U11)","v":8.5714285714285715E-2},{"$f":"IF(V13=0,0,(V13*((LOG(V13))/LOG(2))))","v":-0.30379890139061233},null,{"$f":"N13","v":221},{"$f":"COUNTIF(L42:L75,Y13)","v":8},{"$f":"Z13/(AB4-Z11)","v":0.23529411764705882},{"$f":"IF(AA13=0,0,(AA13*((LOG(AA13))/LOG(2))))","v":-0.49116772735302094},null,{"$f":"N13","v":221},{"$f":"COUNTIF(L76:L110,AD13)","v":2},{"$f":"AE13/(AG4-AE11)","v":5.7142857142857141E-2},{"$f":"IF(AF13=0,0,(AF13*((LOG(AF13))/LOG(2))))","v":-0.23595902953971234},null,{"$f":"N13","v":221},{"$f":"COUNTIF(L111:L145,AI13)","v":2},{"$f":"AJ13/(AL4-AJ11)","v":5.7142857142857141E-2},{"$f":"IF(AK13=0,0,(AK13*((LOG(AK13))/LOG(2))))","v":-0.23595902953971234},null,{"$f":"N13","v":221},{"$f":"COUNTIF(L146:L179,AN13)","v":3},{"$f":"AO13/(AQ4-AO11)","v":8.8235294117647065E-2},{"$f":"IF(AP13=0,0,(AP13*((LOG(AP13))/LOG(2))))","v":-0.30904414769375149},null,{"$f":"N13","v":221},{"$f":"COUNTIF(L180:L214,AS13)","v":1},{"$f":"AT13/(AV4-AT11)","v":2.8571428571428571E-2},{"$f":"IF(AU13=0,0,(AU13*((LOG(AU13))/LOG(2))))","v":-0.14655094334128474}]
[12,820,24,827,24,834,null,null,null,null,0,122,null,222,{"$f":"COUNTIF($L$7:$L$500,N14)","v":28},{"$f":"O14/$Q$4","v":0.13461538461538461},{"$f":"IF(P14=0,0,(P14*((LOG(P14))/LOG(2))))","v":-0.38945372254970029},null,null,{"$f":"N14","v":222},{"$f":"COUNTIF(L7:L41,T14)","v":7},{"$f":"U14/(W4-U11)","v":0.2},{"$f":"IF(V14=0,0,(V14*((LOG(V14))/LOG(2))))","v":-0.46438561897747244},null,{"$f":"N14","v":222},{"$f":"COUNTIF(L42:L75,Y14)","v":4},{"$f":"Z14/(AB4-Z11)","v":0.11764705882352941},{"$f":"IF(AA14=0,0,(AA14*((LOG(AA14))/LOG(2))))","v":-0.36323092250003997},null,{"$f":"N14","v":222},{"$f":"COUNTIF(L76:L110,AD14)","v":1},{"$f":"AE14/(AG4-AE11)","v":2.8571428571428571E-2},{"$f":"IF(AF14=0,0,(AF14*((LOG(AF14))/LOG(2))))","v":-0.14655094334128474},null,{"$f":"N14","v":222},{"$f":"COUNTIF(L111:L145,AI14)","v":3},{"$f":"AJ14/(AL4-AJ11)","v":8.5714285714285715E-2},{"$f":"IF(AK14=0,0,(AK14*((LOG(AK14))/LOG(2))))","v":-0.30379890139061233},null,{"$f":"N14","v":222},{"$f":"COUNTIF(L146:L179,AN14)","v":3},{"$f":"AO14/(AQ4-AO11)","v":8.8235294117647065E-2},{"$f":"IF(AP14=0,0,(AP14*((LOG(AP14))/LOG(2))))","v":-0.30904414769375149},null,{"$f":"N14","v":222},{"$f":"COUNTIF(L180:L214,AS14)","v":10},{"$f":"AT14/(AV4-AT11)","v":0.2857142857142857},{"$f":"IF(AU14=0,0,(AU14*((LOG(AU14))/LOG(2))))","v":-0.51638712058788683}]
[12,937,24,944,24,954,null,null,null,null,0,122,null,null,null,{"$f":"SUM(P7:P14)","v":1},{"$f":"-SUM(Q7:Q14)","v":2.5070786249346524},null,null,null,null,{"$f":"SUM(V7:V14)","v":1},{"$f":"-SUM(W7:W14)","v":2.5602502466337196},null,null,null,{"$f":"SUM(AA7:AA14)","v":1},{"$f":"-SUM(AB7:AB14)","v":2.4532415821521867},null,null,null,{"$f":"SUM(AF7:AF14)","v":1},{"$f":"-SUM(AG7:AG14)","v":2.2829141900083476},null,null,null,{"$f":"SUM(AK7:AK14)","v":1},{"$f":"-SUM(AL7:AL14)","v":2.155620158813095},null,null,null,{"$f":"SUM(AP7:AP14)","v":1},{"$f":"-SUM(AQ7:AQ14)","v":2.4117335181075381},null,null,null,{"$f":"SUM(AU7:AU14)","v":1},{"$f":"-SUM(AV7:AV14)","v":1.8871651787334058}]
[12,1055,24,1062,24,1067,null,null,null,null,0,122,null,null,null,"U=",{"$f":"Q15/(LOG(Q4)/LOG(2))","v":0.32557603418780717},null,null,null,null,"U1=",{"$f":"W15/(LOG(W4)/LOG(2))","v":0.49914388388703512},null,null,null,"U2=",{"$f":"AB15/(LOG(AB4)/LOG(2))","v":0.48221316964926603},null,null,null,"U3=",{"$f":"AG15/(LOG(AG4)/LOG(2))","v":0.44507471755147288},null,null,null,"U4=",{"$f":"AL15/(LOG(AL4)/LOG(2))","v":0.42025759773672933},null,null,null,"U5=",{"$f":"AQ15/(LOG(AQ4)/LOG(2))","v":0.47405427682982537},null,null,null,"U6=",{"$f":"AV15/(LOG(AV4)/LOG(2))","v":0.36791987739787724}]
[12,1166,13,1169,13,1173,null,null,null,null,0,111]
[12,1270,13,1274,13,1284,null,null,null,null,0,111]
[21,1383,22,1388,13,1398,null,null,null,null,0,221,null,"Total Target Seq"]
[21,1498,22,1502,24,1506,null,null,null,null,0,222,null,{"$f":"COUNTIF(L7:L214,G3)","v":0},null,35,34,35,35,34,35]
[21,1604,22,1607,24,1612,null,null,null,null,0,222,null,null,null,"% of reinforcement given in 6 equal intervals based on number of trials "]
[12,1713,13,1717,13,1722,null,null,null,null,0,111,null,null,null,"%_1","%_2","%_3","%_4","%_5","%_6"]
[21,1824,22,1828,24,1832,null,null,null,null,0,222,null,null,"target sequence",{"$f":"$G$3","v":211},{"$f":"$G$3","v":211},{"$f":"$G$3","v":211},{"$f":"$G$3","v":211},{"$f":"$G$3","v":211},{"$f":"$G$3","v":211}]
[12,1931,13,1934,13,1938,null,null,null,null,0,111,null,null,"total reinforcement",{"$f":"U11","v":0},{"$f":"Z11","v":0},{"$f":"AE11","v":0},{"$f":"AJ11","v":0},{"$f":"AO11","v":0},{"$f":"AT11","v":0}]
[12,2044,24,2051,24,2057,null,null,null,null,0,122,null,null,"% target"]
[12,2155,13,2164,24,2170,null,null,null,null,0,112,null,null,"CCRF"]
[21,2271,22,2284,13,2291,null,null,null,null,0,221,null,null,"% CCRf"]
[12,2396,24,2403,24,2423,null,null,null,null,0,122,null,null,"average response rate",{"$f":"F41/P20","v":113.48571428571428},{"$f":"(F75-F41)/Q20","v":117.91176470588235},{"$f":"(F110-F75)/R20","v":115.82857142857142},{"$f":"(F145-F110)/S20","v":114.54285714285714},{"$f":"(F179-F145)/T20","v":115.79411764705883},{"$f":"(F214-F179)/U20","v":112.22857142857143}]
[12,2539,24,2559,13,2569,null,null,null,null,0,121]
[21,2670,11,2678,22,2685,null,null,null,null,0,212]
[21,2782,22,2786,13,2796,null,null,null,null,0,221]
[12,2896,13,2907,24,2917,null,null,null,null,0,112]
[12,3025,13,3043,24,3054,null,null,null,null,0,112]
[12,3153,13,3160,13,3171,null,null,null,null,0,111]
[21,3273,22,3277,24,3284,null,null,null,null,0,222]
[12,3386,13,3395,24,3403,null,null,null,null,0,112]
[12,3500,13,3506,13,3510,null,null,null,null,0,111]
[12,3615,13,3625,24,3633,null,null,null,null,0,112]
[21,3733,22,3737,24,3742,null,null,null,null,0,222]
[12,3839,13,3845,13,3852,null,null,null,null,0,111]
[12,3953,24,3961,13,3972,null,null,null,null,0,121]
[21,4071,11,4084,22,4092,null,null,null,null,0,212]
[21,4191,22,4199,13,4209,null,null,null,null,0,221]
[12,4312,24,4319,24,4325,null,null,null,null,0,122]
[21,4426,22,4430,13,4437,null,null,null,null,0,221]
[12,4541,24,4549,24,4571,null,null,null,null,0,122]
[21,4688,22,4696,13,4703,null,null,null,null,0,221]
[21,4809,11,4817,22,4825,null,null,null,null,0,212]
[21,4925,11,4935,22,4943,null,null,null,null,0,212]
[21,5042,22,5046,24,5053,null,null,null,null,0,222]
[21,5150,22,5153,24,5158,null,null,null,null,0,222]
[12,5256,13,5264,24,5282,null,null,null,null,0,112]
[12,5392,24,5410,13,5427,null,null,null,null,0,121]
[21,5530,11,5555,22,5567,null,null,null,null,0,212]
[21,5668,11,5676,22,5694,null,null,null,null,0,212]
[21,5794,11,5802,22,5811,null,null,null,null,0,212]
[21,5911,22,5920,13,5927,null,null,null,null,0,221]
[21,6039,22,6043,13,6055,null,null,null,null,0,221]
[21,6163,22,6168,13,6181,null,null,null,null,0,221]
[21,6284,22,6288,13,6302,null,null,null,null,0,221]
[12,6403,13,6410,24,6418,null,null,null,null,0,112]
[12,6516,13,6523,24,6532,null,null,null,null,0,112]
[21,6627,22,6631,24,6635,null,null,null,null,0,222]
[21,6733,22,6736,24,6753,null,null,null,null,0,222]
[12,6851,13,6858,24,6866,null,null,null,null,0,112]
[12,6964,13,6971,24,6978,null,null,null,null,0,112]
[12,7075,13,7079,13,7083,null,null,null,null,0,111]
[12,7181,13,7189,24,7200,null,null,null,null,0,112]
[12,7297,13,7308,24,7315,null,null,null,null,0,112]
[21,7410,22,7415,13,7428,null,null,null,null,0,221]
[12,7529,13,7537,24,7546,null,null,null,null,0,112]
[12,7643,13,7650,24,7657,null,null,null,null,0,112]
[12,7754,13,7758,24,7765,null,null,null,null,0,112]
[12,7863,13,7867,13,7870,null,null,null,null,0,111]
[12,7967,13,7974,24,7981,null,null,null,null,0,112]
[12,8079,13,8086,24,8093,null,null,null,null,0,112]
[12,8190,13,8194,13,8201,null,null,null,null,0,111]
[12,8298,24,8307,24,8311,null,null,null,null,0,122]
[21,8411,11,8425,22,8431,null,null,null,null,0,212]
[12,8524,24,8531,24,8536,null,null,null,null,0,122]
[12,8632,13,8636,24,8647,null,null,null,null,0,112]
[12,8745,13,8749,24,8756,null,null,null,null,0,112]
[12,8853,13,8860,24,8868,null,null,null,null,0,112]
[21,8979,11,8998,22,9011,null,null,null,null,0,212]
[21,9110,11,9122,22,9144,null,null,null,null,0,212]
[21,9245,22,9249,24,9252,null,null,null,null,0,222]
[21,9347,11,9362,22,9370,null,null,null,null,0,212]
[12,9473,13,9488,24,9496,null,null,null,null,0,112]
[12,9594,13,9600,24,9608,null,null,null,null,0,112]
[12,9705,24,9715,24,9723,null,null,null,null,0,122]
[12,9819,13,9833,24,9843,null,null,null,null,0,112]
[12,9940,13,9947,24,9958,null,null,null,null,0,112]
[12,10057,13,10069,24,10076,null,null,null,null,0,112]
[12,10172,13,10176,13,10179,null,null,null,null,0,111]
[12,10284,24,10292,24,10298,null,null,null,null,0,122]
[12,10394,13,10398,13,10409,null,null,null,null,0,111]
[12,10513,24,10520,24,10525,null,null,null,null,0,122]
[12,10624,13,10628,24,10635,null,null,null,null,0,112]
[12,10736,13,10746,24,10756,null,null,null,null,0,112]
[21,10855,11,10863,22,10870,null,null,null,null,0,212]
[21,10968,22,10973,13,10981,null,null,null,null,0,221]
[12,11080,24,11090,24,11098,null,null,null,null,0,122]
[12,11195,13,11202,24,11213,null,null,null,null,0,112]
[12,11312,13,11316,24,11325,null,null,null,null,0,112]
[12,11423,13,11427,13,11435,null,null,null,null,0,111]
[12,11542,24,11549,13,11561,null,null,null,null,0,121]
[12,11661,13,11670,24,11677,null,null,null,null,0,112]
[12,11774,13,11781,24,11792,null,null,null,null,0,112]
[21,11895,11,11905,22,11912,null,null,null,null,0,212]
[21,12012,22,12016,13,12035,null,null,null,null,0,221]
[21,12132,22,12147,13,12155,null,null,null,null,0,221]
[12,12253,13,12260,13,12267,null,null,null,null,0,111]
[12,12364,13,12376,24,12383,null,null,null,null,0,112]
[12,12487,13,12499,24,12509,null,null,null,null,0,112]
[12,12605,13,12608,13,12615,null,null,null,null,0,111]
[21,12713,22,12718,13,12726,null,null,null,null,0,221]
[12,12824,13,12838,24,12845,null,null,null,null,0,112]
[12,12943,13,12954,24,12961,null,null,null,null,0,112]
[12,13058,13,13062,24,13070,null,null,null,null,0,112]
[12,13167,13,13176,24,13184,null,null,null,null,0,112]
[12,13280,13,13283,13,13291,null,null,null,null,0,111]
[12,13387,13,13393,24,13400,null,null,null,null,0,112]
[12,13497,13,13501,24,13509,null,null,null,null,0,112]
[12,13607,13,13612,24,13619,null,null,null,null,0,112]
[12,13718,13,13721,13,13734,null,null,null,null,0,111]
[12,13839,24,13847,13,13857,null,null,null,null,0,121]
[21,13973,22,13990,24,14009,null,null,null,null,0,222]
[21,14115,11,14122,22,14144,null,null,null,null,0,212]
[12,14236,24,14246,13,14256,null,null,null,null,0,121]
[21,14359,22,14363,24,14367,null,null,null,null,0,222]
[12,14463,13,14467,24,14474,null,null,null,null,0,112]
[12,14571,24,14579,24,14583,null,null,null,null,0,122]
[12,14679,13,14684,24,14691,null,null,null,null,0,112]
[12,14789,24,14796,24,14800,null,null,null,null,0,122]
[12,14897,13,14900,24,14909,null,null,null,null,0,112]
[12,15007,13,15011,24,15018,null,null,null,null,0,112]
[21,15118,22,15122,24,15137,null,null,null,null,0,222]
[12,15234,13,15238,24,15244,null,null,null,null,0,112]
[12,15341,13,15354,24,15361,null,null,null,null,0,112]
[12,15460,13,15464,13,15471,null,null,null,null,0,111]
[12,15568,13,15572,13,15579,null,null,null,null,0,111]
[12,15677,13,15689,24,15696,null,null,null,null,0,112]
[12,15798,13,15813,24,15821,null,null,null,null,0,112]
[12,15917,13,15921,24,15930,null,null,null,null,0,112]
[12,16029,24,16038,24,16044,null,null,null,null,0,122]
[12,16142,13,16146,24,16155,null,null,null,null,0,112]
[21,16253,11,16265,22,16273,null,null,null,null,0,212]
[21,16369,22,16374,13,16385,null,null,null,null,0,221]
[12,16483,13,16487,24,16495,null,null,null,null,0,112]
[12,16590,24,16598,24,16607,null,null,null,null,0,122]
[12,16704,13,16708,13,16716,null,null,null,null,0,111]
[12,16815,13,16825,24,16831,null,null,null,null,0,112]
[12,16931,13,16938,24,16945,null,null,null,null,0,112]
[21,17049,11,17058,22,17065,null,null,null,null,0,212]
[21,17173,22,17183,24,17190,null,null,null,null,0,222]
[12,17288,13,17294,13,17301,null,null,null,null,0,111]
[12,17406,24,17413,24,17420,null,null,null,null,0,122]
[12,17521,13,17530,13,17543,null,null,null,null,0,111]
[12,17649,24,17656,24,17663,null,null,null,null,0,122]
[21,17761,22,17765,24,17771,null,null,null,null,0,222]
[12,17870,24,17881,24,17887,null,null,null,null,0,122]
[12,17986,13,17990,13,17998,null,null,null,null,0,111]
[21,18099,11,18109,22,18116,null,null,null,null,0,212]
[21,18216,22,18220,13,18233,null,null,null,null,0,221]
[12,18330,13,18337,24,18349,null,null,null,null,0,112]
[12,18449,13,18453,24,18460,null,null,null,null,0,112]
[12,18565,24,18572,24,18592,null,null,null,null,0,122]
[12,18685,24,18696,24,18708,null,null,null,null,0,122]
[12,18806,13,18809,13,18819,null,null,null,null,0,111]
[12,18917,13,18921,13,18928,null,null,null,null,0,111]
[21,19033,22,19037,13,19047,null,null,null,null,0,221]
[12,19151,13,19161,24,19169,null,null,null,null,0,112]
[21,19269,22,19288,24,19295,null,null,null,null,0,222]
[12,19392,24,19403,24,19410,null,null,null,null,0,122]
[12,19509,13,19514,24,19522,null,null,null,null,0,112]
[12,19621,24,19629,24,19636,null,null,null,null,0,122]
[12,19746,24,19754,24,19761,null,null,null,null,0,122]
[12,19858,13,19862,13,19869,null,null,null,null,0,111]
[12,19967,13,19974,24,19981,null,null,null,null,0,112]
[12,20085,24,20092,24,20098,null,null,null,null,0,122]
[12,20196,13,20204,13,20213,null,null,null,null,0,111]
[12,20311,13,20314,13,20321,null,null,null,null,0,111]
[12,20419,24,20427,24,20431,null,null,null,null,0,122]
[12,20529,13,20539,24,20546,null,null,null,null,0,112]
[21,20646,22,20650,24,20655,null,null,null,null,0,222]
[21,20751,22,20755,24,20760,null,null,null,null,0,222]
[21,20858,22,20861,24,20865,null,null,null,null,0,222]
[21,20968,22,20971,24,20976,null,null,null,null,0,222]
[21,21076,22,21079,24,21084,null,null,null,null,0,222]
[12,21181,24,21192,24,21200,null,null,null,null,0,122]
[12,21298,13,21305,24,21313,null,null,null,null,0,112]
[12,21415,13,21426,24,21432,null,null,null,null,0,112]
[21,21531,22,21535,24,21539,null,null,null,null,0,222]
[12,21641,24,21651,24,21659,null,null,null,null,0,122]
[12,21759,13,21763,24,21773,null,null,null,null,0,112]
[12,21884,24,21892,24,21899,null,null,null,null,0,122]
[12,21998,13,22007,24,22015,null,null,null,null,0,112]
[12,22113,24,22120,24,22124,null,null,null,null,0,122]
[21,22224,22,22231,24,22235,null,null,null,null,0,222]
[12,22334,13,22340,24,22347,null,null,null,null,0,112]
[12,22447,24,22455,24,22459,null,null,null,null,0,122]
[12,22557,13,22564,24,22571,null,null,null,null,0,112]
[12,22668,13,22672,24,22679,null,null,null,null,0,112]
[21,22776,22,22780,24,22784,null,null,null,null,0,222]
[12,22883,13,22891,24,22898,null,null,null,null,0,112]
[12,22996,13,23004,24,23010,null,null,null,null,0,112]
[12,23110,13,23113,24,23128,null,null,null,null,0,112]
[12,23225,13,23231,24,23239,null,null,null,null,0,112]
[12,23336,13,23343,24,23350,null,null,null,null,0,112]
[12,23447,13,23452,24,23461,null,null,null,null,0,112]
[12,23560,13,23565,24,23574,null,null,null,null,0,112]
[21,23678,22,23682,24,23689,null,null,null,null,0,222]
[21,23785,22,23789,24,23794,null,null,null,null,0,222]
[21,23895,22,23898,13,23909,null,null,null,null,0,221]

{"sheet":"!MC08A10.096","index":10,"n_rows":213,"n_cols":48,"rows_kept":213,"cut":false,"hidden":false,"merged":[[4,39,4,42],[5,39,5,40],[4,44,4,47],[5,44,5,45],[4,24,4,27],[5,24,5,25],[4,29,4,32],[5,29,5,30],[4,34,4,37],[5,34,5,35],[1,1,1,2],[5,13,5,14],[18,13,18,14],[19,13,19,14],[4,19,4,22],[5,19,5,20]]}
["Report for:!MC08A10.096"]
["Date:","<date>"]
["Hen:","<hen>",null,null,null,"Correct Sequence",{"$f":"Start!J2","v":211},null,null,null,null,null,null,null,null,"Total Sequences in Data",{"$f":"4994-COUNTBLANK(L7:L5000)","v":207},null,null,null,null,"Total Sequences in Block Data",{"$f":"COUNTA(L7:L41)","v":35},null,null,null,"Total Sequences in Block Data",{"$f":"COUNTA(L42:L75)","v":34},null,null,null,"Total Sequences in Block Data",{"$f":"COUNTA(L76:L110)","v":35},null,null,null,"Total Sequences in Block Data",{"$f":"COUNTA(L111:L144)","v":34},null,null,null,"Total Sequences in Block Data",{"$f":"COUNTA(L145:L179)","v":35},null,null,null,"Total Sequences in Block Data",{"$f":"COUNTA(L180:L213)","v":34}]
[null,null,null,null,null,null,null,null,null,null,null,null,null,null,null,"Total Sequences in Summary",{"$f":"SUM(O7:O14)","v":207},null,null,null,null,"Total Sequences in Block Summary",{"$f":"SUM(U7:U14)","v":35},null,null,null,"Total Sequences in Block Summary",{"$f":"SUM(Z7:Z14)","v":34},null,null,null,"Total Sequences in Block Summary",{"$f":"SUM(AE7:AE14)","v":35},null,null,null,"Total Sequences in Block Summary",{"$f":"SUM(AJ7:AJ14)","v":34},null,null,null,"Total Sequences in Block Summary",{"$f":"SUM(AO7:AO14)","v":35},null,null,null,"Total Sequences in Block Summary",{"$f":"SUM(AT7:AT14)","v":34}]
[null,null,null,null,null,null,null,null,null,null,null,null,null,null,null,null,null,null,null,"Block 1",null,null,null,null,"Block 2",null,null,null,null,"Block 3",null,null,null,null,"Block 4",null,null,null,null,"Block 5",null,null,null,null,"Block 6"]
["Sequence\nComponent\n1","Time\n1","Sequence\nComponent\n2","Time\n2","Sequence\nComponent\n3","Time\n3","Sequence\nComponent\n4","Time\n4","Sequence\nComponent\n5","Time\n5","Correct?\n0=No 1=Yes","Sequence",null,"Frequency",null,"Relative Frequency","Variability",null,null,"Frequency",null,"Relative Frequency","Variability",null,"Frequency",null,"Relative Frequency","Variability",null,"Frequency",null,"Relative Frequency","Variability",null,"Frequency",null,"Relative Frequency","Variability",null,"Frequency",null,"Relative Frequency","Variability",null,"Frequency",null,"Relative Frequency","Variability"]
[12,12,13,42,24,51,null,null,null,null,0,112,null,111,{"$f":"COUNTIF($L$7:$L$500,N7)","v":26},{"$f":"O7/$Q$4","v":0.12560386473429952},{"$f":"IF(P7=0,0,(P7*((LOG(P7))/LOG(2))))","v":-0.37593830059572009},null,null,{"$f":"N7","v":111},{"$f":"COUNTIF(L7:L41,T7)","v":6},{"$f":"U7/(W4-U11)","v":0.17142857142857143},{"$f":"IF(V7=0,0,(V7*((LOG(V7))/LOG(2))))","v":-0.43616923135265318},null,{"$f":"N7","v":111},{"$f":"COUNTIF(L42:L75,Y7)","v":1},{"$f":"Z7/(AB4-Z11)","v":3.0303030303030304E-2},{"$f":"IF(AA7=0,0,(AA7*((LOG(AA7))/LOG(2))))","v":-0.15286042785934709},null,{"$f":"N7","v":111},{"$f":"COUNTIF(L76:L110,AD7)","v":9},{"$f":"AE7/(AG4-AE11)","v":0.25714285714285712},{"$f":"IF(AF7=0,0,(AF7*((LOG(AF7))/LOG(2))))","v":-0.50383491827211102},null,{"$f":"N7","v":111},{"$f":"COUNTIF(L111:L144,AI7)","v":3},{"$f":"AJ7/(AL4-AJ11)","v":9.0909090909090912E-2},{"$f":"IF(AK7=0,0,(AK7*((LOG(AK7))/LOG(2))))","v":-0.31449378351248153},null,{"$f":"N7","v":111},{"$f":"COUNTIF(L145:L179,AN7)","v":4},{"$f":"AO7/(AQ4-AO11)","v":0.11428571428571428},{"$f":"IF(AP7=0,0,(AP7*((LOG(AP7))/LOG(2))))","v":-0.35763234479371042},null,{"$f":"N7","v":111},{"$f":"COUNTIF(L180:L213,AS7)","v":3},{"$f":"AT7/(AV4-AT11)","v":8.8235294117647065E-2},{"$f":"IF(AU7=0,0,(AU7*((LOG(AU7))/LOG(2))))","v":-0.30904414769375149}]
[12,151,13,155,24,165,null,null,null,null,0,112,null,112,{"$f":"COUNTIF($L$7:$L$500,N8)","v":75},{"$f":"O8/$Q$4","v":0.36231884057971014},{"$f":"IF(P8=0,0,(P8*((LOG(P8))/LOG(2))))","v":-0.53067690833458125},null,null,{"$f":"N8","v":112},{"$f":"COUNTIF(L7:L41,T8)","v":11},{"$f":"U8/(W4-U11)","v":0.31428571428571428},{"$f":"IF(V8=0,0,(V8*((LOG(V8))/LOG(2))))","v":-0.52481043946812467},null,{"$f":"N8","v":112},{"$f":"COUNTIF(L42:L75,Y8)","v":12},{"$f":"Z8/(AB4-Z11)","v":0.36363636363636365},{"$f":"IF(AA8=0,0,(AA8*((LOG(AA8))/LOG(2))))","v":-0.53070240677719893},null,{"$f":"N8","v":112},{"$f":"COUNTIF(L76:L110,AD8)","v":7},{"$f":"AE8/(AG4-AE11)","v":0.2},{"$f":"IF(AF8=0,0,(AF8*((LOG(AF8))/LOG(2))))","v":-0.46438561897747244},null,{"$f":"N8","v":112},{"$f":"COUNTIF(L111:L144,AI8)","v":15},{"$f":"AJ8/(AL4-AJ11)","v":0.45454545454545453},{"$f":"IF(AK8=0,0,(AK8*((LOG(AK8))/LOG(2))))","v":-0.51704705624997038},null,{"$f":"N8","v":112},{"$f":"COUNTIF(L145:L179,AN8)","v":16},{"$f":"AO8/(AQ4-AO11)","v":0.45714285714285713},{"$f":"IF(AP8=0,0,(AP8*((LOG(AP8))/LOG(2))))","v":-0.51624366488912754},null,{"$f":"N8","v":112},{"$f":"COUNTIF(L180:L213,AS8)","v":14},{"$f":"AT8/(AV4-AT11)","v":0.41176470588235292},{"$f":"IF(AU8=0,0,(AU8*((LOG(AU8))/LOG(2))))","v":-0.52710326084406744}]
[12,267,13,272,24,281,null,null,null,null,0,112,null,121,{"$f":"COUNTIF($L$7:$L$500,N9)","v":11},{"$f":"O9/$Q$4","v":5.3140096618357488E-2},{"$f":"IF(P9=0,0,(P9*((LOG(P9))/LOG(2))))","v":-0.22499810979460053},null,null,{"$f":"N9","v":121},{"$f":"COUNTIF(L7:L41,T9)","v":1},{"$f":"U9/(W4-U11)","v":2.8571428571428571E-2},{"$f":"IF(V9=0,0,(V9*((LOG(V9))/LOG(2))))","v":-0.14655094334128474},null,{"$f":"N9","v":121},{"$f":"COUNTIF(L42:L75,Y9)","v":2},{"$f":"Z9/(AB4-Z11)","v":6.0606060606060608E-2},{"$f":"IF(AA9=0,0,(AA9*((LOG(AA9))/LOG(2))))","v":-0.24511479511263354},null,{"$f":"N9","v":121},{"$f":"COUNTIF(L76:L110,AD9)","v":2},{"$f":"AE9/(AG4-AE11)","v":5.7142857142857141E-2},{"$f":"IF(AF9=0,0,(AF9*((LOG(AF9))/LOG(2))))","v":-0.23595902953971234},null,{"$f":"N9","v":121},{"$f":"COUNTIF(L111:L144,AI9)","v":1},{"$f":"AJ9/(AL4-AJ11)","v":3.0303030303030304E-2},{"$f":"IF(AK9=0,0,(AK9*((LOG(AK9))/LOG(2))))","v":-0.15286042785934709},null,{"$f":"N9","v":121},{"$f":"COUNTIF(L145:L179,AN9)","v":0},{"$f":"AO9/(AQ4-AO11)","v":0},{"$f":"IF(AP9=0,0,(AP9*((LOG(AP9))/LOG(2))))","v":0},null,{"$f":"N9","v":121},{"$f":"COUNTIF(L180:L213,AS9)","v":5},{"$f":"AT9/(AV4-AT11)","v":0.14705882352941177},{"$f":"IF(AU9=0,0,(AU9*((LOG(AU9))/LOG(2))))","v":-0.40669628622984955}]
[21,427,22,431,24,438,null,null,null,null,0,222,null,122,{"$f":"COUNTIF($L$7:$L$500,N10)","v":48},{"$f":"O10/$Q$4","v":0.2318840579710145},{"$f":"IF(P10=0,0,(P10*((LOG(P10))/LOG(2))))","v":-0.48893320736885082},null,null,{"$f":"N10","v":122},{"$f":"COUNTIF(L7:L41,T10)","v":8},{"$f":"U10/(W4-U11)","v":0.22857142857142856},{"$f":"IF(V10=0,0,(V10*((LOG(V10))/LOG(2))))","v":-0.48669326101599231},null,{"$f":"N10","v":122},{"$f":"COUNTIF(L42:L75,Y10)","v":5},{"$f":"Z10/(AB4-Z11)","v":0.15151515151515152},{"$f":"IF(AA10=0,0,(AA10*((LOG(AA10))/LOG(2))))","v":-0.41249485219258958},null,{"$f":"N10","v":122},{"$f":"COUNTIF(L76:L110,AD10)","v":10},{"$f":"AE10/(AG4-AE11)","v":0.2857142857142857},{"$f":"IF(AF10=0,0,(AF10*((LOG(AF10))/LOG(2))))","v":-0.51638712058788683},null,{"$f":"N10","v":122},{"$f":"COUNTIF(L111:L144,AI10)","v":10},{"$f":"AJ10/(AL4-AJ11)","v":0.30303030303030304},{"$f":"IF(AK10=0,0,(AK10*((LOG(AK10))/LOG(2))))","v":-0.52195940135487617},null,{"$f":"N10","v":122},{"$f":"COUNTIF(L145:L179,AN10)","v":9},{"$f":"AO10/(AQ4-AO11)","v":0.25714285714285712},{"$f":"IF(AP10=0,0,(AP10*((LOG(AP10))/LOG(2))))","v":-0.50383491827211102},null,{"$f":"N10","v":122},{"$f":"COUNTIF(L180:L213,AS10)","v":6},{"$f":"AT10/(AV4-AT11)","v":0.17647058823529413},{"$f":"IF(AU10=0,0,(AU10*((LOG(AU10))/LOG(2))))","v":-0.44161770715220888}]
[21,535,22,539,24,543,null,null,null,null,0,222,null,211,{"$f":"COUNTIF($L$7:$L$500,N11)","v":2},{"$f":"O11/$Q$4","v":9.6618357487922701E-3},{"$f":"IF(P11=0,0,(P11*((LOG(P11))/LOG(2))))","v":-6.4671371570041783E-2},null,null,{"$f":"N11","v":211},{"$f":"COUNTIF(L7:L41,T11)","v":0},null,null,null,{"$f":"N11","v":211},{"$f":"COUNTIF(L42:L75,Y11)","v":1},null,null,null,{"$f":"N11","v":211},{"$f":"COUNTIF(L76:L110,AD11)","v":0},null,null,null,{"$f":"N11","v":211},{"$f":"COUNTIF(L111:L144,AI11)","v":1},null,null,null,{"$f":"N11","v":211},{"$f":"COUNTIF(L145:L179,AN11)","v":0},null,null,null,{"$f":"N11","v":211},{"$f":"COUNTIF(L180:L213,AS11)","v":0}]
[12,642,24,667,24,671,null,null,null,null,0,122,null,212,{"$f":"COUNTIF($L$7:$L$500,N12)","v":16},{"$f":"O12/$Q$4","v":7.7294685990338161E-2},{"$f":"IF(P12=0,0,(P12*((LOG(P12))/LOG(2))))","v":-0.2854869145893198},null,null,{"$f":"N12","v":212},{"$f":"COUNTIF(L7:L41,T12)","v":1},{"$f":"U12/(W4-U11)","v":2.8571428571428571E-2},{"$f":"IF(V12=0,0,(V12*((LOG(V12))/LOG(2))))","v":-0.14655094334128474},null,{"$f":"N12","v":212},{"$f":"COUNTIF(L42:L75,Y12)","v":6},{"$f":"Z12/(AB4-Z11)","v":0.18181818181818182},{"$f":"IF(AA12=0,0,(AA12*((LOG(AA12))/LOG(2))))","v":-0.44716938520678134},null,{"$f":"N12","v":212},{"$f":"COUNTIF(L76:L110,AD12)","v":2},{"$f":"AE12/(AG4-AE11)","v":5.7142857142857141E-2},{"$f":"IF(AF12=0,0,(AF12*((LOG(AF12))/LOG(2))))","v":-0.23595902953971234},null,{"$f":"N12","v":212},{"$f":"COUNTIF(L111:L144,AI12)","v":0},{"$f":"AJ12/(AL4-AJ11)","v":0},{"$f":"IF(AK12=0,0,(AK12*((LOG(AK12))/LOG(2))))","v":0},null,{"$f":"N12","v":212},{"$f":"COUNTIF(L145:L179,AN12)","v":3},{"$f":"AO12/(AQ4-AO11)","v":8.5714285714285715E-2},{"$f":"IF(AP12=0,0,(AP12*((LOG(AP12))/LOG(2))))","v":-0.30379890139061233},null,{"$f":"N12","v":212},{"$f":"COUNTIF(L180:L213,AS12)","v":4},{"$f":"AT12/(AV4-AT11)","v":0.11764705882352941},{"$f":"IF(AU12=0,0,(AU12*((LOG(AU12))/LOG(2))))","v":-0.36323092250003997}]
[12,769,13,773,13,777,null,null,null,null,0,111,null,221,{"$f":"COUNTIF($L$7:$L$500,N13)","v":15},{"$f":"O13/$Q$4","v":7.2463768115942032E-2},{"$f":"IF(P13=0,0,(P13*((LOG(P13))/LOG(2))))","v":-0.2743910407167251},null,null,{"$f":"N13","v":221},{"$f":"COUNTIF(L7:L41,T13)","v":1},{"$f":"U13/(W4-U11)","v":2.8571428571428571E-2},{"$f":"IF(V13=0,0,(V13*((LOG(V13))/LOG(2))))","v":-0.14655094334128474},null,{"$f":"N13","v":221},{"$f":"COUNTIF(L42:L75,Y13)","v":5},{"$f":"Z13/(AB4-Z11)","v":0.15151515151515152},{"$f":"IF(AA13=0,0,(AA13*((LOG(AA13))/LOG(2))))","v":-0.41249485219258958},null,{"$f":"N13","v":221},{"$f":"COUNTIF(L76:L110,AD13)","v":2},{"$f":"AE13/(AG4-AE11)","v":5.7142857142857141E-2},{"$f":"IF(AF13=0,0,(AF13*((LOG(AF13))/LOG(2))))","v":-0.23595902953971234},null,{"$f":"N13","v":221},{"$f":"COUNTIF(L111:L144,AI13)","v":3},{"$f":"AJ13/(AL4-AJ11)","v":9.0909090909090912E-2},{"$f":"IF(AK13=0,0,(AK13*((LOG(AK13))/LOG(2))))","v":-0.31449378351248153},null,{"$f":"N13","v":221},{"$f":"COUNTIF(L145:L179,AN13)","v":2},{"$f":"AO13/(AQ4-AO11)","v":5.7142857142857141E-2},{"$f":"IF(AP13=0,0,(AP13*((LOG(AP13))/LOG(2))))","v":-0.23595902953971234},null,{"$f":"N13","v":221},{"$f":"COUNTIF(L180:L213,AS13)","v":2},{"$f":"AT13/(AV4-AT11)","v":5.8823529411764705E-2},{"$f":"IF(AU13=0,0,(AU13*((LOG(AU13))/LOG(2))))","v":-0.24043899066178465}]
[21,875,22,878,24,882,null,null,null,null,0,222,null,222,{"$f":"COUNTIF($L$7:$L$500,N14)","v":14},{"$f":"O14/$Q$4","v":6.7632850241545889E-2},{"$f":"IF(P14=0,0,(P14*((LOG(P14))/LOG(2))))","v":-0.26283018597190383},null,null,{"$f":"N14","v":222},{"$f":"COUNTIF(L7:L41,T14)","v":7},{"$f":"U14/(W4-U11)","v":0.2},{"$f":"IF(V14=0,0,(V14*((LOG(V14))/LOG(2))))","v":-0.46438561897747244},null,{"$f":"N14","v":222},{"$f":"COUNTIF(L42:L75,Y14)","v":2},{"$f":"Z14/(AB4-Z11)","v":6.0606060606060608E-2},{"$f":"IF(AA14=0,0,(AA14*((LOG(AA14))/LOG(2))))","v":-0.24511479511263354},null,{"$f":"N14","v":222},{"$f":"COUNTIF(L76:L110,AD14)","v":3},{"$f":"AE14/(AG4-AE11)","v":8.5714285714285715E-2},{"$f":"IF(AF14=0,0,(AF14*((LOG(AF14))/LOG(2))))","v":-0.30379890139061233},null,{"$f":"N14","v":222},{"$f":"COUNTIF(L111:L144,AI14)","v":1},{"$f":"AJ14/(AL4-AJ11)","v":3.0303030303030304E-2},{"$f":"IF(AK14=0,0,(AK14*((LOG(AK14))/LOG(2))))","v":-0.15286042785934709},null,{"$f":"N14","v":222},{"$f":"COUNTIF(L145:L179,AN14)","v":1},{"$f":"AO14/(AQ4-AO11)","v":2.8571428571428571E-2},{"$f":"IF(AP14=0,0,(AP14*((LOG(AP14))/LOG(2))))","v":-0.14655094334128474},null,{"$f":"N14","v":222},{"$f":"COUNTIF(L180:L213,AS14)","v":0},{"$f":"AT14/(AV4-AT11)","v":0},{"$f":"IF(AU14=0,0,(AU14*((LOG(AU14))/LOG(2))))","v":0}]
[12,997,24,1015,24,1022,null,null,null,null,0,122,null,null,null,{"$f":"SUM(P7:P14)","v":1},{"$f":"-SUM(Q7:Q14)","v":2.507926038941743},null,null,null,null,{"$f":"SUM(V7:V14)","v":1},{"$f":"-SUM(W7:W14)","v":2.3517113808380969},null,null,null,{"$f":"SUM(AA7:AA14)","v":1},{"$f":"-SUM(AB7:AB14)","v":2.4459515144537738},null,null,null,{"$f":"SUM(AF7:AF14)","v":1},{"$f":"-SUM(AG7:AG14)","v":2.4962836478472195},null,null,null,{"$f":"SUM(AK7:AK14)","v":0.99999999999999989},{"$f":"-SUM(AL7:AL14)","v":1.9737148803485038},null,null,null,{"$f":"SUM(AP7:AP14)","v":1},{"$f":"-SUM(AQ7:AQ14)","v":2.0640198022265581},null,null,null,{"$f":"SUM(AU7:AU14)","v":1},{"$f":"-SUM(AV7:AV14)","v":2.288131315081702}]
[12,1122,13,1130,13,1134,null,null,null,null,0,111,null,null,null,"U=",{"$f":"Q15/(LOG(Q4)/LOG(2))","v":0.32598041080671619},null,null,null,null,"U1=",{"$f":"W15/(LOG(W4)/LOG(2))","v":0.45848735058468099},null,null,null,"U2=",{"$f":"AB15/(LOG(AB4)/LOG(2))","v":0.48078022204337822},null,null,null,"U3=",{"$f":"AG15/(LOG(AG4)/LOG(2))","v":0.48667301835374682},null,null,null,"U4=",{"$f":"AL15/(LOG(AL4)/LOG(2))","v":0.38795661844351209},null,null,null,"U5=",{"$f":"AQ15/(LOG(AQ4)/LOG(2))","v":0.40239928181149603},null,null,null,"U6=",{"$f":"AV15/(LOG(AV4)/LOG(2))","v":0.44975882605549428}]
[21,1231,22,1236,24,1240,null,null,null,null,0,222]
[12,1338,13,1341,13,1345,null,null,null,null,0,111]
[21,1444,22,1447,24,1451,null,null,null,null,0,222,null,"Total Target Seq"]
[12,1552,13,1555,13,1561,null,null,null,null,0,111,null,{"$f":"COUNTIF(L7:L213,G3)","v":2},null,35,34,35,34,35,34]
[12,1664,24,1672,24,1683,null,null,null,null,0,122,null,null,null,"% of reinforcement given in 6 equal intervals based on number of trials "]
[12,1786,13,1801,24,1811,null,null,null,null,0,112,null,null,null,"%_1","%_2","%_3","%_4","%_5","%_6"]
[12,1908,13,1914,24,1922,null,null,null,null,0,112,null,null,"target sequence",{"$f":"$G$3","v":211},{"$f":"$G$3","v":211},{"$f":"$G$3","v":211},{"$f":"$G$3","v":211},{"$f":"$G$3","v":211},{"$f":"$G$3","v":211}]
[12,2022,13,2031,24,2039,null,null,null,null,0,112,null,null,"total reinforcement",{"$f":"U11","v":0},{"$f":"Z11","v":1},{"$f":"AE11","v":0},{"$f":"AJ11","v":1},{"$f":"AO11","v":0},{"$f":"AT11","v":0}]
[12,2137,13,2144,24,2151,null,null,null,null,0,112,null,null,"% target"]
[12,2252,13,2267,24,2276,null,null,null,null,0,112,null,null,"CCRF"]
[12,2380,24,2388,24,2396,null,null,null,null,0,122,null,null,"% CCRf"]
[21,2495,22,2499,24,2503,null,null,null,null,0,222,null,null,"average response rate",{"$f":"F41/P20","v":116},{"$f":"(F75-F41)/Q20","v":117.82352941176471},{"$f":"(F110-F75)/R20","v":113.97142857142858},{"$f":"(F144-F110)/S20","v":116.26470588235294},{"$f":"(F179-F144)/T20","v":114.85714285714286},{"$f":"(F213-F179)/U20","v":116.14705882352941}]
[12,2604,13,2607,13,2612,null,null,null,null,0,111]
[21,2712,22,2716,24,2719,null,null,null,null,0,222]
[21,2831,11,2839,22,2847,null,null,null,null,0,212]
[12,2938,24,2947,24,2954,null,null,null,null,0,122]
[12,3067,24,3083,24,3093,null,null,null,null,0,122]
[12,3194,13,3198,24,3208,null,null,null,null,0,112]
[12,3313,24,3321,24,3328,null,null,null,null,0,122]
[12,3432,13,3440,13,3458,null,null,null,null,0,111]
[12,3570,24,3577,24,3592,null,null,null,null,0,122]
[12,3697,24,3708,13,3718,null,null,null,null,0,121]
[12,3818,13,3825,24,3832,null,null,null,null,0,112]
[12,3932,13,3936,24,3946,null,null,null,null,0,112]
[21,4047,22,4051,13,4060,null,null,null,null,0,221]
[21,4163,22,4168,13,4177,null,null,null,null,0,221]
[21,4283,11,4296,22,4311,null,null,null,null,0,212]
[21,4411,22,4415,13,4425,null,null,null,null,0,221]
[21,4525,22,4529,24,4533,null,null,null,null,0,222]
[21,4631,22,4635,13,4645,null,null,null,null,0,221]
[12,4748,24,4756,24,4762,null,null,null,null,0,122]
[12,4861,13,4867,24,4875,null,null,null,null,0,112]
[12,4978,24,4986,24,5005,null,null,null,null,0,122]
[12,5105,13,5111,24,5121,null,null,null,null,0,112]
[12,5224,13,5229,24,5239,null,null,null,null,0,112]
[12,5337,13,5342,24,5351,null,null,null,null,0,112]
[12,5448,13,5456,24,5465,null,null,null,null,0,112]
[12,5569,24,5577,13,5587,null,null,null,null,0,121]
[21,5689,22,5694,24,5700,null,null,null,null,0,222]
[12,5804,24,5812,24,5823,null,null,null,null,0,122]
[12,5922,13,5933,24,5944,null,null,null,null,0,112]
[12,6042,13,6050,24,6058,null,null,null,null,0,112]
[12,6156,13,6165,24,6172,null,null,null,null,0,112]
[21,6274,22,6278,13,6291,null,null,null,null,0,221]
[12,6390,13,6397,24,6405,null,null,null,null,0,112]
[12,6503,13,6507,24,6522,null,null,null,null,0,112]
[12,6622,24,6629,24,6636,null,null,null,null,0,122]
[12,6733,13,6740,24,6748,null,null,null,null,0,112]
[21,6851,11,6860,22,6869,null,null,null,null,0,212]
[21,6961,11,6974,22,6988,null,null,null,null,0,212]
[21,7087,22,7097,13,7107,null,null,null,null,0,221]
[21,7202,11,7213,11,7228,null,null,null,null,0,211]
[21,7331,11,7339,22,7356,null,null,null,null,0,212]
[21,7456,11,7466,22,7476,null,null,null,null,0,212]
[12,7567,13,7581,24,7591,null,null,null,null,0,112]
[12,7691,24,7699,13,7710,null,null,null,null,0,121]
[12,7808,13,7811,13,7824,null,null,null,null,0,111]
[12,7931,24,7939,24,7947,null,null,null,null,0,122]
[21,8049,11,8058,22,8066,null,null,null,null,0,212]
[12,8171,24,8181,24,8196,null,null,null,null,0,122]
[12,8294,13,8301,24,8311,null,null,null,null,0,112]
[12,8409,13,8412,13,8419,null,null,null,null,0,111]
[21,8527,22,8532,24,8538,null,null,null,null,0,222]
[12,8636,13,8639,13,8643,null,null,null,null,0,111]
[21,8750,22,8755,13,8767,null,null,null,null,0,221]
[21,8869,22,8873,24,8877,null,null,null,null,0,222]
[12,8975,24,8988,13,8996,null,null,null,null,0,121]
[12,9094,24,9102,24,9107,null,null,null,null,0,122]
[12,9206,13,9210,13,9219,null,null,null,null,0,111]
[12,9318,13,9325,13,9334,null,null,null,null,0,111]
[12,9432,13,9435,13,9439,null,null,null,null,0,111]
[12,9537,13,9542,24,9549,null,null,null,null,0,112]
[12,9646,24,9653,24,9658,null,null,null,null,0,122]
[21,9753,22,9768,24,9776,null,null,null,null,0,222]
[12,9873,13,9877,24,9884,null,null,null,null,0,112]
[12,9984,24,9992,24,9997,null,null,null,null,0,122]
[12,10093,24,10105,24,10113,null,null,null,null,0,122]
[12,10211,13,10220,24,10227,null,null,null,null,0,112]
[12,10327,24,10341,24,10348,null,null,null,null,0,122]
[12,10446,24,10453,24,10457,null,null,null,null,0,122]
[12,10556,13,10562,24,10573,null,null,null,null,0,112]
[12,10670,13,10677,13,10685,null,null,null,null,0,111]
[21,10790,11,10800,22,10808,null,null,null,null,0,212]
[12,10911,24,10921,13,10931,null,null,null,null,0,121]
[12,11029,13,11035,24,11043,null,null,null,null,0,112]
[21,11138,11,11157,22,11164,null,null,null,null,0,212]
[21,11267,22,11271,13,11280,null,null,null,null,0,221]
[12,11377,13,11381,13,11385,null,null,null,null,0,111]
[12,11483,24,11496,24,11500,null,null,null,null,0,122]
[12,11599,24,11606,24,11611,null,null,null,null,0,122]
[12,11709,13,11713,24,11720,null,null,null,null,0,112]
[12,11817,13,11820,13,11832,null,null,null,null,0,111]
[12,11929,13,11933,13,11936,null,null,null,null,0,111]
[12,12031,24,12040,24,12055,null,null,null,null,0,122]
[12,12153,13,12157,24,12164,null,null,null,null,0,112]
[12,12261,13,12268,24,12279,null,null,null,null,0,112]
[12,12377,24,12385,24,12393,null,null,null,null,0,122]
[12,12491,13,12495,24,12503,null,null,null,null,0,112]
[12,12602,13,12610,24,12620,null,null,null,null,0,112]
[12,12718,13,12722,13,12729,null,null,null,null,0,111]
[12,12827,24,12834,24,12842,null,null,null,null,0,122]
[12,12942,13,12949,24,12963,null,null,null,null,0,112]
[12,13061,13,13068,24,13076,null,null,null,null,0,112]
[12,13172,13,13180,24,13196,null,null,null,null,0,112]
[12,13294,24,13301,24,13305,null,null,null,null,0,122]
[21,13413,22,13418,13,13428,null,null,null,null,0,221]
[12,13526,13,13543,24,13553,null,null,null,null,0,112]
[12,13652,24,13661,13,13670,null,null,null,null,0,121]
[12,13775,24,13783,24,13789,null,null,null,null,0,122]
[12,13889,24,13899,24,13907,null,null,null,null,0,122]
[12,14005,13,14008,13,14016,null,null,null,null,0,111]
[12,14112,13,14119,24,14127,null,null,null,null,0,112]
[21,14231,22,14236,13,14248,null,null,null,null,0,221]
[12,14347,24,14359,24,14363,null,null,null,null,0,122]
[12,14461,13,14468,24,14476,null,null,null,null,0,112]
[21,14585,11,14595,11,14629,null,null,null,null,0,211]
[21,14728,22,14739,13,14747,null,null,null,null,0,221]
[12,14847,13,14862,24,14872,null,null,null,null,0,112]
[12,14971,13,14975,24,14986,null,null,null,null,0,112]
[12,15083,13,15086,13,15091,null,null,null,null,0,111]
[12,15189,13,15193,24,15200,null,null,null,null,0,112]
[21,15299,22,15311,24,15316,null,null,null,null,0,222]
[12,15413,24,15421,24,15425,null,null,null,null,0,122]
[12,15523,24,15531,24,15536,null,null,null,null,0,122]
[12,15638,13,15652,24,15662,null,null,null,null,0,112]
[12,15761,13,15764,24,15772,null,null,null,null,0,112]
[12,15872,24,15880,24,15884,null,null,null,null,0,122]
[12,15986,24,15997,24,16008,null,null,null,null,0,122]
[12,16106,24,16116,24,16124,null,null,null,null,0,122]
[12,16221,13,16224,24,16232,null,null,null,null,0,112]
[12,16329,24,16336,24,16341,null,null,null,null,0,122]
[12,16438,13,16442,13,16450,null,null,null,null,0,111]
[12,16548,13,16559,24,16566,null,null,null,null,0,112]
[12,16665,13,16669,13,16681,null,null,null,null,0,111]
[21,16784,11,16796,22,16806,null,null,null,null,0,212]
[21,16906,22,16911,13,16921,null,null,null,null,0,221]
[12,17020,24,17028,24,17036,null,null,null,null,0,122]
[12,17134,13,17140,24,17150,null,null,null,null,0,112]
[12,17247,13,17252,24,17260,null,null,null,null,0,112]
[12,17362,13,17370,24,17381,null,null,null,null,0,112]
[12,17481,24,17494,24,17501,null,null,null,null,0,122]
[12,17598,13,17610,24,17619,null,null,null,null,0,112]
[12,17722,24,17729,24,17735,null,null,null,null,0,122]
[12,17833,13,17836,13,17852,null,null,null,null,0,111]
[12,17951,13,17956,13,17964,null,null,null,null,0,111]
[12,18063,13,18070,24,18079,null,null,null,null,0,112]
[12,18180,13,18192,24,18202,null,null,null,null,0,112]
[21,18312,11,18321,22,18332,null,null,null,null,0,212]
[21,18442,22,18451,24,18458,null,null,null,null,0,222]
[12,18561,24,18569,24,18576,null,null,null,null,0,122]
[12,18673,13,18677,24,18684,null,null,null,null,0,112]
[12,18782,24,18792,24,18796,null,null,null,null,0,122]
[12,18894,24,18902,24,18907,null,null,null,null,0,122]
[21,19010,11,19019,22,19029,null,null,null,null,0,212]
[21,19127,22,19131,13,19141,null,null,null,null,0,221]
[12,19238,13,19242,24,19249,null,null,null,null,0,112]
[12,19346,13,19350,24,19357,null,null,null,null,0,112]
[12,19454,13,19458,24,19465,null,null,null,null,0,112]
[12,19563,24,19573,24,19577,null,null,null,null,0,122]
[12,19674,13,19678,24,19688,null,null,null,null,0,112]
[12,19785,13,19788,24,19798,null,null,null,null,0,112]
[12,19895,13,19902,24,19913,null,null,null,null,0,112]
[12,20016,13,20021,24,20028,null,null,null,null,0,112]
[12,20125,13,20128,24,20136,null,null,null,null,0,112]
[12,20239,13,20246,24,20255,null,null,null,null,0,112]
[12,20353,13,20361,24,20368,null,null,null,null,0,112]
[12,20491,24,20499,13,20512,null,null,null,null,0,121]
[12,20610,13,20618,24,20626,null,null,null,null,0,112]
[12,20727,24,20737,24,20744,null,null,null,null,0,122]
[12,20842,13,20848,24,20855,null,null,null,null,0,112]
[12,20951,24,20960,24,20965,null,null,null,null,0,122]
[12,21062,13,21066,24,21074,null,null,null,null,0,112]
[12,21172,13,21179,24,21186,null,null,null,null,0,112]
[12,21284,24,21295,13,21305,null,null,null,null,0,121]
[21,21408,11,21418,22,21425,null,null,null,null,0,212]
[21,21527,11,21535,22,21546,null,null,null,null,0,212]
[12,21633,24,21642,13,21651,null,null,null,null,0,121]
[12,21749,13,21756,24,21763,null,null,null,null,0,112]
[12,21862,13,21868,24,21875,null,null,null,null,0,112]
[12,21973,13,21976,24,21986,null,null,null,null,0,112]
[12,22085,13,22090,13,22098,null,null,null,null,0,111]
[12,22197,13,22200,13,22211,null,null,null,null,0,111]
[21,22316,11,22326,22,22335,null,null,null,null,0,212]
[21,22428,22,22433,13,22442,null,null,null,null,0,221]
[21,22543,22,22549,13,22557,null,null,null,null,0,221]
[12,22657,24,22668,13,22682,null,null,null,null,0,121]
[12,22780,24,22793,24,22798,null,null,null,null,0,122]
[12,22896,13,22900,24,22907,null,null,null,null,0,112]
[12,23012,24,23020,24,23027,null,null,null,null,0,122]
[12,23124,24,23133,13,23147,null,null,null,null,0,121]
[12,23247,13,23260,24,23270,null,null,null,null,0,112]
[12,23372,13,23376,24,23383,null,null,null,null,0,112]
[12,23480,24,23493,24,23497,null,null,null,null,0,122]
[12,23599,13,23604,24,23611,null,null,null,null,0,112]
[12,23710,13,23716,13,23724,null,null,null,null,0,111]
[21,23822,11,23832,22,23840,null,null,null,null,0,212]
[12,23934,24,23965,24,23977,null,null,null,null,null,122]

{"sheet":"!MC09A50.096","index":11,"n_rows":209,"n_cols":48,"rows_kept":209,"cut":false,"hidden":false,"merged":[[4,39,4,42],[5,39,5,40],[4,44,4,47],[5,44,5,45],[4,24,4,27],[5,24,5,25],[4,29,4,32],[5,29,5,30],[4,34,4,37],[5,34,5,35],[1,1,1,2],[5,13,5,14],[18,13,18,14],[19,13,19,14],[4,19,4,22],[5,19,5,20]]}
["Report for:!MC09A50.096"]
["Date:","<date>"]
["Hen:","<hen>",null,null,null,"Correct Sequence",{"$f":"Start!J2","v":211},null,null,null,null,null,null,null,null,"Total Sequences in Data",{"$f":"4994-COUNTBLANK(L7:L5000)","v":203},null,null,null,null,"Total Sequences in Block Data",{"$f":"COUNTA(L7:L40)","v":34},null,null,null,"Total Sequences in Block Data",{"$f":"COUNTA(L41:L74)","v":34},null,null,null,"Total Sequences in Block Data",{"$f":"COUNTA(L75:L107)","v":33},null,null,null,"Total Sequences in Block Data",{"$f":"COUNTA(L108:L141)","v":34},null,null,null,"Total Sequences in Block Data",{"$f":"COUNTA(L142:L175)","v":34},null,null,null,"Total Sequences in Block Data",{"$f":"COUNTA(L176:L209)","v":34}]
[null,null,null,null,null,null,null,null,null,null,null,null,null,null,null,"Total Sequences in Summary",{"$f":"SUM(O7:O14)","v":203},null,null,null,null,"Total Sequences in Block Summary",{"$f":"SUM(U7:U14)","v":34},null,null,null,"Total Sequences in Block Summary",{"$f":"SUM(Z7:Z14)","v":34},null,null,null,"Total Sequences in Block Summary",{"$f":"SUM(AE7:AE14)","v":33},null,null,null,"Total Sequences in Block Summary",{"$f":"SUM(AJ7:AJ14)","v":34},null,null,null,"Total Sequences in Block Summary",{"$f":"SUM(AO7:AO14)","v":34},null,null,null,"Total Sequences in Block Summary",{"$f":"SUM(AT7:AT14)","v":34}]
[null,null,null,null,null,null,null,null,null,null,null,null,null,null,null,null,null,null,null,"Block 1",null,null,null,null,"Block 2",null,null,null,null,"Block 3",null,null,null,null,"Block 4",null,null,null,null,"Block 5",null,null,null,null,"Block 6"]
["Sequence\nComponent\n1","Time\n1","Sequence\nComponent\n2","Time\n2","Sequence\nComponent\n3","Time\n3","Sequence\nComponent\n4","Time\n4","Sequence\nComponent\n5","Time\n5","Correct?\n0=No 1=Yes","Sequence",null,"Frequency",null,"Relative Frequency","Variability",null,null,"Frequency",null,"Relative Frequency","Variability",null,"Frequency",null,"Relative Frequency","Variability",null,"Frequency",null,"Relative Frequency","Variability",null,"Frequency",null,"Relative Frequency","Variability",null,"Frequency",null,"Relative Frequency","Variability",null,"Frequency",null,"Relative Frequency","Variability"]
[12,7,13,12,24,41,null,null,null,null,0,112,null,111,{"$f":"COUNTIF($L$7:$L$500,N7)","v":58},{"$f":"O7/$Q$4","v":0.2857142857142857},{"$f":"IF(P7=0,0,(P7*((LOG(P7))/LOG(2))))","v":-0.51638712058788683},null,null,{"$f":"N7","v":111},{"$f":"COUNTIF(L7:L40,T7)","v":12},{"$f":"U7/(W4-U11)","v":0.35294117647058826},{"$f":"IF(V7=0,0,(V7*((LOG(V7))/LOG(2))))","v":-0.53029423783382934},null,{"$f":"N7","v":111},{"$f":"COUNTIF(L41:L74,Y7)","v":12},{"$f":"Z7/(AB4-Z11)","v":0.35294117647058826},{"$f":"IF(AA7=0,0,(AA7*((LOG(AA7))/LOG(2))))","v":-0.53029423783382934},null,{"$f":"N7","v":111},{"$f":"COUNTIF(L75:L107,AD7)","v":11},{"$f":"AE7/(AG4-AE11)","v":0.33333333333333331},{"$f":"IF(AF7=0,0,(AF7*((LOG(AF7))/LOG(2))))","v":-0.52832083357371862},null,{"$f":"N7","v":111},{"$f":"COUNTIF(L108:L141,AI7)","v":5},{"$f":"AJ7/(AL4-AJ11)","v":0.15151515151515152},{"$f":"IF(AK7=0,0,(AK7*((LOG(AK7))/LOG(2))))","v":-0.41249485219258958},null,{"$f":"N7","v":111},{"$f":"COUNTIF(L142:L175,AN7)","v":11},{"$f":"AO7/(AQ4-AO11)","v":0.3235294117647059},{"$f":"IF(AP7=0,0,(AP7*((LOG(AP7))/LOG(2))))","v":-0.52671598378657247},null,{"$f":"N7","v":111},{"$f":"COUNTIF(L176:L209,AS7)","v":7},{"$f":"AT7/(AV4-AT11)","v":0.20588235294117646},{"$f":"IF(AU7=0,0,(AU7*((LOG(AU7))/LOG(2))))","v":-0.46943398336321018}]
[12,138,13,142,24,179,null,null,null,null,0,112,null,112,{"$f":"COUNTIF($L$7:$L$500,N8)","v":83},{"$f":"O8/$Q$4","v":0.40886699507389163},{"$f":"IF(P8=0,0,(P8*((LOG(P8))/LOG(2))))","v":-0.52755964691908797},null,null,{"$f":"N8","v":112},{"$f":"COUNTIF(L7:L40,T8)","v":11},{"$f":"U8/(W4-U11)","v":0.3235294117647059},{"$f":"IF(V8=0,0,(V8*((LOG(V8))/LOG(2))))","v":-0.52671598378657247},null,{"$f":"N8","v":112},{"$f":"COUNTIF(L41:L74,Y8)","v":10},{"$f":"Z8/(AB4-Z11)","v":0.29411764705882354},{"$f":"IF(AA8=0,0,(AA8*((LOG(AA8))/LOG(2))))","v":-0.51927492540087561},null,{"$f":"N8","v":112},{"$f":"COUNTIF(L75:L107,AD8)","v":14},{"$f":"AE8/(AG4-AE11)","v":0.42424242424242425},{"$f":"IF(AF8=0,0,(AF8*((LOG(AF8))/LOG(2))))","v":-0.52480450794581479},null,{"$f":"N8","v":112},{"$f":"COUNTIF(L108:L141,AI8)","v":15},{"$f":"AJ8/(AL4-AJ11)","v":0.45454545454545453},{"$f":"IF(AK8=0,0,(AK8*((LOG(AK8))/LOG(2))))","v":-0.51704705624997038},null,{"$f":"N8","v":112},{"$f":"COUNTIF(L142:L175,AN8)","v":15},{"$f":"AO8/(AQ4-AO11)","v":0.44117647058823528},{"$f":"IF(AP8=0,0,(AP8*((LOG(AP8))/LOG(2))))","v":-0.52084069660668564},null,{"$f":"N8","v":112},{"$f":"COUNTIF(L176:L209,AS8)","v":18},{"$f":"AT8/(AV4-AT11)","v":0.52941176470588236},{"$f":"IF(AU8=0,0,(AU8*((LOG(AU8))/LOG(2))))","v":-0.48575532695719081}]
[12,297,13,311,24,325,null,null,null,null,0,112,null,121,{"$f":"COUNTIF($L$7:$L$500,N9)","v":9},{"$f":"O9/$Q$4","v":4.4334975369458129E-2},{"$f":"IF(P9=0,0,(P9*((LOG(P9))/LOG(2))))","v":-0.19930393222505308},null,null,{"$f":"N9","v":121},{"$f":"COUNTIF(L7:L40,T9)","v":2},{"$f":"U9/(W4-U11)","v":5.8823529411764705E-2},{"$f":"IF(V9=0,0,(V9*((LOG(V9))/LOG(2))))","v":-0.24043899066178465},null,{"$f":"N9","v":121},{"$f":"COUNTIF(L41:L74,Y9)","v":0},{"$f":"Z9/(AB4-Z11)","v":0},{"$f":"IF(AA9=0,0,(AA9*((LOG(AA9))/LOG(2))))","v":0},null,{"$f":"N9","v":121},{"$f":"COUNTIF(L75:L107,AD9)","v":1},{"$f":"AE9/(AG4-AE11)","v":3.0303030303030304E-2},{"$f":"IF(AF9=0,0,(AF9*((LOG(AF9))/LOG(2))))","v":-0.15286042785934709},null,{"$f":"N9","v":121},{"$f":"COUNTIF(L108:L141,AI9)","v":2},{"$f":"AJ9/(AL4-AJ11)","v":6.0606060606060608E-2},{"$f":"IF(AK9=0,0,(AK9*((LOG(AK9))/LOG(2))))","v":-0.24511479511263354},null,{"$f":"N9","v":121},{"$f":"COUNTIF(L142:L175,AN9)","v":1},{"$f":"AO9/(AQ4-AO11)","v":2.9411764705882353E-2},{"$f":"IF(AP9=0,0,(AP9*((LOG(AP9))/LOG(2))))","v":-0.14963126003677468},null,{"$f":"N9","v":121},{"$f":"COUNTIF(L176:L209,AS9)","v":3},{"$f":"AT9/(AV4-AT11)","v":8.8235294117647065E-2},{"$f":"IF(AU9=0,0,(AU9*((LOG(AU9))/LOG(2))))","v":-0.30904414769375149}]
[12,424,13,441,24,452,null,null,null,null,0,112,null,122,{"$f":"COUNTIF($L$7:$L$500,N10)","v":17},{"$f":"O10/$Q$4","v":8.3743842364532015E-2},{"$f":"IF(P10=0,0,(P10*((LOG(P10))/LOG(2))))","v":-0.2996248388713903},null,null,{"$f":"N10","v":122},{"$f":"COUNTIF(L7:L40,T10)","v":6},{"$f":"U10/(W4-U11)","v":0.17647058823529413},{"$f":"IF(V10=0,0,(V10*((LOG(V10))/LOG(2))))","v":-0.44161770715220888},null,{"$f":"N10","v":122},{"$f":"COUNTIF(L41:L74,Y10)","v":2},{"$f":"Z10/(AB4-Z11)","v":5.8823529411764705E-2},{"$f":"IF(AA10=0,0,(AA10*((LOG(AA10))/LOG(2))))","v":-0.24043899066178465},null,{"$f":"N10","v":122},{"$f":"COUNTIF(L75:L107,AD10)","v":1},{"$f":"AE10/(AG4-AE11)","v":3.0303030303030304E-2},{"$f":"IF(AF10=0,0,(AF10*((LOG(AF10))/LOG(2))))","v":-0.15286042785934709},null,{"$f":"N10","v":122},{"$f":"COUNTIF(L108:L141,AI10)","v":3},{"$f":"AJ10/(AL4-AJ11)","v":9.0909090909090912E-2},{"$f":"IF(AK10=0,0,(AK10*((LOG(AK10))/LOG(2))))","v":-0.31449378351248153},null,{"$f":"N10","v":122},{"$f":"COUNTIF(L142:L175,AN10)","v":3},{"$f":"AO10/(AQ4-AO11)","v":8.8235294117647065E-2},{"$f":"IF(AP10=0,0,(AP10*((LOG(AP10))/LOG(2))))","v":-0.30904414769375149},null,{"$f":"N10","v":122},{"$f":"COUNTIF(L176:L209,AS10)","v":2},{"$f":"AT10/(AV4-AT11)","v":5.8823529411764705E-2},{"$f":"IF(AU10=0,0,(AU10*((LOG(AU10))/LOG(2))))","v":-0.24043899066178465}]
[12,553,24,583,24,599,null,null,null,null,0,122,null,211,{"$f":"COUNTIF($L$7:$L$500,N11)","v":1},{"$f":"O11/$Q$4","v":4.9261083743842365E-3},{"$f":"IF(P11=0,0,(P11*((LOG(P11))/LOG(2))))","v":-3.7760275454114173E-2},null,null,{"$f":"N11","v":211},{"$f":"COUNTIF(L7:L40,T11)","v":0},null,null,null,{"$f":"N11","v":211},{"$f":"COUNTIF(L41:L74,Y11)","v":0},null,null,null,{"$f":"N11","v":211},{"$f":"COUNTIF(L75:L107,AD11)","v":0},null,null,null,{"$f":"N11","v":211},{"$f":"COUNTIF(L108:L141,AI11)","v":1},null,null,null,{"$f":"N11","v":211},{"$f":"COUNTIF(L142:L175,AN11)","v":0},null,null,null,{"$f":"N11","v":211},{"$f":"COUNTIF(L176:L209,AS11)","v":0}]
[12,711,24,730,24,737,null,null,null,null,0,122,null,212,{"$f":"COUNTIF($L$7:$L$500,N12)","v":6},{"$f":"O12/$Q$4","v":2.9556650246305417E-2},{"$f":"IF(P12=0,0,(P12*((LOG(P12))/LOG(2))))","v":-0.15015882019105478},null,null,{"$f":"N12","v":212},{"$f":"COUNTIF(L7:L40,T12)","v":0},{"$f":"U12/(W4-U11)","v":0},{"$f":"IF(V12=0,0,(V12*((LOG(V12))/LOG(2))))","v":0},null,{"$f":"N12","v":212},{"$f":"COUNTIF(L41:L74,Y12)","v":2},{"$f":"Z12/(AB4-Z11)","v":5.8823529411764705E-2},{"$f":"IF(AA12=0,0,(AA12*((LOG(AA12))/LOG(2))))","v":-0.24043899066178465},null,{"$f":"N12","v":212},{"$f":"COUNTIF(L75:L107,AD12)","v":0},{"$f":"AE12/(AG4-AE11)","v":0},{"$f":"IF(AF12=0,0,(AF12*((LOG(AF12))/LOG(2))))","v":0},null,{"$f":"N12","v":212},{"$f":"COUNTIF(L108:L141,AI12)","v":3},{"$f":"AJ12/(AL4-AJ11)","v":9.0909090909090912E-2},{"$f":"IF(AK12=0,0,(AK12*((LOG(AK12))/LOG(2))))","v":-0.31449378351248153},null,{"$f":"N12","v":212},{"$f":"COUNTIF(L142:L175,AN12)","v":1},{"$f":"AO12/(AQ4-AO11)","v":2.9411764705882353E-2},{"$f":"IF(AP12=0,0,(AP12*((LOG(AP12))/LOG(2))))","v":-0.14963126003677468},null,{"$f":"N12","v":212},{"$f":"COUNTIF(L176:L209,AS12)","v":0},{"$f":"AT12/(AV4-AT11)","v":0},{"$f":"IF(AU12=0,0,(AU12*((LOG(AU12))/LOG(2))))","v":0}]
[12,837,24,873,24,877,null,null,null,null,0,122,null,221,{"$f":"COUNTIF($L$7:$L$500,N13)","v":12},{"$f":"O13/$Q$4","v":5.9113300492610835E-2},{"$f":"IF(P13=0,0,(P13*((LOG(P13))/LOG(2))))","v":-0.24120433988949874},null,null,{"$f":"N13","v":221},{"$f":"COUNTIF(L7:L40,T13)","v":2},{"$f":"U13/(W4-U11)","v":5.8823529411764705E-2},{"$f":"IF(V13=0,0,(V13*((LOG(V13))/LOG(2))))","v":-0.24043899066178465},null,{"$f":"N13","v":221},{"$f":"COUNTIF(L41:L74,Y13)","v":4},{"$f":"Z13/(AB4-Z11)","v":0.11764705882352941},{"$f":"IF(AA13=0,0,(AA13*((LOG(AA13))/LOG(2))))","v":-0.36323092250003997},null,{"$f":"N13","v":221},{"$f":"COUNTIF(L75:L107,AD13)","v":2},{"$f":"AE13/(AG4-AE11)","v":6.0606060606060608E-2},{"$f":"IF(AF13=0,0,(AF13*((LOG(AF13))/LOG(2))))","v":-0.24511479511263354},null,{"$f":"N13","v":221},{"$f":"COUNTIF(L108:L141,AI13)","v":3},{"$f":"AJ13/(AL4-AJ11)","v":9.0909090909090912E-2},{"$f":"IF(AK13=0,0,(AK13*((LOG(AK13))/LOG(2))))","v":-0.31449378351248153},null,{"$f":"N13","v":221},{"$f":"COUNTIF(L142:L175,AN13)","v":1},{"$f":"AO13/(AQ4-AO11)","v":2.9411764705882353E-2},{"$f":"IF(AP13=0,0,(AP13*((LOG(AP13))/LOG(2))))","v":-0.14963126003677468},null,{"$f":"N13","v":221},{"$f":"COUNTIF(L176:L209,AS13)","v":0},{"$f":"AT13/(AV4-AT11)","v":0},{"$f":"IF(AU13=0,0,(AU13*((LOG(AU13))/LOG(2))))","v":0}]
[12,983,13,993,13,1001,null,null,null,null,0,111,null,222,{"$f":"COUNTIF($L$7:$L$500,N14)","v":17},{"$f":"O14/$Q$4","v":8.3743842364532015E-2},{"$f":"IF(P14=0,0,(P14*((LOG(P14))/LOG(2))))","v":-0.2996248388713903},null,null,{"$f":"N14","v":222},{"$f":"COUNTIF(L7:L40,T14)","v":1},{"$f":"U14/(W4-U11)","v":2.9411764705882353E-2},{"$f":"IF(V14=0,0,(V14*((LOG(V14))/LOG(2))))","v":-0.14963126003677468},null,{"$f":"N14","v":222},{"$f":"COUNTIF(L41:L74,Y14)","v":4},{"$f":"Z14/(AB4-Z11)","v":0.11764705882352941},{"$f":"IF(AA14=0,0,(AA14*((LOG(AA14))/LOG(2))))","v":-0.36323092250003997},null,{"$f":"N14","v":222},{"$f":"COUNTIF(L75:L107,AD14)","v":4},{"$f":"AE14/(AG4-AE11)","v":0.12121212121212122},{"$f":"IF(AF14=0,0,(AF14*((LOG(AF14))/LOG(2))))","v":-0.36901746901314586},null,{"$f":"N14","v":222},{"$f":"COUNTIF(L108:L141,AI14)","v":2},{"$f":"AJ14/(AL4-AJ11)","v":6.0606060606060608E-2},{"$f":"IF(AK14=0,0,(AK14*((LOG(AK14))/LOG(2))))","v":-0.24511479511263354},null,{"$f":"N14","v":222},{"$f":"COUNTIF(L142:L175,AN14)","v":2},{"$f":"AO14/(AQ4-AO11)","v":5.8823529411764705E-2},{"$f":"IF(AP14=0,0,(AP14*((LOG(AP14))/LOG(2))))","v":-0.24043899066178465},null,{"$f":"N14","v":222},{"$f":"COUNTIF(L176:L209,AS14)","v":4},{"$f":"AT14/(AV4-AT11)","v":0.11764705882352941},{"$f":"IF(AU14=0,0,(AU14*((LOG(AU14))/LOG(2))))","v":-0.36323092250003997}]
[12,1103,24,1115,24,1119,null,null,null,null,0,122,null,null,null,{"$f":"SUM(P7:P14)","v":1},{"$f":"-SUM(Q7:Q14)","v":2.2716238130094766},null,null,null,null,{"$f":"SUM(V7:V14)","v":1},{"$f":"-SUM(W7:W14)","v":2.1291371701329544},null,null,null,{"$f":"SUM(AA7:AA14)","v":1},{"$f":"-SUM(AB7:AB14)","v":2.2569089895583545},null,null,null,{"$f":"SUM(AF7:AF14)","v":0.99999999999999989},{"$f":"-SUM(AG7:AG14)","v":1.9729784613640069},null,null,null,{"$f":"SUM(AK7:AK14)","v":1.0000000000000002},{"$f":"-SUM(AL7:AL14)","v":2.3632528492052716},null,null,null,{"$f":"SUM(AP7:AP14)","v":1},{"$f":"-SUM(AQ7:AQ14)","v":2.0459335988591181},null,null,null,{"$f":"SUM(AU7:AU14)","v":1},{"$f":"-SUM(AV7:AV14)","v":1.8679033711759772}]
[12,1257,13,1261,24,1277,null,null,null,null,0,112,null,null,null,"U=",{"$f":"Q15/(LOG(Q4)/LOG(2))","v":0.29635019750623665},null,null,null,null,"U1=",{"$f":"W15/(LOG(W4)/LOG(2))","v":0.41850667740890646},null,null,null,"U2=",{"$f":"AB15/(LOG(AB4)/LOG(2))","v":0.44362171478852058},null,null,null,"U3=",{"$f":"AG15/(LOG(AG4)/LOG(2))","v":0.39112298021926378},null,null,null,"U4=",{"$f":"AL15/(LOG(AL4)/LOG(2))","v":0.4645248374186568},null,null,null,"U5=",{"$f":"AQ15/(LOG(AQ4)/LOG(2))","v":0.40215204763172119},null,null,null,"U6=",{"$f":"AV15/(LOG(AV4)/LOG(2))","v":0.36715813549154197}]
[12,1393,13,1398,13,1405,null,null,null,null,0,111]
[12,1506,13,1514,13,1518,null,null,null,null,0,111]
[12,1622,13,1626,13,1630,null,null,null,null,0,111,null,"Total Target Seq"]
[12,1734,13,1760,13,1771,null,null,null,null,0,111,null,{"$f":"COUNTIF(L7:L209,G3)","v":1},null,34,34,33,34,34,34]
[21,1882,22,1886,13,1897,null,null,null,null,0,221,null,null,null,"% of reinforcement given in 6 equal intervals based on number of trials "]
[12,2022,13,2027,24,2038,null,null,null,null,0,112,null,null,null,"%_1","%_2","%_3","%_4","%_5","%_6"]
[12,2139,13,2143,13,2151,null,null,null,null,0,111,null,null,"target sequence",{"$f":"$G$3","v":211},{"$f":"$G$3","v":211},{"$f":"$G$3","v":211},{"$f":"$G$3","v":211},{"$f":"$G$3","v":211},{"$f":"$G$3","v":211}]
[12,2248,13,2261,13,2265,null,null,null,null,0,111,null,null,"total reinforcement",{"$f":"U11","v":0},{"$f":"Z11","v":0},{"$f":"AE11","v":0},{"$f":"AJ11","v":1},{"$f":"AO11","v":0},{"$f":"AT11","v":0}]
[12,2364,13,2368,24,2382,null,null,null,null,0,112,null,null,"% target"]
[12,2485,13,2493,13,2496,null,null,null,null,0,111,null,null,"CCRF"]
[12,2596,13,2600,13,2604,null,null,null,null,0,111,null,null,"% CCRf"]
[12,2706,13,2710,24,2725,null,null,null,null,0,112,null,null,"average response rate",{"$f":"F40/P20","v":122.11764705882354},{"$f":"(F74-F40)/Q20","v":115.85294117647059},{"$f":"(F107-F74)/R20","v":112.45454545454545},{"$f":"(F141-F107)/S20","v":120.5},{"$f":"(F175-F141)/T20","v":117},{"$f":"(F209-F175)/U20","v":119.20588235294117}]
[12,2834,13,2838,24,2848,null,null,null,null,0,112]
[12,2964,24,2972,13,2982,null,null,null,null,0,121]
[12,3091,24,3099,13,3109,null,null,null,null,0,121]
[12,3211,13,3225,24,3235,null,null,null,null,0,112]
[21,3333,22,3337,13,3347,null,null,null,null,0,221]
[12,3447,24,3459,24,3464,null,null,null,null,0,122]
[12,3561,13,3568,24,3579,null,null,null,null,0,112]
[12,3677,24,3691,24,3699,null,null,null,null,0,122]
[12,3801,13,3809,13,3813,null,null,null,null,0,111]
[12,3921,13,3929,13,3939,null,null,null,null,0,111]
[21,4039,22,4043,24,4047,null,null,null,null,0,222]
[12,4145,13,4148,13,4152,null,null,null,null,0,111]
[12,4253,13,4257,13,4262,null,null,null,null,0,111]
[12,4363,13,4378,24,4392,null,null,null,null,0,112]
[12,4496,13,4500,24,4514,null,null,null,null,0,112]
[21,4613,11,4624,22,4636,null,null,null,null,0,212]
[21,4736,11,4745,22,4760,null,null,null,null,0,212]
[21,4859,22,4874,13,4881,null,null,null,null,0,221]
[12,4983,13,4988,24,5000,null,null,null,null,0,112]
[12,5099,24,5114,24,5118,null,null,null,null,0,122]
[12,5219,13,5223,13,5227,null,null,null,null,0,111]
[12,5327,13,5335,13,5339,null,null,null,null,0,111]
[12,5438,13,5441,13,5447,null,null,null,null,0,111]
[12,5545,13,5549,13,5553,null,null,null,null,0,111]
[12,5650,13,5657,13,5661,null,null,null,null,0,111]
[21,5777,22,5782,13,5796,null,null,null,null,0,221]
[12,5894,13,5898,24,5909,null,null,null,null,0,112]
[21,6007,22,6011,24,6025,null,null,null,null,0,222]
[12,6125,13,6128,13,6135,null,null,null,null,0,111]
[12,6236,13,6240,24,6248,null,null,null,null,0,112]
[12,6351,24,6363,24,6370,null,null,null,null,0,122]
[21,6470,22,6474,24,6488,null,null,null,null,0,222]
[21,6598,22,6610,24,6620,null,null,null,null,0,222]
[12,6726,13,6731,13,6736,null,null,null,null,0,111]
[12,6837,13,6844,24,6852,null,null,null,null,0,112]
[12,6950,13,6954,13,6958,null,null,null,null,0,111]
[21,7057,22,7061,13,7076,null,null,null,null,0,221]
[12,7177,13,7181,24,7192,null,null,null,null,0,112]
[12,7290,13,7293,24,7305,null,null,null,null,0,112]
[12,7403,13,7419,13,7426,null,null,null,null,0,111]
[21,7524,22,7529,13,7540,null,null,null,null,0,221]
[12,7638,13,7641,13,7645,null,null,null,null,0,111]
[12,7743,13,7751,13,7755,null,null,null,null,0,111]
[12,7853,13,7856,24,7866,null,null,null,null,0,112]
[12,7966,13,7971,24,7979,null,null,null,null,0,112]
[21,8082,22,8086,24,8091,null,null,null,null,0,222]
[12,8190,13,8193,24,8204,null,null,null,null,0,112]
[21,8310,22,8315,24,8336,null,null,null,null,0,222]
[12,8433,13,8437,13,8448,null,null,null,null,0,111]
[21,8549,22,8553,24,8563,null,null,null,null,0,222]
[12,8661,13,8668,13,8672,null,null,null,null,0,111]
[12,8772,13,8776,24,8784,null,null,null,null,0,112]
[12,8880,13,8887,24,8900,null,null,null,null,0,112]
[12,8998,13,9001,13,9005,null,null,null,null,0,111]
[12,9103,13,9106,13,9117,null,null,null,null,0,111]
[12,9214,13,9217,13,9222,null,null,null,null,0,111]
[12,9319,13,9326,24,9336,null,null,null,null,0,112]
[12,9434,13,9437,13,9444,null,null,null,null,0,111]
[12,9544,13,9548,24,9555,null,null,null,null,0,112]
[12,9652,13,9657,24,9666,null,null,null,null,0,112]
[21,9767,22,9772,13,9782,null,null,null,null,0,221]
[12,9879,13,9883,13,9887,null,null,null,null,0,111]
[12,9985,13,9995,24,10003,null,null,null,null,0,112]
[12,10102,13,10106,13,10112,null,null,null,null,0,111]
[12,10211,13,10221,24,10235,null,null,null,null,0,112]
[12,10334,13,10338,24,10346,null,null,null,null,0,112]
[12,10443,13,10447,24,10463,null,null,null,null,0,112]
[12,10562,13,10565,24,10576,null,null,null,null,0,112]
[12,10674,13,10677,13,10682,null,null,null,null,0,111]
[12,10779,13,10787,24,10797,null,null,null,null,0,112]
[12,10894,13,10897,13,10902,null,null,null,null,0,111]
[12,11000,13,11004,13,11008,null,null,null,null,0,111]
[12,11106,13,11110,24,11118,null,null,null,null,0,112]
[12,11225,24,11234,13,11244,null,null,null,null,0,121]
[12,11342,13,11346,24,11353,null,null,null,null,0,112]
[12,11452,24,11459,24,11466,null,null,null,null,0,122]
[21,11561,22,11569,13,11579,null,null,null,null,0,221]
[21,11682,22,11686,24,11691,null,null,null,null,0,222]
[21,11794,22,11798,24,11802,null,null,null,null,0,222]
[12,11899,13,11903,24,11911,null,null,null,null,0,112]
[12,12009,13,12012,13,12017,null,null,null,null,0,111]
[12,12116,13,12124,24,12130,null,null,null,null,0,112]
[12,12231,13,12242,13,12249,null,null,null,null,0,111]
[21,12391,11,12404,11,12426,null,null,null,null,0,211]
[21,12528,22,12533,24,12546,null,null,null,null,0,222]
[21,12640,22,12645,13,12655,null,null,null,null,0,221]
[12,12773,24,12787,13,12826,null,null,null,null,0,121]
[12,12924,13,12928,24,12938,null,null,null,null,0,112]
[12,13034,13,13041,24,13051,null,null,null,null,0,112]
[12,13150,13,13153,24,13163,null,null,null,null,0,112]
[12,13264,13,13271,24,13282,null,null,null,null,0,112]
[21,13386,22,13390,24,13405,null,null,null,null,0,222]
[12,13503,13,13506,24,13513,null,null,null,null,0,112]
[12,13611,13,13615,24,13624,null,null,null,null,0,112]
[12,13722,13,13730,24,13740,null,null,null,null,0,112]
[12,13837,13,13840,13,13849,null,null,null,null,0,111]
[12,13947,13,13950,24,13958,null,null,null,null,0,112]
[12,14056,13,14060,24,14072,null,null,null,null,0,112]
[21,14188,11,14199,22,14206,null,null,null,null,0,212]
[21,14307,22,14311,13,14325,null,null,null,null,0,221]
[12,14426,24,14435,24,14456,null,null,null,null,0,122]
[12,14560,24,14569,24,14579,null,null,null,null,0,122]
[12,14677,13,14680,13,14686,null,null,null,null,0,111]
[12,14784,13,14788,24,14797,null,null,null,null,0,112]
[12,14902,24,14917,13,14939,null,null,null,null,0,121]
[12,15038,13,15042,24,15053,null,null,null,null,0,112]
[21,15161,11,15171,22,15178,null,null,null,null,0,212]
[21,15281,11,15290,22,15299,null,null,null,null,0,212]
[21,15398,22,15402,13,15412,null,null,null,null,0,221]
[12,15511,13,15515,24,15522,null,null,null,null,0,112]
[12,15620,13,15623,13,15630,null,null,null,null,0,111]
[12,15728,13,15732,24,15739,null,null,null,null,0,112]
[12,15871,24,15879,24,15899,null,null,null,null,0,122]
[12,16001,24,16021,13,16035,null,null,null,null,0,121]
[12,16136,13,16140,24,16147,null,null,null,null,0,112]
[12,16245,13,16248,13,16258,null,null,null,null,0,111]
[12,16355,13,16358,13,16362,null,null,null,null,0,111]
[21,16486,22,16506,13,16521,null,null,null,null,0,221]
[12,16620,13,16627,24,16639,null,null,null,null,0,112]
[12,16737,13,16740,24,16748,null,null,null,null,0,112]
[12,16847,13,16851,24,16882,null,null,null,null,0,112]
[12,16980,13,16990,24,17000,null,null,null,null,0,112]
[12,17097,13,17101,13,17113,null,null,null,null,0,111]
[12,17211,13,17214,13,17219,null,null,null,null,0,111]
[12,17318,13,17322,13,17326,null,null,null,null,0,111]
[12,17424,13,17428,24,17436,null,null,null,null,0,112]
[21,17544,22,17564,24,17580,null,null,null,null,0,222]
[12,17677,13,17681,24,17688,null,null,null,null,0,112]
[12,17786,13,17790,13,17793,null,null,null,null,0,111]
[12,17892,13,17897,24,17906,null,null,null,null,0,112]
[12,18004,13,18008,24,18016,null,null,null,null,0,112]
[12,18116,24,18137,24,18155,null,null,null,null,0,122]
[12,18254,24,18264,24,18280,null,null,null,null,0,122]
[12,18381,13,18385,13,18392,null,null,null,null,0,111]
[12,18489,13,18493,24,18502,null,null,null,null,0,112]
[12,18600,13,18604,13,18611,null,null,null,null,0,111]
[21,18729,11,18739,22,18747,null,null,null,null,0,212]
[21,18845,22,18849,24,18861,null,null,null,null,0,222]
[12,18959,13,18962,24,18970,null,null,null,null,0,112]
[12,19077,24,19086,24,19104,null,null,null,null,0,122]
[12,19201,13,19207,13,19212,null,null,null,null,0,111]
[12,19312,13,19316,24,19324,null,null,null,null,0,112]
[12,19423,13,19427,24,19434,null,null,null,null,0,112]
[12,19532,13,19537,13,19542,null,null,null,null,0,111]
[12,19644,13,19648,24,19657,null,null,null,null,0,112]
[12,19755,13,19759,13,19769,null,null,null,null,0,111]
[12,19866,13,19870,24,19877,null,null,null,null,0,112]
[12,19976,13,19980,13,19990,null,null,null,null,0,111]
[12,20119,24,20127,13,20144,null,null,null,null,0,121]
[12,20243,24,20267,13,20281,null,null,null,null,0,121]
[12,20380,24,20388,24,20396,null,null,null,null,0,122]
[21,20513,22,20517,24,20536,null,null,null,null,0,222]
[12,20633,13,20637,24,20647,null,null,null,null,0,112]
[12,20746,13,20750,24,20758,null,null,null,null,0,112]
[12,20857,13,20861,13,20868,null,null,null,null,0,111]
[12,20967,13,20970,24,20980,null,null,null,null,0,112]
[12,21076,24,21084,13,21104,null,null,null,null,0,121]
[12,21201,13,21205,13,21214,null,null,null,null,0,111]
[12,21312,13,21316,24,21332,null,null,null,null,0,112]
[12,21430,13,21434,13,21442,null,null,null,null,0,111]
[12,21539,13,21544,24,21553,null,null,null,null,0,112]
[12,21652,13,21663,24,21673,null,null,null,null,0,112]
[12,21771,13,21780,24,21807,null,null,null,null,0,112]
[12,21906,13,21916,24,21924,null,null,null,null,0,112]
[12,22024,13,22028,24,22038,null,null,null,null,0,112]
[12,22143,13,22154,24,22161,null,null,null,null,0,112]
[12,22260,13,22263,13,22274,null,null,null,null,0,111]
[12,22376,24,22385,24,22398,null,null,null,null,0,122]
[12,22497,13,22508,24,22516,null,null,null,null,0,112]
[21,22622,22,22636,24,22643,null,null,null,null,0,222]
[21,22743,22,22756,24,22763,null,null,null,null,0,222]
[12,22860,13,22865,24,22872,null,null,null,null,0,112]
[12,22970,13,22974,24,22985,null,null,null,null,0,112]
[21,23092,22,23097,24,23102,null,null,null,null,0,222]
[12,23201,13,23205,24,23222,null,null,null,null,0,112]
[12,23319,13,23322,24,23332,null,null,null,null,0,112]
[12,23430,13,23433,13,23441,null,null,null,null,0,111]
[12,23539,13,23552,24,23562,null,null,null,null,0,112]
[12,23660,13,23664,13,23669,null,null,null,null,0,111]
[12,23779,13,23798,24,23806,null,null,null,null,0,112]
[12,23905,13,23909,24,23930,null,null,null,null,null,112]

{"sheet":"!MC10B30.096","index":12,"n_rows":208,"n_cols":48,"rows_kept":208,"cut":false,"hidden":false,"merged":[[4,39,4,42],[5,39,5,40],[4,44,4,47],[5,44,5,45],[4,24,4,27],[5,24,5,25],[4,29,4,32],[5,29,5,30],[4,34,4,37],[5,34,5,35],[1,1,1,2],[5,13,5,14],[18,13,18,14],[19,13,19,14],[4,19,4,22],[5,19,5,20]]}
["Report for:!MC10B30.096"]
["Date:","<date>"]
["Hen:","<hen>",null,null,null,"Correct Sequence",{"$f":"Start!J2","v":211},null,null,null,null,null,null,null,null,"Total Sequences in Data",{"$f":"4994-COUNTBLANK(L7:L5000)","v":202},null,null,null,null,"Total Sequences in Block Data",{"$f":"COUNTA(L7:L40)","v":34},null,null,null,"Total Sequences in Block Data",{"$f":"COUNTA(L41:L73)","v":33},null,null,null,"Total Sequences in Block Data",{"$f":"COUNTA(L74:L107)","v":34},null,null,null,"Total Sequences in Block Data",{"$f":"COUNTA(L108:L141)","v":34},null,null,null,"Total Sequences in Block Data",{"$f":"COUNTA(L142:L174)","v":33},null,null,null,"Total Sequences in Block Data",{"$f":"COUNTA(L175:L208)","v":34}]
[null,null,null,null,null,null,null,null,null,null,null,null,null,null,null,"Total Sequences in Summary",{"$f":"SUM(O7:O14)","v":201},null,null,null,null,"Total Sequences in Block Summary",{"$f":"SUM(U7:U14)","v":34},null,null,null,"Total Sequences in Block Summary",{"$f":"SUM(Z7:Z14)","v":33},null,null,null,"Total Sequences in Block Summary",{"$f":"SUM(AE7:AE14)","v":34},null,null,null,"Total Sequences in Block Summary",{"$f":"SUM(AJ7:AJ14)","v":34},null,null,null,"Total Sequences in Block Summary",{"$f":"SUM(AO7:AO14)","v":33},null,null,null,"Total Sequences in Block Summary",{"$f":"SUM(AT7:AT14)","v":33}]
[null,null,null,null,null,null,null,null,null,null,null,null,null,null,null,null,null,null,null,"Block 1",null,null,null,null,"Block 2",null,null,null,null,"Block 3",null,null,null,null,"Block 4",null,null,null,null,"Block 5",null,null,null,null,"Block 6"]
["Sequence\nComponent\n1","Time\n1","Sequence\nComponent\n2","Time\n2","Sequence\nComponent\n3","Time\n3","Sequence\nComponent\n4","Time\n4","Sequence\nComponent\n5","Time\n5","Correct?\n0=No 1=Yes","Sequence",null,"Frequency",null,"Relative Frequency","Variability",null,null,"Frequency",null,"Relative Frequency","Variability",null,"Frequency",null,"Relative Frequency","Variability",null,"Frequency",null,"Relative Frequency","Variability",null,"Frequency",null,"Relative Frequency","Variability",null,"Frequency",null,"Relative Frequency","Variability",null,"Frequency",null,"Relative Frequency","Variability"]
[12,7,13,11,13,15,null,null,null,null,0,111,null,111,{"$f":"COUNTIF($L$7:$L$500,N7)","v":68},{"$f":"O7/$Q$4","v":0.3383084577114428},{"$f":"IF(P7=0,0,(P7*((LOG(P7))/LOG(2))))","v":-0.52897533231414962},null,null,{"$f":"N7","v":111},{"$f":"COUNTIF(L7:L40,T7)","v":9},{"$f":"U7/(W4-U11)","v":0.26470588235294118},{"$f":"IF(V7=0,0,(V7*((LOG(V7))/LOG(2))))","v":-0.50758354583153664},null,{"$f":"N7","v":111},{"$f":"COUNTIF(L41:L73,Y7)","v":12},{"$f":"Z7/(AB4-Z11)","v":0.36363636363636365},{"$f":"IF(AA7=0,0,(AA7*((LOG(AA7))/LOG(2))))","v":-0.53070240677719893},null,{"$f":"N7","v":111},{"$f":"COUNTIF(L74:L107,AD7)","v":16},{"$f":"AE7/(AG4-AE11)","v":0.48484848484848486},{"$f":"IF(AF7=0,0,(AF7*((LOG(AF7))/LOG(2))))","v":-0.50637290635561383},null,{"$f":"N7","v":111},{"$f":"COUNTIF(L108:L141,AI7)","v":13},{"$f":"AJ7/(AL4-AJ11)","v":0.39393939393939392},{"$f":"IF(AK7=0,0,(AK7*((LOG(AK7))/LOG(2))))","v":-0.52943658229774837},null,{"$f":"N7","v":111},{"$f":"COUNTIF(L142:L174,AN7)","v":8},{"$f":"AO7/(AQ4-AO11)","v":0.24242424242424243},{"$f":"IF(AP7=0,0,(AP7*((LOG(AP7))/LOG(2))))","v":-0.49561069560204934},null,{"$f":"N7","v":111},{"$f":"COUNTIF(L175:L208,AS7)","v":10},{"$f":"AT7/(AV4-AT11)","v":0.30303030303030304},{"$f":"IF(AU7=0,0,(AU7*((LOG(AU7))/LOG(2))))","v":-0.52195940135487617}]
[12,115,13,123,13,130,null,null,null,null,0,111,null,112,{"$f":"COUNTIF($L$7:$L$500,N8)","v":51},{"$f":"O8/$Q$4","v":0.2537313432835821},{"$f":"IF(P8=0,0,(P8*((LOG(P8))/LOG(2))))","v":-0.50203952144069186},null,null,{"$f":"N8","v":112},{"$f":"COUNTIF(L7:L40,T8)","v":5},{"$f":"U8/(W4-U11)","v":0.14705882352941177},{"$f":"IF(V8=0,0,(V8*((LOG(V8))/LOG(2))))","v":-0.40669628622984955},null,{"$f":"N8","v":112},{"$f":"COUNTIF(L41:L73,Y8)","v":9},{"$f":"Z8/(AB4-Z11)","v":0.27272727272727271},{"$f":"IF(AA8=0,0,(AA8*((LOG(AA8))/LOG(2))))","v":-0.51121885034076575},null,{"$f":"N8","v":112},{"$f":"COUNTIF(L74:L107,AD8)","v":10},{"$f":"AE8/(AG4-AE11)","v":0.30303030303030304},{"$f":"IF(AF8=0,0,(AF8*((LOG(AF8))/LOG(2))))","v":-0.52195940135487617},null,{"$f":"N8","v":112},{"$f":"COUNTIF(L108:L141,AI8)","v":9},{"$f":"AJ8/(AL4-AJ11)","v":0.27272727272727271},{"$f":"IF(AK8=0,0,(AK8*((LOG(AK8))/LOG(2))))","v":-0.51121885034076575},null,{"$f":"N8","v":112},{"$f":"COUNTIF(L142:L174,AN8)","v":11},{"$f":"AO8/(AQ4-AO11)","v":0.33333333333333331},{"$f":"IF(AP8=0,0,(AP8*((LOG(AP8))/LOG(2))))","v":-0.52832083357371862},null,{"$f":"N8","v":112},{"$f":"COUNTIF(L175:L208,AS8)","v":7},{"$f":"AT8/(AV4-AT11)","v":0.21212121212121213},{"$f":"IF(AU8=0,0,(AU8*((LOG(AU8))/LOG(2))))","v":-0.47452346609411955}]
[21,231,11,241,22,252,null,null,null,null,0,212,null,121,{"$f":"COUNTIF($L$7:$L$500,N9)","v":10},{"$f":"O9/$Q$4","v":4.975124378109453E-2},{"$f":"IF(P9=0,0,(P9*((LOG(P9))/LOG(2))))","v":-0.21537928339759038},null,null,{"$f":"N9","v":121},{"$f":"COUNTIF(L7:L40,T9)","v":0},{"$f":"U9/(W4-U11)","v":0},{"$f":"IF(V9=0,0,(V9*((LOG(V9))/LOG(2))))","v":0},null,{"$f":"N9","v":121},{"$f":"COUNTIF(L41:L73,Y9)","v":0},{"$f":"Z9/(AB4-Z11)","v":0},{"$f":"IF(AA9=0,0,(AA9*((LOG(AA9))/LOG(2))))","v":0},null,{"$f":"N9","v":121},{"$f":"COUNTIF(L74:L107,AD9)","v":1},{"$f":"AE9/(AG4-AE11)","v":3.0303030303030304E-2},{"$f":"IF(AF9=0,0,(AF9*((LOG(AF9))/LOG(2))))","v":-0.15286042785934709},null,{"$f":"N9","v":121},{"$f":"COUNTIF(L108:L141,AI9)","v":2},{"$f":"AJ9/(AL4-AJ11)","v":6.0606060606060608E-2},{"$f":"IF(AK9=0,0,(AK9*((LOG(AK9))/LOG(2))))","v":-0.24511479511263354},null,{"$f":"N9","v":121},{"$f":"COUNTIF(L142:L174,AN9)","v":3},{"$f":"AO9/(AQ4-AO11)","v":9.0909090909090912E-2},{"$f":"IF(AP9=0,0,(AP9*((LOG(AP9))/LOG(2))))","v":-0.31449378351248153},null,{"$f":"N9","v":121},{"$f":"COUNTIF(L175:L208,AS9)","v":4},{"$f":"AT9/(AV4-AT11)","v":0.12121212121212122},{"$f":"IF(AU9=0,0,(AU9*((LOG(AU9))/LOG(2))))","v":-0.36901746901314586}]
[21,349,22,353,24,361,null,null,null,null,0,222,null,122,{"$f":"COUNTIF($L$7:$L$500,N10)","v":12},{"$f":"O10/$Q$4","v":5.9701492537313432E-2},{"$f":"IF(P10=0,0,(P10*((LOG(P10))/LOG(2))))","v":-0.2427515934601655},null,null,{"$f":"N10","v":122},{"$f":"COUNTIF(L7:L40,T10)","v":2},{"$f":"U10/(W4-U11)","v":5.8823529411764705E-2},{"$f":"IF(V10=0,0,(V10*((LOG(V10))/LOG(2))))","v":-0.24043899066178465},null,{"$f":"N10","v":122},{"$f":"COUNTIF(L41:L73,Y10)","v":2},{"$f":"Z10/(AB4-Z11)","v":6.0606060606060608E-2},{"$f":"IF(AA10=0,0,(AA10*((LOG(AA10))/LOG(2))))","v":-0.24511479511263354},null,{"$f":"N10","v":122},{"$f":"COUNTIF(L74:L107,AD10)","v":0},{"$f":"AE10/(AG4-AE11)","v":0},{"$f":"IF(AF10=0,0,(AF10*((LOG(AF10))/LOG(2))))","v":0},null,{"$f":"N10","v":122},{"$f":"COUNTIF(L108:L141,AI10)","v":0},{"$f":"AJ10/(AL4-AJ11)","v":0},{"$f":"IF(AK10=0,0,(AK10*((LOG(AK10))/LOG(2))))","v":0},null,{"$f":"N10","v":122},{"$f":"COUNTIF(L142:L174,AN10)","v":4},{"$f":"AO10/(AQ4-AO11)","v":0.12121212121212122},{"$f":"IF(AP10=0,0,(AP10*((LOG(AP10))/LOG(2))))","v":-0.36901746901314586},null,{"$f":"N10","v":122},{"$f":"COUNTIF(L175:L208,AS10)","v":4},{"$f":"AT10/(AV4-AT11)","v":0.12121212121212122},{"$f":"IF(AU10=0,0,(AU10*((LOG(AU10))/LOG(2))))","v":-0.36901746901314586}]
[21,464,22,469,24,491,null,null,null,null,0,222,null,211,{"$f":"COUNTIF($L$7:$L$500,N11)","v":2},{"$f":"O11/$Q$4","v":9.9502487562189053E-3},{"$f":"IF(P11=0,0,(P11*((LOG(P11))/LOG(2))))","v":-6.6179618817700792E-2},null,null,{"$f":"N11","v":211},{"$f":"COUNTIF(L7:L40,T11)","v":0},null,null,null,{"$f":"N11","v":211},{"$f":"COUNTIF(L41:L73,Y11)","v":0},null,null,null,{"$f":"N11","v":211},{"$f":"COUNTIF(L74:L107,AD11)","v":1},null,null,null,{"$f":"N11","v":211},{"$f":"COUNTIF(L108:L141,AI11)","v":1},null,null,null,{"$f":"N11","v":211},{"$f":"COUNTIF(L142:L174,AN11)","v":0},null,null,null,{"$f":"N11","v":211},{"$f":"COUNTIF(L175:L208,AS11)","v":0}]
[21,590,22,594,13,603,null,null,null,null,0,221,null,212,{"$f":"COUNTIF($L$7:$L$500,N12)","v":20},{"$f":"O12/$Q$4","v":9.950248756218906E-2},{"$f":"IF(P12=0,0,(P12*((LOG(P12))/LOG(2))))","v":-0.33125607923299166},null,null,{"$f":"N12","v":212},{"$f":"COUNTIF(L7:L40,T12)","v":6},{"$f":"U12/(W4-U11)","v":0.17647058823529413},{"$f":"IF(V12=0,0,(V12*((LOG(V12))/LOG(2))))","v":-0.44161770715220888},null,{"$f":"N12","v":212},{"$f":"COUNTIF(L41:L73,Y12)","v":3},{"$f":"Z12/(AB4-Z11)","v":9.0909090909090912E-2},{"$f":"IF(AA12=0,0,(AA12*((LOG(AA12))/LOG(2))))","v":-0.31449378351248153},null,{"$f":"N12","v":212},{"$f":"COUNTIF(L74:L107,AD12)","v":1},{"$f":"AE12/(AG4-AE11)","v":3.0303030303030304E-2},{"$f":"IF(AF12=0,0,(AF12*((LOG(AF12))/LOG(2))))","v":-0.15286042785934709},null,{"$f":"N12","v":212},{"$f":"COUNTIF(L108:L141,AI12)","v":3},{"$f":"AJ12/(AL4-AJ11)","v":9.0909090909090912E-2},{"$f":"IF(AK12=0,0,(AK12*((LOG(AK12))/LOG(2))))","v":-0.31449378351248153},null,{"$f":"N12","v":212},{"$f":"COUNTIF(L142:L174,AN12)","v":3},{"$f":"AO12/(AQ4-AO11)","v":9.0909090909090912E-2},{"$f":"IF(AP12=0,0,(AP12*((LOG(AP12))/LOG(2))))","v":-0.31449378351248153},null,{"$f":"N12","v":212},{"$f":"COUNTIF(L175:L208,AS12)","v":4},{"$f":"AT12/(AV4-AT11)","v":0.12121212121212122},{"$f":"IF(AU12=0,0,(AU12*((LOG(AU12))/LOG(2))))","v":-0.36901746901314586}]
[21,709,11,729,22,741,null,null,null,null,0,212,null,221,{"$f":"COUNTIF($L$7:$L$500,N13)","v":17},{"$f":"O13/$Q$4","v":8.45771144278607E-2},{"$f":"IF(P13=0,0,(P13*((LOG(P13))/LOG(2))))","v":-0.30139806193425878},null,null,{"$f":"N13","v":221},{"$f":"COUNTIF(L7:L40,T13)","v":5},{"$f":"U13/(W4-U11)","v":0.14705882352941177},{"$f":"IF(V13=0,0,(V13*((LOG(V13))/LOG(2))))","v":-0.40669628622984955},null,{"$f":"N13","v":221},{"$f":"COUNTIF(L41:L73,Y13)","v":4},{"$f":"Z13/(AB4-Z11)","v":0.12121212121212122},{"$f":"IF(AA13=0,0,(AA13*((LOG(AA13))/LOG(2))))","v":-0.36901746901314586},null,{"$f":"N13","v":221},{"$f":"COUNTIF(L74:L107,AD13)","v":1},{"$f":"AE13/(AG4-AE11)","v":3.0303030303030304E-2},{"$f":"IF(AF13=0,0,(AF13*((LOG(AF13))/LOG(2))))","v":-0.15286042785934709},null,{"$f":"N13","v":221},{"$f":"COUNTIF(L108:L141,AI13)","v":2},{"$f":"AJ13/(AL4-AJ11)","v":6.0606060606060608E-2},{"$f":"IF(AK13=0,0,(AK13*((LOG(AK13))/LOG(2))))","v":-0.24511479511263354},null,{"$f":"N13","v":221},{"$f":"COUNTIF(L142:L174,AN13)","v":2},{"$f":"AO13/(AQ4-AO11)","v":6.0606060606060608E-2},{"$f":"IF(AP13=0,0,(AP13*((LOG(AP13))/LOG(2))))","v":-0.24511479511263354},null,{"$f":"N13","v":221},{"$f":"COUNTIF(L175:L208,AS13)","v":3},{"$f":"AT13/(AV4-AT11)","v":9.0909090909090912E-2},{"$f":"IF(AU13=0,0,(AU13*((LOG(AU13))/LOG(2))))","v":-0.31449378351248153}]
[12,833,24,840,24,849,null,null,null,null,0,122,null,222,{"$f":"COUNTIF($L$7:$L$500,N14)","v":21},{"$f":"O14/$Q$4","v":0.1044776119402985},{"$f":"IF(P14=0,0,(P14*((LOG(P14))/LOG(2))))","v":-0.34046477431046535},null,null,{"$f":"N14","v":222},{"$f":"COUNTIF(L7:L40,T14)","v":7},{"$f":"U14/(W4-U11)","v":0.20588235294117646},{"$f":"IF(V14=0,0,(V14*((LOG(V14))/LOG(2))))","v":-0.46943398336321018},null,{"$f":"N14","v":222},{"$f":"COUNTIF(L41:L73,Y14)","v":3},{"$f":"Z14/(AB4-Z11)","v":9.0909090909090912E-2},{"$f":"IF(AA14=0,0,(AA14*((LOG(AA14))/LOG(2))))","v":-0.31449378351248153},null,{"$f":"N14","v":222},{"$f":"COUNTIF(L74:L107,AD14)","v":4},{"$f":"AE14/(AG4-AE11)","v":0.12121212121212122},{"$f":"IF(AF14=0,0,(AF14*((LOG(AF14))/LOG(2))))","v":-0.36901746901314586},null,{"$f":"N14","v":222},{"$f":"COUNTIF(L108:L141,AI14)","v":4},{"$f":"AJ14/(AL4-AJ11)","v":0.12121212121212122},{"$f":"IF(AK14=0,0,(AK14*((LOG(AK14))/LOG(2))))","v":-0.36901746901314586},null,{"$f":"N14","v":222},{"$f":"COUNTIF(L142:L174,AN14)","v":2},{"$f":"AO14/(AQ4-AO11)","v":6.0606060606060608E-2},{"$f":"IF(AP14=0,0,(AP14*((LOG(AP14))/LOG(2))))","v":-0.24511479511263354},null,{"$f":"N14","v":222},{"$f":"COUNTIF(L175:L208,AS14)","v":1},{"$f":"AT14/(AV4-AT11)","v":3.0303030303030304E-2},{"$f":"IF(AU14=0,0,(AU14*((LOG(AU14))/LOG(2))))","v":-0.15286042785934709}]
[12,954,13,958,24,965,null,null,null,null,0,112,null,null,null,{"$f":"SUM(P7:P14)","v":0.99999999999999989},{"$f":"-SUM(Q7:Q14)","v":2.5284442649080141},null,null,null,null,{"$f":"SUM(V7:V14)","v":1},{"$f":"-SUM(W7:W14)","v":2.4724667994684397},null,null,null,{"$f":"SUM(AA7:AA14)","v":1},{"$f":"-SUM(AB7:AB14)","v":2.2850410882687071},null,null,null,{"$f":"SUM(AF7:AF14)","v":0.99999999999999989},{"$f":"-SUM(AG7:AG14)","v":1.855931060301677},null,null,null,{"$f":"SUM(AK7:AK14)","v":1},{"$f":"-SUM(AL7:AL14)","v":2.2143962753894084},null,null,null,{"$f":"SUM(AP7:AP14)","v":1},{"$f":"-SUM(AQ7:AQ14)","v":2.5121661554391439},null,null,null,{"$f":"SUM(AU7:AU14)","v":1},{"$f":"-SUM(AV7:AV14)","v":2.570889485860262}]
[12,1063,24,1071,24,1078,null,null,null,null,0,122,null,null,null,"U=",{"$f":"Q15/(LOG(Q4)/LOG(2))","v":0.33047015847809719},null,null,null,null,"U1=",{"$f":"W15/(LOG(W4)/LOG(2))","v":0.48599210974497942},null,null,null,"U2=",{"$f":"AB15/(LOG(AB4)/LOG(2))","v":0.45298623267749721},null,null,null,"U3=",{"$f":"AG15/(LOG(AG4)/LOG(2))","v":0.36480483852449075},null,null,null,"U4=",{"$f":"AL15/(LOG(AL4)/LOG(2))","v":0.43526534630082508},null,null,null,"U5=",{"$f":"AQ15/(LOG(AQ4)/LOG(2))","v":0.49801147491596898},null,null,null,"U6=",{"$f":"AV15/(LOG(AV4)/LOG(2))","v":0.50965277990357105}]
[12,1178,13,1185,13,1188,null,null,null,null,0,111]
[21,1291,11,1306,22,1313,null,null,null,null,0,212]
[21,1418,22,1428,24,1445,null,null,null,null,0,222,null,"Total Target Seq"]
[12,1545,13,1549,13,1554,null,null,null,null,0,111,null,{"$f":"COUNTIF(L7:L208,G3)","v":2},null,34,33,34,34,33,34]
[21,1666,22,1673,13,1687,null,null,null,null,0,221,null,null,null,"% of reinforcement given in 6 equal intervals based on number of trials "]
[21,1796,11,1825,22,1837,null,null,null,null,0,212,null,null,null,"%_1","%_2","%_3","%_4","%_5","%_6"]
[21,1938,11,1954,22,1962,null,null,null,null,0,212,null,null,"target sequence",{"$f":"$G$3","v":211},{"$f":"$G$3","v":211},{"$f":"$G$3","v":211},{"$f":"$G$3","v":211},{"$f":"$G$3","v":211},{"$f":"$G$3","v":211}]
[21,2062,22,2067,24,2082,null,null,null,null,0,222,null,null,"total reinforcement",{"$f":"U11","v":0},{"$f":"Z11","v":0},{"$f":"AE11","v":1},{"$f":"AJ11","v":1},{"$f":"AO11","v":0},{"$f":"AT11","v":0}]
[21,2186,22,2193,13,2200,null,null,null,null,0,221,null,null,"% target"]
[12,2302,13,2306,13,2310,null,null,null,null,0,111,null,null,"CCRF"]
[21,2411,22,2415,24,2418,null,null,null,null,0,222,null,null,"% CCRf"]
[12,2519,13,2527,24,2554,null,null,null,null,0,112,null,null,"average response rate",{"$f":"F40/P20","v":116.94117647058823},{"$f":"(F73-F40)/Q20","v":119.51515151515152},{"$f":"(F107-F73)/R20","v":115.58823529411765},{"$f":"(F141-F107)/S20","v":119.35294117647059},{"$f":"(F174-F141)/T20","v":117.42424242424242},{"$f":"(F208-F174)/U20","v":-581.85294117647061}]
[21,2667,22,2672,13,2688,null,null,null,null,0,221]
[21,2789,22,2793,13,2803,null,null,null,null,0,221]
[21,2909,22,2914,24,2918,null,null,null,null,0,222]
[12,3020,13,3027,24,3035,null,null,null,null,0,112]
[12,3134,13,3138,24,3153,null,null,null,null,0,112]
[12,3252,13,3256,13,3270,null,null,null,null,0,111]
[12,3369,13,3373,13,3379,null,null,null,null,0,111]
[12,3478,13,3482,13,3490,null,null,null,null,0,111]
[21,3596,11,3607,22,3623,null,null,null,null,0,212]
[21,3724,22,3738,24,3752,null,null,null,null,0,222]
[12,3852,13,3862,24,3870,null,null,null,null,0,112]
[12,3968,13,3972,13,3976,null,null,null,null,0,111]
[12,4082,13,4086,24,4097,null,null,null,null,0,112]
[12,4196,13,4206,24,4225,null,null,null,null,0,112]
[21,4324,22,4328,13,4338,null,null,null,null,0,221]
[21,4441,22,4446,24,4450,null,null,null,null,0,222]
[12,4549,13,4553,13,4561,null,null,null,null,0,111]
[12,4663,13,4667,24,4684,null,null,null,null,0,112]
[21,4792,22,4799,13,4809,null,null,null,null,0,221]
[12,4912,13,4916,13,4920,null,null,null,null,0,111]
[21,5031,11,5043,22,5051,null,null,null,null,0,212]
[12,5146,13,5151,24,5184,null,null,null,null,0,112]
[12,5283,13,5287,13,5291,null,null,null,null,0,111]
[21,5399,22,5409,13,5423,null,null,null,null,0,221]
[12,5524,13,5531,24,5555,null,null,null,null,0,112]
[12,5653,13,5657,24,5669,null,null,null,null,0,112]
[12,5771,24,5783,24,5802,null,null,null,null,0,122]
[21,5907,11,5917,22,5924,null,null,null,null,0,212]
[21,6027,22,6036,24,6046,null,null,null,null,0,222]
[12,6147,13,6150,13,6154,null,null,null,null,0,111]
[21,6269,11,6279,22,6287,null,null,null,null,0,212]
[21,6389,22,6407,24,6413,null,null,null,null,0,222]
[12,6516,13,6520,13,6537,null,null,null,null,0,111]
[12,6637,13,6647,24,6655,null,null,null,null,0,112]
[12,6755,13,6767,13,6773,null,null,null,null,0,111]
[12,6870,13,6874,13,6877,null,null,null,null,0,111]
[12,6978,13,6985,24,6992,null,null,null,null,0,112]
[12,7093,13,7098,13,7103,null,null,null,null,0,111]
[12,7201,13,7205,13,7209,null,null,null,null,0,111]
[12,7308,13,7313,13,7319,null,null,null,null,0,111]
[12,7419,24,7427,24,7433,null,null,null,null,0,122]
[12,7535,13,7539,13,7543,null,null,null,null,0,111]
[12,7644,13,7656,13,7660,null,null,null,null,0,111]
[21,7762,22,7767,13,7777,null,null,null,null,0,221]
[12,7887,13,7906,24,7920,null,null,null,null,0,112]
[12,8022,13,8026,13,8030,null,null,null,null,0,111]
[12,8129,13,8132,13,8136,null,null,null,null,0,111]
[12,8239,13,8244,24,8251,null,null,null,null,0,112]
[12,8362,13,8382,13,8389,null,null,null,null,0,111]
[21,8497,11,8507,11,8524,null,null,null,null,0,211]
[21,8638,22,8644,13,8660,null,null,null,null,0,221]
[12,8760,13,8764,13,8769,null,null,null,null,0,111]
[12,8869,13,8873,24,8882,null,null,null,null,0,112]
[12,8980,13,8984,13,8994,null,null,null,null,0,111]
[21,9098,22,9101,24,9105,null,null,null,null,0,222]
[12,9203,13,9207,24,9218,null,null,null,null,0,112]
[21,9323,22,9328,24,9332,null,null,null,null,0,222]
[12,9430,13,9433,13,9438,null,null,null,null,0,111]
[12,9536,13,9540,13,9550,null,null,null,null,0,111]
[12,9648,13,9652,13,9656,null,null,null,null,0,111]
[12,9754,13,9758,13,9762,null,null,null,null,0,111]
[12,9862,13,9867,13,9871,null,null,null,null,0,111]
[12,9972,13,9977,24,9985,null,null,null,null,0,112]
[12,10086,13,10090,13,10095,null,null,null,null,0,111]
[12,10195,13,10198,24,10214,null,null,null,null,0,112]
[12,10312,13,10316,13,10321,null,null,null,null,0,111]
[12,10422,13,10426,13,10431,null,null,null,null,0,111]
[12,10543,13,10560,24,10583,null,null,null,null,0,112]
[12,10683,13,10687,13,10691,null,null,null,null,0,111]
[12,10792,13,10795,24,10807,null,null,null,null,0,112]
[12,10912,13,10916,24,10925,null,null,null,null,0,112]
[21,11022,22,11026,24,11033,null,null,null,null,0,222]
[12,11133,13,11137,13,11157,null,null,null,null,0,111]
[12,11256,13,11260,24,11268,null,null,null,null,0,112]
[21,11367,11,11377,22,11385,null,null,null,null,0,212]
[21,11487,22,11504,24,11512,null,null,null,null,0,222]
[12,11613,24,11622,13,11635,null,null,null,null,0,121]
[12,11734,13,11738,13,11742,null,null,null,null,0,111]
[12,11836,13,11840,24,11850,null,null,null,null,0,112]
[12,11951,13,11958,13,11979,null,null,null,null,0,111]
[12,12078,13,12082,13,12101,null,null,null,null,0,111]
[21,12196,22,12204,24,12219,null,null,null,null,0,222]
[12,12323,13,12333,13,12341,null,null,null,null,0,111]
[12,12442,13,12445,13,12450,null,null,null,null,0,111]
[12,12548,13,12552,13,12557,null,null,null,null,0,111]
[12,12657,13,12660,13,12686,null,null,null,null,0,111]
[12,12793,24,12801,13,12812,null,null,null,null,0,121]
[12,12917,13,12920,24,12931,null,null,null,null,0,112]
[12,13032,13,13036,13,13040,null,null,null,null,0,111]
[12,13141,13,13145,13,13151,null,null,null,null,0,111]
[12,13249,13,13253,13,13257,null,null,null,null,0,111]
[12,13357,13,13363,24,13372,null,null,null,null,0,112]
[21,13479,11,13488,22,13496,null,null,null,null,0,212]
[21,13613,22,13621,24,13645,null,null,null,null,0,222]
[12,13745,13,13748,13,13753,null,null,null,null,0,111]
[12,13864,13,13868,13,13875,null,null,null,null,0,111]
[12,13975,13,13980,24,13987,null,null,null,null,0,112]
[21,14089,22,14093,24,14097,null,null,null,null,0,222]
[12,14196,13,14204,13,14211,null,null,null,null,0,111]
[12,14309,13,14317,13,14323,null,null,null,null,0,111]
[21,14443,11,14455,22,14463,null,null,null,null,0,212]
[21,14555,11,14573,22,14581,null,null,null,null,0,212]
[21,14680,11,14688,11,14703,null,null,null,null,0,211]
[21,14827,22,14837,13,14849,null,null,null,null,0,221]
[12,14952,24,14963,13,14970,null,null,null,null,0,121]
[21,15083,22,15087,13,15097,null,null,null,null,0,221]
[12,15196,13,15200,24,15208,null,null,null,null,0,112]
[12,15307,13,15310,24,15320,null,null,null,null,0,112]
[21,15429,22,15433,24,15444,null,null,null,null,0,222]
[12,15550,13,15560,24,15568,null,null,null,null,0,112]
[12,15669,13,15673,24,15686,null,null,null,null,0,112]
[12,15786,13,15790,24,15799,null,null,null,null,0,112]
[12,15897,13,15901,24,15908,null,null,null,null,0,112]
[21,16007,22,16011,24,16018,null,null,null,null,0,222]
[12,16116,13,16119,13,16123,null,null,null,null,0,111]
[12,16218,24,16226,24,16230,null,null,null,null,0,122]
[12,16330,13,16333,24,16346,null,null,null,null,0,112]
[12,16447,13,16450,24,16458,null,null,null,null,0,112]
[21,16576,22,16583,13,16601,null,null,null,null,0,221]
[12,16702,24,16713,13,16727,null,null,null,null,0,121]
[12,16824,13,16828,24,16838,null,null,null,null,0,112]
[12,16936,13,16940,24,16954,null,null,null,null,0,112]
[12,17054,13,17058,24,17071,null,null,null,null,0,112]
[12,17170,24,17184,24,17195,null,null,null,null,0,122]
[21,17303,22,17307,24,17311,null,null,null,null,0,222]
[12,17412,13,17417,13,17421,null,null,null,null,0,111]
[12,17522,13,17525,13,17533,null,null,null,null,0,111]
[12,17634,13,17637,24,17645,null,null,null,null,0,112]
[12,17745,13,17749,13,17753,null,null,null,null,0,111]
[12,17852,24,17860,24,17867,null,null,null,null,0,122]
[12,17976,24,17997,24,18004,null,null,null,null,0,122]
[12,18102,13,18106,13,18112,null,null,null,null,0,111]
[12,18225,24,18235,13,18248,null,null,null,null,0,121]
[12,18350,13,18355,24,18362,null,null,null,null,0,112]
[12,18460,13,18463,24,18472,null,null,null,null,0,112]
[12,18572,13,18576,24,18587,null,null,null,null,0,112]
[12,18687,13,18691,13,18701,null,null,null,null,0,111]
[12,18803,13,18811,13,18817,null,null,null,null,0,111]
[12,18918,13,18921,24,18932,null,null,null,null,0,112]
[12,19031,13,19035,24,19045,null,null,null,null,0,112]
[12,19143,13,19147,13,19152,null,null,null,null,0,111]
[12,19250,24,19262,13,19280,null,null,null,null,0,121]
[21,19394,11,19403,22,19413,null,null,null,null,0,212]
[21,19524,11,19533,22,19544,null,null,null,null,0,212]
[21,19648,11,19657,22,19667,null,null,null,null,0,212]
[21,19769,22,19774,13,19783,null,null,null,null,0,221]
[12,19883,13,19886,24,19897,null,null,null,null,0,112]
[12,19997,13,20001,24,20012,null,null,null,null,0,112]
[12,20110,13,20114,13,20118,null,null,null,null,0,111]
[12,20218,13,20222,13,20227,null,null,null,null,0,111]
[12,20326,13,20340,13,20348,null,null,null,null,0,111]
[12,20450,13,20461,13,20481,null,null,null,null,0,111]
[12,20584,13,20589,13,20594,null,null,null,null,0,111]
[21,20709,11,20725,22,20735,null,null,null,null,0,212]
[21,20843,11,20854,22,20864,null,null,null,null,0,212]
[12,20973,24,20983,13,20995,null,null,null,null,0,121]
[12,21096,13,21100,13,21105,null,null,null,null,0,111]
[12,21212,13,21215,24,21223,null,null,null,null,0,112]
[12,21337,13,21354,13,21375,null,null,null,null,0,111]
[12,21475,13,21484,24,21494,null,null,null,null,0,112]
[12,21615,24,21633,13,21647,null,null,null,null,0,121]
[12,21746,13,21749,13,21768,null,null,null,null,0,111]
[12,21869,13,21873,13,21890,null,null,null,null,0,111]
[12,21996,24,22004,13,22018,null,null,null,null,0,121]
[12,22120,24,22135,13,22147,null,null,null,null,0,121]
[12,22251,24,22258,24,22265,null,null,null,null,0,122]
[12,22367,13,22371,24,22379,null,null,null,null,0,112]
[12,22489,24,22496,24,22506,null,null,null,null,0,122]
[12,22626,24,22638,24,22645,null,null,null,null,0,122]
[21,22751,22,22755,24,22760,null,null,null,null,0,222]
[12,22873,24,22886,24,22895,null,null,null,null,0,122]
[21,23015,11,23035,22,23044,null,null,null,null,0,212]
[21,23137,11,23154,22,23163,null,null,null,null,0,212]
[21,23264,22,23271,13,23282,null,null,null,null,0,221]
[12,23386,13,23389,24,23402,null,null,null,null,0,112]
[21,23516,22,23523,13,23533,null,null,null,null,0,221]
[12,23633,13,23636,13,23642,null,null,null,null,0,111]
[21,23756,22,23761,13,23771,null,null,null,null,0,221]
[12,23869,13,23873,24,23888,null,null,null,null,0,112]
[12,23993,24,24000,null,null,null,null,null,null,null,12]

{"sheet":"!MC16A00.096","index":13,"n_rows":156,"n_cols":48,"rows_kept":156,"cut":false,"hidden":false,"merged":[[4,39,4,42],[5,39,5,40],[4,44,4,47],[5,44,5,45],[4,24,4,27],[5,24,5,25],[4,29,4,32],[5,29,5,30],[4,34,4,37],[5,34,5,35],[1,1,1,2],[5,13,5,14],[18,13,18,14],[19,13,19,14],[4,19,4,22],[5,19,5,20]]}
["Report for:!MC16A00.096"]
["Date:","<date>"]
["Hen:","<hen>",null,null,null,"Correct Sequence",{"$f":"Start!J2","v":211},null,null,null,null,null,null,null,null,"Total Sequences in Data",{"$f":"4994-COUNTBLANK(L7:L5000)","v":150},null,null,null,null,"Total Sequences in Block Data",{"$f":"COUNTA(L7:L31)","v":25},null,null,null,"Total Sequences in Block Data",{"$f":"COUNTA(L32:L56)","v":25},null,null,null,"Total Sequences in Block Data",{"$f":"COUNTA(L57:L81)","v":25},null,null,null,"Total Sequences in Block Data",{"$f":"COUNTA(L82:L106)","v":25},null,null,null,"Total Sequences in Block Data",{"$f":"COUNTA(L107:L131)","v":25},null,null,null,"Total Sequences in Block Data",{"$f":"COUNTA(L132:L156)","v":25}]
[null,null,null,null,null,null,null,null,null,null,null,null,null,null,null,"Total Sequences in Summary",{"$f":"SUM(O7:O14)","v":150},null,null,null,null,"Total Sequences in Block Summary",{"$f":"SUM(U7:U14)","v":25},null,null,null,"Total Sequences in Block Summary",{"$f":"SUM(Z7:Z14)","v":25},null,null,null,"Total Sequences in Block Summary",{"$f":"SUM(AE7:AE14)","v":25},null,null,null,"Total Sequences in Block Summary",{"$f":"SUM(AJ7:AJ14)","v":25},null,null,null,"Total Sequences in Block Summary",{"$f":"SUM(AO7:AO14)","v":25},null,null,null,"Total Sequences in Block Summary",{"$f":"SUM(AT7:AT14)","v":25}]
[null,null,null,null,null,null,null,null,null,null,null,null,null,null,null,null,null,null,null,"Block 1",null,null,null,null,"Block 2",null,null,null,null,"Block 3",null,null,null,null,"Block 4",null,null,null,null,"Block 5",null,null,null,null,"Block 6"]
["Sequence\nComponent\n1","Time\n1","Sequence\nComponent\n2","Time\n2","Sequence\nComponent\n3","Time\n3","Sequence\nComponent\n4","Time\n4","Sequence\nComponent\n5","Time\n5","Correct?\n0=No 1=Yes","Sequence",null,"Frequency",null,"Relative Frequency","Variability",null,null,"Frequency",null,"Relative Frequency","Variability",null,"Frequency",null,"Relative Frequency","Variability",null,"Frequency",null,"Relative Frequency","Variability",null,"Frequency",null,"Relative Frequency","Variability",null,"Frequency",null,"Relative Frequency","Variability",null,"Frequency",null,"Relative Frequency","Variability"]
[21,14,22,20,13,31,null,null,null,null,0,221,null,111,{"$f":"COUNTIF($L$7:$L$500,N7)","v":63},{"$f":"O7/$Q$4","v":0.42},{"$f":"IF(P7=0,0,(P7*((LOG(P7))/LOG(2))))","v":-0.52564628213830511},null,null,{"$f":"N7","v":111},{"$f":"COUNTIF(L7:L31,T7)","v":3},{"$f":"U7/(W4-U11)","v":0.125},{"$f":"IF(V7=0,0,(V7*((LOG(V7))/LOG(2))))","v":-0.375},null,{"$f":"N7","v":111},{"$f":"COUNTIF(L32:L56,Y7)","v":3},{"$f":"Z7/(AB4-Z11)","v":0.13636363636363635},{"$f":"IF(AA7=0,0,(AA7*((LOG(AA7))/LOG(2))))","v":-0.39197306153401923},null,{"$f":"N7","v":111},{"$f":"COUNTIF(L57:L81,AD7)","v":9},{"$f":"AE7/(AG4-AE11)","v":0.45},{"$f":"IF(AF7=0,0,(AF7*((LOG(AF7))/LOG(2))))","v":-0.51840139205027258},null,{"$f":"N7","v":111},{"$f":"COUNTIF(L82:L106,AI7)","v":21},{"$f":"AJ7/(AL4-AJ11)","v":0.875},{"$f":"IF(AK7=0,0,(AK7*((LOG(AK7))/LOG(2))))","v":-0.1685644431995964},null,{"$f":"N7","v":111},{"$f":"COUNTIF(L107:L131,AN7)","v":16},{"$f":"AO7/(AQ4-AO11)","v":0.64},{"$f":"IF(AP7=0,0,(AP7*((LOG(AP7))/LOG(2))))","v":-0.41206796145582375},null,{"$f":"N7","v":111},{"$f":"COUNTIF(L132:L156,AS7)","v":11},{"$f":"AT7/(AV4-AT11)","v":0.55000000000000004},{"$f":"IF(AU7=0,0,(AU7*((LOG(AU7))/LOG(2))))","v":-0.47437306193753576}]
[21,132,22,137,13,146,null,null,null,null,0,221,null,112,{"$f":"COUNTIF($L$7:$L$500,N8)","v":29},{"$f":"O8/$Q$4","v":0.19333333333333333},{"$f":"IF(P8=0,0,(P8*((LOG(P8))/LOG(2))))","v":-0.45836195443787298},null,null,{"$f":"N8","v":112},{"$f":"COUNTIF(L7:L31,T8)","v":8},{"$f":"U8/(W4-U11)","v":0.33333333333333331},{"$f":"IF(V8=0,0,(V8*((LOG(V8))/LOG(2))))","v":-0.52832083357371862},null,{"$f":"N8","v":112},{"$f":"COUNTIF(L32:L56,Y8)","v":4},{"$f":"Z8/(AB4-Z11)","v":0.18181818181818182},{"$f":"IF(AA8=0,0,(AA8*((LOG(AA8))/LOG(2))))","v":-0.44716938520678134},null,{"$f":"N8","v":112},{"$f":"COUNTIF(L57:L81,AD8)","v":4},{"$f":"AE8/(AG4-AE11)","v":0.2},{"$f":"IF(AF8=0,0,(AF8*((LOG(AF8))/LOG(2))))","v":-0.46438561897747244},null,{"$f":"N8","v":112},{"$f":"COUNTIF(L82:L106,AI8)","v":3},{"$f":"AJ8/(AL4-AJ11)","v":0.125},{"$f":"IF(AK8=0,0,(AK8*((LOG(AK8))/LOG(2))))","v":-0.375},null,{"$f":"N8","v":112},{"$f":"COUNTIF(L107:L131,AN8)","v":6},{"$f":"AO8/(AQ4-AO11)","v":0.24},{"$f":"IF(AP8=0,0,(AP8*((LOG(AP8))/LOG(2))))","v":-0.49413448537285637},null,{"$f":"N8","v":112},{"$f":"COUNTIF(L132:L156,AS8)","v":4},{"$f":"AT8/(AV4-AT11)","v":0.2},{"$f":"IF(AU8=0,0,(AU8*((LOG(AU8))/LOG(2))))","v":-0.46438561897747244}]
[12,248,13,252,24,260,null,null,null,null,0,112,null,121,{"$f":"COUNTIF($L$7:$L$500,N9)","v":7},{"$f":"O9/$Q$4","v":4.6666666666666669E-2},{"$f":"IF(P9=0,0,(P9*((LOG(P9))/LOG(2))))","v":-0.20633497586045293},null,null,{"$f":"N9","v":121},{"$f":"COUNTIF(L7:L31,T9)","v":0},{"$f":"U9/(W4-U11)","v":0},{"$f":"IF(V9=0,0,(V9*((LOG(V9))/LOG(2))))","v":0},null,{"$f":"N9","v":121},{"$f":"COUNTIF(L32:L56,Y9)","v":3},{"$f":"Z9/(AB4-Z11)","v":0.13636363636363635},{"$f":"IF(AA9=0,0,(AA9*((LOG(AA9))/LOG(2))))","v":-0.39197306153401923},null,{"$f":"N9","v":121},{"$f":"COUNTIF(L57:L81,AD9)","v":2},{"$f":"AE9/(AG4-AE11)","v":0.1},{"$f":"IF(AF9=0,0,(AF9*((LOG(AF9))/LOG(2))))","v":-0.33219280948873625},null,{"$f":"N9","v":121},{"$f":"COUNTIF(L82:L106,AI9)","v":0},{"$f":"AJ9/(AL4-AJ11)","v":0},{"$f":"IF(AK9=0,0,(AK9*((LOG(AK9))/LOG(2))))","v":0},null,{"$f":"N9","v":121},{"$f":"COUNTIF(L107:L131,AN9)","v":1},{"$f":"AO9/(AQ4-AO11)","v":0.04},{"$f":"IF(AP9=0,0,(AP9*((LOG(AP9))/LOG(2))))","v":-0.18575424759098899},null,{"$f":"N9","v":121},{"$f":"COUNTIF(L132:L156,AS9)","v":1},{"$f":"AT9/(AV4-AT11)","v":0.05},{"$f":"IF(AU9=0,0,(AU9*((LOG(AU9))/LOG(2))))","v":-0.21609640474436814}]
[12,361,13,365,24,373,null,null,null,null,0,112,null,122,{"$f":"COUNTIF($L$7:$L$500,N10)","v":7},{"$f":"O10/$Q$4","v":4.6666666666666669E-2},{"$f":"IF(P10=0,0,(P10*((LOG(P10))/LOG(2))))","v":-0.20633497586045293},null,null,{"$f":"N10","v":122},{"$f":"COUNTIF(L7:L31,T10)","v":2},{"$f":"U10/(W4-U11)","v":8.3333333333333329E-2},{"$f":"IF(V10=0,0,(V10*((LOG(V10))/LOG(2))))","v":-0.29874687506009634},null,{"$f":"N10","v":122},{"$f":"COUNTIF(L32:L56,Y10)","v":2},{"$f":"Z10/(AB4-Z11)","v":9.0909090909090912E-2},{"$f":"IF(AA10=0,0,(AA10*((LOG(AA10))/LOG(2))))","v":-0.31449378351248153},null,{"$f":"N10","v":122},{"$f":"COUNTIF(L57:L81,AD10)","v":0},{"$f":"AE10/(AG4-AE11)","v":0},{"$f":"IF(AF10=0,0,(AF10*((LOG(AF10))/LOG(2))))","v":0},null,{"$f":"N10","v":122},{"$f":"COUNTIF(L82:L106,AI10)","v":0},{"$f":"AJ10/(AL4-AJ11)","v":0},{"$f":"IF(AK10=0,0,(AK10*((LOG(AK10))/LOG(2))))","v":0},null,{"$f":"N10","v":122},{"$f":"COUNTIF(L107:L131,AN10)","v":1},{"$f":"AO10/(AQ4-AO11)","v":0.04},{"$f":"IF(AP10=0,0,(AP10*((LOG(AP10))/LOG(2))))","v":-0.18575424759098899},null,{"$f":"N10","v":122},{"$f":"COUNTIF(L132:L156,AS10)","v":2},{"$f":"AT10/(AV4-AT11)","v":0.1},{"$f":"IF(AU10=0,0,(AU10*((LOG(AU10))/LOG(2))))","v":-0.33219280948873625}]
[12,472,13,475,13,483,null,null,null,null,0,111,null,211,{"$f":"COUNTIF($L$7:$L$500,N11)","v":15},{"$f":"O11/$Q$4","v":0.1},{"$f":"IF(P11=0,0,(P11*((LOG(P11))/LOG(2))))","v":-0.33219280948873625},null,null,{"$f":"N11","v":211},{"$f":"COUNTIF(L7:L31,T11)","v":1},null,null,null,{"$f":"N11","v":211},{"$f":"COUNTIF(L32:L56,Y11)","v":3},null,null,null,{"$f":"N11","v":211},{"$f":"COUNTIF(L57:L81,AD11)","v":5},null,null,null,{"$f":"N11","v":211},{"$f":"COUNTIF(L82:L106,AI11)","v":1},null,null,null,{"$f":"N11","v":211},{"$f":"COUNTIF(L107:L131,AN11)","v":0},null,null,null,{"$f":"N11","v":211},{"$f":"COUNTIF(L132:L156,AS11)","v":5}]
[12,582,13,587,24,594,null,null,null,null,0,112,null,212,{"$f":"COUNTIF($L$7:$L$500,N12)","v":12},{"$f":"O12/$Q$4","v":0.08},{"$f":"IF(P12=0,0,(P12*((LOG(P12))/LOG(2))))","v":-0.29150849518197797},null,null,{"$f":"N12","v":212},{"$f":"COUNTIF(L7:L31,T12)","v":5},{"$f":"U12/(W4-U11)","v":0.20833333333333334},{"$f":"IF(V12=0,0,(V12*((LOG(V12))/LOG(2))))","v":-0.47146550121537367},null,{"$f":"N12","v":212},{"$f":"COUNTIF(L32:L56,Y12)","v":3},{"$f":"Z12/(AB4-Z11)","v":0.13636363636363635},{"$f":"IF(AA12=0,0,(AA12*((LOG(AA12))/LOG(2))))","v":-0.39197306153401923},null,{"$f":"N12","v":212},{"$f":"COUNTIF(L57:L81,AD12)","v":3},{"$f":"AE12/(AG4-AE11)","v":0.15},{"$f":"IF(AF12=0,0,(AF12*((LOG(AF12))/LOG(2))))","v":-0.41054483912493089},null,{"$f":"N12","v":212},{"$f":"COUNTIF(L82:L106,AI12)","v":0},{"$f":"AJ12/(AL4-AJ11)","v":0},{"$f":"IF(AK12=0,0,(AK12*((LOG(AK12))/LOG(2))))","v":0},null,{"$f":"N12","v":212},{"$f":"COUNTIF(L107:L131,AN12)","v":0},{"$f":"AO12/(AQ4-AO11)","v":0},{"$f":"IF(AP12=0,0,(AP12*((LOG(AP12))/LOG(2))))","v":0},null,{"$f":"N12","v":212},{"$f":"COUNTIF(L132:L156,AS12)","v":1},{"$f":"AT12/(AV4-AT11)","v":0.05},{"$f":"IF(AU12=0,0,(AU12*((LOG(AU12))/LOG(2))))","v":-0.21609640474436814}]
[12,693,13,697,24,704,null,null,null,null,0,112,null,221,{"$f":"COUNTIF($L$7:$L$500,N13)","v":13},{"$f":"O13/$Q$4","v":8.666666666666667E-2},{"$f":"IF(P13=0,0,(P13*((LOG(P13))/LOG(2))))","v":-0.30579284427074832},null,null,{"$f":"N13","v":221},{"$f":"COUNTIF(L7:L31,T13)","v":4},{"$f":"U13/(W4-U11)","v":0.16666666666666666},{"$f":"IF(V13=0,0,(V13*((LOG(V13))/LOG(2))))","v":-0.43082708345352599},null,{"$f":"N13","v":221},{"$f":"COUNTIF(L32:L56,Y13)","v":6},{"$f":"Z13/(AB4-Z11)","v":0.27272727272727271},{"$f":"IF(AA13=0,0,(AA13*((LOG(AA13))/LOG(2))))","v":-0.51121885034076575},null,{"$f":"N13","v":221},{"$f":"COUNTIF(L57:L81,AD13)","v":2},{"$f":"AE13/(AG4-AE11)","v":0.1},{"$f":"IF(AF13=0,0,(AF13*((LOG(AF13))/LOG(2))))","v":-0.33219280948873625},null,{"$f":"N13","v":221},{"$f":"COUNTIF(L82:L106,AI13)","v":0},{"$f":"AJ13/(AL4-AJ11)","v":0},{"$f":"IF(AK13=0,0,(AK13*((LOG(AK13))/LOG(2))))","v":0},null,{"$f":"N13","v":221},{"$f":"COUNTIF(L107:L131,AN13)","v":0},{"$f":"AO13/(AQ4-AO11)","v":0},{"$f":"IF(AP13=0,0,(AP13*((LOG(AP13))/LOG(2))))","v":0},null,{"$f":"N13","v":221},{"$f":"COUNTIF(L132:L156,AS13)","v":1},{"$f":"AT13/(AV4-AT11)","v":0.05},{"$f":"IF(AU13=0,0,(AU13*((LOG(AU13))/LOG(2))))","v":-0.21609640474436814}]
[21,819,11,829,11,847,null,null,null,null,0,211,null,222,{"$f":"COUNTIF($L$7:$L$500,N14)","v":4},{"$f":"O14/$Q$4","v":2.6666666666666668E-2},{"$f":"IF(P14=0,0,(P14*((LOG(P14))/LOG(2))))","v":-0.13943516507989015},null,null,{"$f":"N14","v":222},{"$f":"COUNTIF(L7:L31,T14)","v":2},{"$f":"U14/(W4-U11)","v":8.3333333333333329E-2},{"$f":"IF(V14=0,0,(V14*((LOG(V14))/LOG(2))))","v":-0.29874687506009634},null,{"$f":"N14","v":222},{"$f":"COUNTIF(L32:L56,Y14)","v":1},{"$f":"Z14/(AB4-Z11)","v":4.5454545454545456E-2},{"$f":"IF(AA14=0,0,(AA14*((LOG(AA14))/LOG(2))))","v":-0.20270143721078623},null,{"$f":"N14","v":222},{"$f":"COUNTIF(L57:L81,AD14)","v":0},{"$f":"AE14/(AG4-AE11)","v":0},{"$f":"IF(AF14=0,0,(AF14*((LOG(AF14))/LOG(2))))","v":0},null,{"$f":"N14","v":222},{"$f":"COUNTIF(L82:L106,AI14)","v":0},{"$f":"AJ14/(AL4-AJ11)","v":0},{"$f":"IF(AK14=0,0,(AK14*((LOG(AK14))/LOG(2))))","v":0},null,{"$f":"N14","v":222},{"$f":"COUNTIF(L107:L131,AN14)","v":1},{"$f":"AO14/(AQ4-AO11)","v":0.04},{"$f":"IF(AP14=0,0,(AP14*((LOG(AP14))/LOG(2))))","v":-0.18575424759098899},null,{"$f":"N14","v":222},{"$f":"COUNTIF(L132:L156,AS14)","v":0},{"$f":"AT14/(AV4-AT11)","v":0},{"$f":"IF(AU14=0,0,(AU14*((LOG(AU14))/LOG(2))))","v":0}]
[12,956,13,974,24,1003,null,null,null,null,0,112,null,null,null,{"$f":"SUM(P7:P14)","v":0.99999999999999978},{"$f":"-SUM(Q7:Q14)","v":2.4656075023184365},null,null,null,null,{"$f":"SUM(V7:V14)","v":1},{"$f":"-SUM(W7:W14)","v":2.4031071683628111},null,null,null,{"$f":"SUM(AA7:AA14)","v":0.99999999999999989},{"$f":"-SUM(AB7:AB14)","v":2.6515026408728724},null,null,null,{"$f":"SUM(AF7:AF14)","v":1},{"$f":"-SUM(AG7:AG14)","v":2.0577174691301483},null,null,null,{"$f":"SUM(AK7:AK14)","v":1},{"$f":"-SUM(AL7:AL14)","v":0.5435644431995964},null,null,null,{"$f":"SUM(AP7:AP14)","v":1},{"$f":"-SUM(AQ7:AQ14)","v":1.4634651896016471},null,null,null,{"$f":"SUM(AU7:AU14)","v":1},{"$f":"-SUM(AV7:AV14)","v":1.9192407046368487}]
[12,1102,13,1117,24,1125,null,null,null,null,0,112,null,null,null,"U=",{"$f":"Q15/(LOG(Q4)/LOG(2))","v":0.34108027990245543},null,null,null,null,"U1=",{"$f":"W15/(LOG(W4)/LOG(2))","v":0.51748096197599658},null,null,null,"U2=",{"$f":"AB15/(LOG(AB4)/LOG(2))","v":0.57097001554682025},null,null,null,"U3=",{"$f":"AG15/(LOG(AG4)/LOG(2))","v":0.4431053385462328},null,null,null,"U4=",{"$f":"AL15/(LOG(AL4)/LOG(2))","v":0.11705023174414125},null,null,null,"U5=",{"$f":"AQ15/(LOG(AQ4)/LOG(2))","v":0.3151400753589314},null,null,null,"U6=",{"$f":"AV15/(LOG(AV4)/LOG(2))","v":0.41328599039367575}]
[21,1224,11,1239,22,1249,null,null,null,null,0,212]
[21,1350,22,1363,24,1375,null,null,null,null,0,222]
[12,1474,13,1482,13,1486,null,null,null,null,0,111,null,"Total Target Seq"]
[12,1585,24,1599,24,1606,null,null,null,null,0,122,null,{"$f":"COUNTIF(L7:L156,G3)","v":15},null,25,25,25,25,25,25]
[12,1713,13,1717,24,1724,null,null,null,null,0,112,null,null,null,"% of reinforcement given in 6 equal intervals based on number of trials "]
[12,1831,24,1840,24,1856,null,null,null,null,0,122,null,null,null,"%_1","%_2","%_3","%_4","%_5","%_6"]
[21,1962,22,1991,13,2005,null,null,null,null,0,221,null,null,"target sequence",{"$f":"$G$3","v":211},{"$f":"$G$3","v":211},{"$f":"$G$3","v":211},{"$f":"$G$3","v":211},{"$f":"$G$3","v":211},{"$f":"$G$3","v":211}]
[12,2106,13,2115,13,2119,null,null,null,null,0,111,null,null,"total reinforcement",{"$f":"U11","v":1},{"$f":"Z11","v":3},{"$f":"AE11","v":5},{"$f":"AJ11","v":1},{"$f":"AO11","v":0},{"$f":"AT11","v":5}]
[21,2227,22,2232,24,2242,null,null,null,null,0,222,null,null,"% target"]
[12,2340,13,2349,24,2356,null,null,null,null,0,112,null,null,"CCRF"]
[21,2460,11,2476,22,2485,null,null,null,null,0,212,null,null,"% CCRf"]
[21,2585,22,2589,13,2606,null,null,null,null,0,221,null,null,"average response rate",{"$f":"F31/P20","v":118.64},{"$f":"(F56-F31)/Q20","v":122.8},{"$f":"(F81-F56)/R20","v":126},{"$f":"(F106-F81)/S20","v":117.32},{"$f":"(F131-F106)/T20","v":120.36},{"$f":"(F156-F131)/U20","v":129.24}]
[21,2708,11,2718,22,2726,null,null,null,null,0,212]
[21,2829,11,2838,22,2847,null,null,null,null,0,212]
[21,2947,11,2956,22,2966,null,null,null,null,0,212]
[21,3067,11,3075,22,3085,null,null,null,null,0,212]
[21,3179,11,3186,11,3202,null,null,null,null,0,211]
[21,3304,11,3314,11,3332,null,null,null,null,0,211]
[21,3427,22,3432,13,3442,null,null,null,null,0,221]
[12,3546,13,3558,24,3568,null,null,null,null,0,112]
[21,3668,22,3672,13,3690,null,null,null,null,0,221]
[12,3800,24,3808,13,3827,null,null,null,null,0,121]
[12,3927,13,3935,24,3946,null,null,null,null,0,112]
[21,4057,22,4065,24,4072,null,null,null,null,0,222]
[21,4169,22,4180,13,4194,null,null,null,null,0,221]
[21,4292,22,4315,13,4327,null,null,null,null,0,221]
[12,4426,24,4438,24,4448,null,null,null,null,0,122]
[12,4546,24,4558,13,4573,null,null,null,null,0,121]
[12,4677,13,4682,24,4692,null,null,null,null,0,112]
[12,4796,24,4808,13,4818,null,null,null,null,0,121]
[12,4917,13,4922,13,4927,null,null,null,null,0,111]
[12,5030,13,5047,24,5054,null,null,null,null,0,112]
[12,5160,13,5167,13,5187,null,null,null,null,0,111]
[21,5298,11,5306,22,5316,null,null,null,null,0,212]
[21,5416,11,5426,22,5435,null,null,null,null,0,212]
[12,5541,24,5548,24,5556,null,null,null,null,0,122]
[21,5657,11,5668,11,5690,null,null,null,null,0,211]
[21,5784,22,5788,13,5805,null,null,null,null,0,221]
[21,5905,22,5909,13,5917,null,null,null,null,0,221]
[12,6015,13,6020,13,6036,null,null,null,null,0,111]
[21,6145,11,6158,11,6172,null,null,null,null,0,211]
[21,6269,11,6304,22,6333,null,null,null,null,0,212]
[21,6430,22,6434,13,6442,null,null,null,null,0,221]
[12,6540,24,6550,13,6558,null,null,null,null,0,121]
[21,6670,11,6677,22,6684,null,null,null,null,0,212]
[21,6781,11,6789,22,6796,null,null,null,null,0,212]
[12,6899,13,6910,24,6920,null,null,null,null,0,112]
[12,7022,13,7026,13,7043,null,null,null,null,0,111]
[21,7141,11,7160,11,7176,null,null,null,null,0,211]
[12,7312,13,7326,24,7341,null,null,null,null,0,112]
[12,7443,13,7447,13,7451,null,null,null,null,0,111]
[12,7555,24,7563,13,7570,null,null,null,null,0,121]
[12,7672,13,7679,13,7697,null,null,null,null,0,111]
[12,7797,13,7801,24,7811,null,null,null,null,0,112]
[12,7909,13,7921,13,7929,null,null,null,null,0,111]
[12,8032,13,8037,13,8050,null,null,null,null,0,111]
[12,8150,13,8158,24,8168,null,null,null,null,0,112]
[12,8268,13,8276,13,8296,null,null,null,null,0,111]
[21,8396,22,8402,13,8416,null,null,null,null,0,221]
[12,8521,13,8532,13,8546,null,null,null,null,0,111]
[12,8645,13,8656,13,8662,null,null,null,null,0,111]
[12,8761,13,8778,13,8789,null,null,null,null,0,111]
[21,8886,11,8906,11,8920,null,null,null,null,0,211]
[21,9018,11,9034,11,9055,null,null,null,null,0,211]
[21,9166,11,9173,11,9186,null,null,null,null,0,211]
[21,9303,11,9310,11,9321,null,null,null,null,0,211]
[12,9428,13,9440,13,9451,null,null,null,null,0,111]
[12,9549,13,9553,13,9564,null,null,null,null,0,111]
[12,9665,13,9670,13,9681,null,null,null,null,0,111]
[12,9780,13,9789,24,9801,null,null,null,null,0,112]
[12,9898,13,9902,13,9914,null,null,null,null,0,111]
[12,10011,13,10024,13,10037,null,null,null,null,0,111]
[12,10138,13,10142,24,10155,null,null,null,null,0,112]
[12,10259,13,10268,24,10283,null,null,null,null,0,112]
[12,10386,13,10389,13,10400,null,null,null,null,0,111]
[12,10504,13,10518,13,10531,null,null,null,null,0,111]
[12,10628,13,10632,13,10642,null,null,null,null,0,111]
[12,10749,13,10757,13,10768,null,null,null,null,0,111]
[12,10866,13,10874,13,10881,null,null,null,null,0,111]
[12,10979,13,10982,13,10987,null,null,null,null,0,111]
[12,11085,13,11089,13,11093,null,null,null,null,0,111]
[12,11193,13,11197,13,11205,null,null,null,null,0,111]
[12,11302,13,11305,13,11309,null,null,null,null,0,111]
[12,11407,13,11411,13,11415,null,null,null,null,0,111]
[12,11513,13,11517,13,11523,null,null,null,null,0,111]
[12,11621,13,11632,13,11662,null,null,null,null,0,111]
[12,11764,13,11769,13,11781,null,null,null,null,0,111]
[12,11882,13,11890,13,11901,null,null,null,null,0,111]
[12,11999,13,12007,13,12013,null,null,null,null,0,111]
[12,12110,13,12114,13,12119,null,null,null,null,0,111]
[12,12216,13,12220,13,12229,null,null,null,null,0,111]
[12,12327,13,12335,13,12340,null,null,null,null,0,111]
[12,12437,13,12442,13,12454,null,null,null,null,0,111]
[12,12551,13,12555,13,12561,null,null,null,null,0,111]
[12,12669,24,12679,13,12691,null,null,null,null,0,121]
[12,12789,13,12794,13,12804,null,null,null,null,0,111]
[12,12904,13,12908,13,12920,null,null,null,null,0,111]
[12,13017,13,13020,24,13051,null,null,null,null,0,112]
[12,13157,13,13168,13,13180,null,null,null,null,0,111]
[12,13277,13,13281,13,13296,null,null,null,null,0,111]
[12,13397,13,13401,13,13413,null,null,null,null,0,111]
[12,13531,13,13544,13,13558,null,null,null,null,0,111]
[12,13656,13,13663,13,13679,null,null,null,null,0,111]
[12,13777,13,13780,13,13792,null,null,null,null,0,111]
[12,13889,13,13899,24,13910,null,null,null,null,0,112]
[12,14007,13,14010,13,14016,null,null,null,null,0,111]
[12,14112,13,14116,13,14127,null,null,null,null,0,111]
[12,14240,24,14256,24,14264,null,null,null,null,0,122]
[12,14364,13,14382,24,14393,null,null,null,null,0,112]
[12,14490,13,14505,24,14516,null,null,null,null,0,112]
[12,14630,13,14636,24,14647,null,null,null,null,0,112]
[12,14744,13,14754,13,14764,null,null,null,null,0,111]
[12,14866,13,14870,13,14876,null,null,null,null,0,111]
[21,14981,22,14998,24,15013,null,null,null,null,0,222]
[12,15111,13,15114,24,15128,null,null,null,null,0,112]
[12,15222,13,15238,13,15263,null,null,null,null,0,111]
[12,15360,13,15371,24,15380,null,null,null,null,0,112]
[12,15478,13,15482,13,15492,null,null,null,null,0,111]
[12,15592,13,15596,13,15607,null,null,null,null,0,111]
[12,15710,24,15724,24,15735,null,null,null,null,0,122]
[12,15834,13,15838,13,15852,null,null,null,null,0,111]
[21,15951,22,15965,13,15974,null,null,null,null,0,221]
[21,16076,11,16083,11,16095,null,null,null,null,0,211]
[21,16197,11,16207,22,16217,null,null,null,null,0,212]
[12,16317,24,16327,24,16337,null,null,null,null,0,122]
[12,16442,13,16466,13,16485,null,null,null,null,0,111]
[12,16588,13,16592,13,16598,null,null,null,null,0,111]
[21,16724,11,16732,11,16753,null,null,null,null,0,211]
[12,16847,13,16862,13,16873,null,null,null,null,0,111]
[12,16970,13,16980,13,16992,null,null,null,null,0,111]
[12,17089,13,17093,24,17114,null,null,null,null,0,112]
[12,17223,13,17232,13,17241,null,null,null,null,0,111]
[12,17339,13,17343,13,17347,null,null,null,null,0,111]
[12,17444,13,17455,24,17466,null,null,null,null,0,112]
[21,17570,11,17578,11,17589,null,null,null,null,0,211]
[12,17815,13,17830,13,17845,null,null,null,null,0,111]
[12,17944,13,17970,24,17981,null,null,null,null,0,112]
[12,18083,24,18101,13,18108,null,null,null,null,0,121]
[21,18211,11,18219,11,18233,null,null,null,null,0,211]
[21,18332,11,18346,11,18359,null,null,null,null,1,211]

{"sheet":"!MC19A50.096","index":14,"n_rows":126,"n_cols":48,"rows_kept":126,"cut":false,"hidden":false,"merged":[[4,39,4,42],[5,39,5,40],[4,44,4,47],[5,44,5,45],[4,24,4,27],[5,24,5,25],[4,29,4,32],[5,29,5,30],[4,34,4,37],[5,34,5,35],[1,1,1,2],[5,13,5,14],[18,13,18,14],[19,13,19,14],[4,19,4,22],[5,19,5,20]]}
["Report for:!MC19A50.096"]
["Date:","<date>"]
["Hen:","<hen>",null,null,null,"Correct Sequence",{"$f":"Start!J2","v":211},null,null,null,null,null,null,null,null,"Total Sequences in Data",{"$f":"4994-COUNTBLANK(L7:L5000)","v":120},null,null,null,null,"Total Sequences in Block Data",{"$f":"COUNTA(L7:L26)","v":20},null,null,null,"Total Sequences in Block Data",{"$f":"COUNTA(L27:L46)","v":20},null,null,null,"Total Sequences in Block Data",{"$f":"COUNTA(L47:L66)","v":20},null,null,null,"Total Sequences in Block Data",{"$f":"COUNTA(L67:L86)","v":20},null,null,null,"Total Sequences in Block Data",{"$f":"COUNTA(L87:L106)","v":20},null,null,null,"Total Sequences in Block Data",{"$f":"COUNTA(L107:L126)","v":20}]
[null,null,null,null,null,null,null,null,null,null,null,null,null,null,null,"Total Sequences in Summary",{"$f":"SUM(O7:O14)","v":120},null,null,null,null,"Total Sequences in Block Summary",{"$f":"SUM(U7:U14)","v":20},null,null,null,"Total Sequences in Block Summary",{"$f":"SUM(Z7:Z14)","v":20},null,null,null,"Total Sequences in Block Summary",{"$f":"SUM(AE7:AE14)","v":20},null,null,null,"Total Sequences in Block Summary",{"$f":"SUM(AJ7:AJ14)","v":20},null,null,null,"Total Sequences in Block Summary",{"$f":"SUM(AO7:AO14)","v":20},null,null,null,"Total Sequences in Block Summary",{"$f":"SUM(AT7:AT14)","v":20}]
[null,null,null,null,null,null,null,null,null,null,null,null,null,null,null,null,null,null,null,"Block 1",null,null,null,null,"Block 2",null,null,null,null,"Block 3",null,null,null,null,"Block 4",null,null,null,null,"Block 5",null,null,null,null,"Block 6"]
["Sequence\nComponent\n1","Time\n1","Sequence\nComponent\n2","Time\n2","Sequence\nComponent\n3","Time\n3","Sequence\nComponent\n4","Time\n4","Sequence\nComponent\n5","Time\n5","Correct?\n0=No 1=Yes","Sequence",null,"Frequency",null,"Relative Frequency","Variability",null,null,"Frequency",null,"Relative Frequency","Variability",null,"Frequency",null,"Relative Frequency","Variability",null,"Frequency",null,"Relative Frequency","Variability",null,"Frequency",null,"Relative Frequency","Variability",null,"Frequency",null,"Relative Frequency","Variability",null,"Frequency",null,"Relative Frequency","Variability"]
[21,26,11,34,22,45,null,null,null,null,0,212,null,111,{"$f":"COUNTIF($L$7:$L$500,N7)","v":84},{"$f":"O7/$Q$4","v":0.7},{"$f":"IF(P7=0,0,(P7*((LOG(P7))/LOG(2))))","v":-0.36020122098083079},null,null,{"$f":"N7","v":111},{"$f":"COUNTIF(L7:L26,T7)","v":13},{"$f":"U7/(W4-U11)","v":0.68421052631578949},{"$f":"IF(V7=0,0,(V7*((LOG(V7))/LOG(2))))","v":-0.37459691257539013},null,{"$f":"N7","v":111},{"$f":"COUNTIF(L27:L46,Y7)","v":12},{"$f":"Z7/(AB4-Z11)","v":0.8571428571428571},{"$f":"IF(AA7=0,0,(AA7*((LOG(AA7))/LOG(2))))","v":-0.19062207543124113},null,{"$f":"N7","v":111},{"$f":"COUNTIF(L47:L66,AD7)","v":14},{"$f":"AE7/(AG4-AE11)","v":0.875},{"$f":"IF(AF7=0,0,(AF7*((LOG(AF7))/LOG(2))))","v":-0.1685644431995964},null,{"$f":"N7","v":111},{"$f":"COUNTIF(L67:L86,AI7)","v":18},{"$f":"AJ7/(AL4-AJ11)","v":0.9},{"$f":"IF(AK7=0,0,(AK7*((LOG(AK7))/LOG(2))))","v":-0.13680278410054494},null,{"$f":"N7","v":111},{"$f":"COUNTIF(L87:L106,AN7)","v":18},{"$f":"AO7/(AQ4-AO11)","v":0.9},{"$f":"IF(AP7=0,0,(AP7*((LOG(AP7))/LOG(2))))","v":-0.13680278410054494},null,{"$f":"N7","v":111},{"$f":"COUNTIF(L107:L126,AS7)","v":9},{"$f":"AT7/(AV4-AT11)","v":0.9},{"$f":"IF(AU7=0,0,(AU7*((LOG(AU7))/LOG(2))))","v":-0.13680278410054494}]
[12,149,13,163,13,177,null,null,null,null,0,111,null,112,{"$f":"COUNTIF($L$7:$L$500,N8)","v":7},{"$f":"O8/$Q$4","v":5.8333333333333334E-2},{"$f":"IF(P8=0,0,(P8*((LOG(P8))/LOG(2))))","v":-0.23913958095713667},null,null,{"$f":"N8","v":112},{"$f":"COUNTIF(L7:L26,T8)","v":2},{"$f":"U8/(W4-U11)","v":0.10526315789473684},{"$f":"IF(V8=0,0,(V8*((LOG(V8))/LOG(2))))","v":-0.34188710667827216},null,{"$f":"N8","v":112},{"$f":"COUNTIF(L27:L46,Y8)","v":1},{"$f":"Z8/(AB4-Z11)","v":7.1428571428571425E-2},{"$f":"IF(AA8=0,0,(AA8*((LOG(AA8))/LOG(2))))","v":-0.27195392300411453},null,{"$f":"N8","v":112},{"$f":"COUNTIF(L47:L66,AD8)","v":0},{"$f":"AE8/(AG4-AE11)","v":0},{"$f":"IF(AF8=0,0,(AF8*((LOG(AF8))/LOG(2))))","v":0},null,{"$f":"N8","v":112},{"$f":"COUNTIF(L67:L86,AI8)","v":1},{"$f":"AJ8/(AL4-AJ11)","v":0.05},{"$f":"IF(AK8=0,0,(AK8*((LOG(AK8))/LOG(2))))","v":-0.21609640474436814},null,{"$f":"N8","v":112},{"$f":"COUNTIF(L87:L106,AN8)","v":2},{"$f":"AO8/(AQ4-AO11)","v":0.1},{"$f":"IF(AP8=0,0,(AP8*((LOG(AP8))/LOG(2))))","v":-0.33219280948873625},null,{"$f":"N8","v":112},{"$f":"COUNTIF(L107:L126,AS8)","v":1},{"$f":"AT8/(AV4-AT11)","v":0.1},{"$f":"IF(AU8=0,0,(AU8*((LOG(AU8))/LOG(2))))","v":-0.33219280948873625}]
[12,277,13,287,13,299,null,null,null,null,0,111,null,121,{"$f":"COUNTIF($L$7:$L$500,N9)","v":2},{"$f":"O9/$Q$4","v":1.6666666666666666E-2},{"$f":"IF(P9=0,0,(P9*((LOG(P9))/LOG(2))))","v":-9.8448176593475309E-2},null,null,{"$f":"N9","v":121},{"$f":"COUNTIF(L7:L26,T9)","v":1},{"$f":"U9/(W4-U11)","v":5.2631578947368418E-2},{"$f":"IF(V9=0,0,(V9*((LOG(V9))/LOG(2))))","v":-0.22357513228650452},null,{"$f":"N9","v":121},{"$f":"COUNTIF(L27:L46,Y9)","v":0},{"$f":"Z9/(AB4-Z11)","v":0},{"$f":"IF(AA9=0,0,(AA9*((LOG(AA9))/LOG(2))))","v":0},null,{"$f":"N9","v":121},{"$f":"COUNTIF(L47:L66,AD9)","v":0},{"$f":"AE9/(AG4-AE11)","v":0},{"$f":"IF(AF9=0,0,(AF9*((LOG(AF9))/LOG(2))))","v":0},null,{"$f":"N9","v":121},{"$f":"COUNTIF(L67:L86,AI9)","v":1},{"$f":"AJ9/(AL4-AJ11)","v":0.05},{"$f":"IF(AK9=0,0,(AK9*((LOG(AK9))/LOG(2))))","v":-0.21609640474436814},null,{"$f":"N9","v":121},{"$f":"COUNTIF(L87:L106,AN9)","v":0},{"$f":"AO9/(AQ4-AO11)","v":0},{"$f":"IF(AP9=0,0,(AP9*((LOG(AP9))/LOG(2))))","v":0},null,{"$f":"N9","v":121},{"$f":"COUNTIF(L107:L126,AS9)","v":0},{"$f":"AT9/(AV4-AT11)","v":0},{"$f":"IF(AU9=0,0,(AU9*((LOG(AU9))/LOG(2))))","v":0}]
[12,401,13,417,24,431,null,null,null,null,0,112,null,122,{"$f":"COUNTIF($L$7:$L$500,N10)","v":1},{"$f":"O10/$Q$4","v":8.3333333333333332E-3},{"$f":"IF(P10=0,0,(P10*((LOG(P10))/LOG(2))))","v":-5.7557421630070979E-2},null,null,{"$f":"N10","v":122},{"$f":"COUNTIF(L7:L26,T10)","v":1},{"$f":"U10/(W4-U11)","v":5.2631578947368418E-2},{"$f":"IF(V10=0,0,(V10*((LOG(V10))/LOG(2))))","v":-0.22357513228650452},null,{"$f":"N10","v":122},{"$f":"COUNTIF(L27:L46,Y10)","v":0},{"$f":"Z10/(AB4-Z11)","v":0},{"$f":"IF(AA10=0,0,(AA10*((LOG(AA10))/LOG(2))))","v":0},null,{"$f":"N10","v":122},{"$f":"COUNTIF(L47:L66,AD10)","v":0},{"$f":"AE10/(AG4-AE11)","v":0},{"$f":"IF(AF10=0,0,(AF10*((LOG(AF10))/LOG(2))))","v":0},null,{"$f":"N10","v":122},{"$f":"COUNTIF(L67:L86,AI10)","v":0},{"$f":"AJ10/(AL4-AJ11)","v":0},{"$f":"IF(AK10=0,0,(AK10*((LOG(AK10))/LOG(2))))","v":0},null,{"$f":"N10","v":122},{"$f":"COUNTIF(L87:L106,AN10)","v":0},{"$f":"AO10/(AQ4-AO11)","v":0},{"$f":"IF(AP10=0,0,(AP10*((LOG(AP10))/LOG(2))))","v":0},null,{"$f":"N10","v":122},{"$f":"COUNTIF(L107:L126,AS10)","v":0},{"$f":"AT10/(AV4-AT11)","v":0},{"$f":"IF(AU10=0,0,(AU10*((LOG(AU10))/LOG(2))))","v":0}]
[12,536,13,540,24,562,null,null,null,null,0,112,null,211,{"$f":"COUNTIF($L$7:$L$500,N11)","v":21},{"$f":"O11/$Q$4","v":0.17499999999999999},{"$f":"IF(P11=0,0,(P11*((LOG(P11))/LOG(2))))","v":-0.44005030524520772},null,null,{"$f":"N11","v":211},{"$f":"COUNTIF(L7:L26,T11)","v":1},null,null,null,{"$f":"N11","v":211},{"$f":"COUNTIF(L27:L46,Y11)","v":6},null,null,null,{"$f":"N11","v":211},{"$f":"COUNTIF(L47:L66,AD11)","v":4},null,null,null,{"$f":"N11","v":211},{"$f":"COUNTIF(L67:L86,AI11)","v":0},null,null,null,{"$f":"N11","v":211},{"$f":"COUNTIF(L87:L106,AN11)","v":0},null,null,null,{"$f":"N11","v":211},{"$f":"COUNTIF(L107:L126,AS11)","v":10}]
[12,663,13,668,13,681,null,null,null,null,0,111,null,212,{"$f":"COUNTIF($L$7:$L$500,N12)","v":3},{"$f":"O12/$Q$4","v":2.5000000000000001E-2},{"$f":"IF(P12=0,0,(P12*((LOG(P12))/LOG(2))))","v":-0.13304820237218404},null,null,{"$f":"N12","v":212},{"$f":"COUNTIF(L7:L26,T12)","v":2},{"$f":"U12/(W4-U11)","v":0.10526315789473684},{"$f":"IF(V12=0,0,(V12*((LOG(V12))/LOG(2))))","v":-0.34188710667827216},null,{"$f":"N12","v":212},{"$f":"COUNTIF(L27:L46,Y12)","v":1},{"$f":"Z12/(AB4-Z11)","v":7.1428571428571425E-2},{"$f":"IF(AA12=0,0,(AA12*((LOG(AA12))/LOG(2))))","v":-0.27195392300411453},null,{"$f":"N12","v":212},{"$f":"COUNTIF(L47:L66,AD12)","v":0},{"$f":"AE12/(AG4-AE11)","v":0},{"$f":"IF(AF12=0,0,(AF12*((LOG(AF12))/LOG(2))))","v":0},null,{"$f":"N12","v":212},{"$f":"COUNTIF(L67:L86,AI12)","v":0},{"$f":"AJ12/(AL4-AJ11)","v":0},{"$f":"IF(AK12=0,0,(AK12*((LOG(AK12))/LOG(2))))","v":0},null,{"$f":"N12","v":212},{"$f":"COUNTIF(L87:L106,AN12)","v":0},{"$f":"AO12/(AQ4-AO11)","v":0},{"$f":"IF(AP12=0,0,(AP12*((LOG(AP12))/LOG(2))))","v":0},null,{"$f":"N12","v":212},{"$f":"COUNTIF(L107:L126,AS12)","v":0},{"$f":"AT12/(AV4-AT11)","v":0},{"$f":"IF(AU12=0,0,(AU12*((LOG(AU12))/LOG(2))))","v":0}]
[12,800,24,811,24,834,null,null,null,null,0,122,null,221,{"$f":"COUNTIF($L$7:$L$500,N13)","v":2},{"$f":"O13/$Q$4","v":1.6666666666666666E-2},{"$f":"IF(P13=0,0,(P13*((LOG(P13))/LOG(2))))","v":-9.8448176593475309E-2},null,null,{"$f":"N13","v":221},{"$f":"COUNTIF(L7:L26,T13)","v":0},{"$f":"U13/(W4-U11)","v":0},{"$f":"IF(V13=0,0,(V13*((LOG(V13))/LOG(2))))","v":0},null,{"$f":"N13","v":221},{"$f":"COUNTIF(L27:L46,Y13)","v":0},{"$f":"Z13/(AB4-Z11)","v":0},{"$f":"IF(AA13=0,0,(AA13*((LOG(AA13))/LOG(2))))","v":0},null,{"$f":"N13","v":221},{"$f":"COUNTIF(L47:L66,AD13)","v":2},{"$f":"AE13/(AG4-AE11)","v":0.125},{"$f":"IF(AF13=0,0,(AF13*((LOG(AF13))/LOG(2))))","v":-0.375},null,{"$f":"N13","v":221},{"$f":"COUNTIF(L67:L86,AI13)","v":0},{"$f":"AJ13/(AL4-AJ11)","v":0},{"$f":"IF(AK13=0,0,(AK13*((LOG(AK13))/LOG(2))))","v":0},null,{"$f":"N13","v":221},{"$f":"COUNTIF(L87:L106,AN13)","v":0},{"$f":"AO13/(AQ4-AO11)","v":0},{"$f":"IF(AP13=0,0,(AP13*((LOG(AP13))/LOG(2))))","v":0},null,{"$f":"N13","v":221},{"$f":"COUNTIF(L107:L126,AS13)","v":0},{"$f":"AT13/(AV4-AT11)","v":0},{"$f":"IF(AU13=0,0,(AU13*((LOG(AU13))/LOG(2))))","v":0}]
[12,935,24,950,13,958,null,null,null,null,0,121,null,222,{"$f":"COUNTIF($L$7:$L$500,N14)","v":0},{"$f":"O14/$Q$4","v":0},{"$f":"IF(P14=0,0,(P14*((LOG(P14))/LOG(2))))","v":0},null,null,{"$f":"N14","v":222},{"$f":"COUNTIF(L7:L26,T14)","v":0},{"$f":"U14/(W4-U11)","v":0},{"$f":"IF(V14=0,0,(V14*((LOG(V14))/LOG(2))))","v":0},null,{"$f":"N14","v":222},{"$f":"COUNTIF(L27:L46,Y14)","v":0},{"$f":"Z14/(AB4-Z11)","v":0},{"$f":"IF(AA14=0,0,(AA14*((LOG(AA14))/LOG(2))))","v":0},null,{"$f":"N14","v":222},{"$f":"COUNTIF(L47:L66,AD14)","v":0},{"$f":"AE14/(AG4-AE11)","v":0},{"$f":"IF(AF14=0,0,(AF14*((LOG(AF14))/LOG(2))))","v":0},null,{"$f":"N14","v":222},{"$f":"COUNTIF(L67:L86,AI14)","v":0},{"$f":"AJ14/(AL4-AJ11)","v":0},{"$f":"IF(AK14=0,0,(AK14*((LOG(AK14))/LOG(2))))","v":0},null,{"$f":"N14","v":222},{"$f":"COUNTIF(L87:L106,AN14)","v":0},{"$f":"AO14/(AQ4-AO11)","v":0},{"$f":"IF(AP14=0,0,(AP14*((LOG(AP14))/LOG(2))))","v":0},null,{"$f":"N14","v":222},{"$f":"COUNTIF(L107:L126,AS14)","v":0},{"$f":"AT14/(AV4-AT11)","v":0},{"$f":"IF(AU14=0,0,(AU14*((LOG(AU14))/LOG(2))))","v":0}]
[21,1064,11,1071,22,1090,null,null,null,null,0,212,null,null,null,{"$f":"SUM(P7:P14)","v":1},{"$f":"-SUM(Q7:Q14)","v":1.4268930843723806},null,null,null,null,{"$f":"SUM(V7:V14)","v":0.99999999999999989},{"$f":"-SUM(W7:W14)","v":1.5055213905049434},null,null,null,{"$f":"SUM(AA7:AA14)","v":0.99999999999999989},{"$f":"-SUM(AB7:AB14)","v":0.73452992143947027},null,null,null,{"$f":"SUM(AF7:AF14)","v":1},{"$f":"-SUM(AG7:AG14)","v":0.5435644431995964},null,null,null,{"$f":"SUM(AK7:AK14)","v":1},{"$f":"-SUM(AL7:AL14)","v":0.5689955935892812},null,null,null,{"$f":"SUM(AP7:AP14)","v":1},{"$f":"-SUM(AQ7:AQ14)","v":0.46899559358928122},null,null,null,{"$f":"SUM(AU7:AU14)","v":1},{"$f":"-SUM(AV7:AV14)","v":0.46899559358928122}]
[12,1199,13,1212,13,1227,null,null,null,null,0,111,null,null,null,"U=",{"$f":"Q15/(LOG(Q4)/LOG(2))","v":0.20658979096608479},null,null,null,null,"U1=",{"$f":"W15/(LOG(W4)/LOG(2))","v":0.3483448492088298},null,null,null,"U2=",{"$f":"AB15/(LOG(AB4)/LOG(2))","v":0.1699542207350429},null,null,null,"U3=",{"$f":"AG15/(LOG(AG4)/LOG(2))","v":0.12576896960470202},null,null,null,"U4=",{"$f":"AL15/(LOG(AL4)/LOG(2))","v":0.13165318374046439},null,null,null,"U5=",{"$f":"AQ15/(LOG(AQ4)/LOG(2))","v":0.10851536242448849},null,null,null,"U6=",{"$f":"AV15/(LOG(AV4)/LOG(2))","v":0.10851536242448849}]
[12,1352,13,1364,13,1383,null,null,null,null,0,111]
[12,1497,13,1501,13,1521,null,null,null,null,0,111]
[12,1622,13,1629,13,1642,null,null,null,null,0,111,null,"Total Target Seq"]
[12,1743,13,1747,13,1752,null,null,null,null,0,111,null,{"$f":"COUNTIF(L7:L126,G3)","v":21},null,20,20,20,20,20,20]
[12,1876,13,1887,13,1892,null,null,null,null,0,111,null,null,null,"% of reinforcement given in 6 equal intervals based on number of trials "]
[12,1992,13,1996,13,2000,null,null,null,null,0,111,null,null,null,"%_1","%_2","%_3","%_4","%_5","%_6"]
[12,2099,13,2103,13,2108,null,null,null,null,0,111,null,null,"target sequence",{"$f":"$G$3","v":211},{"$f":"$G$3","v":211},{"$f":"$G$3","v":211},{"$f":"$G$3","v":211},{"$f":"$G$3","v":211},{"$f":"$G$3","v":211}]
[12,2228,13,2241,13,2256,null,null,null,null,0,111,null,null,"total reinforcement",{"$f":"U11","v":1},{"$f":"Z11","v":6},{"$f":"AE11","v":4},{"$f":"AJ11","v":0},{"$f":"AO11","v":0},{"$f":"AT11","v":10}]
[12,2359,13,2364,13,2376,null,null,null,null,0,111,null,null,"% target"]
[21,2474,11,2481,11,2497,null,null,null,null,0,211,null,null,"CCRF"]
[21,2602,11,2610,11,2625,null,null,null,null,0,211,null,null,"% CCRf"]
[21,2725,11,2732,11,2747,null,null,null,null,0,211,null,null,"average response rate",{"$f":"F26/P20","v":124.85},{"$f":"(F46-F26)/Q20","v":133.44999999999999},{"$f":"(F66-F46)/R20","v":126.1},{"$f":"(F86-F66)/S20","v":120.05},{"$f":"(F106-F86)/T20","v":117.9},{"$f":"(F126-F106)/U20","v":122.7}]
[12,2852,13,2863,13,2878,null,null,null,null,0,111]
[12,2984,13,3000,13,3014,null,null,null,null,0,111]
[12,3122,13,3141,24,3160,null,null,null,null,0,112]
[21,3259,11,3267,11,3283,null,null,null,null,0,211]
[21,3378,11,3388,11,3400,null,null,null,null,0,211]
[12,3505,13,3516,13,3535,null,null,null,null,0,111]
[12,3638,13,3657,13,3686,null,null,null,null,0,111]
[12,3786,13,3804,13,3818,null,null,null,null,0,111]
[12,3925,13,3932,13,3944,null,null,null,null,0,111]
[12,4063,13,4079,13,4093,null,null,null,null,0,111]
[12,4207,13,4213,13,4224,null,null,null,null,0,111]
[12,4322,13,4327,13,4331,null,null,null,null,0,111]
[12,4440,13,4455,13,4472,null,null,null,null,0,111]
[12,4601,13,4620,13,4634,null,null,null,null,0,111]
[21,4734,11,4745,22,4764,null,null,null,null,0,212]
[12,4882,13,4896,13,4910,null,null,null,null,0,111]
[21,5007,11,5022,11,5037,null,null,null,null,0,211]
[21,5131,11,5152,11,5166,null,null,null,null,0,211]
[21,5259,11,5288,11,5302,null,null,null,null,0,211]
[12,5416,13,5431,13,5445,null,null,null,null,0,111]
[12,5553,13,5564,13,5578,null,null,null,null,0,111]
[12,5694,13,5706,13,5717,null,null,null,null,0,111]
[21,5812,22,5823,13,5833,null,null,null,null,0,221]
[12,5951,13,5964,13,5980,null,null,null,null,0,111]
[12,6093,13,6103,13,6117,null,null,null,null,0,111]
[21,6212,22,6217,13,6226,null,null,null,null,0,221]
[12,6335,13,6346,13,6368,null,null,null,null,0,111]
[12,6468,13,6472,13,6476,null,null,null,null,0,111]
[12,6577,13,6588,13,6602,null,null,null,null,0,111]
[12,6699,13,6713,13,6724,null,null,null,null,0,111]
[21,6820,11,6837,11,6853,null,null,null,null,0,211]
[21,6950,11,6970,11,6984,null,null,null,null,0,211]
[21,7078,11,7086,11,7097,null,null,null,null,0,211]
[12,7201,13,7211,13,7221,null,null,null,null,0,111]
[12,7337,13,7351,13,7364,null,null,null,null,0,111]
[12,7466,13,7469,13,7474,null,null,null,null,0,111]
[12,7572,13,7576,13,7581,null,null,null,null,0,111]
[12,7679,13,7683,13,7688,null,null,null,null,0,111]
[12,7787,13,7791,13,7801,null,null,null,null,0,111]
[12,7918,13,7929,13,7943,null,null,null,null,0,111]
[12,8041,13,8045,13,8050,null,null,null,null,0,111]
[12,8147,13,8157,13,8162,null,null,null,null,0,111]
[12,8260,13,8269,13,8274,null,null,null,null,0,111]
[12,8371,13,8375,13,8385,null,null,null,null,0,111]
[12,8496,13,8507,13,8524,null,null,null,null,0,111]
[12,8623,13,8631,13,8635,null,null,null,null,0,111]
[12,8734,13,8744,13,8751,null,null,null,null,0,111]
[12,8851,13,8862,13,8876,null,null,null,null,0,111]
[12,8981,13,8991,13,9003,null,null,null,null,0,111]
[12,9103,24,9142,13,9149,null,null,null,null,0,121]
[12,9246,13,9253,13,9272,null,null,null,null,0,111]
[12,9378,13,9389,13,9405,null,null,null,null,0,111]
[12,9502,13,9506,13,9510,null,null,null,null,0,111]
[12,9609,13,9617,24,9630,null,null,null,null,0,112]
[12,9727,13,9731,13,9735,null,null,null,null,0,111]
[12,9832,13,9842,13,9857,null,null,null,null,0,111]
[12,9956,13,9967,13,9974,null,null,null,null,0,111]
[12,10070,13,10078,13,10089,null,null,null,null,0,111]
[12,10190,13,10201,24,10214,null,null,null,null,0,112]
[12,10310,13,10315,13,10323,null,null,null,null,0,111]
[12,10441,13,10452,13,10466,null,null,null,null,0,111]
[12,10565,13,10568,13,10573,null,null,null,null,0,111]
[12,10670,13,10678,13,10695,null,null,null,null,0,111]
[12,10794,13,10798,13,10803,null,null,null,null,0,111]
[12,10900,13,10907,24,10918,null,null,null,null,0,112]
[12,11015,13,11023,13,11029,null,null,null,null,0,111]
[12,11126,13,11130,13,11135,null,null,null,null,0,111]
[12,11232,13,11237,13,11249,null,null,null,null,0,111]
[12,11347,13,11358,13,11368,null,null,null,null,0,111]
[12,11477,13,11492,13,11506,null,null,null,null,0,111]
[12,11606,13,11610,13,11614,null,null,null,null,0,111]
[12,11712,13,11719,13,11729,null,null,null,null,0,111]
[12,11829,13,11837,13,11850,null,null,null,null,0,111]
[12,11948,13,11955,13,11967,null,null,null,null,0,111]
[12,12069,13,12077,13,12092,null,null,null,null,0,111]
[12,12189,13,12193,13,12204,null,null,null,null,0,111]
[12,12303,13,12312,13,12322,null,null,null,null,0,111]
[12,12418,13,12425,13,12447,null,null,null,null,0,111]
[21,12540,11,12561,11,12575,null,null,null,null,0,211]
[12,12681,13,12692,13,12706,null,null,null,null,0,111]
[12,12806,13,12816,13,12830,null,null,null,null,0,111]
[12,12928,13,12950,24,12962,null,null,null,null,0,112]
[12,13061,13,13065,13,13090,null,null,null,null,0,111]
[12,13188,13,13202,13,13207,null,null,null,null,0,111]
[12,13305,13,13309,13,13317,null,null,null,null,0,111]
[21,13414,11,13422,11,13435,null,null,null,null,0,211]
[21,13528,11,13535,11,13547,null,null,null,null,0,211]
[21,13658,11,13666,11,13683,null,null,null,null,0,211]
[21,13777,11,13784,11,13795,null,null,null,null,0,211]
[21,13892,11,13899,11,13913,null,null,null,null,0,211]
[21,14009,11,14017,11,14027,null,null,null,null,0,211]
[12,14133,13,14143,13,14160,null,null,null,null,0,111]
[21,14253,11,14261,11,14271,null,null,null,null,0,211]
[21,14362,11,14370,11,14380,null,null,null,null,0,211]
[12,14502,13,14512,13,14526,null,null,null,null,0,111]
[12,14640,13,14650,13,14665,null,null,null,null,0,111]
[12,14764,13,14779,13,14789,null,null,null,null,0,111]
[21,14881,11,14891,11,14901,null,null,null,null,1,211]

{"sheet":"!MC20C10.096","index":15,"n_rows":109,"n_cols":48,"rows_kept":109,"cut":false,"hidden":false,"merged":[[4,39,4,42],[5,39,5,40],[4,44,4,47],[5,44,5,45],[4,24,4,27],[5,24,5,25],[4,29,4,32],[5,29,5,30],[4,34,4,37],[5,34,5,35],[1,1,1,2],[5,13,5,14],[18,13,18,14],[19,13,19,14],[4,19,4,22],[5,19,5,20]]}
["Report for:!MC20C10.096"]
["Date:","<date>"]
["Hen:","<hen>",null,null,null,"Correct Sequence",{"$f":"Start!J2","v":211},null,null,null,null,null,null,null,null,"Total Sequences in Data",{"$f":"4994-COUNTBLANK(L7:L5000)","v":103},null,null,null,null,"Total Sequences in Block Data",{"$f":"COUNTA(L7:L23)","v":17},null,null,null,"Total Sequences in Block Data",{"$f":"COUNTA(L24:L40)","v":17},null,null,null,"Total Sequences in Block Data",{"$f":"COUNTA(L41:L58)","v":18},null,null,null,"Total Sequences in Block Data",{"$f":"COUNTA(L59:L75)","v":17},null,null,null,"Total Sequences in Block Data",{"$f":"COUNTA(L76:L92)","v":17},null,null,null,"Total Sequences in Block Data",{"$f":"COUNTA(L93:L109)","v":17}]
[null,null,null,null,null,null,null,null,null,null,null,null,null,null,null,"Total Sequences in Summary",{"$f":"SUM(O7:O14)","v":103},null,null,null,null,"Total Sequences in Block Summary",{"$f":"SUM(U7:U14)","v":17},null,null,null,"Total Sequences in Block Summary",{"$f":"SUM(Z7:Z14)","v":17},null,null,null,"Total Sequences in Block Summary",{"$f":"SUM(AE7:AE14)","v":18},null,null,null,"Total Sequences in Block Summary",{"$f":"SUM(AJ7:AJ14)","v":17},null,null,null,"Total Sequences in Block Summary",{"$f":"SUM(AO7:AO14)","v":17},null,null,null,"Total Sequences in Block Summary",{"$f":"SUM(AT7:AT14)","v":17}]
[null,null,null,null,null,null,null,null,null,null,null,null,null,null,null,null,null,null,null,"Block 1",null,null,null,null,"Block 2",null,null,null,null,"Block 3",null,null,null,null,"Block 4",null,null,null,null,"Block 5",null,null,null,null,"Block 6"]
["Sequence\nComponent\n1","Time\n1","Sequence\nComponent\n2","Time\n2","Sequence\nComponent\n3","Time\n3","Sequence\nComponent\n4","Time\n4","Sequence\nComponent\n5","Time\n5","Correct?\n0=No 1=Yes","Sequence",null,"Frequency",null,"Relative Frequency","Variability",null,null,"Frequency",null,"Relative Frequency","Variability",null,"Frequency",null,"Relative Frequency","Variability",null,"Frequency",null,"Relative Frequency","Variability",null,"Frequency",null,"Relative Frequency","Variability",null,"Frequency",null,"Relative Frequency","Variability",null,"Frequency",null,"Relative Frequency","Variability"]
[21,14,11,25,22,33,null,null,null,null,0,212,null,111,{"$f":"COUNTIF($L$7:$L$500,N7)","v":48},{"$f":"O7/$Q$4","v":0.46601941747572817},{"$f":"IF(P7=0,0,(P7*((LOG(P7))/LOG(2))))","v":-0.51333810941921343},null,null,{"$f":"N7","v":111},{"$f":"COUNTIF(L7:L23,T7)","v":8},{"$f":"U7/(W4-U11)","v":0.53333333333333333},{"$f":"IF(V7=0,0,(V7*((LOG(V7))/LOG(2))))","v":-0.4836749843245432},null,{"$f":"N7","v":111},{"$f":"COUNTIF(L24:L40,Y7)","v":9},{"$f":"Z7/(AB4-Z11)","v":0.75},{"$f":"IF(AA7=0,0,(AA7*((LOG(AA7))/LOG(2))))","v":-0.31127812445913283},null,{"$f":"N7","v":111},{"$f":"COUNTIF(L41:L58,AD7)","v":11},{"$f":"AE7/(AG4-AE11)","v":0.7857142857142857},{"$f":"IF(AF7=0,0,(AF7*((LOG(AF7))/LOG(2))))","v":-0.27336830983024107},null,{"$f":"N7","v":111},{"$f":"COUNTIF(L59:L75,AI7)","v":11},{"$f":"AJ7/(AL4-AJ11)","v":1},{"$f":"IF(AK7=0,0,(AK7*((LOG(AK7))/LOG(2))))","v":0},null,{"$f":"N7","v":111},{"$f":"COUNTIF(L76:L92,AN7)","v":3},{"$f":"AO7/(AQ4-AO11)","v":0.3},{"$f":"IF(AP7=0,0,(AP7*((LOG(AP7))/LOG(2))))","v":-0.52108967824986185},null,{"$f":"N7","v":111},{"$f":"COUNTIF(L93:L109,AS7)","v":6},{"$f":"AT7/(AV4-AT11)","v":0.6},{"$f":"IF(AU7=0,0,(AU7*((LOG(AU7))/LOG(2))))","v":-0.44217935649972373}]
[12,125,13,136,24,148,null,null,null,null,0,112,null,112,{"$f":"COUNTIF($L$7:$L$500,N8)","v":10},{"$f":"O8/$Q$4","v":9.7087378640776698E-2},{"$f":"IF(P8=0,0,(P8*((LOG(P8))/LOG(2))))","v":-0.32665751769862678},null,null,{"$f":"N8","v":112},{"$f":"COUNTIF(L7:L23,T8)","v":3},{"$f":"U8/(W4-U11)","v":0.2},{"$f":"IF(V8=0,0,(V8*((LOG(V8))/LOG(2))))","v":-0.46438561897747244},null,{"$f":"N8","v":112},{"$f":"COUNTIF(L24:L40,Y8)","v":1},{"$f":"Z8/(AB4-Z11)","v":8.3333333333333329E-2},{"$f":"IF(AA8=0,0,(AA8*((LOG(AA8))/LOG(2))))","v":-0.29874687506009634},null,{"$f":"N8","v":112},{"$f":"COUNTIF(L41:L58,AD8)","v":2},{"$f":"AE8/(AG4-AE11)","v":0.14285714285714285},{"$f":"IF(AF8=0,0,(AF8*((LOG(AF8))/LOG(2))))","v":-0.40105070315108626},null,{"$f":"N8","v":112},{"$f":"COUNTIF(L59:L75,AI8)","v":0},{"$f":"AJ8/(AL4-AJ11)","v":0},{"$f":"IF(AK8=0,0,(AK8*((LOG(AK8))/LOG(2))))","v":0},null,{"$f":"N8","v":112},{"$f":"COUNTIF(L76:L92,AN8)","v":3},{"$f":"AO8/(AQ4-AO11)","v":0.3},{"$f":"IF(AP8=0,0,(AP8*((LOG(AP8))/LOG(2))))","v":-0.52108967824986185},null,{"$f":"N8","v":112},{"$f":"COUNTIF(L93:L109,AS8)","v":1},{"$f":"AT8/(AV4-AT11)","v":0.1},{"$f":"IF(AU8=0,0,(AU8*((LOG(AU8))/LOG(2))))","v":-0.33219280948873625}]
[21,250,11,257,11,271,null,null,null,null,0,211,null,121,{"$f":"COUNTIF($L$7:$L$500,N9)","v":3},{"$f":"O9/$Q$4","v":2.9126213592233011E-2},{"$f":"IF(P9=0,0,(P9*((LOG(P9))/LOG(2))))","v":-0.1485884862076329},null,null,{"$f":"N9","v":121},{"$f":"COUNTIF(L7:L23,T9)","v":2},{"$f":"U9/(W4-U11)","v":0.13333333333333333},{"$f":"IF(V9=0,0,(V9*((LOG(V9))/LOG(2))))","v":-0.3875854127478025},null,{"$f":"N9","v":121},{"$f":"COUNTIF(L24:L40,Y9)","v":0},{"$f":"Z9/(AB4-Z11)","v":0},{"$f":"IF(AA9=0,0,(AA9*((LOG(AA9))/LOG(2))))","v":0},null,{"$f":"N9","v":121},{"$f":"COUNTIF(L41:L58,AD9)","v":0},{"$f":"AE9/(AG4-AE11)","v":0},{"$f":"IF(AF9=0,0,(AF9*((LOG(AF9))/LOG(2))))","v":0},null,{"$f":"N9","v":121},{"$f":"COUNTIF(L59:L75,AI9)","v":0},{"$f":"AJ9/(AL4-AJ11)","v":0},{"$f":"IF(AK9=0,0,(AK9*((LOG(AK9))/LOG(2))))","v":0},null,{"$f":"N9","v":121},{"$f":"COUNTIF(L76:L92,AN9)","v":1},{"$f":"AO9/(AQ4-AO11)","v":0.1},{"$f":"IF(AP9=0,0,(AP9*((LOG(AP9))/LOG(2))))","v":-0.33219280948873625},null,{"$f":"N9","v":121},{"$f":"COUNTIF(L93:L109,AS9)","v":0},{"$f":"AT9/(AV4-AT11)","v":0},{"$f":"IF(AU9=0,0,(AU9*((LOG(AU9))/LOG(2))))","v":0}]
[12,366,13,381,13,391,null,null,null,null,0,111,null,122,{"$f":"COUNTIF($L$7:$L$500,N10)","v":0},{"$f":"O10/$Q$4","v":0},{"$f":"IF(P10=0,0,(P10*((LOG(P10))/LOG(2))))","v":0},null,null,{"$f":"N10","v":122},{"$f":"COUNTIF(L7:L23,T10)","v":0},{"$f":"U10/(W4-U11)","v":0},{"$f":"IF(V10=0,0,(V10*((LOG(V10))/LOG(2))))","v":0},null,{"$f":"N10","v":122},{"$f":"COUNTIF(L24:L40,Y10)","v":0},{"$f":"Z10/(AB4-Z11)","v":0},{"$f":"IF(AA10=0,0,(AA10*((LOG(AA10))/LOG(2))))","v":0},null,{"$f":"N10","v":122},{"$f":"COUNTIF(L41:L58,AD10)","v":0},{"$f":"AE10/(AG4-AE11)","v":0},{"$f":"IF(AF10=0,0,(AF10*((LOG(AF10))/LOG(2))))","v":0},null,{"$f":"N10","v":122},{"$f":"COUNTIF(L59:L75,AI10)","v":0},{"$f":"AJ10/(AL4-AJ11)","v":0},{"$f":"IF(AK10=0,0,(AK10*((LOG(AK10))/LOG(2))))","v":0},null,{"$f":"N10","v":122},{"$f":"COUNTIF(L76:L92,AN10)","v":0},{"$f":"AO10/(AQ4-AO11)","v":0},{"$f":"IF(AP10=0,0,(AP10*((LOG(AP10))/LOG(2))))","v":0},null,{"$f":"N10","v":122},{"$f":"COUNTIF(L93:L109,AS10)","v":0},{"$f":"AT10/(AV4-AT11)","v":0},{"$f":"IF(AU10=0,0,(AU10*((LOG(AU10))/LOG(2))))","v":0}]
[12,503,13,514,13,525,null,null,null,null,0,111,null,211,{"$f":"COUNTIF($L$7:$L$500,N11)","v":31},{"$f":"O11/$Q$4","v":0.30097087378640774},{"$f":"IF(P11=0,0,(P11*((LOG(P11))/LOG(2))))","v":-0.52137311379307416},null,null,{"$f":"N11","v":211},{"$f":"COUNTIF(L7:L23,T11)","v":2},null,null,null,{"$f":"N11","v":211},{"$f":"COUNTIF(L24:L40,Y11)","v":5},null,null,null,{"$f":"N11","v":211},{"$f":"COUNTIF(L41:L58,AD11)","v":4},null,null,null,{"$f":"N11","v":211},{"$f":"COUNTIF(L59:L75,AI11)","v":6},null,null,null,{"$f":"N11","v":211},{"$f":"COUNTIF(L76:L92,AN11)","v":7},null,null,null,{"$f":"N11","v":211},{"$f":"COUNTIF(L93:L109,AS11)","v":7}]
[12,630,13,642,13,652,null,null,null,null,0,111,null,212,{"$f":"COUNTIF($L$7:$L$500,N12)","v":4},{"$f":"O12/$Q$4","v":3.8834951456310676E-2},{"$f":"IF(P12=0,0,(P12*((LOG(P12))/LOG(2))))","v":-0.18200002047313468},null,null,{"$f":"N12","v":212},{"$f":"COUNTIF(L7:L23,T12)","v":2},{"$f":"U12/(W4-U11)","v":0.13333333333333333},{"$f":"IF(V12=0,0,(V12*((LOG(V12))/LOG(2))))","v":-0.3875854127478025},null,{"$f":"N12","v":212},{"$f":"COUNTIF(L24:L40,Y12)","v":0},{"$f":"Z12/(AB4-Z11)","v":0},{"$f":"IF(AA12=0,0,(AA12*((LOG(AA12))/LOG(2))))","v":0},null,{"$f":"N12","v":212},{"$f":"COUNTIF(L41:L58,AD12)","v":0},{"$f":"AE12/(AG4-AE11)","v":0},{"$f":"IF(AF12=0,0,(AF12*((LOG(AF12))/LOG(2))))","v":0},null,{"$f":"N12","v":212},{"$f":"COUNTIF(L59:L75,AI12)","v":0},{"$f":"AJ12/(AL4-AJ11)","v":0},{"$f":"IF(AK12=0,0,(AK12*((LOG(AK12))/LOG(2))))","v":0},null,{"$f":"N12","v":212},{"$f":"COUNTIF(L76:L92,AN12)","v":1},{"$f":"AO12/(AQ4-AO11)","v":0.1},{"$f":"IF(AP12=0,0,(AP12*((LOG(AP12))/LOG(2))))","v":-0.33219280948873625},null,{"$f":"N12","v":212},{"$f":"COUNTIF(L93:L109,AS12)","v":1},{"$f":"AT12/(AV4-AT11)","v":0.1},{"$f":"IF(AU12=0,0,(AU12*((LOG(AU12))/LOG(2))))","v":-0.33219280948873625}]
[12,764,13,778,13,796,null,null,null,null,0,111,null,221,{"$f":"COUNTIF($L$7:$L$500,N13)","v":5},{"$f":"O13/$Q$4","v":4.8543689320388349E-2},{"$f":"IF(P13=0,0,(P13*((LOG(P13))/LOG(2))))","v":-0.21187244816970174},null,null,{"$f":"N13","v":221},{"$f":"COUNTIF(L7:L23,T13)","v":0},{"$f":"U13/(W4-U11)","v":0},{"$f":"IF(V13=0,0,(V13*((LOG(V13))/LOG(2))))","v":0},null,{"$f":"N13","v":221},{"$f":"COUNTIF(L24:L40,Y13)","v":2},{"$f":"Z13/(AB4-Z11)","v":0.16666666666666666},{"$f":"IF(AA13=0,0,(AA13*((LOG(AA13))/LOG(2))))","v":-0.43082708345352599},null,{"$f":"N13","v":221},{"$f":"COUNTIF(L41:L58,AD13)","v":1},{"$f":"AE13/(AG4-AE11)","v":7.1428571428571425E-2},{"$f":"IF(AF13=0,0,(AF13*((LOG(AF13))/LOG(2))))","v":-0.27195392300411453},null,{"$f":"N13","v":221},{"$f":"COUNTIF(L59:L75,AI13)","v":0},{"$f":"AJ13/(AL4-AJ11)","v":0},{"$f":"IF(AK13=0,0,(AK13*((LOG(AK13))/LOG(2))))","v":0},null,{"$f":"N13","v":221},{"$f":"COUNTIF(L76:L92,AN13)","v":2},{"$f":"AO13/(AQ4-AO11)","v":0.2},{"$f":"IF(AP13=0,0,(AP13*((LOG(AP13))/LOG(2))))","v":-0.46438561897747244},null,{"$f":"N13","v":221},{"$f":"COUNTIF(L93:L109,AS13)","v":0},{"$f":"AT13/(AV4-AT11)","v":0},{"$f":"IF(AU13=0,0,(AU13*((LOG(AU13))/LOG(2))))","v":0}]
[12,900,13,916,24,926,null,null,null,null,0,112,null,222,{"$f":"COUNTIF($L$7:$L$500,N14)","v":2},{"$f":"O14/$Q$4","v":1.9417475728155338E-2},{"$f":"IF(P14=0,0,(P14*((LOG(P14))/LOG(2))))","v":-0.11041748596472269},null,null,{"$f":"N14","v":222},{"$f":"COUNTIF(L7:L23,T14)","v":0},{"$f":"U14/(W4-U11)","v":0},{"$f":"IF(V14=0,0,(V14*((LOG(V14))/LOG(2))))","v":0},null,{"$f":"N14","v":222},{"$f":"COUNTIF(L24:L40,Y14)","v":0},{"$f":"Z14/(AB4-Z11)","v":0},{"$f":"IF(AA14=0,0,(AA14*((LOG(AA14))/LOG(2))))","v":0},null,{"$f":"N14","v":222},{"$f":"COUNTIF(L41:L58,AD14)","v":0},{"$f":"AE14/(AG4-AE11)","v":0},{"$f":"IF(AF14=0,0,(AF14*((LOG(AF14))/LOG(2))))","v":0},null,{"$f":"N14","v":222},{"$f":"COUNTIF(L59:L75,AI14)","v":0},{"$f":"AJ14/(AL4-AJ11)","v":0},{"$f":"IF(AK14=0,0,(AK14*((LOG(AK14))/LOG(2))))","v":0},null,{"$f":"N14","v":222},{"$f":"COUNTIF(L76:L92,AN14)","v":0},{"$f":"AO14/(AQ4-AO11)","v":0},{"$f":"IF(AP14=0,0,(AP14*((LOG(AP14))/LOG(2))))","v":0},null,{"$f":"N14","v":222},{"$f":"COUNTIF(L93:L109,AS14)","v":2},{"$f":"AT14/(AV4-AT11)","v":0.2},{"$f":"IF(AU14=0,0,(AU14*((LOG(AU14))/LOG(2))))","v":-0.46438561897747244}]
[12,1027,13,1031,13,1039,null,null,null,null,0,111,null,null,null,{"$f":"SUM(P7:P14)","v":0.99999999999999989},{"$f":"-SUM(Q7:Q14)","v":2.0142471817261063},null,null,null,null,{"$f":"SUM(V7:V14)","v":1},{"$f":"-SUM(W7:W14)","v":1.7232314287976205},null,null,null,{"$f":"SUM(AA7:AA14)","v":1},{"$f":"-SUM(AB7:AB14)","v":1.0408520829727552},null,null,null,{"$f":"SUM(AF7:AF14)","v":1},{"$f":"-SUM(AG7:AG14)","v":0.94637293598544181},null,null,null,{"$f":"SUM(AK7:AK14)","v":1},{"$f":"-SUM(AL7:AL14)","v":0},null,null,null,{"$f":"SUM(AP7:AP14)","v":1},{"$f":"-SUM(AQ7:AQ14)","v":2.170950594454669},null,null,null,{"$f":"SUM(AU7:AU14)","v":1},{"$f":"-SUM(AV7:AV14)","v":1.5709505944546687}]
[12,1144,24,1159,13,1166,null,null,null,null,0,121,null,null,null,"U=",{"$f":"Q15/(LOG(Q4)/LOG(2))","v":0.30124086187347332},null,null,null,null,"U1=",{"$f":"W15/(LOG(W4)/LOG(2))","v":0.42158950325050309},null,null,null,"U2=",{"$f":"AB15/(LOG(AB4)/LOG(2))","v":0.25464502636416936},null,null,null,"U3=",{"$f":"AG15/(LOG(AG4)/LOG(2))","v":0.22695202807199319},null,null,null,"U4=",{"$f":"AL15/(LOG(AL4)/LOG(2))","v":0},null,null,null,"U5=",{"$f":"AQ15/(LOG(AQ4)/LOG(2))","v":0.53112423984521984},null,null,null,"U6=",{"$f":"AV15/(LOG(AV4)/LOG(2))","v":0.38433391457428417}]
[12,1271,24,1283,13,1293,null,null,null,null,0,121]
[12,1398,13,1411,13,1439,null,null,null,null,0,111]
[12,1554,13,1569,13,1583,null,null,null,null,0,111,null,"Total Target Seq"]
[12,1690,13,1702,13,1712,null,null,null,null,0,111,null,{"$f":"COUNTIF(L7:L109,G3)","v":31},null,17,17,18,17,17,17]
[21,1814,11,1833,11,1847,null,null,null,null,0,211,null,null,null,"% of reinforcement given in 6 equal intervals based on number of trials "]
[12,1955,13,1965,24,2000,null,null,null,null,0,112,null,null,null,"%_1","%_2","%_3","%_4","%_5","%_6"]
[21,2111,11,2119,22,2131,null,null,null,null,0,212,null,null,"target sequence",{"$f":"$G$3","v":211},{"$f":"$G$3","v":211},{"$f":"$G$3","v":211},{"$f":"$G$3","v":211},{"$f":"$G$3","v":211},{"$f":"$G$3","v":211}]
[12,2231,13,2242,13,2255,null,null,null,null,0,111,null,null,"total reinforcement",{"$f":"U11","v":2},{"$f":"Z11","v":5},{"$f":"AE11","v":4},{"$f":"AJ11","v":6},{"$f":"AO11","v":7},{"$f":"AT11","v":7}]
[12,2364,13,2375,13,2385,null,null,null,null,0,111,null,null,"% target"]
[12,2506,13,2516,13,2534,null,null,null,null,0,111,null,null,"CCRF"]
[21,2638,22,2642,13,2652,null,null,null,null,0,221,null,null,"% CCRf"]
[21,2761,11,2768,11,2779,null,null,null,null,0,211,null,null,"average response rate",{"$f":"F23/P20","v":125.35294117647059},{"$f":"(F40-F23)/Q20","v":127.11764705882354},{"$f":"(F58-F40)/R20","v":130.38888888888889},{"$f":"(F75-F58)/S20","v":125.70588235294117},{"$f":"(F92-F75)/T20","v":126.35294117647059},{"$f":"(F109-F92)/U20","v":126.35294117647059}]
[21,2874,11,2889,11,2904,null,null,null,null,0,211]
[21,2998,11,3006,11,3017,null,null,null,null,0,211]
[12,3128,13,3139,13,3153,null,null,null,null,0,111]
[12,3270,13,3280,13,3294,null,null,null,null,0,111]
[21,3392,11,3405,11,3413,null,null,null,null,0,211]
[12,3521,13,3532,13,3544,null,null,null,null,0,111]
[21,3643,11,3655,11,3666,null,null,null,null,0,211]
[12,3770,13,3778,13,3788,null,null,null,null,0,111]
[12,3899,13,3910,13,3921,null,null,null,null,0,111]
[21,4021,22,4025,13,4035,null,null,null,null,0,221]
[12,4133,13,4144,24,4159,null,null,null,null,0,112]
[12,4257,13,4277,13,4292,null,null,null,null,0,111]
[12,4394,13,4412,24,4428,null,null,null,null,0,112]
[21,4534,11,4547,11,4562,null,null,null,null,0,211]
[12,4664,13,4674,13,4694,null,null,null,null,0,111]
[12,4801,13,4811,13,4821,null,null,null,null,0,111]
[12,4933,13,4963,24,4983,null,null,null,null,0,112]
[21,5082,11,5103,11,5113,null,null,null,null,0,211]
[21,5207,11,5218,11,5228,null,null,null,null,0,211]
[21,5321,11,5329,11,5339,null,null,null,null,0,211]
[12,5439,13,5448,13,5458,null,null,null,null,0,111]
[12,5573,13,5584,13,5598,null,null,null,null,0,111]
[12,5710,13,5721,13,5735,null,null,null,null,0,111]
[12,5846,13,5857,13,5867,null,null,null,null,0,111]
[12,5977,13,5988,13,6003,null,null,null,null,0,111]
[12,6112,13,6123,13,6141,null,null,null,null,0,111]
[12,6238,13,6243,13,6254,null,null,null,null,0,111]
[12,6361,13,6369,13,6379,null,null,null,null,0,111]
[21,6472,22,6477,13,6502,null,null,null,null,0,221]
[12,6613,13,6628,13,6639,null,null,null,null,0,111]
[21,6733,11,6746,11,6756,null,null,null,null,0,211]
[12,6861,13,6870,13,6884,null,null,null,null,0,111]
[12,6986,13,6989,13,7000,null,null,null,null,0,111]
[12,7109,13,7123,13,7133,null,null,null,null,0,111]
[12,7242,13,7254,13,7265,null,null,null,null,0,111]
[21,7361,11,7375,11,7386,null,null,null,null,0,211]
[12,7492,13,7503,13,7512,null,null,null,null,0,111]
[21,7603,11,7627,11,7637,null,null,null,null,0,211]
[12,7746,13,7756,13,7770,null,null,null,null,0,111]
[12,7875,13,7882,13,7898,null,null,null,null,0,111]
[21,8004,11,8014,11,8024,null,null,null,null,0,211]
[12,8128,13,8135,13,8145,null,null,null,null,0,111]
[21,8242,11,8256,11,8267,null,null,null,null,0,211]
[12,8368,13,8378,13,8402,null,null,null,null,0,111]
[12,8505,13,8510,13,8520,null,null,null,null,0,111]
[21,8616,11,8630,11,8640,null,null,null,null,0,211]
[12,8749,13,8763,13,8776,null,null,null,null,0,111]
[12,8888,13,8899,13,8909,null,null,null,null,0,111]
[21,9004,11,9014,11,9025,null,null,null,null,0,211]
[12,9134,13,9144,24,9161,null,null,null,null,0,112]
[21,9258,11,9269,22,9283,null,null,null,null,0,212]
[12,9389,24,9405,13,9416,null,null,null,null,0,121]
[12,9520,13,9533,13,9544,null,null,null,null,0,111]
[21,9643,11,9662,11,9673,null,null,null,null,0,211]
[21,9765,11,9779,11,9790,null,null,null,null,0,211]
[21,9881,11,9897,11,9908,null,null,null,null,0,211]
[21,10001,11,10016,11,10026,null,null,null,null,0,211]
[21,10118,22,10126,13,10134,null,null,null,null,0,221]
[21,10227,11,10246,11,10264,null,null,null,null,0,211]
[12,10378,13,10393,24,10425,null,null,null,null,0,112]
[12,10525,13,10547,24,10579,null,null,null,null,0,112]
[21,10675,11,10686,11,10699,null,null,null,null,0,211]
[21,10793,22,10797,13,10806,null,null,null,null,0,221]
[12,10904,13,10914,13,10924,null,null,null,null,0,111]
[21,11024,11,11034,11,11044,null,null,null,null,0,211]
[21,11137,11,11150,11,11160,null,null,null,null,0,211]
[21,11255,22,11260,24,11267,null,null,null,null,0,222]
[21,11369,11,11379,11,11395,null,null,null,null,0,211]
[21,11492,11,11514,11,11531,null,null,null,null,0,211]
[21,11628,11,11635,11,11648,null,null,null,null,0,211]
[21,11745,11,11753,11,11768,null,null,null,null,0,211]
[21,11912,11,11924,22,11935,null,null,null,null,0,212]
[12,12040,13,12062,13,12079,null,null,null,null,0,111]
[12,12177,13,12181,13,12186,null,null,null,null,0,111]
[12,12285,13,12289,13,12301,null,null,null,null,0,111]
[12,12404,13,12418,13,12432,null,null,null,null,0,111]
[12,12534,13,12546,13,12558,null,null,null,null,0,111]
[12,12655,13,12689,13,12705,null,null,null,null,0,111]
[21,12801,22,12805,24,12816,null,null,null,null,0,222]
[12,12914,13,12919,24,12956,null,null,null,null,0,112]
[21,13048,11,13058,11,13072,null,null,null,null,1,211]

{"sheet":"!MC21C10.096","index":16,"n_rows":85,"n_cols":48,"rows_kept":85,"cut":false,"hidden":false,"merged":[[4,39,4,42],[5,39,5,40],[4,44,4,47],[5,44,5,45],[4,24,4,27],[5,24,5,25],[4,29,4,32],[5,29,5,30],[4,34,4,37],[5,34,5,35],[1,1,1,2],[5,13,5,14],[18,13,18,14],[19,13,19,14],[4,19,4,22],[5,19,5,20]]}
["Report for:!MC21C10.096"]
["Date:","<date>"]
["Hen:","<hen>",null,null,null,"Correct Sequence",{"$f":"Start!J2","v":211},null,null,null,null,null,null,null,null,"Total Sequences in Data",{"$f":"4994-COUNTBLANK(L7:L5000)","v":79},null,null,null,null,"Total Sequences in Block Data",{"$f":"COUNTA(L7:L19)","v":13},null,null,null,"Total Sequences in Block Data",{"$f":"COUNTA(L20:L32)","v":13},null,null,null,"Total Sequences in Block Data",{"$f":"COUNTA(L33:L46)","v":14},null,null,null,"Total Sequences in Block Data",{"$f":"COUNTA(L47:L59)","v":13},null,null,null,"Total Sequences in Block Data",{"$f":"COUNTA(L60:L72)","v":13},null,null,null,"Total Sequences in Block Data",{"$f":"COUNTA(L73:L85)","v":13}]
[null,null,null,null,null,null,null,null,null,null,null,null,null,null,null,"Total Sequences in Summary",{"$f":"SUM(O7:O14)","v":79},null,null,null,null,"Total Sequences in Block Summary",{"$f":"SUM(U7:U14)","v":13},null,null,null,"Total Sequences in Block Summary",{"$f":"SUM(Z7:Z14)","v":13},null,null,null,"Total Sequences in Block Summary",{"$f":"SUM(AE7:AE14)","v":14},null,null,null,"Total Sequences in Block Summary",{"$f":"SUM(AJ7:AJ14)","v":13},null,null,null,"Total Sequences in Block Summary",{"$f":"SUM(AO7:AO14)","v":13},null,null,null,"Total Sequences in Block Summary",{"$f":"SUM(AT7:AT14)","v":13}]
[null,null,null,null,null,null,null,null,null,null,null,null,null,null,null,null,null,null,null,"Block 1",null,null,null,null,"Block 2",null,null,null,null,"Block 3",null,null,null,null,"Block 4",null,null,null,null,"Block 5",null,null,null,null,"Block 6"]
["Sequence\nComponent\n1","Time\n1","Sequence\nComponent\n2","Time\n2","Sequence\nComponent\n3","Time\n3","Sequence\nComponent\n4","Time\n4","Sequence\nComponent\n5","Time\n5","Correct?\n0=No 1=Yes","Sequence",null,"Frequency",null,"Relative Frequency","Variability",null,null,"Frequency",null,"Relative Frequency","Variability",null,"Frequency",null,"Relative Frequency","Variability",null,"Frequency",null,"Relative Frequency","Variability",null,"Frequency",null,"Relative Frequency","Variability",null,"Frequency",null,"Relative Frequency","Variability",null,"Frequency",null,"Relative Frequency","Variability"]
[21,24,22,30,24,54,null,null,null,null,0,222,null,111,{"$f":"COUNTIF($L$7:$L$500,N7)","v":33},{"$f":"O7/$Q$4","v":0.41772151898734178},{"$f":"IF(P7=0,0,(P7*((LOG(P7))/LOG(2))))","v":-0.52607289558247372},null,null,{"$f":"N7","v":111},{"$f":"COUNTIF(L7:L19,T7)","v":8},{"$f":"U7/(W4-U11)","v":0.88888888888888884},{"$f":"IF(V7=0,0,(V7*((LOG(V7))/LOG(2))))","v":-0.15104444572649992},null,{"$f":"N7","v":111},{"$f":"COUNTIF(L20:L32,Y7)","v":2},{"$f":"Z7/(AB4-Z11)","v":0.5},{"$f":"IF(AA7=0,0,(AA7*((LOG(AA7))/LOG(2))))","v":-0.5},null,{"$f":"N7","v":111},{"$f":"COUNTIF(L33:L46,AD7)","v":6},{"$f":"AE7/(AG4-AE11)","v":0.66666666666666663},{"$f":"IF(AF7=0,0,(AF7*((LOG(AF7))/LOG(2))))","v":-0.38997500048077083},null,{"$f":"N7","v":111},{"$f":"COUNTIF(L47:L59,AI7)","v":8},{"$f":"AJ7/(AL4-AJ11)","v":1},{"$f":"IF(AK7=0,0,(AK7*((LOG(AK7))/LOG(2))))","v":0},null,{"$f":"N7","v":111},{"$f":"COUNTIF(L60:L72,AN7)","v":5},{"$f":"AO7/(AQ4-AO11)","v":0.625},{"$f":"IF(AP7=0,0,(AP7*((LOG(AP7))/LOG(2))))","v":-0.42379494069539858},null,{"$f":"N7","v":111},{"$f":"COUNTIF(L73:L85,AS7)","v":4},{"$f":"AT7/(AV4-AT11)","v":0.5},{"$f":"IF(AU7=0,0,(AU7*((LOG(AU7))/LOG(2))))","v":-0.5}]
[21,154,11,164,11,182,null,null,null,null,0,211,null,112,{"$f":"COUNTIF($L$7:$L$500,N8)","v":2},{"$f":"O8/$Q$4","v":2.5316455696202531E-2},{"$f":"IF(P8=0,0,(P8*((LOG(P8))/LOG(2))))","v":-0.13427293033359755},null,null,{"$f":"N8","v":112},{"$f":"COUNTIF(L7:L19,T8)","v":0},{"$f":"U8/(W4-U11)","v":0},{"$f":"IF(V8=0,0,(V8*((LOG(V8))/LOG(2))))","v":0},null,{"$f":"N8","v":112},{"$f":"COUNTIF(L20:L32,Y8)","v":2},{"$f":"Z8/(AB4-Z11)","v":0.5},{"$f":"IF(AA8=0,0,(AA8*((LOG(AA8))/LOG(2))))","v":-0.5},null,{"$f":"N8","v":112},{"$f":"COUNTIF(L33:L46,AD8)","v":0},{"$f":"AE8/(AG4-AE11)","v":0},{"$f":"IF(AF8=0,0,(AF8*((LOG(AF8))/LOG(2))))","v":0},null,{"$f":"N8","v":112},{"$f":"COUNTIF(L47:L59,AI8)","v":0},{"$f":"AJ8/(AL4-AJ11)","v":0},{"$f":"IF(AK8=0,0,(AK8*((LOG(AK8))/LOG(2))))","v":0},null,{"$f":"N8","v":112},{"$f":"COUNTIF(L60:L72,AN8)","v":0},{"$f":"AO8/(AQ4-AO11)","v":0},{"$f":"IF(AP8=0,0,(AP8*((LOG(AP8))/LOG(2))))","v":0},null,{"$f":"N8","v":112},{"$f":"COUNTIF(L73:L85,AS8)","v":0},{"$f":"AT8/(AV4-AT11)","v":0},{"$f":"IF(AU8=0,0,(AU8*((LOG(AU8))/LOG(2))))","v":0}]
[21,277,11,286,11,297,null,null,null,null,0,211,null,121,{"$f":"COUNTIF($L$7:$L$500,N9)","v":0},{"$f":"O9/$Q$4","v":0},{"$f":"IF(P9=0,0,(P9*((LOG(P9))/LOG(2))))","v":0},null,null,{"$f":"N9","v":121},{"$f":"COUNTIF(L7:L19,T9)","v":0},{"$f":"U9/(W4-U11)","v":0},{"$f":"IF(V9=0,0,(V9*((LOG(V9))/LOG(2))))","v":0},null,{"$f":"N9","v":121},{"$f":"COUNTIF(L20:L32,Y9)","v":0},{"$f":"Z9/(AB4-Z11)","v":0},{"$f":"IF(AA9=0,0,(AA9*((LOG(AA9))/LOG(2))))","v":0},null,{"$f":"N9","v":121},{"$f":"COUNTIF(L33:L46,AD9)","v":0},{"$f":"AE9/(AG4-AE11)","v":0},{"$f":"IF(AF9=0,0,(AF9*((LOG(AF9))/LOG(2))))","v":0},null,{"$f":"N9","v":121},{"$f":"COUNTIF(L47:L59,AI9)","v":0},{"$f":"AJ9/(AL4-AJ11)","v":0},{"$f":"IF(AK9=0,0,(AK9*((LOG(AK9))/LOG(2))))","v":0},null,{"$f":"N9","v":121},{"$f":"COUNTIF(L60:L72,AN9)","v":0},{"$f":"AO9/(AQ4-AO11)","v":0},{"$f":"IF(AP9=0,0,(AP9*((LOG(AP9))/LOG(2))))","v":0},null,{"$f":"N9","v":121},{"$f":"COUNTIF(L73:L85,AS9)","v":0},{"$f":"AT9/(AV4-AT11)","v":0},{"$f":"IF(AU9=0,0,(AU9*((LOG(AU9))/LOG(2))))","v":0}]
[12,407,13,417,13,433,null,null,null,null,0,111,null,122,{"$f":"COUNTIF($L$7:$L$500,N10)","v":0},{"$f":"O10/$Q$4","v":0},{"$f":"IF(P10=0,0,(P10*((LOG(P10))/LOG(2))))","v":0},null,null,{"$f":"N10","v":122},{"$f":"COUNTIF(L7:L19,T10)","v":0},{"$f":"U10/(W4-U11)","v":0},{"$f":"IF(V10=0,0,(V10*((LOG(V10))/LOG(2))))","v":0},null,{"$f":"N10","v":122},{"$f":"COUNTIF(L20:L32,Y10)","v":0},{"$f":"Z10/(AB4-Z11)","v":0},{"$f":"IF(AA10=0,0,(AA10*((LOG(AA10))/LOG(2))))","v":0},null,{"$f":"N10","v":122},{"$f":"COUNTIF(L33:L46,AD10)","v":0},{"$f":"AE10/(AG4-AE11)","v":0},{"$f":"IF(AF10=0,0,(AF10*((LOG(AF10))/LOG(2))))","v":0},null,{"$f":"N10","v":122},{"$f":"COUNTIF(L47:L59,AI10)","v":0},{"$f":"AJ10/(AL4-AJ11)","v":0},{"$f":"IF(AK10=0,0,(AK10*((LOG(AK10))/LOG(2))))","v":0},null,{"$f":"N10","v":122},{"$f":"COUNTIF(L60:L72,AN10)","v":0},{"$f":"AO10/(AQ4-AO11)","v":0},{"$f":"IF(AP10=0,0,(AP10*((LOG(AP10))/LOG(2))))","v":0},null,{"$f":"N10","v":122},{"$f":"COUNTIF(L73:L85,AS10)","v":0},{"$f":"AT10/(AV4-AT11)","v":0},{"$f":"IF(AU10=0,0,(AU10*((LOG(AU10))/LOG(2))))","v":0}]
[12,537,13,549,13,560,null,null,null,null,0,111,null,211,{"$f":"COUNTIF($L$7:$L$500,N11)","v":33},{"$f":"O11/$Q$4","v":0.41772151898734178},{"$f":"IF(P11=0,0,(P11*((LOG(P11))/LOG(2))))","v":-0.52607289558247372},null,null,{"$f":"N11","v":211},{"$f":"COUNTIF(L7:L19,T11)","v":4},null,null,null,{"$f":"N11","v":211},{"$f":"COUNTIF(L20:L32,Y11)","v":9},null,null,null,{"$f":"N11","v":211},{"$f":"COUNTIF(L33:L46,AD11)","v":5},null,null,null,{"$f":"N11","v":211},{"$f":"COUNTIF(L47:L59,AI11)","v":5},null,null,null,{"$f":"N11","v":211},{"$f":"COUNTIF(L60:L72,AN11)","v":5},null,null,null,{"$f":"N11","v":211},{"$f":"COUNTIF(L73:L85,AS11)","v":5}]
[21,662,11,670,11,686,null,null,null,null,0,211,null,212,{"$f":"COUNTIF($L$7:$L$500,N12)","v":2},{"$f":"O12/$Q$4","v":2.5316455696202531E-2},{"$f":"IF(P12=0,0,(P12*((LOG(P12))/LOG(2))))","v":-0.13427293033359755},null,null,{"$f":"N12","v":212},{"$f":"COUNTIF(L7:L19,T12)","v":0},{"$f":"U12/(W4-U11)","v":0},{"$f":"IF(V12=0,0,(V12*((LOG(V12))/LOG(2))))","v":0},null,{"$f":"N12","v":212},{"$f":"COUNTIF(L20:L32,Y12)","v":0},{"$f":"Z12/(AB4-Z11)","v":0},{"$f":"IF(AA12=0,0,(AA12*((LOG(AA12))/LOG(2))))","v":0},null,{"$f":"N12","v":212},{"$f":"COUNTIF(L33:L46,AD12)","v":0},{"$f":"AE12/(AG4-AE11)","v":0},{"$f":"IF(AF12=0,0,(AF12*((LOG(AF12))/LOG(2))))","v":0},null,{"$f":"N12","v":212},{"$f":"COUNTIF(L47:L59,AI12)","v":0},{"$f":"AJ12/(AL4-AJ11)","v":0},{"$f":"IF(AK12=0,0,(AK12*((LOG(AK12))/LOG(2))))","v":0},null,{"$f":"N12","v":212},{"$f":"COUNTIF(L60:L72,AN12)","v":2},{"$f":"AO12/(AQ4-AO11)","v":0.25},{"$f":"IF(AP12=0,0,(AP12*((LOG(AP12))/LOG(2))))","v":-0.5},null,{"$f":"N12","v":212},{"$f":"COUNTIF(L73:L85,AS12)","v":0},{"$f":"AT12/(AV4-AT11)","v":0},{"$f":"IF(AU12=0,0,(AU12*((LOG(AU12))/LOG(2))))","v":0}]
[21,779,11,795,11,805,null,null,null,null,0,211,null,221,{"$f":"COUNTIF($L$7:$L$500,N13)","v":8},{"$f":"O13/$Q$4","v":0.10126582278481013},{"$f":"IF(P13=0,0,(P13*((LOG(P13))/LOG(2))))","v":-0.33456007576476993},null,null,{"$f":"N13","v":221},{"$f":"COUNTIF(L7:L19,T13)","v":0},{"$f":"U13/(W4-U11)","v":0},{"$f":"IF(V13=0,0,(V13*((LOG(V13))/LOG(2))))","v":0},null,{"$f":"N13","v":221},{"$f":"COUNTIF(L20:L32,Y13)","v":0},{"$f":"Z13/(AB4-Z11)","v":0},{"$f":"IF(AA13=0,0,(AA13*((LOG(AA13))/LOG(2))))","v":0},null,{"$f":"N13","v":221},{"$f":"COUNTIF(L33:L46,AD13)","v":3},{"$f":"AE13/(AG4-AE11)","v":0.33333333333333331},{"$f":"IF(AF13=0,0,(AF13*((LOG(AF13))/LOG(2))))","v":-0.52832083357371862},null,{"$f":"N13","v":221},{"$f":"COUNTIF(L47:L59,AI13)","v":0},{"$f":"AJ13/(AL4-AJ11)","v":0},{"$f":"IF(AK13=0,0,(AK13*((LOG(AK13))/LOG(2))))","v":0},null,{"$f":"N13","v":221},{"$f":"COUNTIF(L60:L72,AN13)","v":1},{"$f":"AO13/(AQ4-AO11)","v":0.125},{"$f":"IF(AP13=0,0,(AP13*((LOG(AP13))/LOG(2))))","v":-0.375},null,{"$f":"N13","v":221},{"$f":"COUNTIF(L73:L85,AS13)","v":4},{"$f":"AT13/(AV4-AT11)","v":0.5},{"$f":"IF(AU13=0,0,(AU13*((LOG(AU13))/LOG(2))))","v":-0.5}]
[12,910,13,921,13,946,null,null,null,null,0,111,null,222,{"$f":"COUNTIF($L$7:$L$500,N14)","v":1},{"$f":"O14/$Q$4","v":1.2658227848101266E-2},{"$f":"IF(P14=0,0,(P14*((LOG(P14))/LOG(2))))","v":-7.9794693014900039E-2},null,null,{"$f":"N14","v":222},{"$f":"COUNTIF(L7:L19,T14)","v":1},{"$f":"U14/(W4-U11)","v":0.1111111111111111},{"$f":"IF(V14=0,0,(V14*((LOG(V14))/LOG(2))))","v":-0.3522138890491458},null,{"$f":"N14","v":222},{"$f":"COUNTIF(L20:L32,Y14)","v":0},{"$f":"Z14/(AB4-Z11)","v":0},{"$f":"IF(AA14=0,0,(AA14*((LOG(AA14))/LOG(2))))","v":0},null,{"$f":"N14","v":222},{"$f":"COUNTIF(L33:L46,AD14)","v":0},{"$f":"AE14/(AG4-AE11)","v":0},{"$f":"IF(AF14=0,0,(AF14*((LOG(AF14))/LOG(2))))","v":0},null,{"$f":"N14","v":222},{"$f":"COUNTIF(L47:L59,AI14)","v":0},{"$f":"AJ14/(AL4-AJ11)","v":0},{"$f":"IF(AK14=0,0,(AK14*((LOG(AK14))/LOG(2))))","v":0},null,{"$f":"N14","v":222},{"$f":"COUNTIF(L60:L72,AN14)","v":0},{"$f":"AO14/(AQ4-AO11)","v":0},{"$f":"IF(AP14=0,0,(AP14*((LOG(AP14))/LOG(2))))","v":0},null,{"$f":"N14","v":222},{"$f":"COUNTIF(L73:L85,AS14)","v":0},{"$f":"AT14/(AV4-AT11)","v":0},{"$f":"IF(AU14=0,0,(AU14*((LOG(AU14))/LOG(2))))","v":0}]
[12,1056,13,1063,13,1074,null,null,null,null,0,111,null,null,null,{"$f":"SUM(P7:P14)","v":1},{"$f":"-SUM(Q7:Q14)","v":1.7350464206118126},null,null,null,null,{"$f":"SUM(V7:V14)","v":1},{"$f":"-SUM(W7:W14)","v":0.50325833477564574},null,null,null,{"$f":"SUM(AA7:AA14)","v":1},{"$f":"-SUM(AB7:AB14)","v":1},null,null,null,{"$f":"SUM(AF7:AF14)","v":1},{"$f":"-SUM(AG7:AG14)","v":0.91829583405448945},null,null,null,{"$f":"SUM(AK7:AK14)","v":1},{"$f":"-SUM(AL7:AL14)","v":0},null,null,null,{"$f":"SUM(AP7:AP14)","v":1},{"$f":"-SUM(AQ7:AQ14)","v":1.2987949406953985},null,null,null,{"$f":"SUM(AU7:AU14)","v":1},{"$f":"-SUM(AV7:AV14)","v":1}]
[12,1203,13,1213,13,1232,null,null,null,null,0,111,null,null,null,"U=",{"$f":"Q15/(LOG(Q4)/LOG(2))","v":0.27523901765040687},null,null,null,null,"U1=",{"$f":"W15/(LOG(W4)/LOG(2))","v":0.13599960358993674},null,null,null,"U2=",{"$f":"AB15/(LOG(AB4)/LOG(2))","v":0.27023815442731974},null,null,null,"U3=",{"$f":"AG15/(LOG(AG4)/LOG(2))","v":0.24118997384100352},null,null,null,"U4=",{"$f":"AL15/(LOG(AL4)/LOG(2))","v":0},null,null,null,"U5=",{"$f":"AQ15/(LOG(AQ4)/LOG(2))","v":0.35098394775306468},null,null,null,"U6=",{"$f":"AV15/(LOG(AV4)/LOG(2))","v":0.27023815442731974}]
[12,1348,13,1357,13,1367,null,null,null,null,0,111]
[12,1488,13,1499,13,1512,null,null,null,null,0,111]
[12,1623,13,1634,13,1644,null,null,null,null,0,111,null,"Total Target Seq"]
[12,1764,13,1775,24,1789,null,null,null,null,0,112,null,{"$f":"COUNTIF(L7:L85,G3)","v":33},null,13,13,14,13,13,13]
[21,1887,11,1897,11,1910,null,null,null,null,0,211,null,null,null,"% of reinforcement given in 6 equal intervals based on number of trials "]
[21,2012,11,2027,11,2042,null,null,null,null,0,211,null,null,null,"%_1","%_2","%_3","%_4","%_5","%_6"]
[21,2135,11,2149,11,2159,null,null,null,null,0,211,null,null,"target sequence",{"$f":"$G$3","v":211},{"$f":"$G$3","v":211},{"$f":"$G$3","v":211},{"$f":"$G$3","v":211},{"$f":"$G$3","v":211},{"$f":"$G$3","v":211}]
[12,2265,13,2282,13,2300,null,null,null,null,0,111,null,null,"total reinforcement",{"$f":"U11","v":4},{"$f":"Z11","v":9},{"$f":"AE11","v":5},{"$f":"AJ11","v":5},{"$f":"AO11","v":5},{"$f":"AT11","v":5}]
[12,2411,13,2426,24,2455,null,null,null,null,0,112,null,null,"% target"]
[21,2547,11,2564,11,2578,null,null,null,null,0,211,null,null,"CCRF"]
[21,2674,11,2687,11,2701,null,null,null,null,0,211,null,null,"% CCRf"]
[12,2812,13,2822,13,2836,null,null,null,null,0,111,null,null,"average response rate",{"$f":"F19/P20","v":126.46153846153847},{"$f":"(F32-F19)/Q20","v":134.46153846153845},{"$f":"(F46-F32)/R20","v":131.42857142857142},{"$f":"(F59-F46)/S20","v":137.53846153846155},{"$f":"(F72-F59)/T20","v":137.76923076923077},{"$f":"(F85-F72)/U20","v":119.46153846153847}]
[21,2944,11,2958,11,2969,null,null,null,null,0,211]
[21,3065,11,3079,11,3101,null,null,null,null,0,211]
[21,3197,11,3247,11,3261,null,null,null,null,0,211]
[21,3358,11,3378,11,3392,null,null,null,null,0,211]
[21,3489,11,3527,11,3537,null,null,null,null,0,211]
[12,3644,13,3659,13,3670,null,null,null,null,0,111]
[21,3769,22,3774,13,3783,null,null,null,null,0,221]
[21,3881,22,3885,13,3895,null,null,null,null,0,221]
[21,3999,11,4007,11,4030,null,null,null,null,0,211]
[21,4123,11,4138,11,4148,null,null,null,null,0,211]
[12,4260,13,4285,13,4295,null,null,null,null,0,111]
[12,4417,13,4451,13,4465,null,null,null,null,0,111]
[12,4590,13,4600,13,4614,null,null,null,null,0,111]
[21,4717,11,4728,11,4738,null,null,null,null,0,211]
[12,4847,13,4857,13,4869,null,null,null,null,0,111]
[21,4970,11,4979,11,4990,null,null,null,null,0,211]
[21,5080,22,5085,13,5101,null,null,null,null,0,221]
[12,5208,13,5219,13,5232,null,null,null,null,0,111]
[12,5344,13,5355,13,5369,null,null,null,null,0,111]
[21,5462,11,5475,11,5520,null,null,null,null,0,211]
[12,5625,13,5636,13,5646,null,null,null,null,0,111]
[12,5751,13,5765,13,5776,null,null,null,null,0,111]
[21,5879,11,5888,11,5902,null,null,null,null,0,211]
[21,5994,11,6020,11,6031,null,null,null,null,0,211]
[21,6123,11,6140,11,6153,null,null,null,null,0,211]
[12,6305,13,6319,13,6334,null,null,null,null,0,111]
[12,6451,13,6465,13,6480,null,null,null,null,0,111]
[12,6586,13,6597,13,6614,null,null,null,null,0,111]
[12,6724,13,6744,13,6762,null,null,null,null,0,111]
[21,6857,11,6875,11,6884,null,null,null,null,0,211]
[12,6996,13,7006,13,7020,null,null,null,null,0,111]
[12,7135,13,7160,13,7174,null,null,null,null,0,111]
[12,7286,13,7297,13,7306,null,null,null,null,0,111]
[12,7416,13,7427,13,7495,null,null,null,null,0,111]
[21,7593,11,7604,11,7615,null,null,null,null,0,211]
[21,7707,11,7726,11,7740,null,null,null,null,0,211]
[12,7853,13,7863,13,7880,null,null,null,null,0,111]
[21,7977,11,7990,11,8001,null,null,null,null,0,211]
[21,8092,11,8108,11,8122,null,null,null,null,0,211]
[12,8231,13,8242,13,8255,null,null,null,null,0,111]
[21,8350,22,8359,13,8368,null,null,null,null,0,221]
[21,8470,11,8477,22,8497,null,null,null,null,0,212]
[21,8610,11,8644,22,8662,null,null,null,null,0,212]
[21,8784,11,8795,11,8811,null,null,null,null,0,211]
[21,8902,22,8906,13,8916,null,null,null,null,0,221]
[21,9015,11,9026,11,9040,null,null,null,null,0,211]
[21,9137,22,9146,13,9159,null,null,null,null,0,221]
[12,9260,13,9267,13,9280,null,null,null,null,0,111]
[21,9383,11,9395,11,9405,null,null,null,null,0,211]
[12,9509,13,9519,13,9533,null,null,null,null,0,111]
[21,9629,22,9633,13,9643,null,null,null,null,0,221]
[21,9737,22,9742,13,9751,null,null,null,null,0,221]
[12,9851,13,9862,13,9871,null,null,null,null,0,111]
[21,9967,11,9979,11,9994,null,null,null,null,0,211]
[12,10102,13,10118,13,10132,null,null,null,null,0,111]
[21,10231,11,10239,11,10248,null,null,null,null,0,211]
[21,10347,11,10354,11,10364,null,null,null,null,1,211]

{"sheet":"!MC22A20.096","index":17,"n_rows":74,"n_cols":48,"rows_kept":74,"cut":false,"hidden":false,"merged":[[4,39,4,42],[5,39,5,40],[4,44,4,47],[5,44,5,45],[4,24,4,27],[5,24,5,25],[4,29,4,32],[5,29,5,30],[4,34,4,37],[5,34,5,35],[1,1,1,2],[5,13,5,14],[18,13,18,14],[19,13,19,14],[4,19,4,22],[5,19,5,20]]}
["Report for:!MC22A20.096"]
["Date:","<date>"]
["Hen:","<hen>",null,null,null,"Correct Sequence",{"$f":"Start!J2","v":211},null,null,null,null,null,null,null,null,"Total Sequences in Data",{"$f":"4994-COUNTBLANK(L7:L5000)","v":68},null,null,null,null,"Total Sequences in Block Data",{"$f":"COUNTA(L7:L17)","v":11},null,null,null,"Total Sequences in Block Data",{"$f":"COUNTA(L18:L29)","v":12},null,null,null,"Total Sequences in Block Data",{"$f":"COUNTA(L30:L40)","v":11},null,null,null,"Total Sequences in Block Data",{"$f":"COUNTA(L41:L51)","v":11},null,null,null,"Total Sequences in Block Data",{"$f":"COUNTA(L52:L63)","v":12},null,null,null,"Total Sequences in Block Data",{"$f":"COUNTA(L64:L74)","v":11}]
[null,null,null,null,null,null,null,null,null,null,null,null,null,null,null,"Total Sequences in Summary",{"$f":"SUM(O7:O14)","v":68},null,null,null,null,"Total Sequences in Block Summary",{"$f":"SUM(U7:U14)","v":11},null,null,null,"Total Sequences in Block Summary",{"$f":"SUM(Z7:Z14)","v":12},null,null,null,"Total Sequences in Block Summary",{"$f":"SUM(AE7:AE14)","v":11},null,null,null,"Total Sequences in Block Summary",{"$f":"SUM(AJ7:AJ14)","v":11},null,null,null,"Total Sequences in Block Summary",{"$f":"SUM(AO7:AO14)","v":12},null,null,null,"Total Sequences in Block Summary",{"$f":"SUM(AT7:AT14)","v":11}]
[null,null,null,null,null,null,null,null,null,null,null,null,null,null,null,null,null,null,null,"Block 1",null,null,null,null,"Block 2",null,null,null,null,"Block 3",null,null,null,null,"Block 4",null,null,null,null,"Block 5",null,null,null,null,"Block 6"]
["Sequence\nComponent\n1","Time\n1","Sequence\nComponent\n2","Time\n2","Sequence\nComponent\n3","Time\n3","Sequence\nComponent\n4","Time\n4","Sequence\nComponent\n5","Time\n5","Correct?\n0=No 1=Yes","Sequence",null,"Frequency",null,"Relative Frequency","Variability",null,null,"Frequency",null,"Relative Frequency","Variability",null,"Frequency",null,"Relative Frequency","Variability",null,"Frequency",null,"Relative Frequency","Variability",null,"Frequency",null,"Relative Frequency","Variability",null,"Frequency",null,"Relative Frequency","Variability",null,"Frequency",null,"Relative Frequency","Variability"]
[21,24,22,32,24,42,null,null,null,null,0,222,null,111,{"$f":"COUNTIF($L$7:$L$500,N7)","v":22},{"$f":"O7/$Q$4","v":0.3235294117647059},{"$f":"IF(P7=0,0,(P7*((LOG(P7))/LOG(2))))","v":-0.52671598378657247},null,null,{"$f":"N7","v":111},{"$f":"COUNTIF(L7:L17,T7)","v":4},{"$f":"U7/(W4-U11)","v":0.66666666666666663},{"$f":"IF(V7=0,0,(V7*((LOG(V7))/LOG(2))))","v":-0.38997500048077083},null,{"$f":"N7","v":111},{"$f":"COUNTIF(L18:L29,Y7)","v":4},{"$f":"Z7/(AB4-Z11)","v":1},{"$f":"IF(AA7=0,0,(AA7*((LOG(AA7))/LOG(2))))","v":0},null,{"$f":"N7","v":111},{"$f":"COUNTIF(L30:L40,AD7)","v":4},{"$f":"AE7/(AG4-AE11)","v":0.66666666666666663},{"$f":"IF(AF7=0,0,(AF7*((LOG(AF7))/LOG(2))))","v":-0.38997500048077083},null,{"$f":"N7","v":111},{"$f":"COUNTIF(L41:L51,AI7)","v":2},{"$f":"AJ7/(AL4-AJ11)","v":0.5},{"$f":"IF(AK7=0,0,(AK7*((LOG(AK7))/LOG(2))))","v":-0.5},null,{"$f":"N7","v":111},{"$f":"COUNTIF(L52:L63,AN7)","v":6},{"$f":"AO7/(AQ4-AO11)","v":0.75},{"$f":"IF(AP7=0,0,(AP7*((LOG(AP7))/LOG(2))))","v":-0.31127812445913283},null,{"$f":"N7","v":111},{"$f":"COUNTIF(L64:L74,AS7)","v":2},{"$f":"AT7/(AV4-AT11)","v":0.4},{"$f":"IF(AU7=0,0,(AU7*((LOG(AU7))/LOG(2))))","v":-0.52877123795494496}]
[21,149,11,160,11,170,null,null,null,null,0,211,null,112,{"$f":"COUNTIF($L$7:$L$500,N8)","v":1},{"$f":"O8/$Q$4","v":1.4705882352941176E-2},{"$f":"IF(P8=0,0,(P8*((LOG(P8))/LOG(2))))","v":-8.9521512371328521E-2},null,null,{"$f":"N8","v":112},{"$f":"COUNTIF(L7:L17,T8)","v":0},{"$f":"U8/(W4-U11)","v":0},{"$f":"IF(V8=0,0,(V8*((LOG(V8))/LOG(2))))","v":0},null,{"$f":"N8","v":112},{"$f":"COUNTIF(L18:L29,Y8)","v":0},{"$f":"Z8/(AB4-Z11)","v":0},{"$f":"IF(AA8=0,0,(AA8*((LOG(AA8))/LOG(2))))","v":0},null,{"$f":"N8","v":112},{"$f":"COUNTIF(L30:L40,AD8)","v":0},{"$f":"AE8/(AG4-AE11)","v":0},{"$f":"IF(AF8=0,0,(AF8*((LOG(AF8))/LOG(2))))","v":0},null,{"$f":"N8","v":112},{"$f":"COUNTIF(L41:L51,AI8)","v":0},{"$f":"AJ8/(AL4-AJ11)","v":0},{"$f":"IF(AK8=0,0,(AK8*((LOG(AK8))/LOG(2))))","v":0},null,{"$f":"N8","v":112},{"$f":"COUNTIF(L52:L63,AN8)","v":0},{"$f":"AO8/(AQ4-AO11)","v":0},{"$f":"IF(AP8=0,0,(AP8*((LOG(AP8))/LOG(2))))","v":0},null,{"$f":"N8","v":112},{"$f":"COUNTIF(L64:L74,AS8)","v":1},{"$f":"AT8/(AV4-AT11)","v":0.2},{"$f":"IF(AU8=0,0,(AU8*((LOG(AU8))/LOG(2))))","v":-0.46438561897747244}]
[21,273,11,283,11,297,null,null,null,null,0,211,null,121,{"$f":"COUNTIF($L$7:$L$500,N9)","v":0},{"$f":"O9/$Q$4","v":0},{"$f":"IF(P9=0,0,(P9*((LOG(P9))/LOG(2))))","v":0},null,null,{"$f":"N9","v":121},{"$f":"COUNTIF(L7:L17,T9)","v":0},{"$f":"U9/(W4-U11)","v":0},{"$f":"IF(V9=0,0,(V9*((LOG(V9))/LOG(2))))","v":0},null,{"$f":"N9","v":121},{"$f":"COUNTIF(L18:L29,Y9)","v":0},{"$f":"Z9/(AB4-Z11)","v":0},{"$f":"IF(AA9=0,0,(AA9*((LOG(AA9))/LOG(2))))","v":0},null,{"$f":"N9","v":121},{"$f":"COUNTIF(L30:L40,AD9)","v":0},{"$f":"AE9/(AG4-AE11)","v":0},{"$f":"IF(AF9=0,0,(AF9*((LOG(AF9))/LOG(2))))","v":0},null,{"$f":"N9","v":121},{"$f":"COUNTIF(L41:L51,AI9)","v":0},{"$f":"AJ9/(AL4-AJ11)","v":0},{"$f":"IF(AK9=0,0,(AK9*((LOG(AK9))/LOG(2))))","v":0},null,{"$f":"N9","v":121},{"$f":"COUNTIF(L52:L63,AN9)","v":0},{"$f":"AO9/(AQ4-AO11)","v":0},{"$f":"IF(AP9=0,0,(AP9*((LOG(AP9))/LOG(2))))","v":0},null,{"$f":"N9","v":121},{"$f":"COUNTIF(L64:L74,AS9)","v":0},{"$f":"AT9/(AV4-AT11)","v":0},{"$f":"IF(AU9=0,0,(AU9*((LOG(AU9))/LOG(2))))","v":0}]
[12,405,13,416,13,430,null,null,null,null,0,111,null,122,{"$f":"COUNTIF($L$7:$L$500,N10)","v":0},{"$f":"O10/$Q$4","v":0},{"$f":"IF(P10=0,0,(P10*((LOG(P10))/LOG(2))))","v":0},null,null,{"$f":"N10","v":122},{"$f":"COUNTIF(L7:L17,T10)","v":0},{"$f":"U10/(W4-U11)","v":0},{"$f":"IF(V10=0,0,(V10*((LOG(V10))/LOG(2))))","v":0},null,{"$f":"N10","v":122},{"$f":"COUNTIF(L18:L29,Y10)","v":0},{"$f":"Z10/(AB4-Z11)","v":0},{"$f":"IF(AA10=0,0,(AA10*((LOG(AA10))/LOG(2))))","v":0},null,{"$f":"N10","v":122},{"$f":"COUNTIF(L30:L40,AD10)","v":0},{"$f":"AE10/(AG4-AE11)","v":0},{"$f":"IF(AF10=0,0,(AF10*((LOG(AF10))/LOG(2))))","v":0},null,{"$f":"N10","v":122},{"$f":"COUNTIF(L41:L51,AI10)","v":0},{"$f":"AJ10/(AL4-AJ11)","v":0},{"$f":"IF(AK10=0,0,(AK10*((LOG(AK10))/LOG(2))))","v":0},null,{"$f":"N10","v":122},{"$f":"COUNTIF(L52:L63,AN10)","v":0},{"$f":"AO10/(AQ4-AO11)","v":0},{"$f":"IF(AP10=0,0,(AP10*((LOG(AP10))/LOG(2))))","v":0},null,{"$f":"N10","v":122},{"$f":"COUNTIF(L64:L74,AS10)","v":0},{"$f":"AT10/(AV4-AT11)","v":0},{"$f":"IF(AU10=0,0,(AU10*((LOG(AU10))/LOG(2))))","v":0}]
[21,536,11,547,11,557,null,null,null,null,0,211,null,211,{"$f":"COUNTIF($L$7:$L$500,N11)","v":35},{"$f":"O11/$Q$4","v":0.51470588235294112},{"$f":"IF(P11=0,0,(P11*((LOG(P11))/LOG(2))))","v":-0.49318079192188313},null,null,{"$f":"N11","v":211},{"$f":"COUNTIF(L7:L17,T11)","v":5},null,null,null,{"$f":"N11","v":211},{"$f":"COUNTIF(L18:L29,Y11)","v":8},null,null,null,{"$f":"N11","v":211},{"$f":"COUNTIF(L30:L40,AD11)","v":5},null,null,null,{"$f":"N11","v":211},{"$f":"COUNTIF(L41:L51,AI11)","v":7},null,null,null,{"$f":"N11","v":211},{"$f":"COUNTIF(L52:L63,AN11)","v":4},null,null,null,{"$f":"N11","v":211},{"$f":"COUNTIF(L64:L74,AS11)","v":6}]
[12,674,13,688,13,702,null,null,null,null,0,111,null,212,{"$f":"COUNTIF($L$7:$L$500,N12)","v":0},{"$f":"O12/$Q$4","v":0},{"$f":"IF(P12=0,0,(P12*((LOG(P12))/LOG(2))))","v":0},null,null,{"$f":"N12","v":212},{"$f":"COUNTIF(L7:L17,T12)","v":0},{"$f":"U12/(W4-U11)","v":0},{"$f":"IF(V12=0,0,(V12*((LOG(V12))/LOG(2))))","v":0},null,{"$f":"N12","v":212},{"$f":"COUNTIF(L18:L29,Y12)","v":0},{"$f":"Z12/(AB4-Z11)","v":0},{"$f":"IF(AA12=0,0,(AA12*((LOG(AA12))/LOG(2))))","v":0},null,{"$f":"N12","v":212},{"$f":"COUNTIF(L30:L40,AD12)","v":0},{"$f":"AE12/(AG4-AE11)","v":0},{"$f":"IF(AF12=0,0,(AF12*((LOG(AF12))/LOG(2))))","v":0},null,{"$f":"N12","v":212},{"$f":"COUNTIF(L41:L51,AI12)","v":0},{"$f":"AJ12/(AL4-AJ11)","v":0},{"$f":"IF(AK12=0,0,(AK12*((LOG(AK12))/LOG(2))))","v":0},null,{"$f":"N12","v":212},{"$f":"COUNTIF(L52:L63,AN12)","v":0},{"$f":"AO12/(AQ4-AO11)","v":0},{"$f":"IF(AP12=0,0,(AP12*((LOG(AP12))/LOG(2))))","v":0},null,{"$f":"N12","v":212},{"$f":"COUNTIF(L64:L74,AS12)","v":0},{"$f":"AT12/(AV4-AT11)","v":0},{"$f":"IF(AU12=0,0,(AU12*((LOG(AU12))/LOG(2))))","v":0}]
[21,792,22,797,13,807,null,null,null,null,0,221,null,221,{"$f":"COUNTIF($L$7:$L$500,N13)","v":9},{"$f":"O13/$Q$4","v":0.13235294117647059},{"$f":"IF(P13=0,0,(P13*((LOG(P13))/LOG(2))))","v":-0.38614471409223888},null,null,{"$f":"N13","v":221},{"$f":"COUNTIF(L7:L17,T13)","v":1},{"$f":"U13/(W4-U11)","v":0.16666666666666666},{"$f":"IF(V13=0,0,(V13*((LOG(V13))/LOG(2))))","v":-0.43082708345352599},null,{"$f":"N13","v":221},{"$f":"COUNTIF(L18:L29,Y13)","v":0},{"$f":"Z13/(AB4-Z11)","v":0},{"$f":"IF(AA13=0,0,(AA13*((LOG(AA13))/LOG(2))))","v":0},null,{"$f":"N13","v":221},{"$f":"COUNTIF(L30:L40,AD13)","v":2},{"$f":"AE13/(AG4-AE11)","v":0.33333333333333331},{"$f":"IF(AF13=0,0,(AF13*((LOG(AF13))/LOG(2))))","v":-0.52832083357371862},null,{"$f":"N13","v":221},{"$f":"COUNTIF(L41:L51,AI13)","v":2},{"$f":"AJ13/(AL4-AJ11)","v":0.5},{"$f":"IF(AK13=0,0,(AK13*((LOG(AK13))/LOG(2))))","v":-0.5},null,{"$f":"N13","v":221},{"$f":"COUNTIF(L52:L63,AN13)","v":2},{"$f":"AO13/(AQ4-AO11)","v":0.25},{"$f":"IF(AP13=0,0,(AP13*((LOG(AP13))/LOG(2))))","v":-0.5},null,{"$f":"N13","v":221},{"$f":"COUNTIF(L64:L74,AS13)","v":2},{"$f":"AT13/(AV4-AT11)","v":0.4},{"$f":"IF(AU13=0,0,(AU13*((LOG(AU13))/LOG(2))))","v":-0.52877123795494496}]
[21,897,11,919,11,929,null,null,null,null,0,211,null,222,{"$f":"COUNTIF($L$7:$L$500,N14)","v":1},{"$f":"O14/$Q$4","v":1.4705882352941176E-2},{"$f":"IF(P14=0,0,(P14*((LOG(P14))/LOG(2))))","v":-8.9521512371328521E-2},null,null,{"$f":"N14","v":222},{"$f":"COUNTIF(L7:L17,T14)","v":1},{"$f":"U14/(W4-U11)","v":0.16666666666666666},{"$f":"IF(V14=0,0,(V14*((LOG(V14))/LOG(2))))","v":-0.43082708345352599},null,{"$f":"N14","v":222},{"$f":"COUNTIF(L18:L29,Y14)","v":0},{"$f":"Z14/(AB4-Z11)","v":0},{"$f":"IF(AA14=0,0,(AA14*((LOG(AA14))/LOG(2))))","v":0},null,{"$f":"N14","v":222},{"$f":"COUNTIF(L30:L40,AD14)","v":0},{"$f":"AE14/(AG4-AE11)","v":0},{"$f":"IF(AF14=0,0,(AF14*((LOG(AF14))/LOG(2))))","v":0},null,{"$f":"N14","v":222},{"$f":"COUNTIF(L41:L51,AI14)","v":0},{"$f":"AJ14/(AL4-AJ11)","v":0},{"$f":"IF(AK14=0,0,(AK14*((LOG(AK14))/LOG(2))))","v":0},null,{"$f":"N14","v":222},{"$f":"COUNTIF(L52:L63,AN14)","v":0},{"$f":"AO14/(AQ4-AO11)","v":0},{"$f":"IF(AP14=0,0,(AP14*((LOG(AP14))/LOG(2))))","v":0},null,{"$f":"N14","v":222},{"$f":"COUNTIF(L64:L74,AS14)","v":0},{"$f":"AT14/(AV4-AT11)","v":0},{"$f":"IF(AU14=0,0,(AU14*((LOG(AU14))/LOG(2))))","v":0}]
[12,1038,13,1047,13,1061,null,null,null,null,0,111,null,null,null,{"$f":"SUM(P7:P14)","v":0.99999999999999989},{"$f":"-SUM(Q7:Q14)","v":1.5850845145433516},null,null,null,null,{"$f":"SUM(V7:V14)","v":0.99999999999999989},{"$f":"-SUM(W7:W14)","v":1.2516291673878228},null,null,null,{"$f":"SUM(AA7:AA14)","v":1},{"$f":"-SUM(AB7:AB14)","v":0},null,null,null,{"$f":"SUM(AF7:AF14)","v":1},{"$f":"-SUM(AG7:AG14)","v":0.91829583405448945},null,null,null,{"$f":"SUM(AK7:AK14)","v":1},{"$f":"-SUM(AL7:AL14)","v":1},null,null,null,{"$f":"SUM(AP7:AP14)","v":1},{"$f":"-SUM(AQ7:AQ14)","v":0.81127812445913283},null,null,null,{"$f":"SUM(AU7:AU14)","v":1},{"$f":"-SUM(AV7:AV14)","v":1.5219280948873624}]
[21,1161,11,1173,11,1183,null,null,null,null,0,211,null,null,null,"U=",{"$f":"Q15/(LOG(Q4)/LOG(2))","v":0.26038508256713755},null,null,null,null,"U1=",{"$f":"W15/(LOG(W4)/LOG(2))","v":0.36180196788536356},null,null,null,"U2=",{"$f":"AB15/(LOG(AB4)/LOG(2))","v":0},null,null,null,"U3=",{"$f":"AG15/(LOG(AG4)/LOG(2))","v":0.26544702577940094},null,null,null,"U4=",{"$f":"AL15/(LOG(AL4)/LOG(2))","v":0.28906482631788782},null,null,null,"U5=",{"$f":"AQ15/(LOG(AQ4)/LOG(2))","v":0.22630030977895443},null,null,null,"U6=",{"$f":"AV15/(LOG(AV4)/LOG(2))","v":0.43993588041692927}]
[12,1289,13,1298,13,1312,null,null,null,null,0,111]
[12,1419,13,1429,13,1436,null,null,null,null,0,111]
[12,1548,13,1558,13,1567,null,null,null,null,0,111,null,"Total Target Seq"]
[21,1670,11,1678,11,1688,null,null,null,null,0,211,null,{"$f":"COUNTIF(L7:L74,G3)","v":35},null,11,12,11,11,12,11]
[21,1788,11,1801,11,1819,null,null,null,null,0,211,null,null,null,"% of reinforcement given in 6 equal intervals based on number of trials "]
[21,1909,11,1934,11,1944,null,null,null,null,0,211,null,null,null,"%_1","%_2","%_3","%_4","%_5","%_6"]
[21,2038,11,2048,11,2058,null,null,null,null,0,211,null,null,"target sequence",{"$f":"$G$3","v":211},{"$f":"$G$3","v":211},{"$f":"$G$3","v":211},{"$f":"$G$3","v":211},{"$f":"$G$3","v":211},{"$f":"$G$3","v":211}]
[12,2165,13,2186,13,2224,null,null,null,null,0,111,null,null,"total reinforcement",{"$f":"U11","v":5},{"$f":"Z11","v":8},{"$f":"AE11","v":5},{"$f":"AJ11","v":7},{"$f":"AO11","v":4},{"$f":"AT11","v":6}]
[21,2334,11,2343,11,2352,null,null,null,null,0,211,null,null,"% target"]
[21,2450,11,2469,11,2478,null,null,null,null,0,211,null,null,"CCRF"]
[21,2571,11,2578,11,2588,null,null,null,null,0,211,null,null,"% CCRf"]
[12,2696,13,2705,13,2719,null,null,null,null,0,111,null,null,"average response rate",{"$f":"F17/P20","v":119.27272727272727},{"$f":"(F29-F17)/Q20","v":127.75},{"$f":"(F40-F29)/R20","v":121.45454545454545},{"$f":"(F51-F40)/S20","v":124.63636363636364},{"$f":"(F63-F51)/T20","v":126.33333333333333},{"$f":"(F74-F63)/U20","v":122.09090909090909}]
[21,2817,11,2836,11,2845,null,null,null,null,0,211]
[21,2938,11,2947,11,2956,null,null,null,null,0,211]
[12,3061,13,3071,13,3084,null,null,null,null,0,111]
[12,3192,13,3210,13,3220,null,null,null,null,0,111]
[21,3324,22,3329,13,3344,null,null,null,null,0,221]
[21,3444,11,3451,11,3460,null,null,null,null,0,211]
[21,3550,22,3558,13,3569,null,null,null,null,0,221]
[12,3672,13,3680,13,3689,null,null,null,null,0,111]
[21,3796,11,3808,11,3819,null,null,null,null,0,211]
[21,3917,11,3930,11,3940,null,null,null,null,0,211]
[12,4045,13,4055,13,4068,null,null,null,null,0,111]
[21,4164,11,4171,11,4181,null,null,null,null,0,211]
[21,4271,11,4288,11,4300,null,null,null,null,0,211]
[12,4404,13,4415,13,4445,null,null,null,null,0,111]
[21,4535,22,4542,13,4556,null,null,null,null,0,221]
[12,4665,13,4675,13,4689,null,null,null,null,0,111]
[21,4789,11,4800,11,4810,null,null,null,null,0,211]
[21,4907,11,4914,11,4923,null,null,null,null,0,211]
[21,5016,11,5030,11,5039,null,null,null,null,0,211]
[21,5132,11,5157,11,5180,null,null,null,null,0,211]
[21,5288,11,5300,11,5315,null,null,null,null,0,211]
[21,5407,11,5421,11,5431,null,null,null,null,0,211]
[21,5523,22,5529,13,5552,null,null,null,null,0,221]
[12,5652,13,5659,13,5670,null,null,null,null,0,111]
[12,5780,13,5790,13,5799,null,null,null,null,0,111]
[21,5899,11,5912,11,5935,null,null,null,null,0,211]
[21,6027,22,6031,13,6045,null,null,null,null,0,221]
[21,6143,11,6153,11,6163,null,null,null,null,0,211]
[12,6282,13,6292,13,6309,null,null,null,null,0,111]
[12,6413,13,6423,13,6440,null,null,null,null,0,111]
[21,6538,11,6550,11,6561,null,null,null,null,0,211]
[21,6653,22,6657,13,6668,null,null,null,null,0,221]
[21,6774,11,6785,11,6794,null,null,null,null,0,211]
[12,6909,13,6918,13,6931,null,null,null,null,0,111]
[12,7042,13,7051,13,7068,null,null,null,null,0,111]
[21,7165,11,7176,11,7186,null,null,null,null,0,211]
[21,7278,11,7288,11,7297,null,null,null,null,0,211]
[12,7410,13,7416,13,7435,null,null,null,null,0,111]
[21,7525,22,7529,13,7544,null,null,null,null,0,221]
[21,7647,11,7654,11,7664,null,null,null,null,0,211]
[21,7759,11,7766,11,7776,null,null,null,null,0,211]
[21,7868,11,7879,11,7922,null,null,null,null,0,211]
[12,8023,13,8032,13,8044,null,null,null,null,0,111]
[21,8139,22,8144,13,8154,null,null,null,null,0,221]
[12,8253,13,8276,24,8292,null,null,null,null,0,112]
[21,8391,11,8401,11,8411,null,null,null,null,1,211]

{"sheet":"!MC23A50.096","index":18,"n_rows":88,"n_cols":48,"rows_kept":88,"cut":false,"hidden":false,"merged":[[4,39,4,42],[5,39,5,40],[4,44,4,47],[5,44,5,45],[4,24,4,27],[5,24,5,25],[4,29,4,32],[5,29,5,30],[4,34,4,37],[5,34,5,35],[1,1,1,2],[5,13,5,14],[18,13,18,14],[19,13,19,14],[4,19,4,22],[5,19,5,20]]}
["Report for:!MC23A50.096"]
["Date:","<date>"]
["Hen:","<hen>",null,null,null,"Correct Sequence",{"$f":"Start!J2","v":211},null,null,null,null,null,null,null,null,"Total Sequences in Data",{"$f":"4994-COUNTBLANK(L7:L5000)","v":82},null,null,null,null,"Total Sequences in Block Data",{"$f":"COUNTA(L7:L20)","v":14},null,null,null,"Total Sequences in Block Data",{"$f":"COUNTA(L21:L33)","v":13},null,null,null,"Total Sequences in Block Data",{"$f":"COUNTA(L34:L47)","v":14},null,null,null,"Total Sequences in Block Data",{"$f":"COUNTA(L48:L61)","v":14},null,null,null,"Total Sequences in Block Data",{"$f":"COUNTA(L62:L74)","v":13},null,null,null,"Total Sequences in Block Data",{"$f":"COUNTA(L75:L88)","v":14}]
[null,null,null,null,null,null,null,null,null,null,null,null,null,null,null,"Total Sequences in Summary",{"$f":"SUM(O7:O14)","v":82},null,null,null,null,"Total Sequences in Block Summary",{"$f":"SUM(U7:U14)","v":14},null,null,null,"Total Sequences in Block Summary",{"$f":"SUM(Z7:Z14)","v":13},null,null,null,"Total Sequences in Block Summary",{"$f":"SUM(AE7:AE14)","v":14},null,null,null,"Total Sequences in Block Summary",{"$f":"SUM(AJ7:AJ14)","v":14},null,null,null,"Total Sequences in Block Summary",{"$f":"SUM(AO7:AO14)","v":13},null,null,null,"Total Sequences in Block Summary",{"$f":"SUM(AT7:AT14)","v":14}]
[null,null,null,null,null,null,null,null,null,null,null,null,null,null,null,null,null,null,null,"Block 1",null,null,null,null,"Block 2",null,null,null,null,"Block 3",null,null,null,null,"Block 4",null,null,null,null,"Block 5",null,null,null,null,"Block 6"]
["Sequence\nComponent\n1","Time\n1","Sequence\nComponent\n2","Time\n2","Sequence\nComponent\n3","Time\n3","Sequence\nComponent\n4","Time\n4","Sequence\nComponent\n5","Time\n5","Correct?\n0=No 1=Yes","Sequence",null,"Frequency",null,"Relative Frequency","Variability",null,null,"Frequency",null,"Relative Frequency","Variability",null,"Frequency",null,"Relative Frequency","Variability",null,"Frequency",null,"Relative Frequency","Variability",null,"Frequency",null,"Relative Frequency","Variability",null,"Frequency",null,"Relative Frequency","Variability",null,"Frequency",null,"Relative Frequency","Variability"]
[12,11,13,22,24,37,null,null,null,null,0,112,null,111,{"$f":"COUNTIF($L$7:$L$500,N7)","v":20},{"$f":"O7/$Q$4","v":0.24390243902439024},{"$f":"IF(P7=0,0,(P7*((LOG(P7))/LOG(2))))","v":-0.49649363651968809},null,null,{"$f":"N7","v":111},{"$f":"COUNTIF(L7:L20,T7)","v":3},{"$f":"U7/(W4-U11)","v":0.42857142857142855},{"$f":"IF(V7=0,0,(V7*((LOG(V7))/LOG(2))))","v":-0.52388246628704915},null,{"$f":"N7","v":111},{"$f":"COUNTIF(L21:L33,Y7)","v":7},{"$f":"Z7/(AB4-Z11)","v":0.77777777777777779},{"$f":"IF(AA7=0,0,(AA7*((LOG(AA7))/LOG(2))))","v":-0.28199895063255082},null,{"$f":"N7","v":111},{"$f":"COUNTIF(L34:L47,AD7)","v":4},{"$f":"AE7/(AG4-AE11)","v":0.5714285714285714},{"$f":"IF(AF7=0,0,(AF7*((LOG(AF7))/LOG(2))))","v":-0.46134566974720237},null,{"$f":"N7","v":111},{"$f":"COUNTIF(L48:L61,AI7)","v":3},{"$f":"AJ7/(AL4-AJ11)","v":0.375},{"$f":"IF(AK7=0,0,(AK7*((LOG(AK7))/LOG(2))))","v":-0.53063906222956647},null,{"$f":"N7","v":111},{"$f":"COUNTIF(L62:L74,AN7)","v":2},{"$f":"AO7/(AQ4-AO11)","v":0.33333333333333331},{"$f":"IF(AP7=0,0,(AP7*((LOG(AP7))/LOG(2))))","v":-0.52832083357371862},null,{"$f":"N7","v":111},{"$f":"COUNTIF(L75:L88,AS7)","v":1},{"$f":"AT7/(AV4-AT11)","v":9.0909090909090912E-2},{"$f":"IF(AU7=0,0,(AU7*((LOG(AU7))/LOG(2))))","v":-0.31449378351248153}]
[21,138,22,147,13,156,null,null,null,null,0,221,null,112,{"$f":"COUNTIF($L$7:$L$500,N8)","v":1},{"$f":"O8/$Q$4","v":1.2195121951219513E-2},{"$f":"IF(P8=0,0,(P8*((LOG(P8))/LOG(2))))","v":-7.7531122007537603E-2},null,null,{"$f":"N8","v":112},{"$f":"COUNTIF(L7:L20,T8)","v":1},{"$f":"U8/(W4-U11)","v":0.14285714285714285},{"$f":"IF(V8=0,0,(V8*((LOG(V8))/LOG(2))))","v":-0.40105070315108626},null,{"$f":"N8","v":112},{"$f":"COUNTIF(L21:L33,Y8)","v":0},{"$f":"Z8/(AB4-Z11)","v":0},{"$f":"IF(AA8=0,0,(AA8*((LOG(AA8))/LOG(2))))","v":0},null,{"$f":"N8","v":112},{"$f":"COUNTIF(L34:L47,AD8)","v":0},{"$f":"AE8/(AG4-AE11)","v":0},{"$f":"IF(AF8=0,0,(AF8*((LOG(AF8))/LOG(2))))","v":0},null,{"$f":"N8","v":112},{"$f":"COUNTIF(L48:L61,AI8)","v":0},{"$f":"AJ8/(AL4-AJ11)","v":0},{"$f":"IF(AK8=0,0,(AK8*((LOG(AK8))/LOG(2))))","v":0},null,{"$f":"N8","v":112},{"$f":"COUNTIF(L62:L74,AN8)","v":0},{"$f":"AO8/(AQ4-AO11)","v":0},{"$f":"IF(AP8=0,0,(AP8*((LOG(AP8))/LOG(2))))","v":0},null,{"$f":"N8","v":112},{"$f":"COUNTIF(L75:L88,AS8)","v":0},{"$f":"AT8/(AV4-AT11)","v":0},{"$f":"IF(AU8=0,0,(AU8*((LOG(AU8))/LOG(2))))","v":0}]
[21,259,11,267,11,278,null,null,null,null,0,211,null,121,{"$f":"COUNTIF($L$7:$L$500,N9)","v":0},{"$f":"O9/$Q$4","v":0},{"$f":"IF(P9=0,0,(P9*((LOG(P9))/LOG(2))))","v":0},null,null,{"$f":"N9","v":121},{"$f":"COUNTIF(L7:L20,T9)","v":0},{"$f":"U9/(W4-U11)","v":0},{"$f":"IF(V9=0,0,(V9*((LOG(V9))/LOG(2))))","v":0},null,{"$f":"N9","v":121},{"$f":"COUNTIF(L21:L33,Y9)","v":0},{"$f":"Z9/(AB4-Z11)","v":0},{"$f":"IF(AA9=0,0,(AA9*((LOG(AA9))/LOG(2))))","v":0},null,{"$f":"N9","v":121},{"$f":"COUNTIF(L34:L47,AD9)","v":0},{"$f":"AE9/(AG4-AE11)","v":0},{"$f":"IF(AF9=0,0,(AF9*((LOG(AF9))/LOG(2))))","v":0},null,{"$f":"N9","v":121},{"$f":"COUNTIF(L48:L61,AI9)","v":0},{"$f":"AJ9/(AL4-AJ11)","v":0},{"$f":"IF(AK9=0,0,(AK9*((LOG(AK9))/LOG(2))))","v":0},null,{"$f":"N9","v":121},{"$f":"COUNTIF(L62:L74,AN9)","v":0},{"$f":"AO9/(AQ4-AO11)","v":0},{"$f":"IF(AP9=0,0,(AP9*((LOG(AP9))/LOG(2))))","v":0},null,{"$f":"N9","v":121},{"$f":"COUNTIF(L75:L88,AS9)","v":0},{"$f":"AT9/(AV4-AT11)","v":0},{"$f":"IF(AU9=0,0,(AU9*((LOG(AU9))/LOG(2))))","v":0}]
[21,380,11,419,11,442,null,null,null,null,0,211,null,122,{"$f":"COUNTIF($L$7:$L$500,N10)","v":0},{"$f":"O10/$Q$4","v":0},{"$f":"IF(P10=0,0,(P10*((LOG(P10))/LOG(2))))","v":0},null,null,{"$f":"N10","v":122},{"$f":"COUNTIF(L7:L20,T10)","v":0},{"$f":"U10/(W4-U11)","v":0},{"$f":"IF(V10=0,0,(V10*((LOG(V10))/LOG(2))))","v":0},null,{"$f":"N10","v":122},{"$f":"COUNTIF(L21:L33,Y10)","v":0},{"$f":"Z10/(AB4-Z11)","v":0},{"$f":"IF(AA10=0,0,(AA10*((LOG(AA10))/LOG(2))))","v":0},null,{"$f":"N10","v":122},{"$f":"COUNTIF(L34:L47,AD10)","v":0},{"$f":"AE10/(AG4-AE11)","v":0},{"$f":"IF(AF10=0,0,(AF10*((LOG(AF10))/LOG(2))))","v":0},null,{"$f":"N10","v":122},{"$f":"COUNTIF(L48:L61,AI10)","v":0},{"$f":"AJ10/(AL4-AJ11)","v":0},{"$f":"IF(AK10=0,0,(AK10*((LOG(AK10))/LOG(2))))","v":0},null,{"$f":"N10","v":122},{"$f":"COUNTIF(L62:L74,AN10)","v":0},{"$f":"AO10/(AQ4-AO11)","v":0},{"$f":"IF(AP10=0,0,(AP10*((LOG(AP10))/LOG(2))))","v":0},null,{"$f":"N10","v":122},{"$f":"COUNTIF(L75:L88,AS10)","v":0},{"$f":"AT10/(AV4-AT11)","v":0},{"$f":"IF(AU10=0,0,(AU10*((LOG(AU10))/LOG(2))))","v":0}]
[21,539,11,564,11,588,null,null,null,null,0,211,null,211,{"$f":"COUNTIF($L$7:$L$500,N11)","v":34},{"$f":"O11/$Q$4","v":0.41463414634146339},{"$f":"IF(P11=0,0,(P11*((LOG(P11))/LOG(2))))","v":-0.5266223360305281},null,null,{"$f":"N11","v":211},{"$f":"COUNTIF(L7:L20,T11)","v":7},null,null,null,{"$f":"N11","v":211},{"$f":"COUNTIF(L21:L33,Y11)","v":4},null,null,null,{"$f":"N11","v":211},{"$f":"COUNTIF(L34:L47,AD11)","v":7},null,null,null,{"$f":"N11","v":211},{"$f":"COUNTIF(L48:L61,AI11)","v":6},null,null,null,{"$f":"N11","v":211},{"$f":"COUNTIF(L62:L74,AN11)","v":7},null,null,null,{"$f":"N11","v":211},{"$f":"COUNTIF(L75:L88,AS11)","v":3}]
[21,688,11,696,11,706,null,null,null,null,0,211,null,212,{"$f":"COUNTIF($L$7:$L$500,N12)","v":2},{"$f":"O12/$Q$4","v":2.4390243902439025E-2},{"$f":"IF(P12=0,0,(P12*((LOG(P12))/LOG(2))))","v":-0.13067200011263619},null,null,{"$f":"N12","v":212},{"$f":"COUNTIF(L7:L20,T12)","v":1},{"$f":"U12/(W4-U11)","v":0.14285714285714285},{"$f":"IF(V12=0,0,(V12*((LOG(V12))/LOG(2))))","v":-0.40105070315108626},null,{"$f":"N12","v":212},{"$f":"COUNTIF(L21:L33,Y12)","v":0},{"$f":"Z12/(AB4-Z11)","v":0},{"$f":"IF(AA12=0,0,(AA12*((LOG(AA12))/LOG(2))))","v":0},null,{"$f":"N12","v":212},{"$f":"COUNTIF(L34:L47,AD12)","v":0},{"$f":"AE12/(AG4-AE11)","v":0},{"$f":"IF(AF12=0,0,(AF12*((LOG(AF12))/LOG(2))))","v":0},null,{"$f":"N12","v":212},{"$f":"COUNTIF(L48:L61,AI12)","v":0},{"$f":"AJ12/(AL4-AJ11)","v":0},{"$f":"IF(AK12=0,0,(AK12*((LOG(AK12))/LOG(2))))","v":0},null,{"$f":"N12","v":212},{"$f":"COUNTIF(L62:L74,AN12)","v":0},{"$f":"AO12/(AQ4-AO11)","v":0},{"$f":"IF(AP12=0,0,(AP12*((LOG(AP12))/LOG(2))))","v":0},null,{"$f":"N12","v":212},{"$f":"COUNTIF(L75:L88,AS12)","v":1},{"$f":"AT12/(AV4-AT11)","v":9.0909090909090912E-2},{"$f":"IF(AU12=0,0,(AU12*((LOG(AU12))/LOG(2))))","v":-0.31449378351248153}]
[12,814,13,824,13,834,null,null,null,null,0,111,null,221,{"$f":"COUNTIF($L$7:$L$500,N13)","v":22},{"$f":"O13/$Q$4","v":0.26829268292682928},{"$f":"IF(P13=0,0,(P13*((LOG(P13))/LOG(2))))","v":-0.50925181087289395},null,null,{"$f":"N13","v":221},{"$f":"COUNTIF(L7:L20,T13)","v":2},{"$f":"U13/(W4-U11)","v":0.2857142857142857},{"$f":"IF(V13=0,0,(V13*((LOG(V13))/LOG(2))))","v":-0.51638712058788683},null,{"$f":"N13","v":221},{"$f":"COUNTIF(L21:L33,Y13)","v":2},{"$f":"Z13/(AB4-Z11)","v":0.22222222222222221},{"$f":"IF(AA13=0,0,(AA13*((LOG(AA13))/LOG(2))))","v":-0.48220555587606945},null,{"$f":"N13","v":221},{"$f":"COUNTIF(L34:L47,AD13)","v":3},{"$f":"AE13/(AG4-AE11)","v":0.42857142857142855},{"$f":"IF(AF13=0,0,(AF13*((LOG(AF13))/LOG(2))))","v":-0.52388246628704915},null,{"$f":"N13","v":221},{"$f":"COUNTIF(L48:L61,AI13)","v":4},{"$f":"AJ13/(AL4-AJ11)","v":0.5},{"$f":"IF(AK13=0,0,(AK13*((LOG(AK13))/LOG(2))))","v":-0.5},null,{"$f":"N13","v":221},{"$f":"COUNTIF(L62:L74,AN13)","v":4},{"$f":"AO13/(AQ4-AO11)","v":0.66666666666666663},{"$f":"IF(AP13=0,0,(AP13*((LOG(AP13))/LOG(2))))","v":-0.38997500048077083},null,{"$f":"N13","v":221},{"$f":"COUNTIF(L75:L88,AS13)","v":7},{"$f":"AT13/(AV4-AT11)","v":0.63636363636363635},{"$f":"IF(AU13=0,0,(AU13*((LOG(AU13))/LOG(2))))","v":-0.41495789782344106}]
[12,943,13,953,13,976,null,null,null,null,0,111,null,222,{"$f":"COUNTIF($L$7:$L$500,N14)","v":3},{"$f":"O14/$Q$4","v":3.6585365853658534E-2},{"$f":"IF(P14=0,0,(P14*((LOG(P14))/LOG(2))))","v":-0.17460693306939978},null,null,{"$f":"N14","v":222},{"$f":"COUNTIF(L7:L20,T14)","v":0},{"$f":"U14/(W4-U11)","v":0},{"$f":"IF(V14=0,0,(V14*((LOG(V14))/LOG(2))))","v":0},null,{"$f":"N14","v":222},{"$f":"COUNTIF(L21:L33,Y14)","v":0},{"$f":"Z14/(AB4-Z11)","v":0},{"$f":"IF(AA14=0,0,(AA14*((LOG(AA14))/LOG(2))))","v":0},null,{"$f":"N14","v":222},{"$f":"COUNTIF(L34:L47,AD14)","v":0},{"$f":"AE14/(AG4-AE11)","v":0},{"$f":"IF(AF14=0,0,(AF14*((LOG(AF14))/LOG(2))))","v":0},null,{"$f":"N14","v":222},{"$f":"COUNTIF(L48:L61,AI14)","v":1},{"$f":"AJ14/(AL4-AJ11)","v":0.125},{"$f":"IF(AK14=0,0,(AK14*((LOG(AK14))/LOG(2))))","v":-0.375},null,{"$f":"N14","v":222},{"$f":"COUNTIF(L62:L74,AN14)","v":0},{"$f":"AO14/(AQ4-AO11)","v":0},{"$f":"IF(AP14=0,0,(AP14*((LOG(AP14))/LOG(2))))","v":0},null,{"$f":"N14","v":222},{"$f":"COUNTIF(L75:L88,AS14)","v":2},{"$f":"AT14/(AV4-AT11)","v":0.18181818181818182},{"$f":"IF(AU14=0,0,(AU14*((LOG(AU14))/LOG(2))))","v":-0.44716938520678134}]
[21,1083,11,1100,22,1144,null,null,null,null,0,212,null,null,null,{"$f":"SUM(P7:P14)","v":1},{"$f":"-SUM(Q7:Q14)","v":1.9151778386126836},null,null,null,null,{"$f":"SUM(V7:V14)","v":0.99999999999999989},{"$f":"-SUM(W7:W14)","v":1.8423709931771084},null,null,null,{"$f":"SUM(AA7:AA14)","v":1},{"$f":"-SUM(AB7:AB14)","v":0.76420450650862026},null,null,null,{"$f":"SUM(AF7:AF14)","v":1},{"$f":"-SUM(AG7:AG14)","v":0.98522813603425152},null,null,null,{"$f":"SUM(AK7:AK14)","v":1},{"$f":"-SUM(AL7:AL14)","v":1.4056390622295665},null,null,null,{"$f":"SUM(AP7:AP14)","v":1},{"$f":"-SUM(AQ7:AQ14)","v":0.91829583405448945},null,null,null,{"$f":"SUM(AU7:AU14)","v":1},{"$f":"-SUM(AV7:AV14)","v":1.4911148500551854}]
[12,1254,13,1274,13,1326,null,null,null,null,0,111,null,null,null,"U=",{"$f":"Q15/(LOG(Q4)/LOG(2))","v":0.30124454148727547},null,null,null,null,"U1=",{"$f":"W15/(LOG(W4)/LOG(2))","v":0.48389788472398004},null,null,null,"U2=",{"$f":"AB15/(LOG(AB4)/LOG(2))","v":0.2065172154439302},null,null,null,"U3=",{"$f":"AG15/(LOG(AG4)/LOG(2))","v":0.25876971183495706},null,null,null,"U4=",{"$f":"AL15/(LOG(AL4)/LOG(2))","v":0.36919044612471241},null,null,null,"U5=",{"$f":"AQ15/(LOG(AQ4)/LOG(2))","v":0.24815857141318151},null,null,null,"U6=",{"$f":"AV15/(LOG(AV4)/LOG(2))","v":0.39164062205404904}]
[21,1420,11,1442,11,1451,null,null,null,null,0,211]
[21,1555,11,1564,11,1573,null,null,null,null,0,211]
[21,1663,11,1677,11,1686,null,null,null,null,0,211,null,"Total Target Seq"]
[21,1779,22,1792,13,1803,null,null,null,null,0,221,null,{"$f":"COUNTIF(L7:L88,G3)","v":34},null,14,13,14,14,13,14]
[12,1904,13,1915,13,1927,null,null,null,null,0,111,null,null,null,"% of reinforcement given in 6 equal intervals based on number of trials "]
[12,2034,13,2044,13,2053,null,null,null,null,0,111,null,null,null,"%_1","%_2","%_3","%_4","%_5","%_6"]
[21,2147,11,2168,11,2177,null,null,null,null,0,211,null,null,"target sequence",{"$f":"$G$3","v":211},{"$f":"$G$3","v":211},{"$f":"$G$3","v":211},{"$f":"$G$3","v":211},{"$f":"$G$3","v":211},{"$f":"$G$3","v":211}]
[12,2289,13,2304,13,2319,null,null,null,null,0,111,null,null,"total reinforcement",{"$f":"U11","v":7},{"$f":"Z11","v":4},{"$f":"AE11","v":7},{"$f":"AJ11","v":6},{"$f":"AO11","v":7},{"$f":"AT11","v":3}]
[12,2436,13,2445,13,2457,null,null,null,null,0,111,null,null,"% target"]
[21,2563,11,2572,11,2580,null,null,null,null,0,211,null,null,"CCRF"]
[12,2689,13,2699,13,2712,null,null,null,null,0,111,null,null,"% CCRf"]
[12,2816,13,2825,13,2842,null,null,null,null,0,111,null,null,"average response rate",{"$f":"F20/P20","v":128.78571428571428},{"$f":"(F33-F20)/Q20","v":125.61538461538461},{"$f":"(F47-F33)/R20","v":122.71428571428571},{"$f":"(F61-F47)/S20","v":118.5},{"$f":"(F74-F61)/T20","v":120.53846153846153},{"$f":"(F88-F74)/U20","v":117.92857142857143}]
[21,2937,22,2944,13,2953,null,null,null,null,0,221]
[12,3061,13,3070,13,3084,null,null,null,null,0,111]
[21,3183,22,3187,13,3196,null,null,null,null,0,221]
[21,3296,11,3303,11,3315,null,null,null,null,0,211]
[21,3413,11,3427,11,3436,null,null,null,null,0,211]
[12,3545,13,3555,13,3575,null,null,null,null,0,111]
[21,3679,11,3689,11,3700,null,null,null,null,0,211]
[21,3789,11,3805,11,3814,null,null,null,null,0,211]
[21,3914,11,3928,11,3938,null,null,null,null,0,211]
[21,4030,22,4054,13,4061,null,null,null,null,0,221]
[21,4159,11,4171,11,4182,null,null,null,null,0,211]
[21,4279,11,4292,11,4302,null,null,null,null,0,211]
[21,4394,11,4410,11,4418,null,null,null,null,0,211]
[12,4525,13,4536,13,4545,null,null,null,null,0,111]
[21,4643,11,4655,11,4664,null,null,null,null,0,211]
[12,4776,13,4787,13,4797,null,null,null,null,0,111]
[21,4896,22,4900,13,4909,null,null,null,null,0,221]
[21,5008,22,5015,13,5026,null,null,null,null,0,221]
[12,5130,13,5140,13,5154,null,null,null,null,0,111]
[21,5249,22,5256,13,5266,null,null,null,null,0,221]
[21,5359,11,5369,11,5379,null,null,null,null,0,211]
[21,5471,22,5477,13,5484,null,null,null,null,0,221]
[21,5591,11,5600,11,5614,null,null,null,null,0,211]
[21,5708,22,5712,13,5722,null,null,null,null,0,221]
[21,5818,11,5834,11,5843,null,null,null,null,0,211]
[21,5934,11,5949,11,5959,null,null,null,null,0,211]
[12,6070,13,6080,13,6096,null,null,null,null,0,111]
[12,6209,13,6218,13,6226,null,null,null,null,0,111]
[21,6322,11,6334,11,6344,null,null,null,null,0,211]
[21,6436,22,6440,24,6447,null,null,null,null,0,222]
[21,6548,22,6552,13,6562,null,null,null,null,0,221]
[12,6662,13,6672,13,6683,null,null,null,null,0,111]
[21,6783,11,6795,11,6813,null,null,null,null,0,211]
[21,6905,22,6909,13,6918,null,null,null,null,0,221]
[21,7016,11,7026,11,7038,null,null,null,null,0,211]
[21,7139,11,7163,11,7180,null,null,null,null,0,211]
[12,7293,13,7300,13,7319,null,null,null,null,0,111]
[21,7412,22,7417,13,7425,null,null,null,null,0,221]
[21,7521,22,7538,13,7548,null,null,null,null,0,221]
[21,7650,11,7661,11,7672,null,null,null,null,0,211]
[12,7780,13,7789,13,7799,null,null,null,null,0,111]
[21,7897,11,7909,11,7921,null,null,null,null,0,211]
[21,8015,11,8024,11,8035,null,null,null,null,0,211]
[21,8124,22,8129,13,8138,null,null,null,null,0,221]
[21,8233,11,8247,11,8258,null,null,null,null,0,211]
[21,8353,11,8373,11,8380,null,null,null,null,0,211]
[21,8470,11,8486,11,8495,null,null,null,null,0,211]
[21,8586,22,8591,13,8599,null,null,null,null,0,221]
[21,8699,11,8712,11,8723,null,null,null,null,0,211]
[21,8815,22,8819,24,8824,null,null,null,null,0,222]
[21,8922,22,8926,13,8936,null,null,null,null,0,221]
[21,9030,22,9035,13,9047,null,null,null,null,0,221]
[21,9149,11,9156,22,9194,null,null,null,null,0,212]
[21,9297,22,9311,13,9324,null,null,null,null,0,221]
[21,9421,22,9425,13,9433,null,null,null,null,0,221]
[12,9543,13,9563,13,9572,null,null,null,null,0,111]
[21,9669,22,9672,13,9682,null,null,null,null,0,221]
[21,9780,22,9783,13,9793,null,null,null,null,0,221]
[21,9895,22,9909,24,9913,null,null,null,null,0,222]
[21,10011,11,10021,11,10031,null,null,null,null,1,211]

{"sheet":"!MC24C00.096","index":19,"n_rows":87,"n_cols":48,"rows_kept":87,"cut":false,"hidden":false,"merged":[[4,39,4,42],[5,39,5,40],[4,44,4,47],[5,44,5,45],[4,24,4,27],[5,24,5,25],[4,29,4,32],[5,29,5,30],[4,34,4,37],[5,34,5,35],[1,1,1,2],[5,13,5,14],[18,13,18,14],[19,13,19,14],[4,19,4,22],[5,19,5,20]]}
["Report for:!MC24C00.096"]
["Date:","<date>"]
["Hen:","<hen>",null,null,null,"Correct Sequence",{"$f":"Start!J2","v":211},null,null,null,null,null,null,null,null,"Total Sequences in Data",{"$f":"4994-COUNTBLANK(L7:L5000)","v":81},null,null,null,null,"Total Sequences in Block Data",{"$f":"COUNTA(L7:L20)","v":14},null,null,null,"Total Sequences in Block Data",{"$f":"COUNTA(L21:L33)","v":13},null,null,null,"Total Sequences in Block Data",{"$f":"COUNTA(L34:L47)","v":14},null,null,null,"Total Sequences in Block Data",{"$f":"COUNTA(L48:L60)","v":13},null,null,null,"Total Sequences in Block Data",{"$f":"COUNTA(L61:L74)","v":14},null,null,null,"Total Sequences in Block Data",{"$f":"COUNTA(L75:L87)","v":13}]
[null,null,null,null,null,null,null,null,null,null,null,null,null,null,null,"Total Sequences in Summary",{"$f":"SUM(O7:O14)","v":81},null,null,null,null,"Total Sequences in Block Summary",{"$f":"SUM(U7:U14)","v":14},null,null,null,"Total Sequences in Block Summary",{"$f":"SUM(Z7:Z14)","v":13},null,null,null,"Total Sequences in Block Summary",{"$f":"SUM(AE7:AE14)","v":14},null,null,null,"Total Sequences in Block Summary",{"$f":"SUM(AJ7:AJ14)","v":13},null,null,null,"Total Sequences in Block Summary",{"$f":"SUM(AO7:AO14)","v":14},null,null,null,"Total Sequences in Block Summary",{"$f":"SUM(AT7:AT14)","v":13}]
[null,null,null,null,null,null,null,null,null,null,null,null,null,null,null,null,null,null,null,"Block 1",null,null,null,null,"Block 2",null,null,null,null,"Block 3",null,null,null,null,"Block 4",null,null,null,null,"Block 5",null,null,null,null,"Block 6"]
["Sequence\nComponent\n1","Time\n1","Sequence\nComponent\n2","Time\n2","Sequence\nComponent\n3","Time\n3","Sequence\nComponent\n4","Time\n4","Sequence\nComponent\n5","Time\n5","Correct?\n0=No 1=Yes","Sequence",null,"Frequency",null,"Relative Frequency","Variability",null,null,"Frequency",null,"Relative Frequency","Variability",null,"Frequency",null,"Relative Frequency","Variability",null,"Frequency",null,"Relative Frequency","Variability",null,"Frequency",null,"Relative Frequency","Variability",null,"Frequency",null,"Relative Frequency","Variability",null,"Frequency",null,"Relative Frequency","Variability"]
[12,17,13,28,13,35,null,null,null,null,0,111,null,111,{"$f":"COUNTIF($L$7:$L$500,N7)","v":11},{"$f":"O7/$Q$4","v":0.13580246913580246},{"$f":"IF(P7=0,0,(P7*((LOG(P7))/LOG(2))))","v":-0.39116792872494566},null,null,{"$f":"N7","v":111},{"$f":"COUNTIF(L7:L20,T7)","v":6},{"$f":"U7/(W4-U11)","v":0.8571428571428571},{"$f":"IF(V7=0,0,(V7*((LOG(V7))/LOG(2))))","v":-0.19062207543124113},null,{"$f":"N7","v":111},{"$f":"COUNTIF(L21:L33,Y7)","v":2},{"$f":"Z7/(AB4-Z11)","v":0.33333333333333331},{"$f":"IF(AA7=0,0,(AA7*((LOG(AA7))/LOG(2))))","v":-0.52832083357371862},null,{"$f":"N7","v":111},{"$f":"COUNTIF(L34:L47,AD7)","v":1},{"$f":"AE7/(AG4-AE11)","v":0.1111111111111111},{"$f":"IF(AF7=0,0,(AF7*((LOG(AF7))/LOG(2))))","v":-0.3522138890491458},null,{"$f":"N7","v":111},{"$f":"COUNTIF(L48:L60,AI7)","v":1},{"$f":"AJ7/(AL4-AJ11)","v":0.1111111111111111},{"$f":"IF(AK7=0,0,(AK7*((LOG(AK7))/LOG(2))))","v":-0.3522138890491458},null,{"$f":"N7","v":111},{"$f":"COUNTIF(L61:L74,AN7)","v":0},{"$f":"AO7/(AQ4-AO11)","v":0},{"$f":"IF(AP7=0,0,(AP7*((LOG(AP7))/LOG(2))))","v":0},null,{"$f":"N7","v":111},{"$f":"COUNTIF(L75:L87,AS7)","v":1},{"$f":"AT7/(AV4-AT11)","v":0.1111111111111111},{"$f":"IF(AU7=0,0,(AU7*((LOG(AU7))/LOG(2))))","v":-0.3522138890491458}]
[21,136,11,143,11,152,null,null,null,null,0,211,null,112,{"$f":"COUNTIF($L$7:$L$500,N8)","v":0},{"$f":"O8/$Q$4","v":0},{"$f":"IF(P8=0,0,(P8*((LOG(P8))/LOG(2))))","v":0},null,null,{"$f":"N8","v":112},{"$f":"COUNTIF(L7:L20,T8)","v":0},{"$f":"U8/(W4-U11)","v":0},{"$f":"IF(V8=0,0,(V8*((LOG(V8))/LOG(2))))","v":0},null,{"$f":"N8","v":112},{"$f":"COUNTIF(L21:L33,Y8)","v":0},{"$f":"Z8/(AB4-Z11)","v":0},{"$f":"IF(AA8=0,0,(AA8*((LOG(AA8))/LOG(2))))","v":0},null,{"$f":"N8","v":112},{"$f":"COUNTIF(L34:L47,AD8)","v":0},{"$f":"AE8/(AG4-AE11)","v":0},{"$f":"IF(AF8=0,0,(AF8*((LOG(AF8))/LOG(2))))","v":0},null,{"$f":"N8","v":112},{"$f":"COUNTIF(L48:L60,AI8)","v":0},{"$f":"AJ8/(AL4-AJ11)","v":0},{"$f":"IF(AK8=0,0,(AK8*((LOG(AK8))/LOG(2))))","v":0},null,{"$f":"N8","v":112},{"$f":"COUNTIF(L61:L74,AN8)","v":0},{"$f":"AO8/(AQ4-AO11)","v":0},{"$f":"IF(AP8=0,0,(AP8*((LOG(AP8))/LOG(2))))","v":0},null,{"$f":"N8","v":112},{"$f":"COUNTIF(L75:L87,AS8)","v":0},{"$f":"AT8/(AV4-AT11)","v":0},{"$f":"IF(AU8=0,0,(AU8*((LOG(AU8))/LOG(2))))","v":0}]
[21,254,11,265,11,289,null,null,null,null,0,211,null,121,{"$f":"COUNTIF($L$7:$L$500,N9)","v":1},{"$f":"O9/$Q$4","v":1.2345679012345678E-2},{"$f":"IF(P9=0,0,(P9*((LOG(P9))/LOG(2))))","v":-7.8269753122032396E-2},null,null,{"$f":"N9","v":121},{"$f":"COUNTIF(L7:L20,T9)","v":0},{"$f":"U9/(W4-U11)","v":0},{"$f":"IF(V9=0,0,(V9*((LOG(V9))/LOG(2))))","v":0},null,{"$f":"N9","v":121},{"$f":"COUNTIF(L21:L33,Y9)","v":0},{"$f":"Z9/(AB4-Z11)","v":0},{"$f":"IF(AA9=0,0,(AA9*((LOG(AA9))/LOG(2))))","v":0},null,{"$f":"N9","v":121},{"$f":"COUNTIF(L34:L47,AD9)","v":0},{"$f":"AE9/(AG4-AE11)","v":0},{"$f":"IF(AF9=0,0,(AF9*((LOG(AF9))/LOG(2))))","v":0},null,{"$f":"N9","v":121},{"$f":"COUNTIF(L48:L60,AI9)","v":1},{"$f":"AJ9/(AL4-AJ11)","v":0.1111111111111111},{"$f":"IF(AK9=0,0,(AK9*((LOG(AK9))/LOG(2))))","v":-0.3522138890491458},null,{"$f":"N9","v":121},{"$f":"COUNTIF(L61:L74,AN9)","v":0},{"$f":"AO9/(AQ4-AO11)","v":0},{"$f":"IF(AP9=0,0,(AP9*((LOG(AP9))/LOG(2))))","v":0},null,{"$f":"N9","v":121},{"$f":"COUNTIF(L75:L87,AS9)","v":0},{"$f":"AT9/(AV4-AT11)","v":0},{"$f":"IF(AU9=0,0,(AU9*((LOG(AU9))/LOG(2))))","v":0}]
[21,394,11,402,22,449,null,null,null,null,0,212,null,122,{"$f":"COUNTIF($L$7:$L$500,N10)","v":0},{"$f":"O10/$Q$4","v":0},{"$f":"IF(P10=0,0,(P10*((LOG(P10))/LOG(2))))","v":0},null,null,{"$f":"N10","v":122},{"$f":"COUNTIF(L7:L20,T10)","v":0},{"$f":"U10/(W4-U11)","v":0},{"$f":"IF(V10=0,0,(V10*((LOG(V10))/LOG(2))))","v":0},null,{"$f":"N10","v":122},{"$f":"COUNTIF(L21:L33,Y10)","v":0},{"$f":"Z10/(AB4-Z11)","v":0},{"$f":"IF(AA10=0,0,(AA10*((LOG(AA10))/LOG(2))))","v":0},null,{"$f":"N10","v":122},{"$f":"COUNTIF(L34:L47,AD10)","v":0},{"$f":"AE10/(AG4-AE11)","v":0},{"$f":"IF(AF10=0,0,(AF10*((LOG(AF10))/LOG(2))))","v":0},null,{"$f":"N10","v":122},{"$f":"COUNTIF(L48:L60,AI10)","v":0},{"$f":"AJ10/(AL4-AJ11)","v":0},{"$f":"IF(AK10=0,0,(AK10*((LOG(AK10))/LOG(2))))","v":0},null,{"$f":"N10","v":122},{"$f":"COUNTIF(L61:L74,AN10)","v":0},{"$f":"AO10/(AQ4-AO11)","v":0},{"$f":"IF(AP10=0,0,(AP10*((LOG(AP10))/LOG(2))))","v":0},null,{"$f":"N10","v":122},{"$f":"COUNTIF(L75:L87,AS10)","v":0},{"$f":"AT10/(AV4-AT11)","v":0},{"$f":"IF(AU10=0,0,(AU10*((LOG(AU10))/LOG(2))))","v":0}]
[21,545,11,554,11,566,null,null,null,null,0,211,null,211,{"$f":"COUNTIF($L$7:$L$500,N11)","v":33},{"$f":"O11/$Q$4","v":0.40740740740740738},{"$f":"IF(P11=0,0,(P11*((LOG(P11))/LOG(2))))","v":-0.52777832291806981},null,null,{"$f":"N11","v":211},{"$f":"COUNTIF(L7:L20,T11)","v":7},null,null,null,{"$f":"N11","v":211},{"$f":"COUNTIF(L21:L33,Y11)","v":7},null,null,null,{"$f":"N11","v":211},{"$f":"COUNTIF(L34:L47,AD11)","v":5},null,null,null,{"$f":"N11","v":211},{"$f":"COUNTIF(L48:L60,AI11)","v":4},null,null,null,{"$f":"N11","v":211},{"$f":"COUNTIF(L61:L74,AN11)","v":6},null,null,null,{"$f":"N11","v":211},{"$f":"COUNTIF(L75:L87,AS11)","v":4}]
[12,670,13,677,13,693,null,null,null,null,0,111,null,212,{"$f":"COUNTIF($L$7:$L$500,N12)","v":1},{"$f":"O12/$Q$4","v":1.2345679012345678E-2},{"$f":"IF(P12=0,0,(P12*((LOG(P12))/LOG(2))))","v":-7.8269753122032396E-2},null,null,{"$f":"N12","v":212},{"$f":"COUNTIF(L7:L20,T12)","v":1},{"$f":"U12/(W4-U11)","v":0.14285714285714285},{"$f":"IF(V12=0,0,(V12*((LOG(V12))/LOG(2))))","v":-0.40105070315108626},null,{"$f":"N12","v":212},{"$f":"COUNTIF(L21:L33,Y12)","v":0},{"$f":"Z12/(AB4-Z11)","v":0},{"$f":"IF(AA12=0,0,(AA12*((LOG(AA12))/LOG(2))))","v":0},null,{"$f":"N12","v":212},{"$f":"COUNTIF(L34:L47,AD12)","v":0},{"$f":"AE12/(AG4-AE11)","v":0},{"$f":"IF(AF12=0,0,(AF12*((LOG(AF12))/LOG(2))))","v":0},null,{"$f":"N12","v":212},{"$f":"COUNTIF(L48:L60,AI12)","v":0},{"$f":"AJ12/(AL4-AJ11)","v":0},{"$f":"IF(AK12=0,0,(AK12*((LOG(AK12))/LOG(2))))","v":0},null,{"$f":"N12","v":212},{"$f":"COUNTIF(L61:L74,AN12)","v":0},{"$f":"AO12/(AQ4-AO11)","v":0},{"$f":"IF(AP12=0,0,(AP12*((LOG(AP12))/LOG(2))))","v":0},null,{"$f":"N12","v":212},{"$f":"COUNTIF(L75:L87,AS12)","v":0},{"$f":"AT12/(AV4-AT11)","v":0},{"$f":"IF(AU12=0,0,(AU12*((LOG(AU12))/LOG(2))))","v":0}]
[21,798,11,805,11,814,null,null,null,null,0,211,null,221,{"$f":"COUNTIF($L$7:$L$500,N13)","v":29},{"$f":"O13/$Q$4","v":0.35802469135802467},{"$f":"IF(P13=0,0,(P13*((LOG(P13))/LOG(2))))","v":-0.530545694135241},null,null,{"$f":"N13","v":221},{"$f":"COUNTIF(L7:L20,T13)","v":0},{"$f":"U13/(W4-U11)","v":0},{"$f":"IF(V13=0,0,(V13*((LOG(V13))/LOG(2))))","v":0},null,{"$f":"N13","v":221},{"$f":"COUNTIF(L21:L33,Y13)","v":4},{"$f":"Z13/(AB4-Z11)","v":0.66666666666666663},{"$f":"IF(AA13=0,0,(AA13*((LOG(AA13))/LOG(2))))","v":-0.38997500048077083},null,{"$f":"N13","v":221},{"$f":"COUNTIF(L34:L47,AD13)","v":8},{"$f":"AE13/(AG4-AE11)","v":0.88888888888888884},{"$f":"IF(AF13=0,0,(AF13*((LOG(AF13))/LOG(2))))","v":-0.15104444572649992},null,{"$f":"N13","v":221},{"$f":"COUNTIF(L48:L60,AI13)","v":6},{"$f":"AJ13/(AL4-AJ11)","v":0.66666666666666663},{"$f":"IF(AK13=0,0,(AK13*((LOG(AK13))/LOG(2))))","v":-0.38997500048077083},null,{"$f":"N13","v":221},{"$f":"COUNTIF(L61:L74,AN13)","v":7},{"$f":"AO13/(AQ4-AO11)","v":0.875},{"$f":"IF(AP13=0,0,(AP13*((LOG(AP13))/LOG(2))))","v":-0.1685644431995964},null,{"$f":"N13","v":221},{"$f":"COUNTIF(L75:L87,AS13)","v":4},{"$f":"AT13/(AV4-AT11)","v":0.44444444444444442},{"$f":"IF(AU13=0,0,(AU13*((LOG(AU13))/LOG(2))))","v":-0.51996666730769447}]
[12,933,13,941,13,955,null,null,null,null,0,111,null,222,{"$f":"COUNTIF($L$7:$L$500,N14)","v":6},{"$f":"O14/$Q$4","v":7.407407407407407E-2},{"$f":"IF(P14=0,0,(P14*((LOG(P14))/LOG(2))))","v":-0.27813981497507173},null,null,{"$f":"N14","v":222},{"$f":"COUNTIF(L7:L20,T14)","v":0},{"$f":"U14/(W4-U11)","v":0},{"$f":"IF(V14=0,0,(V14*((LOG(V14))/LOG(2))))","v":0},null,{"$f":"N14","v":222},{"$f":"COUNTIF(L21:L33,Y14)","v":0},{"$f":"Z14/(AB4-Z11)","v":0},{"$f":"IF(AA14=0,0,(AA14*((LOG(AA14))/LOG(2))))","v":0},null,{"$f":"N14","v":222},{"$f":"COUNTIF(L34:L47,AD14)","v":0},{"$f":"AE14/(AG4-AE11)","v":0},{"$f":"IF(AF14=0,0,(AF14*((LOG(AF14))/LOG(2))))","v":0},null,{"$f":"N14","v":222},{"$f":"COUNTIF(L48:L60,AI14)","v":1},{"$f":"AJ14/(AL4-AJ11)","v":0.1111111111111111},{"$f":"IF(AK14=0,0,(AK14*((LOG(AK14))/LOG(2))))","v":-0.3522138890491458},null,{"$f":"N14","v":222},{"$f":"COUNTIF(L61:L74,AN14)","v":1},{"$f":"AO14/(AQ4-AO11)","v":0.125},{"$f":"IF(AP14=0,0,(AP14*((LOG(AP14))/LOG(2))))","v":-0.375},null,{"$f":"N14","v":222},{"$f":"COUNTIF(L75:L87,AS14)","v":4},{"$f":"AT14/(AV4-AT11)","v":0.44444444444444442},{"$f":"IF(AU14=0,0,(AU14*((LOG(AU14))/LOG(2))))","v":-0.51996666730769447}]
[21,1062,11,1071,11,1084,null,null,null,null,0,211,null,null,null,{"$f":"SUM(P7:P14)","v":1},{"$f":"-SUM(Q7:Q14)","v":1.8841712669973929},null,null,null,null,{"$f":"SUM(V7:V14)","v":1},{"$f":"-SUM(W7:W14)","v":0.59167277858232736},null,null,null,{"$f":"SUM(AA7:AA14)","v":1},{"$f":"-SUM(AB7:AB14)","v":0.91829583405448945},null,null,null,{"$f":"SUM(AF7:AF14)","v":1},{"$f":"-SUM(AG7:AG14)","v":0.50325833477564574},null,null,null,{"$f":"SUM(AK7:AK14)","v":1},{"$f":"-SUM(AL7:AL14)","v":1.4466166676282082},null,null,null,{"$f":"SUM(AP7:AP14)","v":1},{"$f":"-SUM(AQ7:AQ14)","v":0.5435644431995964},null,null,null,{"$f":"SUM(AU7:AU14)","v":1},{"$f":"-SUM(AV7:AV14)","v":1.3921472236645349}]
[21,1184,11,1199,11,1206,null,null,null,null,0,211,null,null,null,"U=",{"$f":"Q15/(LOG(Q4)/LOG(2))","v":0.29719492829327149},null,null,null,null,"U1=",{"$f":"W15/(LOG(W4)/LOG(2))","v":0.15540258018881267},null,null,null,"U2=",{"$f":"AB15/(LOG(AB4)/LOG(2))","v":0.24815857141318151},null,null,null,"U3=",{"$f":"AG15/(LOG(AG4)/LOG(2))","v":0.13218056763241565},null,null,null,"U4=",{"$f":"AL15/(LOG(AL4)/LOG(2))","v":0.39093101842364641},null,null,null,"U5=",{"$f":"AQ15/(LOG(AQ4)/LOG(2))","v":0.142766948269125},null,null,null,"U6=",{"$f":"AV15/(LOG(AV4)/LOG(2))","v":0.37621129641422102}]
[12,1333,13,1353,13,1374,null,null,null,null,0,111]
[12,1486,13,1495,13,1502,null,null,null,null,0,111]
[12,1620,13,1630,13,1640,null,null,null,null,0,111,null,"Total Target Seq"]
[21,1738,11,1749,11,1758,null,null,null,null,0,211,null,{"$f":"COUNTIF(L7:L87,G3)","v":33},null,14,13,14,13,14,13]
[21,1859,11,1877,11,1891,null,null,null,null,0,211,null,null,null,"% of reinforcement given in 6 equal intervals based on number of trials "]
[21,1982,22,1986,13,1998,null,null,null,null,0,221,null,null,null,"%_1","%_2","%_3","%_4","%_5","%_6"]
[12,2107,13,2120,13,2131,null,null,null,null,0,111,null,null,"target sequence",{"$f":"$G$3","v":211},{"$f":"$G$3","v":211},{"$f":"$G$3","v":211},{"$f":"$G$3","v":211},{"$f":"$G$3","v":211},{"$f":"$G$3","v":211}]
[21,2235,11,2244,11,2253,null,null,null,null,0,211,null,null,"total reinforcement",{"$f":"U11","v":7},{"$f":"Z11","v":7},{"$f":"AE11","v":5},{"$f":"AJ11","v":4},{"$f":"AO11","v":6},{"$f":"AT11","v":4}]
[21,2347,11,2365,11,2375,null,null,null,null,0,211,null,null,"% target"]
[21,2467,11,2484,11,2495,null,null,null,null,0,211,null,null,"CCRF"]
[21,2587,22,2592,13,2599,null,null,null,null,0,221,null,null,"% CCRf"]
[21,2696,22,2700,13,2708,null,null,null,null,0,221,null,null,"average response rate",{"$f":"F20/P20","v":125.57142857142857},{"$f":"(F33-F20)/Q20","v":119.61538461538461},{"$f":"(F47-F33)/R20","v":119.14285714285714},{"$f":"(F60-F47)/S20","v":121.15384615384616},{"$f":"(F74-F60)/T20","v":119.57142857142857},{"$f":"(F87-F74)/U20","v":117}]
[21,2806,11,2820,11,2830,null,null,null,null,0,211]
[21,2923,11,2941,11,2953,null,null,null,null,0,211]
[12,3059,13,3066,13,3073,null,null,null,null,0,111]
[21,3174,22,3178,13,3192,null,null,null,null,0,221]
[21,3290,11,3303,11,3313,null,null,null,null,0,211]
[21,3405,11,3417,11,3427,null,null,null,null,0,211]
[21,3520,22,3524,13,3537,null,null,null,null,0,221]
[21,3638,11,3659,11,3671,null,null,null,null,0,211]
[21,3780,22,3790,13,3804,null,null,null,null,0,221]
[21,3900,22,3904,13,3913,null,null,null,null,0,221]
[21,4008,11,4024,11,4033,null,null,null,null,0,211]
[21,4128,22,4132,13,4143,null,null,null,null,0,221]
[21,4232,22,4237,13,4251,null,null,null,null,0,221]
[12,4358,13,4375,13,4404,null,null,null,null,0,111]
[21,4503,22,4506,13,4515,null,null,null,null,0,221]
[21,4613,11,4626,11,4632,null,null,null,null,0,211]
[21,4725,22,4730,13,4739,null,null,null,null,0,221]
[21,4830,22,4834,13,4851,null,null,null,null,0,221]
[21,4948,11,4972,11,4981,null,null,null,null,0,211]
[21,5079,11,5098,11,5123,null,null,null,null,0,211]
[21,5221,11,5236,11,5243,null,null,null,null,0,211]
[21,5335,22,5339,13,5350,null,null,null,null,0,221]
[12,5451,13,5458,13,5469,null,null,null,null,0,111]
[12,5573,24,5589,13,5600,null,null,null,null,0,121]
[21,5697,22,5701,24,5706,null,null,null,null,0,222]
[21,5801,22,5820,13,5828,null,null,null,null,0,221]
[21,5927,22,5934,13,5957,null,null,null,null,0,221]
[21,6046,11,6070,11,6080,null,null,null,null,0,211]
[21,6172,22,6195,13,6202,null,null,null,null,0,221]
[21,6301,11,6317,11,6323,null,null,null,null,0,211]
[21,6416,22,6426,13,6441,null,null,null,null,0,221]
[21,6538,22,6543,13,6556,null,null,null,null,0,221]
[21,6651,22,6657,13,6668,null,null,null,null,0,221]
[21,6766,22,6786,24,6793,null,null,null,null,0,222]
[21,6888,11,6902,11,6911,null,null,null,null,0,211]
[21,7002,22,7009,13,7042,null,null,null,null,0,221]
[21,7142,22,7147,13,7154,null,null,null,null,0,221]
[21,7250,11,7261,11,7278,null,null,null,null,0,211]
[21,7369,11,7386,11,7403,null,null,null,null,0,211]
[21,7495,11,7516,11,7522,null,null,null,null,0,211]
[21,7614,11,7628,11,7638,null,null,null,null,0,211]
[21,7731,22,7736,13,7755,null,null,null,null,0,221]
[21,7854,11,7865,11,7874,null,null,null,null,0,211]
[21,7963,22,7966,13,7977,null,null,null,null,0,221]
[21,8084,22,8088,13,8109,null,null,null,null,0,221]
[21,8210,22,8221,13,8230,null,null,null,null,0,221]
[12,8339,13,8351,13,8357,null,null,null,null,0,111]
[21,8452,11,8464,11,8474,null,null,null,null,0,211]
[21,8566,22,8571,13,8585,null,null,null,null,0,221]
[21,8696,22,8703,13,8713,null,null,null,null,0,221]
[21,8813,22,8817,24,8822,null,null,null,null,0,222]
[21,8918,22,8923,24,8926,null,null,null,null,0,222]
[21,9026,22,9030,24,9035,null,null,null,null,0,222]
[21,9131,22,9137,13,9151,null,null,null,null,0,221]
[21,9248,22,9252,24,9267,null,null,null,null,0,222]
[21,9368,11,9385,11,9394,null,null,null,null,0,211]
[21,9487,22,9491,13,9508,null,null,null,null,0,221]
[21,9597,11,9618,11,9624,null,null,null,null,0,211]
[21,9719,11,9732,11,9751,null,null,null,null,1,211]

{"sheet":"!N102C00.096","index":20,"n_rows":71,"n_cols":48,"rows_kept":71,"cut":false,"hidden":false,"merged":[[4,39,4,42],[5,39,5,40],[4,44,4,47],[5,44,5,45],[4,24,4,27],[5,24,5,25],[4,29,4,32],[5,29,5,30],[4,34,4,37],[5,34,5,35],[1,1,1,2],[5,13,5,14],[18,13,18,14],[19,13,19,14],[4,19,4,22],[5,19,5,20]]}
["Report for:!N102C00.096"]
["Date:","<date>"]
["Hen:","<hen>",null,null,null,"Correct Sequence",{"$f":"Start!J2","v":211},null,null,null,null,null,null,null,null,"Total Sequences in Data",{"$f":"4994-COUNTBLANK(L7:L5000)","v":65},null,null,null,null,"Total Sequences in Block Data",{"$f":"COUNTA(L7:L17)","v":11},null,null,null,"Total Sequences in Block Data",{"$f":"COUNTA(L18:L28)","v":11},null,null,null,"Total Sequences in Block Data",{"$f":"COUNTA(L29:L38)","v":10},null,null,null,"Total Sequences in Block Data",{"$f":"COUNTA(L39:L49)","v":11},null,null,null,"Total Sequences in Block Data",{"$f":"COUNTA(L50:L60)","v":11},null,null,null,"Total Sequences in Block Data",{"$f":"COUNTA(L61:L71)","v":11}]
[null,null,null,null,null,null,null,null,null,null,null,null,null,null,null,"Total Sequences in Summary",{"$f":"SUM(O7:O14)","v":65},null,null,null,null,"Total Sequences in Block Summary",{"$f":"SUM(U7:U14)","v":11},null,null,null,"Total Sequences in Block Summary",{"$f":"SUM(Z7:Z14)","v":11},null,null,null,"Total Sequences in Block Summary",{"$f":"SUM(AE7:AE14)","v":10},null,null,null,"Total Sequences in Block Summary",{"$f":"SUM(AJ7:AJ14)","v":11},null,null,null,"Total Sequences in Block Summary",{"$f":"SUM(AO7:AO14)","v":11},null,null,null,"Total Sequences in Block Summary",{"$f":"SUM(AT7:AT14)","v":11}]
[null,null,null,null,null,null,null,null,null,null,null,null,null,null,null,null,null,null,null,"Block 1",null,null,null,null,"Block 2",null,null,null,null,"Block 3",null,null,null,null,"Block 4",null,null,null,null,"Block 5",null,null,null,null,"Block 6"]
["Sequence\nComponent\n1","Time\n1","Sequence\nComponent\n2","Time\n2","Sequence\nComponent\n3","Time\n3","Sequence\nComponent\n4","Time\n4","Sequence\nComponent\n5","Time\n5","Correct?\n0=No 1=Yes","Sequence",null,"Frequency",null,"Relative Frequency","Variability",null,null,"Frequency",null,"Relative Frequency","Variability",null,"Frequency",null,"Relative Frequency","Variability",null,"Frequency",null,"Relative Frequency","Variability",null,"Frequency",null,"Relative Frequency","Variability",null,"Frequency",null,"Relative Frequency","Variability",null,"Frequency",null,"Relative Frequency","Variability"]
[21,19,11,26,11,46,null,null,null,null,0,211,null,111,{"$f":"COUNTIF($L$7:$L$500,N7)","v":22},{"$f":"O7/$Q$4","v":0.33846153846153848},{"$f":"IF(P7=0,0,(P7*((LOG(P7))/LOG(2))))","v":-0.52899378887085313},null,null,{"$f":"N7","v":111},{"$f":"COUNTIF(L7:L17,T7)","v":4},{"$f":"U7/(W4-U11)","v":1},{"$f":"IF(V7=0,0,(V7*((LOG(V7))/LOG(2))))","v":0},null,{"$f":"N7","v":111},{"$f":"COUNTIF(L18:L28,Y7)","v":3},{"$f":"Z7/(AB4-Z11)","v":0.5},{"$f":"IF(AA7=0,0,(AA7*((LOG(AA7))/LOG(2))))","v":-0.5},null,{"$f":"N7","v":111},{"$f":"COUNTIF(L29:L38,AD7)","v":2},{"$f":"AE7/(AG4-AE11)","v":0.66666666666666663},{"$f":"IF(AF7=0,0,(AF7*((LOG(AF7))/LOG(2))))","v":-0.38997500048077083},null,{"$f":"N7","v":111},{"$f":"COUNTIF(L39:L49,AI7)","v":4},{"$f":"AJ7/(AL4-AJ11)","v":1},{"$f":"IF(AK7=0,0,(AK7*((LOG(AK7))/LOG(2))))","v":0},null,{"$f":"N7","v":111},{"$f":"COUNTIF(L50:L60,AN7)","v":6},{"$f":"AO7/(AQ4-AO11)","v":0.66666666666666663},{"$f":"IF(AP7=0,0,(AP7*((LOG(AP7))/LOG(2))))","v":-0.38997500048077083},null,{"$f":"N7","v":111},{"$f":"COUNTIF(L61:L71,AS7)","v":3},{"$f":"AT7/(AV4-AT11)","v":1},{"$f":"IF(AU7=0,0,(AU7*((LOG(AU7))/LOG(2))))","v":0}]
[12,146,13,157,13,164,null,null,null,null,0,111,null,112,{"$f":"COUNTIF($L$7:$L$500,N8)","v":0},{"$f":"O8/$Q$4","v":0},{"$f":"IF(P8=0,0,(P8*((LOG(P8))/LOG(2))))","v":0},null,null,{"$f":"N8","v":112},{"$f":"COUNTIF(L7:L17,T8)","v":0},{"$f":"U8/(W4-U11)","v":0},{"$f":"IF(V8=0,0,(V8*((LOG(V8))/LOG(2))))","v":0},null,{"$f":"N8","v":112},{"$f":"COUNTIF(L18:L28,Y8)","v":0},{"$f":"Z8/(AB4-Z11)","v":0},{"$f":"IF(AA8=0,0,(AA8*((LOG(AA8))/LOG(2))))","v":0},null,{"$f":"N8","v":112},{"$f":"COUNTIF(L29:L38,AD8)","v":0},{"$f":"AE8/(AG4-AE11)","v":0},{"$f":"IF(AF8=0,0,(AF8*((LOG(AF8))/LOG(2))))","v":0},null,{"$f":"N8","v":112},{"$f":"COUNTIF(L39:L49,AI8)","v":0},{"$f":"AJ8/(AL4-AJ11)","v":0},{"$f":"IF(AK8=0,0,(AK8*((LOG(AK8))/LOG(2))))","v":0},null,{"$f":"N8","v":112},{"$f":"COUNTIF(L50:L60,AN8)","v":0},{"$f":"AO8/(AQ4-AO11)","v":0},{"$f":"IF(AP8=0,0,(AP8*((LOG(AP8))/LOG(2))))","v":0},null,{"$f":"N8","v":112},{"$f":"COUNTIF(L61:L71,AS8)","v":0},{"$f":"AT8/(AV4-AT11)","v":0},{"$f":"IF(AU8=0,0,(AU8*((LOG(AU8))/LOG(2))))","v":0}]
[21,262,11,273,11,282,null,null,null,null,0,211,null,121,{"$f":"COUNTIF($L$7:$L$500,N9)","v":0},{"$f":"O9/$Q$4","v":0},{"$f":"IF(P9=0,0,(P9*((LOG(P9))/LOG(2))))","v":0},null,null,{"$f":"N9","v":121},{"$f":"COUNTIF(L7:L17,T9)","v":0},{"$f":"U9/(W4-U11)","v":0},{"$f":"IF(V9=0,0,(V9*((LOG(V9))/LOG(2))))","v":0},null,{"$f":"N9","v":121},{"$f":"COUNTIF(L18:L28,Y9)","v":0},{"$f":"Z9/(AB4-Z11)","v":0},{"$f":"IF(AA9=0,0,(AA9*((LOG(AA9))/LOG(2))))","v":0},null,{"$f":"N9","v":121},{"$f":"COUNTIF(L29:L38,AD9)","v":0},{"$f":"AE9/(AG4-AE11)","v":0},{"$f":"IF(AF9=0,0,(AF9*((LOG(AF9))/LOG(2))))","v":0},null,{"$f":"N9","v":121},{"$f":"COUNTIF(L39:L49,AI9)","v":0},{"$f":"AJ9/(AL4-AJ11)","v":0},{"$f":"IF(AK9=0,0,(AK9*((LOG(AK9))/LOG(2))))","v":0},null,{"$f":"N9","v":121},{"$f":"COUNTIF(L50:L60,AN9)","v":0},{"$f":"AO9/(AQ4-AO11)","v":0},{"$f":"IF(AP9=0,0,(AP9*((LOG(AP9))/LOG(2))))","v":0},null,{"$f":"N9","v":121},{"$f":"COUNTIF(L61:L71,AS9)","v":0},{"$f":"AT9/(AV4-AT11)","v":0},{"$f":"IF(AU9=0,0,(AU9*((LOG(AU9))/LOG(2))))","v":0}]
[21,377,11,387,11,406,null,null,null,null,0,211,null,122,{"$f":"COUNTIF($L$7:$L$500,N10)","v":0},{"$f":"O10/$Q$4","v":0},{"$f":"IF(P10=0,0,(P10*((LOG(P10))/LOG(2))))","v":0},null,null,{"$f":"N10","v":122},{"$f":"COUNTIF(L7:L17,T10)","v":0},{"$f":"U10/(W4-U11)","v":0},{"$f":"IF(V10=0,0,(V10*((LOG(V10))/LOG(2))))","v":0},null,{"$f":"N10","v":122},{"$f":"COUNTIF(L18:L28,Y10)","v":0},{"$f":"Z10/(AB4-Z11)","v":0},{"$f":"IF(AA10=0,0,(AA10*((LOG(AA10))/LOG(2))))","v":0},null,{"$f":"N10","v":122},{"$f":"COUNTIF(L29:L38,AD10)","v":0},{"$f":"AE10/(AG4-AE11)","v":0},{"$f":"IF(AF10=0,0,(AF10*((LOG(AF10))/LOG(2))))","v":0},null,{"$f":"N10","v":122},{"$f":"COUNTIF(L39:L49,AI10)","v":0},{"$f":"AJ10/(AL4-AJ11)","v":0},{"$f":"IF(AK10=0,0,(AK10*((LOG(AK10))/LOG(2))))","v":0},null,{"$f":"N10","v":122},{"$f":"COUNTIF(L50:L60,AN10)","v":0},{"$f":"AO10/(AQ4-AO11)","v":0},{"$f":"IF(AP10=0,0,(AP10*((LOG(AP10))/LOG(2))))","v":0},null,{"$f":"N10","v":122},{"$f":"COUNTIF(L61:L71,AS10)","v":0},{"$f":"AT10/(AV4-AT11)","v":0},{"$f":"IF(AU10=0,0,(AU10*((LOG(AU10))/LOG(2))))","v":0}]
[12,506,13,513,13,529,null,null,null,null,0,111,null,211,{"$f":"COUNTIF($L$7:$L$500,N11)","v":36},{"$f":"O11/$Q$4","v":0.55384615384615388},{"$f":"IF(P11=0,0,(P11*((LOG(P11))/LOG(2))))","v":-0.47212217257078642},null,null,{"$f":"N11","v":211},{"$f":"COUNTIF(L7:L17,T11)","v":7},null,null,null,{"$f":"N11","v":211},{"$f":"COUNTIF(L18:L28,Y11)","v":5},null,null,null,{"$f":"N11","v":211},{"$f":"COUNTIF(L29:L38,AD11)","v":7},null,null,null,{"$f":"N11","v":211},{"$f":"COUNTIF(L39:L49,AI11)","v":7},null,null,null,{"$f":"N11","v":211},{"$f":"COUNTIF(L50:L60,AN11)","v":2},null,null,null,{"$f":"N11","v":211},{"$f":"COUNTIF(L61:L71,AS11)","v":8}]
[21,622,11,631,11,639,null,null,null,null,0,211,null,212,{"$f":"COUNTIF($L$7:$L$500,N12)","v":0},{"$f":"O12/$Q$4","v":0},{"$f":"IF(P12=0,0,(P12*((LOG(P12))/LOG(2))))","v":0},null,null,{"$f":"N12","v":212},{"$f":"COUNTIF(L7:L17,T12)","v":0},{"$f":"U12/(W4-U11)","v":0},{"$f":"IF(V12=0,0,(V12*((LOG(V12))/LOG(2))))","v":0},null,{"$f":"N12","v":212},{"$f":"COUNTIF(L18:L28,Y12)","v":0},{"$f":"Z12/(AB4-Z11)","v":0},{"$f":"IF(AA12=0,0,(AA12*((LOG(AA12))/LOG(2))))","v":0},null,{"$f":"N12","v":212},{"$f":"COUNTIF(L29:L38,AD12)","v":0},{"$f":"AE12/(AG4-AE11)","v":0},{"$f":"IF(AF12=0,0,(AF12*((LOG(AF12))/LOG(2))))","v":0},null,{"$f":"N12","v":212},{"$f":"COUNTIF(L39:L49,AI12)","v":0},{"$f":"AJ12/(AL4-AJ11)","v":0},{"$f":"IF(AK12=0,0,(AK12*((LOG(AK12))/LOG(2))))","v":0},null,{"$f":"N12","v":212},{"$f":"COUNTIF(L50:L60,AN12)","v":0},{"$f":"AO12/(AQ4-AO11)","v":0},{"$f":"IF(AP12=0,0,(AP12*((LOG(AP12))/LOG(2))))","v":0},null,{"$f":"N12","v":212},{"$f":"COUNTIF(L61:L71,AS12)","v":0},{"$f":"AT12/(AV4-AT11)","v":0},{"$f":"IF(AU12=0,0,(AU12*((LOG(AU12))/LOG(2))))","v":0}]
[12,734,13,741,13,757,null,null,null,null,0,111,null,221,{"$f":"COUNTIF($L$7:$L$500,N13)","v":7},{"$f":"O13/$Q$4","v":0.1076923076923077},{"$f":"IF(P13=0,0,(P13*((LOG(P13))/LOG(2))))","v":-0.34623215748916852},null,null,{"$f":"N13","v":221},{"$f":"COUNTIF(L7:L17,T13)","v":0},{"$f":"U13/(W4-U11)","v":0},{"$f":"IF(V13=0,0,(V13*((LOG(V13))/LOG(2))))","v":0},null,{"$f":"N13","v":221},{"$f":"COUNTIF(L18:L28,Y13)","v":3},{"$f":"Z13/(AB4-Z11)","v":0.5},{"$f":"IF(AA13=0,0,(AA13*((LOG(AA13))/LOG(2))))","v":-0.5},null,{"$f":"N13","v":221},{"$f":"COUNTIF(L29:L38,AD13)","v":1},{"$f":"AE13/(AG4-AE11)","v":0.33333333333333331},{"$f":"IF(AF13=0,0,(AF13*((LOG(AF13))/LOG(2))))","v":-0.52832083357371862},null,{"$f":"N13","v":221},{"$f":"COUNTIF(L39:L49,AI13)","v":0},{"$f":"AJ13/(AL4-AJ11)","v":0},{"$f":"IF(AK13=0,0,(AK13*((LOG(AK13))/LOG(2))))","v":0},null,{"$f":"N13","v":221},{"$f":"COUNTIF(L50:L60,AN13)","v":3},{"$f":"AO13/(AQ4-AO11)","v":0.33333333333333331},{"$f":"IF(AP13=0,0,(AP13*((LOG(AP13))/LOG(2))))","v":-0.52832083357371862},null,{"$f":"N13","v":221},{"$f":"COUNTIF(L61:L71,AS13)","v":0},{"$f":"AT13/(AV4-AT11)","v":0},{"$f":"IF(AU13=0,0,(AU13*((LOG(AU13))/LOG(2))))","v":0}]
[21,858,11,868,11,875,null,null,null,null,0,211,null,222,{"$f":"COUNTIF($L$7:$L$500,N14)","v":0},{"$f":"O14/$Q$4","v":0},{"$f":"IF(P14=0,0,(P14*((LOG(P14))/LOG(2))))","v":0},null,null,{"$f":"N14","v":222},{"$f":"COUNTIF(L7:L17,T14)","v":0},{"$f":"U14/(W4-U11)","v":0},{"$f":"IF(V14=0,0,(V14*((LOG(V14))/LOG(2))))","v":0},null,{"$f":"N14","v":222},{"$f":"COUNTIF(L18:L28,Y14)","v":0},{"$f":"Z14/(AB4-Z11)","v":0},{"$f":"IF(AA14=0,0,(AA14*((LOG(AA14))/LOG(2))))","v":0},null,{"$f":"N14","v":222},{"$f":"COUNTIF(L29:L38,AD14)","v":0},{"$f":"AE14/(AG4-AE11)","v":0},{"$f":"IF(AF14=0,0,(AF14*((LOG(AF14))/LOG(2))))","v":0},null,{"$f":"N14","v":222},{"$f":"COUNTIF(L39:L49,AI14)","v":0},{"$f":"AJ14/(AL4-AJ11)","v":0},{"$f":"IF(AK14=0,0,(AK14*((LOG(AK14))/LOG(2))))","v":0},null,{"$f":"N14","v":222},{"$f":"COUNTIF(L50:L60,AN14)","v":0},{"$f":"AO14/(AQ4-AO11)","v":0},{"$f":"IF(AP14=0,0,(AP14*((LOG(AP14))/LOG(2))))","v":0},null,{"$f":"N14","v":222},{"$f":"COUNTIF(L61:L71,AS14)","v":0},{"$f":"AT14/(AV4-AT11)","v":0},{"$f":"IF(AU14=0,0,(AU14*((LOG(AU14))/LOG(2))))","v":0}]
[12,975,13,982,13,992,null,null,null,null,0,111,null,null,null,{"$f":"SUM(P7:P14)","v":1},{"$f":"-SUM(Q7:Q14)","v":1.3473481189308081},null,null,null,null,{"$f":"SUM(V7:V14)","v":1},{"$f":"-SUM(W7:W14)","v":0},null,null,null,{"$f":"SUM(AA7:AA14)","v":1},{"$f":"-SUM(AB7:AB14)","v":1},null,null,null,{"$f":"SUM(AF7:AF14)","v":1},{"$f":"-SUM(AG7:AG14)","v":0.91829583405448945},null,null,null,{"$f":"SUM(AK7:AK14)","v":1},{"$f":"-SUM(AL7:AL14)","v":0},null,null,null,{"$f":"SUM(AP7:AP14)","v":1},{"$f":"-SUM(AQ7:AQ14)","v":0.91829583405448945},null,null,null,{"$f":"SUM(AU7:AU14)","v":1},{"$f":"-SUM(AV7:AV14)","v":0}]
[21,1094,11,1102,11,1111,null,null,null,null,0,211,null,null,null,"U=",{"$f":"Q15/(LOG(Q4)/LOG(2))","v":0.22372398378193215},null,null,null,null,"U1=",{"$f":"W15/(LOG(W4)/LOG(2))","v":0},null,null,null,"U2=",{"$f":"AB15/(LOG(AB4)/LOG(2))","v":0.28906482631788782},null,null,null,"U3=",{"$f":"AG15/(LOG(AG4)/LOG(2))","v":0.27643459094367495},null,null,null,"U4=",{"$f":"AL15/(LOG(AL4)/LOG(2))","v":0},null,null,null,"U5=",{"$f":"AQ15/(LOG(AQ4)/LOG(2))","v":0.26544702577940094},null,null,null,"U6=",{"$f":"AV15/(LOG(AV4)/LOG(2))","v":0}]
[21,1206,11,1214,11,1222,null,null,null,null,0,211]
[21,1316,11,1326,11,1332,null,null,null,null,0,211]
[12,1433,13,1441,13,1451,null,null,null,null,0,111,null,"Total Target Seq"]
[12,1560,13,1567,13,1577,null,null,null,null,0,111,null,{"$f":"COUNTIF(L7:L71,G3)","v":36},null,11,11,10,11,11,11]
[12,1679,13,1686,13,1693,null,null,null,null,0,111,null,null,null,"% of reinforcement given in 6 equal intervals based on number of trials "]
[21,1786,22,1790,13,1798,null,null,null,null,0,221,null,null,null,"%_1","%_2","%_3","%_4","%_5","%_6"]
[21,1897,22,1902,13,1909,null,null,null,null,0,221,null,null,"target sequence",{"$f":"$G$3","v":211},{"$f":"$G$3","v":211},{"$f":"$G$3","v":211},{"$f":"$G$3","v":211},{"$f":"$G$3","v":211},{"$f":"$G$3","v":211}]
[21,2007,11,2018,11,2028,null,null,null,null,0,211,null,null,"total reinforcement",{"$f":"U11","v":7},{"$f":"Z11","v":5},{"$f":"AE11","v":7},{"$f":"AJ11","v":7},{"$f":"AO11","v":2},{"$f":"AT11","v":8}]
[21,2120,11,2129,11,2136,null,null,null,null,0,211,null,null,"% target"]
[21,2227,11,2240,11,2247,null,null,null,null,0,211,null,null,"CCRF"]
[21,2336,22,2341,13,2348,null,null,null,null,0,221,null,null,"% CCRf"]
[21,2446,11,2456,11,2463,null,null,null,null,0,211,null,null,"average response rate",{"$f":"F17/P20","v":111.09090909090909},{"$f":"(F28-F17)/Q20","v":112.81818181818181},{"$f":"(F38-F28)/R20","v":116.9},{"$f":"(F49-F38)/S20","v":115.18181818181819},{"$f":"(F60-F49)/T20","v":116.72727272727273},{"$f":"(F71-F60)/U20","v":114.18181818181819}]
[21,2553,22,2557,13,2564,null,null,null,null,0,221]
[21,2665,11,2673,11,2682,null,null,null,null,0,211]
[21,2775,11,2791,11,2824,null,null,null,null,0,211]
[21,2916,11,2932,11,2944,null,null,null,null,0,211]
[21,3034,11,3048,11,3054,null,null,null,null,0,211]
[21,3144,11,3159,11,3166,null,null,null,null,0,211]
[12,3269,13,3275,13,3285,null,null,null,null,0,111]
[12,3392,13,3399,13,3409,null,null,null,null,0,111]
[21,3509,11,3517,11,3524,null,null,null,null,0,211]
[21,3617,11,3624,11,3632,null,null,null,null,0,211]
[21,3722,11,3729,11,3755,null,null,null,null,0,211]
[21,3847,11,3856,11,3863,null,null,null,null,0,211]
[21,3952,11,3959,11,3978,null,null,null,null,0,211]
[12,4083,13,4089,13,4099,null,null,null,null,0,111]
[21,4196,11,4204,11,4211,null,null,null,null,0,211]
[12,4311,13,4318,13,4328,null,null,null,null,0,111]
[12,4435,13,4442,13,4449,null,null,null,null,0,111]
[21,4545,11,4554,11,4563,null,null,null,null,0,211]
[21,4656,11,4664,11,4670,null,null,null,null,0,211]
[12,4769,13,4776,13,4783,null,null,null,null,0,111]
[21,4880,11,4889,11,4899,null,null,null,null,0,211]
[12,5001,13,5009,13,5016,null,null,null,null,0,111]
[12,5116,13,5120,13,5127,null,null,null,null,0,111]
[12,5241,13,5249,13,5260,null,null,null,null,0,111]
[12,5369,13,5377,13,5388,null,null,null,null,0,111]
[12,5496,13,5504,13,5515,null,null,null,null,0,111]
[21,5613,11,5620,11,5627,null,null,null,null,0,211]
[21,5718,22,5722,13,5730,null,null,null,null,0,221]
[21,5828,22,5833,13,5840,null,null,null,null,0,221]
[21,5937,22,5942,13,5949,null,null,null,null,0,221]
[21,6046,11,6062,11,6069,null,null,null,null,0,211]
[12,6167,13,6175,13,6183,null,null,null,null,0,111]
[21,6275,11,6290,11,6297,null,null,null,null,0,211]
[12,6398,13,6405,13,6414,null,null,null,null,0,111]
[21,6513,11,6528,11,6536,null,null,null,null,0,211]
[21,6629,11,6637,11,6644,null,null,null,null,0,211]
[21,6736,11,6746,11,6753,null,null,null,null,0,211]
[21,6844,11,6861,11,6867,null,null,null,null,0,211]
[12,6962,13,6969,13,6976,null,null,null,null,0,111]
[12,7090,13,7102,13,7112,null,null,null,null,0,111]
[21,7203,11,7213,11,7219,null,null,null,null,0,211]
[21,7310,11,7318,11,7325,null,null,null,null,0,211]
[21,7419,11,7432,11,7439,null,null,null,null,1,211]

{"sheet":"!N104D30.096","index":21,"n_rows":88,"n_cols":48,"rows_kept":88,"cut":false,"hidden":false,"merged":[[4,39,4,42],[5,39,5,40],[4,44,4,47],[5,44,5,45],[4,24,4,27],[5,24,5,25],[4,29,4,32],[5,29,5,30],[4,34,4,37],[5,34,5,35],[1,1,1,2],[5,13,5,14],[18,13,18,14],[19,13,19,14],[4,19,4,22],[5,19,5,20]]}
["Report for:!N104D30.096"]
["Date:","<date>"]
["Hen:","<hen>",null,null,null,"Correct Sequence",{"$f":"Start!J2","v":211},null,null,null,null,null,null,null,null,"Total Sequences in Data",{"$f":"4994-COUNTBLANK(L7:L5000)","v":82},null,null,null,null,"Total Sequences in Block Data",{"$f":"COUNTA(L7:L20)","v":14},null,null,null,"Total Sequences in Block Data",{"$f":"COUNTA(L21:L33)","v":13},null,null,null,"Total Sequences in Block Data",{"$f":"COUNTA(L34:L47)","v":14},null,null,null,"Total Sequences in Block Data",{"$f":"COUNTA(L48:L61)","v":14},null,null,null,"Total Sequences in Block Data",{"$f":"COUNTA(L62:L74)","v":13},null,null,null,"Total Sequences in Block Data",{"$f":"COUNTA(L75:L88)","v":14}]
[null,null,null,null,null,null,null,null,null,null,null,null,null,null,null,"Total Sequences in Summary",{"$f":"SUM(O7:O14)","v":82},null,null,null,null,"Total Sequences in Block Summary",{"$f":"SUM(U7:U14)","v":14},null,null,null,"Total Sequences in Block Summary",{"$f":"SUM(Z7:Z14)","v":13},null,null,null,"Total Sequences in Block Summary",{"$f":"SUM(AE7:AE14)","v":14},null,null,null,"Total Sequences in Block Summary",{"$f":"SUM(AJ7:AJ14)","v":14},null,null,null,"Total Sequences in Block Summary",{"$f":"SUM(AO7:AO14)","v":13},null,null,null,"Total Sequences in Block Summary",{"$f":"SUM(AT7:AT14)","v":14}]
[null,null,null,null,null,null,null,null,null,null,null,null,null,null,null,null,null,null,null,"Block 1",null,null,null,null,"Block 2",null,null,null,null,"Block 3",null,null,null,null,"Block 4",null,null,null,null,"Block 5",null,null,null,null,"Block 6"]
["Sequence\nComponent\n1","Time\n1","Sequence\nComponent\n2","Time\n2","Sequence\nComponent\n3","Time\n3","Sequence\nComponent\n4","Time\n4","Sequence\nComponent\n5","Time\n5","Correct?\n0=No 1=Yes","Sequence",null,"Frequency",null,"Relative Frequency","Variability",null,null,"Frequency",null,"Relative Frequency","Variability",null,"Frequency",null,"Relative Frequency","Variability",null,"Frequency",null,"Relative Frequency","Variability",null,"Frequency",null,"Relative Frequency","Variability",null,"Frequency",null,"Relative Frequency","Variability",null,"Frequency",null,"Relative Frequency","Variability"]
[21,10,22,15,13,22,null,null,null,null,0,221,null,111,{"$f":"COUNTIF($L$7:$L$500,N7)","v":34},{"$f":"O7/$Q$4","v":0.41463414634146339},{"$f":"IF(P7=0,0,(P7*((LOG(P7))/LOG(2))))","v":-0.5266223360305281},null,null,{"$f":"N7","v":111},{"$f":"COUNTIF(L7:L20,T7)","v":7},{"$f":"U7/(W4-U11)","v":0.63636363636363635},{"$f":"IF(V7=0,0,(V7*((LOG(V7))/LOG(2))))","v":-0.41495789782344106},null,{"$f":"N7","v":111},{"$f":"COUNTIF(L21:L33,Y7)","v":3},{"$f":"Z7/(AB4-Z11)","v":0.375},{"$f":"IF(AA7=0,0,(AA7*((LOG(AA7))/LOG(2))))","v":-0.53063906222956647},null,{"$f":"N7","v":111},{"$f":"COUNTIF(L34:L47,AD7)","v":6},{"$f":"AE7/(AG4-AE11)","v":1},{"$f":"IF(AF7=0,0,(AF7*((LOG(AF7))/LOG(2))))","v":0},null,{"$f":"N7","v":111},{"$f":"COUNTIF(L48:L61,AI7)","v":6},{"$f":"AJ7/(AL4-AJ11)","v":0.75},{"$f":"IF(AK7=0,0,(AK7*((LOG(AK7))/LOG(2))))","v":-0.31127812445913283},null,{"$f":"N7","v":111},{"$f":"COUNTIF(L62:L74,AN7)","v":8},{"$f":"AO7/(AQ4-AO11)","v":1},{"$f":"IF(AP7=0,0,(AP7*((LOG(AP7))/LOG(2))))","v":0},null,{"$f":"N7","v":111},{"$f":"COUNTIF(L75:L88,AS7)","v":4},{"$f":"AT7/(AV4-AT11)","v":1},{"$f":"IF(AU7=0,0,(AU7*((LOG(AU7))/LOG(2))))","v":0}]
[12,123,13,130,13,142,null,null,null,null,0,111,null,112,{"$f":"COUNTIF($L$7:$L$500,N8)","v":0},{"$f":"O8/$Q$4","v":0},{"$f":"IF(P8=0,0,(P8*((LOG(P8))/LOG(2))))","v":0},null,null,{"$f":"N8","v":112},{"$f":"COUNTIF(L7:L20,T8)","v":0},{"$f":"U8/(W4-U11)","v":0},{"$f":"IF(V8=0,0,(V8*((LOG(V8))/LOG(2))))","v":0},null,{"$f":"N8","v":112},{"$f":"COUNTIF(L21:L33,Y8)","v":0},{"$f":"Z8/(AB4-Z11)","v":0},{"$f":"IF(AA8=0,0,(AA8*((LOG(AA8))/LOG(2))))","v":0},null,{"$f":"N8","v":112},{"$f":"COUNTIF(L34:L47,AD8)","v":0},{"$f":"AE8/(AG4-AE11)","v":0},{"$f":"IF(AF8=0,0,(AF8*((LOG(AF8))/LOG(2))))","v":0},null,{"$f":"N8","v":112},{"$f":"COUNTIF(L48:L61,AI8)","v":0},{"$f":"AJ8/(AL4-AJ11)","v":0},{"$f":"IF(AK8=0,0,(AK8*((LOG(AK8))/LOG(2))))","v":0},null,{"$f":"N8","v":112},{"$f":"COUNTIF(L62:L74,AN8)","v":0},{"$f":"AO8/(AQ4-AO11)","v":0},{"$f":"IF(AP8=0,0,(AP8*((LOG(AP8))/LOG(2))))","v":0},null,{"$f":"N8","v":112},{"$f":"COUNTIF(L75:L88,AS8)","v":0},{"$f":"AT8/(AV4-AT11)","v":0},{"$f":"IF(AU8=0,0,(AU8*((LOG(AU8))/LOG(2))))","v":0}]
[21,244,11,252,11,263,null,null,null,null,0,211,null,121,{"$f":"COUNTIF($L$7:$L$500,N9)","v":0},{"$f":"O9/$Q$4","v":0},{"$f":"IF(P9=0,0,(P9*((LOG(P9))/LOG(2))))","v":0},null,null,{"$f":"N9","v":121},{"$f":"COUNTIF(L7:L20,T9)","v":0},{"$f":"U9/(W4-U11)","v":0},{"$f":"IF(V9=0,0,(V9*((LOG(V9))/LOG(2))))","v":0},null,{"$f":"N9","v":121},{"$f":"COUNTIF(L21:L33,Y9)","v":0},{"$f":"Z9/(AB4-Z11)","v":0},{"$f":"IF(AA9=0,0,(AA9*((LOG(AA9))/LOG(2))))","v":0},null,{"$f":"N9","v":121},{"$f":"COUNTIF(L34:L47,AD9)","v":0},{"$f":"AE9/(AG4-AE11)","v":0},{"$f":"IF(AF9=0,0,(AF9*((LOG(AF9))/LOG(2))))","v":0},null,{"$f":"N9","v":121},{"$f":"COUNTIF(L48:L61,AI9)","v":0},{"$f":"AJ9/(AL4-AJ11)","v":0},{"$f":"IF(AK9=0,0,(AK9*((LOG(AK9))/LOG(2))))","v":0},null,{"$f":"N9","v":121},{"$f":"COUNTIF(L62:L74,AN9)","v":0},{"$f":"AO9/(AQ4-AO11)","v":0},{"$f":"IF(AP9=0,0,(AP9*((LOG(AP9))/LOG(2))))","v":0},null,{"$f":"N9","v":121},{"$f":"COUNTIF(L75:L88,AS9)","v":0},{"$f":"AT9/(AV4-AT11)","v":0},{"$f":"IF(AU9=0,0,(AU9*((LOG(AU9))/LOG(2))))","v":0}]
[12,370,13,385,13,394,null,null,null,null,0,111,null,122,{"$f":"COUNTIF($L$7:$L$500,N10)","v":0},{"$f":"O10/$Q$4","v":0},{"$f":"IF(P10=0,0,(P10*((LOG(P10))/LOG(2))))","v":0},null,null,{"$f":"N10","v":122},{"$f":"COUNTIF(L7:L20,T10)","v":0},{"$f":"U10/(W4-U11)","v":0},{"$f":"IF(V10=0,0,(V10*((LOG(V10))/LOG(2))))","v":0},null,{"$f":"N10","v":122},{"$f":"COUNTIF(L21:L33,Y10)","v":0},{"$f":"Z10/(AB4-Z11)","v":0},{"$f":"IF(AA10=0,0,(AA10*((LOG(AA10))/LOG(2))))","v":0},null,{"$f":"N10","v":122},{"$f":"COUNTIF(L34:L47,AD10)","v":0},{"$f":"AE10/(AG4-AE11)","v":0},{"$f":"IF(AF10=0,0,(AF10*((LOG(AF10))/LOG(2))))","v":0},null,{"$f":"N10","v":122},{"$f":"COUNTIF(L48:L61,AI10)","v":0},{"$f":"AJ10/(AL4-AJ11)","v":0},{"$f":"IF(AK10=0,0,(AK10*((LOG(AK10))/LOG(2))))","v":0},null,{"$f":"N10","v":122},{"$f":"COUNTIF(L62:L74,AN10)","v":0},{"$f":"AO10/(AQ4-AO11)","v":0},{"$f":"IF(AP10=0,0,(AP10*((LOG(AP10))/LOG(2))))","v":0},null,{"$f":"N10","v":122},{"$f":"COUNTIF(L75:L88,AS10)","v":0},{"$f":"AT10/(AV4-AT11)","v":0},{"$f":"IF(AU10=0,0,(AU10*((LOG(AU10))/LOG(2))))","v":0}]
[12,502,13,509,13,525,null,null,null,null,0,111,null,211,{"$f":"COUNTIF($L$7:$L$500,N11)","v":37},{"$f":"O11/$Q$4","v":0.45121951219512196},{"$f":"IF(P11=0,0,(P11*((LOG(P11))/LOG(2))))","v":-0.51804450783656042},null,null,{"$f":"N11","v":211},{"$f":"COUNTIF(L7:L20,T11)","v":3},null,null,null,{"$f":"N11","v":211},{"$f":"COUNTIF(L21:L33,Y11)","v":5},null,null,null,{"$f":"N11","v":211},{"$f":"COUNTIF(L34:L47,AD11)","v":8},null,null,null,{"$f":"N11","v":211},{"$f":"COUNTIF(L48:L61,AI11)","v":6},null,null,null,{"$f":"N11","v":211},{"$f":"COUNTIF(L62:L74,AN11)","v":5},null,null,null,{"$f":"N11","v":211},{"$f":"COUNTIF(L75:L88,AS11)","v":10}]
[12,642,13,661,13,671,null,null,null,null,0,111,null,212,{"$f":"COUNTIF($L$7:$L$500,N12)","v":0},{"$f":"O12/$Q$4","v":0},{"$f":"IF(P12=0,0,(P12*((LOG(P12))/LOG(2))))","v":0},null,null,{"$f":"N12","v":212},{"$f":"COUNTIF(L7:L20,T12)","v":0},{"$f":"U12/(W4-U11)","v":0},{"$f":"IF(V12=0,0,(V12*((LOG(V12))/LOG(2))))","v":0},null,{"$f":"N12","v":212},{"$f":"COUNTIF(L21:L33,Y12)","v":0},{"$f":"Z12/(AB4-Z11)","v":0},{"$f":"IF(AA12=0,0,(AA12*((LOG(AA12))/LOG(2))))","v":0},null,{"$f":"N12","v":212},{"$f":"COUNTIF(L34:L47,AD12)","v":0},{"$f":"AE12/(AG4-AE11)","v":0},{"$f":"IF(AF12=0,0,(AF12*((LOG(AF12))/LOG(2))))","v":0},null,{"$f":"N12","v":212},{"$f":"COUNTIF(L48:L61,AI12)","v":0},{"$f":"AJ12/(AL4-AJ11)","v":0},{"$f":"IF(AK12=0,0,(AK12*((LOG(AK12))/LOG(2))))","v":0},null,{"$f":"N12","v":212},{"$f":"COUNTIF(L62:L74,AN12)","v":0},{"$f":"AO12/(AQ4-AO11)","v":0},{"$f":"IF(AP12=0,0,(AP12*((LOG(AP12))/LOG(2))))","v":0},null,{"$f":"N12","v":212},{"$f":"COUNTIF(L75:L88,AS12)","v":0},{"$f":"AT12/(AV4-AT11)","v":0},{"$f":"IF(AU12=0,0,(AU12*((LOG(AU12))/LOG(2))))","v":0}]
[12,773,13,780,13,785,null,null,null,null,0,111,null,221,{"$f":"COUNTIF($L$7:$L$500,N13)","v":8},{"$f":"O13/$Q$4","v":9.7560975609756101E-2},{"$f":"IF(P13=0,0,(P13*((LOG(P13))/LOG(2))))","v":-0.32756604923103255},null,null,{"$f":"N13","v":221},{"$f":"COUNTIF(L7:L20,T13)","v":3},{"$f":"U13/(W4-U11)","v":0.27272727272727271},{"$f":"IF(V13=0,0,(V13*((LOG(V13))/LOG(2))))","v":-0.51121885034076575},null,{"$f":"N13","v":221},{"$f":"COUNTIF(L21:L33,Y13)","v":3},{"$f":"Z13/(AB4-Z11)","v":0.375},{"$f":"IF(AA13=0,0,(AA13*((LOG(AA13))/LOG(2))))","v":-0.53063906222956647},null,{"$f":"N13","v":221},{"$f":"COUNTIF(L34:L47,AD13)","v":0},{"$f":"AE13/(AG4-AE11)","v":0},{"$f":"IF(AF13=0,0,(AF13*((LOG(AF13))/LOG(2))))","v":0},null,{"$f":"N13","v":221},{"$f":"COUNTIF(L48:L61,AI13)","v":2},{"$f":"AJ13/(AL4-AJ11)","v":0.25},{"$f":"IF(AK13=0,0,(AK13*((LOG(AK13))/LOG(2))))","v":-0.5},null,{"$f":"N13","v":221},{"$f":"COUNTIF(L62:L74,AN13)","v":0},{"$f":"AO13/(AQ4-AO11)","v":0},{"$f":"IF(AP13=0,0,(AP13*((LOG(AP13))/LOG(2))))","v":0},null,{"$f":"N13","v":221},{"$f":"COUNTIF(L75:L88,AS13)","v":0},{"$f":"AT13/(AV4-AT11)","v":0},{"$f":"IF(AU13=0,0,(AU13*((LOG(AU13))/LOG(2))))","v":0}]
[21,881,22,886,13,901,null,null,null,null,0,221,null,222,{"$f":"COUNTIF($L$7:$L$500,N14)","v":3},{"$f":"O14/$Q$4","v":3.6585365853658534E-2},{"$f":"IF(P14=0,0,(P14*((LOG(P14))/LOG(2))))","v":-0.17460693306939978},null,null,{"$f":"N14","v":222},{"$f":"COUNTIF(L7:L20,T14)","v":1},{"$f":"U14/(W4-U11)","v":9.0909090909090912E-2},{"$f":"IF(V14=0,0,(V14*((LOG(V14))/LOG(2))))","v":-0.31449378351248153},null,{"$f":"N14","v":222},{"$f":"COUNTIF(L21:L33,Y14)","v":2},{"$f":"Z14/(AB4-Z11)","v":0.25},{"$f":"IF(AA14=0,0,(AA14*((LOG(AA14))/LOG(2))))","v":-0.5},null,{"$f":"N14","v":222},{"$f":"COUNTIF(L34:L47,AD14)","v":0},{"$f":"AE14/(AG4-AE11)","v":0},{"$f":"IF(AF14=0,0,(AF14*((LOG(AF14))/LOG(2))))","v":0},null,{"$f":"N14","v":222},{"$f":"COUNTIF(L48:L61,AI14)","v":0},{"$f":"AJ14/(AL4-AJ11)","v":0},{"$f":"IF(AK14=0,0,(AK14*((LOG(AK14))/LOG(2))))","v":0},null,{"$f":"N14","v":222},{"$f":"COUNTIF(L62:L74,AN14)","v":0},{"$f":"AO14/(AQ4-AO11)","v":0},{"$f":"IF(AP14=0,0,(AP14*((LOG(AP14))/LOG(2))))","v":0},null,{"$f":"N14","v":222},{"$f":"COUNTIF(L75:L88,AS14)","v":0},{"$f":"AT14/(AV4-AT11)","v":0},{"$f":"IF(AU14=0,0,(AU14*((LOG(AU14))/LOG(2))))","v":0}]
[21,999,22,1003,24,1008,null,null,null,null,0,222,null,null,null,{"$f":"SUM(P7:P14)","v":1},{"$f":"-SUM(Q7:Q14)","v":1.5468398261675209},null,null,null,null,{"$f":"SUM(V7:V14)","v":1},{"$f":"-SUM(W7:W14)","v":1.2406705316766884},null,null,null,{"$f":"SUM(AA7:AA14)","v":1},{"$f":"-SUM(AB7:AB14)","v":1.5612781244591329},null,null,null,{"$f":"SUM(AF7:AF14)","v":1},{"$f":"-SUM(AG7:AG14)","v":0},null,null,null,{"$f":"SUM(AK7:AK14)","v":1},{"$f":"-SUM(AL7:AL14)","v":0.81127812445913283},null,null,null,{"$f":"SUM(AP7:AP14)","v":1},{"$f":"-SUM(AQ7:AQ14)","v":0},null,null,null,{"$f":"SUM(AU7:AU14)","v":1},{"$f":"-SUM(AV7:AV14)","v":0}]
[12,1117,13,1125,13,1140,null,null,null,null,0,111,null,null,null,"U=",{"$f":"Q15/(LOG(Q4)/LOG(2))","v":0.24330745938749801},null,null,null,null,"U1=",{"$f":"W15/(LOG(W4)/LOG(2))","v":0.32586153827922992},null,null,null,"U2=",{"$f":"AB15/(LOG(AB4)/LOG(2))","v":0.42191691890158328},null,null,null,"U3=",{"$f":"AG15/(LOG(AG4)/LOG(2))","v":0},null,null,null,"U4=",{"$f":"AL15/(LOG(AL4)/LOG(2))","v":0.21308182217503771},null,null,null,"U5=",{"$f":"AQ15/(LOG(AQ4)/LOG(2))","v":0},null,null,null,"U6=",{"$f":"AV15/(LOG(AV4)/LOG(2))","v":0}]
[21,1238,11,1249,11,1258,null,null,null,null,0,211]
[12,1372,13,1379,13,1387,null,null,null,null,0,111]
[21,1485,22,1490,13,1498,null,null,null,null,0,221,null,"Total Target Seq"]
[21,1595,11,1611,11,1619,null,null,null,null,0,211,null,{"$f":"COUNTIF(L7:L88,G3)","v":37},null,14,13,14,14,13,14]
[21,1711,11,1727,11,1734,null,null,null,null,0,211,null,null,null,"% of reinforcement given in 6 equal intervals based on number of trials "]
[12,1843,13,1850,13,1867,null,null,null,null,0,111,null,null,null,"%_1","%_2","%_3","%_4","%_5","%_6"]
[12,1982,13,1989,13,2009,null,null,null,null,0,111,null,null,"target sequence",{"$f":"$G$3","v":211},{"$f":"$G$3","v":211},{"$f":"$G$3","v":211},{"$f":"$G$3","v":211},{"$f":"$G$3","v":211},{"$f":"$G$3","v":211}]
[21,2109,22,2114,24,2119,null,null,null,null,0,222,null,null,"total reinforcement",{"$f":"U11","v":3},{"$f":"Z11","v":5},{"$f":"AE11","v":8},{"$f":"AJ11","v":6},{"$f":"AO11","v":5},{"$f":"AT11","v":10}]
[21,2215,22,2219,24,2226,null,null,null,null,0,222,null,null,"% target"]
[21,2322,22,2327,13,2337,null,null,null,null,0,221,null,null,"CCRF"]
[21,2436,11,2448,11,2457,null,null,null,null,0,211,null,null,"% CCRf"]
[21,2551,11,2562,11,2569,null,null,null,null,0,211,null,null,"average response rate",{"$f":"F20/P20","v":115.64285714285714},{"$f":"(F33-F20)/Q20","v":118.76923076923077},{"$f":"(F47-F33)/R20","v":121.21428571428571},{"$f":"(F61-F47)/S20","v":117.92857142857143},{"$f":"(F74-F61)/T20","v":115.15384615384616},{"$f":"(F88-F74)/U20","v":115.14285714285714}]
[21,2661,11,2676,11,2692,null,null,null,null,0,211]
[12,2801,13,2809,13,2824,null,null,null,null,0,111]
[21,2922,22,2926,13,2936,null,null,null,null,0,221]
[21,3037,22,3041,13,3049,null,null,null,null,0,221]
[21,3146,11,3156,11,3163,null,null,null,null,0,211]
[12,3270,13,3283,13,3298,null,null,null,null,0,111]
[21,3402,11,3410,11,3417,null,null,null,null,0,211]
[21,3511,11,3519,11,3527,null,null,null,null,0,211]
[21,3616,11,3627,11,3635,null,null,null,null,0,211]
[12,3740,13,3748,13,3756,null,null,null,null,0,111]
[21,3853,11,3870,11,3877,null,null,null,null,0,211]
[21,3968,11,3977,11,3985,null,null,null,null,0,211]
[12,4085,13,4093,13,4102,null,null,null,null,0,111]
[12,4209,13,4216,13,4234,null,null,null,null,0,111]
[21,4335,11,4342,11,4353,null,null,null,null,0,211]
[21,4447,11,4455,11,4462,null,null,null,null,0,211]
[12,4561,13,4568,13,4594,null,null,null,null,0,111]
[21,4692,11,4713,11,4736,null,null,null,null,0,211]
[12,4844,13,4850,13,4860,null,null,null,null,0,111]
[12,4967,13,4974,13,4980,null,null,null,null,0,111]
[21,5084,11,5091,11,5100,null,null,null,null,0,211]
[21,5194,11,5204,11,5210,null,null,null,null,0,211]
[12,5314,13,5325,13,5334,null,null,null,null,0,111]
[12,5439,13,5447,13,5456,null,null,null,null,0,111]
[12,5555,13,5584,13,5599,null,null,null,null,0,111]
[21,5693,11,5709,11,5718,null,null,null,null,0,211]
[21,5810,11,5817,11,5824,null,null,null,null,0,211]
[21,5914,22,5920,13,5927,null,null,null,null,0,221]
[21,6024,22,6031,13,6038,null,null,null,null,0,221]
[12,6143,13,6156,13,6162,null,null,null,null,0,111]
[21,6266,11,6274,11,6281,null,null,null,null,0,211]
[12,6382,13,6389,13,6398,null,null,null,null,0,111]
[21,6495,11,6503,11,6511,null,null,null,null,0,211]
[12,6614,13,6621,13,6631,null,null,null,null,0,111]
[12,6741,13,6748,13,6755,null,null,null,null,0,111]
[21,6852,11,6859,11,6866,null,null,null,null,0,211]
[21,6958,11,6966,11,6973,null,null,null,null,0,211]
[12,7070,13,7078,13,7088,null,null,null,null,0,111]
[12,7187,13,7195,13,7200,null,null,null,null,0,111]
[21,7300,11,7308,11,7315,null,null,null,null,0,211]
[21,7405,11,7415,11,7422,null,null,null,null,0,211]
[12,7521,13,7529,13,7539,null,null,null,null,0,111]
[12,7644,13,7652,13,7659,null,null,null,null,0,111]
[12,7764,13,7769,13,7776,null,null,null,null,0,111]
[21,7876,11,7883,11,7889,null,null,null,null,0,211]
[12,7990,13,7997,13,8008,null,null,null,null,0,111]
[21,8107,11,8115,11,8119,null,null,null,null,0,211]
[12,8217,13,8225,13,8236,null,null,null,null,0,111]
[21,8333,11,8341,11,8348,null,null,null,null,0,211]
[12,8447,13,8454,13,8465,null,null,null,null,0,111]
[21,8562,11,8573,11,8579,null,null,null,null,0,211]
[12,8685,13,8693,13,8719,null,null,null,null,0,111]
[21,8815,11,8825,11,8831,null,null,null,null,0,211]
[21,8924,11,8940,11,8948,null,null,null,null,0,211]
[21,9042,11,9049,11,9055,null,null,null,null,0,211]
[21,9145,11,9160,11,9168,null,null,null,null,0,211]
[12,9272,13,9279,13,9290,null,null,null,null,0,111]
[21,9387,11,9399,11,9405,null,null,null,null,0,211]
[21,9496,11,9504,11,9512,null,null,null,null,0,211]
[21,9603,11,9612,11,9620,null,null,null,null,1,211]

{"sheet":"!N108B30.096","index":22,"n_rows":70,"n_cols":48,"rows_kept":70,"cut":false,"hidden":false,"merged":[[4,39,4,42],[5,39,5,40],[4,44,4,47],[5,44,5,45],[4,24,4,27],[5,24,5,25],[4,29,4,32],[5,29,5,30],[4,34,4,37],[5,34,5,35],[1,1,1,2],[5,13,5,14],[18,13,18,14],[19,13,19,14],[4,19,4,22],[5,19,5,20]]}
["Report for:!N108B30.096"]
["Date:","<date>"]
["Hen:","<hen>",null,null,null,"Correct Sequence",{"$f":"Start!J2","v":211},null,null,null,null,null,null,null,null,"Total Sequences in Data",{"$f":"4994-COUNTBLANK(L7:L5000)","v":64},null,null,null,null,"Total Sequences in Block Data",{"$f":"COUNTA(L7:L17)","v":11},null,null,null,"Total Sequences in Block Data",{"$f":"COUNTA(L18:L27)","v":10},null,null,null,"Total Sequences in Block Data",{"$f":"COUNTA(L28:L38)","v":11},null,null,null,"Total Sequences in Block Data",{"$f":"COUNTA(L39:L49)","v":11},null,null,null,"Total Sequences in Block Data",{"$f":"COUNTA(L50:L59)","v":10},null,null,null,"Total Sequences in Block Data",{"$f":"COUNTA(L60:L70)","v":11}]
[null,null,null,null,null,null,null,null,null,null,null,null,null,null,null,"Total Sequences in Summary",{"$f":"SUM(O7:O14)","v":64},null,null,null,null,"Total Sequences in Block Summary",{"$f":"SUM(U7:U14)","v":11},null,null,null,"Total Sequences in Block Summary",{"$f":"SUM(Z7:Z14)","v":10},null,null,null,"Total Sequences in Block Summary",{"$f":"SUM(AE7:AE14)","v":11},null,null,null,"Total Sequences in Block Summary",{"$f":"SUM(AJ7:AJ14)","v":11},null,null,null,"Total Sequences in Block Summary",{"$f":"SUM(AO7:AO14)","v":10},null,null,null,"Total Sequences in Block Summary",{"$f":"SUM(AT7:AT14)","v":11}]
[null,null,null,null,null,null,null,null,null,null,null,null,null,null,null,null,null,null,null,"Block 1",null,null,null,null,"Block 2",null,null,null,null,"Block 3",null,null,null,null,"Block 4",null,null,null,null,"Block 5",null,null,null,null,"Block 6"]
["Sequence\nComponent\n1","Time\n1","Sequence\nComponent\n2","Time\n2","Sequence\nComponent\n3","Time\n3","Sequence\nComponent\n4","Time\n4","Sequence\nComponent\n5","Time\n5","Correct?\n0=No 1=Yes","Sequence",null,"Frequency",null,"Relative Frequency","Variability",null,null,"Frequency",null,"Relative Frequency","Variability",null,"Frequency",null,"Relative Frequency","Variability",null,"Frequency",null,"Relative Frequency","Variability",null,"Frequency",null,"Relative Frequency","Variability",null,"Frequency",null,"Relative Frequency","Variability",null,"Frequency",null,"Relative Frequency","Variability"]
[12,18,13,22,13,29,null,null,null,null,0,111,null,111,{"$f":"COUNTIF($L$7:$L$500,N7)","v":25},{"$f":"O7/$Q$4","v":0.390625},{"$f":"IF(P7=0,0,(P7*((LOG(P7))/LOG(2))))","v":-0.5297436758692482},null,null,{"$f":"N7","v":111},{"$f":"COUNTIF(L7:L17,T7)","v":7},{"$f":"U7/(W4-U11)","v":1},{"$f":"IF(V7=0,0,(V7*((LOG(V7))/LOG(2))))","v":0},null,{"$f":"N7","v":111},{"$f":"COUNTIF(L18:L27,Y7)","v":4},{"$f":"Z7/(AB4-Z11)","v":1},{"$f":"IF(AA7=0,0,(AA7*((LOG(AA7))/LOG(2))))","v":0},null,{"$f":"N7","v":111},{"$f":"COUNTIF(L28:L38,AD7)","v":6},{"$f":"AE7/(AG4-AE11)","v":1},{"$f":"IF(AF7=0,0,(AF7*((LOG(AF7))/LOG(2))))","v":0},null,{"$f":"N7","v":111},{"$f":"COUNTIF(L39:L49,AI7)","v":3},{"$f":"AJ7/(AL4-AJ11)","v":0.6},{"$f":"IF(AK7=0,0,(AK7*((LOG(AK7))/LOG(2))))","v":-0.44217935649972373},null,{"$f":"N7","v":111},{"$f":"COUNTIF(L50:L59,AN7)","v":4},{"$f":"AO7/(AQ4-AO11)","v":0.8},{"$f":"IF(AP7=0,0,(AP7*((LOG(AP7))/LOG(2))))","v":-0.25754247590988982},null,{"$f":"N7","v":111},{"$f":"COUNTIF(L60:L70,AS7)","v":1},{"$f":"AT7/(AV4-AT11)","v":0.5},{"$f":"IF(AU7=0,0,(AU7*((LOG(AU7))/LOG(2))))","v":-0.5}]
[12,134,13,141,13,150,null,null,null,null,0,111,null,112,{"$f":"COUNTIF($L$7:$L$500,N8)","v":0},{"$f":"O8/$Q$4","v":0},{"$f":"IF(P8=0,0,(P8*((LOG(P8))/LOG(2))))","v":0},null,null,{"$f":"N8","v":112},{"$f":"COUNTIF(L7:L17,T8)","v":0},{"$f":"U8/(W4-U11)","v":0},{"$f":"IF(V8=0,0,(V8*((LOG(V8))/LOG(2))))","v":0},null,{"$f":"N8","v":112},{"$f":"COUNTIF(L18:L27,Y8)","v":0},{"$f":"Z8/(AB4-Z11)","v":0},{"$f":"IF(AA8=0,0,(AA8*((LOG(AA8))/LOG(2))))","v":0},null,{"$f":"N8","v":112},{"$f":"COUNTIF(L28:L38,AD8)","v":0},{"$f":"AE8/(AG4-AE11)","v":0},{"$f":"IF(AF8=0,0,(AF8*((LOG(AF8))/LOG(2))))","v":0},null,{"$f":"N8","v":112},{"$f":"COUNTIF(L39:L49,AI8)","v":0},{"$f":"AJ8/(AL4-AJ11)","v":0},{"$f":"IF(AK8=0,0,(AK8*((LOG(AK8))/LOG(2))))","v":0},null,{"$f":"N8","v":112},{"$f":"COUNTIF(L50:L59,AN8)","v":0},{"$f":"AO8/(AQ4-AO11)","v":0},{"$f":"IF(AP8=0,0,(AP8*((LOG(AP8))/LOG(2))))","v":0},null,{"$f":"N8","v":112},{"$f":"COUNTIF(L60:L70,AS8)","v":0},{"$f":"AT8/(AV4-AT11)","v":0},{"$f":"IF(AU8=0,0,(AU8*((LOG(AU8))/LOG(2))))","v":0}]
[12,257,13,265,13,275,null,null,null,null,0,111,null,121,{"$f":"COUNTIF($L$7:$L$500,N9)","v":0},{"$f":"O9/$Q$4","v":0},{"$f":"IF(P9=0,0,(P9*((LOG(P9))/LOG(2))))","v":0},null,null,{"$f":"N9","v":121},{"$f":"COUNTIF(L7:L17,T9)","v":0},{"$f":"U9/(W4-U11)","v":0},{"$f":"IF(V9=0,0,(V9*((LOG(V9))/LOG(2))))","v":0},null,{"$f":"N9","v":121},{"$f":"COUNTIF(L18:L27,Y9)","v":0},{"$f":"Z9/(AB4-Z11)","v":0},{"$f":"IF(AA9=0,0,(AA9*((LOG(AA9))/LOG(2))))","v":0},null,{"$f":"N9","v":121},{"$f":"COUNTIF(L28:L38,AD9)","v":0},{"$f":"AE9/(AG4-AE11)","v":0},{"$f":"IF(AF9=0,0,(AF9*((LOG(AF9))/LOG(2))))","v":0},null,{"$f":"N9","v":121},{"$f":"COUNTIF(L39:L49,AI9)","v":0},{"$f":"AJ9/(AL4-AJ11)","v":0},{"$f":"IF(AK9=0,0,(AK9*((LOG(AK9))/LOG(2))))","v":0},null,{"$f":"N9","v":121},{"$f":"COUNTIF(L50:L59,AN9)","v":0},{"$f":"AO9/(AQ4-AO11)","v":0},{"$f":"IF(AP9=0,0,(AP9*((LOG(AP9))/LOG(2))))","v":0},null,{"$f":"N9","v":121},{"$f":"COUNTIF(L60:L70,AS9)","v":0},{"$f":"AT9/(AV4-AT11)","v":0},{"$f":"IF(AU9=0,0,(AU9*((LOG(AU9))/LOG(2))))","v":0}]
[21,375,11,382,11,389,null,null,null,null,0,211,null,122,{"$f":"COUNTIF($L$7:$L$500,N10)","v":0},{"$f":"O10/$Q$4","v":0},{"$f":"IF(P10=0,0,(P10*((LOG(P10))/LOG(2))))","v":0},null,null,{"$f":"N10","v":122},{"$f":"COUNTIF(L7:L17,T10)","v":0},{"$f":"U10/(W4-U11)","v":0},{"$f":"IF(V10=0,0,(V10*((LOG(V10))/LOG(2))))","v":0},null,{"$f":"N10","v":122},{"$f":"COUNTIF(L18:L27,Y10)","v":0},{"$f":"Z10/(AB4-Z11)","v":0},{"$f":"IF(AA10=0,0,(AA10*((LOG(AA10))/LOG(2))))","v":0},null,{"$f":"N10","v":122},{"$f":"COUNTIF(L28:L38,AD10)","v":0},{"$f":"AE10/(AG4-AE11)","v":0},{"$f":"IF(AF10=0,0,(AF10*((LOG(AF10))/LOG(2))))","v":0},null,{"$f":"N10","v":122},{"$f":"COUNTIF(L39:L49,AI10)","v":0},{"$f":"AJ10/(AL4-AJ11)","v":0},{"$f":"IF(AK10=0,0,(AK10*((LOG(AK10))/LOG(2))))","v":0},null,{"$f":"N10","v":122},{"$f":"COUNTIF(L50:L59,AN10)","v":0},{"$f":"AO10/(AQ4-AO11)","v":0},{"$f":"IF(AP10=0,0,(AP10*((LOG(AP10))/LOG(2))))","v":0},null,{"$f":"N10","v":122},{"$f":"COUNTIF(L60:L70,AS10)","v":0},{"$f":"AT10/(AV4-AT11)","v":0},{"$f":"IF(AU10=0,0,(AU10*((LOG(AU10))/LOG(2))))","v":0}]
[21,488,11,497,11,507,null,null,null,null,0,211,null,211,{"$f":"COUNTIF($L$7:$L$500,N11)","v":35},{"$f":"O11/$Q$4","v":0.546875},{"$f":"IF(P11=0,0,(P11*((LOG(P11))/LOG(2))))","v":-0.47617335010822143},null,null,{"$f":"N11","v":211},{"$f":"COUNTIF(L7:L17,T11)","v":4},null,null,null,{"$f":"N11","v":211},{"$f":"COUNTIF(L18:L27,Y11)","v":6},null,null,null,{"$f":"N11","v":211},{"$f":"COUNTIF(L28:L38,AD11)","v":5},null,null,null,{"$f":"N11","v":211},{"$f":"COUNTIF(L39:L49,AI11)","v":6},null,null,null,{"$f":"N11","v":211},{"$f":"COUNTIF(L50:L59,AN11)","v":5},null,null,null,{"$f":"N11","v":211},{"$f":"COUNTIF(L60:L70,AS11)","v":9}]
[12,614,13,622,13,638,null,null,null,null,0,111,null,212,{"$f":"COUNTIF($L$7:$L$500,N12)","v":0},{"$f":"O12/$Q$4","v":0},{"$f":"IF(P12=0,0,(P12*((LOG(P12))/LOG(2))))","v":0},null,null,{"$f":"N12","v":212},{"$f":"COUNTIF(L7:L17,T12)","v":0},{"$f":"U12/(W4-U11)","v":0},{"$f":"IF(V12=0,0,(V12*((LOG(V12))/LOG(2))))","v":0},null,{"$f":"N12","v":212},{"$f":"COUNTIF(L18:L27,Y12)","v":0},{"$f":"Z12/(AB4-Z11)","v":0},{"$f":"IF(AA12=0,0,(AA12*((LOG(AA12))/LOG(2))))","v":0},null,{"$f":"N12","v":212},{"$f":"COUNTIF(L28:L38,AD12)","v":0},{"$f":"AE12/(AG4-AE11)","v":0},{"$f":"IF(AF12=0,0,(AF12*((LOG(AF12))/LOG(2))))","v":0},null,{"$f":"N12","v":212},{"$f":"COUNTIF(L39:L49,AI12)","v":0},{"$f":"AJ12/(AL4-AJ11)","v":0},{"$f":"IF(AK12=0,0,(AK12*((LOG(AK12))/LOG(2))))","v":0},null,{"$f":"N12","v":212},{"$f":"COUNTIF(L50:L59,AN12)","v":0},{"$f":"AO12/(AQ4-AO11)","v":0},{"$f":"IF(AP12=0,0,(AP12*((LOG(AP12))/LOG(2))))","v":0},null,{"$f":"N12","v":212},{"$f":"COUNTIF(L60:L70,AS12)","v":0},{"$f":"AT12/(AV4-AT11)","v":0},{"$f":"IF(AU12=0,0,(AU12*((LOG(AU12))/LOG(2))))","v":0}]
[21,739,11,747,11,753,null,null,null,null,0,211,null,221,{"$f":"COUNTIF($L$7:$L$500,N13)","v":4},{"$f":"O13/$Q$4","v":6.25E-2},{"$f":"IF(P13=0,0,(P13*((LOG(P13))/LOG(2))))","v":-0.25},null,null,{"$f":"N13","v":221},{"$f":"COUNTIF(L7:L17,T13)","v":0},{"$f":"U13/(W4-U11)","v":0},{"$f":"IF(V13=0,0,(V13*((LOG(V13))/LOG(2))))","v":0},null,{"$f":"N13","v":221},{"$f":"COUNTIF(L18:L27,Y13)","v":0},{"$f":"Z13/(AB4-Z11)","v":0},{"$f":"IF(AA13=0,0,(AA13*((LOG(AA13))/LOG(2))))","v":0},null,{"$f":"N13","v":221},{"$f":"COUNTIF(L28:L38,AD13)","v":0},{"$f":"AE13/(AG4-AE11)","v":0},{"$f":"IF(AF13=0,0,(AF13*((LOG(AF13))/LOG(2))))","v":0},null,{"$f":"N13","v":221},{"$f":"COUNTIF(L39:L49,AI13)","v":2},{"$f":"AJ13/(AL4-AJ11)","v":0.4},{"$f":"IF(AK13=0,0,(AK13*((LOG(AK13))/LOG(2))))","v":-0.52877123795494496},null,{"$f":"N13","v":221},{"$f":"COUNTIF(L50:L59,AN13)","v":1},{"$f":"AO13/(AQ4-AO11)","v":0.2},{"$f":"IF(AP13=0,0,(AP13*((LOG(AP13))/LOG(2))))","v":-0.46438561897747244},null,{"$f":"N13","v":221},{"$f":"COUNTIF(L60:L70,AS13)","v":1},{"$f":"AT13/(AV4-AT11)","v":0.5},{"$f":"IF(AU13=0,0,(AU13*((LOG(AU13))/LOG(2))))","v":-0.5}]
[12,856,13,863,13,869,null,null,null,null,0,111,null,222,{"$f":"COUNTIF($L$7:$L$500,N14)","v":0},{"$f":"O14/$Q$4","v":0},{"$f":"IF(P14=0,0,(P14*((LOG(P14))/LOG(2))))","v":0},null,null,{"$f":"N14","v":222},{"$f":"COUNTIF(L7:L17,T14)","v":0},{"$f":"U14/(W4-U11)","v":0},{"$f":"IF(V14=0,0,(V14*((LOG(V14))/LOG(2))))","v":0},null,{"$f":"N14","v":222},{"$f":"COUNTIF(L18:L27,Y14)","v":0},{"$f":"Z14/(AB4-Z11)","v":0},{"$f":"IF(AA14=0,0,(AA14*((LOG(AA14))/LOG(2))))","v":0},null,{"$f":"N14","v":222},{"$f":"COUNTIF(L28:L38,AD14)","v":0},{"$f":"AE14/(AG4-AE11)","v":0},{"$f":"IF(AF14=0,0,(AF14*((LOG(AF14))/LOG(2))))","v":0},null,{"$f":"N14","v":222},{"$f":"COUNTIF(L39:L49,AI14)","v":0},{"$f":"AJ14/(AL4-AJ11)","v":0},{"$f":"IF(AK14=0,0,(AK14*((LOG(AK14))/LOG(2))))","v":0},null,{"$f":"N14","v":222},{"$f":"COUNTIF(L50:L59,AN14)","v":0},{"$f":"AO14/(AQ4-AO11)","v":0},{"$f":"IF(AP14=0,0,(AP14*((LOG(AP14))/LOG(2))))","v":0},null,{"$f":"N14","v":222},{"$f":"COUNTIF(L60:L70,AS14)","v":0},{"$f":"AT14/(AV4-AT11)","v":0},{"$f":"IF(AU14=0,0,(AU14*((LOG(AU14))/LOG(2))))","v":0}]
[21,969,11,977,11,985,null,null,null,null,0,211,null,null,null,{"$f":"SUM(P7:P14)","v":1},{"$f":"-SUM(Q7:Q14)","v":1.2559170259774697},null,null,null,null,{"$f":"SUM(V7:V14)","v":1},{"$f":"-SUM(W7:W14)","v":0},null,null,null,{"$f":"SUM(AA7:AA14)","v":1},{"$f":"-SUM(AB7:AB14)","v":0},null,null,null,{"$f":"SUM(AF7:AF14)","v":1},{"$f":"-SUM(AG7:AG14)","v":0},null,null,null,{"$f":"SUM(AK7:AK14)","v":1},{"$f":"-SUM(AL7:AL14)","v":0.97095059445466869},null,null,null,{"$f":"SUM(AP7:AP14)","v":1},{"$f":"-SUM(AQ7:AQ14)","v":0.72192809488736231},null,null,null,{"$f":"SUM(AU7:AU14)","v":1},{"$f":"-SUM(AV7:AV14)","v":1}]
[12,1089,13,1096,13,1120,null,null,null,null,0,111,null,null,null,"U=",{"$f":"Q15/(LOG(Q4)/LOG(2))","v":0.20931950432957827},null,null,null,null,"U1=",{"$f":"W15/(LOG(W4)/LOG(2))","v":0},null,null,null,"U2=",{"$f":"AB15/(LOG(AB4)/LOG(2))","v":0},null,null,null,"U3=",{"$f":"AG15/(LOG(AG4)/LOG(2))","v":0},null,null,null,"U4=",{"$f":"AL15/(LOG(AL4)/LOG(2))","v":0.28066766494928874},null,null,null,"U5=",{"$f":"AQ15/(LOG(AQ4)/LOG(2))","v":0.21732201127364889},null,null,null,"U6=",{"$f":"AV15/(LOG(AV4)/LOG(2))","v":0.28906482631788782}]
[12,1225,13,1229,13,1235,null,null,null,null,0,111]
[12,1345,13,1352,13,1360,null,null,null,null,0,111]
[21,1457,11,1465,11,1472,null,null,null,null,0,211,null,"Total Target Seq"]
[12,1577,13,1582,13,1589,null,null,null,null,0,111,null,{"$f":"COUNTIF(L7:L70,G3)","v":35},null,11,10,11,11,10,11]
[21,1685,11,1695,11,1702,null,null,null,null,0,211,null,null,null,"% of reinforcement given in 6 equal intervals based on number of trials "]
[12,1807,13,1811,13,1817,null,null,null,null,0,111,null,null,null,"%_1","%_2","%_3","%_4","%_5","%_6"]
[21,1916,11,1927,11,1938,null,null,null,null,0,211,null,null,"target sequence",{"$f":"$G$3","v":211},{"$f":"$G$3","v":211},{"$f":"$G$3","v":211},{"$f":"$G$3","v":211},{"$f":"$G$3","v":211},{"$f":"$G$3","v":211}]
[21,2029,11,2059,11,2065,null,null,null,null,0,211,null,null,"total reinforcement",{"$f":"U11","v":4},{"$f":"Z11","v":6},{"$f":"AE11","v":5},{"$f":"AJ11","v":6},{"$f":"AO11","v":5},{"$f":"AT11","v":9}]
[21,2158,11,2169,11,2176,null,null,null,null,0,211,null,null,"% target"]
[21,2266,11,2274,11,2281,null,null,null,null,0,211,null,null,"CCRF"]
[12,2380,13,2387,13,2413,null,null,null,null,0,111,null,null,"% CCRf"]
[21,2509,11,2517,11,2523,null,null,null,null,0,211,null,null,"average response rate",{"$f":"F17/P20","v":112.27272727272727},{"$f":"(F27-F17)/Q20","v":117.8},{"$f":"(F38-F27)/R20","v":120.81818181818181},{"$f":"(F49-F38)/S20","v":117.45454545454545},{"$f":"(F59-F49)/T20","v":122.3},{"$f":"(F70-F59)/U20","v":109.90909090909091}]
[21,2614,11,2623,11,2631,null,null,null,null,0,211]
[21,2722,11,2729,11,2735,null,null,null,null,0,211]
[12,2839,13,2852,13,2876,null,null,null,null,0,111]
[12,2985,13,2992,13,3001,null,null,null,null,0,111]
[12,3104,13,3111,13,3118,null,null,null,null,0,111]
[12,3228,13,3232,13,3239,null,null,null,null,0,111]
[21,3337,11,3352,11,3359,null,null,null,null,0,211]
[12,3468,13,3475,13,3485,null,null,null,null,0,111]
[12,3607,13,3614,13,3624,null,null,null,null,0,111]
[21,3726,11,3735,11,3742,null,null,null,null,0,211]
[21,3834,11,3845,11,3853,null,null,null,null,0,211]
[21,3943,11,3960,11,3968,null,null,null,null,0,211]
[12,4075,13,4081,13,4091,null,null,null,null,0,111]
[21,4187,22,4192,13,4202,null,null,null,null,0,221]
[12,4313,13,4320,13,4329,null,null,null,null,0,111]
[21,4431,22,4438,13,4454,null,null,null,null,0,221]
[12,4560,13,4566,13,4573,null,null,null,null,0,111]
[21,4669,11,4684,11,4691,null,null,null,null,0,211]
[21,4784,11,4800,11,4808,null,null,null,null,0,211]
[21,4899,11,4914,11,4922,null,null,null,null,0,211]
[21,5017,11,5029,11,5034,null,null,null,null,0,211]
[21,5125,11,5138,11,5144,null,null,null,null,0,211]
[21,5236,11,5260,11,5267,null,null,null,null,0,211]
[21,5356,22,5368,13,5379,null,null,null,null,0,221]
[12,5545,13,5552,13,5561,null,null,null,null,0,111]
[21,5662,11,5673,11,5678,null,null,null,null,0,211]
[12,5780,13,5786,13,5792,null,null,null,null,0,111]
[21,5888,11,5899,11,5905,null,null,null,null,0,211]
[12,6011,13,6017,13,6027,null,null,null,null,0,111]
[12,6134,13,6141,13,6147,null,null,null,null,0,111]
[21,6243,11,6252,11,6257,null,null,null,null,0,211]
[21,6348,11,6368,11,6373,null,null,null,null,0,211]
[21,6473,11,6486,11,6493,null,null,null,null,0,211]
[21,6586,11,6593,11,6599,null,null,null,null,0,211]
[21,6692,11,6707,11,6713,null,null,null,null,0,211]
[21,6802,22,6810,13,6817,null,null,null,null,0,221]
[12,6917,13,6923,13,6931,null,null,null,null,0,111]
[21,7027,11,7035,11,7040,null,null,null,null,0,211]
[21,7130,11,7137,11,7143,null,null,null,null,0,211]
[21,7235,11,7242,11,7247,null,null,null,null,0,211]
[21,7346,11,7353,11,7359,null,null,null,null,0,211]
[21,7451,11,7459,11,7466,null,null,null,null,1,211]

{"sheet":"!N110B40.096","index":23,"n_rows":80,"n_cols":48,"rows_kept":80,"cut":false,"hidden":false,"merged":[[4,39,4,42],[5,39,5,40],[4,44,4,47],[5,44,5,45],[4,24,4,27],[5,24,5,25],[4,29,4,32],[5,29,5,30],[4,34,4,37],[5,34,5,35],[1,1,1,2],[5,13,5,14],[18,13,18,14],[19,13,19,14],[4,19,4,22],[5,19,5,20]]}
["Report for:!N110B40.096"]
["Date:","<date>"]
["Hen:","<hen>",null,null,null,"Correct Sequence",{"$f":"Start!J2","v":211},null,null,null,null,null,null,null,null,"Total Sequences in Data",{"$f":"4994-COUNTBLANK(L7:L5000)","v":74},null,null,null,null,"Total Sequences in Block Data",{"$f":"COUNTA(L7:L18)","v":12},null,null,null,"Total Sequences in Block Data",{"$f":"COUNTA(L19:L31)","v":13},null,null,null,"Total Sequences in Block Data",{"$f":"COUNTA(L32:L43)","v":12},null,null,null,"Total Sequences in Block Data",{"$f":"COUNTA(L44:L55)","v":12},null,null,null,"Total Sequences in Block Data",{"$f":"COUNTA(L56:L68)","v":13},null,null,null,"Total Sequences in Block Data",{"$f":"COUNTA(L69:L80)","v":12}]
[null,null,null,null,null,null,null,null,null,null,null,null,null,null,null,"Total Sequences in Summary",{"$f":"SUM(O7:O14)","v":74},null,null,null,null,"Total Sequences in Block Summary",{"$f":"SUM(U7:U14)","v":12},null,null,null,"Total Sequences in Block Summary",{"$f":"SUM(Z7:Z14)","v":13},null,null,null,"Total Sequences in Block Summary",{"$f":"SUM(AE7:AE14)","v":12},null,null,null,"Total Sequences in Block Summary",{"$f":"SUM(AJ7:AJ14)","v":12},null,null,null,"Total Sequences in Block Summary",{"$f":"SUM(AO7:AO14)","v":13},null,null,null,"Total Sequences in Block Summary",{"$f":"SUM(AT7:AT14)","v":12}]
[null,null,null,null,null,null,null,null,null,null,null,null,null,null,null,null,null,null,null,"Block 1",null,null,null,null,"Block 2",null,null,null,null,"Block 3",null,null,null,null,"Block 4",null,null,null,null,"Block 5",null,null,null,null,"Block 6"]
["Sequence\nComponent\n1","Time\n1","Sequence\nComponent\n2","Time\n2","Sequence\nComponent\n3","Time\n3","Sequence\nComponent\n4","Time\n4","Sequence\nComponent\n5","Time\n5","Correct?\n0=No 1=Yes","Sequence",null,"Frequency",null,"Relative Frequency","Variability",null,null,"Frequency",null,"Relative Frequency","Variability",null,"Frequency",null,"Relative Frequency","Variability",null,"Frequency",null,"Relative Frequency","Variability",null,"Frequency",null,"Relative Frequency","Variability",null,"Frequency",null,"Relative Frequency","Variability",null,"Frequency",null,"Relative Frequency","Variability"]
[12,6,13,16,13,51,null,null,null,null,0,111,null,111,{"$f":"COUNTIF($L$7:$L$500,N7)","v":35},{"$f":"O7/$Q$4","v":0.47297297297297297},{"$f":"IF(P7=0,0,(P7*((LOG(P7))/LOG(2))))","v":-0.51089138113431642},null,null,{"$f":"N7","v":111},{"$f":"COUNTIF(L7:L18,T7)","v":5},{"$f":"U7/(W4-U11)","v":0.625},{"$f":"IF(V7=0,0,(V7*((LOG(V7))/LOG(2))))","v":-0.42379494069539858},null,{"$f":"N7","v":111},{"$f":"COUNTIF(L19:L31,Y7)","v":7},{"$f":"Z7/(AB4-Z11)","v":1},{"$f":"IF(AA7=0,0,(AA7*((LOG(AA7))/LOG(2))))","v":0},null,{"$f":"N7","v":111},{"$f":"COUNTIF(L32:L43,AD7)","v":6},{"$f":"AE7/(AG4-AE11)","v":1},{"$f":"IF(AF7=0,0,(AF7*((LOG(AF7))/LOG(2))))","v":0},null,{"$f":"N7","v":111},{"$f":"COUNTIF(L44:L55,AI7)","v":7},{"$f":"AJ7/(AL4-AJ11)","v":0.875},{"$f":"IF(AK7=0,0,(AK7*((LOG(AK7))/LOG(2))))","v":-0.1685644431995964},null,{"$f":"N7","v":111},{"$f":"COUNTIF(L56:L68,AN7)","v":4},{"$f":"AO7/(AQ4-AO11)","v":1},{"$f":"IF(AP7=0,0,(AP7*((LOG(AP7))/LOG(2))))","v":0},null,{"$f":"N7","v":111},{"$f":"COUNTIF(L69:L80,AS7)","v":6},{"$f":"AT7/(AV4-AT11)","v":1},{"$f":"IF(AU7=0,0,(AU7*((LOG(AU7))/LOG(2))))","v":0}]
[21,152,22,157,13,164,null,null,null,null,0,221,null,112,{"$f":"COUNTIF($L$7:$L$500,N8)","v":0},{"$f":"O8/$Q$4","v":0},{"$f":"IF(P8=0,0,(P8*((LOG(P8))/LOG(2))))","v":0},null,null,{"$f":"N8","v":112},{"$f":"COUNTIF(L7:L18,T8)","v":0},{"$f":"U8/(W4-U11)","v":0},{"$f":"IF(V8=0,0,(V8*((LOG(V8))/LOG(2))))","v":0},null,{"$f":"N8","v":112},{"$f":"COUNTIF(L19:L31,Y8)","v":0},{"$f":"Z8/(AB4-Z11)","v":0},{"$f":"IF(AA8=0,0,(AA8*((LOG(AA8))/LOG(2))))","v":0},null,{"$f":"N8","v":112},{"$f":"COUNTIF(L32:L43,AD8)","v":0},{"$f":"AE8/(AG4-AE11)","v":0},{"$f":"IF(AF8=0,0,(AF8*((LOG(AF8))/LOG(2))))","v":0},null,{"$f":"N8","v":112},{"$f":"COUNTIF(L44:L55,AI8)","v":0},{"$f":"AJ8/(AL4-AJ11)","v":0},{"$f":"IF(AK8=0,0,(AK8*((LOG(AK8))/LOG(2))))","v":0},null,{"$f":"N8","v":112},{"$f":"COUNTIF(L56:L68,AN8)","v":0},{"$f":"AO8/(AQ4-AO11)","v":0},{"$f":"IF(AP8=0,0,(AP8*((LOG(AP8))/LOG(2))))","v":0},null,{"$f":"N8","v":112},{"$f":"COUNTIF(L69:L80,AS8)","v":0},{"$f":"AT8/(AV4-AT11)","v":0},{"$f":"IF(AU8=0,0,(AU8*((LOG(AU8))/LOG(2))))","v":0}]
[21,261,22,265,13,274,null,null,null,null,0,221,null,121,{"$f":"COUNTIF($L$7:$L$500,N9)","v":0},{"$f":"O9/$Q$4","v":0},{"$f":"IF(P9=0,0,(P9*((LOG(P9))/LOG(2))))","v":0},null,null,{"$f":"N9","v":121},{"$f":"COUNTIF(L7:L18,T9)","v":0},{"$f":"U9/(W4-U11)","v":0},{"$f":"IF(V9=0,0,(V9*((LOG(V9))/LOG(2))))","v":0},null,{"$f":"N9","v":121},{"$f":"COUNTIF(L19:L31,Y9)","v":0},{"$f":"Z9/(AB4-Z11)","v":0},{"$f":"IF(AA9=0,0,(AA9*((LOG(AA9))/LOG(2))))","v":0},null,{"$f":"N9","v":121},{"$f":"COUNTIF(L32:L43,AD9)","v":0},{"$f":"AE9/(AG4-AE11)","v":0},{"$f":"IF(AF9=0,0,(AF9*((LOG(AF9))/LOG(2))))","v":0},null,{"$f":"N9","v":121},{"$f":"COUNTIF(L44:L55,AI9)","v":0},{"$f":"AJ9/(AL4-AJ11)","v":0},{"$f":"IF(AK9=0,0,(AK9*((LOG(AK9))/LOG(2))))","v":0},null,{"$f":"N9","v":121},{"$f":"COUNTIF(L56:L68,AN9)","v":0},{"$f":"AO9/(AQ4-AO11)","v":0},{"$f":"IF(AP9=0,0,(AP9*((LOG(AP9))/LOG(2))))","v":0},null,{"$f":"N9","v":121},{"$f":"COUNTIF(L69:L80,AS9)","v":0},{"$f":"AT9/(AV4-AT11)","v":0},{"$f":"IF(AU9=0,0,(AU9*((LOG(AU9))/LOG(2))))","v":0}]
[21,375,22,384,13,391,null,null,null,null,0,221,null,122,{"$f":"COUNTIF($L$7:$L$500,N10)","v":0},{"$f":"O10/$Q$4","v":0},{"$f":"IF(P10=0,0,(P10*((LOG(P10))/LOG(2))))","v":0},null,null,{"$f":"N10","v":122},{"$f":"COUNTIF(L7:L18,T10)","v":0},{"$f":"U10/(W4-U11)","v":0},{"$f":"IF(V10=0,0,(V10*((LOG(V10))/LOG(2))))","v":0},null,{"$f":"N10","v":122},{"$f":"COUNTIF(L19:L31,Y10)","v":0},{"$f":"Z10/(AB4-Z11)","v":0},{"$f":"IF(AA10=0,0,(AA10*((LOG(AA10))/LOG(2))))","v":0},null,{"$f":"N10","v":122},{"$f":"COUNTIF(L32:L43,AD10)","v":0},{"$f":"AE10/(AG4-AE11)","v":0},{"$f":"IF(AF10=0,0,(AF10*((LOG(AF10))/LOG(2))))","v":0},null,{"$f":"N10","v":122},{"$f":"COUNTIF(L44:L55,AI10)","v":0},{"$f":"AJ10/(AL4-AJ11)","v":0},{"$f":"IF(AK10=0,0,(AK10*((LOG(AK10))/LOG(2))))","v":0},null,{"$f":"N10","v":122},{"$f":"COUNTIF(L56:L68,AN10)","v":0},{"$f":"AO10/(AQ4-AO11)","v":0},{"$f":"IF(AP10=0,0,(AP10*((LOG(AP10))/LOG(2))))","v":0},null,{"$f":"N10","v":122},{"$f":"COUNTIF(L69:L80,AS10)","v":0},{"$f":"AT10/(AV4-AT11)","v":0},{"$f":"IF(AU10=0,0,(AU10*((LOG(AU10))/LOG(2))))","v":0}]
[21,486,11,496,11,503,null,null,null,null,0,211,null,211,{"$f":"COUNTIF($L$7:$L$500,N11)","v":35},{"$f":"O11/$Q$4","v":0.47297297297297297},{"$f":"IF(P11=0,0,(P11*((LOG(P11))/LOG(2))))","v":-0.51089138113431642},null,null,{"$f":"N11","v":211},{"$f":"COUNTIF(L7:L18,T11)","v":4},null,null,null,{"$f":"N11","v":211},{"$f":"COUNTIF(L19:L31,Y11)","v":6},null,null,null,{"$f":"N11","v":211},{"$f":"COUNTIF(L32:L43,AD11)","v":6},null,null,null,{"$f":"N11","v":211},{"$f":"COUNTIF(L44:L55,AI11)","v":4},null,null,null,{"$f":"N11","v":211},{"$f":"COUNTIF(L56:L68,AN11)","v":9},null,null,null,{"$f":"N11","v":211},{"$f":"COUNTIF(L69:L80,AS11)","v":6}]
[21,596,11,605,11,610,null,null,null,null,0,211,null,212,{"$f":"COUNTIF($L$7:$L$500,N12)","v":0},{"$f":"O12/$Q$4","v":0},{"$f":"IF(P12=0,0,(P12*((LOG(P12))/LOG(2))))","v":0},null,null,{"$f":"N12","v":212},{"$f":"COUNTIF(L7:L18,T12)","v":0},{"$f":"U12/(W4-U11)","v":0},{"$f":"IF(V12=0,0,(V12*((LOG(V12))/LOG(2))))","v":0},null,{"$f":"N12","v":212},{"$f":"COUNTIF(L19:L31,Y12)","v":0},{"$f":"Z12/(AB4-Z11)","v":0},{"$f":"IF(AA12=0,0,(AA12*((LOG(AA12))/LOG(2))))","v":0},null,{"$f":"N12","v":212},{"$f":"COUNTIF(L32:L43,AD12)","v":0},{"$f":"AE12/(AG4-AE11)","v":0},{"$f":"IF(AF12=0,0,(AF12*((LOG(AF12))/LOG(2))))","v":0},null,{"$f":"N12","v":212},{"$f":"COUNTIF(L44:L55,AI12)","v":0},{"$f":"AJ12/(AL4-AJ11)","v":0},{"$f":"IF(AK12=0,0,(AK12*((LOG(AK12))/LOG(2))))","v":0},null,{"$f":"N12","v":212},{"$f":"COUNTIF(L56:L68,AN12)","v":0},{"$f":"AO12/(AQ4-AO11)","v":0},{"$f":"IF(AP12=0,0,(AP12*((LOG(AP12))/LOG(2))))","v":0},null,{"$f":"N12","v":212},{"$f":"COUNTIF(L69:L80,AS12)","v":0},{"$f":"AT12/(AV4-AT11)","v":0},{"$f":"IF(AU12=0,0,(AU12*((LOG(AU12))/LOG(2))))","v":0}]
[21,704,11,711,11,722,null,null,null,null,0,211,null,221,{"$f":"COUNTIF($L$7:$L$500,N13)","v":4},{"$f":"O13/$Q$4","v":5.4054054054054057E-2},{"$f":"IF(P13=0,0,(P13*((LOG(P13))/LOG(2))))","v":-0.22753801976372701},null,null,{"$f":"N13","v":221},{"$f":"COUNTIF(L7:L18,T13)","v":3},{"$f":"U13/(W4-U11)","v":0.375},{"$f":"IF(V13=0,0,(V13*((LOG(V13))/LOG(2))))","v":-0.53063906222956647},null,{"$f":"N13","v":221},{"$f":"COUNTIF(L19:L31,Y13)","v":0},{"$f":"Z13/(AB4-Z11)","v":0},{"$f":"IF(AA13=0,0,(AA13*((LOG(AA13))/LOG(2))))","v":0},null,{"$f":"N13","v":221},{"$f":"COUNTIF(L32:L43,AD13)","v":0},{"$f":"AE13/(AG4-AE11)","v":0},{"$f":"IF(AF13=0,0,(AF13*((LOG(AF13))/LOG(2))))","v":0},null,{"$f":"N13","v":221},{"$f":"COUNTIF(L44:L55,AI13)","v":1},{"$f":"AJ13/(AL4-AJ11)","v":0.125},{"$f":"IF(AK13=0,0,(AK13*((LOG(AK13))/LOG(2))))","v":-0.375},null,{"$f":"N13","v":221},{"$f":"COUNTIF(L56:L68,AN13)","v":0},{"$f":"AO13/(AQ4-AO11)","v":0},{"$f":"IF(AP13=0,0,(AP13*((LOG(AP13))/LOG(2))))","v":0},null,{"$f":"N13","v":221},{"$f":"COUNTIF(L69:L80,AS13)","v":0},{"$f":"AT13/(AV4-AT11)","v":0},{"$f":"IF(AU13=0,0,(AU13*((LOG(AU13))/LOG(2))))","v":0}]
[12,828,13,835,13,846,null,null,null,null,0,111,null,222,{"$f":"COUNTIF($L$7:$L$500,N14)","v":0},{"$f":"O14/$Q$4","v":0},{"$f":"IF(P14=0,0,(P14*((LOG(P14))/LOG(2))))","v":0},null,null,{"$f":"N14","v":222},{"$f":"COUNTIF(L7:L18,T14)","v":0},{"$f":"U14/(W4-U11)","v":0},{"$f":"IF(V14=0,0,(V14*((LOG(V14))/LOG(2))))","v":0},null,{"$f":"N14","v":222},{"$f":"COUNTIF(L19:L31,Y14)","v":0},{"$f":"Z14/(AB4-Z11)","v":0},{"$f":"IF(AA14=0,0,(AA14*((LOG(AA14))/LOG(2))))","v":0},null,{"$f":"N14","v":222},{"$f":"COUNTIF(L32:L43,AD14)","v":0},{"$f":"AE14/(AG4-AE11)","v":0},{"$f":"IF(AF14=0,0,(AF14*((LOG(AF14))/LOG(2))))","v":0},null,{"$f":"N14","v":222},{"$f":"COUNTIF(L44:L55,AI14)","v":0},{"$f":"AJ14/(AL4-AJ11)","v":0},{"$f":"IF(AK14=0,0,(AK14*((LOG(AK14))/LOG(2))))","v":0},null,{"$f":"N14","v":222},{"$f":"COUNTIF(L56:L68,AN14)","v":0},{"$f":"AO14/(AQ4-AO11)","v":0},{"$f":"IF(AP14=0,0,(AP14*((LOG(AP14))/LOG(2))))","v":0},null,{"$f":"N14","v":222},{"$f":"COUNTIF(L69:L80,AS14)","v":0},{"$f":"AT14/(AV4-AT11)","v":0},{"$f":"IF(AU14=0,0,(AU14*((LOG(AU14))/LOG(2))))","v":0}]
[12,959,13,965,13,972,null,null,null,null,0,111,null,null,null,{"$f":"SUM(P7:P14)","v":1},{"$f":"-SUM(Q7:Q14)","v":1.2493207820323597},null,null,null,null,{"$f":"SUM(V7:V14)","v":1},{"$f":"-SUM(W7:W14)","v":0.95443400292496505},null,null,null,{"$f":"SUM(AA7:AA14)","v":1},{"$f":"-SUM(AB7:AB14)","v":0},null,null,null,{"$f":"SUM(AF7:AF14)","v":1},{"$f":"-SUM(AG7:AG14)","v":0},null,null,null,{"$f":"SUM(AK7:AK14)","v":1},{"$f":"-SUM(AL7:AL14)","v":0.5435644431995964},null,null,null,{"$f":"SUM(AP7:AP14)","v":1},{"$f":"-SUM(AQ7:AQ14)","v":0},null,null,null,{"$f":"SUM(AU7:AU14)","v":1},{"$f":"-SUM(AV7:AV14)","v":0}]
[21,1074,11,1082,11,1089,null,null,null,null,0,211,null,null,null,"U=",{"$f":"Q15/(LOG(Q4)/LOG(2))","v":0.20119658019298406},null,null,null,null,"U1=",{"$f":"W15/(LOG(W4)/LOG(2))","v":0.26623263220548882},null,null,null,"U2=",{"$f":"AB15/(LOG(AB4)/LOG(2))","v":0},null,null,null,"U3=",{"$f":"AG15/(LOG(AG4)/LOG(2))","v":0},null,null,null,"U4=",{"$f":"AL15/(LOG(AL4)/LOG(2))","v":0.15162346693731166},null,null,null,"U5=",{"$f":"AQ15/(LOG(AQ4)/LOG(2))","v":0},null,null,null,"U6=",{"$f":"AV15/(LOG(AV4)/LOG(2))","v":0}]
[12,1190,13,1197,13,1208,null,null,null,null,0,111]
[12,1314,13,1319,13,1326,null,null,null,null,0,111]
[12,1436,13,1443,13,1462,null,null,null,null,0,111,null,"Total Target Seq"]
[21,1559,11,1570,11,1576,null,null,null,null,0,211,null,{"$f":"COUNTIF(L7:L80,G3)","v":35},null,12,13,12,12,13,12]
[21,1670,11,1678,11,1685,null,null,null,null,0,211,null,null,null,"% of reinforcement given in 6 equal intervals based on number of trials "]
[21,1777,11,1785,11,1791,null,null,null,null,0,211,null,null,null,"%_1","%_2","%_3","%_4","%_5","%_6"]
[21,1882,11,1898,11,1908,null,null,null,null,0,211,null,null,"target sequence",{"$f":"$G$3","v":211},{"$f":"$G$3","v":211},{"$f":"$G$3","v":211},{"$f":"$G$3","v":211},{"$f":"$G$3","v":211},{"$f":"$G$3","v":211}]
[12,2007,13,2017,13,2028,null,null,null,null,0,111,null,null,"total reinforcement",{"$f":"U11","v":4},{"$f":"Z11","v":6},{"$f":"AE11","v":6},{"$f":"AJ11","v":4},{"$f":"AO11","v":9},{"$f":"AT11","v":6}]
[12,2135,13,2140,13,2153,null,null,null,null,0,111,null,null,"% target"]
[12,2258,13,2264,13,2271,null,null,null,null,0,111,null,null,"CCRF"]
[21,2369,11,2376,11,2383,null,null,null,null,0,211,null,null,"% CCRf"]
[12,2485,13,2492,13,2502,null,null,null,null,0,111,null,null,"average response rate",{"$f":"F18/P20","v":110.5},{"$f":"(F31-F18)/Q20","v":118.61538461538461},{"$f":"(F43-F31)/R20","v":115.41666666666667},{"$f":"(F55-F43)/S20","v":116.33333333333333},{"$f":"(F68-F55)/T20","v":112.07692307692308},{"$f":"(F80-F68)/U20","v":111.91666666666667}]
[12,2613,13,2620,13,2629,null,null,null,null,0,111]
[21,2726,11,2734,11,2742,null,null,null,null,0,211]
[12,2851,13,2858,13,2868,null,null,null,null,0,111]
[21,2966,11,2975,11,2980,null,null,null,null,0,211]
[12,3091,13,3097,13,3107,null,null,null,null,0,111]
[12,3213,13,3218,13,3224,null,null,null,null,0,111]
[12,3331,13,3338,13,3359,null,null,null,null,0,111]
[12,3465,13,3470,13,3477,null,null,null,null,0,111]
[21,3575,11,3584,11,3589,null,null,null,null,0,211]
[21,3682,11,3691,11,3698,null,null,null,null,0,211]
[21,3789,11,3797,11,3803,null,null,null,null,0,211]
[21,3896,11,3904,11,3909,null,null,null,null,0,211]
[12,4009,13,4013,13,4020,null,null,null,null,0,111]
[21,4117,11,4124,11,4131,null,null,null,null,0,211]
[12,4234,13,4242,13,4253,null,null,null,null,0,111]
[21,4347,11,4357,11,4365,null,null,null,null,0,211]
[12,4464,13,4470,13,4477,null,null,null,null,0,111]
[12,4593,13,4603,13,4613,null,null,null,null,0,111]
[21,4708,22,4715,13,4723,null,null,null,null,0,221]
[12,4824,13,4831,13,4838,null,null,null,null,0,111]
[12,4941,13,4946,13,4958,null,null,null,null,0,111]
[21,5053,11,5069,11,5076,null,null,null,null,0,211]
[21,5171,11,5179,11,5186,null,null,null,null,0,211]
[12,5285,13,5291,13,5297,null,null,null,null,0,111]
[21,5393,11,5401,11,5405,null,null,null,null,0,211]
[12,5516,13,5524,13,5532,null,null,null,null,0,111]
[12,5638,13,5643,13,5649,null,null,null,null,0,111]
[21,5746,11,5754,11,5759,null,null,null,null,0,211]
[21,5849,11,5857,11,5865,null,null,null,null,0,211]
[12,5982,13,5996,13,6003,null,null,null,null,0,111]
[12,6104,13,6111,13,6117,null,null,null,null,0,111]
[21,6213,11,6220,11,6224,null,null,null,null,0,211]
[21,6318,11,6324,11,6331,null,null,null,null,0,211]
[21,6420,11,6429,11,6451,null,null,null,null,0,211]
[21,6541,11,6549,11,6555,null,null,null,null,0,211]
[12,6654,13,6661,13,6668,null,null,null,null,0,111]
[12,6772,13,6778,13,6785,null,null,null,null,0,111]
[21,6879,11,6889,11,6894,null,null,null,null,0,211]
[21,6985,11,6993,11,6998,null,null,null,null,0,211]
[21,7087,11,7095,11,7106,null,null,null,null,0,211]
[21,7197,11,7212,11,7219,null,null,null,null,0,211]
[12,7318,13,7324,13,7334,null,null,null,null,0,111]
[12,7436,13,7441,13,7453,null,null,null,null,0,111]
[21,7547,11,7554,11,7559,null,null,null,null,0,211]
[21,7649,11,7656,11,7662,null,null,null,null,0,211]
[12,7765,13,7772,13,7778,null,null,null,null,0,111]
[21,7875,11,7883,11,7889,null,null,null,null,0,211]
[12,7986,13,7991,13,7997,null,null,null,null,0,111]
[12,8104,13,8110,13,8119,null,null,null,null,0,111]
[21,8214,11,8222,11,8230,null,null,null,null,0,211]
[12,8328,13,8332,13,8338,null,null,null,null,0,111]
[21,8436,11,8443,11,8449,null,null,null,null,1,211]

{"sheet":"!N112A00.096","index":24,"n_rows":71,"n_cols":48,"rows_kept":71,"cut":false,"hidden":false,"merged":[[4,39,4,42],[5,39,5,40],[4,44,4,47],[5,44,5,45],[4,24,4,27],[5,24,5,25],[4,29,4,32],[5,29,5,30],[4,34,4,37],[5,34,5,35],[1,1,1,2],[5,13,5,14],[18,13,18,14],[19,13,19,14],[4,19,4,22],[5,19,5,20]]}
["Report for:!N112A00.096"]
["Date:","<date>"]
["Hen:","<hen>",null,null,null,"Correct Sequence",{"$f":"Start!J2","v":211},null,null,null,null,null,null,null,null,"Total Sequences in Data",{"$f":"4994-COUNTBLANK(L7:L5000)","v":65},null,null,null,null,"Total Sequences in Block Data",{"$f":"COUNTA(L7:L17)","v":11},null,null,null,"Total Sequences in Block Data",{"$f":"COUNTA(L18:L28)","v":11},null,null,null,"Total Sequences in Block Data",{"$f":"COUNTA(L29:L38)","v":10},null,null,null,"Total Sequences in Block Data",{"$f":"COUNTA(L39:L49)","v":11},null,null,null,"Total Sequences in Block Data",{"$f":"COUNTA(L50:L60)","v":11},null,null,null,"Total Sequences in Block Data",{"$f":"COUNTA(L61:L71)","v":11}]
[null,null,null,null,null,null,null,null,null,null,null,null,null,null,null,"Total Sequences in Summary",{"$f":"SUM(O7:O14)","v":65},null,null,null,null,"Total Sequences in Block Summary",{"$f":"SUM(U7:U14)","v":11},null,null,null,"Total Sequences in Block Summary",{"$f":"SUM(Z7:Z14)","v":11},null,null,null,"Total Sequences in Block Summary",{"$f":"SUM(AE7:AE14)","v":10},null,null,null,"Total Sequences in Block Summary",{"$f":"SUM(AJ7:AJ14)","v":11},null,null,null,"Total Sequences in Block Summary",{"$f":"SUM(AO7:AO14)","v":11},null,null,null,"Total Sequences in Block Summary",{"$f":"SUM(AT7:AT14)","v":11}]
[null,null,null,null,null,null,null,null,null,null,null,null,null,null,null,null,null,null,null,"Block 1",null,null,null,null,"Block 2",null,null,null,null,"Block 3",null,null,null,null,"Block 4",null,null,null,null,"Block 5",null,null,null,null,"Block 6"]
["Sequence\nComponent\n1","Time\n1","Sequence\nComponent\n2","Time\n2","Sequence\nComponent\n3","Time\n3","Sequence\nComponent\n4","Time\n4","Sequence\nComponent\n5","Time\n5","Correct?\n0=No 1=Yes","Sequence",null,"Frequency",null,"Relative Frequency","Variability",null,null,"Frequency",null,"Relative Frequency","Variability",null,"Frequency",null,"Relative Frequency","Variability",null,"Frequency",null,"Relative Frequency","Variability",null,"Frequency",null,"Relative Frequency","Variability",null,"Frequency",null,"Relative Frequency","Variability",null,"Frequency",null,"Relative Frequency","Variability"]
[21,10,11,31,11,40,null,null,null,null,0,211,null,111,{"$f":"COUNTIF($L$7:$L$500,N7)","v":31},{"$f":"O7/$Q$4","v":0.47692307692307695},{"$f":"IF(P7=0,0,(P7*((LOG(P7))/LOG(2))))","v":-0.50943563972136863},null,null,{"$f":"N7","v":111},{"$f":"COUNTIF(L7:L17,T7)","v":5},{"$f":"U7/(W4-U11)","v":1},{"$f":"IF(V7=0,0,(V7*((LOG(V7))/LOG(2))))","v":0},null,{"$f":"N7","v":111},{"$f":"COUNTIF(L18:L28,Y7)","v":7},{"$f":"Z7/(AB4-Z11)","v":1},{"$f":"IF(AA7=0,0,(AA7*((LOG(AA7))/LOG(2))))","v":0},null,{"$f":"N7","v":111},{"$f":"COUNTIF(L29:L38,AD7)","v":4},{"$f":"AE7/(AG4-AE11)","v":1},{"$f":"IF(AF7=0,0,(AF7*((LOG(AF7))/LOG(2))))","v":0},null,{"$f":"N7","v":111},{"$f":"COUNTIF(L39:L49,AI7)","v":6},{"$f":"AJ7/(AL4-AJ11)","v":1},{"$f":"IF(AK7=0,0,(AK7*((LOG(AK7))/LOG(2))))","v":0},null,{"$f":"N7","v":111},{"$f":"COUNTIF(L50:L60,AN7)","v":5},{"$f":"AO7/(AQ4-AO11)","v":1},{"$f":"IF(AP7=0,0,(AP7*((LOG(AP7))/LOG(2))))","v":0},null,{"$f":"N7","v":111},{"$f":"COUNTIF(L61:L71,AS7)","v":4},{"$f":"AT7/(AV4-AT11)","v":1},{"$f":"IF(AU7=0,0,(AU7*((LOG(AU7))/LOG(2))))","v":0}]
[12,148,13,156,13,163,null,null,null,null,0,111,null,112,{"$f":"COUNTIF($L$7:$L$500,N8)","v":0},{"$f":"O8/$Q$4","v":0},{"$f":"IF(P8=0,0,(P8*((LOG(P8))/LOG(2))))","v":0},null,null,{"$f":"N8","v":112},{"$f":"COUNTIF(L7:L17,T8)","v":0},{"$f":"U8/(W4-U11)","v":0},{"$f":"IF(V8=0,0,(V8*((LOG(V8))/LOG(2))))","v":0},null,{"$f":"N8","v":112},{"$f":"COUNTIF(L18:L28,Y8)","v":0},{"$f":"Z8/(AB4-Z11)","v":0},{"$f":"IF(AA8=0,0,(AA8*((LOG(AA8))/LOG(2))))","v":0},null,{"$f":"N8","v":112},{"$f":"COUNTIF(L29:L38,AD8)","v":0},{"$f":"AE8/(AG4-AE11)","v":0},{"$f":"IF(AF8=0,0,(AF8*((LOG(AF8))/LOG(2))))","v":0},null,{"$f":"N8","v":112},{"$f":"COUNTIF(L39:L49,AI8)","v":0},{"$f":"AJ8/(AL4-AJ11)","v":0},{"$f":"IF(AK8=0,0,(AK8*((LOG(AK8))/LOG(2))))","v":0},null,{"$f":"N8","v":112},{"$f":"COUNTIF(L50:L60,AN8)","v":0},{"$f":"AO8/(AQ4-AO11)","v":0},{"$f":"IF(AP8=0,0,(AP8*((LOG(AP8))/LOG(2))))","v":0},null,{"$f":"N8","v":112},{"$f":"COUNTIF(L61:L71,AS8)","v":0},{"$f":"AT8/(AV4-AT11)","v":0},{"$f":"IF(AU8=0,0,(AU8*((LOG(AU8))/LOG(2))))","v":0}]
[12,268,13,273,13,284,null,null,null,null,0,111,null,121,{"$f":"COUNTIF($L$7:$L$500,N9)","v":0},{"$f":"O9/$Q$4","v":0},{"$f":"IF(P9=0,0,(P9*((LOG(P9))/LOG(2))))","v":0},null,null,{"$f":"N9","v":121},{"$f":"COUNTIF(L7:L17,T9)","v":0},{"$f":"U9/(W4-U11)","v":0},{"$f":"IF(V9=0,0,(V9*((LOG(V9))/LOG(2))))","v":0},null,{"$f":"N9","v":121},{"$f":"COUNTIF(L18:L28,Y9)","v":0},{"$f":"Z9/(AB4-Z11)","v":0},{"$f":"IF(AA9=0,0,(AA9*((LOG(AA9))/LOG(2))))","v":0},null,{"$f":"N9","v":121},{"$f":"COUNTIF(L29:L38,AD9)","v":0},{"$f":"AE9/(AG4-AE11)","v":0},{"$f":"IF(AF9=0,0,(AF9*((LOG(AF9))/LOG(2))))","v":0},null,{"$f":"N9","v":121},{"$f":"COUNTIF(L39:L49,AI9)","v":0},{"$f":"AJ9/(AL4-AJ11)","v":0},{"$f":"IF(AK9=0,0,(AK9*((LOG(AK9))/LOG(2))))","v":0},null,{"$f":"N9","v":121},{"$f":"COUNTIF(L50:L60,AN9)","v":0},{"$f":"AO9/(AQ4-AO11)","v":0},{"$f":"IF(AP9=0,0,(AP9*((LOG(AP9))/LOG(2))))","v":0},null,{"$f":"N9","v":121},{"$f":"COUNTIF(L61:L71,AS9)","v":0},{"$f":"AT9/(AV4-AT11)","v":0},{"$f":"IF(AU9=0,0,(AU9*((LOG(AU9))/LOG(2))))","v":0}]
[12,395,13,400,13,408,null,null,null,null,0,111,null,122,{"$f":"COUNTIF($L$7:$L$500,N10)","v":0},{"$f":"O10/$Q$4","v":0},{"$f":"IF(P10=0,0,(P10*((LOG(P10))/LOG(2))))","v":0},null,null,{"$f":"N10","v":122},{"$f":"COUNTIF(L7:L17,T10)","v":0},{"$f":"U10/(W4-U11)","v":0},{"$f":"IF(V10=0,0,(V10*((LOG(V10))/LOG(2))))","v":0},null,{"$f":"N10","v":122},{"$f":"COUNTIF(L18:L28,Y10)","v":0},{"$f":"Z10/(AB4-Z11)","v":0},{"$f":"IF(AA10=0,0,(AA10*((LOG(AA10))/LOG(2))))","v":0},null,{"$f":"N10","v":122},{"$f":"COUNTIF(L29:L38,AD10)","v":0},{"$f":"AE10/(AG4-AE11)","v":0},{"$f":"IF(AF10=0,0,(AF10*((LOG(AF10))/LOG(2))))","v":0},null,{"$f":"N10","v":122},{"$f":"COUNTIF(L39:L49,AI10)","v":0},{"$f":"AJ10/(AL4-AJ11)","v":0},{"$f":"IF(AK10=0,0,(AK10*((LOG(AK10))/LOG(2))))","v":0},null,{"$f":"N10","v":122},{"$f":"COUNTIF(L50:L60,AN10)","v":0},{"$f":"AO10/(AQ4-AO11)","v":0},{"$f":"IF(AP10=0,0,(AP10*((LOG(AP10))/LOG(2))))","v":0},null,{"$f":"N10","v":122},{"$f":"COUNTIF(L61:L71,AS10)","v":0},{"$f":"AT10/(AV4-AT11)","v":0},{"$f":"IF(AU10=0,0,(AU10*((LOG(AU10))/LOG(2))))","v":0}]
[21,507,11,514,11,524,null,null,null,null,0,211,null,211,{"$f":"COUNTIF($L$7:$L$500,N11)","v":34},{"$f":"O11/$Q$4","v":0.52307692307692311},{"$f":"IF(P11=0,0,(P11*((LOG(P11))/LOG(2))))","v":-0.48902721600701404},null,null,{"$f":"N11","v":211},{"$f":"COUNTIF(L7:L17,T11)","v":6},null,null,null,{"$f":"N11","v":211},{"$f":"COUNTIF(L18:L28,Y11)","v":4},null,null,null,{"$f":"N11","v":211},{"$f":"COUNTIF(L29:L38,AD11)","v":6},null,null,null,{"$f":"N11","v":211},{"$f":"COUNTIF(L39:L49,AI11)","v":5},null,null,null,{"$f":"N11","v":211},{"$f":"COUNTIF(L50:L60,AN11)","v":6},null,null,null,{"$f":"N11","v":211},{"$f":"COUNTIF(L61:L71,AS11)","v":7}]
[21,623,11,632,11,640,null,null,null,null,0,211,null,212,{"$f":"COUNTIF($L$7:$L$500,N12)","v":0},{"$f":"O12/$Q$4","v":0},{"$f":"IF(P12=0,0,(P12*((LOG(P12))/LOG(2))))","v":0},null,null,{"$f":"N12","v":212},{"$f":"COUNTIF(L7:L17,T12)","v":0},{"$f":"U12/(W4-U11)","v":0},{"$f":"IF(V12=0,0,(V12*((LOG(V12))/LOG(2))))","v":0},null,{"$f":"N12","v":212},{"$f":"COUNTIF(L18:L28,Y12)","v":0},{"$f":"Z12/(AB4-Z11)","v":0},{"$f":"IF(AA12=0,0,(AA12*((LOG(AA12))/LOG(2))))","v":0},null,{"$f":"N12","v":212},{"$f":"COUNTIF(L29:L38,AD12)","v":0},{"$f":"AE12/(AG4-AE11)","v":0},{"$f":"IF(AF12=0,0,(AF12*((LOG(AF12))/LOG(2))))","v":0},null,{"$f":"N12","v":212},{"$f":"COUNTIF(L39:L49,AI12)","v":0},{"$f":"AJ12/(AL4-AJ11)","v":0},{"$f":"IF(AK12=0,0,(AK12*((LOG(AK12))/LOG(2))))","v":0},null,{"$f":"N12","v":212},{"$f":"COUNTIF(L50:L60,AN12)","v":0},{"$f":"AO12/(AQ4-AO11)","v":0},{"$f":"IF(AP12=0,0,(AP12*((LOG(AP12))/LOG(2))))","v":0},null,{"$f":"N12","v":212},{"$f":"COUNTIF(L61:L71,AS12)","v":0},{"$f":"AT12/(AV4-AT11)","v":0},{"$f":"IF(AU12=0,0,(AU12*((LOG(AU12))/LOG(2))))","v":0}]
[21,732,11,740,11,745,null,null,null,null,0,211,null,221,{"$f":"COUNTIF($L$7:$L$500,N13)","v":0},{"$f":"O13/$Q$4","v":0},{"$f":"IF(P13=0,0,(P13*((LOG(P13))/LOG(2))))","v":0},null,null,{"$f":"N13","v":221},{"$f":"COUNTIF(L7:L17,T13)","v":0},{"$f":"U13/(W4-U11)","v":0},{"$f":"IF(V13=0,0,(V13*((LOG(V13))/LOG(2))))","v":0},null,{"$f":"N13","v":221},{"$f":"COUNTIF(L18:L28,Y13)","v":0},{"$f":"Z13/(AB4-Z11)","v":0},{"$f":"IF(AA13=0,0,(AA13*((LOG(AA13))/LOG(2))))","v":0},null,{"$f":"N13","v":221},{"$f":"COUNTIF(L29:L38,AD13)","v":0},{"$f":"AE13/(AG4-AE11)","v":0},{"$f":"IF(AF13=0,0,(AF13*((LOG(AF13))/LOG(2))))","v":0},null,{"$f":"N13","v":221},{"$f":"COUNTIF(L39:L49,AI13)","v":0},{"$f":"AJ13/(AL4-AJ11)","v":0},{"$f":"IF(AK13=0,0,(AK13*((LOG(AK13))/LOG(2))))","v":0},null,{"$f":"N13","v":221},{"$f":"COUNTIF(L50:L60,AN13)","v":0},{"$f":"AO13/(AQ4-AO11)","v":0},{"$f":"IF(AP13=0,0,(AP13*((LOG(AP13))/LOG(2))))","v":0},null,{"$f":"N13","v":221},{"$f":"COUNTIF(L61:L71,AS13)","v":0},{"$f":"AT13/(AV4-AT11)","v":0},{"$f":"IF(AU13=0,0,(AU13*((LOG(AU13))/LOG(2))))","v":0}]
[12,849,13,853,13,861,null,null,null,null,0,111,null,222,{"$f":"COUNTIF($L$7:$L$500,N14)","v":0},{"$f":"O14/$Q$4","v":0},{"$f":"IF(P14=0,0,(P14*((LOG(P14))/LOG(2))))","v":0},null,null,{"$f":"N14","v":222},{"$f":"COUNTIF(L7:L17,T14)","v":0},{"$f":"U14/(W4-U11)","v":0},{"$f":"IF(V14=0,0,(V14*((LOG(V14))/LOG(2))))","v":0},null,{"$f":"N14","v":222},{"$f":"COUNTIF(L18:L28,Y14)","v":0},{"$f":"Z14/(AB4-Z11)","v":0},{"$f":"IF(AA14=0,0,(AA14*((LOG(AA14))/LOG(2))))","v":0},null,{"$f":"N14","v":222},{"$f":"COUNTIF(L29:L38,AD14)","v":0},{"$f":"AE14/(AG4-AE11)","v":0},{"$f":"IF(AF14=0,0,(AF14*((LOG(AF14))/LOG(2))))","v":0},null,{"$f":"N14","v":222},{"$f":"COUNTIF(L39:L49,AI14)","v":0},{"$f":"AJ14/(AL4-AJ11)","v":0},{"$f":"IF(AK14=0,0,(AK14*((LOG(AK14))/LOG(2))))","v":0},null,{"$f":"N14","v":222},{"$f":"COUNTIF(L50:L60,AN14)","v":0},{"$f":"AO14/(AQ4-AO11)","v":0},{"$f":"IF(AP14=0,0,(AP14*((LOG(AP14))/LOG(2))))","v":0},null,{"$f":"N14","v":222},{"$f":"COUNTIF(L61:L71,AS14)","v":0},{"$f":"AT14/(AV4-AT11)","v":0},{"$f":"IF(AU14=0,0,(AU14*((LOG(AU14))/LOG(2))))","v":0}]
[21,957,11,965,11,973,null,null,null,null,0,211,null,null,null,{"$f":"SUM(P7:P14)","v":1},{"$f":"-SUM(Q7:Q14)","v":0.99846285572838267},null,null,null,null,{"$f":"SUM(V7:V14)","v":1},{"$f":"-SUM(W7:W14)","v":0},null,null,null,{"$f":"SUM(AA7:AA14)","v":1},{"$f":"-SUM(AB7:AB14)","v":0},null,null,null,{"$f":"SUM(AF7:AF14)","v":1},{"$f":"-SUM(AG7:AG14)","v":0},null,null,null,{"$f":"SUM(AK7:AK14)","v":1},{"$f":"-SUM(AL7:AL14)","v":0},null,null,null,{"$f":"SUM(AP7:AP14)","v":1},{"$f":"-SUM(AQ7:AQ14)","v":0},null,null,null,{"$f":"SUM(AU7:AU14)","v":1},{"$f":"-SUM(AV7:AV14)","v":0}]
[21,1067,11,1077,11,1092,null,null,null,null,0,211,null,null,null,"U=",{"$f":"Q15/(LOG(Q4)/LOG(2))","v":0.16579240702774145},null,null,null,null,"U1=",{"$f":"W15/(LOG(W4)/LOG(2))","v":0},null,null,null,"U2=",{"$f":"AB15/(LOG(AB4)/LOG(2))","v":0},null,null,null,"U3=",{"$f":"AG15/(LOG(AG4)/LOG(2))","v":0},null,null,null,"U4=",{"$f":"AL15/(LOG(AL4)/LOG(2))","v":0},null,null,null,"U5=",{"$f":"AQ15/(LOG(AQ4)/LOG(2))","v":0},null,null,null,"U6=",{"$f":"AV15/(LOG(AV4)/LOG(2))","v":0}]
[12,1203,13,1210,13,1230,null,null,null,null,0,111]
[12,1338,13,1343,13,1351,null,null,null,null,0,111]
[21,1448,11,1457,11,1464,null,null,null,null,0,211,null,"Total Target Seq"]
[21,1557,11,1567,11,1573,null,null,null,null,0,211,null,{"$f":"COUNTIF(L7:L71,G3)","v":34},null,11,11,10,11,11,11]
[12,1677,13,1683,13,1697,null,null,null,null,0,111,null,null,null,"% of reinforcement given in 6 equal intervals based on number of trials "]
[21,1787,11,1795,11,1799,null,null,null,null,0,211,null,null,null,"%_1","%_2","%_3","%_4","%_5","%_6"]
[12,1907,13,1913,13,1924,null,null,null,null,0,111,null,null,"target sequence",{"$f":"$G$3","v":211},{"$f":"$G$3","v":211},{"$f":"$G$3","v":211},{"$f":"$G$3","v":211},{"$f":"$G$3","v":211},{"$f":"$G$3","v":211}]
[12,2030,13,2036,13,2046,null,null,null,null,0,111,null,null,"total reinforcement",{"$f":"U11","v":6},{"$f":"Z11","v":4},{"$f":"AE11","v":6},{"$f":"AJ11","v":5},{"$f":"AO11","v":6},{"$f":"AT11","v":7}]
[12,2150,13,2155,13,2165,null,null,null,null,0,111,null,null,"% target"]
[21,2255,11,2264,11,2271,null,null,null,null,0,211,null,null,"CCRF"]
[12,2420,13,2427,13,2438,null,null,null,null,0,111,null,null,"% CCRf"]
[12,2553,13,2558,13,2568,null,null,null,null,0,111,null,null,"average response rate",{"$f":"F17/P20","v":111.81818181818181},{"$f":"(F28-F17)/Q20","v":121.63636363636364},{"$f":"(F38-F28)/R20","v":118},{"$f":"(F49-F38)/S20","v":116.63636363636364},{"$f":"(F60-F49)/T20","v":112.36363636363636},{"$f":"(F71-F60)/U20","v":116.81818181818181}]
[12,2678,13,2685,13,2714,null,null,null,null,0,111]
[12,2826,13,2831,13,2838,null,null,null,null,0,111]
[12,2943,13,2948,13,2955,null,null,null,null,0,111]
[21,3050,11,3066,11,3074,null,null,null,null,0,211]
[21,3164,11,3179,11,3184,null,null,null,null,0,211]
[21,3277,11,3285,11,3289,null,null,null,null,0,211]
[21,3380,11,3394,11,3401,null,null,null,null,0,211]
[21,3492,11,3503,11,3508,null,null,null,null,0,211]
[12,3608,13,3623,13,3633,null,null,null,null,0,111]
[21,3733,11,3742,11,3748,null,null,null,null,0,211]
[12,3851,13,3856,13,3867,null,null,null,null,0,111]
[21,3964,11,3971,11,3976,null,null,null,null,0,211]
[12,4083,13,4088,13,4097,null,null,null,null,0,111]
[21,4194,11,4202,11,4207,null,null,null,null,0,211]
[21,4297,11,4307,11,4314,null,null,null,null,0,211]
[21,4406,11,4417,11,4422,null,null,null,null,0,211]
[12,4528,13,4535,13,4542,null,null,null,null,0,111]
[21,4644,11,4652,11,4656,null,null,null,null,0,211]
[12,4770,13,4780,13,4790,null,null,null,null,0,111]
[12,4895,13,4900,13,4910,null,null,null,null,0,111]
[12,5016,13,5023,13,5031,null,null,null,null,0,111]
[12,5132,13,5137,13,5143,null,null,null,null,0,111]
[21,5240,11,5248,11,5253,null,null,null,null,0,211]
[21,5347,11,5357,11,5364,null,null,null,null,0,211]
[21,5456,11,5468,11,5475,null,null,null,null,0,211]
[12,5577,13,5582,13,5589,null,null,null,null,0,111]
[21,5683,11,5692,11,5698,null,null,null,null,0,211]
[12,5807,13,5814,13,5821,null,null,null,null,0,111]
[21,5916,11,5926,11,5930,null,null,null,null,0,211]
[12,6029,13,6033,13,6044,null,null,null,null,0,111]
[12,6145,13,6150,13,6157,null,null,null,null,0,111]
[21,6253,11,6263,11,6267,null,null,null,null,0,211]
[12,6374,13,6381,13,6391,null,null,null,null,0,111]
[21,6487,11,6494,11,6499,null,null,null,null,0,211]
[21,6589,11,6604,11,6611,null,null,null,null,0,211]
[21,6702,11,6713,11,6721,null,null,null,null,0,211]
[12,6832,13,6840,13,6850,null,null,null,null,0,111]
[21,6942,11,6950,11,6955,null,null,null,null,0,211]
[21,7055,11,7064,11,7072,null,null,null,null,0,211]
[21,7173,11,7184,11,7190,null,null,null,null,0,211]
[12,7295,13,7300,13,7311,null,null,null,null,0,111]
[12,7422,13,7428,13,7442,null,null,null,null,0,111]
[21,7532,11,7546,11,7552,null,null,null,null,1,211]

{"sheet":"!N113B10.096","index":25,"n_rows":75,"n_cols":48,"rows_kept":75,"cut":false,"hidden":false,"merged":[[4,39,4,42],[5,39,5,40],[4,44,4,47],[5,44,5,45],[4,24,4,27],[5,24,5,25],[4,29,4,32],[5,29,5,30],[4,34,4,37],[5,34,5,35],[1,1,1,2],[5,13,5,14],[18,13,18,14],[19,13,19,14],[4,19,4,22],[5,19,5,20]]}
["Report for:!N113B10.096"]
["Date:","<date>"]
["Hen:","<hen>",null,null,null,"Correct Sequence",{"$f":"Start!J2","v":211},null,null,null,null,null,null,null,null,"Total Sequences in Data",{"$f":"4994-COUNTBLANK(L7:L5000)","v":69},null,null,null,null,"Total Sequences in Block Data",{"$f":"COUNTA(L7:L18)","v":12},null,null,null,"Total Sequences in Block Data",{"$f":"COUNTA(L19:L29)","v":11},null,null,null,"Total Sequences in Block Data",{"$f":"COUNTA(L30:L41)","v":12},null,null,null,"Total Sequences in Block Data",{"$f":"COUNTA(L42:L52)","v":11},null,null,null,"Total Sequences in Block Data",{"$f":"COUNTA(L53:L64)","v":12},null,null,null,"Total Sequences in Block Data",{"$f":"COUNTA(L65:L75)","v":11}]
[null,null,null,null,null,null,null,null,null,null,null,null,null,null,null,"Total Sequences in Summary",{"$f":"SUM(O7:O14)","v":69},null,null,null,null,"Total Sequences in Block Summary",{"$f":"SUM(U7:U14)","v":12},null,null,null,"Total Sequences in Block Summary",{"$f":"SUM(Z7:Z14)","v":11},null,null,null,"Total Sequences in Block Summary",{"$f":"SUM(AE7:AE14)","v":12},null,null,null,"Total Sequences in Block Summary",{"$f":"SUM(AJ7:AJ14)","v":11},null,null,null,"Total Sequences in Block Summary",{"$f":"SUM(AO7:AO14)","v":12},null,null,null,"Total Sequences in Block Summary",{"$f":"SUM(AT7:AT14)","v":11}]
[null,null,null,null,null,null,null,null,null,null,null,null,null,null,null,null,null,null,null,"Block 1",null,null,null,null,"Block 2",null,null,null,null,"Block 3",null,null,null,null,"Block 4",null,null,null,null,"Block 5",null,null,null,null,"Block 6"]
["Sequence\nComponent\n1","Time\n1","Sequence\nComponent\n2","Time\n2","Sequence\nComponent\n3","Time\n3","Sequence\nComponent\n4","Time\n4","Sequence\nComponent\n5","Time\n5","Correct?\n0=No 1=Yes","Sequence",null,"Frequency",null,"Relative Frequency","Variability",null,null,"Frequency",null,"Relative Frequency","Variability",null,"Frequency",null,"Relative Frequency","Variability",null,"Frequency",null,"Relative Frequency","Variability",null,"Frequency",null,"Relative Frequency","Variability",null,"Frequency",null,"Relative Frequency","Variability",null,"Frequency",null,"Relative Frequency","Variability"]
[12,32,13,40,13,50,null,null,null,null,0,111,null,111,{"$f":"COUNTIF($L$7:$L$500,N7)","v":23},{"$f":"O7/$Q$4","v":0.33333333333333331},{"$f":"IF(P7=0,0,(P7*((LOG(P7))/LOG(2))))","v":-0.52832083357371862},null,null,{"$f":"N7","v":111},{"$f":"COUNTIF(L7:L18,T7)","v":4},{"$f":"U7/(W4-U11)","v":0.5},{"$f":"IF(V7=0,0,(V7*((LOG(V7))/LOG(2))))","v":-0.5},null,{"$f":"N7","v":111},{"$f":"COUNTIF(L19:L29,Y7)","v":5},{"$f":"Z7/(AB4-Z11)","v":0.7142857142857143},{"$f":"IF(AA7=0,0,(AA7*((LOG(AA7))/LOG(2))))","v":-0.34673344797874411},null,{"$f":"N7","v":111},{"$f":"COUNTIF(L30:L41,AD7)","v":4},{"$f":"AE7/(AG4-AE11)","v":0.8},{"$f":"IF(AF7=0,0,(AF7*((LOG(AF7))/LOG(2))))","v":-0.25754247590988982},null,{"$f":"N7","v":111},{"$f":"COUNTIF(L42:L52,AI7)","v":3},{"$f":"AJ7/(AL4-AJ11)","v":0.75},{"$f":"IF(AK7=0,0,(AK7*((LOG(AK7))/LOG(2))))","v":-0.31127812445913283},null,{"$f":"N7","v":111},{"$f":"COUNTIF(L53:L64,AN7)","v":4},{"$f":"AO7/(AQ4-AO11)","v":1},{"$f":"IF(AP7=0,0,(AP7*((LOG(AP7))/LOG(2))))","v":0},null,{"$f":"N7","v":111},{"$f":"COUNTIF(L65:L75,AS7)","v":3},{"$f":"AT7/(AV4-AT11)","v":1},{"$f":"IF(AU7=0,0,(AU7*((LOG(AU7))/LOG(2))))","v":0}]
[12,170,13,177,13,190,null,null,null,null,0,111,null,112,{"$f":"COUNTIF($L$7:$L$500,N8)","v":0},{"$f":"O8/$Q$4","v":0},{"$f":"IF(P8=0,0,(P8*((LOG(P8))/LOG(2))))","v":0},null,null,{"$f":"N8","v":112},{"$f":"COUNTIF(L7:L18,T8)","v":0},{"$f":"U8/(W4-U11)","v":0},{"$f":"IF(V8=0,0,(V8*((LOG(V8))/LOG(2))))","v":0},null,{"$f":"N8","v":112},{"$f":"COUNTIF(L19:L29,Y8)","v":0},{"$f":"Z8/(AB4-Z11)","v":0},{"$f":"IF(AA8=0,0,(AA8*((LOG(AA8))/LOG(2))))","v":0},null,{"$f":"N8","v":112},{"$f":"COUNTIF(L30:L41,AD8)","v":0},{"$f":"AE8/(AG4-AE11)","v":0},{"$f":"IF(AF8=0,0,(AF8*((LOG(AF8))/LOG(2))))","v":0},null,{"$f":"N8","v":112},{"$f":"COUNTIF(L42:L52,AI8)","v":0},{"$f":"AJ8/(AL4-AJ11)","v":0},{"$f":"IF(AK8=0,0,(AK8*((LOG(AK8))/LOG(2))))","v":0},null,{"$f":"N8","v":112},{"$f":"COUNTIF(L53:L64,AN8)","v":0},{"$f":"AO8/(AQ4-AO11)","v":0},{"$f":"IF(AP8=0,0,(AP8*((LOG(AP8))/LOG(2))))","v":0},null,{"$f":"N8","v":112},{"$f":"COUNTIF(L65:L75,AS8)","v":0},{"$f":"AT8/(AV4-AT11)","v":0},{"$f":"IF(AU8=0,0,(AU8*((LOG(AU8))/LOG(2))))","v":0}]
[21,288,22,293,13,301,null,null,null,null,0,221,null,121,{"$f":"COUNTIF($L$7:$L$500,N9)","v":0},{"$f":"O9/$Q$4","v":0},{"$f":"IF(P9=0,0,(P9*((LOG(P9))/LOG(2))))","v":0},null,null,{"$f":"N9","v":121},{"$f":"COUNTIF(L7:L18,T9)","v":0},{"$f":"U9/(W4-U11)","v":0},{"$f":"IF(V9=0,0,(V9*((LOG(V9))/LOG(2))))","v":0},null,{"$f":"N9","v":121},{"$f":"COUNTIF(L19:L29,Y9)","v":0},{"$f":"Z9/(AB4-Z11)","v":0},{"$f":"IF(AA9=0,0,(AA9*((LOG(AA9))/LOG(2))))","v":0},null,{"$f":"N9","v":121},{"$f":"COUNTIF(L30:L41,AD9)","v":0},{"$f":"AE9/(AG4-AE11)","v":0},{"$f":"IF(AF9=0,0,(AF9*((LOG(AF9))/LOG(2))))","v":0},null,{"$f":"N9","v":121},{"$f":"COUNTIF(L42:L52,AI9)","v":0},{"$f":"AJ9/(AL4-AJ11)","v":0},{"$f":"IF(AK9=0,0,(AK9*((LOG(AK9))/LOG(2))))","v":0},null,{"$f":"N9","v":121},{"$f":"COUNTIF(L53:L64,AN9)","v":0},{"$f":"AO9/(AQ4-AO11)","v":0},{"$f":"IF(AP9=0,0,(AP9*((LOG(AP9))/LOG(2))))","v":0},null,{"$f":"N9","v":121},{"$f":"COUNTIF(L65:L75,AS9)","v":0},{"$f":"AT9/(AV4-AT11)","v":0},{"$f":"IF(AU9=0,0,(AU9*((LOG(AU9))/LOG(2))))","v":0}]
[21,395,22,402,24,417,null,null,null,null,0,222,null,122,{"$f":"COUNTIF($L$7:$L$500,N10)","v":0},{"$f":"O10/$Q$4","v":0},{"$f":"IF(P10=0,0,(P10*((LOG(P10))/LOG(2))))","v":0},null,null,{"$f":"N10","v":122},{"$f":"COUNTIF(L7:L18,T10)","v":0},{"$f":"U10/(W4-U11)","v":0},{"$f":"IF(V10=0,0,(V10*((LOG(V10))/LOG(2))))","v":0},null,{"$f":"N10","v":122},{"$f":"COUNTIF(L19:L29,Y10)","v":0},{"$f":"Z10/(AB4-Z11)","v":0},{"$f":"IF(AA10=0,0,(AA10*((LOG(AA10))/LOG(2))))","v":0},null,{"$f":"N10","v":122},{"$f":"COUNTIF(L30:L41,AD10)","v":0},{"$f":"AE10/(AG4-AE11)","v":0},{"$f":"IF(AF10=0,0,(AF10*((LOG(AF10))/LOG(2))))","v":0},null,{"$f":"N10","v":122},{"$f":"COUNTIF(L42:L52,AI10)","v":0},{"$f":"AJ10/(AL4-AJ11)","v":0},{"$f":"IF(AK10=0,0,(AK10*((LOG(AK10))/LOG(2))))","v":0},null,{"$f":"N10","v":122},{"$f":"COUNTIF(L53:L64,AN10)","v":0},{"$f":"AO10/(AQ4-AO11)","v":0},{"$f":"IF(AP10=0,0,(AP10*((LOG(AP10))/LOG(2))))","v":0},null,{"$f":"N10","v":122},{"$f":"COUNTIF(L65:L75,AS10)","v":0},{"$f":"AT10/(AV4-AT11)","v":0},{"$f":"IF(AU10=0,0,(AU10*((LOG(AU10))/LOG(2))))","v":0}]
[21,523,11,530,11,543,null,null,null,null,0,211,null,211,{"$f":"COUNTIF($L$7:$L$500,N11)","v":38},{"$f":"O11/$Q$4","v":0.55072463768115942},{"$f":"IF(P11=0,0,(P11*((LOG(P11))/LOG(2))))","v":-0.47395193980745182},null,null,{"$f":"N11","v":211},{"$f":"COUNTIF(L7:L18,T11)","v":4},null,null,null,{"$f":"N11","v":211},{"$f":"COUNTIF(L19:L29,Y11)","v":4},null,null,null,{"$f":"N11","v":211},{"$f":"COUNTIF(L30:L41,AD11)","v":7},null,null,null,{"$f":"N11","v":211},{"$f":"COUNTIF(L42:L52,AI11)","v":7},null,null,null,{"$f":"N11","v":211},{"$f":"COUNTIF(L53:L64,AN11)","v":8},null,null,null,{"$f":"N11","v":211},{"$f":"COUNTIF(L65:L75,AS11)","v":8}]
[21,636,22,645,24,653,null,null,null,null,0,222,null,212,{"$f":"COUNTIF($L$7:$L$500,N12)","v":0},{"$f":"O12/$Q$4","v":0},{"$f":"IF(P12=0,0,(P12*((LOG(P12))/LOG(2))))","v":0},null,null,{"$f":"N12","v":212},{"$f":"COUNTIF(L7:L18,T12)","v":0},{"$f":"U12/(W4-U11)","v":0},{"$f":"IF(V12=0,0,(V12*((LOG(V12))/LOG(2))))","v":0},null,{"$f":"N12","v":212},{"$f":"COUNTIF(L19:L29,Y12)","v":0},{"$f":"Z12/(AB4-Z11)","v":0},{"$f":"IF(AA12=0,0,(AA12*((LOG(AA12))/LOG(2))))","v":0},null,{"$f":"N12","v":212},{"$f":"COUNTIF(L30:L41,AD12)","v":0},{"$f":"AE12/(AG4-AE11)","v":0},{"$f":"IF(AF12=0,0,(AF12*((LOG(AF12))/LOG(2))))","v":0},null,{"$f":"N12","v":212},{"$f":"COUNTIF(L42:L52,AI12)","v":0},{"$f":"AJ12/(AL4-AJ11)","v":0},{"$f":"IF(AK12=0,0,(AK12*((LOG(AK12))/LOG(2))))","v":0},null,{"$f":"N12","v":212},{"$f":"COUNTIF(L53:L64,AN12)","v":0},{"$f":"AO12/(AQ4-AO11)","v":0},{"$f":"IF(AP12=0,0,(AP12*((LOG(AP12))/LOG(2))))","v":0},null,{"$f":"N12","v":212},{"$f":"COUNTIF(L65:L75,AS12)","v":0},{"$f":"AT12/(AV4-AT11)","v":0},{"$f":"IF(AU12=0,0,(AU12*((LOG(AU12))/LOG(2))))","v":0}]
[21,759,11,767,11,773,null,null,null,null,0,211,null,221,{"$f":"COUNTIF($L$7:$L$500,N13)","v":6},{"$f":"O13/$Q$4","v":8.6956521739130432E-2},{"$f":"IF(P13=0,0,(P13*((LOG(P13))/LOG(2))))","v":-0.30639669183104457},null,null,{"$f":"N13","v":221},{"$f":"COUNTIF(L7:L18,T13)","v":2},{"$f":"U13/(W4-U11)","v":0.25},{"$f":"IF(V13=0,0,(V13*((LOG(V13))/LOG(2))))","v":-0.5},null,{"$f":"N13","v":221},{"$f":"COUNTIF(L19:L29,Y13)","v":2},{"$f":"Z13/(AB4-Z11)","v":0.2857142857142857},{"$f":"IF(AA13=0,0,(AA13*((LOG(AA13))/LOG(2))))","v":-0.51638712058788683},null,{"$f":"N13","v":221},{"$f":"COUNTIF(L30:L41,AD13)","v":1},{"$f":"AE13/(AG4-AE11)","v":0.2},{"$f":"IF(AF13=0,0,(AF13*((LOG(AF13))/LOG(2))))","v":-0.46438561897747244},null,{"$f":"N13","v":221},{"$f":"COUNTIF(L42:L52,AI13)","v":1},{"$f":"AJ13/(AL4-AJ11)","v":0.25},{"$f":"IF(AK13=0,0,(AK13*((LOG(AK13))/LOG(2))))","v":-0.5},null,{"$f":"N13","v":221},{"$f":"COUNTIF(L53:L64,AN13)","v":0},{"$f":"AO13/(AQ4-AO11)","v":0},{"$f":"IF(AP13=0,0,(AP13*((LOG(AP13))/LOG(2))))","v":0},null,{"$f":"N13","v":221},{"$f":"COUNTIF(L65:L75,AS13)","v":0},{"$f":"AT13/(AV4-AT11)","v":0},{"$f":"IF(AU13=0,0,(AU13*((LOG(AU13))/LOG(2))))","v":0}]
[12,885,13,890,13,897,null,null,null,null,0,111,null,222,{"$f":"COUNTIF($L$7:$L$500,N14)","v":2},{"$f":"O14/$Q$4","v":2.8985507246376812E-2},{"$f":"IF(P14=0,0,(P14*((LOG(P14))/LOG(2))))","v":-0.14807317266023678},null,null,{"$f":"N14","v":222},{"$f":"COUNTIF(L7:L18,T14)","v":2},{"$f":"U14/(W4-U11)","v":0.25},{"$f":"IF(V14=0,0,(V14*((LOG(V14))/LOG(2))))","v":-0.5},null,{"$f":"N14","v":222},{"$f":"COUNTIF(L19:L29,Y14)","v":0},{"$f":"Z14/(AB4-Z11)","v":0},{"$f":"IF(AA14=0,0,(AA14*((LOG(AA14))/LOG(2))))","v":0},null,{"$f":"N14","v":222},{"$f":"COUNTIF(L30:L41,AD14)","v":0},{"$f":"AE14/(AG4-AE11)","v":0},{"$f":"IF(AF14=0,0,(AF14*((LOG(AF14))/LOG(2))))","v":0},null,{"$f":"N14","v":222},{"$f":"COUNTIF(L42:L52,AI14)","v":0},{"$f":"AJ14/(AL4-AJ11)","v":0},{"$f":"IF(AK14=0,0,(AK14*((LOG(AK14))/LOG(2))))","v":0},null,{"$f":"N14","v":222},{"$f":"COUNTIF(L53:L64,AN14)","v":0},{"$f":"AO14/(AQ4-AO11)","v":0},{"$f":"IF(AP14=0,0,(AP14*((LOG(AP14))/LOG(2))))","v":0},null,{"$f":"N14","v":222},{"$f":"COUNTIF(L65:L75,AS14)","v":0},{"$f":"AT14/(AV4-AT11)","v":0},{"$f":"IF(AU14=0,0,(AU14*((LOG(AU14))/LOG(2))))","v":0}]
[21,998,22,1002,13,1012,null,null,null,null,0,221,null,null,null,{"$f":"SUM(P7:P14)","v":0.99999999999999989},{"$f":"-SUM(Q7:Q14)","v":1.456742637872452},null,null,null,null,{"$f":"SUM(V7:V14)","v":1},{"$f":"-SUM(W7:W14)","v":1.5},null,null,null,{"$f":"SUM(AA7:AA14)","v":1},{"$f":"-SUM(AB7:AB14)","v":0.863120568566631},null,null,null,{"$f":"SUM(AF7:AF14)","v":1},{"$f":"-SUM(AG7:AG14)","v":0.72192809488736231},null,null,null,{"$f":"SUM(AK7:AK14)","v":1},{"$f":"-SUM(AL7:AL14)","v":0.81127812445913283},null,null,null,{"$f":"SUM(AP7:AP14)","v":1},{"$f":"-SUM(AQ7:AQ14)","v":0},null,null,null,{"$f":"SUM(AU7:AU14)","v":1},{"$f":"-SUM(AV7:AV14)","v":0}]
[21,1115,11,1122,11,1127,null,null,null,null,0,211,null,null,null,"U=",{"$f":"Q15/(LOG(Q4)/LOG(2))","v":0.2384770083479022},null,null,null,null,"U1=",{"$f":"W15/(LOG(W4)/LOG(2))","v":0.41841441847669475},null,null,null,"U2=",{"$f":"AB15/(LOG(AB4)/LOG(2))","v":0.24949779724410978},null,null,null,"U3=",{"$f":"AG15/(LOG(AG4)/LOG(2))","v":0.20137674933618921},null,null,null,"U4=",{"$f":"AL15/(LOG(AL4)/LOG(2))","v":0.23451197014228101},null,null,null,"U5=",{"$f":"AQ15/(LOG(AQ4)/LOG(2))","v":0},null,null,null,"U6=",{"$f":"AV15/(LOG(AV4)/LOG(2))","v":0}]
[12,1240,13,1247,13,1256,null,null,null,null,0,111]
[21,1359,11,1367,11,1375,null,null,null,null,0,211]
[21,1474,11,1482,11,1490,null,null,null,null,0,211,null,"Total Target Seq"]
[12,1595,13,1599,13,1619,null,null,null,null,0,111,null,{"$f":"COUNTIF(L7:L75,G3)","v":38},null,12,11,12,11,12,11]
[21,1708,11,1727,11,1735,null,null,null,null,0,211,null,null,null,"% of reinforcement given in 6 equal intervals based on number of trials "]
[12,1849,13,1857,13,1868,null,null,null,null,0,111,null,null,null,"%_1","%_2","%_3","%_4","%_5","%_6"]
[12,1979,13,1986,13,1993,null,null,null,null,0,111,null,null,"target sequence",{"$f":"$G$3","v":211},{"$f":"$G$3","v":211},{"$f":"$G$3","v":211},{"$f":"$G$3","v":211},{"$f":"$G$3","v":211},{"$f":"$G$3","v":211}]
[12,2103,13,2109,13,2123,null,null,null,null,0,111,null,null,"total reinforcement",{"$f":"U11","v":4},{"$f":"Z11","v":4},{"$f":"AE11","v":7},{"$f":"AJ11","v":7},{"$f":"AO11","v":8},{"$f":"AT11","v":8}]
[21,2223,11,2231,11,2236,null,null,null,null,0,211,null,null,"% target"]
[21,2326,22,2335,13,2345,null,null,null,null,0,221,null,null,"CCRF"]
[12,2456,13,2465,13,2473,null,null,null,null,0,111,null,null,"% CCRf"]
[21,2565,22,2570,13,2582,null,null,null,null,0,221,null,null,"average response rate",{"$f":"F18/P20","v":114.58333333333333},{"$f":"(F29-F18)/Q20","v":121.45454545454545},{"$f":"(F41-F29)/R20","v":122.83333333333333},{"$f":"(F52-F41)/S20","v":117.72727272727273},{"$f":"(F64-F52)/T20","v":113.41666666666667},{"$f":"(F75-F64)/U20","v":112.09090909090909}]
[21,2687,11,2703,11,2711,null,null,null,null,0,211]
[21,2811,11,2822,11,2830,null,null,null,null,0,211]
[12,2953,13,2963,13,2977,null,null,null,null,0,111]
[12,3090,13,3095,13,3104,null,null,null,null,0,111]
[12,3219,13,3226,13,3236,null,null,null,null,0,111]
[21,3336,11,3346,11,3352,null,null,null,null,0,211]
[21,3441,11,3461,11,3481,null,null,null,null,0,211]
[21,3576,11,3588,11,3596,null,null,null,null,0,211]
[12,3706,13,3714,13,3721,null,null,null,null,0,111]
[21,3818,22,3825,13,3835,null,null,null,null,0,221]
[21,3931,11,3948,11,3955,null,null,null,null,0,211]
[21,4049,11,4068,11,4075,null,null,null,null,0,211]
[21,4168,11,4178,11,4185,null,null,null,null,0,211]
[12,4292,13,4297,13,4304,null,null,null,null,0,111]
[21,4400,22,4405,13,4418,null,null,null,null,0,221]
[12,4530,13,4535,13,4544,null,null,null,null,0,111]
[21,4644,11,4654,11,4662,null,null,null,null,0,211]
[21,4758,11,4766,11,4770,null,null,null,null,0,211]
[21,4860,11,4880,11,4909,null,null,null,null,0,211]
[21,5009,11,5018,11,5031,null,null,null,null,0,211]
[21,5123,11,5132,11,5137,null,null,null,null,0,211]
[21,5228,11,5240,11,5258,null,null,null,null,0,211]
[21,5349,11,5358,11,5365,null,null,null,null,0,211]
[12,5467,13,5473,13,5480,null,null,null,null,0,111]
[12,5591,13,5597,13,5605,null,null,null,null,0,111]
[21,5702,11,5721,11,5730,null,null,null,null,0,211]
[12,5830,13,5835,13,5845,null,null,null,null,0,111]
[21,5950,11,5958,11,5972,null,null,null,null,0,211]
[21,6064,11,6071,11,6076,null,null,null,null,0,211]
[12,6177,13,6183,13,6195,null,null,null,null,0,111]
[21,6292,11,6299,11,6304,null,null,null,null,0,211]
[21,6396,11,6404,11,6408,null,null,null,null,0,211]
[21,6500,11,6507,11,6512,null,null,null,null,0,211]
[21,6604,11,6611,11,6618,null,null,null,null,0,211]
[12,6718,13,6723,13,6733,null,null,null,null,0,111]
[21,6830,11,6837,11,6841,null,null,null,null,0,211]
[21,6932,11,6941,11,6945,null,null,null,null,0,211]
[12,7048,13,7052,13,7066,null,null,null,null,0,111]
[21,7168,11,7178,11,7183,null,null,null,null,0,211]
[21,7276,11,7283,11,7287,null,null,null,null,0,211]
[21,7381,11,7388,11,7394,null,null,null,null,0,211]
[21,7487,11,7494,11,7504,null,null,null,null,0,211]
[21,7595,11,7603,11,7612,null,null,null,null,0,211]
[12,7717,13,7721,13,7727,null,null,null,null,0,111]
[12,7833,13,7837,13,7843,null,null,null,null,0,111]
[21,7940,11,7948,11,7952,null,null,null,null,0,211]
[21,8048,11,8060,11,8074,null,null,null,null,1,211]

{"sheet":"!N115A30.096","index":26,"n_rows":70,"n_cols":48,"rows_kept":70,"cut":false,"hidden":false,"merged":[[4,39,4,42],[5,39,5,40],[4,44,4,47],[5,44,5,45],[4,24,4,27],[5,24,5,25],[4,29,4,32],[5,29,5,30],[4,34,4,37],[5,34,5,35],[1,1,1,2],[5,13,5,14],[18,13,18,14],[19,13,19,14],[4,19,4,22],[5,19,5,20]]}
["Report for:!N115A30.096"]
["Date:","<date>"]
["Hen:","<hen>",null,null,null,"Correct Sequence",{"$f":"Start!J2","v":211},null,null,null,null,null,null,null,null,"Total Sequences in Data",{"$f":"4994-COUNTBLANK(L7:L5000)","v":64},null,null,null,null,"Total Sequences in Block Data",{"$f":"COUNTA(L7:L17)","v":11},null,null,null,"Total Sequences in Block Data",{"$f":"COUNTA(L18:L27)","v":10},null,null,null,"Total Sequences in Block Data",{"$f":"COUNTA(L28:L38)","v":11},null,null,null,"Total Sequences in Block Data",{"$f":"COUNTA(L39:L49)","v":11},null,null,null,"Total Sequences in Block Data",{"$f":"COUNTA(L50:L59)","v":10},null,null,null,"Total Sequences in Block Data",{"$f":"COUNTA(L60:L70)","v":11}]
[null,null,null,null,null,null,null,null,null,null,null,null,null,null,null,"Total Sequences in Summary",{"$f":"SUM(O7:O14)","v":64},null,null,null,null,"Total Sequences in Block Summary",{"$f":"SUM(U7:U14)","v":11},null,null,null,"Total Sequences in Block Summary",{"$f":"SUM(Z7:Z14)","v":10},null,null,null,"Total Sequences in Block Summary",{"$f":"SUM(AE7:AE14)","v":11},null,null,null,"Total Sequences in Block Summary",{"$f":"SUM(AJ7:AJ14)","v":11},null,null,null,"Total Sequences in Block Summary",{"$f":"SUM(AO7:AO14)","v":10},null,null,null,"Total Sequences in Block Summary",{"$f":"SUM(AT7:AT14)","v":11}]
[null,null,null,null,null,null,null,null,null,null,null,null,null,null,null,null,null,null,null,"Block 1",null,null,null,null,"Block 2",null,null,null,null,"Block 3",null,null,null,null,"Block 4",null,null,null,null,"Block 5",null,null,null,null,"Block 6"]
["Sequence\nComponent\n1","Time\n1","Sequence\nComponent\n2","Time\n2","Sequence\nComponent\n3","Time\n3","Sequence\nComponent\n4","Time\n4","Sequence\nComponent\n5","Time\n5","Correct?\n0=No 1=Yes","Sequence",null,"Frequency",null,"Relative Frequency","Variability",null,null,"Frequency",null,"Relative Frequency","Variability",null,"Frequency",null,"Relative Frequency","Variability",null,"Frequency",null,"Relative Frequency","Variability",null,"Frequency",null,"Relative Frequency","Variability",null,"Frequency",null,"Relative Frequency","Variability",null,"Frequency",null,"Relative Frequency","Variability"]
[21,19,22,23,24,58,null,null,null,null,0,222,null,111,{"$f":"COUNTIF($L$7:$L$500,N7)","v":21},{"$f":"O7/$Q$4","v":0.328125},{"$f":"IF(P7=0,0,(P7*((LOG(P7))/LOG(2))))","v":-0.52752084565071922},null,null,{"$f":"N7","v":111},{"$f":"COUNTIF(L7:L17,T7)","v":2},{"$f":"U7/(W4-U11)","v":0.4},{"$f":"IF(V7=0,0,(V7*((LOG(V7))/LOG(2))))","v":-0.52877123795494496},null,{"$f":"N7","v":111},{"$f":"COUNTIF(L18:L27,Y7)","v":3},{"$f":"Z7/(AB4-Z11)","v":1},{"$f":"IF(AA7=0,0,(AA7*((LOG(AA7))/LOG(2))))","v":0},null,{"$f":"N7","v":111},{"$f":"COUNTIF(L28:L38,AD7)","v":3},{"$f":"AE7/(AG4-AE11)","v":1},{"$f":"IF(AF7=0,0,(AF7*((LOG(AF7))/LOG(2))))","v":0},null,{"$f":"N7","v":111},{"$f":"COUNTIF(L39:L49,AI7)","v":7},{"$f":"AJ7/(AL4-AJ11)","v":1},{"$f":"IF(AK7=0,0,(AK7*((LOG(AK7))/LOG(2))))","v":0},null,{"$f":"N7","v":111},{"$f":"COUNTIF(L50:L59,AN7)","v":4},{"$f":"AO7/(AQ4-AO11)","v":1},{"$f":"IF(AP7=0,0,(AP7*((LOG(AP7))/LOG(2))))","v":0},null,{"$f":"N7","v":111},{"$f":"COUNTIF(L60:L70,AS7)","v":2},{"$f":"AT7/(AV4-AT11)","v":0.66666666666666663},{"$f":"IF(AU7=0,0,(AU7*((LOG(AU7))/LOG(2))))","v":-0.38997500048077083}]
[21,159,22,171,13,180,null,null,null,null,0,221,null,112,{"$f":"COUNTIF($L$7:$L$500,N8)","v":0},{"$f":"O8/$Q$4","v":0},{"$f":"IF(P8=0,0,(P8*((LOG(P8))/LOG(2))))","v":0},null,null,{"$f":"N8","v":112},{"$f":"COUNTIF(L7:L17,T8)","v":0},{"$f":"U8/(W4-U11)","v":0},{"$f":"IF(V8=0,0,(V8*((LOG(V8))/LOG(2))))","v":0},null,{"$f":"N8","v":112},{"$f":"COUNTIF(L18:L27,Y8)","v":0},{"$f":"Z8/(AB4-Z11)","v":0},{"$f":"IF(AA8=0,0,(AA8*((LOG(AA8))/LOG(2))))","v":0},null,{"$f":"N8","v":112},{"$f":"COUNTIF(L28:L38,AD8)","v":0},{"$f":"AE8/(AG4-AE11)","v":0},{"$f":"IF(AF8=0,0,(AF8*((LOG(AF8))/LOG(2))))","v":0},null,{"$f":"N8","v":112},{"$f":"COUNTIF(L39:L49,AI8)","v":0},{"$f":"AJ8/(AL4-AJ11)","v":0},{"$f":"IF(AK8=0,0,(AK8*((LOG(AK8))/LOG(2))))","v":0},null,{"$f":"N8","v":112},{"$f":"COUNTIF(L50:L59,AN8)","v":0},{"$f":"AO8/(AQ4-AO11)","v":0},{"$f":"IF(AP8=0,0,(AP8*((LOG(AP8))/LOG(2))))","v":0},null,{"$f":"N8","v":112},{"$f":"COUNTIF(L60:L70,AS8)","v":0},{"$f":"AT8/(AV4-AT11)","v":0},{"$f":"IF(AU8=0,0,(AU8*((LOG(AU8))/LOG(2))))","v":0}]
[21,281,11,289,11,293,null,null,null,null,0,211,null,121,{"$f":"COUNTIF($L$7:$L$500,N9)","v":0},{"$f":"O9/$Q$4","v":0},{"$f":"IF(P9=0,0,(P9*((LOG(P9))/LOG(2))))","v":0},null,null,{"$f":"N9","v":121},{"$f":"COUNTIF(L7:L17,T9)","v":0},{"$f":"U9/(W4-U11)","v":0},{"$f":"IF(V9=0,0,(V9*((LOG(V9))/LOG(2))))","v":0},null,{"$f":"N9","v":121},{"$f":"COUNTIF(L18:L27,Y9)","v":0},{"$f":"Z9/(AB4-Z11)","v":0},{"$f":"IF(AA9=0,0,(AA9*((LOG(AA9))/LOG(2))))","v":0},null,{"$f":"N9","v":121},{"$f":"COUNTIF(L28:L38,AD9)","v":0},{"$f":"AE9/(AG4-AE11)","v":0},{"$f":"IF(AF9=0,0,(AF9*((LOG(AF9))/LOG(2))))","v":0},null,{"$f":"N9","v":121},{"$f":"COUNTIF(L39:L49,AI9)","v":0},{"$f":"AJ9/(AL4-AJ11)","v":0},{"$f":"IF(AK9=0,0,(AK9*((LOG(AK9))/LOG(2))))","v":0},null,{"$f":"N9","v":121},{"$f":"COUNTIF(L50:L59,AN9)","v":0},{"$f":"AO9/(AQ4-AO11)","v":0},{"$f":"IF(AP9=0,0,(AP9*((LOG(AP9))/LOG(2))))","v":0},null,{"$f":"N9","v":121},{"$f":"COUNTIF(L60:L70,AS9)","v":0},{"$f":"AT9/(AV4-AT11)","v":0},{"$f":"IF(AU9=0,0,(AU9*((LOG(AU9))/LOG(2))))","v":0}]
[21,387,11,400,11,412,null,null,null,null,0,211,null,122,{"$f":"COUNTIF($L$7:$L$500,N10)","v":0},{"$f":"O10/$Q$4","v":0},{"$f":"IF(P10=0,0,(P10*((LOG(P10))/LOG(2))))","v":0},null,null,{"$f":"N10","v":122},{"$f":"COUNTIF(L7:L17,T10)","v":0},{"$f":"U10/(W4-U11)","v":0},{"$f":"IF(V10=0,0,(V10*((LOG(V10))/LOG(2))))","v":0},null,{"$f":"N10","v":122},{"$f":"COUNTIF(L18:L27,Y10)","v":0},{"$f":"Z10/(AB4-Z11)","v":0},{"$f":"IF(AA10=0,0,(AA10*((LOG(AA10))/LOG(2))))","v":0},null,{"$f":"N10","v":122},{"$f":"COUNTIF(L28:L38,AD10)","v":0},{"$f":"AE10/(AG4-AE11)","v":0},{"$f":"IF(AF10=0,0,(AF10*((LOG(AF10))/LOG(2))))","v":0},null,{"$f":"N10","v":122},{"$f":"COUNTIF(L39:L49,AI10)","v":0},{"$f":"AJ10/(AL4-AJ11)","v":0},{"$f":"IF(AK10=0,0,(AK10*((LOG(AK10))/LOG(2))))","v":0},null,{"$f":"N10","v":122},{"$f":"COUNTIF(L50:L59,AN10)","v":0},{"$f":"AO10/(AQ4-AO11)","v":0},{"$f":"IF(AP10=0,0,(AP10*((LOG(AP10))/LOG(2))))","v":0},null,{"$f":"N10","v":122},{"$f":"COUNTIF(L60:L70,AS10)","v":0},{"$f":"AT10/(AV4-AT11)","v":0},{"$f":"IF(AU10=0,0,(AU10*((LOG(AU10))/LOG(2))))","v":0}]
[21,506,11,513,11,518,null,null,null,null,0,211,null,211,{"$f":"COUNTIF($L$7:$L$500,N11)","v":39},{"$f":"O11/$Q$4","v":0.609375},{"$f":"IF(P11=0,0,(P11*((LOG(P11))/LOG(2))))","v":-0.43545802288081747},null,null,{"$f":"N11","v":211},{"$f":"COUNTIF(L7:L17,T11)","v":6},null,null,null,{"$f":"N11","v":211},{"$f":"COUNTIF(L18:L27,Y11)","v":7},null,null,null,{"$f":"N11","v":211},{"$f":"COUNTIF(L28:L38,AD11)","v":8},null,null,null,{"$f":"N11","v":211},{"$f":"COUNTIF(L39:L49,AI11)","v":4},null,null,null,{"$f":"N11","v":211},{"$f":"COUNTIF(L50:L59,AN11)","v":6},null,null,null,{"$f":"N11","v":211},{"$f":"COUNTIF(L60:L70,AS11)","v":8}]
[12,620,13,625,13,636,null,null,null,null,0,111,null,212,{"$f":"COUNTIF($L$7:$L$500,N12)","v":1},{"$f":"O12/$Q$4","v":1.5625E-2},{"$f":"IF(P12=0,0,(P12*((LOG(P12))/LOG(2))))","v":-9.375E-2},null,null,{"$f":"N12","v":212},{"$f":"COUNTIF(L7:L17,T12)","v":0},{"$f":"U12/(W4-U11)","v":0},{"$f":"IF(V12=0,0,(V12*((LOG(V12))/LOG(2))))","v":0},null,{"$f":"N12","v":212},{"$f":"COUNTIF(L18:L27,Y12)","v":0},{"$f":"Z12/(AB4-Z11)","v":0},{"$f":"IF(AA12=0,0,(AA12*((LOG(AA12))/LOG(2))))","v":0},null,{"$f":"N12","v":212},{"$f":"COUNTIF(L28:L38,AD12)","v":0},{"$f":"AE12/(AG4-AE11)","v":0},{"$f":"IF(AF12=0,0,(AF12*((LOG(AF12))/LOG(2))))","v":0},null,{"$f":"N12","v":212},{"$f":"COUNTIF(L39:L49,AI12)","v":0},{"$f":"AJ12/(AL4-AJ11)","v":0},{"$f":"IF(AK12=0,0,(AK12*((LOG(AK12))/LOG(2))))","v":0},null,{"$f":"N12","v":212},{"$f":"COUNTIF(L50:L59,AN12)","v":0},{"$f":"AO12/(AQ4-AO11)","v":0},{"$f":"IF(AP12=0,0,(AP12*((LOG(AP12))/LOG(2))))","v":0},null,{"$f":"N12","v":212},{"$f":"COUNTIF(L60:L70,AS12)","v":1},{"$f":"AT12/(AV4-AT11)","v":0.33333333333333331},{"$f":"IF(AU12=0,0,(AU12*((LOG(AU12))/LOG(2))))","v":-0.52832083357371862}]
[21,732,11,743,11,747,null,null,null,null,0,211,null,221,{"$f":"COUNTIF($L$7:$L$500,N13)","v":2},{"$f":"O13/$Q$4","v":3.125E-2},{"$f":"IF(P13=0,0,(P13*((LOG(P13))/LOG(2))))","v":-0.15625},null,null,{"$f":"N13","v":221},{"$f":"COUNTIF(L7:L17,T13)","v":2},{"$f":"U13/(W4-U11)","v":0.4},{"$f":"IF(V13=0,0,(V13*((LOG(V13))/LOG(2))))","v":-0.52877123795494496},null,{"$f":"N13","v":221},{"$f":"COUNTIF(L18:L27,Y13)","v":0},{"$f":"Z13/(AB4-Z11)","v":0},{"$f":"IF(AA13=0,0,(AA13*((LOG(AA13))/LOG(2))))","v":0},null,{"$f":"N13","v":221},{"$f":"COUNTIF(L28:L38,AD13)","v":0},{"$f":"AE13/(AG4-AE11)","v":0},{"$f":"IF(AF13=0,0,(AF13*((LOG(AF13))/LOG(2))))","v":0},null,{"$f":"N13","v":221},{"$f":"COUNTIF(L39:L49,AI13)","v":0},{"$f":"AJ13/(AL4-AJ11)","v":0},{"$f":"IF(AK13=0,0,(AK13*((LOG(AK13))/LOG(2))))","v":0},null,{"$f":"N13","v":221},{"$f":"COUNTIF(L50:L59,AN13)","v":0},{"$f":"AO13/(AQ4-AO11)","v":0},{"$f":"IF(AP13=0,0,(AP13*((LOG(AP13))/LOG(2))))","v":0},null,{"$f":"N13","v":221},{"$f":"COUNTIF(L60:L70,AS13)","v":0},{"$f":"AT13/(AV4-AT11)","v":0},{"$f":"IF(AU13=0,0,(AU13*((LOG(AU13))/LOG(2))))","v":0}]
[12,850,13,858,13,866,null,null,null,null,0,111,null,222,{"$f":"COUNTIF($L$7:$L$500,N14)","v":1},{"$f":"O14/$Q$4","v":1.5625E-2},{"$f":"IF(P14=0,0,(P14*((LOG(P14))/LOG(2))))","v":-9.375E-2},null,null,{"$f":"N14","v":222},{"$f":"COUNTIF(L7:L17,T14)","v":1},{"$f":"U14/(W4-U11)","v":0.2},{"$f":"IF(V14=0,0,(V14*((LOG(V14))/LOG(2))))","v":-0.46438561897747244},null,{"$f":"N14","v":222},{"$f":"COUNTIF(L18:L27,Y14)","v":0},{"$f":"Z14/(AB4-Z11)","v":0},{"$f":"IF(AA14=0,0,(AA14*((LOG(AA14))/LOG(2))))","v":0},null,{"$f":"N14","v":222},{"$f":"COUNTIF(L28:L38,AD14)","v":0},{"$f":"AE14/(AG4-AE11)","v":0},{"$f":"IF(AF14=0,0,(AF14*((LOG(AF14))/LOG(2))))","v":0},null,{"$f":"N14","v":222},{"$f":"COUNTIF(L39:L49,AI14)","v":0},{"$f":"AJ14/(AL4-AJ11)","v":0},{"$f":"IF(AK14=0,0,(AK14*((LOG(AK14))/LOG(2))))","v":0},null,{"$f":"N14","v":222},{"$f":"COUNTIF(L50:L59,AN14)","v":0},{"$f":"AO14/(AQ4-AO11)","v":0},{"$f":"IF(AP14=0,0,(AP14*((LOG(AP14))/LOG(2))))","v":0},null,{"$f":"N14","v":222},{"$f":"COUNTIF(L60:L70,AS14)","v":0},{"$f":"AT14/(AV4-AT11)","v":0},{"$f":"IF(AU14=0,0,(AU14*((LOG(AU14))/LOG(2))))","v":0}]
[21,963,22,968,13,976,null,null,null,null,0,221,null,null,null,{"$f":"SUM(P7:P14)","v":1},{"$f":"-SUM(Q7:Q14)","v":1.3067288685315366},null,null,null,null,{"$f":"SUM(V7:V14)","v":1},{"$f":"-SUM(W7:W14)","v":1.5219280948873624},null,null,null,{"$f":"SUM(AA7:AA14)","v":1},{"$f":"-SUM(AB7:AB14)","v":0},null,null,null,{"$f":"SUM(AF7:AF14)","v":1},{"$f":"-SUM(AG7:AG14)","v":0},null,null,null,{"$f":"SUM(AK7:AK14)","v":1},{"$f":"-SUM(AL7:AL14)","v":0},null,null,null,{"$f":"SUM(AP7:AP14)","v":1},{"$f":"-SUM(AQ7:AQ14)","v":0},null,null,null,{"$f":"SUM(AU7:AU14)","v":1},{"$f":"-SUM(AV7:AV14)","v":0.91829583405448945}]
[21,1073,11,1083,11,1090,null,null,null,null,0,211,null,null,null,"U=",{"$f":"Q15/(LOG(Q4)/LOG(2))","v":0.2177881447552561},null,null,null,null,"U1=",{"$f":"W15/(LOG(W4)/LOG(2))","v":0.43993588041692927},null,null,null,"U2=",{"$f":"AB15/(LOG(AB4)/LOG(2))","v":0},null,null,null,"U3=",{"$f":"AG15/(LOG(AG4)/LOG(2))","v":0},null,null,null,"U4=",{"$f":"AL15/(LOG(AL4)/LOG(2))","v":0},null,null,null,"U5=",{"$f":"AQ15/(LOG(AQ4)/LOG(2))","v":0},null,null,null,"U6=",{"$f":"AV15/(LOG(AV4)/LOG(2))","v":0.26544702577940094}]
[21,1183,11,1191,11,1197,null,null,null,null,0,211]
[21,1287,11,1300,11,1304,null,null,null,null,0,211]
[21,1397,11,1408,11,1414,null,null,null,null,0,211,null,"Total Target Seq"]
[21,1507,11,1514,11,1520,null,null,null,null,0,211,null,{"$f":"COUNTIF(L7:L70,G3)","v":39},null,11,10,11,11,10,11]
[21,1613,11,1620,11,1624,null,null,null,null,0,211,null,null,null,"% of reinforcement given in 6 equal intervals based on number of trials "]
[12,1725,13,1729,13,1736,null,null,null,null,0,111,null,null,null,"%_1","%_2","%_3","%_4","%_5","%_6"]
[12,1842,13,1848,13,1857,null,null,null,null,0,111,null,null,"target sequence",{"$f":"$G$3","v":211},{"$f":"$G$3","v":211},{"$f":"$G$3","v":211},{"$f":"$G$3","v":211},{"$f":"$G$3","v":211},{"$f":"$G$3","v":211}]
[21,1960,11,1966,11,1972,null,null,null,null,0,211,null,null,"total reinforcement",{"$f":"U11","v":6},{"$f":"Z11","v":7},{"$f":"AE11","v":8},{"$f":"AJ11","v":4},{"$f":"AO11","v":6},{"$f":"AT11","v":8}]
[21,2070,11,2081,11,2090,null,null,null,null,0,211,null,null,"% target"]
[12,2194,13,2204,13,2213,null,null,null,null,0,111,null,null,"CCRF"]
[21,2311,11,2329,11,2335,null,null,null,null,0,211,null,null,"% CCRf"]
[21,2425,11,2439,11,2443,null,null,null,null,0,211,null,null,"average response rate",{"$f":"F17/P20","v":108.81818181818181},{"$f":"(F27-F17)/Q20","v":113.8},{"$f":"(F38-F27)/R20","v":109.90909090909091},{"$f":"(F49-F38)/S20","v":114.45454545454545},{"$f":"(F59-F49)/T20","v":112.6},{"$f":"(F70-F59)/U20","v":112.90909090909091}]
[21,2535,11,2542,11,2546,null,null,null,null,0,211]
[21,2635,11,2643,11,2647,null,null,null,null,0,211]
[12,2748,13,2755,13,2765,null,null,null,null,0,111]
[21,2862,11,2869,11,2876,null,null,null,null,0,211]
[21,2969,11,2981,11,2991,null,null,null,null,0,211]
[21,3082,11,3091,11,3095,null,null,null,null,0,211]
[21,3187,11,3195,11,3201,null,null,null,null,0,211]
[12,3300,13,3304,13,3314,null,null,null,null,0,111]
[21,3410,11,3420,11,3426,null,null,null,null,0,211]
[12,3523,13,3534,13,3544,null,null,null,null,0,111]
[21,3640,11,3647,11,3656,null,null,null,null,0,211]
[21,3748,11,3756,11,3760,null,null,null,null,0,211]
[12,3857,13,3861,13,3872,null,null,null,null,0,111]
[12,3974,13,3984,13,3997,null,null,null,null,0,111]
[12,4105,13,4109,13,4116,null,null,null,null,0,111]
[12,4220,13,4225,13,4235,null,null,null,null,0,111]
[21,4331,11,4338,11,4344,null,null,null,null,0,211]
[21,4435,11,4443,11,4448,null,null,null,null,0,211]
[12,4547,13,4553,13,4563,null,null,null,null,0,111]
[12,4671,13,4675,13,4686,null,null,null,null,0,111]
[12,4790,13,4794,13,4803,null,null,null,null,0,111]
[21,4900,11,4910,11,4915,null,null,null,null,0,211]
[21,5006,11,5015,11,5019,null,null,null,null,0,211]
[12,5116,13,5123,13,5133,null,null,null,null,0,111]
[21,5229,11,5237,11,5242,null,null,null,null,0,211]
[21,5334,11,5341,11,5349,null,null,null,null,0,211]
[12,5447,13,5452,13,5463,null,null,null,null,0,111]
[21,5562,11,5570,11,5574,null,null,null,null,0,211]
[12,5673,13,5680,13,5693,null,null,null,null,0,111]
[21,5789,11,5796,11,5808,null,null,null,null,0,211]
[12,5909,13,5918,13,5929,null,null,null,null,0,111]
[21,6026,11,6033,11,6039,null,null,null,null,0,211]
[21,6134,11,6141,11,6147,null,null,null,null,0,211]
[21,6244,11,6262,22,6290,null,null,null,null,0,212]
[12,6398,13,6408,13,6421,null,null,null,null,0,111]
[21,6517,11,6524,11,6529,null,null,null,null,0,211]
[12,6628,13,6634,13,6642,null,null,null,null,0,111]
[21,6739,11,6746,11,6752,null,null,null,null,0,211]
[21,6843,11,6851,11,6857,null,null,null,null,0,211]
[21,6948,11,6955,11,6961,null,null,null,null,0,211]
[21,7052,11,7060,11,7064,null,null,null,null,0,211]
[21,7155,11,7165,11,7171,null,null,null,null,1,211]

{"sheet":"!N118D30.096","index":27,"n_rows":81,"n_cols":48,"rows_kept":81,"cut":false,"hidden":false,"merged":[[4,39,4,42],[5,39,5,40],[4,44,4,47],[5,44,5,45],[4,24,4,27],[5,24,5,25],[4,29,4,32],[5,29,5,30],[4,34,4,37],[5,34,5,35],[1,1,1,2],[5,13,5,14],[18,13,18,14],[19,13,19,14],[4,19,4,22],[5,19,5,20]]}
["Report for:!N118D30.096"]
["Date:","<date>"]
["Hen:","<hen>",null,null,null,"Correct Sequence",{"$f":"Start!J2","v":211},null,null,null,null,null,null,null,null,"Total Sequences in Data",{"$f":"4994-COUNTBLANK(L7:L5000)","v":75},null,null,null,null,"Total Sequences in Block Data",{"$f":"COUNTA(L7:L19)","v":13},null,null,null,"Total Sequences in Block Data",{"$f":"COUNTA(L20:L31)","v":12},null,null,null,"Total Sequences in Block Data",{"$f":"COUNTA(L32:L44)","v":13},null,null,null,"Total Sequences in Block Data",{"$f":"COUNTA(L45:L56)","v":12},null,null,null,"Total Sequences in Block Data",{"$f":"COUNTA(L57:L69)","v":13},null,null,null,"Total Sequences in Block Data",{"$f":"COUNTA(L70:L81)","v":12}]
[null,null,null,null,null,null,null,null,null,null,null,null,null,null,null,"Total Sequences in Summary",{"$f":"SUM(O7:O14)","v":75},null,null,null,null,"Total Sequences in Block Summary",{"$f":"SUM(U7:U14)","v":13},null,null,null,"Total Sequences in Block Summary",{"$f":"SUM(Z7:Z14)","v":12},null,null,null,"Total Sequences in Block Summary",{"$f":"SUM(AE7:AE14)","v":13},null,null,null,"Total Sequences in Block Summary",{"$f":"SUM(AJ7:AJ14)","v":12},null,null,null,"Total Sequences in Block Summary",{"$f":"SUM(AO7:AO14)","v":13},null,null,null,"Total Sequences in Block Summary",{"$f":"SUM(AT7:AT14)","v":12}]
[null,null,null,null,null,null,null,null,null,null,null,null,null,null,null,null,null,null,null,"Block 1",null,null,null,null,"Block 2",null,null,null,null,"Block 3",null,null,null,null,"Block 4",null,null,null,null,"Block 5",null,null,null,null,"Block 6"]
["Sequence\nComponent\n1","Time\n1","Sequence\nComponent\n2","Time\n2","Sequence\nComponent\n3","Time\n3","Sequence\nComponent\n4","Time\n4","Sequence\nComponent\n5","Time\n5","Correct?\n0=No 1=Yes","Sequence",null,"Frequency",null,"Relative Frequency","Variability",null,null,"Frequency",null,"Relative Frequency","Variability",null,"Frequency",null,"Relative Frequency","Variability",null,"Frequency",null,"Relative Frequency","Variability",null,"Frequency",null,"Relative Frequency","Variability",null,"Frequency",null,"Relative Frequency","Variability",null,"Frequency",null,"Relative Frequency","Variability"]
[12,11,13,17,24,40,null,null,null,null,0,112,null,111,{"$f":"COUNTIF($L$7:$L$500,N7)","v":37},{"$f":"O7/$Q$4","v":0.49333333333333335},{"$f":"IF(P7=0,0,(P7*((LOG(P7))/LOG(2))))","v":-0.50288689360101946},null,null,{"$f":"N7","v":111},{"$f":"COUNTIF(L7:L19,T7)","v":8},{"$f":"U7/(W4-U11)","v":0.88888888888888884},{"$f":"IF(V7=0,0,(V7*((LOG(V7))/LOG(2))))","v":-0.15104444572649992},null,{"$f":"N7","v":111},{"$f":"COUNTIF(L20:L31,Y7)","v":5},{"$f":"Z7/(AB4-Z11)","v":1},{"$f":"IF(AA7=0,0,(AA7*((LOG(AA7))/LOG(2))))","v":0},null,{"$f":"N7","v":111},{"$f":"COUNTIF(L32:L44,AD7)","v":4},{"$f":"AE7/(AG4-AE11)","v":1},{"$f":"IF(AF7=0,0,(AF7*((LOG(AF7))/LOG(2))))","v":0},null,{"$f":"N7","v":111},{"$f":"COUNTIF(L45:L56,AI7)","v":6},{"$f":"AJ7/(AL4-AJ11)","v":1},{"$f":"IF(AK7=0,0,(AK7*((LOG(AK7))/LOG(2))))","v":0},null,{"$f":"N7","v":111},{"$f":"COUNTIF(L57:L69,AN7)","v":8},{"$f":"AO7/(AQ4-AO11)","v":1},{"$f":"IF(AP7=0,0,(AP7*((LOG(AP7))/LOG(2))))","v":0},null,{"$f":"N7","v":111},{"$f":"COUNTIF(L70:L81,AS7)","v":6},{"$f":"AT7/(AV4-AT11)","v":1},{"$f":"IF(AU7=0,0,(AU7*((LOG(AU7))/LOG(2))))","v":0}]
[21,137,11,144,11,148,null,null,null,null,0,211,null,112,{"$f":"COUNTIF($L$7:$L$500,N8)","v":1},{"$f":"O8/$Q$4","v":1.3333333333333334E-2},{"$f":"IF(P8=0,0,(P8*((LOG(P8))/LOG(2))))","v":-8.3050915873278425E-2},null,null,{"$f":"N8","v":112},{"$f":"COUNTIF(L7:L19,T8)","v":1},{"$f":"U8/(W4-U11)","v":0.1111111111111111},{"$f":"IF(V8=0,0,(V8*((LOG(V8))/LOG(2))))","v":-0.3522138890491458},null,{"$f":"N8","v":112},{"$f":"COUNTIF(L20:L31,Y8)","v":0},{"$f":"Z8/(AB4-Z11)","v":0},{"$f":"IF(AA8=0,0,(AA8*((LOG(AA8))/LOG(2))))","v":0},null,{"$f":"N8","v":112},{"$f":"COUNTIF(L32:L44,AD8)","v":0},{"$f":"AE8/(AG4-AE11)","v":0},{"$f":"IF(AF8=0,0,(AF8*((LOG(AF8))/LOG(2))))","v":0},null,{"$f":"N8","v":112},{"$f":"COUNTIF(L45:L56,AI8)","v":0},{"$f":"AJ8/(AL4-AJ11)","v":0},{"$f":"IF(AK8=0,0,(AK8*((LOG(AK8))/LOG(2))))","v":0},null,{"$f":"N8","v":112},{"$f":"COUNTIF(L57:L69,AN8)","v":0},{"$f":"AO8/(AQ4-AO11)","v":0},{"$f":"IF(AP8=0,0,(AP8*((LOG(AP8))/LOG(2))))","v":0},null,{"$f":"N8","v":112},{"$f":"COUNTIF(L70:L81,AS8)","v":0},{"$f":"AT8/(AV4-AT11)","v":0},{"$f":"IF(AU8=0,0,(AU8*((LOG(AU8))/LOG(2))))","v":0}]
[21,241,11,271,11,281,null,null,null,null,0,211,null,121,{"$f":"COUNTIF($L$7:$L$500,N9)","v":0},{"$f":"O9/$Q$4","v":0},{"$f":"IF(P9=0,0,(P9*((LOG(P9))/LOG(2))))","v":0},null,null,{"$f":"N9","v":121},{"$f":"COUNTIF(L7:L19,T9)","v":0},{"$f":"U9/(W4-U11)","v":0},{"$f":"IF(V9=0,0,(V9*((LOG(V9))/LOG(2))))","v":0},null,{"$f":"N9","v":121},{"$f":"COUNTIF(L20:L31,Y9)","v":0},{"$f":"Z9/(AB4-Z11)","v":0},{"$f":"IF(AA9=0,0,(AA9*((LOG(AA9))/LOG(2))))","v":0},null,{"$f":"N9","v":121},{"$f":"COUNTIF(L32:L44,AD9)","v":0},{"$f":"AE9/(AG4-AE11)","v":0},{"$f":"IF(AF9=0,0,(AF9*((LOG(AF9))/LOG(2))))","v":0},null,{"$f":"N9","v":121},{"$f":"COUNTIF(L45:L56,AI9)","v":0},{"$f":"AJ9/(AL4-AJ11)","v":0},{"$f":"IF(AK9=0,0,(AK9*((LOG(AK9))/LOG(2))))","v":0},null,{"$f":"N9","v":121},{"$f":"COUNTIF(L57:L69,AN9)","v":0},{"$f":"AO9/(AQ4-AO11)","v":0},{"$f":"IF(AP9=0,0,(AP9*((LOG(AP9))/LOG(2))))","v":0},null,{"$f":"N9","v":121},{"$f":"COUNTIF(L70:L81,AS9)","v":0},{"$f":"AT9/(AV4-AT11)","v":0},{"$f":"IF(AU9=0,0,(AU9*((LOG(AU9))/LOG(2))))","v":0}]
[12,385,13,392,13,401,null,null,null,null,0,111,null,122,{"$f":"COUNTIF($L$7:$L$500,N10)","v":0},{"$f":"O10/$Q$4","v":0},{"$f":"IF(P10=0,0,(P10*((LOG(P10))/LOG(2))))","v":0},null,null,{"$f":"N10","v":122},{"$f":"COUNTIF(L7:L19,T10)","v":0},{"$f":"U10/(W4-U11)","v":0},{"$f":"IF(V10=0,0,(V10*((LOG(V10))/LOG(2))))","v":0},null,{"$f":"N10","v":122},{"$f":"COUNTIF(L20:L31,Y10)","v":0},{"$f":"Z10/(AB4-Z11)","v":0},{"$f":"IF(AA10=0,0,(AA10*((LOG(AA10))/LOG(2))))","v":0},null,{"$f":"N10","v":122},{"$f":"COUNTIF(L32:L44,AD10)","v":0},{"$f":"AE10/(AG4-AE11)","v":0},{"$f":"IF(AF10=0,0,(AF10*((LOG(AF10))/LOG(2))))","v":0},null,{"$f":"N10","v":122},{"$f":"COUNTIF(L45:L56,AI10)","v":0},{"$f":"AJ10/(AL4-AJ11)","v":0},{"$f":"IF(AK10=0,0,(AK10*((LOG(AK10))/LOG(2))))","v":0},null,{"$f":"N10","v":122},{"$f":"COUNTIF(L57:L69,AN10)","v":0},{"$f":"AO10/(AQ4-AO11)","v":0},{"$f":"IF(AP10=0,0,(AP10*((LOG(AP10))/LOG(2))))","v":0},null,{"$f":"N10","v":122},{"$f":"COUNTIF(L70:L81,AS10)","v":0},{"$f":"AT10/(AV4-AT11)","v":0},{"$f":"IF(AU10=0,0,(AU10*((LOG(AU10))/LOG(2))))","v":0}]
[12,508,13,515,13,526,null,null,null,null,0,111,null,211,{"$f":"COUNTIF($L$7:$L$500,N11)","v":37},{"$f":"O11/$Q$4","v":0.49333333333333335},{"$f":"IF(P11=0,0,(P11*((LOG(P11))/LOG(2))))","v":-0.50288689360101946},null,null,{"$f":"N11","v":211},{"$f":"COUNTIF(L7:L19,T11)","v":4},null,null,null,{"$f":"N11","v":211},{"$f":"COUNTIF(L20:L31,Y11)","v":7},null,null,null,{"$f":"N11","v":211},{"$f":"COUNTIF(L32:L44,AD11)","v":9},null,null,null,{"$f":"N11","v":211},{"$f":"COUNTIF(L45:L56,AI11)","v":6},null,null,null,{"$f":"N11","v":211},{"$f":"COUNTIF(L57:L69,AN11)","v":5},null,null,null,{"$f":"N11","v":211},{"$f":"COUNTIF(L70:L81,AS11)","v":6}]
[12,635,13,644,13,659,null,null,null,null,0,111,null,212,{"$f":"COUNTIF($L$7:$L$500,N12)","v":0},{"$f":"O12/$Q$4","v":0},{"$f":"IF(P12=0,0,(P12*((LOG(P12))/LOG(2))))","v":0},null,null,{"$f":"N12","v":212},{"$f":"COUNTIF(L7:L19,T12)","v":0},{"$f":"U12/(W4-U11)","v":0},{"$f":"IF(V12=0,0,(V12*((LOG(V12))/LOG(2))))","v":0},null,{"$f":"N12","v":212},{"$f":"COUNTIF(L20:L31,Y12)","v":0},{"$f":"Z12/(AB4-Z11)","v":0},{"$f":"IF(AA12=0,0,(AA12*((LOG(AA12))/LOG(2))))","v":0},null,{"$f":"N12","v":212},{"$f":"COUNTIF(L32:L44,AD12)","v":0},{"$f":"AE12/(AG4-AE11)","v":0},{"$f":"IF(AF12=0,0,(AF12*((LOG(AF12))/LOG(2))))","v":0},null,{"$f":"N12","v":212},{"$f":"COUNTIF(L45:L56,AI12)","v":0},{"$f":"AJ12/(AL4-AJ11)","v":0},{"$f":"IF(AK12=0,0,(AK12*((LOG(AK12))/LOG(2))))","v":0},null,{"$f":"N12","v":212},{"$f":"COUNTIF(L57:L69,AN12)","v":0},{"$f":"AO12/(AQ4-AO11)","v":0},{"$f":"IF(AP12=0,0,(AP12*((LOG(AP12))/LOG(2))))","v":0},null,{"$f":"N12","v":212},{"$f":"COUNTIF(L70:L81,AS12)","v":0},{"$f":"AT12/(AV4-AT11)","v":0},{"$f":"IF(AU12=0,0,(AU12*((LOG(AU12))/LOG(2))))","v":0}]
[12,761,13,766,13,774,null,null,null,null,0,111,null,221,{"$f":"COUNTIF($L$7:$L$500,N13)","v":0},{"$f":"O13/$Q$4","v":0},{"$f":"IF(P13=0,0,(P13*((LOG(P13))/LOG(2))))","v":0},null,null,{"$f":"N13","v":221},{"$f":"COUNTIF(L7:L19,T13)","v":0},{"$f":"U13/(W4-U11)","v":0},{"$f":"IF(V13=0,0,(V13*((LOG(V13))/LOG(2))))","v":0},null,{"$f":"N13","v":221},{"$f":"COUNTIF(L20:L31,Y13)","v":0},{"$f":"Z13/(AB4-Z11)","v":0},{"$f":"IF(AA13=0,0,(AA13*((LOG(AA13))/LOG(2))))","v":0},null,{"$f":"N13","v":221},{"$f":"COUNTIF(L32:L44,AD13)","v":0},{"$f":"AE13/(AG4-AE11)","v":0},{"$f":"IF(AF13=0,0,(AF13*((LOG(AF13))/LOG(2))))","v":0},null,{"$f":"N13","v":221},{"$f":"COUNTIF(L45:L56,AI13)","v":0},{"$f":"AJ13/(AL4-AJ11)","v":0},{"$f":"IF(AK13=0,0,(AK13*((LOG(AK13))/LOG(2))))","v":0},null,{"$f":"N13","v":221},{"$f":"COUNTIF(L57:L69,AN13)","v":0},{"$f":"AO13/(AQ4-AO11)","v":0},{"$f":"IF(AP13=0,0,(AP13*((LOG(AP13))/LOG(2))))","v":0},null,{"$f":"N13","v":221},{"$f":"COUNTIF(L70:L81,AS13)","v":0},{"$f":"AT13/(AV4-AT11)","v":0},{"$f":"IF(AU13=0,0,(AU13*((LOG(AU13))/LOG(2))))","v":0}]
[21,872,11,881,11,886,null,null,null,null,0,211,null,222,{"$f":"COUNTIF($L$7:$L$500,N14)","v":0},{"$f":"O14/$Q$4","v":0},{"$f":"IF(P14=0,0,(P14*((LOG(P14))/LOG(2))))","v":0},null,null,{"$f":"N14","v":222},{"$f":"COUNTIF(L7:L19,T14)","v":0},{"$f":"U14/(W4-U11)","v":0},{"$f":"IF(V14=0,0,(V14*((LOG(V14))/LOG(2))))","v":0},null,{"$f":"N14","v":222},{"$f":"COUNTIF(L20:L31,Y14)","v":0},{"$f":"Z14/(AB4-Z11)","v":0},{"$f":"IF(AA14=0,0,(AA14*((LOG(AA14))/LOG(2))))","v":0},null,{"$f":"N14","v":222},{"$f":"COUNTIF(L32:L44,AD14)","v":0},{"$f":"AE14/(AG4-AE11)","v":0},{"$f":"IF(AF14=0,0,(AF14*((LOG(AF14))/LOG(2))))","v":0},null,{"$f":"N14","v":222},{"$f":"COUNTIF(L45:L56,AI14)","v":0},{"$f":"AJ14/(AL4-AJ11)","v":0},{"$f":"IF(AK14=0,0,(AK14*((LOG(AK14))/LOG(2))))","v":0},null,{"$f":"N14","v":222},{"$f":"COUNTIF(L57:L69,AN14)","v":0},{"$f":"AO14/(AQ4-AO11)","v":0},{"$f":"IF(AP14=0,0,(AP14*((LOG(AP14))/LOG(2))))","v":0},null,{"$f":"N14","v":222},{"$f":"COUNTIF(L70:L81,AS14)","v":0},{"$f":"AT14/(AV4-AT11)","v":0},{"$f":"IF(AU14=0,0,(AU14*((LOG(AU14))/LOG(2))))","v":0}]
[21,978,11,1005,11,1023,null,null,null,null,0,211,null,null,null,{"$f":"SUM(P7:P14)","v":1},{"$f":"-SUM(Q7:Q14)","v":1.0888247030753173},null,null,null,null,{"$f":"SUM(V7:V14)","v":1},{"$f":"-SUM(W7:W14)","v":0.50325833477564574},null,null,null,{"$f":"SUM(AA7:AA14)","v":1},{"$f":"-SUM(AB7:AB14)","v":0},null,null,null,{"$f":"SUM(AF7:AF14)","v":1},{"$f":"-SUM(AG7:AG14)","v":0},null,null,null,{"$f":"SUM(AK7:AK14)","v":1},{"$f":"-SUM(AL7:AL14)","v":0},null,null,null,{"$f":"SUM(AP7:AP14)","v":1},{"$f":"-SUM(AQ7:AQ14)","v":0},null,null,null,{"$f":"SUM(AU7:AU14)","v":1},{"$f":"-SUM(AV7:AV14)","v":0}]
[12,1125,13,1132,13,1144,null,null,null,null,0,111,null,null,null,"U=",{"$f":"Q15/(LOG(Q4)/LOG(2))","v":0.17480436615319672},null,null,null,null,"U1=",{"$f":"W15/(LOG(W4)/LOG(2))","v":0.13599960358993674},null,null,null,"U2=",{"$f":"AB15/(LOG(AB4)/LOG(2))","v":0},null,null,null,"U3=",{"$f":"AG15/(LOG(AG4)/LOG(2))","v":0},null,null,null,"U4=",{"$f":"AL15/(LOG(AL4)/LOG(2))","v":0},null,null,null,"U5=",{"$f":"AQ15/(LOG(AQ4)/LOG(2))","v":0},null,null,null,"U6=",{"$f":"AV15/(LOG(AV4)/LOG(2))","v":0}]
[12,1250,13,1254,13,1263,null,null,null,null,0,111]
[12,1369,13,1374,13,1387,null,null,null,null,0,111]
[12,1492,13,1498,13,1513,null,null,null,null,0,111,null,"Total Target Seq"]
[21,1604,11,1614,11,1621,null,null,null,null,0,211,null,{"$f":"COUNTIF(L7:L81,G3)","v":37},null,13,12,13,12,13,12]
[21,1713,11,1722,11,1728,null,null,null,null,0,211,null,null,null,"% of reinforcement given in 6 equal intervals based on number of trials "]
[12,1843,13,1853,13,1863,null,null,null,null,0,111,null,null,null,"%_1","%_2","%_3","%_4","%_5","%_6"]
[12,1968,13,1980,13,1995,null,null,null,null,0,111,null,null,"target sequence",{"$f":"$G$3","v":211},{"$f":"$G$3","v":211},{"$f":"$G$3","v":211},{"$f":"$G$3","v":211},{"$f":"$G$3","v":211},{"$f":"$G$3","v":211}]
[12,2099,13,2109,13,2116,null,null,null,null,0,111,null,null,"total reinforcement",{"$f":"U11","v":4},{"$f":"Z11","v":7},{"$f":"AE11","v":9},{"$f":"AJ11","v":6},{"$f":"AO11","v":5},{"$f":"AT11","v":6}]
[21,2216,11,2224,11,2234,null,null,null,null,0,211,null,null,"% target"]
[21,2326,11,2336,11,2340,null,null,null,null,0,211,null,null,"CCRF"]
[21,2435,11,2444,11,2450,null,null,null,null,0,211,null,null,"% CCRf"]
[12,2552,13,2558,13,2570,null,null,null,null,0,111,null,null,"average response rate",{"$f":"F19/P20","v":116.38461538461539},{"$f":"(F31-F19)/Q20","v":115.33333333333333},{"$f":"(F44-F31)/R20","v":113.15384615384616},{"$f":"(F56-F44)/S20","v":109.33333333333333},{"$f":"(F69-F56)/T20","v":124},{"$f":"(F81-F69)/U20","v":115.08333333333333}]
[21,2666,11,2673,11,2678,null,null,null,null,0,211]
[21,2768,11,2777,11,2782,null,null,null,null,0,211]
[12,2880,13,2885,13,2897,null,null,null,null,0,111]
[21,2998,11,3010,11,3016,null,null,null,null,0,211]
[21,3110,11,3119,11,3128,null,null,null,null,0,211]
[12,3229,13,3234,13,3254,null,null,null,null,0,111]
[21,3350,11,3357,11,3362,null,null,null,null,0,211]
[12,3462,13,3468,13,3479,null,null,null,null,0,111]
[21,3573,11,3583,11,3589,null,null,null,null,0,211]
[21,3678,11,3686,11,3700,null,null,null,null,0,211]
[21,3792,11,3799,11,3807,null,null,null,null,0,211]
[21,3899,11,3906,11,3916,null,null,null,null,0,211]
[21,4006,11,4014,11,4028,null,null,null,null,0,211]
[12,4129,13,4134,13,4141,null,null,null,null,0,111]
[12,4247,13,4251,13,4262,null,null,null,null,0,111]
[21,4357,11,4364,11,4368,null,null,null,null,0,211]
[12,4461,13,4465,13,4476,null,null,null,null,0,111]
[12,4578,13,4583,13,4592,null,null,null,null,0,111]
[21,4688,11,4695,11,4699,null,null,null,null,0,211]
[21,4791,11,4798,11,4804,null,null,null,null,0,211]
[12,4901,13,4907,13,4919,null,null,null,null,0,111]
[21,5015,11,5022,11,5027,null,null,null,null,0,211]
[12,5125,13,5131,13,5139,null,null,null,null,0,111]
[12,5239,13,5243,13,5251,null,null,null,null,0,111]
[21,5346,11,5354,11,5358,null,null,null,null,0,211]
[21,5447,11,5454,11,5465,null,null,null,null,0,211]
[12,5559,13,5563,13,5568,null,null,null,null,0,111]
[21,5662,11,5669,11,5680,null,null,null,null,0,211]
[12,5861,13,5876,13,5883,null,null,null,null,0,111]
[21,5980,11,5987,11,5992,null,null,null,null,0,211]
[12,6110,13,6124,13,6146,null,null,null,null,0,111]
[21,6238,11,6245,11,6251,null,null,null,null,0,211]
[12,6352,13,6358,13,6371,null,null,null,null,0,111]
[12,6472,13,6477,13,6491,null,null,null,null,0,111]
[12,6592,13,6596,13,6603,null,null,null,null,0,111]
[21,6701,11,6707,11,6711,null,null,null,null,0,211]
[12,6809,13,6814,13,6825,null,null,null,null,0,111]
[12,6928,13,6934,13,6943,null,null,null,null,0,111]
[21,7040,11,7050,11,7056,null,null,null,null,0,211]
[12,7153,13,7157,13,7180,null,null,null,null,0,111]
[21,7274,11,7281,11,7292,null,null,null,null,0,211]
[12,7391,13,7396,13,7418,null,null,null,null,0,111]
[21,7513,11,7520,11,7524,null,null,null,null,0,211]
[21,7614,11,7622,11,7626,null,null,null,null,0,211]
[12,7729,13,7734,13,7755,null,null,null,null,0,111]
[21,7853,11,7860,11,7864,null,null,null,null,0,211]
[12,7963,13,7967,13,7978,null,null,null,null,0,111]
[12,8082,13,8086,13,8099,null,null,null,null,0,111]
[21,8193,11,8203,11,8207,null,null,null,null,0,211]
[21,8299,11,8306,11,8313,null,null,null,null,0,211]
[12,8422,13,8428,13,8443,null,null,null,null,0,111]
[12,8548,13,8552,13,8564,null,null,null,null,0,111]
[21,8661,11,8668,11,8673,null,null,null,null,1,211]

{"sheet":"!N123D10.096","index":28,"n_rows":89,"n_cols":48,"rows_kept":89,"cut":false,"hidden":false,"merged":[[4,39,4,42],[5,39,5,40],[4,44,4,47],[5,44,5,45],[4,24,4,27],[5,24,5,25],[4,29,4,32],[5,29,5,30],[4,34,4,37],[5,34,5,35],[1,1,1,2],[5,13,5,14],[18,13,18,14],[19,13,19,14],[4,19,4,22],[5,19,5,20]]}
["Report for:!N123D10.096"]
["Date:","<date>"]
["Hen:","<hen>",null,null,null,"Correct Sequence",{"$f":"Start!J2","v":211},null,null,null,null,null,null,null,null,"Total Sequences in Data",{"$f":"4994-COUNTBLANK(L7:L5000)","v":83},null,null,null,null,"Total Sequences in Block Data",{"$f":"COUNTA(L7:L20)","v":14},null,null,null,"Total Sequences in Block Data",{"$f":"COUNTA(L21:L34)","v":14},null,null,null,"Total Sequences in Block Data",{"$f":"COUNTA(L35:L47)","v":13},null,null,null,"Total Sequences in Block Data",{"$f":"COUNTA(L48:L61)","v":14},null,null,null,"Total Sequences in Block Data",{"$f":"COUNTA(L62:L75)","v":14},null,null,null,"Total Sequences in Block Data",{"$f":"COUNTA(L76:L89)","v":14}]
[null,null,null,null,null,null,null,null,null,null,null,null,null,null,null,"Total Sequences in Summary",{"$f":"SUM(O7:O14)","v":83},null,null,null,null,"Total Sequences in Block Summary",{"$f":"SUM(U7:U14)","v":14},null,null,null,"Total Sequences in Block Summary",{"$f":"SUM(Z7:Z14)","v":14},null,null,null,"Total Sequences in Block Summary",{"$f":"SUM(AE7:AE14)","v":13},null,null,null,"Total Sequences in Block Summary",{"$f":"SUM(AJ7:AJ14)","v":14},null,null,null,"Total Sequences in Block Summary",{"$f":"SUM(AO7:AO14)","v":14},null,null,null,"Total Sequences in Block Summary",{"$f":"SUM(AT7:AT14)","v":14}]
[null,null,null,null,null,null,null,null,null,null,null,null,null,null,null,null,null,null,null,"Block 1",null,null,null,null,"Block 2",null,null,null,null,"Block 3",null,null,null,null,"Block 4",null,null,null,null,"Block 5",null,null,null,null,"Block 6"]
["Sequence\nComponent\n1","Time\n1","Sequence\nComponent\n2","Time\n2","Sequence\nComponent\n3","Time\n3","Sequence\nComponent\n4","Time\n4","Sequence\nComponent\n5","Time\n5","Correct?\n0=No 1=Yes","Sequence",null,"Frequency",null,"Relative Frequency","Variability",null,null,"Frequency",null,"Relative Frequency","Variability",null,"Frequency",null,"Relative Frequency","Variability",null,"Frequency",null,"Relative Frequency","Variability",null,"Frequency",null,"Relative Frequency","Variability",null,"Frequency",null,"Relative Frequency","Variability",null,"Frequency",null,"Relative Frequency","Variability"]
[12,28,13,36,13,48,null,null,null,null,0,111,null,111,{"$f":"COUNTIF($L$7:$L$500,N7)","v":50},{"$f":"O7/$Q$4","v":0.60240963855421692},{"$f":"IF(P7=0,0,(P7*((LOG(P7))/LOG(2))))","v":-0.44047183227240966},null,null,{"$f":"N7","v":111},{"$f":"COUNTIF(L7:L20,T7)","v":9},{"$f":"U7/(W4-U11)","v":1},{"$f":"IF(V7=0,0,(V7*((LOG(V7))/LOG(2))))","v":0},null,{"$f":"N7","v":111},{"$f":"COUNTIF(L21:L34,Y7)","v":9},{"$f":"Z7/(AB4-Z11)","v":1},{"$f":"IF(AA7=0,0,(AA7*((LOG(AA7))/LOG(2))))","v":0},null,{"$f":"N7","v":111},{"$f":"COUNTIF(L35:L47,AD7)","v":10},{"$f":"AE7/(AG4-AE11)","v":1},{"$f":"IF(AF7=0,0,(AF7*((LOG(AF7))/LOG(2))))","v":0},null,{"$f":"N7","v":111},{"$f":"COUNTIF(L48:L61,AI7)","v":8},{"$f":"AJ7/(AL4-AJ11)","v":1},{"$f":"IF(AK7=0,0,(AK7*((LOG(AK7))/LOG(2))))","v":0},null,{"$f":"N7","v":111},{"$f":"COUNTIF(L62:L75,AN7)","v":9},{"$f":"AO7/(AQ4-AO11)","v":1},{"$f":"IF(AP7=0,0,(AP7*((LOG(AP7))/LOG(2))))","v":0},null,{"$f":"N7","v":111},{"$f":"COUNTIF(L76:L89,AS7)","v":5},{"$f":"AT7/(AV4-AT11)","v":0.7142857142857143},{"$f":"IF(AU7=0,0,(AU7*((LOG(AU7))/LOG(2))))","v":-0.34673344797874411}]
[12,151,13,155,13,164,null,null,null,null,0,111,null,112,{"$f":"COUNTIF($L$7:$L$500,N8)","v":1},{"$f":"O8/$Q$4","v":1.2048192771084338E-2},{"$f":"IF(P8=0,0,(P8*((LOG(P8))/LOG(2))))","v":-7.6807703992131618E-2},null,null,{"$f":"N8","v":112},{"$f":"COUNTIF(L7:L20,T8)","v":0},{"$f":"U8/(W4-U11)","v":0},{"$f":"IF(V8=0,0,(V8*((LOG(V8))/LOG(2))))","v":0},null,{"$f":"N8","v":112},{"$f":"COUNTIF(L21:L34,Y8)","v":0},{"$f":"Z8/(AB4-Z11)","v":0},{"$f":"IF(AA8=0,0,(AA8*((LOG(AA8))/LOG(2))))","v":0},null,{"$f":"N8","v":112},{"$f":"COUNTIF(L35:L47,AD8)","v":0},{"$f":"AE8/(AG4-AE11)","v":0},{"$f":"IF(AF8=0,0,(AF8*((LOG(AF8))/LOG(2))))","v":0},null,{"$f":"N8","v":112},{"$f":"COUNTIF(L48:L61,AI8)","v":0},{"$f":"AJ8/(AL4-AJ11)","v":0},{"$f":"IF(AK8=0,0,(AK8*((LOG(AK8))/LOG(2))))","v":0},null,{"$f":"N8","v":112},{"$f":"COUNTIF(L62:L75,AN8)","v":0},{"$f":"AO8/(AQ4-AO11)","v":0},{"$f":"IF(AP8=0,0,(AP8*((LOG(AP8))/LOG(2))))","v":0},null,{"$f":"N8","v":112},{"$f":"COUNTIF(L76:L89,AS8)","v":1},{"$f":"AT8/(AV4-AT11)","v":0.14285714285714285},{"$f":"IF(AU8=0,0,(AU8*((LOG(AU8))/LOG(2))))","v":-0.40105070315108626}]
[12,269,13,273,13,290,null,null,null,null,0,111,null,121,{"$f":"COUNTIF($L$7:$L$500,N9)","v":0},{"$f":"O9/$Q$4","v":0},{"$f":"IF(P9=0,0,(P9*((LOG(P9))/LOG(2))))","v":0},null,null,{"$f":"N9","v":121},{"$f":"COUNTIF(L7:L20,T9)","v":0},{"$f":"U9/(W4-U11)","v":0},{"$f":"IF(V9=0,0,(V9*((LOG(V9))/LOG(2))))","v":0},null,{"$f":"N9","v":121},{"$f":"COUNTIF(L21:L34,Y9)","v":0},{"$f":"Z9/(AB4-Z11)","v":0},{"$f":"IF(AA9=0,0,(AA9*((LOG(AA9))/LOG(2))))","v":0},null,{"$f":"N9","v":121},{"$f":"COUNTIF(L35:L47,AD9)","v":0},{"$f":"AE9/(AG4-AE11)","v":0},{"$f":"IF(AF9=0,0,(AF9*((LOG(AF9))/LOG(2))))","v":0},null,{"$f":"N9","v":121},{"$f":"COUNTIF(L48:L61,AI9)","v":0},{"$f":"AJ9/(AL4-AJ11)","v":0},{"$f":"IF(AK9=0,0,(AK9*((LOG(AK9))/LOG(2))))","v":0},null,{"$f":"N9","v":121},{"$f":"COUNTIF(L62:L75,AN9)","v":0},{"$f":"AO9/(AQ4-AO11)","v":0},{"$f":"IF(AP9=0,0,(AP9*((LOG(AP9))/LOG(2))))","v":0},null,{"$f":"N9","v":121},{"$f":"COUNTIF(L76:L89,AS9)","v":0},{"$f":"AT9/(AV4-AT11)","v":0},{"$f":"IF(AU9=0,0,(AU9*((LOG(AU9))/LOG(2))))","v":0}]
[12,398,13,405,13,416,null,null,null,null,0,111,null,122,{"$f":"COUNTIF($L$7:$L$500,N10)","v":0},{"$f":"O10/$Q$4","v":0},{"$f":"IF(P10=0,0,(P10*((LOG(P10))/LOG(2))))","v":0},null,null,{"$f":"N10","v":122},{"$f":"COUNTIF(L7:L20,T10)","v":0},{"$f":"U10/(W4-U11)","v":0},{"$f":"IF(V10=0,0,(V10*((LOG(V10))/LOG(2))))","v":0},null,{"$f":"N10","v":122},{"$f":"COUNTIF(L21:L34,Y10)","v":0},{"$f":"Z10/(AB4-Z11)","v":0},{"$f":"IF(AA10=0,0,(AA10*((LOG(AA10))/LOG(2))))","v":0},null,{"$f":"N10","v":122},{"$f":"COUNTIF(L35:L47,AD10)","v":0},{"$f":"AE10/(AG4-AE11)","v":0},{"$f":"IF(AF10=0,0,(AF10*((LOG(AF10))/LOG(2))))","v":0},null,{"$f":"N10","v":122},{"$f":"COUNTIF(L48:L61,AI10)","v":0},{"$f":"AJ10/(AL4-AJ11)","v":0},{"$f":"IF(AK10=0,0,(AK10*((LOG(AK10))/LOG(2))))","v":0},null,{"$f":"N10","v":122},{"$f":"COUNTIF(L62:L75,AN10)","v":0},{"$f":"AO10/(AQ4-AO11)","v":0},{"$f":"IF(AP10=0,0,(AP10*((LOG(AP10))/LOG(2))))","v":0},null,{"$f":"N10","v":122},{"$f":"COUNTIF(L76:L89,AS10)","v":0},{"$f":"AT10/(AV4-AT11)","v":0},{"$f":"IF(AU10=0,0,(AU10*((LOG(AU10))/LOG(2))))","v":0}]
[21,512,11,520,11,524,null,null,null,null,0,211,null,211,{"$f":"COUNTIF($L$7:$L$500,N11)","v":31},{"$f":"O11/$Q$4","v":0.37349397590361444},{"$f":"IF(P11=0,0,(P11*((LOG(P11))/LOG(2))))","v":-0.53067634638266914},null,null,{"$f":"N11","v":211},{"$f":"COUNTIF(L7:L20,T11)","v":5},null,null,null,{"$f":"N11","v":211},{"$f":"COUNTIF(L21:L34,Y11)","v":5},null,null,null,{"$f":"N11","v":211},{"$f":"COUNTIF(L35:L47,AD11)","v":3},null,null,null,{"$f":"N11","v":211},{"$f":"COUNTIF(L48:L61,AI11)","v":6},null,null,null,{"$f":"N11","v":211},{"$f":"COUNTIF(L62:L75,AN11)","v":5},null,null,null,{"$f":"N11","v":211},{"$f":"COUNTIF(L76:L89,AS11)","v":7}]
[12,620,13,633,13,639,null,null,null,null,0,111,null,212,{"$f":"COUNTIF($L$7:$L$500,N12)","v":0},{"$f":"O12/$Q$4","v":0},{"$f":"IF(P12=0,0,(P12*((LOG(P12))/LOG(2))))","v":0},null,null,{"$f":"N12","v":212},{"$f":"COUNTIF(L7:L20,T12)","v":0},{"$f":"U12/(W4-U11)","v":0},{"$f":"IF(V12=0,0,(V12*((LOG(V12))/LOG(2))))","v":0},null,{"$f":"N12","v":212},{"$f":"COUNTIF(L21:L34,Y12)","v":0},{"$f":"Z12/(AB4-Z11)","v":0},{"$f":"IF(AA12=0,0,(AA12*((LOG(AA12))/LOG(2))))","v":0},null,{"$f":"N12","v":212},{"$f":"COUNTIF(L35:L47,AD12)","v":0},{"$f":"AE12/(AG4-AE11)","v":0},{"$f":"IF(AF12=0,0,(AF12*((LOG(AF12))/LOG(2))))","v":0},null,{"$f":"N12","v":212},{"$f":"COUNTIF(L48:L61,AI12)","v":0},{"$f":"AJ12/(AL4-AJ11)","v":0},{"$f":"IF(AK12=0,0,(AK12*((LOG(AK12))/LOG(2))))","v":0},null,{"$f":"N12","v":212},{"$f":"COUNTIF(L62:L75,AN12)","v":0},{"$f":"AO12/(AQ4-AO11)","v":0},{"$f":"IF(AP12=0,0,(AP12*((LOG(AP12))/LOG(2))))","v":0},null,{"$f":"N12","v":212},{"$f":"COUNTIF(L76:L89,AS12)","v":0},{"$f":"AT12/(AV4-AT11)","v":0},{"$f":"IF(AU12=0,0,(AU12*((LOG(AU12))/LOG(2))))","v":0}]
[12,742,13,746,13,754,null,null,null,null,0,111,null,221,{"$f":"COUNTIF($L$7:$L$500,N13)","v":1},{"$f":"O13/$Q$4","v":1.2048192771084338E-2},{"$f":"IF(P13=0,0,(P13*((LOG(P13))/LOG(2))))","v":-7.6807703992131618E-2},null,null,{"$f":"N13","v":221},{"$f":"COUNTIF(L7:L20,T13)","v":0},{"$f":"U13/(W4-U11)","v":0},{"$f":"IF(V13=0,0,(V13*((LOG(V13))/LOG(2))))","v":0},null,{"$f":"N13","v":221},{"$f":"COUNTIF(L21:L34,Y13)","v":0},{"$f":"Z13/(AB4-Z11)","v":0},{"$f":"IF(AA13=0,0,(AA13*((LOG(AA13))/LOG(2))))","v":0},null,{"$f":"N13","v":221},{"$f":"COUNTIF(L35:L47,AD13)","v":0},{"$f":"AE13/(AG4-AE11)","v":0},{"$f":"IF(AF13=0,0,(AF13*((LOG(AF13))/LOG(2))))","v":0},null,{"$f":"N13","v":221},{"$f":"COUNTIF(L48:L61,AI13)","v":0},{"$f":"AJ13/(AL4-AJ11)","v":0},{"$f":"IF(AK13=0,0,(AK13*((LOG(AK13))/LOG(2))))","v":0},null,{"$f":"N13","v":221},{"$f":"COUNTIF(L62:L75,AN13)","v":0},{"$f":"AO13/(AQ4-AO11)","v":0},{"$f":"IF(AP13=0,0,(AP13*((LOG(AP13))/LOG(2))))","v":0},null,{"$f":"N13","v":221},{"$f":"COUNTIF(L76:L89,AS13)","v":1},{"$f":"AT13/(AV4-AT11)","v":0.14285714285714285},{"$f":"IF(AU13=0,0,(AU13*((LOG(AU13))/LOG(2))))","v":-0.40105070315108626}]
[21,853,11,863,11,870,null,null,null,null,0,211,null,222,{"$f":"COUNTIF($L$7:$L$500,N14)","v":0},{"$f":"O14/$Q$4","v":0},{"$f":"IF(P14=0,0,(P14*((LOG(P14))/LOG(2))))","v":0},null,null,{"$f":"N14","v":222},{"$f":"COUNTIF(L7:L20,T14)","v":0},{"$f":"U14/(W4-U11)","v":0},{"$f":"IF(V14=0,0,(V14*((LOG(V14))/LOG(2))))","v":0},null,{"$f":"N14","v":222},{"$f":"COUNTIF(L21:L34,Y14)","v":0},{"$f":"Z14/(AB4-Z11)","v":0},{"$f":"IF(AA14=0,0,(AA14*((LOG(AA14))/LOG(2))))","v":0},null,{"$f":"N14","v":222},{"$f":"COUNTIF(L35:L47,AD14)","v":0},{"$f":"AE14/(AG4-AE11)","v":0},{"$f":"IF(AF14=0,0,(AF14*((LOG(AF14))/LOG(2))))","v":0},null,{"$f":"N14","v":222},{"$f":"COUNTIF(L48:L61,AI14)","v":0},{"$f":"AJ14/(AL4-AJ11)","v":0},{"$f":"IF(AK14=0,0,(AK14*((LOG(AK14))/LOG(2))))","v":0},null,{"$f":"N14","v":222},{"$f":"COUNTIF(L62:L75,AN14)","v":0},{"$f":"AO14/(AQ4-AO11)","v":0},{"$f":"IF(AP14=0,0,(AP14*((LOG(AP14))/LOG(2))))","v":0},null,{"$f":"N14","v":222},{"$f":"COUNTIF(L76:L89,AS14)","v":0},{"$f":"AT14/(AV4-AT11)","v":0},{"$f":"IF(AU14=0,0,(AU14*((LOG(AU14))/LOG(2))))","v":0}]
[21,960,11,967,11,971,null,null,null,null,0,211,null,null,null,{"$f":"SUM(P7:P14)","v":1},{"$f":"-SUM(Q7:Q14)","v":1.124763586639342},null,null,null,null,{"$f":"SUM(V7:V14)","v":1},{"$f":"-SUM(W7:W14)","v":0},null,null,null,{"$f":"SUM(AA7:AA14)","v":1},{"$f":"-SUM(AB7:AB14)","v":0},null,null,null,{"$f":"SUM(AF7:AF14)","v":1},{"$f":"-SUM(AG7:AG14)","v":0},null,null,null,{"$f":"SUM(AK7:AK14)","v":1},{"$f":"-SUM(AL7:AL14)","v":0},null,null,null,{"$f":"SUM(AP7:AP14)","v":1},{"$f":"-SUM(AQ7:AQ14)","v":0},null,null,null,{"$f":"SUM(AU7:AU14)","v":1},{"$f":"-SUM(AV7:AV14)","v":1.1488348542809166}]
[12,1079,13,1086,13,1099,null,null,null,null,0,111,null,null,null,"U=",{"$f":"Q15/(LOG(Q4)/LOG(2))","v":0.17643241249751782},null,null,null,null,"U1=",{"$f":"W15/(LOG(W4)/LOG(2))","v":0},null,null,null,"U2=",{"$f":"AB15/(LOG(AB4)/LOG(2))","v":0},null,null,null,"U3=",{"$f":"AG15/(LOG(AG4)/LOG(2))","v":0},null,null,null,"U4=",{"$f":"AL15/(LOG(AL4)/LOG(2))","v":0},null,null,null,"U5=",{"$f":"AQ15/(LOG(AQ4)/LOG(2))","v":0},null,null,null,"U6=",{"$f":"AV15/(LOG(AV4)/LOG(2))","v":0.30174094031140475}]
[21,1198,11,1206,11,1210,null,null,null,null,0,211]
[12,1310,13,1317,13,1331,null,null,null,null,0,111]
[12,1433,13,1437,13,1444,null,null,null,null,0,111,null,"Total Target Seq"]
[21,1543,11,1549,11,1554,null,null,null,null,0,211,null,{"$f":"COUNTIF(L7:L89,G3)","v":31},null,14,14,13,14,14,14]
[12,1656,13,1661,13,1670,null,null,null,null,0,111,null,null,null,"% of reinforcement given in 6 equal intervals based on number of trials "]
[12,1771,13,1775,13,1782,null,null,null,null,0,111,null,null,null,"%_1","%_2","%_3","%_4","%_5","%_6"]
[12,1887,13,1891,13,1903,null,null,null,null,0,111,null,null,"target sequence",{"$f":"$G$3","v":211},{"$f":"$G$3","v":211},{"$f":"$G$3","v":211},{"$f":"$G$3","v":211},{"$f":"$G$3","v":211},{"$f":"$G$3","v":211}]
[12,2006,13,2010,13,2025,null,null,null,null,0,111,null,null,"total reinforcement",{"$f":"U11","v":5},{"$f":"Z11","v":5},{"$f":"AE11","v":3},{"$f":"AJ11","v":6},{"$f":"AO11","v":5},{"$f":"AT11","v":7}]
[12,2125,13,2129,13,2136,null,null,null,null,0,111,null,null,"% target"]
[21,2229,11,2236,11,2243,null,null,null,null,0,211,null,null,"CCRF"]
[12,2345,13,2351,13,2362,null,null,null,null,0,111,null,null,"% CCRf"]
[21,2457,11,2464,11,2470,null,null,null,null,0,211,null,null,"average response rate",{"$f":"F20/P20","v":111},{"$f":"(F34-F20)/Q20","v":113},{"$f":"(F47-F34)/R20","v":111.46153846153847},{"$f":"(F61-F47)/S20","v":115.28571428571429},{"$f":"(F75-F61)/T20","v":115.14285714285714},{"$f":"(F89-F75)/U20","v":270.5}]
[21,2564,11,2571,11,2577,null,null,null,null,0,211]
[12,2678,13,2682,13,2694,null,null,null,null,0,111]
[21,2789,11,2795,11,2801,null,null,null,null,0,211]
[21,2891,11,2898,11,2902,null,null,null,null,0,211]
[12,3002,13,3008,13,3021,null,null,null,null,0,111]
[12,3120,13,3124,13,3136,null,null,null,null,0,111]
[21,3232,11,3238,11,3243,null,null,null,null,0,211]
[12,3340,13,3344,13,3350,null,null,null,null,0,111]
[12,3456,13,3460,13,3467,null,null,null,null,0,111]
[12,3566,13,3570,13,3577,null,null,null,null,0,111]
[12,3680,13,3684,13,3693,null,null,null,null,0,111]
[12,3794,13,3798,13,3809,null,null,null,null,0,111]
[12,3903,13,3907,13,3913,null,null,null,null,0,111]
[12,4016,13,4020,13,4028,null,null,null,null,0,111]
[12,4135,13,4145,13,4155,null,null,null,null,0,111]
[21,4251,11,4258,11,4262,null,null,null,null,0,211]
[12,4356,13,4364,13,4371,null,null,null,null,0,111]
[21,4465,11,4472,11,4476,null,null,null,null,0,211]
[12,4574,13,4578,13,4585,null,null,null,null,0,111]
[12,4688,13,4692,13,4700,null,null,null,null,0,111]
[12,4800,13,4804,13,4811,null,null,null,null,0,111]
[12,4914,13,4917,13,4924,null,null,null,null,0,111]
[12,5026,13,5031,13,5041,null,null,null,null,0,111]
[12,5159,13,5163,13,5173,null,null,null,null,0,111]
[21,5269,11,5276,11,5281,null,null,null,null,0,211]
[21,5371,11,5382,11,5393,null,null,null,null,0,211]
[12,5496,13,5501,13,5513,null,null,null,null,0,111]
[12,5621,13,5647,13,5661,null,null,null,null,0,111]
[21,5756,11,5764,11,5768,null,null,null,null,0,211]
[21,5861,11,5870,11,5876,null,null,null,null,0,211]
[21,5966,11,5978,11,5982,null,null,null,null,0,211]
[21,6073,11,6081,11,6085,null,null,null,null,0,211]
[12,6181,13,6186,13,6199,null,null,null,null,0,111]
[12,6304,13,6310,13,6325,null,null,null,null,0,111]
[12,6429,13,6434,13,6440,null,null,null,null,0,111]
[12,6546,13,6551,13,6557,null,null,null,null,0,111]
[12,6656,13,6660,13,6673,null,null,null,null,0,111]
[21,6771,11,6779,11,6783,null,null,null,null,0,211]
[12,6882,13,6886,13,6893,null,null,null,null,0,111]
[12,7003,13,7010,13,7018,null,null,null,null,0,111]
[12,7121,13,7125,13,7131,null,null,null,null,0,111]
[21,7227,11,7233,11,7243,null,null,null,null,0,211]
[21,7334,11,7344,11,7349,null,null,null,null,0,211]
[21,7438,11,7446,11,7450,null,null,null,null,0,211]
[12,7549,13,7561,13,7583,null,null,null,null,0,111]
[12,7693,13,7697,13,7705,null,null,null,null,0,111]
[21,7800,11,7807,11,7811,null,null,null,null,0,211]
[12,7909,13,7914,13,7931,null,null,null,null,0,111]
[21,8028,11,8035,11,8039,null,null,null,null,0,211]
[12,8143,13,8150,13,8169,null,null,null,null,0,111]
[21,8263,11,8270,11,8274,null,null,null,null,0,211]
[21,8367,11,8377,11,8385,null,null,null,null,0,211]
[21,8475,11,8483,11,8490,null,null,null,null,0,211]
[12,8586,13,8591,13,8627,null,null,null,null,0,111]
[12,8730,13,8738,13,8747,null,null,null,null,0,111]
[21,8844,11,8851,11,8855,null,null,null,null,0,211]
[12,8952,13,8956,13,8964,null,null,null,null,0,111]
[12,9078,13,9082,24,9134,null,null,null,null,0,112]
[21,9226,11,9247,11,9257,null,null,null,null,0,211]
[21,11209,22,11268,13,11329,null,null,null,null,0,221]
[21,11533,11,11556,11,11598,null,null,null,null,1,211]

{"sheet":"!N127C40.096","index":29,"n_rows":73,"n_cols":48,"rows_kept":73,"cut":false,"hidden":false,"merged":[[4,39,4,42],[5,39,5,40],[4,44,4,47],[5,44,5,45],[4,24,4,27],[5,24,5,25],[4,29,4,32],[5,29,5,30],[4,34,4,37],[5,34,5,35],[1,1,1,2],[5,13,5,14],[18,13,18,14],[19,13,19,14],[4,19,4,22],[5,19,5,20]]}
["Report for:!N127C40.096"]
["Date:","<date>"]
["Hen:","<hen>",null,null,null,"Correct Sequence",{"$f":"Start!J2","v":211},null,null,null,null,null,null,null,null,"Total Sequences in Data",{"$f":"4994-COUNTBLANK(L7:L5000)","v":67},null,null,null,null,"Total Sequences in Block Data",{"$f":"COUNTA(L7:L17)","v":11},null,null,null,"Total Sequences in Block Data",{"$f":"COUNTA(L18:L28)","v":11},null,null,null,"Total Sequences in Block Data",{"$f":"COUNTA(L29:L40)","v":12},null,null,null,"Total Sequences in Block Data",{"$f":"COUNTA(L41:L51)","v":11},null,null,null,"Total Sequences in Block Data",{"$f":"COUNTA(L52:L62)","v":11},null,null,null,"Total Sequences in Block Data",{"$f":"COUNTA(L63:L73)","v":11}]
[null,null,null,null,null,null,null,null,null,null,null,null,null,null,null,"Total Sequences in Summary",{"$f":"SUM(O7:O14)","v":67},null,null,null,null,"Total Sequences in Block Summary",{"$f":"SUM(U7:U14)","v":11},null,null,null,"Total Sequences in Block Summary",{"$f":"SUM(Z7:Z14)","v":11},null,null,null,"Total Sequences in Block Summary",{"$f":"SUM(AE7:AE14)","v":12},null,null,null,"Total Sequences in Block Summary",{"$f":"SUM(AJ7:AJ14)","v":11},null,null,null,"Total Sequences in Block Summary",{"$f":"SUM(AO7:AO14)","v":11},null,null,null,"Total Sequences in Block Summary",{"$f":"SUM(AT7:AT14)","v":11}]
[null,null,null,null,null,null,null,null,null,null,null,null,null,null,null,null,null,null,null,"Block 1",null,null,null,null,"Block 2",null,null,null,null,"Block 3",null,null,null,null,"Block 4",null,null,null,null,"Block 5",null,null,null,null,"Block 6"]
["Sequence\nComponent\n1","Time\n1","Sequence\nComponent\n2","Time\n2","Sequence\nComponent\n3","Time\n3","Sequence\nComponent\n4","Time\n4","Sequence\nComponent\n5","Time\n5","Correct?\n0=No 1=Yes","Sequence",null,"Frequency",null,"Relative Frequency","Variability",null,null,"Frequency",null,"Relative Frequency","Variability",null,"Frequency",null,"Relative Frequency","Variability",null,"Frequency",null,"Relative Frequency","Variability",null,"Frequency",null,"Relative Frequency","Variability",null,"Frequency",null,"Relative Frequency","Variability",null,"Frequency",null,"Relative Frequency","Variability"]
[21,10,11,18,11,23,null,null,null,null,0,211,null,111,{"$f":"COUNTIF($L$7:$L$500,N7)","v":27},{"$f":"O7/$Q$4","v":0.40298507462686567},{"$f":"IF(P7=0,0,(P7*((LOG(P7))/LOG(2))))","v":-0.52839471020815232},null,null,{"$f":"N7","v":111},{"$f":"COUNTIF(L7:L17,T7)","v":6},{"$f":"U7/(W4-U11)","v":1},{"$f":"IF(V7=0,0,(V7*((LOG(V7))/LOG(2))))","v":0},null,{"$f":"N7","v":111},{"$f":"COUNTIF(L18:L28,Y7)","v":8},{"$f":"Z7/(AB4-Z11)","v":1},{"$f":"IF(AA7=0,0,(AA7*((LOG(AA7))/LOG(2))))","v":0},null,{"$f":"N7","v":111},{"$f":"COUNTIF(L29:L40,AD7)","v":4},{"$f":"AE7/(AG4-AE11)","v":0.8},{"$f":"IF(AF7=0,0,(AF7*((LOG(AF7))/LOG(2))))","v":-0.25754247590988982},null,{"$f":"N7","v":111},{"$f":"COUNTIF(L41:L51,AI7)","v":4},{"$f":"AJ7/(AL4-AJ11)","v":1},{"$f":"IF(AK7=0,0,(AK7*((LOG(AK7))/LOG(2))))","v":0},null,{"$f":"N7","v":111},{"$f":"COUNTIF(L52:L62,AN7)","v":3},{"$f":"AO7/(AQ4-AO11)","v":0.6},{"$f":"IF(AP7=0,0,(AP7*((LOG(AP7))/LOG(2))))","v":-0.44217935649972373},null,{"$f":"N7","v":111},{"$f":"COUNTIF(L63:L73,AS7)","v":2},{"$f":"AT7/(AV4-AT11)","v":0.5},{"$f":"IF(AU7=0,0,(AU7*((LOG(AU7))/LOG(2))))","v":-0.5}]
[12,123,13,128,13,158,null,null,null,null,0,111,null,112,{"$f":"COUNTIF($L$7:$L$500,N8)","v":5},{"$f":"O8/$Q$4","v":7.4626865671641784E-2},{"$f":"IF(P8=0,0,(P8*((LOG(P8))/LOG(2))))","v":-0.27941500713212014},null,null,{"$f":"N8","v":112},{"$f":"COUNTIF(L7:L17,T8)","v":0},{"$f":"U8/(W4-U11)","v":0},{"$f":"IF(V8=0,0,(V8*((LOG(V8))/LOG(2))))","v":0},null,{"$f":"N8","v":112},{"$f":"COUNTIF(L18:L28,Y8)","v":0},{"$f":"Z8/(AB4-Z11)","v":0},{"$f":"IF(AA8=0,0,(AA8*((LOG(AA8))/LOG(2))))","v":0},null,{"$f":"N8","v":112},{"$f":"COUNTIF(L29:L40,AD8)","v":1},{"$f":"AE8/(AG4-AE11)","v":0.2},{"$f":"IF(AF8=0,0,(AF8*((LOG(AF8))/LOG(2))))","v":-0.46438561897747244},null,{"$f":"N8","v":112},{"$f":"COUNTIF(L41:L51,AI8)","v":0},{"$f":"AJ8/(AL4-AJ11)","v":0},{"$f":"IF(AK8=0,0,(AK8*((LOG(AK8))/LOG(2))))","v":0},null,{"$f":"N8","v":112},{"$f":"COUNTIF(L52:L62,AN8)","v":2},{"$f":"AO8/(AQ4-AO11)","v":0.4},{"$f":"IF(AP8=0,0,(AP8*((LOG(AP8))/LOG(2))))","v":-0.52877123795494496},null,{"$f":"N8","v":112},{"$f":"COUNTIF(L63:L73,AS8)","v":2},{"$f":"AT8/(AV4-AT11)","v":0.5},{"$f":"IF(AU8=0,0,(AU8*((LOG(AU8))/LOG(2))))","v":-0.5}]
[21,261,11,268,11,272,null,null,null,null,0,211,null,121,{"$f":"COUNTIF($L$7:$L$500,N9)","v":0},{"$f":"O9/$Q$4","v":0},{"$f":"IF(P9=0,0,(P9*((LOG(P9))/LOG(2))))","v":0},null,null,{"$f":"N9","v":121},{"$f":"COUNTIF(L7:L17,T9)","v":0},{"$f":"U9/(W4-U11)","v":0},{"$f":"IF(V9=0,0,(V9*((LOG(V9))/LOG(2))))","v":0},null,{"$f":"N9","v":121},{"$f":"COUNTIF(L18:L28,Y9)","v":0},{"$f":"Z9/(AB4-Z11)","v":0},{"$f":"IF(AA9=0,0,(AA9*((LOG(AA9))/LOG(2))))","v":0},null,{"$f":"N9","v":121},{"$f":"COUNTIF(L29:L40,AD9)","v":0},{"$f":"AE9/(AG4-AE11)","v":0},{"$f":"IF(AF9=0,0,(AF9*((LOG(AF9))/LOG(2))))","v":0},null,{"$f":"N9","v":121},{"$f":"COUNTIF(L41:L51,AI9)","v":0},{"$f":"AJ9/(AL4-AJ11)","v":0},{"$f":"IF(AK9=0,0,(AK9*((LOG(AK9))/LOG(2))))","v":0},null,{"$f":"N9","v":121},{"$f":"COUNTIF(L52:L62,AN9)","v":0},{"$f":"AO9/(AQ4-AO11)","v":0},{"$f":"IF(AP9=0,0,(AP9*((LOG(AP9))/LOG(2))))","v":0},null,{"$f":"N9","v":121},{"$f":"COUNTIF(L63:L73,AS9)","v":0},{"$f":"AT9/(AV4-AT11)","v":0},{"$f":"IF(AU9=0,0,(AU9*((LOG(AU9))/LOG(2))))","v":0}]
[12,372,13,378,13,393,null,null,null,null,0,111,null,122,{"$f":"COUNTIF($L$7:$L$500,N10)","v":0},{"$f":"O10/$Q$4","v":0},{"$f":"IF(P10=0,0,(P10*((LOG(P10))/LOG(2))))","v":0},null,null,{"$f":"N10","v":122},{"$f":"COUNTIF(L7:L17,T10)","v":0},{"$f":"U10/(W4-U11)","v":0},{"$f":"IF(V10=0,0,(V10*((LOG(V10))/LOG(2))))","v":0},null,{"$f":"N10","v":122},{"$f":"COUNTIF(L18:L28,Y10)","v":0},{"$f":"Z10/(AB4-Z11)","v":0},{"$f":"IF(AA10=0,0,(AA10*((LOG(AA10))/LOG(2))))","v":0},null,{"$f":"N10","v":122},{"$f":"COUNTIF(L29:L40,AD10)","v":0},{"$f":"AE10/(AG4-AE11)","v":0},{"$f":"IF(AF10=0,0,(AF10*((LOG(AF10))/LOG(2))))","v":0},null,{"$f":"N10","v":122},{"$f":"COUNTIF(L41:L51,AI10)","v":0},{"$f":"AJ10/(AL4-AJ11)","v":0},{"$f":"IF(AK10=0,0,(AK10*((LOG(AK10))/LOG(2))))","v":0},null,{"$f":"N10","v":122},{"$f":"COUNTIF(L52:L62,AN10)","v":0},{"$f":"AO10/(AQ4-AO11)","v":0},{"$f":"IF(AP10=0,0,(AP10*((LOG(AP10))/LOG(2))))","v":0},null,{"$f":"N10","v":122},{"$f":"COUNTIF(L63:L73,AS10)","v":0},{"$f":"AT10/(AV4-AT11)","v":0},{"$f":"IF(AU10=0,0,(AU10*((LOG(AU10))/LOG(2))))","v":0}]
[12,495,13,499,13,507,null,null,null,null,0,111,null,211,{"$f":"COUNTIF($L$7:$L$500,N11)","v":35},{"$f":"O11/$Q$4","v":0.52238805970149249},{"$f":"IF(P11=0,0,(P11*((LOG(P11))/LOG(2))))","v":-0.48937635929773443},null,null,{"$f":"N11","v":211},{"$f":"COUNTIF(L7:L17,T11)","v":5},null,null,null,{"$f":"N11","v":211},{"$f":"COUNTIF(L18:L28,Y11)","v":3},null,null,null,{"$f":"N11","v":211},{"$f":"COUNTIF(L29:L40,AD11)","v":7},null,null,null,{"$f":"N11","v":211},{"$f":"COUNTIF(L41:L51,AI11)","v":7},null,null,null,{"$f":"N11","v":211},{"$f":"COUNTIF(L52:L62,AN11)","v":6},null,null,null,{"$f":"N11","v":211},{"$f":"COUNTIF(L63:L73,AS11)","v":7}]
[12,608,13,612,13,628,null,null,null,null,0,111,null,212,{"$f":"COUNTIF($L$7:$L$500,N12)","v":0},{"$f":"O12/$Q$4","v":0},{"$f":"IF(P12=0,0,(P12*((LOG(P12))/LOG(2))))","v":0},null,null,{"$f":"N12","v":212},{"$f":"COUNTIF(L7:L17,T12)","v":0},{"$f":"U12/(W4-U11)","v":0},{"$f":"IF(V12=0,0,(V12*((LOG(V12))/LOG(2))))","v":0},null,{"$f":"N12","v":212},{"$f":"COUNTIF(L18:L28,Y12)","v":0},{"$f":"Z12/(AB4-Z11)","v":0},{"$f":"IF(AA12=0,0,(AA12*((LOG(AA12))/LOG(2))))","v":0},null,{"$f":"N12","v":212},{"$f":"COUNTIF(L29:L40,AD12)","v":0},{"$f":"AE12/(AG4-AE11)","v":0},{"$f":"IF(AF12=0,0,(AF12*((LOG(AF12))/LOG(2))))","v":0},null,{"$f":"N12","v":212},{"$f":"COUNTIF(L41:L51,AI12)","v":0},{"$f":"AJ12/(AL4-AJ11)","v":0},{"$f":"IF(AK12=0,0,(AK12*((LOG(AK12))/LOG(2))))","v":0},null,{"$f":"N12","v":212},{"$f":"COUNTIF(L52:L62,AN12)","v":0},{"$f":"AO12/(AQ4-AO11)","v":0},{"$f":"IF(AP12=0,0,(AP12*((LOG(AP12))/LOG(2))))","v":0},null,{"$f":"N12","v":212},{"$f":"COUNTIF(L63:L73,AS12)","v":0},{"$f":"AT12/(AV4-AT11)","v":0},{"$f":"IF(AU12=0,0,(AU12*((LOG(AU12))/LOG(2))))","v":0}]
[12,735,13,740,13,748,null,null,null,null,0,111,null,221,{"$f":"COUNTIF($L$7:$L$500,N13)","v":0},{"$f":"O13/$Q$4","v":0},{"$f":"IF(P13=0,0,(P13*((LOG(P13))/LOG(2))))","v":0},null,null,{"$f":"N13","v":221},{"$f":"COUNTIF(L7:L17,T13)","v":0},{"$f":"U13/(W4-U11)","v":0},{"$f":"IF(V13=0,0,(V13*((LOG(V13))/LOG(2))))","v":0},null,{"$f":"N13","v":221},{"$f":"COUNTIF(L18:L28,Y13)","v":0},{"$f":"Z13/(AB4-Z11)","v":0},{"$f":"IF(AA13=0,0,(AA13*((LOG(AA13))/LOG(2))))","v":0},null,{"$f":"N13","v":221},{"$f":"COUNTIF(L29:L40,AD13)","v":0},{"$f":"AE13/(AG4-AE11)","v":0},{"$f":"IF(AF13=0,0,(AF13*((LOG(AF13))/LOG(2))))","v":0},null,{"$f":"N13","v":221},{"$f":"COUNTIF(L41:L51,AI13)","v":0},{"$f":"AJ13/(AL4-AJ11)","v":0},{"$f":"IF(AK13=0,0,(AK13*((LOG(AK13))/LOG(2))))","v":0},null,{"$f":"N13","v":221},{"$f":"COUNTIF(L52:L62,AN13)","v":0},{"$f":"AO13/(AQ4-AO11)","v":0},{"$f":"IF(AP13=0,0,(AP13*((LOG(AP13))/LOG(2))))","v":0},null,{"$f":"N13","v":221},{"$f":"COUNTIF(L63:L73,AS13)","v":0},{"$f":"AT13/(AV4-AT11)","v":0},{"$f":"IF(AU13=0,0,(AU13*((LOG(AU13))/LOG(2))))","v":0}]
[21,847,11,854,11,859,null,null,null,null,0,211,null,222,{"$f":"COUNTIF($L$7:$L$500,N14)","v":0},{"$f":"O14/$Q$4","v":0},{"$f":"IF(P14=0,0,(P14*((LOG(P14))/LOG(2))))","v":0},null,null,{"$f":"N14","v":222},{"$f":"COUNTIF(L7:L17,T14)","v":0},{"$f":"U14/(W4-U11)","v":0},{"$f":"IF(V14=0,0,(V14*((LOG(V14))/LOG(2))))","v":0},null,{"$f":"N14","v":222},{"$f":"COUNTIF(L18:L28,Y14)","v":0},{"$f":"Z14/(AB4-Z11)","v":0},{"$f":"IF(AA14=0,0,(AA14*((LOG(AA14))/LOG(2))))","v":0},null,{"$f":"N14","v":222},{"$f":"COUNTIF(L29:L40,AD14)","v":0},{"$f":"AE14/(AG4-AE11)","v":0},{"$f":"IF(AF14=0,0,(AF14*((LOG(AF14))/LOG(2))))","v":0},null,{"$f":"N14","v":222},{"$f":"COUNTIF(L41:L51,AI14)","v":0},{"$f":"AJ14/(AL4-AJ11)","v":0},{"$f":"IF(AK14=0,0,(AK14*((LOG(AK14))/LOG(2))))","v":0},null,{"$f":"N14","v":222},{"$f":"COUNTIF(L52:L62,AN14)","v":0},{"$f":"AO14/(AQ4-AO11)","v":0},{"$f":"IF(AP14=0,0,(AP14*((LOG(AP14))/LOG(2))))","v":0},null,{"$f":"N14","v":222},{"$f":"COUNTIF(L63:L73,AS14)","v":0},{"$f":"AT14/(AV4-AT11)","v":0},{"$f":"IF(AU14=0,0,(AU14*((LOG(AU14))/LOG(2))))","v":0}]
[21,953,11,959,11,964,null,null,null,null,0,211,null,null,null,{"$f":"SUM(P7:P14)","v":1},{"$f":"-SUM(Q7:Q14)","v":1.297186076638007},null,null,null,null,{"$f":"SUM(V7:V14)","v":1},{"$f":"-SUM(W7:W14)","v":0},null,null,null,{"$f":"SUM(AA7:AA14)","v":1},{"$f":"-SUM(AB7:AB14)","v":0},null,null,null,{"$f":"SUM(AF7:AF14)","v":1},{"$f":"-SUM(AG7:AG14)","v":0.72192809488736231},null,null,null,{"$f":"SUM(AK7:AK14)","v":1},{"$f":"-SUM(AL7:AL14)","v":0},null,null,null,{"$f":"SUM(AP7:AP14)","v":1},{"$f":"-SUM(AQ7:AQ14)","v":0.97095059445466869},null,null,null,{"$f":"SUM(AU7:AU14)","v":1},{"$f":"-SUM(AV7:AV14)","v":1}]
[21,1059,11,1066,11,1080,null,null,null,null,0,211,null,null,null,"U=",{"$f":"Q15/(LOG(Q4)/LOG(2))","v":0.21384223606183345},null,null,null,null,"U1=",{"$f":"W15/(LOG(W4)/LOG(2))","v":0},null,null,null,"U2=",{"$f":"AB15/(LOG(AB4)/LOG(2))","v":0},null,null,null,"U3=",{"$f":"AG15/(LOG(AG4)/LOG(2))","v":0.20137674933618921},null,null,null,"U4=",{"$f":"AL15/(LOG(AL4)/LOG(2))","v":0},null,null,null,"U5=",{"$f":"AQ15/(LOG(AQ4)/LOG(2))","v":0.28066766494928874},null,null,null,"U6=",{"$f":"AV15/(LOG(AV4)/LOG(2))","v":0.28906482631788782}]
[12,1185,13,1189,13,1199,null,null,null,null,0,111]
[12,1300,13,1305,13,1316,null,null,null,null,0,111]
[21,1413,11,1420,11,1425,null,null,null,null,0,211,null,"Total Target Seq"]
[12,1527,13,1532,13,1559,null,null,null,null,0,111,null,{"$f":"COUNTIF(L7:L73,G3)","v":35},null,11,11,12,11,11,11]
[12,1660,13,1664,13,1679,null,null,null,null,0,111,null,null,null,"% of reinforcement given in 6 equal intervals based on number of trials "]
[12,1800,13,1812,13,1826,null,null,null,null,0,111,null,null,null,"%_1","%_2","%_3","%_4","%_5","%_6"]
[12,1935,13,1939,13,1953,null,null,null,null,0,111,null,null,"target sequence",{"$f":"$G$3","v":211},{"$f":"$G$3","v":211},{"$f":"$G$3","v":211},{"$f":"$G$3","v":211},{"$f":"$G$3","v":211},{"$f":"$G$3","v":211}]
[12,2052,13,2056,13,2067,null,null,null,null,0,111,null,null,"total reinforcement",{"$f":"U11","v":5},{"$f":"Z11","v":3},{"$f":"AE11","v":7},{"$f":"AJ11","v":7},{"$f":"AO11","v":6},{"$f":"AT11","v":7}]
[21,2164,11,2171,11,2177,null,null,null,null,0,211,null,null,"% target"]
[12,2278,13,2283,13,2294,null,null,null,null,0,111,null,null,"CCRF"]
[21,2400,11,2407,11,2412,null,null,null,null,0,211,null,null,"% CCRf"]
[12,2515,13,2533,13,2555,null,null,null,null,0,111,null,null,"average response rate",{"$f":"F17/P20","v":109},{"$f":"(F28-F17)/Q20","v":123.27272727272727},{"$f":"(F40-F28)/R20","v":123.66666666666667},{"$f":"(F51-F40)/S20","v":117.27272727272727},{"$f":"(F62-F51)/T20","v":123.18181818181819},{"$f":"(F73-F62)/U20","v":116.27272727272727}]
[21,2657,11,2664,11,2673,null,null,null,null,0,211]
[12,2784,13,2789,13,2832,null,null,null,null,0,111]
[21,2929,11,2936,11,2941,null,null,null,null,0,211]
[21,3060,11,3069,11,3078,null,null,null,null,0,211]
[21,3170,11,3178,11,3183,null,null,null,null,0,211]
[12,3290,13,3294,13,3320,null,null,null,null,0,111]
[12,3422,13,3430,24,3467,null,null,null,null,0,112]
[21,3568,11,3576,11,3580,null,null,null,null,0,211]
[21,3672,11,3680,11,3687,null,null,null,null,0,211]
[12,3787,13,3791,13,3805,null,null,null,null,0,111]
[21,3904,11,3911,11,3915,null,null,null,null,0,211]
[12,4019,13,4024,13,4039,null,null,null,null,0,111]
[21,4138,11,4145,11,4157,null,null,null,null,0,211]
[12,4283,13,4291,13,4318,null,null,null,null,0,111]
[21,4415,11,4423,11,4429,null,null,null,null,0,211]
[21,4520,11,4528,11,4532,null,null,null,null,0,211]
[21,4628,11,4636,11,4641,null,null,null,null,0,211]
[12,4751,13,4758,13,4774,null,null,null,null,0,111]
[12,4877,13,4881,13,4888,null,null,null,null,0,111]
[21,4985,11,4992,11,4996,null,null,null,null,0,211]
[21,5086,11,5094,11,5098,null,null,null,null,0,211]
[12,5206,13,5213,13,5222,null,null,null,null,0,111]
[21,5318,11,5325,11,5329,null,null,null,null,0,211]
[21,5421,11,5437,11,5444,null,null,null,null,0,211]
[12,5545,13,5549,24,5564,null,null,null,null,0,112]
[12,5666,13,5670,13,5709,null,null,null,null,0,111]
[21,5807,11,5815,11,5819,null,null,null,null,0,211]
[21,5911,11,5918,11,5922,null,null,null,null,0,211]
[21,6015,11,6024,11,6031,null,null,null,null,0,211]
[12,6131,13,6136,24,6176,null,null,null,null,0,112]
[21,6274,11,6281,11,6285,null,null,null,null,0,211]
[21,6423,11,6434,11,6445,null,null,null,null,0,211]
[12,6549,13,6553,13,6568,null,null,null,null,0,111]
[12,6671,13,6675,13,6684,null,null,null,null,0,111]
[12,6791,13,6795,13,6801,null,null,null,null,0,111]
[21,6896,11,6904,11,6908,null,null,null,null,0,211]
[21,7000,11,7008,11,7012,null,null,null,null,0,211]
[12,7116,13,7120,24,7142,null,null,null,null,0,112]
[21,7239,11,7247,11,7251,null,null,null,null,0,211]
[12,7356,13,7361,24,7402,null,null,null,null,0,112]
[21,7498,11,7504,11,7508,null,null,null,null,0,211]
[21,7605,11,7623,11,7629,null,null,null,null,0,211]
[12,7731,13,7735,13,7749,null,null,null,null,0,111]
[21,7849,11,7856,11,7860,null,null,null,null,0,211]
[21,7952,11,7959,11,7963,null,null,null,null,1,211]