{"text_format":"1","workbook":"xlsx","n_sheets":34,"sheets":["Sample Report","Summary","Start","!N203B00.095","!N204A10.095","!N205910.095","!N206920.095","!N207940.095","!N208A20.095","!N209820.095","!N210900.095","!N211A30.095","!N212940.095","!N213950.095","!N214920.095","!N215920.095","!N216920.095","!N217820.095","!N218950.095","!N219A20.095","!N220B10.095","!N222940.095","!N223930.095","!N224A20.095","!N225950.095","!N226B00.095","!N227A30.095","!N228A00.095","!N302920.095","!N303950.095","!N304940.095","!N306A10.095","!N307840.095","!N308950.095"],"not_rendered":{"charts":0,"images":0,"macros":1,"external_links":0,"defined_names":0,"comments":0,"pivot_tables":0},"unopened":[],"bounds":{"document_bytes":16777216,"sheet_cells":100000,"rows_first":2000,"rows_last":500,"rows_between":2000,"halvings":0,"cell_chars":16384,"cell_head_chars":4096},"cells_cut":0,"cells_raw":0,"read":"whole","date_system":"1900"}

{"sheet":"Sample Report","index":0,"n_rows":12,"n_cols":11,"rows_kept":12,"cut":false,"hidden":true,"merged":[[7,0,7,6]]}
[]
["Date"]
["Hen"]
["Program"]
["Start at 999999"]
["Sequence component 1","Time 1","Seqeunce Component 2","Time 2","Seqeunce Component 3","Time 3","Correct   0 = No 1=Yes",null,null,"Seqeunce","Time"]
[12,7,12,42,13,18,"if 77 new line,                                  if 31 or 41 = yes new line on 77, ",null,null,"=string of Seqeunce compponent 1, 2 & 3","=time 3"]
["This continues until ther is a 1 on its own to indicate start of summary data"]
[null,null,null,null,null,null,null,null,null,"10-19 =1"]
["Summary Data ",null,null,null,null,null,null,null,null,"20-29 =2"]
["Correct","Incorrect","Rft","total","Av Correct","Av Incorrect","Percent correct","Time",null,"in this example the seqeunce would be 111"]
[40,33,40,73,23.95,15,54,806]

{"sheet":"Summary","index":1,"n_rows":33,"n_cols":24,"rows_kept":33,"cut":false,"hidden":false,"merged":[]}
[]
["Day","Date","Average Response Rate","Target %","RF for non correct sequence","U Value",null,null,null,null,"Block 1","Block 2","Block 3","Block 4","Block 5","Block 6"]
[1,{"$f":"'!N203B00.095'!B2:C2","v":"<date>"},{"$f":"('!N203B00.095'!D7/60)/'!N203B00.095'!Q3","v":3.4764826175869121E-3},{"$f":"'!N203B00.095'!N20/'!N203B00.095'!Q3","v":0.1165644171779141},{"$f":"SUM('!N203B00.095'!L20:Q20)/'!N203B00.095'!Q3","v":0.57668711656441718},{"$f":"'!N203B00.095'!Q16","v":0.19074497774282637},null,null,null,"Average Response Rate",{"$f":"AVERAGE(C3:C7)","v":6.8693195846011882E-3},{"$f":"AVERAGE(C8:C12)","v":1.3278953556731334E-2},{"$f":"AVERAGE(C13:C17)","v":1.2339486012115364E-2},{"$f":"AVERAGE(C18:C22)","v":9.6445157987807718E-3},{"$f":"AVERAGE(C23:C27)","v":1.0669427928485898E-2},{"$f":"AVERAGE(C28:C32)","v":1.1982463947578875E-2}]
[2,{"$f":"'!N204A10.095'!B2:C2","v":"<date>"},{"$f":"('!N204A10.095'!D7/60)/'!N204A10.095'!Q3","v":6.0126582278481012E-3},{"$f":"'!N204A10.095'!N20/'!N204A10.095'!Q3","v":0.12658227848101267},{"$f":"SUM('!N204A10.095'!L20:Q20)/'!N204A10.095'!Q3","v":0.59493670886075944},{"$f":"'!N204A10.095'!Q16","v":0.18867375924690277},null,null,null,"Target %",{"$f":"AVERAGE(D3:D7)","v":0.2530979443594038},{"$f":"AVERAGE(D8:D12)","v":0.44327780731289501},{"$f":"AVERAGE(D13:D17)","v":0.58050765440595387},{"$f":"AVERAGE(D18:D22)","v":0.53685385774208239},{"$f":"AVERAGE(D23:D27)","v":0.37525702960485569},{"$f":"AVERAGE(D28:D32)","v":0.60170802913431198}]
[3,{"$f":"'!N205910.095'!B2:C2","v":"<date>"},{"$f":"('!N205910.095'!D7/60)/'!N205910.095'!Q3","v":2.7027027027027024E-3},{"$f":"'!N205910.095'!N20/'!N205910.095'!Q3","v":0.23423423423423423},{"$f":"SUM('!N205910.095'!L20:Q20)/'!N205910.095'!Q3","v":0.7567567567567568},{"$f":"'!N205910.095'!Q16","v":0.22115037622240274},null,null,null,"CCRF",{"$f":"AVERAGE(E3:E7)","v":0.74924347886522913},{"$f":"AVERAGE(E8:E12)","v":1.0465764579799668},{"$f":"AVERAGE(E13:E17)","v":1.1355487514517268},{"$f":"AVERAGE(E18:E22)","v":1.1276208321292125},{"$f":"AVERAGE(E23:E27)","v":0.8844994632313472},{"$f":"AVERAGE(E28:E32)","v":1.2060063720558265}]
[4,{"$f":"'!N206920.095'!B2:C2","v":"<date>"},{"$f":"('!N206920.095'!D7/60)/'!N206920.095'!Q3","v":6.2724014336917565E-3},{"$f":"'!N206920.095'!N20/'!N206920.095'!Q3","v":0.37634408602150538},{"$f":"SUM('!N206920.095'!L20:Q20)/'!N206920.095'!Q3","v":0.93548387096774188},{"$f":"'!N206920.095'!Q16","v":0.23347271576386622},null,null,null,"U Value",{"$f":"AVERAGE(F3:F7)","v":0.21412365361474114},{"$f":"AVERAGE(F8:F12)","v":0.2435995681076252},{"$f":"AVERAGE(F13:F17)","v":0.24859134221834128},{"$f":"AVERAGE(F18:F22)","v":0.27340438466390682},{"$f":"AVERAGE(F23:F27)","v":0.25939685782107891},{"$f":"AVERAGE(F28:F32)","v":0.25250915814808961}]
[5,{"$f":"'!N207940.095'!B2:C2","v":"<date>"},{"$f":"('!N207940.095'!D7/60)/'!N207940.095'!Q3","v":1.5882352941176472E-2},{"$f":"'!N207940.095'!N20/'!N207940.095'!Q3","v":0.41176470588235292},{"$f":"SUM('!N207940.095'!L20:Q20)/'!N207940.095'!Q3","v":0.88235294117647056},{"$f":"'!N207940.095'!Q16","v":0.23657643909770773}]
[6,{"$f":"'!N208A20.095'!B2:C2","v":"<date>"},{"$f":"('!N208A20.095'!D7/60)/'!N208A20.095'!Q3","v":3.1818181818181815E-2},{"$f":"'!N208A20.095'!N20/'!N208A20.095'!Q3","v":0.29545454545454547},{"$f":"SUM('!N208A20.095'!L20:Q20)/'!N208A20.095'!Q3","v":1.1136363636363635},{"$f":"'!N208A20.095'!Q16","v":0.26370557149114321}]
[7,{"$f":"'!N209820.095'!B2:C2","v":"<date>"},{"$f":"('!N209820.095'!D7/60)/'!N209820.095'!Q3","v":7.0707070707070711E-3},{"$f":"'!N209820.095'!N20/'!N209820.095'!Q3","v":0.56060606060606055},{"$f":"SUM('!N209820.095'!L20:Q20)/'!N209820.095'!Q3","v":1.2121212121212122},{"$f":"'!N209820.095'!Q16","v":0.19856595096146312},{"$f":"K3","v":6.8693195846011882E-3},1.3278953556731334E-2,1.2339486012115364E-2,9.6445157987807718E-3,1.0669427928485898E-2,1.1982463947578875E-2,{"$f":"K4","v":0.2530979443594038},0.44327780731289501,0.58050765440595387,0.53685385774208239,0.37525702960485569,0.60170802913431198,{"$f":"K6","v":0.21412365361474114},0.2435995681076252,0.24859134221834128,0.27340438466390682,0.25939685782107891,0.25250915814808961]
[8,{"$f":"'!N210900.095'!B2:C2","v":"<date>"},{"$f":"('!N210900.095'!D7/60)/'!N210900.095'!Q3","v":1.4285714285714287E-2},{"$f":"'!N210900.095'!N20/'!N210900.095'!Q3","v":0.45454545454545453},{"$f":"SUM('!N210900.095'!L20:Q20)/'!N210900.095'!Q3","v":0.93506493506493504},{"$f":"'!N210900.095'!Q16","v":0.23558417853406524}]
[9,{"$f":"'!N211A30.095'!B2:C2","v":"<date>"},{"$f":"('!N211A30.095'!D7/60)/'!N211A30.095'!Q3","v":4.1666666666666666E-3},{"$f":"'!N211A30.095'!N20/'!N211A30.095'!Q3","v":0.47368421052631576},{"$f":"SUM('!N211A30.095'!L20:Q20)/'!N211A30.095'!Q3","v":0.94736842105263153},{"$f":"'!N211A30.095'!Q16","v":0.24327745575795898}]
[10,{"$f":"'!N212940.095'!B2:C2","v":"<date>"},{"$f":"('!N212940.095'!D7/60)/'!N212940.095'!Q3","v":9.0534979423868307E-3},{"$f":"'!N212940.095'!N20/'!N212940.095'!Q3","v":0.43209876543209874},{"$f":"SUM('!N212940.095'!L20:Q20)/'!N212940.095'!Q3","v":1.0246913580246915},{"$f":"'!N212940.095'!Q16","v":0.27686468379349544}]
[11,{"$f":"'!N213950.095'!B2:C2","v":"<date>"},{"$f":"('!N213950.095'!D7/60)/'!N213950.095'!Q3","v":7.6754385964912285E-3},{"$f":"'!N213950.095'!N20/'!N213950.095'!Q3","v":0.47368421052631576},{"$f":"SUM('!N213950.095'!L20:Q20)/'!N213950.095'!Q3","v":0.96052631578947367},{"$f":"'!N213950.095'!Q16","v":0.22481225257861795}]
[12,{"$f":"'!N214920.095'!B2:C2","v":"<date>"},{"$f":"('!N214920.095'!D7/60)/'!N214920.095'!Q3","v":2.0698924731182799E-2},{"$f":"'!N214920.095'!N20/'!N214920.095'!Q3","v":0.54838709677419351},{"$f":"SUM('!N214920.095'!L20:Q20)/'!N214920.095'!Q3","v":1.0806451612903225},{"$f":"'!N214920.095'!Q16","v":0.27139015106605113}]
[13,{"$f":"'!N215920.095'!B2:C2","v":"<date>"},{"$f":"('!N215920.095'!D7/60)/'!N215920.095'!Q3","v":1.9191919191919191E-2},{"$f":"'!N215920.095'!N20/'!N215920.095'!Q3","v":0.53030303030303028},{"$f":"SUM('!N215920.095'!L20:Q20)/'!N215920.095'!Q3","v":1.1818181818181819},{"$f":"'!N215920.095'!Q16","v":0.28013340311045082}]
[14,{"$f":"'!N216920.095'!B2:C2","v":"<date>"},{"$f":"('!N216920.095'!D7/60)/'!N216920.095'!Q3","v":5.4644808743169399E-3},{"$f":"'!N216920.095'!N20/'!N216920.095'!Q3","v":0.5901639344262295},{"$f":"SUM('!N216920.095'!L20:Q20)/'!N216920.095'!Q3","v":1.1147540983606556},{"$f":"'!N216920.095'!Q16","v":0.2694076989400912}]
[15,{"$f":"'!N217820.095'!B2:C2","v":"<date>"},{"$f":"('!N217820.095'!D7/60)/'!N217820.095'!Q3","v":8.6666666666666663E-3},{"$f":"'!N217820.095'!N20/'!N217820.095'!Q3","v":0.76},{"$f":"SUM('!N217820.095'!L20:Q20)/'!N217820.095'!Q3","v":1.34},{"$f":"'!N217820.095'!Q16","v":0.19721320539649542}]
[16,{"$f":"'!N218950.095'!B2:C2","v":"<date>"},{"$f":"('!N218950.095'!D7/60)/'!N218950.095'!Q3","v":8.461538461538463E-3},{"$f":"'!N218950.095'!N20/'!N218950.095'!Q3","v":0.52307692307692311},{"$f":"SUM('!N218950.095'!L20:Q20)/'!N218950.095'!Q3","v":1.1846153846153846},{"$f":"'!N218950.095'!Q16","v":0.29082185243090269}]
[17,{"$f":"'!N219A20.095'!B2:C2","v":"<date>"},{"$f":"('!N219A20.095'!D7/60)/'!N219A20.095'!Q3","v":8.6206896551724137E-3},{"$f":"'!N219A20.095'!N20/'!N219A20.095'!Q3","v":0.65517241379310343},{"$f":"SUM('!N219A20.095'!L20:Q20)/'!N219A20.095'!Q3","v":1.1896551724137931},{"$f":"'!N219A20.095'!Q16","v":0.23923448595081498}]
[18,{"$f":"'!N220B10.095'!B2:C2","v":"<date>"},{"$f":"('!N220B10.095'!D7/60)/'!N220B10.095'!Q3","v":5.5555555555555549E-3},{"$f":"'!N220B10.095'!N20/'!N220B10.095'!Q3","v":0.55555555555555558},{"$f":"SUM('!N220B10.095'!L20:Q20)/'!N220B10.095'!Q3","v":1.0793650793650793},{"$f":"'!N220B10.095'!Q16","v":0.27646777267675332}]
[19,{"$f":"'!N222940.095'!B2:C2","v":"<date>"},{"$f":"('!N222940.095'!D7/60)/'!N222940.095'!Q3","v":8.3333333333333332E-3},{"$f":"'!N222940.095'!N20/'!N222940.095'!Q3","v":0.52941176470588236},{"$f":"SUM('!N222940.095'!L20:Q20)/'!N222940.095'!Q3","v":1.0441176470588236},{"$f":"'!N222940.095'!Q16","v":0.28338842700778744}]
[20,{"$f":"'!N223930.095'!B2:C2","v":"<date>"},{"$f":"('!N223930.095'!D7/60)/'!N223930.095'!Q3","v":1.7251461988304094E-2},{"$f":"'!N223930.095'!N20/'!N223930.095'!Q3","v":0.42105263157894735},{"$f":"SUM('!N223930.095'!L20:Q20)/'!N223930.095'!Q3","v":1.1403508771929824},{"$f":"'!N223930.095'!Q16","v":0.27710938525327605}]
[21,{"$f":"'!N224A20.095'!B2:C2","v":"<date>"},{"$f":"('!N224A20.095'!D7/60)/'!N224A20.095'!Q3","v":3.9583333333333328E-3},{"$f":"'!N224A20.095'!N20/'!N224A20.095'!Q3","v":0.35},{"$f":"SUM('!N224A20.095'!L20:Q20)/'!N224A20.095'!Q3","v":0.83750000000000002},{"$f":"'!N224A20.095'!Q16","v":0.25112999377467704}]
[22,{"$f":"'!N225950.095'!B2:C2","v":"<date>"},{"$f":"('!N225950.095'!D7/60)/'!N225950.095'!Q3","v":5.1282051282051282E-3},{"$f":"'!N225950.095'!N20/'!N225950.095'!Q3","v":0.29230769230769232},{"$f":"SUM('!N225950.095'!L20:Q20)/'!N225950.095'!Q3","v":0.8},{"$f":"'!N225950.095'!Q16","v":0.25905145422714337}]
[23,{"$f":"'!N226B00.095'!B2:C2","v":"<date>"},{"$f":"('!N226B00.095'!D7/60)/'!N226B00.095'!Q3","v":5.2777777777777779E-3},{"$f":"'!N226B00.095'!N20/'!N226B00.095'!Q3","v":0.6333333333333333},{"$f":"SUM('!N226B00.095'!L20:Q20)/'!N226B00.095'!Q3","v":1.1499999999999999},{"$f":"'!N226B00.095'!Q16","v":0.24625712406758155}]
[24,{"$f":"'!N227A30.095'!B2:C2","v":"<date>"},{"$f":"('!N227A30.095'!D7/60)/'!N227A30.095'!Q3","v":1.5432098765432098E-2},{"$f":"'!N227A30.095'!N20/'!N227A30.095'!Q3","v":0.29629629629629628},{"$f":"SUM('!N227A30.095'!L20:Q20)/'!N227A30.095'!Q3","v":0.76543209876543206},{"$f":"'!N227A30.095'!Q16","v":0.22152462748722954}]
[25,{"$f":"'!N228A00.095'!B2:C2","v":"<date>"},{"$f":"('!N228A00.095'!D7/60)/'!N228A00.095'!Q3","v":2.3550724637681156E-2},{"$f":"'!N228A00.095'!N20/'!N228A00.095'!Q3","v":0.30434782608695654},{"$f":"SUM('!N228A00.095'!L20:Q20)/'!N228A00.095'!Q3","v":0.86956521739130432},{"$f":"'!N228A00.095'!Q16","v":0.31902108954876301}]
[26,{"$f":"'!N302920.095'!B2:C2","v":"<date>"},{"$f":"('!N302920.095'!D7/60)/'!N302920.095'!Q3","v":4.10958904109589E-3},{"$f":"'!N302920.095'!N20/'!N302920.095'!Q3","v":0.42465753424657532},{"$f":"SUM('!N302920.095'!L20:Q20)/'!N302920.095'!Q3","v":1.0410958904109588},{"$f":"'!N302920.095'!Q16","v":0.29196239312349603}]
[27,{"$f":"'!N303950.095'!B2:C2","v":"<date>"},{"$f":"('!N303950.095'!D7/60)/'!N303950.095'!Q3","v":3.2638888888888891E-2},{"$f":"'!N303950.095'!N20/'!N303950.095'!Q3","v":0.625},{"$f":"SUM('!N303950.095'!L20:Q20)/'!N303950.095'!Q3","v":1.2083333333333333},{"$f":"'!N303950.095'!Q16","v":0.25107584036423558}]
[28,{"$f":"'!N304940.095'!B2:C2","v":"<date>"},{"$f":"('!N304940.095'!D7/60)/'!N304940.095'!Q3","v":1.1419753086419753E-2},{"$f":"'!N304940.095'!N20/'!N304940.095'!Q3","v":0.68518518518518523},{"$f":"SUM('!N304940.095'!L20:Q20)/'!N304940.095'!Q3","v":1.4259259259259258},{"$f":"'!N304940.095'!Q16","v":0.22529690523839055}]
[29,{"$f":"'!N306A10.095'!B2:C2","v":"<date>"},{"$f":"('!N306A10.095'!D7/60)/'!N306A10.095'!Q3","v":6.4971751412429384E-3},{"$f":"'!N306A10.095'!N20/'!N306A10.095'!Q3","v":0.64406779661016944},{"$f":"SUM('!N306A10.095'!L20:Q20)/'!N306A10.095'!Q3","v":1.1694915254237288},{"$f":"'!N306A10.095'!Q16","v":0.23637248690315327}]
[30,{"$f":"'!N307840.095'!B2:C2","v":"<date>"},{"$f":"('!N307840.095'!D7/60)/'!N307840.095'!Q3","v":5.2469135802469136E-3},{"$f":"'!N307840.095'!N20/'!N307840.095'!Q3","v":0.62962962962962965},{"$f":"SUM('!N307840.095'!L20:Q20)/'!N307840.095'!Q3","v":1.1851851851851851},{"$f":"'!N307840.095'!Q16","v":0.25783816511117286}]
[null,{"$f":"'!N308950.095'!B2:C2","v":"<date>"},{"$f":"('!N308950.095'!D7/60)/'!N308950.095'!Q3","v":7.6923076923076927E-3},{"$f":"'!N308950.095'!N20/'!N308950.095'!Q3","v":0.29230769230769232},{"$f":"SUM('!N308950.095'!L20:Q20)/'!N308950.095'!Q3","v":0.81538461538461537},{"$f":"'!N308950.095'!Q16","v":0.21224376928326699}]

{"sheet":"Start","index":2,"n_rows":37,"n_cols":10,"rows_kept":37,"cut":false,"hidden":false,"merged":[]}
[null,null,null,null,null,"Use Folder 51",null,"Auto Clean Up",null,"Correct sequence"]
[null,null,null,null,null,false,null,true,null,12]
[]
["Working with Folder",null,null,null,null,null,"Process All/Or Pick A number: ALL or an integer"]
["E:\\Hen Data\\Raw Data\\95_175\\PHASE 4 VAR\\",null,null,null,null,null,"ALL"]
["Filenames:"]
["!N308950.095",null,null,null,null,null,"Paint Cells"]
["!N203B00.095",null,null,null,null,null,false]
["!N204A10.095"]
["!N205910.095"]
["!N206920.095"]
["!N207940.095"]
["!N208A20.095"]
["!N209820.095"]
["!N210900.095"]
["!N211A30.095"]
["!N212940.095"]
["!N213950.095"]
["!N214920.095"]
["!N215920.095"]
["!N216920.095"]
["!N217820.095"]
["!N218950.095"]
["!N219A20.095"]
["!N220B10.095"]
["!N222940.095"]
["!N223930.095"]
["!N224A20.095"]
["!N225950.095"]
["!N226B00.095"]
["!N227A30.095"]
["!N228A00.095"]
["!N302920.095"]
["!N303950.095"]
["!N304940.095"]
["!N306A10.095"]
["!N307840.095"]

{"sheet":"!N203B00.095","index":3,"n_rows":169,"n_cols":48,"rows_kept":169,"cut":false,"hidden":false,"merged":[[4,39,4,42],[5,39,5,40],[4,44,4,47],[5,44,5,45],[4,24,4,27],[5,24,5,25],[4,29,4,32],[5,29,5,30],[4,34,4,37],[5,34,5,35],[1,1,1,2],[5,13,5,14],[18,13,18,14],[19,13,19,14],[4,19,4,22],[5,19,5,20]]}
["Report for:!N203B00.095"]
["Date:","<date>"]
["Hen:","<hen>",null,null,null,"Correct Sequence",{"$f":"Start!J2","v":12},null,null,null,null,null,null,null,null,"Total Sequences in Data",{"$f":"4994-COUNTBLANK(L7:L5000)","v":163},null,null,null,null,"Total Sequences in Block Data",{"$f":"COUNTA(L7:L33)","v":27},null,null,null,"Total Sequences in Block Data",{"$f":"COUNTA(L34:L60)","v":27},null,null,null,"Total Sequences in Block Data",{"$f":"COUNTA(L61:L88)","v":28},null,null,null,"Total Sequences in Block Data",{"$f":"COUNTA(L89:L115)","v":27},null,null,null,"Total Sequences in Block Data",{"$f":"COUNTA(L116:L142)","v":27},null,null,null,"Total Sequences in Block Data",{"$f":"COUNTA(L143:L169)","v":27}]
[null,null,null,null,null,null,null,null,null,null,null,null,null,null,null,"Total Sequences in Summary",{"$f":"SUM(O7:O14)","v":163},null,null,null,null,"Total Sequences in Block Summary",{"$f":"SUM(U7:U14)","v":27},null,null,null,"Total Sequences in Block Summary",{"$f":"SUM(Z7:Z14)","v":27},null,null,null,"Total Sequences in Block Summary",{"$f":"SUM(AE7:AE14)","v":28},null,null,null,"Total Sequences in Block Summary",{"$f":"SUM(AJ7:AJ14)","v":27},null,null,null,"Total Sequences in Block Summary",{"$f":"SUM(AO7:AO14)","v":27},null,null,null,"Total Sequences in Block Summary",{"$f":"SUM(AT7:AT14)","v":27}]
[null,null,null,null,null,null,null,null,null,null,null,null,null,null,null,null,null,null,null,"Block 1",null,null,null,null,"Block 2",null,null,null,null,"Block 3",null,null,null,null,"Block 4",null,null,null,null,"Block 5",null,null,null,null,"Block 6"]
["Sequence\nComponent\n1","Time\n1","Sequence\nComponent\n2","Time\n2","Sequence\nComponent\n3","Time\n3","Sequence\nComponent\n4","Time\n4","Sequence\nComponent\n5","Time\n5","Correct?\n0=No 1=Yes","Sequence",null,"Frequency",null,"Relative Frequency","Variability",null,null,"Frequency",null,"Relative Frequency","Variability",null,"Frequency",null,"Relative Frequency","Variability",null,"Frequency",null,"Relative Frequency","Variability",null,"Frequency",null,"Relative Frequency","Variability",null,"Frequency",null,"Relative Frequency","Variability",null,"Frequency",null,"Relative Frequency","Variability"]
[22,17,23,34,null,null,null,null,null,null,0,22,null,11,{"$f":"COUNTIF($L$7:$L$500,N7)","v":0},{"$f":"O7/$Q$4","v":0},{"$f":"IF(P7=0,0,(P7*((LOG(P7))/LOG(2))))","v":0},null,null,{"$f":"N7","v":11},{"$f":"COUNTIF(L7:L33,T7)","v":0},{"$f":"U7/(W4-U8)","v":0},{"$f":"IF(V7=0,0,(V7*((LOG(V7))/LOG(2))))","v":0},null,{"$f":"N7","v":11},{"$f":"COUNTIF(L34:L60,Y7)","v":0},{"$f":"Z7/(AB4-Z8)","v":0},{"$f":"IF(AA7=0,0,(AA7*((LOG(AA7))/LOG(2))))","v":0},null,{"$f":"N7","v":11},{"$f":"COUNTIF(L61:L88,AD7)","v":0},{"$f":"AE7/(AG4-AE8)","v":0},{"$f":"IF(AF7=0,0,(AF7*((LOG(AF7))/LOG(2))))","v":0},null,{"$f":"N7","v":11},{"$f":"COUNTIF(L89:L115,AI7)","v":0},{"$f":"AJ7/(AL4-AJ8)","v":0},{"$f":"IF(AK7=0,0,(AK7*((LOG(AK7))/LOG(2))))","v":0},null,{"$f":"N7","v":11},{"$f":"COUNTIF(L116:L142,AN7)","v":0},{"$f":"AO7/(AQ4-AO8)","v":0},{"$f":"IF(AP7=0,0,(AP7*((LOG(AP7))/LOG(2))))","v":0},null,{"$f":"N7","v":11},{"$f":"COUNTIF(L143:L169,AS7)","v":0},{"$f":"AT7/(AV4-AT8)","v":0},{"$f":"IF(AU7=0,0,(AU7*((LOG(AU7))/LOG(2))))","v":0}]
[22,142,23,209,null,null,null,null,null,null,0,22,null,12,{"$f":"COUNTIF($L$7:$L$500,N8)","v":19},{"$f":"O8/$Q$4","v":0.1165644171779141},{"$f":"IF(P8=0,0,(P8*((LOG(P8))/LOG(2))))","v":-0.36144301947829666},null,null,{"$f":"N8","v":12},{"$f":"COUNTIF(L7:L33,T8)","v":0},null,null,null,{"$f":"N8","v":12},{"$f":"COUNTIF(L34:L60,Y8)","v":6},null,null,null,{"$f":"N8","v":12},{"$f":"COUNTIF(L61:L88,AD8)","v":6},null,null,null,{"$f":"N8","v":12},{"$f":"COUNTIF(L89:L115,AI8)","v":3},null,null,null,{"$f":"N8","v":12},{"$f":"COUNTIF(L116:L142,AN8)","v":3},null,null,null,{"$f":"N8","v":12},{"$f":"COUNTIF(L143:L169,AS8)","v":1}]
[22,302,23,307,null,null,null,null,null,null,0,22,null,21,{"$f":"COUNTIF($L$7:$L$500,N9)","v":69},{"$f":"O9/$Q$4","v":0.42331288343558282},{"$f":"IF(P9=0,0,(P9*((LOG(P9))/LOG(2))))","v":-0.52499420321626189},null,null,{"$f":"N9","v":21},{"$f":"COUNTIF(L7:L33,T9)","v":7},{"$f":"U9/(W4-U8)","v":0.25925925925925924},{"$f":"IF(V9=0,0,(V9*((LOG(V9))/LOG(2))))","v":-0.5049158541015204},null,{"$f":"N9","v":21},{"$f":"COUNTIF(L34:L60,Y9)","v":11},{"$f":"Z9/(AB4-Z8)","v":0.52380952380952384},{"$f":"IF(AA9=0,0,(AA9*((LOG(AA9))/LOG(2))))","v":-0.4886544688360045},null,{"$f":"N9","v":21},{"$f":"COUNTIF(L61:L88,AD9)","v":13},{"$f":"AE9/(AG4-AE8)","v":0.59090909090909094},{"$f":"IF(AF9=0,0,(AF9*((LOG(AF9))/LOG(2))))","v":-0.4484952139295757},null,{"$f":"N9","v":21},{"$f":"COUNTIF(L89:L115,AI9)","v":17},{"$f":"AJ9/(AL4-AJ8)","v":0.70833333333333337},{"$f":"IF(AK9=0,0,(AK9*((LOG(AK9))/LOG(2))))","v":-0.35239559212516181},null,{"$f":"N9","v":21},{"$f":"COUNTIF(L116:L142,AN9)","v":11},{"$f":"AO9/(AQ4-AO8)","v":0.45833333333333331},{"$f":"IF(AP9=0,0,(AP9*((LOG(AP9))/LOG(2))))","v":-0.51586832095510204},null,{"$f":"N9","v":21},{"$f":"COUNTIF(L143:L169,AS9)","v":10},{"$f":"AT9/(AV4-AT8)","v":0.38461538461538464},{"$f":"IF(AU9=0,0,(AU9*((LOG(AU9))/LOG(2))))","v":-0.53019677817451139}]
[22,411,23,425,null,null,null,null,null,null,0,22,null,22,{"$f":"COUNTIF($L$7:$L$500,N10)","v":75},{"$f":"O10/$Q$4","v":0.46012269938650308},{"$f":"IF(P10=0,0,(P10*((LOG(P10))/LOG(2))))","v":-0.5152957655223297},null,null,{"$f":"N10","v":22},{"$f":"COUNTIF(L7:L33,T10)","v":20},{"$f":"U10/(W4-U8)","v":0.7407407407407407},{"$f":"IF(V10=0,0,(V10*((LOG(V10))/LOG(2))))","v":-0.32071067205637499},null,{"$f":"N10","v":22},{"$f":"COUNTIF(L34:L60,Y10)","v":10},{"$f":"Z10/(AB4-Z8)","v":0.47619047619047616},{"$f":"IF(AA10=0,0,(AA10*((LOG(AA10))/LOG(2))))","v":-0.50970920375780859},null,{"$f":"N10","v":22},{"$f":"COUNTIF(L61:L88,AD10)","v":9},{"$f":"AE10/(AG4-AE8)","v":0.40909090909090912},{"$f":"IF(AF10=0,0,(AF10*((LOG(AF10))/LOG(2))))","v":-0.52752543430703935},null,{"$f":"N10","v":22},{"$f":"COUNTIF(L89:L115,AI10)","v":7},{"$f":"AJ10/(AL4-AJ8)","v":0.29166666666666669},{"$f":"IF(AK10=0,0,(AK10*((LOG(AK10))/LOG(2))))","v":-0.51846887711020273},null,{"$f":"N10","v":22},{"$f":"COUNTIF(L116:L142,AN10)","v":13},{"$f":"AO10/(AQ4-AO8)","v":0.54166666666666663},{"$f":"IF(AP10=0,0,(AP10*((LOG(AP10))/LOG(2))))","v":-0.47911650723086807},null,{"$f":"N10","v":22},{"$f":"COUNTIF(L143:L169,AS10)","v":16},{"$f":"AT10/(AV4-AT8)","v":0.61538461538461542},{"$f":"IF(AU10=0,0,(AU10*((LOG(AU10))/LOG(2))))","v":-0.43103982654836437}]
[22,524,23,530,null,null,null,null,null,null,0,22,null,null,null,null,null,null,null,{"$f":"N11","v":0},{"$f":"COUNTIF(L7:L33,T11)","v":0},{"$f":"U11/(W4-U8)","v":0},{"$f":"IF(V11=0,0,(V11*((LOG(V11))/LOG(2))))","v":0},null,{"$f":"N11","v":0},{"$f":"COUNTIF(L34:L60,Y11)","v":0},{"$f":"Z11/(AB4-Z8)","v":0},{"$f":"IF(AA11=0,0,(AA11*((LOG(AA11))/LOG(2))))","v":0},null,{"$f":"N11","v":0},{"$f":"COUNTIF(L61:L88,AD11)","v":0},{"$f":"AE11/(AG4-AE8)","v":0},{"$f":"IF(AF11=0,0,(AF11*((LOG(AF11))/LOG(2))))","v":0},null,{"$f":"N11","v":0},{"$f":"COUNTIF(L89:L115,AI11)","v":0},{"$f":"AJ11/(AL4-AJ8)","v":0},{"$f":"IF(AK11=0,0,(AK11*((LOG(AK11))/LOG(2))))","v":0},null,{"$f":"N11","v":0},{"$f":"COUNTIF(L116:L142,AN11)","v":0},{"$f":"AO11/(AQ4-AO8)","v":0},{"$f":"IF(AP11=0,0,(AP11*((LOG(AP11))/LOG(2))))","v":0},null,{"$f":"N11","v":0},{"$f":"COUNTIF(L143:L169,AS11)","v":0},{"$f":"AT11/(AV4-AT8)","v":0},{"$f":"IF(AU11=0,0,(AU11*((LOG(AU11))/LOG(2))))","v":0}]
[22,631,14,650,null,null,null,null,null,null,0,21,null,null,null,null,null,null,null,{"$f":"N12","v":0},{"$f":"COUNTIF(L7:L33,T12)","v":0},{"$f":"U12/(W4-U8)","v":0},{"$f":"IF(V12=0,0,(V12*((LOG(V12))/LOG(2))))","v":0},null,{"$f":"N12","v":0},{"$f":"COUNTIF(L34:L60,Y12)","v":0},{"$f":"Z12/(AB4-Z8)","v":0},{"$f":"IF(AA12=0,0,(AA12*((LOG(AA12))/LOG(2))))","v":0},null,{"$f":"N12","v":0},{"$f":"COUNTIF(L61:L88,AD12)","v":0},{"$f":"AE12/(AG4-AE8)","v":0},{"$f":"IF(AF12=0,0,(AF12*((LOG(AF12))/LOG(2))))","v":0},null,{"$f":"N12","v":0},{"$f":"COUNTIF(L89:L115,AI12)","v":0},{"$f":"AJ12/(AL4-AJ8)","v":0},{"$f":"IF(AK12=0,0,(AK12*((LOG(AK12))/LOG(2))))","v":0},null,{"$f":"N12","v":0},{"$f":"COUNTIF(L116:L142,AN12)","v":0},{"$f":"AO12/(AQ4-AO8)","v":0},{"$f":"IF(AP12=0,0,(AP12*((LOG(AP12))/LOG(2))))","v":0},null,{"$f":"N12","v":0},{"$f":"COUNTIF(L143:L169,AS12)","v":0},{"$f":"AT12/(AV4-AT8)","v":0},{"$f":"IF(AU12=0,0,(AU12*((LOG(AU12))/LOG(2))))","v":0}]
[22,760,14,769,null,null,null,null,null,null,0,21,null,null,null,null,null,null,null,{"$f":"N13","v":0},{"$f":"COUNTIF(L7:L33,T13)","v":0},{"$f":"U13/(W4-U8)","v":0},{"$f":"IF(V13=0,0,(V13*((LOG(V13))/LOG(2))))","v":0},null,{"$f":"N13","v":0},{"$f":"COUNTIF(L34:L60,Y13)","v":0},{"$f":"Z13/(AB4-Z8)","v":0},{"$f":"IF(AA13=0,0,(AA13*((LOG(AA13))/LOG(2))))","v":0},null,{"$f":"N13","v":0},{"$f":"COUNTIF(L61:L88,AD13)","v":0},{"$f":"AE13/(AG4-AE8)","v":0},{"$f":"IF(AF13=0,0,(AF13*((LOG(AF13))/LOG(2))))","v":0},null,{"$f":"N13","v":0},{"$f":"COUNTIF(L89:L115,AI13)","v":0},{"$f":"AJ13/(AL4-AJ8)","v":0},{"$f":"IF(AK13=0,0,(AK13*((LOG(AK13))/LOG(2))))","v":0},null,{"$f":"N13","v":0},{"$f":"COUNTIF(L116:L142,AN13)","v":0},{"$f":"AO13/(AQ4-AO8)","v":0},{"$f":"IF(AP13=0,0,(AP13*((LOG(AP13))/LOG(2))))","v":0},null,{"$f":"N13","v":0},{"$f":"COUNTIF(L143:L169,AS13)","v":0},{"$f":"AT13/(AV4-AT8)","v":0},{"$f":"IF(AU13=0,0,(AU13*((LOG(AU13))/LOG(2))))","v":0}]
[22,864,23,912,null,null,null,null,null,null,0,22,null,null,null,null,null,null,null,{"$f":"N14","v":0},{"$f":"COUNTIF(L7:L33,T14)","v":0},{"$f":"U14/(W4-U8)","v":0},{"$f":"IF(V14=0,0,(V14*((LOG(V14))/LOG(2))))","v":0},null,{"$f":"N14","v":0},{"$f":"COUNTIF(L34:L60,Y14)","v":0},{"$f":"Z14/(AB4-Z8)","v":0},{"$f":"IF(AA14=0,0,(AA14*((LOG(AA14))/LOG(2))))","v":0},null,{"$f":"N14","v":0},{"$f":"COUNTIF(L61:L88,AD14)","v":0},{"$f":"AE14/(AG4-AE8)","v":0},{"$f":"IF(AF14=0,0,(AF14*((LOG(AF14))/LOG(2))))","v":0},null,{"$f":"N14","v":0},{"$f":"COUNTIF(L89:L115,AI14)","v":0},{"$f":"AJ14/(AL4-AJ8)","v":0},{"$f":"IF(AK14=0,0,(AK14*((LOG(AK14))/LOG(2))))","v":0},null,{"$f":"N14","v":0},{"$f":"COUNTIF(L116:L142,AN14)","v":0},{"$f":"AO14/(AQ4-AO8)","v":0},{"$f":"IF(AP14=0,0,(AP14*((LOG(AP14))/LOG(2))))","v":0},null,{"$f":"N14","v":0},{"$f":"COUNTIF(L143:L169,AS14)","v":0},{"$f":"AT14/(AV4-AT8)","v":0},{"$f":"IF(AU14=0,0,(AU14*((LOG(AU14))/LOG(2))))","v":0}]
[22,1013,23,1020,null,null,null,null,null,null,0,22,null,null,null,{"$f":"SUM(P7:P14)","v":1},{"$f":"-SUM(Q7:Q14)","v":1.4017329882168883},null,null,null,null,{"$f":"SUM(V7:V14)","v":1},{"$f":"-SUM(W7:W14)","v":0.82562652615789545},null,null,null,{"$f":"SUM(AA7:AA14)","v":1},{"$f":"-SUM(AB7:AB14)","v":0.99836367259381309},null,null,null,{"$f":"SUM(AF7:AF14)","v":1},{"$f":"-SUM(AG7:AG14)","v":0.97602064823661505},null,null,null,{"$f":"SUM(AK7:AK14)","v":1},{"$f":"-SUM(AL7:AL14)","v":0.87086446923536454},null,null,null,{"$f":"SUM(AP7:AP14)","v":1},{"$f":"-SUM(AQ7:AQ14)","v":0.99498482818597012},null,null,null,{"$f":"SUM(AU7:AU14)","v":1},{"$f":"-SUM(AV7:AV14)","v":0.96123660472287575}]
[22,1121,23,1126,null,null,null,null,null,null,0,22,null,null,null,"U=",{"$f":"Q15/(LOG(Q4)/LOG(2))","v":0.19074497774282637},null,null,null,null,"U1=",{"$f":"W15/(LOG(W4)/LOG(2))","v":0.17363744689695315},null,null,null,"U2=",{"$f":"AB15/(LOG(AB4)/LOG(2))","v":0.20996578197476992},null,null,null,"U3=",{"$f":"AG15/(LOG(AG4)/LOG(2))","v":0.20302654246690546},null,null,null,"U4=",{"$f":"AL15/(LOG(AL4)/LOG(2))","v":0.18315143498960221},null,null,null,"U5=",{"$f":"AQ15/(LOG(AQ4)/LOG(2))","v":0.20925517748490435},null,null,null,"U6=",{"$f":"AV15/(LOG(AV4)/LOG(2))","v":0.20215759138055617}]
[22,1223,14,1236,null,null,null,null,null,null,0,21]
[22,1338,23,1345,null,null,null,null,null,null,0,22]
[22,1443,23,1508,null,null,null,null,null,null,0,22,null,"Total Target Seq"]
[22,1616,14,1638,null,null,null,null,null,null,0,21,null,{"$f":"COUNTIF(L7:L169,G3)","v":19},null,27,27,28,27,27,27]
[22,1739,14,1748,null,null,null,null,null,null,0,21,null,null,null,"% of reinforcement given in 6 equal intervals based on number of trials "]
[22,1848,23,1856,null,null,null,null,null,null,0,22,null,null,null,"%_1","%_2","%_3","%_4","%_5","%_6"]
[22,1963,23,1975,null,null,null,null,null,null,0,22,null,null,"target sequence",{"$f":"$G$3","v":12},{"$f":"$G$3","v":12},{"$f":"$G$3","v":12},{"$f":"$G$3","v":12},{"$f":"$G$3","v":12},{"$f":"$G$3","v":12}]
[22,2126,23,2151,null,null,null,null,null,null,0,22,null,null,"total reinforcement",{"$f":"U8","v":0},{"$f":"Z8","v":6},{"$f":"AE8","v":6},{"$f":"AJ8","v":3},{"$f":"AO8","v":3},{"$f":"AT8","v":1}]
[22,2323,23,2345,null,null,null,null,null,null,0,22,null,null,"% target"]
[22,2445,23,2496,null,null,null,null,null,null,0,22,null,null,"CCRF"]
[22,2596,23,2612,null,null,null,null,null,null,0,22,null,null,"% CCRf"]
[22,2712,23,2720,null,null,null,null,null,null,0,22,null,null,"average response rate",{"$f":"D33/P20","v":121.74074074074075},{"$f":"(D60-D33)/Q20","v":123.07407407407408},{"$f":"(D88-D60)/R20","v":120.42857142857143},{"$f":"(D115-D88)/S20","v":116.14814814814815},{"$f":"(D142-D115)/T20","v":122.5925925925926},{"$f":"(D169-D142)/U20","v":122.37037037037037}]
[22,2819,23,2831,null,null,null,null,null,null,0,22]
[22,2941,14,2949,null,null,null,null,null,null,0,21]
[22,3052,14,3068,null,null,null,null,null,null,0,21]
[22,3170,23,3178,null,null,null,null,null,null,0,22]
[22,3279,23,3287,null,null,null,null,null,null,0,22]
[11,3401,21,3411,null,null,null,null,null,null,0,12]
[11,3525,21,3573,null,null,null,null,null,null,0,12]
[22,3669,14,3685,null,null,null,null,null,null,0,21]
[22,3790,14,3798,null,null,null,null,null,null,0,21]
[11,3925,21,3955,null,null,null,null,null,null,0,12]
[22,4052,23,4059,null,null,null,null,null,null,0,22]
[22,4160,14,4188,null,null,null,null,null,null,0,21]
[22,4291,14,4299,null,null,null,null,null,null,0,21]
[22,4398,23,4403,null,null,null,null,null,null,0,22]
[22,4501,14,4517,null,null,null,null,null,null,0,21]
[22,4610,23,4676,null,null,null,null,null,null,0,22]
[22,4778,14,4793,null,null,null,null,null,null,0,21]
[22,4894,23,4908,null,null,null,null,null,null,0,22]
[22,5006,14,5038,null,null,null,null,null,null,0,21]
[22,5140,23,5157,null,null,null,null,null,null,0,22]
[11,5270,21,5281,null,null,null,null,null,null,0,12]
[22,5381,14,5402,null,null,null,null,null,null,0,21]
[22,5509,23,5521,null,null,null,null,null,null,0,22]
[22,5619,14,5635,null,null,null,null,null,null,0,21]
[22,5731,23,5738,null,null,null,null,null,null,0,22]
[22,5838,23,5846,null,null,null,null,null,null,0,22]
[11,5958,21,6009,null,null,null,null,null,null,0,12]
[11,6135,21,6174,null,null,null,null,null,null,0,12]
[22,6266,23,6283,null,null,null,null,null,null,0,22]
[22,6383,14,6398,null,null,null,null,null,null,0,21]
[22,6494,23,6501,null,null,null,null,null,null,0,22]
[22,6602,14,6610,null,null,null,null,null,null,0,21]
[22,6723,14,6750,null,null,null,null,null,null,0,21]
[11,6866,21,6919,null,null,null,null,null,null,0,12]
[22,7011,14,7027,null,null,null,null,null,null,0,21]
[22,7127,14,7135,null,null,null,null,null,null,0,21]
[22,7232,14,7251,null,null,null,null,null,null,0,21]
[11,7362,21,7371,null,null,null,null,null,null,0,12]
[11,7496,21,7525,null,null,null,null,null,null,0,12]
[22,7623,23,7635,null,null,null,null,null,null,0,22]
[11,7746,21,7769,null,null,null,null,null,null,0,12]
[22,7870,14,7878,null,null,null,null,null,null,0,21]
[22,8003,23,8018,null,null,null,null,null,null,0,22]
[22,8118,14,8127,null,null,null,null,null,null,0,21]
[22,8226,23,8233,null,null,null,null,null,null,0,22]
[22,8331,23,8351,null,null,null,null,null,null,0,22]
[22,8451,14,8469,null,null,null,null,null,null,0,21]
[22,8563,23,8570,null,null,null,null,null,null,0,22]
[22,8669,14,8677,null,null,null,null,null,null,0,21]
[11,8788,21,8837,null,null,null,null,null,null,0,12]
[22,8936,23,8994,null,null,null,null,null,null,0,22]
[22,9092,23,9096,null,null,null,null,null,null,0,22]
[22,9195,23,9203,null,null,null,null,null,null,0,22]
[22,9300,14,9316,null,null,null,null,null,null,0,21]
[22,9416,14,9440,null,null,null,null,null,null,0,21]
[11,9553,21,9561,null,null,null,null,null,null,0,12]
[22,9654,14,9667,null,null,null,null,null,null,0,21]
[22,9765,14,9776,null,null,null,null,null,null,0,21]
[22,9873,14,9881,null,null,null,null,null,null,0,21]
[22,9978,23,9982,null,null,null,null,null,null,0,22]
[22,10080,23,10088,null,null,null,null,null,null,0,22]
[22,10188,14,10196,null,null,null,null,null,null,0,21]
[22,10296,14,10304,null,null,null,null,null,null,0,21]
[22,10403,14,10411,null,null,null,null,null,null,0,21]
[22,10508,14,10517,null,null,null,null,null,null,0,21]
[11,10622,21,10649,null,null,null,null,null,null,0,12]
[22,10761,14,10770,null,null,null,null,null,null,0,21]
[22,10869,14,10890,null,null,null,null,null,null,0,21]
[22,10988,23,11049,null,null,null,null,null,null,0,22]
[22,11150,14,11159,null,null,null,null,null,null,0,21]
[22,11253,23,11260,null,null,null,null,null,null,0,22]
[22,11362,14,11370,null,null,null,null,null,null,0,21]
[22,11467,14,11476,null,null,null,null,null,null,0,21]
[22,11575,23,11592,null,null,null,null,null,null,0,22]
[22,11689,14,11697,null,null,null,null,null,null,0,21]
[22,11815,23,11829,null,null,null,null,null,null,0,22]
[22,11925,14,11938,null,null,null,null,null,null,0,21]
[22,12043,14,12051,null,null,null,null,null,null,0,21]
[22,12150,14,12158,null,null,null,null,null,null,0,21]
[11,12273,21,12285,null,null,null,null,null,null,0,12]
[22,12399,23,12434,null,null,null,null,null,null,0,22]
[22,12534,23,12541,null,null,null,null,null,null,0,22]
[11,12652,21,12677,null,null,null,null,null,null,0,12]
[22,12773,14,12786,null,null,null,null,null,null,0,21]
[22,12890,14,12897,null,null,null,null,null,null,0,21]
[22,12998,14,13007,null,null,null,null,null,null,0,21]
[22,13108,14,13118,null,null,null,null,null,null,0,21]
[22,13223,14,13231,null,null,null,null,null,null,0,21]
[22,13328,14,13337,null,null,null,null,null,null,0,21]
[22,13436,23,13464,null,null,null,null,null,null,0,22]
[22,13564,23,13606,null,null,null,null,null,null,0,22]
[22,13703,14,13712,null,null,null,null,null,null,0,21]
[22,13815,23,13843,null,null,null,null,null,null,0,22]
[22,13942,23,13985,null,null,null,null,null,null,0,22]
[22,14088,14,14109,null,null,null,null,null,null,0,21]
[22,14205,23,14209,null,null,null,null,null,null,0,22]
[22,14310,23,14316,null,null,null,null,null,null,0,22]
[22,14425,14,14432,null,null,null,null,null,null,0,21]
[22,14532,23,14539,null,null,null,null,null,null,0,22]
[22,14643,14,14651,null,null,null,null,null,null,0,21]
[22,14779,23,14809,null,null,null,null,null,null,0,22]
[22,14928,23,14935,null,null,null,null,null,null,0,22]
[11,15048,21,15070,null,null,null,null,null,null,0,12]
[22,15163,14,15176,null,null,null,null,null,null,0,21]
[22,15281,23,15352,null,null,null,null,null,null,0,22]
[22,15449,14,15472,null,null,null,null,null,null,0,21]
[22,15566,14,15582,null,null,null,null,null,null,0,21]
[22,15679,23,15696,null,null,null,null,null,null,0,22]
[22,15794,23,15805,null,null,null,null,null,null,0,22]
[11,15923,21,15942,null,null,null,null,null,null,0,12]
[22,16042,14,16073,null,null,null,null,null,null,0,21]
[22,16170,14,16185,null,null,null,null,null,null,0,21]
[22,16281,23,16289,null,null,null,null,null,null,0,22]
[11,16403,21,16428,null,null,null,null,null,null,0,12]
[22,16522,23,16537,null,null,null,null,null,null,0,22]
[22,16635,14,16643,null,null,null,null,null,null,0,21]
[22,16747,14,16754,null,null,null,null,null,null,0,21]
[22,16852,14,16866,null,null,null,null,null,null,0,21]
[22,16994,23,17011,null,null,null,null,null,null,0,22]
[22,17107,23,17123,null,null,null,null,null,null,0,22]
[22,17219,14,17227,null,null,null,null,null,null,0,21]
[22,17326,14,17342,null,null,null,null,null,null,0,21]
[22,17443,23,17451,null,null,null,null,null,null,0,22]
[22,17570,14,17586,null,null,null,null,null,null,0,21]
[22,17683,23,17688,null,null,null,null,null,null,0,22]
[11,17815,21,17841,null,null,null,null,null,null,0,12]
[22,17983,23,18013,null,null,null,null,null,null,0,22]
[22,18112,23,18121,null,null,null,null,null,null,0,22]
[22,18221,14,18229,null,null,null,null,null,null,0,21]
[22,18330,23,18352,null,null,null,null,null,null,0,22]
[22,18463,23,18502,null,null,null,null,null,null,0,22]
[22,18596,23,18623,null,null,null,null,null,null,0,22]
[22,18758,23,18773,null,null,null,null,null,null,0,22]
[22,18874,23,18890,null,null,null,null,null,null,0,22]
[22,18985,23,18992,null,null,null,null,null,null,0,22]
[22,19092,14,19102,null,null,null,null,null,null,0,21]
[22,19207,14,19223,null,null,null,null,null,null,0,21]
[22,19322,14,19337,null,null,null,null,null,null,0,21]
[22,19465,23,19486,null,null,null,null,null,null,0,22]
[22,19591,23,19607,null,null,null,null,null,null,0,22]
[22,19725,23,19732,null,null,null,null,null,null,1,22]

{"sheet":"!N204A10.095","index":4,"n_rows":164,"n_cols":48,"rows_kept":164,"cut":false,"hidden":false,"merged":[[4,39,4,42],[5,39,5,40],[4,44,4,47],[5,44,5,45],[4,24,4,27],[5,24,5,25],[4,29,4,32],[5,29,5,30],[4,34,4,37],[5,34,5,35],[1,1,1,2],[5,13,5,14],[18,13,18,14],[19,13,19,14],[4,19,4,22],[5,19,5,20]]}
["Report for:!N204A10.095"]
["Date:","<date>"]
["Hen:","<hen>",null,null,null,"Correct Sequence",{"$f":"Start!J2","v":12},null,null,null,null,null,null,null,null,"Total Sequences in Data",{"$f":"4994-COUNTBLANK(L7:L5000)","v":158},null,null,null,null,"Total Sequences in Block Data",{"$f":"COUNTA(L7:L32)","v":26},null,null,null,"Total Sequences in Block Data",{"$f":"COUNTA(L33:L59)","v":27},null,null,null,"Total Sequences in Block Data",{"$f":"COUNTA(L60:L85)","v":26},null,null,null,"Total Sequences in Block Data",{"$f":"COUNTA(L86:L111)","v":26},null,null,null,"Total Sequences in Block Data",{"$f":"COUNTA(L112:L138)","v":27},null,null,null,"Total Sequences in Block Data",{"$f":"COUNTA(L139:L164)","v":26}]
[null,null,null,null,null,null,null,null,null,null,null,null,null,null,null,"Total Sequences in Summary",{"$f":"SUM(O7:O14)","v":158},null,null,null,null,"Total Sequences in Block Summary",{"$f":"SUM(U7:U14)","v":26},null,null,null,"Total Sequences in Block Summary",{"$f":"SUM(Z7:Z14)","v":27},null,null,null,"Total Sequences in Block Summary",{"$f":"SUM(AE7:AE14)","v":26},null,null,null,"Total Sequences in Block Summary",{"$f":"SUM(AJ7:AJ14)","v":26},null,null,null,"Total Sequences in Block Summary",{"$f":"SUM(AO7:AO14)","v":27},null,null,null,"Total Sequences in Block Summary",{"$f":"SUM(AT7:AT14)","v":26}]
[null,null,null,null,null,null,null,null,null,null,null,null,null,null,null,null,null,null,null,"Block 1",null,null,null,null,"Block 2",null,null,null,null,"Block 3",null,null,null,null,"Block 4",null,null,null,null,"Block 5",null,null,null,null,"Block 6"]
["Sequence\nComponent\n1","Time\n1","Sequence\nComponent\n2","Time\n2","Sequence\nComponent\n3","Time\n3","Sequence\nComponent\n4","Time\n4","Sequence\nComponent\n5","Time\n5","Correct?\n0=No 1=Yes","Sequence",null,"Frequency",null,"Relative Frequency","Variability",null,null,"Frequency",null,"Relative Frequency","Variability",null,"Frequency",null,"Relative Frequency","Variability",null,"Frequency",null,"Relative Frequency","Variability",null,"Frequency",null,"Relative Frequency","Variability",null,"Frequency",null,"Relative Frequency","Variability",null,"Frequency",null,"Relative Frequency","Variability"]
[11,43,21,57,null,null,null,null,null,null,0,12,null,11,{"$f":"COUNTIF($L$7:$L$500,N7)","v":0},{"$f":"O7/$Q$4","v":0},{"$f":"IF(P7=0,0,(P7*((LOG(P7))/LOG(2))))","v":0},null,null,{"$f":"N7","v":11},{"$f":"COUNTIF(L7:L32,T7)","v":0},{"$f":"U7/(W4-U8)","v":0},{"$f":"IF(V7=0,0,(V7*((LOG(V7))/LOG(2))))","v":0},null,{"$f":"N7","v":11},{"$f":"COUNTIF(L33:L59,Y7)","v":0},{"$f":"Z7/(AB4-Z8)","v":0},{"$f":"IF(AA7=0,0,(AA7*((LOG(AA7))/LOG(2))))","v":0},null,{"$f":"N7","v":11},{"$f":"COUNTIF(L60:L85,AD7)","v":0},{"$f":"AE7/(AG4-AE8)","v":0},{"$f":"IF(AF7=0,0,(AF7*((LOG(AF7))/LOG(2))))","v":0},null,{"$f":"N7","v":11},{"$f":"COUNTIF(L86:L111,AI7)","v":0},{"$f":"AJ7/(AL4-AJ8)","v":0},{"$f":"IF(AK7=0,0,(AK7*((LOG(AK7))/LOG(2))))","v":0},null,{"$f":"N7","v":11},{"$f":"COUNTIF(L112:L138,AN7)","v":0},{"$f":"AO7/(AQ4-AO8)","v":0},{"$f":"IF(AP7=0,0,(AP7*((LOG(AP7))/LOG(2))))","v":0},null,{"$f":"N7","v":11},{"$f":"COUNTIF(L139:L164,AS7)","v":0},{"$f":"AT7/(AV4-AT8)","v":0},{"$f":"IF(AU7=0,0,(AU7*((LOG(AU7))/LOG(2))))","v":0}]
[22,161,14,171,null,null,null,null,null,null,0,21,null,12,{"$f":"COUNTIF($L$7:$L$500,N8)","v":20},{"$f":"O8/$Q$4","v":0.12658227848101267},{"$f":"IF(P8=0,0,(P8*((LOG(P8))/LOG(2))))","v":-0.37744970294806846},null,null,{"$f":"N8","v":12},{"$f":"COUNTIF(L7:L32,T8)","v":5},null,null,null,{"$f":"N8","v":12},{"$f":"COUNTIF(L33:L59,Y8)","v":5},null,null,null,{"$f":"N8","v":12},{"$f":"COUNTIF(L60:L85,AD8)","v":1},null,null,null,{"$f":"N8","v":12},{"$f":"COUNTIF(L86:L111,AI8)","v":2},null,null,null,{"$f":"N8","v":12},{"$f":"COUNTIF(L112:L138,AN8)","v":2},null,null,null,{"$f":"N8","v":12},{"$f":"COUNTIF(L139:L164,AS8)","v":5}]
[22,266,23,278,null,null,null,null,null,null,0,22,null,21,{"$f":"COUNTIF($L$7:$L$500,N9)","v":51},{"$f":"O9/$Q$4","v":0.32278481012658228},{"$f":"IF(P9=0,0,(P9*((LOG(P9))/LOG(2))))","v":-0.52657674504105045},null,null,{"$f":"N9","v":21},{"$f":"COUNTIF(L7:L32,T9)","v":13},{"$f":"U9/(W4-U8)","v":0.61904761904761907},{"$f":"IF(V9=0,0,(V9*((LOG(V9))/LOG(2))))","v":-0.42830524572808026},null,{"$f":"N9","v":21},{"$f":"COUNTIF(L33:L59,Y9)","v":14},{"$f":"Z9/(AB4-Z8)","v":0.63636363636363635},{"$f":"IF(AA9=0,0,(AA9*((LOG(AA9))/LOG(2))))","v":-0.41495789782344106},null,{"$f":"N9","v":21},{"$f":"COUNTIF(L60:L85,AD9)","v":8},{"$f":"AE9/(AG4-AE8)","v":0.32},{"$f":"IF(AF9=0,0,(AF9*((LOG(AF9))/LOG(2))))","v":-0.52603398072791185},null,{"$f":"N9","v":21},{"$f":"COUNTIF(L86:L111,AI9)","v":5},{"$f":"AJ9/(AL4-AJ8)","v":0.20833333333333334},{"$f":"IF(AK9=0,0,(AK9*((LOG(AK9))/LOG(2))))","v":-0.47146550121537367},null,{"$f":"N9","v":21},{"$f":"COUNTIF(L112:L138,AN9)","v":2},{"$f":"AO9/(AQ4-AO8)","v":0.08},{"$f":"IF(AP9=0,0,(AP9*((LOG(AP9))/LOG(2))))","v":-0.29150849518197797},null,{"$f":"N9","v":21},{"$f":"COUNTIF(L139:L164,AS9)","v":9},{"$f":"AT9/(AV4-AT8)","v":0.42857142857142855},{"$f":"IF(AU9=0,0,(AU9*((LOG(AU9))/LOG(2))))","v":-0.52388246628704915}]
[22,378,14,388,null,null,null,null,null,null,0,21,null,22,{"$f":"COUNTIF($L$7:$L$500,N10)","v":87},{"$f":"O10/$Q$4","v":0.55063291139240511},{"$f":"IF(P10=0,0,(P10*((LOG(P10))/LOG(2))))","v":-0.4740053224846113},null,null,{"$f":"N10","v":22},{"$f":"COUNTIF(L7:L32,T10)","v":8},{"$f":"U10/(W4-U8)","v":0.38095238095238093},{"$f":"IF(V10=0,0,(V10*((LOG(V10))/LOG(2))))","v":-0.53040663724905157},null,{"$f":"N10","v":22},{"$f":"COUNTIF(L33:L59,Y10)","v":8},{"$f":"Z10/(AB4-Z8)","v":0.36363636363636365},{"$f":"IF(AA10=0,0,(AA10*((LOG(AA10))/LOG(2))))","v":-0.53070240677719893},null,{"$f":"N10","v":22},{"$f":"COUNTIF(L60:L85,AD10)","v":17},{"$f":"AE10/(AG4-AE8)","v":0.68},{"$f":"IF(AF10=0,0,(AF10*((LOG(AF10))/LOG(2))))","v":-0.378347476996582},null,{"$f":"N10","v":22},{"$f":"COUNTIF(L86:L111,AI10)","v":19},{"$f":"AJ10/(AL4-AJ8)","v":0.79166666666666663},{"$f":"IF(AK10=0,0,(AK10*((LOG(AK10))/LOG(2))))","v":-0.26681936492807684},null,{"$f":"N10","v":22},{"$f":"COUNTIF(L112:L138,AN10)","v":23},{"$f":"AO10/(AQ4-AO8)","v":0.92},{"$f":"IF(AP10=0,0,(AP10*((LOG(AP10))/LOG(2))))","v":-0.11067069502029483},null,{"$f":"N10","v":22},{"$f":"COUNTIF(L139:L164,AS10)","v":12},{"$f":"AT10/(AV4-AT8)","v":0.5714285714285714},{"$f":"IF(AU10=0,0,(AU10*((LOG(AU10))/LOG(2))))","v":-0.46134566974720237}]
[22,489,14,498,null,null,null,null,null,null,0,21,null,null,null,null,null,null,null,{"$f":"N11","v":0},{"$f":"COUNTIF(L7:L32,T11)","v":0},{"$f":"U11/(W4-U8)","v":0},{"$f":"IF(V11=0,0,(V11*((LOG(V11))/LOG(2))))","v":0},null,{"$f":"N11","v":0},{"$f":"COUNTIF(L33:L59,Y11)","v":0},{"$f":"Z11/(AB4-Z8)","v":0},{"$f":"IF(AA11=0,0,(AA11*((LOG(AA11))/LOG(2))))","v":0},null,{"$f":"N11","v":0},{"$f":"COUNTIF(L60:L85,AD11)","v":0},{"$f":"AE11/(AG4-AE8)","v":0},{"$f":"IF(AF11=0,0,(AF11*((LOG(AF11))/LOG(2))))","v":0},null,{"$f":"N11","v":0},{"$f":"COUNTIF(L86:L111,AI11)","v":0},{"$f":"AJ11/(AL4-AJ8)","v":0},{"$f":"IF(AK11=0,0,(AK11*((LOG(AK11))/LOG(2))))","v":0},null,{"$f":"N11","v":0},{"$f":"COUNTIF(L112:L138,AN11)","v":0},{"$f":"AO11/(AQ4-AO8)","v":0},{"$f":"IF(AP11=0,0,(AP11*((LOG(AP11))/LOG(2))))","v":0},null,{"$f":"N11","v":0},{"$f":"COUNTIF(L139:L164,AS11)","v":0},{"$f":"AT11/(AV4-AT8)","v":0},{"$f":"IF(AU11=0,0,(AU11*((LOG(AU11))/LOG(2))))","v":0}]
[11,607,21,641,null,null,null,null,null,null,0,12,null,null,null,null,null,null,null,{"$f":"N12","v":0},{"$f":"COUNTIF(L7:L32,T12)","v":0},{"$f":"U12/(W4-U8)","v":0},{"$f":"IF(V12=0,0,(V12*((LOG(V12))/LOG(2))))","v":0},null,{"$f":"N12","v":0},{"$f":"COUNTIF(L33:L59,Y12)","v":0},{"$f":"Z12/(AB4-Z8)","v":0},{"$f":"IF(AA12=0,0,(AA12*((LOG(AA12))/LOG(2))))","v":0},null,{"$f":"N12","v":0},{"$f":"COUNTIF(L60:L85,AD12)","v":0},{"$f":"AE12/(AG4-AE8)","v":0},{"$f":"IF(AF12=0,0,(AF12*((LOG(AF12))/LOG(2))))","v":0},null,{"$f":"N12","v":0},{"$f":"COUNTIF(L86:L111,AI12)","v":0},{"$f":"AJ12/(AL4-AJ8)","v":0},{"$f":"IF(AK12=0,0,(AK12*((LOG(AK12))/LOG(2))))","v":0},null,{"$f":"N12","v":0},{"$f":"COUNTIF(L112:L138,AN12)","v":0},{"$f":"AO12/(AQ4-AO8)","v":0},{"$f":"IF(AP12=0,0,(AP12*((LOG(AP12))/LOG(2))))","v":0},null,{"$f":"N12","v":0},{"$f":"COUNTIF(L139:L164,AS12)","v":0},{"$f":"AT12/(AV4-AT8)","v":0},{"$f":"IF(AU12=0,0,(AU12*((LOG(AU12))/LOG(2))))","v":0}]
[22,735,23,772,null,null,null,null,null,null,0,22,null,null,null,null,null,null,null,{"$f":"N13","v":0},{"$f":"COUNTIF(L7:L32,T13)","v":0},{"$f":"U13/(W4-U8)","v":0},{"$f":"IF(V13=0,0,(V13*((LOG(V13))/LOG(2))))","v":0},null,{"$f":"N13","v":0},{"$f":"COUNTIF(L33:L59,Y13)","v":0},{"$f":"Z13/(AB4-Z8)","v":0},{"$f":"IF(AA13=0,0,(AA13*((LOG(AA13))/LOG(2))))","v":0},null,{"$f":"N13","v":0},{"$f":"COUNTIF(L60:L85,AD13)","v":0},{"$f":"AE13/(AG4-AE8)","v":0},{"$f":"IF(AF13=0,0,(AF13*((LOG(AF13))/LOG(2))))","v":0},null,{"$f":"N13","v":0},{"$f":"COUNTIF(L86:L111,AI13)","v":0},{"$f":"AJ13/(AL4-AJ8)","v":0},{"$f":"IF(AK13=0,0,(AK13*((LOG(AK13))/LOG(2))))","v":0},null,{"$f":"N13","v":0},{"$f":"COUNTIF(L112:L138,AN13)","v":0},{"$f":"AO13/(AQ4-AO8)","v":0},{"$f":"IF(AP13=0,0,(AP13*((LOG(AP13))/LOG(2))))","v":0},null,{"$f":"N13","v":0},{"$f":"COUNTIF(L139:L164,AS13)","v":0},{"$f":"AT13/(AV4-AT8)","v":0},{"$f":"IF(AU13=0,0,(AU13*((LOG(AU13))/LOG(2))))","v":0}]
[22,918,23,950,null,null,null,null,null,null,0,22,null,null,null,null,null,null,null,{"$f":"N14","v":0},{"$f":"COUNTIF(L7:L32,T14)","v":0},{"$f":"U14/(W4-U8)","v":0},{"$f":"IF(V14=0,0,(V14*((LOG(V14))/LOG(2))))","v":0},null,{"$f":"N14","v":0},{"$f":"COUNTIF(L33:L59,Y14)","v":0},{"$f":"Z14/(AB4-Z8)","v":0},{"$f":"IF(AA14=0,0,(AA14*((LOG(AA14))/LOG(2))))","v":0},null,{"$f":"N14","v":0},{"$f":"COUNTIF(L60:L85,AD14)","v":0},{"$f":"AE14/(AG4-AE8)","v":0},{"$f":"IF(AF14=0,0,(AF14*((LOG(AF14))/LOG(2))))","v":0},null,{"$f":"N14","v":0},{"$f":"COUNTIF(L86:L111,AI14)","v":0},{"$f":"AJ14/(AL4-AJ8)","v":0},{"$f":"IF(AK14=0,0,(AK14*((LOG(AK14))/LOG(2))))","v":0},null,{"$f":"N14","v":0},{"$f":"COUNTIF(L112:L138,AN14)","v":0},{"$f":"AO14/(AQ4-AO8)","v":0},{"$f":"IF(AP14=0,0,(AP14*((LOG(AP14))/LOG(2))))","v":0},null,{"$f":"N14","v":0},{"$f":"COUNTIF(L139:L164,AS14)","v":0},{"$f":"AT14/(AV4-AT8)","v":0},{"$f":"IF(AU14=0,0,(AU14*((LOG(AU14))/LOG(2))))","v":0}]
[11,1076,21,1105,null,null,null,null,null,null,0,12,null,null,null,{"$f":"SUM(P7:P14)","v":1},{"$f":"-SUM(Q7:Q14)","v":1.3780317704737302},null,null,null,null,{"$f":"SUM(V7:V14)","v":1},{"$f":"-SUM(W7:W14)","v":0.95871188297713184},null,null,null,{"$f":"SUM(AA7:AA14)","v":1},{"$f":"-SUM(AB7:AB14)","v":0.94566030460063999},null,null,null,{"$f":"SUM(AF7:AF14)","v":1},{"$f":"-SUM(AG7:AG14)","v":0.90438145772449385},null,null,null,{"$f":"SUM(AK7:AK14)","v":1},{"$f":"-SUM(AL7:AL14)","v":0.73828486614345046},null,null,null,{"$f":"SUM(AP7:AP14)","v":1},{"$f":"-SUM(AQ7:AQ14)","v":0.40217919020227277},null,null,null,{"$f":"SUM(AU7:AU14)","v":1},{"$f":"-SUM(AV7:AV14)","v":0.98522813603425152}]
[22,1202,23,1240,null,null,null,null,null,null,0,22,null,null,null,"U=",{"$f":"Q15/(LOG(Q4)/LOG(2))","v":0.18867375924690277},null,null,null,null,"U1=",{"$f":"W15/(LOG(W4)/LOG(2))","v":0.20396216959809854},null,null,null,"U2=",{"$f":"AB15/(LOG(AB4)/LOG(2))","v":0.19888174098133041},null,null,null,"U3=",{"$f":"AG15/(LOG(AG4)/LOG(2))","v":0.19240358603772381},null,null,null,"U4=",{"$f":"AL15/(LOG(AL4)/LOG(2))","v":0.15706719167019206},null,null,null,"U5=",{"$f":"AQ15/(LOG(AQ4)/LOG(2))","v":8.4582272455296093E-2},null,null,null,"U6=",{"$f":"AV15/(LOG(AV4)/LOG(2))","v":0.20960339779102305}]
[22,1340,14,1354,null,null,null,null,null,null,0,21]
[22,1458,23,1501,null,null,null,null,null,null,0,22]
[22,1602,14,1609,null,null,null,null,null,null,0,21,null,"Total Target Seq"]
[22,1704,14,1720,null,null,null,null,null,null,0,21,null,{"$f":"COUNTIF(L7:L164,G3)","v":20},null,26,27,26,26,27,26]
[22,1819,14,1846,null,null,null,null,null,null,0,21,null,null,null,"% of reinforcement given in 6 equal intervals based on number of trials "]
[22,1945,23,1953,null,null,null,null,null,null,0,22,null,null,null,"%_1","%_2","%_3","%_4","%_5","%_6"]
[22,2051,23,2058,null,null,null,null,null,null,0,22,null,null,"target sequence",{"$f":"$G$3","v":12},{"$f":"$G$3","v":12},{"$f":"$G$3","v":12},{"$f":"$G$3","v":12},{"$f":"$G$3","v":12},{"$f":"$G$3","v":12}]
[22,2153,14,2162,null,null,null,null,null,null,0,21,null,null,"total reinforcement",{"$f":"U8","v":5},{"$f":"Z8","v":5},{"$f":"AE8","v":1},{"$f":"AJ8","v":2},{"$f":"AO8","v":2},{"$f":"AT8","v":5}]
[22,2261,14,2271,null,null,null,null,null,null,0,21,null,null,"% target"]
[22,2377,14,2386,null,null,null,null,null,null,0,21,null,null,"CCRF"]
[22,2530,23,2542,null,null,null,null,null,null,0,22,null,null,"% CCRf"]
[11,2649,21,2673,null,null,null,null,null,null,0,12,null,null,"average response rate",{"$f":"D32/P20","v":121.23076923076923},{"$f":"(D59-D32)/Q20","v":123.92592592592592},{"$f":"(D85-D59)/R20","v":118.03846153846153},{"$f":"(D111-D85)/S20","v":131.34615384615384},{"$f":"(D138-D111)/T20","v":123.22222222222223},{"$f":"(D164-D138)/U20","v":123.88461538461539}]
[22,2780,14,2809,null,null,null,null,null,null,0,21]
[22,2918,14,2926,null,null,null,null,null,null,0,21]
[11,3034,21,3048,null,null,null,null,null,null,0,12]
[22,3143,14,3152,null,null,null,null,null,null,0,21]
[22,3250,14,3259,null,null,null,null,null,null,0,21]
[22,3354,14,3369,null,null,null,null,null,null,0,21]
[22,3464,14,3472,null,null,null,null,null,null,0,21]
[22,3566,14,3580,null,null,null,null,null,null,0,21]
[22,3681,14,3690,null,null,null,null,null,null,0,21]
[22,3790,14,3798,null,null,null,null,null,null,0,21]
[11,3921,21,3958,null,null,null,null,null,null,0,12]
[22,4051,23,4061,null,null,null,null,null,null,0,22]
[11,4168,21,4186,null,null,null,null,null,null,0,12]
[11,4302,21,4348,null,null,null,null,null,null,0,12]
[22,4441,14,4449,null,null,null,null,null,null,0,21]
[22,4545,14,4554,null,null,null,null,null,null,0,21]
[22,4648,14,4657,null,null,null,null,null,null,0,21]
[11,4777,21,4823,null,null,null,null,null,null,0,12]
[22,4935,23,4978,null,null,null,null,null,null,0,22]
[11,5091,21,5104,null,null,null,null,null,null,0,12]
[22,5198,14,5207,null,null,null,null,null,null,0,21]
[22,5346,23,5354,null,null,null,null,null,null,0,22]
[22,5454,23,5503,null,null,null,null,null,null,0,22]
[22,5603,14,5618,null,null,null,null,null,null,0,21]
[22,5732,14,5740,null,null,null,null,null,null,0,21]
[22,5845,14,5853,null,null,null,null,null,null,0,21]
[22,5954,23,5992,null,null,null,null,null,null,0,22]
[22,6092,14,6107,null,null,null,null,null,null,0,21]
[22,6208,23,6217,null,null,null,null,null,null,0,22]
[22,6318,23,6344,null,null,null,null,null,null,0,22]
[22,6473,23,6498,null,null,null,null,null,null,0,22]
[22,6602,14,6611,null,null,null,null,null,null,0,21]
[22,6711,14,6720,null,null,null,null,null,null,0,21]
[22,6817,23,6825,null,null,null,null,null,null,0,22]
[22,6927,14,6936,null,null,null,null,null,null,0,21]
[22,7037,14,7045,null,null,null,null,null,null,0,21]
[22,7143,14,7167,null,null,null,null,null,null,0,21]
[22,7272,23,7315,null,null,null,null,null,null,0,22]
[22,7413,23,7440,null,null,null,null,null,null,0,22]
[22,7554,14,7563,null,null,null,null,null,null,0,21]
[22,7662,23,7670,null,null,null,null,null,null,0,22]
[22,7774,23,7796,null,null,null,null,null,null,0,22]
[22,7894,23,7915,null,null,null,null,null,null,0,22]
[22,8018,23,8048,null,null,null,null,null,null,0,22]
[22,8141,14,8156,null,null,null,null,null,null,0,21]
[22,8257,14,8273,null,null,null,null,null,null,0,21]
[22,8393,23,8408,null,null,null,null,null,null,0,22]
[22,8509,23,8518,null,null,null,null,null,null,0,22]
[22,8611,23,8641,null,null,null,null,null,null,0,22]
[22,8760,23,8768,null,null,null,null,null,null,0,22]
[22,8868,23,8876,null,null,null,null,null,null,0,22]
[22,8974,23,8998,null,null,null,null,null,null,0,22]
[22,9096,23,9111,null,null,null,null,null,null,0,22]
[22,9211,23,9219,null,null,null,null,null,null,0,22]
[11,9325,21,9351,null,null,null,null,null,null,0,12]
[22,9445,23,9452,null,null,null,null,null,null,0,22]
[22,9550,23,9567,null,null,null,null,null,null,0,22]
[22,9687,23,9696,null,null,null,null,null,null,0,22]
[22,9825,23,9856,null,null,null,null,null,null,0,22]
[22,9957,14,9965,null,null,null,null,null,null,0,21]
[22,10090,23,10111,null,null,null,null,null,null,0,22]
[22,10208,23,10216,null,null,null,null,null,null,0,22]
[22,10316,23,10373,null,null,null,null,null,null,0,22]
[22,10470,23,10492,null,null,null,null,null,null,0,22]
[22,10606,23,10630,null,null,null,null,null,null,0,22]
[22,10730,23,10741,null,null,null,null,null,null,0,22]
[22,10875,23,10883,null,null,null,null,null,null,0,22]
[22,10979,23,10994,null,null,null,null,null,null,0,22]
[22,11093,23,11119,null,null,null,null,null,null,0,22]
[22,11220,23,11270,null,null,null,null,null,null,0,22]
[22,11399,23,11409,null,null,null,null,null,null,0,22]
[11,11530,21,11577,null,null,null,null,null,null,0,12]
[11,11704,21,11783,null,null,null,null,null,null,0,12]
[22,11902,23,11930,null,null,null,null,null,null,0,22]
[22,12029,23,12037,null,null,null,null,null,null,0,22]
[22,12137,23,12172,null,null,null,null,null,null,0,22]
[22,12292,14,12300,null,null,null,null,null,null,0,21]
[22,12406,14,12414,null,null,null,null,null,null,0,21]
[22,12511,23,12518,null,null,null,null,null,null,0,22]
[22,12619,23,12636,null,null,null,null,null,null,0,22]
[22,12734,23,12757,null,null,null,null,null,null,0,22]
[22,12861,14,12869,null,null,null,null,null,null,0,21]
[22,12966,14,12982,null,null,null,null,null,null,0,21]
[22,13082,23,13090,null,null,null,null,null,null,0,22]
[11,13202,21,13240,null,null,null,null,null,null,0,12]
[22,13335,23,13342,null,null,null,null,null,null,0,22]
[22,13443,23,13455,null,null,null,null,null,null,0,22]
[22,13560,14,13568,null,null,null,null,null,null,0,21]
[22,13670,23,13691,null,null,null,null,null,null,0,22]
[22,13789,23,13801,null,null,null,null,null,null,0,22]
[22,13896,23,13922,null,null,null,null,null,null,0,22]
[22,14027,23,14056,null,null,null,null,null,null,0,22]
[22,14154,14,14172,null,null,null,null,null,null,0,21]
[22,14271,23,14283,null,null,null,null,null,null,0,22]
[22,14381,23,14403,null,null,null,null,null,null,0,22]
[11,14519,21,14537,null,null,null,null,null,null,0,12]
[22,14632,23,14661,null,null,null,null,null,null,0,22]
[22,14759,23,14779,null,null,null,null,null,null,0,22]
[22,14876,23,14907,null,null,null,null,null,null,0,22]
[22,15004,23,15017,null,null,null,null,null,null,0,22]
[22,15117,23,15159,null,null,null,null,null,null,0,22]
[22,15283,23,15298,null,null,null,null,null,null,0,22]
[22,15417,23,15431,null,null,null,null,null,null,0,22]
[22,15530,23,15554,null,null,null,null,null,null,0,22]
[22,15681,23,15703,null,null,null,null,null,null,0,22]
[22,15800,23,15807,null,null,null,null,null,null,0,22]
[22,15908,23,15953,null,null,null,null,null,null,0,22]
[22,16050,23,16056,null,null,null,null,null,null,0,22]
[22,16154,23,16170,null,null,null,null,null,null,0,22]
[22,16301,23,16309,null,null,null,null,null,null,0,22]
[22,16407,14,16427,null,null,null,null,null,null,0,21]
[22,16527,23,16534,null,null,null,null,null,null,0,22]
[22,16638,14,16646,null,null,null,null,null,null,0,21]
[11,16760,21,16786,null,null,null,null,null,null,0,12]
[22,16880,14,16888,null,null,null,null,null,null,0,21]
[22,16986,23,16993,null,null,null,null,null,null,0,22]
[22,17090,14,17097,null,null,null,null,null,null,0,21]
[22,17199,23,17217,null,null,null,null,null,null,0,22]
[22,17315,14,17334,null,null,null,null,null,null,0,21]
[22,17429,23,17434,null,null,null,null,null,null,0,22]
[11,17539,21,17558,null,null,null,null,null,null,0,12]
[22,17653,23,17726,null,null,null,null,null,null,0,22]
[11,17844,21,17863,null,null,null,null,null,null,0,12]
[22,17958,14,17988,null,null,null,null,null,null,0,21]
[11,18097,21,18115,null,null,null,null,null,null,0,12]
[22,18212,23,18227,null,null,null,null,null,null,0,22]
[22,18321,23,18361,null,null,null,null,null,null,0,22]
[22,18462,23,18484,null,null,null,null,null,null,0,22]
[22,18582,23,18593,null,null,null,null,null,null,0,22]
[22,18708,23,18715,null,null,null,null,null,null,0,22]
[22,18813,14,18837,null,null,null,null,null,null,0,21]
[11,18957,21,19010,null,null,null,null,null,null,0,12]
[22,19141,23,19154,null,null,null,null,null,null,0,22]
[22,19256,14,19263,null,null,null,null,null,null,0,21]
[22,19404,23,19419,null,null,null,null,null,null,0,22]
[22,19518,14,19530,null,null,null,null,null,null,1,21]

{"sheet":"!N205910.095","index":5,"n_rows":117,"n_cols":48,"rows_kept":117,"cut":false,"hidden":false,"merged":[[4,39,4,42],[5,39,5,40],[4,44,4,47],[5,44,5,45],[4,24,4,27],[5,24,5,25],[4,29,4,32],[5,29,5,30],[4,34,4,37],[5,34,5,35],[1,1,1,2],[5,13,5,14],[18,13,18,14],[19,13,19,14],[4,19,4,22],[5,19,5,20]]}
["Report for:!N205910.095"]
["Date:","<date>"]
["Hen:","<hen>",null,null,null,"Correct Sequence",{"$f":"Start!J2","v":12},null,null,null,null,null,null,null,null,"Total Sequences in Data",{"$f":"4994-COUNTBLANK(L7:L5000)","v":111},null,null,null,null,"Total Sequences in Block Data",{"$f":"COUNTA(L7:L25)","v":19},null,null,null,"Total Sequences in Block Data",{"$f":"COUNTA(L26:L43)","v":18},null,null,null,"Total Sequences in Block Data",{"$f":"COUNTA(L44:L62)","v":19},null,null,null,"Total Sequences in Block Data",{"$f":"COUNTA(L63:L80)","v":18},null,null,null,"Total Sequences in Block Data",{"$f":"COUNTA(L81:L99)","v":19},null,null,null,"Total Sequences in Block Data",{"$f":"COUNTA(L100:L117)","v":18}]
[null,null,null,null,null,null,null,null,null,null,null,null,null,null,null,"Total Sequences in Summary",{"$f":"SUM(O7:O14)","v":111},null,null,null,null,"Total Sequences in Block Summary",{"$f":"SUM(U7:U14)","v":19},null,null,null,"Total Sequences in Block Summary",{"$f":"SUM(Z7:Z14)","v":18},null,null,null,"Total Sequences in Block Summary",{"$f":"SUM(AE7:AE14)","v":19},null,null,null,"Total Sequences in Block Summary",{"$f":"SUM(AJ7:AJ14)","v":18},null,null,null,"Total Sequences in Block Summary",{"$f":"SUM(AO7:AO14)","v":19},null,null,null,"Total Sequences in Block Summary",{"$f":"SUM(AT7:AT14)","v":18}]
[null,null,null,null,null,null,null,null,null,null,null,null,null,null,null,null,null,null,null,"Block 1",null,null,null,null,"Block 2",null,null,null,null,"Block 3",null,null,null,null,"Block 4",null,null,null,null,"Block 5",null,null,null,null,"Block 6"]
["Sequence\nComponent\n1","Time\n1","Sequence\nComponent\n2","Time\n2","Sequence\nComponent\n3","Time\n3","Sequence\nComponent\n4","Time\n4","Sequence\nComponent\n5","Time\n5","Correct?\n0=No 1=Yes","Sequence",null,"Frequency",null,"Relative Frequency","Variability",null,null,"Frequency",null,"Relative Frequency","Variability",null,"Frequency",null,"Relative Frequency","Variability",null,"Frequency",null,"Relative Frequency","Variability",null,"Frequency",null,"Relative Frequency","Variability",null,"Frequency",null,"Relative Frequency","Variability",null,"Frequency",null,"Relative Frequency","Variability"]
[22,10,23,18,null,null,null,null,null,null,0,22,null,11,{"$f":"COUNTIF($L$7:$L$500,N7)","v":0},{"$f":"O7/$Q$4","v":0},{"$f":"IF(P7=0,0,(P7*((LOG(P7))/LOG(2))))","v":0},null,null,{"$f":"N7","v":11},{"$f":"COUNTIF(L7:L25,T7)","v":0},{"$f":"U7/(W4-U8)","v":0},{"$f":"IF(V7=0,0,(V7*((LOG(V7))/LOG(2))))","v":0},null,{"$f":"N7","v":11},{"$f":"COUNTIF(L26:L43,Y7)","v":0},{"$f":"Z7/(AB4-Z8)","v":0},{"$f":"IF(AA7=0,0,(AA7*((LOG(AA7))/LOG(2))))","v":0},null,{"$f":"N7","v":11},{"$f":"COUNTIF(L44:L62,AD7)","v":0},{"$f":"AE7/(AG4-AE8)","v":0},{"$f":"IF(AF7=0,0,(AF7*((LOG(AF7))/LOG(2))))","v":0},null,{"$f":"N7","v":11},{"$f":"COUNTIF(L63:L80,AI7)","v":0},{"$f":"AJ7/(AL4-AJ8)","v":0},{"$f":"IF(AK7=0,0,(AK7*((LOG(AK7))/LOG(2))))","v":0},null,{"$f":"N7","v":11},{"$f":"COUNTIF(L81:L99,AN7)","v":0},{"$f":"AO7/(AQ4-AO8)","v":0},{"$f":"IF(AP7=0,0,(AP7*((LOG(AP7))/LOG(2))))","v":0},null,{"$f":"N7","v":11},{"$f":"COUNTIF(L100:L117,AS7)","v":0},{"$f":"AT7/(AV4-AT8)","v":0},{"$f":"IF(AU7=0,0,(AU7*((LOG(AU7))/LOG(2))))","v":0}]
[22,125,14,136,null,null,null,null,null,null,0,21,null,12,{"$f":"COUNTIF($L$7:$L$500,N8)","v":26},{"$f":"O8/$Q$4","v":0.23423423423423423},{"$f":"IF(P8=0,0,(P8*((LOG(P8))/LOG(2))))","v":-0.49048089958048974},null,null,{"$f":"N8","v":12},{"$f":"COUNTIF(L7:L25,T8)","v":1},null,null,null,{"$f":"N8","v":12},{"$f":"COUNTIF(L26:L43,Y8)","v":5},null,null,null,{"$f":"N8","v":12},{"$f":"COUNTIF(L44:L62,AD8)","v":1},null,null,null,{"$f":"N8","v":12},{"$f":"COUNTIF(L63:L80,AI8)","v":4},null,null,null,{"$f":"N8","v":12},{"$f":"COUNTIF(L81:L99,AN8)","v":9},null,null,null,{"$f":"N8","v":12},{"$f":"COUNTIF(L100:L117,AS8)","v":6}]
[22,232,23,262,null,null,null,null,null,null,0,22,null,21,{"$f":"COUNTIF($L$7:$L$500,N9)","v":55},{"$f":"O9/$Q$4","v":0.49549549549549549},{"$f":"IF(P9=0,0,(P9*((LOG(P9))/LOG(2))))","v":-0.50196476040900484},null,null,{"$f":"N9","v":21},{"$f":"COUNTIF(L7:L25,T9)","v":10},{"$f":"U9/(W4-U8)","v":0.55555555555555558},{"$f":"IF(V9=0,0,(V9*((LOG(V9))/LOG(2))))","v":-0.4711093925305278},null,{"$f":"N9","v":21},{"$f":"COUNTIF(L26:L43,Y9)","v":8},{"$f":"Z9/(AB4-Z8)","v":0.61538461538461542},{"$f":"IF(AA9=0,0,(AA9*((LOG(AA9))/LOG(2))))","v":-0.43103982654836437},null,{"$f":"N9","v":21},{"$f":"COUNTIF(L44:L62,AD9)","v":10},{"$f":"AE9/(AG4-AE8)","v":0.55555555555555558},{"$f":"IF(AF9=0,0,(AF9*((LOG(AF9))/LOG(2))))","v":-0.4711093925305278},null,{"$f":"N9","v":21},{"$f":"COUNTIF(L63:L80,AI9)","v":10},{"$f":"AJ9/(AL4-AJ8)","v":0.7142857142857143},{"$f":"IF(AK9=0,0,(AK9*((LOG(AK9))/LOG(2))))","v":-0.34673344797874411},null,{"$f":"N9","v":21},{"$f":"COUNTIF(L81:L99,AN9)","v":8},{"$f":"AO9/(AQ4-AO8)","v":0.8},{"$f":"IF(AP9=0,0,(AP9*((LOG(AP9))/LOG(2))))","v":-0.25754247590988982},null,{"$f":"N9","v":21},{"$f":"COUNTIF(L100:L117,AS9)","v":9},{"$f":"AT9/(AV4-AT8)","v":0.75},{"$f":"IF(AU9=0,0,(AU9*((LOG(AU9))/LOG(2))))","v":-0.31127812445913283}]
[22,365,14,373,null,null,null,null,null,null,0,21,null,22,{"$f":"COUNTIF($L$7:$L$500,N10)","v":30},{"$f":"O10/$Q$4","v":0.27027027027027029},{"$f":"IF(P10=0,0,(P10*((LOG(P10))/LOG(2))))","v":-0.51014196506529386},null,null,{"$f":"N10","v":22},{"$f":"COUNTIF(L7:L25,T10)","v":8},{"$f":"U10/(W4-U8)","v":0.44444444444444442},{"$f":"IF(V10=0,0,(V10*((LOG(V10))/LOG(2))))","v":-0.51996666730769447},null,{"$f":"N10","v":22},{"$f":"COUNTIF(L26:L43,Y10)","v":5},{"$f":"Z10/(AB4-Z8)","v":0.38461538461538464},{"$f":"IF(AA10=0,0,(AA10*((LOG(AA10))/LOG(2))))","v":-0.53019677817451139},null,{"$f":"N10","v":22},{"$f":"COUNTIF(L44:L62,AD10)","v":8},{"$f":"AE10/(AG4-AE8)","v":0.44444444444444442},{"$f":"IF(AF10=0,0,(AF10*((LOG(AF10))/LOG(2))))","v":-0.51996666730769447},null,{"$f":"N10","v":22},{"$f":"COUNTIF(L63:L80,AI10)","v":4},{"$f":"AJ10/(AL4-AJ8)","v":0.2857142857142857},{"$f":"IF(AK10=0,0,(AK10*((LOG(AK10))/LOG(2))))","v":-0.51638712058788683},null,{"$f":"N10","v":22},{"$f":"COUNTIF(L81:L99,AN10)","v":2},{"$f":"AO10/(AQ4-AO8)","v":0.2},{"$f":"IF(AP10=0,0,(AP10*((LOG(AP10))/LOG(2))))","v":-0.46438561897747244},null,{"$f":"N10","v":22},{"$f":"COUNTIF(L100:L117,AS10)","v":3},{"$f":"AT10/(AV4-AT8)","v":0.25},{"$f":"IF(AU10=0,0,(AU10*((LOG(AU10))/LOG(2))))","v":-0.5}]
[22,472,14,492,null,null,null,null,null,null,0,21,null,null,null,null,null,null,null,{"$f":"N11","v":0},{"$f":"COUNTIF(L7:L25,T11)","v":0},{"$f":"U11/(W4-U8)","v":0},{"$f":"IF(V11=0,0,(V11*((LOG(V11))/LOG(2))))","v":0},null,{"$f":"N11","v":0},{"$f":"COUNTIF(L26:L43,Y11)","v":0},{"$f":"Z11/(AB4-Z8)","v":0},{"$f":"IF(AA11=0,0,(AA11*((LOG(AA11))/LOG(2))))","v":0},null,{"$f":"N11","v":0},{"$f":"COUNTIF(L44:L62,AD11)","v":0},{"$f":"AE11/(AG4-AE8)","v":0},{"$f":"IF(AF11=0,0,(AF11*((LOG(AF11))/LOG(2))))","v":0},null,{"$f":"N11","v":0},{"$f":"COUNTIF(L63:L80,AI11)","v":0},{"$f":"AJ11/(AL4-AJ8)","v":0},{"$f":"IF(AK11=0,0,(AK11*((LOG(AK11))/LOG(2))))","v":0},null,{"$f":"N11","v":0},{"$f":"COUNTIF(L81:L99,AN11)","v":0},{"$f":"AO11/(AQ4-AO8)","v":0},{"$f":"IF(AP11=0,0,(AP11*((LOG(AP11))/LOG(2))))","v":0},null,{"$f":"N11","v":0},{"$f":"COUNTIF(L100:L117,AS11)","v":0},{"$f":"AT11/(AV4-AT8)","v":0},{"$f":"IF(AU11=0,0,(AU11*((LOG(AU11))/LOG(2))))","v":0}]
[22,589,14,603,null,null,null,null,null,null,0,21,null,null,null,null,null,null,null,{"$f":"N12","v":0},{"$f":"COUNTIF(L7:L25,T12)","v":0},{"$f":"U12/(W4-U8)","v":0},{"$f":"IF(V12=0,0,(V12*((LOG(V12))/LOG(2))))","v":0},null,{"$f":"N12","v":0},{"$f":"COUNTIF(L26:L43,Y12)","v":0},{"$f":"Z12/(AB4-Z8)","v":0},{"$f":"IF(AA12=0,0,(AA12*((LOG(AA12))/LOG(2))))","v":0},null,{"$f":"N12","v":0},{"$f":"COUNTIF(L44:L62,AD12)","v":0},{"$f":"AE12/(AG4-AE8)","v":0},{"$f":"IF(AF12=0,0,(AF12*((LOG(AF12))/LOG(2))))","v":0},null,{"$f":"N12","v":0},{"$f":"COUNTIF(L63:L80,AI12)","v":0},{"$f":"AJ12/(AL4-AJ8)","v":0},{"$f":"IF(AK12=0,0,(AK12*((LOG(AK12))/LOG(2))))","v":0},null,{"$f":"N12","v":0},{"$f":"COUNTIF(L81:L99,AN12)","v":0},{"$f":"AO12/(AQ4-AO8)","v":0},{"$f":"IF(AP12=0,0,(AP12*((LOG(AP12))/LOG(2))))","v":0},null,{"$f":"N12","v":0},{"$f":"COUNTIF(L100:L117,AS12)","v":0},{"$f":"AT12/(AV4-AT8)","v":0},{"$f":"IF(AU12=0,0,(AU12*((LOG(AU12))/LOG(2))))","v":0}]
[22,703,14,714,null,null,null,null,null,null,0,21,null,null,null,null,null,null,null,{"$f":"N13","v":0},{"$f":"COUNTIF(L7:L25,T13)","v":0},{"$f":"U13/(W4-U8)","v":0},{"$f":"IF(V13=0,0,(V13*((LOG(V13))/LOG(2))))","v":0},null,{"$f":"N13","v":0},{"$f":"COUNTIF(L26:L43,Y13)","v":0},{"$f":"Z13/(AB4-Z8)","v":0},{"$f":"IF(AA13=0,0,(AA13*((LOG(AA13))/LOG(2))))","v":0},null,{"$f":"N13","v":0},{"$f":"COUNTIF(L44:L62,AD13)","v":0},{"$f":"AE13/(AG4-AE8)","v":0},{"$f":"IF(AF13=0,0,(AF13*((LOG(AF13))/LOG(2))))","v":0},null,{"$f":"N13","v":0},{"$f":"COUNTIF(L63:L80,AI13)","v":0},{"$f":"AJ13/(AL4-AJ8)","v":0},{"$f":"IF(AK13=0,0,(AK13*((LOG(AK13))/LOG(2))))","v":0},null,{"$f":"N13","v":0},{"$f":"COUNTIF(L81:L99,AN13)","v":0},{"$f":"AO13/(AQ4-AO8)","v":0},{"$f":"IF(AP13=0,0,(AP13*((LOG(AP13))/LOG(2))))","v":0},null,{"$f":"N13","v":0},{"$f":"COUNTIF(L100:L117,AS13)","v":0},{"$f":"AT13/(AV4-AT8)","v":0},{"$f":"IF(AU13=0,0,(AU13*((LOG(AU13))/LOG(2))))","v":0}]
[22,813,23,820,null,null,null,null,null,null,0,22,null,null,null,null,null,null,null,{"$f":"N14","v":0},{"$f":"COUNTIF(L7:L25,T14)","v":0},{"$f":"U14/(W4-U8)","v":0},{"$f":"IF(V14=0,0,(V14*((LOG(V14))/LOG(2))))","v":0},null,{"$f":"N14","v":0},{"$f":"COUNTIF(L26:L43,Y14)","v":0},{"$f":"Z14/(AB4-Z8)","v":0},{"$f":"IF(AA14=0,0,(AA14*((LOG(AA14))/LOG(2))))","v":0},null,{"$f":"N14","v":0},{"$f":"COUNTIF(L44:L62,AD14)","v":0},{"$f":"AE14/(AG4-AE8)","v":0},{"$f":"IF(AF14=0,0,(AF14*((LOG(AF14))/LOG(2))))","v":0},null,{"$f":"N14","v":0},{"$f":"COUNTIF(L63:L80,AI14)","v":0},{"$f":"AJ14/(AL4-AJ8)","v":0},{"$f":"IF(AK14=0,0,(AK14*((LOG(AK14))/LOG(2))))","v":0},null,{"$f":"N14","v":0},{"$f":"COUNTIF(L81:L99,AN14)","v":0},{"$f":"AO14/(AQ4-AO8)","v":0},{"$f":"IF(AP14=0,0,(AP14*((LOG(AP14))/LOG(2))))","v":0},null,{"$f":"N14","v":0},{"$f":"COUNTIF(L100:L117,AS14)","v":0},{"$f":"AT14/(AV4-AT8)","v":0},{"$f":"IF(AU14=0,0,(AU14*((LOG(AU14))/LOG(2))))","v":0}]
[22,1000,14,1011,null,null,null,null,null,null,0,21,null,null,null,{"$f":"SUM(P7:P14)","v":1},{"$f":"-SUM(Q7:Q14)","v":1.5025876250547885},null,null,null,null,{"$f":"SUM(V7:V14)","v":1},{"$f":"-SUM(W7:W14)","v":0.99107605983822222},null,null,null,{"$f":"SUM(AA7:AA14)","v":1},{"$f":"-SUM(AB7:AB14)","v":0.96123660472287575},null,null,null,{"$f":"SUM(AF7:AF14)","v":1},{"$f":"-SUM(AG7:AG14)","v":0.99107605983822222},null,null,null,{"$f":"SUM(AK7:AK14)","v":1},{"$f":"-SUM(AL7:AL14)","v":0.863120568566631},null,null,null,{"$f":"SUM(AP7:AP14)","v":1},{"$f":"-SUM(AQ7:AQ14)","v":0.72192809488736231},null,null,null,{"$f":"SUM(AU7:AU14)","v":1},{"$f":"-SUM(AV7:AV14)","v":0.81127812445913283}]
[22,1115,23,1127,null,null,null,null,null,null,0,22,null,null,null,"U=",{"$f":"Q15/(LOG(Q4)/LOG(2))","v":0.22115037622240274},null,null,null,null,"U1=",{"$f":"W15/(LOG(W4)/LOG(2))","v":0.23330813831020525},null,null,null,"U2=",{"$f":"AB15/(LOG(AB4)/LOG(2))","v":0.23051652113416884},null,null,null,"U3=",{"$f":"AG15/(LOG(AG4)/LOG(2))","v":0.23330813831020525},null,null,null,"U4=",{"$f":"AL15/(LOG(AL4)/LOG(2))","v":0.20698707249365181},null,null,null,"U5=",{"$f":"AQ15/(LOG(AQ4)/LOG(2))","v":0.16994830834628127},null,null,null,"U6=",{"$f":"AV15/(LOG(AV4)/LOG(2))","v":0.19455460809931219}]
[22,1229,23,1248,null,null,null,null,null,null,0,22]
[22,1353,14,1362,null,null,null,null,null,null,0,21]
[22,1462,14,1478,null,null,null,null,null,null,0,21,null,"Total Target Seq"]
[22,1579,14,1588,null,null,null,null,null,null,0,21,null,{"$f":"COUNTIF(L7:L117,G3)","v":26},null,19,18,19,18,19,18]
[22,1682,23,1749,null,null,null,null,null,null,0,22,null,null,null,"% of reinforcement given in 6 equal intervals based on number of trials "]
[22,1846,23,1853,null,null,null,null,null,null,0,22,null,null,null,"%_1","%_2","%_3","%_4","%_5","%_6"]
[11,1972,21,1983,null,null,null,null,null,null,0,12,null,null,"target sequence",{"$f":"$G$3","v":12},{"$f":"$G$3","v":12},{"$f":"$G$3","v":12},{"$f":"$G$3","v":12},{"$f":"$G$3","v":12},{"$f":"$G$3","v":12}]
[22,2088,23,2105,null,null,null,null,null,null,0,22,null,null,"total reinforcement",{"$f":"U8","v":1},{"$f":"Z8","v":5},{"$f":"AE8","v":1},{"$f":"AJ8","v":4},{"$f":"AO8","v":9},{"$f":"AT8","v":6}]
[22,2221,14,2231,null,null,null,null,null,null,0,21,null,null,"% target"]
[22,2331,23,2339,null,null,null,null,null,null,0,22,null,null,"CCRF"]
[11,2456,21,2470,null,null,null,null,null,null,0,12,null,null,"% CCRf"]
[22,2571,14,2579,null,null,null,null,null,null,0,21,null,null,"average response rate",{"$f":"D25/P20","v":117.42105263157895},{"$f":"(D43-D25)/Q20","v":121.77777777777777},{"$f":"(D62-D43)/R20","v":118.89473684210526},{"$f":"(D80-D62)/S20","v":114.05555555555556},{"$f":"(D99-D80)/T20","v":128.78947368421052},{"$f":"(D117-D99)/U20","v":114.88888888888889}]
[22,2676,14,2684,null,null,null,null,null,null,0,21]
[22,2784,14,2792,null,null,null,null,null,null,0,21]
[22,2905,14,2914,null,null,null,null,null,null,0,21]
[22,3018,14,3026,null,null,null,null,null,null,0,21]
[11,3133,21,3169,null,null,null,null,null,null,0,12]
[11,3276,21,3293,null,null,null,null,null,null,0,12]
[22,3422,23,3439,null,null,null,null,null,null,0,22]
[11,3544,21,3585,null,null,null,null,null,null,0,12]
[11,3696,21,3759,null,null,null,null,null,null,0,12]
[22,3857,23,3865,null,null,null,null,null,null,0,22]
[22,3964,23,3972,null,null,null,null,null,null,0,22]
[22,4069,14,4078,null,null,null,null,null,null,0,21]
[22,4179,14,4201,null,null,null,null,null,null,0,21]
[22,4306,14,4316,null,null,null,null,null,null,0,21]
[22,4416,23,4423,null,null,null,null,null,null,0,22]
[22,4563,23,4576,null,null,null,null,null,null,0,22]
[22,4672,14,4694,null,null,null,null,null,null,0,21]
[22,4789,23,4801,null,null,null,null,null,null,0,22]
[22,4898,14,4906,null,null,null,null,null,null,0,21]
[22,5003,23,5034,null,null,null,null,null,null,0,22]
[22,5136,14,5147,null,null,null,null,null,null,0,21]
[22,5246,23,5254,null,null,null,null,null,null,0,22]
[22,5366,23,5380,null,null,null,null,null,null,0,22]
[22,5480,14,5488,null,null,null,null,null,null,0,21]
[22,5589,14,5600,null,null,null,null,null,null,0,21]
[22,5694,23,5708,null,null,null,null,null,null,0,22]
[22,5805,23,5828,null,null,null,null,null,null,0,22]
[22,5930,14,5953,null,null,null,null,null,null,0,21]
[22,6060,14,6071,null,null,null,null,null,null,0,21]
[22,6166,14,6174,null,null,null,null,null,null,0,21]
[11,6285,21,6296,null,null,null,null,null,null,0,12]
[22,6392,14,6418,null,null,null,null,null,null,0,21]
[22,6516,14,6535,null,null,null,null,null,null,0,21]
[22,6662,23,6682,null,null,null,null,null,null,0,22]
[22,6811,23,6818,null,null,null,null,null,null,0,22]
[22,6918,14,6926,null,null,null,null,null,null,0,21]
[11,7032,21,7044,null,null,null,null,null,null,0,12]
[22,7141,23,7169,null,null,null,null,null,null,0,22]
[22,7268,14,7277,null,null,null,null,null,null,0,21]
[22,7392,23,7399,null,null,null,null,null,null,0,22]
[22,7510,14,7518,null,null,null,null,null,null,0,21]
[11,7626,21,7643,null,null,null,null,null,null,0,12]
[22,7738,14,7746,null,null,null,null,null,null,0,21]
[11,7852,21,7863,null,null,null,null,null,null,0,12]
[22,7956,14,7965,null,null,null,null,null,null,0,21]
[22,8063,14,8080,null,null,null,null,null,null,0,21]
[22,8177,14,8185,null,null,null,null,null,null,0,21]
[22,8290,14,8298,null,null,null,null,null,null,0,21]
[22,8400,14,8408,null,null,null,null,null,null,0,21]
[22,8503,23,8507,null,null,null,null,null,null,0,22]
[11,8611,21,8628,null,null,null,null,null,null,0,12]
[22,8719,14,8735,null,null,null,null,null,null,0,21]
[22,8832,14,8839,null,null,null,null,null,null,0,21]
[11,8948,21,8963,null,null,null,null,null,null,0,12]
[11,9065,21,9084,null,null,null,null,null,null,0,12]
[11,9196,21,9259,null,null,null,null,null,null,0,12]
[22,9463,14,9479,null,null,null,null,null,null,0,21]
[22,9577,23,9625,null,null,null,null,null,null,0,22]
[22,9724,14,9735,null,null,null,null,null,null,0,21]
[11,9835,21,9903,null,null,null,null,null,null,0,12]
[22,9997,14,10004,null,null,null,null,null,null,0,21]
[22,10102,14,10110,null,null,null,null,null,null,0,21]
[11,10221,21,10239,null,null,null,null,null,null,0,12]
[22,10331,14,10350,null,null,null,null,null,null,0,21]
[11,10458,21,10475,null,null,null,null,null,null,0,12]
[11,10579,21,10590,null,null,null,null,null,null,0,12]
[22,10682,14,10703,null,null,null,null,null,null,0,21]
[11,10824,21,10835,null,null,null,null,null,null,0,12]
[11,10942,21,10953,null,null,null,null,null,null,0,12]
[22,11068,23,11076,null,null,null,null,null,null,0,22]
[22,11173,14,11182,null,null,null,null,null,null,0,21]
[22,11281,23,11300,null,null,null,null,null,null,0,22]
[11,11398,21,11409,null,null,null,null,null,null,0,12]
[22,11505,14,11524,null,null,null,null,null,null,0,21]
[22,11638,23,11652,null,null,null,null,null,null,0,22]
[22,11752,14,11760,null,null,null,null,null,null,0,21]
[11,11859,21,11866,null,null,null,null,null,null,0,12]
[22,11961,23,11985,null,null,null,null,null,null,0,22]
[11,12105,21,12122,null,null,null,null,null,null,0,12]
[22,12232,14,12240,null,null,null,null,null,null,0,21]
[22,12340,14,12349,null,null,null,null,null,null,0,21]
[11,12452,21,12469,null,null,null,null,null,null,0,12]
[22,12561,14,12570,null,null,null,null,null,null,0,21]
[11,12676,21,12691,null,null,null,null,null,null,0,12]
[22,12784,14,12793,null,null,null,null,null,null,0,21]
[22,12888,14,12896,null,null,null,null,null,null,0,21]
[22,12995,14,13002,null,null,null,null,null,null,0,21]
[22,13102,14,13118,null,null,null,null,null,null,0,21]
[11,13233,21,13250,null,null,null,null,null,null,1,12]

{"sheet":"!N206920.095","index":6,"n_rows":99,"n_cols":48,"rows_kept":99,"cut":false,"hidden":false,"merged":[[4,39,4,42],[5,39,5,40],[4,44,4,47],[5,44,5,45],[4,24,4,27],[5,24,5,25],[4,29,4,32],[5,29,5,30],[4,34,4,37],[5,34,5,35],[1,1,1,2],[5,13,5,14],[18,13,18,14],[19,13,19,14],[4,19,4,22],[5,19,5,20]]}
["Report for:!N206920.095"]
["Date:","<date>"]
["Hen:","<hen>",null,null,null,"Correct Sequence",{"$f":"Start!J2","v":12},null,null,null,null,null,null,null,null,"Total Sequences in Data",{"$f":"4994-COUNTBLANK(L7:L5000)","v":93},null,null,null,null,"Total Sequences in Block Data",{"$f":"COUNTA(L7:L22)","v":16},null,null,null,"Total Sequences in Block Data",{"$f":"COUNTA(L23:L37)","v":15},null,null,null,"Total Sequences in Block Data",{"$f":"COUNTA(L38:L53)","v":16},null,null,null,"Total Sequences in Block Data",{"$f":"COUNTA(L54:L68)","v":15},null,null,null,"Total Sequences in Block Data",{"$f":"COUNTA(L69:L84)","v":16},null,null,null,"Total Sequences in Block Data",{"$f":"COUNTA(L85:L99)","v":15}]
[null,null,null,null,null,null,null,null,null,null,null,null,null,null,null,"Total Sequences in Summary",{"$f":"SUM(O7:O14)","v":93},null,null,null,null,"Total Sequences in Block Summary",{"$f":"SUM(U7:U14)","v":16},null,null,null,"Total Sequences in Block Summary",{"$f":"SUM(Z7:Z14)","v":15},null,null,null,"Total Sequences in Block Summary",{"$f":"SUM(AE7:AE14)","v":16},null,null,null,"Total Sequences in Block Summary",{"$f":"SUM(AJ7:AJ14)","v":15},null,null,null,"Total Sequences in Block Summary",{"$f":"SUM(AO7:AO14)","v":16},null,null,null,"Total Sequences in Block Summary",{"$f":"SUM(AT7:AT14)","v":15}]
[null,null,null,null,null,null,null,null,null,null,null,null,null,null,null,null,null,null,null,"Block 1",null,null,null,null,"Block 2",null,null,null,null,"Block 3",null,null,null,null,"Block 4",null,null,null,null,"Block 5",null,null,null,null,"Block 6"]
["Sequence\nComponent\n1","Time\n1","Sequence\nComponent\n2","Time\n2","Sequence\nComponent\n3","Time\n3","Sequence\nComponent\n4","Time\n4","Sequence\nComponent\n5","Time\n5","Correct?\n0=No 1=Yes","Sequence",null,"Frequency",null,"Relative Frequency","Variability",null,null,"Frequency",null,"Relative Frequency","Variability",null,"Frequency",null,"Relative Frequency","Variability",null,"Frequency",null,"Relative Frequency","Variability",null,"Frequency",null,"Relative Frequency","Variability",null,"Frequency",null,"Relative Frequency","Variability",null,"Frequency",null,"Relative Frequency","Variability"]
[11,20,21,35,null,null,null,null,null,null,0,12,null,11,{"$f":"COUNTIF($L$7:$L$500,N7)","v":1},{"$f":"O7/$Q$4","v":1.0752688172043012E-2},{"$f":"IF(P7=0,0,(P7*((LOG(P7))/LOG(2))))","v":-7.0313535603312161E-2},null,null,{"$f":"N7","v":11},{"$f":"COUNTIF(L7:L22,T7)","v":0},{"$f":"U7/(W4-U8)","v":0},{"$f":"IF(V7=0,0,(V7*((LOG(V7))/LOG(2))))","v":0},null,{"$f":"N7","v":11},{"$f":"COUNTIF(L23:L37,Y7)","v":0},{"$f":"Z7/(AB4-Z8)","v":0},{"$f":"IF(AA7=0,0,(AA7*((LOG(AA7))/LOG(2))))","v":0},null,{"$f":"N7","v":11},{"$f":"COUNTIF(L38:L53,AD7)","v":0},{"$f":"AE7/(AG4-AE8)","v":0},{"$f":"IF(AF7=0,0,(AF7*((LOG(AF7))/LOG(2))))","v":0},null,{"$f":"N7","v":11},{"$f":"COUNTIF(L54:L68,AI7)","v":1},{"$f":"AJ7/(AL4-AJ8)","v":8.3333333333333329E-2},{"$f":"IF(AK7=0,0,(AK7*((LOG(AK7))/LOG(2))))","v":-0.29874687506009634},null,{"$f":"N7","v":11},{"$f":"COUNTIF(L69:L84,AN7)","v":0},{"$f":"AO7/(AQ4-AO8)","v":0},{"$f":"IF(AP7=0,0,(AP7*((LOG(AP7))/LOG(2))))","v":0},null,{"$f":"N7","v":11},{"$f":"COUNTIF(L85:L99,AS7)","v":0},{"$f":"AT7/(AV4-AT8)","v":0},{"$f":"IF(AU7=0,0,(AU7*((LOG(AU7))/LOG(2))))","v":0}]
[22,134,14,142,null,null,null,null,null,null,0,21,null,12,{"$f":"COUNTIF($L$7:$L$500,N8)","v":35},{"$f":"O8/$Q$4","v":0.37634408602150538},{"$f":"IF(P8=0,0,(P8*((LOG(P8))/LOG(2))))","v":-0.53059841715814271},null,null,{"$f":"N8","v":12},{"$f":"COUNTIF(L7:L22,T8)","v":5},null,null,null,{"$f":"N8","v":12},{"$f":"COUNTIF(L23:L37,Y8)","v":6},null,null,null,{"$f":"N8","v":12},{"$f":"COUNTIF(L38:L53,AD8)","v":4},null,null,null,{"$f":"N8","v":12},{"$f":"COUNTIF(L54:L68,AI8)","v":3},null,null,null,{"$f":"N8","v":12},{"$f":"COUNTIF(L69:L84,AN8)","v":9},null,null,null,{"$f":"N8","v":12},{"$f":"COUNTIF(L85:L99,AS8)","v":8}]
[11,258,21,282,null,null,null,null,null,null,0,12,null,21,{"$f":"COUNTIF($L$7:$L$500,N9)","v":43},{"$f":"O9/$Q$4","v":0.46236559139784944},{"$f":"IF(P9=0,0,(P9*((LOG(P9))/LOG(2))))","v":-0.5145639185532811},null,null,{"$f":"N9","v":21},{"$f":"COUNTIF(L7:L22,T9)","v":9},{"$f":"U9/(W4-U8)","v":0.81818181818181823},{"$f":"IF(V9=0,0,(V9*((LOG(V9))/LOG(2))))","v":-0.23686905043226034},null,{"$f":"N9","v":21},{"$f":"COUNTIF(L23:L37,Y9)","v":5},{"$f":"Z9/(AB4-Z8)","v":0.55555555555555558},{"$f":"IF(AA9=0,0,(AA9*((LOG(AA9))/LOG(2))))","v":-0.4711093925305278},null,{"$f":"N9","v":21},{"$f":"COUNTIF(L38:L53,AD9)","v":11},{"$f":"AE9/(AG4-AE8)","v":0.91666666666666663},{"$f":"IF(AF9=0,0,(AF9*((LOG(AF9))/LOG(2))))","v":-0.1150699752435374},null,{"$f":"N9","v":21},{"$f":"COUNTIF(L54:L68,AI9)","v":10},{"$f":"AJ9/(AL4-AJ8)","v":0.83333333333333337},{"$f":"IF(AK9=0,0,(AK9*((LOG(AK9))/LOG(2))))","v":-0.21919533819482812},null,{"$f":"N9","v":21},{"$f":"COUNTIF(L69:L84,AN9)","v":5},{"$f":"AO9/(AQ4-AO8)","v":0.7142857142857143},{"$f":"IF(AP9=0,0,(AP9*((LOG(AP9))/LOG(2))))","v":-0.34673344797874411},null,{"$f":"N9","v":21},{"$f":"COUNTIF(L85:L99,AS9)","v":3},{"$f":"AT9/(AV4-AT8)","v":0.42857142857142855},{"$f":"IF(AU9=0,0,(AU9*((LOG(AU9))/LOG(2))))","v":-0.52388246628704915}]
[22,379,14,387,null,null,null,null,null,null,0,21,null,22,{"$f":"COUNTIF($L$7:$L$500,N10)","v":14},{"$f":"O10/$Q$4","v":0.15053763440860216},{"$f":"IF(P10=0,0,(P10*((LOG(P10))/LOG(2))))","v":-0.41123929512587076},null,null,{"$f":"N10","v":22},{"$f":"COUNTIF(L7:L22,T10)","v":2},{"$f":"U10/(W4-U8)","v":0.18181818181818182},{"$f":"IF(V10=0,0,(V10*((LOG(V10))/LOG(2))))","v":-0.44716938520678134},null,{"$f":"N10","v":22},{"$f":"COUNTIF(L23:L37,Y10)","v":4},{"$f":"Z10/(AB4-Z8)","v":0.44444444444444442},{"$f":"IF(AA10=0,0,(AA10*((LOG(AA10))/LOG(2))))","v":-0.51996666730769447},null,{"$f":"N10","v":22},{"$f":"COUNTIF(L38:L53,AD10)","v":1},{"$f":"AE10/(AG4-AE8)","v":8.3333333333333329E-2},{"$f":"IF(AF10=0,0,(AF10*((LOG(AF10))/LOG(2))))","v":-0.29874687506009634},null,{"$f":"N10","v":22},{"$f":"COUNTIF(L54:L68,AI10)","v":1},{"$f":"AJ10/(AL4-AJ8)","v":8.3333333333333329E-2},{"$f":"IF(AK10=0,0,(AK10*((LOG(AK10))/LOG(2))))","v":-0.29874687506009634},null,{"$f":"N10","v":22},{"$f":"COUNTIF(L69:L84,AN10)","v":2},{"$f":"AO10/(AQ4-AO8)","v":0.2857142857142857},{"$f":"IF(AP10=0,0,(AP10*((LOG(AP10))/LOG(2))))","v":-0.51638712058788683},null,{"$f":"N10","v":22},{"$f":"COUNTIF(L85:L99,AS10)","v":4},{"$f":"AT10/(AV4-AT8)","v":0.5714285714285714},{"$f":"IF(AU10=0,0,(AU10*((LOG(AU10))/LOG(2))))","v":-0.46134566974720237}]
[11,488,21,516,null,null,null,null,null,null,0,12,null,null,null,null,null,null,null,{"$f":"N11","v":0},{"$f":"COUNTIF(L7:L22,T11)","v":0},{"$f":"U11/(W4-U8)","v":0},{"$f":"IF(V11=0,0,(V11*((LOG(V11))/LOG(2))))","v":0},null,{"$f":"N11","v":0},{"$f":"COUNTIF(L23:L37,Y11)","v":0},{"$f":"Z11/(AB4-Z8)","v":0},{"$f":"IF(AA11=0,0,(AA11*((LOG(AA11))/LOG(2))))","v":0},null,{"$f":"N11","v":0},{"$f":"COUNTIF(L38:L53,AD11)","v":0},{"$f":"AE11/(AG4-AE8)","v":0},{"$f":"IF(AF11=0,0,(AF11*((LOG(AF11))/LOG(2))))","v":0},null,{"$f":"N11","v":0},{"$f":"COUNTIF(L54:L68,AI11)","v":0},{"$f":"AJ11/(AL4-AJ8)","v":0},{"$f":"IF(AK11=0,0,(AK11*((LOG(AK11))/LOG(2))))","v":0},null,{"$f":"N11","v":0},{"$f":"COUNTIF(L69:L84,AN11)","v":0},{"$f":"AO11/(AQ4-AO8)","v":0},{"$f":"IF(AP11=0,0,(AP11*((LOG(AP11))/LOG(2))))","v":0},null,{"$f":"N11","v":0},{"$f":"COUNTIF(L85:L99,AS11)","v":0},{"$f":"AT11/(AV4-AT8)","v":0},{"$f":"IF(AU11=0,0,(AU11*((LOG(AU11))/LOG(2))))","v":0}]
[11,629,21,687,null,null,null,null,null,null,0,12,null,null,null,null,null,null,null,{"$f":"N12","v":0},{"$f":"COUNTIF(L7:L22,T12)","v":0},{"$f":"U12/(W4-U8)","v":0},{"$f":"IF(V12=0,0,(V12*((LOG(V12))/LOG(2))))","v":0},null,{"$f":"N12","v":0},{"$f":"COUNTIF(L23:L37,Y12)","v":0},{"$f":"Z12/(AB4-Z8)","v":0},{"$f":"IF(AA12=0,0,(AA12*((LOG(AA12))/LOG(2))))","v":0},null,{"$f":"N12","v":0},{"$f":"COUNTIF(L38:L53,AD12)","v":0},{"$f":"AE12/(AG4-AE8)","v":0},{"$f":"IF(AF12=0,0,(AF12*((LOG(AF12))/LOG(2))))","v":0},null,{"$f":"N12","v":0},{"$f":"COUNTIF(L54:L68,AI12)","v":0},{"$f":"AJ12/(AL4-AJ8)","v":0},{"$f":"IF(AK12=0,0,(AK12*((LOG(AK12))/LOG(2))))","v":0},null,{"$f":"N12","v":0},{"$f":"COUNTIF(L69:L84,AN12)","v":0},{"$f":"AO12/(AQ4-AO8)","v":0},{"$f":"IF(AP12=0,0,(AP12*((LOG(AP12))/LOG(2))))","v":0},null,{"$f":"N12","v":0},{"$f":"COUNTIF(L85:L99,AS12)","v":0},{"$f":"AT12/(AV4-AT8)","v":0},{"$f":"IF(AU12=0,0,(AU12*((LOG(AU12))/LOG(2))))","v":0}]
[22,784,14,792,null,null,null,null,null,null,0,21,null,null,null,null,null,null,null,{"$f":"N13","v":0},{"$f":"COUNTIF(L7:L22,T13)","v":0},{"$f":"U13/(W4-U8)","v":0},{"$f":"IF(V13=0,0,(V13*((LOG(V13))/LOG(2))))","v":0},null,{"$f":"N13","v":0},{"$f":"COUNTIF(L23:L37,Y13)","v":0},{"$f":"Z13/(AB4-Z8)","v":0},{"$f":"IF(AA13=0,0,(AA13*((LOG(AA13))/LOG(2))))","v":0},null,{"$f":"N13","v":0},{"$f":"COUNTIF(L38:L53,AD13)","v":0},{"$f":"AE13/(AG4-AE8)","v":0},{"$f":"IF(AF13=0,0,(AF13*((LOG(AF13))/LOG(2))))","v":0},null,{"$f":"N13","v":0},{"$f":"COUNTIF(L54:L68,AI13)","v":0},{"$f":"AJ13/(AL4-AJ8)","v":0},{"$f":"IF(AK13=0,0,(AK13*((LOG(AK13))/LOG(2))))","v":0},null,{"$f":"N13","v":0},{"$f":"COUNTIF(L69:L84,AN13)","v":0},{"$f":"AO13/(AQ4-AO8)","v":0},{"$f":"IF(AP13=0,0,(AP13*((LOG(AP13))/LOG(2))))","v":0},null,{"$f":"N13","v":0},{"$f":"COUNTIF(L85:L99,AS13)","v":0},{"$f":"AT13/(AV4-AT8)","v":0},{"$f":"IF(AU13=0,0,(AU13*((LOG(AU13))/LOG(2))))","v":0}]
[22,889,14,911,null,null,null,null,null,null,0,21,null,null,null,null,null,null,null,{"$f":"N14","v":0},{"$f":"COUNTIF(L7:L22,T14)","v":0},{"$f":"U14/(W4-U8)","v":0},{"$f":"IF(V14=0,0,(V14*((LOG(V14))/LOG(2))))","v":0},null,{"$f":"N14","v":0},{"$f":"COUNTIF(L23:L37,Y14)","v":0},{"$f":"Z14/(AB4-Z8)","v":0},{"$f":"IF(AA14=0,0,(AA14*((LOG(AA14))/LOG(2))))","v":0},null,{"$f":"N14","v":0},{"$f":"COUNTIF(L38:L53,AD14)","v":0},{"$f":"AE14/(AG4-AE8)","v":0},{"$f":"IF(AF14=0,0,(AF14*((LOG(AF14))/LOG(2))))","v":0},null,{"$f":"N14","v":0},{"$f":"COUNTIF(L54:L68,AI14)","v":0},{"$f":"AJ14/(AL4-AJ8)","v":0},{"$f":"IF(AK14=0,0,(AK14*((LOG(AK14))/LOG(2))))","v":0},null,{"$f":"N14","v":0},{"$f":"COUNTIF(L69:L84,AN14)","v":0},{"$f":"AO14/(AQ4-AO8)","v":0},{"$f":"IF(AP14=0,0,(AP14*((LOG(AP14))/LOG(2))))","v":0},null,{"$f":"N14","v":0},{"$f":"COUNTIF(L85:L99,AS14)","v":0},{"$f":"AT14/(AV4-AT8)","v":0},{"$f":"IF(AU14=0,0,(AU14*((LOG(AU14))/LOG(2))))","v":0}]
[22,1021,14,1028,null,null,null,null,null,null,0,21,null,null,null,{"$f":"SUM(P7:P14)","v":0.99999999999999989},{"$f":"-SUM(Q7:Q14)","v":1.5267151664406067},null,null,null,null,{"$f":"SUM(V7:V14)","v":1},{"$f":"-SUM(W7:W14)","v":0.68403843563904165},null,null,null,{"$f":"SUM(AA7:AA14)","v":1},{"$f":"-SUM(AB7:AB14)","v":0.99107605983822222},null,null,null,{"$f":"SUM(AF7:AF14)","v":1},{"$f":"-SUM(AG7:AG14)","v":0.41381685030363374},null,null,null,{"$f":"SUM(AK7:AK14)","v":1},{"$f":"-SUM(AL7:AL14)","v":0.81668908831502085},null,null,null,{"$f":"SUM(AP7:AP14)","v":1},{"$f":"-SUM(AQ7:AQ14)","v":0.863120568566631},null,null,null,{"$f":"SUM(AU7:AU14)","v":1},{"$f":"-SUM(AV7:AV14)","v":0.98522813603425152}]
[22,1126,14,1142,null,null,null,null,null,null,0,21,null,null,null,"U=",{"$f":"Q15/(LOG(Q4)/LOG(2))","v":0.23347271576386622},null,null,null,null,"U1=",{"$f":"W15/(LOG(W4)/LOG(2))","v":0.17100960890976041},null,null,null,"U2=",{"$f":"AB15/(LOG(AB4)/LOG(2))","v":0.25367387071248587},null,null,null,"U3=",{"$f":"AG15/(LOG(AG4)/LOG(2))","v":0.10345421257590844},null,null,null,"U4=",{"$f":"AL15/(LOG(AL4)/LOG(2))","v":0.20903812592884169},null,null,null,"U5=",{"$f":"AQ15/(LOG(AQ4)/LOG(2))","v":0.21578014214165775},null,null,null,"U6=",{"$f":"AV15/(LOG(AV4)/LOG(2))","v":0.25217704768638322}]
[11,1256,21,1287,null,null,null,null,null,null,0,12]
[22,1386,14,1393,null,null,null,null,null,null,0,21]
[22,1493,23,1520,null,null,null,null,null,null,0,22,null,"Total Target Seq"]
[22,1618,14,1636,null,null,null,null,null,null,0,21,null,{"$f":"COUNTIF(L7:L99,G3)","v":35},null,16,15,16,15,16,15]
[22,1751,23,1762,null,null,null,null,null,null,0,22,null,null,null,"% of reinforcement given in 6 equal intervals based on number of trials "]
[22,1861,14,1881,null,null,null,null,null,null,0,21,null,null,null,"%_1","%_2","%_3","%_4","%_5","%_6"]
[11,1991,21,2003,null,null,null,null,null,null,0,12,null,null,"target sequence",{"$f":"$G$3","v":12},{"$f":"$G$3","v":12},{"$f":"$G$3","v":12},{"$f":"$G$3","v":12},{"$f":"$G$3","v":12},{"$f":"$G$3","v":12}]
[22,2097,14,2104,null,null,null,null,null,null,0,21,null,null,"total reinforcement",{"$f":"U8","v":5},{"$f":"Z8","v":6},{"$f":"AE8","v":4},{"$f":"AJ8","v":3},{"$f":"AO8","v":9},{"$f":"AT8","v":8}]
[22,2201,23,2212,null,null,null,null,null,null,0,22,null,null,"% target"]
[22,2311,14,2319,null,null,null,null,null,null,0,21,null,null,"CCRF"]
[11,2433,21,2486,null,null,null,null,null,null,0,12,null,null,"% CCRf"]
[22,2579,23,2590,null,null,null,null,null,null,0,22,null,null,"average response rate",{"$f":"D22/P20","v":117.5625},{"$f":"(D37-D22)/Q20","v":121.06666666666666},{"$f":"(D53-D37)/R20","v":114.25},{"$f":"(D68-D53)/S20","v":110.4},{"$f":"(D84-D68)/T20","v":118.625},{"$f":"(D99-D84)/U20","v":121.33333333333333}]
[11,2704,21,2729,null,null,null,null,null,null,0,12]
[22,2819,14,2827,null,null,null,null,null,null,0,21]
[22,2924,23,2932,null,null,null,null,null,null,0,22]
[22,3029,23,3039,null,null,null,null,null,null,0,22]
[11,3148,21,3180,null,null,null,null,null,null,0,12]
[11,3296,21,3353,null,null,null,null,null,null,0,12]
[22,3449,14,3457,null,null,null,null,null,null,0,21]
[22,3554,14,3568,null,null,null,null,null,null,0,21]
[11,3677,21,3697,null,null,null,null,null,null,0,12]
[22,3793,14,3801,null,null,null,null,null,null,0,21]
[22,3898,23,3905,null,null,null,null,null,null,0,22]
[11,4017,21,4041,null,null,null,null,null,null,0,12]
[22,4135,14,4143,null,null,null,null,null,null,0,21]
[22,4244,14,4252,null,null,null,null,null,null,0,21]
[22,4352,14,4360,null,null,null,null,null,null,0,21]
[11,4480,21,4496,null,null,null,null,null,null,0,12]
[22,4588,14,4608,null,null,null,null,null,null,0,21]
[22,4707,14,4717,null,null,null,null,null,null,0,21]
[22,4814,14,4822,null,null,null,null,null,null,0,21]
[11,4942,21,4965,null,null,null,null,null,null,0,12]
[22,5061,14,5068,null,null,null,null,null,null,0,21]
[22,5173,14,5181,null,null,null,null,null,null,0,21]
[22,5278,14,5286,null,null,null,null,null,null,0,21]
[22,5381,14,5397,null,null,null,null,null,null,0,21]
[11,5504,21,5525,null,null,null,null,null,null,0,12]
[22,5619,14,5626,null,null,null,null,null,null,0,21]
[22,5724,14,5732,null,null,null,null,null,null,0,21]
[11,5846,21,5882,null,null,null,null,null,null,0,12]
[22,5975,14,5982,null,null,null,null,null,null,0,21]
[22,6081,14,6089,null,null,null,null,null,null,0,21]
[22,6187,23,6203,null,null,null,null,null,null,0,22]
[11,6310,12,6327,null,null,null,null,null,null,0,11]
[22,6425,14,6447,null,null,null,null,null,null,0,21]
[22,6545,14,6553,null,null,null,null,null,null,0,21]
[22,6652,14,6660,null,null,null,null,null,null,0,21]
[11,6758,21,6767,null,null,null,null,null,null,0,12]
[22,6860,14,6868,null,null,null,null,null,null,0,21]
[22,6966,14,6973,null,null,null,null,null,null,0,21]
[11,7071,21,7079,null,null,null,null,null,null,0,12]
[22,7174,14,7181,null,null,null,null,null,null,0,21]
[11,7287,21,7314,null,null,null,null,null,null,0,12]
[22,7407,14,7414,null,null,null,null,null,null,0,21]
[22,7511,14,7520,null,null,null,null,null,null,0,21]
[11,7641,21,7659,null,null,null,null,null,null,0,12]
[11,7763,21,7793,null,null,null,null,null,null,0,12]
[11,7894,21,7904,null,null,null,null,null,null,0,12]
[22,7996,14,8004,null,null,null,null,null,null,0,21]
[11,8111,21,8119,null,null,null,null,null,null,0,12]
[22,8211,14,8220,null,null,null,null,null,null,0,21]
[11,8324,21,8333,null,null,null,null,null,null,0,12]
[11,8436,21,8488,null,null,null,null,null,null,0,12]
[22,8581,14,8588,null,null,null,null,null,null,0,21]
[11,8705,21,8713,null,null,null,null,null,null,0,12]
[11,8818,21,8855,null,null,null,null,null,null,0,12]
[22,8953,23,8968,null,null,null,null,null,null,0,22]
[22,9062,23,9079,null,null,null,null,null,null,0,22]
[11,9181,21,9195,null,null,null,null,null,null,0,12]
[22,9287,14,9294,null,null,null,null,null,null,0,21]
[22,9413,23,9421,null,null,null,null,null,null,0,22]
[22,9518,14,9526,null,null,null,null,null,null,0,21]
[22,9626,14,9634,null,null,null,null,null,null,0,21]
[11,9743,21,9756,null,null,null,null,null,null,0,12]
[22,9852,23,9876,null,null,null,null,null,null,0,22]
[22,9997,23,10010,null,null,null,null,null,null,0,22]
[11,10118,21,10128,null,null,null,null,null,null,0,12]
[11,10235,21,10251,null,null,null,null,null,null,0,12]
[22,10343,23,10363,null,null,null,null,null,null,0,22]
[11,10477,21,10507,null,null,null,null,null,null,0,12]
[11,10609,21,10649,null,null,null,null,null,null,0,12]
[11,10750,21,10790,null,null,null,null,null,null,0,12]
[11,10891,21,10899,null,null,null,null,null,null,1,12]

{"sheet":"!N207940.095","index":7,"n_rows":91,"n_cols":48,"rows_kept":91,"cut":false,"hidden":false,"merged":[[4,39,4,42],[5,39,5,40],[4,44,4,47],[5,44,5,45],[4,24,4,27],[5,24,5,25],[4,29,4,32],[5,29,5,30],[4,34,4,37],[5,34,5,35],[1,1,1,2],[5,13,5,14],[18,13,18,14],[19,13,19,14],[4,19,4,22],[5,19,5,20]]}
["Report for:!N207940.095"]
["Date:","<date>"]
["Hen:","<hen>",null,null,null,"Correct Sequence",{"$f":"Start!J2","v":12},null,null,null,null,null,null,null,null,"Total Sequences in Data",{"$f":"4994-COUNTBLANK(L7:L5000)","v":85},null,null,null,null,"Total Sequences in Block Data",{"$f":"COUNTA(L7:L20)","v":14},null,null,null,"Total Sequences in Block Data",{"$f":"COUNTA(L21:L34)","v":14},null,null,null,"Total Sequences in Block Data",{"$f":"COUNTA(L35:L49)","v":15},null,null,null,"Total Sequences in Block Data",{"$f":"COUNTA(L50:L63)","v":14},null,null,null,"Total Sequences in Block Data",{"$f":"COUNTA(L64:L77)","v":14},null,null,null,"Total Sequences in Block Data",{"$f":"COUNTA(L78:L91)","v":14}]
[null,null,null,null,null,null,null,null,null,null,null,null,null,null,null,"Total Sequences in Summary",{"$f":"SUM(O7:O14)","v":85},null,null,null,null,"Total Sequences in Block Summary",{"$f":"SUM(U7:U14)","v":14},null,null,null,"Total Sequences in Block Summary",{"$f":"SUM(Z7:Z14)","v":14},null,null,null,"Total Sequences in Block Summary",{"$f":"SUM(AE7:AE14)","v":15},null,null,null,"Total Sequences in Block Summary",{"$f":"SUM(AJ7:AJ14)","v":14},null,null,null,"Total Sequences in Block Summary",{"$f":"SUM(AO7:AO14)","v":14},null,null,null,"Total Sequences in Block Summary",{"$f":"SUM(AT7:AT14)","v":14}]
[null,null,null,null,null,null,null,null,null,null,null,null,null,null,null,null,null,null,null,"Block 1",null,null,null,null,"Block 2",null,null,null,null,"Block 3",null,null,null,null,"Block 4",null,null,null,null,"Block 5",null,null,null,null,"Block 6"]
["Sequence\nComponent\n1","Time\n1","Sequence\nComponent\n2","Time\n2","Sequence\nComponent\n3","Time\n3","Sequence\nComponent\n4","Time\n4","Sequence\nComponent\n5","Time\n5","Correct?\n0=No 1=Yes","Sequence",null,"Frequency",null,"Relative Frequency","Variability",null,null,"Frequency",null,"Relative Frequency","Variability",null,"Frequency",null,"Relative Frequency","Variability",null,"Frequency",null,"Relative Frequency","Variability",null,"Frequency",null,"Relative Frequency","Variability",null,"Frequency",null,"Relative Frequency","Variability",null,"Frequency",null,"Relative Frequency","Variability"]
[11,22,21,81,null,null,null,null,null,null,0,12,null,11,{"$f":"COUNTIF($L$7:$L$500,N7)","v":4},{"$f":"O7/$Q$4","v":4.7058823529411764E-2},{"$f":"IF(P7=0,0,(P7*((LOG(P7))/LOG(2))))","v":-0.20750074993589185},null,null,{"$f":"N7","v":11},{"$f":"COUNTIF(L7:L20,T7)","v":0},{"$f":"U7/(W4-U8)","v":0},{"$f":"IF(V7=0,0,(V7*((LOG(V7))/LOG(2))))","v":0},null,{"$f":"N7","v":11},{"$f":"COUNTIF(L21:L34,Y7)","v":2},{"$f":"Z7/(AB4-Z8)","v":0.2857142857142857},{"$f":"IF(AA7=0,0,(AA7*((LOG(AA7))/LOG(2))))","v":-0.51638712058788683},null,{"$f":"N7","v":11},{"$f":"COUNTIF(L35:L49,AD7)","v":0},{"$f":"AE7/(AG4-AE8)","v":0},{"$f":"IF(AF7=0,0,(AF7*((LOG(AF7))/LOG(2))))","v":0},null,{"$f":"N7","v":11},{"$f":"COUNTIF(L50:L63,AI7)","v":1},{"$f":"AJ7/(AL4-AJ8)","v":0.1111111111111111},{"$f":"IF(AK7=0,0,(AK7*((LOG(AK7))/LOG(2))))","v":-0.3522138890491458},null,{"$f":"N7","v":11},{"$f":"COUNTIF(L64:L77,AN7)","v":0},{"$f":"AO7/(AQ4-AO8)","v":0},{"$f":"IF(AP7=0,0,(AP7*((LOG(AP7))/LOG(2))))","v":0},null,{"$f":"N7","v":11},{"$f":"COUNTIF(L78:L91,AS7)","v":1},{"$f":"AT7/(AV4-AT8)","v":0.125},{"$f":"IF(AU7=0,0,(AU7*((LOG(AU7))/LOG(2))))","v":-0.375}]
[11,185,21,200,null,null,null,null,null,null,0,12,null,12,{"$f":"COUNTIF($L$7:$L$500,N8)","v":35},{"$f":"O8/$Q$4","v":0.41176470588235292},{"$f":"IF(P8=0,0,(P8*((LOG(P8))/LOG(2))))","v":-0.52710326084406744},null,null,{"$f":"N8","v":12},{"$f":"COUNTIF(L7:L20,T8)","v":6},null,null,null,{"$f":"N8","v":12},{"$f":"COUNTIF(L21:L34,Y8)","v":7},null,null,null,{"$f":"N8","v":12},{"$f":"COUNTIF(L35:L49,AD8)","v":5},null,null,null,{"$f":"N8","v":12},{"$f":"COUNTIF(L50:L63,AI8)","v":5},null,null,null,{"$f":"N8","v":12},{"$f":"COUNTIF(L64:L77,AN8)","v":6},null,null,null,{"$f":"N8","v":12},{"$f":"COUNTIF(L78:L91,AS8)","v":6}]
[22,296,14,304,null,null,null,null,null,null,0,21,null,21,{"$f":"COUNTIF($L$7:$L$500,N9)","v":40},{"$f":"O9/$Q$4","v":0.47058823529411764},{"$f":"IF(P9=0,0,(P9*((LOG(P9))/LOG(2))))","v":-0.51174721941192436},null,null,{"$f":"N9","v":21},{"$f":"COUNTIF(L7:L20,T9)","v":6},{"$f":"U9/(W4-U8)","v":0.75},{"$f":"IF(V9=0,0,(V9*((LOG(V9))/LOG(2))))","v":-0.31127812445913283},null,{"$f":"N9","v":21},{"$f":"COUNTIF(L21:L34,Y9)","v":4},{"$f":"Z9/(AB4-Z8)","v":0.5714285714285714},{"$f":"IF(AA9=0,0,(AA9*((LOG(AA9))/LOG(2))))","v":-0.46134566974720237},null,{"$f":"N9","v":21},{"$f":"COUNTIF(L35:L49,AD9)","v":10},{"$f":"AE9/(AG4-AE8)","v":1},{"$f":"IF(AF9=0,0,(AF9*((LOG(AF9))/LOG(2))))","v":0},null,{"$f":"N9","v":21},{"$f":"COUNTIF(L50:L63,AI9)","v":6},{"$f":"AJ9/(AL4-AJ8)","v":0.66666666666666663},{"$f":"IF(AK9=0,0,(AK9*((LOG(AK9))/LOG(2))))","v":-0.38997500048077083},null,{"$f":"N9","v":21},{"$f":"COUNTIF(L64:L77,AN9)","v":7},{"$f":"AO9/(AQ4-AO8)","v":0.875},{"$f":"IF(AP9=0,0,(AP9*((LOG(AP9))/LOG(2))))","v":-0.1685644431995964},null,{"$f":"N9","v":21},{"$f":"COUNTIF(L78:L91,AS9)","v":7},{"$f":"AT9/(AV4-AT8)","v":0.875},{"$f":"IF(AU9=0,0,(AU9*((LOG(AU9))/LOG(2))))","v":-0.1685644431995964}]
[22,401,23,406,null,null,null,null,null,null,0,22,null,22,{"$f":"COUNTIF($L$7:$L$500,N10)","v":6},{"$f":"O10/$Q$4","v":7.0588235294117646E-2},{"$f":"IF(P10=0,0,(P10*((LOG(P10))/LOG(2))))","v":-0.26995965426469731},null,null,{"$f":"N10","v":22},{"$f":"COUNTIF(L7:L20,T10)","v":2},{"$f":"U10/(W4-U8)","v":0.25},{"$f":"IF(V10=0,0,(V10*((LOG(V10))/LOG(2))))","v":-0.5},null,{"$f":"N10","v":22},{"$f":"COUNTIF(L21:L34,Y10)","v":1},{"$f":"Z10/(AB4-Z8)","v":0.14285714285714285},{"$f":"IF(AA10=0,0,(AA10*((LOG(AA10))/LOG(2))))","v":-0.40105070315108626},null,{"$f":"N10","v":22},{"$f":"COUNTIF(L35:L49,AD10)","v":0},{"$f":"AE10/(AG4-AE8)","v":0},{"$f":"IF(AF10=0,0,(AF10*((LOG(AF10))/LOG(2))))","v":0},null,{"$f":"N10","v":22},{"$f":"COUNTIF(L50:L63,AI10)","v":2},{"$f":"AJ10/(AL4-AJ8)","v":0.22222222222222221},{"$f":"IF(AK10=0,0,(AK10*((LOG(AK10))/LOG(2))))","v":-0.48220555587606945},null,{"$f":"N10","v":22},{"$f":"COUNTIF(L64:L77,AN10)","v":1},{"$f":"AO10/(AQ4-AO8)","v":0.125},{"$f":"IF(AP10=0,0,(AP10*((LOG(AP10))/LOG(2))))","v":-0.375},null,{"$f":"N10","v":22},{"$f":"COUNTIF(L78:L91,AS10)","v":0},{"$f":"AT10/(AV4-AT8)","v":0},{"$f":"IF(AU10=0,0,(AU10*((LOG(AU10))/LOG(2))))","v":0}]
[22,503,14,512,null,null,null,null,null,null,0,21,null,null,null,null,null,null,null,{"$f":"N11","v":0},{"$f":"COUNTIF(L7:L20,T11)","v":0},{"$f":"U11/(W4-U8)","v":0},{"$f":"IF(V11=0,0,(V11*((LOG(V11))/LOG(2))))","v":0},null,{"$f":"N11","v":0},{"$f":"COUNTIF(L21:L34,Y11)","v":0},{"$f":"Z11/(AB4-Z8)","v":0},{"$f":"IF(AA11=0,0,(AA11*((LOG(AA11))/LOG(2))))","v":0},null,{"$f":"N11","v":0},{"$f":"COUNTIF(L35:L49,AD11)","v":0},{"$f":"AE11/(AG4-AE8)","v":0},{"$f":"IF(AF11=0,0,(AF11*((LOG(AF11))/LOG(2))))","v":0},null,{"$f":"N11","v":0},{"$f":"COUNTIF(L50:L63,AI11)","v":0},{"$f":"AJ11/(AL4-AJ8)","v":0},{"$f":"IF(AK11=0,0,(AK11*((LOG(AK11))/LOG(2))))","v":0},null,{"$f":"N11","v":0},{"$f":"COUNTIF(L64:L77,AN11)","v":0},{"$f":"AO11/(AQ4-AO8)","v":0},{"$f":"IF(AP11=0,0,(AP11*((LOG(AP11))/LOG(2))))","v":0},null,{"$f":"N11","v":0},{"$f":"COUNTIF(L78:L91,AS11)","v":0},{"$f":"AT11/(AV4-AT8)","v":0},{"$f":"IF(AU11=0,0,(AU11*((LOG(AU11))/LOG(2))))","v":0}]
[11,619,21,637,null,null,null,null,null,null,0,12,null,null,null,null,null,null,null,{"$f":"N12","v":0},{"$f":"COUNTIF(L7:L20,T12)","v":0},{"$f":"U12/(W4-U8)","v":0},{"$f":"IF(V12=0,0,(V12*((LOG(V12))/LOG(2))))","v":0},null,{"$f":"N12","v":0},{"$f":"COUNTIF(L21:L34,Y12)","v":0},{"$f":"Z12/(AB4-Z8)","v":0},{"$f":"IF(AA12=0,0,(AA12*((LOG(AA12))/LOG(2))))","v":0},null,{"$f":"N12","v":0},{"$f":"COUNTIF(L35:L49,AD12)","v":0},{"$f":"AE12/(AG4-AE8)","v":0},{"$f":"IF(AF12=0,0,(AF12*((LOG(AF12))/LOG(2))))","v":0},null,{"$f":"N12","v":0},{"$f":"COUNTIF(L50:L63,AI12)","v":0},{"$f":"AJ12/(AL4-AJ8)","v":0},{"$f":"IF(AK12=0,0,(AK12*((LOG(AK12))/LOG(2))))","v":0},null,{"$f":"N12","v":0},{"$f":"COUNTIF(L64:L77,AN12)","v":0},{"$f":"AO12/(AQ4-AO8)","v":0},{"$f":"IF(AP12=0,0,(AP12*((LOG(AP12))/LOG(2))))","v":0},null,{"$f":"N12","v":0},{"$f":"COUNTIF(L78:L91,AS12)","v":0},{"$f":"AT12/(AV4-AT8)","v":0},{"$f":"IF(AU12=0,0,(AU12*((LOG(AU12))/LOG(2))))","v":0}]
[22,730,14,738,null,null,null,null,null,null,0,21,null,null,null,null,null,null,null,{"$f":"N13","v":0},{"$f":"COUNTIF(L7:L20,T13)","v":0},{"$f":"U13/(W4-U8)","v":0},{"$f":"IF(V13=0,0,(V13*((LOG(V13))/LOG(2))))","v":0},null,{"$f":"N13","v":0},{"$f":"COUNTIF(L21:L34,Y13)","v":0},{"$f":"Z13/(AB4-Z8)","v":0},{"$f":"IF(AA13=0,0,(AA13*((LOG(AA13))/LOG(2))))","v":0},null,{"$f":"N13","v":0},{"$f":"COUNTIF(L35:L49,AD13)","v":0},{"$f":"AE13/(AG4-AE8)","v":0},{"$f":"IF(AF13=0,0,(AF13*((LOG(AF13))/LOG(2))))","v":0},null,{"$f":"N13","v":0},{"$f":"COUNTIF(L50:L63,AI13)","v":0},{"$f":"AJ13/(AL4-AJ8)","v":0},{"$f":"IF(AK13=0,0,(AK13*((LOG(AK13))/LOG(2))))","v":0},null,{"$f":"N13","v":0},{"$f":"COUNTIF(L64:L77,AN13)","v":0},{"$f":"AO13/(AQ4-AO8)","v":0},{"$f":"IF(AP13=0,0,(AP13*((LOG(AP13))/LOG(2))))","v":0},null,{"$f":"N13","v":0},{"$f":"COUNTIF(L78:L91,AS13)","v":0},{"$f":"AT13/(AV4-AT8)","v":0},{"$f":"IF(AU13=0,0,(AU13*((LOG(AU13))/LOG(2))))","v":0}]
[22,834,14,842,null,null,null,null,null,null,0,21,null,null,null,null,null,null,null,{"$f":"N14","v":0},{"$f":"COUNTIF(L7:L20,T14)","v":0},{"$f":"U14/(W4-U8)","v":0},{"$f":"IF(V14=0,0,(V14*((LOG(V14))/LOG(2))))","v":0},null,{"$f":"N14","v":0},{"$f":"COUNTIF(L21:L34,Y14)","v":0},{"$f":"Z14/(AB4-Z8)","v":0},{"$f":"IF(AA14=0,0,(AA14*((LOG(AA14))/LOG(2))))","v":0},null,{"$f":"N14","v":0},{"$f":"COUNTIF(L35:L49,AD14)","v":0},{"$f":"AE14/(AG4-AE8)","v":0},{"$f":"IF(AF14=0,0,(AF14*((LOG(AF14))/LOG(2))))","v":0},null,{"$f":"N14","v":0},{"$f":"COUNTIF(L50:L63,AI14)","v":0},{"$f":"AJ14/(AL4-AJ8)","v":0},{"$f":"IF(AK14=0,0,(AK14*((LOG(AK14))/LOG(2))))","v":0},null,{"$f":"N14","v":0},{"$f":"COUNTIF(L64:L77,AN14)","v":0},{"$f":"AO14/(AQ4-AO8)","v":0},{"$f":"IF(AP14=0,0,(AP14*((LOG(AP14))/LOG(2))))","v":0},null,{"$f":"N14","v":0},{"$f":"COUNTIF(L78:L91,AS14)","v":0},{"$f":"AT14/(AV4-AT8)","v":0},{"$f":"IF(AU14=0,0,(AU14*((LOG(AU14))/LOG(2))))","v":0}]
[22,938,14,946,null,null,null,null,null,null,0,21,null,null,null,{"$f":"SUM(P7:P14)","v":1},{"$f":"-SUM(Q7:Q14)","v":1.5163108844565809},null,null,null,null,{"$f":"SUM(V7:V14)","v":1},{"$f":"-SUM(W7:W14)","v":0.81127812445913283},null,null,null,{"$f":"SUM(AA7:AA14)","v":1},{"$f":"-SUM(AB7:AB14)","v":1.3787834934861753},null,null,null,{"$f":"SUM(AF7:AF14)","v":1},{"$f":"-SUM(AG7:AG14)","v":0},null,null,null,{"$f":"SUM(AK7:AK14)","v":0.99999999999999989},{"$f":"-SUM(AL7:AL14)","v":1.2243944454059861},null,null,null,{"$f":"SUM(AP7:AP14)","v":1},{"$f":"-SUM(AQ7:AQ14)","v":0.5435644431995964},null,null,null,{"$f":"SUM(AU7:AU14)","v":1},{"$f":"-SUM(AV7:AV14)","v":0.5435644431995964}]
[22,1068,23,1087,null,null,null,null,null,null,0,22,null,null,null,"U=",{"$f":"Q15/(LOG(Q4)/LOG(2))","v":0.23657643909770773},null,null,null,null,"U1=",{"$f":"W15/(LOG(W4)/LOG(2))","v":0.21308182217503771},null,null,null,"U2=",{"$f":"AB15/(LOG(AB4)/LOG(2))","v":0.36213684348110137},null,null,null,"U3=",{"$f":"AG15/(LOG(AG4)/LOG(2))","v":0},null,null,null,"U4=",{"$f":"AL15/(LOG(AL4)/LOG(2))","v":0.32158663178800473},null,null,null,"U5=",{"$f":"AQ15/(LOG(AQ4)/LOG(2))","v":0.142766948269125},null,null,null,"U6=",{"$f":"AV15/(LOG(AV4)/LOG(2))","v":0.142766948269125}]
[11,1194,21,1235,null,null,null,null,null,null,0,12]
[11,1343,21,1374,null,null,null,null,null,null,0,12]
[22,1470,14,1493,null,null,null,null,null,null,0,21,null,"Total Target Seq"]
[11,1601,21,1615,null,null,null,null,null,null,0,12,null,{"$f":"COUNTIF(L7:L91,G3)","v":35},null,14,14,15,14,14,14]
[22,1707,23,1720,null,null,null,null,null,null,0,22,null,null,null,"% of reinforcement given in 6 equal intervals based on number of trials "]
[11,1841,21,1853,null,null,null,null,null,null,0,12,null,null,null,"%_1","%_2","%_3","%_4","%_5","%_6"]
[22,1949,14,1956,null,null,null,null,null,null,0,21,null,null,"target sequence",{"$f":"$G$3","v":12},{"$f":"$G$3","v":12},{"$f":"$G$3","v":12},{"$f":"$G$3","v":12},{"$f":"$G$3","v":12},{"$f":"$G$3","v":12}]
[22,2053,14,2061,null,null,null,null,null,null,0,21,null,null,"total reinforcement",{"$f":"U8","v":6},{"$f":"Z8","v":7},{"$f":"AE8","v":5},{"$f":"AJ8","v":5},{"$f":"AO8","v":6},{"$f":"AT8","v":6}]
[11,2169,21,2192,null,null,null,null,null,null,0,12,null,null,"% target"]
[11,2297,21,2319,null,null,null,null,null,null,0,12,null,null,"CCRF"]
[11,2421,12,2431,null,null,null,null,null,null,0,11,null,null,"% CCRf"]
[11,2540,21,2606,null,null,null,null,null,null,0,12,null,null,"average response rate",{"$f":"D20/P20","v":115.35714285714286},{"$f":"(D34-D20)/Q20","v":123.5},{"$f":"(D49-D34)/R20","v":115.86666666666666},{"$f":"(D63-D49)/S20","v":121.42857142857143},{"$f":"(D77-D63)/T20","v":117.35714285714286},{"$f":"(D91-D77)/U20","v":117.71428571428571}]
[22,2701,14,2707,null,null,null,null,null,null,0,21]
[22,2806,14,2813,null,null,null,null,null,null,0,21]
[11,2925,21,2947,null,null,null,null,null,null,0,12]
[11,3050,12,3080,null,null,null,null,null,null,0,11]
[11,3202,21,3219,null,null,null,null,null,null,0,12]
[11,3329,21,3344,null,null,null,null,null,null,0,12]
[22,3440,14,3448,null,null,null,null,null,null,0,21]
[22,3543,14,3551,null,null,null,null,null,null,0,21]
[22,3649,14,3672,null,null,null,null,null,null,0,21]
[11,3776,21,3794,null,null,null,null,null,null,0,12]
[22,3884,14,3891,null,null,null,null,null,null,0,21]
[22,3990,14,3998,null,null,null,null,null,null,0,21]
[11,4103,21,4120,null,null,null,null,null,null,0,12]
[22,4216,14,4231,null,null,null,null,null,null,0,21]
[22,4327,14,4334,null,null,null,null,null,null,0,21]
[22,4439,14,4446,null,null,null,null,null,null,0,21]
[11,4556,21,4574,null,null,null,null,null,null,0,12]
[11,4676,21,4709,null,null,null,null,null,null,0,12]
[11,4807,21,4862,null,null,null,null,null,null,0,12]
[22,4953,14,4978,null,null,null,null,null,null,0,21]
[22,5075,14,5082,null,null,null,null,null,null,0,21]
[22,5182,14,5190,null,null,null,null,null,null,0,21]
[22,5285,14,5309,null,null,null,null,null,null,0,21]
[11,5415,21,5423,null,null,null,null,null,null,0,12]
[22,5517,14,5526,null,null,null,null,null,null,0,21]
[11,5646,21,5675,null,null,null,null,null,null,0,12]
[11,5786,21,5819,null,null,null,null,null,null,0,12]
[22,5914,14,5922,null,null,null,null,null,null,0,21]
[11,6048,21,6065,null,null,null,null,null,null,0,12]
[22,6157,23,6182,null,null,null,null,null,null,0,22]
[11,6286,21,6320,null,null,null,null,null,null,0,12]
[22,6412,23,6423,null,null,null,null,null,null,0,22]
[22,6544,14,6551,null,null,null,null,null,null,0,21]
[22,6650,14,6658,null,null,null,null,null,null,0,21]
[11,6763,12,6782,null,null,null,null,null,null,0,11]
[22,6882,14,6889,null,null,null,null,null,null,0,21]
[11,6994,21,7020,null,null,null,null,null,null,0,12]
[11,7120,21,7156,null,null,null,null,null,null,0,12]
[22,7256,14,7264,null,null,null,null,null,null,0,21]
[22,7363,23,7374,null,null,null,null,null,null,0,22]
[11,7494,21,7510,null,null,null,null,null,null,0,12]
[22,7605,14,7613,null,null,null,null,null,null,0,21]
[22,7724,14,7731,null,null,null,null,null,null,0,21]
[22,7829,14,7836,null,null,null,null,null,null,0,21]
[11,7943,21,7959,null,null,null,null,null,null,0,12]
[22,8052,14,8059,null,null,null,null,null,null,0,21]
[22,8165,14,8173,null,null,null,null,null,null,0,21]
[11,8274,21,8313,null,null,null,null,null,null,0,12]
[11,8414,21,8425,null,null,null,null,null,null,0,12]
[22,8521,14,8528,null,null,null,null,null,null,0,21]
[22,8626,14,8646,null,null,null,null,null,null,0,21]
[22,8743,14,8753,null,null,null,null,null,null,0,21]
[11,8858,21,8875,null,null,null,null,null,null,0,12]
[11,8976,21,9021,null,null,null,null,null,null,0,12]
[11,9122,12,9131,null,null,null,null,null,null,0,11]
[22,9242,14,9250,null,null,null,null,null,null,0,21]
[22,9343,14,9362,null,null,null,null,null,null,0,21]
[11,9470,21,9489,null,null,null,null,null,null,0,12]
[22,9583,14,9590,null,null,null,null,null,null,0,21]
[11,9698,21,9726,null,null,null,null,null,null,0,12]
[11,9826,21,9854,null,null,null,null,null,null,0,12]
[22,9950,14,9958,null,null,null,null,null,null,0,21]
[11,10062,21,10073,null,null,null,null,null,null,1,12]

{"sheet":"!N208A20.095","index":8,"n_rows":50,"n_cols":48,"rows_kept":50,"cut":false,"hidden":false,"merged":[[4,39,4,42],[5,39,5,40],[4,44,4,47],[5,44,5,45],[4,24,4,27],[5,24,5,25],[4,29,4,32],[5,29,5,30],[4,34,4,37],[5,34,5,35],[1,1,1,2],[5,13,5,14],[18,13,18,14],[19,13,19,14],[4,19,4,22],[5,19,5,20]]}
["Report for:!N208A20.095"]
["Date:","<date>"]
["Hen:","<hen>",null,null,null,"Correct Sequence",{"$f":"Start!J2","v":12},null,null,null,null,null,null,null,null,"Total Sequences in Data",{"$f":"4994-COUNTBLANK(L7:L5000)","v":44},null,null,null,null,"Total Sequences in Block Data",{"$f":"COUNTA(L7:L13)","v":7},null,null,null,"Total Sequences in Block Data",{"$f":"COUNTA(L14:L21)","v":8},null,null,null,"Total Sequences in Block Data",{"$f":"COUNTA(L22:L28)","v":7},null,null,null,"Total Sequences in Block Data",{"$f":"COUNTA(L29:L35)","v":7},null,null,null,"Total Sequences in Block Data",{"$f":"COUNTA(L36:L43)","v":8},null,null,null,"Total Sequences in Block Data",{"$f":"COUNTA(L44:L50)","v":7}]
[null,null,null,null,null,null,null,null,null,null,null,null,null,null,null,"Total Sequences in Summary",{"$f":"SUM(O7:O14)","v":43},null,null,null,null,"Total Sequences in Block Summary",{"$f":"SUM(U7:U14)","v":7},null,null,null,"Total Sequences in Block Summary",{"$f":"SUM(Z7:Z14)","v":8},null,null,null,"Total Sequences in Block Summary",{"$f":"SUM(AE7:AE14)","v":7},null,null,null,"Total Sequences in Block Summary",{"$f":"SUM(AJ7:AJ14)","v":7},null,null,null,"Total Sequences in Block Summary",{"$f":"SUM(AO7:AO14)","v":8},null,null,null,"Total Sequences in Block Summary",{"$f":"SUM(AT7:AT14)","v":6}]
[null,null,null,null,null,null,null,null,null,null,null,null,null,null,null,null,null,null,null,"Block 1",null,null,null,null,"Block 2",null,null,null,null,"Block 3",null,null,null,null,"Block 4",null,null,null,null,"Block 5",null,null,null,null,"Block 6"]
["Sequence\nComponent\n1","Time\n1","Sequence\nComponent\n2","Time\n2","Sequence\nComponent\n3","Time\n3","Sequence\nComponent\n4","Time\n4","Sequence\nComponent\n5","Time\n5","Correct?\n0=No 1=Yes","Sequence",null,"Frequency",null,"Relative Frequency","Variability",null,null,"Frequency",null,"Relative Frequency","Variability",null,"Frequency",null,"Relative Frequency","Variability",null,"Frequency",null,"Relative Frequency","Variability",null,"Frequency",null,"Relative Frequency","Variability",null,"Frequency",null,"Relative Frequency","Variability",null,"Frequency",null,"Relative Frequency","Variability"]
[22,44,23,84,null,null,null,null,null,null,0,22,null,11,{"$f":"COUNTIF($L$7:$L$500,N7)","v":0},{"$f":"O7/$Q$4","v":0},{"$f":"IF(P7=0,0,(P7*((LOG(P7))/LOG(2))))","v":0},null,null,{"$f":"N7","v":11},{"$f":"COUNTIF(L7:L13,T7)","v":0},{"$f":"U7/(W4-U8)","v":0},{"$f":"IF(V7=0,0,(V7*((LOG(V7))/LOG(2))))","v":0},null,{"$f":"N7","v":11},{"$f":"COUNTIF(L14:L21,Y7)","v":0},{"$f":"Z7/(AB4-Z8)","v":0},{"$f":"IF(AA7=0,0,(AA7*((LOG(AA7))/LOG(2))))","v":0},null,{"$f":"N7","v":11},{"$f":"COUNTIF(L22:L28,AD7)","v":0},{"$f":"AE7/(AG4-AE8)","v":0},{"$f":"IF(AF7=0,0,(AF7*((LOG(AF7))/LOG(2))))","v":0},null,{"$f":"N7","v":11},{"$f":"COUNTIF(L29:L35,AI7)","v":0},{"$f":"AJ7/(AL4-AJ8)","v":0},{"$f":"IF(AK7=0,0,(AK7*((LOG(AK7))/LOG(2))))","v":0},null,{"$f":"N7","v":11},{"$f":"COUNTIF(L36:L43,AN7)","v":0},{"$f":"AO7/(AQ4-AO8)","v":0},{"$f":"IF(AP7=0,0,(AP7*((LOG(AP7))/LOG(2))))","v":0},null,{"$f":"N7","v":11},{"$f":"COUNTIF(L44:L50,AS7)","v":0},{"$f":"AT7/(AV4-AT8)","v":0},{"$f":"IF(AU7=0,0,(AU7*((LOG(AU7))/LOG(2))))","v":0}]
[22,194,23,214,null,null,null,null,null,null,0,22,null,12,{"$f":"COUNTIF($L$7:$L$500,N8)","v":13},{"$f":"O8/$Q$4","v":0.30232558139534882},{"$f":"IF(P8=0,0,(P8*((LOG(P8))/LOG(2))))","v":-0.52176105756495528},null,null,{"$f":"N8","v":12},{"$f":"COUNTIF(L7:L13,T8)","v":2},null,null,null,{"$f":"N8","v":12},{"$f":"COUNTIF(L14:L21,Y8)","v":1},null,null,null,{"$f":"N8","v":12},{"$f":"COUNTIF(L22:L28,AD8)","v":3},null,null,null,{"$f":"N8","v":12},{"$f":"COUNTIF(L29:L35,AI8)","v":3},null,null,null,{"$f":"N8","v":12},{"$f":"COUNTIF(L36:L43,AN8)","v":3},null,null,null,{"$f":"N8","v":12},{"$f":"COUNTIF(L44:L50,AS8)","v":1}]
[22,323,23,354,null,null,null,null,null,null,0,22,null,21,{"$f":"COUNTIF($L$7:$L$500,N9)","v":23},{"$f":"O9/$Q$4","v":0.53488372093023251},{"$f":"IF(P9=0,0,(P9*((LOG(P9))/LOG(2))))","v":-0.48284103183341759},null,null,{"$f":"N9","v":21},{"$f":"COUNTIF(L7:L13,T9)","v":2},{"$f":"U9/(W4-U8)","v":0.4},{"$f":"IF(V9=0,0,(V9*((LOG(V9))/LOG(2))))","v":-0.52877123795494496},null,{"$f":"N9","v":21},{"$f":"COUNTIF(L14:L21,Y9)","v":7},{"$f":"Z9/(AB4-Z8)","v":1},{"$f":"IF(AA9=0,0,(AA9*((LOG(AA9))/LOG(2))))","v":0},null,{"$f":"N9","v":21},{"$f":"COUNTIF(L22:L28,AD9)","v":2},{"$f":"AE9/(AG4-AE8)","v":0.5},{"$f":"IF(AF9=0,0,(AF9*((LOG(AF9))/LOG(2))))","v":-0.5},null,{"$f":"N9","v":21},{"$f":"COUNTIF(L29:L35,AI9)","v":4},{"$f":"AJ9/(AL4-AJ8)","v":1},{"$f":"IF(AK9=0,0,(AK9*((LOG(AK9))/LOG(2))))","v":0},null,{"$f":"N9","v":21},{"$f":"COUNTIF(L36:L43,AN9)","v":5},{"$f":"AO9/(AQ4-AO8)","v":1},{"$f":"IF(AP9=0,0,(AP9*((LOG(AP9))/LOG(2))))","v":0},null,{"$f":"N9","v":21},{"$f":"COUNTIF(L44:L50,AS9)","v":3},{"$f":"AT9/(AV4-AT8)","v":0.6},{"$f":"IF(AU9=0,0,(AU9*((LOG(AU9))/LOG(2))))","v":-0.44217935649972373}]
[11,533,21,551,null,null,null,null,null,null,0,12,null,22,{"$f":"COUNTIF($L$7:$L$500,N10)","v":7},{"$f":"O10/$Q$4","v":0.16279069767441862},{"$f":"IF(P10=0,0,(P10*((LOG(P10))/LOG(2))))","v":-0.42633415880259201},null,null,{"$f":"N10","v":22},{"$f":"COUNTIF(L7:L13,T10)","v":3},{"$f":"U10/(W4-U8)","v":0.6},{"$f":"IF(V10=0,0,(V10*((LOG(V10))/LOG(2))))","v":-0.44217935649972373},null,{"$f":"N10","v":22},{"$f":"COUNTIF(L14:L21,Y10)","v":0},{"$f":"Z10/(AB4-Z8)","v":0},{"$f":"IF(AA10=0,0,(AA10*((LOG(AA10))/LOG(2))))","v":0},null,{"$f":"N10","v":22},{"$f":"COUNTIF(L22:L28,AD10)","v":2},{"$f":"AE10/(AG4-AE8)","v":0.5},{"$f":"IF(AF10=0,0,(AF10*((LOG(AF10))/LOG(2))))","v":-0.5},null,{"$f":"N10","v":22},{"$f":"COUNTIF(L29:L35,AI10)","v":0},{"$f":"AJ10/(AL4-AJ8)","v":0},{"$f":"IF(AK10=0,0,(AK10*((LOG(AK10))/LOG(2))))","v":0},null,{"$f":"N10","v":22},{"$f":"COUNTIF(L36:L43,AN10)","v":0},{"$f":"AO10/(AQ4-AO8)","v":0},{"$f":"IF(AP10=0,0,(AP10*((LOG(AP10))/LOG(2))))","v":0},null,{"$f":"N10","v":22},{"$f":"COUNTIF(L44:L50,AS10)","v":2},{"$f":"AT10/(AV4-AT8)","v":0.4},{"$f":"IF(AU10=0,0,(AU10*((LOG(AU10))/LOG(2))))","v":-0.52877123795494496}]
[22,643,14,653,null,null,null,null,null,null,0,21,null,null,null,null,null,null,null,{"$f":"N11","v":0},{"$f":"COUNTIF(L7:L13,T11)","v":0},{"$f":"U11/(W4-U8)","v":0},{"$f":"IF(V11=0,0,(V11*((LOG(V11))/LOG(2))))","v":0},null,{"$f":"N11","v":0},{"$f":"COUNTIF(L14:L21,Y11)","v":0},{"$f":"Z11/(AB4-Z8)","v":0},{"$f":"IF(AA11=0,0,(AA11*((LOG(AA11))/LOG(2))))","v":0},null,{"$f":"N11","v":0},{"$f":"COUNTIF(L22:L28,AD11)","v":0},{"$f":"AE11/(AG4-AE8)","v":0},{"$f":"IF(AF11=0,0,(AF11*((LOG(AF11))/LOG(2))))","v":0},null,{"$f":"N11","v":0},{"$f":"COUNTIF(L29:L35,AI11)","v":0},{"$f":"AJ11/(AL4-AJ8)","v":0},{"$f":"IF(AK11=0,0,(AK11*((LOG(AK11))/LOG(2))))","v":0},null,{"$f":"N11","v":0},{"$f":"COUNTIF(L36:L43,AN11)","v":0},{"$f":"AO11/(AQ4-AO8)","v":0},{"$f":"IF(AP11=0,0,(AP11*((LOG(AP11))/LOG(2))))","v":0},null,{"$f":"N11","v":0},{"$f":"COUNTIF(L44:L50,AS11)","v":0},{"$f":"AT11/(AV4-AT8)","v":0},{"$f":"IF(AU11=0,0,(AU11*((LOG(AU11))/LOG(2))))","v":0}]
[11,777,21,787,null,null,null,null,null,null,0,12,null,null,null,null,null,null,null,{"$f":"N12","v":0},{"$f":"COUNTIF(L7:L13,T12)","v":0},{"$f":"U12/(W4-U8)","v":0},{"$f":"IF(V12=0,0,(V12*((LOG(V12))/LOG(2))))","v":0},null,{"$f":"N12","v":0},{"$f":"COUNTIF(L14:L21,Y12)","v":0},{"$f":"Z12/(AB4-Z8)","v":0},{"$f":"IF(AA12=0,0,(AA12*((LOG(AA12))/LOG(2))))","v":0},null,{"$f":"N12","v":0},{"$f":"COUNTIF(L22:L28,AD12)","v":0},{"$f":"AE12/(AG4-AE8)","v":0},{"$f":"IF(AF12=0,0,(AF12*((LOG(AF12))/LOG(2))))","v":0},null,{"$f":"N12","v":0},{"$f":"COUNTIF(L29:L35,AI12)","v":0},{"$f":"AJ12/(AL4-AJ8)","v":0},{"$f":"IF(AK12=0,0,(AK12*((LOG(AK12))/LOG(2))))","v":0},null,{"$f":"N12","v":0},{"$f":"COUNTIF(L36:L43,AN12)","v":0},{"$f":"AO12/(AQ4-AO8)","v":0},{"$f":"IF(AP12=0,0,(AP12*((LOG(AP12))/LOG(2))))","v":0},null,{"$f":"N12","v":0},{"$f":"COUNTIF(L44:L50,AS12)","v":0},{"$f":"AT12/(AV4-AT8)","v":0},{"$f":"IF(AU12=0,0,(AU12*((LOG(AU12))/LOG(2))))","v":0}]
[22,887,14,896,null,null,null,null,null,null,0,21,null,null,null,null,null,null,null,{"$f":"N13","v":0},{"$f":"COUNTIF(L7:L13,T13)","v":0},{"$f":"U13/(W4-U8)","v":0},{"$f":"IF(V13=0,0,(V13*((LOG(V13))/LOG(2))))","v":0},null,{"$f":"N13","v":0},{"$f":"COUNTIF(L14:L21,Y13)","v":0},{"$f":"Z13/(AB4-Z8)","v":0},{"$f":"IF(AA13=0,0,(AA13*((LOG(AA13))/LOG(2))))","v":0},null,{"$f":"N13","v":0},{"$f":"COUNTIF(L22:L28,AD13)","v":0},{"$f":"AE13/(AG4-AE8)","v":0},{"$f":"IF(AF13=0,0,(AF13*((LOG(AF13))/LOG(2))))","v":0},null,{"$f":"N13","v":0},{"$f":"COUNTIF(L29:L35,AI13)","v":0},{"$f":"AJ13/(AL4-AJ8)","v":0},{"$f":"IF(AK13=0,0,(AK13*((LOG(AK13))/LOG(2))))","v":0},null,{"$f":"N13","v":0},{"$f":"COUNTIF(L36:L43,AN13)","v":0},{"$f":"AO13/(AQ4-AO8)","v":0},{"$f":"IF(AP13=0,0,(AP13*((LOG(AP13))/LOG(2))))","v":0},null,{"$f":"N13","v":0},{"$f":"COUNTIF(L44:L50,AS13)","v":0},{"$f":"AT13/(AV4-AT8)","v":0},{"$f":"IF(AU13=0,0,(AU13*((LOG(AU13))/LOG(2))))","v":0}]
[22,993,14,1001,null,null,null,null,null,null,0,21,null,null,null,null,null,null,null,{"$f":"N14","v":0},{"$f":"COUNTIF(L7:L13,T14)","v":0},{"$f":"U14/(W4-U8)","v":0},{"$f":"IF(V14=0,0,(V14*((LOG(V14))/LOG(2))))","v":0},null,{"$f":"N14","v":0},{"$f":"COUNTIF(L14:L21,Y14)","v":0},{"$f":"Z14/(AB4-Z8)","v":0},{"$f":"IF(AA14=0,0,(AA14*((LOG(AA14))/LOG(2))))","v":0},null,{"$f":"N14","v":0},{"$f":"COUNTIF(L22:L28,AD14)","v":0},{"$f":"AE14/(AG4-AE8)","v":0},{"$f":"IF(AF14=0,0,(AF14*((LOG(AF14))/LOG(2))))","v":0},null,{"$f":"N14","v":0},{"$f":"COUNTIF(L29:L35,AI14)","v":0},{"$f":"AJ14/(AL4-AJ8)","v":0},{"$f":"IF(AK14=0,0,(AK14*((LOG(AK14))/LOG(2))))","v":0},null,{"$f":"N14","v":0},{"$f":"COUNTIF(L36:L43,AN14)","v":0},{"$f":"AO14/(AQ4-AO8)","v":0},{"$f":"IF(AP14=0,0,(AP14*((LOG(AP14))/LOG(2))))","v":0},null,{"$f":"N14","v":0},{"$f":"COUNTIF(L44:L50,AS14)","v":0},{"$f":"AT14/(AV4-AT8)","v":0},{"$f":"IF(AU14=0,0,(AU14*((LOG(AU14))/LOG(2))))","v":0}]
[22,1102,14,1109,null,null,null,null,null,null,0,21,null,null,null,{"$f":"SUM(P7:P14)","v":1},{"$f":"-SUM(Q7:Q14)","v":1.4309362482009649},null,null,null,null,{"$f":"SUM(V7:V14)","v":1},{"$f":"-SUM(W7:W14)","v":0.97095059445466869},null,null,null,{"$f":"SUM(AA7:AA14)","v":1},{"$f":"-SUM(AB7:AB14)","v":0},null,null,null,{"$f":"SUM(AF7:AF14)","v":1},{"$f":"-SUM(AG7:AG14)","v":1},null,null,null,{"$f":"SUM(AK7:AK14)","v":1},{"$f":"-SUM(AL7:AL14)","v":0},null,null,null,{"$f":"SUM(AP7:AP14)","v":1},{"$f":"-SUM(AQ7:AQ14)","v":0},null,null,null,{"$f":"SUM(AU7:AU14)","v":1},{"$f":"-SUM(AV7:AV14)","v":0.97095059445466869}]
[22,1211,14,1218,null,null,null,null,null,null,0,21,null,null,null,"U=",{"$f":"Q15/(LOG(Q4)/LOG(2))","v":0.26370557149114321},null,null,null,null,"U1=",{"$f":"W15/(LOG(W4)/LOG(2))","v":0.34585958007155954},null,null,null,"U2=",{"$f":"AB15/(LOG(AB4)/LOG(2))","v":0},null,null,null,"U3=",{"$f":"AG15/(LOG(AG4)/LOG(2))","v":0.35620718710802218},null,null,null,"U4=",{"$f":"AL15/(LOG(AL4)/LOG(2))","v":0},null,null,null,"U5=",{"$f":"AQ15/(LOG(AQ4)/LOG(2))","v":0},null,null,null,"U6=",{"$f":"AV15/(LOG(AV4)/LOG(2))","v":0.37561496315083553}]
[22,1323,14,1331,null,null,null,null,null,null,0,21]
[22,1432,14,1440,null,null,null,null,null,null,0,21]
[11,1556,21,1573,null,null,null,null,null,null,0,12,null,"Total Target Seq"]
[22,1677,14,1682,null,null,null,null,null,null,0,21,null,{"$f":"COUNTIF(L7:L50,G3)","v":13},null,7,8,7,7,8,7]
[22,1779,14,1787,null,null,null,null,null,null,0,21,null,null,null,"% of reinforcement given in 6 equal intervals based on number of trials "]
[11,1905,21,1913,null,null,null,null,null,null,0,12,null,null,null,"%_1","%_2","%_3","%_4","%_5","%_6"]
[22,2025,23,2079,null,null,null,null,null,null,0,22,null,null,"target sequence",{"$f":"$G$3","v":12},{"$f":"$G$3","v":12},{"$f":"$G$3","v":12},{"$f":"$G$3","v":12},{"$f":"$G$3","v":12},{"$f":"$G$3","v":12}]
[11,2200,21,2216,null,null,null,null,null,null,0,12,null,null,"total reinforcement",{"$f":"U8","v":2},{"$f":"Z8","v":1},{"$f":"AE8","v":3},{"$f":"AJ8","v":3},{"$f":"AO8","v":3},{"$f":"AT8","v":1}]
[22,2308,23,2313,null,null,null,null,null,null,0,22,null,null,"% target"]
[11,2419,21,2442,null,null,null,null,null,null,0,12,null,null,"CCRF"]
[22,2538,14,2545,null,null,null,null,null,null,0,21,null,null,"% CCRf"]
[22,2649,14,2656,null,null,null,null,null,null,0,21,null,null,"average response rate",{"$f":"D13/P20","v":128},{"$f":"(D21-D13)/Q20","v":111.375},{"$f":"(D28-D21)/R20","v":124.14285714285714},{"$f":"(D35-D28)/S20","v":141.42857142857142},{"$f":"(D43-D35)/T20","v":2440.125},{"$f":"(D50-D43)/U20","v":-3309.5714285714284}]
[22,2758,14,2765,null,null,null,null,null,null,0,21]
[22,2862,14,2884,null,null,null,null,null,null,0,21]
[11,3044,21,3090,null,null,null,null,null,null,0,12]
[22,3185,14,3207,null,null,null,null,null,null,0,21]
[11,3394,21,3417,null,null,null,null,null,null,0,12]
[22,3513,14,3522,null,null,null,null,null,null,0,21]
[11,3632,21,3646,null,null,null,null,null,null,0,12]
[11,3752,21,3769,null,null,null,null,null,null,0,12]
[22,3862,14,3871,null,null,null,null,null,null,0,21]
[22,22446,14,22464,null,null,null,null,null,null,0,21]
[22,22628,14,22640,null,null,null,null,null,null,0,21]
[11,22762,21,22791,null,null,null,null,null,null,0,12]
[22,22887,14,22896,null,null,null,null,null,null,0,21]
[22,22998,14,23010,null,null,null,null,null,null,0,21]
[11,23136,21,23167,null,null,null,null,null,null,0,12]
[22,23265,23,23273,null,null,null,null,null,null,0,22]
[22,23378,14,23391,null,null,null,null,null,null,0,21]
[22,23494,23,23502,null,null,null,null,null,null,0,22]
[22,23611,14,23619,null,null,null,null,null,null,0,21]
[11,23735,21,23744,null,null,null,null,null,null,0,12]
[22,23839,14,23859,null,null,null,null,null,null,0,21]
[22,23959,null,null,null,null,null,null,null,null,null,2]

{"sheet":"!N209820.095","index":9,"n_rows":72,"n_cols":48,"rows_kept":72,"cut":false,"hidden":false,"merged":[[4,39,4,42],[5,39,5,40],[4,44,4,47],[5,44,5,45],[4,24,4,27],[5,24,5,25],[4,29,4,32],[5,29,5,30],[4,34,4,37],[5,34,5,35],[1,1,1,2],[5,13,5,14],[18,13,18,14],[19,13,19,14],[4,19,4,22],[5,19,5,20]]}
["Report for:!N209820.095"]
["Date:","<date>"]
["Hen:","<hen>",null,null,null,"Correct Sequence",{"$f":"Start!J2","v":12},null,null,null,null,null,null,null,null,"Total Sequences in Data",{"$f":"4994-COUNTBLANK(L7:L5000)","v":66},null,null,null,null,"Total Sequences in Block Data",{"$f":"COUNTA(L7:L17)","v":11},null,null,null,"Total Sequences in Block Data",{"$f":"COUNTA(L18:L28)","v":11},null,null,null,"Total Sequences in Block Data",{"$f":"COUNTA(L29:L39)","v":11},null,null,null,"Total Sequences in Block Data",{"$f":"COUNTA(L40:L50)","v":11},null,null,null,"Total Sequences in Block Data",{"$f":"COUNTA(L51:L61)","v":11},null,null,null,"Total Sequences in Block Data",{"$f":"COUNTA(L62:L72)","v":11}]
[null,null,null,null,null,null,null,null,null,null,null,null,null,null,null,"Total Sequences in Summary",{"$f":"SUM(O7:O14)","v":66},null,null,null,null,"Total Sequences in Block Summary",{"$f":"SUM(U7:U14)","v":11},null,null,null,"Total Sequences in Block Summary",{"$f":"SUM(Z7:Z14)","v":11},null,null,null,"Total Sequences in Block Summary",{"$f":"SUM(AE7:AE14)","v":11},null,null,null,"Total Sequences in Block Summary",{"$f":"SUM(AJ7:AJ14)","v":11},null,null,null,"Total Sequences in Block Summary",{"$f":"SUM(AO7:AO14)","v":11},null,null,null,"Total Sequences in Block Summary",{"$f":"SUM(AT7:AT14)","v":11}]
[null,null,null,null,null,null,null,null,null,null,null,null,null,null,null,null,null,null,null,"Block 1",null,null,null,null,"Block 2",null,null,null,null,"Block 3",null,null,null,null,"Block 4",null,null,null,null,"Block 5",null,null,null,null,"Block 6"]
["Sequence\nComponent\n1","Time\n1","Sequence\nComponent\n2","Time\n2","Sequence\nComponent\n3","Time\n3","Sequence\nComponent\n4","Time\n4","Sequence\nComponent\n5","Time\n5","Correct?\n0=No 1=Yes","Sequence",null,"Frequency",null,"Relative Frequency","Variability",null,null,"Frequency",null,"Relative Frequency","Variability",null,"Frequency",null,"Relative Frequency","Variability",null,"Frequency",null,"Relative Frequency","Variability",null,"Frequency",null,"Relative Frequency","Variability",null,"Frequency",null,"Relative Frequency","Variability",null,"Frequency",null,"Relative Frequency","Variability"]
[22,21,14,28,null,null,null,null,null,null,0,21,null,11,{"$f":"COUNTIF($L$7:$L$500,N7)","v":0},{"$f":"O7/$Q$4","v":0},{"$f":"IF(P7=0,0,(P7*((LOG(P7))/LOG(2))))","v":0},null,null,{"$f":"N7","v":11},{"$f":"COUNTIF(L7:L17,T7)","v":0},{"$f":"U7/(W4-U8)","v":0},{"$f":"IF(V7=0,0,(V7*((LOG(V7))/LOG(2))))","v":0},null,{"$f":"N7","v":11},{"$f":"COUNTIF(L18:L28,Y7)","v":0},{"$f":"Z7/(AB4-Z8)","v":0},{"$f":"IF(AA7=0,0,(AA7*((LOG(AA7))/LOG(2))))","v":0},null,{"$f":"N7","v":11},{"$f":"COUNTIF(L29:L39,AD7)","v":0},{"$f":"AE7/(AG4-AE8)","v":0},{"$f":"IF(AF7=0,0,(AF7*((LOG(AF7))/LOG(2))))","v":0},null,{"$f":"N7","v":11},{"$f":"COUNTIF(L40:L50,AI7)","v":0},{"$f":"AJ7/(AL4-AJ8)","v":0},{"$f":"IF(AK7=0,0,(AK7*((LOG(AK7))/LOG(2))))","v":0},null,{"$f":"N7","v":11},{"$f":"COUNTIF(L51:L61,AN7)","v":0},{"$f":"AO7/(AQ4-AO8)","v":0},{"$f":"IF(AP7=0,0,(AP7*((LOG(AP7))/LOG(2))))","v":0},null,{"$f":"N7","v":11},{"$f":"COUNTIF(L62:L72,AS7)","v":0},{"$f":"AT7/(AV4-AT8)","v":0},{"$f":"IF(AU7=0,0,(AU7*((LOG(AU7))/LOG(2))))","v":0}]
[11,138,21,166,null,null,null,null,null,null,0,12,null,12,{"$f":"COUNTIF($L$7:$L$500,N8)","v":37},{"$f":"O8/$Q$4","v":0.56060606060606055},{"$f":"IF(P8=0,0,(P8*((LOG(P8))/LOG(2))))","v":-0.46807284678775207},null,null,{"$f":"N8","v":12},{"$f":"COUNTIF(L7:L17,T8)","v":7},null,null,null,{"$f":"N8","v":12},{"$f":"COUNTIF(L18:L28,Y8)","v":8},null,null,null,{"$f":"N8","v":12},{"$f":"COUNTIF(L29:L39,AD8)","v":6},null,null,null,{"$f":"N8","v":12},{"$f":"COUNTIF(L40:L50,AI8)","v":5},null,null,null,{"$f":"N8","v":12},{"$f":"COUNTIF(L51:L61,AN8)","v":5},null,null,null,{"$f":"N8","v":12},{"$f":"COUNTIF(L62:L72,AS8)","v":6}]
[11,267,21,314,null,null,null,null,null,null,0,12,null,21,{"$f":"COUNTIF($L$7:$L$500,N9)","v":26},{"$f":"O9/$Q$4","v":0.39393939393939392},{"$f":"IF(P9=0,0,(P9*((LOG(P9))/LOG(2))))","v":-0.52943658229774837},null,null,{"$f":"N9","v":21},{"$f":"COUNTIF(L7:L17,T9)","v":4},{"$f":"U9/(W4-U8)","v":1},{"$f":"IF(V9=0,0,(V9*((LOG(V9))/LOG(2))))","v":0},null,{"$f":"N9","v":21},{"$f":"COUNTIF(L18:L28,Y9)","v":3},{"$f":"Z9/(AB4-Z8)","v":1},{"$f":"IF(AA9=0,0,(AA9*((LOG(AA9))/LOG(2))))","v":0},null,{"$f":"N9","v":21},{"$f":"COUNTIF(L29:L39,AD9)","v":5},{"$f":"AE9/(AG4-AE8)","v":1},{"$f":"IF(AF9=0,0,(AF9*((LOG(AF9))/LOG(2))))","v":0},null,{"$f":"N9","v":21},{"$f":"COUNTIF(L40:L50,AI9)","v":5},{"$f":"AJ9/(AL4-AJ8)","v":0.83333333333333337},{"$f":"IF(AK9=0,0,(AK9*((LOG(AK9))/LOG(2))))","v":-0.21919533819482812},null,{"$f":"N9","v":21},{"$f":"COUNTIF(L51:L61,AN9)","v":5},{"$f":"AO9/(AQ4-AO8)","v":0.83333333333333337},{"$f":"IF(AP9=0,0,(AP9*((LOG(AP9))/LOG(2))))","v":-0.21919533819482812},null,{"$f":"N9","v":21},{"$f":"COUNTIF(L62:L72,AS9)","v":4},{"$f":"AT9/(AV4-AT8)","v":0.8},{"$f":"IF(AU9=0,0,(AU9*((LOG(AU9))/LOG(2))))","v":-0.25754247590988982}]
[11,425,21,515,null,null,null,null,null,null,0,12,null,22,{"$f":"COUNTIF($L$7:$L$500,N10)","v":3},{"$f":"O10/$Q$4","v":4.5454545454545456E-2},{"$f":"IF(P10=0,0,(P10*((LOG(P10))/LOG(2))))","v":-0.20270143721078623},null,null,{"$f":"N10","v":22},{"$f":"COUNTIF(L7:L17,T10)","v":0},{"$f":"U10/(W4-U8)","v":0},{"$f":"IF(V10=0,0,(V10*((LOG(V10))/LOG(2))))","v":0},null,{"$f":"N10","v":22},{"$f":"COUNTIF(L18:L28,Y10)","v":0},{"$f":"Z10/(AB4-Z8)","v":0},{"$f":"IF(AA10=0,0,(AA10*((LOG(AA10))/LOG(2))))","v":0},null,{"$f":"N10","v":22},{"$f":"COUNTIF(L29:L39,AD10)","v":0},{"$f":"AE10/(AG4-AE8)","v":0},{"$f":"IF(AF10=0,0,(AF10*((LOG(AF10))/LOG(2))))","v":0},null,{"$f":"N10","v":22},{"$f":"COUNTIF(L40:L50,AI10)","v":1},{"$f":"AJ10/(AL4-AJ8)","v":0.16666666666666666},{"$f":"IF(AK10=0,0,(AK10*((LOG(AK10))/LOG(2))))","v":-0.43082708345352599},null,{"$f":"N10","v":22},{"$f":"COUNTIF(L51:L61,AN10)","v":1},{"$f":"AO10/(AQ4-AO8)","v":0.16666666666666666},{"$f":"IF(AP10=0,0,(AP10*((LOG(AP10))/LOG(2))))","v":-0.43082708345352599},null,{"$f":"N10","v":22},{"$f":"COUNTIF(L62:L72,AS10)","v":1},{"$f":"AT10/(AV4-AT8)","v":0.2},{"$f":"IF(AU10=0,0,(AU10*((LOG(AU10))/LOG(2))))","v":-0.46438561897747244}]
[22,612,14,620,null,null,null,null,null,null,0,21,null,null,null,null,null,null,null,{"$f":"N11","v":0},{"$f":"COUNTIF(L7:L17,T11)","v":0},{"$f":"U11/(W4-U8)","v":0},{"$f":"IF(V11=0,0,(V11*((LOG(V11))/LOG(2))))","v":0},null,{"$f":"N11","v":0},{"$f":"COUNTIF(L18:L28,Y11)","v":0},{"$f":"Z11/(AB4-Z8)","v":0},{"$f":"IF(AA11=0,0,(AA11*((LOG(AA11))/LOG(2))))","v":0},null,{"$f":"N11","v":0},{"$f":"COUNTIF(L29:L39,AD11)","v":0},{"$f":"AE11/(AG4-AE8)","v":0},{"$f":"IF(AF11=0,0,(AF11*((LOG(AF11))/LOG(2))))","v":0},null,{"$f":"N11","v":0},{"$f":"COUNTIF(L40:L50,AI11)","v":0},{"$f":"AJ11/(AL4-AJ8)","v":0},{"$f":"IF(AK11=0,0,(AK11*((LOG(AK11))/LOG(2))))","v":0},null,{"$f":"N11","v":0},{"$f":"COUNTIF(L51:L61,AN11)","v":0},{"$f":"AO11/(AQ4-AO8)","v":0},{"$f":"IF(AP11=0,0,(AP11*((LOG(AP11))/LOG(2))))","v":0},null,{"$f":"N11","v":0},{"$f":"COUNTIF(L62:L72,AS11)","v":0},{"$f":"AT11/(AV4-AT8)","v":0},{"$f":"IF(AU11=0,0,(AU11*((LOG(AU11))/LOG(2))))","v":0}]
[11,729,21,745,null,null,null,null,null,null,0,12,null,null,null,null,null,null,null,{"$f":"N12","v":0},{"$f":"COUNTIF(L7:L17,T12)","v":0},{"$f":"U12/(W4-U8)","v":0},{"$f":"IF(V12=0,0,(V12*((LOG(V12))/LOG(2))))","v":0},null,{"$f":"N12","v":0},{"$f":"COUNTIF(L18:L28,Y12)","v":0},{"$f":"Z12/(AB4-Z8)","v":0},{"$f":"IF(AA12=0,0,(AA12*((LOG(AA12))/LOG(2))))","v":0},null,{"$f":"N12","v":0},{"$f":"COUNTIF(L29:L39,AD12)","v":0},{"$f":"AE12/(AG4-AE8)","v":0},{"$f":"IF(AF12=0,0,(AF12*((LOG(AF12))/LOG(2))))","v":0},null,{"$f":"N12","v":0},{"$f":"COUNTIF(L40:L50,AI12)","v":0},{"$f":"AJ12/(AL4-AJ8)","v":0},{"$f":"IF(AK12=0,0,(AK12*((LOG(AK12))/LOG(2))))","v":0},null,{"$f":"N12","v":0},{"$f":"COUNTIF(L51:L61,AN12)","v":0},{"$f":"AO12/(AQ4-AO8)","v":0},{"$f":"IF(AP12=0,0,(AP12*((LOG(AP12))/LOG(2))))","v":0},null,{"$f":"N12","v":0},{"$f":"COUNTIF(L62:L72,AS12)","v":0},{"$f":"AT12/(AV4-AT8)","v":0},{"$f":"IF(AU12=0,0,(AU12*((LOG(AU12))/LOG(2))))","v":0}]
[11,851,21,860,null,null,null,null,null,null,0,12,null,null,null,null,null,null,null,{"$f":"N13","v":0},{"$f":"COUNTIF(L7:L17,T13)","v":0},{"$f":"U13/(W4-U8)","v":0},{"$f":"IF(V13=0,0,(V13*((LOG(V13))/LOG(2))))","v":0},null,{"$f":"N13","v":0},{"$f":"COUNTIF(L18:L28,Y13)","v":0},{"$f":"Z13/(AB4-Z8)","v":0},{"$f":"IF(AA13=0,0,(AA13*((LOG(AA13))/LOG(2))))","v":0},null,{"$f":"N13","v":0},{"$f":"COUNTIF(L29:L39,AD13)","v":0},{"$f":"AE13/(AG4-AE8)","v":0},{"$f":"IF(AF13=0,0,(AF13*((LOG(AF13))/LOG(2))))","v":0},null,{"$f":"N13","v":0},{"$f":"COUNTIF(L40:L50,AI13)","v":0},{"$f":"AJ13/(AL4-AJ8)","v":0},{"$f":"IF(AK13=0,0,(AK13*((LOG(AK13))/LOG(2))))","v":0},null,{"$f":"N13","v":0},{"$f":"COUNTIF(L51:L61,AN13)","v":0},{"$f":"AO13/(AQ4-AO8)","v":0},{"$f":"IF(AP13=0,0,(AP13*((LOG(AP13))/LOG(2))))","v":0},null,{"$f":"N13","v":0},{"$f":"COUNTIF(L62:L72,AS13)","v":0},{"$f":"AT13/(AV4-AT8)","v":0},{"$f":"IF(AU13=0,0,(AU13*((LOG(AU13))/LOG(2))))","v":0}]
[11,960,21,976,null,null,null,null,null,null,0,12,null,null,null,null,null,null,null,{"$f":"N14","v":0},{"$f":"COUNTIF(L7:L17,T14)","v":0},{"$f":"U14/(W4-U8)","v":0},{"$f":"IF(V14=0,0,(V14*((LOG(V14))/LOG(2))))","v":0},null,{"$f":"N14","v":0},{"$f":"COUNTIF(L18:L28,Y14)","v":0},{"$f":"Z14/(AB4-Z8)","v":0},{"$f":"IF(AA14=0,0,(AA14*((LOG(AA14))/LOG(2))))","v":0},null,{"$f":"N14","v":0},{"$f":"COUNTIF(L29:L39,AD14)","v":0},{"$f":"AE14/(AG4-AE8)","v":0},{"$f":"IF(AF14=0,0,(AF14*((LOG(AF14))/LOG(2))))","v":0},null,{"$f":"N14","v":0},{"$f":"COUNTIF(L40:L50,AI14)","v":0},{"$f":"AJ14/(AL4-AJ8)","v":0},{"$f":"IF(AK14=0,0,(AK14*((LOG(AK14))/LOG(2))))","v":0},null,{"$f":"N14","v":0},{"$f":"COUNTIF(L51:L61,AN14)","v":0},{"$f":"AO14/(AQ4-AO8)","v":0},{"$f":"IF(AP14=0,0,(AP14*((LOG(AP14))/LOG(2))))","v":0},null,{"$f":"N14","v":0},{"$f":"COUNTIF(L62:L72,AS14)","v":0},{"$f":"AT14/(AV4-AT8)","v":0},{"$f":"IF(AU14=0,0,(AU14*((LOG(AU14))/LOG(2))))","v":0}]
[11,1078,21,1181,null,null,null,null,null,null,0,12,null,null,null,{"$f":"SUM(P7:P14)","v":0.99999999999999989},{"$f":"-SUM(Q7:Q14)","v":1.2002108662962867},null,null,null,null,{"$f":"SUM(V7:V14)","v":1},{"$f":"-SUM(W7:W14)","v":0},null,null,null,{"$f":"SUM(AA7:AA14)","v":1},{"$f":"-SUM(AB7:AB14)","v":0},null,null,null,{"$f":"SUM(AF7:AF14)","v":1},{"$f":"-SUM(AG7:AG14)","v":0},null,null,null,{"$f":"SUM(AK7:AK14)","v":1},{"$f":"-SUM(AL7:AL14)","v":0.65002242164835411},null,null,null,{"$f":"SUM(AP7:AP14)","v":1},{"$f":"-SUM(AQ7:AQ14)","v":0.65002242164835411},null,null,null,{"$f":"SUM(AU7:AU14)","v":1},{"$f":"-SUM(AV7:AV14)","v":0.72192809488736231}]
[22,1276,14,1284,null,null,null,null,null,null,0,21,null,null,null,"U=",{"$f":"Q15/(LOG(Q4)/LOG(2))","v":0.19856595096146312},null,null,null,null,"U1=",{"$f":"W15/(LOG(W4)/LOG(2))","v":0},null,null,null,"U2=",{"$f":"AB15/(LOG(AB4)/LOG(2))","v":0},null,null,null,"U3=",{"$f":"AG15/(LOG(AG4)/LOG(2))","v":0},null,null,null,"U4=",{"$f":"AL15/(LOG(AL4)/LOG(2))","v":0.18789861841651431},null,null,null,"U5=",{"$f":"AQ15/(LOG(AQ4)/LOG(2))","v":0.18789861841651431},null,null,null,"U6=",{"$f":"AV15/(LOG(AV4)/LOG(2))","v":0.20868401936261902}]
[22,1377,14,1385,null,null,null,null,null,null,0,21]
[22,1481,14,1488,null,null,null,null,null,null,0,21]
[11,1600,21,1611,null,null,null,null,null,null,0,12,null,"Total Target Seq"]
[22,1709,14,1717,null,null,null,null,null,null,0,21,null,{"$f":"COUNTIF(L7:L72,G3)","v":37},null,11,11,11,11,11,11]
[11,1823,21,1854,null,null,null,null,null,null,0,12,null,null,null,"% of reinforcement given in 6 equal intervals based on number of trials "]
[22,1945,14,1953,null,null,null,null,null,null,0,21,null,null,null,"%_1","%_2","%_3","%_4","%_5","%_6"]
[11,2059,21,2081,null,null,null,null,null,null,0,12,null,null,"target sequence",{"$f":"$G$3","v":12},{"$f":"$G$3","v":12},{"$f":"$G$3","v":12},{"$f":"$G$3","v":12},{"$f":"$G$3","v":12},{"$f":"$G$3","v":12}]
[11,2186,21,2236,null,null,null,null,null,null,0,12,null,null,"total reinforcement",{"$f":"U8","v":7},{"$f":"Z8","v":8},{"$f":"AE8","v":6},{"$f":"AJ8","v":5},{"$f":"AO8","v":5},{"$f":"AT8","v":6}]
[11,2340,21,2357,null,null,null,null,null,null,0,12,null,null,"% target"]
[11,2459,21,2486,null,null,null,null,null,null,0,12,null,null,"CCRF"]
[11,2587,21,2631,null,null,null,null,null,null,0,12,null,null,"% CCRf"]
[11,2741,21,2755,null,null,null,null,null,null,0,12,null,null,"average response rate",{"$f":"D17/P20","v":125.90909090909091},{"$f":"(D28-D17)/Q20","v":124.54545454545455},{"$f":"(D39-D28)/R20","v":118.18181818181819},{"$f":"(D50-D39)/S20","v":120},{"$f":"(D61-D50)/T20","v":120.36363636363636},{"$f":"(D72-D61)/U20","v":128.09090909090909}]
[11,2857,21,2866,null,null,null,null,null,null,0,12]
[22,2961,14,2968,null,null,null,null,null,null,0,21]
[22,3065,14,3073,null,null,null,null,null,null,0,21]
[22,3171,14,3178,null,null,null,null,null,null,0,21]
[22,3293,14,3303,null,null,null,null,null,null,0,21]
[11,3409,21,3426,null,null,null,null,null,null,0,12]
[22,3518,14,3527,null,null,null,null,null,null,0,21]
[11,3634,21,3657,null,null,null,null,null,null,0,12]
[11,3760,21,3821,null,null,null,null,null,null,0,12]
[11,3922,21,3939,null,null,null,null,null,null,0,12]
[11,4046,21,4055,null,null,null,null,null,null,0,12]
[11,4158,21,4174,null,null,null,null,null,null,0,12]
[22,4283,23,4324,null,null,null,null,null,null,0,22]
[22,4437,14,4444,null,null,null,null,null,null,0,21]
[11,4558,21,4582,null,null,null,null,null,null,0,12]
[11,4688,21,4699,null,null,null,null,null,null,0,12]
[22,4792,14,4803,null,null,null,null,null,null,0,21]
[22,4899,14,4907,null,null,null,null,null,null,0,21]
[11,5013,21,5048,null,null,null,null,null,null,0,12]
[22,5145,14,5152,null,null,null,null,null,null,0,21]
[22,5248,14,5257,null,null,null,null,null,null,0,21]
[11,5354,21,5375,null,null,null,null,null,null,0,12]
[11,5479,21,5495,null,null,null,null,null,null,0,12]
[11,5600,21,5609,null,null,null,null,null,null,0,12]
[22,5707,14,5719,null,null,null,null,null,null,0,21]
[22,5817,14,5826,null,null,null,null,null,null,0,21]
[22,5927,14,5935,null,null,null,null,null,null,0,21]
[22,6036,14,6044,null,null,null,null,null,null,0,21]
[11,6160,21,6184,null,null,null,null,null,null,0,12]
[22,6280,14,6288,null,null,null,null,null,null,0,21]
[22,6390,23,6408,null,null,null,null,null,null,0,22]
[11,6516,21,6533,null,null,null,null,null,null,0,12]
[11,6637,21,6699,null,null,null,null,null,null,0,12]
[22,6798,14,6814,null,null,null,null,null,null,0,21]
[22,6920,23,6942,null,null,null,null,null,null,0,22]
[22,7042,14,7050,null,null,null,null,null,null,0,21]
[11,7160,21,7171,null,null,null,null,null,null,0,12]
[22,7267,14,7274,null,null,null,null,null,null,0,21]
[11,7377,21,7426,null,null,null,null,null,null,0,12]
[11,7531,21,7546,null,null,null,null,null,null,0,12]
[11,7656,21,7674,null,null,null,null,null,null,0,12]
[11,7780,21,7851,null,null,null,null,null,null,0,12]
[22,7966,14,7977,null,null,null,null,null,null,0,21]
[11,8097,21,8108,null,null,null,null,null,null,1,12]

{"sheet":"!N210900.095","index":10,"n_rows":83,"n_cols":48,"rows_kept":83,"cut":false,"hidden":false,"merged":[[4,39,4,42],[5,39,5,40],[4,44,4,47],[5,44,5,45],[4,24,4,27],[5,24,5,25],[4,29,4,32],[5,29,5,30],[4,34,4,37],[5,34,5,35],[1,1,1,2],[5,13,5,14],[18,13,18,14],[19,13,19,14],[4,19,4,22],[5,19,5,20]]}
["Report for:!N210900.095"]
["Date:","<date>"]
["Hen:","<hen>",null,null,null,"Correct Sequence",{"$f":"Start!J2","v":12},null,null,null,null,null,null,null,null,"Total Sequences in Data",{"$f":"4994-COUNTBLANK(L7:L5000)","v":77},null,null,null,null,"Total Sequences in Block Data",{"$f":"COUNTA(L7:L19)","v":13},null,null,null,"Total Sequences in Block Data",{"$f":"COUNTA(L20:L32)","v":13},null,null,null,"Total Sequences in Block Data",{"$f":"COUNTA(L33:L44)","v":12},null,null,null,"Total Sequences in Block Data",{"$f":"COUNTA(L45:L57)","v":13},null,null,null,"Total Sequences in Block Data",{"$f":"COUNTA(L58:L70)","v":13},null,null,null,"Total Sequences in Block Data",{"$f":"COUNTA(L71:L83)","v":13}]
[null,null,null,null,null,null,null,null,null,null,null,null,null,null,null,"Total Sequences in Summary",{"$f":"SUM(O7:O14)","v":77},null,null,null,null,"Total Sequences in Block Summary",{"$f":"SUM(U7:U14)","v":13},null,null,null,"Total Sequences in Block Summary",{"$f":"SUM(Z7:Z14)","v":13},null,null,null,"Total Sequences in Block Summary",{"$f":"SUM(AE7:AE14)","v":12},null,null,null,"Total Sequences in Block Summary",{"$f":"SUM(AJ7:AJ14)","v":13},null,null,null,"Total Sequences in Block Summary",{"$f":"SUM(AO7:AO14)","v":13},null,null,null,"Total Sequences in Block Summary",{"$f":"SUM(AT7:AT14)","v":13}]
[null,null,null,null,null,null,null,null,null,null,null,null,null,null,null,null,null,null,null,"Block 1",null,null,null,null,"Block 2",null,null,null,null,"Block 3",null,null,null,null,"Block 4",null,null,null,null,"Block 5",null,null,null,null,"Block 6"]
["Sequence\nComponent\n1","Time\n1","Sequence\nComponent\n2","Time\n2","Sequence\nComponent\n3","Time\n3","Sequence\nComponent\n4","Time\n4","Sequence\nComponent\n5","Time\n5","Correct?\n0=No 1=Yes","Sequence",null,"Frequency",null,"Relative Frequency","Variability",null,null,"Frequency",null,"Relative Frequency","Variability",null,"Frequency",null,"Relative Frequency","Variability",null,"Frequency",null,"Relative Frequency","Variability",null,"Frequency",null,"Relative Frequency","Variability",null,"Frequency",null,"Relative Frequency","Variability",null,"Frequency",null,"Relative Frequency","Variability"]
[11,25,21,66,null,null,null,null,null,null,0,12,null,11,{"$f":"COUNTIF($L$7:$L$500,N7)","v":3},{"$f":"O7/$Q$4","v":3.896103896103896E-2},{"$f":"IF(P7=0,0,(P7*((LOG(P7))/LOG(2))))","v":-0.18240872883014592},null,null,{"$f":"N7","v":11},{"$f":"COUNTIF(L7:L19,T7)","v":0},{"$f":"U7/(W4-U8)","v":0},{"$f":"IF(V7=0,0,(V7*((LOG(V7))/LOG(2))))","v":0},null,{"$f":"N7","v":11},{"$f":"COUNTIF(L20:L32,Y7)","v":2},{"$f":"Z7/(AB4-Z8)","v":0.25},{"$f":"IF(AA7=0,0,(AA7*((LOG(AA7))/LOG(2))))","v":-0.5},null,{"$f":"N7","v":11},{"$f":"COUNTIF(L33:L44,AD7)","v":0},{"$f":"AE7/(AG4-AE8)","v":0},{"$f":"IF(AF7=0,0,(AF7*((LOG(AF7))/LOG(2))))","v":0},null,{"$f":"N7","v":11},{"$f":"COUNTIF(L45:L57,AI7)","v":0},{"$f":"AJ7/(AL4-AJ8)","v":0},{"$f":"IF(AK7=0,0,(AK7*((LOG(AK7))/LOG(2))))","v":0},null,{"$f":"N7","v":11},{"$f":"COUNTIF(L58:L70,AN7)","v":1},{"$f":"AO7/(AQ4-AO8)","v":0.14285714285714285},{"$f":"IF(AP7=0,0,(AP7*((LOG(AP7))/LOG(2))))","v":-0.40105070315108626},null,{"$f":"N7","v":11},{"$f":"COUNTIF(L71:L83,AS7)","v":0},{"$f":"AT7/(AV4-AT8)","v":0},{"$f":"IF(AU7=0,0,(AU7*((LOG(AU7))/LOG(2))))","v":0}]
[22,156,23,186,null,null,null,null,null,null,0,22,null,12,{"$f":"COUNTIF($L$7:$L$500,N8)","v":35},{"$f":"O8/$Q$4","v":0.45454545454545453},{"$f":"IF(P8=0,0,(P8*((LOG(P8))/LOG(2))))","v":-0.51704705624997038},null,null,{"$f":"N8","v":12},{"$f":"COUNTIF(L7:L19,T8)","v":6},null,null,null,{"$f":"N8","v":12},{"$f":"COUNTIF(L20:L32,Y8)","v":5},null,null,null,{"$f":"N8","v":12},{"$f":"COUNTIF(L33:L44,AD8)","v":2},null,null,null,{"$f":"N8","v":12},{"$f":"COUNTIF(L45:L57,AI8)","v":5},null,null,null,{"$f":"N8","v":12},{"$f":"COUNTIF(L58:L70,AN8)","v":6},null,null,null,{"$f":"N8","v":12},{"$f":"COUNTIF(L71:L83,AS8)","v":11}]
[22,287,14,295,null,null,null,null,null,null,0,21,null,21,{"$f":"COUNTIF($L$7:$L$500,N9)","v":34},{"$f":"O9/$Q$4","v":0.44155844155844154},{"$f":"IF(P9=0,0,(P9*((LOG(P9))/LOG(2))))","v":-0.52074033481967663},null,null,{"$f":"N9","v":21},{"$f":"COUNTIF(L7:L19,T9)","v":5},{"$f":"U9/(W4-U8)","v":0.7142857142857143},{"$f":"IF(V9=0,0,(V9*((LOG(V9))/LOG(2))))","v":-0.34673344797874411},null,{"$f":"N9","v":21},{"$f":"COUNTIF(L20:L32,Y9)","v":6},{"$f":"Z9/(AB4-Z8)","v":0.75},{"$f":"IF(AA9=0,0,(AA9*((LOG(AA9))/LOG(2))))","v":-0.31127812445913283},null,{"$f":"N9","v":21},{"$f":"COUNTIF(L33:L44,AD9)","v":10},{"$f":"AE9/(AG4-AE8)","v":1},{"$f":"IF(AF9=0,0,(AF9*((LOG(AF9))/LOG(2))))","v":0},null,{"$f":"N9","v":21},{"$f":"COUNTIF(L45:L57,AI9)","v":7},{"$f":"AJ9/(AL4-AJ8)","v":0.875},{"$f":"IF(AK9=0,0,(AK9*((LOG(AK9))/LOG(2))))","v":-0.1685644431995964},null,{"$f":"N9","v":21},{"$f":"COUNTIF(L58:L70,AN9)","v":5},{"$f":"AO9/(AQ4-AO8)","v":0.7142857142857143},{"$f":"IF(AP9=0,0,(AP9*((LOG(AP9))/LOG(2))))","v":-0.34673344797874411},null,{"$f":"N9","v":21},{"$f":"COUNTIF(L71:L83,AS9)","v":1},{"$f":"AT9/(AV4-AT8)","v":0.5},{"$f":"IF(AU9=0,0,(AU9*((LOG(AU9))/LOG(2))))","v":-0.5}]
[11,404,21,412,null,null,null,null,null,null,0,12,null,22,{"$f":"COUNTIF($L$7:$L$500,N10)","v":5},{"$f":"O10/$Q$4","v":6.4935064935064929E-2},{"$f":"IF(P10=0,0,(P10*((LOG(P10))/LOG(2))))","v":-0.25615963933815183},null,null,{"$f":"N10","v":22},{"$f":"COUNTIF(L7:L19,T10)","v":2},{"$f":"U10/(W4-U8)","v":0.2857142857142857},{"$f":"IF(V10=0,0,(V10*((LOG(V10))/LOG(2))))","v":-0.51638712058788683},null,{"$f":"N10","v":22},{"$f":"COUNTIF(L20:L32,Y10)","v":0},{"$f":"Z10/(AB4-Z8)","v":0},{"$f":"IF(AA10=0,0,(AA10*((LOG(AA10))/LOG(2))))","v":0},null,{"$f":"N10","v":22},{"$f":"COUNTIF(L33:L44,AD10)","v":0},{"$f":"AE10/(AG4-AE8)","v":0},{"$f":"IF(AF10=0,0,(AF10*((LOG(AF10))/LOG(2))))","v":0},null,{"$f":"N10","v":22},{"$f":"COUNTIF(L45:L57,AI10)","v":1},{"$f":"AJ10/(AL4-AJ8)","v":0.125},{"$f":"IF(AK10=0,0,(AK10*((LOG(AK10))/LOG(2))))","v":-0.375},null,{"$f":"N10","v":22},{"$f":"COUNTIF(L58:L70,AN10)","v":1},{"$f":"AO10/(AQ4-AO8)","v":0.14285714285714285},{"$f":"IF(AP10=0,0,(AP10*((LOG(AP10))/LOG(2))))","v":-0.40105070315108626},null,{"$f":"N10","v":22},{"$f":"COUNTIF(L71:L83,AS10)","v":1},{"$f":"AT10/(AV4-AT8)","v":0.5},{"$f":"IF(AU10=0,0,(AU10*((LOG(AU10))/LOG(2))))","v":-0.5}]
[22,504,23,511,null,null,null,null,null,null,0,22,null,null,null,null,null,null,null,{"$f":"N11","v":0},{"$f":"COUNTIF(L7:L19,T11)","v":0},{"$f":"U11/(W4-U8)","v":0},{"$f":"IF(V11=0,0,(V11*((LOG(V11))/LOG(2))))","v":0},null,{"$f":"N11","v":0},{"$f":"COUNTIF(L20:L32,Y11)","v":0},{"$f":"Z11/(AB4-Z8)","v":0},{"$f":"IF(AA11=0,0,(AA11*((LOG(AA11))/LOG(2))))","v":0},null,{"$f":"N11","v":0},{"$f":"COUNTIF(L33:L44,AD11)","v":0},{"$f":"AE11/(AG4-AE8)","v":0},{"$f":"IF(AF11=0,0,(AF11*((LOG(AF11))/LOG(2))))","v":0},null,{"$f":"N11","v":0},{"$f":"COUNTIF(L45:L57,AI11)","v":0},{"$f":"AJ11/(AL4-AJ8)","v":0},{"$f":"IF(AK11=0,0,(AK11*((LOG(AK11))/LOG(2))))","v":0},null,{"$f":"N11","v":0},{"$f":"COUNTIF(L58:L70,AN11)","v":0},{"$f":"AO11/(AQ4-AO8)","v":0},{"$f":"IF(AP11=0,0,(AP11*((LOG(AP11))/LOG(2))))","v":0},null,{"$f":"N11","v":0},{"$f":"COUNTIF(L71:L83,AS11)","v":0},{"$f":"AT11/(AV4-AT8)","v":0},{"$f":"IF(AU11=0,0,(AU11*((LOG(AU11))/LOG(2))))","v":0}]
[22,607,14,625,null,null,null,null,null,null,0,21,null,null,null,null,null,null,null,{"$f":"N12","v":0},{"$f":"COUNTIF(L7:L19,T12)","v":0},{"$f":"U12/(W4-U8)","v":0},{"$f":"IF(V12=0,0,(V12*((LOG(V12))/LOG(2))))","v":0},null,{"$f":"N12","v":0},{"$f":"COUNTIF(L20:L32,Y12)","v":0},{"$f":"Z12/(AB4-Z8)","v":0},{"$f":"IF(AA12=0,0,(AA12*((LOG(AA12))/LOG(2))))","v":0},null,{"$f":"N12","v":0},{"$f":"COUNTIF(L33:L44,AD12)","v":0},{"$f":"AE12/(AG4-AE8)","v":0},{"$f":"IF(AF12=0,0,(AF12*((LOG(AF12))/LOG(2))))","v":0},null,{"$f":"N12","v":0},{"$f":"COUNTIF(L45:L57,AI12)","v":0},{"$f":"AJ12/(AL4-AJ8)","v":0},{"$f":"IF(AK12=0,0,(AK12*((LOG(AK12))/LOG(2))))","v":0},null,{"$f":"N12","v":0},{"$f":"COUNTIF(L58:L70,AN12)","v":0},{"$f":"AO12/(AQ4-AO8)","v":0},{"$f":"IF(AP12=0,0,(AP12*((LOG(AP12))/LOG(2))))","v":0},null,{"$f":"N12","v":0},{"$f":"COUNTIF(L71:L83,AS12)","v":0},{"$f":"AT12/(AV4-AT8)","v":0},{"$f":"IF(AU12=0,0,(AU12*((LOG(AU12))/LOG(2))))","v":0}]
[22,724,14,736,null,null,null,null,null,null,0,21,null,null,null,null,null,null,null,{"$f":"N13","v":0},{"$f":"COUNTIF(L7:L19,T13)","v":0},{"$f":"U13/(W4-U8)","v":0},{"$f":"IF(V13=0,0,(V13*((LOG(V13))/LOG(2))))","v":0},null,{"$f":"N13","v":0},{"$f":"COUNTIF(L20:L32,Y13)","v":0},{"$f":"Z13/(AB4-Z8)","v":0},{"$f":"IF(AA13=0,0,(AA13*((LOG(AA13))/LOG(2))))","v":0},null,{"$f":"N13","v":0},{"$f":"COUNTIF(L33:L44,AD13)","v":0},{"$f":"AE13/(AG4-AE8)","v":0},{"$f":"IF(AF13=0,0,(AF13*((LOG(AF13))/LOG(2))))","v":0},null,{"$f":"N13","v":0},{"$f":"COUNTIF(L45:L57,AI13)","v":0},{"$f":"AJ13/(AL4-AJ8)","v":0},{"$f":"IF(AK13=0,0,(AK13*((LOG(AK13))/LOG(2))))","v":0},null,{"$f":"N13","v":0},{"$f":"COUNTIF(L58:L70,AN13)","v":0},{"$f":"AO13/(AQ4-AO8)","v":0},{"$f":"IF(AP13=0,0,(AP13*((LOG(AP13))/LOG(2))))","v":0},null,{"$f":"N13","v":0},{"$f":"COUNTIF(L71:L83,AS13)","v":0},{"$f":"AT13/(AV4-AT8)","v":0},{"$f":"IF(AU13=0,0,(AU13*((LOG(AU13))/LOG(2))))","v":0}]
[11,843,21,859,null,null,null,null,null,null,0,12,null,null,null,null,null,null,null,{"$f":"N14","v":0},{"$f":"COUNTIF(L7:L19,T14)","v":0},{"$f":"U14/(W4-U8)","v":0},{"$f":"IF(V14=0,0,(V14*((LOG(V14))/LOG(2))))","v":0},null,{"$f":"N14","v":0},{"$f":"COUNTIF(L20:L32,Y14)","v":0},{"$f":"Z14/(AB4-Z8)","v":0},{"$f":"IF(AA14=0,0,(AA14*((LOG(AA14))/LOG(2))))","v":0},null,{"$f":"N14","v":0},{"$f":"COUNTIF(L33:L44,AD14)","v":0},{"$f":"AE14/(AG4-AE8)","v":0},{"$f":"IF(AF14=0,0,(AF14*((LOG(AF14))/LOG(2))))","v":0},null,{"$f":"N14","v":0},{"$f":"COUNTIF(L45:L57,AI14)","v":0},{"$f":"AJ14/(AL4-AJ8)","v":0},{"$f":"IF(AK14=0,0,(AK14*((LOG(AK14))/LOG(2))))","v":0},null,{"$f":"N14","v":0},{"$f":"COUNTIF(L58:L70,AN14)","v":0},{"$f":"AO14/(AQ4-AO8)","v":0},{"$f":"IF(AP14=0,0,(AP14*((LOG(AP14))/LOG(2))))","v":0},null,{"$f":"N14","v":0},{"$f":"COUNTIF(L71:L83,AS14)","v":0},{"$f":"AT14/(AV4-AT8)","v":0},{"$f":"IF(AU14=0,0,(AU14*((LOG(AU14))/LOG(2))))","v":0}]
[11,961,21,1039,null,null,null,null,null,null,0,12,null,null,null,{"$f":"SUM(P7:P14)","v":1},{"$f":"-SUM(Q7:Q14)","v":1.4763557592379446},null,null,null,null,{"$f":"SUM(V7:V14)","v":1},{"$f":"-SUM(W7:W14)","v":0.863120568566631},null,null,null,{"$f":"SUM(AA7:AA14)","v":1},{"$f":"-SUM(AB7:AB14)","v":0.81127812445913283},null,null,null,{"$f":"SUM(AF7:AF14)","v":1},{"$f":"-SUM(AG7:AG14)","v":0},null,null,null,{"$f":"SUM(AK7:AK14)","v":1},{"$f":"-SUM(AL7:AL14)","v":0.5435644431995964},null,null,null,{"$f":"SUM(AP7:AP14)","v":1},{"$f":"-SUM(AQ7:AQ14)","v":1.1488348542809166},null,null,null,{"$f":"SUM(AU7:AU14)","v":1},{"$f":"-SUM(AV7:AV14)","v":1}]
[11,1140,21,1155,null,null,null,null,null,null,0,12,null,null,null,"U=",{"$f":"Q15/(LOG(Q4)/LOG(2))","v":0.23558417853406524},null,null,null,null,"U1=",{"$f":"W15/(LOG(W4)/LOG(2))","v":0.23324810949770525},null,null,null,"U2=",{"$f":"AB15/(LOG(AB4)/LOG(2))","v":0.21923830308109346},null,null,null,"U3=",{"$f":"AG15/(LOG(AG4)/LOG(2))","v":0},null,null,null,"U4=",{"$f":"AL15/(LOG(AL4)/LOG(2))","v":0.14689185194257259},null,null,null,"U5=",{"$f":"AQ15/(LOG(AQ4)/LOG(2))","v":0.3104590107626537},null,null,null,"U6=",{"$f":"AV15/(LOG(AV4)/LOG(2))","v":0.27023815442731974}]
[11,1260,21,1289,null,null,null,null,null,null,0,12]
[22,1383,14,1391,null,null,null,null,null,null,0,21]
[22,1490,14,1497,null,null,null,null,null,null,0,21,null,"Total Target Seq"]
[11,1598,12,1606,null,null,null,null,null,null,0,11,null,{"$f":"COUNTIF(L7:L83,G3)","v":35},null,13,13,12,13,13,13]
[22,1702,14,1713,null,null,null,null,null,null,0,21,null,null,null,"% of reinforcement given in 6 equal intervals based on number of trials "]
[22,1810,14,1818,null,null,null,null,null,null,0,21,null,null,null,"%_1","%_2","%_3","%_4","%_5","%_6"]
[11,1921,21,1948,null,null,null,null,null,null,0,12,null,null,"target sequence",{"$f":"$G$3","v":12},{"$f":"$G$3","v":12},{"$f":"$G$3","v":12},{"$f":"$G$3","v":12},{"$f":"$G$3","v":12},{"$f":"$G$3","v":12}]
[11,2054,21,2065,null,null,null,null,null,null,0,12,null,null,"total reinforcement",{"$f":"U8","v":6},{"$f":"Z8","v":5},{"$f":"AE8","v":2},{"$f":"AJ8","v":5},{"$f":"AO8","v":6},{"$f":"AT8","v":11}]
[22,2161,14,2168,null,null,null,null,null,null,0,21,null,null,"% target"]
[11,2275,21,2332,null,null,null,null,null,null,0,12,null,null,"CCRF"]
[11,2437,21,2510,null,null,null,null,null,null,0,12,null,null,"% CCRf"]
[11,2610,12,2628,null,null,null,null,null,null,0,11,null,null,"average response rate",{"$f":"D19/P20","v":115.15384615384616},{"$f":"(D32-D19)/Q20","v":120.15384615384616},{"$f":"(D44-D32)/R20","v":112.25},{"$f":"(D57-D44)/S20","v":128.23076923076923},{"$f":"(D70-D57)/T20","v":165.07692307692307},{"$f":"(D83-D70)/U20","v":193.76923076923077}]
[22,2724,14,2732,null,null,null,null,null,null,0,21]
[11,2837,21,2854,null,null,null,null,null,null,0,12]
[22,2947,14,2954,null,null,null,null,null,null,0,21]
[22,3051,14,3059,null,null,null,null,null,null,0,21]
[22,3162,14,3169,null,null,null,null,null,null,0,21]
[11,3272,21,3306,null,null,null,null,null,null,0,12]
[22,3405,14,3412,null,null,null,null,null,null,0,21]
[22,3514,14,3521,null,null,null,null,null,null,0,21]
[22,3621,14,3629,null,null,null,null,null,null,0,21]
[22,3727,14,3735,null,null,null,null,null,null,0,21]
[22,3832,14,3840,null,null,null,null,null,null,0,21]
[22,3944,14,3952,null,null,null,null,null,null,0,21]
[22,4049,14,4057,null,null,null,null,null,null,0,21]
[11,4159,21,4194,null,null,null,null,null,null,0,12]
[22,4288,14,4295,null,null,null,null,null,null,0,21]
[22,4391,14,4406,null,null,null,null,null,null,0,21]
[22,4503,14,4512,null,null,null,null,null,null,0,21]
[22,4614,14,4622,null,null,null,null,null,null,0,21]
[11,4732,21,4751,null,null,null,null,null,null,0,12]
[22,4917,14,4924,null,null,null,null,null,null,0,21]
[22,5020,23,5028,null,null,null,null,null,null,0,22]
[11,5134,21,5151,null,null,null,null,null,null,0,12]
[11,5250,21,5260,null,null,null,null,null,null,0,12]
[22,5352,14,5360,null,null,null,null,null,null,0,21]
[22,5461,14,5468,null,null,null,null,null,null,0,21]
[11,5685,21,5702,null,null,null,null,null,null,0,12]
[22,5798,14,5809,null,null,null,null,null,null,0,21]
[11,5925,21,5969,null,null,null,null,null,null,0,12]
[22,6065,14,6073,null,null,null,null,null,null,0,21]
[11,6183,21,6203,null,null,null,null,null,null,0,12]
[11,6303,21,6380,null,null,null,null,null,null,0,12]
[11,6483,21,6517,null,null,null,null,null,null,0,12]
[22,6610,23,6617,null,null,null,null,null,null,0,22]
[11,6729,21,6738,null,null,null,null,null,null,0,12]
[22,6838,14,6847,null,null,null,null,null,null,0,21]
[22,6948,14,6964,null,null,null,null,null,null,0,21]
[22,7106,14,7117,null,null,null,null,null,null,0,21]
[11,7549,21,7560,null,null,null,null,null,null,0,12]
[22,7700,14,7709,null,null,null,null,null,null,0,21]
[11,7825,12,7844,null,null,null,null,null,null,0,11]
[11,8033,21,8083,null,null,null,null,null,null,0,12]
[22,8189,14,8219,null,null,null,null,null,null,0,21]
[11,8332,21,8349,null,null,null,null,null,null,0,12]
[11,8478,21,8520,null,null,null,null,null,null,0,12]
[11,8803,21,8820,null,null,null,null,null,null,0,12]
[11,8933,21,8948,null,null,null,null,null,null,0,12]
[11,9170,21,9182,null,null,null,null,null,null,0,12]
[22,9283,23,9297,null,null,null,null,null,null,0,22]
[11,9529,21,9538,null,null,null,null,null,null,0,12]
[22,9643,14,9651,null,null,null,null,null,null,0,21]
[11,9759,21,9770,null,null,null,null,null,null,0,12]
[11,9882,21,9922,null,null,null,null,null,null,0,12]
[11,10042,21,10062,null,null,null,null,null,null,0,12]
[11,10185,21,10204,null,null,null,null,null,null,0,12]
[11,10726,21,10738,null,null,null,null,null,null,1,12]

{"sheet":"!N211A30.095","index":11,"n_rows":82,"n_cols":48,"rows_kept":82,"cut":false,"hidden":false,"merged":[[4,39,4,42],[5,39,5,40],[4,44,4,47],[5,44,5,45],[4,24,4,27],[5,24,5,25],[4,29,4,32],[5,29,5,30],[4,34,4,37],[5,34,5,35],[1,1,1,2],[5,13,5,14],[18,13,18,14],[19,13,19,14],[4,19,4,22],[5,19,5,20]]}
["Report for:!N211A30.095"]
["Date:","<date>"]
["Hen:","<hen>",null,null,null,"Correct Sequence",{"$f":"Start!J2","v":12},null,null,null,null,null,null,null,null,"Total Sequences in Data",{"$f":"4994-COUNTBLANK(L7:L5000)","v":76},null,null,null,null,"Total Sequences in Block Data",{"$f":"COUNTA(L7:L19)","v":13},null,null,null,"Total Sequences in Block Data",{"$f":"COUNTA(L20:L31)","v":12},null,null,null,"Total Sequences in Block Data",{"$f":"COUNTA(L32:L44)","v":13},null,null,null,"Total Sequences in Block Data",{"$f":"COUNTA(L45:L57)","v":13},null,null,null,"Total Sequences in Block Data",{"$f":"COUNTA(L58:L69)","v":12},null,null,null,"Total Sequences in Block Data",{"$f":"COUNTA(L70:L82)","v":13}]
[null,null,null,null,null,null,null,null,null,null,null,null,null,null,null,"Total Sequences in Summary",{"$f":"SUM(O7:O14)","v":76},null,null,null,null,"Total Sequences in Block Summary",{"$f":"SUM(U7:U14)","v":13},null,null,null,"Total Sequences in Block Summary",{"$f":"SUM(Z7:Z14)","v":12},null,null,null,"Total Sequences in Block Summary",{"$f":"SUM(AE7:AE14)","v":13},null,null,null,"Total Sequences in Block Summary",{"$f":"SUM(AJ7:AJ14)","v":13},null,null,null,"Total Sequences in Block Summary",{"$f":"SUM(AO7:AO14)","v":12},null,null,null,"Total Sequences in Block Summary",{"$f":"SUM(AT7:AT14)","v":13}]
[null,null,null,null,null,null,null,null,null,null,null,null,null,null,null,null,null,null,null,"Block 1",null,null,null,null,"Block 2",null,null,null,null,"Block 3",null,null,null,null,"Block 4",null,null,null,null,"Block 5",null,null,null,null,"Block 6"]
["Sequence\nComponent\n1","Time\n1","Sequence\nComponent\n2","Time\n2","Sequence\nComponent\n3","Time\n3","Sequence\nComponent\n4","Time\n4","Sequence\nComponent\n5","Time\n5","Correct?\n0=No 1=Yes","Sequence",null,"Frequency",null,"Relative Frequency","Variability",null,null,"Frequency",null,"Relative Frequency","Variability",null,"Frequency",null,"Relative Frequency","Variability",null,"Frequency",null,"Relative Frequency","Variability",null,"Frequency",null,"Relative Frequency","Variability",null,"Frequency",null,"Relative Frequency","Variability",null,"Frequency",null,"Relative Frequency","Variability"]
[22,11,14,19,null,null,null,null,null,null,0,21,null,11,{"$f":"COUNTIF($L$7:$L$500,N7)","v":8},{"$f":"O7/$Q$4","v":0.10526315789473684},{"$f":"IF(P7=0,0,(P7*((LOG(P7))/LOG(2))))","v":-0.34188710667827216},null,null,{"$f":"N7","v":11},{"$f":"COUNTIF(L7:L19,T7)","v":0},{"$f":"U7/(W4-U8)","v":0},{"$f":"IF(V7=0,0,(V7*((LOG(V7))/LOG(2))))","v":0},null,{"$f":"N7","v":11},{"$f":"COUNTIF(L20:L31,Y7)","v":1},{"$f":"Z7/(AB4-Z8)","v":0.14285714285714285},{"$f":"IF(AA7=0,0,(AA7*((LOG(AA7))/LOG(2))))","v":-0.40105070315108626},null,{"$f":"N7","v":11},{"$f":"COUNTIF(L32:L44,AD7)","v":2},{"$f":"AE7/(AG4-AE8)","v":0.33333333333333331},{"$f":"IF(AF7=0,0,(AF7*((LOG(AF7))/LOG(2))))","v":-0.52832083357371862},null,{"$f":"N7","v":11},{"$f":"COUNTIF(L45:L57,AI7)","v":1},{"$f":"AJ7/(AL4-AJ8)","v":0.16666666666666666},{"$f":"IF(AK7=0,0,(AK7*((LOG(AK7))/LOG(2))))","v":-0.43082708345352599},null,{"$f":"N7","v":11},{"$f":"COUNTIF(L58:L69,AN7)","v":1},{"$f":"AO7/(AQ4-AO8)","v":0.2},{"$f":"IF(AP7=0,0,(AP7*((LOG(AP7))/LOG(2))))","v":-0.46438561897747244},null,{"$f":"N7","v":11},{"$f":"COUNTIF(L70:L82,AS7)","v":3},{"$f":"AT7/(AV4-AT8)","v":0.42857142857142855},{"$f":"IF(AU7=0,0,(AU7*((LOG(AU7))/LOG(2))))","v":-0.52388246628704915}]
[22,116,14,125,null,null,null,null,null,null,0,21,null,12,{"$f":"COUNTIF($L$7:$L$500,N8)","v":36},{"$f":"O8/$Q$4","v":0.47368421052631576},{"$f":"IF(P8=0,0,(P8*((LOG(P8))/LOG(2))))","v":-0.51063276884270825},null,null,{"$f":"N8","v":12},{"$f":"COUNTIF(L7:L19,T8)","v":4},null,null,null,{"$f":"N8","v":12},{"$f":"COUNTIF(L20:L31,Y8)","v":5},null,null,null,{"$f":"N8","v":12},{"$f":"COUNTIF(L32:L44,AD8)","v":7},null,null,null,{"$f":"N8","v":12},{"$f":"COUNTIF(L45:L57,AI8)","v":7},null,null,null,{"$f":"N8","v":12},{"$f":"COUNTIF(L58:L69,AN8)","v":7},null,null,null,{"$f":"N8","v":12},{"$f":"COUNTIF(L70:L82,AS8)","v":6}]
[22,219,14,228,null,null,null,null,null,null,0,21,null,21,{"$f":"COUNTIF($L$7:$L$500,N9)","v":30},{"$f":"O9/$Q$4","v":0.39473684210526316},{"$f":"IF(P9=0,0,(P9*((LOG(P9))/LOG(2))))","v":-0.52935667809278963},null,null,{"$f":"N9","v":21},{"$f":"COUNTIF(L7:L19,T9)","v":9},{"$f":"U9/(W4-U8)","v":1},{"$f":"IF(V9=0,0,(V9*((LOG(V9))/LOG(2))))","v":0},null,{"$f":"N9","v":21},{"$f":"COUNTIF(L20:L31,Y9)","v":5},{"$f":"Z9/(AB4-Z8)","v":0.7142857142857143},{"$f":"IF(AA9=0,0,(AA9*((LOG(AA9))/LOG(2))))","v":-0.34673344797874411},null,{"$f":"N9","v":21},{"$f":"COUNTIF(L32:L44,AD9)","v":4},{"$f":"AE9/(AG4-AE8)","v":0.66666666666666663},{"$f":"IF(AF9=0,0,(AF9*((LOG(AF9))/LOG(2))))","v":-0.38997500048077083},null,{"$f":"N9","v":21},{"$f":"COUNTIF(L45:L57,AI9)","v":5},{"$f":"AJ9/(AL4-AJ8)","v":0.83333333333333337},{"$f":"IF(AK9=0,0,(AK9*((LOG(AK9))/LOG(2))))","v":-0.21919533819482812},null,{"$f":"N9","v":21},{"$f":"COUNTIF(L58:L69,AN9)","v":4},{"$f":"AO9/(AQ4-AO8)","v":0.8},{"$f":"IF(AP9=0,0,(AP9*((LOG(AP9))/LOG(2))))","v":-0.25754247590988982},null,{"$f":"N9","v":21},{"$f":"COUNTIF(L70:L82,AS9)","v":3},{"$f":"AT9/(AV4-AT8)","v":0.42857142857142855},{"$f":"IF(AU9=0,0,(AU9*((LOG(AU9))/LOG(2))))","v":-0.52388246628704915}]
[11,340,21,352,null,null,null,null,null,null,0,12,null,22,{"$f":"COUNTIF($L$7:$L$500,N10)","v":2},{"$f":"O10/$Q$4","v":2.6315789473684209E-2},{"$f":"IF(P10=0,0,(P10*((LOG(P10))/LOG(2))))","v":-0.13810335561693646},null,null,{"$f":"N10","v":22},{"$f":"COUNTIF(L7:L19,T10)","v":0},{"$f":"U10/(W4-U8)","v":0},{"$f":"IF(V10=0,0,(V10*((LOG(V10))/LOG(2))))","v":0},null,{"$f":"N10","v":22},{"$f":"COUNTIF(L20:L31,Y10)","v":1},{"$f":"Z10/(AB4-Z8)","v":0.14285714285714285},{"$f":"IF(AA10=0,0,(AA10*((LOG(AA10))/LOG(2))))","v":-0.40105070315108626},null,{"$f":"N10","v":22},{"$f":"COUNTIF(L32:L44,AD10)","v":0},{"$f":"AE10/(AG4-AE8)","v":0},{"$f":"IF(AF10=0,0,(AF10*((LOG(AF10))/LOG(2))))","v":0},null,{"$f":"N10","v":22},{"$f":"COUNTIF(L45:L57,AI10)","v":0},{"$f":"AJ10/(AL4-AJ8)","v":0},{"$f":"IF(AK10=0,0,(AK10*((LOG(AK10))/LOG(2))))","v":0},null,{"$f":"N10","v":22},{"$f":"COUNTIF(L58:L69,AN10)","v":0},{"$f":"AO10/(AQ4-AO8)","v":0},{"$f":"IF(AP10=0,0,(AP10*((LOG(AP10))/LOG(2))))","v":0},null,{"$f":"N10","v":22},{"$f":"COUNTIF(L70:L82,AS10)","v":1},{"$f":"AT10/(AV4-AT8)","v":0.14285714285714285},{"$f":"IF(AU10=0,0,(AU10*((LOG(AU10))/LOG(2))))","v":-0.40105070315108626}]
[22,443,14,452,null,null,null,null,null,null,0,21,null,null,null,null,null,null,null,{"$f":"N11","v":0},{"$f":"COUNTIF(L7:L19,T11)","v":0},{"$f":"U11/(W4-U8)","v":0},{"$f":"IF(V11=0,0,(V11*((LOG(V11))/LOG(2))))","v":0},null,{"$f":"N11","v":0},{"$f":"COUNTIF(L20:L31,Y11)","v":0},{"$f":"Z11/(AB4-Z8)","v":0},{"$f":"IF(AA11=0,0,(AA11*((LOG(AA11))/LOG(2))))","v":0},null,{"$f":"N11","v":0},{"$f":"COUNTIF(L32:L44,AD11)","v":0},{"$f":"AE11/(AG4-AE8)","v":0},{"$f":"IF(AF11=0,0,(AF11*((LOG(AF11))/LOG(2))))","v":0},null,{"$f":"N11","v":0},{"$f":"COUNTIF(L45:L57,AI11)","v":0},{"$f":"AJ11/(AL4-AJ8)","v":0},{"$f":"IF(AK11=0,0,(AK11*((LOG(AK11))/LOG(2))))","v":0},null,{"$f":"N11","v":0},{"$f":"COUNTIF(L58:L69,AN11)","v":0},{"$f":"AO11/(AQ4-AO8)","v":0},{"$f":"IF(AP11=0,0,(AP11*((LOG(AP11))/LOG(2))))","v":0},null,{"$f":"N11","v":0},{"$f":"COUNTIF(L70:L82,AS11)","v":0},{"$f":"AT11/(AV4-AT8)","v":0},{"$f":"IF(AU11=0,0,(AU11*((LOG(AU11))/LOG(2))))","v":0}]
[11,565,21,575,null,null,null,null,null,null,0,12,null,null,null,null,null,null,null,{"$f":"N12","v":0},{"$f":"COUNTIF(L7:L19,T12)","v":0},{"$f":"U12/(W4-U8)","v":0},{"$f":"IF(V12=0,0,(V12*((LOG(V12))/LOG(2))))","v":0},null,{"$f":"N12","v":0},{"$f":"COUNTIF(L20:L31,Y12)","v":0},{"$f":"Z12/(AB4-Z8)","v":0},{"$f":"IF(AA12=0,0,(AA12*((LOG(AA12))/LOG(2))))","v":0},null,{"$f":"N12","v":0},{"$f":"COUNTIF(L32:L44,AD12)","v":0},{"$f":"AE12/(AG4-AE8)","v":0},{"$f":"IF(AF12=0,0,(AF12*((LOG(AF12))/LOG(2))))","v":0},null,{"$f":"N12","v":0},{"$f":"COUNTIF(L45:L57,AI12)","v":0},{"$f":"AJ12/(AL4-AJ8)","v":0},{"$f":"IF(AK12=0,0,(AK12*((LOG(AK12))/LOG(2))))","v":0},null,{"$f":"N12","v":0},{"$f":"COUNTIF(L58:L69,AN12)","v":0},{"$f":"AO12/(AQ4-AO8)","v":0},{"$f":"IF(AP12=0,0,(AP12*((LOG(AP12))/LOG(2))))","v":0},null,{"$f":"N12","v":0},{"$f":"COUNTIF(L70:L82,AS12)","v":0},{"$f":"AT12/(AV4-AT8)","v":0},{"$f":"IF(AU12=0,0,(AU12*((LOG(AU12))/LOG(2))))","v":0}]
[22,670,14,678,null,null,null,null,null,null,0,21,null,null,null,null,null,null,null,{"$f":"N13","v":0},{"$f":"COUNTIF(L7:L19,T13)","v":0},{"$f":"U13/(W4-U8)","v":0},{"$f":"IF(V13=0,0,(V13*((LOG(V13))/LOG(2))))","v":0},null,{"$f":"N13","v":0},{"$f":"COUNTIF(L20:L31,Y13)","v":0},{"$f":"Z13/(AB4-Z8)","v":0},{"$f":"IF(AA13=0,0,(AA13*((LOG(AA13))/LOG(2))))","v":0},null,{"$f":"N13","v":0},{"$f":"COUNTIF(L32:L44,AD13)","v":0},{"$f":"AE13/(AG4-AE8)","v":0},{"$f":"IF(AF13=0,0,(AF13*((LOG(AF13))/LOG(2))))","v":0},null,{"$f":"N13","v":0},{"$f":"COUNTIF(L45:L57,AI13)","v":0},{"$f":"AJ13/(AL4-AJ8)","v":0},{"$f":"IF(AK13=0,0,(AK13*((LOG(AK13))/LOG(2))))","v":0},null,{"$f":"N13","v":0},{"$f":"COUNTIF(L58:L69,AN13)","v":0},{"$f":"AO13/(AQ4-AO8)","v":0},{"$f":"IF(AP13=0,0,(AP13*((LOG(AP13))/LOG(2))))","v":0},null,{"$f":"N13","v":0},{"$f":"COUNTIF(L70:L82,AS13)","v":0},{"$f":"AT13/(AV4-AT8)","v":0},{"$f":"IF(AU13=0,0,(AU13*((LOG(AU13))/LOG(2))))","v":0}]
[22,774,14,781,null,null,null,null,null,null,0,21,null,null,null,null,null,null,null,{"$f":"N14","v":0},{"$f":"COUNTIF(L7:L19,T14)","v":0},{"$f":"U14/(W4-U8)","v":0},{"$f":"IF(V14=0,0,(V14*((LOG(V14))/LOG(2))))","v":0},null,{"$f":"N14","v":0},{"$f":"COUNTIF(L20:L31,Y14)","v":0},{"$f":"Z14/(AB4-Z8)","v":0},{"$f":"IF(AA14=0,0,(AA14*((LOG(AA14))/LOG(2))))","v":0},null,{"$f":"N14","v":0},{"$f":"COUNTIF(L32:L44,AD14)","v":0},{"$f":"AE14/(AG4-AE8)","v":0},{"$f":"IF(AF14=0,0,(AF14*((LOG(AF14))/LOG(2))))","v":0},null,{"$f":"N14","v":0},{"$f":"COUNTIF(L45:L57,AI14)","v":0},{"$f":"AJ14/(AL4-AJ8)","v":0},{"$f":"IF(AK14=0,0,(AK14*((LOG(AK14))/LOG(2))))","v":0},null,{"$f":"N14","v":0},{"$f":"COUNTIF(L58:L69,AN14)","v":0},{"$f":"AO14/(AQ4-AO8)","v":0},{"$f":"IF(AP14=0,0,(AP14*((LOG(AP14))/LOG(2))))","v":0},null,{"$f":"N14","v":0},{"$f":"COUNTIF(L70:L82,AS14)","v":0},{"$f":"AT14/(AV4-AT8)","v":0},{"$f":"IF(AU14=0,0,(AU14*((LOG(AU14))/LOG(2))))","v":0}]
[11,887,21,921,null,null,null,null,null,null,0,12,null,null,null,{"$f":"SUM(P7:P14)","v":1},{"$f":"-SUM(Q7:Q14)","v":1.5199799092307065},null,null,null,null,{"$f":"SUM(V7:V14)","v":1},{"$f":"-SUM(W7:W14)","v":0},null,null,null,{"$f":"SUM(AA7:AA14)","v":1},{"$f":"-SUM(AB7:AB14)","v":1.1488348542809166},null,null,null,{"$f":"SUM(AF7:AF14)","v":1},{"$f":"-SUM(AG7:AG14)","v":0.91829583405448945},null,null,null,{"$f":"SUM(AK7:AK14)","v":1},{"$f":"-SUM(AL7:AL14)","v":0.65002242164835411},null,null,null,{"$f":"SUM(AP7:AP14)","v":1},{"$f":"-SUM(AQ7:AQ14)","v":0.72192809488736231},null,null,null,{"$f":"SUM(AU7:AU14)","v":1},{"$f":"-SUM(AV7:AV14)","v":1.4488156357251847}]
[22,1017,14,1025,null,null,null,null,null,null,0,21,null,null,null,"U=",{"$f":"Q15/(LOG(Q4)/LOG(2))","v":0.24327745575795898},null,null,null,null,"U1=",{"$f":"W15/(LOG(W4)/LOG(2))","v":0},null,null,null,"U2=",{"$f":"AB15/(LOG(AB4)/LOG(2))","v":0.32045937831980537},null,null,null,"U3=",{"$f":"AG15/(LOG(AG4)/LOG(2))","v":0.24815857141318151},null,null,null,"U4=",{"$f":"AL15/(LOG(AL4)/LOG(2))","v":0.17566085956262825},null,null,null,"U5=",{"$f":"AQ15/(LOG(AQ4)/LOG(2))","v":0.20137674933618921},null,null,null,"U6=",{"$f":"AV15/(LOG(AV4)/LOG(2))","v":0.39152526350381789}]
[11,1131,21,1185,null,null,null,null,null,null,0,12]
[22,1277,14,1285,null,null,null,null,null,null,0,21]
[22,1382,14,1401,null,null,null,null,null,null,0,21,null,"Total Target Seq"]
[11,1510,12,1533,null,null,null,null,null,null,0,11,null,{"$f":"COUNTIF(L7:L82,G3)","v":36},null,13,12,13,13,12,13]
[11,1646,21,1662,null,null,null,null,null,null,0,12,null,null,null,"% of reinforcement given in 6 equal intervals based on number of trials "]
[11,1768,21,1798,null,null,null,null,null,null,0,12,null,null,null,"%_1","%_2","%_3","%_4","%_5","%_6"]
[11,1899,21,1911,null,null,null,null,null,null,0,12,null,null,"target sequence",{"$f":"$G$3","v":12},{"$f":"$G$3","v":12},{"$f":"$G$3","v":12},{"$f":"$G$3","v":12},{"$f":"$G$3","v":12},{"$f":"$G$3","v":12}]
[22,2005,14,2016,null,null,null,null,null,null,0,21,null,null,"total reinforcement",{"$f":"U8","v":4},{"$f":"Z8","v":5},{"$f":"AE8","v":7},{"$f":"AJ8","v":7},{"$f":"AO8","v":7},{"$f":"AT8","v":6}]
[22,2117,14,2125,null,null,null,null,null,null,0,21,null,null,"% target"]
[11,2249,21,2297,null,null,null,null,null,null,0,12,null,null,"CCRF"]
[22,2389,14,2411,null,null,null,null,null,null,0,21,null,null,"% CCRf"]
[11,2524,21,2544,null,null,null,null,null,null,0,12,null,null,"average response rate",{"$f":"D19/P20","v":107.76923076923077},{"$f":"(D31-D19)/Q20","v":121.41666666666667},{"$f":"(D44-D31)/R20","v":124.07692307692308},{"$f":"(D57-D44)/S20","v":121.30769230769231},{"$f":"(D69-D57)/T20","v":159.25},{"$f":"(D82-D69)/U20","v":177.61538461538461}]
[22,2640,14,2647,null,null,null,null,null,null,0,21]
[22,2740,23,2752,null,null,null,null,null,null,0,22]
[22,2849,14,2858,null,null,null,null,null,null,0,21]
[11,2970,21,3020,null,null,null,null,null,null,0,12]
[11,3124,21,3145,null,null,null,null,null,null,0,12]
[11,3248,21,3267,null,null,null,null,null,null,0,12]
[11,3368,12,3387,null,null,null,null,null,null,0,11]
[22,3490,14,3497,null,null,null,null,null,null,0,21]
[22,3600,14,3608,null,null,null,null,null,null,0,21]
[11,3716,12,3742,null,null,null,null,null,null,0,11]
[11,3851,21,3889,null,null,null,null,null,null,0,12]
[11,3990,21,4035,null,null,null,null,null,null,0,12]
[22,4131,14,4139,null,null,null,null,null,null,0,21]
[11,4247,21,4255,null,null,null,null,null,null,0,12]
[11,4357,21,4372,null,null,null,null,null,null,0,12]
[22,4464,14,4471,null,null,null,null,null,null,0,21]
[11,4580,21,4587,null,null,null,null,null,null,0,12]
[11,4712,21,4755,null,null,null,null,null,null,0,12]
[11,4864,21,4872,null,null,null,null,null,null,0,12]
[11,4973,21,4999,null,null,null,null,null,null,0,12]
[22,5097,14,5104,null,null,null,null,null,null,0,21]
[11,5209,21,5218,null,null,null,null,null,null,0,12]
[11,5321,21,5370,null,null,null,null,null,null,0,12]
[22,5472,14,5479,null,null,null,null,null,null,0,21]
[22,5579,14,5586,null,null,null,null,null,null,0,21]
[11,5694,21,5709,null,null,null,null,null,null,0,12]
[11,5813,12,5829,null,null,null,null,null,null,0,11]
[22,5926,14,5934,null,null,null,null,null,null,0,21]
[22,6043,14,6048,null,null,null,null,null,null,0,21]
[22,6150,14,6157,null,null,null,null,null,null,0,21]
[11,6310,21,6338,null,null,null,null,null,null,0,12]
[22,6436,14,6443,null,null,null,null,null,null,0,21]
[11,6622,21,6672,null,null,null,null,null,null,0,12]
[11,6788,21,6834,null,null,null,null,null,null,0,12]
[11,6936,12,6955,null,null,null,null,null,null,0,11]
[22,7111,14,7120,null,null,null,null,null,null,0,21]
[11,7322,21,7363,null,null,null,null,null,null,0,12]
[11,7509,21,7517,null,null,null,null,null,null,0,12]
[11,7623,21,7637,null,null,null,null,null,null,0,12]
[22,7736,14,7743,null,null,null,null,null,null,0,21]
[11,7945,21,7959,null,null,null,null,null,null,0,12]
[11,8090,21,8146,null,null,null,null,null,null,0,12]
[11,8257,21,8284,null,null,null,null,null,null,0,12]
[22,8385,14,8391,null,null,null,null,null,null,0,21]
[22,8517,23,8537,null,null,null,null,null,null,0,22]
[11,8755,21,8785,null,null,null,null,null,null,0,12]
[11,8886,21,8894,null,null,null,null,null,null,0,12]
[22,9416,14,9428,null,null,null,null,null,null,0,21]
[11,9536,21,9558,null,null,null,null,null,null,0,12]
[11,9672,21,9690,null,null,null,null,null,null,0,12]
[11,9795,12,9814,null,null,null,null,null,null,0,11]
[11,9955,12,9973,null,null,null,null,null,null,0,11]
[22,10086,14,10106,null,null,null,null,null,null,0,21]
[11,10261,12,10268,null,null,null,null,null,null,1,11]

{"sheet":"!N212940.095","index":12,"n_rows":87,"n_cols":48,"rows_kept":87,"cut":false,"hidden":false,"merged":[[4,39,4,42],[5,39,5,40],[4,44,4,47],[5,44,5,45],[4,24,4,27],[5,24,5,25],[4,29,4,32],[5,29,5,30],[4,34,4,37],[5,34,5,35],[1,1,1,2],[5,13,5,14],[18,13,18,14],[19,13,19,14],[4,19,4,22],[5,19,5,20]]}
["Report for:!N212940.095"]
["Date:","<date>"]
["Hen:","<hen>",null,null,null,"Correct Sequence",{"$f":"Start!J2","v":12},null,null,null,null,null,null,null,null,"Total Sequences in Data",{"$f":"4994-COUNTBLANK(L7:L5000)","v":81},null,null,null,null,"Total Sequences in Block Data",{"$f":"COUNTA(L7:L20)","v":14},null,null,null,"Total Sequences in Block Data",{"$f":"COUNTA(L21:L33)","v":13},null,null,null,"Total Sequences in Block Data",{"$f":"COUNTA(L34:L47)","v":14},null,null,null,"Total Sequences in Block Data",{"$f":"COUNTA(L48:L60)","v":13},null,null,null,"Total Sequences in Block Data",{"$f":"COUNTA(L61:L74)","v":14},null,null,null,"Total Sequences in Block Data",{"$f":"COUNTA(L75:L87)","v":13}]
[null,null,null,null,null,null,null,null,null,null,null,null,null,null,null,"Total Sequences in Summary",{"$f":"SUM(O7:O14)","v":81},null,null,null,null,"Total Sequences in Block Summary",{"$f":"SUM(U7:U14)","v":14},null,null,null,"Total Sequences in Block Summary",{"$f":"SUM(Z7:Z14)","v":13},null,null,null,"Total Sequences in Block Summary",{"$f":"SUM(AE7:AE14)","v":14},null,null,null,"Total Sequences in Block Summary",{"$f":"SUM(AJ7:AJ14)","v":13},null,null,null,"Total Sequences in Block Summary",{"$f":"SUM(AO7:AO14)","v":14},null,null,null,"Total Sequences in Block Summary",{"$f":"SUM(AT7:AT14)","v":13}]
[null,null,null,null,null,null,null,null,null,null,null,null,null,null,null,null,null,null,null,"Block 1",null,null,null,null,"Block 2",null,null,null,null,"Block 3",null,null,null,null,"Block 4",null,null,null,null,"Block 5",null,null,null,null,"Block 6"]
["Sequence\nComponent\n1","Time\n1","Sequence\nComponent\n2","Time\n2","Sequence\nComponent\n3","Time\n3","Sequence\nComponent\n4","Time\n4","Sequence\nComponent\n5","Time\n5","Correct?\n0=No 1=Yes","Sequence",null,"Frequency",null,"Relative Frequency","Variability",null,null,"Frequency",null,"Relative Frequency","Variability",null,"Frequency",null,"Relative Frequency","Variability",null,"Frequency",null,"Relative Frequency","Variability",null,"Frequency",null,"Relative Frequency","Variability",null,"Frequency",null,"Relative Frequency","Variability",null,"Frequency",null,"Relative Frequency","Variability"]
[11,23,21,44,null,null,null,null,null,null,0,12,null,11,{"$f":"COUNTIF($L$7:$L$500,N7)","v":8},{"$f":"O7/$Q$4","v":9.8765432098765427E-2},{"$f":"IF(P7=0,0,(P7*((LOG(P7))/LOG(2))))","v":-0.32986172867996294},null,null,{"$f":"N7","v":11},{"$f":"COUNTIF(L7:L20,T7)","v":1},{"$f":"U7/(W4-U8)","v":0.14285714285714285},{"$f":"IF(V7=0,0,(V7*((LOG(V7))/LOG(2))))","v":-0.40105070315108626},null,{"$f":"N7","v":11},{"$f":"COUNTIF(L21:L33,Y7)","v":0},{"$f":"Z7/(AB4-Z8)","v":0},{"$f":"IF(AA7=0,0,(AA7*((LOG(AA7))/LOG(2))))","v":0},null,{"$f":"N7","v":11},{"$f":"COUNTIF(L34:L47,AD7)","v":0},{"$f":"AE7/(AG4-AE8)","v":0},{"$f":"IF(AF7=0,0,(AF7*((LOG(AF7))/LOG(2))))","v":0},null,{"$f":"N7","v":11},{"$f":"COUNTIF(L48:L60,AI7)","v":0},{"$f":"AJ7/(AL4-AJ8)","v":0},{"$f":"IF(AK7=0,0,(AK7*((LOG(AK7))/LOG(2))))","v":0},null,{"$f":"N7","v":11},{"$f":"COUNTIF(L61:L74,AN7)","v":2},{"$f":"AO7/(AQ4-AO8)","v":0.22222222222222221},{"$f":"IF(AP7=0,0,(AP7*((LOG(AP7))/LOG(2))))","v":-0.48220555587606945},null,{"$f":"N7","v":11},{"$f":"COUNTIF(L75:L87,AS7)","v":5},{"$f":"AT7/(AV4-AT8)","v":0.625},{"$f":"IF(AU7=0,0,(AU7*((LOG(AU7))/LOG(2))))","v":-0.42379494069539858}]
[22,140,14,147,null,null,null,null,null,null,0,21,null,12,{"$f":"COUNTIF($L$7:$L$500,N8)","v":35},{"$f":"O8/$Q$4","v":0.43209876543209874},{"$f":"IF(P8=0,0,(P8*((LOG(P8))/LOG(2))))","v":-0.52308450009738328},null,null,{"$f":"N8","v":12},{"$f":"COUNTIF(L7:L20,T8)","v":7},null,null,null,{"$f":"N8","v":12},{"$f":"COUNTIF(L21:L33,Y8)","v":6},null,null,null,{"$f":"N8","v":12},{"$f":"COUNTIF(L34:L47,AD8)","v":6},null,null,null,{"$f":"N8","v":12},{"$f":"COUNTIF(L48:L60,AI8)","v":6},null,null,null,{"$f":"N8","v":12},{"$f":"COUNTIF(L61:L74,AN8)","v":5},null,null,null,{"$f":"N8","v":12},{"$f":"COUNTIF(L75:L87,AS8)","v":5}]
[11,257,21,284,null,null,null,null,null,null,0,12,null,21,{"$f":"COUNTIF($L$7:$L$500,N9)","v":28},{"$f":"O9/$Q$4","v":0.34567901234567899},{"$f":"IF(P9=0,0,(P9*((LOG(P9))/LOG(2))))","v":-0.52975138596489602},null,null,{"$f":"N9","v":21},{"$f":"COUNTIF(L7:L20,T9)","v":6},{"$f":"U9/(W4-U8)","v":0.8571428571428571},{"$f":"IF(V9=0,0,(V9*((LOG(V9))/LOG(2))))","v":-0.19062207543124113},null,{"$f":"N9","v":21},{"$f":"COUNTIF(L21:L33,Y9)","v":6},{"$f":"Z9/(AB4-Z8)","v":0.8571428571428571},{"$f":"IF(AA9=0,0,(AA9*((LOG(AA9))/LOG(2))))","v":-0.19062207543124113},null,{"$f":"N9","v":21},{"$f":"COUNTIF(L34:L47,AD9)","v":6},{"$f":"AE9/(AG4-AE8)","v":0.75},{"$f":"IF(AF9=0,0,(AF9*((LOG(AF9))/LOG(2))))","v":-0.31127812445913283},null,{"$f":"N9","v":21},{"$f":"COUNTIF(L48:L60,AI9)","v":4},{"$f":"AJ9/(AL4-AJ8)","v":0.5714285714285714},{"$f":"IF(AK9=0,0,(AK9*((LOG(AK9))/LOG(2))))","v":-0.46134566974720237},null,{"$f":"N9","v":21},{"$f":"COUNTIF(L61:L74,AN9)","v":5},{"$f":"AO9/(AQ4-AO8)","v":0.55555555555555558},{"$f":"IF(AP9=0,0,(AP9*((LOG(AP9))/LOG(2))))","v":-0.4711093925305278},null,{"$f":"N9","v":21},{"$f":"COUNTIF(L75:L87,AS9)","v":1},{"$f":"AT9/(AV4-AT8)","v":0.125},{"$f":"IF(AU9=0,0,(AU9*((LOG(AU9))/LOG(2))))","v":-0.375}]
[11,387,21,446,null,null,null,null,null,null,0,12,null,22,{"$f":"COUNTIF($L$7:$L$500,N10)","v":10},{"$f":"O10/$Q$4","v":0.12345679012345678},{"$f":"IF(P10=0,0,(P10*((LOG(P10))/LOG(2))))","v":-0.37258295160460025},null,null,{"$f":"N10","v":22},{"$f":"COUNTIF(L7:L20,T10)","v":0},{"$f":"U10/(W4-U8)","v":0},{"$f":"IF(V10=0,0,(V10*((LOG(V10))/LOG(2))))","v":0},null,{"$f":"N10","v":22},{"$f":"COUNTIF(L21:L33,Y10)","v":1},{"$f":"Z10/(AB4-Z8)","v":0.14285714285714285},{"$f":"IF(AA10=0,0,(AA10*((LOG(AA10))/LOG(2))))","v":-0.40105070315108626},null,{"$f":"N10","v":22},{"$f":"COUNTIF(L34:L47,AD10)","v":2},{"$f":"AE10/(AG4-AE8)","v":0.25},{"$f":"IF(AF10=0,0,(AF10*((LOG(AF10))/LOG(2))))","v":-0.5},null,{"$f":"N10","v":22},{"$f":"COUNTIF(L48:L60,AI10)","v":3},{"$f":"AJ10/(AL4-AJ8)","v":0.42857142857142855},{"$f":"IF(AK10=0,0,(AK10*((LOG(AK10))/LOG(2))))","v":-0.52388246628704915},null,{"$f":"N10","v":22},{"$f":"COUNTIF(L61:L74,AN10)","v":2},{"$f":"AO10/(AQ4-AO8)","v":0.22222222222222221},{"$f":"IF(AP10=0,0,(AP10*((LOG(AP10))/LOG(2))))","v":-0.48220555587606945},null,{"$f":"N10","v":22},{"$f":"COUNTIF(L75:L87,AS10)","v":2},{"$f":"AT10/(AV4-AT8)","v":0.25},{"$f":"IF(AU10=0,0,(AU10*((LOG(AU10))/LOG(2))))","v":-0.5}]
[11,546,12,565,null,null,null,null,null,null,0,11,null,null,null,null,null,null,null,{"$f":"N11","v":0},{"$f":"COUNTIF(L7:L20,T11)","v":0},{"$f":"U11/(W4-U8)","v":0},{"$f":"IF(V11=0,0,(V11*((LOG(V11))/LOG(2))))","v":0},null,{"$f":"N11","v":0},{"$f":"COUNTIF(L21:L33,Y11)","v":0},{"$f":"Z11/(AB4-Z8)","v":0},{"$f":"IF(AA11=0,0,(AA11*((LOG(AA11))/LOG(2))))","v":0},null,{"$f":"N11","v":0},{"$f":"COUNTIF(L34:L47,AD11)","v":0},{"$f":"AE11/(AG4-AE8)","v":0},{"$f":"IF(AF11=0,0,(AF11*((LOG(AF11))/LOG(2))))","v":0},null,{"$f":"N11","v":0},{"$f":"COUNTIF(L48:L60,AI11)","v":0},{"$f":"AJ11/(AL4-AJ8)","v":0},{"$f":"IF(AK11=0,0,(AK11*((LOG(AK11))/LOG(2))))","v":0},null,{"$f":"N11","v":0},{"$f":"COUNTIF(L61:L74,AN11)","v":0},{"$f":"AO11/(AQ4-AO8)","v":0},{"$f":"IF(AP11=0,0,(AP11*((LOG(AP11))/LOG(2))))","v":0},null,{"$f":"N11","v":0},{"$f":"COUNTIF(L75:L87,AS11)","v":0},{"$f":"AT11/(AV4-AT8)","v":0},{"$f":"IF(AU11=0,0,(AU11*((LOG(AU11))/LOG(2))))","v":0}]
[22,666,14,674,null,null,null,null,null,null,0,21,null,null,null,null,null,null,null,{"$f":"N12","v":0},{"$f":"COUNTIF(L7:L20,T12)","v":0},{"$f":"U12/(W4-U8)","v":0},{"$f":"IF(V12=0,0,(V12*((LOG(V12))/LOG(2))))","v":0},null,{"$f":"N12","v":0},{"$f":"COUNTIF(L21:L33,Y12)","v":0},{"$f":"Z12/(AB4-Z8)","v":0},{"$f":"IF(AA12=0,0,(AA12*((LOG(AA12))/LOG(2))))","v":0},null,{"$f":"N12","v":0},{"$f":"COUNTIF(L34:L47,AD12)","v":0},{"$f":"AE12/(AG4-AE8)","v":0},{"$f":"IF(AF12=0,0,(AF12*((LOG(AF12))/LOG(2))))","v":0},null,{"$f":"N12","v":0},{"$f":"COUNTIF(L48:L60,AI12)","v":0},{"$f":"AJ12/(AL4-AJ8)","v":0},{"$f":"IF(AK12=0,0,(AK12*((LOG(AK12))/LOG(2))))","v":0},null,{"$f":"N12","v":0},{"$f":"COUNTIF(L61:L74,AN12)","v":0},{"$f":"AO12/(AQ4-AO8)","v":0},{"$f":"IF(AP12=0,0,(AP12*((LOG(AP12))/LOG(2))))","v":0},null,{"$f":"N12","v":0},{"$f":"COUNTIF(L75:L87,AS12)","v":0},{"$f":"AT12/(AV4-AT8)","v":0},{"$f":"IF(AU12=0,0,(AU12*((LOG(AU12))/LOG(2))))","v":0}]
[22,773,14,781,null,null,null,null,null,null,0,21,null,null,null,null,null,null,null,{"$f":"N13","v":0},{"$f":"COUNTIF(L7:L20,T13)","v":0},{"$f":"U13/(W4-U8)","v":0},{"$f":"IF(V13=0,0,(V13*((LOG(V13))/LOG(2))))","v":0},null,{"$f":"N13","v":0},{"$f":"COUNTIF(L21:L33,Y13)","v":0},{"$f":"Z13/(AB4-Z8)","v":0},{"$f":"IF(AA13=0,0,(AA13*((LOG(AA13))/LOG(2))))","v":0},null,{"$f":"N13","v":0},{"$f":"COUNTIF(L34:L47,AD13)","v":0},{"$f":"AE13/(AG4-AE8)","v":0},{"$f":"IF(AF13=0,0,(AF13*((LOG(AF13))/LOG(2))))","v":0},null,{"$f":"N13","v":0},{"$f":"COUNTIF(L48:L60,AI13)","v":0},{"$f":"AJ13/(AL4-AJ8)","v":0},{"$f":"IF(AK13=0,0,(AK13*((LOG(AK13))/LOG(2))))","v":0},null,{"$f":"N13","v":0},{"$f":"COUNTIF(L61:L74,AN13)","v":0},{"$f":"AO13/(AQ4-AO8)","v":0},{"$f":"IF(AP13=0,0,(AP13*((LOG(AP13))/LOG(2))))","v":0},null,{"$f":"N13","v":0},{"$f":"COUNTIF(L75:L87,AS13)","v":0},{"$f":"AT13/(AV4-AT8)","v":0},{"$f":"IF(AU13=0,0,(AU13*((LOG(AU13))/LOG(2))))","v":0}]
[11,888,21,924,null,null,null,null,null,null,0,12,null,null,null,null,null,null,null,{"$f":"N14","v":0},{"$f":"COUNTIF(L7:L20,T14)","v":0},{"$f":"U14/(W4-U8)","v":0},{"$f":"IF(V14=0,0,(V14*((LOG(V14))/LOG(2))))","v":0},null,{"$f":"N14","v":0},{"$f":"COUNTIF(L21:L33,Y14)","v":0},{"$f":"Z14/(AB4-Z8)","v":0},{"$f":"IF(AA14=0,0,(AA14*((LOG(AA14))/LOG(2))))","v":0},null,{"$f":"N14","v":0},{"$f":"COUNTIF(L34:L47,AD14)","v":0},{"$f":"AE14/(AG4-AE8)","v":0},{"$f":"IF(AF14=0,0,(AF14*((LOG(AF14))/LOG(2))))","v":0},null,{"$f":"N14","v":0},{"$f":"COUNTIF(L48:L60,AI14)","v":0},{"$f":"AJ14/(AL4-AJ8)","v":0},{"$f":"IF(AK14=0,0,(AK14*((LOG(AK14))/LOG(2))))","v":0},null,{"$f":"N14","v":0},{"$f":"COUNTIF(L61:L74,AN14)","v":0},{"$f":"AO14/(AQ4-AO8)","v":0},{"$f":"IF(AP14=0,0,(AP14*((LOG(AP14))/LOG(2))))","v":0},null,{"$f":"N14","v":0},{"$f":"COUNTIF(L75:L87,AS14)","v":0},{"$f":"AT14/(AV4-AT8)","v":0},{"$f":"IF(AU14=0,0,(AU14*((LOG(AU14))/LOG(2))))","v":0}]
[11,1023,21,1036,null,null,null,null,null,null,0,12,null,null,null,{"$f":"SUM(P7:P14)","v":0.99999999999999989},{"$f":"-SUM(Q7:Q14)","v":1.7552805663468425},null,null,null,null,{"$f":"SUM(V7:V14)","v":1},{"$f":"-SUM(W7:W14)","v":0.59167277858232736},null,null,null,{"$f":"SUM(AA7:AA14)","v":1},{"$f":"-SUM(AB7:AB14)","v":0.59167277858232736},null,null,null,{"$f":"SUM(AF7:AF14)","v":1},{"$f":"-SUM(AG7:AG14)","v":0.81127812445913283},null,null,null,{"$f":"SUM(AK7:AK14)","v":1},{"$f":"-SUM(AL7:AL14)","v":0.98522813603425152},null,null,null,{"$f":"SUM(AP7:AP14)","v":1},{"$f":"-SUM(AQ7:AQ14)","v":1.4355205042826666},null,null,null,{"$f":"SUM(AU7:AU14)","v":1},{"$f":"-SUM(AV7:AV14)","v":1.2987949406953985}]
[22,1129,14,1137,null,null,null,null,null,null,0,21,null,null,null,"U=",{"$f":"Q15/(LOG(Q4)/LOG(2))","v":0.27686468379349544},null,null,null,null,"U1=",{"$f":"W15/(LOG(W4)/LOG(2))","v":0.15540258018881267},null,null,null,"U2=",{"$f":"AB15/(LOG(AB4)/LOG(2))","v":0.15989255970897234},null,null,null,"U3=",{"$f":"AG15/(LOG(AG4)/LOG(2))","v":0.21308182217503771},null,null,null,"U4=",{"$f":"AL15/(LOG(AL4)/LOG(2))","v":0.26624623317176443},null,null,null,"U5=",{"$f":"AQ15/(LOG(AQ4)/LOG(2))","v":0.37703879298620002},null,null,null,"U6=",{"$f":"AV15/(LOG(AV4)/LOG(2))","v":0.35098394775306468}]
[11,1245,21,1260,null,null,null,null,null,null,0,12]
[22,1351,14,1359,null,null,null,null,null,null,0,21]
[11,1458,21,1513,null,null,null,null,null,null,0,12,null,"Total Target Seq"]
[22,1611,14,1618,null,null,null,null,null,null,0,21,null,{"$f":"COUNTIF(L7:L87,G3)","v":35},null,14,13,14,13,14,13]
[22,1717,14,1738,null,null,null,null,null,null,0,21,null,null,null,"% of reinforcement given in 6 equal intervals based on number of trials "]
[22,1835,14,1842,null,null,null,null,null,null,0,21,null,null,null,"%_1","%_2","%_3","%_4","%_5","%_6"]
[22,1945,14,1959,null,null,null,null,null,null,0,21,null,null,"target sequence",{"$f":"$G$3","v":12},{"$f":"$G$3","v":12},{"$f":"$G$3","v":12},{"$f":"$G$3","v":12},{"$f":"$G$3","v":12},{"$f":"$G$3","v":12}]
[11,2066,21,2107,null,null,null,null,null,null,0,12,null,null,"total reinforcement",{"$f":"U8","v":7},{"$f":"Z8","v":6},{"$f":"AE8","v":6},{"$f":"AJ8","v":6},{"$f":"AO8","v":5},{"$f":"AT8","v":5}]
[11,2227,21,2254,null,null,null,null,null,null,0,12,null,null,"% target"]
[11,2369,21,2402,null,null,null,null,null,null,0,12,null,null,"CCRF"]
[11,2501,21,2509,null,null,null,null,null,null,0,12,null,null,"% CCRf"]
[22,2600,23,2625,null,null,null,null,null,null,0,22,null,null,"average response rate",{"$f":"D20/P20","v":115.57142857142857},{"$f":"(D33-D20)/Q20","v":121.46153846153847},{"$f":"(D47-D33)/R20","v":117.85714285714286},{"$f":"(D60-D47)/S20","v":124.15384615384616},{"$f":"(D74-D60)/T20","v":228.28571428571428},{"$f":"(D87-D74)/U20","v":175.07692307692307}]
[22,2745,14,2754,null,null,null,null,null,null,0,21]
[22,2852,14,2861,null,null,null,null,null,null,0,21]
[11,2968,21,2982,null,null,null,null,null,null,0,12]
[11,3085,21,3096,null,null,null,null,null,null,0,12]
[22,3190,14,3197,null,null,null,null,null,null,0,21]
[11,3305,21,3382,null,null,null,null,null,null,0,12]
[22,3480,14,3487,null,null,null,null,null,null,0,21]
[22,3584,23,3591,null,null,null,null,null,null,0,22]
[11,3708,21,3716,null,null,null,null,null,null,0,12]
[11,3819,21,3827,null,null,null,null,null,null,0,12]
[22,3924,14,3932,null,null,null,null,null,null,0,21]
[11,4043,21,4054,null,null,null,null,null,null,0,12]
[22,4149,14,4157,null,null,null,null,null,null,0,21]
[22,4256,23,4284,null,null,null,null,null,null,0,22]
[22,4382,14,4390,null,null,null,null,null,null,0,21]
[22,4485,14,4493,null,null,null,null,null,null,0,21]
[11,4602,21,4617,null,null,null,null,null,null,0,12]
[11,4718,21,4746,null,null,null,null,null,null,0,12]
[22,4840,14,4847,null,null,null,null,null,null,0,21]
[22,4944,14,4952,null,null,null,null,null,null,0,21]
[22,5062,14,5069,null,null,null,null,null,null,0,21]
[11,5175,21,5199,null,null,null,null,null,null,0,12]
[11,5298,21,5320,null,null,null,null,null,null,0,12]
[11,5420,21,5442,null,null,null,null,null,null,0,12]
[22,5553,23,5584,null,null,null,null,null,null,0,22]
[22,5676,14,5684,null,null,null,null,null,null,0,21]
[22,5796,23,5822,null,null,null,null,null,null,0,22]
[22,5938,14,5946,null,null,null,null,null,null,0,21]
[11,6068,21,6079,null,null,null,null,null,null,0,12]
[22,6175,23,6215,null,null,null,null,null,null,0,22]
[11,6324,21,6333,null,null,null,null,null,null,0,12]
[11,6447,21,6461,null,null,null,null,null,null,0,12]
[11,6566,21,6580,null,null,null,null,null,null,0,12]
[22,6674,14,6681,null,null,null,null,null,null,0,21]
[22,6782,23,6801,null,null,null,null,null,null,0,22]
[11,6970,21,6980,null,null,null,null,null,null,0,12]
[22,7073,14,7080,null,null,null,null,null,null,0,21]
[22,7183,14,7191,null,null,null,null,null,null,0,21]
[11,7338,21,7346,null,null,null,null,null,null,0,12]
[22,7444,14,7453,null,null,null,null,null,null,0,21]
[22,7559,14,7569,null,null,null,null,null,null,0,21]
[22,7736,23,7754,null,null,null,null,null,null,0,22]
[11,9260,21,9289,null,null,null,null,null,null,0,12]
[11,9406,21,9418,null,null,null,null,null,null,0,12]
[11,9531,12,9538,null,null,null,null,null,null,0,11]
[11,9650,12,9657,null,null,null,null,null,null,0,11]
[22,9776,14,9788,null,null,null,null,null,null,0,21]
[11,9901,12,9909,null,null,null,null,null,null,0,11]
[11,10027,21,10035,null,null,null,null,null,null,0,12]
[11,10162,12,10171,null,null,null,null,null,null,0,11]
[11,10269,12,10277,null,null,null,null,null,null,0,11]
[11,10394,21,10404,null,null,null,null,null,null,0,12]
[11,10513,12,10520,null,null,null,null,null,null,0,11]
[22,10747,23,10755,null,null,null,null,null,null,0,22]
[11,10879,21,10887,null,null,null,null,null,null,0,12]
[11,11025,12,11033,null,null,null,null,null,null,0,11]
[11,11158,21,11173,null,null,null,null,null,null,0,12]
[22,11485,23,11498,null,null,null,null,null,null,0,22]
[11,11907,21,11933,null,null,null,null,null,null,1,12]

{"sheet":"!N213950.095","index":13,"n_rows":82,"n_cols":48,"rows_kept":82,"cut":false,"hidden":false,"merged":[[4,39,4,42],[5,39,5,40],[4,44,4,47],[5,44,5,45],[4,24,4,27],[5,24,5,25],[4,29,4,32],[5,29,5,30],[4,34,4,37],[5,34,5,35],[1,1,1,2],[5,13,5,14],[18,13,18,14],[19,13,19,14],[4,19,4,22],[5,19,5,20]]}
["Report for:!N213950.095"]
["Date:","<date>"]
["Hen:","<hen>",null,null,null,"Correct Sequence",{"$f":"Start!J2","v":12},null,null,null,null,null,null,null,null,"Total Sequences in Data",{"$f":"4994-COUNTBLANK(L7:L5000)","v":76},null,null,null,null,"Total Sequences in Block Data",{"$f":"COUNTA(L7:L19)","v":13},null,null,null,"Total Sequences in Block Data",{"$f":"COUNTA(L20:L31)","v":12},null,null,null,"Total Sequences in Block Data",{"$f":"COUNTA(L32:L44)","v":13},null,null,null,"Total Sequences in Block Data",{"$f":"COUNTA(L45:L57)","v":13},null,null,null,"Total Sequences in Block Data",{"$f":"COUNTA(L58:L69)","v":12},null,null,null,"Total Sequences in Block Data",{"$f":"COUNTA(L70:L82)","v":13}]
[null,null,null,null,null,null,null,null,null,null,null,null,null,null,null,"Total Sequences in Summary",{"$f":"SUM(O7:O14)","v":76},null,null,null,null,"Total Sequences in Block Summary",{"$f":"SUM(U7:U14)","v":13},null,null,null,"Total Sequences in Block Summary",{"$f":"SUM(Z7:Z14)","v":12},null,null,null,"Total Sequences in Block Summary",{"$f":"SUM(AE7:AE14)","v":13},null,null,null,"Total Sequences in Block Summary",{"$f":"SUM(AJ7:AJ14)","v":13},null,null,null,"Total Sequences in Block Summary",{"$f":"SUM(AO7:AO14)","v":12},null,null,null,"Total Sequences in Block Summary",{"$f":"SUM(AT7:AT14)","v":13}]
[null,null,null,null,null,null,null,null,null,null,null,null,null,null,null,null,null,null,null,"Block 1",null,null,null,null,"Block 2",null,null,null,null,"Block 3",null,null,null,null,"Block 4",null,null,null,null,"Block 5",null,null,null,null,"Block 6"]
["Sequence\nComponent\n1","Time\n1","Sequence\nComponent\n2","Time\n2","Sequence\nComponent\n3","Time\n3","Sequence\nComponent\n4","Time\n4","Sequence\nComponent\n5","Time\n5","Correct?\n0=No 1=Yes","Sequence",null,"Frequency",null,"Relative Frequency","Variability",null,null,"Frequency",null,"Relative Frequency","Variability",null,"Frequency",null,"Relative Frequency","Variability",null,"Frequency",null,"Relative Frequency","Variability",null,"Frequency",null,"Relative Frequency","Variability",null,"Frequency",null,"Relative Frequency","Variability",null,"Frequency",null,"Relative Frequency","Variability"]
[11,21,21,35,null,null,null,null,null,null,0,12,null,11,{"$f":"COUNTIF($L$7:$L$500,N7)","v":1},{"$f":"O7/$Q$4","v":1.3157894736842105E-2},{"$f":"IF(P7=0,0,(P7*((LOG(P7))/LOG(2))))","v":-8.2209572545310333E-2},null,null,{"$f":"N7","v":11},{"$f":"COUNTIF(L7:L19,T7)","v":0},{"$f":"U7/(W4-U8)","v":0},{"$f":"IF(V7=0,0,(V7*((LOG(V7))/LOG(2))))","v":0},null,{"$f":"N7","v":11},{"$f":"COUNTIF(L20:L31,Y7)","v":0},{"$f":"Z7/(AB4-Z8)","v":0},{"$f":"IF(AA7=0,0,(AA7*((LOG(AA7))/LOG(2))))","v":0},null,{"$f":"N7","v":11},{"$f":"COUNTIF(L32:L44,AD7)","v":1},{"$f":"AE7/(AG4-AE8)","v":0.1111111111111111},{"$f":"IF(AF7=0,0,(AF7*((LOG(AF7))/LOG(2))))","v":-0.3522138890491458},null,{"$f":"N7","v":11},{"$f":"COUNTIF(L45:L57,AI7)","v":0},{"$f":"AJ7/(AL4-AJ8)","v":0},{"$f":"IF(AK7=0,0,(AK7*((LOG(AK7))/LOG(2))))","v":0},null,{"$f":"N7","v":11},{"$f":"COUNTIF(L58:L69,AN7)","v":0},{"$f":"AO7/(AQ4-AO8)","v":0},{"$f":"IF(AP7=0,0,(AP7*((LOG(AP7))/LOG(2))))","v":0},null,{"$f":"N7","v":11},{"$f":"COUNTIF(L70:L82,AS7)","v":0},{"$f":"AT7/(AV4-AT8)","v":0},{"$f":"IF(AU7=0,0,(AU7*((LOG(AU7))/LOG(2))))","v":0}]
[22,133,14,139,null,null,null,null,null,null,0,21,null,12,{"$f":"COUNTIF($L$7:$L$500,N8)","v":36},{"$f":"O8/$Q$4","v":0.47368421052631576},{"$f":"IF(P8=0,0,(P8*((LOG(P8))/LOG(2))))","v":-0.51063276884270825},null,null,{"$f":"N8","v":12},{"$f":"COUNTIF(L7:L19,T8)","v":3},null,null,null,{"$f":"N8","v":12},{"$f":"COUNTIF(L20:L31,Y8)","v":7},null,null,null,{"$f":"N8","v":12},{"$f":"COUNTIF(L32:L44,AD8)","v":4},null,null,null,{"$f":"N8","v":12},{"$f":"COUNTIF(L45:L57,AI8)","v":4},null,null,null,{"$f":"N8","v":12},{"$f":"COUNTIF(L58:L69,AN8)","v":8},null,null,null,{"$f":"N8","v":12},{"$f":"COUNTIF(L70:L82,AS8)","v":10}]
[11,250,21,333,null,null,null,null,null,null,0,12,null,21,{"$f":"COUNTIF($L$7:$L$500,N9)","v":33},{"$f":"O9/$Q$4","v":0.43421052631578949},{"$f":"IF(P9=0,0,(P9*((LOG(P9))/LOG(2))))","v":-0.52258686848433367},null,null,{"$f":"N9","v":21},{"$f":"COUNTIF(L7:L19,T9)","v":6},{"$f":"U9/(W4-U8)","v":0.6},{"$f":"IF(V9=0,0,(V9*((LOG(V9))/LOG(2))))","v":-0.44217935649972373},null,{"$f":"N9","v":21},{"$f":"COUNTIF(L20:L31,Y9)","v":5},{"$f":"Z9/(AB4-Z8)","v":1},{"$f":"IF(AA9=0,0,(AA9*((LOG(AA9))/LOG(2))))","v":0},null,{"$f":"N9","v":21},{"$f":"COUNTIF(L32:L44,AD9)","v":8},{"$f":"AE9/(AG4-AE8)","v":0.88888888888888884},{"$f":"IF(AF9=0,0,(AF9*((LOG(AF9))/LOG(2))))","v":-0.15104444572649992},null,{"$f":"N9","v":21},{"$f":"COUNTIF(L45:L57,AI9)","v":8},{"$f":"AJ9/(AL4-AJ8)","v":0.88888888888888884},{"$f":"IF(AK9=0,0,(AK9*((LOG(AK9))/LOG(2))))","v":-0.15104444572649992},null,{"$f":"N9","v":21},{"$f":"COUNTIF(L58:L69,AN9)","v":4},{"$f":"AO9/(AQ4-AO8)","v":1},{"$f":"IF(AP9=0,0,(AP9*((LOG(AP9))/LOG(2))))","v":0},null,{"$f":"N9","v":21},{"$f":"COUNTIF(L70:L82,AS9)","v":2},{"$f":"AT9/(AV4-AT8)","v":0.66666666666666663},{"$f":"IF(AU9=0,0,(AU9*((LOG(AU9))/LOG(2))))","v":-0.38997500048077083}]
[22,429,14,436,null,null,null,null,null,null,0,21,null,22,{"$f":"COUNTIF($L$7:$L$500,N10)","v":6},{"$f":"O10/$Q$4","v":7.8947368421052627E-2},{"$f":"IF(P10=0,0,(P10*((LOG(P10))/LOG(2))))","v":-0.28918144837282334},null,null,{"$f":"N10","v":22},{"$f":"COUNTIF(L7:L19,T10)","v":4},{"$f":"U10/(W4-U8)","v":0.4},{"$f":"IF(V10=0,0,(V10*((LOG(V10))/LOG(2))))","v":-0.52877123795494496},null,{"$f":"N10","v":22},{"$f":"COUNTIF(L20:L31,Y10)","v":0},{"$f":"Z10/(AB4-Z8)","v":0},{"$f":"IF(AA10=0,0,(AA10*((LOG(AA10))/LOG(2))))","v":0},null,{"$f":"N10","v":22},{"$f":"COUNTIF(L32:L44,AD10)","v":0},{"$f":"AE10/(AG4-AE8)","v":0},{"$f":"IF(AF10=0,0,(AF10*((LOG(AF10))/LOG(2))))","v":0},null,{"$f":"N10","v":22},{"$f":"COUNTIF(L45:L57,AI10)","v":1},{"$f":"AJ10/(AL4-AJ8)","v":0.1111111111111111},{"$f":"IF(AK10=0,0,(AK10*((LOG(AK10))/LOG(2))))","v":-0.3522138890491458},null,{"$f":"N10","v":22},{"$f":"COUNTIF(L58:L69,AN10)","v":0},{"$f":"AO10/(AQ4-AO8)","v":0},{"$f":"IF(AP10=0,0,(AP10*((LOG(AP10))/LOG(2))))","v":0},null,{"$f":"N10","v":22},{"$f":"COUNTIF(L70:L82,AS10)","v":1},{"$f":"AT10/(AV4-AT8)","v":0.33333333333333331},{"$f":"IF(AU10=0,0,(AU10*((LOG(AU10))/LOG(2))))","v":-0.52832083357371862}]
[22,533,14,541,null,null,null,null,null,null,0,21,null,null,null,null,null,null,null,{"$f":"N11","v":0},{"$f":"COUNTIF(L7:L19,T11)","v":0},{"$f":"U11/(W4-U8)","v":0},{"$f":"IF(V11=0,0,(V11*((LOG(V11))/LOG(2))))","v":0},null,{"$f":"N11","v":0},{"$f":"COUNTIF(L20:L31,Y11)","v":0},{"$f":"Z11/(AB4-Z8)","v":0},{"$f":"IF(AA11=0,0,(AA11*((LOG(AA11))/LOG(2))))","v":0},null,{"$f":"N11","v":0},{"$f":"COUNTIF(L32:L44,AD11)","v":0},{"$f":"AE11/(AG4-AE8)","v":0},{"$f":"IF(AF11=0,0,(AF11*((LOG(AF11))/LOG(2))))","v":0},null,{"$f":"N11","v":0},{"$f":"COUNTIF(L45:L57,AI11)","v":0},{"$f":"AJ11/(AL4-AJ8)","v":0},{"$f":"IF(AK11=0,0,(AK11*((LOG(AK11))/LOG(2))))","v":0},null,{"$f":"N11","v":0},{"$f":"COUNTIF(L58:L69,AN11)","v":0},{"$f":"AO11/(AQ4-AO8)","v":0},{"$f":"IF(AP11=0,0,(AP11*((LOG(AP11))/LOG(2))))","v":0},null,{"$f":"N11","v":0},{"$f":"COUNTIF(L70:L82,AS11)","v":0},{"$f":"AT11/(AV4-AT8)","v":0},{"$f":"IF(AU11=0,0,(AU11*((LOG(AU11))/LOG(2))))","v":0}]
[22,649,23,670,null,null,null,null,null,null,0,22,null,null,null,null,null,null,null,{"$f":"N12","v":0},{"$f":"COUNTIF(L7:L19,T12)","v":0},{"$f":"U12/(W4-U8)","v":0},{"$f":"IF(V12=0,0,(V12*((LOG(V12))/LOG(2))))","v":0},null,{"$f":"N12","v":0},{"$f":"COUNTIF(L20:L31,Y12)","v":0},{"$f":"Z12/(AB4-Z8)","v":0},{"$f":"IF(AA12=0,0,(AA12*((LOG(AA12))/LOG(2))))","v":0},null,{"$f":"N12","v":0},{"$f":"COUNTIF(L32:L44,AD12)","v":0},{"$f":"AE12/(AG4-AE8)","v":0},{"$f":"IF(AF12=0,0,(AF12*((LOG(AF12))/LOG(2))))","v":0},null,{"$f":"N12","v":0},{"$f":"COUNTIF(L45:L57,AI12)","v":0},{"$f":"AJ12/(AL4-AJ8)","v":0},{"$f":"IF(AK12=0,0,(AK12*((LOG(AK12))/LOG(2))))","v":0},null,{"$f":"N12","v":0},{"$f":"COUNTIF(L58:L69,AN12)","v":0},{"$f":"AO12/(AQ4-AO8)","v":0},{"$f":"IF(AP12=0,0,(AP12*((LOG(AP12))/LOG(2))))","v":0},null,{"$f":"N12","v":0},{"$f":"COUNTIF(L70:L82,AS12)","v":0},{"$f":"AT12/(AV4-AT8)","v":0},{"$f":"IF(AU12=0,0,(AU12*((LOG(AU12))/LOG(2))))","v":0}]
[22,768,14,776,null,null,null,null,null,null,0,21,null,null,null,null,null,null,null,{"$f":"N13","v":0},{"$f":"COUNTIF(L7:L19,T13)","v":0},{"$f":"U13/(W4-U8)","v":0},{"$f":"IF(V13=0,0,(V13*((LOG(V13))/LOG(2))))","v":0},null,{"$f":"N13","v":0},{"$f":"COUNTIF(L20:L31,Y13)","v":0},{"$f":"Z13/(AB4-Z8)","v":0},{"$f":"IF(AA13=0,0,(AA13*((LOG(AA13))/LOG(2))))","v":0},null,{"$f":"N13","v":0},{"$f":"COUNTIF(L32:L44,AD13)","v":0},{"$f":"AE13/(AG4-AE8)","v":0},{"$f":"IF(AF13=0,0,(AF13*((LOG(AF13))/LOG(2))))","v":0},null,{"$f":"N13","v":0},{"$f":"COUNTIF(L45:L57,AI13)","v":0},{"$f":"AJ13/(AL4-AJ8)","v":0},{"$f":"IF(AK13=0,0,(AK13*((LOG(AK13))/LOG(2))))","v":0},null,{"$f":"N13","v":0},{"$f":"COUNTIF(L58:L69,AN13)","v":0},{"$f":"AO13/(AQ4-AO8)","v":0},{"$f":"IF(AP13=0,0,(AP13*((LOG(AP13))/LOG(2))))","v":0},null,{"$f":"N13","v":0},{"$f":"COUNTIF(L70:L82,AS13)","v":0},{"$f":"AT13/(AV4-AT8)","v":0},{"$f":"IF(AU13=0,0,(AU13*((LOG(AU13))/LOG(2))))","v":0}]
[22,865,23,925,null,null,null,null,null,null,0,22,null,null,null,null,null,null,null,{"$f":"N14","v":0},{"$f":"COUNTIF(L7:L19,T14)","v":0},{"$f":"U14/(W4-U8)","v":0},{"$f":"IF(V14=0,0,(V14*((LOG(V14))/LOG(2))))","v":0},null,{"$f":"N14","v":0},{"$f":"COUNTIF(L20:L31,Y14)","v":0},{"$f":"Z14/(AB4-Z8)","v":0},{"$f":"IF(AA14=0,0,(AA14*((LOG(AA14))/LOG(2))))","v":0},null,{"$f":"N14","v":0},{"$f":"COUNTIF(L32:L44,AD14)","v":0},{"$f":"AE14/(AG4-AE8)","v":0},{"$f":"IF(AF14=0,0,(AF14*((LOG(AF14))/LOG(2))))","v":0},null,{"$f":"N14","v":0},{"$f":"COUNTIF(L45:L57,AI14)","v":0},{"$f":"AJ14/(AL4-AJ8)","v":0},{"$f":"IF(AK14=0,0,(AK14*((LOG(AK14))/LOG(2))))","v":0},null,{"$f":"N14","v":0},{"$f":"COUNTIF(L58:L69,AN14)","v":0},{"$f":"AO14/(AQ4-AO8)","v":0},{"$f":"IF(AP14=0,0,(AP14*((LOG(AP14))/LOG(2))))","v":0},null,{"$f":"N14","v":0},{"$f":"COUNTIF(L70:L82,AS14)","v":0},{"$f":"AT14/(AV4-AT8)","v":0},{"$f":"IF(AU14=0,0,(AU14*((LOG(AU14))/LOG(2))))","v":0}]
[11,1034,21,1084,null,null,null,null,null,null,0,12,null,null,null,{"$f":"SUM(P7:P14)","v":1},{"$f":"-SUM(Q7:Q14)","v":1.4046106582451756},null,null,null,null,{"$f":"SUM(V7:V14)","v":1},{"$f":"-SUM(W7:W14)","v":0.97095059445466869},null,null,null,{"$f":"SUM(AA7:AA14)","v":1},{"$f":"-SUM(AB7:AB14)","v":0},null,null,null,{"$f":"SUM(AF7:AF14)","v":1},{"$f":"-SUM(AG7:AG14)","v":0.50325833477564574},null,null,null,{"$f":"SUM(AK7:AK14)","v":1},{"$f":"-SUM(AL7:AL14)","v":0.50325833477564574},null,null,null,{"$f":"SUM(AP7:AP14)","v":1},{"$f":"-SUM(AQ7:AQ14)","v":0},null,null,null,{"$f":"SUM(AU7:AU14)","v":1},{"$f":"-SUM(AV7:AV14)","v":0.91829583405448945}]
[22,1181,14,1189,null,null,null,null,null,null,0,21,null,null,null,"U=",{"$f":"Q15/(LOG(Q4)/LOG(2))","v":0.22481225257861795},null,null,null,null,"U1=",{"$f":"W15/(LOG(W4)/LOG(2))","v":0.26238789668553864},null,null,null,"U2=",{"$f":"AB15/(LOG(AB4)/LOG(2))","v":0},null,null,null,"U3=",{"$f":"AG15/(LOG(AG4)/LOG(2))","v":0.13599960358993674},null,null,null,"U4=",{"$f":"AL15/(LOG(AL4)/LOG(2))","v":0.13599960358993674},null,null,null,"U5=",{"$f":"AQ15/(LOG(AQ4)/LOG(2))","v":0},null,null,null,"U6=",{"$f":"AV15/(LOG(AV4)/LOG(2))","v":0.24815857141318151}]
[22,1287,23,1321,null,null,null,null,null,null,0,22]
[22,1423,14,1431,null,null,null,null,null,null,0,21]
[22,1564,23,1579,null,null,null,null,null,null,0,22,null,"Total Target Seq"]
[11,1686,21,1722,null,null,null,null,null,null,0,12,null,{"$f":"COUNTIF(L7:L82,G3)","v":36},null,13,12,13,13,12,13]
[22,1816,14,1823,null,null,null,null,null,null,0,21,null,null,null,"% of reinforcement given in 6 equal intervals based on number of trials "]
[11,1929,21,1962,null,null,null,null,null,null,0,12,null,null,null,"%_1","%_2","%_3","%_4","%_5","%_6"]
[11,2070,21,2081,null,null,null,null,null,null,0,12,null,null,"target sequence",{"$f":"$G$3","v":12},{"$f":"$G$3","v":12},{"$f":"$G$3","v":12},{"$f":"$G$3","v":12},{"$f":"$G$3","v":12},{"$f":"$G$3","v":12}]
[22,2173,14,2178,null,null,null,null,null,null,0,21,null,null,"total reinforcement",{"$f":"U8","v":3},{"$f":"Z8","v":7},{"$f":"AE8","v":4},{"$f":"AJ8","v":4},{"$f":"AO8","v":8},{"$f":"AT8","v":10}]
[11,2286,21,2313,null,null,null,null,null,null,0,12,null,null,"% target"]
[11,2412,21,2481,null,null,null,null,null,null,0,12,null,null,"CCRF"]
[11,2586,21,2594,null,null,null,null,null,null,0,12,null,null,"% CCRf"]
[22,2686,14,2693,null,null,null,null,null,null,0,21,null,null,"average response rate",{"$f":"D19/P20","v":121.46153846153847},{"$f":"(D31-D19)/Q20","v":122.33333333333333},{"$f":"(D44-D31)/R20","v":114.84615384615384},{"$f":"(D57-D44)/S20","v":113.07692307692308},{"$f":"(D69-D57)/T20","v":120.66666666666667},{"$f":"(D82-D69)/U20","v":123.46153846153847}]
[22,2790,14,2797,null,null,null,null,null,null,0,21]
[22,2895,14,2903,null,null,null,null,null,null,0,21]
[11,3015,21,3047,null,null,null,null,null,null,0,12]
[11,3150,12,3157,null,null,null,null,null,null,0,11]
[11,3267,21,3302,null,null,null,null,null,null,0,12]
[11,3405,21,3428,null,null,null,null,null,null,0,12]
[22,3527,14,3535,null,null,null,null,null,null,0,21]
[22,3633,14,3641,null,null,null,null,null,null,0,21]
[22,3741,14,3748,null,null,null,null,null,null,0,21]
[22,3840,14,3848,null,null,null,null,null,null,0,21]
[22,3945,14,3952,null,null,null,null,null,null,0,21]
[22,4044,14,4051,null,null,null,null,null,null,0,21]
[11,4168,21,4197,null,null,null,null,null,null,0,12]
[11,4297,21,4329,null,null,null,null,null,null,0,12]
[22,4424,14,4433,null,null,null,null,null,null,0,21]
[22,4533,14,4540,null,null,null,null,null,null,0,21]
[22,4661,23,4684,null,null,null,null,null,null,0,22]
[22,4784,14,4791,null,null,null,null,null,null,0,21]
[11,4899,21,4927,null,null,null,null,null,null,0,12]
[22,5019,14,5026,null,null,null,null,null,null,0,21]
[22,5123,14,5130,null,null,null,null,null,null,0,21]
[22,5227,14,5235,null,null,null,null,null,null,0,21]
[11,5342,21,5369,null,null,null,null,null,null,0,12]
[11,5468,21,5475,null,null,null,null,null,null,0,12]
[22,5570,14,5578,null,null,null,null,null,null,0,21]
[22,5677,14,5685,null,null,null,null,null,null,0,21]
[22,5783,14,5790,null,null,null,null,null,null,0,21]
[11,5893,21,5902,null,null,null,null,null,null,0,12]
[22,5995,14,6010,null,null,null,null,null,null,0,21]
[11,6125,21,6139,null,null,null,null,null,null,0,12]
[11,6238,21,6267,null,null,null,null,null,null,0,12]
[22,6357,14,6364,null,null,null,null,null,null,0,21]
[11,6468,21,6476,null,null,null,null,null,null,0,12]
[11,6569,21,6590,null,null,null,null,null,null,0,12]
[22,6745,14,6759,null,null,null,null,null,null,0,21]
[11,6866,21,6886,null,null,null,null,null,null,0,12]
[11,6984,21,7004,null,null,null,null,null,null,0,12]
[11,7106,21,7130,null,null,null,null,null,null,0,12]
[11,7232,21,7240,null,null,null,null,null,null,0,12]
[22,7338,14,7346,null,null,null,null,null,null,0,21]
[22,7443,14,7458,null,null,null,null,null,null,0,21]
[11,7568,21,7582,null,null,null,null,null,null,0,12]
[11,7692,21,7783,null,null,null,null,null,null,0,12]
[11,7886,21,7894,null,null,null,null,null,null,0,12]
[11,8002,21,8010,null,null,null,null,null,null,0,12]
[11,8115,21,8125,null,null,null,null,null,null,0,12]
[22,8218,14,8238,null,null,null,null,null,null,0,21]
[11,8342,21,8356,null,null,null,null,null,null,0,12]
[11,8459,21,8474,null,null,null,null,null,null,0,12]
[22,8566,14,8573,null,null,null,null,null,null,0,21]
[22,8672,23,8681,null,null,null,null,null,null,0,22]
[11,8796,21,8804,null,null,null,null,null,null,0,12]
[11,8908,21,8953,null,null,null,null,null,null,0,12]
[11,9053,21,9063,null,null,null,null,null,null,1,12]

{"sheet":"!N214920.095","index":14,"n_rows":68,"n_cols":48,"rows_kept":68,"cut":false,"hidden":false,"merged":[[4,39,4,42],[5,39,5,40],[4,44,4,47],[5,44,5,45],[4,24,4,27],[5,24,5,25],[4,29,4,32],[5,29,5,30],[4,34,4,37],[5,34,5,35],[1,1,1,2],[5,13,5,14],[18,13,18,14],[19,13,19,14],[4,19,4,22],[5,19,5,20]]}
["Report for:!N214920.095"]
["Date:","<date>"]
["Hen:","<hen>",null,null,null,"Correct Sequence",{"$f":"Start!J2","v":12},null,null,null,null,null,null,null,null,"Total Sequences in Data",{"$f":"4994-COUNTBLANK(L7:L5000)","v":62},null,null,null,null,"Total Sequences in Block Data",{"$f":"COUNTA(L7:L16)","v":10},null,null,null,"Total Sequences in Block Data",{"$f":"COUNTA(L17:L27)","v":11},null,null,null,"Total Sequences in Block Data",{"$f":"COUNTA(L28:L37)","v":10},null,null,null,"Total Sequences in Block Data",{"$f":"COUNTA(L38:L47)","v":10},null,null,null,"Total Sequences in Block Data",{"$f":"COUNTA(L48:L58)","v":11},null,null,null,"Total Sequences in Block Data",{"$f":"COUNTA(L59:L68)","v":10}]
[null,null,null,null,null,null,null,null,null,null,null,null,null,null,null,"Total Sequences in Summary",{"$f":"SUM(O7:O14)","v":62},null,null,null,null,"Total Sequences in Block Summary",{"$f":"SUM(U7:U14)","v":10},null,null,null,"Total Sequences in Block Summary",{"$f":"SUM(Z7:Z14)","v":11},null,null,null,"Total Sequences in Block Summary",{"$f":"SUM(AE7:AE14)","v":10},null,null,null,"Total Sequences in Block Summary",{"$f":"SUM(AJ7:AJ14)","v":10},null,null,null,"Total Sequences in Block Summary",{"$f":"SUM(AO7:AO14)","v":11},null,null,null,"Total Sequences in Block Summary",{"$f":"SUM(AT7:AT14)","v":10}]
[null,null,null,null,null,null,null,null,null,null,null,null,null,null,null,null,null,null,null,"Block 1",null,null,null,null,"Block 2",null,null,null,null,"Block 3",null,null,null,null,"Block 4",null,null,null,null,"Block 5",null,null,null,null,"Block 6"]
["Sequence\nComponent\n1","Time\n1","Sequence\nComponent\n2","Time\n2","Sequence\nComponent\n3","Time\n3","Sequence\nComponent\n4","Time\n4","Sequence\nComponent\n5","Time\n5","Correct?\n0=No 1=Yes","Sequence",null,"Frequency",null,"Relative Frequency","Variability",null,null,"Frequency",null,"Relative Frequency","Variability",null,"Frequency",null,"Relative Frequency","Variability",null,"Frequency",null,"Relative Frequency","Variability",null,"Frequency",null,"Relative Frequency","Variability",null,"Frequency",null,"Relative Frequency","Variability",null,"Frequency",null,"Relative Frequency","Variability"]
[11,18,21,77,null,null,null,null,null,null,0,12,null,11,{"$f":"COUNTIF($L$7:$L$500,N7)","v":8},{"$f":"O7/$Q$4","v":0.12903225806451613},{"$f":"IF(P7=0,0,(P7*((LOG(P7))/LOG(2))))","v":-0.38118662069508069},null,null,{"$f":"N7","v":11},{"$f":"COUNTIF(L7:L16,T7)","v":0},{"$f":"U7/(W4-U8)","v":0},{"$f":"IF(V7=0,0,(V7*((LOG(V7))/LOG(2))))","v":0},null,{"$f":"N7","v":11},{"$f":"COUNTIF(L17:L27,Y7)","v":2},{"$f":"Z7/(AB4-Z8)","v":0.33333333333333331},{"$f":"IF(AA7=0,0,(AA7*((LOG(AA7))/LOG(2))))","v":-0.52832083357371862},null,{"$f":"N7","v":11},{"$f":"COUNTIF(L28:L37,AD7)","v":0},{"$f":"AE7/(AG4-AE8)","v":0},{"$f":"IF(AF7=0,0,(AF7*((LOG(AF7))/LOG(2))))","v":0},null,{"$f":"N7","v":11},{"$f":"COUNTIF(L38:L47,AI7)","v":0},{"$f":"AJ7/(AL4-AJ8)","v":0},{"$f":"IF(AK7=0,0,(AK7*((LOG(AK7))/LOG(2))))","v":0},null,{"$f":"N7","v":11},{"$f":"COUNTIF(L48:L58,AN7)","v":2},{"$f":"AO7/(AQ4-AO8)","v":0.5},{"$f":"IF(AP7=0,0,(AP7*((LOG(AP7))/LOG(2))))","v":-0.5},null,{"$f":"N7","v":11},{"$f":"COUNTIF(L59:L68,AS7)","v":4},{"$f":"AT7/(AV4-AT8)","v":0.66666666666666663},{"$f":"IF(AU7=0,0,(AU7*((LOG(AU7))/LOG(2))))","v":-0.38997500048077083}]
[22,170,14,178,null,null,null,null,null,null,0,21,null,12,{"$f":"COUNTIF($L$7:$L$500,N8)","v":34},{"$f":"O8/$Q$4","v":0.54838709677419351},{"$f":"IF(P8=0,0,(P8*((LOG(P8))/LOG(2))))","v":-0.47530545081681003},null,null,{"$f":"N8","v":12},{"$f":"COUNTIF(L7:L16,T8)","v":3},null,null,null,{"$f":"N8","v":12},{"$f":"COUNTIF(L17:L27,Y8)","v":5},null,null,null,{"$f":"N8","v":12},{"$f":"COUNTIF(L28:L37,AD8)","v":8},null,null,null,{"$f":"N8","v":12},{"$f":"COUNTIF(L38:L47,AI8)","v":7},null,null,null,{"$f":"N8","v":12},{"$f":"COUNTIF(L48:L58,AN8)","v":7},null,null,null,{"$f":"N8","v":12},{"$f":"COUNTIF(L59:L68,AS8)","v":4}]
[22,280,14,287,null,null,null,null,null,null,0,21,null,21,{"$f":"COUNTIF($L$7:$L$500,N9)","v":16},{"$f":"O9/$Q$4","v":0.25806451612903225},{"$f":"IF(P9=0,0,(P9*((LOG(P9))/LOG(2))))","v":-0.50430872526112902},null,null,{"$f":"N9","v":21},{"$f":"COUNTIF(L7:L16,T9)","v":6},{"$f":"U9/(W4-U8)","v":0.8571428571428571},{"$f":"IF(V9=0,0,(V9*((LOG(V9))/LOG(2))))","v":-0.19062207543124113},null,{"$f":"N9","v":21},{"$f":"COUNTIF(L17:L27,Y9)","v":3},{"$f":"Z9/(AB4-Z8)","v":0.5},{"$f":"IF(AA9=0,0,(AA9*((LOG(AA9))/LOG(2))))","v":-0.5},null,{"$f":"N9","v":21},{"$f":"COUNTIF(L28:L37,AD9)","v":2},{"$f":"AE9/(AG4-AE8)","v":1},{"$f":"IF(AF9=0,0,(AF9*((LOG(AF9))/LOG(2))))","v":0},null,{"$f":"N9","v":21},{"$f":"COUNTIF(L38:L47,AI9)","v":2},{"$f":"AJ9/(AL4-AJ8)","v":0.66666666666666663},{"$f":"IF(AK9=0,0,(AK9*((LOG(AK9))/LOG(2))))","v":-0.38997500048077083},null,{"$f":"N9","v":21},{"$f":"COUNTIF(L48:L58,AN9)","v":1},{"$f":"AO9/(AQ4-AO8)","v":0.25},{"$f":"IF(AP9=0,0,(AP9*((LOG(AP9))/LOG(2))))","v":-0.5},null,{"$f":"N9","v":21},{"$f":"COUNTIF(L59:L68,AS9)","v":2},{"$f":"AT9/(AV4-AT8)","v":0.33333333333333331},{"$f":"IF(AU9=0,0,(AU9*((LOG(AU9))/LOG(2))))","v":-0.52832083357371862}]
[22,385,14,393,null,null,null,null,null,null,0,21,null,22,{"$f":"COUNTIF($L$7:$L$500,N10)","v":4},{"$f":"O10/$Q$4","v":6.4516129032258063E-2},{"$f":"IF(P10=0,0,(P10*((LOG(P10))/LOG(2))))","v":-0.25510943937979835},null,null,{"$f":"N10","v":22},{"$f":"COUNTIF(L7:L16,T10)","v":1},{"$f":"U10/(W4-U8)","v":0.14285714285714285},{"$f":"IF(V10=0,0,(V10*((LOG(V10))/LOG(2))))","v":-0.40105070315108626},null,{"$f":"N10","v":22},{"$f":"COUNTIF(L17:L27,Y10)","v":1},{"$f":"Z10/(AB4-Z8)","v":0.16666666666666666},{"$f":"IF(AA10=0,0,(AA10*((LOG(AA10))/LOG(2))))","v":-0.43082708345352599},null,{"$f":"N10","v":22},{"$f":"COUNTIF(L28:L37,AD10)","v":0},{"$f":"AE10/(AG4-AE8)","v":0},{"$f":"IF(AF10=0,0,(AF10*((LOG(AF10))/LOG(2))))","v":0},null,{"$f":"N10","v":22},{"$f":"COUNTIF(L38:L47,AI10)","v":1},{"$f":"AJ10/(AL4-AJ8)","v":0.33333333333333331},{"$f":"IF(AK10=0,0,(AK10*((LOG(AK10))/LOG(2))))","v":-0.52832083357371862},null,{"$f":"N10","v":22},{"$f":"COUNTIF(L48:L58,AN10)","v":1},{"$f":"AO10/(AQ4-AO8)","v":0.25},{"$f":"IF(AP10=0,0,(AP10*((LOG(AP10))/LOG(2))))","v":-0.5},null,{"$f":"N10","v":22},{"$f":"COUNTIF(L59:L68,AS10)","v":0},{"$f":"AT10/(AV4-AT8)","v":0},{"$f":"IF(AU10=0,0,(AU10*((LOG(AU10))/LOG(2))))","v":0}]
[22,493,14,500,null,null,null,null,null,null,0,21,null,null,null,null,null,null,null,{"$f":"N11","v":0},{"$f":"COUNTIF(L7:L16,T11)","v":0},{"$f":"U11/(W4-U8)","v":0},{"$f":"IF(V11=0,0,(V11*((LOG(V11))/LOG(2))))","v":0},null,{"$f":"N11","v":0},{"$f":"COUNTIF(L17:L27,Y11)","v":0},{"$f":"Z11/(AB4-Z8)","v":0},{"$f":"IF(AA11=0,0,(AA11*((LOG(AA11))/LOG(2))))","v":0},null,{"$f":"N11","v":0},{"$f":"COUNTIF(L28:L37,AD11)","v":0},{"$f":"AE11/(AG4-AE8)","v":0},{"$f":"IF(AF11=0,0,(AF11*((LOG(AF11))/LOG(2))))","v":0},null,{"$f":"N11","v":0},{"$f":"COUNTIF(L38:L47,AI11)","v":0},{"$f":"AJ11/(AL4-AJ8)","v":0},{"$f":"IF(AK11=0,0,(AK11*((LOG(AK11))/LOG(2))))","v":0},null,{"$f":"N11","v":0},{"$f":"COUNTIF(L48:L58,AN11)","v":0},{"$f":"AO11/(AQ4-AO8)","v":0},{"$f":"IF(AP11=0,0,(AP11*((LOG(AP11))/LOG(2))))","v":0},null,{"$f":"N11","v":0},{"$f":"COUNTIF(L59:L68,AS11)","v":0},{"$f":"AT11/(AV4-AT8)","v":0},{"$f":"IF(AU11=0,0,(AU11*((LOG(AU11))/LOG(2))))","v":0}]
[11,602,21,642,null,null,null,null,null,null,0,12,null,null,null,null,null,null,null,{"$f":"N12","v":0},{"$f":"COUNTIF(L7:L16,T12)","v":0},{"$f":"U12/(W4-U8)","v":0},{"$f":"IF(V12=0,0,(V12*((LOG(V12))/LOG(2))))","v":0},null,{"$f":"N12","v":0},{"$f":"COUNTIF(L17:L27,Y12)","v":0},{"$f":"Z12/(AB4-Z8)","v":0},{"$f":"IF(AA12=0,0,(AA12*((LOG(AA12))/LOG(2))))","v":0},null,{"$f":"N12","v":0},{"$f":"COUNTIF(L28:L37,AD12)","v":0},{"$f":"AE12/(AG4-AE8)","v":0},{"$f":"IF(AF12=0,0,(AF12*((LOG(AF12))/LOG(2))))","v":0},null,{"$f":"N12","v":0},{"$f":"COUNTIF(L38:L47,AI12)","v":0},{"$f":"AJ12/(AL4-AJ8)","v":0},{"$f":"IF(AK12=0,0,(AK12*((LOG(AK12))/LOG(2))))","v":0},null,{"$f":"N12","v":0},{"$f":"COUNTIF(L48:L58,AN12)","v":0},{"$f":"AO12/(AQ4-AO8)","v":0},{"$f":"IF(AP12=0,0,(AP12*((LOG(AP12))/LOG(2))))","v":0},null,{"$f":"N12","v":0},{"$f":"COUNTIF(L59:L68,AS12)","v":0},{"$f":"AT12/(AV4-AT8)","v":0},{"$f":"IF(AU12=0,0,(AU12*((LOG(AU12))/LOG(2))))","v":0}]
[22,734,14,742,null,null,null,null,null,null,0,21,null,null,null,null,null,null,null,{"$f":"N13","v":0},{"$f":"COUNTIF(L7:L16,T13)","v":0},{"$f":"U13/(W4-U8)","v":0},{"$f":"IF(V13=0,0,(V13*((LOG(V13))/LOG(2))))","v":0},null,{"$f":"N13","v":0},{"$f":"COUNTIF(L17:L27,Y13)","v":0},{"$f":"Z13/(AB4-Z8)","v":0},{"$f":"IF(AA13=0,0,(AA13*((LOG(AA13))/LOG(2))))","v":0},null,{"$f":"N13","v":0},{"$f":"COUNTIF(L28:L37,AD13)","v":0},{"$f":"AE13/(AG4-AE8)","v":0},{"$f":"IF(AF13=0,0,(AF13*((LOG(AF13))/LOG(2))))","v":0},null,{"$f":"N13","v":0},{"$f":"COUNTIF(L38:L47,AI13)","v":0},{"$f":"AJ13/(AL4-AJ8)","v":0},{"$f":"IF(AK13=0,0,(AK13*((LOG(AK13))/LOG(2))))","v":0},null,{"$f":"N13","v":0},{"$f":"COUNTIF(L48:L58,AN13)","v":0},{"$f":"AO13/(AQ4-AO8)","v":0},{"$f":"IF(AP13=0,0,(AP13*((LOG(AP13))/LOG(2))))","v":0},null,{"$f":"N13","v":0},{"$f":"COUNTIF(L59:L68,AS13)","v":0},{"$f":"AT13/(AV4-AT8)","v":0},{"$f":"IF(AU13=0,0,(AU13*((LOG(AU13))/LOG(2))))","v":0}]
[22,919,23,932,null,null,null,null,null,null,0,22,null,null,null,null,null,null,null,{"$f":"N14","v":0},{"$f":"COUNTIF(L7:L16,T14)","v":0},{"$f":"U14/(W4-U8)","v":0},{"$f":"IF(V14=0,0,(V14*((LOG(V14))/LOG(2))))","v":0},null,{"$f":"N14","v":0},{"$f":"COUNTIF(L17:L27,Y14)","v":0},{"$f":"Z14/(AB4-Z8)","v":0},{"$f":"IF(AA14=0,0,(AA14*((LOG(AA14))/LOG(2))))","v":0},null,{"$f":"N14","v":0},{"$f":"COUNTIF(L28:L37,AD14)","v":0},{"$f":"AE14/(AG4-AE8)","v":0},{"$f":"IF(AF14=0,0,(AF14*((LOG(AF14))/LOG(2))))","v":0},null,{"$f":"N14","v":0},{"$f":"COUNTIF(L38:L47,AI14)","v":0},{"$f":"AJ14/(AL4-AJ8)","v":0},{"$f":"IF(AK14=0,0,(AK14*((LOG(AK14))/LOG(2))))","v":0},null,{"$f":"N14","v":0},{"$f":"COUNTIF(L48:L58,AN14)","v":0},{"$f":"AO14/(AQ4-AO8)","v":0},{"$f":"IF(AP14=0,0,(AP14*((LOG(AP14))/LOG(2))))","v":0},null,{"$f":"N14","v":0},{"$f":"COUNTIF(L59:L68,AS14)","v":0},{"$f":"AT14/(AV4-AT8)","v":0},{"$f":"IF(AU14=0,0,(AU14*((LOG(AU14))/LOG(2))))","v":0}]
[22,1037,14,1044,null,null,null,null,null,null,0,21,null,null,null,{"$f":"SUM(P7:P14)","v":1},{"$f":"-SUM(Q7:Q14)","v":1.6159102361528181},null,null,null,null,{"$f":"SUM(V7:V14)","v":1},{"$f":"-SUM(W7:W14)","v":0.59167277858232736},null,null,null,{"$f":"SUM(AA7:AA14)","v":0.99999999999999989},{"$f":"-SUM(AB7:AB14)","v":1.4591479170272446},null,null,null,{"$f":"SUM(AF7:AF14)","v":1},{"$f":"-SUM(AG7:AG14)","v":0},null,null,null,{"$f":"SUM(AK7:AK14)","v":1},{"$f":"-SUM(AL7:AL14)","v":0.91829583405448945},null,null,null,{"$f":"SUM(AP7:AP14)","v":1},{"$f":"-SUM(AQ7:AQ14)","v":1.5},null,null,null,{"$f":"SUM(AU7:AU14)","v":1},{"$f":"-SUM(AV7:AV14)","v":0.91829583405448945}]
[11,1161,21,1172,null,null,null,null,null,null,0,12,null,null,null,"U=",{"$f":"Q15/(LOG(Q4)/LOG(2))","v":0.27139015106605113},null,null,null,null,"U1=",{"$f":"W15/(LOG(W4)/LOG(2))","v":0.17811125397113373},null,null,null,"U2=",{"$f":"AB15/(LOG(AB4)/LOG(2))","v":0.42178833920758824},null,null,null,"U3=",{"$f":"AG15/(LOG(AG4)/LOG(2))","v":0},null,null,null,"U4=",{"$f":"AL15/(LOG(AL4)/LOG(2))","v":0.27643459094367495},null,null,null,"U5=",{"$f":"AQ15/(LOG(AQ4)/LOG(2))","v":0.43359723947683171},null,null,null,"U6=",{"$f":"AV15/(LOG(AV4)/LOG(2))","v":0.27643459094367495}]
[11,1273,21,1316,null,null,null,null,null,null,0,12]
[11,1417,21,1428,null,null,null,null,null,null,0,12]
[11,1530,12,1541,null,null,null,null,null,null,0,11,null,"Total Target Seq"]
[11,1649,21,1686,null,null,null,null,null,null,0,12,null,{"$f":"COUNTIF(L7:L68,G3)","v":34},null,10,11,10,10,11,10]
[11,1790,12,1799,null,null,null,null,null,null,0,11,null,null,null,"% of reinforcement given in 6 equal intervals based on number of trials "]
[22,1905,23,1927,null,null,null,null,null,null,0,22,null,null,null,"%_1","%_2","%_3","%_4","%_5","%_6"]
[11,2030,21,2058,null,null,null,null,null,null,0,12,null,null,"target sequence",{"$f":"$G$3","v":12},{"$f":"$G$3","v":12},{"$f":"$G$3","v":12},{"$f":"$G$3","v":12},{"$f":"$G$3","v":12},{"$f":"$G$3","v":12}]
[22,2154,14,2162,null,null,null,null,null,null,0,21,null,null,"total reinforcement",{"$f":"U8","v":3},{"$f":"Z8","v":5},{"$f":"AE8","v":8},{"$f":"AJ8","v":7},{"$f":"AO8","v":7},{"$f":"AT8","v":4}]
[22,2260,14,2282,null,null,null,null,null,null,0,21,null,null,"% target"]
[11,2389,21,2402,null,null,null,null,null,null,0,12,null,null,"CCRF"]
[22,2498,14,2506,null,null,null,null,null,null,0,21,null,null,"% CCRf"]
[22,2604,14,2612,null,null,null,null,null,null,0,21,null,null,"average response rate",{"$f":"D16/P20","v":117.2},{"$f":"(D27-D16)/Q20","v":121.27272727272727},{"$f":"(D37-D27)/R20","v":119.1},{"$f":"(D47-D37)/S20","v":130.80000000000001},{"$f":"(D58-D47)/T20","v":136.54545454545453},{"$f":"(D68-D58)/U20","v":169.9}]
[11,2719,21,2737,null,null,null,null,null,null,0,12]
[11,2842,21,2871,null,null,null,null,null,null,0,12]
[11,2972,21,3020,null,null,null,null,null,null,0,12]
[11,3123,21,3141,null,null,null,null,null,null,0,12]
[22,3233,14,3241,null,null,null,null,null,null,0,21]
[11,3340,21,3350,null,null,null,null,null,null,0,12]
[11,3449,21,3479,null,null,null,null,null,null,0,12]
[11,3573,21,3594,null,null,null,null,null,null,0,12]
[11,3689,21,3697,null,null,null,null,null,null,0,12]
[11,3791,21,3846,null,null,null,null,null,null,0,12]
[22,3952,14,3959,null,null,null,null,null,null,0,21]
[11,4063,21,4071,null,null,null,null,null,null,0,12]
[11,4177,21,4195,null,null,null,null,null,null,0,12]
[11,4402,21,4410,null,null,null,null,null,null,0,12]
[11,4504,21,4513,null,null,null,null,null,null,0,12]
[11,4613,21,4634,null,null,null,null,null,null,0,12]
[11,4736,21,4774,null,null,null,null,null,null,0,12]
[22,4871,14,4878,null,null,null,null,null,null,0,21]
[22,4988,23,5005,null,null,null,null,null,null,0,22]
[22,5137,23,5192,null,null,null,null,null,null,0,22]
[22,5296,14,5304,null,null,null,null,null,null,0,21]
[11,5403,21,5427,null,null,null,null,null,null,0,12]
[11,5529,21,5543,null,null,null,null,null,null,0,12]
[11,5646,21,5655,null,null,null,null,null,null,0,12]
[11,5776,21,5793,null,null,null,null,null,null,0,12]
[11,5888,21,5915,null,null,null,null,null,null,0,12]
[11,6016,21,6059,null,null,null,null,null,null,0,12]
[11,6175,21,6184,null,null,null,null,null,null,0,12]
[11,6356,12,6383,null,null,null,null,null,null,0,11]
[11,6486,12,6507,null,null,null,null,null,null,0,11]
[11,6605,12,6617,null,null,null,null,null,null,0,11]
[22,6764,14,6799,null,null,null,null,null,null,0,21]
[11,6986,21,7001,null,null,null,null,null,null,0,12]
[11,7142,12,7155,null,null,null,null,null,null,0,11]
[22,7287,14,7299,null,null,null,null,null,null,0,21]
[11,7409,12,7422,null,null,null,null,null,null,0,11]
[11,7552,21,7584,null,null,null,null,null,null,0,12]
[11,7858,12,7872,null,null,null,null,null,null,0,11]
[11,8073,21,8083,null,null,null,null,null,null,0,12]
[11,8197,21,8206,null,null,null,null,null,null,1,12]

{"sheet":"!N215920.095","index":15,"n_rows":72,"n_cols":48,"rows_kept":72,"cut":false,"hidden":false,"merged":[[4,39,4,42],[5,39,5,40],[4,44,4,47],[5,44,5,45],[4,24,4,27],[5,24,5,25],[4,29,4,32],[5,29,5,30],[4,34,4,37],[5,34,5,35],[1,1,1,2],[5,13,5,14],[18,13,18,14],[19,13,19,14],[4,19,4,22],[5,19,5,20]]}
["Report for:!N215920.095"]
["Date:","<date>"]
["Hen:","<hen>",null,null,null,"Correct Sequence",{"$f":"Start!J2","v":12},null,null,null,null,null,null,null,null,"Total Sequences in Data",{"$f":"4994-COUNTBLANK(L7:L5000)","v":66},null,null,null,null,"Total Sequences in Block Data",{"$f":"COUNTA(L7:L17)","v":11},null,null,null,"Total Sequences in Block Data",{"$f":"COUNTA(L18:L28)","v":11},null,null,null,"Total Sequences in Block Data",{"$f":"COUNTA(L29:L39)","v":11},null,null,null,"Total Sequences in Block Data",{"$f":"COUNTA(L40:L50)","v":11},null,null,null,"Total Sequences in Block Data",{"$f":"COUNTA(L51:L61)","v":11},null,null,null,"Total Sequences in Block Data",{"$f":"COUNTA(L62:L72)","v":11}]
[null,null,null,null,null,null,null,null,null,null,null,null,null,null,null,"Total Sequences in Summary",{"$f":"SUM(O7:O14)","v":66},null,null,null,null,"Total Sequences in Block Summary",{"$f":"SUM(U7:U14)","v":11},null,null,null,"Total Sequences in Block Summary",{"$f":"SUM(Z7:Z14)","v":11},null,null,null,"Total Sequences in Block Summary",{"$f":"SUM(AE7:AE14)","v":11},null,null,null,"Total Sequences in Block Summary",{"$f":"SUM(AJ7:AJ14)","v":11},null,null,null,"Total Sequences in Block Summary",{"$f":"SUM(AO7:AO14)","v":11},null,null,null,"Total Sequences in Block Summary",{"$f":"SUM(AT7:AT14)","v":11}]
[null,null,null,null,null,null,null,null,null,null,null,null,null,null,null,null,null,null,null,"Block 1",null,null,null,null,"Block 2",null,null,null,null,"Block 3",null,null,null,null,"Block 4",null,null,null,null,"Block 5",null,null,null,null,"Block 6"]
["Sequence\nComponent\n1","Time\n1","Sequence\nComponent\n2","Time\n2","Sequence\nComponent\n3","Time\n3","Sequence\nComponent\n4","Time\n4","Sequence\nComponent\n5","Time\n5","Correct?\n0=No 1=Yes","Sequence",null,"Frequency",null,"Relative Frequency","Variability",null,null,"Frequency",null,"Relative Frequency","Variability",null,"Frequency",null,"Relative Frequency","Variability",null,"Frequency",null,"Relative Frequency","Variability",null,"Frequency",null,"Relative Frequency","Variability",null,"Frequency",null,"Relative Frequency","Variability",null,"Frequency",null,"Relative Frequency","Variability"]
[11,42,21,76,null,null,null,null,null,null,0,12,null,11,{"$f":"COUNTIF($L$7:$L$500,N7)","v":8},{"$f":"O7/$Q$4","v":0.12121212121212122},{"$f":"IF(P7=0,0,(P7*((LOG(P7))/LOG(2))))","v":-0.36901746901314586},null,null,{"$f":"N7","v":11},{"$f":"COUNTIF(L7:L17,T7)","v":3},{"$f":"U7/(W4-U8)","v":0.42857142857142855},{"$f":"IF(V7=0,0,(V7*((LOG(V7))/LOG(2))))","v":-0.52388246628704915},null,{"$f":"N7","v":11},{"$f":"COUNTIF(L18:L28,Y7)","v":2},{"$f":"Z7/(AB4-Z8)","v":0.2857142857142857},{"$f":"IF(AA7=0,0,(AA7*((LOG(AA7))/LOG(2))))","v":-0.51638712058788683},null,{"$f":"N7","v":11},{"$f":"COUNTIF(L29:L39,AD7)","v":2},{"$f":"AE7/(AG4-AE8)","v":0.5},{"$f":"IF(AF7=0,0,(AF7*((LOG(AF7))/LOG(2))))","v":-0.5},null,{"$f":"N7","v":11},{"$f":"COUNTIF(L40:L50,AI7)","v":0},{"$f":"AJ7/(AL4-AJ8)","v":0},{"$f":"IF(AK7=0,0,(AK7*((LOG(AK7))/LOG(2))))","v":0},null,{"$f":"N7","v":11},{"$f":"COUNTIF(L51:L61,AN7)","v":0},{"$f":"AO7/(AQ4-AO8)","v":0},{"$f":"IF(AP7=0,0,(AP7*((LOG(AP7))/LOG(2))))","v":0},null,{"$f":"N7","v":11},{"$f":"COUNTIF(L62:L72,AS7)","v":1},{"$f":"AT7/(AV4-AT8)","v":0.33333333333333331},{"$f":"IF(AU7=0,0,(AU7*((LOG(AU7))/LOG(2))))","v":-0.52832083357371862}]
[11,175,12,183,null,null,null,null,null,null,0,11,null,12,{"$f":"COUNTIF($L$7:$L$500,N8)","v":35},{"$f":"O8/$Q$4","v":0.53030303030303028},{"$f":"IF(P8=0,0,(P8*((LOG(P8))/LOG(2))))","v":-0.48528619067381884},null,null,{"$f":"N8","v":12},{"$f":"COUNTIF(L7:L17,T8)","v":4},null,null,null,{"$f":"N8","v":12},{"$f":"COUNTIF(L18:L28,Y8)","v":4},null,null,null,{"$f":"N8","v":12},{"$f":"COUNTIF(L29:L39,AD8)","v":7},null,null,null,{"$f":"N8","v":12},{"$f":"COUNTIF(L40:L50,AI8)","v":7},null,null,null,{"$f":"N8","v":12},{"$f":"COUNTIF(L51:L61,AN8)","v":5},null,null,null,{"$f":"N8","v":12},{"$f":"COUNTIF(L62:L72,AS8)","v":8}]
[22,280,14,288,null,null,null,null,null,null,0,21,null,21,{"$f":"COUNTIF($L$7:$L$500,N9)","v":16},{"$f":"O9/$Q$4","v":0.24242424242424243},{"$f":"IF(P9=0,0,(P9*((LOG(P9))/LOG(2))))","v":-0.49561069560204934},null,null,{"$f":"N9","v":21},{"$f":"COUNTIF(L7:L17,T9)","v":3},{"$f":"U9/(W4-U8)","v":0.42857142857142855},{"$f":"IF(V9=0,0,(V9*((LOG(V9))/LOG(2))))","v":-0.52388246628704915},null,{"$f":"N9","v":21},{"$f":"COUNTIF(L18:L28,Y9)","v":4},{"$f":"Z9/(AB4-Z8)","v":0.5714285714285714},{"$f":"IF(AA9=0,0,(AA9*((LOG(AA9))/LOG(2))))","v":-0.46134566974720237},null,{"$f":"N9","v":21},{"$f":"COUNTIF(L29:L39,AD9)","v":0},{"$f":"AE9/(AG4-AE8)","v":0},{"$f":"IF(AF9=0,0,(AF9*((LOG(AF9))/LOG(2))))","v":0},null,{"$f":"N9","v":21},{"$f":"COUNTIF(L40:L50,AI9)","v":3},{"$f":"AJ9/(AL4-AJ8)","v":0.75},{"$f":"IF(AK9=0,0,(AK9*((LOG(AK9))/LOG(2))))","v":-0.31127812445913283},null,{"$f":"N9","v":21},{"$f":"COUNTIF(L51:L61,AN9)","v":4},{"$f":"AO9/(AQ4-AO8)","v":0.66666666666666663},{"$f":"IF(AP9=0,0,(AP9*((LOG(AP9))/LOG(2))))","v":-0.38997500048077083},null,{"$f":"N9","v":21},{"$f":"COUNTIF(L62:L72,AS9)","v":2},{"$f":"AT9/(AV4-AT8)","v":0.66666666666666663},{"$f":"IF(AU9=0,0,(AU9*((LOG(AU9))/LOG(2))))","v":-0.38997500048077083}]
[11,394,21,417,null,null,null,null,null,null,0,12,null,22,{"$f":"COUNTIF($L$7:$L$500,N10)","v":7},{"$f":"O10/$Q$4","v":0.10606060606060606},{"$f":"IF(P10=0,0,(P10*((LOG(P10))/LOG(2))))","v":-0.34332233910766585},null,null,{"$f":"N10","v":22},{"$f":"COUNTIF(L7:L17,T10)","v":1},{"$f":"U10/(W4-U8)","v":0.14285714285714285},{"$f":"IF(V10=0,0,(V10*((LOG(V10))/LOG(2))))","v":-0.40105070315108626},null,{"$f":"N10","v":22},{"$f":"COUNTIF(L18:L28,Y10)","v":1},{"$f":"Z10/(AB4-Z8)","v":0.14285714285714285},{"$f":"IF(AA10=0,0,(AA10*((LOG(AA10))/LOG(2))))","v":-0.40105070315108626},null,{"$f":"N10","v":22},{"$f":"COUNTIF(L29:L39,AD10)","v":2},{"$f":"AE10/(AG4-AE8)","v":0.5},{"$f":"IF(AF10=0,0,(AF10*((LOG(AF10))/LOG(2))))","v":-0.5},null,{"$f":"N10","v":22},{"$f":"COUNTIF(L40:L50,AI10)","v":1},{"$f":"AJ10/(AL4-AJ8)","v":0.25},{"$f":"IF(AK10=0,0,(AK10*((LOG(AK10))/LOG(2))))","v":-0.5},null,{"$f":"N10","v":22},{"$f":"COUNTIF(L51:L61,AN10)","v":2},{"$f":"AO10/(AQ4-AO8)","v":0.33333333333333331},{"$f":"IF(AP10=0,0,(AP10*((LOG(AP10))/LOG(2))))","v":-0.52832083357371862},null,{"$f":"N10","v":22},{"$f":"COUNTIF(L62:L72,AS10)","v":0},{"$f":"AT10/(AV4-AT8)","v":0},{"$f":"IF(AU10=0,0,(AU10*((LOG(AU10))/LOG(2))))","v":0}]
[22,543,23,578,null,null,null,null,null,null,0,22,null,null,null,null,null,null,null,{"$f":"N11","v":0},{"$f":"COUNTIF(L7:L17,T11)","v":0},{"$f":"U11/(W4-U8)","v":0},{"$f":"IF(V11=0,0,(V11*((LOG(V11))/LOG(2))))","v":0},null,{"$f":"N11","v":0},{"$f":"COUNTIF(L18:L28,Y11)","v":0},{"$f":"Z11/(AB4-Z8)","v":0},{"$f":"IF(AA11=0,0,(AA11*((LOG(AA11))/LOG(2))))","v":0},null,{"$f":"N11","v":0},{"$f":"COUNTIF(L29:L39,AD11)","v":0},{"$f":"AE11/(AG4-AE8)","v":0},{"$f":"IF(AF11=0,0,(AF11*((LOG(AF11))/LOG(2))))","v":0},null,{"$f":"N11","v":0},{"$f":"COUNTIF(L40:L50,AI11)","v":0},{"$f":"AJ11/(AL4-AJ8)","v":0},{"$f":"IF(AK11=0,0,(AK11*((LOG(AK11))/LOG(2))))","v":0},null,{"$f":"N11","v":0},{"$f":"COUNTIF(L51:L61,AN11)","v":0},{"$f":"AO11/(AQ4-AO8)","v":0},{"$f":"IF(AP11=0,0,(AP11*((LOG(AP11))/LOG(2))))","v":0},null,{"$f":"N11","v":0},{"$f":"COUNTIF(L62:L72,AS11)","v":0},{"$f":"AT11/(AV4-AT8)","v":0},{"$f":"IF(AU11=0,0,(AU11*((LOG(AU11))/LOG(2))))","v":0}]
[11,681,12,689,null,null,null,null,null,null,0,11,null,null,null,null,null,null,null,{"$f":"N12","v":0},{"$f":"COUNTIF(L7:L17,T12)","v":0},{"$f":"U12/(W4-U8)","v":0},{"$f":"IF(V12=0,0,(V12*((LOG(V12))/LOG(2))))","v":0},null,{"$f":"N12","v":0},{"$f":"COUNTIF(L18:L28,Y12)","v":0},{"$f":"Z12/(AB4-Z8)","v":0},{"$f":"IF(AA12=0,0,(AA12*((LOG(AA12))/LOG(2))))","v":0},null,{"$f":"N12","v":0},{"$f":"COUNTIF(L29:L39,AD12)","v":0},{"$f":"AE12/(AG4-AE8)","v":0},{"$f":"IF(AF12=0,0,(AF12*((LOG(AF12))/LOG(2))))","v":0},null,{"$f":"N12","v":0},{"$f":"COUNTIF(L40:L50,AI12)","v":0},{"$f":"AJ12/(AL4-AJ8)","v":0},{"$f":"IF(AK12=0,0,(AK12*((LOG(AK12))/LOG(2))))","v":0},null,{"$f":"N12","v":0},{"$f":"COUNTIF(L51:L61,AN12)","v":0},{"$f":"AO12/(AQ4-AO8)","v":0},{"$f":"IF(AP12=0,0,(AP12*((LOG(AP12))/LOG(2))))","v":0},null,{"$f":"N12","v":0},{"$f":"COUNTIF(L62:L72,AS12)","v":0},{"$f":"AT12/(AV4-AT8)","v":0},{"$f":"IF(AU12=0,0,(AU12*((LOG(AU12))/LOG(2))))","v":0}]
[11,798,21,811,null,null,null,null,null,null,0,12,null,null,null,null,null,null,null,{"$f":"N13","v":0},{"$f":"COUNTIF(L7:L17,T13)","v":0},{"$f":"U13/(W4-U8)","v":0},{"$f":"IF(V13=0,0,(V13*((LOG(V13))/LOG(2))))","v":0},null,{"$f":"N13","v":0},{"$f":"COUNTIF(L18:L28,Y13)","v":0},{"$f":"Z13/(AB4-Z8)","v":0},{"$f":"IF(AA13=0,0,(AA13*((LOG(AA13))/LOG(2))))","v":0},null,{"$f":"N13","v":0},{"$f":"COUNTIF(L29:L39,AD13)","v":0},{"$f":"AE13/(AG4-AE8)","v":0},{"$f":"IF(AF13=0,0,(AF13*((LOG(AF13))/LOG(2))))","v":0},null,{"$f":"N13","v":0},{"$f":"COUNTIF(L40:L50,AI13)","v":0},{"$f":"AJ13/(AL4-AJ8)","v":0},{"$f":"IF(AK13=0,0,(AK13*((LOG(AK13))/LOG(2))))","v":0},null,{"$f":"N13","v":0},{"$f":"COUNTIF(L51:L61,AN13)","v":0},{"$f":"AO13/(AQ4-AO8)","v":0},{"$f":"IF(AP13=0,0,(AP13*((LOG(AP13))/LOG(2))))","v":0},null,{"$f":"N13","v":0},{"$f":"COUNTIF(L62:L72,AS13)","v":0},{"$f":"AT13/(AV4-AT8)","v":0},{"$f":"IF(AU13=0,0,(AU13*((LOG(AU13))/LOG(2))))","v":0}]
[22,904,14,912,null,null,null,null,null,null,0,21,null,null,null,null,null,null,null,{"$f":"N14","v":0},{"$f":"COUNTIF(L7:L17,T14)","v":0},{"$f":"U14/(W4-U8)","v":0},{"$f":"IF(V14=0,0,(V14*((LOG(V14))/LOG(2))))","v":0},null,{"$f":"N14","v":0},{"$f":"COUNTIF(L18:L28,Y14)","v":0},{"$f":"Z14/(AB4-Z8)","v":0},{"$f":"IF(AA14=0,0,(AA14*((LOG(AA14))/LOG(2))))","v":0},null,{"$f":"N14","v":0},{"$f":"COUNTIF(L29:L39,AD14)","v":0},{"$f":"AE14/(AG4-AE8)","v":0},{"$f":"IF(AF14=0,0,(AF14*((LOG(AF14))/LOG(2))))","v":0},null,{"$f":"N14","v":0},{"$f":"COUNTIF(L40:L50,AI14)","v":0},{"$f":"AJ14/(AL4-AJ8)","v":0},{"$f":"IF(AK14=0,0,(AK14*((LOG(AK14))/LOG(2))))","v":0},null,{"$f":"N14","v":0},{"$f":"COUNTIF(L51:L61,AN14)","v":0},{"$f":"AO14/(AQ4-AO8)","v":0},{"$f":"IF(AP14=0,0,(AP14*((LOG(AP14))/LOG(2))))","v":0},null,{"$f":"N14","v":0},{"$f":"COUNTIF(L62:L72,AS14)","v":0},{"$f":"AT14/(AV4-AT8)","v":0},{"$f":"IF(AU14=0,0,(AU14*((LOG(AU14))/LOG(2))))","v":0}]
[22,1008,14,1015,null,null,null,null,null,null,0,21,null,null,null,{"$f":"SUM(P7:P14)","v":1},{"$f":"-SUM(Q7:Q14)","v":1.6932366943966799},null,null,null,null,{"$f":"SUM(V7:V14)","v":1},{"$f":"-SUM(W7:W14)","v":1.4488156357251847},null,null,null,{"$f":"SUM(AA7:AA14)","v":1},{"$f":"-SUM(AB7:AB14)","v":1.3787834934861753},null,null,null,{"$f":"SUM(AF7:AF14)","v":1},{"$f":"-SUM(AG7:AG14)","v":1},null,null,null,{"$f":"SUM(AK7:AK14)","v":1},{"$f":"-SUM(AL7:AL14)","v":0.81127812445913283},null,null,null,{"$f":"SUM(AP7:AP14)","v":1},{"$f":"-SUM(AQ7:AQ14)","v":0.91829583405448945},null,null,null,{"$f":"SUM(AU7:AU14)","v":1},{"$f":"-SUM(AV7:AV14)","v":0.91829583405448945}]
[11,1120,12,1128,null,null,null,null,null,null,0,11,null,null,null,"U=",{"$f":"Q15/(LOG(Q4)/LOG(2))","v":0.28013340311045082},null,null,null,null,"U1=",{"$f":"W15/(LOG(W4)/LOG(2))","v":0.41880164010754073},null,null,null,"U2=",{"$f":"AB15/(LOG(AB4)/LOG(2))","v":0.3985578110745519},null,null,null,"U3=",{"$f":"AG15/(LOG(AG4)/LOG(2))","v":0.28906482631788782},null,null,null,"U4=",{"$f":"AL15/(LOG(AL4)/LOG(2))","v":0.23451197014228101},null,null,null,"U5=",{"$f":"AQ15/(LOG(AQ4)/LOG(2))","v":0.26544702577940094},null,null,null,"U6=",{"$f":"AV15/(LOG(AV4)/LOG(2))","v":0.26544702577940094}]
[11,1238,21,1246,null,null,null,null,null,null,0,12]
[11,1345,21,1356,null,null,null,null,null,null,0,12]
[11,1462,21,1501,null,null,null,null,null,null,0,12,null,"Total Target Seq"]
[22,1595,14,1604,null,null,null,null,null,null,0,21,null,{"$f":"COUNTIF(L7:L72,G3)","v":35},null,11,11,11,11,11,11]
[22,1711,14,1719,null,null,null,null,null,null,0,21,null,null,null,"% of reinforcement given in 6 equal intervals based on number of trials "]
[22,1812,14,1819,null,null,null,null,null,null,0,21,null,null,null,"%_1","%_2","%_3","%_4","%_5","%_6"]
[11,1915,21,1928,null,null,null,null,null,null,0,12,null,null,"target sequence",{"$f":"$G$3","v":12},{"$f":"$G$3","v":12},{"$f":"$G$3","v":12},{"$f":"$G$3","v":12},{"$f":"$G$3","v":12},{"$f":"$G$3","v":12}]
[22,2074,23,2112,null,null,null,null,null,null,0,22,null,null,"total reinforcement",{"$f":"U8","v":4},{"$f":"Z8","v":4},{"$f":"AE8","v":7},{"$f":"AJ8","v":7},{"$f":"AO8","v":5},{"$f":"AT8","v":8}]
[11,2217,21,2247,null,null,null,null,null,null,0,12,null,null,"% target"]
[11,2349,12,2356,null,null,null,null,null,null,0,11,null,null,"CCRF"]
[11,2458,12,2466,null,null,null,null,null,null,0,11,null,null,"% CCRf"]
[22,2568,14,2575,null,null,null,null,null,null,0,21,null,null,"average response rate",{"$f":"D17/P20","v":113.27272727272727},{"$f":"(D28-D17)/Q20","v":120.81818181818181},{"$f":"(D39-D28)/R20","v":129.45454545454547},{"$f":"(D50-D39)/S20","v":123.45454545454545},{"$f":"(D61-D50)/T20","v":123.36363636363636},{"$f":"(D72-D61)/U20","v":129.72727272727272}]
[11,2676,21,2727,null,null,null,null,null,null,0,12]
[11,2827,12,2836,null,null,null,null,null,null,0,11]
[11,2942,21,2968,null,null,null,null,null,null,0,12]
[11,3071,21,3108,null,null,null,null,null,null,0,12]
[11,3214,21,3226,null,null,null,null,null,null,0,12]
[11,3341,21,3363,null,null,null,null,null,null,0,12]
[22,3487,23,3507,null,null,null,null,null,null,0,22]
[11,3612,21,3623,null,null,null,null,null,null,0,12]
[11,3727,12,3734,null,null,null,null,null,null,0,11]
[11,3843,21,3878,null,null,null,null,null,null,0,12]
[22,3986,23,3999,null,null,null,null,null,null,0,22]
[22,4091,14,4099,null,null,null,null,null,null,0,21]
[22,4196,14,4203,null,null,null,null,null,null,0,21]
[22,4330,14,4338,null,null,null,null,null,null,0,21]
[11,4441,21,4460,null,null,null,null,null,null,0,12]
[11,4581,21,4592,null,null,null,null,null,null,0,12]
[11,4694,21,4719,null,null,null,null,null,null,0,12]
[11,4825,21,4840,null,null,null,null,null,null,0,12]
[11,4943,21,4952,null,null,null,null,null,null,0,12]
[11,5051,21,5098,null,null,null,null,null,null,0,12]
[11,5200,21,5219,null,null,null,null,null,null,0,12]
[22,5327,23,5357,null,null,null,null,null,null,0,22]
[22,5457,14,5465,null,null,null,null,null,null,0,21]
[22,5598,23,5616,null,null,null,null,null,null,0,22]
[22,5718,14,5726,null,null,null,null,null,null,0,21]
[11,5851,21,5867,null,null,null,null,null,null,0,12]
[11,5966,21,5980,null,null,null,null,null,null,0,12]
[11,6076,21,6097,null,null,null,null,null,null,0,12]
[22,6190,14,6198,null,null,null,null,null,null,0,21]
[11,6319,21,6363,null,null,null,null,null,null,0,12]
[22,6469,14,6478,null,null,null,null,null,null,0,21]
[22,6578,23,6594,null,null,null,null,null,null,0,22]
[11,6699,21,6714,null,null,null,null,null,null,0,12]
[11,6812,21,6826,null,null,null,null,null,null,0,12]
[11,6932,21,6942,null,null,null,null,null,null,0,12]
[11,7045,21,7056,null,null,null,null,null,null,0,12]
[11,7161,12,7228,null,null,null,null,null,null,0,11]
[11,7364,21,7391,null,null,null,null,null,null,0,12]
[22,7486,14,7493,null,null,null,null,null,null,0,21]
[11,7645,21,7656,null,null,null,null,null,null,0,12]
[11,7756,21,7763,null,null,null,null,null,null,0,12]
[22,7861,14,7870,null,null,null,null,null,null,0,21]
[11,7970,21,7985,null,null,null,null,null,null,0,12]
[11,8122,21,8141,null,null,null,null,null,null,1,12]

{"sheet":"!N216920.095","index":16,"n_rows":67,"n_cols":48,"rows_kept":67,"cut":false,"hidden":false,"merged":[[4,39,4,42],[5,39,5,40],[4,44,4,47],[5,44,5,45],[4,24,4,27],[5,24,5,25],[4,29,4,32],[5,29,5,30],[4,34,4,37],[5,34,5,35],[1,1,1,2],[5,13,5,14],[18,13,18,14],[19,13,19,14],[4,19,4,22],[5,19,5,20]]}
["Report for:!N216920.095"]
["Date:","<date>"]
["Hen:","<hen>",null,null,null,"Correct Sequence",{"$f":"Start!J2","v":12},null,null,null,null,null,null,null,null,"Total Sequences in Data",{"$f":"4994-COUNTBLANK(L7:L5000)","v":61},null,null,null,null,"Total Sequences in Block Data",{"$f":"COUNTA(L7:L16)","v":10},null,null,null,"Total Sequences in Block Data",{"$f":"COUNTA(L17:L26)","v":10},null,null,null,"Total Sequences in Block Data",{"$f":"COUNTA(L27:L37)","v":11},null,null,null,"Total Sequences in Block Data",{"$f":"COUNTA(L38:L47)","v":10},null,null,null,"Total Sequences in Block Data",{"$f":"COUNTA(L48:L57)","v":10},null,null,null,"Total Sequences in Block Data",{"$f":"COUNTA(L58:L67)","v":10}]
[null,null,null,null,null,null,null,null,null,null,null,null,null,null,null,"Total Sequences in Summary",{"$f":"SUM(O7:O14)","v":61},null,null,null,null,"Total Sequences in Block Summary",{"$f":"SUM(U7:U14)","v":10},null,null,null,"Total Sequences in Block Summary",{"$f":"SUM(Z7:Z14)","v":10},null,null,null,"Total Sequences in Block Summary",{"$f":"SUM(AE7:AE14)","v":11},null,null,null,"Total Sequences in Block Summary",{"$f":"SUM(AJ7:AJ14)","v":10},null,null,null,"Total Sequences in Block Summary",{"$f":"SUM(AO7:AO14)","v":10},null,null,null,"Total Sequences in Block Summary",{"$f":"SUM(AT7:AT14)","v":10}]
[null,null,null,null,null,null,null,null,null,null,null,null,null,null,null,null,null,null,null,"Block 1",null,null,null,null,"Block 2",null,null,null,null,"Block 3",null,null,null,null,"Block 4",null,null,null,null,"Block 5",null,null,null,null,"Block 6"]
["Sequence\nComponent\n1","Time\n1","Sequence\nComponent\n2","Time\n2","Sequence\nComponent\n3","Time\n3","Sequence\nComponent\n4","Time\n4","Sequence\nComponent\n5","Time\n5","Correct?\n0=No 1=Yes","Sequence",null,"Frequency",null,"Relative Frequency","Variability",null,null,"Frequency",null,"Relative Frequency","Variability",null,"Frequency",null,"Relative Frequency","Variability",null,"Frequency",null,"Relative Frequency","Variability",null,"Frequency",null,"Relative Frequency","Variability",null,"Frequency",null,"Relative Frequency","Variability",null,"Frequency",null,"Relative Frequency","Variability"]
[22,9,23,20,null,null,null,null,null,null,0,22,null,11,{"$f":"COUNTIF($L$7:$L$500,N7)","v":9},{"$f":"O7/$Q$4","v":0.14754098360655737},{"$f":"IF(P7=0,0,(P7*((LOG(P7))/LOG(2))))","v":-0.40733296762434701},null,null,{"$f":"N7","v":11},{"$f":"COUNTIF(L7:L16,T7)","v":2},{"$f":"U7/(W4-U8)","v":0.33333333333333331},{"$f":"IF(V7=0,0,(V7*((LOG(V7))/LOG(2))))","v":-0.52832083357371862},null,{"$f":"N7","v":11},{"$f":"COUNTIF(L17:L26,Y7)","v":1},{"$f":"Z7/(AB4-Z8)","v":0.2},{"$f":"IF(AA7=0,0,(AA7*((LOG(AA7))/LOG(2))))","v":-0.46438561897747244},null,{"$f":"N7","v":11},{"$f":"COUNTIF(L27:L37,AD7)","v":1},{"$f":"AE7/(AG4-AE8)","v":0.25},{"$f":"IF(AF7=0,0,(AF7*((LOG(AF7))/LOG(2))))","v":-0.5},null,{"$f":"N7","v":11},{"$f":"COUNTIF(L38:L47,AI7)","v":2},{"$f":"AJ7/(AL4-AJ8)","v":0.66666666666666663},{"$f":"IF(AK7=0,0,(AK7*((LOG(AK7))/LOG(2))))","v":-0.38997500048077083},null,{"$f":"N7","v":11},{"$f":"COUNTIF(L48:L57,AN7)","v":1},{"$f":"AO7/(AQ4-AO8)","v":0.33333333333333331},{"$f":"IF(AP7=0,0,(AP7*((LOG(AP7))/LOG(2))))","v":-0.52832083357371862},null,{"$f":"N7","v":11},{"$f":"COUNTIF(L58:L67,AS7)","v":2},{"$f":"AT7/(AV4-AT8)","v":0.5},{"$f":"IF(AU7=0,0,(AU7*((LOG(AU7))/LOG(2))))","v":-0.5}]
[22,119,14,128,null,null,null,null,null,null,0,21,null,12,{"$f":"COUNTIF($L$7:$L$500,N8)","v":36},{"$f":"O8/$Q$4","v":0.5901639344262295},{"$f":"IF(P8=0,0,(P8*((LOG(P8))/LOG(2))))","v":-0.44900400164492882},null,null,{"$f":"N8","v":12},{"$f":"COUNTIF(L7:L16,T8)","v":4},null,null,null,{"$f":"N8","v":12},{"$f":"COUNTIF(L17:L26,Y8)","v":5},null,null,null,{"$f":"N8","v":12},{"$f":"COUNTIF(L27:L37,AD8)","v":7},null,null,null,{"$f":"N8","v":12},{"$f":"COUNTIF(L38:L47,AI8)","v":7},null,null,null,{"$f":"N8","v":12},{"$f":"COUNTIF(L48:L57,AN8)","v":7},null,null,null,{"$f":"N8","v":12},{"$f":"COUNTIF(L58:L67,AS8)","v":6}]
[22,225,23,283,null,null,null,null,null,null,0,22,null,21,{"$f":"COUNTIF($L$7:$L$500,N9)","v":11},{"$f":"O9/$Q$4","v":0.18032786885245902},{"$f":"IF(P9=0,0,(P9*((LOG(P9))/LOG(2))))","v":-0.44564529357674554},null,null,{"$f":"N9","v":21},{"$f":"COUNTIF(L7:L16,T9)","v":2},{"$f":"U9/(W4-U8)","v":0.33333333333333331},{"$f":"IF(V9=0,0,(V9*((LOG(V9))/LOG(2))))","v":-0.52832083357371862},null,{"$f":"N9","v":21},{"$f":"COUNTIF(L17:L26,Y9)","v":3},{"$f":"Z9/(AB4-Z8)","v":0.6},{"$f":"IF(AA9=0,0,(AA9*((LOG(AA9))/LOG(2))))","v":-0.44217935649972373},null,{"$f":"N9","v":21},{"$f":"COUNTIF(L27:L37,AD9)","v":2},{"$f":"AE9/(AG4-AE8)","v":0.5},{"$f":"IF(AF9=0,0,(AF9*((LOG(AF9))/LOG(2))))","v":-0.5},null,{"$f":"N9","v":21},{"$f":"COUNTIF(L38:L47,AI9)","v":1},{"$f":"AJ9/(AL4-AJ8)","v":0.33333333333333331},{"$f":"IF(AK9=0,0,(AK9*((LOG(AK9))/LOG(2))))","v":-0.52832083357371862},null,{"$f":"N9","v":21},{"$f":"COUNTIF(L48:L57,AN9)","v":2},{"$f":"AO9/(AQ4-AO8)","v":0.66666666666666663},{"$f":"IF(AP9=0,0,(AP9*((LOG(AP9))/LOG(2))))","v":-0.38997500048077083},null,{"$f":"N9","v":21},{"$f":"COUNTIF(L58:L67,AS9)","v":1},{"$f":"AT9/(AV4-AT8)","v":0.25},{"$f":"IF(AU9=0,0,(AU9*((LOG(AU9))/LOG(2))))","v":-0.5}]
[11,391,21,400,null,null,null,null,null,null,0,12,null,22,{"$f":"COUNTIF($L$7:$L$500,N10)","v":5},{"$f":"O10/$Q$4","v":8.1967213114754092E-2},{"$f":"IF(P10=0,0,(P10*((LOG(P10))/LOG(2))))","v":-0.29580403628487895},null,null,{"$f":"N10","v":22},{"$f":"COUNTIF(L7:L16,T10)","v":2},{"$f":"U10/(W4-U8)","v":0.33333333333333331},{"$f":"IF(V10=0,0,(V10*((LOG(V10))/LOG(2))))","v":-0.52832083357371862},null,{"$f":"N10","v":22},{"$f":"COUNTIF(L17:L26,Y10)","v":1},{"$f":"Z10/(AB4-Z8)","v":0.2},{"$f":"IF(AA10=0,0,(AA10*((LOG(AA10))/LOG(2))))","v":-0.46438561897747244},null,{"$f":"N10","v":22},{"$f":"COUNTIF(L27:L37,AD10)","v":1},{"$f":"AE10/(AG4-AE8)","v":0.25},{"$f":"IF(AF10=0,0,(AF10*((LOG(AF10))/LOG(2))))","v":-0.5},null,{"$f":"N10","v":22},{"$f":"COUNTIF(L38:L47,AI10)","v":0},{"$f":"AJ10/(AL4-AJ8)","v":0},{"$f":"IF(AK10=0,0,(AK10*((LOG(AK10))/LOG(2))))","v":0},null,{"$f":"N10","v":22},{"$f":"COUNTIF(L48:L57,AN10)","v":0},{"$f":"AO10/(AQ4-AO8)","v":0},{"$f":"IF(AP10=0,0,(AP10*((LOG(AP10))/LOG(2))))","v":0},null,{"$f":"N10","v":22},{"$f":"COUNTIF(L58:L67,AS10)","v":1},{"$f":"AT10/(AV4-AT8)","v":0.25},{"$f":"IF(AU10=0,0,(AU10*((LOG(AU10))/LOG(2))))","v":-0.5}]
[22,496,14,503,null,null,null,null,null,null,0,21,null,null,null,null,null,null,null,{"$f":"N11","v":0},{"$f":"COUNTIF(L7:L16,T11)","v":0},{"$f":"U11/(W4-U8)","v":0},{"$f":"IF(V11=0,0,(V11*((LOG(V11))/LOG(2))))","v":0},null,{"$f":"N11","v":0},{"$f":"COUNTIF(L17:L26,Y11)","v":0},{"$f":"Z11/(AB4-Z8)","v":0},{"$f":"IF(AA11=0,0,(AA11*((LOG(AA11))/LOG(2))))","v":0},null,{"$f":"N11","v":0},{"$f":"COUNTIF(L27:L37,AD11)","v":0},{"$f":"AE11/(AG4-AE8)","v":0},{"$f":"IF(AF11=0,0,(AF11*((LOG(AF11))/LOG(2))))","v":0},null,{"$f":"N11","v":0},{"$f":"COUNTIF(L38:L47,AI11)","v":0},{"$f":"AJ11/(AL4-AJ8)","v":0},{"$f":"IF(AK11=0,0,(AK11*((LOG(AK11))/LOG(2))))","v":0},null,{"$f":"N11","v":0},{"$f":"COUNTIF(L48:L57,AN11)","v":0},{"$f":"AO11/(AQ4-AO8)","v":0},{"$f":"IF(AP11=0,0,(AP11*((LOG(AP11))/LOG(2))))","v":0},null,{"$f":"N11","v":0},{"$f":"COUNTIF(L58:L67,AS11)","v":0},{"$f":"AT11/(AV4-AT8)","v":0},{"$f":"IF(AU11=0,0,(AU11*((LOG(AU11))/LOG(2))))","v":0}]
[11,603,21,642,null,null,null,null,null,null,0,12,null,null,null,null,null,null,null,{"$f":"N12","v":0},{"$f":"COUNTIF(L7:L16,T12)","v":0},{"$f":"U12/(W4-U8)","v":0},{"$f":"IF(V12=0,0,(V12*((LOG(V12))/LOG(2))))","v":0},null,{"$f":"N12","v":0},{"$f":"COUNTIF(L17:L26,Y12)","v":0},{"$f":"Z12/(AB4-Z8)","v":0},{"$f":"IF(AA12=0,0,(AA12*((LOG(AA12))/LOG(2))))","v":0},null,{"$f":"N12","v":0},{"$f":"COUNTIF(L27:L37,AD12)","v":0},{"$f":"AE12/(AG4-AE8)","v":0},{"$f":"IF(AF12=0,0,(AF12*((LOG(AF12))/LOG(2))))","v":0},null,{"$f":"N12","v":0},{"$f":"COUNTIF(L38:L47,AI12)","v":0},{"$f":"AJ12/(AL4-AJ8)","v":0},{"$f":"IF(AK12=0,0,(AK12*((LOG(AK12))/LOG(2))))","v":0},null,{"$f":"N12","v":0},{"$f":"COUNTIF(L48:L57,AN12)","v":0},{"$f":"AO12/(AQ4-AO8)","v":0},{"$f":"IF(AP12=0,0,(AP12*((LOG(AP12))/LOG(2))))","v":0},null,{"$f":"N12","v":0},{"$f":"COUNTIF(L58:L67,AS12)","v":0},{"$f":"AT12/(AV4-AT8)","v":0},{"$f":"IF(AU12=0,0,(AU12*((LOG(AU12))/LOG(2))))","v":0}]
[11,743,12,751,null,null,null,null,null,null,0,11,null,null,null,null,null,null,null,{"$f":"N13","v":0},{"$f":"COUNTIF(L7:L16,T13)","v":0},{"$f":"U13/(W4-U8)","v":0},{"$f":"IF(V13=0,0,(V13*((LOG(V13))/LOG(2))))","v":0},null,{"$f":"N13","v":0},{"$f":"COUNTIF(L17:L26,Y13)","v":0},{"$f":"Z13/(AB4-Z8)","v":0},{"$f":"IF(AA13=0,0,(AA13*((LOG(AA13))/LOG(2))))","v":0},null,{"$f":"N13","v":0},{"$f":"COUNTIF(L27:L37,AD13)","v":0},{"$f":"AE13/(AG4-AE8)","v":0},{"$f":"IF(AF13=0,0,(AF13*((LOG(AF13))/LOG(2))))","v":0},null,{"$f":"N13","v":0},{"$f":"COUNTIF(L38:L47,AI13)","v":0},{"$f":"AJ13/(AL4-AJ8)","v":0},{"$f":"IF(AK13=0,0,(AK13*((LOG(AK13))/LOG(2))))","v":0},null,{"$f":"N13","v":0},{"$f":"COUNTIF(L48:L57,AN13)","v":0},{"$f":"AO13/(AQ4-AO8)","v":0},{"$f":"IF(AP13=0,0,(AP13*((LOG(AP13))/LOG(2))))","v":0},null,{"$f":"N13","v":0},{"$f":"COUNTIF(L58:L67,AS13)","v":0},{"$f":"AT13/(AV4-AT8)","v":0},{"$f":"IF(AU13=0,0,(AU13*((LOG(AU13))/LOG(2))))","v":0}]
[11,846,21,867,null,null,null,null,null,null,0,12,null,null,null,null,null,null,null,{"$f":"N14","v":0},{"$f":"COUNTIF(L7:L16,T14)","v":0},{"$f":"U14/(W4-U8)","v":0},{"$f":"IF(V14=0,0,(V14*((LOG(V14))/LOG(2))))","v":0},null,{"$f":"N14","v":0},{"$f":"COUNTIF(L17:L26,Y14)","v":0},{"$f":"Z14/(AB4-Z8)","v":0},{"$f":"IF(AA14=0,0,(AA14*((LOG(AA14))/LOG(2))))","v":0},null,{"$f":"N14","v":0},{"$f":"COUNTIF(L27:L37,AD14)","v":0},{"$f":"AE14/(AG4-AE8)","v":0},{"$f":"IF(AF14=0,0,(AF14*((LOG(AF14))/LOG(2))))","v":0},null,{"$f":"N14","v":0},{"$f":"COUNTIF(L38:L47,AI14)","v":0},{"$f":"AJ14/(AL4-AJ8)","v":0},{"$f":"IF(AK14=0,0,(AK14*((LOG(AK14))/LOG(2))))","v":0},null,{"$f":"N14","v":0},{"$f":"COUNTIF(L48:L57,AN14)","v":0},{"$f":"AO14/(AQ4-AO8)","v":0},{"$f":"IF(AP14=0,0,(AP14*((LOG(AP14))/LOG(2))))","v":0},null,{"$f":"N14","v":0},{"$f":"COUNTIF(L58:L67,AS14)","v":0},{"$f":"AT14/(AV4-AT8)","v":0},{"$f":"IF(AU14=0,0,(AU14*((LOG(AU14))/LOG(2))))","v":0}]
[11,969,12,977,null,null,null,null,null,null,0,11,null,null,null,{"$f":"SUM(P7:P14)","v":0.99999999999999989},{"$f":"-SUM(Q7:Q14)","v":1.5977862991309002},null,null,null,null,{"$f":"SUM(V7:V14)","v":1},{"$f":"-SUM(W7:W14)","v":1.5849625007211559},null,null,null,{"$f":"SUM(AA7:AA14)","v":1},{"$f":"-SUM(AB7:AB14)","v":1.3709505944546687},null,null,null,{"$f":"SUM(AF7:AF14)","v":1},{"$f":"-SUM(AG7:AG14)","v":1.5},null,null,null,{"$f":"SUM(AK7:AK14)","v":1},{"$f":"-SUM(AL7:AL14)","v":0.91829583405448945},null,null,null,{"$f":"SUM(AP7:AP14)","v":1},{"$f":"-SUM(AQ7:AQ14)","v":0.91829583405448945},null,null,null,{"$f":"SUM(AU7:AU14)","v":1},{"$f":"-SUM(AV7:AV14)","v":1.5}]
[11,1081,21,1089,null,null,null,null,null,null,0,12,null,null,null,"U=",{"$f":"Q15/(LOG(Q4)/LOG(2))","v":0.2694076989400912},null,null,null,null,"U1=",{"$f":"W15/(LOG(W4)/LOG(2))","v":0.47712125471966238},null,null,null,"U2=",{"$f":"AB15/(LOG(AB4)/LOG(2))","v":0.41269725150422137},null,null,null,"U3=",{"$f":"AG15/(LOG(AG4)/LOG(2))","v":0.43359723947683171},null,null,null,"U4=",{"$f":"AL15/(LOG(AL4)/LOG(2))","v":0.27643459094367495},null,null,null,"U5=",{"$f":"AQ15/(LOG(AQ4)/LOG(2))","v":0.27643459094367495},null,null,null,"U6=",{"$f":"AV15/(LOG(AV4)/LOG(2))","v":0.45154499349597182}]
[22,1184,14,1191,null,null,null,null,null,null,0,21]
[11,1293,21,1311,null,null,null,null,null,null,0,12]
[22,1422,23,1446,null,null,null,null,null,null,0,22,null,"Total Target Seq"]
[11,1550,21,1567,null,null,null,null,null,null,0,12,null,{"$f":"COUNTIF(L7:L67,G3)","v":36},null,10,10,11,10,10,10]
[11,1664,21,1688,null,null,null,null,null,null,0,12,null,null,null,"% of reinforcement given in 6 equal intervals based on number of trials "]
[11,1788,12,1796,null,null,null,null,null,null,0,11,null,null,null,"%_1","%_2","%_3","%_4","%_5","%_6"]
[11,1898,21,1932,null,null,null,null,null,null,0,12,null,null,"target sequence",{"$f":"$G$3","v":12},{"$f":"$G$3","v":12},{"$f":"$G$3","v":12},{"$f":"$G$3","v":12},{"$f":"$G$3","v":12},{"$f":"$G$3","v":12}]
[22,2025,14,2032,null,null,null,null,null,null,0,21,null,null,"total reinforcement",{"$f":"U8","v":4},{"$f":"Z8","v":5},{"$f":"AE8","v":7},{"$f":"AJ8","v":7},{"$f":"AO8","v":7},{"$f":"AT8","v":6}]
[11,2136,21,2188,null,null,null,null,null,null,0,12,null,null,"% target"]
[22,2283,14,2290,null,null,null,null,null,null,0,21,null,null,"CCRF"]
[11,2391,21,2405,null,null,null,null,null,null,0,12,null,null,"% CCRf"]
[11,2498,21,2519,null,null,null,null,null,null,0,12,null,null,"average response rate",{"$f":"D16/P20","v":108.9},{"$f":"(D26-D16)/Q20","v":120.1},{"$f":"(D37-D26)/R20","v":115},{"$f":"(D47-D37)/S20","v":112},{"$f":"(D57-D47)/T20","v":118.5},{"$f":"(D67-D57)/U20","v":117.9}]
[11,2617,21,2639,null,null,null,null,null,null,0,12]
[22,2732,14,2739,null,null,null,null,null,null,0,21]
[11,2842,12,2854,null,null,null,null,null,null,0,11]
[11,2956,21,2983,null,null,null,null,null,null,0,12]
[22,3075,23,3090,null,null,null,null,null,null,0,22]
[11,3195,21,3216,null,null,null,null,null,null,0,12]
[22,3308,14,3315,null,null,null,null,null,null,0,21]
[11,3421,21,3436,null,null,null,null,null,null,0,12]
[11,3531,21,3555,null,null,null,null,null,null,0,12]
[11,3647,12,3658,null,null,null,null,null,null,0,11]
[22,3751,14,3755,null,null,null,null,null,null,0,21]
[11,3854,21,3863,null,null,null,null,null,null,0,12]
[11,3958,21,3967,null,null,null,null,null,null,0,12]
[11,4067,21,4130,null,null,null,null,null,null,0,12]
[11,4222,12,4238,null,null,null,null,null,null,0,11]
[11,4337,21,4344,null,null,null,null,null,null,0,12]
[11,4434,21,4442,null,null,null,null,null,null,0,12]
[11,4541,21,4558,null,null,null,null,null,null,0,12]
[11,4650,21,4675,null,null,null,null,null,null,0,12]
[11,4770,21,4790,null,null,null,null,null,null,0,12]
[11,4883,21,4913,null,null,null,null,null,null,0,12]
[22,5010,14,5018,null,null,null,null,null,null,0,21]
[22,5128,14,5135,null,null,null,null,null,null,0,21]
[11,5237,21,5252,null,null,null,null,null,null,0,12]
[11,5350,21,5358,null,null,null,null,null,null,0,12]
[11,5451,12,5467,null,null,null,null,null,null,0,11]
[11,5560,21,5630,null,null,null,null,null,null,0,12]
[11,5727,21,5734,null,null,null,null,null,null,0,12]
[11,5833,21,5860,null,null,null,null,null,null,0,12]
[11,5956,21,5963,null,null,null,null,null,null,0,12]
[11,6062,12,6073,null,null,null,null,null,null,0,11]
[11,6173,21,6199,null,null,null,null,null,null,0,12]
[11,6294,21,6314,null,null,null,null,null,null,0,12]
[11,6419,21,6437,null,null,null,null,null,null,0,12]
[11,6530,21,6538,null,null,null,null,null,null,0,12]
[22,6632,14,6640,null,null,null,null,null,null,0,21]
[11,6736,12,6750,null,null,null,null,null,null,0,11]
[22,6881,23,6915,null,null,null,null,null,null,0,22]
[11,7013,21,7039,null,null,null,null,null,null,1,12]

{"sheet":"!N217820.095","index":17,"n_rows":56,"n_cols":48,"rows_kept":56,"cut":false,"hidden":false,"merged":[[4,39,4,42],[5,39,5,40],[4,44,4,47],[5,44,5,45],[4,24,4,27],[5,24,5,25],[4,29,4,32],[5,29,5,30],[4,34,4,37],[5,34,5,35],[1,1,1,2],[5,13,5,14],[18,13,18,14],[19,13,19,14],[4,19,4,22],[5,19,5,20]]}
["Report for:!N217820.095"]
["Date:","<date>"]
["Hen:","<hen>",null,null,null,"Correct Sequence",{"$f":"Start!J2","v":12},null,null,null,null,null,null,null,null,"Total Sequences in Data",{"$f":"4994-COUNTBLANK(L7:L5000)","v":50},null,null,null,null,"Total Sequences in Block Data",{"$f":"COUNTA(L7:L14)","v":8},null,null,null,"Total Sequences in Block Data",{"$f":"COUNTA(L15:L23)","v":9},null,null,null,"Total Sequences in Block Data",{"$f":"COUNTA(L24:L31)","v":8},null,null,null,"Total Sequences in Block Data",{"$f":"COUNTA(L32:L39)","v":8},null,null,null,"Total Sequences in Block Data",{"$f":"COUNTA(L40:L48)","v":9},null,null,null,"Total Sequences in Block Data",{"$f":"COUNTA(L49:L56)","v":8}]
[null,null,null,null,null,null,null,null,null,null,null,null,null,null,null,"Total Sequences in Summary",{"$f":"SUM(O7:O14)","v":50},null,null,null,null,"Total Sequences in Block Summary",{"$f":"SUM(U7:U14)","v":8},null,null,null,"Total Sequences in Block Summary",{"$f":"SUM(Z7:Z14)","v":9},null,null,null,"Total Sequences in Block Summary",{"$f":"SUM(AE7:AE14)","v":8},null,null,null,"Total Sequences in Block Summary",{"$f":"SUM(AJ7:AJ14)","v":8},null,null,null,"Total Sequences in Block Summary",{"$f":"SUM(AO7:AO14)","v":9},null,null,null,"Total Sequences in Block Summary",{"$f":"SUM(AT7:AT14)","v":8}]
[null,null,null,null,null,null,null,null,null,null,null,null,null,null,null,null,null,null,null,"Block 1",null,null,null,null,"Block 2",null,null,null,null,"Block 3",null,null,null,null,"Block 4",null,null,null,null,"Block 5",null,null,null,null,"Block 6"]
["Sequence\nComponent\n1","Time\n1","Sequence\nComponent\n2","Time\n2","Sequence\nComponent\n3","Time\n3","Sequence\nComponent\n4","Time\n4","Sequence\nComponent\n5","Time\n5","Correct?\n0=No 1=Yes","Sequence",null,"Frequency",null,"Relative Frequency","Variability",null,null,"Frequency",null,"Relative Frequency","Variability",null,"Frequency",null,"Relative Frequency","Variability",null,"Frequency",null,"Relative Frequency","Variability",null,"Frequency",null,"Relative Frequency","Variability",null,"Frequency",null,"Relative Frequency","Variability",null,"Frequency",null,"Relative Frequency","Variability"]
[11,18,21,26,null,null,null,null,null,null,0,12,null,11,{"$f":"COUNTIF($L$7:$L$500,N7)","v":5},{"$f":"O7/$Q$4","v":0.1},{"$f":"IF(P7=0,0,(P7*((LOG(P7))/LOG(2))))","v":-0.33219280948873625},null,null,{"$f":"N7","v":11},{"$f":"COUNTIF(L7:L14,T7)","v":0},{"$f":"U7/(W4-U8)","v":0},{"$f":"IF(V7=0,0,(V7*((LOG(V7))/LOG(2))))","v":0},null,{"$f":"N7","v":11},{"$f":"COUNTIF(L15:L23,Y7)","v":2},{"$f":"Z7/(AB4-Z8)","v":0.4},{"$f":"IF(AA7=0,0,(AA7*((LOG(AA7))/LOG(2))))","v":-0.52877123795494496},null,{"$f":"N7","v":11},{"$f":"COUNTIF(L24:L31,AD7)","v":1},{"$f":"AE7/(AG4-AE8)","v":0.5},{"$f":"IF(AF7=0,0,(AF7*((LOG(AF7))/LOG(2))))","v":-0.5},null,{"$f":"N7","v":11},{"$f":"COUNTIF(L32:L39,AI7)","v":0},{"$f":"AJ7/(AL4-AJ8)","v":{"$error":"#DIV/0!"}},{"$f":"IF(AK7=0,0,(AK7*((LOG(AK7))/LOG(2))))","v":{"$error":"#DIV/0!"}},null,{"$f":"N7","v":11},{"$f":"COUNTIF(L40:L48,AN7)","v":0},{"$f":"AO7/(AQ4-AO8)","v":0},{"$f":"IF(AP7=0,0,(AP7*((LOG(AP7))/LOG(2))))","v":0},null,{"$f":"N7","v":11},{"$f":"COUNTIF(L49:L56,AS7)","v":2},{"$f":"AT7/(AV4-AT8)","v":1},{"$f":"IF(AU7=0,0,(AU7*((LOG(AU7))/LOG(2))))","v":0}]
[11,126,21,147,null,null,null,null,null,null,0,12,null,12,{"$f":"COUNTIF($L$7:$L$500,N8)","v":38},{"$f":"O8/$Q$4","v":0.76},{"$f":"IF(P8=0,0,(P8*((LOG(P8))/LOG(2))))","v":-0.30090579401166578},null,null,{"$f":"N8","v":12},{"$f":"COUNTIF(L7:L14,T8)","v":6},null,null,null,{"$f":"N8","v":12},{"$f":"COUNTIF(L15:L23,Y8)","v":4},null,null,null,{"$f":"N8","v":12},{"$f":"COUNTIF(L24:L31,AD8)","v":6},null,null,null,{"$f":"N8","v":12},{"$f":"COUNTIF(L32:L39,AI8)","v":8},null,null,null,{"$f":"N8","v":12},{"$f":"COUNTIF(L40:L48,AN8)","v":8},null,null,null,{"$f":"N8","v":12},{"$f":"COUNTIF(L49:L56,AS8)","v":6}]
[11,250,21,305,null,null,null,null,null,null,0,12,null,21,{"$f":"COUNTIF($L$7:$L$500,N9)","v":6},{"$f":"O9/$Q$4","v":0.12},{"$f":"IF(P9=0,0,(P9*((LOG(P9))/LOG(2))))","v":-0.36706724268642821},null,null,{"$f":"N9","v":21},{"$f":"COUNTIF(L7:L14,T9)","v":1},{"$f":"U9/(W4-U8)","v":0.5},{"$f":"IF(V9=0,0,(V9*((LOG(V9))/LOG(2))))","v":-0.5},null,{"$f":"N9","v":21},{"$f":"COUNTIF(L15:L23,Y9)","v":3},{"$f":"Z9/(AB4-Z8)","v":0.6},{"$f":"IF(AA9=0,0,(AA9*((LOG(AA9))/LOG(2))))","v":-0.44217935649972373},null,{"$f":"N9","v":21},{"$f":"COUNTIF(L24:L31,AD9)","v":1},{"$f":"AE9/(AG4-AE8)","v":0.5},{"$f":"IF(AF9=0,0,(AF9*((LOG(AF9))/LOG(2))))","v":-0.5},null,{"$f":"N9","v":21},{"$f":"COUNTIF(L32:L39,AI9)","v":0},{"$f":"AJ9/(AL4-AJ8)","v":{"$error":"#DIV/0!"}},{"$f":"IF(AK9=0,0,(AK9*((LOG(AK9))/LOG(2))))","v":{"$error":"#DIV/0!"}},null,{"$f":"N9","v":21},{"$f":"COUNTIF(L40:L48,AN9)","v":1},{"$f":"AO9/(AQ4-AO8)","v":1},{"$f":"IF(AP9=0,0,(AP9*((LOG(AP9))/LOG(2))))","v":0},null,{"$f":"N9","v":21},{"$f":"COUNTIF(L49:L56,AS9)","v":0},{"$f":"AT9/(AV4-AT8)","v":0},{"$f":"IF(AU9=0,0,(AU9*((LOG(AU9))/LOG(2))))","v":0}]
[11,401,21,426,null,null,null,null,null,null,0,12,null,22,{"$f":"COUNTIF($L$7:$L$500,N10)","v":1},{"$f":"O10/$Q$4","v":0.02},{"$f":"IF(P10=0,0,(P10*((LOG(P10))/LOG(2))))","v":-0.11287712379549449},null,null,{"$f":"N10","v":22},{"$f":"COUNTIF(L7:L14,T10)","v":1},{"$f":"U10/(W4-U8)","v":0.5},{"$f":"IF(V10=0,0,(V10*((LOG(V10))/LOG(2))))","v":-0.5},null,{"$f":"N10","v":22},{"$f":"COUNTIF(L15:L23,Y10)","v":0},{"$f":"Z10/(AB4-Z8)","v":0},{"$f":"IF(AA10=0,0,(AA10*((LOG(AA10))/LOG(2))))","v":0},null,{"$f":"N10","v":22},{"$f":"COUNTIF(L24:L31,AD10)","v":0},{"$f":"AE10/(AG4-AE8)","v":0},{"$f":"IF(AF10=0,0,(AF10*((LOG(AF10))/LOG(2))))","v":0},null,{"$f":"N10","v":22},{"$f":"COUNTIF(L32:L39,AI10)","v":0},{"$f":"AJ10/(AL4-AJ8)","v":{"$error":"#DIV/0!"}},{"$f":"IF(AK10=0,0,(AK10*((LOG(AK10))/LOG(2))))","v":{"$error":"#DIV/0!"}},null,{"$f":"N10","v":22},{"$f":"COUNTIF(L40:L48,AN10)","v":0},{"$f":"AO10/(AQ4-AO8)","v":0},{"$f":"IF(AP10=0,0,(AP10*((LOG(AP10))/LOG(2))))","v":0},null,{"$f":"N10","v":22},{"$f":"COUNTIF(L49:L56,AS10)","v":0},{"$f":"AT10/(AV4-AT8)","v":0},{"$f":"IF(AU10=0,0,(AU10*((LOG(AU10))/LOG(2))))","v":0}]
[22,549,23,559,null,null,null,null,null,null,0,22,null,null,null,null,null,null,null,{"$f":"N11","v":0},{"$f":"COUNTIF(L7:L14,T11)","v":0},{"$f":"U11/(W4-U8)","v":0},{"$f":"IF(V11=0,0,(V11*((LOG(V11))/LOG(2))))","v":0},null,{"$f":"N11","v":0},{"$f":"COUNTIF(L15:L23,Y11)","v":0},{"$f":"Z11/(AB4-Z8)","v":0},{"$f":"IF(AA11=0,0,(AA11*((LOG(AA11))/LOG(2))))","v":0},null,{"$f":"N11","v":0},{"$f":"COUNTIF(L24:L31,AD11)","v":0},{"$f":"AE11/(AG4-AE8)","v":0},{"$f":"IF(AF11=0,0,(AF11*((LOG(AF11))/LOG(2))))","v":0},null,{"$f":"N11","v":0},{"$f":"COUNTIF(L32:L39,AI11)","v":0},{"$f":"AJ11/(AL4-AJ8)","v":{"$error":"#DIV/0!"}},{"$f":"IF(AK11=0,0,(AK11*((LOG(AK11))/LOG(2))))","v":{"$error":"#DIV/0!"}},null,{"$f":"N11","v":0},{"$f":"COUNTIF(L40:L48,AN11)","v":0},{"$f":"AO11/(AQ4-AO8)","v":0},{"$f":"IF(AP11=0,0,(AP11*((LOG(AP11))/LOG(2))))","v":0},null,{"$f":"N11","v":0},{"$f":"COUNTIF(L49:L56,AS11)","v":0},{"$f":"AT11/(AV4-AT8)","v":0},{"$f":"IF(AU11=0,0,(AU11*((LOG(AU11))/LOG(2))))","v":0}]
[11,664,21,700,null,null,null,null,null,null,0,12,null,null,null,null,null,null,null,{"$f":"N12","v":0},{"$f":"COUNTIF(L7:L14,T12)","v":0},{"$f":"U12/(W4-U8)","v":0},{"$f":"IF(V12=0,0,(V12*((LOG(V12))/LOG(2))))","v":0},null,{"$f":"N12","v":0},{"$f":"COUNTIF(L15:L23,Y12)","v":0},{"$f":"Z12/(AB4-Z8)","v":0},{"$f":"IF(AA12=0,0,(AA12*((LOG(AA12))/LOG(2))))","v":0},null,{"$f":"N12","v":0},{"$f":"COUNTIF(L24:L31,AD12)","v":0},{"$f":"AE12/(AG4-AE8)","v":0},{"$f":"IF(AF12=0,0,(AF12*((LOG(AF12))/LOG(2))))","v":0},null,{"$f":"N12","v":0},{"$f":"COUNTIF(L32:L39,AI12)","v":0},{"$f":"AJ12/(AL4-AJ8)","v":{"$error":"#DIV/0!"}},{"$f":"IF(AK12=0,0,(AK12*((LOG(AK12))/LOG(2))))","v":{"$error":"#DIV/0!"}},null,{"$f":"N12","v":0},{"$f":"COUNTIF(L40:L48,AN12)","v":0},{"$f":"AO12/(AQ4-AO8)","v":0},{"$f":"IF(AP12=0,0,(AP12*((LOG(AP12))/LOG(2))))","v":0},null,{"$f":"N12","v":0},{"$f":"COUNTIF(L49:L56,AS12)","v":0},{"$f":"AT12/(AV4-AT8)","v":0},{"$f":"IF(AU12=0,0,(AU12*((LOG(AU12))/LOG(2))))","v":0}]
[22,793,14,798,null,null,null,null,null,null,0,21,null,null,null,null,null,null,null,{"$f":"N13","v":0},{"$f":"COUNTIF(L7:L14,T13)","v":0},{"$f":"U13/(W4-U8)","v":0},{"$f":"IF(V13=0,0,(V13*((LOG(V13))/LOG(2))))","v":0},null,{"$f":"N13","v":0},{"$f":"COUNTIF(L15:L23,Y13)","v":0},{"$f":"Z13/(AB4-Z8)","v":0},{"$f":"IF(AA13=0,0,(AA13*((LOG(AA13))/LOG(2))))","v":0},null,{"$f":"N13","v":0},{"$f":"COUNTIF(L24:L31,AD13)","v":0},{"$f":"AE13/(AG4-AE8)","v":0},{"$f":"IF(AF13=0,0,(AF13*((LOG(AF13))/LOG(2))))","v":0},null,{"$f":"N13","v":0},{"$f":"COUNTIF(L32:L39,AI13)","v":0},{"$f":"AJ13/(AL4-AJ8)","v":{"$error":"#DIV/0!"}},{"$f":"IF(AK13=0,0,(AK13*((LOG(AK13))/LOG(2))))","v":{"$error":"#DIV/0!"}},null,{"$f":"N13","v":0},{"$f":"COUNTIF(L40:L48,AN13)","v":0},{"$f":"AO13/(AQ4-AO8)","v":0},{"$f":"IF(AP13=0,0,(AP13*((LOG(AP13))/LOG(2))))","v":0},null,{"$f":"N13","v":0},{"$f":"COUNTIF(L49:L56,AS13)","v":0},{"$f":"AT13/(AV4-AT8)","v":0},{"$f":"IF(AU13=0,0,(AU13*((LOG(AU13))/LOG(2))))","v":0}]
[11,900,21,916,null,null,null,null,null,null,0,12,null,null,null,null,null,null,null,{"$f":"N14","v":0},{"$f":"COUNTIF(L7:L14,T14)","v":0},{"$f":"U14/(W4-U8)","v":0},{"$f":"IF(V14=0,0,(V14*((LOG(V14))/LOG(2))))","v":0},null,{"$f":"N14","v":0},{"$f":"COUNTIF(L15:L23,Y14)","v":0},{"$f":"Z14/(AB4-Z8)","v":0},{"$f":"IF(AA14=0,0,(AA14*((LOG(AA14))/LOG(2))))","v":0},null,{"$f":"N14","v":0},{"$f":"COUNTIF(L24:L31,AD14)","v":0},{"$f":"AE14/(AG4-AE8)","v":0},{"$f":"IF(AF14=0,0,(AF14*((LOG(AF14))/LOG(2))))","v":0},null,{"$f":"N14","v":0},{"$f":"COUNTIF(L32:L39,AI14)","v":0},{"$f":"AJ14/(AL4-AJ8)","v":{"$error":"#DIV/0!"}},{"$f":"IF(AK14=0,0,(AK14*((LOG(AK14))/LOG(2))))","v":{"$error":"#DIV/0!"}},null,{"$f":"N14","v":0},{"$f":"COUNTIF(L40:L48,AN14)","v":0},{"$f":"AO14/(AQ4-AO8)","v":0},{"$f":"IF(AP14=0,0,(AP14*((LOG(AP14))/LOG(2))))","v":0},null,{"$f":"N14","v":0},{"$f":"COUNTIF(L49:L56,AS14)","v":0},{"$f":"AT14/(AV4-AT8)","v":0},{"$f":"IF(AU14=0,0,(AU14*((LOG(AU14))/LOG(2))))","v":0}]
[22,1009,14,1017,null,null,null,null,null,null,0,21,null,null,null,{"$f":"SUM(P7:P14)","v":1},{"$f":"-SUM(Q7:Q14)","v":1.1130429699823248},null,null,null,null,{"$f":"SUM(V7:V14)","v":1},{"$f":"-SUM(W7:W14)","v":1},null,null,null,{"$f":"SUM(AA7:AA14)","v":1},{"$f":"-SUM(AB7:AB14)","v":0.97095059445466869},null,null,null,{"$f":"SUM(AF7:AF14)","v":1},{"$f":"-SUM(AG7:AG14)","v":1},null,null,null,{"$f":"SUM(AK7:AK14)","v":{"$error":"#DIV/0!"}},{"$f":"-SUM(AL7:AL14)","v":{"$error":"#DIV/0!"}},null,null,null,{"$f":"SUM(AP7:AP14)","v":1},{"$f":"-SUM(AQ7:AQ14)","v":0},null,null,null,{"$f":"SUM(AU7:AU14)","v":1},{"$f":"-SUM(AV7:AV14)","v":0}]
[11,1114,21,1122,null,null,null,null,null,null,0,12,null,null,null,"U=",{"$f":"Q15/(LOG(Q4)/LOG(2))","v":0.19721320539649542},null,null,null,null,"U1=",{"$f":"W15/(LOG(W4)/LOG(2))","v":0.33333333333333331},null,null,null,"U2=",{"$f":"AB15/(LOG(AB4)/LOG(2))","v":0.30630080964467216},null,null,null,"U3=",{"$f":"AG15/(LOG(AG4)/LOG(2))","v":0.33333333333333331},null,null,null,"U4=",{"$f":"AL15/(LOG(AL4)/LOG(2))","v":{"$error":"#DIV/0!"}},null,null,null,"U5=",{"$f":"AQ15/(LOG(AQ4)/LOG(2))","v":0},null,null,null,"U6=",{"$f":"AV15/(LOG(AV4)/LOG(2))","v":0}]
[11,1221,12,1228,null,null,null,null,null,null,0,11]
[22,1325,14,1332,null,null,null,null,null,null,0,21]
[22,1430,14,1438,null,null,null,null,null,null,0,21,null,"Total Target Seq"]
[11,1543,21,1594,null,null,null,null,null,null,0,12,null,{"$f":"COUNTIF(L7:L56,G3)","v":38},null,8,9,8,8,9,8]
[11,1692,12,1700,null,null,null,null,null,null,0,11,null,null,null,"% of reinforcement given in 6 equal intervals based on number of trials "]
[11,1797,21,1811,null,null,null,null,null,null,0,12,null,null,null,"%_1","%_2","%_3","%_4","%_5","%_6"]
[11,1908,21,1921,null,null,null,null,null,null,0,12,null,null,"target sequence",{"$f":"$G$3","v":12},{"$f":"$G$3","v":12},{"$f":"$G$3","v":12},{"$f":"$G$3","v":12},{"$f":"$G$3","v":12},{"$f":"$G$3","v":12}]
[11,2016,21,2062,null,null,null,null,null,null,0,12,null,null,"total reinforcement",{"$f":"U8","v":6},{"$f":"Z8","v":4},{"$f":"AE8","v":6},{"$f":"AJ8","v":8},{"$f":"AO8","v":8},{"$f":"AT8","v":6}]
[11,2159,12,2166,null,null,null,null,null,null,0,11,null,null,"% target"]
[11,2269,21,2291,null,null,null,null,null,null,0,12,null,null,"CCRF"]
[11,2387,21,2394,null,null,null,null,null,null,0,12,null,null,"% CCRf"]
[11,2489,21,2513,null,null,null,null,null,null,0,12,null,null,"average response rate",{"$f":"D14/P20","v":114.5},{"$f":"(D23-D14)/Q20","v":111.66666666666667},{"$f":"(D31-D23)/R20","v":118.5},{"$f":"(D39-D31)/S20","v":116.5},{"$f":"(D48-D39)/T20","v":107.88888888888889},{"$f":"(D56-D48)/U20","v":153.125}]
[11,2607,21,2656,null,null,null,null,null,null,0,12]
[22,2747,14,2754,null,null,null,null,null,null,0,21]
[11,2856,21,2869,null,null,null,null,null,null,0,12]
[11,2963,21,2971,null,null,null,null,null,null,0,12]
[11,3066,21,3085,null,null,null,null,null,null,0,12]
[11,3178,21,3193,null,null,null,null,null,null,0,12]
[11,3306,21,3327,null,null,null,null,null,null,0,12]
[11,3429,21,3459,null,null,null,null,null,null,0,12]
[11,3556,21,3563,null,null,null,null,null,null,0,12]
[11,3657,21,3666,null,null,null,null,null,null,0,12]
[11,3765,21,3801,null,null,null,null,null,null,0,12]
[11,3901,21,3908,null,null,null,null,null,null,0,12]
[11,4004,21,4011,null,null,null,null,null,null,0,12]
[11,4109,21,4116,null,null,null,null,null,null,0,12]
[11,4213,21,4226,null,null,null,null,null,null,0,12]
[11,4324,21,4334,null,null,null,null,null,null,0,12]
[11,4429,21,4436,null,null,null,null,null,null,0,12]
[22,4530,14,4537,null,null,null,null,null,null,0,21]
[11,4646,21,4666,null,null,null,null,null,null,0,12]
[11,4765,21,4772,null,null,null,null,null,null,0,12]
[11,4864,12,4875,null,null,null,null,null,null,0,11]
[11,4978,21,5020,null,null,null,null,null,null,0,12]
[11,5152,12,5160,null,null,null,null,null,null,0,11]
[11,5264,21,5272,null,null,null,null,null,null,0,12]
[11,5406,21,5417,null,null,null,null,null,null,0,12]
[11,5551,21,5561,null,null,null,null,null,null,0,12]
[11,5754,21,5762,null,null,null,null,null,null,0,12]
[11,5986,21,5997,null,null,null,null,null,null,1,12]

{"sheet":"!N218950.095","index":18,"n_rows":71,"n_cols":48,"rows_kept":71,"cut":false,"hidden":false,"merged":[[4,39,4,42],[5,39,5,40],[4,44,4,47],[5,44,5,45],[4,24,4,27],[5,24,5,25],[4,29,4,32],[5,29,5,30],[4,34,4,37],[5,34,5,35],[1,1,1,2],[5,13,5,14],[18,13,18,14],[19,13,19,14],[4,19,4,22],[5,19,5,20]]}
["Report for:!N218950.095"]
["Date:","<date>"]
["Hen:","<hen>",null,null,null,"Correct Sequence",{"$f":"Start!J2","v":12},null,null,null,null,null,null,null,null,"Total Sequences in Data",{"$f":"4994-COUNTBLANK(L7:L5000)","v":65},null,null,null,null,"Total Sequences in Block Data",{"$f":"COUNTA(L7:L17)","v":11},null,null,null,"Total Sequences in Block Data",{"$f":"COUNTA(L18:L28)","v":11},null,null,null,"Total Sequences in Block Data",{"$f":"COUNTA(L29:L38)","v":10},null,null,null,"Total Sequences in Block Data",{"$f":"COUNTA(L39:L49)","v":11},null,null,null,"Total Sequences in Block Data",{"$f":"COUNTA(L50:L60)","v":11},null,null,null,"Total Sequences in Block Data",{"$f":"COUNTA(L61:L71)","v":11}]
[null,null,null,null,null,null,null,null,null,null,null,null,null,null,null,"Total Sequences in Summary",{"$f":"SUM(O7:O14)","v":65},null,null,null,null,"Total Sequences in Block Summary",{"$f":"SUM(U7:U14)","v":11},null,null,null,"Total Sequences in Block Summary",{"$f":"SUM(Z7:Z14)","v":11},null,null,null,"Total Sequences in Block Summary",{"$f":"SUM(AE7:AE14)","v":10},null,null,null,"Total Sequences in Block Summary",{"$f":"SUM(AJ7:AJ14)","v":11},null,null,null,"Total Sequences in Block Summary",{"$f":"SUM(AO7:AO14)","v":11},null,null,null,"Total Sequences in Block Summary",{"$f":"SUM(AT7:AT14)","v":11}]
[null,null,null,null,null,null,null,null,null,null,null,null,null,null,null,null,null,null,null,"Block 1",null,null,null,null,"Block 2",null,null,null,null,"Block 3",null,null,null,null,"Block 4",null,null,null,null,"Block 5",null,null,null,null,"Block 6"]
["Sequence\nComponent\n1","Time\n1","Sequence\nComponent\n2","Time\n2","Sequence\nComponent\n3","Time\n3","Sequence\nComponent\n4","Time\n4","Sequence\nComponent\n5","Time\n5","Correct?\n0=No 1=Yes","Sequence",null,"Frequency",null,"Relative Frequency","Variability",null,null,"Frequency",null,"Relative Frequency","Variability",null,"Frequency",null,"Relative Frequency","Variability",null,"Frequency",null,"Relative Frequency","Variability",null,"Frequency",null,"Relative Frequency","Variability",null,"Frequency",null,"Relative Frequency","Variability",null,"Frequency",null,"Relative Frequency","Variability"]
[11,18,21,33,null,null,null,null,null,null,0,12,null,11,{"$f":"COUNTIF($L$7:$L$500,N7)","v":11},{"$f":"O7/$Q$4","v":0.16923076923076924},{"$f":"IF(P7=0,0,(P7*((LOG(P7))/LOG(2))))","v":-0.43372766366619592},null,null,{"$f":"N7","v":11},{"$f":"COUNTIF(L7:L17,T7)","v":3},{"$f":"U7/(W4-U8)","v":1},{"$f":"IF(V7=0,0,(V7*((LOG(V7))/LOG(2))))","v":0},null,{"$f":"N7","v":11},{"$f":"COUNTIF(L18:L28,Y7)","v":0},{"$f":"Z7/(AB4-Z8)","v":0},{"$f":"IF(AA7=0,0,(AA7*((LOG(AA7))/LOG(2))))","v":0},null,{"$f":"N7","v":11},{"$f":"COUNTIF(L29:L38,AD7)","v":1},{"$f":"AE7/(AG4-AE8)","v":0.33333333333333331},{"$f":"IF(AF7=0,0,(AF7*((LOG(AF7))/LOG(2))))","v":-0.52832083357371862},null,{"$f":"N7","v":11},{"$f":"COUNTIF(L39:L49,AI7)","v":2},{"$f":"AJ7/(AL4-AJ8)","v":0.5},{"$f":"IF(AK7=0,0,(AK7*((LOG(AK7))/LOG(2))))","v":-0.5},null,{"$f":"N7","v":11},{"$f":"COUNTIF(L50:L60,AN7)","v":2},{"$f":"AO7/(AQ4-AO8)","v":0.2857142857142857},{"$f":"IF(AP7=0,0,(AP7*((LOG(AP7))/LOG(2))))","v":-0.51638712058788683},null,{"$f":"N7","v":11},{"$f":"COUNTIF(L61:L71,AS7)","v":3},{"$f":"AT7/(AV4-AT8)","v":0.5},{"$f":"IF(AU7=0,0,(AU7*((LOG(AU7))/LOG(2))))","v":-0.5}]
[11,135,21,156,null,null,null,null,null,null,0,12,null,12,{"$f":"COUNTIF($L$7:$L$500,N8)","v":34},{"$f":"O8/$Q$4","v":0.52307692307692311},{"$f":"IF(P8=0,0,(P8*((LOG(P8))/LOG(2))))","v":-0.48902721600701404},null,null,{"$f":"N8","v":12},{"$f":"COUNTIF(L7:L17,T8)","v":8},null,null,null,{"$f":"N8","v":12},{"$f":"COUNTIF(L18:L28,Y8)","v":3},null,null,null,{"$f":"N8","v":12},{"$f":"COUNTIF(L29:L38,AD8)","v":7},null,null,null,{"$f":"N8","v":12},{"$f":"COUNTIF(L39:L49,AI8)","v":7},null,null,null,{"$f":"N8","v":12},{"$f":"COUNTIF(L50:L60,AN8)","v":4},null,null,null,{"$f":"N8","v":12},{"$f":"COUNTIF(L61:L71,AS8)","v":5}]
[11,248,12,255,null,null,null,null,null,null,0,11,null,21,{"$f":"COUNTIF($L$7:$L$500,N9)","v":11},{"$f":"O9/$Q$4","v":0.16923076923076924},{"$f":"IF(P9=0,0,(P9*((LOG(P9))/LOG(2))))","v":-0.43372766366619592},null,null,{"$f":"N9","v":21},{"$f":"COUNTIF(L7:L17,T9)","v":0},{"$f":"U9/(W4-U8)","v":0},{"$f":"IF(V9=0,0,(V9*((LOG(V9))/LOG(2))))","v":0},null,{"$f":"N9","v":21},{"$f":"COUNTIF(L18:L28,Y9)","v":3},{"$f":"Z9/(AB4-Z8)","v":0.375},{"$f":"IF(AA9=0,0,(AA9*((LOG(AA9))/LOG(2))))","v":-0.53063906222956647},null,{"$f":"N9","v":21},{"$f":"COUNTIF(L29:L38,AD9)","v":1},{"$f":"AE9/(AG4-AE8)","v":0.33333333333333331},{"$f":"IF(AF9=0,0,(AF9*((LOG(AF9))/LOG(2))))","v":-0.52832083357371862},null,{"$f":"N9","v":21},{"$f":"COUNTIF(L39:L49,AI9)","v":1},{"$f":"AJ9/(AL4-AJ8)","v":0.25},{"$f":"IF(AK9=0,0,(AK9*((LOG(AK9))/LOG(2))))","v":-0.5},null,{"$f":"N9","v":21},{"$f":"COUNTIF(L50:L60,AN9)","v":3},{"$f":"AO9/(AQ4-AO8)","v":0.42857142857142855},{"$f":"IF(AP9=0,0,(AP9*((LOG(AP9))/LOG(2))))","v":-0.52388246628704915},null,{"$f":"N9","v":21},{"$f":"COUNTIF(L61:L71,AS9)","v":3},{"$f":"AT9/(AV4-AT8)","v":0.5},{"$f":"IF(AU9=0,0,(AU9*((LOG(AU9))/LOG(2))))","v":-0.5}]
[11,356,21,383,null,null,null,null,null,null,0,12,null,22,{"$f":"COUNTIF($L$7:$L$500,N10)","v":9},{"$f":"O10/$Q$4","v":0.13846153846153847},{"$f":"IF(P10=0,0,(P10*((LOG(P10))/LOG(2))))","v":-0.39495362006577356},null,null,{"$f":"N10","v":22},{"$f":"COUNTIF(L7:L17,T10)","v":0},{"$f":"U10/(W4-U8)","v":0},{"$f":"IF(V10=0,0,(V10*((LOG(V10))/LOG(2))))","v":0},null,{"$f":"N10","v":22},{"$f":"COUNTIF(L18:L28,Y10)","v":5},{"$f":"Z10/(AB4-Z8)","v":0.625},{"$f":"IF(AA10=0,0,(AA10*((LOG(AA10))/LOG(2))))","v":-0.42379494069539858},null,{"$f":"N10","v":22},{"$f":"COUNTIF(L29:L38,AD10)","v":1},{"$f":"AE10/(AG4-AE8)","v":0.33333333333333331},{"$f":"IF(AF10=0,0,(AF10*((LOG(AF10))/LOG(2))))","v":-0.52832083357371862},null,{"$f":"N10","v":22},{"$f":"COUNTIF(L39:L49,AI10)","v":1},{"$f":"AJ10/(AL4-AJ8)","v":0.25},{"$f":"IF(AK10=0,0,(AK10*((LOG(AK10))/LOG(2))))","v":-0.5},null,{"$f":"N10","v":22},{"$f":"COUNTIF(L50:L60,AN10)","v":2},{"$f":"AO10/(AQ4-AO8)","v":0.2857142857142857},{"$f":"IF(AP10=0,0,(AP10*((LOG(AP10))/LOG(2))))","v":-0.51638712058788683},null,{"$f":"N10","v":22},{"$f":"COUNTIF(L61:L71,AS10)","v":0},{"$f":"AT10/(AV4-AT8)","v":0},{"$f":"IF(AU10=0,0,(AU10*((LOG(AU10))/LOG(2))))","v":0}]
[11,486,21,504,null,null,null,null,null,null,0,12,null,null,null,null,null,null,null,{"$f":"N11","v":0},{"$f":"COUNTIF(L7:L17,T11)","v":0},{"$f":"U11/(W4-U8)","v":0},{"$f":"IF(V11=0,0,(V11*((LOG(V11))/LOG(2))))","v":0},null,{"$f":"N11","v":0},{"$f":"COUNTIF(L18:L28,Y11)","v":0},{"$f":"Z11/(AB4-Z8)","v":0},{"$f":"IF(AA11=0,0,(AA11*((LOG(AA11))/LOG(2))))","v":0},null,{"$f":"N11","v":0},{"$f":"COUNTIF(L29:L38,AD11)","v":0},{"$f":"AE11/(AG4-AE8)","v":0},{"$f":"IF(AF11=0,0,(AF11*((LOG(AF11))/LOG(2))))","v":0},null,{"$f":"N11","v":0},{"$f":"COUNTIF(L39:L49,AI11)","v":0},{"$f":"AJ11/(AL4-AJ8)","v":0},{"$f":"IF(AK11=0,0,(AK11*((LOG(AK11))/LOG(2))))","v":0},null,{"$f":"N11","v":0},{"$f":"COUNTIF(L50:L60,AN11)","v":0},{"$f":"AO11/(AQ4-AO8)","v":0},{"$f":"IF(AP11=0,0,(AP11*((LOG(AP11))/LOG(2))))","v":0},null,{"$f":"N11","v":0},{"$f":"COUNTIF(L61:L71,AS11)","v":0},{"$f":"AT11/(AV4-AT8)","v":0},{"$f":"IF(AU11=0,0,(AU11*((LOG(AU11))/LOG(2))))","v":0}]
[11,605,21,614,null,null,null,null,null,null,0,12,null,null,null,null,null,null,null,{"$f":"N12","v":0},{"$f":"COUNTIF(L7:L17,T12)","v":0},{"$f":"U12/(W4-U8)","v":0},{"$f":"IF(V12=0,0,(V12*((LOG(V12))/LOG(2))))","v":0},null,{"$f":"N12","v":0},{"$f":"COUNTIF(L18:L28,Y12)","v":0},{"$f":"Z12/(AB4-Z8)","v":0},{"$f":"IF(AA12=0,0,(AA12*((LOG(AA12))/LOG(2))))","v":0},null,{"$f":"N12","v":0},{"$f":"COUNTIF(L29:L38,AD12)","v":0},{"$f":"AE12/(AG4-AE8)","v":0},{"$f":"IF(AF12=0,0,(AF12*((LOG(AF12))/LOG(2))))","v":0},null,{"$f":"N12","v":0},{"$f":"COUNTIF(L39:L49,AI12)","v":0},{"$f":"AJ12/(AL4-AJ8)","v":0},{"$f":"IF(AK12=0,0,(AK12*((LOG(AK12))/LOG(2))))","v":0},null,{"$f":"N12","v":0},{"$f":"COUNTIF(L50:L60,AN12)","v":0},{"$f":"AO12/(AQ4-AO8)","v":0},{"$f":"IF(AP12=0,0,(AP12*((LOG(AP12))/LOG(2))))","v":0},null,{"$f":"N12","v":0},{"$f":"COUNTIF(L61:L71,AS12)","v":0},{"$f":"AT12/(AV4-AT8)","v":0},{"$f":"IF(AU12=0,0,(AU12*((LOG(AU12))/LOG(2))))","v":0}]
[11,710,12,717,null,null,null,null,null,null,0,11,null,null,null,null,null,null,null,{"$f":"N13","v":0},{"$f":"COUNTIF(L7:L17,T13)","v":0},{"$f":"U13/(W4-U8)","v":0},{"$f":"IF(V13=0,0,(V13*((LOG(V13))/LOG(2))))","v":0},null,{"$f":"N13","v":0},{"$f":"COUNTIF(L18:L28,Y13)","v":0},{"$f":"Z13/(AB4-Z8)","v":0},{"$f":"IF(AA13=0,0,(AA13*((LOG(AA13))/LOG(2))))","v":0},null,{"$f":"N13","v":0},{"$f":"COUNTIF(L29:L38,AD13)","v":0},{"$f":"AE13/(AG4-AE8)","v":0},{"$f":"IF(AF13=0,0,(AF13*((LOG(AF13))/LOG(2))))","v":0},null,{"$f":"N13","v":0},{"$f":"COUNTIF(L39:L49,AI13)","v":0},{"$f":"AJ13/(AL4-AJ8)","v":0},{"$f":"IF(AK13=0,0,(AK13*((LOG(AK13))/LOG(2))))","v":0},null,{"$f":"N13","v":0},{"$f":"COUNTIF(L50:L60,AN13)","v":0},{"$f":"AO13/(AQ4-AO8)","v":0},{"$f":"IF(AP13=0,0,(AP13*((LOG(AP13))/LOG(2))))","v":0},null,{"$f":"N13","v":0},{"$f":"COUNTIF(L61:L71,AS13)","v":0},{"$f":"AT13/(AV4-AT8)","v":0},{"$f":"IF(AU13=0,0,(AU13*((LOG(AU13))/LOG(2))))","v":0}]
[11,822,21,837,null,null,null,null,null,null,0,12,null,null,null,null,null,null,null,{"$f":"N14","v":0},{"$f":"COUNTIF(L7:L17,T14)","v":0},{"$f":"U14/(W4-U8)","v":0},{"$f":"IF(V14=0,0,(V14*((LOG(V14))/LOG(2))))","v":0},null,{"$f":"N14","v":0},{"$f":"COUNTIF(L18:L28,Y14)","v":0},{"$f":"Z14/(AB4-Z8)","v":0},{"$f":"IF(AA14=0,0,(AA14*((LOG(AA14))/LOG(2))))","v":0},null,{"$f":"N14","v":0},{"$f":"COUNTIF(L29:L38,AD14)","v":0},{"$f":"AE14/(AG4-AE8)","v":0},{"$f":"IF(AF14=0,0,(AF14*((LOG(AF14))/LOG(2))))","v":0},null,{"$f":"N14","v":0},{"$f":"COUNTIF(L39:L49,AI14)","v":0},{"$f":"AJ14/(AL4-AJ8)","v":0},{"$f":"IF(AK14=0,0,(AK14*((LOG(AK14))/LOG(2))))","v":0},null,{"$f":"N14","v":0},{"$f":"COUNTIF(L50:L60,AN14)","v":0},{"$f":"AO14/(AQ4-AO8)","v":0},{"$f":"IF(AP14=0,0,(AP14*((LOG(AP14))/LOG(2))))","v":0},null,{"$f":"N14","v":0},{"$f":"COUNTIF(L61:L71,AS14)","v":0},{"$f":"AT14/(AV4-AT8)","v":0},{"$f":"IF(AU14=0,0,(AU14*((LOG(AU14))/LOG(2))))","v":0}]
[11,935,12,942,null,null,null,null,null,null,0,11,null,null,null,{"$f":"SUM(P7:P14)","v":1},{"$f":"-SUM(Q7:Q14)","v":1.7514361634051794},null,null,null,null,{"$f":"SUM(V7:V14)","v":1},{"$f":"-SUM(W7:W14)","v":0},null,null,null,{"$f":"SUM(AA7:AA14)","v":1},{"$f":"-SUM(AB7:AB14)","v":0.95443400292496505},null,null,null,{"$f":"SUM(AF7:AF14)","v":1},{"$f":"-SUM(AG7:AG14)","v":1.5849625007211559},null,null,null,{"$f":"SUM(AK7:AK14)","v":1},{"$f":"-SUM(AL7:AL14)","v":1.5},null,null,null,{"$f":"SUM(AP7:AP14)","v":0.99999999999999989},{"$f":"-SUM(AQ7:AQ14)","v":1.5566567074628228},null,null,null,{"$f":"SUM(AU7:AU14)","v":1},{"$f":"-SUM(AV7:AV14)","v":1}]
[11,1052,21,1059,null,null,null,null,null,null,0,12,null,null,null,"U=",{"$f":"Q15/(LOG(Q4)/LOG(2))","v":0.29082185243090269},null,null,null,null,"U1=",{"$f":"W15/(LOG(W4)/LOG(2))","v":0},null,null,null,"U2=",{"$f":"AB15/(LOG(AB4)/LOG(2))","v":0.27589329928739148},null,null,null,"U3=",{"$f":"AG15/(LOG(AG4)/LOG(2))","v":0.47712125471966238},null,null,null,"U4=",{"$f":"AL15/(LOG(AL4)/LOG(2))","v":0.43359723947683171},null,null,null,"U5=",{"$f":"AQ15/(LOG(AQ4)/LOG(2))","v":0.44997470077931601},null,null,null,"U6=",{"$f":"AV15/(LOG(AV4)/LOG(2))","v":0.28906482631788782}]
[11,1165,21,1173,null,null,null,null,null,null,0,12]
[22,1264,14,1272,null,null,null,null,null,null,0,21]
[22,1388,23,1409,null,null,null,null,null,null,0,22,null,"Total Target Seq"]
[22,1522,14,1543,null,null,null,null,null,null,0,21,null,{"$f":"COUNTIF(L7:L71,G3)","v":34},null,11,11,10,11,11,11]
[22,1638,23,1658,null,null,null,null,null,null,0,22,null,null,null,"% of reinforcement given in 6 equal intervals based on number of trials "]
[11,1775,21,1785,null,null,null,null,null,null,0,12,null,null,null,"%_1","%_2","%_3","%_4","%_5","%_6"]
[22,1886,14,1894,null,null,null,null,null,null,0,21,null,null,"target sequence",{"$f":"$G$3","v":12},{"$f":"$G$3","v":12},{"$f":"$G$3","v":12},{"$f":"$G$3","v":12},{"$f":"$G$3","v":12},{"$f":"$G$3","v":12}]
[22,2004,23,2019,null,null,null,null,null,null,0,22,null,null,"total reinforcement",{"$f":"U8","v":8},{"$f":"Z8","v":3},{"$f":"AE8","v":7},{"$f":"AJ8","v":7},{"$f":"AO8","v":4},{"$f":"AT8","v":5}]
[11,2123,21,2131,null,null,null,null,null,null,0,12,null,null,"% target"]
[22,2234,23,2242,null,null,null,null,null,null,0,22,null,null,"CCRF"]
[22,2391,23,2398,null,null,null,null,null,null,0,22,null,null,"% CCRf"]
[11,2498,21,2516,null,null,null,null,null,null,0,12,null,null,"average response rate",{"$f":"D17/P20","v":106.63636363636364},{"$f":"(D28-D17)/Q20","v":122.09090909090909},{"$f":"(D38-D28)/R20","v":125.6},{"$f":"(D49-D38)/S20","v":145.90909090909091},{"$f":"(D60-D49)/T20","v":445.09090909090907},{"$f":"(D71-D60)/U20","v":1053.090909090909}]
[11,2614,21,2639,null,null,null,null,null,null,0,12]
[11,2737,21,2761,null,null,null,null,null,null,0,12]
[11,2861,21,2868,null,null,null,null,null,null,0,12]
[22,2961,14,2977,null,null,null,null,null,null,0,21]
[11,3080,21,3087,null,null,null,null,null,null,0,12]
[11,3250,21,3267,null,null,null,null,null,null,0,12]
[22,3395,23,3402,null,null,null,null,null,null,0,22]
[11,3532,21,3546,null,null,null,null,null,null,0,12]
[11,3643,21,3662,null,null,null,null,null,null,0,12]
[11,3758,12,3772,null,null,null,null,null,null,0,11]
[11,3908,12,3916,null,null,null,null,null,null,0,11]
[11,4023,21,4032,null,null,null,null,null,null,0,12]
[11,4136,21,4198,null,null,null,null,null,null,0,12]
[11,4295,21,4317,null,null,null,null,null,null,0,12]
[22,4423,23,4431,null,null,null,null,null,null,0,22]
[11,4613,21,4647,null,null,null,null,null,null,0,12]
[22,4743,14,4750,null,null,null,null,null,null,0,21]
[11,5002,12,5008,null,null,null,null,null,null,0,11]
[11,5124,21,5139,null,null,null,null,null,null,0,12]
[11,5255,21,5265,null,null,null,null,null,null,0,12]
[11,5370,21,5377,null,null,null,null,null,null,0,12]
[11,5480,21,5487,null,null,null,null,null,null,0,12]
[11,5586,21,5593,null,null,null,null,null,null,0,12]
[22,5686,14,5693,null,null,null,null,null,null,0,21]
[22,5823,14,5830,null,null,null,null,null,null,0,21]
[11,5934,21,5941,null,null,null,null,null,null,0,12]
[11,6040,21,6047,null,null,null,null,null,null,0,12]
[22,6158,23,6166,null,null,null,null,null,null,0,22]
[22,6491,23,6498,null,null,null,null,null,null,0,22]
[11,9726,12,9751,null,null,null,null,null,null,0,11]
[22,9859,14,9866,null,null,null,null,null,null,0,21]
[11,10242,12,10273,null,null,null,null,null,null,0,11]
[11,10400,21,10426,null,null,null,null,null,null,0,12]
[11,18673,12,18721,null,null,null,null,null,null,0,11]
[22,18890,14,18907,null,null,null,null,null,null,0,21]
[11,20352,12,20359,null,null,null,null,null,null,0,11]
[22,20580,14,20606,null,null,null,null,null,null,0,21]
[11,20725,21,20764,null,null,null,null,null,null,0,12]
[11,21272,12,21280,null,null,null,null,null,null,0,11]
[11,21398,21,21434,null,null,null,null,null,null,0,12]
[11,21547,21,21575,null,null,null,null,null,null,0,12]
[22,21669,14,21676,null,null,null,null,null,null,0,21]
[11,21832,21,21857,null,null,null,null,null,null,1,12]

{"sheet":"!N219A20.095","index":19,"n_rows":64,"n_cols":48,"rows_kept":64,"cut":false,"hidden":false,"merged":[[4,39,4,42],[5,39,5,40],[4,44,4,47],[5,44,5,45],[4,24,4,27],[5,24,5,25],[4,29,4,32],[5,29,5,30],[4,34,4,37],[5,34,5,35],[1,1,1,2],[5,13,5,14],[18,13,18,14],[19,13,19,14],[4,19,4,22],[5,19,5,20]]}
["Report for:!N219A20.095"]
["Date:","<date>"]
["Hen:","<hen>",null,null,null,"Correct Sequence",{"$f":"Start!J2","v":12},null,null,null,null,null,null,null,null,"Total Sequences in Data",{"$f":"4994-COUNTBLANK(L7:L5000)","v":58},null,null,null,null,"Total Sequences in Block Data",{"$f":"COUNTA(L7:L16)","v":10},null,null,null,"Total Sequences in Block Data",{"$f":"COUNTA(L17:L25)","v":9},null,null,null,"Total Sequences in Block Data",{"$f":"COUNTA(L26:L35)","v":10},null,null,null,"Total Sequences in Block Data",{"$f":"COUNTA(L36:L45)","v":10},null,null,null,"Total Sequences in Block Data",{"$f":"COUNTA(L46:L54)","v":9},null,null,null,"Total Sequences in Block Data",{"$f":"COUNTA(L55:L64)","v":10}]
[null,null,null,null,null,null,null,null,null,null,null,null,null,null,null,"Total Sequences in Summary",{"$f":"SUM(O7:O14)","v":58},null,null,null,null,"Total Sequences in Block Summary",{"$f":"SUM(U7:U14)","v":10},null,null,null,"Total Sequences in Block Summary",{"$f":"SUM(Z7:Z14)","v":9},null,null,null,"Total Sequences in Block Summary",{"$f":"SUM(AE7:AE14)","v":10},null,null,null,"Total Sequences in Block Summary",{"$f":"SUM(AJ7:AJ14)","v":10},null,null,null,"Total Sequences in Block Summary",{"$f":"SUM(AO7:AO14)","v":9},null,null,null,"Total Sequences in Block Summary",{"$f":"SUM(AT7:AT14)","v":10}]
[null,null,null,null,null,null,null,null,null,null,null,null,null,null,null,null,null,null,null,"Block 1",null,null,null,null,"Block 2",null,null,null,null,"Block 3",null,null,null,null,"Block 4",null,null,null,null,"Block 5",null,null,null,null,"Block 6"]
["Sequence\nComponent\n1","Time\n1","Sequence\nComponent\n2","Time\n2","Sequence\nComponent\n3","Time\n3","Sequence\nComponent\n4","Time\n4","Sequence\nComponent\n5","Time\n5","Correct?\n0=No 1=Yes","Sequence",null,"Frequency",null,"Relative Frequency","Variability",null,null,"Frequency",null,"Relative Frequency","Variability",null,"Frequency",null,"Relative Frequency","Variability",null,"Frequency",null,"Relative Frequency","Variability",null,"Frequency",null,"Relative Frequency","Variability",null,"Frequency",null,"Relative Frequency","Variability",null,"Frequency",null,"Relative Frequency","Variability"]
[11,14,12,30,null,null,null,null,null,null,0,11,null,11,{"$f":"COUNTIF($L$7:$L$500,N7)","v":9},{"$f":"O7/$Q$4","v":0.15517241379310345},{"$f":"IF(P7=0,0,(P7*((LOG(P7))/LOG(2))))","v":-0.41711213695116101},null,null,{"$f":"N7","v":11},{"$f":"COUNTIF(L7:L16,T7)","v":6},{"$f":"U7/(W4-U8)","v":0.8571428571428571},{"$f":"IF(V7=0,0,(V7*((LOG(V7))/LOG(2))))","v":-0.19062207543124113},null,{"$f":"N7","v":11},{"$f":"COUNTIF(L17:L25,Y7)","v":1},{"$f":"Z7/(AB4-Z8)","v":0.33333333333333331},{"$f":"IF(AA7=0,0,(AA7*((LOG(AA7))/LOG(2))))","v":-0.52832083357371862},null,{"$f":"N7","v":11},{"$f":"COUNTIF(L26:L35,AD7)","v":1},{"$f":"AE7/(AG4-AE8)","v":0.33333333333333331},{"$f":"IF(AF7=0,0,(AF7*((LOG(AF7))/LOG(2))))","v":-0.52832083357371862},null,{"$f":"N7","v":11},{"$f":"COUNTIF(L36:L45,AI7)","v":0},{"$f":"AJ7/(AL4-AJ8)","v":0},{"$f":"IF(AK7=0,0,(AK7*((LOG(AK7))/LOG(2))))","v":0},null,{"$f":"N7","v":11},{"$f":"COUNTIF(L46:L54,AN7)","v":1},{"$f":"AO7/(AQ4-AO8)","v":0.33333333333333331},{"$f":"IF(AP7=0,0,(AP7*((LOG(AP7))/LOG(2))))","v":-0.52832083357371862},null,{"$f":"N7","v":11},{"$f":"COUNTIF(L55:L64,AS7)","v":0},{"$f":"AT7/(AV4-AT8)","v":0},{"$f":"IF(AU7=0,0,(AU7*((LOG(AU7))/LOG(2))))","v":0}]
[11,129,21,140,null,null,null,null,null,null,0,12,null,12,{"$f":"COUNTIF($L$7:$L$500,N8)","v":38},{"$f":"O8/$Q$4","v":0.65517241379310343},{"$f":"IF(P8=0,0,(P8*((LOG(P8))/LOG(2))))","v":-0.39969021213778433},null,null,{"$f":"N8","v":12},{"$f":"COUNTIF(L7:L16,T8)","v":3},null,null,null,{"$f":"N8","v":12},{"$f":"COUNTIF(L17:L25,Y8)","v":6},null,null,null,{"$f":"N8","v":12},{"$f":"COUNTIF(L26:L35,AD8)","v":7},null,null,null,{"$f":"N8","v":12},{"$f":"COUNTIF(L36:L45,AI8)","v":8},null,null,null,{"$f":"N8","v":12},{"$f":"COUNTIF(L46:L54,AN8)","v":6},null,null,null,{"$f":"N8","v":12},{"$f":"COUNTIF(L55:L64,AS8)","v":8}]
[11,234,21,288,null,null,null,null,null,null,0,12,null,21,{"$f":"COUNTIF($L$7:$L$500,N9)","v":9},{"$f":"O9/$Q$4","v":0.15517241379310345},{"$f":"IF(P9=0,0,(P9*((LOG(P9))/LOG(2))))","v":-0.41711213695116101},null,null,{"$f":"N9","v":21},{"$f":"COUNTIF(L7:L16,T9)","v":1},{"$f":"U9/(W4-U8)","v":0.14285714285714285},{"$f":"IF(V9=0,0,(V9*((LOG(V9))/LOG(2))))","v":-0.40105070315108626},null,{"$f":"N9","v":21},{"$f":"COUNTIF(L17:L25,Y9)","v":2},{"$f":"Z9/(AB4-Z8)","v":0.66666666666666663},{"$f":"IF(AA9=0,0,(AA9*((LOG(AA9))/LOG(2))))","v":-0.38997500048077083},null,{"$f":"N9","v":21},{"$f":"COUNTIF(L26:L35,AD9)","v":2},{"$f":"AE9/(AG4-AE8)","v":0.66666666666666663},{"$f":"IF(AF9=0,0,(AF9*((LOG(AF9))/LOG(2))))","v":-0.38997500048077083},null,{"$f":"N9","v":21},{"$f":"COUNTIF(L36:L45,AI9)","v":2},{"$f":"AJ9/(AL4-AJ8)","v":1},{"$f":"IF(AK9=0,0,(AK9*((LOG(AK9))/LOG(2))))","v":0},null,{"$f":"N9","v":21},{"$f":"COUNTIF(L46:L54,AN9)","v":1},{"$f":"AO9/(AQ4-AO8)","v":0.33333333333333331},{"$f":"IF(AP9=0,0,(AP9*((LOG(AP9))/LOG(2))))","v":-0.52832083357371862},null,{"$f":"N9","v":21},{"$f":"COUNTIF(L55:L64,AS9)","v":1},{"$f":"AT9/(AV4-AT8)","v":0.5},{"$f":"IF(AU9=0,0,(AU9*((LOG(AU9))/LOG(2))))","v":-0.5}]
[11,391,12,403,null,null,null,null,null,null,0,11,null,22,{"$f":"COUNTIF($L$7:$L$500,N10)","v":2},{"$f":"O10/$Q$4","v":3.4482758620689655E-2},{"$f":"IF(P10=0,0,(P10*((LOG(P10))/LOG(2))))","v":-0.16751658603888178},null,null,{"$f":"N10","v":22},{"$f":"COUNTIF(L7:L16,T10)","v":0},{"$f":"U10/(W4-U8)","v":0},{"$f":"IF(V10=0,0,(V10*((LOG(V10))/LOG(2))))","v":0},null,{"$f":"N10","v":22},{"$f":"COUNTIF(L17:L25,Y10)","v":0},{"$f":"Z10/(AB4-Z8)","v":0},{"$f":"IF(AA10=0,0,(AA10*((LOG(AA10))/LOG(2))))","v":0},null,{"$f":"N10","v":22},{"$f":"COUNTIF(L26:L35,AD10)","v":0},{"$f":"AE10/(AG4-AE8)","v":0},{"$f":"IF(AF10=0,0,(AF10*((LOG(AF10))/LOG(2))))","v":0},null,{"$f":"N10","v":22},{"$f":"COUNTIF(L36:L45,AI10)","v":0},{"$f":"AJ10/(AL4-AJ8)","v":0},{"$f":"IF(AK10=0,0,(AK10*((LOG(AK10))/LOG(2))))","v":0},null,{"$f":"N10","v":22},{"$f":"COUNTIF(L46:L54,AN10)","v":1},{"$f":"AO10/(AQ4-AO8)","v":0.33333333333333331},{"$f":"IF(AP10=0,0,(AP10*((LOG(AP10))/LOG(2))))","v":-0.52832083357371862},null,{"$f":"N10","v":22},{"$f":"COUNTIF(L55:L64,AS10)","v":1},{"$f":"AT10/(AV4-AT8)","v":0.5},{"$f":"IF(AU10=0,0,(AU10*((LOG(AU10))/LOG(2))))","v":-0.5}]
[11,507,12,519,null,null,null,null,null,null,0,11,null,null,null,null,null,null,null,{"$f":"N11","v":0},{"$f":"COUNTIF(L7:L16,T11)","v":0},{"$f":"U11/(W4-U8)","v":0},{"$f":"IF(V11=0,0,(V11*((LOG(V11))/LOG(2))))","v":0},null,{"$f":"N11","v":0},{"$f":"COUNTIF(L17:L25,Y11)","v":0},{"$f":"Z11/(AB4-Z8)","v":0},{"$f":"IF(AA11=0,0,(AA11*((LOG(AA11))/LOG(2))))","v":0},null,{"$f":"N11","v":0},{"$f":"COUNTIF(L26:L35,AD11)","v":0},{"$f":"AE11/(AG4-AE8)","v":0},{"$f":"IF(AF11=0,0,(AF11*((LOG(AF11))/LOG(2))))","v":0},null,{"$f":"N11","v":0},{"$f":"COUNTIF(L36:L45,AI11)","v":0},{"$f":"AJ11/(AL4-AJ8)","v":0},{"$f":"IF(AK11=0,0,(AK11*((LOG(AK11))/LOG(2))))","v":0},null,{"$f":"N11","v":0},{"$f":"COUNTIF(L46:L54,AN11)","v":0},{"$f":"AO11/(AQ4-AO8)","v":0},{"$f":"IF(AP11=0,0,(AP11*((LOG(AP11))/LOG(2))))","v":0},null,{"$f":"N11","v":0},{"$f":"COUNTIF(L55:L64,AS11)","v":0},{"$f":"AT11/(AV4-AT8)","v":0},{"$f":"IF(AU11=0,0,(AU11*((LOG(AU11))/LOG(2))))","v":0}]
[11,617,12,621,null,null,null,null,null,null,0,11,null,null,null,null,null,null,null,{"$f":"N12","v":0},{"$f":"COUNTIF(L7:L16,T12)","v":0},{"$f":"U12/(W4-U8)","v":0},{"$f":"IF(V12=0,0,(V12*((LOG(V12))/LOG(2))))","v":0},null,{"$f":"N12","v":0},{"$f":"COUNTIF(L17:L25,Y12)","v":0},{"$f":"Z12/(AB4-Z8)","v":0},{"$f":"IF(AA12=0,0,(AA12*((LOG(AA12))/LOG(2))))","v":0},null,{"$f":"N12","v":0},{"$f":"COUNTIF(L26:L35,AD12)","v":0},{"$f":"AE12/(AG4-AE8)","v":0},{"$f":"IF(AF12=0,0,(AF12*((LOG(AF12))/LOG(2))))","v":0},null,{"$f":"N12","v":0},{"$f":"COUNTIF(L36:L45,AI12)","v":0},{"$f":"AJ12/(AL4-AJ8)","v":0},{"$f":"IF(AK12=0,0,(AK12*((LOG(AK12))/LOG(2))))","v":0},null,{"$f":"N12","v":0},{"$f":"COUNTIF(L46:L54,AN12)","v":0},{"$f":"AO12/(AQ4-AO8)","v":0},{"$f":"IF(AP12=0,0,(AP12*((LOG(AP12))/LOG(2))))","v":0},null,{"$f":"N12","v":0},{"$f":"COUNTIF(L55:L64,AS12)","v":0},{"$f":"AT12/(AV4-AT8)","v":0},{"$f":"IF(AU12=0,0,(AU12*((LOG(AU12))/LOG(2))))","v":0}]
[22,721,14,729,null,null,null,null,null,null,0,21,null,null,null,null,null,null,null,{"$f":"N13","v":0},{"$f":"COUNTIF(L7:L16,T13)","v":0},{"$f":"U13/(W4-U8)","v":0},{"$f":"IF(V13=0,0,(V13*((LOG(V13))/LOG(2))))","v":0},null,{"$f":"N13","v":0},{"$f":"COUNTIF(L17:L25,Y13)","v":0},{"$f":"Z13/(AB4-Z8)","v":0},{"$f":"IF(AA13=0,0,(AA13*((LOG(AA13))/LOG(2))))","v":0},null,{"$f":"N13","v":0},{"$f":"COUNTIF(L26:L35,AD13)","v":0},{"$f":"AE13/(AG4-AE8)","v":0},{"$f":"IF(AF13=0,0,(AF13*((LOG(AF13))/LOG(2))))","v":0},null,{"$f":"N13","v":0},{"$f":"COUNTIF(L36:L45,AI13)","v":0},{"$f":"AJ13/(AL4-AJ8)","v":0},{"$f":"IF(AK13=0,0,(AK13*((LOG(AK13))/LOG(2))))","v":0},null,{"$f":"N13","v":0},{"$f":"COUNTIF(L46:L54,AN13)","v":0},{"$f":"AO13/(AQ4-AO8)","v":0},{"$f":"IF(AP13=0,0,(AP13*((LOG(AP13))/LOG(2))))","v":0},null,{"$f":"N13","v":0},{"$f":"COUNTIF(L55:L64,AS13)","v":0},{"$f":"AT13/(AV4-AT8)","v":0},{"$f":"IF(AU13=0,0,(AU13*((LOG(AU13))/LOG(2))))","v":0}]
[11,827,12,835,null,null,null,null,null,null,0,11,null,null,null,null,null,null,null,{"$f":"N14","v":0},{"$f":"COUNTIF(L7:L16,T14)","v":0},{"$f":"U14/(W4-U8)","v":0},{"$f":"IF(V14=0,0,(V14*((LOG(V14))/LOG(2))))","v":0},null,{"$f":"N14","v":0},{"$f":"COUNTIF(L17:L25,Y14)","v":0},{"$f":"Z14/(AB4-Z8)","v":0},{"$f":"IF(AA14=0,0,(AA14*((LOG(AA14))/LOG(2))))","v":0},null,{"$f":"N14","v":0},{"$f":"COUNTIF(L26:L35,AD14)","v":0},{"$f":"AE14/(AG4-AE8)","v":0},{"$f":"IF(AF14=0,0,(AF14*((LOG(AF14))/LOG(2))))","v":0},null,{"$f":"N14","v":0},{"$f":"COUNTIF(L36:L45,AI14)","v":0},{"$f":"AJ14/(AL4-AJ8)","v":0},{"$f":"IF(AK14=0,0,(AK14*((LOG(AK14))/LOG(2))))","v":0},null,{"$f":"N14","v":0},{"$f":"COUNTIF(L46:L54,AN14)","v":0},{"$f":"AO14/(AQ4-AO8)","v":0},{"$f":"IF(AP14=0,0,(AP14*((LOG(AP14))/LOG(2))))","v":0},null,{"$f":"N14","v":0},{"$f":"COUNTIF(L55:L64,AS14)","v":0},{"$f":"AT14/(AV4-AT8)","v":0},{"$f":"IF(AU14=0,0,(AU14*((LOG(AU14))/LOG(2))))","v":0}]
[11,941,21,954,null,null,null,null,null,null,0,12,null,null,null,{"$f":"SUM(P7:P14)","v":0.99999999999999989},{"$f":"-SUM(Q7:Q14)","v":1.4014310720789882},null,null,null,null,{"$f":"SUM(V7:V14)","v":1},{"$f":"-SUM(W7:W14)","v":0.59167277858232736},null,null,null,{"$f":"SUM(AA7:AA14)","v":1},{"$f":"-SUM(AB7:AB14)","v":0.91829583405448945},null,null,null,{"$f":"SUM(AF7:AF14)","v":1},{"$f":"-SUM(AG7:AG14)","v":0.91829583405448945},null,null,null,{"$f":"SUM(AK7:AK14)","v":1},{"$f":"-SUM(AL7:AL14)","v":0},null,null,null,{"$f":"SUM(AP7:AP14)","v":1},{"$f":"-SUM(AQ7:AQ14)","v":1.5849625007211559},null,null,null,{"$f":"SUM(AU7:AU14)","v":1},{"$f":"-SUM(AV7:AV14)","v":1}]
[11,1054,12,1066,null,null,null,null,null,null,0,11,null,null,null,"U=",{"$f":"Q15/(LOG(Q4)/LOG(2))","v":0.23923448595081498},null,null,null,null,"U1=",{"$f":"W15/(LOG(W4)/LOG(2))","v":0.17811125397113373},null,null,null,"U2=",{"$f":"AB15/(LOG(AB4)/LOG(2))","v":0.28969008214284753},null,null,null,"U3=",{"$f":"AG15/(LOG(AG4)/LOG(2))","v":0.27643459094367495},null,null,null,"U4=",{"$f":"AL15/(LOG(AL4)/LOG(2))","v":0},null,null,null,"U5=",{"$f":"AQ15/(LOG(AQ4)/LOG(2))","v":0.49999999999999994},null,null,null,"U6=",{"$f":"AV15/(LOG(AV4)/LOG(2))","v":0.3010299956639812}]
[11,1174,21,1186,null,null,null,null,null,null,0,12]
[11,1286,21,1297,null,null,null,null,null,null,0,12]
[11,1396,21,1413,null,null,null,null,null,null,0,12,null,"Total Target Seq"]
[11,1512,21,1530,null,null,null,null,null,null,0,12,null,{"$f":"COUNTIF(L7:L64,G3)","v":38},null,10,9,10,10,9,10]
[11,1628,12,1649,null,null,null,null,null,null,0,11,null,null,null,"% of reinforcement given in 6 equal intervals based on number of trials "]
[22,1747,14,1755,null,null,null,null,null,null,0,21,null,null,null,"%_1","%_2","%_3","%_4","%_5","%_6"]
[11,1853,21,1877,null,null,null,null,null,null,0,12,null,null,"target sequence",{"$f":"$G$3","v":12},{"$f":"$G$3","v":12},{"$f":"$G$3","v":12},{"$f":"$G$3","v":12},{"$f":"$G$3","v":12},{"$f":"$G$3","v":12}]
[11,1976,21,1987,null,null,null,null,null,null,0,12,null,null,"total reinforcement",{"$f":"U8","v":3},{"$f":"Z8","v":6},{"$f":"AE8","v":7},{"$f":"AJ8","v":8},{"$f":"AO8","v":6},{"$f":"AT8","v":8}]
[22,2084,14,2119,null,null,null,null,null,null,0,21,null,null,"% target"]
[11,2218,12,2226,null,null,null,null,null,null,0,11,null,null,"CCRF"]
[11,2322,21,2340,null,null,null,null,null,null,0,12,null,null,"% CCRf"]
[11,2442,21,2455,null,null,null,null,null,null,0,12,null,null,"average response rate",{"$f":"D16/P20","v":106.6},{"$f":"(D25-D16)/Q20","v":117},{"$f":"(D35-D25)/R20","v":109.3},{"$f":"(D45-D35)/S20","v":111.1},{"$f":"(D54-D45)/T20","v":110},{"$f":"(D64-D54)/U20","v":119.9}]
[11,2564,21,2590,null,null,null,null,null,null,0,12]
[22,2683,14,2690,null,null,null,null,null,null,0,21]
[11,2788,21,2802,null,null,null,null,null,null,0,12]
[11,2893,21,2908,null,null,null,null,null,null,0,12]
[11,3003,21,3011,null,null,null,null,null,null,0,12]
[11,3101,21,3112,null,null,null,null,null,null,0,12]
[22,3205,14,3212,null,null,null,null,null,null,0,21]
[11,3313,21,3326,null,null,null,null,null,null,0,12]
[22,3426,14,3434,null,null,null,null,null,null,0,21]
[11,3533,21,3540,null,null,null,null,null,null,0,12]
[11,3640,21,3648,null,null,null,null,null,null,0,12]
[11,3744,21,3755,null,null,null,null,null,null,0,12]
[11,3847,21,3854,null,null,null,null,null,null,0,12]
[11,3951,21,3959,null,null,null,null,null,null,0,12]
[11,4058,21,4070,null,null,null,null,null,null,0,12]
[22,4203,14,4211,null,null,null,null,null,null,0,21]
[11,4316,21,4323,null,null,null,null,null,null,0,12]
[22,4419,14,4426,null,null,null,null,null,null,0,21]
[11,4525,21,4539,null,null,null,null,null,null,0,12]
[22,4646,23,4667,null,null,null,null,null,null,0,22]
[11,4764,21,4771,null,null,null,null,null,null,0,12]
[11,4869,21,4886,null,null,null,null,null,null,0,12]
[11,4981,21,5001,null,null,null,null,null,null,0,12]
[11,5091,12,5103,null,null,null,null,null,null,0,11]
[11,5205,21,5213,null,null,null,null,null,null,0,12]
[11,5306,21,5313,null,null,null,null,null,null,0,12]
[11,5415,21,5423,null,null,null,null,null,null,0,12]
[11,5520,21,5538,null,null,null,null,null,null,0,12]
[22,5637,14,5690,null,null,null,null,null,null,0,21]
[11,5788,21,5803,null,null,null,null,null,null,0,12]
[22,5917,23,5947,null,null,null,null,null,null,0,22]
[11,6050,21,6057,null,null,null,null,null,null,0,12]
[11,6147,21,6178,null,null,null,null,null,null,0,12]
[11,6275,21,6301,null,null,null,null,null,null,0,12]
[11,6398,21,6406,null,null,null,null,null,null,0,12]
[11,6505,21,6512,null,null,null,null,null,null,1,12]

{"sheet":"!N220B10.095","index":20,"n_rows":69,"n_cols":48,"rows_kept":69,"cut":false,"hidden":false,"merged":[[4,39,4,42],[5,39,5,40],[4,44,4,47],[5,44,5,45],[4,24,4,27],[5,24,5,25],[4,29,4,32],[5,29,5,30],[4,34,4,37],[5,34,5,35],[1,1,1,2],[5,13,5,14],[18,13,18,14],[19,13,19,14],[4,19,4,22],[5,19,5,20]]}
["Report for:!N220B10.095"]
["Date:","<date>"]
["Hen:","<hen>",null,null,null,"Correct Sequence",{"$f":"Start!J2","v":12},null,null,null,null,null,null,null,null,"Total Sequences in Data",{"$f":"4994-COUNTBLANK(L7:L5000)","v":63},null,null,null,null,"Total Sequences in Block Data",{"$f":"COUNTA(L7:L17)","v":11},null,null,null,"Total Sequences in Block Data",{"$f":"COUNTA(L18:L27)","v":10},null,null,null,"Total Sequences in Block Data",{"$f":"COUNTA(L28:L38)","v":11},null,null,null,"Total Sequences in Block Data",{"$f":"COUNTA(L39:L48)","v":10},null,null,null,"Total Sequences in Block Data",{"$f":"COUNTA(L49:L59)","v":11},null,null,null,"Total Sequences in Block Data",{"$f":"COUNTA(L60:L69)","v":10}]
[null,null,null,null,null,null,null,null,null,null,null,null,null,null,null,"Total Sequences in Summary",{"$f":"SUM(O7:O14)","v":63},null,null,null,null,"Total Sequences in Block Summary",{"$f":"SUM(U7:U14)","v":11},null,null,null,"Total Sequences in Block Summary",{"$f":"SUM(Z7:Z14)","v":10},null,null,null,"Total Sequences in Block Summary",{"$f":"SUM(AE7:AE14)","v":11},null,null,null,"Total Sequences in Block Summary",{"$f":"SUM(AJ7:AJ14)","v":10},null,null,null,"Total Sequences in Block Summary",{"$f":"SUM(AO7:AO14)","v":11},null,null,null,"Total Sequences in Block Summary",{"$f":"SUM(AT7:AT14)","v":10}]
[null,null,null,null,null,null,null,null,null,null,null,null,null,null,null,null,null,null,null,"Block 1",null,null,null,null,"Block 2",null,null,null,null,"Block 3",null,null,null,null,"Block 4",null,null,null,null,"Block 5",null,null,null,null,"Block 6"]
["Sequence\nComponent\n1","Time\n1","Sequence\nComponent\n2","Time\n2","Sequence\nComponent\n3","Time\n3","Sequence\nComponent\n4","Time\n4","Sequence\nComponent\n5","Time\n5","Correct?\n0=No 1=Yes","Sequence",null,"Frequency",null,"Relative Frequency","Variability",null,null,"Frequency",null,"Relative Frequency","Variability",null,"Frequency",null,"Relative Frequency","Variability",null,"Frequency",null,"Relative Frequency","Variability",null,"Frequency",null,"Relative Frequency","Variability",null,"Frequency",null,"Relative Frequency","Variability",null,"Frequency",null,"Relative Frequency","Variability"]
[22,12,14,21,null,null,null,null,null,null,0,21,null,11,{"$f":"COUNTIF($L$7:$L$500,N7)","v":13},{"$f":"O7/$Q$4","v":0.20634920634920634},{"$f":"IF(P7=0,0,(P7*((LOG(P7))/LOG(2))))","v":-0.4698241693597574},null,null,{"$f":"N7","v":11},{"$f":"COUNTIF(L7:L17,T7)","v":2},{"$f":"U7/(W4-U8)","v":0.33333333333333331},{"$f":"IF(V7=0,0,(V7*((LOG(V7))/LOG(2))))","v":-0.52832083357371862},null,{"$f":"N7","v":11},{"$f":"COUNTIF(L18:L27,Y7)","v":0},{"$f":"Z7/(AB4-Z8)","v":0},{"$f":"IF(AA7=0,0,(AA7*((LOG(AA7))/LOG(2))))","v":0},null,{"$f":"N7","v":11},{"$f":"COUNTIF(L28:L38,AD7)","v":0},{"$f":"AE7/(AG4-AE8)","v":0},{"$f":"IF(AF7=0,0,(AF7*((LOG(AF7))/LOG(2))))","v":0},null,{"$f":"N7","v":11},{"$f":"COUNTIF(L39:L48,AI7)","v":2},{"$f":"AJ7/(AL4-AJ8)","v":0.5},{"$f":"IF(AK7=0,0,(AK7*((LOG(AK7))/LOG(2))))","v":-0.5},null,{"$f":"N7","v":11},{"$f":"COUNTIF(L49:L59,AN7)","v":5},{"$f":"AO7/(AQ4-AO8)","v":0.83333333333333337},{"$f":"IF(AP7=0,0,(AP7*((LOG(AP7))/LOG(2))))","v":-0.21919533819482812},null,{"$f":"N7","v":11},{"$f":"COUNTIF(L60:L69,AS7)","v":4},{"$f":"AT7/(AV4-AT8)","v":0.66666666666666663},{"$f":"IF(AU7=0,0,(AU7*((LOG(AU7))/LOG(2))))","v":-0.38997500048077083}]
[11,131,21,139,null,null,null,null,null,null,0,12,null,12,{"$f":"COUNTIF($L$7:$L$500,N8)","v":35},{"$f":"O8/$Q$4","v":0.55555555555555558},{"$f":"IF(P8=0,0,(P8*((LOG(P8))/LOG(2))))","v":-0.4711093925305278},null,null,{"$f":"N8","v":12},{"$f":"COUNTIF(L7:L17,T8)","v":5},null,null,null,{"$f":"N8","v":12},{"$f":"COUNTIF(L18:L27,Y8)","v":8},null,null,null,{"$f":"N8","v":12},{"$f":"COUNTIF(L28:L38,AD8)","v":7},null,null,null,{"$f":"N8","v":12},{"$f":"COUNTIF(L39:L48,AI8)","v":6},null,null,null,{"$f":"N8","v":12},{"$f":"COUNTIF(L49:L59,AN8)","v":5},null,null,null,{"$f":"N8","v":12},{"$f":"COUNTIF(L60:L69,AS8)","v":4}]
[11,234,12,241,null,null,null,null,null,null,0,11,null,21,{"$f":"COUNTIF($L$7:$L$500,N9)","v":5},{"$f":"O9/$Q$4","v":7.9365079365079361E-2},{"$f":"IF(P9=0,0,(P9*((LOG(P9))/LOG(2))))","v":-0.29010728798512331},null,null,{"$f":"N9","v":21},{"$f":"COUNTIF(L7:L17,T9)","v":1},{"$f":"U9/(W4-U8)","v":0.16666666666666666},{"$f":"IF(V9=0,0,(V9*((LOG(V9))/LOG(2))))","v":-0.43082708345352599},null,{"$f":"N9","v":21},{"$f":"COUNTIF(L18:L27,Y9)","v":0},{"$f":"Z9/(AB4-Z8)","v":0},{"$f":"IF(AA9=0,0,(AA9*((LOG(AA9))/LOG(2))))","v":0},null,{"$f":"N9","v":21},{"$f":"COUNTIF(L28:L38,AD9)","v":2},{"$f":"AE9/(AG4-AE8)","v":0.5},{"$f":"IF(AF9=0,0,(AF9*((LOG(AF9))/LOG(2))))","v":-0.5},null,{"$f":"N9","v":21},{"$f":"COUNTIF(L39:L48,AI9)","v":0},{"$f":"AJ9/(AL4-AJ8)","v":0},{"$f":"IF(AK9=0,0,(AK9*((LOG(AK9))/LOG(2))))","v":0},null,{"$f":"N9","v":21},{"$f":"COUNTIF(L49:L59,AN9)","v":0},{"$f":"AO9/(AQ4-AO8)","v":0},{"$f":"IF(AP9=0,0,(AP9*((LOG(AP9))/LOG(2))))","v":0},null,{"$f":"N9","v":21},{"$f":"COUNTIF(L60:L69,AS9)","v":2},{"$f":"AT9/(AV4-AT8)","v":0.33333333333333331},{"$f":"IF(AU9=0,0,(AU9*((LOG(AU9))/LOG(2))))","v":-0.52832083357371862}]
[11,343,21,357,null,null,null,null,null,null,0,12,null,22,{"$f":"COUNTIF($L$7:$L$500,N10)","v":10},{"$f":"O10/$Q$4","v":0.15873015873015872},{"$f":"IF(P10=0,0,(P10*((LOG(P10))/LOG(2))))","v":-0.42148441724008795},null,null,{"$f":"N10","v":22},{"$f":"COUNTIF(L7:L17,T10)","v":3},{"$f":"U10/(W4-U8)","v":0.5},{"$f":"IF(V10=0,0,(V10*((LOG(V10))/LOG(2))))","v":-0.5},null,{"$f":"N10","v":22},{"$f":"COUNTIF(L18:L27,Y10)","v":2},{"$f":"Z10/(AB4-Z8)","v":1},{"$f":"IF(AA10=0,0,(AA10*((LOG(AA10))/LOG(2))))","v":0},null,{"$f":"N10","v":22},{"$f":"COUNTIF(L28:L38,AD10)","v":2},{"$f":"AE10/(AG4-AE8)","v":0.5},{"$f":"IF(AF10=0,0,(AF10*((LOG(AF10))/LOG(2))))","v":-0.5},null,{"$f":"N10","v":22},{"$f":"COUNTIF(L39:L48,AI10)","v":2},{"$f":"AJ10/(AL4-AJ8)","v":0.5},{"$f":"IF(AK10=0,0,(AK10*((LOG(AK10))/LOG(2))))","v":-0.5},null,{"$f":"N10","v":22},{"$f":"COUNTIF(L49:L59,AN10)","v":1},{"$f":"AO10/(AQ4-AO8)","v":0.16666666666666666},{"$f":"IF(AP10=0,0,(AP10*((LOG(AP10))/LOG(2))))","v":-0.43082708345352599},null,{"$f":"N10","v":22},{"$f":"COUNTIF(L60:L69,AS10)","v":0},{"$f":"AT10/(AV4-AT8)","v":0},{"$f":"IF(AU10=0,0,(AU10*((LOG(AU10))/LOG(2))))","v":0}]
[11,453,21,480,null,null,null,null,null,null,0,12,null,null,null,null,null,null,null,{"$f":"N11","v":0},{"$f":"COUNTIF(L7:L17,T11)","v":0},{"$f":"U11/(W4-U8)","v":0},{"$f":"IF(V11=0,0,(V11*((LOG(V11))/LOG(2))))","v":0},null,{"$f":"N11","v":0},{"$f":"COUNTIF(L18:L27,Y11)","v":0},{"$f":"Z11/(AB4-Z8)","v":0},{"$f":"IF(AA11=0,0,(AA11*((LOG(AA11))/LOG(2))))","v":0},null,{"$f":"N11","v":0},{"$f":"COUNTIF(L28:L38,AD11)","v":0},{"$f":"AE11/(AG4-AE8)","v":0},{"$f":"IF(AF11=0,0,(AF11*((LOG(AF11))/LOG(2))))","v":0},null,{"$f":"N11","v":0},{"$f":"COUNTIF(L39:L48,AI11)","v":0},{"$f":"AJ11/(AL4-AJ8)","v":0},{"$f":"IF(AK11=0,0,(AK11*((LOG(AK11))/LOG(2))))","v":0},null,{"$f":"N11","v":0},{"$f":"COUNTIF(L49:L59,AN11)","v":0},{"$f":"AO11/(AQ4-AO8)","v":0},{"$f":"IF(AP11=0,0,(AP11*((LOG(AP11))/LOG(2))))","v":0},null,{"$f":"N11","v":0},{"$f":"COUNTIF(L60:L69,AS11)","v":0},{"$f":"AT11/(AV4-AT8)","v":0},{"$f":"IF(AU11=0,0,(AU11*((LOG(AU11))/LOG(2))))","v":0}]
[11,583,21,598,null,null,null,null,null,null,0,12,null,null,null,null,null,null,null,{"$f":"N12","v":0},{"$f":"COUNTIF(L7:L17,T12)","v":0},{"$f":"U12/(W4-U8)","v":0},{"$f":"IF(V12=0,0,(V12*((LOG(V12))/LOG(2))))","v":0},null,{"$f":"N12","v":0},{"$f":"COUNTIF(L18:L27,Y12)","v":0},{"$f":"Z12/(AB4-Z8)","v":0},{"$f":"IF(AA12=0,0,(AA12*((LOG(AA12))/LOG(2))))","v":0},null,{"$f":"N12","v":0},{"$f":"COUNTIF(L28:L38,AD12)","v":0},{"$f":"AE12/(AG4-AE8)","v":0},{"$f":"IF(AF12=0,0,(AF12*((LOG(AF12))/LOG(2))))","v":0},null,{"$f":"N12","v":0},{"$f":"COUNTIF(L39:L48,AI12)","v":0},{"$f":"AJ12/(AL4-AJ8)","v":0},{"$f":"IF(AK12=0,0,(AK12*((LOG(AK12))/LOG(2))))","v":0},null,{"$f":"N12","v":0},{"$f":"COUNTIF(L49:L59,AN12)","v":0},{"$f":"AO12/(AQ4-AO8)","v":0},{"$f":"IF(AP12=0,0,(AP12*((LOG(AP12))/LOG(2))))","v":0},null,{"$f":"N12","v":0},{"$f":"COUNTIF(L60:L69,AS12)","v":0},{"$f":"AT12/(AV4-AT8)","v":0},{"$f":"IF(AU12=0,0,(AU12*((LOG(AU12))/LOG(2))))","v":0}]
[22,706,23,735,null,null,null,null,null,null,0,22,null,null,null,null,null,null,null,{"$f":"N13","v":0},{"$f":"COUNTIF(L7:L17,T13)","v":0},{"$f":"U13/(W4-U8)","v":0},{"$f":"IF(V13=0,0,(V13*((LOG(V13))/LOG(2))))","v":0},null,{"$f":"N13","v":0},{"$f":"COUNTIF(L18:L27,Y13)","v":0},{"$f":"Z13/(AB4-Z8)","v":0},{"$f":"IF(AA13=0,0,(AA13*((LOG(AA13))/LOG(2))))","v":0},null,{"$f":"N13","v":0},{"$f":"COUNTIF(L28:L38,AD13)","v":0},{"$f":"AE13/(AG4-AE8)","v":0},{"$f":"IF(AF13=0,0,(AF13*((LOG(AF13))/LOG(2))))","v":0},null,{"$f":"N13","v":0},{"$f":"COUNTIF(L39:L48,AI13)","v":0},{"$f":"AJ13/(AL4-AJ8)","v":0},{"$f":"IF(AK13=0,0,(AK13*((LOG(AK13))/LOG(2))))","v":0},null,{"$f":"N13","v":0},{"$f":"COUNTIF(L49:L59,AN13)","v":0},{"$f":"AO13/(AQ4-AO8)","v":0},{"$f":"IF(AP13=0,0,(AP13*((LOG(AP13))/LOG(2))))","v":0},null,{"$f":"N13","v":0},{"$f":"COUNTIF(L60:L69,AS13)","v":0},{"$f":"AT13/(AV4-AT8)","v":0},{"$f":"IF(AU13=0,0,(AU13*((LOG(AU13))/LOG(2))))","v":0}]
[11,875,21,888,null,null,null,null,null,null,0,12,null,null,null,null,null,null,null,{"$f":"N14","v":0},{"$f":"COUNTIF(L7:L17,T14)","v":0},{"$f":"U14/(W4-U8)","v":0},{"$f":"IF(V14=0,0,(V14*((LOG(V14))/LOG(2))))","v":0},null,{"$f":"N14","v":0},{"$f":"COUNTIF(L18:L27,Y14)","v":0},{"$f":"Z14/(AB4-Z8)","v":0},{"$f":"IF(AA14=0,0,(AA14*((LOG(AA14))/LOG(2))))","v":0},null,{"$f":"N14","v":0},{"$f":"COUNTIF(L28:L38,AD14)","v":0},{"$f":"AE14/(AG4-AE8)","v":0},{"$f":"IF(AF14=0,0,(AF14*((LOG(AF14))/LOG(2))))","v":0},null,{"$f":"N14","v":0},{"$f":"COUNTIF(L39:L48,AI14)","v":0},{"$f":"AJ14/(AL4-AJ8)","v":0},{"$f":"IF(AK14=0,0,(AK14*((LOG(AK14))/LOG(2))))","v":0},null,{"$f":"N14","v":0},{"$f":"COUNTIF(L49:L59,AN14)","v":0},{"$f":"AO14/(AQ4-AO8)","v":0},{"$f":"IF(AP14=0,0,(AP14*((LOG(AP14))/LOG(2))))","v":0},null,{"$f":"N14","v":0},{"$f":"COUNTIF(L60:L69,AS14)","v":0},{"$f":"AT14/(AV4-AT8)","v":0},{"$f":"IF(AU14=0,0,(AU14*((LOG(AU14))/LOG(2))))","v":0}]
[11,979,12,1001,null,null,null,null,null,null,0,11,null,null,null,{"$f":"SUM(P7:P14)","v":0.99999999999999989},{"$f":"-SUM(Q7:Q14)","v":1.6525252671154964},null,null,null,null,{"$f":"SUM(V7:V14)","v":1},{"$f":"-SUM(W7:W14)","v":1.4591479170272446},null,null,null,{"$f":"SUM(AA7:AA14)","v":1},{"$f":"-SUM(AB7:AB14)","v":0},null,null,null,{"$f":"SUM(AF7:AF14)","v":1},{"$f":"-SUM(AG7:AG14)","v":1},null,null,null,{"$f":"SUM(AK7:AK14)","v":1},{"$f":"-SUM(AL7:AL14)","v":1},null,null,null,{"$f":"SUM(AP7:AP14)","v":1},{"$f":"-SUM(AQ7:AQ14)","v":0.65002242164835411},null,null,null,{"$f":"SUM(AU7:AU14)","v":1},{"$f":"-SUM(AV7:AV14)","v":0.91829583405448945}]
[22,1108,23,1116,null,null,null,null,null,null,0,22,null,null,null,"U=",{"$f":"Q15/(LOG(Q4)/LOG(2))","v":0.27646777267675332},null,null,null,null,"U1=",{"$f":"W15/(LOG(W4)/LOG(2))","v":0.42178833920758824},null,null,null,"U2=",{"$f":"AB15/(LOG(AB4)/LOG(2))","v":0},null,null,null,"U3=",{"$f":"AG15/(LOG(AG4)/LOG(2))","v":0.28906482631788782},null,null,null,"U4=",{"$f":"AL15/(LOG(AL4)/LOG(2))","v":0.3010299956639812},null,null,null,"U5=",{"$f":"AQ15/(LOG(AQ4)/LOG(2))","v":0.18789861841651431},null,null,null,"U6=",{"$f":"AV15/(LOG(AV4)/LOG(2))","v":0.27643459094367495}]
[22,1225,23,1239,null,null,null,null,null,null,0,22]
[11,1350,21,1359,null,null,null,null,null,null,0,12]
[11,1459,21,1492,null,null,null,null,null,null,0,12,null,"Total Target Seq"]
[11,1589,21,1609,null,null,null,null,null,null,0,12,null,{"$f":"COUNTIF(L7:L69,G3)","v":35},null,11,10,11,10,11,10]
[11,1706,21,1735,null,null,null,null,null,null,0,12,null,null,null,"% of reinforcement given in 6 equal intervals based on number of trials "]
[22,1868,23,1900,null,null,null,null,null,null,0,22,null,null,null,"%_1","%_2","%_3","%_4","%_5","%_6"]
[11,2001,21,2009,null,null,null,null,null,null,0,12,null,null,"target sequence",{"$f":"$G$3","v":12},{"$f":"$G$3","v":12},{"$f":"$G$3","v":12},{"$f":"$G$3","v":12},{"$f":"$G$3","v":12},{"$f":"$G$3","v":12}]
[11,2104,21,2112,null,null,null,null,null,null,0,12,null,null,"total reinforcement",{"$f":"U8","v":5},{"$f":"Z8","v":8},{"$f":"AE8","v":7},{"$f":"AJ8","v":6},{"$f":"AO8","v":5},{"$f":"AT8","v":4}]
[11,2210,21,2219,null,null,null,null,null,null,0,12,null,null,"% target"]
[22,2328,23,2342,null,null,null,null,null,null,0,22,null,null,"CCRF"]
[11,2443,21,2451,null,null,null,null,null,null,0,12,null,null,"% CCRf"]
[22,2553,23,2569,null,null,null,null,null,null,0,22,null,null,"average response rate",{"$f":"D17/P20","v":112.63636363636364},{"$f":"(D27-D17)/Q20","v":121.2},{"$f":"(D38-D27)/R20","v":113.09090909090909},{"$f":"(D48-D38)/S20","v":124.4},{"$f":"(D59-D48)/T20","v":167.81818181818181},{"$f":"(D69-D59)/U20","v":369.9}]
[11,2667,21,2674,null,null,null,null,null,null,0,12]
[22,2773,14,2781,null,null,null,null,null,null,0,21]
[11,2883,21,2897,null,null,null,null,null,null,0,12]
[11,2993,21,3000,null,null,null,null,null,null,0,12]
[22,3112,14,3140,null,null,null,null,null,null,0,21]
[11,3248,21,3262,null,null,null,null,null,null,0,12]
[11,3363,21,3371,null,null,null,null,null,null,0,12]
[11,3466,21,3473,null,null,null,null,null,null,0,12]
[22,3576,23,3583,null,null,null,null,null,null,0,22]
[11,3688,21,3695,null,null,null,null,null,null,0,12]
[11,3795,21,3815,null,null,null,null,null,null,0,12]
[22,3923,23,3930,null,null,null,null,null,null,0,22]
[11,4036,21,4044,null,null,null,null,null,null,0,12]
[22,4152,23,4163,null,null,null,null,null,null,0,22]
[11,4276,12,4289,null,null,null,null,null,null,0,11]
[11,4433,12,4442,null,null,null,null,null,null,0,11]
[11,4544,21,4558,null,null,null,null,null,null,0,12]
[11,4670,21,4681,null,null,null,null,null,null,0,12]
[11,4788,21,4810,null,null,null,null,null,null,0,12]
[11,4919,21,4939,null,null,null,null,null,null,0,12]
[22,5070,23,5078,null,null,null,null,null,null,0,22]
[11,5223,21,5230,null,null,null,null,null,null,0,12]
[11,5337,12,5352,null,null,null,null,null,null,0,11]
[11,5504,12,5512,null,null,null,null,null,null,0,11]
[11,5658,21,5666,null,null,null,null,null,null,0,12]
[11,5789,12,5806,null,null,null,null,null,null,0,11]
[11,6023,12,6035,null,null,null,null,null,null,0,11]
[11,6155,21,6169,null,null,null,null,null,null,0,12]
[11,6351,21,6363,null,null,null,null,null,null,0,12]
[11,6466,21,6476,null,null,null,null,null,null,0,12]
[11,6777,12,6785,null,null,null,null,null,null,0,11]
[11,6905,21,6916,null,null,null,null,null,null,0,12]
[11,7023,21,7057,null,null,null,null,null,null,0,12]
[11,7170,21,7191,null,null,null,null,null,null,0,12]
[11,7289,12,7308,null,null,null,null,null,null,0,11]
[22,7416,14,7424,null,null,null,null,null,null,0,21]
[22,7789,14,7810,null,null,null,null,null,null,0,21]
[11,7941,12,7974,null,null,null,null,null,null,0,11]
[11,8542,12,10235,null,null,null,null,null,null,0,11]
[11,10353,21,10365,null,null,null,null,null,null,0,12]
[11,10475,12,10484,null,null,null,null,null,null,1,11]

{"sheet":"!N222940.095","index":21,"n_rows":74,"n_cols":48,"rows_kept":74,"cut":false,"hidden":false,"merged":[[4,39,4,42],[5,39,5,40],[4,44,4,47],[5,44,5,45],[4,24,4,27],[5,24,5,25],[4,29,4,32],[5,29,5,30],[4,34,4,37],[5,34,5,35],[1,1,1,2],[5,13,5,14],[18,13,18,14],[19,13,19,14],[4,19,4,22],[5,19,5,20]]}
["Report for:!N222940.095"]
["Date:","<date>"]
["Hen:","<hen>",null,null,null,"Correct Sequence",{"$f":"Start!J2","v":12},null,null,null,null,null,null,null,null,"Total Sequences in Data",{"$f":"4994-COUNTBLANK(L7:L5000)","v":68},null,null,null,null,"Total Sequences in Block Data",{"$f":"COUNTA(L7:L17)","v":11},null,null,null,"Total Sequences in Block Data",{"$f":"COUNTA(L18:L29)","v":12},null,null,null,"Total Sequences in Block Data",{"$f":"COUNTA(L30:L40)","v":11},null,null,null,"Total Sequences in Block Data",{"$f":"COUNTA(L41:L51)","v":11},null,null,null,"Total Sequences in Block Data",{"$f":"COUNTA(L52:L63)","v":12},null,null,null,"Total Sequences in Block Data",{"$f":"COUNTA(L64:L74)","v":11}]
[null,null,null,null,null,null,null,null,null,null,null,null,null,null,null,"Total Sequences in Summary",{"$f":"SUM(O7:O14)","v":68},null,null,null,null,"Total Sequences in Block Summary",{"$f":"SUM(U7:U14)","v":11},null,null,null,"Total Sequences in Block Summary",{"$f":"SUM(Z7:Z14)","v":12},null,null,null,"Total Sequences in Block Summary",{"$f":"SUM(AE7:AE14)","v":11},null,null,null,"Total Sequences in Block Summary",{"$f":"SUM(AJ7:AJ14)","v":11},null,null,null,"Total Sequences in Block Summary",{"$f":"SUM(AO7:AO14)","v":12},null,null,null,"Total Sequences in Block Summary",{"$f":"SUM(AT7:AT14)","v":11}]
[null,null,null,null,null,null,null,null,null,null,null,null,null,null,null,null,null,null,null,"Block 1",null,null,null,null,"Block 2",null,null,null,null,"Block 3",null,null,null,null,"Block 4",null,null,null,null,"Block 5",null,null,null,null,"Block 6"]
["Sequence\nComponent\n1","Time\n1","Sequence\nComponent\n2","Time\n2","Sequence\nComponent\n3","Time\n3","Sequence\nComponent\n4","Time\n4","Sequence\nComponent\n5","Time\n5","Correct?\n0=No 1=Yes","Sequence",null,"Frequency",null,"Relative Frequency","Variability",null,null,"Frequency",null,"Relative Frequency","Variability",null,"Frequency",null,"Relative Frequency","Variability",null,"Frequency",null,"Relative Frequency","Variability",null,"Frequency",null,"Relative Frequency","Variability",null,"Frequency",null,"Relative Frequency","Variability",null,"Frequency",null,"Relative Frequency","Variability"]
[11,16,21,34,null,null,null,null,null,null,0,12,null,11,{"$f":"COUNTIF($L$7:$L$500,N7)","v":10},{"$f":"O7/$Q$4","v":0.14705882352941177},{"$f":"IF(P7=0,0,(P7*((LOG(P7))/LOG(2))))","v":-0.40669628622984955},null,null,{"$f":"N7","v":11},{"$f":"COUNTIF(L7:L17,T7)","v":2},{"$f":"U7/(W4-U8)","v":0.66666666666666663},{"$f":"IF(V7=0,0,(V7*((LOG(V7))/LOG(2))))","v":-0.38997500048077083},null,{"$f":"N7","v":11},{"$f":"COUNTIF(L18:L29,Y7)","v":4},{"$f":"Z7/(AB4-Z8)","v":0.5714285714285714},{"$f":"IF(AA7=0,0,(AA7*((LOG(AA7))/LOG(2))))","v":-0.46134566974720237},null,{"$f":"N7","v":11},{"$f":"COUNTIF(L30:L40,AD7)","v":0},{"$f":"AE7/(AG4-AE8)","v":0},{"$f":"IF(AF7=0,0,(AF7*((LOG(AF7))/LOG(2))))","v":0},null,{"$f":"N7","v":11},{"$f":"COUNTIF(L41:L51,AI7)","v":0},{"$f":"AJ7/(AL4-AJ8)","v":0},{"$f":"IF(AK7=0,0,(AK7*((LOG(AK7))/LOG(2))))","v":0},null,{"$f":"N7","v":11},{"$f":"COUNTIF(L52:L63,AN7)","v":0},{"$f":"AO7/(AQ4-AO8)","v":0},{"$f":"IF(AP7=0,0,(AP7*((LOG(AP7))/LOG(2))))","v":0},null,{"$f":"N7","v":11},{"$f":"COUNTIF(L64:L74,AS7)","v":4},{"$f":"AT7/(AV4-AT8)","v":1},{"$f":"IF(AU7=0,0,(AU7*((LOG(AU7))/LOG(2))))","v":0}]
[11,149,21,177,null,null,null,null,null,null,0,12,null,12,{"$f":"COUNTIF($L$7:$L$500,N8)","v":36},{"$f":"O8/$Q$4","v":0.52941176470588236},{"$f":"IF(P8=0,0,(P8*((LOG(P8))/LOG(2))))","v":-0.48575532695719081},null,null,{"$f":"N8","v":12},{"$f":"COUNTIF(L7:L17,T8)","v":8},null,null,null,{"$f":"N8","v":12},{"$f":"COUNTIF(L18:L29,Y8)","v":5},null,null,null,{"$f":"N8","v":12},{"$f":"COUNTIF(L30:L40,AD8)","v":7},null,null,null,{"$f":"N8","v":12},{"$f":"COUNTIF(L41:L51,AI8)","v":5},null,null,null,{"$f":"N8","v":12},{"$f":"COUNTIF(L52:L63,AN8)","v":4},null,null,null,{"$f":"N8","v":12},{"$f":"COUNTIF(L64:L74,AS8)","v":7}]
[11,278,21,291,null,null,null,null,null,null,0,12,null,21,{"$f":"COUNTIF($L$7:$L$500,N9)","v":8},{"$f":"O9/$Q$4","v":0.11764705882352941},{"$f":"IF(P9=0,0,(P9*((LOG(P9))/LOG(2))))","v":-0.36323092250003997},null,null,{"$f":"N9","v":21},{"$f":"COUNTIF(L7:L17,T9)","v":1},{"$f":"U9/(W4-U8)","v":0.33333333333333331},{"$f":"IF(V9=0,0,(V9*((LOG(V9))/LOG(2))))","v":-0.52832083357371862},null,{"$f":"N9","v":21},{"$f":"COUNTIF(L18:L29,Y9)","v":1},{"$f":"Z9/(AB4-Z8)","v":0.14285714285714285},{"$f":"IF(AA9=0,0,(AA9*((LOG(AA9))/LOG(2))))","v":-0.40105070315108626},null,{"$f":"N9","v":21},{"$f":"COUNTIF(L30:L40,AD9)","v":2},{"$f":"AE9/(AG4-AE8)","v":0.5},{"$f":"IF(AF9=0,0,(AF9*((LOG(AF9))/LOG(2))))","v":-0.5},null,{"$f":"N9","v":21},{"$f":"COUNTIF(L41:L51,AI9)","v":1},{"$f":"AJ9/(AL4-AJ8)","v":0.16666666666666666},{"$f":"IF(AK9=0,0,(AK9*((LOG(AK9))/LOG(2))))","v":-0.43082708345352599},null,{"$f":"N9","v":21},{"$f":"COUNTIF(L52:L63,AN9)","v":3},{"$f":"AO9/(AQ4-AO8)","v":0.375},{"$f":"IF(AP9=0,0,(AP9*((LOG(AP9))/LOG(2))))","v":-0.53063906222956647},null,{"$f":"N9","v":21},{"$f":"COUNTIF(L64:L74,AS9)","v":0},{"$f":"AT9/(AV4-AT8)","v":0},{"$f":"IF(AU9=0,0,(AU9*((LOG(AU9))/LOG(2))))","v":0}]
[11,394,21,406,null,null,null,null,null,null,0,12,null,22,{"$f":"COUNTIF($L$7:$L$500,N10)","v":14},{"$f":"O10/$Q$4","v":0.20588235294117646},{"$f":"IF(P10=0,0,(P10*((LOG(P10))/LOG(2))))","v":-0.46943398336321018},null,null,{"$f":"N10","v":22},{"$f":"COUNTIF(L7:L17,T10)","v":0},{"$f":"U10/(W4-U8)","v":0},{"$f":"IF(V10=0,0,(V10*((LOG(V10))/LOG(2))))","v":0},null,{"$f":"N10","v":22},{"$f":"COUNTIF(L18:L29,Y10)","v":2},{"$f":"Z10/(AB4-Z8)","v":0.2857142857142857},{"$f":"IF(AA10=0,0,(AA10*((LOG(AA10))/LOG(2))))","v":-0.51638712058788683},null,{"$f":"N10","v":22},{"$f":"COUNTIF(L30:L40,AD10)","v":2},{"$f":"AE10/(AG4-AE8)","v":0.5},{"$f":"IF(AF10=0,0,(AF10*((LOG(AF10))/LOG(2))))","v":-0.5},null,{"$f":"N10","v":22},{"$f":"COUNTIF(L41:L51,AI10)","v":5},{"$f":"AJ10/(AL4-AJ8)","v":0.83333333333333337},{"$f":"IF(AK10=0,0,(AK10*((LOG(AK10))/LOG(2))))","v":-0.21919533819482812},null,{"$f":"N10","v":22},{"$f":"COUNTIF(L52:L63,AN10)","v":5},{"$f":"AO10/(AQ4-AO8)","v":0.625},{"$f":"IF(AP10=0,0,(AP10*((LOG(AP10))/LOG(2))))","v":-0.42379494069539858},null,{"$f":"N10","v":22},{"$f":"COUNTIF(L64:L74,AS10)","v":0},{"$f":"AT10/(AV4-AT8)","v":0},{"$f":"IF(AU10=0,0,(AU10*((LOG(AU10))/LOG(2))))","v":0}]
[11,515,21,535,null,null,null,null,null,null,0,12,null,null,null,null,null,null,null,{"$f":"N11","v":0},{"$f":"COUNTIF(L7:L17,T11)","v":0},{"$f":"U11/(W4-U8)","v":0},{"$f":"IF(V11=0,0,(V11*((LOG(V11))/LOG(2))))","v":0},null,{"$f":"N11","v":0},{"$f":"COUNTIF(L18:L29,Y11)","v":0},{"$f":"Z11/(AB4-Z8)","v":0},{"$f":"IF(AA11=0,0,(AA11*((LOG(AA11))/LOG(2))))","v":0},null,{"$f":"N11","v":0},{"$f":"COUNTIF(L30:L40,AD11)","v":0},{"$f":"AE11/(AG4-AE8)","v":0},{"$f":"IF(AF11=0,0,(AF11*((LOG(AF11))/LOG(2))))","v":0},null,{"$f":"N11","v":0},{"$f":"COUNTIF(L41:L51,AI11)","v":0},{"$f":"AJ11/(AL4-AJ8)","v":0},{"$f":"IF(AK11=0,0,(AK11*((LOG(AK11))/LOG(2))))","v":0},null,{"$f":"N11","v":0},{"$f":"COUNTIF(L52:L63,AN11)","v":0},{"$f":"AO11/(AQ4-AO8)","v":0},{"$f":"IF(AP11=0,0,(AP11*((LOG(AP11))/LOG(2))))","v":0},null,{"$f":"N11","v":0},{"$f":"COUNTIF(L64:L74,AS11)","v":0},{"$f":"AT11/(AV4-AT8)","v":0},{"$f":"IF(AU11=0,0,(AU11*((LOG(AU11))/LOG(2))))","v":0}]
[11,629,12,638,null,null,null,null,null,null,0,11,null,null,null,null,null,null,null,{"$f":"N12","v":0},{"$f":"COUNTIF(L7:L17,T12)","v":0},{"$f":"U12/(W4-U8)","v":0},{"$f":"IF(V12=0,0,(V12*((LOG(V12))/LOG(2))))","v":0},null,{"$f":"N12","v":0},{"$f":"COUNTIF(L18:L29,Y12)","v":0},{"$f":"Z12/(AB4-Z8)","v":0},{"$f":"IF(AA12=0,0,(AA12*((LOG(AA12))/LOG(2))))","v":0},null,{"$f":"N12","v":0},{"$f":"COUNTIF(L30:L40,AD12)","v":0},{"$f":"AE12/(AG4-AE8)","v":0},{"$f":"IF(AF12=0,0,(AF12*((LOG(AF12))/LOG(2))))","v":0},null,{"$f":"N12","v":0},{"$f":"COUNTIF(L41:L51,AI12)","v":0},{"$f":"AJ12/(AL4-AJ8)","v":0},{"$f":"IF(AK12=0,0,(AK12*((LOG(AK12))/LOG(2))))","v":0},null,{"$f":"N12","v":0},{"$f":"COUNTIF(L52:L63,AN12)","v":0},{"$f":"AO12/(AQ4-AO8)","v":0},{"$f":"IF(AP12=0,0,(AP12*((LOG(AP12))/LOG(2))))","v":0},null,{"$f":"N12","v":0},{"$f":"COUNTIF(L64:L74,AS12)","v":0},{"$f":"AT12/(AV4-AT8)","v":0},{"$f":"IF(AU12=0,0,(AU12*((LOG(AU12))/LOG(2))))","v":0}]
[11,738,21,759,null,null,null,null,null,null,0,12,null,null,null,null,null,null,null,{"$f":"N13","v":0},{"$f":"COUNTIF(L7:L17,T13)","v":0},{"$f":"U13/(W4-U8)","v":0},{"$f":"IF(V13=0,0,(V13*((LOG(V13))/LOG(2))))","v":0},null,{"$f":"N13","v":0},{"$f":"COUNTIF(L18:L29,Y13)","v":0},{"$f":"Z13/(AB4-Z8)","v":0},{"$f":"IF(AA13=0,0,(AA13*((LOG(AA13))/LOG(2))))","v":0},null,{"$f":"N13","v":0},{"$f":"COUNTIF(L30:L40,AD13)","v":0},{"$f":"AE13/(AG4-AE8)","v":0},{"$f":"IF(AF13=0,0,(AF13*((LOG(AF13))/LOG(2))))","v":0},null,{"$f":"N13","v":0},{"$f":"COUNTIF(L41:L51,AI13)","v":0},{"$f":"AJ13/(AL4-AJ8)","v":0},{"$f":"IF(AK13=0,0,(AK13*((LOG(AK13))/LOG(2))))","v":0},null,{"$f":"N13","v":0},{"$f":"COUNTIF(L52:L63,AN13)","v":0},{"$f":"AO13/(AQ4-AO8)","v":0},{"$f":"IF(AP13=0,0,(AP13*((LOG(AP13))/LOG(2))))","v":0},null,{"$f":"N13","v":0},{"$f":"COUNTIF(L64:L74,AS13)","v":0},{"$f":"AT13/(AV4-AT8)","v":0},{"$f":"IF(AU13=0,0,(AU13*((LOG(AU13))/LOG(2))))","v":0}]
[22,866,14,876,null,null,null,null,null,null,0,21,null,null,null,null,null,null,null,{"$f":"N14","v":0},{"$f":"COUNTIF(L7:L17,T14)","v":0},{"$f":"U14/(W4-U8)","v":0},{"$f":"IF(V14=0,0,(V14*((LOG(V14))/LOG(2))))","v":0},null,{"$f":"N14","v":0},{"$f":"COUNTIF(L18:L29,Y14)","v":0},{"$f":"Z14/(AB4-Z8)","v":0},{"$f":"IF(AA14=0,0,(AA14*((LOG(AA14))/LOG(2))))","v":0},null,{"$f":"N14","v":0},{"$f":"COUNTIF(L30:L40,AD14)","v":0},{"$f":"AE14/(AG4-AE8)","v":0},{"$f":"IF(AF14=0,0,(AF14*((LOG(AF14))/LOG(2))))","v":0},null,{"$f":"N14","v":0},{"$f":"COUNTIF(L41:L51,AI14)","v":0},{"$f":"AJ14/(AL4-AJ8)","v":0},{"$f":"IF(AK14=0,0,(AK14*((LOG(AK14))/LOG(2))))","v":0},null,{"$f":"N14","v":0},{"$f":"COUNTIF(L52:L63,AN14)","v":0},{"$f":"AO14/(AQ4-AO8)","v":0},{"$f":"IF(AP14=0,0,(AP14*((LOG(AP14))/LOG(2))))","v":0},null,{"$f":"N14","v":0},{"$f":"COUNTIF(L64:L74,AS14)","v":0},{"$f":"AT14/(AV4-AT8)","v":0},{"$f":"IF(AU14=0,0,(AU14*((LOG(AU14))/LOG(2))))","v":0}]
[11,978,21,996,null,null,null,null,null,null,0,12,null,null,null,{"$f":"SUM(P7:P14)","v":1},{"$f":"-SUM(Q7:Q14)","v":1.7251165190502904},null,null,null,null,{"$f":"SUM(V7:V14)","v":1},{"$f":"-SUM(W7:W14)","v":0.91829583405448945},null,null,null,{"$f":"SUM(AA7:AA14)","v":0.99999999999999989},{"$f":"-SUM(AB7:AB14)","v":1.3787834934861753},null,null,null,{"$f":"SUM(AF7:AF14)","v":1},{"$f":"-SUM(AG7:AG14)","v":1},null,null,null,{"$f":"SUM(AK7:AK14)","v":1},{"$f":"-SUM(AL7:AL14)","v":0.65002242164835411},null,null,null,{"$f":"SUM(AP7:AP14)","v":1},{"$f":"-SUM(AQ7:AQ14)","v":0.95443400292496505},null,null,null,{"$f":"SUM(AU7:AU14)","v":1},{"$f":"-SUM(AV7:AV14)","v":0}]
[11,1093,12,1105,null,null,null,null,null,null,0,11,null,null,null,"U=",{"$f":"Q15/(LOG(Q4)/LOG(2))","v":0.28338842700778744},null,null,null,null,"U1=",{"$f":"W15/(LOG(W4)/LOG(2))","v":0.26544702577940094},null,null,null,"U2=",{"$f":"AB15/(LOG(AB4)/LOG(2))","v":0.38460192908818913},null,null,null,"U3=",{"$f":"AG15/(LOG(AG4)/LOG(2))","v":0.28906482631788782},null,null,null,"U4=",{"$f":"AL15/(LOG(AL4)/LOG(2))","v":0.18789861841651431},null,null,null,"U5=",{"$f":"AQ15/(LOG(AQ4)/LOG(2))","v":0.26623263220548882},null,null,null,"U6=",{"$f":"AV15/(LOG(AV4)/LOG(2))","v":0}]
[11,1211,21,1225,null,null,null,null,null,null,0,12]
[11,1324,12,1341,null,null,null,null,null,null,0,11]
[11,1442,12,1446,null,null,null,null,null,null,0,11,null,"Total Target Seq"]
[11,1553,21,1581,null,null,null,null,null,null,0,12,null,{"$f":"COUNTIF(L7:L74,G3)","v":36},null,11,12,11,11,12,11]
[11,1683,21,1694,null,null,null,null,null,null,0,12,null,null,null,"% of reinforcement given in 6 equal intervals based on number of trials "]
[11,1795,12,1805,null,null,null,null,null,null,0,11,null,null,null,"%_1","%_2","%_3","%_4","%_5","%_6"]
[22,1924,14,1933,null,null,null,null,null,null,0,21,null,null,"target sequence",{"$f":"$G$3","v":12},{"$f":"$G$3","v":12},{"$f":"$G$3","v":12},{"$f":"$G$3","v":12},{"$f":"$G$3","v":12},{"$f":"$G$3","v":12}]
[11,2034,12,2040,null,null,null,null,null,null,0,11,null,null,"total reinforcement",{"$f":"U8","v":8},{"$f":"Z8","v":5},{"$f":"AE8","v":7},{"$f":"AJ8","v":5},{"$f":"AO8","v":4},{"$f":"AT8","v":7}]
[11,2164,21,2174,null,null,null,null,null,null,0,12,null,null,"% target"]
[22,2279,23,2285,null,null,null,null,null,null,0,22,null,null,"CCRF"]
[11,2391,21,2399,null,null,null,null,null,null,0,12,null,null,"% CCRf"]
[11,2501,21,2526,null,null,null,null,null,null,0,12,null,null,"average response rate",{"$f":"D17/P20","v":111.36363636363636},{"$f":"(D29-D17)/Q20","v":122.75},{"$f":"(D40-D29)/R20","v":126},{"$f":"(D51-D40)/S20","v":135},{"$f":"(D63-D51)/T20","v":188.33333333333334},{"$f":"(D74-D63)/U20","v":211}]
[22,2688,23,2698,null,null,null,null,null,null,0,22]
[11,2800,21,2807,null,null,null,null,null,null,0,12]
[22,2908,14,2915,null,null,null,null,null,null,0,21]
[22,3025,23,3034,null,null,null,null,null,null,0,22]
[11,3133,21,3141,null,null,null,null,null,null,0,12]
[22,3247,14,3262,null,null,null,null,null,null,0,21]
[22,3376,23,3422,null,null,null,null,null,null,0,22]
[11,3537,21,3560,null,null,null,null,null,null,0,12]
[11,3678,21,3693,null,null,null,null,null,null,0,12]
[11,3805,21,3813,null,null,null,null,null,null,0,12]
[11,3928,21,3977,null,null,null,null,null,null,0,12]
[11,4076,21,4084,null,null,null,null,null,null,0,12]
[22,4244,23,4260,null,null,null,null,null,null,0,22]
[22,4377,23,4384,null,null,null,null,null,null,0,22]
[11,4487,21,4494,null,null,null,null,null,null,0,12]
[11,4609,21,4657,null,null,null,null,null,null,0,12]
[22,4769,23,4778,null,null,null,null,null,null,0,22]
[11,4883,21,4890,null,null,null,null,null,null,0,12]
[22,5005,14,5013,null,null,null,null,null,null,0,21]
[22,5142,23,5148,null,null,null,null,null,null,0,22]
[11,5264,21,5277,null,null,null,null,null,null,0,12]
[11,5378,21,5423,null,null,null,null,null,null,0,12]
[22,5542,23,5569,null,null,null,null,null,null,0,22]
[11,5701,21,5710,null,null,null,null,null,null,0,12]
[11,5813,21,5820,null,null,null,null,null,null,0,12]
[22,5949,14,5993,null,null,null,null,null,null,0,21]
[22,6115,23,6121,null,null,null,null,null,null,0,22]
[22,6284,14,6307,null,null,null,null,null,null,0,21]
[11,6433,21,6468,null,null,null,null,null,null,0,12]
[22,6608,23,6696,null,null,null,null,null,null,0,22]
[22,6827,23,6846,null,null,null,null,null,null,0,22]
[11,6972,21,6980,null,null,null,null,null,null,0,12]
[22,7150,23,7158,null,null,null,null,null,null,0,22]
[22,7271,23,7281,null,null,null,null,null,null,0,22]
[22,7692,14,7829,null,null,null,null,null,null,0,21]
[11,7963,21,7971,null,null,null,null,null,null,0,12]
[11,8118,21,8126,null,null,null,null,null,null,0,12]
[11,8227,12,8237,null,null,null,null,null,null,0,11]
[11,8386,12,8647,null,null,null,null,null,null,0,11]
[11,8808,21,8831,null,null,null,null,null,null,0,12]
[11,8964,12,9013,null,null,null,null,null,null,0,11]
[11,9269,12,9461,null,null,null,null,null,null,0,11]
[11,9654,21,9682,null,null,null,null,null,null,0,12]
[11,9821,21,9847,null,null,null,null,null,null,0,12]
[11,9966,21,9987,null,null,null,null,null,null,0,12]
[11,10135,21,10150,null,null,null,null,null,null,1,12]

{"sheet":"!N223930.095","index":22,"n_rows":63,"n_cols":48,"rows_kept":63,"cut":false,"hidden":false,"merged":[[4,39,4,42],[5,39,5,40],[4,44,4,47],[5,44,5,45],[4,24,4,27],[5,24,5,25],[4,29,4,32],[5,29,5,30],[4,34,4,37],[5,34,5,35],[1,1,1,2],[5,13,5,14],[18,13,18,14],[19,13,19,14],[4,19,4,22],[5,19,5,20]]}
["Report for:!N223930.095"]
["Date:","<date>"]
["Hen:","<hen>",null,null,null,"Correct Sequence",{"$f":"Start!J2","v":12},null,null,null,null,null,null,null,null,"Total Sequences in Data",{"$f":"4994-COUNTBLANK(L7:L5000)","v":57},null,null,null,null,"Total Sequences in Block Data",{"$f":"COUNTA(L7:L16)","v":10},null,null,null,"Total Sequences in Block Data",{"$f":"COUNTA(L17:L25)","v":9},null,null,null,"Total Sequences in Block Data",{"$f":"COUNTA(L26:L35)","v":10},null,null,null,"Total Sequences in Block Data",{"$f":"COUNTA(L36:L44)","v":9},null,null,null,"Total Sequences in Block Data",{"$f":"COUNTA(L45:L54)","v":10},null,null,null,"Total Sequences in Block Data",{"$f":"COUNTA(L55:L63)","v":9}]
[null,null,null,null,null,null,null,null,null,null,null,null,null,null,null,"Total Sequences in Summary",{"$f":"SUM(O7:O14)","v":57},null,null,null,null,"Total Sequences in Block Summary",{"$f":"SUM(U7:U14)","v":10},null,null,null,"Total Sequences in Block Summary",{"$f":"SUM(Z7:Z14)","v":9},null,null,null,"Total Sequences in Block Summary",{"$f":"SUM(AE7:AE14)","v":10},null,null,null,"Total Sequences in Block Summary",{"$f":"SUM(AJ7:AJ14)","v":9},null,null,null,"Total Sequences in Block Summary",{"$f":"SUM(AO7:AO14)","v":10},null,null,null,"Total Sequences in Block Summary",{"$f":"SUM(AT7:AT14)","v":9}]
[null,null,null,null,null,null,null,null,null,null,null,null,null,null,null,null,null,null,null,"Block 1",null,null,null,null,"Block 2",null,null,null,null,"Block 3",null,null,null,null,"Block 4",null,null,null,null,"Block 5",null,null,null,null,"Block 6"]
["Sequence\nComponent\n1","Time\n1","Sequence\nComponent\n2","Time\n2","Sequence\nComponent\n3","Time\n3","Sequence\nComponent\n4","Time\n4","Sequence\nComponent\n5","Time\n5","Correct?\n0=No 1=Yes","Sequence",null,"Frequency",null,"Relative Frequency","Variability",null,null,"Frequency",null,"Relative Frequency","Variability",null,"Frequency",null,"Relative Frequency","Variability",null,"Frequency",null,"Relative Frequency","Variability",null,"Frequency",null,"Relative Frequency","Variability",null,"Frequency",null,"Relative Frequency","Variability",null,"Frequency",null,"Relative Frequency","Variability"]
[11,47,21,59,null,null,null,null,null,null,0,12,null,11,{"$f":"COUNTIF($L$7:$L$500,N7)","v":24},{"$f":"O7/$Q$4","v":0.42105263157894735},{"$f":"IF(P7=0,0,(P7*((LOG(P7))/LOG(2))))","v":-0.52544316355519383},null,null,{"$f":"N7","v":11},{"$f":"COUNTIF(L7:L16,T7)","v":2},{"$f":"U7/(W4-U8)","v":0.4},{"$f":"IF(V7=0,0,(V7*((LOG(V7))/LOG(2))))","v":-0.52877123795494496},null,{"$f":"N7","v":11},{"$f":"COUNTIF(L17:L25,Y7)","v":2},{"$f":"Z7/(AB4-Z8)","v":0.66666666666666663},{"$f":"IF(AA7=0,0,(AA7*((LOG(AA7))/LOG(2))))","v":-0.38997500048077083},null,{"$f":"N7","v":11},{"$f":"COUNTIF(L26:L35,AD7)","v":4},{"$f":"AE7/(AG4-AE8)","v":0.66666666666666663},{"$f":"IF(AF7=0,0,(AF7*((LOG(AF7))/LOG(2))))","v":-0.38997500048077083},null,{"$f":"N7","v":11},{"$f":"COUNTIF(L36:L44,AI7)","v":7},{"$f":"AJ7/(AL4-AJ8)","v":0.875},{"$f":"IF(AK7=0,0,(AK7*((LOG(AK7))/LOG(2))))","v":-0.1685644431995964},null,{"$f":"N7","v":11},{"$f":"COUNTIF(L45:L54,AN7)","v":5},{"$f":"AO7/(AQ4-AO8)","v":0.83333333333333337},{"$f":"IF(AP7=0,0,(AP7*((LOG(AP7))/LOG(2))))","v":-0.21919533819482812},null,{"$f":"N7","v":11},{"$f":"COUNTIF(L55:L63,AS7)","v":4},{"$f":"AT7/(AV4-AT8)","v":0.8},{"$f":"IF(AU7=0,0,(AU7*((LOG(AU7))/LOG(2))))","v":-0.25754247590988982}]
[11,175,12,183,null,null,null,null,null,null,0,11,null,12,{"$f":"COUNTIF($L$7:$L$500,N8)","v":24},{"$f":"O8/$Q$4","v":0.42105263157894735},{"$f":"IF(P8=0,0,(P8*((LOG(P8))/LOG(2))))","v":-0.52544316355519383},null,null,{"$f":"N8","v":12},{"$f":"COUNTIF(L7:L16,T8)","v":5},null,null,null,{"$f":"N8","v":12},{"$f":"COUNTIF(L17:L25,Y8)","v":6},null,null,null,{"$f":"N8","v":12},{"$f":"COUNTIF(L26:L35,AD8)","v":4},null,null,null,{"$f":"N8","v":12},{"$f":"COUNTIF(L36:L44,AI8)","v":1},null,null,null,{"$f":"N8","v":12},{"$f":"COUNTIF(L45:L54,AN8)","v":4},null,null,null,{"$f":"N8","v":12},{"$f":"COUNTIF(L55:L63,AS8)","v":4}]
[22,304,14,313,null,null,null,null,null,null,0,21,null,21,{"$f":"COUNTIF($L$7:$L$500,N9)","v":6},{"$f":"O9/$Q$4","v":0.10526315789473684},{"$f":"IF(P9=0,0,(P9*((LOG(P9))/LOG(2))))","v":-0.34188710667827216},null,null,{"$f":"N9","v":21},{"$f":"COUNTIF(L7:L16,T9)","v":2},{"$f":"U9/(W4-U8)","v":0.4},{"$f":"IF(V9=0,0,(V9*((LOG(V9))/LOG(2))))","v":-0.52877123795494496},null,{"$f":"N9","v":21},{"$f":"COUNTIF(L17:L25,Y9)","v":0},{"$f":"Z9/(AB4-Z8)","v":0},{"$f":"IF(AA9=0,0,(AA9*((LOG(AA9))/LOG(2))))","v":0},null,{"$f":"N9","v":21},{"$f":"COUNTIF(L26:L35,AD9)","v":2},{"$f":"AE9/(AG4-AE8)","v":0.33333333333333331},{"$f":"IF(AF9=0,0,(AF9*((LOG(AF9))/LOG(2))))","v":-0.52832083357371862},null,{"$f":"N9","v":21},{"$f":"COUNTIF(L36:L44,AI9)","v":0},{"$f":"AJ9/(AL4-AJ8)","v":0},{"$f":"IF(AK9=0,0,(AK9*((LOG(AK9))/LOG(2))))","v":0},null,{"$f":"N9","v":21},{"$f":"COUNTIF(L45:L54,AN9)","v":1},{"$f":"AO9/(AQ4-AO8)","v":0.16666666666666666},{"$f":"IF(AP9=0,0,(AP9*((LOG(AP9))/LOG(2))))","v":-0.43082708345352599},null,{"$f":"N9","v":21},{"$f":"COUNTIF(L55:L63,AS9)","v":1},{"$f":"AT9/(AV4-AT8)","v":0.2},{"$f":"IF(AU9=0,0,(AU9*((LOG(AU9))/LOG(2))))","v":-0.46438561897747244}]
[11,411,21,432,null,null,null,null,null,null,0,12,null,22,{"$f":"COUNTIF($L$7:$L$500,N10)","v":3},{"$f":"O10/$Q$4","v":5.2631578947368418E-2},{"$f":"IF(P10=0,0,(P10*((LOG(P10))/LOG(2))))","v":-0.22357513228650452},null,null,{"$f":"N10","v":22},{"$f":"COUNTIF(L7:L16,T10)","v":1},{"$f":"U10/(W4-U8)","v":0.2},{"$f":"IF(V10=0,0,(V10*((LOG(V10))/LOG(2))))","v":-0.46438561897747244},null,{"$f":"N10","v":22},{"$f":"COUNTIF(L17:L25,Y10)","v":1},{"$f":"Z10/(AB4-Z8)","v":0.33333333333333331},{"$f":"IF(AA10=0,0,(AA10*((LOG(AA10))/LOG(2))))","v":-0.52832083357371862},null,{"$f":"N10","v":22},{"$f":"COUNTIF(L26:L35,AD10)","v":0},{"$f":"AE10/(AG4-AE8)","v":0},{"$f":"IF(AF10=0,0,(AF10*((LOG(AF10))/LOG(2))))","v":0},null,{"$f":"N10","v":22},{"$f":"COUNTIF(L36:L44,AI10)","v":1},{"$f":"AJ10/(AL4-AJ8)","v":0.125},{"$f":"IF(AK10=0,0,(AK10*((LOG(AK10))/LOG(2))))","v":-0.375},null,{"$f":"N10","v":22},{"$f":"COUNTIF(L45:L54,AN10)","v":0},{"$f":"AO10/(AQ4-AO8)","v":0},{"$f":"IF(AP10=0,0,(AP10*((LOG(AP10))/LOG(2))))","v":0},null,{"$f":"N10","v":22},{"$f":"COUNTIF(L55:L63,AS10)","v":0},{"$f":"AT10/(AV4-AT8)","v":0},{"$f":"IF(AU10=0,0,(AU10*((LOG(AU10))/LOG(2))))","v":0}]
[22,548,23,555,null,null,null,null,null,null,0,22,null,null,null,null,null,null,null,{"$f":"N11","v":0},{"$f":"COUNTIF(L7:L16,T11)","v":0},{"$f":"U11/(W4-U8)","v":0},{"$f":"IF(V11=0,0,(V11*((LOG(V11))/LOG(2))))","v":0},null,{"$f":"N11","v":0},{"$f":"COUNTIF(L17:L25,Y11)","v":0},{"$f":"Z11/(AB4-Z8)","v":0},{"$f":"IF(AA11=0,0,(AA11*((LOG(AA11))/LOG(2))))","v":0},null,{"$f":"N11","v":0},{"$f":"COUNTIF(L26:L35,AD11)","v":0},{"$f":"AE11/(AG4-AE8)","v":0},{"$f":"IF(AF11=0,0,(AF11*((LOG(AF11))/LOG(2))))","v":0},null,{"$f":"N11","v":0},{"$f":"COUNTIF(L36:L44,AI11)","v":0},{"$f":"AJ11/(AL4-AJ8)","v":0},{"$f":"IF(AK11=0,0,(AK11*((LOG(AK11))/LOG(2))))","v":0},null,{"$f":"N11","v":0},{"$f":"COUNTIF(L45:L54,AN11)","v":0},{"$f":"AO11/(AQ4-AO8)","v":0},{"$f":"IF(AP11=0,0,(AP11*((LOG(AP11))/LOG(2))))","v":0},null,{"$f":"N11","v":0},{"$f":"COUNTIF(L55:L63,AS11)","v":0},{"$f":"AT11/(AV4-AT8)","v":0},{"$f":"IF(AU11=0,0,(AU11*((LOG(AU11))/LOG(2))))","v":0}]
[22,661,14,672,null,null,null,null,null,null,0,21,null,null,null,null,null,null,null,{"$f":"N12","v":0},{"$f":"COUNTIF(L7:L16,T12)","v":0},{"$f":"U12/(W4-U8)","v":0},{"$f":"IF(V12=0,0,(V12*((LOG(V12))/LOG(2))))","v":0},null,{"$f":"N12","v":0},{"$f":"COUNTIF(L17:L25,Y12)","v":0},{"$f":"Z12/(AB4-Z8)","v":0},{"$f":"IF(AA12=0,0,(AA12*((LOG(AA12))/LOG(2))))","v":0},null,{"$f":"N12","v":0},{"$f":"COUNTIF(L26:L35,AD12)","v":0},{"$f":"AE12/(AG4-AE8)","v":0},{"$f":"IF(AF12=0,0,(AF12*((LOG(AF12))/LOG(2))))","v":0},null,{"$f":"N12","v":0},{"$f":"COUNTIF(L36:L44,AI12)","v":0},{"$f":"AJ12/(AL4-AJ8)","v":0},{"$f":"IF(AK12=0,0,(AK12*((LOG(AK12))/LOG(2))))","v":0},null,{"$f":"N12","v":0},{"$f":"COUNTIF(L45:L54,AN12)","v":0},{"$f":"AO12/(AQ4-AO8)","v":0},{"$f":"IF(AP12=0,0,(AP12*((LOG(AP12))/LOG(2))))","v":0},null,{"$f":"N12","v":0},{"$f":"COUNTIF(L55:L63,AS12)","v":0},{"$f":"AT12/(AV4-AT8)","v":0},{"$f":"IF(AU12=0,0,(AU12*((LOG(AU12))/LOG(2))))","v":0}]
[11,769,21,781,null,null,null,null,null,null,0,12,null,null,null,null,null,null,null,{"$f":"N13","v":0},{"$f":"COUNTIF(L7:L16,T13)","v":0},{"$f":"U13/(W4-U8)","v":0},{"$f":"IF(V13=0,0,(V13*((LOG(V13))/LOG(2))))","v":0},null,{"$f":"N13","v":0},{"$f":"COUNTIF(L17:L25,Y13)","v":0},{"$f":"Z13/(AB4-Z8)","v":0},{"$f":"IF(AA13=0,0,(AA13*((LOG(AA13))/LOG(2))))","v":0},null,{"$f":"N13","v":0},{"$f":"COUNTIF(L26:L35,AD13)","v":0},{"$f":"AE13/(AG4-AE8)","v":0},{"$f":"IF(AF13=0,0,(AF13*((LOG(AF13))/LOG(2))))","v":0},null,{"$f":"N13","v":0},{"$f":"COUNTIF(L36:L44,AI13)","v":0},{"$f":"AJ13/(AL4-AJ8)","v":0},{"$f":"IF(AK13=0,0,(AK13*((LOG(AK13))/LOG(2))))","v":0},null,{"$f":"N13","v":0},{"$f":"COUNTIF(L45:L54,AN13)","v":0},{"$f":"AO13/(AQ4-AO8)","v":0},{"$f":"IF(AP13=0,0,(AP13*((LOG(AP13))/LOG(2))))","v":0},null,{"$f":"N13","v":0},{"$f":"COUNTIF(L55:L63,AS13)","v":0},{"$f":"AT13/(AV4-AT8)","v":0},{"$f":"IF(AU13=0,0,(AU13*((LOG(AU13))/LOG(2))))","v":0}]
[11,914,21,925,null,null,null,null,null,null,0,12,null,null,null,null,null,null,null,{"$f":"N14","v":0},{"$f":"COUNTIF(L7:L16,T14)","v":0},{"$f":"U14/(W4-U8)","v":0},{"$f":"IF(V14=0,0,(V14*((LOG(V14))/LOG(2))))","v":0},null,{"$f":"N14","v":0},{"$f":"COUNTIF(L17:L25,Y14)","v":0},{"$f":"Z14/(AB4-Z8)","v":0},{"$f":"IF(AA14=0,0,(AA14*((LOG(AA14))/LOG(2))))","v":0},null,{"$f":"N14","v":0},{"$f":"COUNTIF(L26:L35,AD14)","v":0},{"$f":"AE14/(AG4-AE8)","v":0},{"$f":"IF(AF14=0,0,(AF14*((LOG(AF14))/LOG(2))))","v":0},null,{"$f":"N14","v":0},{"$f":"COUNTIF(L36:L44,AI14)","v":0},{"$f":"AJ14/(AL4-AJ8)","v":0},{"$f":"IF(AK14=0,0,(AK14*((LOG(AK14))/LOG(2))))","v":0},null,{"$f":"N14","v":0},{"$f":"COUNTIF(L45:L54,AN14)","v":0},{"$f":"AO14/(AQ4-AO8)","v":0},{"$f":"IF(AP14=0,0,(AP14*((LOG(AP14))/LOG(2))))","v":0},null,{"$f":"N14","v":0},{"$f":"COUNTIF(L55:L63,AS14)","v":0},{"$f":"AT14/(AV4-AT8)","v":0},{"$f":"IF(AU14=0,0,(AU14*((LOG(AU14))/LOG(2))))","v":0}]
[11,1019,21,1033,null,null,null,null,null,null,0,12,null,null,null,{"$f":"SUM(P7:P14)","v":1},{"$f":"-SUM(Q7:Q14)","v":1.6163485660751642},null,null,null,null,{"$f":"SUM(V7:V14)","v":1},{"$f":"-SUM(W7:W14)","v":1.5219280948873624},null,null,null,{"$f":"SUM(AA7:AA14)","v":1},{"$f":"-SUM(AB7:AB14)","v":0.91829583405448945},null,null,null,{"$f":"SUM(AF7:AF14)","v":1},{"$f":"-SUM(AG7:AG14)","v":0.91829583405448945},null,null,null,{"$f":"SUM(AK7:AK14)","v":1},{"$f":"-SUM(AL7:AL14)","v":0.5435644431995964},null,null,null,{"$f":"SUM(AP7:AP14)","v":1},{"$f":"-SUM(AQ7:AQ14)","v":0.65002242164835411},null,null,null,{"$f":"SUM(AU7:AU14)","v":1},{"$f":"-SUM(AV7:AV14)","v":0.72192809488736231}]
[11,1127,12,1134,null,null,null,null,null,null,0,11,null,null,null,"U=",{"$f":"Q15/(LOG(Q4)/LOG(2))","v":0.27710938525327605},null,null,null,null,"U1=",{"$f":"W15/(LOG(W4)/LOG(2))","v":0.45814600780483389},null,null,null,"U2=",{"$f":"AB15/(LOG(AB4)/LOG(2))","v":0.28969008214284753},null,null,null,"U3=",{"$f":"AG15/(LOG(AG4)/LOG(2))","v":0.27643459094367495},null,null,null,"U4=",{"$f":"AL15/(LOG(AL4)/LOG(2))","v":0.17147549009906393},null,null,null,"U5=",{"$f":"AQ15/(LOG(AQ4)/LOG(2))","v":0.1956762467702946},null,null,null,"U6=",{"$f":"AV15/(LOG(AV4)/LOG(2))","v":0.22774295750179763}]
[11,1242,21,1251,null,null,null,null,null,null,0,12]
[11,1354,21,1361,null,null,null,null,null,null,0,12]
[11,1456,21,1464,null,null,null,null,null,null,0,12,null,"Total Target Seq"]
[22,1593,23,1606,null,null,null,null,null,null,0,22,null,{"$f":"COUNTIF(L7:L63,G3)","v":24},null,10,9,10,9,10,9]
[11,1713,21,1727,null,null,null,null,null,null,0,12,null,null,null,"% of reinforcement given in 6 equal intervals based on number of trials "]
[11,1838,21,1855,null,null,null,null,null,null,0,12,null,null,null,"%_1","%_2","%_3","%_4","%_5","%_6"]
[11,2118,12,2126,null,null,null,null,null,null,0,11,null,null,"target sequence",{"$f":"$G$3","v":12},{"$f":"$G$3","v":12},{"$f":"$G$3","v":12},{"$f":"$G$3","v":12},{"$f":"$G$3","v":12},{"$f":"$G$3","v":12}]
[11,2240,12,2258,null,null,null,null,null,null,0,11,null,null,"total reinforcement",{"$f":"U8","v":5},{"$f":"Z8","v":6},{"$f":"AE8","v":4},{"$f":"AJ8","v":1},{"$f":"AO8","v":4},{"$f":"AT8","v":4}]
[11,2751,21,2767,null,null,null,null,null,null,0,12,null,null,"% target"]
[11,2866,12,3000,null,null,null,null,null,null,0,11,null,null,"CCRF"]
[11,3185,21,3222,null,null,null,null,null,null,0,12,null,null,"% CCRf"]
[22,3360,14,3523,null,null,null,null,null,null,0,21,null,null,"average response rate",{"$f":"D16/P20","v":113.4},{"$f":"(D25-D16)/Q20","v":181.44444444444446},{"$f":"(D35-D25)/R20","v":636.29999999999995},{"$f":"(D44-D35)/S20","v":982.88888888888891},{"$f":"(D54-D44)/T20","v":161.69999999999999},{"$f":"(D63-D54)/U20","v":215.77777777777777}]
[22,3652,14,3926,null,null,null,null,null,null,0,21]
[11,4029,21,4066,null,null,null,null,null,null,0,12]
[11,4278,21,4291,null,null,null,null,null,null,0,12]
[11,4390,12,4399,null,null,null,null,null,null,0,11]
[11,4745,21,4778,null,null,null,null,null,null,0,12]
[11,5470,12,8944,null,null,null,null,null,null,0,11]
[11,9120,12,9130,null,null,null,null,null,null,0,11]
[11,9399,12,9409,null,null,null,null,null,null,0,11]
[11,9510,12,9521,null,null,null,null,null,null,0,11]
[11,9864,12,9874,null,null,null,null,null,null,0,11]
[11,9976,12,10105,null,null,null,null,null,null,0,11]
[11,15477,12,16824,null,null,null,null,null,null,0,11]
[11,16949,12,17435,null,null,null,null,null,null,0,11]
[22,17612,23,17624,null,null,null,null,null,null,0,22]
[11,17853,21,17870,null,null,null,null,null,null,0,12]
[11,17968,12,17976,null,null,null,null,null,null,0,11]
[11,18182,12,18190,null,null,null,null,null,null,0,11]
[11,18308,12,18315,null,null,null,null,null,null,0,11]
[11,18417,12,18424,null,null,null,null,null,null,0,11]
[11,18704,12,18712,null,null,null,null,null,null,0,11]
[11,18936,12,18943,null,null,null,null,null,null,0,11]
[22,19050,14,19065,null,null,null,null,null,null,0,21]
[11,19241,21,19269,null,null,null,null,null,null,0,12]
[11,19368,21,19376,null,null,null,null,null,null,0,12]
[11,19475,21,19483,null,null,null,null,null,null,0,12]
[11,19585,21,19593,null,null,null,null,null,null,0,12]
[11,19703,21,19721,null,null,null,null,null,null,0,12]
[11,19823,21,19839,null,null,null,null,null,null,0,12]
[11,20074,21,20085,null,null,null,null,null,null,0,12]
[11,20201,21,20213,null,null,null,null,null,null,0,12]
[11,20532,12,20547,null,null,null,null,null,null,0,11]
[22,20653,14,20661,null,null,null,null,null,null,0,21]
[11,20767,12,20774,null,null,null,null,null,null,0,11]
[11,21113,12,21122,null,null,null,null,null,null,0,11]
[11,21526,12,21535,null,null,null,null,null,null,0,11]

{"sheet":"!N224A20.095","index":23,"n_rows":86,"n_cols":48,"rows_kept":86,"cut":false,"hidden":false,"merged":[[4,39,4,42],[5,39,5,40],[4,44,4,47],[5,44,5,45],[4,24,4,27],[5,24,5,25],[4,29,4,32],[5,29,5,30],[4,34,4,37],[5,34,5,35],[1,1,1,2],[5,13,5,14],[18,13,18,14],[19,13,19,14],[4,19,4,22],[5,19,5,20]]}
["Report for:!N224A20.095"]
["Date:","<date>"]
["Hen:","<hen>",null,null,null,"Correct Sequence",{"$f":"Start!J2","v":12},null,null,null,null,null,null,null,null,"Total Sequences in Data",{"$f":"4994-COUNTBLANK(L7:L5000)","v":80},null,null,null,null,"Total Sequences in Block Data",{"$f":"COUNTA(L7:L19)","v":13},null,null,null,"Total Sequences in Block Data",{"$f":"COUNTA(L20:L33)","v":14},null,null,null,"Total Sequences in Block Data",{"$f":"COUNTA(L34:L46)","v":13},null,null,null,"Total Sequences in Block Data",{"$f":"COUNTA(L47:L59)","v":13},null,null,null,"Total Sequences in Block Data",{"$f":"COUNTA(L60:L73)","v":14},null,null,null,"Total Sequences in Block Data",{"$f":"COUNTA(L74:L86)","v":13}]
[null,null,null,null,null,null,null,null,null,null,null,null,null,null,null,"Total Sequences in Summary",{"$f":"SUM(O7:O14)","v":80},null,null,null,null,"Total Sequences in Block Summary",{"$f":"SUM(U7:U14)","v":13},null,null,null,"Total Sequences in Block Summary",{"$f":"SUM(Z7:Z14)","v":14},null,null,null,"Total Sequences in Block Summary",{"$f":"SUM(AE7:AE14)","v":13},null,null,null,"Total Sequences in Block Summary",{"$f":"SUM(AJ7:AJ14)","v":13},null,null,null,"Total Sequences in Block Summary",{"$f":"SUM(AO7:AO14)","v":14},null,null,null,"Total Sequences in Block Summary",{"$f":"SUM(AT7:AT14)","v":13}]
[null,null,null,null,null,null,null,null,null,null,null,null,null,null,null,null,null,null,null,"Block 1",null,null,null,null,"Block 2",null,null,null,null,"Block 3",null,null,null,null,"Block 4",null,null,null,null,"Block 5",null,null,null,null,"Block 6"]
["Sequence\nComponent\n1","Time\n1","Sequence\nComponent\n2","Time\n2","Sequence\nComponent\n3","Time\n3","Sequence\nComponent\n4","Time\n4","Sequence\nComponent\n5","Time\n5","Correct?\n0=No 1=Yes","Sequence",null,"Frequency",null,"Relative Frequency","Variability",null,null,"Frequency",null,"Relative Frequency","Variability",null,"Frequency",null,"Relative Frequency","Variability",null,"Frequency",null,"Relative Frequency","Variability",null,"Frequency",null,"Relative Frequency","Variability",null,"Frequency",null,"Relative Frequency","Variability",null,"Frequency",null,"Relative Frequency","Variability"]
[22,10,14,19,null,null,null,null,null,null,0,21,null,11,{"$f":"COUNTIF($L$7:$L$500,N7)","v":40},{"$f":"O7/$Q$4","v":0.5},{"$f":"IF(P7=0,0,(P7*((LOG(P7))/LOG(2))))","v":-0.5},null,null,{"$f":"N7","v":11},{"$f":"COUNTIF(L7:L19,T7)","v":1},{"$f":"U7/(W4-U8)","v":0.16666666666666666},{"$f":"IF(V7=0,0,(V7*((LOG(V7))/LOG(2))))","v":-0.43082708345352599},null,{"$f":"N7","v":11},{"$f":"COUNTIF(L20:L33,Y7)","v":3},{"$f":"Z7/(AB4-Z8)","v":0.42857142857142855},{"$f":"IF(AA7=0,0,(AA7*((LOG(AA7))/LOG(2))))","v":-0.52388246628704915},null,{"$f":"N7","v":11},{"$f":"COUNTIF(L34:L46,AD7)","v":7},{"$f":"AE7/(AG4-AE8)","v":1},{"$f":"IF(AF7=0,0,(AF7*((LOG(AF7))/LOG(2))))","v":0},null,{"$f":"N7","v":11},{"$f":"COUNTIF(L47:L59,AI7)","v":5},{"$f":"AJ7/(AL4-AJ8)","v":0.7142857142857143},{"$f":"IF(AK7=0,0,(AK7*((LOG(AK7))/LOG(2))))","v":-0.34673344797874411},null,{"$f":"N7","v":11},{"$f":"COUNTIF(L60:L73,AN7)","v":11},{"$f":"AO7/(AQ4-AO8)","v":0.91666666666666663},{"$f":"IF(AP7=0,0,(AP7*((LOG(AP7))/LOG(2))))","v":-0.1150699752435374},null,{"$f":"N7","v":11},{"$f":"COUNTIF(L74:L86,AS7)","v":13},{"$f":"AT7/(AV4-AT8)","v":1},{"$f":"IF(AU7=0,0,(AU7*((LOG(AU7))/LOG(2))))","v":0}]
[11,129,21,144,null,null,null,null,null,null,0,12,null,12,{"$f":"COUNTIF($L$7:$L$500,N8)","v":28},{"$f":"O8/$Q$4","v":0.35},{"$f":"IF(P8=0,0,(P8*((LOG(P8))/LOG(2))))","v":-0.53010061049041535},null,null,{"$f":"N8","v":12},{"$f":"COUNTIF(L7:L19,T8)","v":7},null,null,null,{"$f":"N8","v":12},{"$f":"COUNTIF(L20:L33,Y8)","v":7},null,null,null,{"$f":"N8","v":12},{"$f":"COUNTIF(L34:L46,AD8)","v":6},null,null,null,{"$f":"N8","v":12},{"$f":"COUNTIF(L47:L59,AI8)","v":6},null,null,null,{"$f":"N8","v":12},{"$f":"COUNTIF(L60:L73,AN8)","v":2},null,null,null,{"$f":"N8","v":12},{"$f":"COUNTIF(L74:L86,AS8)","v":0}]
[22,286,23,332,null,null,null,null,null,null,0,22,null,21,{"$f":"COUNTIF($L$7:$L$500,N9)","v":7},{"$f":"O9/$Q$4","v":8.7499999999999994E-2},{"$f":"IF(P9=0,0,(P9*((LOG(P9))/LOG(2))))","v":-0.30752515262260383},null,null,{"$f":"N9","v":21},{"$f":"COUNTIF(L7:L19,T9)","v":2},{"$f":"U9/(W4-U8)","v":0.33333333333333331},{"$f":"IF(V9=0,0,(V9*((LOG(V9))/LOG(2))))","v":-0.52832083357371862},null,{"$f":"N9","v":21},{"$f":"COUNTIF(L20:L33,Y9)","v":2},{"$f":"Z9/(AB4-Z8)","v":0.2857142857142857},{"$f":"IF(AA9=0,0,(AA9*((LOG(AA9))/LOG(2))))","v":-0.51638712058788683},null,{"$f":"N9","v":21},{"$f":"COUNTIF(L34:L46,AD9)","v":0},{"$f":"AE9/(AG4-AE8)","v":0},{"$f":"IF(AF9=0,0,(AF9*((LOG(AF9))/LOG(2))))","v":0},null,{"$f":"N9","v":21},{"$f":"COUNTIF(L47:L59,AI9)","v":2},{"$f":"AJ9/(AL4-AJ8)","v":0.2857142857142857},{"$f":"IF(AK9=0,0,(AK9*((LOG(AK9))/LOG(2))))","v":-0.51638712058788683},null,{"$f":"N9","v":21},{"$f":"COUNTIF(L60:L73,AN9)","v":1},{"$f":"AO9/(AQ4-AO8)","v":8.3333333333333329E-2},{"$f":"IF(AP9=0,0,(AP9*((LOG(AP9))/LOG(2))))","v":-0.29874687506009634},null,{"$f":"N9","v":21},{"$f":"COUNTIF(L74:L86,AS9)","v":0},{"$f":"AT9/(AV4-AT8)","v":0},{"$f":"IF(AU9=0,0,(AU9*((LOG(AU9))/LOG(2))))","v":0}]
[11,431,21,439,null,null,null,null,null,null,0,12,null,22,{"$f":"COUNTIF($L$7:$L$500,N10)","v":5},{"$f":"O10/$Q$4","v":6.25E-2},{"$f":"IF(P10=0,0,(P10*((LOG(P10))/LOG(2))))","v":-0.25},null,null,{"$f":"N10","v":22},{"$f":"COUNTIF(L7:L19,T10)","v":3},{"$f":"U10/(W4-U8)","v":0.5},{"$f":"IF(V10=0,0,(V10*((LOG(V10))/LOG(2))))","v":-0.5},null,{"$f":"N10","v":22},{"$f":"COUNTIF(L20:L33,Y10)","v":2},{"$f":"Z10/(AB4-Z8)","v":0.2857142857142857},{"$f":"IF(AA10=0,0,(AA10*((LOG(AA10))/LOG(2))))","v":-0.51638712058788683},null,{"$f":"N10","v":22},{"$f":"COUNTIF(L34:L46,AD10)","v":0},{"$f":"AE10/(AG4-AE8)","v":0},{"$f":"IF(AF10=0,0,(AF10*((LOG(AF10))/LOG(2))))","v":0},null,{"$f":"N10","v":22},{"$f":"COUNTIF(L47:L59,AI10)","v":0},{"$f":"AJ10/(AL4-AJ8)","v":0},{"$f":"IF(AK10=0,0,(AK10*((LOG(AK10))/LOG(2))))","v":0},null,{"$f":"N10","v":22},{"$f":"COUNTIF(L60:L73,AN10)","v":0},{"$f":"AO10/(AQ4-AO8)","v":0},{"$f":"IF(AP10=0,0,(AP10*((LOG(AP10))/LOG(2))))","v":0},null,{"$f":"N10","v":22},{"$f":"COUNTIF(L74:L86,AS10)","v":0},{"$f":"AT10/(AV4-AT8)","v":0},{"$f":"IF(AU10=0,0,(AU10*((LOG(AU10))/LOG(2))))","v":0}]
[11,535,12,551,null,null,null,null,null,null,0,11,null,null,null,null,null,null,null,{"$f":"N11","v":0},{"$f":"COUNTIF(L7:L19,T11)","v":0},{"$f":"U11/(W4-U8)","v":0},{"$f":"IF(V11=0,0,(V11*((LOG(V11))/LOG(2))))","v":0},null,{"$f":"N11","v":0},{"$f":"COUNTIF(L20:L33,Y11)","v":0},{"$f":"Z11/(AB4-Z8)","v":0},{"$f":"IF(AA11=0,0,(AA11*((LOG(AA11))/LOG(2))))","v":0},null,{"$f":"N11","v":0},{"$f":"COUNTIF(L34:L46,AD11)","v":0},{"$f":"AE11/(AG4-AE8)","v":0},{"$f":"IF(AF11=0,0,(AF11*((LOG(AF11))/LOG(2))))","v":0},null,{"$f":"N11","v":0},{"$f":"COUNTIF(L47:L59,AI11)","v":0},{"$f":"AJ11/(AL4-AJ8)","v":0},{"$f":"IF(AK11=0,0,(AK11*((LOG(AK11))/LOG(2))))","v":0},null,{"$f":"N11","v":0},{"$f":"COUNTIF(L60:L73,AN11)","v":0},{"$f":"AO11/(AQ4-AO8)","v":0},{"$f":"IF(AP11=0,0,(AP11*((LOG(AP11))/LOG(2))))","v":0},null,{"$f":"N11","v":0},{"$f":"COUNTIF(L74:L86,AS11)","v":0},{"$f":"AT11/(AV4-AT8)","v":0},{"$f":"IF(AU11=0,0,(AU11*((LOG(AU11))/LOG(2))))","v":0}]
[11,661,21,669,null,null,null,null,null,null,0,12,null,null,null,null,null,null,null,{"$f":"N12","v":0},{"$f":"COUNTIF(L7:L19,T12)","v":0},{"$f":"U12/(W4-U8)","v":0},{"$f":"IF(V12=0,0,(V12*((LOG(V12))/LOG(2))))","v":0},null,{"$f":"N12","v":0},{"$f":"COUNTIF(L20:L33,Y12)","v":0},{"$f":"Z12/(AB4-Z8)","v":0},{"$f":"IF(AA12=0,0,(AA12*((LOG(AA12))/LOG(2))))","v":0},null,{"$f":"N12","v":0},{"$f":"COUNTIF(L34:L46,AD12)","v":0},{"$f":"AE12/(AG4-AE8)","v":0},{"$f":"IF(AF12=0,0,(AF12*((LOG(AF12))/LOG(2))))","v":0},null,{"$f":"N12","v":0},{"$f":"COUNTIF(L47:L59,AI12)","v":0},{"$f":"AJ12/(AL4-AJ8)","v":0},{"$f":"IF(AK12=0,0,(AK12*((LOG(AK12))/LOG(2))))","v":0},null,{"$f":"N12","v":0},{"$f":"COUNTIF(L60:L73,AN12)","v":0},{"$f":"AO12/(AQ4-AO8)","v":0},{"$f":"IF(AP12=0,0,(AP12*((LOG(AP12))/LOG(2))))","v":0},null,{"$f":"N12","v":0},{"$f":"COUNTIF(L74:L86,AS12)","v":0},{"$f":"AT12/(AV4-AT8)","v":0},{"$f":"IF(AU12=0,0,(AU12*((LOG(AU12))/LOG(2))))","v":0}]
[22,763,14,771,null,null,null,null,null,null,0,21,null,null,null,null,null,null,null,{"$f":"N13","v":0},{"$f":"COUNTIF(L7:L19,T13)","v":0},{"$f":"U13/(W4-U8)","v":0},{"$f":"IF(V13=0,0,(V13*((LOG(V13))/LOG(2))))","v":0},null,{"$f":"N13","v":0},{"$f":"COUNTIF(L20:L33,Y13)","v":0},{"$f":"Z13/(AB4-Z8)","v":0},{"$f":"IF(AA13=0,0,(AA13*((LOG(AA13))/LOG(2))))","v":0},null,{"$f":"N13","v":0},{"$f":"COUNTIF(L34:L46,AD13)","v":0},{"$f":"AE13/(AG4-AE8)","v":0},{"$f":"IF(AF13=0,0,(AF13*((LOG(AF13))/LOG(2))))","v":0},null,{"$f":"N13","v":0},{"$f":"COUNTIF(L47:L59,AI13)","v":0},{"$f":"AJ13/(AL4-AJ8)","v":0},{"$f":"IF(AK13=0,0,(AK13*((LOG(AK13))/LOG(2))))","v":0},null,{"$f":"N13","v":0},{"$f":"COUNTIF(L60:L73,AN13)","v":0},{"$f":"AO13/(AQ4-AO8)","v":0},{"$f":"IF(AP13=0,0,(AP13*((LOG(AP13))/LOG(2))))","v":0},null,{"$f":"N13","v":0},{"$f":"COUNTIF(L74:L86,AS13)","v":0},{"$f":"AT13/(AV4-AT8)","v":0},{"$f":"IF(AU13=0,0,(AU13*((LOG(AU13))/LOG(2))))","v":0}]
[11,884,21,895,null,null,null,null,null,null,0,12,null,null,null,null,null,null,null,{"$f":"N14","v":0},{"$f":"COUNTIF(L7:L19,T14)","v":0},{"$f":"U14/(W4-U8)","v":0},{"$f":"IF(V14=0,0,(V14*((LOG(V14))/LOG(2))))","v":0},null,{"$f":"N14","v":0},{"$f":"COUNTIF(L20:L33,Y14)","v":0},{"$f":"Z14/(AB4-Z8)","v":0},{"$f":"IF(AA14=0,0,(AA14*((LOG(AA14))/LOG(2))))","v":0},null,{"$f":"N14","v":0},{"$f":"COUNTIF(L34:L46,AD14)","v":0},{"$f":"AE14/(AG4-AE8)","v":0},{"$f":"IF(AF14=0,0,(AF14*((LOG(AF14))/LOG(2))))","v":0},null,{"$f":"N14","v":0},{"$f":"COUNTIF(L47:L59,AI14)","v":0},{"$f":"AJ14/(AL4-AJ8)","v":0},{"$f":"IF(AK14=0,0,(AK14*((LOG(AK14))/LOG(2))))","v":0},null,{"$f":"N14","v":0},{"$f":"COUNTIF(L60:L73,AN14)","v":0},{"$f":"AO14/(AQ4-AO8)","v":0},{"$f":"IF(AP14=0,0,(AP14*((LOG(AP14))/LOG(2))))","v":0},null,{"$f":"N14","v":0},{"$f":"COUNTIF(L74:L86,AS14)","v":0},{"$f":"AT14/(AV4-AT8)","v":0},{"$f":"IF(AU14=0,0,(AU14*((LOG(AU14))/LOG(2))))","v":0}]
[22,1003,23,1054,null,null,null,null,null,null,0,22,null,null,null,{"$f":"SUM(P7:P14)","v":1},{"$f":"-SUM(Q7:Q14)","v":1.5876257631130191},null,null,null,null,{"$f":"SUM(V7:V14)","v":1},{"$f":"-SUM(W7:W14)","v":1.4591479170272446},null,null,null,{"$f":"SUM(AA7:AA14)","v":0.99999999999999989},{"$f":"-SUM(AB7:AB14)","v":1.5566567074628228},null,null,null,{"$f":"SUM(AF7:AF14)","v":1},{"$f":"-SUM(AG7:AG14)","v":0},null,null,null,{"$f":"SUM(AK7:AK14)","v":1},{"$f":"-SUM(AL7:AL14)","v":0.863120568566631},null,null,null,{"$f":"SUM(AP7:AP14)","v":1},{"$f":"-SUM(AQ7:AQ14)","v":0.41381685030363374},null,null,null,{"$f":"SUM(AU7:AU14)","v":1},{"$f":"-SUM(AV7:AV14)","v":0}]
[11,1162,21,1177,null,null,null,null,null,null,0,12,null,null,null,"U=",{"$f":"Q15/(LOG(Q4)/LOG(2))","v":0.25112999377467704},null,null,null,null,"U1=",{"$f":"W15/(LOG(W4)/LOG(2))","v":0.39431744013391046},null,null,null,"U2=",{"$f":"AB15/(LOG(AB4)/LOG(2))","v":0.40885516042763909},null,null,null,"U3=",{"$f":"AG15/(LOG(AG4)/LOG(2))","v":0},null,null,null,"U4=",{"$f":"AL15/(LOG(AL4)/LOG(2))","v":0.23324810949770525},null,null,null,"U5=",{"$f":"AQ15/(LOG(AQ4)/LOG(2))","v":0.10868880332280534},null,null,null,"U6=",{"$f":"AV15/(LOG(AV4)/LOG(2))","v":0}]
[11,1280,21,1288,null,null,null,null,null,null,0,12]
[11,1382,21,1396,null,null,null,null,null,null,0,12]
[22,1504,23,1512,null,null,null,null,null,null,0,22,null,"Total Target Seq"]
[11,1611,21,1639,null,null,null,null,null,null,0,12,null,{"$f":"COUNTIF(L7:L86,G3)","v":28},null,13,14,13,13,14,13]
[11,1735,21,1748,null,null,null,null,null,null,0,12,null,null,null,"% of reinforcement given in 6 equal intervals based on number of trials "]
[11,1842,12,1876,null,null,null,null,null,null,0,11,null,null,null,"%_1","%_2","%_3","%_4","%_5","%_6"]
[11,1979,12,1988,null,null,null,null,null,null,0,11,null,null,"target sequence",{"$f":"$G$3","v":12},{"$f":"$G$3","v":12},{"$f":"$G$3","v":12},{"$f":"$G$3","v":12},{"$f":"$G$3","v":12},{"$f":"$G$3","v":12}]
[22,2092,14,2099,null,null,null,null,null,null,0,21,null,null,"total reinforcement",{"$f":"U8","v":7},{"$f":"Z8","v":7},{"$f":"AE8","v":6},{"$f":"AJ8","v":6},{"$f":"AO8","v":2},{"$f":"AT8","v":0}]
[11,2205,21,2213,null,null,null,null,null,null,0,12,null,null,"% target"]
[11,2308,21,2322,null,null,null,null,null,null,0,12,null,null,"CCRF"]
[22,2425,14,2445,null,null,null,null,null,null,0,21,null,null,"% CCRf"]
[22,2566,23,2585,null,null,null,null,null,null,0,22,null,null,"average response rate",{"$f":"D19/P20","v":116.30769230769231},{"$f":"(D33-D19)/Q20","v":118.35714285714286},{"$f":"(D46-D33)/R20","v":113.76923076923077},{"$f":"(D59-D46)/S20","v":171.76923076923077},{"$f":"(D73-D59)/T20","v":351.64285714285717},{"$f":"(D86-D73)/U20","v":817.84615384615381}]
[11,2687,12,2696,null,null,null,null,null,null,0,11]
[11,2797,21,2812,null,null,null,null,null,null,0,12]
[22,2917,23,2924,null,null,null,null,null,null,0,22]
[11,3033,21,3058,null,null,null,null,null,null,0,12]
[11,3153,21,3169,null,null,null,null,null,null,0,12]
[11,3271,12,3279,null,null,null,null,null,null,0,11]
[11,3396,12,3404,null,null,null,null,null,null,0,11]
[11,3506,21,3521,null,null,null,null,null,null,0,12]
[11,3618,12,3627,null,null,null,null,null,null,0,11]
[11,3742,12,3749,null,null,null,null,null,null,0,11]
[11,3851,21,3864,null,null,null,null,null,null,0,12]
[11,3960,12,3966,null,null,null,null,null,null,0,11]
[11,4072,21,4086,null,null,null,null,null,null,0,12]
[11,4192,12,4200,null,null,null,null,null,null,0,11]
[11,4300,21,4315,null,null,null,null,null,null,0,12]
[11,4410,21,4418,null,null,null,null,null,null,0,12]
[11,4516,21,4523,null,null,null,null,null,null,0,12]
[11,4641,12,4648,null,null,null,null,null,null,0,11]
[22,4757,14,4765,null,null,null,null,null,null,0,21]
[11,4911,21,4948,null,null,null,null,null,null,0,12]
[11,5041,21,5049,null,null,null,null,null,null,0,12]
[22,5185,14,5193,null,null,null,null,null,null,0,21]
[11,5307,21,5324,null,null,null,null,null,null,0,12]
[11,5523,12,5530,null,null,null,null,null,null,0,11]
[11,5656,21,5674,null,null,null,null,null,null,0,12]
[11,5842,21,5859,null,null,null,null,null,null,0,12]
[11,6123,12,6131,null,null,null,null,null,null,0,11]
[11,6249,12,6256,null,null,null,null,null,null,0,11]
[11,6461,21,6504,null,null,null,null,null,null,0,12]
[11,6618,12,6626,null,null,null,null,null,null,0,11]
[11,6872,12,6881,null,null,null,null,null,null,0,11]
[11,7010,21,7018,null,null,null,null,null,null,0,12]
[11,7268,12,7276,null,null,null,null,null,null,0,11]
[11,7557,12,7573,null,null,null,null,null,null,0,11]
[22,7719,14,7727,null,null,null,null,null,null,0,21]
[11,7995,21,8010,null,null,null,null,null,null,0,12]
[11,8128,12,8148,null,null,null,null,null,null,0,11]
[11,8278,12,8285,null,null,null,null,null,null,0,11]
[11,8440,12,8448,null,null,null,null,null,null,0,11]
[11,8856,12,8863,null,null,null,null,null,null,0,11]
[11,9263,12,9271,null,null,null,null,null,null,0,11]
[11,9451,12,9457,null,null,null,null,null,null,0,11]
[11,11263,12,11274,null,null,null,null,null,null,0,11]
[11,11671,12,11678,null,null,null,null,null,null,0,11]
[11,11798,12,11804,null,null,null,null,null,null,0,11]
[11,12216,12,12224,null,null,null,null,null,null,0,11]
[11,13912,12,13919,null,null,null,null,null,null,0,11]
[11,14241,12,14246,null,null,null,null,null,null,0,11]
[11,14437,12,14442,null,null,null,null,null,null,0,11]
[11,14584,12,14591,null,null,null,null,null,null,0,11]
[11,14847,12,14855,null,null,null,null,null,null,0,11]
[11,15031,12,15037,null,null,null,null,null,null,0,11]
[11,15683,12,15690,null,null,null,null,null,null,0,11]
[11,18395,12,18402,null,null,null,null,null,null,0,11]
[11,18675,12,18681,null,null,null,null,null,null,0,11]
[11,21956,12,21968,null,null,null,null,null,null,0,11]
[11,22198,12,22205,null,null,null,null,null,null,0,11]
[11,22430,12,22436,null,null,null,null,null,null,1,11]

{"sheet":"!N225950.095","index":24,"n_rows":71,"n_cols":48,"rows_kept":71,"cut":false,"hidden":false,"merged":[[4,39,4,42],[5,39,5,40],[4,44,4,47],[5,44,5,45],[4,24,4,27],[5,24,5,25],[4,29,4,32],[5,29,5,30],[4,34,4,37],[5,34,5,35],[1,1,1,2],[5,13,5,14],[18,13,18,14],[19,13,19,14],[4,19,4,22],[5,19,5,20]]}
["Report for:!N225950.095"]
["Date:","<date>"]
["Hen:","<hen>",null,null,null,"Correct Sequence",{"$f":"Start!J2","v":12},null,null,null,null,null,null,null,null,"Total Sequences in Data",{"$f":"4994-COUNTBLANK(L7:L5000)","v":65},null,null,null,null,"Total Sequences in Block Data",{"$f":"COUNTA(L7:L17)","v":11},null,null,null,"Total Sequences in Block Data",{"$f":"COUNTA(L18:L28)","v":11},null,null,null,"Total Sequences in Block Data",{"$f":"COUNTA(L29:L38)","v":10},null,null,null,"Total Sequences in Block Data",{"$f":"COUNTA(L39:L49)","v":11},null,null,null,"Total Sequences in Block Data",{"$f":"COUNTA(L50:L60)","v":11},null,null,null,"Total Sequences in Block Data",{"$f":"COUNTA(L61:L71)","v":11}]
[null,null,null,null,null,null,null,null,null,null,null,null,null,null,null,"Total Sequences in Summary",{"$f":"SUM(O7:O14)","v":65},null,null,null,null,"Total Sequences in Block Summary",{"$f":"SUM(U7:U14)","v":11},null,null,null,"Total Sequences in Block Summary",{"$f":"SUM(Z7:Z14)","v":11},null,null,null,"Total Sequences in Block Summary",{"$f":"SUM(AE7:AE14)","v":10},null,null,null,"Total Sequences in Block Summary",{"$f":"SUM(AJ7:AJ14)","v":11},null,null,null,"Total Sequences in Block Summary",{"$f":"SUM(AO7:AO14)","v":11},null,null,null,"Total Sequences in Block Summary",{"$f":"SUM(AT7:AT14)","v":11}]
[null,null,null,null,null,null,null,null,null,null,null,null,null,null,null,null,null,null,null,"Block 1",null,null,null,null,"Block 2",null,null,null,null,"Block 3",null,null,null,null,"Block 4",null,null,null,null,"Block 5",null,null,null,null,"Block 6"]
["Sequence\nComponent\n1","Time\n1","Sequence\nComponent\n2","Time\n2","Sequence\nComponent\n3","Time\n3","Sequence\nComponent\n4","Time\n4","Sequence\nComponent\n5","Time\n5","Correct?\n0=No 1=Yes","Sequence",null,"Frequency",null,"Relative Frequency","Variability",null,null,"Frequency",null,"Relative Frequency","Variability",null,"Frequency",null,"Relative Frequency","Variability",null,"Frequency",null,"Relative Frequency","Variability",null,"Frequency",null,"Relative Frequency","Variability",null,"Frequency",null,"Relative Frequency","Variability",null,"Frequency",null,"Relative Frequency","Variability"]
[11,13,12,20,null,null,null,null,null,null,0,11,null,11,{"$f":"COUNTIF($L$7:$L$500,N7)","v":36},{"$f":"O7/$Q$4","v":0.55384615384615388},{"$f":"IF(P7=0,0,(P7*((LOG(P7))/LOG(2))))","v":-0.47212217257078642},null,null,{"$f":"N7","v":11},{"$f":"COUNTIF(L7:L17,T7)","v":5},{"$f":"U7/(W4-U8)","v":1},{"$f":"IF(V7=0,0,(V7*((LOG(V7))/LOG(2))))","v":0},null,{"$f":"N7","v":11},{"$f":"COUNTIF(L18:L28,Y7)","v":7},{"$f":"Z7/(AB4-Z8)","v":0.7},{"$f":"IF(AA7=0,0,(AA7*((LOG(AA7))/LOG(2))))","v":-0.36020122098083079},null,{"$f":"N7","v":11},{"$f":"COUNTIF(L29:L38,AD7)","v":4},{"$f":"AE7/(AG4-AE8)","v":0.66666666666666663},{"$f":"IF(AF7=0,0,(AF7*((LOG(AF7))/LOG(2))))","v":-0.38997500048077083},null,{"$f":"N7","v":11},{"$f":"COUNTIF(L39:L49,AI7)","v":4},{"$f":"AJ7/(AL4-AJ8)","v":0.5},{"$f":"IF(AK7=0,0,(AK7*((LOG(AK7))/LOG(2))))","v":-0.5},null,{"$f":"N7","v":11},{"$f":"COUNTIF(L50:L60,AN7)","v":6},{"$f":"AO7/(AQ4-AO8)","v":0.8571428571428571},{"$f":"IF(AP7=0,0,(AP7*((LOG(AP7))/LOG(2))))","v":-0.19062207543124113},null,{"$f":"N7","v":11},{"$f":"COUNTIF(L61:L71,AS7)","v":10},{"$f":"AT7/(AV4-AT8)","v":1},{"$f":"IF(AU7=0,0,(AU7*((LOG(AU7))/LOG(2))))","v":0}]
[11,121,21,158,null,null,null,null,null,null,0,12,null,12,{"$f":"COUNTIF($L$7:$L$500,N8)","v":19},{"$f":"O8/$Q$4","v":0.29230769230769232},{"$f":"IF(P8=0,0,(P8*((LOG(P8))/LOG(2))))","v":-0.51868254910942324},null,null,{"$f":"N8","v":12},{"$f":"COUNTIF(L7:L17,T8)","v":6},null,null,null,{"$f":"N8","v":12},{"$f":"COUNTIF(L18:L28,Y8)","v":1},null,null,null,{"$f":"N8","v":12},{"$f":"COUNTIF(L29:L38,AD8)","v":4},null,null,null,{"$f":"N8","v":12},{"$f":"COUNTIF(L39:L49,AI8)","v":3},null,null,null,{"$f":"N8","v":12},{"$f":"COUNTIF(L50:L60,AN8)","v":4},null,null,null,{"$f":"N8","v":12},{"$f":"COUNTIF(L61:L71,AS8)","v":1}]
[11,265,21,282,null,null,null,null,null,null,0,12,null,21,{"$f":"COUNTIF($L$7:$L$500,N9)","v":5},{"$f":"O9/$Q$4","v":7.6923076923076927E-2},{"$f":"IF(P9=0,0,(P9*((LOG(P9))/LOG(2))))","v":-0.28464920908777636},null,null,{"$f":"N9","v":21},{"$f":"COUNTIF(L7:L17,T9)","v":0},{"$f":"U9/(W4-U8)","v":0},{"$f":"IF(V9=0,0,(V9*((LOG(V9))/LOG(2))))","v":0},null,{"$f":"N9","v":21},{"$f":"COUNTIF(L18:L28,Y9)","v":2},{"$f":"Z9/(AB4-Z8)","v":0.2},{"$f":"IF(AA9=0,0,(AA9*((LOG(AA9))/LOG(2))))","v":-0.46438561897747244},null,{"$f":"N9","v":21},{"$f":"COUNTIF(L29:L38,AD9)","v":1},{"$f":"AE9/(AG4-AE8)","v":0.16666666666666666},{"$f":"IF(AF9=0,0,(AF9*((LOG(AF9))/LOG(2))))","v":-0.43082708345352599},null,{"$f":"N9","v":21},{"$f":"COUNTIF(L39:L49,AI9)","v":2},{"$f":"AJ9/(AL4-AJ8)","v":0.25},{"$f":"IF(AK9=0,0,(AK9*((LOG(AK9))/LOG(2))))","v":-0.5},null,{"$f":"N9","v":21},{"$f":"COUNTIF(L50:L60,AN9)","v":0},{"$f":"AO9/(AQ4-AO8)","v":0},{"$f":"IF(AP9=0,0,(AP9*((LOG(AP9))/LOG(2))))","v":0},null,{"$f":"N9","v":21},{"$f":"COUNTIF(L61:L71,AS9)","v":0},{"$f":"AT9/(AV4-AT8)","v":0},{"$f":"IF(AU9=0,0,(AU9*((LOG(AU9))/LOG(2))))","v":0}]
[11,385,21,409,null,null,null,null,null,null,0,12,null,22,{"$f":"COUNTIF($L$7:$L$500,N10)","v":5},{"$f":"O10/$Q$4","v":7.6923076923076927E-2},{"$f":"IF(P10=0,0,(P10*((LOG(P10))/LOG(2))))","v":-0.28464920908777636},null,null,{"$f":"N10","v":22},{"$f":"COUNTIF(L7:L17,T10)","v":0},{"$f":"U10/(W4-U8)","v":0},{"$f":"IF(V10=0,0,(V10*((LOG(V10))/LOG(2))))","v":0},null,{"$f":"N10","v":22},{"$f":"COUNTIF(L18:L28,Y10)","v":1},{"$f":"Z10/(AB4-Z8)","v":0.1},{"$f":"IF(AA10=0,0,(AA10*((LOG(AA10))/LOG(2))))","v":-0.33219280948873625},null,{"$f":"N10","v":22},{"$f":"COUNTIF(L29:L38,AD10)","v":1},{"$f":"AE10/(AG4-AE8)","v":0.16666666666666666},{"$f":"IF(AF10=0,0,(AF10*((LOG(AF10))/LOG(2))))","v":-0.43082708345352599},null,{"$f":"N10","v":22},{"$f":"COUNTIF(L39:L49,AI10)","v":2},{"$f":"AJ10/(AL4-AJ8)","v":0.25},{"$f":"IF(AK10=0,0,(AK10*((LOG(AK10))/LOG(2))))","v":-0.5},null,{"$f":"N10","v":22},{"$f":"COUNTIF(L50:L60,AN10)","v":1},{"$f":"AO10/(AQ4-AO8)","v":0.14285714285714285},{"$f":"IF(AP10=0,0,(AP10*((LOG(AP10))/LOG(2))))","v":-0.40105070315108626},null,{"$f":"N10","v":22},{"$f":"COUNTIF(L61:L71,AS10)","v":0},{"$f":"AT10/(AV4-AT8)","v":0},{"$f":"IF(AU10=0,0,(AU10*((LOG(AU10))/LOG(2))))","v":0}]
[11,501,12,510,null,null,null,null,null,null,0,11,null,null,null,null,null,null,null,{"$f":"N11","v":0},{"$f":"COUNTIF(L7:L17,T11)","v":0},{"$f":"U11/(W4-U8)","v":0},{"$f":"IF(V11=0,0,(V11*((LOG(V11))/LOG(2))))","v":0},null,{"$f":"N11","v":0},{"$f":"COUNTIF(L18:L28,Y11)","v":0},{"$f":"Z11/(AB4-Z8)","v":0},{"$f":"IF(AA11=0,0,(AA11*((LOG(AA11))/LOG(2))))","v":0},null,{"$f":"N11","v":0},{"$f":"COUNTIF(L29:L38,AD11)","v":0},{"$f":"AE11/(AG4-AE8)","v":0},{"$f":"IF(AF11=0,0,(AF11*((LOG(AF11))/LOG(2))))","v":0},null,{"$f":"N11","v":0},{"$f":"COUNTIF(L39:L49,AI11)","v":0},{"$f":"AJ11/(AL4-AJ8)","v":0},{"$f":"IF(AK11=0,0,(AK11*((LOG(AK11))/LOG(2))))","v":0},null,{"$f":"N11","v":0},{"$f":"COUNTIF(L50:L60,AN11)","v":0},{"$f":"AO11/(AQ4-AO8)","v":0},{"$f":"IF(AP11=0,0,(AP11*((LOG(AP11))/LOG(2))))","v":0},null,{"$f":"N11","v":0},{"$f":"COUNTIF(L61:L71,AS11)","v":0},{"$f":"AT11/(AV4-AT8)","v":0},{"$f":"IF(AU11=0,0,(AU11*((LOG(AU11))/LOG(2))))","v":0}]
[11,621,12,636,null,null,null,null,null,null,0,11,null,null,null,null,null,null,null,{"$f":"N12","v":0},{"$f":"COUNTIF(L7:L17,T12)","v":0},{"$f":"U12/(W4-U8)","v":0},{"$f":"IF(V12=0,0,(V12*((LOG(V12))/LOG(2))))","v":0},null,{"$f":"N12","v":0},{"$f":"COUNTIF(L18:L28,Y12)","v":0},{"$f":"Z12/(AB4-Z8)","v":0},{"$f":"IF(AA12=0,0,(AA12*((LOG(AA12))/LOG(2))))","v":0},null,{"$f":"N12","v":0},{"$f":"COUNTIF(L29:L38,AD12)","v":0},{"$f":"AE12/(AG4-AE8)","v":0},{"$f":"IF(AF12=0,0,(AF12*((LOG(AF12))/LOG(2))))","v":0},null,{"$f":"N12","v":0},{"$f":"COUNTIF(L39:L49,AI12)","v":0},{"$f":"AJ12/(AL4-AJ8)","v":0},{"$f":"IF(AK12=0,0,(AK12*((LOG(AK12))/LOG(2))))","v":0},null,{"$f":"N12","v":0},{"$f":"COUNTIF(L50:L60,AN12)","v":0},{"$f":"AO12/(AQ4-AO8)","v":0},{"$f":"IF(AP12=0,0,(AP12*((LOG(AP12))/LOG(2))))","v":0},null,{"$f":"N12","v":0},{"$f":"COUNTIF(L61:L71,AS12)","v":0},{"$f":"AT12/(AV4-AT8)","v":0},{"$f":"IF(AU12=0,0,(AU12*((LOG(AU12))/LOG(2))))","v":0}]
[11,736,12,741,null,null,null,null,null,null,0,11,null,null,null,null,null,null,null,{"$f":"N13","v":0},{"$f":"COUNTIF(L7:L17,T13)","v":0},{"$f":"U13/(W4-U8)","v":0},{"$f":"IF(V13=0,0,(V13*((LOG(V13))/LOG(2))))","v":0},null,{"$f":"N13","v":0},{"$f":"COUNTIF(L18:L28,Y13)","v":0},{"$f":"Z13/(AB4-Z8)","v":0},{"$f":"IF(AA13=0,0,(AA13*((LOG(AA13))/LOG(2))))","v":0},null,{"$f":"N13","v":0},{"$f":"COUNTIF(L29:L38,AD13)","v":0},{"$f":"AE13/(AG4-AE8)","v":0},{"$f":"IF(AF13=0,0,(AF13*((LOG(AF13))/LOG(2))))","v":0},null,{"$f":"N13","v":0},{"$f":"COUNTIF(L39:L49,AI13)","v":0},{"$f":"AJ13/(AL4-AJ8)","v":0},{"$f":"IF(AK13=0,0,(AK13*((LOG(AK13))/LOG(2))))","v":0},null,{"$f":"N13","v":0},{"$f":"COUNTIF(L50:L60,AN13)","v":0},{"$f":"AO13/(AQ4-AO8)","v":0},{"$f":"IF(AP13=0,0,(AP13*((LOG(AP13))/LOG(2))))","v":0},null,{"$f":"N13","v":0},{"$f":"COUNTIF(L61:L71,AS13)","v":0},{"$f":"AT13/(AV4-AT8)","v":0},{"$f":"IF(AU13=0,0,(AU13*((LOG(AU13))/LOG(2))))","v":0}]
[11,848,21,864,null,null,null,null,null,null,0,12,null,null,null,null,null,null,null,{"$f":"N14","v":0},{"$f":"COUNTIF(L7:L17,T14)","v":0},{"$f":"U14/(W4-U8)","v":0},{"$f":"IF(V14=0,0,(V14*((LOG(V14))/LOG(2))))","v":0},null,{"$f":"N14","v":0},{"$f":"COUNTIF(L18:L28,Y14)","v":0},{"$f":"Z14/(AB4-Z8)","v":0},{"$f":"IF(AA14=0,0,(AA14*((LOG(AA14))/LOG(2))))","v":0},null,{"$f":"N14","v":0},{"$f":"COUNTIF(L29:L38,AD14)","v":0},{"$f":"AE14/(AG4-AE8)","v":0},{"$f":"IF(AF14=0,0,(AF14*((LOG(AF14))/LOG(2))))","v":0},null,{"$f":"N14","v":0},{"$f":"COUNTIF(L39:L49,AI14)","v":0},{"$f":"AJ14/(AL4-AJ8)","v":0},{"$f":"IF(AK14=0,0,(AK14*((LOG(AK14))/LOG(2))))","v":0},null,{"$f":"N14","v":0},{"$f":"COUNTIF(L50:L60,AN14)","v":0},{"$f":"AO14/(AQ4-AO8)","v":0},{"$f":"IF(AP14=0,0,(AP14*((LOG(AP14))/LOG(2))))","v":0},null,{"$f":"N14","v":0},{"$f":"COUNTIF(L61:L71,AS14)","v":0},{"$f":"AT14/(AV4-AT8)","v":0},{"$f":"IF(AU14=0,0,(AU14*((LOG(AU14))/LOG(2))))","v":0}]
[11,966,12,976,null,null,null,null,null,null,0,11,null,null,null,{"$f":"SUM(P7:P14)","v":1},{"$f":"-SUM(Q7:Q14)","v":1.5601031398557623},null,null,null,null,{"$f":"SUM(V7:V14)","v":1},{"$f":"-SUM(W7:W14)","v":0},null,null,null,{"$f":"SUM(AA7:AA14)","v":0.99999999999999989},{"$f":"-SUM(AB7:AB14)","v":1.1567796494470395},null,null,null,{"$f":"SUM(AF7:AF14)","v":0.99999999999999989},{"$f":"-SUM(AG7:AG14)","v":1.2516291673878228},null,null,null,{"$f":"SUM(AK7:AK14)","v":1},{"$f":"-SUM(AL7:AL14)","v":1.5},null,null,null,{"$f":"SUM(AP7:AP14)","v":1},{"$f":"-SUM(AQ7:AQ14)","v":0.59167277858232736},null,null,null,{"$f":"SUM(AU7:AU14)","v":1},{"$f":"-SUM(AV7:AV14)","v":0}]
[11,1100,21,1139,null,null,null,null,null,null,0,12,null,null,null,"U=",{"$f":"Q15/(LOG(Q4)/LOG(2))","v":0.25905145422714337},null,null,null,null,"U1=",{"$f":"W15/(LOG(W4)/LOG(2))","v":0},null,null,null,"U2=",{"$f":"AB15/(LOG(AB4)/LOG(2))","v":0.33438430845547562},null,null,null,"U3=",{"$f":"AG15/(LOG(AG4)/LOG(2))","v":0.37677792283166872},null,null,null,"U4=",{"$f":"AL15/(LOG(AL4)/LOG(2))","v":0.43359723947683171},null,null,null,"U5=",{"$f":"AQ15/(LOG(AQ4)/LOG(2))","v":0.17103178897792257},null,null,null,"U6=",{"$f":"AV15/(LOG(AV4)/LOG(2))","v":0}]
[11,1240,21,1247,null,null,null,null,null,null,0,12]
[11,1369,12,1379,null,null,null,null,null,null,0,11]
[11,1477,12,1481,null,null,null,null,null,null,0,11,null,"Total Target Seq"]
[11,1614,12,1629,null,null,null,null,null,null,0,11,null,{"$f":"COUNTIF(L7:L71,G3)","v":19},null,11,11,10,11,11,11]
[11,1820,12,1843,null,null,null,null,null,null,0,11,null,null,null,"% of reinforcement given in 6 equal intervals based on number of trials "]
[22,1964,14,1972,null,null,null,null,null,null,0,21,null,null,null,"%_1","%_2","%_3","%_4","%_5","%_6"]
[11,2149,12,2160,null,null,null,null,null,null,0,11,null,null,"target sequence",{"$f":"$G$3","v":12},{"$f":"$G$3","v":12},{"$f":"$G$3","v":12},{"$f":"$G$3","v":12},{"$f":"$G$3","v":12},{"$f":"$G$3","v":12}]
[22,2304,23,2322,null,null,null,null,null,null,0,22,null,null,"total reinforcement",{"$f":"U8","v":6},{"$f":"Z8","v":1},{"$f":"AE8","v":4},{"$f":"AJ8","v":3},{"$f":"AO8","v":4},{"$f":"AT8","v":1}]
[11,2422,12,2567,null,null,null,null,null,null,0,11,null,null,"% target"]
[22,2675,14,2683,null,null,null,null,null,null,0,21,null,null,"CCRF"]
[11,2938,21,2949,null,null,null,null,null,null,0,12,null,null,"% CCRf"]
[11,3066,12,3083,null,null,null,null,null,null,0,11,null,null,"average response rate",{"$f":"D17/P20","v":113.36363636363636},{"$f":"(D28-D17)/Q20","v":166.90909090909091},{"$f":"(D38-D28)/R20","v":189.4},{"$f":"(D49-D38)/S20","v":240.90909090909091},{"$f":"(D60-D49)/T20","v":414.81818181818181},{"$f":"(D71-D60)/U20","v":653.18181818181813}]
[22,3205,14,3213,null,null,null,null,null,null,0,21]
[11,3371,21,3385,null,null,null,null,null,null,0,12]
[22,3539,23,3547,null,null,null,null,null,null,0,22]
[11,3681,12,3688,null,null,null,null,null,null,0,11]
[11,4048,12,4068,null,null,null,null,null,null,0,11]
[11,4246,12,4253,null,null,null,null,null,null,0,11]
[11,4368,21,4383,null,null,null,null,null,null,0,12]
[11,4506,21,4514,null,null,null,null,null,null,0,12]
[11,4724,21,4752,null,null,null,null,null,null,0,12]
[11,4965,12,4977,null,null,null,null,null,null,0,11]
[11,5086,12,5099,null,null,null,null,null,null,0,11]
[11,6158,12,6166,null,null,null,null,null,null,0,11]
[11,6276,21,6296,null,null,null,null,null,null,0,12]
[11,6429,12,6438,null,null,null,null,null,null,0,11]
[11,6559,21,6578,null,null,null,null,null,null,0,12]
[11,6675,12,6694,null,null,null,null,null,null,0,11]
[22,6809,23,6822,null,null,null,null,null,null,0,22]
[22,6974,23,6981,null,null,null,null,null,null,0,22]
[22,7084,14,7091,null,null,null,null,null,null,0,21]
[22,7217,14,7232,null,null,null,null,null,null,0,21]
[11,7601,21,7627,null,null,null,null,null,null,0,12]
[11,7776,21,7787,null,null,null,null,null,null,0,12]
[11,8205,21,8213,null,null,null,null,null,null,0,12]
[11,8322,21,8346,null,null,null,null,null,null,0,12]
[22,8470,23,8477,null,null,null,null,null,null,0,22]
[11,9407,12,9415,null,null,null,null,null,null,0,11]
[11,10098,12,10109,null,null,null,null,null,null,0,11]
[11,10311,12,10318,null,null,null,null,null,null,0,11]
[11,11483,12,11492,null,null,null,null,null,null,0,11]
[11,11622,21,11662,null,null,null,null,null,null,0,12]
[11,11910,12,11923,null,null,null,null,null,null,0,11]
[11,12184,12,12190,null,null,null,null,null,null,0,11]
[11,16252,12,16283,null,null,null,null,null,null,0,11]
[11,16449,12,16458,null,null,null,null,null,null,0,11]
[11,17093,12,17100,null,null,null,null,null,null,0,11]
[11,17343,12,17351,null,null,null,null,null,null,0,11]
[11,17566,12,17575,null,null,null,null,null,null,0,11]
[11,17889,12,17899,null,null,null,null,null,null,0,11]
[11,18070,12,18078,null,null,null,null,null,null,0,11]
[11,18188,21,18252,null,null,null,null,null,null,0,12]
[11,18364,12,18382,null,null,null,null,null,null,0,11]
[11,18630,12,18636,null,null,null,null,null,null,0,11]
[11,19366,12,19375,null,null,null,null,null,null,0,11]

{"sheet":"!N226B00.095","index":25,"n_rows":66,"n_cols":48,"rows_kept":66,"cut":false,"hidden":false,"merged":[[4,39,4,42],[5,39,5,40],[4,44,4,47],[5,44,5,45],[4,24,4,27],[5,24,5,25],[4,29,4,32],[5,29,5,30],[4,34,4,37],[5,34,5,35],[1,1,1,2],[5,13,5,14],[18,13,18,14],[19,13,19,14],[4,19,4,22],[5,19,5,20]]}
["Report for:!N226B00.095"]
["Date:","<date>"]
["Hen:","<hen>",null,null,null,"Correct Sequence",{"$f":"Start!J2","v":12},null,null,null,null,null,null,null,null,"Total Sequences in Data",{"$f":"4994-COUNTBLANK(L7:L5000)","v":60},null,null,null,null,"Total Sequences in Block Data",{"$f":"COUNTA(L7:L16)","v":10},null,null,null,"Total Sequences in Block Data",{"$f":"COUNTA(L17:L26)","v":10},null,null,null,"Total Sequences in Block Data",{"$f":"COUNTA(L27:L36)","v":10},null,null,null,"Total Sequences in Block Data",{"$f":"COUNTA(L37:L46)","v":10},null,null,null,"Total Sequences in Block Data",{"$f":"COUNTA(L47:L56)","v":10},null,null,null,"Total Sequences in Block Data",{"$f":"COUNTA(L57:L66)","v":10}]
[null,null,null,null,null,null,null,null,null,null,null,null,null,null,null,"Total Sequences in Summary",{"$f":"SUM(O7:O14)","v":60},null,null,null,null,"Total Sequences in Block Summary",{"$f":"SUM(U7:U14)","v":10},null,null,null,"Total Sequences in Block Summary",{"$f":"SUM(Z7:Z14)","v":10},null,null,null,"Total Sequences in Block Summary",{"$f":"SUM(AE7:AE14)","v":10},null,null,null,"Total Sequences in Block Summary",{"$f":"SUM(AJ7:AJ14)","v":10},null,null,null,"Total Sequences in Block Summary",{"$f":"SUM(AO7:AO14)","v":10},null,null,null,"Total Sequences in Block Summary",{"$f":"SUM(AT7:AT14)","v":10}]
[null,null,null,null,null,null,null,null,null,null,null,null,null,null,null,null,null,null,null,"Block 1",null,null,null,null,"Block 2",null,null,null,null,"Block 3",null,null,null,null,"Block 4",null,null,null,null,"Block 5",null,null,null,null,"Block 6"]
["Sequence\nComponent\n1","Time\n1","Sequence\nComponent\n2","Time\n2","Sequence\nComponent\n3","Time\n3","Sequence\nComponent\n4","Time\n4","Sequence\nComponent\n5","Time\n5","Correct?\n0=No 1=Yes","Sequence",null,"Frequency",null,"Relative Frequency","Variability",null,null,"Frequency",null,"Relative Frequency","Variability",null,"Frequency",null,"Relative Frequency","Variability",null,"Frequency",null,"Relative Frequency","Variability",null,"Frequency",null,"Relative Frequency","Variability",null,"Frequency",null,"Relative Frequency","Variability",null,"Frequency",null,"Relative Frequency","Variability"]
[11,11,21,19,null,null,null,null,null,null,0,12,null,11,{"$f":"COUNTIF($L$7:$L$500,N7)","v":13},{"$f":"O7/$Q$4","v":0.21666666666666667},{"$f":"IF(P7=0,0,(P7*((LOG(P7))/LOG(2))))","v":-0.47806435678460901},null,null,{"$f":"N7","v":11},{"$f":"COUNTIF(L7:L16,T7)","v":6},{"$f":"U7/(W4-U8)","v":0.8571428571428571},{"$f":"IF(V7=0,0,(V7*((LOG(V7))/LOG(2))))","v":-0.19062207543124113},null,{"$f":"N7","v":11},{"$f":"COUNTIF(L17:L26,Y7)","v":5},{"$f":"Z7/(AB4-Z8)","v":0.7142857142857143},{"$f":"IF(AA7=0,0,(AA7*((LOG(AA7))/LOG(2))))","v":-0.34673344797874411},null,{"$f":"N7","v":11},{"$f":"COUNTIF(L27:L36,AD7)","v":0},{"$f":"AE7/(AG4-AE8)","v":0},{"$f":"IF(AF7=0,0,(AF7*((LOG(AF7))/LOG(2))))","v":0},null,{"$f":"N7","v":11},{"$f":"COUNTIF(L37:L46,AI7)","v":1},{"$f":"AJ7/(AL4-AJ8)","v":0.33333333333333331},{"$f":"IF(AK7=0,0,(AK7*((LOG(AK7))/LOG(2))))","v":-0.52832083357371862},null,{"$f":"N7","v":11},{"$f":"COUNTIF(L47:L56,AN7)","v":1},{"$f":"AO7/(AQ4-AO8)","v":0.5},{"$f":"IF(AP7=0,0,(AP7*((LOG(AP7))/LOG(2))))","v":-0.5},null,{"$f":"N7","v":11},{"$f":"COUNTIF(L57:L66,AS7)","v":0},{"$f":"AT7/(AV4-AT8)","v":{"$error":"#DIV/0!"}},{"$f":"IF(AU7=0,0,(AU7*((LOG(AU7))/LOG(2))))","v":{"$error":"#DIV/0!"}}]
[11,120,21,131,null,null,null,null,null,null,0,12,null,12,{"$f":"COUNTIF($L$7:$L$500,N8)","v":38},{"$f":"O8/$Q$4","v":0.6333333333333333},{"$f":"IF(P8=0,0,(P8*((LOG(P8))/LOG(2))))","v":-0.41734328537112425},null,null,{"$f":"N8","v":12},{"$f":"COUNTIF(L7:L16,T8)","v":3},null,null,null,{"$f":"N8","v":12},{"$f":"COUNTIF(L17:L26,Y8)","v":3},null,null,null,{"$f":"N8","v":12},{"$f":"COUNTIF(L27:L36,AD8)","v":7},null,null,null,{"$f":"N8","v":12},{"$f":"COUNTIF(L37:L46,AI8)","v":7},null,null,null,{"$f":"N8","v":12},{"$f":"COUNTIF(L47:L56,AN8)","v":8},null,null,null,{"$f":"N8","v":12},{"$f":"COUNTIF(L57:L66,AS8)","v":10}]
[11,232,12,241,null,null,null,null,null,null,0,11,null,21,{"$f":"COUNTIF($L$7:$L$500,N9)","v":4},{"$f":"O9/$Q$4","v":6.6666666666666666E-2},{"$f":"IF(P9=0,0,(P9*((LOG(P9))/LOG(2))))","v":-0.26045937304056793},null,null,{"$f":"N9","v":21},{"$f":"COUNTIF(L7:L16,T9)","v":0},{"$f":"U9/(W4-U8)","v":0},{"$f":"IF(V9=0,0,(V9*((LOG(V9))/LOG(2))))","v":0},null,{"$f":"N9","v":21},{"$f":"COUNTIF(L17:L26,Y9)","v":1},{"$f":"Z9/(AB4-Z8)","v":0.14285714285714285},{"$f":"IF(AA9=0,0,(AA9*((LOG(AA9))/LOG(2))))","v":-0.40105070315108626},null,{"$f":"N9","v":21},{"$f":"COUNTIF(L27:L36,AD9)","v":1},{"$f":"AE9/(AG4-AE8)","v":0.33333333333333331},{"$f":"IF(AF9=0,0,(AF9*((LOG(AF9))/LOG(2))))","v":-0.52832083357371862},null,{"$f":"N9","v":21},{"$f":"COUNTIF(L37:L46,AI9)","v":1},{"$f":"AJ9/(AL4-AJ8)","v":0.33333333333333331},{"$f":"IF(AK9=0,0,(AK9*((LOG(AK9))/LOG(2))))","v":-0.52832083357371862},null,{"$f":"N9","v":21},{"$f":"COUNTIF(L47:L56,AN9)","v":1},{"$f":"AO9/(AQ4-AO8)","v":0.5},{"$f":"IF(AP9=0,0,(AP9*((LOG(AP9))/LOG(2))))","v":-0.5},null,{"$f":"N9","v":21},{"$f":"COUNTIF(L57:L66,AS9)","v":0},{"$f":"AT9/(AV4-AT8)","v":{"$error":"#DIV/0!"}},{"$f":"IF(AU9=0,0,(AU9*((LOG(AU9))/LOG(2))))","v":{"$error":"#DIV/0!"}}]
[11,352,12,362,null,null,null,null,null,null,0,11,null,22,{"$f":"COUNTIF($L$7:$L$500,N10)","v":5},{"$f":"O10/$Q$4","v":8.3333333333333329E-2},{"$f":"IF(P10=0,0,(P10*((LOG(P10))/LOG(2))))","v":-0.29874687506009634},null,null,{"$f":"N10","v":22},{"$f":"COUNTIF(L7:L16,T10)","v":1},{"$f":"U10/(W4-U8)","v":0.14285714285714285},{"$f":"IF(V10=0,0,(V10*((LOG(V10))/LOG(2))))","v":-0.40105070315108626},null,{"$f":"N10","v":22},{"$f":"COUNTIF(L17:L26,Y10)","v":1},{"$f":"Z10/(AB4-Z8)","v":0.14285714285714285},{"$f":"IF(AA10=0,0,(AA10*((LOG(AA10))/LOG(2))))","v":-0.40105070315108626},null,{"$f":"N10","v":22},{"$f":"COUNTIF(L27:L36,AD10)","v":2},{"$f":"AE10/(AG4-AE8)","v":0.66666666666666663},{"$f":"IF(AF10=0,0,(AF10*((LOG(AF10))/LOG(2))))","v":-0.38997500048077083},null,{"$f":"N10","v":22},{"$f":"COUNTIF(L37:L46,AI10)","v":1},{"$f":"AJ10/(AL4-AJ8)","v":0.33333333333333331},{"$f":"IF(AK10=0,0,(AK10*((LOG(AK10))/LOG(2))))","v":-0.52832083357371862},null,{"$f":"N10","v":22},{"$f":"COUNTIF(L47:L56,AN10)","v":0},{"$f":"AO10/(AQ4-AO8)","v":0},{"$f":"IF(AP10=0,0,(AP10*((LOG(AP10))/LOG(2))))","v":0},null,{"$f":"N10","v":22},{"$f":"COUNTIF(L57:L66,AS10)","v":0},{"$f":"AT10/(AV4-AT8)","v":{"$error":"#DIV/0!"}},{"$f":"IF(AU10=0,0,(AU10*((LOG(AU10))/LOG(2))))","v":{"$error":"#DIV/0!"}}]
[11,466,12,473,null,null,null,null,null,null,0,11,null,null,null,null,null,null,null,{"$f":"N11","v":0},{"$f":"COUNTIF(L7:L16,T11)","v":0},{"$f":"U11/(W4-U8)","v":0},{"$f":"IF(V11=0,0,(V11*((LOG(V11))/LOG(2))))","v":0},null,{"$f":"N11","v":0},{"$f":"COUNTIF(L17:L26,Y11)","v":0},{"$f":"Z11/(AB4-Z8)","v":0},{"$f":"IF(AA11=0,0,(AA11*((LOG(AA11))/LOG(2))))","v":0},null,{"$f":"N11","v":0},{"$f":"COUNTIF(L27:L36,AD11)","v":0},{"$f":"AE11/(AG4-AE8)","v":0},{"$f":"IF(AF11=0,0,(AF11*((LOG(AF11))/LOG(2))))","v":0},null,{"$f":"N11","v":0},{"$f":"COUNTIF(L37:L46,AI11)","v":0},{"$f":"AJ11/(AL4-AJ8)","v":0},{"$f":"IF(AK11=0,0,(AK11*((LOG(AK11))/LOG(2))))","v":0},null,{"$f":"N11","v":0},{"$f":"COUNTIF(L47:L56,AN11)","v":0},{"$f":"AO11/(AQ4-AO8)","v":0},{"$f":"IF(AP11=0,0,(AP11*((LOG(AP11))/LOG(2))))","v":0},null,{"$f":"N11","v":0},{"$f":"COUNTIF(L57:L66,AS11)","v":0},{"$f":"AT11/(AV4-AT8)","v":{"$error":"#DIV/0!"}},{"$f":"IF(AU11=0,0,(AU11*((LOG(AU11))/LOG(2))))","v":{"$error":"#DIV/0!"}}]
[22,583,23,591,null,null,null,null,null,null,0,22,null,null,null,null,null,null,null,{"$f":"N12","v":0},{"$f":"COUNTIF(L7:L16,T12)","v":0},{"$f":"U12/(W4-U8)","v":0},{"$f":"IF(V12=0,0,(V12*((LOG(V12))/LOG(2))))","v":0},null,{"$f":"N12","v":0},{"$f":"COUNTIF(L17:L26,Y12)","v":0},{"$f":"Z12/(AB4-Z8)","v":0},{"$f":"IF(AA12=0,0,(AA12*((LOG(AA12))/LOG(2))))","v":0},null,{"$f":"N12","v":0},{"$f":"COUNTIF(L27:L36,AD12)","v":0},{"$f":"AE12/(AG4-AE8)","v":0},{"$f":"IF(AF12=0,0,(AF12*((LOG(AF12))/LOG(2))))","v":0},null,{"$f":"N12","v":0},{"$f":"COUNTIF(L37:L46,AI12)","v":0},{"$f":"AJ12/(AL4-AJ8)","v":0},{"$f":"IF(AK12=0,0,(AK12*((LOG(AK12))/LOG(2))))","v":0},null,{"$f":"N12","v":0},{"$f":"COUNTIF(L47:L56,AN12)","v":0},{"$f":"AO12/(AQ4-AO8)","v":0},{"$f":"IF(AP12=0,0,(AP12*((LOG(AP12))/LOG(2))))","v":0},null,{"$f":"N12","v":0},{"$f":"COUNTIF(L57:L66,AS12)","v":0},{"$f":"AT12/(AV4-AT8)","v":{"$error":"#DIV/0!"}},{"$f":"IF(AU12=0,0,(AU12*((LOG(AU12))/LOG(2))))","v":{"$error":"#DIV/0!"}}]
[11,695,12,702,null,null,null,null,null,null,0,11,null,null,null,null,null,null,null,{"$f":"N13","v":0},{"$f":"COUNTIF(L7:L16,T13)","v":0},{"$f":"U13/(W4-U8)","v":0},{"$f":"IF(V13=0,0,(V13*((LOG(V13))/LOG(2))))","v":0},null,{"$f":"N13","v":0},{"$f":"COUNTIF(L17:L26,Y13)","v":0},{"$f":"Z13/(AB4-Z8)","v":0},{"$f":"IF(AA13=0,0,(AA13*((LOG(AA13))/LOG(2))))","v":0},null,{"$f":"N13","v":0},{"$f":"COUNTIF(L27:L36,AD13)","v":0},{"$f":"AE13/(AG4-AE8)","v":0},{"$f":"IF(AF13=0,0,(AF13*((LOG(AF13))/LOG(2))))","v":0},null,{"$f":"N13","v":0},{"$f":"COUNTIF(L37:L46,AI13)","v":0},{"$f":"AJ13/(AL4-AJ8)","v":0},{"$f":"IF(AK13=0,0,(AK13*((LOG(AK13))/LOG(2))))","v":0},null,{"$f":"N13","v":0},{"$f":"COUNTIF(L47:L56,AN13)","v":0},{"$f":"AO13/(AQ4-AO8)","v":0},{"$f":"IF(AP13=0,0,(AP13*((LOG(AP13))/LOG(2))))","v":0},null,{"$f":"N13","v":0},{"$f":"COUNTIF(L57:L66,AS13)","v":0},{"$f":"AT13/(AV4-AT8)","v":{"$error":"#DIV/0!"}},{"$f":"IF(AU13=0,0,(AU13*((LOG(AU13))/LOG(2))))","v":{"$error":"#DIV/0!"}}]
[11,810,21,833,null,null,null,null,null,null,0,12,null,null,null,null,null,null,null,{"$f":"N14","v":0},{"$f":"COUNTIF(L7:L16,T14)","v":0},{"$f":"U14/(W4-U8)","v":0},{"$f":"IF(V14=0,0,(V14*((LOG(V14))/LOG(2))))","v":0},null,{"$f":"N14","v":0},{"$f":"COUNTIF(L17:L26,Y14)","v":0},{"$f":"Z14/(AB4-Z8)","v":0},{"$f":"IF(AA14=0,0,(AA14*((LOG(AA14))/LOG(2))))","v":0},null,{"$f":"N14","v":0},{"$f":"COUNTIF(L27:L36,AD14)","v":0},{"$f":"AE14/(AG4-AE8)","v":0},{"$f":"IF(AF14=0,0,(AF14*((LOG(AF14))/LOG(2))))","v":0},null,{"$f":"N14","v":0},{"$f":"COUNTIF(L37:L46,AI14)","v":0},{"$f":"AJ14/(AL4-AJ8)","v":0},{"$f":"IF(AK14=0,0,(AK14*((LOG(AK14))/LOG(2))))","v":0},null,{"$f":"N14","v":0},{"$f":"COUNTIF(L47:L56,AN14)","v":0},{"$f":"AO14/(AQ4-AO8)","v":0},{"$f":"IF(AP14=0,0,(AP14*((LOG(AP14))/LOG(2))))","v":0},null,{"$f":"N14","v":0},{"$f":"COUNTIF(L57:L66,AS14)","v":0},{"$f":"AT14/(AV4-AT8)","v":{"$error":"#DIV/0!"}},{"$f":"IF(AU14=0,0,(AU14*((LOG(AU14))/LOG(2))))","v":{"$error":"#DIV/0!"}}]
[11,929,12,935,null,null,null,null,null,null,0,11,null,null,null,{"$f":"SUM(P7:P14)","v":1},{"$f":"-SUM(Q7:Q14)","v":1.4546138902563976},null,null,null,null,{"$f":"SUM(V7:V14)","v":1},{"$f":"-SUM(W7:W14)","v":0.59167277858232736},null,null,null,{"$f":"SUM(AA7:AA14)","v":1},{"$f":"-SUM(AB7:AB14)","v":1.1488348542809166},null,null,null,{"$f":"SUM(AF7:AF14)","v":1},{"$f":"-SUM(AG7:AG14)","v":0.91829583405448945},null,null,null,{"$f":"SUM(AK7:AK14)","v":1},{"$f":"-SUM(AL7:AL14)","v":1.5849625007211559},null,null,null,{"$f":"SUM(AP7:AP14)","v":1},{"$f":"-SUM(AQ7:AQ14)","v":1},null,null,null,{"$f":"SUM(AU7:AU14)","v":{"$error":"#DIV/0!"}},{"$f":"-SUM(AV7:AV14)","v":{"$error":"#DIV/0!"}}]
[11,1036,12,1044,null,null,null,null,null,null,0,11,null,null,null,"U=",{"$f":"Q15/(LOG(Q4)/LOG(2))","v":0.24625712406758155},null,null,null,null,"U1=",{"$f":"W15/(LOG(W4)/LOG(2))","v":0.17811125397113373},null,null,null,"U2=",{"$f":"AB15/(LOG(AB4)/LOG(2))","v":0.34583375120281479},null,null,null,"U3=",{"$f":"AG15/(LOG(AG4)/LOG(2))","v":0.27643459094367495},null,null,null,"U4=",{"$f":"AL15/(LOG(AL4)/LOG(2))","v":0.47712125471966238},null,null,null,"U5=",{"$f":"AQ15/(LOG(AQ4)/LOG(2))","v":0.3010299956639812},null,null,null,"U6=",{"$f":"AV15/(LOG(AV4)/LOG(2))","v":{"$error":"#DIV/0!"}}]
[11,1152,21,1189,null,null,null,null,null,null,0,12]
[22,1286,14,1292,null,null,null,null,null,null,0,21]
[11,1392,21,1403,null,null,null,null,null,null,0,12,null,"Total Target Seq"]
[11,1497,12,1518,null,null,null,null,null,null,0,11,null,{"$f":"COUNTIF(L7:L66,G3)","v":38},null,10,10,10,10,10,10]
[11,1621,12,1626,null,null,null,null,null,null,0,11,null,null,null,"% of reinforcement given in 6 equal intervals based on number of trials "]
[11,1730,21,1752,null,null,null,null,null,null,0,12,null,null,null,"%_1","%_2","%_3","%_4","%_5","%_6"]
[11,1848,12,1856,null,null,null,null,null,null,0,11,null,null,"target sequence",{"$f":"$G$3","v":12},{"$f":"$G$3","v":12},{"$f":"$G$3","v":12},{"$f":"$G$3","v":12},{"$f":"$G$3","v":12},{"$f":"$G$3","v":12}]
[11,1963,12,1970,null,null,null,null,null,null,0,11,null,null,"total reinforcement",{"$f":"U8","v":3},{"$f":"Z8","v":3},{"$f":"AE8","v":7},{"$f":"AJ8","v":7},{"$f":"AO8","v":8},{"$f":"AT8","v":10}]
[11,2073,12,2080,null,null,null,null,null,null,0,11,null,null,"% target"]
[22,2190,23,2198,null,null,null,null,null,null,0,22,null,null,"CCRF"]
[22,2309,23,2316,null,null,null,null,null,null,0,22,null,null,"% CCRf"]
[11,2427,21,2437,null,null,null,null,null,null,0,12,null,null,"average response rate",{"$f":"D16/P20","v":104.4},{"$f":"(D26-D16)/Q20","v":115.4},{"$f":"(D36-D26)/R20","v":133.4},{"$f":"(D46-D36)/S20","v":115.7},{"$f":"(D56-D46)/T20","v":125.6},{"$f":"(D66-D56)/U20","v":150.9}]
[11,2532,21,2544,null,null,null,null,null,null,0,12]
[22,2651,14,2658,null,null,null,null,null,null,0,21]
[11,2758,21,2766,null,null,null,null,null,null,0,12]
[11,2864,21,2891,null,null,null,null,null,null,0,12]
[11,2985,21,2996,null,null,null,null,null,null,0,12]
[11,3097,21,3179,null,null,null,null,null,null,0,12]
[11,3410,21,3418,null,null,null,null,null,null,0,12]
[22,3524,23,3532,null,null,null,null,null,null,0,22]
[11,3636,21,3643,null,null,null,null,null,null,0,12]
[11,3750,21,3762,null,null,null,null,null,null,0,12]
[11,3858,21,3865,null,null,null,null,null,null,0,12]
[11,3963,21,3989,null,null,null,null,null,null,0,12]
[11,4085,12,4096,null,null,null,null,null,null,0,11]
[22,4202,23,4216,null,null,null,null,null,null,0,22]
[11,4318,21,4326,null,null,null,null,null,null,0,12]
[22,4444,14,4456,null,null,null,null,null,null,0,21]
[11,4558,21,4577,null,null,null,null,null,null,0,12]
[11,4678,21,4689,null,null,null,null,null,null,0,12]
[11,4783,21,4794,null,null,null,null,null,null,0,12]
[11,4886,12,4898,null,null,null,null,null,null,0,11]
[11,5002,21,5025,null,null,null,null,null,null,0,12]
[11,5122,21,5147,null,null,null,null,null,null,0,12]
[11,5249,21,5282,null,null,null,null,null,null,0,12]
[22,5388,14,5396,null,null,null,null,null,null,0,21]
[11,5500,21,5525,null,null,null,null,null,null,0,12]
[11,5625,21,5633,null,null,null,null,null,null,0,12]
[11,5733,21,5761,null,null,null,null,null,null,0,12]
[11,5934,21,5945,null,null,null,null,null,null,0,12]
[11,6045,21,6053,null,null,null,null,null,null,0,12]
[11,6162,21,6189,null,null,null,null,null,null,0,12]
[11,6293,21,6300,null,null,null,null,null,null,0,12]
[11,6396,21,6410,null,null,null,null,null,null,0,12]
[11,6511,21,6527,null,null,null,null,null,null,0,12]
[11,6623,21,6639,null,null,null,null,null,null,0,12]
[11,6748,21,6762,null,null,null,null,null,null,0,12]
[11,7092,21,7100,null,null,null,null,null,null,0,12]
[11,7231,21,7242,null,null,null,null,null,null,0,12]
[11,7441,21,7454,null,null,null,null,null,null,1,12]

{"sheet":"!N227A30.095","index":26,"n_rows":87,"n_cols":48,"rows_kept":87,"cut":false,"hidden":false,"merged":[[4,39,4,42],[5,39,5,40],[4,44,4,47],[5,44,5,45],[4,24,4,27],[5,24,5,25],[4,29,4,32],[5,29,5,30],[4,34,4,37],[5,34,5,35],[1,1,1,2],[5,13,5,14],[18,13,18,14],[19,13,19,14],[4,19,4,22],[5,19,5,20]]}
["Report for:!N227A30.095"]
["Date:","<date>"]
["Hen:","<hen>",null,null,null,"Correct Sequence",{"$f":"Start!J2","v":12},null,null,null,null,null,null,null,null,"Total Sequences in Data",{"$f":"4994-COUNTBLANK(L7:L5000)","v":81},null,null,null,null,"Total Sequences in Block Data",{"$f":"COUNTA(L7:L20)","v":14},null,null,null,"Total Sequences in Block Data",{"$f":"COUNTA(L21:L33)","v":13},null,null,null,"Total Sequences in Block Data",{"$f":"COUNTA(L34:L47)","v":14},null,null,null,"Total Sequences in Block Data",{"$f":"COUNTA(L48:L60)","v":13},null,null,null,"Total Sequences in Block Data",{"$f":"COUNTA(L61:L74)","v":14},null,null,null,"Total Sequences in Block Data",{"$f":"COUNTA(L75:L87)","v":13}]
[null,null,null,null,null,null,null,null,null,null,null,null,null,null,null,"Total Sequences in Summary",{"$f":"SUM(O7:O14)","v":81},null,null,null,null,"Total Sequences in Block Summary",{"$f":"SUM(U7:U14)","v":14},null,null,null,"Total Sequences in Block Summary",{"$f":"SUM(Z7:Z14)","v":13},null,null,null,"Total Sequences in Block Summary",{"$f":"SUM(AE7:AE14)","v":14},null,null,null,"Total Sequences in Block Summary",{"$f":"SUM(AJ7:AJ14)","v":13},null,null,null,"Total Sequences in Block Summary",{"$f":"SUM(AO7:AO14)","v":14},null,null,null,"Total Sequences in Block Summary",{"$f":"SUM(AT7:AT14)","v":13}]
[null,null,null,null,null,null,null,null,null,null,null,null,null,null,null,null,null,null,null,"Block 1",null,null,null,null,"Block 2",null,null,null,null,"Block 3",null,null,null,null,"Block 4",null,null,null,null,"Block 5",null,null,null,null,"Block 6"]
["Sequence\nComponent\n1","Time\n1","Sequence\nComponent\n2","Time\n2","Sequence\nComponent\n3","Time\n3","Sequence\nComponent\n4","Time\n4","Sequence\nComponent\n5","Time\n5","Correct?\n0=No 1=Yes","Sequence",null,"Frequency",null,"Relative Frequency","Variability",null,null,"Frequency",null,"Relative Frequency","Variability",null,"Frequency",null,"Relative Frequency","Variability",null,"Frequency",null,"Relative Frequency","Variability",null,"Frequency",null,"Relative Frequency","Variability",null,"Frequency",null,"Relative Frequency","Variability",null,"Frequency",null,"Relative Frequency","Variability"]
[11,34,21,75,null,null,null,null,null,null,0,12,null,11,{"$f":"COUNTIF($L$7:$L$500,N7)","v":48},{"$f":"O7/$Q$4","v":0.59259259259259256},{"$f":"IF(P7=0,0,(P7*((LOG(P7))/LOG(2))))","v":-0.44734074202279617},null,null,{"$f":"N7","v":11},{"$f":"COUNTIF(L7:L20,T7)","v":3},{"$f":"U7/(W4-U8)","v":0.6},{"$f":"IF(V7=0,0,(V7*((LOG(V7))/LOG(2))))","v":-0.44217935649972373},null,{"$f":"N7","v":11},{"$f":"COUNTIF(L21:L33,Y7)","v":2},{"$f":"Z7/(AB4-Z8)","v":0.33333333333333331},{"$f":"IF(AA7=0,0,(AA7*((LOG(AA7))/LOG(2))))","v":-0.52832083357371862},null,{"$f":"N7","v":11},{"$f":"COUNTIF(L34:L47,AD7)","v":5},{"$f":"AE7/(AG4-AE8)","v":0.625},{"$f":"IF(AF7=0,0,(AF7*((LOG(AF7))/LOG(2))))","v":-0.42379494069539858},null,{"$f":"N7","v":11},{"$f":"COUNTIF(L48:L60,AI7)","v":12},{"$f":"AJ7/(AL4-AJ8)","v":1},{"$f":"IF(AK7=0,0,(AK7*((LOG(AK7))/LOG(2))))","v":0},null,{"$f":"N7","v":11},{"$f":"COUNTIF(L61:L74,AN7)","v":13},{"$f":"AO7/(AQ4-AO8)","v":1},{"$f":"IF(AP7=0,0,(AP7*((LOG(AP7))/LOG(2))))","v":0},null,{"$f":"N7","v":11},{"$f":"COUNTIF(L75:L87,AS7)","v":13},{"$f":"AT7/(AV4-AT8)","v":1},{"$f":"IF(AU7=0,0,(AU7*((LOG(AU7))/LOG(2))))","v":0}]
[22,174,14,181,null,null,null,null,null,null,0,21,null,12,{"$f":"COUNTIF($L$7:$L$500,N8)","v":24},{"$f":"O8/$Q$4","v":0.29629629629629628},{"$f":"IF(P8=0,0,(P8*((LOG(P8))/LOG(2))))","v":-0.51996666730769436},null,null,{"$f":"N8","v":12},{"$f":"COUNTIF(L7:L20,T8)","v":9},null,null,null,{"$f":"N8","v":12},{"$f":"COUNTIF(L21:L33,Y8)","v":7},null,null,null,{"$f":"N8","v":12},{"$f":"COUNTIF(L34:L47,AD8)","v":6},null,null,null,{"$f":"N8","v":12},{"$f":"COUNTIF(L48:L60,AI8)","v":1},null,null,null,{"$f":"N8","v":12},{"$f":"COUNTIF(L61:L74,AN8)","v":1},null,null,null,{"$f":"N8","v":12},{"$f":"COUNTIF(L75:L87,AS8)","v":0}]
[11,288,21,300,null,null,null,null,null,null,0,12,null,21,{"$f":"COUNTIF($L$7:$L$500,N9)","v":2},{"$f":"O9/$Q$4","v":2.4691358024691357E-2},{"$f":"IF(P9=0,0,(P9*((LOG(P9))/LOG(2))))","v":-0.13184814821937343},null,null,{"$f":"N9","v":21},{"$f":"COUNTIF(L7:L20,T9)","v":1},{"$f":"U9/(W4-U8)","v":0.2},{"$f":"IF(V9=0,0,(V9*((LOG(V9))/LOG(2))))","v":-0.46438561897747244},null,{"$f":"N9","v":21},{"$f":"COUNTIF(L21:L33,Y9)","v":0},{"$f":"Z9/(AB4-Z8)","v":0},{"$f":"IF(AA9=0,0,(AA9*((LOG(AA9))/LOG(2))))","v":0},null,{"$f":"N9","v":21},{"$f":"COUNTIF(L34:L47,AD9)","v":1},{"$f":"AE9/(AG4-AE8)","v":0.125},{"$f":"IF(AF9=0,0,(AF9*((LOG(AF9))/LOG(2))))","v":-0.375},null,{"$f":"N9","v":21},{"$f":"COUNTIF(L48:L60,AI9)","v":0},{"$f":"AJ9/(AL4-AJ8)","v":0},{"$f":"IF(AK9=0,0,(AK9*((LOG(AK9))/LOG(2))))","v":0},null,{"$f":"N9","v":21},{"$f":"COUNTIF(L61:L74,AN9)","v":0},{"$f":"AO9/(AQ4-AO8)","v":0},{"$f":"IF(AP9=0,0,(AP9*((LOG(AP9))/LOG(2))))","v":0},null,{"$f":"N9","v":21},{"$f":"COUNTIF(L75:L87,AS9)","v":0},{"$f":"AT9/(AV4-AT8)","v":0},{"$f":"IF(AU9=0,0,(AU9*((LOG(AU9))/LOG(2))))","v":0}]
[11,401,21,414,null,null,null,null,null,null,0,12,null,22,{"$f":"COUNTIF($L$7:$L$500,N10)","v":7},{"$f":"O10/$Q$4","v":8.6419753086419748E-2},{"$f":"IF(P10=0,0,(P10*((LOG(P10))/LOG(2))))","v":-0.30527735266406353},null,null,{"$f":"N10","v":22},{"$f":"COUNTIF(L7:L20,T10)","v":1},{"$f":"U10/(W4-U8)","v":0.2},{"$f":"IF(V10=0,0,(V10*((LOG(V10))/LOG(2))))","v":-0.46438561897747244},null,{"$f":"N10","v":22},{"$f":"COUNTIF(L21:L33,Y10)","v":4},{"$f":"Z10/(AB4-Z8)","v":0.66666666666666663},{"$f":"IF(AA10=0,0,(AA10*((LOG(AA10))/LOG(2))))","v":-0.38997500048077083},null,{"$f":"N10","v":22},{"$f":"COUNTIF(L34:L47,AD10)","v":2},{"$f":"AE10/(AG4-AE8)","v":0.25},{"$f":"IF(AF10=0,0,(AF10*((LOG(AF10))/LOG(2))))","v":-0.5},null,{"$f":"N10","v":22},{"$f":"COUNTIF(L48:L60,AI10)","v":0},{"$f":"AJ10/(AL4-AJ8)","v":0},{"$f":"IF(AK10=0,0,(AK10*((LOG(AK10))/LOG(2))))","v":0},null,{"$f":"N10","v":22},{"$f":"COUNTIF(L61:L74,AN10)","v":0},{"$f":"AO10/(AQ4-AO8)","v":0},{"$f":"IF(AP10=0,0,(AP10*((LOG(AP10))/LOG(2))))","v":0},null,{"$f":"N10","v":22},{"$f":"COUNTIF(L75:L87,AS10)","v":0},{"$f":"AT10/(AV4-AT8)","v":0},{"$f":"IF(AU10=0,0,(AU10*((LOG(AU10))/LOG(2))))","v":0}]
[11,518,21,536,null,null,null,null,null,null,0,12,null,null,null,null,null,null,null,{"$f":"N11","v":0},{"$f":"COUNTIF(L7:L20,T11)","v":0},{"$f":"U11/(W4-U8)","v":0},{"$f":"IF(V11=0,0,(V11*((LOG(V11))/LOG(2))))","v":0},null,{"$f":"N11","v":0},{"$f":"COUNTIF(L21:L33,Y11)","v":0},{"$f":"Z11/(AB4-Z8)","v":0},{"$f":"IF(AA11=0,0,(AA11*((LOG(AA11))/LOG(2))))","v":0},null,{"$f":"N11","v":0},{"$f":"COUNTIF(L34:L47,AD11)","v":0},{"$f":"AE11/(AG4-AE8)","v":0},{"$f":"IF(AF11=0,0,(AF11*((LOG(AF11))/LOG(2))))","v":0},null,{"$f":"N11","v":0},{"$f":"COUNTIF(L48:L60,AI11)","v":0},{"$f":"AJ11/(AL4-AJ8)","v":0},{"$f":"IF(AK11=0,0,(AK11*((LOG(AK11))/LOG(2))))","v":0},null,{"$f":"N11","v":0},{"$f":"COUNTIF(L61:L74,AN11)","v":0},{"$f":"AO11/(AQ4-AO8)","v":0},{"$f":"IF(AP11=0,0,(AP11*((LOG(AP11))/LOG(2))))","v":0},null,{"$f":"N11","v":0},{"$f":"COUNTIF(L75:L87,AS11)","v":0},{"$f":"AT11/(AV4-AT8)","v":0},{"$f":"IF(AU11=0,0,(AU11*((LOG(AU11))/LOG(2))))","v":0}]
[11,632,12,644,null,null,null,null,null,null,0,11,null,null,null,null,null,null,null,{"$f":"N12","v":0},{"$f":"COUNTIF(L7:L20,T12)","v":0},{"$f":"U12/(W4-U8)","v":0},{"$f":"IF(V12=0,0,(V12*((LOG(V12))/LOG(2))))","v":0},null,{"$f":"N12","v":0},{"$f":"COUNTIF(L21:L33,Y12)","v":0},{"$f":"Z12/(AB4-Z8)","v":0},{"$f":"IF(AA12=0,0,(AA12*((LOG(AA12))/LOG(2))))","v":0},null,{"$f":"N12","v":0},{"$f":"COUNTIF(L34:L47,AD12)","v":0},{"$f":"AE12/(AG4-AE8)","v":0},{"$f":"IF(AF12=0,0,(AF12*((LOG(AF12))/LOG(2))))","v":0},null,{"$f":"N12","v":0},{"$f":"COUNTIF(L48:L60,AI12)","v":0},{"$f":"AJ12/(AL4-AJ8)","v":0},{"$f":"IF(AK12=0,0,(AK12*((LOG(AK12))/LOG(2))))","v":0},null,{"$f":"N12","v":0},{"$f":"COUNTIF(L61:L74,AN12)","v":0},{"$f":"AO12/(AQ4-AO8)","v":0},{"$f":"IF(AP12=0,0,(AP12*((LOG(AP12))/LOG(2))))","v":0},null,{"$f":"N12","v":0},{"$f":"COUNTIF(L75:L87,AS12)","v":0},{"$f":"AT12/(AV4-AT8)","v":0},{"$f":"IF(AU12=0,0,(AU12*((LOG(AU12))/LOG(2))))","v":0}]
[11,749,21,798,null,null,null,null,null,null,0,12,null,null,null,null,null,null,null,{"$f":"N13","v":0},{"$f":"COUNTIF(L7:L20,T13)","v":0},{"$f":"U13/(W4-U8)","v":0},{"$f":"IF(V13=0,0,(V13*((LOG(V13))/LOG(2))))","v":0},null,{"$f":"N13","v":0},{"$f":"COUNTIF(L21:L33,Y13)","v":0},{"$f":"Z13/(AB4-Z8)","v":0},{"$f":"IF(AA13=0,0,(AA13*((LOG(AA13))/LOG(2))))","v":0},null,{"$f":"N13","v":0},{"$f":"COUNTIF(L34:L47,AD13)","v":0},{"$f":"AE13/(AG4-AE8)","v":0},{"$f":"IF(AF13=0,0,(AF13*((LOG(AF13))/LOG(2))))","v":0},null,{"$f":"N13","v":0},{"$f":"COUNTIF(L48:L60,AI13)","v":0},{"$f":"AJ13/(AL4-AJ8)","v":0},{"$f":"IF(AK13=0,0,(AK13*((LOG(AK13))/LOG(2))))","v":0},null,{"$f":"N13","v":0},{"$f":"COUNTIF(L61:L74,AN13)","v":0},{"$f":"AO13/(AQ4-AO8)","v":0},{"$f":"IF(AP13=0,0,(AP13*((LOG(AP13))/LOG(2))))","v":0},null,{"$f":"N13","v":0},{"$f":"COUNTIF(L75:L87,AS13)","v":0},{"$f":"AT13/(AV4-AT8)","v":0},{"$f":"IF(AU13=0,0,(AU13*((LOG(AU13))/LOG(2))))","v":0}]
[11,901,21,929,null,null,null,null,null,null,0,12,null,null,null,null,null,null,null,{"$f":"N14","v":0},{"$f":"COUNTIF(L7:L20,T14)","v":0},{"$f":"U14/(W4-U8)","v":0},{"$f":"IF(V14=0,0,(V14*((LOG(V14))/LOG(2))))","v":0},null,{"$f":"N14","v":0},{"$f":"COUNTIF(L21:L33,Y14)","v":0},{"$f":"Z14/(AB4-Z8)","v":0},{"$f":"IF(AA14=0,0,(AA14*((LOG(AA14))/LOG(2))))","v":0},null,{"$f":"N14","v":0},{"$f":"COUNTIF(L34:L47,AD14)","v":0},{"$f":"AE14/(AG4-AE8)","v":0},{"$f":"IF(AF14=0,0,(AF14*((LOG(AF14))/LOG(2))))","v":0},null,{"$f":"N14","v":0},{"$f":"COUNTIF(L48:L60,AI14)","v":0},{"$f":"AJ14/(AL4-AJ8)","v":0},{"$f":"IF(AK14=0,0,(AK14*((LOG(AK14))/LOG(2))))","v":0},null,{"$f":"N14","v":0},{"$f":"COUNTIF(L61:L74,AN14)","v":0},{"$f":"AO14/(AQ4-AO8)","v":0},{"$f":"IF(AP14=0,0,(AP14*((LOG(AP14))/LOG(2))))","v":0},null,{"$f":"N14","v":0},{"$f":"COUNTIF(L75:L87,AS14)","v":0},{"$f":"AT14/(AV4-AT8)","v":0},{"$f":"IF(AU14=0,0,(AU14*((LOG(AU14))/LOG(2))))","v":0}]
[11,1025,12,1036,null,null,null,null,null,null,0,11,null,null,null,{"$f":"SUM(P7:P14)","v":1},{"$f":"-SUM(Q7:Q14)","v":1.4044329102139275},null,null,null,null,{"$f":"SUM(V7:V14)","v":1},{"$f":"-SUM(W7:W14)","v":1.3709505944546687},null,null,null,{"$f":"SUM(AA7:AA14)","v":1},{"$f":"-SUM(AB7:AB14)","v":0.91829583405448945},null,null,null,{"$f":"SUM(AF7:AF14)","v":1},{"$f":"-SUM(AG7:AG14)","v":1.2987949406953985},null,null,null,{"$f":"SUM(AK7:AK14)","v":1},{"$f":"-SUM(AL7:AL14)","v":0},null,null,null,{"$f":"SUM(AP7:AP14)","v":1},{"$f":"-SUM(AQ7:AQ14)","v":0},null,null,null,{"$f":"SUM(AU7:AU14)","v":1},{"$f":"-SUM(AV7:AV14)","v":0}]
[11,1143,21,1169,null,null,null,null,null,null,0,12,null,null,null,"U=",{"$f":"Q15/(LOG(Q4)/LOG(2))","v":0.22152462748722954},null,null,null,null,"U1=",{"$f":"W15/(LOG(W4)/LOG(2))","v":0.3600795361924829},null,null,null,"U2=",{"$f":"AB15/(LOG(AB4)/LOG(2))","v":0.24815857141318151},null,null,null,"U3=",{"$f":"AG15/(LOG(AG4)/LOG(2))","v":0.34112788728230581},null,null,null,"U4=",{"$f":"AL15/(LOG(AL4)/LOG(2))","v":0},null,null,null,"U5=",{"$f":"AQ15/(LOG(AQ4)/LOG(2))","v":0},null,null,null,"U6=",{"$f":"AV15/(LOG(AV4)/LOG(2))","v":0}]
[11,1265,21,1286,null,null,null,null,null,null,0,12]
[11,1391,21,1400,null,null,null,null,null,null,0,12]
[22,1500,23,1526,null,null,null,null,null,null,0,22,null,"Total Target Seq"]
[11,1627,12,1644,null,null,null,null,null,null,0,11,null,{"$f":"COUNTIF(L7:L87,G3)","v":24},null,14,13,14,13,14,13]
[22,1753,23,1768,null,null,null,null,null,null,0,22,null,null,null,"% of reinforcement given in 6 equal intervals based on number of trials "]
[11,1907,21,1921,null,null,null,null,null,null,0,12,null,null,null,"%_1","%_2","%_3","%_4","%_5","%_6"]
[11,2029,21,2043,null,null,null,null,null,null,0,12,null,null,"target sequence",{"$f":"$G$3","v":12},{"$f":"$G$3","v":12},{"$f":"$G$3","v":12},{"$f":"$G$3","v":12},{"$f":"$G$3","v":12},{"$f":"$G$3","v":12}]
[11,2136,12,2153,null,null,null,null,null,null,0,11,null,null,"total reinforcement",{"$f":"U8","v":9},{"$f":"Z8","v":7},{"$f":"AE8","v":6},{"$f":"AJ8","v":1},{"$f":"AO8","v":1},{"$f":"AT8","v":0}]
[11,2268,21,2278,null,null,null,null,null,null,0,12,null,null,"% target"]
[11,2375,21,2381,null,null,null,null,null,null,0,12,null,null,"CCRF"]
[22,2486,23,2493,null,null,null,null,null,null,0,22,null,null,"% CCRf"]
[22,2621,23,2641,null,null,null,null,null,null,0,22,null,null,"average response rate",{"$f":"D20/P20","v":117.42857142857143},{"$f":"(D33-D20)/Q20","v":125.07692307692308},{"$f":"(D47-D33)/R20","v":154.78571428571428},{"$f":"(D60-D47)/S20","v":188.38461538461539},{"$f":"(D74-D60)/T20","v":190.42857142857142},{"$f":"(D87-D74)/U20","v":803.69230769230774}]
[11,2750,21,2758,null,null,null,null,null,null,0,12]
[11,2855,12,2876,null,null,null,null,null,null,0,11]
[11,2980,21,3018,null,null,null,null,null,null,0,12]
[11,3137,21,3148,null,null,null,null,null,null,0,12]
[22,3263,23,3270,null,null,null,null,null,null,0,22]
[22,3377,14,3383,null,null,null,null,null,null,0,21]
[11,3494,21,3509,null,null,null,null,null,null,0,12]
[22,3661,23,3697,null,null,null,null,null,null,0,22]
[11,3853,12,3863,null,null,null,null,null,null,0,11]
[11,3965,12,3977,null,null,null,null,null,null,0,11]
[11,4295,12,4301,null,null,null,null,null,null,0,11]
[11,4406,12,4414,null,null,null,null,null,null,0,11]
[11,4526,21,4566,null,null,null,null,null,null,0,12]
[11,4711,21,4734,null,null,null,null,null,null,0,12]
[11,4835,21,4844,null,null,null,null,null,null,0,12]
[11,4947,21,4956,null,null,null,null,null,null,0,12]
[22,5094,23,5117,null,null,null,null,null,null,0,22]
[11,5253,21,5275,null,null,null,null,null,null,0,12]
[11,5429,12,5437,null,null,null,null,null,null,0,11]
[11,5688,12,5695,null,null,null,null,null,null,0,11]
[11,5949,12,5956,null,null,null,null,null,null,0,11]
[11,6066,12,6073,null,null,null,null,null,null,0,11]
[11,6318,12,6328,null,null,null,null,null,null,0,11]
[11,6466,12,6480,null,null,null,null,null,null,0,11]
[11,6835,12,6843,null,null,null,null,null,null,0,11]
[11,6947,12,6952,null,null,null,null,null,null,0,11]
[11,7162,12,7169,null,null,null,null,null,null,0,11]
[11,7279,12,7286,null,null,null,null,null,null,0,11]
[11,7446,12,7454,null,null,null,null,null,null,0,11]
[11,7564,12,7571,null,null,null,null,null,null,0,11]
[11,7721,21,7733,null,null,null,null,null,null,0,12]
[11,7879,12,7886,null,null,null,null,null,null,0,11]
[11,8006,12,8010,null,null,null,null,null,null,0,11]
[11,8160,12,8166,null,null,null,null,null,null,0,11]
[11,8550,12,8557,null,null,null,null,null,null,0,11]
[11,8715,12,8721,null,null,null,null,null,null,0,11]
[11,9065,12,9073,null,null,null,null,null,null,0,11]
[11,9213,12,9221,null,null,null,null,null,null,0,11]
[11,9382,12,9388,null,null,null,null,null,null,0,11]
[11,9559,12,9563,null,null,null,null,null,null,0,11]
[11,9741,12,9750,null,null,null,null,null,null,0,11]
[11,9928,21,9940,null,null,null,null,null,null,0,12]
[11,10073,12,10081,null,null,null,null,null,null,0,11]
[11,10188,12,10193,null,null,null,null,null,null,0,11]
[11,10430,12,10438,null,null,null,null,null,null,0,11]
[11,10539,12,10552,null,null,null,null,null,null,0,11]
[11,11723,12,11727,null,null,null,null,null,null,0,11]
[11,11868,12,11873,null,null,null,null,null,null,0,11]
[11,12232,12,12239,null,null,null,null,null,null,0,11]
[11,12429,12,12433,null,null,null,null,null,null,0,11]
[11,12605,12,12612,null,null,null,null,null,null,0,11]
[11,12828,12,12836,null,null,null,null,null,null,0,11]
[11,12953,12,12960,null,null,null,null,null,null,0,11]
[11,15811,12,15818,null,null,null,null,null,null,0,11]
[11,16397,12,16406,null,null,null,null,null,null,0,11]
[11,17192,12,17199,null,null,null,null,null,null,0,11]
[11,18266,12,18271,null,null,null,null,null,null,0,11]
[11,19870,12,19878,null,null,null,null,null,null,0,11]
[11,20996,12,21000,null,null,null,null,null,null,1,11]

{"sheet":"!N228A00.095","index":27,"n_rows":52,"n_cols":48,"rows_kept":52,"cut":false,"hidden":false,"merged":[[4,39,4,42],[5,39,5,40],[4,44,4,47],[5,44,5,45],[4,24,4,27],[5,24,5,25],[4,29,4,32],[5,29,5,30],[4,34,4,37],[5,34,5,35],[1,1,1,2],[5,13,5,14],[18,13,18,14],[19,13,19,14],[4,19,4,22],[5,19,5,20]]}
["Report for:!N228A00.095"]
["Date:","<date>"]
["Hen:","<hen>",null,null,null,"Correct Sequence",{"$f":"Start!J2","v":12},null,null,null,null,null,null,null,null,"Total Sequences in Data",{"$f":"4994-COUNTBLANK(L7:L5000)","v":46},null,null,null,null,"Total Sequences in Block Data",{"$f":"COUNTA(L7:L14)","v":8},null,null,null,"Total Sequences in Block Data",{"$f":"COUNTA(L15:L21)","v":7},null,null,null,"Total Sequences in Block Data",{"$f":"COUNTA(L22:L29)","v":8},null,null,null,"Total Sequences in Block Data",{"$f":"COUNTA(L30:L37)","v":8},null,null,null,"Total Sequences in Block Data",{"$f":"COUNTA(L38:L44)","v":7},null,null,null,"Total Sequences in Block Data",{"$f":"COUNTA(L45:L52)","v":8}]
[null,null,null,null,null,null,null,null,null,null,null,null,null,null,null,"Total Sequences in Summary",{"$f":"SUM(O7:O14)","v":46},null,null,null,null,"Total Sequences in Block Summary",{"$f":"SUM(U7:U14)","v":8},null,null,null,"Total Sequences in Block Summary",{"$f":"SUM(Z7:Z14)","v":7},null,null,null,"Total Sequences in Block Summary",{"$f":"SUM(AE7:AE14)","v":8},null,null,null,"Total Sequences in Block Summary",{"$f":"SUM(AJ7:AJ14)","v":8},null,null,null,"Total Sequences in Block Summary",{"$f":"SUM(AO7:AO14)","v":7},null,null,null,"Total Sequences in Block Summary",{"$f":"SUM(AT7:AT14)","v":8}]
[null,null,null,null,null,null,null,null,null,null,null,null,null,null,null,null,null,null,null,"Block 1",null,null,null,null,"Block 2",null,null,null,null,"Block 3",null,null,null,null,"Block 4",null,null,null,null,"Block 5",null,null,null,null,"Block 6"]
["Sequence\nComponent\n1","Time\n1","Sequence\nComponent\n2","Time\n2","Sequence\nComponent\n3","Time\n3","Sequence\nComponent\n4","Time\n4","Sequence\nComponent\n5","Time\n5","Correct?\n0=No 1=Yes","Sequence",null,"Frequency",null,"Relative Frequency","Variability",null,null,"Frequency",null,"Relative Frequency","Variability",null,"Frequency",null,"Relative Frequency","Variability",null,"Frequency",null,"Relative Frequency","Variability",null,"Frequency",null,"Relative Frequency","Variability",null,"Frequency",null,"Relative Frequency","Variability",null,"Frequency",null,"Relative Frequency","Variability"]
[11,61,12,65,null,null,null,null,null,null,0,11,null,11,{"$f":"COUNTIF($L$7:$L$500,N7)","v":20},{"$f":"O7/$Q$4","v":0.43478260869565216},{"$f":"IF(P7=0,0,(P7*((LOG(P7))/LOG(2))))","v":-0.52244950485636987},null,null,{"$f":"N7","v":11},{"$f":"COUNTIF(L7:L14,T7)","v":4},{"$f":"U7/(W4-U8)","v":0.8},{"$f":"IF(V7=0,0,(V7*((LOG(V7))/LOG(2))))","v":-0.25754247590988982},null,{"$f":"N7","v":11},{"$f":"COUNTIF(L15:L21,Y7)","v":2},{"$f":"Z7/(AB4-Z8)","v":0.5},{"$f":"IF(AA7=0,0,(AA7*((LOG(AA7))/LOG(2))))","v":-0.5},null,{"$f":"N7","v":11},{"$f":"COUNTIF(L22:L29,AD7)","v":2},{"$f":"AE7/(AG4-AE8)","v":0.2857142857142857},{"$f":"IF(AF7=0,0,(AF7*((LOG(AF7))/LOG(2))))","v":-0.51638712058788683},null,{"$f":"N7","v":11},{"$f":"COUNTIF(L30:L37,AI7)","v":1},{"$f":"AJ7/(AL4-AJ8)","v":0.25},{"$f":"IF(AK7=0,0,(AK7*((LOG(AK7))/LOG(2))))","v":-0.5},null,{"$f":"N7","v":11},{"$f":"COUNTIF(L38:L44,AN7)","v":5},{"$f":"AO7/(AQ4-AO8)","v":1},{"$f":"IF(AP7=0,0,(AP7*((LOG(AP7))/LOG(2))))","v":0},null,{"$f":"N7","v":11},{"$f":"COUNTIF(L45:L52,AS7)","v":6},{"$f":"AT7/(AV4-AT8)","v":0.8571428571428571},{"$f":"IF(AU7=0,0,(AU7*((LOG(AU7))/LOG(2))))","v":-0.19062207543124113}]
[11,201,12,205,null,null,null,null,null,null,0,11,null,12,{"$f":"COUNTIF($L$7:$L$500,N8)","v":14},{"$f":"O8/$Q$4","v":0.30434782608695654},{"$f":"IF(P8=0,0,(P8*((LOG(P8))/LOG(2))))","v":-0.52232387991286355},null,null,{"$f":"N8","v":12},{"$f":"COUNTIF(L7:L14,T8)","v":3},null,null,null,{"$f":"N8","v":12},{"$f":"COUNTIF(L15:L21,Y8)","v":3},null,null,null,{"$f":"N8","v":12},{"$f":"COUNTIF(L22:L29,AD8)","v":1},null,null,null,{"$f":"N8","v":12},{"$f":"COUNTIF(L30:L37,AI8)","v":4},null,null,null,{"$f":"N8","v":12},{"$f":"COUNTIF(L38:L44,AN8)","v":2},null,null,null,{"$f":"N8","v":12},{"$f":"COUNTIF(L45:L52,AS8)","v":1}]
[11,330,12,334,null,null,null,null,null,null,0,11,null,21,{"$f":"COUNTIF($L$7:$L$500,N9)","v":3},{"$f":"O9/$Q$4","v":6.5217391304347824E-2},{"$f":"IF(P9=0,0,(P9*((LOG(P9))/LOG(2))))","v":-0.25686518186972979},null,null,{"$f":"N9","v":21},{"$f":"COUNTIF(L7:L14,T9)","v":1},{"$f":"U9/(W4-U8)","v":0.2},{"$f":"IF(V9=0,0,(V9*((LOG(V9))/LOG(2))))","v":-0.46438561897747244},null,{"$f":"N9","v":21},{"$f":"COUNTIF(L15:L21,Y9)","v":0},{"$f":"Z9/(AB4-Z8)","v":0},{"$f":"IF(AA9=0,0,(AA9*((LOG(AA9))/LOG(2))))","v":0},null,{"$f":"N9","v":21},{"$f":"COUNTIF(L22:L29,AD9)","v":1},{"$f":"AE9/(AG4-AE8)","v":0.14285714285714285},{"$f":"IF(AF9=0,0,(AF9*((LOG(AF9))/LOG(2))))","v":-0.40105070315108626},null,{"$f":"N9","v":21},{"$f":"COUNTIF(L30:L37,AI9)","v":0},{"$f":"AJ9/(AL4-AJ8)","v":0},{"$f":"IF(AK9=0,0,(AK9*((LOG(AK9))/LOG(2))))","v":0},null,{"$f":"N9","v":21},{"$f":"COUNTIF(L38:L44,AN9)","v":0},{"$f":"AO9/(AQ4-AO8)","v":0},{"$f":"IF(AP9=0,0,(AP9*((LOG(AP9))/LOG(2))))","v":0},null,{"$f":"N9","v":21},{"$f":"COUNTIF(L45:L52,AS9)","v":1},{"$f":"AT9/(AV4-AT8)","v":0.14285714285714285},{"$f":"IF(AU9=0,0,(AU9*((LOG(AU9))/LOG(2))))","v":-0.40105070315108626}]
[11,468,12,475,null,null,null,null,null,null,0,11,null,22,{"$f":"COUNTIF($L$7:$L$500,N10)","v":9},{"$f":"O10/$Q$4","v":0.19565217391304349},{"$f":"IF(P10=0,0,(P10*((LOG(P10))/LOG(2))))","v":-0.46049418677244142},null,null,{"$f":"N10","v":22},{"$f":"COUNTIF(L7:L14,T10)","v":0},{"$f":"U10/(W4-U8)","v":0},{"$f":"IF(V10=0,0,(V10*((LOG(V10))/LOG(2))))","v":0},null,{"$f":"N10","v":22},{"$f":"COUNTIF(L15:L21,Y10)","v":2},{"$f":"Z10/(AB4-Z8)","v":0.5},{"$f":"IF(AA10=0,0,(AA10*((LOG(AA10))/LOG(2))))","v":-0.5},null,{"$f":"N10","v":22},{"$f":"COUNTIF(L22:L29,AD10)","v":4},{"$f":"AE10/(AG4-AE8)","v":0.5714285714285714},{"$f":"IF(AF10=0,0,(AF10*((LOG(AF10))/LOG(2))))","v":-0.46134566974720237},null,{"$f":"N10","v":22},{"$f":"COUNTIF(L30:L37,AI10)","v":3},{"$f":"AJ10/(AL4-AJ8)","v":0.75},{"$f":"IF(AK10=0,0,(AK10*((LOG(AK10))/LOG(2))))","v":-0.31127812445913283},null,{"$f":"N10","v":22},{"$f":"COUNTIF(L38:L44,AN10)","v":0},{"$f":"AO10/(AQ4-AO8)","v":0},{"$f":"IF(AP10=0,0,(AP10*((LOG(AP10))/LOG(2))))","v":0},null,{"$f":"N10","v":22},{"$f":"COUNTIF(L45:L52,AS10)","v":0},{"$f":"AT10/(AV4-AT8)","v":0},{"$f":"IF(AU10=0,0,(AU10*((LOG(AU10))/LOG(2))))","v":0}]
[11,593,21,634,null,null,null,null,null,null,0,12,null,null,null,null,null,null,null,{"$f":"N11","v":0},{"$f":"COUNTIF(L7:L14,T11)","v":0},{"$f":"U11/(W4-U8)","v":0},{"$f":"IF(V11=0,0,(V11*((LOG(V11))/LOG(2))))","v":0},null,{"$f":"N11","v":0},{"$f":"COUNTIF(L15:L21,Y11)","v":0},{"$f":"Z11/(AB4-Z8)","v":0},{"$f":"IF(AA11=0,0,(AA11*((LOG(AA11))/LOG(2))))","v":0},null,{"$f":"N11","v":0},{"$f":"COUNTIF(L22:L29,AD11)","v":0},{"$f":"AE11/(AG4-AE8)","v":0},{"$f":"IF(AF11=0,0,(AF11*((LOG(AF11))/LOG(2))))","v":0},null,{"$f":"N11","v":0},{"$f":"COUNTIF(L30:L37,AI11)","v":0},{"$f":"AJ11/(AL4-AJ8)","v":0},{"$f":"IF(AK11=0,0,(AK11*((LOG(AK11))/LOG(2))))","v":0},null,{"$f":"N11","v":0},{"$f":"COUNTIF(L38:L44,AN11)","v":0},{"$f":"AO11/(AQ4-AO8)","v":0},{"$f":"IF(AP11=0,0,(AP11*((LOG(AP11))/LOG(2))))","v":0},null,{"$f":"N11","v":0},{"$f":"COUNTIF(L45:L52,AS11)","v":0},{"$f":"AT11/(AV4-AT8)","v":0},{"$f":"IF(AU11=0,0,(AU11*((LOG(AU11))/LOG(2))))","v":0}]
[22,765,14,786,null,null,null,null,null,null,0,21,null,null,null,null,null,null,null,{"$f":"N12","v":0},{"$f":"COUNTIF(L7:L14,T12)","v":0},{"$f":"U12/(W4-U8)","v":0},{"$f":"IF(V12=0,0,(V12*((LOG(V12))/LOG(2))))","v":0},null,{"$f":"N12","v":0},{"$f":"COUNTIF(L15:L21,Y12)","v":0},{"$f":"Z12/(AB4-Z8)","v":0},{"$f":"IF(AA12=0,0,(AA12*((LOG(AA12))/LOG(2))))","v":0},null,{"$f":"N12","v":0},{"$f":"COUNTIF(L22:L29,AD12)","v":0},{"$f":"AE12/(AG4-AE8)","v":0},{"$f":"IF(AF12=0,0,(AF12*((LOG(AF12))/LOG(2))))","v":0},null,{"$f":"N12","v":0},{"$f":"COUNTIF(L30:L37,AI12)","v":0},{"$f":"AJ12/(AL4-AJ8)","v":0},{"$f":"IF(AK12=0,0,(AK12*((LOG(AK12))/LOG(2))))","v":0},null,{"$f":"N12","v":0},{"$f":"COUNTIF(L38:L44,AN12)","v":0},{"$f":"AO12/(AQ4-AO8)","v":0},{"$f":"IF(AP12=0,0,(AP12*((LOG(AP12))/LOG(2))))","v":0},null,{"$f":"N12","v":0},{"$f":"COUNTIF(L45:L52,AS12)","v":0},{"$f":"AT12/(AV4-AT8)","v":0},{"$f":"IF(AU12=0,0,(AU12*((LOG(AU12))/LOG(2))))","v":0}]
[11,893,21,911,null,null,null,null,null,null,0,12,null,null,null,null,null,null,null,{"$f":"N13","v":0},{"$f":"COUNTIF(L7:L14,T13)","v":0},{"$f":"U13/(W4-U8)","v":0},{"$f":"IF(V13=0,0,(V13*((LOG(V13))/LOG(2))))","v":0},null,{"$f":"N13","v":0},{"$f":"COUNTIF(L15:L21,Y13)","v":0},{"$f":"Z13/(AB4-Z8)","v":0},{"$f":"IF(AA13=0,0,(AA13*((LOG(AA13))/LOG(2))))","v":0},null,{"$f":"N13","v":0},{"$f":"COUNTIF(L22:L29,AD13)","v":0},{"$f":"AE13/(AG4-AE8)","v":0},{"$f":"IF(AF13=0,0,(AF13*((LOG(AF13))/LOG(2))))","v":0},null,{"$f":"N13","v":0},{"$f":"COUNTIF(L30:L37,AI13)","v":0},{"$f":"AJ13/(AL4-AJ8)","v":0},{"$f":"IF(AK13=0,0,(AK13*((LOG(AK13))/LOG(2))))","v":0},null,{"$f":"N13","v":0},{"$f":"COUNTIF(L38:L44,AN13)","v":0},{"$f":"AO13/(AQ4-AO8)","v":0},{"$f":"IF(AP13=0,0,(AP13*((LOG(AP13))/LOG(2))))","v":0},null,{"$f":"N13","v":0},{"$f":"COUNTIF(L45:L52,AS13)","v":0},{"$f":"AT13/(AV4-AT8)","v":0},{"$f":"IF(AU13=0,0,(AU13*((LOG(AU13))/LOG(2))))","v":0}]
[11,1012,21,1060,null,null,null,null,null,null,0,12,null,null,null,null,null,null,null,{"$f":"N14","v":0},{"$f":"COUNTIF(L7:L14,T14)","v":0},{"$f":"U14/(W4-U8)","v":0},{"$f":"IF(V14=0,0,(V14*((LOG(V14))/LOG(2))))","v":0},null,{"$f":"N14","v":0},{"$f":"COUNTIF(L15:L21,Y14)","v":0},{"$f":"Z14/(AB4-Z8)","v":0},{"$f":"IF(AA14=0,0,(AA14*((LOG(AA14))/LOG(2))))","v":0},null,{"$f":"N14","v":0},{"$f":"COUNTIF(L22:L29,AD14)","v":0},{"$f":"AE14/(AG4-AE8)","v":0},{"$f":"IF(AF14=0,0,(AF14*((LOG(AF14))/LOG(2))))","v":0},null,{"$f":"N14","v":0},{"$f":"COUNTIF(L30:L37,AI14)","v":0},{"$f":"AJ14/(AL4-AJ8)","v":0},{"$f":"IF(AK14=0,0,(AK14*((LOG(AK14))/LOG(2))))","v":0},null,{"$f":"N14","v":0},{"$f":"COUNTIF(L38:L44,AN14)","v":0},{"$f":"AO14/(AQ4-AO8)","v":0},{"$f":"IF(AP14=0,0,(AP14*((LOG(AP14))/LOG(2))))","v":0},null,{"$f":"N14","v":0},{"$f":"COUNTIF(L45:L52,AS14)","v":0},{"$f":"AT14/(AV4-AT8)","v":0},{"$f":"IF(AU14=0,0,(AU14*((LOG(AU14))/LOG(2))))","v":0}]
[11,1191,12,1208,null,null,null,null,null,null,0,11,null,null,null,{"$f":"SUM(P7:P14)","v":0.99999999999999989},{"$f":"-SUM(Q7:Q14)","v":1.7621327534114049},null,null,null,null,{"$f":"SUM(V7:V14)","v":1},{"$f":"-SUM(W7:W14)","v":0.72192809488736231},null,null,null,{"$f":"SUM(AA7:AA14)","v":1},{"$f":"-SUM(AB7:AB14)","v":1},null,null,null,{"$f":"SUM(AF7:AF14)","v":1},{"$f":"-SUM(AG7:AG14)","v":1.3787834934861753},null,null,null,{"$f":"SUM(AK7:AK14)","v":1},{"$f":"-SUM(AL7:AL14)","v":0.81127812445913283},null,null,null,{"$f":"SUM(AP7:AP14)","v":1},{"$f":"-SUM(AQ7:AQ14)","v":0},null,null,null,{"$f":"SUM(AU7:AU14)","v":1},{"$f":"-SUM(AV7:AV14)","v":0.59167277858232736}]
[11,1323,21,1348,null,null,null,null,null,null,0,12,null,null,null,"U=",{"$f":"Q15/(LOG(Q4)/LOG(2))","v":0.31902108954876301},null,null,null,null,"U1=",{"$f":"W15/(LOG(W4)/LOG(2))","v":0.24064269829578744},null,null,null,"U2=",{"$f":"AB15/(LOG(AB4)/LOG(2))","v":0.35620718710802218},null,null,null,"U3=",{"$f":"AG15/(LOG(AG4)/LOG(2))","v":0.45959449782872513},null,null,null,"U4=",{"$f":"AL15/(LOG(AL4)/LOG(2))","v":0.27042604148637761},null,null,null,"U5=",{"$f":"AQ15/(LOG(AQ4)/LOG(2))","v":0},null,null,null,"U6=",{"$f":"AV15/(LOG(AV4)/LOG(2))","v":0.19722425952744246}]
[22,1477,23,1495,null,null,null,null,null,null,0,22]
[22,1639,23,1653,null,null,null,null,null,null,0,22]
[11,1751,21,1765,null,null,null,null,null,null,0,12,null,"Total Target Seq"]
[11,1871,12,1885,null,null,null,null,null,null,0,11,null,{"$f":"COUNTIF(L7:L52,G3)","v":14},null,8,7,8,8,7,8]
[11,2002,21,2010,null,null,null,null,null,null,0,12,null,null,null,"% of reinforcement given in 6 equal intervals based on number of trials "]
[22,2129,23,2140,null,null,null,null,null,null,0,22,null,null,null,"%_1","%_2","%_3","%_4","%_5","%_6"]
[22,2252,23,2271,null,null,null,null,null,null,0,22,null,null,"target sequence",{"$f":"$G$3","v":12},{"$f":"$G$3","v":12},{"$f":"$G$3","v":12},{"$f":"$G$3","v":12},{"$f":"$G$3","v":12},{"$f":"$G$3","v":12}]
[11,2371,12,2392,null,null,null,null,null,null,0,11,null,null,"total reinforcement",{"$f":"U8","v":3},{"$f":"Z8","v":3},{"$f":"AE8","v":1},{"$f":"AJ8","v":4},{"$f":"AO8","v":2},{"$f":"AT8","v":1}]
[11,2496,21,2510,null,null,null,null,null,null,0,12,null,null,"% target"]
[22,2646,23,2654,null,null,null,null,null,null,0,22,null,null,"CCRF"]
[22,2764,23,2771,null,null,null,null,null,null,0,22,null,null,"% CCRf"]
[11,2880,12,2887,null,null,null,null,null,null,0,11,null,null,"average response rate",{"$f":"D14/P20","v":132.5},{"$f":"(D21-D14)/Q20","v":135.71428571428572},{"$f":"(D29-D21)/R20","v":124.125},{"$f":"(D37-D29)/S20","v":150},{"$f":"(D44-D37)/T20","v":189.85714285714286},{"$f":"(D52-D44)/U20","v":1888.5}]
[22,2994,14,3003,null,null,null,null,null,null,0,21]
[11,3116,21,3123,null,null,null,null,null,null,0,12]
[22,3252,23,3259,null,null,null,null,null,null,0,22]
[22,3386,23,3410,null,null,null,null,null,null,0,22]
[22,3574,23,3598,null,null,null,null,null,null,0,22]
[11,3752,12,3760,null,null,null,null,null,null,0,11]
[11,3858,21,3865,null,null,null,null,null,null,0,12]
[11,3967,21,3977,null,null,null,null,null,null,0,12]
[11,4189,21,4203,null,null,null,null,null,null,0,12]
[11,4304,21,4317,null,null,null,null,null,null,0,12]
[11,4434,21,4470,null,null,null,null,null,null,0,12]
[11,4651,12,4661,null,null,null,null,null,null,0,11]
[11,5074,12,5082,null,null,null,null,null,null,0,11]
[11,5254,12,5258,null,null,null,null,null,null,0,11]
[11,5368,12,5375,null,null,null,null,null,null,0,11]
[11,5528,12,5532,null,null,null,null,null,null,0,11]
[11,5640,12,5644,null,null,null,null,null,null,0,11]
[11,5766,21,5776,null,null,null,null,null,null,0,12]
[22,5897,14,5904,null,null,null,null,null,null,0,21]
[11,6051,12,6059,null,null,null,null,null,null,0,11]
[11,9817,12,9827,null,null,null,null,null,null,0,11]
[11,9972,12,9980,null,null,null,null,null,null,0,11]
[11,13675,12,13683,null,null,null,null,null,null,0,11]
[11,20632,12,20640,null,null,null,null,null,null,0,11]

{"sheet":"!N302920.095","index":28,"n_rows":79,"n_cols":48,"rows_kept":79,"cut":false,"hidden":false,"merged":[[4,39,4,42],[5,39,5,40],[4,44,4,47],[5,44,5,45],[4,24,4,27],[5,24,5,25],[4,29,4,32],[5,29,5,30],[4,34,4,37],[5,34,5,35],[1,1,1,2],[5,13,5,14],[18,13,18,14],[19,13,19,14],[4,19,4,22],[5,19,5,20]]}
["Report for:!N302920.095"]
["Date:","<date>"]
["Hen:","<hen>",null,null,null,"Correct Sequence",{"$f":"Start!J2","v":12},null,null,null,null,null,null,null,null,"Total Sequences in Data",{"$f":"4994-COUNTBLANK(L7:L5000)","v":73},null,null,null,null,"Total Sequences in Block Data",{"$f":"COUNTA(L7:L18)","v":12},null,null,null,"Total Sequences in Block Data",{"$f":"COUNTA(L19:L30)","v":12},null,null,null,"Total Sequences in Block Data",{"$f":"COUNTA(L31:L43)","v":13},null,null,null,"Total Sequences in Block Data",{"$f":"COUNTA(L44:L55)","v":12},null,null,null,"Total Sequences in Block Data",{"$f":"COUNTA(L56:L67)","v":12},null,null,null,"Total Sequences in Block Data",{"$f":"COUNTA(L68:L79)","v":12}]
[null,null,null,null,null,null,null,null,null,null,null,null,null,null,null,"Total Sequences in Summary",{"$f":"SUM(O7:O14)","v":73},null,null,null,null,"Total Sequences in Block Summary",{"$f":"SUM(U7:U14)","v":12},null,null,null,"Total Sequences in Block Summary",{"$f":"SUM(Z7:Z14)","v":12},null,null,null,"Total Sequences in Block Summary",{"$f":"SUM(AE7:AE14)","v":13},null,null,null,"Total Sequences in Block Summary",{"$f":"SUM(AJ7:AJ14)","v":12},null,null,null,"Total Sequences in Block Summary",{"$f":"SUM(AO7:AO14)","v":12},null,null,null,"Total Sequences in Block Summary",{"$f":"SUM(AT7:AT14)","v":12}]
[null,null,null,null,null,null,null,null,null,null,null,null,null,null,null,null,null,null,null,"Block 1",null,null,null,null,"Block 2",null,null,null,null,"Block 3",null,null,null,null,"Block 4",null,null,null,null,"Block 5",null,null,null,null,"Block 6"]
["Sequence\nComponent\n1","Time\n1","Sequence\nComponent\n2","Time\n2","Sequence\nComponent\n3","Time\n3","Sequence\nComponent\n4","Time\n4","Sequence\nComponent\n5","Time\n5","Correct?\n0=No 1=Yes","Sequence",null,"Frequency",null,"Relative Frequency","Variability",null,null,"Frequency",null,"Relative Frequency","Variability",null,"Frequency",null,"Relative Frequency","Variability",null,"Frequency",null,"Relative Frequency","Variability",null,"Frequency",null,"Relative Frequency","Variability",null,"Frequency",null,"Relative Frequency","Variability",null,"Frequency",null,"Relative Frequency","Variability"]
[11,13,12,18,null,null,null,null,null,null,0,11,null,11,{"$f":"COUNTIF($L$7:$L$500,N7)","v":21},{"$f":"O7/$Q$4","v":0.28767123287671231},{"$f":"IF(P7=0,0,(P7*((LOG(P7))/LOG(2))))","v":-0.51709109394693697},null,null,{"$f":"N7","v":11},{"$f":"COUNTIF(L7:L18,T7)","v":1},{"$f":"U7/(W4-U8)","v":0.33333333333333331},{"$f":"IF(V7=0,0,(V7*((LOG(V7))/LOG(2))))","v":-0.52832083357371862},null,{"$f":"N7","v":11},{"$f":"COUNTIF(L19:L30,Y7)","v":2},{"$f":"Z7/(AB4-Z8)","v":0.2},{"$f":"IF(AA7=0,0,(AA7*((LOG(AA7))/LOG(2))))","v":-0.46438561897747244},null,{"$f":"N7","v":11},{"$f":"COUNTIF(L31:L43,AD7)","v":3},{"$f":"AE7/(AG4-AE8)","v":0.5},{"$f":"IF(AF7=0,0,(AF7*((LOG(AF7))/LOG(2))))","v":-0.5},null,{"$f":"N7","v":11},{"$f":"COUNTIF(L44:L55,AI7)","v":4},{"$f":"AJ7/(AL4-AJ8)","v":0.5714285714285714},{"$f":"IF(AK7=0,0,(AK7*((LOG(AK7))/LOG(2))))","v":-0.46134566974720237},null,{"$f":"N7","v":11},{"$f":"COUNTIF(L56:L67,AN7)","v":5},{"$f":"AO7/(AQ4-AO8)","v":0.7142857142857143},{"$f":"IF(AP7=0,0,(AP7*((LOG(AP7))/LOG(2))))","v":-0.34673344797874411},null,{"$f":"N7","v":11},{"$f":"COUNTIF(L68:L79,AS7)","v":6},{"$f":"AT7/(AV4-AT8)","v":0.66666666666666663},{"$f":"IF(AU7=0,0,(AU7*((LOG(AU7))/LOG(2))))","v":-0.38997500048077083}]
[22,136,23,156,null,null,null,null,null,null,0,22,null,12,{"$f":"COUNTIF($L$7:$L$500,N8)","v":31},{"$f":"O8/$Q$4","v":0.42465753424657532},{"$f":"IF(P8=0,0,(P8*((LOG(P8))/LOG(2))))","v":-0.52471884525051238},null,null,{"$f":"N8","v":12},{"$f":"COUNTIF(L7:L18,T8)","v":9},null,null,null,{"$f":"N8","v":12},{"$f":"COUNTIF(L19:L30,Y8)","v":2},null,null,null,{"$f":"N8","v":12},{"$f":"COUNTIF(L31:L43,AD8)","v":7},null,null,null,{"$f":"N8","v":12},{"$f":"COUNTIF(L44:L55,AI8)","v":5},null,null,null,{"$f":"N8","v":12},{"$f":"COUNTIF(L56:L67,AN8)","v":5},null,null,null,{"$f":"N8","v":12},{"$f":"COUNTIF(L68:L79,AS8)","v":3}]
[11,259,21,273,null,null,null,null,null,null,0,12,null,21,{"$f":"COUNTIF($L$7:$L$500,N9)","v":6},{"$f":"O9/$Q$4","v":8.2191780821917804E-2},{"$f":"IF(P9=0,0,(P9*((LOG(P9))/LOG(2))))","v":-0.2962900321774406},null,null,{"$f":"N9","v":21},{"$f":"COUNTIF(L7:L18,T9)","v":0},{"$f":"U9/(W4-U8)","v":0},{"$f":"IF(V9=0,0,(V9*((LOG(V9))/LOG(2))))","v":0},null,{"$f":"N9","v":21},{"$f":"COUNTIF(L19:L30,Y9)","v":1},{"$f":"Z9/(AB4-Z8)","v":0.1},{"$f":"IF(AA9=0,0,(AA9*((LOG(AA9))/LOG(2))))","v":-0.33219280948873625},null,{"$f":"N9","v":21},{"$f":"COUNTIF(L31:L43,AD9)","v":1},{"$f":"AE9/(AG4-AE8)","v":0.16666666666666666},{"$f":"IF(AF9=0,0,(AF9*((LOG(AF9))/LOG(2))))","v":-0.43082708345352599},null,{"$f":"N9","v":21},{"$f":"COUNTIF(L44:L55,AI9)","v":2},{"$f":"AJ9/(AL4-AJ8)","v":0.2857142857142857},{"$f":"IF(AK9=0,0,(AK9*((LOG(AK9))/LOG(2))))","v":-0.51638712058788683},null,{"$f":"N9","v":21},{"$f":"COUNTIF(L56:L67,AN9)","v":0},{"$f":"AO9/(AQ4-AO8)","v":0},{"$f":"IF(AP9=0,0,(AP9*((LOG(AP9))/LOG(2))))","v":0},null,{"$f":"N9","v":21},{"$f":"COUNTIF(L68:L79,AS9)","v":2},{"$f":"AT9/(AV4-AT8)","v":0.22222222222222221},{"$f":"IF(AU9=0,0,(AU9*((LOG(AU9))/LOG(2))))","v":-0.48220555587606945}]
[11,383,21,395,null,null,null,null,null,null,0,12,null,22,{"$f":"COUNTIF($L$7:$L$500,N10)","v":15},{"$f":"O10/$Q$4","v":0.20547945205479451},{"$f":"IF(P10=0,0,(P10*((LOG(P10))/LOG(2))))","v":-0.46909601985030785},null,null,{"$f":"N10","v":22},{"$f":"COUNTIF(L7:L18,T10)","v":2},{"$f":"U10/(W4-U8)","v":0.66666666666666663},{"$f":"IF(V10=0,0,(V10*((LOG(V10))/LOG(2))))","v":-0.38997500048077083},null,{"$f":"N10","v":22},{"$f":"COUNTIF(L19:L30,Y10)","v":7},{"$f":"Z10/(AB4-Z8)","v":0.7},{"$f":"IF(AA10=0,0,(AA10*((LOG(AA10))/LOG(2))))","v":-0.36020122098083079},null,{"$f":"N10","v":22},{"$f":"COUNTIF(L31:L43,AD10)","v":2},{"$f":"AE10/(AG4-AE8)","v":0.33333333333333331},{"$f":"IF(AF10=0,0,(AF10*((LOG(AF10))/LOG(2))))","v":-0.52832083357371862},null,{"$f":"N10","v":22},{"$f":"COUNTIF(L44:L55,AI10)","v":1},{"$f":"AJ10/(AL4-AJ8)","v":0.14285714285714285},{"$f":"IF(AK10=0,0,(AK10*((LOG(AK10))/LOG(2))))","v":-0.40105070315108626},null,{"$f":"N10","v":22},{"$f":"COUNTIF(L56:L67,AN10)","v":2},{"$f":"AO10/(AQ4-AO8)","v":0.2857142857142857},{"$f":"IF(AP10=0,0,(AP10*((LOG(AP10))/LOG(2))))","v":-0.51638712058788683},null,{"$f":"N10","v":22},{"$f":"COUNTIF(L68:L79,AS10)","v":1},{"$f":"AT10/(AV4-AT8)","v":0.1111111111111111},{"$f":"IF(AU10=0,0,(AU10*((LOG(AU10))/LOG(2))))","v":-0.3522138890491458}]
[11,489,21,531,null,null,null,null,null,null,0,12,null,null,null,null,null,null,null,{"$f":"N11","v":0},{"$f":"COUNTIF(L7:L18,T11)","v":0},{"$f":"U11/(W4-U8)","v":0},{"$f":"IF(V11=0,0,(V11*((LOG(V11))/LOG(2))))","v":0},null,{"$f":"N11","v":0},{"$f":"COUNTIF(L19:L30,Y11)","v":0},{"$f":"Z11/(AB4-Z8)","v":0},{"$f":"IF(AA11=0,0,(AA11*((LOG(AA11))/LOG(2))))","v":0},null,{"$f":"N11","v":0},{"$f":"COUNTIF(L31:L43,AD11)","v":0},{"$f":"AE11/(AG4-AE8)","v":0},{"$f":"IF(AF11=0,0,(AF11*((LOG(AF11))/LOG(2))))","v":0},null,{"$f":"N11","v":0},{"$f":"COUNTIF(L44:L55,AI11)","v":0},{"$f":"AJ11/(AL4-AJ8)","v":0},{"$f":"IF(AK11=0,0,(AK11*((LOG(AK11))/LOG(2))))","v":0},null,{"$f":"N11","v":0},{"$f":"COUNTIF(L56:L67,AN11)","v":0},{"$f":"AO11/(AQ4-AO8)","v":0},{"$f":"IF(AP11=0,0,(AP11*((LOG(AP11))/LOG(2))))","v":0},null,{"$f":"N11","v":0},{"$f":"COUNTIF(L68:L79,AS11)","v":0},{"$f":"AT11/(AV4-AT8)","v":0},{"$f":"IF(AU11=0,0,(AU11*((LOG(AU11))/LOG(2))))","v":0}]
[11,632,21,650,null,null,null,null,null,null,0,12,null,null,null,null,null,null,null,{"$f":"N12","v":0},{"$f":"COUNTIF(L7:L18,T12)","v":0},{"$f":"U12/(W4-U8)","v":0},{"$f":"IF(V12=0,0,(V12*((LOG(V12))/LOG(2))))","v":0},null,{"$f":"N12","v":0},{"$f":"COUNTIF(L19:L30,Y12)","v":0},{"$f":"Z12/(AB4-Z8)","v":0},{"$f":"IF(AA12=0,0,(AA12*((LOG(AA12))/LOG(2))))","v":0},null,{"$f":"N12","v":0},{"$f":"COUNTIF(L31:L43,AD12)","v":0},{"$f":"AE12/(AG4-AE8)","v":0},{"$f":"IF(AF12=0,0,(AF12*((LOG(AF12))/LOG(2))))","v":0},null,{"$f":"N12","v":0},{"$f":"COUNTIF(L44:L55,AI12)","v":0},{"$f":"AJ12/(AL4-AJ8)","v":0},{"$f":"IF(AK12=0,0,(AK12*((LOG(AK12))/LOG(2))))","v":0},null,{"$f":"N12","v":0},{"$f":"COUNTIF(L56:L67,AN12)","v":0},{"$f":"AO12/(AQ4-AO8)","v":0},{"$f":"IF(AP12=0,0,(AP12*((LOG(AP12))/LOG(2))))","v":0},null,{"$f":"N12","v":0},{"$f":"COUNTIF(L68:L79,AS12)","v":0},{"$f":"AT12/(AV4-AT8)","v":0},{"$f":"IF(AU12=0,0,(AU12*((LOG(AU12))/LOG(2))))","v":0}]
[11,752,21,758,null,null,null,null,null,null,0,12,null,null,null,null,null,null,null,{"$f":"N13","v":0},{"$f":"COUNTIF(L7:L18,T13)","v":0},{"$f":"U13/(W4-U8)","v":0},{"$f":"IF(V13=0,0,(V13*((LOG(V13))/LOG(2))))","v":0},null,{"$f":"N13","v":0},{"$f":"COUNTIF(L19:L30,Y13)","v":0},{"$f":"Z13/(AB4-Z8)","v":0},{"$f":"IF(AA13=0,0,(AA13*((LOG(AA13))/LOG(2))))","v":0},null,{"$f":"N13","v":0},{"$f":"COUNTIF(L31:L43,AD13)","v":0},{"$f":"AE13/(AG4-AE8)","v":0},{"$f":"IF(AF13=0,0,(AF13*((LOG(AF13))/LOG(2))))","v":0},null,{"$f":"N13","v":0},{"$f":"COUNTIF(L44:L55,AI13)","v":0},{"$f":"AJ13/(AL4-AJ8)","v":0},{"$f":"IF(AK13=0,0,(AK13*((LOG(AK13))/LOG(2))))","v":0},null,{"$f":"N13","v":0},{"$f":"COUNTIF(L56:L67,AN13)","v":0},{"$f":"AO13/(AQ4-AO8)","v":0},{"$f":"IF(AP13=0,0,(AP13*((LOG(AP13))/LOG(2))))","v":0},null,{"$f":"N13","v":0},{"$f":"COUNTIF(L68:L79,AS13)","v":0},{"$f":"AT13/(AV4-AT8)","v":0},{"$f":"IF(AU13=0,0,(AU13*((LOG(AU13))/LOG(2))))","v":0}]
[11,853,21,894,null,null,null,null,null,null,0,12,null,null,null,null,null,null,null,{"$f":"N14","v":0},{"$f":"COUNTIF(L7:L18,T14)","v":0},{"$f":"U14/(W4-U8)","v":0},{"$f":"IF(V14=0,0,(V14*((LOG(V14))/LOG(2))))","v":0},null,{"$f":"N14","v":0},{"$f":"COUNTIF(L19:L30,Y14)","v":0},{"$f":"Z14/(AB4-Z8)","v":0},{"$f":"IF(AA14=0,0,(AA14*((LOG(AA14))/LOG(2))))","v":0},null,{"$f":"N14","v":0},{"$f":"COUNTIF(L31:L43,AD14)","v":0},{"$f":"AE14/(AG4-AE8)","v":0},{"$f":"IF(AF14=0,0,(AF14*((LOG(AF14))/LOG(2))))","v":0},null,{"$f":"N14","v":0},{"$f":"COUNTIF(L44:L55,AI14)","v":0},{"$f":"AJ14/(AL4-AJ8)","v":0},{"$f":"IF(AK14=0,0,(AK14*((LOG(AK14))/LOG(2))))","v":0},null,{"$f":"N14","v":0},{"$f":"COUNTIF(L56:L67,AN14)","v":0},{"$f":"AO14/(AQ4-AO8)","v":0},{"$f":"IF(AP14=0,0,(AP14*((LOG(AP14))/LOG(2))))","v":0},null,{"$f":"N14","v":0},{"$f":"COUNTIF(L68:L79,AS14)","v":0},{"$f":"AT14/(AV4-AT8)","v":0},{"$f":"IF(AU14=0,0,(AU14*((LOG(AU14))/LOG(2))))","v":0}]
[11,992,21,1003,null,null,null,null,null,null,0,12,null,null,null,{"$f":"SUM(P7:P14)","v":1},{"$f":"-SUM(Q7:Q14)","v":1.8071959912251978},null,null,null,null,{"$f":"SUM(V7:V14)","v":1},{"$f":"-SUM(W7:W14)","v":0.91829583405448945},null,null,null,{"$f":"SUM(AA7:AA14)","v":1},{"$f":"-SUM(AB7:AB14)","v":1.1567796494470395},null,null,null,{"$f":"SUM(AF7:AF14)","v":1},{"$f":"-SUM(AG7:AG14)","v":1.4591479170272446},null,null,null,{"$f":"SUM(AK7:AK14)","v":1},{"$f":"-SUM(AL7:AL14)","v":1.3787834934861753},null,null,null,{"$f":"SUM(AP7:AP14)","v":1},{"$f":"-SUM(AQ7:AQ14)","v":0.863120568566631},null,null,null,{"$f":"SUM(AU7:AU14)","v":1},{"$f":"-SUM(AV7:AV14)","v":1.2243944454059861}]
[11,1100,21,1105,null,null,null,null,null,null,0,12,null,null,null,"U=",{"$f":"Q15/(LOG(Q4)/LOG(2))","v":0.29196239312349603},null,null,null,null,"U1=",{"$f":"W15/(LOG(W4)/LOG(2))","v":0.2561521449303204},null,null,null,"U2=",{"$f":"AB15/(LOG(AB4)/LOG(2))","v":0.32267552288603851},null,null,null,"U3=",{"$f":"AG15/(LOG(AG4)/LOG(2))","v":0.39431744013391046},null,null,null,"U4=",{"$f":"AL15/(LOG(AL4)/LOG(2))","v":0.38460192908818913},null,null,null,"U5=",{"$f":"AQ15/(LOG(AQ4)/LOG(2))","v":0.24076139384805401},null,null,null,"U6=",{"$f":"AV15/(LOG(AV4)/LOG(2))","v":0.34153619324042722}]
[22,1210,23,1236,null,null,null,null,null,null,0,22]
[11,1334,21,1370,null,null,null,null,null,null,0,12]
[11,1466,12,1470,null,null,null,null,null,null,0,11,null,"Total Target Seq"]
[22,1586,14,1594,null,null,null,null,null,null,0,21,null,{"$f":"COUNTIF(L7:L79,G3)","v":31},null,12,12,13,12,12,12]
[22,1728,23,1741,null,null,null,null,null,null,0,22,null,null,null,"% of reinforcement given in 6 equal intervals based on number of trials "]
[22,1850,23,1857,null,null,null,null,null,null,0,22,null,null,null,"%_1","%_2","%_3","%_4","%_5","%_6"]
[22,1975,23,1988,null,null,null,null,null,null,0,22,null,null,"target sequence",{"$f":"$G$3","v":12},{"$f":"$G$3","v":12},{"$f":"$G$3","v":12},{"$f":"$G$3","v":12},{"$f":"$G$3","v":12},{"$f":"$G$3","v":12}]
[22,2095,23,2113,null,null,null,null,null,null,0,22,null,null,"total reinforcement",{"$f":"U8","v":9},{"$f":"Z8","v":2},{"$f":"AE8","v":7},{"$f":"AJ8","v":5},{"$f":"AO8","v":5},{"$f":"AT8","v":3}]
[11,2215,21,2233,null,null,null,null,null,null,0,12,null,null,"% target"]
[22,2344,23,2362,null,null,null,null,null,null,0,22,null,null,"CCRF"]
[11,2462,21,2483,null,null,null,null,null,null,0,12,null,null,"% CCRf"]
[22,2597,23,2623,null,null,null,null,null,null,0,22,null,null,"average response rate",{"$f":"D18/P20","v":114.16666666666667},{"$f":"(D30-D18)/Q20","v":124.5},{"$f":"(D43-D30)/R20","v":139.07692307692307},{"$f":"(D55-D43)/S20","v":124.91666666666667},{"$f":"(D67-D55)/T20","v":154.25},{"$f":"(D79-D67)/U20","v":606.08333333333337}]
[22,2737,23,2758,null,null,null,null,null,null,0,22]
[11,2856,12,2864,null,null,null,null,null,null,0,11]
[22,2976,23,2996,null,null,null,null,null,null,0,22]
[11,3119,21,3127,null,null,null,null,null,null,0,12]
[11,3221,12,3230,null,null,null,null,null,null,0,11]
[11,3446,12,3452,null,null,null,null,null,null,0,11]
[11,3558,21,3572,null,null,null,null,null,null,0,12]
[11,3674,21,3699,null,null,null,null,null,null,0,12]
[11,3806,21,3836,null,null,null,null,null,null,0,12]
[11,3940,21,3947,null,null,null,null,null,null,0,12]
[11,4049,21,4062,null,null,null,null,null,null,0,12]
[22,4175,14,4182,null,null,null,null,null,null,0,21]
[22,4302,23,4309,null,null,null,null,null,null,0,22]
[11,4527,12,4534,null,null,null,null,null,null,0,11]
[11,4647,21,4672,null,null,null,null,null,null,0,12]
[11,4770,12,4783,null,null,null,null,null,null,0,11]
[22,4914,23,4942,null,null,null,null,null,null,0,22]
[11,5052,21,5068,null,null,null,null,null,null,0,12]
[11,5173,12,5190,null,null,null,null,null,null,0,11]
[11,5291,12,5311,null,null,null,null,null,null,0,11]
[22,5417,14,5425,null,null,null,null,null,null,0,21]
[22,5536,14,5544,null,null,null,null,null,null,0,21]
[11,5650,21,5658,null,null,null,null,null,null,0,12]
[11,5761,21,5787,null,null,null,null,null,null,0,12]
[11,5900,21,5936,null,null,null,null,null,null,0,12]
[11,6037,21,6064,null,null,null,null,null,null,0,12]
[11,6161,12,6171,null,null,null,null,null,null,0,11]
[11,6281,21,6307,null,null,null,null,null,null,0,12]
[11,6424,21,6483,null,null,null,null,null,null,0,12]
[11,6607,21,6614,null,null,null,null,null,null,0,12]
[22,6742,23,6755,null,null,null,null,null,null,0,22]
[11,6913,12,6921,null,null,null,null,null,null,0,11]
[11,7070,12,7077,null,null,null,null,null,null,0,11]
[11,7219,12,7224,null,null,null,null,null,null,0,11]
[11,7343,21,7351,null,null,null,null,null,null,0,12]
[11,7449,12,7456,null,null,null,null,null,null,0,11]
[11,7729,12,7735,null,null,null,null,null,null,0,11]
[11,7854,21,7871,null,null,null,null,null,null,0,12]
[22,8015,23,8022,null,null,null,null,null,null,0,22]
[11,8175,12,8183,null,null,null,null,null,null,0,11]
[22,8311,23,8342,null,null,null,null,null,null,0,22]
[22,8461,14,8469,null,null,null,null,null,null,0,21]
[11,8573,12,8595,null,null,null,null,null,null,0,11]
[11,8898,21,8937,null,null,null,null,null,null,0,12]
[11,9067,21,9120,null,null,null,null,null,null,0,12]
[11,9271,21,9291,null,null,null,null,null,null,0,12]
[11,9673,12,9678,null,null,null,null,null,null,0,11]
[11,10472,12,10480,null,null,null,null,null,null,0,11]
[11,14539,12,14549,null,null,null,null,null,null,0,11]
[11,14951,12,14965,null,null,null,null,null,null,0,11]
[22,15286,14,15295,null,null,null,null,null,null,1,21]

{"sheet":"!N303950.095","index":29,"n_rows":54,"n_cols":48,"rows_kept":54,"cut":false,"hidden":false,"merged":[[4,39,4,42],[5,39,5,40],[4,44,4,47],[5,44,5,45],[4,24,4,27],[5,24,5,25],[4,29,4,32],[5,29,5,30],[4,34,4,37],[5,34,5,35],[1,1,1,2],[5,13,5,14],[18,13,18,14],[19,13,19,14],[4,19,4,22],[5,19,5,20]]}
["Report for:!N303950.095"]
["Date:","<date>"]
["Hen:","<hen>",null,null,null,"Correct Sequence",{"$f":"Start!J2","v":12},null,null,null,null,null,null,null,null,"Total Sequences in Data",{"$f":"4994-COUNTBLANK(L7:L5000)","v":48},null,null,null,null,"Total Sequences in Block Data",{"$f":"COUNTA(L7:L14)","v":8},null,null,null,"Total Sequences in Block Data",{"$f":"COUNTA(L15:L22)","v":8},null,null,null,"Total Sequences in Block Data",{"$f":"COUNTA(L23:L30)","v":8},null,null,null,"Total Sequences in Block Data",{"$f":"COUNTA(L31:L38)","v":8},null,null,null,"Total Sequences in Block Data",{"$f":"COUNTA(L39:L46)","v":8},null,null,null,"Total Sequences in Block Data",{"$f":"COUNTA(L47:L54)","v":8}]
[null,null,null,null,null,null,null,null,null,null,null,null,null,null,null,"Total Sequences in Summary",{"$f":"SUM(O7:O14)","v":48},null,null,null,null,"Total Sequences in Block Summary",{"$f":"SUM(U7:U14)","v":8},null,null,null,"Total Sequences in Block Summary",{"$f":"SUM(Z7:Z14)","v":8},null,null,null,"Total Sequences in Block Summary",{"$f":"SUM(AE7:AE14)","v":8},null,null,null,"Total Sequences in Block Summary",{"$f":"SUM(AJ7:AJ14)","v":8},null,null,null,"Total Sequences in Block Summary",{"$f":"SUM(AO7:AO14)","v":8},null,null,null,"Total Sequences in Block Summary",{"$f":"SUM(AT7:AT14)","v":8}]
[null,null,null,null,null,null,null,null,null,null,null,null,null,null,null,null,null,null,null,"Block 1",null,null,null,null,"Block 2",null,null,null,null,"Block 3",null,null,null,null,"Block 4",null,null,null,null,"Block 5",null,null,null,null,"Block 6"]
["Sequence\nComponent\n1","Time\n1","Sequence\nComponent\n2","Time\n2","Sequence\nComponent\n3","Time\n3","Sequence\nComponent\n4","Time\n4","Sequence\nComponent\n5","Time\n5","Correct?\n0=No 1=Yes","Sequence",null,"Frequency",null,"Relative Frequency","Variability",null,null,"Frequency",null,"Relative Frequency","Variability",null,"Frequency",null,"Relative Frequency","Variability",null,"Frequency",null,"Relative Frequency","Variability",null,"Frequency",null,"Relative Frequency","Variability",null,"Frequency",null,"Relative Frequency","Variability",null,"Frequency",null,"Relative Frequency","Variability"]
[11,83,12,94,null,null,null,null,null,null,0,11,null,11,{"$f":"COUNTIF($L$7:$L$500,N7)","v":11},{"$f":"O7/$Q$4","v":0.22916666666666666},{"$f":"IF(P7=0,0,(P7*((LOG(P7))/LOG(2))))","v":-0.4871008271442176},null,null,{"$f":"N7","v":11},{"$f":"COUNTIF(L7:L14,T7)","v":4},{"$f":"U7/(W4-U8)","v":1},{"$f":"IF(V7=0,0,(V7*((LOG(V7))/LOG(2))))","v":0},null,{"$f":"N7","v":11},{"$f":"COUNTIF(L15:L22,Y7)","v":2},{"$f":"Z7/(AB4-Z8)","v":1},{"$f":"IF(AA7=0,0,(AA7*((LOG(AA7))/LOG(2))))","v":0},null,{"$f":"N7","v":11},{"$f":"COUNTIF(L23:L30,AD7)","v":2},{"$f":"AE7/(AG4-AE8)","v":0.66666666666666663},{"$f":"IF(AF7=0,0,(AF7*((LOG(AF7))/LOG(2))))","v":-0.38997500048077083},null,{"$f":"N7","v":11},{"$f":"COUNTIF(L31:L38,AI7)","v":1},{"$f":"AJ7/(AL4-AJ8)","v":1},{"$f":"IF(AK7=0,0,(AK7*((LOG(AK7))/LOG(2))))","v":0},null,{"$f":"N7","v":11},{"$f":"COUNTIF(L39:L46,AN7)","v":2},{"$f":"AO7/(AQ4-AO8)","v":0.5},{"$f":"IF(AP7=0,0,(AP7*((LOG(AP7))/LOG(2))))","v":-0.5},null,{"$f":"N7","v":11},{"$f":"COUNTIF(L47:L54,AS7)","v":0},{"$f":"AT7/(AV4-AT8)","v":0},{"$f":"IF(AU7=0,0,(AU7*((LOG(AU7))/LOG(2))))","v":0}]
[11,8627,12,8634,null,null,null,null,null,null,0,11,null,12,{"$f":"COUNTIF($L$7:$L$500,N8)","v":30},{"$f":"O8/$Q$4","v":0.625},{"$f":"IF(P8=0,0,(P8*((LOG(P8))/LOG(2))))","v":-0.42379494069539858},null,null,{"$f":"N8","v":12},{"$f":"COUNTIF(L7:L14,T8)","v":4},null,null,null,{"$f":"N8","v":12},{"$f":"COUNTIF(L15:L22,Y8)","v":6},null,null,null,{"$f":"N8","v":12},{"$f":"COUNTIF(L23:L30,AD8)","v":5},null,null,null,{"$f":"N8","v":12},{"$f":"COUNTIF(L31:L38,AI8)","v":7},null,null,null,{"$f":"N8","v":12},{"$f":"COUNTIF(L39:L46,AN8)","v":4},null,null,null,{"$f":"N8","v":12},{"$f":"COUNTIF(L47:L54,AS8)","v":4}]
[11,8732,21,8747,null,null,null,null,null,null,0,12,null,21,{"$f":"COUNTIF($L$7:$L$500,N9)","v":1},{"$f":"O9/$Q$4","v":2.0833333333333332E-2},{"$f":"IF(P9=0,0,(P9*((LOG(P9))/LOG(2))))","v":-0.11635338543169074},null,null,{"$f":"N9","v":21},{"$f":"COUNTIF(L7:L14,T9)","v":0},{"$f":"U9/(W4-U8)","v":0},{"$f":"IF(V9=0,0,(V9*((LOG(V9))/LOG(2))))","v":0},null,{"$f":"N9","v":21},{"$f":"COUNTIF(L15:L22,Y9)","v":0},{"$f":"Z9/(AB4-Z8)","v":0},{"$f":"IF(AA9=0,0,(AA9*((LOG(AA9))/LOG(2))))","v":0},null,{"$f":"N9","v":21},{"$f":"COUNTIF(L23:L30,AD9)","v":0},{"$f":"AE9/(AG4-AE8)","v":0},{"$f":"IF(AF9=0,0,(AF9*((LOG(AF9))/LOG(2))))","v":0},null,{"$f":"N9","v":21},{"$f":"COUNTIF(L31:L38,AI9)","v":0},{"$f":"AJ9/(AL4-AJ8)","v":0},{"$f":"IF(AK9=0,0,(AK9*((LOG(AK9))/LOG(2))))","v":0},null,{"$f":"N9","v":21},{"$f":"COUNTIF(L39:L46,AN9)","v":1},{"$f":"AO9/(AQ4-AO8)","v":0.25},{"$f":"IF(AP9=0,0,(AP9*((LOG(AP9))/LOG(2))))","v":-0.5},null,{"$f":"N9","v":21},{"$f":"COUNTIF(L47:L54,AS9)","v":0},{"$f":"AT9/(AV4-AT8)","v":0},{"$f":"IF(AU9=0,0,(AU9*((LOG(AU9))/LOG(2))))","v":0}]
[11,8846,21,8854,null,null,null,null,null,null,0,12,null,22,{"$f":"COUNTIF($L$7:$L$500,N10)","v":6},{"$f":"O10/$Q$4","v":0.125},{"$f":"IF(P10=0,0,(P10*((LOG(P10))/LOG(2))))","v":-0.375},null,null,{"$f":"N10","v":22},{"$f":"COUNTIF(L7:L14,T10)","v":0},{"$f":"U10/(W4-U8)","v":0},{"$f":"IF(V10=0,0,(V10*((LOG(V10))/LOG(2))))","v":0},null,{"$f":"N10","v":22},{"$f":"COUNTIF(L15:L22,Y10)","v":0},{"$f":"Z10/(AB4-Z8)","v":0},{"$f":"IF(AA10=0,0,(AA10*((LOG(AA10))/LOG(2))))","v":0},null,{"$f":"N10","v":22},{"$f":"COUNTIF(L23:L30,AD10)","v":1},{"$f":"AE10/(AG4-AE8)","v":0.33333333333333331},{"$f":"IF(AF10=0,0,(AF10*((LOG(AF10))/LOG(2))))","v":-0.52832083357371862},null,{"$f":"N10","v":22},{"$f":"COUNTIF(L31:L38,AI10)","v":0},{"$f":"AJ10/(AL4-AJ8)","v":0},{"$f":"IF(AK10=0,0,(AK10*((LOG(AK10))/LOG(2))))","v":0},null,{"$f":"N10","v":22},{"$f":"COUNTIF(L39:L46,AN10)","v":1},{"$f":"AO10/(AQ4-AO8)","v":0.25},{"$f":"IF(AP10=0,0,(AP10*((LOG(AP10))/LOG(2))))","v":-0.5},null,{"$f":"N10","v":22},{"$f":"COUNTIF(L47:L54,AS10)","v":4},{"$f":"AT10/(AV4-AT8)","v":1},{"$f":"IF(AU10=0,0,(AU10*((LOG(AU10))/LOG(2))))","v":0}]
[11,8949,21,8969,null,null,null,null,null,null,0,12,null,null,null,null,null,null,null,{"$f":"N11","v":0},{"$f":"COUNTIF(L7:L14,T11)","v":0},{"$f":"U11/(W4-U8)","v":0},{"$f":"IF(V11=0,0,(V11*((LOG(V11))/LOG(2))))","v":0},null,{"$f":"N11","v":0},{"$f":"COUNTIF(L15:L22,Y11)","v":0},{"$f":"Z11/(AB4-Z8)","v":0},{"$f":"IF(AA11=0,0,(AA11*((LOG(AA11))/LOG(2))))","v":0},null,{"$f":"N11","v":0},{"$f":"COUNTIF(L23:L30,AD11)","v":0},{"$f":"AE11/(AG4-AE8)","v":0},{"$f":"IF(AF11=0,0,(AF11*((LOG(AF11))/LOG(2))))","v":0},null,{"$f":"N11","v":0},{"$f":"COUNTIF(L31:L38,AI11)","v":0},{"$f":"AJ11/(AL4-AJ8)","v":0},{"$f":"IF(AK11=0,0,(AK11*((LOG(AK11))/LOG(2))))","v":0},null,{"$f":"N11","v":0},{"$f":"COUNTIF(L39:L46,AN11)","v":0},{"$f":"AO11/(AQ4-AO8)","v":0},{"$f":"IF(AP11=0,0,(AP11*((LOG(AP11))/LOG(2))))","v":0},null,{"$f":"N11","v":0},{"$f":"COUNTIF(L47:L54,AS11)","v":0},{"$f":"AT11/(AV4-AT8)","v":0},{"$f":"IF(AU11=0,0,(AU11*((LOG(AU11))/LOG(2))))","v":0}]
[11,9120,12,9126,null,null,null,null,null,null,0,11,null,null,null,null,null,null,null,{"$f":"N12","v":0},{"$f":"COUNTIF(L7:L14,T12)","v":0},{"$f":"U12/(W4-U8)","v":0},{"$f":"IF(V12=0,0,(V12*((LOG(V12))/LOG(2))))","v":0},null,{"$f":"N12","v":0},{"$f":"COUNTIF(L15:L22,Y12)","v":0},{"$f":"Z12/(AB4-Z8)","v":0},{"$f":"IF(AA12=0,0,(AA12*((LOG(AA12))/LOG(2))))","v":0},null,{"$f":"N12","v":0},{"$f":"COUNTIF(L23:L30,AD12)","v":0},{"$f":"AE12/(AG4-AE8)","v":0},{"$f":"IF(AF12=0,0,(AF12*((LOG(AF12))/LOG(2))))","v":0},null,{"$f":"N12","v":0},{"$f":"COUNTIF(L31:L38,AI12)","v":0},{"$f":"AJ12/(AL4-AJ8)","v":0},{"$f":"IF(AK12=0,0,(AK12*((LOG(AK12))/LOG(2))))","v":0},null,{"$f":"N12","v":0},{"$f":"COUNTIF(L39:L46,AN12)","v":0},{"$f":"AO12/(AQ4-AO8)","v":0},{"$f":"IF(AP12=0,0,(AP12*((LOG(AP12))/LOG(2))))","v":0},null,{"$f":"N12","v":0},{"$f":"COUNTIF(L47:L54,AS12)","v":0},{"$f":"AT12/(AV4-AT8)","v":0},{"$f":"IF(AU12=0,0,(AU12*((LOG(AU12))/LOG(2))))","v":0}]
[11,13855,12,13862,null,null,null,null,null,null,0,11,null,null,null,null,null,null,null,{"$f":"N13","v":0},{"$f":"COUNTIF(L7:L14,T13)","v":0},{"$f":"U13/(W4-U8)","v":0},{"$f":"IF(V13=0,0,(V13*((LOG(V13))/LOG(2))))","v":0},null,{"$f":"N13","v":0},{"$f":"COUNTIF(L15:L22,Y13)","v":0},{"$f":"Z13/(AB4-Z8)","v":0},{"$f":"IF(AA13=0,0,(AA13*((LOG(AA13))/LOG(2))))","v":0},null,{"$f":"N13","v":0},{"$f":"COUNTIF(L23:L30,AD13)","v":0},{"$f":"AE13/(AG4-AE8)","v":0},{"$f":"IF(AF13=0,0,(AF13*((LOG(AF13))/LOG(2))))","v":0},null,{"$f":"N13","v":0},{"$f":"COUNTIF(L31:L38,AI13)","v":0},{"$f":"AJ13/(AL4-AJ8)","v":0},{"$f":"IF(AK13=0,0,(AK13*((LOG(AK13))/LOG(2))))","v":0},null,{"$f":"N13","v":0},{"$f":"COUNTIF(L39:L46,AN13)","v":0},{"$f":"AO13/(AQ4-AO8)","v":0},{"$f":"IF(AP13=0,0,(AP13*((LOG(AP13))/LOG(2))))","v":0},null,{"$f":"N13","v":0},{"$f":"COUNTIF(L47:L54,AS13)","v":0},{"$f":"AT13/(AV4-AT8)","v":0},{"$f":"IF(AU13=0,0,(AU13*((LOG(AU13))/LOG(2))))","v":0}]
[11,14053,21,14061,null,null,null,null,null,null,0,12,null,null,null,null,null,null,null,{"$f":"N14","v":0},{"$f":"COUNTIF(L7:L14,T14)","v":0},{"$f":"U14/(W4-U8)","v":0},{"$f":"IF(V14=0,0,(V14*((LOG(V14))/LOG(2))))","v":0},null,{"$f":"N14","v":0},{"$f":"COUNTIF(L15:L22,Y14)","v":0},{"$f":"Z14/(AB4-Z8)","v":0},{"$f":"IF(AA14=0,0,(AA14*((LOG(AA14))/LOG(2))))","v":0},null,{"$f":"N14","v":0},{"$f":"COUNTIF(L23:L30,AD14)","v":0},{"$f":"AE14/(AG4-AE8)","v":0},{"$f":"IF(AF14=0,0,(AF14*((LOG(AF14))/LOG(2))))","v":0},null,{"$f":"N14","v":0},{"$f":"COUNTIF(L31:L38,AI14)","v":0},{"$f":"AJ14/(AL4-AJ8)","v":0},{"$f":"IF(AK14=0,0,(AK14*((LOG(AK14))/LOG(2))))","v":0},null,{"$f":"N14","v":0},{"$f":"COUNTIF(L39:L46,AN14)","v":0},{"$f":"AO14/(AQ4-AO8)","v":0},{"$f":"IF(AP14=0,0,(AP14*((LOG(AP14))/LOG(2))))","v":0},null,{"$f":"N14","v":0},{"$f":"COUNTIF(L47:L54,AS14)","v":0},{"$f":"AT14/(AV4-AT8)","v":0},{"$f":"IF(AU14=0,0,(AU14*((LOG(AU14))/LOG(2))))","v":0}]
[11,14202,12,14206,null,null,null,null,null,null,0,11,null,null,null,{"$f":"SUM(P7:P14)","v":1},{"$f":"-SUM(Q7:Q14)","v":1.4022491532713068},null,null,null,null,{"$f":"SUM(V7:V14)","v":1},{"$f":"-SUM(W7:W14)","v":0},null,null,null,{"$f":"SUM(AA7:AA14)","v":1},{"$f":"-SUM(AB7:AB14)","v":0},null,null,null,{"$f":"SUM(AF7:AF14)","v":1},{"$f":"-SUM(AG7:AG14)","v":0.91829583405448945},null,null,null,{"$f":"SUM(AK7:AK14)","v":1},{"$f":"-SUM(AL7:AL14)","v":0},null,null,null,{"$f":"SUM(AP7:AP14)","v":1},{"$f":"-SUM(AQ7:AQ14)","v":1.5},null,null,null,{"$f":"SUM(AU7:AU14)","v":1},{"$f":"-SUM(AV7:AV14)","v":0}]
[11,14399,21,14415,null,null,null,null,null,null,0,12,null,null,null,"U=",{"$f":"Q15/(LOG(Q4)/LOG(2))","v":0.25107584036423558},null,null,null,null,"U1=",{"$f":"W15/(LOG(W4)/LOG(2))","v":0},null,null,null,"U2=",{"$f":"AB15/(LOG(AB4)/LOG(2))","v":0},null,null,null,"U3=",{"$f":"AG15/(LOG(AG4)/LOG(2))","v":0.30609861135149646},null,null,null,"U4=",{"$f":"AL15/(LOG(AL4)/LOG(2))","v":0},null,null,null,"U5=",{"$f":"AQ15/(LOG(AQ4)/LOG(2))","v":0.5},null,null,null,"U6=",{"$f":"AV15/(LOG(AV4)/LOG(2))","v":0}]
[11,14523,21,14544,null,null,null,null,null,null,0,12]
[11,14656,21,14663,null,null,null,null,null,null,0,12]
[11,14773,21,14788,null,null,null,null,null,null,0,12,null,"Total Target Seq"]
[11,14900,21,14907,null,null,null,null,null,null,0,12,null,{"$f":"COUNTIF(L7:L54,G3)","v":30},null,8,8,8,8,8,8]
[11,15033,21,15041,null,null,null,null,null,null,0,12,null,null,null,"% of reinforcement given in 6 equal intervals based on number of trials "]
[11,15195,12,15202,null,null,null,null,null,null,0,11,null,null,null,"%_1","%_2","%_3","%_4","%_5","%_6"]
[11,15849,21,15856,null,null,null,null,null,null,0,12,null,null,"target sequence",{"$f":"$G$3","v":12},{"$f":"$G$3","v":12},{"$f":"$G$3","v":12},{"$f":"$G$3","v":12},{"$f":"$G$3","v":12},{"$f":"$G$3","v":12}]
[11,15953,21,15961,null,null,null,null,null,null,0,12,null,null,"total reinforcement",{"$f":"U8","v":4},{"$f":"Z8","v":6},{"$f":"AE8","v":5},{"$f":"AJ8","v":7},{"$f":"AO8","v":4},{"$f":"AT8","v":4}]
[11,16059,12,16064,null,null,null,null,null,null,0,11,null,null,"% target"]
[11,16169,21,16216,null,null,null,null,null,null,0,12,null,null,"CCRF"]
[11,16714,21,16724,null,null,null,null,null,null,0,12,null,null,"% CCRf"]
[11,16837,12,16848,null,null,null,null,null,null,0,11,null,null,"average response rate",{"$f":"D14/P20","v":1757.625},{"$f":"(D22-D14)/Q20","v":142.625},{"$f":"(D30-D22)/R20","v":237.125},{"$f":"(D38-D30)/S20","v":122},{"$f":"(D46-D38)/T20","v":130.125},{"$f":"(D54-D46)/U20","v":565.75}]
[22,16974,23,16981,null,null,null,null,null,null,0,22]
[11,17087,21,17099,null,null,null,null,null,null,0,12]
[11,17225,21,17244,null,null,null,null,null,null,0,12]
[11,17350,21,17363,null,null,null,null,null,null,0,12]
[11,17487,21,17496,null,null,null,null,null,null,0,12]
[11,17598,21,17605,null,null,null,null,null,null,0,12]
[11,17705,21,17712,null,null,null,null,null,null,0,12]
[11,17813,12,17823,null,null,null,null,null,null,0,11]
[11,17944,21,17951,null,null,null,null,null,null,0,12]
[11,18064,21,18075,null,null,null,null,null,null,0,12]
[11,18173,12,18181,null,null,null,null,null,null,0,11]
[22,18293,23,18306,null,null,null,null,null,null,0,22]
[11,18446,21,18454,null,null,null,null,null,null,0,12]
[11,18554,21,18567,null,null,null,null,null,null,0,12]
[11,18705,21,18722,null,null,null,null,null,null,0,12]
[22,18846,14,18856,null,null,null,null,null,null,0,21]
[11,18977,21,19000,null,null,null,null,null,null,0,12]
[11,19103,12,19116,null,null,null,null,null,null,0,11]
[11,19821,21,19847,null,null,null,null,null,null,0,12]
[22,21042,23,21050,null,null,null,null,null,null,0,22]
[11,21170,21,21190,null,null,null,null,null,null,0,12]
[11,22468,21,22492,null,null,null,null,null,null,0,12]
[11,22631,21,22645,null,null,null,null,null,null,0,12]
[22,23201,23,23207,null,null,null,null,null,null,0,22]
[22,23360,23,23366,null,null,null,null,null,null,0,22]
[22,23634,23,23642,null,null,null,null,null,null,0,22]

{"sheet":"!N304940.095","index":30,"n_rows":60,"n_cols":48,"rows_kept":60,"cut":false,"hidden":false,"merged":[[4,39,4,42],[5,39,5,40],[4,44,4,47],[5,44,5,45],[4,24,4,27],[5,24,5,25],[4,29,4,32],[5,29,5,30],[4,34,4,37],[5,34,5,35],[1,1,1,2],[5,13,5,14],[18,13,18,14],[19,13,19,14],[4,19,4,22],[5,19,5,20]]}
["Report for:!N304940.095"]
["Date:","<date>"]
["Hen:","<hen>",null,null,null,"Correct Sequence",{"$f":"Start!J2","v":12},null,null,null,null,null,null,null,null,"Total Sequences in Data",{"$f":"4994-COUNTBLANK(L7:L5000)","v":54},null,null,null,null,"Total Sequences in Block Data",{"$f":"COUNTA(L7:L15)","v":9},null,null,null,"Total Sequences in Block Data",{"$f":"COUNTA(L16:L24)","v":9},null,null,null,"Total Sequences in Block Data",{"$f":"COUNTA(L25:L33)","v":9},null,null,null,"Total Sequences in Block Data",{"$f":"COUNTA(L34:L42)","v":9},null,null,null,"Total Sequences in Block Data",{"$f":"COUNTA(L43:L51)","v":9},null,null,null,"Total Sequences in Block Data",{"$f":"COUNTA(L52:L60)","v":9}]
[null,null,null,null,null,null,null,null,null,null,null,null,null,null,null,"Total Sequences in Summary",{"$f":"SUM(O7:O14)","v":54},null,null,null,null,"Total Sequences in Block Summary",{"$f":"SUM(U7:U14)","v":9},null,null,null,"Total Sequences in Block Summary",{"$f":"SUM(Z7:Z14)","v":9},null,null,null,"Total Sequences in Block Summary",{"$f":"SUM(AE7:AE14)","v":9},null,null,null,"Total Sequences in Block Summary",{"$f":"SUM(AJ7:AJ14)","v":9},null,null,null,"Total Sequences in Block Summary",{"$f":"SUM(AO7:AO14)","v":9},null,null,null,"Total Sequences in Block Summary",{"$f":"SUM(AT7:AT14)","v":9}]
[null,null,null,null,null,null,null,null,null,null,null,null,null,null,null,null,null,null,null,"Block 1",null,null,null,null,"Block 2",null,null,null,null,"Block 3",null,null,null,null,"Block 4",null,null,null,null,"Block 5",null,null,null,null,"Block 6"]
["Sequence\nComponent\n1","Time\n1","Sequence\nComponent\n2","Time\n2","Sequence\nComponent\n3","Time\n3","Sequence\nComponent\n4","Time\n4","Sequence\nComponent\n5","Time\n5","Correct?\n0=No 1=Yes","Sequence",null,"Frequency",null,"Relative Frequency","Variability",null,null,"Frequency",null,"Relative Frequency","Variability",null,"Frequency",null,"Relative Frequency","Variability",null,"Frequency",null,"Relative Frequency","Variability",null,"Frequency",null,"Relative Frequency","Variability",null,"Frequency",null,"Relative Frequency","Variability",null,"Frequency",null,"Relative Frequency","Variability"]
[11,16,21,37,null,null,null,null,null,null,0,12,null,11,{"$f":"COUNTIF($L$7:$L$500,N7)","v":8},{"$f":"O7/$Q$4","v":0.14814814814814814},{"$f":"IF(P7=0,0,(P7*((LOG(P7))/LOG(2))))","v":-0.40813148180199532},null,null,{"$f":"N7","v":11},{"$f":"COUNTIF(L7:L15,T7)","v":3},{"$f":"U7/(W4-U8)","v":0.75},{"$f":"IF(V7=0,0,(V7*((LOG(V7))/LOG(2))))","v":-0.31127812445913283},null,{"$f":"N7","v":11},{"$f":"COUNTIF(L16:L24,Y7)","v":0},{"$f":"Z7/(AB4-Z8)","v":0},{"$f":"IF(AA7=0,0,(AA7*((LOG(AA7))/LOG(2))))","v":0},null,{"$f":"N7","v":11},{"$f":"COUNTIF(L25:L33,AD7)","v":1},{"$f":"AE7/(AG4-AE8)","v":0.33333333333333331},{"$f":"IF(AF7=0,0,(AF7*((LOG(AF7))/LOG(2))))","v":-0.52832083357371862},null,{"$f":"N7","v":11},{"$f":"COUNTIF(L34:L42,AI7)","v":1},{"$f":"AJ7/(AL4-AJ8)","v":1},{"$f":"IF(AK7=0,0,(AK7*((LOG(AK7))/LOG(2))))","v":0},null,{"$f":"N7","v":11},{"$f":"COUNTIF(L43:L51,AN7)","v":2},{"$f":"AO7/(AQ4-AO8)","v":0.5},{"$f":"IF(AP7=0,0,(AP7*((LOG(AP7))/LOG(2))))","v":-0.5},null,{"$f":"N7","v":11},{"$f":"COUNTIF(L52:L60,AS7)","v":1},{"$f":"AT7/(AV4-AT8)","v":0.33333333333333331},{"$f":"IF(AU7=0,0,(AU7*((LOG(AU7))/LOG(2))))","v":-0.52832083357371862}]
[11,160,12,168,null,null,null,null,null,null,0,11,null,12,{"$f":"COUNTIF($L$7:$L$500,N8)","v":37},{"$f":"O8/$Q$4","v":0.68518518518518523},{"$f":"IF(P8=0,0,(P8*((LOG(P8))/LOG(2))))","v":-0.3737233898477258},null,null,{"$f":"N8","v":12},{"$f":"COUNTIF(L7:L15,T8)","v":5},null,null,null,{"$f":"N8","v":12},{"$f":"COUNTIF(L16:L24,Y8)","v":7},null,null,null,{"$f":"N8","v":12},{"$f":"COUNTIF(L25:L33,AD8)","v":6},null,null,null,{"$f":"N8","v":12},{"$f":"COUNTIF(L34:L42,AI8)","v":8},null,null,null,{"$f":"N8","v":12},{"$f":"COUNTIF(L43:L51,AN8)","v":5},null,null,null,{"$f":"N8","v":12},{"$f":"COUNTIF(L52:L60,AS8)","v":6}]
[11,265,12,273,null,null,null,null,null,null,0,11,null,21,{"$f":"COUNTIF($L$7:$L$500,N9)","v":1},{"$f":"O9/$Q$4","v":1.8518518518518517E-2},{"$f":"IF(P9=0,0,(P9*((LOG(P9))/LOG(2))))","v":-0.10657199078080498},null,null,{"$f":"N9","v":21},{"$f":"COUNTIF(L7:L15,T9)","v":0},{"$f":"U9/(W4-U8)","v":0},{"$f":"IF(V9=0,0,(V9*((LOG(V9))/LOG(2))))","v":0},null,{"$f":"N9","v":21},{"$f":"COUNTIF(L16:L24,Y9)","v":0},{"$f":"Z9/(AB4-Z8)","v":0},{"$f":"IF(AA9=0,0,(AA9*((LOG(AA9))/LOG(2))))","v":0},null,{"$f":"N9","v":21},{"$f":"COUNTIF(L25:L33,AD9)","v":0},{"$f":"AE9/(AG4-AE8)","v":0},{"$f":"IF(AF9=0,0,(AF9*((LOG(AF9))/LOG(2))))","v":0},null,{"$f":"N9","v":21},{"$f":"COUNTIF(L34:L42,AI9)","v":0},{"$f":"AJ9/(AL4-AJ8)","v":0},{"$f":"IF(AK9=0,0,(AK9*((LOG(AK9))/LOG(2))))","v":0},null,{"$f":"N9","v":21},{"$f":"COUNTIF(L43:L51,AN9)","v":0},{"$f":"AO9/(AQ4-AO8)","v":0},{"$f":"IF(AP9=0,0,(AP9*((LOG(AP9))/LOG(2))))","v":0},null,{"$f":"N9","v":21},{"$f":"COUNTIF(L52:L60,AS9)","v":1},{"$f":"AT9/(AV4-AT8)","v":0.33333333333333331},{"$f":"IF(AU9=0,0,(AU9*((LOG(AU9))/LOG(2))))","v":-0.52832083357371862}]
[11,381,21,390,null,null,null,null,null,null,0,12,null,22,{"$f":"COUNTIF($L$7:$L$500,N10)","v":8},{"$f":"O10/$Q$4","v":0.14814814814814814},{"$f":"IF(P10=0,0,(P10*((LOG(P10))/LOG(2))))","v":-0.40813148180199532},null,null,{"$f":"N10","v":22},{"$f":"COUNTIF(L7:L15,T10)","v":1},{"$f":"U10/(W4-U8)","v":0.25},{"$f":"IF(V10=0,0,(V10*((LOG(V10))/LOG(2))))","v":-0.5},null,{"$f":"N10","v":22},{"$f":"COUNTIF(L16:L24,Y10)","v":2},{"$f":"Z10/(AB4-Z8)","v":1},{"$f":"IF(AA10=0,0,(AA10*((LOG(AA10))/LOG(2))))","v":0},null,{"$f":"N10","v":22},{"$f":"COUNTIF(L25:L33,AD10)","v":2},{"$f":"AE10/(AG4-AE8)","v":0.66666666666666663},{"$f":"IF(AF10=0,0,(AF10*((LOG(AF10))/LOG(2))))","v":-0.38997500048077083},null,{"$f":"N10","v":22},{"$f":"COUNTIF(L34:L42,AI10)","v":0},{"$f":"AJ10/(AL4-AJ8)","v":0},{"$f":"IF(AK10=0,0,(AK10*((LOG(AK10))/LOG(2))))","v":0},null,{"$f":"N10","v":22},{"$f":"COUNTIF(L43:L51,AN10)","v":2},{"$f":"AO10/(AQ4-AO8)","v":0.5},{"$f":"IF(AP10=0,0,(AP10*((LOG(AP10))/LOG(2))))","v":-0.5},null,{"$f":"N10","v":22},{"$f":"COUNTIF(L52:L60,AS10)","v":1},{"$f":"AT10/(AV4-AT8)","v":0.33333333333333331},{"$f":"IF(AU10=0,0,(AU10*((LOG(AU10))/LOG(2))))","v":-0.52832083357371862}]
[11,485,12,491,null,null,null,null,null,null,0,11,null,null,null,null,null,null,null,{"$f":"N11","v":0},{"$f":"COUNTIF(L7:L15,T11)","v":0},{"$f":"U11/(W4-U8)","v":0},{"$f":"IF(V11=0,0,(V11*((LOG(V11))/LOG(2))))","v":0},null,{"$f":"N11","v":0},{"$f":"COUNTIF(L16:L24,Y11)","v":0},{"$f":"Z11/(AB4-Z8)","v":0},{"$f":"IF(AA11=0,0,(AA11*((LOG(AA11))/LOG(2))))","v":0},null,{"$f":"N11","v":0},{"$f":"COUNTIF(L25:L33,AD11)","v":0},{"$f":"AE11/(AG4-AE8)","v":0},{"$f":"IF(AF11=0,0,(AF11*((LOG(AF11))/LOG(2))))","v":0},null,{"$f":"N11","v":0},{"$f":"COUNTIF(L34:L42,AI11)","v":0},{"$f":"AJ11/(AL4-AJ8)","v":0},{"$f":"IF(AK11=0,0,(AK11*((LOG(AK11))/LOG(2))))","v":0},null,{"$f":"N11","v":0},{"$f":"COUNTIF(L43:L51,AN11)","v":0},{"$f":"AO11/(AQ4-AO8)","v":0},{"$f":"IF(AP11=0,0,(AP11*((LOG(AP11))/LOG(2))))","v":0},null,{"$f":"N11","v":0},{"$f":"COUNTIF(L52:L60,AS11)","v":0},{"$f":"AT11/(AV4-AT8)","v":0},{"$f":"IF(AU11=0,0,(AU11*((LOG(AU11))/LOG(2))))","v":0}]
[11,590,21,610,null,null,null,null,null,null,0,12,null,null,null,null,null,null,null,{"$f":"N12","v":0},{"$f":"COUNTIF(L7:L15,T12)","v":0},{"$f":"U12/(W4-U8)","v":0},{"$f":"IF(V12=0,0,(V12*((LOG(V12))/LOG(2))))","v":0},null,{"$f":"N12","v":0},{"$f":"COUNTIF(L16:L24,Y12)","v":0},{"$f":"Z12/(AB4-Z8)","v":0},{"$f":"IF(AA12=0,0,(AA12*((LOG(AA12))/LOG(2))))","v":0},null,{"$f":"N12","v":0},{"$f":"COUNTIF(L25:L33,AD12)","v":0},{"$f":"AE12/(AG4-AE8)","v":0},{"$f":"IF(AF12=0,0,(AF12*((LOG(AF12))/LOG(2))))","v":0},null,{"$f":"N12","v":0},{"$f":"COUNTIF(L34:L42,AI12)","v":0},{"$f":"AJ12/(AL4-AJ8)","v":0},{"$f":"IF(AK12=0,0,(AK12*((LOG(AK12))/LOG(2))))","v":0},null,{"$f":"N12","v":0},{"$f":"COUNTIF(L43:L51,AN12)","v":0},{"$f":"AO12/(AQ4-AO8)","v":0},{"$f":"IF(AP12=0,0,(AP12*((LOG(AP12))/LOG(2))))","v":0},null,{"$f":"N12","v":0},{"$f":"COUNTIF(L52:L60,AS12)","v":0},{"$f":"AT12/(AV4-AT8)","v":0},{"$f":"IF(AU12=0,0,(AU12*((LOG(AU12))/LOG(2))))","v":0}]
[11,711,21,737,null,null,null,null,null,null,0,12,null,null,null,null,null,null,null,{"$f":"N13","v":0},{"$f":"COUNTIF(L7:L15,T13)","v":0},{"$f":"U13/(W4-U8)","v":0},{"$f":"IF(V13=0,0,(V13*((LOG(V13))/LOG(2))))","v":0},null,{"$f":"N13","v":0},{"$f":"COUNTIF(L16:L24,Y13)","v":0},{"$f":"Z13/(AB4-Z8)","v":0},{"$f":"IF(AA13=0,0,(AA13*((LOG(AA13))/LOG(2))))","v":0},null,{"$f":"N13","v":0},{"$f":"COUNTIF(L25:L33,AD13)","v":0},{"$f":"AE13/(AG4-AE8)","v":0},{"$f":"IF(AF13=0,0,(AF13*((LOG(AF13))/LOG(2))))","v":0},null,{"$f":"N13","v":0},{"$f":"COUNTIF(L34:L42,AI13)","v":0},{"$f":"AJ13/(AL4-AJ8)","v":0},{"$f":"IF(AK13=0,0,(AK13*((LOG(AK13))/LOG(2))))","v":0},null,{"$f":"N13","v":0},{"$f":"COUNTIF(L43:L51,AN13)","v":0},{"$f":"AO13/(AQ4-AO8)","v":0},{"$f":"IF(AP13=0,0,(AP13*((LOG(AP13))/LOG(2))))","v":0},null,{"$f":"N13","v":0},{"$f":"COUNTIF(L52:L60,AS13)","v":0},{"$f":"AT13/(AV4-AT8)","v":0},{"$f":"IF(AU13=0,0,(AU13*((LOG(AU13))/LOG(2))))","v":0}]
[22,842,23,859,null,null,null,null,null,null,0,22,null,null,null,null,null,null,null,{"$f":"N14","v":0},{"$f":"COUNTIF(L7:L15,T14)","v":0},{"$f":"U14/(W4-U8)","v":0},{"$f":"IF(V14=0,0,(V14*((LOG(V14))/LOG(2))))","v":0},null,{"$f":"N14","v":0},{"$f":"COUNTIF(L16:L24,Y14)","v":0},{"$f":"Z14/(AB4-Z8)","v":0},{"$f":"IF(AA14=0,0,(AA14*((LOG(AA14))/LOG(2))))","v":0},null,{"$f":"N14","v":0},{"$f":"COUNTIF(L25:L33,AD14)","v":0},{"$f":"AE14/(AG4-AE8)","v":0},{"$f":"IF(AF14=0,0,(AF14*((LOG(AF14))/LOG(2))))","v":0},null,{"$f":"N14","v":0},{"$f":"COUNTIF(L34:L42,AI14)","v":0},{"$f":"AJ14/(AL4-AJ8)","v":0},{"$f":"IF(AK14=0,0,(AK14*((LOG(AK14))/LOG(2))))","v":0},null,{"$f":"N14","v":0},{"$f":"COUNTIF(L43:L51,AN14)","v":0},{"$f":"AO14/(AQ4-AO8)","v":0},{"$f":"IF(AP14=0,0,(AP14*((LOG(AP14))/LOG(2))))","v":0},null,{"$f":"N14","v":0},{"$f":"COUNTIF(L52:L60,AS14)","v":0},{"$f":"AT14/(AV4-AT8)","v":0},{"$f":"IF(AU14=0,0,(AU14*((LOG(AU14))/LOG(2))))","v":0}]
[11,965,21,985,null,null,null,null,null,null,0,12,null,null,null,{"$f":"SUM(P7:P14)","v":1},{"$f":"-SUM(Q7:Q14)","v":1.2965583442325213},null,null,null,null,{"$f":"SUM(V7:V14)","v":1},{"$f":"-SUM(W7:W14)","v":0.81127812445913283},null,null,null,{"$f":"SUM(AA7:AA14)","v":1},{"$f":"-SUM(AB7:AB14)","v":0},null,null,null,{"$f":"SUM(AF7:AF14)","v":1},{"$f":"-SUM(AG7:AG14)","v":0.91829583405448945},null,null,null,{"$f":"SUM(AK7:AK14)","v":1},{"$f":"-SUM(AL7:AL14)","v":0},null,null,null,{"$f":"SUM(AP7:AP14)","v":1},{"$f":"-SUM(AQ7:AQ14)","v":1},null,null,null,{"$f":"SUM(AU7:AU14)","v":1},{"$f":"-SUM(AV7:AV14)","v":1.5849625007211559}]
[11,1091,21,1101,null,null,null,null,null,null,0,12,null,null,null,"U=",{"$f":"Q15/(LOG(Q4)/LOG(2))","v":0.22529690523839055},null,null,null,null,"U1=",{"$f":"W15/(LOG(W4)/LOG(2))","v":0.25592975357145742},null,null,null,"U2=",{"$f":"AB15/(LOG(AB4)/LOG(2))","v":0},null,null,null,"U3=",{"$f":"AG15/(LOG(AG4)/LOG(2))","v":0.28969008214284753},null,null,null,"U4=",{"$f":"AL15/(LOG(AL4)/LOG(2))","v":0},null,null,null,"U5=",{"$f":"AQ15/(LOG(AQ4)/LOG(2))","v":0.31546487678572877},null,null,null,"U6=",{"$f":"AV15/(LOG(AV4)/LOG(2))","v":0.49999999999999994}]
[11,1201,21,1215,null,null,null,null,null,null,0,12]
[11,1310,21,1340,null,null,null,null,null,null,0,12]
[11,1440,21,1449,null,null,null,null,null,null,0,12,null,"Total Target Seq"]
[22,1567,23,1581,null,null,null,null,null,null,0,22,null,{"$f":"COUNTIF(L7:L60,G3)","v":37},null,9,9,9,9,9,9]
[11,1681,21,1693,null,null,null,null,null,null,0,12,null,null,null,"% of reinforcement given in 6 equal intervals based on number of trials "]
[11,1785,21,1816,null,null,null,null,null,null,0,12,null,null,null,"%_1","%_2","%_3","%_4","%_5","%_6"]
[22,1917,23,1923,null,null,null,null,null,null,0,22,null,null,"target sequence",{"$f":"$G$3","v":12},{"$f":"$G$3","v":12},{"$f":"$G$3","v":12},{"$f":"$G$3","v":12},{"$f":"$G$3","v":12},{"$f":"$G$3","v":12}]
[11,2023,21,2032,null,null,null,null,null,null,0,12,null,null,"total reinforcement",{"$f":"U8","v":5},{"$f":"Z8","v":7},{"$f":"AE8","v":6},{"$f":"AJ8","v":8},{"$f":"AO8","v":5},{"$f":"AT8","v":6}]
[22,2151,23,2158,null,null,null,null,null,null,0,22,null,null,"% target"]
[22,2264,23,2287,null,null,null,null,null,null,0,22,null,null,"CCRF"]
[11,2405,21,2427,null,null,null,null,null,null,0,12,null,null,"% CCRf"]
[11,2536,21,2551,null,null,null,null,null,null,0,12,null,null,"average response rate",{"$f":"D15/P20","v":109.44444444444444},{"$f":"(D24-D15)/Q20","v":116.33333333333333},{"$f":"(D33-D24)/R20","v":118},{"$f":"(D42-D33)/S20","v":126.88888888888889},{"$f":"(D51-D42)/T20","v":229.22222222222223},{"$f":"(D60-D51)/U20","v":277.66666666666669}]
[11,2653,21,2662,null,null,null,null,null,null,0,12]
[11,2758,21,2765,null,null,null,null,null,null,0,12]
[11,2857,12,2862,null,null,null,null,null,null,0,11]
[11,2960,21,2974,null,null,null,null,null,null,0,12]
[11,3073,21,3094,null,null,null,null,null,null,0,12]
[11,3190,21,3229,null,null,null,null,null,null,0,12]
[11,3329,21,3348,null,null,null,null,null,null,0,12]
[11,3517,21,3529,null,null,null,null,null,null,0,12]
[11,3622,21,3633,null,null,null,null,null,null,0,12]
[11,3792,21,3800,null,null,null,null,null,null,0,12]
[11,3892,21,3900,null,null,null,null,null,null,0,12]
[11,3997,21,4018,null,null,null,null,null,null,0,12]
[11,4113,12,4121,null,null,null,null,null,null,0,11]
[11,4227,21,4236,null,null,null,null,null,null,0,12]
[11,4343,21,4364,null,null,null,null,null,null,0,12]
[11,4462,12,4476,null,null,null,null,null,null,0,11]
[11,4677,21,4720,null,null,null,null,null,null,0,12]
[11,4826,21,4846,null,null,null,null,null,null,0,12]
[11,4955,12,4972,null,null,null,null,null,null,0,11]
[22,5101,23,5110,null,null,null,null,null,null,0,22]
[11,5670,21,5678,null,null,null,null,null,null,0,12]
[11,5877,21,5903,null,null,null,null,null,null,0,12]
[22,6206,23,6299,null,null,null,null,null,null,0,22]
[11,6414,21,6422,null,null,null,null,null,null,0,12]
[11,6659,21,6671,null,null,null,null,null,null,0,12]
[11,6804,21,6838,null,null,null,null,null,null,0,12]
[22,7085,14,7320,null,null,null,null,null,null,0,21]
[22,7549,23,7558,null,null,null,null,null,null,0,22]
[11,7900,12,7906,null,null,null,null,null,null,0,11]
[11,8256,21,8279,null,null,null,null,null,null,0,12]
[11,8446,21,8468,null,null,null,null,null,null,0,12]
[11,8784,21,8798,null,null,null,null,null,null,1,12]

{"sheet":"!N306A10.095","index":31,"n_rows":65,"n_cols":48,"rows_kept":65,"cut":false,"hidden":false,"merged":[[4,39,4,42],[5,39,5,40],[4,44,4,47],[5,44,5,45],[4,24,4,27],[5,24,5,25],[4,29,4,32],[5,29,5,30],[4,34,4,37],[5,34,5,35],[1,1,1,2],[5,13,5,14],[18,13,18,14],[19,13,19,14],[4,19,4,22],[5,19,5,20]]}
["Report for:!N306A10.095"]
["Date:","<date>"]
["Hen:","<hen>",null,null,null,"Correct Sequence",{"$f":"Start!J2","v":12},null,null,null,null,null,null,null,null,"Total Sequences in Data",{"$f":"4994-COUNTBLANK(L7:L5000)","v":59},null,null,null,null,"Total Sequences in Block Data",{"$f":"COUNTA(L7:L16)","v":10},null,null,null,"Total Sequences in Block Data",{"$f":"COUNTA(L17:L26)","v":10},null,null,null,"Total Sequences in Block Data",{"$f":"COUNTA(L27:L35)","v":9},null,null,null,"Total Sequences in Block Data",{"$f":"COUNTA(L36:L45)","v":10},null,null,null,"Total Sequences in Block Data",{"$f":"COUNTA(L46:L55)","v":10},null,null,null,"Total Sequences in Block Data",{"$f":"COUNTA(L56:L65)","v":10}]
[null,null,null,null,null,null,null,null,null,null,null,null,null,null,null,"Total Sequences in Summary",{"$f":"SUM(O7:O14)","v":59},null,null,null,null,"Total Sequences in Block Summary",{"$f":"SUM(U7:U14)","v":10},null,null,null,"Total Sequences in Block Summary",{"$f":"SUM(Z7:Z14)","v":10},null,null,null,"Total Sequences in Block Summary",{"$f":"SUM(AE7:AE14)","v":9},null,null,null,"Total Sequences in Block Summary",{"$f":"SUM(AJ7:AJ14)","v":10},null,null,null,"Total Sequences in Block Summary",{"$f":"SUM(AO7:AO14)","v":10},null,null,null,"Total Sequences in Block Summary",{"$f":"SUM(AT7:AT14)","v":10}]
[null,null,null,null,null,null,null,null,null,null,null,null,null,null,null,null,null,null,null,"Block 1",null,null,null,null,"Block 2",null,null,null,null,"Block 3",null,null,null,null,"Block 4",null,null,null,null,"Block 5",null,null,null,null,"Block 6"]
["Sequence\nComponent\n1","Time\n1","Sequence\nComponent\n2","Time\n2","Sequence\nComponent\n3","Time\n3","Sequence\nComponent\n4","Time\n4","Sequence\nComponent\n5","Time\n5","Correct?\n0=No 1=Yes","Sequence",null,"Frequency",null,"Relative Frequency","Variability",null,null,"Frequency",null,"Relative Frequency","Variability",null,"Frequency",null,"Relative Frequency","Variability",null,"Frequency",null,"Relative Frequency","Variability",null,"Frequency",null,"Relative Frequency","Variability",null,"Frequency",null,"Relative Frequency","Variability",null,"Frequency",null,"Relative Frequency","Variability"]
[11,7,12,23,null,null,null,null,null,null,0,11,null,11,{"$f":"COUNTIF($L$7:$L$500,N7)","v":6},{"$f":"O7/$Q$4","v":0.10169491525423729},{"$f":"IF(P7=0,0,(P7*((LOG(P7))/LOG(2))))","v":-0.33535734392956118},null,null,{"$f":"N7","v":11},{"$f":"COUNTIF(L7:L16,T7)","v":2},{"$f":"U7/(W4-U8)","v":0.5},{"$f":"IF(V7=0,0,(V7*((LOG(V7))/LOG(2))))","v":-0.5},null,{"$f":"N7","v":11},{"$f":"COUNTIF(L17:L26,Y7)","v":1},{"$f":"Z7/(AB4-Z8)","v":0.25},{"$f":"IF(AA7=0,0,(AA7*((LOG(AA7))/LOG(2))))","v":-0.5},null,{"$f":"N7","v":11},{"$f":"COUNTIF(L27:L35,AD7)","v":0},{"$f":"AE7/(AG4-AE8)","v":0},{"$f":"IF(AF7=0,0,(AF7*((LOG(AF7))/LOG(2))))","v":0},null,{"$f":"N7","v":11},{"$f":"COUNTIF(L36:L45,AI7)","v":0},{"$f":"AJ7/(AL4-AJ8)","v":0},{"$f":"IF(AK7=0,0,(AK7*((LOG(AK7))/LOG(2))))","v":0},null,{"$f":"N7","v":11},{"$f":"COUNTIF(L46:L55,AN7)","v":2},{"$f":"AO7/(AQ4-AO8)","v":0.5},{"$f":"IF(AP7=0,0,(AP7*((LOG(AP7))/LOG(2))))","v":-0.5},null,{"$f":"N7","v":11},{"$f":"COUNTIF(L56:L65,AS7)","v":1},{"$f":"AT7/(AV4-AT8)","v":0.5},{"$f":"IF(AU7=0,0,(AU7*((LOG(AU7))/LOG(2))))","v":-0.5}]
[11,151,21,159,null,null,null,null,null,null,0,12,null,12,{"$f":"COUNTIF($L$7:$L$500,N8)","v":38},{"$f":"O8/$Q$4","v":0.64406779661016944},{"$f":"IF(P8=0,0,(P8*((LOG(P8))/LOG(2))))","v":-0.40879983669311387},null,null,{"$f":"N8","v":12},{"$f":"COUNTIF(L7:L16,T8)","v":6},null,null,null,{"$f":"N8","v":12},{"$f":"COUNTIF(L17:L26,Y8)","v":6},null,null,null,{"$f":"N8","v":12},{"$f":"COUNTIF(L27:L35,AD8)","v":4},null,null,null,{"$f":"N8","v":12},{"$f":"COUNTIF(L36:L45,AI8)","v":8},null,null,null,{"$f":"N8","v":12},{"$f":"COUNTIF(L46:L55,AN8)","v":6},null,null,null,{"$f":"N8","v":12},{"$f":"COUNTIF(L56:L65,AS8)","v":8}]
[22,285,23,293,null,null,null,null,null,null,0,22,null,21,{"$f":"COUNTIF($L$7:$L$500,N9)","v":2},{"$f":"O9/$Q$4","v":3.3898305084745763E-2},{"$f":"IF(P9=0,0,(P9*((LOG(P9))/LOG(2))))","v":-0.16551332370718108},null,null,{"$f":"N9","v":21},{"$f":"COUNTIF(L7:L16,T9)","v":1},{"$f":"U9/(W4-U8)","v":0.25},{"$f":"IF(V9=0,0,(V9*((LOG(V9))/LOG(2))))","v":-0.5},null,{"$f":"N9","v":21},{"$f":"COUNTIF(L17:L26,Y9)","v":0},{"$f":"Z9/(AB4-Z8)","v":0},{"$f":"IF(AA9=0,0,(AA9*((LOG(AA9))/LOG(2))))","v":0},null,{"$f":"N9","v":21},{"$f":"COUNTIF(L27:L35,AD9)","v":1},{"$f":"AE9/(AG4-AE8)","v":0.2},{"$f":"IF(AF9=0,0,(AF9*((LOG(AF9))/LOG(2))))","v":-0.46438561897747244},null,{"$f":"N9","v":21},{"$f":"COUNTIF(L36:L45,AI9)","v":0},{"$f":"AJ9/(AL4-AJ8)","v":0},{"$f":"IF(AK9=0,0,(AK9*((LOG(AK9))/LOG(2))))","v":0},null,{"$f":"N9","v":21},{"$f":"COUNTIF(L46:L55,AN9)","v":0},{"$f":"AO9/(AQ4-AO8)","v":0},{"$f":"IF(AP9=0,0,(AP9*((LOG(AP9))/LOG(2))))","v":0},null,{"$f":"N9","v":21},{"$f":"COUNTIF(L56:L65,AS9)","v":0},{"$f":"AT9/(AV4-AT8)","v":0},{"$f":"IF(AU9=0,0,(AU9*((LOG(AU9))/LOG(2))))","v":0}]
[11,397,21,405,null,null,null,null,null,null,0,12,null,22,{"$f":"COUNTIF($L$7:$L$500,N10)","v":13},{"$f":"O10/$Q$4","v":0.22033898305084745},{"$f":"IF(P10=0,0,(P10*((LOG(P10))/LOG(2))))","v":-0.48082446281135144},null,null,{"$f":"N10","v":22},{"$f":"COUNTIF(L7:L16,T10)","v":1},{"$f":"U10/(W4-U8)","v":0.25},{"$f":"IF(V10=0,0,(V10*((LOG(V10))/LOG(2))))","v":-0.5},null,{"$f":"N10","v":22},{"$f":"COUNTIF(L17:L26,Y10)","v":3},{"$f":"Z10/(AB4-Z8)","v":0.75},{"$f":"IF(AA10=0,0,(AA10*((LOG(AA10))/LOG(2))))","v":-0.31127812445913283},null,{"$f":"N10","v":22},{"$f":"COUNTIF(L27:L35,AD10)","v":4},{"$f":"AE10/(AG4-AE8)","v":0.8},{"$f":"IF(AF10=0,0,(AF10*((LOG(AF10))/LOG(2))))","v":-0.25754247590988982},null,{"$f":"N10","v":22},{"$f":"COUNTIF(L36:L45,AI10)","v":2},{"$f":"AJ10/(AL4-AJ8)","v":1},{"$f":"IF(AK10=0,0,(AK10*((LOG(AK10))/LOG(2))))","v":0},null,{"$f":"N10","v":22},{"$f":"COUNTIF(L46:L55,AN10)","v":2},{"$f":"AO10/(AQ4-AO8)","v":0.5},{"$f":"IF(AP10=0,0,(AP10*((LOG(AP10))/LOG(2))))","v":-0.5},null,{"$f":"N10","v":22},{"$f":"COUNTIF(L56:L65,AS10)","v":1},{"$f":"AT10/(AV4-AT8)","v":0.5},{"$f":"IF(AU10=0,0,(AU10*((LOG(AU10))/LOG(2))))","v":-0.5}]
[11,510,21,573,null,null,null,null,null,null,0,12,null,null,null,null,null,null,null,{"$f":"N11","v":0},{"$f":"COUNTIF(L7:L16,T11)","v":0},{"$f":"U11/(W4-U8)","v":0},{"$f":"IF(V11=0,0,(V11*((LOG(V11))/LOG(2))))","v":0},null,{"$f":"N11","v":0},{"$f":"COUNTIF(L17:L26,Y11)","v":0},{"$f":"Z11/(AB4-Z8)","v":0},{"$f":"IF(AA11=0,0,(AA11*((LOG(AA11))/LOG(2))))","v":0},null,{"$f":"N11","v":0},{"$f":"COUNTIF(L27:L35,AD11)","v":0},{"$f":"AE11/(AG4-AE8)","v":0},{"$f":"IF(AF11=0,0,(AF11*((LOG(AF11))/LOG(2))))","v":0},null,{"$f":"N11","v":0},{"$f":"COUNTIF(L36:L45,AI11)","v":0},{"$f":"AJ11/(AL4-AJ8)","v":0},{"$f":"IF(AK11=0,0,(AK11*((LOG(AK11))/LOG(2))))","v":0},null,{"$f":"N11","v":0},{"$f":"COUNTIF(L46:L55,AN11)","v":0},{"$f":"AO11/(AQ4-AO8)","v":0},{"$f":"IF(AP11=0,0,(AP11*((LOG(AP11))/LOG(2))))","v":0},null,{"$f":"N11","v":0},{"$f":"COUNTIF(L56:L65,AS11)","v":0},{"$f":"AT11/(AV4-AT8)","v":0},{"$f":"IF(AU11=0,0,(AU11*((LOG(AU11))/LOG(2))))","v":0}]
[11,673,12,681,null,null,null,null,null,null,0,11,null,null,null,null,null,null,null,{"$f":"N12","v":0},{"$f":"COUNTIF(L7:L16,T12)","v":0},{"$f":"U12/(W4-U8)","v":0},{"$f":"IF(V12=0,0,(V12*((LOG(V12))/LOG(2))))","v":0},null,{"$f":"N12","v":0},{"$f":"COUNTIF(L17:L26,Y12)","v":0},{"$f":"Z12/(AB4-Z8)","v":0},{"$f":"IF(AA12=0,0,(AA12*((LOG(AA12))/LOG(2))))","v":0},null,{"$f":"N12","v":0},{"$f":"COUNTIF(L27:L35,AD12)","v":0},{"$f":"AE12/(AG4-AE8)","v":0},{"$f":"IF(AF12=0,0,(AF12*((LOG(AF12))/LOG(2))))","v":0},null,{"$f":"N12","v":0},{"$f":"COUNTIF(L36:L45,AI12)","v":0},{"$f":"AJ12/(AL4-AJ8)","v":0},{"$f":"IF(AK12=0,0,(AK12*((LOG(AK12))/LOG(2))))","v":0},null,{"$f":"N12","v":0},{"$f":"COUNTIF(L46:L55,AN12)","v":0},{"$f":"AO12/(AQ4-AO8)","v":0},{"$f":"IF(AP12=0,0,(AP12*((LOG(AP12))/LOG(2))))","v":0},null,{"$f":"N12","v":0},{"$f":"COUNTIF(L56:L65,AS12)","v":0},{"$f":"AT12/(AV4-AT8)","v":0},{"$f":"IF(AU12=0,0,(AU12*((LOG(AU12))/LOG(2))))","v":0}]
[22,787,14,795,null,null,null,null,null,null,0,21,null,null,null,null,null,null,null,{"$f":"N13","v":0},{"$f":"COUNTIF(L7:L16,T13)","v":0},{"$f":"U13/(W4-U8)","v":0},{"$f":"IF(V13=0,0,(V13*((LOG(V13))/LOG(2))))","v":0},null,{"$f":"N13","v":0},{"$f":"COUNTIF(L17:L26,Y13)","v":0},{"$f":"Z13/(AB4-Z8)","v":0},{"$f":"IF(AA13=0,0,(AA13*((LOG(AA13))/LOG(2))))","v":0},null,{"$f":"N13","v":0},{"$f":"COUNTIF(L27:L35,AD13)","v":0},{"$f":"AE13/(AG4-AE8)","v":0},{"$f":"IF(AF13=0,0,(AF13*((LOG(AF13))/LOG(2))))","v":0},null,{"$f":"N13","v":0},{"$f":"COUNTIF(L36:L45,AI13)","v":0},{"$f":"AJ13/(AL4-AJ8)","v":0},{"$f":"IF(AK13=0,0,(AK13*((LOG(AK13))/LOG(2))))","v":0},null,{"$f":"N13","v":0},{"$f":"COUNTIF(L46:L55,AN13)","v":0},{"$f":"AO13/(AQ4-AO8)","v":0},{"$f":"IF(AP13=0,0,(AP13*((LOG(AP13))/LOG(2))))","v":0},null,{"$f":"N13","v":0},{"$f":"COUNTIF(L56:L65,AS13)","v":0},{"$f":"AT13/(AV4-AT8)","v":0},{"$f":"IF(AU13=0,0,(AU13*((LOG(AU13))/LOG(2))))","v":0}]
[11,895,21,902,null,null,null,null,null,null,0,12,null,null,null,null,null,null,null,{"$f":"N14","v":0},{"$f":"COUNTIF(L7:L16,T14)","v":0},{"$f":"U14/(W4-U8)","v":0},{"$f":"IF(V14=0,0,(V14*((LOG(V14))/LOG(2))))","v":0},null,{"$f":"N14","v":0},{"$f":"COUNTIF(L17:L26,Y14)","v":0},{"$f":"Z14/(AB4-Z8)","v":0},{"$f":"IF(AA14=0,0,(AA14*((LOG(AA14))/LOG(2))))","v":0},null,{"$f":"N14","v":0},{"$f":"COUNTIF(L27:L35,AD14)","v":0},{"$f":"AE14/(AG4-AE8)","v":0},{"$f":"IF(AF14=0,0,(AF14*((LOG(AF14))/LOG(2))))","v":0},null,{"$f":"N14","v":0},{"$f":"COUNTIF(L36:L45,AI14)","v":0},{"$f":"AJ14/(AL4-AJ8)","v":0},{"$f":"IF(AK14=0,0,(AK14*((LOG(AK14))/LOG(2))))","v":0},null,{"$f":"N14","v":0},{"$f":"COUNTIF(L46:L55,AN14)","v":0},{"$f":"AO14/(AQ4-AO8)","v":0},{"$f":"IF(AP14=0,0,(AP14*((LOG(AP14))/LOG(2))))","v":0},null,{"$f":"N14","v":0},{"$f":"COUNTIF(L56:L65,AS14)","v":0},{"$f":"AT14/(AV4-AT8)","v":0},{"$f":"IF(AU14=0,0,(AU14*((LOG(AU14))/LOG(2))))","v":0}]
[11,1020,21,1028,null,null,null,null,null,null,0,12,null,null,null,{"$f":"SUM(P7:P14)","v":1},{"$f":"-SUM(Q7:Q14)","v":1.3904949671412075},null,null,null,null,{"$f":"SUM(V7:V14)","v":1},{"$f":"-SUM(W7:W14)","v":1.5},null,null,null,{"$f":"SUM(AA7:AA14)","v":1},{"$f":"-SUM(AB7:AB14)","v":0.81127812445913283},null,null,null,{"$f":"SUM(AF7:AF14)","v":1},{"$f":"-SUM(AG7:AG14)","v":0.72192809488736231},null,null,null,{"$f":"SUM(AK7:AK14)","v":1},{"$f":"-SUM(AL7:AL14)","v":0},null,null,null,{"$f":"SUM(AP7:AP14)","v":1},{"$f":"-SUM(AQ7:AQ14)","v":1},null,null,null,{"$f":"SUM(AU7:AU14)","v":1},{"$f":"-SUM(AV7:AV14)","v":1}]
[11,1126,21,1133,null,null,null,null,null,null,0,12,null,null,null,"U=",{"$f":"Q15/(LOG(Q4)/LOG(2))","v":0.23637248690315327},null,null,null,null,"U1=",{"$f":"W15/(LOG(W4)/LOG(2))","v":0.45154499349597182},null,null,null,"U2=",{"$f":"AB15/(LOG(AB4)/LOG(2))","v":0.24421905028821556},null,null,null,"U3=",{"$f":"AG15/(LOG(AG4)/LOG(2))","v":0.22774295750179763},null,null,null,"U4=",{"$f":"AL15/(LOG(AL4)/LOG(2))","v":0},null,null,null,"U5=",{"$f":"AQ15/(LOG(AQ4)/LOG(2))","v":0.3010299956639812},null,null,null,"U6=",{"$f":"AV15/(LOG(AV4)/LOG(2))","v":0.3010299956639812}]
[11,1253,21,1278,null,null,null,null,null,null,0,12]
[22,1383,23,1389,null,null,null,null,null,null,0,22]
[11,1489,21,1494,null,null,null,null,null,null,0,12,null,"Total Target Seq"]
[11,1587,12,1600,null,null,null,null,null,null,0,11,null,{"$f":"COUNTIF(L7:L65,G3)","v":38},null,10,10,9,10,10,10]
[22,1730,23,1744,null,null,null,null,null,null,0,22,null,null,null,"% of reinforcement given in 6 equal intervals based on number of trials "]
[22,1872,23,1879,null,null,null,null,null,null,0,22,null,null,null,"%_1","%_2","%_3","%_4","%_5","%_6"]
[11,1981,21,1994,null,null,null,null,null,null,0,12,null,null,"target sequence",{"$f":"$G$3","v":12},{"$f":"$G$3","v":12},{"$f":"$G$3","v":12},{"$f":"$G$3","v":12},{"$f":"$G$3","v":12},{"$f":"$G$3","v":12}]
[11,2094,21,2106,null,null,null,null,null,null,0,12,null,null,"total reinforcement",{"$f":"U8","v":6},{"$f":"Z8","v":6},{"$f":"AE8","v":4},{"$f":"AJ8","v":8},{"$f":"AO8","v":6},{"$f":"AT8","v":8}]
[11,2199,21,2212,null,null,null,null,null,null,0,12,null,null,"% target"]
[11,2316,21,2330,null,null,null,null,null,null,0,12,null,null,"CCRF"]
[22,2458,23,2469,null,null,null,null,null,null,0,22,null,null,"% CCRf"]
[22,2579,23,2593,null,null,null,null,null,null,0,22,null,null,"average response rate",{"$f":"D16/P20","v":113.3},{"$f":"(D26-D16)/Q20","v":119.7},{"$f":"(D35-D26)/R20","v":120.88888888888889},{"$f":"(D45-D35)/S20","v":118.3},{"$f":"(D55-D45)/T20","v":117.2},{"$f":"(D65-D55)/U20","v":115.5}]
[11,2694,21,2702,null,null,null,null,null,null,0,12]
[22,2814,23,2821,null,null,null,null,null,null,0,22]
[22,2928,23,2934,null,null,null,null,null,null,0,22]
[22,3041,14,3048,null,null,null,null,null,null,0,21]
[11,3146,21,3161,null,null,null,null,null,null,0,12]
[11,3255,21,3289,null,null,null,null,null,null,0,12]
[11,3383,21,3418,null,null,null,null,null,null,0,12]
[11,3516,21,3536,null,null,null,null,null,null,0,12]
[11,3635,21,3648,null,null,null,null,null,null,0,12]
[11,3747,21,3761,null,null,null,null,null,null,0,12]
[11,3859,21,3866,null,null,null,null,null,null,0,12]
[22,3999,23,4006,null,null,null,null,null,null,0,22]
[22,4112,23,4118,null,null,null,null,null,null,0,22]
[11,4217,21,4235,null,null,null,null,null,null,0,12]
[11,4338,21,4378,null,null,null,null,null,null,0,12]
[11,4471,21,4478,null,null,null,null,null,null,0,12]
[11,4575,21,4601,null,null,null,null,null,null,0,12]
[22,4719,23,4734,null,null,null,null,null,null,0,22]
[11,4840,21,4865,null,null,null,null,null,null,0,12]
[11,4971,21,4978,null,null,null,null,null,null,0,12]
[11,5078,12,5088,null,null,null,null,null,null,0,11]
[22,5193,23,5206,null,null,null,null,null,null,0,22]
[11,5309,21,5316,null,null,null,null,null,null,0,12]
[11,5411,12,5415,null,null,null,null,null,null,0,11]
[11,5520,21,5539,null,null,null,null,null,null,0,12]
[11,5645,21,5658,null,null,null,null,null,null,0,12]
[11,5760,21,5773,null,null,null,null,null,null,0,12]
[11,5868,12,5878,null,null,null,null,null,null,0,11]
[11,5976,21,5998,null,null,null,null,null,null,0,12]
[11,6094,21,6115,null,null,null,null,null,null,0,12]
[11,6215,21,6236,null,null,null,null,null,null,0,12]
[11,6336,21,6345,null,null,null,null,null,null,0,12]
[11,6443,21,6451,null,null,null,null,null,null,0,12]
[22,6571,23,6586,null,null,null,null,null,null,0,22]
[11,6691,21,6706,null,null,null,null,null,null,0,12]
[11,6815,21,6823,null,null,null,null,null,null,0,12]
[11,6918,21,6928,null,null,null,null,null,null,1,12]

{"sheet":"!N307840.095","index":32,"n_rows":60,"n_cols":48,"rows_kept":60,"cut":false,"hidden":false,"merged":[[4,39,4,42],[5,39,5,40],[4,44,4,47],[5,44,5,45],[4,24,4,27],[5,24,5,25],[4,29,4,32],[5,29,5,30],[4,34,4,37],[5,34,5,35],[1,1,1,2],[5,13,5,14],[18,13,18,14],[19,13,19,14],[4,19,4,22],[5,19,5,20]]}
["Report for:!N307840.095"]
["Date:","<date>"]
["Hen:","<hen>",null,null,null,"Correct Sequence",{"$f":"Start!J2","v":12},null,null,null,null,null,null,null,null,"Total Sequences in Data",{"$f":"4994-COUNTBLANK(L7:L5000)","v":54},null,null,null,null,"Total Sequences in Block Data",{"$f":"COUNTA(L7:L15)","v":9},null,null,null,"Total Sequences in Block Data",{"$f":"COUNTA(L16:L24)","v":9},null,null,null,"Total Sequences in Block Data",{"$f":"COUNTA(L25:L33)","v":9},null,null,null,"Total Sequences in Block Data",{"$f":"COUNTA(L34:L42)","v":9},null,null,null,"Total Sequences in Block Data",{"$f":"COUNTA(L43:L51)","v":9},null,null,null,"Total Sequences in Block Data",{"$f":"COUNTA(L52:L60)","v":9}]
[null,null,null,null,null,null,null,null,null,null,null,null,null,null,null,"Total Sequences in Summary",{"$f":"SUM(O7:O14)","v":54},null,null,null,null,"Total Sequences in Block Summary",{"$f":"SUM(U7:U14)","v":9},null,null,null,"Total Sequences in Block Summary",{"$f":"SUM(Z7:Z14)","v":9},null,null,null,"Total Sequences in Block Summary",{"$f":"SUM(AE7:AE14)","v":9},null,null,null,"Total Sequences in Block Summary",{"$f":"SUM(AJ7:AJ14)","v":9},null,null,null,"Total Sequences in Block Summary",{"$f":"SUM(AO7:AO14)","v":9},null,null,null,"Total Sequences in Block Summary",{"$f":"SUM(AT7:AT14)","v":9}]
[null,null,null,null,null,null,null,null,null,null,null,null,null,null,null,null,null,null,null,"Block 1",null,null,null,null,"Block 2",null,null,null,null,"Block 3",null,null,null,null,"Block 4",null,null,null,null,"Block 5",null,null,null,null,"Block 6"]
["Sequence\nComponent\n1","Time\n1","Sequence\nComponent\n2","Time\n2","Sequence\nComponent\n3","Time\n3","Sequence\nComponent\n4","Time\n4","Sequence\nComponent\n5","Time\n5","Correct?\n0=No 1=Yes","Sequence",null,"Frequency",null,"Relative Frequency","Variability",null,null,"Frequency",null,"Relative Frequency","Variability",null,"Frequency",null,"Relative Frequency","Variability",null,"Frequency",null,"Relative Frequency","Variability",null,"Frequency",null,"Relative Frequency","Variability",null,"Frequency",null,"Relative Frequency","Variability",null,"Frequency",null,"Relative Frequency","Variability"]
[11,9,21,17,null,null,null,null,null,null,0,12,null,11,{"$f":"COUNTIF($L$7:$L$500,N7)","v":11},{"$f":"O7/$Q$4","v":0.20370370370370369},{"$f":"IF(P7=0,0,(P7*((LOG(P7))/LOG(2))))","v":-0.46759286516273857},null,null,{"$f":"N7","v":11},{"$f":"COUNTIF(L7:L15,T7)","v":1},{"$f":"U7/(W4-U8)","v":1},{"$f":"IF(V7=0,0,(V7*((LOG(V7))/LOG(2))))","v":0},null,{"$f":"N7","v":11},{"$f":"COUNTIF(L16:L24,Y7)","v":0},{"$f":"Z7/(AB4-Z8)","v":0},{"$f":"IF(AA7=0,0,(AA7*((LOG(AA7))/LOG(2))))","v":0},null,{"$f":"N7","v":11},{"$f":"COUNTIF(L25:L33,AD7)","v":1},{"$f":"AE7/(AG4-AE8)","v":0.2},{"$f":"IF(AF7=0,0,(AF7*((LOG(AF7))/LOG(2))))","v":-0.46438561897747244},null,{"$f":"N7","v":11},{"$f":"COUNTIF(L34:L42,AI7)","v":0},{"$f":"AJ7/(AL4-AJ8)","v":0},{"$f":"IF(AK7=0,0,(AK7*((LOG(AK7))/LOG(2))))","v":0},null,{"$f":"N7","v":11},{"$f":"COUNTIF(L43:L51,AN7)","v":3},{"$f":"AO7/(AQ4-AO8)","v":0.6},{"$f":"IF(AP7=0,0,(AP7*((LOG(AP7))/LOG(2))))","v":-0.44217935649972373},null,{"$f":"N7","v":11},{"$f":"COUNTIF(L52:L60,AS7)","v":6},{"$f":"AT7/(AV4-AT8)","v":0.8571428571428571},{"$f":"IF(AU7=0,0,(AU7*((LOG(AU7))/LOG(2))))","v":-0.19062207543124113}]
[11,113,21,151,null,null,null,null,null,null,0,12,null,12,{"$f":"COUNTIF($L$7:$L$500,N8)","v":34},{"$f":"O8/$Q$4","v":0.62962962962962965},{"$f":"IF(P8=0,0,(P8*((LOG(P8))/LOG(2))))","v":-0.42023034205641457},null,null,{"$f":"N8","v":12},{"$f":"COUNTIF(L7:L15,T8)","v":8},null,null,null,{"$f":"N8","v":12},{"$f":"COUNTIF(L16:L24,Y8)","v":8},null,null,null,{"$f":"N8","v":12},{"$f":"COUNTIF(L25:L33,AD8)","v":4},null,null,null,{"$f":"N8","v":12},{"$f":"COUNTIF(L34:L42,AI8)","v":8},null,null,null,{"$f":"N8","v":12},{"$f":"COUNTIF(L43:L51,AN8)","v":4},null,null,null,{"$f":"N8","v":12},{"$f":"COUNTIF(L52:L60,AS8)","v":2}]
[11,267,21,296,null,null,null,null,null,null,0,12,null,21,{"$f":"COUNTIF($L$7:$L$500,N9)","v":4},{"$f":"O9/$Q$4","v":7.407407407407407E-2},{"$f":"IF(P9=0,0,(P9*((LOG(P9))/LOG(2))))","v":-0.27813981497507173},null,null,{"$f":"N9","v":21},{"$f":"COUNTIF(L7:L15,T9)","v":0},{"$f":"U9/(W4-U8)","v":0},{"$f":"IF(V9=0,0,(V9*((LOG(V9))/LOG(2))))","v":0},null,{"$f":"N9","v":21},{"$f":"COUNTIF(L16:L24,Y9)","v":1},{"$f":"Z9/(AB4-Z8)","v":1},{"$f":"IF(AA9=0,0,(AA9*((LOG(AA9))/LOG(2))))","v":0},null,{"$f":"N9","v":21},{"$f":"COUNTIF(L25:L33,AD9)","v":1},{"$f":"AE9/(AG4-AE8)","v":0.2},{"$f":"IF(AF9=0,0,(AF9*((LOG(AF9))/LOG(2))))","v":-0.46438561897747244},null,{"$f":"N9","v":21},{"$f":"COUNTIF(L34:L42,AI9)","v":0},{"$f":"AJ9/(AL4-AJ8)","v":0},{"$f":"IF(AK9=0,0,(AK9*((LOG(AK9))/LOG(2))))","v":0},null,{"$f":"N9","v":21},{"$f":"COUNTIF(L43:L51,AN9)","v":1},{"$f":"AO9/(AQ4-AO8)","v":0.2},{"$f":"IF(AP9=0,0,(AP9*((LOG(AP9))/LOG(2))))","v":-0.46438561897747244},null,{"$f":"N9","v":21},{"$f":"COUNTIF(L52:L60,AS9)","v":1},{"$f":"AT9/(AV4-AT8)","v":0.14285714285714285},{"$f":"IF(AU9=0,0,(AU9*((LOG(AU9))/LOG(2))))","v":-0.40105070315108626}]
[11,391,21,404,null,null,null,null,null,null,0,12,null,22,{"$f":"COUNTIF($L$7:$L$500,N10)","v":5},{"$f":"O10/$Q$4","v":9.2592592592592587E-2},{"$f":"IF(P10=0,0,(P10*((LOG(P10))/LOG(2))))","v":-0.31786661178482462},null,null,{"$f":"N10","v":22},{"$f":"COUNTIF(L7:L15,T10)","v":0},{"$f":"U10/(W4-U8)","v":0},{"$f":"IF(V10=0,0,(V10*((LOG(V10))/LOG(2))))","v":0},null,{"$f":"N10","v":22},{"$f":"COUNTIF(L16:L24,Y10)","v":0},{"$f":"Z10/(AB4-Z8)","v":0},{"$f":"IF(AA10=0,0,(AA10*((LOG(AA10))/LOG(2))))","v":0},null,{"$f":"N10","v":22},{"$f":"COUNTIF(L25:L33,AD10)","v":3},{"$f":"AE10/(AG4-AE8)","v":0.6},{"$f":"IF(AF10=0,0,(AF10*((LOG(AF10))/LOG(2))))","v":-0.44217935649972373},null,{"$f":"N10","v":22},{"$f":"COUNTIF(L34:L42,AI10)","v":1},{"$f":"AJ10/(AL4-AJ8)","v":1},{"$f":"IF(AK10=0,0,(AK10*((LOG(AK10))/LOG(2))))","v":0},null,{"$f":"N10","v":22},{"$f":"COUNTIF(L43:L51,AN10)","v":1},{"$f":"AO10/(AQ4-AO8)","v":0.2},{"$f":"IF(AP10=0,0,(AP10*((LOG(AP10))/LOG(2))))","v":-0.46438561897747244},null,{"$f":"N10","v":22},{"$f":"COUNTIF(L52:L60,AS10)","v":0},{"$f":"AT10/(AV4-AT8)","v":0},{"$f":"IF(AU10=0,0,(AU10*((LOG(AU10))/LOG(2))))","v":0}]
[11,524,21,532,null,null,null,null,null,null,0,12,null,null,null,null,null,null,null,{"$f":"N11","v":0},{"$f":"COUNTIF(L7:L15,T11)","v":0},{"$f":"U11/(W4-U8)","v":0},{"$f":"IF(V11=0,0,(V11*((LOG(V11))/LOG(2))))","v":0},null,{"$f":"N11","v":0},{"$f":"COUNTIF(L16:L24,Y11)","v":0},{"$f":"Z11/(AB4-Z8)","v":0},{"$f":"IF(AA11=0,0,(AA11*((LOG(AA11))/LOG(2))))","v":0},null,{"$f":"N11","v":0},{"$f":"COUNTIF(L25:L33,AD11)","v":0},{"$f":"AE11/(AG4-AE8)","v":0},{"$f":"IF(AF11=0,0,(AF11*((LOG(AF11))/LOG(2))))","v":0},null,{"$f":"N11","v":0},{"$f":"COUNTIF(L34:L42,AI11)","v":0},{"$f":"AJ11/(AL4-AJ8)","v":0},{"$f":"IF(AK11=0,0,(AK11*((LOG(AK11))/LOG(2))))","v":0},null,{"$f":"N11","v":0},{"$f":"COUNTIF(L43:L51,AN11)","v":0},{"$f":"AO11/(AQ4-AO8)","v":0},{"$f":"IF(AP11=0,0,(AP11*((LOG(AP11))/LOG(2))))","v":0},null,{"$f":"N11","v":0},{"$f":"COUNTIF(L52:L60,AS11)","v":0},{"$f":"AT11/(AV4-AT8)","v":0},{"$f":"IF(AU11=0,0,(AU11*((LOG(AU11))/LOG(2))))","v":0}]
[11,629,12,652,null,null,null,null,null,null,0,11,null,null,null,null,null,null,null,{"$f":"N12","v":0},{"$f":"COUNTIF(L7:L15,T12)","v":0},{"$f":"U12/(W4-U8)","v":0},{"$f":"IF(V12=0,0,(V12*((LOG(V12))/LOG(2))))","v":0},null,{"$f":"N12","v":0},{"$f":"COUNTIF(L16:L24,Y12)","v":0},{"$f":"Z12/(AB4-Z8)","v":0},{"$f":"IF(AA12=0,0,(AA12*((LOG(AA12))/LOG(2))))","v":0},null,{"$f":"N12","v":0},{"$f":"COUNTIF(L25:L33,AD12)","v":0},{"$f":"AE12/(AG4-AE8)","v":0},{"$f":"IF(AF12=0,0,(AF12*((LOG(AF12))/LOG(2))))","v":0},null,{"$f":"N12","v":0},{"$f":"COUNTIF(L34:L42,AI12)","v":0},{"$f":"AJ12/(AL4-AJ8)","v":0},{"$f":"IF(AK12=0,0,(AK12*((LOG(AK12))/LOG(2))))","v":0},null,{"$f":"N12","v":0},{"$f":"COUNTIF(L43:L51,AN12)","v":0},{"$f":"AO12/(AQ4-AO8)","v":0},{"$f":"IF(AP12=0,0,(AP12*((LOG(AP12))/LOG(2))))","v":0},null,{"$f":"N12","v":0},{"$f":"COUNTIF(L52:L60,AS12)","v":0},{"$f":"AT12/(AV4-AT8)","v":0},{"$f":"IF(AU12=0,0,(AU12*((LOG(AU12))/LOG(2))))","v":0}]
[11,752,21,760,null,null,null,null,null,null,0,12,null,null,null,null,null,null,null,{"$f":"N13","v":0},{"$f":"COUNTIF(L7:L15,T13)","v":0},{"$f":"U13/(W4-U8)","v":0},{"$f":"IF(V13=0,0,(V13*((LOG(V13))/LOG(2))))","v":0},null,{"$f":"N13","v":0},{"$f":"COUNTIF(L16:L24,Y13)","v":0},{"$f":"Z13/(AB4-Z8)","v":0},{"$f":"IF(AA13=0,0,(AA13*((LOG(AA13))/LOG(2))))","v":0},null,{"$f":"N13","v":0},{"$f":"COUNTIF(L25:L33,AD13)","v":0},{"$f":"AE13/(AG4-AE8)","v":0},{"$f":"IF(AF13=0,0,(AF13*((LOG(AF13))/LOG(2))))","v":0},null,{"$f":"N13","v":0},{"$f":"COUNTIF(L34:L42,AI13)","v":0},{"$f":"AJ13/(AL4-AJ8)","v":0},{"$f":"IF(AK13=0,0,(AK13*((LOG(AK13))/LOG(2))))","v":0},null,{"$f":"N13","v":0},{"$f":"COUNTIF(L43:L51,AN13)","v":0},{"$f":"AO13/(AQ4-AO8)","v":0},{"$f":"IF(AP13=0,0,(AP13*((LOG(AP13))/LOG(2))))","v":0},null,{"$f":"N13","v":0},{"$f":"COUNTIF(L52:L60,AS13)","v":0},{"$f":"AT13/(AV4-AT8)","v":0},{"$f":"IF(AU13=0,0,(AU13*((LOG(AU13))/LOG(2))))","v":0}]
[11,880,21,894,null,null,null,null,null,null,0,12,null,null,null,null,null,null,null,{"$f":"N14","v":0},{"$f":"COUNTIF(L7:L15,T14)","v":0},{"$f":"U14/(W4-U8)","v":0},{"$f":"IF(V14=0,0,(V14*((LOG(V14))/LOG(2))))","v":0},null,{"$f":"N14","v":0},{"$f":"COUNTIF(L16:L24,Y14)","v":0},{"$f":"Z14/(AB4-Z8)","v":0},{"$f":"IF(AA14=0,0,(AA14*((LOG(AA14))/LOG(2))))","v":0},null,{"$f":"N14","v":0},{"$f":"COUNTIF(L25:L33,AD14)","v":0},{"$f":"AE14/(AG4-AE8)","v":0},{"$f":"IF(AF14=0,0,(AF14*((LOG(AF14))/LOG(2))))","v":0},null,{"$f":"N14","v":0},{"$f":"COUNTIF(L34:L42,AI14)","v":0},{"$f":"AJ14/(AL4-AJ8)","v":0},{"$f":"IF(AK14=0,0,(AK14*((LOG(AK14))/LOG(2))))","v":0},null,{"$f":"N14","v":0},{"$f":"COUNTIF(L43:L51,AN14)","v":0},{"$f":"AO14/(AQ4-AO8)","v":0},{"$f":"IF(AP14=0,0,(AP14*((LOG(AP14))/LOG(2))))","v":0},null,{"$f":"N14","v":0},{"$f":"COUNTIF(L52:L60,AS14)","v":0},{"$f":"AT14/(AV4-AT8)","v":0},{"$f":"IF(AU14=0,0,(AU14*((LOG(AU14))/LOG(2))))","v":0}]
[11,999,21,1021,null,null,null,null,null,null,0,12,null,null,null,{"$f":"SUM(P7:P14)","v":1},{"$f":"-SUM(Q7:Q14)","v":1.4838296339790495},null,null,null,null,{"$f":"SUM(V7:V14)","v":1},{"$f":"-SUM(W7:W14)","v":0},null,null,null,{"$f":"SUM(AA7:AA14)","v":1},{"$f":"-SUM(AB7:AB14)","v":0},null,null,null,{"$f":"SUM(AF7:AF14)","v":1},{"$f":"-SUM(AG7:AG14)","v":1.3709505944546687},null,null,null,{"$f":"SUM(AK7:AK14)","v":1},{"$f":"-SUM(AL7:AL14)","v":0},null,null,null,{"$f":"SUM(AP7:AP14)","v":1},{"$f":"-SUM(AQ7:AQ14)","v":1.3709505944546687},null,null,null,{"$f":"SUM(AU7:AU14)","v":1},{"$f":"-SUM(AV7:AV14)","v":0.59167277858232736}]
[11,1139,21,1190,null,null,null,null,null,null,0,12,null,null,null,"U=",{"$f":"Q15/(LOG(Q4)/LOG(2))","v":0.25783816511117286},null,null,null,null,"U1=",{"$f":"W15/(LOG(W4)/LOG(2))","v":0},null,null,null,"U2=",{"$f":"AB15/(LOG(AB4)/LOG(2))","v":0},null,null,null,"U3=",{"$f":"AG15/(LOG(AG4)/LOG(2))","v":0.43248676035896366},null,null,null,"U4=",{"$f":"AL15/(LOG(AL4)/LOG(2))","v":0},null,null,null,"U5=",{"$f":"AQ15/(LOG(AQ4)/LOG(2))","v":0.43248676035896366},null,null,null,"U6=",{"$f":"AV15/(LOG(AV4)/LOG(2))","v":0.18665198019294366}]
[11,1292,21,1300,null,null,null,null,null,null,0,12]
[11,1401,21,1413,null,null,null,null,null,null,0,12]
[11,1514,21,1524,null,null,null,null,null,null,0,12,null,"Total Target Seq"]
[11,1622,21,1634,null,null,null,null,null,null,0,12,null,{"$f":"COUNTIF(L7:L60,G3)","v":34},null,9,9,9,9,9,9]
[11,1741,21,1758,null,null,null,null,null,null,0,12,null,null,null,"% of reinforcement given in 6 equal intervals based on number of trials "]
[11,1860,21,1875,null,null,null,null,null,null,0,12,null,null,null,"%_1","%_2","%_3","%_4","%_5","%_6"]
[22,1979,14,1989,null,null,null,null,null,null,0,21,null,null,"target sequence",{"$f":"$G$3","v":12},{"$f":"$G$3","v":12},{"$f":"$G$3","v":12},{"$f":"$G$3","v":12},{"$f":"$G$3","v":12},{"$f":"$G$3","v":12}]
[11,2087,21,2113,null,null,null,null,null,null,0,12,null,null,"total reinforcement",{"$f":"U8","v":8},{"$f":"Z8","v":8},{"$f":"AE8","v":4},{"$f":"AJ8","v":8},{"$f":"AO8","v":4},{"$f":"AT8","v":2}]
[22,2222,23,2241,null,null,null,null,null,null,0,22,null,null,"% target"]
[11,2336,12,2341,null,null,null,null,null,null,0,11,null,null,"CCRF"]
[11,2452,21,2460,null,null,null,null,null,null,0,12,null,null,"% CCRf"]
[11,2558,21,2566,null,null,null,null,null,null,0,12,null,null,"average response rate",{"$f":"D15/P20","v":113.44444444444444},{"$f":"(D24-D15)/Q20","v":121.33333333333333},{"$f":"(D33-D24)/R20","v":124.44444444444444},{"$f":"(D42-D33)/S20","v":138.11111111111111},{"$f":"(D51-D42)/T20","v":181.22222222222223},{"$f":"(D60-D51)/U20","v":1423.7777777777778}]
[22,2686,14,2694,null,null,null,null,null,null,0,21]
[22,2855,23,2862,null,null,null,null,null,null,0,22]
[11,2979,21,2987,null,null,null,null,null,null,0,12]
[11,3083,21,3100,null,null,null,null,null,null,0,12]
[22,3221,23,3233,null,null,null,null,null,null,0,22]
[22,3356,23,3375,null,null,null,null,null,null,0,22]
[11,3549,21,3562,null,null,null,null,null,null,0,12]
[11,3665,21,3679,null,null,null,null,null,null,0,12]
[11,3781,21,3808,null,null,null,null,null,null,0,12]
[11,3956,21,3980,null,null,null,null,null,null,0,12]
[11,4086,21,4100,null,null,null,null,null,null,0,12]
[11,4205,21,4223,null,null,null,null,null,null,0,12]
[11,4329,21,4349,null,null,null,null,null,null,0,12]
[11,4449,21,4476,null,null,null,null,null,null,0,12]
[11,4651,12,4656,null,null,null,null,null,null,0,11]
[11,4769,21,4789,null,null,null,null,null,null,0,12]
[11,4982,21,5011,null,null,null,null,null,null,0,12]
[11,5116,12,5121,null,null,null,null,null,null,0,11]
[11,5263,21,5303,null,null,null,null,null,null,0,12]
[22,5418,23,5431,null,null,null,null,null,null,0,22]
[22,5587,14,5604,null,null,null,null,null,null,0,21]
[11,5774,12,5783,null,null,null,null,null,null,0,11]
[11,6084,21,6107,null,null,null,null,null,null,0,12]
[11,6332,12,6337,null,null,null,null,null,null,0,11]
[11,6601,12,6608,null,null,null,null,null,null,0,11]
[11,6839,21,6861,null,null,null,null,null,null,0,12]
[11,7455,21,7484,null,null,null,null,null,null,0,12]
[11,8558,12,8700,null,null,null,null,null,null,0,11]
[22,8823,14,9079,null,null,null,null,null,null,0,21]
[11,9598,12,9605,null,null,null,null,null,null,0,11]
[11,16714,12,16719,null,null,null,null,null,null,0,11]
[11,18909,12,18921,null,null,null,null,null,null,1,11]

{"sheet":"!N308950.095","index":33,"n_rows":71,"n_cols":48,"rows_kept":71,"cut":false,"hidden":false,"merged":[[4,39,4,42],[5,39,5,40],[4,44,4,47],[5,44,5,45],[4,24,4,27],[5,24,5,25],[4,29,4,32],[5,29,5,30],[4,34,4,37],[5,34,5,35],[1,1,1,2],[5,13,5,14],[18,13,18,14],[19,13,19,14],[4,19,4,22],[5,19,5,20]]}
["Report for:!N308950.095"]
["Date:","<date>"]
["Hen:","<hen>",null,null,null,"Correct Sequence",{"$f":"Start!J2","v":12},null,null,null,null,null,null,null,null,"Total Sequences in Data",{"$f":"4994-COUNTBLANK(L7:L5000)","v":65},null,null,null,null,"Total Sequences in Block Data",{"$f":"COUNTA(L7:L17)","v":11},null,null,null,"Total Sequences in Block Data",{"$f":"COUNTA(L18:L28)","v":11},null,null,null,"Total Sequences in Block Data",{"$f":"COUNTA(L29:L38)","v":10},null,null,null,"Total Sequences in Block Data",{"$f":"COUNTA(L39:L49)","v":11},null,null,null,"Total Sequences in Block Data",{"$f":"COUNTA(L50:L60)","v":11},null,null,null,"Total Sequences in Block Data",{"$f":"COUNTA(L61:L71)","v":11}]
[null,null,null,null,null,null,null,null,null,null,null,null,null,null,null,"Total Sequences in Summary",{"$f":"SUM(O7:O14)","v":65},null,null,null,null,"Total Sequences in Block Summary",{"$f":"SUM(U7:U14)","v":11},null,null,null,"Total Sequences in Block Summary",{"$f":"SUM(Z7:Z14)","v":11},null,null,null,"Total Sequences in Block Summary",{"$f":"SUM(AE7:AE14)","v":10},null,null,null,"Total Sequences in Block Summary",{"$f":"SUM(AJ7:AJ14)","v":11},null,null,null,"Total Sequences in Block Summary",{"$f":"SUM(AO7:AO14)","v":11},null,null,null,"Total Sequences in Block Summary",{"$f":"SUM(AT7:AT14)","v":11}]
[null,null,null,null,null,null,null,null,null,null,null,null,null,null,null,null,null,null,null,"Block 1",null,null,null,null,"Block 2",null,null,null,null,"Block 3",null,null,null,null,"Block 4",null,null,null,null,"Block 5",null,null,null,null,"Block 6"]
["Sequence\nComponent\n1","Time\n1","Sequence\nComponent\n2","Time\n2","Sequence\nComponent\n3","Time\n3","Sequence\nComponent\n4","Time\n4","Sequence\nComponent\n5","Time\n5","Correct?\n0=No 1=Yes","Sequence",null,"Frequency",null,"Relative Frequency","Variability",null,null,"Frequency",null,"Relative Frequency","Variability",null,"Frequency",null,"Relative Frequency","Variability",null,"Frequency",null,"Relative Frequency","Variability",null,"Frequency",null,"Relative Frequency","Variability",null,"Frequency",null,"Relative Frequency","Variability",null,"Frequency",null,"Relative Frequency","Variability"]
[22,22,23,30,null,null,null,null,null,null,0,22,null,11,{"$f":"COUNTIF($L$7:$L$500,N7)","v":41},{"$f":"O7/$Q$4","v":0.63076923076923075},{"$f":"IF(P7=0,0,(P7*((LOG(P7))/LOG(2))))","v":-0.41934535607423395},null,null,{"$f":"N7","v":11},{"$f":"COUNTIF(L7:L17,T7)","v":1},{"$f":"U7/(W4-U8)","v":0.25},{"$f":"IF(V7=0,0,(V7*((LOG(V7))/LOG(2))))","v":-0.5},null,{"$f":"N7","v":11},{"$f":"COUNTIF(L18:L28,Y7)","v":3},{"$f":"Z7/(AB4-Z8)","v":0.6},{"$f":"IF(AA7=0,0,(AA7*((LOG(AA7))/LOG(2))))","v":-0.44217935649972373},null,{"$f":"N7","v":11},{"$f":"COUNTIF(L29:L38,AD7)","v":8},{"$f":"AE7/(AG4-AE8)","v":1},{"$f":"IF(AF7=0,0,(AF7*((LOG(AF7))/LOG(2))))","v":0},null,{"$f":"N7","v":11},{"$f":"COUNTIF(L39:L49,AI7)","v":9},{"$f":"AJ7/(AL4-AJ8)","v":1},{"$f":"IF(AK7=0,0,(AK7*((LOG(AK7))/LOG(2))))","v":0},null,{"$f":"N7","v":11},{"$f":"COUNTIF(L50:L60,AN7)","v":11},{"$f":"AO7/(AQ4-AO8)","v":1},{"$f":"IF(AP7=0,0,(AP7*((LOG(AP7))/LOG(2))))","v":0},null,{"$f":"N7","v":11},{"$f":"COUNTIF(L61:L71,AS7)","v":9},{"$f":"AT7/(AV4-AT8)","v":1},{"$f":"IF(AU7=0,0,(AU7*((LOG(AU7))/LOG(2))))","v":0}]
[22,137,23,144,null,null,null,null,null,null,0,22,null,12,{"$f":"COUNTIF($L$7:$L$500,N8)","v":19},{"$f":"O8/$Q$4","v":0.29230769230769232},{"$f":"IF(P8=0,0,(P8*((LOG(P8))/LOG(2))))","v":-0.51868254910942324},null,null,{"$f":"N8","v":12},{"$f":"COUNTIF(L7:L17,T8)","v":7},null,null,null,{"$f":"N8","v":12},{"$f":"COUNTIF(L18:L28,Y8)","v":6},null,null,null,{"$f":"N8","v":12},{"$f":"COUNTIF(L29:L38,AD8)","v":2},null,null,null,{"$f":"N8","v":12},{"$f":"COUNTIF(L39:L49,AI8)","v":2},null,null,null,{"$f":"N8","v":12},{"$f":"COUNTIF(L50:L60,AN8)","v":0},null,null,null,{"$f":"N8","v":12},{"$f":"COUNTIF(L61:L71,AS8)","v":2}]
[11,239,21,247,null,null,null,null,null,null,0,12,null,21,{"$f":"COUNTIF($L$7:$L$500,N9)","v":1},{"$f":"O9/$Q$4","v":1.5384615384615385E-2},{"$f":"IF(P9=0,0,(P9*((LOG(P9))/LOG(2))))","v":-9.2651812508130066E-2},null,null,{"$f":"N9","v":21},{"$f":"COUNTIF(L7:L17,T9)","v":0},{"$f":"U9/(W4-U8)","v":0},{"$f":"IF(V9=0,0,(V9*((LOG(V9))/LOG(2))))","v":0},null,{"$f":"N9","v":21},{"$f":"COUNTIF(L18:L28,Y9)","v":1},{"$f":"Z9/(AB4-Z8)","v":0.2},{"$f":"IF(AA9=0,0,(AA9*((LOG(AA9))/LOG(2))))","v":-0.46438561897747244},null,{"$f":"N9","v":21},{"$f":"COUNTIF(L29:L38,AD9)","v":0},{"$f":"AE9/(AG4-AE8)","v":0},{"$f":"IF(AF9=0,0,(AF9*((LOG(AF9))/LOG(2))))","v":0},null,{"$f":"N9","v":21},{"$f":"COUNTIF(L39:L49,AI9)","v":0},{"$f":"AJ9/(AL4-AJ8)","v":0},{"$f":"IF(AK9=0,0,(AK9*((LOG(AK9))/LOG(2))))","v":0},null,{"$f":"N9","v":21},{"$f":"COUNTIF(L50:L60,AN9)","v":0},{"$f":"AO9/(AQ4-AO8)","v":0},{"$f":"IF(AP9=0,0,(AP9*((LOG(AP9))/LOG(2))))","v":0},null,{"$f":"N9","v":21},{"$f":"COUNTIF(L61:L71,AS9)","v":0},{"$f":"AT9/(AV4-AT8)","v":0},{"$f":"IF(AU9=0,0,(AU9*((LOG(AU9))/LOG(2))))","v":0}]
[11,345,21,370,null,null,null,null,null,null,0,12,null,22,{"$f":"COUNTIF($L$7:$L$500,N10)","v":4},{"$f":"O10/$Q$4","v":6.1538461538461542E-2},{"$f":"IF(P10=0,0,(P10*((LOG(P10))/LOG(2))))","v":-0.24753032695559721},null,null,{"$f":"N10","v":22},{"$f":"COUNTIF(L7:L17,T10)","v":3},{"$f":"U10/(W4-U8)","v":0.75},{"$f":"IF(V10=0,0,(V10*((LOG(V10))/LOG(2))))","v":-0.31127812445913283},null,{"$f":"N10","v":22},{"$f":"COUNTIF(L18:L28,Y10)","v":1},{"$f":"Z10/(AB4-Z8)","v":0.2},{"$f":"IF(AA10=0,0,(AA10*((LOG(AA10))/LOG(2))))","v":-0.46438561897747244},null,{"$f":"N10","v":22},{"$f":"COUNTIF(L29:L38,AD10)","v":0},{"$f":"AE10/(AG4-AE8)","v":0},{"$f":"IF(AF10=0,0,(AF10*((LOG(AF10))/LOG(2))))","v":0},null,{"$f":"N10","v":22},{"$f":"COUNTIF(L39:L49,AI10)","v":0},{"$f":"AJ10/(AL4-AJ8)","v":0},{"$f":"IF(AK10=0,0,(AK10*((LOG(AK10))/LOG(2))))","v":0},null,{"$f":"N10","v":22},{"$f":"COUNTIF(L50:L60,AN10)","v":0},{"$f":"AO10/(AQ4-AO8)","v":0},{"$f":"IF(AP10=0,0,(AP10*((LOG(AP10))/LOG(2))))","v":0},null,{"$f":"N10","v":22},{"$f":"COUNTIF(L61:L71,AS10)","v":0},{"$f":"AT10/(AV4-AT8)","v":0},{"$f":"IF(AU10=0,0,(AU10*((LOG(AU10))/LOG(2))))","v":0}]
[11,469,21,493,null,null,null,null,null,null,0,12,null,null,null,null,null,null,null,{"$f":"N11","v":0},{"$f":"COUNTIF(L7:L17,T11)","v":0},{"$f":"U11/(W4-U8)","v":0},{"$f":"IF(V11=0,0,(V11*((LOG(V11))/LOG(2))))","v":0},null,{"$f":"N11","v":0},{"$f":"COUNTIF(L18:L28,Y11)","v":0},{"$f":"Z11/(AB4-Z8)","v":0},{"$f":"IF(AA11=0,0,(AA11*((LOG(AA11))/LOG(2))))","v":0},null,{"$f":"N11","v":0},{"$f":"COUNTIF(L29:L38,AD11)","v":0},{"$f":"AE11/(AG4-AE8)","v":0},{"$f":"IF(AF11=0,0,(AF11*((LOG(AF11))/LOG(2))))","v":0},null,{"$f":"N11","v":0},{"$f":"COUNTIF(L39:L49,AI11)","v":0},{"$f":"AJ11/(AL4-AJ8)","v":0},{"$f":"IF(AK11=0,0,(AK11*((LOG(AK11))/LOG(2))))","v":0},null,{"$f":"N11","v":0},{"$f":"COUNTIF(L50:L60,AN11)","v":0},{"$f":"AO11/(AQ4-AO8)","v":0},{"$f":"IF(AP11=0,0,(AP11*((LOG(AP11))/LOG(2))))","v":0},null,{"$f":"N11","v":0},{"$f":"COUNTIF(L61:L71,AS11)","v":0},{"$f":"AT11/(AV4-AT8)","v":0},{"$f":"IF(AU11=0,0,(AU11*((LOG(AU11))/LOG(2))))","v":0}]
[11,588,21,597,null,null,null,null,null,null,0,12,null,null,null,null,null,null,null,{"$f":"N12","v":0},{"$f":"COUNTIF(L7:L17,T12)","v":0},{"$f":"U12/(W4-U8)","v":0},{"$f":"IF(V12=0,0,(V12*((LOG(V12))/LOG(2))))","v":0},null,{"$f":"N12","v":0},{"$f":"COUNTIF(L18:L28,Y12)","v":0},{"$f":"Z12/(AB4-Z8)","v":0},{"$f":"IF(AA12=0,0,(AA12*((LOG(AA12))/LOG(2))))","v":0},null,{"$f":"N12","v":0},{"$f":"COUNTIF(L29:L38,AD12)","v":0},{"$f":"AE12/(AG4-AE8)","v":0},{"$f":"IF(AF12=0,0,(AF12*((LOG(AF12))/LOG(2))))","v":0},null,{"$f":"N12","v":0},{"$f":"COUNTIF(L39:L49,AI12)","v":0},{"$f":"AJ12/(AL4-AJ8)","v":0},{"$f":"IF(AK12=0,0,(AK12*((LOG(AK12))/LOG(2))))","v":0},null,{"$f":"N12","v":0},{"$f":"COUNTIF(L50:L60,AN12)","v":0},{"$f":"AO12/(AQ4-AO8)","v":0},{"$f":"IF(AP12=0,0,(AP12*((LOG(AP12))/LOG(2))))","v":0},null,{"$f":"N12","v":0},{"$f":"COUNTIF(L61:L71,AS12)","v":0},{"$f":"AT12/(AV4-AT8)","v":0},{"$f":"IF(AU12=0,0,(AU12*((LOG(AU12))/LOG(2))))","v":0}]
[22,708,23,773,null,null,null,null,null,null,0,22,null,null,null,null,null,null,null,{"$f":"N13","v":0},{"$f":"COUNTIF(L7:L17,T13)","v":0},{"$f":"U13/(W4-U8)","v":0},{"$f":"IF(V13=0,0,(V13*((LOG(V13))/LOG(2))))","v":0},null,{"$f":"N13","v":0},{"$f":"COUNTIF(L18:L28,Y13)","v":0},{"$f":"Z13/(AB4-Z8)","v":0},{"$f":"IF(AA13=0,0,(AA13*((LOG(AA13))/LOG(2))))","v":0},null,{"$f":"N13","v":0},{"$f":"COUNTIF(L29:L38,AD13)","v":0},{"$f":"AE13/(AG4-AE8)","v":0},{"$f":"IF(AF13=0,0,(AF13*((LOG(AF13))/LOG(2))))","v":0},null,{"$f":"N13","v":0},{"$f":"COUNTIF(L39:L49,AI13)","v":0},{"$f":"AJ13/(AL4-AJ8)","v":0},{"$f":"IF(AK13=0,0,(AK13*((LOG(AK13))/LOG(2))))","v":0},null,{"$f":"N13","v":0},{"$f":"COUNTIF(L50:L60,AN13)","v":0},{"$f":"AO13/(AQ4-AO8)","v":0},{"$f":"IF(AP13=0,0,(AP13*((LOG(AP13))/LOG(2))))","v":0},null,{"$f":"N13","v":0},{"$f":"COUNTIF(L61:L71,AS13)","v":0},{"$f":"AT13/(AV4-AT8)","v":0},{"$f":"IF(AU13=0,0,(AU13*((LOG(AU13))/LOG(2))))","v":0}]
[11,876,21,890,null,null,null,null,null,null,0,12,null,null,null,null,null,null,null,{"$f":"N14","v":0},{"$f":"COUNTIF(L7:L17,T14)","v":0},{"$f":"U14/(W4-U8)","v":0},{"$f":"IF(V14=0,0,(V14*((LOG(V14))/LOG(2))))","v":0},null,{"$f":"N14","v":0},{"$f":"COUNTIF(L18:L28,Y14)","v":0},{"$f":"Z14/(AB4-Z8)","v":0},{"$f":"IF(AA14=0,0,(AA14*((LOG(AA14))/LOG(2))))","v":0},null,{"$f":"N14","v":0},{"$f":"COUNTIF(L29:L38,AD14)","v":0},{"$f":"AE14/(AG4-AE8)","v":0},{"$f":"IF(AF14=0,0,(AF14*((LOG(AF14))/LOG(2))))","v":0},null,{"$f":"N14","v":0},{"$f":"COUNTIF(L39:L49,AI14)","v":0},{"$f":"AJ14/(AL4-AJ8)","v":0},{"$f":"IF(AK14=0,0,(AK14*((LOG(AK14))/LOG(2))))","v":0},null,{"$f":"N14","v":0},{"$f":"COUNTIF(L50:L60,AN14)","v":0},{"$f":"AO14/(AQ4-AO8)","v":0},{"$f":"IF(AP14=0,0,(AP14*((LOG(AP14))/LOG(2))))","v":0},null,{"$f":"N14","v":0},{"$f":"COUNTIF(L61:L71,AS14)","v":0},{"$f":"AT14/(AV4-AT8)","v":0},{"$f":"IF(AU14=0,0,(AU14*((LOG(AU14))/LOG(2))))","v":0}]
[11,990,21,1008,null,null,null,null,null,null,0,12,null,null,null,{"$f":"SUM(P7:P14)","v":1},{"$f":"-SUM(Q7:Q14)","v":1.2782100446473845},null,null,null,null,{"$f":"SUM(V7:V14)","v":1},{"$f":"-SUM(W7:W14)","v":0.81127812445913283},null,null,null,{"$f":"SUM(AA7:AA14)","v":1},{"$f":"-SUM(AB7:AB14)","v":1.3709505944546687},null,null,null,{"$f":"SUM(AF7:AF14)","v":1},{"$f":"-SUM(AG7:AG14)","v":0},null,null,null,{"$f":"SUM(AK7:AK14)","v":1},{"$f":"-SUM(AL7:AL14)","v":0},null,null,null,{"$f":"SUM(AP7:AP14)","v":1},{"$f":"-SUM(AQ7:AQ14)","v":0},null,null,null,{"$f":"SUM(AU7:AU14)","v":1},{"$f":"-SUM(AV7:AV14)","v":0}]
[11,1106,21,1138,null,null,null,null,null,null,0,12,null,null,null,"U=",{"$f":"Q15/(LOG(Q4)/LOG(2))","v":0.21224376928326699},null,null,null,null,"U1=",{"$f":"W15/(LOG(W4)/LOG(2))","v":0.23451197014228101},null,null,null,"U2=",{"$f":"AB15/(LOG(AB4)/LOG(2))","v":0.39629359547644388},null,null,null,"U3=",{"$f":"AG15/(LOG(AG4)/LOG(2))","v":0},null,null,null,"U4=",{"$f":"AL15/(LOG(AL4)/LOG(2))","v":0},null,null,null,"U5=",{"$f":"AQ15/(LOG(AQ4)/LOG(2))","v":0},null,null,null,"U6=",{"$f":"AV15/(LOG(AV4)/LOG(2))","v":0}]
[11,1235,12,1243,null,null,null,null,null,null,0,11]
[11,1353,12,1361,null,null,null,null,null,null,0,11]
[11,1471,12,1478,null,null,null,null,null,null,0,11,null,"Total Target Seq"]
[11,1581,21,1611,null,null,null,null,null,null,0,12,null,{"$f":"COUNTIF(L7:L71,G3)","v":19},null,11,11,10,11,11,11]
[11,1707,21,1727,null,null,null,null,null,null,0,12,null,null,null,"% of reinforcement given in 6 equal intervals based on number of trials "]
[22,1840,23,1847,null,null,null,null,null,null,0,22,null,null,null,"%_1","%_2","%_3","%_4","%_5","%_6"]
[11,1952,21,1982,null,null,null,null,null,null,0,12,null,null,"target sequence",{"$f":"$G$3","v":12},{"$f":"$G$3","v":12},{"$f":"$G$3","v":12},{"$f":"$G$3","v":12},{"$f":"$G$3","v":12},{"$f":"$G$3","v":12}]
[11,2522,12,2534,null,null,null,null,null,null,0,11,null,null,"total reinforcement",{"$f":"U8","v":7},{"$f":"Z8","v":6},{"$f":"AE8","v":2},{"$f":"AJ8","v":2},{"$f":"AO8","v":0},{"$f":"AT8","v":2}]
[11,2686,21,2710,null,null,null,null,null,null,0,12,null,null,"% target"]
[11,2905,21,2915,null,null,null,null,null,null,0,12,null,null,"CCRF"]
[22,3040,14,3228,null,null,null,null,null,null,0,21,null,null,"% CCRf"]
[11,3334,21,3362,null,null,null,null,null,null,0,12,null,null,"average response rate",{"$f":"D17/P20","v":113},{"$f":"(D28-D17)/Q20","v":192.63636363636363},{"$f":"(D38-D28)/R20","v":181.8},{"$f":"(D49-D38)/S20","v":202},{"$f":"(D60-D49)/T20","v":220.81818181818181},{"$f":"(D71-D60)/U20","v":754.81818181818187}]
[11,3600,12,3605,null,null,null,null,null,null,0,11]
[11,3711,21,3746,null,null,null,null,null,null,0,12]
[11,3880,12,3889,null,null,null,null,null,null,0,11]
[11,4039,12,4045,null,null,null,null,null,null,0,11]
[11,4160,12,4175,null,null,null,null,null,null,0,11]
[11,4364,12,4368,null,null,null,null,null,null,0,11]
[11,4629,12,4636,null,null,null,null,null,null,0,11]
[11,4772,12,4787,null,null,null,null,null,null,0,11]
[11,4944,21,4960,null,null,null,null,null,null,0,12]
[11,5172,12,5180,null,null,null,null,null,null,0,11]
[11,5603,12,5612,null,null,null,null,null,null,0,11]
[11,5739,12,5745,null,null,null,null,null,null,0,11]
[11,5897,21,5929,null,null,null,null,null,null,0,12]
[11,6194,12,6200,null,null,null,null,null,null,0,11]
[11,6332,12,6336,null,null,null,null,null,null,0,11]
[11,6514,12,6520,null,null,null,null,null,null,0,11]
[11,6765,12,6770,null,null,null,null,null,null,0,11]
[11,6906,12,6914,null,null,null,null,null,null,0,11]
[11,7074,12,7080,null,null,null,null,null,null,0,11]
[11,7212,12,7216,null,null,null,null,null,null,0,11]
[11,7387,21,7402,null,null,null,null,null,null,0,12]
[11,7508,12,7515,null,null,null,null,null,null,0,11]
[11,7639,12,7645,null,null,null,null,null,null,0,11]
[11,7828,12,7833,null,null,null,null,null,null,0,11]
[11,8064,12,8071,null,null,null,null,null,null,0,11]
[11,8231,12,8241,null,null,null,null,null,null,0,11]
[11,8530,12,8537,null,null,null,null,null,null,0,11]
[11,8680,12,8687,null,null,null,null,null,null,0,11]
[11,9150,12,9155,null,null,null,null,null,null,0,11]
[11,9286,12,9457,null,null,null,null,null,null,0,11]
[11,9675,12,9682,null,null,null,null,null,null,0,11]
[11,9824,12,9831,null,null,null,null,null,null,0,11]
[11,10163,12,10168,null,null,null,null,null,null,0,11]
[11,14079,12,14095,null,null,null,null,null,null,0,11]
[11,14219,21,14237,null,null,null,null,null,null,0,12]
[11,14897,12,14902,null,null,null,null,null,null,0,11]
[11,15054,12,15064,null,null,null,null,null,null,0,11]
[11,15296,12,15300,null,null,null,null,null,null,0,11]
[11,15471,12,15476,null,null,null,null,null,null,0,11]
[11,15648,21,15668,null,null,null,null,null,null,0,12]
[11,15790,12,15796,null,null,null,null,null,null,0,11]
[11,17134,12,17140,null,null,null,null,null,null,0,11]
[11,18127,12,18134,null,null,null,null,null,null,0,11]