{"text_format":"1","workbook":"xlsx","n_sheets":32,"sheets":["Sample Report","Summary","Start","!M210B4I.sha","!M211A2I.sha","!M212A1I.sha","!M213B3I.sha","!M214A3I.sha","!M215A3I.sha","!M216A0I.sha","!M217B1I.sha","!M218A4I.sha","!M219B2I.sha","!M220B1I.sha","!M221A5I.sha","!M222A1I.sha","!M223A3I.sha","!M224A2I.sha","!M225A2I.sha","!M226A5I.sha","!M227A4I.sha","!M228A4I.sha","!M229B0I.sha","!M301A4I.sha","!M302A5I.sha","!M303A3I.sha","!M304B0I.sha","!M305A3I.sha","!M306B2I.sha","!M307B1I.sha","!M308A2I.sha","!M309A3I.sha"],"not_rendered":{"charts":0,"images":0,"macros":1,"external_links":0,"defined_names":0,"comments":0,"pivot_tables":0},"unopened":[],"bounds":{"document_bytes":16777216,"sheet_cells":100000,"rows_first":2000,"rows_last":500,"rows_between":2000,"halvings":0,"cell_chars":16384,"cell_head_chars":4096},"cells_cut":0,"cells_raw":0,"read":"whole","date_system":"1900"}

{"sheet":"Sample Report","index":0,"n_rows":12,"n_cols":11,"rows_kept":12,"cut":false,"hidden":true,"merged":[[7,0,7,6]]}
[]
["Date"]
["Hen"]
["Program"]
["Start at 999999"]
["Sequence component 1","Time 1","Seqeunce Component 2","Time 2","Seqeunce Component 3","Time 3","Correct   0 = No 1=Yes",null,null,"Seqeunce","Time"]
[12,7,12,42,13,18,"if 77 new line,                                  if 31 or 41 = yes new line on 77, ",null,null,"=string of Seqeunce compponent 1, 2 & 3","=time 3"]
["This continues until ther is a 1 on its own to indicate start of summary data"]
[null,null,null,null,null,null,null,null,null,"10-19 =1"]
["Summary Data ",null,null,null,null,null,null,null,null,"20-29 =2"]
["Correct","Incorrect","Rft","total","Av Correct","Av Incorrect","Percent correct","Time",null,"in this example the seqeunce would be 111"]
[40,33,40,73,23.95,15,54,806]

{"sheet":"Summary","index":1,"n_rows":32,"n_cols":24,"rows_kept":32,"cut":false,"hidden":false,"merged":[]}
[]
["Day","Date","Average Response Rate","Target %","RF for non correct sequence","U Value",null,null,null,null,"Block 1","Block 2","Block 3","Block 4","Block 5","Block 6"]
[1,{"$f":"'!M210B4I.sha'!B2:C2","v":"<date>"},{"$f":"('!M210B4I.sha'!F177/60)/'!M210B4I.sha'!Q3","v":2.3365497076023392},{"$f":"'!M210B4I.sha'!N20/'!M210B4I.sha'!Q3","v":5.8479532163742687E-3},{"$f":"SUM('!M210B4I.sha'!L20:Q20)/'!M210B4I.sha'!Q3","v":1.5730994152046784},{"$f":"'!M210B4I.sha'!Q16","v":0.29095413755504618},null,null,null,"Average Response Rate",{"$f":"AVERAGE(C3:C7)","v":2.255042059120683},{"$f":"AVERAGE(C8:C12)","v":2.3654896053593815},{"$f":"AVERAGE(C13:C17)","v":2.8144714297187199},{"$f":"AVERAGE(C18:C22)","v":2.5092590621252713},{"$f":"AVERAGE(C23:C27)","v":2.4203996657906788},{"$f":"AVERAGE(C28:C32)","v":2.9554410451971327}]
[2,{"$f":"'!M211A2I.sha'!B2:C2","v":"<date>"},{"$f":"('!M211A2I.sha'!F197/60)/'!M211A2I.sha'!Q3","v":2.082547993019197},{"$f":"'!M211A2I.sha'!N20/'!M211A2I.sha'!Q3","v":0},{"$f":"SUM('!M211A2I.sha'!L20:Q20)/'!M211A2I.sha'!Q3","v":1.4973821989528795},{"$f":"'!M211A2I.sha'!Q16","v":0.2354953081872066},null,null,null,"Target %",{"$f":"AVERAGE(D3:D7)","v":1.1695906432748538E-3},{"$f":"AVERAGE(D8:D12)","v":8.3227869855259807E-3},{"$f":"AVERAGE(D13:D17)","v":2.3633575013943114E-3},{"$f":"AVERAGE(D18:D22)","v":8.7513425748768896E-3},{"$f":"AVERAGE(D23:D27)","v":5.913636285064609E-3},{"$f":"AVERAGE(D28:D32)","v":1.4005417589513246E-2}]
[3,{"$f":"'!M212A1I.sha'!B2:C2","v":"<date>"},{"$f":"('!M212A1I.sha'!F193/60)/'!M212A1I.sha'!Q3","v":2.1359180035650627},{"$f":"'!M212A1I.sha'!N20/'!M212A1I.sha'!Q3","v":0},{"$f":"SUM('!M212A1I.sha'!L20:Q20)/'!M212A1I.sha'!Q3","v":1.518716577540107},{"$f":"'!M212A1I.sha'!Q16","v":0.26812465366220234},null,null,null,"CCRF",{"$f":"AVERAGE(E3:E7)","v":1.5638572750238362},{"$f":"AVERAGE(E8:E12)","v":1.146080899959284},{"$f":"AVERAGE(E13:E17)","v":1.7096609091258625},{"$f":"AVERAGE(E18:E22)","v":1.3161157123025791},{"$f":"AVERAGE(E23:E27)","v":1.2723795942868905},{"$f":"AVERAGE(E28:E32)","v":1.7775765556427658}]
[4,{"$f":"'!M213B3I.sha'!B2:C2","v":"<date>"},{"$f":"('!M213B3I.sha'!F181/60)/'!M213B3I.sha'!Q3","v":2.2688571428571431},{"$f":"'!M213B3I.sha'!N20/'!M213B3I.sha'!Q3","v":0},{"$f":"SUM('!M213B3I.sha'!L20:Q20)/'!M213B3I.sha'!Q3","v":1.5942857142857143},{"$f":"'!M213B3I.sha'!Q16","v":0.31740569436093108},null,null,null,"U Value",{"$f":"AVERAGE(F3:F7)","v":0.28483086011290998},{"$f":"AVERAGE(F8:F12)","v":0.34273364058672956},{"$f":"AVERAGE(F13:F17)","v":0.33696254225661393},{"$f":"AVERAGE(F18:F22)","v":0.34411675972010725},{"$f":"AVERAGE(F23:F27)","v":0.35298811174599465},{"$f":"AVERAGE(F28:F32)","v":0.37600461744703761}]
[5,{"$f":"'!M214A3I.sha'!B2:C2","v":"<date>"},{"$f":"('!M214A3I.sha'!F168/60)/'!M214A3I.sha'!Q3","v":2.4513374485596708},{"$f":"'!M214A3I.sha'!N20/'!M214A3I.sha'!Q3","v":0},{"$f":"SUM('!M214A3I.sha'!L20:Q20)/'!M214A3I.sha'!Q3","v":1.6358024691358024},{"$f":"'!M214A3I.sha'!Q16","v":0.31217450679916359}]
[6,{"$f":"'!M215A3I.sha'!B2:C2","v":"<date>"},{"$f":"('!M215A3I.sha'!F175/60)/'!M215A3I.sha'!Q3","v":2.3645956607495071},{"$f":"'!M215A3I.sha'!N20/'!M215A3I.sha'!Q3","v":1.1834319526627219E-2},{"$f":"SUM('!M215A3I.sha'!L20:Q20)/'!M215A3I.sha'!Q3","v":1.5917159763313609},{"$f":"'!M215A3I.sha'!Q16","v":0.34920803258729444}]
[7,{"$f":"'!M216A0I.sha'!B2:C2","v":"<date>"},{"$f":"('!M216A0I.sha'!F185/60)/'!M216A0I.sha'!Q3","v":2.2149906890130353},{"$f":"'!M216A0I.sha'!N20/'!M216A0I.sha'!Q3","v":0},{"$f":"SUM('!M216A0I.sha'!L20:Q20)/'!M216A0I.sha'!Q3","v":1.0167597765363128},{"$f":"'!M216A0I.sha'!Q16","v":0.33454798767638599},{"$f":"K3","v":2.255042059120683},{"$f":"L3","v":2.3654896053593815},2.8144714297187199,2.5092590621252713,2.4203996657906788,2.9554410451971327,{"$f":"K4","v":1.1695906432748538E-3},{"$f":"L4","v":8.3227869855259807E-3},2.3633575013943114E-3,8.7513425748768896E-3,5.913636285064609E-3,1.4005417589513246E-2,{"$f":"K6","v":0.28483086011290998},{"$f":"L6","v":0.34273364058672956},0.33696254225661393,0.34411675972010725,0.35298811174599465,0.37600461744703761]
[8,{"$f":"'!M217B1I.sha'!B2:C2","v":"<date>"},{"$f":"('!M217B1I.sha'!F153/60)/'!M217B1I.sha'!Q3","v":2.6747747747747748},{"$f":"'!M217B1I.sha'!N20/'!M217B1I.sha'!Q3","v":6.7567567567567571E-3},{"$f":"SUM('!M217B1I.sha'!L20:Q20)/'!M217B1I.sha'!Q3","v":1.0878378378378379},{"$f":"'!M217B1I.sha'!Q16","v":0.34805510600818051}]
[9,{"$f":"'!M218A4I.sha'!B2:C2","v":"<date>"},{"$f":"('!M218A4I.sha'!F182/60)/'!M218A4I.sha'!Q3","v":2.2686553030303034},{"$f":"'!M218A4I.sha'!N20/'!M218A4I.sha'!Q3","v":5.681818181818182E-3},{"$f":"SUM('!M218A4I.sha'!L20:Q20)/'!M218A4I.sha'!Q3","v":1.0340909090909092},{"$f":"'!M218A4I.sha'!Q16","v":0.34550946161149271}]
[10,{"$f":"'!M219B2I.sha'!B2:C2","v":"<date>"},{"$f":"('!M219B2I.sha'!F179/60)/'!M219B2I.sha'!Q3","v":2.3044315992292872},{"$f":"'!M219B2I.sha'!N20/'!M219B2I.sha'!Q3","v":1.7341040462427744E-2},{"$f":"SUM('!M219B2I.sha'!L20:Q20)/'!M219B2I.sha'!Q3","v":1},{"$f":"'!M219B2I.sha'!Q16","v":0.33634761505029409}]
[11,{"$f":"'!M220B1I.sha'!B2:C2","v":"<date>"},{"$f":"('!M220B1I.sha'!F184/60)/'!M220B1I.sha'!Q3","v":2.2439138576779025},{"$f":"'!M220B1I.sha'!N20/'!M220B1I.sha'!Q3","v":0},{"$f":"SUM('!M220B1I.sha'!L20:Q20)/'!M220B1I.sha'!Q3","v":1.5168539325842696},{"$f":"'!M220B1I.sha'!Q16","v":0.32752163758802294}]
[12,{"$f":"'!M221A5I.sha'!B2:C2","v":"<date>"},{"$f":"('!M221A5I.sha'!F148/60)/'!M221A5I.sha'!Q3","v":2.8149061032863849},{"$f":"'!M221A5I.sha'!N20/'!M221A5I.sha'!Q3","v":0},{"$f":"SUM('!M221A5I.sha'!L20:Q20)/'!M221A5I.sha'!Q3","v":1.1901408450704225},{"$f":"'!M221A5I.sha'!Q16","v":0.36789118157887463}]
[13,{"$f":"'!M222A1I.sha'!B2:C2","v":"<date>"},{"$f":"('!M222A1I.sha'!F182/60)/'!M222A1I.sha'!Q3","v":2.2685606060606061},{"$f":"'!M222A1I.sha'!N20/'!M222A1I.sha'!Q3","v":5.681818181818182E-3},{"$f":"SUM('!M222A1I.sha'!L20:Q20)/'!M222A1I.sha'!Q3","v":1.5397727272727273},{"$f":"'!M222A1I.sha'!Q16","v":0.29869736686758885}]
[14,{"$f":"'!M223A3I.sha'!B2:C2","v":"<date>"},{"$f":"('!M223A3I.sha'!F169/60)/'!M223A3I.sha'!Q3","v":2.4535787321063394},{"$f":"'!M223A3I.sha'!N20/'!M223A3I.sha'!Q3","v":6.1349693251533744E-3},{"$f":"SUM('!M223A3I.sha'!L20:Q20)/'!M223A3I.sha'!Q3","v":1.6993865030674846},{"$f":"'!M223A3I.sha'!Q16","v":0.33034790037525147}]
[15,{"$f":"'!M224A2I.sha'!B2:C2","v":"<date>"},{"$f":"('!M224A2I.sha'!F99/60)/'!M224A2I.sha'!Q3","v":4.2913978494623661},{"$f":"'!M224A2I.sha'!N20/'!M224A2I.sha'!Q3","v":0},{"$f":"SUM('!M224A2I.sha'!L20:Q20)/'!M224A2I.sha'!Q3","v":2.6021505376344085},{"$f":"'!M224A2I.sha'!Q16","v":0.36035462487333153}]
[16,{"$f":"'!M225A2I.sha'!B2:C2","v":"<date>"},{"$f":"('!M225A2I.sha'!F171/60)/'!M225A2I.sha'!Q3","v":2.4179797979797977},{"$f":"'!M225A2I.sha'!N20/'!M225A2I.sha'!Q3","v":1.2121212121212121E-2},{"$f":"SUM('!M225A2I.sha'!L20:Q20)/'!M225A2I.sha'!Q3","v":1.0181818181818181},{"$f":"'!M225A2I.sha'!Q16","v":0.2854872778887404}]
[17,{"$f":"'!M226A5I.sha'!B2:C2","v":"<date>"},{"$f":"('!M226A5I.sha'!F145/60)/'!M226A5I.sha'!Q3","v":2.8751798561151078},{"$f":"'!M226A5I.sha'!N20/'!M226A5I.sha'!Q3","v":7.1942446043165471E-3},{"$f":"SUM('!M226A5I.sha'!L20:Q20)/'!M226A5I.sha'!Q3","v":1.8561151079136691},{"$f":"'!M226A5I.sha'!Q16","v":0.36044140190553386}]
[18,{"$f":"'!M227A4I.sha'!B2:C2","v":"<date>"},{"$f":"('!M227A4I.sha'!F166/60)/'!M227A4I.sha'!Q3","v":2.4932291666666666},{"$f":"'!M227A4I.sha'!N20/'!M227A4I.sha'!Q3","v":1.2500000000000001E-2},{"$f":"SUM('!M227A4I.sha'!L20:Q20)/'!M227A4I.sha'!Q3","v":1.0375000000000001},{"$f":"'!M227A4I.sha'!Q16","v":0.34934959748941669}]
[19,{"$f":"'!M228A4I.sha'!B2:C2","v":"<date>"},{"$f":"('!M228A4I.sha'!F175/60)/'!M228A4I.sha'!Q3","v":2.357396449704142},{"$f":"'!M228A4I.sha'!N20/'!M228A4I.sha'!Q3","v":5.9171597633136093E-3},{"$f":"SUM('!M228A4I.sha'!L20:Q20)/'!M228A4I.sha'!Q3","v":0.99408284023668636},{"$f":"'!M228A4I.sha'!Q16","v":0.35503177824610915}]
[20,{"$f":"'!M229B0I.sha'!B2:C2","v":"<date>"},{"$f":"('!M229B0I.sha'!F172/60)/'!M229B0I.sha'!Q3","v":2.4025100401606427},{"$f":"'!M229B0I.sha'!N20/'!M229B0I.sha'!Q3","v":6.024096385542169E-3},{"$f":"SUM('!M229B0I.sha'!L20:Q20)/'!M229B0I.sha'!Q3","v":1.6746987951807228},{"$f":"'!M229B0I.sha'!Q16","v":0.37027374307073585}]
[21,{"$f":"'!M301A4I.sha'!B2:C2","v":"<date>"},{"$f":"('!M301A4I.sha'!F176/60)/'!M301A4I.sha'!Q3","v":2.3462745098039215},{"$f":"'!M301A4I.sha'!N20/'!M301A4I.sha'!Q3","v":1.1764705882352941E-2},{"$f":"SUM('!M301A4I.sha'!L20:Q20)/'!M301A4I.sha'!Q3","v":1.588235294117647},{"$f":"'!M301A4I.sha'!Q16","v":0.35872045122107038}]
[22,{"$f":"'!M302A5I.sha'!B2:C2","v":"<date>"},{"$f":"('!M302A5I.sha'!F182/60)/'!M302A5I.sha'!Q3","v":2.2636363636363637},{"$f":"'!M302A5I.sha'!N20/'!M302A5I.sha'!Q3","v":5.681818181818182E-3},{"$f":"SUM('!M302A5I.sha'!L20:Q20)/'!M302A5I.sha'!Q3","v":1.6022727272727273},{"$f":"'!M302A5I.sha'!Q16","v":0.35282794620410873}]
[23,{"$f":"'!M303A3I.sha'!B2:C2","v":"<date>"},{"$f":"('!M303A3I.sha'!F170/60)/'!M303A3I.sha'!Q3","v":2.4377032520325206},{"$f":"'!M303A3I.sha'!N20/'!M303A3I.sha'!Q3","v":6.0975609756097563E-3},{"$f":"SUM('!M303A3I.sha'!L20:Q20)/'!M303A3I.sha'!Q3","v":1.0853658536585367},{"$f":"'!M303A3I.sha'!Q16","v":0.36200743242539668}]
[24,{"$f":"'!M304B0I.sha'!B2:C2","v":"<date>"},{"$f":"('!M304B0I.sha'!F172/60)/'!M304B0I.sha'!Q3","v":2.4016064257028114},{"$f":"'!M304B0I.sha'!N20/'!M304B0I.sha'!Q3","v":6.024096385542169E-3},{"$f":"SUM('!M304B0I.sha'!L20:Q20)/'!M304B0I.sha'!Q3","v":1.0060240963855422},{"$f":"'!M304B0I.sha'!Q16","v":0.31835478850109455}]
[25,{"$f":"'!M305A3I.sha'!B2:C2","v":"<date>"},{"$f":"('!M305A3I.sha'!F155/60)/'!M305A3I.sha'!Q3","v":2.6527777777777781},{"$f":"'!M305A3I.sha'!N20/'!M305A3I.sha'!Q3","v":0},{"$f":"SUM('!M305A3I.sha'!L20:Q20)/'!M305A3I.sha'!Q3","v":1.08},{"$f":"'!M305A3I.sha'!Q16","v":0.37302994037830306}]
[26,{"$f":"'!M306B2I.sha'!B2:C2","v":"<date>"},{"$f":"('!M306B2I.sha'!F167/60)/'!M306B2I.sha'!Q3","v":2.4120082815734989},{"$f":"'!M306B2I.sha'!N20/'!M306B2I.sha'!Q3","v":6.2111801242236021E-3},{"$f":"SUM('!M306B2I.sha'!L20:Q20)/'!M306B2I.sha'!Q3","v":1.6521739130434783},{"$f":"'!M306B2I.sha'!Q16","v":0.34990040391782795}]
[27,{"$f":"'!M307B1I.sha'!B2:C2","v":"<date>"},{"$f":"('!M307B1I.sha'!F153/60)/'!M307B1I.sha'!Q3","v":2.7107709750566893},{"$f":"'!M307B1I.sha'!N20/'!M307B1I.sha'!Q3","v":6.8027210884353739E-3},{"$f":"SUM('!M307B1I.sha'!L20:Q20)/'!M307B1I.sha'!Q3","v":1.8435374149659864},{"$f":"'!M307B1I.sha'!Q16","v":0.35961854469758192}]
[28,{"$f":"'!M308A2I.sha'!B2:C2","v":"<date>"},{"$f":"('!M308A2I.sha'!F142/60)/'!M308A2I.sha'!Q3","v":2.9408088235294119},{"$f":"'!M308A2I.sha'!N20/'!M308A2I.sha'!Q3","v":1.4705882352941176E-2},{"$f":"SUM('!M308A2I.sha'!L20:Q20)/'!M308A2I.sha'!Q3","v":1.161764705882353},{"$f":"'!M308A2I.sha'!Q16","v":0.37520294556243688}]
[29,{"$f":"'!M309A3I.sha'!B2:C2","v":"<date>"},{"$f":"('!M309A3I.sha'!F112/60)/'!M309A3I.sha'!Q3","v":3.7581761006289307},{"$f":"'!M309A3I.sha'!N20/'!M309A3I.sha'!Q3","v":2.8301886792452831E-2},{"$f":"SUM('!M309A3I.sha'!L20:Q20)/'!M309A3I.sha'!Q3","v":2.4528301886792452},{"$f":"'!M309A3I.sha'!Q16","v":0.41929657561030381}]
[30]

{"sheet":"Start","index":2,"n_rows":35,"n_cols":10,"rows_kept":35,"cut":false,"hidden":false,"merged":[]}
[null,null,null,null,null,"Use Folder 51",null,"Auto Clean Up",null,"Correct sequence"]
[null,null,null,null,null,false,null,true,null,121]
[]
["Working with Folder",null,null,null,null,null,"Process All/Or Pick A number: ALL or an integer"]
["F:\\Possum Chapter\\Raw Data\\Ishan\\new phase LRL\\",null,null,null,null,null,"ALL"]
["Filenames:"]
["!M309A3I.sha",null,null,null,null,null,"Paint Cells"]
["!M213B3I.sha",null,null,null,null,null,false]
["!M214A3I.sha"]
["!M215A3I.sha"]
["!M216A0I.sha"]
["!M217B1I.sha"]
["!M218A4I.sha"]
["!M219B2I.sha"]
["!M220B1I.sha"]
["!M221A5I.sha"]
["!M222A1I.sha"]
["!M223A3I.sha"]
["!M224A2I.sha"]
["!M225A2I.sha"]
["!M226A5I.sha"]
["!M227A4I.sha"]
["!M228A4I.sha"]
["!M229B0I.sha"]
["!M301A4I.sha"]
["!M302A5I.sha"]
["!M303A3I.sha"]
["!M304B0I.sha"]
["!M305A3I.sha"]
["!M306B2I.sha"]
["!M307B1I.sha"]
["!M308A2I.sha"]
["!M212A1I.sha"]
["!M210B4I.sha"]
["!M211A2I.sha"]

{"sheet":"!M210B4I.sha","index":3,"n_rows":177,"n_cols":48,"rows_kept":177,"cut":false,"hidden":false,"merged":[[4,39,4,42],[5,39,5,40],[4,44,4,47],[5,44,5,45],[4,24,4,27],[5,24,5,25],[4,29,4,32],[5,29,5,30],[4,34,4,37],[5,34,5,35],[1,1,1,2],[5,13,5,14],[18,13,18,14],[19,13,19,14],[4,19,4,22],[5,19,5,20]]}
["Report for:!M210B4I.sha"]
["Date:","<date>"]
["Hen:","<hen>",null,null,null,"Correct Sequence",{"$f":"Start!J2","v":121},null,null,null,null,null,null,null,null,"Total Sequences in Data",{"$f":"4994-COUNTBLANK(L7:L5000)","v":171},null,null,null,null,"Total Sequences in Block Data",{"$f":"COUNTA(L7:L35)","v":29},null,null,null,"Total Sequences in Block Data",{"$f":"COUNTA(L36:L63)","v":28},null,null,null,"Total Sequences in Block Data",{"$f":"COUNTA(L64:L92)","v":29},null,null,null,"Total Sequences in Block Data",{"$f":"COUNTA(L93:L120)","v":28},null,null,null,"Total Sequences in Block Data",{"$f":"COUNTA(L121:L149)","v":29},null,null,null,"Total Sequences in Block Data",{"$f":"COUNTA(L150:L177)","v":28}]
[null,null,null,null,null,null,null,null,null,null,null,null,null,null,null,"Total Sequences in Summary",{"$f":"SUM(O7:O14)","v":171},null,null,null,null,"Total Sequences in Block Summary",{"$f":"SUM(U7:U14)","v":29},null,null,null,"Total Sequences in Block Summary",{"$f":"SUM(Z7:Z14)","v":28},null,null,null,"Total Sequences in Block Summary",{"$f":"SUM(AE7:AE14)","v":29},null,null,null,"Total Sequences in Block Summary",{"$f":"SUM(AJ7:AJ14)","v":28},null,null,null,"Total Sequences in Block Summary",{"$f":"SUM(AO7:AO14)","v":29},null,null,null,"Total Sequences in Block Summary",{"$f":"SUM(AT7:AT14)","v":28}]
[null,null,null,null,null,null,null,null,null,null,null,null,null,null,null,null,null,null,null,"Block 1",null,null,null,null,"Block 2",null,null,null,null,"Block 3",null,null,null,null,"Block 4",null,null,null,null,"Block 5",null,null,null,null,"Block 6"]
["Sequence\nComponent\n1","Time\n1","Sequence\nComponent\n2","Time\n2","Sequence\nComponent\n3","Time\n3","Sequence\nComponent\n4","Time\n4","Sequence\nComponent\n5","Time\n5","Correct?\n0=No 1=Yes","Sequence",null,"Frequency",null,"Relative Frequency","Variability",null,null,"Frequency",null,"Relative Frequency","Variability",null,"Frequency",null,"Relative Frequency","Variability",null,"Frequency",null,"Relative Frequency","Variability",null,"Frequency",null,"Relative Frequency","Variability",null,"Frequency",null,"Relative Frequency","Variability",null,"Frequency",null,"Relative Frequency","Variability"]
[22,42,23,46,24,52,null,null,null,null,0,222,null,111,{"$f":"COUNTIF($L$7:$L$500,N7)","v":3},{"$f":"O7/$Q$4","v":1.7543859649122806E-2},{"$f":"IF(P7=0,0,(P7*((LOG(P7))/LOG(2))))","v":-0.10233140375727617},null,null,{"$f":"N7","v":111},{"$f":"COUNTIF(L7:L35,T7)","v":1},{"$f":"U7/(W4-U9)","v":3.5714285714285712E-2},{"$f":"IF(V7=0,0,(V7*((LOG(V7))/LOG(2))))","v":-0.17169124721634299},null,{"$f":"N7","v":111},{"$f":"COUNTIF(L36:L63,Y7)","v":0},{"$f":"Z7/(AB4-Z9)","v":0},{"$f":"IF(AA7=0,0,(AA7*((LOG(AA7))/LOG(2))))","v":0},null,{"$f":"N7","v":111},{"$f":"COUNTIF(L64:L92,AD7)","v":0},{"$f":"AE7/(AG4-AE9)","v":0},{"$f":"IF(AF7=0,0,(AF7*((LOG(AF7))/LOG(2))))","v":0},null,{"$f":"N7","v":111},{"$f":"COUNTIF(L93:L120,AI7)","v":0},{"$f":"AJ7/(AL4-AJ9)","v":0},{"$f":"IF(AK7=0,0,(AK7*((LOG(AK7))/LOG(2))))","v":0},null,{"$f":"N7","v":111},{"$f":"COUNTIF(L121:L149,AN7)","v":0},{"$f":"AO7/(AQ4-AO9)","v":0},{"$f":"IF(AP7=0,0,(AP7*((LOG(AP7))/LOG(2))))","v":0},null,{"$f":"N7","v":111},{"$f":"COUNTIF(L150:L177,AS7)","v":2},{"$f":"AT7/(AV4-AT9)","v":7.1428571428571425E-2},{"$f":"IF(AU7=0,0,(AU7*((LOG(AU7))/LOG(2))))","v":-0.27195392300411453}]
[11,219,12,227,24,236,null,null,null,null,0,112,null,112,{"$f":"COUNTIF($L$7:$L$500,N8)","v":5},{"$f":"O8/$Q$4","v":2.9239766081871343E-2},{"$f":"IF(P8=0,0,(P8*((LOG(P8))/LOG(2))))","v":-0.14900363801165309},null,null,{"$f":"N8","v":112},{"$f":"COUNTIF(L7:L35,T8)","v":3},{"$f":"U8/(W4-U9)","v":0.10714285714285714},{"$f":"IF(V8=0,0,(V8*((LOG(V8))/LOG(2))))","v":-0.34525633085747659},null,{"$f":"N8","v":112},{"$f":"COUNTIF(L36:L63,Y8)","v":0},{"$f":"Z8/(AB4-Z9)","v":0},{"$f":"IF(AA8=0,0,(AA8*((LOG(AA8))/LOG(2))))","v":0},null,{"$f":"N8","v":112},{"$f":"COUNTIF(L64:L92,AD8)","v":2},{"$f":"AE8/(AG4-AE9)","v":6.8965517241379309E-2},{"$f":"IF(AF8=0,0,(AF8*((LOG(AF8))/LOG(2))))","v":-0.26606765483638428},null,{"$f":"N8","v":112},{"$f":"COUNTIF(L93:L120,AI8)","v":0},{"$f":"AJ8/(AL4-AJ9)","v":0},{"$f":"IF(AK8=0,0,(AK8*((LOG(AK8))/LOG(2))))","v":0},null,{"$f":"N8","v":112},{"$f":"COUNTIF(L121:L149,AN8)","v":0},{"$f":"AO8/(AQ4-AO9)","v":0},{"$f":"IF(AP8=0,0,(AP8*((LOG(AP8))/LOG(2))))","v":0},null,{"$f":"N8","v":112},{"$f":"COUNTIF(L150:L177,AS8)","v":0},{"$f":"AT8/(AV4-AT9)","v":0},{"$f":"IF(AU8=0,0,(AU8*((LOG(AU8))/LOG(2))))","v":0}]
[11,341,21,354,11,373,null,null,null,null,0,121,null,121,{"$f":"COUNTIF($L$7:$L$500,N9)","v":1},{"$f":"O9/$Q$4","v":5.8479532163742687E-3},{"$f":"IF(P9=0,0,(P9*((LOG(P9))/LOG(2))))","v":-4.3379254473016944E-2},null,null,{"$f":"N9","v":121},{"$f":"COUNTIF(L7:L35,T9)","v":1},null,null,null,{"$f":"N9","v":121},{"$f":"COUNTIF(L36:L63,Y9)","v":0},null,null,null,{"$f":"N9","v":121},{"$f":"COUNTIF(L64:L92,AD9)","v":0},null,null,null,{"$f":"N9","v":121},{"$f":"COUNTIF(L93:L120,AI9)","v":0},null,null,null,{"$f":"N9","v":121},{"$f":"COUNTIF(L121:L149,AN9)","v":0},null,null,null,{"$f":"N9","v":121},{"$f":"COUNTIF(L150:L177,AS9)","v":0}]
[22,479,14,524,13,534,null,null,null,null,0,211,null,122,{"$f":"COUNTIF($L$7:$L$500,N10)","v":2},{"$f":"O10/$Q$4","v":1.1695906432748537E-2},{"$f":"IF(P10=0,0,(P10*((LOG(P10))/LOG(2))))","v":-7.5062602513285351E-2},null,null,{"$f":"N10","v":122},{"$f":"COUNTIF(L7:L35,T10)","v":1},{"$f":"U10/(W4-U9)","v":3.5714285714285712E-2},{"$f":"IF(V10=0,0,(V10*((LOG(V10))/LOG(2))))","v":-0.17169124721634299},null,{"$f":"N10","v":122},{"$f":"COUNTIF(L36:L63,Y10)","v":1},{"$f":"Z10/(AB4-Z9)","v":3.5714285714285712E-2},{"$f":"IF(AA10=0,0,(AA10*((LOG(AA10))/LOG(2))))","v":-0.17169124721634299},null,{"$f":"N10","v":122},{"$f":"COUNTIF(L64:L92,AD10)","v":0},{"$f":"AE10/(AG4-AE9)","v":0},{"$f":"IF(AF10=0,0,(AF10*((LOG(AF10))/LOG(2))))","v":0},null,{"$f":"N10","v":122},{"$f":"COUNTIF(L93:L120,AI10)","v":0},{"$f":"AJ10/(AL4-AJ9)","v":0},{"$f":"IF(AK10=0,0,(AK10*((LOG(AK10))/LOG(2))))","v":0},null,{"$f":"N10","v":122},{"$f":"COUNTIF(L121:L149,AN10)","v":0},{"$f":"AO10/(AQ4-AO9)","v":0},{"$f":"IF(AP10=0,0,(AP10*((LOG(AP10))/LOG(2))))","v":0},null,{"$f":"N10","v":122},{"$f":"COUNTIF(L150:L177,AS10)","v":0},{"$f":"AT10/(AV4-AT9)","v":0},{"$f":"IF(AU10=0,0,(AU10*((LOG(AU10))/LOG(2))))","v":0}]
[22,634,14,660,24,709,null,null,null,null,0,212,null,211,{"$f":"COUNTIF($L$7:$L$500,N11)","v":40},{"$f":"O11/$Q$4","v":0.23391812865497075},{"$f":"IF(P11=0,0,(P11*((LOG(P11))/LOG(2))))","v":-0.49027471812831241},null,null,{"$f":"N11","v":211},{"$f":"COUNTIF(L7:L35,T11)","v":11},{"$f":"U11/(W4-U9)","v":0.39285714285714285},{"$f":"IF(V11=0,0,(V11*((LOG(V11))/LOG(2))))","v":-0.52954129777226344},null,{"$f":"N11","v":211},{"$f":"COUNTIF(L36:L63,Y11)","v":6},{"$f":"Z11/(AB4-Z9)","v":0.21428571428571427},{"$f":"IF(AA11=0,0,(AA11*((LOG(AA11))/LOG(2))))","v":-0.47622694742923877},null,{"$f":"N11","v":211},{"$f":"COUNTIF(L64:L92,AD11)","v":4},{"$f":"AE11/(AG4-AE9)","v":0.13793103448275862},{"$f":"IF(AF11=0,0,(AF11*((LOG(AF11))/LOG(2))))","v":-0.39420427519000989},null,{"$f":"N11","v":211},{"$f":"COUNTIF(L93:L120,AI11)","v":3},{"$f":"AJ11/(AL4-AJ9)","v":0.10714285714285714},{"$f":"IF(AK11=0,0,(AK11*((LOG(AK11))/LOG(2))))","v":-0.34525633085747659},null,{"$f":"N11","v":211},{"$f":"COUNTIF(L121:L149,AN11)","v":7},{"$f":"AO11/(AQ4-AO9)","v":0.2413793103448276},{"$f":"IF(AP11=0,0,(AP11*((LOG(AP11))/LOG(2))))","v":-0.49497870729275095},null,{"$f":"N11","v":211},{"$f":"COUNTIF(L150:L177,AS11)","v":9},{"$f":"AT11/(AV4-AT9)","v":0.32142857142857145},{"$f":"IF(AU11=0,0,(AU11*((LOG(AU11))/LOG(2))))","v":-0.5263167601977724}]
[11,830,21,842,22,849,null,null,null,null,0,122,null,212,{"$f":"COUNTIF($L$7:$L$500,N12)","v":20},{"$f":"O12/$Q$4","v":0.11695906432748537},{"$f":"IF(P12=0,0,(P12*((LOG(P12))/LOG(2))))","v":-0.36209642339164155},null,null,{"$f":"N12","v":212},{"$f":"COUNTIF(L7:L35,T12)","v":8},{"$f":"U12/(W4-U9)","v":0.2857142857142857},{"$f":"IF(V12=0,0,(V12*((LOG(V12))/LOG(2))))","v":-0.51638712058788683},null,{"$f":"N12","v":212},{"$f":"COUNTIF(L36:L63,Y12)","v":4},{"$f":"Z12/(AB4-Z9)","v":0.14285714285714285},{"$f":"IF(AA12=0,0,(AA12*((LOG(AA12))/LOG(2))))","v":-0.40105070315108626},null,{"$f":"N12","v":212},{"$f":"COUNTIF(L64:L92,AD12)","v":3},{"$f":"AE12/(AG4-AE9)","v":0.10344827586206896},{"$f":"IF(AF12=0,0,(AF12*((LOG(AF12))/LOG(2))))","v":-0.33858812011100858},null,{"$f":"N12","v":212},{"$f":"COUNTIF(L93:L120,AI12)","v":3},{"$f":"AJ12/(AL4-AJ9)","v":0.10714285714285714},{"$f":"IF(AK12=0,0,(AK12*((LOG(AK12))/LOG(2))))","v":-0.34525633085747659},null,{"$f":"N12","v":212},{"$f":"COUNTIF(L121:L149,AN12)","v":2},{"$f":"AO12/(AQ4-AO9)","v":6.8965517241379309E-2},{"$f":"IF(AP12=0,0,(AP12*((LOG(AP12))/LOG(2))))","v":-0.26606765483638428},null,{"$f":"N12","v":212},{"$f":"COUNTIF(L150:L177,AS12)","v":0},{"$f":"AT12/(AV4-AT9)","v":0},{"$f":"IF(AU12=0,0,(AU12*((LOG(AU12))/LOG(2))))","v":0}]
[22,959,14,1005,13,1019,null,null,null,null,0,211,null,221,{"$f":"COUNTIF($L$7:$L$500,N13)","v":74},{"$f":"O13/$Q$4","v":0.43274853801169588},{"$f":"IF(P13=0,0,(P13*((LOG(P13))/LOG(2))))","v":-0.52293296517552135},null,null,{"$f":"N13","v":221},{"$f":"COUNTIF(L7:L35,T13)","v":3},{"$f":"U13/(W4-U9)","v":0.10714285714285714},{"$f":"IF(V13=0,0,(V13*((LOG(V13))/LOG(2))))","v":-0.34525633085747659},null,{"$f":"N13","v":221},{"$f":"COUNTIF(L36:L63,Y13)","v":11},{"$f":"Z13/(AB4-Z9)","v":0.39285714285714285},{"$f":"IF(AA13=0,0,(AA13*((LOG(AA13))/LOG(2))))","v":-0.52954129777226344},null,{"$f":"N13","v":221},{"$f":"COUNTIF(L64:L92,AD13)","v":14},{"$f":"AE13/(AG4-AE9)","v":0.48275862068965519},{"$f":"IF(AF13=0,0,(AF13*((LOG(AF13))/LOG(2))))","v":-0.50719879389584666},null,{"$f":"N13","v":221},{"$f":"COUNTIF(L93:L120,AI13)","v":15},{"$f":"AJ13/(AL4-AJ9)","v":0.5357142857142857},{"$f":"IF(AK13=0,0,(AK13*((LOG(AK13))/LOG(2))))","v":-0.48239160345486726},null,{"$f":"N13","v":221},{"$f":"COUNTIF(L121:L149,AN13)","v":17},{"$f":"AO13/(AQ4-AO9)","v":0.58620689655172409},{"$f":"IF(AP13=0,0,(AP13*((LOG(AP13))/LOG(2))))","v":-0.45168305572113648},null,{"$f":"N13","v":221},{"$f":"COUNTIF(L150:L177,AS13)","v":14},{"$f":"AT13/(AV4-AT9)","v":0.5},{"$f":"IF(AU13=0,0,(AU13*((LOG(AU13))/LOG(2))))","v":-0.5}]
[11,1148,12,1158,13,1168,null,null,null,null,0,111,null,222,{"$f":"COUNTIF($L$7:$L$500,N14)","v":26},{"$f":"O14/$Q$4","v":0.15204678362573099},{"$f":"IF(P14=0,0,(P14*((LOG(P14))/LOG(2))))","v":-0.41317387552844997},null,null,{"$f":"N14","v":222},{"$f":"COUNTIF(L7:L35,T14)","v":1},{"$f":"U14/(W4-U9)","v":3.5714285714285712E-2},{"$f":"IF(V14=0,0,(V14*((LOG(V14))/LOG(2))))","v":-0.17169124721634299},null,{"$f":"N14","v":222},{"$f":"COUNTIF(L36:L63,Y14)","v":6},{"$f":"Z14/(AB4-Z9)","v":0.21428571428571427},{"$f":"IF(AA14=0,0,(AA14*((LOG(AA14))/LOG(2))))","v":-0.47622694742923877},null,{"$f":"N14","v":222},{"$f":"COUNTIF(L64:L92,AD14)","v":6},{"$f":"AE14/(AG4-AE9)","v":0.20689655172413793},{"$f":"IF(AF14=0,0,(AF14*((LOG(AF14))/LOG(2))))","v":-0.4702796884978791},null,{"$f":"N14","v":222},{"$f":"COUNTIF(L93:L120,AI14)","v":7},{"$f":"AJ14/(AL4-AJ9)","v":0.25},{"$f":"IF(AK14=0,0,(AK14*((LOG(AK14))/LOG(2))))","v":-0.5},null,{"$f":"N14","v":222},{"$f":"COUNTIF(L121:L149,AN14)","v":3},{"$f":"AO14/(AQ4-AO9)","v":0.10344827586206896},{"$f":"IF(AP14=0,0,(AP14*((LOG(AP14))/LOG(2))))","v":-0.33858812011100858},null,{"$f":"N14","v":222},{"$f":"COUNTIF(L150:L177,AS14)","v":3},{"$f":"AT14/(AV4-AT9)","v":0.10714285714285714},{"$f":"IF(AU14=0,0,(AU14*((LOG(AU14))/LOG(2))))","v":-0.34525633085747659}]
[22,1330,14,1357,24,1393,null,null,null,null,0,212,null,null,null,{"$f":"SUM(P7:P14)","v":0.99999999999999989},{"$f":"-SUM(Q7:Q14)","v":2.1582548809791566},null,null,null,null,{"$f":"SUM(V7:V14)","v":0.99999999999999989},{"$f":"-SUM(W7:W14)","v":2.2515148217241321},null,null,null,{"$f":"SUM(AA7:AA14)","v":1},{"$f":"-SUM(AB7:AB14)","v":2.05473714299817},null,null,null,{"$f":"SUM(AF7:AF14)","v":1},{"$f":"-SUM(AG7:AG14)","v":1.9763385325311285},null,null,null,{"$f":"SUM(AK7:AK14)","v":1},{"$f":"-SUM(AL7:AL14)","v":1.6729042651698205},null,null,null,{"$f":"SUM(AP7:AP14)","v":1},{"$f":"-SUM(AQ7:AQ14)","v":1.5513175379612802},null,null,null,{"$f":"SUM(AU7:AU14)","v":1},{"$f":"-SUM(AV7:AV14)","v":1.6435270140593634}]
[11,1525,12,1614,24,1626,null,null,null,null,0,112,null,null,null,"U=",{"$f":"Q15/(LOG(Q4)/LOG(2))","v":0.29095413755504618},null,null,null,null,"U1=",{"$f":"W15/(LOG(W4)/LOG(2))","v":0.4634671942896324},null,null,null,"U2=",{"$f":"AB15/(LOG(AB4)/LOG(2))","v":0.42741532013174482},null,null,null,"U3=",{"$f":"AG15/(LOG(AG4)/LOG(2))","v":0.4068230267910361},null,null,null,"U4=",{"$f":"AL15/(LOG(AL4)/LOG(2))","v":0.34798850767061695},null,null,null,"U5=",{"$f":"AQ15/(LOG(AQ4)/LOG(2))","v":0.31933380132964934},null,null,null,"U6=",{"$f":"AV15/(LOG(AV4)/LOG(2))","v":0.34187761060003341}]
[22,1725,14,1746,24,1880,null,null,null,null,0,212]
[22,1977,14,2007,13,2022,null,null,null,null,0,211]
[22,2120,14,2138,24,2212,null,null,null,null,0,212,null,"Total Target Seq"]
[22,2311,14,2341,13,2357,null,null,null,null,0,211,null,{"$f":"COUNTIF(L7:L177,G3)","v":1},null,29,28,29,28,29,28]
[22,2452,14,2463,13,2472,null,null,null,null,0,211,null,null,null,"% of reinforcement given in 6 equal intervals based on number of trials "]
[22,2587,14,2596,13,2605,null,null,null,null,0,211,null,null,null,"%_1","%_2","%_3","%_4","%_5","%_6"]
[22,2705,14,2722,24,2777,null,null,null,null,0,212,null,null,"target sequence",{"$f":"$G$3","v":121},{"$f":"$G$3","v":121},{"$f":"$G$3","v":121},{"$f":"$G$3","v":121},{"$f":"$G$3","v":121},{"$f":"$G$3","v":121}]
[22,2873,14,2884,24,2903,null,null,null,null,0,212,null,null,"total reinforcement",{"$f":"U9","v":1},{"$f":"Z9","v":0},{"$f":"AE9","v":0},{"$f":"AJ9","v":0},{"$f":"AO9","v":0},{"$f":"AT9","v":0}]
[22,3005,14,3033,13,3041,null,null,null,null,0,211,null,null,"% target"]
[22,3137,14,3160,13,3177,null,null,null,null,0,211,null,null,"CCRF"]
[22,3278,14,3288,13,3298,null,null,null,null,0,211,null,null,"% CCRf"]
[22,3397,14,3413,24,3464,null,null,null,null,0,212,null,null,"average response rate",{"$f":"F35/P20","v":153.9655172413793},{"$f":"(F63-F35)/Q20","v":124.28571428571429},{"$f":"(F92-F63)/R20","v":119.27586206896552},{"$f":"(F120-F92)/S20","v":122.71428571428571},{"$f":"(F149-F120)/T20","v":118.55172413793103},{"$f":"(F177-F149)/U20","v":203.39285714285714}]
[22,3559,14,3580,24,3599,null,null,null,null,0,212]
[22,3695,23,3702,13,3717,null,null,null,null,0,221]
[11,3949,12,3958,24,3970,null,null,null,null,0,112]
[22,4068,23,4080,13,4096,null,null,null,null,0,221]
[22,4194,14,4208,13,4219,null,null,null,null,0,211]
[22,4317,14,4333,13,4342,null,null,null,null,0,211]
[22,4439,23,4446,13,4465,null,null,null,null,0,221]
[22,4561,14,4588,24,4644,null,null,null,null,0,212]
[22,4749,14,4768,24,4788,null,null,null,null,0,212]
[22,4885,14,4917,13,4928,null,null,null,null,0,211]
[22,5024,23,5030,13,5044,null,null,null,null,0,221]
[22,5142,23,5150,13,5165,null,null,null,null,0,221]
[22,5263,14,5278,24,5288,null,null,null,null,0,212]
[22,5383,23,5389,13,5399,null,null,null,null,0,221]
[22,5495,14,5505,24,5520,null,null,null,null,0,212]
[22,5616,23,5620,13,5634,null,null,null,null,0,221]
[22,5733,14,5748,13,5764,null,null,null,null,0,211]
[22,5862,23,5866,24,5870,null,null,null,null,0,222]
[22,5970,23,5980,13,6003,null,null,null,null,0,221]
[22,6101,23,6106,13,6127,null,null,null,null,0,221]
[22,6225,23,6231,24,6235,null,null,null,null,0,222]
[22,6332,14,6350,13,6362,null,null,null,null,0,211]
[11,6480,21,6496,22,6502,null,null,null,null,0,122]
[22,6597,23,6601,13,6613,null,null,null,null,0,221]
[22,6713,23,6721,13,6739,null,null,null,null,0,221]
[22,6837,23,6845,13,6861,null,null,null,null,0,221]
[22,6958,23,6964,24,6969,null,null,null,null,0,222]
[22,7068,14,7079,13,7087,null,null,null,null,0,211]
[22,7184,23,7191,13,7207,null,null,null,null,0,221]
[22,7312,14,7324,13,7331,null,null,null,null,0,211]
[22,7429,23,7433,24,7443,null,null,null,null,0,222]
[22,7541,23,7547,13,7558,null,null,null,null,0,221]
[22,7698,23,7704,24,7710,null,null,null,null,0,222]
[22,7805,14,7829,13,7838,null,null,null,null,0,211]
[22,7935,23,7941,24,7945,null,null,null,null,0,222]
[11,8052,12,8058,24,8075,null,null,null,null,0,112]
[22,8173,23,8178,13,8191,null,null,null,null,0,221]
[22,8288,23,8293,13,8303,null,null,null,null,0,221]
[22,8416,14,8428,13,8436,null,null,null,null,0,211]
[22,8533,23,8539,13,8549,null,null,null,null,0,221]
[22,8647,23,8652,13,8664,null,null,null,null,0,221]
[22,8760,23,8763,24,8770,null,null,null,null,0,222]
[22,8873,14,8885,13,8891,null,null,null,null,0,211]
[22,8990,23,8993,13,9007,null,null,null,null,0,221]
[22,9124,23,9129,24,9134,null,null,null,null,0,222]
[22,9234,14,9246,13,9255,null,null,null,null,0,211]
[22,9351,23,9356,13,9369,null,null,null,null,0,221]
[22,9465,23,9470,13,9479,null,null,null,null,0,221]
[22,9576,23,9586,13,9603,null,null,null,null,0,221]
[22,9701,23,9703,13,9716,null,null,null,null,0,221]
[22,9813,23,9819,13,9831,null,null,null,null,0,221]
[22,9929,14,9944,24,9958,null,null,null,null,0,212]
[22,10053,23,10057,13,10068,null,null,null,null,0,221]
[22,10201,23,10205,24,10211,null,null,null,null,0,222]
[22,10307,14,10322,24,10333,null,null,null,null,0,212]
[22,10429,23,10434,13,10443,null,null,null,null,0,221]
[22,10541,23,10546,24,10552,null,null,null,null,0,222]
[22,10648,14,10662,13,10675,null,null,null,null,0,211]
[22,10771,23,10776,13,10785,null,null,null,null,0,221]
[22,10883,23,10888,13,10908,null,null,null,null,0,221]
[22,11030,23,11036,24,11046,null,null,null,null,0,222]
[22,11144,14,11157,24,11171,null,null,null,null,0,212]
[22,11269,23,11275,24,11279,null,null,null,null,0,222]
[11,11385,12,11393,24,11404,null,null,null,null,0,112]
[22,11500,23,11507,13,11521,null,null,null,null,0,221]
[22,11619,23,11628,13,11658,null,null,null,null,0,221]
[22,11755,23,11757,24,11770,null,null,null,null,0,222]
[22,11866,14,11876,13,11883,null,null,null,null,0,211]
[22,11981,23,11987,13,11998,null,null,null,null,0,221]
[22,12094,23,12100,13,12110,null,null,null,null,0,221]
[22,12207,23,12212,13,12222,null,null,null,null,0,221]
[22,12322,23,12326,24,12332,null,null,null,null,0,222]
[22,12429,23,12435,13,12448,null,null,null,null,0,221]
[22,12544,23,12553,13,12573,null,null,null,null,0,221]
[22,12669,23,12674,13,12685,null,null,null,null,0,221]
[22,12782,23,12787,24,12791,null,null,null,null,0,222]
[22,12888,23,12900,13,12913,null,null,null,null,0,221]
[22,13012,14,13024,13,13030,null,null,null,null,0,211]
[22,13127,14,13141,24,13155,null,null,null,null,0,212]
[22,13252,23,13254,24,13260,null,null,null,null,0,222]
[22,13356,23,13360,13,13382,null,null,null,null,0,221]
[22,13579,23,13585,24,13590,null,null,null,null,0,222]
[22,13687,23,13692,24,13700,null,null,null,null,0,222]
[22,13796,23,13800,13,13811,null,null,null,null,0,221]
[22,13910,14,13929,13,13938,null,null,null,null,0,211]
[22,14036,23,14047,13,14059,null,null,null,null,0,221]
[22,14155,23,14159,13,14170,null,null,null,null,0,221]
[22,14359,23,14365,24,14370,null,null,null,null,0,222]
[22,14465,23,14469,13,14480,null,null,null,null,0,221]
[22,14576,14,14586,24,14601,null,null,null,null,0,212]
[22,14696,14,14712,24,14726,null,null,null,null,0,212]
[22,14822,23,14827,13,14840,null,null,null,null,0,221]
[22,14937,23,14944,13,14961,null,null,null,null,0,221]
[22,15058,14,15073,13,15076,null,null,null,null,0,211]
[22,15172,14,15182,13,15191,null,null,null,null,0,211]
[22,15287,23,15292,13,15307,null,null,null,null,0,221]
[22,15403,23,15407,13,15434,null,null,null,null,0,221]
[22,15534,14,15544,24,15559,null,null,null,null,0,212]
[22,15655,23,15659,13,15670,null,null,null,null,0,221]
[22,15768,23,15773,13,15784,null,null,null,null,0,221]
[22,15882,23,15887,13,15902,null,null,null,null,0,221]
[22,16000,23,16009,13,16020,null,null,null,null,0,221]
[22,16117,14,16133,13,16142,null,null,null,null,0,211]
[22,16264,23,16270,24,16276,null,null,null,null,0,222]
[22,16374,23,16382,24,16390,null,null,null,null,0,222]
[22,16485,14,16496,24,16508,null,null,null,null,0,212]
[22,16607,14,16631,13,16646,null,null,null,null,0,211]
[22,16746,23,16751,13,16761,null,null,null,null,0,221]
[22,16858,14,16872,13,16880,null,null,null,null,0,211]
[22,16983,14,16994,13,17003,null,null,null,null,0,211]
[22,17101,23,17106,13,17116,null,null,null,null,0,221]
[22,17213,23,17217,13,17229,null,null,null,null,0,221]
[22,17324,23,17328,13,17342,null,null,null,null,0,221]
[22,17434,23,17444,13,17456,null,null,null,null,0,221]
[22,17554,23,17565,13,17575,null,null,null,null,0,221]
[22,17672,23,17676,13,17695,null,null,null,null,0,221]
[22,17807,23,17814,13,17824,null,null,null,null,0,221]
[22,17921,14,17931,13,17940,null,null,null,null,0,211]
[22,18036,23,18039,24,18041,null,null,null,null,0,222]
[22,18139,23,18144,13,18161,null,null,null,null,0,221]
[22,18259,23,18264,13,18278,null,null,null,null,0,221]
[22,18375,23,18379,13,18393,null,null,null,null,0,221]
[22,18497,23,18502,13,18513,null,null,null,null,0,221]
[22,18610,23,18616,24,18621,null,null,null,null,0,222]
[22,18718,23,18723,13,18734,null,null,null,null,0,221]
[22,18832,23,18837,13,18848,null,null,null,null,0,221]
[22,18945,14,18954,13,18959,null,null,null,null,0,211]
[22,19059,23,19064,13,19075,null,null,null,null,0,221]
[22,19171,23,19176,13,19193,null,null,null,null,0,221]
[22,19289,23,19298,24,19307,null,null,null,null,0,222]
[22,19406,23,19411,13,19427,null,null,null,null,0,221]
[22,21762,23,21770,24,21776,null,null,null,null,0,222]
[22,21872,14,21882,13,21888,null,null,null,null,0,211]
[22,21984,14,21998,13,22004,null,null,null,null,0,211]
[11,22114,12,22120,13,22128,null,null,null,null,0,111]
[22,22434,23,22444,13,22452,null,null,null,null,0,221]
[11,22561,12,22568,13,22577,null,null,null,null,0,111]
[22,22676,14,22688,13,22694,null,null,null,null,0,211]
[22,22793,14,22803,13,22811,null,null,null,null,0,211]
[22,22906,23,22912,13,22922,null,null,null,null,0,221]
[22,23019,14,23034,13,23042,null,null,null,null,0,211]
[22,23138,23,23147,13,23161,null,null,null,null,0,221]
[22,23260,14,23271,13,23279,null,null,null,null,0,211]
[22,23378,14,23393,13,23401,null,null,null,null,0,211]
[22,23497,23,23503,13,23514,null,null,null,null,0,221]
[22,23610,23,23616,13,23624,null,null,null,null,0,221]
[22,23721,23,23724,13,23739,null,null,null,null,0,221]
[22,23837,14,23850,13,23858,null,null,null,null,0,211]
[22,23956,23,23961,13,23973,null,null,null,null,null,221]

{"sheet":"!M211A2I.sha","index":4,"n_rows":197,"n_cols":48,"rows_kept":197,"cut":false,"hidden":false,"merged":[[4,39,4,42],[5,39,5,40],[4,44,4,47],[5,44,5,45],[4,24,4,27],[5,24,5,25],[4,29,4,32],[5,29,5,30],[4,34,4,37],[5,34,5,35],[1,1,1,2],[5,13,5,14],[18,13,18,14],[19,13,19,14],[4,19,4,22],[5,19,5,20]]}
["Report for:!M211A2I.sha"]
["Date:","<date>"]
["Hen:","<hen>",null,null,null,"Correct Sequence",{"$f":"Start!J2","v":121},null,null,null,null,null,null,null,null,"Total Sequences in Data",{"$f":"4994-COUNTBLANK(L7:L5000)","v":191},null,null,null,null,"Total Sequences in Block Data",{"$f":"COUNTA(L7:L38)","v":32},null,null,null,"Total Sequences in Block Data",{"$f":"COUNTA(L39:L70)","v":32},null,null,null,"Total Sequences in Block Data",{"$f":"COUNTA(L71:L101)","v":31},null,null,null,"Total Sequences in Block Data",{"$f":"COUNTA(L102:L133)","v":32},null,null,null,"Total Sequences in Block Data",{"$f":"COUNTA(L134:L165)","v":32},null,null,null,"Total Sequences in Block Data",{"$f":"COUNTA(L166:L197)","v":32}]
[null,null,null,null,null,null,null,null,null,null,null,null,null,null,null,"Total Sequences in Summary",{"$f":"SUM(O7:O14)","v":191},null,null,null,null,"Total Sequences in Block Summary",{"$f":"SUM(U7:U14)","v":32},null,null,null,"Total Sequences in Block Summary",{"$f":"SUM(Z7:Z14)","v":32},null,null,null,"Total Sequences in Block Summary",{"$f":"SUM(AE7:AE14)","v":31},null,null,null,"Total Sequences in Block Summary",{"$f":"SUM(AJ7:AJ14)","v":32},null,null,null,"Total Sequences in Block Summary",{"$f":"SUM(AO7:AO14)","v":32},null,null,null,"Total Sequences in Block Summary",{"$f":"SUM(AT7:AT14)","v":32}]
[null,null,null,null,null,null,null,null,null,null,null,null,null,null,null,null,null,null,null,"Block 1",null,null,null,null,"Block 2",null,null,null,null,"Block 3",null,null,null,null,"Block 4",null,null,null,null,"Block 5",null,null,null,null,"Block 6"]
["Sequence\nComponent\n1","Time\n1","Sequence\nComponent\n2","Time\n2","Sequence\nComponent\n3","Time\n3","Sequence\nComponent\n4","Time\n4","Sequence\nComponent\n5","Time\n5","Correct?\n0=No 1=Yes","Sequence",null,"Frequency",null,"Relative Frequency","Variability",null,null,"Frequency",null,"Relative Frequency","Variability",null,"Frequency",null,"Relative Frequency","Variability",null,"Frequency",null,"Relative Frequency","Variability",null,"Frequency",null,"Relative Frequency","Variability",null,"Frequency",null,"Relative Frequency","Variability",null,"Frequency",null,"Relative Frequency","Variability"]
[22,10,14,19,13,25,null,null,null,null,0,211,null,111,{"$f":"COUNTIF($L$7:$L$500,N7)","v":3},{"$f":"O7/$Q$4","v":1.5706806282722512E-2},{"$f":"IF(P7=0,0,(P7*((LOG(P7))/LOG(2))))","v":-9.4122507758867949E-2},null,null,{"$f":"N7","v":111},{"$f":"COUNTIF(L7:L38,T7)","v":1},{"$f":"U7/(W4-U9)","v":3.125E-2},{"$f":"IF(V7=0,0,(V7*((LOG(V7))/LOG(2))))","v":-0.15625},null,{"$f":"N7","v":111},{"$f":"COUNTIF(L39:L70,Y7)","v":1},{"$f":"Z7/(AB4-Z9)","v":3.125E-2},{"$f":"IF(AA7=0,0,(AA7*((LOG(AA7))/LOG(2))))","v":-0.15625},null,{"$f":"N7","v":111},{"$f":"COUNTIF(L71:L101,AD7)","v":1},{"$f":"AE7/(AG4-AE9)","v":3.2258064516129031E-2},{"$f":"IF(AF7=0,0,(AF7*((LOG(AF7))/LOG(2))))","v":-0.15981278420602821},null,{"$f":"N7","v":111},{"$f":"COUNTIF(L102:L133,AI7)","v":0},{"$f":"AJ7/(AL4-AJ9)","v":0},{"$f":"IF(AK7=0,0,(AK7*((LOG(AK7))/LOG(2))))","v":0},null,{"$f":"N7","v":111},{"$f":"COUNTIF(L134:L165,AN7)","v":0},{"$f":"AO7/(AQ4-AO9)","v":0},{"$f":"IF(AP7=0,0,(AP7*((LOG(AP7))/LOG(2))))","v":0},null,{"$f":"N7","v":111},{"$f":"COUNTIF(L166:L197,AS7)","v":0},{"$f":"AT7/(AV4-AT9)","v":0},{"$f":"IF(AU7=0,0,(AU7*((LOG(AU7))/LOG(2))))","v":0}]
[22,124,14,134,13,142,null,null,null,null,0,211,null,112,{"$f":"COUNTIF($L$7:$L$500,N8)","v":2},{"$f":"O8/$Q$4","v":1.0471204188481676E-2},{"$f":"IF(P8=0,0,(P8*((LOG(P8))/LOG(2))))","v":-6.8873600293568052E-2},null,null,{"$f":"N8","v":112},{"$f":"COUNTIF(L7:L38,T8)","v":1},{"$f":"U8/(W4-U9)","v":3.125E-2},{"$f":"IF(V8=0,0,(V8*((LOG(V8))/LOG(2))))","v":-0.15625},null,{"$f":"N8","v":112},{"$f":"COUNTIF(L39:L70,Y8)","v":0},{"$f":"Z8/(AB4-Z9)","v":0},{"$f":"IF(AA8=0,0,(AA8*((LOG(AA8))/LOG(2))))","v":0},null,{"$f":"N8","v":112},{"$f":"COUNTIF(L71:L101,AD8)","v":0},{"$f":"AE8/(AG4-AE9)","v":0},{"$f":"IF(AF8=0,0,(AF8*((LOG(AF8))/LOG(2))))","v":0},null,{"$f":"N8","v":112},{"$f":"COUNTIF(L102:L133,AI8)","v":0},{"$f":"AJ8/(AL4-AJ9)","v":0},{"$f":"IF(AK8=0,0,(AK8*((LOG(AK8))/LOG(2))))","v":0},null,{"$f":"N8","v":112},{"$f":"COUNTIF(L134:L165,AN8)","v":1},{"$f":"AO8/(AQ4-AO9)","v":3.125E-2},{"$f":"IF(AP8=0,0,(AP8*((LOG(AP8))/LOG(2))))","v":-0.15625},null,{"$f":"N8","v":112},{"$f":"COUNTIF(L166:L197,AS8)","v":0},{"$f":"AT8/(AV4-AT9)","v":0},{"$f":"IF(AU8=0,0,(AU8*((LOG(AU8))/LOG(2))))","v":0}]
[22,239,23,244,13,272,null,null,null,null,0,221,null,121,{"$f":"COUNTIF($L$7:$L$500,N9)","v":0},{"$f":"O9/$Q$4","v":0},{"$f":"IF(P9=0,0,(P9*((LOG(P9))/LOG(2))))","v":0},null,null,{"$f":"N9","v":121},{"$f":"COUNTIF(L7:L38,T9)","v":0},null,null,null,{"$f":"N9","v":121},{"$f":"COUNTIF(L39:L70,Y9)","v":0},null,null,null,{"$f":"N9","v":121},{"$f":"COUNTIF(L71:L101,AD9)","v":0},null,null,null,{"$f":"N9","v":121},{"$f":"COUNTIF(L102:L133,AI9)","v":0},null,null,null,{"$f":"N9","v":121},{"$f":"COUNTIF(L134:L165,AN9)","v":0},null,null,null,{"$f":"N9","v":121},{"$f":"COUNTIF(L166:L197,AS9)","v":0}]
[22,397,14,422,24,473,null,null,null,null,0,212,null,122,{"$f":"COUNTIF($L$7:$L$500,N10)","v":3},{"$f":"O10/$Q$4","v":1.5706806282722512E-2},{"$f":"IF(P10=0,0,(P10*((LOG(P10))/LOG(2))))","v":-9.4122507758867949E-2},null,null,{"$f":"N10","v":122},{"$f":"COUNTIF(L7:L38,T10)","v":0},{"$f":"U10/(W4-U9)","v":0},{"$f":"IF(V10=0,0,(V10*((LOG(V10))/LOG(2))))","v":0},null,{"$f":"N10","v":122},{"$f":"COUNTIF(L39:L70,Y10)","v":0},{"$f":"Z10/(AB4-Z9)","v":0},{"$f":"IF(AA10=0,0,(AA10*((LOG(AA10))/LOG(2))))","v":0},null,{"$f":"N10","v":122},{"$f":"COUNTIF(L71:L101,AD10)","v":0},{"$f":"AE10/(AG4-AE9)","v":0},{"$f":"IF(AF10=0,0,(AF10*((LOG(AF10))/LOG(2))))","v":0},null,{"$f":"N10","v":122},{"$f":"COUNTIF(L102:L133,AI10)","v":1},{"$f":"AJ10/(AL4-AJ9)","v":3.125E-2},{"$f":"IF(AK10=0,0,(AK10*((LOG(AK10))/LOG(2))))","v":-0.15625},null,{"$f":"N10","v":122},{"$f":"COUNTIF(L134:L165,AN10)","v":1},{"$f":"AO10/(AQ4-AO9)","v":3.125E-2},{"$f":"IF(AP10=0,0,(AP10*((LOG(AP10))/LOG(2))))","v":-0.15625},null,{"$f":"N10","v":122},{"$f":"COUNTIF(L166:L197,AS10)","v":1},{"$f":"AT10/(AV4-AT9)","v":3.125E-2},{"$f":"IF(AU10=0,0,(AU10*((LOG(AU10))/LOG(2))))","v":-0.15625}]
[22,582,14,616,24,685,null,null,null,null,0,212,null,211,{"$f":"COUNTIF($L$7:$L$500,N11)","v":31},{"$f":"O11/$Q$4","v":0.16230366492146597},{"$f":"IF(P11=0,0,(P11*((LOG(P11))/LOG(2))))","v":-0.4257602515555764},null,null,{"$f":"N11","v":211},{"$f":"COUNTIF(L7:L38,T11)","v":7},{"$f":"U11/(W4-U9)","v":0.21875},{"$f":"IF(V11=0,0,(V11*((LOG(V11))/LOG(2))))","v":-0.47964111079989907},null,{"$f":"N11","v":211},{"$f":"COUNTIF(L39:L70,Y11)","v":3},{"$f":"Z11/(AB4-Z9)","v":9.375E-2},{"$f":"IF(AA11=0,0,(AA11*((LOG(AA11))/LOG(2))))","v":-0.32015976555739156},null,{"$f":"N11","v":211},{"$f":"COUNTIF(L71:L101,AD11)","v":5},{"$f":"AE11/(AG4-AE9)","v":0.16129032258064516},{"$f":"IF(AF11=0,0,(AF11*((LOG(AF11))/LOG(2))))","v":-0.42455938959669559},null,{"$f":"N11","v":211},{"$f":"COUNTIF(L102:L133,AI11)","v":7},{"$f":"AJ11/(AL4-AJ9)","v":0.21875},{"$f":"IF(AK11=0,0,(AK11*((LOG(AK11))/LOG(2))))","v":-0.47964111079989907},null,{"$f":"N11","v":211},{"$f":"COUNTIF(L134:L165,AN11)","v":7},{"$f":"AO11/(AQ4-AO9)","v":0.21875},{"$f":"IF(AP11=0,0,(AP11*((LOG(AP11))/LOG(2))))","v":-0.47964111079989907},null,{"$f":"N11","v":211},{"$f":"COUNTIF(L166:L197,AS11)","v":2},{"$f":"AT11/(AV4-AT9)","v":6.25E-2},{"$f":"IF(AU11=0,0,(AU11*((LOG(AU11))/LOG(2))))","v":-0.25}]
[22,782,14,803,13,917,null,null,null,null,0,211,null,212,{"$f":"COUNTIF($L$7:$L$500,N12)","v":3},{"$f":"O12/$Q$4","v":1.5706806282722512E-2},{"$f":"IF(P12=0,0,(P12*((LOG(P12))/LOG(2))))","v":-9.4122507758867949E-2},null,null,{"$f":"N12","v":212},{"$f":"COUNTIF(L7:L38,T12)","v":2},{"$f":"U12/(W4-U9)","v":6.25E-2},{"$f":"IF(V12=0,0,(V12*((LOG(V12))/LOG(2))))","v":-0.25},null,{"$f":"N12","v":212},{"$f":"COUNTIF(L39:L70,Y12)","v":0},{"$f":"Z12/(AB4-Z9)","v":0},{"$f":"IF(AA12=0,0,(AA12*((LOG(AA12))/LOG(2))))","v":0},null,{"$f":"N12","v":212},{"$f":"COUNTIF(L71:L101,AD12)","v":1},{"$f":"AE12/(AG4-AE9)","v":3.2258064516129031E-2},{"$f":"IF(AF12=0,0,(AF12*((LOG(AF12))/LOG(2))))","v":-0.15981278420602821},null,{"$f":"N12","v":212},{"$f":"COUNTIF(L102:L133,AI12)","v":0},{"$f":"AJ12/(AL4-AJ9)","v":0},{"$f":"IF(AK12=0,0,(AK12*((LOG(AK12))/LOG(2))))","v":0},null,{"$f":"N12","v":212},{"$f":"COUNTIF(L134:L165,AN12)","v":0},{"$f":"AO12/(AQ4-AO9)","v":0},{"$f":"IF(AP12=0,0,(AP12*((LOG(AP12))/LOG(2))))","v":0},null,{"$f":"N12","v":212},{"$f":"COUNTIF(L166:L197,AS12)","v":0},{"$f":"AT12/(AV4-AT9)","v":0},{"$f":"IF(AU12=0,0,(AU12*((LOG(AU12))/LOG(2))))","v":0}]
[22,1016,23,1020,13,1035,null,null,null,null,0,221,null,221,{"$f":"COUNTIF($L$7:$L$500,N13)","v":97},{"$f":"O13/$Q$4","v":0.50785340314136129},{"$f":"IF(P13=0,0,(P13*((LOG(P13))/LOG(2))))","v":-0.49643482003830491},null,null,{"$f":"N13","v":221},{"$f":"COUNTIF(L7:L38,T13)","v":14},{"$f":"U13/(W4-U9)","v":0.4375},{"$f":"IF(V13=0,0,(V13*((LOG(V13))/LOG(2))))","v":-0.52178222159979815},null,{"$f":"N13","v":221},{"$f":"COUNTIF(L39:L70,Y13)","v":16},{"$f":"Z13/(AB4-Z9)","v":0.5},{"$f":"IF(AA13=0,0,(AA13*((LOG(AA13))/LOG(2))))","v":-0.5},null,{"$f":"N13","v":221},{"$f":"COUNTIF(L71:L101,AD13)","v":14},{"$f":"AE13/(AG4-AE9)","v":0.45161290322580644},{"$f":"IF(AF13=0,0,(AF13*((LOG(AF13))/LOG(2))))","v":-0.51792836892289662},null,{"$f":"N13","v":221},{"$f":"COUNTIF(L102:L133,AI13)","v":20},{"$f":"AJ13/(AL4-AJ9)","v":0.625},{"$f":"IF(AK13=0,0,(AK13*((LOG(AK13))/LOG(2))))","v":-0.42379494069539858},null,{"$f":"N13","v":221},{"$f":"COUNTIF(L134:L165,AN13)","v":12},{"$f":"AO13/(AQ4-AO9)","v":0.375},{"$f":"IF(AP13=0,0,(AP13*((LOG(AP13))/LOG(2))))","v":-0.53063906222956647},null,{"$f":"N13","v":221},{"$f":"COUNTIF(L166:L197,AS13)","v":21},{"$f":"AT13/(AV4-AT9)","v":0.65625},{"$f":"IF(AU13=0,0,(AU13*((LOG(AU13))/LOG(2))))","v":-0.3987916913014386}]
[22,1135,23,1142,13,1153,null,null,null,null,0,221,null,222,{"$f":"COUNTIF($L$7:$L$500,N14)","v":52},{"$f":"O14/$Q$4","v":0.27225130890052357},{"$f":"IF(P14=0,0,(P14*((LOG(P14))/LOG(2))))","v":-0.51101274196084889},null,null,{"$f":"N14","v":222},{"$f":"COUNTIF(L7:L38,T14)","v":7},{"$f":"U14/(W4-U9)","v":0.21875},{"$f":"IF(V14=0,0,(V14*((LOG(V14))/LOG(2))))","v":-0.47964111079989907},null,{"$f":"N14","v":222},{"$f":"COUNTIF(L39:L70,Y14)","v":12},{"$f":"Z14/(AB4-Z9)","v":0.375},{"$f":"IF(AA14=0,0,(AA14*((LOG(AA14))/LOG(2))))","v":-0.53063906222956647},null,{"$f":"N14","v":222},{"$f":"COUNTIF(L71:L101,AD14)","v":10},{"$f":"AE14/(AG4-AE9)","v":0.32258064516129031},{"$f":"IF(AF14=0,0,(AF14*((LOG(AF14))/LOG(2))))","v":-0.52653813403210092},null,{"$f":"N14","v":222},{"$f":"COUNTIF(L102:L133,AI14)","v":4},{"$f":"AJ14/(AL4-AJ9)","v":0.125},{"$f":"IF(AK14=0,0,(AK14*((LOG(AK14))/LOG(2))))","v":-0.375},null,{"$f":"N14","v":222},{"$f":"COUNTIF(L134:L165,AN14)","v":11},{"$f":"AO14/(AQ4-AO9)","v":0.34375},{"$f":"IF(AP14=0,0,(AP14*((LOG(AP14))/LOG(2))))","v":-0.52957038109342913},null,{"$f":"N14","v":222},{"$f":"COUNTIF(L166:L197,AS14)","v":8},{"$f":"AT14/(AV4-AT9)","v":0.25},{"$f":"IF(AU14=0,0,(AU14*((LOG(AU14))/LOG(2))))","v":-0.5}]
[22,1252,23,1256,13,1266,null,null,null,null,0,221,null,null,null,{"$f":"SUM(P7:P14)","v":1},{"$f":"-SUM(Q7:Q14)","v":1.7844489371249024},null,null,null,null,{"$f":"SUM(V7:V14)","v":1},{"$f":"-SUM(W7:W14)","v":2.0435644431995961},null,null,null,{"$f":"SUM(AA7:AA14)","v":1},{"$f":"-SUM(AB7:AB14)","v":1.507048827786958},null,null,null,{"$f":"SUM(AF7:AF14)","v":1},{"$f":"-SUM(AG7:AG14)","v":1.7886514609637496},null,null,null,{"$f":"SUM(AK7:AK14)","v":1},{"$f":"-SUM(AL7:AL14)","v":1.4346860514952975},null,null,null,{"$f":"SUM(AP7:AP14)","v":1},{"$f":"-SUM(AQ7:AQ14)","v":1.8523505541228946},null,null,null,{"$f":"SUM(AU7:AU14)","v":1},{"$f":"-SUM(AV7:AV14)","v":1.3050416913014387}]
[22,1364,23,1369,13,1385,null,null,null,null,0,221,null,null,null,"U=",{"$f":"Q15/(LOG(Q4)/LOG(2))","v":0.2354953081872066},null,null,null,null,"U1=",{"$f":"W15/(LOG(W4)/LOG(2))","v":0.40871288863991923},null,null,null,"U2=",{"$f":"AB15/(LOG(AB4)/LOG(2))","v":0.30140976555739163},null,null,null,"U3=",{"$f":"AG15/(LOG(AG4)/LOG(2))","v":0.36103766360927131},null,null,null,"U4=",{"$f":"AL15/(LOG(AL4)/LOG(2))","v":0.2869372102990595},null,null,null,"U5=",{"$f":"AQ15/(LOG(AQ4)/LOG(2))","v":0.37047011082457892},null,null,null,"U6=",{"$f":"AV15/(LOG(AV4)/LOG(2))","v":0.26100833826028774}]
[22,1482,23,1486,13,1501,null,null,null,null,0,221]
[22,1599,23,1608,13,1624,null,null,null,null,0,221]
[22,1722,23,1727,13,1743,null,null,null,null,0,221,null,"Total Target Seq"]
[22,1841,23,1846,24,1858,null,null,null,null,0,222,null,{"$f":"COUNTIF(L7:L197,G3)","v":0},null,32,32,31,32,32,32]
[22,1965,23,1976,24,1983,null,null,null,null,0,222,null,null,null,"% of reinforcement given in 6 equal intervals based on number of trials "]
[22,2081,23,2086,13,2111,null,null,null,null,0,221,null,null,null,"%_1","%_2","%_3","%_4","%_5","%_6"]
[22,2210,14,2229,13,2236,null,null,null,null,0,211,null,null,"target sequence",{"$f":"$G$3","v":121},{"$f":"$G$3","v":121},{"$f":"$G$3","v":121},{"$f":"$G$3","v":121},{"$f":"$G$3","v":121},{"$f":"$G$3","v":121}]
[22,2332,23,2337,13,2357,null,null,null,null,0,221,null,null,"total reinforcement",{"$f":"U9","v":0},{"$f":"Z9","v":0},{"$f":"AE9","v":0},{"$f":"AJ9","v":0},{"$f":"AO9","v":0},{"$f":"AT9","v":0}]
[22,2455,23,2459,13,2475,null,null,null,null,0,221,null,null,"% target"]
[22,2573,23,2579,24,2588,null,null,null,null,0,222,null,null,"CCRF"]
[22,2685,23,2690,13,2703,null,null,null,null,0,221,null,null,"% CCRf"]
[11,2843,12,2849,24,2860,null,null,null,null,0,112,null,null,"average response rate",{"$f":"F38/P20","v":127.59375},{"$f":"(F70-F38)/Q20","v":114.40625},{"$f":"(F101-F70)/R20","v":133.29032258064515},{"$f":"(F133-F101)/S20","v":131.96875},{"$f":"(F165-F133)/T20","v":121.34375},{"$f":"(F197-F165)/U20","v":121.375}]
[11,2988,12,2995,13,3002,null,null,null,null,0,111]
[22,3100,14,3115,13,3124,null,null,null,null,0,211]
[22,3220,23,3224,13,3243,null,null,null,null,0,221]
[22,3365,23,3369,24,3374,null,null,null,null,0,222]
[22,3473,14,3485,13,3489,null,null,null,null,0,211]
[22,3585,23,3591,24,3599,null,null,null,null,0,222]
[22,3696,23,3699,13,3710,null,null,null,null,0,221]
[22,3848,23,3854,24,3862,null,null,null,null,0,222]
[22,3957,14,3968,13,3974,null,null,null,null,0,211]
[22,4071,23,4076,24,4083,null,null,null,null,0,222]
[22,4181,14,4193,13,4203,null,null,null,null,0,211]
[22,4302,23,4308,13,4319,null,null,null,null,0,221]
[22,4416,23,4423,13,4433,null,null,null,null,0,221]
[22,4531,23,4536,13,4549,null,null,null,null,0,221]
[22,4645,23,4652,13,4667,null,null,null,null,0,221]
[22,4796,23,4800,24,4806,null,null,null,null,0,222]
[22,4902,23,4906,24,4916,null,null,null,null,0,222]
[22,5013,23,5019,13,5030,null,null,null,null,0,221]
[22,5126,23,5131,13,5146,null,null,null,null,0,221]
[22,5243,23,5246,24,5254,null,null,null,null,0,222]
[22,5350,23,5355,24,5361,null,null,null,null,0,222]
[11,5472,12,5480,13,5489,null,null,null,null,0,111]
[22,5588,23,5593,24,5598,null,null,null,null,0,222]
[22,5694,23,5699,24,5705,null,null,null,null,0,222]
[22,5803,23,5805,24,5812,null,null,null,null,0,222]
[22,5911,23,5915,24,5923,null,null,null,null,0,222]
[22,6019,23,6024,13,6037,null,null,null,null,0,221]
[22,6134,23,6139,24,6143,null,null,null,null,0,222]
[22,6242,23,6248,13,6260,null,null,null,null,0,221]
[22,6358,23,6363,13,6377,null,null,null,null,0,221]
[22,6473,23,6479,13,6491,null,null,null,null,0,221]
[22,6587,23,6591,13,6601,null,null,null,null,0,221]
[22,6698,23,6704,13,6717,null,null,null,null,0,221]
[22,6828,23,6833,24,6837,null,null,null,null,0,222]
[22,6932,23,6937,13,6949,null,null,null,null,0,221]
[22,7045,23,7049,13,7060,null,null,null,null,0,221]
[22,7158,23,7162,24,7170,null,null,null,null,0,222]
[22,7266,23,7274,24,7280,null,null,null,null,0,222]
[22,7378,14,7388,13,7395,null,null,null,null,0,211]
[22,7493,23,7498,13,7509,null,null,null,null,0,221]
[22,7606,23,7613,13,7623,null,null,null,null,0,221]
[22,7722,14,7739,13,7744,null,null,null,null,0,211]
[22,7841,23,7847,13,7857,null,null,null,null,0,221]
[22,7954,23,7960,24,7966,null,null,null,null,0,222]
[22,8062,23,8067,13,8078,null,null,null,null,0,221]
[22,8177,23,8183,13,8196,null,null,null,null,0,221]
[22,8487,23,8491,24,8497,null,null,null,null,0,222]
[22,8611,23,8614,24,8619,null,null,null,null,0,222]
[22,8717,23,8722,13,8734,null,null,null,null,0,221]
[22,8833,23,8837,13,8847,null,null,null,null,0,221]
[22,9240,23,9243,24,9248,null,null,null,null,0,222]
[22,9359,14,9368,13,9374,null,null,null,null,0,211]
[22,9470,14,9480,13,9488,null,null,null,null,0,211]
[11,9602,12,9609,13,9615,null,null,null,null,0,111]
[22,9713,14,9725,13,9730,null,null,null,null,0,211]
[22,9827,14,9841,13,9847,null,null,null,null,0,211]
[22,9946,23,9950,13,9959,null,null,null,null,0,221]
[22,10056,23,10074,13,10084,null,null,null,null,0,221]
[22,10182,23,10187,24,10192,null,null,null,null,0,222]
[22,10288,23,10293,13,10304,null,null,null,null,0,221]
[22,10402,23,10407,13,10421,null,null,null,null,0,221]
[22,10517,23,10522,13,10532,null,null,null,null,0,221]
[22,10628,23,10632,13,10641,null,null,null,null,0,221]
[22,10739,23,10743,24,10752,null,null,null,null,0,222]
[22,10850,23,10853,24,10858,null,null,null,null,0,222]
[22,10953,14,10969,13,10975,null,null,null,null,0,211]
[22,11106,23,11111,24,11117,null,null,null,null,0,222]
[22,11239,23,11243,24,11248,null,null,null,null,0,222]
[22,11344,23,11353,13,11367,null,null,null,null,0,221]
[22,11462,23,11466,24,11471,null,null,null,null,0,222]
[22,11568,23,11572,13,11584,null,null,null,null,0,221]
[22,11739,14,11748,24,11761,null,null,null,null,0,212]
[22,11859,23,11867,13,11876,null,null,null,null,0,221]
[22,11975,14,11991,13,11996,null,null,null,null,0,211]
[22,12097,23,12102,13,12111,null,null,null,null,0,221]
[22,12211,14,12224,13,12230,null,null,null,null,0,211]
[22,12326,23,12336,13,12345,null,null,null,null,0,221]
[22,12643,23,12650,13,12658,null,null,null,null,0,221]
[22,12755,14,12772,13,12778,null,null,null,null,0,211]
[22,12876,23,12879,13,12888,null,null,null,null,0,221]
[22,12986,23,12994,13,13004,null,null,null,null,0,221]
[22,13128,23,13135,24,13141,null,null,null,null,0,222]
[22,13239,23,13243,24,13247,null,null,null,null,0,222]
[22,13462,23,13472,24,13480,null,null,null,null,0,222]
[22,13578,23,13584,13,13593,null,null,null,null,0,221]
[22,13692,23,13698,13,13712,null,null,null,null,0,221]
[22,13808,23,13816,13,13827,null,null,null,null,0,221]
[22,13922,23,13926,13,13935,null,null,null,null,0,221]
[22,14031,23,14035,24,14041,null,null,null,null,0,222]
[22,14142,23,14149,13,14159,null,null,null,null,0,221]
[22,14255,23,14260,13,14271,null,null,null,null,0,221]
[22,14369,23,14374,13,14384,null,null,null,null,0,221]
[11,14742,21,14752,22,14757,null,null,null,null,0,122]
[22,14768,23,14771,13,14782,null,null,null,null,0,221]
[22,14878,14,14892,13,14898,null,null,null,null,0,211]
[22,14995,23,15000,13,15009,null,null,null,null,0,221]
[22,15104,14,15117,13,15122,null,null,null,null,0,211]
[22,15218,23,15223,13,15231,null,null,null,null,0,221]
[22,15327,23,15331,13,15341,null,null,null,null,0,221]
[22,15438,23,15443,13,15454,null,null,null,null,0,221]
[22,15587,14,15596,13,15602,null,null,null,null,0,211]
[22,15701,14,15711,13,15717,null,null,null,null,0,211]
[22,15816,23,15821,13,15829,null,null,null,null,0,221]
[22,15974,23,15978,13,15986,null,null,null,null,0,221]
[22,16084,23,16091,13,16099,null,null,null,null,0,221]
[22,16202,14,16211,13,16218,null,null,null,null,0,211]
[22,16320,14,16332,13,16338,null,null,null,null,0,211]
[22,16434,14,16447,13,16453,null,null,null,null,0,211]
[22,16549,23,16553,13,16562,null,null,null,null,0,221]
[22,16658,23,16662,24,16668,null,null,null,null,0,222]
[22,16788,23,16792,24,16795,null,null,null,null,0,222]
[22,16912,23,16916,24,16922,null,null,null,null,0,222]
[22,17030,23,17036,24,17042,null,null,null,null,0,222]
[22,17140,23,17144,24,17149,null,null,null,null,0,222]
[22,17322,23,17327,24,17334,null,null,null,null,0,222]
[22,17431,23,17436,13,17446,null,null,null,null,0,221]
[22,17544,23,17552,13,17562,null,null,null,null,0,221]
[22,17659,23,17664,13,17675,null,null,null,null,0,221]
[22,17775,23,17783,24,17790,null,null,null,null,0,222]
[22,17888,23,17895,13,17906,null,null,null,null,0,221]
[11,18037,21,18049,22,18061,null,null,null,null,0,122]
[22,18159,23,18164,24,18170,null,null,null,null,0,222]
[11,18279,12,18285,24,18299,null,null,null,null,0,112]
[22,18397,14,18414,13,18421,null,null,null,null,0,211]
[22,18516,23,18520,13,18528,null,null,null,null,0,221]
[22,18626,14,18639,13,18646,null,null,null,null,0,211]
[22,18745,14,18759,13,18765,null,null,null,null,0,211]
[22,18862,14,18873,13,18881,null,null,null,null,0,211]
[22,18978,23,18985,13,18993,null,null,null,null,0,221]
[22,19088,23,19091,13,19102,null,null,null,null,0,221]
[22,19221,23,19227,13,19236,null,null,null,null,0,221]
[22,19333,23,19338,13,19348,null,null,null,null,0,221]
[22,19527,23,19533,24,19539,null,null,null,null,0,222]
[22,19639,23,19648,24,19654,null,null,null,null,0,222]
[22,19750,23,19755,24,19758,null,null,null,null,0,222]
[22,19856,23,19862,13,19873,null,null,null,null,0,221]
[22,19968,23,19973,13,19982,null,null,null,null,0,221]
[22,20081,23,20086,13,20105,null,null,null,null,0,221]
[22,20202,23,20207,13,20218,null,null,null,null,0,221]
[22,20313,23,20316,13,20326,null,null,null,null,0,221]
[22,20468,23,20474,24,20480,null,null,null,null,0,222]
[22,20582,23,20588,13,20598,null,null,null,null,0,221]
[22,20693,23,20704,13,20713,null,null,null,null,0,221]
[22,20811,23,20815,13,20828,null,null,null,null,0,221]
[22,20924,23,20932,13,20943,null,null,null,null,0,221]
[22,21042,23,21046,13,21057,null,null,null,null,0,221]
[22,21153,23,21156,13,21167,null,null,null,null,0,221]
[22,21379,23,21385,24,21389,null,null,null,null,0,222]
[22,21482,23,21484,24,21486,null,null,null,null,0,222]
[22,21598,23,21607,13,21618,null,null,null,null,0,221]
[22,21714,23,21719,13,21728,null,null,null,null,0,221]
[22,21824,14,21839,13,21844,null,null,null,null,0,211]
[22,21944,23,21948,13,21960,null,null,null,null,0,221]
[22,22057,23,22061,13,22069,null,null,null,null,0,221]
[22,22168,23,22176,13,22185,null,null,null,null,0,221]
[22,22280,23,22284,13,22295,null,null,null,null,0,221]
[22,22390,23,22392,24,22398,null,null,null,null,0,222]
[22,22492,23,22495,13,22506,null,null,null,null,0,221]
[22,22603,23,22613,24,22619,null,null,null,null,0,222]
[22,22714,23,22718,13,22728,null,null,null,null,0,221]
[22,22826,23,22830,24,22838,null,null,null,null,0,222]
[22,22937,23,22941,13,22949,null,null,null,null,0,221]
[22,23047,23,23051,13,23066,null,null,null,null,0,221]
[22,23163,23,23166,13,23179,null,null,null,null,0,221]
[22,23276,23,23281,24,23287,null,null,null,null,0,222]
[11,23408,21,23423,22,23431,null,null,null,null,0,122]
[22,23526,23,23531,13,23541,null,null,null,null,0,221]
[22,23639,14,23658,13,23662,null,null,null,null,0,211]
[22,23856,23,23861,24,23866,null,null,null,null,0,222]

{"sheet":"!M212A1I.sha","index":5,"n_rows":193,"n_cols":48,"rows_kept":193,"cut":false,"hidden":false,"merged":[[4,39,4,42],[5,39,5,40],[4,44,4,47],[5,44,5,45],[4,24,4,27],[5,24,5,25],[4,29,4,32],[5,29,5,30],[4,34,4,37],[5,34,5,35],[1,1,1,2],[5,13,5,14],[18,13,18,14],[19,13,19,14],[4,19,4,22],[5,19,5,20]]}
["Report for:!M212A1I.sha"]
["Date:","<date>"]
["Hen:","<hen>",null,null,null,"Correct Sequence",{"$f":"Start!J2","v":121},null,null,null,null,null,null,null,null,"Total Sequences in Data",{"$f":"4994-COUNTBLANK(L7:L5000)","v":187},null,null,null,null,"Total Sequences in Block Data",{"$f":"COUNTA(L7:L37)","v":31},null,null,null,"Total Sequences in Block Data",{"$f":"COUNTA(L38:L68)","v":31},null,null,null,"Total Sequences in Block Data",{"$f":"COUNTA(L69:L100)","v":32},null,null,null,"Total Sequences in Block Data",{"$f":"COUNTA(L101:L131)","v":31},null,null,null,"Total Sequences in Block Data",{"$f":"COUNTA(L132:L162)","v":31},null,null,null,"Total Sequences in Block Data",{"$f":"COUNTA(L163:L193)","v":31}]
[null,null,null,null,null,null,null,null,null,null,null,null,null,null,null,"Total Sequences in Summary",{"$f":"SUM(O7:O14)","v":187},null,null,null,null,"Total Sequences in Block Summary",{"$f":"SUM(U7:U14)","v":31},null,null,null,"Total Sequences in Block Summary",{"$f":"SUM(Z7:Z14)","v":31},null,null,null,"Total Sequences in Block Summary",{"$f":"SUM(AE7:AE14)","v":32},null,null,null,"Total Sequences in Block Summary",{"$f":"SUM(AJ7:AJ14)","v":31},null,null,null,"Total Sequences in Block Summary",{"$f":"SUM(AO7:AO14)","v":31},null,null,null,"Total Sequences in Block Summary",{"$f":"SUM(AT7:AT14)","v":31}]
[null,null,null,null,null,null,null,null,null,null,null,null,null,null,null,null,null,null,null,"Block 1",null,null,null,null,"Block 2",null,null,null,null,"Block 3",null,null,null,null,"Block 4",null,null,null,null,"Block 5",null,null,null,null,"Block 6"]
["Sequence\nComponent\n1","Time\n1","Sequence\nComponent\n2","Time\n2","Sequence\nComponent\n3","Time\n3","Sequence\nComponent\n4","Time\n4","Sequence\nComponent\n5","Time\n5","Correct?\n0=No 1=Yes","Sequence",null,"Frequency",null,"Relative Frequency","Variability",null,null,"Frequency",null,"Relative Frequency","Variability",null,"Frequency",null,"Relative Frequency","Variability",null,"Frequency",null,"Relative Frequency","Variability",null,"Frequency",null,"Relative Frequency","Variability",null,"Frequency",null,"Relative Frequency","Variability",null,"Frequency",null,"Relative Frequency","Variability"]
[11,22,21,44,22,51,null,null,null,null,0,122,null,111,{"$f":"COUNTIF($L$7:$L$500,N7)","v":4},{"$f":"O7/$Q$4","v":2.1390374331550801E-2},{"$f":"IF(P7=0,0,(P7*((LOG(P7))/LOG(2))))","v":-0.11865014887460185},null,null,{"$f":"N7","v":111},{"$f":"COUNTIF(L7:L37,T7)","v":0},{"$f":"U7/(W4-U9)","v":0},{"$f":"IF(V7=0,0,(V7*((LOG(V7))/LOG(2))))","v":0},null,{"$f":"N7","v":111},{"$f":"COUNTIF(L38:L68,Y7)","v":0},{"$f":"Z7/(AB4-Z9)","v":0},{"$f":"IF(AA7=0,0,(AA7*((LOG(AA7))/LOG(2))))","v":0},null,{"$f":"N7","v":111},{"$f":"COUNTIF(L69:L100,AD7)","v":0},{"$f":"AE7/(AG4-AE9)","v":0},{"$f":"IF(AF7=0,0,(AF7*((LOG(AF7))/LOG(2))))","v":0},null,{"$f":"N7","v":111},{"$f":"COUNTIF(L101:L131,AI7)","v":2},{"$f":"AJ7/(AL4-AJ9)","v":6.4516129032258063E-2},{"$f":"IF(AK7=0,0,(AK7*((LOG(AK7))/LOG(2))))","v":-0.25510943937979835},null,{"$f":"N7","v":111},{"$f":"COUNTIF(L132:L162,AN7)","v":0},{"$f":"AO7/(AQ4-AO9)","v":0},{"$f":"IF(AP7=0,0,(AP7*((LOG(AP7))/LOG(2))))","v":0},null,{"$f":"N7","v":111},{"$f":"COUNTIF(L163:L193,AS7)","v":2},{"$f":"AT7/(AV4-AT9)","v":6.4516129032258063E-2},{"$f":"IF(AU7=0,0,(AU7*((LOG(AU7))/LOG(2))))","v":-0.25510943937979835}]
[22,149,14,159,13,167,null,null,null,null,0,211,null,112,{"$f":"COUNTIF($L$7:$L$500,N8)","v":8},{"$f":"O8/$Q$4","v":4.2780748663101602E-2},{"$f":"IF(P8=0,0,(P8*((LOG(P8))/LOG(2))))","v":-0.19451954908610211},null,null,{"$f":"N8","v":112},{"$f":"COUNTIF(L7:L37,T8)","v":0},{"$f":"U8/(W4-U9)","v":0},{"$f":"IF(V8=0,0,(V8*((LOG(V8))/LOG(2))))","v":0},null,{"$f":"N8","v":112},{"$f":"COUNTIF(L38:L68,Y8)","v":1},{"$f":"Z8/(AB4-Z9)","v":3.2258064516129031E-2},{"$f":"IF(AA8=0,0,(AA8*((LOG(AA8))/LOG(2))))","v":-0.15981278420602821},null,{"$f":"N8","v":112},{"$f":"COUNTIF(L69:L100,AD8)","v":1},{"$f":"AE8/(AG4-AE9)","v":3.125E-2},{"$f":"IF(AF8=0,0,(AF8*((LOG(AF8))/LOG(2))))","v":-0.15625},null,{"$f":"N8","v":112},{"$f":"COUNTIF(L101:L131,AI8)","v":2},{"$f":"AJ8/(AL4-AJ9)","v":6.4516129032258063E-2},{"$f":"IF(AK8=0,0,(AK8*((LOG(AK8))/LOG(2))))","v":-0.25510943937979835},null,{"$f":"N8","v":112},{"$f":"COUNTIF(L132:L162,AN8)","v":0},{"$f":"AO8/(AQ4-AO9)","v":0},{"$f":"IF(AP8=0,0,(AP8*((LOG(AP8))/LOG(2))))","v":0},null,{"$f":"N8","v":112},{"$f":"COUNTIF(L163:L193,AS8)","v":4},{"$f":"AT8/(AV4-AT9)","v":0.12903225806451613},{"$f":"IF(AU8=0,0,(AU8*((LOG(AU8))/LOG(2))))","v":-0.38118662069508069}]
[22,263,23,274,24,280,null,null,null,null,0,222,null,121,{"$f":"COUNTIF($L$7:$L$500,N9)","v":0},{"$f":"O9/$Q$4","v":0},{"$f":"IF(P9=0,0,(P9*((LOG(P9))/LOG(2))))","v":0},null,null,{"$f":"N9","v":121},{"$f":"COUNTIF(L7:L37,T9)","v":0},null,null,null,{"$f":"N9","v":121},{"$f":"COUNTIF(L38:L68,Y9)","v":0},null,null,null,{"$f":"N9","v":121},{"$f":"COUNTIF(L69:L100,AD9)","v":0},null,null,null,{"$f":"N9","v":121},{"$f":"COUNTIF(L101:L131,AI9)","v":0},null,null,null,{"$f":"N9","v":121},{"$f":"COUNTIF(L132:L162,AN9)","v":0},null,null,null,{"$f":"N9","v":121},{"$f":"COUNTIF(L163:L193,AS9)","v":0}]
[22,380,23,385,13,396,null,null,null,null,0,221,null,122,{"$f":"COUNTIF($L$7:$L$500,N10)","v":6},{"$f":"O10/$Q$4","v":3.2085561497326207E-2},{"$f":"IF(P10=0,0,(P10*((LOG(P10))/LOG(2))))","v":-0.15920637302138441},null,null,{"$f":"N10","v":122},{"$f":"COUNTIF(L7:L37,T10)","v":1},{"$f":"U10/(W4-U9)","v":3.2258064516129031E-2},{"$f":"IF(V10=0,0,(V10*((LOG(V10))/LOG(2))))","v":-0.15981278420602821},null,{"$f":"N10","v":122},{"$f":"COUNTIF(L38:L68,Y10)","v":1},{"$f":"Z10/(AB4-Z9)","v":3.2258064516129031E-2},{"$f":"IF(AA10=0,0,(AA10*((LOG(AA10))/LOG(2))))","v":-0.15981278420602821},null,{"$f":"N10","v":122},{"$f":"COUNTIF(L69:L100,AD10)","v":1},{"$f":"AE10/(AG4-AE9)","v":3.125E-2},{"$f":"IF(AF10=0,0,(AF10*((LOG(AF10))/LOG(2))))","v":-0.15625},null,{"$f":"N10","v":122},{"$f":"COUNTIF(L101:L131,AI10)","v":1},{"$f":"AJ10/(AL4-AJ9)","v":3.2258064516129031E-2},{"$f":"IF(AK10=0,0,(AK10*((LOG(AK10))/LOG(2))))","v":-0.15981278420602821},null,{"$f":"N10","v":122},{"$f":"COUNTIF(L132:L162,AN10)","v":1},{"$f":"AO10/(AQ4-AO9)","v":3.2258064516129031E-2},{"$f":"IF(AP10=0,0,(AP10*((LOG(AP10))/LOG(2))))","v":-0.15981278420602821},null,{"$f":"N10","v":122},{"$f":"COUNTIF(L163:L193,AS10)","v":1},{"$f":"AT10/(AV4-AT9)","v":3.2258064516129031E-2},{"$f":"IF(AU10=0,0,(AU10*((LOG(AU10))/LOG(2))))","v":-0.15981278420602821}]
[22,501,14,512,13,521,null,null,null,null,0,211,null,211,{"$f":"COUNTIF($L$7:$L$500,N11)","v":57},{"$f":"O11/$Q$4","v":0.30481283422459893},{"$f":"IF(P11=0,0,(P11*((LOG(P11))/LOG(2))))","v":-0.52245055297435838},null,null,{"$f":"N11","v":211},{"$f":"COUNTIF(L7:L37,T11)","v":6},{"$f":"U11/(W4-U9)","v":0.19354838709677419},{"$f":"IF(V11=0,0,(V11*((LOG(V11))/LOG(2))))","v":-0.45856138251594558},null,{"$f":"N11","v":211},{"$f":"COUNTIF(L38:L68,Y11)","v":7},{"$f":"Z11/(AB4-Z9)","v":0.22580645161290322},{"$f":"IF(AA11=0,0,(AA11*((LOG(AA11))/LOG(2))))","v":-0.48477063607435156},null,{"$f":"N11","v":211},{"$f":"COUNTIF(L69:L100,AD11)","v":15},{"$f":"AE11/(AG4-AE9)","v":0.46875},{"$f":"IF(AF11=0,0,(AF11*((LOG(AF11))/LOG(2))))","v":-0.512395033308507},null,{"$f":"N11","v":211},{"$f":"COUNTIF(L101:L131,AI11)","v":9},{"$f":"AJ11/(AL4-AJ9)","v":0.29032258064516131},{"$f":"IF(AK11=0,0,(AK11*((LOG(AK11))/LOG(2))))","v":-0.5180142509839053},null,{"$f":"N11","v":211},{"$f":"COUNTIF(L132:L162,AN11)","v":8},{"$f":"AO11/(AQ4-AO9)","v":0.25806451612903225},{"$f":"IF(AP11=0,0,(AP11*((LOG(AP11))/LOG(2))))","v":-0.50430872526112902},null,{"$f":"N11","v":211},{"$f":"COUNTIF(L163:L193,AS11)","v":12},{"$f":"AT11/(AV4-AT9)","v":0.38709677419354838},{"$f":"IF(AU11=0,0,(AU11*((LOG(AU11))/LOG(2))))","v":-0.5300259908383429}]
[22,625,23,629,13,639,null,null,null,null,0,221,null,212,{"$f":"COUNTIF($L$7:$L$500,N12)","v":3},{"$f":"O12/$Q$4","v":1.6042780748663103E-2},{"$f":"IF(P12=0,0,(P12*((LOG(P12))/LOG(2))))","v":-9.5645967259355313E-2},null,null,{"$f":"N12","v":212},{"$f":"COUNTIF(L7:L37,T12)","v":0},{"$f":"U12/(W4-U9)","v":0},{"$f":"IF(V12=0,0,(V12*((LOG(V12))/LOG(2))))","v":0},null,{"$f":"N12","v":212},{"$f":"COUNTIF(L38:L68,Y12)","v":1},{"$f":"Z12/(AB4-Z9)","v":3.2258064516129031E-2},{"$f":"IF(AA12=0,0,(AA12*((LOG(AA12))/LOG(2))))","v":-0.15981278420602821},null,{"$f":"N12","v":212},{"$f":"COUNTIF(L69:L100,AD12)","v":0},{"$f":"AE12/(AG4-AE9)","v":0},{"$f":"IF(AF12=0,0,(AF12*((LOG(AF12))/LOG(2))))","v":0},null,{"$f":"N12","v":212},{"$f":"COUNTIF(L101:L131,AI12)","v":1},{"$f":"AJ12/(AL4-AJ9)","v":3.2258064516129031E-2},{"$f":"IF(AK12=0,0,(AK12*((LOG(AK12))/LOG(2))))","v":-0.15981278420602821},null,{"$f":"N12","v":212},{"$f":"COUNTIF(L132:L162,AN12)","v":0},{"$f":"AO12/(AQ4-AO9)","v":0},{"$f":"IF(AP12=0,0,(AP12*((LOG(AP12))/LOG(2))))","v":0},null,{"$f":"N12","v":212},{"$f":"COUNTIF(L163:L193,AS12)","v":1},{"$f":"AT12/(AV4-AT9)","v":3.2258064516129031E-2},{"$f":"IF(AU12=0,0,(AU12*((LOG(AU12))/LOG(2))))","v":-0.15981278420602821}]
[22,736,23,741,24,749,null,null,null,null,0,222,null,221,{"$f":"COUNTIF($L$7:$L$500,N13)","v":81},{"$f":"O13/$Q$4","v":0.43315508021390375},{"$f":"IF(P13=0,0,(P13*((LOG(P13))/LOG(2))))","v":-0.52283743859488752},null,null,{"$f":"N13","v":221},{"$f":"COUNTIF(L7:L37,T13)","v":17},{"$f":"U13/(W4-U9)","v":0.54838709677419351},{"$f":"IF(V13=0,0,(V13*((LOG(V13))/LOG(2))))","v":-0.47530545081681003},null,{"$f":"N13","v":221},{"$f":"COUNTIF(L38:L68,Y13)","v":17},{"$f":"Z13/(AB4-Z9)","v":0.54838709677419351},{"$f":"IF(AA13=0,0,(AA13*((LOG(AA13))/LOG(2))))","v":-0.47530545081681003},null,{"$f":"N13","v":221},{"$f":"COUNTIF(L69:L100,AD13)","v":13},{"$f":"AE13/(AG4-AE9)","v":0.40625},{"$f":"IF(AF13=0,0,(AF13*((LOG(AF13))/LOG(2))))","v":-0.52794636450518129},null,{"$f":"N13","v":221},{"$f":"COUNTIF(L101:L131,AI13)","v":10},{"$f":"AJ13/(AL4-AJ9)","v":0.32258064516129031},{"$f":"IF(AK13=0,0,(AK13*((LOG(AK13))/LOG(2))))","v":-0.52653813403210092},null,{"$f":"N13","v":221},{"$f":"COUNTIF(L132:L162,AN13)","v":18},{"$f":"AO13/(AQ4-AO9)","v":0.58064516129032262},{"$f":"IF(AP13=0,0,(AP13*((LOG(AP13))/LOG(2))))","v":-0.45538334067748809},null,{"$f":"N13","v":221},{"$f":"COUNTIF(L163:L193,AS13)","v":6},{"$f":"AT13/(AV4-AT9)","v":0.19354838709677419},{"$f":"IF(AU13=0,0,(AU13*((LOG(AU13))/LOG(2))))","v":-0.45856138251594558}]
[22,846,23,858,13,877,null,null,null,null,0,221,null,222,{"$f":"COUNTIF($L$7:$L$500,N14)","v":28},{"$f":"O14/$Q$4","v":0.1497326203208556},{"$f":"IF(P14=0,0,(P14*((LOG(P14))/LOG(2))))","v":-0.41019843347187651},null,null,{"$f":"N14","v":222},{"$f":"COUNTIF(L7:L37,T14)","v":7},{"$f":"U14/(W4-U9)","v":0.22580645161290322},{"$f":"IF(V14=0,0,(V14*((LOG(V14))/LOG(2))))","v":-0.48477063607435156},null,{"$f":"N14","v":222},{"$f":"COUNTIF(L38:L68,Y14)","v":4},{"$f":"Z14/(AB4-Z9)","v":0.12903225806451613},{"$f":"IF(AA14=0,0,(AA14*((LOG(AA14))/LOG(2))))","v":-0.38118662069508069},null,{"$f":"N14","v":222},{"$f":"COUNTIF(L69:L100,AD14)","v":2},{"$f":"AE14/(AG4-AE9)","v":6.25E-2},{"$f":"IF(AF14=0,0,(AF14*((LOG(AF14))/LOG(2))))","v":-0.25},null,{"$f":"N14","v":222},{"$f":"COUNTIF(L101:L131,AI14)","v":6},{"$f":"AJ14/(AL4-AJ9)","v":0.19354838709677419},{"$f":"IF(AK14=0,0,(AK14*((LOG(AK14))/LOG(2))))","v":-0.45856138251594558},null,{"$f":"N14","v":222},{"$f":"COUNTIF(L132:L162,AN14)","v":4},{"$f":"AO14/(AQ4-AO9)","v":0.12903225806451613},{"$f":"IF(AP14=0,0,(AP14*((LOG(AP14))/LOG(2))))","v":-0.38118662069508069},null,{"$f":"N14","v":222},{"$f":"COUNTIF(L163:L193,AS14)","v":5},{"$f":"AT14/(AV4-AT9)","v":0.16129032258064516},{"$f":"IF(AU14=0,0,(AU14*((LOG(AU14))/LOG(2))))","v":-0.42455938959669559}]
[22,974,23,979,13,991,null,null,null,null,0,221,null,null,null,{"$f":"SUM(P7:P14)","v":1},{"$f":"-SUM(Q7:Q14)","v":2.0235084632825662},null,null,null,null,{"$f":"SUM(V7:V14)","v":1},{"$f":"-SUM(W7:W14)","v":1.5784502536131353},null,null,null,{"$f":"SUM(AA7:AA14)","v":0.99999999999999989},{"$f":"-SUM(AB7:AB14)","v":1.8207010602043268},null,null,null,{"$f":"SUM(AF7:AF14)","v":1},{"$f":"-SUM(AG7:AG14)","v":1.6028413978136884},null,null,null,{"$f":"SUM(AK7:AK14)","v":1},{"$f":"-SUM(AL7:AL14)","v":2.3329582147036048},null,null,null,{"$f":"SUM(AP7:AP14)","v":1},{"$f":"-SUM(AQ7:AQ14)","v":1.5006914708397261},null,null,null,{"$f":"SUM(AU7:AU14)","v":0.99999999999999989},{"$f":"-SUM(AV7:AV14)","v":2.3690683914379194}]
[22,1089,23,1098,13,1109,null,null,null,null,0,221,null,null,null,"U=",{"$f":"Q15/(LOG(Q4)/LOG(2))","v":0.26812465366220234},null,null,null,null,"U1=",{"$f":"W15/(LOG(W4)/LOG(2))","v":0.31860874190709521},null,null,null,"U2=",{"$f":"AB15/(LOG(AB4)/LOG(2))","v":0.36750684594130417},null,null,null,"U3=",{"$f":"AG15/(LOG(AG4)/LOG(2))","v":0.3205682795627377},null,null,null,"U4=",{"$f":"AL15/(LOG(AL4)/LOG(2))","v":0.47090548467212906},null,null,null,"U5=",{"$f":"AQ15/(LOG(AQ4)/LOG(2))","v":0.30291320263054666},null,null,null,"U6=",{"$f":"AV15/(LOG(AV4)/LOG(2))","v":0.47819429086226861}]
[22,1205,23,1210,13,1222,null,null,null,null,0,221]
[22,1321,23,1325,13,1339,null,null,null,null,0,221]
[22,1436,14,1451,13,1460,null,null,null,null,0,211,null,"Total Target Seq"]
[22,1581,23,1587,24,1595,null,null,null,null,0,222,null,{"$f":"COUNTIF(L7:L193,G3)","v":0},null,31,31,32,31,31,31]
[22,1692,23,1696,13,1709,null,null,null,null,0,221,null,null,null,"% of reinforcement given in 6 equal intervals based on number of trials "]
[22,1805,23,1810,13,1822,null,null,null,null,0,221,null,null,null,"%_1","%_2","%_3","%_4","%_5","%_6"]
[22,1921,23,1925,24,1934,null,null,null,null,0,222,null,null,"target sequence",{"$f":"$G$3","v":121},{"$f":"$G$3","v":121},{"$f":"$G$3","v":121},{"$f":"$G$3","v":121},{"$f":"$G$3","v":121},{"$f":"$G$3","v":121}]
[22,2034,23,2039,24,2048,null,null,null,null,0,222,null,null,"total reinforcement",{"$f":"U9","v":0},{"$f":"Z9","v":0},{"$f":"AE9","v":0},{"$f":"AJ9","v":0},{"$f":"AO9","v":0},{"$f":"AT9","v":0}]
[22,2145,23,2151,13,2162,null,null,null,null,0,221,null,null,"% target"]
[22,2262,14,2274,13,2281,null,null,null,null,0,211,null,null,"CCRF"]
[22,2377,23,2386,13,2397,null,null,null,null,0,221,null,null,"% CCRf"]
[22,2497,23,2503,13,2520,null,null,null,null,0,221,null,null,"average response rate",{"$f":"F37/P20","v":118.90322580645162},{"$f":"(F68-F37)/Q20","v":132.58064516129033},{"$f":"(F100-F68)/R20","v":130.5625},{"$f":"(F131-F100)/S20","v":138.35483870967741},{"$f":"(F162-F131)/T20","v":121.48387096774194},{"$f":"(F193-F162)/U20","v":126.96774193548387}]
[22,2620,14,2634,13,2636,null,null,null,null,0,211]
[22,2737,14,2747,13,2754,null,null,null,null,0,211]
[22,2849,23,2854,13,2866,null,null,null,null,0,221]
[22,2962,23,2965,24,2971,null,null,null,null,0,222]
[22,3069,23,3073,13,3082,null,null,null,null,0,221]
[22,3180,23,3185,13,3195,null,null,null,null,0,221]
[22,3415,23,3423,13,3436,null,null,null,null,0,221]
[22,3558,23,3564,24,3571,null,null,null,null,0,222]
[22,3669,23,3677,13,3686,null,null,null,null,0,221]
[22,3783,23,3787,24,3793,null,null,null,null,0,222]
[22,3888,23,3897,13,3908,null,null,null,null,0,221]
[22,4007,23,4012,13,4024,null,null,null,null,0,221]
[22,4158,14,4185,13,4191,null,null,null,null,0,211]
[22,4288,23,4292,13,4303,null,null,null,null,0,221]
[22,4399,23,4405,24,4413,null,null,null,null,0,222]
[22,4510,23,4514,13,4524,null,null,null,null,0,221]
[22,4624,14,4637,13,4643,null,null,null,null,0,211]
[22,4843,23,4849,13,4859,null,null,null,null,0,221]
[22,5023,23,5028,13,5036,null,null,null,null,0,221]
[22,5132,23,5138,13,5150,null,null,null,null,0,221]
[11,5251,12,5260,24,5270,null,null,null,null,0,112]
[11,5577,21,5604,22,5611,null,null,null,null,0,122]
[22,5709,14,5724,13,5730,null,null,null,null,0,211]
[22,5832,14,5841,13,5847,null,null,null,null,0,211]
[22,5944,14,5959,24,5976,null,null,null,null,0,212]
[22,6072,23,6082,13,6093,null,null,null,null,0,221]
[22,6189,23,6194,13,6205,null,null,null,null,0,221]
[22,6302,23,6306,13,6315,null,null,null,null,0,221]
[22,6412,23,6416,13,6426,null,null,null,null,0,221]
[22,6522,23,6527,13,6537,null,null,null,null,0,221]
[22,6633,14,6648,13,6655,null,null,null,null,0,211]
[22,6750,23,6755,13,6765,null,null,null,null,0,221]
[22,6863,23,6868,13,6879,null,null,null,null,0,221]
[22,6978,23,6982,13,6993,null,null,null,null,0,221]
[22,7091,23,7095,24,7102,null,null,null,null,0,222]
[22,7199,14,7220,13,7227,null,null,null,null,0,211]
[22,7325,23,7330,13,7342,null,null,null,null,0,221]
[22,7442,14,7450,13,7457,null,null,null,null,0,211]
[22,7670,23,7674,24,7680,null,null,null,null,0,222]
[22,7779,23,7788,13,7796,null,null,null,null,0,221]
[22,7899,14,7915,13,7921,null,null,null,null,0,211]
[22,8039,14,8049,13,8055,null,null,null,null,0,211]
[22,8154,14,8171,13,8178,null,null,null,null,0,211]
[22,8277,14,8289,13,8295,null,null,null,null,0,211]
[22,8392,23,8396,13,8406,null,null,null,null,0,221]
[22,8621,23,8627,24,8633,null,null,null,null,0,222]
[22,8733,14,8744,13,8752,null,null,null,null,0,211]
[22,8850,14,8867,13,8875,null,null,null,null,0,211]
[22,8973,23,8977,13,8990,null,null,null,null,0,221]
[22,9089,14,9102,13,9108,null,null,null,null,0,211]
[11,9210,21,9221,22,9227,null,null,null,null,0,122]
[22,9350,23,9361,13,9370,null,null,null,null,0,221]
[22,9466,23,9470,13,9478,null,null,null,null,0,221]
[22,9576,23,9580,13,9591,null,null,null,null,0,221]
[22,9689,23,9694,13,9705,null,null,null,null,0,221]
[22,9916,14,9925,13,9930,null,null,null,null,0,211]
[22,10027,14,10040,13,10045,null,null,null,null,0,211]
[11,10199,12,10205,24,10220,null,null,null,null,0,112]
[22,10316,23,10324,13,10332,null,null,null,null,0,221]
[22,10429,14,10440,13,10446,null,null,null,null,0,211]
[22,10587,23,10595,13,10604,null,null,null,null,0,221]
[22,10702,23,10708,13,10721,null,null,null,null,0,221]
[22,10818,23,10827,13,10834,null,null,null,null,0,221]
[22,11027,23,11032,24,11038,null,null,null,null,0,222]
[22,11139,14,11149,13,11154,null,null,null,null,0,211]
[22,11252,14,11266,13,11272,null,null,null,null,0,211]
[22,11372,14,11386,13,11393,null,null,null,null,0,211]
[22,11490,23,11496,13,11505,null,null,null,null,0,221]
[22,11604,14,11619,13,11624,null,null,null,null,0,211]
[22,11724,14,11737,13,11742,null,null,null,null,0,211]
[22,11841,23,11849,13,11860,null,null,null,null,0,221]
[22,11957,23,11962,13,11974,null,null,null,null,0,221]
[22,12167,23,12172,24,12179,null,null,null,null,0,222]
[22,12283,14,12291,13,12298,null,null,null,null,0,211]
[22,12395,23,12398,24,12404,null,null,null,null,0,222]
[22,12500,23,12504,13,12514,null,null,null,null,0,221]
[22,12766,23,12770,24,12776,null,null,null,null,0,222]
[22,12875,14,12885,13,12889,null,null,null,null,0,211]
[22,12988,23,12995,24,13001,null,null,null,null,0,222]
[22,13098,23,13102,13,13111,null,null,null,null,0,221]
[22,13208,14,13222,13,13227,null,null,null,null,0,211]
[11,13344,12,13346,24,13358,null,null,null,null,0,112]
[22,13457,23,13460,13,13469,null,null,null,null,0,221]
[22,13564,23,13568,24,13573,null,null,null,null,0,222]
[22,13671,14,13689,13,13696,null,null,null,null,0,211]
[22,13793,23,13799,13,13807,null,null,null,null,0,221]
[22,13904,23,13909,13,13919,null,null,null,null,0,221]
[22,14115,23,14120,24,14124,null,null,null,null,0,222]
[22,14224,23,14229,13,14239,null,null,null,null,0,221]
[22,14341,14,14351,13,14357,null,null,null,null,0,211]
[11,14468,21,14483,22,14489,null,null,null,null,0,122]
[22,14589,14,14598,13,14603,null,null,null,null,0,211]
[22,14702,23,14707,13,14715,null,null,null,null,0,221]
[22,14834,14,14843,24,14868,null,null,null,null,0,212]
[22,14967,23,14974,13,14982,null,null,null,null,0,221]
[22,15081,23,15087,13,15097,null,null,null,null,0,221]
[22,15316,14,15325,13,15328,null,null,null,null,0,211]
[11,15439,12,15444,13,15449,null,null,null,null,0,111]
[11,15789,12,15794,24,15806,null,null,null,null,0,112]
[11,15914,12,15919,13,15924,null,null,null,null,0,111]
[22,16021,14,16036,13,16041,null,null,null,null,0,211]
[22,16138,14,16148,13,16152,null,null,null,null,0,211]
[22,16250,23,16255,13,16263,null,null,null,null,0,221]
[11,16382,21,16409,22,16415,null,null,null,null,0,122]
[22,16512,23,16519,13,16527,null,null,null,null,0,221]
[22,16624,23,16635,24,16641,null,null,null,null,0,222]
[22,16782,14,16791,13,16795,null,null,null,null,0,211]
[22,16891,23,16900,13,16910,null,null,null,null,0,221]
[22,17006,23,17010,13,17022,null,null,null,null,0,221]
[22,17118,23,17123,13,17132,null,null,null,null,0,221]
[22,17229,14,17241,13,17248,null,null,null,null,0,211]
[22,17343,23,17348,13,17357,null,null,null,null,0,221]
[22,17454,23,17462,13,17471,null,null,null,null,0,221]
[22,17568,23,17572,13,17581,null,null,null,null,0,221]
[22,17678,23,17685,13,17696,null,null,null,null,0,221]
[22,17790,23,17794,24,17805,null,null,null,null,0,222]
[22,17900,23,17904,13,17913,null,null,null,null,0,221]
[22,18012,23,18016,13,18026,null,null,null,null,0,221]
[22,18216,23,18223,24,18229,null,null,null,null,0,222]
[22,18326,23,18331,13,18340,null,null,null,null,0,221]
[22,18440,14,18449,13,18455,null,null,null,null,0,211]
[22,18553,23,18561,13,18570,null,null,null,null,0,221]
[22,18667,23,18674,13,18683,null,null,null,null,0,221]
[22,18783,23,18788,13,18797,null,null,null,null,0,221]
[22,18895,23,18900,13,18909,null,null,null,null,0,221]
[22,19008,23,19016,13,19024,null,null,null,null,0,221]
[22,19123,14,19132,13,19139,null,null,null,null,0,211]
[22,19236,14,19246,13,19251,null,null,null,null,0,211]
[22,19351,14,19362,13,19368,null,null,null,null,0,211]
[22,19466,23,19470,13,19479,null,null,null,null,0,221]
[22,19676,23,19680,24,19684,null,null,null,null,0,222]
[22,19782,14,19800,13,19807,null,null,null,null,0,211]
[22,19906,14,19917,13,19921,null,null,null,null,0,211]
[22,20013,23,20018,13,20029,null,null,null,null,0,221]
[22,20191,14,20201,13,20206,null,null,null,null,0,211]
[11,20317,12,20323,13,20328,null,null,null,null,0,111]
[22,20424,23,20429,13,20437,null,null,null,null,0,221]
[22,20551,23,20555,24,20563,null,null,null,null,0,222]
[22,20659,14,20670,13,20675,null,null,null,null,0,211]
[11,20786,12,20790,13,20796,null,null,null,null,0,111]
[22,20893,14,20906,13,20913,null,null,null,null,0,211]
[22,21009,23,21013,13,21021,null,null,null,null,0,221]
[22,21119,23,21124,13,21132,null,null,null,null,0,221]
[11,21243,12,21247,24,21266,null,null,null,null,0,112]
[22,21365,23,21374,13,21383,null,null,null,null,0,221]
[22,21484,14,21493,13,21498,null,null,null,null,0,211]
[22,21594,23,21596,24,21602,null,null,null,null,0,222]
[22,21717,23,21723,24,21732,null,null,null,null,0,222]
[22,21828,23,21833,24,21839,null,null,null,null,0,222]
[22,21938,23,21942,13,21953,null,null,null,null,0,221]
[22,22049,14,22061,13,22070,null,null,null,null,0,211]
[11,22176,12,22181,24,22204,null,null,null,null,0,112]
[22,22302,14,22314,13,22323,null,null,null,null,0,211]
[11,22432,12,22437,24,22455,null,null,null,null,0,112]
[22,22649,14,22660,24,22682,null,null,null,null,0,212]
[22,22781,14,22794,13,22799,null,null,null,null,0,211]
[22,22908,23,22913,13,22921,null,null,null,null,0,221]
[22,23019,14,23033,13,23039,null,null,null,null,0,211]
[22,23141,14,23149,13,23154,null,null,null,null,0,211]
[22,23253,14,23262,13,23267,null,null,null,null,0,211]
[22,23363,23,23371,24,23378,null,null,null,null,0,222]
[11,23483,12,23489,24,23510,null,null,null,null,0,112]
[11,23695,21,23723,22,23727,null,null,null,null,0,122]
[22,23827,14,23840,13,23845,null,null,null,null,0,211]
[22,23948,14,23958,13,23965,null,null,null,null,null,211]

{"sheet":"!M213B3I.sha","index":6,"n_rows":181,"n_cols":48,"rows_kept":181,"cut":false,"hidden":false,"merged":[[4,39,4,42],[5,39,5,40],[4,44,4,47],[5,44,5,45],[4,24,4,27],[5,24,5,25],[4,29,4,32],[5,29,5,30],[4,34,4,37],[5,34,5,35],[1,1,1,2],[5,13,5,14],[18,13,18,14],[19,13,19,14],[4,19,4,22],[5,19,5,20]]}
["Report for:!M213B3I.sha"]
["Date:","<date>"]
["Hen:","<hen>",null,null,null,"Correct Sequence",{"$f":"Start!J2","v":121},null,null,null,null,null,null,null,null,"Total Sequences in Data",{"$f":"4994-COUNTBLANK(L7:L5000)","v":175},null,null,null,null,"Total Sequences in Block Data",{"$f":"COUNTA(L7:L35)","v":29},null,null,null,"Total Sequences in Block Data",{"$f":"COUNTA(L36:L64)","v":29},null,null,null,"Total Sequences in Block Data",{"$f":"COUNTA(L65:L94)","v":30},null,null,null,"Total Sequences in Block Data",{"$f":"COUNTA(L95:L123)","v":29},null,null,null,"Total Sequences in Block Data",{"$f":"COUNTA(L124:L152)","v":29},null,null,null,"Total Sequences in Block Data",{"$f":"COUNTA(L153:L181)","v":29}]
[null,null,null,null,null,null,null,null,null,null,null,null,null,null,null,"Total Sequences in Summary",{"$f":"SUM(O7:O14)","v":175},null,null,null,null,"Total Sequences in Block Summary",{"$f":"SUM(U7:U14)","v":29},null,null,null,"Total Sequences in Block Summary",{"$f":"SUM(Z7:Z14)","v":29},null,null,null,"Total Sequences in Block Summary",{"$f":"SUM(AE7:AE14)","v":30},null,null,null,"Total Sequences in Block Summary",{"$f":"SUM(AJ7:AJ14)","v":29},null,null,null,"Total Sequences in Block Summary",{"$f":"SUM(AO7:AO14)","v":29},null,null,null,"Total Sequences in Block Summary",{"$f":"SUM(AT7:AT14)","v":29}]
[null,null,null,null,null,null,null,null,null,null,null,null,null,null,null,null,null,null,null,"Block 1",null,null,null,null,"Block 2",null,null,null,null,"Block 3",null,null,null,null,"Block 4",null,null,null,null,"Block 5",null,null,null,null,"Block 6"]
["Sequence\nComponent\n1","Time\n1","Sequence\nComponent\n2","Time\n2","Sequence\nComponent\n3","Time\n3","Sequence\nComponent\n4","Time\n4","Sequence\nComponent\n5","Time\n5","Correct?\n0=No 1=Yes","Sequence",null,"Frequency",null,"Relative Frequency","Variability",null,null,"Frequency",null,"Relative Frequency","Variability",null,"Frequency",null,"Relative Frequency","Variability",null,"Frequency",null,"Relative Frequency","Variability",null,"Frequency",null,"Relative Frequency","Variability",null,"Frequency",null,"Relative Frequency","Variability",null,"Frequency",null,"Relative Frequency","Variability"]
[22,32,23,38,24,44,null,null,null,null,0,222,null,111,{"$f":"COUNTIF($L$7:$L$500,N7)","v":7},{"$f":"O7/$Q$4","v":0.04},{"$f":"IF(P7=0,0,(P7*((LOG(P7))/LOG(2))))","v":-0.18575424759098899},null,null,{"$f":"N7","v":111},{"$f":"COUNTIF(L7:L35,T7)","v":1},{"$f":"U7/(W4-U9)","v":3.4482758620689655E-2},{"$f":"IF(V7=0,0,(V7*((LOG(V7))/LOG(2))))","v":-0.16751658603888178},null,{"$f":"N7","v":111},{"$f":"COUNTIF(L36:L64,Y7)","v":2},{"$f":"Z7/(AB4-Z9)","v":6.8965517241379309E-2},{"$f":"IF(AA7=0,0,(AA7*((LOG(AA7))/LOG(2))))","v":-0.26606765483638428},null,{"$f":"N7","v":111},{"$f":"COUNTIF(L65:L94,AD7)","v":0},{"$f":"AE7/(AG4-AE9)","v":0},{"$f":"IF(AF7=0,0,(AF7*((LOG(AF7))/LOG(2))))","v":0},null,{"$f":"N7","v":111},{"$f":"COUNTIF(L95:L123,AI7)","v":0},{"$f":"AJ7/(AL4-AJ9)","v":0},{"$f":"IF(AK7=0,0,(AK7*((LOG(AK7))/LOG(2))))","v":0},null,{"$f":"N7","v":111},{"$f":"COUNTIF(L124:L152,AN7)","v":0},{"$f":"AO7/(AQ4-AO9)","v":0},{"$f":"IF(AP7=0,0,(AP7*((LOG(AP7))/LOG(2))))","v":0},null,{"$f":"N7","v":111},{"$f":"COUNTIF(L153:L181,AS7)","v":4},{"$f":"AT7/(AV4-AT9)","v":0.13793103448275862},{"$f":"IF(AU7=0,0,(AU7*((LOG(AU7))/LOG(2))))","v":-0.39420427519000989}]
[22,142,23,151,13,160,null,null,null,null,0,221,null,112,{"$f":"COUNTIF($L$7:$L$500,N8)","v":7},{"$f":"O8/$Q$4","v":0.04},{"$f":"IF(P8=0,0,(P8*((LOG(P8))/LOG(2))))","v":-0.18575424759098899},null,null,{"$f":"N8","v":112},{"$f":"COUNTIF(L7:L35,T8)","v":1},{"$f":"U8/(W4-U9)","v":3.4482758620689655E-2},{"$f":"IF(V8=0,0,(V8*((LOG(V8))/LOG(2))))","v":-0.16751658603888178},null,{"$f":"N8","v":112},{"$f":"COUNTIF(L36:L64,Y8)","v":1},{"$f":"Z8/(AB4-Z9)","v":3.4482758620689655E-2},{"$f":"IF(AA8=0,0,(AA8*((LOG(AA8))/LOG(2))))","v":-0.16751658603888178},null,{"$f":"N8","v":112},{"$f":"COUNTIF(L65:L94,AD8)","v":0},{"$f":"AE8/(AG4-AE9)","v":0},{"$f":"IF(AF8=0,0,(AF8*((LOG(AF8))/LOG(2))))","v":0},null,{"$f":"N8","v":112},{"$f":"COUNTIF(L95:L123,AI8)","v":2},{"$f":"AJ8/(AL4-AJ9)","v":6.8965517241379309E-2},{"$f":"IF(AK8=0,0,(AK8*((LOG(AK8))/LOG(2))))","v":-0.26606765483638428},null,{"$f":"N8","v":112},{"$f":"COUNTIF(L124:L152,AN8)","v":2},{"$f":"AO8/(AQ4-AO9)","v":6.8965517241379309E-2},{"$f":"IF(AP8=0,0,(AP8*((LOG(AP8))/LOG(2))))","v":-0.26606765483638428},null,{"$f":"N8","v":112},{"$f":"COUNTIF(L153:L181,AS8)","v":1},{"$f":"AT8/(AV4-AT9)","v":3.4482758620689655E-2},{"$f":"IF(AU8=0,0,(AU8*((LOG(AU8))/LOG(2))))","v":-0.16751658603888178}]
[22,323,14,334,13,342,null,null,null,null,0,211,null,121,{"$f":"COUNTIF($L$7:$L$500,N9)","v":0},{"$f":"O9/$Q$4","v":0},{"$f":"IF(P9=0,0,(P9*((LOG(P9))/LOG(2))))","v":0},null,null,{"$f":"N9","v":121},{"$f":"COUNTIF(L7:L35,T9)","v":0},null,null,null,{"$f":"N9","v":121},{"$f":"COUNTIF(L36:L64,Y9)","v":0},null,null,null,{"$f":"N9","v":121},{"$f":"COUNTIF(L65:L94,AD9)","v":0},null,null,null,{"$f":"N9","v":121},{"$f":"COUNTIF(L95:L123,AI9)","v":0},null,null,null,{"$f":"N9","v":121},{"$f":"COUNTIF(L124:L152,AN9)","v":0},null,null,null,{"$f":"N9","v":121},{"$f":"COUNTIF(L153:L181,AS9)","v":0}]
[11,453,12,461,13,468,null,null,null,null,0,111,null,122,{"$f":"COUNTIF($L$7:$L$500,N10)","v":9},{"$f":"O10/$Q$4","v":5.1428571428571428E-2},{"$f":"IF(P10=0,0,(P10*((LOG(P10))/LOG(2))))","v":-0.22018042853434372},null,null,{"$f":"N10","v":122},{"$f":"COUNTIF(L7:L35,T10)","v":0},{"$f":"U10/(W4-U9)","v":0},{"$f":"IF(V10=0,0,(V10*((LOG(V10))/LOG(2))))","v":0},null,{"$f":"N10","v":122},{"$f":"COUNTIF(L36:L64,Y10)","v":0},{"$f":"Z10/(AB4-Z9)","v":0},{"$f":"IF(AA10=0,0,(AA10*((LOG(AA10))/LOG(2))))","v":0},null,{"$f":"N10","v":122},{"$f":"COUNTIF(L65:L94,AD10)","v":0},{"$f":"AE10/(AG4-AE9)","v":0},{"$f":"IF(AF10=0,0,(AF10*((LOG(AF10))/LOG(2))))","v":0},null,{"$f":"N10","v":122},{"$f":"COUNTIF(L95:L123,AI10)","v":0},{"$f":"AJ10/(AL4-AJ9)","v":0},{"$f":"IF(AK10=0,0,(AK10*((LOG(AK10))/LOG(2))))","v":0},null,{"$f":"N10","v":122},{"$f":"COUNTIF(L124:L152,AN10)","v":5},{"$f":"AO10/(AQ4-AO9)","v":0.17241379310344829},{"$f":"IF(AP10=0,0,(AP10*((LOG(AP10))/LOG(2))))","v":-0.43725050004141547},null,{"$f":"N10","v":122},{"$f":"COUNTIF(L153:L181,AS10)","v":4},{"$f":"AT10/(AV4-AT9)","v":0.13793103448275862},{"$f":"IF(AU10=0,0,(AU10*((LOG(AU10))/LOG(2))))","v":-0.39420427519000989}]
[11,578,12,584,24,602,null,null,null,null,0,112,null,211,{"$f":"COUNTIF($L$7:$L$500,N11)","v":37},{"$f":"O11/$Q$4","v":0.21142857142857144},{"$f":"IF(P11=0,0,(P11*((LOG(P11))/LOG(2))))","v":-0.47397163776871443},null,null,{"$f":"N11","v":211},{"$f":"COUNTIF(L7:L35,T11)","v":5},{"$f":"U11/(W4-U9)","v":0.17241379310344829},{"$f":"IF(V11=0,0,(V11*((LOG(V11))/LOG(2))))","v":-0.43725050004141547},null,{"$f":"N11","v":211},{"$f":"COUNTIF(L36:L64,Y11)","v":4},{"$f":"Z11/(AB4-Z9)","v":0.13793103448275862},{"$f":"IF(AA11=0,0,(AA11*((LOG(AA11))/LOG(2))))","v":-0.39420427519000989},null,{"$f":"N11","v":211},{"$f":"COUNTIF(L65:L94,AD11)","v":7},{"$f":"AE11/(AG4-AE9)","v":0.23333333333333334},{"$f":"IF(AF11=0,0,(AF11*((LOG(AF11))/LOG(2))))","v":-0.48989165716187993},null,{"$f":"N11","v":211},{"$f":"COUNTIF(L95:L123,AI11)","v":7},{"$f":"AJ11/(AL4-AJ9)","v":0.2413793103448276},{"$f":"IF(AK11=0,0,(AK11*((LOG(AK11))/LOG(2))))","v":-0.49497870729275095},null,{"$f":"N11","v":211},{"$f":"COUNTIF(L124:L152,AN11)","v":7},{"$f":"AO11/(AQ4-AO9)","v":0.2413793103448276},{"$f":"IF(AP11=0,0,(AP11*((LOG(AP11))/LOG(2))))","v":-0.49497870729275095},null,{"$f":"N11","v":211},{"$f":"COUNTIF(L153:L181,AS11)","v":7},{"$f":"AT11/(AV4-AT9)","v":0.2413793103448276},{"$f":"IF(AU11=0,0,(AU11*((LOG(AU11))/LOG(2))))","v":-0.49497870729275095}]
[22,780,23,787,13,796,null,null,null,null,0,221,null,212,{"$f":"COUNTIF($L$7:$L$500,N12)","v":17},{"$f":"O12/$Q$4","v":9.7142857142857142E-2},{"$f":"IF(P12=0,0,(P12*((LOG(P12))/LOG(2))))","v":-0.32676411771367897},null,null,{"$f":"N12","v":212},{"$f":"COUNTIF(L7:L35,T12)","v":1},{"$f":"U12/(W4-U9)","v":3.4482758620689655E-2},{"$f":"IF(V12=0,0,(V12*((LOG(V12))/LOG(2))))","v":-0.16751658603888178},null,{"$f":"N12","v":212},{"$f":"COUNTIF(L36:L64,Y12)","v":1},{"$f":"Z12/(AB4-Z9)","v":3.4482758620689655E-2},{"$f":"IF(AA12=0,0,(AA12*((LOG(AA12))/LOG(2))))","v":-0.16751658603888178},null,{"$f":"N12","v":212},{"$f":"COUNTIF(L65:L94,AD12)","v":4},{"$f":"AE12/(AG4-AE9)","v":0.13333333333333333},{"$f":"IF(AF12=0,0,(AF12*((LOG(AF12))/LOG(2))))","v":-0.3875854127478025},null,{"$f":"N12","v":212},{"$f":"COUNTIF(L95:L123,AI12)","v":5},{"$f":"AJ12/(AL4-AJ9)","v":0.17241379310344829},{"$f":"IF(AK12=0,0,(AK12*((LOG(AK12))/LOG(2))))","v":-0.43725050004141547},null,{"$f":"N12","v":212},{"$f":"COUNTIF(L124:L152,AN12)","v":4},{"$f":"AO12/(AQ4-AO9)","v":0.13793103448275862},{"$f":"IF(AP12=0,0,(AP12*((LOG(AP12))/LOG(2))))","v":-0.39420427519000989},null,{"$f":"N12","v":212},{"$f":"COUNTIF(L153:L181,AS12)","v":2},{"$f":"AT12/(AV4-AT9)","v":6.8965517241379309E-2},{"$f":"IF(AU12=0,0,(AU12*((LOG(AU12))/LOG(2))))","v":-0.26606765483638428}]
[22,894,23,905,13,914,null,null,null,null,0,221,null,221,{"$f":"COUNTIF($L$7:$L$500,N13)","v":67},{"$f":"O13/$Q$4","v":0.38285714285714284},{"$f":"IF(P13=0,0,(P13*((LOG(P13))/LOG(2))))","v":-0.53030382132625875},null,null,{"$f":"N13","v":221},{"$f":"COUNTIF(L7:L35,T13)","v":15},{"$f":"U13/(W4-U9)","v":0.51724137931034486},{"$f":"IF(V13=0,0,(V13*((LOG(V13))/LOG(2))))","v":-0.49194331009606224},null,{"$f":"N13","v":221},{"$f":"COUNTIF(L36:L64,Y13)","v":13},{"$f":"Z13/(AB4-Z9)","v":0.44827586206896552},{"$f":"IF(AA13=0,0,(AA13*((LOG(AA13))/LOG(2))))","v":-0.51889781382152544},null,{"$f":"N13","v":221},{"$f":"COUNTIF(L65:L94,AD13)","v":12},{"$f":"AE13/(AG4-AE9)","v":0.4},{"$f":"IF(AF13=0,0,(AF13*((LOG(AF13))/LOG(2))))","v":-0.52877123795494496},null,{"$f":"N13","v":221},{"$f":"COUNTIF(L95:L123,AI13)","v":10},{"$f":"AJ13/(AL4-AJ9)","v":0.34482758620689657},{"$f":"IF(AK13=0,0,(AK13*((LOG(AK13))/LOG(2))))","v":-0.52967341387593436},null,{"$f":"N13","v":221},{"$f":"COUNTIF(L124:L152,AN13)","v":7},{"$f":"AO13/(AQ4-AO9)","v":0.2413793103448276},{"$f":"IF(AP13=0,0,(AP13*((LOG(AP13))/LOG(2))))","v":-0.49497870729275095},null,{"$f":"N13","v":221},{"$f":"COUNTIF(L153:L181,AS13)","v":10},{"$f":"AT13/(AV4-AT9)","v":0.34482758620689657},{"$f":"IF(AU13=0,0,(AU13*((LOG(AU13))/LOG(2))))","v":-0.52967341387593436}]
[22,1021,23,1027,13,1037,null,null,null,null,0,221,null,222,{"$f":"COUNTIF($L$7:$L$500,N14)","v":31},{"$f":"O14/$Q$4","v":0.17714285714285713},{"$f":"IF(P14=0,0,(P14*((LOG(P14))/LOG(2))))","v":-0.44232833625605178},null,null,{"$f":"N14","v":222},{"$f":"COUNTIF(L7:L35,T14)","v":6},{"$f":"U14/(W4-U9)","v":0.20689655172413793},{"$f":"IF(V14=0,0,(V14*((LOG(V14))/LOG(2))))","v":-0.4702796884978791},null,{"$f":"N14","v":222},{"$f":"COUNTIF(L36:L64,Y14)","v":8},{"$f":"Z14/(AB4-Z9)","v":0.27586206896551724},{"$f":"IF(AA14=0,0,(AA14*((LOG(AA14))/LOG(2))))","v":-0.51254648141450265},null,{"$f":"N14","v":222},{"$f":"COUNTIF(L65:L94,AD14)","v":7},{"$f":"AE14/(AG4-AE9)","v":0.23333333333333334},{"$f":"IF(AF14=0,0,(AF14*((LOG(AF14))/LOG(2))))","v":-0.48989165716187993},null,{"$f":"N14","v":222},{"$f":"COUNTIF(L95:L123,AI14)","v":5},{"$f":"AJ14/(AL4-AJ9)","v":0.17241379310344829},{"$f":"IF(AK14=0,0,(AK14*((LOG(AK14))/LOG(2))))","v":-0.43725050004141547},null,{"$f":"N14","v":222},{"$f":"COUNTIF(L124:L152,AN14)","v":4},{"$f":"AO14/(AQ4-AO9)","v":0.13793103448275862},{"$f":"IF(AP14=0,0,(AP14*((LOG(AP14))/LOG(2))))","v":-0.39420427519000989},null,{"$f":"N14","v":222},{"$f":"COUNTIF(L153:L181,AS14)","v":1},{"$f":"AT14/(AV4-AT9)","v":3.4482758620689655E-2},{"$f":"IF(AU14=0,0,(AU14*((LOG(AU14))/LOG(2))))","v":-0.16751658603888178}]
[22,1135,14,1163,13,1170,null,null,null,null,0,211,null,null,null,{"$f":"SUM(P7:P14)","v":1},{"$f":"-SUM(Q7:Q14)","v":2.3650568367810259},null,null,null,null,{"$f":"SUM(V7:V14)","v":1},{"$f":"-SUM(W7:W14)","v":1.9020232567520021},null,null,null,{"$f":"SUM(AA7:AA14)","v":1},{"$f":"-SUM(AB7:AB14)","v":2.0267493973401858},null,null,null,{"$f":"SUM(AF7:AF14)","v":1},{"$f":"-SUM(AG7:AG14)","v":1.8961399650265072},null,null,null,{"$f":"SUM(AK7:AK14)","v":1},{"$f":"-SUM(AL7:AL14)","v":2.1652207760879008},null,null,null,{"$f":"SUM(AP7:AP14)","v":1},{"$f":"-SUM(AQ7:AQ14)","v":2.4816841198433215},null,null,null,{"$f":"SUM(AU7:AU14)","v":1},{"$f":"-SUM(AV7:AV14)","v":2.4141614984628528}]
[22,1269,23,1274,13,1289,null,null,null,null,0,221,null,null,null,"U=",{"$f":"Q15/(LOG(Q4)/LOG(2))","v":0.31740569436093108},null,null,null,null,"U1=",{"$f":"W15/(LOG(W4)/LOG(2))","v":0.39152546266847932},null,null,null,"U2=",{"$f":"AB15/(LOG(AB4)/LOG(2))","v":0.41719994363357177},null,null,null,"U3=",{"$f":"AG15/(LOG(AG4)/LOG(2))","v":0.38642393346276777},null,null,null,"U4=",{"$f":"AL15/(LOG(AL4)/LOG(2))","v":0.44570383833521798},null,null,null,"U5=",{"$f":"AQ15/(LOG(AQ4)/LOG(2))","v":0.51084681523710895},null,null,null,"U6=",{"$f":"AV15/(LOG(AV4)/LOG(2))","v":0.49694749750651429}]
[22,1386,23,1393,13,1401,null,null,null,null,0,221]
[22,1501,14,1514,24,1527,null,null,null,null,0,212]
[22,1624,23,1627,24,1635,null,null,null,null,0,222,null,"Total Target Seq"]
[22,1734,23,1740,13,1754,null,null,null,null,0,221,null,{"$f":"COUNTIF(L7:L181,G3)","v":0},null,29,29,30,29,29,29]
[22,1853,23,1858,13,1868,null,null,null,null,0,221,null,null,null,"% of reinforcement given in 6 equal intervals based on number of trials "]
[22,1967,23,1970,24,1976,null,null,null,null,0,222,null,null,null,"%_1","%_2","%_3","%_4","%_5","%_6"]
[22,2076,14,2085,13,2089,null,null,null,null,0,211,null,null,"target sequence",{"$f":"$G$3","v":121},{"$f":"$G$3","v":121},{"$f":"$G$3","v":121},{"$f":"$G$3","v":121},{"$f":"$G$3","v":121},{"$f":"$G$3","v":121}]
[22,2186,23,2192,24,2198,null,null,null,null,0,222,null,null,"total reinforcement",{"$f":"U9","v":0},{"$f":"Z9","v":0},{"$f":"AE9","v":0},{"$f":"AJ9","v":0},{"$f":"AO9","v":0},{"$f":"AT9","v":0}]
[22,2296,23,2301,13,2311,null,null,null,null,0,221,null,null,"% target"]
[22,2410,14,2420,13,2426,null,null,null,null,0,211,null,null,"CCRF"]
[22,2525,23,2530,13,2539,null,null,null,null,0,221,null,null,"% CCRf"]
[22,2637,23,2645,13,2656,null,null,null,null,0,221,null,null,"average response rate",{"$f":"F35/P20","v":118.55172413793103},{"$f":"(F64-F35)/Q20","v":125.06896551724138},{"$f":"(F94-F64)/R20","v":174.86666666666667},{"$f":"(F123-F94)/S20","v":131.93103448275863},{"$f":"(F152-F123)/T20","v":139},{"$f":"(F181-F152)/U20","v":126.03448275862068}]
[22,2752,23,2755,13,2765,null,null,null,null,0,221]
[22,2862,23,2866,24,2872,null,null,null,null,0,222]
[22,2968,14,2984,13,2989,null,null,null,null,0,211]
[22,3090,23,3094,13,3104,null,null,null,null,0,221]
[22,3199,23,3202,13,3213,null,null,null,null,0,221]
[22,3322,23,3326,24,3330,null,null,null,null,0,222]
[22,3425,23,3429,13,3438,null,null,null,null,0,221]
[22,3533,23,3539,24,3546,null,null,null,null,0,222]
[22,3642,14,3658,13,3664,null,null,null,null,0,211]
[22,3801,23,3807,13,3816,null,null,null,null,0,221]
[22,3912,14,3928,13,3931,null,null,null,null,0,211]
[11,4041,12,4046,13,4053,null,null,null,null,0,111]
[22,4151,23,4157,13,4168,null,null,null,null,0,221]
[22,4275,23,4280,13,4289,null,null,null,null,0,221]
[22,4387,23,4391,13,4400,null,null,null,null,0,221]
[22,4504,23,4508,13,4516,null,null,null,null,0,221]
[22,4612,23,4618,24,4628,null,null,null,null,0,222]
[22,4728,23,4735,24,4741,null,null,null,null,0,222]
[22,4844,23,4849,13,4859,null,null,null,null,0,221]
[22,5046,23,5051,24,5057,null,null,null,null,0,222]
[22,5155,14,5170,13,5175,null,null,null,null,0,211]
[22,5273,23,5282,13,5291,null,null,null,null,0,221]
[22,5387,23,5391,13,5402,null,null,null,null,0,221]
[22,5508,23,5512,24,5518,null,null,null,null,0,222]
[22,5615,23,5621,13,5645,null,null,null,null,0,221]
[22,5780,23,5786,24,5792,null,null,null,null,0,222]
[22,5887,23,5891,13,5908,null,null,null,null,0,221]
[11,6019,12,6024,13,6030,null,null,null,null,0,111]
[22,6131,23,6135,13,6145,null,null,null,null,0,221]
[22,6243,23,6253,13,6262,null,null,null,null,0,221]
[22,6423,14,6435,24,6459,null,null,null,null,0,212]
[11,6574,12,6581,24,6606,null,null,null,null,0,112]
[22,6711,23,6714,24,6720,null,null,null,null,0,222]
[22,6817,14,6834,13,6840,null,null,null,null,0,211]
[22,6936,23,6941,24,6947,null,null,null,null,0,222]
[22,7047,23,7055,13,7065,null,null,null,null,0,221]
[22,7228,23,7231,24,7236,null,null,null,null,0,222]
[22,7437,23,7442,13,7457,null,null,null,null,0,221]
[22,7553,14,7564,24,7588,null,null,null,null,0,212]
[22,7685,23,7690,13,7701,null,null,null,null,0,221]
[22,7799,23,7806,13,7818,null,null,null,null,0,221]
[22,7914,23,7918,24,7926,null,null,null,null,0,222]
[22,8025,23,8034,13,8050,null,null,null,null,0,221]
[22,8161,14,8170,13,8176,null,null,null,null,0,211]
[22,8274,14,8285,13,8292,null,null,null,null,0,211]
[22,8391,23,8395,13,8405,null,null,null,null,0,221]
[22,8511,23,8516,24,8522,null,null,null,null,0,222]
[22,8619,23,8622,24,8627,null,null,null,null,0,222]
[22,10137,23,10140,24,10153,null,null,null,null,0,222]
[22,10250,14,10267,13,10274,null,null,null,null,0,211]
[22,10373,14,10392,13,10397,null,null,null,null,0,211]
[22,10494,14,10510,13,10515,null,null,null,null,0,211]
[22,10613,23,10618,13,10628,null,null,null,null,0,221]
[22,10724,23,10727,24,10732,null,null,null,null,0,222]
[22,10846,14,10865,13,10871,null,null,null,null,0,211]
[22,10971,23,10977,13,10986,null,null,null,null,0,221]
[22,11086,23,11091,13,11099,null,null,null,null,0,221]
[22,11285,23,11290,24,11296,null,null,null,null,0,222]
[22,11395,23,11399,13,11408,null,null,null,null,0,221]
[22,11511,14,11521,13,11527,null,null,null,null,0,211]
[22,11624,23,11631,13,11645,null,null,null,null,0,221]
[22,11810,14,11812,24,11838,null,null,null,null,0,212]
[22,11937,23,11941,13,11950,null,null,null,null,0,221]
[22,12045,23,12048,13,12057,null,null,null,null,0,221]
[22,12154,14,12169,24,12186,null,null,null,null,0,212]
[22,12285,14,12295,24,12311,null,null,null,null,0,212]
[22,12410,23,12415,24,12422,null,null,null,null,0,222]
[22,12522,23,12526,13,12535,null,null,null,null,0,221]
[22,12857,23,12862,24,12869,null,null,null,null,0,222]
[22,12967,14,12977,13,12981,null,null,null,null,0,211]
[22,13081,14,13089,24,13115,null,null,null,null,0,212]
[22,13213,14,13228,24,13246,null,null,null,null,0,212]
[22,13344,23,13346,13,13355,null,null,null,null,0,221]
[22,13454,23,13459,13,13468,null,null,null,null,0,221]
[22,13566,14,13580,13,13583,null,null,null,null,0,211]
[22,13679,14,13691,13,13696,null,null,null,null,0,211]
[22,13794,14,13806,13,13810,null,null,null,null,0,211]
[11,13934,12,13940,24,13949,null,null,null,null,0,112]
[22,14046,23,14048,13,14058,null,null,null,null,0,221]
[22,14248,23,14273,24,14277,null,null,null,null,0,222]
[22,14374,14,14386,24,14404,null,null,null,null,0,212]
[22,14499,23,14504,13,14513,null,null,null,null,0,221]
[22,14610,23,14615,13,14623,null,null,null,null,0,221]
[22,14719,14,14730,13,14733,null,null,null,null,0,211]
[22,14832,23,14836,13,14845,null,null,null,null,0,221]
[22,14945,23,14948,24,14953,null,null,null,null,0,222]
[22,15170,23,15174,24,15180,null,null,null,null,0,222]
[22,15279,23,15284,13,15294,null,null,null,null,0,221]
[22,15392,14,15404,13,15412,null,null,null,null,0,211]
[11,15518,12,15522,24,15536,null,null,null,null,0,112]
[22,15637,14,15646,24,15665,null,null,null,null,0,212]
[22,15761,23,15765,13,15773,null,null,null,null,0,221]
[22,15869,14,15881,13,15895,null,null,null,null,0,211]
[22,15994,14,16005,24,16017,null,null,null,null,0,212]
[22,16121,23,16128,13,16137,null,null,null,null,0,221]
[22,16233,14,16248,24,16268,null,null,null,null,0,212]
[22,16367,14,16376,13,16383,null,null,null,null,0,211]
[22,16478,23,16482,13,16490,null,null,null,null,0,221]
[22,16589,14,16600,13,16606,null,null,null,null,0,211]
[22,16702,14,16715,24,16732,null,null,null,null,0,212]
[22,16830,23,16835,13,16843,null,null,null,null,0,221]
[22,17025,23,17085,13,17095,null,null,null,null,0,221]
[22,17193,23,17198,13,17206,null,null,null,null,0,221]
[22,17303,14,17320,13,17325,null,null,null,null,0,211]
[22,17730,14,17739,13,17744,null,null,null,null,0,211]
[11,17882,12,17886,24,17901,null,null,null,null,0,112]
[22,18000,14,18013,13,18016,null,null,null,null,0,211]
[22,18115,14,18124,13,18129,null,null,null,null,0,211]
[11,18240,21,18257,22,18263,null,null,null,null,0,122]
[22,18273,23,18278,24,18301,null,null,null,null,0,222]
[11,18410,21,18427,22,18433,null,null,null,null,0,122]
[11,18541,21,18561,22,18569,null,null,null,null,0,122]
[11,18678,21,18695,22,18701,null,null,null,null,0,122]
[22,18798,14,18809,13,18814,null,null,null,null,0,211]
[22,18988,14,19006,24,19025,null,null,null,null,0,212]
[22,19122,23,19126,13,19137,null,null,null,null,0,221]
[22,19236,23,19241,13,19250,null,null,null,null,0,221]
[22,19343,23,19347,24,19351,null,null,null,null,0,222]
[22,19446,23,19450,24,19478,null,null,null,null,0,222]
[11,19586,21,19601,22,19610,null,null,null,null,0,122]
[22,19710,14,19720,24,19732,null,null,null,null,0,212]
[22,19827,23,19830,13,19838,null,null,null,null,0,221]
[22,20006,23,20011,24,20017,null,null,null,null,0,222]
[11,20153,12,20158,24,20168,null,null,null,null,0,112]
[22,20264,14,20283,24,20301,null,null,null,null,0,212]
[22,20396,23,20400,13,20416,null,null,null,null,0,221]
[22,20513,14,20530,13,20541,null,null,null,null,0,211]
[22,20636,23,20641,13,20650,null,null,null,null,0,221]
[11,20763,21,20782,22,20789,null,null,null,null,0,122]
[11,20899,12,20903,13,20913,null,null,null,null,0,111]
[22,21009,23,21020,13,21029,null,null,null,null,0,221]
[11,21130,21,21139,22,21144,null,null,null,null,0,122]
[22,21239,23,21245,13,21253,null,null,null,null,0,221]
[22,21351,14,21361,24,21377,null,null,null,null,0,212]
[11,21502,21,21513,22,21515,null,null,null,null,0,122]
[22,21614,14,21624,13,21630,null,null,null,null,0,211]
[22,21726,23,21731,13,21738,null,null,null,null,0,221]
[22,21840,14,21854,13,21857,null,null,null,null,0,211]
[22,22041,23,22047,13,22054,null,null,null,null,0,221]
[22,22150,23,22155,13,22164,null,null,null,null,0,221]
[22,22262,23,22267,13,22275,null,null,null,null,0,221]
[22,22467,23,22492,24,22496,null,null,null,null,0,222]
[22,22593,23,22597,13,22606,null,null,null,null,0,221]
[22,22704,14,22716,13,22722,null,null,null,null,0,211]
[11,22827,12,22839,24,22850,null,null,null,null,0,112]
[22,22949,14,22961,13,22964,null,null,null,null,0,211]
[11,23073,12,23075,13,23090,null,null,null,null,0,111]
[22,23189,14,23199,13,23205,null,null,null,null,0,211]
[11,23316,21,23325,22,23330,null,null,null,null,0,122]
[11,23459,12,23466,13,23470,null,null,null,null,0,111]
[11,23579,12,23584,13,23590,null,null,null,null,0,111]
[22,23690,23,23696,13,23707,null,null,null,null,0,221]
[22,23806,14,23817,13,23823,null,null,null,null,0,211]

{"sheet":"!M214A3I.sha","index":7,"n_rows":168,"n_cols":48,"rows_kept":168,"cut":false,"hidden":false,"merged":[[4,39,4,42],[5,39,5,40],[4,44,4,47],[5,44,5,45],[4,24,4,27],[5,24,5,25],[4,29,4,32],[5,29,5,30],[4,34,4,37],[5,34,5,35],[1,1,1,2],[5,13,5,14],[18,13,18,14],[19,13,19,14],[4,19,4,22],[5,19,5,20]]}
["Report for:!M214A3I.sha"]
["Date:","<date>"]
["Hen:","<hen>",null,null,null,"Correct Sequence",{"$f":"Start!J2","v":121},null,null,null,null,null,null,null,null,"Total Sequences in Data",{"$f":"4994-COUNTBLANK(L7:L5000)","v":162},null,null,null,null,"Total Sequences in Block Data",{"$f":"COUNTA(L7:L33)","v":27},null,null,null,"Total Sequences in Block Data",{"$f":"COUNTA(L34:L60)","v":27},null,null,null,"Total Sequences in Block Data",{"$f":"COUNTA(L61:L87)","v":27},null,null,null,"Total Sequences in Block Data",{"$f":"COUNTA(L88:L114)","v":27},null,null,null,"Total Sequences in Block Data",{"$f":"COUNTA(L115:L141)","v":27},null,null,null,"Total Sequences in Block Data",{"$f":"COUNTA(L142:L168)","v":27}]
[null,null,null,null,null,null,null,null,null,null,null,null,null,null,null,"Total Sequences in Summary",{"$f":"SUM(O7:O14)","v":162},null,null,null,null,"Total Sequences in Block Summary",{"$f":"SUM(U7:U14)","v":27},null,null,null,"Total Sequences in Block Summary",{"$f":"SUM(Z7:Z14)","v":27},null,null,null,"Total Sequences in Block Summary",{"$f":"SUM(AE7:AE14)","v":27},null,null,null,"Total Sequences in Block Summary",{"$f":"SUM(AJ7:AJ14)","v":27},null,null,null,"Total Sequences in Block Summary",{"$f":"SUM(AO7:AO14)","v":27},null,null,null,"Total Sequences in Block Summary",{"$f":"SUM(AT7:AT14)","v":27}]
[null,null,null,null,null,null,null,null,null,null,null,null,null,null,null,null,null,null,null,"Block 1",null,null,null,null,"Block 2",null,null,null,null,"Block 3",null,null,null,null,"Block 4",null,null,null,null,"Block 5",null,null,null,null,"Block 6"]
["Sequence\nComponent\n1","Time\n1","Sequence\nComponent\n2","Time\n2","Sequence\nComponent\n3","Time\n3","Sequence\nComponent\n4","Time\n4","Sequence\nComponent\n5","Time\n5","Correct?\n0=No 1=Yes","Sequence",null,"Frequency",null,"Relative Frequency","Variability",null,null,"Frequency",null,"Relative Frequency","Variability",null,"Frequency",null,"Relative Frequency","Variability",null,"Frequency",null,"Relative Frequency","Variability",null,"Frequency",null,"Relative Frequency","Variability",null,"Frequency",null,"Relative Frequency","Variability",null,"Frequency",null,"Relative Frequency","Variability"]
[22,9,23,14,24,49,null,null,null,null,0,222,null,111,{"$f":"COUNTIF($L$7:$L$500,N7)","v":8},{"$f":"O7/$Q$4","v":4.9382716049382713E-2},{"$f":"IF(P7=0,0,(P7*((LOG(P7))/LOG(2))))","v":-0.21431358038936418},null,null,{"$f":"N7","v":111},{"$f":"COUNTIF(L7:L33,T7)","v":2},{"$f":"U7/(W4-U9)","v":7.407407407407407E-2},{"$f":"IF(V7=0,0,(V7*((LOG(V7))/LOG(2))))","v":-0.27813981497507173},null,{"$f":"N7","v":111},{"$f":"COUNTIF(L34:L60,Y7)","v":1},{"$f":"Z7/(AB4-Z9)","v":3.7037037037037035E-2},{"$f":"IF(AA7=0,0,(AA7*((LOG(AA7))/LOG(2))))","v":-0.1761069445245729},null,{"$f":"N7","v":111},{"$f":"COUNTIF(L61:L87,AD7)","v":4},{"$f":"AE7/(AG4-AE9)","v":0.14814814814814814},{"$f":"IF(AF7=0,0,(AF7*((LOG(AF7))/LOG(2))))","v":-0.40813148180199532},null,{"$f":"N7","v":111},{"$f":"COUNTIF(L88:L114,AI7)","v":0},{"$f":"AJ7/(AL4-AJ9)","v":0},{"$f":"IF(AK7=0,0,(AK7*((LOG(AK7))/LOG(2))))","v":0},null,{"$f":"N7","v":111},{"$f":"COUNTIF(L115:L141,AN7)","v":1},{"$f":"AO7/(AQ4-AO9)","v":3.7037037037037035E-2},{"$f":"IF(AP7=0,0,(AP7*((LOG(AP7))/LOG(2))))","v":-0.1761069445245729},null,{"$f":"N7","v":111},{"$f":"COUNTIF(L142:L168,AS7)","v":0},{"$f":"AT7/(AV4-AT9)","v":0},{"$f":"IF(AU7=0,0,(AU7*((LOG(AU7))/LOG(2))))","v":0}]
[22,178,23,186,24,193,null,null,null,null,0,222,null,112,{"$f":"COUNTIF($L$7:$L$500,N8)","v":8},{"$f":"O8/$Q$4","v":4.9382716049382713E-2},{"$f":"IF(P8=0,0,(P8*((LOG(P8))/LOG(2))))","v":-0.21431358038936418},null,null,{"$f":"N8","v":112},{"$f":"COUNTIF(L7:L33,T8)","v":1},{"$f":"U8/(W4-U9)","v":3.7037037037037035E-2},{"$f":"IF(V8=0,0,(V8*((LOG(V8))/LOG(2))))","v":-0.1761069445245729},null,{"$f":"N8","v":112},{"$f":"COUNTIF(L34:L60,Y8)","v":1},{"$f":"Z8/(AB4-Z9)","v":3.7037037037037035E-2},{"$f":"IF(AA8=0,0,(AA8*((LOG(AA8))/LOG(2))))","v":-0.1761069445245729},null,{"$f":"N8","v":112},{"$f":"COUNTIF(L61:L87,AD8)","v":2},{"$f":"AE8/(AG4-AE9)","v":7.407407407407407E-2},{"$f":"IF(AF8=0,0,(AF8*((LOG(AF8))/LOG(2))))","v":-0.27813981497507173},null,{"$f":"N8","v":112},{"$f":"COUNTIF(L88:L114,AI8)","v":1},{"$f":"AJ8/(AL4-AJ9)","v":3.7037037037037035E-2},{"$f":"IF(AK8=0,0,(AK8*((LOG(AK8))/LOG(2))))","v":-0.1761069445245729},null,{"$f":"N8","v":112},{"$f":"COUNTIF(L115:L141,AN8)","v":1},{"$f":"AO8/(AQ4-AO9)","v":3.7037037037037035E-2},{"$f":"IF(AP8=0,0,(AP8*((LOG(AP8))/LOG(2))))","v":-0.1761069445245729},null,{"$f":"N8","v":112},{"$f":"COUNTIF(L142:L168,AS8)","v":2},{"$f":"AT8/(AV4-AT9)","v":7.407407407407407E-2},{"$f":"IF(AU8=0,0,(AU8*((LOG(AU8))/LOG(2))))","v":-0.27813981497507173}]
[22,292,23,297,13,306,null,null,null,null,0,221,null,121,{"$f":"COUNTIF($L$7:$L$500,N9)","v":0},{"$f":"O9/$Q$4","v":0},{"$f":"IF(P9=0,0,(P9*((LOG(P9))/LOG(2))))","v":0},null,null,{"$f":"N9","v":121},{"$f":"COUNTIF(L7:L33,T9)","v":0},null,null,null,{"$f":"N9","v":121},{"$f":"COUNTIF(L34:L60,Y9)","v":0},null,null,null,{"$f":"N9","v":121},{"$f":"COUNTIF(L61:L87,AD9)","v":0},null,null,null,{"$f":"N9","v":121},{"$f":"COUNTIF(L88:L114,AI9)","v":0},null,null,null,{"$f":"N9","v":121},{"$f":"COUNTIF(L115:L141,AN9)","v":0},null,null,null,{"$f":"N9","v":121},{"$f":"COUNTIF(L142:L168,AS9)","v":0}]
[22,560,14,570,13,578,null,null,null,null,0,211,null,122,{"$f":"COUNTIF($L$7:$L$500,N10)","v":6},{"$f":"O10/$Q$4","v":3.7037037037037035E-2},{"$f":"IF(P10=0,0,(P10*((LOG(P10))/LOG(2))))","v":-0.1761069445245729},null,null,{"$f":"N10","v":122},{"$f":"COUNTIF(L7:L33,T10)","v":2},{"$f":"U10/(W4-U9)","v":7.407407407407407E-2},{"$f":"IF(V10=0,0,(V10*((LOG(V10))/LOG(2))))","v":-0.27813981497507173},null,{"$f":"N10","v":122},{"$f":"COUNTIF(L34:L60,Y10)","v":2},{"$f":"Z10/(AB4-Z9)","v":7.407407407407407E-2},{"$f":"IF(AA10=0,0,(AA10*((LOG(AA10))/LOG(2))))","v":-0.27813981497507173},null,{"$f":"N10","v":122},{"$f":"COUNTIF(L61:L87,AD10)","v":0},{"$f":"AE10/(AG4-AE9)","v":0},{"$f":"IF(AF10=0,0,(AF10*((LOG(AF10))/LOG(2))))","v":0},null,{"$f":"N10","v":122},{"$f":"COUNTIF(L88:L114,AI10)","v":2},{"$f":"AJ10/(AL4-AJ9)","v":7.407407407407407E-2},{"$f":"IF(AK10=0,0,(AK10*((LOG(AK10))/LOG(2))))","v":-0.27813981497507173},null,{"$f":"N10","v":122},{"$f":"COUNTIF(L115:L141,AN10)","v":0},{"$f":"AO10/(AQ4-AO9)","v":0},{"$f":"IF(AP10=0,0,(AP10*((LOG(AP10))/LOG(2))))","v":0},null,{"$f":"N10","v":122},{"$f":"COUNTIF(L142:L168,AS10)","v":0},{"$f":"AT10/(AV4-AT9)","v":0},{"$f":"IF(AU10=0,0,(AU10*((LOG(AU10))/LOG(2))))","v":0}]
[22,678,14,689,13,698,null,null,null,null,0,211,null,211,{"$f":"COUNTIF($L$7:$L$500,N11)","v":47},{"$f":"O11/$Q$4","v":0.29012345679012347},{"$f":"IF(P11=0,0,(P11*((LOG(P11))/LOG(2))))","v":-0.51794613646128651},null,null,{"$f":"N11","v":211},{"$f":"COUNTIF(L7:L33,T11)","v":8},{"$f":"U11/(W4-U9)","v":0.29629629629629628},{"$f":"IF(V11=0,0,(V11*((LOG(V11))/LOG(2))))","v":-0.51996666730769436},null,{"$f":"N11","v":211},{"$f":"COUNTIF(L34:L60,Y11)","v":9},{"$f":"Z11/(AB4-Z9)","v":0.33333333333333331},{"$f":"IF(AA11=0,0,(AA11*((LOG(AA11))/LOG(2))))","v":-0.52832083357371862},null,{"$f":"N11","v":211},{"$f":"COUNTIF(L61:L87,AD11)","v":7},{"$f":"AE11/(AG4-AE9)","v":0.25925925925925924},{"$f":"IF(AF11=0,0,(AF11*((LOG(AF11))/LOG(2))))","v":-0.5049158541015204},null,{"$f":"N11","v":211},{"$f":"COUNTIF(L88:L114,AI11)","v":6},{"$f":"AJ11/(AL4-AJ9)","v":0.22222222222222221},{"$f":"IF(AK11=0,0,(AK11*((LOG(AK11))/LOG(2))))","v":-0.48220555587606945},null,{"$f":"N11","v":211},{"$f":"COUNTIF(L115:L141,AN11)","v":8},{"$f":"AO11/(AQ4-AO9)","v":0.29629629629629628},{"$f":"IF(AP11=0,0,(AP11*((LOG(AP11))/LOG(2))))","v":-0.51996666730769436},null,{"$f":"N11","v":211},{"$f":"COUNTIF(L142:L168,AS11)","v":9},{"$f":"AT11/(AV4-AT9)","v":0.33333333333333331},{"$f":"IF(AU11=0,0,(AU11*((LOG(AU11))/LOG(2))))","v":-0.52832083357371862}]
[22,830,14,849,24,867,null,null,null,null,0,212,null,212,{"$f":"COUNTIF($L$7:$L$500,N12)","v":8},{"$f":"O12/$Q$4","v":4.9382716049382713E-2},{"$f":"IF(P12=0,0,(P12*((LOG(P12))/LOG(2))))","v":-0.21431358038936418},null,null,{"$f":"N12","v":212},{"$f":"COUNTIF(L7:L33,T12)","v":2},{"$f":"U12/(W4-U9)","v":7.407407407407407E-2},{"$f":"IF(V12=0,0,(V12*((LOG(V12))/LOG(2))))","v":-0.27813981497507173},null,{"$f":"N12","v":212},{"$f":"COUNTIF(L34:L60,Y12)","v":0},{"$f":"Z12/(AB4-Z9)","v":0},{"$f":"IF(AA12=0,0,(AA12*((LOG(AA12))/LOG(2))))","v":0},null,{"$f":"N12","v":212},{"$f":"COUNTIF(L61:L87,AD12)","v":0},{"$f":"AE12/(AG4-AE9)","v":0},{"$f":"IF(AF12=0,0,(AF12*((LOG(AF12))/LOG(2))))","v":0},null,{"$f":"N12","v":212},{"$f":"COUNTIF(L88:L114,AI12)","v":1},{"$f":"AJ12/(AL4-AJ9)","v":3.7037037037037035E-2},{"$f":"IF(AK12=0,0,(AK12*((LOG(AK12))/LOG(2))))","v":-0.1761069445245729},null,{"$f":"N12","v":212},{"$f":"COUNTIF(L115:L141,AN12)","v":3},{"$f":"AO12/(AQ4-AO9)","v":0.1111111111111111},{"$f":"IF(AP12=0,0,(AP12*((LOG(AP12))/LOG(2))))","v":-0.3522138890491458},null,{"$f":"N12","v":212},{"$f":"COUNTIF(L142:L168,AS12)","v":2},{"$f":"AT12/(AV4-AT9)","v":7.407407407407407E-2},{"$f":"IF(AU12=0,0,(AU12*((LOG(AU12))/LOG(2))))","v":-0.27813981497507173}]
[11,980,12,986,13,992,null,null,null,null,0,111,null,221,{"$f":"COUNTIF($L$7:$L$500,N13)","v":59},{"$f":"O13/$Q$4","v":0.36419753086419754},{"$f":"IF(P13=0,0,(P13*((LOG(P13))/LOG(2))))","v":-0.53071117443113713},null,null,{"$f":"N13","v":221},{"$f":"COUNTIF(L7:L33,T13)","v":6},{"$f":"U13/(W4-U9)","v":0.22222222222222221},{"$f":"IF(V13=0,0,(V13*((LOG(V13))/LOG(2))))","v":-0.48220555587606945},null,{"$f":"N13","v":221},{"$f":"COUNTIF(L34:L60,Y13)","v":12},{"$f":"Z13/(AB4-Z9)","v":0.44444444444444442},{"$f":"IF(AA13=0,0,(AA13*((LOG(AA13))/LOG(2))))","v":-0.51996666730769447},null,{"$f":"N13","v":221},{"$f":"COUNTIF(L61:L87,AD13)","v":12},{"$f":"AE13/(AG4-AE9)","v":0.44444444444444442},{"$f":"IF(AF13=0,0,(AF13*((LOG(AF13))/LOG(2))))","v":-0.51996666730769447},null,{"$f":"N13","v":221},{"$f":"COUNTIF(L88:L114,AI13)","v":9},{"$f":"AJ13/(AL4-AJ9)","v":0.33333333333333331},{"$f":"IF(AK13=0,0,(AK13*((LOG(AK13))/LOG(2))))","v":-0.52832083357371862},null,{"$f":"N13","v":221},{"$f":"COUNTIF(L115:L141,AN13)","v":9},{"$f":"AO13/(AQ4-AO9)","v":0.33333333333333331},{"$f":"IF(AP13=0,0,(AP13*((LOG(AP13))/LOG(2))))","v":-0.52832083357371862},null,{"$f":"N13","v":221},{"$f":"COUNTIF(L142:L168,AS13)","v":11},{"$f":"AT13/(AV4-AT9)","v":0.40740740740740738},{"$f":"IF(AU13=0,0,(AU13*((LOG(AU13))/LOG(2))))","v":-0.52777832291806981}]
[11,1167,12,1173,13,1180,null,null,null,null,0,111,null,222,{"$f":"COUNTIF($L$7:$L$500,N14)","v":26},{"$f":"O14/$Q$4","v":0.16049382716049382},{"$f":"IF(P14=0,0,(P14*((LOG(P14))/LOG(2))))","v":-0.42360905804525828},null,null,{"$f":"N14","v":222},{"$f":"COUNTIF(L7:L33,T14)","v":6},{"$f":"U14/(W4-U9)","v":0.22222222222222221},{"$f":"IF(V14=0,0,(V14*((LOG(V14))/LOG(2))))","v":-0.48220555587606945},null,{"$f":"N14","v":222},{"$f":"COUNTIF(L34:L60,Y14)","v":2},{"$f":"Z14/(AB4-Z9)","v":7.407407407407407E-2},{"$f":"IF(AA14=0,0,(AA14*((LOG(AA14))/LOG(2))))","v":-0.27813981497507173},null,{"$f":"N14","v":222},{"$f":"COUNTIF(L61:L87,AD14)","v":2},{"$f":"AE14/(AG4-AE9)","v":7.407407407407407E-2},{"$f":"IF(AF14=0,0,(AF14*((LOG(AF14))/LOG(2))))","v":-0.27813981497507173},null,{"$f":"N14","v":222},{"$f":"COUNTIF(L88:L114,AI14)","v":8},{"$f":"AJ14/(AL4-AJ9)","v":0.29629629629629628},{"$f":"IF(AK14=0,0,(AK14*((LOG(AK14))/LOG(2))))","v":-0.51996666730769436},null,{"$f":"N14","v":222},{"$f":"COUNTIF(L115:L141,AN14)","v":5},{"$f":"AO14/(AQ4-AO9)","v":0.18518518518518517},{"$f":"IF(AP14=0,0,(AP14*((LOG(AP14))/LOG(2))))","v":-0.45054803838446406},null,{"$f":"N14","v":222},{"$f":"COUNTIF(L142:L168,AS14)","v":3},{"$f":"AT14/(AV4-AT9)","v":0.1111111111111111},{"$f":"IF(AU14=0,0,(AU14*((LOG(AU14))/LOG(2))))","v":-0.3522138890491458}]
[22,1275,14,1301,13,1308,null,null,null,null,0,211,null,null,null,{"$f":"SUM(P7:P14)","v":1},{"$f":"-SUM(Q7:Q14)","v":2.2913140546303472},null,null,null,null,{"$f":"SUM(V7:V14)","v":1},{"$f":"-SUM(W7:W14)","v":2.4949041685096218},null,null,null,{"$f":"SUM(AA7:AA14)","v":0.99999999999999989},{"$f":"-SUM(AB7:AB14)","v":1.9567810198807023},null,null,null,{"$f":"SUM(AF7:AF14)","v":0.99999999999999989},{"$f":"-SUM(AG7:AG14)","v":1.9892936331613535},null,null,null,{"$f":"SUM(AK7:AK14)","v":1},{"$f":"-SUM(AL7:AL14)","v":2.1608467607817001},null,null,null,{"$f":"SUM(AP7:AP14)","v":1},{"$f":"-SUM(AQ7:AQ14)","v":2.2032633173641685},null,null,null,{"$f":"SUM(AU7:AU14)","v":1},{"$f":"-SUM(AV7:AV14)","v":1.9645926754910779}]
[22,1404,23,1412,13,1421,null,null,null,null,0,221,null,null,null,"U=",{"$f":"Q15/(LOG(Q4)/LOG(2))","v":0.31217450679916359},null,null,null,null,"U1=",{"$f":"W15/(LOG(W4)/LOG(2))","v":0.52470309074072585},null,null,null,"U2=",{"$f":"AB15/(LOG(AB4)/LOG(2))","v":0.41153045555554557},null,null,null,"U3=",{"$f":"AG15/(LOG(AG4)/LOG(2))","v":0.41836818058392072},null,null,null,"U4=",{"$f":"AL15/(LOG(AL4)/LOG(2))","v":0.45444750476189338},null,null,null,"U5=",{"$f":"AQ15/(LOG(AQ4)/LOG(2))","v":0.46336812729253557},null,null,null,"U6=",{"$f":"AV15/(LOG(AV4)/LOG(2))","v":0.41317332420529201}]
[22,1517,23,1522,13,1542,null,null,null,null,0,221]
[22,1640,23,1650,13,1661,null,null,null,null,0,221]
[22,1760,23,1765,24,1771,null,null,null,null,0,222,null,"Total Target Seq"]
[22,1871,14,1882,13,1888,null,null,null,null,0,211,null,{"$f":"COUNTIF(L7:L168,G3)","v":0},null,27,27,27,27,27,27]
[11,1997,12,2002,24,2018,null,null,null,null,0,112,null,null,null,"% of reinforcement given in 6 equal intervals based on number of trials "]
[22,2114,14,2128,13,2134,null,null,null,null,0,211,null,null,null,"%_1","%_2","%_3","%_4","%_5","%_6"]
[22,2231,14,2256,13,2263,null,null,null,null,0,211,null,null,"target sequence",{"$f":"$G$3","v":121},{"$f":"$G$3","v":121},{"$f":"$G$3","v":121},{"$f":"$G$3","v":121},{"$f":"$G$3","v":121},{"$f":"$G$3","v":121}]
[22,2360,23,2365,13,2374,null,null,null,null,0,221,null,null,"total reinforcement",{"$f":"U9","v":0},{"$f":"Z9","v":0},{"$f":"AE9","v":0},{"$f":"AJ9","v":0},{"$f":"AO9","v":0},{"$f":"AT9","v":0}]
[22,2479,14,2493,13,2499,null,null,null,null,0,211,null,null,"% target"]
[11,2609,21,2632,22,2640,null,null,null,null,0,122,null,null,"CCRF"]
[22,2649,23,2653,24,2657,null,null,null,null,0,222,null,null,"% CCRf"]
[22,2780,23,2787,24,2796,null,null,null,null,0,222,null,null,"average response rate",{"$f":"F33/P20","v":160.14814814814815},{"$f":"(F60-F33)/Q20","v":165.33333333333334},{"$f":"(F87-F60)/R20","v":131.22222222222223},{"$f":"(F114-F87)/S20","v":142.33333333333334},{"$f":"(F141-F114)/T20","v":131.03703703703704},{"$f":"(F168-F141)/U20","v":152.40740740740742}]
[22,3809,23,3814,24,3820,null,null,null,null,0,222]
[11,3928,21,3960,22,3967,null,null,null,null,0,122]
[22,4065,23,4068,13,4077,null,null,null,null,0,221]
[22,4175,14,4189,24,4204,null,null,null,null,0,212]
[22,4304,14,4319,13,4324,null,null,null,null,0,211]
[22,4425,23,4430,13,4438,null,null,null,null,0,221]
[11,4579,12,4586,24,4603,null,null,null,null,0,112]
[22,4701,23,4706,13,4716,null,null,null,null,0,221]
[22,4813,14,4822,13,4829,null,null,null,null,0,211]
[22,4929,23,4938,13,4949,null,null,null,null,0,221]
[22,5046,23,5052,24,5059,null,null,null,null,0,222]
[22,6252,23,6258,24,6264,null,null,null,null,0,222]
[11,6373,21,6390,22,6394,null,null,null,null,0,122]
[22,6490,23,6494,13,6504,null,null,null,null,0,221]
[22,6600,14,6612,13,6622,null,null,null,null,0,211]
[22,6721,23,6724,13,6734,null,null,null,null,0,221]
[22,6829,14,6845,13,6858,null,null,null,null,0,211]
[22,6969,14,6986,13,6991,null,null,null,null,0,211]
[22,7089,23,7098,13,7107,null,null,null,null,0,221]
[22,7205,14,7223,13,7230,null,null,null,null,0,211]
[22,7340,23,7351,13,7362,null,null,null,null,0,221]
[22,7461,23,7467,13,7478,null,null,null,null,0,221]
[11,7576,12,7587,13,7596,null,null,null,null,0,111]
[22,7693,14,7706,13,7711,null,null,null,null,0,211]
[22,7812,23,7817,13,7827,null,null,null,null,0,221]
[22,7957,23,7964,13,7978,null,null,null,null,0,221]
[22,8077,23,8082,13,8093,null,null,null,null,0,221]
[22,8192,23,8197,13,8207,null,null,null,null,0,221]
[22,8399,14,8413,13,8420,null,null,null,null,0,211]
[11,8530,21,8551,22,8555,null,null,null,null,0,122]
[22,8656,14,8669,13,8675,null,null,null,null,0,211]
[22,8774,14,8783,13,8788,null,null,null,null,0,211]
[22,8888,23,8894,13,8905,null,null,null,null,0,221]
[22,9003,14,9012,13,9018,null,null,null,null,0,211]
[22,9117,14,9130,13,9136,null,null,null,null,0,211]
[22,9233,23,9242,13,9250,null,null,null,null,0,221]
[22,9440,14,9447,13,9451,null,null,null,null,0,211]
[22,9550,23,9561,13,9571,null,null,null,null,0,221]
[22,9668,23,9674,13,9683,null,null,null,null,0,221]
[22,9793,14,9803,13,9808,null,null,null,null,0,211]
[22,9908,23,9921,13,9938,null,null,null,null,0,221]
[11,10047,12,10050,13,10067,null,null,null,null,0,111]
[11,10175,12,10180,13,10186,null,null,null,null,0,111]
[22,10349,23,10382,13,10391,null,null,null,null,0,221]
[11,10499,12,10503,24,10531,null,null,null,null,0,112]
[11,10638,12,10643,13,10650,null,null,null,null,0,111]
[11,10757,12,10763,13,10768,null,null,null,null,0,111]
[22,10868,23,10871,13,10882,null,null,null,null,0,221]
[22,11027,23,11033,13,11040,null,null,null,null,0,221]
[11,11152,12,11158,24,11176,null,null,null,null,0,112]
[22,11276,23,11282,24,11293,null,null,null,null,0,222]
[22,11391,14,11405,13,11410,null,null,null,null,0,211]
[22,11508,23,11516,13,11525,null,null,null,null,0,221]
[22,11625,23,11633,13,11643,null,null,null,null,0,221]
[22,11742,23,11746,13,11755,null,null,null,null,0,221]
[22,11878,14,11893,13,11899,null,null,null,null,0,211]
[22,11996,23,12000,13,12018,null,null,null,null,0,221]
[22,12117,14,12134,13,12139,null,null,null,null,0,211]
[22,12321,23,12325,24,12331,null,null,null,null,0,222]
[22,12427,23,12432,13,12444,null,null,null,null,0,221]
[22,12544,23,12550,24,12556,null,null,null,null,0,222]
[22,12655,14,12666,13,12670,null,null,null,null,0,211]
[22,12768,14,12780,13,12784,null,null,null,null,0,211]
[22,12880,23,12883,13,12892,null,null,null,null,0,221]
[22,12992,14,13006,13,13012,null,null,null,null,0,211]
[22,13108,23,13115,13,13124,null,null,null,null,0,221]
[22,13606,23,13610,24,13616,null,null,null,null,0,222]
[22,13717,23,13724,13,13732,null,null,null,null,0,221]
[22,13832,23,13837,24,13841,null,null,null,null,0,222]
[22,13938,23,13946,24,13952,null,null,null,null,0,222]
[22,14052,23,14056,24,14062,null,null,null,null,0,222]
[22,14157,23,14162,13,14171,null,null,null,null,0,221]
[22,14267,23,14271,13,14282,null,null,null,null,0,221]
[22,14382,14,14394,24,14408,null,null,null,null,0,212]
[22,14504,23,14509,13,14519,null,null,null,null,0,221]
[22,14614,23,14616,24,14622,null,null,null,null,0,222]
[22,14718,23,14724,13,14734,null,null,null,null,0,221]
[22,14830,23,14834,13,14841,null,null,null,null,0,221]
[22,14992,23,14998,24,15005,null,null,null,null,0,222]
[22,15101,14,15117,13,15122,null,null,null,null,0,211]
[11,15229,21,15257,22,15265,null,null,null,null,0,122]
[22,15363,23,15370,24,15379,null,null,null,null,0,222]
[22,15474,14,15484,13,15489,null,null,null,null,0,211]
[22,15884,14,15904,13,15909,null,null,null,null,0,211]
[11,16023,21,16036,22,16042,null,null,null,null,0,122]
[11,16149,12,16161,24,16174,null,null,null,null,0,112]
[22,16274,23,16277,24,16282,null,null,null,null,0,222]
[22,16383,23,16388,24,16394,null,null,null,null,0,222]
[22,16490,23,16507,13,16517,null,null,null,null,0,221]
[22,16615,23,16621,13,16629,null,null,null,null,0,221]
[11,16740,12,16745,13,16752,null,null,null,null,0,111]
[22,16851,14,16864,24,16882,null,null,null,null,0,212]
[22,16981,14,16994,13,16999,null,null,null,null,0,211]
[22,17096,23,17102,13,17112,null,null,null,null,0,221]
[22,17210,14,17224,13,17230,null,null,null,null,0,211]
[22,17328,23,17335,13,17344,null,null,null,null,0,221]
[11,17450,12,17456,24,17471,null,null,null,null,0,112]
[22,17570,14,17589,13,17599,null,null,null,null,0,211]
[22,17698,23,17702,13,17714,null,null,null,null,0,221]
[22,17850,14,17862,13,17865,null,null,null,null,0,211]
[22,18000,14,18020,24,18036,null,null,null,null,0,212]
[22,18137,23,18141,13,18150,null,null,null,null,0,221]
[22,18270,14,18287,13,18295,null,null,null,null,0,211]
[22,18401,23,18407,13,18415,null,null,null,null,0,221]
[22,18544,14,18558,13,18568,null,null,null,null,0,211]
[22,18695,14,18720,24,18735,null,null,null,null,0,212]
[22,18834,23,18838,13,18856,null,null,null,null,0,221]
[22,18978,23,18983,24,18989,null,null,null,null,0,222]
[22,19098,14,19122,13,19131,null,null,null,null,0,211]
[22,19230,23,19236,24,19242,null,null,null,null,0,222]
[22,19411,23,19418,13,19435,null,null,null,null,0,221]
[22,19584,23,19590,24,19597,null,null,null,null,0,222]
[22,19695,14,19705,13,19712,null,null,null,null,0,211]
[22,19811,14,19823,13,19830,null,null,null,null,0,211]
[22,19950,14,19959,13,19962,null,null,null,null,0,211]
[22,20061,23,20065,13,20083,null,null,null,null,0,221]
[22,20180,14,20191,13,20200,null,null,null,null,0,211]
[22,20335,14,20348,13,20362,null,null,null,null,0,211]
[22,20461,23,20467,13,20482,null,null,null,null,0,221]
[22,20616,14,20642,13,20671,null,null,null,null,0,211]
[22,20768,23,20774,24,20800,null,null,null,null,0,222]
[22,20950,14,20975,13,20983,null,null,null,null,0,211]
[22,21347,23,21351,24,21357,null,null,null,null,0,222]
[11,21475,12,21481,24,21493,null,null,null,null,0,112]
[22,21621,23,21627,13,21641,null,null,null,null,0,221]
[11,21753,12,21767,24,21779,null,null,null,null,0,112]
[22,21879,23,21885,24,21894,null,null,null,null,0,222]
[22,22010,14,22037,13,22042,null,null,null,null,0,211]
[22,22145,23,22158,13,22166,null,null,null,null,0,221]
[22,22295,23,22304,13,22321,null,null,null,null,0,221]
[22,22432,14,22458,13,22466,null,null,null,null,0,211]
[22,22566,23,22574,13,22582,null,null,null,null,0,221]
[22,22680,23,22685,13,22693,null,null,null,null,0,221]
[22,22809,14,22816,13,22820,null,null,null,null,0,211]
[22,22924,14,22957,24,22974,null,null,null,null,0,212]
[22,23203,14,23211,24,23235,null,null,null,null,0,212]
[22,23367,23,23372,13,23382,null,null,null,null,0,221]
[22,23481,23,23484,13,23493,null,null,null,null,0,221]
[22,23609,23,23624,13,23632,null,null,null,null,0,221]
[22,23808,23,23818,13,23827,null,null,null,null,0,221]

{"sheet":"!M215A3I.sha","index":8,"n_rows":175,"n_cols":48,"rows_kept":175,"cut":false,"hidden":false,"merged":[[4,39,4,42],[5,39,5,40],[4,44,4,47],[5,44,5,45],[4,24,4,27],[5,24,5,25],[4,29,4,32],[5,29,5,30],[4,34,4,37],[5,34,5,35],[1,1,1,2],[5,13,5,14],[18,13,18,14],[19,13,19,14],[4,19,4,22],[5,19,5,20]]}
["Report for:!M215A3I.sha"]
["Date:","<date>"]
["Hen:","<hen>",null,null,null,"Correct Sequence",{"$f":"Start!J2","v":121},null,null,null,null,null,null,null,null,"Total Sequences in Data",{"$f":"4994-COUNTBLANK(L7:L5000)","v":169},null,null,null,null,"Total Sequences in Block Data",{"$f":"COUNTA(L7:L34)","v":28},null,null,null,"Total Sequences in Block Data",{"$f":"COUNTA(L35:L62)","v":28},null,null,null,"Total Sequences in Block Data",{"$f":"COUNTA(L63:L91)","v":29},null,null,null,"Total Sequences in Block Data",{"$f":"COUNTA(L92:L119)","v":28},null,null,null,"Total Sequences in Block Data",{"$f":"COUNTA(L120:L147)","v":28},null,null,null,"Total Sequences in Block Data",{"$f":"COUNTA(L148:L175)","v":28}]
[null,null,null,null,null,null,null,null,null,null,null,null,null,null,null,"Total Sequences in Summary",{"$f":"SUM(O7:O14)","v":169},null,null,null,null,"Total Sequences in Block Summary",{"$f":"SUM(U7:U14)","v":28},null,null,null,"Total Sequences in Block Summary",{"$f":"SUM(Z7:Z14)","v":28},null,null,null,"Total Sequences in Block Summary",{"$f":"SUM(AE7:AE14)","v":29},null,null,null,"Total Sequences in Block Summary",{"$f":"SUM(AJ7:AJ14)","v":28},null,null,null,"Total Sequences in Block Summary",{"$f":"SUM(AO7:AO14)","v":28},null,null,null,"Total Sequences in Block Summary",{"$f":"SUM(AT7:AT14)","v":28}]
[null,null,null,null,null,null,null,null,null,null,null,null,null,null,null,null,null,null,null,"Block 1",null,null,null,null,"Block 2",null,null,null,null,"Block 3",null,null,null,null,"Block 4",null,null,null,null,"Block 5",null,null,null,null,"Block 6"]
["Sequence\nComponent\n1","Time\n1","Sequence\nComponent\n2","Time\n2","Sequence\nComponent\n3","Time\n3","Sequence\nComponent\n4","Time\n4","Sequence\nComponent\n5","Time\n5","Correct?\n0=No 1=Yes","Sequence",null,"Frequency",null,"Relative Frequency","Variability",null,null,"Frequency",null,"Relative Frequency","Variability",null,"Frequency",null,"Relative Frequency","Variability",null,"Frequency",null,"Relative Frequency","Variability",null,"Frequency",null,"Relative Frequency","Variability",null,"Frequency",null,"Relative Frequency","Variability",null,"Frequency",null,"Relative Frequency","Variability"]
[22,7,23,31,24,36,null,null,null,null,0,222,null,111,{"$f":"COUNTIF($L$7:$L$500,N7)","v":5},{"$f":"O7/$Q$4","v":2.9585798816568046E-2},{"$f":"IF(P7=0,0,(P7*((LOG(P7))/LOG(2))))","v":-0.1502648325856456},null,null,{"$f":"N7","v":111},{"$f":"COUNTIF(L7:L34,T7)","v":2},{"$f":"U7/(W4-U9)","v":7.1428571428571425E-2},{"$f":"IF(V7=0,0,(V7*((LOG(V7))/LOG(2))))","v":-0.27195392300411453},null,{"$f":"N7","v":111},{"$f":"COUNTIF(L35:L62,Y7)","v":0},{"$f":"Z7/(AB4-Z9)","v":0},{"$f":"IF(AA7=0,0,(AA7*((LOG(AA7))/LOG(2))))","v":0},null,{"$f":"N7","v":111},{"$f":"COUNTIF(L63:L91,AD7)","v":0},{"$f":"AE7/(AG4-AE9)","v":0},{"$f":"IF(AF7=0,0,(AF7*((LOG(AF7))/LOG(2))))","v":0},null,{"$f":"N7","v":111},{"$f":"COUNTIF(L92:L119,AI7)","v":0},{"$f":"AJ7/(AL4-AJ9)","v":0},{"$f":"IF(AK7=0,0,(AK7*((LOG(AK7))/LOG(2))))","v":0},null,{"$f":"N7","v":111},{"$f":"COUNTIF(L120:L147,AN7)","v":1},{"$f":"AO7/(AQ4-AO9)","v":3.5714285714285712E-2},{"$f":"IF(AP7=0,0,(AP7*((LOG(AP7))/LOG(2))))","v":-0.17169124721634299},null,{"$f":"N7","v":111},{"$f":"COUNTIF(L148:L175,AS7)","v":2},{"$f":"AT7/(AV4-AT9)","v":7.6923076923076927E-2},{"$f":"IF(AU7=0,0,(AU7*((LOG(AU7))/LOG(2))))","v":-0.28464920908777636}]
[22,136,14,146,13,153,null,null,null,null,0,211,null,112,{"$f":"COUNTIF($L$7:$L$500,N8)","v":17},{"$f":"O8/$Q$4","v":0.10059171597633136},{"$f":"IF(P8=0,0,(P8*((LOG(P8))/LOG(2))))","v":-0.3333022610387063},null,null,{"$f":"N8","v":112},{"$f":"COUNTIF(L7:L34,T8)","v":4},{"$f":"U8/(W4-U9)","v":0.14285714285714285},{"$f":"IF(V8=0,0,(V8*((LOG(V8))/LOG(2))))","v":-0.40105070315108626},null,{"$f":"N8","v":112},{"$f":"COUNTIF(L35:L62,Y8)","v":3},{"$f":"Z8/(AB4-Z9)","v":0.10714285714285714},{"$f":"IF(AA8=0,0,(AA8*((LOG(AA8))/LOG(2))))","v":-0.34525633085747659},null,{"$f":"N8","v":112},{"$f":"COUNTIF(L63:L91,AD8)","v":5},{"$f":"AE8/(AG4-AE9)","v":0.17241379310344829},{"$f":"IF(AF8=0,0,(AF8*((LOG(AF8))/LOG(2))))","v":-0.43725050004141547},null,{"$f":"N8","v":112},{"$f":"COUNTIF(L92:L119,AI8)","v":0},{"$f":"AJ8/(AL4-AJ9)","v":0},{"$f":"IF(AK8=0,0,(AK8*((LOG(AK8))/LOG(2))))","v":0},null,{"$f":"N8","v":112},{"$f":"COUNTIF(L120:L147,AN8)","v":3},{"$f":"AO8/(AQ4-AO9)","v":0.10714285714285714},{"$f":"IF(AP8=0,0,(AP8*((LOG(AP8))/LOG(2))))","v":-0.34525633085747659},null,{"$f":"N8","v":112},{"$f":"COUNTIF(L148:L175,AS8)","v":2},{"$f":"AT8/(AV4-AT9)","v":7.6923076923076927E-2},{"$f":"IF(AU8=0,0,(AU8*((LOG(AU8))/LOG(2))))","v":-0.28464920908777636}]
[11,263,12,265,13,270,null,null,null,null,0,111,null,121,{"$f":"COUNTIF($L$7:$L$500,N9)","v":2},{"$f":"O9/$Q$4","v":1.1834319526627219E-2},{"$f":"IF(P9=0,0,(P9*((LOG(P9))/LOG(2))))","v":-7.5750052500380874E-2},null,null,{"$f":"N9","v":121},{"$f":"COUNTIF(L7:L34,T9)","v":0},null,null,null,{"$f":"N9","v":121},{"$f":"COUNTIF(L35:L62,Y9)","v":0},null,null,null,{"$f":"N9","v":121},{"$f":"COUNTIF(L63:L91,AD9)","v":0},null,null,null,{"$f":"N9","v":121},{"$f":"COUNTIF(L92:L119,AI9)","v":0},null,null,null,{"$f":"N9","v":121},{"$f":"COUNTIF(L120:L147,AN9)","v":0},null,null,null,{"$f":"N9","v":121},{"$f":"COUNTIF(L148:L175,AS9)","v":2}]
[22,371,14,379,24,399,null,null,null,null,0,212,null,122,{"$f":"COUNTIF($L$7:$L$500,N10)","v":10},{"$f":"O10/$Q$4","v":5.9171597633136092E-2},{"$f":"IF(P10=0,0,(P10*((LOG(P10))/LOG(2))))","v":-0.24135806753815517},null,null,{"$f":"N10","v":122},{"$f":"COUNTIF(L7:L34,T10)","v":2},{"$f":"U10/(W4-U9)","v":7.1428571428571425E-2},{"$f":"IF(V10=0,0,(V10*((LOG(V10))/LOG(2))))","v":-0.27195392300411453},null,{"$f":"N10","v":122},{"$f":"COUNTIF(L35:L62,Y10)","v":0},{"$f":"Z10/(AB4-Z9)","v":0},{"$f":"IF(AA10=0,0,(AA10*((LOG(AA10))/LOG(2))))","v":0},null,{"$f":"N10","v":122},{"$f":"COUNTIF(L63:L91,AD10)","v":0},{"$f":"AE10/(AG4-AE9)","v":0},{"$f":"IF(AF10=0,0,(AF10*((LOG(AF10))/LOG(2))))","v":0},null,{"$f":"N10","v":122},{"$f":"COUNTIF(L92:L119,AI10)","v":3},{"$f":"AJ10/(AL4-AJ9)","v":0.10714285714285714},{"$f":"IF(AK10=0,0,(AK10*((LOG(AK10))/LOG(2))))","v":-0.34525633085747659},null,{"$f":"N10","v":122},{"$f":"COUNTIF(L120:L147,AN10)","v":3},{"$f":"AO10/(AQ4-AO9)","v":0.10714285714285714},{"$f":"IF(AP10=0,0,(AP10*((LOG(AP10))/LOG(2))))","v":-0.34525633085747659},null,{"$f":"N10","v":122},{"$f":"COUNTIF(L148:L175,AS10)","v":2},{"$f":"AT10/(AV4-AT9)","v":7.6923076923076927E-2},{"$f":"IF(AU10=0,0,(AU10*((LOG(AU10))/LOG(2))))","v":-0.28464920908777636}]
[11,502,12,507,24,516,null,null,null,null,0,112,null,211,{"$f":"COUNTIF($L$7:$L$500,N11)","v":47},{"$f":"O11/$Q$4","v":0.27810650887573962},{"$f":"IF(P11=0,0,(P11*((LOG(P11))/LOG(2))))","v":-0.51346542885451896},null,null,{"$f":"N11","v":211},{"$f":"COUNTIF(L7:L34,T11)","v":12},{"$f":"U11/(W4-U9)","v":0.42857142857142855},{"$f":"IF(V11=0,0,(V11*((LOG(V11))/LOG(2))))","v":-0.52388246628704915},null,{"$f":"N11","v":211},{"$f":"COUNTIF(L35:L62,Y11)","v":9},{"$f":"Z11/(AB4-Z9)","v":0.32142857142857145},{"$f":"IF(AA11=0,0,(AA11*((LOG(AA11))/LOG(2))))","v":-0.5263167601977724},null,{"$f":"N11","v":211},{"$f":"COUNTIF(L63:L91,AD11)","v":9},{"$f":"AE11/(AG4-AE9)","v":0.31034482758620691},{"$f":"IF(AF11=0,0,(AF11*((LOG(AF11))/LOG(2))))","v":-0.52387944631611505},null,{"$f":"N11","v":211},{"$f":"COUNTIF(L92:L119,AI11)","v":8},{"$f":"AJ11/(AL4-AJ9)","v":0.2857142857142857},{"$f":"IF(AK11=0,0,(AK11*((LOG(AK11))/LOG(2))))","v":-0.51638712058788683},null,{"$f":"N11","v":211},{"$f":"COUNTIF(L120:L147,AN11)","v":1},{"$f":"AO11/(AQ4-AO9)","v":3.5714285714285712E-2},{"$f":"IF(AP11=0,0,(AP11*((LOG(AP11))/LOG(2))))","v":-0.17169124721634299},null,{"$f":"N11","v":211},{"$f":"COUNTIF(L148:L175,AS11)","v":8},{"$f":"AT11/(AV4-AT9)","v":0.30769230769230771},{"$f":"IF(AU11=0,0,(AU11*((LOG(AU11))/LOG(2))))","v":-0.52321222096648989}]
[22,617,14,626,13,632,null,null,null,null,0,211,null,212,{"$f":"COUNTIF($L$7:$L$500,N12)","v":16},{"$f":"O12/$Q$4","v":9.4674556213017749E-2},{"$f":"IF(P12=0,0,(P12*((LOG(P12))/LOG(2))))","v":-0.32197675136399384},null,null,{"$f":"N12","v":212},{"$f":"COUNTIF(L7:L34,T12)","v":2},{"$f":"U12/(W4-U9)","v":7.1428571428571425E-2},{"$f":"IF(V12=0,0,(V12*((LOG(V12))/LOG(2))))","v":-0.27195392300411453},null,{"$f":"N12","v":212},{"$f":"COUNTIF(L35:L62,Y12)","v":3},{"$f":"Z12/(AB4-Z9)","v":0.10714285714285714},{"$f":"IF(AA12=0,0,(AA12*((LOG(AA12))/LOG(2))))","v":-0.34525633085747659},null,{"$f":"N12","v":212},{"$f":"COUNTIF(L63:L91,AD12)","v":3},{"$f":"AE12/(AG4-AE9)","v":0.10344827586206896},{"$f":"IF(AF12=0,0,(AF12*((LOG(AF12))/LOG(2))))","v":-0.33858812011100858},null,{"$f":"N12","v":212},{"$f":"COUNTIF(L92:L119,AI12)","v":2},{"$f":"AJ12/(AL4-AJ9)","v":7.1428571428571425E-2},{"$f":"IF(AK12=0,0,(AK12*((LOG(AK12))/LOG(2))))","v":-0.27195392300411453},null,{"$f":"N12","v":212},{"$f":"COUNTIF(L120:L147,AN12)","v":5},{"$f":"AO12/(AQ4-AO9)","v":0.17857142857142858},{"$f":"IF(AP12=0,0,(AP12*((LOG(AP12))/LOG(2))))","v":-0.44382621913754317},null,{"$f":"N12","v":212},{"$f":"COUNTIF(L148:L175,AS12)","v":1},{"$f":"AT12/(AV4-AT9)","v":3.8461538461538464E-2},{"$f":"IF(AU12=0,0,(AU12*((LOG(AU12))/LOG(2))))","v":-0.18078614300542661}]
[22,733,14,745,13,752,null,null,null,null,0,211,null,221,{"$f":"COUNTIF($L$7:$L$500,N13)","v":39},{"$f":"O13/$Q$4","v":0.23076923076923078},{"$f":"IF(P13=0,0,(P13*((LOG(P13))/LOG(2))))","v":-0.48818705017383146},null,null,{"$f":"N13","v":221},{"$f":"COUNTIF(L7:L34,T13)","v":4},{"$f":"U13/(W4-U9)","v":0.14285714285714285},{"$f":"IF(V13=0,0,(V13*((LOG(V13))/LOG(2))))","v":-0.40105070315108626},null,{"$f":"N13","v":221},{"$f":"COUNTIF(L35:L62,Y13)","v":9},{"$f":"Z13/(AB4-Z9)","v":0.32142857142857145},{"$f":"IF(AA13=0,0,(AA13*((LOG(AA13))/LOG(2))))","v":-0.5263167601977724},null,{"$f":"N13","v":221},{"$f":"COUNTIF(L63:L91,AD13)","v":6},{"$f":"AE13/(AG4-AE9)","v":0.20689655172413793},{"$f":"IF(AF13=0,0,(AF13*((LOG(AF13))/LOG(2))))","v":-0.4702796884978791},null,{"$f":"N13","v":221},{"$f":"COUNTIF(L92:L119,AI13)","v":7},{"$f":"AJ13/(AL4-AJ9)","v":0.25},{"$f":"IF(AK13=0,0,(AK13*((LOG(AK13))/LOG(2))))","v":-0.5},null,{"$f":"N13","v":221},{"$f":"COUNTIF(L120:L147,AN13)","v":8},{"$f":"AO13/(AQ4-AO9)","v":0.2857142857142857},{"$f":"IF(AP13=0,0,(AP13*((LOG(AP13))/LOG(2))))","v":-0.51638712058788683},null,{"$f":"N13","v":221},{"$f":"COUNTIF(L148:L175,AS13)","v":5},{"$f":"AT13/(AV4-AT9)","v":0.19230769230769232},{"$f":"IF(AU13=0,0,(AU13*((LOG(AU13))/LOG(2))))","v":-0.45740608139494804}]
[22,850,23,859,13,868,null,null,null,null,0,221,null,222,{"$f":"COUNTIF($L$7:$L$500,N14)","v":33},{"$f":"O14/$Q$4","v":0.19526627218934911},{"$f":"IF(P14=0,0,(P14*((LOG(P14))/LOG(2))))","v":-0.46014210330463384},null,null,{"$f":"N14","v":222},{"$f":"COUNTIF(L7:L34,T14)","v":2},{"$f":"U14/(W4-U9)","v":7.1428571428571425E-2},{"$f":"IF(V14=0,0,(V14*((LOG(V14))/LOG(2))))","v":-0.27195392300411453},null,{"$f":"N14","v":222},{"$f":"COUNTIF(L35:L62,Y14)","v":4},{"$f":"Z14/(AB4-Z9)","v":0.14285714285714285},{"$f":"IF(AA14=0,0,(AA14*((LOG(AA14))/LOG(2))))","v":-0.40105070315108626},null,{"$f":"N14","v":222},{"$f":"COUNTIF(L63:L91,AD14)","v":6},{"$f":"AE14/(AG4-AE9)","v":0.20689655172413793},{"$f":"IF(AF14=0,0,(AF14*((LOG(AF14))/LOG(2))))","v":-0.4702796884978791},null,{"$f":"N14","v":222},{"$f":"COUNTIF(L92:L119,AI14)","v":8},{"$f":"AJ14/(AL4-AJ9)","v":0.2857142857142857},{"$f":"IF(AK14=0,0,(AK14*((LOG(AK14))/LOG(2))))","v":-0.51638712058788683},null,{"$f":"N14","v":222},{"$f":"COUNTIF(L120:L147,AN14)","v":7},{"$f":"AO14/(AQ4-AO9)","v":0.25},{"$f":"IF(AP14=0,0,(AP14*((LOG(AP14))/LOG(2))))","v":-0.5},null,{"$f":"N14","v":222},{"$f":"COUNTIF(L148:L175,AS14)","v":6},{"$f":"AT14/(AV4-AT9)","v":0.23076923076923078},{"$f":"IF(AU14=0,0,(AU14*((LOG(AU14))/LOG(2))))","v":-0.48818705017383146}]
[22,965,23,968,24,984,null,null,null,null,0,222,null,null,null,{"$f":"SUM(P7:P14)","v":1},{"$f":"-SUM(Q7:Q14)","v":2.5844465473598661},null,null,null,null,{"$f":"SUM(V7:V14)","v":0.99999999999999978},{"$f":"-SUM(W7:W14)","v":2.4137995646056796},null,null,null,{"$f":"SUM(AA7:AA14)","v":1},{"$f":"-SUM(AB7:AB14)","v":2.1441968852615845},null,null,null,{"$f":"SUM(AF7:AF14)","v":1},{"$f":"-SUM(AG7:AG14)","v":2.2402774434642971},null,null,null,{"$f":"SUM(AK7:AK14)","v":1},{"$f":"-SUM(AL7:AL14)","v":2.1499844950373648},null,null,null,{"$f":"SUM(AP7:AP14)","v":1},{"$f":"-SUM(AQ7:AQ14)","v":2.494108495873069},null,null,null,{"$f":"SUM(AU7:AU14)","v":1},{"$f":"-SUM(AV7:AV14)","v":2.5035391228040247}]
[22,1082,14,1092,13,1096,null,null,null,null,0,211,null,null,null,"U=",{"$f":"Q15/(LOG(Q4)/LOG(2))","v":0.34920803258729444},null,null,null,null,"U1=",{"$f":"W15/(LOG(W4)/LOG(2))","v":0.50210554530318419},null,null,null,"U2=",{"$f":"AB15/(LOG(AB4)/LOG(2))","v":0.44602425242691324},null,null,null,"U3=",{"$f":"AG15/(LOG(AG4)/LOG(2))","v":0.4611540155696856},null,null,null,"U4=",{"$f":"AL15/(LOG(AL4)/LOG(2))","v":0.44722815974593083},null,null,null,"U5=",{"$f":"AQ15/(LOG(AQ4)/LOG(2))","v":0.51881097533060061},null,null,null,"U6=",{"$f":"AV15/(LOG(AV4)/LOG(2))","v":0.52077268339748062}]
[22,1194,14,1205,13,1210,null,null,null,null,0,211]
[22,1308,23,1315,13,1324,null,null,null,null,0,221]
[22,1483,23,1488,13,1499,null,null,null,null,0,221,null,"Total Target Seq"]
[22,1599,14,1607,13,1610,null,null,null,null,0,211,null,{"$f":"COUNTIF(L7:L175,G3)","v":2},null,28,28,29,28,28,28]
[11,1724,12,1729,24,1745,null,null,null,null,0,112,null,null,null,"% of reinforcement given in 6 equal intervals based on number of trials "]
[22,1845,14,1860,13,1866,null,null,null,null,0,211,null,null,null,"%_1","%_2","%_3","%_4","%_5","%_6"]
[11,1970,12,1974,24,1984,null,null,null,null,0,112,null,null,"target sequence",{"$f":"$G$3","v":121},{"$f":"$G$3","v":121},{"$f":"$G$3","v":121},{"$f":"$G$3","v":121},{"$f":"$G$3","v":121},{"$f":"$G$3","v":121}]
[22,2082,14,2092,13,2099,null,null,null,null,0,211,null,null,"total reinforcement",{"$f":"U9","v":0},{"$f":"Z9","v":0},{"$f":"AE9","v":0},{"$f":"AJ9","v":0},{"$f":"AO9","v":0},{"$f":"AT9","v":2}]
[22,2201,14,2209,13,2212,null,null,null,null,0,211,null,null,"% target"]
[22,2310,23,2313,13,2320,null,null,null,null,0,221,null,null,"CCRF"]
[11,2483,12,2488,24,2501,null,null,null,null,0,112,null,null,"% CCRf"]
[22,2600,14,2618,13,2624,null,null,null,null,0,211,null,null,"average response rate",{"$f":"F34/P20","v":118.89285714285714},{"$f":"(F62-F34)/Q20","v":140.42857142857142},{"$f":"(F91-F62)/R20","v":129.20689655172413},{"$f":"(F119-F91)/S20","v":145.82142857142858},{"$f":"(F147-F119)/T20","v":138.92857142857142},{"$f":"(F175-F147)/U20","v":178.42857142857142}]
[22,2723,14,2732,13,2737,null,null,null,null,0,211]
[11,2843,12,2845,13,2850,null,null,null,null,0,111]
[22,3019,14,3027,13,3031,null,null,null,null,0,211]
[11,3141,21,3157,22,3162,null,null,null,null,0,122]
[22,3169,14,3178,24,3192,null,null,null,null,0,212]
[11,3303,21,3323,22,3329,null,null,null,null,0,122]
[11,3465,12,3469,24,3488,null,null,null,null,0,112]
[11,3598,12,3602,24,3621,null,null,null,null,0,112]
[22,3733,14,3748,13,3763,null,null,null,null,0,211]
[22,3860,23,3865,13,3873,null,null,null,null,0,221]
[22,3972,23,3974,24,3981,null,null,null,null,0,222]
[22,4080,14,4089,13,4096,null,null,null,null,0,211]
[22,4194,14,4205,13,4212,null,null,null,null,0,211]
[11,4312,12,4316,24,4326,null,null,null,null,0,112]
[22,4420,14,4433,13,4436,null,null,null,null,0,211]
[22,4869,23,4875,24,4881,null,null,null,null,0,222]
[22,4980,14,4995,13,5004,null,null,null,null,0,211]
[22,5103,23,5108,13,5115,null,null,null,null,0,221]
[22,5211,14,5237,24,5256,null,null,null,null,0,212]
[22,5355,23,5359,13,5385,null,null,null,null,0,221]
[22,5485,23,5489,24,5495,null,null,null,null,0,222]
[22,5671,14,5684,24,5709,null,null,null,null,0,212]
[22,5809,23,5814,24,5819,null,null,null,null,0,222]
[22,5915,14,5928,13,5932,null,null,null,null,0,211]
[22,6033,23,6037,13,6047,null,null,null,null,0,221]
[22,6145,14,6154,13,6161,null,null,null,null,0,211]
[22,6267,23,6273,13,6281,null,null,null,null,0,221]
[22,6378,14,6392,24,6409,null,null,null,null,0,212]
[22,6508,23,6512,13,6521,null,null,null,null,0,221]
[22,6620,23,6625,13,6636,null,null,null,null,0,221]
[22,6825,23,6864,13,6881,null,null,null,null,0,221]
[22,6981,14,6994,13,7000,null,null,null,null,0,211]
[22,7098,23,7103,13,7115,null,null,null,null,0,221]
[22,7245,14,7255,13,7261,null,null,null,null,0,211]
[22,7356,23,7362,13,7370,null,null,null,null,0,221]
[22,7608,23,7613,13,7622,null,null,null,null,0,221]
[22,7717,23,7723,24,7731,null,null,null,null,0,222]
[22,7829,14,7840,24,7859,null,null,null,null,0,212]
[22,7959,14,7971,13,7976,null,null,null,null,0,211]
[22,8070,23,8074,24,8088,null,null,null,null,0,222]
[11,8195,12,8198,24,8218,null,null,null,null,0,112]
[11,8325,12,8328,24,8346,null,null,null,null,0,112]
[22,8442,23,8446,13,8455,null,null,null,null,0,221]
[11,8573,12,8579,24,8590,null,null,null,null,0,112]
[22,8688,14,8706,13,8712,null,null,null,null,0,211]
[11,8819,12,8823,24,8837,null,null,null,null,0,112]
[22,8928,14,8945,13,8950,null,null,null,null,0,211]
[22,9046,14,9061,13,9068,null,null,null,null,0,211]
[22,9164,23,9168,24,9175,null,null,null,null,0,222]
[22,9267,23,9269,13,9283,null,null,null,null,0,221]
[22,9379,23,9383,24,9387,null,null,null,null,0,222]
[22,9484,14,9497,24,9512,null,null,null,null,0,212]
[22,9731,23,9737,24,9748,null,null,null,null,0,222]
[22,9848,23,9859,13,9868,null,null,null,null,0,221]
[22,9963,23,9974,13,9983,null,null,null,null,0,221]
[22,10082,14,10091,13,10097,null,null,null,null,0,211]
[11,10206,12,10213,24,10224,null,null,null,null,0,112]
[22,10322,14,10333,13,10337,null,null,null,null,0,211]
[22,10440,14,10450,13,10461,null,null,null,null,0,211]
[22,10560,23,10568,24,10575,null,null,null,null,0,222]
[22,10743,14,10765,13,10772,null,null,null,null,0,211]
[22,10869,14,10882,24,10897,null,null,null,null,0,212]
[22,10994,14,11004,13,11008,null,null,null,null,0,211]
[22,11106,23,11108,24,11115,null,null,null,null,0,222]
[22,11215,14,11224,13,11227,null,null,null,null,0,211]
[22,11327,23,11337,24,11343,null,null,null,null,0,222]
[22,11438,23,11443,13,11451,null,null,null,null,0,221]
[22,11552,23,11559,13,11578,null,null,null,null,0,221]
[22,11675,23,11680,24,11685,null,null,null,null,0,222]
[11,11782,21,11787,22,11793,null,null,null,null,0,122]
[22,11891,14,11908,24,11922,null,null,null,null,0,212]
[11,12035,21,12055,22,12060,null,null,null,null,0,122]
[22,12157,14,12170,13,12174,null,null,null,null,0,211]
[22,12346,14,12362,13,12368,null,null,null,null,0,211]
[22,12466,14,12478,13,12481,null,null,null,null,0,211]
[22,12581,14,12591,13,12596,null,null,null,null,0,211]
[22,12700,14,12711,24,12731,null,null,null,null,0,212]
[22,12856,23,12860,24,12867,null,null,null,null,0,222]
[22,12964,14,12974,13,12981,null,null,null,null,0,211]
[22,13076,14,13098,13,13110,null,null,null,null,0,211]
[22,13206,23,13214,13,13238,null,null,null,null,0,221]
[22,13335,23,13365,24,13369,null,null,null,null,0,222]
[22,13470,14,13490,13,13497,null,null,null,null,0,211]
[11,13612,21,13628,22,13631,null,null,null,null,0,122]
[22,13727,23,13732,13,13745,null,null,null,null,0,221]
[22,13846,23,13850,13,13857,null,null,null,null,0,221]
[22,13954,23,13960,24,13972,null,null,null,null,0,222]
[22,14083,23,14089,13,14108,null,null,null,null,0,221]
[22,14209,23,14213,24,14220,null,null,null,null,0,222]
[22,14962,23,14967,24,14972,null,null,null,null,0,222]
[22,15069,23,15079,13,15091,null,null,null,null,0,221]
[22,15188,14,15199,24,15215,null,null,null,null,0,212]
[22,15314,14,15326,24,15342,null,null,null,null,0,212]
[22,15439,23,15445,24,15452,null,null,null,null,0,222]
[22,15554,23,15557,24,15563,null,null,null,null,0,222]
[22,15660,23,15664,13,15672,null,null,null,null,0,221]
[22,15777,23,15782,13,15792,null,null,null,null,0,221]
[22,15887,23,15892,24,15897,null,null,null,null,0,222]
[22,16076,23,16111,13,16121,null,null,null,null,0,221]
[11,16220,12,16225,24,16234,null,null,null,null,0,112]
[22,16328,23,16333,24,16336,null,null,null,null,0,222]
[22,16436,23,16460,24,16465,null,null,null,null,0,222]
[11,16576,12,16584,24,16595,null,null,null,null,0,112]
[22,16713,23,16722,13,16737,null,null,null,null,0,221]
[22,16834,14,16848,24,16861,null,null,null,null,0,212]
[22,16958,14,16969,13,16973,null,null,null,null,0,211]
[22,17074,23,17080,13,17086,null,null,null,null,0,221]
[22,17185,23,17192,13,17201,null,null,null,null,0,221]
[11,17312,12,17329,24,17342,null,null,null,null,0,112]
[11,17749,21,17772,22,17775,null,null,null,null,0,122]
[22,17875,23,17880,13,17888,null,null,null,null,0,221]
[22,17986,14,17997,24,18017,null,null,null,null,0,212]
[22,18114,23,18119,24,18124,null,null,null,null,0,222]
[11,18220,12,18224,13,18228,null,null,null,null,0,111]
[11,18338,21,18354,22,18358,null,null,null,null,0,122]
[22,18475,14,18491,24,18507,null,null,null,null,0,212]
[22,18604,23,18609,13,18619,null,null,null,null,0,221]
[22,18837,23,18843,24,18848,null,null,null,null,0,222]
[11,18966,21,18977,22,18981,null,null,null,null,0,122]
[22,19077,14,19090,13,19099,null,null,null,null,0,211]
[22,19198,14,19209,24,19228,null,null,null,null,0,212]
[11,19335,12,19339,13,19344,null,null,null,null,0,111]
[22,19473,23,19490,24,19493,null,null,null,null,0,222]
[22,19594,14,19604,13,19610,null,null,null,null,0,211]
[22,19706,23,19710,13,19729,null,null,null,null,0,221]
[22,19827,23,19833,13,19844,null,null,null,null,0,221]
[22,19943,14,19953,13,19956,null,null,null,null,0,211]
[22,20057,23,20065,13,20075,null,null,null,null,0,221]
[22,20176,23,20184,24,20191,null,null,null,null,0,222]
[22,21533,23,21632,24,21639,null,null,null,null,0,222]
[11,21849,21,21912,11,21924,null,null,null,null,0,121]
[22,22069,23,22073,13,22093,null,null,null,null,0,221]
[22,22194,23,22198,24,22203,null,null,null,null,0,222]
[22,22297,14,22312,13,22316,null,null,null,null,0,211]
[22,22416,14,22429,13,22433,null,null,null,null,0,211]
[22,22556,14,22573,13,22576,null,null,null,null,0,211]
[22,22674,23,22685,13,22697,null,null,null,null,0,221]
[22,22832,23,22838,24,22843,null,null,null,null,0,222]
[11,22939,12,22942,13,22953,null,null,null,null,0,111]
[22,23125,14,23143,13,23154,null,null,null,null,0,211]
[11,23255,12,23259,24,23273,null,null,null,null,0,112]
[11,23372,21,23381,22,23385,null,null,null,null,0,122]
[11,23490,12,23496,24,23511,null,null,null,null,0,112]
[22,23629,23,23632,24,23638,null,null,null,null,0,222]
[11,23744,21,23754,22,23759,null,null,null,null,0,122]
[22,23858,14,23867,13,23870,null,null,null,null,0,211]
[11,23963,21,23965,11,23977,null,null,null,null,1,121]

{"sheet":"!M216A0I.sha","index":9,"n_rows":185,"n_cols":48,"rows_kept":185,"cut":false,"hidden":false,"merged":[[4,39,4,42],[5,39,5,40],[4,44,4,47],[5,44,5,45],[4,24,4,27],[5,24,5,25],[4,29,4,32],[5,29,5,30],[4,34,4,37],[5,34,5,35],[1,1,1,2],[5,13,5,14],[18,13,18,14],[19,13,19,14],[4,19,4,22],[5,19,5,20]]}
["Report for:!M216A0I.sha"]
["Date:","<date>"]
["Hen:","<hen>",null,null,null,"Correct Sequence",{"$f":"Start!J2","v":121},null,null,null,null,null,null,null,null,"Total Sequences in Data",{"$f":"4994-COUNTBLANK(L7:L5000)","v":179},null,null,null,null,"Total Sequences in Block Data",{"$f":"COUNTA(L7:L36)","v":30},null,null,null,"Total Sequences in Block Data",{"$f":"COUNTA(L37:L66)","v":30},null,null,null,"Total Sequences in Block Data",{"$f":"COUNTA(L67:L95)","v":29},null,null,null,"Total Sequences in Block Data",{"$f":"COUNTA(L96:L125)","v":30},null,null,null,"Total Sequences in Block Data",{"$f":"COUNTA(L126:L155)","v":30},null,null,null,"Total Sequences in Block Data",{"$f":"COUNTA(L156:L185)","v":30}]
[null,null,null,null,null,null,null,null,null,null,null,null,null,null,null,"Total Sequences in Summary",{"$f":"SUM(O7:O14)","v":179},null,null,null,null,"Total Sequences in Block Summary",{"$f":"SUM(U7:U14)","v":30},null,null,null,"Total Sequences in Block Summary",{"$f":"SUM(Z7:Z14)","v":30},null,null,null,"Total Sequences in Block Summary",{"$f":"SUM(AE7:AE14)","v":29},null,null,null,"Total Sequences in Block Summary",{"$f":"SUM(AJ7:AJ14)","v":30},null,null,null,"Total Sequences in Block Summary",{"$f":"SUM(AO7:AO14)","v":30},null,null,null,"Total Sequences in Block Summary",{"$f":"SUM(AT7:AT14)","v":30}]
[null,null,null,null,null,null,null,null,null,null,null,null,null,null,null,null,null,null,null,"Block 1",null,null,null,null,"Block 2",null,null,null,null,"Block 3",null,null,null,null,"Block 4",null,null,null,null,"Block 5",null,null,null,null,"Block 6"]
["Sequence\nComponent\n1","Time\n1","Sequence\nComponent\n2","Time\n2","Sequence\nComponent\n3","Time\n3","Sequence\nComponent\n4","Time\n4","Sequence\nComponent\n5","Time\n5","Correct?\n0=No 1=Yes","Sequence",null,"Frequency",null,"Relative Frequency","Variability",null,null,"Frequency",null,"Relative Frequency","Variability",null,"Frequency",null,"Relative Frequency","Variability",null,"Frequency",null,"Relative Frequency","Variability",null,"Frequency",null,"Relative Frequency","Variability",null,"Frequency",null,"Relative Frequency","Variability",null,"Frequency",null,"Relative Frequency","Variability"]
[22,49,23,53,24,59,null,null,null,null,0,222,null,111,{"$f":"COUNTIF($L$7:$L$500,N7)","v":36},{"$f":"O7/$Q$4","v":0.2011173184357542},{"$f":"IF(P7=0,0,(P7*((LOG(P7))/LOG(2))))","v":-0.46536350798653631},null,null,{"$f":"N7","v":111},{"$f":"COUNTIF(L7:L36,T7)","v":6},{"$f":"U7/(W4-U9)","v":0.2},{"$f":"IF(V7=0,0,(V7*((LOG(V7))/LOG(2))))","v":-0.46438561897747244},null,{"$f":"N7","v":111},{"$f":"COUNTIF(L37:L66,Y7)","v":8},{"$f":"Z7/(AB4-Z9)","v":0.26666666666666666},{"$f":"IF(AA7=0,0,(AA7*((LOG(AA7))/LOG(2))))","v":-0.50850415882893829},null,{"$f":"N7","v":111},{"$f":"COUNTIF(L67:L95,AD7)","v":7},{"$f":"AE7/(AG4-AE9)","v":0.2413793103448276},{"$f":"IF(AF7=0,0,(AF7*((LOG(AF7))/LOG(2))))","v":-0.49497870729275095},null,{"$f":"N7","v":111},{"$f":"COUNTIF(L96:L125,AI7)","v":5},{"$f":"AJ7/(AL4-AJ9)","v":0.16666666666666666},{"$f":"IF(AK7=0,0,(AK7*((LOG(AK7))/LOG(2))))","v":-0.43082708345352599},null,{"$f":"N7","v":111},{"$f":"COUNTIF(L126:L155,AN7)","v":4},{"$f":"AO7/(AQ4-AO9)","v":0.13333333333333333},{"$f":"IF(AP7=0,0,(AP7*((LOG(AP7))/LOG(2))))","v":-0.3875854127478025},null,{"$f":"N7","v":111},{"$f":"COUNTIF(L156:L185,AS7)","v":6},{"$f":"AT7/(AV4-AT9)","v":0.2},{"$f":"IF(AU7=0,0,(AU7*((LOG(AU7))/LOG(2))))","v":-0.46438561897747244}]
[22,247,23,254,13,264,null,null,null,null,0,221,null,112,{"$f":"COUNTIF($L$7:$L$500,N8)","v":24},{"$f":"O8/$Q$4","v":0.13407821229050279},{"$f":"IF(P8=0,0,(P8*((LOG(P8))/LOG(2))))","v":-0.38867306501136539},null,null,{"$f":"N8","v":112},{"$f":"COUNTIF(L7:L36,T8)","v":3},{"$f":"U8/(W4-U9)","v":0.1},{"$f":"IF(V8=0,0,(V8*((LOG(V8))/LOG(2))))","v":-0.33219280948873625},null,{"$f":"N8","v":112},{"$f":"COUNTIF(L37:L66,Y8)","v":6},{"$f":"Z8/(AB4-Z9)","v":0.2},{"$f":"IF(AA8=0,0,(AA8*((LOG(AA8))/LOG(2))))","v":-0.46438561897747244},null,{"$f":"N8","v":112},{"$f":"COUNTIF(L67:L95,AD8)","v":5},{"$f":"AE8/(AG4-AE9)","v":0.17241379310344829},{"$f":"IF(AF8=0,0,(AF8*((LOG(AF8))/LOG(2))))","v":-0.43725050004141547},null,{"$f":"N8","v":112},{"$f":"COUNTIF(L96:L125,AI8)","v":2},{"$f":"AJ8/(AL4-AJ9)","v":6.6666666666666666E-2},{"$f":"IF(AK8=0,0,(AK8*((LOG(AK8))/LOG(2))))","v":-0.26045937304056793},null,{"$f":"N8","v":112},{"$f":"COUNTIF(L126:L155,AN8)","v":3},{"$f":"AO8/(AQ4-AO9)","v":0.1},{"$f":"IF(AP8=0,0,(AP8*((LOG(AP8))/LOG(2))))","v":-0.33219280948873625},null,{"$f":"N8","v":112},{"$f":"COUNTIF(L156:L185,AS8)","v":5},{"$f":"AT8/(AV4-AT9)","v":0.16666666666666666},{"$f":"IF(AU8=0,0,(AU8*((LOG(AU8))/LOG(2))))","v":-0.43082708345352599}]
[22,388,14,401,13,408,null,null,null,null,0,211,null,121,{"$f":"COUNTIF($L$7:$L$500,N9)","v":0},{"$f":"O9/$Q$4","v":0},{"$f":"IF(P9=0,0,(P9*((LOG(P9))/LOG(2))))","v":0},null,null,{"$f":"N9","v":121},{"$f":"COUNTIF(L7:L36,T9)","v":0},null,null,null,{"$f":"N9","v":121},{"$f":"COUNTIF(L37:L66,Y9)","v":0},null,null,null,{"$f":"N9","v":121},{"$f":"COUNTIF(L67:L95,AD9)","v":0},null,null,null,{"$f":"N9","v":121},{"$f":"COUNTIF(L96:L125,AI9)","v":0},null,null,null,{"$f":"N9","v":121},{"$f":"COUNTIF(L126:L155,AN9)","v":0},null,null,null,{"$f":"N9","v":121},{"$f":"COUNTIF(L156:L185,AS9)","v":0}]
[22,502,14,519,24,543,null,null,null,null,0,212,null,122,{"$f":"COUNTIF($L$7:$L$500,N10)","v":18},{"$f":"O10/$Q$4","v":0.1005586592178771},{"$f":"IF(P10=0,0,(P10*((LOG(P10))/LOG(2))))","v":-0.33324041321114523},null,null,{"$f":"N10","v":122},{"$f":"COUNTIF(L7:L36,T10)","v":3},{"$f":"U10/(W4-U9)","v":0.1},{"$f":"IF(V10=0,0,(V10*((LOG(V10))/LOG(2))))","v":-0.33219280948873625},null,{"$f":"N10","v":122},{"$f":"COUNTIF(L37:L66,Y10)","v":5},{"$f":"Z10/(AB4-Z9)","v":0.16666666666666666},{"$f":"IF(AA10=0,0,(AA10*((LOG(AA10))/LOG(2))))","v":-0.43082708345352599},null,{"$f":"N10","v":122},{"$f":"COUNTIF(L67:L95,AD10)","v":2},{"$f":"AE10/(AG4-AE9)","v":6.8965517241379309E-2},{"$f":"IF(AF10=0,0,(AF10*((LOG(AF10))/LOG(2))))","v":-0.26606765483638428},null,{"$f":"N10","v":122},{"$f":"COUNTIF(L96:L125,AI10)","v":3},{"$f":"AJ10/(AL4-AJ9)","v":0.1},{"$f":"IF(AK10=0,0,(AK10*((LOG(AK10))/LOG(2))))","v":-0.33219280948873625},null,{"$f":"N10","v":122},{"$f":"COUNTIF(L126:L155,AN10)","v":1},{"$f":"AO10/(AQ4-AO9)","v":3.3333333333333333E-2},{"$f":"IF(AP10=0,0,(AP10*((LOG(AP10))/LOG(2))))","v":-0.16356301985361729},null,{"$f":"N10","v":122},{"$f":"COUNTIF(L156:L185,AS10)","v":4},{"$f":"AT10/(AV4-AT9)","v":0.13333333333333333},{"$f":"IF(AU10=0,0,(AU10*((LOG(AU10))/LOG(2))))","v":-0.3875854127478025}]
[22,662,14,688,13,696,null,null,null,null,0,211,null,211,{"$f":"COUNTIF($L$7:$L$500,N11)","v":63},{"$f":"O11/$Q$4","v":0.35195530726256985},{"$f":"IF(P11=0,0,(P11*((LOG(P11))/LOG(2))))","v":-0.53023328931370628},null,null,{"$f":"N11","v":211},{"$f":"COUNTIF(L7:L36,T11)","v":8},{"$f":"U11/(W4-U9)","v":0.26666666666666666},{"$f":"IF(V11=0,0,(V11*((LOG(V11))/LOG(2))))","v":-0.50850415882893829},null,{"$f":"N11","v":211},{"$f":"COUNTIF(L37:L66,Y11)","v":7},{"$f":"Z11/(AB4-Z9)","v":0.23333333333333334},{"$f":"IF(AA11=0,0,(AA11*((LOG(AA11))/LOG(2))))","v":-0.48989165716187993},null,{"$f":"N11","v":211},{"$f":"COUNTIF(L67:L95,AD11)","v":11},{"$f":"AE11/(AG4-AE9)","v":0.37931034482758619},{"$f":"IF(AF11=0,0,(AF11*((LOG(AF11))/LOG(2))))","v":-0.53048424625493174},null,{"$f":"N11","v":211},{"$f":"COUNTIF(L96:L125,AI11)","v":12},{"$f":"AJ11/(AL4-AJ9)","v":0.4},{"$f":"IF(AK11=0,0,(AK11*((LOG(AK11))/LOG(2))))","v":-0.52877123795494496},null,{"$f":"N11","v":211},{"$f":"COUNTIF(L126:L155,AN11)","v":15},{"$f":"AO11/(AQ4-AO9)","v":0.5},{"$f":"IF(AP11=0,0,(AP11*((LOG(AP11))/LOG(2))))","v":-0.5},null,{"$f":"N11","v":211},{"$f":"COUNTIF(L156:L185,AS11)","v":10},{"$f":"AT11/(AV4-AT9)","v":0.33333333333333331},{"$f":"IF(AU11=0,0,(AU11*((LOG(AU11))/LOG(2))))","v":-0.52832083357371862}]
[22,793,14,804,13,816,null,null,null,null,0,211,null,212,{"$f":"COUNTIF($L$7:$L$500,N12)","v":8},{"$f":"O12/$Q$4","v":4.4692737430167599E-2},{"$f":"IF(P12=0,0,(P12*((LOG(P12))/LOG(2))))","v":-0.20039400121851425},null,null,{"$f":"N12","v":212},{"$f":"COUNTIF(L7:L36,T12)","v":4},{"$f":"U12/(W4-U9)","v":0.13333333333333333},{"$f":"IF(V12=0,0,(V12*((LOG(V12))/LOG(2))))","v":-0.3875854127478025},null,{"$f":"N12","v":212},{"$f":"COUNTIF(L37:L66,Y12)","v":0},{"$f":"Z12/(AB4-Z9)","v":0},{"$f":"IF(AA12=0,0,(AA12*((LOG(AA12))/LOG(2))))","v":0},null,{"$f":"N12","v":212},{"$f":"COUNTIF(L67:L95,AD12)","v":1},{"$f":"AE12/(AG4-AE9)","v":3.4482758620689655E-2},{"$f":"IF(AF12=0,0,(AF12*((LOG(AF12))/LOG(2))))","v":-0.16751658603888178},null,{"$f":"N12","v":212},{"$f":"COUNTIF(L96:L125,AI12)","v":1},{"$f":"AJ12/(AL4-AJ9)","v":3.3333333333333333E-2},{"$f":"IF(AK12=0,0,(AK12*((LOG(AK12))/LOG(2))))","v":-0.16356301985361729},null,{"$f":"N12","v":212},{"$f":"COUNTIF(L126:L155,AN12)","v":1},{"$f":"AO12/(AQ4-AO9)","v":3.3333333333333333E-2},{"$f":"IF(AP12=0,0,(AP12*((LOG(AP12))/LOG(2))))","v":-0.16356301985361729},null,{"$f":"N12","v":212},{"$f":"COUNTIF(L156:L185,AS12)","v":1},{"$f":"AT12/(AV4-AT9)","v":3.3333333333333333E-2},{"$f":"IF(AU12=0,0,(AU12*((LOG(AU12))/LOG(2))))","v":-0.16356301985361729}]
[11,923,21,942,22,954,null,null,null,null,0,122,null,221,{"$f":"COUNTIF($L$7:$L$500,N13)","v":20},{"$f":"O13/$Q$4","v":0.11173184357541899},{"$f":"IF(P13=0,0,(P13*((LOG(P13))/LOG(2))))","v":-0.3532835399303792},null,null,{"$f":"N13","v":221},{"$f":"COUNTIF(L7:L36,T13)","v":2},{"$f":"U13/(W4-U9)","v":6.6666666666666666E-2},{"$f":"IF(V13=0,0,(V13*((LOG(V13))/LOG(2))))","v":-0.26045937304056793},null,{"$f":"N13","v":221},{"$f":"COUNTIF(L37:L66,Y13)","v":4},{"$f":"Z13/(AB4-Z9)","v":0.13333333333333333},{"$f":"IF(AA13=0,0,(AA13*((LOG(AA13))/LOG(2))))","v":-0.3875854127478025},null,{"$f":"N13","v":221},{"$f":"COUNTIF(L67:L95,AD13)","v":2},{"$f":"AE13/(AG4-AE9)","v":6.8965517241379309E-2},{"$f":"IF(AF13=0,0,(AF13*((LOG(AF13))/LOG(2))))","v":-0.26606765483638428},null,{"$f":"N13","v":221},{"$f":"COUNTIF(L96:L125,AI13)","v":6},{"$f":"AJ13/(AL4-AJ9)","v":0.2},{"$f":"IF(AK13=0,0,(AK13*((LOG(AK13))/LOG(2))))","v":-0.46438561897747244},null,{"$f":"N13","v":221},{"$f":"COUNTIF(L126:L155,AN13)","v":5},{"$f":"AO13/(AQ4-AO9)","v":0.16666666666666666},{"$f":"IF(AP13=0,0,(AP13*((LOG(AP13))/LOG(2))))","v":-0.43082708345352599},null,{"$f":"N13","v":221},{"$f":"COUNTIF(L156:L185,AS13)","v":1},{"$f":"AT13/(AV4-AT9)","v":3.3333333333333333E-2},{"$f":"IF(AU13=0,0,(AU13*((LOG(AU13))/LOG(2))))","v":-0.16356301985361729}]
[22,964,14,978,24,995,null,null,null,null,0,212,null,222,{"$f":"COUNTIF($L$7:$L$500,N14)","v":10},{"$f":"O14/$Q$4","v":5.5865921787709494E-2},{"$f":"IF(P14=0,0,(P14*((LOG(P14))/LOG(2))))","v":-0.23250769175289909},null,null,{"$f":"N14","v":222},{"$f":"COUNTIF(L7:L36,T14)","v":4},{"$f":"U14/(W4-U9)","v":0.13333333333333333},{"$f":"IF(V14=0,0,(V14*((LOG(V14))/LOG(2))))","v":-0.3875854127478025},null,{"$f":"N14","v":222},{"$f":"COUNTIF(L37:L66,Y14)","v":0},{"$f":"Z14/(AB4-Z9)","v":0},{"$f":"IF(AA14=0,0,(AA14*((LOG(AA14))/LOG(2))))","v":0},null,{"$f":"N14","v":222},{"$f":"COUNTIF(L67:L95,AD14)","v":1},{"$f":"AE14/(AG4-AE9)","v":3.4482758620689655E-2},{"$f":"IF(AF14=0,0,(AF14*((LOG(AF14))/LOG(2))))","v":-0.16751658603888178},null,{"$f":"N14","v":222},{"$f":"COUNTIF(L96:L125,AI14)","v":1},{"$f":"AJ14/(AL4-AJ9)","v":3.3333333333333333E-2},{"$f":"IF(AK14=0,0,(AK14*((LOG(AK14))/LOG(2))))","v":-0.16356301985361729},null,{"$f":"N14","v":222},{"$f":"COUNTIF(L126:L155,AN14)","v":1},{"$f":"AO14/(AQ4-AO9)","v":3.3333333333333333E-2},{"$f":"IF(AP14=0,0,(AP14*((LOG(AP14))/LOG(2))))","v":-0.16356301985361729},null,{"$f":"N14","v":222},{"$f":"COUNTIF(L156:L185,AS14)","v":3},{"$f":"AT14/(AV4-AT9)","v":0.1},{"$f":"IF(AU14=0,0,(AU14*((LOG(AU14))/LOG(2))))","v":-0.33219280948873625}]
[22,1094,23,1098,24,1107,null,null,null,null,0,222,null,null,null,{"$f":"SUM(P7:P14)","v":1},{"$f":"-SUM(Q7:Q14)","v":2.5036955084245456},null,null,null,null,{"$f":"SUM(V7:V14)","v":1},{"$f":"-SUM(W7:W14)","v":2.6729055953200564},null,null,null,{"$f":"SUM(AA7:AA14)","v":1},{"$f":"-SUM(AB7:AB14)","v":2.2811939311696192},null,null,null,{"$f":"SUM(AF7:AF14)","v":1},{"$f":"-SUM(AG7:AG14)","v":2.3298819353396305},null,null,null,{"$f":"SUM(AK7:AK14)","v":1.0000000000000002},{"$f":"-SUM(AL7:AL14)","v":2.3437621626224825},null,null,null,{"$f":"SUM(AP7:AP14)","v":0.99999999999999989},{"$f":"-SUM(AQ7:AQ14)","v":2.1412943652509164},null,null,null,{"$f":"SUM(AU7:AU14)","v":0.99999999999999989},{"$f":"-SUM(AV7:AV14)","v":2.4704377979484899}]
[22,1203,23,1206,13,1235,null,null,null,null,0,221,null,null,null,"U=",{"$f":"Q15/(LOG(Q4)/LOG(2))","v":0.33454798767638599},null,null,null,null,"U1=",{"$f":"W15/(LOG(W4)/LOG(2))","v":0.54472492166672837},null,null,null,"U2=",{"$f":"AB15/(LOG(AB4)/LOG(2))","v":0.46489602462528945},null,null,null,"U3=",{"$f":"AG15/(LOG(AG4)/LOG(2))","v":0.47959881639644975},null,null,null,"U4=",{"$f":"AL15/(LOG(AL4)/LOG(2))","v":0.47764712030059542},null,null,null,"U5=",{"$f":"AQ15/(LOG(AQ4)/LOG(2))","v":0.43638518600094606},null,null,null,"U6=",{"$f":"AV15/(LOG(AV4)/LOG(2))","v":0.50346298736707895}]
[22,1334,14,1360,13,1364,null,null,null,null,0,211]
[11,1963,21,1976,22,1980,null,null,null,null,0,122]
[11,2087,12,2091,24,2107,null,null,null,null,0,112,null,"Total Target Seq"]
[11,2296,21,2312,22,2316,null,null,null,null,0,122,null,{"$f":"COUNTIF(L7:L185,G3)","v":0},null,30,30,29,30,30,30]
[22,2413,23,2417,24,2421,null,null,null,null,0,222,null,null,null,"% of reinforcement given in 6 equal intervals based on number of trials "]
[11,2543,12,2557,24,2575,null,null,null,null,0,112,null,null,null,"%_1","%_2","%_3","%_4","%_5","%_6"]
[11,2671,12,2679,24,2690,null,null,null,null,0,112,null,null,"target sequence",{"$f":"$G$3","v":121},{"$f":"$G$3","v":121},{"$f":"$G$3","v":121},{"$f":"$G$3","v":121},{"$f":"$G$3","v":121},{"$f":"$G$3","v":121}]
[11,2791,12,2796,13,2802,null,null,null,null,0,111,null,null,"total reinforcement",{"$f":"U9","v":0},{"$f":"Z9","v":0},{"$f":"AE9","v":0},{"$f":"AJ9","v":0},{"$f":"AO9","v":0},{"$f":"AT9","v":0}]
[22,2910,14,2919,13,2925,null,null,null,null,0,211,null,null,"% target"]
[22,3022,14,3033,13,3039,null,null,null,null,0,211,null,null,"CCRF"]
[11,3144,12,3151,13,3163,null,null,null,null,0,111,null,null,"% CCRf"]
[11,3261,12,3267,13,3269,null,null,null,null,0,111,null,null,"average response rate",{"$f":"F36/P20","v":140.63333333333333},{"$f":"(F66-F36)/Q20","v":127.83333333333333},{"$f":"(F95-F66)/R20","v":130.37931034482759},{"$f":"(F125-F95)/S20","v":133.56666666666666},{"$f":"(F155-F125)/T20","v":132.4},{"$f":"(F185-F155)/U20","v":132.5}]
[11,3366,12,3371,13,3377,null,null,null,null,0,111]
[22,3476,14,3492,24,3515,null,null,null,null,0,212]
[11,3610,12,3615,13,3621,null,null,null,null,0,111]
[22,3720,23,3726,24,3732,null,null,null,null,0,222]
[22,3830,14,3845,24,3868,null,null,null,null,0,212]
[11,3973,12,3978,13,3984,null,null,null,null,0,111]
[22,4081,14,4092,13,4100,null,null,null,null,0,211]
[22,4197,14,4211,13,4219,null,null,null,null,0,211]
[22,4388,14,4399,13,4406,null,null,null,null,0,211]
[11,4513,12,4519,24,4535,null,null,null,null,0,112]
[22,4633,23,4636,13,4649,null,null,null,null,0,221]
[22,4747,23,4751,13,4762,null,null,null,null,0,221]
[11,4864,12,4881,13,4888,null,null,null,null,0,111]
[11,4989,12,4994,13,4997,null,null,null,null,0,111]
[22,5094,14,5105,13,5112,null,null,null,null,0,211]
[11,5229,21,5248,22,5262,null,null,null,null,0,122]
[22,5361,14,5373,13,5382,null,null,null,null,0,211]
[11,5489,21,5514,22,5522,null,null,null,null,0,122]
[11,5631,12,5638,13,5647,null,null,null,null,0,111]
[11,5745,12,5750,13,5757,null,null,null,null,0,111]
[11,5865,21,5887,22,5895,null,null,null,null,0,122]
[11,5988,12,6001,13,6004,null,null,null,null,0,111]
[11,6100,12,6108,24,6118,null,null,null,null,0,112]
[11,6226,21,6240,22,6245,null,null,null,null,0,122]
[11,6341,12,6345,24,6363,null,null,null,null,0,112]
[11,6486,21,6500,22,6506,null,null,null,null,0,122]
[22,6603,23,6607,13,6615,null,null,null,null,0,221]
[11,6714,12,6720,13,6746,null,null,null,null,0,111]
[11,6853,12,6867,24,6878,null,null,null,null,0,112]
[11,6979,12,6984,13,6993,null,null,null,null,0,111]
[22,7091,14,7106,13,7117,null,null,null,null,0,211]
[22,7215,14,7225,13,7232,null,null,null,null,0,211]
[11,7337,12,7340,24,7355,null,null,null,null,0,112]
[11,7578,12,7584,13,7595,null,null,null,null,0,111]
[22,7696,14,7707,13,7715,null,null,null,null,0,211]
[11,7813,12,7820,24,7831,null,null,null,null,0,112]
[22,7929,14,7939,13,7946,null,null,null,null,0,211]
[22,8042,23,8047,13,8054,null,null,null,null,0,221]
[22,8152,14,8161,13,8167,null,null,null,null,0,211]
[11,8275,12,8281,24,8300,null,null,null,null,0,112]
[11,8397,12,8402,13,8408,null,null,null,null,0,111]
[22,8504,14,8518,13,8529,null,null,null,null,0,211]
[22,8627,14,8640,24,8655,null,null,null,null,0,212]
[22,8751,14,8762,13,8770,null,null,null,null,0,211]
[11,8871,12,8882,24,8909,null,null,null,null,0,112]
[11,9017,12,9024,13,9032,null,null,null,null,0,111]
[11,9144,12,9151,13,9163,null,null,null,null,0,111]
[22,9260,14,9270,13,9274,null,null,null,null,0,211]
[22,9376,14,9388,13,9397,null,null,null,null,0,211]
[22,9494,23,9498,24,9504,null,null,null,null,0,222]
[11,9602,12,9612,24,9629,null,null,null,null,0,112]
[22,9728,14,9738,13,9743,null,null,null,null,0,211]
[11,9849,12,9855,13,9862,null,null,null,null,0,111]
[11,9968,12,9972,13,9980,null,null,null,null,0,111]
[22,10362,23,10368,13,10380,null,null,null,null,0,221]
[22,10482,14,10491,13,10498,null,null,null,null,0,211]
[11,10600,21,10615,22,10619,null,null,null,null,0,122]
[11,10732,12,10740,24,10752,null,null,null,null,0,112]
[22,10848,14,10860,13,10866,null,null,null,null,0,211]
[22,10963,23,10973,13,10980,null,null,null,null,0,221]
[11,11083,21,11095,22,11100,null,null,null,null,0,122]
[11,11209,12,11213,13,11217,null,null,null,null,0,111]
[22,11313,14,11323,13,11326,null,null,null,null,0,211]
[11,11439,12,11456,24,11469,null,null,null,null,0,112]
[22,11573,14,11581,13,11587,null,null,null,null,0,211]
[22,11689,14,11699,13,11709,null,null,null,null,0,211]
[11,11822,12,11829,13,11835,null,null,null,null,0,111]
[22,11936,14,11946,13,11953,null,null,null,null,0,211]
[11,12062,12,12065,13,12073,null,null,null,null,0,111]
[22,12171,14,12180,13,12187,null,null,null,null,0,211]
[22,12286,23,12290,13,12302,null,null,null,null,0,221]
[22,12401,14,12412,13,12421,null,null,null,null,0,211]
[22,12523,23,12527,13,12538,null,null,null,null,0,221]
[11,12644,12,12651,13,12668,null,null,null,null,0,111]
[11,12807,21,12819,22,12823,null,null,null,null,0,122]
[22,12921,14,12930,13,12935,null,null,null,null,0,211]
[11,13066,12,13075,13,13089,null,null,null,null,0,111]
[11,13195,21,13214,22,13218,null,null,null,null,0,122]
[22,13314,14,13323,13,13330,null,null,null,null,0,211]
[22,13427,14,13445,13,13453,null,null,null,null,0,211]
[11,13564,21,13579,22,13583,null,null,null,null,0,122]
[22,13685,14,13699,13,13702,null,null,null,null,0,211]
[22,13803,14,13818,24,13837,null,null,null,null,0,212]
[22,14095,23,14102,13,14111,null,null,null,null,0,221]
[22,14207,14,14218,13,14234,null,null,null,null,0,211]
[22,14330,23,14338,13,14347,null,null,null,null,0,221]
[22,14448,23,14453,13,14468,null,null,null,null,0,221]
[11,14573,12,14579,13,14588,null,null,null,null,0,111]
[22,14687,14,14696,13,14702,null,null,null,null,0,211]
[22,14915,23,14921,24,14925,null,null,null,null,0,222]
[22,15025,23,15031,13,15043,null,null,null,null,0,221]
[22,15189,14,15198,13,15204,null,null,null,null,0,211]
[11,15313,12,15321,13,15338,null,null,null,null,0,111]
[11,15452,12,15467,24,15478,null,null,null,null,0,112]
[22,15576,14,15588,13,15592,null,null,null,null,0,211]
[11,15703,12,15712,24,15725,null,null,null,null,0,112]
[22,15822,14,15834,13,15842,null,null,null,null,0,211]
[22,15940,14,15952,13,15959,null,null,null,null,0,211]
[22,16057,14,16075,13,16083,null,null,null,null,0,211]
[22,16186,14,16194,13,16202,null,null,null,null,0,211]
[22,16298,23,16302,13,16312,null,null,null,null,0,221]
[22,16423,23,16427,24,16433,null,null,null,null,0,222]
[11,16534,12,16540,24,16554,null,null,null,null,0,112]
[22,16650,23,16657,13,16666,null,null,null,null,0,221]
[22,16762,14,16773,13,16783,null,null,null,null,0,211]
[22,16956,14,16965,24,16987,null,null,null,null,0,212]
[22,17087,14,17098,13,17105,null,null,null,null,0,211]
[22,17203,14,17219,13,17226,null,null,null,null,0,211]
[11,17328,12,17335,24,17348,null,null,null,null,0,112]
[22,17446,14,17457,13,17463,null,null,null,null,0,211]
[22,17570,14,17579,13,17583,null,null,null,null,0,211]
[22,17681,14,17695,13,17707,null,null,null,null,0,211]
[11,17820,12,17829,13,17843,null,null,null,null,0,111]
[11,17959,12,17968,13,17980,null,null,null,null,0,111]
[22,18081,23,18085,13,18092,null,null,null,null,0,221]
[22,18215,23,18223,13,18235,null,null,null,null,0,221]
[22,18368,14,18381,13,18389,null,null,null,null,0,211]
[22,18529,14,18544,13,18553,null,null,null,null,0,211]
[11,18867,21,18876,22,18881,null,null,null,null,0,122]
[22,18979,14,18988,13,18994,null,null,null,null,0,211]
[11,19090,12,19094,13,19100,null,null,null,null,0,111]
[11,19193,12,19205,24,19214,null,null,null,null,0,112]
[22,19313,14,19322,13,19327,null,null,null,null,0,211]
[22,19425,14,19436,13,19442,null,null,null,null,0,211]
[11,19553,12,19557,13,19567,null,null,null,null,0,111]
[22,19667,14,19680,13,19690,null,null,null,null,0,211]
[22,19791,23,19798,13,19814,null,null,null,null,0,221]
[11,19914,12,19919,13,19925,null,null,null,null,0,111]
[22,20021,14,20031,13,20038,null,null,null,null,0,211]
[11,20135,21,20144,22,20148,null,null,null,null,0,122]
[22,20270,14,20277,13,20289,null,null,null,null,0,211]
[11,20385,12,20399,24,20414,null,null,null,null,0,112]
[11,20528,12,20535,13,20541,null,null,null,null,0,111]
[11,20727,21,20746,22,20751,null,null,null,null,0,122]
[11,20851,12,20855,24,20865,null,null,null,null,0,112]
[11,20970,12,20976,13,20984,null,null,null,null,0,111]
[22,21085,14,21093,13,21099,null,null,null,null,0,211]
[11,21240,12,21248,24,21262,null,null,null,null,0,112]
[22,21362,14,21369,13,21375,null,null,null,null,0,211]
[22,21473,14,21484,13,21490,null,null,null,null,0,211]
[22,21587,14,21594,13,21597,null,null,null,null,0,211]
[22,21695,14,21704,13,21708,null,null,null,null,0,211]
[22,21804,23,21808,13,21819,null,null,null,null,0,221]
[11,21950,21,21958,22,21963,null,null,null,null,0,122]
[22,22180,14,22186,24,22235,null,null,null,null,0,212]
[11,22333,12,22337,13,22343,null,null,null,null,0,111]
[22,22442,14,22456,13,22464,null,null,null,null,0,211]
[11,22575,21,22583,22,22588,null,null,null,null,0,122]
[22,22720,23,22724,24,22730,null,null,null,null,0,222]
[22,22829,23,22835,24,22841,null,null,null,null,0,222]
[11,22942,12,22950,24,22968,null,null,null,null,0,112]
[22,23068,23,23080,24,23089,null,null,null,null,0,222]
[11,23188,12,23200,13,23206,null,null,null,null,0,111]
[11,23314,12,23329,24,23342,null,null,null,null,0,112]
[22,23441,14,23451,13,23455,null,null,null,null,0,211]
[22,23555,14,23565,13,23573,null,null,null,null,0,211]
[11,23779,12,23782,13,23789,null,null,null,null,0,111]

{"sheet":"!M217B1I.sha","index":10,"n_rows":154,"n_cols":48,"rows_kept":154,"cut":false,"hidden":false,"merged":[[4,39,4,42],[5,39,5,40],[4,44,4,47],[5,44,5,45],[4,24,4,27],[5,24,5,25],[4,29,4,32],[5,29,5,30],[4,34,4,37],[5,34,5,35],[1,1,1,2],[5,13,5,14],[18,13,18,14],[19,13,19,14],[4,19,4,22],[5,19,5,20]]}
["Report for:!M217B1I.sha"]
["Date:","<date>"]
["Hen:","<hen>",null,null,null,"Correct Sequence",{"$f":"Start!J2","v":121},null,null,null,null,null,null,null,null,"Total Sequences in Data",{"$f":"4994-COUNTBLANK(L7:L5000)","v":148},null,null,null,null,"Total Sequences in Block Data",{"$f":"COUNTA(L7:L31)","v":25},null,null,null,"Total Sequences in Block Data",{"$f":"COUNTA(L32:L55)","v":24},null,null,null,"Total Sequences in Block Data",{"$f":"COUNTA(L56:L80)","v":25},null,null,null,"Total Sequences in Block Data",{"$f":"COUNTA(L81:L105)","v":25},null,null,null,"Total Sequences in Block Data",{"$f":"COUNTA(L106:L129)","v":24},null,null,null,"Total Sequences in Block Data",{"$f":"COUNTA(L130:L154)","v":25}]
[null,null,null,null,null,null,null,null,null,null,null,null,null,null,null,"Total Sequences in Summary",{"$f":"SUM(O7:O14)","v":147},null,null,null,null,"Total Sequences in Block Summary",{"$f":"SUM(U7:U14)","v":25},null,null,null,"Total Sequences in Block Summary",{"$f":"SUM(Z7:Z14)","v":24},null,null,null,"Total Sequences in Block Summary",{"$f":"SUM(AE7:AE14)","v":25},null,null,null,"Total Sequences in Block Summary",{"$f":"SUM(AJ7:AJ14)","v":25},null,null,null,"Total Sequences in Block Summary",{"$f":"SUM(AO7:AO14)","v":24},null,null,null,"Total Sequences in Block Summary",{"$f":"SUM(AT7:AT14)","v":24}]
[null,null,null,null,null,null,null,null,null,null,null,null,null,null,null,null,null,null,null,"Block 1",null,null,null,null,"Block 2",null,null,null,null,"Block 3",null,null,null,null,"Block 4",null,null,null,null,"Block 5",null,null,null,null,"Block 6"]
["Sequence\nComponent\n1","Time\n1","Sequence\nComponent\n2","Time\n2","Sequence\nComponent\n3","Time\n3","Sequence\nComponent\n4","Time\n4","Sequence\nComponent\n5","Time\n5","Correct?\n0=No 1=Yes","Sequence",null,"Frequency",null,"Relative Frequency","Variability",null,null,"Frequency",null,"Relative Frequency","Variability",null,"Frequency",null,"Relative Frequency","Variability",null,"Frequency",null,"Relative Frequency","Variability",null,"Frequency",null,"Relative Frequency","Variability",null,"Frequency",null,"Relative Frequency","Variability",null,"Frequency",null,"Relative Frequency","Variability"]
[22,33,23,36,24,42,null,null,null,null,0,222,null,111,{"$f":"COUNTIF($L$7:$L$500,N7)","v":28},{"$f":"O7/$Q$4","v":0.19047619047619047},{"$f":"IF(P7=0,0,(P7*((LOG(P7))/LOG(2))))","v":-0.4556795091007162},null,null,{"$f":"N7","v":111},{"$f":"COUNTIF(L7:L31,T7)","v":10},{"$f":"U7/(W4-U9)","v":0.4},{"$f":"IF(V7=0,0,(V7*((LOG(V7))/LOG(2))))","v":-0.52877123795494496},null,{"$f":"N7","v":111},{"$f":"COUNTIF(L32:L55,Y7)","v":6},{"$f":"Z7/(AB4-Z9)","v":0.25},{"$f":"IF(AA7=0,0,(AA7*((LOG(AA7))/LOG(2))))","v":-0.5},null,{"$f":"N7","v":111},{"$f":"COUNTIF(L56:L80,AD7)","v":0},{"$f":"AE7/(AG4-AE9)","v":0},{"$f":"IF(AF7=0,0,(AF7*((LOG(AF7))/LOG(2))))","v":0},null,{"$f":"N7","v":111},{"$f":"COUNTIF(L81:L105,AI7)","v":2},{"$f":"AJ7/(AL4-AJ9)","v":0.08},{"$f":"IF(AK7=0,0,(AK7*((LOG(AK7))/LOG(2))))","v":-0.29150849518197797},null,{"$f":"N7","v":111},{"$f":"COUNTIF(L106:L129,AN7)","v":4},{"$f":"AO7/(AQ4-AO9)","v":0.16666666666666666},{"$f":"IF(AP7=0,0,(AP7*((LOG(AP7))/LOG(2))))","v":-0.43082708345352599},null,{"$f":"N7","v":111},{"$f":"COUNTIF(L130:L154,AS7)","v":6},{"$f":"AT7/(AV4-AT9)","v":0.2608695652173913},{"$f":"IF(AU7=0,0,(AU7*((LOG(AU7))/LOG(2))))","v":-0.50572159704413644}]
[22,138,14,151,13,159,null,null,null,null,0,211,null,112,{"$f":"COUNTIF($L$7:$L$500,N8)","v":22},{"$f":"O8/$Q$4","v":0.14965986394557823},{"$f":"IF(P8=0,0,(P8*((LOG(P8))/LOG(2))))","v":-0.41010405426108487},null,null,{"$f":"N8","v":112},{"$f":"COUNTIF(L7:L31,T8)","v":5},{"$f":"U8/(W4-U9)","v":0.2},{"$f":"IF(V8=0,0,(V8*((LOG(V8))/LOG(2))))","v":-0.46438561897747244},null,{"$f":"N8","v":112},{"$f":"COUNTIF(L32:L55,Y8)","v":4},{"$f":"Z8/(AB4-Z9)","v":0.16666666666666666},{"$f":"IF(AA8=0,0,(AA8*((LOG(AA8))/LOG(2))))","v":-0.43082708345352599},null,{"$f":"N8","v":112},{"$f":"COUNTIF(L56:L80,AD8)","v":1},{"$f":"AE8/(AG4-AE9)","v":0.04},{"$f":"IF(AF8=0,0,(AF8*((LOG(AF8))/LOG(2))))","v":-0.18575424759098899},null,{"$f":"N8","v":112},{"$f":"COUNTIF(L81:L105,AI8)","v":3},{"$f":"AJ8/(AL4-AJ9)","v":0.12},{"$f":"IF(AK8=0,0,(AK8*((LOG(AK8))/LOG(2))))","v":-0.36706724268642821},null,{"$f":"N8","v":112},{"$f":"COUNTIF(L106:L129,AN8)","v":4},{"$f":"AO8/(AQ4-AO9)","v":0.16666666666666666},{"$f":"IF(AP8=0,0,(AP8*((LOG(AP8))/LOG(2))))","v":-0.43082708345352599},null,{"$f":"N8","v":112},{"$f":"COUNTIF(L130:L154,AS8)","v":5},{"$f":"AT8/(AV4-AT9)","v":0.21739130434782608},{"$f":"IF(AU8=0,0,(AU8*((LOG(AU8))/LOG(2))))","v":-0.47861605677601093}]
[11,262,12,274,24,286,null,null,null,null,0,112,null,121,{"$f":"COUNTIF($L$7:$L$500,N9)","v":1},{"$f":"O9/$Q$4","v":6.8027210884353739E-3},{"$f":"IF(P9=0,0,(P9*((LOG(P9))/LOG(2))))","v":-4.8977362890043293E-2},null,null,{"$f":"N9","v":121},{"$f":"COUNTIF(L7:L31,T9)","v":0},null,null,null,{"$f":"N9","v":121},{"$f":"COUNTIF(L32:L55,Y9)","v":0},null,null,null,{"$f":"N9","v":121},{"$f":"COUNTIF(L56:L80,AD9)","v":0},null,null,null,{"$f":"N9","v":121},{"$f":"COUNTIF(L81:L105,AI9)","v":0},null,null,null,{"$f":"N9","v":121},{"$f":"COUNTIF(L106:L129,AN9)","v":0},null,null,null,{"$f":"N9","v":121},{"$f":"COUNTIF(L130:L154,AS9)","v":1}]
[11,397,12,402,13,409,null,null,null,null,0,111,null,122,{"$f":"COUNTIF($L$7:$L$500,N10)","v":16},{"$f":"O10/$Q$4","v":0.10884353741496598},{"$f":"IF(P10=0,0,(P10*((LOG(P10))/LOG(2))))","v":-0.34826365658082875},null,null,{"$f":"N10","v":122},{"$f":"COUNTIF(L7:L31,T10)","v":3},{"$f":"U10/(W4-U9)","v":0.12},{"$f":"IF(V10=0,0,(V10*((LOG(V10))/LOG(2))))","v":-0.36706724268642821},null,{"$f":"N10","v":122},{"$f":"COUNTIF(L32:L55,Y10)","v":1},{"$f":"Z10/(AB4-Z9)","v":4.1666666666666664E-2},{"$f":"IF(AA10=0,0,(AA10*((LOG(AA10))/LOG(2))))","v":-0.19104010419671485},null,{"$f":"N10","v":122},{"$f":"COUNTIF(L56:L80,AD10)","v":5},{"$f":"AE10/(AG4-AE9)","v":0.2},{"$f":"IF(AF10=0,0,(AF10*((LOG(AF10))/LOG(2))))","v":-0.46438561897747244},null,{"$f":"N10","v":122},{"$f":"COUNTIF(L81:L105,AI10)","v":1},{"$f":"AJ10/(AL4-AJ9)","v":0.04},{"$f":"IF(AK10=0,0,(AK10*((LOG(AK10))/LOG(2))))","v":-0.18575424759098899},null,{"$f":"N10","v":122},{"$f":"COUNTIF(L106:L129,AN10)","v":1},{"$f":"AO10/(AQ4-AO9)","v":4.1666666666666664E-2},{"$f":"IF(AP10=0,0,(AP10*((LOG(AP10))/LOG(2))))","v":-0.19104010419671485},null,{"$f":"N10","v":122},{"$f":"COUNTIF(L130:L154,AS10)","v":5},{"$f":"AT10/(AV4-AT9)","v":0.21739130434782608},{"$f":"IF(AU10=0,0,(AU10*((LOG(AU10))/LOG(2))))","v":-0.47861605677601093}]
[11,513,12,517,13,522,null,null,null,null,0,111,null,211,{"$f":"COUNTIF($L$7:$L$500,N11)","v":44},{"$f":"O11/$Q$4","v":0.29931972789115646},{"$f":"IF(P11=0,0,(P11*((LOG(P11))/LOG(2))))","v":-0.52088838063101328},null,null,{"$f":"N11","v":211},{"$f":"COUNTIF(L7:L31,T11)","v":2},{"$f":"U11/(W4-U9)","v":0.08},{"$f":"IF(V11=0,0,(V11*((LOG(V11))/LOG(2))))","v":-0.29150849518197797},null,{"$f":"N11","v":211},{"$f":"COUNTIF(L32:L55,Y11)","v":8},{"$f":"Z11/(AB4-Z9)","v":0.33333333333333331},{"$f":"IF(AA11=0,0,(AA11*((LOG(AA11))/LOG(2))))","v":-0.52832083357371862},null,{"$f":"N11","v":211},{"$f":"COUNTIF(L56:L80,AD11)","v":11},{"$f":"AE11/(AG4-AE9)","v":0.44},{"$f":"IF(AF11=0,0,(AF11*((LOG(AF11))/LOG(2))))","v":-0.52114681130046814},null,{"$f":"N11","v":211},{"$f":"COUNTIF(L81:L105,AI11)","v":9},{"$f":"AJ11/(AL4-AJ9)","v":0.36},{"$f":"IF(AK11=0,0,(AK11*((LOG(AK11))/LOG(2))))","v":-0.53061522779966841},null,{"$f":"N11","v":211},{"$f":"COUNTIF(L106:L129,AN11)","v":7},{"$f":"AO11/(AQ4-AO9)","v":0.29166666666666669},{"$f":"IF(AP11=0,0,(AP11*((LOG(AP11))/LOG(2))))","v":-0.51846887711020273},null,{"$f":"N11","v":211},{"$f":"COUNTIF(L130:L154,AS11)","v":7},{"$f":"AT11/(AV4-AT9)","v":0.30434782608695654},{"$f":"IF(AU11=0,0,(AU11*((LOG(AU11))/LOG(2))))","v":-0.52232387991286355}]
[11,627,21,645,22,649,null,null,null,null,0,122,null,212,{"$f":"COUNTIF($L$7:$L$500,N12)","v":0},{"$f":"O12/$Q$4","v":0},{"$f":"IF(P12=0,0,(P12*((LOG(P12))/LOG(2))))","v":0},null,null,{"$f":"N12","v":212},{"$f":"COUNTIF(L7:L31,T12)","v":0},{"$f":"U12/(W4-U9)","v":0},{"$f":"IF(V12=0,0,(V12*((LOG(V12))/LOG(2))))","v":0},null,{"$f":"N12","v":212},{"$f":"COUNTIF(L32:L55,Y12)","v":0},{"$f":"Z12/(AB4-Z9)","v":0},{"$f":"IF(AA12=0,0,(AA12*((LOG(AA12))/LOG(2))))","v":0},null,{"$f":"N12","v":212},{"$f":"COUNTIF(L56:L80,AD12)","v":0},{"$f":"AE12/(AG4-AE9)","v":0},{"$f":"IF(AF12=0,0,(AF12*((LOG(AF12))/LOG(2))))","v":0},null,{"$f":"N12","v":212},{"$f":"COUNTIF(L81:L105,AI12)","v":0},{"$f":"AJ12/(AL4-AJ9)","v":0},{"$f":"IF(AK12=0,0,(AK12*((LOG(AK12))/LOG(2))))","v":0},null,{"$f":"N12","v":212},{"$f":"COUNTIF(L106:L129,AN12)","v":0},{"$f":"AO12/(AQ4-AO9)","v":0},{"$f":"IF(AP12=0,0,(AP12*((LOG(AP12))/LOG(2))))","v":0},null,{"$f":"N12","v":212},{"$f":"COUNTIF(L130:L154,AS12)","v":0},{"$f":"AT12/(AV4-AT9)","v":0},{"$f":"IF(AU12=0,0,(AU12*((LOG(AU12))/LOG(2))))","v":0}]
[22,746,23,748,24,754,null,null,null,null,0,222,null,221,{"$f":"COUNTIF($L$7:$L$500,N13)","v":24},{"$f":"O13/$Q$4","v":0.16326530612244897},{"$f":"IF(P13=0,0,(P13*((LOG(P13))/LOG(2))))","v":-0.42689140312085033},null,null,{"$f":"N13","v":221},{"$f":"COUNTIF(L7:L31,T13)","v":1},{"$f":"U13/(W4-U9)","v":0.04},{"$f":"IF(V13=0,0,(V13*((LOG(V13))/LOG(2))))","v":-0.18575424759098899},null,{"$f":"N13","v":221},{"$f":"COUNTIF(L32:L55,Y13)","v":4},{"$f":"Z13/(AB4-Z9)","v":0.16666666666666666},{"$f":"IF(AA13=0,0,(AA13*((LOG(AA13))/LOG(2))))","v":-0.43082708345352599},null,{"$f":"N13","v":221},{"$f":"COUNTIF(L56:L80,AD13)","v":5},{"$f":"AE13/(AG4-AE9)","v":0.2},{"$f":"IF(AF13=0,0,(AF13*((LOG(AF13))/LOG(2))))","v":-0.46438561897747244},null,{"$f":"N13","v":221},{"$f":"COUNTIF(L81:L105,AI13)","v":6},{"$f":"AJ13/(AL4-AJ9)","v":0.24},{"$f":"IF(AK13=0,0,(AK13*((LOG(AK13))/LOG(2))))","v":-0.49413448537285637},null,{"$f":"N13","v":221},{"$f":"COUNTIF(L106:L129,AN13)","v":8},{"$f":"AO13/(AQ4-AO9)","v":0.33333333333333331},{"$f":"IF(AP13=0,0,(AP13*((LOG(AP13))/LOG(2))))","v":-0.52832083357371862},null,{"$f":"N13","v":221},{"$f":"COUNTIF(L130:L154,AS13)","v":0},{"$f":"AT13/(AV4-AT9)","v":0},{"$f":"IF(AU13=0,0,(AU13*((LOG(AU13))/LOG(2))))","v":0}]
[11,850,12,856,13,861,null,null,null,null,0,111,null,222,{"$f":"COUNTIF($L$7:$L$500,N14)","v":12},{"$f":"O14/$Q$4","v":8.1632653061224483E-2},{"$f":"IF(P14=0,0,(P14*((LOG(P14))/LOG(2))))","v":-0.29507835462164966},null,null,{"$f":"N14","v":222},{"$f":"COUNTIF(L7:L31,T14)","v":4},{"$f":"U14/(W4-U9)","v":0.16},{"$f":"IF(V14=0,0,(V14*((LOG(V14))/LOG(2))))","v":-0.42301699036395596},null,{"$f":"N14","v":222},{"$f":"COUNTIF(L32:L55,Y14)","v":1},{"$f":"Z14/(AB4-Z9)","v":4.1666666666666664E-2},{"$f":"IF(AA14=0,0,(AA14*((LOG(AA14))/LOG(2))))","v":-0.19104010419671485},null,{"$f":"N14","v":222},{"$f":"COUNTIF(L56:L80,AD14)","v":3},{"$f":"AE14/(AG4-AE9)","v":0.12},{"$f":"IF(AF14=0,0,(AF14*((LOG(AF14))/LOG(2))))","v":-0.36706724268642821},null,{"$f":"N14","v":222},{"$f":"COUNTIF(L81:L105,AI14)","v":4},{"$f":"AJ14/(AL4-AJ9)","v":0.16},{"$f":"IF(AK14=0,0,(AK14*((LOG(AK14))/LOG(2))))","v":-0.42301699036395596},null,{"$f":"N14","v":222},{"$f":"COUNTIF(L106:L129,AN14)","v":0},{"$f":"AO14/(AQ4-AO9)","v":0},{"$f":"IF(AP14=0,0,(AP14*((LOG(AP14))/LOG(2))))","v":0},null,{"$f":"N14","v":222},{"$f":"COUNTIF(L130:L154,AS14)","v":0},{"$f":"AT14/(AV4-AT9)","v":0},{"$f":"IF(AU14=0,0,(AU14*((LOG(AU14))/LOG(2))))","v":0}]
[11,973,12,990,24,1001,null,null,null,null,0,112,null,null,null,{"$f":"SUM(P7:P14)","v":0.99999999999999989},{"$f":"-SUM(Q7:Q14)","v":2.5058827212061865},null,null,null,null,{"$f":"SUM(V7:V14)","v":1},{"$f":"-SUM(W7:W14)","v":2.2605038327557687},null,null,null,{"$f":"SUM(AA7:AA14)","v":0.99999999999999989},{"$f":"-SUM(AB7:AB14)","v":2.2720552088742005},null,null,null,{"$f":"SUM(AF7:AF14)","v":1},{"$f":"-SUM(AG7:AG14)","v":2.0027395395328305},null,null,null,{"$f":"SUM(AK7:AK14)","v":1},{"$f":"-SUM(AL7:AL14)","v":2.2920966889958758},null,null,null,{"$f":"SUM(AP7:AP14)","v":1},{"$f":"-SUM(AQ7:AQ14)","v":2.0994839817876878},null,null,null,{"$f":"SUM(AU7:AU14)","v":1},{"$f":"-SUM(AV7:AV14)","v":1.9852775905090219}]
[22,1101,23,1105,24,1110,null,null,null,null,0,222,null,null,null,"U=",{"$f":"Q15/(LOG(Q4)/LOG(2))","v":0.34805510600818051},null,null,null,null,"U1=",{"$f":"W15/(LOG(W4)/LOG(2))","v":0.48677300510148364},null,null,null,"U2=",{"$f":"AB15/(LOG(AB4)/LOG(2))","v":0.49554499268354651},null,null,null,"U3=",{"$f":"AG15/(LOG(AG4)/LOG(2))","v":0.4312664858017457},null,null,null,"U4=",{"$f":"AL15/(LOG(AL4)/LOG(2))","v":0.49357615639408209},null,null,null,"U5=",{"$f":"AQ15/(LOG(AQ4)/LOG(2))","v":0.4579064673827683},null,null,null,"U6=",{"$f":"AV15/(LOG(AV4)/LOG(2))","v":0.43299756327271227}]
[11,1206,12,1210,13,1216,null,null,null,null,0,111]
[11,1327,21,1342,22,1347,null,null,null,null,0,122]
[22,1446,23,1450,13,1471,null,null,null,null,0,221,null,"Total Target Seq"]
[11,1759,12,1764,13,1768,null,null,null,null,0,111,null,{"$f":"COUNTIF(L7:L154,G3)","v":1},null,25,24,25,25,24,25]
[11,1867,12,1872,13,1880,null,null,null,null,0,111,null,null,null,"% of reinforcement given in 6 equal intervals based on number of trials "]
[11,2012,12,2017,24,2033,null,null,null,null,0,112,null,null,null,"%_1","%_2","%_3","%_4","%_5","%_6"]
[11,2133,12,2138,13,2143,null,null,null,null,0,111,null,null,"target sequence",{"$f":"$G$3","v":121},{"$f":"$G$3","v":121},{"$f":"$G$3","v":121},{"$f":"$G$3","v":121},{"$f":"$G$3","v":121},{"$f":"$G$3","v":121}]
[11,2248,12,2253,24,2273,null,null,null,null,0,112,null,null,"total reinforcement",{"$f":"U9","v":0},{"$f":"Z9","v":0},{"$f":"AE9","v":0},{"$f":"AJ9","v":0},{"$f":"AO9","v":0},{"$f":"AT9","v":1}]
[22,2371,14,2382,13,2385,null,null,null,null,0,211,null,null,"% target"]
[11,2483,12,2492,24,2506,null,null,null,null,0,112,null,null,"CCRF"]
[11,2604,12,2609,13,2614,null,null,null,null,0,111,null,null,"% CCRf"]
[11,2713,21,2729,22,2733,null,null,null,null,0,122,null,null,"average response rate",{"$f":"F31/P20","v":126.16},{"$f":"(F55-F31)/Q20","v":119.58333333333333},{"$f":"(F80-F55)/R20","v":167.08},{"$f":"(F105-F80)/S20","v":140},{"$f":"(F129-F105)/T20","v":200.625},{"$f":"(F154-F129)/U20","v":-740.64}]
[11,2831,12,2838,13,2842,null,null,null,null,0,111]
[22,2952,23,2958,24,2963,null,null,null,null,0,222]
[11,3147,12,3151,13,3154,null,null,null,null,0,111]
[11,3250,12,3255,13,3263,null,null,null,null,0,111]
[22,3359,23,3364,13,3379,null,null,null,null,0,221]
[22,3485,14,3494,13,3501,null,null,null,null,0,211]
[22,3599,14,3611,13,3618,null,null,null,null,0,211]
[11,3724,12,3729,13,3738,null,null,null,null,0,111]
[22,3836,14,3845,13,3852,null,null,null,null,0,211]
[11,3963,12,3967,13,3980,null,null,null,null,0,111]
[22,4082,14,4090,13,4096,null,null,null,null,0,211]
[22,4194,14,4203,13,4210,null,null,null,null,0,211]
[11,4305,12,4309,24,4318,null,null,null,null,0,112]
[22,4417,14,4428,13,4437,null,null,null,null,0,211]
[11,4533,12,4537,24,4548,null,null,null,null,0,112]
[22,4645,23,4647,13,4656,null,null,null,null,0,221]
[22,4752,23,4762,13,4773,null,null,null,null,0,221]
[22,4884,14,4892,13,4900,null,null,null,null,0,211]
[22,4999,23,5004,24,5011,null,null,null,null,0,222]
[11,5109,12,5111,13,5116,null,null,null,null,0,111]
[11,5225,12,5230,24,5242,null,null,null,null,0,112]
[11,5344,12,5348,13,5353,null,null,null,null,0,111]
[22,5451,23,5454,13,5462,null,null,null,null,0,221]
[11,5572,12,5578,13,5583,null,null,null,null,0,111]
[11,5694,21,5713,22,5716,null,null,null,null,0,122]
[11,5895,12,5901,24,5910,null,null,null,null,0,112]
[22,6011,14,6020,13,6024,null,null,null,null,0,211]
[22,6122,14,6131,13,6137,null,null,null,null,0,211]
[11,6247,21,6265,22,6270,null,null,null,null,0,122]
[11,6381,21,6396,22,6402,null,null,null,null,0,122]
[22,6526,14,6542,13,6546,null,null,null,null,0,211]
[22,6697,14,6713,13,6721,null,null,null,null,0,211]
[22,6818,14,6837,13,6841,null,null,null,null,0,211]
[11,6939,12,6947,24,6958,null,null,null,null,0,112]
[22,7056,14,7070,13,7073,null,null,null,null,0,211]
[22,7167,23,7172,13,7188,null,null,null,null,0,221]
[22,7293,23,7299,13,7310,null,null,null,null,0,221]
[22,8384,23,8389,24,8412,null,null,null,null,0,222]
[22,8521,14,8529,13,8533,null,null,null,null,0,211]
[11,8630,21,8642,22,8646,null,null,null,null,0,122]
[22,8744,14,8758,13,8769,null,null,null,null,0,211]
[11,8868,21,8879,22,8883,null,null,null,null,0,122]
[11,8994,21,9009,22,9012,null,null,null,null,0,122]
[22,9118,14,9128,13,9133,null,null,null,null,0,211]
[22,9230,23,9238,13,9248,null,null,null,null,0,221]
[22,9394,23,9408,13,9419,null,null,null,null,0,221]
[22,9516,23,9521,24,9527,null,null,null,null,0,222]
[22,9623,23,9627,24,9631,null,null,null,null,0,222]
[22,9733,14,9748,13,9751,null,null,null,null,0,211]
[22,9871,14,9880,13,9888,null,null,null,null,0,211]
[22,9983,14,9998,13,10003,null,null,null,null,0,211]
[22,10186,23,10191,13,10201,null,null,null,null,0,221]
[11,10297,21,10308,22,10317,null,null,null,null,0,122]
[22,10413,14,10422,13,10429,null,null,null,null,0,211]
[11,10533,12,10538,24,10555,null,null,null,null,0,112]
[22,10663,23,10667,24,10671,null,null,null,null,0,222]
[22,10800,14,10811,13,10816,null,null,null,null,0,211]
[22,10943,14,10952,13,10957,null,null,null,null,0,211]
[22,11172,23,11179,13,11189,null,null,null,null,0,221]
[11,11284,12,11289,13,11293,null,null,null,null,0,111]
[22,11389,14,11398,13,11404,null,null,null,null,0,211]
[22,11506,23,11510,24,11516,null,null,null,null,0,222]
[22,11750,23,11756,13,11766,null,null,null,null,0,221]
[11,11864,12,11869,24,11878,null,null,null,null,0,112]
[11,11990,12,11995,13,12000,null,null,null,null,0,111]
[22,12096,23,12099,24,12104,null,null,null,null,0,222]
[22,12199,23,12202,24,12207,null,null,null,null,0,222]
[22,12462,14,12472,13,12476,null,null,null,null,0,211]
[22,12637,14,12654,13,12663,null,null,null,null,0,211]
[22,12770,23,12780,13,12798,null,null,null,null,0,221]
[22,12893,23,12896,13,12907,null,null,null,null,0,221]
[22,13021,23,13032,13,13042,null,null,null,null,0,221]
[11,13149,12,13155,24,13165,null,null,null,null,0,112]
[22,13265,14,13277,13,13284,null,null,null,null,0,211]
[22,13387,23,13395,13,13407,null,null,null,null,0,221]
[22,13507,14,13526,13,13533,null,null,null,null,0,211]
[22,13689,14,13698,13,13701,null,null,null,null,0,211]
[11,13797,12,13801,13,13813,null,null,null,null,0,111]
[22,14149,14,14163,13,14169,null,null,null,null,0,211]
[22,14265,23,14268,13,14289,null,null,null,null,0,221]
[22,14385,23,14389,13,14403,null,null,null,null,0,221]
[11,14505,12,14519,13,14528,null,null,null,null,0,111]
[11,14636,12,14642,13,14649,null,null,null,null,0,111]
[22,14761,14,14785,13,14792,null,null,null,null,0,211]
[11,14907,12,14918,24,14927,null,null,null,null,0,112]
[22,15029,14,15038,13,15042,null,null,null,null,0,211]
[22,15139,23,15153,13,15181,null,null,null,null,0,221]
[22,15280,23,15286,13,15295,null,null,null,null,0,221]
[22,15396,14,15405,13,15412,null,null,null,null,0,211]
[22,15611,14,15619,13,15625,null,null,null,null,0,211]
[22,15720,23,15727,13,15739,null,null,null,null,0,221]
[22,15835,23,15840,13,15851,null,null,null,null,0,221]
[22,16034,23,16040,13,16058,null,null,null,null,0,221]
[22,16546,14,16556,13,16564,null,null,null,null,0,211]
[22,16668,14,16679,13,16685,null,null,null,null,0,211]
[11,17434,12,17438,13,17444,null,null,null,null,0,111]
[22,17731,23,17743,13,17755,null,null,null,null,0,221]
[11,17868,21,17878,22,17882,null,null,null,null,0,122]
[11,17996,12,18002,24,18010,null,null,null,null,0,112]
[11,18339,12,18346,24,18354,null,null,null,null,0,112]
[11,18487,12,18500,24,18516,null,null,null,null,0,112]
[11,18739,12,18743,13,18749,null,null,null,null,0,111]
[11,18852,12,18862,24,18876,null,null,null,null,0,112]
[11,19010,12,19016,24,19025,null,null,null,null,0,112]
[22,19920,14,19930,13,19937,null,null,null,null,0,211]
[22,20045,14,20053,13,20058,null,null,null,null,0,211]
[11,20220,21,20237,22,20242,null,null,null,null,0,122]
[22,20412,14,20432,13,20435,null,null,null,null,0,211]
[22,20539,14,20554,13,20593,null,null,null,null,0,211]
[11,20829,12,20832,13,20841,null,null,null,null,0,111]
[11,21093,21,21100,22,21114,null,null,null,null,0,122]
[11,21280,12,21286,24,21306,null,null,null,null,0,112]
[11,21722,21,21739,22,21744,null,null,null,null,0,122]
[11,22108,21,22123,22,22126,null,null,null,null,0,122]
[11,22257,21,22283,11,22318,null,null,null,null,0,121]
[11,22460,21,22469,22,22474,null,null,null,null,0,122]
[11,22576,12,22579,13,22583,null,null,null,null,0,111]
[22,22679,14,22699,13,22702,null,null,null,null,0,211]
[11,22798,12,22805,13,22815,null,null,null,null,0,111]
[22,22915,14,22922,13,22925,null,null,null,null,0,211]
[11,23030,12,23037,24,23051,null,null,null,null,0,112]
[22,23158,14,23174,13,23177,null,null,null,null,0,211]
[11,23319,12,23325,13,23331,null,null,null,null,0,111]
[11,23568,12,23574,24,23583,null,null,null,null,0,112]
[11,23743,12,23747,13,23752,null,null,null,null,0,111]
[22,23997,null,null,null,null,null,null,null,null,null,2]

{"sheet":"!M218A4I.sha","index":11,"n_rows":182,"n_cols":48,"rows_kept":182,"cut":false,"hidden":false,"merged":[[4,39,4,42],[5,39,5,40],[4,44,4,47],[5,44,5,45],[4,24,4,27],[5,24,5,25],[4,29,4,32],[5,29,5,30],[4,34,4,37],[5,34,5,35],[1,1,1,2],[5,13,5,14],[18,13,18,14],[19,13,19,14],[4,19,4,22],[5,19,5,20]]}
["Report for:!M218A4I.sha"]
["Date:","<date>"]
["Hen:","<hen>",null,null,null,"Correct Sequence",{"$f":"Start!J2","v":121},null,null,null,null,null,null,null,null,"Total Sequences in Data",{"$f":"4994-COUNTBLANK(L7:L5000)","v":176},null,null,null,null,"Total Sequences in Block Data",{"$f":"COUNTA(L7:L35)","v":29},null,null,null,"Total Sequences in Block Data",{"$f":"COUNTA(L36:L65)","v":30},null,null,null,"Total Sequences in Block Data",{"$f":"COUNTA(L66:L94)","v":29},null,null,null,"Total Sequences in Block Data",{"$f":"COUNTA(L95:L123)","v":29},null,null,null,"Total Sequences in Block Data",{"$f":"COUNTA(L124:L153)","v":30},null,null,null,"Total Sequences in Block Data",{"$f":"COUNTA(L154:L182)","v":29}]
[null,null,null,null,null,null,null,null,null,null,null,null,null,null,null,"Total Sequences in Summary",{"$f":"SUM(O7:O14)","v":176},null,null,null,null,"Total Sequences in Block Summary",{"$f":"SUM(U7:U14)","v":29},null,null,null,"Total Sequences in Block Summary",{"$f":"SUM(Z7:Z14)","v":30},null,null,null,"Total Sequences in Block Summary",{"$f":"SUM(AE7:AE14)","v":29},null,null,null,"Total Sequences in Block Summary",{"$f":"SUM(AJ7:AJ14)","v":29},null,null,null,"Total Sequences in Block Summary",{"$f":"SUM(AO7:AO14)","v":30},null,null,null,"Total Sequences in Block Summary",{"$f":"SUM(AT7:AT14)","v":29}]
[null,null,null,null,null,null,null,null,null,null,null,null,null,null,null,null,null,null,null,"Block 1",null,null,null,null,"Block 2",null,null,null,null,"Block 3",null,null,null,null,"Block 4",null,null,null,null,"Block 5",null,null,null,null,"Block 6"]
["Sequence\nComponent\n1","Time\n1","Sequence\nComponent\n2","Time\n2","Sequence\nComponent\n3","Time\n3","Sequence\nComponent\n4","Time\n4","Sequence\nComponent\n5","Time\n5","Correct?\n0=No 1=Yes","Sequence",null,"Frequency",null,"Relative Frequency","Variability",null,null,"Frequency",null,"Relative Frequency","Variability",null,"Frequency",null,"Relative Frequency","Variability",null,"Frequency",null,"Relative Frequency","Variability",null,"Frequency",null,"Relative Frequency","Variability",null,"Frequency",null,"Relative Frequency","Variability",null,"Frequency",null,"Relative Frequency","Variability"]
[11,15,12,24,24,36,null,null,null,null,0,112,null,111,{"$f":"COUNTIF($L$7:$L$500,N7)","v":35},{"$f":"O7/$Q$4","v":0.19886363636363635},{"$f":"IF(P7=0,0,(P7*((LOG(P7))/LOG(2))))","v":-0.46338182420017943},null,null,{"$f":"N7","v":111},{"$f":"COUNTIF(L7:L35,T7)","v":2},{"$f":"U7/(W4-U9)","v":6.8965517241379309E-2},{"$f":"IF(V7=0,0,(V7*((LOG(V7))/LOG(2))))","v":-0.26606765483638428},null,{"$f":"N7","v":111},{"$f":"COUNTIF(L36:L65,Y7)","v":5},{"$f":"Z7/(AB4-Z9)","v":0.16666666666666666},{"$f":"IF(AA7=0,0,(AA7*((LOG(AA7))/LOG(2))))","v":-0.43082708345352599},null,{"$f":"N7","v":111},{"$f":"COUNTIF(L66:L94,AD7)","v":3},{"$f":"AE7/(AG4-AE9)","v":0.10714285714285714},{"$f":"IF(AF7=0,0,(AF7*((LOG(AF7))/LOG(2))))","v":-0.34525633085747659},null,{"$f":"N7","v":111},{"$f":"COUNTIF(L95:L123,AI7)","v":6},{"$f":"AJ7/(AL4-AJ9)","v":0.20689655172413793},{"$f":"IF(AK7=0,0,(AK7*((LOG(AK7))/LOG(2))))","v":-0.4702796884978791},null,{"$f":"N7","v":111},{"$f":"COUNTIF(L124:L153,AN7)","v":10},{"$f":"AO7/(AQ4-AO9)","v":0.33333333333333331},{"$f":"IF(AP7=0,0,(AP7*((LOG(AP7))/LOG(2))))","v":-0.52832083357371862},null,{"$f":"N7","v":111},{"$f":"COUNTIF(L154:L182,AS7)","v":9},{"$f":"AT7/(AV4-AT9)","v":0.31034482758620691},{"$f":"IF(AU7=0,0,(AU7*((LOG(AU7))/LOG(2))))","v":-0.52387944631611505}]
[11,149,12,158,24,169,null,null,null,null,0,112,null,112,{"$f":"COUNTIF($L$7:$L$500,N8)","v":24},{"$f":"O8/$Q$4","v":0.13636363636363635},{"$f":"IF(P8=0,0,(P8*((LOG(P8))/LOG(2))))","v":-0.39197306153401923},null,null,{"$f":"N8","v":112},{"$f":"COUNTIF(L7:L35,T8)","v":7},{"$f":"U8/(W4-U9)","v":0.2413793103448276},{"$f":"IF(V8=0,0,(V8*((LOG(V8))/LOG(2))))","v":-0.49497870729275095},null,{"$f":"N8","v":112},{"$f":"COUNTIF(L36:L65,Y8)","v":6},{"$f":"Z8/(AB4-Z9)","v":0.2},{"$f":"IF(AA8=0,0,(AA8*((LOG(AA8))/LOG(2))))","v":-0.46438561897747244},null,{"$f":"N8","v":112},{"$f":"COUNTIF(L66:L94,AD8)","v":5},{"$f":"AE8/(AG4-AE9)","v":0.17857142857142858},{"$f":"IF(AF8=0,0,(AF8*((LOG(AF8))/LOG(2))))","v":-0.44382621913754317},null,{"$f":"N8","v":112},{"$f":"COUNTIF(L95:L123,AI8)","v":2},{"$f":"AJ8/(AL4-AJ9)","v":6.8965517241379309E-2},{"$f":"IF(AK8=0,0,(AK8*((LOG(AK8))/LOG(2))))","v":-0.26606765483638428},null,{"$f":"N8","v":112},{"$f":"COUNTIF(L124:L153,AN8)","v":3},{"$f":"AO8/(AQ4-AO9)","v":0.1},{"$f":"IF(AP8=0,0,(AP8*((LOG(AP8))/LOG(2))))","v":-0.33219280948873625},null,{"$f":"N8","v":112},{"$f":"COUNTIF(L154:L182,AS8)","v":1},{"$f":"AT8/(AV4-AT9)","v":3.4482758620689655E-2},{"$f":"IF(AU8=0,0,(AU8*((LOG(AU8))/LOG(2))))","v":-0.16751658603888178}]
[11,284,12,290,24,300,null,null,null,null,0,112,null,121,{"$f":"COUNTIF($L$7:$L$500,N9)","v":1},{"$f":"O9/$Q$4","v":5.681818181818182E-3},{"$f":"IF(P9=0,0,(P9*((LOG(P9))/LOG(2))))","v":-4.2383134196802827E-2},null,null,{"$f":"N9","v":121},{"$f":"COUNTIF(L7:L35,T9)","v":0},null,null,null,{"$f":"N9","v":121},{"$f":"COUNTIF(L36:L65,Y9)","v":0},null,null,null,{"$f":"N9","v":121},{"$f":"COUNTIF(L66:L94,AD9)","v":1},null,null,null,{"$f":"N9","v":121},{"$f":"COUNTIF(L95:L123,AI9)","v":0},null,null,null,{"$f":"N9","v":121},{"$f":"COUNTIF(L124:L153,AN9)","v":0},null,null,null,{"$f":"N9","v":121},{"$f":"COUNTIF(L154:L182,AS9)","v":0}]
[11,399,12,406,24,415,null,null,null,null,0,112,null,122,{"$f":"COUNTIF($L$7:$L$500,N10)","v":10},{"$f":"O10/$Q$4","v":5.6818181818181816E-2},{"$f":"IF(P10=0,0,(P10*((LOG(P10))/LOG(2))))","v":-0.23508542748579178},null,null,{"$f":"N10","v":122},{"$f":"COUNTIF(L7:L35,T10)","v":3},{"$f":"U10/(W4-U9)","v":0.10344827586206896},{"$f":"IF(V10=0,0,(V10*((LOG(V10))/LOG(2))))","v":-0.33858812011100858},null,{"$f":"N10","v":122},{"$f":"COUNTIF(L36:L65,Y10)","v":1},{"$f":"Z10/(AB4-Z9)","v":3.3333333333333333E-2},{"$f":"IF(AA10=0,0,(AA10*((LOG(AA10))/LOG(2))))","v":-0.16356301985361729},null,{"$f":"N10","v":122},{"$f":"COUNTIF(L66:L94,AD10)","v":1},{"$f":"AE10/(AG4-AE9)","v":3.5714285714285712E-2},{"$f":"IF(AF10=0,0,(AF10*((LOG(AF10))/LOG(2))))","v":-0.17169124721634299},null,{"$f":"N10","v":122},{"$f":"COUNTIF(L95:L123,AI10)","v":3},{"$f":"AJ10/(AL4-AJ9)","v":0.10344827586206896},{"$f":"IF(AK10=0,0,(AK10*((LOG(AK10))/LOG(2))))","v":-0.33858812011100858},null,{"$f":"N10","v":122},{"$f":"COUNTIF(L124:L153,AN10)","v":2},{"$f":"AO10/(AQ4-AO9)","v":6.6666666666666666E-2},{"$f":"IF(AP10=0,0,(AP10*((LOG(AP10))/LOG(2))))","v":-0.26045937304056793},null,{"$f":"N10","v":122},{"$f":"COUNTIF(L154:L182,AS10)","v":0},{"$f":"AT10/(AV4-AT9)","v":0},{"$f":"IF(AU10=0,0,(AU10*((LOG(AU10))/LOG(2))))","v":0}]
[22,517,14,529,13,534,null,null,null,null,0,211,null,211,{"$f":"COUNTIF($L$7:$L$500,N11)","v":35},{"$f":"O11/$Q$4","v":0.19886363636363635},{"$f":"IF(P11=0,0,(P11*((LOG(P11))/LOG(2))))","v":-0.46338182420017943},null,null,{"$f":"N11","v":211},{"$f":"COUNTIF(L7:L35,T11)","v":8},{"$f":"U11/(W4-U9)","v":0.27586206896551724},{"$f":"IF(V11=0,0,(V11*((LOG(V11))/LOG(2))))","v":-0.51254648141450265},null,{"$f":"N11","v":211},{"$f":"COUNTIF(L36:L65,Y11)","v":3},{"$f":"Z11/(AB4-Z9)","v":0.1},{"$f":"IF(AA11=0,0,(AA11*((LOG(AA11))/LOG(2))))","v":-0.33219280948873625},null,{"$f":"N11","v":211},{"$f":"COUNTIF(L66:L94,AD11)","v":6},{"$f":"AE11/(AG4-AE9)","v":0.21428571428571427},{"$f":"IF(AF11=0,0,(AF11*((LOG(AF11))/LOG(2))))","v":-0.47622694742923877},null,{"$f":"N11","v":211},{"$f":"COUNTIF(L95:L123,AI11)","v":5},{"$f":"AJ11/(AL4-AJ9)","v":0.17241379310344829},{"$f":"IF(AK11=0,0,(AK11*((LOG(AK11))/LOG(2))))","v":-0.43725050004141547},null,{"$f":"N11","v":211},{"$f":"COUNTIF(L124:L153,AN11)","v":6},{"$f":"AO11/(AQ4-AO9)","v":0.2},{"$f":"IF(AP11=0,0,(AP11*((LOG(AP11))/LOG(2))))","v":-0.46438561897747244},null,{"$f":"N11","v":211},{"$f":"COUNTIF(L154:L182,AS11)","v":7},{"$f":"AT11/(AV4-AT9)","v":0.2413793103448276},{"$f":"IF(AU11=0,0,(AU11*((LOG(AU11))/LOG(2))))","v":-0.49497870729275095}]
[22,631,14,640,13,645,null,null,null,null,0,211,null,212,{"$f":"COUNTIF($L$7:$L$500,N12)","v":3},{"$f":"O12/$Q$4","v":1.7045454545454544E-2},{"$f":"IF(P12=0,0,(P12*((LOG(P12))/LOG(2))))","v":-0.10013299632811604},null,null,{"$f":"N12","v":212},{"$f":"COUNTIF(L7:L35,T12)","v":2},{"$f":"U12/(W4-U9)","v":6.8965517241379309E-2},{"$f":"IF(V12=0,0,(V12*((LOG(V12))/LOG(2))))","v":-0.26606765483638428},null,{"$f":"N12","v":212},{"$f":"COUNTIF(L36:L65,Y12)","v":0},{"$f":"Z12/(AB4-Z9)","v":0},{"$f":"IF(AA12=0,0,(AA12*((LOG(AA12))/LOG(2))))","v":0},null,{"$f":"N12","v":212},{"$f":"COUNTIF(L66:L94,AD12)","v":1},{"$f":"AE12/(AG4-AE9)","v":3.5714285714285712E-2},{"$f":"IF(AF12=0,0,(AF12*((LOG(AF12))/LOG(2))))","v":-0.17169124721634299},null,{"$f":"N12","v":212},{"$f":"COUNTIF(L95:L123,AI12)","v":0},{"$f":"AJ12/(AL4-AJ9)","v":0},{"$f":"IF(AK12=0,0,(AK12*((LOG(AK12))/LOG(2))))","v":0},null,{"$f":"N12","v":212},{"$f":"COUNTIF(L124:L153,AN12)","v":0},{"$f":"AO12/(AQ4-AO9)","v":0},{"$f":"IF(AP12=0,0,(AP12*((LOG(AP12))/LOG(2))))","v":0},null,{"$f":"N12","v":212},{"$f":"COUNTIF(L154:L182,AS12)","v":0},{"$f":"AT12/(AV4-AT9)","v":0},{"$f":"IF(AU12=0,0,(AU12*((LOG(AU12))/LOG(2))))","v":0}]
[22,741,14,752,13,756,null,null,null,null,0,211,null,221,{"$f":"COUNTIF($L$7:$L$500,N13)","v":22},{"$f":"O13/$Q$4","v":0.125},{"$f":"IF(P13=0,0,(P13*((LOG(P13))/LOG(2))))","v":-0.375},null,null,{"$f":"N13","v":221},{"$f":"COUNTIF(L7:L35,T13)","v":3},{"$f":"U13/(W4-U9)","v":0.10344827586206896},{"$f":"IF(V13=0,0,(V13*((LOG(V13))/LOG(2))))","v":-0.33858812011100858},null,{"$f":"N13","v":221},{"$f":"COUNTIF(L36:L65,Y13)","v":7},{"$f":"Z13/(AB4-Z9)","v":0.23333333333333334},{"$f":"IF(AA13=0,0,(AA13*((LOG(AA13))/LOG(2))))","v":-0.48989165716187993},null,{"$f":"N13","v":221},{"$f":"COUNTIF(L66:L94,AD13)","v":5},{"$f":"AE13/(AG4-AE9)","v":0.17857142857142858},{"$f":"IF(AF13=0,0,(AF13*((LOG(AF13))/LOG(2))))","v":-0.44382621913754317},null,{"$f":"N13","v":221},{"$f":"COUNTIF(L95:L123,AI13)","v":1},{"$f":"AJ13/(AL4-AJ9)","v":3.4482758620689655E-2},{"$f":"IF(AK13=0,0,(AK13*((LOG(AK13))/LOG(2))))","v":-0.16751658603888178},null,{"$f":"N13","v":221},{"$f":"COUNTIF(L124:L153,AN13)","v":3},{"$f":"AO13/(AQ4-AO9)","v":0.1},{"$f":"IF(AP13=0,0,(AP13*((LOG(AP13))/LOG(2))))","v":-0.33219280948873625},null,{"$f":"N13","v":221},{"$f":"COUNTIF(L154:L182,AS13)","v":3},{"$f":"AT13/(AV4-AT9)","v":0.10344827586206896},{"$f":"IF(AU13=0,0,(AU13*((LOG(AU13))/LOG(2))))","v":-0.33858812011100858}]
[22,856,23,860,13,869,null,null,null,null,0,221,null,222,{"$f":"COUNTIF($L$7:$L$500,N14)","v":46},{"$f":"O14/$Q$4","v":0.26136363636363635},{"$f":"IF(P14=0,0,(P14*((LOG(P14))/LOG(2))))","v":-0.50596593453802885},null,null,{"$f":"N14","v":222},{"$f":"COUNTIF(L7:L35,T14)","v":4},{"$f":"U14/(W4-U9)","v":0.13793103448275862},{"$f":"IF(V14=0,0,(V14*((LOG(V14))/LOG(2))))","v":-0.39420427519000989},null,{"$f":"N14","v":222},{"$f":"COUNTIF(L36:L65,Y14)","v":8},{"$f":"Z14/(AB4-Z9)","v":0.26666666666666666},{"$f":"IF(AA14=0,0,(AA14*((LOG(AA14))/LOG(2))))","v":-0.50850415882893829},null,{"$f":"N14","v":222},{"$f":"COUNTIF(L66:L94,AD14)","v":7},{"$f":"AE14/(AG4-AE9)","v":0.25},{"$f":"IF(AF14=0,0,(AF14*((LOG(AF14))/LOG(2))))","v":-0.5},null,{"$f":"N14","v":222},{"$f":"COUNTIF(L95:L123,AI14)","v":12},{"$f":"AJ14/(AL4-AJ9)","v":0.41379310344827586},{"$f":"IF(AK14=0,0,(AK14*((LOG(AK14))/LOG(2))))","v":-0.5267662735474824},null,{"$f":"N14","v":222},{"$f":"COUNTIF(L124:L153,AN14)","v":6},{"$f":"AO14/(AQ4-AO9)","v":0.2},{"$f":"IF(AP14=0,0,(AP14*((LOG(AP14))/LOG(2))))","v":-0.46438561897747244},null,{"$f":"N14","v":222},{"$f":"COUNTIF(L154:L182,AS14)","v":9},{"$f":"AT14/(AV4-AT9)","v":0.31034482758620691},{"$f":"IF(AU14=0,0,(AU14*((LOG(AU14))/LOG(2))))","v":-0.52387944631611505}]
[22,966,23,972,13,985,null,null,null,null,0,221,null,null,null,{"$f":"SUM(P7:P14)","v":1},{"$f":"-SUM(Q7:Q14)","v":2.5773042024831181},null,null,null,null,{"$f":"SUM(V7:V14)","v":1},{"$f":"-SUM(W7:W14)","v":2.6110410137920494},null,null,null,{"$f":"SUM(AA7:AA14)","v":1},{"$f":"-SUM(AB7:AB14)","v":2.3893643477641699},null,null,null,{"$f":"SUM(AF7:AF14)","v":1},{"$f":"-SUM(AG7:AG14)","v":2.5525182109944877},null,null,null,{"$f":"SUM(AK7:AK14)","v":1},{"$f":"-SUM(AL7:AL14)","v":2.2064688230730516},null,null,null,{"$f":"SUM(AP7:AP14)","v":1},{"$f":"-SUM(AQ7:AQ14)","v":2.3819370635467041},null,null,null,{"$f":"SUM(AU7:AU14)","v":1},{"$f":"-SUM(AV7:AV14)","v":2.0488423060748713}]
[22,1115,23,1128,13,1136,null,null,null,null,0,221,null,null,null,"U=",{"$f":"Q15/(LOG(Q4)/LOG(2))","v":0.34550946161149271},null,null,null,null,"U1=",{"$f":"W15/(LOG(W4)/LOG(2))","v":0.53747452211337499},null,null,null,"U2=",{"$f":"AB15/(LOG(AB4)/LOG(2))","v":0.48694061976897562},null,null,null,"U3=",{"$f":"AG15/(LOG(AG4)/LOG(2))","v":0.5254277885307902},null,null,null,"U4=",{"$f":"AL15/(LOG(AL4)/LOG(2))","v":0.45419461815229045},null,null,null,"U5=",{"$f":"AQ15/(LOG(AQ4)/LOG(2))","v":0.48542697603212259},null,null,null,"U6=",{"$f":"AV15/(LOG(AV4)/LOG(2))","v":0.4217476989164442}]
[22,1235,14,1246,13,1250,null,null,null,null,0,211]
[22,1348,23,1355,24,1359,null,null,null,null,0,222]
[22,1454,23,1458,24,1462,null,null,null,null,0,222,null,"Total Target Seq"]
[11,1559,21,1573,22,1578,null,null,null,null,0,122,null,{"$f":"COUNTIF(L7:L182,G3)","v":1},null,29,30,29,29,30,29]
[22,1585,14,1601,24,1611,null,null,null,null,0,212,null,null,null,"% of reinforcement given in 6 equal intervals based on number of trials "]
[22,1714,14,1725,24,1740,null,null,null,null,0,212,null,null,null,"%_1","%_2","%_3","%_4","%_5","%_6"]
[22,1841,23,1845,24,1852,null,null,null,null,0,222,null,null,"target sequence",{"$f":"$G$3","v":121},{"$f":"$G$3","v":121},{"$f":"$G$3","v":121},{"$f":"$G$3","v":121},{"$f":"$G$3","v":121},{"$f":"$G$3","v":121}]
[11,1956,12,1960,13,1965,null,null,null,null,0,111,null,null,"total reinforcement",{"$f":"U9","v":0},{"$f":"Z9","v":0},{"$f":"AE9","v":1},{"$f":"AJ9","v":0},{"$f":"AO9","v":0},{"$f":"AT9","v":0}]
[22,2063,14,2077,13,2083,null,null,null,null,0,211,null,null,"% target"]
[22,2181,14,2189,13,2194,null,null,null,null,0,211,null,null,"CCRF"]
[11,2300,12,2306,13,2313,null,null,null,null,0,111,null,null,"% CCRf"]
[11,2406,21,2412,22,2424,null,null,null,null,0,122,null,null,"average response rate",{"$f":"F35/P20","v":111.72413793103448},{"$f":"(F65-F35)/Q20","v":180.23333333333332},{"$f":"(F94-F65)/R20","v":141.41379310344828},{"$f":"(F123-F94)/S20","v":140.62068965517241},{"$f":"(F153-F123)/T20","v":114.83333333333333},{"$f":"(F182-F153)/U20","v":127.10344827586206}]
[22,2519,23,2523,24,2527,null,null,null,null,0,222]
[11,2624,12,2628,24,2646,null,null,null,null,0,112]
[11,2765,12,2771,24,2781,null,null,null,null,0,112]
[22,2877,14,2890,13,2895,null,null,null,null,0,211]
[11,2997,12,3000,24,3013,null,null,null,null,0,112]
[22,3109,14,3120,13,3127,null,null,null,null,0,211]
[11,3223,21,3237,22,3240,null,null,null,null,0,122]
[22,3338,23,3347,24,3353,null,null,null,null,0,222]
[11,3449,12,3453,24,3465,null,null,null,null,0,112]
[22,3565,23,3569,13,3580,null,null,null,null,0,221]
[11,3671,12,3680,24,3692,null,null,null,null,0,112]
[22,3794,23,3799,24,3804,null,null,null,null,0,222]
[11,3898,12,3903,24,3920,null,null,null,null,0,112]
[11,4015,12,4020,24,4026,null,null,null,null,0,112]
[22,4122,23,4128,13,4139,null,null,null,null,0,221]
[11,4248,12,4251,13,4253,null,null,null,null,0,111]
[22,4348,23,4354,13,4365,null,null,null,null,0,221]
[22,4463,14,4475,13,4480,null,null,null,null,0,211]
[22,4655,14,4663,13,4666,null,null,null,null,0,211]
[22,4762,23,4766,24,4772,null,null,null,null,0,222]
[22,4872,23,4876,24,4882,null,null,null,null,0,222]
[22,6884,23,6892,24,6897,null,null,null,null,0,222]
[11,6999,12,7003,24,7018,null,null,null,null,0,112]
[22,7116,14,7130,13,7137,null,null,null,null,0,211]
[22,7232,23,7236,24,7242,null,null,null,null,0,222]
[11,7352,12,7355,13,7366,null,null,null,null,0,111]
[22,7464,23,7472,13,7496,null,null,null,null,0,221]
[22,7595,23,7600,13,7611,null,null,null,null,0,221]
[22,7706,23,7711,13,7723,null,null,null,null,0,221]
[11,7816,12,7819,13,7827,null,null,null,null,0,111]
[22,7926,23,7935,13,7948,null,null,null,null,0,221]
[11,8051,21,8054,22,8064,null,null,null,null,0,122]
[11,8170,12,8174,24,8187,null,null,null,null,0,112]
[11,8294,12,8301,13,8307,null,null,null,null,0,111]
[22,8402,23,8409,24,8415,null,null,null,null,0,222]
[11,8517,12,8522,13,8527,null,null,null,null,0,111]
[22,8623,23,8629,24,8647,null,null,null,null,0,222]
[22,8747,23,8751,24,8758,null,null,null,null,0,222]
[22,8857,14,8867,13,8872,null,null,null,null,0,211]
[22,9092,23,9098,13,9111,null,null,null,null,0,221]
[22,9212,14,9222,13,9227,null,null,null,null,0,211]
[11,9342,12,9352,24,9363,null,null,null,null,0,112]
[11,9455,21,9463,22,9466,null,null,null,null,0,122]
[11,9561,12,9569,24,9581,null,null,null,null,0,112]
[22,9682,23,9687,24,9698,null,null,null,null,0,222]
[22,9794,14,9806,13,9812,null,null,null,null,0,211]
[11,9921,12,9926,24,9938,null,null,null,null,0,112]
[11,10048,12,10052,13,10057,null,null,null,null,0,111]
[11,10155,12,10161,24,10174,null,null,null,null,0,112]
[11,10273,12,10276,13,10280,null,null,null,null,0,111]
[22,10378,23,10385,13,10396,null,null,null,null,0,221]
[22,10497,23,10503,24,10510,null,null,null,null,0,222]
[22,10607,23,10609,13,10630,null,null,null,null,0,221]
[22,10728,23,10735,13,10747,null,null,null,null,0,221]
[22,10845,23,10851,13,10872,null,null,null,null,0,221]
[22,10969,23,10973,24,10978,null,null,null,null,0,222]
[11,11120,12,11125,24,11135,null,null,null,null,0,112]
[22,11537,14,11550,13,11557,null,null,null,null,0,211]
[22,11666,14,11679,13,11685,null,null,null,null,0,211]
[22,11796,23,11801,24,11807,null,null,null,null,0,222]
[22,12037,14,12052,24,12063,null,null,null,null,0,212]
[11,12160,12,12168,13,12173,null,null,null,null,0,111]
[22,12274,23,12276,24,12281,null,null,null,null,0,222]
[22,12379,14,12396,13,12400,null,null,null,null,0,211]
[11,12502,21,12504,11,12506,null,null,null,null,0,121]
[22,12737,23,12743,24,12748,null,null,null,null,0,222]
[22,12861,14,12871,13,12875,null,null,null,null,0,211]
[22,13067,14,13077,13,13083,null,null,null,null,0,211]
[22,13178,23,13182,24,13187,null,null,null,null,0,222]
[11,13286,21,13304,22,13308,null,null,null,null,0,122]
[11,13759,12,13768,24,13778,null,null,null,null,0,112]
[22,13874,23,13879,24,13885,null,null,null,null,0,222]
[22,13982,23,13988,24,13994,null,null,null,null,0,222]
[22,14095,14,14107,13,14113,null,null,null,null,0,211]
[22,14206,23,14211,24,14216,null,null,null,null,0,222]
[11,14310,12,14315,24,14325,null,null,null,null,0,112]
[22,14417,23,14421,24,14427,null,null,null,null,0,222]
[11,14522,21,14536,22,14539,null,null,null,null,0,122]
[22,14638,23,14642,24,14647,null,null,null,null,0,222]
[22,14748,23,14751,24,14755,null,null,null,null,0,222]
[11,14854,12,14859,13,14863,null,null,null,null,0,111]
[11,15173,12,15180,13,15187,null,null,null,null,0,111]
[11,15320,21,15335,22,15339,null,null,null,null,0,122]
[22,15435,23,15441,24,15445,null,null,null,null,0,222]
[22,15537,23,15543,24,15547,null,null,null,null,0,222]
[22,15645,23,15649,24,15656,null,null,null,null,0,222]
[11,15751,12,15756,13,15760,null,null,null,null,0,111]
[22,15859,14,15868,13,15871,null,null,null,null,0,211]
[22,15969,23,15977,13,15987,null,null,null,null,0,221]
[11,16263,12,16267,13,16273,null,null,null,null,0,111]
[22,16376,14,16390,13,16398,null,null,null,null,0,211]
[22,16496,23,16500,24,16506,null,null,null,null,0,222]
[22,16607,23,16610,24,16614,null,null,null,null,0,222]
[11,16709,12,16713,13,16717,null,null,null,null,0,111]
[11,16815,12,16819,13,16826,null,null,null,null,0,111]
[22,16925,14,16934,13,16938,null,null,null,null,0,211]
[11,17037,12,17042,13,17050,null,null,null,null,0,111]
[22,17145,23,17149,24,17153,null,null,null,null,0,222]
[22,17250,14,17260,13,17268,null,null,null,null,0,211]
[11,17364,12,17366,13,17372,null,null,null,null,0,111]
[22,17473,23,17478,13,17487,null,null,null,null,0,221]
[22,17586,23,17592,24,17598,null,null,null,null,0,222]
[22,17697,23,17701,24,17707,null,null,null,null,0,222]
[11,17809,12,17812,13,17817,null,null,null,null,0,111]
[22,17915,23,17920,24,17924,null,null,null,null,0,222]
[11,18022,12,18027,13,18031,null,null,null,null,0,111]
[22,18128,23,18133,24,18136,null,null,null,null,0,222]
[22,18249,23,18257,13,18267,null,null,null,null,0,221]
[22,18369,23,18374,13,18384,null,null,null,null,0,221]
[22,18501,14,18513,13,18518,null,null,null,null,0,211]
[11,18639,12,18643,13,18649,null,null,null,null,0,111]
[22,18747,23,18751,24,18755,null,null,null,null,0,222]
[22,18855,14,18866,13,18871,null,null,null,null,0,211]
[11,18968,21,18982,22,18985,null,null,null,null,0,122]
[11,19084,12,19088,13,19093,null,null,null,null,0,111]
[11,19189,12,19195,13,19199,null,null,null,null,0,111]
[11,19294,12,19298,24,19307,null,null,null,null,0,112]
[11,19433,12,19437,24,19457,null,null,null,null,0,112]
[11,19568,12,19575,13,19581,null,null,null,null,0,111]
[22,19678,14,19697,13,19703,null,null,null,null,0,211]
[11,19801,12,19807,24,19818,null,null,null,null,0,112]
[11,19914,12,19918,13,19923,null,null,null,null,0,111]
[11,20030,12,20033,13,20035,null,null,null,null,0,111]
[22,20135,14,20145,13,20150,null,null,null,null,0,211]
[11,20252,21,20266,22,20271,null,null,null,null,0,122]
[22,20371,14,20381,13,20386,null,null,null,null,0,211]
[11,20501,12,20514,13,20520,null,null,null,null,0,111]
[22,20619,23,20623,24,20627,null,null,null,null,0,222]
[11,20723,12,20726,13,20731,null,null,null,null,0,111]
[22,20834,23,20838,13,20851,null,null,null,null,0,221]
[22,21078,14,21087,13,21092,null,null,null,null,0,211]
[22,21192,14,21203,13,21208,null,null,null,null,0,211]
[11,21399,12,21404,13,21413,null,null,null,null,0,111]
[11,21514,12,21519,13,21525,null,null,null,null,0,111]
[22,21626,14,21639,13,21644,null,null,null,null,0,211]
[22,21833,23,21841,13,21850,null,null,null,null,0,221]
[11,21947,12,21952,13,21958,null,null,null,null,0,111]
[22,22054,23,22058,24,22064,null,null,null,null,0,222]
[22,22163,23,22167,24,22173,null,null,null,null,0,222]
[11,22267,12,22272,13,22276,null,null,null,null,0,111]
[11,22371,12,22379,13,22385,null,null,null,null,0,111]
[22,22486,14,22494,13,22497,null,null,null,null,0,211]
[22,22595,23,22605,24,22610,null,null,null,null,0,222]
[22,22709,23,22713,24,22718,null,null,null,null,0,222]
[11,22810,12,22814,13,22818,null,null,null,null,0,111]
[22,22923,23,22927,24,22931,null,null,null,null,0,222]
[11,23027,12,23032,24,23043,null,null,null,null,0,112]
[22,23143,14,23156,13,23161,null,null,null,null,0,211]
[11,23258,12,23265,13,23270,null,null,null,null,0,111]
[22,23505,23,23511,24,23515,null,null,null,null,0,222]
[22,23611,23,23616,13,23632,null,null,null,null,0,221]
[22,23726,23,23730,24,23734,null,null,null,null,0,222]
[22,23830,23,23835,24,23841,null,null,null,null,0,222]
[22,23939,14,23952,13,23957,null,null,null,null,null,211]

{"sheet":"!M219B2I.sha","index":12,"n_rows":179,"n_cols":48,"rows_kept":179,"cut":false,"hidden":false,"merged":[[4,39,4,42],[5,39,5,40],[4,44,4,47],[5,44,5,45],[4,24,4,27],[5,24,5,25],[4,29,4,32],[5,29,5,30],[4,34,4,37],[5,34,5,35],[1,1,1,2],[5,13,5,14],[18,13,18,14],[19,13,19,14],[4,19,4,22],[5,19,5,20]]}
["Report for:!M219B2I.sha"]
["Date:","<date>"]
["Hen:","<hen>",null,null,null,"Correct Sequence",{"$f":"Start!J2","v":121},null,null,null,null,null,null,null,null,"Total Sequences in Data",{"$f":"4994-COUNTBLANK(L7:L5000)","v":173},null,null,null,null,"Total Sequences in Block Data",{"$f":"COUNTA(L7:L35)","v":29},null,null,null,"Total Sequences in Block Data",{"$f":"COUNTA(L36:L64)","v":29},null,null,null,"Total Sequences in Block Data",{"$f":"COUNTA(L65:L92)","v":28},null,null,null,"Total Sequences in Block Data",{"$f":"COUNTA(L93:L121)","v":29},null,null,null,"Total Sequences in Block Data",{"$f":"COUNTA(L122:L150)","v":29},null,null,null,"Total Sequences in Block Data",{"$f":"COUNTA(L151:L179)","v":29}]
[null,null,null,null,null,null,null,null,null,null,null,null,null,null,null,"Total Sequences in Summary",{"$f":"SUM(O7:O14)","v":173},null,null,null,null,"Total Sequences in Block Summary",{"$f":"SUM(U7:U14)","v":29},null,null,null,"Total Sequences in Block Summary",{"$f":"SUM(Z7:Z14)","v":29},null,null,null,"Total Sequences in Block Summary",{"$f":"SUM(AE7:AE14)","v":28},null,null,null,"Total Sequences in Block Summary",{"$f":"SUM(AJ7:AJ14)","v":29},null,null,null,"Total Sequences in Block Summary",{"$f":"SUM(AO7:AO14)","v":29},null,null,null,"Total Sequences in Block Summary",{"$f":"SUM(AT7:AT14)","v":29}]
[null,null,null,null,null,null,null,null,null,null,null,null,null,null,null,null,null,null,null,"Block 1",null,null,null,null,"Block 2",null,null,null,null,"Block 3",null,null,null,null,"Block 4",null,null,null,null,"Block 5",null,null,null,null,"Block 6"]
["Sequence\nComponent\n1","Time\n1","Sequence\nComponent\n2","Time\n2","Sequence\nComponent\n3","Time\n3","Sequence\nComponent\n4","Time\n4","Sequence\nComponent\n5","Time\n5","Correct?\n0=No 1=Yes","Sequence",null,"Frequency",null,"Relative Frequency","Variability",null,null,"Frequency",null,"Relative Frequency","Variability",null,"Frequency",null,"Relative Frequency","Variability",null,"Frequency",null,"Relative Frequency","Variability",null,"Frequency",null,"Relative Frequency","Variability",null,"Frequency",null,"Relative Frequency","Variability",null,"Frequency",null,"Relative Frequency","Variability"]
[11,21,21,34,22,39,null,null,null,null,0,122,null,111,{"$f":"COUNTIF($L$7:$L$500,N7)","v":56},{"$f":"O7/$Q$4","v":0.32369942196531792},{"$f":"IF(P7=0,0,(P7*((LOG(P7))/LOG(2))))","v":-0.52674742839555344},null,null,{"$f":"N7","v":111},{"$f":"COUNTIF(L7:L35,T7)","v":7},{"$f":"U7/(W4-U9)","v":0.2413793103448276},{"$f":"IF(V7=0,0,(V7*((LOG(V7))/LOG(2))))","v":-0.49497870729275095},null,{"$f":"N7","v":111},{"$f":"COUNTIF(L36:L64,Y7)","v":7},{"$f":"Z7/(AB4-Z9)","v":0.2413793103448276},{"$f":"IF(AA7=0,0,(AA7*((LOG(AA7))/LOG(2))))","v":-0.49497870729275095},null,{"$f":"N7","v":111},{"$f":"COUNTIF(L65:L92,AD7)","v":8},{"$f":"AE7/(AG4-AE9)","v":0.2857142857142857},{"$f":"IF(AF7=0,0,(AF7*((LOG(AF7))/LOG(2))))","v":-0.51638712058788683},null,{"$f":"N7","v":111},{"$f":"COUNTIF(L93:L121,AI7)","v":8},{"$f":"AJ7/(AL4-AJ9)","v":0.2857142857142857},{"$f":"IF(AK7=0,0,(AK7*((LOG(AK7))/LOG(2))))","v":-0.51638712058788683},null,{"$f":"N7","v":111},{"$f":"COUNTIF(L122:L150,AN7)","v":12},{"$f":"AO7/(AQ4-AO9)","v":0.44444444444444442},{"$f":"IF(AP7=0,0,(AP7*((LOG(AP7))/LOG(2))))","v":-0.51996666730769447},null,{"$f":"N7","v":111},{"$f":"COUNTIF(L151:L179,AS7)","v":14},{"$f":"AT7/(AV4-AT9)","v":0.48275862068965519},{"$f":"IF(AU7=0,0,(AU7*((LOG(AU7))/LOG(2))))","v":-0.50719879389584666}]
[11,141,12,148,24,163,null,null,null,null,0,112,null,112,{"$f":"COUNTIF($L$7:$L$500,N8)","v":17},{"$f":"O8/$Q$4","v":9.8265895953757232E-2},{"$f":"IF(P8=0,0,(P8*((LOG(P8))/LOG(2))))","v":-0.32891220559866208},null,null,{"$f":"N8","v":112},{"$f":"COUNTIF(L7:L35,T8)","v":7},{"$f":"U8/(W4-U9)","v":0.2413793103448276},{"$f":"IF(V8=0,0,(V8*((LOG(V8))/LOG(2))))","v":-0.49497870729275095},null,{"$f":"N8","v":112},{"$f":"COUNTIF(L36:L64,Y8)","v":1},{"$f":"Z8/(AB4-Z9)","v":3.4482758620689655E-2},{"$f":"IF(AA8=0,0,(AA8*((LOG(AA8))/LOG(2))))","v":-0.16751658603888178},null,{"$f":"N8","v":112},{"$f":"COUNTIF(L65:L92,AD8)","v":3},{"$f":"AE8/(AG4-AE9)","v":0.10714285714285714},{"$f":"IF(AF8=0,0,(AF8*((LOG(AF8))/LOG(2))))","v":-0.34525633085747659},null,{"$f":"N8","v":112},{"$f":"COUNTIF(L93:L121,AI8)","v":5},{"$f":"AJ8/(AL4-AJ9)","v":0.17857142857142858},{"$f":"IF(AK8=0,0,(AK8*((LOG(AK8))/LOG(2))))","v":-0.44382621913754317},null,{"$f":"N8","v":112},{"$f":"COUNTIF(L122:L150,AN8)","v":0},{"$f":"AO8/(AQ4-AO9)","v":0},{"$f":"IF(AP8=0,0,(AP8*((LOG(AP8))/LOG(2))))","v":0},null,{"$f":"N8","v":112},{"$f":"COUNTIF(L151:L179,AS8)","v":1},{"$f":"AT8/(AV4-AT9)","v":3.4482758620689655E-2},{"$f":"IF(AU8=0,0,(AU8*((LOG(AU8))/LOG(2))))","v":-0.16751658603888178}]
[11,259,12,269,24,279,null,null,null,null,0,112,null,121,{"$f":"COUNTIF($L$7:$L$500,N9)","v":3},{"$f":"O9/$Q$4","v":1.7341040462427744E-2},{"$f":"IF(P9=0,0,(P9*((LOG(P9))/LOG(2))))","v":-0.10143929006211967},null,null,{"$f":"N9","v":121},{"$f":"COUNTIF(L7:L35,T9)","v":0},null,null,null,{"$f":"N9","v":121},{"$f":"COUNTIF(L36:L64,Y9)","v":0},null,null,null,{"$f":"N9","v":121},{"$f":"COUNTIF(L65:L92,AD9)","v":0},null,null,null,{"$f":"N9","v":121},{"$f":"COUNTIF(L93:L121,AI9)","v":1},null,null,null,{"$f":"N9","v":121},{"$f":"COUNTIF(L122:L150,AN9)","v":2},null,null,null,{"$f":"N9","v":121},{"$f":"COUNTIF(L151:L179,AS9)","v":0}]
[11,381,12,384,24,399,null,null,null,null,0,112,null,122,{"$f":"COUNTIF($L$7:$L$500,N10)","v":7},{"$f":"O10/$Q$4","v":4.046242774566474E-2},{"$f":"IF(P10=0,0,(P10*((LOG(P10))/LOG(2))))","v":-0.18723071178643838},null,null,{"$f":"N10","v":122},{"$f":"COUNTIF(L7:L35,T10)","v":3},{"$f":"U10/(W4-U9)","v":0.10344827586206896},{"$f":"IF(V10=0,0,(V10*((LOG(V10))/LOG(2))))","v":-0.33858812011100858},null,{"$f":"N10","v":122},{"$f":"COUNTIF(L36:L64,Y10)","v":2},{"$f":"Z10/(AB4-Z9)","v":6.8965517241379309E-2},{"$f":"IF(AA10=0,0,(AA10*((LOG(AA10))/LOG(2))))","v":-0.26606765483638428},null,{"$f":"N10","v":122},{"$f":"COUNTIF(L65:L92,AD10)","v":2},{"$f":"AE10/(AG4-AE9)","v":7.1428571428571425E-2},{"$f":"IF(AF10=0,0,(AF10*((LOG(AF10))/LOG(2))))","v":-0.27195392300411453},null,{"$f":"N10","v":122},{"$f":"COUNTIF(L93:L121,AI10)","v":0},{"$f":"AJ10/(AL4-AJ9)","v":0},{"$f":"IF(AK10=0,0,(AK10*((LOG(AK10))/LOG(2))))","v":0},null,{"$f":"N10","v":122},{"$f":"COUNTIF(L122:L150,AN10)","v":0},{"$f":"AO10/(AQ4-AO9)","v":0},{"$f":"IF(AP10=0,0,(AP10*((LOG(AP10))/LOG(2))))","v":0},null,{"$f":"N10","v":122},{"$f":"COUNTIF(L151:L179,AS10)","v":0},{"$f":"AT10/(AV4-AT9)","v":0},{"$f":"IF(AU10=0,0,(AU10*((LOG(AU10))/LOG(2))))","v":0}]
[22,496,23,500,24,505,null,null,null,null,0,222,null,211,{"$f":"COUNTIF($L$7:$L$500,N11)","v":34},{"$f":"O11/$Q$4","v":0.19653179190751446},{"$f":"IF(P11=0,0,(P11*((LOG(P11))/LOG(2))))","v":-0.4612926192898098},null,null,{"$f":"N11","v":211},{"$f":"COUNTIF(L7:L35,T11)","v":5},{"$f":"U11/(W4-U9)","v":0.17241379310344829},{"$f":"IF(V11=0,0,(V11*((LOG(V11))/LOG(2))))","v":-0.43725050004141547},null,{"$f":"N11","v":211},{"$f":"COUNTIF(L36:L64,Y11)","v":7},{"$f":"Z11/(AB4-Z9)","v":0.2413793103448276},{"$f":"IF(AA11=0,0,(AA11*((LOG(AA11))/LOG(2))))","v":-0.49497870729275095},null,{"$f":"N11","v":211},{"$f":"COUNTIF(L65:L92,AD11)","v":6},{"$f":"AE11/(AG4-AE9)","v":0.21428571428571427},{"$f":"IF(AF11=0,0,(AF11*((LOG(AF11))/LOG(2))))","v":-0.47622694742923877},null,{"$f":"N11","v":211},{"$f":"COUNTIF(L93:L121,AI11)","v":7},{"$f":"AJ11/(AL4-AJ9)","v":0.25},{"$f":"IF(AK11=0,0,(AK11*((LOG(AK11))/LOG(2))))","v":-0.5},null,{"$f":"N11","v":211},{"$f":"COUNTIF(L122:L150,AN11)","v":6},{"$f":"AO11/(AQ4-AO9)","v":0.22222222222222221},{"$f":"IF(AP11=0,0,(AP11*((LOG(AP11))/LOG(2))))","v":-0.48220555587606945},null,{"$f":"N11","v":211},{"$f":"COUNTIF(L151:L179,AS11)","v":3},{"$f":"AT11/(AV4-AT9)","v":0.10344827586206896},{"$f":"IF(AU11=0,0,(AU11*((LOG(AU11))/LOG(2))))","v":-0.33858812011100858}]
[22,608,23,611,24,617,null,null,null,null,0,222,null,212,{"$f":"COUNTIF($L$7:$L$500,N12)","v":3},{"$f":"O12/$Q$4","v":1.7341040462427744E-2},{"$f":"IF(P12=0,0,(P12*((LOG(P12))/LOG(2))))","v":-0.10143929006211967},null,null,{"$f":"N12","v":212},{"$f":"COUNTIF(L7:L35,T12)","v":0},{"$f":"U12/(W4-U9)","v":0},{"$f":"IF(V12=0,0,(V12*((LOG(V12))/LOG(2))))","v":0},null,{"$f":"N12","v":212},{"$f":"COUNTIF(L36:L64,Y12)","v":0},{"$f":"Z12/(AB4-Z9)","v":0},{"$f":"IF(AA12=0,0,(AA12*((LOG(AA12))/LOG(2))))","v":0},null,{"$f":"N12","v":212},{"$f":"COUNTIF(L65:L92,AD12)","v":0},{"$f":"AE12/(AG4-AE9)","v":0},{"$f":"IF(AF12=0,0,(AF12*((LOG(AF12))/LOG(2))))","v":0},null,{"$f":"N12","v":212},{"$f":"COUNTIF(L93:L121,AI12)","v":3},{"$f":"AJ12/(AL4-AJ9)","v":0.10714285714285714},{"$f":"IF(AK12=0,0,(AK12*((LOG(AK12))/LOG(2))))","v":-0.34525633085747659},null,{"$f":"N12","v":212},{"$f":"COUNTIF(L122:L150,AN12)","v":0},{"$f":"AO12/(AQ4-AO9)","v":0},{"$f":"IF(AP12=0,0,(AP12*((LOG(AP12))/LOG(2))))","v":0},null,{"$f":"N12","v":212},{"$f":"COUNTIF(L151:L179,AS12)","v":0},{"$f":"AT12/(AV4-AT9)","v":0},{"$f":"IF(AU12=0,0,(AU12*((LOG(AU12))/LOG(2))))","v":0}]
[11,720,21,730,22,734,null,null,null,null,0,122,null,221,{"$f":"COUNTIF($L$7:$L$500,N13)","v":16},{"$f":"O13/$Q$4","v":9.2485549132947972E-2},{"$f":"IF(P13=0,0,(P13*((LOG(P13))/LOG(2))))","v":-0.31765347770050628},null,null,{"$f":"N13","v":221},{"$f":"COUNTIF(L7:L35,T13)","v":2},{"$f":"U13/(W4-U9)","v":6.8965517241379309E-2},{"$f":"IF(V13=0,0,(V13*((LOG(V13))/LOG(2))))","v":-0.26606765483638428},null,{"$f":"N13","v":221},{"$f":"COUNTIF(L36:L64,Y13)","v":3},{"$f":"Z13/(AB4-Z9)","v":0.10344827586206896},{"$f":"IF(AA13=0,0,(AA13*((LOG(AA13))/LOG(2))))","v":-0.33858812011100858},null,{"$f":"N13","v":221},{"$f":"COUNTIF(L65:L92,AD13)","v":7},{"$f":"AE13/(AG4-AE9)","v":0.25},{"$f":"IF(AF13=0,0,(AF13*((LOG(AF13))/LOG(2))))","v":-0.5},null,{"$f":"N13","v":221},{"$f":"COUNTIF(L93:L121,AI13)","v":1},{"$f":"AJ13/(AL4-AJ9)","v":3.5714285714285712E-2},{"$f":"IF(AK13=0,0,(AK13*((LOG(AK13))/LOG(2))))","v":-0.17169124721634299},null,{"$f":"N13","v":221},{"$f":"COUNTIF(L122:L150,AN13)","v":2},{"$f":"AO13/(AQ4-AO9)","v":7.407407407407407E-2},{"$f":"IF(AP13=0,0,(AP13*((LOG(AP13))/LOG(2))))","v":-0.27813981497507173},null,{"$f":"N13","v":221},{"$f":"COUNTIF(L151:L179,AS13)","v":1},{"$f":"AT13/(AV4-AT9)","v":3.4482758620689655E-2},{"$f":"IF(AU13=0,0,(AU13*((LOG(AU13))/LOG(2))))","v":-0.16751658603888178}]
[11,835,21,849,22,853,null,null,null,null,0,122,null,222,{"$f":"COUNTIF($L$7:$L$500,N14)","v":37},{"$f":"O14/$Q$4","v":0.2138728323699422},{"$f":"IF(P14=0,0,(P14*((LOG(P14))/LOG(2))))","v":-0.47590445025599809},null,null,{"$f":"N14","v":222},{"$f":"COUNTIF(L7:L35,T14)","v":5},{"$f":"U14/(W4-U9)","v":0.17241379310344829},{"$f":"IF(V14=0,0,(V14*((LOG(V14))/LOG(2))))","v":-0.43725050004141547},null,{"$f":"N14","v":222},{"$f":"COUNTIF(L36:L64,Y14)","v":9},{"$f":"Z14/(AB4-Z9)","v":0.31034482758620691},{"$f":"IF(AA14=0,0,(AA14*((LOG(AA14))/LOG(2))))","v":-0.52387944631611505},null,{"$f":"N14","v":222},{"$f":"COUNTIF(L65:L92,AD14)","v":2},{"$f":"AE14/(AG4-AE9)","v":7.1428571428571425E-2},{"$f":"IF(AF14=0,0,(AF14*((LOG(AF14))/LOG(2))))","v":-0.27195392300411453},null,{"$f":"N14","v":222},{"$f":"COUNTIF(L93:L121,AI14)","v":4},{"$f":"AJ14/(AL4-AJ9)","v":0.14285714285714285},{"$f":"IF(AK14=0,0,(AK14*((LOG(AK14))/LOG(2))))","v":-0.40105070315108626},null,{"$f":"N14","v":222},{"$f":"COUNTIF(L122:L150,AN14)","v":7},{"$f":"AO14/(AQ4-AO9)","v":0.25925925925925924},{"$f":"IF(AP14=0,0,(AP14*((LOG(AP14))/LOG(2))))","v":-0.5049158541015204},null,{"$f":"N14","v":222},{"$f":"COUNTIF(L151:L179,AS14)","v":10},{"$f":"AT14/(AV4-AT9)","v":0.34482758620689657},{"$f":"IF(AU14=0,0,(AU14*((LOG(AU14))/LOG(2))))","v":-0.52967341387593436}]
[22,953,14,964,13,969,null,null,null,null,0,211,null,null,null,{"$f":"SUM(P7:P14)","v":1},{"$f":"-SUM(Q7:Q14)","v":2.5006194731512075},null,null,null,null,{"$f":"SUM(V7:V14)","v":1},{"$f":"-SUM(W7:W14)","v":2.4691141896157256},null,null,null,{"$f":"SUM(AA7:AA14)","v":1},{"$f":"-SUM(AB7:AB14)","v":2.2860092218878916},null,null,null,{"$f":"SUM(AF7:AF14)","v":1},{"$f":"-SUM(AG7:AG14)","v":2.3817782448828311},null,null,null,{"$f":"SUM(AK7:AK14)","v":1},{"$f":"-SUM(AL7:AL14)","v":2.3782116209503359},null,null,null,{"$f":"SUM(AP7:AP14)","v":1},{"$f":"-SUM(AQ7:AQ14)","v":1.7852278922603562},null,null,null,{"$f":"SUM(AU7:AU14)","v":1},{"$f":"-SUM(AV7:AV14)","v":1.710493499960553}]
[22,1065,23,1070,13,1081,null,null,null,null,0,221,null,null,null,"U=",{"$f":"Q15/(LOG(Q4)/LOG(2))","v":0.33634761505029409},null,null,null,null,"U1=",{"$f":"W15/(LOG(W4)/LOG(2))","v":0.50825933491550968},null,null,null,"U2=",{"$f":"AB15/(LOG(AB4)/LOG(2))","v":0.47056775730096501},null,null,null,"U3=",{"$f":"AG15/(LOG(AG4)/LOG(2))","v":0.49544464336396499},null,null,null,"U4=",{"$f":"AL15/(LOG(AL4)/LOG(2))","v":0.48954732909322207},null,null,null,"U5=",{"$f":"AQ15/(LOG(AQ4)/LOG(2))","v":0.36748350684181208},null,null,null,"U6=",{"$f":"AV15/(LOG(AV4)/LOG(2))","v":0.35209966891104211}]
[11,1384,12,1389,13,1394,null,null,null,null,0,111]
[22,1492,14,1504,13,1506,null,null,null,null,0,211]
[22,1608,14,1622,13,1628,null,null,null,null,0,211,null,"Total Target Seq"]
[11,1724,12,1732,24,1742,null,null,null,null,0,112,null,{"$f":"COUNTIF(L7:L179,G3)","v":3},null,29,29,28,29,29,29]
[11,1838,12,1842,13,1849,null,null,null,null,0,111,null,null,null,"% of reinforcement given in 6 equal intervals based on number of trials "]
[22,1947,14,1957,13,1963,null,null,null,null,0,211,null,null,null,"%_1","%_2","%_3","%_4","%_5","%_6"]
[11,2120,12,2126,24,2139,null,null,null,null,0,112,null,null,"target sequence",{"$f":"$G$3","v":121},{"$f":"$G$3","v":121},{"$f":"$G$3","v":121},{"$f":"$G$3","v":121},{"$f":"$G$3","v":121},{"$f":"$G$3","v":121}]
[22,2247,14,2257,13,2264,null,null,null,null,0,211,null,null,"total reinforcement",{"$f":"U9","v":0},{"$f":"Z9","v":0},{"$f":"AE9","v":0},{"$f":"AJ9","v":1},{"$f":"AO9","v":2},{"$f":"AT9","v":0}]
[22,2361,23,2365,24,2373,null,null,null,null,0,222,null,null,"% target"]
[11,2470,12,2481,24,2492,null,null,null,null,0,112,null,null,"CCRF"]
[11,2610,12,2615,13,2620,null,null,null,null,0,111,null,null,"% CCRf"]
[11,2714,12,2720,24,2729,null,null,null,null,0,112,null,null,"average response rate",{"$f":"F35/P20","v":120.82758620689656},{"$f":"(F64-F35)/Q20","v":177.37931034482759},{"$f":"(F92-F64)/R20","v":130.21428571428572},{"$f":"(F121-F92)/S20","v":159.0344827586207},{"$f":"(F150-F121)/T20","v":122.44827586206897},{"$f":"(F179-F150)/U20","v":119.41379310344827}]
[11,2828,12,2832,13,2841,null,null,null,null,0,111]
[22,2939,23,2943,13,2953,null,null,null,null,0,221]
[11,3047,12,3051,13,3055,null,null,null,null,0,111]
[11,3154,12,3160,13,3165,null,null,null,null,0,111]
[22,3262,23,3270,24,3275,null,null,null,null,0,222]
[22,3374,23,3380,24,3386,null,null,null,null,0,222]
[11,3494,12,3498,13,3504,null,null,null,null,0,111]
[22,3600,23,3606,24,3611,null,null,null,null,0,222]
[11,3710,12,3714,13,3719,null,null,null,null,0,111]
[22,3821,14,3832,13,3836,null,null,null,null,0,211]
[22,3935,23,3939,24,3944,null,null,null,null,0,222]
[11,4055,12,4059,13,4063,null,null,null,null,0,111]
[22,4161,23,4165,13,4176,null,null,null,null,0,221]
[22,4277,14,4287,13,4292,null,null,null,null,0,211]
[11,4396,12,4401,13,4407,null,null,null,null,0,111]
[22,4502,23,4506,24,4512,null,null,null,null,0,222]
[11,5517,12,5522,13,5530,null,null,null,null,0,111]
[11,5636,12,5641,13,5647,null,null,null,null,0,111]
[22,5742,23,5747,24,5752,null,null,null,null,0,222]
[11,5848,12,5850,24,5862,null,null,null,null,0,112]
[22,5958,23,5962,24,5967,null,null,null,null,0,222]
[22,6066,14,6075,13,6079,null,null,null,null,0,211]
[11,6180,21,6188,22,6192,null,null,null,null,0,122]
[22,6289,23,6298,13,6309,null,null,null,null,0,221]
[22,6407,23,6420,24,6425,null,null,null,null,0,222]
[22,6525,14,6535,13,6542,null,null,null,null,0,211]
[11,7512,12,7517,13,7526,null,null,null,null,0,111]
[22,7623,23,7627,24,7634,null,null,null,null,0,222]
[22,7734,14,7744,13,7751,null,null,null,null,0,211]
[22,7849,14,7861,13,7864,null,null,null,null,0,211]
[22,7966,14,7979,13,7985,null,null,null,null,0,211]
[11,8173,12,8177,13,8183,null,null,null,null,0,111]
[11,8285,21,8299,22,8307,null,null,null,null,0,122]
[22,8406,23,8410,13,8420,null,null,null,null,0,221]
[22,8526,23,8536,24,8541,null,null,null,null,0,222]
[22,8639,23,8644,24,8648,null,null,null,null,0,222]
[11,8763,12,8767,13,8772,null,null,null,null,0,111]
[11,8911,12,8915,24,8930,null,null,null,null,0,112]
[22,9029,14,9040,13,9044,null,null,null,null,0,211]
[11,9170,12,9175,24,9198,null,null,null,null,0,112]
[11,9299,12,9303,24,9315,null,null,null,null,0,112]
[22,9417,23,9420,13,9428,null,null,null,null,0,221]
[11,9529,21,9531,22,9541,null,null,null,null,0,122]
[22,9638,23,9643,24,9655,null,null,null,null,0,222]
[22,9753,23,9767,13,9778,null,null,null,null,0,221]
[22,9910,23,9919,13,9927,null,null,null,null,0,221]
[11,10035,12,10038,13,10044,null,null,null,null,0,111]
[11,10160,12,10165,13,10171,null,null,null,null,0,111]
[11,10270,21,10272,22,10284,null,null,null,null,0,122]
[22,10408,14,10417,13,10422,null,null,null,null,0,211]
[22,10597,23,10601,13,10614,null,null,null,null,0,221]
[22,10721,14,10733,13,10740,null,null,null,null,0,211]
[11,10863,12,10867,13,10871,null,null,null,null,0,111]
[22,10971,14,10980,13,10986,null,null,null,null,0,211]
[11,11084,12,11088,13,11094,null,null,null,null,0,111]
[22,11191,23,11199,13,11209,null,null,null,null,0,221]
[22,11306,23,11310,13,11328,null,null,null,null,0,221]
[22,11426,14,11437,13,11441,null,null,null,null,0,211]
[22,11539,14,11555,13,11558,null,null,null,null,0,211]
[11,11667,12,11669,13,11672,null,null,null,null,0,111]
[11,11765,12,11771,13,11775,null,null,null,null,0,111]
[22,11875,23,11881,24,11891,null,null,null,null,0,222]
[22,12153,23,12165,13,12176,null,null,null,null,0,221]
[11,12284,12,12290,13,12294,null,null,null,null,0,111]
[11,12441,12,12444,24,12458,null,null,null,null,0,112]
[22,12836,23,12847,24,12853,null,null,null,null,0,222]
[22,13045,14,13058,13,13065,null,null,null,null,0,211]
[11,13251,12,13260,24,13272,null,null,null,null,0,112]
[11,13459,12,13461,24,13473,null,null,null,null,0,112]
[22,13665,14,13674,24,13688,null,null,null,null,0,212]
[11,13796,12,13801,13,13808,null,null,null,null,0,111]
[11,14024,12,14035,24,14043,null,null,null,null,0,112]
[22,14143,14,14150,13,14153,null,null,null,null,0,211]
[22,14247,23,14250,24,14251,null,null,null,null,0,222]
[11,14386,12,14389,13,14395,null,null,null,null,0,111]
[11,14587,21,14615,11,14626,null,null,null,null,0,121]
[11,14858,12,14861,13,14865,null,null,null,null,0,111]
[22,14965,14,14975,13,14983,null,null,null,null,0,211]
[11,15084,12,15090,13,15095,null,null,null,null,0,111]
[22,15195,14,15208,13,15215,null,null,null,null,0,211]
[22,15312,23,15324,24,15335,null,null,null,null,0,222]
[11,15441,12,15444,13,15455,null,null,null,null,0,111]
[22,15554,14,15570,24,15590,null,null,null,null,0,212]
[22,15688,14,15701,24,15721,null,null,null,null,0,212]
[22,15816,23,15823,13,15834,null,null,null,null,0,221]
[22,16109,14,16121,13,16128,null,null,null,null,0,211]
[22,16227,23,16232,24,16237,null,null,null,null,0,222]
[11,16338,12,16348,24,16355,null,null,null,null,0,112]
[11,16450,12,16453,13,16460,null,null,null,null,0,111]
[11,16558,12,16572,13,16578,null,null,null,null,0,111]
[22,16674,14,16685,13,16690,null,null,null,null,0,211]
[22,16784,14,16796,13,16801,null,null,null,null,0,211]
[11,16897,12,16900,13,16906,null,null,null,null,0,111]
[11,17000,21,17005,11,17017,null,null,null,null,0,121]
[22,17221,23,17226,24,17230,null,null,null,null,0,222]
[22,17326,23,17333,24,17338,null,null,null,null,0,222]
[22,17436,14,17446,13,17452,null,null,null,null,0,211]
[11,17548,12,17551,13,17561,null,null,null,null,0,111]
[11,17659,12,17664,13,17671,null,null,null,null,0,111]
[22,17769,23,17780,24,17784,null,null,null,null,0,222]
[11,17884,12,17889,13,17895,null,null,null,null,0,111]
[22,17994,14,18008,13,18016,null,null,null,null,0,211]
[11,18108,12,18116,13,18121,null,null,null,null,0,111]
[22,18220,14,18233,13,18239,null,null,null,null,0,211]
[11,18333,12,18345,13,18351,null,null,null,null,0,111]
[11,18447,21,18449,11,18461,null,null,null,null,0,121]
[22,18616,23,18620,13,18633,null,null,null,null,0,221]
[22,18730,23,18734,24,18739,null,null,null,null,0,222]
[11,18833,12,18839,13,18845,null,null,null,null,0,111]
[11,18944,12,18949,13,18956,null,null,null,null,0,111]
[22,19054,23,19059,24,19066,null,null,null,null,0,222]
[11,19160,12,19165,13,19172,null,null,null,null,0,111]
[11,19271,12,19275,13,19281,null,null,null,null,0,111]
[11,19376,12,19381,13,19389,null,null,null,null,0,111]
[22,19488,14,19505,13,19510,null,null,null,null,0,211]
[22,19607,23,19613,24,19619,null,null,null,null,0,222]
[22,19715,14,19729,13,19735,null,null,null,null,0,211]
[22,19827,23,19831,24,19835,null,null,null,null,0,222]
[11,19930,12,19934,13,19939,null,null,null,null,0,111]
[22,20036,23,20046,13,20059,null,null,null,null,0,221]
[22,20331,14,20344,13,20352,null,null,null,null,0,211]
[11,20448,12,20453,13,20457,null,null,null,null,0,111]
[22,20553,14,20567,13,20573,null,null,null,null,0,211]
[11,20680,12,20686,13,20694,null,null,null,null,0,111]
[22,20791,23,20796,13,20809,null,null,null,null,0,221]
[22,20916,14,20926,13,20932,null,null,null,null,0,211]
[11,21029,12,21033,13,21045,null,null,null,null,0,111]
[22,21141,23,21147,24,21151,null,null,null,null,0,222]
[22,21252,23,21256,24,21262,null,null,null,null,0,222]
[11,21367,12,21372,13,21378,null,null,null,null,0,111]
[22,21469,23,21474,24,21479,null,null,null,null,0,222]
[11,21576,12,21587,13,21594,null,null,null,null,0,111]
[22,21690,23,21695,24,21702,null,null,null,null,0,222]
[22,21795,23,21798,24,21804,null,null,null,null,0,222]
[22,21902,23,21907,24,21914,null,null,null,null,0,222]
[11,22123,12,22128,24,22148,null,null,null,null,0,112]
[22,22245,23,22249,24,22254,null,null,null,null,0,222]
[11,22350,12,22354,13,22359,null,null,null,null,0,111]
[11,22454,12,22457,13,22462,null,null,null,null,0,111]
[11,22557,12,22562,13,22567,null,null,null,null,0,111]
[11,22666,12,22670,13,22676,null,null,null,null,0,111]
[22,22773,23,22782,24,22788,null,null,null,null,0,222]
[11,22884,12,22888,13,22893,null,null,null,null,0,111]
[22,22990,23,23001,24,23008,null,null,null,null,0,222]
[11,23106,12,23110,13,23116,null,null,null,null,0,111]
[22,23213,14,23225,13,23228,null,null,null,null,0,211]
[22,23326,23,23330,24,23336,null,null,null,null,0,222]
[11,23536,12,23541,13,23546,null,null,null,null,0,111]
[11,23681,12,23687,13,23694,null,null,null,null,0,111]
[11,23804,12,23810,13,23816,null,null,null,null,0,111]
[11,23912,12,23916,13,23920,null,null,null,null,null,111]

{"sheet":"!M220B1I.sha","index":13,"n_rows":184,"n_cols":48,"rows_kept":184,"cut":false,"hidden":false,"merged":[[4,39,4,42],[5,39,5,40],[4,44,4,47],[5,44,5,45],[4,24,4,27],[5,24,5,25],[4,29,4,32],[5,29,5,30],[4,34,4,37],[5,34,5,35],[1,1,1,2],[5,13,5,14],[18,13,18,14],[19,13,19,14],[4,19,4,22],[5,19,5,20]]}
["Report for:!M220B1I.sha"]
["Date:","<date>"]
["Hen:","<hen>",null,null,null,"Correct Sequence",{"$f":"Start!J2","v":121},null,null,null,null,null,null,null,null,"Total Sequences in Data",{"$f":"4994-COUNTBLANK(L7:L5000)","v":178},null,null,null,null,"Total Sequences in Block Data",{"$f":"COUNTA(L7:L36)","v":30},null,null,null,"Total Sequences in Block Data",{"$f":"COUNTA(L37:L65)","v":29},null,null,null,"Total Sequences in Block Data",{"$f":"COUNTA(L66:L95)","v":30},null,null,null,"Total Sequences in Block Data",{"$f":"COUNTA(L96:L125)","v":30},null,null,null,"Total Sequences in Block Data",{"$f":"COUNTA(L126:L154)","v":29},null,null,null,"Total Sequences in Block Data",{"$f":"COUNTA(L155:L184)","v":30}]
[null,null,null,null,null,null,null,null,null,null,null,null,null,null,null,"Total Sequences in Summary",{"$f":"SUM(O7:O14)","v":178},null,null,null,null,"Total Sequences in Block Summary",{"$f":"SUM(U7:U14)","v":30},null,null,null,"Total Sequences in Block Summary",{"$f":"SUM(Z7:Z14)","v":29},null,null,null,"Total Sequences in Block Summary",{"$f":"SUM(AE7:AE14)","v":30},null,null,null,"Total Sequences in Block Summary",{"$f":"SUM(AJ7:AJ14)","v":30},null,null,null,"Total Sequences in Block Summary",{"$f":"SUM(AO7:AO14)","v":29},null,null,null,"Total Sequences in Block Summary",{"$f":"SUM(AT7:AT14)","v":30}]
[null,null,null,null,null,null,null,null,null,null,null,null,null,null,null,null,null,null,null,"Block 1",null,null,null,null,"Block 2",null,null,null,null,"Block 3",null,null,null,null,"Block 4",null,null,null,null,"Block 5",null,null,null,null,"Block 6"]
["Sequence\nComponent\n1","Time\n1","Sequence\nComponent\n2","Time\n2","Sequence\nComponent\n3","Time\n3","Sequence\nComponent\n4","Time\n4","Sequence\nComponent\n5","Time\n5","Correct?\n0=No 1=Yes","Sequence",null,"Frequency",null,"Relative Frequency","Variability",null,null,"Frequency",null,"Relative Frequency","Variability",null,"Frequency",null,"Relative Frequency","Variability",null,"Frequency",null,"Relative Frequency","Variability",null,"Frequency",null,"Relative Frequency","Variability",null,"Frequency",null,"Relative Frequency","Variability",null,"Frequency",null,"Relative Frequency","Variability"]
[11,18,21,31,22,35,null,null,null,null,0,122,null,111,{"$f":"COUNTIF($L$7:$L$500,N7)","v":37},{"$f":"O7/$Q$4","v":0.20786516853932585},{"$f":"IF(P7=0,0,(P7*((LOG(P7))/LOG(2))))","v":-0.471080687738683},null,null,{"$f":"N7","v":111},{"$f":"COUNTIF(L7:L36,T7)","v":5},{"$f":"U7/(W4-U9)","v":0.16666666666666666},{"$f":"IF(V7=0,0,(V7*((LOG(V7))/LOG(2))))","v":-0.43082708345352599},null,{"$f":"N7","v":111},{"$f":"COUNTIF(L37:L65,Y7)","v":9},{"$f":"Z7/(AB4-Z9)","v":0.31034482758620691},{"$f":"IF(AA7=0,0,(AA7*((LOG(AA7))/LOG(2))))","v":-0.52387944631611505},null,{"$f":"N7","v":111},{"$f":"COUNTIF(L66:L95,AD7)","v":4},{"$f":"AE7/(AG4-AE9)","v":0.13333333333333333},{"$f":"IF(AF7=0,0,(AF7*((LOG(AF7))/LOG(2))))","v":-0.3875854127478025},null,{"$f":"N7","v":111},{"$f":"COUNTIF(L96:L125,AI7)","v":9},{"$f":"AJ7/(AL4-AJ9)","v":0.3},{"$f":"IF(AK7=0,0,(AK7*((LOG(AK7))/LOG(2))))","v":-0.52108967824986185},null,{"$f":"N7","v":111},{"$f":"COUNTIF(L126:L154,AN7)","v":4},{"$f":"AO7/(AQ4-AO9)","v":0.13793103448275862},{"$f":"IF(AP7=0,0,(AP7*((LOG(AP7))/LOG(2))))","v":-0.39420427519000989},null,{"$f":"N7","v":111},{"$f":"COUNTIF(L155:L184,AS7)","v":6},{"$f":"AT7/(AV4-AT9)","v":0.2},{"$f":"IF(AU7=0,0,(AU7*((LOG(AU7))/LOG(2))))","v":-0.46438561897747244}]
[11,132,12,141,24,154,null,null,null,null,0,112,null,112,{"$f":"COUNTIF($L$7:$L$500,N8)","v":24},{"$f":"O8/$Q$4","v":0.1348314606741573},{"$f":"IF(P8=0,0,(P8*((LOG(P8))/LOG(2))))","v":-0.38976686699935842},null,null,{"$f":"N8","v":112},{"$f":"COUNTIF(L7:L36,T8)","v":9},{"$f":"U8/(W4-U9)","v":0.3},{"$f":"IF(V8=0,0,(V8*((LOG(V8))/LOG(2))))","v":-0.52108967824986185},null,{"$f":"N8","v":112},{"$f":"COUNTIF(L37:L65,Y8)","v":1},{"$f":"Z8/(AB4-Z9)","v":3.4482758620689655E-2},{"$f":"IF(AA8=0,0,(AA8*((LOG(AA8))/LOG(2))))","v":-0.16751658603888178},null,{"$f":"N8","v":112},{"$f":"COUNTIF(L66:L95,AD8)","v":3},{"$f":"AE8/(AG4-AE9)","v":0.1},{"$f":"IF(AF8=0,0,(AF8*((LOG(AF8))/LOG(2))))","v":-0.33219280948873625},null,{"$f":"N8","v":112},{"$f":"COUNTIF(L96:L125,AI8)","v":1},{"$f":"AJ8/(AL4-AJ9)","v":3.3333333333333333E-2},{"$f":"IF(AK8=0,0,(AK8*((LOG(AK8))/LOG(2))))","v":-0.16356301985361729},null,{"$f":"N8","v":112},{"$f":"COUNTIF(L126:L154,AN8)","v":4},{"$f":"AO8/(AQ4-AO9)","v":0.13793103448275862},{"$f":"IF(AP8=0,0,(AP8*((LOG(AP8))/LOG(2))))","v":-0.39420427519000989},null,{"$f":"N8","v":112},{"$f":"COUNTIF(L155:L184,AS8)","v":6},{"$f":"AT8/(AV4-AT9)","v":0.2},{"$f":"IF(AU8=0,0,(AU8*((LOG(AU8))/LOG(2))))","v":-0.46438561897747244}]
[11,252,12,255,13,262,null,null,null,null,0,111,null,121,{"$f":"COUNTIF($L$7:$L$500,N9)","v":0},{"$f":"O9/$Q$4","v":0},{"$f":"IF(P9=0,0,(P9*((LOG(P9))/LOG(2))))","v":0},null,null,{"$f":"N9","v":121},{"$f":"COUNTIF(L7:L36,T9)","v":0},null,null,null,{"$f":"N9","v":121},{"$f":"COUNTIF(L37:L65,Y9)","v":0},null,null,null,{"$f":"N9","v":121},{"$f":"COUNTIF(L66:L95,AD9)","v":0},null,null,null,{"$f":"N9","v":121},{"$f":"COUNTIF(L96:L125,AI9)","v":0},null,null,null,{"$f":"N9","v":121},{"$f":"COUNTIF(L126:L154,AN9)","v":0},null,null,null,{"$f":"N9","v":121},{"$f":"COUNTIF(L155:L184,AS9)","v":0}]
[11,359,21,371,22,373,null,null,null,null,0,122,null,122,{"$f":"COUNTIF($L$7:$L$500,N10)","v":12},{"$f":"O10/$Q$4","v":6.741573033707865E-2},{"$f":"IF(P10=0,0,(P10*((LOG(P10))/LOG(2))))","v":-0.26229916383675783},null,null,{"$f":"N10","v":122},{"$f":"COUNTIF(L7:L36,T10)","v":2},{"$f":"U10/(W4-U9)","v":6.6666666666666666E-2},{"$f":"IF(V10=0,0,(V10*((LOG(V10))/LOG(2))))","v":-0.26045937304056793},null,{"$f":"N10","v":122},{"$f":"COUNTIF(L37:L65,Y10)","v":2},{"$f":"Z10/(AB4-Z9)","v":6.8965517241379309E-2},{"$f":"IF(AA10=0,0,(AA10*((LOG(AA10))/LOG(2))))","v":-0.26606765483638428},null,{"$f":"N10","v":122},{"$f":"COUNTIF(L66:L95,AD10)","v":2},{"$f":"AE10/(AG4-AE9)","v":6.6666666666666666E-2},{"$f":"IF(AF10=0,0,(AF10*((LOG(AF10))/LOG(2))))","v":-0.26045937304056793},null,{"$f":"N10","v":122},{"$f":"COUNTIF(L96:L125,AI10)","v":0},{"$f":"AJ10/(AL4-AJ9)","v":0},{"$f":"IF(AK10=0,0,(AK10*((LOG(AK10))/LOG(2))))","v":0},null,{"$f":"N10","v":122},{"$f":"COUNTIF(L126:L154,AN10)","v":3},{"$f":"AO10/(AQ4-AO9)","v":0.10344827586206896},{"$f":"IF(AP10=0,0,(AP10*((LOG(AP10))/LOG(2))))","v":-0.33858812011100858},null,{"$f":"N10","v":122},{"$f":"COUNTIF(L155:L184,AS10)","v":3},{"$f":"AT10/(AV4-AT9)","v":0.1},{"$f":"IF(AU10=0,0,(AU10*((LOG(AU10))/LOG(2))))","v":-0.33219280948873625}]
[11,471,12,475,24,492,null,null,null,null,0,112,null,211,{"$f":"COUNTIF($L$7:$L$500,N11)","v":33},{"$f":"O11/$Q$4","v":0.1853932584269663},{"$f":"IF(P11=0,0,(P11*((LOG(P11))/LOG(2))))","v":-0.45075391732057396},null,null,{"$f":"N11","v":211},{"$f":"COUNTIF(L7:L36,T11)","v":6},{"$f":"U11/(W4-U9)","v":0.2},{"$f":"IF(V11=0,0,(V11*((LOG(V11))/LOG(2))))","v":-0.46438561897747244},null,{"$f":"N11","v":211},{"$f":"COUNTIF(L37:L65,Y11)","v":3},{"$f":"Z11/(AB4-Z9)","v":0.10344827586206896},{"$f":"IF(AA11=0,0,(AA11*((LOG(AA11))/LOG(2))))","v":-0.33858812011100858},null,{"$f":"N11","v":211},{"$f":"COUNTIF(L66:L95,AD11)","v":5},{"$f":"AE11/(AG4-AE9)","v":0.16666666666666666},{"$f":"IF(AF11=0,0,(AF11*((LOG(AF11))/LOG(2))))","v":-0.43082708345352599},null,{"$f":"N11","v":211},{"$f":"COUNTIF(L96:L125,AI11)","v":5},{"$f":"AJ11/(AL4-AJ9)","v":0.16666666666666666},{"$f":"IF(AK11=0,0,(AK11*((LOG(AK11))/LOG(2))))","v":-0.43082708345352599},null,{"$f":"N11","v":211},{"$f":"COUNTIF(L126:L154,AN11)","v":7},{"$f":"AO11/(AQ4-AO9)","v":0.2413793103448276},{"$f":"IF(AP11=0,0,(AP11*((LOG(AP11))/LOG(2))))","v":-0.49497870729275095},null,{"$f":"N11","v":211},{"$f":"COUNTIF(L155:L184,AS11)","v":7},{"$f":"AT11/(AV4-AT9)","v":0.23333333333333334},{"$f":"IF(AU11=0,0,(AU11*((LOG(AU11))/LOG(2))))","v":-0.48989165716187993}]
[11,602,12,608,24,618,null,null,null,null,0,112,null,212,{"$f":"COUNTIF($L$7:$L$500,N12)","v":2},{"$f":"O12/$Q$4","v":1.1235955056179775E-2},{"$f":"IF(P12=0,0,(P12*((LOG(P12))/LOG(2))))","v":-7.2761049786139301E-2},null,null,{"$f":"N12","v":212},{"$f":"COUNTIF(L7:L36,T12)","v":1},{"$f":"U12/(W4-U9)","v":3.3333333333333333E-2},{"$f":"IF(V12=0,0,(V12*((LOG(V12))/LOG(2))))","v":-0.16356301985361729},null,{"$f":"N12","v":212},{"$f":"COUNTIF(L37:L65,Y12)","v":0},{"$f":"Z12/(AB4-Z9)","v":0},{"$f":"IF(AA12=0,0,(AA12*((LOG(AA12))/LOG(2))))","v":0},null,{"$f":"N12","v":212},{"$f":"COUNTIF(L66:L95,AD12)","v":1},{"$f":"AE12/(AG4-AE9)","v":3.3333333333333333E-2},{"$f":"IF(AF12=0,0,(AF12*((LOG(AF12))/LOG(2))))","v":-0.16356301985361729},null,{"$f":"N12","v":212},{"$f":"COUNTIF(L96:L125,AI12)","v":0},{"$f":"AJ12/(AL4-AJ9)","v":0},{"$f":"IF(AK12=0,0,(AK12*((LOG(AK12))/LOG(2))))","v":0},null,{"$f":"N12","v":212},{"$f":"COUNTIF(L126:L154,AN12)","v":0},{"$f":"AO12/(AQ4-AO9)","v":0},{"$f":"IF(AP12=0,0,(AP12*((LOG(AP12))/LOG(2))))","v":0},null,{"$f":"N12","v":212},{"$f":"COUNTIF(L155:L184,AS12)","v":0},{"$f":"AT12/(AV4-AT9)","v":0},{"$f":"IF(AU12=0,0,(AU12*((LOG(AU12))/LOG(2))))","v":0}]
[11,715,12,724,24,738,null,null,null,null,0,112,null,221,{"$f":"COUNTIF($L$7:$L$500,N13)","v":13},{"$f":"O13/$Q$4","v":7.3033707865168537E-2},{"$f":"IF(P13=0,0,(P13*((LOG(P13))/LOG(2))))","v":-0.27572369812769087},null,null,{"$f":"N13","v":221},{"$f":"COUNTIF(L7:L36,T13)","v":1},{"$f":"U13/(W4-U9)","v":3.3333333333333333E-2},{"$f":"IF(V13=0,0,(V13*((LOG(V13))/LOG(2))))","v":-0.16356301985361729},null,{"$f":"N13","v":221},{"$f":"COUNTIF(L37:L65,Y13)","v":4},{"$f":"Z13/(AB4-Z9)","v":0.13793103448275862},{"$f":"IF(AA13=0,0,(AA13*((LOG(AA13))/LOG(2))))","v":-0.39420427519000989},null,{"$f":"N13","v":221},{"$f":"COUNTIF(L66:L95,AD13)","v":4},{"$f":"AE13/(AG4-AE9)","v":0.13333333333333333},{"$f":"IF(AF13=0,0,(AF13*((LOG(AF13))/LOG(2))))","v":-0.3875854127478025},null,{"$f":"N13","v":221},{"$f":"COUNTIF(L96:L125,AI13)","v":1},{"$f":"AJ13/(AL4-AJ9)","v":3.3333333333333333E-2},{"$f":"IF(AK13=0,0,(AK13*((LOG(AK13))/LOG(2))))","v":-0.16356301985361729},null,{"$f":"N13","v":221},{"$f":"COUNTIF(L126:L154,AN13)","v":2},{"$f":"AO13/(AQ4-AO9)","v":6.8965517241379309E-2},{"$f":"IF(AP13=0,0,(AP13*((LOG(AP13))/LOG(2))))","v":-0.26606765483638428},null,{"$f":"N13","v":221},{"$f":"COUNTIF(L155:L184,AS13)","v":1},{"$f":"AT13/(AV4-AT9)","v":3.3333333333333333E-2},{"$f":"IF(AU13=0,0,(AU13*((LOG(AU13))/LOG(2))))","v":-0.16356301985361729}]
[11,835,12,840,13,845,null,null,null,null,0,111,null,222,{"$f":"COUNTIF($L$7:$L$500,N14)","v":57},{"$f":"O14/$Q$4","v":0.3202247191011236},{"$f":"IF(P14=0,0,(P14*((LOG(P14))/LOG(2))))","v":-0.5260790716724405},null,null,{"$f":"N14","v":222},{"$f":"COUNTIF(L7:L36,T14)","v":6},{"$f":"U14/(W4-U9)","v":0.2},{"$f":"IF(V14=0,0,(V14*((LOG(V14))/LOG(2))))","v":-0.46438561897747244},null,{"$f":"N14","v":222},{"$f":"COUNTIF(L37:L65,Y14)","v":10},{"$f":"Z14/(AB4-Z9)","v":0.34482758620689657},{"$f":"IF(AA14=0,0,(AA14*((LOG(AA14))/LOG(2))))","v":-0.52967341387593436},null,{"$f":"N14","v":222},{"$f":"COUNTIF(L66:L95,AD14)","v":11},{"$f":"AE14/(AG4-AE9)","v":0.36666666666666664},{"$f":"IF(AF14=0,0,(AF14*((LOG(AF14))/LOG(2))))","v":-0.53073495822278116},null,{"$f":"N14","v":222},{"$f":"COUNTIF(L96:L125,AI14)","v":14},{"$f":"AJ14/(AL4-AJ9)","v":0.46666666666666667},{"$f":"IF(AK14=0,0,(AK14*((LOG(AK14))/LOG(2))))","v":-0.51311664765709342},null,{"$f":"N14","v":222},{"$f":"COUNTIF(L126:L154,AN14)","v":9},{"$f":"AO14/(AQ4-AO9)","v":0.31034482758620691},{"$f":"IF(AP14=0,0,(AP14*((LOG(AP14))/LOG(2))))","v":-0.52387944631611505},null,{"$f":"N14","v":222},{"$f":"COUNTIF(L155:L184,AS14)","v":7},{"$f":"AT14/(AV4-AT9)","v":0.23333333333333334},{"$f":"IF(AU14=0,0,(AU14*((LOG(AU14))/LOG(2))))","v":-0.48989165716187993}]
[11,950,12,954,13,961,null,null,null,null,0,111,null,null,null,{"$f":"SUM(P7:P14)","v":1},{"$f":"-SUM(Q7:Q14)","v":2.4484644554816439},null,null,null,null,{"$f":"SUM(V7:V14)","v":1},{"$f":"-SUM(W7:W14)","v":2.4682734124061354},null,null,null,{"$f":"SUM(AA7:AA14)","v":1},{"$f":"-SUM(AB7:AB14)","v":2.219929496368334},null,null,null,{"$f":"SUM(AF7:AF14)","v":1},{"$f":"-SUM(AG7:AG14)","v":2.4929480695548336},null,null,null,{"$f":"SUM(AK7:AK14)","v":1},{"$f":"-SUM(AL7:AL14)","v":1.792159449067716},null,null,null,{"$f":"SUM(AP7:AP14)","v":1},{"$f":"-SUM(AQ7:AQ14)","v":2.4119224789362788},null,null,null,{"$f":"SUM(AU7:AU14)","v":1},{"$f":"-SUM(AV7:AV14)","v":2.4043103816210585}]
[11,1056,12,1060,24,1073,null,null,null,null,0,112,null,null,null,"U=",{"$f":"Q15/(LOG(Q4)/LOG(2))","v":0.32752163758802294},null,null,null,null,"U1=",{"$f":"W15/(LOG(W4)/LOG(2))","v":0.50302189631355276},null,null,null,"U2=",{"$f":"AB15/(LOG(AB4)/LOG(2))","v":0.45696545511290915},null,null,null,"U3=",{"$f":"AG15/(LOG(AG4)/LOG(2))","v":0.50805046922911379},null,null,null,"U4=",{"$f":"AL15/(LOG(AL4)/LOG(2))","v":0.36523321931645081},null,null,null,"U5=",{"$f":"AQ15/(LOG(AQ4)/LOG(2))","v":0.49648660242915194},null,null,null,"U6=",{"$f":"AV15/(LOG(AV4)/LOG(2))","v":0.48998654744265652}]
[11,1173,12,1177,13,1183,null,null,null,null,0,111]
[11,1278,12,1282,24,1293,null,null,null,null,0,112]
[11,1394,12,1399,13,1405,null,null,null,null,0,111,null,"Total Target Seq"]
[22,1502,14,1512,13,1518,null,null,null,null,0,211,null,{"$f":"COUNTIF(L7:L184,G3)","v":0},null,30,29,30,30,29,30]
[11,1640,12,1645,24,1656,null,null,null,null,0,112,null,null,null,"% of reinforcement given in 6 equal intervals based on number of trials "]
[22,1753,14,1763,13,1770,null,null,null,null,0,211,null,null,null,"%_1","%_2","%_3","%_4","%_5","%_6"]
[11,1871,12,1876,24,1889,null,null,null,null,0,112,null,null,"target sequence",{"$f":"$G$3","v":121},{"$f":"$G$3","v":121},{"$f":"$G$3","v":121},{"$f":"$G$3","v":121},{"$f":"$G$3","v":121},{"$f":"$G$3","v":121}]
[22,1986,23,1991,24,1997,null,null,null,null,0,222,null,null,"total reinforcement",{"$f":"U9","v":0},{"$f":"Z9","v":0},{"$f":"AE9","v":0},{"$f":"AJ9","v":0},{"$f":"AO9","v":0},{"$f":"AT9","v":0}]
[11,2183,12,2189,24,2199,null,null,null,null,0,112,null,null,"% target"]
[22,2296,14,2305,13,2310,null,null,null,null,0,211,null,null,"CCRF"]
[22,2409,23,2414,13,2425,null,null,null,null,0,221,null,null,"% CCRf"]
[22,2617,14,2632,24,2649,null,null,null,null,0,212,null,null,"average response rate",{"$f":"F36/P20","v":117.26666666666667},{"$f":"(F65-F36)/Q20","v":150.72413793103448},{"$f":"(F95-F65)/R20","v":145.46666666666667},{"$f":"(F125-F95)/S20","v":126},{"$f":"(F154-F125)/T20","v":123.10344827586206},{"$f":"(F184-F154)/U20","v":145.4}]
[22,2748,14,2758,13,2763,null,null,null,null,0,211]
[22,2858,23,2860,24,2863,null,null,null,null,0,222]
[22,2959,23,2968,24,2974,null,null,null,null,0,222]
[22,3072,14,3082,13,3087,null,null,null,null,0,211]
[22,3183,23,3187,24,3194,null,null,null,null,0,222]
[22,3290,23,3294,24,3298,null,null,null,null,0,222]
[22,3396,23,3400,24,3404,null,null,null,null,0,222]
[22,3503,14,3514,13,3518,null,null,null,null,0,211]
[22,3613,23,3617,24,3623,null,null,null,null,0,222]
[22,3720,23,3724,24,3729,null,null,null,null,0,222]
[22,3830,23,3834,24,3838,null,null,null,null,0,222]
[11,3966,12,3980,24,3991,null,null,null,null,0,112]
[22,4088,23,4093,13,4104,null,null,null,null,0,221]
[11,4202,12,4206,13,4212,null,null,null,null,0,111]
[22,4308,23,4311,24,4315,null,null,null,null,0,222]
[11,4421,12,4426,13,4432,null,null,null,null,0,111]
[22,4529,23,4538,24,4545,null,null,null,null,0,222]
[22,4642,23,4647,13,4657,null,null,null,null,0,221]
[11,4764,12,4769,13,4775,null,null,null,null,0,111]
[11,5926,21,5935,22,5939,null,null,null,null,0,122]
[11,6040,12,6046,13,6051,null,null,null,null,0,111]
[22,6147,23,6152,24,6159,null,null,null,null,0,222]
[22,6255,14,6269,13,6274,null,null,null,null,0,211]
[22,6371,23,6376,13,6388,null,null,null,null,0,221]
[22,6488,14,6499,13,6504,null,null,null,null,0,211]
[11,6642,21,6657,22,6661,null,null,null,null,0,122]
[11,6769,12,6774,13,6780,null,null,null,null,0,111]
[22,6878,23,6886,13,6899,null,null,null,null,0,221]
[11,7007,12,7009,13,7013,null,null,null,null,0,111]
[22,7113,14,7124,13,7127,null,null,null,null,0,211]
[22,7225,23,7231,24,7237,null,null,null,null,0,222]
[11,7337,12,7342,13,7348,null,null,null,null,0,111]
[11,7445,12,7448,13,7451,null,null,null,null,0,111]
[22,7548,23,7552,24,7557,null,null,null,null,0,222]
[11,7659,12,7664,13,7669,null,null,null,null,0,111]
[22,7771,23,7776,24,7781,null,null,null,null,0,222]
[22,7879,23,7884,24,7889,null,null,null,null,0,222]
[11,7987,12,7990,13,7995,null,null,null,null,0,111]
[22,8091,23,8094,24,8101,null,null,null,null,0,222]
[11,8230,12,8235,13,8243,null,null,null,null,0,111]
[22,8340,23,8346,24,8350,null,null,null,null,0,222]
[11,8452,12,8457,13,8463,null,null,null,null,0,111]
[11,8561,21,8562,22,8568,null,null,null,null,0,122]
[22,8667,23,8673,24,8682,null,null,null,null,0,222]
[22,8779,23,8783,24,8790,null,null,null,null,0,222]
[22,9652,14,9666,24,9680,null,null,null,null,0,212]
[11,9779,12,9784,24,9799,null,null,null,null,0,112]
[22,9898,14,9909,13,9913,null,null,null,null,0,211]
[22,10010,23,10015,24,10019,null,null,null,null,0,222]
[11,10121,12,10126,24,10135,null,null,null,null,0,112]
[22,10238,14,10248,13,10253,null,null,null,null,0,211]
[22,10351,23,10355,24,10362,null,null,null,null,0,222]
[11,10460,12,10464,24,10476,null,null,null,null,0,112]
[22,10576,14,10590,13,10593,null,null,null,null,0,211]
[11,10702,12,10708,13,10714,null,null,null,null,0,111]
[11,10808,21,10822,22,10826,null,null,null,null,0,122]
[22,10928,14,10943,13,10948,null,null,null,null,0,211]
[22,11045,23,11051,13,11067,null,null,null,null,0,221]
[22,11165,23,11172,24,11184,null,null,null,null,0,222]
[22,11280,23,11286,13,11297,null,null,null,null,0,221]
[22,11532,23,11537,13,11549,null,null,null,null,0,221]
[22,11676,23,11681,13,11691,null,null,null,null,0,221]
[22,11790,23,11795,24,11802,null,null,null,null,0,222]
[22,11900,23,11906,24,11917,null,null,null,null,0,222]
[22,12014,23,12018,24,12023,null,null,null,null,0,222]
[22,12121,14,12135,13,12141,null,null,null,null,0,211]
[22,12238,23,12247,24,12253,null,null,null,null,0,222]
[22,12350,14,12363,13,12369,null,null,null,null,0,211]
[11,12526,12,12530,13,12534,null,null,null,null,0,111]
[11,12633,12,12636,13,12641,null,null,null,null,0,111]
[22,12738,23,12743,24,12748,null,null,null,null,0,222]
[22,12845,14,12856,13,12860,null,null,null,null,0,211]
[22,12956,23,12967,24,12973,null,null,null,null,0,222]
[22,13070,23,13077,24,13083,null,null,null,null,0,222]
[22,13303,23,13324,24,13328,null,null,null,null,0,222]
[11,13426,12,13431,13,13438,null,null,null,null,0,111]
[11,13535,12,13537,13,13542,null,null,null,null,0,111]
[11,13650,12,13654,13,13660,null,null,null,null,0,111]
[22,13760,14,13779,13,13783,null,null,null,null,0,211]
[22,13896,23,13901,13,13912,null,null,null,null,0,221]
[11,14011,12,14019,13,14026,null,null,null,null,0,111]
[22,14124,23,14130,24,14140,null,null,null,null,0,222]
[11,14244,12,14251,24,14264,null,null,null,null,0,112]
[22,14364,23,14370,24,14375,null,null,null,null,0,222]
[22,14634,23,14648,24,14655,null,null,null,null,0,222]
[22,14747,23,14752,24,14756,null,null,null,null,0,222]
[22,14853,23,14857,24,14861,null,null,null,null,0,222]
[22,14959,14,14974,13,14980,null,null,null,null,0,211]
[22,15076,23,15080,24,15086,null,null,null,null,0,222]
[22,15182,23,15190,24,15196,null,null,null,null,0,222]
[11,15296,12,15301,13,15306,null,null,null,null,0,111]
[22,15402,23,15404,24,15409,null,null,null,null,0,222]
[22,15510,14,15526,13,15531,null,null,null,null,0,211]
[22,15630,23,15639,24,15643,null,null,null,null,0,222]
[11,15754,12,15757,13,15763,null,null,null,null,0,111]
[22,15870,23,15875,24,15882,null,null,null,null,0,222]
[11,16017,12,16025,13,16033,null,null,null,null,0,111]
[22,16140,14,16150,13,16155,null,null,null,null,0,211]
[11,16267,12,16273,13,16279,null,null,null,null,0,111]
[22,16378,23,16385,13,16398,null,null,null,null,0,221]
[22,16496,23,16501,24,16506,null,null,null,null,0,222]
[22,16618,23,16626,24,16632,null,null,null,null,0,222]
[22,16730,14,16747,13,16750,null,null,null,null,0,211]
[22,16849,23,16852,24,16859,null,null,null,null,0,222]
[11,16982,12,16986,24,17002,null,null,null,null,0,112]
[22,17098,23,17103,13,17112,null,null,null,null,0,221]
[22,17210,14,17219,13,17224,null,null,null,null,0,211]
[22,17321,23,17327,24,17333,null,null,null,null,0,222]
[22,17432,23,17438,24,17450,null,null,null,null,0,222]
[22,17545,23,17551,24,17558,null,null,null,null,0,222]
[11,17662,12,17667,24,17680,null,null,null,null,0,112]
[22,17776,14,17784,13,17789,null,null,null,null,0,211]
[22,17887,23,17893,24,17898,null,null,null,null,0,222]
[11,17997,21,18002,22,18006,null,null,null,null,0,122]
[22,18105,14,18119,13,18123,null,null,null,null,0,211]
[22,18226,23,18231,24,18238,null,null,null,null,0,222]
[11,18350,12,18355,13,18362,null,null,null,null,0,111]
[11,18503,21,18511,22,18516,null,null,null,null,0,122]
[11,18625,12,18631,13,18636,null,null,null,null,0,111]
[22,18730,14,18752,13,18758,null,null,null,null,0,211]
[11,18872,21,18884,22,18887,null,null,null,null,0,122]
[22,19059,14,19069,13,19095,null,null,null,null,0,211]
[22,19192,23,19201,24,19212,null,null,null,null,0,222]
[11,19327,12,19333,24,19350,null,null,null,null,0,112]
[11,19463,12,19467,24,19481,null,null,null,null,0,112]
[11,19595,12,19598,13,19603,null,null,null,null,0,111]
[22,19700,23,19710,24,19716,null,null,null,null,0,222]
[11,19844,12,19852,24,19863,null,null,null,null,0,112]
[11,19981,21,19996,22,19998,null,null,null,null,0,122]
[11,20115,12,20122,24,20135,null,null,null,null,0,112]
[11,20385,12,20392,24,20404,null,null,null,null,0,112]
[22,20502,14,20515,13,20521,null,null,null,null,0,211]
[11,20631,12,20642,24,20653,null,null,null,null,0,112]
[22,20750,14,20767,13,20771,null,null,null,null,0,211]
[11,20901,12,20907,13,20917,null,null,null,null,0,111]
[11,21013,12,21019,13,21027,null,null,null,null,0,111]
[22,21125,23,21138,24,21148,null,null,null,null,0,222]
[11,21252,12,21257,13,21265,null,null,null,null,0,111]
[22,21364,23,21375,24,21386,null,null,null,null,0,222]
[22,21496,14,21509,13,21515,null,null,null,null,0,211]
[22,21614,23,21620,24,21627,null,null,null,null,0,222]
[11,21752,12,21755,13,21764,null,null,null,null,0,111]
[22,21859,23,21872,24,21886,null,null,null,null,0,222]
[11,22158,21,22172,22,22176,null,null,null,null,0,122]
[11,22275,12,22280,24,22298,null,null,null,null,0,112]
[22,22402,14,22418,13,22426,null,null,null,null,0,211]
[22,22527,23,22550,13,22570,null,null,null,null,0,221]
[11,22674,21,22683,22,22688,null,null,null,null,0,122]
[22,22787,14,22801,13,22806,null,null,null,null,0,211]
[11,22917,12,22926,13,22938,null,null,null,null,0,111]
[22,23053,23,23067,24,23078,null,null,null,null,0,222]
[22,23188,23,23197,24,23203,null,null,null,null,0,222]
[11,23588,12,23600,24,23620,null,null,null,null,0,112]
[22,23718,14,23731,13,23737,null,null,null,null,0,211]
[11,23840,12,23845,13,23851,null,null,null,null,0,111]
[22,23952,14,23960,13,23965,null,null,null,null,null,211]

{"sheet":"!M221A5I.sha","index":14,"n_rows":148,"n_cols":48,"rows_kept":148,"cut":false,"hidden":false,"merged":[[4,39,4,42],[5,39,5,40],[4,44,4,47],[5,44,5,45],[4,24,4,27],[5,24,5,25],[4,29,4,32],[5,29,5,30],[4,34,4,37],[5,34,5,35],[1,1,1,2],[5,13,5,14],[18,13,18,14],[19,13,19,14],[4,19,4,22],[5,19,5,20]]}
["Report for:!M221A5I.sha"]
["Date:","<date>"]
["Hen:","<hen>",null,null,null,"Correct Sequence",{"$f":"Start!J2","v":121},null,null,null,null,null,null,null,null,"Total Sequences in Data",{"$f":"4994-COUNTBLANK(L7:L5000)","v":142},null,null,null,null,"Total Sequences in Block Data",{"$f":"COUNTA(L7:L30)","v":24},null,null,null,"Total Sequences in Block Data",{"$f":"COUNTA(L31:L53)","v":23},null,null,null,"Total Sequences in Block Data",{"$f":"COUNTA(L54:L77)","v":24},null,null,null,"Total Sequences in Block Data",{"$f":"COUNTA(L78:L101)","v":24},null,null,null,"Total Sequences in Block Data",{"$f":"COUNTA(L102:L124)","v":23},null,null,null,"Total Sequences in Block Data",{"$f":"COUNTA(L125:L148)","v":24}]
[null,null,null,null,null,null,null,null,null,null,null,null,null,null,null,"Total Sequences in Summary",{"$f":"SUM(O7:O14)","v":142},null,null,null,null,"Total Sequences in Block Summary",{"$f":"SUM(U7:U14)","v":24},null,null,null,"Total Sequences in Block Summary",{"$f":"SUM(Z7:Z14)","v":23},null,null,null,"Total Sequences in Block Summary",{"$f":"SUM(AE7:AE14)","v":24},null,null,null,"Total Sequences in Block Summary",{"$f":"SUM(AJ7:AJ14)","v":24},null,null,null,"Total Sequences in Block Summary",{"$f":"SUM(AO7:AO14)","v":23},null,null,null,"Total Sequences in Block Summary",{"$f":"SUM(AT7:AT14)","v":24}]
[null,null,null,null,null,null,null,null,null,null,null,null,null,null,null,null,null,null,null,"Block 1",null,null,null,null,"Block 2",null,null,null,null,"Block 3",null,null,null,null,"Block 4",null,null,null,null,"Block 5",null,null,null,null,"Block 6"]
["Sequence\nComponent\n1","Time\n1","Sequence\nComponent\n2","Time\n2","Sequence\nComponent\n3","Time\n3","Sequence\nComponent\n4","Time\n4","Sequence\nComponent\n5","Time\n5","Correct?\n0=No 1=Yes","Sequence",null,"Frequency",null,"Relative Frequency","Variability",null,null,"Frequency",null,"Relative Frequency","Variability",null,"Frequency",null,"Relative Frequency","Variability",null,"Frequency",null,"Relative Frequency","Variability",null,"Frequency",null,"Relative Frequency","Variability",null,"Frequency",null,"Relative Frequency","Variability",null,"Frequency",null,"Relative Frequency","Variability"]
[11,15,21,28,22,31,null,null,null,null,0,122,null,111,{"$f":"COUNTIF($L$7:$L$500,N7)","v":21},{"$f":"O7/$Q$4","v":0.14788732394366197},{"$f":"IF(P7=0,0,(P7*((LOG(P7))/LOG(2))))","v":-0.40778889881157993},null,null,{"$f":"N7","v":111},{"$f":"COUNTIF(L7:L30,T7)","v":3},{"$f":"U7/(W4-U9)","v":0.125},{"$f":"IF(V7=0,0,(V7*((LOG(V7))/LOG(2))))","v":-0.375},null,{"$f":"N7","v":111},{"$f":"COUNTIF(L31:L53,Y7)","v":8},{"$f":"Z7/(AB4-Z9)","v":0.34782608695652173},{"$f":"IF(AA7=0,0,(AA7*((LOG(AA7))/LOG(2))))","v":-0.52993459341113491},null,{"$f":"N7","v":111},{"$f":"COUNTIF(L54:L77,AD7)","v":4},{"$f":"AE7/(AG4-AE9)","v":0.16666666666666666},{"$f":"IF(AF7=0,0,(AF7*((LOG(AF7))/LOG(2))))","v":-0.43082708345352599},null,{"$f":"N7","v":111},{"$f":"COUNTIF(L78:L101,AI7)","v":1},{"$f":"AJ7/(AL4-AJ9)","v":4.1666666666666664E-2},{"$f":"IF(AK7=0,0,(AK7*((LOG(AK7))/LOG(2))))","v":-0.19104010419671485},null,{"$f":"N7","v":111},{"$f":"COUNTIF(L102:L124,AN7)","v":1},{"$f":"AO7/(AQ4-AO9)","v":4.3478260869565216E-2},{"$f":"IF(AP7=0,0,(AP7*((LOG(AP7))/LOG(2))))","v":-0.19667660678508753},null,{"$f":"N7","v":111},{"$f":"COUNTIF(L125:L148,AS7)","v":4},{"$f":"AT7/(AV4-AT9)","v":0.16666666666666666},{"$f":"IF(AU7=0,0,(AU7*((LOG(AU7))/LOG(2))))","v":-0.43082708345352599}]
[11,140,21,153,22,158,null,null,null,null,0,122,null,112,{"$f":"COUNTIF($L$7:$L$500,N8)","v":20},{"$f":"O8/$Q$4","v":0.14084507042253522},{"$f":"IF(P8=0,0,(P8*((LOG(P8))/LOG(2))))","v":-0.39828436966441122},null,null,{"$f":"N8","v":112},{"$f":"COUNTIF(L7:L30,T8)","v":3},{"$f":"U8/(W4-U9)","v":0.125},{"$f":"IF(V8=0,0,(V8*((LOG(V8))/LOG(2))))","v":-0.375},null,{"$f":"N8","v":112},{"$f":"COUNTIF(L31:L53,Y8)","v":6},{"$f":"Z8/(AB4-Z9)","v":0.2608695652173913},{"$f":"IF(AA8=0,0,(AA8*((LOG(AA8))/LOG(2))))","v":-0.50572159704413644},null,{"$f":"N8","v":112},{"$f":"COUNTIF(L54:L77,AD8)","v":1},{"$f":"AE8/(AG4-AE9)","v":4.1666666666666664E-2},{"$f":"IF(AF8=0,0,(AF8*((LOG(AF8))/LOG(2))))","v":-0.19104010419671485},null,{"$f":"N8","v":112},{"$f":"COUNTIF(L78:L101,AI8)","v":1},{"$f":"AJ8/(AL4-AJ9)","v":4.1666666666666664E-2},{"$f":"IF(AK8=0,0,(AK8*((LOG(AK8))/LOG(2))))","v":-0.19104010419671485},null,{"$f":"N8","v":112},{"$f":"COUNTIF(L102:L124,AN8)","v":8},{"$f":"AO8/(AQ4-AO9)","v":0.34782608695652173},{"$f":"IF(AP8=0,0,(AP8*((LOG(AP8))/LOG(2))))","v":-0.52993459341113491},null,{"$f":"N8","v":112},{"$f":"COUNTIF(L125:L148,AS8)","v":1},{"$f":"AT8/(AV4-AT9)","v":4.1666666666666664E-2},{"$f":"IF(AU8=0,0,(AU8*((LOG(AU8))/LOG(2))))","v":-0.19104010419671485}]
[22,255,14,266,13,273,null,null,null,null,0,211,null,121,{"$f":"COUNTIF($L$7:$L$500,N9)","v":0},{"$f":"O9/$Q$4","v":0},{"$f":"IF(P9=0,0,(P9*((LOG(P9))/LOG(2))))","v":0},null,null,{"$f":"N9","v":121},{"$f":"COUNTIF(L7:L30,T9)","v":0},null,null,null,{"$f":"N9","v":121},{"$f":"COUNTIF(L31:L53,Y9)","v":0},null,null,null,{"$f":"N9","v":121},{"$f":"COUNTIF(L54:L77,AD9)","v":0},null,null,null,{"$f":"N9","v":121},{"$f":"COUNTIF(L78:L101,AI9)","v":0},null,null,null,{"$f":"N9","v":121},{"$f":"COUNTIF(L102:L124,AN9)","v":0},null,null,null,{"$f":"N9","v":121},{"$f":"COUNTIF(L125:L148,AS9)","v":0}]
[22,376,14,387,13,395,null,null,null,null,0,211,null,122,{"$f":"COUNTIF($L$7:$L$500,N10)","v":15},{"$f":"O10/$Q$4","v":0.10563380281690141},{"$f":"IF(P10=0,0,(P10*((LOG(P10))/LOG(2))))","v":-0.34255526660874969},null,null,{"$f":"N10","v":122},{"$f":"COUNTIF(L7:L30,T10)","v":5},{"$f":"U10/(W4-U9)","v":0.20833333333333334},{"$f":"IF(V10=0,0,(V10*((LOG(V10))/LOG(2))))","v":-0.47146550121537367},null,{"$f":"N10","v":122},{"$f":"COUNTIF(L31:L53,Y10)","v":1},{"$f":"Z10/(AB4-Z9)","v":4.3478260869565216E-2},{"$f":"IF(AA10=0,0,(AA10*((LOG(AA10))/LOG(2))))","v":-0.19667660678508753},null,{"$f":"N10","v":122},{"$f":"COUNTIF(L54:L77,AD10)","v":1},{"$f":"AE10/(AG4-AE9)","v":4.1666666666666664E-2},{"$f":"IF(AF10=0,0,(AF10*((LOG(AF10))/LOG(2))))","v":-0.19104010419671485},null,{"$f":"N10","v":122},{"$f":"COUNTIF(L78:L101,AI10)","v":3},{"$f":"AJ10/(AL4-AJ9)","v":0.125},{"$f":"IF(AK10=0,0,(AK10*((LOG(AK10))/LOG(2))))","v":-0.375},null,{"$f":"N10","v":122},{"$f":"COUNTIF(L102:L124,AN10)","v":1},{"$f":"AO10/(AQ4-AO9)","v":4.3478260869565216E-2},{"$f":"IF(AP10=0,0,(AP10*((LOG(AP10))/LOG(2))))","v":-0.19667660678508753},null,{"$f":"N10","v":122},{"$f":"COUNTIF(L125:L148,AS10)","v":4},{"$f":"AT10/(AV4-AT9)","v":0.16666666666666666},{"$f":"IF(AU10=0,0,(AU10*((LOG(AU10))/LOG(2))))","v":-0.43082708345352599}]
[22,501,23,505,24,513,null,null,null,null,0,222,null,211,{"$f":"COUNTIF($L$7:$L$500,N11)","v":34},{"$f":"O11/$Q$4","v":0.23943661971830985},{"$f":"IF(P11=0,0,(P11*((LOG(P11))/LOG(2))))","v":-0.49378637648343415},null,null,{"$f":"N11","v":211},{"$f":"COUNTIF(L7:L30,T11)","v":8},{"$f":"U11/(W4-U9)","v":0.33333333333333331},{"$f":"IF(V11=0,0,(V11*((LOG(V11))/LOG(2))))","v":-0.52832083357371862},null,{"$f":"N11","v":211},{"$f":"COUNTIF(L31:L53,Y11)","v":3},{"$f":"Z11/(AB4-Z9)","v":0.13043478260869565},{"$f":"IF(AA11=0,0,(AA11*((LOG(AA11))/LOG(2))))","v":-0.3832955811307639},null,{"$f":"N11","v":211},{"$f":"COUNTIF(L54:L77,AD11)","v":7},{"$f":"AE11/(AG4-AE9)","v":0.29166666666666669},{"$f":"IF(AF11=0,0,(AF11*((LOG(AF11))/LOG(2))))","v":-0.51846887711020273},null,{"$f":"N11","v":211},{"$f":"COUNTIF(L78:L101,AI11)","v":4},{"$f":"AJ11/(AL4-AJ9)","v":0.16666666666666666},{"$f":"IF(AK11=0,0,(AK11*((LOG(AK11))/LOG(2))))","v":-0.43082708345352599},null,{"$f":"N11","v":211},{"$f":"COUNTIF(L102:L124,AN11)","v":4},{"$f":"AO11/(AQ4-AO9)","v":0.17391304347826086},{"$f":"IF(AP11=0,0,(AP11*((LOG(AP11))/LOG(2))))","v":-0.43888034018382832},null,{"$f":"N11","v":211},{"$f":"COUNTIF(L125:L148,AS11)","v":8},{"$f":"AT11/(AV4-AT9)","v":0.33333333333333331},{"$f":"IF(AU11=0,0,(AU11*((LOG(AU11))/LOG(2))))","v":-0.52832083357371862}]
[11,608,12,612,24,625,null,null,null,null,0,112,null,212,{"$f":"COUNTIF($L$7:$L$500,N12)","v":6},{"$f":"O12/$Q$4","v":4.2253521126760563E-2},{"$f":"IF(P12=0,0,(P12*((LOG(P12))/LOG(2))))","v":-0.19287822332888138},null,null,{"$f":"N12","v":212},{"$f":"COUNTIF(L7:L30,T12)","v":0},{"$f":"U12/(W4-U9)","v":0},{"$f":"IF(V12=0,0,(V12*((LOG(V12))/LOG(2))))","v":0},null,{"$f":"N12","v":212},{"$f":"COUNTIF(L31:L53,Y12)","v":0},{"$f":"Z12/(AB4-Z9)","v":0},{"$f":"IF(AA12=0,0,(AA12*((LOG(AA12))/LOG(2))))","v":0},null,{"$f":"N12","v":212},{"$f":"COUNTIF(L54:L77,AD12)","v":1},{"$f":"AE12/(AG4-AE9)","v":4.1666666666666664E-2},{"$f":"IF(AF12=0,0,(AF12*((LOG(AF12))/LOG(2))))","v":-0.19104010419671485},null,{"$f":"N12","v":212},{"$f":"COUNTIF(L78:L101,AI12)","v":4},{"$f":"AJ12/(AL4-AJ9)","v":0.16666666666666666},{"$f":"IF(AK12=0,0,(AK12*((LOG(AK12))/LOG(2))))","v":-0.43082708345352599},null,{"$f":"N12","v":212},{"$f":"COUNTIF(L102:L124,AN12)","v":1},{"$f":"AO12/(AQ4-AO9)","v":4.3478260869565216E-2},{"$f":"IF(AP12=0,0,(AP12*((LOG(AP12))/LOG(2))))","v":-0.19667660678508753},null,{"$f":"N12","v":212},{"$f":"COUNTIF(L125:L148,AS12)","v":0},{"$f":"AT12/(AV4-AT9)","v":0},{"$f":"IF(AU12=0,0,(AU12*((LOG(AU12))/LOG(2))))","v":0}]
[22,784,23,790,13,805,null,null,null,null,0,221,null,221,{"$f":"COUNTIF($L$7:$L$500,N13)","v":12},{"$f":"O13/$Q$4","v":8.4507042253521125E-2},{"$f":"IF(P13=0,0,(P13*((LOG(P13))/LOG(2))))","v":-0.30124940440424158},null,null,{"$f":"N13","v":221},{"$f":"COUNTIF(L7:L30,T13)","v":3},{"$f":"U13/(W4-U9)","v":0.125},{"$f":"IF(V13=0,0,(V13*((LOG(V13))/LOG(2))))","v":-0.375},null,{"$f":"N13","v":221},{"$f":"COUNTIF(L31:L53,Y13)","v":3},{"$f":"Z13/(AB4-Z9)","v":0.13043478260869565},{"$f":"IF(AA13=0,0,(AA13*((LOG(AA13))/LOG(2))))","v":-0.3832955811307639},null,{"$f":"N13","v":221},{"$f":"COUNTIF(L54:L77,AD13)","v":2},{"$f":"AE13/(AG4-AE9)","v":8.3333333333333329E-2},{"$f":"IF(AF13=0,0,(AF13*((LOG(AF13))/LOG(2))))","v":-0.29874687506009634},null,{"$f":"N13","v":221},{"$f":"COUNTIF(L78:L101,AI13)","v":0},{"$f":"AJ13/(AL4-AJ9)","v":0},{"$f":"IF(AK13=0,0,(AK13*((LOG(AK13))/LOG(2))))","v":0},null,{"$f":"N13","v":221},{"$f":"COUNTIF(L102:L124,AN13)","v":2},{"$f":"AO13/(AQ4-AO9)","v":8.6956521739130432E-2},{"$f":"IF(AP13=0,0,(AP13*((LOG(AP13))/LOG(2))))","v":-0.30639669183104457},null,{"$f":"N13","v":221},{"$f":"COUNTIF(L125:L148,AS13)","v":2},{"$f":"AT13/(AV4-AT9)","v":8.3333333333333329E-2},{"$f":"IF(AU13=0,0,(AU13*((LOG(AU13))/LOG(2))))","v":-0.29874687506009634}]
[22,910,23,913,13,935,null,null,null,null,0,221,null,222,{"$f":"COUNTIF($L$7:$L$500,N14)","v":34},{"$f":"O14/$Q$4","v":0.23943661971830985},{"$f":"IF(P14=0,0,(P14*((LOG(P14))/LOG(2))))","v":-0.49378637648343415},null,null,{"$f":"N14","v":222},{"$f":"COUNTIF(L7:L30,T14)","v":2},{"$f":"U14/(W4-U9)","v":8.3333333333333329E-2},{"$f":"IF(V14=0,0,(V14*((LOG(V14))/LOG(2))))","v":-0.29874687506009634},null,{"$f":"N14","v":222},{"$f":"COUNTIF(L31:L53,Y14)","v":2},{"$f":"Z14/(AB4-Z9)","v":8.6956521739130432E-2},{"$f":"IF(AA14=0,0,(AA14*((LOG(AA14))/LOG(2))))","v":-0.30639669183104457},null,{"$f":"N14","v":222},{"$f":"COUNTIF(L54:L77,AD14)","v":8},{"$f":"AE14/(AG4-AE9)","v":0.33333333333333331},{"$f":"IF(AF14=0,0,(AF14*((LOG(AF14))/LOG(2))))","v":-0.52832083357371862},null,{"$f":"N14","v":222},{"$f":"COUNTIF(L78:L101,AI14)","v":11},{"$f":"AJ14/(AL4-AJ9)","v":0.45833333333333331},{"$f":"IF(AK14=0,0,(AK14*((LOG(AK14))/LOG(2))))","v":-0.51586832095510204},null,{"$f":"N14","v":222},{"$f":"COUNTIF(L102:L124,AN14)","v":6},{"$f":"AO14/(AQ4-AO9)","v":0.2608695652173913},{"$f":"IF(AP14=0,0,(AP14*((LOG(AP14))/LOG(2))))","v":-0.50572159704413644},null,{"$f":"N14","v":222},{"$f":"COUNTIF(L125:L148,AS14)","v":5},{"$f":"AT14/(AV4-AT9)","v":0.20833333333333334},{"$f":"IF(AU14=0,0,(AU14*((LOG(AU14))/LOG(2))))","v":-0.47146550121537367}]
[11,1045,12,1052,24,1065,null,null,null,null,0,112,null,null,null,{"$f":"SUM(P7:P14)","v":1},{"$f":"-SUM(Q7:Q14)","v":2.6303289157847325},null,null,null,null,{"$f":"SUM(V7:V14)","v":1},{"$f":"-SUM(W7:W14)","v":2.4235332098491886},null,null,null,{"$f":"SUM(AA7:AA14)","v":1},{"$f":"-SUM(AB7:AB14)","v":2.3053206513329316},null,null,null,{"$f":"SUM(AF7:AF14)","v":1},{"$f":"-SUM(AG7:AG14)","v":2.3494839817876887},null,null,null,{"$f":"SUM(AK7:AK14)","v":1},{"$f":"-SUM(AL7:AL14)","v":2.134602696255584},null,null,null,{"$f":"SUM(AP7:AP14)","v":1},{"$f":"-SUM(AQ7:AQ14)","v":2.3709630428254069},null,null,null,{"$f":"SUM(AU7:AU14)","v":1},{"$f":"-SUM(AV7:AV14)","v":2.3512274809529554}]
[22,1162,23,1169,24,1176,null,null,null,null,0,222,null,null,null,"U=",{"$f":"Q15/(LOG(Q4)/LOG(2))","v":0.36789118157887463},null,null,null,null,"U1=",{"$f":"W15/(LOG(W4)/LOG(2))","v":0.52858299483757998},null,null,null,"U2=",{"$f":"AB15/(LOG(AB4)/LOG(2))","v":0.5096250860997108},null,null,null,"U3=",{"$f":"AG15/(LOG(AG4)/LOG(2))","v":0.51243254037915142},null,null,null,"U4=",{"$f":"AL15/(LOG(AL4)/LOG(2))","v":0.46556600973723083},null,null,null,"U5=",{"$f":"AQ15/(LOG(AQ4)/LOG(2))","v":0.52413630361593844},null,null,null,"U6=",{"$f":"AV15/(LOG(AV4)/LOG(2))","v":0.51281280503016924}]
[22,1273,14,1289,13,1293,null,null,null,null,0,211]
[11,1409,21,1428,22,1433,null,null,null,null,0,122]
[22,1530,14,1551,13,1555,null,null,null,null,0,211,null,"Total Target Seq"]
[11,1649,21,1668,22,1680,null,null,null,null,0,122,null,{"$f":"COUNTIF(L7:L148,G3)","v":0},null,24,23,24,24,23,24]
[11,1775,12,1780,13,1785,null,null,null,null,0,111,null,null,null,"% of reinforcement given in 6 equal intervals based on number of trials "]
[22,1974,14,1994,13,1999,null,null,null,null,0,211,null,null,null,"%_1","%_2","%_3","%_4","%_5","%_6"]
[22,2095,23,2100,13,2109,null,null,null,null,0,221,null,null,"target sequence",{"$f":"$G$3","v":121},{"$f":"$G$3","v":121},{"$f":"$G$3","v":121},{"$f":"$G$3","v":121},{"$f":"$G$3","v":121},{"$f":"$G$3","v":121}]
[22,2205,14,2217,13,2222,null,null,null,null,0,211,null,null,"total reinforcement",{"$f":"U9","v":0},{"$f":"Z9","v":0},{"$f":"AE9","v":0},{"$f":"AJ9","v":0},{"$f":"AO9","v":0},{"$f":"AT9","v":0}]
[22,2320,14,2332,13,2337,null,null,null,null,0,211,null,null,"% target"]
[11,2446,21,2464,22,2468,null,null,null,null,0,122,null,null,"CCRF"]
[11,2564,12,2571,24,2582,null,null,null,null,0,112,null,null,"% CCRf"]
[11,2702,12,2708,13,2713,null,null,null,null,0,111,null,null,"average response rate",{"$f":"F30/P20","v":122.66666666666667},{"$f":"(F53-F30)/Q20","v":145.7391304347826},{"$f":"(F77-F53)/R20","v":184.79166666666666},{"$f":"(F101-F77)/S20","v":190.79166666666666},{"$f":"(F124-F101)/T20","v":153.7391304347826},{"$f":"(F148-F124)/U20","v":214.04166666666666}]
[22,2819,14,2828,13,2831,null,null,null,null,0,211]
[11,2935,12,2939,13,2944,null,null,null,null,0,111]
[11,3042,12,3047,24,3065,null,null,null,null,0,112]
[11,3161,12,3167,24,3178,null,null,null,null,0,112]
[22,3279,23,3287,13,3296,null,null,null,null,0,221]
[11,3396,12,3401,13,3405,null,null,null,null,0,111]
[11,3504,21,3515,22,3519,null,null,null,null,0,122]
[22,3620,14,3632,13,3637,null,null,null,null,0,211]
[11,3744,12,3747,13,3754,null,null,null,null,0,111]
[11,3851,12,3854,13,3859,null,null,null,null,0,111]
[11,3956,12,3959,13,3964,null,null,null,null,0,111]
[22,4060,23,4073,24,4078,null,null,null,null,0,222]
[11,4188,12,4191,13,4198,null,null,null,null,0,111]
[22,4294,14,4308,13,4313,null,null,null,null,0,211]
[22,4407,23,4410,24,4416,null,null,null,null,0,222]
[11,4520,12,4524,13,4534,null,null,null,null,0,111]
[11,4643,12,4645,13,4653,null,null,null,null,0,111]
[11,4768,12,4772,24,4786,null,null,null,null,0,112]
[11,4895,12,4902,13,4910,null,null,null,null,0,111]
[22,5016,14,5024,13,5029,null,null,null,null,0,211]
[11,5130,12,5141,24,5151,null,null,null,null,0,112]
[22,5249,23,5253,13,5261,null,null,null,null,0,221]
[11,5361,12,5376,24,5393,null,null,null,null,0,112]
[22,5491,23,5497,13,5507,null,null,null,null,0,221]
[11,6279,12,6285,24,6296,null,null,null,null,0,112]
[22,6393,14,6408,13,6416,null,null,null,null,0,211]
[22,6516,14,6526,13,6530,null,null,null,null,0,211]
[11,6628,12,6632,13,6638,null,null,null,null,0,111]
[22,6735,23,6739,24,6744,null,null,null,null,0,222]
[22,6844,23,6852,13,6861,null,null,null,null,0,221]
[22,6994,14,7011,13,7018,null,null,null,null,0,211]
[22,7116,14,7139,13,7152,null,null,null,null,0,211]
[22,7248,23,7254,24,7256,null,null,null,null,0,222]
[22,7353,14,7367,13,7375,null,null,null,null,0,211]
[11,7476,12,7480,13,7487,null,null,null,null,0,111]
[22,7585,14,7599,13,7610,null,null,null,null,0,211]
[11,7720,12,7725,24,7740,null,null,null,null,0,112]
[22,7842,14,7851,13,7854,null,null,null,null,0,211]
[22,9203,23,9226,24,9230,null,null,null,null,0,222]
[22,9325,23,9332,13,9341,null,null,null,null,0,221]
[11,9455,21,9470,22,9475,null,null,null,null,0,122]
[22,9581,23,9586,24,9591,null,null,null,null,0,222]
[22,9691,23,9697,24,9701,null,null,null,null,0,222]
[22,9985,14,10007,24,10018,null,null,null,null,0,212]
[22,10116,23,10126,24,10135,null,null,null,null,0,222]
[11,10245,12,10249,13,10257,null,null,null,null,0,111]
[22,10429,23,10435,24,10441,null,null,null,null,0,222]
[11,10583,12,10587,13,10603,null,null,null,null,0,111]
[22,10700,23,10714,24,10731,null,null,null,null,0,222]
[11,10837,12,10844,24,10854,null,null,null,null,0,112]
[22,10952,23,10966,24,10970,null,null,null,null,0,222]
[22,11066,23,11070,24,11076,null,null,null,null,0,222]
[22,11176,23,11195,24,11200,null,null,null,null,0,222]
[22,11325,14,11335,24,11353,null,null,null,null,0,212]
[11,11470,21,11489,22,11495,null,null,null,null,0,122]
[22,11593,23,11600,24,11607,null,null,null,null,0,222]
[22,11711,23,11718,24,11725,null,null,null,null,0,222]
[11,11968,12,11973,13,11983,null,null,null,null,0,111]
[11,12085,21,12098,22,12101,null,null,null,null,0,122]
[11,12201,21,12204,22,12209,null,null,null,null,0,122]
[22,12310,14,12323,13,12326,null,null,null,null,0,211]
[22,12426,23,12432,24,12439,null,null,null,null,0,222]
[22,12534,23,12539,24,12549,null,null,null,null,0,222]
[22,13225,14,13279,24,13295,null,null,null,null,0,212]
[22,13394,23,13401,24,13411,null,null,null,null,0,222]
[22,13507,23,13512,24,13523,null,null,null,null,0,222]
[22,13623,14,13636,13,13641,null,null,null,null,0,211]
[22,13759,23,13763,24,13769,null,null,null,null,0,222]
[22,13875,14,13891,24,13905,null,null,null,null,0,212]
[22,14025,14,14034,13,14044,null,null,null,null,0,211]
[22,14143,23,14153,24,14166,null,null,null,null,0,222]
[22,14264,14,14278,13,14283,null,null,null,null,0,211]
[22,15280,14,15296,24,15310,null,null,null,null,0,212]
[11,15431,12,15439,24,15452,null,null,null,null,0,112]
[22,15553,23,15564,24,15569,null,null,null,null,0,222]
[11,15667,12,15672,24,15686,null,null,null,null,0,112]
[22,15785,23,15814,24,15819,null,null,null,null,0,222]
[11,15928,12,15934,24,15949,null,null,null,null,0,112]
[22,16076,23,16088,13,16098,null,null,null,null,0,221]
[22,16194,23,16218,13,16235,null,null,null,null,0,221]
[11,16332,12,16340,24,16352,null,null,null,null,0,112]
[22,16452,14,16470,24,16490,null,null,null,null,0,212]
[22,16597,23,16603,24,16614,null,null,null,null,0,222]
[22,16714,23,16720,24,16730,null,null,null,null,0,222]
[22,16844,14,16860,13,16862,null,null,null,null,0,211]
[22,16963,23,16971,24,16973,null,null,null,null,0,222]
[22,17109,14,17119,13,17122,null,null,null,null,0,211]
[11,17653,12,17659,24,17675,null,null,null,null,0,112]
[22,17773,23,17779,24,17788,null,null,null,null,0,222]
[11,17891,12,17896,24,17906,null,null,null,null,0,112]
[22,18159,14,18172,13,18178,null,null,null,null,0,211]
[11,18285,21,18286,22,18291,null,null,null,null,0,122]
[11,18410,12,18446,13,18451,null,null,null,null,0,111]
[22,18553,14,18576,13,18580,null,null,null,null,0,211]
[11,18708,12,18714,24,18728,null,null,null,null,0,112]
[11,18828,12,18834,24,18846,null,null,null,null,0,112]
[22,18961,14,18971,13,18978,null,null,null,null,0,211]
[22,19096,23,19104,13,19116,null,null,null,null,0,221]
[22,19257,14,19265,13,19272,null,null,null,null,0,211]
[11,19387,21,19395,22,19397,null,null,null,null,0,122]
[22,19802,14,19817,13,19828,null,null,null,null,0,211]
[11,19992,12,20157,13,20168,null,null,null,null,0,111]
[22,20267,14,20280,13,20288,null,null,null,null,0,211]
[22,20384,23,20391,24,20396,null,null,null,null,0,222]
[11,20648,12,20655,13,20663,null,null,null,null,0,111]
[11,20953,21,20974,22,20979,null,null,null,null,0,122]
[22,21084,14,21104,13,21110,null,null,null,null,0,211]
[22,21240,23,21250,13,21261,null,null,null,null,0,221]
[22,21416,23,21427,24,21438,null,null,null,null,0,222]
[22,21577,23,21585,24,21590,null,null,null,null,0,222]
[11,21705,21,21715,22,21727,null,null,null,null,0,122]
[11,21990,12,22003,13,22008,null,null,null,null,0,111]
[22,22317,14,22331,13,22337,null,null,null,null,0,211]
[11,22705,12,22711,24,22724,null,null,null,null,0,112]
[11,22849,12,22862,13,22870,null,null,null,null,0,111]
[22,23027,23,23040,24,23046,null,null,null,null,0,222]
[22,23452,23,23458,24,23466,null,null,null,null,0,222]
[22,23624,14,23647,13,23655,null,null,null,null,0,211]
[22,23841,14,23850,13,23856,null,null,null,null,0,211]
[11,23969,21,23980,22,23983,null,null,null,null,null,122]

{"sheet":"!M222A1I.sha","index":15,"n_rows":182,"n_cols":48,"rows_kept":182,"cut":false,"hidden":false,"merged":[[4,39,4,42],[5,39,5,40],[4,44,4,47],[5,44,5,45],[4,24,4,27],[5,24,5,25],[4,29,4,32],[5,29,5,30],[4,34,4,37],[5,34,5,35],[1,1,1,2],[5,13,5,14],[18,13,18,14],[19,13,19,14],[4,19,4,22],[5,19,5,20]]}
["Report for:!M222A1I.sha"]
["Date:","<date>"]
["Hen:","<hen>",null,null,null,"Correct Sequence",{"$f":"Start!J2","v":121},null,null,null,null,null,null,null,null,"Total Sequences in Data",{"$f":"4994-COUNTBLANK(L7:L5000)","v":176},null,null,null,null,"Total Sequences in Block Data",{"$f":"COUNTA(L7:L35)","v":29},null,null,null,"Total Sequences in Block Data",{"$f":"COUNTA(L36:L65)","v":30},null,null,null,"Total Sequences in Block Data",{"$f":"COUNTA(L66:L94)","v":29},null,null,null,"Total Sequences in Block Data",{"$f":"COUNTA(L95:L123)","v":29},null,null,null,"Total Sequences in Block Data",{"$f":"COUNTA(L124:L153)","v":30},null,null,null,"Total Sequences in Block Data",{"$f":"COUNTA(L154:L182)","v":29}]
[null,null,null,null,null,null,null,null,null,null,null,null,null,null,null,"Total Sequences in Summary",{"$f":"SUM(O7:O14)","v":176},null,null,null,null,"Total Sequences in Block Summary",{"$f":"SUM(U7:U14)","v":29},null,null,null,"Total Sequences in Block Summary",{"$f":"SUM(Z7:Z14)","v":30},null,null,null,"Total Sequences in Block Summary",{"$f":"SUM(AE7:AE14)","v":29},null,null,null,"Total Sequences in Block Summary",{"$f":"SUM(AJ7:AJ14)","v":29},null,null,null,"Total Sequences in Block Summary",{"$f":"SUM(AO7:AO14)","v":30},null,null,null,"Total Sequences in Block Summary",{"$f":"SUM(AT7:AT14)","v":29}]
[null,null,null,null,null,null,null,null,null,null,null,null,null,null,null,null,null,null,null,"Block 1",null,null,null,null,"Block 2",null,null,null,null,"Block 3",null,null,null,null,"Block 4",null,null,null,null,"Block 5",null,null,null,null,"Block 6"]
["Sequence\nComponent\n1","Time\n1","Sequence\nComponent\n2","Time\n2","Sequence\nComponent\n3","Time\n3","Sequence\nComponent\n4","Time\n4","Sequence\nComponent\n5","Time\n5","Correct?\n0=No 1=Yes","Sequence",null,"Frequency",null,"Relative Frequency","Variability",null,null,"Frequency",null,"Relative Frequency","Variability",null,"Frequency",null,"Relative Frequency","Variability",null,"Frequency",null,"Relative Frequency","Variability",null,"Frequency",null,"Relative Frequency","Variability",null,"Frequency",null,"Relative Frequency","Variability",null,"Frequency",null,"Relative Frequency","Variability"]
[11,19,21,36,22,46,null,null,null,null,0,122,null,111,{"$f":"COUNTIF($L$7:$L$500,N7)","v":32},{"$f":"O7/$Q$4","v":0.18181818181818182},{"$f":"IF(P7=0,0,(P7*((LOG(P7))/LOG(2))))","v":-0.44716938520678134},null,null,{"$f":"N7","v":111},{"$f":"COUNTIF(L7:L35,T7)","v":4},{"$f":"U7/(W4-U9)","v":0.14285714285714285},{"$f":"IF(V7=0,0,(V7*((LOG(V7))/LOG(2))))","v":-0.40105070315108626},null,{"$f":"N7","v":111},{"$f":"COUNTIF(L36:L65,Y7)","v":10},{"$f":"Z7/(AB4-Z9)","v":0.33333333333333331},{"$f":"IF(AA7=0,0,(AA7*((LOG(AA7))/LOG(2))))","v":-0.52832083357371862},null,{"$f":"N7","v":111},{"$f":"COUNTIF(L66:L94,AD7)","v":6},{"$f":"AE7/(AG4-AE9)","v":0.20689655172413793},{"$f":"IF(AF7=0,0,(AF7*((LOG(AF7))/LOG(2))))","v":-0.4702796884978791},null,{"$f":"N7","v":111},{"$f":"COUNTIF(L95:L123,AI7)","v":4},{"$f":"AJ7/(AL4-AJ9)","v":0.13793103448275862},{"$f":"IF(AK7=0,0,(AK7*((LOG(AK7))/LOG(2))))","v":-0.39420427519000989},null,{"$f":"N7","v":111},{"$f":"COUNTIF(L124:L153,AN7)","v":7},{"$f":"AO7/(AQ4-AO9)","v":0.23333333333333334},{"$f":"IF(AP7=0,0,(AP7*((LOG(AP7))/LOG(2))))","v":-0.48989165716187993},null,{"$f":"N7","v":111},{"$f":"COUNTIF(L154:L182,AS7)","v":1},{"$f":"AT7/(AV4-AT9)","v":3.4482758620689655E-2},{"$f":"IF(AU7=0,0,(AU7*((LOG(AU7))/LOG(2))))","v":-0.16751658603888178}]
[22,153,23,168,24,178,null,null,null,null,0,222,null,112,{"$f":"COUNTIF($L$7:$L$500,N8)","v":15},{"$f":"O8/$Q$4","v":8.5227272727272721E-2},{"$f":"IF(P8=0,0,(P8*((LOG(P8))/LOG(2))))","v":-0.30277338264449816},null,null,{"$f":"N8","v":112},{"$f":"COUNTIF(L7:L35,T8)","v":3},{"$f":"U8/(W4-U9)","v":0.10714285714285714},{"$f":"IF(V8=0,0,(V8*((LOG(V8))/LOG(2))))","v":-0.34525633085747659},null,{"$f":"N8","v":112},{"$f":"COUNTIF(L36:L65,Y8)","v":0},{"$f":"Z8/(AB4-Z9)","v":0},{"$f":"IF(AA8=0,0,(AA8*((LOG(AA8))/LOG(2))))","v":0},null,{"$f":"N8","v":112},{"$f":"COUNTIF(L66:L94,AD8)","v":4},{"$f":"AE8/(AG4-AE9)","v":0.13793103448275862},{"$f":"IF(AF8=0,0,(AF8*((LOG(AF8))/LOG(2))))","v":-0.39420427519000989},null,{"$f":"N8","v":112},{"$f":"COUNTIF(L95:L123,AI8)","v":4},{"$f":"AJ8/(AL4-AJ9)","v":0.13793103448275862},{"$f":"IF(AK8=0,0,(AK8*((LOG(AK8))/LOG(2))))","v":-0.39420427519000989},null,{"$f":"N8","v":112},{"$f":"COUNTIF(L124:L153,AN8)","v":2},{"$f":"AO8/(AQ4-AO9)","v":6.6666666666666666E-2},{"$f":"IF(AP8=0,0,(AP8*((LOG(AP8))/LOG(2))))","v":-0.26045937304056793},null,{"$f":"N8","v":112},{"$f":"COUNTIF(L154:L182,AS8)","v":2},{"$f":"AT8/(AV4-AT9)","v":6.8965517241379309E-2},{"$f":"IF(AU8=0,0,(AU8*((LOG(AU8))/LOG(2))))","v":-0.26606765483638428}]
[11,364,12,369,13,375,null,null,null,null,0,111,null,121,{"$f":"COUNTIF($L$7:$L$500,N9)","v":1},{"$f":"O9/$Q$4","v":5.681818181818182E-3},{"$f":"IF(P9=0,0,(P9*((LOG(P9))/LOG(2))))","v":-4.2383134196802827E-2},null,null,{"$f":"N9","v":121},{"$f":"COUNTIF(L7:L35,T9)","v":1},null,null,null,{"$f":"N9","v":121},{"$f":"COUNTIF(L36:L65,Y9)","v":0},null,null,null,{"$f":"N9","v":121},{"$f":"COUNTIF(L66:L94,AD9)","v":0},null,null,null,{"$f":"N9","v":121},{"$f":"COUNTIF(L95:L123,AI9)","v":0},null,null,null,{"$f":"N9","v":121},{"$f":"COUNTIF(L124:L153,AN9)","v":0},null,null,null,{"$f":"N9","v":121},{"$f":"COUNTIF(L154:L182,AS9)","v":0}]
[11,483,12,489,24,510,null,null,null,null,0,112,null,122,{"$f":"COUNTIF($L$7:$L$500,N10)","v":10},{"$f":"O10/$Q$4","v":5.6818181818181816E-2},{"$f":"IF(P10=0,0,(P10*((LOG(P10))/LOG(2))))","v":-0.23508542748579178},null,null,{"$f":"N10","v":122},{"$f":"COUNTIF(L7:L35,T10)","v":4},{"$f":"U10/(W4-U9)","v":0.14285714285714285},{"$f":"IF(V10=0,0,(V10*((LOG(V10))/LOG(2))))","v":-0.40105070315108626},null,{"$f":"N10","v":122},{"$f":"COUNTIF(L36:L65,Y10)","v":2},{"$f":"Z10/(AB4-Z9)","v":6.6666666666666666E-2},{"$f":"IF(AA10=0,0,(AA10*((LOG(AA10))/LOG(2))))","v":-0.26045937304056793},null,{"$f":"N10","v":122},{"$f":"COUNTIF(L66:L94,AD10)","v":1},{"$f":"AE10/(AG4-AE9)","v":3.4482758620689655E-2},{"$f":"IF(AF10=0,0,(AF10*((LOG(AF10))/LOG(2))))","v":-0.16751658603888178},null,{"$f":"N10","v":122},{"$f":"COUNTIF(L95:L123,AI10)","v":0},{"$f":"AJ10/(AL4-AJ9)","v":0},{"$f":"IF(AK10=0,0,(AK10*((LOG(AK10))/LOG(2))))","v":0},null,{"$f":"N10","v":122},{"$f":"COUNTIF(L124:L153,AN10)","v":1},{"$f":"AO10/(AQ4-AO9)","v":3.3333333333333333E-2},{"$f":"IF(AP10=0,0,(AP10*((LOG(AP10))/LOG(2))))","v":-0.16356301985361729},null,{"$f":"N10","v":122},{"$f":"COUNTIF(L154:L182,AS10)","v":2},{"$f":"AT10/(AV4-AT9)","v":6.8965517241379309E-2},{"$f":"IF(AU10=0,0,(AU10*((LOG(AU10))/LOG(2))))","v":-0.26606765483638428}]
[11,625,12,635,24,650,null,null,null,null,0,112,null,211,{"$f":"COUNTIF($L$7:$L$500,N11)","v":28},{"$f":"O11/$Q$4","v":0.15909090909090909},{"$f":"IF(P11=0,0,(P11*((LOG(P11))/LOG(2))))","v":-0.42192129263767847},null,null,{"$f":"N11","v":211},{"$f":"COUNTIF(L7:L35,T11)","v":5},{"$f":"U11/(W4-U9)","v":0.17857142857142858},{"$f":"IF(V11=0,0,(V11*((LOG(V11))/LOG(2))))","v":-0.44382621913754317},null,{"$f":"N11","v":211},{"$f":"COUNTIF(L36:L65,Y11)","v":3},{"$f":"Z11/(AB4-Z9)","v":0.1},{"$f":"IF(AA11=0,0,(AA11*((LOG(AA11))/LOG(2))))","v":-0.33219280948873625},null,{"$f":"N11","v":211},{"$f":"COUNTIF(L66:L94,AD11)","v":5},{"$f":"AE11/(AG4-AE9)","v":0.17241379310344829},{"$f":"IF(AF11=0,0,(AF11*((LOG(AF11))/LOG(2))))","v":-0.43725050004141547},null,{"$f":"N11","v":211},{"$f":"COUNTIF(L95:L123,AI11)","v":6},{"$f":"AJ11/(AL4-AJ9)","v":0.20689655172413793},{"$f":"IF(AK11=0,0,(AK11*((LOG(AK11))/LOG(2))))","v":-0.4702796884978791},null,{"$f":"N11","v":211},{"$f":"COUNTIF(L124:L153,AN11)","v":6},{"$f":"AO11/(AQ4-AO9)","v":0.2},{"$f":"IF(AP11=0,0,(AP11*((LOG(AP11))/LOG(2))))","v":-0.46438561897747244},null,{"$f":"N11","v":211},{"$f":"COUNTIF(L154:L182,AS11)","v":3},{"$f":"AT11/(AV4-AT9)","v":0.10344827586206896},{"$f":"IF(AU11=0,0,(AU11*((LOG(AU11))/LOG(2))))","v":-0.33858812011100858}]
[22,751,14,768,13,776,null,null,null,null,0,211,null,212,{"$f":"COUNTIF($L$7:$L$500,N12)","v":1},{"$f":"O12/$Q$4","v":5.681818181818182E-3},{"$f":"IF(P12=0,0,(P12*((LOG(P12))/LOG(2))))","v":-4.2383134196802827E-2},null,null,{"$f":"N12","v":212},{"$f":"COUNTIF(L7:L35,T12)","v":0},{"$f":"U12/(W4-U9)","v":0},{"$f":"IF(V12=0,0,(V12*((LOG(V12))/LOG(2))))","v":0},null,{"$f":"N12","v":212},{"$f":"COUNTIF(L36:L65,Y12)","v":0},{"$f":"Z12/(AB4-Z9)","v":0},{"$f":"IF(AA12=0,0,(AA12*((LOG(AA12))/LOG(2))))","v":0},null,{"$f":"N12","v":212},{"$f":"COUNTIF(L66:L94,AD12)","v":0},{"$f":"AE12/(AG4-AE9)","v":0},{"$f":"IF(AF12=0,0,(AF12*((LOG(AF12))/LOG(2))))","v":0},null,{"$f":"N12","v":212},{"$f":"COUNTIF(L95:L123,AI12)","v":1},{"$f":"AJ12/(AL4-AJ9)","v":3.4482758620689655E-2},{"$f":"IF(AK12=0,0,(AK12*((LOG(AK12))/LOG(2))))","v":-0.16751658603888178},null,{"$f":"N12","v":212},{"$f":"COUNTIF(L124:L153,AN12)","v":0},{"$f":"AO12/(AQ4-AO9)","v":0},{"$f":"IF(AP12=0,0,(AP12*((LOG(AP12))/LOG(2))))","v":0},null,{"$f":"N12","v":212},{"$f":"COUNTIF(L154:L182,AS12)","v":0},{"$f":"AT12/(AV4-AT9)","v":0},{"$f":"IF(AU12=0,0,(AU12*((LOG(AU12))/LOG(2))))","v":0}]
[22,874,23,900,24,906,null,null,null,null,0,222,null,221,{"$f":"COUNTIF($L$7:$L$500,N13)","v":9},{"$f":"O13/$Q$4","v":5.113636363636364E-2},{"$f":"IF(P13=0,0,(P13*((LOG(P13))/LOG(2))))","v":-0.21934977019747084},null,null,{"$f":"N13","v":221},{"$f":"COUNTIF(L7:L35,T13)","v":1},{"$f":"U13/(W4-U9)","v":3.5714285714285712E-2},{"$f":"IF(V13=0,0,(V13*((LOG(V13))/LOG(2))))","v":-0.17169124721634299},null,{"$f":"N13","v":221},{"$f":"COUNTIF(L36:L65,Y13)","v":3},{"$f":"Z13/(AB4-Z9)","v":0.1},{"$f":"IF(AA13=0,0,(AA13*((LOG(AA13))/LOG(2))))","v":-0.33219280948873625},null,{"$f":"N13","v":221},{"$f":"COUNTIF(L66:L94,AD13)","v":1},{"$f":"AE13/(AG4-AE9)","v":3.4482758620689655E-2},{"$f":"IF(AF13=0,0,(AF13*((LOG(AF13))/LOG(2))))","v":-0.16751658603888178},null,{"$f":"N13","v":221},{"$f":"COUNTIF(L95:L123,AI13)","v":2},{"$f":"AJ13/(AL4-AJ9)","v":6.8965517241379309E-2},{"$f":"IF(AK13=0,0,(AK13*((LOG(AK13))/LOG(2))))","v":-0.26606765483638428},null,{"$f":"N13","v":221},{"$f":"COUNTIF(L124:L153,AN13)","v":1},{"$f":"AO13/(AQ4-AO9)","v":3.3333333333333333E-2},{"$f":"IF(AP13=0,0,(AP13*((LOG(AP13))/LOG(2))))","v":-0.16356301985361729},null,{"$f":"N13","v":221},{"$f":"COUNTIF(L154:L182,AS13)","v":1},{"$f":"AT13/(AV4-AT9)","v":3.4482758620689655E-2},{"$f":"IF(AU13=0,0,(AU13*((LOG(AU13))/LOG(2))))","v":-0.16751658603888178}]
[22,1002,23,1007,24,1013,null,null,null,null,0,222,null,222,{"$f":"COUNTIF($L$7:$L$500,N14)","v":80},{"$f":"O14/$Q$4","v":0.45454545454545453},{"$f":"IF(P14=0,0,(P14*((LOG(P14))/LOG(2))))","v":-0.51704705624997038},null,null,{"$f":"N14","v":222},{"$f":"COUNTIF(L7:L35,T14)","v":11},{"$f":"U14/(W4-U9)","v":0.39285714285714285},{"$f":"IF(V14=0,0,(V14*((LOG(V14))/LOG(2))))","v":-0.52954129777226344},null,{"$f":"N14","v":222},{"$f":"COUNTIF(L36:L65,Y14)","v":12},{"$f":"Z14/(AB4-Z9)","v":0.4},{"$f":"IF(AA14=0,0,(AA14*((LOG(AA14))/LOG(2))))","v":-0.52877123795494496},null,{"$f":"N14","v":222},{"$f":"COUNTIF(L66:L94,AD14)","v":12},{"$f":"AE14/(AG4-AE9)","v":0.41379310344827586},{"$f":"IF(AF14=0,0,(AF14*((LOG(AF14))/LOG(2))))","v":-0.5267662735474824},null,{"$f":"N14","v":222},{"$f":"COUNTIF(L95:L123,AI14)","v":12},{"$f":"AJ14/(AL4-AJ9)","v":0.41379310344827586},{"$f":"IF(AK14=0,0,(AK14*((LOG(AK14))/LOG(2))))","v":-0.5267662735474824},null,{"$f":"N14","v":222},{"$f":"COUNTIF(L124:L153,AN14)","v":13},{"$f":"AO14/(AQ4-AO9)","v":0.43333333333333335},{"$f":"IF(AP14=0,0,(AP14*((LOG(AP14))/LOG(2))))","v":-0.52279538023588479},null,{"$f":"N14","v":222},{"$f":"COUNTIF(L154:L182,AS14)","v":20},{"$f":"AT14/(AV4-AT9)","v":0.68965517241379315},{"$f":"IF(AU14=0,0,(AU14*((LOG(AU14))/LOG(2))))","v":-0.36969165533807569}]
[11,1109,12,1113,13,1123,null,null,null,null,0,111,null,null,null,{"$f":"SUM(P7:P14)","v":1},{"$f":"-SUM(Q7:Q14)","v":2.2281125828157968},null,null,null,null,{"$f":"SUM(V7:V14)","v":1},{"$f":"-SUM(W7:W14)","v":2.2924165012857989},null,null,null,{"$f":"SUM(AA7:AA14)","v":1},{"$f":"-SUM(AB7:AB14)","v":1.9819370635467042},null,null,null,{"$f":"SUM(AF7:AF14)","v":1},{"$f":"-SUM(AG7:AG14)","v":2.1635339093545505},null,null,null,{"$f":"SUM(AK7:AK14)","v":1},{"$f":"-SUM(AL7:AL14)","v":2.2190387533006475},null,null,null,{"$f":"SUM(AP7:AP14)","v":1},{"$f":"-SUM(AQ7:AQ14)","v":2.0646580691230398},null,null,null,{"$f":"SUM(AU7:AU14)","v":1},{"$f":"-SUM(AV7:AV14)","v":1.5754482571996165}]
[22,1214,23,1218,24,1227,null,null,null,null,0,222,null,null,null,"U=",{"$f":"Q15/(LOG(Q4)/LOG(2))","v":0.29869736686758885},null,null,null,null,"U1=",{"$f":"W15/(LOG(W4)/LOG(2))","v":0.47188667546971319},null,null,null,"U2=",{"$f":"AB15/(LOG(AB4)/LOG(2))","v":0.40390895719592013},null,null,null,"U3=",{"$f":"AG15/(LOG(AG4)/LOG(2))","v":0.44535660216137496},null,null,null,"U4=",{"$f":"AL15/(LOG(AL4)/LOG(2))","v":0.45678209847388973},null,null,null,"U5=",{"$f":"AQ15/(LOG(AQ4)/LOG(2))","v":0.42076708842272348},null,null,null,"U6=",{"$f":"AV15/(LOG(AV4)/LOG(2))","v":0.32430103344985289}]
[22,1327,23,1331,24,1334,null,null,null,null,0,222]
[11,1436,12,1441,13,1446,null,null,null,null,0,111]
[11,1541,21,1552,22,1557,null,null,null,null,0,122,null,"Total Target Seq"]
[22,1655,14,1669,13,1676,null,null,null,null,0,211,null,{"$f":"COUNTIF(L7:L182,G3)","v":1},null,29,30,29,29,30,29]
[22,1774,23,1784,24,1790,null,null,null,null,0,222,null,null,null,"% of reinforcement given in 6 equal intervals based on number of trials "]
[11,1890,21,1904,22,1907,null,null,null,null,0,122,null,null,null,"%_1","%_2","%_3","%_4","%_5","%_6"]
[22,2010,23,2015,24,2020,null,null,null,null,0,222,null,null,"target sequence",{"$f":"$G$3","v":121},{"$f":"$G$3","v":121},{"$f":"$G$3","v":121},{"$f":"$G$3","v":121},{"$f":"$G$3","v":121},{"$f":"$G$3","v":121}]
[11,2117,21,2129,22,2133,null,null,null,null,0,122,null,null,"total reinforcement",{"$f":"U9","v":1},{"$f":"Z9","v":0},{"$f":"AE9","v":0},{"$f":"AJ9","v":0},{"$f":"AO9","v":0},{"$f":"AT9","v":0}]
[11,2230,21,2233,11,2247,null,null,null,null,0,121,null,null,"% target"]
[22,2551,14,2561,13,2565,null,null,null,null,0,211,null,null,"CCRF"]
[22,2662,23,2669,13,2679,null,null,null,null,0,221,null,null,"% CCRf"]
[22,2926,23,2932,24,2939,null,null,null,null,0,222,null,null,"average response rate",{"$f":"F35/P20","v":132.58620689655172},{"$f":"(F65-F35)/Q20","v":118.96666666666667},{"$f":"(F94-F65)/R20","v":142.10344827586206},{"$f":"(F123-F94)/S20","v":146.82758620689654},{"$f":"(F153-F123)/T20","v":152.5},{"$f":"(F182-F153)/U20","v":123.72413793103448}]
[22,3113,14,3126,13,3138,null,null,null,null,0,211]
[22,3235,23,3241,24,3247,null,null,null,null,0,222]
[22,3348,14,3360,13,3367,null,null,null,null,0,211]
[22,3464,23,3478,24,3485,null,null,null,null,0,222]
[11,3585,12,3590,24,3605,null,null,null,null,0,112]
[22,3717,23,3723,24,3732,null,null,null,null,0,222]
[11,3832,12,3838,13,3845,null,null,null,null,0,111]
[22,3944,23,3948,24,3955,null,null,null,null,0,222]
[22,4050,23,4059,24,4068,null,null,null,null,0,222]
[11,4167,12,4172,13,4179,null,null,null,null,0,111]
[22,4283,23,4290,24,4298,null,null,null,null,0,222]
[11,4430,12,4433,13,4439,null,null,null,null,0,111]
[22,4531,23,4536,13,4549,null,null,null,null,0,221]
[22,4715,23,4724,24,4730,null,null,null,null,0,222]
[11,4846,21,4857,22,4862,null,null,null,null,0,122]
[11,4971,12,4977,13,4983,null,null,null,null,0,111]
[22,5080,23,5084,13,5095,null,null,null,null,0,221]
[11,5199,21,5217,22,5223,null,null,null,null,0,122]
[22,5321,14,5331,13,5336,null,null,null,null,0,211]
[11,5434,12,5440,13,5446,null,null,null,null,0,111]
[11,5565,12,5569,13,5574,null,null,null,null,0,111]
[11,5672,12,5677,13,5683,null,null,null,null,0,111]
[22,5782,23,5789,24,5797,null,null,null,null,0,222]
[11,5895,12,5903,13,5909,null,null,null,null,0,111]
[22,6007,23,6012,24,6020,null,null,null,null,0,222]
[22,6118,23,6123,24,6129,null,null,null,null,0,222]
[11,6225,12,6229,13,6235,null,null,null,null,0,111]
[22,6329,23,6333,24,6339,null,null,null,null,0,222]
[11,6463,12,6468,13,6474,null,null,null,null,0,111]
[22,6574,23,6577,24,6582,null,null,null,null,0,222]
[22,6732,14,6744,13,6749,null,null,null,null,0,211]
[22,6847,23,6852,24,6857,null,null,null,null,0,222]
[22,6957,23,6961,24,6968,null,null,null,null,0,222]
[22,7066,23,7070,24,7075,null,null,null,null,0,222]
[22,7172,23,7177,13,7189,null,null,null,null,0,221]
[11,7286,12,7289,13,7296,null,null,null,null,0,111]
[22,7392,14,7409,13,7414,null,null,null,null,0,211]
[11,7525,12,7530,13,7535,null,null,null,null,0,111]
[11,7645,12,7650,13,7656,null,null,null,null,0,111]
[11,7758,12,7764,24,7778,null,null,null,null,0,112]
[22,7877,14,7888,13,7892,null,null,null,null,0,211]
[11,8006,12,8011,13,8017,null,null,null,null,0,111]
[22,8112,23,8116,24,8127,null,null,null,null,0,222]
[22,8798,23,8804,24,8810,null,null,null,null,0,222]
[22,8908,23,8911,24,8915,null,null,null,null,0,222]
[11,9137,12,9140,13,9144,null,null,null,null,0,111]
[11,9279,12,9284,24,9301,null,null,null,null,0,112]
[11,9427,21,9443,22,9446,null,null,null,null,0,122]
[22,9544,23,9551,13,9563,null,null,null,null,0,221]
[22,9665,14,9680,13,9686,null,null,null,null,0,211]
[22,9786,14,9797,13,9799,null,null,null,null,0,211]
[22,9897,23,9905,24,9909,null,null,null,null,0,222]
[11,10006,12,10011,13,10017,null,null,null,null,0,111]
[22,10131,14,10140,13,10144,null,null,null,null,0,211]
[22,10244,23,10250,24,10255,null,null,null,null,0,222]
[22,10371,23,10378,24,10383,null,null,null,null,0,222]
[22,10481,14,10491,13,10495,null,null,null,null,0,211]
[22,10613,23,10621,24,10630,null,null,null,null,0,222]
[22,10729,23,10736,24,10740,null,null,null,null,0,222]
[22,10840,23,10846,24,10851,null,null,null,null,0,222]
[11,10945,12,10951,13,10956,null,null,null,null,0,111]
[22,11054,23,11060,24,11065,null,null,null,null,0,222]
[11,11167,12,11171,24,11181,null,null,null,null,0,112]
[11,11297,12,11303,24,11312,null,null,null,null,0,112]
[22,11411,23,11417,24,11420,null,null,null,null,0,222]
[22,11524,23,11532,24,11535,null,null,null,null,0,222]
[22,11643,23,11656,24,11660,null,null,null,null,0,222]
[11,11789,12,11793,24,11809,null,null,null,null,0,112]
[11,11920,12,11924,13,11930,null,null,null,null,0,111]
[22,12031,23,12036,24,12043,null,null,null,null,0,222]
[22,12401,23,12412,24,12419,null,null,null,null,0,222]
[11,12525,12,12528,13,12534,null,null,null,null,0,111]
[22,12651,23,12661,13,12675,null,null,null,null,0,221]
[22,12789,14,12799,24,12815,null,null,null,null,0,212]
[22,12915,23,12923,24,12933,null,null,null,null,0,222]
[11,13169,12,13176,13,13183,null,null,null,null,0,111]
[22,13282,14,13294,13,13298,null,null,null,null,0,211]
[11,13445,12,13451,24,13464,null,null,null,null,0,112]
[22,13565,14,13574,13,13577,null,null,null,null,0,211]
[22,13705,23,13712,24,13729,null,null,null,null,0,222]
[22,13828,23,13844,24,13849,null,null,null,null,0,222]
[11,13953,12,13957,24,13973,null,null,null,null,0,112]
[22,14091,23,14113,24,14115,null,null,null,null,0,222]
[22,14224,23,14227,24,14229,null,null,null,null,0,222]
[22,14332,23,14358,24,14363,null,null,null,null,0,222]
[22,14551,14,14563,13,14568,null,null,null,null,0,211]
[11,14683,12,14692,24,14705,null,null,null,null,0,112]
[22,14803,23,14816,24,14823,null,null,null,null,0,222]
[22,14922,23,14928,24,14936,null,null,null,null,0,222]
[11,15034,12,15046,13,15052,null,null,null,null,0,111]
[22,15152,14,15176,13,15181,null,null,null,null,0,211]
[22,15284,14,15300,13,15306,null,null,null,null,0,211]
[22,15405,23,15425,24,15432,null,null,null,null,0,222]
[22,15531,14,15546,13,15551,null,null,null,null,0,211]
[22,15749,23,15784,13,15793,null,null,null,null,0,221]
[22,15985,14,16000,13,16005,null,null,null,null,0,211]
[22,16102,14,16119,13,16125,null,null,null,null,0,211]
[22,16224,23,16229,24,16236,null,null,null,null,0,222]
[22,16476,14,16495,13,16502,null,null,null,null,0,211]
[22,16600,14,16613,13,16618,null,null,null,null,0,211]
[22,16718,23,16723,24,16730,null,null,null,null,0,222]
[11,16832,12,16842,24,16858,null,null,null,null,0,112]
[22,16955,23,16959,24,16966,null,null,null,null,0,222]
[22,17066,14,17076,13,17081,null,null,null,null,0,211]
[11,17196,12,17202,13,17209,null,null,null,null,0,111]
[22,17309,23,17321,24,17328,null,null,null,null,0,222]
[22,17425,23,17431,24,17437,null,null,null,null,0,222]
[11,17532,12,17535,13,17540,null,null,null,null,0,111]
[11,17644,12,17648,13,17655,null,null,null,null,0,111]
[11,17775,12,17780,13,17788,null,null,null,null,0,111]
[22,17889,23,17893,24,17900,null,null,null,null,0,222]
[11,18000,12,18005,13,18010,null,null,null,null,0,111]
[22,18107,23,18110,24,18117,null,null,null,null,0,222]
[22,18229,23,18233,24,18243,null,null,null,null,0,222]
[22,18343,23,18356,24,18363,null,null,null,null,0,222]
[22,18466,23,18470,24,18473,null,null,null,null,0,222]
[11,18584,12,18589,13,18596,null,null,null,null,0,111]
[11,18714,12,18722,24,18734,null,null,null,null,0,112]
[22,18832,23,18836,24,18842,null,null,null,null,0,222]
[11,19557,21,19583,22,19588,null,null,null,null,0,122]
[22,19912,14,19923,13,19929,null,null,null,null,0,211]
[22,20027,23,20036,13,20048,null,null,null,null,0,221]
[22,20145,23,20152,24,20158,null,null,null,null,0,222]
[22,20255,23,20260,24,20264,null,null,null,null,0,222]
[11,20356,12,20364,13,20368,null,null,null,null,0,111]
[22,20471,23,20477,24,20483,null,null,null,null,0,222]
[11,20593,12,20599,24,20611,null,null,null,null,0,112]
[22,20709,23,20713,24,20717,null,null,null,null,0,222]
[11,20813,12,20818,24,20828,null,null,null,null,0,112]
[22,20931,23,20938,24,20944,null,null,null,null,0,222]
[22,21045,23,21054,24,21062,null,null,null,null,0,222]
[22,21159,23,21180,24,21201,null,null,null,null,0,222]
[22,21312,23,21318,24,21323,null,null,null,null,0,222]
[11,21424,21,21437,22,21441,null,null,null,null,0,122]
[22,21554,23,21559,24,21565,null,null,null,null,0,222]
[22,21667,23,21673,24,21677,null,null,null,null,0,222]
[22,21773,23,21788,24,21795,null,null,null,null,0,222]
[22,21917,14,21926,13,21935,null,null,null,null,0,211]
[11,22031,21,22033,22,22037,null,null,null,null,0,122]
[22,22153,23,22160,13,22173,null,null,null,null,0,221]
[22,22272,23,22283,24,22289,null,null,null,null,0,222]
[11,22388,12,22392,13,22398,null,null,null,null,0,111]
[22,22499,23,22505,24,22508,null,null,null,null,0,222]
[22,22614,23,22622,24,22628,null,null,null,null,0,222]
[22,22738,14,22746,13,22752,null,null,null,null,0,211]
[22,22858,23,22868,24,22871,null,null,null,null,0,222]
[22,23007,14,23020,13,23025,null,null,null,null,0,211]
[22,23123,23,23131,24,23139,null,null,null,null,0,222]
[22,23344,23,23349,24,23355,null,null,null,null,0,222]
[22,23456,23,23460,24,23465,null,null,null,null,0,222]
[22,23562,23,23569,24,23577,null,null,null,null,0,222]
[22,23674,23,23681,24,23685,null,null,null,null,0,222]
[22,23781,23,23788,24,23792,null,null,null,null,0,222]
[22,23946,23,23950,24,23956,null,null,null,null,null,222]

{"sheet":"!M223A3I.sha","index":16,"n_rows":169,"n_cols":48,"rows_kept":169,"cut":false,"hidden":false,"merged":[[4,39,4,42],[5,39,5,40],[4,44,4,47],[5,44,5,45],[4,24,4,27],[5,24,5,25],[4,29,4,32],[5,29,5,30],[4,34,4,37],[5,34,5,35],[1,1,1,2],[5,13,5,14],[18,13,18,14],[19,13,19,14],[4,19,4,22],[5,19,5,20]]}
["Report for:!M223A3I.sha"]
["Date:","<date>"]
["Hen:","<hen>",null,null,null,"Correct Sequence",{"$f":"Start!J2","v":121},null,null,null,null,null,null,null,null,"Total Sequences in Data",{"$f":"4994-COUNTBLANK(L7:L5000)","v":163},null,null,null,null,"Total Sequences in Block Data",{"$f":"COUNTA(L7:L33)","v":27},null,null,null,"Total Sequences in Block Data",{"$f":"COUNTA(L34:L60)","v":27},null,null,null,"Total Sequences in Block Data",{"$f":"COUNTA(L61:L88)","v":28},null,null,null,"Total Sequences in Block Data",{"$f":"COUNTA(L89:L115)","v":27},null,null,null,"Total Sequences in Block Data",{"$f":"COUNTA(L116:L142)","v":27},null,null,null,"Total Sequences in Block Data",{"$f":"COUNTA(L143:L169)","v":27}]
[null,null,null,null,null,null,null,null,null,null,null,null,null,null,null,"Total Sequences in Summary",{"$f":"SUM(O7:O14)","v":163},null,null,null,null,"Total Sequences in Block Summary",{"$f":"SUM(U7:U14)","v":27},null,null,null,"Total Sequences in Block Summary",{"$f":"SUM(Z7:Z14)","v":27},null,null,null,"Total Sequences in Block Summary",{"$f":"SUM(AE7:AE14)","v":28},null,null,null,"Total Sequences in Block Summary",{"$f":"SUM(AJ7:AJ14)","v":27},null,null,null,"Total Sequences in Block Summary",{"$f":"SUM(AO7:AO14)","v":27},null,null,null,"Total Sequences in Block Summary",{"$f":"SUM(AT7:AT14)","v":27}]
[null,null,null,null,null,null,null,null,null,null,null,null,null,null,null,null,null,null,null,"Block 1",null,null,null,null,"Block 2",null,null,null,null,"Block 3",null,null,null,null,"Block 4",null,null,null,null,"Block 5",null,null,null,null,"Block 6"]
["Sequence\nComponent\n1","Time\n1","Sequence\nComponent\n2","Time\n2","Sequence\nComponent\n3","Time\n3","Sequence\nComponent\n4","Time\n4","Sequence\nComponent\n5","Time\n5","Correct?\n0=No 1=Yes","Sequence",null,"Frequency",null,"Relative Frequency","Variability",null,null,"Frequency",null,"Relative Frequency","Variability",null,"Frequency",null,"Relative Frequency","Variability",null,"Frequency",null,"Relative Frequency","Variability",null,"Frequency",null,"Relative Frequency","Variability",null,"Frequency",null,"Relative Frequency","Variability",null,"Frequency",null,"Relative Frequency","Variability"]
[11,35,21,49,22,59,null,null,null,null,0,122,null,111,{"$f":"COUNTIF($L$7:$L$500,N7)","v":42},{"$f":"O7/$Q$4","v":0.25766871165644173},{"$f":"IF(P7=0,0,(P7*((LOG(P7))/LOG(2))))","v":-0.50410583264415532},null,null,{"$f":"N7","v":111},{"$f":"COUNTIF(L7:L33,T7)","v":4},{"$f":"U7/(W4-U9)","v":0.14814814814814814},{"$f":"IF(V7=0,0,(V7*((LOG(V7))/LOG(2))))","v":-0.40813148180199532},null,{"$f":"N7","v":111},{"$f":"COUNTIF(L34:L60,Y7)","v":8},{"$f":"Z7/(AB4-Z9)","v":0.29629629629629628},{"$f":"IF(AA7=0,0,(AA7*((LOG(AA7))/LOG(2))))","v":-0.51996666730769436},null,{"$f":"N7","v":111},{"$f":"COUNTIF(L61:L88,AD7)","v":6},{"$f":"AE7/(AG4-AE9)","v":0.21428571428571427},{"$f":"IF(AF7=0,0,(AF7*((LOG(AF7))/LOG(2))))","v":-0.47622694742923877},null,{"$f":"N7","v":111},{"$f":"COUNTIF(L89:L115,AI7)","v":7},{"$f":"AJ7/(AL4-AJ9)","v":0.25925925925925924},{"$f":"IF(AK7=0,0,(AK7*((LOG(AK7))/LOG(2))))","v":-0.5049158541015204},null,{"$f":"N7","v":111},{"$f":"COUNTIF(L116:L142,AN7)","v":7},{"$f":"AO7/(AQ4-AO9)","v":0.25925925925925924},{"$f":"IF(AP7=0,0,(AP7*((LOG(AP7))/LOG(2))))","v":-0.5049158541015204},null,{"$f":"N7","v":111},{"$f":"COUNTIF(L143:L169,AS7)","v":10},{"$f":"AT7/(AV4-AT9)","v":0.38461538461538464},{"$f":"IF(AU7=0,0,(AU7*((LOG(AU7))/LOG(2))))","v":-0.53019677817451139}]
[22,155,14,169,24,183,null,null,null,null,0,212,null,112,{"$f":"COUNTIF($L$7:$L$500,N8)","v":8},{"$f":"O8/$Q$4","v":4.9079754601226995E-2},{"$f":"IF(P8=0,0,(P8*((LOG(P8))/LOG(2))))","v":-0.21343451063710808},null,null,{"$f":"N8","v":112},{"$f":"COUNTIF(L7:L33,T8)","v":2},{"$f":"U8/(W4-U9)","v":7.407407407407407E-2},{"$f":"IF(V8=0,0,(V8*((LOG(V8))/LOG(2))))","v":-0.27813981497507173},null,{"$f":"N8","v":112},{"$f":"COUNTIF(L34:L60,Y8)","v":1},{"$f":"Z8/(AB4-Z9)","v":3.7037037037037035E-2},{"$f":"IF(AA8=0,0,(AA8*((LOG(AA8))/LOG(2))))","v":-0.1761069445245729},null,{"$f":"N8","v":112},{"$f":"COUNTIF(L61:L88,AD8)","v":2},{"$f":"AE8/(AG4-AE9)","v":7.1428571428571425E-2},{"$f":"IF(AF8=0,0,(AF8*((LOG(AF8))/LOG(2))))","v":-0.27195392300411453},null,{"$f":"N8","v":112},{"$f":"COUNTIF(L89:L115,AI8)","v":1},{"$f":"AJ8/(AL4-AJ9)","v":3.7037037037037035E-2},{"$f":"IF(AK8=0,0,(AK8*((LOG(AK8))/LOG(2))))","v":-0.1761069445245729},null,{"$f":"N8","v":112},{"$f":"COUNTIF(L116:L142,AN8)","v":2},{"$f":"AO8/(AQ4-AO9)","v":7.407407407407407E-2},{"$f":"IF(AP8=0,0,(AP8*((LOG(AP8))/LOG(2))))","v":-0.27813981497507173},null,{"$f":"N8","v":112},{"$f":"COUNTIF(L143:L169,AS8)","v":0},{"$f":"AT8/(AV4-AT9)","v":0},{"$f":"IF(AU8=0,0,(AU8*((LOG(AU8))/LOG(2))))","v":0}]
[22,278,23,286,13,296,null,null,null,null,0,221,null,121,{"$f":"COUNTIF($L$7:$L$500,N9)","v":1},{"$f":"O9/$Q$4","v":6.1349693251533744E-3},{"$f":"IF(P9=0,0,(P9*((LOG(P9))/LOG(2))))","v":-4.5084221805098634E-2},null,null,{"$f":"N9","v":121},{"$f":"COUNTIF(L7:L33,T9)","v":0},null,null,null,{"$f":"N9","v":121},{"$f":"COUNTIF(L34:L60,Y9)","v":0},null,null,null,{"$f":"N9","v":121},{"$f":"COUNTIF(L61:L88,AD9)","v":0},null,null,null,{"$f":"N9","v":121},{"$f":"COUNTIF(L89:L115,AI9)","v":0},null,null,null,{"$f":"N9","v":121},{"$f":"COUNTIF(L116:L142,AN9)","v":0},null,null,null,{"$f":"N9","v":121},{"$f":"COUNTIF(L143:L169,AS9)","v":1}]
[22,393,14,405,13,409,null,null,null,null,0,211,null,122,{"$f":"COUNTIF($L$7:$L$500,N10)","v":6},{"$f":"O10/$Q$4","v":3.6809815950920248E-2},{"$f":"IF(P10=0,0,(P10*((LOG(P10))/LOG(2))))","v":-0.1753533369390155},null,null,{"$f":"N10","v":122},{"$f":"COUNTIF(L7:L33,T10)","v":3},{"$f":"U10/(W4-U9)","v":0.1111111111111111},{"$f":"IF(V10=0,0,(V10*((LOG(V10))/LOG(2))))","v":-0.3522138890491458},null,{"$f":"N10","v":122},{"$f":"COUNTIF(L34:L60,Y10)","v":2},{"$f":"Z10/(AB4-Z9)","v":7.407407407407407E-2},{"$f":"IF(AA10=0,0,(AA10*((LOG(AA10))/LOG(2))))","v":-0.27813981497507173},null,{"$f":"N10","v":122},{"$f":"COUNTIF(L61:L88,AD10)","v":0},{"$f":"AE10/(AG4-AE9)","v":0},{"$f":"IF(AF10=0,0,(AF10*((LOG(AF10))/LOG(2))))","v":0},null,{"$f":"N10","v":122},{"$f":"COUNTIF(L89:L115,AI10)","v":1},{"$f":"AJ10/(AL4-AJ9)","v":3.7037037037037035E-2},{"$f":"IF(AK10=0,0,(AK10*((LOG(AK10))/LOG(2))))","v":-0.1761069445245729},null,{"$f":"N10","v":122},{"$f":"COUNTIF(L116:L142,AN10)","v":0},{"$f":"AO10/(AQ4-AO9)","v":0},{"$f":"IF(AP10=0,0,(AP10*((LOG(AP10))/LOG(2))))","v":0},null,{"$f":"N10","v":122},{"$f":"COUNTIF(L143:L169,AS10)","v":0},{"$f":"AT10/(AV4-AT9)","v":0},{"$f":"IF(AU10=0,0,(AU10*((LOG(AU10))/LOG(2))))","v":0}]
[11,508,12,519,24,531,null,null,null,null,0,112,null,211,{"$f":"COUNTIF($L$7:$L$500,N11)","v":40},{"$f":"O11/$Q$4","v":0.24539877300613497},{"$f":"IF(P11=0,0,(P11*((LOG(P11))/LOG(2))))","v":-0.49737424769170918},null,null,{"$f":"N11","v":211},{"$f":"COUNTIF(L7:L33,T11)","v":6},{"$f":"U11/(W4-U9)","v":0.22222222222222221},{"$f":"IF(V11=0,0,(V11*((LOG(V11))/LOG(2))))","v":-0.48220555587606945},null,{"$f":"N11","v":211},{"$f":"COUNTIF(L34:L60,Y11)","v":6},{"$f":"Z11/(AB4-Z9)","v":0.22222222222222221},{"$f":"IF(AA11=0,0,(AA11*((LOG(AA11))/LOG(2))))","v":-0.48220555587606945},null,{"$f":"N11","v":211},{"$f":"COUNTIF(L61:L88,AD11)","v":5},{"$f":"AE11/(AG4-AE9)","v":0.17857142857142858},{"$f":"IF(AF11=0,0,(AF11*((LOG(AF11))/LOG(2))))","v":-0.44382621913754317},null,{"$f":"N11","v":211},{"$f":"COUNTIF(L89:L115,AI11)","v":9},{"$f":"AJ11/(AL4-AJ9)","v":0.33333333333333331},{"$f":"IF(AK11=0,0,(AK11*((LOG(AK11))/LOG(2))))","v":-0.52832083357371862},null,{"$f":"N11","v":211},{"$f":"COUNTIF(L116:L142,AN11)","v":7},{"$f":"AO11/(AQ4-AO9)","v":0.25925925925925924},{"$f":"IF(AP11=0,0,(AP11*((LOG(AP11))/LOG(2))))","v":-0.5049158541015204},null,{"$f":"N11","v":211},{"$f":"COUNTIF(L143:L169,AS11)","v":7},{"$f":"AT11/(AV4-AT9)","v":0.26923076923076922},{"$f":"IF(AU11=0,0,(AU11*((LOG(AU11))/LOG(2))))","v":-0.50967667586863141}]
[22,628,23,632,24,643,null,null,null,null,0,222,null,212,{"$f":"COUNTIF($L$7:$L$500,N12)","v":4},{"$f":"O12/$Q$4","v":2.4539877300613498E-2},{"$f":"IF(P12=0,0,(P12*((LOG(P12))/LOG(2))))","v":-0.13125713261916755},null,null,{"$f":"N12","v":212},{"$f":"COUNTIF(L7:L33,T12)","v":2},{"$f":"U12/(W4-U9)","v":7.407407407407407E-2},{"$f":"IF(V12=0,0,(V12*((LOG(V12))/LOG(2))))","v":-0.27813981497507173},null,{"$f":"N12","v":212},{"$f":"COUNTIF(L34:L60,Y12)","v":0},{"$f":"Z12/(AB4-Z9)","v":0},{"$f":"IF(AA12=0,0,(AA12*((LOG(AA12))/LOG(2))))","v":0},null,{"$f":"N12","v":212},{"$f":"COUNTIF(L61:L88,AD12)","v":0},{"$f":"AE12/(AG4-AE9)","v":0},{"$f":"IF(AF12=0,0,(AF12*((LOG(AF12))/LOG(2))))","v":0},null,{"$f":"N12","v":212},{"$f":"COUNTIF(L89:L115,AI12)","v":1},{"$f":"AJ12/(AL4-AJ9)","v":3.7037037037037035E-2},{"$f":"IF(AK12=0,0,(AK12*((LOG(AK12))/LOG(2))))","v":-0.1761069445245729},null,{"$f":"N12","v":212},{"$f":"COUNTIF(L116:L142,AN12)","v":1},{"$f":"AO12/(AQ4-AO9)","v":3.7037037037037035E-2},{"$f":"IF(AP12=0,0,(AP12*((LOG(AP12))/LOG(2))))","v":-0.1761069445245729},null,{"$f":"N12","v":212},{"$f":"COUNTIF(L143:L169,AS12)","v":0},{"$f":"AT12/(AV4-AT9)","v":0},{"$f":"IF(AU12=0,0,(AU12*((LOG(AU12))/LOG(2))))","v":0}]
[22,743,14,754,24,773,null,null,null,null,0,212,null,221,{"$f":"COUNTIF($L$7:$L$500,N13)","v":18},{"$f":"O13/$Q$4","v":0.11042944785276074},{"$f":"IF(P13=0,0,(P13*((LOG(P13))/LOG(2))))","v":-0.35103347699507842},null,null,{"$f":"N13","v":221},{"$f":"COUNTIF(L7:L33,T13)","v":2},{"$f":"U13/(W4-U9)","v":7.407407407407407E-2},{"$f":"IF(V13=0,0,(V13*((LOG(V13))/LOG(2))))","v":-0.27813981497507173},null,{"$f":"N13","v":221},{"$f":"COUNTIF(L34:L60,Y13)","v":2},{"$f":"Z13/(AB4-Z9)","v":7.407407407407407E-2},{"$f":"IF(AA13=0,0,(AA13*((LOG(AA13))/LOG(2))))","v":-0.27813981497507173},null,{"$f":"N13","v":221},{"$f":"COUNTIF(L61:L88,AD13)","v":5},{"$f":"AE13/(AG4-AE9)","v":0.17857142857142858},{"$f":"IF(AF13=0,0,(AF13*((LOG(AF13))/LOG(2))))","v":-0.44382621913754317},null,{"$f":"N13","v":221},{"$f":"COUNTIF(L89:L115,AI13)","v":2},{"$f":"AJ13/(AL4-AJ9)","v":7.407407407407407E-2},{"$f":"IF(AK13=0,0,(AK13*((LOG(AK13))/LOG(2))))","v":-0.27813981497507173},null,{"$f":"N13","v":221},{"$f":"COUNTIF(L116:L142,AN13)","v":5},{"$f":"AO13/(AQ4-AO9)","v":0.18518518518518517},{"$f":"IF(AP13=0,0,(AP13*((LOG(AP13))/LOG(2))))","v":-0.45054803838446406},null,{"$f":"N13","v":221},{"$f":"COUNTIF(L143:L169,AS13)","v":2},{"$f":"AT13/(AV4-AT9)","v":7.6923076923076927E-2},{"$f":"IF(AU13=0,0,(AU13*((LOG(AU13))/LOG(2))))","v":-0.28464920908777636}]
[22,871,23,882,24,890,null,null,null,null,0,222,null,222,{"$f":"COUNTIF($L$7:$L$500,N14)","v":44},{"$f":"O14/$Q$4","v":0.26993865030674846},{"$f":"IF(P14=0,0,(P14*((LOG(P14))/LOG(2))))","v":-0.50999415684740079},null,null,{"$f":"N14","v":222},{"$f":"COUNTIF(L7:L33,T14)","v":8},{"$f":"U14/(W4-U9)","v":0.29629629629629628},{"$f":"IF(V14=0,0,(V14*((LOG(V14))/LOG(2))))","v":-0.51996666730769436},null,{"$f":"N14","v":222},{"$f":"COUNTIF(L34:L60,Y14)","v":8},{"$f":"Z14/(AB4-Z9)","v":0.29629629629629628},{"$f":"IF(AA14=0,0,(AA14*((LOG(AA14))/LOG(2))))","v":-0.51996666730769436},null,{"$f":"N14","v":222},{"$f":"COUNTIF(L61:L88,AD14)","v":10},{"$f":"AE14/(AG4-AE9)","v":0.35714285714285715},{"$f":"IF(AF14=0,0,(AF14*((LOG(AF14))/LOG(2))))","v":-0.53050958113222924},null,{"$f":"N14","v":222},{"$f":"COUNTIF(L89:L115,AI14)","v":6},{"$f":"AJ14/(AL4-AJ9)","v":0.22222222222222221},{"$f":"IF(AK14=0,0,(AK14*((LOG(AK14))/LOG(2))))","v":-0.48220555587606945},null,{"$f":"N14","v":222},{"$f":"COUNTIF(L116:L142,AN14)","v":5},{"$f":"AO14/(AQ4-AO9)","v":0.18518518518518517},{"$f":"IF(AP14=0,0,(AP14*((LOG(AP14))/LOG(2))))","v":-0.45054803838446406},null,{"$f":"N14","v":222},{"$f":"COUNTIF(L143:L169,AS14)","v":7},{"$f":"AT14/(AV4-AT9)","v":0.26923076923076922},{"$f":"IF(AU14=0,0,(AU14*((LOG(AU14))/LOG(2))))","v":-0.50967667586863141}]
[22,989,23,993,24,1000,null,null,null,null,0,222,null,null,null,{"$f":"SUM(P7:P14)","v":1},{"$f":"-SUM(Q7:Q14)","v":2.4276369161787335},null,null,null,null,{"$f":"SUM(V7:V14)","v":1},{"$f":"-SUM(W7:W14)","v":2.5969370389601201},null,null,null,{"$f":"SUM(AA7:AA14)","v":0.99999999999999989},{"$f":"-SUM(AB7:AB14)","v":2.2545254649661746},null,null,null,{"$f":"SUM(AF7:AF14)","v":1},{"$f":"-SUM(AG7:AG14)","v":2.1663428898406689},null,null,null,{"$f":"SUM(AK7:AK14)","v":1},{"$f":"-SUM(AL7:AL14)","v":2.3219028921000988},null,null,null,{"$f":"SUM(AP7:AP14)","v":0.99999999999999978},{"$f":"-SUM(AQ7:AQ14)","v":2.3651745444716137},null,null,null,{"$f":"SUM(AU7:AU14)","v":1},{"$f":"-SUM(AV7:AV14)","v":1.8341993389995506}]
[22,1095,23,1100,24,1114,null,null,null,null,0,222,null,null,null,"U=",{"$f":"Q15/(LOG(Q4)/LOG(2))","v":0.33034790037525147},null,null,null,null,"U1=",{"$f":"W15/(LOG(W4)/LOG(2))","v":0.54616161534389962},null,null,null,"U2=",{"$f":"AB15/(LOG(AB4)/LOG(2))","v":0.47414906534389473},null,null,null,"U3=",{"$f":"AG15/(LOG(AG4)/LOG(2))","v":0.45063094465957365},null,null,null,"U4=",{"$f":"AL15/(LOG(AL4)/LOG(2))","v":0.48831920650985661},null,null,null,"U5=",{"$f":"AQ15/(LOG(AQ4)/LOG(2))","v":0.49741966416565314},null,null,null,"U6=",{"$f":"AV15/(LOG(AV4)/LOG(2))","v":0.38575031231863888}]
[11,1211,12,1215,24,1229,null,null,null,null,0,112]
[22,1327,14,1345,13,1350,null,null,null,null,0,211]
[11,1449,21,1466,22,1472,null,null,null,null,0,122,null,"Total Target Seq"]
[22,1569,23,1572,24,1577,null,null,null,null,0,222,null,{"$f":"COUNTIF(L7:L169,G3)","v":1},null,27,27,28,27,27,27]
[22,1673,23,1678,13,1689,null,null,null,null,0,221,null,null,null,"% of reinforcement given in 6 equal intervals based on number of trials "]
[22,1786,23,1795,24,1808,null,null,null,null,0,222,null,null,null,"%_1","%_2","%_3","%_4","%_5","%_6"]
[22,1906,14,1926,13,1931,null,null,null,null,0,211,null,null,"target sequence",{"$f":"$G$3","v":121},{"$f":"$G$3","v":121},{"$f":"$G$3","v":121},{"$f":"$G$3","v":121},{"$f":"$G$3","v":121},{"$f":"$G$3","v":121}]
[22,2043,14,2062,13,2067,null,null,null,null,0,211,null,null,"total reinforcement",{"$f":"U9","v":0},{"$f":"Z9","v":0},{"$f":"AE9","v":0},{"$f":"AJ9","v":0},{"$f":"AO9","v":0},{"$f":"AT9","v":1}]
[11,2172,12,2178,13,2184,null,null,null,null,0,111,null,null,"% target"]
[11,2403,12,2408,13,2414,null,null,null,null,0,111,null,null,"CCRF"]
[11,2513,12,2517,13,2523,null,null,null,null,0,111,null,null,"% CCRf"]
[22,2622,23,2627,24,2642,null,null,null,null,0,222,null,null,"average response rate",{"$f":"F33/P20","v":118.07407407407408},{"$f":"(F60-F33)/Q20","v":136.44444444444446},{"$f":"(F88-F60)/R20","v":135.64285714285714},{"$f":"(F115-F88)/S20","v":145.5185185185185},{"$f":"(F142-F115)/T20","v":190.92592592592592},{"$f":"(F169-F142)/U20","v":157.11111111111111}]
[22,2739,14,2750,13,2755,null,null,null,null,0,211]
[22,2851,23,2853,24,2858,null,null,null,null,0,222]
[11,2957,12,2962,13,2968,null,null,null,null,0,111]
[22,3067,14,3079,13,3084,null,null,null,null,0,211]
[11,3176,21,3181,22,3188,null,null,null,null,0,122]
[11,3285,12,3289,13,3293,null,null,null,null,0,111]
[22,3388,23,3397,24,3403,null,null,null,null,0,222]
[11,3552,12,3557,13,3564,null,null,null,null,0,111]
[11,3902,21,3914,22,3918,null,null,null,null,0,122]
[22,4017,14,4029,13,4034,null,null,null,null,0,211]
[11,4141,12,4145,13,4152,null,null,null,null,0,111]
[22,4248,14,4263,13,4269,null,null,null,null,0,211]
[11,4386,12,4392,24,4405,null,null,null,null,0,112]
[11,4507,12,4512,13,4518,null,null,null,null,0,111]
[22,4617,14,4636,13,4641,null,null,null,null,0,211]
[22,4739,23,4748,24,4757,null,null,null,null,0,222]
[22,4855,14,4873,13,4879,null,null,null,null,0,211]
[11,4974,12,4980,13,4984,null,null,null,null,0,111]
[22,5083,23,5100,24,5106,null,null,null,null,0,222]
[11,5203,21,5217,22,5220,null,null,null,null,0,122]
[22,5318,14,5339,13,5343,null,null,null,null,0,211]
[22,5456,23,5463,13,5484,null,null,null,null,0,221]
[22,5583,23,5592,24,5596,null,null,null,null,0,222]
[11,5694,12,5696,13,5699,null,null,null,null,0,111]
[22,5800,23,5814,24,5820,null,null,null,null,0,222]
[22,5917,23,5924,24,5933,null,null,null,null,0,222]
[11,6030,12,6033,13,6039,null,null,null,null,0,111]
[22,6138,23,6143,24,6151,null,null,null,null,0,222]
[22,6249,23,6260,13,6274,null,null,null,null,0,221]
[22,6371,23,6379,24,6385,null,null,null,null,0,222]
[22,6683,14,6694,13,6701,null,null,null,null,0,211]
[11,6863,12,6867,13,6872,null,null,null,null,0,111]
[22,7026,23,7031,24,7037,null,null,null,null,0,222]
[22,7145,23,7155,24,7161,null,null,null,null,0,222]
[22,7260,14,7268,13,7272,null,null,null,null,0,211]
[11,7448,12,7452,13,7456,null,null,null,null,0,111]
[22,7566,14,7577,13,7582,null,null,null,null,0,211]
[22,7684,23,7691,24,7695,null,null,null,null,0,222]
[11,7836,12,7840,13,7846,null,null,null,null,0,111]
[22,7944,23,7950,13,7964,null,null,null,null,0,221]
[22,8065,23,8072,24,8077,null,null,null,null,0,222]
[22,8178,23,8184,24,8190,null,null,null,null,0,222]
[11,8299,12,8306,13,8313,null,null,null,null,0,111]
[11,8405,12,8410,13,8413,null,null,null,null,0,111]
[22,8516,23,8524,13,8550,null,null,null,null,0,221]
[11,8754,12,8758,24,8772,null,null,null,null,0,112]
[22,8871,23,8887,24,8893,null,null,null,null,0,222]
[22,9006,23,9011,24,9016,null,null,null,null,0,222]
[22,9207,14,9264,13,9269,null,null,null,null,0,211]
[11,9373,12,9377,24,9391,null,null,null,null,0,112]
[22,9532,14,9545,13,9552,null,null,null,null,0,211]
[22,9654,23,9662,13,9692,null,null,null,null,0,221]
[22,9791,14,9805,13,9811,null,null,null,null,0,211]
[11,9904,12,9910,13,9914,null,null,null,null,0,111]
[22,10012,23,10020,24,10030,null,null,null,null,0,222]
[22,10130,23,10138,24,10154,null,null,null,null,0,222]
[22,10255,23,10262,24,10280,null,null,null,null,0,222]
[11,10378,12,10383,13,10387,null,null,null,null,0,111]
[22,10489,23,10496,13,10515,null,null,null,null,0,221]
[22,10624,23,10634,13,10670,null,null,null,null,0,221]
[11,10869,12,10909,13,10915,null,null,null,null,0,111]
[22,11018,14,11029,13,11034,null,null,null,null,0,211]
[22,11133,23,11167,24,11172,null,null,null,null,0,222]
[11,11280,21,11283,22,11296,null,null,null,null,0,122]
[22,11398,14,11422,13,11428,null,null,null,null,0,211]
[11,11553,12,11560,13,11566,null,null,null,null,0,111]
[22,11676,23,11681,24,11686,null,null,null,null,0,222]
[22,11786,23,11797,24,11816,null,null,null,null,0,222]
[11,11928,12,11932,24,11946,null,null,null,null,0,112]
[22,12046,23,12059,13,12074,null,null,null,null,0,221]
[11,12189,12,12192,13,12198,null,null,null,null,0,111]
[22,12297,23,12311,24,12317,null,null,null,null,0,222]
[22,12532,14,12541,24,12562,null,null,null,null,0,212]
[22,12662,23,12692,13,12710,null,null,null,null,0,221]
[11,12811,12,12816,13,12822,null,null,null,null,0,111]
[22,12930,23,12944,24,12948,null,null,null,null,0,222]
[22,13062,14,13076,13,13081,null,null,null,null,0,211]
[22,13183,14,13203,13,13209,null,null,null,null,0,211]
[22,13323,23,13331,24,13336,null,null,null,null,0,222]
[22,13602,14,13615,13,13622,null,null,null,null,0,211]
[22,13726,14,13772,13,13785,null,null,null,null,0,211]
[11,13903,12,13906,13,13923,null,null,null,null,0,111]
[22,14034,14,14058,13,14063,null,null,null,null,0,211]
[22,14180,14,14195,13,14200,null,null,null,null,0,211]
[11,14319,12,14323,13,14331,null,null,null,null,0,111]
[11,14454,12,14460,13,14463,null,null,null,null,0,111]
[22,14568,14,14592,13,14599,null,null,null,null,0,211]
[22,14703,14,14721,13,14729,null,null,null,null,0,211]
[22,14864,23,14869,24,14875,null,null,null,null,0,222]
[22,15540,23,15543,13,15550,null,null,null,null,0,221]
[22,15691,23,15702,13,15717,null,null,null,null,0,221]
[22,15842,23,15847,24,15853,null,null,null,null,0,222]
[22,16036,14,16083,13,16088,null,null,null,null,0,211]
[22,16187,23,16205,24,16210,null,null,null,null,0,222]
[22,16311,14,16323,13,16330,null,null,null,null,0,211]
[11,16422,12,16428,13,16433,null,null,null,null,0,111]
[22,16536,23,16542,13,16566,null,null,null,null,0,221]
[22,16737,14,16747,13,16759,null,null,null,null,0,211]
[11,16870,12,16873,13,16878,null,null,null,null,0,111]
[11,17032,12,17038,13,17045,null,null,null,null,0,111]
[22,17184,14,17214,24,17235,null,null,null,null,0,212]
[11,17615,12,17620,13,17628,null,null,null,null,0,111]
[11,17732,12,17740,24,17759,null,null,null,null,0,112]
[11,17902,12,17906,13,17914,null,null,null,null,0,111]
[22,18012,14,18029,13,18031,null,null,null,null,0,211]
[22,18271,14,18288,13,18294,null,null,null,null,0,211]
[22,18714,23,18720,13,18750,null,null,null,null,0,221]
[11,18987,12,18993,24,19003,null,null,null,null,0,112]
[22,19115,23,19128,13,19138,null,null,null,null,0,221]
[11,19237,12,19241,13,19246,null,null,null,null,0,111]
[22,19363,14,19381,13,19388,null,null,null,null,0,211]
[11,19489,12,19493,13,19498,null,null,null,null,0,111]
[22,19618,23,19625,24,19629,null,null,null,null,0,222]
[22,19734,23,19746,24,19754,null,null,null,null,0,222]
[22,19850,23,19861,13,19872,null,null,null,null,0,221]
[11,20124,12,20130,13,20137,null,null,null,null,0,111]
[11,20366,12,20371,13,20380,null,null,null,null,0,111]
[22,20479,23,20488,13,20501,null,null,null,null,0,221]
[11,20648,21,20688,11,20696,null,null,null,null,0,121]
[22,21095,23,21100,24,21104,null,null,null,null,0,222]
[11,21444,12,21449,13,21457,null,null,null,null,0,111]
[22,21718,23,21727,24,21734,null,null,null,null,0,222]
[22,21834,14,21843,13,21848,null,null,null,null,0,211]
[11,21949,12,21954,13,21960,null,null,null,null,0,111]
[22,22063,14,22073,13,22080,null,null,null,null,0,211]
[11,22180,12,22185,13,22192,null,null,null,null,0,111]
[11,22287,12,22289,13,22293,null,null,null,null,0,111]
[22,22395,23,22401,24,22407,null,null,null,null,0,222]
[11,22502,12,22507,13,22513,null,null,null,null,0,111]
[22,22639,14,22650,13,22656,null,null,null,null,0,211]
[22,22755,14,22766,13,22769,null,null,null,null,0,211]
[11,22866,12,22869,13,22875,null,null,null,null,0,111]
[11,22972,12,22978,13,22983,null,null,null,null,0,111]
[22,23083,23,23088,24,23093,null,null,null,null,0,222]
[22,23189,14,23218,13,23221,null,null,null,null,0,211]
[22,23324,23,23336,24,23341,null,null,null,null,0,222]
[22,23526,14,23535,13,23540,null,null,null,null,0,211]
[22,23637,23,23641,24,23645,null,null,null,null,0,222]
[22,23743,23,23750,24,23753,null,null,null,null,0,222]
[22,23870,14,23882,13,23888,null,null,null,null,0,211]
[11,23985,12,23990,13,23996,null,null,null,null,null,111]

{"sheet":"!M224A2I.sha","index":17,"n_rows":99,"n_cols":48,"rows_kept":99,"cut":false,"hidden":false,"merged":[[4,39,4,42],[5,39,5,40],[4,44,4,47],[5,44,5,45],[4,24,4,27],[5,24,5,25],[4,29,4,32],[5,29,5,30],[4,34,4,37],[5,34,5,35],[1,1,1,2],[5,13,5,14],[18,13,18,14],[19,13,19,14],[4,19,4,22],[5,19,5,20]]}
["Report for:!M224A2I.sha"]
["Date:","<date>"]
["Hen:","<hen>",null,null,null,"Correct Sequence",{"$f":"Start!J2","v":121},null,null,null,null,null,null,null,null,"Total Sequences in Data",{"$f":"4994-COUNTBLANK(L7:L5000)","v":93},null,null,null,null,"Total Sequences in Block Data",{"$f":"COUNTA(L7:L22)","v":16},null,null,null,"Total Sequences in Block Data",{"$f":"COUNTA(L23:L37)","v":15},null,null,null,"Total Sequences in Block Data",{"$f":"COUNTA(L38:L53)","v":16},null,null,null,"Total Sequences in Block Data",{"$f":"COUNTA(L54:L68)","v":15},null,null,null,"Total Sequences in Block Data",{"$f":"COUNTA(L69:L84)","v":16},null,null,null,"Total Sequences in Block Data",{"$f":"COUNTA(L85:L99)","v":15}]
[null,null,null,null,null,null,null,null,null,null,null,null,null,null,null,"Total Sequences in Summary",{"$f":"SUM(O7:O14)","v":93},null,null,null,null,"Total Sequences in Block Summary",{"$f":"SUM(U7:U14)","v":16},null,null,null,"Total Sequences in Block Summary",{"$f":"SUM(Z7:Z14)","v":15},null,null,null,"Total Sequences in Block Summary",{"$f":"SUM(AE7:AE14)","v":16},null,null,null,"Total Sequences in Block Summary",{"$f":"SUM(AJ7:AJ14)","v":15},null,null,null,"Total Sequences in Block Summary",{"$f":"SUM(AO7:AO14)","v":16},null,null,null,"Total Sequences in Block Summary",{"$f":"SUM(AT7:AT14)","v":15}]
[null,null,null,null,null,null,null,null,null,null,null,null,null,null,null,null,null,null,null,"Block 1",null,null,null,null,"Block 2",null,null,null,null,"Block 3",null,null,null,null,"Block 4",null,null,null,null,"Block 5",null,null,null,null,"Block 6"]
["Sequence\nComponent\n1","Time\n1","Sequence\nComponent\n2","Time\n2","Sequence\nComponent\n3","Time\n3","Sequence\nComponent\n4","Time\n4","Sequence\nComponent\n5","Time\n5","Correct?\n0=No 1=Yes","Sequence",null,"Frequency",null,"Relative Frequency","Variability",null,null,"Frequency",null,"Relative Frequency","Variability",null,"Frequency",null,"Relative Frequency","Variability",null,"Frequency",null,"Relative Frequency","Variability",null,"Frequency",null,"Relative Frequency","Variability",null,"Frequency",null,"Relative Frequency","Variability",null,"Frequency",null,"Relative Frequency","Variability"]
[22,6,14,16,24,29,null,null,null,null,0,212,null,111,{"$f":"COUNTIF($L$7:$L$500,N7)","v":14},{"$f":"O7/$Q$4","v":0.15053763440860216},{"$f":"IF(P7=0,0,(P7*((LOG(P7))/LOG(2))))","v":-0.41123929512587076},null,null,{"$f":"N7","v":111},{"$f":"COUNTIF(L7:L22,T7)","v":2},{"$f":"U7/(W4-U9)","v":0.125},{"$f":"IF(V7=0,0,(V7*((LOG(V7))/LOG(2))))","v":-0.375},null,{"$f":"N7","v":111},{"$f":"COUNTIF(L23:L37,Y7)","v":5},{"$f":"Z7/(AB4-Z9)","v":0.33333333333333331},{"$f":"IF(AA7=0,0,(AA7*((LOG(AA7))/LOG(2))))","v":-0.52832083357371862},null,{"$f":"N7","v":111},{"$f":"COUNTIF(L38:L53,AD7)","v":3},{"$f":"AE7/(AG4-AE9)","v":0.1875},{"$f":"IF(AF7=0,0,(AF7*((LOG(AF7))/LOG(2))))","v":-0.45281953111478312},null,{"$f":"N7","v":111},{"$f":"COUNTIF(L54:L68,AI7)","v":1},{"$f":"AJ7/(AL4-AJ9)","v":6.6666666666666666E-2},{"$f":"IF(AK7=0,0,(AK7*((LOG(AK7))/LOG(2))))","v":-0.26045937304056793},null,{"$f":"N7","v":111},{"$f":"COUNTIF(L69:L84,AN7)","v":1},{"$f":"AO7/(AQ4-AO9)","v":6.25E-2},{"$f":"IF(AP7=0,0,(AP7*((LOG(AP7))/LOG(2))))","v":-0.25},null,{"$f":"N7","v":111},{"$f":"COUNTIF(L85:L99,AS7)","v":2},{"$f":"AT7/(AV4-AT9)","v":0.13333333333333333},{"$f":"IF(AU7=0,0,(AU7*((LOG(AU7))/LOG(2))))","v":-0.3875854127478025}]
[22,129,14,146,24,165,null,null,null,null,0,212,null,112,{"$f":"COUNTIF($L$7:$L$500,N8)","v":4},{"$f":"O8/$Q$4","v":4.3010752688172046E-2},{"$f":"IF(P8=0,0,(P8*((LOG(P8))/LOG(2))))","v":-0.19523263703690458},null,null,{"$f":"N8","v":112},{"$f":"COUNTIF(L7:L22,T8)","v":0},{"$f":"U8/(W4-U9)","v":0},{"$f":"IF(V8=0,0,(V8*((LOG(V8))/LOG(2))))","v":0},null,{"$f":"N8","v":112},{"$f":"COUNTIF(L23:L37,Y8)","v":0},{"$f":"Z8/(AB4-Z9)","v":0},{"$f":"IF(AA8=0,0,(AA8*((LOG(AA8))/LOG(2))))","v":0},null,{"$f":"N8","v":112},{"$f":"COUNTIF(L38:L53,AD8)","v":1},{"$f":"AE8/(AG4-AE9)","v":6.25E-2},{"$f":"IF(AF8=0,0,(AF8*((LOG(AF8))/LOG(2))))","v":-0.25},null,{"$f":"N8","v":112},{"$f":"COUNTIF(L54:L68,AI8)","v":1},{"$f":"AJ8/(AL4-AJ9)","v":6.6666666666666666E-2},{"$f":"IF(AK8=0,0,(AK8*((LOG(AK8))/LOG(2))))","v":-0.26045937304056793},null,{"$f":"N8","v":112},{"$f":"COUNTIF(L69:L84,AN8)","v":0},{"$f":"AO8/(AQ4-AO9)","v":0},{"$f":"IF(AP8=0,0,(AP8*((LOG(AP8))/LOG(2))))","v":0},null,{"$f":"N8","v":112},{"$f":"COUNTIF(L85:L99,AS8)","v":2},{"$f":"AT8/(AV4-AT9)","v":0.13333333333333333},{"$f":"IF(AU8=0,0,(AU8*((LOG(AU8))/LOG(2))))","v":-0.3875854127478025}]
[22,263,14,273,13,277,null,null,null,null,0,211,null,121,{"$f":"COUNTIF($L$7:$L$500,N9)","v":0},{"$f":"O9/$Q$4","v":0},{"$f":"IF(P9=0,0,(P9*((LOG(P9))/LOG(2))))","v":0},null,null,{"$f":"N9","v":121},{"$f":"COUNTIF(L7:L22,T9)","v":0},null,null,null,{"$f":"N9","v":121},{"$f":"COUNTIF(L23:L37,Y9)","v":0},null,null,null,{"$f":"N9","v":121},{"$f":"COUNTIF(L38:L53,AD9)","v":0},null,null,null,{"$f":"N9","v":121},{"$f":"COUNTIF(L54:L68,AI9)","v":0},null,null,null,{"$f":"N9","v":121},{"$f":"COUNTIF(L69:L84,AN9)","v":0},null,null,null,{"$f":"N9","v":121},{"$f":"COUNTIF(L85:L99,AS9)","v":0}]
[22,374,23,377,24,379,null,null,null,null,0,222,null,122,{"$f":"COUNTIF($L$7:$L$500,N10)","v":3},{"$f":"O10/$Q$4","v":3.2258064516129031E-2},{"$f":"IF(P10=0,0,(P10*((LOG(P10))/LOG(2))))","v":-0.15981278420602821},null,null,{"$f":"N10","v":122},{"$f":"COUNTIF(L7:L22,T10)","v":0},{"$f":"U10/(W4-U9)","v":0},{"$f":"IF(V10=0,0,(V10*((LOG(V10))/LOG(2))))","v":0},null,{"$f":"N10","v":122},{"$f":"COUNTIF(L23:L37,Y10)","v":0},{"$f":"Z10/(AB4-Z9)","v":0},{"$f":"IF(AA10=0,0,(AA10*((LOG(AA10))/LOG(2))))","v":0},null,{"$f":"N10","v":122},{"$f":"COUNTIF(L38:L53,AD10)","v":1},{"$f":"AE10/(AG4-AE9)","v":6.25E-2},{"$f":"IF(AF10=0,0,(AF10*((LOG(AF10))/LOG(2))))","v":-0.25},null,{"$f":"N10","v":122},{"$f":"COUNTIF(L54:L68,AI10)","v":0},{"$f":"AJ10/(AL4-AJ9)","v":0},{"$f":"IF(AK10=0,0,(AK10*((LOG(AK10))/LOG(2))))","v":0},null,{"$f":"N10","v":122},{"$f":"COUNTIF(L69:L84,AN10)","v":1},{"$f":"AO10/(AQ4-AO9)","v":6.25E-2},{"$f":"IF(AP10=0,0,(AP10*((LOG(AP10))/LOG(2))))","v":-0.25},null,{"$f":"N10","v":122},{"$f":"COUNTIF(L85:L99,AS10)","v":1},{"$f":"AT10/(AV4-AT9)","v":6.6666666666666666E-2},{"$f":"IF(AU10=0,0,(AU10*((LOG(AU10))/LOG(2))))","v":-0.26045937304056793}]
[22,652,23,657,24,662,null,null,null,null,0,222,null,211,{"$f":"COUNTIF($L$7:$L$500,N11)","v":15},{"$f":"O11/$Q$4","v":0.16129032258064516},{"$f":"IF(P11=0,0,(P11*((LOG(P11))/LOG(2))))","v":-0.42455938959669559},null,null,{"$f":"N11","v":211},{"$f":"COUNTIF(L7:L22,T11)","v":4},{"$f":"U11/(W4-U9)","v":0.25},{"$f":"IF(V11=0,0,(V11*((LOG(V11))/LOG(2))))","v":-0.5},null,{"$f":"N11","v":211},{"$f":"COUNTIF(L23:L37,Y11)","v":3},{"$f":"Z11/(AB4-Z9)","v":0.2},{"$f":"IF(AA11=0,0,(AA11*((LOG(AA11))/LOG(2))))","v":-0.46438561897747244},null,{"$f":"N11","v":211},{"$f":"COUNTIF(L38:L53,AD11)","v":3},{"$f":"AE11/(AG4-AE9)","v":0.1875},{"$f":"IF(AF11=0,0,(AF11*((LOG(AF11))/LOG(2))))","v":-0.45281953111478312},null,{"$f":"N11","v":211},{"$f":"COUNTIF(L54:L68,AI11)","v":1},{"$f":"AJ11/(AL4-AJ9)","v":6.6666666666666666E-2},{"$f":"IF(AK11=0,0,(AK11*((LOG(AK11))/LOG(2))))","v":-0.26045937304056793},null,{"$f":"N11","v":211},{"$f":"COUNTIF(L69:L84,AN11)","v":3},{"$f":"AO11/(AQ4-AO9)","v":0.1875},{"$f":"IF(AP11=0,0,(AP11*((LOG(AP11))/LOG(2))))","v":-0.45281953111478312},null,{"$f":"N11","v":211},{"$f":"COUNTIF(L85:L99,AS11)","v":1},{"$f":"AT11/(AV4-AT9)","v":6.6666666666666666E-2},{"$f":"IF(AU11=0,0,(AU11*((LOG(AU11))/LOG(2))))","v":-0.26045937304056793}]
[11,760,12,766,13,771,null,null,null,null,0,111,null,212,{"$f":"COUNTIF($L$7:$L$500,N12)","v":5},{"$f":"O12/$Q$4","v":5.3763440860215055E-2},{"$f":"IF(P12=0,0,(P12*((LOG(P12))/LOG(2))))","v":-0.22673283420541232},null,null,{"$f":"N12","v":212},{"$f":"COUNTIF(L7:L22,T12)","v":2},{"$f":"U12/(W4-U9)","v":0.125},{"$f":"IF(V12=0,0,(V12*((LOG(V12))/LOG(2))))","v":-0.375},null,{"$f":"N12","v":212},{"$f":"COUNTIF(L23:L37,Y12)","v":0},{"$f":"Z12/(AB4-Z9)","v":0},{"$f":"IF(AA12=0,0,(AA12*((LOG(AA12))/LOG(2))))","v":0},null,{"$f":"N12","v":212},{"$f":"COUNTIF(L38:L53,AD12)","v":2},{"$f":"AE12/(AG4-AE9)","v":0.125},{"$f":"IF(AF12=0,0,(AF12*((LOG(AF12))/LOG(2))))","v":-0.375},null,{"$f":"N12","v":212},{"$f":"COUNTIF(L54:L68,AI12)","v":0},{"$f":"AJ12/(AL4-AJ9)","v":0},{"$f":"IF(AK12=0,0,(AK12*((LOG(AK12))/LOG(2))))","v":0},null,{"$f":"N12","v":212},{"$f":"COUNTIF(L69:L84,AN12)","v":1},{"$f":"AO12/(AQ4-AO9)","v":6.25E-2},{"$f":"IF(AP12=0,0,(AP12*((LOG(AP12))/LOG(2))))","v":-0.25},null,{"$f":"N12","v":212},{"$f":"COUNTIF(L85:L99,AS12)","v":0},{"$f":"AT12/(AV4-AT9)","v":0},{"$f":"IF(AU12=0,0,(AU12*((LOG(AU12))/LOG(2))))","v":0}]
[22,868,14,887,13,894,null,null,null,null,0,211,null,221,{"$f":"COUNTIF($L$7:$L$500,N13)","v":14},{"$f":"O13/$Q$4","v":0.15053763440860216},{"$f":"IF(P13=0,0,(P13*((LOG(P13))/LOG(2))))","v":-0.41123929512587076},null,null,{"$f":"N13","v":221},{"$f":"COUNTIF(L7:L22,T13)","v":2},{"$f":"U13/(W4-U9)","v":0.125},{"$f":"IF(V13=0,0,(V13*((LOG(V13))/LOG(2))))","v":-0.375},null,{"$f":"N13","v":221},{"$f":"COUNTIF(L23:L37,Y13)","v":0},{"$f":"Z13/(AB4-Z9)","v":0},{"$f":"IF(AA13=0,0,(AA13*((LOG(AA13))/LOG(2))))","v":0},null,{"$f":"N13","v":221},{"$f":"COUNTIF(L38:L53,AD13)","v":2},{"$f":"AE13/(AG4-AE9)","v":0.125},{"$f":"IF(AF13=0,0,(AF13*((LOG(AF13))/LOG(2))))","v":-0.375},null,{"$f":"N13","v":221},{"$f":"COUNTIF(L54:L68,AI13)","v":2},{"$f":"AJ13/(AL4-AJ9)","v":0.13333333333333333},{"$f":"IF(AK13=0,0,(AK13*((LOG(AK13))/LOG(2))))","v":-0.3875854127478025},null,{"$f":"N13","v":221},{"$f":"COUNTIF(L69:L84,AN13)","v":3},{"$f":"AO13/(AQ4-AO9)","v":0.1875},{"$f":"IF(AP13=0,0,(AP13*((LOG(AP13))/LOG(2))))","v":-0.45281953111478312},null,{"$f":"N13","v":221},{"$f":"COUNTIF(L85:L99,AS13)","v":5},{"$f":"AT13/(AV4-AT9)","v":0.33333333333333331},{"$f":"IF(AU13=0,0,(AU13*((LOG(AU13))/LOG(2))))","v":-0.52832083357371862}]
[22,993,23,998,24,1004,null,null,null,null,0,222,null,222,{"$f":"COUNTIF($L$7:$L$500,N14)","v":38},{"$f":"O14/$Q$4","v":0.40860215053763443},{"$f":"IF(P14=0,0,(P14*((LOG(P14))/LOG(2))))","v":-0.52759988506719291},null,null,{"$f":"N14","v":222},{"$f":"COUNTIF(L7:L22,T14)","v":6},{"$f":"U14/(W4-U9)","v":0.375},{"$f":"IF(V14=0,0,(V14*((LOG(V14))/LOG(2))))","v":-0.53063906222956647},null,{"$f":"N14","v":222},{"$f":"COUNTIF(L23:L37,Y14)","v":7},{"$f":"Z14/(AB4-Z9)","v":0.46666666666666667},{"$f":"IF(AA14=0,0,(AA14*((LOG(AA14))/LOG(2))))","v":-0.51311664765709342},null,{"$f":"N14","v":222},{"$f":"COUNTIF(L38:L53,AD14)","v":4},{"$f":"AE14/(AG4-AE9)","v":0.25},{"$f":"IF(AF14=0,0,(AF14*((LOG(AF14))/LOG(2))))","v":-0.5},null,{"$f":"N14","v":222},{"$f":"COUNTIF(L54:L68,AI14)","v":10},{"$f":"AJ14/(AL4-AJ9)","v":0.66666666666666663},{"$f":"IF(AK14=0,0,(AK14*((LOG(AK14))/LOG(2))))","v":-0.38997500048077083},null,{"$f":"N14","v":222},{"$f":"COUNTIF(L69:L84,AN14)","v":7},{"$f":"AO14/(AQ4-AO9)","v":0.4375},{"$f":"IF(AP14=0,0,(AP14*((LOG(AP14))/LOG(2))))","v":-0.52178222159979815},null,{"$f":"N14","v":222},{"$f":"COUNTIF(L85:L99,AS14)","v":4},{"$f":"AT14/(AV4-AT9)","v":0.26666666666666666},{"$f":"IF(AU14=0,0,(AU14*((LOG(AU14))/LOG(2))))","v":-0.50850415882893829}]
[22,1099,14,1111,13,1116,null,null,null,null,0,211,null,null,null,{"$f":"SUM(P7:P14)","v":1},{"$f":"-SUM(Q7:Q14)","v":2.3564161203639751},null,null,null,null,{"$f":"SUM(V7:V14)","v":1},{"$f":"-SUM(W7:W14)","v":2.1556390622295662},null,null,null,{"$f":"SUM(AA7:AA14)","v":1},{"$f":"-SUM(AB7:AB14)","v":1.5058231002082845},null,null,null,{"$f":"SUM(AF7:AF14)","v":1},{"$f":"-SUM(AG7:AG14)","v":2.6556390622295662},null,null,null,{"$f":"SUM(AK7:AK14)","v":1},{"$f":"-SUM(AL7:AL14)","v":1.5589385323502771},null,null,null,{"$f":"SUM(AP7:AP14)","v":1},{"$f":"-SUM(AQ7:AQ14)","v":2.1774212838293643},null,null,null,{"$f":"SUM(AU7:AU14)","v":1},{"$f":"-SUM(AV7:AV14)","v":2.332914563979398}]
[22,1213,23,1218,13,1231,null,null,null,null,0,221,null,null,null,"U=",{"$f":"Q15/(LOG(Q4)/LOG(2))","v":0.36035462487333153},null,null,null,null,"U1=",{"$f":"W15/(LOG(W4)/LOG(2))","v":0.53890976555739156},null,null,null,"U2=",{"$f":"AB15/(LOG(AB4)/LOG(2))","v":0.38542750644230533},null,null,null,"U3=",{"$f":"AG15/(LOG(AG4)/LOG(2))","v":0.66390976555739156},null,null,null,"U4=",{"$f":"AL15/(LOG(AL4)/LOG(2))","v":0.39902282754028956},null,null,null,"U5=",{"$f":"AQ15/(LOG(AQ4)/LOG(2))","v":0.54435532095734107},null,null,null,"U6=",{"$f":"AV15/(LOG(AV4)/LOG(2))","v":0.59712820384621856}]
[22,1401,23,1410,13,1421,null,null,null,null,0,221]
[22,1519,23,1530,24,1537,null,null,null,null,0,222]
[11,1638,12,1643,13,1649,null,null,null,null,0,111,null,"Total Target Seq"]
[22,1749,14,1761,13,1766,null,null,null,null,0,211,null,{"$f":"COUNTIF(L7:L99,G3)","v":0},null,16,15,16,15,16,15]
[22,1865,23,1869,24,1875,null,null,null,null,0,222,null,null,null,"% of reinforcement given in 6 equal intervals based on number of trials "]
[22,1972,23,1977,24,1985,null,null,null,null,0,222,null,null,null,"%_1","%_2","%_3","%_4","%_5","%_6"]
[22,2082,14,2097,13,2102,null,null,null,null,0,211,null,null,"target sequence",{"$f":"$G$3","v":121},{"$f":"$G$3","v":121},{"$f":"$G$3","v":121},{"$f":"$G$3","v":121},{"$f":"$G$3","v":121},{"$f":"$G$3","v":121}]
[11,2271,12,2278,13,2284,null,null,null,null,0,111,null,null,"total reinforcement",{"$f":"U9","v":0},{"$f":"Z9","v":0},{"$f":"AE9","v":0},{"$f":"AJ9","v":0},{"$f":"AO9","v":0},{"$f":"AT9","v":0}]
[22,2380,23,2391,24,2403,null,null,null,null,0,222,null,null,"% target"]
[11,2511,12,2516,13,2523,null,null,null,null,0,111,null,null,"CCRF"]
[22,2625,14,2635,13,2640,null,null,null,null,0,211,null,null,"% CCRf"]
[22,2736,23,2739,24,2744,null,null,null,null,0,222,null,null,"average response rate",{"$f":"F22/P20","v":124.0625},{"$f":"(F37-F22)/Q20","v":116.13333333333334},{"$f":"(F53-F37)/R20","v":244.875},{"$f":"(F68-F53)/S20","v":139},{"$f":"(F84-F68)/T20","v":474.0625},{"$f":"(F99-F84)/U20","v":442.06666666666666}]
[22,2842,23,2845,24,2850,null,null,null,null,0,222]
[11,2949,12,2952,13,2958,null,null,null,null,0,111]
[22,3056,23,3063,24,3071,null,null,null,null,0,222]
[22,3170,14,3183,13,3189,null,null,null,null,0,211]
[22,3285,23,3289,24,3294,null,null,null,null,0,222]
[22,3389,23,3391,24,3397,null,null,null,null,0,222]
[11,3496,12,3501,13,3507,null,null,null,null,0,111]
[11,3608,12,3612,13,3617,null,null,null,null,0,111]
[22,3714,23,3721,24,3727,null,null,null,null,0,222]
[22,3839,23,3846,24,3852,null,null,null,null,0,222]
[22,3952,23,3959,13,3969,null,null,null,null,0,221]
[22,4071,14,4083,13,4086,null,null,null,null,0,211]
[22,4229,23,4236,24,4240,null,null,null,null,0,222]
[22,4336,23,4341,24,4346,null,null,null,null,0,222]
[11,4646,21,4655,22,4658,null,null,null,null,0,122]
[22,4667,14,4677,13,4683,null,null,null,null,0,211]
[11,4787,12,4791,13,4798,null,null,null,null,0,111]
[11,4900,12,4904,13,4909,null,null,null,null,0,111]
[11,5011,12,5016,13,5022,null,null,null,null,0,111]
[22,6961,14,6973,24,6987,null,null,null,null,0,212]
[22,7084,23,7100,13,7114,null,null,null,null,0,221]
[22,7212,14,7231,13,7239,null,null,null,null,0,211]
[22,7382,14,7396,24,7409,null,null,null,null,0,212]
[11,7510,12,7522,24,7535,null,null,null,null,0,112]
[22,7633,23,7638,24,7645,null,null,null,null,0,222]
[22,7793,23,7803,24,7809,null,null,null,null,0,222]
[22,7907,23,7918,24,7923,null,null,null,null,0,222]
[22,8026,23,8034,13,8047,null,null,null,null,0,221]
[22,8151,23,8158,24,8161,null,null,null,null,0,222]
[22,8524,14,8534,13,8540,null,null,null,null,0,211]
[11,8651,12,8656,24,8668,null,null,null,null,0,112]
[22,8766,23,8786,24,8792,null,null,null,null,0,222]
[22,8897,23,8904,13,8917,null,null,null,null,0,221]
[22,9015,23,9021,24,9029,null,null,null,null,0,222]
[11,9140,12,9145,13,9151,null,null,null,null,0,111]
[22,9269,23,9277,24,9295,null,null,null,null,0,222]
[22,9394,23,9398,24,9401,null,null,null,null,0,222]
[22,9498,23,9502,24,9507,null,null,null,null,0,222]
[22,9605,23,9614,24,9617,null,null,null,null,0,222]
[22,9721,23,9725,24,9730,null,null,null,null,0,222]
[22,9889,23,9895,13,9911,null,null,null,null,0,221]
[22,10011,23,10016,24,10023,null,null,null,null,0,222]
[11,10302,21,10333,22,10339,null,null,null,null,0,122]
[22,10448,14,10466,13,10472,null,null,null,null,0,211]
[22,10590,23,10597,24,10605,null,null,null,null,0,222]
[22,10740,14,10751,13,10756,null,null,null,null,0,211]
[22,10860,23,10869,24,10872,null,null,null,null,0,222]
[22,10986,23,10993,24,10997,null,null,null,null,0,222]
[11,11114,12,11117,13,11127,null,null,null,null,0,111]
[22,11228,23,11234,24,11243,null,null,null,null,0,222]
[22,11356,23,11360,24,11368,null,null,null,null,0,222]
[22,11480,14,11498,13,11503,null,null,null,null,0,211]
[22,11614,23,11619,24,11626,null,null,null,null,0,222]
[22,16873,23,16991,13,17001,null,null,null,null,0,221]
[22,17161,14,17173,24,17190,null,null,null,null,0,212]
[22,17293,23,17300,13,17315,null,null,null,null,0,221]
[11,17483,21,17498,22,17502,null,null,null,null,0,122]
[11,17750,12,17757,24,17769,null,null,null,null,0,112]
[22,17989,23,17996,13,18008,null,null,null,null,0,221]
[22,18109,23,18114,13,18127,null,null,null,null,0,221]
[22,18294,23,18303,13,18327,null,null,null,null,0,221]
[22,18449,23,18456,13,18471,null,null,null,null,0,221]
[11,21828,12,21837,13,21845,null,null,null,null,0,111]
[22,22156,23,22161,24,22167,null,null,null,null,0,222]
[22,22297,23,22298,24,22305,null,null,null,null,0,222]
[22,22419,23,22425,24,22434,null,null,null,null,0,222]
[22,22675,14,22693,13,22699,null,null,null,null,0,211]
[11,23369,12,23373,24,23384,null,null,null,null,0,112]
[22,23487,23,23493,13,23504,null,null,null,null,0,221]
[11,23628,12,23634,13,23640,null,null,null,null,0,111]
[22,23936,23,23941,24,23946,null,null,null,null,null,222]

{"sheet":"!M225A2I.sha","index":18,"n_rows":171,"n_cols":48,"rows_kept":171,"cut":false,"hidden":false,"merged":[[4,39,4,42],[5,39,5,40],[4,44,4,47],[5,44,5,45],[4,24,4,27],[5,24,5,25],[4,29,4,32],[5,29,5,30],[4,34,4,37],[5,34,5,35],[1,1,1,2],[5,13,5,14],[18,13,18,14],[19,13,19,14],[4,19,4,22],[5,19,5,20]]}
["Report for:!M225A2I.sha"]
["Date:","<date>"]
["Hen:","<hen>",null,null,null,"Correct Sequence",{"$f":"Start!J2","v":121},null,null,null,null,null,null,null,null,"Total Sequences in Data",{"$f":"4994-COUNTBLANK(L7:L5000)","v":165},null,null,null,null,"Total Sequences in Block Data",{"$f":"COUNTA(L7:L34)","v":28},null,null,null,"Total Sequences in Block Data",{"$f":"COUNTA(L35:L61)","v":27},null,null,null,"Total Sequences in Block Data",{"$f":"COUNTA(L62:L89)","v":28},null,null,null,"Total Sequences in Block Data",{"$f":"COUNTA(L90:L116)","v":27},null,null,null,"Total Sequences in Block Data",{"$f":"COUNTA(L117:L144)","v":28},null,null,null,"Total Sequences in Block Data",{"$f":"COUNTA(L145:L171)","v":27}]
[null,null,null,null,null,null,null,null,null,null,null,null,null,null,null,"Total Sequences in Summary",{"$f":"SUM(O7:O14)","v":165},null,null,null,null,"Total Sequences in Block Summary",{"$f":"SUM(U7:U14)","v":28},null,null,null,"Total Sequences in Block Summary",{"$f":"SUM(Z7:Z14)","v":27},null,null,null,"Total Sequences in Block Summary",{"$f":"SUM(AE7:AE14)","v":28},null,null,null,"Total Sequences in Block Summary",{"$f":"SUM(AJ7:AJ14)","v":27},null,null,null,"Total Sequences in Block Summary",{"$f":"SUM(AO7:AO14)","v":28},null,null,null,"Total Sequences in Block Summary",{"$f":"SUM(AT7:AT14)","v":27}]
[null,null,null,null,null,null,null,null,null,null,null,null,null,null,null,null,null,null,null,"Block 1",null,null,null,null,"Block 2",null,null,null,null,"Block 3",null,null,null,null,"Block 4",null,null,null,null,"Block 5",null,null,null,null,"Block 6"]
["Sequence\nComponent\n1","Time\n1","Sequence\nComponent\n2","Time\n2","Sequence\nComponent\n3","Time\n3","Sequence\nComponent\n4","Time\n4","Sequence\nComponent\n5","Time\n5","Correct?\n0=No 1=Yes","Sequence",null,"Frequency",null,"Relative Frequency","Variability",null,null,"Frequency",null,"Relative Frequency","Variability",null,"Frequency",null,"Relative Frequency","Variability",null,"Frequency",null,"Relative Frequency","Variability",null,"Frequency",null,"Relative Frequency","Variability",null,"Frequency",null,"Relative Frequency","Variability",null,"Frequency",null,"Relative Frequency","Variability"]
[11,128,21,145,22,150,null,null,null,null,0,122,null,111,{"$f":"COUNTIF($L$7:$L$500,N7)","v":40},{"$f":"O7/$Q$4","v":0.24242424242424243},{"$f":"IF(P7=0,0,(P7*((LOG(P7))/LOG(2))))","v":-0.49561069560204934},null,null,{"$f":"N7","v":111},{"$f":"COUNTIF(L7:L34,T7)","v":9},{"$f":"U7/(W4-U9)","v":0.32142857142857145},{"$f":"IF(V7=0,0,(V7*((LOG(V7))/LOG(2))))","v":-0.5263167601977724},null,{"$f":"N7","v":111},{"$f":"COUNTIF(L35:L61,Y7)","v":5},{"$f":"Z7/(AB4-Z9)","v":0.18518518518518517},{"$f":"IF(AA7=0,0,(AA7*((LOG(AA7))/LOG(2))))","v":-0.45054803838446406},null,{"$f":"N7","v":111},{"$f":"COUNTIF(L62:L89,AD7)","v":4},{"$f":"AE7/(AG4-AE9)","v":0.14285714285714285},{"$f":"IF(AF7=0,0,(AF7*((LOG(AF7))/LOG(2))))","v":-0.40105070315108626},null,{"$f":"N7","v":111},{"$f":"COUNTIF(L90:L116,AI7)","v":6},{"$f":"AJ7/(AL4-AJ9)","v":0.23076923076923078},{"$f":"IF(AK7=0,0,(AK7*((LOG(AK7))/LOG(2))))","v":-0.48818705017383146},null,{"$f":"N7","v":111},{"$f":"COUNTIF(L117:L144,AN7)","v":7},{"$f":"AO7/(AQ4-AO9)","v":0.25},{"$f":"IF(AP7=0,0,(AP7*((LOG(AP7))/LOG(2))))","v":-0.5},null,{"$f":"N7","v":111},{"$f":"COUNTIF(L145:L171,AS7)","v":9},{"$f":"AT7/(AV4-AT9)","v":0.34615384615384615},{"$f":"IF(AU7=0,0,(AU7*((LOG(AU7))/LOG(2))))","v":-0.52979355578034681}]
[22,247,14,257,13,262,null,null,null,null,0,211,null,112,{"$f":"COUNTIF($L$7:$L$500,N8)","v":4},{"$f":"O8/$Q$4","v":2.4242424242424242E-2},{"$f":"IF(P8=0,0,(P8*((LOG(P8))/LOG(2))))","v":-0.13009265973929252},null,null,{"$f":"N8","v":112},{"$f":"COUNTIF(L7:L34,T8)","v":0},{"$f":"U8/(W4-U9)","v":0},{"$f":"IF(V8=0,0,(V8*((LOG(V8))/LOG(2))))","v":0},null,{"$f":"N8","v":112},{"$f":"COUNTIF(L35:L61,Y8)","v":1},{"$f":"Z8/(AB4-Z9)","v":3.7037037037037035E-2},{"$f":"IF(AA8=0,0,(AA8*((LOG(AA8))/LOG(2))))","v":-0.1761069445245729},null,{"$f":"N8","v":112},{"$f":"COUNTIF(L62:L89,AD8)","v":2},{"$f":"AE8/(AG4-AE9)","v":7.1428571428571425E-2},{"$f":"IF(AF8=0,0,(AF8*((LOG(AF8))/LOG(2))))","v":-0.27195392300411453},null,{"$f":"N8","v":112},{"$f":"COUNTIF(L90:L116,AI8)","v":0},{"$f":"AJ8/(AL4-AJ9)","v":0},{"$f":"IF(AK8=0,0,(AK8*((LOG(AK8))/LOG(2))))","v":0},null,{"$f":"N8","v":112},{"$f":"COUNTIF(L117:L144,AN8)","v":1},{"$f":"AO8/(AQ4-AO9)","v":3.5714285714285712E-2},{"$f":"IF(AP8=0,0,(AP8*((LOG(AP8))/LOG(2))))","v":-0.17169124721634299},null,{"$f":"N8","v":112},{"$f":"COUNTIF(L145:L171,AS8)","v":0},{"$f":"AT8/(AV4-AT9)","v":0},{"$f":"IF(AU8=0,0,(AU8*((LOG(AU8))/LOG(2))))","v":0}]
[11,377,12,383,13,390,null,null,null,null,0,111,null,121,{"$f":"COUNTIF($L$7:$L$500,N9)","v":2},{"$f":"O9/$Q$4","v":1.2121212121212121E-2},{"$f":"IF(P9=0,0,(P9*((LOG(P9))/LOG(2))))","v":-7.716754199085836E-2},null,null,{"$f":"N9","v":121},{"$f":"COUNTIF(L7:L34,T9)","v":0},null,null,null,{"$f":"N9","v":121},{"$f":"COUNTIF(L35:L61,Y9)","v":0},null,null,null,{"$f":"N9","v":121},{"$f":"COUNTIF(L62:L89,AD9)","v":0},null,null,null,{"$f":"N9","v":121},{"$f":"COUNTIF(L90:L116,AI9)","v":1},null,null,null,{"$f":"N9","v":121},{"$f":"COUNTIF(L117:L144,AN9)","v":0},null,null,null,{"$f":"N9","v":121},{"$f":"COUNTIF(L145:L171,AS9)","v":1}]
[22,546,14,560,13,566,null,null,null,null,0,211,null,122,{"$f":"COUNTIF($L$7:$L$500,N10)","v":2},{"$f":"O10/$Q$4","v":1.2121212121212121E-2},{"$f":"IF(P10=0,0,(P10*((LOG(P10))/LOG(2))))","v":-7.716754199085836E-2},null,null,{"$f":"N10","v":122},{"$f":"COUNTIF(L7:L34,T10)","v":1},{"$f":"U10/(W4-U9)","v":3.5714285714285712E-2},{"$f":"IF(V10=0,0,(V10*((LOG(V10))/LOG(2))))","v":-0.17169124721634299},null,{"$f":"N10","v":122},{"$f":"COUNTIF(L35:L61,Y10)","v":1},{"$f":"Z10/(AB4-Z9)","v":3.7037037037037035E-2},{"$f":"IF(AA10=0,0,(AA10*((LOG(AA10))/LOG(2))))","v":-0.1761069445245729},null,{"$f":"N10","v":122},{"$f":"COUNTIF(L62:L89,AD10)","v":0},{"$f":"AE10/(AG4-AE9)","v":0},{"$f":"IF(AF10=0,0,(AF10*((LOG(AF10))/LOG(2))))","v":0},null,{"$f":"N10","v":122},{"$f":"COUNTIF(L90:L116,AI10)","v":0},{"$f":"AJ10/(AL4-AJ9)","v":0},{"$f":"IF(AK10=0,0,(AK10*((LOG(AK10))/LOG(2))))","v":0},null,{"$f":"N10","v":122},{"$f":"COUNTIF(L117:L144,AN10)","v":0},{"$f":"AO10/(AQ4-AO9)","v":0},{"$f":"IF(AP10=0,0,(AP10*((LOG(AP10))/LOG(2))))","v":0},null,{"$f":"N10","v":122},{"$f":"COUNTIF(L145:L171,AS10)","v":0},{"$f":"AT10/(AV4-AT9)","v":0},{"$f":"IF(AU10=0,0,(AU10*((LOG(AU10))/LOG(2))))","v":0}]
[22,670,14,679,13,685,null,null,null,null,0,211,null,211,{"$f":"COUNTIF($L$7:$L$500,N11)","v":57},{"$f":"O11/$Q$4","v":0.34545454545454546},{"$f":"IF(P11=0,0,(P11*((LOG(P11))/LOG(2))))","v":-0.52973112366437103},null,null,{"$f":"N11","v":211},{"$f":"COUNTIF(L7:L34,T11)","v":9},{"$f":"U11/(W4-U9)","v":0.32142857142857145},{"$f":"IF(V11=0,0,(V11*((LOG(V11))/LOG(2))))","v":-0.5263167601977724},null,{"$f":"N11","v":211},{"$f":"COUNTIF(L35:L61,Y11)","v":10},{"$f":"Z11/(AB4-Z9)","v":0.37037037037037035},{"$f":"IF(AA11=0,0,(AA11*((LOG(AA11))/LOG(2))))","v":-0.53072570639855787},null,{"$f":"N11","v":211},{"$f":"COUNTIF(L62:L89,AD11)","v":11},{"$f":"AE11/(AG4-AE9)","v":0.39285714285714285},{"$f":"IF(AF11=0,0,(AF11*((LOG(AF11))/LOG(2))))","v":-0.52954129777226344},null,{"$f":"N11","v":211},{"$f":"COUNTIF(L90:L116,AI11)","v":11},{"$f":"AJ11/(AL4-AJ9)","v":0.42307692307692307},{"$f":"IF(AK11=0,0,(AK11*((LOG(AK11))/LOG(2))))","v":-0.52504188825160547},null,{"$f":"N11","v":211},{"$f":"COUNTIF(L117:L144,AN11)","v":6},{"$f":"AO11/(AQ4-AO9)","v":0.21428571428571427},{"$f":"IF(AP11=0,0,(AP11*((LOG(AP11))/LOG(2))))","v":-0.47622694742923877},null,{"$f":"N11","v":211},{"$f":"COUNTIF(L145:L171,AS11)","v":10},{"$f":"AT11/(AV4-AT9)","v":0.38461538461538464},{"$f":"IF(AU11=0,0,(AU11*((LOG(AU11))/LOG(2))))","v":-0.53019677817451139}]
[22,781,23,785,24,791,null,null,null,null,0,222,null,212,{"$f":"COUNTIF($L$7:$L$500,N12)","v":0},{"$f":"O12/$Q$4","v":0},{"$f":"IF(P12=0,0,(P12*((LOG(P12))/LOG(2))))","v":0},null,null,{"$f":"N12","v":212},{"$f":"COUNTIF(L7:L34,T12)","v":0},{"$f":"U12/(W4-U9)","v":0},{"$f":"IF(V12=0,0,(V12*((LOG(V12))/LOG(2))))","v":0},null,{"$f":"N12","v":212},{"$f":"COUNTIF(L35:L61,Y12)","v":0},{"$f":"Z12/(AB4-Z9)","v":0},{"$f":"IF(AA12=0,0,(AA12*((LOG(AA12))/LOG(2))))","v":0},null,{"$f":"N12","v":212},{"$f":"COUNTIF(L62:L89,AD12)","v":0},{"$f":"AE12/(AG4-AE9)","v":0},{"$f":"IF(AF12=0,0,(AF12*((LOG(AF12))/LOG(2))))","v":0},null,{"$f":"N12","v":212},{"$f":"COUNTIF(L90:L116,AI12)","v":0},{"$f":"AJ12/(AL4-AJ9)","v":0},{"$f":"IF(AK12=0,0,(AK12*((LOG(AK12))/LOG(2))))","v":0},null,{"$f":"N12","v":212},{"$f":"COUNTIF(L117:L144,AN12)","v":0},{"$f":"AO12/(AQ4-AO9)","v":0},{"$f":"IF(AP12=0,0,(AP12*((LOG(AP12))/LOG(2))))","v":0},null,{"$f":"N12","v":212},{"$f":"COUNTIF(L145:L171,AS12)","v":0},{"$f":"AT12/(AV4-AT9)","v":0},{"$f":"IF(AU12=0,0,(AU12*((LOG(AU12))/LOG(2))))","v":0}]
[22,888,14,899,13,903,null,null,null,null,0,211,null,221,{"$f":"COUNTIF($L$7:$L$500,N13)","v":12},{"$f":"O13/$Q$4","v":7.2727272727272724E-2},{"$f":"IF(P13=0,0,(P13*((LOG(P13))/LOG(2))))","v":-0.27500797916542979},null,null,{"$f":"N13","v":221},{"$f":"COUNTIF(L7:L34,T13)","v":1},{"$f":"U13/(W4-U9)","v":3.5714285714285712E-2},{"$f":"IF(V13=0,0,(V13*((LOG(V13))/LOG(2))))","v":-0.17169124721634299},null,{"$f":"N13","v":221},{"$f":"COUNTIF(L35:L61,Y13)","v":1},{"$f":"Z13/(AB4-Z9)","v":3.7037037037037035E-2},{"$f":"IF(AA13=0,0,(AA13*((LOG(AA13))/LOG(2))))","v":-0.1761069445245729},null,{"$f":"N13","v":221},{"$f":"COUNTIF(L62:L89,AD13)","v":4},{"$f":"AE13/(AG4-AE9)","v":0.14285714285714285},{"$f":"IF(AF13=0,0,(AF13*((LOG(AF13))/LOG(2))))","v":-0.40105070315108626},null,{"$f":"N13","v":221},{"$f":"COUNTIF(L90:L116,AI13)","v":1},{"$f":"AJ13/(AL4-AJ9)","v":3.8461538461538464E-2},{"$f":"IF(AK13=0,0,(AK13*((LOG(AK13))/LOG(2))))","v":-0.18078614300542661},null,{"$f":"N13","v":221},{"$f":"COUNTIF(L117:L144,AN13)","v":3},{"$f":"AO13/(AQ4-AO9)","v":0.10714285714285714},{"$f":"IF(AP13=0,0,(AP13*((LOG(AP13))/LOG(2))))","v":-0.34525633085747659},null,{"$f":"N13","v":221},{"$f":"COUNTIF(L145:L171,AS13)","v":2},{"$f":"AT13/(AV4-AT9)","v":7.6923076923076927E-2},{"$f":"IF(AU13=0,0,(AU13*((LOG(AU13))/LOG(2))))","v":-0.28464920908777636}]
[22,1004,14,1015,13,1020,null,null,null,null,0,211,null,222,{"$f":"COUNTIF($L$7:$L$500,N14)","v":48},{"$f":"O14/$Q$4","v":0.29090909090909089},{"$f":"IF(P14=0,0,(P14*((LOG(P14))/LOG(2))))","v":-0.51821373484353739},null,null,{"$f":"N14","v":222},{"$f":"COUNTIF(L7:L34,T14)","v":8},{"$f":"U14/(W4-U9)","v":0.2857142857142857},{"$f":"IF(V14=0,0,(V14*((LOG(V14))/LOG(2))))","v":-0.51638712058788683},null,{"$f":"N14","v":222},{"$f":"COUNTIF(L35:L61,Y14)","v":9},{"$f":"Z14/(AB4-Z9)","v":0.33333333333333331},{"$f":"IF(AA14=0,0,(AA14*((LOG(AA14))/LOG(2))))","v":-0.52832083357371862},null,{"$f":"N14","v":222},{"$f":"COUNTIF(L62:L89,AD14)","v":7},{"$f":"AE14/(AG4-AE9)","v":0.25},{"$f":"IF(AF14=0,0,(AF14*((LOG(AF14))/LOG(2))))","v":-0.5},null,{"$f":"N14","v":222},{"$f":"COUNTIF(L90:L116,AI14)","v":8},{"$f":"AJ14/(AL4-AJ9)","v":0.30769230769230771},{"$f":"IF(AK14=0,0,(AK14*((LOG(AK14))/LOG(2))))","v":-0.52321222096648989},null,{"$f":"N14","v":222},{"$f":"COUNTIF(L117:L144,AN14)","v":11},{"$f":"AO14/(AQ4-AO9)","v":0.39285714285714285},{"$f":"IF(AP14=0,0,(AP14*((LOG(AP14))/LOG(2))))","v":-0.52954129777226344},null,{"$f":"N14","v":222},{"$f":"COUNTIF(L145:L171,AS14)","v":5},{"$f":"AT14/(AV4-AT9)","v":0.19230769230769232},{"$f":"IF(AU14=0,0,(AU14*((LOG(AU14))/LOG(2))))","v":-0.45740608139494804}]
[22,1119,23,1124,24,1130,null,null,null,null,0,222,null,null,null,{"$f":"SUM(P7:P14)","v":1},{"$f":"-SUM(Q7:Q14)","v":2.1029912769963968},null,null,null,null,{"$f":"SUM(V7:V14)","v":1},{"$f":"-SUM(W7:W14)","v":1.9124031354161177},null,null,null,{"$f":"SUM(AA7:AA14)","v":0.99999999999999978},{"$f":"-SUM(AB7:AB14)","v":2.0379154119304594},null,null,null,{"$f":"SUM(AF7:AF14)","v":1},{"$f":"-SUM(AG7:AG14)","v":2.1035966270785504},null,null,null,{"$f":"SUM(AK7:AK14)","v":1},{"$f":"-SUM(AL7:AL14)","v":1.7172273023973537},null,null,null,{"$f":"SUM(AP7:AP14)","v":1},{"$f":"-SUM(AQ7:AQ14)","v":2.0227158232753215},null,null,null,{"$f":"SUM(AU7:AU14)","v":1},{"$f":"-SUM(AV7:AV14)","v":1.8020456244375826}]
[11,1226,12,1229,13,1234,null,null,null,null,0,111,null,null,null,"U=",{"$f":"Q15/(LOG(Q4)/LOG(2))","v":0.2854872778887404},null,null,null,null,"U1=",{"$f":"W15/(LOG(W4)/LOG(2))","v":0.39780776880887897},null,null,null,"U2=",{"$f":"AB15/(LOG(AB4)/LOG(2))","v":0.42859382288292003},null,null,null,"U3=",{"$f":"AG15/(LOG(AG4)/LOG(2))","v":0.437578806055407},null,null,null,"U4=",{"$f":"AL15/(LOG(AL4)/LOG(2))","v":0.36114993290924702},null,null,null,"U5=",{"$f":"AQ15/(LOG(AQ4)/LOG(2))","v":0.42075441819252563},null,null,null,"U6=",{"$f":"AV15/(LOG(AV4)/LOG(2))","v":0.37898806725030909}]
[22,1331,23,1338,24,1344,null,null,null,null,0,222]
[22,1441,23,1446,24,1451,null,null,null,null,0,222]
[22,1561,14,1572,13,1577,null,null,null,null,0,211,null,"Total Target Seq"]
[11,1677,12,1681,13,1687,null,null,null,null,0,111,null,{"$f":"COUNTIF(L7:L171,G3)","v":2},null,28,27,28,27,28,27]
[22,1785,14,1797,13,1800,null,null,null,null,0,211,null,null,null,"% of reinforcement given in 6 equal intervals based on number of trials "]
[22,1900,23,1906,13,1916,null,null,null,null,0,221,null,null,null,"%_1","%_2","%_3","%_4","%_5","%_6"]
[22,2138,23,2144,24,2156,null,null,null,null,0,222,null,null,"target sequence",{"$f":"$G$3","v":121},{"$f":"$G$3","v":121},{"$f":"$G$3","v":121},{"$f":"$G$3","v":121},{"$f":"$G$3","v":121},{"$f":"$G$3","v":121}]
[11,2253,12,2258,13,2262,null,null,null,null,0,111,null,null,"total reinforcement",{"$f":"U9","v":0},{"$f":"Z9","v":0},{"$f":"AE9","v":0},{"$f":"AJ9","v":1},{"$f":"AO9","v":0},{"$f":"AT9","v":1}]
[22,2361,14,2372,13,2380,null,null,null,null,0,211,null,null,"% target"]
[22,2477,14,2490,13,2495,null,null,null,null,0,211,null,null,"CCRF"]
[11,2591,12,2596,13,2601,null,null,null,null,0,111,null,null,"% CCRf"]
[22,2699,23,2704,24,2710,null,null,null,null,0,222,null,null,"average response rate",{"$f":"F34/P20","v":120.39285714285714},{"$f":"(F61-F34)/Q20","v":151.11111111111111},{"$f":"(F89-F61)/R20","v":154.03571428571428},{"$f":"(F116-F89)/S20","v":153.25925925925927},{"$f":"(F144-F116)/T20","v":136.46428571428572},{"$f":"(F171-F144)/U20","v":156.11111111111111}]
[11,2815,12,2820,13,2826,null,null,null,null,0,111]
[22,2925,23,2930,24,2936,null,null,null,null,0,222]
[11,3035,12,3039,13,3044,null,null,null,null,0,111]
[11,3144,12,3150,13,3158,null,null,null,null,0,111]
[22,3254,23,3258,24,3263,null,null,null,null,0,222]
[11,3362,12,3366,13,3371,null,null,null,null,0,111]
[11,3480,12,3485,13,3490,null,null,null,null,0,111]
[22,3587,23,3594,24,3598,null,null,null,null,0,222]
[22,3832,14,3841,13,3846,null,null,null,null,0,211]
[11,3948,12,3953,13,3959,null,null,null,null,0,111]
[22,4058,23,4073,13,4083,null,null,null,null,0,221]
[22,4185,14,4192,13,4198,null,null,null,null,0,211]
[22,4307,14,4314,13,4321,null,null,null,null,0,211]
[22,4429,23,4437,24,4449,null,null,null,null,0,222]
[22,4547,14,4559,13,4564,null,null,null,null,0,211]
[22,4668,23,4672,24,4677,null,null,null,null,0,222]
[22,4775,14,4790,13,4796,null,null,null,null,0,211]
[11,4894,21,4904,22,4908,null,null,null,null,0,122]
[22,5014,23,5018,24,5021,null,null,null,null,0,222]
[22,5119,23,5125,24,5130,null,null,null,null,0,222]
[22,5234,14,5242,13,5246,null,null,null,null,0,211]
[11,5808,12,5813,13,5821,null,null,null,null,0,111]
[22,5930,14,5948,13,5955,null,null,null,null,0,211]
[22,6051,23,6056,24,6064,null,null,null,null,0,222]
[22,6350,23,6355,24,6359,null,null,null,null,0,222]
[22,6458,23,6470,24,6476,null,null,null,null,0,222]
[22,6574,14,6590,13,6597,null,null,null,null,0,211]
[22,6705,23,6713,24,6716,null,null,null,null,0,222]
[22,6824,14,6833,13,6838,null,null,null,null,0,211]
[11,6948,12,6952,13,6975,null,null,null,null,0,111]
[11,7153,12,7157,13,7164,null,null,null,null,0,111]
[11,7264,12,7269,24,7278,null,null,null,null,0,112]
[22,7436,14,7447,13,7451,null,null,null,null,0,211]
[11,7559,12,7564,13,7571,null,null,null,null,0,111]
[22,7668,23,7674,13,7688,null,null,null,null,0,221]
[22,7788,14,7798,13,7802,null,null,null,null,0,211]
[22,8040,23,8045,24,8053,null,null,null,null,0,222]
[22,8162,14,8175,13,8179,null,null,null,null,0,211]
[22,8278,23,8288,24,8298,null,null,null,null,0,222]
[22,8423,14,8436,13,8440,null,null,null,null,0,211]
[22,8547,14,8561,13,8569,null,null,null,null,0,211]
[22,8676,14,8684,13,8689,null,null,null,null,0,211]
[22,8781,23,8787,24,8801,null,null,null,null,0,222]
[22,8920,23,8926,13,8953,null,null,null,null,0,221]
[11,9343,12,9388,13,9393,null,null,null,null,0,111]
[22,9495,14,9503,13,9509,null,null,null,null,0,211]
[22,9611,14,9622,13,9626,null,null,null,null,0,211]
[22,9728,23,9742,24,9755,null,null,null,null,0,222]
[22,10000,14,10008,13,10014,null,null,null,null,0,211]
[22,10117,23,10123,13,10136,null,null,null,null,0,221]
[22,10243,23,10255,24,10260,null,null,null,null,0,222]
[22,10386,14,10394,13,10398,null,null,null,null,0,211]
[22,10517,14,10525,13,10529,null,null,null,null,0,211]
[11,10723,12,10728,13,10735,null,null,null,null,0,111]
[22,10833,14,10850,13,10853,null,null,null,null,0,211]
[22,10969,23,10976,24,10981,null,null,null,null,0,222]
[11,11139,12,11146,24,11157,null,null,null,null,0,112]
[22,11332,23,11339,24,11344,null,null,null,null,0,222]
[22,11453,23,11460,13,11472,null,null,null,null,0,221]
[11,11606,12,11612,24,11627,null,null,null,null,0,112]
[11,11750,12,11757,13,11764,null,null,null,null,0,111]
[22,11868,14,11878,13,11882,null,null,null,null,0,211]
[22,11984,14,12001,13,12012,null,null,null,null,0,211]
[22,12399,14,12408,13,12414,null,null,null,null,0,211]
[22,12532,23,12538,13,12548,null,null,null,null,0,221]
[22,12647,23,12654,24,12671,null,null,null,null,0,222]
[22,12816,14,12829,13,12833,null,null,null,null,0,211]
[22,12937,14,12952,13,12959,null,null,null,null,0,211]
[22,13061,23,13092,24,13102,null,null,null,null,0,222]
[11,13251,21,13271,11,13281,null,null,null,null,0,121]
[22,13584,23,13588,24,13595,null,null,null,null,0,222]
[11,13709,12,13715,13,13723,null,null,null,null,0,111]
[22,13819,14,13829,13,13835,null,null,null,null,0,211]
[22,13932,23,13936,24,13940,null,null,null,null,0,222]
[22,14040,14,14051,13,14056,null,null,null,null,0,211]
[11,14155,12,14160,13,14170,null,null,null,null,0,111]
[22,14267,23,14273,24,14283,null,null,null,null,0,222]
[22,14388,14,14401,13,14406,null,null,null,null,0,211]
[22,14509,23,14517,24,14522,null,null,null,null,0,222]
[11,14818,12,14824,13,14830,null,null,null,null,0,111]
[22,14929,14,14940,13,14945,null,null,null,null,0,211]
[11,15044,12,15048,13,15054,null,null,null,null,0,111]
[22,15160,23,15163,24,15167,null,null,null,null,0,222]
[11,15263,12,15266,13,15271,null,null,null,null,0,111]
[11,15516,12,15525,13,15532,null,null,null,null,0,111]
[22,15627,23,15641,24,15646,null,null,null,null,0,222]
[22,15745,14,15768,13,15776,null,null,null,null,0,211]
[22,15884,14,15897,13,15902,null,null,null,null,0,211]
[11,16001,12,16005,24,16014,null,null,null,null,0,112]
[22,16279,14,16289,13,16293,null,null,null,null,0,211]
[22,16389,23,16395,13,16403,null,null,null,null,0,221]
[22,16501,23,16507,24,16511,null,null,null,null,0,222]
[11,16606,12,16609,13,16614,null,null,null,null,0,111]
[22,16714,14,16730,13,16733,null,null,null,null,0,211]
[22,16829,23,16841,24,16847,null,null,null,null,0,222]
[22,16947,23,16954,24,16958,null,null,null,null,0,222]
[22,17050,23,17067,24,17073,null,null,null,null,0,222]
[22,17173,14,17188,13,17193,null,null,null,null,0,211]
[11,17378,12,17432,13,17440,null,null,null,null,0,111]
[22,17536,14,17550,13,17554,null,null,null,null,0,211]
[22,17653,23,17669,24,17675,null,null,null,null,0,222]
[22,17774,23,17780,24,17788,null,null,null,null,0,222]
[22,17893,23,17899,24,17904,null,null,null,null,0,222]
[11,18156,12,18160,13,18166,null,null,null,null,0,111]
[22,18263,23,18268,24,18273,null,null,null,null,0,222]
[11,18371,12,18376,13,18381,null,null,null,null,0,111]
[22,18492,14,18507,13,18514,null,null,null,null,0,211]
[22,18613,23,18623,24,18630,null,null,null,null,0,222]
[11,18737,12,18744,13,18751,null,null,null,null,0,111]
[22,18958,23,18969,24,18976,null,null,null,null,0,222]
[22,19071,23,19076,13,19090,null,null,null,null,0,221]
[22,19196,14,19209,13,19214,null,null,null,null,0,211]
[11,19328,12,19333,13,19342,null,null,null,null,0,111]
[11,19454,12,19459,13,19466,null,null,null,null,0,111]
[22,19564,23,19587,24,19595,null,null,null,null,0,222]
[22,19696,23,19705,13,19723,null,null,null,null,0,221]
[22,20089,23,20091,13,20108,null,null,null,null,0,221]
[11,20206,12,20211,13,20216,null,null,null,null,0,111]
[11,20334,21,20369,11,20382,null,null,null,null,0,121]
[22,20682,23,20698,13,20708,null,null,null,null,0,221]
[22,20814,14,20825,13,20831,null,null,null,null,0,211]
[22,20930,14,20947,13,20951,null,null,null,null,0,211]
[11,21051,12,21056,13,21067,null,null,null,null,0,111]
[11,21181,12,21185,13,21191,null,null,null,null,0,111]
[22,21313,14,21321,13,21325,null,null,null,null,0,211]
[22,21422,23,21437,24,21440,null,null,null,null,0,222]
[22,21542,23,21546,24,21553,null,null,null,null,0,222]
[22,21668,23,21673,24,21679,null,null,null,null,0,222]
[22,21926,23,21931,24,21937,null,null,null,null,0,222]
[11,22048,12,22053,13,22060,null,null,null,null,0,111]
[22,22173,14,22189,13,22194,null,null,null,null,0,211]
[22,22297,14,22311,13,22315,null,null,null,null,0,211]
[22,22414,14,22425,13,22429,null,null,null,null,0,211]
[22,22537,23,22547,24,22553,null,null,null,null,0,222]
[11,22693,12,22700,13,22708,null,null,null,null,0,111]
[11,22865,12,22869,13,22875,null,null,null,null,0,111]
[11,22977,12,22982,13,22989,null,null,null,null,0,111]
[11,23215,12,23220,13,23227,null,null,null,null,0,111]
[22,23327,14,23347,13,23353,null,null,null,null,0,211]
[22,23519,14,23529,13,23534,null,null,null,null,0,211]
[22,23647,14,23659,13,23662,null,null,null,null,0,211]
[22,23764,14,23781,13,23785,null,null,null,null,0,211]
[11,23896,12,23931,13,23938,null,null,null,null,null,111]

{"sheet":"!M226A5I.sha","index":19,"n_rows":145,"n_cols":48,"rows_kept":145,"cut":false,"hidden":false,"merged":[[4,39,4,42],[5,39,5,40],[4,44,4,47],[5,44,5,45],[4,24,4,27],[5,24,5,25],[4,29,4,32],[5,29,5,30],[4,34,4,37],[5,34,5,35],[1,1,1,2],[5,13,5,14],[18,13,18,14],[19,13,19,14],[4,19,4,22],[5,19,5,20]]}
["Report for:!M226A5I.sha"]
["Date:","<date>"]
["Hen:","<hen>",null,null,null,"Correct Sequence",{"$f":"Start!J2","v":121},null,null,null,null,null,null,null,null,"Total Sequences in Data",{"$f":"4994-COUNTBLANK(L7:L5000)","v":139},null,null,null,null,"Total Sequences in Block Data",{"$f":"COUNTA(L7:L29)","v":23},null,null,null,"Total Sequences in Block Data",{"$f":"COUNTA(L30:L52)","v":23},null,null,null,"Total Sequences in Block Data",{"$f":"COUNTA(L53:L76)","v":24},null,null,null,"Total Sequences in Block Data",{"$f":"COUNTA(L77:L99)","v":23},null,null,null,"Total Sequences in Block Data",{"$f":"COUNTA(L100:L122)","v":23},null,null,null,"Total Sequences in Block Data",{"$f":"COUNTA(L123:L145)","v":23}]
[null,null,null,null,null,null,null,null,null,null,null,null,null,null,null,"Total Sequences in Summary",{"$f":"SUM(O7:O14)","v":139},null,null,null,null,"Total Sequences in Block Summary",{"$f":"SUM(U7:U14)","v":23},null,null,null,"Total Sequences in Block Summary",{"$f":"SUM(Z7:Z14)","v":23},null,null,null,"Total Sequences in Block Summary",{"$f":"SUM(AE7:AE14)","v":24},null,null,null,"Total Sequences in Block Summary",{"$f":"SUM(AJ7:AJ14)","v":23},null,null,null,"Total Sequences in Block Summary",{"$f":"SUM(AO7:AO14)","v":23},null,null,null,"Total Sequences in Block Summary",{"$f":"SUM(AT7:AT14)","v":23}]
[null,null,null,null,null,null,null,null,null,null,null,null,null,null,null,null,null,null,null,"Block 1",null,null,null,null,"Block 2",null,null,null,null,"Block 3",null,null,null,null,"Block 4",null,null,null,null,"Block 5",null,null,null,null,"Block 6"]
["Sequence\nComponent\n1","Time\n1","Sequence\nComponent\n2","Time\n2","Sequence\nComponent\n3","Time\n3","Sequence\nComponent\n4","Time\n4","Sequence\nComponent\n5","Time\n5","Correct?\n0=No 1=Yes","Sequence",null,"Frequency",null,"Relative Frequency","Variability",null,null,"Frequency",null,"Relative Frequency","Variability",null,"Frequency",null,"Relative Frequency","Variability",null,"Frequency",null,"Relative Frequency","Variability",null,"Frequency",null,"Relative Frequency","Variability",null,"Frequency",null,"Relative Frequency","Variability",null,"Frequency",null,"Relative Frequency","Variability"]
[22,130,23,144,24,150,null,null,null,null,0,222,null,111,{"$f":"COUNTIF($L$7:$L$500,N7)","v":25},{"$f":"O7/$Q$4","v":0.17985611510791366},{"$f":"IF(P7=0,0,(P7*((LOG(P7))/LOG(2))))","v":-0.44515915160949332},null,null,{"$f":"N7","v":111},{"$f":"COUNTIF(L7:L29,T7)","v":5},{"$f":"U7/(W4-U9)","v":0.21739130434782608},{"$f":"IF(V7=0,0,(V7*((LOG(V7))/LOG(2))))","v":-0.47861605677601093},null,{"$f":"N7","v":111},{"$f":"COUNTIF(L30:L52,Y7)","v":6},{"$f":"Z7/(AB4-Z9)","v":0.2608695652173913},{"$f":"IF(AA7=0,0,(AA7*((LOG(AA7))/LOG(2))))","v":-0.50572159704413644},null,{"$f":"N7","v":111},{"$f":"COUNTIF(L53:L76,AD7)","v":1},{"$f":"AE7/(AG4-AE9)","v":4.1666666666666664E-2},{"$f":"IF(AF7=0,0,(AF7*((LOG(AF7))/LOG(2))))","v":-0.19104010419671485},null,{"$f":"N7","v":111},{"$f":"COUNTIF(L77:L99,AI7)","v":2},{"$f":"AJ7/(AL4-AJ9)","v":8.6956521739130432E-2},{"$f":"IF(AK7=0,0,(AK7*((LOG(AK7))/LOG(2))))","v":-0.30639669183104457},null,{"$f":"N7","v":111},{"$f":"COUNTIF(L100:L122,AN7)","v":3},{"$f":"AO7/(AQ4-AO9)","v":0.13636363636363635},{"$f":"IF(AP7=0,0,(AP7*((LOG(AP7))/LOG(2))))","v":-0.39197306153401923},null,{"$f":"N7","v":111},{"$f":"COUNTIF(L123:L145,AS7)","v":8},{"$f":"AT7/(AV4-AT9)","v":0.34782608695652173},{"$f":"IF(AU7=0,0,(AU7*((LOG(AU7))/LOG(2))))","v":-0.52993459341113491}]
[22,250,14,258,24,276,null,null,null,null,0,212,null,112,{"$f":"COUNTIF($L$7:$L$500,N8)","v":8},{"$f":"O8/$Q$4","v":5.7553956834532377E-2},{"$f":"IF(P8=0,0,(P8*((LOG(P8))/LOG(2))))","v":-0.23706135670351119},null,null,{"$f":"N8","v":112},{"$f":"COUNTIF(L7:L29,T8)","v":1},{"$f":"U8/(W4-U9)","v":4.3478260869565216E-2},{"$f":"IF(V8=0,0,(V8*((LOG(V8))/LOG(2))))","v":-0.19667660678508753},null,{"$f":"N8","v":112},{"$f":"COUNTIF(L30:L52,Y8)","v":0},{"$f":"Z8/(AB4-Z9)","v":0},{"$f":"IF(AA8=0,0,(AA8*((LOG(AA8))/LOG(2))))","v":0},null,{"$f":"N8","v":112},{"$f":"COUNTIF(L53:L76,AD8)","v":0},{"$f":"AE8/(AG4-AE9)","v":0},{"$f":"IF(AF8=0,0,(AF8*((LOG(AF8))/LOG(2))))","v":0},null,{"$f":"N8","v":112},{"$f":"COUNTIF(L77:L99,AI8)","v":3},{"$f":"AJ8/(AL4-AJ9)","v":0.13043478260869565},{"$f":"IF(AK8=0,0,(AK8*((LOG(AK8))/LOG(2))))","v":-0.3832955811307639},null,{"$f":"N8","v":112},{"$f":"COUNTIF(L100:L122,AN8)","v":4},{"$f":"AO8/(AQ4-AO9)","v":0.18181818181818182},{"$f":"IF(AP8=0,0,(AP8*((LOG(AP8))/LOG(2))))","v":-0.44716938520678134},null,{"$f":"N8","v":112},{"$f":"COUNTIF(L123:L145,AS8)","v":0},{"$f":"AT8/(AV4-AT9)","v":0},{"$f":"IF(AU8=0,0,(AU8*((LOG(AU8))/LOG(2))))","v":0}]
[22,377,23,382,24,393,null,null,null,null,0,222,null,121,{"$f":"COUNTIF($L$7:$L$500,N9)","v":1},{"$f":"O9/$Q$4","v":7.1942446043165471E-3},{"$f":"IF(P9=0,0,(P9*((LOG(P9))/LOG(2))))","v":-5.1215403400888537E-2},null,null,{"$f":"N9","v":121},{"$f":"COUNTIF(L7:L29,T9)","v":0},null,null,null,{"$f":"N9","v":121},{"$f":"COUNTIF(L30:L52,Y9)","v":0},null,null,null,{"$f":"N9","v":121},{"$f":"COUNTIF(L53:L76,AD9)","v":0},null,null,null,{"$f":"N9","v":121},{"$f":"COUNTIF(L77:L99,AI9)","v":0},null,null,null,{"$f":"N9","v":121},{"$f":"COUNTIF(L100:L122,AN9)","v":1},null,null,null,{"$f":"N9","v":121},{"$f":"COUNTIF(L123:L145,AS9)","v":0}]
[11,507,12,513,24,532,null,null,null,null,0,112,null,122,{"$f":"COUNTIF($L$7:$L$500,N10)","v":5},{"$f":"O10/$Q$4","v":3.5971223021582732E-2},{"$f":"IF(P10=0,0,(P10*((LOG(P10))/LOG(2))))","v":-0.17255442366317067},null,null,{"$f":"N10","v":122},{"$f":"COUNTIF(L7:L29,T10)","v":0},{"$f":"U10/(W4-U9)","v":0},{"$f":"IF(V10=0,0,(V10*((LOG(V10))/LOG(2))))","v":0},null,{"$f":"N10","v":122},{"$f":"COUNTIF(L30:L52,Y10)","v":0},{"$f":"Z10/(AB4-Z9)","v":0},{"$f":"IF(AA10=0,0,(AA10*((LOG(AA10))/LOG(2))))","v":0},null,{"$f":"N10","v":122},{"$f":"COUNTIF(L53:L76,AD10)","v":1},{"$f":"AE10/(AG4-AE9)","v":4.1666666666666664E-2},{"$f":"IF(AF10=0,0,(AF10*((LOG(AF10))/LOG(2))))","v":-0.19104010419671485},null,{"$f":"N10","v":122},{"$f":"COUNTIF(L77:L99,AI10)","v":2},{"$f":"AJ10/(AL4-AJ9)","v":8.6956521739130432E-2},{"$f":"IF(AK10=0,0,(AK10*((LOG(AK10))/LOG(2))))","v":-0.30639669183104457},null,{"$f":"N10","v":122},{"$f":"COUNTIF(L100:L122,AN10)","v":2},{"$f":"AO10/(AQ4-AO9)","v":9.0909090909090912E-2},{"$f":"IF(AP10=0,0,(AP10*((LOG(AP10))/LOG(2))))","v":-0.31449378351248153},null,{"$f":"N10","v":122},{"$f":"COUNTIF(L123:L145,AS10)","v":0},{"$f":"AT10/(AV4-AT9)","v":0},{"$f":"IF(AU10=0,0,(AU10*((LOG(AU10))/LOG(2))))","v":0}]
[11,629,12,634,13,639,null,null,null,null,0,111,null,211,{"$f":"COUNTIF($L$7:$L$500,N11)","v":34},{"$f":"O11/$Q$4","v":0.2446043165467626},{"$f":"IF(P11=0,0,(P11*((LOG(P11))/LOG(2))))","v":-0.49690834438912024},null,null,{"$f":"N11","v":211},{"$f":"COUNTIF(L7:L29,T11)","v":7},{"$f":"U11/(W4-U9)","v":0.30434782608695654},{"$f":"IF(V11=0,0,(V11*((LOG(V11))/LOG(2))))","v":-0.52232387991286355},null,{"$f":"N11","v":211},{"$f":"COUNTIF(L30:L52,Y11)","v":4},{"$f":"Z11/(AB4-Z9)","v":0.17391304347826086},{"$f":"IF(AA11=0,0,(AA11*((LOG(AA11))/LOG(2))))","v":-0.43888034018382832},null,{"$f":"N11","v":211},{"$f":"COUNTIF(L53:L76,AD11)","v":4},{"$f":"AE11/(AG4-AE9)","v":0.16666666666666666},{"$f":"IF(AF11=0,0,(AF11*((LOG(AF11))/LOG(2))))","v":-0.43082708345352599},null,{"$f":"N11","v":211},{"$f":"COUNTIF(L77:L99,AI11)","v":6},{"$f":"AJ11/(AL4-AJ9)","v":0.2608695652173913},{"$f":"IF(AK11=0,0,(AK11*((LOG(AK11))/LOG(2))))","v":-0.50572159704413644},null,{"$f":"N11","v":211},{"$f":"COUNTIF(L100:L122,AN11)","v":6},{"$f":"AO11/(AQ4-AO9)","v":0.27272727272727271},{"$f":"IF(AP11=0,0,(AP11*((LOG(AP11))/LOG(2))))","v":-0.51121885034076575},null,{"$f":"N11","v":211},{"$f":"COUNTIF(L123:L145,AS11)","v":7},{"$f":"AT11/(AV4-AT9)","v":0.30434782608695654},{"$f":"IF(AU11=0,0,(AU11*((LOG(AU11))/LOG(2))))","v":-0.52232387991286355}]
[22,738,14,748,13,754,null,null,null,null,0,211,null,212,{"$f":"COUNTIF($L$7:$L$500,N12)","v":11},{"$f":"O12/$Q$4","v":7.9136690647482008E-2},{"$f":"IF(P12=0,0,(P12*((LOG(P12))/LOG(2))))","v":-0.28960146758955618},null,null,{"$f":"N12","v":212},{"$f":"COUNTIF(L7:L29,T12)","v":1},{"$f":"U12/(W4-U9)","v":4.3478260869565216E-2},{"$f":"IF(V12=0,0,(V12*((LOG(V12))/LOG(2))))","v":-0.19667660678508753},null,{"$f":"N12","v":212},{"$f":"COUNTIF(L30:L52,Y12)","v":2},{"$f":"Z12/(AB4-Z9)","v":8.6956521739130432E-2},{"$f":"IF(AA12=0,0,(AA12*((LOG(AA12))/LOG(2))))","v":-0.30639669183104457},null,{"$f":"N12","v":212},{"$f":"COUNTIF(L53:L76,AD12)","v":3},{"$f":"AE12/(AG4-AE9)","v":0.125},{"$f":"IF(AF12=0,0,(AF12*((LOG(AF12))/LOG(2))))","v":-0.375},null,{"$f":"N12","v":212},{"$f":"COUNTIF(L77:L99,AI12)","v":2},{"$f":"AJ12/(AL4-AJ9)","v":8.6956521739130432E-2},{"$f":"IF(AK12=0,0,(AK12*((LOG(AK12))/LOG(2))))","v":-0.30639669183104457},null,{"$f":"N12","v":212},{"$f":"COUNTIF(L100:L122,AN12)","v":2},{"$f":"AO12/(AQ4-AO9)","v":9.0909090909090912E-2},{"$f":"IF(AP12=0,0,(AP12*((LOG(AP12))/LOG(2))))","v":-0.31449378351248153},null,{"$f":"N12","v":212},{"$f":"COUNTIF(L123:L145,AS12)","v":1},{"$f":"AT12/(AV4-AT9)","v":4.3478260869565216E-2},{"$f":"IF(AU12=0,0,(AU12*((LOG(AU12))/LOG(2))))","v":-0.19667660678508753}]
[22,851,23,856,24,872,null,null,null,null,0,222,null,221,{"$f":"COUNTIF($L$7:$L$500,N13)","v":16},{"$f":"O13/$Q$4","v":0.11510791366906475},{"$f":"IF(P13=0,0,(P13*((LOG(P13))/LOG(2))))","v":-0.35901479973795769},null,null,{"$f":"N13","v":221},{"$f":"COUNTIF(L7:L29,T13)","v":4},{"$f":"U13/(W4-U9)","v":0.17391304347826086},{"$f":"IF(V13=0,0,(V13*((LOG(V13))/LOG(2))))","v":-0.43888034018382832},null,{"$f":"N13","v":221},{"$f":"COUNTIF(L30:L52,Y13)","v":1},{"$f":"Z13/(AB4-Z9)","v":4.3478260869565216E-2},{"$f":"IF(AA13=0,0,(AA13*((LOG(AA13))/LOG(2))))","v":-0.19667660678508753},null,{"$f":"N13","v":221},{"$f":"COUNTIF(L53:L76,AD13)","v":5},{"$f":"AE13/(AG4-AE9)","v":0.20833333333333334},{"$f":"IF(AF13=0,0,(AF13*((LOG(AF13))/LOG(2))))","v":-0.47146550121537367},null,{"$f":"N13","v":221},{"$f":"COUNTIF(L77:L99,AI13)","v":2},{"$f":"AJ13/(AL4-AJ9)","v":8.6956521739130432E-2},{"$f":"IF(AK13=0,0,(AK13*((LOG(AK13))/LOG(2))))","v":-0.30639669183104457},null,{"$f":"N13","v":221},{"$f":"COUNTIF(L100:L122,AN13)","v":1},{"$f":"AO13/(AQ4-AO9)","v":4.5454545454545456E-2},{"$f":"IF(AP13=0,0,(AP13*((LOG(AP13))/LOG(2))))","v":-0.20270143721078623},null,{"$f":"N13","v":221},{"$f":"COUNTIF(L123:L145,AS13)","v":3},{"$f":"AT13/(AV4-AT9)","v":0.13043478260869565},{"$f":"IF(AU13=0,0,(AU13*((LOG(AU13))/LOG(2))))","v":-0.3832955811307639}]
[22,971,14,986,13,991,null,null,null,null,0,211,null,222,{"$f":"COUNTIF($L$7:$L$500,N14)","v":39},{"$f":"O14/$Q$4","v":0.2805755395683453},{"$f":"IF(P14=0,0,(P14*((LOG(P14))/LOG(2))))","v":-0.51444615324164822},null,null,{"$f":"N14","v":222},{"$f":"COUNTIF(L7:L29,T14)","v":5},{"$f":"U14/(W4-U9)","v":0.21739130434782608},{"$f":"IF(V14=0,0,(V14*((LOG(V14))/LOG(2))))","v":-0.47861605677601093},null,{"$f":"N14","v":222},{"$f":"COUNTIF(L30:L52,Y14)","v":10},{"$f":"Z14/(AB4-Z9)","v":0.43478260869565216},{"$f":"IF(AA14=0,0,(AA14*((LOG(AA14))/LOG(2))))","v":-0.52244950485636987},null,{"$f":"N14","v":222},{"$f":"COUNTIF(L53:L76,AD14)","v":10},{"$f":"AE14/(AG4-AE9)","v":0.41666666666666669},{"$f":"IF(AF14=0,0,(AF14*((LOG(AF14))/LOG(2))))","v":-0.52626433576408083},null,{"$f":"N14","v":222},{"$f":"COUNTIF(L77:L99,AI14)","v":6},{"$f":"AJ14/(AL4-AJ9)","v":0.2608695652173913},{"$f":"IF(AK14=0,0,(AK14*((LOG(AK14))/LOG(2))))","v":-0.50572159704413644},null,{"$f":"N14","v":222},{"$f":"COUNTIF(L100:L122,AN14)","v":4},{"$f":"AO14/(AQ4-AO9)","v":0.18181818181818182},{"$f":"IF(AP14=0,0,(AP14*((LOG(AP14))/LOG(2))))","v":-0.44716938520678134},null,{"$f":"N14","v":222},{"$f":"COUNTIF(L123:L145,AS14)","v":4},{"$f":"AT14/(AV4-AT9)","v":0.17391304347826086},{"$f":"IF(AU14=0,0,(AU14*((LOG(AU14))/LOG(2))))","v":-0.43888034018382832}]
[22,1089,23,1094,24,1105,null,null,null,null,0,222,null,null,null,{"$f":"SUM(P7:P14)","v":1},{"$f":"-SUM(Q7:Q14)","v":2.565961100335346},null,null,null,null,{"$f":"SUM(V7:V14)","v":1},{"$f":"-SUM(W7:W14)","v":2.311789547218889},null,null,null,{"$f":"SUM(AA7:AA14)","v":1},{"$f":"-SUM(AB7:AB14)","v":1.9701247407004669},null,null,null,{"$f":"SUM(AF7:AF14)","v":1},{"$f":"-SUM(AG7:AG14)","v":2.1856371288264103},null,null,null,{"$f":"SUM(AK7:AK14)","v":1},{"$f":"-SUM(AL7:AL14)","v":2.620325542543215},null,null,null,{"$f":"SUM(AP7:AP14)","v":1},{"$f":"-SUM(AQ7:AQ14)","v":2.6292196865240967},null,null,null,{"$f":"SUM(AU7:AU14)","v":1},{"$f":"-SUM(AV7:AV14)","v":2.0711110014236782}]
[22,1203,23,1210,13,1221,null,null,null,null,0,221,null,null,null,"U=",{"$f":"Q15/(LOG(Q4)/LOG(2))","v":0.36044140190553386},null,null,null,null,"U1=",{"$f":"W15/(LOG(W4)/LOG(2))","v":0.51105513081862874},null,null,null,"U2=",{"$f":"AB15/(LOG(AB4)/LOG(2))","v":0.4355250928004834},null,null,null,"U3=",{"$f":"AG15/(LOG(AG4)/LOG(2))","v":0.47669683851997424},null,null,null,"U4=",{"$f":"AL15/(LOG(AL4)/LOG(2))","v":0.57926155715290251},null,null,null,"U5=",{"$f":"AQ15/(LOG(AQ4)/LOG(2))","v":0.58122773868579225},null,null,null,"U6=",{"$f":"AV15/(LOG(AV4)/LOG(2))","v":0.45784959320618507}]
[22,1436,14,1445,13,1450,null,null,null,null,0,211]
[22,1547,23,1552,13,1562,null,null,null,null,0,221]
[22,1660,14,1684,13,1690,null,null,null,null,0,211,null,"Total Target Seq"]
[22,1790,14,1804,13,1812,null,null,null,null,0,211,null,{"$f":"COUNTIF(L7:L145,G3)","v":1},null,23,23,24,23,23,23]
[11,1921,12,1928,13,1934,null,null,null,null,0,111,null,null,null,"% of reinforcement given in 6 equal intervals based on number of trials "]
[22,2031,23,2036,24,2039,null,null,null,null,0,222,null,null,null,"%_1","%_2","%_3","%_4","%_5","%_6"]
[11,2151,12,2157,13,2163,null,null,null,null,0,111,null,null,"target sequence",{"$f":"$G$3","v":121},{"$f":"$G$3","v":121},{"$f":"$G$3","v":121},{"$f":"$G$3","v":121},{"$f":"$G$3","v":121},{"$f":"$G$3","v":121}]
[22,2260,23,2281,13,2293,null,null,null,null,0,221,null,null,"total reinforcement",{"$f":"U9","v":0},{"$f":"Z9","v":0},{"$f":"AE9","v":0},{"$f":"AJ9","v":0},{"$f":"AO9","v":1},{"$f":"AT9","v":0}]
[22,2402,23,2420,13,2429,null,null,null,null,0,221,null,null,"% target"]
[11,2649,12,2653,13,2659,null,null,null,null,0,111,null,null,"CCRF"]
[22,2758,14,2777,13,2782,null,null,null,null,0,211,null,null,"% CCRf"]
[22,2883,14,2921,13,2931,null,null,null,null,0,211,null,null,"average response rate",{"$f":"F29/P20","v":134.86956521739131},{"$f":"(F52-F29)/Q20","v":164.43478260869566},{"$f":"(F76-F52)/R20","v":205.16666666666666},{"$f":"(F99-F76)/S20","v":174.60869565217391},{"$f":"(F122-F99)/T20","v":196.78260869565219},{"$f":"(F145-F122)/U20","v":157.78260869565219}]
[11,3090,12,3097,13,3102,null,null,null,null,0,111]
[22,3202,23,3219,24,3224,null,null,null,null,0,222]
[11,3526,12,3530,13,3537,null,null,null,null,0,111]
[22,3636,14,3652,24,3670,null,null,null,null,0,212]
[22,3770,23,3785,24,3789,null,null,null,null,0,222]
[22,3887,23,3891,24,3897,null,null,null,null,0,222]
[11,3997,12,4001,13,4005,null,null,null,null,0,111]
[22,4104,14,4115,13,4119,null,null,null,null,0,211]
[22,4222,23,4228,24,4237,null,null,null,null,0,222]
[22,4628,14,4635,13,4640,null,null,null,null,0,211]
[11,4749,12,4753,13,4759,null,null,null,null,0,111]
[22,4857,23,4866,24,4871,null,null,null,null,0,222]
[22,4972,23,4980,24,4988,null,null,null,null,0,222]
[22,5126,14,5139,13,5144,null,null,null,null,0,211]
[22,5249,23,5259,13,5272,null,null,null,null,0,221]
[22,5375,23,5383,24,5386,null,null,null,null,0,222]
[22,5488,23,5498,24,5501,null,null,null,null,0,222]
[11,5816,12,5824,13,5830,null,null,null,null,0,111]
[22,5929,23,5935,24,5944,null,null,null,null,0,222]
[11,6068,12,6073,13,6077,null,null,null,null,0,111]
[22,6174,23,6181,24,6190,null,null,null,null,0,222]
[11,6473,12,6477,13,6483,null,null,null,null,0,111]
[22,6646,14,6656,24,6671,null,null,null,null,0,212]
[22,6871,14,6880,13,6884,null,null,null,null,0,211]
[22,7077,14,7085,24,7099,null,null,null,null,0,212]
[22,7342,14,7353,24,7382,null,null,null,null,0,212]
[22,7479,23,7484,24,7491,null,null,null,null,0,222]
[22,7740,23,7749,13,7756,null,null,null,null,0,221]
[22,8009,23,8051,13,8061,null,null,null,null,0,221]
[22,8184,14,8193,13,8198,null,null,null,null,0,211]
[22,8366,23,8372,24,8377,null,null,null,null,0,222]
[22,8503,23,8507,24,8513,null,null,null,null,0,222]
[22,8608,23,8613,24,8619,null,null,null,null,0,222]
[22,8901,14,8909,24,8921,null,null,null,null,0,212]
[22,9168,23,9175,13,9184,null,null,null,null,0,221]
[22,9451,23,9458,24,9464,null,null,null,null,0,222]
[22,9591,14,9615,13,9619,null,null,null,null,0,211]
[22,9770,23,9777,24,9785,null,null,null,null,0,222]
[22,10000,14,10008,13,10013,null,null,null,null,0,211]
[22,10122,23,10129,13,10145,null,null,null,null,0,221]
[22,10324,23,10331,24,10338,null,null,null,null,0,222]
[22,10572,23,10578,13,10586,null,null,null,null,0,221]
[22,10810,23,10816,24,10822,null,null,null,null,0,222]
[11,10980,21,10996,22,11004,null,null,null,null,0,122]
[22,11257,14,11268,13,11273,null,null,null,null,0,211]
[11,11524,12,11530,13,11535,null,null,null,null,0,111]
[22,11659,23,11663,24,11670,null,null,null,null,0,222]
[22,11792,23,11803,24,11808,null,null,null,null,0,222]
[22,11994,14,12004,13,12009,null,null,null,null,0,211]
[22,12343,23,12350,24,12356,null,null,null,null,0,222]
[22,12580,14,12587,13,12592,null,null,null,null,0,211]
[11,12778,21,12790,22,12794,null,null,null,null,0,122]
[11,12897,21,12906,22,12911,null,null,null,null,0,122]
[22,13183,14,13192,13,13197,null,null,null,null,0,211]
[22,13397,23,13402,24,13409,null,null,null,null,0,222]
[22,13518,23,13523,13,13542,null,null,null,null,0,221]
[11,13654,12,13658,24,13670,null,null,null,null,0,112]
[11,13765,12,13770,13,13776,null,null,null,null,0,111]
[11,14042,12,14045,13,14051,null,null,null,null,0,111]
[22,14150,23,14157,24,14160,null,null,null,null,0,222]
[22,14260,23,14269,24,14273,null,null,null,null,0,222]
[22,14370,23,14382,24,14390,null,null,null,null,0,222]
[22,14487,23,14493,24,14499,null,null,null,null,0,222]
[22,14601,14,14611,24,14623,null,null,null,null,0,212]
[11,14743,12,14753,24,14769,null,null,null,null,0,112]
[22,14939,14,14952,13,14957,null,null,null,null,0,211]
[11,15071,12,15079,24,15093,null,null,null,null,0,112]
[22,15202,23,15215,13,15233,null,null,null,null,0,221]
[22,15392,14,15409,13,15417,null,null,null,null,0,211]
[22,15665,14,15677,24,15689,null,null,null,null,0,212]
[22,15788,14,15816,13,15824,null,null,null,null,0,211]
[22,15925,23,15939,24,15950,null,null,null,null,0,222]
[22,16064,23,16070,13,16078,null,null,null,null,0,221]
[11,16332,12,16338,24,16349,null,null,null,null,0,112]
[22,16453,14,16464,13,16470,null,null,null,null,0,211]
[22,16695,14,16707,24,16727,null,null,null,null,0,212]
[22,16839,14,16847,24,16858,null,null,null,null,0,212]
[11,17010,12,17025,24,17037,null,null,null,null,0,112]
[11,17171,21,17185,22,17190,null,null,null,null,0,122]
[11,17445,12,17456,24,17469,null,null,null,null,0,112]
[11,18045,21,18100,11,18108,null,null,null,null,0,121]
[11,18313,12,18317,13,18322,null,null,null,null,0,111]
[11,18569,12,18574,13,18579,null,null,null,null,0,111]
[22,18679,23,18683,24,18687,null,null,null,null,0,222]
[22,18787,14,18800,13,18807,null,null,null,null,0,211]
[22,18903,23,18911,24,18915,null,null,null,null,0,222]
[22,19011,23,19025,24,19031,null,null,null,null,0,222]
[11,19196,12,19201,13,19206,null,null,null,null,0,111]
[22,19314,14,19328,13,19334,null,null,null,null,0,211]
[22,19453,14,19462,13,19467,null,null,null,null,0,211]
[22,19806,14,19817,13,19823,null,null,null,null,0,211]
[22,19948,14,19961,13,19967,null,null,null,null,0,211]
[11,20205,21,20217,22,20221,null,null,null,null,0,122]
[11,20331,12,20334,24,20350,null,null,null,null,0,112]
[11,20593,12,20598,13,20604,null,null,null,null,0,111]
[22,20753,14,20761,13,20765,null,null,null,null,0,211]
[22,20863,23,20872,24,20886,null,null,null,null,0,222]
[11,21173,12,21177,13,21183,null,null,null,null,0,111]
[22,21276,23,21281,24,21290,null,null,null,null,0,222]
[22,21386,23,21392,13,21404,null,null,null,null,0,221]
[22,21655,14,21664,13,21669,null,null,null,null,0,211]
[11,21773,12,21777,13,21782,null,null,null,null,0,111]
[11,21876,12,21880,13,21884,null,null,null,null,0,111]
[11,21984,12,21988,13,21993,null,null,null,null,0,111]
[22,22095,23,22110,13,22124,null,null,null,null,0,221]
[22,22334,14,22342,13,22348,null,null,null,null,0,211]
[22,22446,23,22456,24,22463,null,null,null,null,0,222]
[22,22565,23,22572,24,22577,null,null,null,null,0,222]
[22,22684,14,22694,13,22699,null,null,null,null,0,211]
[22,22809,14,22818,13,22823,null,null,null,null,0,211]
[22,22920,23,22926,13,22938,null,null,null,null,0,221]
[22,23178,14,23235,13,23240,null,null,null,null,0,211]
[11,23357,12,23360,13,23367,null,null,null,null,0,111]
[11,23580,12,23585,13,23592,null,null,null,null,0,111]
[22,23690,14,23697,13,23704,null,null,null,null,0,211]
[11,23818,12,23824,13,23831,null,null,null,null,0,111]
[22,23942,14,23960,24,23979,null,null,null,null,null,212]

{"sheet":"!M227A4I.sha","index":20,"n_rows":166,"n_cols":48,"rows_kept":166,"cut":false,"hidden":false,"merged":[[4,39,4,42],[5,39,5,40],[4,44,4,47],[5,44,5,45],[4,24,4,27],[5,24,5,25],[4,29,4,32],[5,29,5,30],[4,34,4,37],[5,34,5,35],[1,1,1,2],[5,13,5,14],[18,13,18,14],[19,13,19,14],[4,19,4,22],[5,19,5,20]]}
["Report for:!M227A4I.sha"]
["Date:","<date>"]
["Hen:","<hen>",null,null,null,"Correct Sequence",{"$f":"Start!J2","v":121},null,null,null,null,null,null,null,null,"Total Sequences in Data",{"$f":"4994-COUNTBLANK(L7:L5000)","v":160},null,null,null,null,"Total Sequences in Block Data",{"$f":"COUNTA(L7:L33)","v":27},null,null,null,"Total Sequences in Block Data",{"$f":"COUNTA(L34:L59)","v":26},null,null,null,"Total Sequences in Block Data",{"$f":"COUNTA(L60:L86)","v":27},null,null,null,"Total Sequences in Block Data",{"$f":"COUNTA(L87:L113)","v":27},null,null,null,"Total Sequences in Block Data",{"$f":"COUNTA(L114:L139)","v":26},null,null,null,"Total Sequences in Block Data",{"$f":"COUNTA(L140:L166)","v":27}]
[null,null,null,null,null,null,null,null,null,null,null,null,null,null,null,"Total Sequences in Summary",{"$f":"SUM(O7:O14)","v":160},null,null,null,null,"Total Sequences in Block Summary",{"$f":"SUM(U7:U14)","v":27},null,null,null,"Total Sequences in Block Summary",{"$f":"SUM(Z7:Z14)","v":26},null,null,null,"Total Sequences in Block Summary",{"$f":"SUM(AE7:AE14)","v":27},null,null,null,"Total Sequences in Block Summary",{"$f":"SUM(AJ7:AJ14)","v":27},null,null,null,"Total Sequences in Block Summary",{"$f":"SUM(AO7:AO14)","v":26},null,null,null,"Total Sequences in Block Summary",{"$f":"SUM(AT7:AT14)","v":27}]
[null,null,null,null,null,null,null,null,null,null,null,null,null,null,null,null,null,null,null,"Block 1",null,null,null,null,"Block 2",null,null,null,null,"Block 3",null,null,null,null,"Block 4",null,null,null,null,"Block 5",null,null,null,null,"Block 6"]
["Sequence\nComponent\n1","Time\n1","Sequence\nComponent\n2","Time\n2","Sequence\nComponent\n3","Time\n3","Sequence\nComponent\n4","Time\n4","Sequence\nComponent\n5","Time\n5","Correct?\n0=No 1=Yes","Sequence",null,"Frequency",null,"Relative Frequency","Variability",null,null,"Frequency",null,"Relative Frequency","Variability",null,"Frequency",null,"Relative Frequency","Variability",null,"Frequency",null,"Relative Frequency","Variability",null,"Frequency",null,"Relative Frequency","Variability",null,"Frequency",null,"Relative Frequency","Variability",null,"Frequency",null,"Relative Frequency","Variability"]
[11,26,12,29,13,35,null,null,null,null,0,111,null,111,{"$f":"COUNTIF($L$7:$L$500,N7)","v":46},{"$f":"O7/$Q$4","v":0.28749999999999998},{"$f":"IF(P7=0,0,(P7*((LOG(P7))/LOG(2))))","v":-0.51703026491372539},null,null,{"$f":"N7","v":111},{"$f":"COUNTIF(L7:L33,T7)","v":7},{"$f":"U7/(W4-U9)","v":0.25925925925925924},{"$f":"IF(V7=0,0,(V7*((LOG(V7))/LOG(2))))","v":-0.5049158541015204},null,{"$f":"N7","v":111},{"$f":"COUNTIF(L34:L59,Y7)","v":4},{"$f":"Z7/(AB4-Z9)","v":0.15384615384615385},{"$f":"IF(AA7=0,0,(AA7*((LOG(AA7))/LOG(2))))","v":-0.4154522643293988},null,{"$f":"N7","v":111},{"$f":"COUNTIF(L60:L86,AD7)","v":14},{"$f":"AE7/(AG4-AE9)","v":0.53846153846153844},{"$f":"IF(AF7=0,0,(AF7*((LOG(AF7))/LOG(2))))","v":-0.48089181327572433},null,{"$f":"N7","v":111},{"$f":"COUNTIF(L87:L113,AI7)","v":12},{"$f":"AJ7/(AL4-AJ9)","v":0.44444444444444442},{"$f":"IF(AK7=0,0,(AK7*((LOG(AK7))/LOG(2))))","v":-0.51996666730769447},null,{"$f":"N7","v":111},{"$f":"COUNTIF(L114:L139,AN7)","v":5},{"$f":"AO7/(AQ4-AO9)","v":0.19230769230769232},{"$f":"IF(AP7=0,0,(AP7*((LOG(AP7))/LOG(2))))","v":-0.45740608139494804},null,{"$f":"N7","v":111},{"$f":"COUNTIF(L140:L166,AS7)","v":4},{"$f":"AT7/(AV4-AT9)","v":0.15384615384615385},{"$f":"IF(AU7=0,0,(AU7*((LOG(AU7))/LOG(2))))","v":-0.4154522643293988}]
[22,137,14,148,24,168,null,null,null,null,0,212,null,112,{"$f":"COUNTIF($L$7:$L$500,N8)","v":15},{"$f":"O8/$Q$4","v":9.375E-2},{"$f":"IF(P8=0,0,(P8*((LOG(P8))/LOG(2))))","v":-0.32015976555739156},null,null,{"$f":"N8","v":112},{"$f":"COUNTIF(L7:L33,T8)","v":0},{"$f":"U8/(W4-U9)","v":0},{"$f":"IF(V8=0,0,(V8*((LOG(V8))/LOG(2))))","v":0},null,{"$f":"N8","v":112},{"$f":"COUNTIF(L34:L59,Y8)","v":5},{"$f":"Z8/(AB4-Z9)","v":0.19230769230769232},{"$f":"IF(AA8=0,0,(AA8*((LOG(AA8))/LOG(2))))","v":-0.45740608139494804},null,{"$f":"N8","v":112},{"$f":"COUNTIF(L60:L86,AD8)","v":1},{"$f":"AE8/(AG4-AE9)","v":3.8461538461538464E-2},{"$f":"IF(AF8=0,0,(AF8*((LOG(AF8))/LOG(2))))","v":-0.18078614300542661},null,{"$f":"N8","v":112},{"$f":"COUNTIF(L87:L113,AI8)","v":2},{"$f":"AJ8/(AL4-AJ9)","v":7.407407407407407E-2},{"$f":"IF(AK8=0,0,(AK8*((LOG(AK8))/LOG(2))))","v":-0.27813981497507173},null,{"$f":"N8","v":112},{"$f":"COUNTIF(L114:L139,AN8)","v":5},{"$f":"AO8/(AQ4-AO9)","v":0.19230769230769232},{"$f":"IF(AP8=0,0,(AP8*((LOG(AP8))/LOG(2))))","v":-0.45740608139494804},null,{"$f":"N8","v":112},{"$f":"COUNTIF(L140:L166,AS8)","v":2},{"$f":"AT8/(AV4-AT9)","v":7.6923076923076927E-2},{"$f":"IF(AU8=0,0,(AU8*((LOG(AU8))/LOG(2))))","v":-0.28464920908777636}]
[22,266,23,279,24,284,null,null,null,null,0,222,null,121,{"$f":"COUNTIF($L$7:$L$500,N9)","v":2},{"$f":"O9/$Q$4","v":1.2500000000000001E-2},{"$f":"IF(P9=0,0,(P9*((LOG(P9))/LOG(2))))","v":-7.902410118609203E-2},null,null,{"$f":"N9","v":121},{"$f":"COUNTIF(L7:L33,T9)","v":0},null,null,null,{"$f":"N9","v":121},{"$f":"COUNTIF(L34:L59,Y9)","v":0},null,null,null,{"$f":"N9","v":121},{"$f":"COUNTIF(L60:L86,AD9)","v":1},null,null,null,{"$f":"N9","v":121},{"$f":"COUNTIF(L87:L113,AI9)","v":0},null,null,null,{"$f":"N9","v":121},{"$f":"COUNTIF(L114:L139,AN9)","v":0},null,null,null,{"$f":"N9","v":121},{"$f":"COUNTIF(L140:L166,AS9)","v":1}]
[22,402,14,411,13,417,null,null,null,null,0,211,null,122,{"$f":"COUNTIF($L$7:$L$500,N10)","v":7},{"$f":"O10/$Q$4","v":4.3749999999999997E-2},{"$f":"IF(P10=0,0,(P10*((LOG(P10))/LOG(2))))","v":-0.1975125763113019},null,null,{"$f":"N10","v":122},{"$f":"COUNTIF(L7:L33,T10)","v":1},{"$f":"U10/(W4-U9)","v":3.7037037037037035E-2},{"$f":"IF(V10=0,0,(V10*((LOG(V10))/LOG(2))))","v":-0.1761069445245729},null,{"$f":"N10","v":122},{"$f":"COUNTIF(L34:L59,Y10)","v":3},{"$f":"Z10/(AB4-Z9)","v":0.11538461538461539},{"$f":"IF(AA10=0,0,(AA10*((LOG(AA10))/LOG(2))))","v":-0.35947814047153104},null,{"$f":"N10","v":122},{"$f":"COUNTIF(L60:L86,AD10)","v":2},{"$f":"AE10/(AG4-AE9)","v":7.6923076923076927E-2},{"$f":"IF(AF10=0,0,(AF10*((LOG(AF10))/LOG(2))))","v":-0.28464920908777636},null,{"$f":"N10","v":122},{"$f":"COUNTIF(L87:L113,AI10)","v":1},{"$f":"AJ10/(AL4-AJ9)","v":3.7037037037037035E-2},{"$f":"IF(AK10=0,0,(AK10*((LOG(AK10))/LOG(2))))","v":-0.1761069445245729},null,{"$f":"N10","v":122},{"$f":"COUNTIF(L114:L139,AN10)","v":0},{"$f":"AO10/(AQ4-AO9)","v":0},{"$f":"IF(AP10=0,0,(AP10*((LOG(AP10))/LOG(2))))","v":0},null,{"$f":"N10","v":122},{"$f":"COUNTIF(L140:L166,AS10)","v":0},{"$f":"AT10/(AV4-AT9)","v":0},{"$f":"IF(AU10=0,0,(AU10*((LOG(AU10))/LOG(2))))","v":0}]
[22,514,23,523,24,530,null,null,null,null,0,222,null,211,{"$f":"COUNTIF($L$7:$L$500,N11)","v":34},{"$f":"O11/$Q$4","v":0.21249999999999999},{"$f":"IF(P11=0,0,(P11*((LOG(P11))/LOG(2))))","v":-0.47482386639786739},null,null,{"$f":"N11","v":211},{"$f":"COUNTIF(L7:L33,T11)","v":6},{"$f":"U11/(W4-U9)","v":0.22222222222222221},{"$f":"IF(V11=0,0,(V11*((LOG(V11))/LOG(2))))","v":-0.48220555587606945},null,{"$f":"N11","v":211},{"$f":"COUNTIF(L34:L59,Y11)","v":5},{"$f":"Z11/(AB4-Z9)","v":0.19230769230769232},{"$f":"IF(AA11=0,0,(AA11*((LOG(AA11))/LOG(2))))","v":-0.45740608139494804},null,{"$f":"N11","v":211},{"$f":"COUNTIF(L60:L86,AD11)","v":6},{"$f":"AE11/(AG4-AE9)","v":0.23076923076923078},{"$f":"IF(AF11=0,0,(AF11*((LOG(AF11))/LOG(2))))","v":-0.48818705017383146},null,{"$f":"N11","v":211},{"$f":"COUNTIF(L87:L113,AI11)","v":4},{"$f":"AJ11/(AL4-AJ9)","v":0.14814814814814814},{"$f":"IF(AK11=0,0,(AK11*((LOG(AK11))/LOG(2))))","v":-0.40813148180199532},null,{"$f":"N11","v":211},{"$f":"COUNTIF(L114:L139,AN11)","v":6},{"$f":"AO11/(AQ4-AO9)","v":0.23076923076923078},{"$f":"IF(AP11=0,0,(AP11*((LOG(AP11))/LOG(2))))","v":-0.48818705017383146},null,{"$f":"N11","v":211},{"$f":"COUNTIF(L140:L166,AS11)","v":7},{"$f":"AT11/(AV4-AT9)","v":0.26923076923076922},{"$f":"IF(AU11=0,0,(AU11*((LOG(AU11))/LOG(2))))","v":-0.50967667586863141}]
[22,627,23,640,24,647,null,null,null,null,0,222,null,212,{"$f":"COUNTIF($L$7:$L$500,N12)","v":6},{"$f":"O12/$Q$4","v":3.7499999999999999E-2},{"$f":"IF(P12=0,0,(P12*((LOG(P12))/LOG(2))))","v":-0.17763620978123273},null,null,{"$f":"N12","v":212},{"$f":"COUNTIF(L7:L33,T12)","v":1},{"$f":"U12/(W4-U9)","v":3.7037037037037035E-2},{"$f":"IF(V12=0,0,(V12*((LOG(V12))/LOG(2))))","v":-0.1761069445245729},null,{"$f":"N12","v":212},{"$f":"COUNTIF(L34:L59,Y12)","v":3},{"$f":"Z12/(AB4-Z9)","v":0.11538461538461539},{"$f":"IF(AA12=0,0,(AA12*((LOG(AA12))/LOG(2))))","v":-0.35947814047153104},null,{"$f":"N12","v":212},{"$f":"COUNTIF(L60:L86,AD12)","v":2},{"$f":"AE12/(AG4-AE9)","v":7.6923076923076927E-2},{"$f":"IF(AF12=0,0,(AF12*((LOG(AF12))/LOG(2))))","v":-0.28464920908777636},null,{"$f":"N12","v":212},{"$f":"COUNTIF(L87:L113,AI12)","v":0},{"$f":"AJ12/(AL4-AJ9)","v":0},{"$f":"IF(AK12=0,0,(AK12*((LOG(AK12))/LOG(2))))","v":0},null,{"$f":"N12","v":212},{"$f":"COUNTIF(L114:L139,AN12)","v":0},{"$f":"AO12/(AQ4-AO9)","v":0},{"$f":"IF(AP12=0,0,(AP12*((LOG(AP12))/LOG(2))))","v":0},null,{"$f":"N12","v":212},{"$f":"COUNTIF(L140:L166,AS12)","v":0},{"$f":"AT12/(AV4-AT9)","v":0},{"$f":"IF(AU12=0,0,(AU12*((LOG(AU12))/LOG(2))))","v":0}]
[22,744,23,753,24,758,null,null,null,null,0,222,null,221,{"$f":"COUNTIF($L$7:$L$500,N13)","v":14},{"$f":"O13/$Q$4","v":8.7499999999999994E-2},{"$f":"IF(P13=0,0,(P13*((LOG(P13))/LOG(2))))","v":-0.30752515262260383},null,null,{"$f":"N13","v":221},{"$f":"COUNTIF(L7:L33,T13)","v":2},{"$f":"U13/(W4-U9)","v":7.407407407407407E-2},{"$f":"IF(V13=0,0,(V13*((LOG(V13))/LOG(2))))","v":-0.27813981497507173},null,{"$f":"N13","v":221},{"$f":"COUNTIF(L34:L59,Y13)","v":0},{"$f":"Z13/(AB4-Z9)","v":0},{"$f":"IF(AA13=0,0,(AA13*((LOG(AA13))/LOG(2))))","v":0},null,{"$f":"N13","v":221},{"$f":"COUNTIF(L60:L86,AD13)","v":0},{"$f":"AE13/(AG4-AE9)","v":0},{"$f":"IF(AF13=0,0,(AF13*((LOG(AF13))/LOG(2))))","v":0},null,{"$f":"N13","v":221},{"$f":"COUNTIF(L87:L113,AI13)","v":0},{"$f":"AJ13/(AL4-AJ9)","v":0},{"$f":"IF(AK13=0,0,(AK13*((LOG(AK13))/LOG(2))))","v":0},null,{"$f":"N13","v":221},{"$f":"COUNTIF(L114:L139,AN13)","v":4},{"$f":"AO13/(AQ4-AO9)","v":0.15384615384615385},{"$f":"IF(AP13=0,0,(AP13*((LOG(AP13))/LOG(2))))","v":-0.4154522643293988},null,{"$f":"N13","v":221},{"$f":"COUNTIF(L140:L166,AS13)","v":8},{"$f":"AT13/(AV4-AT9)","v":0.30769230769230771},{"$f":"IF(AU13=0,0,(AU13*((LOG(AU13))/LOG(2))))","v":-0.52321222096648989}]
[22,853,23,859,13,868,null,null,null,null,0,221,null,222,{"$f":"COUNTIF($L$7:$L$500,N14)","v":36},{"$f":"O14/$Q$4","v":0.22500000000000001},{"$f":"IF(P14=0,0,(P14*((LOG(P14))/LOG(2))))","v":-0.48420069602513627},null,null,{"$f":"N14","v":222},{"$f":"COUNTIF(L7:L33,T14)","v":10},{"$f":"U14/(W4-U9)","v":0.37037037037037035},{"$f":"IF(V14=0,0,(V14*((LOG(V14))/LOG(2))))","v":-0.53072570639855787},null,{"$f":"N14","v":222},{"$f":"COUNTIF(L34:L59,Y14)","v":6},{"$f":"Z14/(AB4-Z9)","v":0.23076923076923078},{"$f":"IF(AA14=0,0,(AA14*((LOG(AA14))/LOG(2))))","v":-0.48818705017383146},null,{"$f":"N14","v":222},{"$f":"COUNTIF(L60:L86,AD14)","v":1},{"$f":"AE14/(AG4-AE9)","v":3.8461538461538464E-2},{"$f":"IF(AF14=0,0,(AF14*((LOG(AF14))/LOG(2))))","v":-0.18078614300542661},null,{"$f":"N14","v":222},{"$f":"COUNTIF(L87:L113,AI14)","v":8},{"$f":"AJ14/(AL4-AJ9)","v":0.29629629629629628},{"$f":"IF(AK14=0,0,(AK14*((LOG(AK14))/LOG(2))))","v":-0.51996666730769436},null,{"$f":"N14","v":222},{"$f":"COUNTIF(L114:L139,AN14)","v":6},{"$f":"AO14/(AQ4-AO9)","v":0.23076923076923078},{"$f":"IF(AP14=0,0,(AP14*((LOG(AP14))/LOG(2))))","v":-0.48818705017383146},null,{"$f":"N14","v":222},{"$f":"COUNTIF(L140:L166,AS14)","v":5},{"$f":"AT14/(AV4-AT9)","v":0.19230769230769232},{"$f":"IF(AU14=0,0,(AU14*((LOG(AU14))/LOG(2))))","v":-0.45740608139494804}]
[22,1202,14,1214,13,1219,null,null,null,null,0,211,null,null,null,{"$f":"SUM(P7:P14)","v":1},{"$f":"-SUM(Q7:Q14)","v":2.5579126327953512},null,null,null,null,{"$f":"SUM(V7:V14)","v":1},{"$f":"-SUM(W7:W14)","v":2.1482008204003651},null,null,null,{"$f":"SUM(AA7:AA14)","v":1},{"$f":"-SUM(AB7:AB14)","v":2.5374077582361885},null,null,null,{"$f":"SUM(AF7:AF14)","v":0.99999999999999989},{"$f":"-SUM(AG7:AG14)","v":1.8999495676359617},null,null,null,{"$f":"SUM(AK7:AK14)","v":1},{"$f":"-SUM(AL7:AL14)","v":1.9023115759170286},null,null,null,{"$f":"SUM(AP7:AP14)","v":1},{"$f":"-SUM(AQ7:AQ14)","v":2.3066385274669576},null,null,null,{"$f":"SUM(AU7:AU14)","v":1},{"$f":"-SUM(AV7:AV14)","v":2.1903964516472443}]
[22,1317,23,1324,24,1329,null,null,null,null,0,222,null,null,null,"U=",{"$f":"Q15/(LOG(Q4)/LOG(2))","v":0.34934959748941669},null,null,null,null,"U1=",{"$f":"W15/(LOG(W4)/LOG(2))","v":0.45178793807906836},null,null,null,"U2=",{"$f":"AB15/(LOG(AB4)/LOG(2))","v":0.53982348682043535},null,null,null,"U3=",{"$f":"AG15/(LOG(AG4)/LOG(2))","v":0.39957823750225152},null,null,null,"U4=",{"$f":"AL15/(LOG(AL4)/LOG(2))","v":0.4000749912698206},null,null,null,"U5=",{"$f":"AQ15/(LOG(AQ4)/LOG(2))","v":0.49072824369273615},null,null,null,"U6=",{"$f":"AV15/(LOG(AV4)/LOG(2))","v":0.46066209782053025}]
[11,1427,12,1432,13,1438,null,null,null,null,0,111]
[22,1563,23,1573,13,1583,null,null,null,null,0,221]
[22,1679,23,1683,24,1688,null,null,null,null,0,222,null,"Total Target Seq"]
[11,1783,12,1787,13,1794,null,null,null,null,0,111,null,{"$f":"COUNTIF(L7:L166,G3)","v":2},null,27,26,27,27,26,27]
[11,1892,12,1898,13,1905,null,null,null,null,0,111,null,null,null,"% of reinforcement given in 6 equal intervals based on number of trials "]
[22,2005,23,2010,24,2017,null,null,null,null,0,222,null,null,null,"%_1","%_2","%_3","%_4","%_5","%_6"]
[22,2114,23,2124,24,2134,null,null,null,null,0,222,null,null,"target sequence",{"$f":"$G$3","v":121},{"$f":"$G$3","v":121},{"$f":"$G$3","v":121},{"$f":"$G$3","v":121},{"$f":"$G$3","v":121},{"$f":"$G$3","v":121}]
[22,2231,14,2240,13,2248,null,null,null,null,0,211,null,null,"total reinforcement",{"$f":"U9","v":0},{"$f":"Z9","v":0},{"$f":"AE9","v":1},{"$f":"AJ9","v":0},{"$f":"AO9","v":0},{"$f":"AT9","v":1}]
[11,2349,12,2354,13,2360,null,null,null,null,0,111,null,null,"% target"]
[22,2457,23,2462,24,2467,null,null,null,null,0,222,null,null,"CCRF"]
[22,2693,14,2735,13,2740,null,null,null,null,0,211,null,null,"% CCRf"]
[11,2837,12,2841,13,2846,null,null,null,null,0,111,null,null,"average response rate",{"$f":"F33/P20","v":126.48148148148148},{"$f":"(F59-F33)/Q20","v":153.53846153846155},{"$f":"(F86-F59)/R20","v":165},{"$f":"(F113-F86)/S20","v":143.92592592592592},{"$f":"(F139-F113)/T20","v":146.34615384615384},{"$f":"(F166-F139)/U20","v":162.2962962962963}]
[11,2944,21,2957,22,2961,null,null,null,null,0,122]
[22,2969,14,2984,13,2989,null,null,null,null,0,211]
[11,3168,12,3172,13,3181,null,null,null,null,0,111]
[22,3279,23,3284,24,3296,null,null,null,null,0,222]
[22,3400,14,3409,13,3415,null,null,null,null,0,211]
[11,3534,12,3545,24,3558,null,null,null,null,0,112]
[22,3838,23,3843,24,3848,null,null,null,null,0,222]
[11,3947,21,3962,22,3966,null,null,null,null,0,122]
[11,4064,21,4081,22,4087,null,null,null,null,0,122]
[11,4186,12,4191,13,4197,null,null,null,null,0,111]
[22,4311,14,4322,13,4331,null,null,null,null,0,211]
[22,4439,23,4445,24,4450,null,null,null,null,0,222]
[11,4551,12,4554,24,4566,null,null,null,null,0,112]
[22,4664,23,4667,24,4672,null,null,null,null,0,222]
[22,4772,14,4789,24,4802,null,null,null,null,0,212]
[22,4898,23,4909,24,4914,null,null,null,null,0,222]
[22,5014,14,5026,13,5029,null,null,null,null,0,211]
[22,5126,23,5132,24,5139,null,null,null,null,0,222]
[11,5658,12,5663,13,5669,null,null,null,null,0,111]
[22,5766,23,5772,24,5779,null,null,null,null,0,222]
[11,5890,21,5908,22,5913,null,null,null,null,0,122]
[11,6033,12,6037,24,6051,null,null,null,null,0,112]
[11,6163,12,6173,24,6187,null,null,null,null,0,112]
[22,6322,14,6341,13,6346,null,null,null,null,0,211]
[11,6449,12,6454,24,6471,null,null,null,null,0,112]
[11,6733,12,6740,13,6747,null,null,null,null,0,111]
[22,6850,14,6861,13,6883,null,null,null,null,0,211]
[22,6980,14,7000,13,7009,null,null,null,null,0,211]
[22,7150,14,7159,24,7172,null,null,null,null,0,212]
[22,7269,14,7282,24,7297,null,null,null,null,0,212]
[11,7398,12,7400,13,7407,null,null,null,null,0,111]
[22,7509,14,7525,24,7536,null,null,null,null,0,212]
[11,7777,12,7784,13,7790,null,null,null,null,0,111]
[11,7893,21,7907,22,7912,null,null,null,null,0,122]
[22,8017,14,8025,13,8030,null,null,null,null,0,211]
[11,8126,12,8131,13,8136,null,null,null,null,0,111]
[11,8256,12,8261,13,8272,null,null,null,null,0,111]
[11,8518,12,8524,13,8530,null,null,null,null,0,111]
[22,8629,23,8639,24,8649,null,null,null,null,0,222]
[22,8752,14,8761,13,8770,null,null,null,null,0,211]
[22,8892,14,8915,13,8921,null,null,null,null,0,211]
[11,9085,12,9090,13,9097,null,null,null,null,0,111]
[11,9226,12,9236,13,9243,null,null,null,null,0,111]
[22,9345,14,9354,13,9358,null,null,null,null,0,211]
[22,9505,14,9513,13,9519,null,null,null,null,0,211]
[11,9638,12,9646,24,9659,null,null,null,null,0,112]
[11,9792,21,9804,22,9811,null,null,null,null,0,122]
[22,9915,14,9935,24,9948,null,null,null,null,0,212]
[11,10065,12,10070,13,10077,null,null,null,null,0,111]
[11,10204,12,10219,13,10222,null,null,null,null,0,111]
[11,10371,21,10398,11,10407,null,null,null,null,0,121]
[11,10661,12,10665,13,10672,null,null,null,null,0,111]
[11,10771,12,10775,13,10780,null,null,null,null,0,111]
[11,11169,12,11174,13,11180,null,null,null,null,0,111]
[22,11280,14,11290,13,11299,null,null,null,null,0,211]
[11,11425,12,11438,13,11446,null,null,null,null,0,111]
[11,11612,12,11646,13,11650,null,null,null,null,0,111]
[11,11851,12,11856,13,11862,null,null,null,null,0,111]
[11,11978,12,11985,24,11998,null,null,null,null,0,112]
[11,12208,12,12213,13,12220,null,null,null,null,0,111]
[11,12324,12,12328,13,12334,null,null,null,null,0,111]
[22,12432,14,12454,13,12458,null,null,null,null,0,211]
[22,12566,23,12578,24,12584,null,null,null,null,0,222]
[22,12841,23,12846,24,12850,null,null,null,null,0,222]
[22,12948,14,12962,13,12966,null,null,null,null,0,211]
[11,13074,12,13084,24,13095,null,null,null,null,0,112]
[11,13191,12,13196,13,13206,null,null,null,null,0,111]
[11,13310,12,13315,13,13321,null,null,null,null,0,111]
[22,13421,23,13431,24,13437,null,null,null,null,0,222]
[22,13535,23,13547,24,13558,null,null,null,null,0,222]
[11,13668,12,13672,13,13681,null,null,null,null,0,111]
[11,13773,21,13777,22,13782,null,null,null,null,0,122]
[22,13883,23,13902,24,13909,null,null,null,null,0,222]
[11,14172,12,14177,13,14182,null,null,null,null,0,111]
[22,14277,23,14287,24,14296,null,null,null,null,0,222]
[22,14394,23,14400,24,14405,null,null,null,null,0,222]
[11,14586,12,14591,13,14598,null,null,null,null,0,111]
[11,14693,12,14697,13,14703,null,null,null,null,0,111]
[22,14802,23,14808,24,14820,null,null,null,null,0,222]
[11,15007,12,15038,13,15043,null,null,null,null,0,111]
[22,15138,14,15149,13,15153,null,null,null,null,0,211]
[11,15310,12,15316,13,15323,null,null,null,null,0,111]
[22,15430,14,15446,13,15452,null,null,null,null,0,211]
[11,15626,12,15630,13,15638,null,null,null,null,0,111]
[11,15739,12,15743,13,15748,null,null,null,null,0,111]
[11,15882,12,15891,24,15908,null,null,null,null,0,112]
[22,16012,14,16028,13,16032,null,null,null,null,0,211]
[11,16131,12,16139,13,16145,null,null,null,null,0,111]
[11,16266,12,16299,13,16304,null,null,null,null,0,111]
[11,16499,12,16503,13,16510,null,null,null,null,0,111]
[22,16616,14,16625,13,16629,null,null,null,null,0,211]
[22,16726,23,16733,24,16748,null,null,null,null,0,222]
[11,16848,12,16854,24,16871,null,null,null,null,0,112]
[22,16972,23,16978,24,16990,null,null,null,null,0,222]
[22,17108,23,17114,13,17130,null,null,null,null,0,221]
[22,17446,14,17462,13,17467,null,null,null,null,0,211]
[22,17563,23,17579,13,17595,null,null,null,null,0,221]
[11,17736,12,17745,24,17755,null,null,null,null,0,112]
[11,17869,12,17877,24,17892,null,null,null,null,0,112]
[11,18005,12,18008,13,18017,null,null,null,null,0,111]
[22,18119,14,18132,13,18136,null,null,null,null,0,211]
[22,18237,14,18249,13,18255,null,null,null,null,0,211]
[22,18382,23,18387,24,18393,null,null,null,null,0,222]
[11,18491,12,18496,24,18510,null,null,null,null,0,112]
[11,18698,12,18705,13,18717,null,null,null,null,0,111]
[22,18813,23,18820,24,18824,null,null,null,null,0,222]
[22,18926,14,18941,13,18944,null,null,null,null,0,211]
[22,19134,23,19139,13,19201,null,null,null,null,0,221]
[22,19303,23,19307,13,19318,null,null,null,null,0,221]
[22,19414,23,19431,24,19433,null,null,null,null,0,222]
[22,19531,23,19544,24,19553,null,null,null,null,0,222]
[11,19951,12,19956,13,19963,null,null,null,null,0,111]
[22,20084,14,20093,13,20099,null,null,null,null,0,211]
[22,20204,14,20216,13,20230,null,null,null,null,0,211]
[22,20327,23,20337,24,20343,null,null,null,null,0,222]
[11,20456,12,20470,24,20491,null,null,null,null,0,112]
[22,20590,23,20601,13,20613,null,null,null,null,0,221]
[22,20749,14,20764,13,20769,null,null,null,null,0,211]
[22,20866,23,20873,13,20882,null,null,null,null,0,221]
[22,20979,23,20987,13,21001,null,null,null,null,0,221]
[11,21272,12,21276,13,21282,null,null,null,null,0,111]
[22,21559,14,21614,13,21618,null,null,null,null,0,211]
[11,21727,12,21734,13,21740,null,null,null,null,0,111]
[11,21863,21,21889,11,21899,null,null,null,null,0,121]
[22,22232,23,22237,13,22249,null,null,null,null,0,221]
[22,22345,23,22353,24,22363,null,null,null,null,0,222]
[22,22461,14,22480,13,22485,null,null,null,null,0,211]
[22,22582,23,22587,13,22601,null,null,null,null,0,221]
[22,22711,23,22722,13,22739,null,null,null,null,0,221]
[22,22838,23,22845,24,22850,null,null,null,null,0,222]
[11,22944,12,22950,13,22954,null,null,null,null,0,111]
[22,23213,14,23222,13,23227,null,null,null,null,0,211]
[22,23323,23,23328,13,23340,null,null,null,null,0,221]
[22,23443,14,23459,13,23468,null,null,null,null,0,211]
[22,23564,23,23569,13,23584,null,null,null,null,0,221]
[22,23696,23,23702,24,23709,null,null,null,null,0,222]
[22,23811,23,23819,24,23824,null,null,null,null,0,222]
[11,23918,12,23924,24,23935,null,null,null,null,null,112]

{"sheet":"!M228A4I.sha","index":21,"n_rows":175,"n_cols":48,"rows_kept":175,"cut":false,"hidden":false,"merged":[[4,39,4,42],[5,39,5,40],[4,44,4,47],[5,44,5,45],[4,24,4,27],[5,24,5,25],[4,29,4,32],[5,29,5,30],[4,34,4,37],[5,34,5,35],[1,1,1,2],[5,13,5,14],[18,13,18,14],[19,13,19,14],[4,19,4,22],[5,19,5,20]]}
["Report for:!M228A4I.sha"]
["Date:","<date>"]
["Hen:","<hen>",null,null,null,"Correct Sequence",{"$f":"Start!J2","v":121},null,null,null,null,null,null,null,null,"Total Sequences in Data",{"$f":"4994-COUNTBLANK(L7:L5000)","v":169},null,null,null,null,"Total Sequences in Block Data",{"$f":"COUNTA(L7:L34)","v":28},null,null,null,"Total Sequences in Block Data",{"$f":"COUNTA(L35:L62)","v":28},null,null,null,"Total Sequences in Block Data",{"$f":"COUNTA(L63:L91)","v":29},null,null,null,"Total Sequences in Block Data",{"$f":"COUNTA(L92:L119)","v":28},null,null,null,"Total Sequences in Block Data",{"$f":"COUNTA(L120:L147)","v":28},null,null,null,"Total Sequences in Block Data",{"$f":"COUNTA(L148:L175)","v":28}]
[null,null,null,null,null,null,null,null,null,null,null,null,null,null,null,"Total Sequences in Summary",{"$f":"SUM(O7:O14)","v":169},null,null,null,null,"Total Sequences in Block Summary",{"$f":"SUM(U7:U14)","v":28},null,null,null,"Total Sequences in Block Summary",{"$f":"SUM(Z7:Z14)","v":28},null,null,null,"Total Sequences in Block Summary",{"$f":"SUM(AE7:AE14)","v":29},null,null,null,"Total Sequences in Block Summary",{"$f":"SUM(AJ7:AJ14)","v":28},null,null,null,"Total Sequences in Block Summary",{"$f":"SUM(AO7:AO14)","v":28},null,null,null,"Total Sequences in Block Summary",{"$f":"SUM(AT7:AT14)","v":28}]
[null,null,null,null,null,null,null,null,null,null,null,null,null,null,null,null,null,null,null,"Block 1",null,null,null,null,"Block 2",null,null,null,null,"Block 3",null,null,null,null,"Block 4",null,null,null,null,"Block 5",null,null,null,null,"Block 6"]
["Sequence\nComponent\n1","Time\n1","Sequence\nComponent\n2","Time\n2","Sequence\nComponent\n3","Time\n3","Sequence\nComponent\n4","Time\n4","Sequence\nComponent\n5","Time\n5","Correct?\n0=No 1=Yes","Sequence",null,"Frequency",null,"Relative Frequency","Variability",null,null,"Frequency",null,"Relative Frequency","Variability",null,"Frequency",null,"Relative Frequency","Variability",null,"Frequency",null,"Relative Frequency","Variability",null,"Frequency",null,"Relative Frequency","Variability",null,"Frequency",null,"Relative Frequency","Variability",null,"Frequency",null,"Relative Frequency","Variability"]
[22,34,23,38,24,43,null,null,null,null,0,222,null,111,{"$f":"COUNTIF($L$7:$L$500,N7)","v":39},{"$f":"O7/$Q$4","v":0.23076923076923078},{"$f":"IF(P7=0,0,(P7*((LOG(P7))/LOG(2))))","v":-0.48818705017383146},null,null,{"$f":"N7","v":111},{"$f":"COUNTIF(L7:L34,T7)","v":5},{"$f":"U7/(W4-U9)","v":0.17857142857142858},{"$f":"IF(V7=0,0,(V7*((LOG(V7))/LOG(2))))","v":-0.44382621913754317},null,{"$f":"N7","v":111},{"$f":"COUNTIF(L35:L62,Y7)","v":3},{"$f":"Z7/(AB4-Z9)","v":0.10714285714285714},{"$f":"IF(AA7=0,0,(AA7*((LOG(AA7))/LOG(2))))","v":-0.34525633085747659},null,{"$f":"N7","v":111},{"$f":"COUNTIF(L63:L91,AD7)","v":4},{"$f":"AE7/(AG4-AE9)","v":0.13793103448275862},{"$f":"IF(AF7=0,0,(AF7*((LOG(AF7))/LOG(2))))","v":-0.39420427519000989},null,{"$f":"N7","v":111},{"$f":"COUNTIF(L92:L119,AI7)","v":9},{"$f":"AJ7/(AL4-AJ9)","v":0.33333333333333331},{"$f":"IF(AK7=0,0,(AK7*((LOG(AK7))/LOG(2))))","v":-0.52832083357371862},null,{"$f":"N7","v":111},{"$f":"COUNTIF(L120:L147,AN7)","v":9},{"$f":"AO7/(AQ4-AO9)","v":0.32142857142857145},{"$f":"IF(AP7=0,0,(AP7*((LOG(AP7))/LOG(2))))","v":-0.5263167601977724},null,{"$f":"N7","v":111},{"$f":"COUNTIF(L148:L175,AS7)","v":9},{"$f":"AT7/(AV4-AT9)","v":0.32142857142857145},{"$f":"IF(AU7=0,0,(AU7*((LOG(AU7))/LOG(2))))","v":-0.5263167601977724}]
[11,139,21,154,22,163,null,null,null,null,0,122,null,112,{"$f":"COUNTIF($L$7:$L$500,N8)","v":18},{"$f":"O8/$Q$4","v":0.10650887573964497},{"$f":"IF(P8=0,0,(P8*((LOG(P8))/LOG(2))))","v":-0.34412532442081473},null,null,{"$f":"N8","v":112},{"$f":"COUNTIF(L7:L34,T8)","v":3},{"$f":"U8/(W4-U9)","v":0.10714285714285714},{"$f":"IF(V8=0,0,(V8*((LOG(V8))/LOG(2))))","v":-0.34525633085747659},null,{"$f":"N8","v":112},{"$f":"COUNTIF(L35:L62,Y8)","v":3},{"$f":"Z8/(AB4-Z9)","v":0.10714285714285714},{"$f":"IF(AA8=0,0,(AA8*((LOG(AA8))/LOG(2))))","v":-0.34525633085747659},null,{"$f":"N8","v":112},{"$f":"COUNTIF(L63:L91,AD8)","v":3},{"$f":"AE8/(AG4-AE9)","v":0.10344827586206896},{"$f":"IF(AF8=0,0,(AF8*((LOG(AF8))/LOG(2))))","v":-0.33858812011100858},null,{"$f":"N8","v":112},{"$f":"COUNTIF(L92:L119,AI8)","v":3},{"$f":"AJ8/(AL4-AJ9)","v":0.1111111111111111},{"$f":"IF(AK8=0,0,(AK8*((LOG(AK8))/LOG(2))))","v":-0.3522138890491458},null,{"$f":"N8","v":112},{"$f":"COUNTIF(L120:L147,AN8)","v":4},{"$f":"AO8/(AQ4-AO9)","v":0.14285714285714285},{"$f":"IF(AP8=0,0,(AP8*((LOG(AP8))/LOG(2))))","v":-0.40105070315108626},null,{"$f":"N8","v":112},{"$f":"COUNTIF(L148:L175,AS8)","v":2},{"$f":"AT8/(AV4-AT9)","v":7.1428571428571425E-2},{"$f":"IF(AU8=0,0,(AU8*((LOG(AU8))/LOG(2))))","v":-0.27195392300411453}]
[11,261,12,266,13,272,null,null,null,null,0,111,null,121,{"$f":"COUNTIF($L$7:$L$500,N9)","v":1},{"$f":"O9/$Q$4","v":5.9171597633136093E-3},{"$f":"IF(P9=0,0,(P9*((LOG(P9))/LOG(2))))","v":-4.3792186013504049E-2},null,null,{"$f":"N9","v":121},{"$f":"COUNTIF(L7:L34,T9)","v":0},null,null,null,{"$f":"N9","v":121},{"$f":"COUNTIF(L35:L62,Y9)","v":0},null,null,null,{"$f":"N9","v":121},{"$f":"COUNTIF(L63:L91,AD9)","v":0},null,null,null,{"$f":"N9","v":121},{"$f":"COUNTIF(L92:L119,AI9)","v":1},null,null,null,{"$f":"N9","v":121},{"$f":"COUNTIF(L120:L147,AN9)","v":0},null,null,null,{"$f":"N9","v":121},{"$f":"COUNTIF(L148:L175,AS9)","v":0}]
[22,369,23,375,13,387,null,null,null,null,0,221,null,122,{"$f":"COUNTIF($L$7:$L$500,N10)","v":13},{"$f":"O10/$Q$4","v":7.6923076923076927E-2},{"$f":"IF(P10=0,0,(P10*((LOG(P10))/LOG(2))))","v":-0.28464920908777636},null,null,{"$f":"N10","v":122},{"$f":"COUNTIF(L7:L34,T10)","v":5},{"$f":"U10/(W4-U9)","v":0.17857142857142858},{"$f":"IF(V10=0,0,(V10*((LOG(V10))/LOG(2))))","v":-0.44382621913754317},null,{"$f":"N10","v":122},{"$f":"COUNTIF(L35:L62,Y10)","v":1},{"$f":"Z10/(AB4-Z9)","v":3.5714285714285712E-2},{"$f":"IF(AA10=0,0,(AA10*((LOG(AA10))/LOG(2))))","v":-0.17169124721634299},null,{"$f":"N10","v":122},{"$f":"COUNTIF(L63:L91,AD10)","v":2},{"$f":"AE10/(AG4-AE9)","v":6.8965517241379309E-2},{"$f":"IF(AF10=0,0,(AF10*((LOG(AF10))/LOG(2))))","v":-0.26606765483638428},null,{"$f":"N10","v":122},{"$f":"COUNTIF(L92:L119,AI10)","v":1},{"$f":"AJ10/(AL4-AJ9)","v":3.7037037037037035E-2},{"$f":"IF(AK10=0,0,(AK10*((LOG(AK10))/LOG(2))))","v":-0.1761069445245729},null,{"$f":"N10","v":122},{"$f":"COUNTIF(L120:L147,AN10)","v":2},{"$f":"AO10/(AQ4-AO9)","v":7.1428571428571425E-2},{"$f":"IF(AP10=0,0,(AP10*((LOG(AP10))/LOG(2))))","v":-0.27195392300411453},null,{"$f":"N10","v":122},{"$f":"COUNTIF(L148:L175,AS10)","v":2},{"$f":"AT10/(AV4-AT9)","v":7.1428571428571425E-2},{"$f":"IF(AU10=0,0,(AU10*((LOG(AU10))/LOG(2))))","v":-0.27195392300411453}]
[22,484,23,489,13,501,null,null,null,null,0,221,null,211,{"$f":"COUNTIF($L$7:$L$500,N11)","v":30},{"$f":"O11/$Q$4","v":0.17751479289940827},{"$f":"IF(P11=0,0,(P11*((LOG(P11))/LOG(2))))","v":-0.44271991254562115},null,null,{"$f":"N11","v":211},{"$f":"COUNTIF(L7:L34,T11)","v":2},{"$f":"U11/(W4-U9)","v":7.1428571428571425E-2},{"$f":"IF(V11=0,0,(V11*((LOG(V11))/LOG(2))))","v":-0.27195392300411453},null,{"$f":"N11","v":211},{"$f":"COUNTIF(L35:L62,Y11)","v":4},{"$f":"Z11/(AB4-Z9)","v":0.14285714285714285},{"$f":"IF(AA11=0,0,(AA11*((LOG(AA11))/LOG(2))))","v":-0.40105070315108626},null,{"$f":"N11","v":211},{"$f":"COUNTIF(L63:L91,AD11)","v":5},{"$f":"AE11/(AG4-AE9)","v":0.17241379310344829},{"$f":"IF(AF11=0,0,(AF11*((LOG(AF11))/LOG(2))))","v":-0.43725050004141547},null,{"$f":"N11","v":211},{"$f":"COUNTIF(L92:L119,AI11)","v":6},{"$f":"AJ11/(AL4-AJ9)","v":0.22222222222222221},{"$f":"IF(AK11=0,0,(AK11*((LOG(AK11))/LOG(2))))","v":-0.48220555587606945},null,{"$f":"N11","v":211},{"$f":"COUNTIF(L120:L147,AN11)","v":10},{"$f":"AO11/(AQ4-AO9)","v":0.35714285714285715},{"$f":"IF(AP11=0,0,(AP11*((LOG(AP11))/LOG(2))))","v":-0.53050958113222924},null,{"$f":"N11","v":211},{"$f":"COUNTIF(L148:L175,AS11)","v":3},{"$f":"AT11/(AV4-AT9)","v":0.10714285714285714},{"$f":"IF(AU11=0,0,(AU11*((LOG(AU11))/LOG(2))))","v":-0.34525633085747659}]
[22,619,14,628,13,632,null,null,null,null,0,211,null,212,{"$f":"COUNTIF($L$7:$L$500,N12)","v":11},{"$f":"O12/$Q$4","v":6.5088757396449703E-2},{"$f":"IF(P12=0,0,(P12*((LOG(P12))/LOG(2))))","v":-0.25654394079345416},null,null,{"$f":"N12","v":212},{"$f":"COUNTIF(L7:L34,T12)","v":2},{"$f":"U12/(W4-U9)","v":7.1428571428571425E-2},{"$f":"IF(V12=0,0,(V12*((LOG(V12))/LOG(2))))","v":-0.27195392300411453},null,{"$f":"N12","v":212},{"$f":"COUNTIF(L35:L62,Y12)","v":2},{"$f":"Z12/(AB4-Z9)","v":7.1428571428571425E-2},{"$f":"IF(AA12=0,0,(AA12*((LOG(AA12))/LOG(2))))","v":-0.27195392300411453},null,{"$f":"N12","v":212},{"$f":"COUNTIF(L63:L91,AD12)","v":3},{"$f":"AE12/(AG4-AE9)","v":0.10344827586206896},{"$f":"IF(AF12=0,0,(AF12*((LOG(AF12))/LOG(2))))","v":-0.33858812011100858},null,{"$f":"N12","v":212},{"$f":"COUNTIF(L92:L119,AI12)","v":1},{"$f":"AJ12/(AL4-AJ9)","v":3.7037037037037035E-2},{"$f":"IF(AK12=0,0,(AK12*((LOG(AK12))/LOG(2))))","v":-0.1761069445245729},null,{"$f":"N12","v":212},{"$f":"COUNTIF(L120:L147,AN12)","v":0},{"$f":"AO12/(AQ4-AO9)","v":0},{"$f":"IF(AP12=0,0,(AP12*((LOG(AP12))/LOG(2))))","v":0},null,{"$f":"N12","v":212},{"$f":"COUNTIF(L148:L175,AS12)","v":3},{"$f":"AT12/(AV4-AT9)","v":0.10714285714285714},{"$f":"IF(AU12=0,0,(AU12*((LOG(AU12))/LOG(2))))","v":-0.34525633085747659}]
[22,733,23,737,24,742,null,null,null,null,0,222,null,221,{"$f":"COUNTIF($L$7:$L$500,N13)","v":11},{"$f":"O13/$Q$4","v":6.5088757396449703E-2},{"$f":"IF(P13=0,0,(P13*((LOG(P13))/LOG(2))))","v":-0.25654394079345416},null,null,{"$f":"N13","v":221},{"$f":"COUNTIF(L7:L34,T13)","v":2},{"$f":"U13/(W4-U9)","v":7.1428571428571425E-2},{"$f":"IF(V13=0,0,(V13*((LOG(V13))/LOG(2))))","v":-0.27195392300411453},null,{"$f":"N13","v":221},{"$f":"COUNTIF(L35:L62,Y13)","v":1},{"$f":"Z13/(AB4-Z9)","v":3.5714285714285712E-2},{"$f":"IF(AA13=0,0,(AA13*((LOG(AA13))/LOG(2))))","v":-0.17169124721634299},null,{"$f":"N13","v":221},{"$f":"COUNTIF(L63:L91,AD13)","v":1},{"$f":"AE13/(AG4-AE9)","v":3.4482758620689655E-2},{"$f":"IF(AF13=0,0,(AF13*((LOG(AF13))/LOG(2))))","v":-0.16751658603888178},null,{"$f":"N13","v":221},{"$f":"COUNTIF(L92:L119,AI13)","v":2},{"$f":"AJ13/(AL4-AJ9)","v":7.407407407407407E-2},{"$f":"IF(AK13=0,0,(AK13*((LOG(AK13))/LOG(2))))","v":-0.27813981497507173},null,{"$f":"N13","v":221},{"$f":"COUNTIF(L120:L147,AN13)","v":3},{"$f":"AO13/(AQ4-AO9)","v":0.10714285714285714},{"$f":"IF(AP13=0,0,(AP13*((LOG(AP13))/LOG(2))))","v":-0.34525633085747659},null,{"$f":"N13","v":221},{"$f":"COUNTIF(L148:L175,AS13)","v":2},{"$f":"AT13/(AV4-AT9)","v":7.1428571428571425E-2},{"$f":"IF(AU13=0,0,(AU13*((LOG(AU13))/LOG(2))))","v":-0.27195392300411453}]
[22,841,23,845,24,849,null,null,null,null,0,222,null,222,{"$f":"COUNTIF($L$7:$L$500,N14)","v":46},{"$f":"O14/$Q$4","v":0.27218934911242604},{"$f":"IF(P14=0,0,(P14*((LOG(P14))/LOG(2))))","v":-0.51098582301986917},null,null,{"$f":"N14","v":222},{"$f":"COUNTIF(L7:L34,T14)","v":9},{"$f":"U14/(W4-U9)","v":0.32142857142857145},{"$f":"IF(V14=0,0,(V14*((LOG(V14))/LOG(2))))","v":-0.5263167601977724},null,{"$f":"N14","v":222},{"$f":"COUNTIF(L35:L62,Y14)","v":14},{"$f":"Z14/(AB4-Z9)","v":0.5},{"$f":"IF(AA14=0,0,(AA14*((LOG(AA14))/LOG(2))))","v":-0.5},null,{"$f":"N14","v":222},{"$f":"COUNTIF(L63:L91,AD14)","v":11},{"$f":"AE14/(AG4-AE9)","v":0.37931034482758619},{"$f":"IF(AF14=0,0,(AF14*((LOG(AF14))/LOG(2))))","v":-0.53048424625493174},null,{"$f":"N14","v":222},{"$f":"COUNTIF(L92:L119,AI14)","v":5},{"$f":"AJ14/(AL4-AJ9)","v":0.18518518518518517},{"$f":"IF(AK14=0,0,(AK14*((LOG(AK14))/LOG(2))))","v":-0.45054803838446406},null,{"$f":"N14","v":222},{"$f":"COUNTIF(L120:L147,AN14)","v":0},{"$f":"AO14/(AQ4-AO9)","v":0},{"$f":"IF(AP14=0,0,(AP14*((LOG(AP14))/LOG(2))))","v":0},null,{"$f":"N14","v":222},{"$f":"COUNTIF(L148:L175,AS14)","v":7},{"$f":"AT14/(AV4-AT9)","v":0.25},{"$f":"IF(AU14=0,0,(AU14*((LOG(AU14))/LOG(2))))","v":-0.5}]
[22,945,23,952,24,960,null,null,null,null,0,222,null,null,null,{"$f":"SUM(P7:P14)","v":1},{"$f":"-SUM(Q7:Q14)","v":2.6275473868483257},null,null,null,null,{"$f":"SUM(V7:V14)","v":1},{"$f":"-SUM(W7:W14)","v":2.5750872983426789},null,null,null,{"$f":"SUM(AA7:AA14)","v":1},{"$f":"-SUM(AB7:AB14)","v":2.2068997823028402},null,null,null,{"$f":"SUM(AF7:AF14)","v":0.99999999999999989},{"$f":"-SUM(AG7:AG14)","v":2.4726995025836405},null,null,null,{"$f":"SUM(AK7:AK14)","v":1},{"$f":"-SUM(AL7:AL14)","v":2.4436420209076153},null,null,null,{"$f":"SUM(AP7:AP14)","v":0.99999999999999989},{"$f":"-SUM(AQ7:AQ14)","v":2.0750872983426789},null,null,null,{"$f":"SUM(AU7:AU14)","v":0.99999999999999989},{"$f":"-SUM(AV7:AV14)","v":2.5326911909250689}]
[22,1063,23,1070,24,1079,null,null,null,null,0,222,null,null,null,"U=",{"$f":"Q15/(LOG(Q4)/LOG(2))","v":0.35503177824610915},null,null,null,null,"U1=",{"$f":"W15/(LOG(W4)/LOG(2))","v":0.53565574834664209},null,null,null,"U2=",{"$f":"AB15/(LOG(AB4)/LOG(2))","v":0.45906737032810163},null,null,null,"U3=",{"$f":"AG15/(LOG(AG4)/LOG(2))","v":0.50899736023333431},null,null,null,"U4=",{"$f":"AL15/(LOG(AL4)/LOG(2))","v":0.50831321184451017},null,null,null,"U5=",{"$f":"AQ15/(LOG(AQ4)/LOG(2))","v":0.43164844950838732},null,null,null,"U6=",{"$f":"AV15/(LOG(AV4)/LOG(2))","v":0.52683673911911788}]
[11,1176,21,1191,22,1195,null,null,null,null,0,122]
[22,1355,14,1367,24,1381,null,null,null,null,0,212]
[22,1623,14,1634,13,1639,null,null,null,null,0,211,null,"Total Target Seq"]
[11,1738,12,1743,13,1749,null,null,null,null,0,111,null,{"$f":"COUNTIF(L7:L175,G3)","v":1},null,28,28,29,28,28,28]
[11,1849,21,1861,22,1868,null,null,null,null,0,122,null,null,null,"% of reinforcement given in 6 equal intervals based on number of trials "]
[22,1966,23,1971,24,1978,null,null,null,null,0,222,null,null,null,"%_1","%_2","%_3","%_4","%_5","%_6"]
[22,2076,23,2081,24,2085,null,null,null,null,0,222,null,null,"target sequence",{"$f":"$G$3","v":121},{"$f":"$G$3","v":121},{"$f":"$G$3","v":121},{"$f":"$G$3","v":121},{"$f":"$G$3","v":121},{"$f":"$G$3","v":121}]
[11,2180,12,2185,13,2193,null,null,null,null,0,111,null,null,"total reinforcement",{"$f":"U9","v":0},{"$f":"Z9","v":0},{"$f":"AE9","v":0},{"$f":"AJ9","v":1},{"$f":"AO9","v":0},{"$f":"AT9","v":0}]
[11,2293,21,2309,22,2317,null,null,null,null,0,122,null,null,"% target"]
[11,2413,12,2417,13,2422,null,null,null,null,0,111,null,null,"CCRF"]
[11,2519,21,2532,22,2536,null,null,null,null,0,122,null,null,"% CCRf"]
[11,2633,12,2637,24,2651,null,null,null,null,0,112,null,null,"average response rate",{"$f":"F34/P20","v":120.5},{"$f":"(F62-F34)/Q20","v":125.39285714285714},{"$f":"(F91-F62)/R20","v":135.10344827586206},{"$f":"(F119-F91)/S20","v":158.32142857142858},{"$f":"(F147-F119)/T20","v":168.14285714285714},{"$f":"(F175-F147)/U20","v":141.42857142857142}]
[22,2748,23,2759,24,2766,null,null,null,null,0,222]
[22,2866,23,2869,24,2875,null,null,null,null,0,222]
[11,3001,12,3008,13,3016,null,null,null,null,0,111]
[11,3114,12,3120,24,3133,null,null,null,null,0,112]
[22,3230,14,3246,24,3260,null,null,null,null,0,212]
[11,3356,12,3361,24,3374,null,null,null,null,0,112]
[22,3477,14,3488,13,3493,null,null,null,null,0,211]
[22,3590,23,3595,24,3599,null,null,null,null,0,222]
[11,3696,21,3710,22,3713,null,null,null,null,0,122]
[22,3816,14,3826,13,3831,null,null,null,null,0,211]
[11,3932,12,3938,13,3946,null,null,null,null,0,111]
[22,4053,23,4057,24,4063,null,null,null,null,0,222]
[11,4162,12,4166,13,4171,null,null,null,null,0,111]
[11,4371,12,4378,24,4395,null,null,null,null,0,112]
[11,4517,12,4521,24,4534,null,null,null,null,0,112]
[22,4746,14,4760,24,4774,null,null,null,null,0,212]
[22,4872,14,4884,13,4890,null,null,null,null,0,211]
[22,4989,23,4994,24,5002,null,null,null,null,0,222]
[22,5104,23,5107,24,5112,null,null,null,null,0,222]
[22,5211,23,5219,24,5224,null,null,null,null,0,222]
[22,5321,23,5326,24,5329,null,null,null,null,0,222]
[11,5449,12,5454,13,5460,null,null,null,null,0,111]
[22,5560,23,5590,24,5595,null,null,null,null,0,222]
[22,5692,23,5698,24,5703,null,null,null,null,0,222]
[22,5800,23,5809,24,5816,null,null,null,null,0,222]
[22,5913,23,5920,24,5931,null,null,null,null,0,222]
[22,6029,23,6038,24,6047,null,null,null,null,0,222]
[11,6156,12,6164,24,6177,null,null,null,null,0,112]
[22,6274,14,6289,24,6301,null,null,null,null,0,212]
[22,6397,23,6412,24,6419,null,null,null,null,0,222]
[22,6516,14,6527,13,6531,null,null,null,null,0,211]
[22,6628,23,6635,13,6650,null,null,null,null,0,221]
[22,6749,23,6756,24,6763,null,null,null,null,0,222]
[22,6861,23,6873,24,6885,null,null,null,null,0,222]
[22,6983,23,6994,24,6998,null,null,null,null,0,222]
[11,7100,12,7105,24,7119,null,null,null,null,0,112]
[22,7219,14,7228,13,7235,null,null,null,null,0,211]
[22,7332,23,7339,24,7342,null,null,null,null,0,222]
[22,7446,14,7462,24,7475,null,null,null,null,0,212]
[22,7585,14,7593,13,7600,null,null,null,null,0,211]
[22,7702,14,7714,24,7727,null,null,null,null,0,212]
[22,7823,14,7832,13,7837,null,null,null,null,0,211]
[22,7933,23,7938,24,7944,null,null,null,null,0,222]
[11,8211,12,8241,13,8247,null,null,null,null,0,111]
[22,8343,23,8348,24,8357,null,null,null,null,0,222]
[22,8457,14,8472,24,8485,null,null,null,null,0,212]
[22,8589,23,8596,24,8599,null,null,null,null,0,222]
[22,8694,23,8698,24,8702,null,null,null,null,0,222]
[22,8805,23,8812,24,8821,null,null,null,null,0,222]
[11,8924,12,8928,24,8940,null,null,null,null,0,112]
[11,9068,12,9073,13,9079,null,null,null,null,0,111]
[11,9197,21,9209,22,9213,null,null,null,null,0,122]
[22,9322,23,9353,24,9357,null,null,null,null,0,222]
[22,9454,14,9472,13,9487,null,null,null,null,0,211]
[11,9584,12,9588,24,9599,null,null,null,null,0,112]
[22,9697,23,9706,24,9708,null,null,null,null,0,222]
[11,9919,12,9962,13,9966,null,null,null,null,0,111]
[22,10061,23,10066,24,10074,null,null,null,null,0,222]
[22,10173,14,10182,13,10186,null,null,null,null,0,211]
[22,10290,23,10297,13,10311,null,null,null,null,0,221]
[11,10415,21,10426,22,10430,null,null,null,null,0,122]
[11,10672,12,10679,13,10687,null,null,null,null,0,111]
[22,10783,23,10796,24,10803,null,null,null,null,0,222]
[22,10909,23,10917,24,10925,null,null,null,null,0,222]
[22,11025,23,11049,24,11054,null,null,null,null,0,222]
[11,11162,12,11170,13,11173,null,null,null,null,0,111]
[22,11271,23,11277,24,11288,null,null,null,null,0,222]
[22,11444,14,11453,13,11457,null,null,null,null,0,211]
[22,11559,23,11565,13,11578,null,null,null,null,0,221]
[11,11706,21,11719,22,11722,null,null,null,null,0,122]
[11,11922,12,11927,13,11934,null,null,null,null,0,111]
[11,12081,12,12125,13,12129,null,null,null,null,0,111]
[11,12398,12,12402,24,12418,null,null,null,null,0,112]
[11,12519,12,12524,24,12538,null,null,null,null,0,112]
[22,12718,14,12728,13,12735,null,null,null,null,0,211]
[22,12832,23,12838,24,12845,null,null,null,null,0,222]
[22,12986,23,12993,13,13003,null,null,null,null,0,221]
[22,13103,23,13126,24,13139,null,null,null,null,0,222]
[11,13303,21,13330,11,13339,null,null,null,null,0,121]
[11,13658,12,13663,13,13669,null,null,null,null,0,111]
[11,13834,12,13839,13,13845,null,null,null,null,0,111]
[22,13946,14,13956,13,13961,null,null,null,null,0,211]
[11,14124,12,14129,13,14138,null,null,null,null,0,111]
[22,14236,14,14254,13,14259,null,null,null,null,0,211]
[11,14361,12,14367,24,14379,null,null,null,null,0,112]
[11,14625,12,14628,13,14635,null,null,null,null,0,111]
[22,14733,14,14748,24,14761,null,null,null,null,0,212]
[22,14859,14,14873,13,14882,null,null,null,null,0,211]
[11,14985,12,14990,13,14997,null,null,null,null,0,111]
[11,15094,12,15111,13,15116,null,null,null,null,0,111]
[22,15220,14,15231,13,15236,null,null,null,null,0,211]
[22,15333,14,15350,13,15354,null,null,null,null,0,211]
[22,15485,14,15495,13,15499,null,null,null,null,0,211]
[22,15605,14,15613,13,15617,null,null,null,null,0,211]
[22,15723,14,15735,13,15741,null,null,null,null,0,211]
[11,15836,12,15842,13,15845,null,null,null,null,0,111]
[22,15946,14,15961,13,15966,null,null,null,null,0,211]
[11,16061,12,16068,24,16079,null,null,null,null,0,112]
[22,16177,14,16188,13,16193,null,null,null,null,0,211]
[11,16288,21,16301,22,16307,null,null,null,null,0,122]
[11,16411,21,16423,22,16426,null,null,null,null,0,122]
[22,16557,14,16566,13,16571,null,null,null,null,0,211]
[22,16677,14,16698,13,16707,null,null,null,null,0,211]
[11,16809,12,16814,13,16825,null,null,null,null,0,111]
[22,16932,14,16944,13,16948,null,null,null,null,0,211]
[22,17049,23,17060,13,17075,null,null,null,null,0,221]
[11,17370,12,17377,13,17384,null,null,null,null,0,111]
[22,17481,23,17486,13,17498,null,null,null,null,0,221]
[11,17592,12,17597,24,17608,null,null,null,null,0,112]
[11,17720,12,17726,13,17733,null,null,null,null,0,111]
[11,17838,12,17844,13,17852,null,null,null,null,0,111]
[22,17950,14,17966,13,17971,null,null,null,null,0,211]
[22,18067,23,18076,13,18088,null,null,null,null,0,221]
[11,18185,12,18190,13,18194,null,null,null,null,0,111]
[11,18295,12,18300,13,18306,null,null,null,null,0,111]
[11,18406,12,18410,13,18416,null,null,null,null,0,111]
[11,18511,12,18516,24,18529,null,null,null,null,0,112]
[11,19803,12,19810,13,19816,null,null,null,null,0,111]
[11,19915,12,19928,24,19944,null,null,null,null,0,112]
[11,20045,12,20051,24,20062,null,null,null,null,0,112]
[22,20158,23,20168,13,20184,null,null,null,null,0,221]
[11,20280,12,20285,13,20292,null,null,null,null,0,111]
[22,20389,23,20393,24,20399,null,null,null,null,0,222]
[22,20498,23,20504,24,20511,null,null,null,null,0,222]
[22,20610,14,20622,13,20627,null,null,null,null,0,211]
[22,20722,23,20729,24,20736,null,null,null,null,0,222]
[11,20834,12,20840,24,20850,null,null,null,null,0,112]
[11,20949,12,20951,13,20958,null,null,null,null,0,111]
[11,21226,12,21231,13,21237,null,null,null,null,0,111]
[22,21336,14,21345,13,21353,null,null,null,null,0,211]
[11,21511,12,21516,13,21522,null,null,null,null,0,111]
[11,21620,12,21624,13,21629,null,null,null,null,0,111]
[22,21727,23,21756,24,21763,null,null,null,null,0,222]
[22,21862,14,21875,24,21896,null,null,null,null,0,212]
[22,21993,14,22020,24,22042,null,null,null,null,0,212]
[11,22228,12,22232,13,22239,null,null,null,null,0,111]
[11,22351,12,22355,13,22361,null,null,null,null,0,111]
[22,22460,14,22473,24,22494,null,null,null,null,0,212]
[22,22596,23,22604,24,22618,null,null,null,null,0,222]
[11,22798,12,22803,13,22809,null,null,null,null,0,111]
[22,22907,23,22914,13,22929,null,null,null,null,0,221]
[11,23055,21,23066,22,23070,null,null,null,null,0,122]
[11,23297,21,23317,22,23321,null,null,null,null,0,122]
[11,23430,12,23434,13,23445,null,null,null,null,0,111]
[22,23576,23,23580,24,23585,null,null,null,null,0,222]
[22,23688,23,23716,24,23720,null,null,null,null,0,222]
[22,23890,14,23899,13,23904,null,null,null,null,0,211]

{"sheet":"!M229B0I.sha","index":22,"n_rows":172,"n_cols":48,"rows_kept":172,"cut":false,"hidden":false,"merged":[[4,39,4,42],[5,39,5,40],[4,44,4,47],[5,44,5,45],[4,24,4,27],[5,24,5,25],[4,29,4,32],[5,29,5,30],[4,34,4,37],[5,34,5,35],[1,1,1,2],[5,13,5,14],[18,13,18,14],[19,13,19,14],[4,19,4,22],[5,19,5,20]]}
["Report for:!M229B0I.sha"]
["Date:","<date>"]
["Hen:","<hen>",null,null,null,"Correct Sequence",{"$f":"Start!J2","v":121},null,null,null,null,null,null,null,null,"Total Sequences in Data",{"$f":"4994-COUNTBLANK(L7:L5000)","v":166},null,null,null,null,"Total Sequences in Block Data",{"$f":"COUNTA(L7:L34)","v":28},null,null,null,"Total Sequences in Block Data",{"$f":"COUNTA(L35:L61)","v":27},null,null,null,"Total Sequences in Block Data",{"$f":"COUNTA(L62:L89)","v":28},null,null,null,"Total Sequences in Block Data",{"$f":"COUNTA(L90:L117)","v":28},null,null,null,"Total Sequences in Block Data",{"$f":"COUNTA(L118:L144)","v":27},null,null,null,"Total Sequences in Block Data",{"$f":"COUNTA(L145:L172)","v":28}]
[null,null,null,null,null,null,null,null,null,null,null,null,null,null,null,"Total Sequences in Summary",{"$f":"SUM(O7:O14)","v":166},null,null,null,null,"Total Sequences in Block Summary",{"$f":"SUM(U7:U14)","v":28},null,null,null,"Total Sequences in Block Summary",{"$f":"SUM(Z7:Z14)","v":27},null,null,null,"Total Sequences in Block Summary",{"$f":"SUM(AE7:AE14)","v":28},null,null,null,"Total Sequences in Block Summary",{"$f":"SUM(AJ7:AJ14)","v":28},null,null,null,"Total Sequences in Block Summary",{"$f":"SUM(AO7:AO14)","v":27},null,null,null,"Total Sequences in Block Summary",{"$f":"SUM(AT7:AT14)","v":28}]
[null,null,null,null,null,null,null,null,null,null,null,null,null,null,null,null,null,null,null,"Block 1",null,null,null,null,"Block 2",null,null,null,null,"Block 3",null,null,null,null,"Block 4",null,null,null,null,"Block 5",null,null,null,null,"Block 6"]
["Sequence\nComponent\n1","Time\n1","Sequence\nComponent\n2","Time\n2","Sequence\nComponent\n3","Time\n3","Sequence\nComponent\n4","Time\n4","Sequence\nComponent\n5","Time\n5","Correct?\n0=No 1=Yes","Sequence",null,"Frequency",null,"Relative Frequency","Variability",null,null,"Frequency",null,"Relative Frequency","Variability",null,"Frequency",null,"Relative Frequency","Variability",null,"Frequency",null,"Relative Frequency","Variability",null,"Frequency",null,"Relative Frequency","Variability",null,"Frequency",null,"Relative Frequency","Variability",null,"Frequency",null,"Relative Frequency","Variability"]
[11,36,21,49,22,55,null,null,null,null,0,122,null,111,{"$f":"COUNTIF($L$7:$L$500,N7)","v":38},{"$f":"O7/$Q$4","v":0.2289156626506024},{"$f":"IF(P7=0,0,(P7*((LOG(P7))/LOG(2))))","v":-0.48692923421883666},null,null,{"$f":"N7","v":111},{"$f":"COUNTIF(L7:L34,T7)","v":7},{"$f":"U7/(W4-U9)","v":0.25},{"$f":"IF(V7=0,0,(V7*((LOG(V7))/LOG(2))))","v":-0.5},null,{"$f":"N7","v":111},{"$f":"COUNTIF(L35:L61,Y7)","v":7},{"$f":"Z7/(AB4-Z9)","v":0.25925925925925924},{"$f":"IF(AA7=0,0,(AA7*((LOG(AA7))/LOG(2))))","v":-0.5049158541015204},null,{"$f":"N7","v":111},{"$f":"COUNTIF(L62:L89,AD7)","v":8},{"$f":"AE7/(AG4-AE9)","v":0.2857142857142857},{"$f":"IF(AF7=0,0,(AF7*((LOG(AF7))/LOG(2))))","v":-0.51638712058788683},null,{"$f":"N7","v":111},{"$f":"COUNTIF(L90:L117,AI7)","v":5},{"$f":"AJ7/(AL4-AJ9)","v":0.18518518518518517},{"$f":"IF(AK7=0,0,(AK7*((LOG(AK7))/LOG(2))))","v":-0.45054803838446406},null,{"$f":"N7","v":111},{"$f":"COUNTIF(L118:L144,AN7)","v":8},{"$f":"AO7/(AQ4-AO9)","v":0.29629629629629628},{"$f":"IF(AP7=0,0,(AP7*((LOG(AP7))/LOG(2))))","v":-0.51996666730769436},null,{"$f":"N7","v":111},{"$f":"COUNTIF(L145:L172,AS7)","v":3},{"$f":"AT7/(AV4-AT9)","v":0.10714285714285714},{"$f":"IF(AU7=0,0,(AU7*((LOG(AU7))/LOG(2))))","v":-0.34525633085747659}]
[22,151,14,161,24,181,null,null,null,null,0,212,null,112,{"$f":"COUNTIF($L$7:$L$500,N8)","v":17},{"$f":"O8/$Q$4","v":0.10240963855421686},{"$f":"IF(P8=0,0,(P8*((LOG(P8))/LOG(2))))","v":-0.3366795303110961},null,null,{"$f":"N8","v":112},{"$f":"COUNTIF(L7:L34,T8)","v":2},{"$f":"U8/(W4-U9)","v":7.1428571428571425E-2},{"$f":"IF(V8=0,0,(V8*((LOG(V8))/LOG(2))))","v":-0.27195392300411453},null,{"$f":"N8","v":112},{"$f":"COUNTIF(L35:L61,Y8)","v":3},{"$f":"Z8/(AB4-Z9)","v":0.1111111111111111},{"$f":"IF(AA8=0,0,(AA8*((LOG(AA8))/LOG(2))))","v":-0.3522138890491458},null,{"$f":"N8","v":112},{"$f":"COUNTIF(L62:L89,AD8)","v":4},{"$f":"AE8/(AG4-AE9)","v":0.14285714285714285},{"$f":"IF(AF8=0,0,(AF8*((LOG(AF8))/LOG(2))))","v":-0.40105070315108626},null,{"$f":"N8","v":112},{"$f":"COUNTIF(L90:L117,AI8)","v":5},{"$f":"AJ8/(AL4-AJ9)","v":0.18518518518518517},{"$f":"IF(AK8=0,0,(AK8*((LOG(AK8))/LOG(2))))","v":-0.45054803838446406},null,{"$f":"N8","v":112},{"$f":"COUNTIF(L118:L144,AN8)","v":1},{"$f":"AO8/(AQ4-AO9)","v":3.7037037037037035E-2},{"$f":"IF(AP8=0,0,(AP8*((LOG(AP8))/LOG(2))))","v":-0.1761069445245729},null,{"$f":"N8","v":112},{"$f":"COUNTIF(L145:L172,AS8)","v":2},{"$f":"AT8/(AV4-AT9)","v":7.1428571428571425E-2},{"$f":"IF(AU8=0,0,(AU8*((LOG(AU8))/LOG(2))))","v":-0.27195392300411453}]
[11,291,21,304,22,310,null,null,null,null,0,122,null,121,{"$f":"COUNTIF($L$7:$L$500,N9)","v":1},{"$f":"O9/$Q$4","v":6.024096385542169E-3},{"$f":"IF(P9=0,0,(P9*((LOG(P9))/LOG(2))))","v":-4.4427948381607983E-2},null,null,{"$f":"N9","v":121},{"$f":"COUNTIF(L7:L34,T9)","v":0},null,null,null,{"$f":"N9","v":121},{"$f":"COUNTIF(L35:L61,Y9)","v":0},null,null,null,{"$f":"N9","v":121},{"$f":"COUNTIF(L62:L89,AD9)","v":0},null,null,null,{"$f":"N9","v":121},{"$f":"COUNTIF(L90:L117,AI9)","v":1},null,null,null,{"$f":"N9","v":121},{"$f":"COUNTIF(L118:L144,AN9)","v":0},null,null,null,{"$f":"N9","v":121},{"$f":"COUNTIF(L145:L172,AS9)","v":0}]
[22,407,14,417,13,424,null,null,null,null,0,211,null,122,{"$f":"COUNTIF($L$7:$L$500,N10)","v":17},{"$f":"O10/$Q$4","v":0.10240963855421686},{"$f":"IF(P10=0,0,(P10*((LOG(P10))/LOG(2))))","v":-0.3366795303110961},null,null,{"$f":"N10","v":122},{"$f":"COUNTIF(L7:L34,T10)","v":8},{"$f":"U10/(W4-U9)","v":0.2857142857142857},{"$f":"IF(V10=0,0,(V10*((LOG(V10))/LOG(2))))","v":-0.51638712058788683},null,{"$f":"N10","v":122},{"$f":"COUNTIF(L35:L61,Y10)","v":3},{"$f":"Z10/(AB4-Z9)","v":0.1111111111111111},{"$f":"IF(AA10=0,0,(AA10*((LOG(AA10))/LOG(2))))","v":-0.3522138890491458},null,{"$f":"N10","v":122},{"$f":"COUNTIF(L62:L89,AD10)","v":0},{"$f":"AE10/(AG4-AE9)","v":0},{"$f":"IF(AF10=0,0,(AF10*((LOG(AF10))/LOG(2))))","v":0},null,{"$f":"N10","v":122},{"$f":"COUNTIF(L90:L117,AI10)","v":0},{"$f":"AJ10/(AL4-AJ9)","v":0},{"$f":"IF(AK10=0,0,(AK10*((LOG(AK10))/LOG(2))))","v":0},null,{"$f":"N10","v":122},{"$f":"COUNTIF(L118:L144,AN10)","v":4},{"$f":"AO10/(AQ4-AO9)","v":0.14814814814814814},{"$f":"IF(AP10=0,0,(AP10*((LOG(AP10))/LOG(2))))","v":-0.40813148180199532},null,{"$f":"N10","v":122},{"$f":"COUNTIF(L145:L172,AS10)","v":2},{"$f":"AT10/(AV4-AT9)","v":7.1428571428571425E-2},{"$f":"IF(AU10=0,0,(AU10*((LOG(AU10))/LOG(2))))","v":-0.27195392300411453}]
[11,518,21,531,22,535,null,null,null,null,0,122,null,211,{"$f":"COUNTIF($L$7:$L$500,N11)","v":31},{"$f":"O11/$Q$4","v":0.18674698795180722},{"$f":"IF(P11=0,0,(P11*((LOG(P11))/LOG(2))))","v":-0.45208516114314179},null,null,{"$f":"N11","v":211},{"$f":"COUNTIF(L7:L34,T11)","v":3},{"$f":"U11/(W4-U9)","v":0.10714285714285714},{"$f":"IF(V11=0,0,(V11*((LOG(V11))/LOG(2))))","v":-0.34525633085747659},null,{"$f":"N11","v":211},{"$f":"COUNTIF(L35:L61,Y11)","v":6},{"$f":"Z11/(AB4-Z9)","v":0.22222222222222221},{"$f":"IF(AA11=0,0,(AA11*((LOG(AA11))/LOG(2))))","v":-0.48220555587606945},null,{"$f":"N11","v":211},{"$f":"COUNTIF(L62:L89,AD11)","v":4},{"$f":"AE11/(AG4-AE9)","v":0.14285714285714285},{"$f":"IF(AF11=0,0,(AF11*((LOG(AF11))/LOG(2))))","v":-0.40105070315108626},null,{"$f":"N11","v":211},{"$f":"COUNTIF(L90:L117,AI11)","v":7},{"$f":"AJ11/(AL4-AJ9)","v":0.25925925925925924},{"$f":"IF(AK11=0,0,(AK11*((LOG(AK11))/LOG(2))))","v":-0.5049158541015204},null,{"$f":"N11","v":211},{"$f":"COUNTIF(L118:L144,AN11)","v":3},{"$f":"AO11/(AQ4-AO9)","v":0.1111111111111111},{"$f":"IF(AP11=0,0,(AP11*((LOG(AP11))/LOG(2))))","v":-0.3522138890491458},null,{"$f":"N11","v":211},{"$f":"COUNTIF(L145:L172,AS11)","v":8},{"$f":"AT11/(AV4-AT9)","v":0.2857142857142857},{"$f":"IF(AU11=0,0,(AU11*((LOG(AU11))/LOG(2))))","v":-0.51638712058788683}]
[11,638,12,643,13,648,null,null,null,null,0,111,null,212,{"$f":"COUNTIF($L$7:$L$500,N12)","v":12},{"$f":"O12/$Q$4","v":7.2289156626506021E-2},{"$f":"IF(P12=0,0,(P12*((LOG(P12))/LOG(2))))","v":-0.27398146486451341},null,null,{"$f":"N12","v":212},{"$f":"COUNTIF(L7:L34,T12)","v":1},{"$f":"U12/(W4-U9)","v":3.5714285714285712E-2},{"$f":"IF(V12=0,0,(V12*((LOG(V12))/LOG(2))))","v":-0.17169124721634299},null,{"$f":"N12","v":212},{"$f":"COUNTIF(L35:L61,Y12)","v":1},{"$f":"Z12/(AB4-Z9)","v":3.7037037037037035E-2},{"$f":"IF(AA12=0,0,(AA12*((LOG(AA12))/LOG(2))))","v":-0.1761069445245729},null,{"$f":"N12","v":212},{"$f":"COUNTIF(L62:L89,AD12)","v":2},{"$f":"AE12/(AG4-AE9)","v":7.1428571428571425E-2},{"$f":"IF(AF12=0,0,(AF12*((LOG(AF12))/LOG(2))))","v":-0.27195392300411453},null,{"$f":"N12","v":212},{"$f":"COUNTIF(L90:L117,AI12)","v":3},{"$f":"AJ12/(AL4-AJ9)","v":0.1111111111111111},{"$f":"IF(AK12=0,0,(AK12*((LOG(AK12))/LOG(2))))","v":-0.3522138890491458},null,{"$f":"N12","v":212},{"$f":"COUNTIF(L118:L144,AN12)","v":1},{"$f":"AO12/(AQ4-AO9)","v":3.7037037037037035E-2},{"$f":"IF(AP12=0,0,(AP12*((LOG(AP12))/LOG(2))))","v":-0.1761069445245729},null,{"$f":"N12","v":212},{"$f":"COUNTIF(L145:L172,AS12)","v":4},{"$f":"AT12/(AV4-AT9)","v":0.14285714285714285},{"$f":"IF(AU12=0,0,(AU12*((LOG(AU12))/LOG(2))))","v":-0.40105070315108626}]
[11,753,12,761,24,775,null,null,null,null,0,112,null,221,{"$f":"COUNTIF($L$7:$L$500,N13)","v":17},{"$f":"O13/$Q$4","v":0.10240963855421686},{"$f":"IF(P13=0,0,(P13*((LOG(P13))/LOG(2))))","v":-0.3366795303110961},null,null,{"$f":"N13","v":221},{"$f":"COUNTIF(L7:L34,T13)","v":0},{"$f":"U13/(W4-U9)","v":0},{"$f":"IF(V13=0,0,(V13*((LOG(V13))/LOG(2))))","v":0},null,{"$f":"N13","v":221},{"$f":"COUNTIF(L35:L61,Y13)","v":5},{"$f":"Z13/(AB4-Z9)","v":0.18518518518518517},{"$f":"IF(AA13=0,0,(AA13*((LOG(AA13))/LOG(2))))","v":-0.45054803838446406},null,{"$f":"N13","v":221},{"$f":"COUNTIF(L62:L89,AD13)","v":6},{"$f":"AE13/(AG4-AE9)","v":0.21428571428571427},{"$f":"IF(AF13=0,0,(AF13*((LOG(AF13))/LOG(2))))","v":-0.47622694742923877},null,{"$f":"N13","v":221},{"$f":"COUNTIF(L90:L117,AI13)","v":2},{"$f":"AJ13/(AL4-AJ9)","v":7.407407407407407E-2},{"$f":"IF(AK13=0,0,(AK13*((LOG(AK13))/LOG(2))))","v":-0.27813981497507173},null,{"$f":"N13","v":221},{"$f":"COUNTIF(L118:L144,AN13)","v":2},{"$f":"AO13/(AQ4-AO9)","v":7.407407407407407E-2},{"$f":"IF(AP13=0,0,(AP13*((LOG(AP13))/LOG(2))))","v":-0.27813981497507173},null,{"$f":"N13","v":221},{"$f":"COUNTIF(L145:L172,AS13)","v":2},{"$f":"AT13/(AV4-AT9)","v":7.1428571428571425E-2},{"$f":"IF(AU13=0,0,(AU13*((LOG(AU13))/LOG(2))))","v":-0.27195392300411453}]
[11,872,12,876,13,882,null,null,null,null,0,111,null,222,{"$f":"COUNTIF($L$7:$L$500,N14)","v":33},{"$f":"O14/$Q$4","v":0.19879518072289157},{"$f":"IF(P14=0,0,(P14*((LOG(P14))/LOG(2))))","v":-0.46332105599770812},null,null,{"$f":"N14","v":222},{"$f":"COUNTIF(L7:L34,T14)","v":7},{"$f":"U14/(W4-U9)","v":0.25},{"$f":"IF(V14=0,0,(V14*((LOG(V14))/LOG(2))))","v":-0.5},null,{"$f":"N14","v":222},{"$f":"COUNTIF(L35:L61,Y14)","v":2},{"$f":"Z14/(AB4-Z9)","v":7.407407407407407E-2},{"$f":"IF(AA14=0,0,(AA14*((LOG(AA14))/LOG(2))))","v":-0.27813981497507173},null,{"$f":"N14","v":222},{"$f":"COUNTIF(L62:L89,AD14)","v":4},{"$f":"AE14/(AG4-AE9)","v":0.14285714285714285},{"$f":"IF(AF14=0,0,(AF14*((LOG(AF14))/LOG(2))))","v":-0.40105070315108626},null,{"$f":"N14","v":222},{"$f":"COUNTIF(L90:L117,AI14)","v":5},{"$f":"AJ14/(AL4-AJ9)","v":0.18518518518518517},{"$f":"IF(AK14=0,0,(AK14*((LOG(AK14))/LOG(2))))","v":-0.45054803838446406},null,{"$f":"N14","v":222},{"$f":"COUNTIF(L118:L144,AN14)","v":8},{"$f":"AO14/(AQ4-AO9)","v":0.29629629629629628},{"$f":"IF(AP14=0,0,(AP14*((LOG(AP14))/LOG(2))))","v":-0.51996666730769436},null,{"$f":"N14","v":222},{"$f":"COUNTIF(L145:L172,AS14)","v":7},{"$f":"AT14/(AV4-AT9)","v":0.25},{"$f":"IF(AU14=0,0,(AU14*((LOG(AU14))/LOG(2))))","v":-0.5}]
[11,1022,12,1029,13,1035,null,null,null,null,0,111,null,null,null,{"$f":"SUM(P7:P14)","v":1},{"$f":"-SUM(Q7:Q14)","v":2.7307834555390968},null,null,null,null,{"$f":"SUM(V7:V14)","v":0.99999999999999989},{"$f":"-SUM(W7:W14)","v":2.305288621665821},null,null,null,{"$f":"SUM(AA7:AA14)","v":0.99999999999999989},{"$f":"-SUM(AB7:AB14)","v":2.5963439859599902},null,null,null,{"$f":"SUM(AF7:AF14)","v":1},{"$f":"-SUM(AG7:AG14)","v":2.4677201004744993},null,null,null,{"$f":"SUM(AK7:AK14)","v":1},{"$f":"-SUM(AL7:AL14)","v":2.4869136732791302},null,null,null,{"$f":"SUM(AP7:AP14)","v":0.99999999999999989},{"$f":"-SUM(AQ7:AQ14)","v":2.4306324094907472},null,null,null,{"$f":"SUM(AU7:AU14)","v":1},{"$f":"-SUM(AV7:AV14)","v":2.5785559236087932}]
[22,1132,14,1141,13,1146,null,null,null,null,0,211,null,null,null,"U=",{"$f":"Q15/(LOG(Q4)/LOG(2))","v":0.37027374307073585},null,null,null,null,"U1=",{"$f":"W15/(LOG(W4)/LOG(2))","v":0.47953368516405082},null,null,null,"U2=",{"$f":"AB15/(LOG(AB4)/LOG(2))","v":0.54603689041615744},null,null,null,"U3=",{"$f":"AG15/(LOG(AG4)/LOG(2))","v":0.51332180387843851},null,null,null,"U4=",{"$f":"AL15/(LOG(AL4)/LOG(2))","v":0.51731434720336855},null,null,null,"U5=",{"$f":"AQ15/(LOG(AQ4)/LOG(2))","v":0.51118610238093165},null,null,null,"U6=",{"$f":"AV15/(LOG(AV4)/LOG(2))","v":0.53637727303586336}]
[22,1252,23,1263,24,1269,null,null,null,null,0,222]
[11,1366,12,1372,13,1381,null,null,null,null,0,111]
[11,1477,21,1490,22,1495,null,null,null,null,0,122,null,"Total Target Seq"]
[22,1598,23,1602,24,1608,null,null,null,null,0,222,null,{"$f":"COUNTIF(L7:L172,G3)","v":1},null,28,27,28,28,27,28]
[22,1708,14,1717,13,1722,null,null,null,null,0,211,null,null,null,"% of reinforcement given in 6 equal intervals based on number of trials "]
[22,1825,23,1832,24,1837,null,null,null,null,0,222,null,null,null,"%_1","%_2","%_3","%_4","%_5","%_6"]
[11,1949,12,1954,24,1966,null,null,null,null,0,112,null,null,"target sequence",{"$f":"$G$3","v":121},{"$f":"$G$3","v":121},{"$f":"$G$3","v":121},{"$f":"$G$3","v":121},{"$f":"$G$3","v":121},{"$f":"$G$3","v":121}]
[22,2066,23,2088,24,2092,null,null,null,null,0,222,null,null,"total reinforcement",{"$f":"U9","v":0},{"$f":"Z9","v":0},{"$f":"AE9","v":0},{"$f":"AJ9","v":1},{"$f":"AO9","v":0},{"$f":"AT9","v":0}]
[22,2193,23,2200,24,2205,null,null,null,null,0,222,null,null,"% target"]
[11,2626,12,2630,13,2636,null,null,null,null,0,111,null,null,"CCRF"]
[11,2735,21,2746,22,2750,null,null,null,null,0,122,null,null,"% CCRf"]
[22,2847,23,2852,24,2859,null,null,null,null,0,222,null,null,"average response rate",{"$f":"F34/P20","v":127.57142857142857},{"$f":"(F61-F34)/Q20","v":145.2962962962963},{"$f":"(F89-F61)/R20","v":134.89285714285714},{"$f":"(F117-F89)/S20","v":153.85714285714286},{"$f":"(F144-F117)/T20","v":140.81481481481481},{"$f":"(F172-F144)/U20","v":162.39285714285714}]
[11,2962,21,2975,22,2978,null,null,null,null,0,122]
[11,3096,21,3113,22,3117,null,null,null,null,0,122]
[11,3214,12,3218,13,3224,null,null,null,null,0,111]
[22,3327,23,3334,24,3336,null,null,null,null,0,222]
[11,3436,21,3451,22,3455,null,null,null,null,0,122]
[11,3561,12,3565,13,3572,null,null,null,null,0,111]
[22,3671,23,3678,13,3691,null,null,null,null,0,221]
[11,3997,12,4003,13,4009,null,null,null,null,0,111]
[11,4121,12,4125,13,4132,null,null,null,null,0,111]
[22,4228,23,4236,13,4246,null,null,null,null,0,221]
[11,4356,21,4370,22,4374,null,null,null,null,0,122]
[11,4486,12,4489,13,4494,null,null,null,null,0,111]
[22,4597,14,4606,13,4610,null,null,null,null,0,211]
[11,4711,21,4726,22,4732,null,null,null,null,0,122]
[11,4830,12,4835,13,4842,null,null,null,null,0,111]
[22,4949,14,4965,13,4969,null,null,null,null,0,211]
[11,5066,12,5071,13,5080,null,null,null,null,0,111]
[11,5173,12,5177,13,5182,null,null,null,null,0,111]
[22,5280,23,5286,24,5297,null,null,null,null,0,222]
[11,5885,12,5891,13,5897,null,null,null,null,0,111]
[11,5996,12,5999,24,6013,null,null,null,null,0,112]
[22,6111,23,6117,13,6130,null,null,null,null,0,221]
[22,6242,14,6256,13,6262,null,null,null,null,0,211]
[22,6375,23,6380,24,6386,null,null,null,null,0,222]
[11,6486,12,6491,24,6506,null,null,null,null,0,112]
[22,6611,14,6620,13,6625,null,null,null,null,0,211]
[22,6757,23,6763,13,6775,null,null,null,null,0,221]
[22,6878,14,6886,13,6892,null,null,null,null,0,211]
[11,6989,21,7003,22,7008,null,null,null,null,0,122]
[22,7106,14,7124,24,7138,null,null,null,null,0,212]
[22,7234,23,7243,13,7260,null,null,null,null,0,221]
[22,7356,14,7366,13,7370,null,null,null,null,0,211]
[11,7468,12,7481,24,7495,null,null,null,null,0,112]
[22,7597,23,7606,24,7614,null,null,null,null,0,222]
[22,7820,14,7876,13,7881,null,null,null,null,0,211]
[22,7980,14,7992,13,7999,null,null,null,null,0,211]
[22,8095,23,8106,13,8120,null,null,null,null,0,221]
[11,8235,12,8240,24,8255,null,null,null,null,0,112]
[22,8352,23,8359,13,8372,null,null,null,null,0,221]
[11,8485,12,8489,24,8501,null,null,null,null,0,112]
[11,8599,12,8603,13,8609,null,null,null,null,0,111]
[11,8715,12,8723,24,8735,null,null,null,null,0,112]
[22,8837,14,8849,13,8853,null,null,null,null,0,211]
[11,8951,12,8955,13,8960,null,null,null,null,0,111]
[11,9054,12,9057,13,9064,null,null,null,null,0,111]
[11,9183,12,9218,13,9222,null,null,null,null,0,111]
[22,9321,14,9345,24,9370,null,null,null,null,0,212]
[22,9467,23,9475,24,9482,null,null,null,null,0,222]
[11,9578,12,9583,13,9588,null,null,null,null,0,111]
[22,9685,23,9692,13,9705,null,null,null,null,0,221]
[11,9847,12,9882,13,9886,null,null,null,null,0,111]
[22,9985,14,10005,24,10028,null,null,null,null,0,212]
[22,10137,23,10145,24,10152,null,null,null,null,0,222]
[11,10376,12,10426,13,10431,null,null,null,null,0,111]
[22,10528,23,10534,13,10547,null,null,null,null,0,221]
[22,10658,14,10672,13,10680,null,null,null,null,0,211]
[22,10782,23,10789,13,10802,null,null,null,null,0,221]
[11,10896,12,10902,13,10908,null,null,null,null,0,111]
[22,11010,23,11025,24,11033,null,null,null,null,0,222]
[22,11132,23,11143,13,11160,null,null,null,null,0,221]
[11,11257,12,11260,24,11272,null,null,null,null,0,112]
[22,11376,14,11398,13,11407,null,null,null,null,0,211]
[22,11508,23,11534,24,11537,null,null,null,null,0,222]
[22,11695,14,11707,13,11712,null,null,null,null,0,211]
[22,11810,23,11817,24,11826,null,null,null,null,0,222]
[11,11948,12,11955,24,11969,null,null,null,null,0,112]
[11,12193,12,12226,13,12231,null,null,null,null,0,111]
[11,12350,12,12357,24,12376,null,null,null,null,0,112]
[22,12472,14,12491,13,12499,null,null,null,null,0,211]
[22,12601,14,12618,24,12637,null,null,null,null,0,212]
[11,12757,12,12762,24,12780,null,null,null,null,0,112]
[22,12876,23,12884,13,12898,null,null,null,null,0,221]
[22,13001,14,13016,13,13022,null,null,null,null,0,211]
[22,13130,14,13144,24,13159,null,null,null,null,0,212]
[22,13257,23,13266,13,13279,null,null,null,null,0,221]
[11,13448,12,13453,13,13460,null,null,null,null,0,111]
[22,13557,14,13572,24,13587,null,null,null,null,0,212]
[22,13716,23,13742,24,13744,null,null,null,null,0,222]
[22,13933,14,13943,13,13948,null,null,null,null,0,211]
[22,14053,23,14062,24,14065,null,null,null,null,0,222]
[22,14326,14,14335,13,14341,null,null,null,null,0,211]
[11,14496,12,14503,24,14515,null,null,null,null,0,112]
[11,14627,12,14635,13,14641,null,null,null,null,0,111]
[22,14751,23,14755,24,14761,null,null,null,null,0,222]
[11,14918,12,14924,13,14930,null,null,null,null,0,111]
[11,15053,21,15075,11,15085,null,null,null,null,0,121]
[11,15327,12,15331,13,15338,null,null,null,null,0,111]
[22,15433,14,15444,13,15451,null,null,null,null,0,211]
[11,15559,12,15567,24,15580,null,null,null,null,0,112]
[22,15685,14,15701,24,15712,null,null,null,null,0,212]
[22,15818,23,15823,24,15848,null,null,null,null,0,222]
[11,15961,12,15970,24,15985,null,null,null,null,0,112]
[22,16096,14,16111,13,16117,null,null,null,null,0,211]
[11,16291,12,16298,13,16306,null,null,null,null,0,111]
[22,16411,14,16421,13,16425,null,null,null,null,0,211]
[11,16517,21,16532,22,16534,null,null,null,null,0,122]
[11,16869,12,16877,13,16884,null,null,null,null,0,111]
[22,16985,14,16996,13,17000,null,null,null,null,0,211]
[22,17092,23,17102,13,17127,null,null,null,null,0,221]
[11,17247,12,17253,13,17260,null,null,null,null,0,111]
[11,17356,21,17369,22,17372,null,null,null,null,0,122]
[22,17474,23,17488,24,17495,null,null,null,null,0,222]
[11,17660,12,17667,13,17674,null,null,null,null,0,111]
[22,17779,23,17787,24,17793,null,null,null,null,0,222]
[22,17895,23,17901,13,17914,null,null,null,null,0,221]
[22,18010,23,18016,24,18022,null,null,null,null,0,222]
[11,18142,21,18160,22,18168,null,null,null,null,0,122]
[22,18264,23,18274,24,18277,null,null,null,null,0,222]
[11,18403,12,18436,13,18442,null,null,null,null,0,111]
[22,18537,23,18550,24,18553,null,null,null,null,0,222]
[11,18654,21,18667,22,18672,null,null,null,null,0,122]
[11,18848,12,18853,13,18860,null,null,null,null,0,111]
[11,18956,12,18963,13,18969,null,null,null,null,0,111]
[11,19143,12,19148,13,19154,null,null,null,null,0,111]
[22,19250,23,19254,24,19260,null,null,null,null,0,222]
[22,19364,23,19378,24,19382,null,null,null,null,0,222]
[22,19565,14,19582,13,19591,null,null,null,null,0,211]
[22,19695,14,19708,13,19713,null,null,null,null,0,211]
[11,19814,12,19818,24,19835,null,null,null,null,0,112]
[11,20280,12,20285,13,20291,null,null,null,null,0,111]
[22,20388,23,20393,13,20401,null,null,null,null,0,221]
[22,20503,23,20509,24,20514,null,null,null,null,0,222]
[22,20706,14,20718,13,20723,null,null,null,null,0,211]
[22,20904,14,20914,13,20919,null,null,null,null,0,211]
[22,21021,14,21049,24,21059,null,null,null,null,0,212]
[22,21166,23,21175,24,21180,null,null,null,null,0,222]
[11,21280,21,21296,22,21301,null,null,null,null,0,122]
[22,21509,14,21570,13,21574,null,null,null,null,0,211]
[22,21682,14,21696,24,21710,null,null,null,null,0,212]
[11,21824,12,21866,13,21871,null,null,null,null,0,111]
[22,21969,14,21980,24,21995,null,null,null,null,0,212]
[22,22096,14,22110,24,22122,null,null,null,null,0,212]
[22,22231,23,22240,24,22248,null,null,null,null,0,222]
[11,22346,12,22351,24,22361,null,null,null,null,0,112]
[22,22512,14,22535,13,22542,null,null,null,null,0,211]
[22,22676,14,22685,13,22689,null,null,null,null,0,211]
[22,22794,14,22811,13,22815,null,null,null,null,0,211]
[22,22909,23,22914,24,22927,null,null,null,null,0,222]
[11,23089,21,23097,22,23100,null,null,null,null,0,122]
[22,23309,23,23313,24,23321,null,null,null,null,0,222]
[22,23420,23,23429,24,23440,null,null,null,null,0,222]
[11,23589,12,23594,13,23600,null,null,null,null,0,111]
[22,23697,23,23705,24,23711,null,null,null,null,0,222]
[22,23893,23,23920,13,23929,null,null,null,null,null,221]

{"sheet":"!M301A4I.sha","index":23,"n_rows":176,"n_cols":48,"rows_kept":176,"cut":false,"hidden":false,"merged":[[4,39,4,42],[5,39,5,40],[4,44,4,47],[5,44,5,45],[4,24,4,27],[5,24,5,25],[4,29,4,32],[5,29,5,30],[4,34,4,37],[5,34,5,35],[1,1,1,2],[5,13,5,14],[18,13,18,14],[19,13,19,14],[4,19,4,22],[5,19,5,20]]}
["Report for:!M301A4I.sha"]
["Date:","<date>"]
["Hen:","<hen>",null,null,null,"Correct Sequence",{"$f":"Start!J2","v":121},null,null,null,null,null,null,null,null,"Total Sequences in Data",{"$f":"4994-COUNTBLANK(L7:L5000)","v":170},null,null,null,null,"Total Sequences in Block Data",{"$f":"COUNTA(L7:L34)","v":28},null,null,null,"Total Sequences in Block Data",{"$f":"COUNTA(L35:L63)","v":29},null,null,null,"Total Sequences in Block Data",{"$f":"COUNTA(L64:L91)","v":28},null,null,null,"Total Sequences in Block Data",{"$f":"COUNTA(L92:L119)","v":28},null,null,null,"Total Sequences in Block Data",{"$f":"COUNTA(L120:L148)","v":29},null,null,null,"Total Sequences in Block Data",{"$f":"COUNTA(L149:L176)","v":28}]
[null,null,null,null,null,null,null,null,null,null,null,null,null,null,null,"Total Sequences in Summary",{"$f":"SUM(O7:O14)","v":170},null,null,null,null,"Total Sequences in Block Summary",{"$f":"SUM(U7:U14)","v":28},null,null,null,"Total Sequences in Block Summary",{"$f":"SUM(Z7:Z14)","v":29},null,null,null,"Total Sequences in Block Summary",{"$f":"SUM(AE7:AE14)","v":28},null,null,null,"Total Sequences in Block Summary",{"$f":"SUM(AJ7:AJ14)","v":28},null,null,null,"Total Sequences in Block Summary",{"$f":"SUM(AO7:AO14)","v":29},null,null,null,"Total Sequences in Block Summary",{"$f":"SUM(AT7:AT14)","v":28}]
[null,null,null,null,null,null,null,null,null,null,null,null,null,null,null,null,null,null,null,"Block 1",null,null,null,null,"Block 2",null,null,null,null,"Block 3",null,null,null,null,"Block 4",null,null,null,null,"Block 5",null,null,null,null,"Block 6"]
["Sequence\nComponent\n1","Time\n1","Sequence\nComponent\n2","Time\n2","Sequence\nComponent\n3","Time\n3","Sequence\nComponent\n4","Time\n4","Sequence\nComponent\n5","Time\n5","Correct?\n0=No 1=Yes","Sequence",null,"Frequency",null,"Relative Frequency","Variability",null,null,"Frequency",null,"Relative Frequency","Variability",null,"Frequency",null,"Relative Frequency","Variability",null,"Frequency",null,"Relative Frequency","Variability",null,"Frequency",null,"Relative Frequency","Variability",null,"Frequency",null,"Relative Frequency","Variability",null,"Frequency",null,"Relative Frequency","Variability"]
[11,11,21,22,22,25,null,null,null,null,0,122,null,111,{"$f":"COUNTIF($L$7:$L$500,N7)","v":36},{"$f":"O7/$Q$4","v":0.21176470588235294},{"$f":"IF(P7=0,0,(P7*((LOG(P7))/LOG(2))))","v":-0.47423984499431771},null,null,{"$f":"N7","v":111},{"$f":"COUNTIF(L7:L34,T7)","v":8},{"$f":"U7/(W4-U9)","v":0.2857142857142857},{"$f":"IF(V7=0,0,(V7*((LOG(V7))/LOG(2))))","v":-0.51638712058788683},null,{"$f":"N7","v":111},{"$f":"COUNTIF(L35:L63,Y7)","v":4},{"$f":"Z7/(AB4-Z9)","v":0.13793103448275862},{"$f":"IF(AA7=0,0,(AA7*((LOG(AA7))/LOG(2))))","v":-0.39420427519000989},null,{"$f":"N7","v":111},{"$f":"COUNTIF(L64:L91,AD7)","v":5},{"$f":"AE7/(AG4-AE9)","v":0.18518518518518517},{"$f":"IF(AF7=0,0,(AF7*((LOG(AF7))/LOG(2))))","v":-0.45054803838446406},null,{"$f":"N7","v":111},{"$f":"COUNTIF(L92:L119,AI7)","v":5},{"$f":"AJ7/(AL4-AJ9)","v":0.17857142857142858},{"$f":"IF(AK7=0,0,(AK7*((LOG(AK7))/LOG(2))))","v":-0.44382621913754317},null,{"$f":"N7","v":111},{"$f":"COUNTIF(L120:L148,AN7)","v":8},{"$f":"AO7/(AQ4-AO9)","v":0.2857142857142857},{"$f":"IF(AP7=0,0,(AP7*((LOG(AP7))/LOG(2))))","v":-0.51638712058788683},null,{"$f":"N7","v":111},{"$f":"COUNTIF(L149:L176,AS7)","v":6},{"$f":"AT7/(AV4-AT9)","v":0.21428571428571427},{"$f":"IF(AU7=0,0,(AU7*((LOG(AU7))/LOG(2))))","v":-0.47622694742923877}]
[22,125,14,135,13,140,null,null,null,null,0,211,null,112,{"$f":"COUNTIF($L$7:$L$500,N8)","v":17},{"$f":"O8/$Q$4","v":0.1},{"$f":"IF(P8=0,0,(P8*((LOG(P8))/LOG(2))))","v":-0.33219280948873625},null,null,{"$f":"N8","v":112},{"$f":"COUNTIF(L7:L34,T8)","v":2},{"$f":"U8/(W4-U9)","v":7.1428571428571425E-2},{"$f":"IF(V8=0,0,(V8*((LOG(V8))/LOG(2))))","v":-0.27195392300411453},null,{"$f":"N8","v":112},{"$f":"COUNTIF(L35:L63,Y8)","v":2},{"$f":"Z8/(AB4-Z9)","v":6.8965517241379309E-2},{"$f":"IF(AA8=0,0,(AA8*((LOG(AA8))/LOG(2))))","v":-0.26606765483638428},null,{"$f":"N8","v":112},{"$f":"COUNTIF(L64:L91,AD8)","v":4},{"$f":"AE8/(AG4-AE9)","v":0.14814814814814814},{"$f":"IF(AF8=0,0,(AF8*((LOG(AF8))/LOG(2))))","v":-0.40813148180199532},null,{"$f":"N8","v":112},{"$f":"COUNTIF(L92:L119,AI8)","v":3},{"$f":"AJ8/(AL4-AJ9)","v":0.10714285714285714},{"$f":"IF(AK8=0,0,(AK8*((LOG(AK8))/LOG(2))))","v":-0.34525633085747659},null,{"$f":"N8","v":112},{"$f":"COUNTIF(L120:L148,AN8)","v":3},{"$f":"AO8/(AQ4-AO9)","v":0.10714285714285714},{"$f":"IF(AP8=0,0,(AP8*((LOG(AP8))/LOG(2))))","v":-0.34525633085747659},null,{"$f":"N8","v":112},{"$f":"COUNTIF(L149:L176,AS8)","v":3},{"$f":"AT8/(AV4-AT9)","v":0.10714285714285714},{"$f":"IF(AU8=0,0,(AU8*((LOG(AU8))/LOG(2))))","v":-0.34525633085747659}]
[11,248,12,252,13,260,null,null,null,null,0,111,null,121,{"$f":"COUNTIF($L$7:$L$500,N9)","v":2},{"$f":"O9/$Q$4","v":1.1764705882352941E-2},{"$f":"IF(P9=0,0,(P9*((LOG(P9))/LOG(2))))","v":-7.5404599248678844E-2},null,null,{"$f":"N9","v":121},{"$f":"COUNTIF(L7:L34,T9)","v":0},null,null,null,{"$f":"N9","v":121},{"$f":"COUNTIF(L35:L63,Y9)","v":0},null,null,null,{"$f":"N9","v":121},{"$f":"COUNTIF(L64:L91,AD9)","v":1},null,null,null,{"$f":"N9","v":121},{"$f":"COUNTIF(L92:L119,AI9)","v":0},null,null,null,{"$f":"N9","v":121},{"$f":"COUNTIF(L120:L148,AN9)","v":1},null,null,null,{"$f":"N9","v":121},{"$f":"COUNTIF(L149:L176,AS9)","v":0}]
[11,371,12,376,13,382,null,null,null,null,0,111,null,122,{"$f":"COUNTIF($L$7:$L$500,N10)","v":17},{"$f":"O10/$Q$4","v":0.1},{"$f":"IF(P10=0,0,(P10*((LOG(P10))/LOG(2))))","v":-0.33219280948873625},null,null,{"$f":"N10","v":122},{"$f":"COUNTIF(L7:L34,T10)","v":5},{"$f":"U10/(W4-U9)","v":0.17857142857142858},{"$f":"IF(V10=0,0,(V10*((LOG(V10))/LOG(2))))","v":-0.44382621913754317},null,{"$f":"N10","v":122},{"$f":"COUNTIF(L35:L63,Y10)","v":2},{"$f":"Z10/(AB4-Z9)","v":6.8965517241379309E-2},{"$f":"IF(AA10=0,0,(AA10*((LOG(AA10))/LOG(2))))","v":-0.26606765483638428},null,{"$f":"N10","v":122},{"$f":"COUNTIF(L64:L91,AD10)","v":3},{"$f":"AE10/(AG4-AE9)","v":0.1111111111111111},{"$f":"IF(AF10=0,0,(AF10*((LOG(AF10))/LOG(2))))","v":-0.3522138890491458},null,{"$f":"N10","v":122},{"$f":"COUNTIF(L92:L119,AI10)","v":3},{"$f":"AJ10/(AL4-AJ9)","v":0.10714285714285714},{"$f":"IF(AK10=0,0,(AK10*((LOG(AK10))/LOG(2))))","v":-0.34525633085747659},null,{"$f":"N10","v":122},{"$f":"COUNTIF(L120:L148,AN10)","v":1},{"$f":"AO10/(AQ4-AO9)","v":3.5714285714285712E-2},{"$f":"IF(AP10=0,0,(AP10*((LOG(AP10))/LOG(2))))","v":-0.17169124721634299},null,{"$f":"N10","v":122},{"$f":"COUNTIF(L149:L176,AS10)","v":3},{"$f":"AT10/(AV4-AT9)","v":0.10714285714285714},{"$f":"IF(AU10=0,0,(AU10*((LOG(AU10))/LOG(2))))","v":-0.34525633085747659}]
[22,480,14,491,13,497,null,null,null,null,0,211,null,211,{"$f":"COUNTIF($L$7:$L$500,N11)","v":50},{"$f":"O11/$Q$4","v":0.29411764705882354},{"$f":"IF(P11=0,0,(P11*((LOG(P11))/LOG(2))))","v":-0.51927492540087561},null,null,{"$f":"N11","v":211},{"$f":"COUNTIF(L7:L34,T11)","v":9},{"$f":"U11/(W4-U9)","v":0.32142857142857145},{"$f":"IF(V11=0,0,(V11*((LOG(V11))/LOG(2))))","v":-0.5263167601977724},null,{"$f":"N11","v":211},{"$f":"COUNTIF(L35:L63,Y11)","v":9},{"$f":"Z11/(AB4-Z9)","v":0.31034482758620691},{"$f":"IF(AA11=0,0,(AA11*((LOG(AA11))/LOG(2))))","v":-0.52387944631611505},null,{"$f":"N11","v":211},{"$f":"COUNTIF(L64:L91,AD11)","v":7},{"$f":"AE11/(AG4-AE9)","v":0.25925925925925924},{"$f":"IF(AF11=0,0,(AF11*((LOG(AF11))/LOG(2))))","v":-0.5049158541015204},null,{"$f":"N11","v":211},{"$f":"COUNTIF(L92:L119,AI11)","v":7},{"$f":"AJ11/(AL4-AJ9)","v":0.25},{"$f":"IF(AK11=0,0,(AK11*((LOG(AK11))/LOG(2))))","v":-0.5},null,{"$f":"N11","v":211},{"$f":"COUNTIF(L120:L148,AN11)","v":7},{"$f":"AO11/(AQ4-AO9)","v":0.25},{"$f":"IF(AP11=0,0,(AP11*((LOG(AP11))/LOG(2))))","v":-0.5},null,{"$f":"N11","v":211},{"$f":"COUNTIF(L149:L176,AS11)","v":11},{"$f":"AT11/(AV4-AT9)","v":0.39285714285714285},{"$f":"IF(AU11=0,0,(AU11*((LOG(AU11))/LOG(2))))","v":-0.52954129777226344}]
[11,600,21,612,22,616,null,null,null,null,0,122,null,212,{"$f":"COUNTIF($L$7:$L$500,N12)","v":7},{"$f":"O12/$Q$4","v":4.1176470588235294E-2},{"$f":"IF(P12=0,0,(P12*((LOG(P12))/LOG(2))))","v":-0.18949560057976875},null,null,{"$f":"N12","v":212},{"$f":"COUNTIF(L7:L34,T12)","v":1},{"$f":"U12/(W4-U9)","v":3.5714285714285712E-2},{"$f":"IF(V12=0,0,(V12*((LOG(V12))/LOG(2))))","v":-0.17169124721634299},null,{"$f":"N12","v":212},{"$f":"COUNTIF(L35:L63,Y12)","v":1},{"$f":"Z12/(AB4-Z9)","v":3.4482758620689655E-2},{"$f":"IF(AA12=0,0,(AA12*((LOG(AA12))/LOG(2))))","v":-0.16751658603888178},null,{"$f":"N12","v":212},{"$f":"COUNTIF(L64:L91,AD12)","v":1},{"$f":"AE12/(AG4-AE9)","v":3.7037037037037035E-2},{"$f":"IF(AF12=0,0,(AF12*((LOG(AF12))/LOG(2))))","v":-0.1761069445245729},null,{"$f":"N12","v":212},{"$f":"COUNTIF(L92:L119,AI12)","v":2},{"$f":"AJ12/(AL4-AJ9)","v":7.1428571428571425E-2},{"$f":"IF(AK12=0,0,(AK12*((LOG(AK12))/LOG(2))))","v":-0.27195392300411453},null,{"$f":"N12","v":212},{"$f":"COUNTIF(L120:L148,AN12)","v":2},{"$f":"AO12/(AQ4-AO9)","v":7.1428571428571425E-2},{"$f":"IF(AP12=0,0,(AP12*((LOG(AP12))/LOG(2))))","v":-0.27195392300411453},null,{"$f":"N12","v":212},{"$f":"COUNTIF(L149:L176,AS12)","v":0},{"$f":"AT12/(AV4-AT9)","v":0},{"$f":"IF(AU12=0,0,(AU12*((LOG(AU12))/LOG(2))))","v":0}]
[22,714,14,726,13,730,null,null,null,null,0,211,null,221,{"$f":"COUNTIF($L$7:$L$500,N13)","v":22},{"$f":"O13/$Q$4","v":0.12941176470588237},{"$f":"IF(P13=0,0,(P13*((LOG(P13))/LOG(2))))","v":-0.38175944108828763},null,null,{"$f":"N13","v":221},{"$f":"COUNTIF(L7:L34,T13)","v":2},{"$f":"U13/(W4-U9)","v":7.1428571428571425E-2},{"$f":"IF(V13=0,0,(V13*((LOG(V13))/LOG(2))))","v":-0.27195392300411453},null,{"$f":"N13","v":221},{"$f":"COUNTIF(L35:L63,Y13)","v":6},{"$f":"Z13/(AB4-Z9)","v":0.20689655172413793},{"$f":"IF(AA13=0,0,(AA13*((LOG(AA13))/LOG(2))))","v":-0.4702796884978791},null,{"$f":"N13","v":221},{"$f":"COUNTIF(L64:L91,AD13)","v":2},{"$f":"AE13/(AG4-AE9)","v":7.407407407407407E-2},{"$f":"IF(AF13=0,0,(AF13*((LOG(AF13))/LOG(2))))","v":-0.27813981497507173},null,{"$f":"N13","v":221},{"$f":"COUNTIF(L92:L119,AI13)","v":5},{"$f":"AJ13/(AL4-AJ9)","v":0.17857142857142858},{"$f":"IF(AK13=0,0,(AK13*((LOG(AK13))/LOG(2))))","v":-0.44382621913754317},null,{"$f":"N13","v":221},{"$f":"COUNTIF(L120:L148,AN13)","v":2},{"$f":"AO13/(AQ4-AO9)","v":7.1428571428571425E-2},{"$f":"IF(AP13=0,0,(AP13*((LOG(AP13))/LOG(2))))","v":-0.27195392300411453},null,{"$f":"N13","v":221},{"$f":"COUNTIF(L149:L176,AS13)","v":5},{"$f":"AT13/(AV4-AT9)","v":0.17857142857142858},{"$f":"IF(AU13=0,0,(AU13*((LOG(AU13))/LOG(2))))","v":-0.44382621913754317}]
[22,828,23,837,13,856,null,null,null,null,0,221,null,222,{"$f":"COUNTIF($L$7:$L$500,N14)","v":19},{"$f":"O14/$Q$4","v":0.11176470588235295},{"$f":"IF(P14=0,0,(P14*((LOG(P14))/LOG(2))))","v":-0.35334002959522476},null,null,{"$f":"N14","v":222},{"$f":"COUNTIF(L7:L34,T14)","v":1},{"$f":"U14/(W4-U9)","v":3.5714285714285712E-2},{"$f":"IF(V14=0,0,(V14*((LOG(V14))/LOG(2))))","v":-0.17169124721634299},null,{"$f":"N14","v":222},{"$f":"COUNTIF(L35:L63,Y14)","v":5},{"$f":"Z14/(AB4-Z9)","v":0.17241379310344829},{"$f":"IF(AA14=0,0,(AA14*((LOG(AA14))/LOG(2))))","v":-0.43725050004141547},null,{"$f":"N14","v":222},{"$f":"COUNTIF(L64:L91,AD14)","v":5},{"$f":"AE14/(AG4-AE9)","v":0.18518518518518517},{"$f":"IF(AF14=0,0,(AF14*((LOG(AF14))/LOG(2))))","v":-0.45054803838446406},null,{"$f":"N14","v":222},{"$f":"COUNTIF(L92:L119,AI14)","v":3},{"$f":"AJ14/(AL4-AJ9)","v":0.10714285714285714},{"$f":"IF(AK14=0,0,(AK14*((LOG(AK14))/LOG(2))))","v":-0.34525633085747659},null,{"$f":"N14","v":222},{"$f":"COUNTIF(L120:L148,AN14)","v":5},{"$f":"AO14/(AQ4-AO9)","v":0.17857142857142858},{"$f":"IF(AP14=0,0,(AP14*((LOG(AP14))/LOG(2))))","v":-0.44382621913754317},null,{"$f":"N14","v":222},{"$f":"COUNTIF(L149:L176,AS14)","v":0},{"$f":"AT14/(AV4-AT9)","v":0},{"$f":"IF(AU14=0,0,(AU14*((LOG(AU14))/LOG(2))))","v":0}]
[22,1053,14,1063,13,1069,null,null,null,null,0,211,null,null,null,{"$f":"SUM(P7:P14)","v":1},{"$f":"-SUM(Q7:Q14)","v":2.6579000598846259},null,null,null,null,{"$f":"SUM(V7:V14)","v":1},{"$f":"-SUM(W7:W14)","v":2.373820440364117},null,null,null,{"$f":"SUM(AA7:AA14)","v":1},{"$f":"-SUM(AB7:AB14)","v":2.52526580575707},null,null,null,{"$f":"SUM(AF7:AF14)","v":1},{"$f":"-SUM(AG7:AG14)","v":2.620604061221234},null,null,null,{"$f":"SUM(AK7:AK14)","v":0.99999999999999989},{"$f":"-SUM(AL7:AL14)","v":2.6953753538516305},null,null,null,{"$f":"SUM(AP7:AP14)","v":1},{"$f":"-SUM(AQ7:AQ14)","v":2.5210687638074787},null,null,null,{"$f":"SUM(AU7:AU14)","v":1},{"$f":"-SUM(AV7:AV14)","v":2.1401071260539988}]
[22,1165,14,1174,13,1180,null,null,null,null,0,211,null,null,null,"U=",{"$f":"Q15/(LOG(Q4)/LOG(2))","v":0.35872045122107038},null,null,null,null,"U1=",{"$f":"W15/(LOG(W4)/LOG(2))","v":0.49378930385861636},null,null,null,"U2=",{"$f":"AB15/(LOG(AB4)/LOG(2))","v":0.5198179672357397},null,null,null,"U3=",{"$f":"AG15/(LOG(AG4)/LOG(2))","v":0.54512389946436179},null,null,null,"U4=",{"$f":"AL15/(LOG(AL4)/LOG(2))","v":0.56067741981862629},null,null,null,"U5=",{"$f":"AQ15/(LOG(AQ4)/LOG(2))","v":0.51895401944471276},null,null,null,"U6=",{"$f":"AV15/(LOG(AV4)/LOG(2))","v":0.44517352281075351}]
[11,1281,21,1296,22,1302,null,null,null,null,0,122]
[22,1409,14,1418,13,1423,null,null,null,null,0,211]
[11,1526,12,1531,24,1549,null,null,null,null,0,112,null,"Total Target Seq"]
[22,1803,14,1817,13,1821,null,null,null,null,0,211,null,{"$f":"COUNTIF(L7:L176,G3)","v":2},null,28,29,28,28,29,28]
[22,1918,23,1922,13,1932,null,null,null,null,0,221,null,null,null,"% of reinforcement given in 6 equal intervals based on number of trials "]
[11,2070,12,2073,13,2075,null,null,null,null,0,111,null,null,null,"%_1","%_2","%_3","%_4","%_5","%_6"]
[11,2177,12,2182,13,2188,null,null,null,null,0,111,null,null,"target sequence",{"$f":"$G$3","v":121},{"$f":"$G$3","v":121},{"$f":"$G$3","v":121},{"$f":"$G$3","v":121},{"$f":"$G$3","v":121},{"$f":"$G$3","v":121}]
[22,2285,23,2290,24,2297,null,null,null,null,0,222,null,null,"total reinforcement",{"$f":"U9","v":0},{"$f":"Z9","v":0},{"$f":"AE9","v":1},{"$f":"AJ9","v":0},{"$f":"AO9","v":1},{"$f":"AT9","v":0}]
[11,2392,21,2406,22,2411,null,null,null,null,0,122,null,null,"% target"]
[11,2509,12,2514,13,2520,null,null,null,null,0,111,null,null,"CCRF"]
[11,2614,12,2618,24,2632,null,null,null,null,0,112,null,null,"% CCRf"]
[11,2727,12,2735,13,2742,null,null,null,null,0,111,null,null,"average response rate",{"$f":"F34/P20","v":127.89285714285714},{"$f":"(F63-F34)/Q20","v":121.44827586206897},{"$f":"(F91-F63)/R20","v":145.5},{"$f":"(F119-F91)/S20","v":146.39285714285714},{"$f":"(F148-F119)/T20","v":152.13793103448276},{"$f":"(F176-F148)/U20","v":151.57142857142858}]
[11,2837,12,2842,13,2851,null,null,null,null,0,111]
[11,3090,21,3101,22,3105,null,null,null,null,0,122]
[11,3216,12,3221,13,3227,null,null,null,null,0,111]
[22,3324,14,3337,13,3342,null,null,null,null,0,211]
[22,3442,14,3451,24,3465,null,null,null,null,0,212]
[22,3562,14,3577,13,3581,null,null,null,null,0,211]
[11,3676,21,3690,22,3694,null,null,null,null,0,122]
[22,3791,23,3796,13,3804,null,null,null,null,0,221]
[22,3909,14,3918,24,3931,null,null,null,null,0,212]
[22,4041,23,4044,24,4049,null,null,null,null,0,222]
[11,4165,12,4168,13,4175,null,null,null,null,0,111]
[22,4272,14,4287,13,4301,null,null,null,null,0,211]
[11,4401,12,4407,13,4414,null,null,null,null,0,111]
[22,4510,14,4526,13,4530,null,null,null,null,0,211]
[22,4628,14,4636,13,4640,null,null,null,null,0,211]
[22,4747,14,4755,13,4759,null,null,null,null,0,211]
[11,4870,21,4884,22,4887,null,null,null,null,0,122]
[11,4988,12,4992,13,4997,null,null,null,null,0,111]
[22,5105,23,5109,24,5113,null,null,null,null,0,222]
[11,5230,12,5236,24,5249,null,null,null,null,0,112]
[22,5349,23,5357,13,5365,null,null,null,null,0,221]
[22,5460,23,5463,13,5477,null,null,null,null,0,221]
[22,5582,14,5592,13,5596,null,null,null,null,0,211]
[22,5693,23,5698,24,5704,null,null,null,null,0,222]
[22,5801,23,5806,13,5822,null,null,null,null,0,221]
[22,5920,23,5927,24,5936,null,null,null,null,0,222]
[22,6035,14,6049,13,6052,null,null,null,null,0,211]
[22,6151,23,6157,13,6169,null,null,null,null,0,221]
[22,6266,14,6279,13,6288,null,null,null,null,0,211]
[22,6384,23,6388,13,6402,null,null,null,null,0,221]
[11,6501,12,6505,24,6514,null,null,null,null,0,112]
[22,6612,14,6627,13,6636,null,null,null,null,0,211]
[22,6733,23,6744,24,6750,null,null,null,null,0,222]
[11,6973,12,6980,13,6986,null,null,null,null,0,111]
[22,7080,14,7093,13,7103,null,null,null,null,0,211]
[11,7211,12,7219,13,7225,null,null,null,null,0,111]
[11,7344,12,7350,13,7356,null,null,null,null,0,111]
[11,7466,21,7480,22,7484,null,null,null,null,0,122]
[11,7583,12,7588,24,7596,null,null,null,null,0,112]
[22,7696,14,7703,13,7707,null,null,null,null,0,211]
[22,7808,14,7816,24,7829,null,null,null,null,0,212]
[22,7931,23,7938,24,7945,null,null,null,null,0,222]
[11,8184,12,8189,13,8223,null,null,null,null,0,111]
[22,8316,23,8323,13,8341,null,null,null,null,0,221]
[22,8438,23,8446,24,8458,null,null,null,null,0,222]
[22,8597,14,8610,13,8615,null,null,null,null,0,211]
[11,8713,21,8726,22,8729,null,null,null,null,0,122]
[11,8832,21,8847,22,8854,null,null,null,null,0,122]
[22,8954,23,8959,24,8965,null,null,null,null,0,222]
[22,9063,14,9071,13,9074,null,null,null,null,0,211]
[11,9245,12,9250,13,9256,null,null,null,null,0,111]
[11,9354,12,9358,24,9368,null,null,null,null,0,112]
[11,9507,21,9539,11,9548,null,null,null,null,0,121]
[22,9829,14,9838,13,9843,null,null,null,null,0,211]
[22,9940,23,9972,24,9976,null,null,null,null,0,222]
[11,10088,12,10091,24,10104,null,null,null,null,0,112]
[11,10311,12,10317,13,10323,null,null,null,null,0,111]
[22,10420,23,10425,24,10429,null,null,null,null,0,222]
[22,10526,14,10543,13,10554,null,null,null,null,0,211]
[22,10651,23,10657,13,10667,null,null,null,null,0,221]
[22,10919,14,10934,13,10943,null,null,null,null,0,211]
[22,11041,14,11051,13,11056,null,null,null,null,0,211]
[11,11157,12,11165,24,11177,null,null,null,null,0,112]
[22,11313,23,11323,13,11336,null,null,null,null,0,221]
[11,11445,21,11460,22,11466,null,null,null,null,0,122]
[22,11601,14,11615,13,11624,null,null,null,null,0,211]
[22,11720,14,11738,13,11741,null,null,null,null,0,211]
[22,11840,14,11852,13,11858,null,null,null,null,0,211]
[11,11967,12,11973,13,11980,null,null,null,null,0,111]
[22,12076,23,12081,13,12092,null,null,null,null,0,221]
[22,12194,23,12207,24,12212,null,null,null,null,0,222]
[11,12310,12,12314,24,12326,null,null,null,null,0,112]
[22,12422,23,12430,13,12441,null,null,null,null,0,221]
[22,12540,14,12560,13,12566,null,null,null,null,0,211]
[22,12664,14,12676,24,12692,null,null,null,null,0,212]
[22,12799,14,12808,13,12814,null,null,null,null,0,211]
[22,12910,23,12919,13,12927,null,null,null,null,0,221]
[11,13026,12,13031,24,13041,null,null,null,null,0,112]
[22,13143,14,13152,13,13156,null,null,null,null,0,211]
[11,13252,12,13257,13,13266,null,null,null,null,0,111]
[11,13366,12,13371,13,13377,null,null,null,null,0,111]
[22,13480,14,13493,13,13498,null,null,null,null,0,211]
[22,13598,23,13605,13,13613,null,null,null,null,0,221]
[11,14324,12,14330,13,14336,null,null,null,null,0,111]
[22,14442,23,14447,24,14453,null,null,null,null,0,222]
[22,14552,14,14571,24,14590,null,null,null,null,0,212]
[22,14717,23,14721,24,14726,null,null,null,null,0,222]
[11,14825,12,14828,24,14855,null,null,null,null,0,112]
[11,15020,12,15026,13,15034,null,null,null,null,0,111]
[11,15142,21,15156,22,15160,null,null,null,null,0,122]
[11,15255,21,15271,22,15276,null,null,null,null,0,122]
[11,15376,12,15395,13,15404,null,null,null,null,0,111]
[11,15567,12,15571,13,15577,null,null,null,null,0,111]
[11,15681,21,15714,22,15721,null,null,null,null,0,122]
[22,15827,14,15839,13,15843,null,null,null,null,0,211]
[22,15940,23,15948,13,15956,null,null,null,null,0,221]
[11,16069,12,16083,24,16096,null,null,null,null,0,112]
[22,16188,14,16195,13,16199,null,null,null,null,0,211]
[22,16305,14,16315,24,16327,null,null,null,null,0,212]
[11,16430,12,16437,24,16451,null,null,null,null,0,112]
[11,16627,12,16632,13,16638,null,null,null,null,0,111]
[22,16784,14,16801,13,16809,null,null,null,null,0,211]
[22,16909,14,16918,24,16931,null,null,null,null,0,212]
[22,17045,23,17049,24,17055,null,null,null,null,0,222]
[11,17239,12,17243,13,17249,null,null,null,null,0,111]
[22,17346,23,17351,13,17360,null,null,null,null,0,221]
[11,17532,12,17537,13,17543,null,null,null,null,0,111]
[22,17672,23,17678,24,17686,null,null,null,null,0,222]
[22,17875,14,17885,13,17889,null,null,null,null,0,211]
[22,18005,23,18021,24,18026,null,null,null,null,0,222]
[22,18126,23,18134,24,18146,null,null,null,null,0,222]
[11,18249,12,18256,13,18260,null,null,null,null,0,111]
[22,18353,23,18356,24,18359,null,null,null,null,0,222]
[22,18463,14,18472,13,18476,null,null,null,null,0,211]
[11,18606,21,18629,11,18642,null,null,null,null,0,121]
[11,18934,12,18946,13,18953,null,null,null,null,0,111]
[11,19308,12,19315,13,19322,null,null,null,null,0,111]
[22,19439,14,19451,13,19456,null,null,null,null,0,211]
[22,19552,14,19565,13,19572,null,null,null,null,0,211]
[11,19673,12,19677,24,19688,null,null,null,null,0,112]
[22,19878,14,19897,13,19917,null,null,null,null,0,211]
[22,20015,14,20026,13,20030,null,null,null,null,0,211]
[11,20123,12,20127,24,20139,null,null,null,null,0,112]
[22,20235,23,20241,13,20253,null,null,null,null,0,221]
[22,20391,14,20400,13,20407,null,null,null,null,0,211]
[11,20506,21,20525,22,20529,null,null,null,null,0,122]
[11,20856,12,20861,13,20869,null,null,null,null,0,111]
[22,20967,14,20979,13,20985,null,null,null,null,0,211]
[22,21081,14,21092,13,21096,null,null,null,null,0,211]
[11,21199,12,21205,13,21212,null,null,null,null,0,111]
[11,21309,12,21313,24,21325,null,null,null,null,0,112]
[22,21421,14,21431,13,21436,null,null,null,null,0,211]
[11,21535,12,21540,24,21551,null,null,null,null,0,112]
[22,21650,14,21660,13,21664,null,null,null,null,0,211]
[22,21761,23,21766,13,21782,null,null,null,null,0,221]
[22,21879,23,21884,13,21894,null,null,null,null,0,221]
[22,21992,14,22003,13,22008,null,null,null,null,0,211]
[11,22105,21,22116,22,22121,null,null,null,null,0,122]
[22,22219,23,22224,13,22237,null,null,null,null,0,221]
[22,22332,23,22337,13,22349,null,null,null,null,0,221]
[22,22445,14,22461,13,22467,null,null,null,null,0,211]
[11,22563,21,22577,22,22581,null,null,null,null,0,122]
[11,22681,12,22690,13,22696,null,null,null,null,0,111]
[11,22794,12,22800,13,22806,null,null,null,null,0,111]
[22,22902,14,22922,13,22928,null,null,null,null,0,211]
[11,23039,12,23042,13,23052,null,null,null,null,0,111]
[11,23769,12,23813,13,23817,null,null,null,null,0,111]
[22,23914,14,23925,13,23932,null,null,null,null,null,211]

{"sheet":"!M302A5I.sha","index":24,"n_rows":182,"n_cols":48,"rows_kept":182,"cut":false,"hidden":false,"merged":[[4,39,4,42],[5,39,5,40],[4,44,4,47],[5,44,5,45],[4,24,4,27],[5,24,5,25],[4,29,4,32],[5,29,5,30],[4,34,4,37],[5,34,5,35],[1,1,1,2],[5,13,5,14],[18,13,18,14],[19,13,19,14],[4,19,4,22],[5,19,5,20]]}
["Report for:!M302A5I.sha"]
["Date:","<date>"]
["Hen:","<hen>",null,null,null,"Correct Sequence",{"$f":"Start!J2","v":121},null,null,null,null,null,null,null,null,"Total Sequences in Data",{"$f":"4994-COUNTBLANK(L7:L5000)","v":176},null,null,null,null,"Total Sequences in Block Data",{"$f":"COUNTA(L7:L35)","v":29},null,null,null,"Total Sequences in Block Data",{"$f":"COUNTA(L36:L65)","v":30},null,null,null,"Total Sequences in Block Data",{"$f":"COUNTA(L66:L94)","v":29},null,null,null,"Total Sequences in Block Data",{"$f":"COUNTA(L95:L123)","v":29},null,null,null,"Total Sequences in Block Data",{"$f":"COUNTA(L124:L153)","v":30},null,null,null,"Total Sequences in Block Data",{"$f":"COUNTA(L154:L182)","v":29}]
[null,null,null,null,null,null,null,null,null,null,null,null,null,null,null,"Total Sequences in Summary",{"$f":"SUM(O7:O14)","v":176},null,null,null,null,"Total Sequences in Block Summary",{"$f":"SUM(U7:U14)","v":29},null,null,null,"Total Sequences in Block Summary",{"$f":"SUM(Z7:Z14)","v":30},null,null,null,"Total Sequences in Block Summary",{"$f":"SUM(AE7:AE14)","v":29},null,null,null,"Total Sequences in Block Summary",{"$f":"SUM(AJ7:AJ14)","v":29},null,null,null,"Total Sequences in Block Summary",{"$f":"SUM(AO7:AO14)","v":30},null,null,null,"Total Sequences in Block Summary",{"$f":"SUM(AT7:AT14)","v":29}]
[null,null,null,null,null,null,null,null,null,null,null,null,null,null,null,null,null,null,null,"Block 1",null,null,null,null,"Block 2",null,null,null,null,"Block 3",null,null,null,null,"Block 4",null,null,null,null,"Block 5",null,null,null,null,"Block 6"]
["Sequence\nComponent\n1","Time\n1","Sequence\nComponent\n2","Time\n2","Sequence\nComponent\n3","Time\n3","Sequence\nComponent\n4","Time\n4","Sequence\nComponent\n5","Time\n5","Correct?\n0=No 1=Yes","Sequence",null,"Frequency",null,"Relative Frequency","Variability",null,null,"Frequency",null,"Relative Frequency","Variability",null,"Frequency",null,"Relative Frequency","Variability",null,"Frequency",null,"Relative Frequency","Variability",null,"Frequency",null,"Relative Frequency","Variability",null,"Frequency",null,"Relative Frequency","Variability",null,"Frequency",null,"Relative Frequency","Variability"]
[11,11,21,29,22,35,null,null,null,null,0,122,null,111,{"$f":"COUNTIF($L$7:$L$500,N7)","v":34},{"$f":"O7/$Q$4","v":0.19318181818181818},{"$f":"IF(P7=0,0,(P7*((LOG(P7))/LOG(2))))","v":-0.45822124108611684},null,null,{"$f":"N7","v":111},{"$f":"COUNTIF(L7:L35,T7)","v":3},{"$f":"U7/(W4-U9)","v":0.10344827586206896},{"$f":"IF(V7=0,0,(V7*((LOG(V7))/LOG(2))))","v":-0.33858812011100858},null,{"$f":"N7","v":111},{"$f":"COUNTIF(L36:L65,Y7)","v":3},{"$f":"Z7/(AB4-Z9)","v":0.1},{"$f":"IF(AA7=0,0,(AA7*((LOG(AA7))/LOG(2))))","v":-0.33219280948873625},null,{"$f":"N7","v":111},{"$f":"COUNTIF(L66:L94,AD7)","v":5},{"$f":"AE7/(AG4-AE9)","v":0.17857142857142858},{"$f":"IF(AF7=0,0,(AF7*((LOG(AF7))/LOG(2))))","v":-0.44382621913754317},null,{"$f":"N7","v":111},{"$f":"COUNTIF(L95:L123,AI7)","v":9},{"$f":"AJ7/(AL4-AJ9)","v":0.31034482758620691},{"$f":"IF(AK7=0,0,(AK7*((LOG(AK7))/LOG(2))))","v":-0.52387944631611505},null,{"$f":"N7","v":111},{"$f":"COUNTIF(L124:L153,AN7)","v":5},{"$f":"AO7/(AQ4-AO9)","v":0.16666666666666666},{"$f":"IF(AP7=0,0,(AP7*((LOG(AP7))/LOG(2))))","v":-0.43082708345352599},null,{"$f":"N7","v":111},{"$f":"COUNTIF(L154:L182,AS7)","v":9},{"$f":"AT7/(AV4-AT9)","v":0.31034482758620691},{"$f":"IF(AU7=0,0,(AU7*((LOG(AU7))/LOG(2))))","v":-0.52387944631611505}]
[22,136,14,145,13,150,null,null,null,null,0,211,null,112,{"$f":"COUNTIF($L$7:$L$500,N8)","v":17},{"$f":"O8/$Q$4","v":9.6590909090909088E-2},{"$f":"IF(P8=0,0,(P8*((LOG(P8))/LOG(2))))","v":-0.32570152963396748},null,null,{"$f":"N8","v":112},{"$f":"COUNTIF(L7:L35,T8)","v":2},{"$f":"U8/(W4-U9)","v":6.8965517241379309E-2},{"$f":"IF(V8=0,0,(V8*((LOG(V8))/LOG(2))))","v":-0.26606765483638428},null,{"$f":"N8","v":112},{"$f":"COUNTIF(L36:L65,Y8)","v":4},{"$f":"Z8/(AB4-Z9)","v":0.13333333333333333},{"$f":"IF(AA8=0,0,(AA8*((LOG(AA8))/LOG(2))))","v":-0.3875854127478025},null,{"$f":"N8","v":112},{"$f":"COUNTIF(L66:L94,AD8)","v":4},{"$f":"AE8/(AG4-AE9)","v":0.14285714285714285},{"$f":"IF(AF8=0,0,(AF8*((LOG(AF8))/LOG(2))))","v":-0.40105070315108626},null,{"$f":"N8","v":112},{"$f":"COUNTIF(L95:L123,AI8)","v":2},{"$f":"AJ8/(AL4-AJ9)","v":6.8965517241379309E-2},{"$f":"IF(AK8=0,0,(AK8*((LOG(AK8))/LOG(2))))","v":-0.26606765483638428},null,{"$f":"N8","v":112},{"$f":"COUNTIF(L124:L153,AN8)","v":1},{"$f":"AO8/(AQ4-AO9)","v":3.3333333333333333E-2},{"$f":"IF(AP8=0,0,(AP8*((LOG(AP8))/LOG(2))))","v":-0.16356301985361729},null,{"$f":"N8","v":112},{"$f":"COUNTIF(L154:L182,AS8)","v":4},{"$f":"AT8/(AV4-AT9)","v":0.13793103448275862},{"$f":"IF(AU8=0,0,(AU8*((LOG(AU8))/LOG(2))))","v":-0.39420427519000989}]
[11,258,21,274,22,279,null,null,null,null,0,122,null,121,{"$f":"COUNTIF($L$7:$L$500,N9)","v":1},{"$f":"O9/$Q$4","v":5.681818181818182E-3},{"$f":"IF(P9=0,0,(P9*((LOG(P9))/LOG(2))))","v":-4.2383134196802827E-2},null,null,{"$f":"N9","v":121},{"$f":"COUNTIF(L7:L35,T9)","v":0},null,null,null,{"$f":"N9","v":121},{"$f":"COUNTIF(L36:L65,Y9)","v":0},null,null,null,{"$f":"N9","v":121},{"$f":"COUNTIF(L66:L94,AD9)","v":1},null,null,null,{"$f":"N9","v":121},{"$f":"COUNTIF(L95:L123,AI9)","v":0},null,null,null,{"$f":"N9","v":121},{"$f":"COUNTIF(L124:L153,AN9)","v":0},null,null,null,{"$f":"N9","v":121},{"$f":"COUNTIF(L154:L182,AS9)","v":0}]
[22,391,23,396,24,401,null,null,null,null,0,222,null,122,{"$f":"COUNTIF($L$7:$L$500,N10)","v":25},{"$f":"O10/$Q$4","v":0.14204545454545456},{"$f":"IF(P10=0,0,(P10*((LOG(P10))/LOG(2))))","v":-0.39993969159979725},null,null,{"$f":"N10","v":122},{"$f":"COUNTIF(L7:L35,T10)","v":6},{"$f":"U10/(W4-U9)","v":0.20689655172413793},{"$f":"IF(V10=0,0,(V10*((LOG(V10))/LOG(2))))","v":-0.4702796884978791},null,{"$f":"N10","v":122},{"$f":"COUNTIF(L36:L65,Y10)","v":9},{"$f":"Z10/(AB4-Z9)","v":0.3},{"$f":"IF(AA10=0,0,(AA10*((LOG(AA10))/LOG(2))))","v":-0.52108967824986185},null,{"$f":"N10","v":122},{"$f":"COUNTIF(L66:L94,AD10)","v":3},{"$f":"AE10/(AG4-AE9)","v":0.10714285714285714},{"$f":"IF(AF10=0,0,(AF10*((LOG(AF10))/LOG(2))))","v":-0.34525633085747659},null,{"$f":"N10","v":122},{"$f":"COUNTIF(L95:L123,AI10)","v":4},{"$f":"AJ10/(AL4-AJ9)","v":0.13793103448275862},{"$f":"IF(AK10=0,0,(AK10*((LOG(AK10))/LOG(2))))","v":-0.39420427519000989},null,{"$f":"N10","v":122},{"$f":"COUNTIF(L124:L153,AN10)","v":1},{"$f":"AO10/(AQ4-AO9)","v":3.3333333333333333E-2},{"$f":"IF(AP10=0,0,(AP10*((LOG(AP10))/LOG(2))))","v":-0.16356301985361729},null,{"$f":"N10","v":122},{"$f":"COUNTIF(L154:L182,AS10)","v":2},{"$f":"AT10/(AV4-AT9)","v":6.8965517241379309E-2},{"$f":"IF(AU10=0,0,(AU10*((LOG(AU10))/LOG(2))))","v":-0.26606765483638428}]
[22,510,23,519,24,525,null,null,null,null,0,222,null,211,{"$f":"COUNTIF($L$7:$L$500,N11)","v":46},{"$f":"O11/$Q$4","v":0.26136363636363635},{"$f":"IF(P11=0,0,(P11*((LOG(P11))/LOG(2))))","v":-0.50596593453802885},null,null,{"$f":"N11","v":211},{"$f":"COUNTIF(L7:L35,T11)","v":9},{"$f":"U11/(W4-U9)","v":0.31034482758620691},{"$f":"IF(V11=0,0,(V11*((LOG(V11))/LOG(2))))","v":-0.52387944631611505},null,{"$f":"N11","v":211},{"$f":"COUNTIF(L36:L65,Y11)","v":6},{"$f":"Z11/(AB4-Z9)","v":0.2},{"$f":"IF(AA11=0,0,(AA11*((LOG(AA11))/LOG(2))))","v":-0.46438561897747244},null,{"$f":"N11","v":211},{"$f":"COUNTIF(L66:L94,AD11)","v":10},{"$f":"AE11/(AG4-AE9)","v":0.35714285714285715},{"$f":"IF(AF11=0,0,(AF11*((LOG(AF11))/LOG(2))))","v":-0.53050958113222924},null,{"$f":"N11","v":211},{"$f":"COUNTIF(L95:L123,AI11)","v":7},{"$f":"AJ11/(AL4-AJ9)","v":0.2413793103448276},{"$f":"IF(AK11=0,0,(AK11*((LOG(AK11))/LOG(2))))","v":-0.49497870729275095},null,{"$f":"N11","v":211},{"$f":"COUNTIF(L124:L153,AN11)","v":9},{"$f":"AO11/(AQ4-AO9)","v":0.3},{"$f":"IF(AP11=0,0,(AP11*((LOG(AP11))/LOG(2))))","v":-0.52108967824986185},null,{"$f":"N11","v":211},{"$f":"COUNTIF(L154:L182,AS11)","v":5},{"$f":"AT11/(AV4-AT9)","v":0.17241379310344829},{"$f":"IF(AU11=0,0,(AU11*((LOG(AU11))/LOG(2))))","v":-0.43725050004141547}]
[22,638,23,642,24,653,null,null,null,null,0,222,null,212,{"$f":"COUNTIF($L$7:$L$500,N12)","v":3},{"$f":"O12/$Q$4","v":1.7045454545454544E-2},{"$f":"IF(P12=0,0,(P12*((LOG(P12))/LOG(2))))","v":-0.10013299632811604},null,null,{"$f":"N12","v":212},{"$f":"COUNTIF(L7:L35,T12)","v":0},{"$f":"U12/(W4-U9)","v":0},{"$f":"IF(V12=0,0,(V12*((LOG(V12))/LOG(2))))","v":0},null,{"$f":"N12","v":212},{"$f":"COUNTIF(L36:L65,Y12)","v":1},{"$f":"Z12/(AB4-Z9)","v":3.3333333333333333E-2},{"$f":"IF(AA12=0,0,(AA12*((LOG(AA12))/LOG(2))))","v":-0.16356301985361729},null,{"$f":"N12","v":212},{"$f":"COUNTIF(L66:L94,AD12)","v":0},{"$f":"AE12/(AG4-AE9)","v":0},{"$f":"IF(AF12=0,0,(AF12*((LOG(AF12))/LOG(2))))","v":0},null,{"$f":"N12","v":212},{"$f":"COUNTIF(L95:L123,AI12)","v":1},{"$f":"AJ12/(AL4-AJ9)","v":3.4482758620689655E-2},{"$f":"IF(AK12=0,0,(AK12*((LOG(AK12))/LOG(2))))","v":-0.16751658603888178},null,{"$f":"N12","v":212},{"$f":"COUNTIF(L124:L153,AN12)","v":0},{"$f":"AO12/(AQ4-AO9)","v":0},{"$f":"IF(AP12=0,0,(AP12*((LOG(AP12))/LOG(2))))","v":0},null,{"$f":"N12","v":212},{"$f":"COUNTIF(L154:L182,AS12)","v":1},{"$f":"AT12/(AV4-AT9)","v":3.4482758620689655E-2},{"$f":"IF(AU12=0,0,(AU12*((LOG(AU12))/LOG(2))))","v":-0.16751658603888178}]
[11,747,21,761,22,764,null,null,null,null,0,122,null,221,{"$f":"COUNTIF($L$7:$L$500,N13)","v":24},{"$f":"O13/$Q$4","v":0.13636363636363635},{"$f":"IF(P13=0,0,(P13*((LOG(P13))/LOG(2))))","v":-0.39197306153401923},null,null,{"$f":"N13","v":221},{"$f":"COUNTIF(L7:L35,T13)","v":3},{"$f":"U13/(W4-U9)","v":0.10344827586206896},{"$f":"IF(V13=0,0,(V13*((LOG(V13))/LOG(2))))","v":-0.33858812011100858},null,{"$f":"N13","v":221},{"$f":"COUNTIF(L36:L65,Y13)","v":5},{"$f":"Z13/(AB4-Z9)","v":0.16666666666666666},{"$f":"IF(AA13=0,0,(AA13*((LOG(AA13))/LOG(2))))","v":-0.43082708345352599},null,{"$f":"N13","v":221},{"$f":"COUNTIF(L66:L94,AD13)","v":3},{"$f":"AE13/(AG4-AE9)","v":0.10714285714285714},{"$f":"IF(AF13=0,0,(AF13*((LOG(AF13))/LOG(2))))","v":-0.34525633085747659},null,{"$f":"N13","v":221},{"$f":"COUNTIF(L95:L123,AI13)","v":2},{"$f":"AJ13/(AL4-AJ9)","v":6.8965517241379309E-2},{"$f":"IF(AK13=0,0,(AK13*((LOG(AK13))/LOG(2))))","v":-0.26606765483638428},null,{"$f":"N13","v":221},{"$f":"COUNTIF(L124:L153,AN13)","v":7},{"$f":"AO13/(AQ4-AO9)","v":0.23333333333333334},{"$f":"IF(AP13=0,0,(AP13*((LOG(AP13))/LOG(2))))","v":-0.48989165716187993},null,{"$f":"N13","v":221},{"$f":"COUNTIF(L154:L182,AS13)","v":4},{"$f":"AT13/(AV4-AT9)","v":0.13793103448275862},{"$f":"IF(AU13=0,0,(AU13*((LOG(AU13))/LOG(2))))","v":-0.39420427519000989}]
[22,862,14,869,13,874,null,null,null,null,0,211,null,222,{"$f":"COUNTIF($L$7:$L$500,N14)","v":26},{"$f":"O14/$Q$4","v":0.14772727272727273},{"$f":"IF(P14=0,0,(P14*((LOG(P14))/LOG(2))))","v":-0.40757834893693939},null,null,{"$f":"N14","v":222},{"$f":"COUNTIF(L7:L35,T14)","v":6},{"$f":"U14/(W4-U9)","v":0.20689655172413793},{"$f":"IF(V14=0,0,(V14*((LOG(V14))/LOG(2))))","v":-0.4702796884978791},null,{"$f":"N14","v":222},{"$f":"COUNTIF(L36:L65,Y14)","v":2},{"$f":"Z14/(AB4-Z9)","v":6.6666666666666666E-2},{"$f":"IF(AA14=0,0,(AA14*((LOG(AA14))/LOG(2))))","v":-0.26045937304056793},null,{"$f":"N14","v":222},{"$f":"COUNTIF(L66:L94,AD14)","v":3},{"$f":"AE14/(AG4-AE9)","v":0.10714285714285714},{"$f":"IF(AF14=0,0,(AF14*((LOG(AF14))/LOG(2))))","v":-0.34525633085747659},null,{"$f":"N14","v":222},{"$f":"COUNTIF(L95:L123,AI14)","v":4},{"$f":"AJ14/(AL4-AJ9)","v":0.13793103448275862},{"$f":"IF(AK14=0,0,(AK14*((LOG(AK14))/LOG(2))))","v":-0.39420427519000989},null,{"$f":"N14","v":222},{"$f":"COUNTIF(L124:L153,AN14)","v":7},{"$f":"AO14/(AQ4-AO9)","v":0.23333333333333334},{"$f":"IF(AP14=0,0,(AP14*((LOG(AP14))/LOG(2))))","v":-0.48989165716187993},null,{"$f":"N14","v":222},{"$f":"COUNTIF(L154:L182,AS14)","v":4},{"$f":"AT14/(AV4-AT9)","v":0.13793103448275862},{"$f":"IF(AU14=0,0,(AU14*((LOG(AU14))/LOG(2))))","v":-0.39420427519000989}]
[22,971,14,980,13,985,null,null,null,null,0,211,null,null,null,{"$f":"SUM(P7:P14)","v":1},{"$f":"-SUM(Q7:Q14)","v":2.6318959378537881},null,null,null,null,{"$f":"SUM(V7:V14)","v":1},{"$f":"-SUM(W7:W14)","v":2.4076827183702747},null,null,null,{"$f":"SUM(AA7:AA14)","v":1},{"$f":"-SUM(AB7:AB14)","v":2.5601029958115844},null,null,null,{"$f":"SUM(AF7:AF14)","v":0.99999999999999989},{"$f":"-SUM(AG7:AG14)","v":2.4111554959932882},null,null,null,{"$f":"SUM(AK7:AK14)","v":1},{"$f":"-SUM(AL7:AL14)","v":2.5069185997005361},null,null,null,{"$f":"SUM(AP7:AP14)","v":1},{"$f":"-SUM(AQ7:AQ14)","v":2.2588261157343821},null,null,null,{"$f":"SUM(AU7:AU14)","v":1},{"$f":"-SUM(AV7:AV14)","v":2.5773270128028258}]
[22,1089,14,1101,13,1107,null,null,null,null,0,211,null,null,null,"U=",{"$f":"Q15/(LOG(Q4)/LOG(2))","v":0.35282794620410873},null,null,null,null,"U1=",{"$f":"W15/(LOG(W4)/LOG(2))","v":0.49561386114624933},null,null,null,"U2=",{"$f":"AB15/(LOG(AB4)/LOG(2))","v":0.52173631058796777},null,null,null,"U3=",{"$f":"AG15/(LOG(AG4)/LOG(2))","v":0.49632872141978618},null,null,null,"U4=",{"$f":"AL15/(LOG(AL4)/LOG(2))","v":0.51604125298450321},null,null,null,"U5=",{"$f":"AQ15/(LOG(AQ4)/LOG(2))","v":0.46033757462535357},null,null,null,"U6=",{"$f":"AV15/(LOG(AV4)/LOG(2))","v":0.53053460180017531}]
[11,1202,12,1211,24,1224,null,null,null,null,0,112]
[11,1446,12,1450,13,1457,null,null,null,null,0,111]
[22,1563,23,1567,24,1573,null,null,null,null,0,222,null,"Total Target Seq"]
[22,1670,23,1679,24,1684,null,null,null,null,0,222,null,{"$f":"COUNTIF(L7:L182,G3)","v":1},null,29,30,29,29,30,29]
[11,1803,21,1826,22,1830,null,null,null,null,0,122,null,null,null,"% of reinforcement given in 6 equal intervals based on number of trials "]
[11,1928,12,1933,13,1939,null,null,null,null,0,111,null,null,null,"%_1","%_2","%_3","%_4","%_5","%_6"]
[22,2038,14,2049,13,2055,null,null,null,null,0,211,null,null,"target sequence",{"$f":"$G$3","v":121},{"$f":"$G$3","v":121},{"$f":"$G$3","v":121},{"$f":"$G$3","v":121},{"$f":"$G$3","v":121},{"$f":"$G$3","v":121}]
[11,2150,21,2164,22,2168,null,null,null,null,0,122,null,null,"total reinforcement",{"$f":"U9","v":0},{"$f":"Z9","v":0},{"$f":"AE9","v":1},{"$f":"AJ9","v":0},{"$f":"AO9","v":0},{"$f":"AT9","v":0}]
[22,2268,14,2279,13,2284,null,null,null,null,0,211,null,null,"% target"]
[22,2380,23,2385,13,2393,null,null,null,null,0,221,null,null,"CCRF"]
[11,2579,12,2587,13,2595,null,null,null,null,0,111,null,null,"% CCRf"]
[22,2693,23,2697,13,2705,null,null,null,null,0,221,null,null,"average response rate",{"$f":"F35/P20","v":121.10344827586206},{"$f":"(F65-F35)/Q20","v":129.56666666666666},{"$f":"(F94-F65)/R20","v":136.51724137931035},{"$f":"(F123-F94)/S20","v":129.65517241379311},{"$f":"(F153-F123)/T20","v":153.36666666666667},{"$f":"(F182-F153)/U20","v":144.31034482758622}]
[22,2802,23,2808,13,2823,null,null,null,null,0,221]
[22,2920,14,2933,13,2939,null,null,null,null,0,211]
[22,3035,14,3047,13,3054,null,null,null,null,0,211]
[22,3151,23,3156,24,3161,null,null,null,null,0,222]
[11,3256,21,3267,22,3271,null,null,null,null,0,122]
[22,3370,14,3383,13,3393,null,null,null,null,0,211]
[11,3494,12,3498,24,3512,null,null,null,null,0,112]
[22,3609,14,3618,13,3624,null,null,null,null,0,211]
[11,3720,21,3734,22,3740,null,null,null,null,0,122]
[22,3836,14,3849,13,3860,null,null,null,null,0,211]
[22,3957,23,3967,13,3978,null,null,null,null,0,221]
[11,4088,21,4099,22,4103,null,null,null,null,0,122]
[22,4210,14,4219,13,4224,null,null,null,null,0,211]
[11,4335,12,4344,24,4357,null,null,null,null,0,112]
[11,4452,12,4458,24,4469,null,null,null,null,0,112]
[11,4570,21,4581,22,4585,null,null,null,null,0,122]
[11,4687,21,4699,22,4702,null,null,null,null,0,122]
[22,4803,14,4812,13,4816,null,null,null,null,0,211]
[22,4913,23,4920,13,4930,null,null,null,null,0,221]
[22,5027,14,5037,13,5042,null,null,null,null,0,211]
[11,5154,12,5159,24,5173,null,null,null,null,0,112]
[22,5275,23,5284,13,5299,null,null,null,null,0,221]
[11,5409,21,5423,22,5427,null,null,null,null,0,122]
[11,5532,21,5546,22,5548,null,null,null,null,0,122]
[11,5644,12,5648,13,5652,null,null,null,null,0,111]
[22,5789,23,5798,24,5805,null,null,null,null,0,222]
[11,5913,12,5917,13,5923,null,null,null,null,0,111]
[11,6026,12,6033,24,6043,null,null,null,null,0,112]
[22,6153,14,6164,13,6167,null,null,null,null,0,211]
[22,6279,14,6291,24,6306,null,null,null,null,0,212]
[22,6407,23,6414,13,6425,null,null,null,null,0,221]
[11,6744,21,6755,22,6759,null,null,null,null,0,122]
[22,6881,23,6884,24,6889,null,null,null,null,0,222]
[11,6990,12,6993,13,7001,null,null,null,null,0,111]
[22,7099,23,7105,13,7113,null,null,null,null,0,221]
[11,7251,21,7269,22,7274,null,null,null,null,0,122]
[11,7382,21,7393,22,7399,null,null,null,null,0,122]
[22,7495,23,7502,13,7511,null,null,null,null,0,221]
[11,7631,12,7640,24,7653,null,null,null,null,0,112]
[11,7762,12,7765,13,7772,null,null,null,null,0,111]
[22,7864,23,7872,13,7884,null,null,null,null,0,221]
[11,8072,12,8077,13,8084,null,null,null,null,0,111]
[22,8187,14,8195,13,8199,null,null,null,null,0,211]
[11,8333,21,8346,22,8351,null,null,null,null,0,122]
[11,8453,21,8454,11,8475,null,null,null,null,0,121]
[11,8770,12,8776,13,8786,null,null,null,null,0,111]
[22,8884,14,8895,13,8901,null,null,null,null,0,211]
[11,8999,21,9010,22,9013,null,null,null,null,0,122]
[22,9123,23,9129,24,9133,null,null,null,null,0,222]
[22,9230,23,9250,24,9255,null,null,null,null,0,222]
[22,9360,14,9368,13,9375,null,null,null,null,0,211]
[11,9472,12,9484,24,9495,null,null,null,null,0,112]
[11,9654,12,9658,13,9665,null,null,null,null,0,111]
[11,9766,12,9771,24,9784,null,null,null,null,0,112]
[22,9887,14,9896,13,9904,null,null,null,null,0,211]
[22,10013,14,10026,13,10033,null,null,null,null,0,211]
[22,10129,23,10156,24,10162,null,null,null,null,0,222]
[11,10275,12,10281,13,10288,null,null,null,null,0,111]
[22,10386,14,10395,13,10400,null,null,null,null,0,211]
[11,10510,12,10514,24,10526,null,null,null,null,0,112]
[22,10624,14,10643,13,10650,null,null,null,null,0,211]
[22,10756,23,10766,13,10781,null,null,null,null,0,221]
[22,10981,14,10993,13,10999,null,null,null,null,0,211]
[11,11097,21,11107,22,11112,null,null,null,null,0,122]
[22,11217,14,11227,13,11233,null,null,null,null,0,211]
[22,11337,14,11352,13,11358,null,null,null,null,0,211]
[11,11458,21,11478,22,11483,null,null,null,null,0,122]
[11,11580,12,11589,24,11599,null,null,null,null,0,112]
[22,11696,23,11701,24,11706,null,null,null,null,0,222]
[11,11805,12,11809,13,11814,null,null,null,null,0,111]
[11,11941,12,11947,13,11954,null,null,null,null,0,111]
[22,12051,14,12062,13,12066,null,null,null,null,0,211]
[11,12187,12,12192,13,12198,null,null,null,null,0,111]
[22,12294,14,12304,13,12314,null,null,null,null,0,211]
[11,12609,12,12614,13,12620,null,null,null,null,0,111]
[11,12725,12,12730,13,12736,null,null,null,null,0,111]
[22,12831,23,12836,13,12846,null,null,null,null,0,221]
[11,12946,12,12950,13,12956,null,null,null,null,0,111]
[11,13054,21,13068,22,13072,null,null,null,null,0,122]
[22,13168,14,13189,13,13193,null,null,null,null,0,211]
[22,13290,23,13299,24,13301,null,null,null,null,0,222]
[11,13397,12,13401,13,13410,null,null,null,null,0,111]
[11,13518,12,13523,13,13529,null,null,null,null,0,111]
[22,13760,14,13769,13,13805,null,null,null,null,0,211]
[22,13902,14,13921,13,13928,null,null,null,null,0,211]
[11,14033,12,14039,13,14047,null,null,null,null,0,111]
[22,14142,23,14146,24,14151,null,null,null,null,0,222]
[11,14248,21,14261,22,14267,null,null,null,null,0,122]
[22,14362,23,14374,13,14384,null,null,null,null,0,221]
[22,14480,14,14512,13,14517,null,null,null,null,0,211]
[11,14623,12,14627,24,14647,null,null,null,null,0,112]
[11,14748,21,14759,22,14765,null,null,null,null,0,122]
[22,14865,14,14874,13,14879,null,null,null,null,0,211]
[22,14984,14,14999,24,15010,null,null,null,null,0,212]
[22,15108,23,15112,24,15118,null,null,null,null,0,222]
[22,15230,14,15243,13,15249,null,null,null,null,0,211]
[22,15347,23,15354,24,15365,null,null,null,null,0,222]
[22,15462,23,15468,24,15475,null,null,null,null,0,222]
[22,15577,14,15588,13,15594,null,null,null,null,0,211]
[11,15689,12,15693,24,15704,null,null,null,null,0,112]
[11,15804,21,15815,22,15819,null,null,null,null,0,122]
[22,15916,23,15921,13,15934,null,null,null,null,0,221]
[22,16033,23,16042,13,16053,null,null,null,null,0,221]
[22,16148,14,16160,13,16164,null,null,null,null,0,211]
[22,16261,23,16266,13,16285,null,null,null,null,0,221]
[22,17064,14,17111,13,17116,null,null,null,null,0,211]
[11,17247,12,17251,13,17259,null,null,null,null,0,111]
[22,17368,14,17377,13,17382,null,null,null,null,0,211]
[22,17488,14,17496,13,17504,null,null,null,null,0,211]
[22,17604,23,17625,24,17635,null,null,null,null,0,222]
[11,17805,12,17812,13,17824,null,null,null,null,0,111]
[22,17921,23,17928,13,17938,null,null,null,null,0,221]
[22,18038,23,18042,24,18048,null,null,null,null,0,222]
[22,18144,14,18167,13,18177,null,null,null,null,0,211]
[11,18368,12,18372,13,18379,null,null,null,null,0,111]
[22,18477,23,18486,24,18495,null,null,null,null,0,222]
[22,18602,14,18613,13,18618,null,null,null,null,0,211]
[11,18793,12,18798,13,18804,null,null,null,null,0,111]
[22,18899,14,18917,13,18923,null,null,null,null,0,211]
[22,19020,23,19032,13,19044,null,null,null,null,0,221]
[22,19147,23,19159,24,19165,null,null,null,null,0,222]
[22,19269,23,19295,13,19310,null,null,null,null,0,221]
[11,19477,12,19481,13,19487,null,null,null,null,0,111]
[22,19587,23,19595,13,19604,null,null,null,null,0,221]
[22,19702,23,19707,24,19719,null,null,null,null,0,222]
[11,19841,12,19845,13,19855,null,null,null,null,0,111]
[11,20013,12,20018,13,20026,null,null,null,null,0,111]
[22,20128,23,20138,24,20148,null,null,null,null,0,222]
[11,20244,12,20249,13,20255,null,null,null,null,0,111]
[22,20350,23,20366,24,20384,null,null,null,null,0,222]
[22,20482,23,20495,24,20506,null,null,null,null,0,222]
[11,20625,21,20640,22,20645,null,null,null,null,0,122]
[22,20740,23,20751,13,20767,null,null,null,null,0,221]
[11,20891,12,20895,13,20901,null,null,null,null,0,111]
[11,21001,12,21018,24,21030,null,null,null,null,0,112]
[11,21188,12,21193,13,21199,null,null,null,null,0,111]
[11,21312,12,21322,24,21331,null,null,null,null,0,112]
[22,21470,14,21479,13,21483,null,null,null,null,0,211]
[22,21682,14,21691,24,21711,null,null,null,null,0,212]
[11,21821,21,21835,22,21839,null,null,null,null,0,122]
[11,22062,12,22069,13,22075,null,null,null,null,0,111]
[22,22183,14,22194,13,22197,null,null,null,null,0,211]
[11,22379,12,22384,13,22390,null,null,null,null,0,111]
[11,22528,12,22568,13,22572,null,null,null,null,0,111]
[11,22694,12,22698,24,22711,null,null,null,null,0,112]
[22,22812,23,22821,13,22841,null,null,null,null,0,221]
[22,22940,23,22950,13,22966,null,null,null,null,0,221]
[11,23078,12,23086,24,23104,null,null,null,null,0,112]
[11,23291,12,23297,13,23303,null,null,null,null,0,111]
[22,23404,14,23413,13,23416,null,null,null,null,0,211]
[22,23513,23,23519,13,23531,null,null,null,null,0,221]
[22,23630,23,23636,24,23646,null,null,null,null,0,222]
[22,23742,14,23757,13,23762,null,null,null,null,0,211]
[22,23881,14,23898,13,23904,null,null,null,null,0,211]

{"sheet":"!M303A3I.sha","index":25,"n_rows":170,"n_cols":48,"rows_kept":170,"cut":false,"hidden":false,"merged":[[4,39,4,42],[5,39,5,40],[4,44,4,47],[5,44,5,45],[4,24,4,27],[5,24,5,25],[4,29,4,32],[5,29,5,30],[4,34,4,37],[5,34,5,35],[1,1,1,2],[5,13,5,14],[18,13,18,14],[19,13,19,14],[4,19,4,22],[5,19,5,20]]}
["Report for:!M303A3I.sha"]
["Date:","<date>"]
["Hen:","<hen>",null,null,null,"Correct Sequence",{"$f":"Start!J2","v":121},null,null,null,null,null,null,null,null,"Total Sequences in Data",{"$f":"4994-COUNTBLANK(L7:L5000)","v":164},null,null,null,null,"Total Sequences in Block Data",{"$f":"COUNTA(L7:L33)","v":27},null,null,null,"Total Sequences in Block Data",{"$f":"COUNTA(L34:L61)","v":28},null,null,null,"Total Sequences in Block Data",{"$f":"COUNTA(L62:L88)","v":27},null,null,null,"Total Sequences in Block Data",{"$f":"COUNTA(L89:L115)","v":27},null,null,null,"Total Sequences in Block Data",{"$f":"COUNTA(L116:L143)","v":28},null,null,null,"Total Sequences in Block Data",{"$f":"COUNTA(L144:L170)","v":27}]
[null,null,null,null,null,null,null,null,null,null,null,null,null,null,null,"Total Sequences in Summary",{"$f":"SUM(O7:O14)","v":164},null,null,null,null,"Total Sequences in Block Summary",{"$f":"SUM(U7:U14)","v":27},null,null,null,"Total Sequences in Block Summary",{"$f":"SUM(Z7:Z14)","v":28},null,null,null,"Total Sequences in Block Summary",{"$f":"SUM(AE7:AE14)","v":27},null,null,null,"Total Sequences in Block Summary",{"$f":"SUM(AJ7:AJ14)","v":27},null,null,null,"Total Sequences in Block Summary",{"$f":"SUM(AO7:AO14)","v":28},null,null,null,"Total Sequences in Block Summary",{"$f":"SUM(AT7:AT14)","v":27}]
[null,null,null,null,null,null,null,null,null,null,null,null,null,null,null,null,null,null,null,"Block 1",null,null,null,null,"Block 2",null,null,null,null,"Block 3",null,null,null,null,"Block 4",null,null,null,null,"Block 5",null,null,null,null,"Block 6"]
["Sequence\nComponent\n1","Time\n1","Sequence\nComponent\n2","Time\n2","Sequence\nComponent\n3","Time\n3","Sequence\nComponent\n4","Time\n4","Sequence\nComponent\n5","Time\n5","Correct?\n0=No 1=Yes","Sequence",null,"Frequency",null,"Relative Frequency","Variability",null,null,"Frequency",null,"Relative Frequency","Variability",null,"Frequency",null,"Relative Frequency","Variability",null,"Frequency",null,"Relative Frequency","Variability",null,"Frequency",null,"Relative Frequency","Variability",null,"Frequency",null,"Relative Frequency","Variability",null,"Frequency",null,"Relative Frequency","Variability"]
[22,29,23,31,24,34,null,null,null,null,0,222,null,111,{"$f":"COUNTIF($L$7:$L$500,N7)","v":31},{"$f":"O7/$Q$4","v":0.18902439024390244},{"$f":"IF(P7=0,0,(P7*((LOG(P7))/LOG(2))))","v":-0.45429284464126501},null,null,{"$f":"N7","v":111},{"$f":"COUNTIF(L7:L33,T7)","v":7},{"$f":"U7/(W4-U9)","v":0.25925925925925924},{"$f":"IF(V7=0,0,(V7*((LOG(V7))/LOG(2))))","v":-0.5049158541015204},null,{"$f":"N7","v":111},{"$f":"COUNTIF(L34:L61,Y7)","v":5},{"$f":"Z7/(AB4-Z9)","v":0.17857142857142858},{"$f":"IF(AA7=0,0,(AA7*((LOG(AA7))/LOG(2))))","v":-0.44382621913754317},null,{"$f":"N7","v":111},{"$f":"COUNTIF(L62:L88,AD7)","v":4},{"$f":"AE7/(AG4-AE9)","v":0.14814814814814814},{"$f":"IF(AF7=0,0,(AF7*((LOG(AF7))/LOG(2))))","v":-0.40813148180199532},null,{"$f":"N7","v":111},{"$f":"COUNTIF(L89:L115,AI7)","v":3},{"$f":"AJ7/(AL4-AJ9)","v":0.1111111111111111},{"$f":"IF(AK7=0,0,(AK7*((LOG(AK7))/LOG(2))))","v":-0.3522138890491458},null,{"$f":"N7","v":111},{"$f":"COUNTIF(L116:L143,AN7)","v":6},{"$f":"AO7/(AQ4-AO9)","v":0.22222222222222221},{"$f":"IF(AP7=0,0,(AP7*((LOG(AP7))/LOG(2))))","v":-0.48220555587606945},null,{"$f":"N7","v":111},{"$f":"COUNTIF(L144:L170,AS7)","v":6},{"$f":"AT7/(AV4-AT9)","v":0.22222222222222221},{"$f":"IF(AU7=0,0,(AU7*((LOG(AU7))/LOG(2))))","v":-0.48220555587606945}]
[22,130,14,143,24,180,null,null,null,null,0,212,null,112,{"$f":"COUNTIF($L$7:$L$500,N8)","v":20},{"$f":"O8/$Q$4","v":0.12195121951219512},{"$f":"IF(P8=0,0,(P8*((LOG(P8))/LOG(2))))","v":-0.37019803777203913},null,null,{"$f":"N8","v":112},{"$f":"COUNTIF(L7:L33,T8)","v":6},{"$f":"U8/(W4-U9)","v":0.22222222222222221},{"$f":"IF(V8=0,0,(V8*((LOG(V8))/LOG(2))))","v":-0.48220555587606945},null,{"$f":"N8","v":112},{"$f":"COUNTIF(L34:L61,Y8)","v":2},{"$f":"Z8/(AB4-Z9)","v":7.1428571428571425E-2},{"$f":"IF(AA8=0,0,(AA8*((LOG(AA8))/LOG(2))))","v":-0.27195392300411453},null,{"$f":"N8","v":112},{"$f":"COUNTIF(L62:L88,AD8)","v":3},{"$f":"AE8/(AG4-AE9)","v":0.1111111111111111},{"$f":"IF(AF8=0,0,(AF8*((LOG(AF8))/LOG(2))))","v":-0.3522138890491458},null,{"$f":"N8","v":112},{"$f":"COUNTIF(L89:L115,AI8)","v":3},{"$f":"AJ8/(AL4-AJ9)","v":0.1111111111111111},{"$f":"IF(AK8=0,0,(AK8*((LOG(AK8))/LOG(2))))","v":-0.3522138890491458},null,{"$f":"N8","v":112},{"$f":"COUNTIF(L116:L143,AN8)","v":4},{"$f":"AO8/(AQ4-AO9)","v":0.14814814814814814},{"$f":"IF(AP8=0,0,(AP8*((LOG(AP8))/LOG(2))))","v":-0.40813148180199532},null,{"$f":"N8","v":112},{"$f":"COUNTIF(L144:L170,AS8)","v":2},{"$f":"AT8/(AV4-AT9)","v":7.407407407407407E-2},{"$f":"IF(AU8=0,0,(AU8*((LOG(AU8))/LOG(2))))","v":-0.27813981497507173}]
[22,286,23,291,24,295,null,null,null,null,0,222,null,121,{"$f":"COUNTIF($L$7:$L$500,N9)","v":1},{"$f":"O9/$Q$4","v":6.0975609756097563E-3},{"$f":"IF(P9=0,0,(P9*((LOG(P9))/LOG(2))))","v":-4.4863121979378563E-2},null,null,{"$f":"N9","v":121},{"$f":"COUNTIF(L7:L33,T9)","v":0},null,null,null,{"$f":"N9","v":121},{"$f":"COUNTIF(L34:L61,Y9)","v":0},null,null,null,{"$f":"N9","v":121},{"$f":"COUNTIF(L62:L88,AD9)","v":0},null,null,null,{"$f":"N9","v":121},{"$f":"COUNTIF(L89:L115,AI9)","v":0},null,null,null,{"$f":"N9","v":121},{"$f":"COUNTIF(L116:L143,AN9)","v":1},null,null,null,{"$f":"N9","v":121},{"$f":"COUNTIF(L144:L170,AS9)","v":0}]
[11,412,12,417,24,444,null,null,null,null,0,112,null,122,{"$f":"COUNTIF($L$7:$L$500,N10)","v":8},{"$f":"O10/$Q$4","v":4.878048780487805E-2},{"$f":"IF(P10=0,0,(P10*((LOG(P10))/LOG(2))))","v":-0.21256351242039428},null,null,{"$f":"N10","v":122},{"$f":"COUNTIF(L7:L33,T10)","v":1},{"$f":"U10/(W4-U9)","v":3.7037037037037035E-2},{"$f":"IF(V10=0,0,(V10*((LOG(V10))/LOG(2))))","v":-0.1761069445245729},null,{"$f":"N10","v":122},{"$f":"COUNTIF(L34:L61,Y10)","v":0},{"$f":"Z10/(AB4-Z9)","v":0},{"$f":"IF(AA10=0,0,(AA10*((LOG(AA10))/LOG(2))))","v":0},null,{"$f":"N10","v":122},{"$f":"COUNTIF(L62:L88,AD10)","v":1},{"$f":"AE10/(AG4-AE9)","v":3.7037037037037035E-2},{"$f":"IF(AF10=0,0,(AF10*((LOG(AF10))/LOG(2))))","v":-0.1761069445245729},null,{"$f":"N10","v":122},{"$f":"COUNTIF(L89:L115,AI10)","v":3},{"$f":"AJ10/(AL4-AJ9)","v":0.1111111111111111},{"$f":"IF(AK10=0,0,(AK10*((LOG(AK10))/LOG(2))))","v":-0.3522138890491458},null,{"$f":"N10","v":122},{"$f":"COUNTIF(L116:L143,AN10)","v":2},{"$f":"AO10/(AQ4-AO9)","v":7.407407407407407E-2},{"$f":"IF(AP10=0,0,(AP10*((LOG(AP10))/LOG(2))))","v":-0.27813981497507173},null,{"$f":"N10","v":122},{"$f":"COUNTIF(L144:L170,AS10)","v":1},{"$f":"AT10/(AV4-AT9)","v":3.7037037037037035E-2},{"$f":"IF(AU10=0,0,(AU10*((LOG(AU10))/LOG(2))))","v":-0.1761069445245729}]
[11,560,12,565,24,588,null,null,null,null,0,112,null,211,{"$f":"COUNTIF($L$7:$L$500,N11)","v":45},{"$f":"O11/$Q$4","v":0.27439024390243905},{"$f":"IF(P11=0,0,(P11*((LOG(P11))/LOG(2))))","v":-0.51192957849377074},null,null,{"$f":"N11","v":211},{"$f":"COUNTIF(L7:L33,T11)","v":7},{"$f":"U11/(W4-U9)","v":0.25925925925925924},{"$f":"IF(V11=0,0,(V11*((LOG(V11))/LOG(2))))","v":-0.5049158541015204},null,{"$f":"N11","v":211},{"$f":"COUNTIF(L34:L61,Y11)","v":8},{"$f":"Z11/(AB4-Z9)","v":0.2857142857142857},{"$f":"IF(AA11=0,0,(AA11*((LOG(AA11))/LOG(2))))","v":-0.51638712058788683},null,{"$f":"N11","v":211},{"$f":"COUNTIF(L62:L88,AD11)","v":7},{"$f":"AE11/(AG4-AE9)","v":0.25925925925925924},{"$f":"IF(AF11=0,0,(AF11*((LOG(AF11))/LOG(2))))","v":-0.5049158541015204},null,{"$f":"N11","v":211},{"$f":"COUNTIF(L89:L115,AI11)","v":9},{"$f":"AJ11/(AL4-AJ9)","v":0.33333333333333331},{"$f":"IF(AK11=0,0,(AK11*((LOG(AK11))/LOG(2))))","v":-0.52832083357371862},null,{"$f":"N11","v":211},{"$f":"COUNTIF(L116:L143,AN11)","v":8},{"$f":"AO11/(AQ4-AO9)","v":0.29629629629629628},{"$f":"IF(AP11=0,0,(AP11*((LOG(AP11))/LOG(2))))","v":-0.51996666730769436},null,{"$f":"N11","v":211},{"$f":"COUNTIF(L144:L170,AS11)","v":6},{"$f":"AT11/(AV4-AT9)","v":0.22222222222222221},{"$f":"IF(AU11=0,0,(AU11*((LOG(AU11))/LOG(2))))","v":-0.48220555587606945}]
[11,695,12,701,24,714,null,null,null,null,0,112,null,212,{"$f":"COUNTIF($L$7:$L$500,N12)","v":11},{"$f":"O12/$Q$4","v":6.7073170731707321E-2},{"$f":"IF(P12=0,0,(P12*((LOG(P12))/LOG(2))))","v":-0.26145929418163816},null,null,{"$f":"N12","v":212},{"$f":"COUNTIF(L7:L33,T12)","v":2},{"$f":"U12/(W4-U9)","v":7.407407407407407E-2},{"$f":"IF(V12=0,0,(V12*((LOG(V12))/LOG(2))))","v":-0.27813981497507173},null,{"$f":"N12","v":212},{"$f":"COUNTIF(L34:L61,Y12)","v":2},{"$f":"Z12/(AB4-Z9)","v":7.1428571428571425E-2},{"$f":"IF(AA12=0,0,(AA12*((LOG(AA12))/LOG(2))))","v":-0.27195392300411453},null,{"$f":"N12","v":212},{"$f":"COUNTIF(L62:L88,AD12)","v":1},{"$f":"AE12/(AG4-AE9)","v":3.7037037037037035E-2},{"$f":"IF(AF12=0,0,(AF12*((LOG(AF12))/LOG(2))))","v":-0.1761069445245729},null,{"$f":"N12","v":212},{"$f":"COUNTIF(L89:L115,AI12)","v":3},{"$f":"AJ12/(AL4-AJ9)","v":0.1111111111111111},{"$f":"IF(AK12=0,0,(AK12*((LOG(AK12))/LOG(2))))","v":-0.3522138890491458},null,{"$f":"N12","v":212},{"$f":"COUNTIF(L116:L143,AN12)","v":2},{"$f":"AO12/(AQ4-AO9)","v":7.407407407407407E-2},{"$f":"IF(AP12=0,0,(AP12*((LOG(AP12))/LOG(2))))","v":-0.27813981497507173},null,{"$f":"N12","v":212},{"$f":"COUNTIF(L144:L170,AS12)","v":1},{"$f":"AT12/(AV4-AT9)","v":3.7037037037037035E-2},{"$f":"IF(AU12=0,0,(AU12*((LOG(AU12))/LOG(2))))","v":-0.1761069445245729}]
[22,843,23,850,13,859,null,null,null,null,0,221,null,221,{"$f":"COUNTIF($L$7:$L$500,N13)","v":27},{"$f":"O13/$Q$4","v":0.16463414634146342},{"$f":"IF(P13=0,0,(P13*((LOG(P13))/LOG(2))))","v":-0.42848744857484516},null,null,{"$f":"N13","v":221},{"$f":"COUNTIF(L7:L33,T13)","v":2},{"$f":"U13/(W4-U9)","v":7.407407407407407E-2},{"$f":"IF(V13=0,0,(V13*((LOG(V13))/LOG(2))))","v":-0.27813981497507173},null,{"$f":"N13","v":221},{"$f":"COUNTIF(L34:L61,Y13)","v":6},{"$f":"Z13/(AB4-Z9)","v":0.21428571428571427},{"$f":"IF(AA13=0,0,(AA13*((LOG(AA13))/LOG(2))))","v":-0.47622694742923877},null,{"$f":"N13","v":221},{"$f":"COUNTIF(L62:L88,AD13)","v":6},{"$f":"AE13/(AG4-AE9)","v":0.22222222222222221},{"$f":"IF(AF13=0,0,(AF13*((LOG(AF13))/LOG(2))))","v":-0.48220555587606945},null,{"$f":"N13","v":221},{"$f":"COUNTIF(L89:L115,AI13)","v":3},{"$f":"AJ13/(AL4-AJ9)","v":0.1111111111111111},{"$f":"IF(AK13=0,0,(AK13*((LOG(AK13))/LOG(2))))","v":-0.3522138890491458},null,{"$f":"N13","v":221},{"$f":"COUNTIF(L116:L143,AN13)","v":3},{"$f":"AO13/(AQ4-AO9)","v":0.1111111111111111},{"$f":"IF(AP13=0,0,(AP13*((LOG(AP13))/LOG(2))))","v":-0.3522138890491458},null,{"$f":"N13","v":221},{"$f":"COUNTIF(L144:L170,AS13)","v":7},{"$f":"AT13/(AV4-AT9)","v":0.25925925925925924},{"$f":"IF(AU13=0,0,(AU13*((LOG(AU13))/LOG(2))))","v":-0.5049158541015204}]
[22,956,14,972,24,985,null,null,null,null,0,212,null,222,{"$f":"COUNTIF($L$7:$L$500,N14)","v":21},{"$f":"O14/$Q$4","v":0.12804878048780488},{"$f":"IF(P14=0,0,(P14*((LOG(P14))/LOG(2))))","v":-0.37969467206479146},null,null,{"$f":"N14","v":222},{"$f":"COUNTIF(L7:L33,T14)","v":2},{"$f":"U14/(W4-U9)","v":7.407407407407407E-2},{"$f":"IF(V14=0,0,(V14*((LOG(V14))/LOG(2))))","v":-0.27813981497507173},null,{"$f":"N14","v":222},{"$f":"COUNTIF(L34:L61,Y14)","v":5},{"$f":"Z14/(AB4-Z9)","v":0.17857142857142858},{"$f":"IF(AA14=0,0,(AA14*((LOG(AA14))/LOG(2))))","v":-0.44382621913754317},null,{"$f":"N14","v":222},{"$f":"COUNTIF(L62:L88,AD14)","v":5},{"$f":"AE14/(AG4-AE9)","v":0.18518518518518517},{"$f":"IF(AF14=0,0,(AF14*((LOG(AF14))/LOG(2))))","v":-0.45054803838446406},null,{"$f":"N14","v":222},{"$f":"COUNTIF(L89:L115,AI14)","v":3},{"$f":"AJ14/(AL4-AJ9)","v":0.1111111111111111},{"$f":"IF(AK14=0,0,(AK14*((LOG(AK14))/LOG(2))))","v":-0.3522138890491458},null,{"$f":"N14","v":222},{"$f":"COUNTIF(L116:L143,AN14)","v":2},{"$f":"AO14/(AQ4-AO9)","v":7.407407407407407E-2},{"$f":"IF(AP14=0,0,(AP14*((LOG(AP14))/LOG(2))))","v":-0.27813981497507173},null,{"$f":"N14","v":222},{"$f":"COUNTIF(L144:L170,AS14)","v":4},{"$f":"AT14/(AV4-AT9)","v":0.14814814814814814},{"$f":"IF(AU14=0,0,(AU14*((LOG(AU14))/LOG(2))))","v":-0.40813148180199532}]
[11,1094,12,1098,13,1108,null,null,null,null,0,111,null,null,null,{"$f":"SUM(P7:P14)","v":1},{"$f":"-SUM(Q7:Q14)","v":2.6634885101281229},null,null,null,null,{"$f":"SUM(V7:V14)","v":0.99999999999999989},{"$f":"-SUM(W7:W14)","v":2.5025636535288984},null,null,null,{"$f":"SUM(AA7:AA14)","v":1},{"$f":"-SUM(AB7:AB14)","v":2.4241743523004411},null,null,null,{"$f":"SUM(AF7:AF14)","v":1},{"$f":"-SUM(AG7:AG14)","v":2.5502287082623409},null,null,null,{"$f":"SUM(AK7:AK14)","v":1},{"$f":"-SUM(AL7:AL14)","v":2.6416041678685933},null,null,null,{"$f":"SUM(AP7:AP14)","v":0.99999999999999989},{"$f":"-SUM(AQ7:AQ14)","v":2.5969370389601205},null,null,null,{"$f":"SUM(AU7:AU14)","v":1},{"$f":"-SUM(AV7:AV14)","v":2.5078121516798721}]
[11,1318,12,1322,13,1328,null,null,null,null,0,111,null,null,null,"U=",{"$f":"Q15/(LOG(Q4)/LOG(2))","v":0.36200743242539668},null,null,null,null,"U1=",{"$f":"W15/(LOG(W4)/LOG(2))","v":0.52631395640595802},null,null,null,"U2=",{"$f":"AB15/(LOG(AB4)/LOG(2))","v":0.5042636525914892},null,null,null,"U3=",{"$f":"AG15/(LOG(AG4)/LOG(2))","v":0.536338390151605},null,null,null,"U4=",{"$f":"AL15/(LOG(AL4)/LOG(2))","v":0.55555555555555547},null,null,null,"U5=",{"$f":"AQ15/(LOG(AQ4)/LOG(2))","v":0.54020081335051529},null,null,null,"U6=",{"$f":"AV15/(LOG(AV4)/LOG(2))","v":0.52741776762096271}]
[22,1426,14,1436,13,1442,null,null,null,null,0,211]
[22,1542,14,1552,13,1557,null,null,null,null,0,211]
[22,1655,14,1668,13,1674,null,null,null,null,0,211,null,"Total Target Seq"]
[11,1778,21,1790,22,1794,null,null,null,null,0,122,null,{"$f":"COUNTIF(L7:L170,G3)","v":1},null,27,28,27,27,28,27]
[22,1891,14,1913,13,1920,null,null,null,null,0,211,null,null,null,"% of reinforcement given in 6 equal intervals based on number of trials "]
[11,2020,12,2028,24,2045,null,null,null,null,0,112,null,null,null,"%_1","%_2","%_3","%_4","%_5","%_6"]
[11,2140,12,2145,24,2159,null,null,null,null,0,112,null,null,"target sequence",{"$f":"$G$3","v":121},{"$f":"$G$3","v":121},{"$f":"$G$3","v":121},{"$f":"$G$3","v":121},{"$f":"$G$3","v":121},{"$f":"$G$3","v":121}]
[22,2257,14,2267,13,2275,null,null,null,null,0,211,null,null,"total reinforcement",{"$f":"U9","v":0},{"$f":"Z9","v":0},{"$f":"AE9","v":0},{"$f":"AJ9","v":0},{"$f":"AO9","v":1},{"$f":"AT9","v":0}]
[11,2371,12,2378,24,2394,null,null,null,null,0,112,null,null,"% target"]
[22,2491,14,2500,13,2505,null,null,null,null,0,211,null,null,"CCRF"]
[11,2601,12,2603,13,2608,null,null,null,null,0,111,null,null,"% CCRf"]
[11,2703,12,2707,13,2712,null,null,null,null,0,111,null,null,"average response rate",{"$f":"F33/P20","v":122.37037037037037},{"$f":"(F61-F33)/Q20","v":129.5},{"$f":"(F88-F61)/R20","v":134.85185185185185},{"$f":"(F115-F88)/S20","v":160.4814814814815},{"$f":"(F143-F115)/T20","v":176.42857142857142},{"$f":"(F170-F143)/U20","v":153.44444444444446}]
[11,2830,12,2834,13,2844,null,null,null,null,0,111]
[22,2942,14,2952,13,2957,null,null,null,null,0,211]
[22,3053,23,3057,13,3071,null,null,null,null,0,221]
[11,3171,12,3175,13,3182,null,null,null,null,0,111]
[11,3293,12,3298,13,3304,null,null,null,null,0,111]
[22,3402,23,3406,24,3412,null,null,null,null,0,222]
[22,3509,23,3515,13,3524,null,null,null,null,0,221]
[22,3622,14,3639,13,3646,null,null,null,null,0,211]
[22,3744,23,3749,13,3759,null,null,null,null,0,221]
[22,3857,14,3868,13,3876,null,null,null,null,0,211]
[22,3977,14,3990,13,3998,null,null,null,null,0,211]
[22,4089,23,4094,24,4098,null,null,null,null,0,222]
[22,4197,23,4203,24,4210,null,null,null,null,0,222]
[22,4306,14,4324,13,4327,null,null,null,null,0,211]
[22,4564,14,4572,13,4577,null,null,null,null,0,211]
[11,4672,12,4677,13,4682,null,null,null,null,0,111]
[11,4781,12,4786,13,4796,null,null,null,null,0,111]
[22,4894,23,4901,13,4910,null,null,null,null,0,221]
[22,5008,23,5018,13,5030,null,null,null,null,0,221]
[11,5132,12,5139,24,5154,null,null,null,null,0,112]
[22,5249,23,5254,24,5260,null,null,null,null,0,222]
[11,5359,12,5365,13,5372,null,null,null,null,0,111]
[11,5497,12,5502,13,5508,null,null,null,null,0,111]
[22,5608,14,5622,13,5637,null,null,null,null,0,211]
[22,5734,23,5739,24,5743,null,null,null,null,0,222]
[11,6019,12,6025,13,6033,null,null,null,null,0,111]
[22,6139,23,6143,13,6152,null,null,null,null,0,221]
[22,6261,14,6269,13,6274,null,null,null,null,0,211]
[11,6384,12,6392,24,6403,null,null,null,null,0,112]
[22,6530,14,6539,13,6543,null,null,null,null,0,211]
[22,6651,23,6657,13,6666,null,null,null,null,0,221]
[22,6771,14,6787,24,6799,null,null,null,null,0,212]
[22,6905,14,6913,24,6930,null,null,null,null,0,212]
[22,7030,23,7041,13,7049,null,null,null,null,0,221]
[22,7150,14,7159,13,7163,null,null,null,null,0,211]
[22,7263,23,7274,24,7304,null,null,null,null,0,222]
[22,7412,14,7423,13,7432,null,null,null,null,0,211]
[22,7529,14,7543,13,7547,null,null,null,null,0,211]
[11,7647,12,7653,13,7660,null,null,null,null,0,111]
[22,7814,14,7833,13,7837,null,null,null,null,0,211]
[22,7935,23,7949,13,7959,null,null,null,null,0,221]
[22,8057,14,8077,13,8083,null,null,null,null,0,211]
[22,8182,23,8196,13,8203,null,null,null,null,0,221]
[22,8310,14,8320,13,8327,null,null,null,null,0,211]
[22,8427,23,8436,13,8446,null,null,null,null,0,221]
[22,8543,23,8549,24,8555,null,null,null,null,0,222]
[11,8659,12,8662,24,8672,null,null,null,null,0,112]
[11,8809,21,8823,22,8827,null,null,null,null,0,122]
[22,8924,23,8936,24,8955,null,null,null,null,0,222]
[11,9066,12,9072,24,9094,null,null,null,null,0,112]
[11,9310,12,9321,13,9328,null,null,null,null,0,111]
[22,9426,23,9438,13,9446,null,null,null,null,0,221]
[22,9545,23,9571,24,9584,null,null,null,null,0,222]
[22,9689,14,9704,13,9709,null,null,null,null,0,211]
[11,9908,12,9919,13,9926,null,null,null,null,0,111]
[22,10023,23,10028,24,10034,null,null,null,null,0,222]
[11,10145,12,10166,24,10180,null,null,null,null,0,112]
[22,10277,23,10291,13,10301,null,null,null,null,0,221]
[22,10400,14,10423,24,10448,null,null,null,null,0,212]
[11,10562,12,10565,13,10571,null,null,null,null,0,111]
[11,10670,12,10675,24,10685,null,null,null,null,0,112]
[22,10785,14,10801,13,10804,null,null,null,null,0,211]
[11,10953,12,10958,13,10966,null,null,null,null,0,111]
[22,11062,23,11067,13,11077,null,null,null,null,0,221]
[11,11218,12,11248,13,11252,null,null,null,null,0,111]
[22,11350,14,11367,24,11386,null,null,null,null,0,212]
[11,11554,12,11558,13,11564,null,null,null,null,0,111]
[22,11687,14,11694,13,11702,null,null,null,null,0,211]
[11,11928,21,11937,22,11942,null,null,null,null,0,122]
[11,12060,21,12070,22,12074,null,null,null,null,0,122]
[22,12235,14,12245,13,12257,null,null,null,null,0,211]
[11,12434,12,12438,24,12450,null,null,null,null,0,112]
[22,12572,23,12577,24,12581,null,null,null,null,0,222]
[22,12718,14,12726,13,12731,null,null,null,null,0,211]
[22,12827,14,12853,24,12866,null,null,null,null,0,212]
[22,13039,14,13048,13,13053,null,null,null,null,0,211]
[11,13188,12,13192,24,13207,null,null,null,null,0,112]
[22,13310,23,13319,24,13326,null,null,null,null,0,222]
[22,13421,23,13439,13,13454,null,null,null,null,0,221]
[22,13617,23,13628,24,13636,null,null,null,null,0,222]
[22,13755,14,13763,13,13768,null,null,null,null,0,211]
[22,13874,14,13897,24,13916,null,null,null,null,0,212]
[22,14083,14,14091,13,14095,null,null,null,null,0,211]
[22,14304,14,14314,13,14318,null,null,null,null,0,211]
[11,14552,21,14569,22,14573,null,null,null,null,0,122]
[22,14677,23,14684,13,14692,null,null,null,null,0,221]
[22,14889,14,14898,13,14904,null,null,null,null,0,211]
[11,15009,21,15024,22,15028,null,null,null,null,0,122]
[22,15166,14,15175,13,15179,null,null,null,null,0,211]
[22,15276,23,15282,13,15290,null,null,null,null,0,221]
[22,15588,23,15594,13,15603,null,null,null,null,0,221]
[11,15823,12,15832,24,15844,null,null,null,null,0,112]
[11,16198,12,16203,24,16215,null,null,null,null,0,112]
[22,16318,14,16326,24,16341,null,null,null,null,0,212]
[22,16449,14,16458,13,16464,null,null,null,null,0,211]
[22,16572,14,16589,24,16607,null,null,null,null,0,212]
[22,16809,14,16816,13,16897,null,null,null,null,0,211]
[11,17036,21,17084,11,17092,null,null,null,null,0,121]
[22,17349,14,17356,13,17362,null,null,null,null,0,211]
[22,17474,14,17483,13,17488,null,null,null,null,0,211]
[22,17586,23,17620,24,17626,null,null,null,null,0,222]
[11,17861,12,17866,13,17874,null,null,null,null,0,111]
[11,18134,12,18138,13,18145,null,null,null,null,0,111]
[11,18257,12,18262,13,18268,null,null,null,null,0,111]
[11,18371,21,18386,22,18390,null,null,null,null,0,122]
[11,18484,12,18489,13,18504,null,null,null,null,0,111]
[22,18600,14,18612,13,18618,null,null,null,null,0,211]
[22,18717,14,18735,13,18742,null,null,null,null,0,211]
[11,18969,12,18975,13,18984,null,null,null,null,0,111]
[11,19091,12,19097,24,19109,null,null,null,null,0,112]
[11,19336,12,19340,13,19346,null,null,null,null,0,111]
[11,19444,12,19456,24,19465,null,null,null,null,0,112]
[22,19561,23,19566,13,19575,null,null,null,null,0,221]
[22,19696,14,19711,13,19716,null,null,null,null,0,211]
[22,19813,23,19840,24,19844,null,null,null,null,0,222]
[22,19940,23,19945,13,19953,null,null,null,null,0,221]
[11,20062,12,20065,13,20071,null,null,null,null,0,111]
[11,20232,12,20239,13,20244,null,null,null,null,0,111]
[11,20365,12,20373,24,20384,null,null,null,null,0,112]
[22,20479,23,20511,24,20516,null,null,null,null,0,222]
[22,20612,23,20618,13,20626,null,null,null,null,0,221]
[22,20723,23,20729,24,20739,null,null,null,null,0,222]
[11,20833,12,20837,24,20861,null,null,null,null,0,112]
[11,20959,21,20973,22,20979,null,null,null,null,0,122]
[22,21078,23,21091,13,21099,null,null,null,null,0,221]
[22,21200,14,21219,13,21226,null,null,null,null,0,211]
[22,21704,14,21779,13,21783,null,null,null,null,0,211]
[22,21881,23,21895,13,21905,null,null,null,null,0,221]
[22,22023,23,22041,24,22047,null,null,null,null,0,222]
[11,22225,12,22231,13,22239,null,null,null,null,0,111]
[22,22337,14,22351,24,22370,null,null,null,null,0,212]
[22,22472,14,22496,13,22503,null,null,null,null,0,211]
[22,22656,14,22670,13,22676,null,null,null,null,0,211]
[22,22775,23,22786,13,22795,null,null,null,null,0,221]
[22,22894,23,22903,24,22915,null,null,null,null,0,222]
[11,23102,12,23107,13,23112,null,null,null,null,0,111]
[22,23211,23,23218,13,23226,null,null,null,null,0,221]
[11,23417,12,23423,13,23430,null,null,null,null,0,111]
[22,23546,14,23554,13,23558,null,null,null,null,0,211]
[22,23667,23,23674,13,23683,null,null,null,null,0,221]
[11,23822,12,23863,13,23870,null,null,null,null,0,111]
[22,23971,14,23982,13,23987,null,null,null,null,null,211]

{"sheet":"!M304B0I.sha","index":26,"n_rows":172,"n_cols":48,"rows_kept":172,"cut":false,"hidden":false,"merged":[[4,39,4,42],[5,39,5,40],[4,44,4,47],[5,44,5,45],[4,24,4,27],[5,24,5,25],[4,29,4,32],[5,29,5,30],[4,34,4,37],[5,34,5,35],[1,1,1,2],[5,13,5,14],[18,13,18,14],[19,13,19,14],[4,19,4,22],[5,19,5,20]]}
["Report for:!M304B0I.sha"]
["Date:","<date>"]
["Hen:","<hen>",null,null,null,"Correct Sequence",{"$f":"Start!J2","v":121},null,null,null,null,null,null,null,null,"Total Sequences in Data",{"$f":"4994-COUNTBLANK(L7:L5000)","v":166},null,null,null,null,"Total Sequences in Block Data",{"$f":"COUNTA(L7:L34)","v":28},null,null,null,"Total Sequences in Block Data",{"$f":"COUNTA(L35:L61)","v":27},null,null,null,"Total Sequences in Block Data",{"$f":"COUNTA(L62:L89)","v":28},null,null,null,"Total Sequences in Block Data",{"$f":"COUNTA(L90:L117)","v":28},null,null,null,"Total Sequences in Block Data",{"$f":"COUNTA(L118:L144)","v":27},null,null,null,"Total Sequences in Block Data",{"$f":"COUNTA(L145:L172)","v":28}]
[null,null,null,null,null,null,null,null,null,null,null,null,null,null,null,"Total Sequences in Summary",{"$f":"SUM(O7:O14)","v":166},null,null,null,null,"Total Sequences in Block Summary",{"$f":"SUM(U7:U14)","v":28},null,null,null,"Total Sequences in Block Summary",{"$f":"SUM(Z7:Z14)","v":27},null,null,null,"Total Sequences in Block Summary",{"$f":"SUM(AE7:AE14)","v":28},null,null,null,"Total Sequences in Block Summary",{"$f":"SUM(AJ7:AJ14)","v":28},null,null,null,"Total Sequences in Block Summary",{"$f":"SUM(AO7:AO14)","v":27},null,null,null,"Total Sequences in Block Summary",{"$f":"SUM(AT7:AT14)","v":28}]
[null,null,null,null,null,null,null,null,null,null,null,null,null,null,null,null,null,null,null,"Block 1",null,null,null,null,"Block 2",null,null,null,null,"Block 3",null,null,null,null,"Block 4",null,null,null,null,"Block 5",null,null,null,null,"Block 6"]
["Sequence\nComponent\n1","Time\n1","Sequence\nComponent\n2","Time\n2","Sequence\nComponent\n3","Time\n3","Sequence\nComponent\n4","Time\n4","Sequence\nComponent\n5","Time\n5","Correct?\n0=No 1=Yes","Sequence",null,"Frequency",null,"Relative Frequency","Variability",null,null,"Frequency",null,"Relative Frequency","Variability",null,"Frequency",null,"Relative Frequency","Variability",null,"Frequency",null,"Relative Frequency","Variability",null,"Frequency",null,"Relative Frequency","Variability",null,"Frequency",null,"Relative Frequency","Variability",null,"Frequency",null,"Relative Frequency","Variability"]
[11,94,21,104,22,108,null,null,null,null,0,122,null,111,{"$f":"COUNTIF($L$7:$L$500,N7)","v":46},{"$f":"O7/$Q$4","v":0.27710843373493976},{"$f":"IF(P7=0,0,(P7*((LOG(P7))/LOG(2))))","v":-0.51306002327310818},null,null,{"$f":"N7","v":111},{"$f":"COUNTIF(L7:L34,T7)","v":14},{"$f":"U7/(W4-U9)","v":0.5},{"$f":"IF(V7=0,0,(V7*((LOG(V7))/LOG(2))))","v":-0.5},null,{"$f":"N7","v":111},{"$f":"COUNTIF(L35:L61,Y7)","v":13},{"$f":"Z7/(AB4-Z9)","v":0.48148148148148145},{"$f":"IF(AA7=0,0,(AA7*((LOG(AA7))/LOG(2))))","v":-0.50769708119595902},null,{"$f":"N7","v":111},{"$f":"COUNTIF(L62:L89,AD7)","v":8},{"$f":"AE7/(AG4-AE9)","v":0.2857142857142857},{"$f":"IF(AF7=0,0,(AF7*((LOG(AF7))/LOG(2))))","v":-0.51638712058788683},null,{"$f":"N7","v":111},{"$f":"COUNTIF(L90:L117,AI7)","v":4},{"$f":"AJ7/(AL4-AJ9)","v":0.14285714285714285},{"$f":"IF(AK7=0,0,(AK7*((LOG(AK7))/LOG(2))))","v":-0.40105070315108626},null,{"$f":"N7","v":111},{"$f":"COUNTIF(L118:L144,AN7)","v":4},{"$f":"AO7/(AQ4-AO9)","v":0.15384615384615385},{"$f":"IF(AP7=0,0,(AP7*((LOG(AP7))/LOG(2))))","v":-0.4154522643293988},null,{"$f":"N7","v":111},{"$f":"COUNTIF(L145:L172,AS7)","v":3},{"$f":"AT7/(AV4-AT9)","v":0.10714285714285714},{"$f":"IF(AU7=0,0,(AU7*((LOG(AU7))/LOG(2))))","v":-0.34525633085747659}]
[22,207,23,212,24,216,null,null,null,null,0,222,null,112,{"$f":"COUNTIF($L$7:$L$500,N8)","v":6},{"$f":"O8/$Q$4","v":3.614457831325301E-2},{"$f":"IF(P8=0,0,(P8*((LOG(P8))/LOG(2))))","v":-0.17313531074550972},null,null,{"$f":"N8","v":112},{"$f":"COUNTIF(L7:L34,T8)","v":1},{"$f":"U8/(W4-U9)","v":3.5714285714285712E-2},{"$f":"IF(V8=0,0,(V8*((LOG(V8))/LOG(2))))","v":-0.17169124721634299},null,{"$f":"N8","v":112},{"$f":"COUNTIF(L35:L61,Y8)","v":1},{"$f":"Z8/(AB4-Z9)","v":3.7037037037037035E-2},{"$f":"IF(AA8=0,0,(AA8*((LOG(AA8))/LOG(2))))","v":-0.1761069445245729},null,{"$f":"N8","v":112},{"$f":"COUNTIF(L62:L89,AD8)","v":1},{"$f":"AE8/(AG4-AE9)","v":3.5714285714285712E-2},{"$f":"IF(AF8=0,0,(AF8*((LOG(AF8))/LOG(2))))","v":-0.17169124721634299},null,{"$f":"N8","v":112},{"$f":"COUNTIF(L90:L117,AI8)","v":0},{"$f":"AJ8/(AL4-AJ9)","v":0},{"$f":"IF(AK8=0,0,(AK8*((LOG(AK8))/LOG(2))))","v":0},null,{"$f":"N8","v":112},{"$f":"COUNTIF(L118:L144,AN8)","v":1},{"$f":"AO8/(AQ4-AO9)","v":3.8461538461538464E-2},{"$f":"IF(AP8=0,0,(AP8*((LOG(AP8))/LOG(2))))","v":-0.18078614300542661},null,{"$f":"N8","v":112},{"$f":"COUNTIF(L145:L172,AS8)","v":2},{"$f":"AT8/(AV4-AT9)","v":7.1428571428571425E-2},{"$f":"IF(AU8=0,0,(AU8*((LOG(AU8))/LOG(2))))","v":-0.27195392300411453}]
[22,320,23,324,24,330,null,null,null,null,0,222,null,121,{"$f":"COUNTIF($L$7:$L$500,N9)","v":1},{"$f":"O9/$Q$4","v":6.024096385542169E-3},{"$f":"IF(P9=0,0,(P9*((LOG(P9))/LOG(2))))","v":-4.4427948381607983E-2},null,null,{"$f":"N9","v":121},{"$f":"COUNTIF(L7:L34,T9)","v":0},null,null,null,{"$f":"N9","v":121},{"$f":"COUNTIF(L35:L61,Y9)","v":0},null,null,null,{"$f":"N9","v":121},{"$f":"COUNTIF(L62:L89,AD9)","v":0},null,null,null,{"$f":"N9","v":121},{"$f":"COUNTIF(L90:L117,AI9)","v":0},null,null,null,{"$f":"N9","v":121},{"$f":"COUNTIF(L118:L144,AN9)","v":1},null,null,null,{"$f":"N9","v":121},{"$f":"COUNTIF(L145:L172,AS9)","v":0}]
[11,438,21,455,22,465,null,null,null,null,0,122,null,122,{"$f":"COUNTIF($L$7:$L$500,N10)","v":2},{"$f":"O10/$Q$4","v":1.2048192771084338E-2},{"$f":"IF(P10=0,0,(P10*((LOG(P10))/LOG(2))))","v":-7.6807703992131618E-2},null,null,{"$f":"N10","v":122},{"$f":"COUNTIF(L7:L34,T10)","v":2},{"$f":"U10/(W4-U9)","v":7.1428571428571425E-2},{"$f":"IF(V10=0,0,(V10*((LOG(V10))/LOG(2))))","v":-0.27195392300411453},null,{"$f":"N10","v":122},{"$f":"COUNTIF(L35:L61,Y10)","v":0},{"$f":"Z10/(AB4-Z9)","v":0},{"$f":"IF(AA10=0,0,(AA10*((LOG(AA10))/LOG(2))))","v":0},null,{"$f":"N10","v":122},{"$f":"COUNTIF(L62:L89,AD10)","v":0},{"$f":"AE10/(AG4-AE9)","v":0},{"$f":"IF(AF10=0,0,(AF10*((LOG(AF10))/LOG(2))))","v":0},null,{"$f":"N10","v":122},{"$f":"COUNTIF(L90:L117,AI10)","v":0},{"$f":"AJ10/(AL4-AJ9)","v":0},{"$f":"IF(AK10=0,0,(AK10*((LOG(AK10))/LOG(2))))","v":0},null,{"$f":"N10","v":122},{"$f":"COUNTIF(L118:L144,AN10)","v":0},{"$f":"AO10/(AQ4-AO9)","v":0},{"$f":"IF(AP10=0,0,(AP10*((LOG(AP10))/LOG(2))))","v":0},null,{"$f":"N10","v":122},{"$f":"COUNTIF(L145:L172,AS10)","v":0},{"$f":"AT10/(AV4-AT9)","v":0},{"$f":"IF(AU10=0,0,(AU10*((LOG(AU10))/LOG(2))))","v":0}]
[11,567,12,572,13,578,null,null,null,null,0,111,null,211,{"$f":"COUNTIF($L$7:$L$500,N11)","v":50},{"$f":"O11/$Q$4","v":0.30120481927710846},{"$f":"IF(P11=0,0,(P11*((LOG(P11))/LOG(2))))","v":-0.52144073541331326},null,null,{"$f":"N11","v":211},{"$f":"COUNTIF(L7:L34,T11)","v":8},{"$f":"U11/(W4-U9)","v":0.2857142857142857},{"$f":"IF(V11=0,0,(V11*((LOG(V11))/LOG(2))))","v":-0.51638712058788683},null,{"$f":"N11","v":211},{"$f":"COUNTIF(L35:L61,Y11)","v":8},{"$f":"Z11/(AB4-Z9)","v":0.29629629629629628},{"$f":"IF(AA11=0,0,(AA11*((LOG(AA11))/LOG(2))))","v":-0.51996666730769436},null,{"$f":"N11","v":211},{"$f":"COUNTIF(L62:L89,AD11)","v":8},{"$f":"AE11/(AG4-AE9)","v":0.2857142857142857},{"$f":"IF(AF11=0,0,(AF11*((LOG(AF11))/LOG(2))))","v":-0.51638712058788683},null,{"$f":"N11","v":211},{"$f":"COUNTIF(L90:L117,AI11)","v":10},{"$f":"AJ11/(AL4-AJ9)","v":0.35714285714285715},{"$f":"IF(AK11=0,0,(AK11*((LOG(AK11))/LOG(2))))","v":-0.53050958113222924},null,{"$f":"N11","v":211},{"$f":"COUNTIF(L118:L144,AN11)","v":11},{"$f":"AO11/(AQ4-AO9)","v":0.42307692307692307},{"$f":"IF(AP11=0,0,(AP11*((LOG(AP11))/LOG(2))))","v":-0.52504188825160547},null,{"$f":"N11","v":211},{"$f":"COUNTIF(L145:L172,AS11)","v":5},{"$f":"AT11/(AV4-AT9)","v":0.17857142857142858},{"$f":"IF(AU11=0,0,(AU11*((LOG(AU11))/LOG(2))))","v":-0.44382621913754317}]
[11,817,12,822,13,827,null,null,null,null,0,111,null,212,{"$f":"COUNTIF($L$7:$L$500,N12)","v":6},{"$f":"O12/$Q$4","v":3.614457831325301E-2},{"$f":"IF(P12=0,0,(P12*((LOG(P12))/LOG(2))))","v":-0.17313531074550972},null,null,{"$f":"N12","v":212},{"$f":"COUNTIF(L7:L34,T12)","v":0},{"$f":"U12/(W4-U9)","v":0},{"$f":"IF(V12=0,0,(V12*((LOG(V12))/LOG(2))))","v":0},null,{"$f":"N12","v":212},{"$f":"COUNTIF(L35:L61,Y12)","v":1},{"$f":"Z12/(AB4-Z9)","v":3.7037037037037035E-2},{"$f":"IF(AA12=0,0,(AA12*((LOG(AA12))/LOG(2))))","v":-0.1761069445245729},null,{"$f":"N12","v":212},{"$f":"COUNTIF(L62:L89,AD12)","v":1},{"$f":"AE12/(AG4-AE9)","v":3.5714285714285712E-2},{"$f":"IF(AF12=0,0,(AF12*((LOG(AF12))/LOG(2))))","v":-0.17169124721634299},null,{"$f":"N12","v":212},{"$f":"COUNTIF(L90:L117,AI12)","v":2},{"$f":"AJ12/(AL4-AJ9)","v":7.1428571428571425E-2},{"$f":"IF(AK12=0,0,(AK12*((LOG(AK12))/LOG(2))))","v":-0.27195392300411453},null,{"$f":"N12","v":212},{"$f":"COUNTIF(L118:L144,AN12)","v":1},{"$f":"AO12/(AQ4-AO9)","v":3.8461538461538464E-2},{"$f":"IF(AP12=0,0,(AP12*((LOG(AP12))/LOG(2))))","v":-0.18078614300542661},null,{"$f":"N12","v":212},{"$f":"COUNTIF(L145:L172,AS12)","v":1},{"$f":"AT12/(AV4-AT9)","v":3.5714285714285712E-2},{"$f":"IF(AU12=0,0,(AU12*((LOG(AU12))/LOG(2))))","v":-0.17169124721634299}]
[22,928,14,936,13,939,null,null,null,null,0,211,null,221,{"$f":"COUNTIF($L$7:$L$500,N13)","v":21},{"$f":"O13/$Q$4","v":0.12650602409638553},{"$f":"IF(P13=0,0,(P13*((LOG(P13))/LOG(2))))","v":-0.3773323022887437},null,null,{"$f":"N13","v":221},{"$f":"COUNTIF(L7:L34,T13)","v":1},{"$f":"U13/(W4-U9)","v":3.5714285714285712E-2},{"$f":"IF(V13=0,0,(V13*((LOG(V13))/LOG(2))))","v":-0.17169124721634299},null,{"$f":"N13","v":221},{"$f":"COUNTIF(L35:L61,Y13)","v":4},{"$f":"Z13/(AB4-Z9)","v":0.14814814814814814},{"$f":"IF(AA13=0,0,(AA13*((LOG(AA13))/LOG(2))))","v":-0.40813148180199532},null,{"$f":"N13","v":221},{"$f":"COUNTIF(L62:L89,AD13)","v":4},{"$f":"AE13/(AG4-AE9)","v":0.14285714285714285},{"$f":"IF(AF13=0,0,(AF13*((LOG(AF13))/LOG(2))))","v":-0.40105070315108626},null,{"$f":"N13","v":221},{"$f":"COUNTIF(L90:L117,AI13)","v":3},{"$f":"AJ13/(AL4-AJ9)","v":0.10714285714285714},{"$f":"IF(AK13=0,0,(AK13*((LOG(AK13))/LOG(2))))","v":-0.34525633085747659},null,{"$f":"N13","v":221},{"$f":"COUNTIF(L118:L144,AN13)","v":3},{"$f":"AO13/(AQ4-AO9)","v":0.11538461538461539},{"$f":"IF(AP13=0,0,(AP13*((LOG(AP13))/LOG(2))))","v":-0.35947814047153104},null,{"$f":"N13","v":221},{"$f":"COUNTIF(L145:L172,AS13)","v":6},{"$f":"AT13/(AV4-AT9)","v":0.21428571428571427},{"$f":"IF(AU13=0,0,(AU13*((LOG(AU13))/LOG(2))))","v":-0.47622694742923877}]
[11,1042,12,1047,13,1056,null,null,null,null,0,111,null,222,{"$f":"COUNTIF($L$7:$L$500,N14)","v":34},{"$f":"O14/$Q$4","v":0.20481927710843373},{"$f":"IF(P14=0,0,(P14*((LOG(P14))/LOG(2))))","v":-0.46853978351375847},null,null,{"$f":"N14","v":222},{"$f":"COUNTIF(L7:L34,T14)","v":2},{"$f":"U14/(W4-U9)","v":7.1428571428571425E-2},{"$f":"IF(V14=0,0,(V14*((LOG(V14))/LOG(2))))","v":-0.27195392300411453},null,{"$f":"N14","v":222},{"$f":"COUNTIF(L35:L61,Y14)","v":0},{"$f":"Z14/(AB4-Z9)","v":0},{"$f":"IF(AA14=0,0,(AA14*((LOG(AA14))/LOG(2))))","v":0},null,{"$f":"N14","v":222},{"$f":"COUNTIF(L62:L89,AD14)","v":6},{"$f":"AE14/(AG4-AE9)","v":0.21428571428571427},{"$f":"IF(AF14=0,0,(AF14*((LOG(AF14))/LOG(2))))","v":-0.47622694742923877},null,{"$f":"N14","v":222},{"$f":"COUNTIF(L90:L117,AI14)","v":9},{"$f":"AJ14/(AL4-AJ9)","v":0.32142857142857145},{"$f":"IF(AK14=0,0,(AK14*((LOG(AK14))/LOG(2))))","v":-0.5263167601977724},null,{"$f":"N14","v":222},{"$f":"COUNTIF(L118:L144,AN14)","v":6},{"$f":"AO14/(AQ4-AO9)","v":0.23076923076923078},{"$f":"IF(AP14=0,0,(AP14*((LOG(AP14))/LOG(2))))","v":-0.48818705017383146},null,{"$f":"N14","v":222},{"$f":"COUNTIF(L145:L172,AS14)","v":11},{"$f":"AT14/(AV4-AT9)","v":0.39285714285714285},{"$f":"IF(AU14=0,0,(AU14*((LOG(AU14))/LOG(2))))","v":-0.52954129777226344}]
[22,1153,14,1165,13,1169,null,null,null,null,0,211,null,null,null,{"$f":"SUM(P7:P14)","v":1},{"$f":"-SUM(Q7:Q14)","v":2.3478791183536827},null,null,null,null,{"$f":"SUM(V7:V14)","v":0.99999999999999989},{"$f":"-SUM(W7:W14)","v":1.9036774610288021},null,null,null,{"$f":"SUM(AA7:AA14)","v":1},{"$f":"-SUM(AB7:AB14)","v":1.7880091193547947},null,null,null,{"$f":"SUM(AF7:AF14)","v":0.99999999999999989},{"$f":"-SUM(AG7:AG14)","v":2.2534343861887844},null,null,null,{"$f":"SUM(AK7:AK14)","v":1},{"$f":"-SUM(AL7:AL14)","v":2.0750872983426789},null,null,null,{"$f":"SUM(AP7:AP14)","v":1},{"$f":"-SUM(AQ7:AQ14)","v":2.1497316292372197},null,null,null,{"$f":"SUM(AU7:AU14)","v":1},{"$f":"-SUM(AV7:AV14)","v":2.2384959654169791}]
[11,1291,12,1296,13,1303,null,null,null,null,0,111,null,null,null,"U=",{"$f":"Q15/(LOG(Q4)/LOG(2))","v":0.31835478850109455},null,null,null,null,"U1=",{"$f":"W15/(LOG(W4)/LOG(2))","v":0.39599270116174529},null,null,null,"U2=",{"$f":"AB15/(LOG(AB4)/LOG(2))","v":0.37603605101934645},null,null,null,"U3=",{"$f":"AG15/(LOG(AG4)/LOG(2))","v":0.46874724723347205},null,null,null,"U4=",{"$f":"AL15/(LOG(AL4)/LOG(2))","v":0.43164844950838732},null,null,null,"U5=",{"$f":"AQ15/(LOG(AQ4)/LOG(2))","v":0.45210988235980226},null,null,null,"U6=",{"$f":"AV15/(LOG(AV4)/LOG(2))","v":0.46563983764670258}]
[11,1401,12,1406,13,1412,null,null,null,null,0,111]
[22,1510,14,1519,13,1524,null,null,null,null,0,211]
[11,1619,12,1622,13,1628,null,null,null,null,0,111,null,"Total Target Seq"]
[11,1723,12,1727,13,1737,null,null,null,null,0,111,null,{"$f":"COUNTIF(L7:L172,G3)","v":1},null,28,27,28,28,27,28]
[22,1834,14,1844,13,1848,null,null,null,null,0,211,null,null,null,"% of reinforcement given in 6 equal intervals based on number of trials "]
[11,1944,12,1950,13,1956,null,null,null,null,0,111,null,null,null,"%_1","%_2","%_3","%_4","%_5","%_6"]
[22,2062,14,2070,13,2076,null,null,null,null,0,211,null,null,"target sequence",{"$f":"$G$3","v":121},{"$f":"$G$3","v":121},{"$f":"$G$3","v":121},{"$f":"$G$3","v":121},{"$f":"$G$3","v":121},{"$f":"$G$3","v":121}]
[22,2174,14,2183,13,2189,null,null,null,null,0,211,null,null,"total reinforcement",{"$f":"U9","v":0},{"$f":"Z9","v":0},{"$f":"AE9","v":0},{"$f":"AJ9","v":0},{"$f":"AO9","v":1},{"$f":"AT9","v":0}]
[11,2292,12,2296,13,2302,null,null,null,null,0,111,null,null,"% target"]
[11,2427,12,2431,13,2437,null,null,null,null,0,111,null,null,"CCRF"]
[11,2548,12,2553,13,2562,null,null,null,null,0,111,null,null,"% CCRf"]
[11,2675,12,2680,13,2686,null,null,null,null,0,111,null,null,"average response rate",{"$f":"F34/P20","v":125.60714285714286},{"$f":"(F61-F34)/Q20","v":128.40740740740742},{"$f":"(F89-F61)/R20","v":173.60714285714286},{"$f":"(F117-F89)/S20","v":148.78571428571428},{"$f":"(F144-F117)/T20","v":147.55555555555554},{"$f":"(F172-F144)/U20","v":140.17857142857142}]
[22,2785,14,2804,13,2809,null,null,null,null,0,211]
[22,2909,23,2915,13,2921,null,null,null,null,0,221]
[11,3143,12,3152,13,3161,null,null,null,null,0,111]
[11,3266,12,3271,13,3277,null,null,null,null,0,111]
[22,3372,14,3382,13,3387,null,null,null,null,0,211]
[11,3495,12,3500,24,3517,null,null,null,null,0,112]
[11,3613,12,3616,13,3623,null,null,null,null,0,111]
[11,3734,12,3742,13,3747,null,null,null,null,0,111]
[11,3857,12,3860,13,3867,null,null,null,null,0,111]
[22,3963,14,3980,13,3985,null,null,null,null,0,211]
[11,4081,12,4086,13,4093,null,null,null,null,0,111]
[11,4194,12,4198,13,4206,null,null,null,null,0,111]
[22,4302,14,4316,13,4322,null,null,null,null,0,211]
[22,4420,14,4439,13,4444,null,null,null,null,0,211]
[22,4541,14,4561,13,4569,null,null,null,null,0,211]
[22,4667,14,4684,24,4697,null,null,null,null,0,212]
[11,4809,12,4813,24,4828,null,null,null,null,0,112]
[11,4926,12,4939,13,4949,null,null,null,null,0,111]
[11,5190,12,5194,13,5201,null,null,null,null,0,111]
[11,5299,12,5305,13,5313,null,null,null,null,0,111]
[22,5411,14,5429,13,5437,null,null,null,null,0,211]
[11,5537,12,5542,13,5552,null,null,null,null,0,111]
[11,5647,12,5651,13,5656,null,null,null,null,0,111]
[22,5754,14,5770,13,5774,null,null,null,null,0,211]
[22,5873,23,5889,13,5902,null,null,null,null,0,221]
[11,6082,12,6091,13,6108,null,null,null,null,0,111]
[22,6206,14,6214,13,6217,null,null,null,null,0,211]
[22,6319,23,6325,13,6338,null,null,null,null,0,221]
[22,6436,23,6441,13,6459,null,null,null,null,0,221]
[22,6560,23,6567,13,6580,null,null,null,null,0,221]
[22,6675,14,6709,13,6716,null,null,null,null,0,211]
[11,6868,12,6873,13,6879,null,null,null,null,0,111]
[11,6975,12,6978,13,6984,null,null,null,null,0,111]
[11,7079,12,7082,13,7085,null,null,null,null,0,111]
[11,7224,12,7229,24,7244,null,null,null,null,0,112]
[22,7344,23,7350,13,7361,null,null,null,null,0,221]
[11,8407,12,8412,13,8420,null,null,null,null,0,111]
[22,8517,23,8521,13,8544,null,null,null,null,0,221]
[11,8644,12,8649,13,8656,null,null,null,null,0,111]
[22,8753,23,8755,24,8760,null,null,null,null,0,222]
[22,8857,14,8870,13,8880,null,null,null,null,0,211]
[22,8979,23,8983,13,9000,null,null,null,null,0,221]
[22,9119,14,9132,13,9137,null,null,null,null,0,211]
[22,9233,23,9238,24,9245,null,null,null,null,0,222]
[22,9336,23,9343,24,9345,null,null,null,null,0,222]
[22,9443,23,9449,24,9456,null,null,null,null,0,222]
[11,9611,12,9616,13,9622,null,null,null,null,0,111]
[22,9720,23,9727,24,9733,null,null,null,null,0,222]
[22,9926,14,9986,13,9992,null,null,null,null,0,211]
[11,10111,12,10118,13,10124,null,null,null,null,0,111]
[22,10225,14,10243,13,10251,null,null,null,null,0,211]
[11,10453,12,10463,13,10471,null,null,null,null,0,111]
[22,10569,14,10586,13,10591,null,null,null,null,0,211]
[22,10690,23,10695,24,10702,null,null,null,null,0,222]
[22,10863,14,10876,13,10882,null,null,null,null,0,211]
[11,11008,12,11018,13,11024,null,null,null,null,0,111]
[22,11123,14,11151,13,11162,null,null,null,null,0,211]
[11,11338,12,11352,13,11359,null,null,null,null,0,111]
[22,11459,23,11470,13,11479,null,null,null,null,0,221]
[22,11663,14,11674,13,11679,null,null,null,null,0,211]
[22,11815,14,11828,24,11845,null,null,null,null,0,212]
[22,11941,23,11947,13,11966,null,null,null,null,0,221]
[11,12156,12,12160,13,12166,null,null,null,null,0,111]
[22,12268,14,12278,24,12305,null,null,null,null,0,212]
[22,12501,14,12511,13,12515,null,null,null,null,0,211]
[22,12615,23,12622,13,12638,null,null,null,null,0,221]
[22,12796,14,12814,13,12818,null,null,null,null,0,211]
[22,13018,14,13029,13,13033,null,null,null,null,0,211]
[22,13147,23,13164,13,13177,null,null,null,null,0,221]
[22,13277,23,13284,24,13301,null,null,null,null,0,222]
[22,13400,23,13406,24,13410,null,null,null,null,0,222]
[11,13513,12,13520,13,13531,null,null,null,null,0,111]
[11,13629,12,13633,13,13638,null,null,null,null,0,111]
[22,13749,23,13753,24,13759,null,null,null,null,0,222]
[22,13864,14,13895,13,13899,null,null,null,null,0,211]
[11,14059,12,14127,13,14132,null,null,null,null,0,111]
[22,14238,14,14246,13,14249,null,null,null,null,0,211]
[22,14399,14,14408,13,14413,null,null,null,null,0,211]
[22,14509,23,14519,24,14536,null,null,null,null,0,222]
[22,14682,14,14694,13,14698,null,null,null,null,0,211]
[22,14822,23,14827,24,14834,null,null,null,null,0,222]
[22,14956,23,14962,24,14982,null,null,null,null,0,222]
[22,15099,14,15111,24,15126,null,null,null,null,0,212]
[22,15311,14,15320,13,15324,null,null,null,null,0,211]
[22,15422,23,15458,24,15464,null,null,null,null,0,222]
[22,15570,23,15576,24,15594,null,null,null,null,0,222]
[22,15696,14,15717,13,15722,null,null,null,null,0,211]
[22,15819,23,15824,24,15836,null,null,null,null,0,222]
[22,15991,14,16007,13,16011,null,null,null,null,0,211]
[22,16107,23,16114,13,16149,null,null,null,null,0,221]
[11,16279,21,16313,11,16329,null,null,null,null,0,121]
[22,16652,14,16660,13,16666,null,null,null,null,0,211]
[22,16761,14,16771,13,16777,null,null,null,null,0,211]
[22,16888,14,16897,13,16902,null,null,null,null,0,211]
[22,17003,14,17014,13,17020,null,null,null,null,0,211]
[22,17118,23,17124,24,17130,null,null,null,null,0,222]
[11,17339,12,17344,13,17352,null,null,null,null,0,111]
[22,17448,23,17463,24,17468,null,null,null,null,0,222]
[11,17578,12,17582,13,17588,null,null,null,null,0,111]
[22,17752,14,17762,13,17770,null,null,null,null,0,211]
[22,17871,23,17875,24,17879,null,null,null,null,0,222]
[22,17975,23,17981,13,17991,null,null,null,null,0,221]
[22,18269,14,18278,13,18283,null,null,null,null,0,211]
[22,18382,14,18393,13,18397,null,null,null,null,0,211]
[11,18493,12,18498,13,18503,null,null,null,null,0,111]
[22,18600,14,18623,13,18629,null,null,null,null,0,211]
[22,18730,14,18744,24,18762,null,null,null,null,0,212]
[11,18916,12,18920,13,18927,null,null,null,null,0,111]
[22,19021,23,19027,13,19039,null,null,null,null,0,221]
[22,19137,23,19158,24,19171,null,null,null,null,0,222]
[22,19268,14,19285,13,19290,null,null,null,null,0,211]
[22,19387,23,19391,24,19398,null,null,null,null,0,222]
[22,19632,14,19643,13,19648,null,null,null,null,0,211]
[22,19743,14,19759,13,19765,null,null,null,null,0,211]
[22,19861,23,19866,24,19872,null,null,null,null,0,222]
[11,19970,12,19978,24,19995,null,null,null,null,0,112]
[22,20091,23,20104,24,20110,null,null,null,null,0,222]
[22,20207,14,20246,24,20263,null,null,null,null,0,212]
[11,20373,12,20376,13,20384,null,null,null,null,0,111]
[11,20485,12,20494,24,20509,null,null,null,null,0,112]
[22,20608,14,20620,13,20624,null,null,null,null,0,211]
[22,20814,14,20825,13,20830,null,null,null,null,0,211]
[11,20931,12,20937,24,20955,null,null,null,null,0,112]
[22,21051,23,21056,24,21063,null,null,null,null,0,222]
[22,21163,23,21174,24,21189,null,null,null,null,0,222]
[11,21520,12,21526,13,21533,null,null,null,null,0,111]
[22,21635,23,21653,13,21667,null,null,null,null,0,221]
[22,21771,23,21776,13,21787,null,null,null,null,0,221]
[22,21906,23,21911,24,21915,null,null,null,null,0,222]
[22,22012,23,22025,24,22038,null,null,null,null,0,222]
[22,22134,23,22149,24,22156,null,null,null,null,0,222]
[22,22254,23,22259,24,22272,null,null,null,null,0,222]
[22,22393,23,22401,13,22410,null,null,null,null,0,221]
[22,22513,23,22521,24,22529,null,null,null,null,0,222]
[22,22648,14,22658,13,22663,null,null,null,null,0,211]
[22,22764,23,22769,24,22773,null,null,null,null,0,222]
[22,22882,23,22889,13,22915,null,null,null,null,0,221]
[22,23011,23,23017,24,23024,null,null,null,null,0,222]
[22,23135,23,23141,13,23152,null,null,null,null,0,221]
[11,23283,12,23335,13,23341,null,null,null,null,0,111]
[22,23438,23,23443,13,23453,null,null,null,null,0,221]
[22,23552,14,23580,13,23586,null,null,null,null,0,211]
[22,23686,23,23691,24,23697,null,null,null,null,0,222]
[22,23905,14,23915,13,23920,null,null,null,null,null,211]

{"sheet":"!M305A3I.sha","index":27,"n_rows":156,"n_cols":48,"rows_kept":156,"cut":false,"hidden":false,"merged":[[4,39,4,42],[5,39,5,40],[4,44,4,47],[5,44,5,45],[4,24,4,27],[5,24,5,25],[4,29,4,32],[5,29,5,30],[4,34,4,37],[5,34,5,35],[1,1,1,2],[5,13,5,14],[18,13,18,14],[19,13,19,14],[4,19,4,22],[5,19,5,20]]}
["Report for:!M305A3I.sha"]
["Date:","<date>"]
["Hen:","<hen>",null,null,null,"Correct Sequence",{"$f":"Start!J2","v":121},null,null,null,null,null,null,null,null,"Total Sequences in Data",{"$f":"4994-COUNTBLANK(L7:L5000)","v":150},null,null,null,null,"Total Sequences in Block Data",{"$f":"COUNTA(L7:L31)","v":25},null,null,null,"Total Sequences in Block Data",{"$f":"COUNTA(L32:L56)","v":25},null,null,null,"Total Sequences in Block Data",{"$f":"COUNTA(L57:L81)","v":25},null,null,null,"Total Sequences in Block Data",{"$f":"COUNTA(L82:L106)","v":25},null,null,null,"Total Sequences in Block Data",{"$f":"COUNTA(L107:L131)","v":25},null,null,null,"Total Sequences in Block Data",{"$f":"COUNTA(L132:L156)","v":25}]
[null,null,null,null,null,null,null,null,null,null,null,null,null,null,null,"Total Sequences in Summary",{"$f":"SUM(O7:O14)","v":149},null,null,null,null,"Total Sequences in Block Summary",{"$f":"SUM(U7:U14)","v":25},null,null,null,"Total Sequences in Block Summary",{"$f":"SUM(Z7:Z14)","v":25},null,null,null,"Total Sequences in Block Summary",{"$f":"SUM(AE7:AE14)","v":25},null,null,null,"Total Sequences in Block Summary",{"$f":"SUM(AJ7:AJ14)","v":25},null,null,null,"Total Sequences in Block Summary",{"$f":"SUM(AO7:AO14)","v":25},null,null,null,"Total Sequences in Block Summary",{"$f":"SUM(AT7:AT14)","v":24}]
[null,null,null,null,null,null,null,null,null,null,null,null,null,null,null,null,null,null,null,"Block 1",null,null,null,null,"Block 2",null,null,null,null,"Block 3",null,null,null,null,"Block 4",null,null,null,null,"Block 5",null,null,null,null,"Block 6"]
["Sequence\nComponent\n1","Time\n1","Sequence\nComponent\n2","Time\n2","Sequence\nComponent\n3","Time\n3","Sequence\nComponent\n4","Time\n4","Sequence\nComponent\n5","Time\n5","Correct?\n0=No 1=Yes","Sequence",null,"Frequency",null,"Relative Frequency","Variability",null,null,"Frequency",null,"Relative Frequency","Variability",null,"Frequency",null,"Relative Frequency","Variability",null,"Frequency",null,"Relative Frequency","Variability",null,"Frequency",null,"Relative Frequency","Variability",null,"Frequency",null,"Relative Frequency","Variability",null,"Frequency",null,"Relative Frequency","Variability"]
[22,11,14,20,13,23,null,null,null,null,0,211,null,111,{"$f":"COUNTIF($L$7:$L$500,N7)","v":26},{"$f":"O7/$Q$4","v":0.17449664429530201},{"$f":"IF(P7=0,0,(P7*((LOG(P7))/LOG(2))))","v":-0.43950972389495169},null,null,{"$f":"N7","v":111},{"$f":"COUNTIF(L7:L31,T7)","v":9},{"$f":"U7/(W4-U9)","v":0.36},{"$f":"IF(V7=0,0,(V7*((LOG(V7))/LOG(2))))","v":-0.53061522779966841},null,{"$f":"N7","v":111},{"$f":"COUNTIF(L32:L56,Y7)","v":3},{"$f":"Z7/(AB4-Z9)","v":0.12},{"$f":"IF(AA7=0,0,(AA7*((LOG(AA7))/LOG(2))))","v":-0.36706724268642821},null,{"$f":"N7","v":111},{"$f":"COUNTIF(L57:L81,AD7)","v":4},{"$f":"AE7/(AG4-AE9)","v":0.16},{"$f":"IF(AF7=0,0,(AF7*((LOG(AF7))/LOG(2))))","v":-0.42301699036395596},null,{"$f":"N7","v":111},{"$f":"COUNTIF(L82:L106,AI7)","v":6},{"$f":"AJ7/(AL4-AJ9)","v":0.24},{"$f":"IF(AK7=0,0,(AK7*((LOG(AK7))/LOG(2))))","v":-0.49413448537285637},null,{"$f":"N7","v":111},{"$f":"COUNTIF(L107:L131,AN7)","v":4},{"$f":"AO7/(AQ4-AO9)","v":0.16},{"$f":"IF(AP7=0,0,(AP7*((LOG(AP7))/LOG(2))))","v":-0.42301699036395596},null,{"$f":"N7","v":111},{"$f":"COUNTIF(L132:L156,AS7)","v":0},{"$f":"AT7/(AV4-AT9)","v":0},{"$f":"IF(AU7=0,0,(AU7*((LOG(AU7))/LOG(2))))","v":0}]
[11,129,12,138,13,145,null,null,null,null,0,111,null,112,{"$f":"COUNTIF($L$7:$L$500,N8)","v":19},{"$f":"O8/$Q$4","v":0.12751677852348994},{"$f":"IF(P8=0,0,(P8*((LOG(P8))/LOG(2))))","v":-0.37888308143189897},null,null,{"$f":"N8","v":112},{"$f":"COUNTIF(L7:L31,T8)","v":2},{"$f":"U8/(W4-U9)","v":0.08},{"$f":"IF(V8=0,0,(V8*((LOG(V8))/LOG(2))))","v":-0.29150849518197797},null,{"$f":"N8","v":112},{"$f":"COUNTIF(L32:L56,Y8)","v":4},{"$f":"Z8/(AB4-Z9)","v":0.16},{"$f":"IF(AA8=0,0,(AA8*((LOG(AA8))/LOG(2))))","v":-0.42301699036395596},null,{"$f":"N8","v":112},{"$f":"COUNTIF(L57:L81,AD8)","v":4},{"$f":"AE8/(AG4-AE9)","v":0.16},{"$f":"IF(AF8=0,0,(AF8*((LOG(AF8))/LOG(2))))","v":-0.42301699036395596},null,{"$f":"N8","v":112},{"$f":"COUNTIF(L82:L106,AI8)","v":3},{"$f":"AJ8/(AL4-AJ9)","v":0.12},{"$f":"IF(AK8=0,0,(AK8*((LOG(AK8))/LOG(2))))","v":-0.36706724268642821},null,{"$f":"N8","v":112},{"$f":"COUNTIF(L107:L131,AN8)","v":3},{"$f":"AO8/(AQ4-AO9)","v":0.12},{"$f":"IF(AP8=0,0,(AP8*((LOG(AP8))/LOG(2))))","v":-0.36706724268642821},null,{"$f":"N8","v":112},{"$f":"COUNTIF(L132:L156,AS8)","v":3},{"$f":"AT8/(AV4-AT9)","v":0.125},{"$f":"IF(AU8=0,0,(AU8*((LOG(AU8))/LOG(2))))","v":-0.375}]
[11,525,12,532,13,538,null,null,null,null,0,111,null,121,{"$f":"COUNTIF($L$7:$L$500,N9)","v":0},{"$f":"O9/$Q$4","v":0},{"$f":"IF(P9=0,0,(P9*((LOG(P9))/LOG(2))))","v":0},null,null,{"$f":"N9","v":121},{"$f":"COUNTIF(L7:L31,T9)","v":0},null,null,null,{"$f":"N9","v":121},{"$f":"COUNTIF(L32:L56,Y9)","v":0},null,null,null,{"$f":"N9","v":121},{"$f":"COUNTIF(L57:L81,AD9)","v":0},null,null,null,{"$f":"N9","v":121},{"$f":"COUNTIF(L82:L106,AI9)","v":0},null,null,null,{"$f":"N9","v":121},{"$f":"COUNTIF(L107:L131,AN9)","v":0},null,null,null,{"$f":"N9","v":121},{"$f":"COUNTIF(L132:L156,AS9)","v":0}]
[22,634,14,649,13,667,null,null,null,null,0,211,null,122,{"$f":"COUNTIF($L$7:$L$500,N10)","v":15},{"$f":"O10/$Q$4","v":0.10067114093959731},{"$f":"IF(P10=0,0,(P10*((LOG(P10))/LOG(2))))","v":-0.33345079780405801},null,null,{"$f":"N10","v":122},{"$f":"COUNTIF(L7:L31,T10)","v":0},{"$f":"U10/(W4-U9)","v":0},{"$f":"IF(V10=0,0,(V10*((LOG(V10))/LOG(2))))","v":0},null,{"$f":"N10","v":122},{"$f":"COUNTIF(L32:L56,Y10)","v":0},{"$f":"Z10/(AB4-Z9)","v":0},{"$f":"IF(AA10=0,0,(AA10*((LOG(AA10))/LOG(2))))","v":0},null,{"$f":"N10","v":122},{"$f":"COUNTIF(L57:L81,AD10)","v":4},{"$f":"AE10/(AG4-AE9)","v":0.16},{"$f":"IF(AF10=0,0,(AF10*((LOG(AF10))/LOG(2))))","v":-0.42301699036395596},null,{"$f":"N10","v":122},{"$f":"COUNTIF(L82:L106,AI10)","v":3},{"$f":"AJ10/(AL4-AJ9)","v":0.12},{"$f":"IF(AK10=0,0,(AK10*((LOG(AK10))/LOG(2))))","v":-0.36706724268642821},null,{"$f":"N10","v":122},{"$f":"COUNTIF(L107:L131,AN10)","v":4},{"$f":"AO10/(AQ4-AO9)","v":0.16},{"$f":"IF(AP10=0,0,(AP10*((LOG(AP10))/LOG(2))))","v":-0.42301699036395596},null,{"$f":"N10","v":122},{"$f":"COUNTIF(L132:L156,AS10)","v":4},{"$f":"AT10/(AV4-AT9)","v":0.16666666666666666},{"$f":"IF(AU10=0,0,(AU10*((LOG(AU10))/LOG(2))))","v":-0.43082708345352599}]
[11,766,12,771,24,792,null,null,null,null,0,112,null,211,{"$f":"COUNTIF($L$7:$L$500,N11)","v":39},{"$f":"O11/$Q$4","v":0.26174496644295303},{"$f":"IF(P11=0,0,(P11*((LOG(P11))/LOG(2))))","v":-0.50615359572078267},null,null,{"$f":"N11","v":211},{"$f":"COUNTIF(L7:L31,T11)","v":12},{"$f":"U11/(W4-U9)","v":0.48},{"$f":"IF(V11=0,0,(V11*((LOG(V11))/LOG(2))))","v":-0.50826897074571287},null,{"$f":"N11","v":211},{"$f":"COUNTIF(L32:L56,Y11)","v":10},{"$f":"Z11/(AB4-Z9)","v":0.4},{"$f":"IF(AA11=0,0,(AA11*((LOG(AA11))/LOG(2))))","v":-0.52877123795494496},null,{"$f":"N11","v":211},{"$f":"COUNTIF(L57:L81,AD11)","v":5},{"$f":"AE11/(AG4-AE9)","v":0.2},{"$f":"IF(AF11=0,0,(AF11*((LOG(AF11))/LOG(2))))","v":-0.46438561897747244},null,{"$f":"N11","v":211},{"$f":"COUNTIF(L82:L106,AI11)","v":6},{"$f":"AJ11/(AL4-AJ9)","v":0.24},{"$f":"IF(AK11=0,0,(AK11*((LOG(AK11))/LOG(2))))","v":-0.49413448537285637},null,{"$f":"N11","v":211},{"$f":"COUNTIF(L107:L131,AN11)","v":2},{"$f":"AO11/(AQ4-AO9)","v":0.08},{"$f":"IF(AP11=0,0,(AP11*((LOG(AP11))/LOG(2))))","v":-0.29150849518197797},null,{"$f":"N11","v":211},{"$f":"COUNTIF(L132:L156,AS11)","v":4},{"$f":"AT11/(AV4-AT9)","v":0.16666666666666666},{"$f":"IF(AU11=0,0,(AU11*((LOG(AU11))/LOG(2))))","v":-0.43082708345352599}]
[11,1027,12,1034,13,1044,null,null,null,null,0,111,null,212,{"$f":"COUNTIF($L$7:$L$500,N12)","v":10},{"$f":"O12/$Q$4","v":6.7114093959731544E-2},{"$f":"IF(P12=0,0,(P12*((LOG(P12))/LOG(2))))","v":-0.26155976010569121},null,null,{"$f":"N12","v":212},{"$f":"COUNTIF(L7:L31,T12)","v":0},{"$f":"U12/(W4-U9)","v":0},{"$f":"IF(V12=0,0,(V12*((LOG(V12))/LOG(2))))","v":0},null,{"$f":"N12","v":212},{"$f":"COUNTIF(L32:L56,Y12)","v":0},{"$f":"Z12/(AB4-Z9)","v":0},{"$f":"IF(AA12=0,0,(AA12*((LOG(AA12))/LOG(2))))","v":0},null,{"$f":"N12","v":212},{"$f":"COUNTIF(L57:L81,AD12)","v":0},{"$f":"AE12/(AG4-AE9)","v":0},{"$f":"IF(AF12=0,0,(AF12*((LOG(AF12))/LOG(2))))","v":0},null,{"$f":"N12","v":212},{"$f":"COUNTIF(L82:L106,AI12)","v":1},{"$f":"AJ12/(AL4-AJ9)","v":0.04},{"$f":"IF(AK12=0,0,(AK12*((LOG(AK12))/LOG(2))))","v":-0.18575424759098899},null,{"$f":"N12","v":212},{"$f":"COUNTIF(L107:L131,AN12)","v":3},{"$f":"AO12/(AQ4-AO9)","v":0.12},{"$f":"IF(AP12=0,0,(AP12*((LOG(AP12))/LOG(2))))","v":-0.36706724268642821},null,{"$f":"N12","v":212},{"$f":"COUNTIF(L132:L156,AS12)","v":6},{"$f":"AT12/(AV4-AT9)","v":0.25},{"$f":"IF(AU12=0,0,(AU12*((LOG(AU12))/LOG(2))))","v":-0.5}]
[22,1141,14,1151,13,1156,null,null,null,null,0,211,null,221,{"$f":"COUNTIF($L$7:$L$500,N13)","v":23},{"$f":"O13/$Q$4","v":0.15436241610738255},{"$f":"IF(P13=0,0,(P13*((LOG(P13))/LOG(2))))","v":-0.41610034215649944},null,null,{"$f":"N13","v":221},{"$f":"COUNTIF(L7:L31,T13)","v":1},{"$f":"U13/(W4-U9)","v":0.04},{"$f":"IF(V13=0,0,(V13*((LOG(V13))/LOG(2))))","v":-0.18575424759098899},null,{"$f":"N13","v":221},{"$f":"COUNTIF(L32:L56,Y13)","v":7},{"$f":"Z13/(AB4-Z9)","v":0.28000000000000003},{"$f":"IF(AA13=0,0,(AA13*((LOG(AA13))/LOG(2))))","v":-0.51422035496079388},null,{"$f":"N13","v":221},{"$f":"COUNTIF(L57:L81,AD13)","v":5},{"$f":"AE13/(AG4-AE9)","v":0.2},{"$f":"IF(AF13=0,0,(AF13*((LOG(AF13))/LOG(2))))","v":-0.46438561897747244},null,{"$f":"N13","v":221},{"$f":"COUNTIF(L82:L106,AI13)","v":1},{"$f":"AJ13/(AL4-AJ9)","v":0.04},{"$f":"IF(AK13=0,0,(AK13*((LOG(AK13))/LOG(2))))","v":-0.18575424759098899},null,{"$f":"N13","v":221},{"$f":"COUNTIF(L107:L131,AN13)","v":7},{"$f":"AO13/(AQ4-AO9)","v":0.28000000000000003},{"$f":"IF(AP13=0,0,(AP13*((LOG(AP13))/LOG(2))))","v":-0.51422035496079388},null,{"$f":"N13","v":221},{"$f":"COUNTIF(L132:L156,AS13)","v":2},{"$f":"AT13/(AV4-AT9)","v":8.3333333333333329E-2},{"$f":"IF(AU13=0,0,(AU13*((LOG(AU13))/LOG(2))))","v":-0.29874687506009634}]
[22,1255,14,1265,13,1270,null,null,null,null,0,211,null,222,{"$f":"COUNTIF($L$7:$L$500,N14)","v":17},{"$f":"O14/$Q$4","v":0.11409395973154363},{"$f":"IF(P14=0,0,(P14*((LOG(P14))/LOG(2))))","v":-0.35730870165504008},null,null,{"$f":"N14","v":222},{"$f":"COUNTIF(L7:L31,T14)","v":1},{"$f":"U14/(W4-U9)","v":0.04},{"$f":"IF(V14=0,0,(V14*((LOG(V14))/LOG(2))))","v":-0.18575424759098899},null,{"$f":"N14","v":222},{"$f":"COUNTIF(L32:L56,Y14)","v":1},{"$f":"Z14/(AB4-Z9)","v":0.04},{"$f":"IF(AA14=0,0,(AA14*((LOG(AA14))/LOG(2))))","v":-0.18575424759098899},null,{"$f":"N14","v":222},{"$f":"COUNTIF(L57:L81,AD14)","v":3},{"$f":"AE14/(AG4-AE9)","v":0.12},{"$f":"IF(AF14=0,0,(AF14*((LOG(AF14))/LOG(2))))","v":-0.36706724268642821},null,{"$f":"N14","v":222},{"$f":"COUNTIF(L82:L106,AI14)","v":5},{"$f":"AJ14/(AL4-AJ9)","v":0.2},{"$f":"IF(AK14=0,0,(AK14*((LOG(AK14))/LOG(2))))","v":-0.46438561897747244},null,{"$f":"N14","v":222},{"$f":"COUNTIF(L107:L131,AN14)","v":2},{"$f":"AO14/(AQ4-AO9)","v":0.08},{"$f":"IF(AP14=0,0,(AP14*((LOG(AP14))/LOG(2))))","v":-0.29150849518197797},null,{"$f":"N14","v":222},{"$f":"COUNTIF(L132:L156,AS14)","v":5},{"$f":"AT14/(AV4-AT9)","v":0.20833333333333334},{"$f":"IF(AU14=0,0,(AU14*((LOG(AU14))/LOG(2))))","v":-0.47146550121537367}]
[11,1367,12,1371,13,1376,null,null,null,null,0,111,null,null,null,{"$f":"SUM(P7:P14)","v":1},{"$f":"-SUM(Q7:Q14)","v":2.6929660027689222},null,null,null,null,{"$f":"SUM(V7:V14)","v":1},{"$f":"-SUM(W7:W14)","v":1.7019011889093374},null,null,null,{"$f":"SUM(AA7:AA14)","v":1},{"$f":"-SUM(AB7:AB14)","v":2.0188300735571119},null,null,null,{"$f":"SUM(AF7:AF14)","v":0.99999999999999989},{"$f":"-SUM(AG7:AG14)","v":2.564889451733241},null,null,null,{"$f":"SUM(AK7:AK14)","v":1},{"$f":"-SUM(AL7:AL14)","v":2.5582975702780195},null,null,null,{"$f":"SUM(AP7:AP14)","v":1},{"$f":"-SUM(AQ7:AQ14)","v":2.6774058114255181},null,null,null,{"$f":"SUM(AU7:AU14)","v":1},{"$f":"-SUM(AV7:AV14)","v":2.5068665431825217}]
[22,1473,14,1484,13,1491,null,null,null,null,0,211,null,null,null,"U=",{"$f":"Q15/(LOG(Q4)/LOG(2))","v":0.37302994037830306},null,null,null,null,"U1=",{"$f":"W15/(LOG(W4)/LOG(2))","v":0.3664844731102444},null,null,null,"U2=",{"$f":"AB15/(LOG(AB4)/LOG(2))","v":0.43473139370731589},null,null,null,"U3=",{"$f":"AG15/(LOG(AG4)/LOG(2))","v":0.55231888045561217},null,null,null,"U4=",{"$f":"AL15/(LOG(AL4)/LOG(2))","v":0.55089939604743088},null,null,null,"U5=",{"$f":"AQ15/(LOG(AQ4)/LOG(2))","v":0.57654795971522099},null,null,null,"U6=",{"$f":"AV15/(LOG(AV4)/LOG(2))","v":0.54675835250304083}]
[22,1587,14,1598,13,1602,null,null,null,null,0,211]
[11,1700,12,1704,13,1709,null,null,null,null,0,111]
[11,1805,12,1810,13,1815,null,null,null,null,0,111,null,"Total Target Seq"]
[11,1913,12,1919,24,1934,null,null,null,null,0,112,null,{"$f":"COUNTIF(L7:L156,G3)","v":0},null,25,25,25,25,25,25]
[22,2032,14,2042,13,2047,null,null,null,null,0,211,null,null,null,"% of reinforcement given in 6 equal intervals based on number of trials "]
[11,2156,12,2161,13,2167,null,null,null,null,0,111,null,null,null,"%_1","%_2","%_3","%_4","%_5","%_6"]
[22,2263,23,2267,13,2279,null,null,null,null,0,221,null,null,"target sequence",{"$f":"$G$3","v":121},{"$f":"$G$3","v":121},{"$f":"$G$3","v":121},{"$f":"$G$3","v":121},{"$f":"$G$3","v":121},{"$f":"$G$3","v":121}]
[11,2468,12,2472,13,2478,null,null,null,null,0,111,null,null,"total reinforcement",{"$f":"U9","v":0},{"$f":"Z9","v":0},{"$f":"AE9","v":0},{"$f":"AJ9","v":0},{"$f":"AO9","v":0},{"$f":"AT9","v":0}]
[22,2575,14,2585,13,2593,null,null,null,null,0,211,null,null,"% target"]
[11,2742,12,2746,13,2752,null,null,null,null,0,111,null,null,"CCRF"]
[22,2849,14,2858,13,2863,null,null,null,null,0,211,null,null,"% CCRf"]
[22,2960,14,2971,13,2977,null,null,null,null,0,211,null,null,"average response rate",{"$f":"F31/P20","v":136.96},{"$f":"(F56-F31)/Q20","v":125.6},{"$f":"(F81-F56)/R20","v":119.2},{"$f":"(F106-F81)/S20","v":146.96},{"$f":"(F131-F106)/T20","v":191.64},{"$f":"(F156-F131)/U20","v":-720.36}]
[22,3075,14,3085,13,3089,null,null,null,null,0,211]
[22,3186,23,3195,24,3204,null,null,null,null,0,222]
[22,3408,14,3417,13,3424,null,null,null,null,0,211]
[22,3520,14,3531,13,3547,null,null,null,null,0,211]
[22,3642,23,3647,13,3658,null,null,null,null,0,221]
[22,3754,23,3758,24,3766,null,null,null,null,0,222]
[11,3865,12,3870,24,3886,null,null,null,null,0,112]
[22,3983,23,3987,13,4001,null,null,null,null,0,221]
[11,4095,12,4100,24,4114,null,null,null,null,0,112]
[22,4210,23,4222,13,4240,null,null,null,null,0,221]
[22,4337,14,4348,13,4354,null,null,null,null,0,211]
[22,4521,14,4531,13,4536,null,null,null,null,0,211]
[22,4633,14,4643,13,4649,null,null,null,null,0,211]
[11,4743,12,4749,13,4756,null,null,null,null,0,111]
[22,4854,14,4865,13,4872,null,null,null,null,0,211]
[22,4968,23,4974,13,4983,null,null,null,null,0,221]
[11,5080,12,5086,13,5091,null,null,null,null,0,111]
[22,5202,23,5207,13,5216,null,null,null,null,0,221]
[22,5317,14,5325,13,5330,null,null,null,null,0,211]
[22,5428,23,5434,13,5442,null,null,null,null,0,221]
[11,5715,12,5722,24,5738,null,null,null,null,0,112]
[22,5834,14,5842,13,5847,null,null,null,null,0,211]
[11,5952,12,5965,24,5978,null,null,null,null,0,112]
[22,6075,14,6085,13,6089,null,null,null,null,0,211]
[11,6183,12,6187,13,6194,null,null,null,null,0,111]
[22,6292,14,6314,13,6321,null,null,null,null,0,211]
[22,6417,23,6425,13,6438,null,null,null,null,0,221]
[22,6535,14,6561,13,6564,null,null,null,null,0,211]
[22,6671,23,6682,24,6689,null,null,null,null,0,222]
[11,6799,12,6806,13,6811,null,null,null,null,0,111]
[22,6910,23,6915,13,6926,null,null,null,null,0,221]
[22,7021,23,7031,13,7051,null,null,null,null,0,221]
[22,7173,14,7181,13,7185,null,null,null,null,0,211]
[11,7283,21,7300,22,7304,null,null,null,null,0,122]
[22,7313,23,7318,13,7325,null,null,null,null,0,221]
[11,7420,12,7428,24,7442,null,null,null,null,0,112]
[11,7543,12,7547,13,7553,null,null,null,null,0,111]
[11,7652,21,7663,22,7668,null,null,null,null,0,122]
[22,7765,14,7779,13,7789,null,null,null,null,0,211]
[22,7886,14,7896,13,7900,null,null,null,null,0,211]
[11,7998,21,8013,22,8018,null,null,null,null,0,122]
[11,8129,21,8147,22,8154,null,null,null,null,0,122]
[22,8255,14,8265,13,8270,null,null,null,null,0,211]
[11,8364,12,8368,13,8375,null,null,null,null,0,111]
[22,8472,23,8478,24,8483,null,null,null,null,0,222]
[11,8598,12,8608,24,8626,null,null,null,null,0,112]
[11,8738,12,8743,24,8756,null,null,null,null,0,112]
[22,8852,23,8857,24,8866,null,null,null,null,0,222]
[22,8967,23,8973,13,8985,null,null,null,null,0,221]
[11,9178,12,9183,13,9191,null,null,null,null,0,111]
[22,9291,14,9306,13,9312,null,null,null,null,0,211]
[22,9409,23,9416,13,9424,null,null,null,null,0,221]
[11,9520,12,9531,24,9544,null,null,null,null,0,112]
[22,9641,23,9646,24,9660,null,null,null,null,0,222]
[22,9757,23,9766,13,9774,null,null,null,null,0,221]
[11,9876,21,9896,22,9903,null,null,null,null,0,122]
[22,10023,23,10032,24,10040,null,null,null,null,0,222]
[11,10225,12,10230,13,10236,null,null,null,null,0,111]
[11,10350,12,10355,24,10370,null,null,null,null,0,112]
[11,10479,12,10487,24,10503,null,null,null,null,0,112]
[22,10671,14,10679,13,10690,null,null,null,null,0,211]
[22,10802,14,10815,13,10820,null,null,null,null,0,211]
[11,10945,12,10951,13,10957,null,null,null,null,0,111]
[22,11066,14,11076,13,11082,null,null,null,null,0,211]
[22,11179,14,11198,24,11218,null,null,null,null,0,212]
[22,11316,23,11334,24,11339,null,null,null,null,0,222]
[22,11439,23,11445,24,11450,null,null,null,null,0,222]
[11,11670,21,11685,22,11689,null,null,null,null,0,122]
[11,11782,12,11785,13,11790,null,null,null,null,0,111]
[22,11887,23,11892,24,11896,null,null,null,null,0,222]
[11,12177,21,12228,22,12232,null,null,null,null,0,122]
[11,12343,12,12348,13,12355,null,null,null,null,0,111]
[11,12482,12,12488,13,12496,null,null,null,null,0,111]
[22,12593,14,12603,13,12607,null,null,null,null,0,211]
[22,12706,14,12715,13,12718,null,null,null,null,0,211]
[11,12840,12,12845,24,12857,null,null,null,null,0,112]
[22,12955,14,12976,13,12984,null,null,null,null,0,211]
[11,13207,12,13211,13,13218,null,null,null,null,0,111]
[22,13314,23,13340,13,13355,null,null,null,null,0,221]
[11,13457,12,13461,13,13465,null,null,null,null,0,111]
[22,13562,23,13574,13,13584,null,null,null,null,0,221]
[22,13682,23,13690,13,13699,null,null,null,null,0,221]
[22,13797,23,13803,13,13811,null,null,null,null,0,221]
[22,13938,14,13947,13,13951,null,null,null,null,0,211]
[22,14047,23,14055,24,14061,null,null,null,null,0,222]
[11,14294,12,14298,24,14309,null,null,null,null,0,112]
[11,14435,21,14450,22,14455,null,null,null,null,0,122]
[11,14585,12,14594,24,14609,null,null,null,null,0,112]
[11,14717,21,14735,22,14739,null,null,null,null,0,122]
[22,14841,14,14855,24,14872,null,null,null,null,0,212]
[11,15111,12,15114,13,15120,null,null,null,null,0,111]
[22,15217,23,15240,13,15249,null,null,null,null,0,221]
[11,15450,12,15465,13,15471,null,null,null,null,0,111]
[11,15661,12,15668,13,15676,null,null,null,null,0,111]
[22,16203,23,16207,24,16212,null,null,null,null,0,222]
[22,16339,14,16349,24,16363,null,null,null,null,0,212]
[22,16701,14,16710,13,16716,null,null,null,null,0,211]
[22,16816,23,16826,13,16834,null,null,null,null,0,221]
[11,16955,21,16978,22,16984,null,null,null,null,0,122]
[22,17121,14,17136,24,17152,null,null,null,null,0,212]
[11,17399,12,17409,24,17423,null,null,null,null,0,112]
[11,17870,21,17892,22,17897,null,null,null,null,0,122]
[22,17994,23,18001,13,18009,null,null,null,null,0,221]
[11,18106,12,18110,24,18124,null,null,null,null,0,112]
[22,18222,23,18260,13,18279,null,null,null,null,0,221]
[22,18384,23,18391,24,18398,null,null,null,null,0,222]
[22,18754,14,18783,13,18791,null,null,null,null,0,211]
[22,18903,14,18927,24,18943,null,null,null,null,0,212]
[22,19119,14,19129,13,19133,null,null,null,null,0,211]
[22,19289,14,19315,13,19328,null,null,null,null,0,211]
[22,20235,23,20239,24,20245,null,null,null,null,0,222]
[11,20394,21,20408,22,20412,null,null,null,null,0,122]
[22,20528,14,20546,24,20560,null,null,null,null,0,212]
[22,20658,14,20689,24,20705,null,null,null,null,0,212]
[11,21432,21,21452,22,21462,null,null,null,null,0,122]
[11,21681,12,21691,24,21708,null,null,null,null,0,112]
[22,21815,23,21857,24,21863,null,null,null,null,0,222]
[22,22079,14,22091,24,22133,null,null,null,null,0,212]
[22,22266,14,22274,24,22287,null,null,null,null,0,212]
[11,22518,21,22534,22,22550,null,null,null,null,0,122]
[22,22650,14,22729,24,22750,null,null,null,null,0,212]
[11,22974,21,22990,22,22994,null,null,null,null,0,122]
[22,23091,23,23146,24,23157,null,null,null,null,0,222]
[22,23281,23,23287,13,23322,null,null,null,null,0,221]
[22,23481,23,23505,24,23520,null,null,null,null,0,222]
[11,23655,12,23668,24,23680,null,null,null,null,0,112]
[22,23860,14,23870,13,23875,null,null,null,null,0,211]
[22,23976,23,23985,null,null,null,null,null,null,null,22]

{"sheet":"!M306B2I.sha","index":28,"n_rows":167,"n_cols":48,"rows_kept":167,"cut":false,"hidden":false,"merged":[[4,39,4,42],[5,39,5,40],[4,44,4,47],[5,44,5,45],[4,24,4,27],[5,24,5,25],[4,29,4,32],[5,29,5,30],[4,34,4,37],[5,34,5,35],[1,1,1,2],[5,13,5,14],[18,13,18,14],[19,13,19,14],[4,19,4,22],[5,19,5,20]]}
["Report for:!M306B2I.sha"]
["Date:","<date>"]
["Hen:","<hen>",null,null,null,"Correct Sequence",{"$f":"Start!J2","v":121},null,null,null,null,null,null,null,null,"Total Sequences in Data",{"$f":"4994-COUNTBLANK(L7:L5000)","v":161},null,null,null,null,"Total Sequences in Block Data",{"$f":"COUNTA(L7:L33)","v":27},null,null,null,"Total Sequences in Block Data",{"$f":"COUNTA(L34:L60)","v":27},null,null,null,"Total Sequences in Block Data",{"$f":"COUNTA(L61:L86)","v":26},null,null,null,"Total Sequences in Block Data",{"$f":"COUNTA(L87:L113)","v":27},null,null,null,"Total Sequences in Block Data",{"$f":"COUNTA(L114:L140)","v":27},null,null,null,"Total Sequences in Block Data",{"$f":"COUNTA(L141:L167)","v":27}]
[null,null,null,null,null,null,null,null,null,null,null,null,null,null,null,"Total Sequences in Summary",{"$f":"SUM(O7:O14)","v":161},null,null,null,null,"Total Sequences in Block Summary",{"$f":"SUM(U7:U14)","v":27},null,null,null,"Total Sequences in Block Summary",{"$f":"SUM(Z7:Z14)","v":27},null,null,null,"Total Sequences in Block Summary",{"$f":"SUM(AE7:AE14)","v":26},null,null,null,"Total Sequences in Block Summary",{"$f":"SUM(AJ7:AJ14)","v":27},null,null,null,"Total Sequences in Block Summary",{"$f":"SUM(AO7:AO14)","v":27},null,null,null,"Total Sequences in Block Summary",{"$f":"SUM(AT7:AT14)","v":27}]
[null,null,null,null,null,null,null,null,null,null,null,null,null,null,null,null,null,null,null,"Block 1",null,null,null,null,"Block 2",null,null,null,null,"Block 3",null,null,null,null,"Block 4",null,null,null,null,"Block 5",null,null,null,null,"Block 6"]
["Sequence\nComponent\n1","Time\n1","Sequence\nComponent\n2","Time\n2","Sequence\nComponent\n3","Time\n3","Sequence\nComponent\n4","Time\n4","Sequence\nComponent\n5","Time\n5","Correct?\n0=No 1=Yes","Sequence",null,"Frequency",null,"Relative Frequency","Variability",null,null,"Frequency",null,"Relative Frequency","Variability",null,"Frequency",null,"Relative Frequency","Variability",null,"Frequency",null,"Relative Frequency","Variability",null,"Frequency",null,"Relative Frequency","Variability",null,"Frequency",null,"Relative Frequency","Variability",null,"Frequency",null,"Relative Frequency","Variability"]
[11,335,12,338,13,348,null,null,null,null,0,111,null,111,{"$f":"COUNTIF($L$7:$L$500,N7)","v":18},{"$f":"O7/$Q$4","v":0.11180124223602485},{"$f":"IF(P7=0,0,(P7*((LOG(P7))/LOG(2))))","v":-0.35340281850994709},null,null,{"$f":"N7","v":111},{"$f":"COUNTIF(L7:L33,T7)","v":4},{"$f":"U7/(W4-U9)","v":0.14814814814814814},{"$f":"IF(V7=0,0,(V7*((LOG(V7))/LOG(2))))","v":-0.40813148180199532},null,{"$f":"N7","v":111},{"$f":"COUNTIF(L34:L60,Y7)","v":1},{"$f":"Z7/(AB4-Z9)","v":3.7037037037037035E-2},{"$f":"IF(AA7=0,0,(AA7*((LOG(AA7))/LOG(2))))","v":-0.1761069445245729},null,{"$f":"N7","v":111},{"$f":"COUNTIF(L61:L86,AD7)","v":1},{"$f":"AE7/(AG4-AE9)","v":3.8461538461538464E-2},{"$f":"IF(AF7=0,0,(AF7*((LOG(AF7))/LOG(2))))","v":-0.18078614300542661},null,{"$f":"N7","v":111},{"$f":"COUNTIF(L87:L113,AI7)","v":3},{"$f":"AJ7/(AL4-AJ9)","v":0.1111111111111111},{"$f":"IF(AK7=0,0,(AK7*((LOG(AK7))/LOG(2))))","v":-0.3522138890491458},null,{"$f":"N7","v":111},{"$f":"COUNTIF(L114:L140,AN7)","v":3},{"$f":"AO7/(AQ4-AO9)","v":0.11538461538461539},{"$f":"IF(AP7=0,0,(AP7*((LOG(AP7))/LOG(2))))","v":-0.35947814047153104},null,{"$f":"N7","v":111},{"$f":"COUNTIF(L141:L167,AS7)","v":6},{"$f":"AT7/(AV4-AT9)","v":0.22222222222222221},{"$f":"IF(AU7=0,0,(AU7*((LOG(AU7))/LOG(2))))","v":-0.48220555587606945}]
[22,445,14,458,24,474,null,null,null,null,0,212,null,112,{"$f":"COUNTIF($L$7:$L$500,N8)","v":17},{"$f":"O8/$Q$4","v":0.10559006211180125},{"$f":"IF(P8=0,0,(P8*((LOG(P8))/LOG(2))))","v":-0.34247651320927158},null,null,{"$f":"N8","v":112},{"$f":"COUNTIF(L7:L33,T8)","v":1},{"$f":"U8/(W4-U9)","v":3.7037037037037035E-2},{"$f":"IF(V8=0,0,(V8*((LOG(V8))/LOG(2))))","v":-0.1761069445245729},null,{"$f":"N8","v":112},{"$f":"COUNTIF(L34:L60,Y8)","v":3},{"$f":"Z8/(AB4-Z9)","v":0.1111111111111111},{"$f":"IF(AA8=0,0,(AA8*((LOG(AA8))/LOG(2))))","v":-0.3522138890491458},null,{"$f":"N8","v":112},{"$f":"COUNTIF(L61:L86,AD8)","v":2},{"$f":"AE8/(AG4-AE9)","v":7.6923076923076927E-2},{"$f":"IF(AF8=0,0,(AF8*((LOG(AF8))/LOG(2))))","v":-0.28464920908777636},null,{"$f":"N8","v":112},{"$f":"COUNTIF(L87:L113,AI8)","v":3},{"$f":"AJ8/(AL4-AJ9)","v":0.1111111111111111},{"$f":"IF(AK8=0,0,(AK8*((LOG(AK8))/LOG(2))))","v":-0.3522138890491458},null,{"$f":"N8","v":112},{"$f":"COUNTIF(L114:L140,AN8)","v":4},{"$f":"AO8/(AQ4-AO9)","v":0.15384615384615385},{"$f":"IF(AP8=0,0,(AP8*((LOG(AP8))/LOG(2))))","v":-0.4154522643293988},null,{"$f":"N8","v":112},{"$f":"COUNTIF(L141:L167,AS8)","v":4},{"$f":"AT8/(AV4-AT9)","v":0.14814814814814814},{"$f":"IF(AU8=0,0,(AU8*((LOG(AU8))/LOG(2))))","v":-0.40813148180199532}]
[22,570,14,577,13,582,null,null,null,null,0,211,null,121,{"$f":"COUNTIF($L$7:$L$500,N9)","v":1},{"$f":"O9/$Q$4","v":6.2111801242236021E-3},{"$f":"IF(P9=0,0,(P9*((LOG(P9))/LOG(2))))","v":-4.5533645205680845E-2},null,null,{"$f":"N9","v":121},{"$f":"COUNTIF(L7:L33,T9)","v":0},null,null,null,{"$f":"N9","v":121},{"$f":"COUNTIF(L34:L60,Y9)","v":0},null,null,null,{"$f":"N9","v":121},{"$f":"COUNTIF(L61:L86,AD9)","v":0},null,null,null,{"$f":"N9","v":121},{"$f":"COUNTIF(L87:L113,AI9)","v":0},null,null,null,{"$f":"N9","v":121},{"$f":"COUNTIF(L114:L140,AN9)","v":1},null,null,null,{"$f":"N9","v":121},{"$f":"COUNTIF(L141:L167,AS9)","v":0}]
[22,678,14,686,13,692,null,null,null,null,0,211,null,122,{"$f":"COUNTIF($L$7:$L$500,N10)","v":7},{"$f":"O10/$Q$4","v":4.3478260869565216E-2},{"$f":"IF(P10=0,0,(P10*((LOG(P10))/LOG(2))))","v":-0.19667660678508753},null,null,{"$f":"N10","v":122},{"$f":"COUNTIF(L7:L33,T10)","v":1},{"$f":"U10/(W4-U9)","v":3.7037037037037035E-2},{"$f":"IF(V10=0,0,(V10*((LOG(V10))/LOG(2))))","v":-0.1761069445245729},null,{"$f":"N10","v":122},{"$f":"COUNTIF(L34:L60,Y10)","v":0},{"$f":"Z10/(AB4-Z9)","v":0},{"$f":"IF(AA10=0,0,(AA10*((LOG(AA10))/LOG(2))))","v":0},null,{"$f":"N10","v":122},{"$f":"COUNTIF(L61:L86,AD10)","v":1},{"$f":"AE10/(AG4-AE9)","v":3.8461538461538464E-2},{"$f":"IF(AF10=0,0,(AF10*((LOG(AF10))/LOG(2))))","v":-0.18078614300542661},null,{"$f":"N10","v":122},{"$f":"COUNTIF(L87:L113,AI10)","v":3},{"$f":"AJ10/(AL4-AJ9)","v":0.1111111111111111},{"$f":"IF(AK10=0,0,(AK10*((LOG(AK10))/LOG(2))))","v":-0.3522138890491458},null,{"$f":"N10","v":122},{"$f":"COUNTIF(L114:L140,AN10)","v":0},{"$f":"AO10/(AQ4-AO9)","v":0},{"$f":"IF(AP10=0,0,(AP10*((LOG(AP10))/LOG(2))))","v":0},null,{"$f":"N10","v":122},{"$f":"COUNTIF(L141:L167,AS10)","v":2},{"$f":"AT10/(AV4-AT9)","v":7.407407407407407E-2},{"$f":"IF(AU10=0,0,(AU10*((LOG(AU10))/LOG(2))))","v":-0.27813981497507173}]
[11,798,12,803,24,815,null,null,null,null,0,112,null,211,{"$f":"COUNTIF($L$7:$L$500,N11)","v":36},{"$f":"O11/$Q$4","v":0.2236024844720497},{"$f":"IF(P11=0,0,(P11*((LOG(P11))/LOG(2))))","v":-0.48320315254784441},null,null,{"$f":"N11","v":211},{"$f":"COUNTIF(L7:L33,T11)","v":10},{"$f":"U11/(W4-U9)","v":0.37037037037037035},{"$f":"IF(V11=0,0,(V11*((LOG(V11))/LOG(2))))","v":-0.53072570639855787},null,{"$f":"N11","v":211},{"$f":"COUNTIF(L34:L60,Y11)","v":5},{"$f":"Z11/(AB4-Z9)","v":0.18518518518518517},{"$f":"IF(AA11=0,0,(AA11*((LOG(AA11))/LOG(2))))","v":-0.45054803838446406},null,{"$f":"N11","v":211},{"$f":"COUNTIF(L61:L86,AD11)","v":3},{"$f":"AE11/(AG4-AE9)","v":0.11538461538461539},{"$f":"IF(AF11=0,0,(AF11*((LOG(AF11))/LOG(2))))","v":-0.35947814047153104},null,{"$f":"N11","v":211},{"$f":"COUNTIF(L87:L113,AI11)","v":4},{"$f":"AJ11/(AL4-AJ9)","v":0.14814814814814814},{"$f":"IF(AK11=0,0,(AK11*((LOG(AK11))/LOG(2))))","v":-0.40813148180199532},null,{"$f":"N11","v":211},{"$f":"COUNTIF(L114:L140,AN11)","v":7},{"$f":"AO11/(AQ4-AO9)","v":0.26923076923076922},{"$f":"IF(AP11=0,0,(AP11*((LOG(AP11))/LOG(2))))","v":-0.50967667586863141},null,{"$f":"N11","v":211},{"$f":"COUNTIF(L141:L167,AS11)","v":7},{"$f":"AT11/(AV4-AT9)","v":0.25925925925925924},{"$f":"IF(AU11=0,0,(AU11*((LOG(AU11))/LOG(2))))","v":-0.5049158541015204}]
[22,911,14,921,13,926,null,null,null,null,0,211,null,212,{"$f":"COUNTIF($L$7:$L$500,N12)","v":7},{"$f":"O12/$Q$4","v":4.3478260869565216E-2},{"$f":"IF(P12=0,0,(P12*((LOG(P12))/LOG(2))))","v":-0.19667660678508753},null,null,{"$f":"N12","v":212},{"$f":"COUNTIF(L7:L33,T12)","v":2},{"$f":"U12/(W4-U9)","v":7.407407407407407E-2},{"$f":"IF(V12=0,0,(V12*((LOG(V12))/LOG(2))))","v":-0.27813981497507173},null,{"$f":"N12","v":212},{"$f":"COUNTIF(L34:L60,Y12)","v":0},{"$f":"Z12/(AB4-Z9)","v":0},{"$f":"IF(AA12=0,0,(AA12*((LOG(AA12))/LOG(2))))","v":0},null,{"$f":"N12","v":212},{"$f":"COUNTIF(L61:L86,AD12)","v":1},{"$f":"AE12/(AG4-AE9)","v":3.8461538461538464E-2},{"$f":"IF(AF12=0,0,(AF12*((LOG(AF12))/LOG(2))))","v":-0.18078614300542661},null,{"$f":"N12","v":212},{"$f":"COUNTIF(L87:L113,AI12)","v":0},{"$f":"AJ12/(AL4-AJ9)","v":0},{"$f":"IF(AK12=0,0,(AK12*((LOG(AK12))/LOG(2))))","v":0},null,{"$f":"N12","v":212},{"$f":"COUNTIF(L114:L140,AN12)","v":1},{"$f":"AO12/(AQ4-AO9)","v":3.8461538461538464E-2},{"$f":"IF(AP12=0,0,(AP12*((LOG(AP12))/LOG(2))))","v":-0.18078614300542661},null,{"$f":"N12","v":212},{"$f":"COUNTIF(L141:L167,AS12)","v":3},{"$f":"AT12/(AV4-AT9)","v":0.1111111111111111},{"$f":"IF(AU12=0,0,(AU12*((LOG(AU12))/LOG(2))))","v":-0.3522138890491458}]
[22,1022,23,1028,13,1041,null,null,null,null,0,221,null,221,{"$f":"COUNTIF($L$7:$L$500,N13)","v":26},{"$f":"O13/$Q$4","v":0.16149068322981366},{"$f":"IF(P13=0,0,(P13*((LOG(P13))/LOG(2))))","v":-0.42479755378454442},null,null,{"$f":"N13","v":221},{"$f":"COUNTIF(L7:L33,T13)","v":8},{"$f":"U13/(W4-U9)","v":0.29629629629629628},{"$f":"IF(V13=0,0,(V13*((LOG(V13))/LOG(2))))","v":-0.51996666730769436},null,{"$f":"N13","v":221},{"$f":"COUNTIF(L34:L60,Y13)","v":7},{"$f":"Z13/(AB4-Z9)","v":0.25925925925925924},{"$f":"IF(AA13=0,0,(AA13*((LOG(AA13))/LOG(2))))","v":-0.5049158541015204},null,{"$f":"N13","v":221},{"$f":"COUNTIF(L61:L86,AD13)","v":2},{"$f":"AE13/(AG4-AE9)","v":7.6923076923076927E-2},{"$f":"IF(AF13=0,0,(AF13*((LOG(AF13))/LOG(2))))","v":-0.28464920908777636},null,{"$f":"N13","v":221},{"$f":"COUNTIF(L87:L113,AI13)","v":4},{"$f":"AJ13/(AL4-AJ9)","v":0.14814814814814814},{"$f":"IF(AK13=0,0,(AK13*((LOG(AK13))/LOG(2))))","v":-0.40813148180199532},null,{"$f":"N13","v":221},{"$f":"COUNTIF(L114:L140,AN13)","v":3},{"$f":"AO13/(AQ4-AO9)","v":0.11538461538461539},{"$f":"IF(AP13=0,0,(AP13*((LOG(AP13))/LOG(2))))","v":-0.35947814047153104},null,{"$f":"N13","v":221},{"$f":"COUNTIF(L141:L167,AS13)","v":2},{"$f":"AT13/(AV4-AT9)","v":7.407407407407407E-2},{"$f":"IF(AU13=0,0,(AU13*((LOG(AU13))/LOG(2))))","v":-0.27813981497507173}]
[11,1374,12,1379,13,1387,null,null,null,null,0,111,null,222,{"$f":"COUNTIF($L$7:$L$500,N14)","v":49},{"$f":"O14/$Q$4","v":0.30434782608695654},{"$f":"IF(P14=0,0,(P14*((LOG(P14))/LOG(2))))","v":-0.52232387991286355},null,null,{"$f":"N14","v":222},{"$f":"COUNTIF(L7:L33,T14)","v":1},{"$f":"U14/(W4-U9)","v":3.7037037037037035E-2},{"$f":"IF(V14=0,0,(V14*((LOG(V14))/LOG(2))))","v":-0.1761069445245729},null,{"$f":"N14","v":222},{"$f":"COUNTIF(L34:L60,Y14)","v":11},{"$f":"Z14/(AB4-Z9)","v":0.40740740740740738},{"$f":"IF(AA14=0,0,(AA14*((LOG(AA14))/LOG(2))))","v":-0.52777832291806981},null,{"$f":"N14","v":222},{"$f":"COUNTIF(L61:L86,AD14)","v":16},{"$f":"AE14/(AG4-AE9)","v":0.61538461538461542},{"$f":"IF(AF14=0,0,(AF14*((LOG(AF14))/LOG(2))))","v":-0.43103982654836437},null,{"$f":"N14","v":222},{"$f":"COUNTIF(L87:L113,AI14)","v":10},{"$f":"AJ14/(AL4-AJ9)","v":0.37037037037037035},{"$f":"IF(AK14=0,0,(AK14*((LOG(AK14))/LOG(2))))","v":-0.53072570639855787},null,{"$f":"N14","v":222},{"$f":"COUNTIF(L114:L140,AN14)","v":8},{"$f":"AO14/(AQ4-AO9)","v":0.30769230769230771},{"$f":"IF(AP14=0,0,(AP14*((LOG(AP14))/LOG(2))))","v":-0.52321222096648989},null,{"$f":"N14","v":222},{"$f":"COUNTIF(L141:L167,AS14)","v":3},{"$f":"AT14/(AV4-AT9)","v":0.1111111111111111},{"$f":"IF(AU14=0,0,(AU14*((LOG(AU14))/LOG(2))))","v":-0.3522138890491458}]
[11,1493,21,1514,22,1518,null,null,null,null,0,122,null,null,null,{"$f":"SUM(P7:P14)","v":1},{"$f":"-SUM(Q7:Q14)","v":2.5650907767403268},null,null,null,null,{"$f":"SUM(V7:V14)","v":1},{"$f":"-SUM(W7:W14)","v":2.2652845040570382},null,null,null,{"$f":"SUM(AA7:AA14)","v":1},{"$f":"-SUM(AB7:AB14)","v":2.0115630489777732},null,null,null,{"$f":"SUM(AF7:AF14)","v":1},{"$f":"-SUM(AG7:AG14)","v":1.9021748142117281},null,null,null,{"$f":"SUM(AK7:AK14)","v":0.99999999999999989},{"$f":"-SUM(AL7:AL14)","v":2.4036303371499859},null,null,null,{"$f":"SUM(AP7:AP14)","v":1},{"$f":"-SUM(AQ7:AQ14)","v":2.3480835851130086},null,null,null,{"$f":"SUM(AU7:AU14)","v":1},{"$f":"-SUM(AV7:AV14)","v":2.6559602998280205}]
[11,1629,12,1633,13,1640,null,null,null,null,0,111,null,null,null,"U=",{"$f":"Q15/(LOG(Q4)/LOG(2))","v":0.34990040391782795},null,null,null,null,"U1=",{"$f":"W15/(LOG(W4)/LOG(2))","v":0.47641179797131611},null,null,null,"U2=",{"$f":"AB15/(LOG(AB4)/LOG(2))","v":0.42305165959499869},null,null,null,"U3=",{"$f":"AG15/(LOG(AG4)/LOG(2))","v":0.40468018489214697},null,null,null,"U4=",{"$f":"AL15/(LOG(AL4)/LOG(2))","v":0.50550729876497325},null,null,null,"U5=",{"$f":"AQ15/(LOG(AQ4)/LOG(2))","v":0.493825265906845},null,null,null,"U6=",{"$f":"AV15/(LOG(AV4)/LOG(2))","v":0.55857479248868913}]
[22,1738,23,1745,13,1756,null,null,null,null,0,221]
[22,1876,14,1893,13,1897,null,null,null,null,0,211]
[22,1997,14,2009,13,2015,null,null,null,null,0,211,null,"Total Target Seq"]
[22,2112,14,2123,13,2132,null,null,null,null,0,211,null,{"$f":"COUNTIF(L7:L167,G3)","v":1},null,27,27,26,27,27,27]
[22,2230,23,2235,13,2247,null,null,null,null,0,221,null,null,null,"% of reinforcement given in 6 equal intervals based on number of trials "]
[22,2344,23,2349,13,2361,null,null,null,null,0,221,null,null,null,"%_1","%_2","%_3","%_4","%_5","%_6"]
[22,2457,23,2463,13,2473,null,null,null,null,0,221,null,null,"target sequence",{"$f":"$G$3","v":121},{"$f":"$G$3","v":121},{"$f":"$G$3","v":121},{"$f":"$G$3","v":121},{"$f":"$G$3","v":121},{"$f":"$G$3","v":121}]
[22,2581,14,2595,13,2601,null,null,null,null,0,211,null,null,"total reinforcement",{"$f":"U9","v":0},{"$f":"Z9","v":0},{"$f":"AE9","v":0},{"$f":"AJ9","v":0},{"$f":"AO9","v":1},{"$f":"AT9","v":0}]
[22,2697,14,2709,13,2715,null,null,null,null,0,211,null,null,"% target"]
[22,2810,14,2823,24,2838,null,null,null,null,0,212,null,null,"CCRF"]
[22,2934,23,2944,13,2957,null,null,null,null,0,221,null,null,"% CCRf"]
[22,3054,23,3058,13,3067,null,null,null,null,0,221,null,null,"average response rate",{"$f":"F33/P20","v":142.22222222222223},{"$f":"(F60-F33)/Q20","v":139.37037037037038},{"$f":"(F86-F60)/R20","v":134.07692307692307},{"$f":"(F113-F86)/S20","v":139.22222222222223},{"$f":"(F140-F113)/T20","v":166.81481481481481},{"$f":"(F167-F140)/U20","v":146.22222222222223}]
[22,3166,14,3182,13,3189,null,null,null,null,0,211]
[11,3306,12,3309,13,3314,null,null,null,null,0,111]
[22,3411,23,3416,24,3421,null,null,null,null,0,222]
[22,3703,14,3712,13,3717,null,null,null,null,0,211]
[22,3814,23,3828,13,3840,null,null,null,null,0,221]
[22,3940,14,3959,13,3966,null,null,null,null,0,211]
[22,4065,23,4071,13,4082,null,null,null,null,0,221]
[22,4178,14,4200,13,4206,null,null,null,null,0,211]
[22,4303,23,4310,13,4319,null,null,null,null,0,221]
[22,4415,23,4420,13,4439,null,null,null,null,0,221]
[11,4535,12,4538,24,4550,null,null,null,null,0,112]
[22,4645,23,4651,13,4662,null,null,null,null,0,221]
[11,4762,12,4767,24,4779,null,null,null,null,0,112]
[22,4876,23,4887,24,4898,null,null,null,null,0,222]
[22,5001,23,5006,24,5013,null,null,null,null,0,222]
[22,5168,14,5187,13,5195,null,null,null,null,0,211]
[22,5302,23,5306,13,5314,null,null,null,null,0,221]
[22,5412,23,5416,24,5424,null,null,null,null,0,222]
[22,5567,23,5571,24,5577,null,null,null,null,0,222]
[22,5698,23,5702,24,5709,null,null,null,null,0,222]
[22,5806,23,5808,24,5813,null,null,null,null,0,222]
[22,5928,23,5936,13,5945,null,null,null,null,0,221]
[22,6062,23,6067,24,6074,null,null,null,null,0,222]
[11,6642,12,6647,13,6653,null,null,null,null,0,111]
[22,6760,14,6772,13,6782,null,null,null,null,0,211]
[22,6882,14,6892,13,6895,null,null,null,null,0,211]
[22,6992,23,6999,24,7007,null,null,null,null,0,222]
[22,7106,23,7111,24,7119,null,null,null,null,0,222]
[22,7218,23,7236,24,7248,null,null,null,null,0,222]
[22,7346,23,7351,13,7363,null,null,null,null,0,221]
[22,7463,23,7470,24,7480,null,null,null,null,0,222]
[11,7581,12,7588,24,7603,null,null,null,null,0,112]
[22,7701,23,7706,24,7711,null,null,null,null,0,222]
[22,7865,23,7873,24,7879,null,null,null,null,0,222]
[22,7976,23,7984,24,7987,null,null,null,null,0,222]
[22,8096,23,8100,24,8106,null,null,null,null,0,222]
[22,8202,23,8208,24,8218,null,null,null,null,0,222]
[22,8328,23,8334,24,8339,null,null,null,null,0,222]
[22,8443,23,8455,24,8466,null,null,null,null,0,222]
[11,8565,12,8572,24,8582,null,null,null,null,0,112]
[22,8678,23,8686,24,8709,null,null,null,null,0,222]
[22,8822,23,8829,24,8837,null,null,null,null,0,222]
[11,8945,12,8948,24,8962,null,null,null,null,0,112]
[22,9060,23,9067,24,9078,null,null,null,null,0,222]
[22,9178,14,9213,13,9217,null,null,null,null,0,211]
[22,9323,23,9335,13,9344,null,null,null,null,0,221]
[22,9448,23,9454,24,9461,null,null,null,null,0,222]
[22,9605,23,9612,24,9618,null,null,null,null,0,222]
[22,9741,23,9748,24,9753,null,null,null,null,0,222]
[22,9909,14,9918,13,9924,null,null,null,null,0,211]
[22,10021,23,10026,24,10032,null,null,null,null,0,222]
[22,10129,23,10141,24,10147,null,null,null,null,0,222]
[11,10246,12,10250,13,10252,null,null,null,null,0,111]
[22,10372,23,10378,24,10383,null,null,null,null,0,222]
[22,10500,14,10510,13,10515,null,null,null,null,0,211]
[22,10800,14,10813,24,10827,null,null,null,null,0,212]
[22,10936,23,10946,13,10963,null,null,null,null,0,221]
[11,11062,21,11085,22,11089,null,null,null,null,0,122]
[22,11186,23,11193,24,11201,null,null,null,null,0,222]
[22,11299,23,11308,24,11315,null,null,null,null,0,222]
[11,11547,12,11553,13,11560,null,null,null,null,0,111]
[22,11659,23,11666,24,11673,null,null,null,null,0,222]
[22,11772,23,11789,24,11794,null,null,null,null,0,222]
[11,11898,21,11921,22,11930,null,null,null,null,0,122]
[11,12035,12,12041,24,12054,null,null,null,null,0,112]
[22,12151,23,12177,24,12192,null,null,null,null,0,222]
[22,12418,23,12422,24,12428,null,null,null,null,0,222]
[11,12539,12,12542,13,12549,null,null,null,null,0,111]
[11,12659,12,12664,24,12671,null,null,null,null,0,112]
[22,12776,23,12800,24,12804,null,null,null,null,0,222]
[22,12914,14,12927,13,12931,null,null,null,null,0,211]
[22,13026,23,13032,24,13039,null,null,null,null,0,222]
[22,13139,23,13146,24,13155,null,null,null,null,0,222]
[11,13338,12,13341,13,13347,null,null,null,null,0,111]
[22,13445,23,13452,13,13462,null,null,null,null,0,221]
[22,13561,14,13580,13,13588,null,null,null,null,0,211]
[22,13689,23,13700,13,13714,null,null,null,null,0,221]
[11,13814,21,13830,22,13834,null,null,null,null,0,122]
[22,13943,23,13960,13,13978,null,null,null,null,0,221]
[22,14151,14,14160,13,14172,null,null,null,null,0,211]
[22,14291,23,14295,24,14300,null,null,null,null,0,222]
[22,14402,23,14415,13,14423,null,null,null,null,0,221]
[11,14528,21,14537,22,14540,null,null,null,null,0,122]
[11,14638,12,14642,24,14652,null,null,null,null,0,112]
[22,14829,14,14839,13,14848,null,null,null,null,0,211]
[22,14944,23,14951,13,14967,null,null,null,null,0,221]
[11,15118,21,15147,11,15157,null,null,null,null,0,121]
[11,15472,12,15478,13,15485,null,null,null,null,0,111]
[11,15581,12,15586,24,15598,null,null,null,null,0,112]
[22,15697,14,15714,13,15720,null,null,null,null,0,211]
[22,15833,14,15842,13,15848,null,null,null,null,0,211]
[22,15948,23,15952,24,15958,null,null,null,null,0,222]
[11,16052,12,16065,24,16078,null,null,null,null,0,112]
[22,16178,23,16188,24,16200,null,null,null,null,0,222]
[22,16299,23,16307,24,16310,null,null,null,null,0,222]
[22,16412,14,16421,13,16432,null,null,null,null,0,211]
[22,16546,23,16553,24,16564,null,null,null,null,0,222]
[22,16660,23,16667,13,16684,null,null,null,null,0,221]
[22,17114,14,17123,13,17128,null,null,null,null,0,211]
[11,17239,12,17244,24,17260,null,null,null,null,0,112]
[22,17362,14,17373,24,17395,null,null,null,null,0,212]
[11,17492,12,17495,13,17500,null,null,null,null,0,111]
[22,17620,14,17630,13,17636,null,null,null,null,0,211]
[22,17733,23,17737,24,17741,null,null,null,null,0,222]
[22,17839,23,17843,24,17849,null,null,null,null,0,222]
[22,17948,23,17957,24,17959,null,null,null,null,0,222]
[22,18057,23,18061,13,18071,null,null,null,null,0,221]
[22,18169,23,18171,24,18176,null,null,null,null,0,222]
[22,18842,14,18852,13,18856,null,null,null,null,0,211]
[11,18962,12,18974,13,18981,null,null,null,null,0,111]
[22,19103,14,19111,13,19117,null,null,null,null,0,211]
[11,19337,12,19343,24,19352,null,null,null,null,0,112]
[11,19599,12,19603,24,19616,null,null,null,null,0,112]
[11,19809,12,19814,24,19828,null,null,null,null,0,112]
[22,19928,23,19938,13,19945,null,null,null,null,0,221]
[22,20052,14,20059,13,20062,null,null,null,null,0,211]
[22,20162,14,20175,13,20182,null,null,null,null,0,211]
[22,20435,14,20448,24,20470,null,null,null,null,0,212]
[22,20617,23,20623,13,20632,null,null,null,null,0,221]
[11,20787,21,20804,22,20809,null,null,null,null,0,122]
[11,21032,12,21036,13,21043,null,null,null,null,0,111]
[11,21162,12,21167,24,21178,null,null,null,null,0,112]
[11,21290,12,21295,13,21301,null,null,null,null,0,111]
[22,21409,14,21418,13,21422,null,null,null,null,0,211]
[11,21532,12,21535,13,21540,null,null,null,null,0,111]
[22,21637,23,21641,24,21653,null,null,null,null,0,222]
[22,21750,14,21768,13,21773,null,null,null,null,0,211]
[11,21878,21,21895,22,21899,null,null,null,null,0,122]
[22,21997,23,22004,24,22012,null,null,null,null,0,222]
[11,22152,12,22156,13,22162,null,null,null,null,0,111]
[11,22338,12,22342,24,22359,null,null,null,null,0,112]
[22,22464,14,22472,13,22478,null,null,null,null,0,211]
[22,22576,23,22580,24,22585,null,null,null,null,0,222]
[22,22697,14,22709,24,22726,null,null,null,null,0,212]
[22,22825,14,22834,13,22838,null,null,null,null,0,211]
[22,22944,14,22954,24,22972,null,null,null,null,0,212]
[11,23070,12,23074,13,23079,null,null,null,null,0,111]
[11,23174,12,23180,13,23184,null,null,null,null,0,111]
[22,23280,14,23295,13,23300,null,null,null,null,0,211]

{"sheet":"!M307B1I.sha","index":29,"n_rows":153,"n_cols":48,"rows_kept":153,"cut":false,"hidden":false,"merged":[[4,39,4,42],[5,39,5,40],[4,44,4,47],[5,44,5,45],[4,24,4,27],[5,24,5,25],[4,29,4,32],[5,29,5,30],[4,34,4,37],[5,34,5,35],[1,1,1,2],[5,13,5,14],[18,13,18,14],[19,13,19,14],[4,19,4,22],[5,19,5,20]]}
["Report for:!M307B1I.sha"]
["Date:","<date>"]
["Hen:","<hen>",null,null,null,"Correct Sequence",{"$f":"Start!J2","v":121},null,null,null,null,null,null,null,null,"Total Sequences in Data",{"$f":"4994-COUNTBLANK(L7:L5000)","v":147},null,null,null,null,"Total Sequences in Block Data",{"$f":"COUNTA(L7:L31)","v":25},null,null,null,"Total Sequences in Block Data",{"$f":"COUNTA(L32:L55)","v":24},null,null,null,"Total Sequences in Block Data",{"$f":"COUNTA(L56:L80)","v":25},null,null,null,"Total Sequences in Block Data",{"$f":"COUNTA(L81:L104)","v":24},null,null,null,"Total Sequences in Block Data",{"$f":"COUNTA(L105:L129)","v":25},null,null,null,"Total Sequences in Block Data",{"$f":"COUNTA(L130:L153)","v":24}]
[null,null,null,null,null,null,null,null,null,null,null,null,null,null,null,"Total Sequences in Summary",{"$f":"SUM(O7:O14)","v":147},null,null,null,null,"Total Sequences in Block Summary",{"$f":"SUM(U7:U14)","v":25},null,null,null,"Total Sequences in Block Summary",{"$f":"SUM(Z7:Z14)","v":24},null,null,null,"Total Sequences in Block Summary",{"$f":"SUM(AE7:AE14)","v":25},null,null,null,"Total Sequences in Block Summary",{"$f":"SUM(AJ7:AJ14)","v":24},null,null,null,"Total Sequences in Block Summary",{"$f":"SUM(AO7:AO14)","v":25},null,null,null,"Total Sequences in Block Summary",{"$f":"SUM(AT7:AT14)","v":24}]
[null,null,null,null,null,null,null,null,null,null,null,null,null,null,null,null,null,null,null,"Block 1",null,null,null,null,"Block 2",null,null,null,null,"Block 3",null,null,null,null,"Block 4",null,null,null,null,"Block 5",null,null,null,null,"Block 6"]
["Sequence\nComponent\n1","Time\n1","Sequence\nComponent\n2","Time\n2","Sequence\nComponent\n3","Time\n3","Sequence\nComponent\n4","Time\n4","Sequence\nComponent\n5","Time\n5","Correct?\n0=No 1=Yes","Sequence",null,"Frequency",null,"Relative Frequency","Variability",null,null,"Frequency",null,"Relative Frequency","Variability",null,"Frequency",null,"Relative Frequency","Variability",null,"Frequency",null,"Relative Frequency","Variability",null,"Frequency",null,"Relative Frequency","Variability",null,"Frequency",null,"Relative Frequency","Variability",null,"Frequency",null,"Relative Frequency","Variability"]
[11,29,12,144,13,148,null,null,null,null,0,111,null,111,{"$f":"COUNTIF($L$7:$L$500,N7)","v":15},{"$f":"O7/$Q$4","v":0.10204081632653061},{"$f":"IF(P7=0,0,(P7*((LOG(P7))/LOG(2))))","v":-0.33599813767631082},null,null,{"$f":"N7","v":111},{"$f":"COUNTIF(L7:L31,T7)","v":8},{"$f":"U7/(W4-U9)","v":0.32},{"$f":"IF(V7=0,0,(V7*((LOG(V7))/LOG(2))))","v":-0.52603398072791185},null,{"$f":"N7","v":111},{"$f":"COUNTIF(L32:L55,Y7)","v":4},{"$f":"Z7/(AB4-Z9)","v":0.16666666666666666},{"$f":"IF(AA7=0,0,(AA7*((LOG(AA7))/LOG(2))))","v":-0.43082708345352599},null,{"$f":"N7","v":111},{"$f":"COUNTIF(L56:L80,AD7)","v":3},{"$f":"AE7/(AG4-AE9)","v":0.12},{"$f":"IF(AF7=0,0,(AF7*((LOG(AF7))/LOG(2))))","v":-0.36706724268642821},null,{"$f":"N7","v":111},{"$f":"COUNTIF(L81:L104,AI7)","v":0},{"$f":"AJ7/(AL4-AJ9)","v":0},{"$f":"IF(AK7=0,0,(AK7*((LOG(AK7))/LOG(2))))","v":0},null,{"$f":"N7","v":111},{"$f":"COUNTIF(L105:L129,AN7)","v":0},{"$f":"AO7/(AQ4-AO9)","v":0},{"$f":"IF(AP7=0,0,(AP7*((LOG(AP7))/LOG(2))))","v":0},null,{"$f":"N7","v":111},{"$f":"COUNTIF(L130:L153,AS7)","v":0},{"$f":"AT7/(AV4-AT9)","v":0},{"$f":"IF(AU7=0,0,(AU7*((LOG(AU7))/LOG(2))))","v":0}]
[11,249,21,263,22,268,null,null,null,null,0,122,null,112,{"$f":"COUNTIF($L$7:$L$500,N8)","v":10},{"$f":"O8/$Q$4","v":6.8027210884353748E-2},{"$f":"IF(P8=0,0,(P8*((LOG(P8))/LOG(2))))","v":-0.2637921258468709},null,null,{"$f":"N8","v":112},{"$f":"COUNTIF(L7:L31,T8)","v":3},{"$f":"U8/(W4-U9)","v":0.12},{"$f":"IF(V8=0,0,(V8*((LOG(V8))/LOG(2))))","v":-0.36706724268642821},null,{"$f":"N8","v":112},{"$f":"COUNTIF(L32:L55,Y8)","v":2},{"$f":"Z8/(AB4-Z9)","v":8.3333333333333329E-2},{"$f":"IF(AA8=0,0,(AA8*((LOG(AA8))/LOG(2))))","v":-0.29874687506009634},null,{"$f":"N8","v":112},{"$f":"COUNTIF(L56:L80,AD8)","v":1},{"$f":"AE8/(AG4-AE9)","v":0.04},{"$f":"IF(AF8=0,0,(AF8*((LOG(AF8))/LOG(2))))","v":-0.18575424759098899},null,{"$f":"N8","v":112},{"$f":"COUNTIF(L81:L104,AI8)","v":0},{"$f":"AJ8/(AL4-AJ9)","v":0},{"$f":"IF(AK8=0,0,(AK8*((LOG(AK8))/LOG(2))))","v":0},null,{"$f":"N8","v":112},{"$f":"COUNTIF(L105:L129,AN8)","v":1},{"$f":"AO8/(AQ4-AO9)","v":4.1666666666666664E-2},{"$f":"IF(AP8=0,0,(AP8*((LOG(AP8))/LOG(2))))","v":-0.19104010419671485},null,{"$f":"N8","v":112},{"$f":"COUNTIF(L130:L153,AS8)","v":3},{"$f":"AT8/(AV4-AT9)","v":0.125},{"$f":"IF(AU8=0,0,(AU8*((LOG(AU8))/LOG(2))))","v":-0.375}]
[11,373,12,397,24,408,null,null,null,null,0,112,null,121,{"$f":"COUNTIF($L$7:$L$500,N9)","v":1},{"$f":"O9/$Q$4","v":6.8027210884353739E-3},{"$f":"IF(P9=0,0,(P9*((LOG(P9))/LOG(2))))","v":-4.8977362890043293E-2},null,null,{"$f":"N9","v":121},{"$f":"COUNTIF(L7:L31,T9)","v":0},null,null,null,{"$f":"N9","v":121},{"$f":"COUNTIF(L32:L55,Y9)","v":0},null,null,null,{"$f":"N9","v":121},{"$f":"COUNTIF(L56:L80,AD9)","v":0},null,null,null,{"$f":"N9","v":121},{"$f":"COUNTIF(L81:L104,AI9)","v":0},null,null,null,{"$f":"N9","v":121},{"$f":"COUNTIF(L105:L129,AN9)","v":1},null,null,null,{"$f":"N9","v":121},{"$f":"COUNTIF(L130:L153,AS9)","v":0}]
[11,514,12,524,13,541,null,null,null,null,0,111,null,122,{"$f":"COUNTIF($L$7:$L$500,N10)","v":17},{"$f":"O10/$Q$4","v":0.11564625850340136},{"$f":"IF(P10=0,0,(P10*((LOG(P10))/LOG(2))))","v":-0.35991538476845186},null,null,{"$f":"N10","v":122},{"$f":"COUNTIF(L7:L31,T10)","v":3},{"$f":"U10/(W4-U9)","v":0.12},{"$f":"IF(V10=0,0,(V10*((LOG(V10))/LOG(2))))","v":-0.36706724268642821},null,{"$f":"N10","v":122},{"$f":"COUNTIF(L32:L55,Y10)","v":1},{"$f":"Z10/(AB4-Z9)","v":4.1666666666666664E-2},{"$f":"IF(AA10=0,0,(AA10*((LOG(AA10))/LOG(2))))","v":-0.19104010419671485},null,{"$f":"N10","v":122},{"$f":"COUNTIF(L56:L80,AD10)","v":5},{"$f":"AE10/(AG4-AE9)","v":0.2},{"$f":"IF(AF10=0,0,(AF10*((LOG(AF10))/LOG(2))))","v":-0.46438561897747244},null,{"$f":"N10","v":122},{"$f":"COUNTIF(L81:L104,AI10)","v":6},{"$f":"AJ10/(AL4-AJ9)","v":0.25},{"$f":"IF(AK10=0,0,(AK10*((LOG(AK10))/LOG(2))))","v":-0.5},null,{"$f":"N10","v":122},{"$f":"COUNTIF(L105:L129,AN10)","v":2},{"$f":"AO10/(AQ4-AO9)","v":8.3333333333333329E-2},{"$f":"IF(AP10=0,0,(AP10*((LOG(AP10))/LOG(2))))","v":-0.29874687506009634},null,{"$f":"N10","v":122},{"$f":"COUNTIF(L130:L153,AS10)","v":0},{"$f":"AT10/(AV4-AT9)","v":0},{"$f":"IF(AU10=0,0,(AU10*((LOG(AU10))/LOG(2))))","v":0}]
[11,640,12,645,13,652,null,null,null,null,0,111,null,211,{"$f":"COUNTIF($L$7:$L$500,N11)","v":27},{"$f":"O11/$Q$4","v":0.18367346938775511},{"$f":"IF(P11=0,0,(P11*((LOG(P11))/LOG(2))))","v":-0.44904211396032784},null,null,{"$f":"N11","v":211},{"$f":"COUNTIF(L7:L31,T11)","v":8},{"$f":"U11/(W4-U9)","v":0.32},{"$f":"IF(V11=0,0,(V11*((LOG(V11))/LOG(2))))","v":-0.52603398072791185},null,{"$f":"N11","v":211},{"$f":"COUNTIF(L32:L55,Y11)","v":2},{"$f":"Z11/(AB4-Z9)","v":8.3333333333333329E-2},{"$f":"IF(AA11=0,0,(AA11*((LOG(AA11))/LOG(2))))","v":-0.29874687506009634},null,{"$f":"N11","v":211},{"$f":"COUNTIF(L56:L80,AD11)","v":6},{"$f":"AE11/(AG4-AE9)","v":0.24},{"$f":"IF(AF11=0,0,(AF11*((LOG(AF11))/LOG(2))))","v":-0.49413448537285637},null,{"$f":"N11","v":211},{"$f":"COUNTIF(L81:L104,AI11)","v":4},{"$f":"AJ11/(AL4-AJ9)","v":0.16666666666666666},{"$f":"IF(AK11=0,0,(AK11*((LOG(AK11))/LOG(2))))","v":-0.43082708345352599},null,{"$f":"N11","v":211},{"$f":"COUNTIF(L105:L129,AN11)","v":5},{"$f":"AO11/(AQ4-AO9)","v":0.20833333333333334},{"$f":"IF(AP11=0,0,(AP11*((LOG(AP11))/LOG(2))))","v":-0.47146550121537367},null,{"$f":"N11","v":211},{"$f":"COUNTIF(L130:L153,AS11)","v":2},{"$f":"AT11/(AV4-AT9)","v":8.3333333333333329E-2},{"$f":"IF(AU11=0,0,(AU11*((LOG(AU11))/LOG(2))))","v":-0.29874687506009634}]
[11,793,12,800,13,805,null,null,null,null,0,111,null,212,{"$f":"COUNTIF($L$7:$L$500,N12)","v":4},{"$f":"O12/$Q$4","v":2.7210884353741496E-2},{"$f":"IF(P12=0,0,(P12*((LOG(P12))/LOG(2))))","v":-0.14148768285269017},null,null,{"$f":"N12","v":212},{"$f":"COUNTIF(L7:L31,T12)","v":0},{"$f":"U12/(W4-U9)","v":0},{"$f":"IF(V12=0,0,(V12*((LOG(V12))/LOG(2))))","v":0},null,{"$f":"N12","v":212},{"$f":"COUNTIF(L32:L55,Y12)","v":0},{"$f":"Z12/(AB4-Z9)","v":0},{"$f":"IF(AA12=0,0,(AA12*((LOG(AA12))/LOG(2))))","v":0},null,{"$f":"N12","v":212},{"$f":"COUNTIF(L56:L80,AD12)","v":0},{"$f":"AE12/(AG4-AE9)","v":0},{"$f":"IF(AF12=0,0,(AF12*((LOG(AF12))/LOG(2))))","v":0},null,{"$f":"N12","v":212},{"$f":"COUNTIF(L81:L104,AI12)","v":3},{"$f":"AJ12/(AL4-AJ9)","v":0.125},{"$f":"IF(AK12=0,0,(AK12*((LOG(AK12))/LOG(2))))","v":-0.375},null,{"$f":"N12","v":212},{"$f":"COUNTIF(L105:L129,AN12)","v":1},{"$f":"AO12/(AQ4-AO9)","v":4.1666666666666664E-2},{"$f":"IF(AP12=0,0,(AP12*((LOG(AP12))/LOG(2))))","v":-0.19104010419671485},null,{"$f":"N12","v":212},{"$f":"COUNTIF(L130:L153,AS12)","v":0},{"$f":"AT12/(AV4-AT9)","v":0},{"$f":"IF(AU12=0,0,(AU12*((LOG(AU12))/LOG(2))))","v":0}]
[22,902,14,911,13,916,null,null,null,null,0,211,null,221,{"$f":"COUNTIF($L$7:$L$500,N13)","v":31},{"$f":"O13/$Q$4","v":0.21088435374149661},{"$f":"IF(P13=0,0,(P13*((LOG(P13))/LOG(2))))","v":-0.47353576236689909},null,null,{"$f":"N13","v":221},{"$f":"COUNTIF(L7:L31,T13)","v":2},{"$f":"U13/(W4-U9)","v":0.08},{"$f":"IF(V13=0,0,(V13*((LOG(V13))/LOG(2))))","v":-0.29150849518197797},null,{"$f":"N13","v":221},{"$f":"COUNTIF(L32:L55,Y13)","v":8},{"$f":"Z13/(AB4-Z9)","v":0.33333333333333331},{"$f":"IF(AA13=0,0,(AA13*((LOG(AA13))/LOG(2))))","v":-0.52832083357371862},null,{"$f":"N13","v":221},{"$f":"COUNTIF(L56:L80,AD13)","v":0},{"$f":"AE13/(AG4-AE9)","v":0},{"$f":"IF(AF13=0,0,(AF13*((LOG(AF13))/LOG(2))))","v":0},null,{"$f":"N13","v":221},{"$f":"COUNTIF(L81:L104,AI13)","v":8},{"$f":"AJ13/(AL4-AJ9)","v":0.33333333333333331},{"$f":"IF(AK13=0,0,(AK13*((LOG(AK13))/LOG(2))))","v":-0.52832083357371862},null,{"$f":"N13","v":221},{"$f":"COUNTIF(L105:L129,AN13)","v":6},{"$f":"AO13/(AQ4-AO9)","v":0.25},{"$f":"IF(AP13=0,0,(AP13*((LOG(AP13))/LOG(2))))","v":-0.5},null,{"$f":"N13","v":221},{"$f":"COUNTIF(L130:L153,AS13)","v":7},{"$f":"AT13/(AV4-AT9)","v":0.29166666666666669},{"$f":"IF(AU13=0,0,(AU13*((LOG(AU13))/LOG(2))))","v":-0.51846887711020273}]
[11,1014,12,1023,24,1036,null,null,null,null,0,112,null,222,{"$f":"COUNTIF($L$7:$L$500,N14)","v":42},{"$f":"O14/$Q$4","v":0.2857142857142857},{"$f":"IF(P14=0,0,(P14*((LOG(P14))/LOG(2))))","v":-0.51638712058788683},null,null,{"$f":"N14","v":222},{"$f":"COUNTIF(L7:L31,T14)","v":1},{"$f":"U14/(W4-U9)","v":0.04},{"$f":"IF(V14=0,0,(V14*((LOG(V14))/LOG(2))))","v":-0.18575424759098899},null,{"$f":"N14","v":222},{"$f":"COUNTIF(L32:L55,Y14)","v":7},{"$f":"Z14/(AB4-Z9)","v":0.29166666666666669},{"$f":"IF(AA14=0,0,(AA14*((LOG(AA14))/LOG(2))))","v":-0.51846887711020273},null,{"$f":"N14","v":222},{"$f":"COUNTIF(L56:L80,AD14)","v":10},{"$f":"AE14/(AG4-AE9)","v":0.4},{"$f":"IF(AF14=0,0,(AF14*((LOG(AF14))/LOG(2))))","v":-0.52877123795494496},null,{"$f":"N14","v":222},{"$f":"COUNTIF(L81:L104,AI14)","v":3},{"$f":"AJ14/(AL4-AJ9)","v":0.125},{"$f":"IF(AK14=0,0,(AK14*((LOG(AK14))/LOG(2))))","v":-0.375},null,{"$f":"N14","v":222},{"$f":"COUNTIF(L105:L129,AN14)","v":9},{"$f":"AO14/(AQ4-AO9)","v":0.375},{"$f":"IF(AP14=0,0,(AP14*((LOG(AP14))/LOG(2))))","v":-0.53063906222956647},null,{"$f":"N14","v":222},{"$f":"COUNTIF(L130:L153,AS14)","v":12},{"$f":"AT14/(AV4-AT9)","v":0.5},{"$f":"IF(AU14=0,0,(AU14*((LOG(AU14))/LOG(2))))","v":-0.5}]
[11,1147,12,1151,13,1157,null,null,null,null,0,111,null,null,null,{"$f":"SUM(P7:P14)","v":1},{"$f":"-SUM(Q7:Q14)","v":2.5891356909494805},null,null,null,null,{"$f":"SUM(V7:V14)","v":1},{"$f":"-SUM(W7:W14)","v":2.2634651896016469},null,null,null,{"$f":"SUM(AA7:AA14)","v":1},{"$f":"-SUM(AB7:AB14)","v":2.2661506484543548},null,null,null,{"$f":"SUM(AF7:AF14)","v":1},{"$f":"-SUM(AG7:AG14)","v":2.0401128325826909},null,null,null,{"$f":"SUM(AK7:AK14)","v":1},{"$f":"-SUM(AL7:AL14)","v":2.2091479170272446},null,null,null,{"$f":"SUM(AP7:AP14)","v":1},{"$f":"-SUM(AQ7:AQ14)","v":2.1829316468984663},null,null,null,{"$f":"SUM(AU7:AU14)","v":1},{"$f":"-SUM(AV7:AV14)","v":1.692215752170299}]
[11,1253,12,1256,24,1268,null,null,null,null,0,112,null,null,null,"U=",{"$f":"Q15/(LOG(Q4)/LOG(2))","v":0.35961854469758192},null,null,null,null,"U1=",{"$f":"W15/(LOG(W4)/LOG(2))","v":0.48741069858828856},null,null,null,"U2=",{"$f":"AB15/(LOG(AB4)/LOG(2))","v":0.49425718271369029},null,null,null,"U3=",{"$f":"AG15/(LOG(AG4)/LOG(2))","v":0.43931438640903681},null,null,null,"U4=",{"$f":"AL15/(LOG(AL4)/LOG(2))","v":0.48182464233453898},null,null,null,"U5=",{"$f":"AQ15/(LOG(AQ4)/LOG(2))","v":0.47006874409785737},null,null,null,"U6=",{"$f":"AV15/(LOG(AV4)/LOG(2))","v":0.36907951851386678}]
[22,1365,14,1373,13,1377,null,null,null,null,0,211]
[11,1478,12,1481,13,1492,null,null,null,null,0,111]
[22,1592,14,1600,13,1603,null,null,null,null,0,211,null,"Total Target Seq"]
[22,1701,23,1706,13,1716,null,null,null,null,0,221,null,{"$f":"COUNTIF(L7:L153,G3)","v":1},null,25,24,25,24,25,24]
[11,1979,12,1985,13,1993,null,null,null,null,0,111,null,null,null,"% of reinforcement given in 6 equal intervals based on number of trials "]
[22,2091,14,2100,13,2105,null,null,null,null,0,211,null,null,null,"%_1","%_2","%_3","%_4","%_5","%_6"]
[22,2203,14,2218,13,2226,null,null,null,null,0,211,null,null,"target sequence",{"$f":"$G$3","v":121},{"$f":"$G$3","v":121},{"$f":"$G$3","v":121},{"$f":"$G$3","v":121},{"$f":"$G$3","v":121},{"$f":"$G$3","v":121}]
[11,2328,21,2339,22,2345,null,null,null,null,0,122,null,null,"total reinforcement",{"$f":"U9","v":0},{"$f":"Z9","v":0},{"$f":"AE9","v":0},{"$f":"AJ9","v":0},{"$f":"AO9","v":1},{"$f":"AT9","v":0}]
[11,2440,12,2445,13,2451,null,null,null,null,0,111,null,null,"% target"]
[22,2547,14,2556,13,2563,null,null,null,null,0,211,null,null,"CCRF"]
[11,2658,21,2669,22,2673,null,null,null,null,0,122,null,null,"% CCRf"]
[22,2770,23,2777,13,2785,null,null,null,null,0,221,null,null,"average response rate",{"$f":"F31/P20","v":135.36000000000001},{"$f":"(F55-F31)/Q20","v":138.66666666666666},{"$f":"(F80-F55)/R20","v":139.91999999999999},{"$f":"(F104-F80)/S20","v":177.95833333333334},{"$f":"(F129-F104)/T20","v":242.8},{"$f":"(F153-F129)/U20","v":139.91666666666666}]
[22,2883,14,2891,13,2897,null,null,null,null,0,211]
[22,3076,23,3089,24,3094,null,null,null,null,0,222]
[22,3363,14,3373,13,3384,null,null,null,null,0,211]
[22,3487,23,3498,13,3507,null,null,null,null,0,221]
[11,3598,12,3604,13,3608,null,null,null,null,0,111]
[22,3703,23,3707,13,3720,null,null,null,null,0,221]
[22,3814,23,3825,24,3833,null,null,null,null,0,222]
[22,3930,14,3940,13,3947,null,null,null,null,0,211]
[11,4046,12,4053,13,4061,null,null,null,null,0,111]
[22,4159,23,4164,24,4171,null,null,null,null,0,222]
[22,4270,23,4277,24,4283,null,null,null,null,0,222]
[11,4381,12,4388,24,4399,null,null,null,null,0,112]
[22,4494,23,4500,13,4510,null,null,null,null,0,221]
[22,4605,23,4609,13,4620,null,null,null,null,0,221]
[22,4717,23,4722,24,4729,null,null,null,null,0,222]
[22,4827,23,4831,13,4840,null,null,null,null,0,221]
[22,4944,23,4948,24,4952,null,null,null,null,0,222]
[22,5048,23,5051,13,5061,null,null,null,null,0,221]
[22,5173,14,5191,13,5195,null,null,null,null,0,211]
[22,5294,23,5298,24,5305,null,null,null,null,0,222]
[11,5400,12,5406,13,5412,null,null,null,null,0,111]
[11,6129,12,6134,24,6149,null,null,null,null,0,112]
[11,6248,21,6261,22,6266,null,null,null,null,0,122]
[22,6363,23,6368,13,6379,null,null,null,null,0,221]
[22,6474,23,6478,24,6483,null,null,null,null,0,222]
[11,6578,12,6582,13,6588,null,null,null,null,0,111]
[22,6685,23,6694,13,6712,null,null,null,null,0,221]
[11,6809,12,6812,13,6821,null,null,null,null,0,111]
[11,6916,21,6930,22,6932,null,null,null,null,0,122]
[22,7045,23,7050,24,7056,null,null,null,null,0,222]
[22,7163,23,7169,24,7177,null,null,null,null,0,222]
[22,7344,14,7354,13,7359,null,null,null,null,0,211]
[22,7475,14,7485,13,7489,null,null,null,null,0,211]
[22,7587,23,7592,24,7596,null,null,null,null,0,222]
[22,7693,23,7697,24,7703,null,null,null,null,0,222]
[22,7804,14,7820,13,7826,null,null,null,null,0,211]
[22,8075,14,8086,13,8091,null,null,null,null,0,211]
[22,8192,23,8201,24,8208,null,null,null,null,0,222]
[11,8304,12,8308,24,8327,null,null,null,null,0,112]
[22,8423,23,8434,24,8437,null,null,null,null,0,222]
[22,8657,14,8673,13,8678,null,null,null,null,0,211]
[22,8775,23,8790,24,8800,null,null,null,null,0,222]
[11,8914,21,8935,22,8941,null,null,null,null,0,122]
[22,9039,14,9050,13,9056,null,null,null,null,0,211]
[22,9149,23,9151,24,9155,null,null,null,null,0,222]
[11,9272,12,9277,13,9281,null,null,null,null,0,111]
[11,9413,21,9437,22,9442,null,null,null,null,0,122]
[22,9539,23,9543,24,9550,null,null,null,null,0,222]
[22,9705,23,9710,24,9717,null,null,null,null,0,222]
[11,9813,12,9819,13,9824,null,null,null,null,0,111]
[11,9920,21,9933,22,9938,null,null,null,null,0,122]
[11,10183,21,10205,22,10210,null,null,null,null,0,122]
[22,10318,14,10331,13,10335,null,null,null,null,0,211]
[22,10492,14,10516,13,10522,null,null,null,null,0,211]
[11,10647,21,10673,22,10679,null,null,null,null,0,122]
[11,10816,21,10842,22,10846,null,null,null,null,0,122]
[22,11063,23,11072,24,11080,null,null,null,null,0,222]
[22,11180,14,11191,24,11204,null,null,null,null,0,212]
[11,11306,21,11317,22,11334,null,null,null,null,0,122]
[22,11526,23,11538,13,11548,null,null,null,null,0,221]
[11,11662,21,11680,22,11683,null,null,null,null,0,122]
[22,11827,23,11835,24,11845,null,null,null,null,0,222]
[22,11946,23,11950,13,11960,null,null,null,null,0,221]
[22,12711,14,12772,13,12777,null,null,null,null,0,211]
[22,12872,14,12887,24,12907,null,null,null,null,0,212]
[22,13006,14,13016,24,13035,null,null,null,null,0,212]
[22,13183,23,13187,13,13208,null,null,null,null,0,221]
[22,13335,23,13342,13,13350,null,null,null,null,0,221]
[22,13471,23,13479,13,13501,null,null,null,null,0,221]
[22,13600,23,13630,24,13632,null,null,null,null,0,222]
[11,13743,21,13755,22,13757,null,null,null,null,0,122]
[11,13852,21,13882,22,13886,null,null,null,null,0,122]
[22,14049,23,14054,13,14067,null,null,null,null,0,221]
[22,14172,23,14176,13,14192,null,null,null,null,0,221]
[22,14293,23,14301,13,14310,null,null,null,null,0,221]
[22,14453,14,14477,13,14481,null,null,null,null,0,211]
[22,14585,23,14590,24,14596,null,null,null,null,0,222]
[22,14699,23,14705,24,14712,null,null,null,null,0,222]
[11,14818,21,14833,22,14835,null,null,null,null,0,122]
[22,14950,23,14960,24,14969,null,null,null,null,0,222]
[22,15116,23,15121,24,15126,null,null,null,null,0,222]
[22,15266,14,15287,24,15299,null,null,null,null,0,212]
[22,15397,23,15403,13,15422,null,null,null,null,0,221]
[22,15521,23,15526,24,15528,null,null,null,null,0,222]
[22,15725,23,15731,24,15736,null,null,null,null,0,222]
[22,16054,14,16079,13,16083,null,null,null,null,0,211]
[22,16182,23,16204,13,16220,null,null,null,null,0,221]
[22,16330,14,16356,13,16361,null,null,null,null,0,211]
[22,17075,23,17079,24,17082,null,null,null,null,0,222]
[22,17181,23,17183,24,17188,null,null,null,null,0,222]
[22,17298,23,17309,13,17319,null,null,null,null,0,221]
[11,17912,21,17925,22,17929,null,null,null,null,0,122]
[22,18751,14,18771,13,18775,null,null,null,null,0,211]
[22,18920,23,18925,13,18937,null,null,null,null,0,221]
[11,19147,12,19155,24,19166,null,null,null,null,0,112]
[22,19280,14,19295,13,19303,null,null,null,null,0,211]
[22,19500,14,19509,13,19514,null,null,null,null,0,211]
[22,19631,23,19635,24,19640,null,null,null,null,0,222]
[11,20077,21,20192,11,20200,null,null,null,null,0,121]
[22,20413,23,20419,13,20429,null,null,null,null,0,221]
[22,20524,23,20529,13,20551,null,null,null,null,0,221]
[22,20645,23,20652,13,20671,null,null,null,null,0,221]
[22,20776,14,20790,13,20798,null,null,null,null,0,211]
[11,20902,12,20906,24,20923,null,null,null,null,0,112]
[22,21160,23,21167,13,21182,null,null,null,null,0,221]
[22,21288,23,21295,13,21306,null,null,null,null,0,221]
[22,21408,23,21415,24,21422,null,null,null,null,0,222]
[22,21517,23,21522,24,21530,null,null,null,null,0,222]
[22,21623,23,21630,24,21634,null,null,null,null,0,222]
[22,21735,23,21740,24,21745,null,null,null,null,0,222]
[22,21847,23,21850,24,21854,null,null,null,null,0,222]
[11,21948,12,21955,24,21967,null,null,null,null,0,112]
[22,22065,23,22070,24,22072,null,null,null,null,0,222]
[11,22168,12,22174,24,22184,null,null,null,null,0,112]
[22,22412,23,22418,24,22422,null,null,null,null,0,222]
[22,22517,23,22524,13,22535,null,null,null,null,0,221]
[22,22631,23,22635,24,22639,null,null,null,null,0,222]
[22,22865,23,22872,24,22878,null,null,null,null,0,222]
[22,23019,23,23024,24,23033,null,null,null,null,0,222]
[22,23141,23,23145,24,23150,null,null,null,null,0,222]
[22,23351,23,23366,13,23376,null,null,null,null,0,221]
[22,23490,23,23499,13,23507,null,null,null,null,0,221]
[22,23602,23,23604,24,23608,null,null,null,null,0,222]
[22,23762,23,23767,13,23778,null,null,null,null,0,221]
[22,23872,14,23903,13,23909,null,null,null,null,0,211]

{"sheet":"!M308A2I.sha","index":30,"n_rows":142,"n_cols":48,"rows_kept":142,"cut":false,"hidden":false,"merged":[[4,39,4,42],[5,39,5,40],[4,44,4,47],[5,44,5,45],[4,24,4,27],[5,24,5,25],[4,29,4,32],[5,29,5,30],[4,34,4,37],[5,34,5,35],[1,1,1,2],[5,13,5,14],[18,13,18,14],[19,13,19,14],[4,19,4,22],[5,19,5,20]]}
["Report for:!M308A2I.sha"]
["Date:","<date>"]
["Hen:","<hen>",null,null,null,"Correct Sequence",{"$f":"Start!J2","v":121},null,null,null,null,null,null,null,null,"Total Sequences in Data",{"$f":"4994-COUNTBLANK(L7:L5000)","v":136},null,null,null,null,"Total Sequences in Block Data",{"$f":"COUNTA(L7:L29)","v":23},null,null,null,"Total Sequences in Block Data",{"$f":"COUNTA(L30:L51)","v":22},null,null,null,"Total Sequences in Block Data",{"$f":"COUNTA(L52:L74)","v":23},null,null,null,"Total Sequences in Block Data",{"$f":"COUNTA(L75:L97)","v":23},null,null,null,"Total Sequences in Block Data",{"$f":"COUNTA(L98:L119)","v":22},null,null,null,"Total Sequences in Block Data",{"$f":"COUNTA(L120:L142)","v":23}]
[null,null,null,null,null,null,null,null,null,null,null,null,null,null,null,"Total Sequences in Summary",{"$f":"SUM(O7:O14)","v":136},null,null,null,null,"Total Sequences in Block Summary",{"$f":"SUM(U7:U14)","v":23},null,null,null,"Total Sequences in Block Summary",{"$f":"SUM(Z7:Z14)","v":22},null,null,null,"Total Sequences in Block Summary",{"$f":"SUM(AE7:AE14)","v":23},null,null,null,"Total Sequences in Block Summary",{"$f":"SUM(AJ7:AJ14)","v":23},null,null,null,"Total Sequences in Block Summary",{"$f":"SUM(AO7:AO14)","v":22},null,null,null,"Total Sequences in Block Summary",{"$f":"SUM(AT7:AT14)","v":23}]
[null,null,null,null,null,null,null,null,null,null,null,null,null,null,null,null,null,null,null,"Block 1",null,null,null,null,"Block 2",null,null,null,null,"Block 3",null,null,null,null,"Block 4",null,null,null,null,"Block 5",null,null,null,null,"Block 6"]
["Sequence\nComponent\n1","Time\n1","Sequence\nComponent\n2","Time\n2","Sequence\nComponent\n3","Time\n3","Sequence\nComponent\n4","Time\n4","Sequence\nComponent\n5","Time\n5","Correct?\n0=No 1=Yes","Sequence",null,"Frequency",null,"Relative Frequency","Variability",null,null,"Frequency",null,"Relative Frequency","Variability",null,"Frequency",null,"Relative Frequency","Variability",null,"Frequency",null,"Relative Frequency","Variability",null,"Frequency",null,"Relative Frequency","Variability",null,"Frequency",null,"Relative Frequency","Variability",null,"Frequency",null,"Relative Frequency","Variability"]
[22,23,14,36,13,41,null,null,null,null,0,211,null,111,{"$f":"COUNTIF($L$7:$L$500,N7)","v":13},{"$f":"O7/$Q$4","v":9.5588235294117641E-2},{"$f":"IF(P7=0,0,(P7*((LOG(P7))/LOG(2))))","v":-0.3237595632383839},null,null,{"$f":"N7","v":111},{"$f":"COUNTIF(L7:L29,T7)","v":6},{"$f":"U7/(W4-U9)","v":0.2608695652173913},{"$f":"IF(V7=0,0,(V7*((LOG(V7))/LOG(2))))","v":-0.50572159704413644},null,{"$f":"N7","v":111},{"$f":"COUNTIF(L30:L51,Y7)","v":2},{"$f":"Z7/(AB4-Z9)","v":9.0909090909090912E-2},{"$f":"IF(AA7=0,0,(AA7*((LOG(AA7))/LOG(2))))","v":-0.31449378351248153},null,{"$f":"N7","v":111},{"$f":"COUNTIF(L52:L74,AD7)","v":1},{"$f":"AE7/(AG4-AE9)","v":4.5454545454545456E-2},{"$f":"IF(AF7=0,0,(AF7*((LOG(AF7))/LOG(2))))","v":-0.20270143721078623},null,{"$f":"N7","v":111},{"$f":"COUNTIF(L75:L97,AI7)","v":2},{"$f":"AJ7/(AL4-AJ9)","v":8.6956521739130432E-2},{"$f":"IF(AK7=0,0,(AK7*((LOG(AK7))/LOG(2))))","v":-0.30639669183104457},null,{"$f":"N7","v":111},{"$f":"COUNTIF(L98:L119,AN7)","v":2},{"$f":"AO7/(AQ4-AO9)","v":9.0909090909090912E-2},{"$f":"IF(AP7=0,0,(AP7*((LOG(AP7))/LOG(2))))","v":-0.31449378351248153},null,{"$f":"N7","v":111},{"$f":"COUNTIF(L120:L142,AS7)","v":0},{"$f":"AT7/(AV4-AT9)","v":0},{"$f":"IF(AU7=0,0,(AU7*((LOG(AU7))/LOG(2))))","v":0}]
[11,139,21,154,22,164,null,null,null,null,0,122,null,112,{"$f":"COUNTIF($L$7:$L$500,N8)","v":7},{"$f":"O8/$Q$4","v":5.1470588235294115E-2},{"$f":"IF(P8=0,0,(P8*((LOG(P8))/LOG(2))))","v":-0.22029967231139078},null,null,{"$f":"N8","v":112},{"$f":"COUNTIF(L7:L29,T8)","v":3},{"$f":"U8/(W4-U9)","v":0.13043478260869565},{"$f":"IF(V8=0,0,(V8*((LOG(V8))/LOG(2))))","v":-0.3832955811307639},null,{"$f":"N8","v":112},{"$f":"COUNTIF(L30:L51,Y8)","v":2},{"$f":"Z8/(AB4-Z9)","v":9.0909090909090912E-2},{"$f":"IF(AA8=0,0,(AA8*((LOG(AA8))/LOG(2))))","v":-0.31449378351248153},null,{"$f":"N8","v":112},{"$f":"COUNTIF(L52:L74,AD8)","v":1},{"$f":"AE8/(AG4-AE9)","v":4.5454545454545456E-2},{"$f":"IF(AF8=0,0,(AF8*((LOG(AF8))/LOG(2))))","v":-0.20270143721078623},null,{"$f":"N8","v":112},{"$f":"COUNTIF(L75:L97,AI8)","v":1},{"$f":"AJ8/(AL4-AJ9)","v":4.3478260869565216E-2},{"$f":"IF(AK8=0,0,(AK8*((LOG(AK8))/LOG(2))))","v":-0.19667660678508753},null,{"$f":"N8","v":112},{"$f":"COUNTIF(L98:L119,AN8)","v":0},{"$f":"AO8/(AQ4-AO9)","v":0},{"$f":"IF(AP8=0,0,(AP8*((LOG(AP8))/LOG(2))))","v":0},null,{"$f":"N8","v":112},{"$f":"COUNTIF(L120:L142,AS8)","v":0},{"$f":"AT8/(AV4-AT9)","v":0},{"$f":"IF(AU8=0,0,(AU8*((LOG(AU8))/LOG(2))))","v":0}]
[11,259,12,266,24,282,null,null,null,null,0,112,null,121,{"$f":"COUNTIF($L$7:$L$500,N9)","v":2},{"$f":"O9/$Q$4","v":1.4705882352941176E-2},{"$f":"IF(P9=0,0,(P9*((LOG(P9))/LOG(2))))","v":-8.9521512371328521E-2},null,null,{"$f":"N9","v":121},{"$f":"COUNTIF(L7:L29,T9)","v":0},null,null,null,{"$f":"N9","v":121},{"$f":"COUNTIF(L30:L51,Y9)","v":0},null,null,null,{"$f":"N9","v":121},{"$f":"COUNTIF(L52:L74,AD9)","v":1},null,null,null,{"$f":"N9","v":121},{"$f":"COUNTIF(L75:L97,AI9)","v":0},null,null,null,{"$f":"N9","v":121},{"$f":"COUNTIF(L98:L119,AN9)","v":0},null,null,null,{"$f":"N9","v":121},{"$f":"COUNTIF(L120:L142,AS9)","v":1}]
[11,377,12,383,24,405,null,null,null,null,0,112,null,122,{"$f":"COUNTIF($L$7:$L$500,N10)","v":17},{"$f":"O10/$Q$4","v":0.125},{"$f":"IF(P10=0,0,(P10*((LOG(P10))/LOG(2))))","v":-0.375},null,null,{"$f":"N10","v":122},{"$f":"COUNTIF(L7:L29,T10)","v":2},{"$f":"U10/(W4-U9)","v":8.6956521739130432E-2},{"$f":"IF(V10=0,0,(V10*((LOG(V10))/LOG(2))))","v":-0.30639669183104457},null,{"$f":"N10","v":122},{"$f":"COUNTIF(L30:L51,Y10)","v":3},{"$f":"Z10/(AB4-Z9)","v":0.13636363636363635},{"$f":"IF(AA10=0,0,(AA10*((LOG(AA10))/LOG(2))))","v":-0.39197306153401923},null,{"$f":"N10","v":122},{"$f":"COUNTIF(L52:L74,AD10)","v":4},{"$f":"AE10/(AG4-AE9)","v":0.18181818181818182},{"$f":"IF(AF10=0,0,(AF10*((LOG(AF10))/LOG(2))))","v":-0.44716938520678134},null,{"$f":"N10","v":122},{"$f":"COUNTIF(L75:L97,AI10)","v":3},{"$f":"AJ10/(AL4-AJ9)","v":0.13043478260869565},{"$f":"IF(AK10=0,0,(AK10*((LOG(AK10))/LOG(2))))","v":-0.3832955811307639},null,{"$f":"N10","v":122},{"$f":"COUNTIF(L98:L119,AN10)","v":3},{"$f":"AO10/(AQ4-AO9)","v":0.13636363636363635},{"$f":"IF(AP10=0,0,(AP10*((LOG(AP10))/LOG(2))))","v":-0.39197306153401923},null,{"$f":"N10","v":122},{"$f":"COUNTIF(L120:L142,AS10)","v":2},{"$f":"AT10/(AV4-AT9)","v":9.0909090909090912E-2},{"$f":"IF(AU10=0,0,(AU10*((LOG(AU10))/LOG(2))))","v":-0.31449378351248153}]
[11,511,12,516,13,522,null,null,null,null,0,111,null,211,{"$f":"COUNTIF($L$7:$L$500,N11)","v":27},{"$f":"O11/$Q$4","v":0.19852941176470587},{"$f":"IF(P11=0,0,(P11*((LOG(P11))/LOG(2))))","v":-0.46308480996577583},null,null,{"$f":"N11","v":211},{"$f":"COUNTIF(L7:L29,T11)","v":5},{"$f":"U11/(W4-U9)","v":0.21739130434782608},{"$f":"IF(V11=0,0,(V11*((LOG(V11))/LOG(2))))","v":-0.47861605677601093},null,{"$f":"N11","v":211},{"$f":"COUNTIF(L30:L51,Y11)","v":4},{"$f":"Z11/(AB4-Z9)","v":0.18181818181818182},{"$f":"IF(AA11=0,0,(AA11*((LOG(AA11))/LOG(2))))","v":-0.44716938520678134},null,{"$f":"N11","v":211},{"$f":"COUNTIF(L52:L74,AD11)","v":3},{"$f":"AE11/(AG4-AE9)","v":0.13636363636363635},{"$f":"IF(AF11=0,0,(AF11*((LOG(AF11))/LOG(2))))","v":-0.39197306153401923},null,{"$f":"N11","v":211},{"$f":"COUNTIF(L75:L97,AI11)","v":8},{"$f":"AJ11/(AL4-AJ9)","v":0.34782608695652173},{"$f":"IF(AK11=0,0,(AK11*((LOG(AK11))/LOG(2))))","v":-0.52993459341113491},null,{"$f":"N11","v":211},{"$f":"COUNTIF(L98:L119,AN11)","v":3},{"$f":"AO11/(AQ4-AO9)","v":0.13636363636363635},{"$f":"IF(AP11=0,0,(AP11*((LOG(AP11))/LOG(2))))","v":-0.39197306153401923},null,{"$f":"N11","v":211},{"$f":"COUNTIF(L120:L142,AS11)","v":4},{"$f":"AT11/(AV4-AT9)","v":0.18181818181818182},{"$f":"IF(AU11=0,0,(AU11*((LOG(AU11))/LOG(2))))","v":-0.44716938520678134}]
[22,618,23,624,13,635,null,null,null,null,0,221,null,212,{"$f":"COUNTIF($L$7:$L$500,N12)","v":7},{"$f":"O12/$Q$4","v":5.1470588235294115E-2},{"$f":"IF(P12=0,0,(P12*((LOG(P12))/LOG(2))))","v":-0.22029967231139078},null,null,{"$f":"N12","v":212},{"$f":"COUNTIF(L7:L29,T12)","v":0},{"$f":"U12/(W4-U9)","v":0},{"$f":"IF(V12=0,0,(V12*((LOG(V12))/LOG(2))))","v":0},null,{"$f":"N12","v":212},{"$f":"COUNTIF(L30:L51,Y12)","v":0},{"$f":"Z12/(AB4-Z9)","v":0},{"$f":"IF(AA12=0,0,(AA12*((LOG(AA12))/LOG(2))))","v":0},null,{"$f":"N12","v":212},{"$f":"COUNTIF(L52:L74,AD12)","v":0},{"$f":"AE12/(AG4-AE9)","v":0},{"$f":"IF(AF12=0,0,(AF12*((LOG(AF12))/LOG(2))))","v":0},null,{"$f":"N12","v":212},{"$f":"COUNTIF(L75:L97,AI12)","v":0},{"$f":"AJ12/(AL4-AJ9)","v":0},{"$f":"IF(AK12=0,0,(AK12*((LOG(AK12))/LOG(2))))","v":0},null,{"$f":"N12","v":212},{"$f":"COUNTIF(L98:L119,AN12)","v":4},{"$f":"AO12/(AQ4-AO9)","v":0.18181818181818182},{"$f":"IF(AP12=0,0,(AP12*((LOG(AP12))/LOG(2))))","v":-0.44716938520678134},null,{"$f":"N12","v":212},{"$f":"COUNTIF(L120:L142,AS12)","v":3},{"$f":"AT12/(AV4-AT9)","v":0.13636363636363635},{"$f":"IF(AU12=0,0,(AU12*((LOG(AU12))/LOG(2))))","v":-0.39197306153401923}]
[11,738,21,754,22,759,null,null,null,null,0,122,null,221,{"$f":"COUNTIF($L$7:$L$500,N13)","v":26},{"$f":"O13/$Q$4","v":0.19117647058823528},{"$f":"IF(P13=0,0,(P13*((LOG(P13))/LOG(2))))","v":-0.45634265588853257},null,null,{"$f":"N13","v":221},{"$f":"COUNTIF(L7:L29,T13)","v":2},{"$f":"U13/(W4-U9)","v":8.6956521739130432E-2},{"$f":"IF(V13=0,0,(V13*((LOG(V13))/LOG(2))))","v":-0.30639669183104457},null,{"$f":"N13","v":221},{"$f":"COUNTIF(L30:L51,Y13)","v":3},{"$f":"Z13/(AB4-Z9)","v":0.13636363636363635},{"$f":"IF(AA13=0,0,(AA13*((LOG(AA13))/LOG(2))))","v":-0.39197306153401923},null,{"$f":"N13","v":221},{"$f":"COUNTIF(L52:L74,AD13)","v":7},{"$f":"AE13/(AG4-AE9)","v":0.31818181818181818},{"$f":"IF(AF13=0,0,(AF13*((LOG(AF13))/LOG(2))))","v":-0.52566076709353871},null,{"$f":"N13","v":221},{"$f":"COUNTIF(L75:L97,AI13)","v":4},{"$f":"AJ13/(AL4-AJ9)","v":0.17391304347826086},{"$f":"IF(AK13=0,0,(AK13*((LOG(AK13))/LOG(2))))","v":-0.43888034018382832},null,{"$f":"N13","v":221},{"$f":"COUNTIF(L98:L119,AN13)","v":5},{"$f":"AO13/(AQ4-AO9)","v":0.22727272727272727},{"$f":"IF(AP13=0,0,(AP13*((LOG(AP13))/LOG(2))))","v":-0.48579625539771243},null,{"$f":"N13","v":221},{"$f":"COUNTIF(L120:L142,AS13)","v":5},{"$f":"AT13/(AV4-AT9)","v":0.22727272727272727},{"$f":"IF(AU13=0,0,(AU13*((LOG(AU13))/LOG(2))))","v":-0.48579625539771243}]
[22,857,14,868,13,873,null,null,null,null,0,211,null,222,{"$f":"COUNTIF($L$7:$L$500,N14)","v":37},{"$f":"O14/$Q$4","v":0.27205882352941174},{"$f":"IF(P14=0,0,(P14*((LOG(P14))/LOG(2))))","v":-0.51092904851464271},null,null,{"$f":"N14","v":222},{"$f":"COUNTIF(L7:L29,T14)","v":5},{"$f":"U14/(W4-U9)","v":0.21739130434782608},{"$f":"IF(V14=0,0,(V14*((LOG(V14))/LOG(2))))","v":-0.47861605677601093},null,{"$f":"N14","v":222},{"$f":"COUNTIF(L30:L51,Y14)","v":8},{"$f":"Z14/(AB4-Z9)","v":0.36363636363636365},{"$f":"IF(AA14=0,0,(AA14*((LOG(AA14))/LOG(2))))","v":-0.53070240677719893},null,{"$f":"N14","v":222},{"$f":"COUNTIF(L52:L74,AD14)","v":6},{"$f":"AE14/(AG4-AE9)","v":0.27272727272727271},{"$f":"IF(AF14=0,0,(AF14*((LOG(AF14))/LOG(2))))","v":-0.51121885034076575},null,{"$f":"N14","v":222},{"$f":"COUNTIF(L75:L97,AI14)","v":5},{"$f":"AJ14/(AL4-AJ9)","v":0.21739130434782608},{"$f":"IF(AK14=0,0,(AK14*((LOG(AK14))/LOG(2))))","v":-0.47861605677601093},null,{"$f":"N14","v":222},{"$f":"COUNTIF(L98:L119,AN14)","v":5},{"$f":"AO14/(AQ4-AO9)","v":0.22727272727272727},{"$f":"IF(AP14=0,0,(AP14*((LOG(AP14))/LOG(2))))","v":-0.48579625539771243},null,{"$f":"N14","v":222},{"$f":"COUNTIF(L120:L142,AS14)","v":8},{"$f":"AT14/(AV4-AT9)","v":0.36363636363636365},{"$f":"IF(AU14=0,0,(AU14*((LOG(AU14))/LOG(2))))","v":-0.53070240677719893}]
[22,1019,14,1040,13,1044,null,null,null,null,0,211,null,null,null,{"$f":"SUM(P7:P14)","v":1},{"$f":"-SUM(Q7:Q14)","v":2.6592369346014451},null,null,null,null,{"$f":"SUM(V7:V14)","v":0.99999999999999989},{"$f":"-SUM(W7:W14)","v":2.4590426753890116},null,null,null,{"$f":"SUM(AA7:AA14)","v":1},{"$f":"-SUM(AB7:AB14)","v":2.3908054820769817},null,null,null,{"$f":"SUM(AF7:AF14)","v":1},{"$f":"-SUM(AG7:AG14)","v":2.2814249385966776},null,null,null,{"$f":"SUM(AK7:AK14)","v":1},{"$f":"-SUM(AL7:AL14)","v":2.3337998701178702},null,null,null,{"$f":"SUM(AP7:AP14)","v":1},{"$f":"-SUM(AQ7:AQ14)","v":2.5172018025827261},null,null,null,{"$f":"SUM(AU7:AU14)","v":1},{"$f":"-SUM(AV7:AV14)","v":2.1701348924281936}]
[11,1139,12,1143,24,1157,null,null,null,null,0,112,null,null,null,"U=",{"$f":"Q15/(LOG(Q4)/LOG(2))","v":0.37520294556243688},null,null,null,null,"U1=",{"$f":"W15/(LOG(W4)/LOG(2))","v":0.54360760375932804},null,null,null,"U2=",{"$f":"AB15/(LOG(AB4)/LOG(2))","v":0.53612336426128637},null,null,null,"U3=",{"$f":"AG15/(LOG(AG4)/LOG(2))","v":0.50434258682847666},null,null,null,"U4=",{"$f":"AL15/(LOG(AL4)/LOG(2))","v":0.51592083689556434},null,null,null,"U5=",{"$f":"AQ15/(LOG(AQ4)/LOG(2))","v":0.5644669585385248},null,null,null,"U6=",{"$f":"AV15/(LOG(AV4)/LOG(2))","v":0.47974028288092757}]
[11,1251,12,1256,13,1264,null,null,null,null,0,111]
[11,1362,12,1367,13,1377,null,null,null,null,0,111]
[22,1476,14,1491,13,1494,null,null,null,null,0,211,null,"Total Target Seq"]
[11,1590,12,1597,13,1605,null,null,null,null,0,111,null,{"$f":"COUNTIF(L7:L142,G3)","v":2},null,23,22,23,23,22,23]
[22,1702,23,1708,24,1719,null,null,null,null,0,222,null,null,null,"% of reinforcement given in 6 equal intervals based on number of trials "]
[22,1926,14,1936,13,1942,null,null,null,null,0,211,null,null,null,"%_1","%_2","%_3","%_4","%_5","%_6"]
[11,2044,12,2049,13,2056,null,null,null,null,0,111,null,null,"target sequence",{"$f":"$G$3","v":121},{"$f":"$G$3","v":121},{"$f":"$G$3","v":121},{"$f":"$G$3","v":121},{"$f":"$G$3","v":121},{"$f":"$G$3","v":121}]
[22,2154,23,2159,13,2172,null,null,null,null,0,221,null,null,"total reinforcement",{"$f":"U9","v":0},{"$f":"Z9","v":0},{"$f":"AE9","v":1},{"$f":"AJ9","v":0},{"$f":"AO9","v":0},{"$f":"AT9","v":1}]
[22,2269,23,2272,24,2277,null,null,null,null,0,222,null,null,"% target"]
[11,2372,12,2375,13,2380,null,null,null,null,0,111,null,null,"CCRF"]
[22,2478,23,2480,24,2486,null,null,null,null,0,222,null,null,"% CCRf"]
[22,2586,23,2592,24,2600,null,null,null,null,0,222,null,null,"average response rate",{"$f":"F29/P20","v":117.65217391304348},{"$f":"(F51-F29)/Q20","v":154.68181818181819},{"$f":"(F74-F51)/R20","v":157.52173913043478},{"$f":"(F97-F74)/S20","v":140.78260869565219},{"$f":"(F119-F97)/T20","v":171.09090909090909},{"$f":"(F142-F119)/U20","v":315.78260869565219}]
[22,2696,23,2700,24,2706,null,null,null,null,0,222]
[11,2798,12,2804,24,2819,null,null,null,null,0,112]
[22,2915,23,2920,24,2924,null,null,null,null,0,222]
[11,3022,21,3032,22,3038,null,null,null,null,0,122]
[22,3135,23,3139,24,3144,null,null,null,null,0,222]
[22,3245,23,3250,24,3254,null,null,null,null,0,222]
[22,3350,23,3355,24,3360,null,null,null,null,0,222]
[22,3457,23,3462,13,3481,null,null,null,null,0,221]
[22,3576,23,3581,24,3587,null,null,null,null,0,222]
[11,3703,12,3708,13,3714,null,null,null,null,0,111]
[11,3810,12,3815,24,3825,null,null,null,null,0,112]
[22,3945,14,3954,13,3959,null,null,null,null,0,211]
[22,4748,14,4797,13,4803,null,null,null,null,0,211]
[22,4900,23,4904,24,4908,null,null,null,null,0,222]
[11,5007,21,5022,22,5027,null,null,null,null,0,122]
[22,5124,14,5138,13,5143,null,null,null,null,0,211]
[22,5239,23,5244,13,5257,null,null,null,null,0,221]
[22,5354,23,5369,24,5375,null,null,null,null,0,222]
[22,5479,23,5483,13,5494,null,null,null,null,0,221]
[22,5591,23,5595,24,5600,null,null,null,null,0,222]
[11,5716,21,5729,22,5732,null,null,null,null,0,122]
[11,5983,12,5988,13,5994,null,null,null,null,0,111]
[22,6091,14,6105,13,6109,null,null,null,null,0,211]
[22,6205,23,6211,24,6221,null,null,null,null,0,222]
[22,6338,23,6341,24,6345,null,null,null,null,0,222]
[22,6482,23,6490,13,6499,null,null,null,null,0,221]
[22,6656,14,6665,13,6669,null,null,null,null,0,211]
[22,6770,14,6786,13,6791,null,null,null,null,0,211]
[22,6889,23,6896,13,6910,null,null,null,null,0,221]
[11,7006,21,7020,22,7025,null,null,null,null,0,122]
[22,7121,23,7128,13,7136,null,null,null,null,0,221]
[22,7243,14,7268,13,7273,null,null,null,null,0,211]
[11,7423,21,7463,11,7478,null,null,null,null,0,121]
[22,7774,23,7779,13,7788,null,null,null,null,0,221]
[22,7885,23,7891,13,7903,null,null,null,null,0,221]
[11,8007,12,8012,13,8022,null,null,null,null,0,111]
[11,8117,12,8125,24,8136,null,null,null,null,0,112]
[22,8234,23,8249,24,8255,null,null,null,null,0,222]
[11,8356,21,8377,22,8381,null,null,null,null,0,122]
[22,8479,23,8483,24,8489,null,null,null,null,0,222]
[11,8592,21,8610,22,8615,null,null,null,null,0,122]
[22,8715,23,8721,24,8726,null,null,null,null,0,222]
[22,8827,23,8833,24,8837,null,null,null,null,0,222]
[22,8933,23,8942,13,8955,null,null,null,null,0,221]
[22,9563,23,9600,13,9608,null,null,null,null,0,221]
[11,9704,21,9728,22,9732,null,null,null,null,0,122]
[22,9829,23,9840,13,9848,null,null,null,null,0,221]
[11,9944,12,9948,13,9961,null,null,null,null,0,111]
[22,10057,23,10063,24,10068,null,null,null,null,0,222]
[11,10168,21,10183,22,10187,null,null,null,null,0,122]
[22,10387,14,10396,13,10402,null,null,null,null,0,211]
[22,10506,23,10512,13,10523,null,null,null,null,0,221]
[22,10620,23,10627,13,10636,null,null,null,null,0,221]
[11,10754,21,10771,22,10775,null,null,null,null,0,122]
[22,10875,14,10894,13,10898,null,null,null,null,0,211]
[11,11167,12,11172,24,11188,null,null,null,null,0,112]
[22,11284,23,11289,24,11298,null,null,null,null,0,222]
[22,11396,14,11406,13,11411,null,null,null,null,0,211]
[11,11522,12,11526,13,11533,null,null,null,null,0,111]
[22,11631,14,11655,13,11658,null,null,null,null,0,211]
[22,11855,14,11864,13,11868,null,null,null,null,0,211]
[22,11967,23,11971,24,11981,null,null,null,null,0,222]
[22,12079,14,12099,13,12105,null,null,null,null,0,211]
[22,12198,23,12205,24,12209,null,null,null,null,0,222]
[22,12386,14,12401,13,12407,null,null,null,null,0,211]
[22,12511,23,12518,24,12530,null,null,null,null,0,222]
[11,12630,21,12641,22,12644,null,null,null,null,0,122]
[22,12830,23,12839,13,12848,null,null,null,null,0,221]
[22,12949,14,12966,13,12970,null,null,null,null,0,211]
[22,13068,23,13073,24,13076,null,null,null,null,0,222]
[11,13260,12,13265,13,13271,null,null,null,null,0,111]
[22,13371,23,13378,13,13388,null,null,null,null,0,221]
[22,13568,23,13575,13,13585,null,null,null,null,0,221]
[22,13696,14,13712,24,13728,null,null,null,null,0,212]
[11,14039,12,14044,13,14050,null,null,null,null,0,111]
[22,14250,14,14258,24,14274,null,null,null,null,0,212]
[22,14413,14,14423,13,14427,null,null,null,null,0,211]
[22,14535,14,14543,24,14556,null,null,null,null,0,212]
[22,14663,23,14672,13,14681,null,null,null,null,0,221]
[11,14790,21,14800,22,14804,null,null,null,null,0,122]
[22,14901,14,14910,13,14918,null,null,null,null,0,211]
[22,15020,23,15026,24,15032,null,null,null,null,0,222]
[11,15245,21,15258,22,15263,null,null,null,null,0,122]
[22,15471,14,15480,13,15485,null,null,null,null,0,211]
[22,15581,23,15585,24,15591,null,null,null,null,0,222]
[22,15715,14,15730,24,15744,null,null,null,null,0,212]
[22,16121,23,16127,24,16131,null,null,null,null,0,222]
[11,16231,21,16257,22,16262,null,null,null,null,0,122]
[22,16376,23,16384,13,16391,null,null,null,null,0,221]
[22,16508,23,16515,13,16522,null,null,null,null,0,221]
[22,16697,23,16731,24,16734,null,null,null,null,0,222]
[22,17765,14,17791,24,17800,null,null,null,null,0,212]
[22,18030,23,18042,13,18055,null,null,null,null,0,221]
[22,18218,23,18224,24,18227,null,null,null,null,0,222]
[22,18351,23,18373,24,18379,null,null,null,null,0,222]
[22,18491,23,18496,24,18502,null,null,null,null,0,222]
[22,18626,23,18632,24,18638,null,null,null,null,0,222]
[22,18783,23,18807,24,18809,null,null,null,null,0,222]
[22,18937,14,18967,24,18979,null,null,null,null,0,212]
[22,19092,23,19128,24,19133,null,null,null,null,0,222]
[22,19233,14,19249,13,19254,null,null,null,null,0,211]
[22,19466,14,19480,13,19485,null,null,null,null,0,211]
[22,19597,23,19607,13,19625,null,null,null,null,0,221]
[22,19941,23,19948,13,19958,null,null,null,null,0,221]
[22,20056,23,20062,24,20074,null,null,null,null,0,222]
[22,20291,23,20302,13,20311,null,null,null,null,0,221]
[22,20408,23,20462,24,20465,null,null,null,null,0,222]
[22,22778,14,22788,24,22803,null,null,null,null,0,212]
[22,22936,23,22938,13,22959,null,null,null,null,0,221]
[11,23164,21,23182,22,23187,null,null,null,null,0,122]
[11,23329,21,23371,11,23379,null,null,null,null,0,121]
[22,23736,14,23745,13,23750,null,null,null,null,0,211]
[22,23855,14,23873,13,23880,null,null,null,null,0,211]
[11,23979,21,23991,22,23997,null,null,null,null,null,122]

{"sheet":"!M309A3I.sha","index":31,"n_rows":112,"n_cols":48,"rows_kept":112,"cut":false,"hidden":false,"merged":[[4,39,4,42],[5,39,5,40],[4,44,4,47],[5,44,5,45],[4,24,4,27],[5,24,5,25],[4,29,4,32],[5,29,5,30],[4,34,4,37],[5,34,5,35],[1,1,1,2],[5,13,5,14],[18,13,18,14],[19,13,19,14],[4,19,4,22],[5,19,5,20]]}
["Report for:!M309A3I.sha"]
["Date:","<date>"]
["Hen:","<hen>",null,null,null,"Correct Sequence",{"$f":"Start!J2","v":121},null,null,null,null,null,null,null,null,"Total Sequences in Data",{"$f":"4994-COUNTBLANK(L7:L5000)","v":106},null,null,null,null,"Total Sequences in Block Data",{"$f":"COUNTA(L7:L24)","v":18},null,null,null,"Total Sequences in Block Data",{"$f":"COUNTA(L25:L41)","v":17},null,null,null,"Total Sequences in Block Data",{"$f":"COUNTA(L42:L59)","v":18},null,null,null,"Total Sequences in Block Data",{"$f":"COUNTA(L60:L77)","v":18},null,null,null,"Total Sequences in Block Data",{"$f":"COUNTA(L78:L94)","v":17},null,null,null,"Total Sequences in Block Data",{"$f":"COUNTA(L95:L112)","v":18}]
[null,null,null,null,null,null,null,null,null,null,null,null,null,null,null,"Total Sequences in Summary",{"$f":"SUM(O7:O14)","v":106},null,null,null,null,"Total Sequences in Block Summary",{"$f":"SUM(U7:U14)","v":18},null,null,null,"Total Sequences in Block Summary",{"$f":"SUM(Z7:Z14)","v":17},null,null,null,"Total Sequences in Block Summary",{"$f":"SUM(AE7:AE14)","v":18},null,null,null,"Total Sequences in Block Summary",{"$f":"SUM(AJ7:AJ14)","v":18},null,null,null,"Total Sequences in Block Summary",{"$f":"SUM(AO7:AO14)","v":17},null,null,null,"Total Sequences in Block Summary",{"$f":"SUM(AT7:AT14)","v":18}]
[null,null,null,null,null,null,null,null,null,null,null,null,null,null,null,null,null,null,null,"Block 1",null,null,null,null,"Block 2",null,null,null,null,"Block 3",null,null,null,null,"Block 4",null,null,null,null,"Block 5",null,null,null,null,"Block 6"]
["Sequence\nComponent\n1","Time\n1","Sequence\nComponent\n2","Time\n2","Sequence\nComponent\n3","Time\n3","Sequence\nComponent\n4","Time\n4","Sequence\nComponent\n5","Time\n5","Correct?\n0=No 1=Yes","Sequence",null,"Frequency",null,"Relative Frequency","Variability",null,null,"Frequency",null,"Relative Frequency","Variability",null,"Frequency",null,"Relative Frequency","Variability",null,"Frequency",null,"Relative Frequency","Variability",null,"Frequency",null,"Relative Frequency","Variability",null,"Frequency",null,"Relative Frequency","Variability",null,"Frequency",null,"Relative Frequency","Variability"]
[11,109,12,114,13,120,null,null,null,null,0,111,null,111,{"$f":"COUNTIF($L$7:$L$500,N7)","v":11},{"$f":"O7/$Q$4","v":0.10377358490566038},{"$f":"IF(P7=0,0,(P7*((LOG(P7))/LOG(2))))","v":-0.33918280372815962},null,null,{"$f":"N7","v":111},{"$f":"COUNTIF(L7:L24,T7)","v":2},{"$f":"U7/(W4-U9)","v":0.1111111111111111},{"$f":"IF(V7=0,0,(V7*((LOG(V7))/LOG(2))))","v":-0.3522138890491458},null,{"$f":"N7","v":111},{"$f":"COUNTIF(L25:L41,Y7)","v":0},{"$f":"Z7/(AB4-Z9)","v":0},{"$f":"IF(AA7=0,0,(AA7*((LOG(AA7))/LOG(2))))","v":0},null,{"$f":"N7","v":111},{"$f":"COUNTIF(L42:L59,AD7)","v":1},{"$f":"AE7/(AG4-AE9)","v":5.8823529411764705E-2},{"$f":"IF(AF7=0,0,(AF7*((LOG(AF7))/LOG(2))))","v":-0.24043899066178465},null,{"$f":"N7","v":111},{"$f":"COUNTIF(L60:L77,AI7)","v":4},{"$f":"AJ7/(AL4-AJ9)","v":0.23529411764705882},{"$f":"IF(AK7=0,0,(AK7*((LOG(AK7))/LOG(2))))","v":-0.49116772735302094},null,{"$f":"N7","v":111},{"$f":"COUNTIF(L78:L94,AN7)","v":3},{"$f":"AO7/(AQ4-AO9)","v":0.17647058823529413},{"$f":"IF(AP7=0,0,(AP7*((LOG(AP7))/LOG(2))))","v":-0.44161770715220888},null,{"$f":"N7","v":111},{"$f":"COUNTIF(L95:L112,AS7)","v":1},{"$f":"AT7/(AV4-AT9)","v":5.8823529411764705E-2},{"$f":"IF(AU7=0,0,(AU7*((LOG(AU7))/LOG(2))))","v":-0.24043899066178465}]
[11,233,12,238,13,244,null,null,null,null,0,111,null,112,{"$f":"COUNTIF($L$7:$L$500,N8)","v":17},{"$f":"O8/$Q$4","v":0.16037735849056603},{"$f":"IF(P8=0,0,(P8*((LOG(P8))/LOG(2))))","v":-0.42346961722942089},null,null,{"$f":"N8","v":112},{"$f":"COUNTIF(L7:L24,T8)","v":2},{"$f":"U8/(W4-U9)","v":0.1111111111111111},{"$f":"IF(V8=0,0,(V8*((LOG(V8))/LOG(2))))","v":-0.3522138890491458},null,{"$f":"N8","v":112},{"$f":"COUNTIF(L25:L41,Y8)","v":2},{"$f":"Z8/(AB4-Z9)","v":0.11764705882352941},{"$f":"IF(AA8=0,0,(AA8*((LOG(AA8))/LOG(2))))","v":-0.36323092250003997},null,{"$f":"N8","v":112},{"$f":"COUNTIF(L42:L59,AD8)","v":5},{"$f":"AE8/(AG4-AE9)","v":0.29411764705882354},{"$f":"IF(AF8=0,0,(AF8*((LOG(AF8))/LOG(2))))","v":-0.51927492540087561},null,{"$f":"N8","v":112},{"$f":"COUNTIF(L60:L77,AI8)","v":1},{"$f":"AJ8/(AL4-AJ9)","v":5.8823529411764705E-2},{"$f":"IF(AK8=0,0,(AK8*((LOG(AK8))/LOG(2))))","v":-0.24043899066178465},null,{"$f":"N8","v":112},{"$f":"COUNTIF(L78:L94,AN8)","v":3},{"$f":"AO8/(AQ4-AO9)","v":0.17647058823529413},{"$f":"IF(AP8=0,0,(AP8*((LOG(AP8))/LOG(2))))","v":-0.44161770715220888},null,{"$f":"N8","v":112},{"$f":"COUNTIF(L95:L112,AS8)","v":4},{"$f":"AT8/(AV4-AT9)","v":0.23529411764705882},{"$f":"IF(AU8=0,0,(AU8*((LOG(AU8))/LOG(2))))","v":-0.49116772735302094}]
[11,341,12,346,24,363,null,null,null,null,0,112,null,121,{"$f":"COUNTIF($L$7:$L$500,N9)","v":3},{"$f":"O9/$Q$4","v":2.8301886792452831E-2},{"$f":"IF(P9=0,0,(P9*((LOG(P9))/LOG(2))))","v":-0.14555541378798234},null,null,{"$f":"N9","v":121},{"$f":"COUNTIF(L7:L24,T9)","v":0},null,null,null,{"$f":"N9","v":121},{"$f":"COUNTIF(L25:L41,Y9)","v":0},null,null,null,{"$f":"N9","v":121},{"$f":"COUNTIF(L42:L59,AD9)","v":1},null,null,null,{"$f":"N9","v":121},{"$f":"COUNTIF(L60:L77,AI9)","v":1},null,null,null,{"$f":"N9","v":121},{"$f":"COUNTIF(L78:L94,AN9)","v":0},null,null,null,{"$f":"N9","v":121},{"$f":"COUNTIF(L95:L112,AS9)","v":1}]
[22,460,14,471,13,476,null,null,null,null,0,211,null,122,{"$f":"COUNTIF($L$7:$L$500,N10)","v":11},{"$f":"O10/$Q$4","v":0.10377358490566038},{"$f":"IF(P10=0,0,(P10*((LOG(P10))/LOG(2))))","v":-0.33918280372815962},null,null,{"$f":"N10","v":122},{"$f":"COUNTIF(L7:L24,T10)","v":4},{"$f":"U10/(W4-U9)","v":0.22222222222222221},{"$f":"IF(V10=0,0,(V10*((LOG(V10))/LOG(2))))","v":-0.48220555587606945},null,{"$f":"N10","v":122},{"$f":"COUNTIF(L25:L41,Y10)","v":4},{"$f":"Z10/(AB4-Z9)","v":0.23529411764705882},{"$f":"IF(AA10=0,0,(AA10*((LOG(AA10))/LOG(2))))","v":-0.49116772735302094},null,{"$f":"N10","v":122},{"$f":"COUNTIF(L42:L59,AD10)","v":3},{"$f":"AE10/(AG4-AE9)","v":0.17647058823529413},{"$f":"IF(AF10=0,0,(AF10*((LOG(AF10))/LOG(2))))","v":-0.44161770715220888},null,{"$f":"N10","v":122},{"$f":"COUNTIF(L60:L77,AI10)","v":0},{"$f":"AJ10/(AL4-AJ9)","v":0},{"$f":"IF(AK10=0,0,(AK10*((LOG(AK10))/LOG(2))))","v":0},null,{"$f":"N10","v":122},{"$f":"COUNTIF(L78:L94,AN10)","v":0},{"$f":"AO10/(AQ4-AO9)","v":0},{"$f":"IF(AP10=0,0,(AP10*((LOG(AP10))/LOG(2))))","v":0},null,{"$f":"N10","v":122},{"$f":"COUNTIF(L95:L112,AS10)","v":0},{"$f":"AT10/(AV4-AT9)","v":0},{"$f":"IF(AU10=0,0,(AU10*((LOG(AU10))/LOG(2))))","v":0}]
[11,577,21,591,22,597,null,null,null,null,0,122,null,211,{"$f":"COUNTIF($L$7:$L$500,N11)","v":28},{"$f":"O11/$Q$4","v":0.26415094339622641},{"$f":"IF(P11=0,0,(P11*((LOG(P11))/LOG(2))))","v":-0.50731919726562891},null,null,{"$f":"N11","v":211},{"$f":"COUNTIF(L7:L24,T11)","v":1},{"$f":"U11/(W4-U9)","v":5.5555555555555552E-2},{"$f":"IF(V11=0,0,(V11*((LOG(V11))/LOG(2))))","v":-0.23166250008012845},null,{"$f":"N11","v":211},{"$f":"COUNTIF(L25:L41,Y11)","v":4},{"$f":"Z11/(AB4-Z9)","v":0.23529411764705882},{"$f":"IF(AA11=0,0,(AA11*((LOG(AA11))/LOG(2))))","v":-0.49116772735302094},null,{"$f":"N11","v":211},{"$f":"COUNTIF(L42:L59,AD11)","v":5},{"$f":"AE11/(AG4-AE9)","v":0.29411764705882354},{"$f":"IF(AF11=0,0,(AF11*((LOG(AF11))/LOG(2))))","v":-0.51927492540087561},null,{"$f":"N11","v":211},{"$f":"COUNTIF(L60:L77,AI11)","v":7},{"$f":"AJ11/(AL4-AJ9)","v":0.41176470588235292},{"$f":"IF(AK11=0,0,(AK11*((LOG(AK11))/LOG(2))))","v":-0.52710326084406744},null,{"$f":"N11","v":211},{"$f":"COUNTIF(L78:L94,AN11)","v":5},{"$f":"AO11/(AQ4-AO9)","v":0.29411764705882354},{"$f":"IF(AP11=0,0,(AP11*((LOG(AP11))/LOG(2))))","v":-0.51927492540087561},null,{"$f":"N11","v":211},{"$f":"COUNTIF(L95:L112,AS11)","v":6},{"$f":"AT11/(AV4-AT9)","v":0.35294117647058826},{"$f":"IF(AU11=0,0,(AU11*((LOG(AU11))/LOG(2))))","v":-0.53029423783382934}]
[22,605,23,609,13,624,null,null,null,null,0,221,null,212,{"$f":"COUNTIF($L$7:$L$500,N12)","v":11},{"$f":"O12/$Q$4","v":0.10377358490566038},{"$f":"IF(P12=0,0,(P12*((LOG(P12))/LOG(2))))","v":-0.33918280372815962},null,null,{"$f":"N12","v":212},{"$f":"COUNTIF(L7:L24,T12)","v":2},{"$f":"U12/(W4-U9)","v":0.1111111111111111},{"$f":"IF(V12=0,0,(V12*((LOG(V12))/LOG(2))))","v":-0.3522138890491458},null,{"$f":"N12","v":212},{"$f":"COUNTIF(L25:L41,Y12)","v":3},{"$f":"Z12/(AB4-Z9)","v":0.17647058823529413},{"$f":"IF(AA12=0,0,(AA12*((LOG(AA12))/LOG(2))))","v":-0.44161770715220888},null,{"$f":"N12","v":212},{"$f":"COUNTIF(L42:L59,AD12)","v":0},{"$f":"AE12/(AG4-AE9)","v":0},{"$f":"IF(AF12=0,0,(AF12*((LOG(AF12))/LOG(2))))","v":0},null,{"$f":"N12","v":212},{"$f":"COUNTIF(L60:L77,AI12)","v":1},{"$f":"AJ12/(AL4-AJ9)","v":5.8823529411764705E-2},{"$f":"IF(AK12=0,0,(AK12*((LOG(AK12))/LOG(2))))","v":-0.24043899066178465},null,{"$f":"N12","v":212},{"$f":"COUNTIF(L78:L94,AN12)","v":2},{"$f":"AO12/(AQ4-AO9)","v":0.11764705882352941},{"$f":"IF(AP12=0,0,(AP12*((LOG(AP12))/LOG(2))))","v":-0.36323092250003997},null,{"$f":"N12","v":212},{"$f":"COUNTIF(L95:L112,AS12)","v":3},{"$f":"AT12/(AV4-AT9)","v":0.17647058823529413},{"$f":"IF(AU12=0,0,(AU12*((LOG(AU12))/LOG(2))))","v":-0.44161770715220888}]
[11,724,21,737,22,741,null,null,null,null,0,122,null,221,{"$f":"COUNTIF($L$7:$L$500,N13)","v":13},{"$f":"O13/$Q$4","v":0.12264150943396226},{"$f":"IF(P13=0,0,(P13*((LOG(P13))/LOG(2))))","v":-0.37129480729705089},null,null,{"$f":"N13","v":221},{"$f":"COUNTIF(L7:L24,T13)","v":3},{"$f":"U13/(W4-U9)","v":0.16666666666666666},{"$f":"IF(V13=0,0,(V13*((LOG(V13))/LOG(2))))","v":-0.43082708345352599},null,{"$f":"N13","v":221},{"$f":"COUNTIF(L25:L41,Y13)","v":1},{"$f":"Z13/(AB4-Z9)","v":5.8823529411764705E-2},{"$f":"IF(AA13=0,0,(AA13*((LOG(AA13))/LOG(2))))","v":-0.24043899066178465},null,{"$f":"N13","v":221},{"$f":"COUNTIF(L42:L59,AD13)","v":1},{"$f":"AE13/(AG4-AE9)","v":5.8823529411764705E-2},{"$f":"IF(AF13=0,0,(AF13*((LOG(AF13))/LOG(2))))","v":-0.24043899066178465},null,{"$f":"N13","v":221},{"$f":"COUNTIF(L60:L77,AI13)","v":3},{"$f":"AJ13/(AL4-AJ9)","v":0.17647058823529413},{"$f":"IF(AK13=0,0,(AK13*((LOG(AK13))/LOG(2))))","v":-0.44161770715220888},null,{"$f":"N13","v":221},{"$f":"COUNTIF(L78:L94,AN13)","v":3},{"$f":"AO13/(AQ4-AO9)","v":0.17647058823529413},{"$f":"IF(AP13=0,0,(AP13*((LOG(AP13))/LOG(2))))","v":-0.44161770715220888},null,{"$f":"N13","v":221},{"$f":"COUNTIF(L95:L112,AS13)","v":2},{"$f":"AT13/(AV4-AT9)","v":0.11764705882352941},{"$f":"IF(AU13=0,0,(AU13*((LOG(AU13))/LOG(2))))","v":-0.36323092250003997}]
[22,837,23,845,13,855,null,null,null,null,0,221,null,222,{"$f":"COUNTIF($L$7:$L$500,N14)","v":12},{"$f":"O14/$Q$4","v":0.11320754716981132},{"$f":"IF(P14=0,0,(P14*((LOG(P14))/LOG(2))))","v":-0.35580656081230677},null,null,{"$f":"N14","v":222},{"$f":"COUNTIF(L7:L24,T14)","v":4},{"$f":"U14/(W4-U9)","v":0.22222222222222221},{"$f":"IF(V14=0,0,(V14*((LOG(V14))/LOG(2))))","v":-0.48220555587606945},null,{"$f":"N14","v":222},{"$f":"COUNTIF(L25:L41,Y14)","v":3},{"$f":"Z14/(AB4-Z9)","v":0.17647058823529413},{"$f":"IF(AA14=0,0,(AA14*((LOG(AA14))/LOG(2))))","v":-0.44161770715220888},null,{"$f":"N14","v":222},{"$f":"COUNTIF(L42:L59,AD14)","v":2},{"$f":"AE14/(AG4-AE9)","v":0.11764705882352941},{"$f":"IF(AF14=0,0,(AF14*((LOG(AF14))/LOG(2))))","v":-0.36323092250003997},null,{"$f":"N14","v":222},{"$f":"COUNTIF(L60:L77,AI14)","v":1},{"$f":"AJ14/(AL4-AJ9)","v":5.8823529411764705E-2},{"$f":"IF(AK14=0,0,(AK14*((LOG(AK14))/LOG(2))))","v":-0.24043899066178465},null,{"$f":"N14","v":222},{"$f":"COUNTIF(L78:L94,AN14)","v":1},{"$f":"AO14/(AQ4-AO9)","v":5.8823529411764705E-2},{"$f":"IF(AP14=0,0,(AP14*((LOG(AP14))/LOG(2))))","v":-0.24043899066178465},null,{"$f":"N14","v":222},{"$f":"COUNTIF(L95:L112,AS14)","v":1},{"$f":"AT14/(AV4-AT9)","v":5.8823529411764705E-2},{"$f":"IF(AU14=0,0,(AU14*((LOG(AU14))/LOG(2))))","v":-0.24043899066178465}]
[22,952,23,958,24,970,null,null,null,null,0,222,null,null,null,{"$f":"SUM(P7:P14)","v":1},{"$f":"-SUM(Q7:Q14)","v":2.8209940075768682},null,null,null,null,{"$f":"SUM(V7:V14)","v":1},{"$f":"-SUM(W7:W14)","v":2.6835423624332311},null,null,null,{"$f":"SUM(AA7:AA14)","v":1},{"$f":"-SUM(AB7:AB14)","v":2.4692407821722839},null,null,null,{"$f":"SUM(AF7:AF14)","v":1},{"$f":"-SUM(AG7:AG14)","v":2.3242764617775697},null,null,null,{"$f":"SUM(AK7:AK14)","v":1},{"$f":"-SUM(AL7:AL14)","v":2.1812056673346514},null,null,null,{"$f":"SUM(AP7:AP14)","v":1},{"$f":"-SUM(AQ7:AQ14)","v":2.4477979600193267},null,null,null,{"$f":"SUM(AU7:AU14)","v":1},{"$f":"-SUM(AV7:AV14)","v":2.3071885761626687}]
[11,1067,21,1077,22,1081,null,null,null,null,0,122,null,null,null,"U=",{"$f":"Q15/(LOG(Q4)/LOG(2))","v":0.41929657561030381},null,null,null,null,"U1=",{"$f":"W15/(LOG(W4)/LOG(2))","v":0.64354691307518375},null,null,null,"U2=",{"$f":"AB15/(LOG(AB4)/LOG(2))","v":0.60410109597888173},null,null,null,"U3=",{"$f":"AG15/(LOG(AG4)/LOG(2))","v":0.55739047128512831},null,null,null,"U4=",{"$f":"AL15/(LOG(AL4)/LOG(2))","v":0.52308031117590992},null,null,null,"U5=",{"$f":"AQ15/(LOG(AQ4)/LOG(2))","v":0.59885509791461611},null,null,null,"U6=",{"$f":"AV15/(LOG(AV4)/LOG(2))","v":0.55329258328738484}]
[22,1177,23,1179,24,1195,null,null,null,null,0,222]
[22,1430,23,1440,13,1488,null,null,null,null,0,221]
[11,1607,12,1611,24,1628,null,null,null,null,0,112,null,"Total Target Seq"]
[22,1727,23,1734,24,1741,null,null,null,null,0,222,null,{"$f":"COUNTIF(L7:L112,G3)","v":3},null,18,17,18,18,17,18]
[11,1841,21,1854,22,1858,null,null,null,null,0,122,null,null,null,"% of reinforcement given in 6 equal intervals based on number of trials "]
[22,2037,14,2046,24,2062,null,null,null,null,0,212,null,null,null,"%_1","%_2","%_3","%_4","%_5","%_6"]
[22,2209,23,2232,24,2237,null,null,null,null,0,222,null,null,"target sequence",{"$f":"$G$3","v":121},{"$f":"$G$3","v":121},{"$f":"$G$3","v":121},{"$f":"$G$3","v":121},{"$f":"$G$3","v":121},{"$f":"$G$3","v":121}]
[22,2403,14,2421,24,2436,null,null,null,null,0,212,null,null,"total reinforcement",{"$f":"U9","v":0},{"$f":"Z9","v":0},{"$f":"AE9","v":1},{"$f":"AJ9","v":1},{"$f":"AO9","v":0},{"$f":"AT9","v":1}]
[22,2535,23,2543,24,2551,null,null,null,null,0,222,null,null,"% target"]
[22,2685,14,2697,24,2718,null,null,null,null,0,212,null,null,"CCRF"]
[11,2906,21,2924,22,2934,null,null,null,null,0,122,null,null,"% CCRf"]
[11,3032,21,3039,22,3043,null,null,null,null,0,122,null,null,"average response rate",{"$f":"F24/P20","v":135.33333333333334},{"$f":"(F41-F24)/Q20","v":169.11764705882354},{"$f":"(F59-F41)/R20","v":477.16666666666669},{"$f":"(F77-F59)/S20","v":197.16666666666666},{"$f":"(F94-F77)/T20","v":172.41176470588235},{"$f":"(F112-F94)/U20","v":195.66666666666666}]
[11,3175,21,3190,22,3194,null,null,null,null,0,122]
[22,3381,14,3389,13,3394,null,null,null,null,0,211]
[11,3493,21,3509,22,3512,null,null,null,null,0,122]
[22,3666,14,3676,13,3681,null,null,null,null,0,211]
[22,3780,23,3813,24,3818,null,null,null,null,0,222]
[22,3942,14,3955,24,3972,null,null,null,null,0,212]
[22,4113,14,4122,13,4126,null,null,null,null,0,211]
[22,4430,14,4449,13,4453,null,null,null,null,0,211]
[22,4679,23,4698,24,4703,null,null,null,null,0,222]
[22,4813,14,4822,24,4838,null,null,null,null,0,212]
[22,4939,23,4944,13,4975,null,null,null,null,0,221]
[11,5156,12,5160,24,5178,null,null,null,null,0,112]
[11,5292,12,5301,24,5311,null,null,null,null,0,112]
[22,5484,23,5503,13,5511,null,null,null,null,0,221]
[22,5643,14,5657,13,5666,null,null,null,null,0,211]
[22,5835,14,5846,13,5852,null,null,null,null,0,211]
[22,6000,14,6008,13,6013,null,null,null,null,0,211]
[22,8725,23,8729,24,8735,null,null,null,null,0,222]
[11,8958,21,8976,22,8981,null,null,null,null,0,122]
[11,9181,21,9197,22,9201,null,null,null,null,0,122]
[11,10215,21,10229,22,10231,null,null,null,null,0,122]
[11,10728,12,10740,24,10750,null,null,null,null,0,112]
[11,10917,12,10930,24,10946,null,null,null,null,0,112]
[11,11100,21,11128,11,11137,null,null,null,null,0,121]
[22,11260,14,11267,13,11272,null,null,null,null,0,211]
[22,11370,23,11384,24,11394,null,null,null,null,0,222]
[11,11491,12,11494,24,11508,null,null,null,null,0,112]
[11,11625,12,11634,24,11647,null,null,null,null,0,112]
[22,13385,14,13395,13,13401,null,null,null,null,0,211]
[11,13621,12,13631,24,13646,null,null,null,null,0,112]
[11,13809,12,13840,13,13900,null,null,null,null,0,111]
[22,14106,14,14116,13,14121,null,null,null,null,0,211]
[11,14221,12,14229,24,14240,null,null,null,null,0,112]
[22,14337,23,14350,13,14363,null,null,null,null,0,221]
[11,14499,12,14503,13,14509,null,null,null,null,0,111]
[22,14643,14,14654,13,14658,null,null,null,null,0,211]
[22,14827,23,14839,13,14847,null,null,null,null,0,221]
[22,14949,23,14955,13,14964,null,null,null,null,0,221]
[22,15062,14,15079,24,15096,null,null,null,null,0,212]
[22,15247,14,15258,13,15264,null,null,null,null,0,211]
[22,15380,14,15389,13,15393,null,null,null,null,0,211]
[11,16227,21,16289,11,16299,null,null,null,null,0,121]
[11,16644,12,16650,13,16657,null,null,null,null,0,111]
[22,16752,14,16765,13,16770,null,null,null,null,0,211]
[22,16870,23,16874,24,16879,null,null,null,null,0,222]
[22,16977,14,16998,13,17005,null,null,null,null,0,211]
[22,17102,14,17120,13,17126,null,null,null,null,0,211]
[11,17312,12,17317,13,17323,null,null,null,null,0,111]
[11,17434,12,17442,13,17449,null,null,null,null,0,111]
[11,17646,12,17651,13,17658,null,null,null,null,0,111]
[22,17757,23,17766,24,17771,null,null,null,null,0,222]
[22,18072,14,18081,13,18085,null,null,null,null,0,211]
[11,18231,12,18236,24,18249,null,null,null,null,0,112]
[11,18441,12,18445,13,18451,null,null,null,null,0,111]
[22,18554,14,18561,24,18573,null,null,null,null,0,212]
[22,18680,23,18684,13,18692,null,null,null,null,0,221]
[22,18789,14,18798,13,18806,null,null,null,null,0,211]
[22,18938,14,18947,13,18955,null,null,null,null,0,211]
[22,19084,14,19093,13,19096,null,null,null,null,0,211]
[22,19218,23,19223,13,19235,null,null,null,null,0,221]
[22,19333,23,19341,13,19350,null,null,null,null,0,221]
[22,19552,14,19561,13,19566,null,null,null,null,0,211]
[11,19760,12,19764,24,19776,null,null,null,null,0,112]
[22,19885,14,19896,24,19907,null,null,null,null,0,212]
[11,20156,12,20160,13,20166,null,null,null,null,0,111]
[11,20362,12,20368,24,20380,null,null,null,null,0,112]
[22,20602,14,20611,13,20616,null,null,null,null,0,211]
[22,20901,23,20907,24,20912,null,null,null,null,0,222]
[11,21185,12,21190,24,21206,null,null,null,null,0,112]
[11,21360,21,21393,11,21403,null,null,null,null,0,121]
[22,21571,14,21582,13,21590,null,null,null,null,0,211]
[22,21691,23,21696,13,21706,null,null,null,null,0,221]
[22,21802,14,21817,24,21834,null,null,null,null,0,212]
[22,22009,14,22018,13,22024,null,null,null,null,0,211]
[22,22120,23,22125,13,22133,null,null,null,null,0,221]
[11,22316,12,22321,24,22337,null,null,null,null,0,112]
[22,22506,14,22515,13,22519,null,null,null,null,0,211]
[11,22743,12,22748,24,22762,null,null,null,null,0,112]
[11,23034,12,23040,24,23049,null,null,null,null,0,112]
[22,23149,14,23162,24,23172,null,null,null,null,0,212]
[11,23288,12,23322,13,23327,null,null,null,null,0,111]
[22,23424,14,23437,24,23450,null,null,null,null,0,212]
[22,23705,14,23715,13,23720,null,null,null,null,0,211]
[22,23888,14,23897,13,23902,null,null,null,null,0,211]